{"text_format":"1","workbook":"xlsx","n_sheets":3,"sheets":["Main","1","2"],"not_rendered":{"charts":0,"images":0,"macros":0,"external_links":0,"defined_names":35,"comments":0,"pivot_tables":0},"unopened":[],"bounds":{"document_bytes":16777216,"sheet_cells":100000,"rows_first":2000,"rows_last":500,"rows_between":2000,"halvings":0,"cell_chars":16384,"cell_head_chars":4096},"cells_cut":0,"cells_raw":0,"read":"whole","date_system":"1900"}

{"sheet":"Main","index":0,"n_rows":5726,"n_cols":12,"rows_kept":5726,"cut":false,"hidden":false,"merged":[[1,7,4,7],[6,8,6,10],[1,9,1,10],[2,9,2,10],[3,9,3,10],[4,9,4,10],[1,3,1,4],[2,3,2,4],[3,3,3,4]]}
[]
[null,null,null,null,null,null,null,"قيود اليومية"]
[]
[]
[]
[]
["م","رقم السند قبض صرف فاتورة","كود العميل","نوع","التاريخ","اســـــــم العميـــــــل اســـــــم الشركــــــة","الوصف","تفاصيل السند / بيان الحركة","الحركـــــة",null,null,"الرصيد العام لحركات النقدية بالصندوق"]
[1,250,1,"قبض","2020-08-25","محمد احمد","بضائع","شراؤ بضائع",500,null,null,{"$f":"IF(SUM(I8,-J8,-K8)=0,\"\",SUM(I8,-J8,-K8))","v":500}]
[2,251,1,"قبض","2020-08-26","Officena","بضائع","شراؤ بضائع",501,null,null,{"$f":"IF(SUM(I9,-J9,-K9)=0,\"\",SUM(I9,-J9,-K9))","v":501}]
[3,252,1,"قبض","2020-08-27","محمد احمد","بضائع","شراؤ بضائع",502,null,null,502]
[4,253,1,"قبض","2020-08-28","محمد احمد","بضائع","شراؤ بضائع",503,null,null,503]
[5,254,1,"قبض","2020-08-29","محمد احمد","بضائع","شراؤ بضائع",504,null,null,504]
[6,255,1,"قبض","2020-08-30","محمد احمد","بضائع","شراؤ بضائع",505,null,null,505]
[7,300,2,"صؤف","2020-10-15","خالد علي","مخزن","دفعات",0,300,null,-300]
[8,300,2,"صؤف","2020-10-16","خالد علي","مخزن","دفعات",0,300,null,-300]
[9,300,2,"صؤف","2020-10-17","Salim","مخزن","دفعات",0,300,null,-300]
[10,300,2,"صؤف","2020-10-18","خالد علي","مخزن","دفعات",0,300,null,-300]
[11,300,2,"صؤف","2020-10-19","خالد علي","مخزن","دفعات",0,300,null,-300]
[12,300,2,"صؤف","2020-10-20","خالد علي","مخزن","دفعات",0,300,null,-300]
[13,300,2,"صؤف","2020-10-21","خالد علي","مخزن","دفعات",0,300,null,-300]
[14,300,2,"صؤف","2020-10-22","خالد علي","مخزن","دفعات",0,300,null,-300]
[15,null,null,null,null,null,null,null,null,null,null,""]
[16,null,null,null,null,null,null,null,null,null,null,""]
[17,null,null,null,null,null,null,null,null,null,null,""]
[18,null,null,null,null,null,null,null,null,null,null,""]
[19,null,null,null,null,null,null,null,null,null,null,""]
[20,null,null,null,null,null,null,null,null,null,null,""]
[21,null,null,null,null,null,null,null,null,null,null,""]
[22,null,null,null,null,null,null,null,null,null,null,""]
[23,null,null,null,null,null,null,null,null,null,null,""]
[24,null,null,null,null,null,null,null,null,null,null,""]
[25,null,null,null,null,null,null,null,null,null,null,""]
[26,null,null,null,null,null,null,null,null,null,null,""]
[27,null,null,null,null,null,null,null,null,null,null,""]
[28,null,null,null,null,null,null,null,null,null,null,""]
[29,null,null,null,null,null,null,null,null,null,null,""]
[30,null,null,null,null,null,null,null,null,null,null,""]
[31,null,null,null,null,null,null,null,null,null,null,""]
[32,null,null,null,null,null,null,null,null,null,null,""]
[33,null,null,null,null,null,null,null,null,null,null,""]
[34,null,null,null,null,null,null,null,null,null,null,""]
[35,null,null,null,null,null,null,null,null,null,null,""]
[36,null,null,null,null,null,null,null,null,null,null,""]
[37,null,null,null,null,null,null,null,null,null,null,""]
[38,null,null,null,null,null,null,null,null,null,null,""]
[39,null,null,null,null,null,null,null,null,null,null,""]
[40,null,null,null,null,null,null,null,null,null,null,""]
[41,null,null,null,null,null,null,null,null,null,null,""]
[42,null,null,null,null,null,null,null,null,null,null,""]
[43,null,null,null,null,null,null,null,null,null,null,""]
[44,null,null,null,null,null,null,null,null,null,null,""]
[45,null,null,null,null,null,null,null,null,null,null,""]
[46,null,null,null,null,null,null,null,null,null,null,""]
[47,null,null,null,null,null,null,null,null,null,null,""]
[48,null,null,null,null,null,null,null,null,null,null,""]
[49,null,null,null,null,null,null,null,null,null,null,""]
[50,null,null,null,null,null,null,null,null,null,null,""]
[51,null,null,null,null,null,null,null,null,null,null,""]
[52,null,null,null,null,null,null,null,null,null,null,""]
[53,null,null,null,null,null,null,null,null,null,null,""]
[54,null,null,null,null,null,null,null,null,null,null,""]
[55,null,null,null,null,null,null,null,null,null,null,""]
[56,null,null,null,null,null,null,null,null,null,null,""]
[57,null,null,null,null,null,null,null,null,null,null,""]
[58,null,null,null,null,null,null,null,null,null,null,""]
[59,null,null,null,null,null,null,null,null,null,null,""]
[60,null,null,null,null,null,null,null,null,null,null,""]
[61,null,null,null,null,null,null,null,null,null,null,""]
[62,null,null,null,null,null,null,null,null,null,null,""]
[63,null,null,null,null,null,null,null,null,null,null,""]
[64,null,null,null,null,null,null,null,null,null,null,""]
[65,null,null,null,null,null,null,null,null,null,null,""]
[66,null,null,null,null,null,null,null,null,null,null,{"$f":"IF(SUM(I73,-J73,-K73)=0,\"\",SUM(I73,-J73,-K73))","v":""}]
[67,null,null,null,null,null,null,null,null,null,null,""]
[68,null,null,null,null,null,null,null,null,null,null,""]
[69,null,null,null,null,null,null,null,null,null,null,""]
[70,null,null,null,null,null,null,null,null,null,null,""]
[71,null,null,null,null,null,null,null,null,null,null,""]
[72,null,null,null,null,null,null,null,null,null,null,""]
[73,null,null,null,null,null,null,null,null,null,null,""]
[74,null,null,null,null,null,null,null,null,null,null,""]
[75,null,null,null,null,null,null,null,null,null,null,""]
[76,null,null,null,null,null,null,null,null,null,null,""]
[77,null,null,null,null,null,null,null,null,null,null,""]
[78,null,null,null,null,null,null,null,null,null,null,""]
[79,null,null,null,null,null,null,null,null,null,null,""]
[80,null,null,null,null,null,null,null,null,null,null,""]
[81,null,null,null,null,null,null,null,null,null,null,""]
[82,null,null,null,null,null,null,null,null,null,null,""]
[83,null,null,null,null,null,null,null,null,null,null,""]
[84,null,null,null,null,null,null,null,null,null,null,""]
[85,null,null,null,null,null,null,null,null,null,null,""]
[86,null,null,null,null,null,null,null,null,null,null,""]
[87,null,null,null,null,null,null,null,null,null,null,""]
[88,null,null,null,null,null,null,null,null,null,null,""]
[89,null,null,null,null,null,null,null,null,null,null,""]
[90,null,null,null,null,null,null,null,null,null,null,""]
[91,null,null,null,null,null,null,null,null,null,null,""]
[92,null,null,null,null,null,null,null,null,null,null,""]
[93,null,null,null,null,null,null,null,null,null,null,""]
[94,null,null,null,null,null,null,null,null,null,null,""]
[95,null,null,null,null,null,null,null,null,null,null,""]
[96,null,null,null,null,null,null,null,null,null,null,""]
[97,null,null,null,null,null,null,null,null,null,null,""]
[98,null,null,null,null,null,null,null,null,null,null,""]
[99,null,null,null,null,null,null,null,null,null,null,""]
[100,null,null,null,null,null,null,null,null,null,null,""]
[101,null,null,null,null,null,null,null,null,null,null,""]
[102,null,null,null,null,null,null,null,null,null,null,""]
[103,null,null,null,null,null,null,null,null,null,null,""]
[104,null,null,null,null,null,null,null,null,null,null,""]
[105,null,null,null,null,null,null,null,null,null,null,""]
[106,null,null,null,null,null,null,null,null,null,null,""]
[107,null,null,null,null,null,null,null,null,null,null,""]
[108,null,null,null,null,null,null,null,null,null,null,""]
[109,null,null,null,null,null,null,null,null,null,null,""]
[110,null,null,null,null,null,null,null,null,null,null,""]
[111,null,null,null,null,null,null,null,null,null,null,""]
[112,null,null,null,null,null,null,null,null,null,null,""]
[113,null,null,null,null,null,null,null,null,null,null,""]
[114,null,null,null,null,null,null,null,null,null,null,""]
[115,null,null,null,null,null,null,null,null,null,null,""]
[116,null,null,null,null,null,null,null,null,null,null,""]
[117,null,null,null,null,null,null,null,null,null,null,""]
[118,null,null,null,null,null,null,null,null,null,null,""]
[119,null,null,null,null,null,null,null,null,null,null,""]
[120,null,null,null,null,null,null,null,null,null,null,""]
[121,null,null,null,null,null,null,null,null,null,null,""]
[122,null,null,null,null,null,null,null,null,null,null,""]
[123,null,null,null,null,null,null,null,null,null,null,""]
[124,null,null,null,null,null,null,null,null,null,null,""]
[125,null,null,null,null,null,null,null,null,null,null,""]
[126,null,null,null,null,null,null,null,null,null,null,""]
[127,null,null,null,null,null,null,null,null,null,null,""]
[128,null,null,null,null,null,null,null,null,null,null,""]
[129,null,null,null,null,null,null,null,null,null,null,""]
[130,null,null,null,null,null,null,null,null,null,null,{"$f":"IF(SUM(I137,-J137,-K137)=0,\"\",SUM(I137,-J137,-K137))","v":""}]
[131,null,null,null,null,null,null,null,null,null,null,""]
[132,null,null,null,null,null,null,null,null,null,null,""]
[133,null,null,null,null,null,null,null,null,null,null,""]
[134,null,null,null,null,null,null,null,null,null,null,""]
[135,null,null,null,null,null,null,null,null,null,null,""]
[136,null,null,null,null,null,null,null,null,null,null,""]
[137,null,null,null,null,null,null,null,null,null,null,""]
[138,null,null,null,null,null,null,null,null,null,null,""]
[139,null,null,null,null,null,null,null,null,null,null,""]
[140,null,null,null,null,null,null,null,null,null,null,""]
[141,null,null,null,null,null,null,null,null,null,null,""]
[142,null,null,null,null,null,null,null,null,null,null,""]
[143,null,null,null,null,null,null,null,null,null,null,""]
[144,null,null,null,null,null,null,null,null,null,null,""]
[145,null,null,null,null,null,null,null,null,null,null,""]
[146,null,null,null,null,null,null,null,null,null,null,""]
[147,null,null,null,null,null,null,null,null,null,null,""]
[148,null,null,null,null,null,null,null,null,null,null,""]
[149,null,null,null,null,null,null,null,null,null,null,""]
[150,null,null,null,null,null,null,null,null,null,null,""]
[151,null,null,null,null,null,null,null,null,null,null,""]
[152,null,null,null,null,null,null,null,null,null,null,""]
[153,null,null,null,null,null,null,null,null,null,null,""]
[154,null,null,null,null,null,null,null,null,null,null,""]
[155,null,null,null,null,null,null,null,null,null,null,""]
[156,null,null,null,null,null,null,null,null,null,null,""]
[157,null,null,null,null,null,null,null,null,null,null,""]
[158,null,null,null,null,null,null,null,null,null,null,""]
[159,null,null,null,null,null,null,null,null,null,null,""]
[160,null,null,null,null,null,null,null,null,null,null,""]
[161,null,null,null,null,null,null,null,null,null,null,""]
[162,null,null,null,null,null,null,null,null,null,null,""]
[163,null,null,null,null,null,null,null,null,null,null,""]
[164,null,null,null,null,null,null,null,null,null,null,""]
[165,null,null,null,null,null,null,null,null,null,null,""]
[166,null,null,null,null,null,null,null,null,null,null,""]
[167,null,null,null,null,null,null,null,null,null,null,""]
[168,null,null,null,null,null,null,null,null,null,null,""]
[169,null,null,null,null,null,null,null,null,null,null,""]
[170,null,null,null,null,null,null,null,null,null,null,""]
[171,null,null,null,null,null,null,null,null,null,null,""]
[172,null,null,null,null,null,null,null,null,null,null,""]
[173,null,null,null,null,null,null,null,null,null,null,""]
[174,null,null,null,null,null,null,null,null,null,null,""]
[175,null,null,null,null,null,null,null,null,null,null,""]
[176,null,null,null,null,null,null,null,null,null,null,""]
[177,null,null,null,null,null,null,null,null,null,null,""]
[178,null,null,null,null,null,null,null,null,null,null,""]
[179,null,null,null,null,null,null,null,null,null,null,""]
[180,null,null,null,null,null,null,null,null,null,null,""]
[181,null,null,null,null,null,null,null,null,null,null,""]
[182,null,null,null,null,null,null,null,null,null,null,""]
[183,null,null,null,null,null,null,null,null,null,null,""]
[184,null,null,null,null,null,null,null,null,null,null,""]
[185,null,null,null,null,null,null,null,null,null,null,""]
[186,null,null,null,null,null,null,null,null,null,null,""]
[187,null,null,null,null,null,null,null,null,null,null,""]
[188,null,null,null,null,null,null,null,null,null,null,""]
[189,null,null,null,null,null,null,null,null,null,null,""]
[190,null,null,null,null,null,null,null,null,null,null,""]
[191,null,null,null,null,null,null,null,null,null,null,""]
[192,null,null,null,null,null,null,null,null,null,null,""]
[193,null,null,null,null,null,null,null,null,null,null,""]
[194,null,null,null,null,null,null,null,null,null,null,{"$f":"IF(SUM(I201,-J201,-K201)=0,\"\",SUM(I201,-J201,-K201))","v":""}]
[195,null,null,null,null,null,null,null,null,null,null,""]
[196,null,null,null,null,null,null,null,null,null,null,""]
[197,null,null,null,null,null,null,null,null,null,null,""]
[198,null,null,null,null,null,null,null,null,null,null,""]
[199,null,null,null,null,null,null,null,null,null,null,""]
[200,null,null,null,null,null,null,null,null,null,null,""]
[201,null,null,null,null,null,null,null,null,null,null,""]
[202,null,null,null,null,null,null,null,null,null,null,""]
[203,null,null,null,null,null,null,null,null,null,null,""]
[204,null,null,null,null,null,null,null,null,null,null,""]
[205,null,null,null,null,null,null,null,null,null,null,""]
[206,null,null,null,null,null,null,null,null,null,null,""]
[207,null,null,null,null,null,null,null,null,null,null,""]
[208,null,null,null,null,null,null,null,null,null,null,""]
[209,null,null,null,null,null,null,null,null,null,null,""]
[210,null,null,null,null,null,null,null,null,null,null,""]
[211,null,null,null,null,null,null,null,null,null,null,""]
[212,null,null,null,null,null,null,null,null,null,null,""]
[213,null,null,null,null,null,null,null,null,null,null,""]
[214,null,null,null,null,null,null,null,null,null,null,""]
[215,null,null,null,null,null,null,null,null,null,null,""]
[216,null,null,null,null,null,null,null,null,null,null,""]
[217,null,null,null,null,null,null,null,null,null,null,""]
[218,null,null,null,null,null,null,null,null,null,null,""]
[219,null,null,null,null,null,null,null,null,null,null,""]
[220,null,null,null,null,null,null,null,null,null,null,""]
[221,null,null,null,null,null,null,null,null,null,null,""]
[222,null,null,null,null,null,null,null,null,null,null,""]
[223,null,null,null,null,null,null,null,null,null,null,""]
[224,null,null,null,null,null,null,null,null,null,null,""]
[225,null,null,null,null,null,null,null,null,null,null,""]
[226,null,null,null,null,null,null,null,null,null,null,""]
[227,null,null,null,null,null,null,null,null,null,null,""]
[228,null,null,null,null,null,null,null,null,null,null,""]
[229,null,null,null,null,null,null,null,null,null,null,""]
[230,null,null,null,null,null,null,null,null,null,null,""]
[231,null,null,null,null,null,null,null,null,null,null,""]
[232,null,null,null,null,null,null,null,null,null,null,""]
[233,null,null,null,null,null,null,null,null,null,null,""]
[234,null,null,null,null,null,null,null,null,null,null,""]
[235,null,null,null,null,null,null,null,null,null,null,""]
[236,null,null,null,null,null,null,null,null,null,null,""]
[237,null,null,null,null,null,null,null,null,null,null,""]
[238,null,null,null,null,null,null,null,null,null,null,""]
[239,null,null,null,null,null,null,null,null,null,null,""]
[240,null,null,null,null,null,null,null,null,null,null,""]
[241,null,null,null,null,null,null,null,null,null,null,""]
[242,null,null,null,null,null,null,null,null,null,null,""]
[243,null,null,null,null,null,null,null,null,null,null,""]
[244,null,null,null,null,null,null,null,null,null,null,""]
[245,null,null,null,null,null,null,null,null,null,null,""]
[246,null,null,null,null,null,null,null,null,null,null,""]
[247,null,null,null,null,null,null,null,null,null,null,""]
[248,null,null,null,null,null,null,null,null,null,null,""]
[249,null,null,null,null,null,null,null,null,null,null,""]
[250,null,null,null,null,null,null,null,null,null,null,""]
[251,null,null,null,null,null,null,null,null,null,null,""]
[252,null,null,null,null,null,null,null,null,null,null,""]
[253,null,null,null,null,null,null,null,null,null,null,""]
[254,null,null,null,null,null,null,null,null,null,null,""]
[255,null,null,null,null,null,null,null,null,null,null,""]
[256,null,null,null,null,null,null,null,null,null,null,""]
[257,null,null,null,null,null,null,null,null,null,null,""]
[258,null,null,null,null,null,null,null,null,null,null,{"$f":"IF(SUM(I265,-J265,-K265)=0,\"\",SUM(I265,-J265,-K265))","v":""}]
[259,null,null,null,null,null,null,null,null,null,null,""]
[260,null,null,null,null,null,null,null,null,null,null,""]
[261,null,null,null,null,null,null,null,null,null,null,""]
[262,null,null,null,null,null,null,null,null,null,null,""]
[263,null,null,null,null,null,null,null,null,null,null,""]
[264,null,null,null,null,null,null,null,null,null,null,""]
[265,null,null,null,null,null,null,null,null,null,null,""]
[266,null,null,null,null,null,null,null,null,null,null,""]
[267,null,null,null,null,null,null,null,null,null,null,""]
[268,null,null,null,null,null,null,null,null,null,null,""]
[269,null,null,null,null,null,null,null,null,null,null,""]
[270,null,null,null,null,null,null,null,null,null,null,""]
[271,null,null,null,null,null,null,null,null,null,null,""]
[272,null,null,null,null,null,null,null,null,null,null,""]
[273,null,null,null,null,null,null,null,null,null,null,""]
[274,null,null,null,null,null,null,null,null,null,null,""]
[275,null,null,null,null,null,null,null,null,null,null,""]
[276,null,null,null,null,null,null,null,null,null,null,""]
[277,null,null,null,null,null,null,null,null,null,null,""]
[278,null,null,null,null,null,null,null,null,null,null,""]
[279,null,null,null,null,null,null,null,null,null,null,""]
[280,null,null,null,null,null,null,null,null,null,null,""]
[281,null,null,null,null,null,null,null,null,null,null,""]
[282,null,null,null,null,null,null,null,null,null,null,""]
[283,null,null,null,null,null,null,null,null,null,null,""]
[284,null,null,null,null,null,null,null,null,null,null,""]
[285,null,null,null,null,null,null,null,null,null,null,""]
[286,null,null,null,null,null,null,null,null,null,null,""]
[287,null,null,null,null,null,null,null,null,null,null,""]
[288,null,null,null,null,null,null,null,null,null,null,""]
[289,null,null,null,null,null,null,null,null,null,null,""]
[290,null,null,null,null,null,null,null,null,null,null,""]
[291,null,null,null,null,null,null,null,null,null,null,""]
[292,null,null,null,null,null,null,null,null,null,null,""]
[293,null,null,null,null,null,null,null,null,null,null,""]
[294,null,null,null,null,null,null,null,null,null,null,""]
[295,null,null,null,null,null,null,null,null,null,null,""]
[296,null,null,null,null,null,null,null,null,null,null,""]
[297,null,null,null,null,null,null,null,null,null,null,""]
[298,null,null,null,null,null,null,null,null,null,null,""]
[299,null,null,null,null,null,null,null,null,null,null,""]
[300,null,null,null,null,null,null,null,null,null,null,""]
[301,null,null,null,null,null,null,null,null,null,null,""]
[302,null,null,null,null,null,null,null,null,null,null,""]
[303,null,null,null,null,null,null,null,null,null,null,""]
[304,null,null,null,null,null,null,null,null,null,null,""]
[305,null,null,null,null,null,null,null,null,null,null,""]
[306,null,null,null,null,null,null,null,null,null,null,""]
[307,null,null,null,null,null,null,null,null,null,null,""]
[308,null,null,null,null,null,null,null,null,null,null,""]
[309,null,null,null,null,null,null,null,null,null,null,""]
[310,null,null,null,null,null,null,null,null,null,null,""]
[311,null,null,null,null,null,null,null,null,null,null,""]
[312,null,null,null,null,null,null,null,null,null,null,""]
[313,null,null,null,null,null,null,null,null,null,null,""]
[314,null,null,null,null,null,null,null,null,null,null,""]
[315,null,null,null,null,null,null,null,null,null,null,""]
[316,null,null,null,null,null,null,null,null,null,null,""]
[317,null,null,null,null,null,null,null,null,null,null,""]
[318,null,null,null,null,null,null,null,null,null,null,""]
[319,null,null,null,null,null,null,null,null,null,null,""]
[320,null,null,null,null,null,null,null,null,null,null,""]
[321,null,null,null,null,null,null,null,null,null,null,""]
[322,null,null,null,null,null,null,null,null,null,null,{"$f":"IF(SUM(I329,-J329,-K329)=0,\"\",SUM(I329,-J329,-K329))","v":""}]
[323,null,null,null,null,null,null,null,null,null,null,""]
[324,null,null,null,null,null,null,null,null,null,null,""]
[325,null,null,null,null,null,null,null,null,null,null,""]
[326,null,null,null,null,null,null,null,null,null,null,""]
[327,null,null,null,null,null,null,null,null,null,null,""]
[328,null,null,null,null,null,null,null,null,null,null,""]
[329,null,null,null,null,null,null,null,null,null,null,""]
[330,null,null,null,null,null,null,null,null,null,null,""]
[331,null,null,null,null,null,null,null,null,null,null,""]
[332,null,null,null,null,null,null,null,null,null,null,""]
[333,null,null,null,null,null,null,null,null,null,null,""]
[334,null,null,null,null,null,null,null,null,null,null,""]
[335,null,null,null,null,null,null,null,null,null,null,""]
[336,null,null,null,null,null,null,null,null,null,null,""]
[337,null,null,null,null,null,null,null,null,null,null,""]
[338,null,null,null,null,null,null,null,null,null,null,""]
[339,null,null,null,null,null,null,null,null,null,null,""]
[340,null,null,null,null,null,null,null,null,null,null,""]
[341,null,null,null,null,null,null,null,null,null,null,""]
[342,null,null,null,null,null,null,null,null,null,null,""]
[343,null,null,null,null,null,null,null,null,null,null,""]
[344,null,null,null,null,null,null,null,null,null,null,""]
[345,null,null,null,null,null,null,null,null,null,null,""]
[346,null,null,null,null,null,null,null,null,null,null,""]
[347,null,null,null,null,null,null,null,null,null,null,""]
[348,null,null,null,null,null,null,null,null,null,null,""]
[349,null,null,null,null,null,null,null,null,null,null,""]
[350,null,null,null,null,null,null,null,null,null,null,""]
[351,null,null,null,null,null,null,null,null,null,null,""]
[352,null,null,null,null,null,null,null,null,null,null,""]
[353,null,null,null,null,null,null,null,null,null,null,""]
[354,null,null,null,null,null,null,null,null,null,null,""]
[355,null,null,null,null,null,null,null,null,null,null,""]
[356,null,null,null,null,null,null,null,null,null,null,""]
[357,null,null,null,null,null,null,null,null,null,null,""]
[358,null,null,null,null,null,null,null,null,null,null,""]
[359,null,null,null,null,null,null,null,null,null,null,""]
[360,null,null,null,null,null,null,null,null,null,null,""]
[361,null,null,null,null,null,null,null,null,null,null,""]
[362,null,null,null,null,null,null,null,null,null,null,""]
[363,null,null,null,null,null,null,null,null,null,null,""]
[364,null,null,null,null,null,null,null,null,null,null,""]
[365,null,null,null,null,null,null,null,null,null,null,""]
[366,null,null,null,null,null,null,null,null,null,null,""]
[367,null,null,null,null,null,null,null,null,null,null,""]
[368,null,null,null,null,null,null,null,null,null,null,""]
[369,null,null,null,null,null,null,null,null,null,null,""]
[370,null,null,null,null,null,null,null,null,null,null,""]
[371,null,null,null,null,null,null,null,null,null,null,""]
[372,null,null,null,null,null,null,null,null,null,null,""]
[373,null,null,null,null,null,null,null,null,null,null,""]
[374,null,null,null,null,null,null,null,null,null,null,""]
[375,null,null,null,null,null,null,null,null,null,null,""]
[376,null,null,null,null,null,null,null,null,null,null,""]
[377,null,null,null,null,null,null,null,null,null,null,""]
[378,null,null,null,null,null,null,null,null,null,null,""]
[379,null,null,null,null,null,null,null,null,null,null,""]
[380,null,null,null,null,null,null,null,null,null,null,""]
[381,null,null,null,null,null,null,null,null,null,null,""]
[382,null,null,null,null,null,null,null,null,null,null,""]
[383,null,null,null,null,null,null,null,null,null,null,""]
[384,null,null,null,null,null,null,null,null,null,null,""]
[385,null,null,null,null,null,null,null,null,null,null,""]
[386,null,null,null,null,null,null,null,null,null,null,{"$f":"IF(SUM(I393,-J393,-K393)=0,\"\",SUM(I393,-J393,-K393))","v":""}]
[387,null,null,null,null,null,null,null,null,null,null,""]
[388,null,null,null,null,null,null,null,null,null,null,""]
[389,null,null,null,null,null,null,null,null,null,null,""]
[390,null,null,null,null,null,null,null,null,null,null,""]
[391,null,null,null,null,null,null,null,null,null,null,""]
[392,null,null,null,null,null,null,null,null,null,null,""]
[393,null,null,null,null,null,null,null,null,null,null,""]
[394,null,null,null,null,null,null,null,null,null,null,""]
[395,null,null,null,null,null,null,null,null,null,null,""]
[396,null,null,null,null,null,null,null,null,null,null,""]
[397,null,null,null,null,null,null,null,null,null,null,""]
[398,null,null,null,null,null,null,null,null,null,null,""]
[399,null,null,null,null,null,null,null,null,null,null,""]
[400,null,null,null,null,null,null,null,null,null,null,""]
[401,null,null,null,null,null,null,null,null,null,null,""]
[402,null,null,null,null,null,null,null,null,null,null,""]
[403,null,null,null,null,null,null,null,null,null,null,""]
[404,null,null,null,null,null,null,null,null,null,null,""]
[405,null,null,null,null,null,null,null,null,null,null,""]
[406,null,null,null,null,null,null,null,null,null,null,""]
[407,null,null,null,null,null,null,null,null,null,null,""]
[408,null,null,null,null,null,null,null,null,null,null,""]
[409,null,null,null,null,null,null,null,null,null,null,""]
[410,null,null,null,null,null,null,null,null,null,null,""]
[411,null,null,null,null,null,null,null,null,null,null,""]
[412,null,null,null,null,null,null,null,null,null,null,""]
[413,null,null,null,null,null,null,null,null,null,null,""]
[414,null,null,null,null,null,null,null,null,null,null,""]
[415,null,null,null,null,null,null,null,null,null,null,""]
[416,null,null,null,null,null,null,null,null,null,null,""]
[417,null,null,null,null,null,null,null,null,null,null,""]
[418,null,null,null,null,null,null,null,null,null,null,""]
[419,null,null,null,null,null,null,null,null,null,null,""]
[420,null,null,null,null,null,null,null,null,null,null,""]
[421,null,null,null,null,null,null,null,null,null,null,""]
[422,null,null,null,null,null,null,null,null,null,null,""]
[423,null,null,null,null,null,null,null,null,null,null,""]
[424,null,null,null,null,null,null,null,null,null,null,""]
[425,null,null,null,null,null,null,null,null,null,null,""]
[426,null,null,null,null,null,null,null,null,null,null,""]
[427,null,null,null,null,null,null,null,null,null,null,""]
[428,null,null,null,null,null,null,null,null,null,null,""]
[429,null,null,null,null,null,null,null,null,null,null,""]
[430,null,null,null,null,null,null,null,null,null,null,""]
[431,null,null,null,null,null,null,null,null,null,null,""]
[432,null,null,null,null,null,null,null,null,null,null,""]
[433,null,null,null,null,null,null,null,null,null,null,""]
[434,null,null,null,null,null,null,null,null,null,null,""]
[435,null,null,null,null,null,null,null,null,null,null,""]
[436,null,null,null,null,null,null,null,null,null,null,""]
[437,null,null,null,null,null,null,null,null,null,null,""]
[438,null,null,null,null,null,null,null,null,null,null,""]
[439,null,null,null,null,null,null,null,null,null,null,""]
[440,null,null,null,null,null,null,null,null,null,null,""]
[441,null,null,null,null,null,null,null,null,null,null,""]
[442,null,null,null,null,null,null,null,null,null,null,""]
[443,null,null,null,null,null,null,null,null,null,null,""]
[444,null,null,null,null,null,null,null,null,null,null,""]
[445,null,null,null,null,null,null,null,null,null,null,""]
[446,null,null,null,null,null,null,null,null,null,null,""]
[447,null,null,null,null,null,null,null,null,null,null,""]
[448,null,null,null,null,null,null,null,null,null,null,""]
[449,null,null,null,null,null,null,null,null,null,null,""]
[450,null,null,null,null,null,null,null,null,null,null,{"$f":"IF(SUM(I457,-J457,-K457)=0,\"\",SUM(I457,-J457,-K457))","v":""}]
[451,null,null,null,null,null,null,null,null,null,null,""]
[452,null,null,null,null,null,null,null,null,null,null,""]
[453,null,null,null,null,null,null,null,null,null,null,""]
[454,null,null,null,null,null,null,null,null,null,null,""]
[455,null,null,null,null,null,null,null,null,null,null,""]
[456,null,null,null,null,null,null,null,null,null,null,""]
[457,null,null,null,null,null,null,null,null,null,null,""]
[458,null,null,null,null,null,null,null,null,null,null,""]
[459,null,null,null,null,null,null,null,null,null,null,""]
[460,null,null,null,null,null,null,null,null,null,null,""]
[461,null,null,null,null,null,null,null,null,null,null,""]
[462,null,null,null,null,null,null,null,null,null,null,""]
[463,null,null,null,null,null,null,null,null,null,null,""]
[464,null,null,null,null,null,null,null,null,null,null,""]
[465,null,null,null,null,null,null,null,null,null,null,""]
[466,null,null,null,null,null,null,null,null,null,null,""]
[467,null,null,null,null,null,null,null,null,null,null,""]
[468,null,null,null,null,null,null,null,null,null,null,""]
[469,null,null,null,null,null,null,null,null,null,null,""]
[470,null,null,null,null,null,null,null,null,null,null,""]
[471,null,null,null,null,null,null,null,null,null,null,""]
[472,null,null,null,null,null,null,null,null,null,null,""]
[473,null,null,null,null,null,null,null,null,null,null,""]
[474,null,null,null,null,null,null,null,null,null,null,""]
[475,null,null,null,null,null,null,null,null,null,null,""]
[476,null,null,null,null,null,null,null,null,null,null,""]
[477,null,null,null,null,null,null,null,null,null,null,""]
[478,null,null,null,null,null,null,null,null,null,null,""]
[479,null,null,null,null,null,null,null,null,null,null,""]
[480,null,null,null,null,null,null,null,null,null,null,""]
[481,null,null,null,null,null,null,null,null,null,null,""]
[482,null,null,null,null,null,null,null,null,null,null,""]
[483,null,null,null,null,null,null,null,null,null,null,""]
[484,null,null,null,null,null,null,null,null,null,null,""]
[485,null,null,null,null,null,null,null,null,null,null,""]
[486,null,null,null,null,null,null,null,null,null,null,""]
[487,null,null,null,null,null,null,null,null,null,null,""]
[488,null,null,null,null,null,null,null,null,null,null,""]
[489,null,null,null,null,null,null,null,null,null,null,""]
[490,null,null,null,null,null,null,null,null,null,null,""]
[491,null,null,null,null,null,null,null,null,null,null,""]
[492,null,null,null,null,null,null,null,null,null,null,""]
[493,null,null,null,null,null,null,null,null,null,null,""]
[494,null,null,null,null,null,null,null,null,null,null,""]
[495,null,null,null,null,null,null,null,null,null,null,""]
[496,null,null,null,null,null,null,null,null,null,null,""]
[497,null,null,null,null,null,null,null,null,null,null,""]
[498,null,null,null,null,null,null,null,null,null,null,""]
[499,null,null,null,null,null,null,null,null,null,null,""]
[500,null,null,null,null,null,null,null,null,null,null,""]
[501,null,null,null,null,null,null,null,null,null,null,""]
[502,null,null,null,null,null,null,null,null,null,null,""]
[503,null,null,null,null,null,null,null,null,null,null,""]
[504,null,null,null,null,null,null,null,null,null,null,""]
[505,null,null,null,null,null,null,null,null,null,null,""]
[506,null,null,null,null,null,null,null,null,null,null,""]
[507,null,null,null,null,null,null,null,null,null,null,""]
[508,null,null,null,null,null,null,null,null,null,null,""]
[509,null,null,null,null,null,null,null,null,null,null,""]
[510,null,null,null,null,null,null,null,null,null,null,""]
[511,null,null,null,null,null,null,null,null,null,null,""]
[512,null,null,null,null,null,null,null,null,null,null,""]
[513,null,null,null,null,null,null,null,null,null,null,""]
[514,null,null,null,null,null,null,null,null,null,null,{"$f":"IF(SUM(I521,-J521,-K521)=0,\"\",SUM(I521,-J521,-K521))","v":""}]
[515,null,null,null,null,null,null,null,null,null,null,""]
[516,null,null,null,null,null,null,null,null,null,null,""]
[517,null,null,null,null,null,null,null,null,null,null,""]
[518,null,null,null,null,null,null,null,null,null,null,""]
[519,null,null,null,null,null,null,null,null,null,null,""]
[520,null,null,null,null,null,null,null,null,null,null,""]
[521,null,null,null,null,null,null,null,null,null,null,""]
[522,null,null,null,null,null,null,null,null,null,null,""]
[523,null,null,null,null,null,null,null,null,null,null,""]
[524,null,null,null,null,null,null,null,null,null,null,""]
[525,null,null,null,null,null,null,null,null,null,null,""]
[526,null,null,null,null,null,null,null,null,null,null,""]
[527,null,null,null,null,null,null,null,null,null,null,""]
[528,null,null,null,null,null,null,null,null,null,null,""]
[529,null,null,null,null,null,null,null,null,null,null,""]
[530,null,null,null,null,null,null,null,null,null,null,""]
[531,null,null,null,null,null,null,null,null,null,null,""]
[532,null,null,null,null,null,null,null,null,null,null,""]
[533,null,null,null,null,null,null,null,null,null,null,""]
[534,null,null,null,null,null,null,null,null,null,null,""]
[535,null,null,null,null,null,null,null,null,null,null,""]
[536,null,null,null,null,null,null,null,null,null,null,""]
[537,null,null,null,null,null,null,null,null,null,null,""]
[538,null,null,null,null,null,null,null,null,null,null,""]
[539,null,null,null,null,null,null,null,null,null,null,""]
[540,null,null,null,null,null,null,null,null,null,null,""]
[541,null,null,null,null,null,null,null,null,null,null,""]
[542,null,null,null,null,null,null,null,null,null,null,""]
[543,null,null,null,null,null,null,null,null,null,null,""]
[544,null,null,null,null,null,null,null,null,null,null,""]
[545,null,null,null,null,null,null,null,null,null,null,""]
[546,null,null,null,null,null,null,null,null,null,null,""]
[547,null,null,null,null,null,null,null,null,null,null,""]
[548,null,null,null,null,null,null,null,null,null,null,""]
[549,null,null,null,null,null,null,null,null,null,null,""]
[550,null,null,null,null,null,null,null,null,null,null,""]
[551,null,null,null,null,null,null,null,null,null,null,""]
[552,null,null,null,null,null,null,null,null,null,null,""]
[553,null,null,null,null,null,null,null,null,null,null,""]
[554,null,null,null,null,null,null,null,null,null,null,""]
[555,null,null,null,null,null,null,null,null,null,null,""]
[556,null,null,null,null,null,null,null,null,null,null,""]
[557,null,null,null,null,null,null,null,null,null,null,""]
[558,null,null,null,null,null,null,null,null,null,null,""]
[559,null,null,null,null,null,null,null,null,null,null,""]
[560,null,null,null,null,null,null,null,null,null,null,""]
[561,null,null,null,null,null,null,null,null,null,null,""]
[562,null,null,null,null,null,null,null,null,null,null,""]
[563,null,null,null,null,null,null,null,null,null,null,""]
[564,null,null,null,null,null,null,null,null,null,null,""]
[565,null,null,null,null,null,null,null,null,null,null,""]
[566,null,null,null,null,null,null,null,null,null,null,""]
[567,null,null,null,null,null,null,null,null,null,null,""]
[568,null,null,null,null,null,null,null,null,null,null,""]
[569,null,null,null,null,null,null,null,null,null,null,""]
[570,null,null,null,null,null,null,null,null,null,null,""]
[571,null,null,null,null,null,null,null,null,null,null,""]
[572,null,null,null,null,null,null,null,null,null,null,""]
[573,null,null,null,null,null,null,null,null,null,null,""]
[574,null,null,null,null,null,null,null,null,null,null,""]
[575,null,null,null,null,null,null,null,null,null,null,""]
[576,null,null,null,null,null,null,null,null,null,null,""]
[577,null,null,null,null,null,null,null,null,null,null,""]
[578,null,null,null,null,null,null,null,null,null,null,{"$f":"IF(SUM(I585,-J585,-K585)=0,\"\",SUM(I585,-J585,-K585))","v":""}]
[579,null,null,null,null,null,null,null,null,null,null,""]
[580,null,null,null,null,null,null,null,null,null,null,""]
[581,null,null,null,null,null,null,null,null,null,null,""]
[582,null,null,null,null,null,null,null,null,null,null,""]
[583,null,null,null,null,null,null,null,null,null,null,""]
[584,null,null,null,null,null,null,null,null,null,null,""]
[585,null,null,null,null,null,null,null,null,null,null,""]
[586,null,null,null,null,null,null,null,null,null,null,""]
[587,null,null,null,null,null,null,null,null,null,null,""]
[588,null,null,null,null,null,null,null,null,null,null,""]
[589,null,null,null,null,null,null,null,null,null,null,""]
[590,null,null,null,null,null,null,null,null,null,null,""]
[591,null,null,null,null,null,null,null,null,null,null,""]
[592,null,null,null,null,null,null,null,null,null,null,""]
[593,null,null,null,null,null,null,null,null,null,null,""]
[594,null,null,null,null,null,null,null,null,null,null,""]
[595,null,null,null,null,null,null,null,null,null,null,""]
[596,null,null,null,null,null,null,null,null,null,null,""]
[597,null,null,null,null,null,null,null,null,null,null,""]
[598,null,null,null,null,null,null,null,null,null,null,""]
[599,null,null,null,null,null,null,null,null,null,null,""]
[600,null,null,null,null,null,null,null,null,null,null,""]
[601,null,null,null,null,null,null,null,null,null,null,""]
[602,null,null,null,null,null,null,null,null,null,null,""]
[603,null,null,null,null,null,null,null,null,null,null,""]
[604,null,null,null,null,null,null,null,null,null,null,""]
[605,null,null,null,null,null,null,null,null,null,null,""]
[606,null,null,null,null,null,null,null,null,null,null,""]
[607,null,null,null,null,null,null,null,null,null,null,""]
[608,null,null,null,null,null,null,null,null,null,null,""]
[609,null,null,null,null,null,null,null,null,null,null,""]
[610,null,null,null,null,null,null,null,null,null,null,""]
[611,null,null,null,null,null,null,null,null,null,null,""]
[612,null,null,null,null,null,null,null,null,null,null,""]
[613,null,null,null,null,null,null,null,null,null,null,""]
[614,null,null,null,null,null,null,null,null,null,null,""]
[615,null,null,null,null,null,null,null,null,null,null,""]
[616,null,null,null,null,null,null,null,null,null,null,""]
[617,null,null,null,null,null,null,null,null,null,null,""]
[618,null,null,null,null,null,null,null,null,null,null,""]
[619,null,null,null,null,null,null,null,null,null,null,""]
[620,null,null,null,null,null,null,null,null,null,null,""]
[621,null,null,null,null,null,null,null,null,null,null,""]
[622,null,null,null,null,null,null,null,null,null,null,""]
[623,null,null,null,null,null,null,null,null,null,null,""]
[624,null,null,null,null,null,null,null,null,null,null,""]
[625,null,null,null,null,null,null,null,null,null,null,""]
[626,null,null,null,null,null,null,null,null,null,null,""]
[627,null,null,null,null,null,null,null,null,null,null,""]
[628,null,null,null,null,null,null,null,null,null,null,""]
[629,null,null,null,null,null,null,null,null,null,null,""]
[630,null,null,null,null,null,null,null,null,null,null,""]
[631,null,null,null,null,null,null,null,null,null,null,""]
[632,null,null,null,null,null,null,null,null,null,null,""]
[633,null,null,null,null,null,null,null,null,null,null,""]
[634,null,null,null,null,null,null,null,null,null,null,""]
[635,null,null,null,null,null,null,null,null,null,null,""]
[636,null,null,null,null,null,null,null,null,null,null,""]
[637,null,null,null,null,null,null,null,null,null,null,""]
[638,null,null,null,null,null,null,null,null,null,null,""]
[639,null,null,null,null,null,null,null,null,null,null,""]
[640,null,null,null,null,null,null,null,null,null,null,""]
[641,null,null,null,null,null,null,null,null,null,null,""]
[642,null,null,null,null,null,null,null,null,null,null,{"$f":"IF(SUM(I649,-J649,-K649)=0,\"\",SUM(I649,-J649,-K649))","v":""}]
[643,null,null,null,null,null,null,null,null,null,null,""]
[644,null,null,null,null,null,null,null,null,null,null,""]
[645,null,null,null,null,null,null,null,null,null,null,""]
[646,null,null,null,null,null,null,null,null,null,null,""]
[647,null,null,null,null,null,null,null,null,null,null,""]
[648,null,null,null,null,null,null,null,null,null,null,""]
[649,null,null,null,null,null,null,null,null,null,null,""]
[650,null,null,null,null,null,null,null,null,null,null,""]
[651,null,null,null,null,null,null,null,null,null,null,""]
[652,null,null,null,null,null,null,null,null,null,null,""]
[653,null,null,null,null,null,null,null,null,null,null,""]
[654,null,null,null,null,null,null,null,null,null,null,""]
[655,null,null,null,null,null,null,null,null,null,null,""]
[656,null,null,null,null,null,null,null,null,null,null,""]
[657,null,null,null,null,null,null,null,null,null,null,""]
[658,null,null,null,null,null,null,null,null,null,null,""]
[659,null,null,null,null,null,null,null,null,null,null,""]
[660,null,null,null,null,null,null,null,null,null,null,""]
[661,null,null,null,null,null,null,null,null,null,null,""]
[662,null,null,null,null,null,null,null,null,null,null,""]
[663,null,null,null,null,null,null,null,null,null,null,""]
[664,null,null,null,null,null,null,null,null,null,null,""]
[665,null,null,null,null,null,null,null,null,null,null,""]
[666,null,null,null,null,null,null,null,null,null,null,""]
[667,null,null,null,null,null,null,null,null,null,null,""]
[668,null,null,null,null,null,null,null,null,null,null,""]
[669,null,null,null,null,null,null,null,null,null,null,""]
[670,null,null,null,null,null,null,null,null,null,null,""]
[671,null,null,null,null,null,null,null,null,null,null,""]
[672,null,null,null,null,null,null,null,null,null,null,""]
[673,null,null,null,null,null,null,null,null,null,null,""]
[674,null,null,null,null,null,null,null,null,null,null,""]
[675,null,null,null,null,null,null,null,null,null,null,""]
[676,null,null,null,null,null,null,null,null,null,null,""]
[677,null,null,null,null,null,null,null,null,null,null,""]
[678,null,null,null,null,null,null,null,null,null,null,""]
[679,null,null,null,null,null,null,null,null,null,null,""]
[680,null,null,null,null,null,null,null,null,null,null,""]
[681,null,null,null,null,null,null,null,null,null,null,""]
[682,null,null,null,null,null,null,null,null,null,null,""]
[683,null,null,null,null,null,null,null,null,null,null,""]
[684,null,null,null,null,null,null,null,null,null,null,""]
[685,null,null,null,null,null,null,null,null,null,null,""]
[686,null,null,null,null,null,null,null,null,null,null,""]
[687,null,null,null,null,null,null,null,null,null,null,""]
[688,null,null,null,null,null,null,null,null,null,null,""]
[689,null,null,null,null,null,null,null,null,null,null,""]
[690,null,null,null,null,null,null,null,null,null,null,""]
[691,null,null,null,null,null,null,null,null,null,null,""]
[692,null,null,null,null,null,null,null,null,null,null,""]
[693,null,null,null,null,null,null,null,null,null,null,""]
[694,null,null,null,null,null,null,null,null,null,null,""]
[695,null,null,null,null,null,null,null,null,null,null,""]
[696,null,null,null,null,null,null,null,null,null,null,""]
[697,null,null,null,null,null,null,null,null,null,null,""]
[698,null,null,null,null,null,null,null,null,null,null,""]
[699,null,null,null,null,null,null,null,null,null,null,""]
[700,null,null,null,null,null,null,null,null,null,null,""]
[701,null,null,null,null,null,null,null,null,null,null,""]
[702,null,null,null,null,null,null,null,null,null,null,""]
[703,null,null,null,null,null,null,null,null,null,null,""]
[704,null,null,null,null,null,null,null,null,null,null,""]
[705,null,null,null,null,null,null,null,null,null,null,""]
[706,null,null,null,null,null,null,null,null,null,null,{"$f":"IF(SUM(I713,-J713,-K713)=0,\"\",SUM(I713,-J713,-K713))","v":""}]
[707,null,null,null,null,null,null,null,null,null,null,""]
[708,null,null,null,null,null,null,null,null,null,null,""]
[709,null,null,null,null,null,null,null,null,null,null,""]
[710,null,null,null,null,null,null,null,null,null,null,""]
[711,null,null,null,null,null,null,null,null,null,null,""]
[712,null,null,null,null,null,null,null,null,null,null,""]
[713,null,null,null,null,null,null,null,null,null,null,""]
[714,null,null,null,null,null,null,null,null,null,null,""]
[715,null,null,null,null,null,null,null,null,null,null,""]
[716,null,null,null,null,null,null,null,null,null,null,""]
[717,null,null,null,null,null,null,null,null,null,null,""]
[718,null,null,null,null,null,null,null,null,null,null,""]
[719,null,null,null,null,null,null,null,null,null,null,""]
[720,null,null,null,null,null,null,null,null,null,null,""]
[721,null,null,null,null,null,null,null,null,null,null,""]
[722,null,null,null,null,null,null,null,null,null,null,""]
[723,null,null,null,null,null,null,null,null,null,null,""]
[724,null,null,null,null,null,null,null,null,null,null,""]
[725,null,null,null,null,null,null,null,null,null,null,""]
[726,null,null,null,null,null,null,null,null,null,null,""]
[727,null,null,null,null,null,null,null,null,null,null,""]
[728,null,null,null,null,null,null,null,null,null,null,""]
[729,null,null,null,null,null,null,null,null,null,null,""]
[730,null,null,null,null,null,null,null,null,null,null,""]
[731,null,null,null,null,null,null,null,null,null,null,""]
[732,null,null,null,null,null,null,null,null,null,null,""]
[733,null,null,null,null,null,null,null,null,null,null,""]
[734,null,null,null,null,null,null,null,null,null,null,""]
[735,null,null,null,null,null,null,null,null,null,null,""]
[736,null,null,null,null,null,null,null,null,null,null,""]
[737,null,null,null,null,null,null,null,null,null,null,""]
[738,null,null,null,null,null,null,null,null,null,null,""]
[739,null,null,null,null,null,null,null,null,null,null,""]
[740,null,null,null,null,null,null,null,null,null,null,""]
[741,null,null,null,null,null,null,null,null,null,null,""]
[742,null,null,null,null,null,null,null,null,null,null,""]
[743,null,null,null,null,null,null,null,null,null,null,""]
[744,null,null,null,null,null,null,null,null,null,null,""]
[745,null,null,null,null,null,null,null,null,null,null,""]
[746,null,null,null,null,null,null,null,null,null,null,""]
[747,null,null,null,null,null,null,null,null,null,null,""]
[748,null,null,null,null,null,null,null,null,null,null,""]
[749,null,null,null,null,null,null,null,null,null,null,""]
[750,null,null,null,null,null,null,null,null,null,null,""]
[751,null,null,null,null,null,null,null,null,null,null,""]
[752,null,null,null,null,null,null,null,null,null,null,""]
[753,null,null,null,null,null,null,null,null,null,null,""]
[754,null,null,null,null,null,null,null,null,null,null,""]
[755,null,null,null,null,null,null,null,null,null,null,""]
[756,null,null,null,null,null,null,null,null,null,null,""]
[757,null,null,null,null,null,null,null,null,null,null,""]
[758,null,null,null,null,null,null,null,null,null,null,""]
[759,null,null,null,null,null,null,null,null,null,null,""]
[760,null,null,null,null,null,null,null,null,null,null,""]
[761,null,null,null,null,null,null,null,null,null,null,""]
[762,null,null,null,null,null,null,null,null,null,null,""]
[763,null,null,null,null,null,null,null,null,null,null,""]
[764,null,null,null,null,null,null,null,null,null,null,""]
[765,null,null,null,null,null,null,null,null,null,null,""]
[766,null,null,null,null,null,null,null,null,null,null,""]
[767,null,null,null,null,null,null,null,null,null,null,""]
[768,null,null,null,null,null,null,null,null,null,null,""]
[769,null,null,null,null,null,null,null,null,null,null,""]
[770,null,null,null,null,null,null,null,null,null,null,{"$f":"IF(SUM(I777,-J777,-K777)=0,\"\",SUM(I777,-J777,-K777))","v":""}]
[771,null,null,null,null,null,null,null,null,null,null,""]
[772,null,null,null,null,null,null,null,null,null,null,""]
[773,null,null,null,null,null,null,null,null,null,null,""]
[774,null,null,null,null,null,null,null,null,null,null,""]
[775,null,null,null,null,null,null,null,null,null,null,""]
[776,null,null,null,null,null,null,null,null,null,null,""]
[777,null,null,null,null,null,null,null,null,null,null,""]
[778,null,null,null,null,null,null,null,null,null,null,""]
[779,null,null,null,null,null,null,null,null,null,null,""]
[780,null,null,null,null,null,null,null,null,null,null,""]
[781,null,null,null,null,null,null,null,null,null,null,""]
[782,null,null,null,null,null,null,null,null,null,null,""]
[783,null,null,null,null,null,null,null,null,null,null,""]
[784,null,null,null,null,null,null,null,null,null,null,""]
[785,null,null,null,null,null,null,null,null,null,null,""]
[786,null,null,null,null,null,null,null,null,null,null,""]
[787,null,null,null,null,null,null,null,null,null,null,""]
[788,null,null,null,null,null,null,null,null,null,null,""]
[789,null,null,null,null,null,null,null,null,null,null,""]
[790,null,null,null,null,null,null,null,null,null,null,""]
[791,null,null,null,null,null,null,null,null,null,null,""]
[792,null,null,null,null,null,null,null,null,null,null,""]
[793,null,null,null,null,null,null,null,null,null,null,""]
[794,null,null,null,null,null,null,null,null,null,null,""]
[795,null,null,null,null,null,null,null,null,null,null,""]
[796,null,null,null,null,null,null,null,null,null,null,""]
[797,null,null,null,null,null,null,null,null,null,null,""]
[798,null,null,null,null,null,null,null,null,null,null,""]
[799,null,null,null,null,null,null,null,null,null,null,""]
[800,null,null,null,null,null,null,null,null,null,null,""]
[801,null,null,null,null,null,null,null,null,null,null,""]
[802,null,null,null,null,null,null,null,null,null,null,""]
[803,null,null,null,null,null,null,null,null,null,null,""]
[804,null,null,null,null,null,null,null,null,null,null,""]
[805,null,null,null,null,null,null,null,null,null,null,""]
[806,null,null,null,null,null,null,null,null,null,null,""]
[807,null,null,null,null,null,null,null,null,null,null,""]
[808,null,null,null,null,null,null,null,null,null,null,""]
[809,null,null,null,null,null,null,null,null,null,null,""]
[810,null,null,null,null,null,null,null,null,null,null,""]
[811,null,null,null,null,null,null,null,null,null,null,""]
[812,null,null,null,null,null,null,null,null,null,null,""]
[813,null,null,null,null,null,null,null,null,null,null,""]
[814,null,null,null,null,null,null,null,null,null,null,""]
[815,null,null,null,null,null,null,null,null,null,null,""]
[816,null,null,null,null,null,null,null,null,null,null,""]
[817,null,null,null,null,null,null,null,null,null,null,""]
[818,null,null,null,null,null,null,null,null,null,null,""]
[819,null,null,null,null,null,null,null,null,null,null,""]
[820,null,null,null,null,null,null,null,null,null,null,""]
[821,null,null,null,null,null,null,null,null,null,null,""]
[822,null,null,null,null,null,null,null,null,null,null,""]
[823,null,null,null,null,null,null,null,null,null,null,""]
[824,null,null,null,null,null,null,null,null,null,null,""]
[825,null,null,null,null,null,null,null,null,null,null,""]
[826,null,null,null,null,null,null,null,null,null,null,""]
[827,null,null,null,null,null,null,null,null,null,null,""]
[828,null,null,null,null,null,null,null,null,null,null,""]
[829,null,null,null,null,null,null,null,null,null,null,""]
[830,null,null,null,null,null,null,null,null,null,null,""]
[831,null,null,null,null,null,null,null,null,null,null,""]
[832,null,null,null,null,null,null,null,null,null,null,""]
[833,null,null,null,null,null,null,null,null,null,null,""]
[834,null,null,null,null,null,null,null,null,null,null,{"$f":"IF(SUM(I841,-J841,-K841)=0,\"\",SUM(I841,-J841,-K841))","v":""}]
[835,null,null,null,null,null,null,null,null,null,null,""]
[836,null,null,null,null,null,null,null,null,null,null,""]
[837,null,null,null,null,null,null,null,null,null,null,""]
[838,null,null,null,null,null,null,null,null,null,null,""]
[839,null,null,null,null,null,null,null,null,null,null,""]
[840,null,null,null,null,null,null,null,null,null,null,""]
[841,null,null,null,null,null,null,null,null,null,null,""]
[842,null,null,null,null,null,null,null,null,null,null,""]
[843,null,null,null,null,null,null,null,null,null,null,""]
[844,null,null,null,null,null,null,null,null,null,null,""]
[845,null,null,null,null,null,null,null,null,null,null,""]
[846,null,null,null,null,null,null,null,null,null,null,""]
[847,null,null,null,null,null,null,null,null,null,null,""]
[848,null,null,null,null,null,null,null,null,null,null,""]
[849,null,null,null,null,null,null,null,null,null,null,""]
[850,null,null,null,null,null,null,null,null,null,null,""]
[851,null,null,null,null,null,null,null,null,null,null,""]
[852,null,null,null,null,null,null,null,null,null,null,""]
[853,null,null,null,null,null,null,null,null,null,null,""]
[854,null,null,null,null,null,null,null,null,null,null,""]
[855,null,null,null,null,null,null,null,null,null,null,""]
[856,null,null,null,null,null,null,null,null,null,null,""]
[857,null,null,null,null,null,null,null,null,null,null,""]
[858,null,null,null,null,null,null,null,null,null,null,""]
[859,null,null,null,null,null,null,null,null,null,null,""]
[860,null,null,null,null,null,null,null,null,null,null,""]
[861,null,null,null,null,null,null,null,null,null,null,""]
[862,null,null,null,null,null,null,null,null,null,null,""]
[863,null,null,null,null,null,null,null,null,null,null,""]
[864,null,null,null,null,null,null,null,null,null,null,""]
[865,null,null,null,null,null,null,null,null,null,null,""]
[866,null,null,null,null,null,null,null,null,null,null,""]
[867,null,null,null,null,null,null,null,null,null,null,""]
[868,null,null,null,null,null,null,null,null,null,null,""]
[869,null,null,null,null,null,null,null,null,null,null,""]
[870,null,null,null,null,null,null,null,null,null,null,""]
[871,null,null,null,null,null,null,null,null,null,null,""]
[872,null,null,null,null,null,null,null,null,null,null,""]
[873,null,null,null,null,null,null,null,null,null,null,""]
[874,null,null,null,null,null,null,null,null,null,null,""]
[875,null,null,null,null,null,null,null,null,null,null,""]
[876,null,null,null,null,null,null,null,null,null,null,""]
[877,null,null,null,null,null,null,null,null,null,null,""]
[878,null,null,null,null,null,null,null,null,null,null,""]
[879,null,null,null,null,null,null,null,null,null,null,""]
[880,null,null,null,null,null,null,null,null,null,null,""]
[881,null,null,null,null,null,null,null,null,null,null,""]
[882,null,null,null,null,null,null,null,null,null,null,""]
[883,null,null,null,null,null,null,null,null,null,null,""]
[884,null,null,null,null,null,null,null,null,null,null,""]
[885,null,null,null,null,null,null,null,null,null,null,""]
[886,null,null,null,null,null,null,null,null,null,null,""]
[887,null,null,null,null,null,null,null,null,null,null,""]
[888,null,null,null,null,null,null,null,null,null,null,""]
[889,null,null,null,null,null,null,null,null,null,null,""]
[890,null,null,null,null,null,null,null,null,null,null,""]
[891,null,null,null,null,null,null,null,null,null,null,""]
[892,null,null,null,null,null,null,null,null,null,null,""]
[893,null,null,null,null,null,null,null,null,null,null,""]
[894,null,null,null,null,null,null,null,null,null,null,""]
[895,null,null,null,null,null,null,null,null,null,null,""]
[896,null,null,null,null,null,null,null,null,null,null,""]
[897,null,null,null,null,null,null,null,null,null,null,""]
[898,null,null,null,null,null,null,null,null,null,null,{"$f":"IF(SUM(I905,-J905,-K905)=0,\"\",SUM(I905,-J905,-K905))","v":""}]
[899,null,null,null,null,null,null,null,null,null,null,""]
[900,null,null,null,null,null,null,null,null,null,null,""]
[901,null,null,null,null,null,null,null,null,null,null,""]
[902,null,null,null,null,null,null,null,null,null,null,""]
[903,null,null,null,null,null,null,null,null,null,null,""]
[904,null,null,null,null,null,null,null,null,null,null,""]
[905,null,null,null,null,null,null,null,null,null,null,""]
[906,null,null,null,null,null,null,null,null,null,null,""]
[907,null,null,null,null,null,null,null,null,null,null,""]
[908,null,null,null,null,null,null,null,null,null,null,""]
[909,null,null,null,null,null,null,null,null,null,null,""]
[910,null,null,null,null,null,null,null,null,null,null,""]
[911,null,null,null,null,null,null,null,null,null,null,""]
[912,null,null,null,null,null,null,null,null,null,null,""]
[913,null,null,null,null,null,null,null,null,null,null,""]
[914,null,null,null,null,null,null,null,null,null,null,""]
[915,null,null,null,null,null,null,null,null,null,null,""]
[916,null,null,null,null,null,null,null,null,null,null,""]
[917,null,null,null,null,null,null,null,null,null,null,""]
[918,null,null,null,null,null,null,null,null,null,null,""]
[919,null,null,null,null,null,null,null,null,null,null,""]
[920,null,null,null,null,null,null,null,null,null,null,""]
[921,null,null,null,null,null,null,null,null,null,null,""]
[922,null,null,null,null,null,null,null,null,null,null,""]
[923,null,null,null,null,null,null,null,null,null,null,""]
[924,null,null,null,null,null,null,null,null,null,null,""]
[925,null,null,null,null,null,null,null,null,null,null,""]
[926,null,null,null,null,null,null,null,null,null,null,""]
[927,null,null,null,null,null,null,null,null,null,null,""]
[928,null,null,null,null,null,null,null,null,null,null,""]
[929,null,null,null,null,null,null,null,null,null,null,""]
[930,null,null,null,null,null,null,null,null,null,null,""]
[931,null,null,null,null,null,null,null,null,null,null,""]
[932,null,null,null,null,null,null,null,null,null,null,""]
[933,null,null,null,null,null,null,null,null,null,null,""]
[934,null,null,null,null,null,null,null,null,null,null,""]
[935,null,null,null,null,null,null,null,null,null,null,""]
[936,null,null,null,null,null,null,null,null,null,null,""]
[937,null,null,null,null,null,null,null,null,null,null,""]
[938,null,null,null,null,null,null,null,null,null,null,""]
[939,null,null,null,null,null,null,null,null,null,null,""]
[940,null,null,null,null,null,null,null,null,null,null,""]
[941,null,null,null,null,null,null,null,null,null,null,""]
[942,null,null,null,null,null,null,null,null,null,null,""]
[943,null,null,null,null,null,null,null,null,null,null,""]
[944,null,null,null,null,null,null,null,null,null,null,""]
[945,null,null,null,null,null,null,null,null,null,null,""]
[946,null,null,null,null,null,null,null,null,null,null,""]
[947,null,null,null,null,null,null,null,null,null,null,""]
[948,null,null,null,null,null,null,null,null,null,null,""]
[949,null,null,null,null,null,null,null,null,null,null,""]
[950,null,null,null,null,null,null,null,null,null,null,""]
[951,null,null,null,null,null,null,null,null,null,null,""]
[952,null,null,null,null,null,null,null,null,null,null,""]
[953,null,null,null,null,null,null,null,null,null,null,""]
[954,null,null,null,null,null,null,null,null,null,null,""]
[955,null,null,null,null,null,null,null,null,null,null,""]
[956,null,null,null,null,null,null,null,null,null,null,""]
[957,null,null,null,null,null,null,null,null,null,null,""]
[958,null,null,null,null,null,null,null,null,null,null,""]
[959,null,null,null,null,null,null,null,null,null,null,""]
[960,null,null,null,null,null,null,null,null,null,null,""]
[961,null,null,null,null,null,null,null,null,null,null,""]
[962,null,null,null,null,null,null,null,null,null,null,{"$f":"IF(SUM(I969,-J969,-K969)=0,\"\",SUM(I969,-J969,-K969))","v":""}]
[963,null,null,null,null,null,null,null,null,null,null,""]
[964,null,null,null,null,null,null,null,null,null,null,""]
[965,null,null,null,null,null,null,null,null,null,null,""]
[966,null,null,null,null,null,null,null,null,null,null,""]
[967,null,null,null,null,null,null,null,null,null,null,""]
[968,null,null,null,null,null,null,null,null,null,null,""]
[969,null,null,null,null,null,null,null,null,null,null,""]
[970,null,null,null,null,null,null,null,null,null,null,""]
[971,null,null,null,null,null,null,null,null,null,null,""]
[972,null,null,null,null,null,null,null,null,null,null,""]
[973,null,null,null,null,null,null,null,null,null,null,""]
[974,null,null,null,null,null,null,null,null,null,null,""]
[975,null,null,null,null,null,null,null,null,null,null,""]
[976,null,null,null,null,null,null,null,null,null,null,""]
[977,null,null,null,null,null,null,null,null,null,null,""]
[978,null,null,null,null,null,null,null,null,null,null,""]
[979,null,null,null,null,null,null,null,null,null,null,""]
[980,null,null,null,null,null,null,null,null,null,null,""]
[981,null,null,null,null,null,null,null,null,null,null,""]
[982]
[983]
[984]
[985]
[986]
[987]
[988]
[989]
[990]
[991]
[992]
[993]
[994]
[995]
[996]
[997]
[998]
[999]
[1000]
[1001]
[1002]
[1003]
[1004]
[1005]
[1006]
[1007]
[1008]
[1009]
[1010]
[1011]
[1012]
[1013]
[1014]
[1015]
[1016]
[1017]
[1018]
[1019]
[1020]
[1021]
[1022]
[1023]
[1024]
[1025]
[1026]
[1027]
[1028]
[1029]
[1030]
[1031]
[1032]
[1033]
[1034]
[1035]
[1036]
[1037]
[1038]
[1039]
[1040]
[1041]
[1042]
[1043]
[1044]
[1045]
[1046]
[1047]
[1048]
[1049]
[1050]
[1051]
[1052]
[1053]
[1054]
[1055]
[1056]
[1057]
[1058]
[1059]
[1060]
[1061]
[1062]
[1063]
[1064]
[1065]
[1066]
[1067]
[1068]
[1069]
[1070]
[1071]
[1072]
[1073]
[1074]
[1075]
[1076]
[1077]
[1078]
[1079]
[1080]
[1081]
[1082]
[1083]
[1084]
[1085]
[1086]
[1087]
[1088]
[1089]
[1090]
[1091]
[1092]
[1093]
[1094]
[1095]
[1096]
[1097]
[1098]
[1099]
[1100]
[1101]
[1102]
[1103]
[1104]
[1105]
[1106]
[1107]
[1108]
[1109]
[1110]
[1111]
[1112]
[1113]
[1114]
[1115]
[1116]
[1117]
[1118]
[1119]
[1120]
[1121]
[1122]
[1123]
[1124]
[1125]
[1126]
[1127]
[1128]
[1129]
[1130]
[1131]
[1132]
[1133]
[1134]
[1135]
[1136]
[1137]
[1138]
[1139]
[1140]
[1141]
[1142]
[1143]
[1144]
[1145]
[1146]
[1147]
[1148]
[1149]
[1150]
[1151]
[1152]
[1153]
[1154]
[1155]
[1156]
[1157]
[1158]
[1159]
[1160]
[1161]
[1162]
[1163]
[1164]
[1165]
[1166]
[1167]
[1168]
[1169]
[1170]
[1171]
[1172]
[1173]
[1174]
[1175]
[1176]
[1177]
[1178]
[1179]
[1180]
[1181]
[1182]
[1183]
[1184]
[1185]
[1186]
[1187]
[1188]
[1189]
[1190]
[1191]
[1192]
[1193]
[1194]
[1195]
[1196]
[1197]
[1198]
[1199]
[1200]
[1201]
[1202]
[1203]
[1204]
[1205]
[1206]
[1207]
[1208]
[1209]
[1210]
[1211]
[1212]
[1213]
[1214]
[1215]
[1216]
[1217]
[1218]
[1219]
[1220]
[1221]
[1222]
[1223]
[1224]
[1225]
[1226]
[1227]
[1228]
[1229]
[1230]
[1231]
[1232]
[1233]
[1234]
[1235]
[1236]
[1237]
[1238]
[1239]
[1240]
[1241]
[1242]
[1243]
[1244]
[1245]
[1246]
[1247]
[1248]
[1249]
[1250]
[1251]
[1252]
[1253]
[1254]
[1255]
[1256]
[1257]
[1258]
[1259]
[1260]
[1261]
[1262]
[1263]
[1264]
[1265]
[1266]
[1267]
[1268]
[1269]
[1270]
[1271]
[1272]
[1273]
[1274]
[1275]
[1276]
[1277]
[1278]
[1279]
[1280]
[1281]
[1282]
[1283]
[1284]
[1285]
[1286]
[1287]
[1288]
[1289]
[1290]
[1291]
[1292]
[1293]
[1294]
[1295]
[1296]
[1297]
[1298]
[1299]
[1300]
[1301]
[1302]
[1303]
[1304]
[1305]
[1306]
[1307]
[1308]
[1309]
[1310]
[1311]
[1312]
[1313]
[1314]
[1315]
[1316]
[1317]
[1318]
[1319]
[1320]
[1321]
[1322]
[1323]
[1324]
[1325]
[1326]
[1327]
[1328]
[1329]
[1330]
[1331]
[1332]
[1333]
[1334]
[1335]
[1336]
[1337]
[1338]
[1339]
[1340]
[1341]
[1342]
[1343]
[1344]
[1345]
[1346]
[1347]
[1348]
[1349]
[1350]
[1351]
[1352]
[1353]
[1354]
[1355]
[1356]
[1357]
[1358]
[1359]
[1360]
[1361]
[1362]
[1363]
[1364]
[1365]
[1366]
[1367]
[1368]
[1369]
[1370]
[1371]
[1372]
[1373]
[1374]
[1375]
[1376]
[1377]
[1378]
[1379]
[1380]
[1381]
[1382]
[1383]
[1384]
[1385]
[1386]
[1387]
[1388]
[1389]
[1390]
[1391]
[1392]
[1393]
[1394]
[1395]
[1396]
[1397]
[1398]
[1399]
[1400]
[1401]
[1402]
[1403]
[1404]
[1405]
[1406]
[1407]
[1408]
[1409]
[1410]
[1411]
[1412]
[1413]
[1414]
[1415]
[1416]
[1417]
[1418]
[1419]
[1420]
[1421]
[1422]
[1423]
[1424]
[1425]
[1426]
[1427]
[1428]
[1429]
[1430]
[1431]
[1432]
[1433]
[1434]
[1435]
[1436]
[1437]
[1438]
[1439]
[1440]
[1441]
[1442]
[1443]
[1444]
[1445]
[1446]
[1447]
[1448]
[1449]
[1450]
[1451]
[1452]
[1453]
[1454]
[1455]
[1456]
[1457]
[1458]
[1459]
[1460]
[1461]
[1462]
[1463]
[1464]
[1465]
[1466]
[1467]
[1468]
[1469]
[1470]
[1471]
[1472]
[1473]
[1474]
[1475]
[1476]
[1477]
[1478]
[1479]
[1480]
[1481]
[1482]
[1483]
[1484]
[1485]
[1486]
[1487]
[1488]
[1489]
[1490]
[1491]
[1492]
[1493]
[1494]
[1495]
[1496]
[1497]
[1498]
[1499]
[1500]
[1501]
[1502]
[1503]
[1504]
[1505]
[1506]
[1507]
[1508]
[1509]
[1510]
[1511]
[1512]
[1513]
[1514]
[1515]
[1516]
[1517]
[1518]
[1519]
[1520]
[1521]
[1522]
[1523]
[1524]
[1525]
[1526]
[1527]
[1528]
[1529]
[1530]
[1531]
[1532]
[1533]
[1534]
[1535]
[1536]
[1537]
[1538]
[1539]
[1540]
[1541]
[1542]
[1543]
[1544]
[1545]
[1546]
[1547]
[1548]
[1549]
[1550]
[1551]
[1552]
[1553]
[1554]
[1555]
[1556]
[1557]
[1558]
[1559]
[1560]
[1561]
[1562]
[1563]
[1564]
[1565]
[1566]
[1567]
[1568]
[1569]
[1570]
[1571]
[1572]
[1573]
[1574]
[1575]
[1576]
[1577]
[1578]
[1579]
[1580]
[1581]
[1582]
[1583]
[1584]
[1585]
[1586]
[1587]
[1588]
[1589]
[1590]
[1591]
[1592]
[1593]
[1594]
[1595]
[1596]
[1597]
[1598]
[1599]
[1600]
[1601]
[1602]
[1603]
[1604]
[1605]
[1606]
[1607]
[1608]
[1609]
[1610]
[1611]
[1612]
[1613]
[1614]
[1615]
[1616]
[1617]
[1618]
[1619]
[1620]
[1621]
[1622]
[1623]
[1624]
[1625]
[1626]
[1627]
[1628]
[1629]
[1630]
[1631]
[1632]
[1633]
[1634]
[1635]
[1636]
[1637]
[1638]
[1639]
[1640]
[1641]
[1642]
[1643]
[1644]
[1645]
[1646]
[1647]
[1648]
[1649]
[1650]
[1651]
[1652]
[1653]
[1654]
[1655]
[1656]
[1657]
[1658]
[1659]
[1660]
[1661]
[1662]
[1663]
[1664]
[1665]
[1666]
[1667]
[1668]
[1669]
[1670]
[1671]
[1672]
[1673]
[1674]
[1675]
[1676]
[1677]
[1678]
[1679]
[1680]
[1681]
[1682]
[1683]
[1684]
[1685]
[1686]
[1687]
[1688]
[1689]
[1690]
[1691]
[1692]
[1693]
[1694]
[1695]
[1696]
[1697]
[1698]
[1699]
[1700]
[1701]
[1702]
[1703]
[1704]
[1705]
[1706]
[1707]
[1708]
[1709]
[1710]
[1711]
[1712]
[1713]
[1714]
[1715]
[1716]
[1717]
[1718]
[1719]
[1720]
[1721]
[1722]
[1723]
[1724]
[1725]
[1726]
[1727]
[1728]
[1729]
[1730]
[1731]
[1732]
[1733]
[1734]
[1735]
[1736]
[1737]
[1738]
[1739]
[1740]
[1741]
[1742]
[1743]
[1744]
[1745]
[1746]
[1747]
[1748]
[1749]
[1750]
[1751]
[1752]
[1753]
[1754]
[1755]
[1756]
[1757]
[1758]
[1759]
[1760]
[1761]
[1762]
[1763]
[1764]
[1765]
[1766]
[1767]
[1768]
[1769]
[1770]
[1771]
[1772]
[1773]
[1774]
[1775]
[1776]
[1777]
[1778]
[1779]
[1780]
[1781]
[1782]
[1783]
[1784]
[1785]
[1786]
[1787]
[1788]
[1789]
[1790]
[1791]
[1792]
[1793]
[1794]
[1795]
[1796]
[1797]
[1798]
[1799]
[1800]
[1801]
[1802]
[1803]
[1804]
[1805]
[1806]
[1807]
[1808]
[1809]
[1810]
[1811]
[1812]
[1813]
[1814]
[1815]
[1816]
[1817]
[1818]
[1819]
[1820]
[1821]
[1822]
[1823]
[1824]
[1825]
[1826]
[1827]
[1828]
[1829]
[1830]
[1831]
[1832]
[1833]
[1834]
[1835]
[1836]
[1837]
[1838]
[1839]
[1840]
[1841]
[1842]
[1843]
[1844]
[1845]
[1846]
[1847]
[1848]
[1849]
[1850]
[1851]
[1852]
[1853]
[1854]
[1855]
[1856]
[1857]
[1858]
[1859]
[1860]
[1861]
[1862]
[1863]
[1864]
[1865]
[1866]
[1867]
[1868]
[1869]
[1870]
[1871]
[1872]
[1873]
[1874]
[1875]
[1876]
[1877]
[1878]
[1879]
[1880]
[1881]
[1882]
[1883]
[1884]
[1885]
[1886]
[1887]
[1888]
[1889]
[1890]
[1891]
[1892]
[1893]
[1894]
[1895]
[1896]
[1897]
[1898]
[1899]
[1900]
[1901]
[1902]
[1903]
[1904]
[1905]
[1906]
[1907]
[1908]
[1909]
[1910]
[1911]
[1912]
[1913]
[1914]
[1915]
[1916]
[1917]
[1918]
[1919]
[1920]
[1921]
[1922]
[1923]
[1924]
[1925]
[1926]
[1927]
[1928]
[1929]
[1930]
[1931]
[1932]
[1933]
[1934]
[1935]
[1936]
[1937]
[1938]
[1939]
[1940]
[1941]
[1942]
[1943]
[1944]
[1945]
[1946]
[1947]
[1948]
[1949]
[1950]
[1951]
[1952]
[1953]
[1954]
[1955]
[1956]
[1957]
[1958]
[1959]
[1960]
[1961]
[1962]
[1963]
[1964]
[1965]
[1966]
[1967]
[1968]
[1969]
[1970]
[1971]
[1972]
[1973]
[1974]
[1975]
[1976]
[1977]
[1978]
[1979]
[1980]
[1981]
[1982]
[1983]
[1984]
[1985]
[1986]
[1987]
[1988]
[1989]
[1990]
[1991]
[1992]
[1993]
[1994]
[1995]
[1996]
[1997]
[1998]
[1999]
[2000]
[2001]
[2002]
[2003]
[2004]
[2005]
[2006]
[2007]
[2008]
[2009]
[2010]
[2011]
[2012]
[2013]
[2014]
[2015]
[2016]
[2017]
[2018]
[2019]
[2020]
[2021]
[2022]
[2023]
[2024]
[2025]
[2026]
[2027]
[2028]
[2029]
[2030]
[2031]
[2032]
[2033]
[2034]
[2035]
[2036]
[2037]
[2038]
[2039]
[2040]
[2041]
[2042]
[2043]
[2044]
[2045]
[2046]
[2047]
[2048]
[2049]
[2050]
[2051]
[2052]
[2053]
[2054]
[2055]
[2056]
[2057]
[2058]
[2059]
[2060]
[2061]
[2062]
[2063]
[2064]
[2065]
[2066]
[2067]
[2068]
[2069]
[2070]
[2071]
[2072]
[2073]
[2074]
[2075]
[2076]
[2077]
[2078]
[2079]
[2080]
[2081]
[2082]
[2083]
[2084]
[2085]
[2086]
[2087]
[2088]
[2089]
[2090]
[2091]
[2092]
[2093]
[2094]
[2095]
[2096]
[2097]
[2098]
[2099]
[2100]
[2101]
[2102]
[2103]
[2104]
[2105]
[2106]
[2107]
[2108]
[2109]
[2110]
[2111]
[2112]
[2113]
[2114]
[2115]
[2116]
[2117]
[2118]
[2119]
[2120]
[2121]
[2122]
[2123]
[2124]
[2125]
[2126]
[2127]
[2128]
[2129]
[2130]
[2131]
[2132]
[2133]
[2134]
[2135]
[2136]
[2137]
[2138]
[2139]
[2140]
[2141]
[2142]
[2143]
[2144]
[2145]
[2146]
[2147]
[2148]
[2149]
[2150]
[2151]
[2152]
[2153]
[2154]
[2155]
[2156]
[2157]
[2158]
[2159]
[2160]
[2161]
[2162]
[2163]
[2164]
[2165]
[2166]
[2167]
[2168]
[2169]
[2170]
[2171]
[2172]
[2173]
[2174]
[2175]
[2176]
[2177]
[2178]
[2179]
[2180]
[2181]
[2182]
[2183]
[2184]
[2185]
[2186]
[2187]
[2188]
[2189]
[2190]
[2191]
[2192]
[2193]
[2194]
[2195]
[2196]
[2197]
[2198]
[2199]
[2200]
[2201]
[2202]
[2203]
[2204]
[2205]
[2206]
[2207]
[2208]
[2209]
[2210]
[2211]
[2212]
[2213]
[2214]
[2215]
[2216]
[2217]
[2218]
[2219]
[2220]
[2221]
[2222]
[2223]
[2224]
[2225]
[2226]
[2227]
[2228]
[2229]
[2230]
[2231]
[2232]
[2233]
[2234]
[2235]
[2236]
[2237]
[2238]
[2239]
[2240]
[2241]
[2242]
[2243]
[2244]
[2245]
[2246]
[2247]
[2248]
[2249]
[2250]
[2251]
[2252]
[2253]
[2254]
[2255]
[2256]
[2257]
[2258]
[2259]
[2260]
[2261]
[2262]
[2263]
[2264]
[2265]
[2266]
[2267]
[2268]
[2269]
[2270]
[2271]
[2272]
[2273]
[2274]
[2275]
[2276]
[2277]
[2278]
[2279]
[2280]
[2281]
[2282]
[2283]
[2284]
[2285]
[2286]
[2287]
[2288]
[2289]
[2290]
[2291]
[2292]
[2293]
[2294]
[2295]
[2296]
[2297]
[2298]
[2299]
[2300]
[2301]
[2302]
[2303]
[2304]
[2305]
[2306]
[2307]
[2308]
[2309]
[2310]
[2311]
[2312]
[2313]
[2314]
[2315]
[2316]
[2317]
[2318]
[2319]
[2320]
[2321]
[2322]
[2323]
[2324]
[2325]
[2326]
[2327]
[2328]
[2329]
[2330]
[2331]
[2332]
[2333]
[2334]
[2335]
[2336]
[2337]
[2338]
[2339]
[2340]
[2341]
[2342]
[2343]
[2344]
[2345]
[2346]
[2347]
[2348]
[2349]
[2350]
[2351]
[2352]
[2353]
[2354]
[2355]
[2356]
[2357]
[2358]
[2359]
[2360]
[2361]
[2362]
[2363]
[2364]
[2365]
[2366]
[2367]
[2368]
[2369]
[2370]
[2371]
[2372]
[2373]
[2374]
[2375]
[2376]
[2377]
[2378]
[2379]
[2380]
[2381]
[2382]
[2383]
[2384]
[2385]
[2386]
[2387]
[2388]
[2389]
[2390]
[2391]
[2392]
[2393]
[2394]
[2395]
[2396]
[2397]
[2398]
[2399]
[2400]
[2401]
[2402]
[2403]
[2404]
[2405]
[2406]
[2407]
[2408]
[2409]
[2410]
[2411]
[2412]
[2413]
[2414]
[2415]
[2416]
[2417]
[2418]
[2419]
[2420]
[2421]
[2422]
[2423]
[2424]
[2425]
[2426]
[2427]
[2428]
[2429]
[2430]
[2431]
[2432]
[2433]
[2434]
[2435]
[2436]
[2437]
[2438]
[2439]
[2440]
[2441]
[2442]
[2443]
[2444]
[2445]
[2446]
[2447]
[2448]
[2449]
[2450]
[2451]
[2452]
[2453]
[2454]
[2455]
[2456]
[2457]
[2458]
[2459]
[2460]
[2461]
[2462]
[2463]
[2464]
[2465]
[2466]
[2467]
[2468]
[2469]
[2470]
[2471]
[2472]
[2473]
[2474]
[2475]
[2476]
[2477]
[2478]
[2479]
[2480]
[2481]
[2482]
[2483]
[2484]
[2485]
[2486]
[2487]
[2488]
[2489]
[2490]
[2491]
[2492]
[2493]
[2494]
[2495]
[2496]
[2497]
[2498]
[2499]
[2500]
[2501]
[2502]
[2503]
[2504]
[2505]
[2506]
[2507]
[2508]
[2509]
[2510]
[2511]
[2512]
[2513]
[2514]
[2515]
[2516]
[2517]
[2518]
[2519]
[2520]
[2521]
[2522]
[2523]
[2524]
[2525]
[2526]
[2527]
[2528]
[2529]
[2530]
[2531]
[2532]
[2533]
[2534]
[2535]
[2536]
[2537]
[2538]
[2539]
[2540]
[2541]
[2542]
[2543]
[2544]
[2545]
[2546]
[2547]
[2548]
[2549]
[2550]
[2551]
[2552]
[2553]
[2554]
[2555]
[2556]
[2557]
[2558]
[2559]
[2560]
[2561]
[2562]
[2563]
[2564]
[2565]
[2566]
[2567]
[2568]
[2569]
[2570]
[2571]
[2572]
[2573]
[2574]
[2575]
[2576]
[2577]
[2578]
[2579]
[2580]
[2581]
[2582]
[2583]
[2584]
[2585]
[2586]
[2587]
[2588]
[2589]
[2590]
[2591]
[2592]
[2593]
[2594]
[2595]
[2596]
[2597]
[2598]
[2599]
[2600]
[2601]
[2602]
[2603]
[2604]
[2605]
[2606]
[2607]
[2608]
[2609]
[2610]
[2611]
[2612]
[2613]
[2614]
[2615]
[2616]
[2617]
[2618]
[2619]
[2620]
[2621]
[2622]
[2623]
[2624]
[2625]
[2626]
[2627]
[2628]
[2629]
[2630]
[2631]
[2632]
[2633]
[2634]
[2635]
[2636]
[2637]
[2638]
[2639]
[2640]
[2641]
[2642]
[2643]
[2644]
[2645]
[2646]
[2647]
[2648]
[2649]
[2650]
[2651]
[2652]
[2653]
[2654]
[2655]
[2656]
[2657]
[2658]
[2659]
[2660]
[2661]
[2662]
[2663]
[2664]
[2665]
[2666]
[2667]
[2668]
[2669]
[2670]
[2671]
[2672]
[2673]
[2674]
[2675]
[2676]
[2677]
[2678]
[2679]
[2680]
[2681]
[2682]
[2683]
[2684]
[2685]
[2686]
[2687]
[2688]
[2689]
[2690]
[2691]
[2692]
[2693]
[2694]
[2695]
[2696]
[2697]
[2698]
[2699]
[2700]
[2701]
[2702]
[2703]
[2704]
[2705]
[2706]
[2707]
[2708]
[2709]
[2710]
[2711]
[2712]
[2713]
[2714]
[2715]
[2716]
[2717]
[2718]
[2719]
[2720]
[2721]
[2722]
[2723]
[2724]
[2725]
[2726]
[2727]
[2728]
[2729]
[2730]
[2731]
[2732]
[2733]
[2734]
[2735]
[2736]
[2737]
[2738]
[2739]
[2740]
[2741]
[2742]
[2743]
[2744]
[2745]
[2746]
[2747]
[2748]
[2749]
[2750]
[2751]
[2752]
[2753]
[2754]
[2755]
[2756]
[2757]
[2758]
[2759]
[2760]
[2761]
[2762]
[2763]
[2764]
[2765]
[2766]
[2767]
[2768]
[2769]
[2770]
[2771]
[2772]
[2773]
[2774]
[2775]
[2776]
[2777]
[2778]
[2779]
[2780]
[2781]
[2782]
[2783]
[2784]
[2785]
[2786]
[2787]
[2788]
[2789]
[2790]
[2791]
[2792]
[2793]
[2794]
[2795]
[2796]
[2797]
[2798]
[2799]
[2800]
[2801]
[2802]
[2803]
[2804]
[2805]
[2806]
[2807]
[2808]
[2809]
[2810]
[2811]
[2812]
[2813]
[2814]
[2815]
[2816]
[2817]
[2818]
[2819]
[2820]
[2821]
[2822]
[2823]
[2824]
[2825]
[2826]
[2827]
[2828]
[2829]
[2830]
[2831]
[2832]
[2833]
[2834]
[2835]
[2836]
[2837]
[2838]
[2839]
[2840]
[2841]
[2842]
[2843]
[2844]
[2845]
[2846]
[2847]
[2848]
[2849]
[2850]
[2851]
[2852]
[2853]
[2854]
[2855]
[2856]
[2857]
[2858]
[2859]
[2860]
[2861]
[2862]
[2863]
[2864]
[2865]
[2866]
[2867]
[2868]
[2869]
[2870]
[2871]
[2872]
[2873]
[2874]
[2875]
[2876]
[2877]
[2878]
[2879]
[2880]
[2881]
[2882]
[2883]
[2884]
[2885]
[2886]
[2887]
[2888]
[2889]
[2890]
[2891]
[2892]
[2893]
[2894]
[2895]
[2896]
[2897]
[2898]
[2899]
[2900]
[2901]
[2902]
[2903]
[2904]
[2905]
[2906]
[2907]
[2908]
[2909]
[2910]
[2911]
[2912]
[2913]
[2914]
[2915]
[2916]
[2917]
[2918]
[2919]
[2920]
[2921]
[2922]
[2923]
[2924]
[2925]
[2926]
[2927]
[2928]
[2929]
[2930]
[2931]
[2932]
[2933]
[2934]
[2935]
[2936]
[2937]
[2938]
[2939]
[2940]
[2941]
[2942]
[2943]
[2944]
[2945]
[2946]
[2947]
[2948]
[2949]
[2950]
[2951]
[2952]
[2953]
[2954]
[2955]
[2956]
[2957]
[2958]
[2959]
[2960]
[2961]
[2962]
[2963]
[2964]
[2965]
[2966]
[2967]
[2968]
[2969]
[2970]
[2971]
[2972]
[2973]
[2974]
[2975]
[2976]
[2977]
[2978]
[2979]
[2980]
[2981]
[2982]
[2983]
[2984]
[2985]
[2986]
[2987]
[2988]
[2989]
[2990]
[2991]
[2992]
[2993]
[2994]
[2995]
[2996]
[2997]
[2998]
[2999]
[3000]
[3001]
[3002]
[3003]
[3004]
[3005]
[3006]
[3007]
[3008]
[3009]
[3010]
[3011]
[3012]
[3013]
[3014]
[3015]
[3016]
[3017]
[3018]
[3019]
[3020]
[3021]
[3022]
[3023]
[3024]
[3025]
[3026]
[3027]
[3028]
[3029]
[3030]
[3031]
[3032]
[3033]
[3034]
[3035]
[3036]
[3037]
[3038]
[3039]
[3040]
[3041]
[3042]
[3043]
[3044]
[3045]
[3046]
[3047]
[3048]
[3049]
[3050]
[3051]
[3052]
[3053]
[3054]
[3055]
[3056]
[3057]
[3058]
[3059]
[3060]
[3061]
[3062]
[3063]
[3064]
[3065]
[3066]
[3067]
[3068]
[3069]
[3070]
[3071]
[3072]
[3073]
[3074]
[3075]
[3076]
[3077]
[3078]
[3079]
[3080]
[3081]
[3082]
[3083]
[3084]
[3085]
[3086]
[3087]
[3088]
[3089]
[3090]
[3091]
[3092]
[3093]
[3094]
[3095]
[3096]
[3097]
[3098]
[3099]
[3100]
[3101]
[3102]
[3103]
[3104]
[3105]
[3106]
[3107]
[3108]
[3109]
[3110]
[3111]
[3112]
[3113]
[3114]
[3115]
[3116]
[3117]
[3118]
[3119]
[3120]
[3121]
[3122]
[3123]
[3124]
[3125]
[3126]
[3127]
[3128]
[3129]
[3130]
[3131]
[3132]
[3133]
[3134]
[3135]
[3136]
[3137]
[3138]
[3139]
[3140]
[3141]
[3142]
[3143]
[3144]
[3145]
[3146]
[3147]
[3148]
[3149]
[3150]
[3151]
[3152]
[3153]
[3154]
[3155]
[3156]
[3157]
[3158]
[3159]
[3160]
[3161]
[3162]
[3163]
[3164]
[3165]
[3166]
[3167]
[3168]
[3169]
[3170]
[3171]
[3172]
[3173]
[3174]
[3175]
[3176]
[3177]
[3178]
[3179]
[3180]
[3181]
[3182]
[3183]
[3184]
[3185]
[3186]
[3187]
[3188]
[3189]
[3190]
[3191]
[3192]
[3193]
[3194]
[3195]
[3196]
[3197]
[3198]
[3199]
[3200]
[3201]
[3202]
[3203]
[3204]
[3205]
[3206]
[3207]
[3208]
[3209]
[3210]
[3211]
[3212]
[3213]
[3214]
[3215]
[3216]
[3217]
[3218]
[3219]
[3220]
[3221]
[3222]
[3223]
[3224]
[3225]
[3226]
[3227]
[3228]
[3229]
[3230]
[3231]
[3232]
[3233]
[3234]
[3235]
[3236]
[3237]
[3238]
[3239]
[3240]
[3241]
[3242]
[3243]
[3244]
[3245]
[3246]
[3247]
[3248]
[3249]
[3250]
[3251]
[3252]
[3253]
[3254]
[3255]
[3256]
[3257]
[3258]
[3259]
[3260]
[3261]
[3262]
[3263]
[3264]
[3265]
[3266]
[3267]
[3268]
[3269]
[3270]
[3271]
[3272]
[3273]
[3274]
[3275]
[3276]
[3277]
[3278]
[3279]
[3280]
[3281]
[3282]
[3283]
[3284]
[3285]
[3286]
[3287]
[3288]
[3289]
[3290]
[3291]
[3292]
[3293]
[3294]
[3295]
[3296]
[3297]
[3298]
[3299]
[3300]
[3301]
[3302]
[3303]
[3304]
[3305]
[3306]
[3307]
[3308]
[3309]
[3310]
[3311]
[3312]
[3313]
[3314]
[3315]
[3316]
[3317]
[3318]
[3319]
[3320]
[3321]
[3322]
[3323]
[3324]
[3325]
[3326]
[3327]
[3328]
[3329]
[3330]
[3331]
[3332]
[3333]
[3334]
[3335]
[3336]
[3337]
[3338]
[3339]
[3340]
[3341]
[3342]
[3343]
[3344]
[3345]
[3346]
[3347]
[3348]
[3349]
[3350]
[3351]
[3352]
[3353]
[3354]
[3355]
[3356]
[3357]
[3358]
[3359]
[3360]
[3361]
[3362]
[3363]
[3364]
[3365]
[3366]
[3367]
[3368]
[3369]
[3370]
[3371]
[3372]
[3373]
[3374]
[3375]
[3376]
[3377]
[3378]
[3379]
[3380]
[3381]
[3382]
[3383]
[3384]
[3385]
[3386]
[3387]
[3388]
[3389]
[3390]
[3391]
[3392]
[3393]
[3394]
[3395]
[3396]
[3397]
[3398]
[3399]
[3400]
[3401]
[3402]
[3403]
[3404]
[3405]
[3406]
[3407]
[3408]
[3409]
[3410]
[3411]
[3412]
[3413]
[3414]
[3415]
[3416]
[3417]
[3418]
[3419]
[3420]
[3421]
[3422]
[3423]
[3424]
[3425]
[3426]
[3427]
[3428]
[3429]
[3430]
[3431]
[3432]
[3433]
[3434]
[3435]
[3436]
[3437]
[3438]
[3439]
[3440]
[3441]
[3442]
[3443]
[3444]
[3445]
[3446]
[3447]
[3448]
[3449]
[3450]
[3451]
[3452]
[3453]
[3454]
[3455]
[3456]
[3457]
[3458]
[3459]
[3460]
[3461]
[3462]
[3463]
[3464]
[3465]
[3466]
[3467]
[3468]
[3469]
[3470]
[3471]
[3472]
[3473]
[3474]
[3475]
[3476]
[3477]
[3478]
[3479]
[3480]
[3481]
[3482]
[3483]
[3484]
[3485]
[3486]
[3487]
[3488]
[3489]
[3490]
[3491]
[3492]
[3493]
[3494]
[3495]
[3496]
[3497]
[3498]
[3499]
[3500]
[3501]
[3502]
[3503]
[3504]
[3505]
[3506]
[3507]
[3508]
[3509]
[3510]
[3511]
[3512]
[3513]
[3514]
[3515]
[3516]
[3517]
[3518]
[3519]
[3520]
[3521]
[3522]
[3523]
[3524]
[3525]
[3526]
[3527]
[3528]
[3529]
[3530]
[3531]
[3532]
[3533]
[3534]
[3535]
[3536]
[3537]
[3538]
[3539]
[3540]
[3541]
[3542]
[3543]
[3544]
[3545]
[3546]
[3547]
[3548]
[3549]
[3550]
[3551]
[3552]
[3553]
[3554]
[3555]
[3556]
[3557]
[3558]
[3559]
[3560]
[3561]
[3562]
[3563]
[3564]
[3565]
[3566]
[3567]
[3568]
[3569]
[3570]
[3571]
[3572]
[3573]
[3574]
[3575]
[3576]
[3577]
[3578]
[3579]
[3580]
[3581]
[3582]
[3583]
[3584]
[3585]
[3586]
[3587]
[3588]
[3589]
[3590]
[3591]
[3592]
[3593]
[3594]
[3595]
[3596]
[3597]
[3598]
[3599]
[3600]
[3601]
[3602]
[3603]
[3604]
[3605]
[3606]
[3607]
[3608]
[3609]
[3610]
[3611]
[3612]
[3613]
[3614]
[3615]
[3616]
[3617]
[3618]
[3619]
[3620]
[3621]
[3622]
[3623]
[3624]
[3625]
[3626]
[3627]
[3628]
[3629]
[3630]
[3631]
[3632]
[3633]
[3634]
[3635]
[3636]
[3637]
[3638]
[3639]
[3640]
[3641]
[3642]
[3643]
[3644]
[3645]
[3646]
[3647]
[3648]
[3649]
[3650]
[3651]
[3652]
[3653]
[3654]
[3655]
[3656]
[3657]
[3658]
[3659]
[3660]
[3661]
[3662]
[3663]
[3664]
[3665]
[3666]
[3667]
[3668]
[3669]
[3670]
[3671]
[3672]
[3673]
[3674]
[3675]
[3676]
[3677]
[3678]
[3679]
[3680]
[3681]
[3682]
[3683]
[3684]
[3685]
[3686]
[3687]
[3688]
[3689]
[3690]
[3691]
[3692]
[3693]
[3694]
[3695]
[3696]
[3697]
[3698]
[3699]
[3700]
[3701]
[3702]
[3703]
[3704]
[3705]
[3706]
[3707]
[3708]
[3709]
[3710]
[3711]
[3712]
[3713]
[3714]
[3715]
[3716]
[3717]
[3718]
[3719]
[3720]
[3721]
[3722]
[3723]
[3724]
[3725]
[3726]
[3727]
[3728]
[3729]
[3730]
[3731]
[3732]
[3733]
[3734]
[3735]
[3736]
[3737]
[3738]
[3739]
[3740]
[3741]
[3742]
[3743]
[3744]
[3745]
[3746]
[3747]
[3748]
[3749]
[3750]
[3751]
[3752]
[3753]
[3754]
[3755]
[3756]
[3757]
[3758]
[3759]
[3760]
[3761]
[3762]
[3763]
[3764]
[3765]
[3766]
[3767]
[3768]
[3769]
[3770]
[3771]
[3772]
[3773]
[3774]
[3775]
[3776]
[3777]
[3778]
[3779]
[3780]
[3781]
[3782]
[3783]
[3784]
[3785]
[3786]
[3787]
[3788]
[3789]
[3790]
[3791]
[3792]
[3793]
[3794]
[3795]
[3796]
[3797]
[3798]
[3799]
[3800]
[3801]
[3802]
[3803]
[3804]
[3805]
[3806]
[3807]
[3808]
[3809]
[3810]
[3811]
[3812]
[3813]
[3814]
[3815]
[3816]
[3817]
[3818]
[3819]
[3820]
[3821]
[3822]
[3823]
[3824]
[3825]
[3826]
[3827]
[3828]
[3829]
[3830]
[3831]
[3832]
[3833]
[3834]
[3835]
[3836]
[3837]
[3838]
[3839]
[3840]
[3841]
[3842]
[3843]
[3844]
[3845]
[3846]
[3847]
[3848]
[3849]
[3850]
[3851]
[3852]
[3853]
[3854]
[3855]
[3856]
[3857]
[3858]
[3859]
[3860]
[3861]
[3862]
[3863]
[3864]
[3865]
[3866]
[3867]
[3868]
[3869]
[3870]
[3871]
[3872]
[3873]
[3874]
[3875]
[3876]
[3877]
[3878]
[3879]
[3880]
[3881]
[3882]
[3883]
[3884]
[3885]
[3886]
[3887]
[3888]
[3889]
[3890]
[3891]
[3892]
[3893]
[3894]
[3895]
[3896]
[3897]
[3898]
[3899]
[3900]
[3901]
[3902]
[3903]
[3904]
[3905]
[3906]
[3907]
[3908]
[3909]
[3910]
[3911]
[3912]
[3913]
[3914]
[3915]
[3916]
[3917]
[3918]
[3919]
[3920]
[3921]
[3922]
[3923]
[3924]
[3925]
[3926]
[3927]
[3928]
[3929]
[3930]
[3931]
[3932]
[3933]
[3934]
[3935]
[3936]
[3937]
[3938]
[3939]
[3940]
[3941]
[3942]
[3943]
[3944]
[3945]
[3946]
[3947]
[3948]
[3949]
[3950]
[3951]
[3952]
[3953]
[3954]
[3955]
[3956]
[3957]
[3958]
[3959]
[3960]
[3961]
[3962]
[3963]
[3964]
[3965]
[3966]
[3967]
[3968]
[3969]
[3970]
[3971]
[3972]
[3973]
[3974]
[3975]
[3976]
[3977]
[3978]
[3979]
[3980]
[3981]
[3982]
[3983]
[3984]
[3985]
[3986]
[3987]
[3988]
[3989]
[3990]
[3991]
[3992]
[3993]
[3994]
[3995]
[3996]
[3997]
[3998]
[3999]
[4000]
[4001]
[4002]
[4003]
[4004]
[4005]
[4006]
[4007]
[4008]
[4009]
[4010]
[4011]
[4012]
[4013]
[4014]
[4015]
[4016]
[4017]
[4018]
[4019]
[4020]
[4021]
[4022]
[4023]
[4024]
[4025]
[4026]
[4027]
[4028]
[4029]
[4030]
[4031]
[4032]
[4033]
[4034]
[4035]
[4036]
[4037]
[4038]
[4039]
[4040]
[4041]
[4042]
[4043]
[4044]
[4045]
[4046]
[4047]
[4048]
[4049]
[4050]
[4051]
[4052]
[4053]
[4054]
[4055]
[4056]
[4057]
[4058]
[4059]
[4060]
[4061]
[4062]
[4063]
[4064]
[4065]
[4066]
[4067]
[4068]
[4069]
[4070]
[4071]
[4072]
[4073]
[4074]
[4075]
[4076]
[4077]
[4078]
[4079]
[4080]
[4081]
[4082]
[4083]
[4084]
[4085]
[4086]
[4087]
[4088]
[4089]
[4090]
[4091]
[4092]
[4093]
[4094]
[4095]
[4096]
[4097]
[4098]
[4099]
[4100]
[4101]
[4102]
[4103]
[4104]
[4105]
[4106]
[4107]
[4108]
[4109]
[4110]
[4111]
[4112]
[4113]
[4114]
[4115]
[4116]
[4117]
[4118]
[4119]
[4120]
[4121]
[4122]
[4123]
[4124]
[4125]
[4126]
[4127]
[4128]
[4129]
[4130]
[4131]
[4132]
[4133]
[4134]
[4135]
[4136]
[4137]
[4138]
[4139]
[4140]
[4141]
[4142]
[4143]
[4144]
[4145]
[4146]
[4147]
[4148]
[4149]
[4150]
[4151]
[4152]
[4153]
[4154]
[4155]
[4156]
[4157]
[4158]
[4159]
[4160]
[4161]
[4162]
[4163]
[4164]
[4165]
[4166]
[4167]
[4168]
[4169]
[4170]
[4171]
[4172]
[4173]
[4174]
[4175]
[4176]
[4177]
[4178]
[4179]
[4180]
[4181]
[4182]
[4183]
[4184]
[4185]
[4186]
[4187]
[4188]
[4189]
[4190]
[4191]
[4192]
[4193]
[4194]
[4195]
[4196]
[4197]
[4198]
[4199]
[4200]
[4201]
[4202]
[4203]
[4204]
[4205]
[4206]
[4207]
[4208]
[4209]
[4210]
[4211]
[4212]
[4213]
[4214]
[4215]
[4216]
[4217]
[4218]
[4219]
[4220]
[4221]
[4222]
[4223]
[4224]
[4225]
[4226]
[4227]
[4228]
[4229]
[4230]
[4231]
[4232]
[4233]
[4234]
[4235]
[4236]
[4237]
[4238]
[4239]
[4240]
[4241]
[4242]
[4243]
[4244]
[4245]
[4246]
[4247]
[4248]
[4249]
[4250]
[4251]
[4252]
[4253]
[4254]
[4255]
[4256]
[4257]
[4258]
[4259]
[4260]
[4261]
[4262]
[4263]
[4264]
[4265]
[4266]
[4267]
[4268]
[4269]
[4270]
[4271]
[4272]
[4273]
[4274]
[4275]
[4276]
[4277]
[4278]
[4279]
[4280]
[4281]
[4282]
[4283]
[4284]
[4285]
[4286]
[4287]
[4288]
[4289]
[4290]
[4291]
[4292]
[4293]
[4294]
[4295]
[4296]
[4297]
[4298]
[4299]
[4300]
[4301]
[4302]
[4303]
[4304]
[4305]
[4306]
[4307]
[4308]
[4309]
[4310]
[4311]
[4312]
[4313]
[4314]
[4315]
[4316]
[4317]
[4318]
[4319]
[4320]
[4321]
[4322]
[4323]
[4324]
[4325]
[4326]
[4327]
[4328]
[4329]
[4330]
[4331]
[4332]
[4333]
[4334]
[4335]
[4336]
[4337]
[4338]
[4339]
[4340]
[4341]
[4342]
[4343]
[4344]
[4345]
[4346]
[4347]
[4348]
[4349]
[4350]
[4351]
[4352]
[4353]
[4354]
[4355]
[4356]
[4357]
[4358]
[4359]
[4360]
[4361]
[4362]
[4363]
[4364]
[4365]
[4366]
[4367]
[4368]
[4369]
[4370]
[4371]
[4372]
[4373]
[4374]
[4375]
[4376]
[4377]
[4378]
[4379]
[4380]
[4381]
[4382]
[4383]
[4384]
[4385]
[4386]
[4387]
[4388]
[4389]
[4390]
[4391]
[4392]
[4393]
[4394]
[4395]
[4396]
[4397]
[4398]
[4399]
[4400]
[4401]
[4402]
[4403]
[4404]
[4405]
[4406]
[4407]
[4408]
[4409]
[4410]
[4411]
[4412]
[4413]
[4414]
[4415]
[4416]
[4417]
[4418]
[4419]
[4420]
[4421]
[4422]
[4423]
[4424]
[4425]
[4426]
[4427]
[4428]
[4429]
[4430]
[4431]
[4432]
[4433]
[4434]
[4435]
[4436]
[4437]
[4438]
[4439]
[4440]
[4441]
[4442]
[4443]
[4444]
[4445]
[4446]
[4447]
[4448]
[4449]
[4450]
[4451]
[4452]
[4453]
[4454]
[4455]
[4456]
[4457]
[4458]
[4459]
[4460]
[4461]
[4462]
[4463]
[4464]
[4465]
[4466]
[4467]
[4468]
[4469]
[4470]
[4471]
[4472]
[4473]
[4474]
[4475]
[4476]
[4477]
[4478]
[4479]
[4480]
[4481]
[4482]
[4483]
[4484]
[4485]
[4486]
[4487]
[4488]
[4489]
[4490]
[4491]
[4492]
[4493]
[4494]
[4495]
[4496]
[4497]
[4498]
[4499]
[4500]
[4501]
[4502]
[4503]
[4504]
[4505]
[4506]
[4507]
[4508]
[4509]
[4510]
[4511]
[4512]
[4513]
[4514]
[4515]
[4516]
[4517]
[4518]
[4519]
[4520]
[4521]
[4522]
[4523]
[4524]
[4525]
[4526]
[4527]
[4528]
[4529]
[4530]
[4531]
[4532]
[4533]
[4534]
[4535]
[4536]
[4537]
[4538]
[4539]
[4540]
[4541]
[4542]
[4543]
[4544]
[4545]
[4546]
[4547]
[4548]
[4549]
[4550]
[4551]
[4552]
[4553]
[4554]
[4555]
[4556]
[4557]
[4558]
[4559]
[4560]
[4561]
[4562]
[4563]
[4564]
[4565]
[4566]
[4567]
[4568]
[4569]
[4570]
[4571]
[4572]
[4573]
[4574]
[4575]
[4576]
[4577]
[4578]
[4579]
[4580]
[4581]
[4582]
[4583]
[4584]
[4585]
[4586]
[4587]
[4588]
[4589]
[4590]
[4591]
[4592]
[4593]
[4594]
[4595]
[4596]
[4597]
[4598]
[4599]
[4600]
[4601]
[4602]
[4603]
[4604]
[4605]
[4606]
[4607]
[4608]
[4609]
[4610]
[4611]
[4612]
[4613]
[4614]
[4615]
[4616]
[4617]
[4618]
[4619]
[4620]
[4621]
[4622]
[4623]
[4624]
[4625]
[4626]
[4627]
[4628]
[4629]
[4630]
[4631]
[4632]
[4633]
[4634]
[4635]
[4636]
[4637]
[4638]
[4639]
[4640]
[4641]
[4642]
[4643]
[4644]
[4645]
[4646]
[4647]
[4648]
[4649]
[4650]
[4651]
[4652]
[4653]
[4654]
[4655]
[4656]
[4657]
[4658]
[4659]
[4660]
[4661]
[4662]
[4663]
[4664]
[4665]
[4666]
[4667]
[4668]
[4669]
[4670]
[4671]
[4672]
[4673]
[4674]
[4675]
[4676]
[4677]
[4678]
[4679]
[4680]
[4681]
[4682]
[4683]
[4684]
[4685]
[4686]
[4687]
[4688]
[4689]
[4690]
[4691]
[4692]
[4693]
[4694]
[4695]
[4696]
[4697]
[4698]
[4699]
[4700]
[4701]
[4702]
[4703]
[4704]
[4705]
[4706]
[4707]
[4708]
[4709]
[4710]
[4711]
[4712]
[4713]
[4714]
[4715]
[4716]
[4717]
[4718]
[4719]
[4720]
[4721]
[4722]
[4723]
[4724]
[4725]
[4726]
[4727]
[4728]
[4729]
[4730]
[4731]
[4732]
[4733]
[4734]
[4735]
[4736]
[4737]
[4738]
[4739]
[4740]
[4741]
[4742]
[4743]
[4744]
[4745]
[4746]
[4747]
[4748]
[4749]
[4750]
[4751]
[4752]
[4753]
[4754]
[4755]
[4756]
[4757]
[4758]
[4759]
[4760]
[4761]
[4762]
[4763]
[4764]
[4765]
[4766]
[4767]
[4768]
[4769]
[4770]
[4771]
[4772]
[4773]
[4774]
[4775]
[4776]
[4777]
[4778]
[4779]
[4780]
[4781]
[4782]
[4783]
[4784]
[4785]
[4786]
[4787]
[4788]
[4789]
[4790]
[4791]
[4792]
[4793]
[4794]
[4795]
[4796]
[4797]
[4798]
[4799]
[4800]
[4801]
[4802]
[4803]
[4804]
[4805]
[4806]
[4807]
[4808]
[4809]
[4810]
[4811]
[4812]
[4813]
[4814]
[4815]
[4816]
[4817]
[4818]
[4819]
[4820]
[4821]
[4822]
[4823]
[4824]
[4825]
[4826]
[4827]
[4828]
[4829]
[4830]
[4831]
[4832]
[4833]
[4834]
[4835]
[4836]
[4837]
[4838]
[4839]
[4840]
[4841]
[4842]
[4843]
[4844]
[4845]
[4846]
[4847]
[4848]
[4849]
[4850]
[4851]
[4852]
[4853]
[4854]
[4855]
[4856]
[4857]
[4858]
[4859]
[4860]
[4861]
[4862]
[4863]
[4864]
[4865]
[4866]
[4867]
[4868]
[4869]
[4870]
[4871]
[4872]
[4873]
[4874]
[4875]
[4876]
[4877]
[4878]
[4879]
[4880]
[4881]
[4882]
[4883]
[4884]
[4885]
[4886]
[4887]
[4888]
[4889]
[4890]
[4891]
[4892]
[4893]
[4894]
[4895]
[4896]
[4897]
[4898]
[4899]
[4900]
[4901]
[4902]
[4903]
[4904]
[4905]
[4906]
[4907]
[4908]
[4909]
[4910]
[4911]
[4912]
[4913]
[4914]
[4915]
[4916]
[4917]
[4918]
[4919]
[4920]
[4921]
[4922]
[4923]
[4924]
[4925]
[4926]
[4927]
[4928]
[4929]
[4930]
[4931]
[4932]
[4933]
[4934]
[4935]
[4936]
[4937]
[4938]
[4939]
[4940]
[4941]
[4942]
[4943]
[4944]
[4945]
[4946]
[4947]
[4948]
[4949]
[4950]
[4951]
[4952]
[4953]
[4954]
[4955]
[4956]
[4957]
[4958]
[4959]
[4960]
[4961]
[4962]
[4963]
[4964]
[4965]
[4966]
[4967]
[4968]
[4969]
[4970]
[4971]
[4972]
[4973]
[4974]
[4975]
[4976]
[4977]
[4978]
[4979]
[4980]
[4981]
[4982]
[4983]
[4984]
[4985]
[4986]
[4987]
[4988]
[4989]
[4990]
[4991]
[4992]
[4993]
[4994]
[4995]
[4996]
[4997]
[4998]
[4999]
[5000]
[5001]
[5002]
[5003]
[5004]
[5005]
[5006]
[5007]
[5008]
[5009]
[5010]
[5011]
[5012]
[5013]
[5014]
[5015]
[5016]
[5017]
[5018]
[5019]
[5020]
[5021]
[5022]
[5023]
[5024]
[5025]
[5026]
[5027]
[5028]
[5029]
[5030]
[5031]
[5032]
[5033]
[5034]
[5035]
[5036]
[5037]
[5038]
[5039]
[5040]
[5041]
[5042]
[5043]
[5044]
[5045]
[5046]
[5047]
[5048]
[5049]
[5050]
[5051]
[5052]
[5053]
[5054]
[5055]
[5056]
[5057]
[5058]
[5059]
[5060]
[5061]
[5062]
[5063]
[5064]
[5065]
[5066]
[5067]
[5068]
[5069]
[5070]
[5071]
[5072]
[5073]
[5074]
[5075]
[5076]
[5077]
[5078]
[5079]
[5080]
[5081]
[5082]
[5083]
[5084]
[5085]
[5086]
[5087]
[5088]
[5089]
[5090]
[5091]
[5092]
[5093]
[5094]
[5095]
[5096]
[5097]
[5098]
[5099]
[5100]
[5101]
[5102]
[5103]
[5104]
[5105]
[5106]
[5107]
[5108]
[5109]
[5110]
[5111]
[5112]
[5113]
[5114]
[5115]
[5116]
[5117]
[5118]
[5119]
[5120]
[5121]
[5122]
[5123]
[5124]
[5125]
[5126]
[5127]
[5128]
[5129]
[5130]
[5131]
[5132]
[5133]
[5134]
[5135]
[5136]
[5137]
[5138]
[5139]
[5140]
[5141]
[5142]
[5143]
[5144]
[5145]
[5146]
[5147]
[5148]
[5149]
[5150]
[5151]
[5152]
[5153]
[5154]
[5155]
[5156]
[5157]
[5158]
[5159]
[5160]
[5161]
[5162]
[5163]
[5164]
[5165]
[5166]
[5167]
[5168]
[5169]
[5170]
[5171]
[5172]
[5173]
[5174]
[5175]
[5176]
[5177]
[5178]
[5179]
[5180]
[5181]
[5182]
[5183]
[5184]
[5185]
[5186]
[5187]
[5188]
[5189]
[5190]
[5191]
[5192]
[5193]
[5194]
[5195]
[5196]
[5197]
[5198]
[5199]
[5200]
[5201]
[5202]
[5203]
[5204]
[5205]
[5206]
[5207]
[5208]
[5209]
[5210]
[5211]
[5212]
[5213]
[5214]
[5215]
[5216]
[5217]
[5218]
[5219]
[5220]
[5221]
[5222]
[5223]
[5224]
[5225]
[5226]
[5227]
[5228]
[5229]
[5230]
[5231]
[5232]
[5233]
[5234]
[5235]
[5236]
[5237]
[5238]
[5239]
[5240]
[5241]
[5242]
[5243]
[5244]
[5245]
[5246]
[5247]
[5248]
[5249]
[5250]
[5251]
[5252]
[5253]
[5254]
[5255]
[5256]
[5257]
[5258]
[5259]
[5260]
[5261]
[5262]
[5263]
[5264]
[5265]
[5266]
[5267]
[5268]
[5269]
[5270]
[5271]
[5272]
[5273]
[5274]
[5275]
[5276]
[5277]
[5278]
[5279]
[5280]
[5281]
[5282]
[5283]
[5284]
[5285]
[5286]
[5287]
[5288]
[5289]
[5290]
[5291]
[5292]
[5293]
[5294]
[5295]
[5296]
[5297]
[5298]
[5299]
[5300]
[5301]
[5302]
[5303]
[5304]
[5305]
[5306]
[5307]
[5308]
[5309]
[5310]
[5311]
[5312]
[5313]
[5314]
[5315]
[5316]
[5317]
[5318]
[5319]
[5320]
[5321]
[5322]
[5323]
[5324]
[5325]
[5326]
[5327]
[5328]
[5329]
[5330]
[5331]
[5332]
[5333]
[5334]
[5335]
[5336]
[5337]
[5338]
[5339]
[5340]
[5341]
[5342]
[5343]
[5344]
[5345]
[5346]
[5347]
[5348]
[5349]
[5350]
[5351]
[5352]
[5353]
[5354]
[5355]
[5356]
[5357]
[5358]
[5359]
[5360]
[5361]
[5362]
[5363]
[5364]
[5365]
[5366]
[5367]
[5368]
[5369]
[5370]
[5371]
[5372]
[5373]
[5374]
[5375]
[5376]
[5377]
[5378]
[5379]
[5380]
[5381]
[5382]
[5383]
[5384]
[5385]
[5386]
[5387]
[5388]
[5389]
[5390]
[5391]
[5392]
[5393]
[5394]
[5395]
[5396]
[5397]
[5398]
[5399]
[5400]
[5401]
[5402]
[5403]
[5404]
[5405]
[5406]
[5407]
[5408]
[5409]
[5410]
[5411]
[5412]
[5413]
[5414]
[5415]
[5416]
[5417]
[5418]
[5419]
[5420]
[5421]
[5422]
[5423]
[5424]
[5425]
[5426]
[5427]
[5428]
[5429]
[5430]
[5431]
[5432]
[5433]
[5434]
[5435]
[5436]
[5437]
[5438]
[5439]
[5440]
[5441]
[5442]
[5443]
[5444]
[5445]
[5446]
[5447]
[5448]
[5449]
[5450]
[5451]
[5452]
[5453]
[5454]
[5455]
[5456]
[5457]
[5458]
[5459]
[5460]
[5461]
[5462]
[5463]
[5464]
[5465]
[5466]
[5467]
[5468]
[5469]
[5470]
[5471]
[5472]
[5473]
[5474]
[5475]
[5476]
[5477]
[5478]
[5479]
[5480]
[5481]
[5482]
[5483]
[5484]
[5485]
[5486]
[5487]
[5488]
[5489]
[5490]
[5491]
[5492]
[5493]
[5494]
[5495]
[5496]
[5497]
[5498]
[5499]
[5500]
[5501]
[5502]
[5503]
[5504]
[5505]
[5506]
[5507]
[5508]
[5509]
[5510]
[5511]
[5512]
[5513]
[5514]
[5515]
[5516]
[5517]
[5518]
[5519]
[5520]
[5521]
[5522]
[5523]
[5524]
[5525]
[5526]
[5527]
[5528]
[5529]
[5530]
[5531]
[5532]
[5533]
[5534]
[5535]
[5536]
[5537]
[5538]
[5539]
[5540]
[5541]
[5542]
[5543]
[5544]
[5545]
[5546]
[5547]
[5548]
[5549]
[5550]
[5551]
[5552]
[5553]
[5554]
[5555]
[5556]
[5557]
[5558]
[5559]
[5560]
[5561]
[5562]
[5563]
[5564]
[5565]
[5566]
[5567]
[5568]
[5569]
[5570]
[5571]
[5572]
[5573]
[5574]
[5575]
[5576]
[5577]
[5578]
[5579]
[5580]
[5581]
[5582]
[5583]
[5584]
[5585]
[5586]
[5587]
[5588]
[5589]
[5590]
[5591]
[5592]
[5593]
[5594]
[5595]
[5596]
[5597]
[5598]
[5599]
[5600]
[5601]
[5602]
[5603]
[5604]
[5605]
[5606]
[5607]
[5608]
[5609]
[5610]
[5611]
[5612]
[5613]
[5614]
[5615]
[5616]
[5617]
[5618]
[5619]
[5620]
[5621]
[5622]
[5623]
[5624]
[5625]
[5626]
[5627]
[5628]
[5629]
[5630]
[5631]
[5632]
[5633]
[5634]
[5635]
[5636]
[5637]
[5638]
[5639]
[5640]
[5641]
[5642]
[5643]
[5644]
[5645]
[5646]
[5647]
[5648]
[5649]
[5650]
[5651]
[5652]
[5653]
[5654]
[5655]
[5656]
[5657]
[5658]
[5659]
[5660]
[5661]
[5662]
[5663]
[5664]
[5665]
[5666]
[5667]
[5668]
[5669]
[5670]
[5671]
[5672]
[5673]
[5674]
[5675]
[5676]
[5677]
[5678]
[5679]
[5680]
[5681]
[5682]
[5683]
[5684]
[5685]
[5686]
[5687]
[5688]
[5689]
[5690]
[5691]
[5692]
[5693]
[5694]
[5695]
[5696]
[5697]
[5698]
[5699]
[5700,null,null,null,null,null,null,null,null,null,null,{"$f":"IF(AND(I5707=\"\",J5707=\"\"),\"\",L988+I5707-J5707-K5707)","v":""}]
[5701,null,null,null,null,null,null,null,null,null,null,{"$f":"IF(AND(I5708=\"\",J5708=\"\"),\"\",L5707+I5708-J5708-K5708)","v":""}]
[5702,null,null,null,null,null,null,null,null,null,null,""]
[5703,null,null,null,null,null,null,null,null,null,null,""]
[5704,null,null,null,null,null,null,null,null,null,null,""]
[5705,null,null,null,null,null,null,null,null,null,null,""]
[5706,null,null,null,null,null,null,null,null,null,null,""]
[5707,null,null,null,null,null,null,null,null,null,null,""]
[5708,null,null,null,null,null,null,null,null,null,null,""]
[5709,null,null,null,null,null,null,null,null,null,null,""]
[5710,null,null,null,null,null,null,null,null,null,null,""]
[5711,null,null,null,null,null,null,null,null,null,null,""]
[5712,null,null,null,null,null,null,null,null,null,null,""]
[5713,null,null,null,null,null,null,null,null,null,null,""]
[5714,null,null,null,null,null,null,null,null,null,null,""]
[5715,null,null,null,null,null,null,null,null,null,null,""]
[5716,null,null,null,null,null,null,null,null,null,null,""]
[5717,null,null,null,null,null,null,null,null,null,null,""]
[5718,null,null,null,null,null,null,null,null,null,null,""]
[null,null,null,null,null,null,null,null,{"$f":"SUM(I8:I5725)","v":3015},{"$f":"SUM(J8:J5725)","v":2400},{"$f":"SUM(K8:K5725)","v":0}]

{"sheet":"1","index":1,"n_rows":1009,"n_cols":12,"rows_kept":1009,"cut":false,"hidden":false,"merged":[[6,8,6,10],[1,7,4,7],[1,1,1,3],[2,1,2,3],[3,1,3,3],[4,1,4,3]]}
[]
[null,null,null,null,null,null,null,"قيودحساب صنف"]
[]
[]
[]
[]
["م","رقم السند قبض صرف فاتورة",1,"نوع","التاريخ","اســـــــم العميـــــــل اســـــــم الشركــــــة","الوصف","تفاصيل السند / بيان الحركة","الحركـــــة",null,null,"الرصيد العام لحركات النقدية بالصندوق"]
[{"$f":"IF(B8=\"\",\"\",MAX($A$7:A7)+1)","v":1},{"$f":"IF(ROWS($A$1:A1)>COUNTIF(Main!$C$8:$C$100,$C$7),\"\",INDEX(Main!B$8:B$100,SMALL(IF(N(Main!B$8:B$100)<>0,IF(Main!$C$8:$C$100=$C$7,ROW(B$8:B$100)-ROW(B$8)+1)),ROWS($A$1:A1))))","v":250},{"$f":"IF(ROWS($A$1:B1)>COUNTIF(Main!$C$8:$C$100,$C$7),\"\",INDEX(Main!C$8:C$100,SMALL(IF(N(Main!C$8:C$100)<>0,IF(Main!$C$8:$C$100=$C$7,ROW(C$8:C$100)-ROW(C$8)+1)),ROWS($A$1:B1))))","v":1},{"$f":"IF(ROWS($A$1:C1)>COUNTIF(Main!$C$8:$C$100,$C$7),\"\",INDEX(Main!D$8:D$100,SMALL(IF(Main!D$8:D$100<>\"\",IF(Main!$C$8:$C$100=$C$7,ROW(D$8:D$100)-ROW(D$8)+1)),ROWS($A$1:C1))))","v":"قبض"},{"$f":"IF(ROWS($A$1:D1)>COUNTIF(Main!$C$8:$C$100,$C$7),\"\",INDEX(Main!E$8:E$100,SMALL(IF(N(Main!E$8:E$100)<>0,IF(Main!$C$8:$C$100=$C$7,ROW(E$8:E$100)-ROW(E$8)+1)),ROWS($A$1:D1))))","v":"2020-08-25"},{"$f":"IF(ROWS($A$1:E1)>COUNTIF(Main!$C$8:$C$100,$C$7),\"\",INDEX(Main!F$8:F$100,SMALL(IF(N(Main!F$8:F$100)<>0,IF(Main!$C$8:$C$100=$C$7,ROW(F$8:F$100)-ROW(F$8)+1)),ROWS($A$1:E1))))","v":"محمد احمد"},{"$f":"IF(ROWS($A$1:F1)>COUNTIF(Main!$C$8:$C$100,$C$7),\"\",INDEX(Main!G$8:G$100,SMALL(IF(Main!G$8:G$100<>\"\",IF(Main!$C$8:$C$100=$C$7,ROW(G$8:G$100)-ROW(G$8)+1)),ROWS($A$1:F1))))","v":"بضائع"},{"$f":"IF(ROWS($A$1:G1)>COUNTIF(Main!$C$8:$C$100,$C$7),\"\",INDEX(Main!H$8:H$100,SMALL(IF(N(Main!H$8:H$100)<>0,IF(Main!$C$8:$C$100=$C$7,ROW(H$8:H$100)-ROW(H$8)+1)),ROWS($A$1:G1))))","v":"شراؤ بضائع"},{"$f":"IF(ROWS($A$1:H1)>COUNTIF(Main!$C$8:$C$100,$C$7),\"\",INDEX(Main!I$8:I$100,SMALL(IF(N(Main!I$8:I$100)<>0,IF(Main!$C$8:$C$100=$C$7,ROW(I$8:I$100)-ROW(I$8)+1)),ROWS($A$1:H1))))","v":500},{"$f":"IF(ROWS($A$1:I1)>COUNTIF(Main!$C$8:$C$100,$C$7),\"\",INDEX(Main!J$8:J$100,SMALL(IF(N(Main!J$8:J$100)<>0,IF(Main!$C$8:$C$100=$C$7,ROW(J$8:J$100)-ROW(J$8)+1)),ROWS($A$1:I1))))","v":0},{"$f":"IF(ROWS($A$1:J1)>COUNTIF(Main!$C$8:$C$100,$C$7),\"\",INDEX(Main!K$8:K$100,SMALL(IF(N(Main!K$8:K$100)<>0,IF(Main!$C$8:$C$100=$C$7,ROW(K$8:K$100)-ROW(K$8)+1)),ROWS($A$1:J1))))","v":0},{"$f":"IF(ROWS($A$1:K1)>COUNTIF(Main!$C$8:$C$100,$C$7),\"\",INDEX(Main!L$8:L$100,SMALL(IF(N(Main!L$8:L$100)<>0,IF(Main!$C$8:$C$100=$C$7,ROW(L$8:L$100)-ROW(L$8)+1)),ROWS($A$1:K1))))","v":500}]
[{"$f":"IF(B9=\"\",\"\",MAX($A$7:A8)+1)","v":2},{"$f":"IF(ROWS($A$1:A2)>COUNTIF(Main!$C$8:$C$100,$C$7),\"\",INDEX(Main!B$8:B$100,SMALL(IF(N(Main!B$8:B$100)<>0,IF(Main!$C$8:$C$100=$C$7,ROW(B$8:B$100)-ROW(B$8)+1)),ROWS($A$1:A2))))","v":251},{"$f":"IF(ROWS($A$1:B2)>COUNTIF(Main!$C$8:$C$100,$C$7),\"\",INDEX(Main!C$8:C$100,SMALL(IF(N(Main!C$8:C$100)<>0,IF(Main!$C$8:$C$100=$C$7,ROW(C$8:C$100)-ROW(C$8)+1)),ROWS($A$1:B2))))","v":1},{"$f":"IF(ROWS($A$1:C2)>COUNTIF(Main!$C$8:$C$100,$C$7),\"\",INDEX(Main!D$8:D$100,SMALL(IF(Main!D$8:D$100<>\"\",IF(Main!$C$8:$C$100=$C$7,ROW(D$8:D$100)-ROW(D$8)+1)),ROWS($A$1:C2))))","v":"قبض"},{"$f":"IF(ROWS($A$1:D2)>COUNTIF(Main!$C$8:$C$100,$C$7),\"\",INDEX(Main!E$8:E$100,SMALL(IF(N(Main!E$8:E$100)<>0,IF(Main!$C$8:$C$100=$C$7,ROW(E$8:E$100)-ROW(E$8)+1)),ROWS($A$1:D2))))","v":"2020-08-26"},{"$f":"IF(ROWS($A$1:E2)>COUNTIF(Main!$C$8:$C$100,$C$7),\"\",INDEX(Main!F$8:F$100,SMALL(IF(Main!F$8:F$100<>\"\",IF(Main!$C$8:$C$100=$C$7,ROW(F$8:F$100)-ROW(F$8)+1)),ROWS($A$1:E2))))","v":"Officena"},{"$f":"IF(ROWS($A$1:F2)>COUNTIF(Main!$C$8:$C$100,$C$7),\"\",INDEX(Main!G$8:G$100,SMALL(IF(Main!G$8:G$100<>\"\",IF(Main!$C$8:$C$100=$C$7,ROW(G$8:G$100)-ROW(G$8)+1)),ROWS($A$1:F2))))","v":"بضائع"},{"$f":"IF(ROWS($A$1:G2)>COUNTIF(Main!$C$8:$C$100,$C$7),\"\",INDEX(Main!H$8:H$100,SMALL(IF(N(Main!H$8:H$100)<>0,IF(Main!$C$8:$C$100=$C$7,ROW(H$8:H$100)-ROW(H$8)+1)),ROWS($A$1:G2))))","v":{"$error":"#NUM!"}},{"$f":"IF(ROWS($A$1:H2)>COUNTIF(Main!$C$8:$C$100,$C$7),\"\",INDEX(Main!I$8:I$100,SMALL(IF(N(Main!I$8:I$100)<>0,IF(Main!$C$8:$C$100=$C$7,ROW(I$8:I$100)-ROW(I$8)+1)),ROWS($A$1:H2))))","v":501},{"$f":"IF(ROWS($A$1:I2)>COUNTIF(Main!$C$8:$C$100,$C$7),\"\",INDEX(Main!J$8:J$100,SMALL(IF(N(Main!J$8:J$100)<>0,IF(Main!$C$8:$C$100=$C$7,ROW(J$8:J$100)-ROW(J$8)+1)),ROWS($A$1:I2))))","v":{"$error":"#NUM!"}},{"$f":"IF(ROWS($A$1:J2)>COUNTIF(Main!$C$8:$C$100,$C$7),\"\",INDEX(Main!K$8:K$100,SMALL(IF(N(Main!K$8:K$100)<>0,IF(Main!$C$8:$C$100=$C$7,ROW(K$8:K$100)-ROW(K$8)+1)),ROWS($A$1:J2))))","v":{"$error":"#NUM!"}},{"$f":"IF(ROWS($A$1:K2)>COUNTIF(Main!$C$8:$C$100,$C$7),\"\",INDEX(Main!L$8:L$100,SMALL(IF(N(Main!L$8:L$100)<>0,IF(Main!$C$8:$C$100=$C$7,ROW(L$8:L$100)-ROW(L$8)+1)),ROWS($A$1:K2))))","v":501}]
[{"$f":"IF(B10=\"\",\"\",MAX($A$7:A9)+1)","v":3},{"$f":"IF(ROWS($A$1:A3)>COUNTIF(Main!$C$8:$C$100,$C$7),\"\",INDEX(Main!B$8:B$100,SMALL(IF(N(Main!B$8:B$100)<>0,IF(Main!$C$8:$C$100=$C$7,ROW(B$8:B$100)-ROW(B$8)+1)),ROWS($A$1:A3))))","v":252},{"$f":"IF(ROWS($A$1:B3)>COUNTIF(Main!$C$8:$C$100,$C$7),\"\",INDEX(Main!C$8:C$100,SMALL(IF(N(Main!C$8:C$100)<>0,IF(Main!$C$8:$C$100=$C$7,ROW(C$8:C$100)-ROW(C$8)+1)),ROWS($A$1:B3))))","v":1},{"$f":"IF(ROWS($A$1:C3)>COUNTIF(Main!$C$8:$C$100,$C$7),\"\",INDEX(Main!D$8:D$100,SMALL(IF(Main!D$8:D$100<>\"\",IF(Main!$C$8:$C$100=$C$7,ROW(D$8:D$100)-ROW(D$8)+1)),ROWS($A$1:C3))))","v":"قبض"},{"$f":"IF(ROWS($A$1:D3)>COUNTIF(Main!$C$8:$C$100,$C$7),\"\",INDEX(Main!E$8:E$100,SMALL(IF(N(Main!E$8:E$100)<>0,IF(Main!$C$8:$C$100=$C$7,ROW(E$8:E$100)-ROW(E$8)+1)),ROWS($A$1:D3))))","v":"2020-08-27"},{"$f":"IF(ROWS($A$1:E3)>COUNTIF(Main!$C$8:$C$100,$C$7),\"\",INDEX(Main!F$8:F$100,SMALL(IF(Main!F$8:F$100<>\"\",IF(Main!$C$8:$C$100=$C$7,ROW(F$8:F$100)-ROW(F$8)+1)),ROWS($A$1:E3))))","v":"محمد احمد"},{"$f":"IF(ROWS($A$1:F3)>COUNTIF(Main!$C$8:$C$100,$C$7),\"\",INDEX(Main!G$8:G$100,SMALL(IF(Main!G$8:G$100<>\"\",IF(Main!$C$8:$C$100=$C$7,ROW(G$8:G$100)-ROW(G$8)+1)),ROWS($A$1:F3))))","v":"بضائع"},{"$f":"IF(ROWS($A$1:G3)>COUNTIF(Main!$C$8:$C$100,$C$7),\"\",INDEX(Main!H$8:H$100,SMALL(IF(N(Main!H$8:H$100)<>0,IF(Main!$C$8:$C$100=$C$7,ROW(H$8:H$100)-ROW(H$8)+1)),ROWS($A$1:G3))))","v":{"$error":"#NUM!"}},{"$f":"IF(ROWS($A$1:H3)>COUNTIF(Main!$C$8:$C$100,$C$7),\"\",INDEX(Main!I$8:I$100,SMALL(IF(N(Main!I$8:I$100)<>0,IF(Main!$C$8:$C$100=$C$7,ROW(I$8:I$100)-ROW(I$8)+1)),ROWS($A$1:H3))))","v":502},{"$f":"IF(ROWS($A$1:I3)>COUNTIF(Main!$C$8:$C$100,$C$7),\"\",INDEX(Main!J$8:J$100,SMALL(IF(N(Main!J$8:J$100)<>0,IF(Main!$C$8:$C$100=$C$7,ROW(J$8:J$100)-ROW(J$8)+1)),ROWS($A$1:I3))))","v":{"$error":"#NUM!"}},{"$f":"IF(ROWS($A$1:J3)>COUNTIF(Main!$C$8:$C$100,$C$7),\"\",INDEX(Main!K$8:K$100,SMALL(IF(N(Main!K$8:K$100)<>0,IF(Main!$C$8:$C$100=$C$7,ROW(K$8:K$100)-ROW(K$8)+1)),ROWS($A$1:J3))))","v":{"$error":"#NUM!"}},{"$f":"IF(ROWS($A$1:K3)>COUNTIF(Main!$C$8:$C$100,$C$7),\"\",INDEX(Main!L$8:L$100,SMALL(IF(N(Main!L$8:L$100)<>0,IF(Main!$C$8:$C$100=$C$7,ROW(L$8:L$100)-ROW(L$8)+1)),ROWS($A$1:K3))))","v":502}]
[{"$f":"IF(B11=\"\",\"\",MAX($A$7:A10)+1)","v":4},{"$f":"IF(ROWS($A$1:A4)>COUNTIF(Main!$C$8:$C$100,$C$7),\"\",INDEX(Main!B$8:B$100,SMALL(IF(N(Main!B$8:B$100)<>0,IF(Main!$C$8:$C$100=$C$7,ROW(B$8:B$100)-ROW(B$8)+1)),ROWS($A$1:A4))))","v":253},{"$f":"IF(ROWS($A$1:B4)>COUNTIF(Main!$C$8:$C$100,$C$7),\"\",INDEX(Main!C$8:C$100,SMALL(IF(N(Main!C$8:C$100)<>0,IF(Main!$C$8:$C$100=$C$7,ROW(C$8:C$100)-ROW(C$8)+1)),ROWS($A$1:B4))))","v":1},{"$f":"IF(ROWS($A$1:C4)>COUNTIF(Main!$C$8:$C$100,$C$7),\"\",INDEX(Main!D$8:D$100,SMALL(IF(Main!D$8:D$100<>\"\",IF(Main!$C$8:$C$100=$C$7,ROW(D$8:D$100)-ROW(D$8)+1)),ROWS($A$1:C4))))","v":"قبض"},{"$f":"IF(ROWS($A$1:D4)>COUNTIF(Main!$C$8:$C$100,$C$7),\"\",INDEX(Main!E$8:E$100,SMALL(IF(N(Main!E$8:E$100)<>0,IF(Main!$C$8:$C$100=$C$7,ROW(E$8:E$100)-ROW(E$8)+1)),ROWS($A$1:D4))))","v":"2020-08-28"},{"$f":"IF(ROWS($A$1:E4)>COUNTIF(Main!$C$8:$C$100,$C$7),\"\",INDEX(Main!F$8:F$100,SMALL(IF(Main!F$8:F$100<>\"\",IF(Main!$C$8:$C$100=$C$7,ROW(F$8:F$100)-ROW(F$8)+1)),ROWS($A$1:E4))))","v":"محمد احمد"},{"$f":"IF(ROWS($A$1:F4)>COUNTIF(Main!$C$8:$C$100,$C$7),\"\",INDEX(Main!G$8:G$100,SMALL(IF(Main!G$8:G$100<>\"\",IF(Main!$C$8:$C$100=$C$7,ROW(G$8:G$100)-ROW(G$8)+1)),ROWS($A$1:F4))))","v":"بضائع"},{"$f":"IF(ROWS($A$1:G4)>COUNTIF(Main!$C$8:$C$100,$C$7),\"\",INDEX(Main!H$8:H$100,SMALL(IF(N(Main!H$8:H$100)<>0,IF(Main!$C$8:$C$100=$C$7,ROW(H$8:H$100)-ROW(H$8)+1)),ROWS($A$1:G4))))","v":{"$error":"#NUM!"}},{"$f":"IF(ROWS($A$1:H4)>COUNTIF(Main!$C$8:$C$100,$C$7),\"\",INDEX(Main!I$8:I$100,SMALL(IF(N(Main!I$8:I$100)<>0,IF(Main!$C$8:$C$100=$C$7,ROW(I$8:I$100)-ROW(I$8)+1)),ROWS($A$1:H4))))","v":503},{"$f":"IF(ROWS($A$1:I4)>COUNTIF(Main!$C$8:$C$100,$C$7),\"\",INDEX(Main!J$8:J$100,SMALL(IF(N(Main!J$8:J$100)<>0,IF(Main!$C$8:$C$100=$C$7,ROW(J$8:J$100)-ROW(J$8)+1)),ROWS($A$1:I4))))","v":{"$error":"#NUM!"}},{"$f":"IF(ROWS($A$1:J4)>COUNTIF(Main!$C$8:$C$100,$C$7),\"\",INDEX(Main!K$8:K$100,SMALL(IF(N(Main!K$8:K$100)<>0,IF(Main!$C$8:$C$100=$C$7,ROW(K$8:K$100)-ROW(K$8)+1)),ROWS($A$1:J4))))","v":{"$error":"#NUM!"}},{"$f":"IF(ROWS($A$1:K4)>COUNTIF(Main!$C$8:$C$100,$C$7),\"\",INDEX(Main!L$8:L$100,SMALL(IF(N(Main!L$8:L$100)<>0,IF(Main!$C$8:$C$100=$C$7,ROW(L$8:L$100)-ROW(L$8)+1)),ROWS($A$1:K4))))","v":503}]
[{"$f":"IF(B12=\"\",\"\",MAX($A$7:A11)+1)","v":5},{"$f":"IF(ROWS($A$1:A5)>COUNTIF(Main!$C$8:$C$100,$C$7),\"\",INDEX(Main!B$8:B$100,SMALL(IF(N(Main!B$8:B$100)<>0,IF(Main!$C$8:$C$100=$C$7,ROW(B$8:B$100)-ROW(B$8)+1)),ROWS($A$1:A5))))","v":254},{"$f":"IF(ROWS($A$1:B5)>COUNTIF(Main!$C$8:$C$100,$C$7),\"\",INDEX(Main!C$8:C$100,SMALL(IF(N(Main!C$8:C$100)<>0,IF(Main!$C$8:$C$100=$C$7,ROW(C$8:C$100)-ROW(C$8)+1)),ROWS($A$1:B5))))","v":1},{"$f":"IF(ROWS($A$1:C5)>COUNTIF(Main!$C$8:$C$100,$C$7),\"\",INDEX(Main!D$8:D$100,SMALL(IF(Main!D$8:D$100<>\"\",IF(Main!$C$8:$C$100=$C$7,ROW(D$8:D$100)-ROW(D$8)+1)),ROWS($A$1:C5))))","v":"قبض"},{"$f":"IF(ROWS($A$1:D5)>COUNTIF(Main!$C$8:$C$100,$C$7),\"\",INDEX(Main!E$8:E$100,SMALL(IF(N(Main!E$8:E$100)<>0,IF(Main!$C$8:$C$100=$C$7,ROW(E$8:E$100)-ROW(E$8)+1)),ROWS($A$1:D5))))","v":"2020-08-29"},{"$f":"IF(ROWS($A$1:E5)>COUNTIF(Main!$C$8:$C$100,$C$7),\"\",INDEX(Main!F$8:F$100,SMALL(IF(Main!F$8:F$100<>\"\",IF(Main!$C$8:$C$100=$C$7,ROW(F$8:F$100)-ROW(F$8)+1)),ROWS($A$1:E5))))","v":"محمد احمد"},{"$f":"IF(ROWS($A$1:F5)>COUNTIF(Main!$C$8:$C$100,$C$7),\"\",INDEX(Main!G$8:G$100,SMALL(IF(Main!G$8:G$100<>\"\",IF(Main!$C$8:$C$100=$C$7,ROW(G$8:G$100)-ROW(G$8)+1)),ROWS($A$1:F5))))","v":"بضائع"},{"$f":"IF(ROWS($A$1:G5)>COUNTIF(Main!$C$8:$C$100,$C$7),\"\",INDEX(Main!H$8:H$100,SMALL(IF(N(Main!H$8:H$100)<>0,IF(Main!$C$8:$C$100=$C$7,ROW(H$8:H$100)-ROW(H$8)+1)),ROWS($A$1:G5))))","v":{"$error":"#NUM!"}},{"$f":"IF(ROWS($A$1:H5)>COUNTIF(Main!$C$8:$C$100,$C$7),\"\",INDEX(Main!I$8:I$100,SMALL(IF(N(Main!I$8:I$100)<>0,IF(Main!$C$8:$C$100=$C$7,ROW(I$8:I$100)-ROW(I$8)+1)),ROWS($A$1:H5))))","v":504},{"$f":"IF(ROWS($A$1:I5)>COUNTIF(Main!$C$8:$C$100,$C$7),\"\",INDEX(Main!J$8:J$100,SMALL(IF(N(Main!J$8:J$100)<>0,IF(Main!$C$8:$C$100=$C$7,ROW(J$8:J$100)-ROW(J$8)+1)),ROWS($A$1:I5))))","v":{"$error":"#NUM!"}},{"$f":"IF(ROWS($A$1:J5)>COUNTIF(Main!$C$8:$C$100,$C$7),\"\",INDEX(Main!K$8:K$100,SMALL(IF(N(Main!K$8:K$100)<>0,IF(Main!$C$8:$C$100=$C$7,ROW(K$8:K$100)-ROW(K$8)+1)),ROWS($A$1:J5))))","v":{"$error":"#NUM!"}},{"$f":"IF(ROWS($A$1:K5)>COUNTIF(Main!$C$8:$C$100,$C$7),\"\",INDEX(Main!L$8:L$100,SMALL(IF(N(Main!L$8:L$100)<>0,IF(Main!$C$8:$C$100=$C$7,ROW(L$8:L$100)-ROW(L$8)+1)),ROWS($A$1:K5))))","v":504}]
[{"$f":"IF(B13=\"\",\"\",MAX($A$7:A12)+1)","v":6},{"$f":"IF(ROWS($A$1:A6)>COUNTIF(Main!$C$8:$C$100,$C$7),\"\",INDEX(Main!B$8:B$100,SMALL(IF(N(Main!B$8:B$100)<>0,IF(Main!$C$8:$C$100=$C$7,ROW(B$8:B$100)-ROW(B$8)+1)),ROWS($A$1:A6))))","v":255},{"$f":"IF(ROWS($A$1:B6)>COUNTIF(Main!$C$8:$C$100,$C$7),\"\",INDEX(Main!C$8:C$100,SMALL(IF(N(Main!C$8:C$100)<>0,IF(Main!$C$8:$C$100=$C$7,ROW(C$8:C$100)-ROW(C$8)+1)),ROWS($A$1:B6))))","v":1},{"$f":"IF(ROWS($A$1:C6)>COUNTIF(Main!$C$8:$C$100,$C$7),\"\",INDEX(Main!D$8:D$100,SMALL(IF(Main!D$8:D$100<>\"\",IF(Main!$C$8:$C$100=$C$7,ROW(D$8:D$100)-ROW(D$8)+1)),ROWS($A$1:C6))))","v":"قبض"},{"$f":"IF(ROWS($A$1:D6)>COUNTIF(Main!$C$8:$C$100,$C$7),\"\",INDEX(Main!E$8:E$100,SMALL(IF(N(Main!E$8:E$100)<>0,IF(Main!$C$8:$C$100=$C$7,ROW(E$8:E$100)-ROW(E$8)+1)),ROWS($A$1:D6))))","v":"2020-08-30"},{"$f":"IF(ROWS($A$1:E6)>COUNTIF(Main!$C$8:$C$100,$C$7),\"\",INDEX(Main!F$8:F$100,SMALL(IF(Main!F$8:F$100<>\"\",IF(Main!$C$8:$C$100=$C$7,ROW(F$8:F$100)-ROW(F$8)+1)),ROWS($A$1:E6))))","v":"محمد احمد"},{"$f":"IF(ROWS($A$1:F6)>COUNTIF(Main!$C$8:$C$100,$C$7),\"\",INDEX(Main!G$8:G$100,SMALL(IF(Main!G$8:G$100<>\"\",IF(Main!$C$8:$C$100=$C$7,ROW(G$8:G$100)-ROW(G$8)+1)),ROWS($A$1:F6))))","v":"بضائع"},{"$f":"IF(ROWS($A$1:G6)>COUNTIF(Main!$C$8:$C$100,$C$7),\"\",INDEX(Main!H$8:H$100,SMALL(IF(N(Main!H$8:H$100)<>0,IF(Main!$C$8:$C$100=$C$7,ROW(H$8:H$100)-ROW(H$8)+1)),ROWS($A$1:G6))))","v":{"$error":"#NUM!"}},{"$f":"IF(ROWS($A$1:H6)>COUNTIF(Main!$C$8:$C$100,$C$7),\"\",INDEX(Main!I$8:I$100,SMALL(IF(N(Main!I$8:I$100)<>0,IF(Main!$C$8:$C$100=$C$7,ROW(I$8:I$100)-ROW(I$8)+1)),ROWS($A$1:H6))))","v":505},{"$f":"IF(ROWS($A$1:I6)>COUNTIF(Main!$C$8:$C$100,$C$7),\"\",INDEX(Main!J$8:J$100,SMALL(IF(N(Main!J$8:J$100)<>0,IF(Main!$C$8:$C$100=$C$7,ROW(J$8:J$100)-ROW(J$8)+1)),ROWS($A$1:I6))))","v":{"$error":"#NUM!"}},{"$f":"IF(ROWS($A$1:J6)>COUNTIF(Main!$C$8:$C$100,$C$7),\"\",INDEX(Main!K$8:K$100,SMALL(IF(N(Main!K$8:K$100)<>0,IF(Main!$C$8:$C$100=$C$7,ROW(K$8:K$100)-ROW(K$8)+1)),ROWS($A$1:J6))))","v":{"$error":"#NUM!"}},{"$f":"IF(ROWS($A$1:K6)>COUNTIF(Main!$C$8:$C$100,$C$7),\"\",INDEX(Main!L$8:L$100,SMALL(IF(N(Main!L$8:L$100)<>0,IF(Main!$C$8:$C$100=$C$7,ROW(L$8:L$100)-ROW(L$8)+1)),ROWS($A$1:K6))))","v":505}]
[{"$f":"IF(B14=\"\",\"\",MAX($A$7:A13)+1)","v":""},{"$f":"IF(ROWS($A$1:A7)>COUNTIF(Main!$C$8:$C$100,$C$7),\"\",INDEX(Main!B$8:B$100,SMALL(IF(N(Main!B$8:B$100)<>0,IF(Main!$C$8:$C$100=$C$7,ROW(B$8:B$100)-ROW(B$8)+1)),ROWS($A$1:A7))))","v":""},{"$f":"IF(ROWS($A$1:B7)>COUNTIF(Main!$C$8:$C$100,$C$7),\"\",INDEX(Main!C$8:C$100,SMALL(IF(N(Main!C$8:C$100)<>0,IF(Main!$C$8:$C$100=$C$7,ROW(C$8:C$100)-ROW(C$8)+1)),ROWS($A$1:B7))))","v":""},{"$f":"IF(ROWS($A$1:C7)>COUNTIF(Main!$C$8:$C$100,$C$7),\"\",INDEX(Main!D$8:D$100,SMALL(IF(Main!D$8:D$100<>\"\",IF(Main!$C$8:$C$100=$C$7,ROW(D$8:D$100)-ROW(D$8)+1)),ROWS($A$1:C7))))","v":""},{"$f":"IF(ROWS($A$1:D7)>COUNTIF(Main!$C$8:$C$100,$C$7),\"\",INDEX(Main!E$8:E$100,SMALL(IF(N(Main!E$8:E$100)<>0,IF(Main!$C$8:$C$100=$C$7,ROW(E$8:E$100)-ROW(E$8)+1)),ROWS($A$1:D7))))","v":""},{"$f":"IF(ROWS($A$1:E7)>COUNTIF(Main!$C$8:$C$100,$C$7),\"\",INDEX(Main!F$8:F$100,SMALL(IF(Main!F$8:F$100<>\"\",IF(Main!$C$8:$C$100=$C$7,ROW(F$8:F$100)-ROW(F$8)+1)),ROWS($A$1:E7))))","v":""},{"$f":"IF(ROWS($A$1:F7)>COUNTIF(Main!$C$8:$C$100,$C$7),\"\",INDEX(Main!G$8:G$100,SMALL(IF(Main!G$8:G$100<>\"\",IF(Main!$C$8:$C$100=$C$7,ROW(G$8:G$100)-ROW(G$8)+1)),ROWS($A$1:F7))))","v":""},{"$f":"IF(ROWS($A$1:G7)>COUNTIF(Main!$C$8:$C$100,$C$7),\"\",INDEX(Main!H$8:H$100,SMALL(IF(N(Main!H$8:H$100)<>0,IF(Main!$C$8:$C$100=$C$7,ROW(H$8:H$100)-ROW(H$8)+1)),ROWS($A$1:G7))))","v":""},{"$f":"IF(ROWS($A$1:H7)>COUNTIF(Main!$C$8:$C$100,$C$7),\"\",INDEX(Main!I$8:I$100,SMALL(IF(N(Main!I$8:I$100)<>0,IF(Main!$C$8:$C$100=$C$7,ROW(I$8:I$100)-ROW(I$8)+1)),ROWS($A$1:H7))))","v":""},{"$f":"IF(ROWS($A$1:I7)>COUNTIF(Main!$C$8:$C$100,$C$7),\"\",INDEX(Main!J$8:J$100,SMALL(IF(N(Main!J$8:J$100)<>0,IF(Main!$C$8:$C$100=$C$7,ROW(J$8:J$100)-ROW(J$8)+1)),ROWS($A$1:I7))))","v":""},{"$f":"IF(ROWS($A$1:J7)>COUNTIF(Main!$C$8:$C$100,$C$7),\"\",INDEX(Main!K$8:K$100,SMALL(IF(N(Main!K$8:K$100)<>0,IF(Main!$C$8:$C$100=$C$7,ROW(K$8:K$100)-ROW(K$8)+1)),ROWS($A$1:J7))))","v":""},{"$f":"IF(ROWS($A$1:K7)>COUNTIF(Main!$C$8:$C$100,$C$7),\"\",INDEX(Main!L$8:L$100,SMALL(IF(N(Main!L$8:L$100)<>0,IF(Main!$C$8:$C$100=$C$7,ROW(L$8:L$100)-ROW(L$8)+1)),ROWS($A$1:K7))))","v":""}]
[{"$f":"IF(B15=\"\",\"\",MAX($A$7:A14)+1)","v":""},{"$f":"IF(ROWS($A$1:A8)>COUNTIF(Main!$C$8:$C$100,$C$7),\"\",INDEX(Main!B$8:B$100,SMALL(IF(N(Main!B$8:B$100)<>0,IF(Main!$C$8:$C$100=$C$7,ROW(B$8:B$100)-ROW(B$8)+1)),ROWS($A$1:A8))))","v":""},{"$f":"IF(ROWS($A$1:B8)>COUNTIF(Main!$C$8:$C$100,$C$7),\"\",INDEX(Main!C$8:C$100,SMALL(IF(N(Main!C$8:C$100)<>0,IF(Main!$C$8:$C$100=$C$7,ROW(C$8:C$100)-ROW(C$8)+1)),ROWS($A$1:B8))))","v":""},{"$f":"IF(ROWS($A$1:C8)>COUNTIF(Main!$C$8:$C$100,$C$7),\"\",INDEX(Main!D$8:D$100,SMALL(IF(Main!D$8:D$100<>\"\",IF(Main!$C$8:$C$100=$C$7,ROW(D$8:D$100)-ROW(D$8)+1)),ROWS($A$1:C8))))","v":""},{"$f":"IF(ROWS($A$1:D8)>COUNTIF(Main!$C$8:$C$100,$C$7),\"\",INDEX(Main!E$8:E$100,SMALL(IF(N(Main!E$8:E$100)<>0,IF(Main!$C$8:$C$100=$C$7,ROW(E$8:E$100)-ROW(E$8)+1)),ROWS($A$1:D8))))","v":""},{"$f":"IF(ROWS($A$1:E8)>COUNTIF(Main!$C$8:$C$100,$C$7),\"\",INDEX(Main!F$8:F$100,SMALL(IF(Main!F$8:F$100<>\"\",IF(Main!$C$8:$C$100=$C$7,ROW(F$8:F$100)-ROW(F$8)+1)),ROWS($A$1:E8))))","v":""},{"$f":"IF(ROWS($A$1:F8)>COUNTIF(Main!$C$8:$C$100,$C$7),\"\",INDEX(Main!G$8:G$100,SMALL(IF(Main!G$8:G$100<>\"\",IF(Main!$C$8:$C$100=$C$7,ROW(G$8:G$100)-ROW(G$8)+1)),ROWS($A$1:F8))))","v":""},{"$f":"IF(ROWS($A$1:G8)>COUNTIF(Main!$C$8:$C$100,$C$7),\"\",INDEX(Main!H$8:H$100,SMALL(IF(N(Main!H$8:H$100)<>0,IF(Main!$C$8:$C$100=$C$7,ROW(H$8:H$100)-ROW(H$8)+1)),ROWS($A$1:G8))))","v":""},{"$f":"IF(ROWS($A$1:H8)>COUNTIF(Main!$C$8:$C$100,$C$7),\"\",INDEX(Main!I$8:I$100,SMALL(IF(N(Main!I$8:I$100)<>0,IF(Main!$C$8:$C$100=$C$7,ROW(I$8:I$100)-ROW(I$8)+1)),ROWS($A$1:H8))))","v":""},{"$f":"IF(ROWS($A$1:I8)>COUNTIF(Main!$C$8:$C$100,$C$7),\"\",INDEX(Main!J$8:J$100,SMALL(IF(N(Main!J$8:J$100)<>0,IF(Main!$C$8:$C$100=$C$7,ROW(J$8:J$100)-ROW(J$8)+1)),ROWS($A$1:I8))))","v":""},{"$f":"IF(ROWS($A$1:J8)>COUNTIF(Main!$C$8:$C$100,$C$7),\"\",INDEX(Main!K$8:K$100,SMALL(IF(N(Main!K$8:K$100)<>0,IF(Main!$C$8:$C$100=$C$7,ROW(K$8:K$100)-ROW(K$8)+1)),ROWS($A$1:J8))))","v":""},{"$f":"IF(ROWS($A$1:K8)>COUNTIF(Main!$C$8:$C$100,$C$7),\"\",INDEX(Main!L$8:L$100,SMALL(IF(N(Main!L$8:L$100)<>0,IF(Main!$C$8:$C$100=$C$7,ROW(L$8:L$100)-ROW(L$8)+1)),ROWS($A$1:K8))))","v":""}]
[{"$f":"IF(B16=\"\",\"\",MAX($A$7:A15)+1)","v":""},{"$f":"IF(ROWS($A$1:A9)>COUNTIF(Main!$C$8:$C$100,$C$7),\"\",INDEX(Main!B$8:B$100,SMALL(IF(N(Main!B$8:B$100)<>0,IF(Main!$C$8:$C$100=$C$7,ROW(B$8:B$100)-ROW(B$8)+1)),ROWS($A$1:A9))))","v":""},{"$f":"IF(ROWS($A$1:B9)>COUNTIF(Main!$C$8:$C$100,$C$7),\"\",INDEX(Main!C$8:C$100,SMALL(IF(N(Main!C$8:C$100)<>0,IF(Main!$C$8:$C$100=$C$7,ROW(C$8:C$100)-ROW(C$8)+1)),ROWS($A$1:B9))))","v":""},{"$f":"IF(ROWS($A$1:C9)>COUNTIF(Main!$C$8:$C$100,$C$7),\"\",INDEX(Main!D$8:D$100,SMALL(IF(Main!D$8:D$100<>\"\",IF(Main!$C$8:$C$100=$C$7,ROW(D$8:D$100)-ROW(D$8)+1)),ROWS($A$1:C9))))","v":""},{"$f":"IF(ROWS($A$1:D9)>COUNTIF(Main!$C$8:$C$100,$C$7),\"\",INDEX(Main!E$8:E$100,SMALL(IF(N(Main!E$8:E$100)<>0,IF(Main!$C$8:$C$100=$C$7,ROW(E$8:E$100)-ROW(E$8)+1)),ROWS($A$1:D9))))","v":""},{"$f":"IF(ROWS($A$1:E9)>COUNTIF(Main!$C$8:$C$100,$C$7),\"\",INDEX(Main!F$8:F$100,SMALL(IF(Main!F$8:F$100<>\"\",IF(Main!$C$8:$C$100=$C$7,ROW(F$8:F$100)-ROW(F$8)+1)),ROWS($A$1:E9))))","v":""},{"$f":"IF(ROWS($A$1:F9)>COUNTIF(Main!$C$8:$C$100,$C$7),\"\",INDEX(Main!G$8:G$100,SMALL(IF(Main!G$8:G$100<>\"\",IF(Main!$C$8:$C$100=$C$7,ROW(G$8:G$100)-ROW(G$8)+1)),ROWS($A$1:F9))))","v":""},{"$f":"IF(ROWS($A$1:G9)>COUNTIF(Main!$C$8:$C$100,$C$7),\"\",INDEX(Main!H$8:H$100,SMALL(IF(N(Main!H$8:H$100)<>0,IF(Main!$C$8:$C$100=$C$7,ROW(H$8:H$100)-ROW(H$8)+1)),ROWS($A$1:G9))))","v":""},{"$f":"IF(ROWS($A$1:H9)>COUNTIF(Main!$C$8:$C$100,$C$7),\"\",INDEX(Main!I$8:I$100,SMALL(IF(N(Main!I$8:I$100)<>0,IF(Main!$C$8:$C$100=$C$7,ROW(I$8:I$100)-ROW(I$8)+1)),ROWS($A$1:H9))))","v":""},{"$f":"IF(ROWS($A$1:I9)>COUNTIF(Main!$C$8:$C$100,$C$7),\"\",INDEX(Main!J$8:J$100,SMALL(IF(N(Main!J$8:J$100)<>0,IF(Main!$C$8:$C$100=$C$7,ROW(J$8:J$100)-ROW(J$8)+1)),ROWS($A$1:I9))))","v":""},{"$f":"IF(ROWS($A$1:J9)>COUNTIF(Main!$C$8:$C$100,$C$7),\"\",INDEX(Main!K$8:K$100,SMALL(IF(N(Main!K$8:K$100)<>0,IF(Main!$C$8:$C$100=$C$7,ROW(K$8:K$100)-ROW(K$8)+1)),ROWS($A$1:J9))))","v":""},{"$f":"IF(ROWS($A$1:K9)>COUNTIF(Main!$C$8:$C$100,$C$7),\"\",INDEX(Main!L$8:L$100,SMALL(IF(N(Main!L$8:L$100)<>0,IF(Main!$C$8:$C$100=$C$7,ROW(L$8:L$100)-ROW(L$8)+1)),ROWS($A$1:K9))))","v":""}]
[{"$f":"IF(B17=\"\",\"\",MAX($A$7:A16)+1)","v":""},{"$f":"IF(ROWS($A$1:A10)>COUNTIF(Main!$C$8:$C$100,$C$7),\"\",INDEX(Main!B$8:B$100,SMALL(IF(N(Main!B$8:B$100)<>0,IF(Main!$C$8:$C$100=$C$7,ROW(B$8:B$100)-ROW(B$8)+1)),ROWS($A$1:A10))))","v":""},{"$f":"IF(ROWS($A$1:B10)>COUNTIF(Main!$C$8:$C$100,$C$7),\"\",INDEX(Main!C$8:C$100,SMALL(IF(N(Main!C$8:C$100)<>0,IF(Main!$C$8:$C$100=$C$7,ROW(C$8:C$100)-ROW(C$8)+1)),ROWS($A$1:B10))))","v":""},{"$f":"IF(ROWS($A$1:C10)>COUNTIF(Main!$C$8:$C$100,$C$7),\"\",INDEX(Main!D$8:D$100,SMALL(IF(Main!D$8:D$100<>\"\",IF(Main!$C$8:$C$100=$C$7,ROW(D$8:D$100)-ROW(D$8)+1)),ROWS($A$1:C10))))","v":""},{"$f":"IF(ROWS($A$1:D10)>COUNTIF(Main!$C$8:$C$100,$C$7),\"\",INDEX(Main!E$8:E$100,SMALL(IF(N(Main!E$8:E$100)<>0,IF(Main!$C$8:$C$100=$C$7,ROW(E$8:E$100)-ROW(E$8)+1)),ROWS($A$1:D10))))","v":""},{"$f":"IF(ROWS($A$1:E10)>COUNTIF(Main!$C$8:$C$100,$C$7),\"\",INDEX(Main!F$8:F$100,SMALL(IF(Main!F$8:F$100<>\"\",IF(Main!$C$8:$C$100=$C$7,ROW(F$8:F$100)-ROW(F$8)+1)),ROWS($A$1:E10))))","v":""},{"$f":"IF(ROWS($A$1:F10)>COUNTIF(Main!$C$8:$C$100,$C$7),\"\",INDEX(Main!G$8:G$100,SMALL(IF(Main!G$8:G$100<>\"\",IF(Main!$C$8:$C$100=$C$7,ROW(G$8:G$100)-ROW(G$8)+1)),ROWS($A$1:F10))))","v":""},{"$f":"IF(ROWS($A$1:G10)>COUNTIF(Main!$C$8:$C$100,$C$7),\"\",INDEX(Main!H$8:H$100,SMALL(IF(N(Main!H$8:H$100)<>0,IF(Main!$C$8:$C$100=$C$7,ROW(H$8:H$100)-ROW(H$8)+1)),ROWS($A$1:G10))))","v":""},{"$f":"IF(ROWS($A$1:H10)>COUNTIF(Main!$C$8:$C$100,$C$7),\"\",INDEX(Main!I$8:I$100,SMALL(IF(N(Main!I$8:I$100)<>0,IF(Main!$C$8:$C$100=$C$7,ROW(I$8:I$100)-ROW(I$8)+1)),ROWS($A$1:H10))))","v":""},{"$f":"IF(ROWS($A$1:I10)>COUNTIF(Main!$C$8:$C$100,$C$7),\"\",INDEX(Main!J$8:J$100,SMALL(IF(N(Main!J$8:J$100)<>0,IF(Main!$C$8:$C$100=$C$7,ROW(J$8:J$100)-ROW(J$8)+1)),ROWS($A$1:I10))))","v":""},{"$f":"IF(ROWS($A$1:J10)>COUNTIF(Main!$C$8:$C$100,$C$7),\"\",INDEX(Main!K$8:K$100,SMALL(IF(N(Main!K$8:K$100)<>0,IF(Main!$C$8:$C$100=$C$7,ROW(K$8:K$100)-ROW(K$8)+1)),ROWS($A$1:J10))))","v":""},{"$f":"IF(ROWS($A$1:K10)>COUNTIF(Main!$C$8:$C$100,$C$7),\"\",INDEX(Main!L$8:L$100,SMALL(IF(N(Main!L$8:L$100)<>0,IF(Main!$C$8:$C$100=$C$7,ROW(L$8:L$100)-ROW(L$8)+1)),ROWS($A$1:K10))))","v":""}]
[{"$f":"IF(B18=\"\",\"\",MAX($A$7:A17)+1)","v":""},{"$f":"IF(ROWS($A$1:A11)>COUNTIF(Main!$C$8:$C$100,$C$7),\"\",INDEX(Main!B$8:B$100,SMALL(IF(N(Main!B$8:B$100)<>0,IF(Main!$C$8:$C$100=$C$7,ROW(B$8:B$100)-ROW(B$8)+1)),ROWS($A$1:A11))))","v":""},{"$f":"IF(ROWS($A$1:B11)>COUNTIF(Main!$C$8:$C$100,$C$7),\"\",INDEX(Main!C$8:C$100,SMALL(IF(N(Main!C$8:C$100)<>0,IF(Main!$C$8:$C$100=$C$7,ROW(C$8:C$100)-ROW(C$8)+1)),ROWS($A$1:B11))))","v":""},{"$f":"IF(ROWS($A$1:C11)>COUNTIF(Main!$C$8:$C$100,$C$7),\"\",INDEX(Main!D$8:D$100,SMALL(IF(Main!D$8:D$100<>\"\",IF(Main!$C$8:$C$100=$C$7,ROW(D$8:D$100)-ROW(D$8)+1)),ROWS($A$1:C11))))","v":""},{"$f":"IF(ROWS($A$1:D11)>COUNTIF(Main!$C$8:$C$100,$C$7),\"\",INDEX(Main!E$8:E$100,SMALL(IF(N(Main!E$8:E$100)<>0,IF(Main!$C$8:$C$100=$C$7,ROW(E$8:E$100)-ROW(E$8)+1)),ROWS($A$1:D11))))","v":""},{"$f":"IF(ROWS($A$1:E11)>COUNTIF(Main!$C$8:$C$100,$C$7),\"\",INDEX(Main!F$8:F$100,SMALL(IF(Main!F$8:F$100<>\"\",IF(Main!$C$8:$C$100=$C$7,ROW(F$8:F$100)-ROW(F$8)+1)),ROWS($A$1:E11))))","v":""},{"$f":"IF(ROWS($A$1:F11)>COUNTIF(Main!$C$8:$C$100,$C$7),\"\",INDEX(Main!G$8:G$100,SMALL(IF(Main!G$8:G$100<>\"\",IF(Main!$C$8:$C$100=$C$7,ROW(G$8:G$100)-ROW(G$8)+1)),ROWS($A$1:F11))))","v":""},{"$f":"IF(ROWS($A$1:G11)>COUNTIF(Main!$C$8:$C$100,$C$7),\"\",INDEX(Main!H$8:H$100,SMALL(IF(N(Main!H$8:H$100)<>0,IF(Main!$C$8:$C$100=$C$7,ROW(H$8:H$100)-ROW(H$8)+1)),ROWS($A$1:G11))))","v":""},{"$f":"IF(ROWS($A$1:H11)>COUNTIF(Main!$C$8:$C$100,$C$7),\"\",INDEX(Main!I$8:I$100,SMALL(IF(N(Main!I$8:I$100)<>0,IF(Main!$C$8:$C$100=$C$7,ROW(I$8:I$100)-ROW(I$8)+1)),ROWS($A$1:H11))))","v":""},{"$f":"IF(ROWS($A$1:I11)>COUNTIF(Main!$C$8:$C$100,$C$7),\"\",INDEX(Main!J$8:J$100,SMALL(IF(N(Main!J$8:J$100)<>0,IF(Main!$C$8:$C$100=$C$7,ROW(J$8:J$100)-ROW(J$8)+1)),ROWS($A$1:I11))))","v":""},{"$f":"IF(ROWS($A$1:J11)>COUNTIF(Main!$C$8:$C$100,$C$7),\"\",INDEX(Main!K$8:K$100,SMALL(IF(N(Main!K$8:K$100)<>0,IF(Main!$C$8:$C$100=$C$7,ROW(K$8:K$100)-ROW(K$8)+1)),ROWS($A$1:J11))))","v":""},{"$f":"IF(ROWS($A$1:K11)>COUNTIF(Main!$C$8:$C$100,$C$7),\"\",INDEX(Main!L$8:L$100,SMALL(IF(N(Main!L$8:L$100)<>0,IF(Main!$C$8:$C$100=$C$7,ROW(L$8:L$100)-ROW(L$8)+1)),ROWS($A$1:K11))))","v":""}]
[{"$f":"IF(B19=\"\",\"\",MAX($A$7:A18)+1)","v":""},{"$f":"IF(ROWS($A$1:A12)>COUNTIF(Main!$C$8:$C$100,$C$7),\"\",INDEX(Main!B$8:B$100,SMALL(IF(N(Main!B$8:B$100)<>0,IF(Main!$C$8:$C$100=$C$7,ROW(B$8:B$100)-ROW(B$8)+1)),ROWS($A$1:A12))))","v":""},{"$f":"IF(ROWS($A$1:B12)>COUNTIF(Main!$C$8:$C$100,$C$7),\"\",INDEX(Main!C$8:C$100,SMALL(IF(N(Main!C$8:C$100)<>0,IF(Main!$C$8:$C$100=$C$7,ROW(C$8:C$100)-ROW(C$8)+1)),ROWS($A$1:B12))))","v":""},{"$f":"IF(ROWS($A$1:C12)>COUNTIF(Main!$C$8:$C$100,$C$7),\"\",INDEX(Main!D$8:D$100,SMALL(IF(Main!D$8:D$100<>\"\",IF(Main!$C$8:$C$100=$C$7,ROW(D$8:D$100)-ROW(D$8)+1)),ROWS($A$1:C12))))","v":""},{"$f":"IF(ROWS($A$1:D12)>COUNTIF(Main!$C$8:$C$100,$C$7),\"\",INDEX(Main!E$8:E$100,SMALL(IF(N(Main!E$8:E$100)<>0,IF(Main!$C$8:$C$100=$C$7,ROW(E$8:E$100)-ROW(E$8)+1)),ROWS($A$1:D12))))","v":""},{"$f":"IF(ROWS($A$1:E12)>COUNTIF(Main!$C$8:$C$100,$C$7),\"\",INDEX(Main!F$8:F$100,SMALL(IF(Main!F$8:F$100<>\"\",IF(Main!$C$8:$C$100=$C$7,ROW(F$8:F$100)-ROW(F$8)+1)),ROWS($A$1:E12))))","v":""},{"$f":"IF(ROWS($A$1:F12)>COUNTIF(Main!$C$8:$C$100,$C$7),\"\",INDEX(Main!G$8:G$100,SMALL(IF(Main!G$8:G$100<>\"\",IF(Main!$C$8:$C$100=$C$7,ROW(G$8:G$100)-ROW(G$8)+1)),ROWS($A$1:F12))))","v":""},{"$f":"IF(ROWS($A$1:G12)>COUNTIF(Main!$C$8:$C$100,$C$7),\"\",INDEX(Main!H$8:H$100,SMALL(IF(N(Main!H$8:H$100)<>0,IF(Main!$C$8:$C$100=$C$7,ROW(H$8:H$100)-ROW(H$8)+1)),ROWS($A$1:G12))))","v":""},{"$f":"IF(ROWS($A$1:H12)>COUNTIF(Main!$C$8:$C$100,$C$7),\"\",INDEX(Main!I$8:I$100,SMALL(IF(N(Main!I$8:I$100)<>0,IF(Main!$C$8:$C$100=$C$7,ROW(I$8:I$100)-ROW(I$8)+1)),ROWS($A$1:H12))))","v":""},{"$f":"IF(ROWS($A$1:I12)>COUNTIF(Main!$C$8:$C$100,$C$7),\"\",INDEX(Main!J$8:J$100,SMALL(IF(N(Main!J$8:J$100)<>0,IF(Main!$C$8:$C$100=$C$7,ROW(J$8:J$100)-ROW(J$8)+1)),ROWS($A$1:I12))))","v":""},{"$f":"IF(ROWS($A$1:J12)>COUNTIF(Main!$C$8:$C$100,$C$7),\"\",INDEX(Main!K$8:K$100,SMALL(IF(N(Main!K$8:K$100)<>0,IF(Main!$C$8:$C$100=$C$7,ROW(K$8:K$100)-ROW(K$8)+1)),ROWS($A$1:J12))))","v":""},{"$f":"IF(ROWS($A$1:K12)>COUNTIF(Main!$C$8:$C$100,$C$7),\"\",INDEX(Main!L$8:L$100,SMALL(IF(N(Main!L$8:L$100)<>0,IF(Main!$C$8:$C$100=$C$7,ROW(L$8:L$100)-ROW(L$8)+1)),ROWS($A$1:K12))))","v":""}]
[{"$f":"IF(B20=\"\",\"\",MAX($A$7:A19)+1)","v":""},{"$f":"IF(ROWS($A$1:A13)>COUNTIF(Main!$C$8:$C$100,$C$7),\"\",INDEX(Main!B$8:B$100,SMALL(IF(N(Main!B$8:B$100)<>0,IF(Main!$C$8:$C$100=$C$7,ROW(B$8:B$100)-ROW(B$8)+1)),ROWS($A$1:A13))))","v":""},{"$f":"IF(ROWS($A$1:B13)>COUNTIF(Main!$C$8:$C$100,$C$7),\"\",INDEX(Main!C$8:C$100,SMALL(IF(N(Main!C$8:C$100)<>0,IF(Main!$C$8:$C$100=$C$7,ROW(C$8:C$100)-ROW(C$8)+1)),ROWS($A$1:B13))))","v":""},{"$f":"IF(ROWS($A$1:C13)>COUNTIF(Main!$C$8:$C$100,$C$7),\"\",INDEX(Main!D$8:D$100,SMALL(IF(Main!D$8:D$100<>\"\",IF(Main!$C$8:$C$100=$C$7,ROW(D$8:D$100)-ROW(D$8)+1)),ROWS($A$1:C13))))","v":""},{"$f":"IF(ROWS($A$1:D13)>COUNTIF(Main!$C$8:$C$100,$C$7),\"\",INDEX(Main!E$8:E$100,SMALL(IF(N(Main!E$8:E$100)<>0,IF(Main!$C$8:$C$100=$C$7,ROW(E$8:E$100)-ROW(E$8)+1)),ROWS($A$1:D13))))","v":""},{"$f":"IF(ROWS($A$1:E13)>COUNTIF(Main!$C$8:$C$100,$C$7),\"\",INDEX(Main!F$8:F$100,SMALL(IF(Main!F$8:F$100<>\"\",IF(Main!$C$8:$C$100=$C$7,ROW(F$8:F$100)-ROW(F$8)+1)),ROWS($A$1:E13))))","v":""},{"$f":"IF(ROWS($A$1:F13)>COUNTIF(Main!$C$8:$C$100,$C$7),\"\",INDEX(Main!G$8:G$100,SMALL(IF(Main!G$8:G$100<>\"\",IF(Main!$C$8:$C$100=$C$7,ROW(G$8:G$100)-ROW(G$8)+1)),ROWS($A$1:F13))))","v":""},{"$f":"IF(ROWS($A$1:G13)>COUNTIF(Main!$C$8:$C$100,$C$7),\"\",INDEX(Main!H$8:H$100,SMALL(IF(N(Main!H$8:H$100)<>0,IF(Main!$C$8:$C$100=$C$7,ROW(H$8:H$100)-ROW(H$8)+1)),ROWS($A$1:G13))))","v":""},{"$f":"IF(ROWS($A$1:H13)>COUNTIF(Main!$C$8:$C$100,$C$7),\"\",INDEX(Main!I$8:I$100,SMALL(IF(N(Main!I$8:I$100)<>0,IF(Main!$C$8:$C$100=$C$7,ROW(I$8:I$100)-ROW(I$8)+1)),ROWS($A$1:H13))))","v":""},{"$f":"IF(ROWS($A$1:I13)>COUNTIF(Main!$C$8:$C$100,$C$7),\"\",INDEX(Main!J$8:J$100,SMALL(IF(N(Main!J$8:J$100)<>0,IF(Main!$C$8:$C$100=$C$7,ROW(J$8:J$100)-ROW(J$8)+1)),ROWS($A$1:I13))))","v":""},{"$f":"IF(ROWS($A$1:J13)>COUNTIF(Main!$C$8:$C$100,$C$7),\"\",INDEX(Main!K$8:K$100,SMALL(IF(N(Main!K$8:K$100)<>0,IF(Main!$C$8:$C$100=$C$7,ROW(K$8:K$100)-ROW(K$8)+1)),ROWS($A$1:J13))))","v":""},{"$f":"IF(ROWS($A$1:K13)>COUNTIF(Main!$C$8:$C$100,$C$7),\"\",INDEX(Main!L$8:L$100,SMALL(IF(N(Main!L$8:L$100)<>0,IF(Main!$C$8:$C$100=$C$7,ROW(L$8:L$100)-ROW(L$8)+1)),ROWS($A$1:K13))))","v":""}]
[{"$f":"IF(B21=\"\",\"\",MAX($A$7:A20)+1)","v":""},{"$f":"IF(ROWS($A$1:A14)>COUNTIF(Main!$C$8:$C$100,$C$7),\"\",INDEX(Main!B$8:B$100,SMALL(IF(N(Main!B$8:B$100)<>0,IF(Main!$C$8:$C$100=$C$7,ROW(B$8:B$100)-ROW(B$8)+1)),ROWS($A$1:A14))))","v":""},{"$f":"IF(ROWS($A$1:B14)>COUNTIF(Main!$C$8:$C$100,$C$7),\"\",INDEX(Main!C$8:C$100,SMALL(IF(N(Main!C$8:C$100)<>0,IF(Main!$C$8:$C$100=$C$7,ROW(C$8:C$100)-ROW(C$8)+1)),ROWS($A$1:B14))))","v":""},{"$f":"IF(ROWS($A$1:C14)>COUNTIF(Main!$C$8:$C$100,$C$7),\"\",INDEX(Main!D$8:D$100,SMALL(IF(Main!D$8:D$100<>\"\",IF(Main!$C$8:$C$100=$C$7,ROW(D$8:D$100)-ROW(D$8)+1)),ROWS($A$1:C14))))","v":""},{"$f":"IF(ROWS($A$1:D14)>COUNTIF(Main!$C$8:$C$100,$C$7),\"\",INDEX(Main!E$8:E$100,SMALL(IF(N(Main!E$8:E$100)<>0,IF(Main!$C$8:$C$100=$C$7,ROW(E$8:E$100)-ROW(E$8)+1)),ROWS($A$1:D14))))","v":""},{"$f":"IF(ROWS($A$1:E14)>COUNTIF(Main!$C$8:$C$100,$C$7),\"\",INDEX(Main!F$8:F$100,SMALL(IF(Main!F$8:F$100<>\"\",IF(Main!$C$8:$C$100=$C$7,ROW(F$8:F$100)-ROW(F$8)+1)),ROWS($A$1:E14))))","v":""},{"$f":"IF(ROWS($A$1:F14)>COUNTIF(Main!$C$8:$C$100,$C$7),\"\",INDEX(Main!G$8:G$100,SMALL(IF(Main!G$8:G$100<>\"\",IF(Main!$C$8:$C$100=$C$7,ROW(G$8:G$100)-ROW(G$8)+1)),ROWS($A$1:F14))))","v":""},{"$f":"IF(ROWS($A$1:G14)>COUNTIF(Main!$C$8:$C$100,$C$7),\"\",INDEX(Main!H$8:H$100,SMALL(IF(N(Main!H$8:H$100)<>0,IF(Main!$C$8:$C$100=$C$7,ROW(H$8:H$100)-ROW(H$8)+1)),ROWS($A$1:G14))))","v":""},{"$f":"IF(ROWS($A$1:H14)>COUNTIF(Main!$C$8:$C$100,$C$7),\"\",INDEX(Main!I$8:I$100,SMALL(IF(N(Main!I$8:I$100)<>0,IF(Main!$C$8:$C$100=$C$7,ROW(I$8:I$100)-ROW(I$8)+1)),ROWS($A$1:H14))))","v":""},{"$f":"IF(ROWS($A$1:I14)>COUNTIF(Main!$C$8:$C$100,$C$7),\"\",INDEX(Main!J$8:J$100,SMALL(IF(N(Main!J$8:J$100)<>0,IF(Main!$C$8:$C$100=$C$7,ROW(J$8:J$100)-ROW(J$8)+1)),ROWS($A$1:I14))))","v":""},{"$f":"IF(ROWS($A$1:J14)>COUNTIF(Main!$C$8:$C$100,$C$7),\"\",INDEX(Main!K$8:K$100,SMALL(IF(N(Main!K$8:K$100)<>0,IF(Main!$C$8:$C$100=$C$7,ROW(K$8:K$100)-ROW(K$8)+1)),ROWS($A$1:J14))))","v":""},{"$f":"IF(ROWS($A$1:K14)>COUNTIF(Main!$C$8:$C$100,$C$7),\"\",INDEX(Main!L$8:L$100,SMALL(IF(N(Main!L$8:L$100)<>0,IF(Main!$C$8:$C$100=$C$7,ROW(L$8:L$100)-ROW(L$8)+1)),ROWS($A$1:K14))))","v":""}]
[{"$f":"IF(B22=\"\",\"\",MAX($A$7:A21)+1)","v":""},{"$f":"IF(ROWS($A$1:A15)>COUNTIF(Main!$C$8:$C$100,$C$7),\"\",INDEX(Main!B$8:B$100,SMALL(IF(N(Main!B$8:B$100)<>0,IF(Main!$C$8:$C$100=$C$7,ROW(B$8:B$100)-ROW(B$8)+1)),ROWS($A$1:A15))))","v":""},{"$f":"IF(ROWS($A$1:B15)>COUNTIF(Main!$C$8:$C$100,$C$7),\"\",INDEX(Main!C$8:C$100,SMALL(IF(N(Main!C$8:C$100)<>0,IF(Main!$C$8:$C$100=$C$7,ROW(C$8:C$100)-ROW(C$8)+1)),ROWS($A$1:B15))))","v":""},{"$f":"IF(ROWS($A$1:C15)>COUNTIF(Main!$C$8:$C$100,$C$7),\"\",INDEX(Main!D$8:D$100,SMALL(IF(Main!D$8:D$100<>\"\",IF(Main!$C$8:$C$100=$C$7,ROW(D$8:D$100)-ROW(D$8)+1)),ROWS($A$1:C15))))","v":""},{"$f":"IF(ROWS($A$1:D15)>COUNTIF(Main!$C$8:$C$100,$C$7),\"\",INDEX(Main!E$8:E$100,SMALL(IF(N(Main!E$8:E$100)<>0,IF(Main!$C$8:$C$100=$C$7,ROW(E$8:E$100)-ROW(E$8)+1)),ROWS($A$1:D15))))","v":""},{"$f":"IF(ROWS($A$1:E15)>COUNTIF(Main!$C$8:$C$100,$C$7),\"\",INDEX(Main!F$8:F$100,SMALL(IF(Main!F$8:F$100<>\"\",IF(Main!$C$8:$C$100=$C$7,ROW(F$8:F$100)-ROW(F$8)+1)),ROWS($A$1:E15))))","v":""},{"$f":"IF(ROWS($A$1:F15)>COUNTIF(Main!$C$8:$C$100,$C$7),\"\",INDEX(Main!G$8:G$100,SMALL(IF(Main!G$8:G$100<>\"\",IF(Main!$C$8:$C$100=$C$7,ROW(G$8:G$100)-ROW(G$8)+1)),ROWS($A$1:F15))))","v":""},{"$f":"IF(ROWS($A$1:G15)>COUNTIF(Main!$C$8:$C$100,$C$7),\"\",INDEX(Main!H$8:H$100,SMALL(IF(N(Main!H$8:H$100)<>0,IF(Main!$C$8:$C$100=$C$7,ROW(H$8:H$100)-ROW(H$8)+1)),ROWS($A$1:G15))))","v":""},{"$f":"IF(ROWS($A$1:H15)>COUNTIF(Main!$C$8:$C$100,$C$7),\"\",INDEX(Main!I$8:I$100,SMALL(IF(N(Main!I$8:I$100)<>0,IF(Main!$C$8:$C$100=$C$7,ROW(I$8:I$100)-ROW(I$8)+1)),ROWS($A$1:H15))))","v":""},{"$f":"IF(ROWS($A$1:I15)>COUNTIF(Main!$C$8:$C$100,$C$7),\"\",INDEX(Main!J$8:J$100,SMALL(IF(N(Main!J$8:J$100)<>0,IF(Main!$C$8:$C$100=$C$7,ROW(J$8:J$100)-ROW(J$8)+1)),ROWS($A$1:I15))))","v":""},{"$f":"IF(ROWS($A$1:J15)>COUNTIF(Main!$C$8:$C$100,$C$7),\"\",INDEX(Main!K$8:K$100,SMALL(IF(N(Main!K$8:K$100)<>0,IF(Main!$C$8:$C$100=$C$7,ROW(K$8:K$100)-ROW(K$8)+1)),ROWS($A$1:J15))))","v":""},{"$f":"IF(ROWS($A$1:K15)>COUNTIF(Main!$C$8:$C$100,$C$7),\"\",INDEX(Main!L$8:L$100,SMALL(IF(N(Main!L$8:L$100)<>0,IF(Main!$C$8:$C$100=$C$7,ROW(L$8:L$100)-ROW(L$8)+1)),ROWS($A$1:K15))))","v":""}]
[{"$f":"IF(B23=\"\",\"\",MAX($A$7:A22)+1)","v":""},{"$f":"IF(ROWS($A$1:A16)>COUNTIF(Main!$C$8:$C$100,$C$7),\"\",INDEX(Main!B$8:B$100,SMALL(IF(N(Main!B$8:B$100)<>0,IF(Main!$C$8:$C$100=$C$7,ROW(B$8:B$100)-ROW(B$8)+1)),ROWS($A$1:A16))))","v":""},{"$f":"IF(ROWS($A$1:B16)>COUNTIF(Main!$C$8:$C$100,$C$7),\"\",INDEX(Main!C$8:C$100,SMALL(IF(N(Main!C$8:C$100)<>0,IF(Main!$C$8:$C$100=$C$7,ROW(C$8:C$100)-ROW(C$8)+1)),ROWS($A$1:B16))))","v":""},{"$f":"IF(ROWS($A$1:C16)>COUNTIF(Main!$C$8:$C$100,$C$7),\"\",INDEX(Main!D$8:D$100,SMALL(IF(Main!D$8:D$100<>\"\",IF(Main!$C$8:$C$100=$C$7,ROW(D$8:D$100)-ROW(D$8)+1)),ROWS($A$1:C16))))","v":""},{"$f":"IF(ROWS($A$1:D16)>COUNTIF(Main!$C$8:$C$100,$C$7),\"\",INDEX(Main!E$8:E$100,SMALL(IF(N(Main!E$8:E$100)<>0,IF(Main!$C$8:$C$100=$C$7,ROW(E$8:E$100)-ROW(E$8)+1)),ROWS($A$1:D16))))","v":""},{"$f":"IF(ROWS($A$1:E16)>COUNTIF(Main!$C$8:$C$100,$C$7),\"\",INDEX(Main!F$8:F$100,SMALL(IF(Main!F$8:F$100<>\"\",IF(Main!$C$8:$C$100=$C$7,ROW(F$8:F$100)-ROW(F$8)+1)),ROWS($A$1:E16))))","v":""},{"$f":"IF(ROWS($A$1:F16)>COUNTIF(Main!$C$8:$C$100,$C$7),\"\",INDEX(Main!G$8:G$100,SMALL(IF(Main!G$8:G$100<>\"\",IF(Main!$C$8:$C$100=$C$7,ROW(G$8:G$100)-ROW(G$8)+1)),ROWS($A$1:F16))))","v":""},{"$f":"IF(ROWS($A$1:G16)>COUNTIF(Main!$C$8:$C$100,$C$7),\"\",INDEX(Main!H$8:H$100,SMALL(IF(N(Main!H$8:H$100)<>0,IF(Main!$C$8:$C$100=$C$7,ROW(H$8:H$100)-ROW(H$8)+1)),ROWS($A$1:G16))))","v":""},{"$f":"IF(ROWS($A$1:H16)>COUNTIF(Main!$C$8:$C$100,$C$7),\"\",INDEX(Main!I$8:I$100,SMALL(IF(N(Main!I$8:I$100)<>0,IF(Main!$C$8:$C$100=$C$7,ROW(I$8:I$100)-ROW(I$8)+1)),ROWS($A$1:H16))))","v":""},{"$f":"IF(ROWS($A$1:I16)>COUNTIF(Main!$C$8:$C$100,$C$7),\"\",INDEX(Main!J$8:J$100,SMALL(IF(N(Main!J$8:J$100)<>0,IF(Main!$C$8:$C$100=$C$7,ROW(J$8:J$100)-ROW(J$8)+1)),ROWS($A$1:I16))))","v":""},{"$f":"IF(ROWS($A$1:J16)>COUNTIF(Main!$C$8:$C$100,$C$7),\"\",INDEX(Main!K$8:K$100,SMALL(IF(N(Main!K$8:K$100)<>0,IF(Main!$C$8:$C$100=$C$7,ROW(K$8:K$100)-ROW(K$8)+1)),ROWS($A$1:J16))))","v":""},{"$f":"IF(ROWS($A$1:K16)>COUNTIF(Main!$C$8:$C$100,$C$7),\"\",INDEX(Main!L$8:L$100,SMALL(IF(N(Main!L$8:L$100)<>0,IF(Main!$C$8:$C$100=$C$7,ROW(L$8:L$100)-ROW(L$8)+1)),ROWS($A$1:K16))))","v":""}]
[{"$f":"IF(B24=\"\",\"\",MAX($A$7:A23)+1)","v":""},{"$f":"IF(ROWS($A$1:A17)>COUNTIF(Main!$C$8:$C$100,$C$7),\"\",INDEX(Main!B$8:B$100,SMALL(IF(N(Main!B$8:B$100)<>0,IF(Main!$C$8:$C$100=$C$7,ROW(B$8:B$100)-ROW(B$8)+1)),ROWS($A$1:A17))))","v":""},{"$f":"IF(ROWS($A$1:B17)>COUNTIF(Main!$C$8:$C$100,$C$7),\"\",INDEX(Main!C$8:C$100,SMALL(IF(N(Main!C$8:C$100)<>0,IF(Main!$C$8:$C$100=$C$7,ROW(C$8:C$100)-ROW(C$8)+1)),ROWS($A$1:B17))))","v":""},{"$f":"IF(ROWS($A$1:C17)>COUNTIF(Main!$C$8:$C$100,$C$7),\"\",INDEX(Main!D$8:D$100,SMALL(IF(Main!D$8:D$100<>\"\",IF(Main!$C$8:$C$100=$C$7,ROW(D$8:D$100)-ROW(D$8)+1)),ROWS($A$1:C17))))","v":""},{"$f":"IF(ROWS($A$1:D17)>COUNTIF(Main!$C$8:$C$100,$C$7),\"\",INDEX(Main!E$8:E$100,SMALL(IF(N(Main!E$8:E$100)<>0,IF(Main!$C$8:$C$100=$C$7,ROW(E$8:E$100)-ROW(E$8)+1)),ROWS($A$1:D17))))","v":""},{"$f":"IF(ROWS($A$1:E17)>COUNTIF(Main!$C$8:$C$100,$C$7),\"\",INDEX(Main!F$8:F$100,SMALL(IF(Main!F$8:F$100<>\"\",IF(Main!$C$8:$C$100=$C$7,ROW(F$8:F$100)-ROW(F$8)+1)),ROWS($A$1:E17))))","v":""},{"$f":"IF(ROWS($A$1:F17)>COUNTIF(Main!$C$8:$C$100,$C$7),\"\",INDEX(Main!G$8:G$100,SMALL(IF(Main!G$8:G$100<>\"\",IF(Main!$C$8:$C$100=$C$7,ROW(G$8:G$100)-ROW(G$8)+1)),ROWS($A$1:F17))))","v":""},{"$f":"IF(ROWS($A$1:G17)>COUNTIF(Main!$C$8:$C$100,$C$7),\"\",INDEX(Main!H$8:H$100,SMALL(IF(N(Main!H$8:H$100)<>0,IF(Main!$C$8:$C$100=$C$7,ROW(H$8:H$100)-ROW(H$8)+1)),ROWS($A$1:G17))))","v":""},{"$f":"IF(ROWS($A$1:H17)>COUNTIF(Main!$C$8:$C$100,$C$7),\"\",INDEX(Main!I$8:I$100,SMALL(IF(N(Main!I$8:I$100)<>0,IF(Main!$C$8:$C$100=$C$7,ROW(I$8:I$100)-ROW(I$8)+1)),ROWS($A$1:H17))))","v":""},{"$f":"IF(ROWS($A$1:I17)>COUNTIF(Main!$C$8:$C$100,$C$7),\"\",INDEX(Main!J$8:J$100,SMALL(IF(N(Main!J$8:J$100)<>0,IF(Main!$C$8:$C$100=$C$7,ROW(J$8:J$100)-ROW(J$8)+1)),ROWS($A$1:I17))))","v":""},{"$f":"IF(ROWS($A$1:J17)>COUNTIF(Main!$C$8:$C$100,$C$7),\"\",INDEX(Main!K$8:K$100,SMALL(IF(N(Main!K$8:K$100)<>0,IF(Main!$C$8:$C$100=$C$7,ROW(K$8:K$100)-ROW(K$8)+1)),ROWS($A$1:J17))))","v":""},{"$f":"IF(ROWS($A$1:K17)>COUNTIF(Main!$C$8:$C$100,$C$7),\"\",INDEX(Main!L$8:L$100,SMALL(IF(N(Main!L$8:L$100)<>0,IF(Main!$C$8:$C$100=$C$7,ROW(L$8:L$100)-ROW(L$8)+1)),ROWS($A$1:K17))))","v":""}]
[{"$f":"IF(B25=\"\",\"\",MAX($A$7:A24)+1)","v":""},{"$f":"IF(ROWS($A$1:A18)>COUNTIF(Main!$C$8:$C$100,$C$7),\"\",INDEX(Main!B$8:B$100,SMALL(IF(N(Main!B$8:B$100)<>0,IF(Main!$C$8:$C$100=$C$7,ROW(B$8:B$100)-ROW(B$8)+1)),ROWS($A$1:A18))))","v":""},{"$f":"IF(ROWS($A$1:B18)>COUNTIF(Main!$C$8:$C$100,$C$7),\"\",INDEX(Main!C$8:C$100,SMALL(IF(N(Main!C$8:C$100)<>0,IF(Main!$C$8:$C$100=$C$7,ROW(C$8:C$100)-ROW(C$8)+1)),ROWS($A$1:B18))))","v":""},{"$f":"IF(ROWS($A$1:C18)>COUNTIF(Main!$C$8:$C$100,$C$7),\"\",INDEX(Main!D$8:D$100,SMALL(IF(Main!D$8:D$100<>\"\",IF(Main!$C$8:$C$100=$C$7,ROW(D$8:D$100)-ROW(D$8)+1)),ROWS($A$1:C18))))","v":""},{"$f":"IF(ROWS($A$1:D18)>COUNTIF(Main!$C$8:$C$100,$C$7),\"\",INDEX(Main!E$8:E$100,SMALL(IF(N(Main!E$8:E$100)<>0,IF(Main!$C$8:$C$100=$C$7,ROW(E$8:E$100)-ROW(E$8)+1)),ROWS($A$1:D18))))","v":""},{"$f":"IF(ROWS($A$1:E18)>COUNTIF(Main!$C$8:$C$100,$C$7),\"\",INDEX(Main!F$8:F$100,SMALL(IF(Main!F$8:F$100<>\"\",IF(Main!$C$8:$C$100=$C$7,ROW(F$8:F$100)-ROW(F$8)+1)),ROWS($A$1:E18))))","v":""},{"$f":"IF(ROWS($A$1:F18)>COUNTIF(Main!$C$8:$C$100,$C$7),\"\",INDEX(Main!G$8:G$100,SMALL(IF(Main!G$8:G$100<>\"\",IF(Main!$C$8:$C$100=$C$7,ROW(G$8:G$100)-ROW(G$8)+1)),ROWS($A$1:F18))))","v":""},{"$f":"IF(ROWS($A$1:G18)>COUNTIF(Main!$C$8:$C$100,$C$7),\"\",INDEX(Main!H$8:H$100,SMALL(IF(N(Main!H$8:H$100)<>0,IF(Main!$C$8:$C$100=$C$7,ROW(H$8:H$100)-ROW(H$8)+1)),ROWS($A$1:G18))))","v":""},{"$f":"IF(ROWS($A$1:H18)>COUNTIF(Main!$C$8:$C$100,$C$7),\"\",INDEX(Main!I$8:I$100,SMALL(IF(N(Main!I$8:I$100)<>0,IF(Main!$C$8:$C$100=$C$7,ROW(I$8:I$100)-ROW(I$8)+1)),ROWS($A$1:H18))))","v":""},{"$f":"IF(ROWS($A$1:I18)>COUNTIF(Main!$C$8:$C$100,$C$7),\"\",INDEX(Main!J$8:J$100,SMALL(IF(N(Main!J$8:J$100)<>0,IF(Main!$C$8:$C$100=$C$7,ROW(J$8:J$100)-ROW(J$8)+1)),ROWS($A$1:I18))))","v":""},{"$f":"IF(ROWS($A$1:J18)>COUNTIF(Main!$C$8:$C$100,$C$7),\"\",INDEX(Main!K$8:K$100,SMALL(IF(N(Main!K$8:K$100)<>0,IF(Main!$C$8:$C$100=$C$7,ROW(K$8:K$100)-ROW(K$8)+1)),ROWS($A$1:J18))))","v":""},{"$f":"IF(ROWS($A$1:K18)>COUNTIF(Main!$C$8:$C$100,$C$7),\"\",INDEX(Main!L$8:L$100,SMALL(IF(N(Main!L$8:L$100)<>0,IF(Main!$C$8:$C$100=$C$7,ROW(L$8:L$100)-ROW(L$8)+1)),ROWS($A$1:K18))))","v":""}]
[{"$f":"IF(B26=\"\",\"\",MAX($A$7:A25)+1)","v":""},{"$f":"IF(ROWS($A$1:A19)>COUNTIF(Main!$C$8:$C$100,$C$7),\"\",INDEX(Main!B$8:B$100,SMALL(IF(N(Main!B$8:B$100)<>0,IF(Main!$C$8:$C$100=$C$7,ROW(B$8:B$100)-ROW(B$8)+1)),ROWS($A$1:A19))))","v":""},{"$f":"IF(ROWS($A$1:B19)>COUNTIF(Main!$C$8:$C$100,$C$7),\"\",INDEX(Main!C$8:C$100,SMALL(IF(N(Main!C$8:C$100)<>0,IF(Main!$C$8:$C$100=$C$7,ROW(C$8:C$100)-ROW(C$8)+1)),ROWS($A$1:B19))))","v":""},{"$f":"IF(ROWS($A$1:C19)>COUNTIF(Main!$C$8:$C$100,$C$7),\"\",INDEX(Main!D$8:D$100,SMALL(IF(Main!D$8:D$100<>\"\",IF(Main!$C$8:$C$100=$C$7,ROW(D$8:D$100)-ROW(D$8)+1)),ROWS($A$1:C19))))","v":""},{"$f":"IF(ROWS($A$1:D19)>COUNTIF(Main!$C$8:$C$100,$C$7),\"\",INDEX(Main!E$8:E$100,SMALL(IF(N(Main!E$8:E$100)<>0,IF(Main!$C$8:$C$100=$C$7,ROW(E$8:E$100)-ROW(E$8)+1)),ROWS($A$1:D19))))","v":""},{"$f":"IF(ROWS($A$1:E19)>COUNTIF(Main!$C$8:$C$100,$C$7),\"\",INDEX(Main!F$8:F$100,SMALL(IF(Main!F$8:F$100<>\"\",IF(Main!$C$8:$C$100=$C$7,ROW(F$8:F$100)-ROW(F$8)+1)),ROWS($A$1:E19))))","v":""},{"$f":"IF(ROWS($A$1:F19)>COUNTIF(Main!$C$8:$C$100,$C$7),\"\",INDEX(Main!G$8:G$100,SMALL(IF(Main!G$8:G$100<>\"\",IF(Main!$C$8:$C$100=$C$7,ROW(G$8:G$100)-ROW(G$8)+1)),ROWS($A$1:F19))))","v":""},{"$f":"IF(ROWS($A$1:G19)>COUNTIF(Main!$C$8:$C$100,$C$7),\"\",INDEX(Main!H$8:H$100,SMALL(IF(N(Main!H$8:H$100)<>0,IF(Main!$C$8:$C$100=$C$7,ROW(H$8:H$100)-ROW(H$8)+1)),ROWS($A$1:G19))))","v":""},{"$f":"IF(ROWS($A$1:H19)>COUNTIF(Main!$C$8:$C$100,$C$7),\"\",INDEX(Main!I$8:I$100,SMALL(IF(N(Main!I$8:I$100)<>0,IF(Main!$C$8:$C$100=$C$7,ROW(I$8:I$100)-ROW(I$8)+1)),ROWS($A$1:H19))))","v":""},{"$f":"IF(ROWS($A$1:I19)>COUNTIF(Main!$C$8:$C$100,$C$7),\"\",INDEX(Main!J$8:J$100,SMALL(IF(N(Main!J$8:J$100)<>0,IF(Main!$C$8:$C$100=$C$7,ROW(J$8:J$100)-ROW(J$8)+1)),ROWS($A$1:I19))))","v":""},{"$f":"IF(ROWS($A$1:J19)>COUNTIF(Main!$C$8:$C$100,$C$7),\"\",INDEX(Main!K$8:K$100,SMALL(IF(N(Main!K$8:K$100)<>0,IF(Main!$C$8:$C$100=$C$7,ROW(K$8:K$100)-ROW(K$8)+1)),ROWS($A$1:J19))))","v":""},{"$f":"IF(ROWS($A$1:K19)>COUNTIF(Main!$C$8:$C$100,$C$7),\"\",INDEX(Main!L$8:L$100,SMALL(IF(N(Main!L$8:L$100)<>0,IF(Main!$C$8:$C$100=$C$7,ROW(L$8:L$100)-ROW(L$8)+1)),ROWS($A$1:K19))))","v":""}]
[{"$f":"IF(B27=\"\",\"\",MAX($A$7:A26)+1)","v":""},{"$f":"IF(ROWS($A$1:A20)>COUNTIF(Main!$C$8:$C$100,$C$7),\"\",INDEX(Main!B$8:B$100,SMALL(IF(N(Main!B$8:B$100)<>0,IF(Main!$C$8:$C$100=$C$7,ROW(B$8:B$100)-ROW(B$8)+1)),ROWS($A$1:A20))))","v":""},{"$f":"IF(ROWS($A$1:B20)>COUNTIF(Main!$C$8:$C$100,$C$7),\"\",INDEX(Main!C$8:C$100,SMALL(IF(N(Main!C$8:C$100)<>0,IF(Main!$C$8:$C$100=$C$7,ROW(C$8:C$100)-ROW(C$8)+1)),ROWS($A$1:B20))))","v":""},{"$f":"IF(ROWS($A$1:C20)>COUNTIF(Main!$C$8:$C$100,$C$7),\"\",INDEX(Main!D$8:D$100,SMALL(IF(Main!D$8:D$100<>\"\",IF(Main!$C$8:$C$100=$C$7,ROW(D$8:D$100)-ROW(D$8)+1)),ROWS($A$1:C20))))","v":""},{"$f":"IF(ROWS($A$1:D20)>COUNTIF(Main!$C$8:$C$100,$C$7),\"\",INDEX(Main!E$8:E$100,SMALL(IF(N(Main!E$8:E$100)<>0,IF(Main!$C$8:$C$100=$C$7,ROW(E$8:E$100)-ROW(E$8)+1)),ROWS($A$1:D20))))","v":""},{"$f":"IF(ROWS($A$1:E20)>COUNTIF(Main!$C$8:$C$100,$C$7),\"\",INDEX(Main!F$8:F$100,SMALL(IF(Main!F$8:F$100<>\"\",IF(Main!$C$8:$C$100=$C$7,ROW(F$8:F$100)-ROW(F$8)+1)),ROWS($A$1:E20))))","v":""},{"$f":"IF(ROWS($A$1:F20)>COUNTIF(Main!$C$8:$C$100,$C$7),\"\",INDEX(Main!G$8:G$100,SMALL(IF(Main!G$8:G$100<>\"\",IF(Main!$C$8:$C$100=$C$7,ROW(G$8:G$100)-ROW(G$8)+1)),ROWS($A$1:F20))))","v":""},{"$f":"IF(ROWS($A$1:G20)>COUNTIF(Main!$C$8:$C$100,$C$7),\"\",INDEX(Main!H$8:H$100,SMALL(IF(N(Main!H$8:H$100)<>0,IF(Main!$C$8:$C$100=$C$7,ROW(H$8:H$100)-ROW(H$8)+1)),ROWS($A$1:G20))))","v":""},{"$f":"IF(ROWS($A$1:H20)>COUNTIF(Main!$C$8:$C$100,$C$7),\"\",INDEX(Main!I$8:I$100,SMALL(IF(N(Main!I$8:I$100)<>0,IF(Main!$C$8:$C$100=$C$7,ROW(I$8:I$100)-ROW(I$8)+1)),ROWS($A$1:H20))))","v":""},{"$f":"IF(ROWS($A$1:I20)>COUNTIF(Main!$C$8:$C$100,$C$7),\"\",INDEX(Main!J$8:J$100,SMALL(IF(N(Main!J$8:J$100)<>0,IF(Main!$C$8:$C$100=$C$7,ROW(J$8:J$100)-ROW(J$8)+1)),ROWS($A$1:I20))))","v":""},{"$f":"IF(ROWS($A$1:J20)>COUNTIF(Main!$C$8:$C$100,$C$7),\"\",INDEX(Main!K$8:K$100,SMALL(IF(N(Main!K$8:K$100)<>0,IF(Main!$C$8:$C$100=$C$7,ROW(K$8:K$100)-ROW(K$8)+1)),ROWS($A$1:J20))))","v":""},{"$f":"IF(ROWS($A$1:K20)>COUNTIF(Main!$C$8:$C$100,$C$7),\"\",INDEX(Main!L$8:L$100,SMALL(IF(N(Main!L$8:L$100)<>0,IF(Main!$C$8:$C$100=$C$7,ROW(L$8:L$100)-ROW(L$8)+1)),ROWS($A$1:K20))))","v":""}]
[{"$f":"IF(B28=\"\",\"\",MAX($A$7:A27)+1)","v":""},{"$f":"IF(ROWS($A$1:A21)>COUNTIF(Main!$C$8:$C$100,$C$7),\"\",INDEX(Main!B$8:B$100,SMALL(IF(N(Main!B$8:B$100)<>0,IF(Main!$C$8:$C$100=$C$7,ROW(B$8:B$100)-ROW(B$8)+1)),ROWS($A$1:A21))))","v":""},{"$f":"IF(ROWS($A$1:B21)>COUNTIF(Main!$C$8:$C$100,$C$7),\"\",INDEX(Main!C$8:C$100,SMALL(IF(N(Main!C$8:C$100)<>0,IF(Main!$C$8:$C$100=$C$7,ROW(C$8:C$100)-ROW(C$8)+1)),ROWS($A$1:B21))))","v":""},{"$f":"IF(ROWS($A$1:C21)>COUNTIF(Main!$C$8:$C$100,$C$7),\"\",INDEX(Main!D$8:D$100,SMALL(IF(Main!D$8:D$100<>\"\",IF(Main!$C$8:$C$100=$C$7,ROW(D$8:D$100)-ROW(D$8)+1)),ROWS($A$1:C21))))","v":""},{"$f":"IF(ROWS($A$1:D21)>COUNTIF(Main!$C$8:$C$100,$C$7),\"\",INDEX(Main!E$8:E$100,SMALL(IF(N(Main!E$8:E$100)<>0,IF(Main!$C$8:$C$100=$C$7,ROW(E$8:E$100)-ROW(E$8)+1)),ROWS($A$1:D21))))","v":""},{"$f":"IF(ROWS($A$1:E21)>COUNTIF(Main!$C$8:$C$100,$C$7),\"\",INDEX(Main!F$8:F$100,SMALL(IF(Main!F$8:F$100<>\"\",IF(Main!$C$8:$C$100=$C$7,ROW(F$8:F$100)-ROW(F$8)+1)),ROWS($A$1:E21))))","v":""},{"$f":"IF(ROWS($A$1:F21)>COUNTIF(Main!$C$8:$C$100,$C$7),\"\",INDEX(Main!G$8:G$100,SMALL(IF(Main!G$8:G$100<>\"\",IF(Main!$C$8:$C$100=$C$7,ROW(G$8:G$100)-ROW(G$8)+1)),ROWS($A$1:F21))))","v":""},{"$f":"IF(ROWS($A$1:G21)>COUNTIF(Main!$C$8:$C$100,$C$7),\"\",INDEX(Main!H$8:H$100,SMALL(IF(N(Main!H$8:H$100)<>0,IF(Main!$C$8:$C$100=$C$7,ROW(H$8:H$100)-ROW(H$8)+1)),ROWS($A$1:G21))))","v":""},{"$f":"IF(ROWS($A$1:H21)>COUNTIF(Main!$C$8:$C$100,$C$7),\"\",INDEX(Main!I$8:I$100,SMALL(IF(N(Main!I$8:I$100)<>0,IF(Main!$C$8:$C$100=$C$7,ROW(I$8:I$100)-ROW(I$8)+1)),ROWS($A$1:H21))))","v":""},{"$f":"IF(ROWS($A$1:I21)>COUNTIF(Main!$C$8:$C$100,$C$7),\"\",INDEX(Main!J$8:J$100,SMALL(IF(N(Main!J$8:J$100)<>0,IF(Main!$C$8:$C$100=$C$7,ROW(J$8:J$100)-ROW(J$8)+1)),ROWS($A$1:I21))))","v":""},{"$f":"IF(ROWS($A$1:J21)>COUNTIF(Main!$C$8:$C$100,$C$7),\"\",INDEX(Main!K$8:K$100,SMALL(IF(N(Main!K$8:K$100)<>0,IF(Main!$C$8:$C$100=$C$7,ROW(K$8:K$100)-ROW(K$8)+1)),ROWS($A$1:J21))))","v":""},{"$f":"IF(ROWS($A$1:K21)>COUNTIF(Main!$C$8:$C$100,$C$7),\"\",INDEX(Main!L$8:L$100,SMALL(IF(N(Main!L$8:L$100)<>0,IF(Main!$C$8:$C$100=$C$7,ROW(L$8:L$100)-ROW(L$8)+1)),ROWS($A$1:K21))))","v":""}]
[{"$f":"IF(B29=\"\",\"\",MAX($A$7:A28)+1)","v":""},{"$f":"IF(ROWS($A$1:A22)>COUNTIF(Main!$C$8:$C$100,$C$7),\"\",INDEX(Main!B$8:B$100,SMALL(IF(N(Main!B$8:B$100)<>0,IF(Main!$C$8:$C$100=$C$7,ROW(B$8:B$100)-ROW(B$8)+1)),ROWS($A$1:A22))))","v":""},{"$f":"IF(ROWS($A$1:B22)>COUNTIF(Main!$C$8:$C$100,$C$7),\"\",INDEX(Main!C$8:C$100,SMALL(IF(N(Main!C$8:C$100)<>0,IF(Main!$C$8:$C$100=$C$7,ROW(C$8:C$100)-ROW(C$8)+1)),ROWS($A$1:B22))))","v":""},{"$f":"IF(ROWS($A$1:C22)>COUNTIF(Main!$C$8:$C$100,$C$7),\"\",INDEX(Main!D$8:D$100,SMALL(IF(Main!D$8:D$100<>\"\",IF(Main!$C$8:$C$100=$C$7,ROW(D$8:D$100)-ROW(D$8)+1)),ROWS($A$1:C22))))","v":""},{"$f":"IF(ROWS($A$1:D22)>COUNTIF(Main!$C$8:$C$100,$C$7),\"\",INDEX(Main!E$8:E$100,SMALL(IF(N(Main!E$8:E$100)<>0,IF(Main!$C$8:$C$100=$C$7,ROW(E$8:E$100)-ROW(E$8)+1)),ROWS($A$1:D22))))","v":""},{"$f":"IF(ROWS($A$1:E22)>COUNTIF(Main!$C$8:$C$100,$C$7),\"\",INDEX(Main!F$8:F$100,SMALL(IF(Main!F$8:F$100<>\"\",IF(Main!$C$8:$C$100=$C$7,ROW(F$8:F$100)-ROW(F$8)+1)),ROWS($A$1:E22))))","v":""},{"$f":"IF(ROWS($A$1:F22)>COUNTIF(Main!$C$8:$C$100,$C$7),\"\",INDEX(Main!G$8:G$100,SMALL(IF(Main!G$8:G$100<>\"\",IF(Main!$C$8:$C$100=$C$7,ROW(G$8:G$100)-ROW(G$8)+1)),ROWS($A$1:F22))))","v":""},{"$f":"IF(ROWS($A$1:G22)>COUNTIF(Main!$C$8:$C$100,$C$7),\"\",INDEX(Main!H$8:H$100,SMALL(IF(N(Main!H$8:H$100)<>0,IF(Main!$C$8:$C$100=$C$7,ROW(H$8:H$100)-ROW(H$8)+1)),ROWS($A$1:G22))))","v":""},{"$f":"IF(ROWS($A$1:H22)>COUNTIF(Main!$C$8:$C$100,$C$7),\"\",INDEX(Main!I$8:I$100,SMALL(IF(N(Main!I$8:I$100)<>0,IF(Main!$C$8:$C$100=$C$7,ROW(I$8:I$100)-ROW(I$8)+1)),ROWS($A$1:H22))))","v":""},{"$f":"IF(ROWS($A$1:I22)>COUNTIF(Main!$C$8:$C$100,$C$7),\"\",INDEX(Main!J$8:J$100,SMALL(IF(N(Main!J$8:J$100)<>0,IF(Main!$C$8:$C$100=$C$7,ROW(J$8:J$100)-ROW(J$8)+1)),ROWS($A$1:I22))))","v":""},{"$f":"IF(ROWS($A$1:J22)>COUNTIF(Main!$C$8:$C$100,$C$7),\"\",INDEX(Main!K$8:K$100,SMALL(IF(N(Main!K$8:K$100)<>0,IF(Main!$C$8:$C$100=$C$7,ROW(K$8:K$100)-ROW(K$8)+1)),ROWS($A$1:J22))))","v":""},{"$f":"IF(ROWS($A$1:K22)>COUNTIF(Main!$C$8:$C$100,$C$7),\"\",INDEX(Main!L$8:L$100,SMALL(IF(N(Main!L$8:L$100)<>0,IF(Main!$C$8:$C$100=$C$7,ROW(L$8:L$100)-ROW(L$8)+1)),ROWS($A$1:K22))))","v":""}]
[{"$f":"IF(B30=\"\",\"\",MAX($A$7:A29)+1)","v":""},{"$f":"IF(ROWS($A$1:A23)>COUNTIF(Main!$C$8:$C$100,$C$7),\"\",INDEX(Main!B$8:B$100,SMALL(IF(N(Main!B$8:B$100)<>0,IF(Main!$C$8:$C$100=$C$7,ROW(B$8:B$100)-ROW(B$8)+1)),ROWS($A$1:A23))))","v":""},{"$f":"IF(ROWS($A$1:B23)>COUNTIF(Main!$C$8:$C$100,$C$7),\"\",INDEX(Main!C$8:C$100,SMALL(IF(N(Main!C$8:C$100)<>0,IF(Main!$C$8:$C$100=$C$7,ROW(C$8:C$100)-ROW(C$8)+1)),ROWS($A$1:B23))))","v":""},{"$f":"IF(ROWS($A$1:C23)>COUNTIF(Main!$C$8:$C$100,$C$7),\"\",INDEX(Main!D$8:D$100,SMALL(IF(Main!D$8:D$100<>\"\",IF(Main!$C$8:$C$100=$C$7,ROW(D$8:D$100)-ROW(D$8)+1)),ROWS($A$1:C23))))","v":""},{"$f":"IF(ROWS($A$1:D23)>COUNTIF(Main!$C$8:$C$100,$C$7),\"\",INDEX(Main!E$8:E$100,SMALL(IF(N(Main!E$8:E$100)<>0,IF(Main!$C$8:$C$100=$C$7,ROW(E$8:E$100)-ROW(E$8)+1)),ROWS($A$1:D23))))","v":""},{"$f":"IF(ROWS($A$1:E23)>COUNTIF(Main!$C$8:$C$100,$C$7),\"\",INDEX(Main!F$8:F$100,SMALL(IF(Main!F$8:F$100<>\"\",IF(Main!$C$8:$C$100=$C$7,ROW(F$8:F$100)-ROW(F$8)+1)),ROWS($A$1:E23))))","v":""},{"$f":"IF(ROWS($A$1:F23)>COUNTIF(Main!$C$8:$C$100,$C$7),\"\",INDEX(Main!G$8:G$100,SMALL(IF(Main!G$8:G$100<>\"\",IF(Main!$C$8:$C$100=$C$7,ROW(G$8:G$100)-ROW(G$8)+1)),ROWS($A$1:F23))))","v":""},{"$f":"IF(ROWS($A$1:G23)>COUNTIF(Main!$C$8:$C$100,$C$7),\"\",INDEX(Main!H$8:H$100,SMALL(IF(N(Main!H$8:H$100)<>0,IF(Main!$C$8:$C$100=$C$7,ROW(H$8:H$100)-ROW(H$8)+1)),ROWS($A$1:G23))))","v":""},{"$f":"IF(ROWS($A$1:H23)>COUNTIF(Main!$C$8:$C$100,$C$7),\"\",INDEX(Main!I$8:I$100,SMALL(IF(N(Main!I$8:I$100)<>0,IF(Main!$C$8:$C$100=$C$7,ROW(I$8:I$100)-ROW(I$8)+1)),ROWS($A$1:H23))))","v":""},{"$f":"IF(ROWS($A$1:I23)>COUNTIF(Main!$C$8:$C$100,$C$7),\"\",INDEX(Main!J$8:J$100,SMALL(IF(N(Main!J$8:J$100)<>0,IF(Main!$C$8:$C$100=$C$7,ROW(J$8:J$100)-ROW(J$8)+1)),ROWS($A$1:I23))))","v":""},{"$f":"IF(ROWS($A$1:J23)>COUNTIF(Main!$C$8:$C$100,$C$7),\"\",INDEX(Main!K$8:K$100,SMALL(IF(N(Main!K$8:K$100)<>0,IF(Main!$C$8:$C$100=$C$7,ROW(K$8:K$100)-ROW(K$8)+1)),ROWS($A$1:J23))))","v":""},{"$f":"IF(ROWS($A$1:K23)>COUNTIF(Main!$C$8:$C$100,$C$7),\"\",INDEX(Main!L$8:L$100,SMALL(IF(N(Main!L$8:L$100)<>0,IF(Main!$C$8:$C$100=$C$7,ROW(L$8:L$100)-ROW(L$8)+1)),ROWS($A$1:K23))))","v":""}]
[{"$f":"IF(B31=\"\",\"\",MAX($A$7:A30)+1)","v":""},{"$f":"IF(ROWS($A$1:A24)>COUNTIF(Main!$C$8:$C$100,$C$7),\"\",INDEX(Main!B$8:B$100,SMALL(IF(N(Main!B$8:B$100)<>0,IF(Main!$C$8:$C$100=$C$7,ROW(B$8:B$100)-ROW(B$8)+1)),ROWS($A$1:A24))))","v":""},{"$f":"IF(ROWS($A$1:B24)>COUNTIF(Main!$C$8:$C$100,$C$7),\"\",INDEX(Main!C$8:C$100,SMALL(IF(N(Main!C$8:C$100)<>0,IF(Main!$C$8:$C$100=$C$7,ROW(C$8:C$100)-ROW(C$8)+1)),ROWS($A$1:B24))))","v":""},{"$f":"IF(ROWS($A$1:C24)>COUNTIF(Main!$C$8:$C$100,$C$7),\"\",INDEX(Main!D$8:D$100,SMALL(IF(Main!D$8:D$100<>\"\",IF(Main!$C$8:$C$100=$C$7,ROW(D$8:D$100)-ROW(D$8)+1)),ROWS($A$1:C24))))","v":""},{"$f":"IF(ROWS($A$1:D24)>COUNTIF(Main!$C$8:$C$100,$C$7),\"\",INDEX(Main!E$8:E$100,SMALL(IF(N(Main!E$8:E$100)<>0,IF(Main!$C$8:$C$100=$C$7,ROW(E$8:E$100)-ROW(E$8)+1)),ROWS($A$1:D24))))","v":""},{"$f":"IF(ROWS($A$1:E24)>COUNTIF(Main!$C$8:$C$100,$C$7),\"\",INDEX(Main!F$8:F$100,SMALL(IF(Main!F$8:F$100<>\"\",IF(Main!$C$8:$C$100=$C$7,ROW(F$8:F$100)-ROW(F$8)+1)),ROWS($A$1:E24))))","v":""},{"$f":"IF(ROWS($A$1:F24)>COUNTIF(Main!$C$8:$C$100,$C$7),\"\",INDEX(Main!G$8:G$100,SMALL(IF(Main!G$8:G$100<>\"\",IF(Main!$C$8:$C$100=$C$7,ROW(G$8:G$100)-ROW(G$8)+1)),ROWS($A$1:F24))))","v":""},{"$f":"IF(ROWS($A$1:G24)>COUNTIF(Main!$C$8:$C$100,$C$7),\"\",INDEX(Main!H$8:H$100,SMALL(IF(N(Main!H$8:H$100)<>0,IF(Main!$C$8:$C$100=$C$7,ROW(H$8:H$100)-ROW(H$8)+1)),ROWS($A$1:G24))))","v":""},{"$f":"IF(ROWS($A$1:H24)>COUNTIF(Main!$C$8:$C$100,$C$7),\"\",INDEX(Main!I$8:I$100,SMALL(IF(N(Main!I$8:I$100)<>0,IF(Main!$C$8:$C$100=$C$7,ROW(I$8:I$100)-ROW(I$8)+1)),ROWS($A$1:H24))))","v":""},{"$f":"IF(ROWS($A$1:I24)>COUNTIF(Main!$C$8:$C$100,$C$7),\"\",INDEX(Main!J$8:J$100,SMALL(IF(N(Main!J$8:J$100)<>0,IF(Main!$C$8:$C$100=$C$7,ROW(J$8:J$100)-ROW(J$8)+1)),ROWS($A$1:I24))))","v":""},{"$f":"IF(ROWS($A$1:J24)>COUNTIF(Main!$C$8:$C$100,$C$7),\"\",INDEX(Main!K$8:K$100,SMALL(IF(N(Main!K$8:K$100)<>0,IF(Main!$C$8:$C$100=$C$7,ROW(K$8:K$100)-ROW(K$8)+1)),ROWS($A$1:J24))))","v":""},{"$f":"IF(ROWS($A$1:K24)>COUNTIF(Main!$C$8:$C$100,$C$7),\"\",INDEX(Main!L$8:L$100,SMALL(IF(N(Main!L$8:L$100)<>0,IF(Main!$C$8:$C$100=$C$7,ROW(L$8:L$100)-ROW(L$8)+1)),ROWS($A$1:K24))))","v":""}]
[{"$f":"IF(B32=\"\",\"\",MAX($A$7:A31)+1)","v":""},{"$f":"IF(ROWS($A$1:A25)>COUNTIF(Main!$C$8:$C$100,$C$7),\"\",INDEX(Main!B$8:B$100,SMALL(IF(N(Main!B$8:B$100)<>0,IF(Main!$C$8:$C$100=$C$7,ROW(B$8:B$100)-ROW(B$8)+1)),ROWS($A$1:A25))))","v":""},{"$f":"IF(ROWS($A$1:B25)>COUNTIF(Main!$C$8:$C$100,$C$7),\"\",INDEX(Main!C$8:C$100,SMALL(IF(N(Main!C$8:C$100)<>0,IF(Main!$C$8:$C$100=$C$7,ROW(C$8:C$100)-ROW(C$8)+1)),ROWS($A$1:B25))))","v":""},{"$f":"IF(ROWS($A$1:C25)>COUNTIF(Main!$C$8:$C$100,$C$7),\"\",INDEX(Main!D$8:D$100,SMALL(IF(Main!D$8:D$100<>\"\",IF(Main!$C$8:$C$100=$C$7,ROW(D$8:D$100)-ROW(D$8)+1)),ROWS($A$1:C25))))","v":""},{"$f":"IF(ROWS($A$1:D25)>COUNTIF(Main!$C$8:$C$100,$C$7),\"\",INDEX(Main!E$8:E$100,SMALL(IF(N(Main!E$8:E$100)<>0,IF(Main!$C$8:$C$100=$C$7,ROW(E$8:E$100)-ROW(E$8)+1)),ROWS($A$1:D25))))","v":""},{"$f":"IF(ROWS($A$1:E25)>COUNTIF(Main!$C$8:$C$100,$C$7),\"\",INDEX(Main!F$8:F$100,SMALL(IF(Main!F$8:F$100<>\"\",IF(Main!$C$8:$C$100=$C$7,ROW(F$8:F$100)-ROW(F$8)+1)),ROWS($A$1:E25))))","v":""},{"$f":"IF(ROWS($A$1:F25)>COUNTIF(Main!$C$8:$C$100,$C$7),\"\",INDEX(Main!G$8:G$100,SMALL(IF(Main!G$8:G$100<>\"\",IF(Main!$C$8:$C$100=$C$7,ROW(G$8:G$100)-ROW(G$8)+1)),ROWS($A$1:F25))))","v":""},{"$f":"IF(ROWS($A$1:G25)>COUNTIF(Main!$C$8:$C$100,$C$7),\"\",INDEX(Main!H$8:H$100,SMALL(IF(N(Main!H$8:H$100)<>0,IF(Main!$C$8:$C$100=$C$7,ROW(H$8:H$100)-ROW(H$8)+1)),ROWS($A$1:G25))))","v":""},{"$f":"IF(ROWS($A$1:H25)>COUNTIF(Main!$C$8:$C$100,$C$7),\"\",INDEX(Main!I$8:I$100,SMALL(IF(N(Main!I$8:I$100)<>0,IF(Main!$C$8:$C$100=$C$7,ROW(I$8:I$100)-ROW(I$8)+1)),ROWS($A$1:H25))))","v":""},{"$f":"IF(ROWS($A$1:I25)>COUNTIF(Main!$C$8:$C$100,$C$7),\"\",INDEX(Main!J$8:J$100,SMALL(IF(N(Main!J$8:J$100)<>0,IF(Main!$C$8:$C$100=$C$7,ROW(J$8:J$100)-ROW(J$8)+1)),ROWS($A$1:I25))))","v":""},{"$f":"IF(ROWS($A$1:J25)>COUNTIF(Main!$C$8:$C$100,$C$7),\"\",INDEX(Main!K$8:K$100,SMALL(IF(N(Main!K$8:K$100)<>0,IF(Main!$C$8:$C$100=$C$7,ROW(K$8:K$100)-ROW(K$8)+1)),ROWS($A$1:J25))))","v":""},{"$f":"IF(ROWS($A$1:K25)>COUNTIF(Main!$C$8:$C$100,$C$7),\"\",INDEX(Main!L$8:L$100,SMALL(IF(N(Main!L$8:L$100)<>0,IF(Main!$C$8:$C$100=$C$7,ROW(L$8:L$100)-ROW(L$8)+1)),ROWS($A$1:K25))))","v":""}]
[{"$f":"IF(B33=\"\",\"\",MAX($A$7:A32)+1)","v":""},{"$f":"IF(ROWS($A$1:A26)>COUNTIF(Main!$C$8:$C$100,$C$7),\"\",INDEX(Main!B$8:B$100,SMALL(IF(N(Main!B$8:B$100)<>0,IF(Main!$C$8:$C$100=$C$7,ROW(B$8:B$100)-ROW(B$8)+1)),ROWS($A$1:A26))))","v":""},{"$f":"IF(ROWS($A$1:B26)>COUNTIF(Main!$C$8:$C$100,$C$7),\"\",INDEX(Main!C$8:C$100,SMALL(IF(N(Main!C$8:C$100)<>0,IF(Main!$C$8:$C$100=$C$7,ROW(C$8:C$100)-ROW(C$8)+1)),ROWS($A$1:B26))))","v":""},{"$f":"IF(ROWS($A$1:C26)>COUNTIF(Main!$C$8:$C$100,$C$7),\"\",INDEX(Main!D$8:D$100,SMALL(IF(Main!D$8:D$100<>\"\",IF(Main!$C$8:$C$100=$C$7,ROW(D$8:D$100)-ROW(D$8)+1)),ROWS($A$1:C26))))","v":""},{"$f":"IF(ROWS($A$1:D26)>COUNTIF(Main!$C$8:$C$100,$C$7),\"\",INDEX(Main!E$8:E$100,SMALL(IF(N(Main!E$8:E$100)<>0,IF(Main!$C$8:$C$100=$C$7,ROW(E$8:E$100)-ROW(E$8)+1)),ROWS($A$1:D26))))","v":""},{"$f":"IF(ROWS($A$1:E26)>COUNTIF(Main!$C$8:$C$100,$C$7),\"\",INDEX(Main!F$8:F$100,SMALL(IF(Main!F$8:F$100<>\"\",IF(Main!$C$8:$C$100=$C$7,ROW(F$8:F$100)-ROW(F$8)+1)),ROWS($A$1:E26))))","v":""},{"$f":"IF(ROWS($A$1:F26)>COUNTIF(Main!$C$8:$C$100,$C$7),\"\",INDEX(Main!G$8:G$100,SMALL(IF(Main!G$8:G$100<>\"\",IF(Main!$C$8:$C$100=$C$7,ROW(G$8:G$100)-ROW(G$8)+1)),ROWS($A$1:F26))))","v":""},{"$f":"IF(ROWS($A$1:G26)>COUNTIF(Main!$C$8:$C$100,$C$7),\"\",INDEX(Main!H$8:H$100,SMALL(IF(N(Main!H$8:H$100)<>0,IF(Main!$C$8:$C$100=$C$7,ROW(H$8:H$100)-ROW(H$8)+1)),ROWS($A$1:G26))))","v":""},{"$f":"IF(ROWS($A$1:H26)>COUNTIF(Main!$C$8:$C$100,$C$7),\"\",INDEX(Main!I$8:I$100,SMALL(IF(N(Main!I$8:I$100)<>0,IF(Main!$C$8:$C$100=$C$7,ROW(I$8:I$100)-ROW(I$8)+1)),ROWS($A$1:H26))))","v":""},{"$f":"IF(ROWS($A$1:I26)>COUNTIF(Main!$C$8:$C$100,$C$7),\"\",INDEX(Main!J$8:J$100,SMALL(IF(N(Main!J$8:J$100)<>0,IF(Main!$C$8:$C$100=$C$7,ROW(J$8:J$100)-ROW(J$8)+1)),ROWS($A$1:I26))))","v":""},{"$f":"IF(ROWS($A$1:J26)>COUNTIF(Main!$C$8:$C$100,$C$7),\"\",INDEX(Main!K$8:K$100,SMALL(IF(N(Main!K$8:K$100)<>0,IF(Main!$C$8:$C$100=$C$7,ROW(K$8:K$100)-ROW(K$8)+1)),ROWS($A$1:J26))))","v":""},{"$f":"IF(ROWS($A$1:K26)>COUNTIF(Main!$C$8:$C$100,$C$7),\"\",INDEX(Main!L$8:L$100,SMALL(IF(N(Main!L$8:L$100)<>0,IF(Main!$C$8:$C$100=$C$7,ROW(L$8:L$100)-ROW(L$8)+1)),ROWS($A$1:K26))))","v":""}]
[{"$f":"IF(B34=\"\",\"\",MAX($A$7:A33)+1)","v":""},{"$f":"IF(ROWS($A$1:A27)>COUNTIF(Main!$C$8:$C$100,$C$7),\"\",INDEX(Main!B$8:B$100,SMALL(IF(N(Main!B$8:B$100)<>0,IF(Main!$C$8:$C$100=$C$7,ROW(B$8:B$100)-ROW(B$8)+1)),ROWS($A$1:A27))))","v":""},{"$f":"IF(ROWS($A$1:B27)>COUNTIF(Main!$C$8:$C$100,$C$7),\"\",INDEX(Main!C$8:C$100,SMALL(IF(N(Main!C$8:C$100)<>0,IF(Main!$C$8:$C$100=$C$7,ROW(C$8:C$100)-ROW(C$8)+1)),ROWS($A$1:B27))))","v":""},{"$f":"IF(ROWS($A$1:C27)>COUNTIF(Main!$C$8:$C$100,$C$7),\"\",INDEX(Main!D$8:D$100,SMALL(IF(Main!D$8:D$100<>\"\",IF(Main!$C$8:$C$100=$C$7,ROW(D$8:D$100)-ROW(D$8)+1)),ROWS($A$1:C27))))","v":""},{"$f":"IF(ROWS($A$1:D27)>COUNTIF(Main!$C$8:$C$100,$C$7),\"\",INDEX(Main!E$8:E$100,SMALL(IF(N(Main!E$8:E$100)<>0,IF(Main!$C$8:$C$100=$C$7,ROW(E$8:E$100)-ROW(E$8)+1)),ROWS($A$1:D27))))","v":""},{"$f":"IF(ROWS($A$1:E27)>COUNTIF(Main!$C$8:$C$100,$C$7),\"\",INDEX(Main!F$8:F$100,SMALL(IF(Main!F$8:F$100<>\"\",IF(Main!$C$8:$C$100=$C$7,ROW(F$8:F$100)-ROW(F$8)+1)),ROWS($A$1:E27))))","v":""},{"$f":"IF(ROWS($A$1:F27)>COUNTIF(Main!$C$8:$C$100,$C$7),\"\",INDEX(Main!G$8:G$100,SMALL(IF(Main!G$8:G$100<>\"\",IF(Main!$C$8:$C$100=$C$7,ROW(G$8:G$100)-ROW(G$8)+1)),ROWS($A$1:F27))))","v":""},{"$f":"IF(ROWS($A$1:G27)>COUNTIF(Main!$C$8:$C$100,$C$7),\"\",INDEX(Main!H$8:H$100,SMALL(IF(N(Main!H$8:H$100)<>0,IF(Main!$C$8:$C$100=$C$7,ROW(H$8:H$100)-ROW(H$8)+1)),ROWS($A$1:G27))))","v":""},{"$f":"IF(ROWS($A$1:H27)>COUNTIF(Main!$C$8:$C$100,$C$7),\"\",INDEX(Main!I$8:I$100,SMALL(IF(N(Main!I$8:I$100)<>0,IF(Main!$C$8:$C$100=$C$7,ROW(I$8:I$100)-ROW(I$8)+1)),ROWS($A$1:H27))))","v":""},{"$f":"IF(ROWS($A$1:I27)>COUNTIF(Main!$C$8:$C$100,$C$7),\"\",INDEX(Main!J$8:J$100,SMALL(IF(N(Main!J$8:J$100)<>0,IF(Main!$C$8:$C$100=$C$7,ROW(J$8:J$100)-ROW(J$8)+1)),ROWS($A$1:I27))))","v":""},{"$f":"IF(ROWS($A$1:J27)>COUNTIF(Main!$C$8:$C$100,$C$7),\"\",INDEX(Main!K$8:K$100,SMALL(IF(N(Main!K$8:K$100)<>0,IF(Main!$C$8:$C$100=$C$7,ROW(K$8:K$100)-ROW(K$8)+1)),ROWS($A$1:J27))))","v":""},{"$f":"IF(ROWS($A$1:K27)>COUNTIF(Main!$C$8:$C$100,$C$7),\"\",INDEX(Main!L$8:L$100,SMALL(IF(N(Main!L$8:L$100)<>0,IF(Main!$C$8:$C$100=$C$7,ROW(L$8:L$100)-ROW(L$8)+1)),ROWS($A$1:K27))))","v":""}]
[{"$f":"IF(B35=\"\",\"\",MAX($A$7:A34)+1)","v":""},{"$f":"IF(ROWS($A$1:A28)>COUNTIF(Main!$C$8:$C$100,$C$7),\"\",INDEX(Main!B$8:B$100,SMALL(IF(N(Main!B$8:B$100)<>0,IF(Main!$C$8:$C$100=$C$7,ROW(B$8:B$100)-ROW(B$8)+1)),ROWS($A$1:A28))))","v":""},{"$f":"IF(ROWS($A$1:B28)>COUNTIF(Main!$C$8:$C$100,$C$7),\"\",INDEX(Main!C$8:C$100,SMALL(IF(N(Main!C$8:C$100)<>0,IF(Main!$C$8:$C$100=$C$7,ROW(C$8:C$100)-ROW(C$8)+1)),ROWS($A$1:B28))))","v":""},{"$f":"IF(ROWS($A$1:C28)>COUNTIF(Main!$C$8:$C$100,$C$7),\"\",INDEX(Main!D$8:D$100,SMALL(IF(Main!D$8:D$100<>\"\",IF(Main!$C$8:$C$100=$C$7,ROW(D$8:D$100)-ROW(D$8)+1)),ROWS($A$1:C28))))","v":""},{"$f":"IF(ROWS($A$1:D28)>COUNTIF(Main!$C$8:$C$100,$C$7),\"\",INDEX(Main!E$8:E$100,SMALL(IF(N(Main!E$8:E$100)<>0,IF(Main!$C$8:$C$100=$C$7,ROW(E$8:E$100)-ROW(E$8)+1)),ROWS($A$1:D28))))","v":""},{"$f":"IF(ROWS($A$1:E28)>COUNTIF(Main!$C$8:$C$100,$C$7),\"\",INDEX(Main!F$8:F$100,SMALL(IF(Main!F$8:F$100<>\"\",IF(Main!$C$8:$C$100=$C$7,ROW(F$8:F$100)-ROW(F$8)+1)),ROWS($A$1:E28))))","v":""},{"$f":"IF(ROWS($A$1:F28)>COUNTIF(Main!$C$8:$C$100,$C$7),\"\",INDEX(Main!G$8:G$100,SMALL(IF(Main!G$8:G$100<>\"\",IF(Main!$C$8:$C$100=$C$7,ROW(G$8:G$100)-ROW(G$8)+1)),ROWS($A$1:F28))))","v":""},{"$f":"IF(ROWS($A$1:G28)>COUNTIF(Main!$C$8:$C$100,$C$7),\"\",INDEX(Main!H$8:H$100,SMALL(IF(N(Main!H$8:H$100)<>0,IF(Main!$C$8:$C$100=$C$7,ROW(H$8:H$100)-ROW(H$8)+1)),ROWS($A$1:G28))))","v":""},{"$f":"IF(ROWS($A$1:H28)>COUNTIF(Main!$C$8:$C$100,$C$7),\"\",INDEX(Main!I$8:I$100,SMALL(IF(N(Main!I$8:I$100)<>0,IF(Main!$C$8:$C$100=$C$7,ROW(I$8:I$100)-ROW(I$8)+1)),ROWS($A$1:H28))))","v":""},{"$f":"IF(ROWS($A$1:I28)>COUNTIF(Main!$C$8:$C$100,$C$7),\"\",INDEX(Main!J$8:J$100,SMALL(IF(N(Main!J$8:J$100)<>0,IF(Main!$C$8:$C$100=$C$7,ROW(J$8:J$100)-ROW(J$8)+1)),ROWS($A$1:I28))))","v":""},{"$f":"IF(ROWS($A$1:J28)>COUNTIF(Main!$C$8:$C$100,$C$7),\"\",INDEX(Main!K$8:K$100,SMALL(IF(N(Main!K$8:K$100)<>0,IF(Main!$C$8:$C$100=$C$7,ROW(K$8:K$100)-ROW(K$8)+1)),ROWS($A$1:J28))))","v":""},{"$f":"IF(ROWS($A$1:K28)>COUNTIF(Main!$C$8:$C$100,$C$7),\"\",INDEX(Main!L$8:L$100,SMALL(IF(N(Main!L$8:L$100)<>0,IF(Main!$C$8:$C$100=$C$7,ROW(L$8:L$100)-ROW(L$8)+1)),ROWS($A$1:K28))))","v":""}]
[{"$f":"IF(B36=\"\",\"\",MAX($A$7:A35)+1)","v":""},{"$f":"IF(ROWS($A$1:A29)>COUNTIF(Main!$C$8:$C$100,$C$7),\"\",INDEX(Main!B$8:B$100,SMALL(IF(N(Main!B$8:B$100)<>0,IF(Main!$C$8:$C$100=$C$7,ROW(B$8:B$100)-ROW(B$8)+1)),ROWS($A$1:A29))))","v":""},{"$f":"IF(ROWS($A$1:B29)>COUNTIF(Main!$C$8:$C$100,$C$7),\"\",INDEX(Main!C$8:C$100,SMALL(IF(N(Main!C$8:C$100)<>0,IF(Main!$C$8:$C$100=$C$7,ROW(C$8:C$100)-ROW(C$8)+1)),ROWS($A$1:B29))))","v":""},{"$f":"IF(ROWS($A$1:C29)>COUNTIF(Main!$C$8:$C$100,$C$7),\"\",INDEX(Main!D$8:D$100,SMALL(IF(Main!D$8:D$100<>\"\",IF(Main!$C$8:$C$100=$C$7,ROW(D$8:D$100)-ROW(D$8)+1)),ROWS($A$1:C29))))","v":""},{"$f":"IF(ROWS($A$1:D29)>COUNTIF(Main!$C$8:$C$100,$C$7),\"\",INDEX(Main!E$8:E$100,SMALL(IF(N(Main!E$8:E$100)<>0,IF(Main!$C$8:$C$100=$C$7,ROW(E$8:E$100)-ROW(E$8)+1)),ROWS($A$1:D29))))","v":""},{"$f":"IF(ROWS($A$1:E29)>COUNTIF(Main!$C$8:$C$100,$C$7),\"\",INDEX(Main!F$8:F$100,SMALL(IF(Main!F$8:F$100<>\"\",IF(Main!$C$8:$C$100=$C$7,ROW(F$8:F$100)-ROW(F$8)+1)),ROWS($A$1:E29))))","v":""},{"$f":"IF(ROWS($A$1:F29)>COUNTIF(Main!$C$8:$C$100,$C$7),\"\",INDEX(Main!G$8:G$100,SMALL(IF(Main!G$8:G$100<>\"\",IF(Main!$C$8:$C$100=$C$7,ROW(G$8:G$100)-ROW(G$8)+1)),ROWS($A$1:F29))))","v":""},{"$f":"IF(ROWS($A$1:G29)>COUNTIF(Main!$C$8:$C$100,$C$7),\"\",INDEX(Main!H$8:H$100,SMALL(IF(N(Main!H$8:H$100)<>0,IF(Main!$C$8:$C$100=$C$7,ROW(H$8:H$100)-ROW(H$8)+1)),ROWS($A$1:G29))))","v":""},{"$f":"IF(ROWS($A$1:H29)>COUNTIF(Main!$C$8:$C$100,$C$7),\"\",INDEX(Main!I$8:I$100,SMALL(IF(N(Main!I$8:I$100)<>0,IF(Main!$C$8:$C$100=$C$7,ROW(I$8:I$100)-ROW(I$8)+1)),ROWS($A$1:H29))))","v":""},{"$f":"IF(ROWS($A$1:I29)>COUNTIF(Main!$C$8:$C$100,$C$7),\"\",INDEX(Main!J$8:J$100,SMALL(IF(N(Main!J$8:J$100)<>0,IF(Main!$C$8:$C$100=$C$7,ROW(J$8:J$100)-ROW(J$8)+1)),ROWS($A$1:I29))))","v":""},{"$f":"IF(ROWS($A$1:J29)>COUNTIF(Main!$C$8:$C$100,$C$7),\"\",INDEX(Main!K$8:K$100,SMALL(IF(N(Main!K$8:K$100)<>0,IF(Main!$C$8:$C$100=$C$7,ROW(K$8:K$100)-ROW(K$8)+1)),ROWS($A$1:J29))))","v":""},{"$f":"IF(ROWS($A$1:K29)>COUNTIF(Main!$C$8:$C$100,$C$7),\"\",INDEX(Main!L$8:L$100,SMALL(IF(N(Main!L$8:L$100)<>0,IF(Main!$C$8:$C$100=$C$7,ROW(L$8:L$100)-ROW(L$8)+1)),ROWS($A$1:K29))))","v":""}]
[{"$f":"IF(B37=\"\",\"\",MAX($A$7:A36)+1)","v":""},{"$f":"IF(ROWS($A$1:A30)>COUNTIF(Main!$C$8:$C$100,$C$7),\"\",INDEX(Main!B$8:B$100,SMALL(IF(N(Main!B$8:B$100)<>0,IF(Main!$C$8:$C$100=$C$7,ROW(B$8:B$100)-ROW(B$8)+1)),ROWS($A$1:A30))))","v":""},{"$f":"IF(ROWS($A$1:B30)>COUNTIF(Main!$C$8:$C$100,$C$7),\"\",INDEX(Main!C$8:C$100,SMALL(IF(N(Main!C$8:C$100)<>0,IF(Main!$C$8:$C$100=$C$7,ROW(C$8:C$100)-ROW(C$8)+1)),ROWS($A$1:B30))))","v":""},{"$f":"IF(ROWS($A$1:C30)>COUNTIF(Main!$C$8:$C$100,$C$7),\"\",INDEX(Main!D$8:D$100,SMALL(IF(Main!D$8:D$100<>\"\",IF(Main!$C$8:$C$100=$C$7,ROW(D$8:D$100)-ROW(D$8)+1)),ROWS($A$1:C30))))","v":""},{"$f":"IF(ROWS($A$1:D30)>COUNTIF(Main!$C$8:$C$100,$C$7),\"\",INDEX(Main!E$8:E$100,SMALL(IF(N(Main!E$8:E$100)<>0,IF(Main!$C$8:$C$100=$C$7,ROW(E$8:E$100)-ROW(E$8)+1)),ROWS($A$1:D30))))","v":""},{"$f":"IF(ROWS($A$1:E30)>COUNTIF(Main!$C$8:$C$100,$C$7),\"\",INDEX(Main!F$8:F$100,SMALL(IF(Main!F$8:F$100<>\"\",IF(Main!$C$8:$C$100=$C$7,ROW(F$8:F$100)-ROW(F$8)+1)),ROWS($A$1:E30))))","v":""},{"$f":"IF(ROWS($A$1:F30)>COUNTIF(Main!$C$8:$C$100,$C$7),\"\",INDEX(Main!G$8:G$100,SMALL(IF(Main!G$8:G$100<>\"\",IF(Main!$C$8:$C$100=$C$7,ROW(G$8:G$100)-ROW(G$8)+1)),ROWS($A$1:F30))))","v":""},{"$f":"IF(ROWS($A$1:G30)>COUNTIF(Main!$C$8:$C$100,$C$7),\"\",INDEX(Main!H$8:H$100,SMALL(IF(N(Main!H$8:H$100)<>0,IF(Main!$C$8:$C$100=$C$7,ROW(H$8:H$100)-ROW(H$8)+1)),ROWS($A$1:G30))))","v":""},{"$f":"IF(ROWS($A$1:H30)>COUNTIF(Main!$C$8:$C$100,$C$7),\"\",INDEX(Main!I$8:I$100,SMALL(IF(N(Main!I$8:I$100)<>0,IF(Main!$C$8:$C$100=$C$7,ROW(I$8:I$100)-ROW(I$8)+1)),ROWS($A$1:H30))))","v":""},{"$f":"IF(ROWS($A$1:I30)>COUNTIF(Main!$C$8:$C$100,$C$7),\"\",INDEX(Main!J$8:J$100,SMALL(IF(N(Main!J$8:J$100)<>0,IF(Main!$C$8:$C$100=$C$7,ROW(J$8:J$100)-ROW(J$8)+1)),ROWS($A$1:I30))))","v":""},{"$f":"IF(ROWS($A$1:J30)>COUNTIF(Main!$C$8:$C$100,$C$7),\"\",INDEX(Main!K$8:K$100,SMALL(IF(N(Main!K$8:K$100)<>0,IF(Main!$C$8:$C$100=$C$7,ROW(K$8:K$100)-ROW(K$8)+1)),ROWS($A$1:J30))))","v":""},{"$f":"IF(ROWS($A$1:K30)>COUNTIF(Main!$C$8:$C$100,$C$7),\"\",INDEX(Main!L$8:L$100,SMALL(IF(N(Main!L$8:L$100)<>0,IF(Main!$C$8:$C$100=$C$7,ROW(L$8:L$100)-ROW(L$8)+1)),ROWS($A$1:K30))))","v":""}]
[{"$f":"IF(B38=\"\",\"\",MAX($A$7:A37)+1)","v":""},{"$f":"IF(ROWS($A$1:A31)>COUNTIF(Main!$C$8:$C$100,$C$7),\"\",INDEX(Main!B$8:B$100,SMALL(IF(N(Main!B$8:B$100)<>0,IF(Main!$C$8:$C$100=$C$7,ROW(B$8:B$100)-ROW(B$8)+1)),ROWS($A$1:A31))))","v":""},{"$f":"IF(ROWS($A$1:B31)>COUNTIF(Main!$C$8:$C$100,$C$7),\"\",INDEX(Main!C$8:C$100,SMALL(IF(N(Main!C$8:C$100)<>0,IF(Main!$C$8:$C$100=$C$7,ROW(C$8:C$100)-ROW(C$8)+1)),ROWS($A$1:B31))))","v":""},{"$f":"IF(ROWS($A$1:C31)>COUNTIF(Main!$C$8:$C$100,$C$7),\"\",INDEX(Main!D$8:D$100,SMALL(IF(Main!D$8:D$100<>\"\",IF(Main!$C$8:$C$100=$C$7,ROW(D$8:D$100)-ROW(D$8)+1)),ROWS($A$1:C31))))","v":""},{"$f":"IF(ROWS($A$1:D31)>COUNTIF(Main!$C$8:$C$100,$C$7),\"\",INDEX(Main!E$8:E$100,SMALL(IF(N(Main!E$8:E$100)<>0,IF(Main!$C$8:$C$100=$C$7,ROW(E$8:E$100)-ROW(E$8)+1)),ROWS($A$1:D31))))","v":""},{"$f":"IF(ROWS($A$1:E31)>COUNTIF(Main!$C$8:$C$100,$C$7),\"\",INDEX(Main!F$8:F$100,SMALL(IF(Main!F$8:F$100<>\"\",IF(Main!$C$8:$C$100=$C$7,ROW(F$8:F$100)-ROW(F$8)+1)),ROWS($A$1:E31))))","v":""},{"$f":"IF(ROWS($A$1:F31)>COUNTIF(Main!$C$8:$C$100,$C$7),\"\",INDEX(Main!G$8:G$100,SMALL(IF(Main!G$8:G$100<>\"\",IF(Main!$C$8:$C$100=$C$7,ROW(G$8:G$100)-ROW(G$8)+1)),ROWS($A$1:F31))))","v":""},{"$f":"IF(ROWS($A$1:G31)>COUNTIF(Main!$C$8:$C$100,$C$7),\"\",INDEX(Main!H$8:H$100,SMALL(IF(N(Main!H$8:H$100)<>0,IF(Main!$C$8:$C$100=$C$7,ROW(H$8:H$100)-ROW(H$8)+1)),ROWS($A$1:G31))))","v":""},{"$f":"IF(ROWS($A$1:H31)>COUNTIF(Main!$C$8:$C$100,$C$7),\"\",INDEX(Main!I$8:I$100,SMALL(IF(N(Main!I$8:I$100)<>0,IF(Main!$C$8:$C$100=$C$7,ROW(I$8:I$100)-ROW(I$8)+1)),ROWS($A$1:H31))))","v":""},{"$f":"IF(ROWS($A$1:I31)>COUNTIF(Main!$C$8:$C$100,$C$7),\"\",INDEX(Main!J$8:J$100,SMALL(IF(N(Main!J$8:J$100)<>0,IF(Main!$C$8:$C$100=$C$7,ROW(J$8:J$100)-ROW(J$8)+1)),ROWS($A$1:I31))))","v":""},{"$f":"IF(ROWS($A$1:J31)>COUNTIF(Main!$C$8:$C$100,$C$7),\"\",INDEX(Main!K$8:K$100,SMALL(IF(N(Main!K$8:K$100)<>0,IF(Main!$C$8:$C$100=$C$7,ROW(K$8:K$100)-ROW(K$8)+1)),ROWS($A$1:J31))))","v":""},{"$f":"IF(ROWS($A$1:K31)>COUNTIF(Main!$C$8:$C$100,$C$7),\"\",INDEX(Main!L$8:L$100,SMALL(IF(N(Main!L$8:L$100)<>0,IF(Main!$C$8:$C$100=$C$7,ROW(L$8:L$100)-ROW(L$8)+1)),ROWS($A$1:K31))))","v":""}]
[{"$f":"IF(B39=\"\",\"\",MAX($A$7:A38)+1)","v":""},{"$f":"IF(ROWS($A$1:A32)>COUNTIF(Main!$C$8:$C$100,$C$7),\"\",INDEX(Main!B$8:B$100,SMALL(IF(N(Main!B$8:B$100)<>0,IF(Main!$C$8:$C$100=$C$7,ROW(B$8:B$100)-ROW(B$8)+1)),ROWS($A$1:A32))))","v":""},{"$f":"IF(ROWS($A$1:B32)>COUNTIF(Main!$C$8:$C$100,$C$7),\"\",INDEX(Main!C$8:C$100,SMALL(IF(N(Main!C$8:C$100)<>0,IF(Main!$C$8:$C$100=$C$7,ROW(C$8:C$100)-ROW(C$8)+1)),ROWS($A$1:B32))))","v":""},{"$f":"IF(ROWS($A$1:C32)>COUNTIF(Main!$C$8:$C$100,$C$7),\"\",INDEX(Main!D$8:D$100,SMALL(IF(Main!D$8:D$100<>\"\",IF(Main!$C$8:$C$100=$C$7,ROW(D$8:D$100)-ROW(D$8)+1)),ROWS($A$1:C32))))","v":""},{"$f":"IF(ROWS($A$1:D32)>COUNTIF(Main!$C$8:$C$100,$C$7),\"\",INDEX(Main!E$8:E$100,SMALL(IF(N(Main!E$8:E$100)<>0,IF(Main!$C$8:$C$100=$C$7,ROW(E$8:E$100)-ROW(E$8)+1)),ROWS($A$1:D32))))","v":""},{"$f":"IF(ROWS($A$1:E32)>COUNTIF(Main!$C$8:$C$100,$C$7),\"\",INDEX(Main!F$8:F$100,SMALL(IF(Main!F$8:F$100<>\"\",IF(Main!$C$8:$C$100=$C$7,ROW(F$8:F$100)-ROW(F$8)+1)),ROWS($A$1:E32))))","v":""},{"$f":"IF(ROWS($A$1:F32)>COUNTIF(Main!$C$8:$C$100,$C$7),\"\",INDEX(Main!G$8:G$100,SMALL(IF(Main!G$8:G$100<>\"\",IF(Main!$C$8:$C$100=$C$7,ROW(G$8:G$100)-ROW(G$8)+1)),ROWS($A$1:F32))))","v":""},{"$f":"IF(ROWS($A$1:G32)>COUNTIF(Main!$C$8:$C$100,$C$7),\"\",INDEX(Main!H$8:H$100,SMALL(IF(N(Main!H$8:H$100)<>0,IF(Main!$C$8:$C$100=$C$7,ROW(H$8:H$100)-ROW(H$8)+1)),ROWS($A$1:G32))))","v":""},{"$f":"IF(ROWS($A$1:H32)>COUNTIF(Main!$C$8:$C$100,$C$7),\"\",INDEX(Main!I$8:I$100,SMALL(IF(N(Main!I$8:I$100)<>0,IF(Main!$C$8:$C$100=$C$7,ROW(I$8:I$100)-ROW(I$8)+1)),ROWS($A$1:H32))))","v":""},{"$f":"IF(ROWS($A$1:I32)>COUNTIF(Main!$C$8:$C$100,$C$7),\"\",INDEX(Main!J$8:J$100,SMALL(IF(N(Main!J$8:J$100)<>0,IF(Main!$C$8:$C$100=$C$7,ROW(J$8:J$100)-ROW(J$8)+1)),ROWS($A$1:I32))))","v":""},{"$f":"IF(ROWS($A$1:J32)>COUNTIF(Main!$C$8:$C$100,$C$7),\"\",INDEX(Main!K$8:K$100,SMALL(IF(N(Main!K$8:K$100)<>0,IF(Main!$C$8:$C$100=$C$7,ROW(K$8:K$100)-ROW(K$8)+1)),ROWS($A$1:J32))))","v":""},{"$f":"IF(ROWS($A$1:K32)>COUNTIF(Main!$C$8:$C$100,$C$7),\"\",INDEX(Main!L$8:L$100,SMALL(IF(N(Main!L$8:L$100)<>0,IF(Main!$C$8:$C$100=$C$7,ROW(L$8:L$100)-ROW(L$8)+1)),ROWS($A$1:K32))))","v":""}]
[{"$f":"IF(B40=\"\",\"\",MAX($A$7:A39)+1)","v":""},{"$f":"IF(ROWS($A$1:A33)>COUNTIF(Main!$C$8:$C$100,$C$7),\"\",INDEX(Main!B$8:B$100,SMALL(IF(N(Main!B$8:B$100)<>0,IF(Main!$C$8:$C$100=$C$7,ROW(B$8:B$100)-ROW(B$8)+1)),ROWS($A$1:A33))))","v":""},{"$f":"IF(ROWS($A$1:B33)>COUNTIF(Main!$C$8:$C$100,$C$7),\"\",INDEX(Main!C$8:C$100,SMALL(IF(N(Main!C$8:C$100)<>0,IF(Main!$C$8:$C$100=$C$7,ROW(C$8:C$100)-ROW(C$8)+1)),ROWS($A$1:B33))))","v":""},{"$f":"IF(ROWS($A$1:C33)>COUNTIF(Main!$C$8:$C$100,$C$7),\"\",INDEX(Main!D$8:D$100,SMALL(IF(Main!D$8:D$100<>\"\",IF(Main!$C$8:$C$100=$C$7,ROW(D$8:D$100)-ROW(D$8)+1)),ROWS($A$1:C33))))","v":""},{"$f":"IF(ROWS($A$1:D33)>COUNTIF(Main!$C$8:$C$100,$C$7),\"\",INDEX(Main!E$8:E$100,SMALL(IF(N(Main!E$8:E$100)<>0,IF(Main!$C$8:$C$100=$C$7,ROW(E$8:E$100)-ROW(E$8)+1)),ROWS($A$1:D33))))","v":""},{"$f":"IF(ROWS($A$1:E33)>COUNTIF(Main!$C$8:$C$100,$C$7),\"\",INDEX(Main!F$8:F$100,SMALL(IF(Main!F$8:F$100<>\"\",IF(Main!$C$8:$C$100=$C$7,ROW(F$8:F$100)-ROW(F$8)+1)),ROWS($A$1:E33))))","v":""},{"$f":"IF(ROWS($A$1:F33)>COUNTIF(Main!$C$8:$C$100,$C$7),\"\",INDEX(Main!G$8:G$100,SMALL(IF(Main!G$8:G$100<>\"\",IF(Main!$C$8:$C$100=$C$7,ROW(G$8:G$100)-ROW(G$8)+1)),ROWS($A$1:F33))))","v":""},{"$f":"IF(ROWS($A$1:G33)>COUNTIF(Main!$C$8:$C$100,$C$7),\"\",INDEX(Main!H$8:H$100,SMALL(IF(N(Main!H$8:H$100)<>0,IF(Main!$C$8:$C$100=$C$7,ROW(H$8:H$100)-ROW(H$8)+1)),ROWS($A$1:G33))))","v":""},{"$f":"IF(ROWS($A$1:H33)>COUNTIF(Main!$C$8:$C$100,$C$7),\"\",INDEX(Main!I$8:I$100,SMALL(IF(N(Main!I$8:I$100)<>0,IF(Main!$C$8:$C$100=$C$7,ROW(I$8:I$100)-ROW(I$8)+1)),ROWS($A$1:H33))))","v":""},{"$f":"IF(ROWS($A$1:I33)>COUNTIF(Main!$C$8:$C$100,$C$7),\"\",INDEX(Main!J$8:J$100,SMALL(IF(N(Main!J$8:J$100)<>0,IF(Main!$C$8:$C$100=$C$7,ROW(J$8:J$100)-ROW(J$8)+1)),ROWS($A$1:I33))))","v":""},{"$f":"IF(ROWS($A$1:J33)>COUNTIF(Main!$C$8:$C$100,$C$7),\"\",INDEX(Main!K$8:K$100,SMALL(IF(N(Main!K$8:K$100)<>0,IF(Main!$C$8:$C$100=$C$7,ROW(K$8:K$100)-ROW(K$8)+1)),ROWS($A$1:J33))))","v":""},{"$f":"IF(ROWS($A$1:K33)>COUNTIF(Main!$C$8:$C$100,$C$7),\"\",INDEX(Main!L$8:L$100,SMALL(IF(N(Main!L$8:L$100)<>0,IF(Main!$C$8:$C$100=$C$7,ROW(L$8:L$100)-ROW(L$8)+1)),ROWS($A$1:K33))))","v":""}]
[{"$f":"IF(B41=\"\",\"\",MAX($A$7:A40)+1)","v":""},{"$f":"IF(ROWS($A$1:A34)>COUNTIF(Main!$C$8:$C$100,$C$7),\"\",INDEX(Main!B$8:B$100,SMALL(IF(N(Main!B$8:B$100)<>0,IF(Main!$C$8:$C$100=$C$7,ROW(B$8:B$100)-ROW(B$8)+1)),ROWS($A$1:A34))))","v":""},{"$f":"IF(ROWS($A$1:B34)>COUNTIF(Main!$C$8:$C$100,$C$7),\"\",INDEX(Main!C$8:C$100,SMALL(IF(N(Main!C$8:C$100)<>0,IF(Main!$C$8:$C$100=$C$7,ROW(C$8:C$100)-ROW(C$8)+1)),ROWS($A$1:B34))))","v":""},{"$f":"IF(ROWS($A$1:C34)>COUNTIF(Main!$C$8:$C$100,$C$7),\"\",INDEX(Main!D$8:D$100,SMALL(IF(Main!D$8:D$100<>\"\",IF(Main!$C$8:$C$100=$C$7,ROW(D$8:D$100)-ROW(D$8)+1)),ROWS($A$1:C34))))","v":""},{"$f":"IF(ROWS($A$1:D34)>COUNTIF(Main!$C$8:$C$100,$C$7),\"\",INDEX(Main!E$8:E$100,SMALL(IF(N(Main!E$8:E$100)<>0,IF(Main!$C$8:$C$100=$C$7,ROW(E$8:E$100)-ROW(E$8)+1)),ROWS($A$1:D34))))","v":""},{"$f":"IF(ROWS($A$1:E34)>COUNTIF(Main!$C$8:$C$100,$C$7),\"\",INDEX(Main!F$8:F$100,SMALL(IF(Main!F$8:F$100<>\"\",IF(Main!$C$8:$C$100=$C$7,ROW(F$8:F$100)-ROW(F$8)+1)),ROWS($A$1:E34))))","v":""},{"$f":"IF(ROWS($A$1:F34)>COUNTIF(Main!$C$8:$C$100,$C$7),\"\",INDEX(Main!G$8:G$100,SMALL(IF(Main!G$8:G$100<>\"\",IF(Main!$C$8:$C$100=$C$7,ROW(G$8:G$100)-ROW(G$8)+1)),ROWS($A$1:F34))))","v":""},{"$f":"IF(ROWS($A$1:G34)>COUNTIF(Main!$C$8:$C$100,$C$7),\"\",INDEX(Main!H$8:H$100,SMALL(IF(N(Main!H$8:H$100)<>0,IF(Main!$C$8:$C$100=$C$7,ROW(H$8:H$100)-ROW(H$8)+1)),ROWS($A$1:G34))))","v":""},{"$f":"IF(ROWS($A$1:H34)>COUNTIF(Main!$C$8:$C$100,$C$7),\"\",INDEX(Main!I$8:I$100,SMALL(IF(N(Main!I$8:I$100)<>0,IF(Main!$C$8:$C$100=$C$7,ROW(I$8:I$100)-ROW(I$8)+1)),ROWS($A$1:H34))))","v":""},{"$f":"IF(ROWS($A$1:I34)>COUNTIF(Main!$C$8:$C$100,$C$7),\"\",INDEX(Main!J$8:J$100,SMALL(IF(N(Main!J$8:J$100)<>0,IF(Main!$C$8:$C$100=$C$7,ROW(J$8:J$100)-ROW(J$8)+1)),ROWS($A$1:I34))))","v":""},{"$f":"IF(ROWS($A$1:J34)>COUNTIF(Main!$C$8:$C$100,$C$7),\"\",INDEX(Main!K$8:K$100,SMALL(IF(N(Main!K$8:K$100)<>0,IF(Main!$C$8:$C$100=$C$7,ROW(K$8:K$100)-ROW(K$8)+1)),ROWS($A$1:J34))))","v":""},{"$f":"IF(ROWS($A$1:K34)>COUNTIF(Main!$C$8:$C$100,$C$7),\"\",INDEX(Main!L$8:L$100,SMALL(IF(N(Main!L$8:L$100)<>0,IF(Main!$C$8:$C$100=$C$7,ROW(L$8:L$100)-ROW(L$8)+1)),ROWS($A$1:K34))))","v":""}]
[{"$f":"IF(B42=\"\",\"\",MAX($A$7:A41)+1)","v":""},{"$f":"IF(ROWS($A$1:A35)>COUNTIF(Main!$C$8:$C$100,$C$7),\"\",INDEX(Main!B$8:B$100,SMALL(IF(N(Main!B$8:B$100)<>0,IF(Main!$C$8:$C$100=$C$7,ROW(B$8:B$100)-ROW(B$8)+1)),ROWS($A$1:A35))))","v":""},{"$f":"IF(ROWS($A$1:B35)>COUNTIF(Main!$C$8:$C$100,$C$7),\"\",INDEX(Main!C$8:C$100,SMALL(IF(N(Main!C$8:C$100)<>0,IF(Main!$C$8:$C$100=$C$7,ROW(C$8:C$100)-ROW(C$8)+1)),ROWS($A$1:B35))))","v":""},{"$f":"IF(ROWS($A$1:C35)>COUNTIF(Main!$C$8:$C$100,$C$7),\"\",INDEX(Main!D$8:D$100,SMALL(IF(Main!D$8:D$100<>\"\",IF(Main!$C$8:$C$100=$C$7,ROW(D$8:D$100)-ROW(D$8)+1)),ROWS($A$1:C35))))","v":""},{"$f":"IF(ROWS($A$1:D35)>COUNTIF(Main!$C$8:$C$100,$C$7),\"\",INDEX(Main!E$8:E$100,SMALL(IF(N(Main!E$8:E$100)<>0,IF(Main!$C$8:$C$100=$C$7,ROW(E$8:E$100)-ROW(E$8)+1)),ROWS($A$1:D35))))","v":""},{"$f":"IF(ROWS($A$1:E35)>COUNTIF(Main!$C$8:$C$100,$C$7),\"\",INDEX(Main!F$8:F$100,SMALL(IF(Main!F$8:F$100<>\"\",IF(Main!$C$8:$C$100=$C$7,ROW(F$8:F$100)-ROW(F$8)+1)),ROWS($A$1:E35))))","v":""},{"$f":"IF(ROWS($A$1:F35)>COUNTIF(Main!$C$8:$C$100,$C$7),\"\",INDEX(Main!G$8:G$100,SMALL(IF(Main!G$8:G$100<>\"\",IF(Main!$C$8:$C$100=$C$7,ROW(G$8:G$100)-ROW(G$8)+1)),ROWS($A$1:F35))))","v":""},{"$f":"IF(ROWS($A$1:G35)>COUNTIF(Main!$C$8:$C$100,$C$7),\"\",INDEX(Main!H$8:H$100,SMALL(IF(N(Main!H$8:H$100)<>0,IF(Main!$C$8:$C$100=$C$7,ROW(H$8:H$100)-ROW(H$8)+1)),ROWS($A$1:G35))))","v":""},{"$f":"IF(ROWS($A$1:H35)>COUNTIF(Main!$C$8:$C$100,$C$7),\"\",INDEX(Main!I$8:I$100,SMALL(IF(N(Main!I$8:I$100)<>0,IF(Main!$C$8:$C$100=$C$7,ROW(I$8:I$100)-ROW(I$8)+1)),ROWS($A$1:H35))))","v":""},{"$f":"IF(ROWS($A$1:I35)>COUNTIF(Main!$C$8:$C$100,$C$7),\"\",INDEX(Main!J$8:J$100,SMALL(IF(N(Main!J$8:J$100)<>0,IF(Main!$C$8:$C$100=$C$7,ROW(J$8:J$100)-ROW(J$8)+1)),ROWS($A$1:I35))))","v":""},{"$f":"IF(ROWS($A$1:J35)>COUNTIF(Main!$C$8:$C$100,$C$7),\"\",INDEX(Main!K$8:K$100,SMALL(IF(N(Main!K$8:K$100)<>0,IF(Main!$C$8:$C$100=$C$7,ROW(K$8:K$100)-ROW(K$8)+1)),ROWS($A$1:J35))))","v":""},{"$f":"IF(ROWS($A$1:K35)>COUNTIF(Main!$C$8:$C$100,$C$7),\"\",INDEX(Main!L$8:L$100,SMALL(IF(N(Main!L$8:L$100)<>0,IF(Main!$C$8:$C$100=$C$7,ROW(L$8:L$100)-ROW(L$8)+1)),ROWS($A$1:K35))))","v":""}]
[{"$f":"IF(B43=\"\",\"\",MAX($A$7:A42)+1)","v":""},{"$f":"IF(ROWS($A$1:A36)>COUNTIF(Main!$C$8:$C$100,$C$7),\"\",INDEX(Main!B$8:B$100,SMALL(IF(N(Main!B$8:B$100)<>0,IF(Main!$C$8:$C$100=$C$7,ROW(B$8:B$100)-ROW(B$8)+1)),ROWS($A$1:A36))))","v":""},{"$f":"IF(ROWS($A$1:B36)>COUNTIF(Main!$C$8:$C$100,$C$7),\"\",INDEX(Main!C$8:C$100,SMALL(IF(N(Main!C$8:C$100)<>0,IF(Main!$C$8:$C$100=$C$7,ROW(C$8:C$100)-ROW(C$8)+1)),ROWS($A$1:B36))))","v":""},{"$f":"IF(ROWS($A$1:C36)>COUNTIF(Main!$C$8:$C$100,$C$7),\"\",INDEX(Main!D$8:D$100,SMALL(IF(Main!D$8:D$100<>\"\",IF(Main!$C$8:$C$100=$C$7,ROW(D$8:D$100)-ROW(D$8)+1)),ROWS($A$1:C36))))","v":""},{"$f":"IF(ROWS($A$1:D36)>COUNTIF(Main!$C$8:$C$100,$C$7),\"\",INDEX(Main!E$8:E$100,SMALL(IF(N(Main!E$8:E$100)<>0,IF(Main!$C$8:$C$100=$C$7,ROW(E$8:E$100)-ROW(E$8)+1)),ROWS($A$1:D36))))","v":""},{"$f":"IF(ROWS($A$1:E36)>COUNTIF(Main!$C$8:$C$100,$C$7),\"\",INDEX(Main!F$8:F$100,SMALL(IF(Main!F$8:F$100<>\"\",IF(Main!$C$8:$C$100=$C$7,ROW(F$8:F$100)-ROW(F$8)+1)),ROWS($A$1:E36))))","v":""},{"$f":"IF(ROWS($A$1:F36)>COUNTIF(Main!$C$8:$C$100,$C$7),\"\",INDEX(Main!G$8:G$100,SMALL(IF(Main!G$8:G$100<>\"\",IF(Main!$C$8:$C$100=$C$7,ROW(G$8:G$100)-ROW(G$8)+1)),ROWS($A$1:F36))))","v":""},{"$f":"IF(ROWS($A$1:G36)>COUNTIF(Main!$C$8:$C$100,$C$7),\"\",INDEX(Main!H$8:H$100,SMALL(IF(N(Main!H$8:H$100)<>0,IF(Main!$C$8:$C$100=$C$7,ROW(H$8:H$100)-ROW(H$8)+1)),ROWS($A$1:G36))))","v":""},{"$f":"IF(ROWS($A$1:H36)>COUNTIF(Main!$C$8:$C$100,$C$7),\"\",INDEX(Main!I$8:I$100,SMALL(IF(N(Main!I$8:I$100)<>0,IF(Main!$C$8:$C$100=$C$7,ROW(I$8:I$100)-ROW(I$8)+1)),ROWS($A$1:H36))))","v":""},{"$f":"IF(ROWS($A$1:I36)>COUNTIF(Main!$C$8:$C$100,$C$7),\"\",INDEX(Main!J$8:J$100,SMALL(IF(N(Main!J$8:J$100)<>0,IF(Main!$C$8:$C$100=$C$7,ROW(J$8:J$100)-ROW(J$8)+1)),ROWS($A$1:I36))))","v":""},{"$f":"IF(ROWS($A$1:J36)>COUNTIF(Main!$C$8:$C$100,$C$7),\"\",INDEX(Main!K$8:K$100,SMALL(IF(N(Main!K$8:K$100)<>0,IF(Main!$C$8:$C$100=$C$7,ROW(K$8:K$100)-ROW(K$8)+1)),ROWS($A$1:J36))))","v":""},{"$f":"IF(ROWS($A$1:K36)>COUNTIF(Main!$C$8:$C$100,$C$7),\"\",INDEX(Main!L$8:L$100,SMALL(IF(N(Main!L$8:L$100)<>0,IF(Main!$C$8:$C$100=$C$7,ROW(L$8:L$100)-ROW(L$8)+1)),ROWS($A$1:K36))))","v":""}]
[{"$f":"IF(B44=\"\",\"\",MAX($A$7:A43)+1)","v":""},{"$f":"IF(ROWS($A$1:A37)>COUNTIF(Main!$C$8:$C$100,$C$7),\"\",INDEX(Main!B$8:B$100,SMALL(IF(N(Main!B$8:B$100)<>0,IF(Main!$C$8:$C$100=$C$7,ROW(B$8:B$100)-ROW(B$8)+1)),ROWS($A$1:A37))))","v":""},{"$f":"IF(ROWS($A$1:B37)>COUNTIF(Main!$C$8:$C$100,$C$7),\"\",INDEX(Main!C$8:C$100,SMALL(IF(N(Main!C$8:C$100)<>0,IF(Main!$C$8:$C$100=$C$7,ROW(C$8:C$100)-ROW(C$8)+1)),ROWS($A$1:B37))))","v":""},{"$f":"IF(ROWS($A$1:C37)>COUNTIF(Main!$C$8:$C$100,$C$7),\"\",INDEX(Main!D$8:D$100,SMALL(IF(Main!D$8:D$100<>\"\",IF(Main!$C$8:$C$100=$C$7,ROW(D$8:D$100)-ROW(D$8)+1)),ROWS($A$1:C37))))","v":""},{"$f":"IF(ROWS($A$1:D37)>COUNTIF(Main!$C$8:$C$100,$C$7),\"\",INDEX(Main!E$8:E$100,SMALL(IF(N(Main!E$8:E$100)<>0,IF(Main!$C$8:$C$100=$C$7,ROW(E$8:E$100)-ROW(E$8)+1)),ROWS($A$1:D37))))","v":""},{"$f":"IF(ROWS($A$1:E37)>COUNTIF(Main!$C$8:$C$100,$C$7),\"\",INDEX(Main!F$8:F$100,SMALL(IF(Main!F$8:F$100<>\"\",IF(Main!$C$8:$C$100=$C$7,ROW(F$8:F$100)-ROW(F$8)+1)),ROWS($A$1:E37))))","v":""},{"$f":"IF(ROWS($A$1:F37)>COUNTIF(Main!$C$8:$C$100,$C$7),\"\",INDEX(Main!G$8:G$100,SMALL(IF(Main!G$8:G$100<>\"\",IF(Main!$C$8:$C$100=$C$7,ROW(G$8:G$100)-ROW(G$8)+1)),ROWS($A$1:F37))))","v":""},{"$f":"IF(ROWS($A$1:G37)>COUNTIF(Main!$C$8:$C$100,$C$7),\"\",INDEX(Main!H$8:H$100,SMALL(IF(N(Main!H$8:H$100)<>0,IF(Main!$C$8:$C$100=$C$7,ROW(H$8:H$100)-ROW(H$8)+1)),ROWS($A$1:G37))))","v":""},{"$f":"IF(ROWS($A$1:H37)>COUNTIF(Main!$C$8:$C$100,$C$7),\"\",INDEX(Main!I$8:I$100,SMALL(IF(N(Main!I$8:I$100)<>0,IF(Main!$C$8:$C$100=$C$7,ROW(I$8:I$100)-ROW(I$8)+1)),ROWS($A$1:H37))))","v":""},{"$f":"IF(ROWS($A$1:I37)>COUNTIF(Main!$C$8:$C$100,$C$7),\"\",INDEX(Main!J$8:J$100,SMALL(IF(N(Main!J$8:J$100)<>0,IF(Main!$C$8:$C$100=$C$7,ROW(J$8:J$100)-ROW(J$8)+1)),ROWS($A$1:I37))))","v":""},{"$f":"IF(ROWS($A$1:J37)>COUNTIF(Main!$C$8:$C$100,$C$7),\"\",INDEX(Main!K$8:K$100,SMALL(IF(N(Main!K$8:K$100)<>0,IF(Main!$C$8:$C$100=$C$7,ROW(K$8:K$100)-ROW(K$8)+1)),ROWS($A$1:J37))))","v":""},{"$f":"IF(ROWS($A$1:K37)>COUNTIF(Main!$C$8:$C$100,$C$7),\"\",INDEX(Main!L$8:L$100,SMALL(IF(N(Main!L$8:L$100)<>0,IF(Main!$C$8:$C$100=$C$7,ROW(L$8:L$100)-ROW(L$8)+1)),ROWS($A$1:K37))))","v":""}]
[{"$f":"IF(B45=\"\",\"\",MAX($A$7:A44)+1)","v":""},{"$f":"IF(ROWS($A$1:A38)>COUNTIF(Main!$C$8:$C$100,$C$7),\"\",INDEX(Main!B$8:B$100,SMALL(IF(N(Main!B$8:B$100)<>0,IF(Main!$C$8:$C$100=$C$7,ROW(B$8:B$100)-ROW(B$8)+1)),ROWS($A$1:A38))))","v":""},{"$f":"IF(ROWS($A$1:B38)>COUNTIF(Main!$C$8:$C$100,$C$7),\"\",INDEX(Main!C$8:C$100,SMALL(IF(N(Main!C$8:C$100)<>0,IF(Main!$C$8:$C$100=$C$7,ROW(C$8:C$100)-ROW(C$8)+1)),ROWS($A$1:B38))))","v":""},{"$f":"IF(ROWS($A$1:C38)>COUNTIF(Main!$C$8:$C$100,$C$7),\"\",INDEX(Main!D$8:D$100,SMALL(IF(Main!D$8:D$100<>\"\",IF(Main!$C$8:$C$100=$C$7,ROW(D$8:D$100)-ROW(D$8)+1)),ROWS($A$1:C38))))","v":""},{"$f":"IF(ROWS($A$1:D38)>COUNTIF(Main!$C$8:$C$100,$C$7),\"\",INDEX(Main!E$8:E$100,SMALL(IF(N(Main!E$8:E$100)<>0,IF(Main!$C$8:$C$100=$C$7,ROW(E$8:E$100)-ROW(E$8)+1)),ROWS($A$1:D38))))","v":""},{"$f":"IF(ROWS($A$1:E38)>COUNTIF(Main!$C$8:$C$100,$C$7),\"\",INDEX(Main!F$8:F$100,SMALL(IF(Main!F$8:F$100<>\"\",IF(Main!$C$8:$C$100=$C$7,ROW(F$8:F$100)-ROW(F$8)+1)),ROWS($A$1:E38))))","v":""},{"$f":"IF(ROWS($A$1:F38)>COUNTIF(Main!$C$8:$C$100,$C$7),\"\",INDEX(Main!G$8:G$100,SMALL(IF(Main!G$8:G$100<>\"\",IF(Main!$C$8:$C$100=$C$7,ROW(G$8:G$100)-ROW(G$8)+1)),ROWS($A$1:F38))))","v":""},{"$f":"IF(ROWS($A$1:G38)>COUNTIF(Main!$C$8:$C$100,$C$7),\"\",INDEX(Main!H$8:H$100,SMALL(IF(N(Main!H$8:H$100)<>0,IF(Main!$C$8:$C$100=$C$7,ROW(H$8:H$100)-ROW(H$8)+1)),ROWS($A$1:G38))))","v":""},{"$f":"IF(ROWS($A$1:H38)>COUNTIF(Main!$C$8:$C$100,$C$7),\"\",INDEX(Main!I$8:I$100,SMALL(IF(N(Main!I$8:I$100)<>0,IF(Main!$C$8:$C$100=$C$7,ROW(I$8:I$100)-ROW(I$8)+1)),ROWS($A$1:H38))))","v":""},{"$f":"IF(ROWS($A$1:I38)>COUNTIF(Main!$C$8:$C$100,$C$7),\"\",INDEX(Main!J$8:J$100,SMALL(IF(N(Main!J$8:J$100)<>0,IF(Main!$C$8:$C$100=$C$7,ROW(J$8:J$100)-ROW(J$8)+1)),ROWS($A$1:I38))))","v":""},{"$f":"IF(ROWS($A$1:J38)>COUNTIF(Main!$C$8:$C$100,$C$7),\"\",INDEX(Main!K$8:K$100,SMALL(IF(N(Main!K$8:K$100)<>0,IF(Main!$C$8:$C$100=$C$7,ROW(K$8:K$100)-ROW(K$8)+1)),ROWS($A$1:J38))))","v":""},{"$f":"IF(ROWS($A$1:K38)>COUNTIF(Main!$C$8:$C$100,$C$7),\"\",INDEX(Main!L$8:L$100,SMALL(IF(N(Main!L$8:L$100)<>0,IF(Main!$C$8:$C$100=$C$7,ROW(L$8:L$100)-ROW(L$8)+1)),ROWS($A$1:K38))))","v":""}]
[{"$f":"IF(B46=\"\",\"\",MAX($A$7:A45)+1)","v":""},{"$f":"IF(ROWS($A$1:A39)>COUNTIF(Main!$C$8:$C$100,$C$7),\"\",INDEX(Main!B$8:B$100,SMALL(IF(N(Main!B$8:B$100)<>0,IF(Main!$C$8:$C$100=$C$7,ROW(B$8:B$100)-ROW(B$8)+1)),ROWS($A$1:A39))))","v":""},{"$f":"IF(ROWS($A$1:B39)>COUNTIF(Main!$C$8:$C$100,$C$7),\"\",INDEX(Main!C$8:C$100,SMALL(IF(N(Main!C$8:C$100)<>0,IF(Main!$C$8:$C$100=$C$7,ROW(C$8:C$100)-ROW(C$8)+1)),ROWS($A$1:B39))))","v":""},{"$f":"IF(ROWS($A$1:C39)>COUNTIF(Main!$C$8:$C$100,$C$7),\"\",INDEX(Main!D$8:D$100,SMALL(IF(Main!D$8:D$100<>\"\",IF(Main!$C$8:$C$100=$C$7,ROW(D$8:D$100)-ROW(D$8)+1)),ROWS($A$1:C39))))","v":""},{"$f":"IF(ROWS($A$1:D39)>COUNTIF(Main!$C$8:$C$100,$C$7),\"\",INDEX(Main!E$8:E$100,SMALL(IF(N(Main!E$8:E$100)<>0,IF(Main!$C$8:$C$100=$C$7,ROW(E$8:E$100)-ROW(E$8)+1)),ROWS($A$1:D39))))","v":""},{"$f":"IF(ROWS($A$1:E39)>COUNTIF(Main!$C$8:$C$100,$C$7),\"\",INDEX(Main!F$8:F$100,SMALL(IF(Main!F$8:F$100<>\"\",IF(Main!$C$8:$C$100=$C$7,ROW(F$8:F$100)-ROW(F$8)+1)),ROWS($A$1:E39))))","v":""},{"$f":"IF(ROWS($A$1:F39)>COUNTIF(Main!$C$8:$C$100,$C$7),\"\",INDEX(Main!G$8:G$100,SMALL(IF(Main!G$8:G$100<>\"\",IF(Main!$C$8:$C$100=$C$7,ROW(G$8:G$100)-ROW(G$8)+1)),ROWS($A$1:F39))))","v":""},{"$f":"IF(ROWS($A$1:G39)>COUNTIF(Main!$C$8:$C$100,$C$7),\"\",INDEX(Main!H$8:H$100,SMALL(IF(N(Main!H$8:H$100)<>0,IF(Main!$C$8:$C$100=$C$7,ROW(H$8:H$100)-ROW(H$8)+1)),ROWS($A$1:G39))))","v":""},{"$f":"IF(ROWS($A$1:H39)>COUNTIF(Main!$C$8:$C$100,$C$7),\"\",INDEX(Main!I$8:I$100,SMALL(IF(N(Main!I$8:I$100)<>0,IF(Main!$C$8:$C$100=$C$7,ROW(I$8:I$100)-ROW(I$8)+1)),ROWS($A$1:H39))))","v":""},{"$f":"IF(ROWS($A$1:I39)>COUNTIF(Main!$C$8:$C$100,$C$7),\"\",INDEX(Main!J$8:J$100,SMALL(IF(N(Main!J$8:J$100)<>0,IF(Main!$C$8:$C$100=$C$7,ROW(J$8:J$100)-ROW(J$8)+1)),ROWS($A$1:I39))))","v":""},{"$f":"IF(ROWS($A$1:J39)>COUNTIF(Main!$C$8:$C$100,$C$7),\"\",INDEX(Main!K$8:K$100,SMALL(IF(N(Main!K$8:K$100)<>0,IF(Main!$C$8:$C$100=$C$7,ROW(K$8:K$100)-ROW(K$8)+1)),ROWS($A$1:J39))))","v":""},{"$f":"IF(ROWS($A$1:K39)>COUNTIF(Main!$C$8:$C$100,$C$7),\"\",INDEX(Main!L$8:L$100,SMALL(IF(N(Main!L$8:L$100)<>0,IF(Main!$C$8:$C$100=$C$7,ROW(L$8:L$100)-ROW(L$8)+1)),ROWS($A$1:K39))))","v":""}]
[{"$f":"IF(B47=\"\",\"\",MAX($A$7:A46)+1)","v":""},{"$f":"IF(ROWS($A$1:A40)>COUNTIF(Main!$C$8:$C$100,$C$7),\"\",INDEX(Main!B$8:B$100,SMALL(IF(N(Main!B$8:B$100)<>0,IF(Main!$C$8:$C$100=$C$7,ROW(B$8:B$100)-ROW(B$8)+1)),ROWS($A$1:A40))))","v":""},{"$f":"IF(ROWS($A$1:B40)>COUNTIF(Main!$C$8:$C$100,$C$7),\"\",INDEX(Main!C$8:C$100,SMALL(IF(N(Main!C$8:C$100)<>0,IF(Main!$C$8:$C$100=$C$7,ROW(C$8:C$100)-ROW(C$8)+1)),ROWS($A$1:B40))))","v":""},{"$f":"IF(ROWS($A$1:C40)>COUNTIF(Main!$C$8:$C$100,$C$7),\"\",INDEX(Main!D$8:D$100,SMALL(IF(Main!D$8:D$100<>\"\",IF(Main!$C$8:$C$100=$C$7,ROW(D$8:D$100)-ROW(D$8)+1)),ROWS($A$1:C40))))","v":""},{"$f":"IF(ROWS($A$1:D40)>COUNTIF(Main!$C$8:$C$100,$C$7),\"\",INDEX(Main!E$8:E$100,SMALL(IF(N(Main!E$8:E$100)<>0,IF(Main!$C$8:$C$100=$C$7,ROW(E$8:E$100)-ROW(E$8)+1)),ROWS($A$1:D40))))","v":""},{"$f":"IF(ROWS($A$1:E40)>COUNTIF(Main!$C$8:$C$100,$C$7),\"\",INDEX(Main!F$8:F$100,SMALL(IF(Main!F$8:F$100<>\"\",IF(Main!$C$8:$C$100=$C$7,ROW(F$8:F$100)-ROW(F$8)+1)),ROWS($A$1:E40))))","v":""},{"$f":"IF(ROWS($A$1:F40)>COUNTIF(Main!$C$8:$C$100,$C$7),\"\",INDEX(Main!G$8:G$100,SMALL(IF(Main!G$8:G$100<>\"\",IF(Main!$C$8:$C$100=$C$7,ROW(G$8:G$100)-ROW(G$8)+1)),ROWS($A$1:F40))))","v":""},{"$f":"IF(ROWS($A$1:G40)>COUNTIF(Main!$C$8:$C$100,$C$7),\"\",INDEX(Main!H$8:H$100,SMALL(IF(N(Main!H$8:H$100)<>0,IF(Main!$C$8:$C$100=$C$7,ROW(H$8:H$100)-ROW(H$8)+1)),ROWS($A$1:G40))))","v":""},{"$f":"IF(ROWS($A$1:H40)>COUNTIF(Main!$C$8:$C$100,$C$7),\"\",INDEX(Main!I$8:I$100,SMALL(IF(N(Main!I$8:I$100)<>0,IF(Main!$C$8:$C$100=$C$7,ROW(I$8:I$100)-ROW(I$8)+1)),ROWS($A$1:H40))))","v":""},{"$f":"IF(ROWS($A$1:I40)>COUNTIF(Main!$C$8:$C$100,$C$7),\"\",INDEX(Main!J$8:J$100,SMALL(IF(N(Main!J$8:J$100)<>0,IF(Main!$C$8:$C$100=$C$7,ROW(J$8:J$100)-ROW(J$8)+1)),ROWS($A$1:I40))))","v":""},{"$f":"IF(ROWS($A$1:J40)>COUNTIF(Main!$C$8:$C$100,$C$7),\"\",INDEX(Main!K$8:K$100,SMALL(IF(N(Main!K$8:K$100)<>0,IF(Main!$C$8:$C$100=$C$7,ROW(K$8:K$100)-ROW(K$8)+1)),ROWS($A$1:J40))))","v":""},{"$f":"IF(ROWS($A$1:K40)>COUNTIF(Main!$C$8:$C$100,$C$7),\"\",INDEX(Main!L$8:L$100,SMALL(IF(N(Main!L$8:L$100)<>0,IF(Main!$C$8:$C$100=$C$7,ROW(L$8:L$100)-ROW(L$8)+1)),ROWS($A$1:K40))))","v":""}]
[{"$f":"IF(B48=\"\",\"\",MAX($A$7:A47)+1)","v":""},{"$f":"IF(ROWS($A$1:A41)>COUNTIF(Main!$C$8:$C$100,$C$7),\"\",INDEX(Main!B$8:B$100,SMALL(IF(N(Main!B$8:B$100)<>0,IF(Main!$C$8:$C$100=$C$7,ROW(B$8:B$100)-ROW(B$8)+1)),ROWS($A$1:A41))))","v":""},{"$f":"IF(ROWS($A$1:B41)>COUNTIF(Main!$C$8:$C$100,$C$7),\"\",INDEX(Main!C$8:C$100,SMALL(IF(N(Main!C$8:C$100)<>0,IF(Main!$C$8:$C$100=$C$7,ROW(C$8:C$100)-ROW(C$8)+1)),ROWS($A$1:B41))))","v":""},{"$f":"IF(ROWS($A$1:C41)>COUNTIF(Main!$C$8:$C$100,$C$7),\"\",INDEX(Main!D$8:D$100,SMALL(IF(Main!D$8:D$100<>\"\",IF(Main!$C$8:$C$100=$C$7,ROW(D$8:D$100)-ROW(D$8)+1)),ROWS($A$1:C41))))","v":""},{"$f":"IF(ROWS($A$1:D41)>COUNTIF(Main!$C$8:$C$100,$C$7),\"\",INDEX(Main!E$8:E$100,SMALL(IF(N(Main!E$8:E$100)<>0,IF(Main!$C$8:$C$100=$C$7,ROW(E$8:E$100)-ROW(E$8)+1)),ROWS($A$1:D41))))","v":""},{"$f":"IF(ROWS($A$1:E41)>COUNTIF(Main!$C$8:$C$100,$C$7),\"\",INDEX(Main!F$8:F$100,SMALL(IF(Main!F$8:F$100<>\"\",IF(Main!$C$8:$C$100=$C$7,ROW(F$8:F$100)-ROW(F$8)+1)),ROWS($A$1:E41))))","v":""},{"$f":"IF(ROWS($A$1:F41)>COUNTIF(Main!$C$8:$C$100,$C$7),\"\",INDEX(Main!G$8:G$100,SMALL(IF(Main!G$8:G$100<>\"\",IF(Main!$C$8:$C$100=$C$7,ROW(G$8:G$100)-ROW(G$8)+1)),ROWS($A$1:F41))))","v":""},{"$f":"IF(ROWS($A$1:G41)>COUNTIF(Main!$C$8:$C$100,$C$7),\"\",INDEX(Main!H$8:H$100,SMALL(IF(N(Main!H$8:H$100)<>0,IF(Main!$C$8:$C$100=$C$7,ROW(H$8:H$100)-ROW(H$8)+1)),ROWS($A$1:G41))))","v":""},{"$f":"IF(ROWS($A$1:H41)>COUNTIF(Main!$C$8:$C$100,$C$7),\"\",INDEX(Main!I$8:I$100,SMALL(IF(N(Main!I$8:I$100)<>0,IF(Main!$C$8:$C$100=$C$7,ROW(I$8:I$100)-ROW(I$8)+1)),ROWS($A$1:H41))))","v":""},{"$f":"IF(ROWS($A$1:I41)>COUNTIF(Main!$C$8:$C$100,$C$7),\"\",INDEX(Main!J$8:J$100,SMALL(IF(N(Main!J$8:J$100)<>0,IF(Main!$C$8:$C$100=$C$7,ROW(J$8:J$100)-ROW(J$8)+1)),ROWS($A$1:I41))))","v":""},{"$f":"IF(ROWS($A$1:J41)>COUNTIF(Main!$C$8:$C$100,$C$7),\"\",INDEX(Main!K$8:K$100,SMALL(IF(N(Main!K$8:K$100)<>0,IF(Main!$C$8:$C$100=$C$7,ROW(K$8:K$100)-ROW(K$8)+1)),ROWS($A$1:J41))))","v":""},{"$f":"IF(ROWS($A$1:K41)>COUNTIF(Main!$C$8:$C$100,$C$7),\"\",INDEX(Main!L$8:L$100,SMALL(IF(N(Main!L$8:L$100)<>0,IF(Main!$C$8:$C$100=$C$7,ROW(L$8:L$100)-ROW(L$8)+1)),ROWS($A$1:K41))))","v":""}]
[{"$f":"IF(B49=\"\",\"\",MAX($A$7:A48)+1)","v":""},{"$f":"IF(ROWS($A$1:A42)>COUNTIF(Main!$C$8:$C$100,$C$7),\"\",INDEX(Main!B$8:B$100,SMALL(IF(N(Main!B$8:B$100)<>0,IF(Main!$C$8:$C$100=$C$7,ROW(B$8:B$100)-ROW(B$8)+1)),ROWS($A$1:A42))))","v":""},{"$f":"IF(ROWS($A$1:B42)>COUNTIF(Main!$C$8:$C$100,$C$7),\"\",INDEX(Main!C$8:C$100,SMALL(IF(N(Main!C$8:C$100)<>0,IF(Main!$C$8:$C$100=$C$7,ROW(C$8:C$100)-ROW(C$8)+1)),ROWS($A$1:B42))))","v":""},{"$f":"IF(ROWS($A$1:C42)>COUNTIF(Main!$C$8:$C$100,$C$7),\"\",INDEX(Main!D$8:D$100,SMALL(IF(Main!D$8:D$100<>\"\",IF(Main!$C$8:$C$100=$C$7,ROW(D$8:D$100)-ROW(D$8)+1)),ROWS($A$1:C42))))","v":""},{"$f":"IF(ROWS($A$1:D42)>COUNTIF(Main!$C$8:$C$100,$C$7),\"\",INDEX(Main!E$8:E$100,SMALL(IF(N(Main!E$8:E$100)<>0,IF(Main!$C$8:$C$100=$C$7,ROW(E$8:E$100)-ROW(E$8)+1)),ROWS($A$1:D42))))","v":""},{"$f":"IF(ROWS($A$1:E42)>COUNTIF(Main!$C$8:$C$100,$C$7),\"\",INDEX(Main!F$8:F$100,SMALL(IF(Main!F$8:F$100<>\"\",IF(Main!$C$8:$C$100=$C$7,ROW(F$8:F$100)-ROW(F$8)+1)),ROWS($A$1:E42))))","v":""},{"$f":"IF(ROWS($A$1:F42)>COUNTIF(Main!$C$8:$C$100,$C$7),\"\",INDEX(Main!G$8:G$100,SMALL(IF(Main!G$8:G$100<>\"\",IF(Main!$C$8:$C$100=$C$7,ROW(G$8:G$100)-ROW(G$8)+1)),ROWS($A$1:F42))))","v":""},{"$f":"IF(ROWS($A$1:G42)>COUNTIF(Main!$C$8:$C$100,$C$7),\"\",INDEX(Main!H$8:H$100,SMALL(IF(N(Main!H$8:H$100)<>0,IF(Main!$C$8:$C$100=$C$7,ROW(H$8:H$100)-ROW(H$8)+1)),ROWS($A$1:G42))))","v":""},{"$f":"IF(ROWS($A$1:H42)>COUNTIF(Main!$C$8:$C$100,$C$7),\"\",INDEX(Main!I$8:I$100,SMALL(IF(N(Main!I$8:I$100)<>0,IF(Main!$C$8:$C$100=$C$7,ROW(I$8:I$100)-ROW(I$8)+1)),ROWS($A$1:H42))))","v":""},{"$f":"IF(ROWS($A$1:I42)>COUNTIF(Main!$C$8:$C$100,$C$7),\"\",INDEX(Main!J$8:J$100,SMALL(IF(N(Main!J$8:J$100)<>0,IF(Main!$C$8:$C$100=$C$7,ROW(J$8:J$100)-ROW(J$8)+1)),ROWS($A$1:I42))))","v":""},{"$f":"IF(ROWS($A$1:J42)>COUNTIF(Main!$C$8:$C$100,$C$7),\"\",INDEX(Main!K$8:K$100,SMALL(IF(N(Main!K$8:K$100)<>0,IF(Main!$C$8:$C$100=$C$7,ROW(K$8:K$100)-ROW(K$8)+1)),ROWS($A$1:J42))))","v":""},{"$f":"IF(ROWS($A$1:K42)>COUNTIF(Main!$C$8:$C$100,$C$7),\"\",INDEX(Main!L$8:L$100,SMALL(IF(N(Main!L$8:L$100)<>0,IF(Main!$C$8:$C$100=$C$7,ROW(L$8:L$100)-ROW(L$8)+1)),ROWS($A$1:K42))))","v":""}]
[{"$f":"IF(B50=\"\",\"\",MAX($A$7:A49)+1)","v":""},{"$f":"IF(ROWS($A$1:A43)>COUNTIF(Main!$C$8:$C$100,$C$7),\"\",INDEX(Main!B$8:B$100,SMALL(IF(N(Main!B$8:B$100)<>0,IF(Main!$C$8:$C$100=$C$7,ROW(B$8:B$100)-ROW(B$8)+1)),ROWS($A$1:A43))))","v":""},{"$f":"IF(ROWS($A$1:B43)>COUNTIF(Main!$C$8:$C$100,$C$7),\"\",INDEX(Main!C$8:C$100,SMALL(IF(N(Main!C$8:C$100)<>0,IF(Main!$C$8:$C$100=$C$7,ROW(C$8:C$100)-ROW(C$8)+1)),ROWS($A$1:B43))))","v":""},{"$f":"IF(ROWS($A$1:C43)>COUNTIF(Main!$C$8:$C$100,$C$7),\"\",INDEX(Main!D$8:D$100,SMALL(IF(Main!D$8:D$100<>\"\",IF(Main!$C$8:$C$100=$C$7,ROW(D$8:D$100)-ROW(D$8)+1)),ROWS($A$1:C43))))","v":""},{"$f":"IF(ROWS($A$1:D43)>COUNTIF(Main!$C$8:$C$100,$C$7),\"\",INDEX(Main!E$8:E$100,SMALL(IF(N(Main!E$8:E$100)<>0,IF(Main!$C$8:$C$100=$C$7,ROW(E$8:E$100)-ROW(E$8)+1)),ROWS($A$1:D43))))","v":""},{"$f":"IF(ROWS($A$1:E43)>COUNTIF(Main!$C$8:$C$100,$C$7),\"\",INDEX(Main!F$8:F$100,SMALL(IF(Main!F$8:F$100<>\"\",IF(Main!$C$8:$C$100=$C$7,ROW(F$8:F$100)-ROW(F$8)+1)),ROWS($A$1:E43))))","v":""},{"$f":"IF(ROWS($A$1:F43)>COUNTIF(Main!$C$8:$C$100,$C$7),\"\",INDEX(Main!G$8:G$100,SMALL(IF(Main!G$8:G$100<>\"\",IF(Main!$C$8:$C$100=$C$7,ROW(G$8:G$100)-ROW(G$8)+1)),ROWS($A$1:F43))))","v":""},{"$f":"IF(ROWS($A$1:G43)>COUNTIF(Main!$C$8:$C$100,$C$7),\"\",INDEX(Main!H$8:H$100,SMALL(IF(N(Main!H$8:H$100)<>0,IF(Main!$C$8:$C$100=$C$7,ROW(H$8:H$100)-ROW(H$8)+1)),ROWS($A$1:G43))))","v":""},{"$f":"IF(ROWS($A$1:H43)>COUNTIF(Main!$C$8:$C$100,$C$7),\"\",INDEX(Main!I$8:I$100,SMALL(IF(N(Main!I$8:I$100)<>0,IF(Main!$C$8:$C$100=$C$7,ROW(I$8:I$100)-ROW(I$8)+1)),ROWS($A$1:H43))))","v":""},{"$f":"IF(ROWS($A$1:I43)>COUNTIF(Main!$C$8:$C$100,$C$7),\"\",INDEX(Main!J$8:J$100,SMALL(IF(N(Main!J$8:J$100)<>0,IF(Main!$C$8:$C$100=$C$7,ROW(J$8:J$100)-ROW(J$8)+1)),ROWS($A$1:I43))))","v":""},{"$f":"IF(ROWS($A$1:J43)>COUNTIF(Main!$C$8:$C$100,$C$7),\"\",INDEX(Main!K$8:K$100,SMALL(IF(N(Main!K$8:K$100)<>0,IF(Main!$C$8:$C$100=$C$7,ROW(K$8:K$100)-ROW(K$8)+1)),ROWS($A$1:J43))))","v":""},{"$f":"IF(ROWS($A$1:K43)>COUNTIF(Main!$C$8:$C$100,$C$7),\"\",INDEX(Main!L$8:L$100,SMALL(IF(N(Main!L$8:L$100)<>0,IF(Main!$C$8:$C$100=$C$7,ROW(L$8:L$100)-ROW(L$8)+1)),ROWS($A$1:K43))))","v":""}]
[{"$f":"IF(B51=\"\",\"\",MAX($A$7:A50)+1)","v":""},{"$f":"IF(ROWS($A$1:A44)>COUNTIF(Main!$C$8:$C$100,$C$7),\"\",INDEX(Main!B$8:B$100,SMALL(IF(N(Main!B$8:B$100)<>0,IF(Main!$C$8:$C$100=$C$7,ROW(B$8:B$100)-ROW(B$8)+1)),ROWS($A$1:A44))))","v":""},{"$f":"IF(ROWS($A$1:B44)>COUNTIF(Main!$C$8:$C$100,$C$7),\"\",INDEX(Main!C$8:C$100,SMALL(IF(N(Main!C$8:C$100)<>0,IF(Main!$C$8:$C$100=$C$7,ROW(C$8:C$100)-ROW(C$8)+1)),ROWS($A$1:B44))))","v":""},{"$f":"IF(ROWS($A$1:C44)>COUNTIF(Main!$C$8:$C$100,$C$7),\"\",INDEX(Main!D$8:D$100,SMALL(IF(Main!D$8:D$100<>\"\",IF(Main!$C$8:$C$100=$C$7,ROW(D$8:D$100)-ROW(D$8)+1)),ROWS($A$1:C44))))","v":""},{"$f":"IF(ROWS($A$1:D44)>COUNTIF(Main!$C$8:$C$100,$C$7),\"\",INDEX(Main!E$8:E$100,SMALL(IF(N(Main!E$8:E$100)<>0,IF(Main!$C$8:$C$100=$C$7,ROW(E$8:E$100)-ROW(E$8)+1)),ROWS($A$1:D44))))","v":""},{"$f":"IF(ROWS($A$1:E44)>COUNTIF(Main!$C$8:$C$100,$C$7),\"\",INDEX(Main!F$8:F$100,SMALL(IF(Main!F$8:F$100<>\"\",IF(Main!$C$8:$C$100=$C$7,ROW(F$8:F$100)-ROW(F$8)+1)),ROWS($A$1:E44))))","v":""},{"$f":"IF(ROWS($A$1:F44)>COUNTIF(Main!$C$8:$C$100,$C$7),\"\",INDEX(Main!G$8:G$100,SMALL(IF(Main!G$8:G$100<>\"\",IF(Main!$C$8:$C$100=$C$7,ROW(G$8:G$100)-ROW(G$8)+1)),ROWS($A$1:F44))))","v":""},{"$f":"IF(ROWS($A$1:G44)>COUNTIF(Main!$C$8:$C$100,$C$7),\"\",INDEX(Main!H$8:H$100,SMALL(IF(N(Main!H$8:H$100)<>0,IF(Main!$C$8:$C$100=$C$7,ROW(H$8:H$100)-ROW(H$8)+1)),ROWS($A$1:G44))))","v":""},{"$f":"IF(ROWS($A$1:H44)>COUNTIF(Main!$C$8:$C$100,$C$7),\"\",INDEX(Main!I$8:I$100,SMALL(IF(N(Main!I$8:I$100)<>0,IF(Main!$C$8:$C$100=$C$7,ROW(I$8:I$100)-ROW(I$8)+1)),ROWS($A$1:H44))))","v":""},{"$f":"IF(ROWS($A$1:I44)>COUNTIF(Main!$C$8:$C$100,$C$7),\"\",INDEX(Main!J$8:J$100,SMALL(IF(N(Main!J$8:J$100)<>0,IF(Main!$C$8:$C$100=$C$7,ROW(J$8:J$100)-ROW(J$8)+1)),ROWS($A$1:I44))))","v":""},{"$f":"IF(ROWS($A$1:J44)>COUNTIF(Main!$C$8:$C$100,$C$7),\"\",INDEX(Main!K$8:K$100,SMALL(IF(N(Main!K$8:K$100)<>0,IF(Main!$C$8:$C$100=$C$7,ROW(K$8:K$100)-ROW(K$8)+1)),ROWS($A$1:J44))))","v":""},{"$f":"IF(ROWS($A$1:K44)>COUNTIF(Main!$C$8:$C$100,$C$7),\"\",INDEX(Main!L$8:L$100,SMALL(IF(N(Main!L$8:L$100)<>0,IF(Main!$C$8:$C$100=$C$7,ROW(L$8:L$100)-ROW(L$8)+1)),ROWS($A$1:K44))))","v":""}]
[{"$f":"IF(B52=\"\",\"\",MAX($A$7:A51)+1)","v":""},{"$f":"IF(ROWS($A$1:A45)>COUNTIF(Main!$C$8:$C$100,$C$7),\"\",INDEX(Main!B$8:B$100,SMALL(IF(N(Main!B$8:B$100)<>0,IF(Main!$C$8:$C$100=$C$7,ROW(B$8:B$100)-ROW(B$8)+1)),ROWS($A$1:A45))))","v":""},{"$f":"IF(ROWS($A$1:B45)>COUNTIF(Main!$C$8:$C$100,$C$7),\"\",INDEX(Main!C$8:C$100,SMALL(IF(N(Main!C$8:C$100)<>0,IF(Main!$C$8:$C$100=$C$7,ROW(C$8:C$100)-ROW(C$8)+1)),ROWS($A$1:B45))))","v":""},{"$f":"IF(ROWS($A$1:C45)>COUNTIF(Main!$C$8:$C$100,$C$7),\"\",INDEX(Main!D$8:D$100,SMALL(IF(Main!D$8:D$100<>\"\",IF(Main!$C$8:$C$100=$C$7,ROW(D$8:D$100)-ROW(D$8)+1)),ROWS($A$1:C45))))","v":""},{"$f":"IF(ROWS($A$1:D45)>COUNTIF(Main!$C$8:$C$100,$C$7),\"\",INDEX(Main!E$8:E$100,SMALL(IF(N(Main!E$8:E$100)<>0,IF(Main!$C$8:$C$100=$C$7,ROW(E$8:E$100)-ROW(E$8)+1)),ROWS($A$1:D45))))","v":""},{"$f":"IF(ROWS($A$1:E45)>COUNTIF(Main!$C$8:$C$100,$C$7),\"\",INDEX(Main!F$8:F$100,SMALL(IF(Main!F$8:F$100<>\"\",IF(Main!$C$8:$C$100=$C$7,ROW(F$8:F$100)-ROW(F$8)+1)),ROWS($A$1:E45))))","v":""},{"$f":"IF(ROWS($A$1:F45)>COUNTIF(Main!$C$8:$C$100,$C$7),\"\",INDEX(Main!G$8:G$100,SMALL(IF(Main!G$8:G$100<>\"\",IF(Main!$C$8:$C$100=$C$7,ROW(G$8:G$100)-ROW(G$8)+1)),ROWS($A$1:F45))))","v":""},{"$f":"IF(ROWS($A$1:G45)>COUNTIF(Main!$C$8:$C$100,$C$7),\"\",INDEX(Main!H$8:H$100,SMALL(IF(N(Main!H$8:H$100)<>0,IF(Main!$C$8:$C$100=$C$7,ROW(H$8:H$100)-ROW(H$8)+1)),ROWS($A$1:G45))))","v":""},{"$f":"IF(ROWS($A$1:H45)>COUNTIF(Main!$C$8:$C$100,$C$7),\"\",INDEX(Main!I$8:I$100,SMALL(IF(N(Main!I$8:I$100)<>0,IF(Main!$C$8:$C$100=$C$7,ROW(I$8:I$100)-ROW(I$8)+1)),ROWS($A$1:H45))))","v":""},{"$f":"IF(ROWS($A$1:I45)>COUNTIF(Main!$C$8:$C$100,$C$7),\"\",INDEX(Main!J$8:J$100,SMALL(IF(N(Main!J$8:J$100)<>0,IF(Main!$C$8:$C$100=$C$7,ROW(J$8:J$100)-ROW(J$8)+1)),ROWS($A$1:I45))))","v":""},{"$f":"IF(ROWS($A$1:J45)>COUNTIF(Main!$C$8:$C$100,$C$7),\"\",INDEX(Main!K$8:K$100,SMALL(IF(N(Main!K$8:K$100)<>0,IF(Main!$C$8:$C$100=$C$7,ROW(K$8:K$100)-ROW(K$8)+1)),ROWS($A$1:J45))))","v":""},{"$f":"IF(ROWS($A$1:K45)>COUNTIF(Main!$C$8:$C$100,$C$7),\"\",INDEX(Main!L$8:L$100,SMALL(IF(N(Main!L$8:L$100)<>0,IF(Main!$C$8:$C$100=$C$7,ROW(L$8:L$100)-ROW(L$8)+1)),ROWS($A$1:K45))))","v":""}]
[{"$f":"IF(B53=\"\",\"\",MAX($A$7:A52)+1)","v":""},{"$f":"IF(ROWS($A$1:A46)>COUNTIF(Main!$C$8:$C$100,$C$7),\"\",INDEX(Main!B$8:B$100,SMALL(IF(N(Main!B$8:B$100)<>0,IF(Main!$C$8:$C$100=$C$7,ROW(B$8:B$100)-ROW(B$8)+1)),ROWS($A$1:A46))))","v":""},{"$f":"IF(ROWS($A$1:B46)>COUNTIF(Main!$C$8:$C$100,$C$7),\"\",INDEX(Main!C$8:C$100,SMALL(IF(N(Main!C$8:C$100)<>0,IF(Main!$C$8:$C$100=$C$7,ROW(C$8:C$100)-ROW(C$8)+1)),ROWS($A$1:B46))))","v":""},{"$f":"IF(ROWS($A$1:C46)>COUNTIF(Main!$C$8:$C$100,$C$7),\"\",INDEX(Main!D$8:D$100,SMALL(IF(Main!D$8:D$100<>\"\",IF(Main!$C$8:$C$100=$C$7,ROW(D$8:D$100)-ROW(D$8)+1)),ROWS($A$1:C46))))","v":""},{"$f":"IF(ROWS($A$1:D46)>COUNTIF(Main!$C$8:$C$100,$C$7),\"\",INDEX(Main!E$8:E$100,SMALL(IF(N(Main!E$8:E$100)<>0,IF(Main!$C$8:$C$100=$C$7,ROW(E$8:E$100)-ROW(E$8)+1)),ROWS($A$1:D46))))","v":""},{"$f":"IF(ROWS($A$1:E46)>COUNTIF(Main!$C$8:$C$100,$C$7),\"\",INDEX(Main!F$8:F$100,SMALL(IF(Main!F$8:F$100<>\"\",IF(Main!$C$8:$C$100=$C$7,ROW(F$8:F$100)-ROW(F$8)+1)),ROWS($A$1:E46))))","v":""},{"$f":"IF(ROWS($A$1:F46)>COUNTIF(Main!$C$8:$C$100,$C$7),\"\",INDEX(Main!G$8:G$100,SMALL(IF(Main!G$8:G$100<>\"\",IF(Main!$C$8:$C$100=$C$7,ROW(G$8:G$100)-ROW(G$8)+1)),ROWS($A$1:F46))))","v":""},{"$f":"IF(ROWS($A$1:G46)>COUNTIF(Main!$C$8:$C$100,$C$7),\"\",INDEX(Main!H$8:H$100,SMALL(IF(N(Main!H$8:H$100)<>0,IF(Main!$C$8:$C$100=$C$7,ROW(H$8:H$100)-ROW(H$8)+1)),ROWS($A$1:G46))))","v":""},{"$f":"IF(ROWS($A$1:H46)>COUNTIF(Main!$C$8:$C$100,$C$7),\"\",INDEX(Main!I$8:I$100,SMALL(IF(N(Main!I$8:I$100)<>0,IF(Main!$C$8:$C$100=$C$7,ROW(I$8:I$100)-ROW(I$8)+1)),ROWS($A$1:H46))))","v":""},{"$f":"IF(ROWS($A$1:I46)>COUNTIF(Main!$C$8:$C$100,$C$7),\"\",INDEX(Main!J$8:J$100,SMALL(IF(N(Main!J$8:J$100)<>0,IF(Main!$C$8:$C$100=$C$7,ROW(J$8:J$100)-ROW(J$8)+1)),ROWS($A$1:I46))))","v":""},{"$f":"IF(ROWS($A$1:J46)>COUNTIF(Main!$C$8:$C$100,$C$7),\"\",INDEX(Main!K$8:K$100,SMALL(IF(N(Main!K$8:K$100)<>0,IF(Main!$C$8:$C$100=$C$7,ROW(K$8:K$100)-ROW(K$8)+1)),ROWS($A$1:J46))))","v":""},{"$f":"IF(ROWS($A$1:K46)>COUNTIF(Main!$C$8:$C$100,$C$7),\"\",INDEX(Main!L$8:L$100,SMALL(IF(N(Main!L$8:L$100)<>0,IF(Main!$C$8:$C$100=$C$7,ROW(L$8:L$100)-ROW(L$8)+1)),ROWS($A$1:K46))))","v":""}]
[{"$f":"IF(B54=\"\",\"\",MAX($A$7:A53)+1)","v":""},{"$f":"IF(ROWS($A$1:A47)>COUNTIF(Main!$C$8:$C$100,$C$7),\"\",INDEX(Main!B$8:B$100,SMALL(IF(N(Main!B$8:B$100)<>0,IF(Main!$C$8:$C$100=$C$7,ROW(B$8:B$100)-ROW(B$8)+1)),ROWS($A$1:A47))))","v":""},{"$f":"IF(ROWS($A$1:B47)>COUNTIF(Main!$C$8:$C$100,$C$7),\"\",INDEX(Main!C$8:C$100,SMALL(IF(N(Main!C$8:C$100)<>0,IF(Main!$C$8:$C$100=$C$7,ROW(C$8:C$100)-ROW(C$8)+1)),ROWS($A$1:B47))))","v":""},{"$f":"IF(ROWS($A$1:C47)>COUNTIF(Main!$C$8:$C$100,$C$7),\"\",INDEX(Main!D$8:D$100,SMALL(IF(Main!D$8:D$100<>\"\",IF(Main!$C$8:$C$100=$C$7,ROW(D$8:D$100)-ROW(D$8)+1)),ROWS($A$1:C47))))","v":""},{"$f":"IF(ROWS($A$1:D47)>COUNTIF(Main!$C$8:$C$100,$C$7),\"\",INDEX(Main!E$8:E$100,SMALL(IF(N(Main!E$8:E$100)<>0,IF(Main!$C$8:$C$100=$C$7,ROW(E$8:E$100)-ROW(E$8)+1)),ROWS($A$1:D47))))","v":""},{"$f":"IF(ROWS($A$1:E47)>COUNTIF(Main!$C$8:$C$100,$C$7),\"\",INDEX(Main!F$8:F$100,SMALL(IF(Main!F$8:F$100<>\"\",IF(Main!$C$8:$C$100=$C$7,ROW(F$8:F$100)-ROW(F$8)+1)),ROWS($A$1:E47))))","v":""},{"$f":"IF(ROWS($A$1:F47)>COUNTIF(Main!$C$8:$C$100,$C$7),\"\",INDEX(Main!G$8:G$100,SMALL(IF(Main!G$8:G$100<>\"\",IF(Main!$C$8:$C$100=$C$7,ROW(G$8:G$100)-ROW(G$8)+1)),ROWS($A$1:F47))))","v":""},{"$f":"IF(ROWS($A$1:G47)>COUNTIF(Main!$C$8:$C$100,$C$7),\"\",INDEX(Main!H$8:H$100,SMALL(IF(N(Main!H$8:H$100)<>0,IF(Main!$C$8:$C$100=$C$7,ROW(H$8:H$100)-ROW(H$8)+1)),ROWS($A$1:G47))))","v":""},{"$f":"IF(ROWS($A$1:H47)>COUNTIF(Main!$C$8:$C$100,$C$7),\"\",INDEX(Main!I$8:I$100,SMALL(IF(N(Main!I$8:I$100)<>0,IF(Main!$C$8:$C$100=$C$7,ROW(I$8:I$100)-ROW(I$8)+1)),ROWS($A$1:H47))))","v":""},{"$f":"IF(ROWS($A$1:I47)>COUNTIF(Main!$C$8:$C$100,$C$7),\"\",INDEX(Main!J$8:J$100,SMALL(IF(N(Main!J$8:J$100)<>0,IF(Main!$C$8:$C$100=$C$7,ROW(J$8:J$100)-ROW(J$8)+1)),ROWS($A$1:I47))))","v":""},{"$f":"IF(ROWS($A$1:J47)>COUNTIF(Main!$C$8:$C$100,$C$7),\"\",INDEX(Main!K$8:K$100,SMALL(IF(N(Main!K$8:K$100)<>0,IF(Main!$C$8:$C$100=$C$7,ROW(K$8:K$100)-ROW(K$8)+1)),ROWS($A$1:J47))))","v":""},{"$f":"IF(ROWS($A$1:K47)>COUNTIF(Main!$C$8:$C$100,$C$7),\"\",INDEX(Main!L$8:L$100,SMALL(IF(N(Main!L$8:L$100)<>0,IF(Main!$C$8:$C$100=$C$7,ROW(L$8:L$100)-ROW(L$8)+1)),ROWS($A$1:K47))))","v":""}]
[{"$f":"IF(B55=\"\",\"\",MAX($A$7:A54)+1)","v":""},{"$f":"IF(ROWS($A$1:A48)>COUNTIF(Main!$C$8:$C$100,$C$7),\"\",INDEX(Main!B$8:B$100,SMALL(IF(N(Main!B$8:B$100)<>0,IF(Main!$C$8:$C$100=$C$7,ROW(B$8:B$100)-ROW(B$8)+1)),ROWS($A$1:A48))))","v":""},{"$f":"IF(ROWS($A$1:B48)>COUNTIF(Main!$C$8:$C$100,$C$7),\"\",INDEX(Main!C$8:C$100,SMALL(IF(N(Main!C$8:C$100)<>0,IF(Main!$C$8:$C$100=$C$7,ROW(C$8:C$100)-ROW(C$8)+1)),ROWS($A$1:B48))))","v":""},{"$f":"IF(ROWS($A$1:C48)>COUNTIF(Main!$C$8:$C$100,$C$7),\"\",INDEX(Main!D$8:D$100,SMALL(IF(Main!D$8:D$100<>\"\",IF(Main!$C$8:$C$100=$C$7,ROW(D$8:D$100)-ROW(D$8)+1)),ROWS($A$1:C48))))","v":""},{"$f":"IF(ROWS($A$1:D48)>COUNTIF(Main!$C$8:$C$100,$C$7),\"\",INDEX(Main!E$8:E$100,SMALL(IF(N(Main!E$8:E$100)<>0,IF(Main!$C$8:$C$100=$C$7,ROW(E$8:E$100)-ROW(E$8)+1)),ROWS($A$1:D48))))","v":""},{"$f":"IF(ROWS($A$1:E48)>COUNTIF(Main!$C$8:$C$100,$C$7),\"\",INDEX(Main!F$8:F$100,SMALL(IF(Main!F$8:F$100<>\"\",IF(Main!$C$8:$C$100=$C$7,ROW(F$8:F$100)-ROW(F$8)+1)),ROWS($A$1:E48))))","v":""},{"$f":"IF(ROWS($A$1:F48)>COUNTIF(Main!$C$8:$C$100,$C$7),\"\",INDEX(Main!G$8:G$100,SMALL(IF(Main!G$8:G$100<>\"\",IF(Main!$C$8:$C$100=$C$7,ROW(G$8:G$100)-ROW(G$8)+1)),ROWS($A$1:F48))))","v":""},{"$f":"IF(ROWS($A$1:G48)>COUNTIF(Main!$C$8:$C$100,$C$7),\"\",INDEX(Main!H$8:H$100,SMALL(IF(N(Main!H$8:H$100)<>0,IF(Main!$C$8:$C$100=$C$7,ROW(H$8:H$100)-ROW(H$8)+1)),ROWS($A$1:G48))))","v":""},{"$f":"IF(ROWS($A$1:H48)>COUNTIF(Main!$C$8:$C$100,$C$7),\"\",INDEX(Main!I$8:I$100,SMALL(IF(N(Main!I$8:I$100)<>0,IF(Main!$C$8:$C$100=$C$7,ROW(I$8:I$100)-ROW(I$8)+1)),ROWS($A$1:H48))))","v":""},{"$f":"IF(ROWS($A$1:I48)>COUNTIF(Main!$C$8:$C$100,$C$7),\"\",INDEX(Main!J$8:J$100,SMALL(IF(N(Main!J$8:J$100)<>0,IF(Main!$C$8:$C$100=$C$7,ROW(J$8:J$100)-ROW(J$8)+1)),ROWS($A$1:I48))))","v":""},{"$f":"IF(ROWS($A$1:J48)>COUNTIF(Main!$C$8:$C$100,$C$7),\"\",INDEX(Main!K$8:K$100,SMALL(IF(N(Main!K$8:K$100)<>0,IF(Main!$C$8:$C$100=$C$7,ROW(K$8:K$100)-ROW(K$8)+1)),ROWS($A$1:J48))))","v":""},{"$f":"IF(ROWS($A$1:K48)>COUNTIF(Main!$C$8:$C$100,$C$7),\"\",INDEX(Main!L$8:L$100,SMALL(IF(N(Main!L$8:L$100)<>0,IF(Main!$C$8:$C$100=$C$7,ROW(L$8:L$100)-ROW(L$8)+1)),ROWS($A$1:K48))))","v":""}]
[{"$f":"IF(B56=\"\",\"\",MAX($A$7:A55)+1)","v":""},{"$f":"IF(ROWS($A$1:A49)>COUNTIF(Main!$C$8:$C$100,$C$7),\"\",INDEX(Main!B$8:B$100,SMALL(IF(N(Main!B$8:B$100)<>0,IF(Main!$C$8:$C$100=$C$7,ROW(B$8:B$100)-ROW(B$8)+1)),ROWS($A$1:A49))))","v":""},{"$f":"IF(ROWS($A$1:B49)>COUNTIF(Main!$C$8:$C$100,$C$7),\"\",INDEX(Main!C$8:C$100,SMALL(IF(N(Main!C$8:C$100)<>0,IF(Main!$C$8:$C$100=$C$7,ROW(C$8:C$100)-ROW(C$8)+1)),ROWS($A$1:B49))))","v":""},{"$f":"IF(ROWS($A$1:C49)>COUNTIF(Main!$C$8:$C$100,$C$7),\"\",INDEX(Main!D$8:D$100,SMALL(IF(Main!D$8:D$100<>\"\",IF(Main!$C$8:$C$100=$C$7,ROW(D$8:D$100)-ROW(D$8)+1)),ROWS($A$1:C49))))","v":""},{"$f":"IF(ROWS($A$1:D49)>COUNTIF(Main!$C$8:$C$100,$C$7),\"\",INDEX(Main!E$8:E$100,SMALL(IF(N(Main!E$8:E$100)<>0,IF(Main!$C$8:$C$100=$C$7,ROW(E$8:E$100)-ROW(E$8)+1)),ROWS($A$1:D49))))","v":""},{"$f":"IF(ROWS($A$1:E49)>COUNTIF(Main!$C$8:$C$100,$C$7),\"\",INDEX(Main!F$8:F$100,SMALL(IF(Main!F$8:F$100<>\"\",IF(Main!$C$8:$C$100=$C$7,ROW(F$8:F$100)-ROW(F$8)+1)),ROWS($A$1:E49))))","v":""},{"$f":"IF(ROWS($A$1:F49)>COUNTIF(Main!$C$8:$C$100,$C$7),\"\",INDEX(Main!G$8:G$100,SMALL(IF(Main!G$8:G$100<>\"\",IF(Main!$C$8:$C$100=$C$7,ROW(G$8:G$100)-ROW(G$8)+1)),ROWS($A$1:F49))))","v":""},{"$f":"IF(ROWS($A$1:G49)>COUNTIF(Main!$C$8:$C$100,$C$7),\"\",INDEX(Main!H$8:H$100,SMALL(IF(N(Main!H$8:H$100)<>0,IF(Main!$C$8:$C$100=$C$7,ROW(H$8:H$100)-ROW(H$8)+1)),ROWS($A$1:G49))))","v":""},{"$f":"IF(ROWS($A$1:H49)>COUNTIF(Main!$C$8:$C$100,$C$7),\"\",INDEX(Main!I$8:I$100,SMALL(IF(N(Main!I$8:I$100)<>0,IF(Main!$C$8:$C$100=$C$7,ROW(I$8:I$100)-ROW(I$8)+1)),ROWS($A$1:H49))))","v":""},{"$f":"IF(ROWS($A$1:I49)>COUNTIF(Main!$C$8:$C$100,$C$7),\"\",INDEX(Main!J$8:J$100,SMALL(IF(N(Main!J$8:J$100)<>0,IF(Main!$C$8:$C$100=$C$7,ROW(J$8:J$100)-ROW(J$8)+1)),ROWS($A$1:I49))))","v":""},{"$f":"IF(ROWS($A$1:J49)>COUNTIF(Main!$C$8:$C$100,$C$7),\"\",INDEX(Main!K$8:K$100,SMALL(IF(N(Main!K$8:K$100)<>0,IF(Main!$C$8:$C$100=$C$7,ROW(K$8:K$100)-ROW(K$8)+1)),ROWS($A$1:J49))))","v":""},{"$f":"IF(ROWS($A$1:K49)>COUNTIF(Main!$C$8:$C$100,$C$7),\"\",INDEX(Main!L$8:L$100,SMALL(IF(N(Main!L$8:L$100)<>0,IF(Main!$C$8:$C$100=$C$7,ROW(L$8:L$100)-ROW(L$8)+1)),ROWS($A$1:K49))))","v":""}]
[{"$f":"IF(B57=\"\",\"\",MAX($A$7:A56)+1)","v":""},{"$f":"IF(ROWS($A$1:A50)>COUNTIF(Main!$C$8:$C$100,$C$7),\"\",INDEX(Main!B$8:B$100,SMALL(IF(N(Main!B$8:B$100)<>0,IF(Main!$C$8:$C$100=$C$7,ROW(B$8:B$100)-ROW(B$8)+1)),ROWS($A$1:A50))))","v":""},{"$f":"IF(ROWS($A$1:B50)>COUNTIF(Main!$C$8:$C$100,$C$7),\"\",INDEX(Main!C$8:C$100,SMALL(IF(N(Main!C$8:C$100)<>0,IF(Main!$C$8:$C$100=$C$7,ROW(C$8:C$100)-ROW(C$8)+1)),ROWS($A$1:B50))))","v":""},{"$f":"IF(ROWS($A$1:C50)>COUNTIF(Main!$C$8:$C$100,$C$7),\"\",INDEX(Main!D$8:D$100,SMALL(IF(Main!D$8:D$100<>\"\",IF(Main!$C$8:$C$100=$C$7,ROW(D$8:D$100)-ROW(D$8)+1)),ROWS($A$1:C50))))","v":""},{"$f":"IF(ROWS($A$1:D50)>COUNTIF(Main!$C$8:$C$100,$C$7),\"\",INDEX(Main!E$8:E$100,SMALL(IF(N(Main!E$8:E$100)<>0,IF(Main!$C$8:$C$100=$C$7,ROW(E$8:E$100)-ROW(E$8)+1)),ROWS($A$1:D50))))","v":""},{"$f":"IF(ROWS($A$1:E50)>COUNTIF(Main!$C$8:$C$100,$C$7),\"\",INDEX(Main!F$8:F$100,SMALL(IF(Main!F$8:F$100<>\"\",IF(Main!$C$8:$C$100=$C$7,ROW(F$8:F$100)-ROW(F$8)+1)),ROWS($A$1:E50))))","v":""},{"$f":"IF(ROWS($A$1:F50)>COUNTIF(Main!$C$8:$C$100,$C$7),\"\",INDEX(Main!G$8:G$100,SMALL(IF(Main!G$8:G$100<>\"\",IF(Main!$C$8:$C$100=$C$7,ROW(G$8:G$100)-ROW(G$8)+1)),ROWS($A$1:F50))))","v":""},{"$f":"IF(ROWS($A$1:G50)>COUNTIF(Main!$C$8:$C$100,$C$7),\"\",INDEX(Main!H$8:H$100,SMALL(IF(N(Main!H$8:H$100)<>0,IF(Main!$C$8:$C$100=$C$7,ROW(H$8:H$100)-ROW(H$8)+1)),ROWS($A$1:G50))))","v":""},{"$f":"IF(ROWS($A$1:H50)>COUNTIF(Main!$C$8:$C$100,$C$7),\"\",INDEX(Main!I$8:I$100,SMALL(IF(N(Main!I$8:I$100)<>0,IF(Main!$C$8:$C$100=$C$7,ROW(I$8:I$100)-ROW(I$8)+1)),ROWS($A$1:H50))))","v":""},{"$f":"IF(ROWS($A$1:I50)>COUNTIF(Main!$C$8:$C$100,$C$7),\"\",INDEX(Main!J$8:J$100,SMALL(IF(N(Main!J$8:J$100)<>0,IF(Main!$C$8:$C$100=$C$7,ROW(J$8:J$100)-ROW(J$8)+1)),ROWS($A$1:I50))))","v":""},{"$f":"IF(ROWS($A$1:J50)>COUNTIF(Main!$C$8:$C$100,$C$7),\"\",INDEX(Main!K$8:K$100,SMALL(IF(N(Main!K$8:K$100)<>0,IF(Main!$C$8:$C$100=$C$7,ROW(K$8:K$100)-ROW(K$8)+1)),ROWS($A$1:J50))))","v":""},{"$f":"IF(ROWS($A$1:K50)>COUNTIF(Main!$C$8:$C$100,$C$7),\"\",INDEX(Main!L$8:L$100,SMALL(IF(N(Main!L$8:L$100)<>0,IF(Main!$C$8:$C$100=$C$7,ROW(L$8:L$100)-ROW(L$8)+1)),ROWS($A$1:K50))))","v":""}]
[{"$f":"IF(B58=\"\",\"\",MAX($A$7:A57)+1)","v":""},{"$f":"IF(ROWS($A$1:A51)>COUNTIF(Main!$C$8:$C$100,$C$7),\"\",INDEX(Main!B$8:B$100,SMALL(IF(N(Main!B$8:B$100)<>0,IF(Main!$C$8:$C$100=$C$7,ROW(B$8:B$100)-ROW(B$8)+1)),ROWS($A$1:A51))))","v":""},{"$f":"IF(ROWS($A$1:B51)>COUNTIF(Main!$C$8:$C$100,$C$7),\"\",INDEX(Main!C$8:C$100,SMALL(IF(N(Main!C$8:C$100)<>0,IF(Main!$C$8:$C$100=$C$7,ROW(C$8:C$100)-ROW(C$8)+1)),ROWS($A$1:B51))))","v":""},{"$f":"IF(ROWS($A$1:C51)>COUNTIF(Main!$C$8:$C$100,$C$7),\"\",INDEX(Main!D$8:D$100,SMALL(IF(Main!D$8:D$100<>\"\",IF(Main!$C$8:$C$100=$C$7,ROW(D$8:D$100)-ROW(D$8)+1)),ROWS($A$1:C51))))","v":""},{"$f":"IF(ROWS($A$1:D51)>COUNTIF(Main!$C$8:$C$100,$C$7),\"\",INDEX(Main!E$8:E$100,SMALL(IF(N(Main!E$8:E$100)<>0,IF(Main!$C$8:$C$100=$C$7,ROW(E$8:E$100)-ROW(E$8)+1)),ROWS($A$1:D51))))","v":""},{"$f":"IF(ROWS($A$1:E51)>COUNTIF(Main!$C$8:$C$100,$C$7),\"\",INDEX(Main!F$8:F$100,SMALL(IF(Main!F$8:F$100<>\"\",IF(Main!$C$8:$C$100=$C$7,ROW(F$8:F$100)-ROW(F$8)+1)),ROWS($A$1:E51))))","v":""},{"$f":"IF(ROWS($A$1:F51)>COUNTIF(Main!$C$8:$C$100,$C$7),\"\",INDEX(Main!G$8:G$100,SMALL(IF(Main!G$8:G$100<>\"\",IF(Main!$C$8:$C$100=$C$7,ROW(G$8:G$100)-ROW(G$8)+1)),ROWS($A$1:F51))))","v":""},{"$f":"IF(ROWS($A$1:G51)>COUNTIF(Main!$C$8:$C$100,$C$7),\"\",INDEX(Main!H$8:H$100,SMALL(IF(N(Main!H$8:H$100)<>0,IF(Main!$C$8:$C$100=$C$7,ROW(H$8:H$100)-ROW(H$8)+1)),ROWS($A$1:G51))))","v":""},{"$f":"IF(ROWS($A$1:H51)>COUNTIF(Main!$C$8:$C$100,$C$7),\"\",INDEX(Main!I$8:I$100,SMALL(IF(N(Main!I$8:I$100)<>0,IF(Main!$C$8:$C$100=$C$7,ROW(I$8:I$100)-ROW(I$8)+1)),ROWS($A$1:H51))))","v":""},{"$f":"IF(ROWS($A$1:I51)>COUNTIF(Main!$C$8:$C$100,$C$7),\"\",INDEX(Main!J$8:J$100,SMALL(IF(N(Main!J$8:J$100)<>0,IF(Main!$C$8:$C$100=$C$7,ROW(J$8:J$100)-ROW(J$8)+1)),ROWS($A$1:I51))))","v":""},{"$f":"IF(ROWS($A$1:J51)>COUNTIF(Main!$C$8:$C$100,$C$7),\"\",INDEX(Main!K$8:K$100,SMALL(IF(N(Main!K$8:K$100)<>0,IF(Main!$C$8:$C$100=$C$7,ROW(K$8:K$100)-ROW(K$8)+1)),ROWS($A$1:J51))))","v":""},{"$f":"IF(ROWS($A$1:K51)>COUNTIF(Main!$C$8:$C$100,$C$7),\"\",INDEX(Main!L$8:L$100,SMALL(IF(N(Main!L$8:L$100)<>0,IF(Main!$C$8:$C$100=$C$7,ROW(L$8:L$100)-ROW(L$8)+1)),ROWS($A$1:K51))))","v":""}]
[{"$f":"IF(B59=\"\",\"\",MAX($A$7:A58)+1)","v":""},{"$f":"IF(ROWS($A$1:A52)>COUNTIF(Main!$C$8:$C$100,$C$7),\"\",INDEX(Main!B$8:B$100,SMALL(IF(N(Main!B$8:B$100)<>0,IF(Main!$C$8:$C$100=$C$7,ROW(B$8:B$100)-ROW(B$8)+1)),ROWS($A$1:A52))))","v":""},{"$f":"IF(ROWS($A$1:B52)>COUNTIF(Main!$C$8:$C$100,$C$7),\"\",INDEX(Main!C$8:C$100,SMALL(IF(N(Main!C$8:C$100)<>0,IF(Main!$C$8:$C$100=$C$7,ROW(C$8:C$100)-ROW(C$8)+1)),ROWS($A$1:B52))))","v":""},{"$f":"IF(ROWS($A$1:C52)>COUNTIF(Main!$C$8:$C$100,$C$7),\"\",INDEX(Main!D$8:D$100,SMALL(IF(Main!D$8:D$100<>\"\",IF(Main!$C$8:$C$100=$C$7,ROW(D$8:D$100)-ROW(D$8)+1)),ROWS($A$1:C52))))","v":""},{"$f":"IF(ROWS($A$1:D52)>COUNTIF(Main!$C$8:$C$100,$C$7),\"\",INDEX(Main!E$8:E$100,SMALL(IF(N(Main!E$8:E$100)<>0,IF(Main!$C$8:$C$100=$C$7,ROW(E$8:E$100)-ROW(E$8)+1)),ROWS($A$1:D52))))","v":""},{"$f":"IF(ROWS($A$1:E52)>COUNTIF(Main!$C$8:$C$100,$C$7),\"\",INDEX(Main!F$8:F$100,SMALL(IF(Main!F$8:F$100<>\"\",IF(Main!$C$8:$C$100=$C$7,ROW(F$8:F$100)-ROW(F$8)+1)),ROWS($A$1:E52))))","v":""},{"$f":"IF(ROWS($A$1:F52)>COUNTIF(Main!$C$8:$C$100,$C$7),\"\",INDEX(Main!G$8:G$100,SMALL(IF(Main!G$8:G$100<>\"\",IF(Main!$C$8:$C$100=$C$7,ROW(G$8:G$100)-ROW(G$8)+1)),ROWS($A$1:F52))))","v":""},{"$f":"IF(ROWS($A$1:G52)>COUNTIF(Main!$C$8:$C$100,$C$7),\"\",INDEX(Main!H$8:H$100,SMALL(IF(N(Main!H$8:H$100)<>0,IF(Main!$C$8:$C$100=$C$7,ROW(H$8:H$100)-ROW(H$8)+1)),ROWS($A$1:G52))))","v":""},{"$f":"IF(ROWS($A$1:H52)>COUNTIF(Main!$C$8:$C$100,$C$7),\"\",INDEX(Main!I$8:I$100,SMALL(IF(N(Main!I$8:I$100)<>0,IF(Main!$C$8:$C$100=$C$7,ROW(I$8:I$100)-ROW(I$8)+1)),ROWS($A$1:H52))))","v":""},{"$f":"IF(ROWS($A$1:I52)>COUNTIF(Main!$C$8:$C$100,$C$7),\"\",INDEX(Main!J$8:J$100,SMALL(IF(N(Main!J$8:J$100)<>0,IF(Main!$C$8:$C$100=$C$7,ROW(J$8:J$100)-ROW(J$8)+1)),ROWS($A$1:I52))))","v":""},{"$f":"IF(ROWS($A$1:J52)>COUNTIF(Main!$C$8:$C$100,$C$7),\"\",INDEX(Main!K$8:K$100,SMALL(IF(N(Main!K$8:K$100)<>0,IF(Main!$C$8:$C$100=$C$7,ROW(K$8:K$100)-ROW(K$8)+1)),ROWS($A$1:J52))))","v":""},{"$f":"IF(ROWS($A$1:K52)>COUNTIF(Main!$C$8:$C$100,$C$7),\"\",INDEX(Main!L$8:L$100,SMALL(IF(N(Main!L$8:L$100)<>0,IF(Main!$C$8:$C$100=$C$7,ROW(L$8:L$100)-ROW(L$8)+1)),ROWS($A$1:K52))))","v":""}]
[{"$f":"IF(B60=\"\",\"\",MAX($A$7:A59)+1)","v":""},{"$f":"IF(ROWS($A$1:A53)>COUNTIF(Main!$C$8:$C$100,$C$7),\"\",INDEX(Main!B$8:B$100,SMALL(IF(N(Main!B$8:B$100)<>0,IF(Main!$C$8:$C$100=$C$7,ROW(B$8:B$100)-ROW(B$8)+1)),ROWS($A$1:A53))))","v":""},{"$f":"IF(ROWS($A$1:B53)>COUNTIF(Main!$C$8:$C$100,$C$7),\"\",INDEX(Main!C$8:C$100,SMALL(IF(N(Main!C$8:C$100)<>0,IF(Main!$C$8:$C$100=$C$7,ROW(C$8:C$100)-ROW(C$8)+1)),ROWS($A$1:B53))))","v":""},{"$f":"IF(ROWS($A$1:C53)>COUNTIF(Main!$C$8:$C$100,$C$7),\"\",INDEX(Main!D$8:D$100,SMALL(IF(Main!D$8:D$100<>\"\",IF(Main!$C$8:$C$100=$C$7,ROW(D$8:D$100)-ROW(D$8)+1)),ROWS($A$1:C53))))","v":""},{"$f":"IF(ROWS($A$1:D53)>COUNTIF(Main!$C$8:$C$100,$C$7),\"\",INDEX(Main!E$8:E$100,SMALL(IF(N(Main!E$8:E$100)<>0,IF(Main!$C$8:$C$100=$C$7,ROW(E$8:E$100)-ROW(E$8)+1)),ROWS($A$1:D53))))","v":""},{"$f":"IF(ROWS($A$1:E53)>COUNTIF(Main!$C$8:$C$100,$C$7),\"\",INDEX(Main!F$8:F$100,SMALL(IF(Main!F$8:F$100<>\"\",IF(Main!$C$8:$C$100=$C$7,ROW(F$8:F$100)-ROW(F$8)+1)),ROWS($A$1:E53))))","v":""},{"$f":"IF(ROWS($A$1:F53)>COUNTIF(Main!$C$8:$C$100,$C$7),\"\",INDEX(Main!G$8:G$100,SMALL(IF(Main!G$8:G$100<>\"\",IF(Main!$C$8:$C$100=$C$7,ROW(G$8:G$100)-ROW(G$8)+1)),ROWS($A$1:F53))))","v":""},{"$f":"IF(ROWS($A$1:G53)>COUNTIF(Main!$C$8:$C$100,$C$7),\"\",INDEX(Main!H$8:H$100,SMALL(IF(N(Main!H$8:H$100)<>0,IF(Main!$C$8:$C$100=$C$7,ROW(H$8:H$100)-ROW(H$8)+1)),ROWS($A$1:G53))))","v":""},{"$f":"IF(ROWS($A$1:H53)>COUNTIF(Main!$C$8:$C$100,$C$7),\"\",INDEX(Main!I$8:I$100,SMALL(IF(N(Main!I$8:I$100)<>0,IF(Main!$C$8:$C$100=$C$7,ROW(I$8:I$100)-ROW(I$8)+1)),ROWS($A$1:H53))))","v":""},{"$f":"IF(ROWS($A$1:I53)>COUNTIF(Main!$C$8:$C$100,$C$7),\"\",INDEX(Main!J$8:J$100,SMALL(IF(N(Main!J$8:J$100)<>0,IF(Main!$C$8:$C$100=$C$7,ROW(J$8:J$100)-ROW(J$8)+1)),ROWS($A$1:I53))))","v":""},{"$f":"IF(ROWS($A$1:J53)>COUNTIF(Main!$C$8:$C$100,$C$7),\"\",INDEX(Main!K$8:K$100,SMALL(IF(N(Main!K$8:K$100)<>0,IF(Main!$C$8:$C$100=$C$7,ROW(K$8:K$100)-ROW(K$8)+1)),ROWS($A$1:J53))))","v":""},{"$f":"IF(ROWS($A$1:K53)>COUNTIF(Main!$C$8:$C$100,$C$7),\"\",INDEX(Main!L$8:L$100,SMALL(IF(N(Main!L$8:L$100)<>0,IF(Main!$C$8:$C$100=$C$7,ROW(L$8:L$100)-ROW(L$8)+1)),ROWS($A$1:K53))))","v":""}]
[{"$f":"IF(B61=\"\",\"\",MAX($A$7:A60)+1)","v":""},{"$f":"IF(ROWS($A$1:A54)>COUNTIF(Main!$C$8:$C$100,$C$7),\"\",INDEX(Main!B$8:B$100,SMALL(IF(N(Main!B$8:B$100)<>0,IF(Main!$C$8:$C$100=$C$7,ROW(B$8:B$100)-ROW(B$8)+1)),ROWS($A$1:A54))))","v":""},{"$f":"IF(ROWS($A$1:B54)>COUNTIF(Main!$C$8:$C$100,$C$7),\"\",INDEX(Main!C$8:C$100,SMALL(IF(N(Main!C$8:C$100)<>0,IF(Main!$C$8:$C$100=$C$7,ROW(C$8:C$100)-ROW(C$8)+1)),ROWS($A$1:B54))))","v":""},{"$f":"IF(ROWS($A$1:C54)>COUNTIF(Main!$C$8:$C$100,$C$7),\"\",INDEX(Main!D$8:D$100,SMALL(IF(Main!D$8:D$100<>\"\",IF(Main!$C$8:$C$100=$C$7,ROW(D$8:D$100)-ROW(D$8)+1)),ROWS($A$1:C54))))","v":""},{"$f":"IF(ROWS($A$1:D54)>COUNTIF(Main!$C$8:$C$100,$C$7),\"\",INDEX(Main!E$8:E$100,SMALL(IF(N(Main!E$8:E$100)<>0,IF(Main!$C$8:$C$100=$C$7,ROW(E$8:E$100)-ROW(E$8)+1)),ROWS($A$1:D54))))","v":""},{"$f":"IF(ROWS($A$1:E54)>COUNTIF(Main!$C$8:$C$100,$C$7),\"\",INDEX(Main!F$8:F$100,SMALL(IF(Main!F$8:F$100<>\"\",IF(Main!$C$8:$C$100=$C$7,ROW(F$8:F$100)-ROW(F$8)+1)),ROWS($A$1:E54))))","v":""},{"$f":"IF(ROWS($A$1:F54)>COUNTIF(Main!$C$8:$C$100,$C$7),\"\",INDEX(Main!G$8:G$100,SMALL(IF(Main!G$8:G$100<>\"\",IF(Main!$C$8:$C$100=$C$7,ROW(G$8:G$100)-ROW(G$8)+1)),ROWS($A$1:F54))))","v":""},{"$f":"IF(ROWS($A$1:G54)>COUNTIF(Main!$C$8:$C$100,$C$7),\"\",INDEX(Main!H$8:H$100,SMALL(IF(N(Main!H$8:H$100)<>0,IF(Main!$C$8:$C$100=$C$7,ROW(H$8:H$100)-ROW(H$8)+1)),ROWS($A$1:G54))))","v":""},{"$f":"IF(ROWS($A$1:H54)>COUNTIF(Main!$C$8:$C$100,$C$7),\"\",INDEX(Main!I$8:I$100,SMALL(IF(N(Main!I$8:I$100)<>0,IF(Main!$C$8:$C$100=$C$7,ROW(I$8:I$100)-ROW(I$8)+1)),ROWS($A$1:H54))))","v":""},{"$f":"IF(ROWS($A$1:I54)>COUNTIF(Main!$C$8:$C$100,$C$7),\"\",INDEX(Main!J$8:J$100,SMALL(IF(N(Main!J$8:J$100)<>0,IF(Main!$C$8:$C$100=$C$7,ROW(J$8:J$100)-ROW(J$8)+1)),ROWS($A$1:I54))))","v":""},{"$f":"IF(ROWS($A$1:J54)>COUNTIF(Main!$C$8:$C$100,$C$7),\"\",INDEX(Main!K$8:K$100,SMALL(IF(N(Main!K$8:K$100)<>0,IF(Main!$C$8:$C$100=$C$7,ROW(K$8:K$100)-ROW(K$8)+1)),ROWS($A$1:J54))))","v":""},{"$f":"IF(ROWS($A$1:K54)>COUNTIF(Main!$C$8:$C$100,$C$7),\"\",INDEX(Main!L$8:L$100,SMALL(IF(N(Main!L$8:L$100)<>0,IF(Main!$C$8:$C$100=$C$7,ROW(L$8:L$100)-ROW(L$8)+1)),ROWS($A$1:K54))))","v":""}]
[{"$f":"IF(B62=\"\",\"\",MAX($A$7:A61)+1)","v":""},{"$f":"IF(ROWS($A$1:A55)>COUNTIF(Main!$C$8:$C$100,$C$7),\"\",INDEX(Main!B$8:B$100,SMALL(IF(N(Main!B$8:B$100)<>0,IF(Main!$C$8:$C$100=$C$7,ROW(B$8:B$100)-ROW(B$8)+1)),ROWS($A$1:A55))))","v":""},{"$f":"IF(ROWS($A$1:B55)>COUNTIF(Main!$C$8:$C$100,$C$7),\"\",INDEX(Main!C$8:C$100,SMALL(IF(N(Main!C$8:C$100)<>0,IF(Main!$C$8:$C$100=$C$7,ROW(C$8:C$100)-ROW(C$8)+1)),ROWS($A$1:B55))))","v":""},{"$f":"IF(ROWS($A$1:C55)>COUNTIF(Main!$C$8:$C$100,$C$7),\"\",INDEX(Main!D$8:D$100,SMALL(IF(Main!D$8:D$100<>\"\",IF(Main!$C$8:$C$100=$C$7,ROW(D$8:D$100)-ROW(D$8)+1)),ROWS($A$1:C55))))","v":""},{"$f":"IF(ROWS($A$1:D55)>COUNTIF(Main!$C$8:$C$100,$C$7),\"\",INDEX(Main!E$8:E$100,SMALL(IF(N(Main!E$8:E$100)<>0,IF(Main!$C$8:$C$100=$C$7,ROW(E$8:E$100)-ROW(E$8)+1)),ROWS($A$1:D55))))","v":""},{"$f":"IF(ROWS($A$1:E55)>COUNTIF(Main!$C$8:$C$100,$C$7),\"\",INDEX(Main!F$8:F$100,SMALL(IF(Main!F$8:F$100<>\"\",IF(Main!$C$8:$C$100=$C$7,ROW(F$8:F$100)-ROW(F$8)+1)),ROWS($A$1:E55))))","v":""},{"$f":"IF(ROWS($A$1:F55)>COUNTIF(Main!$C$8:$C$100,$C$7),\"\",INDEX(Main!G$8:G$100,SMALL(IF(Main!G$8:G$100<>\"\",IF(Main!$C$8:$C$100=$C$7,ROW(G$8:G$100)-ROW(G$8)+1)),ROWS($A$1:F55))))","v":""},{"$f":"IF(ROWS($A$1:G55)>COUNTIF(Main!$C$8:$C$100,$C$7),\"\",INDEX(Main!H$8:H$100,SMALL(IF(N(Main!H$8:H$100)<>0,IF(Main!$C$8:$C$100=$C$7,ROW(H$8:H$100)-ROW(H$8)+1)),ROWS($A$1:G55))))","v":""},{"$f":"IF(ROWS($A$1:H55)>COUNTIF(Main!$C$8:$C$100,$C$7),\"\",INDEX(Main!I$8:I$100,SMALL(IF(N(Main!I$8:I$100)<>0,IF(Main!$C$8:$C$100=$C$7,ROW(I$8:I$100)-ROW(I$8)+1)),ROWS($A$1:H55))))","v":""},{"$f":"IF(ROWS($A$1:I55)>COUNTIF(Main!$C$8:$C$100,$C$7),\"\",INDEX(Main!J$8:J$100,SMALL(IF(N(Main!J$8:J$100)<>0,IF(Main!$C$8:$C$100=$C$7,ROW(J$8:J$100)-ROW(J$8)+1)),ROWS($A$1:I55))))","v":""},{"$f":"IF(ROWS($A$1:J55)>COUNTIF(Main!$C$8:$C$100,$C$7),\"\",INDEX(Main!K$8:K$100,SMALL(IF(N(Main!K$8:K$100)<>0,IF(Main!$C$8:$C$100=$C$7,ROW(K$8:K$100)-ROW(K$8)+1)),ROWS($A$1:J55))))","v":""},{"$f":"IF(ROWS($A$1:K55)>COUNTIF(Main!$C$8:$C$100,$C$7),\"\",INDEX(Main!L$8:L$100,SMALL(IF(N(Main!L$8:L$100)<>0,IF(Main!$C$8:$C$100=$C$7,ROW(L$8:L$100)-ROW(L$8)+1)),ROWS($A$1:K55))))","v":""}]
[{"$f":"IF(B63=\"\",\"\",MAX($A$7:A62)+1)","v":""},{"$f":"IF(ROWS($A$1:A56)>COUNTIF(Main!$C$8:$C$100,$C$7),\"\",INDEX(Main!B$8:B$100,SMALL(IF(N(Main!B$8:B$100)<>0,IF(Main!$C$8:$C$100=$C$7,ROW(B$8:B$100)-ROW(B$8)+1)),ROWS($A$1:A56))))","v":""},{"$f":"IF(ROWS($A$1:B56)>COUNTIF(Main!$C$8:$C$100,$C$7),\"\",INDEX(Main!C$8:C$100,SMALL(IF(N(Main!C$8:C$100)<>0,IF(Main!$C$8:$C$100=$C$7,ROW(C$8:C$100)-ROW(C$8)+1)),ROWS($A$1:B56))))","v":""},{"$f":"IF(ROWS($A$1:C56)>COUNTIF(Main!$C$8:$C$100,$C$7),\"\",INDEX(Main!D$8:D$100,SMALL(IF(Main!D$8:D$100<>\"\",IF(Main!$C$8:$C$100=$C$7,ROW(D$8:D$100)-ROW(D$8)+1)),ROWS($A$1:C56))))","v":""},{"$f":"IF(ROWS($A$1:D56)>COUNTIF(Main!$C$8:$C$100,$C$7),\"\",INDEX(Main!E$8:E$100,SMALL(IF(N(Main!E$8:E$100)<>0,IF(Main!$C$8:$C$100=$C$7,ROW(E$8:E$100)-ROW(E$8)+1)),ROWS($A$1:D56))))","v":""},{"$f":"IF(ROWS($A$1:E56)>COUNTIF(Main!$C$8:$C$100,$C$7),\"\",INDEX(Main!F$8:F$100,SMALL(IF(Main!F$8:F$100<>\"\",IF(Main!$C$8:$C$100=$C$7,ROW(F$8:F$100)-ROW(F$8)+1)),ROWS($A$1:E56))))","v":""},{"$f":"IF(ROWS($A$1:F56)>COUNTIF(Main!$C$8:$C$100,$C$7),\"\",INDEX(Main!G$8:G$100,SMALL(IF(Main!G$8:G$100<>\"\",IF(Main!$C$8:$C$100=$C$7,ROW(G$8:G$100)-ROW(G$8)+1)),ROWS($A$1:F56))))","v":""},{"$f":"IF(ROWS($A$1:G56)>COUNTIF(Main!$C$8:$C$100,$C$7),\"\",INDEX(Main!H$8:H$100,SMALL(IF(N(Main!H$8:H$100)<>0,IF(Main!$C$8:$C$100=$C$7,ROW(H$8:H$100)-ROW(H$8)+1)),ROWS($A$1:G56))))","v":""},{"$f":"IF(ROWS($A$1:H56)>COUNTIF(Main!$C$8:$C$100,$C$7),\"\",INDEX(Main!I$8:I$100,SMALL(IF(N(Main!I$8:I$100)<>0,IF(Main!$C$8:$C$100=$C$7,ROW(I$8:I$100)-ROW(I$8)+1)),ROWS($A$1:H56))))","v":""},{"$f":"IF(ROWS($A$1:I56)>COUNTIF(Main!$C$8:$C$100,$C$7),\"\",INDEX(Main!J$8:J$100,SMALL(IF(N(Main!J$8:J$100)<>0,IF(Main!$C$8:$C$100=$C$7,ROW(J$8:J$100)-ROW(J$8)+1)),ROWS($A$1:I56))))","v":""},{"$f":"IF(ROWS($A$1:J56)>COUNTIF(Main!$C$8:$C$100,$C$7),\"\",INDEX(Main!K$8:K$100,SMALL(IF(N(Main!K$8:K$100)<>0,IF(Main!$C$8:$C$100=$C$7,ROW(K$8:K$100)-ROW(K$8)+1)),ROWS($A$1:J56))))","v":""},{"$f":"IF(ROWS($A$1:K56)>COUNTIF(Main!$C$8:$C$100,$C$7),\"\",INDEX(Main!L$8:L$100,SMALL(IF(N(Main!L$8:L$100)<>0,IF(Main!$C$8:$C$100=$C$7,ROW(L$8:L$100)-ROW(L$8)+1)),ROWS($A$1:K56))))","v":""}]
[{"$f":"IF(B64=\"\",\"\",MAX($A$7:A63)+1)","v":""},{"$f":"IF(ROWS($A$1:A57)>COUNTIF(Main!$C$8:$C$100,$C$7),\"\",INDEX(Main!B$8:B$100,SMALL(IF(N(Main!B$8:B$100)<>0,IF(Main!$C$8:$C$100=$C$7,ROW(B$8:B$100)-ROW(B$8)+1)),ROWS($A$1:A57))))","v":""},{"$f":"IF(ROWS($A$1:B57)>COUNTIF(Main!$C$8:$C$100,$C$7),\"\",INDEX(Main!C$8:C$100,SMALL(IF(N(Main!C$8:C$100)<>0,IF(Main!$C$8:$C$100=$C$7,ROW(C$8:C$100)-ROW(C$8)+1)),ROWS($A$1:B57))))","v":""},{"$f":"IF(ROWS($A$1:C57)>COUNTIF(Main!$C$8:$C$100,$C$7),\"\",INDEX(Main!D$8:D$100,SMALL(IF(Main!D$8:D$100<>\"\",IF(Main!$C$8:$C$100=$C$7,ROW(D$8:D$100)-ROW(D$8)+1)),ROWS($A$1:C57))))","v":""},{"$f":"IF(ROWS($A$1:D57)>COUNTIF(Main!$C$8:$C$100,$C$7),\"\",INDEX(Main!E$8:E$100,SMALL(IF(N(Main!E$8:E$100)<>0,IF(Main!$C$8:$C$100=$C$7,ROW(E$8:E$100)-ROW(E$8)+1)),ROWS($A$1:D57))))","v":""},{"$f":"IF(ROWS($A$1:E57)>COUNTIF(Main!$C$8:$C$100,$C$7),\"\",INDEX(Main!F$8:F$100,SMALL(IF(Main!F$8:F$100<>\"\",IF(Main!$C$8:$C$100=$C$7,ROW(F$8:F$100)-ROW(F$8)+1)),ROWS($A$1:E57))))","v":""},{"$f":"IF(ROWS($A$1:F57)>COUNTIF(Main!$C$8:$C$100,$C$7),\"\",INDEX(Main!G$8:G$100,SMALL(IF(Main!G$8:G$100<>\"\",IF(Main!$C$8:$C$100=$C$7,ROW(G$8:G$100)-ROW(G$8)+1)),ROWS($A$1:F57))))","v":""},{"$f":"IF(ROWS($A$1:G57)>COUNTIF(Main!$C$8:$C$100,$C$7),\"\",INDEX(Main!H$8:H$100,SMALL(IF(N(Main!H$8:H$100)<>0,IF(Main!$C$8:$C$100=$C$7,ROW(H$8:H$100)-ROW(H$8)+1)),ROWS($A$1:G57))))","v":""},{"$f":"IF(ROWS($A$1:H57)>COUNTIF(Main!$C$8:$C$100,$C$7),\"\",INDEX(Main!I$8:I$100,SMALL(IF(N(Main!I$8:I$100)<>0,IF(Main!$C$8:$C$100=$C$7,ROW(I$8:I$100)-ROW(I$8)+1)),ROWS($A$1:H57))))","v":""},{"$f":"IF(ROWS($A$1:I57)>COUNTIF(Main!$C$8:$C$100,$C$7),\"\",INDEX(Main!J$8:J$100,SMALL(IF(N(Main!J$8:J$100)<>0,IF(Main!$C$8:$C$100=$C$7,ROW(J$8:J$100)-ROW(J$8)+1)),ROWS($A$1:I57))))","v":""},{"$f":"IF(ROWS($A$1:J57)>COUNTIF(Main!$C$8:$C$100,$C$7),\"\",INDEX(Main!K$8:K$100,SMALL(IF(N(Main!K$8:K$100)<>0,IF(Main!$C$8:$C$100=$C$7,ROW(K$8:K$100)-ROW(K$8)+1)),ROWS($A$1:J57))))","v":""},{"$f":"IF(ROWS($A$1:K57)>COUNTIF(Main!$C$8:$C$100,$C$7),\"\",INDEX(Main!L$8:L$100,SMALL(IF(N(Main!L$8:L$100)<>0,IF(Main!$C$8:$C$100=$C$7,ROW(L$8:L$100)-ROW(L$8)+1)),ROWS($A$1:K57))))","v":""}]
[{"$f":"IF(B65=\"\",\"\",MAX($A$7:A64)+1)","v":""},{"$f":"IF(ROWS($A$1:A58)>COUNTIF(Main!$C$8:$C$100,$C$7),\"\",INDEX(Main!B$8:B$100,SMALL(IF(N(Main!B$8:B$100)<>0,IF(Main!$C$8:$C$100=$C$7,ROW(B$8:B$100)-ROW(B$8)+1)),ROWS($A$1:A58))))","v":""},{"$f":"IF(ROWS($A$1:B58)>COUNTIF(Main!$C$8:$C$100,$C$7),\"\",INDEX(Main!C$8:C$100,SMALL(IF(N(Main!C$8:C$100)<>0,IF(Main!$C$8:$C$100=$C$7,ROW(C$8:C$100)-ROW(C$8)+1)),ROWS($A$1:B58))))","v":""},{"$f":"IF(ROWS($A$1:C58)>COUNTIF(Main!$C$8:$C$100,$C$7),\"\",INDEX(Main!D$8:D$100,SMALL(IF(Main!D$8:D$100<>\"\",IF(Main!$C$8:$C$100=$C$7,ROW(D$8:D$100)-ROW(D$8)+1)),ROWS($A$1:C58))))","v":""},{"$f":"IF(ROWS($A$1:D58)>COUNTIF(Main!$C$8:$C$100,$C$7),\"\",INDEX(Main!E$8:E$100,SMALL(IF(N(Main!E$8:E$100)<>0,IF(Main!$C$8:$C$100=$C$7,ROW(E$8:E$100)-ROW(E$8)+1)),ROWS($A$1:D58))))","v":""},{"$f":"IF(ROWS($A$1:E58)>COUNTIF(Main!$C$8:$C$100,$C$7),\"\",INDEX(Main!F$8:F$100,SMALL(IF(Main!F$8:F$100<>\"\",IF(Main!$C$8:$C$100=$C$7,ROW(F$8:F$100)-ROW(F$8)+1)),ROWS($A$1:E58))))","v":""},{"$f":"IF(ROWS($A$1:F58)>COUNTIF(Main!$C$8:$C$100,$C$7),\"\",INDEX(Main!G$8:G$100,SMALL(IF(Main!G$8:G$100<>\"\",IF(Main!$C$8:$C$100=$C$7,ROW(G$8:G$100)-ROW(G$8)+1)),ROWS($A$1:F58))))","v":""},{"$f":"IF(ROWS($A$1:G58)>COUNTIF(Main!$C$8:$C$100,$C$7),\"\",INDEX(Main!H$8:H$100,SMALL(IF(N(Main!H$8:H$100)<>0,IF(Main!$C$8:$C$100=$C$7,ROW(H$8:H$100)-ROW(H$8)+1)),ROWS($A$1:G58))))","v":""},{"$f":"IF(ROWS($A$1:H58)>COUNTIF(Main!$C$8:$C$100,$C$7),\"\",INDEX(Main!I$8:I$100,SMALL(IF(N(Main!I$8:I$100)<>0,IF(Main!$C$8:$C$100=$C$7,ROW(I$8:I$100)-ROW(I$8)+1)),ROWS($A$1:H58))))","v":""},{"$f":"IF(ROWS($A$1:I58)>COUNTIF(Main!$C$8:$C$100,$C$7),\"\",INDEX(Main!J$8:J$100,SMALL(IF(N(Main!J$8:J$100)<>0,IF(Main!$C$8:$C$100=$C$7,ROW(J$8:J$100)-ROW(J$8)+1)),ROWS($A$1:I58))))","v":""},{"$f":"IF(ROWS($A$1:J58)>COUNTIF(Main!$C$8:$C$100,$C$7),\"\",INDEX(Main!K$8:K$100,SMALL(IF(N(Main!K$8:K$100)<>0,IF(Main!$C$8:$C$100=$C$7,ROW(K$8:K$100)-ROW(K$8)+1)),ROWS($A$1:J58))))","v":""},{"$f":"IF(ROWS($A$1:K58)>COUNTIF(Main!$C$8:$C$100,$C$7),\"\",INDEX(Main!L$8:L$100,SMALL(IF(N(Main!L$8:L$100)<>0,IF(Main!$C$8:$C$100=$C$7,ROW(L$8:L$100)-ROW(L$8)+1)),ROWS($A$1:K58))))","v":""}]
[{"$f":"IF(B66=\"\",\"\",MAX($A$7:A65)+1)","v":""},{"$f":"IF(ROWS($A$1:A59)>COUNTIF(Main!$C$8:$C$100,$C$7),\"\",INDEX(Main!B$8:B$100,SMALL(IF(N(Main!B$8:B$100)<>0,IF(Main!$C$8:$C$100=$C$7,ROW(B$8:B$100)-ROW(B$8)+1)),ROWS($A$1:A59))))","v":""},{"$f":"IF(ROWS($A$1:B59)>COUNTIF(Main!$C$8:$C$100,$C$7),\"\",INDEX(Main!C$8:C$100,SMALL(IF(N(Main!C$8:C$100)<>0,IF(Main!$C$8:$C$100=$C$7,ROW(C$8:C$100)-ROW(C$8)+1)),ROWS($A$1:B59))))","v":""},{"$f":"IF(ROWS($A$1:C59)>COUNTIF(Main!$C$8:$C$100,$C$7),\"\",INDEX(Main!D$8:D$100,SMALL(IF(Main!D$8:D$100<>\"\",IF(Main!$C$8:$C$100=$C$7,ROW(D$8:D$100)-ROW(D$8)+1)),ROWS($A$1:C59))))","v":""},{"$f":"IF(ROWS($A$1:D59)>COUNTIF(Main!$C$8:$C$100,$C$7),\"\",INDEX(Main!E$8:E$100,SMALL(IF(N(Main!E$8:E$100)<>0,IF(Main!$C$8:$C$100=$C$7,ROW(E$8:E$100)-ROW(E$8)+1)),ROWS($A$1:D59))))","v":""},{"$f":"IF(ROWS($A$1:E59)>COUNTIF(Main!$C$8:$C$100,$C$7),\"\",INDEX(Main!F$8:F$100,SMALL(IF(Main!F$8:F$100<>\"\",IF(Main!$C$8:$C$100=$C$7,ROW(F$8:F$100)-ROW(F$8)+1)),ROWS($A$1:E59))))","v":""},{"$f":"IF(ROWS($A$1:F59)>COUNTIF(Main!$C$8:$C$100,$C$7),\"\",INDEX(Main!G$8:G$100,SMALL(IF(Main!G$8:G$100<>\"\",IF(Main!$C$8:$C$100=$C$7,ROW(G$8:G$100)-ROW(G$8)+1)),ROWS($A$1:F59))))","v":""},{"$f":"IF(ROWS($A$1:G59)>COUNTIF(Main!$C$8:$C$100,$C$7),\"\",INDEX(Main!H$8:H$100,SMALL(IF(N(Main!H$8:H$100)<>0,IF(Main!$C$8:$C$100=$C$7,ROW(H$8:H$100)-ROW(H$8)+1)),ROWS($A$1:G59))))","v":""},{"$f":"IF(ROWS($A$1:H59)>COUNTIF(Main!$C$8:$C$100,$C$7),\"\",INDEX(Main!I$8:I$100,SMALL(IF(N(Main!I$8:I$100)<>0,IF(Main!$C$8:$C$100=$C$7,ROW(I$8:I$100)-ROW(I$8)+1)),ROWS($A$1:H59))))","v":""},{"$f":"IF(ROWS($A$1:I59)>COUNTIF(Main!$C$8:$C$100,$C$7),\"\",INDEX(Main!J$8:J$100,SMALL(IF(N(Main!J$8:J$100)<>0,IF(Main!$C$8:$C$100=$C$7,ROW(J$8:J$100)-ROW(J$8)+1)),ROWS($A$1:I59))))","v":""},{"$f":"IF(ROWS($A$1:J59)>COUNTIF(Main!$C$8:$C$100,$C$7),\"\",INDEX(Main!K$8:K$100,SMALL(IF(N(Main!K$8:K$100)<>0,IF(Main!$C$8:$C$100=$C$7,ROW(K$8:K$100)-ROW(K$8)+1)),ROWS($A$1:J59))))","v":""},{"$f":"IF(ROWS($A$1:K59)>COUNTIF(Main!$C$8:$C$100,$C$7),\"\",INDEX(Main!L$8:L$100,SMALL(IF(N(Main!L$8:L$100)<>0,IF(Main!$C$8:$C$100=$C$7,ROW(L$8:L$100)-ROW(L$8)+1)),ROWS($A$1:K59))))","v":""}]
[{"$f":"IF(B67=\"\",\"\",MAX($A$7:A66)+1)","v":""},{"$f":"IF(ROWS($A$1:A60)>COUNTIF(Main!$C$8:$C$100,$C$7),\"\",INDEX(Main!B$8:B$100,SMALL(IF(N(Main!B$8:B$100)<>0,IF(Main!$C$8:$C$100=$C$7,ROW(B$8:B$100)-ROW(B$8)+1)),ROWS($A$1:A60))))","v":""},{"$f":"IF(ROWS($A$1:B60)>COUNTIF(Main!$C$8:$C$100,$C$7),\"\",INDEX(Main!C$8:C$100,SMALL(IF(N(Main!C$8:C$100)<>0,IF(Main!$C$8:$C$100=$C$7,ROW(C$8:C$100)-ROW(C$8)+1)),ROWS($A$1:B60))))","v":""},{"$f":"IF(ROWS($A$1:C60)>COUNTIF(Main!$C$8:$C$100,$C$7),\"\",INDEX(Main!D$8:D$100,SMALL(IF(Main!D$8:D$100<>\"\",IF(Main!$C$8:$C$100=$C$7,ROW(D$8:D$100)-ROW(D$8)+1)),ROWS($A$1:C60))))","v":""},{"$f":"IF(ROWS($A$1:D60)>COUNTIF(Main!$C$8:$C$100,$C$7),\"\",INDEX(Main!E$8:E$100,SMALL(IF(N(Main!E$8:E$100)<>0,IF(Main!$C$8:$C$100=$C$7,ROW(E$8:E$100)-ROW(E$8)+1)),ROWS($A$1:D60))))","v":""},{"$f":"IF(ROWS($A$1:E60)>COUNTIF(Main!$C$8:$C$100,$C$7),\"\",INDEX(Main!F$8:F$100,SMALL(IF(Main!F$8:F$100<>\"\",IF(Main!$C$8:$C$100=$C$7,ROW(F$8:F$100)-ROW(F$8)+1)),ROWS($A$1:E60))))","v":""},{"$f":"IF(ROWS($A$1:F60)>COUNTIF(Main!$C$8:$C$100,$C$7),\"\",INDEX(Main!G$8:G$100,SMALL(IF(Main!G$8:G$100<>\"\",IF(Main!$C$8:$C$100=$C$7,ROW(G$8:G$100)-ROW(G$8)+1)),ROWS($A$1:F60))))","v":""},{"$f":"IF(ROWS($A$1:G60)>COUNTIF(Main!$C$8:$C$100,$C$7),\"\",INDEX(Main!H$8:H$100,SMALL(IF(N(Main!H$8:H$100)<>0,IF(Main!$C$8:$C$100=$C$7,ROW(H$8:H$100)-ROW(H$8)+1)),ROWS($A$1:G60))))","v":""},{"$f":"IF(ROWS($A$1:H60)>COUNTIF(Main!$C$8:$C$100,$C$7),\"\",INDEX(Main!I$8:I$100,SMALL(IF(N(Main!I$8:I$100)<>0,IF(Main!$C$8:$C$100=$C$7,ROW(I$8:I$100)-ROW(I$8)+1)),ROWS($A$1:H60))))","v":""},{"$f":"IF(ROWS($A$1:I60)>COUNTIF(Main!$C$8:$C$100,$C$7),\"\",INDEX(Main!J$8:J$100,SMALL(IF(N(Main!J$8:J$100)<>0,IF(Main!$C$8:$C$100=$C$7,ROW(J$8:J$100)-ROW(J$8)+1)),ROWS($A$1:I60))))","v":""},{"$f":"IF(ROWS($A$1:J60)>COUNTIF(Main!$C$8:$C$100,$C$7),\"\",INDEX(Main!K$8:K$100,SMALL(IF(N(Main!K$8:K$100)<>0,IF(Main!$C$8:$C$100=$C$7,ROW(K$8:K$100)-ROW(K$8)+1)),ROWS($A$1:J60))))","v":""},{"$f":"IF(ROWS($A$1:K60)>COUNTIF(Main!$C$8:$C$100,$C$7),\"\",INDEX(Main!L$8:L$100,SMALL(IF(N(Main!L$8:L$100)<>0,IF(Main!$C$8:$C$100=$C$7,ROW(L$8:L$100)-ROW(L$8)+1)),ROWS($A$1:K60))))","v":""}]
[{"$f":"IF(B68=\"\",\"\",MAX($A$7:A67)+1)","v":""},{"$f":"IF(ROWS($A$1:A61)>COUNTIF(Main!$C$8:$C$100,$C$7),\"\",INDEX(Main!B$8:B$100,SMALL(IF(N(Main!B$8:B$100)<>0,IF(Main!$C$8:$C$100=$C$7,ROW(B$8:B$100)-ROW(B$8)+1)),ROWS($A$1:A61))))","v":""},{"$f":"IF(ROWS($A$1:B61)>COUNTIF(Main!$C$8:$C$100,$C$7),\"\",INDEX(Main!C$8:C$100,SMALL(IF(N(Main!C$8:C$100)<>0,IF(Main!$C$8:$C$100=$C$7,ROW(C$8:C$100)-ROW(C$8)+1)),ROWS($A$1:B61))))","v":""},{"$f":"IF(ROWS($A$1:C61)>COUNTIF(Main!$C$8:$C$100,$C$7),\"\",INDEX(Main!D$8:D$100,SMALL(IF(Main!D$8:D$100<>\"\",IF(Main!$C$8:$C$100=$C$7,ROW(D$8:D$100)-ROW(D$8)+1)),ROWS($A$1:C61))))","v":""},{"$f":"IF(ROWS($A$1:D61)>COUNTIF(Main!$C$8:$C$100,$C$7),\"\",INDEX(Main!E$8:E$100,SMALL(IF(N(Main!E$8:E$100)<>0,IF(Main!$C$8:$C$100=$C$7,ROW(E$8:E$100)-ROW(E$8)+1)),ROWS($A$1:D61))))","v":""},{"$f":"IF(ROWS($A$1:E61)>COUNTIF(Main!$C$8:$C$100,$C$7),\"\",INDEX(Main!F$8:F$100,SMALL(IF(Main!F$8:F$100<>\"\",IF(Main!$C$8:$C$100=$C$7,ROW(F$8:F$100)-ROW(F$8)+1)),ROWS($A$1:E61))))","v":""},{"$f":"IF(ROWS($A$1:F61)>COUNTIF(Main!$C$8:$C$100,$C$7),\"\",INDEX(Main!G$8:G$100,SMALL(IF(Main!G$8:G$100<>\"\",IF(Main!$C$8:$C$100=$C$7,ROW(G$8:G$100)-ROW(G$8)+1)),ROWS($A$1:F61))))","v":""},{"$f":"IF(ROWS($A$1:G61)>COUNTIF(Main!$C$8:$C$100,$C$7),\"\",INDEX(Main!H$8:H$100,SMALL(IF(N(Main!H$8:H$100)<>0,IF(Main!$C$8:$C$100=$C$7,ROW(H$8:H$100)-ROW(H$8)+1)),ROWS($A$1:G61))))","v":""},{"$f":"IF(ROWS($A$1:H61)>COUNTIF(Main!$C$8:$C$100,$C$7),\"\",INDEX(Main!I$8:I$100,SMALL(IF(N(Main!I$8:I$100)<>0,IF(Main!$C$8:$C$100=$C$7,ROW(I$8:I$100)-ROW(I$8)+1)),ROWS($A$1:H61))))","v":""},{"$f":"IF(ROWS($A$1:I61)>COUNTIF(Main!$C$8:$C$100,$C$7),\"\",INDEX(Main!J$8:J$100,SMALL(IF(N(Main!J$8:J$100)<>0,IF(Main!$C$8:$C$100=$C$7,ROW(J$8:J$100)-ROW(J$8)+1)),ROWS($A$1:I61))))","v":""},{"$f":"IF(ROWS($A$1:J61)>COUNTIF(Main!$C$8:$C$100,$C$7),\"\",INDEX(Main!K$8:K$100,SMALL(IF(N(Main!K$8:K$100)<>0,IF(Main!$C$8:$C$100=$C$7,ROW(K$8:K$100)-ROW(K$8)+1)),ROWS($A$1:J61))))","v":""},{"$f":"IF(ROWS($A$1:K61)>COUNTIF(Main!$C$8:$C$100,$C$7),\"\",INDEX(Main!L$8:L$100,SMALL(IF(N(Main!L$8:L$100)<>0,IF(Main!$C$8:$C$100=$C$7,ROW(L$8:L$100)-ROW(L$8)+1)),ROWS($A$1:K61))))","v":""}]
[{"$f":"IF(B69=\"\",\"\",MAX($A$7:A68)+1)","v":""},{"$f":"IF(ROWS($A$1:A62)>COUNTIF(Main!$C$8:$C$100,$C$7),\"\",INDEX(Main!B$8:B$100,SMALL(IF(N(Main!B$8:B$100)<>0,IF(Main!$C$8:$C$100=$C$7,ROW(B$8:B$100)-ROW(B$8)+1)),ROWS($A$1:A62))))","v":""},{"$f":"IF(ROWS($A$1:B62)>COUNTIF(Main!$C$8:$C$100,$C$7),\"\",INDEX(Main!C$8:C$100,SMALL(IF(N(Main!C$8:C$100)<>0,IF(Main!$C$8:$C$100=$C$7,ROW(C$8:C$100)-ROW(C$8)+1)),ROWS($A$1:B62))))","v":""},{"$f":"IF(ROWS($A$1:C62)>COUNTIF(Main!$C$8:$C$100,$C$7),\"\",INDEX(Main!D$8:D$100,SMALL(IF(Main!D$8:D$100<>\"\",IF(Main!$C$8:$C$100=$C$7,ROW(D$8:D$100)-ROW(D$8)+1)),ROWS($A$1:C62))))","v":""},{"$f":"IF(ROWS($A$1:D62)>COUNTIF(Main!$C$8:$C$100,$C$7),\"\",INDEX(Main!E$8:E$100,SMALL(IF(N(Main!E$8:E$100)<>0,IF(Main!$C$8:$C$100=$C$7,ROW(E$8:E$100)-ROW(E$8)+1)),ROWS($A$1:D62))))","v":""},{"$f":"IF(ROWS($A$1:E62)>COUNTIF(Main!$C$8:$C$100,$C$7),\"\",INDEX(Main!F$8:F$100,SMALL(IF(Main!F$8:F$100<>\"\",IF(Main!$C$8:$C$100=$C$7,ROW(F$8:F$100)-ROW(F$8)+1)),ROWS($A$1:E62))))","v":""},{"$f":"IF(ROWS($A$1:F62)>COUNTIF(Main!$C$8:$C$100,$C$7),\"\",INDEX(Main!G$8:G$100,SMALL(IF(Main!G$8:G$100<>\"\",IF(Main!$C$8:$C$100=$C$7,ROW(G$8:G$100)-ROW(G$8)+1)),ROWS($A$1:F62))))","v":""},{"$f":"IF(ROWS($A$1:G62)>COUNTIF(Main!$C$8:$C$100,$C$7),\"\",INDEX(Main!H$8:H$100,SMALL(IF(N(Main!H$8:H$100)<>0,IF(Main!$C$8:$C$100=$C$7,ROW(H$8:H$100)-ROW(H$8)+1)),ROWS($A$1:G62))))","v":""},{"$f":"IF(ROWS($A$1:H62)>COUNTIF(Main!$C$8:$C$100,$C$7),\"\",INDEX(Main!I$8:I$100,SMALL(IF(N(Main!I$8:I$100)<>0,IF(Main!$C$8:$C$100=$C$7,ROW(I$8:I$100)-ROW(I$8)+1)),ROWS($A$1:H62))))","v":""},{"$f":"IF(ROWS($A$1:I62)>COUNTIF(Main!$C$8:$C$100,$C$7),\"\",INDEX(Main!J$8:J$100,SMALL(IF(N(Main!J$8:J$100)<>0,IF(Main!$C$8:$C$100=$C$7,ROW(J$8:J$100)-ROW(J$8)+1)),ROWS($A$1:I62))))","v":""},{"$f":"IF(ROWS($A$1:J62)>COUNTIF(Main!$C$8:$C$100,$C$7),\"\",INDEX(Main!K$8:K$100,SMALL(IF(N(Main!K$8:K$100)<>0,IF(Main!$C$8:$C$100=$C$7,ROW(K$8:K$100)-ROW(K$8)+1)),ROWS($A$1:J62))))","v":""},{"$f":"IF(ROWS($A$1:K62)>COUNTIF(Main!$C$8:$C$100,$C$7),\"\",INDEX(Main!L$8:L$100,SMALL(IF(N(Main!L$8:L$100)<>0,IF(Main!$C$8:$C$100=$C$7,ROW(L$8:L$100)-ROW(L$8)+1)),ROWS($A$1:K62))))","v":""}]
[{"$f":"IF(B70=\"\",\"\",MAX($A$7:A69)+1)","v":""},{"$f":"IF(ROWS($A$1:A63)>COUNTIF(Main!$C$8:$C$100,$C$7),\"\",INDEX(Main!B$8:B$100,SMALL(IF(N(Main!B$8:B$100)<>0,IF(Main!$C$8:$C$100=$C$7,ROW(B$8:B$100)-ROW(B$8)+1)),ROWS($A$1:A63))))","v":""},{"$f":"IF(ROWS($A$1:B63)>COUNTIF(Main!$C$8:$C$100,$C$7),\"\",INDEX(Main!C$8:C$100,SMALL(IF(N(Main!C$8:C$100)<>0,IF(Main!$C$8:$C$100=$C$7,ROW(C$8:C$100)-ROW(C$8)+1)),ROWS($A$1:B63))))","v":""},{"$f":"IF(ROWS($A$1:C63)>COUNTIF(Main!$C$8:$C$100,$C$7),\"\",INDEX(Main!D$8:D$100,SMALL(IF(Main!D$8:D$100<>\"\",IF(Main!$C$8:$C$100=$C$7,ROW(D$8:D$100)-ROW(D$8)+1)),ROWS($A$1:C63))))","v":""},{"$f":"IF(ROWS($A$1:D63)>COUNTIF(Main!$C$8:$C$100,$C$7),\"\",INDEX(Main!E$8:E$100,SMALL(IF(N(Main!E$8:E$100)<>0,IF(Main!$C$8:$C$100=$C$7,ROW(E$8:E$100)-ROW(E$8)+1)),ROWS($A$1:D63))))","v":""},{"$f":"IF(ROWS($A$1:E63)>COUNTIF(Main!$C$8:$C$100,$C$7),\"\",INDEX(Main!F$8:F$100,SMALL(IF(Main!F$8:F$100<>\"\",IF(Main!$C$8:$C$100=$C$7,ROW(F$8:F$100)-ROW(F$8)+1)),ROWS($A$1:E63))))","v":""},{"$f":"IF(ROWS($A$1:F63)>COUNTIF(Main!$C$8:$C$100,$C$7),\"\",INDEX(Main!G$8:G$100,SMALL(IF(Main!G$8:G$100<>\"\",IF(Main!$C$8:$C$100=$C$7,ROW(G$8:G$100)-ROW(G$8)+1)),ROWS($A$1:F63))))","v":""},{"$f":"IF(ROWS($A$1:G63)>COUNTIF(Main!$C$8:$C$100,$C$7),\"\",INDEX(Main!H$8:H$100,SMALL(IF(N(Main!H$8:H$100)<>0,IF(Main!$C$8:$C$100=$C$7,ROW(H$8:H$100)-ROW(H$8)+1)),ROWS($A$1:G63))))","v":""},{"$f":"IF(ROWS($A$1:H63)>COUNTIF(Main!$C$8:$C$100,$C$7),\"\",INDEX(Main!I$8:I$100,SMALL(IF(N(Main!I$8:I$100)<>0,IF(Main!$C$8:$C$100=$C$7,ROW(I$8:I$100)-ROW(I$8)+1)),ROWS($A$1:H63))))","v":""},{"$f":"IF(ROWS($A$1:I63)>COUNTIF(Main!$C$8:$C$100,$C$7),\"\",INDEX(Main!J$8:J$100,SMALL(IF(N(Main!J$8:J$100)<>0,IF(Main!$C$8:$C$100=$C$7,ROW(J$8:J$100)-ROW(J$8)+1)),ROWS($A$1:I63))))","v":""},{"$f":"IF(ROWS($A$1:J63)>COUNTIF(Main!$C$8:$C$100,$C$7),\"\",INDEX(Main!K$8:K$100,SMALL(IF(N(Main!K$8:K$100)<>0,IF(Main!$C$8:$C$100=$C$7,ROW(K$8:K$100)-ROW(K$8)+1)),ROWS($A$1:J63))))","v":""},{"$f":"IF(ROWS($A$1:K63)>COUNTIF(Main!$C$8:$C$100,$C$7),\"\",INDEX(Main!L$8:L$100,SMALL(IF(N(Main!L$8:L$100)<>0,IF(Main!$C$8:$C$100=$C$7,ROW(L$8:L$100)-ROW(L$8)+1)),ROWS($A$1:K63))))","v":""}]
[{"$f":"IF(B71=\"\",\"\",MAX($A$7:A70)+1)","v":""},{"$f":"IF(ROWS($A$1:A64)>COUNTIF(Main!$C$8:$C$100,$C$7),\"\",INDEX(Main!B$8:B$100,SMALL(IF(N(Main!B$8:B$100)<>0,IF(Main!$C$8:$C$100=$C$7,ROW(B$8:B$100)-ROW(B$8)+1)),ROWS($A$1:A64))))","v":""},{"$f":"IF(ROWS($A$1:B64)>COUNTIF(Main!$C$8:$C$100,$C$7),\"\",INDEX(Main!C$8:C$100,SMALL(IF(N(Main!C$8:C$100)<>0,IF(Main!$C$8:$C$100=$C$7,ROW(C$8:C$100)-ROW(C$8)+1)),ROWS($A$1:B64))))","v":""},{"$f":"IF(ROWS($A$1:C64)>COUNTIF(Main!$C$8:$C$100,$C$7),\"\",INDEX(Main!D$8:D$100,SMALL(IF(Main!D$8:D$100<>\"\",IF(Main!$C$8:$C$100=$C$7,ROW(D$8:D$100)-ROW(D$8)+1)),ROWS($A$1:C64))))","v":""},{"$f":"IF(ROWS($A$1:D64)>COUNTIF(Main!$C$8:$C$100,$C$7),\"\",INDEX(Main!E$8:E$100,SMALL(IF(N(Main!E$8:E$100)<>0,IF(Main!$C$8:$C$100=$C$7,ROW(E$8:E$100)-ROW(E$8)+1)),ROWS($A$1:D64))))","v":""},{"$f":"IF(ROWS($A$1:E64)>COUNTIF(Main!$C$8:$C$100,$C$7),\"\",INDEX(Main!F$8:F$100,SMALL(IF(Main!F$8:F$100<>\"\",IF(Main!$C$8:$C$100=$C$7,ROW(F$8:F$100)-ROW(F$8)+1)),ROWS($A$1:E64))))","v":""},{"$f":"IF(ROWS($A$1:F64)>COUNTIF(Main!$C$8:$C$100,$C$7),\"\",INDEX(Main!G$8:G$100,SMALL(IF(Main!G$8:G$100<>\"\",IF(Main!$C$8:$C$100=$C$7,ROW(G$8:G$100)-ROW(G$8)+1)),ROWS($A$1:F64))))","v":""},{"$f":"IF(ROWS($A$1:G64)>COUNTIF(Main!$C$8:$C$100,$C$7),\"\",INDEX(Main!H$8:H$100,SMALL(IF(N(Main!H$8:H$100)<>0,IF(Main!$C$8:$C$100=$C$7,ROW(H$8:H$100)-ROW(H$8)+1)),ROWS($A$1:G64))))","v":""},{"$f":"IF(ROWS($A$1:H64)>COUNTIF(Main!$C$8:$C$100,$C$7),\"\",INDEX(Main!I$8:I$100,SMALL(IF(N(Main!I$8:I$100)<>0,IF(Main!$C$8:$C$100=$C$7,ROW(I$8:I$100)-ROW(I$8)+1)),ROWS($A$1:H64))))","v":""},{"$f":"IF(ROWS($A$1:I64)>COUNTIF(Main!$C$8:$C$100,$C$7),\"\",INDEX(Main!J$8:J$100,SMALL(IF(N(Main!J$8:J$100)<>0,IF(Main!$C$8:$C$100=$C$7,ROW(J$8:J$100)-ROW(J$8)+1)),ROWS($A$1:I64))))","v":""},{"$f":"IF(ROWS($A$1:J64)>COUNTIF(Main!$C$8:$C$100,$C$7),\"\",INDEX(Main!K$8:K$100,SMALL(IF(N(Main!K$8:K$100)<>0,IF(Main!$C$8:$C$100=$C$7,ROW(K$8:K$100)-ROW(K$8)+1)),ROWS($A$1:J64))))","v":""},{"$f":"IF(ROWS($A$1:K64)>COUNTIF(Main!$C$8:$C$100,$C$7),\"\",INDEX(Main!L$8:L$100,SMALL(IF(N(Main!L$8:L$100)<>0,IF(Main!$C$8:$C$100=$C$7,ROW(L$8:L$100)-ROW(L$8)+1)),ROWS($A$1:K64))))","v":""}]
[{"$f":"IF(B72=\"\",\"\",MAX($A$7:A71)+1)","v":""},{"$f":"IF(ROWS($A$1:A65)>COUNTIF(Main!$C$8:$C$100,$C$7),\"\",INDEX(Main!B$8:B$100,SMALL(IF(N(Main!B$8:B$100)<>0,IF(Main!$C$8:$C$100=$C$7,ROW(B$8:B$100)-ROW(B$8)+1)),ROWS($A$1:A65))))","v":""},{"$f":"IF(ROWS($A$1:B65)>COUNTIF(Main!$C$8:$C$100,$C$7),\"\",INDEX(Main!C$8:C$100,SMALL(IF(N(Main!C$8:C$100)<>0,IF(Main!$C$8:$C$100=$C$7,ROW(C$8:C$100)-ROW(C$8)+1)),ROWS($A$1:B65))))","v":""},{"$f":"IF(ROWS($A$1:C65)>COUNTIF(Main!$C$8:$C$100,$C$7),\"\",INDEX(Main!D$8:D$100,SMALL(IF(Main!D$8:D$100<>\"\",IF(Main!$C$8:$C$100=$C$7,ROW(D$8:D$100)-ROW(D$8)+1)),ROWS($A$1:C65))))","v":""},{"$f":"IF(ROWS($A$1:D65)>COUNTIF(Main!$C$8:$C$100,$C$7),\"\",INDEX(Main!E$8:E$100,SMALL(IF(N(Main!E$8:E$100)<>0,IF(Main!$C$8:$C$100=$C$7,ROW(E$8:E$100)-ROW(E$8)+1)),ROWS($A$1:D65))))","v":""},{"$f":"IF(ROWS($A$1:E65)>COUNTIF(Main!$C$8:$C$100,$C$7),\"\",INDEX(Main!F$8:F$100,SMALL(IF(Main!F$8:F$100<>\"\",IF(Main!$C$8:$C$100=$C$7,ROW(F$8:F$100)-ROW(F$8)+1)),ROWS($A$1:E65))))","v":""},{"$f":"IF(ROWS($A$1:F65)>COUNTIF(Main!$C$8:$C$100,$C$7),\"\",INDEX(Main!G$8:G$100,SMALL(IF(Main!G$8:G$100<>\"\",IF(Main!$C$8:$C$100=$C$7,ROW(G$8:G$100)-ROW(G$8)+1)),ROWS($A$1:F65))))","v":""},{"$f":"IF(ROWS($A$1:G65)>COUNTIF(Main!$C$8:$C$100,$C$7),\"\",INDEX(Main!H$8:H$100,SMALL(IF(N(Main!H$8:H$100)<>0,IF(Main!$C$8:$C$100=$C$7,ROW(H$8:H$100)-ROW(H$8)+1)),ROWS($A$1:G65))))","v":""},{"$f":"IF(ROWS($A$1:H65)>COUNTIF(Main!$C$8:$C$100,$C$7),\"\",INDEX(Main!I$8:I$100,SMALL(IF(N(Main!I$8:I$100)<>0,IF(Main!$C$8:$C$100=$C$7,ROW(I$8:I$100)-ROW(I$8)+1)),ROWS($A$1:H65))))","v":""},{"$f":"IF(ROWS($A$1:I65)>COUNTIF(Main!$C$8:$C$100,$C$7),\"\",INDEX(Main!J$8:J$100,SMALL(IF(N(Main!J$8:J$100)<>0,IF(Main!$C$8:$C$100=$C$7,ROW(J$8:J$100)-ROW(J$8)+1)),ROWS($A$1:I65))))","v":""},{"$f":"IF(ROWS($A$1:J65)>COUNTIF(Main!$C$8:$C$100,$C$7),\"\",INDEX(Main!K$8:K$100,SMALL(IF(N(Main!K$8:K$100)<>0,IF(Main!$C$8:$C$100=$C$7,ROW(K$8:K$100)-ROW(K$8)+1)),ROWS($A$1:J65))))","v":""},{"$f":"IF(ROWS($A$1:K65)>COUNTIF(Main!$C$8:$C$100,$C$7),\"\",INDEX(Main!L$8:L$100,SMALL(IF(N(Main!L$8:L$100)<>0,IF(Main!$C$8:$C$100=$C$7,ROW(L$8:L$100)-ROW(L$8)+1)),ROWS($A$1:K65))))","v":""}]
[{"$f":"IF(B73=\"\",\"\",MAX($A$7:A72)+1)","v":""},{"$f":"IF(ROWS($A$1:A66)>COUNTIF(Main!$C$8:$C$100,$C$7),\"\",INDEX(Main!B$8:B$100,SMALL(IF(N(Main!B$8:B$100)<>0,IF(Main!$C$8:$C$100=$C$7,ROW(B$8:B$100)-ROW(B$8)+1)),ROWS($A$1:A66))))","v":""},{"$f":"IF(ROWS($A$1:B66)>COUNTIF(Main!$C$8:$C$100,$C$7),\"\",INDEX(Main!C$8:C$100,SMALL(IF(N(Main!C$8:C$100)<>0,IF(Main!$C$8:$C$100=$C$7,ROW(C$8:C$100)-ROW(C$8)+1)),ROWS($A$1:B66))))","v":""},{"$f":"IF(ROWS($A$1:C66)>COUNTIF(Main!$C$8:$C$100,$C$7),\"\",INDEX(Main!D$8:D$100,SMALL(IF(Main!D$8:D$100<>\"\",IF(Main!$C$8:$C$100=$C$7,ROW(D$8:D$100)-ROW(D$8)+1)),ROWS($A$1:C66))))","v":""},{"$f":"IF(ROWS($A$1:D66)>COUNTIF(Main!$C$8:$C$100,$C$7),\"\",INDEX(Main!E$8:E$100,SMALL(IF(N(Main!E$8:E$100)<>0,IF(Main!$C$8:$C$100=$C$7,ROW(E$8:E$100)-ROW(E$8)+1)),ROWS($A$1:D66))))","v":""},{"$f":"IF(ROWS($A$1:E66)>COUNTIF(Main!$C$8:$C$100,$C$7),\"\",INDEX(Main!F$8:F$100,SMALL(IF(Main!F$8:F$100<>\"\",IF(Main!$C$8:$C$100=$C$7,ROW(F$8:F$100)-ROW(F$8)+1)),ROWS($A$1:E66))))","v":""},{"$f":"IF(ROWS($A$1:F66)>COUNTIF(Main!$C$8:$C$100,$C$7),\"\",INDEX(Main!G$8:G$100,SMALL(IF(Main!G$8:G$100<>\"\",IF(Main!$C$8:$C$100=$C$7,ROW(G$8:G$100)-ROW(G$8)+1)),ROWS($A$1:F66))))","v":""},{"$f":"IF(ROWS($A$1:G66)>COUNTIF(Main!$C$8:$C$100,$C$7),\"\",INDEX(Main!H$8:H$100,SMALL(IF(N(Main!H$8:H$100)<>0,IF(Main!$C$8:$C$100=$C$7,ROW(H$8:H$100)-ROW(H$8)+1)),ROWS($A$1:G66))))","v":""},{"$f":"IF(ROWS($A$1:H66)>COUNTIF(Main!$C$8:$C$100,$C$7),\"\",INDEX(Main!I$8:I$100,SMALL(IF(N(Main!I$8:I$100)<>0,IF(Main!$C$8:$C$100=$C$7,ROW(I$8:I$100)-ROW(I$8)+1)),ROWS($A$1:H66))))","v":""},{"$f":"IF(ROWS($A$1:I66)>COUNTIF(Main!$C$8:$C$100,$C$7),\"\",INDEX(Main!J$8:J$100,SMALL(IF(N(Main!J$8:J$100)<>0,IF(Main!$C$8:$C$100=$C$7,ROW(J$8:J$100)-ROW(J$8)+1)),ROWS($A$1:I66))))","v":""},{"$f":"IF(ROWS($A$1:J66)>COUNTIF(Main!$C$8:$C$100,$C$7),\"\",INDEX(Main!K$8:K$100,SMALL(IF(N(Main!K$8:K$100)<>0,IF(Main!$C$8:$C$100=$C$7,ROW(K$8:K$100)-ROW(K$8)+1)),ROWS($A$1:J66))))","v":""},{"$f":"IF(ROWS($A$1:K66)>COUNTIF(Main!$C$8:$C$100,$C$7),\"\",INDEX(Main!L$8:L$100,SMALL(IF(N(Main!L$8:L$100)<>0,IF(Main!$C$8:$C$100=$C$7,ROW(L$8:L$100)-ROW(L$8)+1)),ROWS($A$1:K66))))","v":""}]
[{"$f":"IF(B74=\"\",\"\",MAX($A$7:A73)+1)","v":""},{"$f":"IF(ROWS($A$1:A67)>COUNTIF(Main!$C$8:$C$100,$C$7),\"\",INDEX(Main!B$8:B$100,SMALL(IF(N(Main!B$8:B$100)<>0,IF(Main!$C$8:$C$100=$C$7,ROW(B$8:B$100)-ROW(B$8)+1)),ROWS($A$1:A67))))","v":""},{"$f":"IF(ROWS($A$1:B67)>COUNTIF(Main!$C$8:$C$100,$C$7),\"\",INDEX(Main!C$8:C$100,SMALL(IF(N(Main!C$8:C$100)<>0,IF(Main!$C$8:$C$100=$C$7,ROW(C$8:C$100)-ROW(C$8)+1)),ROWS($A$1:B67))))","v":""},{"$f":"IF(ROWS($A$1:C67)>COUNTIF(Main!$C$8:$C$100,$C$7),\"\",INDEX(Main!D$8:D$100,SMALL(IF(Main!D$8:D$100<>\"\",IF(Main!$C$8:$C$100=$C$7,ROW(D$8:D$100)-ROW(D$8)+1)),ROWS($A$1:C67))))","v":""},{"$f":"IF(ROWS($A$1:D67)>COUNTIF(Main!$C$8:$C$100,$C$7),\"\",INDEX(Main!E$8:E$100,SMALL(IF(N(Main!E$8:E$100)<>0,IF(Main!$C$8:$C$100=$C$7,ROW(E$8:E$100)-ROW(E$8)+1)),ROWS($A$1:D67))))","v":""},{"$f":"IF(ROWS($A$1:E67)>COUNTIF(Main!$C$8:$C$100,$C$7),\"\",INDEX(Main!F$8:F$100,SMALL(IF(Main!F$8:F$100<>\"\",IF(Main!$C$8:$C$100=$C$7,ROW(F$8:F$100)-ROW(F$8)+1)),ROWS($A$1:E67))))","v":""},{"$f":"IF(ROWS($A$1:F67)>COUNTIF(Main!$C$8:$C$100,$C$7),\"\",INDEX(Main!G$8:G$100,SMALL(IF(Main!G$8:G$100<>\"\",IF(Main!$C$8:$C$100=$C$7,ROW(G$8:G$100)-ROW(G$8)+1)),ROWS($A$1:F67))))","v":""},{"$f":"IF(ROWS($A$1:G67)>COUNTIF(Main!$C$8:$C$100,$C$7),\"\",INDEX(Main!H$8:H$100,SMALL(IF(N(Main!H$8:H$100)<>0,IF(Main!$C$8:$C$100=$C$7,ROW(H$8:H$100)-ROW(H$8)+1)),ROWS($A$1:G67))))","v":""},{"$f":"IF(ROWS($A$1:H67)>COUNTIF(Main!$C$8:$C$100,$C$7),\"\",INDEX(Main!I$8:I$100,SMALL(IF(N(Main!I$8:I$100)<>0,IF(Main!$C$8:$C$100=$C$7,ROW(I$8:I$100)-ROW(I$8)+1)),ROWS($A$1:H67))))","v":""},{"$f":"IF(ROWS($A$1:I67)>COUNTIF(Main!$C$8:$C$100,$C$7),\"\",INDEX(Main!J$8:J$100,SMALL(IF(N(Main!J$8:J$100)<>0,IF(Main!$C$8:$C$100=$C$7,ROW(J$8:J$100)-ROW(J$8)+1)),ROWS($A$1:I67))))","v":""},{"$f":"IF(ROWS($A$1:J67)>COUNTIF(Main!$C$8:$C$100,$C$7),\"\",INDEX(Main!K$8:K$100,SMALL(IF(N(Main!K$8:K$100)<>0,IF(Main!$C$8:$C$100=$C$7,ROW(K$8:K$100)-ROW(K$8)+1)),ROWS($A$1:J67))))","v":""},{"$f":"IF(ROWS($A$1:K67)>COUNTIF(Main!$C$8:$C$100,$C$7),\"\",INDEX(Main!L$8:L$100,SMALL(IF(N(Main!L$8:L$100)<>0,IF(Main!$C$8:$C$100=$C$7,ROW(L$8:L$100)-ROW(L$8)+1)),ROWS($A$1:K67))))","v":""}]
[{"$f":"IF(B75=\"\",\"\",MAX($A$7:A74)+1)","v":""},{"$f":"IF(ROWS($A$1:A68)>COUNTIF(Main!$C$8:$C$100,$C$7),\"\",INDEX(Main!B$8:B$100,SMALL(IF(N(Main!B$8:B$100)<>0,IF(Main!$C$8:$C$100=$C$7,ROW(B$8:B$100)-ROW(B$8)+1)),ROWS($A$1:A68))))","v":""},{"$f":"IF(ROWS($A$1:B68)>COUNTIF(Main!$C$8:$C$100,$C$7),\"\",INDEX(Main!C$8:C$100,SMALL(IF(N(Main!C$8:C$100)<>0,IF(Main!$C$8:$C$100=$C$7,ROW(C$8:C$100)-ROW(C$8)+1)),ROWS($A$1:B68))))","v":""},{"$f":"IF(ROWS($A$1:C68)>COUNTIF(Main!$C$8:$C$100,$C$7),\"\",INDEX(Main!D$8:D$100,SMALL(IF(Main!D$8:D$100<>\"\",IF(Main!$C$8:$C$100=$C$7,ROW(D$8:D$100)-ROW(D$8)+1)),ROWS($A$1:C68))))","v":""},{"$f":"IF(ROWS($A$1:D68)>COUNTIF(Main!$C$8:$C$100,$C$7),\"\",INDEX(Main!E$8:E$100,SMALL(IF(N(Main!E$8:E$100)<>0,IF(Main!$C$8:$C$100=$C$7,ROW(E$8:E$100)-ROW(E$8)+1)),ROWS($A$1:D68))))","v":""},{"$f":"IF(ROWS($A$1:E68)>COUNTIF(Main!$C$8:$C$100,$C$7),\"\",INDEX(Main!F$8:F$100,SMALL(IF(Main!F$8:F$100<>\"\",IF(Main!$C$8:$C$100=$C$7,ROW(F$8:F$100)-ROW(F$8)+1)),ROWS($A$1:E68))))","v":""},{"$f":"IF(ROWS($A$1:F68)>COUNTIF(Main!$C$8:$C$100,$C$7),\"\",INDEX(Main!G$8:G$100,SMALL(IF(Main!G$8:G$100<>\"\",IF(Main!$C$8:$C$100=$C$7,ROW(G$8:G$100)-ROW(G$8)+1)),ROWS($A$1:F68))))","v":""},{"$f":"IF(ROWS($A$1:G68)>COUNTIF(Main!$C$8:$C$100,$C$7),\"\",INDEX(Main!H$8:H$100,SMALL(IF(N(Main!H$8:H$100)<>0,IF(Main!$C$8:$C$100=$C$7,ROW(H$8:H$100)-ROW(H$8)+1)),ROWS($A$1:G68))))","v":""},{"$f":"IF(ROWS($A$1:H68)>COUNTIF(Main!$C$8:$C$100,$C$7),\"\",INDEX(Main!I$8:I$100,SMALL(IF(N(Main!I$8:I$100)<>0,IF(Main!$C$8:$C$100=$C$7,ROW(I$8:I$100)-ROW(I$8)+1)),ROWS($A$1:H68))))","v":""},{"$f":"IF(ROWS($A$1:I68)>COUNTIF(Main!$C$8:$C$100,$C$7),\"\",INDEX(Main!J$8:J$100,SMALL(IF(N(Main!J$8:J$100)<>0,IF(Main!$C$8:$C$100=$C$7,ROW(J$8:J$100)-ROW(J$8)+1)),ROWS($A$1:I68))))","v":""},{"$f":"IF(ROWS($A$1:J68)>COUNTIF(Main!$C$8:$C$100,$C$7),\"\",INDEX(Main!K$8:K$100,SMALL(IF(N(Main!K$8:K$100)<>0,IF(Main!$C$8:$C$100=$C$7,ROW(K$8:K$100)-ROW(K$8)+1)),ROWS($A$1:J68))))","v":""},{"$f":"IF(ROWS($A$1:K68)>COUNTIF(Main!$C$8:$C$100,$C$7),\"\",INDEX(Main!L$8:L$100,SMALL(IF(N(Main!L$8:L$100)<>0,IF(Main!$C$8:$C$100=$C$7,ROW(L$8:L$100)-ROW(L$8)+1)),ROWS($A$1:K68))))","v":""}]
[{"$f":"IF(B76=\"\",\"\",MAX($A$7:A75)+1)","v":""},{"$f":"IF(ROWS($A$1:A69)>COUNTIF(Main!$C$8:$C$100,$C$7),\"\",INDEX(Main!B$8:B$100,SMALL(IF(N(Main!B$8:B$100)<>0,IF(Main!$C$8:$C$100=$C$7,ROW(B$8:B$100)-ROW(B$8)+1)),ROWS($A$1:A69))))","v":""},{"$f":"IF(ROWS($A$1:B69)>COUNTIF(Main!$C$8:$C$100,$C$7),\"\",INDEX(Main!C$8:C$100,SMALL(IF(N(Main!C$8:C$100)<>0,IF(Main!$C$8:$C$100=$C$7,ROW(C$8:C$100)-ROW(C$8)+1)),ROWS($A$1:B69))))","v":""},{"$f":"IF(ROWS($A$1:C69)>COUNTIF(Main!$C$8:$C$100,$C$7),\"\",INDEX(Main!D$8:D$100,SMALL(IF(Main!D$8:D$100<>\"\",IF(Main!$C$8:$C$100=$C$7,ROW(D$8:D$100)-ROW(D$8)+1)),ROWS($A$1:C69))))","v":""},{"$f":"IF(ROWS($A$1:D69)>COUNTIF(Main!$C$8:$C$100,$C$7),\"\",INDEX(Main!E$8:E$100,SMALL(IF(N(Main!E$8:E$100)<>0,IF(Main!$C$8:$C$100=$C$7,ROW(E$8:E$100)-ROW(E$8)+1)),ROWS($A$1:D69))))","v":""},{"$f":"IF(ROWS($A$1:E69)>COUNTIF(Main!$C$8:$C$100,$C$7),\"\",INDEX(Main!F$8:F$100,SMALL(IF(Main!F$8:F$100<>\"\",IF(Main!$C$8:$C$100=$C$7,ROW(F$8:F$100)-ROW(F$8)+1)),ROWS($A$1:E69))))","v":""},{"$f":"IF(ROWS($A$1:F69)>COUNTIF(Main!$C$8:$C$100,$C$7),\"\",INDEX(Main!G$8:G$100,SMALL(IF(Main!G$8:G$100<>\"\",IF(Main!$C$8:$C$100=$C$7,ROW(G$8:G$100)-ROW(G$8)+1)),ROWS($A$1:F69))))","v":""},{"$f":"IF(ROWS($A$1:G69)>COUNTIF(Main!$C$8:$C$100,$C$7),\"\",INDEX(Main!H$8:H$100,SMALL(IF(N(Main!H$8:H$100)<>0,IF(Main!$C$8:$C$100=$C$7,ROW(H$8:H$100)-ROW(H$8)+1)),ROWS($A$1:G69))))","v":""},{"$f":"IF(ROWS($A$1:H69)>COUNTIF(Main!$C$8:$C$100,$C$7),\"\",INDEX(Main!I$8:I$100,SMALL(IF(N(Main!I$8:I$100)<>0,IF(Main!$C$8:$C$100=$C$7,ROW(I$8:I$100)-ROW(I$8)+1)),ROWS($A$1:H69))))","v":""},{"$f":"IF(ROWS($A$1:I69)>COUNTIF(Main!$C$8:$C$100,$C$7),\"\",INDEX(Main!J$8:J$100,SMALL(IF(N(Main!J$8:J$100)<>0,IF(Main!$C$8:$C$100=$C$7,ROW(J$8:J$100)-ROW(J$8)+1)),ROWS($A$1:I69))))","v":""},{"$f":"IF(ROWS($A$1:J69)>COUNTIF(Main!$C$8:$C$100,$C$7),\"\",INDEX(Main!K$8:K$100,SMALL(IF(N(Main!K$8:K$100)<>0,IF(Main!$C$8:$C$100=$C$7,ROW(K$8:K$100)-ROW(K$8)+1)),ROWS($A$1:J69))))","v":""},{"$f":"IF(ROWS($A$1:K69)>COUNTIF(Main!$C$8:$C$100,$C$7),\"\",INDEX(Main!L$8:L$100,SMALL(IF(N(Main!L$8:L$100)<>0,IF(Main!$C$8:$C$100=$C$7,ROW(L$8:L$100)-ROW(L$8)+1)),ROWS($A$1:K69))))","v":""}]
[{"$f":"IF(B77=\"\",\"\",MAX($A$7:A76)+1)","v":""},{"$f":"IF(ROWS($A$1:A70)>COUNTIF(Main!$C$8:$C$100,$C$7),\"\",INDEX(Main!B$8:B$100,SMALL(IF(N(Main!B$8:B$100)<>0,IF(Main!$C$8:$C$100=$C$7,ROW(B$8:B$100)-ROW(B$8)+1)),ROWS($A$1:A70))))","v":""},{"$f":"IF(ROWS($A$1:B70)>COUNTIF(Main!$C$8:$C$100,$C$7),\"\",INDEX(Main!C$8:C$100,SMALL(IF(N(Main!C$8:C$100)<>0,IF(Main!$C$8:$C$100=$C$7,ROW(C$8:C$100)-ROW(C$8)+1)),ROWS($A$1:B70))))","v":""},{"$f":"IF(ROWS($A$1:C70)>COUNTIF(Main!$C$8:$C$100,$C$7),\"\",INDEX(Main!D$8:D$100,SMALL(IF(Main!D$8:D$100<>\"\",IF(Main!$C$8:$C$100=$C$7,ROW(D$8:D$100)-ROW(D$8)+1)),ROWS($A$1:C70))))","v":""},{"$f":"IF(ROWS($A$1:D70)>COUNTIF(Main!$C$8:$C$100,$C$7),\"\",INDEX(Main!E$8:E$100,SMALL(IF(N(Main!E$8:E$100)<>0,IF(Main!$C$8:$C$100=$C$7,ROW(E$8:E$100)-ROW(E$8)+1)),ROWS($A$1:D70))))","v":""},{"$f":"IF(ROWS($A$1:E70)>COUNTIF(Main!$C$8:$C$100,$C$7),\"\",INDEX(Main!F$8:F$100,SMALL(IF(Main!F$8:F$100<>\"\",IF(Main!$C$8:$C$100=$C$7,ROW(F$8:F$100)-ROW(F$8)+1)),ROWS($A$1:E70))))","v":""},{"$f":"IF(ROWS($A$1:F70)>COUNTIF(Main!$C$8:$C$100,$C$7),\"\",INDEX(Main!G$8:G$100,SMALL(IF(Main!G$8:G$100<>\"\",IF(Main!$C$8:$C$100=$C$7,ROW(G$8:G$100)-ROW(G$8)+1)),ROWS($A$1:F70))))","v":""},{"$f":"IF(ROWS($A$1:G70)>COUNTIF(Main!$C$8:$C$100,$C$7),\"\",INDEX(Main!H$8:H$100,SMALL(IF(N(Main!H$8:H$100)<>0,IF(Main!$C$8:$C$100=$C$7,ROW(H$8:H$100)-ROW(H$8)+1)),ROWS($A$1:G70))))","v":""},{"$f":"IF(ROWS($A$1:H70)>COUNTIF(Main!$C$8:$C$100,$C$7),\"\",INDEX(Main!I$8:I$100,SMALL(IF(N(Main!I$8:I$100)<>0,IF(Main!$C$8:$C$100=$C$7,ROW(I$8:I$100)-ROW(I$8)+1)),ROWS($A$1:H70))))","v":""},{"$f":"IF(ROWS($A$1:I70)>COUNTIF(Main!$C$8:$C$100,$C$7),\"\",INDEX(Main!J$8:J$100,SMALL(IF(N(Main!J$8:J$100)<>0,IF(Main!$C$8:$C$100=$C$7,ROW(J$8:J$100)-ROW(J$8)+1)),ROWS($A$1:I70))))","v":""},{"$f":"IF(ROWS($A$1:J70)>COUNTIF(Main!$C$8:$C$100,$C$7),\"\",INDEX(Main!K$8:K$100,SMALL(IF(N(Main!K$8:K$100)<>0,IF(Main!$C$8:$C$100=$C$7,ROW(K$8:K$100)-ROW(K$8)+1)),ROWS($A$1:J70))))","v":""},{"$f":"IF(ROWS($A$1:K70)>COUNTIF(Main!$C$8:$C$100,$C$7),\"\",INDEX(Main!L$8:L$100,SMALL(IF(N(Main!L$8:L$100)<>0,IF(Main!$C$8:$C$100=$C$7,ROW(L$8:L$100)-ROW(L$8)+1)),ROWS($A$1:K70))))","v":""}]
[{"$f":"IF(B78=\"\",\"\",MAX($A$7:A77)+1)","v":""},{"$f":"IF(ROWS($A$1:A71)>COUNTIF(Main!$C$8:$C$100,$C$7),\"\",INDEX(Main!B$8:B$100,SMALL(IF(N(Main!B$8:B$100)<>0,IF(Main!$C$8:$C$100=$C$7,ROW(B$8:B$100)-ROW(B$8)+1)),ROWS($A$1:A71))))","v":""},{"$f":"IF(ROWS($A$1:B71)>COUNTIF(Main!$C$8:$C$100,$C$7),\"\",INDEX(Main!C$8:C$100,SMALL(IF(N(Main!C$8:C$100)<>0,IF(Main!$C$8:$C$100=$C$7,ROW(C$8:C$100)-ROW(C$8)+1)),ROWS($A$1:B71))))","v":""},{"$f":"IF(ROWS($A$1:C71)>COUNTIF(Main!$C$8:$C$100,$C$7),\"\",INDEX(Main!D$8:D$100,SMALL(IF(Main!D$8:D$100<>\"\",IF(Main!$C$8:$C$100=$C$7,ROW(D$8:D$100)-ROW(D$8)+1)),ROWS($A$1:C71))))","v":""},{"$f":"IF(ROWS($A$1:D71)>COUNTIF(Main!$C$8:$C$100,$C$7),\"\",INDEX(Main!E$8:E$100,SMALL(IF(N(Main!E$8:E$100)<>0,IF(Main!$C$8:$C$100=$C$7,ROW(E$8:E$100)-ROW(E$8)+1)),ROWS($A$1:D71))))","v":""},{"$f":"IF(ROWS($A$1:E71)>COUNTIF(Main!$C$8:$C$100,$C$7),\"\",INDEX(Main!F$8:F$100,SMALL(IF(Main!F$8:F$100<>\"\",IF(Main!$C$8:$C$100=$C$7,ROW(F$8:F$100)-ROW(F$8)+1)),ROWS($A$1:E71))))","v":""},{"$f":"IF(ROWS($A$1:F71)>COUNTIF(Main!$C$8:$C$100,$C$7),\"\",INDEX(Main!G$8:G$100,SMALL(IF(Main!G$8:G$100<>\"\",IF(Main!$C$8:$C$100=$C$7,ROW(G$8:G$100)-ROW(G$8)+1)),ROWS($A$1:F71))))","v":""},{"$f":"IF(ROWS($A$1:G71)>COUNTIF(Main!$C$8:$C$100,$C$7),\"\",INDEX(Main!H$8:H$100,SMALL(IF(N(Main!H$8:H$100)<>0,IF(Main!$C$8:$C$100=$C$7,ROW(H$8:H$100)-ROW(H$8)+1)),ROWS($A$1:G71))))","v":""},{"$f":"IF(ROWS($A$1:H71)>COUNTIF(Main!$C$8:$C$100,$C$7),\"\",INDEX(Main!I$8:I$100,SMALL(IF(N(Main!I$8:I$100)<>0,IF(Main!$C$8:$C$100=$C$7,ROW(I$8:I$100)-ROW(I$8)+1)),ROWS($A$1:H71))))","v":""},{"$f":"IF(ROWS($A$1:I71)>COUNTIF(Main!$C$8:$C$100,$C$7),\"\",INDEX(Main!J$8:J$100,SMALL(IF(N(Main!J$8:J$100)<>0,IF(Main!$C$8:$C$100=$C$7,ROW(J$8:J$100)-ROW(J$8)+1)),ROWS($A$1:I71))))","v":""},{"$f":"IF(ROWS($A$1:J71)>COUNTIF(Main!$C$8:$C$100,$C$7),\"\",INDEX(Main!K$8:K$100,SMALL(IF(N(Main!K$8:K$100)<>0,IF(Main!$C$8:$C$100=$C$7,ROW(K$8:K$100)-ROW(K$8)+1)),ROWS($A$1:J71))))","v":""},{"$f":"IF(ROWS($A$1:K71)>COUNTIF(Main!$C$8:$C$100,$C$7),\"\",INDEX(Main!L$8:L$100,SMALL(IF(N(Main!L$8:L$100)<>0,IF(Main!$C$8:$C$100=$C$7,ROW(L$8:L$100)-ROW(L$8)+1)),ROWS($A$1:K71))))","v":""}]
[{"$f":"IF(B79=\"\",\"\",MAX($A$7:A78)+1)","v":""},{"$f":"IF(ROWS($A$1:A72)>COUNTIF(Main!$C$8:$C$100,$C$7),\"\",INDEX(Main!B$8:B$100,SMALL(IF(N(Main!B$8:B$100)<>0,IF(Main!$C$8:$C$100=$C$7,ROW(B$8:B$100)-ROW(B$8)+1)),ROWS($A$1:A72))))","v":""},{"$f":"IF(ROWS($A$1:B72)>COUNTIF(Main!$C$8:$C$100,$C$7),\"\",INDEX(Main!C$8:C$100,SMALL(IF(N(Main!C$8:C$100)<>0,IF(Main!$C$8:$C$100=$C$7,ROW(C$8:C$100)-ROW(C$8)+1)),ROWS($A$1:B72))))","v":""},{"$f":"IF(ROWS($A$1:C72)>COUNTIF(Main!$C$8:$C$100,$C$7),\"\",INDEX(Main!D$8:D$100,SMALL(IF(Main!D$8:D$100<>\"\",IF(Main!$C$8:$C$100=$C$7,ROW(D$8:D$100)-ROW(D$8)+1)),ROWS($A$1:C72))))","v":""},{"$f":"IF(ROWS($A$1:D72)>COUNTIF(Main!$C$8:$C$100,$C$7),\"\",INDEX(Main!E$8:E$100,SMALL(IF(N(Main!E$8:E$100)<>0,IF(Main!$C$8:$C$100=$C$7,ROW(E$8:E$100)-ROW(E$8)+1)),ROWS($A$1:D72))))","v":""},{"$f":"IF(ROWS($A$1:E72)>COUNTIF(Main!$C$8:$C$100,$C$7),\"\",INDEX(Main!F$8:F$100,SMALL(IF(Main!F$8:F$100<>\"\",IF(Main!$C$8:$C$100=$C$7,ROW(F$8:F$100)-ROW(F$8)+1)),ROWS($A$1:E72))))","v":""},{"$f":"IF(ROWS($A$1:F72)>COUNTIF(Main!$C$8:$C$100,$C$7),\"\",INDEX(Main!G$8:G$100,SMALL(IF(Main!G$8:G$100<>\"\",IF(Main!$C$8:$C$100=$C$7,ROW(G$8:G$100)-ROW(G$8)+1)),ROWS($A$1:F72))))","v":""},{"$f":"IF(ROWS($A$1:G72)>COUNTIF(Main!$C$8:$C$100,$C$7),\"\",INDEX(Main!H$8:H$100,SMALL(IF(N(Main!H$8:H$100)<>0,IF(Main!$C$8:$C$100=$C$7,ROW(H$8:H$100)-ROW(H$8)+1)),ROWS($A$1:G72))))","v":""},{"$f":"IF(ROWS($A$1:H72)>COUNTIF(Main!$C$8:$C$100,$C$7),\"\",INDEX(Main!I$8:I$100,SMALL(IF(N(Main!I$8:I$100)<>0,IF(Main!$C$8:$C$100=$C$7,ROW(I$8:I$100)-ROW(I$8)+1)),ROWS($A$1:H72))))","v":""},{"$f":"IF(ROWS($A$1:I72)>COUNTIF(Main!$C$8:$C$100,$C$7),\"\",INDEX(Main!J$8:J$100,SMALL(IF(N(Main!J$8:J$100)<>0,IF(Main!$C$8:$C$100=$C$7,ROW(J$8:J$100)-ROW(J$8)+1)),ROWS($A$1:I72))))","v":""},{"$f":"IF(ROWS($A$1:J72)>COUNTIF(Main!$C$8:$C$100,$C$7),\"\",INDEX(Main!K$8:K$100,SMALL(IF(N(Main!K$8:K$100)<>0,IF(Main!$C$8:$C$100=$C$7,ROW(K$8:K$100)-ROW(K$8)+1)),ROWS($A$1:J72))))","v":""},{"$f":"IF(ROWS($A$1:K72)>COUNTIF(Main!$C$8:$C$100,$C$7),\"\",INDEX(Main!L$8:L$100,SMALL(IF(N(Main!L$8:L$100)<>0,IF(Main!$C$8:$C$100=$C$7,ROW(L$8:L$100)-ROW(L$8)+1)),ROWS($A$1:K72))))","v":""}]
[{"$f":"IF(B80=\"\",\"\",MAX($A$7:A79)+1)","v":""},{"$f":"IF(ROWS($A$1:A73)>COUNTIF(Main!$C$8:$C$100,$C$7),\"\",INDEX(Main!B$8:B$100,SMALL(IF(N(Main!B$8:B$100)<>0,IF(Main!$C$8:$C$100=$C$7,ROW(B$8:B$100)-ROW(B$8)+1)),ROWS($A$1:A73))))","v":""},{"$f":"IF(ROWS($A$1:B73)>COUNTIF(Main!$C$8:$C$100,$C$7),\"\",INDEX(Main!C$8:C$100,SMALL(IF(N(Main!C$8:C$100)<>0,IF(Main!$C$8:$C$100=$C$7,ROW(C$8:C$100)-ROW(C$8)+1)),ROWS($A$1:B73))))","v":""},{"$f":"IF(ROWS($A$1:C73)>COUNTIF(Main!$C$8:$C$100,$C$7),\"\",INDEX(Main!D$8:D$100,SMALL(IF(Main!D$8:D$100<>\"\",IF(Main!$C$8:$C$100=$C$7,ROW(D$8:D$100)-ROW(D$8)+1)),ROWS($A$1:C73))))","v":""},{"$f":"IF(ROWS($A$1:D73)>COUNTIF(Main!$C$8:$C$100,$C$7),\"\",INDEX(Main!E$8:E$100,SMALL(IF(N(Main!E$8:E$100)<>0,IF(Main!$C$8:$C$100=$C$7,ROW(E$8:E$100)-ROW(E$8)+1)),ROWS($A$1:D73))))","v":""},{"$f":"IF(ROWS($A$1:E73)>COUNTIF(Main!$C$8:$C$100,$C$7),\"\",INDEX(Main!F$8:F$100,SMALL(IF(Main!F$8:F$100<>\"\",IF(Main!$C$8:$C$100=$C$7,ROW(F$8:F$100)-ROW(F$8)+1)),ROWS($A$1:E73))))","v":""},{"$f":"IF(ROWS($A$1:F73)>COUNTIF(Main!$C$8:$C$100,$C$7),\"\",INDEX(Main!G$8:G$100,SMALL(IF(Main!G$8:G$100<>\"\",IF(Main!$C$8:$C$100=$C$7,ROW(G$8:G$100)-ROW(G$8)+1)),ROWS($A$1:F73))))","v":""},{"$f":"IF(ROWS($A$1:G73)>COUNTIF(Main!$C$8:$C$100,$C$7),\"\",INDEX(Main!H$8:H$100,SMALL(IF(N(Main!H$8:H$100)<>0,IF(Main!$C$8:$C$100=$C$7,ROW(H$8:H$100)-ROW(H$8)+1)),ROWS($A$1:G73))))","v":""},{"$f":"IF(ROWS($A$1:H73)>COUNTIF(Main!$C$8:$C$100,$C$7),\"\",INDEX(Main!I$8:I$100,SMALL(IF(N(Main!I$8:I$100)<>0,IF(Main!$C$8:$C$100=$C$7,ROW(I$8:I$100)-ROW(I$8)+1)),ROWS($A$1:H73))))","v":""},{"$f":"IF(ROWS($A$1:I73)>COUNTIF(Main!$C$8:$C$100,$C$7),\"\",INDEX(Main!J$8:J$100,SMALL(IF(N(Main!J$8:J$100)<>0,IF(Main!$C$8:$C$100=$C$7,ROW(J$8:J$100)-ROW(J$8)+1)),ROWS($A$1:I73))))","v":""},{"$f":"IF(ROWS($A$1:J73)>COUNTIF(Main!$C$8:$C$100,$C$7),\"\",INDEX(Main!K$8:K$100,SMALL(IF(N(Main!K$8:K$100)<>0,IF(Main!$C$8:$C$100=$C$7,ROW(K$8:K$100)-ROW(K$8)+1)),ROWS($A$1:J73))))","v":""},{"$f":"IF(ROWS($A$1:K73)>COUNTIF(Main!$C$8:$C$100,$C$7),\"\",INDEX(Main!L$8:L$100,SMALL(IF(N(Main!L$8:L$100)<>0,IF(Main!$C$8:$C$100=$C$7,ROW(L$8:L$100)-ROW(L$8)+1)),ROWS($A$1:K73))))","v":""}]
[{"$f":"IF(B81=\"\",\"\",MAX($A$7:A80)+1)","v":""},{"$f":"IF(ROWS($A$1:A74)>COUNTIF(Main!$C$8:$C$100,$C$7),\"\",INDEX(Main!B$8:B$100,SMALL(IF(N(Main!B$8:B$100)<>0,IF(Main!$C$8:$C$100=$C$7,ROW(B$8:B$100)-ROW(B$8)+1)),ROWS($A$1:A74))))","v":""},{"$f":"IF(ROWS($A$1:B74)>COUNTIF(Main!$C$8:$C$100,$C$7),\"\",INDEX(Main!C$8:C$100,SMALL(IF(N(Main!C$8:C$100)<>0,IF(Main!$C$8:$C$100=$C$7,ROW(C$8:C$100)-ROW(C$8)+1)),ROWS($A$1:B74))))","v":""},{"$f":"IF(ROWS($A$1:C74)>COUNTIF(Main!$C$8:$C$100,$C$7),\"\",INDEX(Main!D$8:D$100,SMALL(IF(Main!D$8:D$100<>\"\",IF(Main!$C$8:$C$100=$C$7,ROW(D$8:D$100)-ROW(D$8)+1)),ROWS($A$1:C74))))","v":""},{"$f":"IF(ROWS($A$1:D74)>COUNTIF(Main!$C$8:$C$100,$C$7),\"\",INDEX(Main!E$8:E$100,SMALL(IF(N(Main!E$8:E$100)<>0,IF(Main!$C$8:$C$100=$C$7,ROW(E$8:E$100)-ROW(E$8)+1)),ROWS($A$1:D74))))","v":""},{"$f":"IF(ROWS($A$1:E74)>COUNTIF(Main!$C$8:$C$100,$C$7),\"\",INDEX(Main!F$8:F$100,SMALL(IF(Main!F$8:F$100<>\"\",IF(Main!$C$8:$C$100=$C$7,ROW(F$8:F$100)-ROW(F$8)+1)),ROWS($A$1:E74))))","v":""},{"$f":"IF(ROWS($A$1:F74)>COUNTIF(Main!$C$8:$C$100,$C$7),\"\",INDEX(Main!G$8:G$100,SMALL(IF(Main!G$8:G$100<>\"\",IF(Main!$C$8:$C$100=$C$7,ROW(G$8:G$100)-ROW(G$8)+1)),ROWS($A$1:F74))))","v":""},{"$f":"IF(ROWS($A$1:G74)>COUNTIF(Main!$C$8:$C$100,$C$7),\"\",INDEX(Main!H$8:H$100,SMALL(IF(N(Main!H$8:H$100)<>0,IF(Main!$C$8:$C$100=$C$7,ROW(H$8:H$100)-ROW(H$8)+1)),ROWS($A$1:G74))))","v":""},{"$f":"IF(ROWS($A$1:H74)>COUNTIF(Main!$C$8:$C$100,$C$7),\"\",INDEX(Main!I$8:I$100,SMALL(IF(N(Main!I$8:I$100)<>0,IF(Main!$C$8:$C$100=$C$7,ROW(I$8:I$100)-ROW(I$8)+1)),ROWS($A$1:H74))))","v":""},{"$f":"IF(ROWS($A$1:I74)>COUNTIF(Main!$C$8:$C$100,$C$7),\"\",INDEX(Main!J$8:J$100,SMALL(IF(N(Main!J$8:J$100)<>0,IF(Main!$C$8:$C$100=$C$7,ROW(J$8:J$100)-ROW(J$8)+1)),ROWS($A$1:I74))))","v":""},{"$f":"IF(ROWS($A$1:J74)>COUNTIF(Main!$C$8:$C$100,$C$7),\"\",INDEX(Main!K$8:K$100,SMALL(IF(N(Main!K$8:K$100)<>0,IF(Main!$C$8:$C$100=$C$7,ROW(K$8:K$100)-ROW(K$8)+1)),ROWS($A$1:J74))))","v":""},{"$f":"IF(ROWS($A$1:K74)>COUNTIF(Main!$C$8:$C$100,$C$7),\"\",INDEX(Main!L$8:L$100,SMALL(IF(N(Main!L$8:L$100)<>0,IF(Main!$C$8:$C$100=$C$7,ROW(L$8:L$100)-ROW(L$8)+1)),ROWS($A$1:K74))))","v":""}]
[{"$f":"IF(B82=\"\",\"\",MAX($A$7:A81)+1)","v":""},{"$f":"IF(ROWS($A$1:A75)>COUNTIF(Main!$C$8:$C$100,$C$7),\"\",INDEX(Main!B$8:B$100,SMALL(IF(N(Main!B$8:B$100)<>0,IF(Main!$C$8:$C$100=$C$7,ROW(B$8:B$100)-ROW(B$8)+1)),ROWS($A$1:A75))))","v":""},{"$f":"IF(ROWS($A$1:B75)>COUNTIF(Main!$C$8:$C$100,$C$7),\"\",INDEX(Main!C$8:C$100,SMALL(IF(N(Main!C$8:C$100)<>0,IF(Main!$C$8:$C$100=$C$7,ROW(C$8:C$100)-ROW(C$8)+1)),ROWS($A$1:B75))))","v":""},{"$f":"IF(ROWS($A$1:C75)>COUNTIF(Main!$C$8:$C$100,$C$7),\"\",INDEX(Main!D$8:D$100,SMALL(IF(Main!D$8:D$100<>\"\",IF(Main!$C$8:$C$100=$C$7,ROW(D$8:D$100)-ROW(D$8)+1)),ROWS($A$1:C75))))","v":""},{"$f":"IF(ROWS($A$1:D75)>COUNTIF(Main!$C$8:$C$100,$C$7),\"\",INDEX(Main!E$8:E$100,SMALL(IF(N(Main!E$8:E$100)<>0,IF(Main!$C$8:$C$100=$C$7,ROW(E$8:E$100)-ROW(E$8)+1)),ROWS($A$1:D75))))","v":""},{"$f":"IF(ROWS($A$1:E75)>COUNTIF(Main!$C$8:$C$100,$C$7),\"\",INDEX(Main!F$8:F$100,SMALL(IF(Main!F$8:F$100<>\"\",IF(Main!$C$8:$C$100=$C$7,ROW(F$8:F$100)-ROW(F$8)+1)),ROWS($A$1:E75))))","v":""},{"$f":"IF(ROWS($A$1:F75)>COUNTIF(Main!$C$8:$C$100,$C$7),\"\",INDEX(Main!G$8:G$100,SMALL(IF(Main!G$8:G$100<>\"\",IF(Main!$C$8:$C$100=$C$7,ROW(G$8:G$100)-ROW(G$8)+1)),ROWS($A$1:F75))))","v":""},{"$f":"IF(ROWS($A$1:G75)>COUNTIF(Main!$C$8:$C$100,$C$7),\"\",INDEX(Main!H$8:H$100,SMALL(IF(N(Main!H$8:H$100)<>0,IF(Main!$C$8:$C$100=$C$7,ROW(H$8:H$100)-ROW(H$8)+1)),ROWS($A$1:G75))))","v":""},{"$f":"IF(ROWS($A$1:H75)>COUNTIF(Main!$C$8:$C$100,$C$7),\"\",INDEX(Main!I$8:I$100,SMALL(IF(N(Main!I$8:I$100)<>0,IF(Main!$C$8:$C$100=$C$7,ROW(I$8:I$100)-ROW(I$8)+1)),ROWS($A$1:H75))))","v":""},{"$f":"IF(ROWS($A$1:I75)>COUNTIF(Main!$C$8:$C$100,$C$7),\"\",INDEX(Main!J$8:J$100,SMALL(IF(N(Main!J$8:J$100)<>0,IF(Main!$C$8:$C$100=$C$7,ROW(J$8:J$100)-ROW(J$8)+1)),ROWS($A$1:I75))))","v":""},{"$f":"IF(ROWS($A$1:J75)>COUNTIF(Main!$C$8:$C$100,$C$7),\"\",INDEX(Main!K$8:K$100,SMALL(IF(N(Main!K$8:K$100)<>0,IF(Main!$C$8:$C$100=$C$7,ROW(K$8:K$100)-ROW(K$8)+1)),ROWS($A$1:J75))))","v":""},{"$f":"IF(ROWS($A$1:K75)>COUNTIF(Main!$C$8:$C$100,$C$7),\"\",INDEX(Main!L$8:L$100,SMALL(IF(N(Main!L$8:L$100)<>0,IF(Main!$C$8:$C$100=$C$7,ROW(L$8:L$100)-ROW(L$8)+1)),ROWS($A$1:K75))))","v":""}]
[{"$f":"IF(B83=\"\",\"\",MAX($A$7:A82)+1)","v":""},{"$f":"IF(ROWS($A$1:A76)>COUNTIF(Main!$C$8:$C$100,$C$7),\"\",INDEX(Main!B$8:B$100,SMALL(IF(N(Main!B$8:B$100)<>0,IF(Main!$C$8:$C$100=$C$7,ROW(B$8:B$100)-ROW(B$8)+1)),ROWS($A$1:A76))))","v":""},{"$f":"IF(ROWS($A$1:B76)>COUNTIF(Main!$C$8:$C$100,$C$7),\"\",INDEX(Main!C$8:C$100,SMALL(IF(N(Main!C$8:C$100)<>0,IF(Main!$C$8:$C$100=$C$7,ROW(C$8:C$100)-ROW(C$8)+1)),ROWS($A$1:B76))))","v":""},{"$f":"IF(ROWS($A$1:C76)>COUNTIF(Main!$C$8:$C$100,$C$7),\"\",INDEX(Main!D$8:D$100,SMALL(IF(Main!D$8:D$100<>\"\",IF(Main!$C$8:$C$100=$C$7,ROW(D$8:D$100)-ROW(D$8)+1)),ROWS($A$1:C76))))","v":""},{"$f":"IF(ROWS($A$1:D76)>COUNTIF(Main!$C$8:$C$100,$C$7),\"\",INDEX(Main!E$8:E$100,SMALL(IF(N(Main!E$8:E$100)<>0,IF(Main!$C$8:$C$100=$C$7,ROW(E$8:E$100)-ROW(E$8)+1)),ROWS($A$1:D76))))","v":""},{"$f":"IF(ROWS($A$1:E76)>COUNTIF(Main!$C$8:$C$100,$C$7),\"\",INDEX(Main!F$8:F$100,SMALL(IF(Main!F$8:F$100<>\"\",IF(Main!$C$8:$C$100=$C$7,ROW(F$8:F$100)-ROW(F$8)+1)),ROWS($A$1:E76))))","v":""},{"$f":"IF(ROWS($A$1:F76)>COUNTIF(Main!$C$8:$C$100,$C$7),\"\",INDEX(Main!G$8:G$100,SMALL(IF(Main!G$8:G$100<>\"\",IF(Main!$C$8:$C$100=$C$7,ROW(G$8:G$100)-ROW(G$8)+1)),ROWS($A$1:F76))))","v":""},{"$f":"IF(ROWS($A$1:G76)>COUNTIF(Main!$C$8:$C$100,$C$7),\"\",INDEX(Main!H$8:H$100,SMALL(IF(N(Main!H$8:H$100)<>0,IF(Main!$C$8:$C$100=$C$7,ROW(H$8:H$100)-ROW(H$8)+1)),ROWS($A$1:G76))))","v":""},{"$f":"IF(ROWS($A$1:H76)>COUNTIF(Main!$C$8:$C$100,$C$7),\"\",INDEX(Main!I$8:I$100,SMALL(IF(N(Main!I$8:I$100)<>0,IF(Main!$C$8:$C$100=$C$7,ROW(I$8:I$100)-ROW(I$8)+1)),ROWS($A$1:H76))))","v":""},{"$f":"IF(ROWS($A$1:I76)>COUNTIF(Main!$C$8:$C$100,$C$7),\"\",INDEX(Main!J$8:J$100,SMALL(IF(N(Main!J$8:J$100)<>0,IF(Main!$C$8:$C$100=$C$7,ROW(J$8:J$100)-ROW(J$8)+1)),ROWS($A$1:I76))))","v":""},{"$f":"IF(ROWS($A$1:J76)>COUNTIF(Main!$C$8:$C$100,$C$7),\"\",INDEX(Main!K$8:K$100,SMALL(IF(N(Main!K$8:K$100)<>0,IF(Main!$C$8:$C$100=$C$7,ROW(K$8:K$100)-ROW(K$8)+1)),ROWS($A$1:J76))))","v":""},{"$f":"IF(ROWS($A$1:K76)>COUNTIF(Main!$C$8:$C$100,$C$7),\"\",INDEX(Main!L$8:L$100,SMALL(IF(N(Main!L$8:L$100)<>0,IF(Main!$C$8:$C$100=$C$7,ROW(L$8:L$100)-ROW(L$8)+1)),ROWS($A$1:K76))))","v":""}]
[{"$f":"IF(B84=\"\",\"\",MAX($A$7:A83)+1)","v":""},{"$f":"IF(ROWS($A$1:A77)>COUNTIF(Main!$C$8:$C$100,$C$7),\"\",INDEX(Main!B$8:B$100,SMALL(IF(N(Main!B$8:B$100)<>0,IF(Main!$C$8:$C$100=$C$7,ROW(B$8:B$100)-ROW(B$8)+1)),ROWS($A$1:A77))))","v":""},{"$f":"IF(ROWS($A$1:B77)>COUNTIF(Main!$C$8:$C$100,$C$7),\"\",INDEX(Main!C$8:C$100,SMALL(IF(N(Main!C$8:C$100)<>0,IF(Main!$C$8:$C$100=$C$7,ROW(C$8:C$100)-ROW(C$8)+1)),ROWS($A$1:B77))))","v":""},{"$f":"IF(ROWS($A$1:C77)>COUNTIF(Main!$C$8:$C$100,$C$7),\"\",INDEX(Main!D$8:D$100,SMALL(IF(Main!D$8:D$100<>\"\",IF(Main!$C$8:$C$100=$C$7,ROW(D$8:D$100)-ROW(D$8)+1)),ROWS($A$1:C77))))","v":""},{"$f":"IF(ROWS($A$1:D77)>COUNTIF(Main!$C$8:$C$100,$C$7),\"\",INDEX(Main!E$8:E$100,SMALL(IF(N(Main!E$8:E$100)<>0,IF(Main!$C$8:$C$100=$C$7,ROW(E$8:E$100)-ROW(E$8)+1)),ROWS($A$1:D77))))","v":""},{"$f":"IF(ROWS($A$1:E77)>COUNTIF(Main!$C$8:$C$100,$C$7),\"\",INDEX(Main!F$8:F$100,SMALL(IF(Main!F$8:F$100<>\"\",IF(Main!$C$8:$C$100=$C$7,ROW(F$8:F$100)-ROW(F$8)+1)),ROWS($A$1:E77))))","v":""},{"$f":"IF(ROWS($A$1:F77)>COUNTIF(Main!$C$8:$C$100,$C$7),\"\",INDEX(Main!G$8:G$100,SMALL(IF(Main!G$8:G$100<>\"\",IF(Main!$C$8:$C$100=$C$7,ROW(G$8:G$100)-ROW(G$8)+1)),ROWS($A$1:F77))))","v":""},{"$f":"IF(ROWS($A$1:G77)>COUNTIF(Main!$C$8:$C$100,$C$7),\"\",INDEX(Main!H$8:H$100,SMALL(IF(N(Main!H$8:H$100)<>0,IF(Main!$C$8:$C$100=$C$7,ROW(H$8:H$100)-ROW(H$8)+1)),ROWS($A$1:G77))))","v":""},{"$f":"IF(ROWS($A$1:H77)>COUNTIF(Main!$C$8:$C$100,$C$7),\"\",INDEX(Main!I$8:I$100,SMALL(IF(N(Main!I$8:I$100)<>0,IF(Main!$C$8:$C$100=$C$7,ROW(I$8:I$100)-ROW(I$8)+1)),ROWS($A$1:H77))))","v":""},{"$f":"IF(ROWS($A$1:I77)>COUNTIF(Main!$C$8:$C$100,$C$7),\"\",INDEX(Main!J$8:J$100,SMALL(IF(N(Main!J$8:J$100)<>0,IF(Main!$C$8:$C$100=$C$7,ROW(J$8:J$100)-ROW(J$8)+1)),ROWS($A$1:I77))))","v":""},{"$f":"IF(ROWS($A$1:J77)>COUNTIF(Main!$C$8:$C$100,$C$7),\"\",INDEX(Main!K$8:K$100,SMALL(IF(N(Main!K$8:K$100)<>0,IF(Main!$C$8:$C$100=$C$7,ROW(K$8:K$100)-ROW(K$8)+1)),ROWS($A$1:J77))))","v":""},{"$f":"IF(ROWS($A$1:K77)>COUNTIF(Main!$C$8:$C$100,$C$7),\"\",INDEX(Main!L$8:L$100,SMALL(IF(N(Main!L$8:L$100)<>0,IF(Main!$C$8:$C$100=$C$7,ROW(L$8:L$100)-ROW(L$8)+1)),ROWS($A$1:K77))))","v":""}]
[{"$f":"IF(B85=\"\",\"\",MAX($A$7:A84)+1)","v":""},{"$f":"IF(ROWS($A$1:A78)>COUNTIF(Main!$C$8:$C$100,$C$7),\"\",INDEX(Main!B$8:B$100,SMALL(IF(N(Main!B$8:B$100)<>0,IF(Main!$C$8:$C$100=$C$7,ROW(B$8:B$100)-ROW(B$8)+1)),ROWS($A$1:A78))))","v":""},{"$f":"IF(ROWS($A$1:B78)>COUNTIF(Main!$C$8:$C$100,$C$7),\"\",INDEX(Main!C$8:C$100,SMALL(IF(N(Main!C$8:C$100)<>0,IF(Main!$C$8:$C$100=$C$7,ROW(C$8:C$100)-ROW(C$8)+1)),ROWS($A$1:B78))))","v":""},{"$f":"IF(ROWS($A$1:C78)>COUNTIF(Main!$C$8:$C$100,$C$7),\"\",INDEX(Main!D$8:D$100,SMALL(IF(Main!D$8:D$100<>\"\",IF(Main!$C$8:$C$100=$C$7,ROW(D$8:D$100)-ROW(D$8)+1)),ROWS($A$1:C78))))","v":""},{"$f":"IF(ROWS($A$1:D78)>COUNTIF(Main!$C$8:$C$100,$C$7),\"\",INDEX(Main!E$8:E$100,SMALL(IF(N(Main!E$8:E$100)<>0,IF(Main!$C$8:$C$100=$C$7,ROW(E$8:E$100)-ROW(E$8)+1)),ROWS($A$1:D78))))","v":""},{"$f":"IF(ROWS($A$1:E78)>COUNTIF(Main!$C$8:$C$100,$C$7),\"\",INDEX(Main!F$8:F$100,SMALL(IF(Main!F$8:F$100<>\"\",IF(Main!$C$8:$C$100=$C$7,ROW(F$8:F$100)-ROW(F$8)+1)),ROWS($A$1:E78))))","v":""},{"$f":"IF(ROWS($A$1:F78)>COUNTIF(Main!$C$8:$C$100,$C$7),\"\",INDEX(Main!G$8:G$100,SMALL(IF(Main!G$8:G$100<>\"\",IF(Main!$C$8:$C$100=$C$7,ROW(G$8:G$100)-ROW(G$8)+1)),ROWS($A$1:F78))))","v":""},{"$f":"IF(ROWS($A$1:G78)>COUNTIF(Main!$C$8:$C$100,$C$7),\"\",INDEX(Main!H$8:H$100,SMALL(IF(N(Main!H$8:H$100)<>0,IF(Main!$C$8:$C$100=$C$7,ROW(H$8:H$100)-ROW(H$8)+1)),ROWS($A$1:G78))))","v":""},{"$f":"IF(ROWS($A$1:H78)>COUNTIF(Main!$C$8:$C$100,$C$7),\"\",INDEX(Main!I$8:I$100,SMALL(IF(N(Main!I$8:I$100)<>0,IF(Main!$C$8:$C$100=$C$7,ROW(I$8:I$100)-ROW(I$8)+1)),ROWS($A$1:H78))))","v":""},{"$f":"IF(ROWS($A$1:I78)>COUNTIF(Main!$C$8:$C$100,$C$7),\"\",INDEX(Main!J$8:J$100,SMALL(IF(N(Main!J$8:J$100)<>0,IF(Main!$C$8:$C$100=$C$7,ROW(J$8:J$100)-ROW(J$8)+1)),ROWS($A$1:I78))))","v":""},{"$f":"IF(ROWS($A$1:J78)>COUNTIF(Main!$C$8:$C$100,$C$7),\"\",INDEX(Main!K$8:K$100,SMALL(IF(N(Main!K$8:K$100)<>0,IF(Main!$C$8:$C$100=$C$7,ROW(K$8:K$100)-ROW(K$8)+1)),ROWS($A$1:J78))))","v":""},{"$f":"IF(ROWS($A$1:K78)>COUNTIF(Main!$C$8:$C$100,$C$7),\"\",INDEX(Main!L$8:L$100,SMALL(IF(N(Main!L$8:L$100)<>0,IF(Main!$C$8:$C$100=$C$7,ROW(L$8:L$100)-ROW(L$8)+1)),ROWS($A$1:K78))))","v":""}]
[{"$f":"IF(B86=\"\",\"\",MAX($A$7:A85)+1)","v":""},{"$f":"IF(ROWS($A$1:A79)>COUNTIF(Main!$C$8:$C$100,$C$7),\"\",INDEX(Main!B$8:B$100,SMALL(IF(N(Main!B$8:B$100)<>0,IF(Main!$C$8:$C$100=$C$7,ROW(B$8:B$100)-ROW(B$8)+1)),ROWS($A$1:A79))))","v":""},{"$f":"IF(ROWS($A$1:B79)>COUNTIF(Main!$C$8:$C$100,$C$7),\"\",INDEX(Main!C$8:C$100,SMALL(IF(N(Main!C$8:C$100)<>0,IF(Main!$C$8:$C$100=$C$7,ROW(C$8:C$100)-ROW(C$8)+1)),ROWS($A$1:B79))))","v":""},{"$f":"IF(ROWS($A$1:C79)>COUNTIF(Main!$C$8:$C$100,$C$7),\"\",INDEX(Main!D$8:D$100,SMALL(IF(Main!D$8:D$100<>\"\",IF(Main!$C$8:$C$100=$C$7,ROW(D$8:D$100)-ROW(D$8)+1)),ROWS($A$1:C79))))","v":""},{"$f":"IF(ROWS($A$1:D79)>COUNTIF(Main!$C$8:$C$100,$C$7),\"\",INDEX(Main!E$8:E$100,SMALL(IF(N(Main!E$8:E$100)<>0,IF(Main!$C$8:$C$100=$C$7,ROW(E$8:E$100)-ROW(E$8)+1)),ROWS($A$1:D79))))","v":""},{"$f":"IF(ROWS($A$1:E79)>COUNTIF(Main!$C$8:$C$100,$C$7),\"\",INDEX(Main!F$8:F$100,SMALL(IF(Main!F$8:F$100<>\"\",IF(Main!$C$8:$C$100=$C$7,ROW(F$8:F$100)-ROW(F$8)+1)),ROWS($A$1:E79))))","v":""},{"$f":"IF(ROWS($A$1:F79)>COUNTIF(Main!$C$8:$C$100,$C$7),\"\",INDEX(Main!G$8:G$100,SMALL(IF(Main!G$8:G$100<>\"\",IF(Main!$C$8:$C$100=$C$7,ROW(G$8:G$100)-ROW(G$8)+1)),ROWS($A$1:F79))))","v":""},{"$f":"IF(ROWS($A$1:G79)>COUNTIF(Main!$C$8:$C$100,$C$7),\"\",INDEX(Main!H$8:H$100,SMALL(IF(N(Main!H$8:H$100)<>0,IF(Main!$C$8:$C$100=$C$7,ROW(H$8:H$100)-ROW(H$8)+1)),ROWS($A$1:G79))))","v":""},{"$f":"IF(ROWS($A$1:H79)>COUNTIF(Main!$C$8:$C$100,$C$7),\"\",INDEX(Main!I$8:I$100,SMALL(IF(N(Main!I$8:I$100)<>0,IF(Main!$C$8:$C$100=$C$7,ROW(I$8:I$100)-ROW(I$8)+1)),ROWS($A$1:H79))))","v":""},{"$f":"IF(ROWS($A$1:I79)>COUNTIF(Main!$C$8:$C$100,$C$7),\"\",INDEX(Main!J$8:J$100,SMALL(IF(N(Main!J$8:J$100)<>0,IF(Main!$C$8:$C$100=$C$7,ROW(J$8:J$100)-ROW(J$8)+1)),ROWS($A$1:I79))))","v":""},{"$f":"IF(ROWS($A$1:J79)>COUNTIF(Main!$C$8:$C$100,$C$7),\"\",INDEX(Main!K$8:K$100,SMALL(IF(N(Main!K$8:K$100)<>0,IF(Main!$C$8:$C$100=$C$7,ROW(K$8:K$100)-ROW(K$8)+1)),ROWS($A$1:J79))))","v":""},{"$f":"IF(ROWS($A$1:K79)>COUNTIF(Main!$C$8:$C$100,$C$7),\"\",INDEX(Main!L$8:L$100,SMALL(IF(N(Main!L$8:L$100)<>0,IF(Main!$C$8:$C$100=$C$7,ROW(L$8:L$100)-ROW(L$8)+1)),ROWS($A$1:K79))))","v":""}]
[{"$f":"IF(B87=\"\",\"\",MAX($A$7:A86)+1)","v":""},{"$f":"IF(ROWS($A$1:A80)>COUNTIF(Main!$C$8:$C$100,$C$7),\"\",INDEX(Main!B$8:B$100,SMALL(IF(N(Main!B$8:B$100)<>0,IF(Main!$C$8:$C$100=$C$7,ROW(B$8:B$100)-ROW(B$8)+1)),ROWS($A$1:A80))))","v":""},{"$f":"IF(ROWS($A$1:B80)>COUNTIF(Main!$C$8:$C$100,$C$7),\"\",INDEX(Main!C$8:C$100,SMALL(IF(N(Main!C$8:C$100)<>0,IF(Main!$C$8:$C$100=$C$7,ROW(C$8:C$100)-ROW(C$8)+1)),ROWS($A$1:B80))))","v":""},{"$f":"IF(ROWS($A$1:C80)>COUNTIF(Main!$C$8:$C$100,$C$7),\"\",INDEX(Main!D$8:D$100,SMALL(IF(Main!D$8:D$100<>\"\",IF(Main!$C$8:$C$100=$C$7,ROW(D$8:D$100)-ROW(D$8)+1)),ROWS($A$1:C80))))","v":""},{"$f":"IF(ROWS($A$1:D80)>COUNTIF(Main!$C$8:$C$100,$C$7),\"\",INDEX(Main!E$8:E$100,SMALL(IF(N(Main!E$8:E$100)<>0,IF(Main!$C$8:$C$100=$C$7,ROW(E$8:E$100)-ROW(E$8)+1)),ROWS($A$1:D80))))","v":""},{"$f":"IF(ROWS($A$1:E80)>COUNTIF(Main!$C$8:$C$100,$C$7),\"\",INDEX(Main!F$8:F$100,SMALL(IF(Main!F$8:F$100<>\"\",IF(Main!$C$8:$C$100=$C$7,ROW(F$8:F$100)-ROW(F$8)+1)),ROWS($A$1:E80))))","v":""},{"$f":"IF(ROWS($A$1:F80)>COUNTIF(Main!$C$8:$C$100,$C$7),\"\",INDEX(Main!G$8:G$100,SMALL(IF(Main!G$8:G$100<>\"\",IF(Main!$C$8:$C$100=$C$7,ROW(G$8:G$100)-ROW(G$8)+1)),ROWS($A$1:F80))))","v":""},{"$f":"IF(ROWS($A$1:G80)>COUNTIF(Main!$C$8:$C$100,$C$7),\"\",INDEX(Main!H$8:H$100,SMALL(IF(N(Main!H$8:H$100)<>0,IF(Main!$C$8:$C$100=$C$7,ROW(H$8:H$100)-ROW(H$8)+1)),ROWS($A$1:G80))))","v":""},{"$f":"IF(ROWS($A$1:H80)>COUNTIF(Main!$C$8:$C$100,$C$7),\"\",INDEX(Main!I$8:I$100,SMALL(IF(N(Main!I$8:I$100)<>0,IF(Main!$C$8:$C$100=$C$7,ROW(I$8:I$100)-ROW(I$8)+1)),ROWS($A$1:H80))))","v":""},{"$f":"IF(ROWS($A$1:I80)>COUNTIF(Main!$C$8:$C$100,$C$7),\"\",INDEX(Main!J$8:J$100,SMALL(IF(N(Main!J$8:J$100)<>0,IF(Main!$C$8:$C$100=$C$7,ROW(J$8:J$100)-ROW(J$8)+1)),ROWS($A$1:I80))))","v":""},{"$f":"IF(ROWS($A$1:J80)>COUNTIF(Main!$C$8:$C$100,$C$7),\"\",INDEX(Main!K$8:K$100,SMALL(IF(N(Main!K$8:K$100)<>0,IF(Main!$C$8:$C$100=$C$7,ROW(K$8:K$100)-ROW(K$8)+1)),ROWS($A$1:J80))))","v":""},{"$f":"IF(ROWS($A$1:K80)>COUNTIF(Main!$C$8:$C$100,$C$7),\"\",INDEX(Main!L$8:L$100,SMALL(IF(N(Main!L$8:L$100)<>0,IF(Main!$C$8:$C$100=$C$7,ROW(L$8:L$100)-ROW(L$8)+1)),ROWS($A$1:K80))))","v":""}]
[{"$f":"IF(B88=\"\",\"\",MAX($A$7:A87)+1)","v":""},{"$f":"IF(ROWS($A$1:A81)>COUNTIF(Main!$C$8:$C$100,$C$7),\"\",INDEX(Main!B$8:B$100,SMALL(IF(N(Main!B$8:B$100)<>0,IF(Main!$C$8:$C$100=$C$7,ROW(B$8:B$100)-ROW(B$8)+1)),ROWS($A$1:A81))))","v":""},{"$f":"IF(ROWS($A$1:B81)>COUNTIF(Main!$C$8:$C$100,$C$7),\"\",INDEX(Main!C$8:C$100,SMALL(IF(N(Main!C$8:C$100)<>0,IF(Main!$C$8:$C$100=$C$7,ROW(C$8:C$100)-ROW(C$8)+1)),ROWS($A$1:B81))))","v":""},{"$f":"IF(ROWS($A$1:C81)>COUNTIF(Main!$C$8:$C$100,$C$7),\"\",INDEX(Main!D$8:D$100,SMALL(IF(Main!D$8:D$100<>\"\",IF(Main!$C$8:$C$100=$C$7,ROW(D$8:D$100)-ROW(D$8)+1)),ROWS($A$1:C81))))","v":""},{"$f":"IF(ROWS($A$1:D81)>COUNTIF(Main!$C$8:$C$100,$C$7),\"\",INDEX(Main!E$8:E$100,SMALL(IF(N(Main!E$8:E$100)<>0,IF(Main!$C$8:$C$100=$C$7,ROW(E$8:E$100)-ROW(E$8)+1)),ROWS($A$1:D81))))","v":""},{"$f":"IF(ROWS($A$1:E81)>COUNTIF(Main!$C$8:$C$100,$C$7),\"\",INDEX(Main!F$8:F$100,SMALL(IF(Main!F$8:F$100<>\"\",IF(Main!$C$8:$C$100=$C$7,ROW(F$8:F$100)-ROW(F$8)+1)),ROWS($A$1:E81))))","v":""},{"$f":"IF(ROWS($A$1:F81)>COUNTIF(Main!$C$8:$C$100,$C$7),\"\",INDEX(Main!G$8:G$100,SMALL(IF(Main!G$8:G$100<>\"\",IF(Main!$C$8:$C$100=$C$7,ROW(G$8:G$100)-ROW(G$8)+1)),ROWS($A$1:F81))))","v":""},{"$f":"IF(ROWS($A$1:G81)>COUNTIF(Main!$C$8:$C$100,$C$7),\"\",INDEX(Main!H$8:H$100,SMALL(IF(N(Main!H$8:H$100)<>0,IF(Main!$C$8:$C$100=$C$7,ROW(H$8:H$100)-ROW(H$8)+1)),ROWS($A$1:G81))))","v":""},{"$f":"IF(ROWS($A$1:H81)>COUNTIF(Main!$C$8:$C$100,$C$7),\"\",INDEX(Main!I$8:I$100,SMALL(IF(N(Main!I$8:I$100)<>0,IF(Main!$C$8:$C$100=$C$7,ROW(I$8:I$100)-ROW(I$8)+1)),ROWS($A$1:H81))))","v":""},{"$f":"IF(ROWS($A$1:I81)>COUNTIF(Main!$C$8:$C$100,$C$7),\"\",INDEX(Main!J$8:J$100,SMALL(IF(N(Main!J$8:J$100)<>0,IF(Main!$C$8:$C$100=$C$7,ROW(J$8:J$100)-ROW(J$8)+1)),ROWS($A$1:I81))))","v":""},{"$f":"IF(ROWS($A$1:J81)>COUNTIF(Main!$C$8:$C$100,$C$7),\"\",INDEX(Main!K$8:K$100,SMALL(IF(N(Main!K$8:K$100)<>0,IF(Main!$C$8:$C$100=$C$7,ROW(K$8:K$100)-ROW(K$8)+1)),ROWS($A$1:J81))))","v":""},{"$f":"IF(ROWS($A$1:K81)>COUNTIF(Main!$C$8:$C$100,$C$7),\"\",INDEX(Main!L$8:L$100,SMALL(IF(N(Main!L$8:L$100)<>0,IF(Main!$C$8:$C$100=$C$7,ROW(L$8:L$100)-ROW(L$8)+1)),ROWS($A$1:K81))))","v":""}]
[{"$f":"IF(B89=\"\",\"\",MAX($A$7:A88)+1)","v":""},{"$f":"IF(ROWS($A$1:A82)>COUNTIF(Main!$C$8:$C$100,$C$7),\"\",INDEX(Main!B$8:B$100,SMALL(IF(N(Main!B$8:B$100)<>0,IF(Main!$C$8:$C$100=$C$7,ROW(B$8:B$100)-ROW(B$8)+1)),ROWS($A$1:A82))))","v":""},{"$f":"IF(ROWS($A$1:B82)>COUNTIF(Main!$C$8:$C$100,$C$7),\"\",INDEX(Main!C$8:C$100,SMALL(IF(N(Main!C$8:C$100)<>0,IF(Main!$C$8:$C$100=$C$7,ROW(C$8:C$100)-ROW(C$8)+1)),ROWS($A$1:B82))))","v":""},{"$f":"IF(ROWS($A$1:C82)>COUNTIF(Main!$C$8:$C$100,$C$7),\"\",INDEX(Main!D$8:D$100,SMALL(IF(Main!D$8:D$100<>\"\",IF(Main!$C$8:$C$100=$C$7,ROW(D$8:D$100)-ROW(D$8)+1)),ROWS($A$1:C82))))","v":""},{"$f":"IF(ROWS($A$1:D82)>COUNTIF(Main!$C$8:$C$100,$C$7),\"\",INDEX(Main!E$8:E$100,SMALL(IF(N(Main!E$8:E$100)<>0,IF(Main!$C$8:$C$100=$C$7,ROW(E$8:E$100)-ROW(E$8)+1)),ROWS($A$1:D82))))","v":""},{"$f":"IF(ROWS($A$1:E82)>COUNTIF(Main!$C$8:$C$100,$C$7),\"\",INDEX(Main!F$8:F$100,SMALL(IF(Main!F$8:F$100<>\"\",IF(Main!$C$8:$C$100=$C$7,ROW(F$8:F$100)-ROW(F$8)+1)),ROWS($A$1:E82))))","v":""},{"$f":"IF(ROWS($A$1:F82)>COUNTIF(Main!$C$8:$C$100,$C$7),\"\",INDEX(Main!G$8:G$100,SMALL(IF(Main!G$8:G$100<>\"\",IF(Main!$C$8:$C$100=$C$7,ROW(G$8:G$100)-ROW(G$8)+1)),ROWS($A$1:F82))))","v":""},{"$f":"IF(ROWS($A$1:G82)>COUNTIF(Main!$C$8:$C$100,$C$7),\"\",INDEX(Main!H$8:H$100,SMALL(IF(N(Main!H$8:H$100)<>0,IF(Main!$C$8:$C$100=$C$7,ROW(H$8:H$100)-ROW(H$8)+1)),ROWS($A$1:G82))))","v":""},{"$f":"IF(ROWS($A$1:H82)>COUNTIF(Main!$C$8:$C$100,$C$7),\"\",INDEX(Main!I$8:I$100,SMALL(IF(N(Main!I$8:I$100)<>0,IF(Main!$C$8:$C$100=$C$7,ROW(I$8:I$100)-ROW(I$8)+1)),ROWS($A$1:H82))))","v":""},{"$f":"IF(ROWS($A$1:I82)>COUNTIF(Main!$C$8:$C$100,$C$7),\"\",INDEX(Main!J$8:J$100,SMALL(IF(N(Main!J$8:J$100)<>0,IF(Main!$C$8:$C$100=$C$7,ROW(J$8:J$100)-ROW(J$8)+1)),ROWS($A$1:I82))))","v":""},{"$f":"IF(ROWS($A$1:J82)>COUNTIF(Main!$C$8:$C$100,$C$7),\"\",INDEX(Main!K$8:K$100,SMALL(IF(N(Main!K$8:K$100)<>0,IF(Main!$C$8:$C$100=$C$7,ROW(K$8:K$100)-ROW(K$8)+1)),ROWS($A$1:J82))))","v":""},{"$f":"IF(ROWS($A$1:K82)>COUNTIF(Main!$C$8:$C$100,$C$7),\"\",INDEX(Main!L$8:L$100,SMALL(IF(N(Main!L$8:L$100)<>0,IF(Main!$C$8:$C$100=$C$7,ROW(L$8:L$100)-ROW(L$8)+1)),ROWS($A$1:K82))))","v":""}]
[{"$f":"IF(B90=\"\",\"\",MAX($A$7:A89)+1)","v":""},{"$f":"IF(ROWS($A$1:A83)>COUNTIF(Main!$C$8:$C$100,$C$7),\"\",INDEX(Main!B$8:B$100,SMALL(IF(N(Main!B$8:B$100)<>0,IF(Main!$C$8:$C$100=$C$7,ROW(B$8:B$100)-ROW(B$8)+1)),ROWS($A$1:A83))))","v":""},{"$f":"IF(ROWS($A$1:B83)>COUNTIF(Main!$C$8:$C$100,$C$7),\"\",INDEX(Main!C$8:C$100,SMALL(IF(N(Main!C$8:C$100)<>0,IF(Main!$C$8:$C$100=$C$7,ROW(C$8:C$100)-ROW(C$8)+1)),ROWS($A$1:B83))))","v":""},{"$f":"IF(ROWS($A$1:C83)>COUNTIF(Main!$C$8:$C$100,$C$7),\"\",INDEX(Main!D$8:D$100,SMALL(IF(Main!D$8:D$100<>\"\",IF(Main!$C$8:$C$100=$C$7,ROW(D$8:D$100)-ROW(D$8)+1)),ROWS($A$1:C83))))","v":""},{"$f":"IF(ROWS($A$1:D83)>COUNTIF(Main!$C$8:$C$100,$C$7),\"\",INDEX(Main!E$8:E$100,SMALL(IF(N(Main!E$8:E$100)<>0,IF(Main!$C$8:$C$100=$C$7,ROW(E$8:E$100)-ROW(E$8)+1)),ROWS($A$1:D83))))","v":""},{"$f":"IF(ROWS($A$1:E83)>COUNTIF(Main!$C$8:$C$100,$C$7),\"\",INDEX(Main!F$8:F$100,SMALL(IF(Main!F$8:F$100<>\"\",IF(Main!$C$8:$C$100=$C$7,ROW(F$8:F$100)-ROW(F$8)+1)),ROWS($A$1:E83))))","v":""},{"$f":"IF(ROWS($A$1:F83)>COUNTIF(Main!$C$8:$C$100,$C$7),\"\",INDEX(Main!G$8:G$100,SMALL(IF(Main!G$8:G$100<>\"\",IF(Main!$C$8:$C$100=$C$7,ROW(G$8:G$100)-ROW(G$8)+1)),ROWS($A$1:F83))))","v":""},{"$f":"IF(ROWS($A$1:G83)>COUNTIF(Main!$C$8:$C$100,$C$7),\"\",INDEX(Main!H$8:H$100,SMALL(IF(N(Main!H$8:H$100)<>0,IF(Main!$C$8:$C$100=$C$7,ROW(H$8:H$100)-ROW(H$8)+1)),ROWS($A$1:G83))))","v":""},{"$f":"IF(ROWS($A$1:H83)>COUNTIF(Main!$C$8:$C$100,$C$7),\"\",INDEX(Main!I$8:I$100,SMALL(IF(N(Main!I$8:I$100)<>0,IF(Main!$C$8:$C$100=$C$7,ROW(I$8:I$100)-ROW(I$8)+1)),ROWS($A$1:H83))))","v":""},{"$f":"IF(ROWS($A$1:I83)>COUNTIF(Main!$C$8:$C$100,$C$7),\"\",INDEX(Main!J$8:J$100,SMALL(IF(N(Main!J$8:J$100)<>0,IF(Main!$C$8:$C$100=$C$7,ROW(J$8:J$100)-ROW(J$8)+1)),ROWS($A$1:I83))))","v":""},{"$f":"IF(ROWS($A$1:J83)>COUNTIF(Main!$C$8:$C$100,$C$7),\"\",INDEX(Main!K$8:K$100,SMALL(IF(N(Main!K$8:K$100)<>0,IF(Main!$C$8:$C$100=$C$7,ROW(K$8:K$100)-ROW(K$8)+1)),ROWS($A$1:J83))))","v":""},{"$f":"IF(ROWS($A$1:K83)>COUNTIF(Main!$C$8:$C$100,$C$7),\"\",INDEX(Main!L$8:L$100,SMALL(IF(N(Main!L$8:L$100)<>0,IF(Main!$C$8:$C$100=$C$7,ROW(L$8:L$100)-ROW(L$8)+1)),ROWS($A$1:K83))))","v":""}]
[{"$f":"IF(B91=\"\",\"\",MAX($A$7:A90)+1)","v":""},{"$f":"IF(ROWS($A$1:A84)>COUNTIF(Main!$C$8:$C$100,$C$7),\"\",INDEX(Main!B$8:B$100,SMALL(IF(N(Main!B$8:B$100)<>0,IF(Main!$C$8:$C$100=$C$7,ROW(B$8:B$100)-ROW(B$8)+1)),ROWS($A$1:A84))))","v":""},{"$f":"IF(ROWS($A$1:B84)>COUNTIF(Main!$C$8:$C$100,$C$7),\"\",INDEX(Main!C$8:C$100,SMALL(IF(N(Main!C$8:C$100)<>0,IF(Main!$C$8:$C$100=$C$7,ROW(C$8:C$100)-ROW(C$8)+1)),ROWS($A$1:B84))))","v":""},{"$f":"IF(ROWS($A$1:C84)>COUNTIF(Main!$C$8:$C$100,$C$7),\"\",INDEX(Main!D$8:D$100,SMALL(IF(Main!D$8:D$100<>\"\",IF(Main!$C$8:$C$100=$C$7,ROW(D$8:D$100)-ROW(D$8)+1)),ROWS($A$1:C84))))","v":""},{"$f":"IF(ROWS($A$1:D84)>COUNTIF(Main!$C$8:$C$100,$C$7),\"\",INDEX(Main!E$8:E$100,SMALL(IF(N(Main!E$8:E$100)<>0,IF(Main!$C$8:$C$100=$C$7,ROW(E$8:E$100)-ROW(E$8)+1)),ROWS($A$1:D84))))","v":""},{"$f":"IF(ROWS($A$1:E84)>COUNTIF(Main!$C$8:$C$100,$C$7),\"\",INDEX(Main!F$8:F$100,SMALL(IF(Main!F$8:F$100<>\"\",IF(Main!$C$8:$C$100=$C$7,ROW(F$8:F$100)-ROW(F$8)+1)),ROWS($A$1:E84))))","v":""},{"$f":"IF(ROWS($A$1:F84)>COUNTIF(Main!$C$8:$C$100,$C$7),\"\",INDEX(Main!G$8:G$100,SMALL(IF(Main!G$8:G$100<>\"\",IF(Main!$C$8:$C$100=$C$7,ROW(G$8:G$100)-ROW(G$8)+1)),ROWS($A$1:F84))))","v":""},{"$f":"IF(ROWS($A$1:G84)>COUNTIF(Main!$C$8:$C$100,$C$7),\"\",INDEX(Main!H$8:H$100,SMALL(IF(N(Main!H$8:H$100)<>0,IF(Main!$C$8:$C$100=$C$7,ROW(H$8:H$100)-ROW(H$8)+1)),ROWS($A$1:G84))))","v":""},{"$f":"IF(ROWS($A$1:H84)>COUNTIF(Main!$C$8:$C$100,$C$7),\"\",INDEX(Main!I$8:I$100,SMALL(IF(N(Main!I$8:I$100)<>0,IF(Main!$C$8:$C$100=$C$7,ROW(I$8:I$100)-ROW(I$8)+1)),ROWS($A$1:H84))))","v":""},{"$f":"IF(ROWS($A$1:I84)>COUNTIF(Main!$C$8:$C$100,$C$7),\"\",INDEX(Main!J$8:J$100,SMALL(IF(N(Main!J$8:J$100)<>0,IF(Main!$C$8:$C$100=$C$7,ROW(J$8:J$100)-ROW(J$8)+1)),ROWS($A$1:I84))))","v":""},{"$f":"IF(ROWS($A$1:J84)>COUNTIF(Main!$C$8:$C$100,$C$7),\"\",INDEX(Main!K$8:K$100,SMALL(IF(N(Main!K$8:K$100)<>0,IF(Main!$C$8:$C$100=$C$7,ROW(K$8:K$100)-ROW(K$8)+1)),ROWS($A$1:J84))))","v":""},{"$f":"IF(ROWS($A$1:K84)>COUNTIF(Main!$C$8:$C$100,$C$7),\"\",INDEX(Main!L$8:L$100,SMALL(IF(N(Main!L$8:L$100)<>0,IF(Main!$C$8:$C$100=$C$7,ROW(L$8:L$100)-ROW(L$8)+1)),ROWS($A$1:K84))))","v":""}]
[{"$f":"IF(B92=\"\",\"\",MAX($A$7:A91)+1)","v":""},{"$f":"IF(ROWS($A$1:A85)>COUNTIF(Main!$C$8:$C$100,$C$7),\"\",INDEX(Main!B$8:B$100,SMALL(IF(N(Main!B$8:B$100)<>0,IF(Main!$C$8:$C$100=$C$7,ROW(B$8:B$100)-ROW(B$8)+1)),ROWS($A$1:A85))))","v":""},{"$f":"IF(ROWS($A$1:B85)>COUNTIF(Main!$C$8:$C$100,$C$7),\"\",INDEX(Main!C$8:C$100,SMALL(IF(N(Main!C$8:C$100)<>0,IF(Main!$C$8:$C$100=$C$7,ROW(C$8:C$100)-ROW(C$8)+1)),ROWS($A$1:B85))))","v":""},{"$f":"IF(ROWS($A$1:C85)>COUNTIF(Main!$C$8:$C$100,$C$7),\"\",INDEX(Main!D$8:D$100,SMALL(IF(Main!D$8:D$100<>\"\",IF(Main!$C$8:$C$100=$C$7,ROW(D$8:D$100)-ROW(D$8)+1)),ROWS($A$1:C85))))","v":""},{"$f":"IF(ROWS($A$1:D85)>COUNTIF(Main!$C$8:$C$100,$C$7),\"\",INDEX(Main!E$8:E$100,SMALL(IF(N(Main!E$8:E$100)<>0,IF(Main!$C$8:$C$100=$C$7,ROW(E$8:E$100)-ROW(E$8)+1)),ROWS($A$1:D85))))","v":""},{"$f":"IF(ROWS($A$1:E85)>COUNTIF(Main!$C$8:$C$100,$C$7),\"\",INDEX(Main!F$8:F$100,SMALL(IF(Main!F$8:F$100<>\"\",IF(Main!$C$8:$C$100=$C$7,ROW(F$8:F$100)-ROW(F$8)+1)),ROWS($A$1:E85))))","v":""},{"$f":"IF(ROWS($A$1:F85)>COUNTIF(Main!$C$8:$C$100,$C$7),\"\",INDEX(Main!G$8:G$100,SMALL(IF(Main!G$8:G$100<>\"\",IF(Main!$C$8:$C$100=$C$7,ROW(G$8:G$100)-ROW(G$8)+1)),ROWS($A$1:F85))))","v":""},{"$f":"IF(ROWS($A$1:G85)>COUNTIF(Main!$C$8:$C$100,$C$7),\"\",INDEX(Main!H$8:H$100,SMALL(IF(N(Main!H$8:H$100)<>0,IF(Main!$C$8:$C$100=$C$7,ROW(H$8:H$100)-ROW(H$8)+1)),ROWS($A$1:G85))))","v":""},{"$f":"IF(ROWS($A$1:H85)>COUNTIF(Main!$C$8:$C$100,$C$7),\"\",INDEX(Main!I$8:I$100,SMALL(IF(N(Main!I$8:I$100)<>0,IF(Main!$C$8:$C$100=$C$7,ROW(I$8:I$100)-ROW(I$8)+1)),ROWS($A$1:H85))))","v":""},{"$f":"IF(ROWS($A$1:I85)>COUNTIF(Main!$C$8:$C$100,$C$7),\"\",INDEX(Main!J$8:J$100,SMALL(IF(N(Main!J$8:J$100)<>0,IF(Main!$C$8:$C$100=$C$7,ROW(J$8:J$100)-ROW(J$8)+1)),ROWS($A$1:I85))))","v":""},{"$f":"IF(ROWS($A$1:J85)>COUNTIF(Main!$C$8:$C$100,$C$7),\"\",INDEX(Main!K$8:K$100,SMALL(IF(N(Main!K$8:K$100)<>0,IF(Main!$C$8:$C$100=$C$7,ROW(K$8:K$100)-ROW(K$8)+1)),ROWS($A$1:J85))))","v":""},{"$f":"IF(ROWS($A$1:K85)>COUNTIF(Main!$C$8:$C$100,$C$7),\"\",INDEX(Main!L$8:L$100,SMALL(IF(N(Main!L$8:L$100)<>0,IF(Main!$C$8:$C$100=$C$7,ROW(L$8:L$100)-ROW(L$8)+1)),ROWS($A$1:K85))))","v":""}]
[{"$f":"IF(B93=\"\",\"\",MAX($A$7:A92)+1)","v":""},{"$f":"IF(ROWS($A$1:A86)>COUNTIF(Main!$C$8:$C$100,$C$7),\"\",INDEX(Main!B$8:B$100,SMALL(IF(N(Main!B$8:B$100)<>0,IF(Main!$C$8:$C$100=$C$7,ROW(B$8:B$100)-ROW(B$8)+1)),ROWS($A$1:A86))))","v":""},{"$f":"IF(ROWS($A$1:B86)>COUNTIF(Main!$C$8:$C$100,$C$7),\"\",INDEX(Main!C$8:C$100,SMALL(IF(N(Main!C$8:C$100)<>0,IF(Main!$C$8:$C$100=$C$7,ROW(C$8:C$100)-ROW(C$8)+1)),ROWS($A$1:B86))))","v":""},{"$f":"IF(ROWS($A$1:C86)>COUNTIF(Main!$C$8:$C$100,$C$7),\"\",INDEX(Main!D$8:D$100,SMALL(IF(Main!D$8:D$100<>\"\",IF(Main!$C$8:$C$100=$C$7,ROW(D$8:D$100)-ROW(D$8)+1)),ROWS($A$1:C86))))","v":""},{"$f":"IF(ROWS($A$1:D86)>COUNTIF(Main!$C$8:$C$100,$C$7),\"\",INDEX(Main!E$8:E$100,SMALL(IF(N(Main!E$8:E$100)<>0,IF(Main!$C$8:$C$100=$C$7,ROW(E$8:E$100)-ROW(E$8)+1)),ROWS($A$1:D86))))","v":""},{"$f":"IF(ROWS($A$1:E86)>COUNTIF(Main!$C$8:$C$100,$C$7),\"\",INDEX(Main!F$8:F$100,SMALL(IF(Main!F$8:F$100<>\"\",IF(Main!$C$8:$C$100=$C$7,ROW(F$8:F$100)-ROW(F$8)+1)),ROWS($A$1:E86))))","v":""},{"$f":"IF(ROWS($A$1:F86)>COUNTIF(Main!$C$8:$C$100,$C$7),\"\",INDEX(Main!G$8:G$100,SMALL(IF(Main!G$8:G$100<>\"\",IF(Main!$C$8:$C$100=$C$7,ROW(G$8:G$100)-ROW(G$8)+1)),ROWS($A$1:F86))))","v":""},{"$f":"IF(ROWS($A$1:G86)>COUNTIF(Main!$C$8:$C$100,$C$7),\"\",INDEX(Main!H$8:H$100,SMALL(IF(N(Main!H$8:H$100)<>0,IF(Main!$C$8:$C$100=$C$7,ROW(H$8:H$100)-ROW(H$8)+1)),ROWS($A$1:G86))))","v":""},{"$f":"IF(ROWS($A$1:H86)>COUNTIF(Main!$C$8:$C$100,$C$7),\"\",INDEX(Main!I$8:I$100,SMALL(IF(N(Main!I$8:I$100)<>0,IF(Main!$C$8:$C$100=$C$7,ROW(I$8:I$100)-ROW(I$8)+1)),ROWS($A$1:H86))))","v":""},{"$f":"IF(ROWS($A$1:I86)>COUNTIF(Main!$C$8:$C$100,$C$7),\"\",INDEX(Main!J$8:J$100,SMALL(IF(N(Main!J$8:J$100)<>0,IF(Main!$C$8:$C$100=$C$7,ROW(J$8:J$100)-ROW(J$8)+1)),ROWS($A$1:I86))))","v":""},{"$f":"IF(ROWS($A$1:J86)>COUNTIF(Main!$C$8:$C$100,$C$7),\"\",INDEX(Main!K$8:K$100,SMALL(IF(N(Main!K$8:K$100)<>0,IF(Main!$C$8:$C$100=$C$7,ROW(K$8:K$100)-ROW(K$8)+1)),ROWS($A$1:J86))))","v":""},{"$f":"IF(ROWS($A$1:K86)>COUNTIF(Main!$C$8:$C$100,$C$7),\"\",INDEX(Main!L$8:L$100,SMALL(IF(N(Main!L$8:L$100)<>0,IF(Main!$C$8:$C$100=$C$7,ROW(L$8:L$100)-ROW(L$8)+1)),ROWS($A$1:K86))))","v":""}]
[{"$f":"IF(B94=\"\",\"\",MAX($A$7:A93)+1)","v":""},{"$f":"IF(ROWS($A$1:A87)>COUNTIF(Main!$C$8:$C$100,$C$7),\"\",INDEX(Main!B$8:B$100,SMALL(IF(N(Main!B$8:B$100)<>0,IF(Main!$C$8:$C$100=$C$7,ROW(B$8:B$100)-ROW(B$8)+1)),ROWS($A$1:A87))))","v":""},{"$f":"IF(ROWS($A$1:B87)>COUNTIF(Main!$C$8:$C$100,$C$7),\"\",INDEX(Main!C$8:C$100,SMALL(IF(N(Main!C$8:C$100)<>0,IF(Main!$C$8:$C$100=$C$7,ROW(C$8:C$100)-ROW(C$8)+1)),ROWS($A$1:B87))))","v":""},{"$f":"IF(ROWS($A$1:C87)>COUNTIF(Main!$C$8:$C$100,$C$7),\"\",INDEX(Main!D$8:D$100,SMALL(IF(Main!D$8:D$100<>\"\",IF(Main!$C$8:$C$100=$C$7,ROW(D$8:D$100)-ROW(D$8)+1)),ROWS($A$1:C87))))","v":""},{"$f":"IF(ROWS($A$1:D87)>COUNTIF(Main!$C$8:$C$100,$C$7),\"\",INDEX(Main!E$8:E$100,SMALL(IF(N(Main!E$8:E$100)<>0,IF(Main!$C$8:$C$100=$C$7,ROW(E$8:E$100)-ROW(E$8)+1)),ROWS($A$1:D87))))","v":""},{"$f":"IF(ROWS($A$1:E87)>COUNTIF(Main!$C$8:$C$100,$C$7),\"\",INDEX(Main!F$8:F$100,SMALL(IF(Main!F$8:F$100<>\"\",IF(Main!$C$8:$C$100=$C$7,ROW(F$8:F$100)-ROW(F$8)+1)),ROWS($A$1:E87))))","v":""},{"$f":"IF(ROWS($A$1:F87)>COUNTIF(Main!$C$8:$C$100,$C$7),\"\",INDEX(Main!G$8:G$100,SMALL(IF(Main!G$8:G$100<>\"\",IF(Main!$C$8:$C$100=$C$7,ROW(G$8:G$100)-ROW(G$8)+1)),ROWS($A$1:F87))))","v":""},{"$f":"IF(ROWS($A$1:G87)>COUNTIF(Main!$C$8:$C$100,$C$7),\"\",INDEX(Main!H$8:H$100,SMALL(IF(N(Main!H$8:H$100)<>0,IF(Main!$C$8:$C$100=$C$7,ROW(H$8:H$100)-ROW(H$8)+1)),ROWS($A$1:G87))))","v":""},{"$f":"IF(ROWS($A$1:H87)>COUNTIF(Main!$C$8:$C$100,$C$7),\"\",INDEX(Main!I$8:I$100,SMALL(IF(N(Main!I$8:I$100)<>0,IF(Main!$C$8:$C$100=$C$7,ROW(I$8:I$100)-ROW(I$8)+1)),ROWS($A$1:H87))))","v":""},{"$f":"IF(ROWS($A$1:I87)>COUNTIF(Main!$C$8:$C$100,$C$7),\"\",INDEX(Main!J$8:J$100,SMALL(IF(N(Main!J$8:J$100)<>0,IF(Main!$C$8:$C$100=$C$7,ROW(J$8:J$100)-ROW(J$8)+1)),ROWS($A$1:I87))))","v":""},{"$f":"IF(ROWS($A$1:J87)>COUNTIF(Main!$C$8:$C$100,$C$7),\"\",INDEX(Main!K$8:K$100,SMALL(IF(N(Main!K$8:K$100)<>0,IF(Main!$C$8:$C$100=$C$7,ROW(K$8:K$100)-ROW(K$8)+1)),ROWS($A$1:J87))))","v":""},{"$f":"IF(ROWS($A$1:K87)>COUNTIF(Main!$C$8:$C$100,$C$7),\"\",INDEX(Main!L$8:L$100,SMALL(IF(N(Main!L$8:L$100)<>0,IF(Main!$C$8:$C$100=$C$7,ROW(L$8:L$100)-ROW(L$8)+1)),ROWS($A$1:K87))))","v":""}]
[{"$f":"IF(B95=\"\",\"\",MAX($A$7:A94)+1)","v":""},{"$f":"IF(ROWS($A$1:A88)>COUNTIF(Main!$C$8:$C$100,$C$7),\"\",INDEX(Main!B$8:B$100,SMALL(IF(N(Main!B$8:B$100)<>0,IF(Main!$C$8:$C$100=$C$7,ROW(B$8:B$100)-ROW(B$8)+1)),ROWS($A$1:A88))))","v":""},{"$f":"IF(ROWS($A$1:B88)>COUNTIF(Main!$C$8:$C$100,$C$7),\"\",INDEX(Main!C$8:C$100,SMALL(IF(N(Main!C$8:C$100)<>0,IF(Main!$C$8:$C$100=$C$7,ROW(C$8:C$100)-ROW(C$8)+1)),ROWS($A$1:B88))))","v":""},{"$f":"IF(ROWS($A$1:C88)>COUNTIF(Main!$C$8:$C$100,$C$7),\"\",INDEX(Main!D$8:D$100,SMALL(IF(Main!D$8:D$100<>\"\",IF(Main!$C$8:$C$100=$C$7,ROW(D$8:D$100)-ROW(D$8)+1)),ROWS($A$1:C88))))","v":""},{"$f":"IF(ROWS($A$1:D88)>COUNTIF(Main!$C$8:$C$100,$C$7),\"\",INDEX(Main!E$8:E$100,SMALL(IF(N(Main!E$8:E$100)<>0,IF(Main!$C$8:$C$100=$C$7,ROW(E$8:E$100)-ROW(E$8)+1)),ROWS($A$1:D88))))","v":""},{"$f":"IF(ROWS($A$1:E88)>COUNTIF(Main!$C$8:$C$100,$C$7),\"\",INDEX(Main!F$8:F$100,SMALL(IF(Main!F$8:F$100<>\"\",IF(Main!$C$8:$C$100=$C$7,ROW(F$8:F$100)-ROW(F$8)+1)),ROWS($A$1:E88))))","v":""},{"$f":"IF(ROWS($A$1:F88)>COUNTIF(Main!$C$8:$C$100,$C$7),\"\",INDEX(Main!G$8:G$100,SMALL(IF(Main!G$8:G$100<>\"\",IF(Main!$C$8:$C$100=$C$7,ROW(G$8:G$100)-ROW(G$8)+1)),ROWS($A$1:F88))))","v":""},{"$f":"IF(ROWS($A$1:G88)>COUNTIF(Main!$C$8:$C$100,$C$7),\"\",INDEX(Main!H$8:H$100,SMALL(IF(N(Main!H$8:H$100)<>0,IF(Main!$C$8:$C$100=$C$7,ROW(H$8:H$100)-ROW(H$8)+1)),ROWS($A$1:G88))))","v":""},{"$f":"IF(ROWS($A$1:H88)>COUNTIF(Main!$C$8:$C$100,$C$7),\"\",INDEX(Main!I$8:I$100,SMALL(IF(N(Main!I$8:I$100)<>0,IF(Main!$C$8:$C$100=$C$7,ROW(I$8:I$100)-ROW(I$8)+1)),ROWS($A$1:H88))))","v":""},{"$f":"IF(ROWS($A$1:I88)>COUNTIF(Main!$C$8:$C$100,$C$7),\"\",INDEX(Main!J$8:J$100,SMALL(IF(N(Main!J$8:J$100)<>0,IF(Main!$C$8:$C$100=$C$7,ROW(J$8:J$100)-ROW(J$8)+1)),ROWS($A$1:I88))))","v":""},{"$f":"IF(ROWS($A$1:J88)>COUNTIF(Main!$C$8:$C$100,$C$7),\"\",INDEX(Main!K$8:K$100,SMALL(IF(N(Main!K$8:K$100)<>0,IF(Main!$C$8:$C$100=$C$7,ROW(K$8:K$100)-ROW(K$8)+1)),ROWS($A$1:J88))))","v":""},{"$f":"IF(ROWS($A$1:K88)>COUNTIF(Main!$C$8:$C$100,$C$7),\"\",INDEX(Main!L$8:L$100,SMALL(IF(N(Main!L$8:L$100)<>0,IF(Main!$C$8:$C$100=$C$7,ROW(L$8:L$100)-ROW(L$8)+1)),ROWS($A$1:K88))))","v":""}]
[{"$f":"IF(B96=\"\",\"\",MAX($A$7:A95)+1)","v":""},{"$f":"IF(ROWS($A$1:A89)>COUNTIF(Main!$C$8:$C$100,$C$7),\"\",INDEX(Main!B$8:B$100,SMALL(IF(N(Main!B$8:B$100)<>0,IF(Main!$C$8:$C$100=$C$7,ROW(B$8:B$100)-ROW(B$8)+1)),ROWS($A$1:A89))))","v":""},{"$f":"IF(ROWS($A$1:B89)>COUNTIF(Main!$C$8:$C$100,$C$7),\"\",INDEX(Main!C$8:C$100,SMALL(IF(N(Main!C$8:C$100)<>0,IF(Main!$C$8:$C$100=$C$7,ROW(C$8:C$100)-ROW(C$8)+1)),ROWS($A$1:B89))))","v":""},{"$f":"IF(ROWS($A$1:C89)>COUNTIF(Main!$C$8:$C$100,$C$7),\"\",INDEX(Main!D$8:D$100,SMALL(IF(Main!D$8:D$100<>\"\",IF(Main!$C$8:$C$100=$C$7,ROW(D$8:D$100)-ROW(D$8)+1)),ROWS($A$1:C89))))","v":""},{"$f":"IF(ROWS($A$1:D89)>COUNTIF(Main!$C$8:$C$100,$C$7),\"\",INDEX(Main!E$8:E$100,SMALL(IF(N(Main!E$8:E$100)<>0,IF(Main!$C$8:$C$100=$C$7,ROW(E$8:E$100)-ROW(E$8)+1)),ROWS($A$1:D89))))","v":""},{"$f":"IF(ROWS($A$1:E89)>COUNTIF(Main!$C$8:$C$100,$C$7),\"\",INDEX(Main!F$8:F$100,SMALL(IF(Main!F$8:F$100<>\"\",IF(Main!$C$8:$C$100=$C$7,ROW(F$8:F$100)-ROW(F$8)+1)),ROWS($A$1:E89))))","v":""},{"$f":"IF(ROWS($A$1:F89)>COUNTIF(Main!$C$8:$C$100,$C$7),\"\",INDEX(Main!G$8:G$100,SMALL(IF(Main!G$8:G$100<>\"\",IF(Main!$C$8:$C$100=$C$7,ROW(G$8:G$100)-ROW(G$8)+1)),ROWS($A$1:F89))))","v":""},{"$f":"IF(ROWS($A$1:G89)>COUNTIF(Main!$C$8:$C$100,$C$7),\"\",INDEX(Main!H$8:H$100,SMALL(IF(N(Main!H$8:H$100)<>0,IF(Main!$C$8:$C$100=$C$7,ROW(H$8:H$100)-ROW(H$8)+1)),ROWS($A$1:G89))))","v":""},{"$f":"IF(ROWS($A$1:H89)>COUNTIF(Main!$C$8:$C$100,$C$7),\"\",INDEX(Main!I$8:I$100,SMALL(IF(N(Main!I$8:I$100)<>0,IF(Main!$C$8:$C$100=$C$7,ROW(I$8:I$100)-ROW(I$8)+1)),ROWS($A$1:H89))))","v":""},{"$f":"IF(ROWS($A$1:I89)>COUNTIF(Main!$C$8:$C$100,$C$7),\"\",INDEX(Main!J$8:J$100,SMALL(IF(N(Main!J$8:J$100)<>0,IF(Main!$C$8:$C$100=$C$7,ROW(J$8:J$100)-ROW(J$8)+1)),ROWS($A$1:I89))))","v":""},{"$f":"IF(ROWS($A$1:J89)>COUNTIF(Main!$C$8:$C$100,$C$7),\"\",INDEX(Main!K$8:K$100,SMALL(IF(N(Main!K$8:K$100)<>0,IF(Main!$C$8:$C$100=$C$7,ROW(K$8:K$100)-ROW(K$8)+1)),ROWS($A$1:J89))))","v":""},{"$f":"IF(ROWS($A$1:K89)>COUNTIF(Main!$C$8:$C$100,$C$7),\"\",INDEX(Main!L$8:L$100,SMALL(IF(N(Main!L$8:L$100)<>0,IF(Main!$C$8:$C$100=$C$7,ROW(L$8:L$100)-ROW(L$8)+1)),ROWS($A$1:K89))))","v":""}]
[{"$f":"IF(B97=\"\",\"\",MAX($A$7:A96)+1)","v":""},{"$f":"IF(ROWS($A$1:A90)>COUNTIF(Main!$C$8:$C$100,$C$7),\"\",INDEX(Main!B$8:B$100,SMALL(IF(N(Main!B$8:B$100)<>0,IF(Main!$C$8:$C$100=$C$7,ROW(B$8:B$100)-ROW(B$8)+1)),ROWS($A$1:A90))))","v":""},{"$f":"IF(ROWS($A$1:B90)>COUNTIF(Main!$C$8:$C$100,$C$7),\"\",INDEX(Main!C$8:C$100,SMALL(IF(N(Main!C$8:C$100)<>0,IF(Main!$C$8:$C$100=$C$7,ROW(C$8:C$100)-ROW(C$8)+1)),ROWS($A$1:B90))))","v":""},{"$f":"IF(ROWS($A$1:C90)>COUNTIF(Main!$C$8:$C$100,$C$7),\"\",INDEX(Main!D$8:D$100,SMALL(IF(Main!D$8:D$100<>\"\",IF(Main!$C$8:$C$100=$C$7,ROW(D$8:D$100)-ROW(D$8)+1)),ROWS($A$1:C90))))","v":""},{"$f":"IF(ROWS($A$1:D90)>COUNTIF(Main!$C$8:$C$100,$C$7),\"\",INDEX(Main!E$8:E$100,SMALL(IF(N(Main!E$8:E$100)<>0,IF(Main!$C$8:$C$100=$C$7,ROW(E$8:E$100)-ROW(E$8)+1)),ROWS($A$1:D90))))","v":""},{"$f":"IF(ROWS($A$1:E90)>COUNTIF(Main!$C$8:$C$100,$C$7),\"\",INDEX(Main!F$8:F$100,SMALL(IF(Main!F$8:F$100<>\"\",IF(Main!$C$8:$C$100=$C$7,ROW(F$8:F$100)-ROW(F$8)+1)),ROWS($A$1:E90))))","v":""},{"$f":"IF(ROWS($A$1:F90)>COUNTIF(Main!$C$8:$C$100,$C$7),\"\",INDEX(Main!G$8:G$100,SMALL(IF(Main!G$8:G$100<>\"\",IF(Main!$C$8:$C$100=$C$7,ROW(G$8:G$100)-ROW(G$8)+1)),ROWS($A$1:F90))))","v":""},{"$f":"IF(ROWS($A$1:G90)>COUNTIF(Main!$C$8:$C$100,$C$7),\"\",INDEX(Main!H$8:H$100,SMALL(IF(N(Main!H$8:H$100)<>0,IF(Main!$C$8:$C$100=$C$7,ROW(H$8:H$100)-ROW(H$8)+1)),ROWS($A$1:G90))))","v":""},{"$f":"IF(ROWS($A$1:H90)>COUNTIF(Main!$C$8:$C$100,$C$7),\"\",INDEX(Main!I$8:I$100,SMALL(IF(N(Main!I$8:I$100)<>0,IF(Main!$C$8:$C$100=$C$7,ROW(I$8:I$100)-ROW(I$8)+1)),ROWS($A$1:H90))))","v":""},{"$f":"IF(ROWS($A$1:I90)>COUNTIF(Main!$C$8:$C$100,$C$7),\"\",INDEX(Main!J$8:J$100,SMALL(IF(N(Main!J$8:J$100)<>0,IF(Main!$C$8:$C$100=$C$7,ROW(J$8:J$100)-ROW(J$8)+1)),ROWS($A$1:I90))))","v":""},{"$f":"IF(ROWS($A$1:J90)>COUNTIF(Main!$C$8:$C$100,$C$7),\"\",INDEX(Main!K$8:K$100,SMALL(IF(N(Main!K$8:K$100)<>0,IF(Main!$C$8:$C$100=$C$7,ROW(K$8:K$100)-ROW(K$8)+1)),ROWS($A$1:J90))))","v":""},{"$f":"IF(ROWS($A$1:K90)>COUNTIF(Main!$C$8:$C$100,$C$7),\"\",INDEX(Main!L$8:L$100,SMALL(IF(N(Main!L$8:L$100)<>0,IF(Main!$C$8:$C$100=$C$7,ROW(L$8:L$100)-ROW(L$8)+1)),ROWS($A$1:K90))))","v":""}]
[{"$f":"IF(B98=\"\",\"\",MAX($A$7:A97)+1)","v":""},{"$f":"IF(ROWS($A$1:A91)>COUNTIF(Main!$C$8:$C$100,$C$7),\"\",INDEX(Main!B$8:B$100,SMALL(IF(N(Main!B$8:B$100)<>0,IF(Main!$C$8:$C$100=$C$7,ROW(B$8:B$100)-ROW(B$8)+1)),ROWS($A$1:A91))))","v":""},{"$f":"IF(ROWS($A$1:B91)>COUNTIF(Main!$C$8:$C$100,$C$7),\"\",INDEX(Main!C$8:C$100,SMALL(IF(N(Main!C$8:C$100)<>0,IF(Main!$C$8:$C$100=$C$7,ROW(C$8:C$100)-ROW(C$8)+1)),ROWS($A$1:B91))))","v":""},{"$f":"IF(ROWS($A$1:C91)>COUNTIF(Main!$C$8:$C$100,$C$7),\"\",INDEX(Main!D$8:D$100,SMALL(IF(Main!D$8:D$100<>\"\",IF(Main!$C$8:$C$100=$C$7,ROW(D$8:D$100)-ROW(D$8)+1)),ROWS($A$1:C91))))","v":""},{"$f":"IF(ROWS($A$1:D91)>COUNTIF(Main!$C$8:$C$100,$C$7),\"\",INDEX(Main!E$8:E$100,SMALL(IF(N(Main!E$8:E$100)<>0,IF(Main!$C$8:$C$100=$C$7,ROW(E$8:E$100)-ROW(E$8)+1)),ROWS($A$1:D91))))","v":""},{"$f":"IF(ROWS($A$1:E91)>COUNTIF(Main!$C$8:$C$100,$C$7),\"\",INDEX(Main!F$8:F$100,SMALL(IF(Main!F$8:F$100<>\"\",IF(Main!$C$8:$C$100=$C$7,ROW(F$8:F$100)-ROW(F$8)+1)),ROWS($A$1:E91))))","v":""},{"$f":"IF(ROWS($A$1:F91)>COUNTIF(Main!$C$8:$C$100,$C$7),\"\",INDEX(Main!G$8:G$100,SMALL(IF(Main!G$8:G$100<>\"\",IF(Main!$C$8:$C$100=$C$7,ROW(G$8:G$100)-ROW(G$8)+1)),ROWS($A$1:F91))))","v":""},{"$f":"IF(ROWS($A$1:G91)>COUNTIF(Main!$C$8:$C$100,$C$7),\"\",INDEX(Main!H$8:H$100,SMALL(IF(N(Main!H$8:H$100)<>0,IF(Main!$C$8:$C$100=$C$7,ROW(H$8:H$100)-ROW(H$8)+1)),ROWS($A$1:G91))))","v":""},{"$f":"IF(ROWS($A$1:H91)>COUNTIF(Main!$C$8:$C$100,$C$7),\"\",INDEX(Main!I$8:I$100,SMALL(IF(N(Main!I$8:I$100)<>0,IF(Main!$C$8:$C$100=$C$7,ROW(I$8:I$100)-ROW(I$8)+1)),ROWS($A$1:H91))))","v":""},{"$f":"IF(ROWS($A$1:I91)>COUNTIF(Main!$C$8:$C$100,$C$7),\"\",INDEX(Main!J$8:J$100,SMALL(IF(N(Main!J$8:J$100)<>0,IF(Main!$C$8:$C$100=$C$7,ROW(J$8:J$100)-ROW(J$8)+1)),ROWS($A$1:I91))))","v":""},{"$f":"IF(ROWS($A$1:J91)>COUNTIF(Main!$C$8:$C$100,$C$7),\"\",INDEX(Main!K$8:K$100,SMALL(IF(N(Main!K$8:K$100)<>0,IF(Main!$C$8:$C$100=$C$7,ROW(K$8:K$100)-ROW(K$8)+1)),ROWS($A$1:J91))))","v":""},{"$f":"IF(ROWS($A$1:K91)>COUNTIF(Main!$C$8:$C$100,$C$7),\"\",INDEX(Main!L$8:L$100,SMALL(IF(N(Main!L$8:L$100)<>0,IF(Main!$C$8:$C$100=$C$7,ROW(L$8:L$100)-ROW(L$8)+1)),ROWS($A$1:K91))))","v":""}]
[{"$f":"IF(B99=\"\",\"\",MAX($A$7:A98)+1)","v":""},{"$f":"IF(ROWS($A$1:A92)>COUNTIF(Main!$C$8:$C$100,$C$7),\"\",INDEX(Main!B$8:B$100,SMALL(IF(N(Main!B$8:B$100)<>0,IF(Main!$C$8:$C$100=$C$7,ROW(B$8:B$100)-ROW(B$8)+1)),ROWS($A$1:A92))))","v":""},{"$f":"IF(ROWS($A$1:B92)>COUNTIF(Main!$C$8:$C$100,$C$7),\"\",INDEX(Main!C$8:C$100,SMALL(IF(N(Main!C$8:C$100)<>0,IF(Main!$C$8:$C$100=$C$7,ROW(C$8:C$100)-ROW(C$8)+1)),ROWS($A$1:B92))))","v":""},{"$f":"IF(ROWS($A$1:C92)>COUNTIF(Main!$C$8:$C$100,$C$7),\"\",INDEX(Main!D$8:D$100,SMALL(IF(Main!D$8:D$100<>\"\",IF(Main!$C$8:$C$100=$C$7,ROW(D$8:D$100)-ROW(D$8)+1)),ROWS($A$1:C92))))","v":""},{"$f":"IF(ROWS($A$1:D92)>COUNTIF(Main!$C$8:$C$100,$C$7),\"\",INDEX(Main!E$8:E$100,SMALL(IF(N(Main!E$8:E$100)<>0,IF(Main!$C$8:$C$100=$C$7,ROW(E$8:E$100)-ROW(E$8)+1)),ROWS($A$1:D92))))","v":""},{"$f":"IF(ROWS($A$1:E92)>COUNTIF(Main!$C$8:$C$100,$C$7),\"\",INDEX(Main!F$8:F$100,SMALL(IF(Main!F$8:F$100<>\"\",IF(Main!$C$8:$C$100=$C$7,ROW(F$8:F$100)-ROW(F$8)+1)),ROWS($A$1:E92))))","v":""},{"$f":"IF(ROWS($A$1:F92)>COUNTIF(Main!$C$8:$C$100,$C$7),\"\",INDEX(Main!G$8:G$100,SMALL(IF(Main!G$8:G$100<>\"\",IF(Main!$C$8:$C$100=$C$7,ROW(G$8:G$100)-ROW(G$8)+1)),ROWS($A$1:F92))))","v":""},{"$f":"IF(ROWS($A$1:G92)>COUNTIF(Main!$C$8:$C$100,$C$7),\"\",INDEX(Main!H$8:H$100,SMALL(IF(N(Main!H$8:H$100)<>0,IF(Main!$C$8:$C$100=$C$7,ROW(H$8:H$100)-ROW(H$8)+1)),ROWS($A$1:G92))))","v":""},{"$f":"IF(ROWS($A$1:H92)>COUNTIF(Main!$C$8:$C$100,$C$7),\"\",INDEX(Main!I$8:I$100,SMALL(IF(N(Main!I$8:I$100)<>0,IF(Main!$C$8:$C$100=$C$7,ROW(I$8:I$100)-ROW(I$8)+1)),ROWS($A$1:H92))))","v":""},{"$f":"IF(ROWS($A$1:I92)>COUNTIF(Main!$C$8:$C$100,$C$7),\"\",INDEX(Main!J$8:J$100,SMALL(IF(N(Main!J$8:J$100)<>0,IF(Main!$C$8:$C$100=$C$7,ROW(J$8:J$100)-ROW(J$8)+1)),ROWS($A$1:I92))))","v":""},{"$f":"IF(ROWS($A$1:J92)>COUNTIF(Main!$C$8:$C$100,$C$7),\"\",INDEX(Main!K$8:K$100,SMALL(IF(N(Main!K$8:K$100)<>0,IF(Main!$C$8:$C$100=$C$7,ROW(K$8:K$100)-ROW(K$8)+1)),ROWS($A$1:J92))))","v":""},{"$f":"IF(ROWS($A$1:K92)>COUNTIF(Main!$C$8:$C$100,$C$7),\"\",INDEX(Main!L$8:L$100,SMALL(IF(N(Main!L$8:L$100)<>0,IF(Main!$C$8:$C$100=$C$7,ROW(L$8:L$100)-ROW(L$8)+1)),ROWS($A$1:K92))))","v":""}]
[{"$f":"IF(B100=\"\",\"\",MAX($A$7:A99)+1)","v":""},{"$f":"IF(ROWS($A$1:A93)>COUNTIF(Main!$C$8:$C$100,$C$7),\"\",INDEX(Main!B$8:B$100,SMALL(IF(N(Main!B$8:B$100)<>0,IF(Main!$C$8:$C$100=$C$7,ROW(B$8:B$100)-ROW(B$8)+1)),ROWS($A$1:A93))))","v":""},{"$f":"IF(ROWS($A$1:B93)>COUNTIF(Main!$C$8:$C$100,$C$7),\"\",INDEX(Main!C$8:C$100,SMALL(IF(N(Main!C$8:C$100)<>0,IF(Main!$C$8:$C$100=$C$7,ROW(C$8:C$100)-ROW(C$8)+1)),ROWS($A$1:B93))))","v":""},{"$f":"IF(ROWS($A$1:C93)>COUNTIF(Main!$C$8:$C$100,$C$7),\"\",INDEX(Main!D$8:D$100,SMALL(IF(Main!D$8:D$100<>\"\",IF(Main!$C$8:$C$100=$C$7,ROW(D$8:D$100)-ROW(D$8)+1)),ROWS($A$1:C93))))","v":""},{"$f":"IF(ROWS($A$1:D93)>COUNTIF(Main!$C$8:$C$100,$C$7),\"\",INDEX(Main!E$8:E$100,SMALL(IF(N(Main!E$8:E$100)<>0,IF(Main!$C$8:$C$100=$C$7,ROW(E$8:E$100)-ROW(E$8)+1)),ROWS($A$1:D93))))","v":""},{"$f":"IF(ROWS($A$1:E93)>COUNTIF(Main!$C$8:$C$100,$C$7),\"\",INDEX(Main!F$8:F$100,SMALL(IF(Main!F$8:F$100<>\"\",IF(Main!$C$8:$C$100=$C$7,ROW(F$8:F$100)-ROW(F$8)+1)),ROWS($A$1:E93))))","v":""},{"$f":"IF(ROWS($A$1:F93)>COUNTIF(Main!$C$8:$C$100,$C$7),\"\",INDEX(Main!G$8:G$100,SMALL(IF(Main!G$8:G$100<>\"\",IF(Main!$C$8:$C$100=$C$7,ROW(G$8:G$100)-ROW(G$8)+1)),ROWS($A$1:F93))))","v":""},{"$f":"IF(ROWS($A$1:G93)>COUNTIF(Main!$C$8:$C$100,$C$7),\"\",INDEX(Main!H$8:H$100,SMALL(IF(N(Main!H$8:H$100)<>0,IF(Main!$C$8:$C$100=$C$7,ROW(H$8:H$100)-ROW(H$8)+1)),ROWS($A$1:G93))))","v":""},{"$f":"IF(ROWS($A$1:H93)>COUNTIF(Main!$C$8:$C$100,$C$7),\"\",INDEX(Main!I$8:I$100,SMALL(IF(N(Main!I$8:I$100)<>0,IF(Main!$C$8:$C$100=$C$7,ROW(I$8:I$100)-ROW(I$8)+1)),ROWS($A$1:H93))))","v":""},{"$f":"IF(ROWS($A$1:I93)>COUNTIF(Main!$C$8:$C$100,$C$7),\"\",INDEX(Main!J$8:J$100,SMALL(IF(N(Main!J$8:J$100)<>0,IF(Main!$C$8:$C$100=$C$7,ROW(J$8:J$100)-ROW(J$8)+1)),ROWS($A$1:I93))))","v":""},{"$f":"IF(ROWS($A$1:J93)>COUNTIF(Main!$C$8:$C$100,$C$7),\"\",INDEX(Main!K$8:K$100,SMALL(IF(N(Main!K$8:K$100)<>0,IF(Main!$C$8:$C$100=$C$7,ROW(K$8:K$100)-ROW(K$8)+1)),ROWS($A$1:J93))))","v":""},{"$f":"IF(ROWS($A$1:K93)>COUNTIF(Main!$C$8:$C$100,$C$7),\"\",INDEX(Main!L$8:L$100,SMALL(IF(N(Main!L$8:L$100)<>0,IF(Main!$C$8:$C$100=$C$7,ROW(L$8:L$100)-ROW(L$8)+1)),ROWS($A$1:K93))))","v":""}]
[{"$f":"IF(B101=\"\",\"\",MAX($A$7:A100)+1)","v":""},{"$f":"IF(ROWS($A$1:A94)>COUNTIF(Main!$C$8:$C$100,$C$7),\"\",INDEX(Main!B$8:B$100,SMALL(IF(N(Main!B$8:B$100)<>0,IF(Main!$C$8:$C$100=$C$7,ROW(B$8:B$100)-ROW(B$8)+1)),ROWS($A$1:A94))))","v":""},{"$f":"IF(ROWS($A$1:B94)>COUNTIF(Main!$C$8:$C$100,$C$7),\"\",INDEX(Main!C$8:C$100,SMALL(IF(N(Main!C$8:C$100)<>0,IF(Main!$C$8:$C$100=$C$7,ROW(C$8:C$100)-ROW(C$8)+1)),ROWS($A$1:B94))))","v":""},{"$f":"IF(ROWS($A$1:C94)>COUNTIF(Main!$C$8:$C$100,$C$7),\"\",INDEX(Main!D$8:D$100,SMALL(IF(Main!D$8:D$100<>\"\",IF(Main!$C$8:$C$100=$C$7,ROW(D$8:D$100)-ROW(D$8)+1)),ROWS($A$1:C94))))","v":""},{"$f":"IF(ROWS($A$1:D94)>COUNTIF(Main!$C$8:$C$100,$C$7),\"\",INDEX(Main!E$8:E$100,SMALL(IF(N(Main!E$8:E$100)<>0,IF(Main!$C$8:$C$100=$C$7,ROW(E$8:E$100)-ROW(E$8)+1)),ROWS($A$1:D94))))","v":""},{"$f":"IF(ROWS($A$1:E94)>COUNTIF(Main!$C$8:$C$100,$C$7),\"\",INDEX(Main!F$8:F$100,SMALL(IF(Main!F$8:F$100<>\"\",IF(Main!$C$8:$C$100=$C$7,ROW(F$8:F$100)-ROW(F$8)+1)),ROWS($A$1:E94))))","v":""},{"$f":"IF(ROWS($A$1:F94)>COUNTIF(Main!$C$8:$C$100,$C$7),\"\",INDEX(Main!G$8:G$100,SMALL(IF(Main!G$8:G$100<>\"\",IF(Main!$C$8:$C$100=$C$7,ROW(G$8:G$100)-ROW(G$8)+1)),ROWS($A$1:F94))))","v":""},{"$f":"IF(ROWS($A$1:G94)>COUNTIF(Main!$C$8:$C$100,$C$7),\"\",INDEX(Main!H$8:H$100,SMALL(IF(N(Main!H$8:H$100)<>0,IF(Main!$C$8:$C$100=$C$7,ROW(H$8:H$100)-ROW(H$8)+1)),ROWS($A$1:G94))))","v":""},{"$f":"IF(ROWS($A$1:H94)>COUNTIF(Main!$C$8:$C$100,$C$7),\"\",INDEX(Main!I$8:I$100,SMALL(IF(N(Main!I$8:I$100)<>0,IF(Main!$C$8:$C$100=$C$7,ROW(I$8:I$100)-ROW(I$8)+1)),ROWS($A$1:H94))))","v":""},{"$f":"IF(ROWS($A$1:I94)>COUNTIF(Main!$C$8:$C$100,$C$7),\"\",INDEX(Main!J$8:J$100,SMALL(IF(N(Main!J$8:J$100)<>0,IF(Main!$C$8:$C$100=$C$7,ROW(J$8:J$100)-ROW(J$8)+1)),ROWS($A$1:I94))))","v":""},{"$f":"IF(ROWS($A$1:J94)>COUNTIF(Main!$C$8:$C$100,$C$7),\"\",INDEX(Main!K$8:K$100,SMALL(IF(N(Main!K$8:K$100)<>0,IF(Main!$C$8:$C$100=$C$7,ROW(K$8:K$100)-ROW(K$8)+1)),ROWS($A$1:J94))))","v":""},{"$f":"IF(ROWS($A$1:K94)>COUNTIF(Main!$C$8:$C$100,$C$7),\"\",INDEX(Main!L$8:L$100,SMALL(IF(N(Main!L$8:L$100)<>0,IF(Main!$C$8:$C$100=$C$7,ROW(L$8:L$100)-ROW(L$8)+1)),ROWS($A$1:K94))))","v":""}]
[{"$f":"IF(B102=\"\",\"\",MAX($A$7:A101)+1)","v":""},{"$f":"IF(ROWS($A$1:A95)>COUNTIF(Main!$C$8:$C$100,$C$7),\"\",INDEX(Main!B$8:B$100,SMALL(IF(N(Main!B$8:B$100)<>0,IF(Main!$C$8:$C$100=$C$7,ROW(B$8:B$100)-ROW(B$8)+1)),ROWS($A$1:A95))))","v":""},{"$f":"IF(ROWS($A$1:B95)>COUNTIF(Main!$C$8:$C$100,$C$7),\"\",INDEX(Main!C$8:C$100,SMALL(IF(N(Main!C$8:C$100)<>0,IF(Main!$C$8:$C$100=$C$7,ROW(C$8:C$100)-ROW(C$8)+1)),ROWS($A$1:B95))))","v":""},{"$f":"IF(ROWS($A$1:C95)>COUNTIF(Main!$C$8:$C$100,$C$7),\"\",INDEX(Main!D$8:D$100,SMALL(IF(Main!D$8:D$100<>\"\",IF(Main!$C$8:$C$100=$C$7,ROW(D$8:D$100)-ROW(D$8)+1)),ROWS($A$1:C95))))","v":""},{"$f":"IF(ROWS($A$1:D95)>COUNTIF(Main!$C$8:$C$100,$C$7),\"\",INDEX(Main!E$8:E$100,SMALL(IF(N(Main!E$8:E$100)<>0,IF(Main!$C$8:$C$100=$C$7,ROW(E$8:E$100)-ROW(E$8)+1)),ROWS($A$1:D95))))","v":""},{"$f":"IF(ROWS($A$1:E95)>COUNTIF(Main!$C$8:$C$100,$C$7),\"\",INDEX(Main!F$8:F$100,SMALL(IF(Main!F$8:F$100<>\"\",IF(Main!$C$8:$C$100=$C$7,ROW(F$8:F$100)-ROW(F$8)+1)),ROWS($A$1:E95))))","v":""},{"$f":"IF(ROWS($A$1:F95)>COUNTIF(Main!$C$8:$C$100,$C$7),\"\",INDEX(Main!G$8:G$100,SMALL(IF(Main!G$8:G$100<>\"\",IF(Main!$C$8:$C$100=$C$7,ROW(G$8:G$100)-ROW(G$8)+1)),ROWS($A$1:F95))))","v":""},{"$f":"IF(ROWS($A$1:G95)>COUNTIF(Main!$C$8:$C$100,$C$7),\"\",INDEX(Main!H$8:H$100,SMALL(IF(N(Main!H$8:H$100)<>0,IF(Main!$C$8:$C$100=$C$7,ROW(H$8:H$100)-ROW(H$8)+1)),ROWS($A$1:G95))))","v":""},{"$f":"IF(ROWS($A$1:H95)>COUNTIF(Main!$C$8:$C$100,$C$7),\"\",INDEX(Main!I$8:I$100,SMALL(IF(N(Main!I$8:I$100)<>0,IF(Main!$C$8:$C$100=$C$7,ROW(I$8:I$100)-ROW(I$8)+1)),ROWS($A$1:H95))))","v":""},{"$f":"IF(ROWS($A$1:I95)>COUNTIF(Main!$C$8:$C$100,$C$7),\"\",INDEX(Main!J$8:J$100,SMALL(IF(N(Main!J$8:J$100)<>0,IF(Main!$C$8:$C$100=$C$7,ROW(J$8:J$100)-ROW(J$8)+1)),ROWS($A$1:I95))))","v":""},{"$f":"IF(ROWS($A$1:J95)>COUNTIF(Main!$C$8:$C$100,$C$7),\"\",INDEX(Main!K$8:K$100,SMALL(IF(N(Main!K$8:K$100)<>0,IF(Main!$C$8:$C$100=$C$7,ROW(K$8:K$100)-ROW(K$8)+1)),ROWS($A$1:J95))))","v":""},{"$f":"IF(ROWS($A$1:K95)>COUNTIF(Main!$C$8:$C$100,$C$7),\"\",INDEX(Main!L$8:L$100,SMALL(IF(N(Main!L$8:L$100)<>0,IF(Main!$C$8:$C$100=$C$7,ROW(L$8:L$100)-ROW(L$8)+1)),ROWS($A$1:K95))))","v":""}]
[{"$f":"IF(B103=\"\",\"\",MAX($A$7:A102)+1)","v":""},{"$f":"IF(ROWS($A$1:A96)>COUNTIF(Main!$C$8:$C$100,$C$7),\"\",INDEX(Main!B$8:B$100,SMALL(IF(N(Main!B$8:B$100)<>0,IF(Main!$C$8:$C$100=$C$7,ROW(B$8:B$100)-ROW(B$8)+1)),ROWS($A$1:A96))))","v":""},{"$f":"IF(ROWS($A$1:B96)>COUNTIF(Main!$C$8:$C$100,$C$7),\"\",INDEX(Main!C$8:C$100,SMALL(IF(N(Main!C$8:C$100)<>0,IF(Main!$C$8:$C$100=$C$7,ROW(C$8:C$100)-ROW(C$8)+1)),ROWS($A$1:B96))))","v":""},{"$f":"IF(ROWS($A$1:C96)>COUNTIF(Main!$C$8:$C$100,$C$7),\"\",INDEX(Main!D$8:D$100,SMALL(IF(Main!D$8:D$100<>\"\",IF(Main!$C$8:$C$100=$C$7,ROW(D$8:D$100)-ROW(D$8)+1)),ROWS($A$1:C96))))","v":""},{"$f":"IF(ROWS($A$1:D96)>COUNTIF(Main!$C$8:$C$100,$C$7),\"\",INDEX(Main!E$8:E$100,SMALL(IF(N(Main!E$8:E$100)<>0,IF(Main!$C$8:$C$100=$C$7,ROW(E$8:E$100)-ROW(E$8)+1)),ROWS($A$1:D96))))","v":""},{"$f":"IF(ROWS($A$1:E96)>COUNTIF(Main!$C$8:$C$100,$C$7),\"\",INDEX(Main!F$8:F$100,SMALL(IF(Main!F$8:F$100<>\"\",IF(Main!$C$8:$C$100=$C$7,ROW(F$8:F$100)-ROW(F$8)+1)),ROWS($A$1:E96))))","v":""},{"$f":"IF(ROWS($A$1:F96)>COUNTIF(Main!$C$8:$C$100,$C$7),\"\",INDEX(Main!G$8:G$100,SMALL(IF(Main!G$8:G$100<>\"\",IF(Main!$C$8:$C$100=$C$7,ROW(G$8:G$100)-ROW(G$8)+1)),ROWS($A$1:F96))))","v":""},{"$f":"IF(ROWS($A$1:G96)>COUNTIF(Main!$C$8:$C$100,$C$7),\"\",INDEX(Main!H$8:H$100,SMALL(IF(N(Main!H$8:H$100)<>0,IF(Main!$C$8:$C$100=$C$7,ROW(H$8:H$100)-ROW(H$8)+1)),ROWS($A$1:G96))))","v":""},{"$f":"IF(ROWS($A$1:H96)>COUNTIF(Main!$C$8:$C$100,$C$7),\"\",INDEX(Main!I$8:I$100,SMALL(IF(N(Main!I$8:I$100)<>0,IF(Main!$C$8:$C$100=$C$7,ROW(I$8:I$100)-ROW(I$8)+1)),ROWS($A$1:H96))))","v":""},{"$f":"IF(ROWS($A$1:I96)>COUNTIF(Main!$C$8:$C$100,$C$7),\"\",INDEX(Main!J$8:J$100,SMALL(IF(N(Main!J$8:J$100)<>0,IF(Main!$C$8:$C$100=$C$7,ROW(J$8:J$100)-ROW(J$8)+1)),ROWS($A$1:I96))))","v":""},{"$f":"IF(ROWS($A$1:J96)>COUNTIF(Main!$C$8:$C$100,$C$7),\"\",INDEX(Main!K$8:K$100,SMALL(IF(N(Main!K$8:K$100)<>0,IF(Main!$C$8:$C$100=$C$7,ROW(K$8:K$100)-ROW(K$8)+1)),ROWS($A$1:J96))))","v":""},{"$f":"IF(ROWS($A$1:K96)>COUNTIF(Main!$C$8:$C$100,$C$7),\"\",INDEX(Main!L$8:L$100,SMALL(IF(N(Main!L$8:L$100)<>0,IF(Main!$C$8:$C$100=$C$7,ROW(L$8:L$100)-ROW(L$8)+1)),ROWS($A$1:K96))))","v":""}]
[{"$f":"IF(B104=\"\",\"\",MAX($A$7:A103)+1)","v":""},{"$f":"IF(ROWS($A$1:A97)>COUNTIF(Main!$C$8:$C$100,$C$7),\"\",INDEX(Main!B$8:B$100,SMALL(IF(N(Main!B$8:B$100)<>0,IF(Main!$C$8:$C$100=$C$7,ROW(B$8:B$100)-ROW(B$8)+1)),ROWS($A$1:A97))))","v":""},{"$f":"IF(ROWS($A$1:B97)>COUNTIF(Main!$C$8:$C$100,$C$7),\"\",INDEX(Main!C$8:C$100,SMALL(IF(N(Main!C$8:C$100)<>0,IF(Main!$C$8:$C$100=$C$7,ROW(C$8:C$100)-ROW(C$8)+1)),ROWS($A$1:B97))))","v":""},{"$f":"IF(ROWS($A$1:C97)>COUNTIF(Main!$C$8:$C$100,$C$7),\"\",INDEX(Main!D$8:D$100,SMALL(IF(Main!D$8:D$100<>\"\",IF(Main!$C$8:$C$100=$C$7,ROW(D$8:D$100)-ROW(D$8)+1)),ROWS($A$1:C97))))","v":""},{"$f":"IF(ROWS($A$1:D97)>COUNTIF(Main!$C$8:$C$100,$C$7),\"\",INDEX(Main!E$8:E$100,SMALL(IF(N(Main!E$8:E$100)<>0,IF(Main!$C$8:$C$100=$C$7,ROW(E$8:E$100)-ROW(E$8)+1)),ROWS($A$1:D97))))","v":""},{"$f":"IF(ROWS($A$1:E97)>COUNTIF(Main!$C$8:$C$100,$C$7),\"\",INDEX(Main!F$8:F$100,SMALL(IF(Main!F$8:F$100<>\"\",IF(Main!$C$8:$C$100=$C$7,ROW(F$8:F$100)-ROW(F$8)+1)),ROWS($A$1:E97))))","v":""},{"$f":"IF(ROWS($A$1:F97)>COUNTIF(Main!$C$8:$C$100,$C$7),\"\",INDEX(Main!G$8:G$100,SMALL(IF(Main!G$8:G$100<>\"\",IF(Main!$C$8:$C$100=$C$7,ROW(G$8:G$100)-ROW(G$8)+1)),ROWS($A$1:F97))))","v":""},{"$f":"IF(ROWS($A$1:G97)>COUNTIF(Main!$C$8:$C$100,$C$7),\"\",INDEX(Main!H$8:H$100,SMALL(IF(N(Main!H$8:H$100)<>0,IF(Main!$C$8:$C$100=$C$7,ROW(H$8:H$100)-ROW(H$8)+1)),ROWS($A$1:G97))))","v":""},{"$f":"IF(ROWS($A$1:H97)>COUNTIF(Main!$C$8:$C$100,$C$7),\"\",INDEX(Main!I$8:I$100,SMALL(IF(N(Main!I$8:I$100)<>0,IF(Main!$C$8:$C$100=$C$7,ROW(I$8:I$100)-ROW(I$8)+1)),ROWS($A$1:H97))))","v":""},{"$f":"IF(ROWS($A$1:I97)>COUNTIF(Main!$C$8:$C$100,$C$7),\"\",INDEX(Main!J$8:J$100,SMALL(IF(N(Main!J$8:J$100)<>0,IF(Main!$C$8:$C$100=$C$7,ROW(J$8:J$100)-ROW(J$8)+1)),ROWS($A$1:I97))))","v":""},{"$f":"IF(ROWS($A$1:J97)>COUNTIF(Main!$C$8:$C$100,$C$7),\"\",INDEX(Main!K$8:K$100,SMALL(IF(N(Main!K$8:K$100)<>0,IF(Main!$C$8:$C$100=$C$7,ROW(K$8:K$100)-ROW(K$8)+1)),ROWS($A$1:J97))))","v":""},{"$f":"IF(ROWS($A$1:K97)>COUNTIF(Main!$C$8:$C$100,$C$7),\"\",INDEX(Main!L$8:L$100,SMALL(IF(N(Main!L$8:L$100)<>0,IF(Main!$C$8:$C$100=$C$7,ROW(L$8:L$100)-ROW(L$8)+1)),ROWS($A$1:K97))))","v":""}]
[{"$f":"IF(B105=\"\",\"\",MAX($A$7:A104)+1)","v":""},{"$f":"IF(ROWS($A$1:A98)>COUNTIF(Main!$C$8:$C$100,$C$7),\"\",INDEX(Main!B$8:B$100,SMALL(IF(N(Main!B$8:B$100)<>0,IF(Main!$C$8:$C$100=$C$7,ROW(B$8:B$100)-ROW(B$8)+1)),ROWS($A$1:A98))))","v":""},{"$f":"IF(ROWS($A$1:B98)>COUNTIF(Main!$C$8:$C$100,$C$7),\"\",INDEX(Main!C$8:C$100,SMALL(IF(N(Main!C$8:C$100)<>0,IF(Main!$C$8:$C$100=$C$7,ROW(C$8:C$100)-ROW(C$8)+1)),ROWS($A$1:B98))))","v":""},{"$f":"IF(ROWS($A$1:C98)>COUNTIF(Main!$C$8:$C$100,$C$7),\"\",INDEX(Main!D$8:D$100,SMALL(IF(Main!D$8:D$100<>\"\",IF(Main!$C$8:$C$100=$C$7,ROW(D$8:D$100)-ROW(D$8)+1)),ROWS($A$1:C98))))","v":""},{"$f":"IF(ROWS($A$1:D98)>COUNTIF(Main!$C$8:$C$100,$C$7),\"\",INDEX(Main!E$8:E$100,SMALL(IF(N(Main!E$8:E$100)<>0,IF(Main!$C$8:$C$100=$C$7,ROW(E$8:E$100)-ROW(E$8)+1)),ROWS($A$1:D98))))","v":""},{"$f":"IF(ROWS($A$1:E98)>COUNTIF(Main!$C$8:$C$100,$C$7),\"\",INDEX(Main!F$8:F$100,SMALL(IF(Main!F$8:F$100<>\"\",IF(Main!$C$8:$C$100=$C$7,ROW(F$8:F$100)-ROW(F$8)+1)),ROWS($A$1:E98))))","v":""},{"$f":"IF(ROWS($A$1:F98)>COUNTIF(Main!$C$8:$C$100,$C$7),\"\",INDEX(Main!G$8:G$100,SMALL(IF(Main!G$8:G$100<>\"\",IF(Main!$C$8:$C$100=$C$7,ROW(G$8:G$100)-ROW(G$8)+1)),ROWS($A$1:F98))))","v":""},{"$f":"IF(ROWS($A$1:G98)>COUNTIF(Main!$C$8:$C$100,$C$7),\"\",INDEX(Main!H$8:H$100,SMALL(IF(N(Main!H$8:H$100)<>0,IF(Main!$C$8:$C$100=$C$7,ROW(H$8:H$100)-ROW(H$8)+1)),ROWS($A$1:G98))))","v":""},{"$f":"IF(ROWS($A$1:H98)>COUNTIF(Main!$C$8:$C$100,$C$7),\"\",INDEX(Main!I$8:I$100,SMALL(IF(N(Main!I$8:I$100)<>0,IF(Main!$C$8:$C$100=$C$7,ROW(I$8:I$100)-ROW(I$8)+1)),ROWS($A$1:H98))))","v":""},{"$f":"IF(ROWS($A$1:I98)>COUNTIF(Main!$C$8:$C$100,$C$7),\"\",INDEX(Main!J$8:J$100,SMALL(IF(N(Main!J$8:J$100)<>0,IF(Main!$C$8:$C$100=$C$7,ROW(J$8:J$100)-ROW(J$8)+1)),ROWS($A$1:I98))))","v":""},{"$f":"IF(ROWS($A$1:J98)>COUNTIF(Main!$C$8:$C$100,$C$7),\"\",INDEX(Main!K$8:K$100,SMALL(IF(N(Main!K$8:K$100)<>0,IF(Main!$C$8:$C$100=$C$7,ROW(K$8:K$100)-ROW(K$8)+1)),ROWS($A$1:J98))))","v":""},{"$f":"IF(ROWS($A$1:K98)>COUNTIF(Main!$C$8:$C$100,$C$7),\"\",INDEX(Main!L$8:L$100,SMALL(IF(N(Main!L$8:L$100)<>0,IF(Main!$C$8:$C$100=$C$7,ROW(L$8:L$100)-ROW(L$8)+1)),ROWS($A$1:K98))))","v":""}]
[{"$f":"IF(B106=\"\",\"\",MAX($A$7:A105)+1)","v":""},{"$f":"IF(ROWS($A$1:A99)>COUNTIF(Main!$C$8:$C$100,$C$7),\"\",INDEX(Main!B$8:B$100,SMALL(IF(N(Main!B$8:B$100)<>0,IF(Main!$C$8:$C$100=$C$7,ROW(B$8:B$100)-ROW(B$8)+1)),ROWS($A$1:A99))))","v":""},{"$f":"IF(ROWS($A$1:B99)>COUNTIF(Main!$C$8:$C$100,$C$7),\"\",INDEX(Main!C$8:C$100,SMALL(IF(N(Main!C$8:C$100)<>0,IF(Main!$C$8:$C$100=$C$7,ROW(C$8:C$100)-ROW(C$8)+1)),ROWS($A$1:B99))))","v":""},{"$f":"IF(ROWS($A$1:C99)>COUNTIF(Main!$C$8:$C$100,$C$7),\"\",INDEX(Main!D$8:D$100,SMALL(IF(Main!D$8:D$100<>\"\",IF(Main!$C$8:$C$100=$C$7,ROW(D$8:D$100)-ROW(D$8)+1)),ROWS($A$1:C99))))","v":""},{"$f":"IF(ROWS($A$1:D99)>COUNTIF(Main!$C$8:$C$100,$C$7),\"\",INDEX(Main!E$8:E$100,SMALL(IF(N(Main!E$8:E$100)<>0,IF(Main!$C$8:$C$100=$C$7,ROW(E$8:E$100)-ROW(E$8)+1)),ROWS($A$1:D99))))","v":""},{"$f":"IF(ROWS($A$1:E99)>COUNTIF(Main!$C$8:$C$100,$C$7),\"\",INDEX(Main!F$8:F$100,SMALL(IF(Main!F$8:F$100<>\"\",IF(Main!$C$8:$C$100=$C$7,ROW(F$8:F$100)-ROW(F$8)+1)),ROWS($A$1:E99))))","v":""},{"$f":"IF(ROWS($A$1:F99)>COUNTIF(Main!$C$8:$C$100,$C$7),\"\",INDEX(Main!G$8:G$100,SMALL(IF(Main!G$8:G$100<>\"\",IF(Main!$C$8:$C$100=$C$7,ROW(G$8:G$100)-ROW(G$8)+1)),ROWS($A$1:F99))))","v":""},{"$f":"IF(ROWS($A$1:G99)>COUNTIF(Main!$C$8:$C$100,$C$7),\"\",INDEX(Main!H$8:H$100,SMALL(IF(N(Main!H$8:H$100)<>0,IF(Main!$C$8:$C$100=$C$7,ROW(H$8:H$100)-ROW(H$8)+1)),ROWS($A$1:G99))))","v":""},{"$f":"IF(ROWS($A$1:H99)>COUNTIF(Main!$C$8:$C$100,$C$7),\"\",INDEX(Main!I$8:I$100,SMALL(IF(N(Main!I$8:I$100)<>0,IF(Main!$C$8:$C$100=$C$7,ROW(I$8:I$100)-ROW(I$8)+1)),ROWS($A$1:H99))))","v":""},{"$f":"IF(ROWS($A$1:I99)>COUNTIF(Main!$C$8:$C$100,$C$7),\"\",INDEX(Main!J$8:J$100,SMALL(IF(N(Main!J$8:J$100)<>0,IF(Main!$C$8:$C$100=$C$7,ROW(J$8:J$100)-ROW(J$8)+1)),ROWS($A$1:I99))))","v":""},{"$f":"IF(ROWS($A$1:J99)>COUNTIF(Main!$C$8:$C$100,$C$7),\"\",INDEX(Main!K$8:K$100,SMALL(IF(N(Main!K$8:K$100)<>0,IF(Main!$C$8:$C$100=$C$7,ROW(K$8:K$100)-ROW(K$8)+1)),ROWS($A$1:J99))))","v":""},{"$f":"IF(ROWS($A$1:K99)>COUNTIF(Main!$C$8:$C$100,$C$7),\"\",INDEX(Main!L$8:L$100,SMALL(IF(N(Main!L$8:L$100)<>0,IF(Main!$C$8:$C$100=$C$7,ROW(L$8:L$100)-ROW(L$8)+1)),ROWS($A$1:K99))))","v":""}]
[{"$f":"IF(B107=\"\",\"\",MAX($A$7:A106)+1)","v":""},{"$f":"IF(ROWS($A$1:A100)>COUNTIF(Main!$C$8:$C$100,$C$7),\"\",INDEX(Main!B$8:B$100,SMALL(IF(N(Main!B$8:B$100)<>0,IF(Main!$C$8:$C$100=$C$7,ROW(B$8:B$100)-ROW(B$8)+1)),ROWS($A$1:A100))))","v":""},{"$f":"IF(ROWS($A$1:B100)>COUNTIF(Main!$C$8:$C$100,$C$7),\"\",INDEX(Main!C$8:C$100,SMALL(IF(N(Main!C$8:C$100)<>0,IF(Main!$C$8:$C$100=$C$7,ROW(C$8:C$100)-ROW(C$8)+1)),ROWS($A$1:B100))))","v":""},{"$f":"IF(ROWS($A$1:C100)>COUNTIF(Main!$C$8:$C$100,$C$7),\"\",INDEX(Main!D$8:D$100,SMALL(IF(Main!D$8:D$100<>\"\",IF(Main!$C$8:$C$100=$C$7,ROW(D$8:D$100)-ROW(D$8)+1)),ROWS($A$1:C100))))","v":""},{"$f":"IF(ROWS($A$1:D100)>COUNTIF(Main!$C$8:$C$100,$C$7),\"\",INDEX(Main!E$8:E$100,SMALL(IF(N(Main!E$8:E$100)<>0,IF(Main!$C$8:$C$100=$C$7,ROW(E$8:E$100)-ROW(E$8)+1)),ROWS($A$1:D100))))","v":""},{"$f":"IF(ROWS($A$1:E100)>COUNTIF(Main!$C$8:$C$100,$C$7),\"\",INDEX(Main!F$8:F$100,SMALL(IF(Main!F$8:F$100<>\"\",IF(Main!$C$8:$C$100=$C$7,ROW(F$8:F$100)-ROW(F$8)+1)),ROWS($A$1:E100))))","v":""},{"$f":"IF(ROWS($A$1:F100)>COUNTIF(Main!$C$8:$C$100,$C$7),\"\",INDEX(Main!G$8:G$100,SMALL(IF(Main!G$8:G$100<>\"\",IF(Main!$C$8:$C$100=$C$7,ROW(G$8:G$100)-ROW(G$8)+1)),ROWS($A$1:F100))))","v":""},{"$f":"IF(ROWS($A$1:G100)>COUNTIF(Main!$C$8:$C$100,$C$7),\"\",INDEX(Main!H$8:H$100,SMALL(IF(N(Main!H$8:H$100)<>0,IF(Main!$C$8:$C$100=$C$7,ROW(H$8:H$100)-ROW(H$8)+1)),ROWS($A$1:G100))))","v":""},{"$f":"IF(ROWS($A$1:H100)>COUNTIF(Main!$C$8:$C$100,$C$7),\"\",INDEX(Main!I$8:I$100,SMALL(IF(N(Main!I$8:I$100)<>0,IF(Main!$C$8:$C$100=$C$7,ROW(I$8:I$100)-ROW(I$8)+1)),ROWS($A$1:H100))))","v":""},{"$f":"IF(ROWS($A$1:I100)>COUNTIF(Main!$C$8:$C$100,$C$7),\"\",INDEX(Main!J$8:J$100,SMALL(IF(N(Main!J$8:J$100)<>0,IF(Main!$C$8:$C$100=$C$7,ROW(J$8:J$100)-ROW(J$8)+1)),ROWS($A$1:I100))))","v":""},{"$f":"IF(ROWS($A$1:J100)>COUNTIF(Main!$C$8:$C$100,$C$7),\"\",INDEX(Main!K$8:K$100,SMALL(IF(N(Main!K$8:K$100)<>0,IF(Main!$C$8:$C$100=$C$7,ROW(K$8:K$100)-ROW(K$8)+1)),ROWS($A$1:J100))))","v":""},{"$f":"IF(ROWS($A$1:K100)>COUNTIF(Main!$C$8:$C$100,$C$7),\"\",INDEX(Main!L$8:L$100,SMALL(IF(N(Main!L$8:L$100)<>0,IF(Main!$C$8:$C$100=$C$7,ROW(L$8:L$100)-ROW(L$8)+1)),ROWS($A$1:K100))))","v":""}]
[{"$f":"IF(B108=\"\",\"\",MAX($A$7:A107)+1)","v":""},{"$f":"IF(ROWS($A$1:A101)>COUNTIF(Main!$C$8:$C$100,$C$7),\"\",INDEX(Main!B$8:B$100,SMALL(IF(N(Main!B$8:B$100)<>0,IF(Main!$C$8:$C$100=$C$7,ROW(B$8:B$100)-ROW(B$8)+1)),ROWS($A$1:A101))))","v":""},{"$f":"IF(ROWS($A$1:B101)>COUNTIF(Main!$C$8:$C$100,$C$7),\"\",INDEX(Main!C$8:C$100,SMALL(IF(N(Main!C$8:C$100)<>0,IF(Main!$C$8:$C$100=$C$7,ROW(C$8:C$100)-ROW(C$8)+1)),ROWS($A$1:B101))))","v":""},{"$f":"IF(ROWS($A$1:C101)>COUNTIF(Main!$C$8:$C$100,$C$7),\"\",INDEX(Main!D$8:D$100,SMALL(IF(Main!D$8:D$100<>\"\",IF(Main!$C$8:$C$100=$C$7,ROW(D$8:D$100)-ROW(D$8)+1)),ROWS($A$1:C101))))","v":""},{"$f":"IF(ROWS($A$1:D101)>COUNTIF(Main!$C$8:$C$100,$C$7),\"\",INDEX(Main!E$8:E$100,SMALL(IF(N(Main!E$8:E$100)<>0,IF(Main!$C$8:$C$100=$C$7,ROW(E$8:E$100)-ROW(E$8)+1)),ROWS($A$1:D101))))","v":""},{"$f":"IF(ROWS($A$1:E101)>COUNTIF(Main!$C$8:$C$100,$C$7),\"\",INDEX(Main!F$8:F$100,SMALL(IF(Main!F$8:F$100<>\"\",IF(Main!$C$8:$C$100=$C$7,ROW(F$8:F$100)-ROW(F$8)+1)),ROWS($A$1:E101))))","v":""},{"$f":"IF(ROWS($A$1:F101)>COUNTIF(Main!$C$8:$C$100,$C$7),\"\",INDEX(Main!G$8:G$100,SMALL(IF(Main!G$8:G$100<>\"\",IF(Main!$C$8:$C$100=$C$7,ROW(G$8:G$100)-ROW(G$8)+1)),ROWS($A$1:F101))))","v":""},{"$f":"IF(ROWS($A$1:G101)>COUNTIF(Main!$C$8:$C$100,$C$7),\"\",INDEX(Main!H$8:H$100,SMALL(IF(N(Main!H$8:H$100)<>0,IF(Main!$C$8:$C$100=$C$7,ROW(H$8:H$100)-ROW(H$8)+1)),ROWS($A$1:G101))))","v":""},{"$f":"IF(ROWS($A$1:H101)>COUNTIF(Main!$C$8:$C$100,$C$7),\"\",INDEX(Main!I$8:I$100,SMALL(IF(N(Main!I$8:I$100)<>0,IF(Main!$C$8:$C$100=$C$7,ROW(I$8:I$100)-ROW(I$8)+1)),ROWS($A$1:H101))))","v":""},{"$f":"IF(ROWS($A$1:I101)>COUNTIF(Main!$C$8:$C$100,$C$7),\"\",INDEX(Main!J$8:J$100,SMALL(IF(N(Main!J$8:J$100)<>0,IF(Main!$C$8:$C$100=$C$7,ROW(J$8:J$100)-ROW(J$8)+1)),ROWS($A$1:I101))))","v":""},{"$f":"IF(ROWS($A$1:J101)>COUNTIF(Main!$C$8:$C$100,$C$7),\"\",INDEX(Main!K$8:K$100,SMALL(IF(N(Main!K$8:K$100)<>0,IF(Main!$C$8:$C$100=$C$7,ROW(K$8:K$100)-ROW(K$8)+1)),ROWS($A$1:J101))))","v":""},{"$f":"IF(ROWS($A$1:K101)>COUNTIF(Main!$C$8:$C$100,$C$7),\"\",INDEX(Main!L$8:L$100,SMALL(IF(N(Main!L$8:L$100)<>0,IF(Main!$C$8:$C$100=$C$7,ROW(L$8:L$100)-ROW(L$8)+1)),ROWS($A$1:K101))))","v":""}]
[{"$f":"IF(B109=\"\",\"\",MAX($A$7:A108)+1)","v":""},{"$f":"IF(ROWS($A$1:A102)>COUNTIF(Main!$C$8:$C$100,$C$7),\"\",INDEX(Main!B$8:B$100,SMALL(IF(N(Main!B$8:B$100)<>0,IF(Main!$C$8:$C$100=$C$7,ROW(B$8:B$100)-ROW(B$8)+1)),ROWS($A$1:A102))))","v":""},{"$f":"IF(ROWS($A$1:B102)>COUNTIF(Main!$C$8:$C$100,$C$7),\"\",INDEX(Main!C$8:C$100,SMALL(IF(N(Main!C$8:C$100)<>0,IF(Main!$C$8:$C$100=$C$7,ROW(C$8:C$100)-ROW(C$8)+1)),ROWS($A$1:B102))))","v":""},{"$f":"IF(ROWS($A$1:C102)>COUNTIF(Main!$C$8:$C$100,$C$7),\"\",INDEX(Main!D$8:D$100,SMALL(IF(Main!D$8:D$100<>\"\",IF(Main!$C$8:$C$100=$C$7,ROW(D$8:D$100)-ROW(D$8)+1)),ROWS($A$1:C102))))","v":""},{"$f":"IF(ROWS($A$1:D102)>COUNTIF(Main!$C$8:$C$100,$C$7),\"\",INDEX(Main!E$8:E$100,SMALL(IF(N(Main!E$8:E$100)<>0,IF(Main!$C$8:$C$100=$C$7,ROW(E$8:E$100)-ROW(E$8)+1)),ROWS($A$1:D102))))","v":""},{"$f":"IF(ROWS($A$1:E102)>COUNTIF(Main!$C$8:$C$100,$C$7),\"\",INDEX(Main!F$8:F$100,SMALL(IF(Main!F$8:F$100<>\"\",IF(Main!$C$8:$C$100=$C$7,ROW(F$8:F$100)-ROW(F$8)+1)),ROWS($A$1:E102))))","v":""},{"$f":"IF(ROWS($A$1:F102)>COUNTIF(Main!$C$8:$C$100,$C$7),\"\",INDEX(Main!G$8:G$100,SMALL(IF(Main!G$8:G$100<>\"\",IF(Main!$C$8:$C$100=$C$7,ROW(G$8:G$100)-ROW(G$8)+1)),ROWS($A$1:F102))))","v":""},{"$f":"IF(ROWS($A$1:G102)>COUNTIF(Main!$C$8:$C$100,$C$7),\"\",INDEX(Main!H$8:H$100,SMALL(IF(N(Main!H$8:H$100)<>0,IF(Main!$C$8:$C$100=$C$7,ROW(H$8:H$100)-ROW(H$8)+1)),ROWS($A$1:G102))))","v":""},{"$f":"IF(ROWS($A$1:H102)>COUNTIF(Main!$C$8:$C$100,$C$7),\"\",INDEX(Main!I$8:I$100,SMALL(IF(N(Main!I$8:I$100)<>0,IF(Main!$C$8:$C$100=$C$7,ROW(I$8:I$100)-ROW(I$8)+1)),ROWS($A$1:H102))))","v":""},{"$f":"IF(ROWS($A$1:I102)>COUNTIF(Main!$C$8:$C$100,$C$7),\"\",INDEX(Main!J$8:J$100,SMALL(IF(N(Main!J$8:J$100)<>0,IF(Main!$C$8:$C$100=$C$7,ROW(J$8:J$100)-ROW(J$8)+1)),ROWS($A$1:I102))))","v":""},{"$f":"IF(ROWS($A$1:J102)>COUNTIF(Main!$C$8:$C$100,$C$7),\"\",INDEX(Main!K$8:K$100,SMALL(IF(N(Main!K$8:K$100)<>0,IF(Main!$C$8:$C$100=$C$7,ROW(K$8:K$100)-ROW(K$8)+1)),ROWS($A$1:J102))))","v":""},{"$f":"IF(ROWS($A$1:K102)>COUNTIF(Main!$C$8:$C$100,$C$7),\"\",INDEX(Main!L$8:L$100,SMALL(IF(N(Main!L$8:L$100)<>0,IF(Main!$C$8:$C$100=$C$7,ROW(L$8:L$100)-ROW(L$8)+1)),ROWS($A$1:K102))))","v":""}]
[{"$f":"IF(B110=\"\",\"\",MAX($A$7:A109)+1)","v":""},{"$f":"IF(ROWS($A$1:A103)>COUNTIF(Main!$C$8:$C$100,$C$7),\"\",INDEX(Main!B$8:B$100,SMALL(IF(N(Main!B$8:B$100)<>0,IF(Main!$C$8:$C$100=$C$7,ROW(B$8:B$100)-ROW(B$8)+1)),ROWS($A$1:A103))))","v":""},{"$f":"IF(ROWS($A$1:B103)>COUNTIF(Main!$C$8:$C$100,$C$7),\"\",INDEX(Main!C$8:C$100,SMALL(IF(N(Main!C$8:C$100)<>0,IF(Main!$C$8:$C$100=$C$7,ROW(C$8:C$100)-ROW(C$8)+1)),ROWS($A$1:B103))))","v":""},{"$f":"IF(ROWS($A$1:C103)>COUNTIF(Main!$C$8:$C$100,$C$7),\"\",INDEX(Main!D$8:D$100,SMALL(IF(Main!D$8:D$100<>\"\",IF(Main!$C$8:$C$100=$C$7,ROW(D$8:D$100)-ROW(D$8)+1)),ROWS($A$1:C103))))","v":""},{"$f":"IF(ROWS($A$1:D103)>COUNTIF(Main!$C$8:$C$100,$C$7),\"\",INDEX(Main!E$8:E$100,SMALL(IF(N(Main!E$8:E$100)<>0,IF(Main!$C$8:$C$100=$C$7,ROW(E$8:E$100)-ROW(E$8)+1)),ROWS($A$1:D103))))","v":""},{"$f":"IF(ROWS($A$1:E103)>COUNTIF(Main!$C$8:$C$100,$C$7),\"\",INDEX(Main!F$8:F$100,SMALL(IF(Main!F$8:F$100<>\"\",IF(Main!$C$8:$C$100=$C$7,ROW(F$8:F$100)-ROW(F$8)+1)),ROWS($A$1:E103))))","v":""},{"$f":"IF(ROWS($A$1:F103)>COUNTIF(Main!$C$8:$C$100,$C$7),\"\",INDEX(Main!G$8:G$100,SMALL(IF(Main!G$8:G$100<>\"\",IF(Main!$C$8:$C$100=$C$7,ROW(G$8:G$100)-ROW(G$8)+1)),ROWS($A$1:F103))))","v":""},{"$f":"IF(ROWS($A$1:G103)>COUNTIF(Main!$C$8:$C$100,$C$7),\"\",INDEX(Main!H$8:H$100,SMALL(IF(N(Main!H$8:H$100)<>0,IF(Main!$C$8:$C$100=$C$7,ROW(H$8:H$100)-ROW(H$8)+1)),ROWS($A$1:G103))))","v":""},{"$f":"IF(ROWS($A$1:H103)>COUNTIF(Main!$C$8:$C$100,$C$7),\"\",INDEX(Main!I$8:I$100,SMALL(IF(N(Main!I$8:I$100)<>0,IF(Main!$C$8:$C$100=$C$7,ROW(I$8:I$100)-ROW(I$8)+1)),ROWS($A$1:H103))))","v":""},{"$f":"IF(ROWS($A$1:I103)>COUNTIF(Main!$C$8:$C$100,$C$7),\"\",INDEX(Main!J$8:J$100,SMALL(IF(N(Main!J$8:J$100)<>0,IF(Main!$C$8:$C$100=$C$7,ROW(J$8:J$100)-ROW(J$8)+1)),ROWS($A$1:I103))))","v":""},{"$f":"IF(ROWS($A$1:J103)>COUNTIF(Main!$C$8:$C$100,$C$7),\"\",INDEX(Main!K$8:K$100,SMALL(IF(N(Main!K$8:K$100)<>0,IF(Main!$C$8:$C$100=$C$7,ROW(K$8:K$100)-ROW(K$8)+1)),ROWS($A$1:J103))))","v":""},{"$f":"IF(ROWS($A$1:K103)>COUNTIF(Main!$C$8:$C$100,$C$7),\"\",INDEX(Main!L$8:L$100,SMALL(IF(N(Main!L$8:L$100)<>0,IF(Main!$C$8:$C$100=$C$7,ROW(L$8:L$100)-ROW(L$8)+1)),ROWS($A$1:K103))))","v":""}]
[{"$f":"IF(B111=\"\",\"\",MAX($A$7:A110)+1)","v":""},{"$f":"IF(ROWS($A$1:A104)>COUNTIF(Main!$C$8:$C$100,$C$7),\"\",INDEX(Main!B$8:B$100,SMALL(IF(N(Main!B$8:B$100)<>0,IF(Main!$C$8:$C$100=$C$7,ROW(B$8:B$100)-ROW(B$8)+1)),ROWS($A$1:A104))))","v":""},{"$f":"IF(ROWS($A$1:B104)>COUNTIF(Main!$C$8:$C$100,$C$7),\"\",INDEX(Main!C$8:C$100,SMALL(IF(N(Main!C$8:C$100)<>0,IF(Main!$C$8:$C$100=$C$7,ROW(C$8:C$100)-ROW(C$8)+1)),ROWS($A$1:B104))))","v":""},{"$f":"IF(ROWS($A$1:C104)>COUNTIF(Main!$C$8:$C$100,$C$7),\"\",INDEX(Main!D$8:D$100,SMALL(IF(Main!D$8:D$100<>\"\",IF(Main!$C$8:$C$100=$C$7,ROW(D$8:D$100)-ROW(D$8)+1)),ROWS($A$1:C104))))","v":""},{"$f":"IF(ROWS($A$1:D104)>COUNTIF(Main!$C$8:$C$100,$C$7),\"\",INDEX(Main!E$8:E$100,SMALL(IF(N(Main!E$8:E$100)<>0,IF(Main!$C$8:$C$100=$C$7,ROW(E$8:E$100)-ROW(E$8)+1)),ROWS($A$1:D104))))","v":""},{"$f":"IF(ROWS($A$1:E104)>COUNTIF(Main!$C$8:$C$100,$C$7),\"\",INDEX(Main!F$8:F$100,SMALL(IF(Main!F$8:F$100<>\"\",IF(Main!$C$8:$C$100=$C$7,ROW(F$8:F$100)-ROW(F$8)+1)),ROWS($A$1:E104))))","v":""},{"$f":"IF(ROWS($A$1:F104)>COUNTIF(Main!$C$8:$C$100,$C$7),\"\",INDEX(Main!G$8:G$100,SMALL(IF(Main!G$8:G$100<>\"\",IF(Main!$C$8:$C$100=$C$7,ROW(G$8:G$100)-ROW(G$8)+1)),ROWS($A$1:F104))))","v":""},{"$f":"IF(ROWS($A$1:G104)>COUNTIF(Main!$C$8:$C$100,$C$7),\"\",INDEX(Main!H$8:H$100,SMALL(IF(N(Main!H$8:H$100)<>0,IF(Main!$C$8:$C$100=$C$7,ROW(H$8:H$100)-ROW(H$8)+1)),ROWS($A$1:G104))))","v":""},{"$f":"IF(ROWS($A$1:H104)>COUNTIF(Main!$C$8:$C$100,$C$7),\"\",INDEX(Main!I$8:I$100,SMALL(IF(N(Main!I$8:I$100)<>0,IF(Main!$C$8:$C$100=$C$7,ROW(I$8:I$100)-ROW(I$8)+1)),ROWS($A$1:H104))))","v":""},{"$f":"IF(ROWS($A$1:I104)>COUNTIF(Main!$C$8:$C$100,$C$7),\"\",INDEX(Main!J$8:J$100,SMALL(IF(N(Main!J$8:J$100)<>0,IF(Main!$C$8:$C$100=$C$7,ROW(J$8:J$100)-ROW(J$8)+1)),ROWS($A$1:I104))))","v":""},{"$f":"IF(ROWS($A$1:J104)>COUNTIF(Main!$C$8:$C$100,$C$7),\"\",INDEX(Main!K$8:K$100,SMALL(IF(N(Main!K$8:K$100)<>0,IF(Main!$C$8:$C$100=$C$7,ROW(K$8:K$100)-ROW(K$8)+1)),ROWS($A$1:J104))))","v":""},{"$f":"IF(ROWS($A$1:K104)>COUNTIF(Main!$C$8:$C$100,$C$7),\"\",INDEX(Main!L$8:L$100,SMALL(IF(N(Main!L$8:L$100)<>0,IF(Main!$C$8:$C$100=$C$7,ROW(L$8:L$100)-ROW(L$8)+1)),ROWS($A$1:K104))))","v":""}]
[{"$f":"IF(B112=\"\",\"\",MAX($A$7:A111)+1)","v":""},{"$f":"IF(ROWS($A$1:A105)>COUNTIF(Main!$C$8:$C$100,$C$7),\"\",INDEX(Main!B$8:B$100,SMALL(IF(N(Main!B$8:B$100)<>0,IF(Main!$C$8:$C$100=$C$7,ROW(B$8:B$100)-ROW(B$8)+1)),ROWS($A$1:A105))))","v":""},{"$f":"IF(ROWS($A$1:B105)>COUNTIF(Main!$C$8:$C$100,$C$7),\"\",INDEX(Main!C$8:C$100,SMALL(IF(N(Main!C$8:C$100)<>0,IF(Main!$C$8:$C$100=$C$7,ROW(C$8:C$100)-ROW(C$8)+1)),ROWS($A$1:B105))))","v":""},{"$f":"IF(ROWS($A$1:C105)>COUNTIF(Main!$C$8:$C$100,$C$7),\"\",INDEX(Main!D$8:D$100,SMALL(IF(Main!D$8:D$100<>\"\",IF(Main!$C$8:$C$100=$C$7,ROW(D$8:D$100)-ROW(D$8)+1)),ROWS($A$1:C105))))","v":""},{"$f":"IF(ROWS($A$1:D105)>COUNTIF(Main!$C$8:$C$100,$C$7),\"\",INDEX(Main!E$8:E$100,SMALL(IF(N(Main!E$8:E$100)<>0,IF(Main!$C$8:$C$100=$C$7,ROW(E$8:E$100)-ROW(E$8)+1)),ROWS($A$1:D105))))","v":""},{"$f":"IF(ROWS($A$1:E105)>COUNTIF(Main!$C$8:$C$100,$C$7),\"\",INDEX(Main!F$8:F$100,SMALL(IF(Main!F$8:F$100<>\"\",IF(Main!$C$8:$C$100=$C$7,ROW(F$8:F$100)-ROW(F$8)+1)),ROWS($A$1:E105))))","v":""},{"$f":"IF(ROWS($A$1:F105)>COUNTIF(Main!$C$8:$C$100,$C$7),\"\",INDEX(Main!G$8:G$100,SMALL(IF(Main!G$8:G$100<>\"\",IF(Main!$C$8:$C$100=$C$7,ROW(G$8:G$100)-ROW(G$8)+1)),ROWS($A$1:F105))))","v":""},{"$f":"IF(ROWS($A$1:G105)>COUNTIF(Main!$C$8:$C$100,$C$7),\"\",INDEX(Main!H$8:H$100,SMALL(IF(N(Main!H$8:H$100)<>0,IF(Main!$C$8:$C$100=$C$7,ROW(H$8:H$100)-ROW(H$8)+1)),ROWS($A$1:G105))))","v":""},{"$f":"IF(ROWS($A$1:H105)>COUNTIF(Main!$C$8:$C$100,$C$7),\"\",INDEX(Main!I$8:I$100,SMALL(IF(N(Main!I$8:I$100)<>0,IF(Main!$C$8:$C$100=$C$7,ROW(I$8:I$100)-ROW(I$8)+1)),ROWS($A$1:H105))))","v":""},{"$f":"IF(ROWS($A$1:I105)>COUNTIF(Main!$C$8:$C$100,$C$7),\"\",INDEX(Main!J$8:J$100,SMALL(IF(N(Main!J$8:J$100)<>0,IF(Main!$C$8:$C$100=$C$7,ROW(J$8:J$100)-ROW(J$8)+1)),ROWS($A$1:I105))))","v":""},{"$f":"IF(ROWS($A$1:J105)>COUNTIF(Main!$C$8:$C$100,$C$7),\"\",INDEX(Main!K$8:K$100,SMALL(IF(N(Main!K$8:K$100)<>0,IF(Main!$C$8:$C$100=$C$7,ROW(K$8:K$100)-ROW(K$8)+1)),ROWS($A$1:J105))))","v":""},{"$f":"IF(ROWS($A$1:K105)>COUNTIF(Main!$C$8:$C$100,$C$7),\"\",INDEX(Main!L$8:L$100,SMALL(IF(N(Main!L$8:L$100)<>0,IF(Main!$C$8:$C$100=$C$7,ROW(L$8:L$100)-ROW(L$8)+1)),ROWS($A$1:K105))))","v":""}]
[{"$f":"IF(B113=\"\",\"\",MAX($A$7:A112)+1)","v":""},{"$f":"IF(ROWS($A$1:A106)>COUNTIF(Main!$C$8:$C$100,$C$7),\"\",INDEX(Main!B$8:B$100,SMALL(IF(N(Main!B$8:B$100)<>0,IF(Main!$C$8:$C$100=$C$7,ROW(B$8:B$100)-ROW(B$8)+1)),ROWS($A$1:A106))))","v":""},{"$f":"IF(ROWS($A$1:B106)>COUNTIF(Main!$C$8:$C$100,$C$7),\"\",INDEX(Main!C$8:C$100,SMALL(IF(N(Main!C$8:C$100)<>0,IF(Main!$C$8:$C$100=$C$7,ROW(C$8:C$100)-ROW(C$8)+1)),ROWS($A$1:B106))))","v":""},{"$f":"IF(ROWS($A$1:C106)>COUNTIF(Main!$C$8:$C$100,$C$7),\"\",INDEX(Main!D$8:D$100,SMALL(IF(Main!D$8:D$100<>\"\",IF(Main!$C$8:$C$100=$C$7,ROW(D$8:D$100)-ROW(D$8)+1)),ROWS($A$1:C106))))","v":""},{"$f":"IF(ROWS($A$1:D106)>COUNTIF(Main!$C$8:$C$100,$C$7),\"\",INDEX(Main!E$8:E$100,SMALL(IF(N(Main!E$8:E$100)<>0,IF(Main!$C$8:$C$100=$C$7,ROW(E$8:E$100)-ROW(E$8)+1)),ROWS($A$1:D106))))","v":""},{"$f":"IF(ROWS($A$1:E106)>COUNTIF(Main!$C$8:$C$100,$C$7),\"\",INDEX(Main!F$8:F$100,SMALL(IF(Main!F$8:F$100<>\"\",IF(Main!$C$8:$C$100=$C$7,ROW(F$8:F$100)-ROW(F$8)+1)),ROWS($A$1:E106))))","v":""},{"$f":"IF(ROWS($A$1:F106)>COUNTIF(Main!$C$8:$C$100,$C$7),\"\",INDEX(Main!G$8:G$100,SMALL(IF(Main!G$8:G$100<>\"\",IF(Main!$C$8:$C$100=$C$7,ROW(G$8:G$100)-ROW(G$8)+1)),ROWS($A$1:F106))))","v":""},{"$f":"IF(ROWS($A$1:G106)>COUNTIF(Main!$C$8:$C$100,$C$7),\"\",INDEX(Main!H$8:H$100,SMALL(IF(N(Main!H$8:H$100)<>0,IF(Main!$C$8:$C$100=$C$7,ROW(H$8:H$100)-ROW(H$8)+1)),ROWS($A$1:G106))))","v":""},{"$f":"IF(ROWS($A$1:H106)>COUNTIF(Main!$C$8:$C$100,$C$7),\"\",INDEX(Main!I$8:I$100,SMALL(IF(N(Main!I$8:I$100)<>0,IF(Main!$C$8:$C$100=$C$7,ROW(I$8:I$100)-ROW(I$8)+1)),ROWS($A$1:H106))))","v":""},{"$f":"IF(ROWS($A$1:I106)>COUNTIF(Main!$C$8:$C$100,$C$7),\"\",INDEX(Main!J$8:J$100,SMALL(IF(N(Main!J$8:J$100)<>0,IF(Main!$C$8:$C$100=$C$7,ROW(J$8:J$100)-ROW(J$8)+1)),ROWS($A$1:I106))))","v":""},{"$f":"IF(ROWS($A$1:J106)>COUNTIF(Main!$C$8:$C$100,$C$7),\"\",INDEX(Main!K$8:K$100,SMALL(IF(N(Main!K$8:K$100)<>0,IF(Main!$C$8:$C$100=$C$7,ROW(K$8:K$100)-ROW(K$8)+1)),ROWS($A$1:J106))))","v":""},{"$f":"IF(ROWS($A$1:K106)>COUNTIF(Main!$C$8:$C$100,$C$7),\"\",INDEX(Main!L$8:L$100,SMALL(IF(N(Main!L$8:L$100)<>0,IF(Main!$C$8:$C$100=$C$7,ROW(L$8:L$100)-ROW(L$8)+1)),ROWS($A$1:K106))))","v":""}]
[{"$f":"IF(B114=\"\",\"\",MAX($A$7:A113)+1)","v":""},{"$f":"IF(ROWS($A$1:A107)>COUNTIF(Main!$C$8:$C$100,$C$7),\"\",INDEX(Main!B$8:B$100,SMALL(IF(N(Main!B$8:B$100)<>0,IF(Main!$C$8:$C$100=$C$7,ROW(B$8:B$100)-ROW(B$8)+1)),ROWS($A$1:A107))))","v":""},{"$f":"IF(ROWS($A$1:B107)>COUNTIF(Main!$C$8:$C$100,$C$7),\"\",INDEX(Main!C$8:C$100,SMALL(IF(N(Main!C$8:C$100)<>0,IF(Main!$C$8:$C$100=$C$7,ROW(C$8:C$100)-ROW(C$8)+1)),ROWS($A$1:B107))))","v":""},{"$f":"IF(ROWS($A$1:C107)>COUNTIF(Main!$C$8:$C$100,$C$7),\"\",INDEX(Main!D$8:D$100,SMALL(IF(Main!D$8:D$100<>\"\",IF(Main!$C$8:$C$100=$C$7,ROW(D$8:D$100)-ROW(D$8)+1)),ROWS($A$1:C107))))","v":""},{"$f":"IF(ROWS($A$1:D107)>COUNTIF(Main!$C$8:$C$100,$C$7),\"\",INDEX(Main!E$8:E$100,SMALL(IF(N(Main!E$8:E$100)<>0,IF(Main!$C$8:$C$100=$C$7,ROW(E$8:E$100)-ROW(E$8)+1)),ROWS($A$1:D107))))","v":""},{"$f":"IF(ROWS($A$1:E107)>COUNTIF(Main!$C$8:$C$100,$C$7),\"\",INDEX(Main!F$8:F$100,SMALL(IF(Main!F$8:F$100<>\"\",IF(Main!$C$8:$C$100=$C$7,ROW(F$8:F$100)-ROW(F$8)+1)),ROWS($A$1:E107))))","v":""},{"$f":"IF(ROWS($A$1:F107)>COUNTIF(Main!$C$8:$C$100,$C$7),\"\",INDEX(Main!G$8:G$100,SMALL(IF(Main!G$8:G$100<>\"\",IF(Main!$C$8:$C$100=$C$7,ROW(G$8:G$100)-ROW(G$8)+1)),ROWS($A$1:F107))))","v":""},{"$f":"IF(ROWS($A$1:G107)>COUNTIF(Main!$C$8:$C$100,$C$7),\"\",INDEX(Main!H$8:H$100,SMALL(IF(N(Main!H$8:H$100)<>0,IF(Main!$C$8:$C$100=$C$7,ROW(H$8:H$100)-ROW(H$8)+1)),ROWS($A$1:G107))))","v":""},{"$f":"IF(ROWS($A$1:H107)>COUNTIF(Main!$C$8:$C$100,$C$7),\"\",INDEX(Main!I$8:I$100,SMALL(IF(N(Main!I$8:I$100)<>0,IF(Main!$C$8:$C$100=$C$7,ROW(I$8:I$100)-ROW(I$8)+1)),ROWS($A$1:H107))))","v":""},{"$f":"IF(ROWS($A$1:I107)>COUNTIF(Main!$C$8:$C$100,$C$7),\"\",INDEX(Main!J$8:J$100,SMALL(IF(N(Main!J$8:J$100)<>0,IF(Main!$C$8:$C$100=$C$7,ROW(J$8:J$100)-ROW(J$8)+1)),ROWS($A$1:I107))))","v":""},{"$f":"IF(ROWS($A$1:J107)>COUNTIF(Main!$C$8:$C$100,$C$7),\"\",INDEX(Main!K$8:K$100,SMALL(IF(N(Main!K$8:K$100)<>0,IF(Main!$C$8:$C$100=$C$7,ROW(K$8:K$100)-ROW(K$8)+1)),ROWS($A$1:J107))))","v":""},{"$f":"IF(ROWS($A$1:K107)>COUNTIF(Main!$C$8:$C$100,$C$7),\"\",INDEX(Main!L$8:L$100,SMALL(IF(N(Main!L$8:L$100)<>0,IF(Main!$C$8:$C$100=$C$7,ROW(L$8:L$100)-ROW(L$8)+1)),ROWS($A$1:K107))))","v":""}]
[{"$f":"IF(B115=\"\",\"\",MAX($A$7:A114)+1)","v":""},{"$f":"IF(ROWS($A$1:A108)>COUNTIF(Main!$C$8:$C$100,$C$7),\"\",INDEX(Main!B$8:B$100,SMALL(IF(N(Main!B$8:B$100)<>0,IF(Main!$C$8:$C$100=$C$7,ROW(B$8:B$100)-ROW(B$8)+1)),ROWS($A$1:A108))))","v":""},{"$f":"IF(ROWS($A$1:B108)>COUNTIF(Main!$C$8:$C$100,$C$7),\"\",INDEX(Main!C$8:C$100,SMALL(IF(N(Main!C$8:C$100)<>0,IF(Main!$C$8:$C$100=$C$7,ROW(C$8:C$100)-ROW(C$8)+1)),ROWS($A$1:B108))))","v":""},{"$f":"IF(ROWS($A$1:C108)>COUNTIF(Main!$C$8:$C$100,$C$7),\"\",INDEX(Main!D$8:D$100,SMALL(IF(Main!D$8:D$100<>\"\",IF(Main!$C$8:$C$100=$C$7,ROW(D$8:D$100)-ROW(D$8)+1)),ROWS($A$1:C108))))","v":""},{"$f":"IF(ROWS($A$1:D108)>COUNTIF(Main!$C$8:$C$100,$C$7),\"\",INDEX(Main!E$8:E$100,SMALL(IF(N(Main!E$8:E$100)<>0,IF(Main!$C$8:$C$100=$C$7,ROW(E$8:E$100)-ROW(E$8)+1)),ROWS($A$1:D108))))","v":""},{"$f":"IF(ROWS($A$1:E108)>COUNTIF(Main!$C$8:$C$100,$C$7),\"\",INDEX(Main!F$8:F$100,SMALL(IF(Main!F$8:F$100<>\"\",IF(Main!$C$8:$C$100=$C$7,ROW(F$8:F$100)-ROW(F$8)+1)),ROWS($A$1:E108))))","v":""},{"$f":"IF(ROWS($A$1:F108)>COUNTIF(Main!$C$8:$C$100,$C$7),\"\",INDEX(Main!G$8:G$100,SMALL(IF(Main!G$8:G$100<>\"\",IF(Main!$C$8:$C$100=$C$7,ROW(G$8:G$100)-ROW(G$8)+1)),ROWS($A$1:F108))))","v":""},{"$f":"IF(ROWS($A$1:G108)>COUNTIF(Main!$C$8:$C$100,$C$7),\"\",INDEX(Main!H$8:H$100,SMALL(IF(N(Main!H$8:H$100)<>0,IF(Main!$C$8:$C$100=$C$7,ROW(H$8:H$100)-ROW(H$8)+1)),ROWS($A$1:G108))))","v":""},{"$f":"IF(ROWS($A$1:H108)>COUNTIF(Main!$C$8:$C$100,$C$7),\"\",INDEX(Main!I$8:I$100,SMALL(IF(N(Main!I$8:I$100)<>0,IF(Main!$C$8:$C$100=$C$7,ROW(I$8:I$100)-ROW(I$8)+1)),ROWS($A$1:H108))))","v":""},{"$f":"IF(ROWS($A$1:I108)>COUNTIF(Main!$C$8:$C$100,$C$7),\"\",INDEX(Main!J$8:J$100,SMALL(IF(N(Main!J$8:J$100)<>0,IF(Main!$C$8:$C$100=$C$7,ROW(J$8:J$100)-ROW(J$8)+1)),ROWS($A$1:I108))))","v":""},{"$f":"IF(ROWS($A$1:J108)>COUNTIF(Main!$C$8:$C$100,$C$7),\"\",INDEX(Main!K$8:K$100,SMALL(IF(N(Main!K$8:K$100)<>0,IF(Main!$C$8:$C$100=$C$7,ROW(K$8:K$100)-ROW(K$8)+1)),ROWS($A$1:J108))))","v":""},{"$f":"IF(ROWS($A$1:K108)>COUNTIF(Main!$C$8:$C$100,$C$7),\"\",INDEX(Main!L$8:L$100,SMALL(IF(N(Main!L$8:L$100)<>0,IF(Main!$C$8:$C$100=$C$7,ROW(L$8:L$100)-ROW(L$8)+1)),ROWS($A$1:K108))))","v":""}]
[{"$f":"IF(B116=\"\",\"\",MAX($A$7:A115)+1)","v":""},{"$f":"IF(ROWS($A$1:A109)>COUNTIF(Main!$C$8:$C$100,$C$7),\"\",INDEX(Main!B$8:B$100,SMALL(IF(N(Main!B$8:B$100)<>0,IF(Main!$C$8:$C$100=$C$7,ROW(B$8:B$100)-ROW(B$8)+1)),ROWS($A$1:A109))))","v":""},{"$f":"IF(ROWS($A$1:B109)>COUNTIF(Main!$C$8:$C$100,$C$7),\"\",INDEX(Main!C$8:C$100,SMALL(IF(N(Main!C$8:C$100)<>0,IF(Main!$C$8:$C$100=$C$7,ROW(C$8:C$100)-ROW(C$8)+1)),ROWS($A$1:B109))))","v":""},{"$f":"IF(ROWS($A$1:C109)>COUNTIF(Main!$C$8:$C$100,$C$7),\"\",INDEX(Main!D$8:D$100,SMALL(IF(Main!D$8:D$100<>\"\",IF(Main!$C$8:$C$100=$C$7,ROW(D$8:D$100)-ROW(D$8)+1)),ROWS($A$1:C109))))","v":""},{"$f":"IF(ROWS($A$1:D109)>COUNTIF(Main!$C$8:$C$100,$C$7),\"\",INDEX(Main!E$8:E$100,SMALL(IF(N(Main!E$8:E$100)<>0,IF(Main!$C$8:$C$100=$C$7,ROW(E$8:E$100)-ROW(E$8)+1)),ROWS($A$1:D109))))","v":""},{"$f":"IF(ROWS($A$1:E109)>COUNTIF(Main!$C$8:$C$100,$C$7),\"\",INDEX(Main!F$8:F$100,SMALL(IF(Main!F$8:F$100<>\"\",IF(Main!$C$8:$C$100=$C$7,ROW(F$8:F$100)-ROW(F$8)+1)),ROWS($A$1:E109))))","v":""},{"$f":"IF(ROWS($A$1:F109)>COUNTIF(Main!$C$8:$C$100,$C$7),\"\",INDEX(Main!G$8:G$100,SMALL(IF(Main!G$8:G$100<>\"\",IF(Main!$C$8:$C$100=$C$7,ROW(G$8:G$100)-ROW(G$8)+1)),ROWS($A$1:F109))))","v":""},{"$f":"IF(ROWS($A$1:G109)>COUNTIF(Main!$C$8:$C$100,$C$7),\"\",INDEX(Main!H$8:H$100,SMALL(IF(N(Main!H$8:H$100)<>0,IF(Main!$C$8:$C$100=$C$7,ROW(H$8:H$100)-ROW(H$8)+1)),ROWS($A$1:G109))))","v":""},{"$f":"IF(ROWS($A$1:H109)>COUNTIF(Main!$C$8:$C$100,$C$7),\"\",INDEX(Main!I$8:I$100,SMALL(IF(N(Main!I$8:I$100)<>0,IF(Main!$C$8:$C$100=$C$7,ROW(I$8:I$100)-ROW(I$8)+1)),ROWS($A$1:H109))))","v":""},{"$f":"IF(ROWS($A$1:I109)>COUNTIF(Main!$C$8:$C$100,$C$7),\"\",INDEX(Main!J$8:J$100,SMALL(IF(N(Main!J$8:J$100)<>0,IF(Main!$C$8:$C$100=$C$7,ROW(J$8:J$100)-ROW(J$8)+1)),ROWS($A$1:I109))))","v":""},{"$f":"IF(ROWS($A$1:J109)>COUNTIF(Main!$C$8:$C$100,$C$7),\"\",INDEX(Main!K$8:K$100,SMALL(IF(N(Main!K$8:K$100)<>0,IF(Main!$C$8:$C$100=$C$7,ROW(K$8:K$100)-ROW(K$8)+1)),ROWS($A$1:J109))))","v":""},{"$f":"IF(ROWS($A$1:K109)>COUNTIF(Main!$C$8:$C$100,$C$7),\"\",INDEX(Main!L$8:L$100,SMALL(IF(N(Main!L$8:L$100)<>0,IF(Main!$C$8:$C$100=$C$7,ROW(L$8:L$100)-ROW(L$8)+1)),ROWS($A$1:K109))))","v":""}]
[{"$f":"IF(B117=\"\",\"\",MAX($A$7:A116)+1)","v":""},{"$f":"IF(ROWS($A$1:A110)>COUNTIF(Main!$C$8:$C$100,$C$7),\"\",INDEX(Main!B$8:B$100,SMALL(IF(N(Main!B$8:B$100)<>0,IF(Main!$C$8:$C$100=$C$7,ROW(B$8:B$100)-ROW(B$8)+1)),ROWS($A$1:A110))))","v":""},{"$f":"IF(ROWS($A$1:B110)>COUNTIF(Main!$C$8:$C$100,$C$7),\"\",INDEX(Main!C$8:C$100,SMALL(IF(N(Main!C$8:C$100)<>0,IF(Main!$C$8:$C$100=$C$7,ROW(C$8:C$100)-ROW(C$8)+1)),ROWS($A$1:B110))))","v":""},{"$f":"IF(ROWS($A$1:C110)>COUNTIF(Main!$C$8:$C$100,$C$7),\"\",INDEX(Main!D$8:D$100,SMALL(IF(Main!D$8:D$100<>\"\",IF(Main!$C$8:$C$100=$C$7,ROW(D$8:D$100)-ROW(D$8)+1)),ROWS($A$1:C110))))","v":""},{"$f":"IF(ROWS($A$1:D110)>COUNTIF(Main!$C$8:$C$100,$C$7),\"\",INDEX(Main!E$8:E$100,SMALL(IF(N(Main!E$8:E$100)<>0,IF(Main!$C$8:$C$100=$C$7,ROW(E$8:E$100)-ROW(E$8)+1)),ROWS($A$1:D110))))","v":""},{"$f":"IF(ROWS($A$1:E110)>COUNTIF(Main!$C$8:$C$100,$C$7),\"\",INDEX(Main!F$8:F$100,SMALL(IF(Main!F$8:F$100<>\"\",IF(Main!$C$8:$C$100=$C$7,ROW(F$8:F$100)-ROW(F$8)+1)),ROWS($A$1:E110))))","v":""},{"$f":"IF(ROWS($A$1:F110)>COUNTIF(Main!$C$8:$C$100,$C$7),\"\",INDEX(Main!G$8:G$100,SMALL(IF(Main!G$8:G$100<>\"\",IF(Main!$C$8:$C$100=$C$7,ROW(G$8:G$100)-ROW(G$8)+1)),ROWS($A$1:F110))))","v":""},{"$f":"IF(ROWS($A$1:G110)>COUNTIF(Main!$C$8:$C$100,$C$7),\"\",INDEX(Main!H$8:H$100,SMALL(IF(N(Main!H$8:H$100)<>0,IF(Main!$C$8:$C$100=$C$7,ROW(H$8:H$100)-ROW(H$8)+1)),ROWS($A$1:G110))))","v":""},{"$f":"IF(ROWS($A$1:H110)>COUNTIF(Main!$C$8:$C$100,$C$7),\"\",INDEX(Main!I$8:I$100,SMALL(IF(N(Main!I$8:I$100)<>0,IF(Main!$C$8:$C$100=$C$7,ROW(I$8:I$100)-ROW(I$8)+1)),ROWS($A$1:H110))))","v":""},{"$f":"IF(ROWS($A$1:I110)>COUNTIF(Main!$C$8:$C$100,$C$7),\"\",INDEX(Main!J$8:J$100,SMALL(IF(N(Main!J$8:J$100)<>0,IF(Main!$C$8:$C$100=$C$7,ROW(J$8:J$100)-ROW(J$8)+1)),ROWS($A$1:I110))))","v":""},{"$f":"IF(ROWS($A$1:J110)>COUNTIF(Main!$C$8:$C$100,$C$7),\"\",INDEX(Main!K$8:K$100,SMALL(IF(N(Main!K$8:K$100)<>0,IF(Main!$C$8:$C$100=$C$7,ROW(K$8:K$100)-ROW(K$8)+1)),ROWS($A$1:J110))))","v":""},{"$f":"IF(ROWS($A$1:K110)>COUNTIF(Main!$C$8:$C$100,$C$7),\"\",INDEX(Main!L$8:L$100,SMALL(IF(N(Main!L$8:L$100)<>0,IF(Main!$C$8:$C$100=$C$7,ROW(L$8:L$100)-ROW(L$8)+1)),ROWS($A$1:K110))))","v":""}]
[{"$f":"IF(B118=\"\",\"\",MAX($A$7:A117)+1)","v":""},{"$f":"IF(ROWS($A$1:A111)>COUNTIF(Main!$C$8:$C$100,$C$7),\"\",INDEX(Main!B$8:B$100,SMALL(IF(N(Main!B$8:B$100)<>0,IF(Main!$C$8:$C$100=$C$7,ROW(B$8:B$100)-ROW(B$8)+1)),ROWS($A$1:A111))))","v":""},{"$f":"IF(ROWS($A$1:B111)>COUNTIF(Main!$C$8:$C$100,$C$7),\"\",INDEX(Main!C$8:C$100,SMALL(IF(N(Main!C$8:C$100)<>0,IF(Main!$C$8:$C$100=$C$7,ROW(C$8:C$100)-ROW(C$8)+1)),ROWS($A$1:B111))))","v":""},{"$f":"IF(ROWS($A$1:C111)>COUNTIF(Main!$C$8:$C$100,$C$7),\"\",INDEX(Main!D$8:D$100,SMALL(IF(Main!D$8:D$100<>\"\",IF(Main!$C$8:$C$100=$C$7,ROW(D$8:D$100)-ROW(D$8)+1)),ROWS($A$1:C111))))","v":""},{"$f":"IF(ROWS($A$1:D111)>COUNTIF(Main!$C$8:$C$100,$C$7),\"\",INDEX(Main!E$8:E$100,SMALL(IF(N(Main!E$8:E$100)<>0,IF(Main!$C$8:$C$100=$C$7,ROW(E$8:E$100)-ROW(E$8)+1)),ROWS($A$1:D111))))","v":""},{"$f":"IF(ROWS($A$1:E111)>COUNTIF(Main!$C$8:$C$100,$C$7),\"\",INDEX(Main!F$8:F$100,SMALL(IF(Main!F$8:F$100<>\"\",IF(Main!$C$8:$C$100=$C$7,ROW(F$8:F$100)-ROW(F$8)+1)),ROWS($A$1:E111))))","v":""},{"$f":"IF(ROWS($A$1:F111)>COUNTIF(Main!$C$8:$C$100,$C$7),\"\",INDEX(Main!G$8:G$100,SMALL(IF(Main!G$8:G$100<>\"\",IF(Main!$C$8:$C$100=$C$7,ROW(G$8:G$100)-ROW(G$8)+1)),ROWS($A$1:F111))))","v":""},{"$f":"IF(ROWS($A$1:G111)>COUNTIF(Main!$C$8:$C$100,$C$7),\"\",INDEX(Main!H$8:H$100,SMALL(IF(N(Main!H$8:H$100)<>0,IF(Main!$C$8:$C$100=$C$7,ROW(H$8:H$100)-ROW(H$8)+1)),ROWS($A$1:G111))))","v":""},{"$f":"IF(ROWS($A$1:H111)>COUNTIF(Main!$C$8:$C$100,$C$7),\"\",INDEX(Main!I$8:I$100,SMALL(IF(N(Main!I$8:I$100)<>0,IF(Main!$C$8:$C$100=$C$7,ROW(I$8:I$100)-ROW(I$8)+1)),ROWS($A$1:H111))))","v":""},{"$f":"IF(ROWS($A$1:I111)>COUNTIF(Main!$C$8:$C$100,$C$7),\"\",INDEX(Main!J$8:J$100,SMALL(IF(N(Main!J$8:J$100)<>0,IF(Main!$C$8:$C$100=$C$7,ROW(J$8:J$100)-ROW(J$8)+1)),ROWS($A$1:I111))))","v":""},{"$f":"IF(ROWS($A$1:J111)>COUNTIF(Main!$C$8:$C$100,$C$7),\"\",INDEX(Main!K$8:K$100,SMALL(IF(N(Main!K$8:K$100)<>0,IF(Main!$C$8:$C$100=$C$7,ROW(K$8:K$100)-ROW(K$8)+1)),ROWS($A$1:J111))))","v":""},{"$f":"IF(ROWS($A$1:K111)>COUNTIF(Main!$C$8:$C$100,$C$7),\"\",INDEX(Main!L$8:L$100,SMALL(IF(N(Main!L$8:L$100)<>0,IF(Main!$C$8:$C$100=$C$7,ROW(L$8:L$100)-ROW(L$8)+1)),ROWS($A$1:K111))))","v":""}]
[{"$f":"IF(B119=\"\",\"\",MAX($A$7:A118)+1)","v":""},{"$f":"IF(ROWS($A$1:A112)>COUNTIF(Main!$C$8:$C$100,$C$7),\"\",INDEX(Main!B$8:B$100,SMALL(IF(N(Main!B$8:B$100)<>0,IF(Main!$C$8:$C$100=$C$7,ROW(B$8:B$100)-ROW(B$8)+1)),ROWS($A$1:A112))))","v":""},{"$f":"IF(ROWS($A$1:B112)>COUNTIF(Main!$C$8:$C$100,$C$7),\"\",INDEX(Main!C$8:C$100,SMALL(IF(N(Main!C$8:C$100)<>0,IF(Main!$C$8:$C$100=$C$7,ROW(C$8:C$100)-ROW(C$8)+1)),ROWS($A$1:B112))))","v":""},{"$f":"IF(ROWS($A$1:C112)>COUNTIF(Main!$C$8:$C$100,$C$7),\"\",INDEX(Main!D$8:D$100,SMALL(IF(Main!D$8:D$100<>\"\",IF(Main!$C$8:$C$100=$C$7,ROW(D$8:D$100)-ROW(D$8)+1)),ROWS($A$1:C112))))","v":""},{"$f":"IF(ROWS($A$1:D112)>COUNTIF(Main!$C$8:$C$100,$C$7),\"\",INDEX(Main!E$8:E$100,SMALL(IF(N(Main!E$8:E$100)<>0,IF(Main!$C$8:$C$100=$C$7,ROW(E$8:E$100)-ROW(E$8)+1)),ROWS($A$1:D112))))","v":""},{"$f":"IF(ROWS($A$1:E112)>COUNTIF(Main!$C$8:$C$100,$C$7),\"\",INDEX(Main!F$8:F$100,SMALL(IF(Main!F$8:F$100<>\"\",IF(Main!$C$8:$C$100=$C$7,ROW(F$8:F$100)-ROW(F$8)+1)),ROWS($A$1:E112))))","v":""},{"$f":"IF(ROWS($A$1:F112)>COUNTIF(Main!$C$8:$C$100,$C$7),\"\",INDEX(Main!G$8:G$100,SMALL(IF(Main!G$8:G$100<>\"\",IF(Main!$C$8:$C$100=$C$7,ROW(G$8:G$100)-ROW(G$8)+1)),ROWS($A$1:F112))))","v":""},{"$f":"IF(ROWS($A$1:G112)>COUNTIF(Main!$C$8:$C$100,$C$7),\"\",INDEX(Main!H$8:H$100,SMALL(IF(N(Main!H$8:H$100)<>0,IF(Main!$C$8:$C$100=$C$7,ROW(H$8:H$100)-ROW(H$8)+1)),ROWS($A$1:G112))))","v":""},{"$f":"IF(ROWS($A$1:H112)>COUNTIF(Main!$C$8:$C$100,$C$7),\"\",INDEX(Main!I$8:I$100,SMALL(IF(N(Main!I$8:I$100)<>0,IF(Main!$C$8:$C$100=$C$7,ROW(I$8:I$100)-ROW(I$8)+1)),ROWS($A$1:H112))))","v":""},{"$f":"IF(ROWS($A$1:I112)>COUNTIF(Main!$C$8:$C$100,$C$7),\"\",INDEX(Main!J$8:J$100,SMALL(IF(N(Main!J$8:J$100)<>0,IF(Main!$C$8:$C$100=$C$7,ROW(J$8:J$100)-ROW(J$8)+1)),ROWS($A$1:I112))))","v":""},{"$f":"IF(ROWS($A$1:J112)>COUNTIF(Main!$C$8:$C$100,$C$7),\"\",INDEX(Main!K$8:K$100,SMALL(IF(N(Main!K$8:K$100)<>0,IF(Main!$C$8:$C$100=$C$7,ROW(K$8:K$100)-ROW(K$8)+1)),ROWS($A$1:J112))))","v":""},{"$f":"IF(ROWS($A$1:K112)>COUNTIF(Main!$C$8:$C$100,$C$7),\"\",INDEX(Main!L$8:L$100,SMALL(IF(N(Main!L$8:L$100)<>0,IF(Main!$C$8:$C$100=$C$7,ROW(L$8:L$100)-ROW(L$8)+1)),ROWS($A$1:K112))))","v":""}]
[{"$f":"IF(B120=\"\",\"\",MAX($A$7:A119)+1)","v":""},{"$f":"IF(ROWS($A$1:A113)>COUNTIF(Main!$C$8:$C$100,$C$7),\"\",INDEX(Main!B$8:B$100,SMALL(IF(N(Main!B$8:B$100)<>0,IF(Main!$C$8:$C$100=$C$7,ROW(B$8:B$100)-ROW(B$8)+1)),ROWS($A$1:A113))))","v":""},{"$f":"IF(ROWS($A$1:B113)>COUNTIF(Main!$C$8:$C$100,$C$7),\"\",INDEX(Main!C$8:C$100,SMALL(IF(N(Main!C$8:C$100)<>0,IF(Main!$C$8:$C$100=$C$7,ROW(C$8:C$100)-ROW(C$8)+1)),ROWS($A$1:B113))))","v":""},{"$f":"IF(ROWS($A$1:C113)>COUNTIF(Main!$C$8:$C$100,$C$7),\"\",INDEX(Main!D$8:D$100,SMALL(IF(Main!D$8:D$100<>\"\",IF(Main!$C$8:$C$100=$C$7,ROW(D$8:D$100)-ROW(D$8)+1)),ROWS($A$1:C113))))","v":""},{"$f":"IF(ROWS($A$1:D113)>COUNTIF(Main!$C$8:$C$100,$C$7),\"\",INDEX(Main!E$8:E$100,SMALL(IF(N(Main!E$8:E$100)<>0,IF(Main!$C$8:$C$100=$C$7,ROW(E$8:E$100)-ROW(E$8)+1)),ROWS($A$1:D113))))","v":""},{"$f":"IF(ROWS($A$1:E113)>COUNTIF(Main!$C$8:$C$100,$C$7),\"\",INDEX(Main!F$8:F$100,SMALL(IF(Main!F$8:F$100<>\"\",IF(Main!$C$8:$C$100=$C$7,ROW(F$8:F$100)-ROW(F$8)+1)),ROWS($A$1:E113))))","v":""},{"$f":"IF(ROWS($A$1:F113)>COUNTIF(Main!$C$8:$C$100,$C$7),\"\",INDEX(Main!G$8:G$100,SMALL(IF(Main!G$8:G$100<>\"\",IF(Main!$C$8:$C$100=$C$7,ROW(G$8:G$100)-ROW(G$8)+1)),ROWS($A$1:F113))))","v":""},{"$f":"IF(ROWS($A$1:G113)>COUNTIF(Main!$C$8:$C$100,$C$7),\"\",INDEX(Main!H$8:H$100,SMALL(IF(N(Main!H$8:H$100)<>0,IF(Main!$C$8:$C$100=$C$7,ROW(H$8:H$100)-ROW(H$8)+1)),ROWS($A$1:G113))))","v":""},{"$f":"IF(ROWS($A$1:H113)>COUNTIF(Main!$C$8:$C$100,$C$7),\"\",INDEX(Main!I$8:I$100,SMALL(IF(N(Main!I$8:I$100)<>0,IF(Main!$C$8:$C$100=$C$7,ROW(I$8:I$100)-ROW(I$8)+1)),ROWS($A$1:H113))))","v":""},{"$f":"IF(ROWS($A$1:I113)>COUNTIF(Main!$C$8:$C$100,$C$7),\"\",INDEX(Main!J$8:J$100,SMALL(IF(N(Main!J$8:J$100)<>0,IF(Main!$C$8:$C$100=$C$7,ROW(J$8:J$100)-ROW(J$8)+1)),ROWS($A$1:I113))))","v":""},{"$f":"IF(ROWS($A$1:J113)>COUNTIF(Main!$C$8:$C$100,$C$7),\"\",INDEX(Main!K$8:K$100,SMALL(IF(N(Main!K$8:K$100)<>0,IF(Main!$C$8:$C$100=$C$7,ROW(K$8:K$100)-ROW(K$8)+1)),ROWS($A$1:J113))))","v":""},{"$f":"IF(ROWS($A$1:K113)>COUNTIF(Main!$C$8:$C$100,$C$7),\"\",INDEX(Main!L$8:L$100,SMALL(IF(N(Main!L$8:L$100)<>0,IF(Main!$C$8:$C$100=$C$7,ROW(L$8:L$100)-ROW(L$8)+1)),ROWS($A$1:K113))))","v":""}]
[{"$f":"IF(B121=\"\",\"\",MAX($A$7:A120)+1)","v":""},{"$f":"IF(ROWS($A$1:A114)>COUNTIF(Main!$C$8:$C$100,$C$7),\"\",INDEX(Main!B$8:B$100,SMALL(IF(N(Main!B$8:B$100)<>0,IF(Main!$C$8:$C$100=$C$7,ROW(B$8:B$100)-ROW(B$8)+1)),ROWS($A$1:A114))))","v":""},{"$f":"IF(ROWS($A$1:B114)>COUNTIF(Main!$C$8:$C$100,$C$7),\"\",INDEX(Main!C$8:C$100,SMALL(IF(N(Main!C$8:C$100)<>0,IF(Main!$C$8:$C$100=$C$7,ROW(C$8:C$100)-ROW(C$8)+1)),ROWS($A$1:B114))))","v":""},{"$f":"IF(ROWS($A$1:C114)>COUNTIF(Main!$C$8:$C$100,$C$7),\"\",INDEX(Main!D$8:D$100,SMALL(IF(Main!D$8:D$100<>\"\",IF(Main!$C$8:$C$100=$C$7,ROW(D$8:D$100)-ROW(D$8)+1)),ROWS($A$1:C114))))","v":""},{"$f":"IF(ROWS($A$1:D114)>COUNTIF(Main!$C$8:$C$100,$C$7),\"\",INDEX(Main!E$8:E$100,SMALL(IF(N(Main!E$8:E$100)<>0,IF(Main!$C$8:$C$100=$C$7,ROW(E$8:E$100)-ROW(E$8)+1)),ROWS($A$1:D114))))","v":""},{"$f":"IF(ROWS($A$1:E114)>COUNTIF(Main!$C$8:$C$100,$C$7),\"\",INDEX(Main!F$8:F$100,SMALL(IF(Main!F$8:F$100<>\"\",IF(Main!$C$8:$C$100=$C$7,ROW(F$8:F$100)-ROW(F$8)+1)),ROWS($A$1:E114))))","v":""},{"$f":"IF(ROWS($A$1:F114)>COUNTIF(Main!$C$8:$C$100,$C$7),\"\",INDEX(Main!G$8:G$100,SMALL(IF(Main!G$8:G$100<>\"\",IF(Main!$C$8:$C$100=$C$7,ROW(G$8:G$100)-ROW(G$8)+1)),ROWS($A$1:F114))))","v":""},{"$f":"IF(ROWS($A$1:G114)>COUNTIF(Main!$C$8:$C$100,$C$7),\"\",INDEX(Main!H$8:H$100,SMALL(IF(N(Main!H$8:H$100)<>0,IF(Main!$C$8:$C$100=$C$7,ROW(H$8:H$100)-ROW(H$8)+1)),ROWS($A$1:G114))))","v":""},{"$f":"IF(ROWS($A$1:H114)>COUNTIF(Main!$C$8:$C$100,$C$7),\"\",INDEX(Main!I$8:I$100,SMALL(IF(N(Main!I$8:I$100)<>0,IF(Main!$C$8:$C$100=$C$7,ROW(I$8:I$100)-ROW(I$8)+1)),ROWS($A$1:H114))))","v":""},{"$f":"IF(ROWS($A$1:I114)>COUNTIF(Main!$C$8:$C$100,$C$7),\"\",INDEX(Main!J$8:J$100,SMALL(IF(N(Main!J$8:J$100)<>0,IF(Main!$C$8:$C$100=$C$7,ROW(J$8:J$100)-ROW(J$8)+1)),ROWS($A$1:I114))))","v":""},{"$f":"IF(ROWS($A$1:J114)>COUNTIF(Main!$C$8:$C$100,$C$7),\"\",INDEX(Main!K$8:K$100,SMALL(IF(N(Main!K$8:K$100)<>0,IF(Main!$C$8:$C$100=$C$7,ROW(K$8:K$100)-ROW(K$8)+1)),ROWS($A$1:J114))))","v":""},{"$f":"IF(ROWS($A$1:K114)>COUNTIF(Main!$C$8:$C$100,$C$7),\"\",INDEX(Main!L$8:L$100,SMALL(IF(N(Main!L$8:L$100)<>0,IF(Main!$C$8:$C$100=$C$7,ROW(L$8:L$100)-ROW(L$8)+1)),ROWS($A$1:K114))))","v":""}]
[{"$f":"IF(B122=\"\",\"\",MAX($A$7:A121)+1)","v":""},{"$f":"IF(ROWS($A$1:A115)>COUNTIF(Main!$C$8:$C$100,$C$7),\"\",INDEX(Main!B$8:B$100,SMALL(IF(N(Main!B$8:B$100)<>0,IF(Main!$C$8:$C$100=$C$7,ROW(B$8:B$100)-ROW(B$8)+1)),ROWS($A$1:A115))))","v":""},{"$f":"IF(ROWS($A$1:B115)>COUNTIF(Main!$C$8:$C$100,$C$7),\"\",INDEX(Main!C$8:C$100,SMALL(IF(N(Main!C$8:C$100)<>0,IF(Main!$C$8:$C$100=$C$7,ROW(C$8:C$100)-ROW(C$8)+1)),ROWS($A$1:B115))))","v":""},{"$f":"IF(ROWS($A$1:C115)>COUNTIF(Main!$C$8:$C$100,$C$7),\"\",INDEX(Main!D$8:D$100,SMALL(IF(Main!D$8:D$100<>\"\",IF(Main!$C$8:$C$100=$C$7,ROW(D$8:D$100)-ROW(D$8)+1)),ROWS($A$1:C115))))","v":""},{"$f":"IF(ROWS($A$1:D115)>COUNTIF(Main!$C$8:$C$100,$C$7),\"\",INDEX(Main!E$8:E$100,SMALL(IF(N(Main!E$8:E$100)<>0,IF(Main!$C$8:$C$100=$C$7,ROW(E$8:E$100)-ROW(E$8)+1)),ROWS($A$1:D115))))","v":""},{"$f":"IF(ROWS($A$1:E115)>COUNTIF(Main!$C$8:$C$100,$C$7),\"\",INDEX(Main!F$8:F$100,SMALL(IF(Main!F$8:F$100<>\"\",IF(Main!$C$8:$C$100=$C$7,ROW(F$8:F$100)-ROW(F$8)+1)),ROWS($A$1:E115))))","v":""},{"$f":"IF(ROWS($A$1:F115)>COUNTIF(Main!$C$8:$C$100,$C$7),\"\",INDEX(Main!G$8:G$100,SMALL(IF(Main!G$8:G$100<>\"\",IF(Main!$C$8:$C$100=$C$7,ROW(G$8:G$100)-ROW(G$8)+1)),ROWS($A$1:F115))))","v":""},{"$f":"IF(ROWS($A$1:G115)>COUNTIF(Main!$C$8:$C$100,$C$7),\"\",INDEX(Main!H$8:H$100,SMALL(IF(N(Main!H$8:H$100)<>0,IF(Main!$C$8:$C$100=$C$7,ROW(H$8:H$100)-ROW(H$8)+1)),ROWS($A$1:G115))))","v":""},{"$f":"IF(ROWS($A$1:H115)>COUNTIF(Main!$C$8:$C$100,$C$7),\"\",INDEX(Main!I$8:I$100,SMALL(IF(N(Main!I$8:I$100)<>0,IF(Main!$C$8:$C$100=$C$7,ROW(I$8:I$100)-ROW(I$8)+1)),ROWS($A$1:H115))))","v":""},{"$f":"IF(ROWS($A$1:I115)>COUNTIF(Main!$C$8:$C$100,$C$7),\"\",INDEX(Main!J$8:J$100,SMALL(IF(N(Main!J$8:J$100)<>0,IF(Main!$C$8:$C$100=$C$7,ROW(J$8:J$100)-ROW(J$8)+1)),ROWS($A$1:I115))))","v":""},{"$f":"IF(ROWS($A$1:J115)>COUNTIF(Main!$C$8:$C$100,$C$7),\"\",INDEX(Main!K$8:K$100,SMALL(IF(N(Main!K$8:K$100)<>0,IF(Main!$C$8:$C$100=$C$7,ROW(K$8:K$100)-ROW(K$8)+1)),ROWS($A$1:J115))))","v":""},{"$f":"IF(ROWS($A$1:K115)>COUNTIF(Main!$C$8:$C$100,$C$7),\"\",INDEX(Main!L$8:L$100,SMALL(IF(N(Main!L$8:L$100)<>0,IF(Main!$C$8:$C$100=$C$7,ROW(L$8:L$100)-ROW(L$8)+1)),ROWS($A$1:K115))))","v":""}]
[{"$f":"IF(B123=\"\",\"\",MAX($A$7:A122)+1)","v":""},{"$f":"IF(ROWS($A$1:A116)>COUNTIF(Main!$C$8:$C$100,$C$7),\"\",INDEX(Main!B$8:B$100,SMALL(IF(N(Main!B$8:B$100)<>0,IF(Main!$C$8:$C$100=$C$7,ROW(B$8:B$100)-ROW(B$8)+1)),ROWS($A$1:A116))))","v":""},{"$f":"IF(ROWS($A$1:B116)>COUNTIF(Main!$C$8:$C$100,$C$7),\"\",INDEX(Main!C$8:C$100,SMALL(IF(N(Main!C$8:C$100)<>0,IF(Main!$C$8:$C$100=$C$7,ROW(C$8:C$100)-ROW(C$8)+1)),ROWS($A$1:B116))))","v":""},{"$f":"IF(ROWS($A$1:C116)>COUNTIF(Main!$C$8:$C$100,$C$7),\"\",INDEX(Main!D$8:D$100,SMALL(IF(Main!D$8:D$100<>\"\",IF(Main!$C$8:$C$100=$C$7,ROW(D$8:D$100)-ROW(D$8)+1)),ROWS($A$1:C116))))","v":""},{"$f":"IF(ROWS($A$1:D116)>COUNTIF(Main!$C$8:$C$100,$C$7),\"\",INDEX(Main!E$8:E$100,SMALL(IF(N(Main!E$8:E$100)<>0,IF(Main!$C$8:$C$100=$C$7,ROW(E$8:E$100)-ROW(E$8)+1)),ROWS($A$1:D116))))","v":""},{"$f":"IF(ROWS($A$1:E116)>COUNTIF(Main!$C$8:$C$100,$C$7),\"\",INDEX(Main!F$8:F$100,SMALL(IF(Main!F$8:F$100<>\"\",IF(Main!$C$8:$C$100=$C$7,ROW(F$8:F$100)-ROW(F$8)+1)),ROWS($A$1:E116))))","v":""},{"$f":"IF(ROWS($A$1:F116)>COUNTIF(Main!$C$8:$C$100,$C$7),\"\",INDEX(Main!G$8:G$100,SMALL(IF(Main!G$8:G$100<>\"\",IF(Main!$C$8:$C$100=$C$7,ROW(G$8:G$100)-ROW(G$8)+1)),ROWS($A$1:F116))))","v":""},{"$f":"IF(ROWS($A$1:G116)>COUNTIF(Main!$C$8:$C$100,$C$7),\"\",INDEX(Main!H$8:H$100,SMALL(IF(N(Main!H$8:H$100)<>0,IF(Main!$C$8:$C$100=$C$7,ROW(H$8:H$100)-ROW(H$8)+1)),ROWS($A$1:G116))))","v":""},{"$f":"IF(ROWS($A$1:H116)>COUNTIF(Main!$C$8:$C$100,$C$7),\"\",INDEX(Main!I$8:I$100,SMALL(IF(N(Main!I$8:I$100)<>0,IF(Main!$C$8:$C$100=$C$7,ROW(I$8:I$100)-ROW(I$8)+1)),ROWS($A$1:H116))))","v":""},{"$f":"IF(ROWS($A$1:I116)>COUNTIF(Main!$C$8:$C$100,$C$7),\"\",INDEX(Main!J$8:J$100,SMALL(IF(N(Main!J$8:J$100)<>0,IF(Main!$C$8:$C$100=$C$7,ROW(J$8:J$100)-ROW(J$8)+1)),ROWS($A$1:I116))))","v":""},{"$f":"IF(ROWS($A$1:J116)>COUNTIF(Main!$C$8:$C$100,$C$7),\"\",INDEX(Main!K$8:K$100,SMALL(IF(N(Main!K$8:K$100)<>0,IF(Main!$C$8:$C$100=$C$7,ROW(K$8:K$100)-ROW(K$8)+1)),ROWS($A$1:J116))))","v":""},{"$f":"IF(ROWS($A$1:K116)>COUNTIF(Main!$C$8:$C$100,$C$7),\"\",INDEX(Main!L$8:L$100,SMALL(IF(N(Main!L$8:L$100)<>0,IF(Main!$C$8:$C$100=$C$7,ROW(L$8:L$100)-ROW(L$8)+1)),ROWS($A$1:K116))))","v":""}]
[{"$f":"IF(B124=\"\",\"\",MAX($A$7:A123)+1)","v":""},{"$f":"IF(ROWS($A$1:A117)>COUNTIF(Main!$C$8:$C$100,$C$7),\"\",INDEX(Main!B$8:B$100,SMALL(IF(N(Main!B$8:B$100)<>0,IF(Main!$C$8:$C$100=$C$7,ROW(B$8:B$100)-ROW(B$8)+1)),ROWS($A$1:A117))))","v":""},{"$f":"IF(ROWS($A$1:B117)>COUNTIF(Main!$C$8:$C$100,$C$7),\"\",INDEX(Main!C$8:C$100,SMALL(IF(N(Main!C$8:C$100)<>0,IF(Main!$C$8:$C$100=$C$7,ROW(C$8:C$100)-ROW(C$8)+1)),ROWS($A$1:B117))))","v":""},{"$f":"IF(ROWS($A$1:C117)>COUNTIF(Main!$C$8:$C$100,$C$7),\"\",INDEX(Main!D$8:D$100,SMALL(IF(Main!D$8:D$100<>\"\",IF(Main!$C$8:$C$100=$C$7,ROW(D$8:D$100)-ROW(D$8)+1)),ROWS($A$1:C117))))","v":""},{"$f":"IF(ROWS($A$1:D117)>COUNTIF(Main!$C$8:$C$100,$C$7),\"\",INDEX(Main!E$8:E$100,SMALL(IF(N(Main!E$8:E$100)<>0,IF(Main!$C$8:$C$100=$C$7,ROW(E$8:E$100)-ROW(E$8)+1)),ROWS($A$1:D117))))","v":""},{"$f":"IF(ROWS($A$1:E117)>COUNTIF(Main!$C$8:$C$100,$C$7),\"\",INDEX(Main!F$8:F$100,SMALL(IF(Main!F$8:F$100<>\"\",IF(Main!$C$8:$C$100=$C$7,ROW(F$8:F$100)-ROW(F$8)+1)),ROWS($A$1:E117))))","v":""},{"$f":"IF(ROWS($A$1:F117)>COUNTIF(Main!$C$8:$C$100,$C$7),\"\",INDEX(Main!G$8:G$100,SMALL(IF(Main!G$8:G$100<>\"\",IF(Main!$C$8:$C$100=$C$7,ROW(G$8:G$100)-ROW(G$8)+1)),ROWS($A$1:F117))))","v":""},{"$f":"IF(ROWS($A$1:G117)>COUNTIF(Main!$C$8:$C$100,$C$7),\"\",INDEX(Main!H$8:H$100,SMALL(IF(N(Main!H$8:H$100)<>0,IF(Main!$C$8:$C$100=$C$7,ROW(H$8:H$100)-ROW(H$8)+1)),ROWS($A$1:G117))))","v":""},{"$f":"IF(ROWS($A$1:H117)>COUNTIF(Main!$C$8:$C$100,$C$7),\"\",INDEX(Main!I$8:I$100,SMALL(IF(N(Main!I$8:I$100)<>0,IF(Main!$C$8:$C$100=$C$7,ROW(I$8:I$100)-ROW(I$8)+1)),ROWS($A$1:H117))))","v":""},{"$f":"IF(ROWS($A$1:I117)>COUNTIF(Main!$C$8:$C$100,$C$7),\"\",INDEX(Main!J$8:J$100,SMALL(IF(N(Main!J$8:J$100)<>0,IF(Main!$C$8:$C$100=$C$7,ROW(J$8:J$100)-ROW(J$8)+1)),ROWS($A$1:I117))))","v":""},{"$f":"IF(ROWS($A$1:J117)>COUNTIF(Main!$C$8:$C$100,$C$7),\"\",INDEX(Main!K$8:K$100,SMALL(IF(N(Main!K$8:K$100)<>0,IF(Main!$C$8:$C$100=$C$7,ROW(K$8:K$100)-ROW(K$8)+1)),ROWS($A$1:J117))))","v":""},{"$f":"IF(ROWS($A$1:K117)>COUNTIF(Main!$C$8:$C$100,$C$7),\"\",INDEX(Main!L$8:L$100,SMALL(IF(N(Main!L$8:L$100)<>0,IF(Main!$C$8:$C$100=$C$7,ROW(L$8:L$100)-ROW(L$8)+1)),ROWS($A$1:K117))))","v":""}]
[{"$f":"IF(B125=\"\",\"\",MAX($A$7:A124)+1)","v":""},{"$f":"IF(ROWS($A$1:A118)>COUNTIF(Main!$C$8:$C$100,$C$7),\"\",INDEX(Main!B$8:B$100,SMALL(IF(N(Main!B$8:B$100)<>0,IF(Main!$C$8:$C$100=$C$7,ROW(B$8:B$100)-ROW(B$8)+1)),ROWS($A$1:A118))))","v":""},{"$f":"IF(ROWS($A$1:B118)>COUNTIF(Main!$C$8:$C$100,$C$7),\"\",INDEX(Main!C$8:C$100,SMALL(IF(N(Main!C$8:C$100)<>0,IF(Main!$C$8:$C$100=$C$7,ROW(C$8:C$100)-ROW(C$8)+1)),ROWS($A$1:B118))))","v":""},{"$f":"IF(ROWS($A$1:C118)>COUNTIF(Main!$C$8:$C$100,$C$7),\"\",INDEX(Main!D$8:D$100,SMALL(IF(Main!D$8:D$100<>\"\",IF(Main!$C$8:$C$100=$C$7,ROW(D$8:D$100)-ROW(D$8)+1)),ROWS($A$1:C118))))","v":""},{"$f":"IF(ROWS($A$1:D118)>COUNTIF(Main!$C$8:$C$100,$C$7),\"\",INDEX(Main!E$8:E$100,SMALL(IF(N(Main!E$8:E$100)<>0,IF(Main!$C$8:$C$100=$C$7,ROW(E$8:E$100)-ROW(E$8)+1)),ROWS($A$1:D118))))","v":""},{"$f":"IF(ROWS($A$1:E118)>COUNTIF(Main!$C$8:$C$100,$C$7),\"\",INDEX(Main!F$8:F$100,SMALL(IF(Main!F$8:F$100<>\"\",IF(Main!$C$8:$C$100=$C$7,ROW(F$8:F$100)-ROW(F$8)+1)),ROWS($A$1:E118))))","v":""},{"$f":"IF(ROWS($A$1:F118)>COUNTIF(Main!$C$8:$C$100,$C$7),\"\",INDEX(Main!G$8:G$100,SMALL(IF(Main!G$8:G$100<>\"\",IF(Main!$C$8:$C$100=$C$7,ROW(G$8:G$100)-ROW(G$8)+1)),ROWS($A$1:F118))))","v":""},{"$f":"IF(ROWS($A$1:G118)>COUNTIF(Main!$C$8:$C$100,$C$7),\"\",INDEX(Main!H$8:H$100,SMALL(IF(N(Main!H$8:H$100)<>0,IF(Main!$C$8:$C$100=$C$7,ROW(H$8:H$100)-ROW(H$8)+1)),ROWS($A$1:G118))))","v":""},{"$f":"IF(ROWS($A$1:H118)>COUNTIF(Main!$C$8:$C$100,$C$7),\"\",INDEX(Main!I$8:I$100,SMALL(IF(N(Main!I$8:I$100)<>0,IF(Main!$C$8:$C$100=$C$7,ROW(I$8:I$100)-ROW(I$8)+1)),ROWS($A$1:H118))))","v":""},{"$f":"IF(ROWS($A$1:I118)>COUNTIF(Main!$C$8:$C$100,$C$7),\"\",INDEX(Main!J$8:J$100,SMALL(IF(N(Main!J$8:J$100)<>0,IF(Main!$C$8:$C$100=$C$7,ROW(J$8:J$100)-ROW(J$8)+1)),ROWS($A$1:I118))))","v":""},{"$f":"IF(ROWS($A$1:J118)>COUNTIF(Main!$C$8:$C$100,$C$7),\"\",INDEX(Main!K$8:K$100,SMALL(IF(N(Main!K$8:K$100)<>0,IF(Main!$C$8:$C$100=$C$7,ROW(K$8:K$100)-ROW(K$8)+1)),ROWS($A$1:J118))))","v":""},{"$f":"IF(ROWS($A$1:K118)>COUNTIF(Main!$C$8:$C$100,$C$7),\"\",INDEX(Main!L$8:L$100,SMALL(IF(N(Main!L$8:L$100)<>0,IF(Main!$C$8:$C$100=$C$7,ROW(L$8:L$100)-ROW(L$8)+1)),ROWS($A$1:K118))))","v":""}]
[{"$f":"IF(B126=\"\",\"\",MAX($A$7:A125)+1)","v":""},{"$f":"IF(ROWS($A$1:A119)>COUNTIF(Main!$C$8:$C$100,$C$7),\"\",INDEX(Main!B$8:B$100,SMALL(IF(N(Main!B$8:B$100)<>0,IF(Main!$C$8:$C$100=$C$7,ROW(B$8:B$100)-ROW(B$8)+1)),ROWS($A$1:A119))))","v":""},{"$f":"IF(ROWS($A$1:B119)>COUNTIF(Main!$C$8:$C$100,$C$7),\"\",INDEX(Main!C$8:C$100,SMALL(IF(N(Main!C$8:C$100)<>0,IF(Main!$C$8:$C$100=$C$7,ROW(C$8:C$100)-ROW(C$8)+1)),ROWS($A$1:B119))))","v":""},{"$f":"IF(ROWS($A$1:C119)>COUNTIF(Main!$C$8:$C$100,$C$7),\"\",INDEX(Main!D$8:D$100,SMALL(IF(Main!D$8:D$100<>\"\",IF(Main!$C$8:$C$100=$C$7,ROW(D$8:D$100)-ROW(D$8)+1)),ROWS($A$1:C119))))","v":""},{"$f":"IF(ROWS($A$1:D119)>COUNTIF(Main!$C$8:$C$100,$C$7),\"\",INDEX(Main!E$8:E$100,SMALL(IF(N(Main!E$8:E$100)<>0,IF(Main!$C$8:$C$100=$C$7,ROW(E$8:E$100)-ROW(E$8)+1)),ROWS($A$1:D119))))","v":""},{"$f":"IF(ROWS($A$1:E119)>COUNTIF(Main!$C$8:$C$100,$C$7),\"\",INDEX(Main!F$8:F$100,SMALL(IF(Main!F$8:F$100<>\"\",IF(Main!$C$8:$C$100=$C$7,ROW(F$8:F$100)-ROW(F$8)+1)),ROWS($A$1:E119))))","v":""},{"$f":"IF(ROWS($A$1:F119)>COUNTIF(Main!$C$8:$C$100,$C$7),\"\",INDEX(Main!G$8:G$100,SMALL(IF(Main!G$8:G$100<>\"\",IF(Main!$C$8:$C$100=$C$7,ROW(G$8:G$100)-ROW(G$8)+1)),ROWS($A$1:F119))))","v":""},{"$f":"IF(ROWS($A$1:G119)>COUNTIF(Main!$C$8:$C$100,$C$7),\"\",INDEX(Main!H$8:H$100,SMALL(IF(N(Main!H$8:H$100)<>0,IF(Main!$C$8:$C$100=$C$7,ROW(H$8:H$100)-ROW(H$8)+1)),ROWS($A$1:G119))))","v":""},{"$f":"IF(ROWS($A$1:H119)>COUNTIF(Main!$C$8:$C$100,$C$7),\"\",INDEX(Main!I$8:I$100,SMALL(IF(N(Main!I$8:I$100)<>0,IF(Main!$C$8:$C$100=$C$7,ROW(I$8:I$100)-ROW(I$8)+1)),ROWS($A$1:H119))))","v":""},{"$f":"IF(ROWS($A$1:I119)>COUNTIF(Main!$C$8:$C$100,$C$7),\"\",INDEX(Main!J$8:J$100,SMALL(IF(N(Main!J$8:J$100)<>0,IF(Main!$C$8:$C$100=$C$7,ROW(J$8:J$100)-ROW(J$8)+1)),ROWS($A$1:I119))))","v":""},{"$f":"IF(ROWS($A$1:J119)>COUNTIF(Main!$C$8:$C$100,$C$7),\"\",INDEX(Main!K$8:K$100,SMALL(IF(N(Main!K$8:K$100)<>0,IF(Main!$C$8:$C$100=$C$7,ROW(K$8:K$100)-ROW(K$8)+1)),ROWS($A$1:J119))))","v":""},{"$f":"IF(ROWS($A$1:K119)>COUNTIF(Main!$C$8:$C$100,$C$7),\"\",INDEX(Main!L$8:L$100,SMALL(IF(N(Main!L$8:L$100)<>0,IF(Main!$C$8:$C$100=$C$7,ROW(L$8:L$100)-ROW(L$8)+1)),ROWS($A$1:K119))))","v":""}]
[{"$f":"IF(B127=\"\",\"\",MAX($A$7:A126)+1)","v":""},{"$f":"IF(ROWS($A$1:A120)>COUNTIF(Main!$C$8:$C$100,$C$7),\"\",INDEX(Main!B$8:B$100,SMALL(IF(N(Main!B$8:B$100)<>0,IF(Main!$C$8:$C$100=$C$7,ROW(B$8:B$100)-ROW(B$8)+1)),ROWS($A$1:A120))))","v":""},{"$f":"IF(ROWS($A$1:B120)>COUNTIF(Main!$C$8:$C$100,$C$7),\"\",INDEX(Main!C$8:C$100,SMALL(IF(N(Main!C$8:C$100)<>0,IF(Main!$C$8:$C$100=$C$7,ROW(C$8:C$100)-ROW(C$8)+1)),ROWS($A$1:B120))))","v":""},{"$f":"IF(ROWS($A$1:C120)>COUNTIF(Main!$C$8:$C$100,$C$7),\"\",INDEX(Main!D$8:D$100,SMALL(IF(Main!D$8:D$100<>\"\",IF(Main!$C$8:$C$100=$C$7,ROW(D$8:D$100)-ROW(D$8)+1)),ROWS($A$1:C120))))","v":""},{"$f":"IF(ROWS($A$1:D120)>COUNTIF(Main!$C$8:$C$100,$C$7),\"\",INDEX(Main!E$8:E$100,SMALL(IF(N(Main!E$8:E$100)<>0,IF(Main!$C$8:$C$100=$C$7,ROW(E$8:E$100)-ROW(E$8)+1)),ROWS($A$1:D120))))","v":""},{"$f":"IF(ROWS($A$1:E120)>COUNTIF(Main!$C$8:$C$100,$C$7),\"\",INDEX(Main!F$8:F$100,SMALL(IF(Main!F$8:F$100<>\"\",IF(Main!$C$8:$C$100=$C$7,ROW(F$8:F$100)-ROW(F$8)+1)),ROWS($A$1:E120))))","v":""},{"$f":"IF(ROWS($A$1:F120)>COUNTIF(Main!$C$8:$C$100,$C$7),\"\",INDEX(Main!G$8:G$100,SMALL(IF(Main!G$8:G$100<>\"\",IF(Main!$C$8:$C$100=$C$7,ROW(G$8:G$100)-ROW(G$8)+1)),ROWS($A$1:F120))))","v":""},{"$f":"IF(ROWS($A$1:G120)>COUNTIF(Main!$C$8:$C$100,$C$7),\"\",INDEX(Main!H$8:H$100,SMALL(IF(N(Main!H$8:H$100)<>0,IF(Main!$C$8:$C$100=$C$7,ROW(H$8:H$100)-ROW(H$8)+1)),ROWS($A$1:G120))))","v":""},{"$f":"IF(ROWS($A$1:H120)>COUNTIF(Main!$C$8:$C$100,$C$7),\"\",INDEX(Main!I$8:I$100,SMALL(IF(N(Main!I$8:I$100)<>0,IF(Main!$C$8:$C$100=$C$7,ROW(I$8:I$100)-ROW(I$8)+1)),ROWS($A$1:H120))))","v":""},{"$f":"IF(ROWS($A$1:I120)>COUNTIF(Main!$C$8:$C$100,$C$7),\"\",INDEX(Main!J$8:J$100,SMALL(IF(N(Main!J$8:J$100)<>0,IF(Main!$C$8:$C$100=$C$7,ROW(J$8:J$100)-ROW(J$8)+1)),ROWS($A$1:I120))))","v":""},{"$f":"IF(ROWS($A$1:J120)>COUNTIF(Main!$C$8:$C$100,$C$7),\"\",INDEX(Main!K$8:K$100,SMALL(IF(N(Main!K$8:K$100)<>0,IF(Main!$C$8:$C$100=$C$7,ROW(K$8:K$100)-ROW(K$8)+1)),ROWS($A$1:J120))))","v":""},{"$f":"IF(ROWS($A$1:K120)>COUNTIF(Main!$C$8:$C$100,$C$7),\"\",INDEX(Main!L$8:L$100,SMALL(IF(N(Main!L$8:L$100)<>0,IF(Main!$C$8:$C$100=$C$7,ROW(L$8:L$100)-ROW(L$8)+1)),ROWS($A$1:K120))))","v":""}]
[{"$f":"IF(B128=\"\",\"\",MAX($A$7:A127)+1)","v":""},{"$f":"IF(ROWS($A$1:A121)>COUNTIF(Main!$C$8:$C$100,$C$7),\"\",INDEX(Main!B$8:B$100,SMALL(IF(N(Main!B$8:B$100)<>0,IF(Main!$C$8:$C$100=$C$7,ROW(B$8:B$100)-ROW(B$8)+1)),ROWS($A$1:A121))))","v":""},{"$f":"IF(ROWS($A$1:B121)>COUNTIF(Main!$C$8:$C$100,$C$7),\"\",INDEX(Main!C$8:C$100,SMALL(IF(N(Main!C$8:C$100)<>0,IF(Main!$C$8:$C$100=$C$7,ROW(C$8:C$100)-ROW(C$8)+1)),ROWS($A$1:B121))))","v":""},{"$f":"IF(ROWS($A$1:C121)>COUNTIF(Main!$C$8:$C$100,$C$7),\"\",INDEX(Main!D$8:D$100,SMALL(IF(Main!D$8:D$100<>\"\",IF(Main!$C$8:$C$100=$C$7,ROW(D$8:D$100)-ROW(D$8)+1)),ROWS($A$1:C121))))","v":""},{"$f":"IF(ROWS($A$1:D121)>COUNTIF(Main!$C$8:$C$100,$C$7),\"\",INDEX(Main!E$8:E$100,SMALL(IF(N(Main!E$8:E$100)<>0,IF(Main!$C$8:$C$100=$C$7,ROW(E$8:E$100)-ROW(E$8)+1)),ROWS($A$1:D121))))","v":""},{"$f":"IF(ROWS($A$1:E121)>COUNTIF(Main!$C$8:$C$100,$C$7),\"\",INDEX(Main!F$8:F$100,SMALL(IF(Main!F$8:F$100<>\"\",IF(Main!$C$8:$C$100=$C$7,ROW(F$8:F$100)-ROW(F$8)+1)),ROWS($A$1:E121))))","v":""},{"$f":"IF(ROWS($A$1:F121)>COUNTIF(Main!$C$8:$C$100,$C$7),\"\",INDEX(Main!G$8:G$100,SMALL(IF(Main!G$8:G$100<>\"\",IF(Main!$C$8:$C$100=$C$7,ROW(G$8:G$100)-ROW(G$8)+1)),ROWS($A$1:F121))))","v":""},{"$f":"IF(ROWS($A$1:G121)>COUNTIF(Main!$C$8:$C$100,$C$7),\"\",INDEX(Main!H$8:H$100,SMALL(IF(N(Main!H$8:H$100)<>0,IF(Main!$C$8:$C$100=$C$7,ROW(H$8:H$100)-ROW(H$8)+1)),ROWS($A$1:G121))))","v":""},{"$f":"IF(ROWS($A$1:H121)>COUNTIF(Main!$C$8:$C$100,$C$7),\"\",INDEX(Main!I$8:I$100,SMALL(IF(N(Main!I$8:I$100)<>0,IF(Main!$C$8:$C$100=$C$7,ROW(I$8:I$100)-ROW(I$8)+1)),ROWS($A$1:H121))))","v":""},{"$f":"IF(ROWS($A$1:I121)>COUNTIF(Main!$C$8:$C$100,$C$7),\"\",INDEX(Main!J$8:J$100,SMALL(IF(N(Main!J$8:J$100)<>0,IF(Main!$C$8:$C$100=$C$7,ROW(J$8:J$100)-ROW(J$8)+1)),ROWS($A$1:I121))))","v":""},{"$f":"IF(ROWS($A$1:J121)>COUNTIF(Main!$C$8:$C$100,$C$7),\"\",INDEX(Main!K$8:K$100,SMALL(IF(N(Main!K$8:K$100)<>0,IF(Main!$C$8:$C$100=$C$7,ROW(K$8:K$100)-ROW(K$8)+1)),ROWS($A$1:J121))))","v":""},{"$f":"IF(ROWS($A$1:K121)>COUNTIF(Main!$C$8:$C$100,$C$7),\"\",INDEX(Main!L$8:L$100,SMALL(IF(N(Main!L$8:L$100)<>0,IF(Main!$C$8:$C$100=$C$7,ROW(L$8:L$100)-ROW(L$8)+1)),ROWS($A$1:K121))))","v":""}]
[{"$f":"IF(B129=\"\",\"\",MAX($A$7:A128)+1)","v":""},{"$f":"IF(ROWS($A$1:A122)>COUNTIF(Main!$C$8:$C$100,$C$7),\"\",INDEX(Main!B$8:B$100,SMALL(IF(N(Main!B$8:B$100)<>0,IF(Main!$C$8:$C$100=$C$7,ROW(B$8:B$100)-ROW(B$8)+1)),ROWS($A$1:A122))))","v":""},{"$f":"IF(ROWS($A$1:B122)>COUNTIF(Main!$C$8:$C$100,$C$7),\"\",INDEX(Main!C$8:C$100,SMALL(IF(N(Main!C$8:C$100)<>0,IF(Main!$C$8:$C$100=$C$7,ROW(C$8:C$100)-ROW(C$8)+1)),ROWS($A$1:B122))))","v":""},{"$f":"IF(ROWS($A$1:C122)>COUNTIF(Main!$C$8:$C$100,$C$7),\"\",INDEX(Main!D$8:D$100,SMALL(IF(Main!D$8:D$100<>\"\",IF(Main!$C$8:$C$100=$C$7,ROW(D$8:D$100)-ROW(D$8)+1)),ROWS($A$1:C122))))","v":""},{"$f":"IF(ROWS($A$1:D122)>COUNTIF(Main!$C$8:$C$100,$C$7),\"\",INDEX(Main!E$8:E$100,SMALL(IF(N(Main!E$8:E$100)<>0,IF(Main!$C$8:$C$100=$C$7,ROW(E$8:E$100)-ROW(E$8)+1)),ROWS($A$1:D122))))","v":""},{"$f":"IF(ROWS($A$1:E122)>COUNTIF(Main!$C$8:$C$100,$C$7),\"\",INDEX(Main!F$8:F$100,SMALL(IF(Main!F$8:F$100<>\"\",IF(Main!$C$8:$C$100=$C$7,ROW(F$8:F$100)-ROW(F$8)+1)),ROWS($A$1:E122))))","v":""},{"$f":"IF(ROWS($A$1:F122)>COUNTIF(Main!$C$8:$C$100,$C$7),\"\",INDEX(Main!G$8:G$100,SMALL(IF(Main!G$8:G$100<>\"\",IF(Main!$C$8:$C$100=$C$7,ROW(G$8:G$100)-ROW(G$8)+1)),ROWS($A$1:F122))))","v":""},{"$f":"IF(ROWS($A$1:G122)>COUNTIF(Main!$C$8:$C$100,$C$7),\"\",INDEX(Main!H$8:H$100,SMALL(IF(N(Main!H$8:H$100)<>0,IF(Main!$C$8:$C$100=$C$7,ROW(H$8:H$100)-ROW(H$8)+1)),ROWS($A$1:G122))))","v":""},{"$f":"IF(ROWS($A$1:H122)>COUNTIF(Main!$C$8:$C$100,$C$7),\"\",INDEX(Main!I$8:I$100,SMALL(IF(N(Main!I$8:I$100)<>0,IF(Main!$C$8:$C$100=$C$7,ROW(I$8:I$100)-ROW(I$8)+1)),ROWS($A$1:H122))))","v":""},{"$f":"IF(ROWS($A$1:I122)>COUNTIF(Main!$C$8:$C$100,$C$7),\"\",INDEX(Main!J$8:J$100,SMALL(IF(N(Main!J$8:J$100)<>0,IF(Main!$C$8:$C$100=$C$7,ROW(J$8:J$100)-ROW(J$8)+1)),ROWS($A$1:I122))))","v":""},{"$f":"IF(ROWS($A$1:J122)>COUNTIF(Main!$C$8:$C$100,$C$7),\"\",INDEX(Main!K$8:K$100,SMALL(IF(N(Main!K$8:K$100)<>0,IF(Main!$C$8:$C$100=$C$7,ROW(K$8:K$100)-ROW(K$8)+1)),ROWS($A$1:J122))))","v":""},{"$f":"IF(ROWS($A$1:K122)>COUNTIF(Main!$C$8:$C$100,$C$7),\"\",INDEX(Main!L$8:L$100,SMALL(IF(N(Main!L$8:L$100)<>0,IF(Main!$C$8:$C$100=$C$7,ROW(L$8:L$100)-ROW(L$8)+1)),ROWS($A$1:K122))))","v":""}]
[{"$f":"IF(B130=\"\",\"\",MAX($A$7:A129)+1)","v":""},{"$f":"IF(ROWS($A$1:A123)>COUNTIF(Main!$C$8:$C$100,$C$7),\"\",INDEX(Main!B$8:B$100,SMALL(IF(N(Main!B$8:B$100)<>0,IF(Main!$C$8:$C$100=$C$7,ROW(B$8:B$100)-ROW(B$8)+1)),ROWS($A$1:A123))))","v":""},{"$f":"IF(ROWS($A$1:B123)>COUNTIF(Main!$C$8:$C$100,$C$7),\"\",INDEX(Main!C$8:C$100,SMALL(IF(N(Main!C$8:C$100)<>0,IF(Main!$C$8:$C$100=$C$7,ROW(C$8:C$100)-ROW(C$8)+1)),ROWS($A$1:B123))))","v":""},{"$f":"IF(ROWS($A$1:C123)>COUNTIF(Main!$C$8:$C$100,$C$7),\"\",INDEX(Main!D$8:D$100,SMALL(IF(Main!D$8:D$100<>\"\",IF(Main!$C$8:$C$100=$C$7,ROW(D$8:D$100)-ROW(D$8)+1)),ROWS($A$1:C123))))","v":""},{"$f":"IF(ROWS($A$1:D123)>COUNTIF(Main!$C$8:$C$100,$C$7),\"\",INDEX(Main!E$8:E$100,SMALL(IF(N(Main!E$8:E$100)<>0,IF(Main!$C$8:$C$100=$C$7,ROW(E$8:E$100)-ROW(E$8)+1)),ROWS($A$1:D123))))","v":""},{"$f":"IF(ROWS($A$1:E123)>COUNTIF(Main!$C$8:$C$100,$C$7),\"\",INDEX(Main!F$8:F$100,SMALL(IF(Main!F$8:F$100<>\"\",IF(Main!$C$8:$C$100=$C$7,ROW(F$8:F$100)-ROW(F$8)+1)),ROWS($A$1:E123))))","v":""},{"$f":"IF(ROWS($A$1:F123)>COUNTIF(Main!$C$8:$C$100,$C$7),\"\",INDEX(Main!G$8:G$100,SMALL(IF(Main!G$8:G$100<>\"\",IF(Main!$C$8:$C$100=$C$7,ROW(G$8:G$100)-ROW(G$8)+1)),ROWS($A$1:F123))))","v":""},{"$f":"IF(ROWS($A$1:G123)>COUNTIF(Main!$C$8:$C$100,$C$7),\"\",INDEX(Main!H$8:H$100,SMALL(IF(N(Main!H$8:H$100)<>0,IF(Main!$C$8:$C$100=$C$7,ROW(H$8:H$100)-ROW(H$8)+1)),ROWS($A$1:G123))))","v":""},{"$f":"IF(ROWS($A$1:H123)>COUNTIF(Main!$C$8:$C$100,$C$7),\"\",INDEX(Main!I$8:I$100,SMALL(IF(N(Main!I$8:I$100)<>0,IF(Main!$C$8:$C$100=$C$7,ROW(I$8:I$100)-ROW(I$8)+1)),ROWS($A$1:H123))))","v":""},{"$f":"IF(ROWS($A$1:I123)>COUNTIF(Main!$C$8:$C$100,$C$7),\"\",INDEX(Main!J$8:J$100,SMALL(IF(N(Main!J$8:J$100)<>0,IF(Main!$C$8:$C$100=$C$7,ROW(J$8:J$100)-ROW(J$8)+1)),ROWS($A$1:I123))))","v":""},{"$f":"IF(ROWS($A$1:J123)>COUNTIF(Main!$C$8:$C$100,$C$7),\"\",INDEX(Main!K$8:K$100,SMALL(IF(N(Main!K$8:K$100)<>0,IF(Main!$C$8:$C$100=$C$7,ROW(K$8:K$100)-ROW(K$8)+1)),ROWS($A$1:J123))))","v":""},{"$f":"IF(ROWS($A$1:K123)>COUNTIF(Main!$C$8:$C$100,$C$7),\"\",INDEX(Main!L$8:L$100,SMALL(IF(N(Main!L$8:L$100)<>0,IF(Main!$C$8:$C$100=$C$7,ROW(L$8:L$100)-ROW(L$8)+1)),ROWS($A$1:K123))))","v":""}]
[{"$f":"IF(B131=\"\",\"\",MAX($A$7:A130)+1)","v":""},{"$f":"IF(ROWS($A$1:A124)>COUNTIF(Main!$C$8:$C$100,$C$7),\"\",INDEX(Main!B$8:B$100,SMALL(IF(N(Main!B$8:B$100)<>0,IF(Main!$C$8:$C$100=$C$7,ROW(B$8:B$100)-ROW(B$8)+1)),ROWS($A$1:A124))))","v":""},{"$f":"IF(ROWS($A$1:B124)>COUNTIF(Main!$C$8:$C$100,$C$7),\"\",INDEX(Main!C$8:C$100,SMALL(IF(N(Main!C$8:C$100)<>0,IF(Main!$C$8:$C$100=$C$7,ROW(C$8:C$100)-ROW(C$8)+1)),ROWS($A$1:B124))))","v":""},{"$f":"IF(ROWS($A$1:C124)>COUNTIF(Main!$C$8:$C$100,$C$7),\"\",INDEX(Main!D$8:D$100,SMALL(IF(Main!D$8:D$100<>\"\",IF(Main!$C$8:$C$100=$C$7,ROW(D$8:D$100)-ROW(D$8)+1)),ROWS($A$1:C124))))","v":""},{"$f":"IF(ROWS($A$1:D124)>COUNTIF(Main!$C$8:$C$100,$C$7),\"\",INDEX(Main!E$8:E$100,SMALL(IF(N(Main!E$8:E$100)<>0,IF(Main!$C$8:$C$100=$C$7,ROW(E$8:E$100)-ROW(E$8)+1)),ROWS($A$1:D124))))","v":""},{"$f":"IF(ROWS($A$1:E124)>COUNTIF(Main!$C$8:$C$100,$C$7),\"\",INDEX(Main!F$8:F$100,SMALL(IF(Main!F$8:F$100<>\"\",IF(Main!$C$8:$C$100=$C$7,ROW(F$8:F$100)-ROW(F$8)+1)),ROWS($A$1:E124))))","v":""},{"$f":"IF(ROWS($A$1:F124)>COUNTIF(Main!$C$8:$C$100,$C$7),\"\",INDEX(Main!G$8:G$100,SMALL(IF(Main!G$8:G$100<>\"\",IF(Main!$C$8:$C$100=$C$7,ROW(G$8:G$100)-ROW(G$8)+1)),ROWS($A$1:F124))))","v":""},{"$f":"IF(ROWS($A$1:G124)>COUNTIF(Main!$C$8:$C$100,$C$7),\"\",INDEX(Main!H$8:H$100,SMALL(IF(N(Main!H$8:H$100)<>0,IF(Main!$C$8:$C$100=$C$7,ROW(H$8:H$100)-ROW(H$8)+1)),ROWS($A$1:G124))))","v":""},{"$f":"IF(ROWS($A$1:H124)>COUNTIF(Main!$C$8:$C$100,$C$7),\"\",INDEX(Main!I$8:I$100,SMALL(IF(N(Main!I$8:I$100)<>0,IF(Main!$C$8:$C$100=$C$7,ROW(I$8:I$100)-ROW(I$8)+1)),ROWS($A$1:H124))))","v":""},{"$f":"IF(ROWS($A$1:I124)>COUNTIF(Main!$C$8:$C$100,$C$7),\"\",INDEX(Main!J$8:J$100,SMALL(IF(N(Main!J$8:J$100)<>0,IF(Main!$C$8:$C$100=$C$7,ROW(J$8:J$100)-ROW(J$8)+1)),ROWS($A$1:I124))))","v":""},{"$f":"IF(ROWS($A$1:J124)>COUNTIF(Main!$C$8:$C$100,$C$7),\"\",INDEX(Main!K$8:K$100,SMALL(IF(N(Main!K$8:K$100)<>0,IF(Main!$C$8:$C$100=$C$7,ROW(K$8:K$100)-ROW(K$8)+1)),ROWS($A$1:J124))))","v":""},{"$f":"IF(ROWS($A$1:K124)>COUNTIF(Main!$C$8:$C$100,$C$7),\"\",INDEX(Main!L$8:L$100,SMALL(IF(N(Main!L$8:L$100)<>0,IF(Main!$C$8:$C$100=$C$7,ROW(L$8:L$100)-ROW(L$8)+1)),ROWS($A$1:K124))))","v":""}]
[{"$f":"IF(B132=\"\",\"\",MAX($A$7:A131)+1)","v":""},{"$f":"IF(ROWS($A$1:A125)>COUNTIF(Main!$C$8:$C$100,$C$7),\"\",INDEX(Main!B$8:B$100,SMALL(IF(N(Main!B$8:B$100)<>0,IF(Main!$C$8:$C$100=$C$7,ROW(B$8:B$100)-ROW(B$8)+1)),ROWS($A$1:A125))))","v":""},{"$f":"IF(ROWS($A$1:B125)>COUNTIF(Main!$C$8:$C$100,$C$7),\"\",INDEX(Main!C$8:C$100,SMALL(IF(N(Main!C$8:C$100)<>0,IF(Main!$C$8:$C$100=$C$7,ROW(C$8:C$100)-ROW(C$8)+1)),ROWS($A$1:B125))))","v":""},{"$f":"IF(ROWS($A$1:C125)>COUNTIF(Main!$C$8:$C$100,$C$7),\"\",INDEX(Main!D$8:D$100,SMALL(IF(Main!D$8:D$100<>\"\",IF(Main!$C$8:$C$100=$C$7,ROW(D$8:D$100)-ROW(D$8)+1)),ROWS($A$1:C125))))","v":""},{"$f":"IF(ROWS($A$1:D125)>COUNTIF(Main!$C$8:$C$100,$C$7),\"\",INDEX(Main!E$8:E$100,SMALL(IF(N(Main!E$8:E$100)<>0,IF(Main!$C$8:$C$100=$C$7,ROW(E$8:E$100)-ROW(E$8)+1)),ROWS($A$1:D125))))","v":""},{"$f":"IF(ROWS($A$1:E125)>COUNTIF(Main!$C$8:$C$100,$C$7),\"\",INDEX(Main!F$8:F$100,SMALL(IF(Main!F$8:F$100<>\"\",IF(Main!$C$8:$C$100=$C$7,ROW(F$8:F$100)-ROW(F$8)+1)),ROWS($A$1:E125))))","v":""},{"$f":"IF(ROWS($A$1:F125)>COUNTIF(Main!$C$8:$C$100,$C$7),\"\",INDEX(Main!G$8:G$100,SMALL(IF(Main!G$8:G$100<>\"\",IF(Main!$C$8:$C$100=$C$7,ROW(G$8:G$100)-ROW(G$8)+1)),ROWS($A$1:F125))))","v":""},{"$f":"IF(ROWS($A$1:G125)>COUNTIF(Main!$C$8:$C$100,$C$7),\"\",INDEX(Main!H$8:H$100,SMALL(IF(N(Main!H$8:H$100)<>0,IF(Main!$C$8:$C$100=$C$7,ROW(H$8:H$100)-ROW(H$8)+1)),ROWS($A$1:G125))))","v":""},{"$f":"IF(ROWS($A$1:H125)>COUNTIF(Main!$C$8:$C$100,$C$7),\"\",INDEX(Main!I$8:I$100,SMALL(IF(N(Main!I$8:I$100)<>0,IF(Main!$C$8:$C$100=$C$7,ROW(I$8:I$100)-ROW(I$8)+1)),ROWS($A$1:H125))))","v":""},{"$f":"IF(ROWS($A$1:I125)>COUNTIF(Main!$C$8:$C$100,$C$7),\"\",INDEX(Main!J$8:J$100,SMALL(IF(N(Main!J$8:J$100)<>0,IF(Main!$C$8:$C$100=$C$7,ROW(J$8:J$100)-ROW(J$8)+1)),ROWS($A$1:I125))))","v":""},{"$f":"IF(ROWS($A$1:J125)>COUNTIF(Main!$C$8:$C$100,$C$7),\"\",INDEX(Main!K$8:K$100,SMALL(IF(N(Main!K$8:K$100)<>0,IF(Main!$C$8:$C$100=$C$7,ROW(K$8:K$100)-ROW(K$8)+1)),ROWS($A$1:J125))))","v":""},{"$f":"IF(ROWS($A$1:K125)>COUNTIF(Main!$C$8:$C$100,$C$7),\"\",INDEX(Main!L$8:L$100,SMALL(IF(N(Main!L$8:L$100)<>0,IF(Main!$C$8:$C$100=$C$7,ROW(L$8:L$100)-ROW(L$8)+1)),ROWS($A$1:K125))))","v":""}]
[{"$f":"IF(B133=\"\",\"\",MAX($A$7:A132)+1)","v":""},{"$f":"IF(ROWS($A$1:A126)>COUNTIF(Main!$C$8:$C$100,$C$7),\"\",INDEX(Main!B$8:B$100,SMALL(IF(N(Main!B$8:B$100)<>0,IF(Main!$C$8:$C$100=$C$7,ROW(B$8:B$100)-ROW(B$8)+1)),ROWS($A$1:A126))))","v":""},{"$f":"IF(ROWS($A$1:B126)>COUNTIF(Main!$C$8:$C$100,$C$7),\"\",INDEX(Main!C$8:C$100,SMALL(IF(N(Main!C$8:C$100)<>0,IF(Main!$C$8:$C$100=$C$7,ROW(C$8:C$100)-ROW(C$8)+1)),ROWS($A$1:B126))))","v":""},{"$f":"IF(ROWS($A$1:C126)>COUNTIF(Main!$C$8:$C$100,$C$7),\"\",INDEX(Main!D$8:D$100,SMALL(IF(Main!D$8:D$100<>\"\",IF(Main!$C$8:$C$100=$C$7,ROW(D$8:D$100)-ROW(D$8)+1)),ROWS($A$1:C126))))","v":""},{"$f":"IF(ROWS($A$1:D126)>COUNTIF(Main!$C$8:$C$100,$C$7),\"\",INDEX(Main!E$8:E$100,SMALL(IF(N(Main!E$8:E$100)<>0,IF(Main!$C$8:$C$100=$C$7,ROW(E$8:E$100)-ROW(E$8)+1)),ROWS($A$1:D126))))","v":""},{"$f":"IF(ROWS($A$1:E126)>COUNTIF(Main!$C$8:$C$100,$C$7),\"\",INDEX(Main!F$8:F$100,SMALL(IF(Main!F$8:F$100<>\"\",IF(Main!$C$8:$C$100=$C$7,ROW(F$8:F$100)-ROW(F$8)+1)),ROWS($A$1:E126))))","v":""},{"$f":"IF(ROWS($A$1:F126)>COUNTIF(Main!$C$8:$C$100,$C$7),\"\",INDEX(Main!G$8:G$100,SMALL(IF(Main!G$8:G$100<>\"\",IF(Main!$C$8:$C$100=$C$7,ROW(G$8:G$100)-ROW(G$8)+1)),ROWS($A$1:F126))))","v":""},{"$f":"IF(ROWS($A$1:G126)>COUNTIF(Main!$C$8:$C$100,$C$7),\"\",INDEX(Main!H$8:H$100,SMALL(IF(N(Main!H$8:H$100)<>0,IF(Main!$C$8:$C$100=$C$7,ROW(H$8:H$100)-ROW(H$8)+1)),ROWS($A$1:G126))))","v":""},{"$f":"IF(ROWS($A$1:H126)>COUNTIF(Main!$C$8:$C$100,$C$7),\"\",INDEX(Main!I$8:I$100,SMALL(IF(N(Main!I$8:I$100)<>0,IF(Main!$C$8:$C$100=$C$7,ROW(I$8:I$100)-ROW(I$8)+1)),ROWS($A$1:H126))))","v":""},{"$f":"IF(ROWS($A$1:I126)>COUNTIF(Main!$C$8:$C$100,$C$7),\"\",INDEX(Main!J$8:J$100,SMALL(IF(N(Main!J$8:J$100)<>0,IF(Main!$C$8:$C$100=$C$7,ROW(J$8:J$100)-ROW(J$8)+1)),ROWS($A$1:I126))))","v":""},{"$f":"IF(ROWS($A$1:J126)>COUNTIF(Main!$C$8:$C$100,$C$7),\"\",INDEX(Main!K$8:K$100,SMALL(IF(N(Main!K$8:K$100)<>0,IF(Main!$C$8:$C$100=$C$7,ROW(K$8:K$100)-ROW(K$8)+1)),ROWS($A$1:J126))))","v":""},{"$f":"IF(ROWS($A$1:K126)>COUNTIF(Main!$C$8:$C$100,$C$7),\"\",INDEX(Main!L$8:L$100,SMALL(IF(N(Main!L$8:L$100)<>0,IF(Main!$C$8:$C$100=$C$7,ROW(L$8:L$100)-ROW(L$8)+1)),ROWS($A$1:K126))))","v":""}]
[{"$f":"IF(B134=\"\",\"\",MAX($A$7:A133)+1)","v":""},{"$f":"IF(ROWS($A$1:A127)>COUNTIF(Main!$C$8:$C$100,$C$7),\"\",INDEX(Main!B$8:B$100,SMALL(IF(N(Main!B$8:B$100)<>0,IF(Main!$C$8:$C$100=$C$7,ROW(B$8:B$100)-ROW(B$8)+1)),ROWS($A$1:A127))))","v":""},{"$f":"IF(ROWS($A$1:B127)>COUNTIF(Main!$C$8:$C$100,$C$7),\"\",INDEX(Main!C$8:C$100,SMALL(IF(N(Main!C$8:C$100)<>0,IF(Main!$C$8:$C$100=$C$7,ROW(C$8:C$100)-ROW(C$8)+1)),ROWS($A$1:B127))))","v":""},{"$f":"IF(ROWS($A$1:C127)>COUNTIF(Main!$C$8:$C$100,$C$7),\"\",INDEX(Main!D$8:D$100,SMALL(IF(Main!D$8:D$100<>\"\",IF(Main!$C$8:$C$100=$C$7,ROW(D$8:D$100)-ROW(D$8)+1)),ROWS($A$1:C127))))","v":""},{"$f":"IF(ROWS($A$1:D127)>COUNTIF(Main!$C$8:$C$100,$C$7),\"\",INDEX(Main!E$8:E$100,SMALL(IF(N(Main!E$8:E$100)<>0,IF(Main!$C$8:$C$100=$C$7,ROW(E$8:E$100)-ROW(E$8)+1)),ROWS($A$1:D127))))","v":""},{"$f":"IF(ROWS($A$1:E127)>COUNTIF(Main!$C$8:$C$100,$C$7),\"\",INDEX(Main!F$8:F$100,SMALL(IF(Main!F$8:F$100<>\"\",IF(Main!$C$8:$C$100=$C$7,ROW(F$8:F$100)-ROW(F$8)+1)),ROWS($A$1:E127))))","v":""},{"$f":"IF(ROWS($A$1:F127)>COUNTIF(Main!$C$8:$C$100,$C$7),\"\",INDEX(Main!G$8:G$100,SMALL(IF(Main!G$8:G$100<>\"\",IF(Main!$C$8:$C$100=$C$7,ROW(G$8:G$100)-ROW(G$8)+1)),ROWS($A$1:F127))))","v":""},{"$f":"IF(ROWS($A$1:G127)>COUNTIF(Main!$C$8:$C$100,$C$7),\"\",INDEX(Main!H$8:H$100,SMALL(IF(N(Main!H$8:H$100)<>0,IF(Main!$C$8:$C$100=$C$7,ROW(H$8:H$100)-ROW(H$8)+1)),ROWS($A$1:G127))))","v":""},{"$f":"IF(ROWS($A$1:H127)>COUNTIF(Main!$C$8:$C$100,$C$7),\"\",INDEX(Main!I$8:I$100,SMALL(IF(N(Main!I$8:I$100)<>0,IF(Main!$C$8:$C$100=$C$7,ROW(I$8:I$100)-ROW(I$8)+1)),ROWS($A$1:H127))))","v":""},{"$f":"IF(ROWS($A$1:I127)>COUNTIF(Main!$C$8:$C$100,$C$7),\"\",INDEX(Main!J$8:J$100,SMALL(IF(N(Main!J$8:J$100)<>0,IF(Main!$C$8:$C$100=$C$7,ROW(J$8:J$100)-ROW(J$8)+1)),ROWS($A$1:I127))))","v":""},{"$f":"IF(ROWS($A$1:J127)>COUNTIF(Main!$C$8:$C$100,$C$7),\"\",INDEX(Main!K$8:K$100,SMALL(IF(N(Main!K$8:K$100)<>0,IF(Main!$C$8:$C$100=$C$7,ROW(K$8:K$100)-ROW(K$8)+1)),ROWS($A$1:J127))))","v":""},{"$f":"IF(ROWS($A$1:K127)>COUNTIF(Main!$C$8:$C$100,$C$7),\"\",INDEX(Main!L$8:L$100,SMALL(IF(N(Main!L$8:L$100)<>0,IF(Main!$C$8:$C$100=$C$7,ROW(L$8:L$100)-ROW(L$8)+1)),ROWS($A$1:K127))))","v":""}]
[{"$f":"IF(B135=\"\",\"\",MAX($A$7:A134)+1)","v":""},{"$f":"IF(ROWS($A$1:A128)>COUNTIF(Main!$C$8:$C$100,$C$7),\"\",INDEX(Main!B$8:B$100,SMALL(IF(N(Main!B$8:B$100)<>0,IF(Main!$C$8:$C$100=$C$7,ROW(B$8:B$100)-ROW(B$8)+1)),ROWS($A$1:A128))))","v":""},{"$f":"IF(ROWS($A$1:B128)>COUNTIF(Main!$C$8:$C$100,$C$7),\"\",INDEX(Main!C$8:C$100,SMALL(IF(N(Main!C$8:C$100)<>0,IF(Main!$C$8:$C$100=$C$7,ROW(C$8:C$100)-ROW(C$8)+1)),ROWS($A$1:B128))))","v":""},{"$f":"IF(ROWS($A$1:C128)>COUNTIF(Main!$C$8:$C$100,$C$7),\"\",INDEX(Main!D$8:D$100,SMALL(IF(Main!D$8:D$100<>\"\",IF(Main!$C$8:$C$100=$C$7,ROW(D$8:D$100)-ROW(D$8)+1)),ROWS($A$1:C128))))","v":""},{"$f":"IF(ROWS($A$1:D128)>COUNTIF(Main!$C$8:$C$100,$C$7),\"\",INDEX(Main!E$8:E$100,SMALL(IF(N(Main!E$8:E$100)<>0,IF(Main!$C$8:$C$100=$C$7,ROW(E$8:E$100)-ROW(E$8)+1)),ROWS($A$1:D128))))","v":""},{"$f":"IF(ROWS($A$1:E128)>COUNTIF(Main!$C$8:$C$100,$C$7),\"\",INDEX(Main!F$8:F$100,SMALL(IF(Main!F$8:F$100<>\"\",IF(Main!$C$8:$C$100=$C$7,ROW(F$8:F$100)-ROW(F$8)+1)),ROWS($A$1:E128))))","v":""},{"$f":"IF(ROWS($A$1:F128)>COUNTIF(Main!$C$8:$C$100,$C$7),\"\",INDEX(Main!G$8:G$100,SMALL(IF(Main!G$8:G$100<>\"\",IF(Main!$C$8:$C$100=$C$7,ROW(G$8:G$100)-ROW(G$8)+1)),ROWS($A$1:F128))))","v":""},{"$f":"IF(ROWS($A$1:G128)>COUNTIF(Main!$C$8:$C$100,$C$7),\"\",INDEX(Main!H$8:H$100,SMALL(IF(N(Main!H$8:H$100)<>0,IF(Main!$C$8:$C$100=$C$7,ROW(H$8:H$100)-ROW(H$8)+1)),ROWS($A$1:G128))))","v":""},{"$f":"IF(ROWS($A$1:H128)>COUNTIF(Main!$C$8:$C$100,$C$7),\"\",INDEX(Main!I$8:I$100,SMALL(IF(N(Main!I$8:I$100)<>0,IF(Main!$C$8:$C$100=$C$7,ROW(I$8:I$100)-ROW(I$8)+1)),ROWS($A$1:H128))))","v":""},{"$f":"IF(ROWS($A$1:I128)>COUNTIF(Main!$C$8:$C$100,$C$7),\"\",INDEX(Main!J$8:J$100,SMALL(IF(N(Main!J$8:J$100)<>0,IF(Main!$C$8:$C$100=$C$7,ROW(J$8:J$100)-ROW(J$8)+1)),ROWS($A$1:I128))))","v":""},{"$f":"IF(ROWS($A$1:J128)>COUNTIF(Main!$C$8:$C$100,$C$7),\"\",INDEX(Main!K$8:K$100,SMALL(IF(N(Main!K$8:K$100)<>0,IF(Main!$C$8:$C$100=$C$7,ROW(K$8:K$100)-ROW(K$8)+1)),ROWS($A$1:J128))))","v":""},{"$f":"IF(ROWS($A$1:K128)>COUNTIF(Main!$C$8:$C$100,$C$7),\"\",INDEX(Main!L$8:L$100,SMALL(IF(N(Main!L$8:L$100)<>0,IF(Main!$C$8:$C$100=$C$7,ROW(L$8:L$100)-ROW(L$8)+1)),ROWS($A$1:K128))))","v":""}]
[{"$f":"IF(B136=\"\",\"\",MAX($A$7:A135)+1)","v":""},{"$f":"IF(ROWS($A$1:A129)>COUNTIF(Main!$C$8:$C$100,$C$7),\"\",INDEX(Main!B$8:B$100,SMALL(IF(N(Main!B$8:B$100)<>0,IF(Main!$C$8:$C$100=$C$7,ROW(B$8:B$100)-ROW(B$8)+1)),ROWS($A$1:A129))))","v":""},{"$f":"IF(ROWS($A$1:B129)>COUNTIF(Main!$C$8:$C$100,$C$7),\"\",INDEX(Main!C$8:C$100,SMALL(IF(N(Main!C$8:C$100)<>0,IF(Main!$C$8:$C$100=$C$7,ROW(C$8:C$100)-ROW(C$8)+1)),ROWS($A$1:B129))))","v":""},{"$f":"IF(ROWS($A$1:C129)>COUNTIF(Main!$C$8:$C$100,$C$7),\"\",INDEX(Main!D$8:D$100,SMALL(IF(Main!D$8:D$100<>\"\",IF(Main!$C$8:$C$100=$C$7,ROW(D$8:D$100)-ROW(D$8)+1)),ROWS($A$1:C129))))","v":""},{"$f":"IF(ROWS($A$1:D129)>COUNTIF(Main!$C$8:$C$100,$C$7),\"\",INDEX(Main!E$8:E$100,SMALL(IF(N(Main!E$8:E$100)<>0,IF(Main!$C$8:$C$100=$C$7,ROW(E$8:E$100)-ROW(E$8)+1)),ROWS($A$1:D129))))","v":""},{"$f":"IF(ROWS($A$1:E129)>COUNTIF(Main!$C$8:$C$100,$C$7),\"\",INDEX(Main!F$8:F$100,SMALL(IF(Main!F$8:F$100<>\"\",IF(Main!$C$8:$C$100=$C$7,ROW(F$8:F$100)-ROW(F$8)+1)),ROWS($A$1:E129))))","v":""},{"$f":"IF(ROWS($A$1:F129)>COUNTIF(Main!$C$8:$C$100,$C$7),\"\",INDEX(Main!G$8:G$100,SMALL(IF(Main!G$8:G$100<>\"\",IF(Main!$C$8:$C$100=$C$7,ROW(G$8:G$100)-ROW(G$8)+1)),ROWS($A$1:F129))))","v":""},{"$f":"IF(ROWS($A$1:G129)>COUNTIF(Main!$C$8:$C$100,$C$7),\"\",INDEX(Main!H$8:H$100,SMALL(IF(N(Main!H$8:H$100)<>0,IF(Main!$C$8:$C$100=$C$7,ROW(H$8:H$100)-ROW(H$8)+1)),ROWS($A$1:G129))))","v":""},{"$f":"IF(ROWS($A$1:H129)>COUNTIF(Main!$C$8:$C$100,$C$7),\"\",INDEX(Main!I$8:I$100,SMALL(IF(N(Main!I$8:I$100)<>0,IF(Main!$C$8:$C$100=$C$7,ROW(I$8:I$100)-ROW(I$8)+1)),ROWS($A$1:H129))))","v":""},{"$f":"IF(ROWS($A$1:I129)>COUNTIF(Main!$C$8:$C$100,$C$7),\"\",INDEX(Main!J$8:J$100,SMALL(IF(N(Main!J$8:J$100)<>0,IF(Main!$C$8:$C$100=$C$7,ROW(J$8:J$100)-ROW(J$8)+1)),ROWS($A$1:I129))))","v":""},{"$f":"IF(ROWS($A$1:J129)>COUNTIF(Main!$C$8:$C$100,$C$7),\"\",INDEX(Main!K$8:K$100,SMALL(IF(N(Main!K$8:K$100)<>0,IF(Main!$C$8:$C$100=$C$7,ROW(K$8:K$100)-ROW(K$8)+1)),ROWS($A$1:J129))))","v":""},{"$f":"IF(ROWS($A$1:K129)>COUNTIF(Main!$C$8:$C$100,$C$7),\"\",INDEX(Main!L$8:L$100,SMALL(IF(N(Main!L$8:L$100)<>0,IF(Main!$C$8:$C$100=$C$7,ROW(L$8:L$100)-ROW(L$8)+1)),ROWS($A$1:K129))))","v":""}]
[{"$f":"IF(B137=\"\",\"\",MAX($A$7:A136)+1)","v":""},{"$f":"IF(ROWS($A$1:A130)>COUNTIF(Main!$C$8:$C$100,$C$7),\"\",INDEX(Main!B$8:B$100,SMALL(IF(N(Main!B$8:B$100)<>0,IF(Main!$C$8:$C$100=$C$7,ROW(B$8:B$100)-ROW(B$8)+1)),ROWS($A$1:A130))))","v":""},{"$f":"IF(ROWS($A$1:B130)>COUNTIF(Main!$C$8:$C$100,$C$7),\"\",INDEX(Main!C$8:C$100,SMALL(IF(N(Main!C$8:C$100)<>0,IF(Main!$C$8:$C$100=$C$7,ROW(C$8:C$100)-ROW(C$8)+1)),ROWS($A$1:B130))))","v":""},{"$f":"IF(ROWS($A$1:C130)>COUNTIF(Main!$C$8:$C$100,$C$7),\"\",INDEX(Main!D$8:D$100,SMALL(IF(Main!D$8:D$100<>\"\",IF(Main!$C$8:$C$100=$C$7,ROW(D$8:D$100)-ROW(D$8)+1)),ROWS($A$1:C130))))","v":""},{"$f":"IF(ROWS($A$1:D130)>COUNTIF(Main!$C$8:$C$100,$C$7),\"\",INDEX(Main!E$8:E$100,SMALL(IF(N(Main!E$8:E$100)<>0,IF(Main!$C$8:$C$100=$C$7,ROW(E$8:E$100)-ROW(E$8)+1)),ROWS($A$1:D130))))","v":""},{"$f":"IF(ROWS($A$1:E130)>COUNTIF(Main!$C$8:$C$100,$C$7),\"\",INDEX(Main!F$8:F$100,SMALL(IF(Main!F$8:F$100<>\"\",IF(Main!$C$8:$C$100=$C$7,ROW(F$8:F$100)-ROW(F$8)+1)),ROWS($A$1:E130))))","v":""},{"$f":"IF(ROWS($A$1:F130)>COUNTIF(Main!$C$8:$C$100,$C$7),\"\",INDEX(Main!G$8:G$100,SMALL(IF(Main!G$8:G$100<>\"\",IF(Main!$C$8:$C$100=$C$7,ROW(G$8:G$100)-ROW(G$8)+1)),ROWS($A$1:F130))))","v":""},{"$f":"IF(ROWS($A$1:G130)>COUNTIF(Main!$C$8:$C$100,$C$7),\"\",INDEX(Main!H$8:H$100,SMALL(IF(N(Main!H$8:H$100)<>0,IF(Main!$C$8:$C$100=$C$7,ROW(H$8:H$100)-ROW(H$8)+1)),ROWS($A$1:G130))))","v":""},{"$f":"IF(ROWS($A$1:H130)>COUNTIF(Main!$C$8:$C$100,$C$7),\"\",INDEX(Main!I$8:I$100,SMALL(IF(N(Main!I$8:I$100)<>0,IF(Main!$C$8:$C$100=$C$7,ROW(I$8:I$100)-ROW(I$8)+1)),ROWS($A$1:H130))))","v":""},{"$f":"IF(ROWS($A$1:I130)>COUNTIF(Main!$C$8:$C$100,$C$7),\"\",INDEX(Main!J$8:J$100,SMALL(IF(N(Main!J$8:J$100)<>0,IF(Main!$C$8:$C$100=$C$7,ROW(J$8:J$100)-ROW(J$8)+1)),ROWS($A$1:I130))))","v":""},{"$f":"IF(ROWS($A$1:J130)>COUNTIF(Main!$C$8:$C$100,$C$7),\"\",INDEX(Main!K$8:K$100,SMALL(IF(N(Main!K$8:K$100)<>0,IF(Main!$C$8:$C$100=$C$7,ROW(K$8:K$100)-ROW(K$8)+1)),ROWS($A$1:J130))))","v":""},{"$f":"IF(ROWS($A$1:K130)>COUNTIF(Main!$C$8:$C$100,$C$7),\"\",INDEX(Main!L$8:L$100,SMALL(IF(N(Main!L$8:L$100)<>0,IF(Main!$C$8:$C$100=$C$7,ROW(L$8:L$100)-ROW(L$8)+1)),ROWS($A$1:K130))))","v":""}]
[{"$f":"IF(B138=\"\",\"\",MAX($A$7:A137)+1)","v":""},{"$f":"IF(ROWS($A$1:A131)>COUNTIF(Main!$C$8:$C$100,$C$7),\"\",INDEX(Main!B$8:B$100,SMALL(IF(N(Main!B$8:B$100)<>0,IF(Main!$C$8:$C$100=$C$7,ROW(B$8:B$100)-ROW(B$8)+1)),ROWS($A$1:A131))))","v":""},{"$f":"IF(ROWS($A$1:B131)>COUNTIF(Main!$C$8:$C$100,$C$7),\"\",INDEX(Main!C$8:C$100,SMALL(IF(N(Main!C$8:C$100)<>0,IF(Main!$C$8:$C$100=$C$7,ROW(C$8:C$100)-ROW(C$8)+1)),ROWS($A$1:B131))))","v":""},{"$f":"IF(ROWS($A$1:C131)>COUNTIF(Main!$C$8:$C$100,$C$7),\"\",INDEX(Main!D$8:D$100,SMALL(IF(Main!D$8:D$100<>\"\",IF(Main!$C$8:$C$100=$C$7,ROW(D$8:D$100)-ROW(D$8)+1)),ROWS($A$1:C131))))","v":""},{"$f":"IF(ROWS($A$1:D131)>COUNTIF(Main!$C$8:$C$100,$C$7),\"\",INDEX(Main!E$8:E$100,SMALL(IF(N(Main!E$8:E$100)<>0,IF(Main!$C$8:$C$100=$C$7,ROW(E$8:E$100)-ROW(E$8)+1)),ROWS($A$1:D131))))","v":""},{"$f":"IF(ROWS($A$1:E131)>COUNTIF(Main!$C$8:$C$100,$C$7),\"\",INDEX(Main!F$8:F$100,SMALL(IF(Main!F$8:F$100<>\"\",IF(Main!$C$8:$C$100=$C$7,ROW(F$8:F$100)-ROW(F$8)+1)),ROWS($A$1:E131))))","v":""},{"$f":"IF(ROWS($A$1:F131)>COUNTIF(Main!$C$8:$C$100,$C$7),\"\",INDEX(Main!G$8:G$100,SMALL(IF(Main!G$8:G$100<>\"\",IF(Main!$C$8:$C$100=$C$7,ROW(G$8:G$100)-ROW(G$8)+1)),ROWS($A$1:F131))))","v":""},{"$f":"IF(ROWS($A$1:G131)>COUNTIF(Main!$C$8:$C$100,$C$7),\"\",INDEX(Main!H$8:H$100,SMALL(IF(N(Main!H$8:H$100)<>0,IF(Main!$C$8:$C$100=$C$7,ROW(H$8:H$100)-ROW(H$8)+1)),ROWS($A$1:G131))))","v":""},{"$f":"IF(ROWS($A$1:H131)>COUNTIF(Main!$C$8:$C$100,$C$7),\"\",INDEX(Main!I$8:I$100,SMALL(IF(N(Main!I$8:I$100)<>0,IF(Main!$C$8:$C$100=$C$7,ROW(I$8:I$100)-ROW(I$8)+1)),ROWS($A$1:H131))))","v":""},{"$f":"IF(ROWS($A$1:I131)>COUNTIF(Main!$C$8:$C$100,$C$7),\"\",INDEX(Main!J$8:J$100,SMALL(IF(N(Main!J$8:J$100)<>0,IF(Main!$C$8:$C$100=$C$7,ROW(J$8:J$100)-ROW(J$8)+1)),ROWS($A$1:I131))))","v":""},{"$f":"IF(ROWS($A$1:J131)>COUNTIF(Main!$C$8:$C$100,$C$7),\"\",INDEX(Main!K$8:K$100,SMALL(IF(N(Main!K$8:K$100)<>0,IF(Main!$C$8:$C$100=$C$7,ROW(K$8:K$100)-ROW(K$8)+1)),ROWS($A$1:J131))))","v":""},{"$f":"IF(ROWS($A$1:K131)>COUNTIF(Main!$C$8:$C$100,$C$7),\"\",INDEX(Main!L$8:L$100,SMALL(IF(N(Main!L$8:L$100)<>0,IF(Main!$C$8:$C$100=$C$7,ROW(L$8:L$100)-ROW(L$8)+1)),ROWS($A$1:K131))))","v":""}]
[{"$f":"IF(B139=\"\",\"\",MAX($A$7:A138)+1)","v":""},{"$f":"IF(ROWS($A$1:A132)>COUNTIF(Main!$C$8:$C$100,$C$7),\"\",INDEX(Main!B$8:B$100,SMALL(IF(N(Main!B$8:B$100)<>0,IF(Main!$C$8:$C$100=$C$7,ROW(B$8:B$100)-ROW(B$8)+1)),ROWS($A$1:A132))))","v":""},{"$f":"IF(ROWS($A$1:B132)>COUNTIF(Main!$C$8:$C$100,$C$7),\"\",INDEX(Main!C$8:C$100,SMALL(IF(N(Main!C$8:C$100)<>0,IF(Main!$C$8:$C$100=$C$7,ROW(C$8:C$100)-ROW(C$8)+1)),ROWS($A$1:B132))))","v":""},{"$f":"IF(ROWS($A$1:C132)>COUNTIF(Main!$C$8:$C$100,$C$7),\"\",INDEX(Main!D$8:D$100,SMALL(IF(Main!D$8:D$100<>\"\",IF(Main!$C$8:$C$100=$C$7,ROW(D$8:D$100)-ROW(D$8)+1)),ROWS($A$1:C132))))","v":""},{"$f":"IF(ROWS($A$1:D132)>COUNTIF(Main!$C$8:$C$100,$C$7),\"\",INDEX(Main!E$8:E$100,SMALL(IF(N(Main!E$8:E$100)<>0,IF(Main!$C$8:$C$100=$C$7,ROW(E$8:E$100)-ROW(E$8)+1)),ROWS($A$1:D132))))","v":""},{"$f":"IF(ROWS($A$1:E132)>COUNTIF(Main!$C$8:$C$100,$C$7),\"\",INDEX(Main!F$8:F$100,SMALL(IF(Main!F$8:F$100<>\"\",IF(Main!$C$8:$C$100=$C$7,ROW(F$8:F$100)-ROW(F$8)+1)),ROWS($A$1:E132))))","v":""},{"$f":"IF(ROWS($A$1:F132)>COUNTIF(Main!$C$8:$C$100,$C$7),\"\",INDEX(Main!G$8:G$100,SMALL(IF(Main!G$8:G$100<>\"\",IF(Main!$C$8:$C$100=$C$7,ROW(G$8:G$100)-ROW(G$8)+1)),ROWS($A$1:F132))))","v":""},{"$f":"IF(ROWS($A$1:G132)>COUNTIF(Main!$C$8:$C$100,$C$7),\"\",INDEX(Main!H$8:H$100,SMALL(IF(N(Main!H$8:H$100)<>0,IF(Main!$C$8:$C$100=$C$7,ROW(H$8:H$100)-ROW(H$8)+1)),ROWS($A$1:G132))))","v":""},{"$f":"IF(ROWS($A$1:H132)>COUNTIF(Main!$C$8:$C$100,$C$7),\"\",INDEX(Main!I$8:I$100,SMALL(IF(N(Main!I$8:I$100)<>0,IF(Main!$C$8:$C$100=$C$7,ROW(I$8:I$100)-ROW(I$8)+1)),ROWS($A$1:H132))))","v":""},{"$f":"IF(ROWS($A$1:I132)>COUNTIF(Main!$C$8:$C$100,$C$7),\"\",INDEX(Main!J$8:J$100,SMALL(IF(N(Main!J$8:J$100)<>0,IF(Main!$C$8:$C$100=$C$7,ROW(J$8:J$100)-ROW(J$8)+1)),ROWS($A$1:I132))))","v":""},{"$f":"IF(ROWS($A$1:J132)>COUNTIF(Main!$C$8:$C$100,$C$7),\"\",INDEX(Main!K$8:K$100,SMALL(IF(N(Main!K$8:K$100)<>0,IF(Main!$C$8:$C$100=$C$7,ROW(K$8:K$100)-ROW(K$8)+1)),ROWS($A$1:J132))))","v":""},{"$f":"IF(ROWS($A$1:K132)>COUNTIF(Main!$C$8:$C$100,$C$7),\"\",INDEX(Main!L$8:L$100,SMALL(IF(N(Main!L$8:L$100)<>0,IF(Main!$C$8:$C$100=$C$7,ROW(L$8:L$100)-ROW(L$8)+1)),ROWS($A$1:K132))))","v":""}]
[{"$f":"IF(B140=\"\",\"\",MAX($A$7:A139)+1)","v":""},{"$f":"IF(ROWS($A$1:A133)>COUNTIF(Main!$C$8:$C$100,$C$7),\"\",INDEX(Main!B$8:B$100,SMALL(IF(N(Main!B$8:B$100)<>0,IF(Main!$C$8:$C$100=$C$7,ROW(B$8:B$100)-ROW(B$8)+1)),ROWS($A$1:A133))))","v":""},{"$f":"IF(ROWS($A$1:B133)>COUNTIF(Main!$C$8:$C$100,$C$7),\"\",INDEX(Main!C$8:C$100,SMALL(IF(N(Main!C$8:C$100)<>0,IF(Main!$C$8:$C$100=$C$7,ROW(C$8:C$100)-ROW(C$8)+1)),ROWS($A$1:B133))))","v":""},{"$f":"IF(ROWS($A$1:C133)>COUNTIF(Main!$C$8:$C$100,$C$7),\"\",INDEX(Main!D$8:D$100,SMALL(IF(Main!D$8:D$100<>\"\",IF(Main!$C$8:$C$100=$C$7,ROW(D$8:D$100)-ROW(D$8)+1)),ROWS($A$1:C133))))","v":""},{"$f":"IF(ROWS($A$1:D133)>COUNTIF(Main!$C$8:$C$100,$C$7),\"\",INDEX(Main!E$8:E$100,SMALL(IF(N(Main!E$8:E$100)<>0,IF(Main!$C$8:$C$100=$C$7,ROW(E$8:E$100)-ROW(E$8)+1)),ROWS($A$1:D133))))","v":""},{"$f":"IF(ROWS($A$1:E133)>COUNTIF(Main!$C$8:$C$100,$C$7),\"\",INDEX(Main!F$8:F$100,SMALL(IF(Main!F$8:F$100<>\"\",IF(Main!$C$8:$C$100=$C$7,ROW(F$8:F$100)-ROW(F$8)+1)),ROWS($A$1:E133))))","v":""},{"$f":"IF(ROWS($A$1:F133)>COUNTIF(Main!$C$8:$C$100,$C$7),\"\",INDEX(Main!G$8:G$100,SMALL(IF(Main!G$8:G$100<>\"\",IF(Main!$C$8:$C$100=$C$7,ROW(G$8:G$100)-ROW(G$8)+1)),ROWS($A$1:F133))))","v":""},{"$f":"IF(ROWS($A$1:G133)>COUNTIF(Main!$C$8:$C$100,$C$7),\"\",INDEX(Main!H$8:H$100,SMALL(IF(N(Main!H$8:H$100)<>0,IF(Main!$C$8:$C$100=$C$7,ROW(H$8:H$100)-ROW(H$8)+1)),ROWS($A$1:G133))))","v":""},{"$f":"IF(ROWS($A$1:H133)>COUNTIF(Main!$C$8:$C$100,$C$7),\"\",INDEX(Main!I$8:I$100,SMALL(IF(N(Main!I$8:I$100)<>0,IF(Main!$C$8:$C$100=$C$7,ROW(I$8:I$100)-ROW(I$8)+1)),ROWS($A$1:H133))))","v":""},{"$f":"IF(ROWS($A$1:I133)>COUNTIF(Main!$C$8:$C$100,$C$7),\"\",INDEX(Main!J$8:J$100,SMALL(IF(N(Main!J$8:J$100)<>0,IF(Main!$C$8:$C$100=$C$7,ROW(J$8:J$100)-ROW(J$8)+1)),ROWS($A$1:I133))))","v":""},{"$f":"IF(ROWS($A$1:J133)>COUNTIF(Main!$C$8:$C$100,$C$7),\"\",INDEX(Main!K$8:K$100,SMALL(IF(N(Main!K$8:K$100)<>0,IF(Main!$C$8:$C$100=$C$7,ROW(K$8:K$100)-ROW(K$8)+1)),ROWS($A$1:J133))))","v":""},{"$f":"IF(ROWS($A$1:K133)>COUNTIF(Main!$C$8:$C$100,$C$7),\"\",INDEX(Main!L$8:L$100,SMALL(IF(N(Main!L$8:L$100)<>0,IF(Main!$C$8:$C$100=$C$7,ROW(L$8:L$100)-ROW(L$8)+1)),ROWS($A$1:K133))))","v":""}]
[{"$f":"IF(B141=\"\",\"\",MAX($A$7:A140)+1)","v":""},{"$f":"IF(ROWS($A$1:A134)>COUNTIF(Main!$C$8:$C$100,$C$7),\"\",INDEX(Main!B$8:B$100,SMALL(IF(N(Main!B$8:B$100)<>0,IF(Main!$C$8:$C$100=$C$7,ROW(B$8:B$100)-ROW(B$8)+1)),ROWS($A$1:A134))))","v":""},{"$f":"IF(ROWS($A$1:B134)>COUNTIF(Main!$C$8:$C$100,$C$7),\"\",INDEX(Main!C$8:C$100,SMALL(IF(N(Main!C$8:C$100)<>0,IF(Main!$C$8:$C$100=$C$7,ROW(C$8:C$100)-ROW(C$8)+1)),ROWS($A$1:B134))))","v":""},{"$f":"IF(ROWS($A$1:C134)>COUNTIF(Main!$C$8:$C$100,$C$7),\"\",INDEX(Main!D$8:D$100,SMALL(IF(Main!D$8:D$100<>\"\",IF(Main!$C$8:$C$100=$C$7,ROW(D$8:D$100)-ROW(D$8)+1)),ROWS($A$1:C134))))","v":""},{"$f":"IF(ROWS($A$1:D134)>COUNTIF(Main!$C$8:$C$100,$C$7),\"\",INDEX(Main!E$8:E$100,SMALL(IF(N(Main!E$8:E$100)<>0,IF(Main!$C$8:$C$100=$C$7,ROW(E$8:E$100)-ROW(E$8)+1)),ROWS($A$1:D134))))","v":""},{"$f":"IF(ROWS($A$1:E134)>COUNTIF(Main!$C$8:$C$100,$C$7),\"\",INDEX(Main!F$8:F$100,SMALL(IF(Main!F$8:F$100<>\"\",IF(Main!$C$8:$C$100=$C$7,ROW(F$8:F$100)-ROW(F$8)+1)),ROWS($A$1:E134))))","v":""},{"$f":"IF(ROWS($A$1:F134)>COUNTIF(Main!$C$8:$C$100,$C$7),\"\",INDEX(Main!G$8:G$100,SMALL(IF(Main!G$8:G$100<>\"\",IF(Main!$C$8:$C$100=$C$7,ROW(G$8:G$100)-ROW(G$8)+1)),ROWS($A$1:F134))))","v":""},{"$f":"IF(ROWS($A$1:G134)>COUNTIF(Main!$C$8:$C$100,$C$7),\"\",INDEX(Main!H$8:H$100,SMALL(IF(N(Main!H$8:H$100)<>0,IF(Main!$C$8:$C$100=$C$7,ROW(H$8:H$100)-ROW(H$8)+1)),ROWS($A$1:G134))))","v":""},{"$f":"IF(ROWS($A$1:H134)>COUNTIF(Main!$C$8:$C$100,$C$7),\"\",INDEX(Main!I$8:I$100,SMALL(IF(N(Main!I$8:I$100)<>0,IF(Main!$C$8:$C$100=$C$7,ROW(I$8:I$100)-ROW(I$8)+1)),ROWS($A$1:H134))))","v":""},{"$f":"IF(ROWS($A$1:I134)>COUNTIF(Main!$C$8:$C$100,$C$7),\"\",INDEX(Main!J$8:J$100,SMALL(IF(N(Main!J$8:J$100)<>0,IF(Main!$C$8:$C$100=$C$7,ROW(J$8:J$100)-ROW(J$8)+1)),ROWS($A$1:I134))))","v":""},{"$f":"IF(ROWS($A$1:J134)>COUNTIF(Main!$C$8:$C$100,$C$7),\"\",INDEX(Main!K$8:K$100,SMALL(IF(N(Main!K$8:K$100)<>0,IF(Main!$C$8:$C$100=$C$7,ROW(K$8:K$100)-ROW(K$8)+1)),ROWS($A$1:J134))))","v":""},{"$f":"IF(ROWS($A$1:K134)>COUNTIF(Main!$C$8:$C$100,$C$7),\"\",INDEX(Main!L$8:L$100,SMALL(IF(N(Main!L$8:L$100)<>0,IF(Main!$C$8:$C$100=$C$7,ROW(L$8:L$100)-ROW(L$8)+1)),ROWS($A$1:K134))))","v":""}]
[{"$f":"IF(B142=\"\",\"\",MAX($A$7:A141)+1)","v":""},{"$f":"IF(ROWS($A$1:A135)>COUNTIF(Main!$C$8:$C$100,$C$7),\"\",INDEX(Main!B$8:B$100,SMALL(IF(N(Main!B$8:B$100)<>0,IF(Main!$C$8:$C$100=$C$7,ROW(B$8:B$100)-ROW(B$8)+1)),ROWS($A$1:A135))))","v":""},{"$f":"IF(ROWS($A$1:B135)>COUNTIF(Main!$C$8:$C$100,$C$7),\"\",INDEX(Main!C$8:C$100,SMALL(IF(N(Main!C$8:C$100)<>0,IF(Main!$C$8:$C$100=$C$7,ROW(C$8:C$100)-ROW(C$8)+1)),ROWS($A$1:B135))))","v":""},{"$f":"IF(ROWS($A$1:C135)>COUNTIF(Main!$C$8:$C$100,$C$7),\"\",INDEX(Main!D$8:D$100,SMALL(IF(Main!D$8:D$100<>\"\",IF(Main!$C$8:$C$100=$C$7,ROW(D$8:D$100)-ROW(D$8)+1)),ROWS($A$1:C135))))","v":""},{"$f":"IF(ROWS($A$1:D135)>COUNTIF(Main!$C$8:$C$100,$C$7),\"\",INDEX(Main!E$8:E$100,SMALL(IF(N(Main!E$8:E$100)<>0,IF(Main!$C$8:$C$100=$C$7,ROW(E$8:E$100)-ROW(E$8)+1)),ROWS($A$1:D135))))","v":""},{"$f":"IF(ROWS($A$1:E135)>COUNTIF(Main!$C$8:$C$100,$C$7),\"\",INDEX(Main!F$8:F$100,SMALL(IF(Main!F$8:F$100<>\"\",IF(Main!$C$8:$C$100=$C$7,ROW(F$8:F$100)-ROW(F$8)+1)),ROWS($A$1:E135))))","v":""},{"$f":"IF(ROWS($A$1:F135)>COUNTIF(Main!$C$8:$C$100,$C$7),\"\",INDEX(Main!G$8:G$100,SMALL(IF(Main!G$8:G$100<>\"\",IF(Main!$C$8:$C$100=$C$7,ROW(G$8:G$100)-ROW(G$8)+1)),ROWS($A$1:F135))))","v":""},{"$f":"IF(ROWS($A$1:G135)>COUNTIF(Main!$C$8:$C$100,$C$7),\"\",INDEX(Main!H$8:H$100,SMALL(IF(N(Main!H$8:H$100)<>0,IF(Main!$C$8:$C$100=$C$7,ROW(H$8:H$100)-ROW(H$8)+1)),ROWS($A$1:G135))))","v":""},{"$f":"IF(ROWS($A$1:H135)>COUNTIF(Main!$C$8:$C$100,$C$7),\"\",INDEX(Main!I$8:I$100,SMALL(IF(N(Main!I$8:I$100)<>0,IF(Main!$C$8:$C$100=$C$7,ROW(I$8:I$100)-ROW(I$8)+1)),ROWS($A$1:H135))))","v":""},{"$f":"IF(ROWS($A$1:I135)>COUNTIF(Main!$C$8:$C$100,$C$7),\"\",INDEX(Main!J$8:J$100,SMALL(IF(N(Main!J$8:J$100)<>0,IF(Main!$C$8:$C$100=$C$7,ROW(J$8:J$100)-ROW(J$8)+1)),ROWS($A$1:I135))))","v":""},{"$f":"IF(ROWS($A$1:J135)>COUNTIF(Main!$C$8:$C$100,$C$7),\"\",INDEX(Main!K$8:K$100,SMALL(IF(N(Main!K$8:K$100)<>0,IF(Main!$C$8:$C$100=$C$7,ROW(K$8:K$100)-ROW(K$8)+1)),ROWS($A$1:J135))))","v":""},{"$f":"IF(ROWS($A$1:K135)>COUNTIF(Main!$C$8:$C$100,$C$7),\"\",INDEX(Main!L$8:L$100,SMALL(IF(N(Main!L$8:L$100)<>0,IF(Main!$C$8:$C$100=$C$7,ROW(L$8:L$100)-ROW(L$8)+1)),ROWS($A$1:K135))))","v":""}]
[{"$f":"IF(B143=\"\",\"\",MAX($A$7:A142)+1)","v":""},{"$f":"IF(ROWS($A$1:A136)>COUNTIF(Main!$C$8:$C$100,$C$7),\"\",INDEX(Main!B$8:B$100,SMALL(IF(N(Main!B$8:B$100)<>0,IF(Main!$C$8:$C$100=$C$7,ROW(B$8:B$100)-ROW(B$8)+1)),ROWS($A$1:A136))))","v":""},{"$f":"IF(ROWS($A$1:B136)>COUNTIF(Main!$C$8:$C$100,$C$7),\"\",INDEX(Main!C$8:C$100,SMALL(IF(N(Main!C$8:C$100)<>0,IF(Main!$C$8:$C$100=$C$7,ROW(C$8:C$100)-ROW(C$8)+1)),ROWS($A$1:B136))))","v":""},{"$f":"IF(ROWS($A$1:C136)>COUNTIF(Main!$C$8:$C$100,$C$7),\"\",INDEX(Main!D$8:D$100,SMALL(IF(Main!D$8:D$100<>\"\",IF(Main!$C$8:$C$100=$C$7,ROW(D$8:D$100)-ROW(D$8)+1)),ROWS($A$1:C136))))","v":""},{"$f":"IF(ROWS($A$1:D136)>COUNTIF(Main!$C$8:$C$100,$C$7),\"\",INDEX(Main!E$8:E$100,SMALL(IF(N(Main!E$8:E$100)<>0,IF(Main!$C$8:$C$100=$C$7,ROW(E$8:E$100)-ROW(E$8)+1)),ROWS($A$1:D136))))","v":""},{"$f":"IF(ROWS($A$1:E136)>COUNTIF(Main!$C$8:$C$100,$C$7),\"\",INDEX(Main!F$8:F$100,SMALL(IF(Main!F$8:F$100<>\"\",IF(Main!$C$8:$C$100=$C$7,ROW(F$8:F$100)-ROW(F$8)+1)),ROWS($A$1:E136))))","v":""},{"$f":"IF(ROWS($A$1:F136)>COUNTIF(Main!$C$8:$C$100,$C$7),\"\",INDEX(Main!G$8:G$100,SMALL(IF(Main!G$8:G$100<>\"\",IF(Main!$C$8:$C$100=$C$7,ROW(G$8:G$100)-ROW(G$8)+1)),ROWS($A$1:F136))))","v":""},{"$f":"IF(ROWS($A$1:G136)>COUNTIF(Main!$C$8:$C$100,$C$7),\"\",INDEX(Main!H$8:H$100,SMALL(IF(N(Main!H$8:H$100)<>0,IF(Main!$C$8:$C$100=$C$7,ROW(H$8:H$100)-ROW(H$8)+1)),ROWS($A$1:G136))))","v":""},{"$f":"IF(ROWS($A$1:H136)>COUNTIF(Main!$C$8:$C$100,$C$7),\"\",INDEX(Main!I$8:I$100,SMALL(IF(N(Main!I$8:I$100)<>0,IF(Main!$C$8:$C$100=$C$7,ROW(I$8:I$100)-ROW(I$8)+1)),ROWS($A$1:H136))))","v":""},{"$f":"IF(ROWS($A$1:I136)>COUNTIF(Main!$C$8:$C$100,$C$7),\"\",INDEX(Main!J$8:J$100,SMALL(IF(N(Main!J$8:J$100)<>0,IF(Main!$C$8:$C$100=$C$7,ROW(J$8:J$100)-ROW(J$8)+1)),ROWS($A$1:I136))))","v":""},{"$f":"IF(ROWS($A$1:J136)>COUNTIF(Main!$C$8:$C$100,$C$7),\"\",INDEX(Main!K$8:K$100,SMALL(IF(N(Main!K$8:K$100)<>0,IF(Main!$C$8:$C$100=$C$7,ROW(K$8:K$100)-ROW(K$8)+1)),ROWS($A$1:J136))))","v":""},{"$f":"IF(ROWS($A$1:K136)>COUNTIF(Main!$C$8:$C$100,$C$7),\"\",INDEX(Main!L$8:L$100,SMALL(IF(N(Main!L$8:L$100)<>0,IF(Main!$C$8:$C$100=$C$7,ROW(L$8:L$100)-ROW(L$8)+1)),ROWS($A$1:K136))))","v":""}]
[{"$f":"IF(B144=\"\",\"\",MAX($A$7:A143)+1)","v":""},{"$f":"IF(ROWS($A$1:A137)>COUNTIF(Main!$C$8:$C$100,$C$7),\"\",INDEX(Main!B$8:B$100,SMALL(IF(N(Main!B$8:B$100)<>0,IF(Main!$C$8:$C$100=$C$7,ROW(B$8:B$100)-ROW(B$8)+1)),ROWS($A$1:A137))))","v":""},{"$f":"IF(ROWS($A$1:B137)>COUNTIF(Main!$C$8:$C$100,$C$7),\"\",INDEX(Main!C$8:C$100,SMALL(IF(N(Main!C$8:C$100)<>0,IF(Main!$C$8:$C$100=$C$7,ROW(C$8:C$100)-ROW(C$8)+1)),ROWS($A$1:B137))))","v":""},{"$f":"IF(ROWS($A$1:C137)>COUNTIF(Main!$C$8:$C$100,$C$7),\"\",INDEX(Main!D$8:D$100,SMALL(IF(Main!D$8:D$100<>\"\",IF(Main!$C$8:$C$100=$C$7,ROW(D$8:D$100)-ROW(D$8)+1)),ROWS($A$1:C137))))","v":""},{"$f":"IF(ROWS($A$1:D137)>COUNTIF(Main!$C$8:$C$100,$C$7),\"\",INDEX(Main!E$8:E$100,SMALL(IF(N(Main!E$8:E$100)<>0,IF(Main!$C$8:$C$100=$C$7,ROW(E$8:E$100)-ROW(E$8)+1)),ROWS($A$1:D137))))","v":""},{"$f":"IF(ROWS($A$1:E137)>COUNTIF(Main!$C$8:$C$100,$C$7),\"\",INDEX(Main!F$8:F$100,SMALL(IF(Main!F$8:F$100<>\"\",IF(Main!$C$8:$C$100=$C$7,ROW(F$8:F$100)-ROW(F$8)+1)),ROWS($A$1:E137))))","v":""},{"$f":"IF(ROWS($A$1:F137)>COUNTIF(Main!$C$8:$C$100,$C$7),\"\",INDEX(Main!G$8:G$100,SMALL(IF(Main!G$8:G$100<>\"\",IF(Main!$C$8:$C$100=$C$7,ROW(G$8:G$100)-ROW(G$8)+1)),ROWS($A$1:F137))))","v":""},{"$f":"IF(ROWS($A$1:G137)>COUNTIF(Main!$C$8:$C$100,$C$7),\"\",INDEX(Main!H$8:H$100,SMALL(IF(N(Main!H$8:H$100)<>0,IF(Main!$C$8:$C$100=$C$7,ROW(H$8:H$100)-ROW(H$8)+1)),ROWS($A$1:G137))))","v":""},{"$f":"IF(ROWS($A$1:H137)>COUNTIF(Main!$C$8:$C$100,$C$7),\"\",INDEX(Main!I$8:I$100,SMALL(IF(N(Main!I$8:I$100)<>0,IF(Main!$C$8:$C$100=$C$7,ROW(I$8:I$100)-ROW(I$8)+1)),ROWS($A$1:H137))))","v":""},{"$f":"IF(ROWS($A$1:I137)>COUNTIF(Main!$C$8:$C$100,$C$7),\"\",INDEX(Main!J$8:J$100,SMALL(IF(N(Main!J$8:J$100)<>0,IF(Main!$C$8:$C$100=$C$7,ROW(J$8:J$100)-ROW(J$8)+1)),ROWS($A$1:I137))))","v":""},{"$f":"IF(ROWS($A$1:J137)>COUNTIF(Main!$C$8:$C$100,$C$7),\"\",INDEX(Main!K$8:K$100,SMALL(IF(N(Main!K$8:K$100)<>0,IF(Main!$C$8:$C$100=$C$7,ROW(K$8:K$100)-ROW(K$8)+1)),ROWS($A$1:J137))))","v":""},{"$f":"IF(ROWS($A$1:K137)>COUNTIF(Main!$C$8:$C$100,$C$7),\"\",INDEX(Main!L$8:L$100,SMALL(IF(N(Main!L$8:L$100)<>0,IF(Main!$C$8:$C$100=$C$7,ROW(L$8:L$100)-ROW(L$8)+1)),ROWS($A$1:K137))))","v":""}]
[{"$f":"IF(B145=\"\",\"\",MAX($A$7:A144)+1)","v":""},null,null,null,null,null,null,null,null,null,null,{"$f":"IF(AND(I145=\"\",J145=\"\"),\"\",L144+I145-J145-K145)","v":""}]
[{"$f":"IF(B146=\"\",\"\",MAX($A$7:A145)+1)","v":""},null,null,null,null,null,null,null,null,null,null,""]
[{"$f":"IF(B147=\"\",\"\",MAX($A$7:A146)+1)","v":""},null,null,null,null,null,null,null,null,null,null,""]
[{"$f":"IF(B148=\"\",\"\",MAX($A$7:A147)+1)","v":""},null,null,null,null,null,null,null,null,null,null,""]
[{"$f":"IF(B149=\"\",\"\",MAX($A$7:A148)+1)","v":""},null,null,null,null,null,null,null,null,null,null,""]
[{"$f":"IF(B150=\"\",\"\",MAX($A$7:A149)+1)","v":""},null,null,null,null,null,null,null,null,null,null,""]
[{"$f":"IF(B151=\"\",\"\",MAX($A$7:A150)+1)","v":""},null,null,null,null,null,null,null,null,null,null,""]
[{"$f":"IF(B152=\"\",\"\",MAX($A$7:A151)+1)","v":""},null,null,null,null,null,null,null,null,null,null,""]
[{"$f":"IF(B153=\"\",\"\",MAX($A$7:A152)+1)","v":""},null,null,null,null,null,null,null,null,null,null,""]
[{"$f":"IF(B154=\"\",\"\",MAX($A$7:A153)+1)","v":""},null,null,null,null,null,null,null,null,null,null,""]
[{"$f":"IF(B155=\"\",\"\",MAX($A$7:A154)+1)","v":""},null,null,null,null,null,null,null,null,null,null,""]
[{"$f":"IF(B156=\"\",\"\",MAX($A$7:A155)+1)","v":""},null,null,null,null,null,null,null,null,null,null,""]
[{"$f":"IF(B157=\"\",\"\",MAX($A$7:A156)+1)","v":""},null,null,null,null,null,null,null,null,null,null,""]
[{"$f":"IF(B158=\"\",\"\",MAX($A$7:A157)+1)","v":""},null,null,null,null,null,null,null,null,null,null,""]
[{"$f":"IF(B159=\"\",\"\",MAX($A$7:A158)+1)","v":""},null,null,null,null,null,null,null,null,null,null,""]
[{"$f":"IF(B160=\"\",\"\",MAX($A$7:A159)+1)","v":""},null,null,null,null,null,null,null,null,null,null,""]
[{"$f":"IF(B161=\"\",\"\",MAX($A$7:A160)+1)","v":""},null,null,null,null,null,null,null,null,null,null,""]
[{"$f":"IF(B162=\"\",\"\",MAX($A$7:A161)+1)","v":""},null,null,null,null,null,null,null,null,null,null,""]
[{"$f":"IF(B163=\"\",\"\",MAX($A$7:A162)+1)","v":""},null,null,null,null,null,null,null,null,null,null,""]
[{"$f":"IF(B164=\"\",\"\",MAX($A$7:A163)+1)","v":""},null,null,null,null,null,null,null,null,null,null,""]
[{"$f":"IF(B165=\"\",\"\",MAX($A$7:A164)+1)","v":""},null,null,null,null,null,null,null,null,null,null,""]
[{"$f":"IF(B166=\"\",\"\",MAX($A$7:A165)+1)","v":""},null,null,null,null,null,null,null,null,null,null,""]
[{"$f":"IF(B167=\"\",\"\",MAX($A$7:A166)+1)","v":""},null,null,null,null,null,null,null,null,null,null,""]
[{"$f":"IF(B168=\"\",\"\",MAX($A$7:A167)+1)","v":""},null,null,null,null,null,null,null,null,null,null,""]
[{"$f":"IF(B169=\"\",\"\",MAX($A$7:A168)+1)","v":""},null,null,null,null,null,null,null,null,null,null,""]
[{"$f":"IF(B170=\"\",\"\",MAX($A$7:A169)+1)","v":""},null,null,null,null,null,null,null,null,null,null,""]
[{"$f":"IF(B171=\"\",\"\",MAX($A$7:A170)+1)","v":""},null,null,null,null,null,null,null,null,null,null,""]
[{"$f":"IF(B172=\"\",\"\",MAX($A$7:A171)+1)","v":""},null,null,null,null,null,null,null,null,null,null,""]
[{"$f":"IF(B173=\"\",\"\",MAX($A$7:A172)+1)","v":""},null,null,null,null,null,null,null,null,null,null,""]
[{"$f":"IF(B174=\"\",\"\",MAX($A$7:A173)+1)","v":""},null,null,null,null,null,null,null,null,null,null,""]
[{"$f":"IF(B175=\"\",\"\",MAX($A$7:A174)+1)","v":""},null,null,null,null,null,null,null,null,null,null,""]
[{"$f":"IF(B176=\"\",\"\",MAX($A$7:A175)+1)","v":""},null,null,null,null,null,null,null,null,null,null,""]
[{"$f":"IF(B177=\"\",\"\",MAX($A$7:A176)+1)","v":""},null,null,null,null,null,null,null,null,null,null,""]
[{"$f":"IF(B178=\"\",\"\",MAX($A$7:A177)+1)","v":""},null,null,null,null,null,null,null,null,null,null,""]
[{"$f":"IF(B179=\"\",\"\",MAX($A$7:A178)+1)","v":""},null,null,null,null,null,null,null,null,null,null,""]
[{"$f":"IF(B180=\"\",\"\",MAX($A$7:A179)+1)","v":""},null,null,null,null,null,null,null,null,null,null,""]
[{"$f":"IF(B181=\"\",\"\",MAX($A$7:A180)+1)","v":""},null,null,null,null,null,null,null,null,null,null,""]
[{"$f":"IF(B182=\"\",\"\",MAX($A$7:A181)+1)","v":""},null,null,null,null,null,null,null,null,null,null,""]
[{"$f":"IF(B183=\"\",\"\",MAX($A$7:A182)+1)","v":""},null,null,null,null,null,null,null,null,null,null,""]
[{"$f":"IF(B184=\"\",\"\",MAX($A$7:A183)+1)","v":""},null,null,null,null,null,null,null,null,null,null,""]
[{"$f":"IF(B185=\"\",\"\",MAX($A$7:A184)+1)","v":""},null,null,null,null,null,null,null,null,null,null,""]
[{"$f":"IF(B186=\"\",\"\",MAX($A$7:A185)+1)","v":""},null,null,null,null,null,null,null,null,null,null,""]
[{"$f":"IF(B187=\"\",\"\",MAX($A$7:A186)+1)","v":""},null,null,null,null,null,null,null,null,null,null,""]
[{"$f":"IF(B188=\"\",\"\",MAX($A$7:A187)+1)","v":""},null,null,null,null,null,null,null,null,null,null,""]
[{"$f":"IF(B189=\"\",\"\",MAX($A$7:A188)+1)","v":""},null,null,null,null,null,null,null,null,null,null,""]
[{"$f":"IF(B190=\"\",\"\",MAX($A$7:A189)+1)","v":""},null,null,null,null,null,null,null,null,null,null,""]
[{"$f":"IF(B191=\"\",\"\",MAX($A$7:A190)+1)","v":""},null,null,null,null,null,null,null,null,null,null,""]
[{"$f":"IF(B192=\"\",\"\",MAX($A$7:A191)+1)","v":""},null,null,null,null,null,null,null,null,null,null,""]
[{"$f":"IF(B193=\"\",\"\",MAX($A$7:A192)+1)","v":""},null,null,null,null,null,null,null,null,null,null,""]
[{"$f":"IF(B194=\"\",\"\",MAX($A$7:A193)+1)","v":""},null,null,null,null,null,null,null,null,null,null,""]
[{"$f":"IF(B195=\"\",\"\",MAX($A$7:A194)+1)","v":""},null,null,null,null,null,null,null,null,null,null,""]
[{"$f":"IF(B196=\"\",\"\",MAX($A$7:A195)+1)","v":""},null,null,null,null,null,null,null,null,null,null,""]
[{"$f":"IF(B197=\"\",\"\",MAX($A$7:A196)+1)","v":""},null,null,null,null,null,null,null,null,null,null,""]
[{"$f":"IF(B198=\"\",\"\",MAX($A$7:A197)+1)","v":""},null,null,null,null,null,null,null,null,null,null,""]
[{"$f":"IF(B199=\"\",\"\",MAX($A$7:A198)+1)","v":""},null,null,null,null,null,null,null,null,null,null,""]
[{"$f":"IF(B200=\"\",\"\",MAX($A$7:A199)+1)","v":""},null,null,null,null,null,null,null,null,null,null,{"$f":"IF(AND(I200=\"\",J200=\"\"),\"\",L199+I200-J200-K200)","v":""}]
[{"$f":"IF(B201=\"\",\"\",MAX($A$7:A200)+1)","v":""},null,null,null,null,null,null,null,null,null,null,""]
[{"$f":"IF(B202=\"\",\"\",MAX($A$7:A201)+1)","v":""},null,null,null,null,null,null,null,null,null,null,""]
[{"$f":"IF(B203=\"\",\"\",MAX($A$7:A202)+1)","v":""},null,null,null,null,null,null,null,null,null,null,""]
[{"$f":"IF(B204=\"\",\"\",MAX($A$7:A203)+1)","v":""},null,null,null,null,null,null,null,null,null,null,""]
[{"$f":"IF(B205=\"\",\"\",MAX($A$7:A204)+1)","v":""},null,null,null,null,null,null,null,null,null,null,""]
[{"$f":"IF(B206=\"\",\"\",MAX($A$7:A205)+1)","v":""},null,null,null,null,null,null,null,null,null,null,""]
[{"$f":"IF(B207=\"\",\"\",MAX($A$7:A206)+1)","v":""},null,null,null,null,null,null,null,null,null,null,""]
[{"$f":"IF(B208=\"\",\"\",MAX($A$7:A207)+1)","v":""},null,null,null,null,null,null,null,null,null,null,""]
[{"$f":"IF(B209=\"\",\"\",MAX($A$7:A208)+1)","v":""},null,null,null,null,null,null,null,null,null,null,""]
[{"$f":"IF(B210=\"\",\"\",MAX($A$7:A209)+1)","v":""},null,null,null,null,null,null,null,null,null,null,""]
[{"$f":"IF(B211=\"\",\"\",MAX($A$7:A210)+1)","v":""},null,null,null,null,null,null,null,null,null,null,""]
[{"$f":"IF(B212=\"\",\"\",MAX($A$7:A211)+1)","v":""},null,null,null,null,null,null,null,null,null,null,""]
[{"$f":"IF(B213=\"\",\"\",MAX($A$7:A212)+1)","v":""},null,null,null,null,null,null,null,null,null,null,""]
[{"$f":"IF(B214=\"\",\"\",MAX($A$7:A213)+1)","v":""},null,null,null,null,null,null,null,null,null,null,""]
[{"$f":"IF(B215=\"\",\"\",MAX($A$7:A214)+1)","v":""},null,null,null,null,null,null,null,null,null,null,""]
[{"$f":"IF(B216=\"\",\"\",MAX($A$7:A215)+1)","v":""},null,null,null,null,null,null,null,null,null,null,""]
[{"$f":"IF(B217=\"\",\"\",MAX($A$7:A216)+1)","v":""},null,null,null,null,null,null,null,null,null,null,""]
[{"$f":"IF(B218=\"\",\"\",MAX($A$7:A217)+1)","v":""},null,null,null,null,null,null,null,null,null,null,""]
[{"$f":"IF(B219=\"\",\"\",MAX($A$7:A218)+1)","v":""},null,null,null,null,null,null,null,null,null,null,""]
[{"$f":"IF(B220=\"\",\"\",MAX($A$7:A219)+1)","v":""},null,null,null,null,null,null,null,null,null,null,""]
[{"$f":"IF(B221=\"\",\"\",MAX($A$7:A220)+1)","v":""},null,null,null,null,null,null,null,null,null,null,""]
[{"$f":"IF(B222=\"\",\"\",MAX($A$7:A221)+1)","v":""},null,null,null,null,null,null,null,null,null,null,""]
[{"$f":"IF(B223=\"\",\"\",MAX($A$7:A222)+1)","v":""},null,null,null,null,null,null,null,null,null,null,""]
[{"$f":"IF(B224=\"\",\"\",MAX($A$7:A223)+1)","v":""},null,null,null,null,null,null,null,null,null,null,""]
[{"$f":"IF(B225=\"\",\"\",MAX($A$7:A224)+1)","v":""},null,null,null,null,null,null,null,null,null,null,""]
[{"$f":"IF(B226=\"\",\"\",MAX($A$7:A225)+1)","v":""},null,null,null,null,null,null,null,null,null,null,""]
[{"$f":"IF(B227=\"\",\"\",MAX($A$7:A226)+1)","v":""},null,null,null,null,null,null,null,null,null,null,""]
[{"$f":"IF(B228=\"\",\"\",MAX($A$7:A227)+1)","v":""},null,null,null,null,null,null,null,null,null,null,""]
[{"$f":"IF(B229=\"\",\"\",MAX($A$7:A228)+1)","v":""},null,null,null,null,null,null,null,null,null,null,""]
[{"$f":"IF(B230=\"\",\"\",MAX($A$7:A229)+1)","v":""},null,null,null,null,null,null,null,null,null,null,""]
[{"$f":"IF(B231=\"\",\"\",MAX($A$7:A230)+1)","v":""},null,null,null,null,null,null,null,null,null,null,""]
[{"$f":"IF(B232=\"\",\"\",MAX($A$7:A231)+1)","v":""},null,null,null,null,null,null,null,null,null,null,""]
[{"$f":"IF(B233=\"\",\"\",MAX($A$7:A232)+1)","v":""},null,null,null,null,null,null,null,null,null,null,""]
[{"$f":"IF(B234=\"\",\"\",MAX($A$7:A233)+1)","v":""},null,null,null,null,null,null,null,null,null,null,""]
[{"$f":"IF(B235=\"\",\"\",MAX($A$7:A234)+1)","v":""},null,null,null,null,null,null,null,null,null,null,""]
[{"$f":"IF(B236=\"\",\"\",MAX($A$7:A235)+1)","v":""},null,null,null,null,null,null,null,null,null,null,""]
[{"$f":"IF(B237=\"\",\"\",MAX($A$7:A236)+1)","v":""},null,null,null,null,null,null,null,null,null,null,""]
[{"$f":"IF(B238=\"\",\"\",MAX($A$7:A237)+1)","v":""},null,null,null,null,null,null,null,null,null,null,""]
[{"$f":"IF(B239=\"\",\"\",MAX($A$7:A238)+1)","v":""},null,null,null,null,null,null,null,null,null,null,""]
[{"$f":"IF(B240=\"\",\"\",MAX($A$7:A239)+1)","v":""},null,null,null,null,null,null,null,null,null,null,""]
[{"$f":"IF(B241=\"\",\"\",MAX($A$7:A240)+1)","v":""},null,null,null,null,null,null,null,null,null,null,""]
[{"$f":"IF(B242=\"\",\"\",MAX($A$7:A241)+1)","v":""},null,null,null,null,null,null,null,null,null,null,""]
[{"$f":"IF(B243=\"\",\"\",MAX($A$7:A242)+1)","v":""},null,null,null,null,null,null,null,null,null,null,""]
[{"$f":"IF(B244=\"\",\"\",MAX($A$7:A243)+1)","v":""},null,null,null,null,null,null,null,null,null,null,""]
[{"$f":"IF(B245=\"\",\"\",MAX($A$7:A244)+1)","v":""},null,null,null,null,null,null,null,null,null,null,""]
[{"$f":"IF(B246=\"\",\"\",MAX($A$7:A245)+1)","v":""},null,null,null,null,null,null,null,null,null,null,""]
[{"$f":"IF(B247=\"\",\"\",MAX($A$7:A246)+1)","v":""},null,null,null,null,null,null,null,null,null,null,""]
[{"$f":"IF(B248=\"\",\"\",MAX($A$7:A247)+1)","v":""},null,null,null,null,null,null,null,null,null,null,""]
[{"$f":"IF(B249=\"\",\"\",MAX($A$7:A248)+1)","v":""},null,null,null,null,null,null,null,null,null,null,""]
[{"$f":"IF(B250=\"\",\"\",MAX($A$7:A249)+1)","v":""},null,null,null,null,null,null,null,null,null,null,""]
[{"$f":"IF(B251=\"\",\"\",MAX($A$7:A250)+1)","v":""},null,null,null,null,null,null,null,null,null,null,""]
[{"$f":"IF(B252=\"\",\"\",MAX($A$7:A251)+1)","v":""},null,null,null,null,null,null,null,null,null,null,""]
[{"$f":"IF(B253=\"\",\"\",MAX($A$7:A252)+1)","v":""},null,null,null,null,null,null,null,null,null,null,""]
[{"$f":"IF(B254=\"\",\"\",MAX($A$7:A253)+1)","v":""},null,null,null,null,null,null,null,null,null,null,""]
[{"$f":"IF(B255=\"\",\"\",MAX($A$7:A254)+1)","v":""},null,null,null,null,null,null,null,null,null,null,""]
[{"$f":"IF(B256=\"\",\"\",MAX($A$7:A255)+1)","v":""},null,null,null,null,null,null,null,null,null,null,""]
[{"$f":"IF(B257=\"\",\"\",MAX($A$7:A256)+1)","v":""},null,null,null,null,null,null,null,null,null,null,""]
[{"$f":"IF(B258=\"\",\"\",MAX($A$7:A257)+1)","v":""},null,null,null,null,null,null,null,null,null,null,""]
[{"$f":"IF(B259=\"\",\"\",MAX($A$7:A258)+1)","v":""},null,null,null,null,null,null,null,null,null,null,""]
[{"$f":"IF(B260=\"\",\"\",MAX($A$7:A259)+1)","v":""},null,null,null,null,null,null,null,null,null,null,""]
[{"$f":"IF(B261=\"\",\"\",MAX($A$7:A260)+1)","v":""},null,null,null,null,null,null,null,null,null,null,""]
[{"$f":"IF(B262=\"\",\"\",MAX($A$7:A261)+1)","v":""},null,null,null,null,null,null,null,null,null,null,""]
[{"$f":"IF(B263=\"\",\"\",MAX($A$7:A262)+1)","v":""},null,null,null,null,null,null,null,null,null,null,""]
[{"$f":"IF(B264=\"\",\"\",MAX($A$7:A263)+1)","v":""},null,null,null,null,null,null,null,null,null,null,{"$f":"IF(AND(I264=\"\",J264=\"\"),\"\",L263+I264-J264-K264)","v":""}]
[{"$f":"IF(B265=\"\",\"\",MAX($A$7:A264)+1)","v":""},null,null,null,null,null,null,null,null,null,null,""]
[{"$f":"IF(B266=\"\",\"\",MAX($A$7:A265)+1)","v":""},null,null,null,null,null,null,null,null,null,null,""]
[{"$f":"IF(B267=\"\",\"\",MAX($A$7:A266)+1)","v":""},null,null,null,null,null,null,null,null,null,null,""]
[{"$f":"IF(B268=\"\",\"\",MAX($A$7:A267)+1)","v":""},null,null,null,null,null,null,null,null,null,null,""]
[{"$f":"IF(B269=\"\",\"\",MAX($A$7:A268)+1)","v":""},null,null,null,null,null,null,null,null,null,null,""]
[{"$f":"IF(B270=\"\",\"\",MAX($A$7:A269)+1)","v":""},null,null,null,null,null,null,null,null,null,null,""]
[{"$f":"IF(B271=\"\",\"\",MAX($A$7:A270)+1)","v":""},null,null,null,null,null,null,null,null,null,null,""]
[{"$f":"IF(B272=\"\",\"\",MAX($A$7:A271)+1)","v":""},null,null,null,null,null,null,null,null,null,null,""]
[{"$f":"IF(B273=\"\",\"\",MAX($A$7:A272)+1)","v":""},null,null,null,null,null,null,null,null,null,null,""]
[{"$f":"IF(B274=\"\",\"\",MAX($A$7:A273)+1)","v":""},null,null,null,null,null,null,null,null,null,null,""]
[{"$f":"IF(B275=\"\",\"\",MAX($A$7:A274)+1)","v":""},null,null,null,null,null,null,null,null,null,null,""]
[{"$f":"IF(B276=\"\",\"\",MAX($A$7:A275)+1)","v":""},null,null,null,null,null,null,null,null,null,null,""]
[{"$f":"IF(B277=\"\",\"\",MAX($A$7:A276)+1)","v":""},null,null,null,null,null,null,null,null,null,null,""]
[{"$f":"IF(B278=\"\",\"\",MAX($A$7:A277)+1)","v":""},null,null,null,null,null,null,null,null,null,null,""]
[{"$f":"IF(B279=\"\",\"\",MAX($A$7:A278)+1)","v":""},null,null,null,null,null,null,null,null,null,null,""]
[{"$f":"IF(B280=\"\",\"\",MAX($A$7:A279)+1)","v":""},null,null,null,null,null,null,null,null,null,null,""]
[{"$f":"IF(B281=\"\",\"\",MAX($A$7:A280)+1)","v":""},null,null,null,null,null,null,null,null,null,null,""]
[{"$f":"IF(B282=\"\",\"\",MAX($A$7:A281)+1)","v":""},null,null,null,null,null,null,null,null,null,null,""]
[{"$f":"IF(B283=\"\",\"\",MAX($A$7:A282)+1)","v":""},null,null,null,null,null,null,null,null,null,null,""]
[{"$f":"IF(B284=\"\",\"\",MAX($A$7:A283)+1)","v":""},null,null,null,null,null,null,null,null,null,null,""]
[{"$f":"IF(B285=\"\",\"\",MAX($A$7:A284)+1)","v":""},null,null,null,null,null,null,null,null,null,null,""]
[{"$f":"IF(B286=\"\",\"\",MAX($A$7:A285)+1)","v":""},null,null,null,null,null,null,null,null,null,null,""]
[{"$f":"IF(B287=\"\",\"\",MAX($A$7:A286)+1)","v":""},null,null,null,null,null,null,null,null,null,null,""]
[{"$f":"IF(B288=\"\",\"\",MAX($A$7:A287)+1)","v":""},null,null,null,null,null,null,null,null,null,null,""]
[{"$f":"IF(B289=\"\",\"\",MAX($A$7:A288)+1)","v":""},null,null,null,null,null,null,null,null,null,null,""]
[{"$f":"IF(B290=\"\",\"\",MAX($A$7:A289)+1)","v":""},null,null,null,null,null,null,null,null,null,null,""]
[{"$f":"IF(B291=\"\",\"\",MAX($A$7:A290)+1)","v":""},null,null,null,null,null,null,null,null,null,null,""]
[{"$f":"IF(B292=\"\",\"\",MAX($A$7:A291)+1)","v":""},null,null,null,null,null,null,null,null,null,null,""]
[{"$f":"IF(B293=\"\",\"\",MAX($A$7:A292)+1)","v":""},null,null,null,null,null,null,null,null,null,null,""]
[{"$f":"IF(B294=\"\",\"\",MAX($A$7:A293)+1)","v":""},null,null,null,null,null,null,null,null,null,null,""]
[{"$f":"IF(B295=\"\",\"\",MAX($A$7:A294)+1)","v":""},null,null,null,null,null,null,null,null,null,null,""]
[{"$f":"IF(B296=\"\",\"\",MAX($A$7:A295)+1)","v":""},null,null,null,null,null,null,null,null,null,null,""]
[{"$f":"IF(B297=\"\",\"\",MAX($A$7:A296)+1)","v":""},null,null,null,null,null,null,null,null,null,null,""]
[{"$f":"IF(B298=\"\",\"\",MAX($A$7:A297)+1)","v":""},null,null,null,null,null,null,null,null,null,null,""]
[{"$f":"IF(B299=\"\",\"\",MAX($A$7:A298)+1)","v":""},null,null,null,null,null,null,null,null,null,null,""]
[{"$f":"IF(B300=\"\",\"\",MAX($A$7:A299)+1)","v":""},null,null,null,null,null,null,null,null,null,null,""]
[{"$f":"IF(B301=\"\",\"\",MAX($A$7:A300)+1)","v":""},null,null,null,null,null,null,null,null,null,null,""]
[{"$f":"IF(B302=\"\",\"\",MAX($A$7:A301)+1)","v":""},null,null,null,null,null,null,null,null,null,null,""]
[{"$f":"IF(B303=\"\",\"\",MAX($A$7:A302)+1)","v":""},null,null,null,null,null,null,null,null,null,null,""]
[{"$f":"IF(B304=\"\",\"\",MAX($A$7:A303)+1)","v":""},null,null,null,null,null,null,null,null,null,null,""]
[{"$f":"IF(B305=\"\",\"\",MAX($A$7:A304)+1)","v":""},null,null,null,null,null,null,null,null,null,null,""]
[{"$f":"IF(B306=\"\",\"\",MAX($A$7:A305)+1)","v":""},null,null,null,null,null,null,null,null,null,null,""]
[{"$f":"IF(B307=\"\",\"\",MAX($A$7:A306)+1)","v":""},null,null,null,null,null,null,null,null,null,null,""]
[{"$f":"IF(B308=\"\",\"\",MAX($A$7:A307)+1)","v":""},null,null,null,null,null,null,null,null,null,null,""]
[{"$f":"IF(B309=\"\",\"\",MAX($A$7:A308)+1)","v":""},null,null,null,null,null,null,null,null,null,null,""]
[{"$f":"IF(B310=\"\",\"\",MAX($A$7:A309)+1)","v":""},null,null,null,null,null,null,null,null,null,null,""]
[{"$f":"IF(B311=\"\",\"\",MAX($A$7:A310)+1)","v":""},null,null,null,null,null,null,null,null,null,null,""]
[{"$f":"IF(B312=\"\",\"\",MAX($A$7:A311)+1)","v":""},null,null,null,null,null,null,null,null,null,null,""]
[{"$f":"IF(B313=\"\",\"\",MAX($A$7:A312)+1)","v":""},null,null,null,null,null,null,null,null,null,null,""]
[{"$f":"IF(B314=\"\",\"\",MAX($A$7:A313)+1)","v":""},null,null,null,null,null,null,null,null,null,null,""]
[{"$f":"IF(B315=\"\",\"\",MAX($A$7:A314)+1)","v":""},null,null,null,null,null,null,null,null,null,null,""]
[{"$f":"IF(B316=\"\",\"\",MAX($A$7:A315)+1)","v":""},null,null,null,null,null,null,null,null,null,null,""]
[{"$f":"IF(B317=\"\",\"\",MAX($A$7:A316)+1)","v":""},null,null,null,null,null,null,null,null,null,null,""]
[{"$f":"IF(B318=\"\",\"\",MAX($A$7:A317)+1)","v":""},null,null,null,null,null,null,null,null,null,null,""]
[{"$f":"IF(B319=\"\",\"\",MAX($A$7:A318)+1)","v":""},null,null,null,null,null,null,null,null,null,null,""]
[{"$f":"IF(B320=\"\",\"\",MAX($A$7:A319)+1)","v":""},null,null,null,null,null,null,null,null,null,null,""]
[{"$f":"IF(B321=\"\",\"\",MAX($A$7:A320)+1)","v":""},null,null,null,null,null,null,null,null,null,null,""]
[{"$f":"IF(B322=\"\",\"\",MAX($A$7:A321)+1)","v":""},null,null,null,null,null,null,null,null,null,null,""]
[{"$f":"IF(B323=\"\",\"\",MAX($A$7:A322)+1)","v":""},null,null,null,null,null,null,null,null,null,null,""]
[{"$f":"IF(B324=\"\",\"\",MAX($A$7:A323)+1)","v":""},null,null,null,null,null,null,null,null,null,null,""]
[{"$f":"IF(B325=\"\",\"\",MAX($A$7:A324)+1)","v":""},null,null,null,null,null,null,null,null,null,null,""]
[{"$f":"IF(B326=\"\",\"\",MAX($A$7:A325)+1)","v":""},null,null,null,null,null,null,null,null,null,null,""]
[{"$f":"IF(B327=\"\",\"\",MAX($A$7:A326)+1)","v":""},null,null,null,null,null,null,null,null,null,null,""]
[{"$f":"IF(B328=\"\",\"\",MAX($A$7:A327)+1)","v":""},null,null,null,null,null,null,null,null,null,null,{"$f":"IF(AND(I328=\"\",J328=\"\"),\"\",L327+I328-J328-K328)","v":""}]
[{"$f":"IF(B329=\"\",\"\",MAX($A$7:A328)+1)","v":""},null,null,null,null,null,null,null,null,null,null,""]
[{"$f":"IF(B330=\"\",\"\",MAX($A$7:A329)+1)","v":""},null,null,null,null,null,null,null,null,null,null,""]
[{"$f":"IF(B331=\"\",\"\",MAX($A$7:A330)+1)","v":""},null,null,null,null,null,null,null,null,null,null,""]
[{"$f":"IF(B332=\"\",\"\",MAX($A$7:A331)+1)","v":""},null,null,null,null,null,null,null,null,null,null,""]
[{"$f":"IF(B333=\"\",\"\",MAX($A$7:A332)+1)","v":""},null,null,null,null,null,null,null,null,null,null,""]
[{"$f":"IF(B334=\"\",\"\",MAX($A$7:A333)+1)","v":""},null,null,null,null,null,null,null,null,null,null,""]
[{"$f":"IF(B335=\"\",\"\",MAX($A$7:A334)+1)","v":""},null,null,null,null,null,null,null,null,null,null,""]
[{"$f":"IF(B336=\"\",\"\",MAX($A$7:A335)+1)","v":""},null,null,null,null,null,null,null,null,null,null,""]
[{"$f":"IF(B337=\"\",\"\",MAX($A$7:A336)+1)","v":""},null,null,null,null,null,null,null,null,null,null,""]
[{"$f":"IF(B338=\"\",\"\",MAX($A$7:A337)+1)","v":""},null,null,null,null,null,null,null,null,null,null,""]
[{"$f":"IF(B339=\"\",\"\",MAX($A$7:A338)+1)","v":""},null,null,null,null,null,null,null,null,null,null,""]
[{"$f":"IF(B340=\"\",\"\",MAX($A$7:A339)+1)","v":""},null,null,null,null,null,null,null,null,null,null,""]
[{"$f":"IF(B341=\"\",\"\",MAX($A$7:A340)+1)","v":""},null,null,null,null,null,null,null,null,null,null,""]
[{"$f":"IF(B342=\"\",\"\",MAX($A$7:A341)+1)","v":""},null,null,null,null,null,null,null,null,null,null,""]
[{"$f":"IF(B343=\"\",\"\",MAX($A$7:A342)+1)","v":""},null,null,null,null,null,null,null,null,null,null,""]
[{"$f":"IF(B344=\"\",\"\",MAX($A$7:A343)+1)","v":""},null,null,null,null,null,null,null,null,null,null,""]
[{"$f":"IF(B345=\"\",\"\",MAX($A$7:A344)+1)","v":""},null,null,null,null,null,null,null,null,null,null,""]
[{"$f":"IF(B346=\"\",\"\",MAX($A$7:A345)+1)","v":""},null,null,null,null,null,null,null,null,null,null,""]
[{"$f":"IF(B347=\"\",\"\",MAX($A$7:A346)+1)","v":""},null,null,null,null,null,null,null,null,null,null,""]
[{"$f":"IF(B348=\"\",\"\",MAX($A$7:A347)+1)","v":""},null,null,null,null,null,null,null,null,null,null,""]
[{"$f":"IF(B349=\"\",\"\",MAX($A$7:A348)+1)","v":""},null,null,null,null,null,null,null,null,null,null,""]
[{"$f":"IF(B350=\"\",\"\",MAX($A$7:A349)+1)","v":""},null,null,null,null,null,null,null,null,null,null,""]
[{"$f":"IF(B351=\"\",\"\",MAX($A$7:A350)+1)","v":""},null,null,null,null,null,null,null,null,null,null,""]
[{"$f":"IF(B352=\"\",\"\",MAX($A$7:A351)+1)","v":""},null,null,null,null,null,null,null,null,null,null,""]
[{"$f":"IF(B353=\"\",\"\",MAX($A$7:A352)+1)","v":""},null,null,null,null,null,null,null,null,null,null,""]
[{"$f":"IF(B354=\"\",\"\",MAX($A$7:A353)+1)","v":""},null,null,null,null,null,null,null,null,null,null,""]
[{"$f":"IF(B355=\"\",\"\",MAX($A$7:A354)+1)","v":""},null,null,null,null,null,null,null,null,null,null,""]
[{"$f":"IF(B356=\"\",\"\",MAX($A$7:A355)+1)","v":""},null,null,null,null,null,null,null,null,null,null,""]
[{"$f":"IF(B357=\"\",\"\",MAX($A$7:A356)+1)","v":""},null,null,null,null,null,null,null,null,null,null,""]
[{"$f":"IF(B358=\"\",\"\",MAX($A$7:A357)+1)","v":""},null,null,null,null,null,null,null,null,null,null,""]
[{"$f":"IF(B359=\"\",\"\",MAX($A$7:A358)+1)","v":""},null,null,null,null,null,null,null,null,null,null,""]
[{"$f":"IF(B360=\"\",\"\",MAX($A$7:A359)+1)","v":""},null,null,null,null,null,null,null,null,null,null,""]
[{"$f":"IF(B361=\"\",\"\",MAX($A$7:A360)+1)","v":""},null,null,null,null,null,null,null,null,null,null,""]
[{"$f":"IF(B362=\"\",\"\",MAX($A$7:A361)+1)","v":""},null,null,null,null,null,null,null,null,null,null,""]
[{"$f":"IF(B363=\"\",\"\",MAX($A$7:A362)+1)","v":""},null,null,null,null,null,null,null,null,null,null,""]
[{"$f":"IF(B364=\"\",\"\",MAX($A$7:A363)+1)","v":""},null,null,null,null,null,null,null,null,null,null,""]
[{"$f":"IF(B365=\"\",\"\",MAX($A$7:A364)+1)","v":""},null,null,null,null,null,null,null,null,null,null,""]
[{"$f":"IF(B366=\"\",\"\",MAX($A$7:A365)+1)","v":""},null,null,null,null,null,null,null,null,null,null,""]
[{"$f":"IF(B367=\"\",\"\",MAX($A$7:A366)+1)","v":""},null,null,null,null,null,null,null,null,null,null,""]
[{"$f":"IF(B368=\"\",\"\",MAX($A$7:A367)+1)","v":""},null,null,null,null,null,null,null,null,null,null,""]
[{"$f":"IF(B369=\"\",\"\",MAX($A$7:A368)+1)","v":""},null,null,null,null,null,null,null,null,null,null,""]
[{"$f":"IF(B370=\"\",\"\",MAX($A$7:A369)+1)","v":""},null,null,null,null,null,null,null,null,null,null,""]
[{"$f":"IF(B371=\"\",\"\",MAX($A$7:A370)+1)","v":""},null,null,null,null,null,null,null,null,null,null,""]
[{"$f":"IF(B372=\"\",\"\",MAX($A$7:A371)+1)","v":""},null,null,null,null,null,null,null,null,null,null,""]
[{"$f":"IF(B373=\"\",\"\",MAX($A$7:A372)+1)","v":""},null,null,null,null,null,null,null,null,null,null,""]
[{"$f":"IF(B374=\"\",\"\",MAX($A$7:A373)+1)","v":""},null,null,null,null,null,null,null,null,null,null,""]
[{"$f":"IF(B375=\"\",\"\",MAX($A$7:A374)+1)","v":""},null,null,null,null,null,null,null,null,null,null,""]
[{"$f":"IF(B376=\"\",\"\",MAX($A$7:A375)+1)","v":""},null,null,null,null,null,null,null,null,null,null,""]
[{"$f":"IF(B377=\"\",\"\",MAX($A$7:A376)+1)","v":""},null,null,null,null,null,null,null,null,null,null,""]
[{"$f":"IF(B378=\"\",\"\",MAX($A$7:A377)+1)","v":""},null,null,null,null,null,null,null,null,null,null,""]
[{"$f":"IF(B379=\"\",\"\",MAX($A$7:A378)+1)","v":""},null,null,null,null,null,null,null,null,null,null,""]
[{"$f":"IF(B380=\"\",\"\",MAX($A$7:A379)+1)","v":""},null,null,null,null,null,null,null,null,null,null,""]
[{"$f":"IF(B381=\"\",\"\",MAX($A$7:A380)+1)","v":""},null,null,null,null,null,null,null,null,null,null,""]
[{"$f":"IF(B382=\"\",\"\",MAX($A$7:A381)+1)","v":""},null,null,null,null,null,null,null,null,null,null,""]
[{"$f":"IF(B383=\"\",\"\",MAX($A$7:A382)+1)","v":""},null,null,null,null,null,null,null,null,null,null,""]
[{"$f":"IF(B384=\"\",\"\",MAX($A$7:A383)+1)","v":""},null,null,null,null,null,null,null,null,null,null,""]
[{"$f":"IF(B385=\"\",\"\",MAX($A$7:A384)+1)","v":""},null,null,null,null,null,null,null,null,null,null,""]
[{"$f":"IF(B386=\"\",\"\",MAX($A$7:A385)+1)","v":""},null,null,null,null,null,null,null,null,null,null,""]
[{"$f":"IF(B387=\"\",\"\",MAX($A$7:A386)+1)","v":""},null,null,null,null,null,null,null,null,null,null,""]
[{"$f":"IF(B388=\"\",\"\",MAX($A$7:A387)+1)","v":""},null,null,null,null,null,null,null,null,null,null,""]
[{"$f":"IF(B389=\"\",\"\",MAX($A$7:A388)+1)","v":""},null,null,null,null,null,null,null,null,null,null,""]
[{"$f":"IF(B390=\"\",\"\",MAX($A$7:A389)+1)","v":""},null,null,null,null,null,null,null,null,null,null,""]
[{"$f":"IF(B391=\"\",\"\",MAX($A$7:A390)+1)","v":""},null,null,null,null,null,null,null,null,null,null,""]
[{"$f":"IF(B392=\"\",\"\",MAX($A$7:A391)+1)","v":""},null,null,null,null,null,null,null,null,null,null,{"$f":"IF(AND(I392=\"\",J392=\"\"),\"\",L391+I392-J392-K392)","v":""}]
[{"$f":"IF(B393=\"\",\"\",MAX($A$7:A392)+1)","v":""},null,null,null,null,null,null,null,null,null,null,""]
[{"$f":"IF(B394=\"\",\"\",MAX($A$7:A393)+1)","v":""},null,null,null,null,null,null,null,null,null,null,""]
[{"$f":"IF(B395=\"\",\"\",MAX($A$7:A394)+1)","v":""},null,null,null,null,null,null,null,null,null,null,""]
[{"$f":"IF(B396=\"\",\"\",MAX($A$7:A395)+1)","v":""},null,null,null,null,null,null,null,null,null,null,""]
[{"$f":"IF(B397=\"\",\"\",MAX($A$7:A396)+1)","v":""},null,null,null,null,null,null,null,null,null,null,""]
[{"$f":"IF(B398=\"\",\"\",MAX($A$7:A397)+1)","v":""},null,null,null,null,null,null,null,null,null,null,""]
[{"$f":"IF(B399=\"\",\"\",MAX($A$7:A398)+1)","v":""},null,null,null,null,null,null,null,null,null,null,""]
[{"$f":"IF(B400=\"\",\"\",MAX($A$7:A399)+1)","v":""},null,null,null,null,null,null,null,null,null,null,""]
[{"$f":"IF(B401=\"\",\"\",MAX($A$7:A400)+1)","v":""},null,null,null,null,null,null,null,null,null,null,""]
[{"$f":"IF(B402=\"\",\"\",MAX($A$7:A401)+1)","v":""},null,null,null,null,null,null,null,null,null,null,""]
[{"$f":"IF(B403=\"\",\"\",MAX($A$7:A402)+1)","v":""},null,null,null,null,null,null,null,null,null,null,""]
[{"$f":"IF(B404=\"\",\"\",MAX($A$7:A403)+1)","v":""},null,null,null,null,null,null,null,null,null,null,""]
[{"$f":"IF(B405=\"\",\"\",MAX($A$7:A404)+1)","v":""},null,null,null,null,null,null,null,null,null,null,""]
[{"$f":"IF(B406=\"\",\"\",MAX($A$7:A405)+1)","v":""},null,null,null,null,null,null,null,null,null,null,""]
[{"$f":"IF(B407=\"\",\"\",MAX($A$7:A406)+1)","v":""},null,null,null,null,null,null,null,null,null,null,""]
[{"$f":"IF(B408=\"\",\"\",MAX($A$7:A407)+1)","v":""},null,null,null,null,null,null,null,null,null,null,""]
[{"$f":"IF(B409=\"\",\"\",MAX($A$7:A408)+1)","v":""},null,null,null,null,null,null,null,null,null,null,""]
[{"$f":"IF(B410=\"\",\"\",MAX($A$7:A409)+1)","v":""},null,null,null,null,null,null,null,null,null,null,""]
[{"$f":"IF(B411=\"\",\"\",MAX($A$7:A410)+1)","v":""},null,null,null,null,null,null,null,null,null,null,""]
[{"$f":"IF(B412=\"\",\"\",MAX($A$7:A411)+1)","v":""},null,null,null,null,null,null,null,null,null,null,""]
[{"$f":"IF(B413=\"\",\"\",MAX($A$7:A412)+1)","v":""},null,null,null,null,null,null,null,null,null,null,""]
[{"$f":"IF(B414=\"\",\"\",MAX($A$7:A413)+1)","v":""},null,null,null,null,null,null,null,null,null,null,""]
[{"$f":"IF(B415=\"\",\"\",MAX($A$7:A414)+1)","v":""},null,null,null,null,null,null,null,null,null,null,""]
[{"$f":"IF(B416=\"\",\"\",MAX($A$7:A415)+1)","v":""},null,null,null,null,null,null,null,null,null,null,""]
[{"$f":"IF(B417=\"\",\"\",MAX($A$7:A416)+1)","v":""},null,null,null,null,null,null,null,null,null,null,""]
[{"$f":"IF(B418=\"\",\"\",MAX($A$7:A417)+1)","v":""},null,null,null,null,null,null,null,null,null,null,""]
[{"$f":"IF(B419=\"\",\"\",MAX($A$7:A418)+1)","v":""},null,null,null,null,null,null,null,null,null,null,""]
[{"$f":"IF(B420=\"\",\"\",MAX($A$7:A419)+1)","v":""},null,null,null,null,null,null,null,null,null,null,""]
[{"$f":"IF(B421=\"\",\"\",MAX($A$7:A420)+1)","v":""},null,null,null,null,null,null,null,null,null,null,""]
[{"$f":"IF(B422=\"\",\"\",MAX($A$7:A421)+1)","v":""},null,null,null,null,null,null,null,null,null,null,""]
[{"$f":"IF(B423=\"\",\"\",MAX($A$7:A422)+1)","v":""},null,null,null,null,null,null,null,null,null,null,""]
[{"$f":"IF(B424=\"\",\"\",MAX($A$7:A423)+1)","v":""},null,null,null,null,null,null,null,null,null,null,""]
[{"$f":"IF(B425=\"\",\"\",MAX($A$7:A424)+1)","v":""},null,null,null,null,null,null,null,null,null,null,""]
[{"$f":"IF(B426=\"\",\"\",MAX($A$7:A425)+1)","v":""},null,null,null,null,null,null,null,null,null,null,""]
[{"$f":"IF(B427=\"\",\"\",MAX($A$7:A426)+1)","v":""},null,null,null,null,null,null,null,null,null,null,""]
[{"$f":"IF(B428=\"\",\"\",MAX($A$7:A427)+1)","v":""},null,null,null,null,null,null,null,null,null,null,""]
[{"$f":"IF(B429=\"\",\"\",MAX($A$7:A428)+1)","v":""},null,null,null,null,null,null,null,null,null,null,""]
[{"$f":"IF(B430=\"\",\"\",MAX($A$7:A429)+1)","v":""},null,null,null,null,null,null,null,null,null,null,""]
[{"$f":"IF(B431=\"\",\"\",MAX($A$7:A430)+1)","v":""},null,null,null,null,null,null,null,null,null,null,""]
[{"$f":"IF(B432=\"\",\"\",MAX($A$7:A431)+1)","v":""},null,null,null,null,null,null,null,null,null,null,""]
[{"$f":"IF(B433=\"\",\"\",MAX($A$7:A432)+1)","v":""},null,null,null,null,null,null,null,null,null,null,""]
[{"$f":"IF(B434=\"\",\"\",MAX($A$7:A433)+1)","v":""},null,null,null,null,null,null,null,null,null,null,""]
[{"$f":"IF(B435=\"\",\"\",MAX($A$7:A434)+1)","v":""},null,null,null,null,null,null,null,null,null,null,""]
[{"$f":"IF(B436=\"\",\"\",MAX($A$7:A435)+1)","v":""},null,null,null,null,null,null,null,null,null,null,""]
[{"$f":"IF(B437=\"\",\"\",MAX($A$7:A436)+1)","v":""},null,null,null,null,null,null,null,null,null,null,""]
[{"$f":"IF(B438=\"\",\"\",MAX($A$7:A437)+1)","v":""},null,null,null,null,null,null,null,null,null,null,""]
[{"$f":"IF(B439=\"\",\"\",MAX($A$7:A438)+1)","v":""},null,null,null,null,null,null,null,null,null,null,""]
[{"$f":"IF(B440=\"\",\"\",MAX($A$7:A439)+1)","v":""},null,null,null,null,null,null,null,null,null,null,""]
[{"$f":"IF(B441=\"\",\"\",MAX($A$7:A440)+1)","v":""},null,null,null,null,null,null,null,null,null,null,""]
[{"$f":"IF(B442=\"\",\"\",MAX($A$7:A441)+1)","v":""},null,null,null,null,null,null,null,null,null,null,""]
[{"$f":"IF(B443=\"\",\"\",MAX($A$7:A442)+1)","v":""},null,null,null,null,null,null,null,null,null,null,""]
[{"$f":"IF(B444=\"\",\"\",MAX($A$7:A443)+1)","v":""},null,null,null,null,null,null,null,null,null,null,""]
[{"$f":"IF(B445=\"\",\"\",MAX($A$7:A444)+1)","v":""},null,null,null,null,null,null,null,null,null,null,""]
[{"$f":"IF(B446=\"\",\"\",MAX($A$7:A445)+1)","v":""},null,null,null,null,null,null,null,null,null,null,""]
[{"$f":"IF(B447=\"\",\"\",MAX($A$7:A446)+1)","v":""},null,null,null,null,null,null,null,null,null,null,""]
[{"$f":"IF(B448=\"\",\"\",MAX($A$7:A447)+1)","v":""},null,null,null,null,null,null,null,null,null,null,""]
[{"$f":"IF(B449=\"\",\"\",MAX($A$7:A448)+1)","v":""},null,null,null,null,null,null,null,null,null,null,""]
[{"$f":"IF(B450=\"\",\"\",MAX($A$7:A449)+1)","v":""},null,null,null,null,null,null,null,null,null,null,""]
[{"$f":"IF(B451=\"\",\"\",MAX($A$7:A450)+1)","v":""},null,null,null,null,null,null,null,null,null,null,""]
[{"$f":"IF(B452=\"\",\"\",MAX($A$7:A451)+1)","v":""},null,null,null,null,null,null,null,null,null,null,""]
[{"$f":"IF(B453=\"\",\"\",MAX($A$7:A452)+1)","v":""},null,null,null,null,null,null,null,null,null,null,""]
[{"$f":"IF(B454=\"\",\"\",MAX($A$7:A453)+1)","v":""},null,null,null,null,null,null,null,null,null,null,""]
[{"$f":"IF(B455=\"\",\"\",MAX($A$7:A454)+1)","v":""},null,null,null,null,null,null,null,null,null,null,""]
[{"$f":"IF(B456=\"\",\"\",MAX($A$7:A455)+1)","v":""},null,null,null,null,null,null,null,null,null,null,{"$f":"IF(AND(I456=\"\",J456=\"\"),\"\",L455+I456-J456-K456)","v":""}]
[{"$f":"IF(B457=\"\",\"\",MAX($A$7:A456)+1)","v":""},null,null,null,null,null,null,null,null,null,null,""]
[{"$f":"IF(B458=\"\",\"\",MAX($A$7:A457)+1)","v":""},null,null,null,null,null,null,null,null,null,null,""]
[{"$f":"IF(B459=\"\",\"\",MAX($A$7:A458)+1)","v":""},null,null,null,null,null,null,null,null,null,null,""]
[{"$f":"IF(B460=\"\",\"\",MAX($A$7:A459)+1)","v":""},null,null,null,null,null,null,null,null,null,null,""]
[{"$f":"IF(B461=\"\",\"\",MAX($A$7:A460)+1)","v":""},null,null,null,null,null,null,null,null,null,null,""]
[{"$f":"IF(B462=\"\",\"\",MAX($A$7:A461)+1)","v":""},null,null,null,null,null,null,null,null,null,null,""]
[{"$f":"IF(B463=\"\",\"\",MAX($A$7:A462)+1)","v":""},null,null,null,null,null,null,null,null,null,null,""]
[{"$f":"IF(B464=\"\",\"\",MAX($A$7:A463)+1)","v":""},null,null,null,null,null,null,null,null,null,null,""]
[{"$f":"IF(B465=\"\",\"\",MAX($A$7:A464)+1)","v":""},null,null,null,null,null,null,null,null,null,null,""]
[{"$f":"IF(B466=\"\",\"\",MAX($A$7:A465)+1)","v":""},null,null,null,null,null,null,null,null,null,null,""]
[{"$f":"IF(B467=\"\",\"\",MAX($A$7:A466)+1)","v":""},null,null,null,null,null,null,null,null,null,null,""]
[{"$f":"IF(B468=\"\",\"\",MAX($A$7:A467)+1)","v":""},null,null,null,null,null,null,null,null,null,null,""]
[{"$f":"IF(B469=\"\",\"\",MAX($A$7:A468)+1)","v":""},null,null,null,null,null,null,null,null,null,null,""]
[{"$f":"IF(B470=\"\",\"\",MAX($A$7:A469)+1)","v":""},null,null,null,null,null,null,null,null,null,null,""]
[{"$f":"IF(B471=\"\",\"\",MAX($A$7:A470)+1)","v":""},null,null,null,null,null,null,null,null,null,null,""]
[{"$f":"IF(B472=\"\",\"\",MAX($A$7:A471)+1)","v":""},null,null,null,null,null,null,null,null,null,null,""]
[{"$f":"IF(B473=\"\",\"\",MAX($A$7:A472)+1)","v":""},null,null,null,null,null,null,null,null,null,null,""]
[{"$f":"IF(B474=\"\",\"\",MAX($A$7:A473)+1)","v":""},null,null,null,null,null,null,null,null,null,null,""]
[{"$f":"IF(B475=\"\",\"\",MAX($A$7:A474)+1)","v":""},null,null,null,null,null,null,null,null,null,null,""]
[{"$f":"IF(B476=\"\",\"\",MAX($A$7:A475)+1)","v":""},null,null,null,null,null,null,null,null,null,null,""]
[{"$f":"IF(B477=\"\",\"\",MAX($A$7:A476)+1)","v":""},null,null,null,null,null,null,null,null,null,null,""]
[{"$f":"IF(B478=\"\",\"\",MAX($A$7:A477)+1)","v":""},null,null,null,null,null,null,null,null,null,null,""]
[{"$f":"IF(B479=\"\",\"\",MAX($A$7:A478)+1)","v":""},null,null,null,null,null,null,null,null,null,null,""]
[{"$f":"IF(B480=\"\",\"\",MAX($A$7:A479)+1)","v":""},null,null,null,null,null,null,null,null,null,null,""]
[{"$f":"IF(B481=\"\",\"\",MAX($A$7:A480)+1)","v":""},null,null,null,null,null,null,null,null,null,null,""]
[{"$f":"IF(B482=\"\",\"\",MAX($A$7:A481)+1)","v":""},null,null,null,null,null,null,null,null,null,null,""]
[{"$f":"IF(B483=\"\",\"\",MAX($A$7:A482)+1)","v":""},null,null,null,null,null,null,null,null,null,null,""]
[{"$f":"IF(B484=\"\",\"\",MAX($A$7:A483)+1)","v":""},null,null,null,null,null,null,null,null,null,null,""]
[{"$f":"IF(B485=\"\",\"\",MAX($A$7:A484)+1)","v":""},null,null,null,null,null,null,null,null,null,null,""]
[{"$f":"IF(B486=\"\",\"\",MAX($A$7:A485)+1)","v":""},null,null,null,null,null,null,null,null,null,null,""]
[{"$f":"IF(B487=\"\",\"\",MAX($A$7:A486)+1)","v":""},null,null,null,null,null,null,null,null,null,null,""]
[{"$f":"IF(B488=\"\",\"\",MAX($A$7:A487)+1)","v":""},null,null,null,null,null,null,null,null,null,null,""]
[{"$f":"IF(B489=\"\",\"\",MAX($A$7:A488)+1)","v":""},null,null,null,null,null,null,null,null,null,null,""]
[{"$f":"IF(B490=\"\",\"\",MAX($A$7:A489)+1)","v":""},null,null,null,null,null,null,null,null,null,null,""]
[{"$f":"IF(B491=\"\",\"\",MAX($A$7:A490)+1)","v":""},null,null,null,null,null,null,null,null,null,null,""]
[{"$f":"IF(B492=\"\",\"\",MAX($A$7:A491)+1)","v":""},null,null,null,null,null,null,null,null,null,null,""]
[{"$f":"IF(B493=\"\",\"\",MAX($A$7:A492)+1)","v":""},null,null,null,null,null,null,null,null,null,null,""]
[{"$f":"IF(B494=\"\",\"\",MAX($A$7:A493)+1)","v":""},null,null,null,null,null,null,null,null,null,null,""]
[{"$f":"IF(B495=\"\",\"\",MAX($A$7:A494)+1)","v":""},null,null,null,null,null,null,null,null,null,null,""]
[{"$f":"IF(B496=\"\",\"\",MAX($A$7:A495)+1)","v":""},null,null,null,null,null,null,null,null,null,null,""]
[{"$f":"IF(B497=\"\",\"\",MAX($A$7:A496)+1)","v":""},null,null,null,null,null,null,null,null,null,null,""]
[{"$f":"IF(B498=\"\",\"\",MAX($A$7:A497)+1)","v":""},null,null,null,null,null,null,null,null,null,null,""]
[{"$f":"IF(B499=\"\",\"\",MAX($A$7:A498)+1)","v":""},null,null,null,null,null,null,null,null,null,null,""]
[{"$f":"IF(B500=\"\",\"\",MAX($A$7:A499)+1)","v":""},null,null,null,null,null,null,null,null,null,null,""]
[{"$f":"IF(B501=\"\",\"\",MAX($A$7:A500)+1)","v":""},null,null,null,null,null,null,null,null,null,null,""]
[{"$f":"IF(B502=\"\",\"\",MAX($A$7:A501)+1)","v":""},null,null,null,null,null,null,null,null,null,null,""]
[{"$f":"IF(B503=\"\",\"\",MAX($A$7:A502)+1)","v":""},null,null,null,null,null,null,null,null,null,null,""]
[{"$f":"IF(B504=\"\",\"\",MAX($A$7:A503)+1)","v":""},null,null,null,null,null,null,null,null,null,null,""]
[{"$f":"IF(B505=\"\",\"\",MAX($A$7:A504)+1)","v":""},null,null,null,null,null,null,null,null,null,null,""]
[{"$f":"IF(B506=\"\",\"\",MAX($A$7:A505)+1)","v":""},null,null,null,null,null,null,null,null,null,null,""]
[{"$f":"IF(B507=\"\",\"\",MAX($A$7:A506)+1)","v":""},null,null,null,null,null,null,null,null,null,null,""]
[{"$f":"IF(B508=\"\",\"\",MAX($A$7:A507)+1)","v":""},null,null,null,null,null,null,null,null,null,null,""]
[{"$f":"IF(B509=\"\",\"\",MAX($A$7:A508)+1)","v":""},null,null,null,null,null,null,null,null,null,null,""]
[{"$f":"IF(B510=\"\",\"\",MAX($A$7:A509)+1)","v":""},null,null,null,null,null,null,null,null,null,null,""]
[{"$f":"IF(B511=\"\",\"\",MAX($A$7:A510)+1)","v":""},null,null,null,null,null,null,null,null,null,null,""]
[{"$f":"IF(B512=\"\",\"\",MAX($A$7:A511)+1)","v":""},null,null,null,null,null,null,null,null,null,null,""]
[{"$f":"IF(B513=\"\",\"\",MAX($A$7:A512)+1)","v":""},null,null,null,null,null,null,null,null,null,null,""]
[{"$f":"IF(B514=\"\",\"\",MAX($A$7:A513)+1)","v":""},null,null,null,null,null,null,null,null,null,null,""]
[{"$f":"IF(B515=\"\",\"\",MAX($A$7:A514)+1)","v":""},null,null,null,null,null,null,null,null,null,null,""]
[{"$f":"IF(B516=\"\",\"\",MAX($A$7:A515)+1)","v":""},null,null,null,null,null,null,null,null,null,null,""]
[{"$f":"IF(B517=\"\",\"\",MAX($A$7:A516)+1)","v":""},null,null,null,null,null,null,null,null,null,null,""]
[{"$f":"IF(B518=\"\",\"\",MAX($A$7:A517)+1)","v":""},null,null,null,null,null,null,null,null,null,null,""]
[{"$f":"IF(B519=\"\",\"\",MAX($A$7:A518)+1)","v":""},null,null,null,null,null,null,null,null,null,null,""]
[{"$f":"IF(B520=\"\",\"\",MAX($A$7:A519)+1)","v":""},null,null,null,null,null,null,null,null,null,null,{"$f":"IF(AND(I520=\"\",J520=\"\"),\"\",L519+I520-J520-K520)","v":""}]
[{"$f":"IF(B521=\"\",\"\",MAX($A$7:A520)+1)","v":""},null,null,null,null,null,null,null,null,null,null,""]
[{"$f":"IF(B522=\"\",\"\",MAX($A$7:A521)+1)","v":""},null,null,null,null,null,null,null,null,null,null,""]
[{"$f":"IF(B523=\"\",\"\",MAX($A$7:A522)+1)","v":""},null,null,null,null,null,null,null,null,null,null,""]
[{"$f":"IF(B524=\"\",\"\",MAX($A$7:A523)+1)","v":""},null,null,null,null,null,null,null,null,null,null,""]
[{"$f":"IF(B525=\"\",\"\",MAX($A$7:A524)+1)","v":""},null,null,null,null,null,null,null,null,null,null,""]
[{"$f":"IF(B526=\"\",\"\",MAX($A$7:A525)+1)","v":""},null,null,null,null,null,null,null,null,null,null,""]
[{"$f":"IF(B527=\"\",\"\",MAX($A$7:A526)+1)","v":""},null,null,null,null,null,null,null,null,null,null,""]
[{"$f":"IF(B528=\"\",\"\",MAX($A$7:A527)+1)","v":""},null,null,null,null,null,null,null,null,null,null,""]
[{"$f":"IF(B529=\"\",\"\",MAX($A$7:A528)+1)","v":""},null,null,null,null,null,null,null,null,null,null,""]
[{"$f":"IF(B530=\"\",\"\",MAX($A$7:A529)+1)","v":""},null,null,null,null,null,null,null,null,null,null,""]
[{"$f":"IF(B531=\"\",\"\",MAX($A$7:A530)+1)","v":""},null,null,null,null,null,null,null,null,null,null,""]
[{"$f":"IF(B532=\"\",\"\",MAX($A$7:A531)+1)","v":""},null,null,null,null,null,null,null,null,null,null,""]
[{"$f":"IF(B533=\"\",\"\",MAX($A$7:A532)+1)","v":""},null,null,null,null,null,null,null,null,null,null,""]
[{"$f":"IF(B534=\"\",\"\",MAX($A$7:A533)+1)","v":""},null,null,null,null,null,null,null,null,null,null,""]
[{"$f":"IF(B535=\"\",\"\",MAX($A$7:A534)+1)","v":""},null,null,null,null,null,null,null,null,null,null,""]
[{"$f":"IF(B536=\"\",\"\",MAX($A$7:A535)+1)","v":""},null,null,null,null,null,null,null,null,null,null,""]
[{"$f":"IF(B537=\"\",\"\",MAX($A$7:A536)+1)","v":""},null,null,null,null,null,null,null,null,null,null,""]
[{"$f":"IF(B538=\"\",\"\",MAX($A$7:A537)+1)","v":""},null,null,null,null,null,null,null,null,null,null,""]
[{"$f":"IF(B539=\"\",\"\",MAX($A$7:A538)+1)","v":""},null,null,null,null,null,null,null,null,null,null,""]
[{"$f":"IF(B540=\"\",\"\",MAX($A$7:A539)+1)","v":""},null,null,null,null,null,null,null,null,null,null,""]
[{"$f":"IF(B541=\"\",\"\",MAX($A$7:A540)+1)","v":""},null,null,null,null,null,null,null,null,null,null,""]
[{"$f":"IF(B542=\"\",\"\",MAX($A$7:A541)+1)","v":""},null,null,null,null,null,null,null,null,null,null,""]
[{"$f":"IF(B543=\"\",\"\",MAX($A$7:A542)+1)","v":""},null,null,null,null,null,null,null,null,null,null,""]
[{"$f":"IF(B544=\"\",\"\",MAX($A$7:A543)+1)","v":""},null,null,null,null,null,null,null,null,null,null,""]
[{"$f":"IF(B545=\"\",\"\",MAX($A$7:A544)+1)","v":""},null,null,null,null,null,null,null,null,null,null,""]
[{"$f":"IF(B546=\"\",\"\",MAX($A$7:A545)+1)","v":""},null,null,null,null,null,null,null,null,null,null,""]
[{"$f":"IF(B547=\"\",\"\",MAX($A$7:A546)+1)","v":""},null,null,null,null,null,null,null,null,null,null,""]
[{"$f":"IF(B548=\"\",\"\",MAX($A$7:A547)+1)","v":""},null,null,null,null,null,null,null,null,null,null,""]
[{"$f":"IF(B549=\"\",\"\",MAX($A$7:A548)+1)","v":""},null,null,null,null,null,null,null,null,null,null,""]
[{"$f":"IF(B550=\"\",\"\",MAX($A$7:A549)+1)","v":""},null,null,null,null,null,null,null,null,null,null,""]
[{"$f":"IF(B551=\"\",\"\",MAX($A$7:A550)+1)","v":""},null,null,null,null,null,null,null,null,null,null,""]
[{"$f":"IF(B552=\"\",\"\",MAX($A$7:A551)+1)","v":""},null,null,null,null,null,null,null,null,null,null,""]
[{"$f":"IF(B553=\"\",\"\",MAX($A$7:A552)+1)","v":""},null,null,null,null,null,null,null,null,null,null,""]
[{"$f":"IF(B554=\"\",\"\",MAX($A$7:A553)+1)","v":""},null,null,null,null,null,null,null,null,null,null,""]
[{"$f":"IF(B555=\"\",\"\",MAX($A$7:A554)+1)","v":""},null,null,null,null,null,null,null,null,null,null,""]
[{"$f":"IF(B556=\"\",\"\",MAX($A$7:A555)+1)","v":""},null,null,null,null,null,null,null,null,null,null,""]
[{"$f":"IF(B557=\"\",\"\",MAX($A$7:A556)+1)","v":""},null,null,null,null,null,null,null,null,null,null,""]
[{"$f":"IF(B558=\"\",\"\",MAX($A$7:A557)+1)","v":""},null,null,null,null,null,null,null,null,null,null,""]
[{"$f":"IF(B559=\"\",\"\",MAX($A$7:A558)+1)","v":""},null,null,null,null,null,null,null,null,null,null,""]
[{"$f":"IF(B560=\"\",\"\",MAX($A$7:A559)+1)","v":""},null,null,null,null,null,null,null,null,null,null,""]
[{"$f":"IF(B561=\"\",\"\",MAX($A$7:A560)+1)","v":""},null,null,null,null,null,null,null,null,null,null,""]
[{"$f":"IF(B562=\"\",\"\",MAX($A$7:A561)+1)","v":""},null,null,null,null,null,null,null,null,null,null,""]
[{"$f":"IF(B563=\"\",\"\",MAX($A$7:A562)+1)","v":""},null,null,null,null,null,null,null,null,null,null,""]
[{"$f":"IF(B564=\"\",\"\",MAX($A$7:A563)+1)","v":""},null,null,null,null,null,null,null,null,null,null,""]
[{"$f":"IF(B565=\"\",\"\",MAX($A$7:A564)+1)","v":""},null,null,null,null,null,null,null,null,null,null,""]
[{"$f":"IF(B566=\"\",\"\",MAX($A$7:A565)+1)","v":""},null,null,null,null,null,null,null,null,null,null,""]
[{"$f":"IF(B567=\"\",\"\",MAX($A$7:A566)+1)","v":""},null,null,null,null,null,null,null,null,null,null,""]
[{"$f":"IF(B568=\"\",\"\",MAX($A$7:A567)+1)","v":""},null,null,null,null,null,null,null,null,null,null,""]
[{"$f":"IF(B569=\"\",\"\",MAX($A$7:A568)+1)","v":""},null,null,null,null,null,null,null,null,null,null,""]
[{"$f":"IF(B570=\"\",\"\",MAX($A$7:A569)+1)","v":""},null,null,null,null,null,null,null,null,null,null,""]
[{"$f":"IF(B571=\"\",\"\",MAX($A$7:A570)+1)","v":""},null,null,null,null,null,null,null,null,null,null,""]
[{"$f":"IF(B572=\"\",\"\",MAX($A$7:A571)+1)","v":""},null,null,null,null,null,null,null,null,null,null,""]
[{"$f":"IF(B573=\"\",\"\",MAX($A$7:A572)+1)","v":""},null,null,null,null,null,null,null,null,null,null,""]
[{"$f":"IF(B574=\"\",\"\",MAX($A$7:A573)+1)","v":""},null,null,null,null,null,null,null,null,null,null,""]
[{"$f":"IF(B575=\"\",\"\",MAX($A$7:A574)+1)","v":""},null,null,null,null,null,null,null,null,null,null,""]
[{"$f":"IF(B576=\"\",\"\",MAX($A$7:A575)+1)","v":""},null,null,null,null,null,null,null,null,null,null,""]
[{"$f":"IF(B577=\"\",\"\",MAX($A$7:A576)+1)","v":""},null,null,null,null,null,null,null,null,null,null,""]
[{"$f":"IF(B578=\"\",\"\",MAX($A$7:A577)+1)","v":""},null,null,null,null,null,null,null,null,null,null,""]
[{"$f":"IF(B579=\"\",\"\",MAX($A$7:A578)+1)","v":""},null,null,null,null,null,null,null,null,null,null,""]
[{"$f":"IF(B580=\"\",\"\",MAX($A$7:A579)+1)","v":""},null,null,null,null,null,null,null,null,null,null,""]
[{"$f":"IF(B581=\"\",\"\",MAX($A$7:A580)+1)","v":""},null,null,null,null,null,null,null,null,null,null,""]
[{"$f":"IF(B582=\"\",\"\",MAX($A$7:A581)+1)","v":""},null,null,null,null,null,null,null,null,null,null,""]
[{"$f":"IF(B583=\"\",\"\",MAX($A$7:A582)+1)","v":""},null,null,null,null,null,null,null,null,null,null,""]
[{"$f":"IF(B584=\"\",\"\",MAX($A$7:A583)+1)","v":""},null,null,null,null,null,null,null,null,null,null,{"$f":"IF(AND(I584=\"\",J584=\"\"),\"\",L583+I584-J584-K584)","v":""}]
[{"$f":"IF(B585=\"\",\"\",MAX($A$7:A584)+1)","v":""},null,null,null,null,null,null,null,null,null,null,""]
[{"$f":"IF(B586=\"\",\"\",MAX($A$7:A585)+1)","v":""},null,null,null,null,null,null,null,null,null,null,""]
[{"$f":"IF(B587=\"\",\"\",MAX($A$7:A586)+1)","v":""},null,null,null,null,null,null,null,null,null,null,""]
[{"$f":"IF(B588=\"\",\"\",MAX($A$7:A587)+1)","v":""},null,null,null,null,null,null,null,null,null,null,""]
[{"$f":"IF(B589=\"\",\"\",MAX($A$7:A588)+1)","v":""},null,null,null,null,null,null,null,null,null,null,""]
[{"$f":"IF(B590=\"\",\"\",MAX($A$7:A589)+1)","v":""},null,null,null,null,null,null,null,null,null,null,""]
[{"$f":"IF(B591=\"\",\"\",MAX($A$7:A590)+1)","v":""},null,null,null,null,null,null,null,null,null,null,""]
[{"$f":"IF(B592=\"\",\"\",MAX($A$7:A591)+1)","v":""},null,null,null,null,null,null,null,null,null,null,""]
[{"$f":"IF(B593=\"\",\"\",MAX($A$7:A592)+1)","v":""},null,null,null,null,null,null,null,null,null,null,""]
[{"$f":"IF(B594=\"\",\"\",MAX($A$7:A593)+1)","v":""},null,null,null,null,null,null,null,null,null,null,""]
[{"$f":"IF(B595=\"\",\"\",MAX($A$7:A594)+1)","v":""},null,null,null,null,null,null,null,null,null,null,""]
[{"$f":"IF(B596=\"\",\"\",MAX($A$7:A595)+1)","v":""},null,null,null,null,null,null,null,null,null,null,""]
[{"$f":"IF(B597=\"\",\"\",MAX($A$7:A596)+1)","v":""},null,null,null,null,null,null,null,null,null,null,""]
[{"$f":"IF(B598=\"\",\"\",MAX($A$7:A597)+1)","v":""},null,null,null,null,null,null,null,null,null,null,""]
[{"$f":"IF(B599=\"\",\"\",MAX($A$7:A598)+1)","v":""},null,null,null,null,null,null,null,null,null,null,""]
[{"$f":"IF(B600=\"\",\"\",MAX($A$7:A599)+1)","v":""},null,null,null,null,null,null,null,null,null,null,""]
[{"$f":"IF(B601=\"\",\"\",MAX($A$7:A600)+1)","v":""},null,null,null,null,null,null,null,null,null,null,""]
[{"$f":"IF(B602=\"\",\"\",MAX($A$7:A601)+1)","v":""},null,null,null,null,null,null,null,null,null,null,""]
[{"$f":"IF(B603=\"\",\"\",MAX($A$7:A602)+1)","v":""},null,null,null,null,null,null,null,null,null,null,""]
[{"$f":"IF(B604=\"\",\"\",MAX($A$7:A603)+1)","v":""},null,null,null,null,null,null,null,null,null,null,""]
[{"$f":"IF(B605=\"\",\"\",MAX($A$7:A604)+1)","v":""},null,null,null,null,null,null,null,null,null,null,""]
[{"$f":"IF(B606=\"\",\"\",MAX($A$7:A605)+1)","v":""},null,null,null,null,null,null,null,null,null,null,""]
[{"$f":"IF(B607=\"\",\"\",MAX($A$7:A606)+1)","v":""},null,null,null,null,null,null,null,null,null,null,""]
[{"$f":"IF(B608=\"\",\"\",MAX($A$7:A607)+1)","v":""},null,null,null,null,null,null,null,null,null,null,""]
[{"$f":"IF(B609=\"\",\"\",MAX($A$7:A608)+1)","v":""},null,null,null,null,null,null,null,null,null,null,""]
[{"$f":"IF(B610=\"\",\"\",MAX($A$7:A609)+1)","v":""},null,null,null,null,null,null,null,null,null,null,""]
[{"$f":"IF(B611=\"\",\"\",MAX($A$7:A610)+1)","v":""},null,null,null,null,null,null,null,null,null,null,""]
[{"$f":"IF(B612=\"\",\"\",MAX($A$7:A611)+1)","v":""},null,null,null,null,null,null,null,null,null,null,""]
[{"$f":"IF(B613=\"\",\"\",MAX($A$7:A612)+1)","v":""},null,null,null,null,null,null,null,null,null,null,""]
[{"$f":"IF(B614=\"\",\"\",MAX($A$7:A613)+1)","v":""},null,null,null,null,null,null,null,null,null,null,""]
[{"$f":"IF(B615=\"\",\"\",MAX($A$7:A614)+1)","v":""},null,null,null,null,null,null,null,null,null,null,""]
[{"$f":"IF(B616=\"\",\"\",MAX($A$7:A615)+1)","v":""},null,null,null,null,null,null,null,null,null,null,""]
[{"$f":"IF(B617=\"\",\"\",MAX($A$7:A616)+1)","v":""},null,null,null,null,null,null,null,null,null,null,""]
[{"$f":"IF(B618=\"\",\"\",MAX($A$7:A617)+1)","v":""},null,null,null,null,null,null,null,null,null,null,""]
[{"$f":"IF(B619=\"\",\"\",MAX($A$7:A618)+1)","v":""},null,null,null,null,null,null,null,null,null,null,""]
[{"$f":"IF(B620=\"\",\"\",MAX($A$7:A619)+1)","v":""},null,null,null,null,null,null,null,null,null,null,""]
[{"$f":"IF(B621=\"\",\"\",MAX($A$7:A620)+1)","v":""},null,null,null,null,null,null,null,null,null,null,""]
[{"$f":"IF(B622=\"\",\"\",MAX($A$7:A621)+1)","v":""},null,null,null,null,null,null,null,null,null,null,""]
[{"$f":"IF(B623=\"\",\"\",MAX($A$7:A622)+1)","v":""},null,null,null,null,null,null,null,null,null,null,""]
[{"$f":"IF(B624=\"\",\"\",MAX($A$7:A623)+1)","v":""},null,null,null,null,null,null,null,null,null,null,""]
[{"$f":"IF(B625=\"\",\"\",MAX($A$7:A624)+1)","v":""},null,null,null,null,null,null,null,null,null,null,""]
[{"$f":"IF(B626=\"\",\"\",MAX($A$7:A625)+1)","v":""},null,null,null,null,null,null,null,null,null,null,""]
[{"$f":"IF(B627=\"\",\"\",MAX($A$7:A626)+1)","v":""},null,null,null,null,null,null,null,null,null,null,""]
[{"$f":"IF(B628=\"\",\"\",MAX($A$7:A627)+1)","v":""},null,null,null,null,null,null,null,null,null,null,""]
[{"$f":"IF(B629=\"\",\"\",MAX($A$7:A628)+1)","v":""},null,null,null,null,null,null,null,null,null,null,""]
[{"$f":"IF(B630=\"\",\"\",MAX($A$7:A629)+1)","v":""},null,null,null,null,null,null,null,null,null,null,""]
[{"$f":"IF(B631=\"\",\"\",MAX($A$7:A630)+1)","v":""},null,null,null,null,null,null,null,null,null,null,""]
[{"$f":"IF(B632=\"\",\"\",MAX($A$7:A631)+1)","v":""},null,null,null,null,null,null,null,null,null,null,""]
[{"$f":"IF(B633=\"\",\"\",MAX($A$7:A632)+1)","v":""},null,null,null,null,null,null,null,null,null,null,""]
[{"$f":"IF(B634=\"\",\"\",MAX($A$7:A633)+1)","v":""},null,null,null,null,null,null,null,null,null,null,""]
[{"$f":"IF(B635=\"\",\"\",MAX($A$7:A634)+1)","v":""},null,null,null,null,null,null,null,null,null,null,""]
[{"$f":"IF(B636=\"\",\"\",MAX($A$7:A635)+1)","v":""},null,null,null,null,null,null,null,null,null,null,""]
[{"$f":"IF(B637=\"\",\"\",MAX($A$7:A636)+1)","v":""},null,null,null,null,null,null,null,null,null,null,""]
[{"$f":"IF(B638=\"\",\"\",MAX($A$7:A637)+1)","v":""},null,null,null,null,null,null,null,null,null,null,""]
[{"$f":"IF(B639=\"\",\"\",MAX($A$7:A638)+1)","v":""},null,null,null,null,null,null,null,null,null,null,""]
[{"$f":"IF(B640=\"\",\"\",MAX($A$7:A639)+1)","v":""},null,null,null,null,null,null,null,null,null,null,""]
[{"$f":"IF(B641=\"\",\"\",MAX($A$7:A640)+1)","v":""},null,null,null,null,null,null,null,null,null,null,""]
[{"$f":"IF(B642=\"\",\"\",MAX($A$7:A641)+1)","v":""},null,null,null,null,null,null,null,null,null,null,""]
[{"$f":"IF(B643=\"\",\"\",MAX($A$7:A642)+1)","v":""},null,null,null,null,null,null,null,null,null,null,""]
[{"$f":"IF(B644=\"\",\"\",MAX($A$7:A643)+1)","v":""},null,null,null,null,null,null,null,null,null,null,""]
[{"$f":"IF(B645=\"\",\"\",MAX($A$7:A644)+1)","v":""},null,null,null,null,null,null,null,null,null,null,""]
[{"$f":"IF(B646=\"\",\"\",MAX($A$7:A645)+1)","v":""},null,null,null,null,null,null,null,null,null,null,""]
[{"$f":"IF(B647=\"\",\"\",MAX($A$7:A646)+1)","v":""},null,null,null,null,null,null,null,null,null,null,""]
[{"$f":"IF(B648=\"\",\"\",MAX($A$7:A647)+1)","v":""},null,null,null,null,null,null,null,null,null,null,{"$f":"IF(AND(I648=\"\",J648=\"\"),\"\",L647+I648-J648-K648)","v":""}]
[{"$f":"IF(B649=\"\",\"\",MAX($A$7:A648)+1)","v":""},null,null,null,null,null,null,null,null,null,null,""]
[{"$f":"IF(B650=\"\",\"\",MAX($A$7:A649)+1)","v":""},null,null,null,null,null,null,null,null,null,null,""]
[{"$f":"IF(B651=\"\",\"\",MAX($A$7:A650)+1)","v":""},null,null,null,null,null,null,null,null,null,null,""]
[{"$f":"IF(B652=\"\",\"\",MAX($A$7:A651)+1)","v":""},null,null,null,null,null,null,null,null,null,null,""]
[{"$f":"IF(B653=\"\",\"\",MAX($A$7:A652)+1)","v":""},null,null,null,null,null,null,null,null,null,null,""]
[{"$f":"IF(B654=\"\",\"\",MAX($A$7:A653)+1)","v":""},null,null,null,null,null,null,null,null,null,null,""]
[{"$f":"IF(B655=\"\",\"\",MAX($A$7:A654)+1)","v":""},null,null,null,null,null,null,null,null,null,null,""]
[{"$f":"IF(B656=\"\",\"\",MAX($A$7:A655)+1)","v":""},null,null,null,null,null,null,null,null,null,null,""]
[{"$f":"IF(B657=\"\",\"\",MAX($A$7:A656)+1)","v":""},null,null,null,null,null,null,null,null,null,null,""]
[{"$f":"IF(B658=\"\",\"\",MAX($A$7:A657)+1)","v":""},null,null,null,null,null,null,null,null,null,null,""]
[{"$f":"IF(B659=\"\",\"\",MAX($A$7:A658)+1)","v":""},null,null,null,null,null,null,null,null,null,null,""]
[{"$f":"IF(B660=\"\",\"\",MAX($A$7:A659)+1)","v":""},null,null,null,null,null,null,null,null,null,null,""]
[{"$f":"IF(B661=\"\",\"\",MAX($A$7:A660)+1)","v":""},null,null,null,null,null,null,null,null,null,null,""]
[{"$f":"IF(B662=\"\",\"\",MAX($A$7:A661)+1)","v":""},null,null,null,null,null,null,null,null,null,null,""]
[{"$f":"IF(B663=\"\",\"\",MAX($A$7:A662)+1)","v":""},null,null,null,null,null,null,null,null,null,null,""]
[{"$f":"IF(B664=\"\",\"\",MAX($A$7:A663)+1)","v":""},null,null,null,null,null,null,null,null,null,null,""]
[{"$f":"IF(B665=\"\",\"\",MAX($A$7:A664)+1)","v":""},null,null,null,null,null,null,null,null,null,null,""]
[{"$f":"IF(B666=\"\",\"\",MAX($A$7:A665)+1)","v":""},null,null,null,null,null,null,null,null,null,null,""]
[{"$f":"IF(B667=\"\",\"\",MAX($A$7:A666)+1)","v":""},null,null,null,null,null,null,null,null,null,null,""]
[{"$f":"IF(B668=\"\",\"\",MAX($A$7:A667)+1)","v":""},null,null,null,null,null,null,null,null,null,null,""]
[{"$f":"IF(B669=\"\",\"\",MAX($A$7:A668)+1)","v":""},null,null,null,null,null,null,null,null,null,null,""]
[{"$f":"IF(B670=\"\",\"\",MAX($A$7:A669)+1)","v":""},null,null,null,null,null,null,null,null,null,null,""]
[{"$f":"IF(B671=\"\",\"\",MAX($A$7:A670)+1)","v":""},null,null,null,null,null,null,null,null,null,null,""]
[{"$f":"IF(B672=\"\",\"\",MAX($A$7:A671)+1)","v":""},null,null,null,null,null,null,null,null,null,null,""]
[{"$f":"IF(B673=\"\",\"\",MAX($A$7:A672)+1)","v":""},null,null,null,null,null,null,null,null,null,null,""]
[{"$f":"IF(B674=\"\",\"\",MAX($A$7:A673)+1)","v":""},null,null,null,null,null,null,null,null,null,null,""]
[{"$f":"IF(B675=\"\",\"\",MAX($A$7:A674)+1)","v":""},null,null,null,null,null,null,null,null,null,null,""]
[{"$f":"IF(B676=\"\",\"\",MAX($A$7:A675)+1)","v":""},null,null,null,null,null,null,null,null,null,null,""]
[{"$f":"IF(B677=\"\",\"\",MAX($A$7:A676)+1)","v":""},null,null,null,null,null,null,null,null,null,null,""]
[{"$f":"IF(B678=\"\",\"\",MAX($A$7:A677)+1)","v":""},null,null,null,null,null,null,null,null,null,null,""]
[{"$f":"IF(B679=\"\",\"\",MAX($A$7:A678)+1)","v":""},null,null,null,null,null,null,null,null,null,null,""]
[{"$f":"IF(B680=\"\",\"\",MAX($A$7:A679)+1)","v":""},null,null,null,null,null,null,null,null,null,null,""]
[{"$f":"IF(B681=\"\",\"\",MAX($A$7:A680)+1)","v":""},null,null,null,null,null,null,null,null,null,null,""]
[{"$f":"IF(B682=\"\",\"\",MAX($A$7:A681)+1)","v":""},null,null,null,null,null,null,null,null,null,null,""]
[{"$f":"IF(B683=\"\",\"\",MAX($A$7:A682)+1)","v":""},null,null,null,null,null,null,null,null,null,null,""]
[{"$f":"IF(B684=\"\",\"\",MAX($A$7:A683)+1)","v":""},null,null,null,null,null,null,null,null,null,null,""]
[{"$f":"IF(B685=\"\",\"\",MAX($A$7:A684)+1)","v":""},null,null,null,null,null,null,null,null,null,null,""]
[{"$f":"IF(B686=\"\",\"\",MAX($A$7:A685)+1)","v":""},null,null,null,null,null,null,null,null,null,null,""]
[{"$f":"IF(B687=\"\",\"\",MAX($A$7:A686)+1)","v":""},null,null,null,null,null,null,null,null,null,null,""]
[{"$f":"IF(B688=\"\",\"\",MAX($A$7:A687)+1)","v":""},null,null,null,null,null,null,null,null,null,null,""]
[{"$f":"IF(B689=\"\",\"\",MAX($A$7:A688)+1)","v":""},null,null,null,null,null,null,null,null,null,null,""]
[{"$f":"IF(B690=\"\",\"\",MAX($A$7:A689)+1)","v":""},null,null,null,null,null,null,null,null,null,null,""]
[{"$f":"IF(B691=\"\",\"\",MAX($A$7:A690)+1)","v":""},null,null,null,null,null,null,null,null,null,null,""]
[{"$f":"IF(B692=\"\",\"\",MAX($A$7:A691)+1)","v":""},null,null,null,null,null,null,null,null,null,null,""]
[{"$f":"IF(B693=\"\",\"\",MAX($A$7:A692)+1)","v":""},null,null,null,null,null,null,null,null,null,null,""]
[{"$f":"IF(B694=\"\",\"\",MAX($A$7:A693)+1)","v":""},null,null,null,null,null,null,null,null,null,null,""]
[{"$f":"IF(B695=\"\",\"\",MAX($A$7:A694)+1)","v":""},null,null,null,null,null,null,null,null,null,null,""]
[{"$f":"IF(B696=\"\",\"\",MAX($A$7:A695)+1)","v":""},null,null,null,null,null,null,null,null,null,null,""]
[{"$f":"IF(B697=\"\",\"\",MAX($A$7:A696)+1)","v":""},null,null,null,null,null,null,null,null,null,null,""]
[{"$f":"IF(B698=\"\",\"\",MAX($A$7:A697)+1)","v":""},null,null,null,null,null,null,null,null,null,null,""]
[{"$f":"IF(B699=\"\",\"\",MAX($A$7:A698)+1)","v":""},null,null,null,null,null,null,null,null,null,null,""]
[{"$f":"IF(B700=\"\",\"\",MAX($A$7:A699)+1)","v":""},null,null,null,null,null,null,null,null,null,null,""]
[{"$f":"IF(B701=\"\",\"\",MAX($A$7:A700)+1)","v":""},null,null,null,null,null,null,null,null,null,null,""]
[{"$f":"IF(B702=\"\",\"\",MAX($A$7:A701)+1)","v":""},null,null,null,null,null,null,null,null,null,null,""]
[{"$f":"IF(B703=\"\",\"\",MAX($A$7:A702)+1)","v":""},null,null,null,null,null,null,null,null,null,null,""]
[{"$f":"IF(B704=\"\",\"\",MAX($A$7:A703)+1)","v":""},null,null,null,null,null,null,null,null,null,null,""]
[{"$f":"IF(B705=\"\",\"\",MAX($A$7:A704)+1)","v":""},null,null,null,null,null,null,null,null,null,null,""]
[{"$f":"IF(B706=\"\",\"\",MAX($A$7:A705)+1)","v":""},null,null,null,null,null,null,null,null,null,null,""]
[{"$f":"IF(B707=\"\",\"\",MAX($A$7:A706)+1)","v":""},null,null,null,null,null,null,null,null,null,null,""]
[{"$f":"IF(B708=\"\",\"\",MAX($A$7:A707)+1)","v":""},null,null,null,null,null,null,null,null,null,null,""]
[{"$f":"IF(B709=\"\",\"\",MAX($A$7:A708)+1)","v":""},null,null,null,null,null,null,null,null,null,null,""]
[{"$f":"IF(B710=\"\",\"\",MAX($A$7:A709)+1)","v":""},null,null,null,null,null,null,null,null,null,null,""]
[{"$f":"IF(B711=\"\",\"\",MAX($A$7:A710)+1)","v":""},null,null,null,null,null,null,null,null,null,null,""]
[{"$f":"IF(B712=\"\",\"\",MAX($A$7:A711)+1)","v":""},null,null,null,null,null,null,null,null,null,null,{"$f":"IF(AND(I712=\"\",J712=\"\"),\"\",L711+I712-J712-K712)","v":""}]
[{"$f":"IF(B713=\"\",\"\",MAX($A$7:A712)+1)","v":""},null,null,null,null,null,null,null,null,null,null,""]
[{"$f":"IF(B714=\"\",\"\",MAX($A$7:A713)+1)","v":""},null,null,null,null,null,null,null,null,null,null,""]
[{"$f":"IF(B715=\"\",\"\",MAX($A$7:A714)+1)","v":""},null,null,null,null,null,null,null,null,null,null,""]
[{"$f":"IF(B716=\"\",\"\",MAX($A$7:A715)+1)","v":""},null,null,null,null,null,null,null,null,null,null,""]
[{"$f":"IF(B717=\"\",\"\",MAX($A$7:A716)+1)","v":""},null,null,null,null,null,null,null,null,null,null,""]
[{"$f":"IF(B718=\"\",\"\",MAX($A$7:A717)+1)","v":""},null,null,null,null,null,null,null,null,null,null,""]
[{"$f":"IF(B719=\"\",\"\",MAX($A$7:A718)+1)","v":""},null,null,null,null,null,null,null,null,null,null,""]
[{"$f":"IF(B720=\"\",\"\",MAX($A$7:A719)+1)","v":""},null,null,null,null,null,null,null,null,null,null,""]
[{"$f":"IF(B721=\"\",\"\",MAX($A$7:A720)+1)","v":""},null,null,null,null,null,null,null,null,null,null,""]
[{"$f":"IF(B722=\"\",\"\",MAX($A$7:A721)+1)","v":""},null,null,null,null,null,null,null,null,null,null,""]
[{"$f":"IF(B723=\"\",\"\",MAX($A$7:A722)+1)","v":""},null,null,null,null,null,null,null,null,null,null,""]
[{"$f":"IF(B724=\"\",\"\",MAX($A$7:A723)+1)","v":""},null,null,null,null,null,null,null,null,null,null,""]
[{"$f":"IF(B725=\"\",\"\",MAX($A$7:A724)+1)","v":""},null,null,null,null,null,null,null,null,null,null,""]
[{"$f":"IF(B726=\"\",\"\",MAX($A$7:A725)+1)","v":""},null,null,null,null,null,null,null,null,null,null,""]
[{"$f":"IF(B727=\"\",\"\",MAX($A$7:A726)+1)","v":""},null,null,null,null,null,null,null,null,null,null,""]
[{"$f":"IF(B728=\"\",\"\",MAX($A$7:A727)+1)","v":""},null,null,null,null,null,null,null,null,null,null,""]
[{"$f":"IF(B729=\"\",\"\",MAX($A$7:A728)+1)","v":""},null,null,null,null,null,null,null,null,null,null,""]
[{"$f":"IF(B730=\"\",\"\",MAX($A$7:A729)+1)","v":""},null,null,null,null,null,null,null,null,null,null,""]
[{"$f":"IF(B731=\"\",\"\",MAX($A$7:A730)+1)","v":""},null,null,null,null,null,null,null,null,null,null,""]
[{"$f":"IF(B732=\"\",\"\",MAX($A$7:A731)+1)","v":""},null,null,null,null,null,null,null,null,null,null,""]
[{"$f":"IF(B733=\"\",\"\",MAX($A$7:A732)+1)","v":""},null,null,null,null,null,null,null,null,null,null,""]
[{"$f":"IF(B734=\"\",\"\",MAX($A$7:A733)+1)","v":""},null,null,null,null,null,null,null,null,null,null,""]
[{"$f":"IF(B735=\"\",\"\",MAX($A$7:A734)+1)","v":""},null,null,null,null,null,null,null,null,null,null,""]
[{"$f":"IF(B736=\"\",\"\",MAX($A$7:A735)+1)","v":""},null,null,null,null,null,null,null,null,null,null,""]
[{"$f":"IF(B737=\"\",\"\",MAX($A$7:A736)+1)","v":""},null,null,null,null,null,null,null,null,null,null,""]
[{"$f":"IF(B738=\"\",\"\",MAX($A$7:A737)+1)","v":""},null,null,null,null,null,null,null,null,null,null,""]
[{"$f":"IF(B739=\"\",\"\",MAX($A$7:A738)+1)","v":""},null,null,null,null,null,null,null,null,null,null,""]
[{"$f":"IF(B740=\"\",\"\",MAX($A$7:A739)+1)","v":""},null,null,null,null,null,null,null,null,null,null,""]
[{"$f":"IF(B741=\"\",\"\",MAX($A$7:A740)+1)","v":""},null,null,null,null,null,null,null,null,null,null,""]
[{"$f":"IF(B742=\"\",\"\",MAX($A$7:A741)+1)","v":""},null,null,null,null,null,null,null,null,null,null,""]
[{"$f":"IF(B743=\"\",\"\",MAX($A$7:A742)+1)","v":""},null,null,null,null,null,null,null,null,null,null,""]
[{"$f":"IF(B744=\"\",\"\",MAX($A$7:A743)+1)","v":""},null,null,null,null,null,null,null,null,null,null,""]
[{"$f":"IF(B745=\"\",\"\",MAX($A$7:A744)+1)","v":""},null,null,null,null,null,null,null,null,null,null,""]
[{"$f":"IF(B746=\"\",\"\",MAX($A$7:A745)+1)","v":""},null,null,null,null,null,null,null,null,null,null,""]
[{"$f":"IF(B747=\"\",\"\",MAX($A$7:A746)+1)","v":""},null,null,null,null,null,null,null,null,null,null,""]
[{"$f":"IF(B748=\"\",\"\",MAX($A$7:A747)+1)","v":""},null,null,null,null,null,null,null,null,null,null,""]
[{"$f":"IF(B749=\"\",\"\",MAX($A$7:A748)+1)","v":""},null,null,null,null,null,null,null,null,null,null,""]
[{"$f":"IF(B750=\"\",\"\",MAX($A$7:A749)+1)","v":""},null,null,null,null,null,null,null,null,null,null,""]
[{"$f":"IF(B751=\"\",\"\",MAX($A$7:A750)+1)","v":""},null,null,null,null,null,null,null,null,null,null,""]
[{"$f":"IF(B752=\"\",\"\",MAX($A$7:A751)+1)","v":""},null,null,null,null,null,null,null,null,null,null,""]
[{"$f":"IF(B753=\"\",\"\",MAX($A$7:A752)+1)","v":""},null,null,null,null,null,null,null,null,null,null,""]
[{"$f":"IF(B754=\"\",\"\",MAX($A$7:A753)+1)","v":""},null,null,null,null,null,null,null,null,null,null,""]
[{"$f":"IF(B755=\"\",\"\",MAX($A$7:A754)+1)","v":""},null,null,null,null,null,null,null,null,null,null,""]
[{"$f":"IF(B756=\"\",\"\",MAX($A$7:A755)+1)","v":""},null,null,null,null,null,null,null,null,null,null,""]
[{"$f":"IF(B757=\"\",\"\",MAX($A$7:A756)+1)","v":""},null,null,null,null,null,null,null,null,null,null,""]
[{"$f":"IF(B758=\"\",\"\",MAX($A$7:A757)+1)","v":""},null,null,null,null,null,null,null,null,null,null,""]
[{"$f":"IF(B759=\"\",\"\",MAX($A$7:A758)+1)","v":""},null,null,null,null,null,null,null,null,null,null,""]
[{"$f":"IF(B760=\"\",\"\",MAX($A$7:A759)+1)","v":""},null,null,null,null,null,null,null,null,null,null,""]
[{"$f":"IF(B761=\"\",\"\",MAX($A$7:A760)+1)","v":""},null,null,null,null,null,null,null,null,null,null,""]
[{"$f":"IF(B762=\"\",\"\",MAX($A$7:A761)+1)","v":""},null,null,null,null,null,null,null,null,null,null,""]
[{"$f":"IF(B763=\"\",\"\",MAX($A$7:A762)+1)","v":""},null,null,null,null,null,null,null,null,null,null,""]
[{"$f":"IF(B764=\"\",\"\",MAX($A$7:A763)+1)","v":""},null,null,null,null,null,null,null,null,null,null,""]
[{"$f":"IF(B765=\"\",\"\",MAX($A$7:A764)+1)","v":""},null,null,null,null,null,null,null,null,null,null,""]
[{"$f":"IF(B766=\"\",\"\",MAX($A$7:A765)+1)","v":""},null,null,null,null,null,null,null,null,null,null,""]
[{"$f":"IF(B767=\"\",\"\",MAX($A$7:A766)+1)","v":""},null,null,null,null,null,null,null,null,null,null,""]
[{"$f":"IF(B768=\"\",\"\",MAX($A$7:A767)+1)","v":""},null,null,null,null,null,null,null,null,null,null,""]
[{"$f":"IF(B769=\"\",\"\",MAX($A$7:A768)+1)","v":""},null,null,null,null,null,null,null,null,null,null,""]
[{"$f":"IF(B770=\"\",\"\",MAX($A$7:A769)+1)","v":""},null,null,null,null,null,null,null,null,null,null,""]
[{"$f":"IF(B771=\"\",\"\",MAX($A$7:A770)+1)","v":""},null,null,null,null,null,null,null,null,null,null,""]
[{"$f":"IF(B772=\"\",\"\",MAX($A$7:A771)+1)","v":""},null,null,null,null,null,null,null,null,null,null,""]
[{"$f":"IF(B773=\"\",\"\",MAX($A$7:A772)+1)","v":""},null,null,null,null,null,null,null,null,null,null,""]
[{"$f":"IF(B774=\"\",\"\",MAX($A$7:A773)+1)","v":""},null,null,null,null,null,null,null,null,null,null,""]
[{"$f":"IF(B775=\"\",\"\",MAX($A$7:A774)+1)","v":""},null,null,null,null,null,null,null,null,null,null,""]
[{"$f":"IF(B776=\"\",\"\",MAX($A$7:A775)+1)","v":""},null,null,null,null,null,null,null,null,null,null,{"$f":"IF(AND(I776=\"\",J776=\"\"),\"\",L775+I776-J776-K776)","v":""}]
[{"$f":"IF(B777=\"\",\"\",MAX($A$7:A776)+1)","v":""},null,null,null,null,null,null,null,null,null,null,""]
[{"$f":"IF(B778=\"\",\"\",MAX($A$7:A777)+1)","v":""},null,null,null,null,null,null,null,null,null,null,""]
[{"$f":"IF(B779=\"\",\"\",MAX($A$7:A778)+1)","v":""},null,null,null,null,null,null,null,null,null,null,""]
[{"$f":"IF(B780=\"\",\"\",MAX($A$7:A779)+1)","v":""},null,null,null,null,null,null,null,null,null,null,""]
[{"$f":"IF(B781=\"\",\"\",MAX($A$7:A780)+1)","v":""},null,null,null,null,null,null,null,null,null,null,""]
[{"$f":"IF(B782=\"\",\"\",MAX($A$7:A781)+1)","v":""},null,null,null,null,null,null,null,null,null,null,""]
[{"$f":"IF(B783=\"\",\"\",MAX($A$7:A782)+1)","v":""},null,null,null,null,null,null,null,null,null,null,""]
[{"$f":"IF(B784=\"\",\"\",MAX($A$7:A783)+1)","v":""},null,null,null,null,null,null,null,null,null,null,""]
[{"$f":"IF(B785=\"\",\"\",MAX($A$7:A784)+1)","v":""},null,null,null,null,null,null,null,null,null,null,""]
[{"$f":"IF(B786=\"\",\"\",MAX($A$7:A785)+1)","v":""},null,null,null,null,null,null,null,null,null,null,""]
[{"$f":"IF(B787=\"\",\"\",MAX($A$7:A786)+1)","v":""},null,null,null,null,null,null,null,null,null,null,""]
[{"$f":"IF(B788=\"\",\"\",MAX($A$7:A787)+1)","v":""},null,null,null,null,null,null,null,null,null,null,""]
[{"$f":"IF(B789=\"\",\"\",MAX($A$7:A788)+1)","v":""},null,null,null,null,null,null,null,null,null,null,""]
[{"$f":"IF(B790=\"\",\"\",MAX($A$7:A789)+1)","v":""},null,null,null,null,null,null,null,null,null,null,""]
[{"$f":"IF(B791=\"\",\"\",MAX($A$7:A790)+1)","v":""},null,null,null,null,null,null,null,null,null,null,""]
[{"$f":"IF(B792=\"\",\"\",MAX($A$7:A791)+1)","v":""},null,null,null,null,null,null,null,null,null,null,""]
[{"$f":"IF(B793=\"\",\"\",MAX($A$7:A792)+1)","v":""},null,null,null,null,null,null,null,null,null,null,""]
[{"$f":"IF(B794=\"\",\"\",MAX($A$7:A793)+1)","v":""},null,null,null,null,null,null,null,null,null,null,""]
[{"$f":"IF(B795=\"\",\"\",MAX($A$7:A794)+1)","v":""},null,null,null,null,null,null,null,null,null,null,""]
[{"$f":"IF(B796=\"\",\"\",MAX($A$7:A795)+1)","v":""},null,null,null,null,null,null,null,null,null,null,""]
[{"$f":"IF(B797=\"\",\"\",MAX($A$7:A796)+1)","v":""},null,null,null,null,null,null,null,null,null,null,""]
[{"$f":"IF(B798=\"\",\"\",MAX($A$7:A797)+1)","v":""},null,null,null,null,null,null,null,null,null,null,""]
[{"$f":"IF(B799=\"\",\"\",MAX($A$7:A798)+1)","v":""},null,null,null,null,null,null,null,null,null,null,""]
[{"$f":"IF(B800=\"\",\"\",MAX($A$7:A799)+1)","v":""},null,null,null,null,null,null,null,null,null,null,""]
[{"$f":"IF(B801=\"\",\"\",MAX($A$7:A800)+1)","v":""},null,null,null,null,null,null,null,null,null,null,""]
[{"$f":"IF(B802=\"\",\"\",MAX($A$7:A801)+1)","v":""},null,null,null,null,null,null,null,null,null,null,""]
[{"$f":"IF(B803=\"\",\"\",MAX($A$7:A802)+1)","v":""},null,null,null,null,null,null,null,null,null,null,""]
[{"$f":"IF(B804=\"\",\"\",MAX($A$7:A803)+1)","v":""},null,null,null,null,null,null,null,null,null,null,""]
[{"$f":"IF(B805=\"\",\"\",MAX($A$7:A804)+1)","v":""},null,null,null,null,null,null,null,null,null,null,""]
[{"$f":"IF(B806=\"\",\"\",MAX($A$7:A805)+1)","v":""},null,null,null,null,null,null,null,null,null,null,""]
[{"$f":"IF(B807=\"\",\"\",MAX($A$7:A806)+1)","v":""},null,null,null,null,null,null,null,null,null,null,""]
[{"$f":"IF(B808=\"\",\"\",MAX($A$7:A807)+1)","v":""},null,null,null,null,null,null,null,null,null,null,""]
[{"$f":"IF(B809=\"\",\"\",MAX($A$7:A808)+1)","v":""},null,null,null,null,null,null,null,null,null,null,""]
[{"$f":"IF(B810=\"\",\"\",MAX($A$7:A809)+1)","v":""},null,null,null,null,null,null,null,null,null,null,""]
[{"$f":"IF(B811=\"\",\"\",MAX($A$7:A810)+1)","v":""},null,null,null,null,null,null,null,null,null,null,""]
[{"$f":"IF(B812=\"\",\"\",MAX($A$7:A811)+1)","v":""},null,null,null,null,null,null,null,null,null,null,""]
[{"$f":"IF(B813=\"\",\"\",MAX($A$7:A812)+1)","v":""},null,null,null,null,null,null,null,null,null,null,""]
[{"$f":"IF(B814=\"\",\"\",MAX($A$7:A813)+1)","v":""},null,null,null,null,null,null,null,null,null,null,""]
[{"$f":"IF(B815=\"\",\"\",MAX($A$7:A814)+1)","v":""},null,null,null,null,null,null,null,null,null,null,""]
[{"$f":"IF(B816=\"\",\"\",MAX($A$7:A815)+1)","v":""},null,null,null,null,null,null,null,null,null,null,""]
[{"$f":"IF(B817=\"\",\"\",MAX($A$7:A816)+1)","v":""},null,null,null,null,null,null,null,null,null,null,""]
[{"$f":"IF(B818=\"\",\"\",MAX($A$7:A817)+1)","v":""},null,null,null,null,null,null,null,null,null,null,""]
[{"$f":"IF(B819=\"\",\"\",MAX($A$7:A818)+1)","v":""},null,null,null,null,null,null,null,null,null,null,""]
[{"$f":"IF(B820=\"\",\"\",MAX($A$7:A819)+1)","v":""},null,null,null,null,null,null,null,null,null,null,""]
[{"$f":"IF(B821=\"\",\"\",MAX($A$7:A820)+1)","v":""},null,null,null,null,null,null,null,null,null,null,""]
[{"$f":"IF(B822=\"\",\"\",MAX($A$7:A821)+1)","v":""},null,null,null,null,null,null,null,null,null,null,""]
[{"$f":"IF(B823=\"\",\"\",MAX($A$7:A822)+1)","v":""},null,null,null,null,null,null,null,null,null,null,""]
[{"$f":"IF(B824=\"\",\"\",MAX($A$7:A823)+1)","v":""},null,null,null,null,null,null,null,null,null,null,""]
[{"$f":"IF(B825=\"\",\"\",MAX($A$7:A824)+1)","v":""},null,null,null,null,null,null,null,null,null,null,""]
[{"$f":"IF(B826=\"\",\"\",MAX($A$7:A825)+1)","v":""},null,null,null,null,null,null,null,null,null,null,""]
[{"$f":"IF(B827=\"\",\"\",MAX($A$7:A826)+1)","v":""},null,null,null,null,null,null,null,null,null,null,""]
[{"$f":"IF(B828=\"\",\"\",MAX($A$7:A827)+1)","v":""},null,null,null,null,null,null,null,null,null,null,""]
[{"$f":"IF(B829=\"\",\"\",MAX($A$7:A828)+1)","v":""},null,null,null,null,null,null,null,null,null,null,""]
[{"$f":"IF(B830=\"\",\"\",MAX($A$7:A829)+1)","v":""},null,null,null,null,null,null,null,null,null,null,""]
[{"$f":"IF(B831=\"\",\"\",MAX($A$7:A830)+1)","v":""},null,null,null,null,null,null,null,null,null,null,""]
[{"$f":"IF(B832=\"\",\"\",MAX($A$7:A831)+1)","v":""},null,null,null,null,null,null,null,null,null,null,""]
[{"$f":"IF(B833=\"\",\"\",MAX($A$7:A832)+1)","v":""},null,null,null,null,null,null,null,null,null,null,""]
[{"$f":"IF(B834=\"\",\"\",MAX($A$7:A833)+1)","v":""},null,null,null,null,null,null,null,null,null,null,""]
[{"$f":"IF(B835=\"\",\"\",MAX($A$7:A834)+1)","v":""},null,null,null,null,null,null,null,null,null,null,""]
[{"$f":"IF(B836=\"\",\"\",MAX($A$7:A835)+1)","v":""},null,null,null,null,null,null,null,null,null,null,""]
[{"$f":"IF(B837=\"\",\"\",MAX($A$7:A836)+1)","v":""},null,null,null,null,null,null,null,null,null,null,""]
[{"$f":"IF(B838=\"\",\"\",MAX($A$7:A837)+1)","v":""},null,null,null,null,null,null,null,null,null,null,""]
[{"$f":"IF(B839=\"\",\"\",MAX($A$7:A838)+1)","v":""},null,null,null,null,null,null,null,null,null,null,""]
[{"$f":"IF(B840=\"\",\"\",MAX($A$7:A839)+1)","v":""},null,null,null,null,null,null,null,null,null,null,{"$f":"IF(AND(I840=\"\",J840=\"\"),\"\",L839+I840-J840-K840)","v":""}]
[{"$f":"IF(B841=\"\",\"\",MAX($A$7:A840)+1)","v":""},null,null,null,null,null,null,null,null,null,null,""]
[{"$f":"IF(B842=\"\",\"\",MAX($A$7:A841)+1)","v":""},null,null,null,null,null,null,null,null,null,null,""]
[{"$f":"IF(B843=\"\",\"\",MAX($A$7:A842)+1)","v":""},null,null,null,null,null,null,null,null,null,null,""]
[{"$f":"IF(B844=\"\",\"\",MAX($A$7:A843)+1)","v":""},null,null,null,null,null,null,null,null,null,null,""]
[{"$f":"IF(B845=\"\",\"\",MAX($A$7:A844)+1)","v":""},null,null,null,null,null,null,null,null,null,null,""]
[{"$f":"IF(B846=\"\",\"\",MAX($A$7:A845)+1)","v":""},null,null,null,null,null,null,null,null,null,null,""]
[{"$f":"IF(B847=\"\",\"\",MAX($A$7:A846)+1)","v":""},null,null,null,null,null,null,null,null,null,null,""]
[{"$f":"IF(B848=\"\",\"\",MAX($A$7:A847)+1)","v":""},null,null,null,null,null,null,null,null,null,null,""]
[{"$f":"IF(B849=\"\",\"\",MAX($A$7:A848)+1)","v":""},null,null,null,null,null,null,null,null,null,null,""]
[{"$f":"IF(B850=\"\",\"\",MAX($A$7:A849)+1)","v":""},null,null,null,null,null,null,null,null,null,null,""]
[{"$f":"IF(B851=\"\",\"\",MAX($A$7:A850)+1)","v":""},null,null,null,null,null,null,null,null,null,null,""]
[{"$f":"IF(B852=\"\",\"\",MAX($A$7:A851)+1)","v":""},null,null,null,null,null,null,null,null,null,null,""]
[{"$f":"IF(B853=\"\",\"\",MAX($A$7:A852)+1)","v":""},null,null,null,null,null,null,null,null,null,null,""]
[{"$f":"IF(B854=\"\",\"\",MAX($A$7:A853)+1)","v":""},null,null,null,null,null,null,null,null,null,null,""]
[{"$f":"IF(B855=\"\",\"\",MAX($A$7:A854)+1)","v":""},null,null,null,null,null,null,null,null,null,null,""]
[{"$f":"IF(B856=\"\",\"\",MAX($A$7:A855)+1)","v":""},null,null,null,null,null,null,null,null,null,null,""]
[{"$f":"IF(B857=\"\",\"\",MAX($A$7:A856)+1)","v":""},null,null,null,null,null,null,null,null,null,null,""]
[{"$f":"IF(B858=\"\",\"\",MAX($A$7:A857)+1)","v":""},null,null,null,null,null,null,null,null,null,null,""]
[{"$f":"IF(B859=\"\",\"\",MAX($A$7:A858)+1)","v":""},null,null,null,null,null,null,null,null,null,null,""]
[{"$f":"IF(B860=\"\",\"\",MAX($A$7:A859)+1)","v":""},null,null,null,null,null,null,null,null,null,null,""]
[{"$f":"IF(B861=\"\",\"\",MAX($A$7:A860)+1)","v":""},null,null,null,null,null,null,null,null,null,null,""]
[{"$f":"IF(B862=\"\",\"\",MAX($A$7:A861)+1)","v":""},null,null,null,null,null,null,null,null,null,null,""]
[{"$f":"IF(B863=\"\",\"\",MAX($A$7:A862)+1)","v":""},null,null,null,null,null,null,null,null,null,null,""]
[{"$f":"IF(B864=\"\",\"\",MAX($A$7:A863)+1)","v":""},null,null,null,null,null,null,null,null,null,null,""]
[{"$f":"IF(B865=\"\",\"\",MAX($A$7:A864)+1)","v":""},null,null,null,null,null,null,null,null,null,null,""]
[{"$f":"IF(B866=\"\",\"\",MAX($A$7:A865)+1)","v":""},null,null,null,null,null,null,null,null,null,null,""]
[{"$f":"IF(B867=\"\",\"\",MAX($A$7:A866)+1)","v":""},null,null,null,null,null,null,null,null,null,null,""]
[{"$f":"IF(B868=\"\",\"\",MAX($A$7:A867)+1)","v":""},null,null,null,null,null,null,null,null,null,null,""]
[{"$f":"IF(B869=\"\",\"\",MAX($A$7:A868)+1)","v":""},null,null,null,null,null,null,null,null,null,null,""]
[{"$f":"IF(B870=\"\",\"\",MAX($A$7:A869)+1)","v":""},null,null,null,null,null,null,null,null,null,null,""]
[{"$f":"IF(B871=\"\",\"\",MAX($A$7:A870)+1)","v":""},null,null,null,null,null,null,null,null,null,null,""]
[{"$f":"IF(B872=\"\",\"\",MAX($A$7:A871)+1)","v":""},null,null,null,null,null,null,null,null,null,null,""]
[{"$f":"IF(B873=\"\",\"\",MAX($A$7:A872)+1)","v":""},null,null,null,null,null,null,null,null,null,null,""]
[{"$f":"IF(B874=\"\",\"\",MAX($A$7:A873)+1)","v":""},null,null,null,null,null,null,null,null,null,null,""]
[{"$f":"IF(B875=\"\",\"\",MAX($A$7:A874)+1)","v":""},null,null,null,null,null,null,null,null,null,null,""]
[{"$f":"IF(B876=\"\",\"\",MAX($A$7:A875)+1)","v":""},null,null,null,null,null,null,null,null,null,null,""]
[{"$f":"IF(B877=\"\",\"\",MAX($A$7:A876)+1)","v":""},null,null,null,null,null,null,null,null,null,null,""]
[{"$f":"IF(B878=\"\",\"\",MAX($A$7:A877)+1)","v":""},null,null,null,null,null,null,null,null,null,null,""]
[{"$f":"IF(B879=\"\",\"\",MAX($A$7:A878)+1)","v":""},null,null,null,null,null,null,null,null,null,null,""]
[{"$f":"IF(B880=\"\",\"\",MAX($A$7:A879)+1)","v":""},null,null,null,null,null,null,null,null,null,null,""]
[{"$f":"IF(B881=\"\",\"\",MAX($A$7:A880)+1)","v":""},null,null,null,null,null,null,null,null,null,null,""]
[{"$f":"IF(B882=\"\",\"\",MAX($A$7:A881)+1)","v":""},null,null,null,null,null,null,null,null,null,null,""]
[{"$f":"IF(B883=\"\",\"\",MAX($A$7:A882)+1)","v":""},null,null,null,null,null,null,null,null,null,null,""]
[{"$f":"IF(B884=\"\",\"\",MAX($A$7:A883)+1)","v":""},null,null,null,null,null,null,null,null,null,null,""]
[{"$f":"IF(B885=\"\",\"\",MAX($A$7:A884)+1)","v":""},null,null,null,null,null,null,null,null,null,null,""]
[{"$f":"IF(B886=\"\",\"\",MAX($A$7:A885)+1)","v":""},null,null,null,null,null,null,null,null,null,null,""]
[{"$f":"IF(B887=\"\",\"\",MAX($A$7:A886)+1)","v":""},null,null,null,null,null,null,null,null,null,null,""]
[{"$f":"IF(B888=\"\",\"\",MAX($A$7:A887)+1)","v":""},null,null,null,null,null,null,null,null,null,null,""]
[{"$f":"IF(B889=\"\",\"\",MAX($A$7:A888)+1)","v":""},null,null,null,null,null,null,null,null,null,null,""]
[{"$f":"IF(B890=\"\",\"\",MAX($A$7:A889)+1)","v":""},null,null,null,null,null,null,null,null,null,null,""]
[{"$f":"IF(B891=\"\",\"\",MAX($A$7:A890)+1)","v":""},null,null,null,null,null,null,null,null,null,null,""]
[{"$f":"IF(B892=\"\",\"\",MAX($A$7:A891)+1)","v":""},null,null,null,null,null,null,null,null,null,null,""]
[{"$f":"IF(B893=\"\",\"\",MAX($A$7:A892)+1)","v":""},null,null,null,null,null,null,null,null,null,null,""]
[{"$f":"IF(B894=\"\",\"\",MAX($A$7:A893)+1)","v":""},null,null,null,null,null,null,null,null,null,null,""]
[{"$f":"IF(B895=\"\",\"\",MAX($A$7:A894)+1)","v":""},null,null,null,null,null,null,null,null,null,null,""]
[{"$f":"IF(B896=\"\",\"\",MAX($A$7:A895)+1)","v":""},null,null,null,null,null,null,null,null,null,null,""]
[{"$f":"IF(B897=\"\",\"\",MAX($A$7:A896)+1)","v":""},null,null,null,null,null,null,null,null,null,null,""]
[{"$f":"IF(B898=\"\",\"\",MAX($A$7:A897)+1)","v":""},null,null,null,null,null,null,null,null,null,null,""]
[{"$f":"IF(B899=\"\",\"\",MAX($A$7:A898)+1)","v":""},null,null,null,null,null,null,null,null,null,null,""]
[{"$f":"IF(B900=\"\",\"\",MAX($A$7:A899)+1)","v":""},null,null,null,null,null,null,null,null,null,null,""]
[{"$f":"IF(B901=\"\",\"\",MAX($A$7:A900)+1)","v":""},null,null,null,null,null,null,null,null,null,null,""]
[{"$f":"IF(B902=\"\",\"\",MAX($A$7:A901)+1)","v":""},null,null,null,null,null,null,null,null,null,null,""]
[{"$f":"IF(B903=\"\",\"\",MAX($A$7:A902)+1)","v":""},null,null,null,null,null,null,null,null,null,null,""]
[{"$f":"IF(B904=\"\",\"\",MAX($A$7:A903)+1)","v":""},null,null,null,null,null,null,null,null,null,null,{"$f":"IF(AND(I904=\"\",J904=\"\"),\"\",L903+I904-J904-K904)","v":""}]
[{"$f":"IF(B905=\"\",\"\",MAX($A$7:A904)+1)","v":""},null,null,null,null,null,null,null,null,null,null,""]
[{"$f":"IF(B906=\"\",\"\",MAX($A$7:A905)+1)","v":""},null,null,null,null,null,null,null,null,null,null,""]
[{"$f":"IF(B907=\"\",\"\",MAX($A$7:A906)+1)","v":""},null,null,null,null,null,null,null,null,null,null,""]
[{"$f":"IF(B908=\"\",\"\",MAX($A$7:A907)+1)","v":""},null,null,null,null,null,null,null,null,null,null,""]
[{"$f":"IF(B909=\"\",\"\",MAX($A$7:A908)+1)","v":""},null,null,null,null,null,null,null,null,null,null,""]
[{"$f":"IF(B910=\"\",\"\",MAX($A$7:A909)+1)","v":""},null,null,null,null,null,null,null,null,null,null,""]
[{"$f":"IF(B911=\"\",\"\",MAX($A$7:A910)+1)","v":""},null,null,null,null,null,null,null,null,null,null,""]
[{"$f":"IF(B912=\"\",\"\",MAX($A$7:A911)+1)","v":""},null,null,null,null,null,null,null,null,null,null,""]
[{"$f":"IF(B913=\"\",\"\",MAX($A$7:A912)+1)","v":""},null,null,null,null,null,null,null,null,null,null,""]
[{"$f":"IF(B914=\"\",\"\",MAX($A$7:A913)+1)","v":""},null,null,null,null,null,null,null,null,null,null,""]
[{"$f":"IF(B915=\"\",\"\",MAX($A$7:A914)+1)","v":""},null,null,null,null,null,null,null,null,null,null,""]
[{"$f":"IF(B916=\"\",\"\",MAX($A$7:A915)+1)","v":""},null,null,null,null,null,null,null,null,null,null,""]
[{"$f":"IF(B917=\"\",\"\",MAX($A$7:A916)+1)","v":""},null,null,null,null,null,null,null,null,null,null,""]
[{"$f":"IF(B918=\"\",\"\",MAX($A$7:A917)+1)","v":""},null,null,null,null,null,null,null,null,null,null,""]
[{"$f":"IF(B919=\"\",\"\",MAX($A$7:A918)+1)","v":""},null,null,null,null,null,null,null,null,null,null,""]
[{"$f":"IF(B920=\"\",\"\",MAX($A$7:A919)+1)","v":""},null,null,null,null,null,null,null,null,null,null,""]
[{"$f":"IF(B921=\"\",\"\",MAX($A$7:A920)+1)","v":""},null,null,null,null,null,null,null,null,null,null,""]
[{"$f":"IF(B922=\"\",\"\",MAX($A$7:A921)+1)","v":""},null,null,null,null,null,null,null,null,null,null,""]
[{"$f":"IF(B923=\"\",\"\",MAX($A$7:A922)+1)","v":""},null,null,null,null,null,null,null,null,null,null,""]
[{"$f":"IF(B924=\"\",\"\",MAX($A$7:A923)+1)","v":""},null,null,null,null,null,null,null,null,null,null,""]
[{"$f":"IF(B925=\"\",\"\",MAX($A$7:A924)+1)","v":""},null,null,null,null,null,null,null,null,null,null,""]
[{"$f":"IF(B926=\"\",\"\",MAX($A$7:A925)+1)","v":""},null,null,null,null,null,null,null,null,null,null,""]
[{"$f":"IF(B927=\"\",\"\",MAX($A$7:A926)+1)","v":""},null,null,null,null,null,null,null,null,null,null,""]
[{"$f":"IF(B928=\"\",\"\",MAX($A$7:A927)+1)","v":""},null,null,null,null,null,null,null,null,null,null,""]
[{"$f":"IF(B929=\"\",\"\",MAX($A$7:A928)+1)","v":""},null,null,null,null,null,null,null,null,null,null,""]
[{"$f":"IF(B930=\"\",\"\",MAX($A$7:A929)+1)","v":""},null,null,null,null,null,null,null,null,null,null,""]
[{"$f":"IF(B931=\"\",\"\",MAX($A$7:A930)+1)","v":""},null,null,null,null,null,null,null,null,null,null,""]
[{"$f":"IF(B932=\"\",\"\",MAX($A$7:A931)+1)","v":""},null,null,null,null,null,null,null,null,null,null,""]
[{"$f":"IF(B933=\"\",\"\",MAX($A$7:A932)+1)","v":""},null,null,null,null,null,null,null,null,null,null,""]
[{"$f":"IF(B934=\"\",\"\",MAX($A$7:A933)+1)","v":""},null,null,null,null,null,null,null,null,null,null,""]
[{"$f":"IF(B935=\"\",\"\",MAX($A$7:A934)+1)","v":""},null,null,null,null,null,null,null,null,null,null,""]
[{"$f":"IF(B936=\"\",\"\",MAX($A$7:A935)+1)","v":""},null,null,null,null,null,null,null,null,null,null,""]
[{"$f":"IF(B937=\"\",\"\",MAX($A$7:A936)+1)","v":""},null,null,null,null,null,null,null,null,null,null,""]
[{"$f":"IF(B938=\"\",\"\",MAX($A$7:A937)+1)","v":""},null,null,null,null,null,null,null,null,null,null,""]
[{"$f":"IF(B939=\"\",\"\",MAX($A$7:A938)+1)","v":""},null,null,null,null,null,null,null,null,null,null,""]
[{"$f":"IF(B940=\"\",\"\",MAX($A$7:A939)+1)","v":""},null,null,null,null,null,null,null,null,null,null,""]
[{"$f":"IF(B941=\"\",\"\",MAX($A$7:A940)+1)","v":""},null,null,null,null,null,null,null,null,null,null,""]
[{"$f":"IF(B942=\"\",\"\",MAX($A$7:A941)+1)","v":""},null,null,null,null,null,null,null,null,null,null,""]
[{"$f":"IF(B943=\"\",\"\",MAX($A$7:A942)+1)","v":""},null,null,null,null,null,null,null,null,null,null,""]
[{"$f":"IF(B944=\"\",\"\",MAX($A$7:A943)+1)","v":""},null,null,null,null,null,null,null,null,null,null,""]
[{"$f":"IF(B945=\"\",\"\",MAX($A$7:A944)+1)","v":""},null,null,null,null,null,null,null,null,null,null,""]
[{"$f":"IF(B946=\"\",\"\",MAX($A$7:A945)+1)","v":""},null,null,null,null,null,null,null,null,null,null,""]
[{"$f":"IF(B947=\"\",\"\",MAX($A$7:A946)+1)","v":""},null,null,null,null,null,null,null,null,null,null,""]
[{"$f":"IF(B948=\"\",\"\",MAX($A$7:A947)+1)","v":""},null,null,null,null,null,null,null,null,null,null,""]
[{"$f":"IF(B949=\"\",\"\",MAX($A$7:A948)+1)","v":""},null,null,null,null,null,null,null,null,null,null,""]
[{"$f":"IF(B950=\"\",\"\",MAX($A$7:A949)+1)","v":""},null,null,null,null,null,null,null,null,null,null,""]
[{"$f":"IF(B951=\"\",\"\",MAX($A$7:A950)+1)","v":""},null,null,null,null,null,null,null,null,null,null,""]
[{"$f":"IF(B952=\"\",\"\",MAX($A$7:A951)+1)","v":""},null,null,null,null,null,null,null,null,null,null,""]
[{"$f":"IF(B953=\"\",\"\",MAX($A$7:A952)+1)","v":""},null,null,null,null,null,null,null,null,null,null,""]
[{"$f":"IF(B954=\"\",\"\",MAX($A$7:A953)+1)","v":""},null,null,null,null,null,null,null,null,null,null,""]
[{"$f":"IF(B955=\"\",\"\",MAX($A$7:A954)+1)","v":""},null,null,null,null,null,null,null,null,null,null,""]
[{"$f":"IF(B956=\"\",\"\",MAX($A$7:A955)+1)","v":""},null,null,null,null,null,null,null,null,null,null,""]
[{"$f":"IF(B957=\"\",\"\",MAX($A$7:A956)+1)","v":""},null,null,null,null,null,null,null,null,null,null,""]
[{"$f":"IF(B958=\"\",\"\",MAX($A$7:A957)+1)","v":""},null,null,null,null,null,null,null,null,null,null,""]
[{"$f":"IF(B959=\"\",\"\",MAX($A$7:A958)+1)","v":""},null,null,null,null,null,null,null,null,null,null,""]
[{"$f":"IF(B960=\"\",\"\",MAX($A$7:A959)+1)","v":""},null,null,null,null,null,null,null,null,null,null,""]
[{"$f":"IF(B961=\"\",\"\",MAX($A$7:A960)+1)","v":""},null,null,null,null,null,null,null,null,null,null,""]
[{"$f":"IF(B962=\"\",\"\",MAX($A$7:A961)+1)","v":""},null,null,null,null,null,null,null,null,null,null,""]
[{"$f":"IF(B963=\"\",\"\",MAX($A$7:A962)+1)","v":""},null,null,null,null,null,null,null,null,null,null,""]
[{"$f":"IF(B964=\"\",\"\",MAX($A$7:A963)+1)","v":""},null,null,null,null,null,null,null,null,null,null,""]
[{"$f":"IF(B965=\"\",\"\",MAX($A$7:A964)+1)","v":""},null,null,null,null,null,null,null,null,null,null,""]
[{"$f":"IF(B966=\"\",\"\",MAX($A$7:A965)+1)","v":""},null,null,null,null,null,null,null,null,null,null,""]
[{"$f":"IF(B967=\"\",\"\",MAX($A$7:A966)+1)","v":""},null,null,null,null,null,null,null,null,null,null,""]
[{"$f":"IF(B968=\"\",\"\",MAX($A$7:A967)+1)","v":""},null,null,null,null,null,null,null,null,null,null,{"$f":"IF(AND(I968=\"\",J968=\"\"),\"\",L967+I968-J968-K968)","v":""}]
[{"$f":"IF(B969=\"\",\"\",MAX($A$7:A968)+1)","v":""},null,null,null,null,null,null,null,null,null,null,""]
[{"$f":"IF(B970=\"\",\"\",MAX($A$7:A969)+1)","v":""},null,null,null,null,null,null,null,null,null,null,""]
[{"$f":"IF(B971=\"\",\"\",MAX($A$7:A970)+1)","v":""},null,null,null,null,null,null,null,null,null,null,""]
[{"$f":"IF(B972=\"\",\"\",MAX($A$7:A971)+1)","v":""},null,null,null,null,null,null,null,null,null,null,""]
[{"$f":"IF(B973=\"\",\"\",MAX($A$7:A972)+1)","v":""},null,null,null,null,null,null,null,null,null,null,""]
[{"$f":"IF(B974=\"\",\"\",MAX($A$7:A973)+1)","v":""},null,null,null,null,null,null,null,null,null,null,""]
[{"$f":"IF(B975=\"\",\"\",MAX($A$7:A974)+1)","v":""},null,null,null,null,null,null,null,null,null,null,""]
[{"$f":"IF(B976=\"\",\"\",MAX($A$7:A975)+1)","v":""},null,null,null,null,null,null,null,null,null,null,""]
[{"$f":"IF(B977=\"\",\"\",MAX($A$7:A976)+1)","v":""},null,null,null,null,null,null,null,null,null,null,""]
[{"$f":"IF(B978=\"\",\"\",MAX($A$7:A977)+1)","v":""},null,null,null,null,null,null,null,null,null,null,""]
[{"$f":"IF(B979=\"\",\"\",MAX($A$7:A978)+1)","v":""},null,null,null,null,null,null,null,null,null,null,""]
[{"$f":"IF(B980=\"\",\"\",MAX($A$7:A979)+1)","v":""},null,null,null,null,null,null,null,null,null,null,""]
[{"$f":"IF(B981=\"\",\"\",MAX($A$7:A980)+1)","v":""},null,null,null,null,null,null,null,null,null,null,""]
[{"$f":"IF(B982=\"\",\"\",MAX($A$7:A981)+1)","v":""},null,null,null,null,null,null,null,null,null,null,""]
[{"$f":"IF(B983=\"\",\"\",MAX($A$7:A982)+1)","v":""},null,null,null,null,null,null,null,null,null,null,""]
[{"$f":"IF(B984=\"\",\"\",MAX($A$7:A983)+1)","v":""},null,null,null,null,null,null,null,null,null,null,""]
[{"$f":"IF(B985=\"\",\"\",MAX($A$7:A984)+1)","v":""},null,null,null,null,null,null,null,null,null,null,""]
[{"$f":"IF(B986=\"\",\"\",MAX($A$7:A985)+1)","v":""},null,null,null,null,null,null,null,null,null,null,""]
[{"$f":"IF(B987=\"\",\"\",MAX($A$7:A986)+1)","v":""},null,null,null,null,null,null,null,null,null,null,""]
[{"$f":"IF(B988=\"\",\"\",MAX($A$7:A987)+1)","v":""},null,null,null,null,null,null,null,null,null,null,""]
[{"$f":"IF(B989=\"\",\"\",MAX($A$7:A988)+1)","v":""},null,null,null,null,null,null,null,null,null,null,""]
[{"$f":"IF(B990=\"\",\"\",MAX($A$7:A989)+1)","v":""},null,null,null,null,null,null,null,null,null,null,""]
[{"$f":"IF(B991=\"\",\"\",MAX($A$7:A990)+1)","v":""},null,null,null,null,null,null,null,null,null,null,""]
[{"$f":"IF(B992=\"\",\"\",MAX($A$7:A991)+1)","v":""},null,null,null,null,null,null,null,null,null,null,""]
[{"$f":"IF(B993=\"\",\"\",MAX($A$7:A992)+1)","v":""},null,null,null,null,null,null,null,null,null,null,""]
[{"$f":"IF(B994=\"\",\"\",MAX($A$7:A993)+1)","v":""},null,null,null,null,null,null,null,null,null,null,""]
[{"$f":"IF(B995=\"\",\"\",MAX($A$7:A994)+1)","v":""},null,null,null,null,null,null,null,null,null,null,""]
[{"$f":"IF(B996=\"\",\"\",MAX($A$7:A995)+1)","v":""},null,null,null,null,null,null,null,null,null,null,""]
[{"$f":"IF(B997=\"\",\"\",MAX($A$7:A996)+1)","v":""},null,null,null,null,null,null,null,null,null,null,""]
[{"$f":"IF(B998=\"\",\"\",MAX($A$7:A997)+1)","v":""},null,null,null,null,null,null,null,null,null,null,""]
[{"$f":"IF(B999=\"\",\"\",MAX($A$7:A998)+1)","v":""},null,null,null,null,null,null,null,null,null,null,""]
[{"$f":"IF(B1000=\"\",\"\",MAX($A$7:A999)+1)","v":""},null,null,null,null,null,null,null,null,null,null,""]
[{"$f":"IF(B1001=\"\",\"\",MAX($A$7:A1000)+1)","v":""},null,null,null,null,null,null,null,null,null,null,""]
[{"$f":"IF(B1002=\"\",\"\",MAX($A$7:A1001)+1)","v":""},null,null,null,null,null,null,null,null,null,null,""]
[{"$f":"IF(B1003=\"\",\"\",MAX($A$7:A1002)+1)","v":""},null,null,null,null,null,null,null,null,null,null,""]
[{"$f":"IF(B1004=\"\",\"\",MAX($A$7:A1003)+1)","v":""},null,null,null,null,null,null,null,null,null,null,""]
[{"$f":"IF(B1005=\"\",\"\",MAX($A$7:A1004)+1)","v":""},null,null,null,null,null,null,null,null,null,null,""]
[{"$f":"IF(B1006=\"\",\"\",MAX($A$7:A1005)+1)","v":""},null,null,null,null,null,null,null,null,null,null,""]
[{"$f":"IF(B1007=\"\",\"\",MAX($A$7:A1006)+1)","v":""},null,null,null,null,null,null,null,null,null,null,""]
[{"$f":"IF(B1008=\"\",\"\",MAX($A$7:A1007)+1)","v":""},null,null,null,null,null,null,null,{"$f":"SUM(I8:I1007)","v":3015},{"$f":"SUM(J8:J1007)","v":{"$error":"#NUM!"}},{"$f":"SUM(K8:K1007)","v":{"$error":"#NUM!"}}]
[{"$f":"IF(B1009=\"\",\"\",MAX($A$7:A1008)+1)","v":""}]

{"sheet":"2","index":2,"n_rows":1008,"n_cols":12,"rows_kept":1008,"cut":false,"hidden":false,"merged":[[1,1,1,3],[1,7,4,7],[2,1,2,3],[3,1,3,3],[4,1,4,3],[6,8,6,10]]}
[]
[null,null,null,null,null,null,null,"قيودحساب صنف"]
[]
[]
[]
[]
["م","رقم السند قبض صرف فاتورة",2,"نوع","التاريخ","اســـــــم العميـــــــل اســـــــم الشركــــــة","الوصف","تفاصيل السند / بيان الحركة","الحركـــــة",null,null,"الرصيد العام لحركات النقدية بالصندوق"]
[{"$f":"IF(B8=\"\",\"\",MAX($A$7:A7)+1)","v":1},{"$f":"IF(ROWS($A$1:A1)>COUNTIF(Main!$C$8:$C$100,$C$7),\"\",INDEX(Main!B$8:B$100,SMALL(IF(Main!B$8:B$100<>\"\",IF(Main!$C$8:$C$100=$C$7,ROW(B$8:B$100)-ROW(B$8)+1)),ROWS($A$1:A1))))","v":300},{"$f":"IF(ROWS($A$1:B1)>COUNTIF(Main!$C$8:$C$100,$C$7),\"\",INDEX(Main!C$8:C$100,SMALL(IF(Main!C$8:C$100<>\"\",IF(Main!$C$8:$C$100=$C$7,ROW(C$8:C$100)-ROW(C$8)+1)),ROWS($A$1:B1))))","v":2},{"$f":"IF(ROWS($A$1:C1)>COUNTIF(Main!$C$8:$C$100,$C$7),\"\",INDEX(Main!D$8:D$100,SMALL(IF(Main!D$8:D$100<>\"\",IF(Main!$C$8:$C$100=$C$7,ROW(D$8:D$100)-ROW(D$8)+1)),ROWS($A$1:C1))))","v":"صؤف"},{"$f":"IF(ROWS($A$1:D1)>COUNTIF(Main!$C$8:$C$100,$C$7),\"\",INDEX(Main!E$8:E$100,SMALL(IF(Main!E$8:E$100<>\"\",IF(Main!$C$8:$C$100=$C$7,ROW(E$8:E$100)-ROW(E$8)+1)),ROWS($A$1:D1))))","v":"2020-10-15"},{"$f":"IF(ROWS($A$1:E1)>COUNTIF(Main!$C$8:$C$100,$C$7),\"\",INDEX(Main!F$8:F$100,SMALL(IF(Main!F$8:F$100<>\"\",IF(Main!$C$8:$C$100=$C$7,ROW(F$8:F$100)-ROW(F$8)+1)),ROWS($A$1:E1))))","v":"خالد علي"},{"$f":"IF(ROWS($A$1:F1)>COUNTIF(Main!$C$8:$C$100,$C$7),\"\",INDEX(Main!G$8:G$100,SMALL(IF(Main!G$8:G$100<>\"\",IF(Main!$C$8:$C$100=$C$7,ROW(G$8:G$100)-ROW(G$8)+1)),ROWS($A$1:F1))))","v":"مخزن"},{"$f":"IF(ROWS($A$1:G1)>COUNTIF(Main!$C$8:$C$100,$C$7),\"\",INDEX(Main!H$8:H$100,SMALL(IF(Main!H$8:H$100<>\"\",IF(Main!$C$8:$C$100=$C$7,ROW(H$8:H$100)-ROW(H$8)+1)),ROWS($A$1:G1))))","v":"دفعات"},{"$f":"IF(ROWS($A$1:H1)>COUNTIF(Main!$C$8:$C$100,$C$7),\"\",INDEX(Main!I$8:I$100,SMALL(IF(Main!I$8:I$100<>\"\",IF(Main!$C$8:$C$100=$C$7,ROW(I$8:I$100)-ROW(I$8)+1)),ROWS($A$1:H1))))","v":0},{"$f":"IF(ROWS($A$1:I1)>COUNTIF(Main!$C$8:$C$100,$C$7),\"\",INDEX(Main!J$8:J$100,SMALL(IF(Main!J$8:J$100<>\"\",IF(Main!$C$8:$C$100=$C$7,ROW(J$8:J$100)-ROW(J$8)+1)),ROWS($A$1:I1))))","v":300},300,{"$f":"IF(ROWS($A$1:K1)>COUNTIF(Main!$C$8:$C$100,$C$7),\"\",INDEX(Main!L$8:L$100,SMALL(IF(Main!L$8:L$100<>\"\",IF(Main!$C$8:$C$100=$C$7,ROW(L$8:L$100)-ROW(L$8)+1)),ROWS($A$1:K1))))","v":-300}]
[{"$f":"IF(B9=\"\",\"\",MAX($A$7:A8)+1)","v":2},{"$f":"IF(ROWS($A$1:A2)>COUNTIF(Main!$C$8:$C$100,$C$7),\"\",INDEX(Main!B$8:B$100,SMALL(IF(Main!B$8:B$100<>\"\",IF(Main!$C$8:$C$100=$C$7,ROW(B$8:B$100)-ROW(B$8)+1)),ROWS($A$1:A2))))","v":300},{"$f":"IF(ROWS($A$1:B2)>COUNTIF(Main!$C$8:$C$100,$C$7),\"\",INDEX(Main!C$8:C$100,SMALL(IF(Main!C$8:C$100<>\"\",IF(Main!$C$8:$C$100=$C$7,ROW(C$8:C$100)-ROW(C$8)+1)),ROWS($A$1:B2))))","v":2},{"$f":"IF(ROWS($A$1:C2)>COUNTIF(Main!$C$8:$C$100,$C$7),\"\",INDEX(Main!D$8:D$100,SMALL(IF(Main!D$8:D$100<>\"\",IF(Main!$C$8:$C$100=$C$7,ROW(D$8:D$100)-ROW(D$8)+1)),ROWS($A$1:C2))))","v":"صؤف"},{"$f":"IF(ROWS($A$1:D2)>COUNTIF(Main!$C$8:$C$100,$C$7),\"\",INDEX(Main!E$8:E$100,SMALL(IF(Main!E$8:E$100<>\"\",IF(Main!$C$8:$C$100=$C$7,ROW(E$8:E$100)-ROW(E$8)+1)),ROWS($A$1:D2))))","v":"2020-10-16"},{"$f":"IF(ROWS($A$1:E2)>COUNTIF(Main!$C$8:$C$100,$C$7),\"\",INDEX(Main!F$8:F$100,SMALL(IF(Main!F$8:F$100<>\"\",IF(Main!$C$8:$C$100=$C$7,ROW(F$8:F$100)-ROW(F$8)+1)),ROWS($A$1:E2))))","v":"خالد علي"},{"$f":"IF(ROWS($A$1:F2)>COUNTIF(Main!$C$8:$C$100,$C$7),\"\",INDEX(Main!G$8:G$100,SMALL(IF(Main!G$8:G$100<>\"\",IF(Main!$C$8:$C$100=$C$7,ROW(G$8:G$100)-ROW(G$8)+1)),ROWS($A$1:F2))))","v":"مخزن"},{"$f":"IF(ROWS($A$1:G2)>COUNTIF(Main!$C$8:$C$100,$C$7),\"\",INDEX(Main!H$8:H$100,SMALL(IF(Main!H$8:H$100<>\"\",IF(Main!$C$8:$C$100=$C$7,ROW(H$8:H$100)-ROW(H$8)+1)),ROWS($A$1:G2))))","v":"دفعات"},{"$f":"IF(ROWS($A$1:H2)>COUNTIF(Main!$C$8:$C$100,$C$7),\"\",INDEX(Main!I$8:I$100,SMALL(IF(Main!I$8:I$100<>\"\",IF(Main!$C$8:$C$100=$C$7,ROW(I$8:I$100)-ROW(I$8)+1)),ROWS($A$1:H2))))","v":0},{"$f":"IF(ROWS($A$1:I2)>COUNTIF(Main!$C$8:$C$100,$C$7),\"\",INDEX(Main!J$8:J$100,SMALL(IF(Main!J$8:J$100<>\"\",IF(Main!$C$8:$C$100=$C$7,ROW(J$8:J$100)-ROW(J$8)+1)),ROWS($A$1:I2))))","v":300},300,{"$f":"IF(ROWS($A$1:K2)>COUNTIF(Main!$C$8:$C$100,$C$7),\"\",INDEX(Main!L$8:L$100,SMALL(IF(Main!L$8:L$100<>\"\",IF(Main!$C$8:$C$100=$C$7,ROW(L$8:L$100)-ROW(L$8)+1)),ROWS($A$1:K2))))","v":-300}]
[{"$f":"IF(B10=\"\",\"\",MAX($A$7:A9)+1)","v":3},{"$f":"IF(ROWS($A$1:A3)>COUNTIF(Main!$C$8:$C$100,$C$7),\"\",INDEX(Main!B$8:B$100,SMALL(IF(Main!B$8:B$100<>\"\",IF(Main!$C$8:$C$100=$C$7,ROW(B$8:B$100)-ROW(B$8)+1)),ROWS($A$1:A3))))","v":300},{"$f":"IF(ROWS($A$1:B3)>COUNTIF(Main!$C$8:$C$100,$C$7),\"\",INDEX(Main!C$8:C$100,SMALL(IF(Main!C$8:C$100<>\"\",IF(Main!$C$8:$C$100=$C$7,ROW(C$8:C$100)-ROW(C$8)+1)),ROWS($A$1:B3))))","v":2},{"$f":"IF(ROWS($A$1:C3)>COUNTIF(Main!$C$8:$C$100,$C$7),\"\",INDEX(Main!D$8:D$100,SMALL(IF(Main!D$8:D$100<>\"\",IF(Main!$C$8:$C$100=$C$7,ROW(D$8:D$100)-ROW(D$8)+1)),ROWS($A$1:C3))))","v":"صؤف"},{"$f":"IF(ROWS($A$1:D3)>COUNTIF(Main!$C$8:$C$100,$C$7),\"\",INDEX(Main!E$8:E$100,SMALL(IF(Main!E$8:E$100<>\"\",IF(Main!$C$8:$C$100=$C$7,ROW(E$8:E$100)-ROW(E$8)+1)),ROWS($A$1:D3))))","v":"2020-10-17"},{"$f":"IF(ROWS($A$1:E3)>COUNTIF(Main!$C$8:$C$100,$C$7),\"\",INDEX(Main!F$8:F$100,SMALL(IF(Main!F$8:F$100<>\"\",IF(Main!$C$8:$C$100=$C$7,ROW(F$8:F$100)-ROW(F$8)+1)),ROWS($A$1:E3))))","v":"Salim"},{"$f":"IF(ROWS($A$1:F3)>COUNTIF(Main!$C$8:$C$100,$C$7),\"\",INDEX(Main!G$8:G$100,SMALL(IF(Main!G$8:G$100<>\"\",IF(Main!$C$8:$C$100=$C$7,ROW(G$8:G$100)-ROW(G$8)+1)),ROWS($A$1:F3))))","v":"مخزن"},{"$f":"IF(ROWS($A$1:G3)>COUNTIF(Main!$C$8:$C$100,$C$7),\"\",INDEX(Main!H$8:H$100,SMALL(IF(Main!H$8:H$100<>\"\",IF(Main!$C$8:$C$100=$C$7,ROW(H$8:H$100)-ROW(H$8)+1)),ROWS($A$1:G3))))","v":"دفعات"},{"$f":"IF(ROWS($A$1:H3)>COUNTIF(Main!$C$8:$C$100,$C$7),\"\",INDEX(Main!I$8:I$100,SMALL(IF(Main!I$8:I$100<>\"\",IF(Main!$C$8:$C$100=$C$7,ROW(I$8:I$100)-ROW(I$8)+1)),ROWS($A$1:H3))))","v":0},{"$f":"IF(ROWS($A$1:I3)>COUNTIF(Main!$C$8:$C$100,$C$7),\"\",INDEX(Main!J$8:J$100,SMALL(IF(Main!J$8:J$100<>\"\",IF(Main!$C$8:$C$100=$C$7,ROW(J$8:J$100)-ROW(J$8)+1)),ROWS($A$1:I3))))","v":300},300,{"$f":"IF(ROWS($A$1:K3)>COUNTIF(Main!$C$8:$C$100,$C$7),\"\",INDEX(Main!L$8:L$100,SMALL(IF(Main!L$8:L$100<>\"\",IF(Main!$C$8:$C$100=$C$7,ROW(L$8:L$100)-ROW(L$8)+1)),ROWS($A$1:K3))))","v":-300}]
[{"$f":"IF(B11=\"\",\"\",MAX($A$7:A10)+1)","v":4},{"$f":"IF(ROWS($A$1:A4)>COUNTIF(Main!$C$8:$C$100,$C$7),\"\",INDEX(Main!B$8:B$100,SMALL(IF(Main!B$8:B$100<>\"\",IF(Main!$C$8:$C$100=$C$7,ROW(B$8:B$100)-ROW(B$8)+1)),ROWS($A$1:A4))))","v":300},{"$f":"IF(ROWS($A$1:B4)>COUNTIF(Main!$C$8:$C$100,$C$7),\"\",INDEX(Main!C$8:C$100,SMALL(IF(Main!C$8:C$100<>\"\",IF(Main!$C$8:$C$100=$C$7,ROW(C$8:C$100)-ROW(C$8)+1)),ROWS($A$1:B4))))","v":2},{"$f":"IF(ROWS($A$1:C4)>COUNTIF(Main!$C$8:$C$100,$C$7),\"\",INDEX(Main!D$8:D$100,SMALL(IF(Main!D$8:D$100<>\"\",IF(Main!$C$8:$C$100=$C$7,ROW(D$8:D$100)-ROW(D$8)+1)),ROWS($A$1:C4))))","v":"صؤف"},{"$f":"IF(ROWS($A$1:D4)>COUNTIF(Main!$C$8:$C$100,$C$7),\"\",INDEX(Main!E$8:E$100,SMALL(IF(Main!E$8:E$100<>\"\",IF(Main!$C$8:$C$100=$C$7,ROW(E$8:E$100)-ROW(E$8)+1)),ROWS($A$1:D4))))","v":"2020-10-18"},{"$f":"IF(ROWS($A$1:E4)>COUNTIF(Main!$C$8:$C$100,$C$7),\"\",INDEX(Main!F$8:F$100,SMALL(IF(Main!F$8:F$100<>\"\",IF(Main!$C$8:$C$100=$C$7,ROW(F$8:F$100)-ROW(F$8)+1)),ROWS($A$1:E4))))","v":"خالد علي"},{"$f":"IF(ROWS($A$1:F4)>COUNTIF(Main!$C$8:$C$100,$C$7),\"\",INDEX(Main!G$8:G$100,SMALL(IF(Main!G$8:G$100<>\"\",IF(Main!$C$8:$C$100=$C$7,ROW(G$8:G$100)-ROW(G$8)+1)),ROWS($A$1:F4))))","v":"مخزن"},{"$f":"IF(ROWS($A$1:G4)>COUNTIF(Main!$C$8:$C$100,$C$7),\"\",INDEX(Main!H$8:H$100,SMALL(IF(Main!H$8:H$100<>\"\",IF(Main!$C$8:$C$100=$C$7,ROW(H$8:H$100)-ROW(H$8)+1)),ROWS($A$1:G4))))","v":"دفعات"},{"$f":"IF(ROWS($A$1:H4)>COUNTIF(Main!$C$8:$C$100,$C$7),\"\",INDEX(Main!I$8:I$100,SMALL(IF(Main!I$8:I$100<>\"\",IF(Main!$C$8:$C$100=$C$7,ROW(I$8:I$100)-ROW(I$8)+1)),ROWS($A$1:H4))))","v":0},{"$f":"IF(ROWS($A$1:I4)>COUNTIF(Main!$C$8:$C$100,$C$7),\"\",INDEX(Main!J$8:J$100,SMALL(IF(Main!J$8:J$100<>\"\",IF(Main!$C$8:$C$100=$C$7,ROW(J$8:J$100)-ROW(J$8)+1)),ROWS($A$1:I4))))","v":300},300,{"$f":"IF(ROWS($A$1:K4)>COUNTIF(Main!$C$8:$C$100,$C$7),\"\",INDEX(Main!L$8:L$100,SMALL(IF(Main!L$8:L$100<>\"\",IF(Main!$C$8:$C$100=$C$7,ROW(L$8:L$100)-ROW(L$8)+1)),ROWS($A$1:K4))))","v":-300}]
[{"$f":"IF(B12=\"\",\"\",MAX($A$7:A11)+1)","v":5},{"$f":"IF(ROWS($A$1:A5)>COUNTIF(Main!$C$8:$C$100,$C$7),\"\",INDEX(Main!B$8:B$100,SMALL(IF(Main!B$8:B$100<>\"\",IF(Main!$C$8:$C$100=$C$7,ROW(B$8:B$100)-ROW(B$8)+1)),ROWS($A$1:A5))))","v":300},{"$f":"IF(ROWS($A$1:B5)>COUNTIF(Main!$C$8:$C$100,$C$7),\"\",INDEX(Main!C$8:C$100,SMALL(IF(Main!C$8:C$100<>\"\",IF(Main!$C$8:$C$100=$C$7,ROW(C$8:C$100)-ROW(C$8)+1)),ROWS($A$1:B5))))","v":2},{"$f":"IF(ROWS($A$1:C5)>COUNTIF(Main!$C$8:$C$100,$C$7),\"\",INDEX(Main!D$8:D$100,SMALL(IF(Main!D$8:D$100<>\"\",IF(Main!$C$8:$C$100=$C$7,ROW(D$8:D$100)-ROW(D$8)+1)),ROWS($A$1:C5))))","v":"صؤف"},{"$f":"IF(ROWS($A$1:D5)>COUNTIF(Main!$C$8:$C$100,$C$7),\"\",INDEX(Main!E$8:E$100,SMALL(IF(Main!E$8:E$100<>\"\",IF(Main!$C$8:$C$100=$C$7,ROW(E$8:E$100)-ROW(E$8)+1)),ROWS($A$1:D5))))","v":"2020-10-19"},{"$f":"IF(ROWS($A$1:E5)>COUNTIF(Main!$C$8:$C$100,$C$7),\"\",INDEX(Main!F$8:F$100,SMALL(IF(Main!F$8:F$100<>\"\",IF(Main!$C$8:$C$100=$C$7,ROW(F$8:F$100)-ROW(F$8)+1)),ROWS($A$1:E5))))","v":"خالد علي"},{"$f":"IF(ROWS($A$1:F5)>COUNTIF(Main!$C$8:$C$100,$C$7),\"\",INDEX(Main!G$8:G$100,SMALL(IF(Main!G$8:G$100<>\"\",IF(Main!$C$8:$C$100=$C$7,ROW(G$8:G$100)-ROW(G$8)+1)),ROWS($A$1:F5))))","v":"مخزن"},{"$f":"IF(ROWS($A$1:G5)>COUNTIF(Main!$C$8:$C$100,$C$7),\"\",INDEX(Main!H$8:H$100,SMALL(IF(Main!H$8:H$100<>\"\",IF(Main!$C$8:$C$100=$C$7,ROW(H$8:H$100)-ROW(H$8)+1)),ROWS($A$1:G5))))","v":"دفعات"},{"$f":"IF(ROWS($A$1:H5)>COUNTIF(Main!$C$8:$C$100,$C$7),\"\",INDEX(Main!I$8:I$100,SMALL(IF(Main!I$8:I$100<>\"\",IF(Main!$C$8:$C$100=$C$7,ROW(I$8:I$100)-ROW(I$8)+1)),ROWS($A$1:H5))))","v":0},{"$f":"IF(ROWS($A$1:I5)>COUNTIF(Main!$C$8:$C$100,$C$7),\"\",INDEX(Main!J$8:J$100,SMALL(IF(Main!J$8:J$100<>\"\",IF(Main!$C$8:$C$100=$C$7,ROW(J$8:J$100)-ROW(J$8)+1)),ROWS($A$1:I5))))","v":300},300,{"$f":"IF(ROWS($A$1:K5)>COUNTIF(Main!$C$8:$C$100,$C$7),\"\",INDEX(Main!L$8:L$100,SMALL(IF(Main!L$8:L$100<>\"\",IF(Main!$C$8:$C$100=$C$7,ROW(L$8:L$100)-ROW(L$8)+1)),ROWS($A$1:K5))))","v":-300}]
[{"$f":"IF(B13=\"\",\"\",MAX($A$7:A12)+1)","v":6},{"$f":"IF(ROWS($A$1:A6)>COUNTIF(Main!$C$8:$C$100,$C$7),\"\",INDEX(Main!B$8:B$100,SMALL(IF(Main!B$8:B$100<>\"\",IF(Main!$C$8:$C$100=$C$7,ROW(B$8:B$100)-ROW(B$8)+1)),ROWS($A$1:A6))))","v":300},{"$f":"IF(ROWS($A$1:B6)>COUNTIF(Main!$C$8:$C$100,$C$7),\"\",INDEX(Main!C$8:C$100,SMALL(IF(Main!C$8:C$100<>\"\",IF(Main!$C$8:$C$100=$C$7,ROW(C$8:C$100)-ROW(C$8)+1)),ROWS($A$1:B6))))","v":2},{"$f":"IF(ROWS($A$1:C6)>COUNTIF(Main!$C$8:$C$100,$C$7),\"\",INDEX(Main!D$8:D$100,SMALL(IF(Main!D$8:D$100<>\"\",IF(Main!$C$8:$C$100=$C$7,ROW(D$8:D$100)-ROW(D$8)+1)),ROWS($A$1:C6))))","v":"صؤف"},{"$f":"IF(ROWS($A$1:D6)>COUNTIF(Main!$C$8:$C$100,$C$7),\"\",INDEX(Main!E$8:E$100,SMALL(IF(Main!E$8:E$100<>\"\",IF(Main!$C$8:$C$100=$C$7,ROW(E$8:E$100)-ROW(E$8)+1)),ROWS($A$1:D6))))","v":"2020-10-20"},{"$f":"IF(ROWS($A$1:E6)>COUNTIF(Main!$C$8:$C$100,$C$7),\"\",INDEX(Main!F$8:F$100,SMALL(IF(Main!F$8:F$100<>\"\",IF(Main!$C$8:$C$100=$C$7,ROW(F$8:F$100)-ROW(F$8)+1)),ROWS($A$1:E6))))","v":"خالد علي"},{"$f":"IF(ROWS($A$1:F6)>COUNTIF(Main!$C$8:$C$100,$C$7),\"\",INDEX(Main!G$8:G$100,SMALL(IF(Main!G$8:G$100<>\"\",IF(Main!$C$8:$C$100=$C$7,ROW(G$8:G$100)-ROW(G$8)+1)),ROWS($A$1:F6))))","v":"مخزن"},{"$f":"IF(ROWS($A$1:G6)>COUNTIF(Main!$C$8:$C$100,$C$7),\"\",INDEX(Main!H$8:H$100,SMALL(IF(Main!H$8:H$100<>\"\",IF(Main!$C$8:$C$100=$C$7,ROW(H$8:H$100)-ROW(H$8)+1)),ROWS($A$1:G6))))","v":"دفعات"},{"$f":"IF(ROWS($A$1:H6)>COUNTIF(Main!$C$8:$C$100,$C$7),\"\",INDEX(Main!I$8:I$100,SMALL(IF(Main!I$8:I$100<>\"\",IF(Main!$C$8:$C$100=$C$7,ROW(I$8:I$100)-ROW(I$8)+1)),ROWS($A$1:H6))))","v":0},{"$f":"IF(ROWS($A$1:I6)>COUNTIF(Main!$C$8:$C$100,$C$7),\"\",INDEX(Main!J$8:J$100,SMALL(IF(Main!J$8:J$100<>\"\",IF(Main!$C$8:$C$100=$C$7,ROW(J$8:J$100)-ROW(J$8)+1)),ROWS($A$1:I6))))","v":300},300,{"$f":"IF(ROWS($A$1:K6)>COUNTIF(Main!$C$8:$C$100,$C$7),\"\",INDEX(Main!L$8:L$100,SMALL(IF(Main!L$8:L$100<>\"\",IF(Main!$C$8:$C$100=$C$7,ROW(L$8:L$100)-ROW(L$8)+1)),ROWS($A$1:K6))))","v":-300}]
[{"$f":"IF(B14=\"\",\"\",MAX($A$7:A13)+1)","v":7},{"$f":"IF(ROWS($A$1:A7)>COUNTIF(Main!$C$8:$C$100,$C$7),\"\",INDEX(Main!B$8:B$100,SMALL(IF(Main!B$8:B$100<>\"\",IF(Main!$C$8:$C$100=$C$7,ROW(B$8:B$100)-ROW(B$8)+1)),ROWS($A$1:A7))))","v":300},{"$f":"IF(ROWS($A$1:B7)>COUNTIF(Main!$C$8:$C$100,$C$7),\"\",INDEX(Main!C$8:C$100,SMALL(IF(Main!C$8:C$100<>\"\",IF(Main!$C$8:$C$100=$C$7,ROW(C$8:C$100)-ROW(C$8)+1)),ROWS($A$1:B7))))","v":2},{"$f":"IF(ROWS($A$1:C7)>COUNTIF(Main!$C$8:$C$100,$C$7),\"\",INDEX(Main!D$8:D$100,SMALL(IF(Main!D$8:D$100<>\"\",IF(Main!$C$8:$C$100=$C$7,ROW(D$8:D$100)-ROW(D$8)+1)),ROWS($A$1:C7))))","v":"صؤف"},{"$f":"IF(ROWS($A$1:D7)>COUNTIF(Main!$C$8:$C$100,$C$7),\"\",INDEX(Main!E$8:E$100,SMALL(IF(Main!E$8:E$100<>\"\",IF(Main!$C$8:$C$100=$C$7,ROW(E$8:E$100)-ROW(E$8)+1)),ROWS($A$1:D7))))","v":"2020-10-21"},{"$f":"IF(ROWS($A$1:E7)>COUNTIF(Main!$C$8:$C$100,$C$7),\"\",INDEX(Main!F$8:F$100,SMALL(IF(Main!F$8:F$100<>\"\",IF(Main!$C$8:$C$100=$C$7,ROW(F$8:F$100)-ROW(F$8)+1)),ROWS($A$1:E7))))","v":"خالد علي"},{"$f":"IF(ROWS($A$1:F7)>COUNTIF(Main!$C$8:$C$100,$C$7),\"\",INDEX(Main!G$8:G$100,SMALL(IF(Main!G$8:G$100<>\"\",IF(Main!$C$8:$C$100=$C$7,ROW(G$8:G$100)-ROW(G$8)+1)),ROWS($A$1:F7))))","v":"مخزن"},{"$f":"IF(ROWS($A$1:G7)>COUNTIF(Main!$C$8:$C$100,$C$7),\"\",INDEX(Main!H$8:H$100,SMALL(IF(Main!H$8:H$100<>\"\",IF(Main!$C$8:$C$100=$C$7,ROW(H$8:H$100)-ROW(H$8)+1)),ROWS($A$1:G7))))","v":"دفعات"},{"$f":"IF(ROWS($A$1:H7)>COUNTIF(Main!$C$8:$C$100,$C$7),\"\",INDEX(Main!I$8:I$100,SMALL(IF(Main!I$8:I$100<>\"\",IF(Main!$C$8:$C$100=$C$7,ROW(I$8:I$100)-ROW(I$8)+1)),ROWS($A$1:H7))))","v":0},{"$f":"IF(ROWS($A$1:I7)>COUNTIF(Main!$C$8:$C$100,$C$7),\"\",INDEX(Main!J$8:J$100,SMALL(IF(Main!J$8:J$100<>\"\",IF(Main!$C$8:$C$100=$C$7,ROW(J$8:J$100)-ROW(J$8)+1)),ROWS($A$1:I7))))","v":300},300,{"$f":"IF(ROWS($A$1:K7)>COUNTIF(Main!$C$8:$C$100,$C$7),\"\",INDEX(Main!L$8:L$100,SMALL(IF(Main!L$8:L$100<>\"\",IF(Main!$C$8:$C$100=$C$7,ROW(L$8:L$100)-ROW(L$8)+1)),ROWS($A$1:K7))))","v":-300}]
[{"$f":"IF(B15=\"\",\"\",MAX($A$7:A14)+1)","v":8},{"$f":"IF(ROWS($A$1:A8)>COUNTIF(Main!$C$8:$C$100,$C$7),\"\",INDEX(Main!B$8:B$100,SMALL(IF(Main!B$8:B$100<>\"\",IF(Main!$C$8:$C$100=$C$7,ROW(B$8:B$100)-ROW(B$8)+1)),ROWS($A$1:A8))))","v":300},{"$f":"IF(ROWS($A$1:B8)>COUNTIF(Main!$C$8:$C$100,$C$7),\"\",INDEX(Main!C$8:C$100,SMALL(IF(Main!C$8:C$100<>\"\",IF(Main!$C$8:$C$100=$C$7,ROW(C$8:C$100)-ROW(C$8)+1)),ROWS($A$1:B8))))","v":2},{"$f":"IF(ROWS($A$1:C8)>COUNTIF(Main!$C$8:$C$100,$C$7),\"\",INDEX(Main!D$8:D$100,SMALL(IF(Main!D$8:D$100<>\"\",IF(Main!$C$8:$C$100=$C$7,ROW(D$8:D$100)-ROW(D$8)+1)),ROWS($A$1:C8))))","v":"صؤف"},{"$f":"IF(ROWS($A$1:D8)>COUNTIF(Main!$C$8:$C$100,$C$7),\"\",INDEX(Main!E$8:E$100,SMALL(IF(Main!E$8:E$100<>\"\",IF(Main!$C$8:$C$100=$C$7,ROW(E$8:E$100)-ROW(E$8)+1)),ROWS($A$1:D8))))","v":"2020-10-22"},{"$f":"IF(ROWS($A$1:E8)>COUNTIF(Main!$C$8:$C$100,$C$7),\"\",INDEX(Main!F$8:F$100,SMALL(IF(Main!F$8:F$100<>\"\",IF(Main!$C$8:$C$100=$C$7,ROW(F$8:F$100)-ROW(F$8)+1)),ROWS($A$1:E8))))","v":"خالد علي"},{"$f":"IF(ROWS($A$1:F8)>COUNTIF(Main!$C$8:$C$100,$C$7),\"\",INDEX(Main!G$8:G$100,SMALL(IF(Main!G$8:G$100<>\"\",IF(Main!$C$8:$C$100=$C$7,ROW(G$8:G$100)-ROW(G$8)+1)),ROWS($A$1:F8))))","v":"مخزن"},{"$f":"IF(ROWS($A$1:G8)>COUNTIF(Main!$C$8:$C$100,$C$7),\"\",INDEX(Main!H$8:H$100,SMALL(IF(Main!H$8:H$100<>\"\",IF(Main!$C$8:$C$100=$C$7,ROW(H$8:H$100)-ROW(H$8)+1)),ROWS($A$1:G8))))","v":"دفعات"},{"$f":"IF(ROWS($A$1:H8)>COUNTIF(Main!$C$8:$C$100,$C$7),\"\",INDEX(Main!I$8:I$100,SMALL(IF(Main!I$8:I$100<>\"\",IF(Main!$C$8:$C$100=$C$7,ROW(I$8:I$100)-ROW(I$8)+1)),ROWS($A$1:H8))))","v":0},{"$f":"IF(ROWS($A$1:I8)>COUNTIF(Main!$C$8:$C$100,$C$7),\"\",INDEX(Main!J$8:J$100,SMALL(IF(Main!J$8:J$100<>\"\",IF(Main!$C$8:$C$100=$C$7,ROW(J$8:J$100)-ROW(J$8)+1)),ROWS($A$1:I8))))","v":300},300,{"$f":"IF(ROWS($A$1:K8)>COUNTIF(Main!$C$8:$C$100,$C$7),\"\",INDEX(Main!L$8:L$100,SMALL(IF(Main!L$8:L$100<>\"\",IF(Main!$C$8:$C$100=$C$7,ROW(L$8:L$100)-ROW(L$8)+1)),ROWS($A$1:K8))))","v":-300}]
[{"$f":"IF(B16=\"\",\"\",MAX($A$7:A15)+1)","v":""},{"$f":"IF(ROWS($A$1:A9)>COUNTIF(Main!$C$8:$C$100,$C$7),\"\",INDEX(Main!B$8:B$100,SMALL(IF(Main!B$8:B$100<>\"\",IF(Main!$C$8:$C$100=$C$7,ROW(B$8:B$100)-ROW(B$8)+1)),ROWS($A$1:A9))))","v":""},{"$f":"IF(ROWS($A$1:B9)>COUNTIF(Main!$C$8:$C$100,$C$7),\"\",INDEX(Main!C$8:C$100,SMALL(IF(Main!C$8:C$100<>\"\",IF(Main!$C$8:$C$100=$C$7,ROW(C$8:C$100)-ROW(C$8)+1)),ROWS($A$1:B9))))","v":""},{"$f":"IF(ROWS($A$1:C9)>COUNTIF(Main!$C$8:$C$100,$C$7),\"\",INDEX(Main!D$8:D$100,SMALL(IF(Main!D$8:D$100<>\"\",IF(Main!$C$8:$C$100=$C$7,ROW(D$8:D$100)-ROW(D$8)+1)),ROWS($A$1:C9))))","v":""},{"$f":"IF(ROWS($A$1:D9)>COUNTIF(Main!$C$8:$C$100,$C$7),\"\",INDEX(Main!E$8:E$100,SMALL(IF(Main!E$8:E$100<>\"\",IF(Main!$C$8:$C$100=$C$7,ROW(E$8:E$100)-ROW(E$8)+1)),ROWS($A$1:D9))))","v":""},{"$f":"IF(ROWS($A$1:E9)>COUNTIF(Main!$C$8:$C$100,$C$7),\"\",INDEX(Main!F$8:F$100,SMALL(IF(Main!F$8:F$100<>\"\",IF(Main!$C$8:$C$100=$C$7,ROW(F$8:F$100)-ROW(F$8)+1)),ROWS($A$1:E9))))","v":""},{"$f":"IF(ROWS($A$1:F9)>COUNTIF(Main!$C$8:$C$100,$C$7),\"\",INDEX(Main!G$8:G$100,SMALL(IF(Main!G$8:G$100<>\"\",IF(Main!$C$8:$C$100=$C$7,ROW(G$8:G$100)-ROW(G$8)+1)),ROWS($A$1:F9))))","v":""},{"$f":"IF(ROWS($A$1:G9)>COUNTIF(Main!$C$8:$C$100,$C$7),\"\",INDEX(Main!H$8:H$100,SMALL(IF(Main!H$8:H$100<>\"\",IF(Main!$C$8:$C$100=$C$7,ROW(H$8:H$100)-ROW(H$8)+1)),ROWS($A$1:G9))))","v":""},{"$f":"IF(ROWS($A$1:H9)>COUNTIF(Main!$C$8:$C$100,$C$7),\"\",INDEX(Main!I$8:I$100,SMALL(IF(Main!I$8:I$100<>\"\",IF(Main!$C$8:$C$100=$C$7,ROW(I$8:I$100)-ROW(I$8)+1)),ROWS($A$1:H9))))","v":""},{"$f":"IF(ROWS($A$1:I9)>COUNTIF(Main!$C$8:$C$100,$C$7),\"\",INDEX(Main!J$8:J$100,SMALL(IF(Main!J$8:J$100<>\"\",IF(Main!$C$8:$C$100=$C$7,ROW(J$8:J$100)-ROW(J$8)+1)),ROWS($A$1:I9))))","v":""},"",{"$f":"IF(ROWS($A$1:K9)>COUNTIF(Main!$C$8:$C$100,$C$7),\"\",INDEX(Main!L$8:L$100,SMALL(IF(Main!L$8:L$100<>\"\",IF(Main!$C$8:$C$100=$C$7,ROW(L$8:L$100)-ROW(L$8)+1)),ROWS($A$1:K9))))","v":""}]
[{"$f":"IF(B17=\"\",\"\",MAX($A$7:A16)+1)","v":""},{"$f":"IF(ROWS($A$1:A10)>COUNTIF(Main!$C$8:$C$100,$C$7),\"\",INDEX(Main!B$8:B$100,SMALL(IF(Main!B$8:B$100<>\"\",IF(Main!$C$8:$C$100=$C$7,ROW(B$8:B$100)-ROW(B$8)+1)),ROWS($A$1:A10))))","v":""},{"$f":"IF(ROWS($A$1:B10)>COUNTIF(Main!$C$8:$C$100,$C$7),\"\",INDEX(Main!C$8:C$100,SMALL(IF(Main!C$8:C$100<>\"\",IF(Main!$C$8:$C$100=$C$7,ROW(C$8:C$100)-ROW(C$8)+1)),ROWS($A$1:B10))))","v":""},{"$f":"IF(ROWS($A$1:C10)>COUNTIF(Main!$C$8:$C$100,$C$7),\"\",INDEX(Main!D$8:D$100,SMALL(IF(Main!D$8:D$100<>\"\",IF(Main!$C$8:$C$100=$C$7,ROW(D$8:D$100)-ROW(D$8)+1)),ROWS($A$1:C10))))","v":""},{"$f":"IF(ROWS($A$1:D10)>COUNTIF(Main!$C$8:$C$100,$C$7),\"\",INDEX(Main!E$8:E$100,SMALL(IF(Main!E$8:E$100<>\"\",IF(Main!$C$8:$C$100=$C$7,ROW(E$8:E$100)-ROW(E$8)+1)),ROWS($A$1:D10))))","v":""},{"$f":"IF(ROWS($A$1:E10)>COUNTIF(Main!$C$8:$C$100,$C$7),\"\",INDEX(Main!F$8:F$100,SMALL(IF(Main!F$8:F$100<>\"\",IF(Main!$C$8:$C$100=$C$7,ROW(F$8:F$100)-ROW(F$8)+1)),ROWS($A$1:E10))))","v":""},{"$f":"IF(ROWS($A$1:F10)>COUNTIF(Main!$C$8:$C$100,$C$7),\"\",INDEX(Main!G$8:G$100,SMALL(IF(Main!G$8:G$100<>\"\",IF(Main!$C$8:$C$100=$C$7,ROW(G$8:G$100)-ROW(G$8)+1)),ROWS($A$1:F10))))","v":""},{"$f":"IF(ROWS($A$1:G10)>COUNTIF(Main!$C$8:$C$100,$C$7),\"\",INDEX(Main!H$8:H$100,SMALL(IF(Main!H$8:H$100<>\"\",IF(Main!$C$8:$C$100=$C$7,ROW(H$8:H$100)-ROW(H$8)+1)),ROWS($A$1:G10))))","v":""},{"$f":"IF(ROWS($A$1:H10)>COUNTIF(Main!$C$8:$C$100,$C$7),\"\",INDEX(Main!I$8:I$100,SMALL(IF(Main!I$8:I$100<>\"\",IF(Main!$C$8:$C$100=$C$7,ROW(I$8:I$100)-ROW(I$8)+1)),ROWS($A$1:H10))))","v":""},{"$f":"IF(ROWS($A$1:I10)>COUNTIF(Main!$C$8:$C$100,$C$7),\"\",INDEX(Main!J$8:J$100,SMALL(IF(Main!J$8:J$100<>\"\",IF(Main!$C$8:$C$100=$C$7,ROW(J$8:J$100)-ROW(J$8)+1)),ROWS($A$1:I10))))","v":""},"",{"$f":"IF(ROWS($A$1:K10)>COUNTIF(Main!$C$8:$C$100,$C$7),\"\",INDEX(Main!L$8:L$100,SMALL(IF(Main!L$8:L$100<>\"\",IF(Main!$C$8:$C$100=$C$7,ROW(L$8:L$100)-ROW(L$8)+1)),ROWS($A$1:K10))))","v":""}]
[{"$f":"IF(B18=\"\",\"\",MAX($A$7:A17)+1)","v":""},{"$f":"IF(ROWS($A$1:A11)>COUNTIF(Main!$C$8:$C$100,$C$7),\"\",INDEX(Main!B$8:B$100,SMALL(IF(Main!B$8:B$100<>\"\",IF(Main!$C$8:$C$100=$C$7,ROW(B$8:B$100)-ROW(B$8)+1)),ROWS($A$1:A11))))","v":""},{"$f":"IF(ROWS($A$1:B11)>COUNTIF(Main!$C$8:$C$100,$C$7),\"\",INDEX(Main!C$8:C$100,SMALL(IF(Main!C$8:C$100<>\"\",IF(Main!$C$8:$C$100=$C$7,ROW(C$8:C$100)-ROW(C$8)+1)),ROWS($A$1:B11))))","v":""},{"$f":"IF(ROWS($A$1:C11)>COUNTIF(Main!$C$8:$C$100,$C$7),\"\",INDEX(Main!D$8:D$100,SMALL(IF(Main!D$8:D$100<>\"\",IF(Main!$C$8:$C$100=$C$7,ROW(D$8:D$100)-ROW(D$8)+1)),ROWS($A$1:C11))))","v":""},{"$f":"IF(ROWS($A$1:D11)>COUNTIF(Main!$C$8:$C$100,$C$7),\"\",INDEX(Main!E$8:E$100,SMALL(IF(Main!E$8:E$100<>\"\",IF(Main!$C$8:$C$100=$C$7,ROW(E$8:E$100)-ROW(E$8)+1)),ROWS($A$1:D11))))","v":""},{"$f":"IF(ROWS($A$1:E11)>COUNTIF(Main!$C$8:$C$100,$C$7),\"\",INDEX(Main!F$8:F$100,SMALL(IF(Main!F$8:F$100<>\"\",IF(Main!$C$8:$C$100=$C$7,ROW(F$8:F$100)-ROW(F$8)+1)),ROWS($A$1:E11))))","v":""},{"$f":"IF(ROWS($A$1:F11)>COUNTIF(Main!$C$8:$C$100,$C$7),\"\",INDEX(Main!G$8:G$100,SMALL(IF(Main!G$8:G$100<>\"\",IF(Main!$C$8:$C$100=$C$7,ROW(G$8:G$100)-ROW(G$8)+1)),ROWS($A$1:F11))))","v":""},{"$f":"IF(ROWS($A$1:G11)>COUNTIF(Main!$C$8:$C$100,$C$7),\"\",INDEX(Main!H$8:H$100,SMALL(IF(Main!H$8:H$100<>\"\",IF(Main!$C$8:$C$100=$C$7,ROW(H$8:H$100)-ROW(H$8)+1)),ROWS($A$1:G11))))","v":""},{"$f":"IF(ROWS($A$1:H11)>COUNTIF(Main!$C$8:$C$100,$C$7),\"\",INDEX(Main!I$8:I$100,SMALL(IF(Main!I$8:I$100<>\"\",IF(Main!$C$8:$C$100=$C$7,ROW(I$8:I$100)-ROW(I$8)+1)),ROWS($A$1:H11))))","v":""},{"$f":"IF(ROWS($A$1:I11)>COUNTIF(Main!$C$8:$C$100,$C$7),\"\",INDEX(Main!J$8:J$100,SMALL(IF(Main!J$8:J$100<>\"\",IF(Main!$C$8:$C$100=$C$7,ROW(J$8:J$100)-ROW(J$8)+1)),ROWS($A$1:I11))))","v":""},"",{"$f":"IF(ROWS($A$1:K11)>COUNTIF(Main!$C$8:$C$100,$C$7),\"\",INDEX(Main!L$8:L$100,SMALL(IF(Main!L$8:L$100<>\"\",IF(Main!$C$8:$C$100=$C$7,ROW(L$8:L$100)-ROW(L$8)+1)),ROWS($A$1:K11))))","v":""}]
[{"$f":"IF(B19=\"\",\"\",MAX($A$7:A18)+1)","v":""},{"$f":"IF(ROWS($A$1:A12)>COUNTIF(Main!$C$8:$C$100,$C$7),\"\",INDEX(Main!B$8:B$100,SMALL(IF(Main!B$8:B$100<>\"\",IF(Main!$C$8:$C$100=$C$7,ROW(B$8:B$100)-ROW(B$8)+1)),ROWS($A$1:A12))))","v":""},{"$f":"IF(ROWS($A$1:B12)>COUNTIF(Main!$C$8:$C$100,$C$7),\"\",INDEX(Main!C$8:C$100,SMALL(IF(Main!C$8:C$100<>\"\",IF(Main!$C$8:$C$100=$C$7,ROW(C$8:C$100)-ROW(C$8)+1)),ROWS($A$1:B12))))","v":""},{"$f":"IF(ROWS($A$1:C12)>COUNTIF(Main!$C$8:$C$100,$C$7),\"\",INDEX(Main!D$8:D$100,SMALL(IF(Main!D$8:D$100<>\"\",IF(Main!$C$8:$C$100=$C$7,ROW(D$8:D$100)-ROW(D$8)+1)),ROWS($A$1:C12))))","v":""},{"$f":"IF(ROWS($A$1:D12)>COUNTIF(Main!$C$8:$C$100,$C$7),\"\",INDEX(Main!E$8:E$100,SMALL(IF(Main!E$8:E$100<>\"\",IF(Main!$C$8:$C$100=$C$7,ROW(E$8:E$100)-ROW(E$8)+1)),ROWS($A$1:D12))))","v":""},{"$f":"IF(ROWS($A$1:E12)>COUNTIF(Main!$C$8:$C$100,$C$7),\"\",INDEX(Main!F$8:F$100,SMALL(IF(Main!F$8:F$100<>\"\",IF(Main!$C$8:$C$100=$C$7,ROW(F$8:F$100)-ROW(F$8)+1)),ROWS($A$1:E12))))","v":""},{"$f":"IF(ROWS($A$1:F12)>COUNTIF(Main!$C$8:$C$100,$C$7),\"\",INDEX(Main!G$8:G$100,SMALL(IF(Main!G$8:G$100<>\"\",IF(Main!$C$8:$C$100=$C$7,ROW(G$8:G$100)-ROW(G$8)+1)),ROWS($A$1:F12))))","v":""},{"$f":"IF(ROWS($A$1:G12)>COUNTIF(Main!$C$8:$C$100,$C$7),\"\",INDEX(Main!H$8:H$100,SMALL(IF(Main!H$8:H$100<>\"\",IF(Main!$C$8:$C$100=$C$7,ROW(H$8:H$100)-ROW(H$8)+1)),ROWS($A$1:G12))))","v":""},{"$f":"IF(ROWS($A$1:H12)>COUNTIF(Main!$C$8:$C$100,$C$7),\"\",INDEX(Main!I$8:I$100,SMALL(IF(Main!I$8:I$100<>\"\",IF(Main!$C$8:$C$100=$C$7,ROW(I$8:I$100)-ROW(I$8)+1)),ROWS($A$1:H12))))","v":""},{"$f":"IF(ROWS($A$1:I12)>COUNTIF(Main!$C$8:$C$100,$C$7),\"\",INDEX(Main!J$8:J$100,SMALL(IF(Main!J$8:J$100<>\"\",IF(Main!$C$8:$C$100=$C$7,ROW(J$8:J$100)-ROW(J$8)+1)),ROWS($A$1:I12))))","v":""},"",{"$f":"IF(ROWS($A$1:K12)>COUNTIF(Main!$C$8:$C$100,$C$7),\"\",INDEX(Main!L$8:L$100,SMALL(IF(Main!L$8:L$100<>\"\",IF(Main!$C$8:$C$100=$C$7,ROW(L$8:L$100)-ROW(L$8)+1)),ROWS($A$1:K12))))","v":""}]
[{"$f":"IF(B20=\"\",\"\",MAX($A$7:A19)+1)","v":""},{"$f":"IF(ROWS($A$1:A13)>COUNTIF(Main!$C$8:$C$100,$C$7),\"\",INDEX(Main!B$8:B$100,SMALL(IF(Main!B$8:B$100<>\"\",IF(Main!$C$8:$C$100=$C$7,ROW(B$8:B$100)-ROW(B$8)+1)),ROWS($A$1:A13))))","v":""},{"$f":"IF(ROWS($A$1:B13)>COUNTIF(Main!$C$8:$C$100,$C$7),\"\",INDEX(Main!C$8:C$100,SMALL(IF(Main!C$8:C$100<>\"\",IF(Main!$C$8:$C$100=$C$7,ROW(C$8:C$100)-ROW(C$8)+1)),ROWS($A$1:B13))))","v":""},{"$f":"IF(ROWS($A$1:C13)>COUNTIF(Main!$C$8:$C$100,$C$7),\"\",INDEX(Main!D$8:D$100,SMALL(IF(Main!D$8:D$100<>\"\",IF(Main!$C$8:$C$100=$C$7,ROW(D$8:D$100)-ROW(D$8)+1)),ROWS($A$1:C13))))","v":""},{"$f":"IF(ROWS($A$1:D13)>COUNTIF(Main!$C$8:$C$100,$C$7),\"\",INDEX(Main!E$8:E$100,SMALL(IF(Main!E$8:E$100<>\"\",IF(Main!$C$8:$C$100=$C$7,ROW(E$8:E$100)-ROW(E$8)+1)),ROWS($A$1:D13))))","v":""},{"$f":"IF(ROWS($A$1:E13)>COUNTIF(Main!$C$8:$C$100,$C$7),\"\",INDEX(Main!F$8:F$100,SMALL(IF(Main!F$8:F$100<>\"\",IF(Main!$C$8:$C$100=$C$7,ROW(F$8:F$100)-ROW(F$8)+1)),ROWS($A$1:E13))))","v":""},{"$f":"IF(ROWS($A$1:F13)>COUNTIF(Main!$C$8:$C$100,$C$7),\"\",INDEX(Main!G$8:G$100,SMALL(IF(Main!G$8:G$100<>\"\",IF(Main!$C$8:$C$100=$C$7,ROW(G$8:G$100)-ROW(G$8)+1)),ROWS($A$1:F13))))","v":""},{"$f":"IF(ROWS($A$1:G13)>COUNTIF(Main!$C$8:$C$100,$C$7),\"\",INDEX(Main!H$8:H$100,SMALL(IF(Main!H$8:H$100<>\"\",IF(Main!$C$8:$C$100=$C$7,ROW(H$8:H$100)-ROW(H$8)+1)),ROWS($A$1:G13))))","v":""},{"$f":"IF(ROWS($A$1:H13)>COUNTIF(Main!$C$8:$C$100,$C$7),\"\",INDEX(Main!I$8:I$100,SMALL(IF(Main!I$8:I$100<>\"\",IF(Main!$C$8:$C$100=$C$7,ROW(I$8:I$100)-ROW(I$8)+1)),ROWS($A$1:H13))))","v":""},{"$f":"IF(ROWS($A$1:I13)>COUNTIF(Main!$C$8:$C$100,$C$7),\"\",INDEX(Main!J$8:J$100,SMALL(IF(Main!J$8:J$100<>\"\",IF(Main!$C$8:$C$100=$C$7,ROW(J$8:J$100)-ROW(J$8)+1)),ROWS($A$1:I13))))","v":""},"",{"$f":"IF(ROWS($A$1:K13)>COUNTIF(Main!$C$8:$C$100,$C$7),\"\",INDEX(Main!L$8:L$100,SMALL(IF(Main!L$8:L$100<>\"\",IF(Main!$C$8:$C$100=$C$7,ROW(L$8:L$100)-ROW(L$8)+1)),ROWS($A$1:K13))))","v":""}]
[{"$f":"IF(B21=\"\",\"\",MAX($A$7:A20)+1)","v":""},{"$f":"IF(ROWS($A$1:A14)>COUNTIF(Main!$C$8:$C$100,$C$7),\"\",INDEX(Main!B$8:B$100,SMALL(IF(Main!B$8:B$100<>\"\",IF(Main!$C$8:$C$100=$C$7,ROW(B$8:B$100)-ROW(B$8)+1)),ROWS($A$1:A14))))","v":""},{"$f":"IF(ROWS($A$1:B14)>COUNTIF(Main!$C$8:$C$100,$C$7),\"\",INDEX(Main!C$8:C$100,SMALL(IF(Main!C$8:C$100<>\"\",IF(Main!$C$8:$C$100=$C$7,ROW(C$8:C$100)-ROW(C$8)+1)),ROWS($A$1:B14))))","v":""},{"$f":"IF(ROWS($A$1:C14)>COUNTIF(Main!$C$8:$C$100,$C$7),\"\",INDEX(Main!D$8:D$100,SMALL(IF(Main!D$8:D$100<>\"\",IF(Main!$C$8:$C$100=$C$7,ROW(D$8:D$100)-ROW(D$8)+1)),ROWS($A$1:C14))))","v":""},{"$f":"IF(ROWS($A$1:D14)>COUNTIF(Main!$C$8:$C$100,$C$7),\"\",INDEX(Main!E$8:E$100,SMALL(IF(Main!E$8:E$100<>\"\",IF(Main!$C$8:$C$100=$C$7,ROW(E$8:E$100)-ROW(E$8)+1)),ROWS($A$1:D14))))","v":""},{"$f":"IF(ROWS($A$1:E14)>COUNTIF(Main!$C$8:$C$100,$C$7),\"\",INDEX(Main!F$8:F$100,SMALL(IF(Main!F$8:F$100<>\"\",IF(Main!$C$8:$C$100=$C$7,ROW(F$8:F$100)-ROW(F$8)+1)),ROWS($A$1:E14))))","v":""},{"$f":"IF(ROWS($A$1:F14)>COUNTIF(Main!$C$8:$C$100,$C$7),\"\",INDEX(Main!G$8:G$100,SMALL(IF(Main!G$8:G$100<>\"\",IF(Main!$C$8:$C$100=$C$7,ROW(G$8:G$100)-ROW(G$8)+1)),ROWS($A$1:F14))))","v":""},{"$f":"IF(ROWS($A$1:G14)>COUNTIF(Main!$C$8:$C$100,$C$7),\"\",INDEX(Main!H$8:H$100,SMALL(IF(Main!H$8:H$100<>\"\",IF(Main!$C$8:$C$100=$C$7,ROW(H$8:H$100)-ROW(H$8)+1)),ROWS($A$1:G14))))","v":""},{"$f":"IF(ROWS($A$1:H14)>COUNTIF(Main!$C$8:$C$100,$C$7),\"\",INDEX(Main!I$8:I$100,SMALL(IF(Main!I$8:I$100<>\"\",IF(Main!$C$8:$C$100=$C$7,ROW(I$8:I$100)-ROW(I$8)+1)),ROWS($A$1:H14))))","v":""},{"$f":"IF(ROWS($A$1:I14)>COUNTIF(Main!$C$8:$C$100,$C$7),\"\",INDEX(Main!J$8:J$100,SMALL(IF(Main!J$8:J$100<>\"\",IF(Main!$C$8:$C$100=$C$7,ROW(J$8:J$100)-ROW(J$8)+1)),ROWS($A$1:I14))))","v":""},"",{"$f":"IF(ROWS($A$1:K14)>COUNTIF(Main!$C$8:$C$100,$C$7),\"\",INDEX(Main!L$8:L$100,SMALL(IF(Main!L$8:L$100<>\"\",IF(Main!$C$8:$C$100=$C$7,ROW(L$8:L$100)-ROW(L$8)+1)),ROWS($A$1:K14))))","v":""}]
[{"$f":"IF(B22=\"\",\"\",MAX($A$7:A21)+1)","v":""},{"$f":"IF(ROWS($A$1:A15)>COUNTIF(Main!$C$8:$C$100,$C$7),\"\",INDEX(Main!B$8:B$100,SMALL(IF(Main!B$8:B$100<>\"\",IF(Main!$C$8:$C$100=$C$7,ROW(B$8:B$100)-ROW(B$8)+1)),ROWS($A$1:A15))))","v":""},{"$f":"IF(ROWS($A$1:B15)>COUNTIF(Main!$C$8:$C$100,$C$7),\"\",INDEX(Main!C$8:C$100,SMALL(IF(Main!C$8:C$100<>\"\",IF(Main!$C$8:$C$100=$C$7,ROW(C$8:C$100)-ROW(C$8)+1)),ROWS($A$1:B15))))","v":""},{"$f":"IF(ROWS($A$1:C15)>COUNTIF(Main!$C$8:$C$100,$C$7),\"\",INDEX(Main!D$8:D$100,SMALL(IF(Main!D$8:D$100<>\"\",IF(Main!$C$8:$C$100=$C$7,ROW(D$8:D$100)-ROW(D$8)+1)),ROWS($A$1:C15))))","v":""},{"$f":"IF(ROWS($A$1:D15)>COUNTIF(Main!$C$8:$C$100,$C$7),\"\",INDEX(Main!E$8:E$100,SMALL(IF(Main!E$8:E$100<>\"\",IF(Main!$C$8:$C$100=$C$7,ROW(E$8:E$100)-ROW(E$8)+1)),ROWS($A$1:D15))))","v":""},{"$f":"IF(ROWS($A$1:E15)>COUNTIF(Main!$C$8:$C$100,$C$7),\"\",INDEX(Main!F$8:F$100,SMALL(IF(Main!F$8:F$100<>\"\",IF(Main!$C$8:$C$100=$C$7,ROW(F$8:F$100)-ROW(F$8)+1)),ROWS($A$1:E15))))","v":""},{"$f":"IF(ROWS($A$1:F15)>COUNTIF(Main!$C$8:$C$100,$C$7),\"\",INDEX(Main!G$8:G$100,SMALL(IF(Main!G$8:G$100<>\"\",IF(Main!$C$8:$C$100=$C$7,ROW(G$8:G$100)-ROW(G$8)+1)),ROWS($A$1:F15))))","v":""},{"$f":"IF(ROWS($A$1:G15)>COUNTIF(Main!$C$8:$C$100,$C$7),\"\",INDEX(Main!H$8:H$100,SMALL(IF(Main!H$8:H$100<>\"\",IF(Main!$C$8:$C$100=$C$7,ROW(H$8:H$100)-ROW(H$8)+1)),ROWS($A$1:G15))))","v":""},{"$f":"IF(ROWS($A$1:H15)>COUNTIF(Main!$C$8:$C$100,$C$7),\"\",INDEX(Main!I$8:I$100,SMALL(IF(Main!I$8:I$100<>\"\",IF(Main!$C$8:$C$100=$C$7,ROW(I$8:I$100)-ROW(I$8)+1)),ROWS($A$1:H15))))","v":""},{"$f":"IF(ROWS($A$1:I15)>COUNTIF(Main!$C$8:$C$100,$C$7),\"\",INDEX(Main!J$8:J$100,SMALL(IF(Main!J$8:J$100<>\"\",IF(Main!$C$8:$C$100=$C$7,ROW(J$8:J$100)-ROW(J$8)+1)),ROWS($A$1:I15))))","v":""},"",{"$f":"IF(ROWS($A$1:K15)>COUNTIF(Main!$C$8:$C$100,$C$7),\"\",INDEX(Main!L$8:L$100,SMALL(IF(Main!L$8:L$100<>\"\",IF(Main!$C$8:$C$100=$C$7,ROW(L$8:L$100)-ROW(L$8)+1)),ROWS($A$1:K15))))","v":""}]
[{"$f":"IF(B23=\"\",\"\",MAX($A$7:A22)+1)","v":""},{"$f":"IF(ROWS($A$1:A16)>COUNTIF(Main!$C$8:$C$100,$C$7),\"\",INDEX(Main!B$8:B$100,SMALL(IF(Main!B$8:B$100<>\"\",IF(Main!$C$8:$C$100=$C$7,ROW(B$8:B$100)-ROW(B$8)+1)),ROWS($A$1:A16))))","v":""},{"$f":"IF(ROWS($A$1:B16)>COUNTIF(Main!$C$8:$C$100,$C$7),\"\",INDEX(Main!C$8:C$100,SMALL(IF(Main!C$8:C$100<>\"\",IF(Main!$C$8:$C$100=$C$7,ROW(C$8:C$100)-ROW(C$8)+1)),ROWS($A$1:B16))))","v":""},{"$f":"IF(ROWS($A$1:C16)>COUNTIF(Main!$C$8:$C$100,$C$7),\"\",INDEX(Main!D$8:D$100,SMALL(IF(Main!D$8:D$100<>\"\",IF(Main!$C$8:$C$100=$C$7,ROW(D$8:D$100)-ROW(D$8)+1)),ROWS($A$1:C16))))","v":""},{"$f":"IF(ROWS($A$1:D16)>COUNTIF(Main!$C$8:$C$100,$C$7),\"\",INDEX(Main!E$8:E$100,SMALL(IF(Main!E$8:E$100<>\"\",IF(Main!$C$8:$C$100=$C$7,ROW(E$8:E$100)-ROW(E$8)+1)),ROWS($A$1:D16))))","v":""},{"$f":"IF(ROWS($A$1:E16)>COUNTIF(Main!$C$8:$C$100,$C$7),\"\",INDEX(Main!F$8:F$100,SMALL(IF(Main!F$8:F$100<>\"\",IF(Main!$C$8:$C$100=$C$7,ROW(F$8:F$100)-ROW(F$8)+1)),ROWS($A$1:E16))))","v":""},{"$f":"IF(ROWS($A$1:F16)>COUNTIF(Main!$C$8:$C$100,$C$7),\"\",INDEX(Main!G$8:G$100,SMALL(IF(Main!G$8:G$100<>\"\",IF(Main!$C$8:$C$100=$C$7,ROW(G$8:G$100)-ROW(G$8)+1)),ROWS($A$1:F16))))","v":""},{"$f":"IF(ROWS($A$1:G16)>COUNTIF(Main!$C$8:$C$100,$C$7),\"\",INDEX(Main!H$8:H$100,SMALL(IF(Main!H$8:H$100<>\"\",IF(Main!$C$8:$C$100=$C$7,ROW(H$8:H$100)-ROW(H$8)+1)),ROWS($A$1:G16))))","v":""},{"$f":"IF(ROWS($A$1:H16)>COUNTIF(Main!$C$8:$C$100,$C$7),\"\",INDEX(Main!I$8:I$100,SMALL(IF(Main!I$8:I$100<>\"\",IF(Main!$C$8:$C$100=$C$7,ROW(I$8:I$100)-ROW(I$8)+1)),ROWS($A$1:H16))))","v":""},{"$f":"IF(ROWS($A$1:I16)>COUNTIF(Main!$C$8:$C$100,$C$7),\"\",INDEX(Main!J$8:J$100,SMALL(IF(Main!J$8:J$100<>\"\",IF(Main!$C$8:$C$100=$C$7,ROW(J$8:J$100)-ROW(J$8)+1)),ROWS($A$1:I16))))","v":""},"",{"$f":"IF(ROWS($A$1:K16)>COUNTIF(Main!$C$8:$C$100,$C$7),\"\",INDEX(Main!L$8:L$100,SMALL(IF(Main!L$8:L$100<>\"\",IF(Main!$C$8:$C$100=$C$7,ROW(L$8:L$100)-ROW(L$8)+1)),ROWS($A$1:K16))))","v":""}]
[{"$f":"IF(B24=\"\",\"\",MAX($A$7:A23)+1)","v":""},{"$f":"IF(ROWS($A$1:A17)>COUNTIF(Main!$C$8:$C$100,$C$7),\"\",INDEX(Main!B$8:B$100,SMALL(IF(Main!B$8:B$100<>\"\",IF(Main!$C$8:$C$100=$C$7,ROW(B$8:B$100)-ROW(B$8)+1)),ROWS($A$1:A17))))","v":""},{"$f":"IF(ROWS($A$1:B17)>COUNTIF(Main!$C$8:$C$100,$C$7),\"\",INDEX(Main!C$8:C$100,SMALL(IF(Main!C$8:C$100<>\"\",IF(Main!$C$8:$C$100=$C$7,ROW(C$8:C$100)-ROW(C$8)+1)),ROWS($A$1:B17))))","v":""},{"$f":"IF(ROWS($A$1:C17)>COUNTIF(Main!$C$8:$C$100,$C$7),\"\",INDEX(Main!D$8:D$100,SMALL(IF(Main!D$8:D$100<>\"\",IF(Main!$C$8:$C$100=$C$7,ROW(D$8:D$100)-ROW(D$8)+1)),ROWS($A$1:C17))))","v":""},{"$f":"IF(ROWS($A$1:D17)>COUNTIF(Main!$C$8:$C$100,$C$7),\"\",INDEX(Main!E$8:E$100,SMALL(IF(Main!E$8:E$100<>\"\",IF(Main!$C$8:$C$100=$C$7,ROW(E$8:E$100)-ROW(E$8)+1)),ROWS($A$1:D17))))","v":""},{"$f":"IF(ROWS($A$1:E17)>COUNTIF(Main!$C$8:$C$100,$C$7),\"\",INDEX(Main!F$8:F$100,SMALL(IF(Main!F$8:F$100<>\"\",IF(Main!$C$8:$C$100=$C$7,ROW(F$8:F$100)-ROW(F$8)+1)),ROWS($A$1:E17))))","v":""},{"$f":"IF(ROWS($A$1:F17)>COUNTIF(Main!$C$8:$C$100,$C$7),\"\",INDEX(Main!G$8:G$100,SMALL(IF(Main!G$8:G$100<>\"\",IF(Main!$C$8:$C$100=$C$7,ROW(G$8:G$100)-ROW(G$8)+1)),ROWS($A$1:F17))))","v":""},{"$f":"IF(ROWS($A$1:G17)>COUNTIF(Main!$C$8:$C$100,$C$7),\"\",INDEX(Main!H$8:H$100,SMALL(IF(Main!H$8:H$100<>\"\",IF(Main!$C$8:$C$100=$C$7,ROW(H$8:H$100)-ROW(H$8)+1)),ROWS($A$1:G17))))","v":""},{"$f":"IF(ROWS($A$1:H17)>COUNTIF(Main!$C$8:$C$100,$C$7),\"\",INDEX(Main!I$8:I$100,SMALL(IF(Main!I$8:I$100<>\"\",IF(Main!$C$8:$C$100=$C$7,ROW(I$8:I$100)-ROW(I$8)+1)),ROWS($A$1:H17))))","v":""},{"$f":"IF(ROWS($A$1:I17)>COUNTIF(Main!$C$8:$C$100,$C$7),\"\",INDEX(Main!J$8:J$100,SMALL(IF(Main!J$8:J$100<>\"\",IF(Main!$C$8:$C$100=$C$7,ROW(J$8:J$100)-ROW(J$8)+1)),ROWS($A$1:I17))))","v":""},"",{"$f":"IF(ROWS($A$1:K17)>COUNTIF(Main!$C$8:$C$100,$C$7),\"\",INDEX(Main!L$8:L$100,SMALL(IF(Main!L$8:L$100<>\"\",IF(Main!$C$8:$C$100=$C$7,ROW(L$8:L$100)-ROW(L$8)+1)),ROWS($A$1:K17))))","v":""}]
[{"$f":"IF(B25=\"\",\"\",MAX($A$7:A24)+1)","v":""},{"$f":"IF(ROWS($A$1:A18)>COUNTIF(Main!$C$8:$C$100,$C$7),\"\",INDEX(Main!B$8:B$100,SMALL(IF(Main!B$8:B$100<>\"\",IF(Main!$C$8:$C$100=$C$7,ROW(B$8:B$100)-ROW(B$8)+1)),ROWS($A$1:A18))))","v":""},{"$f":"IF(ROWS($A$1:B18)>COUNTIF(Main!$C$8:$C$100,$C$7),\"\",INDEX(Main!C$8:C$100,SMALL(IF(Main!C$8:C$100<>\"\",IF(Main!$C$8:$C$100=$C$7,ROW(C$8:C$100)-ROW(C$8)+1)),ROWS($A$1:B18))))","v":""},{"$f":"IF(ROWS($A$1:C18)>COUNTIF(Main!$C$8:$C$100,$C$7),\"\",INDEX(Main!D$8:D$100,SMALL(IF(Main!D$8:D$100<>\"\",IF(Main!$C$8:$C$100=$C$7,ROW(D$8:D$100)-ROW(D$8)+1)),ROWS($A$1:C18))))","v":""},{"$f":"IF(ROWS($A$1:D18)>COUNTIF(Main!$C$8:$C$100,$C$7),\"\",INDEX(Main!E$8:E$100,SMALL(IF(Main!E$8:E$100<>\"\",IF(Main!$C$8:$C$100=$C$7,ROW(E$8:E$100)-ROW(E$8)+1)),ROWS($A$1:D18))))","v":""},{"$f":"IF(ROWS($A$1:E18)>COUNTIF(Main!$C$8:$C$100,$C$7),\"\",INDEX(Main!F$8:F$100,SMALL(IF(Main!F$8:F$100<>\"\",IF(Main!$C$8:$C$100=$C$7,ROW(F$8:F$100)-ROW(F$8)+1)),ROWS($A$1:E18))))","v":""},{"$f":"IF(ROWS($A$1:F18)>COUNTIF(Main!$C$8:$C$100,$C$7),\"\",INDEX(Main!G$8:G$100,SMALL(IF(Main!G$8:G$100<>\"\",IF(Main!$C$8:$C$100=$C$7,ROW(G$8:G$100)-ROW(G$8)+1)),ROWS($A$1:F18))))","v":""},{"$f":"IF(ROWS($A$1:G18)>COUNTIF(Main!$C$8:$C$100,$C$7),\"\",INDEX(Main!H$8:H$100,SMALL(IF(Main!H$8:H$100<>\"\",IF(Main!$C$8:$C$100=$C$7,ROW(H$8:H$100)-ROW(H$8)+1)),ROWS($A$1:G18))))","v":""},{"$f":"IF(ROWS($A$1:H18)>COUNTIF(Main!$C$8:$C$100,$C$7),\"\",INDEX(Main!I$8:I$100,SMALL(IF(Main!I$8:I$100<>\"\",IF(Main!$C$8:$C$100=$C$7,ROW(I$8:I$100)-ROW(I$8)+1)),ROWS($A$1:H18))))","v":""},{"$f":"IF(ROWS($A$1:I18)>COUNTIF(Main!$C$8:$C$100,$C$7),\"\",INDEX(Main!J$8:J$100,SMALL(IF(Main!J$8:J$100<>\"\",IF(Main!$C$8:$C$100=$C$7,ROW(J$8:J$100)-ROW(J$8)+1)),ROWS($A$1:I18))))","v":""},"",{"$f":"IF(ROWS($A$1:K18)>COUNTIF(Main!$C$8:$C$100,$C$7),\"\",INDEX(Main!L$8:L$100,SMALL(IF(Main!L$8:L$100<>\"\",IF(Main!$C$8:$C$100=$C$7,ROW(L$8:L$100)-ROW(L$8)+1)),ROWS($A$1:K18))))","v":""}]
[{"$f":"IF(B26=\"\",\"\",MAX($A$7:A25)+1)","v":""},{"$f":"IF(ROWS($A$1:A19)>COUNTIF(Main!$C$8:$C$100,$C$7),\"\",INDEX(Main!B$8:B$100,SMALL(IF(Main!B$8:B$100<>\"\",IF(Main!$C$8:$C$100=$C$7,ROW(B$8:B$100)-ROW(B$8)+1)),ROWS($A$1:A19))))","v":""},{"$f":"IF(ROWS($A$1:B19)>COUNTIF(Main!$C$8:$C$100,$C$7),\"\",INDEX(Main!C$8:C$100,SMALL(IF(Main!C$8:C$100<>\"\",IF(Main!$C$8:$C$100=$C$7,ROW(C$8:C$100)-ROW(C$8)+1)),ROWS($A$1:B19))))","v":""},{"$f":"IF(ROWS($A$1:C19)>COUNTIF(Main!$C$8:$C$100,$C$7),\"\",INDEX(Main!D$8:D$100,SMALL(IF(Main!D$8:D$100<>\"\",IF(Main!$C$8:$C$100=$C$7,ROW(D$8:D$100)-ROW(D$8)+1)),ROWS($A$1:C19))))","v":""},{"$f":"IF(ROWS($A$1:D19)>COUNTIF(Main!$C$8:$C$100,$C$7),\"\",INDEX(Main!E$8:E$100,SMALL(IF(Main!E$8:E$100<>\"\",IF(Main!$C$8:$C$100=$C$7,ROW(E$8:E$100)-ROW(E$8)+1)),ROWS($A$1:D19))))","v":""},{"$f":"IF(ROWS($A$1:E19)>COUNTIF(Main!$C$8:$C$100,$C$7),\"\",INDEX(Main!F$8:F$100,SMALL(IF(Main!F$8:F$100<>\"\",IF(Main!$C$8:$C$100=$C$7,ROW(F$8:F$100)-ROW(F$8)+1)),ROWS($A$1:E19))))","v":""},{"$f":"IF(ROWS($A$1:F19)>COUNTIF(Main!$C$8:$C$100,$C$7),\"\",INDEX(Main!G$8:G$100,SMALL(IF(Main!G$8:G$100<>\"\",IF(Main!$C$8:$C$100=$C$7,ROW(G$8:G$100)-ROW(G$8)+1)),ROWS($A$1:F19))))","v":""},{"$f":"IF(ROWS($A$1:G19)>COUNTIF(Main!$C$8:$C$100,$C$7),\"\",INDEX(Main!H$8:H$100,SMALL(IF(Main!H$8:H$100<>\"\",IF(Main!$C$8:$C$100=$C$7,ROW(H$8:H$100)-ROW(H$8)+1)),ROWS($A$1:G19))))","v":""},{"$f":"IF(ROWS($A$1:H19)>COUNTIF(Main!$C$8:$C$100,$C$7),\"\",INDEX(Main!I$8:I$100,SMALL(IF(Main!I$8:I$100<>\"\",IF(Main!$C$8:$C$100=$C$7,ROW(I$8:I$100)-ROW(I$8)+1)),ROWS($A$1:H19))))","v":""},{"$f":"IF(ROWS($A$1:I19)>COUNTIF(Main!$C$8:$C$100,$C$7),\"\",INDEX(Main!J$8:J$100,SMALL(IF(Main!J$8:J$100<>\"\",IF(Main!$C$8:$C$100=$C$7,ROW(J$8:J$100)-ROW(J$8)+1)),ROWS($A$1:I19))))","v":""},"",{"$f":"IF(ROWS($A$1:K19)>COUNTIF(Main!$C$8:$C$100,$C$7),\"\",INDEX(Main!L$8:L$100,SMALL(IF(Main!L$8:L$100<>\"\",IF(Main!$C$8:$C$100=$C$7,ROW(L$8:L$100)-ROW(L$8)+1)),ROWS($A$1:K19))))","v":""}]
[{"$f":"IF(B27=\"\",\"\",MAX($A$7:A26)+1)","v":""},{"$f":"IF(ROWS($A$1:A20)>COUNTIF(Main!$C$8:$C$100,$C$7),\"\",INDEX(Main!B$8:B$100,SMALL(IF(Main!B$8:B$100<>\"\",IF(Main!$C$8:$C$100=$C$7,ROW(B$8:B$100)-ROW(B$8)+1)),ROWS($A$1:A20))))","v":""},{"$f":"IF(ROWS($A$1:B20)>COUNTIF(Main!$C$8:$C$100,$C$7),\"\",INDEX(Main!C$8:C$100,SMALL(IF(Main!C$8:C$100<>\"\",IF(Main!$C$8:$C$100=$C$7,ROW(C$8:C$100)-ROW(C$8)+1)),ROWS($A$1:B20))))","v":""},{"$f":"IF(ROWS($A$1:C20)>COUNTIF(Main!$C$8:$C$100,$C$7),\"\",INDEX(Main!D$8:D$100,SMALL(IF(Main!D$8:D$100<>\"\",IF(Main!$C$8:$C$100=$C$7,ROW(D$8:D$100)-ROW(D$8)+1)),ROWS($A$1:C20))))","v":""},{"$f":"IF(ROWS($A$1:D20)>COUNTIF(Main!$C$8:$C$100,$C$7),\"\",INDEX(Main!E$8:E$100,SMALL(IF(Main!E$8:E$100<>\"\",IF(Main!$C$8:$C$100=$C$7,ROW(E$8:E$100)-ROW(E$8)+1)),ROWS($A$1:D20))))","v":""},{"$f":"IF(ROWS($A$1:E20)>COUNTIF(Main!$C$8:$C$100,$C$7),\"\",INDEX(Main!F$8:F$100,SMALL(IF(Main!F$8:F$100<>\"\",IF(Main!$C$8:$C$100=$C$7,ROW(F$8:F$100)-ROW(F$8)+1)),ROWS($A$1:E20))))","v":""},{"$f":"IF(ROWS($A$1:F20)>COUNTIF(Main!$C$8:$C$100,$C$7),\"\",INDEX(Main!G$8:G$100,SMALL(IF(Main!G$8:G$100<>\"\",IF(Main!$C$8:$C$100=$C$7,ROW(G$8:G$100)-ROW(G$8)+1)),ROWS($A$1:F20))))","v":""},{"$f":"IF(ROWS($A$1:G20)>COUNTIF(Main!$C$8:$C$100,$C$7),\"\",INDEX(Main!H$8:H$100,SMALL(IF(Main!H$8:H$100<>\"\",IF(Main!$C$8:$C$100=$C$7,ROW(H$8:H$100)-ROW(H$8)+1)),ROWS($A$1:G20))))","v":""},{"$f":"IF(ROWS($A$1:H20)>COUNTIF(Main!$C$8:$C$100,$C$7),\"\",INDEX(Main!I$8:I$100,SMALL(IF(Main!I$8:I$100<>\"\",IF(Main!$C$8:$C$100=$C$7,ROW(I$8:I$100)-ROW(I$8)+1)),ROWS($A$1:H20))))","v":""},{"$f":"IF(ROWS($A$1:I20)>COUNTIF(Main!$C$8:$C$100,$C$7),\"\",INDEX(Main!J$8:J$100,SMALL(IF(Main!J$8:J$100<>\"\",IF(Main!$C$8:$C$100=$C$7,ROW(J$8:J$100)-ROW(J$8)+1)),ROWS($A$1:I20))))","v":""},"",{"$f":"IF(ROWS($A$1:K20)>COUNTIF(Main!$C$8:$C$100,$C$7),\"\",INDEX(Main!L$8:L$100,SMALL(IF(Main!L$8:L$100<>\"\",IF(Main!$C$8:$C$100=$C$7,ROW(L$8:L$100)-ROW(L$8)+1)),ROWS($A$1:K20))))","v":""}]
[{"$f":"IF(B28=\"\",\"\",MAX($A$7:A27)+1)","v":""},{"$f":"IF(ROWS($A$1:A21)>COUNTIF(Main!$C$8:$C$100,$C$7),\"\",INDEX(Main!B$8:B$100,SMALL(IF(Main!B$8:B$100<>\"\",IF(Main!$C$8:$C$100=$C$7,ROW(B$8:B$100)-ROW(B$8)+1)),ROWS($A$1:A21))))","v":""},{"$f":"IF(ROWS($A$1:B21)>COUNTIF(Main!$C$8:$C$100,$C$7),\"\",INDEX(Main!C$8:C$100,SMALL(IF(Main!C$8:C$100<>\"\",IF(Main!$C$8:$C$100=$C$7,ROW(C$8:C$100)-ROW(C$8)+1)),ROWS($A$1:B21))))","v":""},{"$f":"IF(ROWS($A$1:C21)>COUNTIF(Main!$C$8:$C$100,$C$7),\"\",INDEX(Main!D$8:D$100,SMALL(IF(Main!D$8:D$100<>\"\",IF(Main!$C$8:$C$100=$C$7,ROW(D$8:D$100)-ROW(D$8)+1)),ROWS($A$1:C21))))","v":""},{"$f":"IF(ROWS($A$1:D21)>COUNTIF(Main!$C$8:$C$100,$C$7),\"\",INDEX(Main!E$8:E$100,SMALL(IF(Main!E$8:E$100<>\"\",IF(Main!$C$8:$C$100=$C$7,ROW(E$8:E$100)-ROW(E$8)+1)),ROWS($A$1:D21))))","v":""},{"$f":"IF(ROWS($A$1:E21)>COUNTIF(Main!$C$8:$C$100,$C$7),\"\",INDEX(Main!F$8:F$100,SMALL(IF(Main!F$8:F$100<>\"\",IF(Main!$C$8:$C$100=$C$7,ROW(F$8:F$100)-ROW(F$8)+1)),ROWS($A$1:E21))))","v":""},{"$f":"IF(ROWS($A$1:F21)>COUNTIF(Main!$C$8:$C$100,$C$7),\"\",INDEX(Main!G$8:G$100,SMALL(IF(Main!G$8:G$100<>\"\",IF(Main!$C$8:$C$100=$C$7,ROW(G$8:G$100)-ROW(G$8)+1)),ROWS($A$1:F21))))","v":""},{"$f":"IF(ROWS($A$1:G21)>COUNTIF(Main!$C$8:$C$100,$C$7),\"\",INDEX(Main!H$8:H$100,SMALL(IF(Main!H$8:H$100<>\"\",IF(Main!$C$8:$C$100=$C$7,ROW(H$8:H$100)-ROW(H$8)+1)),ROWS($A$1:G21))))","v":""},{"$f":"IF(ROWS($A$1:H21)>COUNTIF(Main!$C$8:$C$100,$C$7),\"\",INDEX(Main!I$8:I$100,SMALL(IF(Main!I$8:I$100<>\"\",IF(Main!$C$8:$C$100=$C$7,ROW(I$8:I$100)-ROW(I$8)+1)),ROWS($A$1:H21))))","v":""},{"$f":"IF(ROWS($A$1:I21)>COUNTIF(Main!$C$8:$C$100,$C$7),\"\",INDEX(Main!J$8:J$100,SMALL(IF(Main!J$8:J$100<>\"\",IF(Main!$C$8:$C$100=$C$7,ROW(J$8:J$100)-ROW(J$8)+1)),ROWS($A$1:I21))))","v":""},"",{"$f":"IF(ROWS($A$1:K21)>COUNTIF(Main!$C$8:$C$100,$C$7),\"\",INDEX(Main!L$8:L$100,SMALL(IF(Main!L$8:L$100<>\"\",IF(Main!$C$8:$C$100=$C$7,ROW(L$8:L$100)-ROW(L$8)+1)),ROWS($A$1:K21))))","v":""}]
[{"$f":"IF(B29=\"\",\"\",MAX($A$7:A28)+1)","v":""},{"$f":"IF(ROWS($A$1:A22)>COUNTIF(Main!$C$8:$C$100,$C$7),\"\",INDEX(Main!B$8:B$100,SMALL(IF(Main!B$8:B$100<>\"\",IF(Main!$C$8:$C$100=$C$7,ROW(B$8:B$100)-ROW(B$8)+1)),ROWS($A$1:A22))))","v":""},{"$f":"IF(ROWS($A$1:B22)>COUNTIF(Main!$C$8:$C$100,$C$7),\"\",INDEX(Main!C$8:C$100,SMALL(IF(Main!C$8:C$100<>\"\",IF(Main!$C$8:$C$100=$C$7,ROW(C$8:C$100)-ROW(C$8)+1)),ROWS($A$1:B22))))","v":""},{"$f":"IF(ROWS($A$1:C22)>COUNTIF(Main!$C$8:$C$100,$C$7),\"\",INDEX(Main!D$8:D$100,SMALL(IF(Main!D$8:D$100<>\"\",IF(Main!$C$8:$C$100=$C$7,ROW(D$8:D$100)-ROW(D$8)+1)),ROWS($A$1:C22))))","v":""},{"$f":"IF(ROWS($A$1:D22)>COUNTIF(Main!$C$8:$C$100,$C$7),\"\",INDEX(Main!E$8:E$100,SMALL(IF(Main!E$8:E$100<>\"\",IF(Main!$C$8:$C$100=$C$7,ROW(E$8:E$100)-ROW(E$8)+1)),ROWS($A$1:D22))))","v":""},{"$f":"IF(ROWS($A$1:E22)>COUNTIF(Main!$C$8:$C$100,$C$7),\"\",INDEX(Main!F$8:F$100,SMALL(IF(Main!F$8:F$100<>\"\",IF(Main!$C$8:$C$100=$C$7,ROW(F$8:F$100)-ROW(F$8)+1)),ROWS($A$1:E22))))","v":""},{"$f":"IF(ROWS($A$1:F22)>COUNTIF(Main!$C$8:$C$100,$C$7),\"\",INDEX(Main!G$8:G$100,SMALL(IF(Main!G$8:G$100<>\"\",IF(Main!$C$8:$C$100=$C$7,ROW(G$8:G$100)-ROW(G$8)+1)),ROWS($A$1:F22))))","v":""},{"$f":"IF(ROWS($A$1:G22)>COUNTIF(Main!$C$8:$C$100,$C$7),\"\",INDEX(Main!H$8:H$100,SMALL(IF(Main!H$8:H$100<>\"\",IF(Main!$C$8:$C$100=$C$7,ROW(H$8:H$100)-ROW(H$8)+1)),ROWS($A$1:G22))))","v":""},{"$f":"IF(ROWS($A$1:H22)>COUNTIF(Main!$C$8:$C$100,$C$7),\"\",INDEX(Main!I$8:I$100,SMALL(IF(Main!I$8:I$100<>\"\",IF(Main!$C$8:$C$100=$C$7,ROW(I$8:I$100)-ROW(I$8)+1)),ROWS($A$1:H22))))","v":""},{"$f":"IF(ROWS($A$1:I22)>COUNTIF(Main!$C$8:$C$100,$C$7),\"\",INDEX(Main!J$8:J$100,SMALL(IF(Main!J$8:J$100<>\"\",IF(Main!$C$8:$C$100=$C$7,ROW(J$8:J$100)-ROW(J$8)+1)),ROWS($A$1:I22))))","v":""},"",{"$f":"IF(ROWS($A$1:K22)>COUNTIF(Main!$C$8:$C$100,$C$7),\"\",INDEX(Main!L$8:L$100,SMALL(IF(Main!L$8:L$100<>\"\",IF(Main!$C$8:$C$100=$C$7,ROW(L$8:L$100)-ROW(L$8)+1)),ROWS($A$1:K22))))","v":""}]
[{"$f":"IF(B30=\"\",\"\",MAX($A$7:A29)+1)","v":""},{"$f":"IF(ROWS($A$1:A23)>COUNTIF(Main!$C$8:$C$100,$C$7),\"\",INDEX(Main!B$8:B$100,SMALL(IF(Main!B$8:B$100<>\"\",IF(Main!$C$8:$C$100=$C$7,ROW(B$8:B$100)-ROW(B$8)+1)),ROWS($A$1:A23))))","v":""},{"$f":"IF(ROWS($A$1:B23)>COUNTIF(Main!$C$8:$C$100,$C$7),\"\",INDEX(Main!C$8:C$100,SMALL(IF(Main!C$8:C$100<>\"\",IF(Main!$C$8:$C$100=$C$7,ROW(C$8:C$100)-ROW(C$8)+1)),ROWS($A$1:B23))))","v":""},{"$f":"IF(ROWS($A$1:C23)>COUNTIF(Main!$C$8:$C$100,$C$7),\"\",INDEX(Main!D$8:D$100,SMALL(IF(Main!D$8:D$100<>\"\",IF(Main!$C$8:$C$100=$C$7,ROW(D$8:D$100)-ROW(D$8)+1)),ROWS($A$1:C23))))","v":""},{"$f":"IF(ROWS($A$1:D23)>COUNTIF(Main!$C$8:$C$100,$C$7),\"\",INDEX(Main!E$8:E$100,SMALL(IF(Main!E$8:E$100<>\"\",IF(Main!$C$8:$C$100=$C$7,ROW(E$8:E$100)-ROW(E$8)+1)),ROWS($A$1:D23))))","v":""},{"$f":"IF(ROWS($A$1:E23)>COUNTIF(Main!$C$8:$C$100,$C$7),\"\",INDEX(Main!F$8:F$100,SMALL(IF(Main!F$8:F$100<>\"\",IF(Main!$C$8:$C$100=$C$7,ROW(F$8:F$100)-ROW(F$8)+1)),ROWS($A$1:E23))))","v":""},{"$f":"IF(ROWS($A$1:F23)>COUNTIF(Main!$C$8:$C$100,$C$7),\"\",INDEX(Main!G$8:G$100,SMALL(IF(Main!G$8:G$100<>\"\",IF(Main!$C$8:$C$100=$C$7,ROW(G$8:G$100)-ROW(G$8)+1)),ROWS($A$1:F23))))","v":""},{"$f":"IF(ROWS($A$1:G23)>COUNTIF(Main!$C$8:$C$100,$C$7),\"\",INDEX(Main!H$8:H$100,SMALL(IF(Main!H$8:H$100<>\"\",IF(Main!$C$8:$C$100=$C$7,ROW(H$8:H$100)-ROW(H$8)+1)),ROWS($A$1:G23))))","v":""},{"$f":"IF(ROWS($A$1:H23)>COUNTIF(Main!$C$8:$C$100,$C$7),\"\",INDEX(Main!I$8:I$100,SMALL(IF(Main!I$8:I$100<>\"\",IF(Main!$C$8:$C$100=$C$7,ROW(I$8:I$100)-ROW(I$8)+1)),ROWS($A$1:H23))))","v":""},{"$f":"IF(ROWS($A$1:I23)>COUNTIF(Main!$C$8:$C$100,$C$7),\"\",INDEX(Main!J$8:J$100,SMALL(IF(Main!J$8:J$100<>\"\",IF(Main!$C$8:$C$100=$C$7,ROW(J$8:J$100)-ROW(J$8)+1)),ROWS($A$1:I23))))","v":""},"",{"$f":"IF(ROWS($A$1:K23)>COUNTIF(Main!$C$8:$C$100,$C$7),\"\",INDEX(Main!L$8:L$100,SMALL(IF(Main!L$8:L$100<>\"\",IF(Main!$C$8:$C$100=$C$7,ROW(L$8:L$100)-ROW(L$8)+1)),ROWS($A$1:K23))))","v":""}]
[{"$f":"IF(B31=\"\",\"\",MAX($A$7:A30)+1)","v":""},{"$f":"IF(ROWS($A$1:A24)>COUNTIF(Main!$C$8:$C$100,$C$7),\"\",INDEX(Main!B$8:B$100,SMALL(IF(Main!B$8:B$100<>\"\",IF(Main!$C$8:$C$100=$C$7,ROW(B$8:B$100)-ROW(B$8)+1)),ROWS($A$1:A24))))","v":""},{"$f":"IF(ROWS($A$1:B24)>COUNTIF(Main!$C$8:$C$100,$C$7),\"\",INDEX(Main!C$8:C$100,SMALL(IF(Main!C$8:C$100<>\"\",IF(Main!$C$8:$C$100=$C$7,ROW(C$8:C$100)-ROW(C$8)+1)),ROWS($A$1:B24))))","v":""},{"$f":"IF(ROWS($A$1:C24)>COUNTIF(Main!$C$8:$C$100,$C$7),\"\",INDEX(Main!D$8:D$100,SMALL(IF(Main!D$8:D$100<>\"\",IF(Main!$C$8:$C$100=$C$7,ROW(D$8:D$100)-ROW(D$8)+1)),ROWS($A$1:C24))))","v":""},{"$f":"IF(ROWS($A$1:D24)>COUNTIF(Main!$C$8:$C$100,$C$7),\"\",INDEX(Main!E$8:E$100,SMALL(IF(Main!E$8:E$100<>\"\",IF(Main!$C$8:$C$100=$C$7,ROW(E$8:E$100)-ROW(E$8)+1)),ROWS($A$1:D24))))","v":""},{"$f":"IF(ROWS($A$1:E24)>COUNTIF(Main!$C$8:$C$100,$C$7),\"\",INDEX(Main!F$8:F$100,SMALL(IF(Main!F$8:F$100<>\"\",IF(Main!$C$8:$C$100=$C$7,ROW(F$8:F$100)-ROW(F$8)+1)),ROWS($A$1:E24))))","v":""},{"$f":"IF(ROWS($A$1:F24)>COUNTIF(Main!$C$8:$C$100,$C$7),\"\",INDEX(Main!G$8:G$100,SMALL(IF(Main!G$8:G$100<>\"\",IF(Main!$C$8:$C$100=$C$7,ROW(G$8:G$100)-ROW(G$8)+1)),ROWS($A$1:F24))))","v":""},{"$f":"IF(ROWS($A$1:G24)>COUNTIF(Main!$C$8:$C$100,$C$7),\"\",INDEX(Main!H$8:H$100,SMALL(IF(Main!H$8:H$100<>\"\",IF(Main!$C$8:$C$100=$C$7,ROW(H$8:H$100)-ROW(H$8)+1)),ROWS($A$1:G24))))","v":""},{"$f":"IF(ROWS($A$1:H24)>COUNTIF(Main!$C$8:$C$100,$C$7),\"\",INDEX(Main!I$8:I$100,SMALL(IF(Main!I$8:I$100<>\"\",IF(Main!$C$8:$C$100=$C$7,ROW(I$8:I$100)-ROW(I$8)+1)),ROWS($A$1:H24))))","v":""},{"$f":"IF(ROWS($A$1:I24)>COUNTIF(Main!$C$8:$C$100,$C$7),\"\",INDEX(Main!J$8:J$100,SMALL(IF(Main!J$8:J$100<>\"\",IF(Main!$C$8:$C$100=$C$7,ROW(J$8:J$100)-ROW(J$8)+1)),ROWS($A$1:I24))))","v":""},"",{"$f":"IF(ROWS($A$1:K24)>COUNTIF(Main!$C$8:$C$100,$C$7),\"\",INDEX(Main!L$8:L$100,SMALL(IF(Main!L$8:L$100<>\"\",IF(Main!$C$8:$C$100=$C$7,ROW(L$8:L$100)-ROW(L$8)+1)),ROWS($A$1:K24))))","v":""}]
[{"$f":"IF(B32=\"\",\"\",MAX($A$7:A31)+1)","v":""},{"$f":"IF(ROWS($A$1:A25)>COUNTIF(Main!$C$8:$C$100,$C$7),\"\",INDEX(Main!B$8:B$100,SMALL(IF(Main!B$8:B$100<>\"\",IF(Main!$C$8:$C$100=$C$7,ROW(B$8:B$100)-ROW(B$8)+1)),ROWS($A$1:A25))))","v":""},{"$f":"IF(ROWS($A$1:B25)>COUNTIF(Main!$C$8:$C$100,$C$7),\"\",INDEX(Main!C$8:C$100,SMALL(IF(Main!C$8:C$100<>\"\",IF(Main!$C$8:$C$100=$C$7,ROW(C$8:C$100)-ROW(C$8)+1)),ROWS($A$1:B25))))","v":""},{"$f":"IF(ROWS($A$1:C25)>COUNTIF(Main!$C$8:$C$100,$C$7),\"\",INDEX(Main!D$8:D$100,SMALL(IF(Main!D$8:D$100<>\"\",IF(Main!$C$8:$C$100=$C$7,ROW(D$8:D$100)-ROW(D$8)+1)),ROWS($A$1:C25))))","v":""},{"$f":"IF(ROWS($A$1:D25)>COUNTIF(Main!$C$8:$C$100,$C$7),\"\",INDEX(Main!E$8:E$100,SMALL(IF(Main!E$8:E$100<>\"\",IF(Main!$C$8:$C$100=$C$7,ROW(E$8:E$100)-ROW(E$8)+1)),ROWS($A$1:D25))))","v":""},{"$f":"IF(ROWS($A$1:E25)>COUNTIF(Main!$C$8:$C$100,$C$7),\"\",INDEX(Main!F$8:F$100,SMALL(IF(Main!F$8:F$100<>\"\",IF(Main!$C$8:$C$100=$C$7,ROW(F$8:F$100)-ROW(F$8)+1)),ROWS($A$1:E25))))","v":""},{"$f":"IF(ROWS($A$1:F25)>COUNTIF(Main!$C$8:$C$100,$C$7),\"\",INDEX(Main!G$8:G$100,SMALL(IF(Main!G$8:G$100<>\"\",IF(Main!$C$8:$C$100=$C$7,ROW(G$8:G$100)-ROW(G$8)+1)),ROWS($A$1:F25))))","v":""},{"$f":"IF(ROWS($A$1:G25)>COUNTIF(Main!$C$8:$C$100,$C$7),\"\",INDEX(Main!H$8:H$100,SMALL(IF(Main!H$8:H$100<>\"\",IF(Main!$C$8:$C$100=$C$7,ROW(H$8:H$100)-ROW(H$8)+1)),ROWS($A$1:G25))))","v":""},{"$f":"IF(ROWS($A$1:H25)>COUNTIF(Main!$C$8:$C$100,$C$7),\"\",INDEX(Main!I$8:I$100,SMALL(IF(Main!I$8:I$100<>\"\",IF(Main!$C$8:$C$100=$C$7,ROW(I$8:I$100)-ROW(I$8)+1)),ROWS($A$1:H25))))","v":""},{"$f":"IF(ROWS($A$1:I25)>COUNTIF(Main!$C$8:$C$100,$C$7),\"\",INDEX(Main!J$8:J$100,SMALL(IF(Main!J$8:J$100<>\"\",IF(Main!$C$8:$C$100=$C$7,ROW(J$8:J$100)-ROW(J$8)+1)),ROWS($A$1:I25))))","v":""},"",{"$f":"IF(ROWS($A$1:K25)>COUNTIF(Main!$C$8:$C$100,$C$7),\"\",INDEX(Main!L$8:L$100,SMALL(IF(Main!L$8:L$100<>\"\",IF(Main!$C$8:$C$100=$C$7,ROW(L$8:L$100)-ROW(L$8)+1)),ROWS($A$1:K25))))","v":""}]
[{"$f":"IF(B33=\"\",\"\",MAX($A$7:A32)+1)","v":""},{"$f":"IF(ROWS($A$1:A26)>COUNTIF(Main!$C$8:$C$100,$C$7),\"\",INDEX(Main!B$8:B$100,SMALL(IF(Main!B$8:B$100<>\"\",IF(Main!$C$8:$C$100=$C$7,ROW(B$8:B$100)-ROW(B$8)+1)),ROWS($A$1:A26))))","v":""},{"$f":"IF(ROWS($A$1:B26)>COUNTIF(Main!$C$8:$C$100,$C$7),\"\",INDEX(Main!C$8:C$100,SMALL(IF(Main!C$8:C$100<>\"\",IF(Main!$C$8:$C$100=$C$7,ROW(C$8:C$100)-ROW(C$8)+1)),ROWS($A$1:B26))))","v":""},{"$f":"IF(ROWS($A$1:C26)>COUNTIF(Main!$C$8:$C$100,$C$7),\"\",INDEX(Main!D$8:D$100,SMALL(IF(Main!D$8:D$100<>\"\",IF(Main!$C$8:$C$100=$C$7,ROW(D$8:D$100)-ROW(D$8)+1)),ROWS($A$1:C26))))","v":""},{"$f":"IF(ROWS($A$1:D26)>COUNTIF(Main!$C$8:$C$100,$C$7),\"\",INDEX(Main!E$8:E$100,SMALL(IF(Main!E$8:E$100<>\"\",IF(Main!$C$8:$C$100=$C$7,ROW(E$8:E$100)-ROW(E$8)+1)),ROWS($A$1:D26))))","v":""},{"$f":"IF(ROWS($A$1:E26)>COUNTIF(Main!$C$8:$C$100,$C$7),\"\",INDEX(Main!F$8:F$100,SMALL(IF(Main!F$8:F$100<>\"\",IF(Main!$C$8:$C$100=$C$7,ROW(F$8:F$100)-ROW(F$8)+1)),ROWS($A$1:E26))))","v":""},{"$f":"IF(ROWS($A$1:F26)>COUNTIF(Main!$C$8:$C$100,$C$7),\"\",INDEX(Main!G$8:G$100,SMALL(IF(Main!G$8:G$100<>\"\",IF(Main!$C$8:$C$100=$C$7,ROW(G$8:G$100)-ROW(G$8)+1)),ROWS($A$1:F26))))","v":""},{"$f":"IF(ROWS($A$1:G26)>COUNTIF(Main!$C$8:$C$100,$C$7),\"\",INDEX(Main!H$8:H$100,SMALL(IF(Main!H$8:H$100<>\"\",IF(Main!$C$8:$C$100=$C$7,ROW(H$8:H$100)-ROW(H$8)+1)),ROWS($A$1:G26))))","v":""},{"$f":"IF(ROWS($A$1:H26)>COUNTIF(Main!$C$8:$C$100,$C$7),\"\",INDEX(Main!I$8:I$100,SMALL(IF(Main!I$8:I$100<>\"\",IF(Main!$C$8:$C$100=$C$7,ROW(I$8:I$100)-ROW(I$8)+1)),ROWS($A$1:H26))))","v":""},{"$f":"IF(ROWS($A$1:I26)>COUNTIF(Main!$C$8:$C$100,$C$7),\"\",INDEX(Main!J$8:J$100,SMALL(IF(Main!J$8:J$100<>\"\",IF(Main!$C$8:$C$100=$C$7,ROW(J$8:J$100)-ROW(J$8)+1)),ROWS($A$1:I26))))","v":""},"",{"$f":"IF(ROWS($A$1:K26)>COUNTIF(Main!$C$8:$C$100,$C$7),\"\",INDEX(Main!L$8:L$100,SMALL(IF(Main!L$8:L$100<>\"\",IF(Main!$C$8:$C$100=$C$7,ROW(L$8:L$100)-ROW(L$8)+1)),ROWS($A$1:K26))))","v":""}]
[{"$f":"IF(B34=\"\",\"\",MAX($A$7:A33)+1)","v":""},{"$f":"IF(ROWS($A$1:A27)>COUNTIF(Main!$C$8:$C$100,$C$7),\"\",INDEX(Main!B$8:B$100,SMALL(IF(Main!B$8:B$100<>\"\",IF(Main!$C$8:$C$100=$C$7,ROW(B$8:B$100)-ROW(B$8)+1)),ROWS($A$1:A27))))","v":""},{"$f":"IF(ROWS($A$1:B27)>COUNTIF(Main!$C$8:$C$100,$C$7),\"\",INDEX(Main!C$8:C$100,SMALL(IF(Main!C$8:C$100<>\"\",IF(Main!$C$8:$C$100=$C$7,ROW(C$8:C$100)-ROW(C$8)+1)),ROWS($A$1:B27))))","v":""},{"$f":"IF(ROWS($A$1:C27)>COUNTIF(Main!$C$8:$C$100,$C$7),\"\",INDEX(Main!D$8:D$100,SMALL(IF(Main!D$8:D$100<>\"\",IF(Main!$C$8:$C$100=$C$7,ROW(D$8:D$100)-ROW(D$8)+1)),ROWS($A$1:C27))))","v":""},{"$f":"IF(ROWS($A$1:D27)>COUNTIF(Main!$C$8:$C$100,$C$7),\"\",INDEX(Main!E$8:E$100,SMALL(IF(Main!E$8:E$100<>\"\",IF(Main!$C$8:$C$100=$C$7,ROW(E$8:E$100)-ROW(E$8)+1)),ROWS($A$1:D27))))","v":""},{"$f":"IF(ROWS($A$1:E27)>COUNTIF(Main!$C$8:$C$100,$C$7),\"\",INDEX(Main!F$8:F$100,SMALL(IF(Main!F$8:F$100<>\"\",IF(Main!$C$8:$C$100=$C$7,ROW(F$8:F$100)-ROW(F$8)+1)),ROWS($A$1:E27))))","v":""},{"$f":"IF(ROWS($A$1:F27)>COUNTIF(Main!$C$8:$C$100,$C$7),\"\",INDEX(Main!G$8:G$100,SMALL(IF(Main!G$8:G$100<>\"\",IF(Main!$C$8:$C$100=$C$7,ROW(G$8:G$100)-ROW(G$8)+1)),ROWS($A$1:F27))))","v":""},{"$f":"IF(ROWS($A$1:G27)>COUNTIF(Main!$C$8:$C$100,$C$7),\"\",INDEX(Main!H$8:H$100,SMALL(IF(Main!H$8:H$100<>\"\",IF(Main!$C$8:$C$100=$C$7,ROW(H$8:H$100)-ROW(H$8)+1)),ROWS($A$1:G27))))","v":""},{"$f":"IF(ROWS($A$1:H27)>COUNTIF(Main!$C$8:$C$100,$C$7),\"\",INDEX(Main!I$8:I$100,SMALL(IF(Main!I$8:I$100<>\"\",IF(Main!$C$8:$C$100=$C$7,ROW(I$8:I$100)-ROW(I$8)+1)),ROWS($A$1:H27))))","v":""},{"$f":"IF(ROWS($A$1:I27)>COUNTIF(Main!$C$8:$C$100,$C$7),\"\",INDEX(Main!J$8:J$100,SMALL(IF(Main!J$8:J$100<>\"\",IF(Main!$C$8:$C$100=$C$7,ROW(J$8:J$100)-ROW(J$8)+1)),ROWS($A$1:I27))))","v":""},"",{"$f":"IF(ROWS($A$1:K27)>COUNTIF(Main!$C$8:$C$100,$C$7),\"\",INDEX(Main!L$8:L$100,SMALL(IF(Main!L$8:L$100<>\"\",IF(Main!$C$8:$C$100=$C$7,ROW(L$8:L$100)-ROW(L$8)+1)),ROWS($A$1:K27))))","v":""}]
[{"$f":"IF(B35=\"\",\"\",MAX($A$7:A34)+1)","v":""},{"$f":"IF(ROWS($A$1:A28)>COUNTIF(Main!$C$8:$C$100,$C$7),\"\",INDEX(Main!B$8:B$100,SMALL(IF(Main!B$8:B$100<>\"\",IF(Main!$C$8:$C$100=$C$7,ROW(B$8:B$100)-ROW(B$8)+1)),ROWS($A$1:A28))))","v":""},{"$f":"IF(ROWS($A$1:B28)>COUNTIF(Main!$C$8:$C$100,$C$7),\"\",INDEX(Main!C$8:C$100,SMALL(IF(Main!C$8:C$100<>\"\",IF(Main!$C$8:$C$100=$C$7,ROW(C$8:C$100)-ROW(C$8)+1)),ROWS($A$1:B28))))","v":""},{"$f":"IF(ROWS($A$1:C28)>COUNTIF(Main!$C$8:$C$100,$C$7),\"\",INDEX(Main!D$8:D$100,SMALL(IF(Main!D$8:D$100<>\"\",IF(Main!$C$8:$C$100=$C$7,ROW(D$8:D$100)-ROW(D$8)+1)),ROWS($A$1:C28))))","v":""},{"$f":"IF(ROWS($A$1:D28)>COUNTIF(Main!$C$8:$C$100,$C$7),\"\",INDEX(Main!E$8:E$100,SMALL(IF(Main!E$8:E$100<>\"\",IF(Main!$C$8:$C$100=$C$7,ROW(E$8:E$100)-ROW(E$8)+1)),ROWS($A$1:D28))))","v":""},{"$f":"IF(ROWS($A$1:E28)>COUNTIF(Main!$C$8:$C$100,$C$7),\"\",INDEX(Main!F$8:F$100,SMALL(IF(Main!F$8:F$100<>\"\",IF(Main!$C$8:$C$100=$C$7,ROW(F$8:F$100)-ROW(F$8)+1)),ROWS($A$1:E28))))","v":""},{"$f":"IF(ROWS($A$1:F28)>COUNTIF(Main!$C$8:$C$100,$C$7),\"\",INDEX(Main!G$8:G$100,SMALL(IF(Main!G$8:G$100<>\"\",IF(Main!$C$8:$C$100=$C$7,ROW(G$8:G$100)-ROW(G$8)+1)),ROWS($A$1:F28))))","v":""},{"$f":"IF(ROWS($A$1:G28)>COUNTIF(Main!$C$8:$C$100,$C$7),\"\",INDEX(Main!H$8:H$100,SMALL(IF(Main!H$8:H$100<>\"\",IF(Main!$C$8:$C$100=$C$7,ROW(H$8:H$100)-ROW(H$8)+1)),ROWS($A$1:G28))))","v":""},{"$f":"IF(ROWS($A$1:H28)>COUNTIF(Main!$C$8:$C$100,$C$7),\"\",INDEX(Main!I$8:I$100,SMALL(IF(Main!I$8:I$100<>\"\",IF(Main!$C$8:$C$100=$C$7,ROW(I$8:I$100)-ROW(I$8)+1)),ROWS($A$1:H28))))","v":""},{"$f":"IF(ROWS($A$1:I28)>COUNTIF(Main!$C$8:$C$100,$C$7),\"\",INDEX(Main!J$8:J$100,SMALL(IF(Main!J$8:J$100<>\"\",IF(Main!$C$8:$C$100=$C$7,ROW(J$8:J$100)-ROW(J$8)+1)),ROWS($A$1:I28))))","v":""},"",{"$f":"IF(ROWS($A$1:K28)>COUNTIF(Main!$C$8:$C$100,$C$7),\"\",INDEX(Main!L$8:L$100,SMALL(IF(Main!L$8:L$100<>\"\",IF(Main!$C$8:$C$100=$C$7,ROW(L$8:L$100)-ROW(L$8)+1)),ROWS($A$1:K28))))","v":""}]
[{"$f":"IF(B36=\"\",\"\",MAX($A$7:A35)+1)","v":""},{"$f":"IF(ROWS($A$1:A29)>COUNTIF(Main!$C$8:$C$100,$C$7),\"\",INDEX(Main!B$8:B$100,SMALL(IF(Main!B$8:B$100<>\"\",IF(Main!$C$8:$C$100=$C$7,ROW(B$8:B$100)-ROW(B$8)+1)),ROWS($A$1:A29))))","v":""},{"$f":"IF(ROWS($A$1:B29)>COUNTIF(Main!$C$8:$C$100,$C$7),\"\",INDEX(Main!C$8:C$100,SMALL(IF(Main!C$8:C$100<>\"\",IF(Main!$C$8:$C$100=$C$7,ROW(C$8:C$100)-ROW(C$8)+1)),ROWS($A$1:B29))))","v":""},{"$f":"IF(ROWS($A$1:C29)>COUNTIF(Main!$C$8:$C$100,$C$7),\"\",INDEX(Main!D$8:D$100,SMALL(IF(Main!D$8:D$100<>\"\",IF(Main!$C$8:$C$100=$C$7,ROW(D$8:D$100)-ROW(D$8)+1)),ROWS($A$1:C29))))","v":""},{"$f":"IF(ROWS($A$1:D29)>COUNTIF(Main!$C$8:$C$100,$C$7),\"\",INDEX(Main!E$8:E$100,SMALL(IF(Main!E$8:E$100<>\"\",IF(Main!$C$8:$C$100=$C$7,ROW(E$8:E$100)-ROW(E$8)+1)),ROWS($A$1:D29))))","v":""},{"$f":"IF(ROWS($A$1:E29)>COUNTIF(Main!$C$8:$C$100,$C$7),\"\",INDEX(Main!F$8:F$100,SMALL(IF(Main!F$8:F$100<>\"\",IF(Main!$C$8:$C$100=$C$7,ROW(F$8:F$100)-ROW(F$8)+1)),ROWS($A$1:E29))))","v":""},{"$f":"IF(ROWS($A$1:F29)>COUNTIF(Main!$C$8:$C$100,$C$7),\"\",INDEX(Main!G$8:G$100,SMALL(IF(Main!G$8:G$100<>\"\",IF(Main!$C$8:$C$100=$C$7,ROW(G$8:G$100)-ROW(G$8)+1)),ROWS($A$1:F29))))","v":""},{"$f":"IF(ROWS($A$1:G29)>COUNTIF(Main!$C$8:$C$100,$C$7),\"\",INDEX(Main!H$8:H$100,SMALL(IF(Main!H$8:H$100<>\"\",IF(Main!$C$8:$C$100=$C$7,ROW(H$8:H$100)-ROW(H$8)+1)),ROWS($A$1:G29))))","v":""},{"$f":"IF(ROWS($A$1:H29)>COUNTIF(Main!$C$8:$C$100,$C$7),\"\",INDEX(Main!I$8:I$100,SMALL(IF(Main!I$8:I$100<>\"\",IF(Main!$C$8:$C$100=$C$7,ROW(I$8:I$100)-ROW(I$8)+1)),ROWS($A$1:H29))))","v":""},{"$f":"IF(ROWS($A$1:I29)>COUNTIF(Main!$C$8:$C$100,$C$7),\"\",INDEX(Main!J$8:J$100,SMALL(IF(Main!J$8:J$100<>\"\",IF(Main!$C$8:$C$100=$C$7,ROW(J$8:J$100)-ROW(J$8)+1)),ROWS($A$1:I29))))","v":""},"",{"$f":"IF(ROWS($A$1:K29)>COUNTIF(Main!$C$8:$C$100,$C$7),\"\",INDEX(Main!L$8:L$100,SMALL(IF(Main!L$8:L$100<>\"\",IF(Main!$C$8:$C$100=$C$7,ROW(L$8:L$100)-ROW(L$8)+1)),ROWS($A$1:K29))))","v":""}]
[{"$f":"IF(B37=\"\",\"\",MAX($A$7:A36)+1)","v":""},{"$f":"IF(ROWS($A$1:A30)>COUNTIF(Main!$C$8:$C$100,$C$7),\"\",INDEX(Main!B$8:B$100,SMALL(IF(Main!B$8:B$100<>\"\",IF(Main!$C$8:$C$100=$C$7,ROW(B$8:B$100)-ROW(B$8)+1)),ROWS($A$1:A30))))","v":""},{"$f":"IF(ROWS($A$1:B30)>COUNTIF(Main!$C$8:$C$100,$C$7),\"\",INDEX(Main!C$8:C$100,SMALL(IF(Main!C$8:C$100<>\"\",IF(Main!$C$8:$C$100=$C$7,ROW(C$8:C$100)-ROW(C$8)+1)),ROWS($A$1:B30))))","v":""},{"$f":"IF(ROWS($A$1:C30)>COUNTIF(Main!$C$8:$C$100,$C$7),\"\",INDEX(Main!D$8:D$100,SMALL(IF(Main!D$8:D$100<>\"\",IF(Main!$C$8:$C$100=$C$7,ROW(D$8:D$100)-ROW(D$8)+1)),ROWS($A$1:C30))))","v":""},{"$f":"IF(ROWS($A$1:D30)>COUNTIF(Main!$C$8:$C$100,$C$7),\"\",INDEX(Main!E$8:E$100,SMALL(IF(Main!E$8:E$100<>\"\",IF(Main!$C$8:$C$100=$C$7,ROW(E$8:E$100)-ROW(E$8)+1)),ROWS($A$1:D30))))","v":""},{"$f":"IF(ROWS($A$1:E30)>COUNTIF(Main!$C$8:$C$100,$C$7),\"\",INDEX(Main!F$8:F$100,SMALL(IF(Main!F$8:F$100<>\"\",IF(Main!$C$8:$C$100=$C$7,ROW(F$8:F$100)-ROW(F$8)+1)),ROWS($A$1:E30))))","v":""},{"$f":"IF(ROWS($A$1:F30)>COUNTIF(Main!$C$8:$C$100,$C$7),\"\",INDEX(Main!G$8:G$100,SMALL(IF(Main!G$8:G$100<>\"\",IF(Main!$C$8:$C$100=$C$7,ROW(G$8:G$100)-ROW(G$8)+1)),ROWS($A$1:F30))))","v":""},{"$f":"IF(ROWS($A$1:G30)>COUNTIF(Main!$C$8:$C$100,$C$7),\"\",INDEX(Main!H$8:H$100,SMALL(IF(Main!H$8:H$100<>\"\",IF(Main!$C$8:$C$100=$C$7,ROW(H$8:H$100)-ROW(H$8)+1)),ROWS($A$1:G30))))","v":""},{"$f":"IF(ROWS($A$1:H30)>COUNTIF(Main!$C$8:$C$100,$C$7),\"\",INDEX(Main!I$8:I$100,SMALL(IF(Main!I$8:I$100<>\"\",IF(Main!$C$8:$C$100=$C$7,ROW(I$8:I$100)-ROW(I$8)+1)),ROWS($A$1:H30))))","v":""},{"$f":"IF(ROWS($A$1:I30)>COUNTIF(Main!$C$8:$C$100,$C$7),\"\",INDEX(Main!J$8:J$100,SMALL(IF(Main!J$8:J$100<>\"\",IF(Main!$C$8:$C$100=$C$7,ROW(J$8:J$100)-ROW(J$8)+1)),ROWS($A$1:I30))))","v":""},"",{"$f":"IF(ROWS($A$1:K30)>COUNTIF(Main!$C$8:$C$100,$C$7),\"\",INDEX(Main!L$8:L$100,SMALL(IF(Main!L$8:L$100<>\"\",IF(Main!$C$8:$C$100=$C$7,ROW(L$8:L$100)-ROW(L$8)+1)),ROWS($A$1:K30))))","v":""}]
[{"$f":"IF(B38=\"\",\"\",MAX($A$7:A37)+1)","v":""},{"$f":"IF(ROWS($A$1:A31)>COUNTIF(Main!$C$8:$C$100,$C$7),\"\",INDEX(Main!B$8:B$100,SMALL(IF(Main!B$8:B$100<>\"\",IF(Main!$C$8:$C$100=$C$7,ROW(B$8:B$100)-ROW(B$8)+1)),ROWS($A$1:A31))))","v":""},{"$f":"IF(ROWS($A$1:B31)>COUNTIF(Main!$C$8:$C$100,$C$7),\"\",INDEX(Main!C$8:C$100,SMALL(IF(Main!C$8:C$100<>\"\",IF(Main!$C$8:$C$100=$C$7,ROW(C$8:C$100)-ROW(C$8)+1)),ROWS($A$1:B31))))","v":""},{"$f":"IF(ROWS($A$1:C31)>COUNTIF(Main!$C$8:$C$100,$C$7),\"\",INDEX(Main!D$8:D$100,SMALL(IF(Main!D$8:D$100<>\"\",IF(Main!$C$8:$C$100=$C$7,ROW(D$8:D$100)-ROW(D$8)+1)),ROWS($A$1:C31))))","v":""},{"$f":"IF(ROWS($A$1:D31)>COUNTIF(Main!$C$8:$C$100,$C$7),\"\",INDEX(Main!E$8:E$100,SMALL(IF(Main!E$8:E$100<>\"\",IF(Main!$C$8:$C$100=$C$7,ROW(E$8:E$100)-ROW(E$8)+1)),ROWS($A$1:D31))))","v":""},{"$f":"IF(ROWS($A$1:E31)>COUNTIF(Main!$C$8:$C$100,$C$7),\"\",INDEX(Main!F$8:F$100,SMALL(IF(Main!F$8:F$100<>\"\",IF(Main!$C$8:$C$100=$C$7,ROW(F$8:F$100)-ROW(F$8)+1)),ROWS($A$1:E31))))","v":""},{"$f":"IF(ROWS($A$1:F31)>COUNTIF(Main!$C$8:$C$100,$C$7),\"\",INDEX(Main!G$8:G$100,SMALL(IF(Main!G$8:G$100<>\"\",IF(Main!$C$8:$C$100=$C$7,ROW(G$8:G$100)-ROW(G$8)+1)),ROWS($A$1:F31))))","v":""},{"$f":"IF(ROWS($A$1:G31)>COUNTIF(Main!$C$8:$C$100,$C$7),\"\",INDEX(Main!H$8:H$100,SMALL(IF(Main!H$8:H$100<>\"\",IF(Main!$C$8:$C$100=$C$7,ROW(H$8:H$100)-ROW(H$8)+1)),ROWS($A$1:G31))))","v":""},{"$f":"IF(ROWS($A$1:H31)>COUNTIF(Main!$C$8:$C$100,$C$7),\"\",INDEX(Main!I$8:I$100,SMALL(IF(Main!I$8:I$100<>\"\",IF(Main!$C$8:$C$100=$C$7,ROW(I$8:I$100)-ROW(I$8)+1)),ROWS($A$1:H31))))","v":""},{"$f":"IF(ROWS($A$1:I31)>COUNTIF(Main!$C$8:$C$100,$C$7),\"\",INDEX(Main!J$8:J$100,SMALL(IF(Main!J$8:J$100<>\"\",IF(Main!$C$8:$C$100=$C$7,ROW(J$8:J$100)-ROW(J$8)+1)),ROWS($A$1:I31))))","v":""},"",{"$f":"IF(ROWS($A$1:K31)>COUNTIF(Main!$C$8:$C$100,$C$7),\"\",INDEX(Main!L$8:L$100,SMALL(IF(Main!L$8:L$100<>\"\",IF(Main!$C$8:$C$100=$C$7,ROW(L$8:L$100)-ROW(L$8)+1)),ROWS($A$1:K31))))","v":""}]
[{"$f":"IF(B39=\"\",\"\",MAX($A$7:A38)+1)","v":""},{"$f":"IF(ROWS($A$1:A32)>COUNTIF(Main!$C$8:$C$100,$C$7),\"\",INDEX(Main!B$8:B$100,SMALL(IF(Main!B$8:B$100<>\"\",IF(Main!$C$8:$C$100=$C$7,ROW(B$8:B$100)-ROW(B$8)+1)),ROWS($A$1:A32))))","v":""},{"$f":"IF(ROWS($A$1:B32)>COUNTIF(Main!$C$8:$C$100,$C$7),\"\",INDEX(Main!C$8:C$100,SMALL(IF(Main!C$8:C$100<>\"\",IF(Main!$C$8:$C$100=$C$7,ROW(C$8:C$100)-ROW(C$8)+1)),ROWS($A$1:B32))))","v":""},{"$f":"IF(ROWS($A$1:C32)>COUNTIF(Main!$C$8:$C$100,$C$7),\"\",INDEX(Main!D$8:D$100,SMALL(IF(Main!D$8:D$100<>\"\",IF(Main!$C$8:$C$100=$C$7,ROW(D$8:D$100)-ROW(D$8)+1)),ROWS($A$1:C32))))","v":""},{"$f":"IF(ROWS($A$1:D32)>COUNTIF(Main!$C$8:$C$100,$C$7),\"\",INDEX(Main!E$8:E$100,SMALL(IF(Main!E$8:E$100<>\"\",IF(Main!$C$8:$C$100=$C$7,ROW(E$8:E$100)-ROW(E$8)+1)),ROWS($A$1:D32))))","v":""},{"$f":"IF(ROWS($A$1:E32)>COUNTIF(Main!$C$8:$C$100,$C$7),\"\",INDEX(Main!F$8:F$100,SMALL(IF(Main!F$8:F$100<>\"\",IF(Main!$C$8:$C$100=$C$7,ROW(F$8:F$100)-ROW(F$8)+1)),ROWS($A$1:E32))))","v":""},{"$f":"IF(ROWS($A$1:F32)>COUNTIF(Main!$C$8:$C$100,$C$7),\"\",INDEX(Main!G$8:G$100,SMALL(IF(Main!G$8:G$100<>\"\",IF(Main!$C$8:$C$100=$C$7,ROW(G$8:G$100)-ROW(G$8)+1)),ROWS($A$1:F32))))","v":""},{"$f":"IF(ROWS($A$1:G32)>COUNTIF(Main!$C$8:$C$100,$C$7),\"\",INDEX(Main!H$8:H$100,SMALL(IF(Main!H$8:H$100<>\"\",IF(Main!$C$8:$C$100=$C$7,ROW(H$8:H$100)-ROW(H$8)+1)),ROWS($A$1:G32))))","v":""},{"$f":"IF(ROWS($A$1:H32)>COUNTIF(Main!$C$8:$C$100,$C$7),\"\",INDEX(Main!I$8:I$100,SMALL(IF(Main!I$8:I$100<>\"\",IF(Main!$C$8:$C$100=$C$7,ROW(I$8:I$100)-ROW(I$8)+1)),ROWS($A$1:H32))))","v":""},{"$f":"IF(ROWS($A$1:I32)>COUNTIF(Main!$C$8:$C$100,$C$7),\"\",INDEX(Main!J$8:J$100,SMALL(IF(Main!J$8:J$100<>\"\",IF(Main!$C$8:$C$100=$C$7,ROW(J$8:J$100)-ROW(J$8)+1)),ROWS($A$1:I32))))","v":""},"",{"$f":"IF(ROWS($A$1:K32)>COUNTIF(Main!$C$8:$C$100,$C$7),\"\",INDEX(Main!L$8:L$100,SMALL(IF(Main!L$8:L$100<>\"\",IF(Main!$C$8:$C$100=$C$7,ROW(L$8:L$100)-ROW(L$8)+1)),ROWS($A$1:K32))))","v":""}]
[{"$f":"IF(B40=\"\",\"\",MAX($A$7:A39)+1)","v":""},{"$f":"IF(ROWS($A$1:A33)>COUNTIF(Main!$C$8:$C$100,$C$7),\"\",INDEX(Main!B$8:B$100,SMALL(IF(Main!B$8:B$100<>\"\",IF(Main!$C$8:$C$100=$C$7,ROW(B$8:B$100)-ROW(B$8)+1)),ROWS($A$1:A33))))","v":""},{"$f":"IF(ROWS($A$1:B33)>COUNTIF(Main!$C$8:$C$100,$C$7),\"\",INDEX(Main!C$8:C$100,SMALL(IF(Main!C$8:C$100<>\"\",IF(Main!$C$8:$C$100=$C$7,ROW(C$8:C$100)-ROW(C$8)+1)),ROWS($A$1:B33))))","v":""},{"$f":"IF(ROWS($A$1:C33)>COUNTIF(Main!$C$8:$C$100,$C$7),\"\",INDEX(Main!D$8:D$100,SMALL(IF(Main!D$8:D$100<>\"\",IF(Main!$C$8:$C$100=$C$7,ROW(D$8:D$100)-ROW(D$8)+1)),ROWS($A$1:C33))))","v":""},{"$f":"IF(ROWS($A$1:D33)>COUNTIF(Main!$C$8:$C$100,$C$7),\"\",INDEX(Main!E$8:E$100,SMALL(IF(Main!E$8:E$100<>\"\",IF(Main!$C$8:$C$100=$C$7,ROW(E$8:E$100)-ROW(E$8)+1)),ROWS($A$1:D33))))","v":""},{"$f":"IF(ROWS($A$1:E33)>COUNTIF(Main!$C$8:$C$100,$C$7),\"\",INDEX(Main!F$8:F$100,SMALL(IF(Main!F$8:F$100<>\"\",IF(Main!$C$8:$C$100=$C$7,ROW(F$8:F$100)-ROW(F$8)+1)),ROWS($A$1:E33))))","v":""},{"$f":"IF(ROWS($A$1:F33)>COUNTIF(Main!$C$8:$C$100,$C$7),\"\",INDEX(Main!G$8:G$100,SMALL(IF(Main!G$8:G$100<>\"\",IF(Main!$C$8:$C$100=$C$7,ROW(G$8:G$100)-ROW(G$8)+1)),ROWS($A$1:F33))))","v":""},{"$f":"IF(ROWS($A$1:G33)>COUNTIF(Main!$C$8:$C$100,$C$7),\"\",INDEX(Main!H$8:H$100,SMALL(IF(Main!H$8:H$100<>\"\",IF(Main!$C$8:$C$100=$C$7,ROW(H$8:H$100)-ROW(H$8)+1)),ROWS($A$1:G33))))","v":""},{"$f":"IF(ROWS($A$1:H33)>COUNTIF(Main!$C$8:$C$100,$C$7),\"\",INDEX(Main!I$8:I$100,SMALL(IF(Main!I$8:I$100<>\"\",IF(Main!$C$8:$C$100=$C$7,ROW(I$8:I$100)-ROW(I$8)+1)),ROWS($A$1:H33))))","v":""},{"$f":"IF(ROWS($A$1:I33)>COUNTIF(Main!$C$8:$C$100,$C$7),\"\",INDEX(Main!J$8:J$100,SMALL(IF(Main!J$8:J$100<>\"\",IF(Main!$C$8:$C$100=$C$7,ROW(J$8:J$100)-ROW(J$8)+1)),ROWS($A$1:I33))))","v":""},"",{"$f":"IF(ROWS($A$1:K33)>COUNTIF(Main!$C$8:$C$100,$C$7),\"\",INDEX(Main!L$8:L$100,SMALL(IF(Main!L$8:L$100<>\"\",IF(Main!$C$8:$C$100=$C$7,ROW(L$8:L$100)-ROW(L$8)+1)),ROWS($A$1:K33))))","v":""}]
[{"$f":"IF(B41=\"\",\"\",MAX($A$7:A40)+1)","v":""},{"$f":"IF(ROWS($A$1:A34)>COUNTIF(Main!$C$8:$C$100,$C$7),\"\",INDEX(Main!B$8:B$100,SMALL(IF(Main!B$8:B$100<>\"\",IF(Main!$C$8:$C$100=$C$7,ROW(B$8:B$100)-ROW(B$8)+1)),ROWS($A$1:A34))))","v":""},{"$f":"IF(ROWS($A$1:B34)>COUNTIF(Main!$C$8:$C$100,$C$7),\"\",INDEX(Main!C$8:C$100,SMALL(IF(Main!C$8:C$100<>\"\",IF(Main!$C$8:$C$100=$C$7,ROW(C$8:C$100)-ROW(C$8)+1)),ROWS($A$1:B34))))","v":""},{"$f":"IF(ROWS($A$1:C34)>COUNTIF(Main!$C$8:$C$100,$C$7),\"\",INDEX(Main!D$8:D$100,SMALL(IF(Main!D$8:D$100<>\"\",IF(Main!$C$8:$C$100=$C$7,ROW(D$8:D$100)-ROW(D$8)+1)),ROWS($A$1:C34))))","v":""},{"$f":"IF(ROWS($A$1:D34)>COUNTIF(Main!$C$8:$C$100,$C$7),\"\",INDEX(Main!E$8:E$100,SMALL(IF(Main!E$8:E$100<>\"\",IF(Main!$C$8:$C$100=$C$7,ROW(E$8:E$100)-ROW(E$8)+1)),ROWS($A$1:D34))))","v":""},{"$f":"IF(ROWS($A$1:E34)>COUNTIF(Main!$C$8:$C$100,$C$7),\"\",INDEX(Main!F$8:F$100,SMALL(IF(Main!F$8:F$100<>\"\",IF(Main!$C$8:$C$100=$C$7,ROW(F$8:F$100)-ROW(F$8)+1)),ROWS($A$1:E34))))","v":""},{"$f":"IF(ROWS($A$1:F34)>COUNTIF(Main!$C$8:$C$100,$C$7),\"\",INDEX(Main!G$8:G$100,SMALL(IF(Main!G$8:G$100<>\"\",IF(Main!$C$8:$C$100=$C$7,ROW(G$8:G$100)-ROW(G$8)+1)),ROWS($A$1:F34))))","v":""},{"$f":"IF(ROWS($A$1:G34)>COUNTIF(Main!$C$8:$C$100,$C$7),\"\",INDEX(Main!H$8:H$100,SMALL(IF(Main!H$8:H$100<>\"\",IF(Main!$C$8:$C$100=$C$7,ROW(H$8:H$100)-ROW(H$8)+1)),ROWS($A$1:G34))))","v":""},{"$f":"IF(ROWS($A$1:H34)>COUNTIF(Main!$C$8:$C$100,$C$7),\"\",INDEX(Main!I$8:I$100,SMALL(IF(Main!I$8:I$100<>\"\",IF(Main!$C$8:$C$100=$C$7,ROW(I$8:I$100)-ROW(I$8)+1)),ROWS($A$1:H34))))","v":""},{"$f":"IF(ROWS($A$1:I34)>COUNTIF(Main!$C$8:$C$100,$C$7),\"\",INDEX(Main!J$8:J$100,SMALL(IF(Main!J$8:J$100<>\"\",IF(Main!$C$8:$C$100=$C$7,ROW(J$8:J$100)-ROW(J$8)+1)),ROWS($A$1:I34))))","v":""},"",{"$f":"IF(ROWS($A$1:K34)>COUNTIF(Main!$C$8:$C$100,$C$7),\"\",INDEX(Main!L$8:L$100,SMALL(IF(Main!L$8:L$100<>\"\",IF(Main!$C$8:$C$100=$C$7,ROW(L$8:L$100)-ROW(L$8)+1)),ROWS($A$1:K34))))","v":""}]
[{"$f":"IF(B42=\"\",\"\",MAX($A$7:A41)+1)","v":""},{"$f":"IF(ROWS($A$1:A35)>COUNTIF(Main!$C$8:$C$100,$C$7),\"\",INDEX(Main!B$8:B$100,SMALL(IF(Main!B$8:B$100<>\"\",IF(Main!$C$8:$C$100=$C$7,ROW(B$8:B$100)-ROW(B$8)+1)),ROWS($A$1:A35))))","v":""},{"$f":"IF(ROWS($A$1:B35)>COUNTIF(Main!$C$8:$C$100,$C$7),\"\",INDEX(Main!C$8:C$100,SMALL(IF(Main!C$8:C$100<>\"\",IF(Main!$C$8:$C$100=$C$7,ROW(C$8:C$100)-ROW(C$8)+1)),ROWS($A$1:B35))))","v":""},{"$f":"IF(ROWS($A$1:C35)>COUNTIF(Main!$C$8:$C$100,$C$7),\"\",INDEX(Main!D$8:D$100,SMALL(IF(Main!D$8:D$100<>\"\",IF(Main!$C$8:$C$100=$C$7,ROW(D$8:D$100)-ROW(D$8)+1)),ROWS($A$1:C35))))","v":""},{"$f":"IF(ROWS($A$1:D35)>COUNTIF(Main!$C$8:$C$100,$C$7),\"\",INDEX(Main!E$8:E$100,SMALL(IF(Main!E$8:E$100<>\"\",IF(Main!$C$8:$C$100=$C$7,ROW(E$8:E$100)-ROW(E$8)+1)),ROWS($A$1:D35))))","v":""},{"$f":"IF(ROWS($A$1:E35)>COUNTIF(Main!$C$8:$C$100,$C$7),\"\",INDEX(Main!F$8:F$100,SMALL(IF(Main!F$8:F$100<>\"\",IF(Main!$C$8:$C$100=$C$7,ROW(F$8:F$100)-ROW(F$8)+1)),ROWS($A$1:E35))))","v":""},{"$f":"IF(ROWS($A$1:F35)>COUNTIF(Main!$C$8:$C$100,$C$7),\"\",INDEX(Main!G$8:G$100,SMALL(IF(Main!G$8:G$100<>\"\",IF(Main!$C$8:$C$100=$C$7,ROW(G$8:G$100)-ROW(G$8)+1)),ROWS($A$1:F35))))","v":""},{"$f":"IF(ROWS($A$1:G35)>COUNTIF(Main!$C$8:$C$100,$C$7),\"\",INDEX(Main!H$8:H$100,SMALL(IF(Main!H$8:H$100<>\"\",IF(Main!$C$8:$C$100=$C$7,ROW(H$8:H$100)-ROW(H$8)+1)),ROWS($A$1:G35))))","v":""},{"$f":"IF(ROWS($A$1:H35)>COUNTIF(Main!$C$8:$C$100,$C$7),\"\",INDEX(Main!I$8:I$100,SMALL(IF(Main!I$8:I$100<>\"\",IF(Main!$C$8:$C$100=$C$7,ROW(I$8:I$100)-ROW(I$8)+1)),ROWS($A$1:H35))))","v":""},{"$f":"IF(ROWS($A$1:I35)>COUNTIF(Main!$C$8:$C$100,$C$7),\"\",INDEX(Main!J$8:J$100,SMALL(IF(Main!J$8:J$100<>\"\",IF(Main!$C$8:$C$100=$C$7,ROW(J$8:J$100)-ROW(J$8)+1)),ROWS($A$1:I35))))","v":""},"",{"$f":"IF(ROWS($A$1:K35)>COUNTIF(Main!$C$8:$C$100,$C$7),\"\",INDEX(Main!L$8:L$100,SMALL(IF(Main!L$8:L$100<>\"\",IF(Main!$C$8:$C$100=$C$7,ROW(L$8:L$100)-ROW(L$8)+1)),ROWS($A$1:K35))))","v":""}]
[{"$f":"IF(B43=\"\",\"\",MAX($A$7:A42)+1)","v":""},{"$f":"IF(ROWS($A$1:A36)>COUNTIF(Main!$C$8:$C$100,$C$7),\"\",INDEX(Main!B$8:B$100,SMALL(IF(Main!B$8:B$100<>\"\",IF(Main!$C$8:$C$100=$C$7,ROW(B$8:B$100)-ROW(B$8)+1)),ROWS($A$1:A36))))","v":""},{"$f":"IF(ROWS($A$1:B36)>COUNTIF(Main!$C$8:$C$100,$C$7),\"\",INDEX(Main!C$8:C$100,SMALL(IF(Main!C$8:C$100<>\"\",IF(Main!$C$8:$C$100=$C$7,ROW(C$8:C$100)-ROW(C$8)+1)),ROWS($A$1:B36))))","v":""},{"$f":"IF(ROWS($A$1:C36)>COUNTIF(Main!$C$8:$C$100,$C$7),\"\",INDEX(Main!D$8:D$100,SMALL(IF(Main!D$8:D$100<>\"\",IF(Main!$C$8:$C$100=$C$7,ROW(D$8:D$100)-ROW(D$8)+1)),ROWS($A$1:C36))))","v":""},{"$f":"IF(ROWS($A$1:D36)>COUNTIF(Main!$C$8:$C$100,$C$7),\"\",INDEX(Main!E$8:E$100,SMALL(IF(Main!E$8:E$100<>\"\",IF(Main!$C$8:$C$100=$C$7,ROW(E$8:E$100)-ROW(E$8)+1)),ROWS($A$1:D36))))","v":""},{"$f":"IF(ROWS($A$1:E36)>COUNTIF(Main!$C$8:$C$100,$C$7),\"\",INDEX(Main!F$8:F$100,SMALL(IF(Main!F$8:F$100<>\"\",IF(Main!$C$8:$C$100=$C$7,ROW(F$8:F$100)-ROW(F$8)+1)),ROWS($A$1:E36))))","v":""},{"$f":"IF(ROWS($A$1:F36)>COUNTIF(Main!$C$8:$C$100,$C$7),\"\",INDEX(Main!G$8:G$100,SMALL(IF(Main!G$8:G$100<>\"\",IF(Main!$C$8:$C$100=$C$7,ROW(G$8:G$100)-ROW(G$8)+1)),ROWS($A$1:F36))))","v":""},{"$f":"IF(ROWS($A$1:G36)>COUNTIF(Main!$C$8:$C$100,$C$7),\"\",INDEX(Main!H$8:H$100,SMALL(IF(Main!H$8:H$100<>\"\",IF(Main!$C$8:$C$100=$C$7,ROW(H$8:H$100)-ROW(H$8)+1)),ROWS($A$1:G36))))","v":""},{"$f":"IF(ROWS($A$1:H36)>COUNTIF(Main!$C$8:$C$100,$C$7),\"\",INDEX(Main!I$8:I$100,SMALL(IF(Main!I$8:I$100<>\"\",IF(Main!$C$8:$C$100=$C$7,ROW(I$8:I$100)-ROW(I$8)+1)),ROWS($A$1:H36))))","v":""},{"$f":"IF(ROWS($A$1:I36)>COUNTIF(Main!$C$8:$C$100,$C$7),\"\",INDEX(Main!J$8:J$100,SMALL(IF(Main!J$8:J$100<>\"\",IF(Main!$C$8:$C$100=$C$7,ROW(J$8:J$100)-ROW(J$8)+1)),ROWS($A$1:I36))))","v":""},"",{"$f":"IF(ROWS($A$1:K36)>COUNTIF(Main!$C$8:$C$100,$C$7),\"\",INDEX(Main!L$8:L$100,SMALL(IF(Main!L$8:L$100<>\"\",IF(Main!$C$8:$C$100=$C$7,ROW(L$8:L$100)-ROW(L$8)+1)),ROWS($A$1:K36))))","v":""}]
[{"$f":"IF(B44=\"\",\"\",MAX($A$7:A43)+1)","v":""},{"$f":"IF(ROWS($A$1:A37)>COUNTIF(Main!$C$8:$C$100,$C$7),\"\",INDEX(Main!B$8:B$100,SMALL(IF(Main!B$8:B$100<>\"\",IF(Main!$C$8:$C$100=$C$7,ROW(B$8:B$100)-ROW(B$8)+1)),ROWS($A$1:A37))))","v":""},{"$f":"IF(ROWS($A$1:B37)>COUNTIF(Main!$C$8:$C$100,$C$7),\"\",INDEX(Main!C$8:C$100,SMALL(IF(Main!C$8:C$100<>\"\",IF(Main!$C$8:$C$100=$C$7,ROW(C$8:C$100)-ROW(C$8)+1)),ROWS($A$1:B37))))","v":""},{"$f":"IF(ROWS($A$1:C37)>COUNTIF(Main!$C$8:$C$100,$C$7),\"\",INDEX(Main!D$8:D$100,SMALL(IF(Main!D$8:D$100<>\"\",IF(Main!$C$8:$C$100=$C$7,ROW(D$8:D$100)-ROW(D$8)+1)),ROWS($A$1:C37))))","v":""},{"$f":"IF(ROWS($A$1:D37)>COUNTIF(Main!$C$8:$C$100,$C$7),\"\",INDEX(Main!E$8:E$100,SMALL(IF(Main!E$8:E$100<>\"\",IF(Main!$C$8:$C$100=$C$7,ROW(E$8:E$100)-ROW(E$8)+1)),ROWS($A$1:D37))))","v":""},{"$f":"IF(ROWS($A$1:E37)>COUNTIF(Main!$C$8:$C$100,$C$7),\"\",INDEX(Main!F$8:F$100,SMALL(IF(Main!F$8:F$100<>\"\",IF(Main!$C$8:$C$100=$C$7,ROW(F$8:F$100)-ROW(F$8)+1)),ROWS($A$1:E37))))","v":""},{"$f":"IF(ROWS($A$1:F37)>COUNTIF(Main!$C$8:$C$100,$C$7),\"\",INDEX(Main!G$8:G$100,SMALL(IF(Main!G$8:G$100<>\"\",IF(Main!$C$8:$C$100=$C$7,ROW(G$8:G$100)-ROW(G$8)+1)),ROWS($A$1:F37))))","v":""},{"$f":"IF(ROWS($A$1:G37)>COUNTIF(Main!$C$8:$C$100,$C$7),\"\",INDEX(Main!H$8:H$100,SMALL(IF(Main!H$8:H$100<>\"\",IF(Main!$C$8:$C$100=$C$7,ROW(H$8:H$100)-ROW(H$8)+1)),ROWS($A$1:G37))))","v":""},{"$f":"IF(ROWS($A$1:H37)>COUNTIF(Main!$C$8:$C$100,$C$7),\"\",INDEX(Main!I$8:I$100,SMALL(IF(Main!I$8:I$100<>\"\",IF(Main!$C$8:$C$100=$C$7,ROW(I$8:I$100)-ROW(I$8)+1)),ROWS($A$1:H37))))","v":""},{"$f":"IF(ROWS($A$1:I37)>COUNTIF(Main!$C$8:$C$100,$C$7),\"\",INDEX(Main!J$8:J$100,SMALL(IF(Main!J$8:J$100<>\"\",IF(Main!$C$8:$C$100=$C$7,ROW(J$8:J$100)-ROW(J$8)+1)),ROWS($A$1:I37))))","v":""},"",{"$f":"IF(ROWS($A$1:K37)>COUNTIF(Main!$C$8:$C$100,$C$7),\"\",INDEX(Main!L$8:L$100,SMALL(IF(Main!L$8:L$100<>\"\",IF(Main!$C$8:$C$100=$C$7,ROW(L$8:L$100)-ROW(L$8)+1)),ROWS($A$1:K37))))","v":""}]
[{"$f":"IF(B45=\"\",\"\",MAX($A$7:A44)+1)","v":""},{"$f":"IF(ROWS($A$1:A38)>COUNTIF(Main!$C$8:$C$100,$C$7),\"\",INDEX(Main!B$8:B$100,SMALL(IF(Main!B$8:B$100<>\"\",IF(Main!$C$8:$C$100=$C$7,ROW(B$8:B$100)-ROW(B$8)+1)),ROWS($A$1:A38))))","v":""},{"$f":"IF(ROWS($A$1:B38)>COUNTIF(Main!$C$8:$C$100,$C$7),\"\",INDEX(Main!C$8:C$100,SMALL(IF(Main!C$8:C$100<>\"\",IF(Main!$C$8:$C$100=$C$7,ROW(C$8:C$100)-ROW(C$8)+1)),ROWS($A$1:B38))))","v":""},{"$f":"IF(ROWS($A$1:C38)>COUNTIF(Main!$C$8:$C$100,$C$7),\"\",INDEX(Main!D$8:D$100,SMALL(IF(Main!D$8:D$100<>\"\",IF(Main!$C$8:$C$100=$C$7,ROW(D$8:D$100)-ROW(D$8)+1)),ROWS($A$1:C38))))","v":""},{"$f":"IF(ROWS($A$1:D38)>COUNTIF(Main!$C$8:$C$100,$C$7),\"\",INDEX(Main!E$8:E$100,SMALL(IF(Main!E$8:E$100<>\"\",IF(Main!$C$8:$C$100=$C$7,ROW(E$8:E$100)-ROW(E$8)+1)),ROWS($A$1:D38))))","v":""},{"$f":"IF(ROWS($A$1:E38)>COUNTIF(Main!$C$8:$C$100,$C$7),\"\",INDEX(Main!F$8:F$100,SMALL(IF(Main!F$8:F$100<>\"\",IF(Main!$C$8:$C$100=$C$7,ROW(F$8:F$100)-ROW(F$8)+1)),ROWS($A$1:E38))))","v":""},{"$f":"IF(ROWS($A$1:F38)>COUNTIF(Main!$C$8:$C$100,$C$7),\"\",INDEX(Main!G$8:G$100,SMALL(IF(Main!G$8:G$100<>\"\",IF(Main!$C$8:$C$100=$C$7,ROW(G$8:G$100)-ROW(G$8)+1)),ROWS($A$1:F38))))","v":""},{"$f":"IF(ROWS($A$1:G38)>COUNTIF(Main!$C$8:$C$100,$C$7),\"\",INDEX(Main!H$8:H$100,SMALL(IF(Main!H$8:H$100<>\"\",IF(Main!$C$8:$C$100=$C$7,ROW(H$8:H$100)-ROW(H$8)+1)),ROWS($A$1:G38))))","v":""},{"$f":"IF(ROWS($A$1:H38)>COUNTIF(Main!$C$8:$C$100,$C$7),\"\",INDEX(Main!I$8:I$100,SMALL(IF(Main!I$8:I$100<>\"\",IF(Main!$C$8:$C$100=$C$7,ROW(I$8:I$100)-ROW(I$8)+1)),ROWS($A$1:H38))))","v":""},{"$f":"IF(ROWS($A$1:I38)>COUNTIF(Main!$C$8:$C$100,$C$7),\"\",INDEX(Main!J$8:J$100,SMALL(IF(Main!J$8:J$100<>\"\",IF(Main!$C$8:$C$100=$C$7,ROW(J$8:J$100)-ROW(J$8)+1)),ROWS($A$1:I38))))","v":""},"",{"$f":"IF(ROWS($A$1:K38)>COUNTIF(Main!$C$8:$C$100,$C$7),\"\",INDEX(Main!L$8:L$100,SMALL(IF(Main!L$8:L$100<>\"\",IF(Main!$C$8:$C$100=$C$7,ROW(L$8:L$100)-ROW(L$8)+1)),ROWS($A$1:K38))))","v":""}]
[{"$f":"IF(B46=\"\",\"\",MAX($A$7:A45)+1)","v":""},{"$f":"IF(ROWS($A$1:A39)>COUNTIF(Main!$C$8:$C$100,$C$7),\"\",INDEX(Main!B$8:B$100,SMALL(IF(Main!B$8:B$100<>\"\",IF(Main!$C$8:$C$100=$C$7,ROW(B$8:B$100)-ROW(B$8)+1)),ROWS($A$1:A39))))","v":""},{"$f":"IF(ROWS($A$1:B39)>COUNTIF(Main!$C$8:$C$100,$C$7),\"\",INDEX(Main!C$8:C$100,SMALL(IF(Main!C$8:C$100<>\"\",IF(Main!$C$8:$C$100=$C$7,ROW(C$8:C$100)-ROW(C$8)+1)),ROWS($A$1:B39))))","v":""},{"$f":"IF(ROWS($A$1:C39)>COUNTIF(Main!$C$8:$C$100,$C$7),\"\",INDEX(Main!D$8:D$100,SMALL(IF(Main!D$8:D$100<>\"\",IF(Main!$C$8:$C$100=$C$7,ROW(D$8:D$100)-ROW(D$8)+1)),ROWS($A$1:C39))))","v":""},{"$f":"IF(ROWS($A$1:D39)>COUNTIF(Main!$C$8:$C$100,$C$7),\"\",INDEX(Main!E$8:E$100,SMALL(IF(Main!E$8:E$100<>\"\",IF(Main!$C$8:$C$100=$C$7,ROW(E$8:E$100)-ROW(E$8)+1)),ROWS($A$1:D39))))","v":""},{"$f":"IF(ROWS($A$1:E39)>COUNTIF(Main!$C$8:$C$100,$C$7),\"\",INDEX(Main!F$8:F$100,SMALL(IF(Main!F$8:F$100<>\"\",IF(Main!$C$8:$C$100=$C$7,ROW(F$8:F$100)-ROW(F$8)+1)),ROWS($A$1:E39))))","v":""},{"$f":"IF(ROWS($A$1:F39)>COUNTIF(Main!$C$8:$C$100,$C$7),\"\",INDEX(Main!G$8:G$100,SMALL(IF(Main!G$8:G$100<>\"\",IF(Main!$C$8:$C$100=$C$7,ROW(G$8:G$100)-ROW(G$8)+1)),ROWS($A$1:F39))))","v":""},{"$f":"IF(ROWS($A$1:G39)>COUNTIF(Main!$C$8:$C$100,$C$7),\"\",INDEX(Main!H$8:H$100,SMALL(IF(Main!H$8:H$100<>\"\",IF(Main!$C$8:$C$100=$C$7,ROW(H$8:H$100)-ROW(H$8)+1)),ROWS($A$1:G39))))","v":""},{"$f":"IF(ROWS($A$1:H39)>COUNTIF(Main!$C$8:$C$100,$C$7),\"\",INDEX(Main!I$8:I$100,SMALL(IF(Main!I$8:I$100<>\"\",IF(Main!$C$8:$C$100=$C$7,ROW(I$8:I$100)-ROW(I$8)+1)),ROWS($A$1:H39))))","v":""},{"$f":"IF(ROWS($A$1:I39)>COUNTIF(Main!$C$8:$C$100,$C$7),\"\",INDEX(Main!J$8:J$100,SMALL(IF(Main!J$8:J$100<>\"\",IF(Main!$C$8:$C$100=$C$7,ROW(J$8:J$100)-ROW(J$8)+1)),ROWS($A$1:I39))))","v":""},"",{"$f":"IF(ROWS($A$1:K39)>COUNTIF(Main!$C$8:$C$100,$C$7),\"\",INDEX(Main!L$8:L$100,SMALL(IF(Main!L$8:L$100<>\"\",IF(Main!$C$8:$C$100=$C$7,ROW(L$8:L$100)-ROW(L$8)+1)),ROWS($A$1:K39))))","v":""}]
[{"$f":"IF(B47=\"\",\"\",MAX($A$7:A46)+1)","v":""},{"$f":"IF(ROWS($A$1:A40)>COUNTIF(Main!$C$8:$C$100,$C$7),\"\",INDEX(Main!B$8:B$100,SMALL(IF(Main!B$8:B$100<>\"\",IF(Main!$C$8:$C$100=$C$7,ROW(B$8:B$100)-ROW(B$8)+1)),ROWS($A$1:A40))))","v":""},{"$f":"IF(ROWS($A$1:B40)>COUNTIF(Main!$C$8:$C$100,$C$7),\"\",INDEX(Main!C$8:C$100,SMALL(IF(Main!C$8:C$100<>\"\",IF(Main!$C$8:$C$100=$C$7,ROW(C$8:C$100)-ROW(C$8)+1)),ROWS($A$1:B40))))","v":""},{"$f":"IF(ROWS($A$1:C40)>COUNTIF(Main!$C$8:$C$100,$C$7),\"\",INDEX(Main!D$8:D$100,SMALL(IF(Main!D$8:D$100<>\"\",IF(Main!$C$8:$C$100=$C$7,ROW(D$8:D$100)-ROW(D$8)+1)),ROWS($A$1:C40))))","v":""},{"$f":"IF(ROWS($A$1:D40)>COUNTIF(Main!$C$8:$C$100,$C$7),\"\",INDEX(Main!E$8:E$100,SMALL(IF(Main!E$8:E$100<>\"\",IF(Main!$C$8:$C$100=$C$7,ROW(E$8:E$100)-ROW(E$8)+1)),ROWS($A$1:D40))))","v":""},{"$f":"IF(ROWS($A$1:E40)>COUNTIF(Main!$C$8:$C$100,$C$7),\"\",INDEX(Main!F$8:F$100,SMALL(IF(Main!F$8:F$100<>\"\",IF(Main!$C$8:$C$100=$C$7,ROW(F$8:F$100)-ROW(F$8)+1)),ROWS($A$1:E40))))","v":""},{"$f":"IF(ROWS($A$1:F40)>COUNTIF(Main!$C$8:$C$100,$C$7),\"\",INDEX(Main!G$8:G$100,SMALL(IF(Main!G$8:G$100<>\"\",IF(Main!$C$8:$C$100=$C$7,ROW(G$8:G$100)-ROW(G$8)+1)),ROWS($A$1:F40))))","v":""},{"$f":"IF(ROWS($A$1:G40)>COUNTIF(Main!$C$8:$C$100,$C$7),\"\",INDEX(Main!H$8:H$100,SMALL(IF(Main!H$8:H$100<>\"\",IF(Main!$C$8:$C$100=$C$7,ROW(H$8:H$100)-ROW(H$8)+1)),ROWS($A$1:G40))))","v":""},{"$f":"IF(ROWS($A$1:H40)>COUNTIF(Main!$C$8:$C$100,$C$7),\"\",INDEX(Main!I$8:I$100,SMALL(IF(Main!I$8:I$100<>\"\",IF(Main!$C$8:$C$100=$C$7,ROW(I$8:I$100)-ROW(I$8)+1)),ROWS($A$1:H40))))","v":""},{"$f":"IF(ROWS($A$1:I40)>COUNTIF(Main!$C$8:$C$100,$C$7),\"\",INDEX(Main!J$8:J$100,SMALL(IF(Main!J$8:J$100<>\"\",IF(Main!$C$8:$C$100=$C$7,ROW(J$8:J$100)-ROW(J$8)+1)),ROWS($A$1:I40))))","v":""},"",{"$f":"IF(ROWS($A$1:K40)>COUNTIF(Main!$C$8:$C$100,$C$7),\"\",INDEX(Main!L$8:L$100,SMALL(IF(Main!L$8:L$100<>\"\",IF(Main!$C$8:$C$100=$C$7,ROW(L$8:L$100)-ROW(L$8)+1)),ROWS($A$1:K40))))","v":""}]
[{"$f":"IF(B48=\"\",\"\",MAX($A$7:A47)+1)","v":""},{"$f":"IF(ROWS($A$1:A41)>COUNTIF(Main!$C$8:$C$100,$C$7),\"\",INDEX(Main!B$8:B$100,SMALL(IF(Main!B$8:B$100<>\"\",IF(Main!$C$8:$C$100=$C$7,ROW(B$8:B$100)-ROW(B$8)+1)),ROWS($A$1:A41))))","v":""},{"$f":"IF(ROWS($A$1:B41)>COUNTIF(Main!$C$8:$C$100,$C$7),\"\",INDEX(Main!C$8:C$100,SMALL(IF(Main!C$8:C$100<>\"\",IF(Main!$C$8:$C$100=$C$7,ROW(C$8:C$100)-ROW(C$8)+1)),ROWS($A$1:B41))))","v":""},{"$f":"IF(ROWS($A$1:C41)>COUNTIF(Main!$C$8:$C$100,$C$7),\"\",INDEX(Main!D$8:D$100,SMALL(IF(Main!D$8:D$100<>\"\",IF(Main!$C$8:$C$100=$C$7,ROW(D$8:D$100)-ROW(D$8)+1)),ROWS($A$1:C41))))","v":""},{"$f":"IF(ROWS($A$1:D41)>COUNTIF(Main!$C$8:$C$100,$C$7),\"\",INDEX(Main!E$8:E$100,SMALL(IF(Main!E$8:E$100<>\"\",IF(Main!$C$8:$C$100=$C$7,ROW(E$8:E$100)-ROW(E$8)+1)),ROWS($A$1:D41))))","v":""},{"$f":"IF(ROWS($A$1:E41)>COUNTIF(Main!$C$8:$C$100,$C$7),\"\",INDEX(Main!F$8:F$100,SMALL(IF(Main!F$8:F$100<>\"\",IF(Main!$C$8:$C$100=$C$7,ROW(F$8:F$100)-ROW(F$8)+1)),ROWS($A$1:E41))))","v":""},{"$f":"IF(ROWS($A$1:F41)>COUNTIF(Main!$C$8:$C$100,$C$7),\"\",INDEX(Main!G$8:G$100,SMALL(IF(Main!G$8:G$100<>\"\",IF(Main!$C$8:$C$100=$C$7,ROW(G$8:G$100)-ROW(G$8)+1)),ROWS($A$1:F41))))","v":""},{"$f":"IF(ROWS($A$1:G41)>COUNTIF(Main!$C$8:$C$100,$C$7),\"\",INDEX(Main!H$8:H$100,SMALL(IF(Main!H$8:H$100<>\"\",IF(Main!$C$8:$C$100=$C$7,ROW(H$8:H$100)-ROW(H$8)+1)),ROWS($A$1:G41))))","v":""},{"$f":"IF(ROWS($A$1:H41)>COUNTIF(Main!$C$8:$C$100,$C$7),\"\",INDEX(Main!I$8:I$100,SMALL(IF(Main!I$8:I$100<>\"\",IF(Main!$C$8:$C$100=$C$7,ROW(I$8:I$100)-ROW(I$8)+1)),ROWS($A$1:H41))))","v":""},{"$f":"IF(ROWS($A$1:I41)>COUNTIF(Main!$C$8:$C$100,$C$7),\"\",INDEX(Main!J$8:J$100,SMALL(IF(Main!J$8:J$100<>\"\",IF(Main!$C$8:$C$100=$C$7,ROW(J$8:J$100)-ROW(J$8)+1)),ROWS($A$1:I41))))","v":""},"",{"$f":"IF(ROWS($A$1:K41)>COUNTIF(Main!$C$8:$C$100,$C$7),\"\",INDEX(Main!L$8:L$100,SMALL(IF(Main!L$8:L$100<>\"\",IF(Main!$C$8:$C$100=$C$7,ROW(L$8:L$100)-ROW(L$8)+1)),ROWS($A$1:K41))))","v":""}]
[{"$f":"IF(B49=\"\",\"\",MAX($A$7:A48)+1)","v":""},{"$f":"IF(ROWS($A$1:A42)>COUNTIF(Main!$C$8:$C$100,$C$7),\"\",INDEX(Main!B$8:B$100,SMALL(IF(Main!B$8:B$100<>\"\",IF(Main!$C$8:$C$100=$C$7,ROW(B$8:B$100)-ROW(B$8)+1)),ROWS($A$1:A42))))","v":""},{"$f":"IF(ROWS($A$1:B42)>COUNTIF(Main!$C$8:$C$100,$C$7),\"\",INDEX(Main!C$8:C$100,SMALL(IF(Main!C$8:C$100<>\"\",IF(Main!$C$8:$C$100=$C$7,ROW(C$8:C$100)-ROW(C$8)+1)),ROWS($A$1:B42))))","v":""},{"$f":"IF(ROWS($A$1:C42)>COUNTIF(Main!$C$8:$C$100,$C$7),\"\",INDEX(Main!D$8:D$100,SMALL(IF(Main!D$8:D$100<>\"\",IF(Main!$C$8:$C$100=$C$7,ROW(D$8:D$100)-ROW(D$8)+1)),ROWS($A$1:C42))))","v":""},{"$f":"IF(ROWS($A$1:D42)>COUNTIF(Main!$C$8:$C$100,$C$7),\"\",INDEX(Main!E$8:E$100,SMALL(IF(Main!E$8:E$100<>\"\",IF(Main!$C$8:$C$100=$C$7,ROW(E$8:E$100)-ROW(E$8)+1)),ROWS($A$1:D42))))","v":""},{"$f":"IF(ROWS($A$1:E42)>COUNTIF(Main!$C$8:$C$100,$C$7),\"\",INDEX(Main!F$8:F$100,SMALL(IF(Main!F$8:F$100<>\"\",IF(Main!$C$8:$C$100=$C$7,ROW(F$8:F$100)-ROW(F$8)+1)),ROWS($A$1:E42))))","v":""},{"$f":"IF(ROWS($A$1:F42)>COUNTIF(Main!$C$8:$C$100,$C$7),\"\",INDEX(Main!G$8:G$100,SMALL(IF(Main!G$8:G$100<>\"\",IF(Main!$C$8:$C$100=$C$7,ROW(G$8:G$100)-ROW(G$8)+1)),ROWS($A$1:F42))))","v":""},{"$f":"IF(ROWS($A$1:G42)>COUNTIF(Main!$C$8:$C$100,$C$7),\"\",INDEX(Main!H$8:H$100,SMALL(IF(Main!H$8:H$100<>\"\",IF(Main!$C$8:$C$100=$C$7,ROW(H$8:H$100)-ROW(H$8)+1)),ROWS($A$1:G42))))","v":""},{"$f":"IF(ROWS($A$1:H42)>COUNTIF(Main!$C$8:$C$100,$C$7),\"\",INDEX(Main!I$8:I$100,SMALL(IF(Main!I$8:I$100<>\"\",IF(Main!$C$8:$C$100=$C$7,ROW(I$8:I$100)-ROW(I$8)+1)),ROWS($A$1:H42))))","v":""},{"$f":"IF(ROWS($A$1:I42)>COUNTIF(Main!$C$8:$C$100,$C$7),\"\",INDEX(Main!J$8:J$100,SMALL(IF(Main!J$8:J$100<>\"\",IF(Main!$C$8:$C$100=$C$7,ROW(J$8:J$100)-ROW(J$8)+1)),ROWS($A$1:I42))))","v":""},"",{"$f":"IF(ROWS($A$1:K42)>COUNTIF(Main!$C$8:$C$100,$C$7),\"\",INDEX(Main!L$8:L$100,SMALL(IF(Main!L$8:L$100<>\"\",IF(Main!$C$8:$C$100=$C$7,ROW(L$8:L$100)-ROW(L$8)+1)),ROWS($A$1:K42))))","v":""}]
[{"$f":"IF(B50=\"\",\"\",MAX($A$7:A49)+1)","v":""},{"$f":"IF(ROWS($A$1:A43)>COUNTIF(Main!$C$8:$C$100,$C$7),\"\",INDEX(Main!B$8:B$100,SMALL(IF(Main!B$8:B$100<>\"\",IF(Main!$C$8:$C$100=$C$7,ROW(B$8:B$100)-ROW(B$8)+1)),ROWS($A$1:A43))))","v":""},{"$f":"IF(ROWS($A$1:B43)>COUNTIF(Main!$C$8:$C$100,$C$7),\"\",INDEX(Main!C$8:C$100,SMALL(IF(Main!C$8:C$100<>\"\",IF(Main!$C$8:$C$100=$C$7,ROW(C$8:C$100)-ROW(C$8)+1)),ROWS($A$1:B43))))","v":""},{"$f":"IF(ROWS($A$1:C43)>COUNTIF(Main!$C$8:$C$100,$C$7),\"\",INDEX(Main!D$8:D$100,SMALL(IF(Main!D$8:D$100<>\"\",IF(Main!$C$8:$C$100=$C$7,ROW(D$8:D$100)-ROW(D$8)+1)),ROWS($A$1:C43))))","v":""},{"$f":"IF(ROWS($A$1:D43)>COUNTIF(Main!$C$8:$C$100,$C$7),\"\",INDEX(Main!E$8:E$100,SMALL(IF(Main!E$8:E$100<>\"\",IF(Main!$C$8:$C$100=$C$7,ROW(E$8:E$100)-ROW(E$8)+1)),ROWS($A$1:D43))))","v":""},{"$f":"IF(ROWS($A$1:E43)>COUNTIF(Main!$C$8:$C$100,$C$7),\"\",INDEX(Main!F$8:F$100,SMALL(IF(Main!F$8:F$100<>\"\",IF(Main!$C$8:$C$100=$C$7,ROW(F$8:F$100)-ROW(F$8)+1)),ROWS($A$1:E43))))","v":""},{"$f":"IF(ROWS($A$1:F43)>COUNTIF(Main!$C$8:$C$100,$C$7),\"\",INDEX(Main!G$8:G$100,SMALL(IF(Main!G$8:G$100<>\"\",IF(Main!$C$8:$C$100=$C$7,ROW(G$8:G$100)-ROW(G$8)+1)),ROWS($A$1:F43))))","v":""},{"$f":"IF(ROWS($A$1:G43)>COUNTIF(Main!$C$8:$C$100,$C$7),\"\",INDEX(Main!H$8:H$100,SMALL(IF(Main!H$8:H$100<>\"\",IF(Main!$C$8:$C$100=$C$7,ROW(H$8:H$100)-ROW(H$8)+1)),ROWS($A$1:G43))))","v":""},{"$f":"IF(ROWS($A$1:H43)>COUNTIF(Main!$C$8:$C$100,$C$7),\"\",INDEX(Main!I$8:I$100,SMALL(IF(Main!I$8:I$100<>\"\",IF(Main!$C$8:$C$100=$C$7,ROW(I$8:I$100)-ROW(I$8)+1)),ROWS($A$1:H43))))","v":""},{"$f":"IF(ROWS($A$1:I43)>COUNTIF(Main!$C$8:$C$100,$C$7),\"\",INDEX(Main!J$8:J$100,SMALL(IF(Main!J$8:J$100<>\"\",IF(Main!$C$8:$C$100=$C$7,ROW(J$8:J$100)-ROW(J$8)+1)),ROWS($A$1:I43))))","v":""},"",{"$f":"IF(ROWS($A$1:K43)>COUNTIF(Main!$C$8:$C$100,$C$7),\"\",INDEX(Main!L$8:L$100,SMALL(IF(Main!L$8:L$100<>\"\",IF(Main!$C$8:$C$100=$C$7,ROW(L$8:L$100)-ROW(L$8)+1)),ROWS($A$1:K43))))","v":""}]
[{"$f":"IF(B51=\"\",\"\",MAX($A$7:A50)+1)","v":""},{"$f":"IF(ROWS($A$1:A44)>COUNTIF(Main!$C$8:$C$100,$C$7),\"\",INDEX(Main!B$8:B$100,SMALL(IF(Main!B$8:B$100<>\"\",IF(Main!$C$8:$C$100=$C$7,ROW(B$8:B$100)-ROW(B$8)+1)),ROWS($A$1:A44))))","v":""},{"$f":"IF(ROWS($A$1:B44)>COUNTIF(Main!$C$8:$C$100,$C$7),\"\",INDEX(Main!C$8:C$100,SMALL(IF(Main!C$8:C$100<>\"\",IF(Main!$C$8:$C$100=$C$7,ROW(C$8:C$100)-ROW(C$8)+1)),ROWS($A$1:B44))))","v":""},{"$f":"IF(ROWS($A$1:C44)>COUNTIF(Main!$C$8:$C$100,$C$7),\"\",INDEX(Main!D$8:D$100,SMALL(IF(Main!D$8:D$100<>\"\",IF(Main!$C$8:$C$100=$C$7,ROW(D$8:D$100)-ROW(D$8)+1)),ROWS($A$1:C44))))","v":""},{"$f":"IF(ROWS($A$1:D44)>COUNTIF(Main!$C$8:$C$100,$C$7),\"\",INDEX(Main!E$8:E$100,SMALL(IF(Main!E$8:E$100<>\"\",IF(Main!$C$8:$C$100=$C$7,ROW(E$8:E$100)-ROW(E$8)+1)),ROWS($A$1:D44))))","v":""},{"$f":"IF(ROWS($A$1:E44)>COUNTIF(Main!$C$8:$C$100,$C$7),\"\",INDEX(Main!F$8:F$100,SMALL(IF(Main!F$8:F$100<>\"\",IF(Main!$C$8:$C$100=$C$7,ROW(F$8:F$100)-ROW(F$8)+1)),ROWS($A$1:E44))))","v":""},{"$f":"IF(ROWS($A$1:F44)>COUNTIF(Main!$C$8:$C$100,$C$7),\"\",INDEX(Main!G$8:G$100,SMALL(IF(Main!G$8:G$100<>\"\",IF(Main!$C$8:$C$100=$C$7,ROW(G$8:G$100)-ROW(G$8)+1)),ROWS($A$1:F44))))","v":""},{"$f":"IF(ROWS($A$1:G44)>COUNTIF(Main!$C$8:$C$100,$C$7),\"\",INDEX(Main!H$8:H$100,SMALL(IF(Main!H$8:H$100<>\"\",IF(Main!$C$8:$C$100=$C$7,ROW(H$8:H$100)-ROW(H$8)+1)),ROWS($A$1:G44))))","v":""},{"$f":"IF(ROWS($A$1:H44)>COUNTIF(Main!$C$8:$C$100,$C$7),\"\",INDEX(Main!I$8:I$100,SMALL(IF(Main!I$8:I$100<>\"\",IF(Main!$C$8:$C$100=$C$7,ROW(I$8:I$100)-ROW(I$8)+1)),ROWS($A$1:H44))))","v":""},{"$f":"IF(ROWS($A$1:I44)>COUNTIF(Main!$C$8:$C$100,$C$7),\"\",INDEX(Main!J$8:J$100,SMALL(IF(Main!J$8:J$100<>\"\",IF(Main!$C$8:$C$100=$C$7,ROW(J$8:J$100)-ROW(J$8)+1)),ROWS($A$1:I44))))","v":""},"",{"$f":"IF(ROWS($A$1:K44)>COUNTIF(Main!$C$8:$C$100,$C$7),\"\",INDEX(Main!L$8:L$100,SMALL(IF(Main!L$8:L$100<>\"\",IF(Main!$C$8:$C$100=$C$7,ROW(L$8:L$100)-ROW(L$8)+1)),ROWS($A$1:K44))))","v":""}]
[{"$f":"IF(B52=\"\",\"\",MAX($A$7:A51)+1)","v":""},{"$f":"IF(ROWS($A$1:A45)>COUNTIF(Main!$C$8:$C$100,$C$7),\"\",INDEX(Main!B$8:B$100,SMALL(IF(Main!B$8:B$100<>\"\",IF(Main!$C$8:$C$100=$C$7,ROW(B$8:B$100)-ROW(B$8)+1)),ROWS($A$1:A45))))","v":""},{"$f":"IF(ROWS($A$1:B45)>COUNTIF(Main!$C$8:$C$100,$C$7),\"\",INDEX(Main!C$8:C$100,SMALL(IF(Main!C$8:C$100<>\"\",IF(Main!$C$8:$C$100=$C$7,ROW(C$8:C$100)-ROW(C$8)+1)),ROWS($A$1:B45))))","v":""},{"$f":"IF(ROWS($A$1:C45)>COUNTIF(Main!$C$8:$C$100,$C$7),\"\",INDEX(Main!D$8:D$100,SMALL(IF(Main!D$8:D$100<>\"\",IF(Main!$C$8:$C$100=$C$7,ROW(D$8:D$100)-ROW(D$8)+1)),ROWS($A$1:C45))))","v":""},{"$f":"IF(ROWS($A$1:D45)>COUNTIF(Main!$C$8:$C$100,$C$7),\"\",INDEX(Main!E$8:E$100,SMALL(IF(Main!E$8:E$100<>\"\",IF(Main!$C$8:$C$100=$C$7,ROW(E$8:E$100)-ROW(E$8)+1)),ROWS($A$1:D45))))","v":""},{"$f":"IF(ROWS($A$1:E45)>COUNTIF(Main!$C$8:$C$100,$C$7),\"\",INDEX(Main!F$8:F$100,SMALL(IF(Main!F$8:F$100<>\"\",IF(Main!$C$8:$C$100=$C$7,ROW(F$8:F$100)-ROW(F$8)+1)),ROWS($A$1:E45))))","v":""},{"$f":"IF(ROWS($A$1:F45)>COUNTIF(Main!$C$8:$C$100,$C$7),\"\",INDEX(Main!G$8:G$100,SMALL(IF(Main!G$8:G$100<>\"\",IF(Main!$C$8:$C$100=$C$7,ROW(G$8:G$100)-ROW(G$8)+1)),ROWS($A$1:F45))))","v":""},{"$f":"IF(ROWS($A$1:G45)>COUNTIF(Main!$C$8:$C$100,$C$7),\"\",INDEX(Main!H$8:H$100,SMALL(IF(Main!H$8:H$100<>\"\",IF(Main!$C$8:$C$100=$C$7,ROW(H$8:H$100)-ROW(H$8)+1)),ROWS($A$1:G45))))","v":""},{"$f":"IF(ROWS($A$1:H45)>COUNTIF(Main!$C$8:$C$100,$C$7),\"\",INDEX(Main!I$8:I$100,SMALL(IF(Main!I$8:I$100<>\"\",IF(Main!$C$8:$C$100=$C$7,ROW(I$8:I$100)-ROW(I$8)+1)),ROWS($A$1:H45))))","v":""},{"$f":"IF(ROWS($A$1:I45)>COUNTIF(Main!$C$8:$C$100,$C$7),\"\",INDEX(Main!J$8:J$100,SMALL(IF(Main!J$8:J$100<>\"\",IF(Main!$C$8:$C$100=$C$7,ROW(J$8:J$100)-ROW(J$8)+1)),ROWS($A$1:I45))))","v":""},"",{"$f":"IF(ROWS($A$1:K45)>COUNTIF(Main!$C$8:$C$100,$C$7),\"\",INDEX(Main!L$8:L$100,SMALL(IF(Main!L$8:L$100<>\"\",IF(Main!$C$8:$C$100=$C$7,ROW(L$8:L$100)-ROW(L$8)+1)),ROWS($A$1:K45))))","v":""}]
[{"$f":"IF(B53=\"\",\"\",MAX($A$7:A52)+1)","v":""},{"$f":"IF(ROWS($A$1:A46)>COUNTIF(Main!$C$8:$C$100,$C$7),\"\",INDEX(Main!B$8:B$100,SMALL(IF(Main!B$8:B$100<>\"\",IF(Main!$C$8:$C$100=$C$7,ROW(B$8:B$100)-ROW(B$8)+1)),ROWS($A$1:A46))))","v":""},{"$f":"IF(ROWS($A$1:B46)>COUNTIF(Main!$C$8:$C$100,$C$7),\"\",INDEX(Main!C$8:C$100,SMALL(IF(Main!C$8:C$100<>\"\",IF(Main!$C$8:$C$100=$C$7,ROW(C$8:C$100)-ROW(C$8)+1)),ROWS($A$1:B46))))","v":""},{"$f":"IF(ROWS($A$1:C46)>COUNTIF(Main!$C$8:$C$100,$C$7),\"\",INDEX(Main!D$8:D$100,SMALL(IF(Main!D$8:D$100<>\"\",IF(Main!$C$8:$C$100=$C$7,ROW(D$8:D$100)-ROW(D$8)+1)),ROWS($A$1:C46))))","v":""},{"$f":"IF(ROWS($A$1:D46)>COUNTIF(Main!$C$8:$C$100,$C$7),\"\",INDEX(Main!E$8:E$100,SMALL(IF(Main!E$8:E$100<>\"\",IF(Main!$C$8:$C$100=$C$7,ROW(E$8:E$100)-ROW(E$8)+1)),ROWS($A$1:D46))))","v":""},{"$f":"IF(ROWS($A$1:E46)>COUNTIF(Main!$C$8:$C$100,$C$7),\"\",INDEX(Main!F$8:F$100,SMALL(IF(Main!F$8:F$100<>\"\",IF(Main!$C$8:$C$100=$C$7,ROW(F$8:F$100)-ROW(F$8)+1)),ROWS($A$1:E46))))","v":""},{"$f":"IF(ROWS($A$1:F46)>COUNTIF(Main!$C$8:$C$100,$C$7),\"\",INDEX(Main!G$8:G$100,SMALL(IF(Main!G$8:G$100<>\"\",IF(Main!$C$8:$C$100=$C$7,ROW(G$8:G$100)-ROW(G$8)+1)),ROWS($A$1:F46))))","v":""},{"$f":"IF(ROWS($A$1:G46)>COUNTIF(Main!$C$8:$C$100,$C$7),\"\",INDEX(Main!H$8:H$100,SMALL(IF(Main!H$8:H$100<>\"\",IF(Main!$C$8:$C$100=$C$7,ROW(H$8:H$100)-ROW(H$8)+1)),ROWS($A$1:G46))))","v":""},{"$f":"IF(ROWS($A$1:H46)>COUNTIF(Main!$C$8:$C$100,$C$7),\"\",INDEX(Main!I$8:I$100,SMALL(IF(Main!I$8:I$100<>\"\",IF(Main!$C$8:$C$100=$C$7,ROW(I$8:I$100)-ROW(I$8)+1)),ROWS($A$1:H46))))","v":""},{"$f":"IF(ROWS($A$1:I46)>COUNTIF(Main!$C$8:$C$100,$C$7),\"\",INDEX(Main!J$8:J$100,SMALL(IF(Main!J$8:J$100<>\"\",IF(Main!$C$8:$C$100=$C$7,ROW(J$8:J$100)-ROW(J$8)+1)),ROWS($A$1:I46))))","v":""},"",{"$f":"IF(ROWS($A$1:K46)>COUNTIF(Main!$C$8:$C$100,$C$7),\"\",INDEX(Main!L$8:L$100,SMALL(IF(Main!L$8:L$100<>\"\",IF(Main!$C$8:$C$100=$C$7,ROW(L$8:L$100)-ROW(L$8)+1)),ROWS($A$1:K46))))","v":""}]
[{"$f":"IF(B54=\"\",\"\",MAX($A$7:A53)+1)","v":""},{"$f":"IF(ROWS($A$1:A47)>COUNTIF(Main!$C$8:$C$100,$C$7),\"\",INDEX(Main!B$8:B$100,SMALL(IF(Main!B$8:B$100<>\"\",IF(Main!$C$8:$C$100=$C$7,ROW(B$8:B$100)-ROW(B$8)+1)),ROWS($A$1:A47))))","v":""},{"$f":"IF(ROWS($A$1:B47)>COUNTIF(Main!$C$8:$C$100,$C$7),\"\",INDEX(Main!C$8:C$100,SMALL(IF(Main!C$8:C$100<>\"\",IF(Main!$C$8:$C$100=$C$7,ROW(C$8:C$100)-ROW(C$8)+1)),ROWS($A$1:B47))))","v":""},{"$f":"IF(ROWS($A$1:C47)>COUNTIF(Main!$C$8:$C$100,$C$7),\"\",INDEX(Main!D$8:D$100,SMALL(IF(Main!D$8:D$100<>\"\",IF(Main!$C$8:$C$100=$C$7,ROW(D$8:D$100)-ROW(D$8)+1)),ROWS($A$1:C47))))","v":""},{"$f":"IF(ROWS($A$1:D47)>COUNTIF(Main!$C$8:$C$100,$C$7),\"\",INDEX(Main!E$8:E$100,SMALL(IF(Main!E$8:E$100<>\"\",IF(Main!$C$8:$C$100=$C$7,ROW(E$8:E$100)-ROW(E$8)+1)),ROWS($A$1:D47))))","v":""},{"$f":"IF(ROWS($A$1:E47)>COUNTIF(Main!$C$8:$C$100,$C$7),\"\",INDEX(Main!F$8:F$100,SMALL(IF(Main!F$8:F$100<>\"\",IF(Main!$C$8:$C$100=$C$7,ROW(F$8:F$100)-ROW(F$8)+1)),ROWS($A$1:E47))))","v":""},{"$f":"IF(ROWS($A$1:F47)>COUNTIF(Main!$C$8:$C$100,$C$7),\"\",INDEX(Main!G$8:G$100,SMALL(IF(Main!G$8:G$100<>\"\",IF(Main!$C$8:$C$100=$C$7,ROW(G$8:G$100)-ROW(G$8)+1)),ROWS($A$1:F47))))","v":""},{"$f":"IF(ROWS($A$1:G47)>COUNTIF(Main!$C$8:$C$100,$C$7),\"\",INDEX(Main!H$8:H$100,SMALL(IF(Main!H$8:H$100<>\"\",IF(Main!$C$8:$C$100=$C$7,ROW(H$8:H$100)-ROW(H$8)+1)),ROWS($A$1:G47))))","v":""},{"$f":"IF(ROWS($A$1:H47)>COUNTIF(Main!$C$8:$C$100,$C$7),\"\",INDEX(Main!I$8:I$100,SMALL(IF(Main!I$8:I$100<>\"\",IF(Main!$C$8:$C$100=$C$7,ROW(I$8:I$100)-ROW(I$8)+1)),ROWS($A$1:H47))))","v":""},{"$f":"IF(ROWS($A$1:I47)>COUNTIF(Main!$C$8:$C$100,$C$7),\"\",INDEX(Main!J$8:J$100,SMALL(IF(Main!J$8:J$100<>\"\",IF(Main!$C$8:$C$100=$C$7,ROW(J$8:J$100)-ROW(J$8)+1)),ROWS($A$1:I47))))","v":""},"",{"$f":"IF(ROWS($A$1:K47)>COUNTIF(Main!$C$8:$C$100,$C$7),\"\",INDEX(Main!L$8:L$100,SMALL(IF(Main!L$8:L$100<>\"\",IF(Main!$C$8:$C$100=$C$7,ROW(L$8:L$100)-ROW(L$8)+1)),ROWS($A$1:K47))))","v":""}]
[{"$f":"IF(B55=\"\",\"\",MAX($A$7:A54)+1)","v":""},{"$f":"IF(ROWS($A$1:A48)>COUNTIF(Main!$C$8:$C$100,$C$7),\"\",INDEX(Main!B$8:B$100,SMALL(IF(Main!B$8:B$100<>\"\",IF(Main!$C$8:$C$100=$C$7,ROW(B$8:B$100)-ROW(B$8)+1)),ROWS($A$1:A48))))","v":""},{"$f":"IF(ROWS($A$1:B48)>COUNTIF(Main!$C$8:$C$100,$C$7),\"\",INDEX(Main!C$8:C$100,SMALL(IF(Main!C$8:C$100<>\"\",IF(Main!$C$8:$C$100=$C$7,ROW(C$8:C$100)-ROW(C$8)+1)),ROWS($A$1:B48))))","v":""},{"$f":"IF(ROWS($A$1:C48)>COUNTIF(Main!$C$8:$C$100,$C$7),\"\",INDEX(Main!D$8:D$100,SMALL(IF(Main!D$8:D$100<>\"\",IF(Main!$C$8:$C$100=$C$7,ROW(D$8:D$100)-ROW(D$8)+1)),ROWS($A$1:C48))))","v":""},{"$f":"IF(ROWS($A$1:D48)>COUNTIF(Main!$C$8:$C$100,$C$7),\"\",INDEX(Main!E$8:E$100,SMALL(IF(Main!E$8:E$100<>\"\",IF(Main!$C$8:$C$100=$C$7,ROW(E$8:E$100)-ROW(E$8)+1)),ROWS($A$1:D48))))","v":""},{"$f":"IF(ROWS($A$1:E48)>COUNTIF(Main!$C$8:$C$100,$C$7),\"\",INDEX(Main!F$8:F$100,SMALL(IF(Main!F$8:F$100<>\"\",IF(Main!$C$8:$C$100=$C$7,ROW(F$8:F$100)-ROW(F$8)+1)),ROWS($A$1:E48))))","v":""},{"$f":"IF(ROWS($A$1:F48)>COUNTIF(Main!$C$8:$C$100,$C$7),\"\",INDEX(Main!G$8:G$100,SMALL(IF(Main!G$8:G$100<>\"\",IF(Main!$C$8:$C$100=$C$7,ROW(G$8:G$100)-ROW(G$8)+1)),ROWS($A$1:F48))))","v":""},{"$f":"IF(ROWS($A$1:G48)>COUNTIF(Main!$C$8:$C$100,$C$7),\"\",INDEX(Main!H$8:H$100,SMALL(IF(Main!H$8:H$100<>\"\",IF(Main!$C$8:$C$100=$C$7,ROW(H$8:H$100)-ROW(H$8)+1)),ROWS($A$1:G48))))","v":""},{"$f":"IF(ROWS($A$1:H48)>COUNTIF(Main!$C$8:$C$100,$C$7),\"\",INDEX(Main!I$8:I$100,SMALL(IF(Main!I$8:I$100<>\"\",IF(Main!$C$8:$C$100=$C$7,ROW(I$8:I$100)-ROW(I$8)+1)),ROWS($A$1:H48))))","v":""},{"$f":"IF(ROWS($A$1:I48)>COUNTIF(Main!$C$8:$C$100,$C$7),\"\",INDEX(Main!J$8:J$100,SMALL(IF(Main!J$8:J$100<>\"\",IF(Main!$C$8:$C$100=$C$7,ROW(J$8:J$100)-ROW(J$8)+1)),ROWS($A$1:I48))))","v":""},"",{"$f":"IF(ROWS($A$1:K48)>COUNTIF(Main!$C$8:$C$100,$C$7),\"\",INDEX(Main!L$8:L$100,SMALL(IF(Main!L$8:L$100<>\"\",IF(Main!$C$8:$C$100=$C$7,ROW(L$8:L$100)-ROW(L$8)+1)),ROWS($A$1:K48))))","v":""}]
[{"$f":"IF(B56=\"\",\"\",MAX($A$7:A55)+1)","v":""},{"$f":"IF(ROWS($A$1:A49)>COUNTIF(Main!$C$8:$C$100,$C$7),\"\",INDEX(Main!B$8:B$100,SMALL(IF(Main!B$8:B$100<>\"\",IF(Main!$C$8:$C$100=$C$7,ROW(B$8:B$100)-ROW(B$8)+1)),ROWS($A$1:A49))))","v":""},{"$f":"IF(ROWS($A$1:B49)>COUNTIF(Main!$C$8:$C$100,$C$7),\"\",INDEX(Main!C$8:C$100,SMALL(IF(Main!C$8:C$100<>\"\",IF(Main!$C$8:$C$100=$C$7,ROW(C$8:C$100)-ROW(C$8)+1)),ROWS($A$1:B49))))","v":""},{"$f":"IF(ROWS($A$1:C49)>COUNTIF(Main!$C$8:$C$100,$C$7),\"\",INDEX(Main!D$8:D$100,SMALL(IF(Main!D$8:D$100<>\"\",IF(Main!$C$8:$C$100=$C$7,ROW(D$8:D$100)-ROW(D$8)+1)),ROWS($A$1:C49))))","v":""},{"$f":"IF(ROWS($A$1:D49)>COUNTIF(Main!$C$8:$C$100,$C$7),\"\",INDEX(Main!E$8:E$100,SMALL(IF(Main!E$8:E$100<>\"\",IF(Main!$C$8:$C$100=$C$7,ROW(E$8:E$100)-ROW(E$8)+1)),ROWS($A$1:D49))))","v":""},{"$f":"IF(ROWS($A$1:E49)>COUNTIF(Main!$C$8:$C$100,$C$7),\"\",INDEX(Main!F$8:F$100,SMALL(IF(Main!F$8:F$100<>\"\",IF(Main!$C$8:$C$100=$C$7,ROW(F$8:F$100)-ROW(F$8)+1)),ROWS($A$1:E49))))","v":""},{"$f":"IF(ROWS($A$1:F49)>COUNTIF(Main!$C$8:$C$100,$C$7),\"\",INDEX(Main!G$8:G$100,SMALL(IF(Main!G$8:G$100<>\"\",IF(Main!$C$8:$C$100=$C$7,ROW(G$8:G$100)-ROW(G$8)+1)),ROWS($A$1:F49))))","v":""},{"$f":"IF(ROWS($A$1:G49)>COUNTIF(Main!$C$8:$C$100,$C$7),\"\",INDEX(Main!H$8:H$100,SMALL(IF(Main!H$8:H$100<>\"\",IF(Main!$C$8:$C$100=$C$7,ROW(H$8:H$100)-ROW(H$8)+1)),ROWS($A$1:G49))))","v":""},{"$f":"IF(ROWS($A$1:H49)>COUNTIF(Main!$C$8:$C$100,$C$7),\"\",INDEX(Main!I$8:I$100,SMALL(IF(Main!I$8:I$100<>\"\",IF(Main!$C$8:$C$100=$C$7,ROW(I$8:I$100)-ROW(I$8)+1)),ROWS($A$1:H49))))","v":""},{"$f":"IF(ROWS($A$1:I49)>COUNTIF(Main!$C$8:$C$100,$C$7),\"\",INDEX(Main!J$8:J$100,SMALL(IF(Main!J$8:J$100<>\"\",IF(Main!$C$8:$C$100=$C$7,ROW(J$8:J$100)-ROW(J$8)+1)),ROWS($A$1:I49))))","v":""},"",{"$f":"IF(ROWS($A$1:K49)>COUNTIF(Main!$C$8:$C$100,$C$7),\"\",INDEX(Main!L$8:L$100,SMALL(IF(Main!L$8:L$100<>\"\",IF(Main!$C$8:$C$100=$C$7,ROW(L$8:L$100)-ROW(L$8)+1)),ROWS($A$1:K49))))","v":""}]
[{"$f":"IF(B57=\"\",\"\",MAX($A$7:A56)+1)","v":""},{"$f":"IF(ROWS($A$1:A50)>COUNTIF(Main!$C$8:$C$100,$C$7),\"\",INDEX(Main!B$8:B$100,SMALL(IF(Main!B$8:B$100<>\"\",IF(Main!$C$8:$C$100=$C$7,ROW(B$8:B$100)-ROW(B$8)+1)),ROWS($A$1:A50))))","v":""},{"$f":"IF(ROWS($A$1:B50)>COUNTIF(Main!$C$8:$C$100,$C$7),\"\",INDEX(Main!C$8:C$100,SMALL(IF(Main!C$8:C$100<>\"\",IF(Main!$C$8:$C$100=$C$7,ROW(C$8:C$100)-ROW(C$8)+1)),ROWS($A$1:B50))))","v":""},{"$f":"IF(ROWS($A$1:C50)>COUNTIF(Main!$C$8:$C$100,$C$7),\"\",INDEX(Main!D$8:D$100,SMALL(IF(Main!D$8:D$100<>\"\",IF(Main!$C$8:$C$100=$C$7,ROW(D$8:D$100)-ROW(D$8)+1)),ROWS($A$1:C50))))","v":""},{"$f":"IF(ROWS($A$1:D50)>COUNTIF(Main!$C$8:$C$100,$C$7),\"\",INDEX(Main!E$8:E$100,SMALL(IF(Main!E$8:E$100<>\"\",IF(Main!$C$8:$C$100=$C$7,ROW(E$8:E$100)-ROW(E$8)+1)),ROWS($A$1:D50))))","v":""},{"$f":"IF(ROWS($A$1:E50)>COUNTIF(Main!$C$8:$C$100,$C$7),\"\",INDEX(Main!F$8:F$100,SMALL(IF(Main!F$8:F$100<>\"\",IF(Main!$C$8:$C$100=$C$7,ROW(F$8:F$100)-ROW(F$8)+1)),ROWS($A$1:E50))))","v":""},{"$f":"IF(ROWS($A$1:F50)>COUNTIF(Main!$C$8:$C$100,$C$7),\"\",INDEX(Main!G$8:G$100,SMALL(IF(Main!G$8:G$100<>\"\",IF(Main!$C$8:$C$100=$C$7,ROW(G$8:G$100)-ROW(G$8)+1)),ROWS($A$1:F50))))","v":""},{"$f":"IF(ROWS($A$1:G50)>COUNTIF(Main!$C$8:$C$100,$C$7),\"\",INDEX(Main!H$8:H$100,SMALL(IF(Main!H$8:H$100<>\"\",IF(Main!$C$8:$C$100=$C$7,ROW(H$8:H$100)-ROW(H$8)+1)),ROWS($A$1:G50))))","v":""},{"$f":"IF(ROWS($A$1:H50)>COUNTIF(Main!$C$8:$C$100,$C$7),\"\",INDEX(Main!I$8:I$100,SMALL(IF(Main!I$8:I$100<>\"\",IF(Main!$C$8:$C$100=$C$7,ROW(I$8:I$100)-ROW(I$8)+1)),ROWS($A$1:H50))))","v":""},{"$f":"IF(ROWS($A$1:I50)>COUNTIF(Main!$C$8:$C$100,$C$7),\"\",INDEX(Main!J$8:J$100,SMALL(IF(Main!J$8:J$100<>\"\",IF(Main!$C$8:$C$100=$C$7,ROW(J$8:J$100)-ROW(J$8)+1)),ROWS($A$1:I50))))","v":""},"",{"$f":"IF(ROWS($A$1:K50)>COUNTIF(Main!$C$8:$C$100,$C$7),\"\",INDEX(Main!L$8:L$100,SMALL(IF(Main!L$8:L$100<>\"\",IF(Main!$C$8:$C$100=$C$7,ROW(L$8:L$100)-ROW(L$8)+1)),ROWS($A$1:K50))))","v":""}]
[{"$f":"IF(B58=\"\",\"\",MAX($A$7:A57)+1)","v":""},{"$f":"IF(ROWS($A$1:A51)>COUNTIF(Main!$C$8:$C$100,$C$7),\"\",INDEX(Main!B$8:B$100,SMALL(IF(Main!B$8:B$100<>\"\",IF(Main!$C$8:$C$100=$C$7,ROW(B$8:B$100)-ROW(B$8)+1)),ROWS($A$1:A51))))","v":""},{"$f":"IF(ROWS($A$1:B51)>COUNTIF(Main!$C$8:$C$100,$C$7),\"\",INDEX(Main!C$8:C$100,SMALL(IF(Main!C$8:C$100<>\"\",IF(Main!$C$8:$C$100=$C$7,ROW(C$8:C$100)-ROW(C$8)+1)),ROWS($A$1:B51))))","v":""},{"$f":"IF(ROWS($A$1:C51)>COUNTIF(Main!$C$8:$C$100,$C$7),\"\",INDEX(Main!D$8:D$100,SMALL(IF(Main!D$8:D$100<>\"\",IF(Main!$C$8:$C$100=$C$7,ROW(D$8:D$100)-ROW(D$8)+1)),ROWS($A$1:C51))))","v":""},{"$f":"IF(ROWS($A$1:D51)>COUNTIF(Main!$C$8:$C$100,$C$7),\"\",INDEX(Main!E$8:E$100,SMALL(IF(Main!E$8:E$100<>\"\",IF(Main!$C$8:$C$100=$C$7,ROW(E$8:E$100)-ROW(E$8)+1)),ROWS($A$1:D51))))","v":""},{"$f":"IF(ROWS($A$1:E51)>COUNTIF(Main!$C$8:$C$100,$C$7),\"\",INDEX(Main!F$8:F$100,SMALL(IF(Main!F$8:F$100<>\"\",IF(Main!$C$8:$C$100=$C$7,ROW(F$8:F$100)-ROW(F$8)+1)),ROWS($A$1:E51))))","v":""},{"$f":"IF(ROWS($A$1:F51)>COUNTIF(Main!$C$8:$C$100,$C$7),\"\",INDEX(Main!G$8:G$100,SMALL(IF(Main!G$8:G$100<>\"\",IF(Main!$C$8:$C$100=$C$7,ROW(G$8:G$100)-ROW(G$8)+1)),ROWS($A$1:F51))))","v":""},{"$f":"IF(ROWS($A$1:G51)>COUNTIF(Main!$C$8:$C$100,$C$7),\"\",INDEX(Main!H$8:H$100,SMALL(IF(Main!H$8:H$100<>\"\",IF(Main!$C$8:$C$100=$C$7,ROW(H$8:H$100)-ROW(H$8)+1)),ROWS($A$1:G51))))","v":""},{"$f":"IF(ROWS($A$1:H51)>COUNTIF(Main!$C$8:$C$100,$C$7),\"\",INDEX(Main!I$8:I$100,SMALL(IF(Main!I$8:I$100<>\"\",IF(Main!$C$8:$C$100=$C$7,ROW(I$8:I$100)-ROW(I$8)+1)),ROWS($A$1:H51))))","v":""},{"$f":"IF(ROWS($A$1:I51)>COUNTIF(Main!$C$8:$C$100,$C$7),\"\",INDEX(Main!J$8:J$100,SMALL(IF(Main!J$8:J$100<>\"\",IF(Main!$C$8:$C$100=$C$7,ROW(J$8:J$100)-ROW(J$8)+1)),ROWS($A$1:I51))))","v":""},"",{"$f":"IF(ROWS($A$1:K51)>COUNTIF(Main!$C$8:$C$100,$C$7),\"\",INDEX(Main!L$8:L$100,SMALL(IF(Main!L$8:L$100<>\"\",IF(Main!$C$8:$C$100=$C$7,ROW(L$8:L$100)-ROW(L$8)+1)),ROWS($A$1:K51))))","v":""}]
[{"$f":"IF(B59=\"\",\"\",MAX($A$7:A58)+1)","v":""},{"$f":"IF(ROWS($A$1:A52)>COUNTIF(Main!$C$8:$C$100,$C$7),\"\",INDEX(Main!B$8:B$100,SMALL(IF(Main!B$8:B$100<>\"\",IF(Main!$C$8:$C$100=$C$7,ROW(B$8:B$100)-ROW(B$8)+1)),ROWS($A$1:A52))))","v":""},{"$f":"IF(ROWS($A$1:B52)>COUNTIF(Main!$C$8:$C$100,$C$7),\"\",INDEX(Main!C$8:C$100,SMALL(IF(Main!C$8:C$100<>\"\",IF(Main!$C$8:$C$100=$C$7,ROW(C$8:C$100)-ROW(C$8)+1)),ROWS($A$1:B52))))","v":""},{"$f":"IF(ROWS($A$1:C52)>COUNTIF(Main!$C$8:$C$100,$C$7),\"\",INDEX(Main!D$8:D$100,SMALL(IF(Main!D$8:D$100<>\"\",IF(Main!$C$8:$C$100=$C$7,ROW(D$8:D$100)-ROW(D$8)+1)),ROWS($A$1:C52))))","v":""},{"$f":"IF(ROWS($A$1:D52)>COUNTIF(Main!$C$8:$C$100,$C$7),\"\",INDEX(Main!E$8:E$100,SMALL(IF(Main!E$8:E$100<>\"\",IF(Main!$C$8:$C$100=$C$7,ROW(E$8:E$100)-ROW(E$8)+1)),ROWS($A$1:D52))))","v":""},{"$f":"IF(ROWS($A$1:E52)>COUNTIF(Main!$C$8:$C$100,$C$7),\"\",INDEX(Main!F$8:F$100,SMALL(IF(Main!F$8:F$100<>\"\",IF(Main!$C$8:$C$100=$C$7,ROW(F$8:F$100)-ROW(F$8)+1)),ROWS($A$1:E52))))","v":""},{"$f":"IF(ROWS($A$1:F52)>COUNTIF(Main!$C$8:$C$100,$C$7),\"\",INDEX(Main!G$8:G$100,SMALL(IF(Main!G$8:G$100<>\"\",IF(Main!$C$8:$C$100=$C$7,ROW(G$8:G$100)-ROW(G$8)+1)),ROWS($A$1:F52))))","v":""},{"$f":"IF(ROWS($A$1:G52)>COUNTIF(Main!$C$8:$C$100,$C$7),\"\",INDEX(Main!H$8:H$100,SMALL(IF(Main!H$8:H$100<>\"\",IF(Main!$C$8:$C$100=$C$7,ROW(H$8:H$100)-ROW(H$8)+1)),ROWS($A$1:G52))))","v":""},{"$f":"IF(ROWS($A$1:H52)>COUNTIF(Main!$C$8:$C$100,$C$7),\"\",INDEX(Main!I$8:I$100,SMALL(IF(Main!I$8:I$100<>\"\",IF(Main!$C$8:$C$100=$C$7,ROW(I$8:I$100)-ROW(I$8)+1)),ROWS($A$1:H52))))","v":""},{"$f":"IF(ROWS($A$1:I52)>COUNTIF(Main!$C$8:$C$100,$C$7),\"\",INDEX(Main!J$8:J$100,SMALL(IF(Main!J$8:J$100<>\"\",IF(Main!$C$8:$C$100=$C$7,ROW(J$8:J$100)-ROW(J$8)+1)),ROWS($A$1:I52))))","v":""},"",{"$f":"IF(ROWS($A$1:K52)>COUNTIF(Main!$C$8:$C$100,$C$7),\"\",INDEX(Main!L$8:L$100,SMALL(IF(Main!L$8:L$100<>\"\",IF(Main!$C$8:$C$100=$C$7,ROW(L$8:L$100)-ROW(L$8)+1)),ROWS($A$1:K52))))","v":""}]
[{"$f":"IF(B60=\"\",\"\",MAX($A$7:A59)+1)","v":""},{"$f":"IF(ROWS($A$1:A53)>COUNTIF(Main!$C$8:$C$100,$C$7),\"\",INDEX(Main!B$8:B$100,SMALL(IF(Main!B$8:B$100<>\"\",IF(Main!$C$8:$C$100=$C$7,ROW(B$8:B$100)-ROW(B$8)+1)),ROWS($A$1:A53))))","v":""},{"$f":"IF(ROWS($A$1:B53)>COUNTIF(Main!$C$8:$C$100,$C$7),\"\",INDEX(Main!C$8:C$100,SMALL(IF(Main!C$8:C$100<>\"\",IF(Main!$C$8:$C$100=$C$7,ROW(C$8:C$100)-ROW(C$8)+1)),ROWS($A$1:B53))))","v":""},{"$f":"IF(ROWS($A$1:C53)>COUNTIF(Main!$C$8:$C$100,$C$7),\"\",INDEX(Main!D$8:D$100,SMALL(IF(Main!D$8:D$100<>\"\",IF(Main!$C$8:$C$100=$C$7,ROW(D$8:D$100)-ROW(D$8)+1)),ROWS($A$1:C53))))","v":""},{"$f":"IF(ROWS($A$1:D53)>COUNTIF(Main!$C$8:$C$100,$C$7),\"\",INDEX(Main!E$8:E$100,SMALL(IF(Main!E$8:E$100<>\"\",IF(Main!$C$8:$C$100=$C$7,ROW(E$8:E$100)-ROW(E$8)+1)),ROWS($A$1:D53))))","v":""},{"$f":"IF(ROWS($A$1:E53)>COUNTIF(Main!$C$8:$C$100,$C$7),\"\",INDEX(Main!F$8:F$100,SMALL(IF(Main!F$8:F$100<>\"\",IF(Main!$C$8:$C$100=$C$7,ROW(F$8:F$100)-ROW(F$8)+1)),ROWS($A$1:E53))))","v":""},{"$f":"IF(ROWS($A$1:F53)>COUNTIF(Main!$C$8:$C$100,$C$7),\"\",INDEX(Main!G$8:G$100,SMALL(IF(Main!G$8:G$100<>\"\",IF(Main!$C$8:$C$100=$C$7,ROW(G$8:G$100)-ROW(G$8)+1)),ROWS($A$1:F53))))","v":""},{"$f":"IF(ROWS($A$1:G53)>COUNTIF(Main!$C$8:$C$100,$C$7),\"\",INDEX(Main!H$8:H$100,SMALL(IF(Main!H$8:H$100<>\"\",IF(Main!$C$8:$C$100=$C$7,ROW(H$8:H$100)-ROW(H$8)+1)),ROWS($A$1:G53))))","v":""},{"$f":"IF(ROWS($A$1:H53)>COUNTIF(Main!$C$8:$C$100,$C$7),\"\",INDEX(Main!I$8:I$100,SMALL(IF(Main!I$8:I$100<>\"\",IF(Main!$C$8:$C$100=$C$7,ROW(I$8:I$100)-ROW(I$8)+1)),ROWS($A$1:H53))))","v":""},{"$f":"IF(ROWS($A$1:I53)>COUNTIF(Main!$C$8:$C$100,$C$7),\"\",INDEX(Main!J$8:J$100,SMALL(IF(Main!J$8:J$100<>\"\",IF(Main!$C$8:$C$100=$C$7,ROW(J$8:J$100)-ROW(J$8)+1)),ROWS($A$1:I53))))","v":""},"",{"$f":"IF(ROWS($A$1:K53)>COUNTIF(Main!$C$8:$C$100,$C$7),\"\",INDEX(Main!L$8:L$100,SMALL(IF(Main!L$8:L$100<>\"\",IF(Main!$C$8:$C$100=$C$7,ROW(L$8:L$100)-ROW(L$8)+1)),ROWS($A$1:K53))))","v":""}]
[{"$f":"IF(B61=\"\",\"\",MAX($A$7:A60)+1)","v":""},{"$f":"IF(ROWS($A$1:A54)>COUNTIF(Main!$C$8:$C$100,$C$7),\"\",INDEX(Main!B$8:B$100,SMALL(IF(Main!B$8:B$100<>\"\",IF(Main!$C$8:$C$100=$C$7,ROW(B$8:B$100)-ROW(B$8)+1)),ROWS($A$1:A54))))","v":""},{"$f":"IF(ROWS($A$1:B54)>COUNTIF(Main!$C$8:$C$100,$C$7),\"\",INDEX(Main!C$8:C$100,SMALL(IF(Main!C$8:C$100<>\"\",IF(Main!$C$8:$C$100=$C$7,ROW(C$8:C$100)-ROW(C$8)+1)),ROWS($A$1:B54))))","v":""},{"$f":"IF(ROWS($A$1:C54)>COUNTIF(Main!$C$8:$C$100,$C$7),\"\",INDEX(Main!D$8:D$100,SMALL(IF(Main!D$8:D$100<>\"\",IF(Main!$C$8:$C$100=$C$7,ROW(D$8:D$100)-ROW(D$8)+1)),ROWS($A$1:C54))))","v":""},{"$f":"IF(ROWS($A$1:D54)>COUNTIF(Main!$C$8:$C$100,$C$7),\"\",INDEX(Main!E$8:E$100,SMALL(IF(Main!E$8:E$100<>\"\",IF(Main!$C$8:$C$100=$C$7,ROW(E$8:E$100)-ROW(E$8)+1)),ROWS($A$1:D54))))","v":""},{"$f":"IF(ROWS($A$1:E54)>COUNTIF(Main!$C$8:$C$100,$C$7),\"\",INDEX(Main!F$8:F$100,SMALL(IF(Main!F$8:F$100<>\"\",IF(Main!$C$8:$C$100=$C$7,ROW(F$8:F$100)-ROW(F$8)+1)),ROWS($A$1:E54))))","v":""},{"$f":"IF(ROWS($A$1:F54)>COUNTIF(Main!$C$8:$C$100,$C$7),\"\",INDEX(Main!G$8:G$100,SMALL(IF(Main!G$8:G$100<>\"\",IF(Main!$C$8:$C$100=$C$7,ROW(G$8:G$100)-ROW(G$8)+1)),ROWS($A$1:F54))))","v":""},{"$f":"IF(ROWS($A$1:G54)>COUNTIF(Main!$C$8:$C$100,$C$7),\"\",INDEX(Main!H$8:H$100,SMALL(IF(Main!H$8:H$100<>\"\",IF(Main!$C$8:$C$100=$C$7,ROW(H$8:H$100)-ROW(H$8)+1)),ROWS($A$1:G54))))","v":""},{"$f":"IF(ROWS($A$1:H54)>COUNTIF(Main!$C$8:$C$100,$C$7),\"\",INDEX(Main!I$8:I$100,SMALL(IF(Main!I$8:I$100<>\"\",IF(Main!$C$8:$C$100=$C$7,ROW(I$8:I$100)-ROW(I$8)+1)),ROWS($A$1:H54))))","v":""},{"$f":"IF(ROWS($A$1:I54)>COUNTIF(Main!$C$8:$C$100,$C$7),\"\",INDEX(Main!J$8:J$100,SMALL(IF(Main!J$8:J$100<>\"\",IF(Main!$C$8:$C$100=$C$7,ROW(J$8:J$100)-ROW(J$8)+1)),ROWS($A$1:I54))))","v":""},"",{"$f":"IF(ROWS($A$1:K54)>COUNTIF(Main!$C$8:$C$100,$C$7),\"\",INDEX(Main!L$8:L$100,SMALL(IF(Main!L$8:L$100<>\"\",IF(Main!$C$8:$C$100=$C$7,ROW(L$8:L$100)-ROW(L$8)+1)),ROWS($A$1:K54))))","v":""}]
[{"$f":"IF(B62=\"\",\"\",MAX($A$7:A61)+1)","v":""},{"$f":"IF(ROWS($A$1:A55)>COUNTIF(Main!$C$8:$C$100,$C$7),\"\",INDEX(Main!B$8:B$100,SMALL(IF(Main!B$8:B$100<>\"\",IF(Main!$C$8:$C$100=$C$7,ROW(B$8:B$100)-ROW(B$8)+1)),ROWS($A$1:A55))))","v":""},{"$f":"IF(ROWS($A$1:B55)>COUNTIF(Main!$C$8:$C$100,$C$7),\"\",INDEX(Main!C$8:C$100,SMALL(IF(Main!C$8:C$100<>\"\",IF(Main!$C$8:$C$100=$C$7,ROW(C$8:C$100)-ROW(C$8)+1)),ROWS($A$1:B55))))","v":""},{"$f":"IF(ROWS($A$1:C55)>COUNTIF(Main!$C$8:$C$100,$C$7),\"\",INDEX(Main!D$8:D$100,SMALL(IF(Main!D$8:D$100<>\"\",IF(Main!$C$8:$C$100=$C$7,ROW(D$8:D$100)-ROW(D$8)+1)),ROWS($A$1:C55))))","v":""},{"$f":"IF(ROWS($A$1:D55)>COUNTIF(Main!$C$8:$C$100,$C$7),\"\",INDEX(Main!E$8:E$100,SMALL(IF(Main!E$8:E$100<>\"\",IF(Main!$C$8:$C$100=$C$7,ROW(E$8:E$100)-ROW(E$8)+1)),ROWS($A$1:D55))))","v":""},{"$f":"IF(ROWS($A$1:E55)>COUNTIF(Main!$C$8:$C$100,$C$7),\"\",INDEX(Main!F$8:F$100,SMALL(IF(Main!F$8:F$100<>\"\",IF(Main!$C$8:$C$100=$C$7,ROW(F$8:F$100)-ROW(F$8)+1)),ROWS($A$1:E55))))","v":""},{"$f":"IF(ROWS($A$1:F55)>COUNTIF(Main!$C$8:$C$100,$C$7),\"\",INDEX(Main!G$8:G$100,SMALL(IF(Main!G$8:G$100<>\"\",IF(Main!$C$8:$C$100=$C$7,ROW(G$8:G$100)-ROW(G$8)+1)),ROWS($A$1:F55))))","v":""},{"$f":"IF(ROWS($A$1:G55)>COUNTIF(Main!$C$8:$C$100,$C$7),\"\",INDEX(Main!H$8:H$100,SMALL(IF(Main!H$8:H$100<>\"\",IF(Main!$C$8:$C$100=$C$7,ROW(H$8:H$100)-ROW(H$8)+1)),ROWS($A$1:G55))))","v":""},{"$f":"IF(ROWS($A$1:H55)>COUNTIF(Main!$C$8:$C$100,$C$7),\"\",INDEX(Main!I$8:I$100,SMALL(IF(Main!I$8:I$100<>\"\",IF(Main!$C$8:$C$100=$C$7,ROW(I$8:I$100)-ROW(I$8)+1)),ROWS($A$1:H55))))","v":""},{"$f":"IF(ROWS($A$1:I55)>COUNTIF(Main!$C$8:$C$100,$C$7),\"\",INDEX(Main!J$8:J$100,SMALL(IF(Main!J$8:J$100<>\"\",IF(Main!$C$8:$C$100=$C$7,ROW(J$8:J$100)-ROW(J$8)+1)),ROWS($A$1:I55))))","v":""},"",{"$f":"IF(ROWS($A$1:K55)>COUNTIF(Main!$C$8:$C$100,$C$7),\"\",INDEX(Main!L$8:L$100,SMALL(IF(Main!L$8:L$100<>\"\",IF(Main!$C$8:$C$100=$C$7,ROW(L$8:L$100)-ROW(L$8)+1)),ROWS($A$1:K55))))","v":""}]
[{"$f":"IF(B63=\"\",\"\",MAX($A$7:A62)+1)","v":""},{"$f":"IF(ROWS($A$1:A56)>COUNTIF(Main!$C$8:$C$100,$C$7),\"\",INDEX(Main!B$8:B$100,SMALL(IF(Main!B$8:B$100<>\"\",IF(Main!$C$8:$C$100=$C$7,ROW(B$8:B$100)-ROW(B$8)+1)),ROWS($A$1:A56))))","v":""},{"$f":"IF(ROWS($A$1:B56)>COUNTIF(Main!$C$8:$C$100,$C$7),\"\",INDEX(Main!C$8:C$100,SMALL(IF(Main!C$8:C$100<>\"\",IF(Main!$C$8:$C$100=$C$7,ROW(C$8:C$100)-ROW(C$8)+1)),ROWS($A$1:B56))))","v":""},{"$f":"IF(ROWS($A$1:C56)>COUNTIF(Main!$C$8:$C$100,$C$7),\"\",INDEX(Main!D$8:D$100,SMALL(IF(Main!D$8:D$100<>\"\",IF(Main!$C$8:$C$100=$C$7,ROW(D$8:D$100)-ROW(D$8)+1)),ROWS($A$1:C56))))","v":""},{"$f":"IF(ROWS($A$1:D56)>COUNTIF(Main!$C$8:$C$100,$C$7),\"\",INDEX(Main!E$8:E$100,SMALL(IF(Main!E$8:E$100<>\"\",IF(Main!$C$8:$C$100=$C$7,ROW(E$8:E$100)-ROW(E$8)+1)),ROWS($A$1:D56))))","v":""},{"$f":"IF(ROWS($A$1:E56)>COUNTIF(Main!$C$8:$C$100,$C$7),\"\",INDEX(Main!F$8:F$100,SMALL(IF(Main!F$8:F$100<>\"\",IF(Main!$C$8:$C$100=$C$7,ROW(F$8:F$100)-ROW(F$8)+1)),ROWS($A$1:E56))))","v":""},{"$f":"IF(ROWS($A$1:F56)>COUNTIF(Main!$C$8:$C$100,$C$7),\"\",INDEX(Main!G$8:G$100,SMALL(IF(Main!G$8:G$100<>\"\",IF(Main!$C$8:$C$100=$C$7,ROW(G$8:G$100)-ROW(G$8)+1)),ROWS($A$1:F56))))","v":""},{"$f":"IF(ROWS($A$1:G56)>COUNTIF(Main!$C$8:$C$100,$C$7),\"\",INDEX(Main!H$8:H$100,SMALL(IF(Main!H$8:H$100<>\"\",IF(Main!$C$8:$C$100=$C$7,ROW(H$8:H$100)-ROW(H$8)+1)),ROWS($A$1:G56))))","v":""},{"$f":"IF(ROWS($A$1:H56)>COUNTIF(Main!$C$8:$C$100,$C$7),\"\",INDEX(Main!I$8:I$100,SMALL(IF(Main!I$8:I$100<>\"\",IF(Main!$C$8:$C$100=$C$7,ROW(I$8:I$100)-ROW(I$8)+1)),ROWS($A$1:H56))))","v":""},{"$f":"IF(ROWS($A$1:I56)>COUNTIF(Main!$C$8:$C$100,$C$7),\"\",INDEX(Main!J$8:J$100,SMALL(IF(Main!J$8:J$100<>\"\",IF(Main!$C$8:$C$100=$C$7,ROW(J$8:J$100)-ROW(J$8)+1)),ROWS($A$1:I56))))","v":""},"",{"$f":"IF(ROWS($A$1:K56)>COUNTIF(Main!$C$8:$C$100,$C$7),\"\",INDEX(Main!L$8:L$100,SMALL(IF(Main!L$8:L$100<>\"\",IF(Main!$C$8:$C$100=$C$7,ROW(L$8:L$100)-ROW(L$8)+1)),ROWS($A$1:K56))))","v":""}]
[{"$f":"IF(B64=\"\",\"\",MAX($A$7:A63)+1)","v":""},{"$f":"IF(ROWS($A$1:A57)>COUNTIF(Main!$C$8:$C$100,$C$7),\"\",INDEX(Main!B$8:B$100,SMALL(IF(Main!B$8:B$100<>\"\",IF(Main!$C$8:$C$100=$C$7,ROW(B$8:B$100)-ROW(B$8)+1)),ROWS($A$1:A57))))","v":""},{"$f":"IF(ROWS($A$1:B57)>COUNTIF(Main!$C$8:$C$100,$C$7),\"\",INDEX(Main!C$8:C$100,SMALL(IF(Main!C$8:C$100<>\"\",IF(Main!$C$8:$C$100=$C$7,ROW(C$8:C$100)-ROW(C$8)+1)),ROWS($A$1:B57))))","v":""},{"$f":"IF(ROWS($A$1:C57)>COUNTIF(Main!$C$8:$C$100,$C$7),\"\",INDEX(Main!D$8:D$100,SMALL(IF(Main!D$8:D$100<>\"\",IF(Main!$C$8:$C$100=$C$7,ROW(D$8:D$100)-ROW(D$8)+1)),ROWS($A$1:C57))))","v":""},{"$f":"IF(ROWS($A$1:D57)>COUNTIF(Main!$C$8:$C$100,$C$7),\"\",INDEX(Main!E$8:E$100,SMALL(IF(Main!E$8:E$100<>\"\",IF(Main!$C$8:$C$100=$C$7,ROW(E$8:E$100)-ROW(E$8)+1)),ROWS($A$1:D57))))","v":""},{"$f":"IF(ROWS($A$1:E57)>COUNTIF(Main!$C$8:$C$100,$C$7),\"\",INDEX(Main!F$8:F$100,SMALL(IF(Main!F$8:F$100<>\"\",IF(Main!$C$8:$C$100=$C$7,ROW(F$8:F$100)-ROW(F$8)+1)),ROWS($A$1:E57))))","v":""},{"$f":"IF(ROWS($A$1:F57)>COUNTIF(Main!$C$8:$C$100,$C$7),\"\",INDEX(Main!G$8:G$100,SMALL(IF(Main!G$8:G$100<>\"\",IF(Main!$C$8:$C$100=$C$7,ROW(G$8:G$100)-ROW(G$8)+1)),ROWS($A$1:F57))))","v":""},{"$f":"IF(ROWS($A$1:G57)>COUNTIF(Main!$C$8:$C$100,$C$7),\"\",INDEX(Main!H$8:H$100,SMALL(IF(Main!H$8:H$100<>\"\",IF(Main!$C$8:$C$100=$C$7,ROW(H$8:H$100)-ROW(H$8)+1)),ROWS($A$1:G57))))","v":""},{"$f":"IF(ROWS($A$1:H57)>COUNTIF(Main!$C$8:$C$100,$C$7),\"\",INDEX(Main!I$8:I$100,SMALL(IF(Main!I$8:I$100<>\"\",IF(Main!$C$8:$C$100=$C$7,ROW(I$8:I$100)-ROW(I$8)+1)),ROWS($A$1:H57))))","v":""},{"$f":"IF(ROWS($A$1:I57)>COUNTIF(Main!$C$8:$C$100,$C$7),\"\",INDEX(Main!J$8:J$100,SMALL(IF(Main!J$8:J$100<>\"\",IF(Main!$C$8:$C$100=$C$7,ROW(J$8:J$100)-ROW(J$8)+1)),ROWS($A$1:I57))))","v":""},"",{"$f":"IF(ROWS($A$1:K57)>COUNTIF(Main!$C$8:$C$100,$C$7),\"\",INDEX(Main!L$8:L$100,SMALL(IF(Main!L$8:L$100<>\"\",IF(Main!$C$8:$C$100=$C$7,ROW(L$8:L$100)-ROW(L$8)+1)),ROWS($A$1:K57))))","v":""}]
[{"$f":"IF(B65=\"\",\"\",MAX($A$7:A64)+1)","v":""},{"$f":"IF(ROWS($A$1:A58)>COUNTIF(Main!$C$8:$C$100,$C$7),\"\",INDEX(Main!B$8:B$100,SMALL(IF(Main!B$8:B$100<>\"\",IF(Main!$C$8:$C$100=$C$7,ROW(B$8:B$100)-ROW(B$8)+1)),ROWS($A$1:A58))))","v":""},{"$f":"IF(ROWS($A$1:B58)>COUNTIF(Main!$C$8:$C$100,$C$7),\"\",INDEX(Main!C$8:C$100,SMALL(IF(Main!C$8:C$100<>\"\",IF(Main!$C$8:$C$100=$C$7,ROW(C$8:C$100)-ROW(C$8)+1)),ROWS($A$1:B58))))","v":""},{"$f":"IF(ROWS($A$1:C58)>COUNTIF(Main!$C$8:$C$100,$C$7),\"\",INDEX(Main!D$8:D$100,SMALL(IF(Main!D$8:D$100<>\"\",IF(Main!$C$8:$C$100=$C$7,ROW(D$8:D$100)-ROW(D$8)+1)),ROWS($A$1:C58))))","v":""},{"$f":"IF(ROWS($A$1:D58)>COUNTIF(Main!$C$8:$C$100,$C$7),\"\",INDEX(Main!E$8:E$100,SMALL(IF(Main!E$8:E$100<>\"\",IF(Main!$C$8:$C$100=$C$7,ROW(E$8:E$100)-ROW(E$8)+1)),ROWS($A$1:D58))))","v":""},{"$f":"IF(ROWS($A$1:E58)>COUNTIF(Main!$C$8:$C$100,$C$7),\"\",INDEX(Main!F$8:F$100,SMALL(IF(Main!F$8:F$100<>\"\",IF(Main!$C$8:$C$100=$C$7,ROW(F$8:F$100)-ROW(F$8)+1)),ROWS($A$1:E58))))","v":""},{"$f":"IF(ROWS($A$1:F58)>COUNTIF(Main!$C$8:$C$100,$C$7),\"\",INDEX(Main!G$8:G$100,SMALL(IF(Main!G$8:G$100<>\"\",IF(Main!$C$8:$C$100=$C$7,ROW(G$8:G$100)-ROW(G$8)+1)),ROWS($A$1:F58))))","v":""},{"$f":"IF(ROWS($A$1:G58)>COUNTIF(Main!$C$8:$C$100,$C$7),\"\",INDEX(Main!H$8:H$100,SMALL(IF(Main!H$8:H$100<>\"\",IF(Main!$C$8:$C$100=$C$7,ROW(H$8:H$100)-ROW(H$8)+1)),ROWS($A$1:G58))))","v":""},{"$f":"IF(ROWS($A$1:H58)>COUNTIF(Main!$C$8:$C$100,$C$7),\"\",INDEX(Main!I$8:I$100,SMALL(IF(Main!I$8:I$100<>\"\",IF(Main!$C$8:$C$100=$C$7,ROW(I$8:I$100)-ROW(I$8)+1)),ROWS($A$1:H58))))","v":""},{"$f":"IF(ROWS($A$1:I58)>COUNTIF(Main!$C$8:$C$100,$C$7),\"\",INDEX(Main!J$8:J$100,SMALL(IF(Main!J$8:J$100<>\"\",IF(Main!$C$8:$C$100=$C$7,ROW(J$8:J$100)-ROW(J$8)+1)),ROWS($A$1:I58))))","v":""},"",{"$f":"IF(ROWS($A$1:K58)>COUNTIF(Main!$C$8:$C$100,$C$7),\"\",INDEX(Main!L$8:L$100,SMALL(IF(Main!L$8:L$100<>\"\",IF(Main!$C$8:$C$100=$C$7,ROW(L$8:L$100)-ROW(L$8)+1)),ROWS($A$1:K58))))","v":""}]
[{"$f":"IF(B66=\"\",\"\",MAX($A$7:A65)+1)","v":""},{"$f":"IF(ROWS($A$1:A59)>COUNTIF(Main!$C$8:$C$100,$C$7),\"\",INDEX(Main!B$8:B$100,SMALL(IF(Main!B$8:B$100<>\"\",IF(Main!$C$8:$C$100=$C$7,ROW(B$8:B$100)-ROW(B$8)+1)),ROWS($A$1:A59))))","v":""},{"$f":"IF(ROWS($A$1:B59)>COUNTIF(Main!$C$8:$C$100,$C$7),\"\",INDEX(Main!C$8:C$100,SMALL(IF(Main!C$8:C$100<>\"\",IF(Main!$C$8:$C$100=$C$7,ROW(C$8:C$100)-ROW(C$8)+1)),ROWS($A$1:B59))))","v":""},{"$f":"IF(ROWS($A$1:C59)>COUNTIF(Main!$C$8:$C$100,$C$7),\"\",INDEX(Main!D$8:D$100,SMALL(IF(Main!D$8:D$100<>\"\",IF(Main!$C$8:$C$100=$C$7,ROW(D$8:D$100)-ROW(D$8)+1)),ROWS($A$1:C59))))","v":""},{"$f":"IF(ROWS($A$1:D59)>COUNTIF(Main!$C$8:$C$100,$C$7),\"\",INDEX(Main!E$8:E$100,SMALL(IF(Main!E$8:E$100<>\"\",IF(Main!$C$8:$C$100=$C$7,ROW(E$8:E$100)-ROW(E$8)+1)),ROWS($A$1:D59))))","v":""},{"$f":"IF(ROWS($A$1:E59)>COUNTIF(Main!$C$8:$C$100,$C$7),\"\",INDEX(Main!F$8:F$100,SMALL(IF(Main!F$8:F$100<>\"\",IF(Main!$C$8:$C$100=$C$7,ROW(F$8:F$100)-ROW(F$8)+1)),ROWS($A$1:E59))))","v":""},{"$f":"IF(ROWS($A$1:F59)>COUNTIF(Main!$C$8:$C$100,$C$7),\"\",INDEX(Main!G$8:G$100,SMALL(IF(Main!G$8:G$100<>\"\",IF(Main!$C$8:$C$100=$C$7,ROW(G$8:G$100)-ROW(G$8)+1)),ROWS($A$1:F59))))","v":""},{"$f":"IF(ROWS($A$1:G59)>COUNTIF(Main!$C$8:$C$100,$C$7),\"\",INDEX(Main!H$8:H$100,SMALL(IF(Main!H$8:H$100<>\"\",IF(Main!$C$8:$C$100=$C$7,ROW(H$8:H$100)-ROW(H$8)+1)),ROWS($A$1:G59))))","v":""},{"$f":"IF(ROWS($A$1:H59)>COUNTIF(Main!$C$8:$C$100,$C$7),\"\",INDEX(Main!I$8:I$100,SMALL(IF(Main!I$8:I$100<>\"\",IF(Main!$C$8:$C$100=$C$7,ROW(I$8:I$100)-ROW(I$8)+1)),ROWS($A$1:H59))))","v":""},{"$f":"IF(ROWS($A$1:I59)>COUNTIF(Main!$C$8:$C$100,$C$7),\"\",INDEX(Main!J$8:J$100,SMALL(IF(Main!J$8:J$100<>\"\",IF(Main!$C$8:$C$100=$C$7,ROW(J$8:J$100)-ROW(J$8)+1)),ROWS($A$1:I59))))","v":""},"",{"$f":"IF(ROWS($A$1:K59)>COUNTIF(Main!$C$8:$C$100,$C$7),\"\",INDEX(Main!L$8:L$100,SMALL(IF(Main!L$8:L$100<>\"\",IF(Main!$C$8:$C$100=$C$7,ROW(L$8:L$100)-ROW(L$8)+1)),ROWS($A$1:K59))))","v":""}]
[{"$f":"IF(B67=\"\",\"\",MAX($A$7:A66)+1)","v":""},{"$f":"IF(ROWS($A$1:A60)>COUNTIF(Main!$C$8:$C$100,$C$7),\"\",INDEX(Main!B$8:B$100,SMALL(IF(Main!B$8:B$100<>\"\",IF(Main!$C$8:$C$100=$C$7,ROW(B$8:B$100)-ROW(B$8)+1)),ROWS($A$1:A60))))","v":""},{"$f":"IF(ROWS($A$1:B60)>COUNTIF(Main!$C$8:$C$100,$C$7),\"\",INDEX(Main!C$8:C$100,SMALL(IF(Main!C$8:C$100<>\"\",IF(Main!$C$8:$C$100=$C$7,ROW(C$8:C$100)-ROW(C$8)+1)),ROWS($A$1:B60))))","v":""},{"$f":"IF(ROWS($A$1:C60)>COUNTIF(Main!$C$8:$C$100,$C$7),\"\",INDEX(Main!D$8:D$100,SMALL(IF(Main!D$8:D$100<>\"\",IF(Main!$C$8:$C$100=$C$7,ROW(D$8:D$100)-ROW(D$8)+1)),ROWS($A$1:C60))))","v":""},{"$f":"IF(ROWS($A$1:D60)>COUNTIF(Main!$C$8:$C$100,$C$7),\"\",INDEX(Main!E$8:E$100,SMALL(IF(Main!E$8:E$100<>\"\",IF(Main!$C$8:$C$100=$C$7,ROW(E$8:E$100)-ROW(E$8)+1)),ROWS($A$1:D60))))","v":""},{"$f":"IF(ROWS($A$1:E60)>COUNTIF(Main!$C$8:$C$100,$C$7),\"\",INDEX(Main!F$8:F$100,SMALL(IF(Main!F$8:F$100<>\"\",IF(Main!$C$8:$C$100=$C$7,ROW(F$8:F$100)-ROW(F$8)+1)),ROWS($A$1:E60))))","v":""},{"$f":"IF(ROWS($A$1:F60)>COUNTIF(Main!$C$8:$C$100,$C$7),\"\",INDEX(Main!G$8:G$100,SMALL(IF(Main!G$8:G$100<>\"\",IF(Main!$C$8:$C$100=$C$7,ROW(G$8:G$100)-ROW(G$8)+1)),ROWS($A$1:F60))))","v":""},{"$f":"IF(ROWS($A$1:G60)>COUNTIF(Main!$C$8:$C$100,$C$7),\"\",INDEX(Main!H$8:H$100,SMALL(IF(Main!H$8:H$100<>\"\",IF(Main!$C$8:$C$100=$C$7,ROW(H$8:H$100)-ROW(H$8)+1)),ROWS($A$1:G60))))","v":""},{"$f":"IF(ROWS($A$1:H60)>COUNTIF(Main!$C$8:$C$100,$C$7),\"\",INDEX(Main!I$8:I$100,SMALL(IF(Main!I$8:I$100<>\"\",IF(Main!$C$8:$C$100=$C$7,ROW(I$8:I$100)-ROW(I$8)+1)),ROWS($A$1:H60))))","v":""},{"$f":"IF(ROWS($A$1:I60)>COUNTIF(Main!$C$8:$C$100,$C$7),\"\",INDEX(Main!J$8:J$100,SMALL(IF(Main!J$8:J$100<>\"\",IF(Main!$C$8:$C$100=$C$7,ROW(J$8:J$100)-ROW(J$8)+1)),ROWS($A$1:I60))))","v":""},"",{"$f":"IF(ROWS($A$1:K60)>COUNTIF(Main!$C$8:$C$100,$C$7),\"\",INDEX(Main!L$8:L$100,SMALL(IF(Main!L$8:L$100<>\"\",IF(Main!$C$8:$C$100=$C$7,ROW(L$8:L$100)-ROW(L$8)+1)),ROWS($A$1:K60))))","v":""}]
[{"$f":"IF(B68=\"\",\"\",MAX($A$7:A67)+1)","v":""},{"$f":"IF(ROWS($A$1:A61)>COUNTIF(Main!$C$8:$C$100,$C$7),\"\",INDEX(Main!B$8:B$100,SMALL(IF(Main!B$8:B$100<>\"\",IF(Main!$C$8:$C$100=$C$7,ROW(B$8:B$100)-ROW(B$8)+1)),ROWS($A$1:A61))))","v":""},{"$f":"IF(ROWS($A$1:B61)>COUNTIF(Main!$C$8:$C$100,$C$7),\"\",INDEX(Main!C$8:C$100,SMALL(IF(Main!C$8:C$100<>\"\",IF(Main!$C$8:$C$100=$C$7,ROW(C$8:C$100)-ROW(C$8)+1)),ROWS($A$1:B61))))","v":""},{"$f":"IF(ROWS($A$1:C61)>COUNTIF(Main!$C$8:$C$100,$C$7),\"\",INDEX(Main!D$8:D$100,SMALL(IF(Main!D$8:D$100<>\"\",IF(Main!$C$8:$C$100=$C$7,ROW(D$8:D$100)-ROW(D$8)+1)),ROWS($A$1:C61))))","v":""},{"$f":"IF(ROWS($A$1:D61)>COUNTIF(Main!$C$8:$C$100,$C$7),\"\",INDEX(Main!E$8:E$100,SMALL(IF(Main!E$8:E$100<>\"\",IF(Main!$C$8:$C$100=$C$7,ROW(E$8:E$100)-ROW(E$8)+1)),ROWS($A$1:D61))))","v":""},{"$f":"IF(ROWS($A$1:E61)>COUNTIF(Main!$C$8:$C$100,$C$7),\"\",INDEX(Main!F$8:F$100,SMALL(IF(Main!F$8:F$100<>\"\",IF(Main!$C$8:$C$100=$C$7,ROW(F$8:F$100)-ROW(F$8)+1)),ROWS($A$1:E61))))","v":""},{"$f":"IF(ROWS($A$1:F61)>COUNTIF(Main!$C$8:$C$100,$C$7),\"\",INDEX(Main!G$8:G$100,SMALL(IF(Main!G$8:G$100<>\"\",IF(Main!$C$8:$C$100=$C$7,ROW(G$8:G$100)-ROW(G$8)+1)),ROWS($A$1:F61))))","v":""},{"$f":"IF(ROWS($A$1:G61)>COUNTIF(Main!$C$8:$C$100,$C$7),\"\",INDEX(Main!H$8:H$100,SMALL(IF(Main!H$8:H$100<>\"\",IF(Main!$C$8:$C$100=$C$7,ROW(H$8:H$100)-ROW(H$8)+1)),ROWS($A$1:G61))))","v":""},{"$f":"IF(ROWS($A$1:H61)>COUNTIF(Main!$C$8:$C$100,$C$7),\"\",INDEX(Main!I$8:I$100,SMALL(IF(Main!I$8:I$100<>\"\",IF(Main!$C$8:$C$100=$C$7,ROW(I$8:I$100)-ROW(I$8)+1)),ROWS($A$1:H61))))","v":""},{"$f":"IF(ROWS($A$1:I61)>COUNTIF(Main!$C$8:$C$100,$C$7),\"\",INDEX(Main!J$8:J$100,SMALL(IF(Main!J$8:J$100<>\"\",IF(Main!$C$8:$C$100=$C$7,ROW(J$8:J$100)-ROW(J$8)+1)),ROWS($A$1:I61))))","v":""},"",{"$f":"IF(ROWS($A$1:K61)>COUNTIF(Main!$C$8:$C$100,$C$7),\"\",INDEX(Main!L$8:L$100,SMALL(IF(Main!L$8:L$100<>\"\",IF(Main!$C$8:$C$100=$C$7,ROW(L$8:L$100)-ROW(L$8)+1)),ROWS($A$1:K61))))","v":""}]
[{"$f":"IF(B69=\"\",\"\",MAX($A$7:A68)+1)","v":""},{"$f":"IF(ROWS($A$1:A62)>COUNTIF(Main!$C$8:$C$100,$C$7),\"\",INDEX(Main!B$8:B$100,SMALL(IF(Main!B$8:B$100<>\"\",IF(Main!$C$8:$C$100=$C$7,ROW(B$8:B$100)-ROW(B$8)+1)),ROWS($A$1:A62))))","v":""},{"$f":"IF(ROWS($A$1:B62)>COUNTIF(Main!$C$8:$C$100,$C$7),\"\",INDEX(Main!C$8:C$100,SMALL(IF(Main!C$8:C$100<>\"\",IF(Main!$C$8:$C$100=$C$7,ROW(C$8:C$100)-ROW(C$8)+1)),ROWS($A$1:B62))))","v":""},{"$f":"IF(ROWS($A$1:C62)>COUNTIF(Main!$C$8:$C$100,$C$7),\"\",INDEX(Main!D$8:D$100,SMALL(IF(Main!D$8:D$100<>\"\",IF(Main!$C$8:$C$100=$C$7,ROW(D$8:D$100)-ROW(D$8)+1)),ROWS($A$1:C62))))","v":""},{"$f":"IF(ROWS($A$1:D62)>COUNTIF(Main!$C$8:$C$100,$C$7),\"\",INDEX(Main!E$8:E$100,SMALL(IF(Main!E$8:E$100<>\"\",IF(Main!$C$8:$C$100=$C$7,ROW(E$8:E$100)-ROW(E$8)+1)),ROWS($A$1:D62))))","v":""},{"$f":"IF(ROWS($A$1:E62)>COUNTIF(Main!$C$8:$C$100,$C$7),\"\",INDEX(Main!F$8:F$100,SMALL(IF(Main!F$8:F$100<>\"\",IF(Main!$C$8:$C$100=$C$7,ROW(F$8:F$100)-ROW(F$8)+1)),ROWS($A$1:E62))))","v":""},{"$f":"IF(ROWS($A$1:F62)>COUNTIF(Main!$C$8:$C$100,$C$7),\"\",INDEX(Main!G$8:G$100,SMALL(IF(Main!G$8:G$100<>\"\",IF(Main!$C$8:$C$100=$C$7,ROW(G$8:G$100)-ROW(G$8)+1)),ROWS($A$1:F62))))","v":""},{"$f":"IF(ROWS($A$1:G62)>COUNTIF(Main!$C$8:$C$100,$C$7),\"\",INDEX(Main!H$8:H$100,SMALL(IF(Main!H$8:H$100<>\"\",IF(Main!$C$8:$C$100=$C$7,ROW(H$8:H$100)-ROW(H$8)+1)),ROWS($A$1:G62))))","v":""},{"$f":"IF(ROWS($A$1:H62)>COUNTIF(Main!$C$8:$C$100,$C$7),\"\",INDEX(Main!I$8:I$100,SMALL(IF(Main!I$8:I$100<>\"\",IF(Main!$C$8:$C$100=$C$7,ROW(I$8:I$100)-ROW(I$8)+1)),ROWS($A$1:H62))))","v":""},{"$f":"IF(ROWS($A$1:I62)>COUNTIF(Main!$C$8:$C$100,$C$7),\"\",INDEX(Main!J$8:J$100,SMALL(IF(Main!J$8:J$100<>\"\",IF(Main!$C$8:$C$100=$C$7,ROW(J$8:J$100)-ROW(J$8)+1)),ROWS($A$1:I62))))","v":""},"",{"$f":"IF(ROWS($A$1:K62)>COUNTIF(Main!$C$8:$C$100,$C$7),\"\",INDEX(Main!L$8:L$100,SMALL(IF(Main!L$8:L$100<>\"\",IF(Main!$C$8:$C$100=$C$7,ROW(L$8:L$100)-ROW(L$8)+1)),ROWS($A$1:K62))))","v":""}]
[{"$f":"IF(B70=\"\",\"\",MAX($A$7:A69)+1)","v":""},{"$f":"IF(ROWS($A$1:A63)>COUNTIF(Main!$C$8:$C$100,$C$7),\"\",INDEX(Main!B$8:B$100,SMALL(IF(Main!B$8:B$100<>\"\",IF(Main!$C$8:$C$100=$C$7,ROW(B$8:B$100)-ROW(B$8)+1)),ROWS($A$1:A63))))","v":""},{"$f":"IF(ROWS($A$1:B63)>COUNTIF(Main!$C$8:$C$100,$C$7),\"\",INDEX(Main!C$8:C$100,SMALL(IF(Main!C$8:C$100<>\"\",IF(Main!$C$8:$C$100=$C$7,ROW(C$8:C$100)-ROW(C$8)+1)),ROWS($A$1:B63))))","v":""},{"$f":"IF(ROWS($A$1:C63)>COUNTIF(Main!$C$8:$C$100,$C$7),\"\",INDEX(Main!D$8:D$100,SMALL(IF(Main!D$8:D$100<>\"\",IF(Main!$C$8:$C$100=$C$7,ROW(D$8:D$100)-ROW(D$8)+1)),ROWS($A$1:C63))))","v":""},{"$f":"IF(ROWS($A$1:D63)>COUNTIF(Main!$C$8:$C$100,$C$7),\"\",INDEX(Main!E$8:E$100,SMALL(IF(Main!E$8:E$100<>\"\",IF(Main!$C$8:$C$100=$C$7,ROW(E$8:E$100)-ROW(E$8)+1)),ROWS($A$1:D63))))","v":""},{"$f":"IF(ROWS($A$1:E63)>COUNTIF(Main!$C$8:$C$100,$C$7),\"\",INDEX(Main!F$8:F$100,SMALL(IF(Main!F$8:F$100<>\"\",IF(Main!$C$8:$C$100=$C$7,ROW(F$8:F$100)-ROW(F$8)+1)),ROWS($A$1:E63))))","v":""},{"$f":"IF(ROWS($A$1:F63)>COUNTIF(Main!$C$8:$C$100,$C$7),\"\",INDEX(Main!G$8:G$100,SMALL(IF(Main!G$8:G$100<>\"\",IF(Main!$C$8:$C$100=$C$7,ROW(G$8:G$100)-ROW(G$8)+1)),ROWS($A$1:F63))))","v":""},{"$f":"IF(ROWS($A$1:G63)>COUNTIF(Main!$C$8:$C$100,$C$7),\"\",INDEX(Main!H$8:H$100,SMALL(IF(Main!H$8:H$100<>\"\",IF(Main!$C$8:$C$100=$C$7,ROW(H$8:H$100)-ROW(H$8)+1)),ROWS($A$1:G63))))","v":""},{"$f":"IF(ROWS($A$1:H63)>COUNTIF(Main!$C$8:$C$100,$C$7),\"\",INDEX(Main!I$8:I$100,SMALL(IF(Main!I$8:I$100<>\"\",IF(Main!$C$8:$C$100=$C$7,ROW(I$8:I$100)-ROW(I$8)+1)),ROWS($A$1:H63))))","v":""},{"$f":"IF(ROWS($A$1:I63)>COUNTIF(Main!$C$8:$C$100,$C$7),\"\",INDEX(Main!J$8:J$100,SMALL(IF(Main!J$8:J$100<>\"\",IF(Main!$C$8:$C$100=$C$7,ROW(J$8:J$100)-ROW(J$8)+1)),ROWS($A$1:I63))))","v":""},"",{"$f":"IF(ROWS($A$1:K63)>COUNTIF(Main!$C$8:$C$100,$C$7),\"\",INDEX(Main!L$8:L$100,SMALL(IF(Main!L$8:L$100<>\"\",IF(Main!$C$8:$C$100=$C$7,ROW(L$8:L$100)-ROW(L$8)+1)),ROWS($A$1:K63))))","v":""}]
[{"$f":"IF(B71=\"\",\"\",MAX($A$7:A70)+1)","v":""},{"$f":"IF(ROWS($A$1:A64)>COUNTIF(Main!$C$8:$C$100,$C$7),\"\",INDEX(Main!B$8:B$100,SMALL(IF(Main!B$8:B$100<>\"\",IF(Main!$C$8:$C$100=$C$7,ROW(B$8:B$100)-ROW(B$8)+1)),ROWS($A$1:A64))))","v":""},{"$f":"IF(ROWS($A$1:B64)>COUNTIF(Main!$C$8:$C$100,$C$7),\"\",INDEX(Main!C$8:C$100,SMALL(IF(Main!C$8:C$100<>\"\",IF(Main!$C$8:$C$100=$C$7,ROW(C$8:C$100)-ROW(C$8)+1)),ROWS($A$1:B64))))","v":""},{"$f":"IF(ROWS($A$1:C64)>COUNTIF(Main!$C$8:$C$100,$C$7),\"\",INDEX(Main!D$8:D$100,SMALL(IF(Main!D$8:D$100<>\"\",IF(Main!$C$8:$C$100=$C$7,ROW(D$8:D$100)-ROW(D$8)+1)),ROWS($A$1:C64))))","v":""},{"$f":"IF(ROWS($A$1:D64)>COUNTIF(Main!$C$8:$C$100,$C$7),\"\",INDEX(Main!E$8:E$100,SMALL(IF(Main!E$8:E$100<>\"\",IF(Main!$C$8:$C$100=$C$7,ROW(E$8:E$100)-ROW(E$8)+1)),ROWS($A$1:D64))))","v":""},{"$f":"IF(ROWS($A$1:E64)>COUNTIF(Main!$C$8:$C$100,$C$7),\"\",INDEX(Main!F$8:F$100,SMALL(IF(Main!F$8:F$100<>\"\",IF(Main!$C$8:$C$100=$C$7,ROW(F$8:F$100)-ROW(F$8)+1)),ROWS($A$1:E64))))","v":""},{"$f":"IF(ROWS($A$1:F64)>COUNTIF(Main!$C$8:$C$100,$C$7),\"\",INDEX(Main!G$8:G$100,SMALL(IF(Main!G$8:G$100<>\"\",IF(Main!$C$8:$C$100=$C$7,ROW(G$8:G$100)-ROW(G$8)+1)),ROWS($A$1:F64))))","v":""},{"$f":"IF(ROWS($A$1:G64)>COUNTIF(Main!$C$8:$C$100,$C$7),\"\",INDEX(Main!H$8:H$100,SMALL(IF(Main!H$8:H$100<>\"\",IF(Main!$C$8:$C$100=$C$7,ROW(H$8:H$100)-ROW(H$8)+1)),ROWS($A$1:G64))))","v":""},{"$f":"IF(ROWS($A$1:H64)>COUNTIF(Main!$C$8:$C$100,$C$7),\"\",INDEX(Main!I$8:I$100,SMALL(IF(Main!I$8:I$100<>\"\",IF(Main!$C$8:$C$100=$C$7,ROW(I$8:I$100)-ROW(I$8)+1)),ROWS($A$1:H64))))","v":""},{"$f":"IF(ROWS($A$1:I64)>COUNTIF(Main!$C$8:$C$100,$C$7),\"\",INDEX(Main!J$8:J$100,SMALL(IF(Main!J$8:J$100<>\"\",IF(Main!$C$8:$C$100=$C$7,ROW(J$8:J$100)-ROW(J$8)+1)),ROWS($A$1:I64))))","v":""},"",{"$f":"IF(ROWS($A$1:K64)>COUNTIF(Main!$C$8:$C$100,$C$7),\"\",INDEX(Main!L$8:L$100,SMALL(IF(Main!L$8:L$100<>\"\",IF(Main!$C$8:$C$100=$C$7,ROW(L$8:L$100)-ROW(L$8)+1)),ROWS($A$1:K64))))","v":""}]
[{"$f":"IF(B72=\"\",\"\",MAX($A$7:A71)+1)","v":""},{"$f":"IF(ROWS($A$1:A65)>COUNTIF(Main!$C$8:$C$100,$C$7),\"\",INDEX(Main!B$8:B$100,SMALL(IF(Main!B$8:B$100<>\"\",IF(Main!$C$8:$C$100=$C$7,ROW(B$8:B$100)-ROW(B$8)+1)),ROWS($A$1:A65))))","v":""},{"$f":"IF(ROWS($A$1:B65)>COUNTIF(Main!$C$8:$C$100,$C$7),\"\",INDEX(Main!C$8:C$100,SMALL(IF(Main!C$8:C$100<>\"\",IF(Main!$C$8:$C$100=$C$7,ROW(C$8:C$100)-ROW(C$8)+1)),ROWS($A$1:B65))))","v":""},{"$f":"IF(ROWS($A$1:C65)>COUNTIF(Main!$C$8:$C$100,$C$7),\"\",INDEX(Main!D$8:D$100,SMALL(IF(Main!D$8:D$100<>\"\",IF(Main!$C$8:$C$100=$C$7,ROW(D$8:D$100)-ROW(D$8)+1)),ROWS($A$1:C65))))","v":""},{"$f":"IF(ROWS($A$1:D65)>COUNTIF(Main!$C$8:$C$100,$C$7),\"\",INDEX(Main!E$8:E$100,SMALL(IF(Main!E$8:E$100<>\"\",IF(Main!$C$8:$C$100=$C$7,ROW(E$8:E$100)-ROW(E$8)+1)),ROWS($A$1:D65))))","v":""},{"$f":"IF(ROWS($A$1:E65)>COUNTIF(Main!$C$8:$C$100,$C$7),\"\",INDEX(Main!F$8:F$100,SMALL(IF(Main!F$8:F$100<>\"\",IF(Main!$C$8:$C$100=$C$7,ROW(F$8:F$100)-ROW(F$8)+1)),ROWS($A$1:E65))))","v":""},{"$f":"IF(ROWS($A$1:F65)>COUNTIF(Main!$C$8:$C$100,$C$7),\"\",INDEX(Main!G$8:G$100,SMALL(IF(Main!G$8:G$100<>\"\",IF(Main!$C$8:$C$100=$C$7,ROW(G$8:G$100)-ROW(G$8)+1)),ROWS($A$1:F65))))","v":""},{"$f":"IF(ROWS($A$1:G65)>COUNTIF(Main!$C$8:$C$100,$C$7),\"\",INDEX(Main!H$8:H$100,SMALL(IF(Main!H$8:H$100<>\"\",IF(Main!$C$8:$C$100=$C$7,ROW(H$8:H$100)-ROW(H$8)+1)),ROWS($A$1:G65))))","v":""},{"$f":"IF(ROWS($A$1:H65)>COUNTIF(Main!$C$8:$C$100,$C$7),\"\",INDEX(Main!I$8:I$100,SMALL(IF(Main!I$8:I$100<>\"\",IF(Main!$C$8:$C$100=$C$7,ROW(I$8:I$100)-ROW(I$8)+1)),ROWS($A$1:H65))))","v":""},{"$f":"IF(ROWS($A$1:I65)>COUNTIF(Main!$C$8:$C$100,$C$7),\"\",INDEX(Main!J$8:J$100,SMALL(IF(Main!J$8:J$100<>\"\",IF(Main!$C$8:$C$100=$C$7,ROW(J$8:J$100)-ROW(J$8)+1)),ROWS($A$1:I65))))","v":""},"",{"$f":"IF(ROWS($A$1:K65)>COUNTIF(Main!$C$8:$C$100,$C$7),\"\",INDEX(Main!L$8:L$100,SMALL(IF(Main!L$8:L$100<>\"\",IF(Main!$C$8:$C$100=$C$7,ROW(L$8:L$100)-ROW(L$8)+1)),ROWS($A$1:K65))))","v":""}]
[{"$f":"IF(B73=\"\",\"\",MAX($A$7:A72)+1)","v":""},{"$f":"IF(ROWS($A$1:A66)>COUNTIF(Main!$C$8:$C$100,$C$7),\"\",INDEX(Main!B$8:B$100,SMALL(IF(Main!B$8:B$100<>\"\",IF(Main!$C$8:$C$100=$C$7,ROW(B$8:B$100)-ROW(B$8)+1)),ROWS($A$1:A66))))","v":""},{"$f":"IF(ROWS($A$1:B66)>COUNTIF(Main!$C$8:$C$100,$C$7),\"\",INDEX(Main!C$8:C$100,SMALL(IF(Main!C$8:C$100<>\"\",IF(Main!$C$8:$C$100=$C$7,ROW(C$8:C$100)-ROW(C$8)+1)),ROWS($A$1:B66))))","v":""},{"$f":"IF(ROWS($A$1:C66)>COUNTIF(Main!$C$8:$C$100,$C$7),\"\",INDEX(Main!D$8:D$100,SMALL(IF(Main!D$8:D$100<>\"\",IF(Main!$C$8:$C$100=$C$7,ROW(D$8:D$100)-ROW(D$8)+1)),ROWS($A$1:C66))))","v":""},{"$f":"IF(ROWS($A$1:D66)>COUNTIF(Main!$C$8:$C$100,$C$7),\"\",INDEX(Main!E$8:E$100,SMALL(IF(Main!E$8:E$100<>\"\",IF(Main!$C$8:$C$100=$C$7,ROW(E$8:E$100)-ROW(E$8)+1)),ROWS($A$1:D66))))","v":""},{"$f":"IF(ROWS($A$1:E66)>COUNTIF(Main!$C$8:$C$100,$C$7),\"\",INDEX(Main!F$8:F$100,SMALL(IF(Main!F$8:F$100<>\"\",IF(Main!$C$8:$C$100=$C$7,ROW(F$8:F$100)-ROW(F$8)+1)),ROWS($A$1:E66))))","v":""},{"$f":"IF(ROWS($A$1:F66)>COUNTIF(Main!$C$8:$C$100,$C$7),\"\",INDEX(Main!G$8:G$100,SMALL(IF(Main!G$8:G$100<>\"\",IF(Main!$C$8:$C$100=$C$7,ROW(G$8:G$100)-ROW(G$8)+1)),ROWS($A$1:F66))))","v":""},{"$f":"IF(ROWS($A$1:G66)>COUNTIF(Main!$C$8:$C$100,$C$7),\"\",INDEX(Main!H$8:H$100,SMALL(IF(Main!H$8:H$100<>\"\",IF(Main!$C$8:$C$100=$C$7,ROW(H$8:H$100)-ROW(H$8)+1)),ROWS($A$1:G66))))","v":""},{"$f":"IF(ROWS($A$1:H66)>COUNTIF(Main!$C$8:$C$100,$C$7),\"\",INDEX(Main!I$8:I$100,SMALL(IF(Main!I$8:I$100<>\"\",IF(Main!$C$8:$C$100=$C$7,ROW(I$8:I$100)-ROW(I$8)+1)),ROWS($A$1:H66))))","v":""},{"$f":"IF(ROWS($A$1:I66)>COUNTIF(Main!$C$8:$C$100,$C$7),\"\",INDEX(Main!J$8:J$100,SMALL(IF(Main!J$8:J$100<>\"\",IF(Main!$C$8:$C$100=$C$7,ROW(J$8:J$100)-ROW(J$8)+1)),ROWS($A$1:I66))))","v":""},"",{"$f":"IF(ROWS($A$1:K66)>COUNTIF(Main!$C$8:$C$100,$C$7),\"\",INDEX(Main!L$8:L$100,SMALL(IF(Main!L$8:L$100<>\"\",IF(Main!$C$8:$C$100=$C$7,ROW(L$8:L$100)-ROW(L$8)+1)),ROWS($A$1:K66))))","v":""}]
[{"$f":"IF(B74=\"\",\"\",MAX($A$7:A73)+1)","v":""},{"$f":"IF(ROWS($A$1:A67)>COUNTIF(Main!$C$8:$C$100,$C$7),\"\",INDEX(Main!B$8:B$100,SMALL(IF(Main!B$8:B$100<>\"\",IF(Main!$C$8:$C$100=$C$7,ROW(B$8:B$100)-ROW(B$8)+1)),ROWS($A$1:A67))))","v":""},{"$f":"IF(ROWS($A$1:B67)>COUNTIF(Main!$C$8:$C$100,$C$7),\"\",INDEX(Main!C$8:C$100,SMALL(IF(Main!C$8:C$100<>\"\",IF(Main!$C$8:$C$100=$C$7,ROW(C$8:C$100)-ROW(C$8)+1)),ROWS($A$1:B67))))","v":""},{"$f":"IF(ROWS($A$1:C67)>COUNTIF(Main!$C$8:$C$100,$C$7),\"\",INDEX(Main!D$8:D$100,SMALL(IF(Main!D$8:D$100<>\"\",IF(Main!$C$8:$C$100=$C$7,ROW(D$8:D$100)-ROW(D$8)+1)),ROWS($A$1:C67))))","v":""},{"$f":"IF(ROWS($A$1:D67)>COUNTIF(Main!$C$8:$C$100,$C$7),\"\",INDEX(Main!E$8:E$100,SMALL(IF(Main!E$8:E$100<>\"\",IF(Main!$C$8:$C$100=$C$7,ROW(E$8:E$100)-ROW(E$8)+1)),ROWS($A$1:D67))))","v":""},{"$f":"IF(ROWS($A$1:E67)>COUNTIF(Main!$C$8:$C$100,$C$7),\"\",INDEX(Main!F$8:F$100,SMALL(IF(Main!F$8:F$100<>\"\",IF(Main!$C$8:$C$100=$C$7,ROW(F$8:F$100)-ROW(F$8)+1)),ROWS($A$1:E67))))","v":""},{"$f":"IF(ROWS($A$1:F67)>COUNTIF(Main!$C$8:$C$100,$C$7),\"\",INDEX(Main!G$8:G$100,SMALL(IF(Main!G$8:G$100<>\"\",IF(Main!$C$8:$C$100=$C$7,ROW(G$8:G$100)-ROW(G$8)+1)),ROWS($A$1:F67))))","v":""},{"$f":"IF(ROWS($A$1:G67)>COUNTIF(Main!$C$8:$C$100,$C$7),\"\",INDEX(Main!H$8:H$100,SMALL(IF(Main!H$8:H$100<>\"\",IF(Main!$C$8:$C$100=$C$7,ROW(H$8:H$100)-ROW(H$8)+1)),ROWS($A$1:G67))))","v":""},{"$f":"IF(ROWS($A$1:H67)>COUNTIF(Main!$C$8:$C$100,$C$7),\"\",INDEX(Main!I$8:I$100,SMALL(IF(Main!I$8:I$100<>\"\",IF(Main!$C$8:$C$100=$C$7,ROW(I$8:I$100)-ROW(I$8)+1)),ROWS($A$1:H67))))","v":""},{"$f":"IF(ROWS($A$1:I67)>COUNTIF(Main!$C$8:$C$100,$C$7),\"\",INDEX(Main!J$8:J$100,SMALL(IF(Main!J$8:J$100<>\"\",IF(Main!$C$8:$C$100=$C$7,ROW(J$8:J$100)-ROW(J$8)+1)),ROWS($A$1:I67))))","v":""},"",{"$f":"IF(ROWS($A$1:K67)>COUNTIF(Main!$C$8:$C$100,$C$7),\"\",INDEX(Main!L$8:L$100,SMALL(IF(Main!L$8:L$100<>\"\",IF(Main!$C$8:$C$100=$C$7,ROW(L$8:L$100)-ROW(L$8)+1)),ROWS($A$1:K67))))","v":""}]
[{"$f":"IF(B75=\"\",\"\",MAX($A$7:A74)+1)","v":""},{"$f":"IF(ROWS($A$1:A68)>COUNTIF(Main!$C$8:$C$100,$C$7),\"\",INDEX(Main!B$8:B$100,SMALL(IF(Main!B$8:B$100<>\"\",IF(Main!$C$8:$C$100=$C$7,ROW(B$8:B$100)-ROW(B$8)+1)),ROWS($A$1:A68))))","v":""},{"$f":"IF(ROWS($A$1:B68)>COUNTIF(Main!$C$8:$C$100,$C$7),\"\",INDEX(Main!C$8:C$100,SMALL(IF(Main!C$8:C$100<>\"\",IF(Main!$C$8:$C$100=$C$7,ROW(C$8:C$100)-ROW(C$8)+1)),ROWS($A$1:B68))))","v":""},{"$f":"IF(ROWS($A$1:C68)>COUNTIF(Main!$C$8:$C$100,$C$7),\"\",INDEX(Main!D$8:D$100,SMALL(IF(Main!D$8:D$100<>\"\",IF(Main!$C$8:$C$100=$C$7,ROW(D$8:D$100)-ROW(D$8)+1)),ROWS($A$1:C68))))","v":""},{"$f":"IF(ROWS($A$1:D68)>COUNTIF(Main!$C$8:$C$100,$C$7),\"\",INDEX(Main!E$8:E$100,SMALL(IF(Main!E$8:E$100<>\"\",IF(Main!$C$8:$C$100=$C$7,ROW(E$8:E$100)-ROW(E$8)+1)),ROWS($A$1:D68))))","v":""},{"$f":"IF(ROWS($A$1:E68)>COUNTIF(Main!$C$8:$C$100,$C$7),\"\",INDEX(Main!F$8:F$100,SMALL(IF(Main!F$8:F$100<>\"\",IF(Main!$C$8:$C$100=$C$7,ROW(F$8:F$100)-ROW(F$8)+1)),ROWS($A$1:E68))))","v":""},{"$f":"IF(ROWS($A$1:F68)>COUNTIF(Main!$C$8:$C$100,$C$7),\"\",INDEX(Main!G$8:G$100,SMALL(IF(Main!G$8:G$100<>\"\",IF(Main!$C$8:$C$100=$C$7,ROW(G$8:G$100)-ROW(G$8)+1)),ROWS($A$1:F68))))","v":""},{"$f":"IF(ROWS($A$1:G68)>COUNTIF(Main!$C$8:$C$100,$C$7),\"\",INDEX(Main!H$8:H$100,SMALL(IF(Main!H$8:H$100<>\"\",IF(Main!$C$8:$C$100=$C$7,ROW(H$8:H$100)-ROW(H$8)+1)),ROWS($A$1:G68))))","v":""},{"$f":"IF(ROWS($A$1:H68)>COUNTIF(Main!$C$8:$C$100,$C$7),\"\",INDEX(Main!I$8:I$100,SMALL(IF(Main!I$8:I$100<>\"\",IF(Main!$C$8:$C$100=$C$7,ROW(I$8:I$100)-ROW(I$8)+1)),ROWS($A$1:H68))))","v":""},{"$f":"IF(ROWS($A$1:I68)>COUNTIF(Main!$C$8:$C$100,$C$7),\"\",INDEX(Main!J$8:J$100,SMALL(IF(Main!J$8:J$100<>\"\",IF(Main!$C$8:$C$100=$C$7,ROW(J$8:J$100)-ROW(J$8)+1)),ROWS($A$1:I68))))","v":""},"",{"$f":"IF(ROWS($A$1:K68)>COUNTIF(Main!$C$8:$C$100,$C$7),\"\",INDEX(Main!L$8:L$100,SMALL(IF(Main!L$8:L$100<>\"\",IF(Main!$C$8:$C$100=$C$7,ROW(L$8:L$100)-ROW(L$8)+1)),ROWS($A$1:K68))))","v":""}]
[{"$f":"IF(B76=\"\",\"\",MAX($A$7:A75)+1)","v":""},{"$f":"IF(ROWS($A$1:A69)>COUNTIF(Main!$C$8:$C$100,$C$7),\"\",INDEX(Main!B$8:B$100,SMALL(IF(Main!B$8:B$100<>\"\",IF(Main!$C$8:$C$100=$C$7,ROW(B$8:B$100)-ROW(B$8)+1)),ROWS($A$1:A69))))","v":""},{"$f":"IF(ROWS($A$1:B69)>COUNTIF(Main!$C$8:$C$100,$C$7),\"\",INDEX(Main!C$8:C$100,SMALL(IF(Main!C$8:C$100<>\"\",IF(Main!$C$8:$C$100=$C$7,ROW(C$8:C$100)-ROW(C$8)+1)),ROWS($A$1:B69))))","v":""},{"$f":"IF(ROWS($A$1:C69)>COUNTIF(Main!$C$8:$C$100,$C$7),\"\",INDEX(Main!D$8:D$100,SMALL(IF(Main!D$8:D$100<>\"\",IF(Main!$C$8:$C$100=$C$7,ROW(D$8:D$100)-ROW(D$8)+1)),ROWS($A$1:C69))))","v":""},{"$f":"IF(ROWS($A$1:D69)>COUNTIF(Main!$C$8:$C$100,$C$7),\"\",INDEX(Main!E$8:E$100,SMALL(IF(Main!E$8:E$100<>\"\",IF(Main!$C$8:$C$100=$C$7,ROW(E$8:E$100)-ROW(E$8)+1)),ROWS($A$1:D69))))","v":""},{"$f":"IF(ROWS($A$1:E69)>COUNTIF(Main!$C$8:$C$100,$C$7),\"\",INDEX(Main!F$8:F$100,SMALL(IF(Main!F$8:F$100<>\"\",IF(Main!$C$8:$C$100=$C$7,ROW(F$8:F$100)-ROW(F$8)+1)),ROWS($A$1:E69))))","v":""},{"$f":"IF(ROWS($A$1:F69)>COUNTIF(Main!$C$8:$C$100,$C$7),\"\",INDEX(Main!G$8:G$100,SMALL(IF(Main!G$8:G$100<>\"\",IF(Main!$C$8:$C$100=$C$7,ROW(G$8:G$100)-ROW(G$8)+1)),ROWS($A$1:F69))))","v":""},{"$f":"IF(ROWS($A$1:G69)>COUNTIF(Main!$C$8:$C$100,$C$7),\"\",INDEX(Main!H$8:H$100,SMALL(IF(Main!H$8:H$100<>\"\",IF(Main!$C$8:$C$100=$C$7,ROW(H$8:H$100)-ROW(H$8)+1)),ROWS($A$1:G69))))","v":""},{"$f":"IF(ROWS($A$1:H69)>COUNTIF(Main!$C$8:$C$100,$C$7),\"\",INDEX(Main!I$8:I$100,SMALL(IF(Main!I$8:I$100<>\"\",IF(Main!$C$8:$C$100=$C$7,ROW(I$8:I$100)-ROW(I$8)+1)),ROWS($A$1:H69))))","v":""},{"$f":"IF(ROWS($A$1:I69)>COUNTIF(Main!$C$8:$C$100,$C$7),\"\",INDEX(Main!J$8:J$100,SMALL(IF(Main!J$8:J$100<>\"\",IF(Main!$C$8:$C$100=$C$7,ROW(J$8:J$100)-ROW(J$8)+1)),ROWS($A$1:I69))))","v":""},"",{"$f":"IF(ROWS($A$1:K69)>COUNTIF(Main!$C$8:$C$100,$C$7),\"\",INDEX(Main!L$8:L$100,SMALL(IF(Main!L$8:L$100<>\"\",IF(Main!$C$8:$C$100=$C$7,ROW(L$8:L$100)-ROW(L$8)+1)),ROWS($A$1:K69))))","v":""}]
[{"$f":"IF(B77=\"\",\"\",MAX($A$7:A76)+1)","v":""},{"$f":"IF(ROWS($A$1:A70)>COUNTIF(Main!$C$8:$C$100,$C$7),\"\",INDEX(Main!B$8:B$100,SMALL(IF(Main!B$8:B$100<>\"\",IF(Main!$C$8:$C$100=$C$7,ROW(B$8:B$100)-ROW(B$8)+1)),ROWS($A$1:A70))))","v":""},{"$f":"IF(ROWS($A$1:B70)>COUNTIF(Main!$C$8:$C$100,$C$7),\"\",INDEX(Main!C$8:C$100,SMALL(IF(Main!C$8:C$100<>\"\",IF(Main!$C$8:$C$100=$C$7,ROW(C$8:C$100)-ROW(C$8)+1)),ROWS($A$1:B70))))","v":""},{"$f":"IF(ROWS($A$1:C70)>COUNTIF(Main!$C$8:$C$100,$C$7),\"\",INDEX(Main!D$8:D$100,SMALL(IF(Main!D$8:D$100<>\"\",IF(Main!$C$8:$C$100=$C$7,ROW(D$8:D$100)-ROW(D$8)+1)),ROWS($A$1:C70))))","v":""},{"$f":"IF(ROWS($A$1:D70)>COUNTIF(Main!$C$8:$C$100,$C$7),\"\",INDEX(Main!E$8:E$100,SMALL(IF(Main!E$8:E$100<>\"\",IF(Main!$C$8:$C$100=$C$7,ROW(E$8:E$100)-ROW(E$8)+1)),ROWS($A$1:D70))))","v":""},{"$f":"IF(ROWS($A$1:E70)>COUNTIF(Main!$C$8:$C$100,$C$7),\"\",INDEX(Main!F$8:F$100,SMALL(IF(Main!F$8:F$100<>\"\",IF(Main!$C$8:$C$100=$C$7,ROW(F$8:F$100)-ROW(F$8)+1)),ROWS($A$1:E70))))","v":""},{"$f":"IF(ROWS($A$1:F70)>COUNTIF(Main!$C$8:$C$100,$C$7),\"\",INDEX(Main!G$8:G$100,SMALL(IF(Main!G$8:G$100<>\"\",IF(Main!$C$8:$C$100=$C$7,ROW(G$8:G$100)-ROW(G$8)+1)),ROWS($A$1:F70))))","v":""},{"$f":"IF(ROWS($A$1:G70)>COUNTIF(Main!$C$8:$C$100,$C$7),\"\",INDEX(Main!H$8:H$100,SMALL(IF(Main!H$8:H$100<>\"\",IF(Main!$C$8:$C$100=$C$7,ROW(H$8:H$100)-ROW(H$8)+1)),ROWS($A$1:G70))))","v":""},{"$f":"IF(ROWS($A$1:H70)>COUNTIF(Main!$C$8:$C$100,$C$7),\"\",INDEX(Main!I$8:I$100,SMALL(IF(Main!I$8:I$100<>\"\",IF(Main!$C$8:$C$100=$C$7,ROW(I$8:I$100)-ROW(I$8)+1)),ROWS($A$1:H70))))","v":""},{"$f":"IF(ROWS($A$1:I70)>COUNTIF(Main!$C$8:$C$100,$C$7),\"\",INDEX(Main!J$8:J$100,SMALL(IF(Main!J$8:J$100<>\"\",IF(Main!$C$8:$C$100=$C$7,ROW(J$8:J$100)-ROW(J$8)+1)),ROWS($A$1:I70))))","v":""},"",{"$f":"IF(ROWS($A$1:K70)>COUNTIF(Main!$C$8:$C$100,$C$7),\"\",INDEX(Main!L$8:L$100,SMALL(IF(Main!L$8:L$100<>\"\",IF(Main!$C$8:$C$100=$C$7,ROW(L$8:L$100)-ROW(L$8)+1)),ROWS($A$1:K70))))","v":""}]
[{"$f":"IF(B78=\"\",\"\",MAX($A$7:A77)+1)","v":""},{"$f":"IF(ROWS($A$1:A71)>COUNTIF(Main!$C$8:$C$100,$C$7),\"\",INDEX(Main!B$8:B$100,SMALL(IF(Main!B$8:B$100<>\"\",IF(Main!$C$8:$C$100=$C$7,ROW(B$8:B$100)-ROW(B$8)+1)),ROWS($A$1:A71))))","v":""},{"$f":"IF(ROWS($A$1:B71)>COUNTIF(Main!$C$8:$C$100,$C$7),\"\",INDEX(Main!C$8:C$100,SMALL(IF(Main!C$8:C$100<>\"\",IF(Main!$C$8:$C$100=$C$7,ROW(C$8:C$100)-ROW(C$8)+1)),ROWS($A$1:B71))))","v":""},{"$f":"IF(ROWS($A$1:C71)>COUNTIF(Main!$C$8:$C$100,$C$7),\"\",INDEX(Main!D$8:D$100,SMALL(IF(Main!D$8:D$100<>\"\",IF(Main!$C$8:$C$100=$C$7,ROW(D$8:D$100)-ROW(D$8)+1)),ROWS($A$1:C71))))","v":""},{"$f":"IF(ROWS($A$1:D71)>COUNTIF(Main!$C$8:$C$100,$C$7),\"\",INDEX(Main!E$8:E$100,SMALL(IF(Main!E$8:E$100<>\"\",IF(Main!$C$8:$C$100=$C$7,ROW(E$8:E$100)-ROW(E$8)+1)),ROWS($A$1:D71))))","v":""},{"$f":"IF(ROWS($A$1:E71)>COUNTIF(Main!$C$8:$C$100,$C$7),\"\",INDEX(Main!F$8:F$100,SMALL(IF(Main!F$8:F$100<>\"\",IF(Main!$C$8:$C$100=$C$7,ROW(F$8:F$100)-ROW(F$8)+1)),ROWS($A$1:E71))))","v":""},{"$f":"IF(ROWS($A$1:F71)>COUNTIF(Main!$C$8:$C$100,$C$7),\"\",INDEX(Main!G$8:G$100,SMALL(IF(Main!G$8:G$100<>\"\",IF(Main!$C$8:$C$100=$C$7,ROW(G$8:G$100)-ROW(G$8)+1)),ROWS($A$1:F71))))","v":""},{"$f":"IF(ROWS($A$1:G71)>COUNTIF(Main!$C$8:$C$100,$C$7),\"\",INDEX(Main!H$8:H$100,SMALL(IF(Main!H$8:H$100<>\"\",IF(Main!$C$8:$C$100=$C$7,ROW(H$8:H$100)-ROW(H$8)+1)),ROWS($A$1:G71))))","v":""},{"$f":"IF(ROWS($A$1:H71)>COUNTIF(Main!$C$8:$C$100,$C$7),\"\",INDEX(Main!I$8:I$100,SMALL(IF(Main!I$8:I$100<>\"\",IF(Main!$C$8:$C$100=$C$7,ROW(I$8:I$100)-ROW(I$8)+1)),ROWS($A$1:H71))))","v":""},{"$f":"IF(ROWS($A$1:I71)>COUNTIF(Main!$C$8:$C$100,$C$7),\"\",INDEX(Main!J$8:J$100,SMALL(IF(Main!J$8:J$100<>\"\",IF(Main!$C$8:$C$100=$C$7,ROW(J$8:J$100)-ROW(J$8)+1)),ROWS($A$1:I71))))","v":""},"",{"$f":"IF(ROWS($A$1:K71)>COUNTIF(Main!$C$8:$C$100,$C$7),\"\",INDEX(Main!L$8:L$100,SMALL(IF(Main!L$8:L$100<>\"\",IF(Main!$C$8:$C$100=$C$7,ROW(L$8:L$100)-ROW(L$8)+1)),ROWS($A$1:K71))))","v":""}]
[{"$f":"IF(B79=\"\",\"\",MAX($A$7:A78)+1)","v":""},{"$f":"IF(ROWS($A$1:A72)>COUNTIF(Main!$C$8:$C$100,$C$7),\"\",INDEX(Main!B$8:B$100,SMALL(IF(Main!B$8:B$100<>\"\",IF(Main!$C$8:$C$100=$C$7,ROW(B$8:B$100)-ROW(B$8)+1)),ROWS($A$1:A72))))","v":""},{"$f":"IF(ROWS($A$1:B72)>COUNTIF(Main!$C$8:$C$100,$C$7),\"\",INDEX(Main!C$8:C$100,SMALL(IF(Main!C$8:C$100<>\"\",IF(Main!$C$8:$C$100=$C$7,ROW(C$8:C$100)-ROW(C$8)+1)),ROWS($A$1:B72))))","v":""},{"$f":"IF(ROWS($A$1:C72)>COUNTIF(Main!$C$8:$C$100,$C$7),\"\",INDEX(Main!D$8:D$100,SMALL(IF(Main!D$8:D$100<>\"\",IF(Main!$C$8:$C$100=$C$7,ROW(D$8:D$100)-ROW(D$8)+1)),ROWS($A$1:C72))))","v":""},{"$f":"IF(ROWS($A$1:D72)>COUNTIF(Main!$C$8:$C$100,$C$7),\"\",INDEX(Main!E$8:E$100,SMALL(IF(Main!E$8:E$100<>\"\",IF(Main!$C$8:$C$100=$C$7,ROW(E$8:E$100)-ROW(E$8)+1)),ROWS($A$1:D72))))","v":""},{"$f":"IF(ROWS($A$1:E72)>COUNTIF(Main!$C$8:$C$100,$C$7),\"\",INDEX(Main!F$8:F$100,SMALL(IF(Main!F$8:F$100<>\"\",IF(Main!$C$8:$C$100=$C$7,ROW(F$8:F$100)-ROW(F$8)+1)),ROWS($A$1:E72))))","v":""},{"$f":"IF(ROWS($A$1:F72)>COUNTIF(Main!$C$8:$C$100,$C$7),\"\",INDEX(Main!G$8:G$100,SMALL(IF(Main!G$8:G$100<>\"\",IF(Main!$C$8:$C$100=$C$7,ROW(G$8:G$100)-ROW(G$8)+1)),ROWS($A$1:F72))))","v":""},{"$f":"IF(ROWS($A$1:G72)>COUNTIF(Main!$C$8:$C$100,$C$7),\"\",INDEX(Main!H$8:H$100,SMALL(IF(Main!H$8:H$100<>\"\",IF(Main!$C$8:$C$100=$C$7,ROW(H$8:H$100)-ROW(H$8)+1)),ROWS($A$1:G72))))","v":""},{"$f":"IF(ROWS($A$1:H72)>COUNTIF(Main!$C$8:$C$100,$C$7),\"\",INDEX(Main!I$8:I$100,SMALL(IF(Main!I$8:I$100<>\"\",IF(Main!$C$8:$C$100=$C$7,ROW(I$8:I$100)-ROW(I$8)+1)),ROWS($A$1:H72))))","v":""},{"$f":"IF(ROWS($A$1:I72)>COUNTIF(Main!$C$8:$C$100,$C$7),\"\",INDEX(Main!J$8:J$100,SMALL(IF(Main!J$8:J$100<>\"\",IF(Main!$C$8:$C$100=$C$7,ROW(J$8:J$100)-ROW(J$8)+1)),ROWS($A$1:I72))))","v":""},"",{"$f":"IF(ROWS($A$1:K72)>COUNTIF(Main!$C$8:$C$100,$C$7),\"\",INDEX(Main!L$8:L$100,SMALL(IF(Main!L$8:L$100<>\"\",IF(Main!$C$8:$C$100=$C$7,ROW(L$8:L$100)-ROW(L$8)+1)),ROWS($A$1:K72))))","v":""}]
[{"$f":"IF(B80=\"\",\"\",MAX($A$7:A79)+1)","v":""},{"$f":"IF(ROWS($A$1:A73)>COUNTIF(Main!$C$8:$C$100,$C$7),\"\",INDEX(Main!B$8:B$100,SMALL(IF(Main!B$8:B$100<>\"\",IF(Main!$C$8:$C$100=$C$7,ROW(B$8:B$100)-ROW(B$8)+1)),ROWS($A$1:A73))))","v":""},{"$f":"IF(ROWS($A$1:B73)>COUNTIF(Main!$C$8:$C$100,$C$7),\"\",INDEX(Main!C$8:C$100,SMALL(IF(Main!C$8:C$100<>\"\",IF(Main!$C$8:$C$100=$C$7,ROW(C$8:C$100)-ROW(C$8)+1)),ROWS($A$1:B73))))","v":""},{"$f":"IF(ROWS($A$1:C73)>COUNTIF(Main!$C$8:$C$100,$C$7),\"\",INDEX(Main!D$8:D$100,SMALL(IF(Main!D$8:D$100<>\"\",IF(Main!$C$8:$C$100=$C$7,ROW(D$8:D$100)-ROW(D$8)+1)),ROWS($A$1:C73))))","v":""},{"$f":"IF(ROWS($A$1:D73)>COUNTIF(Main!$C$8:$C$100,$C$7),\"\",INDEX(Main!E$8:E$100,SMALL(IF(Main!E$8:E$100<>\"\",IF(Main!$C$8:$C$100=$C$7,ROW(E$8:E$100)-ROW(E$8)+1)),ROWS($A$1:D73))))","v":""},{"$f":"IF(ROWS($A$1:E73)>COUNTIF(Main!$C$8:$C$100,$C$7),\"\",INDEX(Main!F$8:F$100,SMALL(IF(Main!F$8:F$100<>\"\",IF(Main!$C$8:$C$100=$C$7,ROW(F$8:F$100)-ROW(F$8)+1)),ROWS($A$1:E73))))","v":""},{"$f":"IF(ROWS($A$1:F73)>COUNTIF(Main!$C$8:$C$100,$C$7),\"\",INDEX(Main!G$8:G$100,SMALL(IF(Main!G$8:G$100<>\"\",IF(Main!$C$8:$C$100=$C$7,ROW(G$8:G$100)-ROW(G$8)+1)),ROWS($A$1:F73))))","v":""},{"$f":"IF(ROWS($A$1:G73)>COUNTIF(Main!$C$8:$C$100,$C$7),\"\",INDEX(Main!H$8:H$100,SMALL(IF(Main!H$8:H$100<>\"\",IF(Main!$C$8:$C$100=$C$7,ROW(H$8:H$100)-ROW(H$8)+1)),ROWS($A$1:G73))))","v":""},{"$f":"IF(ROWS($A$1:H73)>COUNTIF(Main!$C$8:$C$100,$C$7),\"\",INDEX(Main!I$8:I$100,SMALL(IF(Main!I$8:I$100<>\"\",IF(Main!$C$8:$C$100=$C$7,ROW(I$8:I$100)-ROW(I$8)+1)),ROWS($A$1:H73))))","v":""},{"$f":"IF(ROWS($A$1:I73)>COUNTIF(Main!$C$8:$C$100,$C$7),\"\",INDEX(Main!J$8:J$100,SMALL(IF(Main!J$8:J$100<>\"\",IF(Main!$C$8:$C$100=$C$7,ROW(J$8:J$100)-ROW(J$8)+1)),ROWS($A$1:I73))))","v":""},"",{"$f":"IF(ROWS($A$1:K73)>COUNTIF(Main!$C$8:$C$100,$C$7),\"\",INDEX(Main!L$8:L$100,SMALL(IF(Main!L$8:L$100<>\"\",IF(Main!$C$8:$C$100=$C$7,ROW(L$8:L$100)-ROW(L$8)+1)),ROWS($A$1:K73))))","v":""}]
[{"$f":"IF(B81=\"\",\"\",MAX($A$7:A80)+1)","v":""},{"$f":"IF(ROWS($A$1:A74)>COUNTIF(Main!$C$8:$C$100,$C$7),\"\",INDEX(Main!B$8:B$100,SMALL(IF(Main!B$8:B$100<>\"\",IF(Main!$C$8:$C$100=$C$7,ROW(B$8:B$100)-ROW(B$8)+1)),ROWS($A$1:A74))))","v":""},{"$f":"IF(ROWS($A$1:B74)>COUNTIF(Main!$C$8:$C$100,$C$7),\"\",INDEX(Main!C$8:C$100,SMALL(IF(Main!C$8:C$100<>\"\",IF(Main!$C$8:$C$100=$C$7,ROW(C$8:C$100)-ROW(C$8)+1)),ROWS($A$1:B74))))","v":""},{"$f":"IF(ROWS($A$1:C74)>COUNTIF(Main!$C$8:$C$100,$C$7),\"\",INDEX(Main!D$8:D$100,SMALL(IF(Main!D$8:D$100<>\"\",IF(Main!$C$8:$C$100=$C$7,ROW(D$8:D$100)-ROW(D$8)+1)),ROWS($A$1:C74))))","v":""},{"$f":"IF(ROWS($A$1:D74)>COUNTIF(Main!$C$8:$C$100,$C$7),\"\",INDEX(Main!E$8:E$100,SMALL(IF(Main!E$8:E$100<>\"\",IF(Main!$C$8:$C$100=$C$7,ROW(E$8:E$100)-ROW(E$8)+1)),ROWS($A$1:D74))))","v":""},{"$f":"IF(ROWS($A$1:E74)>COUNTIF(Main!$C$8:$C$100,$C$7),\"\",INDEX(Main!F$8:F$100,SMALL(IF(Main!F$8:F$100<>\"\",IF(Main!$C$8:$C$100=$C$7,ROW(F$8:F$100)-ROW(F$8)+1)),ROWS($A$1:E74))))","v":""},{"$f":"IF(ROWS($A$1:F74)>COUNTIF(Main!$C$8:$C$100,$C$7),\"\",INDEX(Main!G$8:G$100,SMALL(IF(Main!G$8:G$100<>\"\",IF(Main!$C$8:$C$100=$C$7,ROW(G$8:G$100)-ROW(G$8)+1)),ROWS($A$1:F74))))","v":""},{"$f":"IF(ROWS($A$1:G74)>COUNTIF(Main!$C$8:$C$100,$C$7),\"\",INDEX(Main!H$8:H$100,SMALL(IF(Main!H$8:H$100<>\"\",IF(Main!$C$8:$C$100=$C$7,ROW(H$8:H$100)-ROW(H$8)+1)),ROWS($A$1:G74))))","v":""},{"$f":"IF(ROWS($A$1:H74)>COUNTIF(Main!$C$8:$C$100,$C$7),\"\",INDEX(Main!I$8:I$100,SMALL(IF(Main!I$8:I$100<>\"\",IF(Main!$C$8:$C$100=$C$7,ROW(I$8:I$100)-ROW(I$8)+1)),ROWS($A$1:H74))))","v":""},{"$f":"IF(ROWS($A$1:I74)>COUNTIF(Main!$C$8:$C$100,$C$7),\"\",INDEX(Main!J$8:J$100,SMALL(IF(Main!J$8:J$100<>\"\",IF(Main!$C$8:$C$100=$C$7,ROW(J$8:J$100)-ROW(J$8)+1)),ROWS($A$1:I74))))","v":""},"",{"$f":"IF(ROWS($A$1:K74)>COUNTIF(Main!$C$8:$C$100,$C$7),\"\",INDEX(Main!L$8:L$100,SMALL(IF(Main!L$8:L$100<>\"\",IF(Main!$C$8:$C$100=$C$7,ROW(L$8:L$100)-ROW(L$8)+1)),ROWS($A$1:K74))))","v":""}]
[{"$f":"IF(B82=\"\",\"\",MAX($A$7:A81)+1)","v":""},{"$f":"IF(ROWS($A$1:A75)>COUNTIF(Main!$C$8:$C$100,$C$7),\"\",INDEX(Main!B$8:B$100,SMALL(IF(Main!B$8:B$100<>\"\",IF(Main!$C$8:$C$100=$C$7,ROW(B$8:B$100)-ROW(B$8)+1)),ROWS($A$1:A75))))","v":""},{"$f":"IF(ROWS($A$1:B75)>COUNTIF(Main!$C$8:$C$100,$C$7),\"\",INDEX(Main!C$8:C$100,SMALL(IF(Main!C$8:C$100<>\"\",IF(Main!$C$8:$C$100=$C$7,ROW(C$8:C$100)-ROW(C$8)+1)),ROWS($A$1:B75))))","v":""},{"$f":"IF(ROWS($A$1:C75)>COUNTIF(Main!$C$8:$C$100,$C$7),\"\",INDEX(Main!D$8:D$100,SMALL(IF(Main!D$8:D$100<>\"\",IF(Main!$C$8:$C$100=$C$7,ROW(D$8:D$100)-ROW(D$8)+1)),ROWS($A$1:C75))))","v":""},{"$f":"IF(ROWS($A$1:D75)>COUNTIF(Main!$C$8:$C$100,$C$7),\"\",INDEX(Main!E$8:E$100,SMALL(IF(Main!E$8:E$100<>\"\",IF(Main!$C$8:$C$100=$C$7,ROW(E$8:E$100)-ROW(E$8)+1)),ROWS($A$1:D75))))","v":""},{"$f":"IF(ROWS($A$1:E75)>COUNTIF(Main!$C$8:$C$100,$C$7),\"\",INDEX(Main!F$8:F$100,SMALL(IF(Main!F$8:F$100<>\"\",IF(Main!$C$8:$C$100=$C$7,ROW(F$8:F$100)-ROW(F$8)+1)),ROWS($A$1:E75))))","v":""},{"$f":"IF(ROWS($A$1:F75)>COUNTIF(Main!$C$8:$C$100,$C$7),\"\",INDEX(Main!G$8:G$100,SMALL(IF(Main!G$8:G$100<>\"\",IF(Main!$C$8:$C$100=$C$7,ROW(G$8:G$100)-ROW(G$8)+1)),ROWS($A$1:F75))))","v":""},{"$f":"IF(ROWS($A$1:G75)>COUNTIF(Main!$C$8:$C$100,$C$7),\"\",INDEX(Main!H$8:H$100,SMALL(IF(Main!H$8:H$100<>\"\",IF(Main!$C$8:$C$100=$C$7,ROW(H$8:H$100)-ROW(H$8)+1)),ROWS($A$1:G75))))","v":""},{"$f":"IF(ROWS($A$1:H75)>COUNTIF(Main!$C$8:$C$100,$C$7),\"\",INDEX(Main!I$8:I$100,SMALL(IF(Main!I$8:I$100<>\"\",IF(Main!$C$8:$C$100=$C$7,ROW(I$8:I$100)-ROW(I$8)+1)),ROWS($A$1:H75))))","v":""},{"$f":"IF(ROWS($A$1:I75)>COUNTIF(Main!$C$8:$C$100,$C$7),\"\",INDEX(Main!J$8:J$100,SMALL(IF(Main!J$8:J$100<>\"\",IF(Main!$C$8:$C$100=$C$7,ROW(J$8:J$100)-ROW(J$8)+1)),ROWS($A$1:I75))))","v":""},"",{"$f":"IF(ROWS($A$1:K75)>COUNTIF(Main!$C$8:$C$100,$C$7),\"\",INDEX(Main!L$8:L$100,SMALL(IF(Main!L$8:L$100<>\"\",IF(Main!$C$8:$C$100=$C$7,ROW(L$8:L$100)-ROW(L$8)+1)),ROWS($A$1:K75))))","v":""}]
[{"$f":"IF(B83=\"\",\"\",MAX($A$7:A82)+1)","v":""},{"$f":"IF(ROWS($A$1:A76)>COUNTIF(Main!$C$8:$C$100,$C$7),\"\",INDEX(Main!B$8:B$100,SMALL(IF(Main!B$8:B$100<>\"\",IF(Main!$C$8:$C$100=$C$7,ROW(B$8:B$100)-ROW(B$8)+1)),ROWS($A$1:A76))))","v":""},{"$f":"IF(ROWS($A$1:B76)>COUNTIF(Main!$C$8:$C$100,$C$7),\"\",INDEX(Main!C$8:C$100,SMALL(IF(Main!C$8:C$100<>\"\",IF(Main!$C$8:$C$100=$C$7,ROW(C$8:C$100)-ROW(C$8)+1)),ROWS($A$1:B76))))","v":""},{"$f":"IF(ROWS($A$1:C76)>COUNTIF(Main!$C$8:$C$100,$C$7),\"\",INDEX(Main!D$8:D$100,SMALL(IF(Main!D$8:D$100<>\"\",IF(Main!$C$8:$C$100=$C$7,ROW(D$8:D$100)-ROW(D$8)+1)),ROWS($A$1:C76))))","v":""},{"$f":"IF(ROWS($A$1:D76)>COUNTIF(Main!$C$8:$C$100,$C$7),\"\",INDEX(Main!E$8:E$100,SMALL(IF(Main!E$8:E$100<>\"\",IF(Main!$C$8:$C$100=$C$7,ROW(E$8:E$100)-ROW(E$8)+1)),ROWS($A$1:D76))))","v":""},{"$f":"IF(ROWS($A$1:E76)>COUNTIF(Main!$C$8:$C$100,$C$7),\"\",INDEX(Main!F$8:F$100,SMALL(IF(Main!F$8:F$100<>\"\",IF(Main!$C$8:$C$100=$C$7,ROW(F$8:F$100)-ROW(F$8)+1)),ROWS($A$1:E76))))","v":""},{"$f":"IF(ROWS($A$1:F76)>COUNTIF(Main!$C$8:$C$100,$C$7),\"\",INDEX(Main!G$8:G$100,SMALL(IF(Main!G$8:G$100<>\"\",IF(Main!$C$8:$C$100=$C$7,ROW(G$8:G$100)-ROW(G$8)+1)),ROWS($A$1:F76))))","v":""},{"$f":"IF(ROWS($A$1:G76)>COUNTIF(Main!$C$8:$C$100,$C$7),\"\",INDEX(Main!H$8:H$100,SMALL(IF(Main!H$8:H$100<>\"\",IF(Main!$C$8:$C$100=$C$7,ROW(H$8:H$100)-ROW(H$8)+1)),ROWS($A$1:G76))))","v":""},{"$f":"IF(ROWS($A$1:H76)>COUNTIF(Main!$C$8:$C$100,$C$7),\"\",INDEX(Main!I$8:I$100,SMALL(IF(Main!I$8:I$100<>\"\",IF(Main!$C$8:$C$100=$C$7,ROW(I$8:I$100)-ROW(I$8)+1)),ROWS($A$1:H76))))","v":""},{"$f":"IF(ROWS($A$1:I76)>COUNTIF(Main!$C$8:$C$100,$C$7),\"\",INDEX(Main!J$8:J$100,SMALL(IF(Main!J$8:J$100<>\"\",IF(Main!$C$8:$C$100=$C$7,ROW(J$8:J$100)-ROW(J$8)+1)),ROWS($A$1:I76))))","v":""},"",{"$f":"IF(ROWS($A$1:K76)>COUNTIF(Main!$C$8:$C$100,$C$7),\"\",INDEX(Main!L$8:L$100,SMALL(IF(Main!L$8:L$100<>\"\",IF(Main!$C$8:$C$100=$C$7,ROW(L$8:L$100)-ROW(L$8)+1)),ROWS($A$1:K76))))","v":""}]
[{"$f":"IF(B84=\"\",\"\",MAX($A$7:A83)+1)","v":""},{"$f":"IF(ROWS($A$1:A77)>COUNTIF(Main!$C$8:$C$100,$C$7),\"\",INDEX(Main!B$8:B$100,SMALL(IF(Main!B$8:B$100<>\"\",IF(Main!$C$8:$C$100=$C$7,ROW(B$8:B$100)-ROW(B$8)+1)),ROWS($A$1:A77))))","v":""},{"$f":"IF(ROWS($A$1:B77)>COUNTIF(Main!$C$8:$C$100,$C$7),\"\",INDEX(Main!C$8:C$100,SMALL(IF(Main!C$8:C$100<>\"\",IF(Main!$C$8:$C$100=$C$7,ROW(C$8:C$100)-ROW(C$8)+1)),ROWS($A$1:B77))))","v":""},{"$f":"IF(ROWS($A$1:C77)>COUNTIF(Main!$C$8:$C$100,$C$7),\"\",INDEX(Main!D$8:D$100,SMALL(IF(Main!D$8:D$100<>\"\",IF(Main!$C$8:$C$100=$C$7,ROW(D$8:D$100)-ROW(D$8)+1)),ROWS($A$1:C77))))","v":""},{"$f":"IF(ROWS($A$1:D77)>COUNTIF(Main!$C$8:$C$100,$C$7),\"\",INDEX(Main!E$8:E$100,SMALL(IF(Main!E$8:E$100<>\"\",IF(Main!$C$8:$C$100=$C$7,ROW(E$8:E$100)-ROW(E$8)+1)),ROWS($A$1:D77))))","v":""},{"$f":"IF(ROWS($A$1:E77)>COUNTIF(Main!$C$8:$C$100,$C$7),\"\",INDEX(Main!F$8:F$100,SMALL(IF(Main!F$8:F$100<>\"\",IF(Main!$C$8:$C$100=$C$7,ROW(F$8:F$100)-ROW(F$8)+1)),ROWS($A$1:E77))))","v":""},{"$f":"IF(ROWS($A$1:F77)>COUNTIF(Main!$C$8:$C$100,$C$7),\"\",INDEX(Main!G$8:G$100,SMALL(IF(Main!G$8:G$100<>\"\",IF(Main!$C$8:$C$100=$C$7,ROW(G$8:G$100)-ROW(G$8)+1)),ROWS($A$1:F77))))","v":""},{"$f":"IF(ROWS($A$1:G77)>COUNTIF(Main!$C$8:$C$100,$C$7),\"\",INDEX(Main!H$8:H$100,SMALL(IF(Main!H$8:H$100<>\"\",IF(Main!$C$8:$C$100=$C$7,ROW(H$8:H$100)-ROW(H$8)+1)),ROWS($A$1:G77))))","v":""},{"$f":"IF(ROWS($A$1:H77)>COUNTIF(Main!$C$8:$C$100,$C$7),\"\",INDEX(Main!I$8:I$100,SMALL(IF(Main!I$8:I$100<>\"\",IF(Main!$C$8:$C$100=$C$7,ROW(I$8:I$100)-ROW(I$8)+1)),ROWS($A$1:H77))))","v":""},{"$f":"IF(ROWS($A$1:I77)>COUNTIF(Main!$C$8:$C$100,$C$7),\"\",INDEX(Main!J$8:J$100,SMALL(IF(Main!J$8:J$100<>\"\",IF(Main!$C$8:$C$100=$C$7,ROW(J$8:J$100)-ROW(J$8)+1)),ROWS($A$1:I77))))","v":""},"",{"$f":"IF(ROWS($A$1:K77)>COUNTIF(Main!$C$8:$C$100,$C$7),\"\",INDEX(Main!L$8:L$100,SMALL(IF(Main!L$8:L$100<>\"\",IF(Main!$C$8:$C$100=$C$7,ROW(L$8:L$100)-ROW(L$8)+1)),ROWS($A$1:K77))))","v":""}]
[{"$f":"IF(B85=\"\",\"\",MAX($A$7:A84)+1)","v":""},{"$f":"IF(ROWS($A$1:A78)>COUNTIF(Main!$C$8:$C$100,$C$7),\"\",INDEX(Main!B$8:B$100,SMALL(IF(Main!B$8:B$100<>\"\",IF(Main!$C$8:$C$100=$C$7,ROW(B$8:B$100)-ROW(B$8)+1)),ROWS($A$1:A78))))","v":""},{"$f":"IF(ROWS($A$1:B78)>COUNTIF(Main!$C$8:$C$100,$C$7),\"\",INDEX(Main!C$8:C$100,SMALL(IF(Main!C$8:C$100<>\"\",IF(Main!$C$8:$C$100=$C$7,ROW(C$8:C$100)-ROW(C$8)+1)),ROWS($A$1:B78))))","v":""},{"$f":"IF(ROWS($A$1:C78)>COUNTIF(Main!$C$8:$C$100,$C$7),\"\",INDEX(Main!D$8:D$100,SMALL(IF(Main!D$8:D$100<>\"\",IF(Main!$C$8:$C$100=$C$7,ROW(D$8:D$100)-ROW(D$8)+1)),ROWS($A$1:C78))))","v":""},{"$f":"IF(ROWS($A$1:D78)>COUNTIF(Main!$C$8:$C$100,$C$7),\"\",INDEX(Main!E$8:E$100,SMALL(IF(Main!E$8:E$100<>\"\",IF(Main!$C$8:$C$100=$C$7,ROW(E$8:E$100)-ROW(E$8)+1)),ROWS($A$1:D78))))","v":""},{"$f":"IF(ROWS($A$1:E78)>COUNTIF(Main!$C$8:$C$100,$C$7),\"\",INDEX(Main!F$8:F$100,SMALL(IF(Main!F$8:F$100<>\"\",IF(Main!$C$8:$C$100=$C$7,ROW(F$8:F$100)-ROW(F$8)+1)),ROWS($A$1:E78))))","v":""},{"$f":"IF(ROWS($A$1:F78)>COUNTIF(Main!$C$8:$C$100,$C$7),\"\",INDEX(Main!G$8:G$100,SMALL(IF(Main!G$8:G$100<>\"\",IF(Main!$C$8:$C$100=$C$7,ROW(G$8:G$100)-ROW(G$8)+1)),ROWS($A$1:F78))))","v":""},{"$f":"IF(ROWS($A$1:G78)>COUNTIF(Main!$C$8:$C$100,$C$7),\"\",INDEX(Main!H$8:H$100,SMALL(IF(Main!H$8:H$100<>\"\",IF(Main!$C$8:$C$100=$C$7,ROW(H$8:H$100)-ROW(H$8)+1)),ROWS($A$1:G78))))","v":""},{"$f":"IF(ROWS($A$1:H78)>COUNTIF(Main!$C$8:$C$100,$C$7),\"\",INDEX(Main!I$8:I$100,SMALL(IF(Main!I$8:I$100<>\"\",IF(Main!$C$8:$C$100=$C$7,ROW(I$8:I$100)-ROW(I$8)+1)),ROWS($A$1:H78))))","v":""},{"$f":"IF(ROWS($A$1:I78)>COUNTIF(Main!$C$8:$C$100,$C$7),\"\",INDEX(Main!J$8:J$100,SMALL(IF(Main!J$8:J$100<>\"\",IF(Main!$C$8:$C$100=$C$7,ROW(J$8:J$100)-ROW(J$8)+1)),ROWS($A$1:I78))))","v":""},"",{"$f":"IF(ROWS($A$1:K78)>COUNTIF(Main!$C$8:$C$100,$C$7),\"\",INDEX(Main!L$8:L$100,SMALL(IF(Main!L$8:L$100<>\"\",IF(Main!$C$8:$C$100=$C$7,ROW(L$8:L$100)-ROW(L$8)+1)),ROWS($A$1:K78))))","v":""}]
[{"$f":"IF(B86=\"\",\"\",MAX($A$7:A85)+1)","v":""},{"$f":"IF(ROWS($A$1:A79)>COUNTIF(Main!$C$8:$C$100,$C$7),\"\",INDEX(Main!B$8:B$100,SMALL(IF(Main!B$8:B$100<>\"\",IF(Main!$C$8:$C$100=$C$7,ROW(B$8:B$100)-ROW(B$8)+1)),ROWS($A$1:A79))))","v":""},{"$f":"IF(ROWS($A$1:B79)>COUNTIF(Main!$C$8:$C$100,$C$7),\"\",INDEX(Main!C$8:C$100,SMALL(IF(Main!C$8:C$100<>\"\",IF(Main!$C$8:$C$100=$C$7,ROW(C$8:C$100)-ROW(C$8)+1)),ROWS($A$1:B79))))","v":""},{"$f":"IF(ROWS($A$1:C79)>COUNTIF(Main!$C$8:$C$100,$C$7),\"\",INDEX(Main!D$8:D$100,SMALL(IF(Main!D$8:D$100<>\"\",IF(Main!$C$8:$C$100=$C$7,ROW(D$8:D$100)-ROW(D$8)+1)),ROWS($A$1:C79))))","v":""},{"$f":"IF(ROWS($A$1:D79)>COUNTIF(Main!$C$8:$C$100,$C$7),\"\",INDEX(Main!E$8:E$100,SMALL(IF(Main!E$8:E$100<>\"\",IF(Main!$C$8:$C$100=$C$7,ROW(E$8:E$100)-ROW(E$8)+1)),ROWS($A$1:D79))))","v":""},{"$f":"IF(ROWS($A$1:E79)>COUNTIF(Main!$C$8:$C$100,$C$7),\"\",INDEX(Main!F$8:F$100,SMALL(IF(Main!F$8:F$100<>\"\",IF(Main!$C$8:$C$100=$C$7,ROW(F$8:F$100)-ROW(F$8)+1)),ROWS($A$1:E79))))","v":""},{"$f":"IF(ROWS($A$1:F79)>COUNTIF(Main!$C$8:$C$100,$C$7),\"\",INDEX(Main!G$8:G$100,SMALL(IF(Main!G$8:G$100<>\"\",IF(Main!$C$8:$C$100=$C$7,ROW(G$8:G$100)-ROW(G$8)+1)),ROWS($A$1:F79))))","v":""},{"$f":"IF(ROWS($A$1:G79)>COUNTIF(Main!$C$8:$C$100,$C$7),\"\",INDEX(Main!H$8:H$100,SMALL(IF(Main!H$8:H$100<>\"\",IF(Main!$C$8:$C$100=$C$7,ROW(H$8:H$100)-ROW(H$8)+1)),ROWS($A$1:G79))))","v":""},{"$f":"IF(ROWS($A$1:H79)>COUNTIF(Main!$C$8:$C$100,$C$7),\"\",INDEX(Main!I$8:I$100,SMALL(IF(Main!I$8:I$100<>\"\",IF(Main!$C$8:$C$100=$C$7,ROW(I$8:I$100)-ROW(I$8)+1)),ROWS($A$1:H79))))","v":""},{"$f":"IF(ROWS($A$1:I79)>COUNTIF(Main!$C$8:$C$100,$C$7),\"\",INDEX(Main!J$8:J$100,SMALL(IF(Main!J$8:J$100<>\"\",IF(Main!$C$8:$C$100=$C$7,ROW(J$8:J$100)-ROW(J$8)+1)),ROWS($A$1:I79))))","v":""},"",{"$f":"IF(ROWS($A$1:K79)>COUNTIF(Main!$C$8:$C$100,$C$7),\"\",INDEX(Main!L$8:L$100,SMALL(IF(Main!L$8:L$100<>\"\",IF(Main!$C$8:$C$100=$C$7,ROW(L$8:L$100)-ROW(L$8)+1)),ROWS($A$1:K79))))","v":""}]
[{"$f":"IF(B87=\"\",\"\",MAX($A$7:A86)+1)","v":""},{"$f":"IF(ROWS($A$1:A80)>COUNTIF(Main!$C$8:$C$100,$C$7),\"\",INDEX(Main!B$8:B$100,SMALL(IF(Main!B$8:B$100<>\"\",IF(Main!$C$8:$C$100=$C$7,ROW(B$8:B$100)-ROW(B$8)+1)),ROWS($A$1:A80))))","v":""},{"$f":"IF(ROWS($A$1:B80)>COUNTIF(Main!$C$8:$C$100,$C$7),\"\",INDEX(Main!C$8:C$100,SMALL(IF(Main!C$8:C$100<>\"\",IF(Main!$C$8:$C$100=$C$7,ROW(C$8:C$100)-ROW(C$8)+1)),ROWS($A$1:B80))))","v":""},{"$f":"IF(ROWS($A$1:C80)>COUNTIF(Main!$C$8:$C$100,$C$7),\"\",INDEX(Main!D$8:D$100,SMALL(IF(Main!D$8:D$100<>\"\",IF(Main!$C$8:$C$100=$C$7,ROW(D$8:D$100)-ROW(D$8)+1)),ROWS($A$1:C80))))","v":""},{"$f":"IF(ROWS($A$1:D80)>COUNTIF(Main!$C$8:$C$100,$C$7),\"\",INDEX(Main!E$8:E$100,SMALL(IF(Main!E$8:E$100<>\"\",IF(Main!$C$8:$C$100=$C$7,ROW(E$8:E$100)-ROW(E$8)+1)),ROWS($A$1:D80))))","v":""},{"$f":"IF(ROWS($A$1:E80)>COUNTIF(Main!$C$8:$C$100,$C$7),\"\",INDEX(Main!F$8:F$100,SMALL(IF(Main!F$8:F$100<>\"\",IF(Main!$C$8:$C$100=$C$7,ROW(F$8:F$100)-ROW(F$8)+1)),ROWS($A$1:E80))))","v":""},{"$f":"IF(ROWS($A$1:F80)>COUNTIF(Main!$C$8:$C$100,$C$7),\"\",INDEX(Main!G$8:G$100,SMALL(IF(Main!G$8:G$100<>\"\",IF(Main!$C$8:$C$100=$C$7,ROW(G$8:G$100)-ROW(G$8)+1)),ROWS($A$1:F80))))","v":""},{"$f":"IF(ROWS($A$1:G80)>COUNTIF(Main!$C$8:$C$100,$C$7),\"\",INDEX(Main!H$8:H$100,SMALL(IF(Main!H$8:H$100<>\"\",IF(Main!$C$8:$C$100=$C$7,ROW(H$8:H$100)-ROW(H$8)+1)),ROWS($A$1:G80))))","v":""},{"$f":"IF(ROWS($A$1:H80)>COUNTIF(Main!$C$8:$C$100,$C$7),\"\",INDEX(Main!I$8:I$100,SMALL(IF(Main!I$8:I$100<>\"\",IF(Main!$C$8:$C$100=$C$7,ROW(I$8:I$100)-ROW(I$8)+1)),ROWS($A$1:H80))))","v":""},{"$f":"IF(ROWS($A$1:I80)>COUNTIF(Main!$C$8:$C$100,$C$7),\"\",INDEX(Main!J$8:J$100,SMALL(IF(Main!J$8:J$100<>\"\",IF(Main!$C$8:$C$100=$C$7,ROW(J$8:J$100)-ROW(J$8)+1)),ROWS($A$1:I80))))","v":""},"",{"$f":"IF(ROWS($A$1:K80)>COUNTIF(Main!$C$8:$C$100,$C$7),\"\",INDEX(Main!L$8:L$100,SMALL(IF(Main!L$8:L$100<>\"\",IF(Main!$C$8:$C$100=$C$7,ROW(L$8:L$100)-ROW(L$8)+1)),ROWS($A$1:K80))))","v":""}]
[{"$f":"IF(B88=\"\",\"\",MAX($A$7:A87)+1)","v":""},{"$f":"IF(ROWS($A$1:A81)>COUNTIF(Main!$C$8:$C$100,$C$7),\"\",INDEX(Main!B$8:B$100,SMALL(IF(Main!B$8:B$100<>\"\",IF(Main!$C$8:$C$100=$C$7,ROW(B$8:B$100)-ROW(B$8)+1)),ROWS($A$1:A81))))","v":""},{"$f":"IF(ROWS($A$1:B81)>COUNTIF(Main!$C$8:$C$100,$C$7),\"\",INDEX(Main!C$8:C$100,SMALL(IF(Main!C$8:C$100<>\"\",IF(Main!$C$8:$C$100=$C$7,ROW(C$8:C$100)-ROW(C$8)+1)),ROWS($A$1:B81))))","v":""},{"$f":"IF(ROWS($A$1:C81)>COUNTIF(Main!$C$8:$C$100,$C$7),\"\",INDEX(Main!D$8:D$100,SMALL(IF(Main!D$8:D$100<>\"\",IF(Main!$C$8:$C$100=$C$7,ROW(D$8:D$100)-ROW(D$8)+1)),ROWS($A$1:C81))))","v":""},{"$f":"IF(ROWS($A$1:D81)>COUNTIF(Main!$C$8:$C$100,$C$7),\"\",INDEX(Main!E$8:E$100,SMALL(IF(Main!E$8:E$100<>\"\",IF(Main!$C$8:$C$100=$C$7,ROW(E$8:E$100)-ROW(E$8)+1)),ROWS($A$1:D81))))","v":""},{"$f":"IF(ROWS($A$1:E81)>COUNTIF(Main!$C$8:$C$100,$C$7),\"\",INDEX(Main!F$8:F$100,SMALL(IF(Main!F$8:F$100<>\"\",IF(Main!$C$8:$C$100=$C$7,ROW(F$8:F$100)-ROW(F$8)+1)),ROWS($A$1:E81))))","v":""},{"$f":"IF(ROWS($A$1:F81)>COUNTIF(Main!$C$8:$C$100,$C$7),\"\",INDEX(Main!G$8:G$100,SMALL(IF(Main!G$8:G$100<>\"\",IF(Main!$C$8:$C$100=$C$7,ROW(G$8:G$100)-ROW(G$8)+1)),ROWS($A$1:F81))))","v":""},{"$f":"IF(ROWS($A$1:G81)>COUNTIF(Main!$C$8:$C$100,$C$7),\"\",INDEX(Main!H$8:H$100,SMALL(IF(Main!H$8:H$100<>\"\",IF(Main!$C$8:$C$100=$C$7,ROW(H$8:H$100)-ROW(H$8)+1)),ROWS($A$1:G81))))","v":""},{"$f":"IF(ROWS($A$1:H81)>COUNTIF(Main!$C$8:$C$100,$C$7),\"\",INDEX(Main!I$8:I$100,SMALL(IF(Main!I$8:I$100<>\"\",IF(Main!$C$8:$C$100=$C$7,ROW(I$8:I$100)-ROW(I$8)+1)),ROWS($A$1:H81))))","v":""},{"$f":"IF(ROWS($A$1:I81)>COUNTIF(Main!$C$8:$C$100,$C$7),\"\",INDEX(Main!J$8:J$100,SMALL(IF(Main!J$8:J$100<>\"\",IF(Main!$C$8:$C$100=$C$7,ROW(J$8:J$100)-ROW(J$8)+1)),ROWS($A$1:I81))))","v":""},"",{"$f":"IF(ROWS($A$1:K81)>COUNTIF(Main!$C$8:$C$100,$C$7),\"\",INDEX(Main!L$8:L$100,SMALL(IF(Main!L$8:L$100<>\"\",IF(Main!$C$8:$C$100=$C$7,ROW(L$8:L$100)-ROW(L$8)+1)),ROWS($A$1:K81))))","v":""}]
[{"$f":"IF(B89=\"\",\"\",MAX($A$7:A88)+1)","v":""},{"$f":"IF(ROWS($A$1:A82)>COUNTIF(Main!$C$8:$C$100,$C$7),\"\",INDEX(Main!B$8:B$100,SMALL(IF(Main!B$8:B$100<>\"\",IF(Main!$C$8:$C$100=$C$7,ROW(B$8:B$100)-ROW(B$8)+1)),ROWS($A$1:A82))))","v":""},{"$f":"IF(ROWS($A$1:B82)>COUNTIF(Main!$C$8:$C$100,$C$7),\"\",INDEX(Main!C$8:C$100,SMALL(IF(Main!C$8:C$100<>\"\",IF(Main!$C$8:$C$100=$C$7,ROW(C$8:C$100)-ROW(C$8)+1)),ROWS($A$1:B82))))","v":""},{"$f":"IF(ROWS($A$1:C82)>COUNTIF(Main!$C$8:$C$100,$C$7),\"\",INDEX(Main!D$8:D$100,SMALL(IF(Main!D$8:D$100<>\"\",IF(Main!$C$8:$C$100=$C$7,ROW(D$8:D$100)-ROW(D$8)+1)),ROWS($A$1:C82))))","v":""},{"$f":"IF(ROWS($A$1:D82)>COUNTIF(Main!$C$8:$C$100,$C$7),\"\",INDEX(Main!E$8:E$100,SMALL(IF(Main!E$8:E$100<>\"\",IF(Main!$C$8:$C$100=$C$7,ROW(E$8:E$100)-ROW(E$8)+1)),ROWS($A$1:D82))))","v":""},{"$f":"IF(ROWS($A$1:E82)>COUNTIF(Main!$C$8:$C$100,$C$7),\"\",INDEX(Main!F$8:F$100,SMALL(IF(Main!F$8:F$100<>\"\",IF(Main!$C$8:$C$100=$C$7,ROW(F$8:F$100)-ROW(F$8)+1)),ROWS($A$1:E82))))","v":""},{"$f":"IF(ROWS($A$1:F82)>COUNTIF(Main!$C$8:$C$100,$C$7),\"\",INDEX(Main!G$8:G$100,SMALL(IF(Main!G$8:G$100<>\"\",IF(Main!$C$8:$C$100=$C$7,ROW(G$8:G$100)-ROW(G$8)+1)),ROWS($A$1:F82))))","v":""},{"$f":"IF(ROWS($A$1:G82)>COUNTIF(Main!$C$8:$C$100,$C$7),\"\",INDEX(Main!H$8:H$100,SMALL(IF(Main!H$8:H$100<>\"\",IF(Main!$C$8:$C$100=$C$7,ROW(H$8:H$100)-ROW(H$8)+1)),ROWS($A$1:G82))))","v":""},{"$f":"IF(ROWS($A$1:H82)>COUNTIF(Main!$C$8:$C$100,$C$7),\"\",INDEX(Main!I$8:I$100,SMALL(IF(Main!I$8:I$100<>\"\",IF(Main!$C$8:$C$100=$C$7,ROW(I$8:I$100)-ROW(I$8)+1)),ROWS($A$1:H82))))","v":""},{"$f":"IF(ROWS($A$1:I82)>COUNTIF(Main!$C$8:$C$100,$C$7),\"\",INDEX(Main!J$8:J$100,SMALL(IF(Main!J$8:J$100<>\"\",IF(Main!$C$8:$C$100=$C$7,ROW(J$8:J$100)-ROW(J$8)+1)),ROWS($A$1:I82))))","v":""},"",{"$f":"IF(ROWS($A$1:K82)>COUNTIF(Main!$C$8:$C$100,$C$7),\"\",INDEX(Main!L$8:L$100,SMALL(IF(Main!L$8:L$100<>\"\",IF(Main!$C$8:$C$100=$C$7,ROW(L$8:L$100)-ROW(L$8)+1)),ROWS($A$1:K82))))","v":""}]
[{"$f":"IF(B90=\"\",\"\",MAX($A$7:A89)+1)","v":""},{"$f":"IF(ROWS($A$1:A83)>COUNTIF(Main!$C$8:$C$100,$C$7),\"\",INDEX(Main!B$8:B$100,SMALL(IF(Main!B$8:B$100<>\"\",IF(Main!$C$8:$C$100=$C$7,ROW(B$8:B$100)-ROW(B$8)+1)),ROWS($A$1:A83))))","v":""},{"$f":"IF(ROWS($A$1:B83)>COUNTIF(Main!$C$8:$C$100,$C$7),\"\",INDEX(Main!C$8:C$100,SMALL(IF(Main!C$8:C$100<>\"\",IF(Main!$C$8:$C$100=$C$7,ROW(C$8:C$100)-ROW(C$8)+1)),ROWS($A$1:B83))))","v":""},{"$f":"IF(ROWS($A$1:C83)>COUNTIF(Main!$C$8:$C$100,$C$7),\"\",INDEX(Main!D$8:D$100,SMALL(IF(Main!D$8:D$100<>\"\",IF(Main!$C$8:$C$100=$C$7,ROW(D$8:D$100)-ROW(D$8)+1)),ROWS($A$1:C83))))","v":""},{"$f":"IF(ROWS($A$1:D83)>COUNTIF(Main!$C$8:$C$100,$C$7),\"\",INDEX(Main!E$8:E$100,SMALL(IF(Main!E$8:E$100<>\"\",IF(Main!$C$8:$C$100=$C$7,ROW(E$8:E$100)-ROW(E$8)+1)),ROWS($A$1:D83))))","v":""},{"$f":"IF(ROWS($A$1:E83)>COUNTIF(Main!$C$8:$C$100,$C$7),\"\",INDEX(Main!F$8:F$100,SMALL(IF(Main!F$8:F$100<>\"\",IF(Main!$C$8:$C$100=$C$7,ROW(F$8:F$100)-ROW(F$8)+1)),ROWS($A$1:E83))))","v":""},{"$f":"IF(ROWS($A$1:F83)>COUNTIF(Main!$C$8:$C$100,$C$7),\"\",INDEX(Main!G$8:G$100,SMALL(IF(Main!G$8:G$100<>\"\",IF(Main!$C$8:$C$100=$C$7,ROW(G$8:G$100)-ROW(G$8)+1)),ROWS($A$1:F83))))","v":""},{"$f":"IF(ROWS($A$1:G83)>COUNTIF(Main!$C$8:$C$100,$C$7),\"\",INDEX(Main!H$8:H$100,SMALL(IF(Main!H$8:H$100<>\"\",IF(Main!$C$8:$C$100=$C$7,ROW(H$8:H$100)-ROW(H$8)+1)),ROWS($A$1:G83))))","v":""},{"$f":"IF(ROWS($A$1:H83)>COUNTIF(Main!$C$8:$C$100,$C$7),\"\",INDEX(Main!I$8:I$100,SMALL(IF(Main!I$8:I$100<>\"\",IF(Main!$C$8:$C$100=$C$7,ROW(I$8:I$100)-ROW(I$8)+1)),ROWS($A$1:H83))))","v":""},{"$f":"IF(ROWS($A$1:I83)>COUNTIF(Main!$C$8:$C$100,$C$7),\"\",INDEX(Main!J$8:J$100,SMALL(IF(Main!J$8:J$100<>\"\",IF(Main!$C$8:$C$100=$C$7,ROW(J$8:J$100)-ROW(J$8)+1)),ROWS($A$1:I83))))","v":""},"",{"$f":"IF(ROWS($A$1:K83)>COUNTIF(Main!$C$8:$C$100,$C$7),\"\",INDEX(Main!L$8:L$100,SMALL(IF(Main!L$8:L$100<>\"\",IF(Main!$C$8:$C$100=$C$7,ROW(L$8:L$100)-ROW(L$8)+1)),ROWS($A$1:K83))))","v":""}]
[{"$f":"IF(B91=\"\",\"\",MAX($A$7:A90)+1)","v":""},{"$f":"IF(ROWS($A$1:A84)>COUNTIF(Main!$C$8:$C$100,$C$7),\"\",INDEX(Main!B$8:B$100,SMALL(IF(Main!B$8:B$100<>\"\",IF(Main!$C$8:$C$100=$C$7,ROW(B$8:B$100)-ROW(B$8)+1)),ROWS($A$1:A84))))","v":""},{"$f":"IF(ROWS($A$1:B84)>COUNTIF(Main!$C$8:$C$100,$C$7),\"\",INDEX(Main!C$8:C$100,SMALL(IF(Main!C$8:C$100<>\"\",IF(Main!$C$8:$C$100=$C$7,ROW(C$8:C$100)-ROW(C$8)+1)),ROWS($A$1:B84))))","v":""},{"$f":"IF(ROWS($A$1:C84)>COUNTIF(Main!$C$8:$C$100,$C$7),\"\",INDEX(Main!D$8:D$100,SMALL(IF(Main!D$8:D$100<>\"\",IF(Main!$C$8:$C$100=$C$7,ROW(D$8:D$100)-ROW(D$8)+1)),ROWS($A$1:C84))))","v":""},{"$f":"IF(ROWS($A$1:D84)>COUNTIF(Main!$C$8:$C$100,$C$7),\"\",INDEX(Main!E$8:E$100,SMALL(IF(Main!E$8:E$100<>\"\",IF(Main!$C$8:$C$100=$C$7,ROW(E$8:E$100)-ROW(E$8)+1)),ROWS($A$1:D84))))","v":""},{"$f":"IF(ROWS($A$1:E84)>COUNTIF(Main!$C$8:$C$100,$C$7),\"\",INDEX(Main!F$8:F$100,SMALL(IF(Main!F$8:F$100<>\"\",IF(Main!$C$8:$C$100=$C$7,ROW(F$8:F$100)-ROW(F$8)+1)),ROWS($A$1:E84))))","v":""},{"$f":"IF(ROWS($A$1:F84)>COUNTIF(Main!$C$8:$C$100,$C$7),\"\",INDEX(Main!G$8:G$100,SMALL(IF(Main!G$8:G$100<>\"\",IF(Main!$C$8:$C$100=$C$7,ROW(G$8:G$100)-ROW(G$8)+1)),ROWS($A$1:F84))))","v":""},{"$f":"IF(ROWS($A$1:G84)>COUNTIF(Main!$C$8:$C$100,$C$7),\"\",INDEX(Main!H$8:H$100,SMALL(IF(Main!H$8:H$100<>\"\",IF(Main!$C$8:$C$100=$C$7,ROW(H$8:H$100)-ROW(H$8)+1)),ROWS($A$1:G84))))","v":""},{"$f":"IF(ROWS($A$1:H84)>COUNTIF(Main!$C$8:$C$100,$C$7),\"\",INDEX(Main!I$8:I$100,SMALL(IF(Main!I$8:I$100<>\"\",IF(Main!$C$8:$C$100=$C$7,ROW(I$8:I$100)-ROW(I$8)+1)),ROWS($A$1:H84))))","v":""},{"$f":"IF(ROWS($A$1:I84)>COUNTIF(Main!$C$8:$C$100,$C$7),\"\",INDEX(Main!J$8:J$100,SMALL(IF(Main!J$8:J$100<>\"\",IF(Main!$C$8:$C$100=$C$7,ROW(J$8:J$100)-ROW(J$8)+1)),ROWS($A$1:I84))))","v":""},"",{"$f":"IF(ROWS($A$1:K84)>COUNTIF(Main!$C$8:$C$100,$C$7),\"\",INDEX(Main!L$8:L$100,SMALL(IF(Main!L$8:L$100<>\"\",IF(Main!$C$8:$C$100=$C$7,ROW(L$8:L$100)-ROW(L$8)+1)),ROWS($A$1:K84))))","v":""}]
[{"$f":"IF(B92=\"\",\"\",MAX($A$7:A91)+1)","v":""},{"$f":"IF(ROWS($A$1:A85)>COUNTIF(Main!$C$8:$C$100,$C$7),\"\",INDEX(Main!B$8:B$100,SMALL(IF(Main!B$8:B$100<>\"\",IF(Main!$C$8:$C$100=$C$7,ROW(B$8:B$100)-ROW(B$8)+1)),ROWS($A$1:A85))))","v":""},{"$f":"IF(ROWS($A$1:B85)>COUNTIF(Main!$C$8:$C$100,$C$7),\"\",INDEX(Main!C$8:C$100,SMALL(IF(Main!C$8:C$100<>\"\",IF(Main!$C$8:$C$100=$C$7,ROW(C$8:C$100)-ROW(C$8)+1)),ROWS($A$1:B85))))","v":""},{"$f":"IF(ROWS($A$1:C85)>COUNTIF(Main!$C$8:$C$100,$C$7),\"\",INDEX(Main!D$8:D$100,SMALL(IF(Main!D$8:D$100<>\"\",IF(Main!$C$8:$C$100=$C$7,ROW(D$8:D$100)-ROW(D$8)+1)),ROWS($A$1:C85))))","v":""},{"$f":"IF(ROWS($A$1:D85)>COUNTIF(Main!$C$8:$C$100,$C$7),\"\",INDEX(Main!E$8:E$100,SMALL(IF(Main!E$8:E$100<>\"\",IF(Main!$C$8:$C$100=$C$7,ROW(E$8:E$100)-ROW(E$8)+1)),ROWS($A$1:D85))))","v":""},{"$f":"IF(ROWS($A$1:E85)>COUNTIF(Main!$C$8:$C$100,$C$7),\"\",INDEX(Main!F$8:F$100,SMALL(IF(Main!F$8:F$100<>\"\",IF(Main!$C$8:$C$100=$C$7,ROW(F$8:F$100)-ROW(F$8)+1)),ROWS($A$1:E85))))","v":""},{"$f":"IF(ROWS($A$1:F85)>COUNTIF(Main!$C$8:$C$100,$C$7),\"\",INDEX(Main!G$8:G$100,SMALL(IF(Main!G$8:G$100<>\"\",IF(Main!$C$8:$C$100=$C$7,ROW(G$8:G$100)-ROW(G$8)+1)),ROWS($A$1:F85))))","v":""},{"$f":"IF(ROWS($A$1:G85)>COUNTIF(Main!$C$8:$C$100,$C$7),\"\",INDEX(Main!H$8:H$100,SMALL(IF(Main!H$8:H$100<>\"\",IF(Main!$C$8:$C$100=$C$7,ROW(H$8:H$100)-ROW(H$8)+1)),ROWS($A$1:G85))))","v":""},{"$f":"IF(ROWS($A$1:H85)>COUNTIF(Main!$C$8:$C$100,$C$7),\"\",INDEX(Main!I$8:I$100,SMALL(IF(Main!I$8:I$100<>\"\",IF(Main!$C$8:$C$100=$C$7,ROW(I$8:I$100)-ROW(I$8)+1)),ROWS($A$1:H85))))","v":""},{"$f":"IF(ROWS($A$1:I85)>COUNTIF(Main!$C$8:$C$100,$C$7),\"\",INDEX(Main!J$8:J$100,SMALL(IF(Main!J$8:J$100<>\"\",IF(Main!$C$8:$C$100=$C$7,ROW(J$8:J$100)-ROW(J$8)+1)),ROWS($A$1:I85))))","v":""},"",{"$f":"IF(ROWS($A$1:K85)>COUNTIF(Main!$C$8:$C$100,$C$7),\"\",INDEX(Main!L$8:L$100,SMALL(IF(Main!L$8:L$100<>\"\",IF(Main!$C$8:$C$100=$C$7,ROW(L$8:L$100)-ROW(L$8)+1)),ROWS($A$1:K85))))","v":""}]
[{"$f":"IF(B93=\"\",\"\",MAX($A$7:A92)+1)","v":""},{"$f":"IF(ROWS($A$1:A86)>COUNTIF(Main!$C$8:$C$100,$C$7),\"\",INDEX(Main!B$8:B$100,SMALL(IF(Main!B$8:B$100<>\"\",IF(Main!$C$8:$C$100=$C$7,ROW(B$8:B$100)-ROW(B$8)+1)),ROWS($A$1:A86))))","v":""},{"$f":"IF(ROWS($A$1:B86)>COUNTIF(Main!$C$8:$C$100,$C$7),\"\",INDEX(Main!C$8:C$100,SMALL(IF(Main!C$8:C$100<>\"\",IF(Main!$C$8:$C$100=$C$7,ROW(C$8:C$100)-ROW(C$8)+1)),ROWS($A$1:B86))))","v":""},{"$f":"IF(ROWS($A$1:C86)>COUNTIF(Main!$C$8:$C$100,$C$7),\"\",INDEX(Main!D$8:D$100,SMALL(IF(Main!D$8:D$100<>\"\",IF(Main!$C$8:$C$100=$C$7,ROW(D$8:D$100)-ROW(D$8)+1)),ROWS($A$1:C86))))","v":""},{"$f":"IF(ROWS($A$1:D86)>COUNTIF(Main!$C$8:$C$100,$C$7),\"\",INDEX(Main!E$8:E$100,SMALL(IF(Main!E$8:E$100<>\"\",IF(Main!$C$8:$C$100=$C$7,ROW(E$8:E$100)-ROW(E$8)+1)),ROWS($A$1:D86))))","v":""},{"$f":"IF(ROWS($A$1:E86)>COUNTIF(Main!$C$8:$C$100,$C$7),\"\",INDEX(Main!F$8:F$100,SMALL(IF(Main!F$8:F$100<>\"\",IF(Main!$C$8:$C$100=$C$7,ROW(F$8:F$100)-ROW(F$8)+1)),ROWS($A$1:E86))))","v":""},{"$f":"IF(ROWS($A$1:F86)>COUNTIF(Main!$C$8:$C$100,$C$7),\"\",INDEX(Main!G$8:G$100,SMALL(IF(Main!G$8:G$100<>\"\",IF(Main!$C$8:$C$100=$C$7,ROW(G$8:G$100)-ROW(G$8)+1)),ROWS($A$1:F86))))","v":""},{"$f":"IF(ROWS($A$1:G86)>COUNTIF(Main!$C$8:$C$100,$C$7),\"\",INDEX(Main!H$8:H$100,SMALL(IF(Main!H$8:H$100<>\"\",IF(Main!$C$8:$C$100=$C$7,ROW(H$8:H$100)-ROW(H$8)+1)),ROWS($A$1:G86))))","v":""},{"$f":"IF(ROWS($A$1:H86)>COUNTIF(Main!$C$8:$C$100,$C$7),\"\",INDEX(Main!I$8:I$100,SMALL(IF(Main!I$8:I$100<>\"\",IF(Main!$C$8:$C$100=$C$7,ROW(I$8:I$100)-ROW(I$8)+1)),ROWS($A$1:H86))))","v":""},{"$f":"IF(ROWS($A$1:I86)>COUNTIF(Main!$C$8:$C$100,$C$7),\"\",INDEX(Main!J$8:J$100,SMALL(IF(Main!J$8:J$100<>\"\",IF(Main!$C$8:$C$100=$C$7,ROW(J$8:J$100)-ROW(J$8)+1)),ROWS($A$1:I86))))","v":""},"",{"$f":"IF(ROWS($A$1:K86)>COUNTIF(Main!$C$8:$C$100,$C$7),\"\",INDEX(Main!L$8:L$100,SMALL(IF(Main!L$8:L$100<>\"\",IF(Main!$C$8:$C$100=$C$7,ROW(L$8:L$100)-ROW(L$8)+1)),ROWS($A$1:K86))))","v":""}]
[{"$f":"IF(B94=\"\",\"\",MAX($A$7:A93)+1)","v":""},{"$f":"IF(ROWS($A$1:A87)>COUNTIF(Main!$C$8:$C$100,$C$7),\"\",INDEX(Main!B$8:B$100,SMALL(IF(Main!B$8:B$100<>\"\",IF(Main!$C$8:$C$100=$C$7,ROW(B$8:B$100)-ROW(B$8)+1)),ROWS($A$1:A87))))","v":""},{"$f":"IF(ROWS($A$1:B87)>COUNTIF(Main!$C$8:$C$100,$C$7),\"\",INDEX(Main!C$8:C$100,SMALL(IF(Main!C$8:C$100<>\"\",IF(Main!$C$8:$C$100=$C$7,ROW(C$8:C$100)-ROW(C$8)+1)),ROWS($A$1:B87))))","v":""},{"$f":"IF(ROWS($A$1:C87)>COUNTIF(Main!$C$8:$C$100,$C$7),\"\",INDEX(Main!D$8:D$100,SMALL(IF(Main!D$8:D$100<>\"\",IF(Main!$C$8:$C$100=$C$7,ROW(D$8:D$100)-ROW(D$8)+1)),ROWS($A$1:C87))))","v":""},{"$f":"IF(ROWS($A$1:D87)>COUNTIF(Main!$C$8:$C$100,$C$7),\"\",INDEX(Main!E$8:E$100,SMALL(IF(Main!E$8:E$100<>\"\",IF(Main!$C$8:$C$100=$C$7,ROW(E$8:E$100)-ROW(E$8)+1)),ROWS($A$1:D87))))","v":""},{"$f":"IF(ROWS($A$1:E87)>COUNTIF(Main!$C$8:$C$100,$C$7),\"\",INDEX(Main!F$8:F$100,SMALL(IF(Main!F$8:F$100<>\"\",IF(Main!$C$8:$C$100=$C$7,ROW(F$8:F$100)-ROW(F$8)+1)),ROWS($A$1:E87))))","v":""},{"$f":"IF(ROWS($A$1:F87)>COUNTIF(Main!$C$8:$C$100,$C$7),\"\",INDEX(Main!G$8:G$100,SMALL(IF(Main!G$8:G$100<>\"\",IF(Main!$C$8:$C$100=$C$7,ROW(G$8:G$100)-ROW(G$8)+1)),ROWS($A$1:F87))))","v":""},{"$f":"IF(ROWS($A$1:G87)>COUNTIF(Main!$C$8:$C$100,$C$7),\"\",INDEX(Main!H$8:H$100,SMALL(IF(Main!H$8:H$100<>\"\",IF(Main!$C$8:$C$100=$C$7,ROW(H$8:H$100)-ROW(H$8)+1)),ROWS($A$1:G87))))","v":""},{"$f":"IF(ROWS($A$1:H87)>COUNTIF(Main!$C$8:$C$100,$C$7),\"\",INDEX(Main!I$8:I$100,SMALL(IF(Main!I$8:I$100<>\"\",IF(Main!$C$8:$C$100=$C$7,ROW(I$8:I$100)-ROW(I$8)+1)),ROWS($A$1:H87))))","v":""},{"$f":"IF(ROWS($A$1:I87)>COUNTIF(Main!$C$8:$C$100,$C$7),\"\",INDEX(Main!J$8:J$100,SMALL(IF(Main!J$8:J$100<>\"\",IF(Main!$C$8:$C$100=$C$7,ROW(J$8:J$100)-ROW(J$8)+1)),ROWS($A$1:I87))))","v":""},"",{"$f":"IF(ROWS($A$1:K87)>COUNTIF(Main!$C$8:$C$100,$C$7),\"\",INDEX(Main!L$8:L$100,SMALL(IF(Main!L$8:L$100<>\"\",IF(Main!$C$8:$C$100=$C$7,ROW(L$8:L$100)-ROW(L$8)+1)),ROWS($A$1:K87))))","v":""}]
[{"$f":"IF(B95=\"\",\"\",MAX($A$7:A94)+1)","v":""},{"$f":"IF(ROWS($A$1:A88)>COUNTIF(Main!$C$8:$C$100,$C$7),\"\",INDEX(Main!B$8:B$100,SMALL(IF(Main!B$8:B$100<>\"\",IF(Main!$C$8:$C$100=$C$7,ROW(B$8:B$100)-ROW(B$8)+1)),ROWS($A$1:A88))))","v":""},{"$f":"IF(ROWS($A$1:B88)>COUNTIF(Main!$C$8:$C$100,$C$7),\"\",INDEX(Main!C$8:C$100,SMALL(IF(Main!C$8:C$100<>\"\",IF(Main!$C$8:$C$100=$C$7,ROW(C$8:C$100)-ROW(C$8)+1)),ROWS($A$1:B88))))","v":""},{"$f":"IF(ROWS($A$1:C88)>COUNTIF(Main!$C$8:$C$100,$C$7),\"\",INDEX(Main!D$8:D$100,SMALL(IF(Main!D$8:D$100<>\"\",IF(Main!$C$8:$C$100=$C$7,ROW(D$8:D$100)-ROW(D$8)+1)),ROWS($A$1:C88))))","v":""},{"$f":"IF(ROWS($A$1:D88)>COUNTIF(Main!$C$8:$C$100,$C$7),\"\",INDEX(Main!E$8:E$100,SMALL(IF(Main!E$8:E$100<>\"\",IF(Main!$C$8:$C$100=$C$7,ROW(E$8:E$100)-ROW(E$8)+1)),ROWS($A$1:D88))))","v":""},{"$f":"IF(ROWS($A$1:E88)>COUNTIF(Main!$C$8:$C$100,$C$7),\"\",INDEX(Main!F$8:F$100,SMALL(IF(Main!F$8:F$100<>\"\",IF(Main!$C$8:$C$100=$C$7,ROW(F$8:F$100)-ROW(F$8)+1)),ROWS($A$1:E88))))","v":""},{"$f":"IF(ROWS($A$1:F88)>COUNTIF(Main!$C$8:$C$100,$C$7),\"\",INDEX(Main!G$8:G$100,SMALL(IF(Main!G$8:G$100<>\"\",IF(Main!$C$8:$C$100=$C$7,ROW(G$8:G$100)-ROW(G$8)+1)),ROWS($A$1:F88))))","v":""},{"$f":"IF(ROWS($A$1:G88)>COUNTIF(Main!$C$8:$C$100,$C$7),\"\",INDEX(Main!H$8:H$100,SMALL(IF(Main!H$8:H$100<>\"\",IF(Main!$C$8:$C$100=$C$7,ROW(H$8:H$100)-ROW(H$8)+1)),ROWS($A$1:G88))))","v":""},{"$f":"IF(ROWS($A$1:H88)>COUNTIF(Main!$C$8:$C$100,$C$7),\"\",INDEX(Main!I$8:I$100,SMALL(IF(Main!I$8:I$100<>\"\",IF(Main!$C$8:$C$100=$C$7,ROW(I$8:I$100)-ROW(I$8)+1)),ROWS($A$1:H88))))","v":""},{"$f":"IF(ROWS($A$1:I88)>COUNTIF(Main!$C$8:$C$100,$C$7),\"\",INDEX(Main!J$8:J$100,SMALL(IF(Main!J$8:J$100<>\"\",IF(Main!$C$8:$C$100=$C$7,ROW(J$8:J$100)-ROW(J$8)+1)),ROWS($A$1:I88))))","v":""},"",{"$f":"IF(ROWS($A$1:K88)>COUNTIF(Main!$C$8:$C$100,$C$7),\"\",INDEX(Main!L$8:L$100,SMALL(IF(Main!L$8:L$100<>\"\",IF(Main!$C$8:$C$100=$C$7,ROW(L$8:L$100)-ROW(L$8)+1)),ROWS($A$1:K88))))","v":""}]
[{"$f":"IF(B96=\"\",\"\",MAX($A$7:A95)+1)","v":""},{"$f":"IF(ROWS($A$1:A89)>COUNTIF(Main!$C$8:$C$100,$C$7),\"\",INDEX(Main!B$8:B$100,SMALL(IF(Main!B$8:B$100<>\"\",IF(Main!$C$8:$C$100=$C$7,ROW(B$8:B$100)-ROW(B$8)+1)),ROWS($A$1:A89))))","v":""},{"$f":"IF(ROWS($A$1:B89)>COUNTIF(Main!$C$8:$C$100,$C$7),\"\",INDEX(Main!C$8:C$100,SMALL(IF(Main!C$8:C$100<>\"\",IF(Main!$C$8:$C$100=$C$7,ROW(C$8:C$100)-ROW(C$8)+1)),ROWS($A$1:B89))))","v":""},{"$f":"IF(ROWS($A$1:C89)>COUNTIF(Main!$C$8:$C$100,$C$7),\"\",INDEX(Main!D$8:D$100,SMALL(IF(Main!D$8:D$100<>\"\",IF(Main!$C$8:$C$100=$C$7,ROW(D$8:D$100)-ROW(D$8)+1)),ROWS($A$1:C89))))","v":""},{"$f":"IF(ROWS($A$1:D89)>COUNTIF(Main!$C$8:$C$100,$C$7),\"\",INDEX(Main!E$8:E$100,SMALL(IF(Main!E$8:E$100<>\"\",IF(Main!$C$8:$C$100=$C$7,ROW(E$8:E$100)-ROW(E$8)+1)),ROWS($A$1:D89))))","v":""},{"$f":"IF(ROWS($A$1:E89)>COUNTIF(Main!$C$8:$C$100,$C$7),\"\",INDEX(Main!F$8:F$100,SMALL(IF(Main!F$8:F$100<>\"\",IF(Main!$C$8:$C$100=$C$7,ROW(F$8:F$100)-ROW(F$8)+1)),ROWS($A$1:E89))))","v":""},{"$f":"IF(ROWS($A$1:F89)>COUNTIF(Main!$C$8:$C$100,$C$7),\"\",INDEX(Main!G$8:G$100,SMALL(IF(Main!G$8:G$100<>\"\",IF(Main!$C$8:$C$100=$C$7,ROW(G$8:G$100)-ROW(G$8)+1)),ROWS($A$1:F89))))","v":""},{"$f":"IF(ROWS($A$1:G89)>COUNTIF(Main!$C$8:$C$100,$C$7),\"\",INDEX(Main!H$8:H$100,SMALL(IF(Main!H$8:H$100<>\"\",IF(Main!$C$8:$C$100=$C$7,ROW(H$8:H$100)-ROW(H$8)+1)),ROWS($A$1:G89))))","v":""},{"$f":"IF(ROWS($A$1:H89)>COUNTIF(Main!$C$8:$C$100,$C$7),\"\",INDEX(Main!I$8:I$100,SMALL(IF(Main!I$8:I$100<>\"\",IF(Main!$C$8:$C$100=$C$7,ROW(I$8:I$100)-ROW(I$8)+1)),ROWS($A$1:H89))))","v":""},{"$f":"IF(ROWS($A$1:I89)>COUNTIF(Main!$C$8:$C$100,$C$7),\"\",INDEX(Main!J$8:J$100,SMALL(IF(Main!J$8:J$100<>\"\",IF(Main!$C$8:$C$100=$C$7,ROW(J$8:J$100)-ROW(J$8)+1)),ROWS($A$1:I89))))","v":""},"",{"$f":"IF(ROWS($A$1:K89)>COUNTIF(Main!$C$8:$C$100,$C$7),\"\",INDEX(Main!L$8:L$100,SMALL(IF(Main!L$8:L$100<>\"\",IF(Main!$C$8:$C$100=$C$7,ROW(L$8:L$100)-ROW(L$8)+1)),ROWS($A$1:K89))))","v":""}]
[{"$f":"IF(B97=\"\",\"\",MAX($A$7:A96)+1)","v":""},{"$f":"IF(ROWS($A$1:A90)>COUNTIF(Main!$C$8:$C$100,$C$7),\"\",INDEX(Main!B$8:B$100,SMALL(IF(Main!B$8:B$100<>\"\",IF(Main!$C$8:$C$100=$C$7,ROW(B$8:B$100)-ROW(B$8)+1)),ROWS($A$1:A90))))","v":""},{"$f":"IF(ROWS($A$1:B90)>COUNTIF(Main!$C$8:$C$100,$C$7),\"\",INDEX(Main!C$8:C$100,SMALL(IF(Main!C$8:C$100<>\"\",IF(Main!$C$8:$C$100=$C$7,ROW(C$8:C$100)-ROW(C$8)+1)),ROWS($A$1:B90))))","v":""},{"$f":"IF(ROWS($A$1:C90)>COUNTIF(Main!$C$8:$C$100,$C$7),\"\",INDEX(Main!D$8:D$100,SMALL(IF(Main!D$8:D$100<>\"\",IF(Main!$C$8:$C$100=$C$7,ROW(D$8:D$100)-ROW(D$8)+1)),ROWS($A$1:C90))))","v":""},{"$f":"IF(ROWS($A$1:D90)>COUNTIF(Main!$C$8:$C$100,$C$7),\"\",INDEX(Main!E$8:E$100,SMALL(IF(Main!E$8:E$100<>\"\",IF(Main!$C$8:$C$100=$C$7,ROW(E$8:E$100)-ROW(E$8)+1)),ROWS($A$1:D90))))","v":""},{"$f":"IF(ROWS($A$1:E90)>COUNTIF(Main!$C$8:$C$100,$C$7),\"\",INDEX(Main!F$8:F$100,SMALL(IF(Main!F$8:F$100<>\"\",IF(Main!$C$8:$C$100=$C$7,ROW(F$8:F$100)-ROW(F$8)+1)),ROWS($A$1:E90))))","v":""},{"$f":"IF(ROWS($A$1:F90)>COUNTIF(Main!$C$8:$C$100,$C$7),\"\",INDEX(Main!G$8:G$100,SMALL(IF(Main!G$8:G$100<>\"\",IF(Main!$C$8:$C$100=$C$7,ROW(G$8:G$100)-ROW(G$8)+1)),ROWS($A$1:F90))))","v":""},{"$f":"IF(ROWS($A$1:G90)>COUNTIF(Main!$C$8:$C$100,$C$7),\"\",INDEX(Main!H$8:H$100,SMALL(IF(Main!H$8:H$100<>\"\",IF(Main!$C$8:$C$100=$C$7,ROW(H$8:H$100)-ROW(H$8)+1)),ROWS($A$1:G90))))","v":""},{"$f":"IF(ROWS($A$1:H90)>COUNTIF(Main!$C$8:$C$100,$C$7),\"\",INDEX(Main!I$8:I$100,SMALL(IF(Main!I$8:I$100<>\"\",IF(Main!$C$8:$C$100=$C$7,ROW(I$8:I$100)-ROW(I$8)+1)),ROWS($A$1:H90))))","v":""},{"$f":"IF(ROWS($A$1:I90)>COUNTIF(Main!$C$8:$C$100,$C$7),\"\",INDEX(Main!J$8:J$100,SMALL(IF(Main!J$8:J$100<>\"\",IF(Main!$C$8:$C$100=$C$7,ROW(J$8:J$100)-ROW(J$8)+1)),ROWS($A$1:I90))))","v":""},"",{"$f":"IF(ROWS($A$1:K90)>COUNTIF(Main!$C$8:$C$100,$C$7),\"\",INDEX(Main!L$8:L$100,SMALL(IF(Main!L$8:L$100<>\"\",IF(Main!$C$8:$C$100=$C$7,ROW(L$8:L$100)-ROW(L$8)+1)),ROWS($A$1:K90))))","v":""}]
[{"$f":"IF(B98=\"\",\"\",MAX($A$7:A97)+1)","v":""},{"$f":"IF(ROWS($A$1:A91)>COUNTIF(Main!$C$8:$C$100,$C$7),\"\",INDEX(Main!B$8:B$100,SMALL(IF(Main!B$8:B$100<>\"\",IF(Main!$C$8:$C$100=$C$7,ROW(B$8:B$100)-ROW(B$8)+1)),ROWS($A$1:A91))))","v":""},{"$f":"IF(ROWS($A$1:B91)>COUNTIF(Main!$C$8:$C$100,$C$7),\"\",INDEX(Main!C$8:C$100,SMALL(IF(Main!C$8:C$100<>\"\",IF(Main!$C$8:$C$100=$C$7,ROW(C$8:C$100)-ROW(C$8)+1)),ROWS($A$1:B91))))","v":""},{"$f":"IF(ROWS($A$1:C91)>COUNTIF(Main!$C$8:$C$100,$C$7),\"\",INDEX(Main!D$8:D$100,SMALL(IF(Main!D$8:D$100<>\"\",IF(Main!$C$8:$C$100=$C$7,ROW(D$8:D$100)-ROW(D$8)+1)),ROWS($A$1:C91))))","v":""},{"$f":"IF(ROWS($A$1:D91)>COUNTIF(Main!$C$8:$C$100,$C$7),\"\",INDEX(Main!E$8:E$100,SMALL(IF(Main!E$8:E$100<>\"\",IF(Main!$C$8:$C$100=$C$7,ROW(E$8:E$100)-ROW(E$8)+1)),ROWS($A$1:D91))))","v":""},{"$f":"IF(ROWS($A$1:E91)>COUNTIF(Main!$C$8:$C$100,$C$7),\"\",INDEX(Main!F$8:F$100,SMALL(IF(Main!F$8:F$100<>\"\",IF(Main!$C$8:$C$100=$C$7,ROW(F$8:F$100)-ROW(F$8)+1)),ROWS($A$1:E91))))","v":""},{"$f":"IF(ROWS($A$1:F91)>COUNTIF(Main!$C$8:$C$100,$C$7),\"\",INDEX(Main!G$8:G$100,SMALL(IF(Main!G$8:G$100<>\"\",IF(Main!$C$8:$C$100=$C$7,ROW(G$8:G$100)-ROW(G$8)+1)),ROWS($A$1:F91))))","v":""},{"$f":"IF(ROWS($A$1:G91)>COUNTIF(Main!$C$8:$C$100,$C$7),\"\",INDEX(Main!H$8:H$100,SMALL(IF(Main!H$8:H$100<>\"\",IF(Main!$C$8:$C$100=$C$7,ROW(H$8:H$100)-ROW(H$8)+1)),ROWS($A$1:G91))))","v":""},{"$f":"IF(ROWS($A$1:H91)>COUNTIF(Main!$C$8:$C$100,$C$7),\"\",INDEX(Main!I$8:I$100,SMALL(IF(Main!I$8:I$100<>\"\",IF(Main!$C$8:$C$100=$C$7,ROW(I$8:I$100)-ROW(I$8)+1)),ROWS($A$1:H91))))","v":""},{"$f":"IF(ROWS($A$1:I91)>COUNTIF(Main!$C$8:$C$100,$C$7),\"\",INDEX(Main!J$8:J$100,SMALL(IF(Main!J$8:J$100<>\"\",IF(Main!$C$8:$C$100=$C$7,ROW(J$8:J$100)-ROW(J$8)+1)),ROWS($A$1:I91))))","v":""},"",{"$f":"IF(ROWS($A$1:K91)>COUNTIF(Main!$C$8:$C$100,$C$7),\"\",INDEX(Main!L$8:L$100,SMALL(IF(Main!L$8:L$100<>\"\",IF(Main!$C$8:$C$100=$C$7,ROW(L$8:L$100)-ROW(L$8)+1)),ROWS($A$1:K91))))","v":""}]
[{"$f":"IF(B99=\"\",\"\",MAX($A$7:A98)+1)","v":""},{"$f":"IF(ROWS($A$1:A92)>COUNTIF(Main!$C$8:$C$100,$C$7),\"\",INDEX(Main!B$8:B$100,SMALL(IF(Main!B$8:B$100<>\"\",IF(Main!$C$8:$C$100=$C$7,ROW(B$8:B$100)-ROW(B$8)+1)),ROWS($A$1:A92))))","v":""},{"$f":"IF(ROWS($A$1:B92)>COUNTIF(Main!$C$8:$C$100,$C$7),\"\",INDEX(Main!C$8:C$100,SMALL(IF(Main!C$8:C$100<>\"\",IF(Main!$C$8:$C$100=$C$7,ROW(C$8:C$100)-ROW(C$8)+1)),ROWS($A$1:B92))))","v":""},{"$f":"IF(ROWS($A$1:C92)>COUNTIF(Main!$C$8:$C$100,$C$7),\"\",INDEX(Main!D$8:D$100,SMALL(IF(Main!D$8:D$100<>\"\",IF(Main!$C$8:$C$100=$C$7,ROW(D$8:D$100)-ROW(D$8)+1)),ROWS($A$1:C92))))","v":""},{"$f":"IF(ROWS($A$1:D92)>COUNTIF(Main!$C$8:$C$100,$C$7),\"\",INDEX(Main!E$8:E$100,SMALL(IF(Main!E$8:E$100<>\"\",IF(Main!$C$8:$C$100=$C$7,ROW(E$8:E$100)-ROW(E$8)+1)),ROWS($A$1:D92))))","v":""},{"$f":"IF(ROWS($A$1:E92)>COUNTIF(Main!$C$8:$C$100,$C$7),\"\",INDEX(Main!F$8:F$100,SMALL(IF(Main!F$8:F$100<>\"\",IF(Main!$C$8:$C$100=$C$7,ROW(F$8:F$100)-ROW(F$8)+1)),ROWS($A$1:E92))))","v":""},{"$f":"IF(ROWS($A$1:F92)>COUNTIF(Main!$C$8:$C$100,$C$7),\"\",INDEX(Main!G$8:G$100,SMALL(IF(Main!G$8:G$100<>\"\",IF(Main!$C$8:$C$100=$C$7,ROW(G$8:G$100)-ROW(G$8)+1)),ROWS($A$1:F92))))","v":""},{"$f":"IF(ROWS($A$1:G92)>COUNTIF(Main!$C$8:$C$100,$C$7),\"\",INDEX(Main!H$8:H$100,SMALL(IF(Main!H$8:H$100<>\"\",IF(Main!$C$8:$C$100=$C$7,ROW(H$8:H$100)-ROW(H$8)+1)),ROWS($A$1:G92))))","v":""},{"$f":"IF(ROWS($A$1:H92)>COUNTIF(Main!$C$8:$C$100,$C$7),\"\",INDEX(Main!I$8:I$100,SMALL(IF(Main!I$8:I$100<>\"\",IF(Main!$C$8:$C$100=$C$7,ROW(I$8:I$100)-ROW(I$8)+1)),ROWS($A$1:H92))))","v":""},{"$f":"IF(ROWS($A$1:I92)>COUNTIF(Main!$C$8:$C$100,$C$7),\"\",INDEX(Main!J$8:J$100,SMALL(IF(Main!J$8:J$100<>\"\",IF(Main!$C$8:$C$100=$C$7,ROW(J$8:J$100)-ROW(J$8)+1)),ROWS($A$1:I92))))","v":""},"",{"$f":"IF(ROWS($A$1:K92)>COUNTIF(Main!$C$8:$C$100,$C$7),\"\",INDEX(Main!L$8:L$100,SMALL(IF(Main!L$8:L$100<>\"\",IF(Main!$C$8:$C$100=$C$7,ROW(L$8:L$100)-ROW(L$8)+1)),ROWS($A$1:K92))))","v":""}]
[{"$f":"IF(B100=\"\",\"\",MAX($A$7:A99)+1)","v":""},{"$f":"IF(ROWS($A$1:A93)>COUNTIF(Main!$C$8:$C$100,$C$7),\"\",INDEX(Main!B$8:B$100,SMALL(IF(Main!B$8:B$100<>\"\",IF(Main!$C$8:$C$100=$C$7,ROW(B$8:B$100)-ROW(B$8)+1)),ROWS($A$1:A93))))","v":""},{"$f":"IF(ROWS($A$1:B93)>COUNTIF(Main!$C$8:$C$100,$C$7),\"\",INDEX(Main!C$8:C$100,SMALL(IF(Main!C$8:C$100<>\"\",IF(Main!$C$8:$C$100=$C$7,ROW(C$8:C$100)-ROW(C$8)+1)),ROWS($A$1:B93))))","v":""},{"$f":"IF(ROWS($A$1:C93)>COUNTIF(Main!$C$8:$C$100,$C$7),\"\",INDEX(Main!D$8:D$100,SMALL(IF(Main!D$8:D$100<>\"\",IF(Main!$C$8:$C$100=$C$7,ROW(D$8:D$100)-ROW(D$8)+1)),ROWS($A$1:C93))))","v":""},{"$f":"IF(ROWS($A$1:D93)>COUNTIF(Main!$C$8:$C$100,$C$7),\"\",INDEX(Main!E$8:E$100,SMALL(IF(Main!E$8:E$100<>\"\",IF(Main!$C$8:$C$100=$C$7,ROW(E$8:E$100)-ROW(E$8)+1)),ROWS($A$1:D93))))","v":""},{"$f":"IF(ROWS($A$1:E93)>COUNTIF(Main!$C$8:$C$100,$C$7),\"\",INDEX(Main!F$8:F$100,SMALL(IF(Main!F$8:F$100<>\"\",IF(Main!$C$8:$C$100=$C$7,ROW(F$8:F$100)-ROW(F$8)+1)),ROWS($A$1:E93))))","v":""},{"$f":"IF(ROWS($A$1:F93)>COUNTIF(Main!$C$8:$C$100,$C$7),\"\",INDEX(Main!G$8:G$100,SMALL(IF(Main!G$8:G$100<>\"\",IF(Main!$C$8:$C$100=$C$7,ROW(G$8:G$100)-ROW(G$8)+1)),ROWS($A$1:F93))))","v":""},{"$f":"IF(ROWS($A$1:G93)>COUNTIF(Main!$C$8:$C$100,$C$7),\"\",INDEX(Main!H$8:H$100,SMALL(IF(Main!H$8:H$100<>\"\",IF(Main!$C$8:$C$100=$C$7,ROW(H$8:H$100)-ROW(H$8)+1)),ROWS($A$1:G93))))","v":""},{"$f":"IF(ROWS($A$1:H93)>COUNTIF(Main!$C$8:$C$100,$C$7),\"\",INDEX(Main!I$8:I$100,SMALL(IF(Main!I$8:I$100<>\"\",IF(Main!$C$8:$C$100=$C$7,ROW(I$8:I$100)-ROW(I$8)+1)),ROWS($A$1:H93))))","v":""},{"$f":"IF(ROWS($A$1:I93)>COUNTIF(Main!$C$8:$C$100,$C$7),\"\",INDEX(Main!J$8:J$100,SMALL(IF(Main!J$8:J$100<>\"\",IF(Main!$C$8:$C$100=$C$7,ROW(J$8:J$100)-ROW(J$8)+1)),ROWS($A$1:I93))))","v":""},"",{"$f":"IF(ROWS($A$1:K93)>COUNTIF(Main!$C$8:$C$100,$C$7),\"\",INDEX(Main!L$8:L$100,SMALL(IF(Main!L$8:L$100<>\"\",IF(Main!$C$8:$C$100=$C$7,ROW(L$8:L$100)-ROW(L$8)+1)),ROWS($A$1:K93))))","v":""}]
[{"$f":"IF(B101=\"\",\"\",MAX($A$7:A100)+1)","v":""},{"$f":"IF(ROWS($A$1:A94)>COUNTIF(Main!$C$8:$C$100,$C$7),\"\",INDEX(Main!B$8:B$100,SMALL(IF(Main!B$8:B$100<>\"\",IF(Main!$C$8:$C$100=$C$7,ROW(B$8:B$100)-ROW(B$8)+1)),ROWS($A$1:A94))))","v":""},{"$f":"IF(ROWS($A$1:B94)>COUNTIF(Main!$C$8:$C$100,$C$7),\"\",INDEX(Main!C$8:C$100,SMALL(IF(Main!C$8:C$100<>\"\",IF(Main!$C$8:$C$100=$C$7,ROW(C$8:C$100)-ROW(C$8)+1)),ROWS($A$1:B94))))","v":""},{"$f":"IF(ROWS($A$1:C94)>COUNTIF(Main!$C$8:$C$100,$C$7),\"\",INDEX(Main!D$8:D$100,SMALL(IF(Main!D$8:D$100<>\"\",IF(Main!$C$8:$C$100=$C$7,ROW(D$8:D$100)-ROW(D$8)+1)),ROWS($A$1:C94))))","v":""},{"$f":"IF(ROWS($A$1:D94)>COUNTIF(Main!$C$8:$C$100,$C$7),\"\",INDEX(Main!E$8:E$100,SMALL(IF(Main!E$8:E$100<>\"\",IF(Main!$C$8:$C$100=$C$7,ROW(E$8:E$100)-ROW(E$8)+1)),ROWS($A$1:D94))))","v":""},{"$f":"IF(ROWS($A$1:E94)>COUNTIF(Main!$C$8:$C$100,$C$7),\"\",INDEX(Main!F$8:F$100,SMALL(IF(Main!F$8:F$100<>\"\",IF(Main!$C$8:$C$100=$C$7,ROW(F$8:F$100)-ROW(F$8)+1)),ROWS($A$1:E94))))","v":""},{"$f":"IF(ROWS($A$1:F94)>COUNTIF(Main!$C$8:$C$100,$C$7),\"\",INDEX(Main!G$8:G$100,SMALL(IF(Main!G$8:G$100<>\"\",IF(Main!$C$8:$C$100=$C$7,ROW(G$8:G$100)-ROW(G$8)+1)),ROWS($A$1:F94))))","v":""},{"$f":"IF(ROWS($A$1:G94)>COUNTIF(Main!$C$8:$C$100,$C$7),\"\",INDEX(Main!H$8:H$100,SMALL(IF(Main!H$8:H$100<>\"\",IF(Main!$C$8:$C$100=$C$7,ROW(H$8:H$100)-ROW(H$8)+1)),ROWS($A$1:G94))))","v":""},{"$f":"IF(ROWS($A$1:H94)>COUNTIF(Main!$C$8:$C$100,$C$7),\"\",INDEX(Main!I$8:I$100,SMALL(IF(Main!I$8:I$100<>\"\",IF(Main!$C$8:$C$100=$C$7,ROW(I$8:I$100)-ROW(I$8)+1)),ROWS($A$1:H94))))","v":""},{"$f":"IF(ROWS($A$1:I94)>COUNTIF(Main!$C$8:$C$100,$C$7),\"\",INDEX(Main!J$8:J$100,SMALL(IF(Main!J$8:J$100<>\"\",IF(Main!$C$8:$C$100=$C$7,ROW(J$8:J$100)-ROW(J$8)+1)),ROWS($A$1:I94))))","v":""},"",{"$f":"IF(ROWS($A$1:K94)>COUNTIF(Main!$C$8:$C$100,$C$7),\"\",INDEX(Main!L$8:L$100,SMALL(IF(Main!L$8:L$100<>\"\",IF(Main!$C$8:$C$100=$C$7,ROW(L$8:L$100)-ROW(L$8)+1)),ROWS($A$1:K94))))","v":""}]
[{"$f":"IF(B102=\"\",\"\",MAX($A$7:A101)+1)","v":""},{"$f":"IF(ROWS($A$1:A95)>COUNTIF(Main!$C$8:$C$100,$C$7),\"\",INDEX(Main!B$8:B$100,SMALL(IF(Main!B$8:B$100<>\"\",IF(Main!$C$8:$C$100=$C$7,ROW(B$8:B$100)-ROW(B$8)+1)),ROWS($A$1:A95))))","v":""},{"$f":"IF(ROWS($A$1:B95)>COUNTIF(Main!$C$8:$C$100,$C$7),\"\",INDEX(Main!C$8:C$100,SMALL(IF(Main!C$8:C$100<>\"\",IF(Main!$C$8:$C$100=$C$7,ROW(C$8:C$100)-ROW(C$8)+1)),ROWS($A$1:B95))))","v":""},{"$f":"IF(ROWS($A$1:C95)>COUNTIF(Main!$C$8:$C$100,$C$7),\"\",INDEX(Main!D$8:D$100,SMALL(IF(Main!D$8:D$100<>\"\",IF(Main!$C$8:$C$100=$C$7,ROW(D$8:D$100)-ROW(D$8)+1)),ROWS($A$1:C95))))","v":""},{"$f":"IF(ROWS($A$1:D95)>COUNTIF(Main!$C$8:$C$100,$C$7),\"\",INDEX(Main!E$8:E$100,SMALL(IF(Main!E$8:E$100<>\"\",IF(Main!$C$8:$C$100=$C$7,ROW(E$8:E$100)-ROW(E$8)+1)),ROWS($A$1:D95))))","v":""},{"$f":"IF(ROWS($A$1:E95)>COUNTIF(Main!$C$8:$C$100,$C$7),\"\",INDEX(Main!F$8:F$100,SMALL(IF(Main!F$8:F$100<>\"\",IF(Main!$C$8:$C$100=$C$7,ROW(F$8:F$100)-ROW(F$8)+1)),ROWS($A$1:E95))))","v":""},{"$f":"IF(ROWS($A$1:F95)>COUNTIF(Main!$C$8:$C$100,$C$7),\"\",INDEX(Main!G$8:G$100,SMALL(IF(Main!G$8:G$100<>\"\",IF(Main!$C$8:$C$100=$C$7,ROW(G$8:G$100)-ROW(G$8)+1)),ROWS($A$1:F95))))","v":""},{"$f":"IF(ROWS($A$1:G95)>COUNTIF(Main!$C$8:$C$100,$C$7),\"\",INDEX(Main!H$8:H$100,SMALL(IF(Main!H$8:H$100<>\"\",IF(Main!$C$8:$C$100=$C$7,ROW(H$8:H$100)-ROW(H$8)+1)),ROWS($A$1:G95))))","v":""},{"$f":"IF(ROWS($A$1:H95)>COUNTIF(Main!$C$8:$C$100,$C$7),\"\",INDEX(Main!I$8:I$100,SMALL(IF(Main!I$8:I$100<>\"\",IF(Main!$C$8:$C$100=$C$7,ROW(I$8:I$100)-ROW(I$8)+1)),ROWS($A$1:H95))))","v":""},{"$f":"IF(ROWS($A$1:I95)>COUNTIF(Main!$C$8:$C$100,$C$7),\"\",INDEX(Main!J$8:J$100,SMALL(IF(Main!J$8:J$100<>\"\",IF(Main!$C$8:$C$100=$C$7,ROW(J$8:J$100)-ROW(J$8)+1)),ROWS($A$1:I95))))","v":""},"",{"$f":"IF(ROWS($A$1:K95)>COUNTIF(Main!$C$8:$C$100,$C$7),\"\",INDEX(Main!L$8:L$100,SMALL(IF(Main!L$8:L$100<>\"\",IF(Main!$C$8:$C$100=$C$7,ROW(L$8:L$100)-ROW(L$8)+1)),ROWS($A$1:K95))))","v":""}]
[{"$f":"IF(B103=\"\",\"\",MAX($A$7:A102)+1)","v":""},{"$f":"IF(ROWS($A$1:A96)>COUNTIF(Main!$C$8:$C$100,$C$7),\"\",INDEX(Main!B$8:B$100,SMALL(IF(Main!B$8:B$100<>\"\",IF(Main!$C$8:$C$100=$C$7,ROW(B$8:B$100)-ROW(B$8)+1)),ROWS($A$1:A96))))","v":""},{"$f":"IF(ROWS($A$1:B96)>COUNTIF(Main!$C$8:$C$100,$C$7),\"\",INDEX(Main!C$8:C$100,SMALL(IF(Main!C$8:C$100<>\"\",IF(Main!$C$8:$C$100=$C$7,ROW(C$8:C$100)-ROW(C$8)+1)),ROWS($A$1:B96))))","v":""},{"$f":"IF(ROWS($A$1:C96)>COUNTIF(Main!$C$8:$C$100,$C$7),\"\",INDEX(Main!D$8:D$100,SMALL(IF(Main!D$8:D$100<>\"\",IF(Main!$C$8:$C$100=$C$7,ROW(D$8:D$100)-ROW(D$8)+1)),ROWS($A$1:C96))))","v":""},{"$f":"IF(ROWS($A$1:D96)>COUNTIF(Main!$C$8:$C$100,$C$7),\"\",INDEX(Main!E$8:E$100,SMALL(IF(Main!E$8:E$100<>\"\",IF(Main!$C$8:$C$100=$C$7,ROW(E$8:E$100)-ROW(E$8)+1)),ROWS($A$1:D96))))","v":""},{"$f":"IF(ROWS($A$1:E96)>COUNTIF(Main!$C$8:$C$100,$C$7),\"\",INDEX(Main!F$8:F$100,SMALL(IF(Main!F$8:F$100<>\"\",IF(Main!$C$8:$C$100=$C$7,ROW(F$8:F$100)-ROW(F$8)+1)),ROWS($A$1:E96))))","v":""},{"$f":"IF(ROWS($A$1:F96)>COUNTIF(Main!$C$8:$C$100,$C$7),\"\",INDEX(Main!G$8:G$100,SMALL(IF(Main!G$8:G$100<>\"\",IF(Main!$C$8:$C$100=$C$7,ROW(G$8:G$100)-ROW(G$8)+1)),ROWS($A$1:F96))))","v":""},{"$f":"IF(ROWS($A$1:G96)>COUNTIF(Main!$C$8:$C$100,$C$7),\"\",INDEX(Main!H$8:H$100,SMALL(IF(Main!H$8:H$100<>\"\",IF(Main!$C$8:$C$100=$C$7,ROW(H$8:H$100)-ROW(H$8)+1)),ROWS($A$1:G96))))","v":""},{"$f":"IF(ROWS($A$1:H96)>COUNTIF(Main!$C$8:$C$100,$C$7),\"\",INDEX(Main!I$8:I$100,SMALL(IF(Main!I$8:I$100<>\"\",IF(Main!$C$8:$C$100=$C$7,ROW(I$8:I$100)-ROW(I$8)+1)),ROWS($A$1:H96))))","v":""},{"$f":"IF(ROWS($A$1:I96)>COUNTIF(Main!$C$8:$C$100,$C$7),\"\",INDEX(Main!J$8:J$100,SMALL(IF(Main!J$8:J$100<>\"\",IF(Main!$C$8:$C$100=$C$7,ROW(J$8:J$100)-ROW(J$8)+1)),ROWS($A$1:I96))))","v":""},"",{"$f":"IF(ROWS($A$1:K96)>COUNTIF(Main!$C$8:$C$100,$C$7),\"\",INDEX(Main!L$8:L$100,SMALL(IF(Main!L$8:L$100<>\"\",IF(Main!$C$8:$C$100=$C$7,ROW(L$8:L$100)-ROW(L$8)+1)),ROWS($A$1:K96))))","v":""}]
[{"$f":"IF(B104=\"\",\"\",MAX($A$7:A103)+1)","v":""},{"$f":"IF(ROWS($A$1:A97)>COUNTIF(Main!$C$8:$C$100,$C$7),\"\",INDEX(Main!B$8:B$100,SMALL(IF(Main!B$8:B$100<>\"\",IF(Main!$C$8:$C$100=$C$7,ROW(B$8:B$100)-ROW(B$8)+1)),ROWS($A$1:A97))))","v":""},{"$f":"IF(ROWS($A$1:B97)>COUNTIF(Main!$C$8:$C$100,$C$7),\"\",INDEX(Main!C$8:C$100,SMALL(IF(Main!C$8:C$100<>\"\",IF(Main!$C$8:$C$100=$C$7,ROW(C$8:C$100)-ROW(C$8)+1)),ROWS($A$1:B97))))","v":""},{"$f":"IF(ROWS($A$1:C97)>COUNTIF(Main!$C$8:$C$100,$C$7),\"\",INDEX(Main!D$8:D$100,SMALL(IF(Main!D$8:D$100<>\"\",IF(Main!$C$8:$C$100=$C$7,ROW(D$8:D$100)-ROW(D$8)+1)),ROWS($A$1:C97))))","v":""},{"$f":"IF(ROWS($A$1:D97)>COUNTIF(Main!$C$8:$C$100,$C$7),\"\",INDEX(Main!E$8:E$100,SMALL(IF(Main!E$8:E$100<>\"\",IF(Main!$C$8:$C$100=$C$7,ROW(E$8:E$100)-ROW(E$8)+1)),ROWS($A$1:D97))))","v":""},{"$f":"IF(ROWS($A$1:E97)>COUNTIF(Main!$C$8:$C$100,$C$7),\"\",INDEX(Main!F$8:F$100,SMALL(IF(Main!F$8:F$100<>\"\",IF(Main!$C$8:$C$100=$C$7,ROW(F$8:F$100)-ROW(F$8)+1)),ROWS($A$1:E97))))","v":""},{"$f":"IF(ROWS($A$1:F97)>COUNTIF(Main!$C$8:$C$100,$C$7),\"\",INDEX(Main!G$8:G$100,SMALL(IF(Main!G$8:G$100<>\"\",IF(Main!$C$8:$C$100=$C$7,ROW(G$8:G$100)-ROW(G$8)+1)),ROWS($A$1:F97))))","v":""},{"$f":"IF(ROWS($A$1:G97)>COUNTIF(Main!$C$8:$C$100,$C$7),\"\",INDEX(Main!H$8:H$100,SMALL(IF(Main!H$8:H$100<>\"\",IF(Main!$C$8:$C$100=$C$7,ROW(H$8:H$100)-ROW(H$8)+1)),ROWS($A$1:G97))))","v":""},{"$f":"IF(ROWS($A$1:H97)>COUNTIF(Main!$C$8:$C$100,$C$7),\"\",INDEX(Main!I$8:I$100,SMALL(IF(Main!I$8:I$100<>\"\",IF(Main!$C$8:$C$100=$C$7,ROW(I$8:I$100)-ROW(I$8)+1)),ROWS($A$1:H97))))","v":""},{"$f":"IF(ROWS($A$1:I97)>COUNTIF(Main!$C$8:$C$100,$C$7),\"\",INDEX(Main!J$8:J$100,SMALL(IF(Main!J$8:J$100<>\"\",IF(Main!$C$8:$C$100=$C$7,ROW(J$8:J$100)-ROW(J$8)+1)),ROWS($A$1:I97))))","v":""},"",{"$f":"IF(ROWS($A$1:K97)>COUNTIF(Main!$C$8:$C$100,$C$7),\"\",INDEX(Main!L$8:L$100,SMALL(IF(Main!L$8:L$100<>\"\",IF(Main!$C$8:$C$100=$C$7,ROW(L$8:L$100)-ROW(L$8)+1)),ROWS($A$1:K97))))","v":""}]
[{"$f":"IF(B105=\"\",\"\",MAX($A$7:A104)+1)","v":""},{"$f":"IF(ROWS($A$1:A98)>COUNTIF(Main!$C$8:$C$100,$C$7),\"\",INDEX(Main!B$8:B$100,SMALL(IF(Main!B$8:B$100<>\"\",IF(Main!$C$8:$C$100=$C$7,ROW(B$8:B$100)-ROW(B$8)+1)),ROWS($A$1:A98))))","v":""},{"$f":"IF(ROWS($A$1:B98)>COUNTIF(Main!$C$8:$C$100,$C$7),\"\",INDEX(Main!C$8:C$100,SMALL(IF(Main!C$8:C$100<>\"\",IF(Main!$C$8:$C$100=$C$7,ROW(C$8:C$100)-ROW(C$8)+1)),ROWS($A$1:B98))))","v":""},{"$f":"IF(ROWS($A$1:C98)>COUNTIF(Main!$C$8:$C$100,$C$7),\"\",INDEX(Main!D$8:D$100,SMALL(IF(Main!D$8:D$100<>\"\",IF(Main!$C$8:$C$100=$C$7,ROW(D$8:D$100)-ROW(D$8)+1)),ROWS($A$1:C98))))","v":""},{"$f":"IF(ROWS($A$1:D98)>COUNTIF(Main!$C$8:$C$100,$C$7),\"\",INDEX(Main!E$8:E$100,SMALL(IF(Main!E$8:E$100<>\"\",IF(Main!$C$8:$C$100=$C$7,ROW(E$8:E$100)-ROW(E$8)+1)),ROWS($A$1:D98))))","v":""},{"$f":"IF(ROWS($A$1:E98)>COUNTIF(Main!$C$8:$C$100,$C$7),\"\",INDEX(Main!F$8:F$100,SMALL(IF(Main!F$8:F$100<>\"\",IF(Main!$C$8:$C$100=$C$7,ROW(F$8:F$100)-ROW(F$8)+1)),ROWS($A$1:E98))))","v":""},{"$f":"IF(ROWS($A$1:F98)>COUNTIF(Main!$C$8:$C$100,$C$7),\"\",INDEX(Main!G$8:G$100,SMALL(IF(Main!G$8:G$100<>\"\",IF(Main!$C$8:$C$100=$C$7,ROW(G$8:G$100)-ROW(G$8)+1)),ROWS($A$1:F98))))","v":""},{"$f":"IF(ROWS($A$1:G98)>COUNTIF(Main!$C$8:$C$100,$C$7),\"\",INDEX(Main!H$8:H$100,SMALL(IF(Main!H$8:H$100<>\"\",IF(Main!$C$8:$C$100=$C$7,ROW(H$8:H$100)-ROW(H$8)+1)),ROWS($A$1:G98))))","v":""},{"$f":"IF(ROWS($A$1:H98)>COUNTIF(Main!$C$8:$C$100,$C$7),\"\",INDEX(Main!I$8:I$100,SMALL(IF(Main!I$8:I$100<>\"\",IF(Main!$C$8:$C$100=$C$7,ROW(I$8:I$100)-ROW(I$8)+1)),ROWS($A$1:H98))))","v":""},{"$f":"IF(ROWS($A$1:I98)>COUNTIF(Main!$C$8:$C$100,$C$7),\"\",INDEX(Main!J$8:J$100,SMALL(IF(Main!J$8:J$100<>\"\",IF(Main!$C$8:$C$100=$C$7,ROW(J$8:J$100)-ROW(J$8)+1)),ROWS($A$1:I98))))","v":""},"",{"$f":"IF(ROWS($A$1:K98)>COUNTIF(Main!$C$8:$C$100,$C$7),\"\",INDEX(Main!L$8:L$100,SMALL(IF(Main!L$8:L$100<>\"\",IF(Main!$C$8:$C$100=$C$7,ROW(L$8:L$100)-ROW(L$8)+1)),ROWS($A$1:K98))))","v":""}]
[{"$f":"IF(B106=\"\",\"\",MAX($A$7:A105)+1)","v":""},{"$f":"IF(ROWS($A$1:A99)>COUNTIF(Main!$C$8:$C$100,$C$7),\"\",INDEX(Main!B$8:B$100,SMALL(IF(Main!B$8:B$100<>\"\",IF(Main!$C$8:$C$100=$C$7,ROW(B$8:B$100)-ROW(B$8)+1)),ROWS($A$1:A99))))","v":""},{"$f":"IF(ROWS($A$1:B99)>COUNTIF(Main!$C$8:$C$100,$C$7),\"\",INDEX(Main!C$8:C$100,SMALL(IF(Main!C$8:C$100<>\"\",IF(Main!$C$8:$C$100=$C$7,ROW(C$8:C$100)-ROW(C$8)+1)),ROWS($A$1:B99))))","v":""},{"$f":"IF(ROWS($A$1:C99)>COUNTIF(Main!$C$8:$C$100,$C$7),\"\",INDEX(Main!D$8:D$100,SMALL(IF(Main!D$8:D$100<>\"\",IF(Main!$C$8:$C$100=$C$7,ROW(D$8:D$100)-ROW(D$8)+1)),ROWS($A$1:C99))))","v":""},{"$f":"IF(ROWS($A$1:D99)>COUNTIF(Main!$C$8:$C$100,$C$7),\"\",INDEX(Main!E$8:E$100,SMALL(IF(Main!E$8:E$100<>\"\",IF(Main!$C$8:$C$100=$C$7,ROW(E$8:E$100)-ROW(E$8)+1)),ROWS($A$1:D99))))","v":""},{"$f":"IF(ROWS($A$1:E99)>COUNTIF(Main!$C$8:$C$100,$C$7),\"\",INDEX(Main!F$8:F$100,SMALL(IF(Main!F$8:F$100<>\"\",IF(Main!$C$8:$C$100=$C$7,ROW(F$8:F$100)-ROW(F$8)+1)),ROWS($A$1:E99))))","v":""},{"$f":"IF(ROWS($A$1:F99)>COUNTIF(Main!$C$8:$C$100,$C$7),\"\",INDEX(Main!G$8:G$100,SMALL(IF(Main!G$8:G$100<>\"\",IF(Main!$C$8:$C$100=$C$7,ROW(G$8:G$100)-ROW(G$8)+1)),ROWS($A$1:F99))))","v":""},{"$f":"IF(ROWS($A$1:G99)>COUNTIF(Main!$C$8:$C$100,$C$7),\"\",INDEX(Main!H$8:H$100,SMALL(IF(Main!H$8:H$100<>\"\",IF(Main!$C$8:$C$100=$C$7,ROW(H$8:H$100)-ROW(H$8)+1)),ROWS($A$1:G99))))","v":""},{"$f":"IF(ROWS($A$1:H99)>COUNTIF(Main!$C$8:$C$100,$C$7),\"\",INDEX(Main!I$8:I$100,SMALL(IF(Main!I$8:I$100<>\"\",IF(Main!$C$8:$C$100=$C$7,ROW(I$8:I$100)-ROW(I$8)+1)),ROWS($A$1:H99))))","v":""},{"$f":"IF(ROWS($A$1:I99)>COUNTIF(Main!$C$8:$C$100,$C$7),\"\",INDEX(Main!J$8:J$100,SMALL(IF(Main!J$8:J$100<>\"\",IF(Main!$C$8:$C$100=$C$7,ROW(J$8:J$100)-ROW(J$8)+1)),ROWS($A$1:I99))))","v":""},"",{"$f":"IF(ROWS($A$1:K99)>COUNTIF(Main!$C$8:$C$100,$C$7),\"\",INDEX(Main!L$8:L$100,SMALL(IF(Main!L$8:L$100<>\"\",IF(Main!$C$8:$C$100=$C$7,ROW(L$8:L$100)-ROW(L$8)+1)),ROWS($A$1:K99))))","v":""}]
[{"$f":"IF(B107=\"\",\"\",MAX($A$7:A106)+1)","v":""},{"$f":"IF(ROWS($A$1:A100)>COUNTIF(Main!$C$8:$C$100,$C$7),\"\",INDEX(Main!B$8:B$100,SMALL(IF(Main!B$8:B$100<>\"\",IF(Main!$C$8:$C$100=$C$7,ROW(B$8:B$100)-ROW(B$8)+1)),ROWS($A$1:A100))))","v":""},{"$f":"IF(ROWS($A$1:B100)>COUNTIF(Main!$C$8:$C$100,$C$7),\"\",INDEX(Main!C$8:C$100,SMALL(IF(Main!C$8:C$100<>\"\",IF(Main!$C$8:$C$100=$C$7,ROW(C$8:C$100)-ROW(C$8)+1)),ROWS($A$1:B100))))","v":""},{"$f":"IF(ROWS($A$1:C100)>COUNTIF(Main!$C$8:$C$100,$C$7),\"\",INDEX(Main!D$8:D$100,SMALL(IF(Main!D$8:D$100<>\"\",IF(Main!$C$8:$C$100=$C$7,ROW(D$8:D$100)-ROW(D$8)+1)),ROWS($A$1:C100))))","v":""},{"$f":"IF(ROWS($A$1:D100)>COUNTIF(Main!$C$8:$C$100,$C$7),\"\",INDEX(Main!E$8:E$100,SMALL(IF(Main!E$8:E$100<>\"\",IF(Main!$C$8:$C$100=$C$7,ROW(E$8:E$100)-ROW(E$8)+1)),ROWS($A$1:D100))))","v":""},{"$f":"IF(ROWS($A$1:E100)>COUNTIF(Main!$C$8:$C$100,$C$7),\"\",INDEX(Main!F$8:F$100,SMALL(IF(Main!F$8:F$100<>\"\",IF(Main!$C$8:$C$100=$C$7,ROW(F$8:F$100)-ROW(F$8)+1)),ROWS($A$1:E100))))","v":""},{"$f":"IF(ROWS($A$1:F100)>COUNTIF(Main!$C$8:$C$100,$C$7),\"\",INDEX(Main!G$8:G$100,SMALL(IF(Main!G$8:G$100<>\"\",IF(Main!$C$8:$C$100=$C$7,ROW(G$8:G$100)-ROW(G$8)+1)),ROWS($A$1:F100))))","v":""},{"$f":"IF(ROWS($A$1:G100)>COUNTIF(Main!$C$8:$C$100,$C$7),\"\",INDEX(Main!H$8:H$100,SMALL(IF(Main!H$8:H$100<>\"\",IF(Main!$C$8:$C$100=$C$7,ROW(H$8:H$100)-ROW(H$8)+1)),ROWS($A$1:G100))))","v":""},{"$f":"IF(ROWS($A$1:H100)>COUNTIF(Main!$C$8:$C$100,$C$7),\"\",INDEX(Main!I$8:I$100,SMALL(IF(Main!I$8:I$100<>\"\",IF(Main!$C$8:$C$100=$C$7,ROW(I$8:I$100)-ROW(I$8)+1)),ROWS($A$1:H100))))","v":""},{"$f":"IF(ROWS($A$1:I100)>COUNTIF(Main!$C$8:$C$100,$C$7),\"\",INDEX(Main!J$8:J$100,SMALL(IF(Main!J$8:J$100<>\"\",IF(Main!$C$8:$C$100=$C$7,ROW(J$8:J$100)-ROW(J$8)+1)),ROWS($A$1:I100))))","v":""},"",{"$f":"IF(ROWS($A$1:K100)>COUNTIF(Main!$C$8:$C$100,$C$7),\"\",INDEX(Main!L$8:L$100,SMALL(IF(Main!L$8:L$100<>\"\",IF(Main!$C$8:$C$100=$C$7,ROW(L$8:L$100)-ROW(L$8)+1)),ROWS($A$1:K100))))","v":""}]
[{"$f":"IF(B108=\"\",\"\",MAX($A$7:A107)+1)","v":""},{"$f":"IF(ROWS($A$1:A101)>COUNTIF(Main!$C$8:$C$100,$C$7),\"\",INDEX(Main!B$8:B$100,SMALL(IF(N(Main!B$8:B$100)<>0,IF(Main!$C$8:$C$100=$C$7,ROW(B$8:B$100)-ROW(B$8)+1)),ROWS($A$1:A101))))","v":""},{"$f":"IF(ROWS($A$1:B101)>COUNTIF(Main!$C$8:$C$100,$C$7),\"\",INDEX(Main!C$8:C$100,SMALL(IF(N(Main!C$8:C$100)<>0,IF(Main!$C$8:$C$100=$C$7,ROW(C$8:C$100)-ROW(C$8)+1)),ROWS($A$1:B101))))","v":""},{"$f":"IF(ROWS($A$1:C101)>COUNTIF(Main!$C$8:$C$100,$C$7),\"\",INDEX(Main!D$8:D$100,SMALL(IF(N(Main!D$8:D$100)<>0,IF(Main!$C$8:$C$100=$C$7,ROW(D$8:D$100)-ROW(D$8)+1)),ROWS($A$1:C101))))","v":""},{"$f":"IF(ROWS($A$1:D101)>COUNTIF(Main!$C$8:$C$100,$C$7),\"\",INDEX(Main!E$8:E$100,SMALL(IF(N(Main!E$8:E$100)<>0,IF(Main!$C$8:$C$100=$C$7,ROW(E$8:E$100)-ROW(E$8)+1)),ROWS($A$1:D101))))","v":""},{"$f":"IF(ROWS($A$1:E101)>COUNTIF(Main!$C$8:$C$100,$C$7),\"\",INDEX(Main!F$8:F$100,SMALL(IF(N(Main!F$8:F$100)<>0,IF(Main!$C$8:$C$100=$C$7,ROW(F$8:F$100)-ROW(F$8)+1)),ROWS($A$1:E101))))","v":""},{"$f":"IF(ROWS($A$1:F101)>COUNTIF(Main!$C$8:$C$100,$C$7),\"\",INDEX(Main!G$8:G$100,SMALL(IF(N(Main!G$8:G$100)<>0,IF(Main!$C$8:$C$100=$C$7,ROW(G$8:G$100)-ROW(G$8)+1)),ROWS($A$1:F101))))","v":""},{"$f":"IF(ROWS($A$1:G101)>COUNTIF(Main!$C$8:$C$100,$C$7),\"\",INDEX(Main!H$8:H$100,SMALL(IF(N(Main!H$8:H$100)<>0,IF(Main!$C$8:$C$100=$C$7,ROW(H$8:H$100)-ROW(H$8)+1)),ROWS($A$1:G101))))","v":""},{"$f":"IF(ROWS($A$1:H101)>COUNTIF(Main!$C$8:$C$100,$C$7),\"\",INDEX(Main!I$8:I$100,SMALL(IF(N(Main!I$8:I$100)<>0,IF(Main!$C$8:$C$100=$C$7,ROW(I$8:I$100)-ROW(I$8)+1)),ROWS($A$1:H101))))","v":""},{"$f":"IF(ROWS($A$1:I101)>COUNTIF(Main!$C$8:$C$100,$C$7),\"\",INDEX(Main!J$8:J$100,SMALL(IF(Main!J$8:J$100<>\"\",IF(Main!$C$8:$C$100=$C$7,ROW(J$8:J$100)-ROW(J$8)+1)),ROWS($A$1:I101))))","v":""},"",{"$f":"IF(ROWS($A$1:K101)>COUNTIF(Main!$C$8:$C$100,$C$7),\"\",INDEX(Main!L$8:L$100,SMALL(IF(N(Main!L$8:L$100)<>0,IF(Main!$C$8:$C$100=$C$7,ROW(L$8:L$100)-ROW(L$8)+1)),ROWS($A$1:K101))))","v":""}]
[{"$f":"IF(B109=\"\",\"\",MAX($A$7:A108)+1)","v":""},{"$f":"IF(ROWS($A$1:A102)>COUNTIF(Main!$C$8:$C$100,$C$7),\"\",INDEX(Main!B$8:B$100,SMALL(IF(N(Main!B$8:B$100)<>0,IF(Main!$C$8:$C$100=$C$7,ROW(B$8:B$100)-ROW(B$8)+1)),ROWS($A$1:A102))))","v":""},{"$f":"IF(ROWS($A$1:B102)>COUNTIF(Main!$C$8:$C$100,$C$7),\"\",INDEX(Main!C$8:C$100,SMALL(IF(N(Main!C$8:C$100)<>0,IF(Main!$C$8:$C$100=$C$7,ROW(C$8:C$100)-ROW(C$8)+1)),ROWS($A$1:B102))))","v":""},{"$f":"IF(ROWS($A$1:C102)>COUNTIF(Main!$C$8:$C$100,$C$7),\"\",INDEX(Main!D$8:D$100,SMALL(IF(N(Main!D$8:D$100)<>0,IF(Main!$C$8:$C$100=$C$7,ROW(D$8:D$100)-ROW(D$8)+1)),ROWS($A$1:C102))))","v":""},{"$f":"IF(ROWS($A$1:D102)>COUNTIF(Main!$C$8:$C$100,$C$7),\"\",INDEX(Main!E$8:E$100,SMALL(IF(N(Main!E$8:E$100)<>0,IF(Main!$C$8:$C$100=$C$7,ROW(E$8:E$100)-ROW(E$8)+1)),ROWS($A$1:D102))))","v":""},{"$f":"IF(ROWS($A$1:E102)>COUNTIF(Main!$C$8:$C$100,$C$7),\"\",INDEX(Main!F$8:F$100,SMALL(IF(N(Main!F$8:F$100)<>0,IF(Main!$C$8:$C$100=$C$7,ROW(F$8:F$100)-ROW(F$8)+1)),ROWS($A$1:E102))))","v":""},{"$f":"IF(ROWS($A$1:F102)>COUNTIF(Main!$C$8:$C$100,$C$7),\"\",INDEX(Main!G$8:G$100,SMALL(IF(N(Main!G$8:G$100)<>0,IF(Main!$C$8:$C$100=$C$7,ROW(G$8:G$100)-ROW(G$8)+1)),ROWS($A$1:F102))))","v":""},{"$f":"IF(ROWS($A$1:G102)>COUNTIF(Main!$C$8:$C$100,$C$7),\"\",INDEX(Main!H$8:H$100,SMALL(IF(N(Main!H$8:H$100)<>0,IF(Main!$C$8:$C$100=$C$7,ROW(H$8:H$100)-ROW(H$8)+1)),ROWS($A$1:G102))))","v":""},{"$f":"IF(ROWS($A$1:H102)>COUNTIF(Main!$C$8:$C$100,$C$7),\"\",INDEX(Main!I$8:I$100,SMALL(IF(N(Main!I$8:I$100)<>0,IF(Main!$C$8:$C$100=$C$7,ROW(I$8:I$100)-ROW(I$8)+1)),ROWS($A$1:H102))))","v":""},{"$f":"IF(ROWS($A$1:I102)>COUNTIF(Main!$C$8:$C$100,$C$7),\"\",INDEX(Main!J$8:J$100,SMALL(IF(Main!J$8:J$100<>\"\",IF(Main!$C$8:$C$100=$C$7,ROW(J$8:J$100)-ROW(J$8)+1)),ROWS($A$1:I102))))","v":""},"",{"$f":"IF(ROWS($A$1:K102)>COUNTIF(Main!$C$8:$C$100,$C$7),\"\",INDEX(Main!L$8:L$100,SMALL(IF(N(Main!L$8:L$100)<>0,IF(Main!$C$8:$C$100=$C$7,ROW(L$8:L$100)-ROW(L$8)+1)),ROWS($A$1:K102))))","v":""}]
[{"$f":"IF(B110=\"\",\"\",MAX($A$7:A109)+1)","v":""},{"$f":"IF(ROWS($A$1:A103)>COUNTIF(Main!$C$8:$C$100,$C$7),\"\",INDEX(Main!B$8:B$100,SMALL(IF(N(Main!B$8:B$100)<>0,IF(Main!$C$8:$C$100=$C$7,ROW(B$8:B$100)-ROW(B$8)+1)),ROWS($A$1:A103))))","v":""},{"$f":"IF(ROWS($A$1:B103)>COUNTIF(Main!$C$8:$C$100,$C$7),\"\",INDEX(Main!C$8:C$100,SMALL(IF(N(Main!C$8:C$100)<>0,IF(Main!$C$8:$C$100=$C$7,ROW(C$8:C$100)-ROW(C$8)+1)),ROWS($A$1:B103))))","v":""},{"$f":"IF(ROWS($A$1:C103)>COUNTIF(Main!$C$8:$C$100,$C$7),\"\",INDEX(Main!D$8:D$100,SMALL(IF(N(Main!D$8:D$100)<>0,IF(Main!$C$8:$C$100=$C$7,ROW(D$8:D$100)-ROW(D$8)+1)),ROWS($A$1:C103))))","v":""},{"$f":"IF(ROWS($A$1:D103)>COUNTIF(Main!$C$8:$C$100,$C$7),\"\",INDEX(Main!E$8:E$100,SMALL(IF(N(Main!E$8:E$100)<>0,IF(Main!$C$8:$C$100=$C$7,ROW(E$8:E$100)-ROW(E$8)+1)),ROWS($A$1:D103))))","v":""},{"$f":"IF(ROWS($A$1:E103)>COUNTIF(Main!$C$8:$C$100,$C$7),\"\",INDEX(Main!F$8:F$100,SMALL(IF(N(Main!F$8:F$100)<>0,IF(Main!$C$8:$C$100=$C$7,ROW(F$8:F$100)-ROW(F$8)+1)),ROWS($A$1:E103))))","v":""},{"$f":"IF(ROWS($A$1:F103)>COUNTIF(Main!$C$8:$C$100,$C$7),\"\",INDEX(Main!G$8:G$100,SMALL(IF(N(Main!G$8:G$100)<>0,IF(Main!$C$8:$C$100=$C$7,ROW(G$8:G$100)-ROW(G$8)+1)),ROWS($A$1:F103))))","v":""},{"$f":"IF(ROWS($A$1:G103)>COUNTIF(Main!$C$8:$C$100,$C$7),\"\",INDEX(Main!H$8:H$100,SMALL(IF(N(Main!H$8:H$100)<>0,IF(Main!$C$8:$C$100=$C$7,ROW(H$8:H$100)-ROW(H$8)+1)),ROWS($A$1:G103))))","v":""},{"$f":"IF(ROWS($A$1:H103)>COUNTIF(Main!$C$8:$C$100,$C$7),\"\",INDEX(Main!I$8:I$100,SMALL(IF(N(Main!I$8:I$100)<>0,IF(Main!$C$8:$C$100=$C$7,ROW(I$8:I$100)-ROW(I$8)+1)),ROWS($A$1:H103))))","v":""},{"$f":"IF(ROWS($A$1:I103)>COUNTIF(Main!$C$8:$C$100,$C$7),\"\",INDEX(Main!J$8:J$100,SMALL(IF(Main!J$8:J$100<>\"\",IF(Main!$C$8:$C$100=$C$7,ROW(J$8:J$100)-ROW(J$8)+1)),ROWS($A$1:I103))))","v":""},"",{"$f":"IF(ROWS($A$1:K103)>COUNTIF(Main!$C$8:$C$100,$C$7),\"\",INDEX(Main!L$8:L$100,SMALL(IF(N(Main!L$8:L$100)<>0,IF(Main!$C$8:$C$100=$C$7,ROW(L$8:L$100)-ROW(L$8)+1)),ROWS($A$1:K103))))","v":""}]
[{"$f":"IF(B111=\"\",\"\",MAX($A$7:A110)+1)","v":""},{"$f":"IF(ROWS($A$1:A104)>COUNTIF(Main!$C$8:$C$100,$C$7),\"\",INDEX(Main!B$8:B$100,SMALL(IF(N(Main!B$8:B$100)<>0,IF(Main!$C$8:$C$100=$C$7,ROW(B$8:B$100)-ROW(B$8)+1)),ROWS($A$1:A104))))","v":""},{"$f":"IF(ROWS($A$1:B104)>COUNTIF(Main!$C$8:$C$100,$C$7),\"\",INDEX(Main!C$8:C$100,SMALL(IF(N(Main!C$8:C$100)<>0,IF(Main!$C$8:$C$100=$C$7,ROW(C$8:C$100)-ROW(C$8)+1)),ROWS($A$1:B104))))","v":""},{"$f":"IF(ROWS($A$1:C104)>COUNTIF(Main!$C$8:$C$100,$C$7),\"\",INDEX(Main!D$8:D$100,SMALL(IF(N(Main!D$8:D$100)<>0,IF(Main!$C$8:$C$100=$C$7,ROW(D$8:D$100)-ROW(D$8)+1)),ROWS($A$1:C104))))","v":""},{"$f":"IF(ROWS($A$1:D104)>COUNTIF(Main!$C$8:$C$100,$C$7),\"\",INDEX(Main!E$8:E$100,SMALL(IF(N(Main!E$8:E$100)<>0,IF(Main!$C$8:$C$100=$C$7,ROW(E$8:E$100)-ROW(E$8)+1)),ROWS($A$1:D104))))","v":""},{"$f":"IF(ROWS($A$1:E104)>COUNTIF(Main!$C$8:$C$100,$C$7),\"\",INDEX(Main!F$8:F$100,SMALL(IF(N(Main!F$8:F$100)<>0,IF(Main!$C$8:$C$100=$C$7,ROW(F$8:F$100)-ROW(F$8)+1)),ROWS($A$1:E104))))","v":""},{"$f":"IF(ROWS($A$1:F104)>COUNTIF(Main!$C$8:$C$100,$C$7),\"\",INDEX(Main!G$8:G$100,SMALL(IF(N(Main!G$8:G$100)<>0,IF(Main!$C$8:$C$100=$C$7,ROW(G$8:G$100)-ROW(G$8)+1)),ROWS($A$1:F104))))","v":""},{"$f":"IF(ROWS($A$1:G104)>COUNTIF(Main!$C$8:$C$100,$C$7),\"\",INDEX(Main!H$8:H$100,SMALL(IF(N(Main!H$8:H$100)<>0,IF(Main!$C$8:$C$100=$C$7,ROW(H$8:H$100)-ROW(H$8)+1)),ROWS($A$1:G104))))","v":""},{"$f":"IF(ROWS($A$1:H104)>COUNTIF(Main!$C$8:$C$100,$C$7),\"\",INDEX(Main!I$8:I$100,SMALL(IF(N(Main!I$8:I$100)<>0,IF(Main!$C$8:$C$100=$C$7,ROW(I$8:I$100)-ROW(I$8)+1)),ROWS($A$1:H104))))","v":""},{"$f":"IF(ROWS($A$1:I104)>COUNTIF(Main!$C$8:$C$100,$C$7),\"\",INDEX(Main!J$8:J$100,SMALL(IF(Main!J$8:J$100<>\"\",IF(Main!$C$8:$C$100=$C$7,ROW(J$8:J$100)-ROW(J$8)+1)),ROWS($A$1:I104))))","v":""},"",{"$f":"IF(ROWS($A$1:K104)>COUNTIF(Main!$C$8:$C$100,$C$7),\"\",INDEX(Main!L$8:L$100,SMALL(IF(N(Main!L$8:L$100)<>0,IF(Main!$C$8:$C$100=$C$7,ROW(L$8:L$100)-ROW(L$8)+1)),ROWS($A$1:K104))))","v":""}]
[{"$f":"IF(B112=\"\",\"\",MAX($A$7:A111)+1)","v":""},{"$f":"IF(ROWS($A$1:A105)>COUNTIF(Main!$C$8:$C$100,$C$7),\"\",INDEX(Main!B$8:B$100,SMALL(IF(N(Main!B$8:B$100)<>0,IF(Main!$C$8:$C$100=$C$7,ROW(B$8:B$100)-ROW(B$8)+1)),ROWS($A$1:A105))))","v":""},{"$f":"IF(ROWS($A$1:B105)>COUNTIF(Main!$C$8:$C$100,$C$7),\"\",INDEX(Main!C$8:C$100,SMALL(IF(N(Main!C$8:C$100)<>0,IF(Main!$C$8:$C$100=$C$7,ROW(C$8:C$100)-ROW(C$8)+1)),ROWS($A$1:B105))))","v":""},{"$f":"IF(ROWS($A$1:C105)>COUNTIF(Main!$C$8:$C$100,$C$7),\"\",INDEX(Main!D$8:D$100,SMALL(IF(N(Main!D$8:D$100)<>0,IF(Main!$C$8:$C$100=$C$7,ROW(D$8:D$100)-ROW(D$8)+1)),ROWS($A$1:C105))))","v":""},{"$f":"IF(ROWS($A$1:D105)>COUNTIF(Main!$C$8:$C$100,$C$7),\"\",INDEX(Main!E$8:E$100,SMALL(IF(N(Main!E$8:E$100)<>0,IF(Main!$C$8:$C$100=$C$7,ROW(E$8:E$100)-ROW(E$8)+1)),ROWS($A$1:D105))))","v":""},{"$f":"IF(ROWS($A$1:E105)>COUNTIF(Main!$C$8:$C$100,$C$7),\"\",INDEX(Main!F$8:F$100,SMALL(IF(N(Main!F$8:F$100)<>0,IF(Main!$C$8:$C$100=$C$7,ROW(F$8:F$100)-ROW(F$8)+1)),ROWS($A$1:E105))))","v":""},{"$f":"IF(ROWS($A$1:F105)>COUNTIF(Main!$C$8:$C$100,$C$7),\"\",INDEX(Main!G$8:G$100,SMALL(IF(N(Main!G$8:G$100)<>0,IF(Main!$C$8:$C$100=$C$7,ROW(G$8:G$100)-ROW(G$8)+1)),ROWS($A$1:F105))))","v":""},{"$f":"IF(ROWS($A$1:G105)>COUNTIF(Main!$C$8:$C$100,$C$7),\"\",INDEX(Main!H$8:H$100,SMALL(IF(N(Main!H$8:H$100)<>0,IF(Main!$C$8:$C$100=$C$7,ROW(H$8:H$100)-ROW(H$8)+1)),ROWS($A$1:G105))))","v":""},{"$f":"IF(ROWS($A$1:H105)>COUNTIF(Main!$C$8:$C$100,$C$7),\"\",INDEX(Main!I$8:I$100,SMALL(IF(N(Main!I$8:I$100)<>0,IF(Main!$C$8:$C$100=$C$7,ROW(I$8:I$100)-ROW(I$8)+1)),ROWS($A$1:H105))))","v":""},{"$f":"IF(ROWS($A$1:I105)>COUNTIF(Main!$C$8:$C$100,$C$7),\"\",INDEX(Main!J$8:J$100,SMALL(IF(Main!J$8:J$100<>\"\",IF(Main!$C$8:$C$100=$C$7,ROW(J$8:J$100)-ROW(J$8)+1)),ROWS($A$1:I105))))","v":""},"",{"$f":"IF(ROWS($A$1:K105)>COUNTIF(Main!$C$8:$C$100,$C$7),\"\",INDEX(Main!L$8:L$100,SMALL(IF(N(Main!L$8:L$100)<>0,IF(Main!$C$8:$C$100=$C$7,ROW(L$8:L$100)-ROW(L$8)+1)),ROWS($A$1:K105))))","v":""}]
[{"$f":"IF(B113=\"\",\"\",MAX($A$7:A112)+1)","v":""},{"$f":"IF(ROWS($A$1:A106)>COUNTIF(Main!$C$8:$C$100,$C$7),\"\",INDEX(Main!B$8:B$100,SMALL(IF(N(Main!B$8:B$100)<>0,IF(Main!$C$8:$C$100=$C$7,ROW(B$8:B$100)-ROW(B$8)+1)),ROWS($A$1:A106))))","v":""},{"$f":"IF(ROWS($A$1:B106)>COUNTIF(Main!$C$8:$C$100,$C$7),\"\",INDEX(Main!C$8:C$100,SMALL(IF(N(Main!C$8:C$100)<>0,IF(Main!$C$8:$C$100=$C$7,ROW(C$8:C$100)-ROW(C$8)+1)),ROWS($A$1:B106))))","v":""},{"$f":"IF(ROWS($A$1:C106)>COUNTIF(Main!$C$8:$C$100,$C$7),\"\",INDEX(Main!D$8:D$100,SMALL(IF(N(Main!D$8:D$100)<>0,IF(Main!$C$8:$C$100=$C$7,ROW(D$8:D$100)-ROW(D$8)+1)),ROWS($A$1:C106))))","v":""},{"$f":"IF(ROWS($A$1:D106)>COUNTIF(Main!$C$8:$C$100,$C$7),\"\",INDEX(Main!E$8:E$100,SMALL(IF(N(Main!E$8:E$100)<>0,IF(Main!$C$8:$C$100=$C$7,ROW(E$8:E$100)-ROW(E$8)+1)),ROWS($A$1:D106))))","v":""},{"$f":"IF(ROWS($A$1:E106)>COUNTIF(Main!$C$8:$C$100,$C$7),\"\",INDEX(Main!F$8:F$100,SMALL(IF(N(Main!F$8:F$100)<>0,IF(Main!$C$8:$C$100=$C$7,ROW(F$8:F$100)-ROW(F$8)+1)),ROWS($A$1:E106))))","v":""},{"$f":"IF(ROWS($A$1:F106)>COUNTIF(Main!$C$8:$C$100,$C$7),\"\",INDEX(Main!G$8:G$100,SMALL(IF(N(Main!G$8:G$100)<>0,IF(Main!$C$8:$C$100=$C$7,ROW(G$8:G$100)-ROW(G$8)+1)),ROWS($A$1:F106))))","v":""},{"$f":"IF(ROWS($A$1:G106)>COUNTIF(Main!$C$8:$C$100,$C$7),\"\",INDEX(Main!H$8:H$100,SMALL(IF(N(Main!H$8:H$100)<>0,IF(Main!$C$8:$C$100=$C$7,ROW(H$8:H$100)-ROW(H$8)+1)),ROWS($A$1:G106))))","v":""},{"$f":"IF(ROWS($A$1:H106)>COUNTIF(Main!$C$8:$C$100,$C$7),\"\",INDEX(Main!I$8:I$100,SMALL(IF(N(Main!I$8:I$100)<>0,IF(Main!$C$8:$C$100=$C$7,ROW(I$8:I$100)-ROW(I$8)+1)),ROWS($A$1:H106))))","v":""},{"$f":"IF(ROWS($A$1:I106)>COUNTIF(Main!$C$8:$C$100,$C$7),\"\",INDEX(Main!J$8:J$100,SMALL(IF(Main!J$8:J$100<>\"\",IF(Main!$C$8:$C$100=$C$7,ROW(J$8:J$100)-ROW(J$8)+1)),ROWS($A$1:I106))))","v":""},"",{"$f":"IF(ROWS($A$1:K106)>COUNTIF(Main!$C$8:$C$100,$C$7),\"\",INDEX(Main!L$8:L$100,SMALL(IF(N(Main!L$8:L$100)<>0,IF(Main!$C$8:$C$100=$C$7,ROW(L$8:L$100)-ROW(L$8)+1)),ROWS($A$1:K106))))","v":""}]
[{"$f":"IF(B114=\"\",\"\",MAX($A$7:A113)+1)","v":""},{"$f":"IF(ROWS($A$1:A107)>COUNTIF(Main!$C$8:$C$100,$C$7),\"\",INDEX(Main!B$8:B$100,SMALL(IF(N(Main!B$8:B$100)<>0,IF(Main!$C$8:$C$100=$C$7,ROW(B$8:B$100)-ROW(B$8)+1)),ROWS($A$1:A107))))","v":""},{"$f":"IF(ROWS($A$1:B107)>COUNTIF(Main!$C$8:$C$100,$C$7),\"\",INDEX(Main!C$8:C$100,SMALL(IF(N(Main!C$8:C$100)<>0,IF(Main!$C$8:$C$100=$C$7,ROW(C$8:C$100)-ROW(C$8)+1)),ROWS($A$1:B107))))","v":""},{"$f":"IF(ROWS($A$1:C107)>COUNTIF(Main!$C$8:$C$100,$C$7),\"\",INDEX(Main!D$8:D$100,SMALL(IF(N(Main!D$8:D$100)<>0,IF(Main!$C$8:$C$100=$C$7,ROW(D$8:D$100)-ROW(D$8)+1)),ROWS($A$1:C107))))","v":""},{"$f":"IF(ROWS($A$1:D107)>COUNTIF(Main!$C$8:$C$100,$C$7),\"\",INDEX(Main!E$8:E$100,SMALL(IF(N(Main!E$8:E$100)<>0,IF(Main!$C$8:$C$100=$C$7,ROW(E$8:E$100)-ROW(E$8)+1)),ROWS($A$1:D107))))","v":""},{"$f":"IF(ROWS($A$1:E107)>COUNTIF(Main!$C$8:$C$100,$C$7),\"\",INDEX(Main!F$8:F$100,SMALL(IF(N(Main!F$8:F$100)<>0,IF(Main!$C$8:$C$100=$C$7,ROW(F$8:F$100)-ROW(F$8)+1)),ROWS($A$1:E107))))","v":""},{"$f":"IF(ROWS($A$1:F107)>COUNTIF(Main!$C$8:$C$100,$C$7),\"\",INDEX(Main!G$8:G$100,SMALL(IF(N(Main!G$8:G$100)<>0,IF(Main!$C$8:$C$100=$C$7,ROW(G$8:G$100)-ROW(G$8)+1)),ROWS($A$1:F107))))","v":""},{"$f":"IF(ROWS($A$1:G107)>COUNTIF(Main!$C$8:$C$100,$C$7),\"\",INDEX(Main!H$8:H$100,SMALL(IF(N(Main!H$8:H$100)<>0,IF(Main!$C$8:$C$100=$C$7,ROW(H$8:H$100)-ROW(H$8)+1)),ROWS($A$1:G107))))","v":""},{"$f":"IF(ROWS($A$1:H107)>COUNTIF(Main!$C$8:$C$100,$C$7),\"\",INDEX(Main!I$8:I$100,SMALL(IF(N(Main!I$8:I$100)<>0,IF(Main!$C$8:$C$100=$C$7,ROW(I$8:I$100)-ROW(I$8)+1)),ROWS($A$1:H107))))","v":""},{"$f":"IF(ROWS($A$1:I107)>COUNTIF(Main!$C$8:$C$100,$C$7),\"\",INDEX(Main!J$8:J$100,SMALL(IF(Main!J$8:J$100<>\"\",IF(Main!$C$8:$C$100=$C$7,ROW(J$8:J$100)-ROW(J$8)+1)),ROWS($A$1:I107))))","v":""},"",{"$f":"IF(ROWS($A$1:K107)>COUNTIF(Main!$C$8:$C$100,$C$7),\"\",INDEX(Main!L$8:L$100,SMALL(IF(N(Main!L$8:L$100)<>0,IF(Main!$C$8:$C$100=$C$7,ROW(L$8:L$100)-ROW(L$8)+1)),ROWS($A$1:K107))))","v":""}]
[{"$f":"IF(B115=\"\",\"\",MAX($A$7:A114)+1)","v":""},{"$f":"IF(ROWS($A$1:A108)>COUNTIF(Main!$C$8:$C$100,$C$7),\"\",INDEX(Main!B$8:B$100,SMALL(IF(N(Main!B$8:B$100)<>0,IF(Main!$C$8:$C$100=$C$7,ROW(B$8:B$100)-ROW(B$8)+1)),ROWS($A$1:A108))))","v":""},{"$f":"IF(ROWS($A$1:B108)>COUNTIF(Main!$C$8:$C$100,$C$7),\"\",INDEX(Main!C$8:C$100,SMALL(IF(N(Main!C$8:C$100)<>0,IF(Main!$C$8:$C$100=$C$7,ROW(C$8:C$100)-ROW(C$8)+1)),ROWS($A$1:B108))))","v":""},{"$f":"IF(ROWS($A$1:C108)>COUNTIF(Main!$C$8:$C$100,$C$7),\"\",INDEX(Main!D$8:D$100,SMALL(IF(N(Main!D$8:D$100)<>0,IF(Main!$C$8:$C$100=$C$7,ROW(D$8:D$100)-ROW(D$8)+1)),ROWS($A$1:C108))))","v":""},{"$f":"IF(ROWS($A$1:D108)>COUNTIF(Main!$C$8:$C$100,$C$7),\"\",INDEX(Main!E$8:E$100,SMALL(IF(N(Main!E$8:E$100)<>0,IF(Main!$C$8:$C$100=$C$7,ROW(E$8:E$100)-ROW(E$8)+1)),ROWS($A$1:D108))))","v":""},{"$f":"IF(ROWS($A$1:E108)>COUNTIF(Main!$C$8:$C$100,$C$7),\"\",INDEX(Main!F$8:F$100,SMALL(IF(N(Main!F$8:F$100)<>0,IF(Main!$C$8:$C$100=$C$7,ROW(F$8:F$100)-ROW(F$8)+1)),ROWS($A$1:E108))))","v":""},{"$f":"IF(ROWS($A$1:F108)>COUNTIF(Main!$C$8:$C$100,$C$7),\"\",INDEX(Main!G$8:G$100,SMALL(IF(N(Main!G$8:G$100)<>0,IF(Main!$C$8:$C$100=$C$7,ROW(G$8:G$100)-ROW(G$8)+1)),ROWS($A$1:F108))))","v":""},{"$f":"IF(ROWS($A$1:G108)>COUNTIF(Main!$C$8:$C$100,$C$7),\"\",INDEX(Main!H$8:H$100,SMALL(IF(N(Main!H$8:H$100)<>0,IF(Main!$C$8:$C$100=$C$7,ROW(H$8:H$100)-ROW(H$8)+1)),ROWS($A$1:G108))))","v":""},{"$f":"IF(ROWS($A$1:H108)>COUNTIF(Main!$C$8:$C$100,$C$7),\"\",INDEX(Main!I$8:I$100,SMALL(IF(N(Main!I$8:I$100)<>0,IF(Main!$C$8:$C$100=$C$7,ROW(I$8:I$100)-ROW(I$8)+1)),ROWS($A$1:H108))))","v":""},{"$f":"IF(ROWS($A$1:I108)>COUNTIF(Main!$C$8:$C$100,$C$7),\"\",INDEX(Main!J$8:J$100,SMALL(IF(Main!J$8:J$100<>\"\",IF(Main!$C$8:$C$100=$C$7,ROW(J$8:J$100)-ROW(J$8)+1)),ROWS($A$1:I108))))","v":""},"",{"$f":"IF(ROWS($A$1:K108)>COUNTIF(Main!$C$8:$C$100,$C$7),\"\",INDEX(Main!L$8:L$100,SMALL(IF(N(Main!L$8:L$100)<>0,IF(Main!$C$8:$C$100=$C$7,ROW(L$8:L$100)-ROW(L$8)+1)),ROWS($A$1:K108))))","v":""}]
[{"$f":"IF(B116=\"\",\"\",MAX($A$7:A115)+1)","v":""},{"$f":"IF(ROWS($A$1:A109)>COUNTIF(Main!$C$8:$C$100,$C$7),\"\",INDEX(Main!B$8:B$100,SMALL(IF(N(Main!B$8:B$100)<>0,IF(Main!$C$8:$C$100=$C$7,ROW(B$8:B$100)-ROW(B$8)+1)),ROWS($A$1:A109))))","v":""},{"$f":"IF(ROWS($A$1:B109)>COUNTIF(Main!$C$8:$C$100,$C$7),\"\",INDEX(Main!C$8:C$100,SMALL(IF(N(Main!C$8:C$100)<>0,IF(Main!$C$8:$C$100=$C$7,ROW(C$8:C$100)-ROW(C$8)+1)),ROWS($A$1:B109))))","v":""},{"$f":"IF(ROWS($A$1:C109)>COUNTIF(Main!$C$8:$C$100,$C$7),\"\",INDEX(Main!D$8:D$100,SMALL(IF(N(Main!D$8:D$100)<>0,IF(Main!$C$8:$C$100=$C$7,ROW(D$8:D$100)-ROW(D$8)+1)),ROWS($A$1:C109))))","v":""},{"$f":"IF(ROWS($A$1:D109)>COUNTIF(Main!$C$8:$C$100,$C$7),\"\",INDEX(Main!E$8:E$100,SMALL(IF(N(Main!E$8:E$100)<>0,IF(Main!$C$8:$C$100=$C$7,ROW(E$8:E$100)-ROW(E$8)+1)),ROWS($A$1:D109))))","v":""},{"$f":"IF(ROWS($A$1:E109)>COUNTIF(Main!$C$8:$C$100,$C$7),\"\",INDEX(Main!F$8:F$100,SMALL(IF(N(Main!F$8:F$100)<>0,IF(Main!$C$8:$C$100=$C$7,ROW(F$8:F$100)-ROW(F$8)+1)),ROWS($A$1:E109))))","v":""},{"$f":"IF(ROWS($A$1:F109)>COUNTIF(Main!$C$8:$C$100,$C$7),\"\",INDEX(Main!G$8:G$100,SMALL(IF(N(Main!G$8:G$100)<>0,IF(Main!$C$8:$C$100=$C$7,ROW(G$8:G$100)-ROW(G$8)+1)),ROWS($A$1:F109))))","v":""},{"$f":"IF(ROWS($A$1:G109)>COUNTIF(Main!$C$8:$C$100,$C$7),\"\",INDEX(Main!H$8:H$100,SMALL(IF(N(Main!H$8:H$100)<>0,IF(Main!$C$8:$C$100=$C$7,ROW(H$8:H$100)-ROW(H$8)+1)),ROWS($A$1:G109))))","v":""},{"$f":"IF(ROWS($A$1:H109)>COUNTIF(Main!$C$8:$C$100,$C$7),\"\",INDEX(Main!I$8:I$100,SMALL(IF(N(Main!I$8:I$100)<>0,IF(Main!$C$8:$C$100=$C$7,ROW(I$8:I$100)-ROW(I$8)+1)),ROWS($A$1:H109))))","v":""},{"$f":"IF(ROWS($A$1:I109)>COUNTIF(Main!$C$8:$C$100,$C$7),\"\",INDEX(Main!J$8:J$100,SMALL(IF(Main!J$8:J$100<>\"\",IF(Main!$C$8:$C$100=$C$7,ROW(J$8:J$100)-ROW(J$8)+1)),ROWS($A$1:I109))))","v":""},"",{"$f":"IF(ROWS($A$1:K109)>COUNTIF(Main!$C$8:$C$100,$C$7),\"\",INDEX(Main!L$8:L$100,SMALL(IF(N(Main!L$8:L$100)<>0,IF(Main!$C$8:$C$100=$C$7,ROW(L$8:L$100)-ROW(L$8)+1)),ROWS($A$1:K109))))","v":""}]
[{"$f":"IF(B117=\"\",\"\",MAX($A$7:A116)+1)","v":""},{"$f":"IF(ROWS($A$1:A110)>COUNTIF(Main!$C$8:$C$100,$C$7),\"\",INDEX(Main!B$8:B$100,SMALL(IF(N(Main!B$8:B$100)<>0,IF(Main!$C$8:$C$100=$C$7,ROW(B$8:B$100)-ROW(B$8)+1)),ROWS($A$1:A110))))","v":""},{"$f":"IF(ROWS($A$1:B110)>COUNTIF(Main!$C$8:$C$100,$C$7),\"\",INDEX(Main!C$8:C$100,SMALL(IF(N(Main!C$8:C$100)<>0,IF(Main!$C$8:$C$100=$C$7,ROW(C$8:C$100)-ROW(C$8)+1)),ROWS($A$1:B110))))","v":""},{"$f":"IF(ROWS($A$1:C110)>COUNTIF(Main!$C$8:$C$100,$C$7),\"\",INDEX(Main!D$8:D$100,SMALL(IF(N(Main!D$8:D$100)<>0,IF(Main!$C$8:$C$100=$C$7,ROW(D$8:D$100)-ROW(D$8)+1)),ROWS($A$1:C110))))","v":""},{"$f":"IF(ROWS($A$1:D110)>COUNTIF(Main!$C$8:$C$100,$C$7),\"\",INDEX(Main!E$8:E$100,SMALL(IF(N(Main!E$8:E$100)<>0,IF(Main!$C$8:$C$100=$C$7,ROW(E$8:E$100)-ROW(E$8)+1)),ROWS($A$1:D110))))","v":""},{"$f":"IF(ROWS($A$1:E110)>COUNTIF(Main!$C$8:$C$100,$C$7),\"\",INDEX(Main!F$8:F$100,SMALL(IF(N(Main!F$8:F$100)<>0,IF(Main!$C$8:$C$100=$C$7,ROW(F$8:F$100)-ROW(F$8)+1)),ROWS($A$1:E110))))","v":""},{"$f":"IF(ROWS($A$1:F110)>COUNTIF(Main!$C$8:$C$100,$C$7),\"\",INDEX(Main!G$8:G$100,SMALL(IF(N(Main!G$8:G$100)<>0,IF(Main!$C$8:$C$100=$C$7,ROW(G$8:G$100)-ROW(G$8)+1)),ROWS($A$1:F110))))","v":""},{"$f":"IF(ROWS($A$1:G110)>COUNTIF(Main!$C$8:$C$100,$C$7),\"\",INDEX(Main!H$8:H$100,SMALL(IF(N(Main!H$8:H$100)<>0,IF(Main!$C$8:$C$100=$C$7,ROW(H$8:H$100)-ROW(H$8)+1)),ROWS($A$1:G110))))","v":""},{"$f":"IF(ROWS($A$1:H110)>COUNTIF(Main!$C$8:$C$100,$C$7),\"\",INDEX(Main!I$8:I$100,SMALL(IF(N(Main!I$8:I$100)<>0,IF(Main!$C$8:$C$100=$C$7,ROW(I$8:I$100)-ROW(I$8)+1)),ROWS($A$1:H110))))","v":""},{"$f":"IF(ROWS($A$1:I110)>COUNTIF(Main!$C$8:$C$100,$C$7),\"\",INDEX(Main!J$8:J$100,SMALL(IF(Main!J$8:J$100<>\"\",IF(Main!$C$8:$C$100=$C$7,ROW(J$8:J$100)-ROW(J$8)+1)),ROWS($A$1:I110))))","v":""},"",{"$f":"IF(ROWS($A$1:K110)>COUNTIF(Main!$C$8:$C$100,$C$7),\"\",INDEX(Main!L$8:L$100,SMALL(IF(N(Main!L$8:L$100)<>0,IF(Main!$C$8:$C$100=$C$7,ROW(L$8:L$100)-ROW(L$8)+1)),ROWS($A$1:K110))))","v":""}]
[{"$f":"IF(B118=\"\",\"\",MAX($A$7:A117)+1)","v":""},{"$f":"IF(ROWS($A$1:A111)>COUNTIF(Main!$C$8:$C$100,$C$7),\"\",INDEX(Main!B$8:B$100,SMALL(IF(N(Main!B$8:B$100)<>0,IF(Main!$C$8:$C$100=$C$7,ROW(B$8:B$100)-ROW(B$8)+1)),ROWS($A$1:A111))))","v":""},{"$f":"IF(ROWS($A$1:B111)>COUNTIF(Main!$C$8:$C$100,$C$7),\"\",INDEX(Main!C$8:C$100,SMALL(IF(N(Main!C$8:C$100)<>0,IF(Main!$C$8:$C$100=$C$7,ROW(C$8:C$100)-ROW(C$8)+1)),ROWS($A$1:B111))))","v":""},{"$f":"IF(ROWS($A$1:C111)>COUNTIF(Main!$C$8:$C$100,$C$7),\"\",INDEX(Main!D$8:D$100,SMALL(IF(N(Main!D$8:D$100)<>0,IF(Main!$C$8:$C$100=$C$7,ROW(D$8:D$100)-ROW(D$8)+1)),ROWS($A$1:C111))))","v":""},{"$f":"IF(ROWS($A$1:D111)>COUNTIF(Main!$C$8:$C$100,$C$7),\"\",INDEX(Main!E$8:E$100,SMALL(IF(N(Main!E$8:E$100)<>0,IF(Main!$C$8:$C$100=$C$7,ROW(E$8:E$100)-ROW(E$8)+1)),ROWS($A$1:D111))))","v":""},{"$f":"IF(ROWS($A$1:E111)>COUNTIF(Main!$C$8:$C$100,$C$7),\"\",INDEX(Main!F$8:F$100,SMALL(IF(N(Main!F$8:F$100)<>0,IF(Main!$C$8:$C$100=$C$7,ROW(F$8:F$100)-ROW(F$8)+1)),ROWS($A$1:E111))))","v":""},{"$f":"IF(ROWS($A$1:F111)>COUNTIF(Main!$C$8:$C$100,$C$7),\"\",INDEX(Main!G$8:G$100,SMALL(IF(N(Main!G$8:G$100)<>0,IF(Main!$C$8:$C$100=$C$7,ROW(G$8:G$100)-ROW(G$8)+1)),ROWS($A$1:F111))))","v":""},{"$f":"IF(ROWS($A$1:G111)>COUNTIF(Main!$C$8:$C$100,$C$7),\"\",INDEX(Main!H$8:H$100,SMALL(IF(N(Main!H$8:H$100)<>0,IF(Main!$C$8:$C$100=$C$7,ROW(H$8:H$100)-ROW(H$8)+1)),ROWS($A$1:G111))))","v":""},{"$f":"IF(ROWS($A$1:H111)>COUNTIF(Main!$C$8:$C$100,$C$7),\"\",INDEX(Main!I$8:I$100,SMALL(IF(N(Main!I$8:I$100)<>0,IF(Main!$C$8:$C$100=$C$7,ROW(I$8:I$100)-ROW(I$8)+1)),ROWS($A$1:H111))))","v":""},{"$f":"IF(ROWS($A$1:I111)>COUNTIF(Main!$C$8:$C$100,$C$7),\"\",INDEX(Main!J$8:J$100,SMALL(IF(Main!J$8:J$100<>\"\",IF(Main!$C$8:$C$100=$C$7,ROW(J$8:J$100)-ROW(J$8)+1)),ROWS($A$1:I111))))","v":""},"",{"$f":"IF(ROWS($A$1:K111)>COUNTIF(Main!$C$8:$C$100,$C$7),\"\",INDEX(Main!L$8:L$100,SMALL(IF(N(Main!L$8:L$100)<>0,IF(Main!$C$8:$C$100=$C$7,ROW(L$8:L$100)-ROW(L$8)+1)),ROWS($A$1:K111))))","v":""}]
[{"$f":"IF(B119=\"\",\"\",MAX($A$7:A118)+1)","v":""},{"$f":"IF(ROWS($A$1:A112)>COUNTIF(Main!$C$8:$C$100,$C$7),\"\",INDEX(Main!B$8:B$100,SMALL(IF(N(Main!B$8:B$100)<>0,IF(Main!$C$8:$C$100=$C$7,ROW(B$8:B$100)-ROW(B$8)+1)),ROWS($A$1:A112))))","v":""},{"$f":"IF(ROWS($A$1:B112)>COUNTIF(Main!$C$8:$C$100,$C$7),\"\",INDEX(Main!C$8:C$100,SMALL(IF(N(Main!C$8:C$100)<>0,IF(Main!$C$8:$C$100=$C$7,ROW(C$8:C$100)-ROW(C$8)+1)),ROWS($A$1:B112))))","v":""},{"$f":"IF(ROWS($A$1:C112)>COUNTIF(Main!$C$8:$C$100,$C$7),\"\",INDEX(Main!D$8:D$100,SMALL(IF(N(Main!D$8:D$100)<>0,IF(Main!$C$8:$C$100=$C$7,ROW(D$8:D$100)-ROW(D$8)+1)),ROWS($A$1:C112))))","v":""},{"$f":"IF(ROWS($A$1:D112)>COUNTIF(Main!$C$8:$C$100,$C$7),\"\",INDEX(Main!E$8:E$100,SMALL(IF(N(Main!E$8:E$100)<>0,IF(Main!$C$8:$C$100=$C$7,ROW(E$8:E$100)-ROW(E$8)+1)),ROWS($A$1:D112))))","v":""},{"$f":"IF(ROWS($A$1:E112)>COUNTIF(Main!$C$8:$C$100,$C$7),\"\",INDEX(Main!F$8:F$100,SMALL(IF(N(Main!F$8:F$100)<>0,IF(Main!$C$8:$C$100=$C$7,ROW(F$8:F$100)-ROW(F$8)+1)),ROWS($A$1:E112))))","v":""},{"$f":"IF(ROWS($A$1:F112)>COUNTIF(Main!$C$8:$C$100,$C$7),\"\",INDEX(Main!G$8:G$100,SMALL(IF(N(Main!G$8:G$100)<>0,IF(Main!$C$8:$C$100=$C$7,ROW(G$8:G$100)-ROW(G$8)+1)),ROWS($A$1:F112))))","v":""},{"$f":"IF(ROWS($A$1:G112)>COUNTIF(Main!$C$8:$C$100,$C$7),\"\",INDEX(Main!H$8:H$100,SMALL(IF(N(Main!H$8:H$100)<>0,IF(Main!$C$8:$C$100=$C$7,ROW(H$8:H$100)-ROW(H$8)+1)),ROWS($A$1:G112))))","v":""},{"$f":"IF(ROWS($A$1:H112)>COUNTIF(Main!$C$8:$C$100,$C$7),\"\",INDEX(Main!I$8:I$100,SMALL(IF(N(Main!I$8:I$100)<>0,IF(Main!$C$8:$C$100=$C$7,ROW(I$8:I$100)-ROW(I$8)+1)),ROWS($A$1:H112))))","v":""},{"$f":"IF(ROWS($A$1:I112)>COUNTIF(Main!$C$8:$C$100,$C$7),\"\",INDEX(Main!J$8:J$100,SMALL(IF(Main!J$8:J$100<>\"\",IF(Main!$C$8:$C$100=$C$7,ROW(J$8:J$100)-ROW(J$8)+1)),ROWS($A$1:I112))))","v":""},"",{"$f":"IF(ROWS($A$1:K112)>COUNTIF(Main!$C$8:$C$100,$C$7),\"\",INDEX(Main!L$8:L$100,SMALL(IF(N(Main!L$8:L$100)<>0,IF(Main!$C$8:$C$100=$C$7,ROW(L$8:L$100)-ROW(L$8)+1)),ROWS($A$1:K112))))","v":""}]
[{"$f":"IF(B120=\"\",\"\",MAX($A$7:A119)+1)","v":""},{"$f":"IF(ROWS($A$1:A113)>COUNTIF(Main!$C$8:$C$100,$C$7),\"\",INDEX(Main!B$8:B$100,SMALL(IF(N(Main!B$8:B$100)<>0,IF(Main!$C$8:$C$100=$C$7,ROW(B$8:B$100)-ROW(B$8)+1)),ROWS($A$1:A113))))","v":""},{"$f":"IF(ROWS($A$1:B113)>COUNTIF(Main!$C$8:$C$100,$C$7),\"\",INDEX(Main!C$8:C$100,SMALL(IF(N(Main!C$8:C$100)<>0,IF(Main!$C$8:$C$100=$C$7,ROW(C$8:C$100)-ROW(C$8)+1)),ROWS($A$1:B113))))","v":""},{"$f":"IF(ROWS($A$1:C113)>COUNTIF(Main!$C$8:$C$100,$C$7),\"\",INDEX(Main!D$8:D$100,SMALL(IF(N(Main!D$8:D$100)<>0,IF(Main!$C$8:$C$100=$C$7,ROW(D$8:D$100)-ROW(D$8)+1)),ROWS($A$1:C113))))","v":""},{"$f":"IF(ROWS($A$1:D113)>COUNTIF(Main!$C$8:$C$100,$C$7),\"\",INDEX(Main!E$8:E$100,SMALL(IF(N(Main!E$8:E$100)<>0,IF(Main!$C$8:$C$100=$C$7,ROW(E$8:E$100)-ROW(E$8)+1)),ROWS($A$1:D113))))","v":""},{"$f":"IF(ROWS($A$1:E113)>COUNTIF(Main!$C$8:$C$100,$C$7),\"\",INDEX(Main!F$8:F$100,SMALL(IF(N(Main!F$8:F$100)<>0,IF(Main!$C$8:$C$100=$C$7,ROW(F$8:F$100)-ROW(F$8)+1)),ROWS($A$1:E113))))","v":""},{"$f":"IF(ROWS($A$1:F113)>COUNTIF(Main!$C$8:$C$100,$C$7),\"\",INDEX(Main!G$8:G$100,SMALL(IF(N(Main!G$8:G$100)<>0,IF(Main!$C$8:$C$100=$C$7,ROW(G$8:G$100)-ROW(G$8)+1)),ROWS($A$1:F113))))","v":""},{"$f":"IF(ROWS($A$1:G113)>COUNTIF(Main!$C$8:$C$100,$C$7),\"\",INDEX(Main!H$8:H$100,SMALL(IF(N(Main!H$8:H$100)<>0,IF(Main!$C$8:$C$100=$C$7,ROW(H$8:H$100)-ROW(H$8)+1)),ROWS($A$1:G113))))","v":""},{"$f":"IF(ROWS($A$1:H113)>COUNTIF(Main!$C$8:$C$100,$C$7),\"\",INDEX(Main!I$8:I$100,SMALL(IF(N(Main!I$8:I$100)<>0,IF(Main!$C$8:$C$100=$C$7,ROW(I$8:I$100)-ROW(I$8)+1)),ROWS($A$1:H113))))","v":""},{"$f":"IF(ROWS($A$1:I113)>COUNTIF(Main!$C$8:$C$100,$C$7),\"\",INDEX(Main!J$8:J$100,SMALL(IF(Main!J$8:J$100<>\"\",IF(Main!$C$8:$C$100=$C$7,ROW(J$8:J$100)-ROW(J$8)+1)),ROWS($A$1:I113))))","v":""},"",{"$f":"IF(ROWS($A$1:K113)>COUNTIF(Main!$C$8:$C$100,$C$7),\"\",INDEX(Main!L$8:L$100,SMALL(IF(N(Main!L$8:L$100)<>0,IF(Main!$C$8:$C$100=$C$7,ROW(L$8:L$100)-ROW(L$8)+1)),ROWS($A$1:K113))))","v":""}]
[{"$f":"IF(B121=\"\",\"\",MAX($A$7:A120)+1)","v":""},{"$f":"IF(ROWS($A$1:A114)>COUNTIF(Main!$C$8:$C$100,$C$7),\"\",INDEX(Main!B$8:B$100,SMALL(IF(N(Main!B$8:B$100)<>0,IF(Main!$C$8:$C$100=$C$7,ROW(B$8:B$100)-ROW(B$8)+1)),ROWS($A$1:A114))))","v":""},{"$f":"IF(ROWS($A$1:B114)>COUNTIF(Main!$C$8:$C$100,$C$7),\"\",INDEX(Main!C$8:C$100,SMALL(IF(N(Main!C$8:C$100)<>0,IF(Main!$C$8:$C$100=$C$7,ROW(C$8:C$100)-ROW(C$8)+1)),ROWS($A$1:B114))))","v":""},{"$f":"IF(ROWS($A$1:C114)>COUNTIF(Main!$C$8:$C$100,$C$7),\"\",INDEX(Main!D$8:D$100,SMALL(IF(N(Main!D$8:D$100)<>0,IF(Main!$C$8:$C$100=$C$7,ROW(D$8:D$100)-ROW(D$8)+1)),ROWS($A$1:C114))))","v":""},{"$f":"IF(ROWS($A$1:D114)>COUNTIF(Main!$C$8:$C$100,$C$7),\"\",INDEX(Main!E$8:E$100,SMALL(IF(N(Main!E$8:E$100)<>0,IF(Main!$C$8:$C$100=$C$7,ROW(E$8:E$100)-ROW(E$8)+1)),ROWS($A$1:D114))))","v":""},{"$f":"IF(ROWS($A$1:E114)>COUNTIF(Main!$C$8:$C$100,$C$7),\"\",INDEX(Main!F$8:F$100,SMALL(IF(N(Main!F$8:F$100)<>0,IF(Main!$C$8:$C$100=$C$7,ROW(F$8:F$100)-ROW(F$8)+1)),ROWS($A$1:E114))))","v":""},{"$f":"IF(ROWS($A$1:F114)>COUNTIF(Main!$C$8:$C$100,$C$7),\"\",INDEX(Main!G$8:G$100,SMALL(IF(N(Main!G$8:G$100)<>0,IF(Main!$C$8:$C$100=$C$7,ROW(G$8:G$100)-ROW(G$8)+1)),ROWS($A$1:F114))))","v":""},{"$f":"IF(ROWS($A$1:G114)>COUNTIF(Main!$C$8:$C$100,$C$7),\"\",INDEX(Main!H$8:H$100,SMALL(IF(N(Main!H$8:H$100)<>0,IF(Main!$C$8:$C$100=$C$7,ROW(H$8:H$100)-ROW(H$8)+1)),ROWS($A$1:G114))))","v":""},{"$f":"IF(ROWS($A$1:H114)>COUNTIF(Main!$C$8:$C$100,$C$7),\"\",INDEX(Main!I$8:I$100,SMALL(IF(N(Main!I$8:I$100)<>0,IF(Main!$C$8:$C$100=$C$7,ROW(I$8:I$100)-ROW(I$8)+1)),ROWS($A$1:H114))))","v":""},{"$f":"IF(ROWS($A$1:I114)>COUNTIF(Main!$C$8:$C$100,$C$7),\"\",INDEX(Main!J$8:J$100,SMALL(IF(Main!J$8:J$100<>\"\",IF(Main!$C$8:$C$100=$C$7,ROW(J$8:J$100)-ROW(J$8)+1)),ROWS($A$1:I114))))","v":""},"",{"$f":"IF(ROWS($A$1:K114)>COUNTIF(Main!$C$8:$C$100,$C$7),\"\",INDEX(Main!L$8:L$100,SMALL(IF(N(Main!L$8:L$100)<>0,IF(Main!$C$8:$C$100=$C$7,ROW(L$8:L$100)-ROW(L$8)+1)),ROWS($A$1:K114))))","v":""}]
[{"$f":"IF(B122=\"\",\"\",MAX($A$7:A121)+1)","v":""},{"$f":"IF(ROWS($A$1:A115)>COUNTIF(Main!$C$8:$C$100,$C$7),\"\",INDEX(Main!B$8:B$100,SMALL(IF(N(Main!B$8:B$100)<>0,IF(Main!$C$8:$C$100=$C$7,ROW(B$8:B$100)-ROW(B$8)+1)),ROWS($A$1:A115))))","v":""},{"$f":"IF(ROWS($A$1:B115)>COUNTIF(Main!$C$8:$C$100,$C$7),\"\",INDEX(Main!C$8:C$100,SMALL(IF(N(Main!C$8:C$100)<>0,IF(Main!$C$8:$C$100=$C$7,ROW(C$8:C$100)-ROW(C$8)+1)),ROWS($A$1:B115))))","v":""},{"$f":"IF(ROWS($A$1:C115)>COUNTIF(Main!$C$8:$C$100,$C$7),\"\",INDEX(Main!D$8:D$100,SMALL(IF(N(Main!D$8:D$100)<>0,IF(Main!$C$8:$C$100=$C$7,ROW(D$8:D$100)-ROW(D$8)+1)),ROWS($A$1:C115))))","v":""},{"$f":"IF(ROWS($A$1:D115)>COUNTIF(Main!$C$8:$C$100,$C$7),\"\",INDEX(Main!E$8:E$100,SMALL(IF(N(Main!E$8:E$100)<>0,IF(Main!$C$8:$C$100=$C$7,ROW(E$8:E$100)-ROW(E$8)+1)),ROWS($A$1:D115))))","v":""},{"$f":"IF(ROWS($A$1:E115)>COUNTIF(Main!$C$8:$C$100,$C$7),\"\",INDEX(Main!F$8:F$100,SMALL(IF(N(Main!F$8:F$100)<>0,IF(Main!$C$8:$C$100=$C$7,ROW(F$8:F$100)-ROW(F$8)+1)),ROWS($A$1:E115))))","v":""},{"$f":"IF(ROWS($A$1:F115)>COUNTIF(Main!$C$8:$C$100,$C$7),\"\",INDEX(Main!G$8:G$100,SMALL(IF(N(Main!G$8:G$100)<>0,IF(Main!$C$8:$C$100=$C$7,ROW(G$8:G$100)-ROW(G$8)+1)),ROWS($A$1:F115))))","v":""},{"$f":"IF(ROWS($A$1:G115)>COUNTIF(Main!$C$8:$C$100,$C$7),\"\",INDEX(Main!H$8:H$100,SMALL(IF(N(Main!H$8:H$100)<>0,IF(Main!$C$8:$C$100=$C$7,ROW(H$8:H$100)-ROW(H$8)+1)),ROWS($A$1:G115))))","v":""},{"$f":"IF(ROWS($A$1:H115)>COUNTIF(Main!$C$8:$C$100,$C$7),\"\",INDEX(Main!I$8:I$100,SMALL(IF(N(Main!I$8:I$100)<>0,IF(Main!$C$8:$C$100=$C$7,ROW(I$8:I$100)-ROW(I$8)+1)),ROWS($A$1:H115))))","v":""},{"$f":"IF(ROWS($A$1:I115)>COUNTIF(Main!$C$8:$C$100,$C$7),\"\",INDEX(Main!J$8:J$100,SMALL(IF(Main!J$8:J$100<>\"\",IF(Main!$C$8:$C$100=$C$7,ROW(J$8:J$100)-ROW(J$8)+1)),ROWS($A$1:I115))))","v":""},"",{"$f":"IF(ROWS($A$1:K115)>COUNTIF(Main!$C$8:$C$100,$C$7),\"\",INDEX(Main!L$8:L$100,SMALL(IF(N(Main!L$8:L$100)<>0,IF(Main!$C$8:$C$100=$C$7,ROW(L$8:L$100)-ROW(L$8)+1)),ROWS($A$1:K115))))","v":""}]
[{"$f":"IF(B123=\"\",\"\",MAX($A$7:A122)+1)","v":""},{"$f":"IF(ROWS($A$1:A116)>COUNTIF(Main!$C$8:$C$100,$C$7),\"\",INDEX(Main!B$8:B$100,SMALL(IF(N(Main!B$8:B$100)<>0,IF(Main!$C$8:$C$100=$C$7,ROW(B$8:B$100)-ROW(B$8)+1)),ROWS($A$1:A116))))","v":""},{"$f":"IF(ROWS($A$1:B116)>COUNTIF(Main!$C$8:$C$100,$C$7),\"\",INDEX(Main!C$8:C$100,SMALL(IF(N(Main!C$8:C$100)<>0,IF(Main!$C$8:$C$100=$C$7,ROW(C$8:C$100)-ROW(C$8)+1)),ROWS($A$1:B116))))","v":""},{"$f":"IF(ROWS($A$1:C116)>COUNTIF(Main!$C$8:$C$100,$C$7),\"\",INDEX(Main!D$8:D$100,SMALL(IF(N(Main!D$8:D$100)<>0,IF(Main!$C$8:$C$100=$C$7,ROW(D$8:D$100)-ROW(D$8)+1)),ROWS($A$1:C116))))","v":""},{"$f":"IF(ROWS($A$1:D116)>COUNTIF(Main!$C$8:$C$100,$C$7),\"\",INDEX(Main!E$8:E$100,SMALL(IF(N(Main!E$8:E$100)<>0,IF(Main!$C$8:$C$100=$C$7,ROW(E$8:E$100)-ROW(E$8)+1)),ROWS($A$1:D116))))","v":""},{"$f":"IF(ROWS($A$1:E116)>COUNTIF(Main!$C$8:$C$100,$C$7),\"\",INDEX(Main!F$8:F$100,SMALL(IF(N(Main!F$8:F$100)<>0,IF(Main!$C$8:$C$100=$C$7,ROW(F$8:F$100)-ROW(F$8)+1)),ROWS($A$1:E116))))","v":""},{"$f":"IF(ROWS($A$1:F116)>COUNTIF(Main!$C$8:$C$100,$C$7),\"\",INDEX(Main!G$8:G$100,SMALL(IF(N(Main!G$8:G$100)<>0,IF(Main!$C$8:$C$100=$C$7,ROW(G$8:G$100)-ROW(G$8)+1)),ROWS($A$1:F116))))","v":""},{"$f":"IF(ROWS($A$1:G116)>COUNTIF(Main!$C$8:$C$100,$C$7),\"\",INDEX(Main!H$8:H$100,SMALL(IF(N(Main!H$8:H$100)<>0,IF(Main!$C$8:$C$100=$C$7,ROW(H$8:H$100)-ROW(H$8)+1)),ROWS($A$1:G116))))","v":""},{"$f":"IF(ROWS($A$1:H116)>COUNTIF(Main!$C$8:$C$100,$C$7),\"\",INDEX(Main!I$8:I$100,SMALL(IF(N(Main!I$8:I$100)<>0,IF(Main!$C$8:$C$100=$C$7,ROW(I$8:I$100)-ROW(I$8)+1)),ROWS($A$1:H116))))","v":""},{"$f":"IF(ROWS($A$1:I116)>COUNTIF(Main!$C$8:$C$100,$C$7),\"\",INDEX(Main!J$8:J$100,SMALL(IF(Main!J$8:J$100<>\"\",IF(Main!$C$8:$C$100=$C$7,ROW(J$8:J$100)-ROW(J$8)+1)),ROWS($A$1:I116))))","v":""},"",{"$f":"IF(ROWS($A$1:K116)>COUNTIF(Main!$C$8:$C$100,$C$7),\"\",INDEX(Main!L$8:L$100,SMALL(IF(N(Main!L$8:L$100)<>0,IF(Main!$C$8:$C$100=$C$7,ROW(L$8:L$100)-ROW(L$8)+1)),ROWS($A$1:K116))))","v":""}]
[{"$f":"IF(B124=\"\",\"\",MAX($A$7:A123)+1)","v":""},{"$f":"IF(ROWS($A$1:A117)>COUNTIF(Main!$C$8:$C$100,$C$7),\"\",INDEX(Main!B$8:B$100,SMALL(IF(N(Main!B$8:B$100)<>0,IF(Main!$C$8:$C$100=$C$7,ROW(B$8:B$100)-ROW(B$8)+1)),ROWS($A$1:A117))))","v":""},{"$f":"IF(ROWS($A$1:B117)>COUNTIF(Main!$C$8:$C$100,$C$7),\"\",INDEX(Main!C$8:C$100,SMALL(IF(N(Main!C$8:C$100)<>0,IF(Main!$C$8:$C$100=$C$7,ROW(C$8:C$100)-ROW(C$8)+1)),ROWS($A$1:B117))))","v":""},{"$f":"IF(ROWS($A$1:C117)>COUNTIF(Main!$C$8:$C$100,$C$7),\"\",INDEX(Main!D$8:D$100,SMALL(IF(N(Main!D$8:D$100)<>0,IF(Main!$C$8:$C$100=$C$7,ROW(D$8:D$100)-ROW(D$8)+1)),ROWS($A$1:C117))))","v":""},{"$f":"IF(ROWS($A$1:D117)>COUNTIF(Main!$C$8:$C$100,$C$7),\"\",INDEX(Main!E$8:E$100,SMALL(IF(N(Main!E$8:E$100)<>0,IF(Main!$C$8:$C$100=$C$7,ROW(E$8:E$100)-ROW(E$8)+1)),ROWS($A$1:D117))))","v":""},{"$f":"IF(ROWS($A$1:E117)>COUNTIF(Main!$C$8:$C$100,$C$7),\"\",INDEX(Main!F$8:F$100,SMALL(IF(N(Main!F$8:F$100)<>0,IF(Main!$C$8:$C$100=$C$7,ROW(F$8:F$100)-ROW(F$8)+1)),ROWS($A$1:E117))))","v":""},{"$f":"IF(ROWS($A$1:F117)>COUNTIF(Main!$C$8:$C$100,$C$7),\"\",INDEX(Main!G$8:G$100,SMALL(IF(N(Main!G$8:G$100)<>0,IF(Main!$C$8:$C$100=$C$7,ROW(G$8:G$100)-ROW(G$8)+1)),ROWS($A$1:F117))))","v":""},{"$f":"IF(ROWS($A$1:G117)>COUNTIF(Main!$C$8:$C$100,$C$7),\"\",INDEX(Main!H$8:H$100,SMALL(IF(N(Main!H$8:H$100)<>0,IF(Main!$C$8:$C$100=$C$7,ROW(H$8:H$100)-ROW(H$8)+1)),ROWS($A$1:G117))))","v":""},{"$f":"IF(ROWS($A$1:H117)>COUNTIF(Main!$C$8:$C$100,$C$7),\"\",INDEX(Main!I$8:I$100,SMALL(IF(N(Main!I$8:I$100)<>0,IF(Main!$C$8:$C$100=$C$7,ROW(I$8:I$100)-ROW(I$8)+1)),ROWS($A$1:H117))))","v":""},{"$f":"IF(ROWS($A$1:I117)>COUNTIF(Main!$C$8:$C$100,$C$7),\"\",INDEX(Main!J$8:J$100,SMALL(IF(Main!J$8:J$100<>\"\",IF(Main!$C$8:$C$100=$C$7,ROW(J$8:J$100)-ROW(J$8)+1)),ROWS($A$1:I117))))","v":""},"",{"$f":"IF(ROWS($A$1:K117)>COUNTIF(Main!$C$8:$C$100,$C$7),\"\",INDEX(Main!L$8:L$100,SMALL(IF(N(Main!L$8:L$100)<>0,IF(Main!$C$8:$C$100=$C$7,ROW(L$8:L$100)-ROW(L$8)+1)),ROWS($A$1:K117))))","v":""}]
[{"$f":"IF(B125=\"\",\"\",MAX($A$7:A124)+1)","v":""},{"$f":"IF(ROWS($A$1:A118)>COUNTIF(Main!$C$8:$C$100,$C$7),\"\",INDEX(Main!B$8:B$100,SMALL(IF(N(Main!B$8:B$100)<>0,IF(Main!$C$8:$C$100=$C$7,ROW(B$8:B$100)-ROW(B$8)+1)),ROWS($A$1:A118))))","v":""},{"$f":"IF(ROWS($A$1:B118)>COUNTIF(Main!$C$8:$C$100,$C$7),\"\",INDEX(Main!C$8:C$100,SMALL(IF(N(Main!C$8:C$100)<>0,IF(Main!$C$8:$C$100=$C$7,ROW(C$8:C$100)-ROW(C$8)+1)),ROWS($A$1:B118))))","v":""},{"$f":"IF(ROWS($A$1:C118)>COUNTIF(Main!$C$8:$C$100,$C$7),\"\",INDEX(Main!D$8:D$100,SMALL(IF(N(Main!D$8:D$100)<>0,IF(Main!$C$8:$C$100=$C$7,ROW(D$8:D$100)-ROW(D$8)+1)),ROWS($A$1:C118))))","v":""},{"$f":"IF(ROWS($A$1:D118)>COUNTIF(Main!$C$8:$C$100,$C$7),\"\",INDEX(Main!E$8:E$100,SMALL(IF(N(Main!E$8:E$100)<>0,IF(Main!$C$8:$C$100=$C$7,ROW(E$8:E$100)-ROW(E$8)+1)),ROWS($A$1:D118))))","v":""},{"$f":"IF(ROWS($A$1:E118)>COUNTIF(Main!$C$8:$C$100,$C$7),\"\",INDEX(Main!F$8:F$100,SMALL(IF(N(Main!F$8:F$100)<>0,IF(Main!$C$8:$C$100=$C$7,ROW(F$8:F$100)-ROW(F$8)+1)),ROWS($A$1:E118))))","v":""},{"$f":"IF(ROWS($A$1:F118)>COUNTIF(Main!$C$8:$C$100,$C$7),\"\",INDEX(Main!G$8:G$100,SMALL(IF(N(Main!G$8:G$100)<>0,IF(Main!$C$8:$C$100=$C$7,ROW(G$8:G$100)-ROW(G$8)+1)),ROWS($A$1:F118))))","v":""},{"$f":"IF(ROWS($A$1:G118)>COUNTIF(Main!$C$8:$C$100,$C$7),\"\",INDEX(Main!H$8:H$100,SMALL(IF(N(Main!H$8:H$100)<>0,IF(Main!$C$8:$C$100=$C$7,ROW(H$8:H$100)-ROW(H$8)+1)),ROWS($A$1:G118))))","v":""},{"$f":"IF(ROWS($A$1:H118)>COUNTIF(Main!$C$8:$C$100,$C$7),\"\",INDEX(Main!I$8:I$100,SMALL(IF(N(Main!I$8:I$100)<>0,IF(Main!$C$8:$C$100=$C$7,ROW(I$8:I$100)-ROW(I$8)+1)),ROWS($A$1:H118))))","v":""},{"$f":"IF(ROWS($A$1:I118)>COUNTIF(Main!$C$8:$C$100,$C$7),\"\",INDEX(Main!J$8:J$100,SMALL(IF(Main!J$8:J$100<>\"\",IF(Main!$C$8:$C$100=$C$7,ROW(J$8:J$100)-ROW(J$8)+1)),ROWS($A$1:I118))))","v":""},"",{"$f":"IF(ROWS($A$1:K118)>COUNTIF(Main!$C$8:$C$100,$C$7),\"\",INDEX(Main!L$8:L$100,SMALL(IF(N(Main!L$8:L$100)<>0,IF(Main!$C$8:$C$100=$C$7,ROW(L$8:L$100)-ROW(L$8)+1)),ROWS($A$1:K118))))","v":""}]
[{"$f":"IF(B126=\"\",\"\",MAX($A$7:A125)+1)","v":""},{"$f":"IF(ROWS($A$1:A119)>COUNTIF(Main!$C$8:$C$100,$C$7),\"\",INDEX(Main!B$8:B$100,SMALL(IF(N(Main!B$8:B$100)<>0,IF(Main!$C$8:$C$100=$C$7,ROW(B$8:B$100)-ROW(B$8)+1)),ROWS($A$1:A119))))","v":""},{"$f":"IF(ROWS($A$1:B119)>COUNTIF(Main!$C$8:$C$100,$C$7),\"\",INDEX(Main!C$8:C$100,SMALL(IF(N(Main!C$8:C$100)<>0,IF(Main!$C$8:$C$100=$C$7,ROW(C$8:C$100)-ROW(C$8)+1)),ROWS($A$1:B119))))","v":""},{"$f":"IF(ROWS($A$1:C119)>COUNTIF(Main!$C$8:$C$100,$C$7),\"\",INDEX(Main!D$8:D$100,SMALL(IF(N(Main!D$8:D$100)<>0,IF(Main!$C$8:$C$100=$C$7,ROW(D$8:D$100)-ROW(D$8)+1)),ROWS($A$1:C119))))","v":""},{"$f":"IF(ROWS($A$1:D119)>COUNTIF(Main!$C$8:$C$100,$C$7),\"\",INDEX(Main!E$8:E$100,SMALL(IF(N(Main!E$8:E$100)<>0,IF(Main!$C$8:$C$100=$C$7,ROW(E$8:E$100)-ROW(E$8)+1)),ROWS($A$1:D119))))","v":""},{"$f":"IF(ROWS($A$1:E119)>COUNTIF(Main!$C$8:$C$100,$C$7),\"\",INDEX(Main!F$8:F$100,SMALL(IF(N(Main!F$8:F$100)<>0,IF(Main!$C$8:$C$100=$C$7,ROW(F$8:F$100)-ROW(F$8)+1)),ROWS($A$1:E119))))","v":""},{"$f":"IF(ROWS($A$1:F119)>COUNTIF(Main!$C$8:$C$100,$C$7),\"\",INDEX(Main!G$8:G$100,SMALL(IF(N(Main!G$8:G$100)<>0,IF(Main!$C$8:$C$100=$C$7,ROW(G$8:G$100)-ROW(G$8)+1)),ROWS($A$1:F119))))","v":""},{"$f":"IF(ROWS($A$1:G119)>COUNTIF(Main!$C$8:$C$100,$C$7),\"\",INDEX(Main!H$8:H$100,SMALL(IF(N(Main!H$8:H$100)<>0,IF(Main!$C$8:$C$100=$C$7,ROW(H$8:H$100)-ROW(H$8)+1)),ROWS($A$1:G119))))","v":""},{"$f":"IF(ROWS($A$1:H119)>COUNTIF(Main!$C$8:$C$100,$C$7),\"\",INDEX(Main!I$8:I$100,SMALL(IF(N(Main!I$8:I$100)<>0,IF(Main!$C$8:$C$100=$C$7,ROW(I$8:I$100)-ROW(I$8)+1)),ROWS($A$1:H119))))","v":""},{"$f":"IF(ROWS($A$1:I119)>COUNTIF(Main!$C$8:$C$100,$C$7),\"\",INDEX(Main!J$8:J$100,SMALL(IF(Main!J$8:J$100<>\"\",IF(Main!$C$8:$C$100=$C$7,ROW(J$8:J$100)-ROW(J$8)+1)),ROWS($A$1:I119))))","v":""},"",{"$f":"IF(ROWS($A$1:K119)>COUNTIF(Main!$C$8:$C$100,$C$7),\"\",INDEX(Main!L$8:L$100,SMALL(IF(N(Main!L$8:L$100)<>0,IF(Main!$C$8:$C$100=$C$7,ROW(L$8:L$100)-ROW(L$8)+1)),ROWS($A$1:K119))))","v":""}]
[{"$f":"IF(B127=\"\",\"\",MAX($A$7:A126)+1)","v":""},{"$f":"IF(ROWS($A$1:A120)>COUNTIF(Main!$C$8:$C$100,$C$7),\"\",INDEX(Main!B$8:B$100,SMALL(IF(N(Main!B$8:B$100)<>0,IF(Main!$C$8:$C$100=$C$7,ROW(B$8:B$100)-ROW(B$8)+1)),ROWS($A$1:A120))))","v":""},{"$f":"IF(ROWS($A$1:B120)>COUNTIF(Main!$C$8:$C$100,$C$7),\"\",INDEX(Main!C$8:C$100,SMALL(IF(N(Main!C$8:C$100)<>0,IF(Main!$C$8:$C$100=$C$7,ROW(C$8:C$100)-ROW(C$8)+1)),ROWS($A$1:B120))))","v":""},{"$f":"IF(ROWS($A$1:C120)>COUNTIF(Main!$C$8:$C$100,$C$7),\"\",INDEX(Main!D$8:D$100,SMALL(IF(N(Main!D$8:D$100)<>0,IF(Main!$C$8:$C$100=$C$7,ROW(D$8:D$100)-ROW(D$8)+1)),ROWS($A$1:C120))))","v":""},{"$f":"IF(ROWS($A$1:D120)>COUNTIF(Main!$C$8:$C$100,$C$7),\"\",INDEX(Main!E$8:E$100,SMALL(IF(N(Main!E$8:E$100)<>0,IF(Main!$C$8:$C$100=$C$7,ROW(E$8:E$100)-ROW(E$8)+1)),ROWS($A$1:D120))))","v":""},{"$f":"IF(ROWS($A$1:E120)>COUNTIF(Main!$C$8:$C$100,$C$7),\"\",INDEX(Main!F$8:F$100,SMALL(IF(N(Main!F$8:F$100)<>0,IF(Main!$C$8:$C$100=$C$7,ROW(F$8:F$100)-ROW(F$8)+1)),ROWS($A$1:E120))))","v":""},{"$f":"IF(ROWS($A$1:F120)>COUNTIF(Main!$C$8:$C$100,$C$7),\"\",INDEX(Main!G$8:G$100,SMALL(IF(N(Main!G$8:G$100)<>0,IF(Main!$C$8:$C$100=$C$7,ROW(G$8:G$100)-ROW(G$8)+1)),ROWS($A$1:F120))))","v":""},{"$f":"IF(ROWS($A$1:G120)>COUNTIF(Main!$C$8:$C$100,$C$7),\"\",INDEX(Main!H$8:H$100,SMALL(IF(N(Main!H$8:H$100)<>0,IF(Main!$C$8:$C$100=$C$7,ROW(H$8:H$100)-ROW(H$8)+1)),ROWS($A$1:G120))))","v":""},{"$f":"IF(ROWS($A$1:H120)>COUNTIF(Main!$C$8:$C$100,$C$7),\"\",INDEX(Main!I$8:I$100,SMALL(IF(N(Main!I$8:I$100)<>0,IF(Main!$C$8:$C$100=$C$7,ROW(I$8:I$100)-ROW(I$8)+1)),ROWS($A$1:H120))))","v":""},{"$f":"IF(ROWS($A$1:I120)>COUNTIF(Main!$C$8:$C$100,$C$7),\"\",INDEX(Main!J$8:J$100,SMALL(IF(Main!J$8:J$100<>\"\",IF(Main!$C$8:$C$100=$C$7,ROW(J$8:J$100)-ROW(J$8)+1)),ROWS($A$1:I120))))","v":""},"",{"$f":"IF(ROWS($A$1:K120)>COUNTIF(Main!$C$8:$C$100,$C$7),\"\",INDEX(Main!L$8:L$100,SMALL(IF(N(Main!L$8:L$100)<>0,IF(Main!$C$8:$C$100=$C$7,ROW(L$8:L$100)-ROW(L$8)+1)),ROWS($A$1:K120))))","v":""}]
[{"$f":"IF(B128=\"\",\"\",MAX($A$7:A127)+1)","v":""},{"$f":"IF(ROWS($A$1:A121)>COUNTIF(Main!$C$8:$C$100,$C$7),\"\",INDEX(Main!B$8:B$100,SMALL(IF(N(Main!B$8:B$100)<>0,IF(Main!$C$8:$C$100=$C$7,ROW(B$8:B$100)-ROW(B$8)+1)),ROWS($A$1:A121))))","v":""},{"$f":"IF(ROWS($A$1:B121)>COUNTIF(Main!$C$8:$C$100,$C$7),\"\",INDEX(Main!C$8:C$100,SMALL(IF(N(Main!C$8:C$100)<>0,IF(Main!$C$8:$C$100=$C$7,ROW(C$8:C$100)-ROW(C$8)+1)),ROWS($A$1:B121))))","v":""},{"$f":"IF(ROWS($A$1:C121)>COUNTIF(Main!$C$8:$C$100,$C$7),\"\",INDEX(Main!D$8:D$100,SMALL(IF(N(Main!D$8:D$100)<>0,IF(Main!$C$8:$C$100=$C$7,ROW(D$8:D$100)-ROW(D$8)+1)),ROWS($A$1:C121))))","v":""},{"$f":"IF(ROWS($A$1:D121)>COUNTIF(Main!$C$8:$C$100,$C$7),\"\",INDEX(Main!E$8:E$100,SMALL(IF(N(Main!E$8:E$100)<>0,IF(Main!$C$8:$C$100=$C$7,ROW(E$8:E$100)-ROW(E$8)+1)),ROWS($A$1:D121))))","v":""},{"$f":"IF(ROWS($A$1:E121)>COUNTIF(Main!$C$8:$C$100,$C$7),\"\",INDEX(Main!F$8:F$100,SMALL(IF(N(Main!F$8:F$100)<>0,IF(Main!$C$8:$C$100=$C$7,ROW(F$8:F$100)-ROW(F$8)+1)),ROWS($A$1:E121))))","v":""},{"$f":"IF(ROWS($A$1:F121)>COUNTIF(Main!$C$8:$C$100,$C$7),\"\",INDEX(Main!G$8:G$100,SMALL(IF(N(Main!G$8:G$100)<>0,IF(Main!$C$8:$C$100=$C$7,ROW(G$8:G$100)-ROW(G$8)+1)),ROWS($A$1:F121))))","v":""},{"$f":"IF(ROWS($A$1:G121)>COUNTIF(Main!$C$8:$C$100,$C$7),\"\",INDEX(Main!H$8:H$100,SMALL(IF(N(Main!H$8:H$100)<>0,IF(Main!$C$8:$C$100=$C$7,ROW(H$8:H$100)-ROW(H$8)+1)),ROWS($A$1:G121))))","v":""},{"$f":"IF(ROWS($A$1:H121)>COUNTIF(Main!$C$8:$C$100,$C$7),\"\",INDEX(Main!I$8:I$100,SMALL(IF(N(Main!I$8:I$100)<>0,IF(Main!$C$8:$C$100=$C$7,ROW(I$8:I$100)-ROW(I$8)+1)),ROWS($A$1:H121))))","v":""},{"$f":"IF(ROWS($A$1:I121)>COUNTIF(Main!$C$8:$C$100,$C$7),\"\",INDEX(Main!J$8:J$100,SMALL(IF(Main!J$8:J$100<>\"\",IF(Main!$C$8:$C$100=$C$7,ROW(J$8:J$100)-ROW(J$8)+1)),ROWS($A$1:I121))))","v":""},"",{"$f":"IF(ROWS($A$1:K121)>COUNTIF(Main!$C$8:$C$100,$C$7),\"\",INDEX(Main!L$8:L$100,SMALL(IF(N(Main!L$8:L$100)<>0,IF(Main!$C$8:$C$100=$C$7,ROW(L$8:L$100)-ROW(L$8)+1)),ROWS($A$1:K121))))","v":""}]
[{"$f":"IF(B129=\"\",\"\",MAX($A$7:A128)+1)","v":""},{"$f":"IF(ROWS($A$1:A122)>COUNTIF(Main!$C$8:$C$100,$C$7),\"\",INDEX(Main!B$8:B$100,SMALL(IF(N(Main!B$8:B$100)<>0,IF(Main!$C$8:$C$100=$C$7,ROW(B$8:B$100)-ROW(B$8)+1)),ROWS($A$1:A122))))","v":""},{"$f":"IF(ROWS($A$1:B122)>COUNTIF(Main!$C$8:$C$100,$C$7),\"\",INDEX(Main!C$8:C$100,SMALL(IF(N(Main!C$8:C$100)<>0,IF(Main!$C$8:$C$100=$C$7,ROW(C$8:C$100)-ROW(C$8)+1)),ROWS($A$1:B122))))","v":""},{"$f":"IF(ROWS($A$1:C122)>COUNTIF(Main!$C$8:$C$100,$C$7),\"\",INDEX(Main!D$8:D$100,SMALL(IF(N(Main!D$8:D$100)<>0,IF(Main!$C$8:$C$100=$C$7,ROW(D$8:D$100)-ROW(D$8)+1)),ROWS($A$1:C122))))","v":""},{"$f":"IF(ROWS($A$1:D122)>COUNTIF(Main!$C$8:$C$100,$C$7),\"\",INDEX(Main!E$8:E$100,SMALL(IF(N(Main!E$8:E$100)<>0,IF(Main!$C$8:$C$100=$C$7,ROW(E$8:E$100)-ROW(E$8)+1)),ROWS($A$1:D122))))","v":""},{"$f":"IF(ROWS($A$1:E122)>COUNTIF(Main!$C$8:$C$100,$C$7),\"\",INDEX(Main!F$8:F$100,SMALL(IF(N(Main!F$8:F$100)<>0,IF(Main!$C$8:$C$100=$C$7,ROW(F$8:F$100)-ROW(F$8)+1)),ROWS($A$1:E122))))","v":""},{"$f":"IF(ROWS($A$1:F122)>COUNTIF(Main!$C$8:$C$100,$C$7),\"\",INDEX(Main!G$8:G$100,SMALL(IF(N(Main!G$8:G$100)<>0,IF(Main!$C$8:$C$100=$C$7,ROW(G$8:G$100)-ROW(G$8)+1)),ROWS($A$1:F122))))","v":""},{"$f":"IF(ROWS($A$1:G122)>COUNTIF(Main!$C$8:$C$100,$C$7),\"\",INDEX(Main!H$8:H$100,SMALL(IF(N(Main!H$8:H$100)<>0,IF(Main!$C$8:$C$100=$C$7,ROW(H$8:H$100)-ROW(H$8)+1)),ROWS($A$1:G122))))","v":""},{"$f":"IF(ROWS($A$1:H122)>COUNTIF(Main!$C$8:$C$100,$C$7),\"\",INDEX(Main!I$8:I$100,SMALL(IF(N(Main!I$8:I$100)<>0,IF(Main!$C$8:$C$100=$C$7,ROW(I$8:I$100)-ROW(I$8)+1)),ROWS($A$1:H122))))","v":""},{"$f":"IF(ROWS($A$1:I122)>COUNTIF(Main!$C$8:$C$100,$C$7),\"\",INDEX(Main!J$8:J$100,SMALL(IF(Main!J$8:J$100<>\"\",IF(Main!$C$8:$C$100=$C$7,ROW(J$8:J$100)-ROW(J$8)+1)),ROWS($A$1:I122))))","v":""},"",{"$f":"IF(ROWS($A$1:K122)>COUNTIF(Main!$C$8:$C$100,$C$7),\"\",INDEX(Main!L$8:L$100,SMALL(IF(N(Main!L$8:L$100)<>0,IF(Main!$C$8:$C$100=$C$7,ROW(L$8:L$100)-ROW(L$8)+1)),ROWS($A$1:K122))))","v":""}]
[{"$f":"IF(B130=\"\",\"\",MAX($A$7:A129)+1)","v":""},{"$f":"IF(ROWS($A$1:A123)>COUNTIF(Main!$C$8:$C$100,$C$7),\"\",INDEX(Main!B$8:B$100,SMALL(IF(N(Main!B$8:B$100)<>0,IF(Main!$C$8:$C$100=$C$7,ROW(B$8:B$100)-ROW(B$8)+1)),ROWS($A$1:A123))))","v":""},{"$f":"IF(ROWS($A$1:B123)>COUNTIF(Main!$C$8:$C$100,$C$7),\"\",INDEX(Main!C$8:C$100,SMALL(IF(N(Main!C$8:C$100)<>0,IF(Main!$C$8:$C$100=$C$7,ROW(C$8:C$100)-ROW(C$8)+1)),ROWS($A$1:B123))))","v":""},{"$f":"IF(ROWS($A$1:C123)>COUNTIF(Main!$C$8:$C$100,$C$7),\"\",INDEX(Main!D$8:D$100,SMALL(IF(N(Main!D$8:D$100)<>0,IF(Main!$C$8:$C$100=$C$7,ROW(D$8:D$100)-ROW(D$8)+1)),ROWS($A$1:C123))))","v":""},{"$f":"IF(ROWS($A$1:D123)>COUNTIF(Main!$C$8:$C$100,$C$7),\"\",INDEX(Main!E$8:E$100,SMALL(IF(N(Main!E$8:E$100)<>0,IF(Main!$C$8:$C$100=$C$7,ROW(E$8:E$100)-ROW(E$8)+1)),ROWS($A$1:D123))))","v":""},{"$f":"IF(ROWS($A$1:E123)>COUNTIF(Main!$C$8:$C$100,$C$7),\"\",INDEX(Main!F$8:F$100,SMALL(IF(N(Main!F$8:F$100)<>0,IF(Main!$C$8:$C$100=$C$7,ROW(F$8:F$100)-ROW(F$8)+1)),ROWS($A$1:E123))))","v":""},{"$f":"IF(ROWS($A$1:F123)>COUNTIF(Main!$C$8:$C$100,$C$7),\"\",INDEX(Main!G$8:G$100,SMALL(IF(N(Main!G$8:G$100)<>0,IF(Main!$C$8:$C$100=$C$7,ROW(G$8:G$100)-ROW(G$8)+1)),ROWS($A$1:F123))))","v":""},{"$f":"IF(ROWS($A$1:G123)>COUNTIF(Main!$C$8:$C$100,$C$7),\"\",INDEX(Main!H$8:H$100,SMALL(IF(N(Main!H$8:H$100)<>0,IF(Main!$C$8:$C$100=$C$7,ROW(H$8:H$100)-ROW(H$8)+1)),ROWS($A$1:G123))))","v":""},{"$f":"IF(ROWS($A$1:H123)>COUNTIF(Main!$C$8:$C$100,$C$7),\"\",INDEX(Main!I$8:I$100,SMALL(IF(N(Main!I$8:I$100)<>0,IF(Main!$C$8:$C$100=$C$7,ROW(I$8:I$100)-ROW(I$8)+1)),ROWS($A$1:H123))))","v":""},{"$f":"IF(ROWS($A$1:I123)>COUNTIF(Main!$C$8:$C$100,$C$7),\"\",INDEX(Main!J$8:J$100,SMALL(IF(Main!J$8:J$100<>\"\",IF(Main!$C$8:$C$100=$C$7,ROW(J$8:J$100)-ROW(J$8)+1)),ROWS($A$1:I123))))","v":""},"",{"$f":"IF(ROWS($A$1:K123)>COUNTIF(Main!$C$8:$C$100,$C$7),\"\",INDEX(Main!L$8:L$100,SMALL(IF(N(Main!L$8:L$100)<>0,IF(Main!$C$8:$C$100=$C$7,ROW(L$8:L$100)-ROW(L$8)+1)),ROWS($A$1:K123))))","v":""}]
[{"$f":"IF(B131=\"\",\"\",MAX($A$7:A130)+1)","v":""},{"$f":"IF(ROWS($A$1:A124)>COUNTIF(Main!$C$8:$C$100,$C$7),\"\",INDEX(Main!B$8:B$100,SMALL(IF(N(Main!B$8:B$100)<>0,IF(Main!$C$8:$C$100=$C$7,ROW(B$8:B$100)-ROW(B$8)+1)),ROWS($A$1:A124))))","v":""},{"$f":"IF(ROWS($A$1:B124)>COUNTIF(Main!$C$8:$C$100,$C$7),\"\",INDEX(Main!C$8:C$100,SMALL(IF(N(Main!C$8:C$100)<>0,IF(Main!$C$8:$C$100=$C$7,ROW(C$8:C$100)-ROW(C$8)+1)),ROWS($A$1:B124))))","v":""},{"$f":"IF(ROWS($A$1:C124)>COUNTIF(Main!$C$8:$C$100,$C$7),\"\",INDEX(Main!D$8:D$100,SMALL(IF(N(Main!D$8:D$100)<>0,IF(Main!$C$8:$C$100=$C$7,ROW(D$8:D$100)-ROW(D$8)+1)),ROWS($A$1:C124))))","v":""},{"$f":"IF(ROWS($A$1:D124)>COUNTIF(Main!$C$8:$C$100,$C$7),\"\",INDEX(Main!E$8:E$100,SMALL(IF(N(Main!E$8:E$100)<>0,IF(Main!$C$8:$C$100=$C$7,ROW(E$8:E$100)-ROW(E$8)+1)),ROWS($A$1:D124))))","v":""},{"$f":"IF(ROWS($A$1:E124)>COUNTIF(Main!$C$8:$C$100,$C$7),\"\",INDEX(Main!F$8:F$100,SMALL(IF(N(Main!F$8:F$100)<>0,IF(Main!$C$8:$C$100=$C$7,ROW(F$8:F$100)-ROW(F$8)+1)),ROWS($A$1:E124))))","v":""},{"$f":"IF(ROWS($A$1:F124)>COUNTIF(Main!$C$8:$C$100,$C$7),\"\",INDEX(Main!G$8:G$100,SMALL(IF(N(Main!G$8:G$100)<>0,IF(Main!$C$8:$C$100=$C$7,ROW(G$8:G$100)-ROW(G$8)+1)),ROWS($A$1:F124))))","v":""},{"$f":"IF(ROWS($A$1:G124)>COUNTIF(Main!$C$8:$C$100,$C$7),\"\",INDEX(Main!H$8:H$100,SMALL(IF(N(Main!H$8:H$100)<>0,IF(Main!$C$8:$C$100=$C$7,ROW(H$8:H$100)-ROW(H$8)+1)),ROWS($A$1:G124))))","v":""},{"$f":"IF(ROWS($A$1:H124)>COUNTIF(Main!$C$8:$C$100,$C$7),\"\",INDEX(Main!I$8:I$100,SMALL(IF(N(Main!I$8:I$100)<>0,IF(Main!$C$8:$C$100=$C$7,ROW(I$8:I$100)-ROW(I$8)+1)),ROWS($A$1:H124))))","v":""},{"$f":"IF(ROWS($A$1:I124)>COUNTIF(Main!$C$8:$C$100,$C$7),\"\",INDEX(Main!J$8:J$100,SMALL(IF(Main!J$8:J$100<>\"\",IF(Main!$C$8:$C$100=$C$7,ROW(J$8:J$100)-ROW(J$8)+1)),ROWS($A$1:I124))))","v":""},"",{"$f":"IF(ROWS($A$1:K124)>COUNTIF(Main!$C$8:$C$100,$C$7),\"\",INDEX(Main!L$8:L$100,SMALL(IF(N(Main!L$8:L$100)<>0,IF(Main!$C$8:$C$100=$C$7,ROW(L$8:L$100)-ROW(L$8)+1)),ROWS($A$1:K124))))","v":""}]
[{"$f":"IF(B132=\"\",\"\",MAX($A$7:A131)+1)","v":""},{"$f":"IF(ROWS($A$1:A125)>COUNTIF(Main!$C$8:$C$100,$C$7),\"\",INDEX(Main!B$8:B$100,SMALL(IF(N(Main!B$8:B$100)<>0,IF(Main!$C$8:$C$100=$C$7,ROW(B$8:B$100)-ROW(B$8)+1)),ROWS($A$1:A125))))","v":""},{"$f":"IF(ROWS($A$1:B125)>COUNTIF(Main!$C$8:$C$100,$C$7),\"\",INDEX(Main!C$8:C$100,SMALL(IF(N(Main!C$8:C$100)<>0,IF(Main!$C$8:$C$100=$C$7,ROW(C$8:C$100)-ROW(C$8)+1)),ROWS($A$1:B125))))","v":""},{"$f":"IF(ROWS($A$1:C125)>COUNTIF(Main!$C$8:$C$100,$C$7),\"\",INDEX(Main!D$8:D$100,SMALL(IF(N(Main!D$8:D$100)<>0,IF(Main!$C$8:$C$100=$C$7,ROW(D$8:D$100)-ROW(D$8)+1)),ROWS($A$1:C125))))","v":""},{"$f":"IF(ROWS($A$1:D125)>COUNTIF(Main!$C$8:$C$100,$C$7),\"\",INDEX(Main!E$8:E$100,SMALL(IF(N(Main!E$8:E$100)<>0,IF(Main!$C$8:$C$100=$C$7,ROW(E$8:E$100)-ROW(E$8)+1)),ROWS($A$1:D125))))","v":""},{"$f":"IF(ROWS($A$1:E125)>COUNTIF(Main!$C$8:$C$100,$C$7),\"\",INDEX(Main!F$8:F$100,SMALL(IF(N(Main!F$8:F$100)<>0,IF(Main!$C$8:$C$100=$C$7,ROW(F$8:F$100)-ROW(F$8)+1)),ROWS($A$1:E125))))","v":""},{"$f":"IF(ROWS($A$1:F125)>COUNTIF(Main!$C$8:$C$100,$C$7),\"\",INDEX(Main!G$8:G$100,SMALL(IF(N(Main!G$8:G$100)<>0,IF(Main!$C$8:$C$100=$C$7,ROW(G$8:G$100)-ROW(G$8)+1)),ROWS($A$1:F125))))","v":""},{"$f":"IF(ROWS($A$1:G125)>COUNTIF(Main!$C$8:$C$100,$C$7),\"\",INDEX(Main!H$8:H$100,SMALL(IF(N(Main!H$8:H$100)<>0,IF(Main!$C$8:$C$100=$C$7,ROW(H$8:H$100)-ROW(H$8)+1)),ROWS($A$1:G125))))","v":""},{"$f":"IF(ROWS($A$1:H125)>COUNTIF(Main!$C$8:$C$100,$C$7),\"\",INDEX(Main!I$8:I$100,SMALL(IF(N(Main!I$8:I$100)<>0,IF(Main!$C$8:$C$100=$C$7,ROW(I$8:I$100)-ROW(I$8)+1)),ROWS($A$1:H125))))","v":""},{"$f":"IF(ROWS($A$1:I125)>COUNTIF(Main!$C$8:$C$100,$C$7),\"\",INDEX(Main!J$8:J$100,SMALL(IF(Main!J$8:J$100<>\"\",IF(Main!$C$8:$C$100=$C$7,ROW(J$8:J$100)-ROW(J$8)+1)),ROWS($A$1:I125))))","v":""},"",{"$f":"IF(ROWS($A$1:K125)>COUNTIF(Main!$C$8:$C$100,$C$7),\"\",INDEX(Main!L$8:L$100,SMALL(IF(N(Main!L$8:L$100)<>0,IF(Main!$C$8:$C$100=$C$7,ROW(L$8:L$100)-ROW(L$8)+1)),ROWS($A$1:K125))))","v":""}]
[{"$f":"IF(B133=\"\",\"\",MAX($A$7:A132)+1)","v":""},{"$f":"IF(ROWS($A$1:A126)>COUNTIF(Main!$C$8:$C$100,$C$7),\"\",INDEX(Main!B$8:B$100,SMALL(IF(N(Main!B$8:B$100)<>0,IF(Main!$C$8:$C$100=$C$7,ROW(B$8:B$100)-ROW(B$8)+1)),ROWS($A$1:A126))))","v":""},{"$f":"IF(ROWS($A$1:B126)>COUNTIF(Main!$C$8:$C$100,$C$7),\"\",INDEX(Main!C$8:C$100,SMALL(IF(N(Main!C$8:C$100)<>0,IF(Main!$C$8:$C$100=$C$7,ROW(C$8:C$100)-ROW(C$8)+1)),ROWS($A$1:B126))))","v":""},{"$f":"IF(ROWS($A$1:C126)>COUNTIF(Main!$C$8:$C$100,$C$7),\"\",INDEX(Main!D$8:D$100,SMALL(IF(N(Main!D$8:D$100)<>0,IF(Main!$C$8:$C$100=$C$7,ROW(D$8:D$100)-ROW(D$8)+1)),ROWS($A$1:C126))))","v":""},{"$f":"IF(ROWS($A$1:D126)>COUNTIF(Main!$C$8:$C$100,$C$7),\"\",INDEX(Main!E$8:E$100,SMALL(IF(N(Main!E$8:E$100)<>0,IF(Main!$C$8:$C$100=$C$7,ROW(E$8:E$100)-ROW(E$8)+1)),ROWS($A$1:D126))))","v":""},{"$f":"IF(ROWS($A$1:E126)>COUNTIF(Main!$C$8:$C$100,$C$7),\"\",INDEX(Main!F$8:F$100,SMALL(IF(N(Main!F$8:F$100)<>0,IF(Main!$C$8:$C$100=$C$7,ROW(F$8:F$100)-ROW(F$8)+1)),ROWS($A$1:E126))))","v":""},{"$f":"IF(ROWS($A$1:F126)>COUNTIF(Main!$C$8:$C$100,$C$7),\"\",INDEX(Main!G$8:G$100,SMALL(IF(N(Main!G$8:G$100)<>0,IF(Main!$C$8:$C$100=$C$7,ROW(G$8:G$100)-ROW(G$8)+1)),ROWS($A$1:F126))))","v":""},{"$f":"IF(ROWS($A$1:G126)>COUNTIF(Main!$C$8:$C$100,$C$7),\"\",INDEX(Main!H$8:H$100,SMALL(IF(N(Main!H$8:H$100)<>0,IF(Main!$C$8:$C$100=$C$7,ROW(H$8:H$100)-ROW(H$8)+1)),ROWS($A$1:G126))))","v":""},{"$f":"IF(ROWS($A$1:H126)>COUNTIF(Main!$C$8:$C$100,$C$7),\"\",INDEX(Main!I$8:I$100,SMALL(IF(N(Main!I$8:I$100)<>0,IF(Main!$C$8:$C$100=$C$7,ROW(I$8:I$100)-ROW(I$8)+1)),ROWS($A$1:H126))))","v":""},{"$f":"IF(ROWS($A$1:I126)>COUNTIF(Main!$C$8:$C$100,$C$7),\"\",INDEX(Main!J$8:J$100,SMALL(IF(Main!J$8:J$100<>\"\",IF(Main!$C$8:$C$100=$C$7,ROW(J$8:J$100)-ROW(J$8)+1)),ROWS($A$1:I126))))","v":""},"",{"$f":"IF(ROWS($A$1:K126)>COUNTIF(Main!$C$8:$C$100,$C$7),\"\",INDEX(Main!L$8:L$100,SMALL(IF(N(Main!L$8:L$100)<>0,IF(Main!$C$8:$C$100=$C$7,ROW(L$8:L$100)-ROW(L$8)+1)),ROWS($A$1:K126))))","v":""}]
[{"$f":"IF(B134=\"\",\"\",MAX($A$7:A133)+1)","v":""},{"$f":"IF(ROWS($A$1:A127)>COUNTIF(Main!$C$8:$C$100,$C$7),\"\",INDEX(Main!B$8:B$100,SMALL(IF(N(Main!B$8:B$100)<>0,IF(Main!$C$8:$C$100=$C$7,ROW(B$8:B$100)-ROW(B$8)+1)),ROWS($A$1:A127))))","v":""},{"$f":"IF(ROWS($A$1:B127)>COUNTIF(Main!$C$8:$C$100,$C$7),\"\",INDEX(Main!C$8:C$100,SMALL(IF(N(Main!C$8:C$100)<>0,IF(Main!$C$8:$C$100=$C$7,ROW(C$8:C$100)-ROW(C$8)+1)),ROWS($A$1:B127))))","v":""},{"$f":"IF(ROWS($A$1:C127)>COUNTIF(Main!$C$8:$C$100,$C$7),\"\",INDEX(Main!D$8:D$100,SMALL(IF(N(Main!D$8:D$100)<>0,IF(Main!$C$8:$C$100=$C$7,ROW(D$8:D$100)-ROW(D$8)+1)),ROWS($A$1:C127))))","v":""},{"$f":"IF(ROWS($A$1:D127)>COUNTIF(Main!$C$8:$C$100,$C$7),\"\",INDEX(Main!E$8:E$100,SMALL(IF(N(Main!E$8:E$100)<>0,IF(Main!$C$8:$C$100=$C$7,ROW(E$8:E$100)-ROW(E$8)+1)),ROWS($A$1:D127))))","v":""},{"$f":"IF(ROWS($A$1:E127)>COUNTIF(Main!$C$8:$C$100,$C$7),\"\",INDEX(Main!F$8:F$100,SMALL(IF(N(Main!F$8:F$100)<>0,IF(Main!$C$8:$C$100=$C$7,ROW(F$8:F$100)-ROW(F$8)+1)),ROWS($A$1:E127))))","v":""},{"$f":"IF(ROWS($A$1:F127)>COUNTIF(Main!$C$8:$C$100,$C$7),\"\",INDEX(Main!G$8:G$100,SMALL(IF(N(Main!G$8:G$100)<>0,IF(Main!$C$8:$C$100=$C$7,ROW(G$8:G$100)-ROW(G$8)+1)),ROWS($A$1:F127))))","v":""},{"$f":"IF(ROWS($A$1:G127)>COUNTIF(Main!$C$8:$C$100,$C$7),\"\",INDEX(Main!H$8:H$100,SMALL(IF(N(Main!H$8:H$100)<>0,IF(Main!$C$8:$C$100=$C$7,ROW(H$8:H$100)-ROW(H$8)+1)),ROWS($A$1:G127))))","v":""},{"$f":"IF(ROWS($A$1:H127)>COUNTIF(Main!$C$8:$C$100,$C$7),\"\",INDEX(Main!I$8:I$100,SMALL(IF(N(Main!I$8:I$100)<>0,IF(Main!$C$8:$C$100=$C$7,ROW(I$8:I$100)-ROW(I$8)+1)),ROWS($A$1:H127))))","v":""},{"$f":"IF(ROWS($A$1:I127)>COUNTIF(Main!$C$8:$C$100,$C$7),\"\",INDEX(Main!J$8:J$100,SMALL(IF(Main!J$8:J$100<>\"\",IF(Main!$C$8:$C$100=$C$7,ROW(J$8:J$100)-ROW(J$8)+1)),ROWS($A$1:I127))))","v":""},"",{"$f":"IF(ROWS($A$1:K127)>COUNTIF(Main!$C$8:$C$100,$C$7),\"\",INDEX(Main!L$8:L$100,SMALL(IF(N(Main!L$8:L$100)<>0,IF(Main!$C$8:$C$100=$C$7,ROW(L$8:L$100)-ROW(L$8)+1)),ROWS($A$1:K127))))","v":""}]
[{"$f":"IF(B135=\"\",\"\",MAX($A$7:A134)+1)","v":""},{"$f":"IF(ROWS($A$1:A128)>COUNTIF(Main!$C$8:$C$100,$C$7),\"\",INDEX(Main!B$8:B$100,SMALL(IF(N(Main!B$8:B$100)<>0,IF(Main!$C$8:$C$100=$C$7,ROW(B$8:B$100)-ROW(B$8)+1)),ROWS($A$1:A128))))","v":""},{"$f":"IF(ROWS($A$1:B128)>COUNTIF(Main!$C$8:$C$100,$C$7),\"\",INDEX(Main!C$8:C$100,SMALL(IF(N(Main!C$8:C$100)<>0,IF(Main!$C$8:$C$100=$C$7,ROW(C$8:C$100)-ROW(C$8)+1)),ROWS($A$1:B128))))","v":""},{"$f":"IF(ROWS($A$1:C128)>COUNTIF(Main!$C$8:$C$100,$C$7),\"\",INDEX(Main!D$8:D$100,SMALL(IF(N(Main!D$8:D$100)<>0,IF(Main!$C$8:$C$100=$C$7,ROW(D$8:D$100)-ROW(D$8)+1)),ROWS($A$1:C128))))","v":""},{"$f":"IF(ROWS($A$1:D128)>COUNTIF(Main!$C$8:$C$100,$C$7),\"\",INDEX(Main!E$8:E$100,SMALL(IF(N(Main!E$8:E$100)<>0,IF(Main!$C$8:$C$100=$C$7,ROW(E$8:E$100)-ROW(E$8)+1)),ROWS($A$1:D128))))","v":""},{"$f":"IF(ROWS($A$1:E128)>COUNTIF(Main!$C$8:$C$100,$C$7),\"\",INDEX(Main!F$8:F$100,SMALL(IF(N(Main!F$8:F$100)<>0,IF(Main!$C$8:$C$100=$C$7,ROW(F$8:F$100)-ROW(F$8)+1)),ROWS($A$1:E128))))","v":""},{"$f":"IF(ROWS($A$1:F128)>COUNTIF(Main!$C$8:$C$100,$C$7),\"\",INDEX(Main!G$8:G$100,SMALL(IF(N(Main!G$8:G$100)<>0,IF(Main!$C$8:$C$100=$C$7,ROW(G$8:G$100)-ROW(G$8)+1)),ROWS($A$1:F128))))","v":""},{"$f":"IF(ROWS($A$1:G128)>COUNTIF(Main!$C$8:$C$100,$C$7),\"\",INDEX(Main!H$8:H$100,SMALL(IF(N(Main!H$8:H$100)<>0,IF(Main!$C$8:$C$100=$C$7,ROW(H$8:H$100)-ROW(H$8)+1)),ROWS($A$1:G128))))","v":""},{"$f":"IF(ROWS($A$1:H128)>COUNTIF(Main!$C$8:$C$100,$C$7),\"\",INDEX(Main!I$8:I$100,SMALL(IF(N(Main!I$8:I$100)<>0,IF(Main!$C$8:$C$100=$C$7,ROW(I$8:I$100)-ROW(I$8)+1)),ROWS($A$1:H128))))","v":""},{"$f":"IF(ROWS($A$1:I128)>COUNTIF(Main!$C$8:$C$100,$C$7),\"\",INDEX(Main!J$8:J$100,SMALL(IF(Main!J$8:J$100<>\"\",IF(Main!$C$8:$C$100=$C$7,ROW(J$8:J$100)-ROW(J$8)+1)),ROWS($A$1:I128))))","v":""},"",{"$f":"IF(ROWS($A$1:K128)>COUNTIF(Main!$C$8:$C$100,$C$7),\"\",INDEX(Main!L$8:L$100,SMALL(IF(N(Main!L$8:L$100)<>0,IF(Main!$C$8:$C$100=$C$7,ROW(L$8:L$100)-ROW(L$8)+1)),ROWS($A$1:K128))))","v":""}]
[{"$f":"IF(B136=\"\",\"\",MAX($A$7:A135)+1)","v":""},{"$f":"IF(ROWS($A$1:A129)>COUNTIF(Main!$C$8:$C$100,$C$7),\"\",INDEX(Main!B$8:B$100,SMALL(IF(N(Main!B$8:B$100)<>0,IF(Main!$C$8:$C$100=$C$7,ROW(B$8:B$100)-ROW(B$8)+1)),ROWS($A$1:A129))))","v":""},{"$f":"IF(ROWS($A$1:B129)>COUNTIF(Main!$C$8:$C$100,$C$7),\"\",INDEX(Main!C$8:C$100,SMALL(IF(N(Main!C$8:C$100)<>0,IF(Main!$C$8:$C$100=$C$7,ROW(C$8:C$100)-ROW(C$8)+1)),ROWS($A$1:B129))))","v":""},{"$f":"IF(ROWS($A$1:C129)>COUNTIF(Main!$C$8:$C$100,$C$7),\"\",INDEX(Main!D$8:D$100,SMALL(IF(N(Main!D$8:D$100)<>0,IF(Main!$C$8:$C$100=$C$7,ROW(D$8:D$100)-ROW(D$8)+1)),ROWS($A$1:C129))))","v":""},{"$f":"IF(ROWS($A$1:D129)>COUNTIF(Main!$C$8:$C$100,$C$7),\"\",INDEX(Main!E$8:E$100,SMALL(IF(N(Main!E$8:E$100)<>0,IF(Main!$C$8:$C$100=$C$7,ROW(E$8:E$100)-ROW(E$8)+1)),ROWS($A$1:D129))))","v":""},{"$f":"IF(ROWS($A$1:E129)>COUNTIF(Main!$C$8:$C$100,$C$7),\"\",INDEX(Main!F$8:F$100,SMALL(IF(N(Main!F$8:F$100)<>0,IF(Main!$C$8:$C$100=$C$7,ROW(F$8:F$100)-ROW(F$8)+1)),ROWS($A$1:E129))))","v":""},{"$f":"IF(ROWS($A$1:F129)>COUNTIF(Main!$C$8:$C$100,$C$7),\"\",INDEX(Main!G$8:G$100,SMALL(IF(N(Main!G$8:G$100)<>0,IF(Main!$C$8:$C$100=$C$7,ROW(G$8:G$100)-ROW(G$8)+1)),ROWS($A$1:F129))))","v":""},{"$f":"IF(ROWS($A$1:G129)>COUNTIF(Main!$C$8:$C$100,$C$7),\"\",INDEX(Main!H$8:H$100,SMALL(IF(N(Main!H$8:H$100)<>0,IF(Main!$C$8:$C$100=$C$7,ROW(H$8:H$100)-ROW(H$8)+1)),ROWS($A$1:G129))))","v":""},{"$f":"IF(ROWS($A$1:H129)>COUNTIF(Main!$C$8:$C$100,$C$7),\"\",INDEX(Main!I$8:I$100,SMALL(IF(N(Main!I$8:I$100)<>0,IF(Main!$C$8:$C$100=$C$7,ROW(I$8:I$100)-ROW(I$8)+1)),ROWS($A$1:H129))))","v":""},{"$f":"IF(ROWS($A$1:I129)>COUNTIF(Main!$C$8:$C$100,$C$7),\"\",INDEX(Main!J$8:J$100,SMALL(IF(Main!J$8:J$100<>\"\",IF(Main!$C$8:$C$100=$C$7,ROW(J$8:J$100)-ROW(J$8)+1)),ROWS($A$1:I129))))","v":""},"",{"$f":"IF(ROWS($A$1:K129)>COUNTIF(Main!$C$8:$C$100,$C$7),\"\",INDEX(Main!L$8:L$100,SMALL(IF(N(Main!L$8:L$100)<>0,IF(Main!$C$8:$C$100=$C$7,ROW(L$8:L$100)-ROW(L$8)+1)),ROWS($A$1:K129))))","v":""}]
[{"$f":"IF(B137=\"\",\"\",MAX($A$7:A136)+1)","v":""},{"$f":"IF(ROWS($A$1:A130)>COUNTIF(Main!$C$8:$C$100,$C$7),\"\",INDEX(Main!B$8:B$100,SMALL(IF(N(Main!B$8:B$100)<>0,IF(Main!$C$8:$C$100=$C$7,ROW(B$8:B$100)-ROW(B$8)+1)),ROWS($A$1:A130))))","v":""},{"$f":"IF(ROWS($A$1:B130)>COUNTIF(Main!$C$8:$C$100,$C$7),\"\",INDEX(Main!C$8:C$100,SMALL(IF(N(Main!C$8:C$100)<>0,IF(Main!$C$8:$C$100=$C$7,ROW(C$8:C$100)-ROW(C$8)+1)),ROWS($A$1:B130))))","v":""},{"$f":"IF(ROWS($A$1:C130)>COUNTIF(Main!$C$8:$C$100,$C$7),\"\",INDEX(Main!D$8:D$100,SMALL(IF(N(Main!D$8:D$100)<>0,IF(Main!$C$8:$C$100=$C$7,ROW(D$8:D$100)-ROW(D$8)+1)),ROWS($A$1:C130))))","v":""},{"$f":"IF(ROWS($A$1:D130)>COUNTIF(Main!$C$8:$C$100,$C$7),\"\",INDEX(Main!E$8:E$100,SMALL(IF(N(Main!E$8:E$100)<>0,IF(Main!$C$8:$C$100=$C$7,ROW(E$8:E$100)-ROW(E$8)+1)),ROWS($A$1:D130))))","v":""},{"$f":"IF(ROWS($A$1:E130)>COUNTIF(Main!$C$8:$C$100,$C$7),\"\",INDEX(Main!F$8:F$100,SMALL(IF(N(Main!F$8:F$100)<>0,IF(Main!$C$8:$C$100=$C$7,ROW(F$8:F$100)-ROW(F$8)+1)),ROWS($A$1:E130))))","v":""},{"$f":"IF(ROWS($A$1:F130)>COUNTIF(Main!$C$8:$C$100,$C$7),\"\",INDEX(Main!G$8:G$100,SMALL(IF(N(Main!G$8:G$100)<>0,IF(Main!$C$8:$C$100=$C$7,ROW(G$8:G$100)-ROW(G$8)+1)),ROWS($A$1:F130))))","v":""},{"$f":"IF(ROWS($A$1:G130)>COUNTIF(Main!$C$8:$C$100,$C$7),\"\",INDEX(Main!H$8:H$100,SMALL(IF(N(Main!H$8:H$100)<>0,IF(Main!$C$8:$C$100=$C$7,ROW(H$8:H$100)-ROW(H$8)+1)),ROWS($A$1:G130))))","v":""},{"$f":"IF(ROWS($A$1:H130)>COUNTIF(Main!$C$8:$C$100,$C$7),\"\",INDEX(Main!I$8:I$100,SMALL(IF(N(Main!I$8:I$100)<>0,IF(Main!$C$8:$C$100=$C$7,ROW(I$8:I$100)-ROW(I$8)+1)),ROWS($A$1:H130))))","v":""},{"$f":"IF(ROWS($A$1:I130)>COUNTIF(Main!$C$8:$C$100,$C$7),\"\",INDEX(Main!J$8:J$100,SMALL(IF(Main!J$8:J$100<>\"\",IF(Main!$C$8:$C$100=$C$7,ROW(J$8:J$100)-ROW(J$8)+1)),ROWS($A$1:I130))))","v":""},"",{"$f":"IF(ROWS($A$1:K130)>COUNTIF(Main!$C$8:$C$100,$C$7),\"\",INDEX(Main!L$8:L$100,SMALL(IF(N(Main!L$8:L$100)<>0,IF(Main!$C$8:$C$100=$C$7,ROW(L$8:L$100)-ROW(L$8)+1)),ROWS($A$1:K130))))","v":""}]
[{"$f":"IF(B138=\"\",\"\",MAX($A$7:A137)+1)","v":""},{"$f":"IF(ROWS($A$1:A131)>COUNTIF(Main!$C$8:$C$100,$C$7),\"\",INDEX(Main!B$8:B$100,SMALL(IF(N(Main!B$8:B$100)<>0,IF(Main!$C$8:$C$100=$C$7,ROW(B$8:B$100)-ROW(B$8)+1)),ROWS($A$1:A131))))","v":""},{"$f":"IF(ROWS($A$1:B131)>COUNTIF(Main!$C$8:$C$100,$C$7),\"\",INDEX(Main!C$8:C$100,SMALL(IF(N(Main!C$8:C$100)<>0,IF(Main!$C$8:$C$100=$C$7,ROW(C$8:C$100)-ROW(C$8)+1)),ROWS($A$1:B131))))","v":""},{"$f":"IF(ROWS($A$1:C131)>COUNTIF(Main!$C$8:$C$100,$C$7),\"\",INDEX(Main!D$8:D$100,SMALL(IF(N(Main!D$8:D$100)<>0,IF(Main!$C$8:$C$100=$C$7,ROW(D$8:D$100)-ROW(D$8)+1)),ROWS($A$1:C131))))","v":""},{"$f":"IF(ROWS($A$1:D131)>COUNTIF(Main!$C$8:$C$100,$C$7),\"\",INDEX(Main!E$8:E$100,SMALL(IF(N(Main!E$8:E$100)<>0,IF(Main!$C$8:$C$100=$C$7,ROW(E$8:E$100)-ROW(E$8)+1)),ROWS($A$1:D131))))","v":""},{"$f":"IF(ROWS($A$1:E131)>COUNTIF(Main!$C$8:$C$100,$C$7),\"\",INDEX(Main!F$8:F$100,SMALL(IF(N(Main!F$8:F$100)<>0,IF(Main!$C$8:$C$100=$C$7,ROW(F$8:F$100)-ROW(F$8)+1)),ROWS($A$1:E131))))","v":""},{"$f":"IF(ROWS($A$1:F131)>COUNTIF(Main!$C$8:$C$100,$C$7),\"\",INDEX(Main!G$8:G$100,SMALL(IF(N(Main!G$8:G$100)<>0,IF(Main!$C$8:$C$100=$C$7,ROW(G$8:G$100)-ROW(G$8)+1)),ROWS($A$1:F131))))","v":""},{"$f":"IF(ROWS($A$1:G131)>COUNTIF(Main!$C$8:$C$100,$C$7),\"\",INDEX(Main!H$8:H$100,SMALL(IF(N(Main!H$8:H$100)<>0,IF(Main!$C$8:$C$100=$C$7,ROW(H$8:H$100)-ROW(H$8)+1)),ROWS($A$1:G131))))","v":""},{"$f":"IF(ROWS($A$1:H131)>COUNTIF(Main!$C$8:$C$100,$C$7),\"\",INDEX(Main!I$8:I$100,SMALL(IF(N(Main!I$8:I$100)<>0,IF(Main!$C$8:$C$100=$C$7,ROW(I$8:I$100)-ROW(I$8)+1)),ROWS($A$1:H131))))","v":""},{"$f":"IF(ROWS($A$1:I131)>COUNTIF(Main!$C$8:$C$100,$C$7),\"\",INDEX(Main!J$8:J$100,SMALL(IF(Main!J$8:J$100<>\"\",IF(Main!$C$8:$C$100=$C$7,ROW(J$8:J$100)-ROW(J$8)+1)),ROWS($A$1:I131))))","v":""},"",{"$f":"IF(ROWS($A$1:K131)>COUNTIF(Main!$C$8:$C$100,$C$7),\"\",INDEX(Main!L$8:L$100,SMALL(IF(N(Main!L$8:L$100)<>0,IF(Main!$C$8:$C$100=$C$7,ROW(L$8:L$100)-ROW(L$8)+1)),ROWS($A$1:K131))))","v":""}]
[{"$f":"IF(B139=\"\",\"\",MAX($A$7:A138)+1)","v":""},{"$f":"IF(ROWS($A$1:A132)>COUNTIF(Main!$C$8:$C$100,$C$7),\"\",INDEX(Main!B$8:B$100,SMALL(IF(N(Main!B$8:B$100)<>0,IF(Main!$C$8:$C$100=$C$7,ROW(B$8:B$100)-ROW(B$8)+1)),ROWS($A$1:A132))))","v":""},{"$f":"IF(ROWS($A$1:B132)>COUNTIF(Main!$C$8:$C$100,$C$7),\"\",INDEX(Main!C$8:C$100,SMALL(IF(N(Main!C$8:C$100)<>0,IF(Main!$C$8:$C$100=$C$7,ROW(C$8:C$100)-ROW(C$8)+1)),ROWS($A$1:B132))))","v":""},{"$f":"IF(ROWS($A$1:C132)>COUNTIF(Main!$C$8:$C$100,$C$7),\"\",INDEX(Main!D$8:D$100,SMALL(IF(N(Main!D$8:D$100)<>0,IF(Main!$C$8:$C$100=$C$7,ROW(D$8:D$100)-ROW(D$8)+1)),ROWS($A$1:C132))))","v":""},{"$f":"IF(ROWS($A$1:D132)>COUNTIF(Main!$C$8:$C$100,$C$7),\"\",INDEX(Main!E$8:E$100,SMALL(IF(N(Main!E$8:E$100)<>0,IF(Main!$C$8:$C$100=$C$7,ROW(E$8:E$100)-ROW(E$8)+1)),ROWS($A$1:D132))))","v":""},{"$f":"IF(ROWS($A$1:E132)>COUNTIF(Main!$C$8:$C$100,$C$7),\"\",INDEX(Main!F$8:F$100,SMALL(IF(N(Main!F$8:F$100)<>0,IF(Main!$C$8:$C$100=$C$7,ROW(F$8:F$100)-ROW(F$8)+1)),ROWS($A$1:E132))))","v":""},{"$f":"IF(ROWS($A$1:F132)>COUNTIF(Main!$C$8:$C$100,$C$7),\"\",INDEX(Main!G$8:G$100,SMALL(IF(N(Main!G$8:G$100)<>0,IF(Main!$C$8:$C$100=$C$7,ROW(G$8:G$100)-ROW(G$8)+1)),ROWS($A$1:F132))))","v":""},{"$f":"IF(ROWS($A$1:G132)>COUNTIF(Main!$C$8:$C$100,$C$7),\"\",INDEX(Main!H$8:H$100,SMALL(IF(N(Main!H$8:H$100)<>0,IF(Main!$C$8:$C$100=$C$7,ROW(H$8:H$100)-ROW(H$8)+1)),ROWS($A$1:G132))))","v":""},{"$f":"IF(ROWS($A$1:H132)>COUNTIF(Main!$C$8:$C$100,$C$7),\"\",INDEX(Main!I$8:I$100,SMALL(IF(N(Main!I$8:I$100)<>0,IF(Main!$C$8:$C$100=$C$7,ROW(I$8:I$100)-ROW(I$8)+1)),ROWS($A$1:H132))))","v":""},{"$f":"IF(ROWS($A$1:I132)>COUNTIF(Main!$C$8:$C$100,$C$7),\"\",INDEX(Main!J$8:J$100,SMALL(IF(Main!J$8:J$100<>\"\",IF(Main!$C$8:$C$100=$C$7,ROW(J$8:J$100)-ROW(J$8)+1)),ROWS($A$1:I132))))","v":""},"",{"$f":"IF(ROWS($A$1:K132)>COUNTIF(Main!$C$8:$C$100,$C$7),\"\",INDEX(Main!L$8:L$100,SMALL(IF(N(Main!L$8:L$100)<>0,IF(Main!$C$8:$C$100=$C$7,ROW(L$8:L$100)-ROW(L$8)+1)),ROWS($A$1:K132))))","v":""}]
[{"$f":"IF(B140=\"\",\"\",MAX($A$7:A139)+1)","v":""},{"$f":"IF(ROWS($A$1:A133)>COUNTIF(Main!$C$8:$C$100,$C$7),\"\",INDEX(Main!B$8:B$100,SMALL(IF(N(Main!B$8:B$100)<>0,IF(Main!$C$8:$C$100=$C$7,ROW(B$8:B$100)-ROW(B$8)+1)),ROWS($A$1:A133))))","v":""},{"$f":"IF(ROWS($A$1:B133)>COUNTIF(Main!$C$8:$C$100,$C$7),\"\",INDEX(Main!C$8:C$100,SMALL(IF(N(Main!C$8:C$100)<>0,IF(Main!$C$8:$C$100=$C$7,ROW(C$8:C$100)-ROW(C$8)+1)),ROWS($A$1:B133))))","v":""},{"$f":"IF(ROWS($A$1:C133)>COUNTIF(Main!$C$8:$C$100,$C$7),\"\",INDEX(Main!D$8:D$100,SMALL(IF(N(Main!D$8:D$100)<>0,IF(Main!$C$8:$C$100=$C$7,ROW(D$8:D$100)-ROW(D$8)+1)),ROWS($A$1:C133))))","v":""},{"$f":"IF(ROWS($A$1:D133)>COUNTIF(Main!$C$8:$C$100,$C$7),\"\",INDEX(Main!E$8:E$100,SMALL(IF(N(Main!E$8:E$100)<>0,IF(Main!$C$8:$C$100=$C$7,ROW(E$8:E$100)-ROW(E$8)+1)),ROWS($A$1:D133))))","v":""},{"$f":"IF(ROWS($A$1:E133)>COUNTIF(Main!$C$8:$C$100,$C$7),\"\",INDEX(Main!F$8:F$100,SMALL(IF(N(Main!F$8:F$100)<>0,IF(Main!$C$8:$C$100=$C$7,ROW(F$8:F$100)-ROW(F$8)+1)),ROWS($A$1:E133))))","v":""},{"$f":"IF(ROWS($A$1:F133)>COUNTIF(Main!$C$8:$C$100,$C$7),\"\",INDEX(Main!G$8:G$100,SMALL(IF(N(Main!G$8:G$100)<>0,IF(Main!$C$8:$C$100=$C$7,ROW(G$8:G$100)-ROW(G$8)+1)),ROWS($A$1:F133))))","v":""},{"$f":"IF(ROWS($A$1:G133)>COUNTIF(Main!$C$8:$C$100,$C$7),\"\",INDEX(Main!H$8:H$100,SMALL(IF(N(Main!H$8:H$100)<>0,IF(Main!$C$8:$C$100=$C$7,ROW(H$8:H$100)-ROW(H$8)+1)),ROWS($A$1:G133))))","v":""},{"$f":"IF(ROWS($A$1:H133)>COUNTIF(Main!$C$8:$C$100,$C$7),\"\",INDEX(Main!I$8:I$100,SMALL(IF(N(Main!I$8:I$100)<>0,IF(Main!$C$8:$C$100=$C$7,ROW(I$8:I$100)-ROW(I$8)+1)),ROWS($A$1:H133))))","v":""},{"$f":"IF(ROWS($A$1:I133)>COUNTIF(Main!$C$8:$C$100,$C$7),\"\",INDEX(Main!J$8:J$100,SMALL(IF(Main!J$8:J$100<>\"\",IF(Main!$C$8:$C$100=$C$7,ROW(J$8:J$100)-ROW(J$8)+1)),ROWS($A$1:I133))))","v":""},"",{"$f":"IF(ROWS($A$1:K133)>COUNTIF(Main!$C$8:$C$100,$C$7),\"\",INDEX(Main!L$8:L$100,SMALL(IF(N(Main!L$8:L$100)<>0,IF(Main!$C$8:$C$100=$C$7,ROW(L$8:L$100)-ROW(L$8)+1)),ROWS($A$1:K133))))","v":""}]
[{"$f":"IF(B141=\"\",\"\",MAX($A$7:A140)+1)","v":""},{"$f":"IF(ROWS($A$1:A134)>COUNTIF(Main!$C$8:$C$100,$C$7),\"\",INDEX(Main!B$8:B$100,SMALL(IF(N(Main!B$8:B$100)<>0,IF(Main!$C$8:$C$100=$C$7,ROW(B$8:B$100)-ROW(B$8)+1)),ROWS($A$1:A134))))","v":""},{"$f":"IF(ROWS($A$1:B134)>COUNTIF(Main!$C$8:$C$100,$C$7),\"\",INDEX(Main!C$8:C$100,SMALL(IF(N(Main!C$8:C$100)<>0,IF(Main!$C$8:$C$100=$C$7,ROW(C$8:C$100)-ROW(C$8)+1)),ROWS($A$1:B134))))","v":""},{"$f":"IF(ROWS($A$1:C134)>COUNTIF(Main!$C$8:$C$100,$C$7),\"\",INDEX(Main!D$8:D$100,SMALL(IF(N(Main!D$8:D$100)<>0,IF(Main!$C$8:$C$100=$C$7,ROW(D$8:D$100)-ROW(D$8)+1)),ROWS($A$1:C134))))","v":""},{"$f":"IF(ROWS($A$1:D134)>COUNTIF(Main!$C$8:$C$100,$C$7),\"\",INDEX(Main!E$8:E$100,SMALL(IF(N(Main!E$8:E$100)<>0,IF(Main!$C$8:$C$100=$C$7,ROW(E$8:E$100)-ROW(E$8)+1)),ROWS($A$1:D134))))","v":""},{"$f":"IF(ROWS($A$1:E134)>COUNTIF(Main!$C$8:$C$100,$C$7),\"\",INDEX(Main!F$8:F$100,SMALL(IF(N(Main!F$8:F$100)<>0,IF(Main!$C$8:$C$100=$C$7,ROW(F$8:F$100)-ROW(F$8)+1)),ROWS($A$1:E134))))","v":""},{"$f":"IF(ROWS($A$1:F134)>COUNTIF(Main!$C$8:$C$100,$C$7),\"\",INDEX(Main!G$8:G$100,SMALL(IF(N(Main!G$8:G$100)<>0,IF(Main!$C$8:$C$100=$C$7,ROW(G$8:G$100)-ROW(G$8)+1)),ROWS($A$1:F134))))","v":""},{"$f":"IF(ROWS($A$1:G134)>COUNTIF(Main!$C$8:$C$100,$C$7),\"\",INDEX(Main!H$8:H$100,SMALL(IF(N(Main!H$8:H$100)<>0,IF(Main!$C$8:$C$100=$C$7,ROW(H$8:H$100)-ROW(H$8)+1)),ROWS($A$1:G134))))","v":""},{"$f":"IF(ROWS($A$1:H134)>COUNTIF(Main!$C$8:$C$100,$C$7),\"\",INDEX(Main!I$8:I$100,SMALL(IF(N(Main!I$8:I$100)<>0,IF(Main!$C$8:$C$100=$C$7,ROW(I$8:I$100)-ROW(I$8)+1)),ROWS($A$1:H134))))","v":""},{"$f":"IF(ROWS($A$1:I134)>COUNTIF(Main!$C$8:$C$100,$C$7),\"\",INDEX(Main!J$8:J$100,SMALL(IF(Main!J$8:J$100<>\"\",IF(Main!$C$8:$C$100=$C$7,ROW(J$8:J$100)-ROW(J$8)+1)),ROWS($A$1:I134))))","v":""},"",{"$f":"IF(ROWS($A$1:K134)>COUNTIF(Main!$C$8:$C$100,$C$7),\"\",INDEX(Main!L$8:L$100,SMALL(IF(N(Main!L$8:L$100)<>0,IF(Main!$C$8:$C$100=$C$7,ROW(L$8:L$100)-ROW(L$8)+1)),ROWS($A$1:K134))))","v":""}]
[{"$f":"IF(B142=\"\",\"\",MAX($A$7:A141)+1)","v":""},{"$f":"IF(ROWS($A$1:A135)>COUNTIF(Main!$C$8:$C$100,$C$7),\"\",INDEX(Main!B$8:B$100,SMALL(IF(N(Main!B$8:B$100)<>0,IF(Main!$C$8:$C$100=$C$7,ROW(B$8:B$100)-ROW(B$8)+1)),ROWS($A$1:A135))))","v":""},{"$f":"IF(ROWS($A$1:B135)>COUNTIF(Main!$C$8:$C$100,$C$7),\"\",INDEX(Main!C$8:C$100,SMALL(IF(N(Main!C$8:C$100)<>0,IF(Main!$C$8:$C$100=$C$7,ROW(C$8:C$100)-ROW(C$8)+1)),ROWS($A$1:B135))))","v":""},{"$f":"IF(ROWS($A$1:C135)>COUNTIF(Main!$C$8:$C$100,$C$7),\"\",INDEX(Main!D$8:D$100,SMALL(IF(N(Main!D$8:D$100)<>0,IF(Main!$C$8:$C$100=$C$7,ROW(D$8:D$100)-ROW(D$8)+1)),ROWS($A$1:C135))))","v":""},{"$f":"IF(ROWS($A$1:D135)>COUNTIF(Main!$C$8:$C$100,$C$7),\"\",INDEX(Main!E$8:E$100,SMALL(IF(N(Main!E$8:E$100)<>0,IF(Main!$C$8:$C$100=$C$7,ROW(E$8:E$100)-ROW(E$8)+1)),ROWS($A$1:D135))))","v":""},{"$f":"IF(ROWS($A$1:E135)>COUNTIF(Main!$C$8:$C$100,$C$7),\"\",INDEX(Main!F$8:F$100,SMALL(IF(N(Main!F$8:F$100)<>0,IF(Main!$C$8:$C$100=$C$7,ROW(F$8:F$100)-ROW(F$8)+1)),ROWS($A$1:E135))))","v":""},{"$f":"IF(ROWS($A$1:F135)>COUNTIF(Main!$C$8:$C$100,$C$7),\"\",INDEX(Main!G$8:G$100,SMALL(IF(N(Main!G$8:G$100)<>0,IF(Main!$C$8:$C$100=$C$7,ROW(G$8:G$100)-ROW(G$8)+1)),ROWS($A$1:F135))))","v":""},{"$f":"IF(ROWS($A$1:G135)>COUNTIF(Main!$C$8:$C$100,$C$7),\"\",INDEX(Main!H$8:H$100,SMALL(IF(N(Main!H$8:H$100)<>0,IF(Main!$C$8:$C$100=$C$7,ROW(H$8:H$100)-ROW(H$8)+1)),ROWS($A$1:G135))))","v":""},{"$f":"IF(ROWS($A$1:H135)>COUNTIF(Main!$C$8:$C$100,$C$7),\"\",INDEX(Main!I$8:I$100,SMALL(IF(N(Main!I$8:I$100)<>0,IF(Main!$C$8:$C$100=$C$7,ROW(I$8:I$100)-ROW(I$8)+1)),ROWS($A$1:H135))))","v":""},{"$f":"IF(ROWS($A$1:I135)>COUNTIF(Main!$C$8:$C$100,$C$7),\"\",INDEX(Main!J$8:J$100,SMALL(IF(Main!J$8:J$100<>\"\",IF(Main!$C$8:$C$100=$C$7,ROW(J$8:J$100)-ROW(J$8)+1)),ROWS($A$1:I135))))","v":""},"",{"$f":"IF(ROWS($A$1:K135)>COUNTIF(Main!$C$8:$C$100,$C$7),\"\",INDEX(Main!L$8:L$100,SMALL(IF(N(Main!L$8:L$100)<>0,IF(Main!$C$8:$C$100=$C$7,ROW(L$8:L$100)-ROW(L$8)+1)),ROWS($A$1:K135))))","v":""}]
[{"$f":"IF(B143=\"\",\"\",MAX($A$7:A142)+1)","v":""},{"$f":"IF(ROWS($A$1:A136)>COUNTIF(Main!$C$8:$C$100,$C$7),\"\",INDEX(Main!B$8:B$100,SMALL(IF(N(Main!B$8:B$100)<>0,IF(Main!$C$8:$C$100=$C$7,ROW(B$8:B$100)-ROW(B$8)+1)),ROWS($A$1:A136))))","v":""},{"$f":"IF(ROWS($A$1:B136)>COUNTIF(Main!$C$8:$C$100,$C$7),\"\",INDEX(Main!C$8:C$100,SMALL(IF(N(Main!C$8:C$100)<>0,IF(Main!$C$8:$C$100=$C$7,ROW(C$8:C$100)-ROW(C$8)+1)),ROWS($A$1:B136))))","v":""},{"$f":"IF(ROWS($A$1:C136)>COUNTIF(Main!$C$8:$C$100,$C$7),\"\",INDEX(Main!D$8:D$100,SMALL(IF(N(Main!D$8:D$100)<>0,IF(Main!$C$8:$C$100=$C$7,ROW(D$8:D$100)-ROW(D$8)+1)),ROWS($A$1:C136))))","v":""},{"$f":"IF(ROWS($A$1:D136)>COUNTIF(Main!$C$8:$C$100,$C$7),\"\",INDEX(Main!E$8:E$100,SMALL(IF(N(Main!E$8:E$100)<>0,IF(Main!$C$8:$C$100=$C$7,ROW(E$8:E$100)-ROW(E$8)+1)),ROWS($A$1:D136))))","v":""},{"$f":"IF(ROWS($A$1:E136)>COUNTIF(Main!$C$8:$C$100,$C$7),\"\",INDEX(Main!F$8:F$100,SMALL(IF(N(Main!F$8:F$100)<>0,IF(Main!$C$8:$C$100=$C$7,ROW(F$8:F$100)-ROW(F$8)+1)),ROWS($A$1:E136))))","v":""},{"$f":"IF(ROWS($A$1:F136)>COUNTIF(Main!$C$8:$C$100,$C$7),\"\",INDEX(Main!G$8:G$100,SMALL(IF(N(Main!G$8:G$100)<>0,IF(Main!$C$8:$C$100=$C$7,ROW(G$8:G$100)-ROW(G$8)+1)),ROWS($A$1:F136))))","v":""},{"$f":"IF(ROWS($A$1:G136)>COUNTIF(Main!$C$8:$C$100,$C$7),\"\",INDEX(Main!H$8:H$100,SMALL(IF(N(Main!H$8:H$100)<>0,IF(Main!$C$8:$C$100=$C$7,ROW(H$8:H$100)-ROW(H$8)+1)),ROWS($A$1:G136))))","v":""},{"$f":"IF(ROWS($A$1:H136)>COUNTIF(Main!$C$8:$C$100,$C$7),\"\",INDEX(Main!I$8:I$100,SMALL(IF(N(Main!I$8:I$100)<>0,IF(Main!$C$8:$C$100=$C$7,ROW(I$8:I$100)-ROW(I$8)+1)),ROWS($A$1:H136))))","v":""},{"$f":"IF(ROWS($A$1:I136)>COUNTIF(Main!$C$8:$C$100,$C$7),\"\",INDEX(Main!J$8:J$100,SMALL(IF(Main!J$8:J$100<>\"\",IF(Main!$C$8:$C$100=$C$7,ROW(J$8:J$100)-ROW(J$8)+1)),ROWS($A$1:I136))))","v":""},"",{"$f":"IF(ROWS($A$1:K136)>COUNTIF(Main!$C$8:$C$100,$C$7),\"\",INDEX(Main!L$8:L$100,SMALL(IF(N(Main!L$8:L$100)<>0,IF(Main!$C$8:$C$100=$C$7,ROW(L$8:L$100)-ROW(L$8)+1)),ROWS($A$1:K136))))","v":""}]
[{"$f":"IF(B144=\"\",\"\",MAX($A$7:A143)+1)","v":""},{"$f":"IF(ROWS($A$1:A137)>COUNTIF(Main!$C$8:$C$100,$C$7),\"\",INDEX(Main!B$8:B$100,SMALL(IF(N(Main!B$8:B$100)<>0,IF(Main!$C$8:$C$100=$C$7,ROW(B$8:B$100)-ROW(B$8)+1)),ROWS($A$1:A137))))","v":""},{"$f":"IF(ROWS($A$1:B137)>COUNTIF(Main!$C$8:$C$100,$C$7),\"\",INDEX(Main!C$8:C$100,SMALL(IF(N(Main!C$8:C$100)<>0,IF(Main!$C$8:$C$100=$C$7,ROW(C$8:C$100)-ROW(C$8)+1)),ROWS($A$1:B137))))","v":""},{"$f":"IF(ROWS($A$1:C137)>COUNTIF(Main!$C$8:$C$100,$C$7),\"\",INDEX(Main!D$8:D$100,SMALL(IF(N(Main!D$8:D$100)<>0,IF(Main!$C$8:$C$100=$C$7,ROW(D$8:D$100)-ROW(D$8)+1)),ROWS($A$1:C137))))","v":""},{"$f":"IF(ROWS($A$1:D137)>COUNTIF(Main!$C$8:$C$100,$C$7),\"\",INDEX(Main!E$8:E$100,SMALL(IF(N(Main!E$8:E$100)<>0,IF(Main!$C$8:$C$100=$C$7,ROW(E$8:E$100)-ROW(E$8)+1)),ROWS($A$1:D137))))","v":""},{"$f":"IF(ROWS($A$1:E137)>COUNTIF(Main!$C$8:$C$100,$C$7),\"\",INDEX(Main!F$8:F$100,SMALL(IF(N(Main!F$8:F$100)<>0,IF(Main!$C$8:$C$100=$C$7,ROW(F$8:F$100)-ROW(F$8)+1)),ROWS($A$1:E137))))","v":""},{"$f":"IF(ROWS($A$1:F137)>COUNTIF(Main!$C$8:$C$100,$C$7),\"\",INDEX(Main!G$8:G$100,SMALL(IF(N(Main!G$8:G$100)<>0,IF(Main!$C$8:$C$100=$C$7,ROW(G$8:G$100)-ROW(G$8)+1)),ROWS($A$1:F137))))","v":""},{"$f":"IF(ROWS($A$1:G137)>COUNTIF(Main!$C$8:$C$100,$C$7),\"\",INDEX(Main!H$8:H$100,SMALL(IF(N(Main!H$8:H$100)<>0,IF(Main!$C$8:$C$100=$C$7,ROW(H$8:H$100)-ROW(H$8)+1)),ROWS($A$1:G137))))","v":""},{"$f":"IF(ROWS($A$1:H137)>COUNTIF(Main!$C$8:$C$100,$C$7),\"\",INDEX(Main!I$8:I$100,SMALL(IF(N(Main!I$8:I$100)<>0,IF(Main!$C$8:$C$100=$C$7,ROW(I$8:I$100)-ROW(I$8)+1)),ROWS($A$1:H137))))","v":""},{"$f":"IF(ROWS($A$1:I137)>COUNTIF(Main!$C$8:$C$100,$C$7),\"\",INDEX(Main!J$8:J$100,SMALL(IF(Main!J$8:J$100<>\"\",IF(Main!$C$8:$C$100=$C$7,ROW(J$8:J$100)-ROW(J$8)+1)),ROWS($A$1:I137))))","v":""},"",{"$f":"IF(ROWS($A$1:K137)>COUNTIF(Main!$C$8:$C$100,$C$7),\"\",INDEX(Main!L$8:L$100,SMALL(IF(N(Main!L$8:L$100)<>0,IF(Main!$C$8:$C$100=$C$7,ROW(L$8:L$100)-ROW(L$8)+1)),ROWS($A$1:K137))))","v":""}]
[{"$f":"IF(B145=\"\",\"\",MAX($A$7:A144)+1)","v":""},{"$f":"IF(ROWS($A$1:A138)>COUNTIF(Main!$C$8:$C$100,$C$7),\"\",INDEX(Main!B$8:B$100,SMALL(IF(N(Main!B$8:B$100)<>0,IF(Main!$C$8:$C$100=$C$7,ROW(B$8:B$100)-ROW(B$8)+1)),ROWS($A$1:A138))))","v":""},{"$f":"IF(ROWS($A$1:B138)>COUNTIF(Main!$C$8:$C$100,$C$7),\"\",INDEX(Main!C$8:C$100,SMALL(IF(N(Main!C$8:C$100)<>0,IF(Main!$C$8:$C$100=$C$7,ROW(C$8:C$100)-ROW(C$8)+1)),ROWS($A$1:B138))))","v":""},{"$f":"IF(ROWS($A$1:C138)>COUNTIF(Main!$C$8:$C$100,$C$7),\"\",INDEX(Main!D$8:D$100,SMALL(IF(N(Main!D$8:D$100)<>0,IF(Main!$C$8:$C$100=$C$7,ROW(D$8:D$100)-ROW(D$8)+1)),ROWS($A$1:C138))))","v":""},{"$f":"IF(ROWS($A$1:D138)>COUNTIF(Main!$C$8:$C$100,$C$7),\"\",INDEX(Main!E$8:E$100,SMALL(IF(N(Main!E$8:E$100)<>0,IF(Main!$C$8:$C$100=$C$7,ROW(E$8:E$100)-ROW(E$8)+1)),ROWS($A$1:D138))))","v":""},{"$f":"IF(ROWS($A$1:E138)>COUNTIF(Main!$C$8:$C$100,$C$7),\"\",INDEX(Main!F$8:F$100,SMALL(IF(N(Main!F$8:F$100)<>0,IF(Main!$C$8:$C$100=$C$7,ROW(F$8:F$100)-ROW(F$8)+1)),ROWS($A$1:E138))))","v":""},{"$f":"IF(ROWS($A$1:F138)>COUNTIF(Main!$C$8:$C$100,$C$7),\"\",INDEX(Main!G$8:G$100,SMALL(IF(N(Main!G$8:G$100)<>0,IF(Main!$C$8:$C$100=$C$7,ROW(G$8:G$100)-ROW(G$8)+1)),ROWS($A$1:F138))))","v":""},{"$f":"IF(ROWS($A$1:G138)>COUNTIF(Main!$C$8:$C$100,$C$7),\"\",INDEX(Main!H$8:H$100,SMALL(IF(N(Main!H$8:H$100)<>0,IF(Main!$C$8:$C$100=$C$7,ROW(H$8:H$100)-ROW(H$8)+1)),ROWS($A$1:G138))))","v":""},{"$f":"IF(ROWS($A$1:H138)>COUNTIF(Main!$C$8:$C$100,$C$7),\"\",INDEX(Main!I$8:I$100,SMALL(IF(N(Main!I$8:I$100)<>0,IF(Main!$C$8:$C$100=$C$7,ROW(I$8:I$100)-ROW(I$8)+1)),ROWS($A$1:H138))))","v":""},{"$f":"IF(ROWS($A$1:I138)>COUNTIF(Main!$C$8:$C$100,$C$7),\"\",INDEX(Main!J$8:J$100,SMALL(IF(Main!J$8:J$100<>\"\",IF(Main!$C$8:$C$100=$C$7,ROW(J$8:J$100)-ROW(J$8)+1)),ROWS($A$1:I138))))","v":""},"",{"$f":"IF(ROWS($A$1:K138)>COUNTIF(Main!$C$8:$C$100,$C$7),\"\",INDEX(Main!L$8:L$100,SMALL(IF(N(Main!L$8:L$100)<>0,IF(Main!$C$8:$C$100=$C$7,ROW(L$8:L$100)-ROW(L$8)+1)),ROWS($A$1:K138))))","v":""}]
[{"$f":"IF(B146=\"\",\"\",MAX($A$7:A145)+1)","v":""},{"$f":"IF(ROWS($A$1:A139)>COUNTIF(Main!$C$8:$C$100,$C$7),\"\",INDEX(Main!B$8:B$100,SMALL(IF(N(Main!B$8:B$100)<>0,IF(Main!$C$8:$C$100=$C$7,ROW(B$8:B$100)-ROW(B$8)+1)),ROWS($A$1:A139))))","v":""},{"$f":"IF(ROWS($A$1:B139)>COUNTIF(Main!$C$8:$C$100,$C$7),\"\",INDEX(Main!C$8:C$100,SMALL(IF(N(Main!C$8:C$100)<>0,IF(Main!$C$8:$C$100=$C$7,ROW(C$8:C$100)-ROW(C$8)+1)),ROWS($A$1:B139))))","v":""},{"$f":"IF(ROWS($A$1:C139)>COUNTIF(Main!$C$8:$C$100,$C$7),\"\",INDEX(Main!D$8:D$100,SMALL(IF(N(Main!D$8:D$100)<>0,IF(Main!$C$8:$C$100=$C$7,ROW(D$8:D$100)-ROW(D$8)+1)),ROWS($A$1:C139))))","v":""},{"$f":"IF(ROWS($A$1:D139)>COUNTIF(Main!$C$8:$C$100,$C$7),\"\",INDEX(Main!E$8:E$100,SMALL(IF(N(Main!E$8:E$100)<>0,IF(Main!$C$8:$C$100=$C$7,ROW(E$8:E$100)-ROW(E$8)+1)),ROWS($A$1:D139))))","v":""},{"$f":"IF(ROWS($A$1:E139)>COUNTIF(Main!$C$8:$C$100,$C$7),\"\",INDEX(Main!F$8:F$100,SMALL(IF(N(Main!F$8:F$100)<>0,IF(Main!$C$8:$C$100=$C$7,ROW(F$8:F$100)-ROW(F$8)+1)),ROWS($A$1:E139))))","v":""},{"$f":"IF(ROWS($A$1:F139)>COUNTIF(Main!$C$8:$C$100,$C$7),\"\",INDEX(Main!G$8:G$100,SMALL(IF(N(Main!G$8:G$100)<>0,IF(Main!$C$8:$C$100=$C$7,ROW(G$8:G$100)-ROW(G$8)+1)),ROWS($A$1:F139))))","v":""},{"$f":"IF(ROWS($A$1:G139)>COUNTIF(Main!$C$8:$C$100,$C$7),\"\",INDEX(Main!H$8:H$100,SMALL(IF(N(Main!H$8:H$100)<>0,IF(Main!$C$8:$C$100=$C$7,ROW(H$8:H$100)-ROW(H$8)+1)),ROWS($A$1:G139))))","v":""},{"$f":"IF(ROWS($A$1:H139)>COUNTIF(Main!$C$8:$C$100,$C$7),\"\",INDEX(Main!I$8:I$100,SMALL(IF(N(Main!I$8:I$100)<>0,IF(Main!$C$8:$C$100=$C$7,ROW(I$8:I$100)-ROW(I$8)+1)),ROWS($A$1:H139))))","v":""},{"$f":"IF(ROWS($A$1:I139)>COUNTIF(Main!$C$8:$C$100,$C$7),\"\",INDEX(Main!J$8:J$100,SMALL(IF(Main!J$8:J$100<>\"\",IF(Main!$C$8:$C$100=$C$7,ROW(J$8:J$100)-ROW(J$8)+1)),ROWS($A$1:I139))))","v":""},"",{"$f":"IF(ROWS($A$1:K139)>COUNTIF(Main!$C$8:$C$100,$C$7),\"\",INDEX(Main!L$8:L$100,SMALL(IF(N(Main!L$8:L$100)<>0,IF(Main!$C$8:$C$100=$C$7,ROW(L$8:L$100)-ROW(L$8)+1)),ROWS($A$1:K139))))","v":""}]
[{"$f":"IF(B147=\"\",\"\",MAX($A$7:A146)+1)","v":""},{"$f":"IF(ROWS($A$1:A140)>COUNTIF(Main!$C$8:$C$100,$C$7),\"\",INDEX(Main!B$8:B$100,SMALL(IF(N(Main!B$8:B$100)<>0,IF(Main!$C$8:$C$100=$C$7,ROW(B$8:B$100)-ROW(B$8)+1)),ROWS($A$1:A140))))","v":""},{"$f":"IF(ROWS($A$1:B140)>COUNTIF(Main!$C$8:$C$100,$C$7),\"\",INDEX(Main!C$8:C$100,SMALL(IF(N(Main!C$8:C$100)<>0,IF(Main!$C$8:$C$100=$C$7,ROW(C$8:C$100)-ROW(C$8)+1)),ROWS($A$1:B140))))","v":""},{"$f":"IF(ROWS($A$1:C140)>COUNTIF(Main!$C$8:$C$100,$C$7),\"\",INDEX(Main!D$8:D$100,SMALL(IF(N(Main!D$8:D$100)<>0,IF(Main!$C$8:$C$100=$C$7,ROW(D$8:D$100)-ROW(D$8)+1)),ROWS($A$1:C140))))","v":""},{"$f":"IF(ROWS($A$1:D140)>COUNTIF(Main!$C$8:$C$100,$C$7),\"\",INDEX(Main!E$8:E$100,SMALL(IF(N(Main!E$8:E$100)<>0,IF(Main!$C$8:$C$100=$C$7,ROW(E$8:E$100)-ROW(E$8)+1)),ROWS($A$1:D140))))","v":""},{"$f":"IF(ROWS($A$1:E140)>COUNTIF(Main!$C$8:$C$100,$C$7),\"\",INDEX(Main!F$8:F$100,SMALL(IF(N(Main!F$8:F$100)<>0,IF(Main!$C$8:$C$100=$C$7,ROW(F$8:F$100)-ROW(F$8)+1)),ROWS($A$1:E140))))","v":""},{"$f":"IF(ROWS($A$1:F140)>COUNTIF(Main!$C$8:$C$100,$C$7),\"\",INDEX(Main!G$8:G$100,SMALL(IF(N(Main!G$8:G$100)<>0,IF(Main!$C$8:$C$100=$C$7,ROW(G$8:G$100)-ROW(G$8)+1)),ROWS($A$1:F140))))","v":""},{"$f":"IF(ROWS($A$1:G140)>COUNTIF(Main!$C$8:$C$100,$C$7),\"\",INDEX(Main!H$8:H$100,SMALL(IF(N(Main!H$8:H$100)<>0,IF(Main!$C$8:$C$100=$C$7,ROW(H$8:H$100)-ROW(H$8)+1)),ROWS($A$1:G140))))","v":""},{"$f":"IF(ROWS($A$1:H140)>COUNTIF(Main!$C$8:$C$100,$C$7),\"\",INDEX(Main!I$8:I$100,SMALL(IF(N(Main!I$8:I$100)<>0,IF(Main!$C$8:$C$100=$C$7,ROW(I$8:I$100)-ROW(I$8)+1)),ROWS($A$1:H140))))","v":""},{"$f":"IF(ROWS($A$1:I140)>COUNTIF(Main!$C$8:$C$100,$C$7),\"\",INDEX(Main!J$8:J$100,SMALL(IF(Main!J$8:J$100<>\"\",IF(Main!$C$8:$C$100=$C$7,ROW(J$8:J$100)-ROW(J$8)+1)),ROWS($A$1:I140))))","v":""},"",{"$f":"IF(ROWS($A$1:K140)>COUNTIF(Main!$C$8:$C$100,$C$7),\"\",INDEX(Main!L$8:L$100,SMALL(IF(N(Main!L$8:L$100)<>0,IF(Main!$C$8:$C$100=$C$7,ROW(L$8:L$100)-ROW(L$8)+1)),ROWS($A$1:K140))))","v":""}]
[{"$f":"IF(B148=\"\",\"\",MAX($A$7:A147)+1)","v":""},{"$f":"IF(ROWS($A$1:A141)>COUNTIF(Main!$C$8:$C$100,$C$7),\"\",INDEX(Main!B$8:B$100,SMALL(IF(N(Main!B$8:B$100)<>0,IF(Main!$C$8:$C$100=$C$7,ROW(B$8:B$100)-ROW(B$8)+1)),ROWS($A$1:A141))))","v":""},{"$f":"IF(ROWS($A$1:B141)>COUNTIF(Main!$C$8:$C$100,$C$7),\"\",INDEX(Main!C$8:C$100,SMALL(IF(N(Main!C$8:C$100)<>0,IF(Main!$C$8:$C$100=$C$7,ROW(C$8:C$100)-ROW(C$8)+1)),ROWS($A$1:B141))))","v":""},{"$f":"IF(ROWS($A$1:C141)>COUNTIF(Main!$C$8:$C$100,$C$7),\"\",INDEX(Main!D$8:D$100,SMALL(IF(N(Main!D$8:D$100)<>0,IF(Main!$C$8:$C$100=$C$7,ROW(D$8:D$100)-ROW(D$8)+1)),ROWS($A$1:C141))))","v":""},{"$f":"IF(ROWS($A$1:D141)>COUNTIF(Main!$C$8:$C$100,$C$7),\"\",INDEX(Main!E$8:E$100,SMALL(IF(N(Main!E$8:E$100)<>0,IF(Main!$C$8:$C$100=$C$7,ROW(E$8:E$100)-ROW(E$8)+1)),ROWS($A$1:D141))))","v":""},{"$f":"IF(ROWS($A$1:E141)>COUNTIF(Main!$C$8:$C$100,$C$7),\"\",INDEX(Main!F$8:F$100,SMALL(IF(N(Main!F$8:F$100)<>0,IF(Main!$C$8:$C$100=$C$7,ROW(F$8:F$100)-ROW(F$8)+1)),ROWS($A$1:E141))))","v":""},{"$f":"IF(ROWS($A$1:F141)>COUNTIF(Main!$C$8:$C$100,$C$7),\"\",INDEX(Main!G$8:G$100,SMALL(IF(N(Main!G$8:G$100)<>0,IF(Main!$C$8:$C$100=$C$7,ROW(G$8:G$100)-ROW(G$8)+1)),ROWS($A$1:F141))))","v":""},{"$f":"IF(ROWS($A$1:G141)>COUNTIF(Main!$C$8:$C$100,$C$7),\"\",INDEX(Main!H$8:H$100,SMALL(IF(N(Main!H$8:H$100)<>0,IF(Main!$C$8:$C$100=$C$7,ROW(H$8:H$100)-ROW(H$8)+1)),ROWS($A$1:G141))))","v":""},{"$f":"IF(ROWS($A$1:H141)>COUNTIF(Main!$C$8:$C$100,$C$7),\"\",INDEX(Main!I$8:I$100,SMALL(IF(N(Main!I$8:I$100)<>0,IF(Main!$C$8:$C$100=$C$7,ROW(I$8:I$100)-ROW(I$8)+1)),ROWS($A$1:H141))))","v":""},{"$f":"IF(ROWS($A$1:I141)>COUNTIF(Main!$C$8:$C$100,$C$7),\"\",INDEX(Main!J$8:J$100,SMALL(IF(Main!J$8:J$100<>\"\",IF(Main!$C$8:$C$100=$C$7,ROW(J$8:J$100)-ROW(J$8)+1)),ROWS($A$1:I141))))","v":""},"",{"$f":"IF(ROWS($A$1:K141)>COUNTIF(Main!$C$8:$C$100,$C$7),\"\",INDEX(Main!L$8:L$100,SMALL(IF(N(Main!L$8:L$100)<>0,IF(Main!$C$8:$C$100=$C$7,ROW(L$8:L$100)-ROW(L$8)+1)),ROWS($A$1:K141))))","v":""}]
[{"$f":"IF(B149=\"\",\"\",MAX($A$7:A148)+1)","v":""},{"$f":"IF(ROWS($A$1:A142)>COUNTIF(Main!$C$8:$C$100,$C$7),\"\",INDEX(Main!B$8:B$100,SMALL(IF(N(Main!B$8:B$100)<>0,IF(Main!$C$8:$C$100=$C$7,ROW(B$8:B$100)-ROW(B$8)+1)),ROWS($A$1:A142))))","v":""},{"$f":"IF(ROWS($A$1:B142)>COUNTIF(Main!$C$8:$C$100,$C$7),\"\",INDEX(Main!C$8:C$100,SMALL(IF(N(Main!C$8:C$100)<>0,IF(Main!$C$8:$C$100=$C$7,ROW(C$8:C$100)-ROW(C$8)+1)),ROWS($A$1:B142))))","v":""},{"$f":"IF(ROWS($A$1:C142)>COUNTIF(Main!$C$8:$C$100,$C$7),\"\",INDEX(Main!D$8:D$100,SMALL(IF(N(Main!D$8:D$100)<>0,IF(Main!$C$8:$C$100=$C$7,ROW(D$8:D$100)-ROW(D$8)+1)),ROWS($A$1:C142))))","v":""},{"$f":"IF(ROWS($A$1:D142)>COUNTIF(Main!$C$8:$C$100,$C$7),\"\",INDEX(Main!E$8:E$100,SMALL(IF(N(Main!E$8:E$100)<>0,IF(Main!$C$8:$C$100=$C$7,ROW(E$8:E$100)-ROW(E$8)+1)),ROWS($A$1:D142))))","v":""},{"$f":"IF(ROWS($A$1:E142)>COUNTIF(Main!$C$8:$C$100,$C$7),\"\",INDEX(Main!F$8:F$100,SMALL(IF(N(Main!F$8:F$100)<>0,IF(Main!$C$8:$C$100=$C$7,ROW(F$8:F$100)-ROW(F$8)+1)),ROWS($A$1:E142))))","v":""},{"$f":"IF(ROWS($A$1:F142)>COUNTIF(Main!$C$8:$C$100,$C$7),\"\",INDEX(Main!G$8:G$100,SMALL(IF(N(Main!G$8:G$100)<>0,IF(Main!$C$8:$C$100=$C$7,ROW(G$8:G$100)-ROW(G$8)+1)),ROWS($A$1:F142))))","v":""},{"$f":"IF(ROWS($A$1:G142)>COUNTIF(Main!$C$8:$C$100,$C$7),\"\",INDEX(Main!H$8:H$100,SMALL(IF(N(Main!H$8:H$100)<>0,IF(Main!$C$8:$C$100=$C$7,ROW(H$8:H$100)-ROW(H$8)+1)),ROWS($A$1:G142))))","v":""},{"$f":"IF(ROWS($A$1:H142)>COUNTIF(Main!$C$8:$C$100,$C$7),\"\",INDEX(Main!I$8:I$100,SMALL(IF(N(Main!I$8:I$100)<>0,IF(Main!$C$8:$C$100=$C$7,ROW(I$8:I$100)-ROW(I$8)+1)),ROWS($A$1:H142))))","v":""},{"$f":"IF(ROWS($A$1:I142)>COUNTIF(Main!$C$8:$C$100,$C$7),\"\",INDEX(Main!J$8:J$100,SMALL(IF(Main!J$8:J$100<>\"\",IF(Main!$C$8:$C$100=$C$7,ROW(J$8:J$100)-ROW(J$8)+1)),ROWS($A$1:I142))))","v":""},"",{"$f":"IF(ROWS($A$1:K142)>COUNTIF(Main!$C$8:$C$100,$C$7),\"\",INDEX(Main!L$8:L$100,SMALL(IF(N(Main!L$8:L$100)<>0,IF(Main!$C$8:$C$100=$C$7,ROW(L$8:L$100)-ROW(L$8)+1)),ROWS($A$1:K142))))","v":""}]
[{"$f":"IF(B150=\"\",\"\",MAX($A$7:A149)+1)","v":""},{"$f":"IF(ROWS($A$1:A143)>COUNTIF(Main!$C$8:$C$100,$C$7),\"\",INDEX(Main!B$8:B$100,SMALL(IF(N(Main!B$8:B$100)<>0,IF(Main!$C$8:$C$100=$C$7,ROW(B$8:B$100)-ROW(B$8)+1)),ROWS($A$1:A143))))","v":""},{"$f":"IF(ROWS($A$1:B143)>COUNTIF(Main!$C$8:$C$100,$C$7),\"\",INDEX(Main!C$8:C$100,SMALL(IF(N(Main!C$8:C$100)<>0,IF(Main!$C$8:$C$100=$C$7,ROW(C$8:C$100)-ROW(C$8)+1)),ROWS($A$1:B143))))","v":""},{"$f":"IF(ROWS($A$1:C143)>COUNTIF(Main!$C$8:$C$100,$C$7),\"\",INDEX(Main!D$8:D$100,SMALL(IF(N(Main!D$8:D$100)<>0,IF(Main!$C$8:$C$100=$C$7,ROW(D$8:D$100)-ROW(D$8)+1)),ROWS($A$1:C143))))","v":""},{"$f":"IF(ROWS($A$1:D143)>COUNTIF(Main!$C$8:$C$100,$C$7),\"\",INDEX(Main!E$8:E$100,SMALL(IF(N(Main!E$8:E$100)<>0,IF(Main!$C$8:$C$100=$C$7,ROW(E$8:E$100)-ROW(E$8)+1)),ROWS($A$1:D143))))","v":""},{"$f":"IF(ROWS($A$1:E143)>COUNTIF(Main!$C$8:$C$100,$C$7),\"\",INDEX(Main!F$8:F$100,SMALL(IF(N(Main!F$8:F$100)<>0,IF(Main!$C$8:$C$100=$C$7,ROW(F$8:F$100)-ROW(F$8)+1)),ROWS($A$1:E143))))","v":""},{"$f":"IF(ROWS($A$1:F143)>COUNTIF(Main!$C$8:$C$100,$C$7),\"\",INDEX(Main!G$8:G$100,SMALL(IF(N(Main!G$8:G$100)<>0,IF(Main!$C$8:$C$100=$C$7,ROW(G$8:G$100)-ROW(G$8)+1)),ROWS($A$1:F143))))","v":""},{"$f":"IF(ROWS($A$1:G143)>COUNTIF(Main!$C$8:$C$100,$C$7),\"\",INDEX(Main!H$8:H$100,SMALL(IF(N(Main!H$8:H$100)<>0,IF(Main!$C$8:$C$100=$C$7,ROW(H$8:H$100)-ROW(H$8)+1)),ROWS($A$1:G143))))","v":""},{"$f":"IF(ROWS($A$1:H143)>COUNTIF(Main!$C$8:$C$100,$C$7),\"\",INDEX(Main!I$8:I$100,SMALL(IF(N(Main!I$8:I$100)<>0,IF(Main!$C$8:$C$100=$C$7,ROW(I$8:I$100)-ROW(I$8)+1)),ROWS($A$1:H143))))","v":""},{"$f":"IF(ROWS($A$1:I143)>COUNTIF(Main!$C$8:$C$100,$C$7),\"\",INDEX(Main!J$8:J$100,SMALL(IF(Main!J$8:J$100<>\"\",IF(Main!$C$8:$C$100=$C$7,ROW(J$8:J$100)-ROW(J$8)+1)),ROWS($A$1:I143))))","v":""},"",{"$f":"IF(ROWS($A$1:K143)>COUNTIF(Main!$C$8:$C$100,$C$7),\"\",INDEX(Main!L$8:L$100,SMALL(IF(N(Main!L$8:L$100)<>0,IF(Main!$C$8:$C$100=$C$7,ROW(L$8:L$100)-ROW(L$8)+1)),ROWS($A$1:K143))))","v":""}]
[{"$f":"IF(B151=\"\",\"\",MAX($A$7:A150)+1)","v":""},{"$f":"IF(ROWS($A$1:A144)>COUNTIF(Main!$C$8:$C$100,$C$7),\"\",INDEX(Main!B$8:B$100,SMALL(IF(N(Main!B$8:B$100)<>0,IF(Main!$C$8:$C$100=$C$7,ROW(B$8:B$100)-ROW(B$8)+1)),ROWS($A$1:A144))))","v":""},{"$f":"IF(ROWS($A$1:B144)>COUNTIF(Main!$C$8:$C$100,$C$7),\"\",INDEX(Main!C$8:C$100,SMALL(IF(N(Main!C$8:C$100)<>0,IF(Main!$C$8:$C$100=$C$7,ROW(C$8:C$100)-ROW(C$8)+1)),ROWS($A$1:B144))))","v":""},{"$f":"IF(ROWS($A$1:C144)>COUNTIF(Main!$C$8:$C$100,$C$7),\"\",INDEX(Main!D$8:D$100,SMALL(IF(N(Main!D$8:D$100)<>0,IF(Main!$C$8:$C$100=$C$7,ROW(D$8:D$100)-ROW(D$8)+1)),ROWS($A$1:C144))))","v":""},{"$f":"IF(ROWS($A$1:D144)>COUNTIF(Main!$C$8:$C$100,$C$7),\"\",INDEX(Main!E$8:E$100,SMALL(IF(N(Main!E$8:E$100)<>0,IF(Main!$C$8:$C$100=$C$7,ROW(E$8:E$100)-ROW(E$8)+1)),ROWS($A$1:D144))))","v":""},{"$f":"IF(ROWS($A$1:E144)>COUNTIF(Main!$C$8:$C$100,$C$7),\"\",INDEX(Main!F$8:F$100,SMALL(IF(N(Main!F$8:F$100)<>0,IF(Main!$C$8:$C$100=$C$7,ROW(F$8:F$100)-ROW(F$8)+1)),ROWS($A$1:E144))))","v":""},{"$f":"IF(ROWS($A$1:F144)>COUNTIF(Main!$C$8:$C$100,$C$7),\"\",INDEX(Main!G$8:G$100,SMALL(IF(N(Main!G$8:G$100)<>0,IF(Main!$C$8:$C$100=$C$7,ROW(G$8:G$100)-ROW(G$8)+1)),ROWS($A$1:F144))))","v":""},{"$f":"IF(ROWS($A$1:G144)>COUNTIF(Main!$C$8:$C$100,$C$7),\"\",INDEX(Main!H$8:H$100,SMALL(IF(N(Main!H$8:H$100)<>0,IF(Main!$C$8:$C$100=$C$7,ROW(H$8:H$100)-ROW(H$8)+1)),ROWS($A$1:G144))))","v":""},{"$f":"IF(ROWS($A$1:H144)>COUNTIF(Main!$C$8:$C$100,$C$7),\"\",INDEX(Main!I$8:I$100,SMALL(IF(N(Main!I$8:I$100)<>0,IF(Main!$C$8:$C$100=$C$7,ROW(I$8:I$100)-ROW(I$8)+1)),ROWS($A$1:H144))))","v":""},{"$f":"IF(ROWS($A$1:I144)>COUNTIF(Main!$C$8:$C$100,$C$7),\"\",INDEX(Main!J$8:J$100,SMALL(IF(Main!J$8:J$100<>\"\",IF(Main!$C$8:$C$100=$C$7,ROW(J$8:J$100)-ROW(J$8)+1)),ROWS($A$1:I144))))","v":""},"",{"$f":"IF(ROWS($A$1:K144)>COUNTIF(Main!$C$8:$C$100,$C$7),\"\",INDEX(Main!L$8:L$100,SMALL(IF(N(Main!L$8:L$100)<>0,IF(Main!$C$8:$C$100=$C$7,ROW(L$8:L$100)-ROW(L$8)+1)),ROWS($A$1:K144))))","v":""}]
[{"$f":"IF(B152=\"\",\"\",MAX($A$7:A151)+1)","v":""},{"$f":"IF(ROWS($A$1:A145)>COUNTIF(Main!$C$8:$C$100,$C$7),\"\",INDEX(Main!B$8:B$100,SMALL(IF(N(Main!B$8:B$100)<>0,IF(Main!$C$8:$C$100=$C$7,ROW(B$8:B$100)-ROW(B$8)+1)),ROWS($A$1:A145))))","v":""},{"$f":"IF(ROWS($A$1:B145)>COUNTIF(Main!$C$8:$C$100,$C$7),\"\",INDEX(Main!C$8:C$100,SMALL(IF(N(Main!C$8:C$100)<>0,IF(Main!$C$8:$C$100=$C$7,ROW(C$8:C$100)-ROW(C$8)+1)),ROWS($A$1:B145))))","v":""},{"$f":"IF(ROWS($A$1:C145)>COUNTIF(Main!$C$8:$C$100,$C$7),\"\",INDEX(Main!D$8:D$100,SMALL(IF(N(Main!D$8:D$100)<>0,IF(Main!$C$8:$C$100=$C$7,ROW(D$8:D$100)-ROW(D$8)+1)),ROWS($A$1:C145))))","v":""},{"$f":"IF(ROWS($A$1:D145)>COUNTIF(Main!$C$8:$C$100,$C$7),\"\",INDEX(Main!E$8:E$100,SMALL(IF(N(Main!E$8:E$100)<>0,IF(Main!$C$8:$C$100=$C$7,ROW(E$8:E$100)-ROW(E$8)+1)),ROWS($A$1:D145))))","v":""},{"$f":"IF(ROWS($A$1:E145)>COUNTIF(Main!$C$8:$C$100,$C$7),\"\",INDEX(Main!F$8:F$100,SMALL(IF(N(Main!F$8:F$100)<>0,IF(Main!$C$8:$C$100=$C$7,ROW(F$8:F$100)-ROW(F$8)+1)),ROWS($A$1:E145))))","v":""},{"$f":"IF(ROWS($A$1:F145)>COUNTIF(Main!$C$8:$C$100,$C$7),\"\",INDEX(Main!G$8:G$100,SMALL(IF(N(Main!G$8:G$100)<>0,IF(Main!$C$8:$C$100=$C$7,ROW(G$8:G$100)-ROW(G$8)+1)),ROWS($A$1:F145))))","v":""},{"$f":"IF(ROWS($A$1:G145)>COUNTIF(Main!$C$8:$C$100,$C$7),\"\",INDEX(Main!H$8:H$100,SMALL(IF(N(Main!H$8:H$100)<>0,IF(Main!$C$8:$C$100=$C$7,ROW(H$8:H$100)-ROW(H$8)+1)),ROWS($A$1:G145))))","v":""},{"$f":"IF(ROWS($A$1:H145)>COUNTIF(Main!$C$8:$C$100,$C$7),\"\",INDEX(Main!I$8:I$100,SMALL(IF(N(Main!I$8:I$100)<>0,IF(Main!$C$8:$C$100=$C$7,ROW(I$8:I$100)-ROW(I$8)+1)),ROWS($A$1:H145))))","v":""},{"$f":"IF(ROWS($A$1:I145)>COUNTIF(Main!$C$8:$C$100,$C$7),\"\",INDEX(Main!J$8:J$100,SMALL(IF(Main!J$8:J$100<>\"\",IF(Main!$C$8:$C$100=$C$7,ROW(J$8:J$100)-ROW(J$8)+1)),ROWS($A$1:I145))))","v":""},"",{"$f":"IF(ROWS($A$1:K145)>COUNTIF(Main!$C$8:$C$100,$C$7),\"\",INDEX(Main!L$8:L$100,SMALL(IF(N(Main!L$8:L$100)<>0,IF(Main!$C$8:$C$100=$C$7,ROW(L$8:L$100)-ROW(L$8)+1)),ROWS($A$1:K145))))","v":""}]
[{"$f":"IF(B153=\"\",\"\",MAX($A$7:A152)+1)","v":""},{"$f":"IF(ROWS($A$1:A146)>COUNTIF(Main!$C$8:$C$100,$C$7),\"\",INDEX(Main!B$8:B$100,SMALL(IF(N(Main!B$8:B$100)<>0,IF(Main!$C$8:$C$100=$C$7,ROW(B$8:B$100)-ROW(B$8)+1)),ROWS($A$1:A146))))","v":""},{"$f":"IF(ROWS($A$1:B146)>COUNTIF(Main!$C$8:$C$100,$C$7),\"\",INDEX(Main!C$8:C$100,SMALL(IF(N(Main!C$8:C$100)<>0,IF(Main!$C$8:$C$100=$C$7,ROW(C$8:C$100)-ROW(C$8)+1)),ROWS($A$1:B146))))","v":""},{"$f":"IF(ROWS($A$1:C146)>COUNTIF(Main!$C$8:$C$100,$C$7),\"\",INDEX(Main!D$8:D$100,SMALL(IF(N(Main!D$8:D$100)<>0,IF(Main!$C$8:$C$100=$C$7,ROW(D$8:D$100)-ROW(D$8)+1)),ROWS($A$1:C146))))","v":""},{"$f":"IF(ROWS($A$1:D146)>COUNTIF(Main!$C$8:$C$100,$C$7),\"\",INDEX(Main!E$8:E$100,SMALL(IF(N(Main!E$8:E$100)<>0,IF(Main!$C$8:$C$100=$C$7,ROW(E$8:E$100)-ROW(E$8)+1)),ROWS($A$1:D146))))","v":""},{"$f":"IF(ROWS($A$1:E146)>COUNTIF(Main!$C$8:$C$100,$C$7),\"\",INDEX(Main!F$8:F$100,SMALL(IF(N(Main!F$8:F$100)<>0,IF(Main!$C$8:$C$100=$C$7,ROW(F$8:F$100)-ROW(F$8)+1)),ROWS($A$1:E146))))","v":""},{"$f":"IF(ROWS($A$1:F146)>COUNTIF(Main!$C$8:$C$100,$C$7),\"\",INDEX(Main!G$8:G$100,SMALL(IF(N(Main!G$8:G$100)<>0,IF(Main!$C$8:$C$100=$C$7,ROW(G$8:G$100)-ROW(G$8)+1)),ROWS($A$1:F146))))","v":""},{"$f":"IF(ROWS($A$1:G146)>COUNTIF(Main!$C$8:$C$100,$C$7),\"\",INDEX(Main!H$8:H$100,SMALL(IF(N(Main!H$8:H$100)<>0,IF(Main!$C$8:$C$100=$C$7,ROW(H$8:H$100)-ROW(H$8)+1)),ROWS($A$1:G146))))","v":""},{"$f":"IF(ROWS($A$1:H146)>COUNTIF(Main!$C$8:$C$100,$C$7),\"\",INDEX(Main!I$8:I$100,SMALL(IF(N(Main!I$8:I$100)<>0,IF(Main!$C$8:$C$100=$C$7,ROW(I$8:I$100)-ROW(I$8)+1)),ROWS($A$1:H146))))","v":""},{"$f":"IF(ROWS($A$1:I146)>COUNTIF(Main!$C$8:$C$100,$C$7),\"\",INDEX(Main!J$8:J$100,SMALL(IF(Main!J$8:J$100<>\"\",IF(Main!$C$8:$C$100=$C$7,ROW(J$8:J$100)-ROW(J$8)+1)),ROWS($A$1:I146))))","v":""},"",{"$f":"IF(ROWS($A$1:K146)>COUNTIF(Main!$C$8:$C$100,$C$7),\"\",INDEX(Main!L$8:L$100,SMALL(IF(N(Main!L$8:L$100)<>0,IF(Main!$C$8:$C$100=$C$7,ROW(L$8:L$100)-ROW(L$8)+1)),ROWS($A$1:K146))))","v":""}]
[{"$f":"IF(B154=\"\",\"\",MAX($A$7:A153)+1)","v":""},{"$f":"IF(ROWS($A$1:A147)>COUNTIF(Main!$C$8:$C$100,$C$7),\"\",INDEX(Main!B$8:B$100,SMALL(IF(N(Main!B$8:B$100)<>0,IF(Main!$C$8:$C$100=$C$7,ROW(B$8:B$100)-ROW(B$8)+1)),ROWS($A$1:A147))))","v":""},{"$f":"IF(ROWS($A$1:B147)>COUNTIF(Main!$C$8:$C$100,$C$7),\"\",INDEX(Main!C$8:C$100,SMALL(IF(N(Main!C$8:C$100)<>0,IF(Main!$C$8:$C$100=$C$7,ROW(C$8:C$100)-ROW(C$8)+1)),ROWS($A$1:B147))))","v":""},{"$f":"IF(ROWS($A$1:C147)>COUNTIF(Main!$C$8:$C$100,$C$7),\"\",INDEX(Main!D$8:D$100,SMALL(IF(N(Main!D$8:D$100)<>0,IF(Main!$C$8:$C$100=$C$7,ROW(D$8:D$100)-ROW(D$8)+1)),ROWS($A$1:C147))))","v":""},{"$f":"IF(ROWS($A$1:D147)>COUNTIF(Main!$C$8:$C$100,$C$7),\"\",INDEX(Main!E$8:E$100,SMALL(IF(N(Main!E$8:E$100)<>0,IF(Main!$C$8:$C$100=$C$7,ROW(E$8:E$100)-ROW(E$8)+1)),ROWS($A$1:D147))))","v":""},{"$f":"IF(ROWS($A$1:E147)>COUNTIF(Main!$C$8:$C$100,$C$7),\"\",INDEX(Main!F$8:F$100,SMALL(IF(N(Main!F$8:F$100)<>0,IF(Main!$C$8:$C$100=$C$7,ROW(F$8:F$100)-ROW(F$8)+1)),ROWS($A$1:E147))))","v":""},{"$f":"IF(ROWS($A$1:F147)>COUNTIF(Main!$C$8:$C$100,$C$7),\"\",INDEX(Main!G$8:G$100,SMALL(IF(N(Main!G$8:G$100)<>0,IF(Main!$C$8:$C$100=$C$7,ROW(G$8:G$100)-ROW(G$8)+1)),ROWS($A$1:F147))))","v":""},{"$f":"IF(ROWS($A$1:G147)>COUNTIF(Main!$C$8:$C$100,$C$7),\"\",INDEX(Main!H$8:H$100,SMALL(IF(N(Main!H$8:H$100)<>0,IF(Main!$C$8:$C$100=$C$7,ROW(H$8:H$100)-ROW(H$8)+1)),ROWS($A$1:G147))))","v":""},{"$f":"IF(ROWS($A$1:H147)>COUNTIF(Main!$C$8:$C$100,$C$7),\"\",INDEX(Main!I$8:I$100,SMALL(IF(N(Main!I$8:I$100)<>0,IF(Main!$C$8:$C$100=$C$7,ROW(I$8:I$100)-ROW(I$8)+1)),ROWS($A$1:H147))))","v":""},{"$f":"IF(ROWS($A$1:I147)>COUNTIF(Main!$C$8:$C$100,$C$7),\"\",INDEX(Main!J$8:J$100,SMALL(IF(Main!J$8:J$100<>\"\",IF(Main!$C$8:$C$100=$C$7,ROW(J$8:J$100)-ROW(J$8)+1)),ROWS($A$1:I147))))","v":""},"",{"$f":"IF(ROWS($A$1:K147)>COUNTIF(Main!$C$8:$C$100,$C$7),\"\",INDEX(Main!L$8:L$100,SMALL(IF(N(Main!L$8:L$100)<>0,IF(Main!$C$8:$C$100=$C$7,ROW(L$8:L$100)-ROW(L$8)+1)),ROWS($A$1:K147))))","v":""}]
[{"$f":"IF(B155=\"\",\"\",MAX($A$7:A154)+1)","v":""},{"$f":"IF(ROWS($A$1:A148)>COUNTIF(Main!$C$8:$C$100,$C$7),\"\",INDEX(Main!B$8:B$100,SMALL(IF(N(Main!B$8:B$100)<>0,IF(Main!$C$8:$C$100=$C$7,ROW(B$8:B$100)-ROW(B$8)+1)),ROWS($A$1:A148))))","v":""},{"$f":"IF(ROWS($A$1:B148)>COUNTIF(Main!$C$8:$C$100,$C$7),\"\",INDEX(Main!C$8:C$100,SMALL(IF(N(Main!C$8:C$100)<>0,IF(Main!$C$8:$C$100=$C$7,ROW(C$8:C$100)-ROW(C$8)+1)),ROWS($A$1:B148))))","v":""},{"$f":"IF(ROWS($A$1:C148)>COUNTIF(Main!$C$8:$C$100,$C$7),\"\",INDEX(Main!D$8:D$100,SMALL(IF(N(Main!D$8:D$100)<>0,IF(Main!$C$8:$C$100=$C$7,ROW(D$8:D$100)-ROW(D$8)+1)),ROWS($A$1:C148))))","v":""},{"$f":"IF(ROWS($A$1:D148)>COUNTIF(Main!$C$8:$C$100,$C$7),\"\",INDEX(Main!E$8:E$100,SMALL(IF(N(Main!E$8:E$100)<>0,IF(Main!$C$8:$C$100=$C$7,ROW(E$8:E$100)-ROW(E$8)+1)),ROWS($A$1:D148))))","v":""},{"$f":"IF(ROWS($A$1:E148)>COUNTIF(Main!$C$8:$C$100,$C$7),\"\",INDEX(Main!F$8:F$100,SMALL(IF(N(Main!F$8:F$100)<>0,IF(Main!$C$8:$C$100=$C$7,ROW(F$8:F$100)-ROW(F$8)+1)),ROWS($A$1:E148))))","v":""},{"$f":"IF(ROWS($A$1:F148)>COUNTIF(Main!$C$8:$C$100,$C$7),\"\",INDEX(Main!G$8:G$100,SMALL(IF(N(Main!G$8:G$100)<>0,IF(Main!$C$8:$C$100=$C$7,ROW(G$8:G$100)-ROW(G$8)+1)),ROWS($A$1:F148))))","v":""},{"$f":"IF(ROWS($A$1:G148)>COUNTIF(Main!$C$8:$C$100,$C$7),\"\",INDEX(Main!H$8:H$100,SMALL(IF(N(Main!H$8:H$100)<>0,IF(Main!$C$8:$C$100=$C$7,ROW(H$8:H$100)-ROW(H$8)+1)),ROWS($A$1:G148))))","v":""},{"$f":"IF(ROWS($A$1:H148)>COUNTIF(Main!$C$8:$C$100,$C$7),\"\",INDEX(Main!I$8:I$100,SMALL(IF(N(Main!I$8:I$100)<>0,IF(Main!$C$8:$C$100=$C$7,ROW(I$8:I$100)-ROW(I$8)+1)),ROWS($A$1:H148))))","v":""},{"$f":"IF(ROWS($A$1:I148)>COUNTIF(Main!$C$8:$C$100,$C$7),\"\",INDEX(Main!J$8:J$100,SMALL(IF(Main!J$8:J$100<>\"\",IF(Main!$C$8:$C$100=$C$7,ROW(J$8:J$100)-ROW(J$8)+1)),ROWS($A$1:I148))))","v":""},"",{"$f":"IF(ROWS($A$1:K148)>COUNTIF(Main!$C$8:$C$100,$C$7),\"\",INDEX(Main!L$8:L$100,SMALL(IF(N(Main!L$8:L$100)<>0,IF(Main!$C$8:$C$100=$C$7,ROW(L$8:L$100)-ROW(L$8)+1)),ROWS($A$1:K148))))","v":""}]
[{"$f":"IF(B156=\"\",\"\",MAX($A$7:A155)+1)","v":""},{"$f":"IF(ROWS($A$1:A149)>COUNTIF(Main!$C$8:$C$100,$C$7),\"\",INDEX(Main!B$8:B$100,SMALL(IF(N(Main!B$8:B$100)<>0,IF(Main!$C$8:$C$100=$C$7,ROW(B$8:B$100)-ROW(B$8)+1)),ROWS($A$1:A149))))","v":""},{"$f":"IF(ROWS($A$1:B149)>COUNTIF(Main!$C$8:$C$100,$C$7),\"\",INDEX(Main!C$8:C$100,SMALL(IF(N(Main!C$8:C$100)<>0,IF(Main!$C$8:$C$100=$C$7,ROW(C$8:C$100)-ROW(C$8)+1)),ROWS($A$1:B149))))","v":""},{"$f":"IF(ROWS($A$1:C149)>COUNTIF(Main!$C$8:$C$100,$C$7),\"\",INDEX(Main!D$8:D$100,SMALL(IF(N(Main!D$8:D$100)<>0,IF(Main!$C$8:$C$100=$C$7,ROW(D$8:D$100)-ROW(D$8)+1)),ROWS($A$1:C149))))","v":""},{"$f":"IF(ROWS($A$1:D149)>COUNTIF(Main!$C$8:$C$100,$C$7),\"\",INDEX(Main!E$8:E$100,SMALL(IF(N(Main!E$8:E$100)<>0,IF(Main!$C$8:$C$100=$C$7,ROW(E$8:E$100)-ROW(E$8)+1)),ROWS($A$1:D149))))","v":""},{"$f":"IF(ROWS($A$1:E149)>COUNTIF(Main!$C$8:$C$100,$C$7),\"\",INDEX(Main!F$8:F$100,SMALL(IF(N(Main!F$8:F$100)<>0,IF(Main!$C$8:$C$100=$C$7,ROW(F$8:F$100)-ROW(F$8)+1)),ROWS($A$1:E149))))","v":""},{"$f":"IF(ROWS($A$1:F149)>COUNTIF(Main!$C$8:$C$100,$C$7),\"\",INDEX(Main!G$8:G$100,SMALL(IF(N(Main!G$8:G$100)<>0,IF(Main!$C$8:$C$100=$C$7,ROW(G$8:G$100)-ROW(G$8)+1)),ROWS($A$1:F149))))","v":""},{"$f":"IF(ROWS($A$1:G149)>COUNTIF(Main!$C$8:$C$100,$C$7),\"\",INDEX(Main!H$8:H$100,SMALL(IF(N(Main!H$8:H$100)<>0,IF(Main!$C$8:$C$100=$C$7,ROW(H$8:H$100)-ROW(H$8)+1)),ROWS($A$1:G149))))","v":""},{"$f":"IF(ROWS($A$1:H149)>COUNTIF(Main!$C$8:$C$100,$C$7),\"\",INDEX(Main!I$8:I$100,SMALL(IF(N(Main!I$8:I$100)<>0,IF(Main!$C$8:$C$100=$C$7,ROW(I$8:I$100)-ROW(I$8)+1)),ROWS($A$1:H149))))","v":""},{"$f":"IF(ROWS($A$1:I149)>COUNTIF(Main!$C$8:$C$100,$C$7),\"\",INDEX(Main!J$8:J$100,SMALL(IF(Main!J$8:J$100<>\"\",IF(Main!$C$8:$C$100=$C$7,ROW(J$8:J$100)-ROW(J$8)+1)),ROWS($A$1:I149))))","v":""},"",{"$f":"IF(ROWS($A$1:K149)>COUNTIF(Main!$C$8:$C$100,$C$7),\"\",INDEX(Main!L$8:L$100,SMALL(IF(N(Main!L$8:L$100)<>0,IF(Main!$C$8:$C$100=$C$7,ROW(L$8:L$100)-ROW(L$8)+1)),ROWS($A$1:K149))))","v":""}]
[{"$f":"IF(B157=\"\",\"\",MAX($A$7:A156)+1)","v":""},{"$f":"IF(ROWS($A$1:A150)>COUNTIF(Main!$C$8:$C$100,$C$7),\"\",INDEX(Main!B$8:B$100,SMALL(IF(N(Main!B$8:B$100)<>0,IF(Main!$C$8:$C$100=$C$7,ROW(B$8:B$100)-ROW(B$8)+1)),ROWS($A$1:A150))))","v":""},{"$f":"IF(ROWS($A$1:B150)>COUNTIF(Main!$C$8:$C$100,$C$7),\"\",INDEX(Main!C$8:C$100,SMALL(IF(N(Main!C$8:C$100)<>0,IF(Main!$C$8:$C$100=$C$7,ROW(C$8:C$100)-ROW(C$8)+1)),ROWS($A$1:B150))))","v":""},{"$f":"IF(ROWS($A$1:C150)>COUNTIF(Main!$C$8:$C$100,$C$7),\"\",INDEX(Main!D$8:D$100,SMALL(IF(N(Main!D$8:D$100)<>0,IF(Main!$C$8:$C$100=$C$7,ROW(D$8:D$100)-ROW(D$8)+1)),ROWS($A$1:C150))))","v":""},{"$f":"IF(ROWS($A$1:D150)>COUNTIF(Main!$C$8:$C$100,$C$7),\"\",INDEX(Main!E$8:E$100,SMALL(IF(N(Main!E$8:E$100)<>0,IF(Main!$C$8:$C$100=$C$7,ROW(E$8:E$100)-ROW(E$8)+1)),ROWS($A$1:D150))))","v":""},{"$f":"IF(ROWS($A$1:E150)>COUNTIF(Main!$C$8:$C$100,$C$7),\"\",INDEX(Main!F$8:F$100,SMALL(IF(N(Main!F$8:F$100)<>0,IF(Main!$C$8:$C$100=$C$7,ROW(F$8:F$100)-ROW(F$8)+1)),ROWS($A$1:E150))))","v":""},{"$f":"IF(ROWS($A$1:F150)>COUNTIF(Main!$C$8:$C$100,$C$7),\"\",INDEX(Main!G$8:G$100,SMALL(IF(N(Main!G$8:G$100)<>0,IF(Main!$C$8:$C$100=$C$7,ROW(G$8:G$100)-ROW(G$8)+1)),ROWS($A$1:F150))))","v":""},{"$f":"IF(ROWS($A$1:G150)>COUNTIF(Main!$C$8:$C$100,$C$7),\"\",INDEX(Main!H$8:H$100,SMALL(IF(N(Main!H$8:H$100)<>0,IF(Main!$C$8:$C$100=$C$7,ROW(H$8:H$100)-ROW(H$8)+1)),ROWS($A$1:G150))))","v":""},{"$f":"IF(ROWS($A$1:H150)>COUNTIF(Main!$C$8:$C$100,$C$7),\"\",INDEX(Main!I$8:I$100,SMALL(IF(N(Main!I$8:I$100)<>0,IF(Main!$C$8:$C$100=$C$7,ROW(I$8:I$100)-ROW(I$8)+1)),ROWS($A$1:H150))))","v":""},{"$f":"IF(ROWS($A$1:I150)>COUNTIF(Main!$C$8:$C$100,$C$7),\"\",INDEX(Main!J$8:J$100,SMALL(IF(Main!J$8:J$100<>\"\",IF(Main!$C$8:$C$100=$C$7,ROW(J$8:J$100)-ROW(J$8)+1)),ROWS($A$1:I150))))","v":""},"",{"$f":"IF(ROWS($A$1:K150)>COUNTIF(Main!$C$8:$C$100,$C$7),\"\",INDEX(Main!L$8:L$100,SMALL(IF(N(Main!L$8:L$100)<>0,IF(Main!$C$8:$C$100=$C$7,ROW(L$8:L$100)-ROW(L$8)+1)),ROWS($A$1:K150))))","v":""}]
[{"$f":"IF(B158=\"\",\"\",MAX($A$7:A157)+1)","v":""},{"$f":"IF(ROWS($A$1:A151)>COUNTIF(Main!$C$8:$C$100,$C$7),\"\",INDEX(Main!B$8:B$100,SMALL(IF(N(Main!B$8:B$100)<>0,IF(Main!$C$8:$C$100=$C$7,ROW(B$8:B$100)-ROW(B$8)+1)),ROWS($A$1:A151))))","v":""},{"$f":"IF(ROWS($A$1:B151)>COUNTIF(Main!$C$8:$C$100,$C$7),\"\",INDEX(Main!C$8:C$100,SMALL(IF(N(Main!C$8:C$100)<>0,IF(Main!$C$8:$C$100=$C$7,ROW(C$8:C$100)-ROW(C$8)+1)),ROWS($A$1:B151))))","v":""},{"$f":"IF(ROWS($A$1:C151)>COUNTIF(Main!$C$8:$C$100,$C$7),\"\",INDEX(Main!D$8:D$100,SMALL(IF(N(Main!D$8:D$100)<>0,IF(Main!$C$8:$C$100=$C$7,ROW(D$8:D$100)-ROW(D$8)+1)),ROWS($A$1:C151))))","v":""},{"$f":"IF(ROWS($A$1:D151)>COUNTIF(Main!$C$8:$C$100,$C$7),\"\",INDEX(Main!E$8:E$100,SMALL(IF(N(Main!E$8:E$100)<>0,IF(Main!$C$8:$C$100=$C$7,ROW(E$8:E$100)-ROW(E$8)+1)),ROWS($A$1:D151))))","v":""},{"$f":"IF(ROWS($A$1:E151)>COUNTIF(Main!$C$8:$C$100,$C$7),\"\",INDEX(Main!F$8:F$100,SMALL(IF(N(Main!F$8:F$100)<>0,IF(Main!$C$8:$C$100=$C$7,ROW(F$8:F$100)-ROW(F$8)+1)),ROWS($A$1:E151))))","v":""},{"$f":"IF(ROWS($A$1:F151)>COUNTIF(Main!$C$8:$C$100,$C$7),\"\",INDEX(Main!G$8:G$100,SMALL(IF(N(Main!G$8:G$100)<>0,IF(Main!$C$8:$C$100=$C$7,ROW(G$8:G$100)-ROW(G$8)+1)),ROWS($A$1:F151))))","v":""},{"$f":"IF(ROWS($A$1:G151)>COUNTIF(Main!$C$8:$C$100,$C$7),\"\",INDEX(Main!H$8:H$100,SMALL(IF(N(Main!H$8:H$100)<>0,IF(Main!$C$8:$C$100=$C$7,ROW(H$8:H$100)-ROW(H$8)+1)),ROWS($A$1:G151))))","v":""},{"$f":"IF(ROWS($A$1:H151)>COUNTIF(Main!$C$8:$C$100,$C$7),\"\",INDEX(Main!I$8:I$100,SMALL(IF(N(Main!I$8:I$100)<>0,IF(Main!$C$8:$C$100=$C$7,ROW(I$8:I$100)-ROW(I$8)+1)),ROWS($A$1:H151))))","v":""},{"$f":"IF(ROWS($A$1:I151)>COUNTIF(Main!$C$8:$C$100,$C$7),\"\",INDEX(Main!J$8:J$100,SMALL(IF(Main!J$8:J$100<>\"\",IF(Main!$C$8:$C$100=$C$7,ROW(J$8:J$100)-ROW(J$8)+1)),ROWS($A$1:I151))))","v":""},"",{"$f":"IF(ROWS($A$1:K151)>COUNTIF(Main!$C$8:$C$100,$C$7),\"\",INDEX(Main!L$8:L$100,SMALL(IF(N(Main!L$8:L$100)<>0,IF(Main!$C$8:$C$100=$C$7,ROW(L$8:L$100)-ROW(L$8)+1)),ROWS($A$1:K151))))","v":""}]
[{"$f":"IF(B159=\"\",\"\",MAX($A$7:A158)+1)","v":""},{"$f":"IF(ROWS($A$1:A152)>COUNTIF(Main!$C$8:$C$100,$C$7),\"\",INDEX(Main!B$8:B$100,SMALL(IF(N(Main!B$8:B$100)<>0,IF(Main!$C$8:$C$100=$C$7,ROW(B$8:B$100)-ROW(B$8)+1)),ROWS($A$1:A152))))","v":""},{"$f":"IF(ROWS($A$1:B152)>COUNTIF(Main!$C$8:$C$100,$C$7),\"\",INDEX(Main!C$8:C$100,SMALL(IF(N(Main!C$8:C$100)<>0,IF(Main!$C$8:$C$100=$C$7,ROW(C$8:C$100)-ROW(C$8)+1)),ROWS($A$1:B152))))","v":""},{"$f":"IF(ROWS($A$1:C152)>COUNTIF(Main!$C$8:$C$100,$C$7),\"\",INDEX(Main!D$8:D$100,SMALL(IF(N(Main!D$8:D$100)<>0,IF(Main!$C$8:$C$100=$C$7,ROW(D$8:D$100)-ROW(D$8)+1)),ROWS($A$1:C152))))","v":""},{"$f":"IF(ROWS($A$1:D152)>COUNTIF(Main!$C$8:$C$100,$C$7),\"\",INDEX(Main!E$8:E$100,SMALL(IF(N(Main!E$8:E$100)<>0,IF(Main!$C$8:$C$100=$C$7,ROW(E$8:E$100)-ROW(E$8)+1)),ROWS($A$1:D152))))","v":""},{"$f":"IF(ROWS($A$1:E152)>COUNTIF(Main!$C$8:$C$100,$C$7),\"\",INDEX(Main!F$8:F$100,SMALL(IF(N(Main!F$8:F$100)<>0,IF(Main!$C$8:$C$100=$C$7,ROW(F$8:F$100)-ROW(F$8)+1)),ROWS($A$1:E152))))","v":""},{"$f":"IF(ROWS($A$1:F152)>COUNTIF(Main!$C$8:$C$100,$C$7),\"\",INDEX(Main!G$8:G$100,SMALL(IF(N(Main!G$8:G$100)<>0,IF(Main!$C$8:$C$100=$C$7,ROW(G$8:G$100)-ROW(G$8)+1)),ROWS($A$1:F152))))","v":""},{"$f":"IF(ROWS($A$1:G152)>COUNTIF(Main!$C$8:$C$100,$C$7),\"\",INDEX(Main!H$8:H$100,SMALL(IF(N(Main!H$8:H$100)<>0,IF(Main!$C$8:$C$100=$C$7,ROW(H$8:H$100)-ROW(H$8)+1)),ROWS($A$1:G152))))","v":""},{"$f":"IF(ROWS($A$1:H152)>COUNTIF(Main!$C$8:$C$100,$C$7),\"\",INDEX(Main!I$8:I$100,SMALL(IF(N(Main!I$8:I$100)<>0,IF(Main!$C$8:$C$100=$C$7,ROW(I$8:I$100)-ROW(I$8)+1)),ROWS($A$1:H152))))","v":""},{"$f":"IF(ROWS($A$1:I152)>COUNTIF(Main!$C$8:$C$100,$C$7),\"\",INDEX(Main!J$8:J$100,SMALL(IF(Main!J$8:J$100<>\"\",IF(Main!$C$8:$C$100=$C$7,ROW(J$8:J$100)-ROW(J$8)+1)),ROWS($A$1:I152))))","v":""},"",{"$f":"IF(ROWS($A$1:K152)>COUNTIF(Main!$C$8:$C$100,$C$7),\"\",INDEX(Main!L$8:L$100,SMALL(IF(N(Main!L$8:L$100)<>0,IF(Main!$C$8:$C$100=$C$7,ROW(L$8:L$100)-ROW(L$8)+1)),ROWS($A$1:K152))))","v":""}]
[{"$f":"IF(B160=\"\",\"\",MAX($A$7:A159)+1)","v":""},{"$f":"IF(ROWS($A$1:A153)>COUNTIF(Main!$C$8:$C$100,$C$7),\"\",INDEX(Main!B$8:B$100,SMALL(IF(N(Main!B$8:B$100)<>0,IF(Main!$C$8:$C$100=$C$7,ROW(B$8:B$100)-ROW(B$8)+1)),ROWS($A$1:A153))))","v":""},{"$f":"IF(ROWS($A$1:B153)>COUNTIF(Main!$C$8:$C$100,$C$7),\"\",INDEX(Main!C$8:C$100,SMALL(IF(N(Main!C$8:C$100)<>0,IF(Main!$C$8:$C$100=$C$7,ROW(C$8:C$100)-ROW(C$8)+1)),ROWS($A$1:B153))))","v":""},{"$f":"IF(ROWS($A$1:C153)>COUNTIF(Main!$C$8:$C$100,$C$7),\"\",INDEX(Main!D$8:D$100,SMALL(IF(N(Main!D$8:D$100)<>0,IF(Main!$C$8:$C$100=$C$7,ROW(D$8:D$100)-ROW(D$8)+1)),ROWS($A$1:C153))))","v":""},{"$f":"IF(ROWS($A$1:D153)>COUNTIF(Main!$C$8:$C$100,$C$7),\"\",INDEX(Main!E$8:E$100,SMALL(IF(N(Main!E$8:E$100)<>0,IF(Main!$C$8:$C$100=$C$7,ROW(E$8:E$100)-ROW(E$8)+1)),ROWS($A$1:D153))))","v":""},{"$f":"IF(ROWS($A$1:E153)>COUNTIF(Main!$C$8:$C$100,$C$7),\"\",INDEX(Main!F$8:F$100,SMALL(IF(N(Main!F$8:F$100)<>0,IF(Main!$C$8:$C$100=$C$7,ROW(F$8:F$100)-ROW(F$8)+1)),ROWS($A$1:E153))))","v":""},{"$f":"IF(ROWS($A$1:F153)>COUNTIF(Main!$C$8:$C$100,$C$7),\"\",INDEX(Main!G$8:G$100,SMALL(IF(N(Main!G$8:G$100)<>0,IF(Main!$C$8:$C$100=$C$7,ROW(G$8:G$100)-ROW(G$8)+1)),ROWS($A$1:F153))))","v":""},{"$f":"IF(ROWS($A$1:G153)>COUNTIF(Main!$C$8:$C$100,$C$7),\"\",INDEX(Main!H$8:H$100,SMALL(IF(N(Main!H$8:H$100)<>0,IF(Main!$C$8:$C$100=$C$7,ROW(H$8:H$100)-ROW(H$8)+1)),ROWS($A$1:G153))))","v":""},{"$f":"IF(ROWS($A$1:H153)>COUNTIF(Main!$C$8:$C$100,$C$7),\"\",INDEX(Main!I$8:I$100,SMALL(IF(N(Main!I$8:I$100)<>0,IF(Main!$C$8:$C$100=$C$7,ROW(I$8:I$100)-ROW(I$8)+1)),ROWS($A$1:H153))))","v":""},{"$f":"IF(ROWS($A$1:I153)>COUNTIF(Main!$C$8:$C$100,$C$7),\"\",INDEX(Main!J$8:J$100,SMALL(IF(Main!J$8:J$100<>\"\",IF(Main!$C$8:$C$100=$C$7,ROW(J$8:J$100)-ROW(J$8)+1)),ROWS($A$1:I153))))","v":""},"",{"$f":"IF(ROWS($A$1:K153)>COUNTIF(Main!$C$8:$C$100,$C$7),\"\",INDEX(Main!L$8:L$100,SMALL(IF(N(Main!L$8:L$100)<>0,IF(Main!$C$8:$C$100=$C$7,ROW(L$8:L$100)-ROW(L$8)+1)),ROWS($A$1:K153))))","v":""}]
[{"$f":"IF(B161=\"\",\"\",MAX($A$7:A160)+1)","v":""},{"$f":"IF(ROWS($A$1:A154)>COUNTIF(Main!$C$8:$C$100,$C$7),\"\",INDEX(Main!B$8:B$100,SMALL(IF(N(Main!B$8:B$100)<>0,IF(Main!$C$8:$C$100=$C$7,ROW(B$8:B$100)-ROW(B$8)+1)),ROWS($A$1:A154))))","v":""},{"$f":"IF(ROWS($A$1:B154)>COUNTIF(Main!$C$8:$C$100,$C$7),\"\",INDEX(Main!C$8:C$100,SMALL(IF(N(Main!C$8:C$100)<>0,IF(Main!$C$8:$C$100=$C$7,ROW(C$8:C$100)-ROW(C$8)+1)),ROWS($A$1:B154))))","v":""},{"$f":"IF(ROWS($A$1:C154)>COUNTIF(Main!$C$8:$C$100,$C$7),\"\",INDEX(Main!D$8:D$100,SMALL(IF(N(Main!D$8:D$100)<>0,IF(Main!$C$8:$C$100=$C$7,ROW(D$8:D$100)-ROW(D$8)+1)),ROWS($A$1:C154))))","v":""},{"$f":"IF(ROWS($A$1:D154)>COUNTIF(Main!$C$8:$C$100,$C$7),\"\",INDEX(Main!E$8:E$100,SMALL(IF(N(Main!E$8:E$100)<>0,IF(Main!$C$8:$C$100=$C$7,ROW(E$8:E$100)-ROW(E$8)+1)),ROWS($A$1:D154))))","v":""},{"$f":"IF(ROWS($A$1:E154)>COUNTIF(Main!$C$8:$C$100,$C$7),\"\",INDEX(Main!F$8:F$100,SMALL(IF(N(Main!F$8:F$100)<>0,IF(Main!$C$8:$C$100=$C$7,ROW(F$8:F$100)-ROW(F$8)+1)),ROWS($A$1:E154))))","v":""},{"$f":"IF(ROWS($A$1:F154)>COUNTIF(Main!$C$8:$C$100,$C$7),\"\",INDEX(Main!G$8:G$100,SMALL(IF(N(Main!G$8:G$100)<>0,IF(Main!$C$8:$C$100=$C$7,ROW(G$8:G$100)-ROW(G$8)+1)),ROWS($A$1:F154))))","v":""},{"$f":"IF(ROWS($A$1:G154)>COUNTIF(Main!$C$8:$C$100,$C$7),\"\",INDEX(Main!H$8:H$100,SMALL(IF(N(Main!H$8:H$100)<>0,IF(Main!$C$8:$C$100=$C$7,ROW(H$8:H$100)-ROW(H$8)+1)),ROWS($A$1:G154))))","v":""},{"$f":"IF(ROWS($A$1:H154)>COUNTIF(Main!$C$8:$C$100,$C$7),\"\",INDEX(Main!I$8:I$100,SMALL(IF(N(Main!I$8:I$100)<>0,IF(Main!$C$8:$C$100=$C$7,ROW(I$8:I$100)-ROW(I$8)+1)),ROWS($A$1:H154))))","v":""},{"$f":"IF(ROWS($A$1:I154)>COUNTIF(Main!$C$8:$C$100,$C$7),\"\",INDEX(Main!J$8:J$100,SMALL(IF(Main!J$8:J$100<>\"\",IF(Main!$C$8:$C$100=$C$7,ROW(J$8:J$100)-ROW(J$8)+1)),ROWS($A$1:I154))))","v":""},"",{"$f":"IF(ROWS($A$1:K154)>COUNTIF(Main!$C$8:$C$100,$C$7),\"\",INDEX(Main!L$8:L$100,SMALL(IF(N(Main!L$8:L$100)<>0,IF(Main!$C$8:$C$100=$C$7,ROW(L$8:L$100)-ROW(L$8)+1)),ROWS($A$1:K154))))","v":""}]
[{"$f":"IF(B162=\"\",\"\",MAX($A$7:A161)+1)","v":""},null,null,null,null,null,null,null,null,null,null,{"$f":"IF(AND(I162=\"\",J162=\"\"),\"\",L161+I162-J162-K162)","v":""}]
[{"$f":"IF(B163=\"\",\"\",MAX($A$7:A162)+1)","v":""},null,null,null,null,null,null,null,null,null,null,""]
[{"$f":"IF(B164=\"\",\"\",MAX($A$7:A163)+1)","v":""},null,null,null,null,null,null,null,null,null,null,""]
[{"$f":"IF(B165=\"\",\"\",MAX($A$7:A164)+1)","v":""},null,null,null,null,null,null,null,null,null,null,""]
[{"$f":"IF(B166=\"\",\"\",MAX($A$7:A165)+1)","v":""},null,null,null,null,null,null,null,null,null,null,""]
[{"$f":"IF(B167=\"\",\"\",MAX($A$7:A166)+1)","v":""},null,null,null,null,null,null,null,null,null,null,""]
[{"$f":"IF(B168=\"\",\"\",MAX($A$7:A167)+1)","v":""},null,null,null,null,null,null,null,null,null,null,""]
[{"$f":"IF(B169=\"\",\"\",MAX($A$7:A168)+1)","v":""},null,null,null,null,null,null,null,null,null,null,""]
[{"$f":"IF(B170=\"\",\"\",MAX($A$7:A169)+1)","v":""},null,null,null,null,null,null,null,null,null,null,""]
[{"$f":"IF(B171=\"\",\"\",MAX($A$7:A170)+1)","v":""},null,null,null,null,null,null,null,null,null,null,""]
[{"$f":"IF(B172=\"\",\"\",MAX($A$7:A171)+1)","v":""},null,null,null,null,null,null,null,null,null,null,""]
[{"$f":"IF(B173=\"\",\"\",MAX($A$7:A172)+1)","v":""},null,null,null,null,null,null,null,null,null,null,""]
[{"$f":"IF(B174=\"\",\"\",MAX($A$7:A173)+1)","v":""},null,null,null,null,null,null,null,null,null,null,""]
[{"$f":"IF(B175=\"\",\"\",MAX($A$7:A174)+1)","v":""},null,null,null,null,null,null,null,null,null,null,""]
[{"$f":"IF(B176=\"\",\"\",MAX($A$7:A175)+1)","v":""},null,null,null,null,null,null,null,null,null,null,""]
[{"$f":"IF(B177=\"\",\"\",MAX($A$7:A176)+1)","v":""},null,null,null,null,null,null,null,null,null,null,""]
[{"$f":"IF(B178=\"\",\"\",MAX($A$7:A177)+1)","v":""},null,null,null,null,null,null,null,null,null,null,""]
[{"$f":"IF(B179=\"\",\"\",MAX($A$7:A178)+1)","v":""},null,null,null,null,null,null,null,null,null,null,""]
[{"$f":"IF(B180=\"\",\"\",MAX($A$7:A179)+1)","v":""},null,null,null,null,null,null,null,null,null,null,""]
[{"$f":"IF(B181=\"\",\"\",MAX($A$7:A180)+1)","v":""},null,null,null,null,null,null,null,null,null,null,""]
[{"$f":"IF(B182=\"\",\"\",MAX($A$7:A181)+1)","v":""},null,null,null,null,null,null,null,null,null,null,""]
[{"$f":"IF(B183=\"\",\"\",MAX($A$7:A182)+1)","v":""},null,null,null,null,null,null,null,null,null,null,""]
[{"$f":"IF(B184=\"\",\"\",MAX($A$7:A183)+1)","v":""},null,null,null,null,null,null,null,null,null,null,""]
[{"$f":"IF(B185=\"\",\"\",MAX($A$7:A184)+1)","v":""},null,null,null,null,null,null,null,null,null,null,""]
[{"$f":"IF(B186=\"\",\"\",MAX($A$7:A185)+1)","v":""},null,null,null,null,null,null,null,null,null,null,""]
[{"$f":"IF(B187=\"\",\"\",MAX($A$7:A186)+1)","v":""},null,null,null,null,null,null,null,null,null,null,""]
[{"$f":"IF(B188=\"\",\"\",MAX($A$7:A187)+1)","v":""},null,null,null,null,null,null,null,null,null,null,""]
[{"$f":"IF(B189=\"\",\"\",MAX($A$7:A188)+1)","v":""},null,null,null,null,null,null,null,null,null,null,""]
[{"$f":"IF(B190=\"\",\"\",MAX($A$7:A189)+1)","v":""},null,null,null,null,null,null,null,null,null,null,""]
[{"$f":"IF(B191=\"\",\"\",MAX($A$7:A190)+1)","v":""},null,null,null,null,null,null,null,null,null,null,""]
[{"$f":"IF(B192=\"\",\"\",MAX($A$7:A191)+1)","v":""},null,null,null,null,null,null,null,null,null,null,""]
[{"$f":"IF(B193=\"\",\"\",MAX($A$7:A192)+1)","v":""},null,null,null,null,null,null,null,null,null,null,""]
[{"$f":"IF(B194=\"\",\"\",MAX($A$7:A193)+1)","v":""},null,null,null,null,null,null,null,null,null,null,""]
[{"$f":"IF(B195=\"\",\"\",MAX($A$7:A194)+1)","v":""},null,null,null,null,null,null,null,null,null,null,""]
[{"$f":"IF(B196=\"\",\"\",MAX($A$7:A195)+1)","v":""},null,null,null,null,null,null,null,null,null,null,""]
[{"$f":"IF(B197=\"\",\"\",MAX($A$7:A196)+1)","v":""},null,null,null,null,null,null,null,null,null,null,""]
[{"$f":"IF(B198=\"\",\"\",MAX($A$7:A197)+1)","v":""},null,null,null,null,null,null,null,null,null,null,""]
[{"$f":"IF(B199=\"\",\"\",MAX($A$7:A198)+1)","v":""},null,null,null,null,null,null,null,null,null,null,""]
[{"$f":"IF(B200=\"\",\"\",MAX($A$7:A199)+1)","v":""},null,null,null,null,null,null,null,null,null,null,{"$f":"IF(AND(I200=\"\",J200=\"\"),\"\",L199+I200-J200-K200)","v":""}]
[{"$f":"IF(B201=\"\",\"\",MAX($A$7:A200)+1)","v":""},null,null,null,null,null,null,null,null,null,null,""]
[{"$f":"IF(B202=\"\",\"\",MAX($A$7:A201)+1)","v":""},null,null,null,null,null,null,null,null,null,null,""]
[{"$f":"IF(B203=\"\",\"\",MAX($A$7:A202)+1)","v":""},null,null,null,null,null,null,null,null,null,null,""]
[{"$f":"IF(B204=\"\",\"\",MAX($A$7:A203)+1)","v":""},null,null,null,null,null,null,null,null,null,null,""]
[{"$f":"IF(B205=\"\",\"\",MAX($A$7:A204)+1)","v":""},null,null,null,null,null,null,null,null,null,null,""]
[{"$f":"IF(B206=\"\",\"\",MAX($A$7:A205)+1)","v":""},null,null,null,null,null,null,null,null,null,null,""]
[{"$f":"IF(B207=\"\",\"\",MAX($A$7:A206)+1)","v":""},null,null,null,null,null,null,null,null,null,null,""]
[{"$f":"IF(B208=\"\",\"\",MAX($A$7:A207)+1)","v":""},null,null,null,null,null,null,null,null,null,null,""]
[{"$f":"IF(B209=\"\",\"\",MAX($A$7:A208)+1)","v":""},null,null,null,null,null,null,null,null,null,null,""]
[{"$f":"IF(B210=\"\",\"\",MAX($A$7:A209)+1)","v":""},null,null,null,null,null,null,null,null,null,null,""]
[{"$f":"IF(B211=\"\",\"\",MAX($A$7:A210)+1)","v":""},null,null,null,null,null,null,null,null,null,null,""]
[{"$f":"IF(B212=\"\",\"\",MAX($A$7:A211)+1)","v":""},null,null,null,null,null,null,null,null,null,null,""]
[{"$f":"IF(B213=\"\",\"\",MAX($A$7:A212)+1)","v":""},null,null,null,null,null,null,null,null,null,null,""]
[{"$f":"IF(B214=\"\",\"\",MAX($A$7:A213)+1)","v":""},null,null,null,null,null,null,null,null,null,null,""]
[{"$f":"IF(B215=\"\",\"\",MAX($A$7:A214)+1)","v":""},null,null,null,null,null,null,null,null,null,null,""]
[{"$f":"IF(B216=\"\",\"\",MAX($A$7:A215)+1)","v":""},null,null,null,null,null,null,null,null,null,null,""]
[{"$f":"IF(B217=\"\",\"\",MAX($A$7:A216)+1)","v":""},null,null,null,null,null,null,null,null,null,null,""]
[{"$f":"IF(B218=\"\",\"\",MAX($A$7:A217)+1)","v":""},null,null,null,null,null,null,null,null,null,null,""]
[{"$f":"IF(B219=\"\",\"\",MAX($A$7:A218)+1)","v":""},null,null,null,null,null,null,null,null,null,null,""]
[{"$f":"IF(B220=\"\",\"\",MAX($A$7:A219)+1)","v":""},null,null,null,null,null,null,null,null,null,null,""]
[{"$f":"IF(B221=\"\",\"\",MAX($A$7:A220)+1)","v":""},null,null,null,null,null,null,null,null,null,null,""]
[{"$f":"IF(B222=\"\",\"\",MAX($A$7:A221)+1)","v":""},null,null,null,null,null,null,null,null,null,null,""]
[{"$f":"IF(B223=\"\",\"\",MAX($A$7:A222)+1)","v":""},null,null,null,null,null,null,null,null,null,null,""]
[{"$f":"IF(B224=\"\",\"\",MAX($A$7:A223)+1)","v":""},null,null,null,null,null,null,null,null,null,null,""]
[{"$f":"IF(B225=\"\",\"\",MAX($A$7:A224)+1)","v":""},null,null,null,null,null,null,null,null,null,null,""]
[{"$f":"IF(B226=\"\",\"\",MAX($A$7:A225)+1)","v":""},null,null,null,null,null,null,null,null,null,null,""]
[{"$f":"IF(B227=\"\",\"\",MAX($A$7:A226)+1)","v":""},null,null,null,null,null,null,null,null,null,null,""]
[{"$f":"IF(B228=\"\",\"\",MAX($A$7:A227)+1)","v":""},null,null,null,null,null,null,null,null,null,null,""]
[{"$f":"IF(B229=\"\",\"\",MAX($A$7:A228)+1)","v":""},null,null,null,null,null,null,null,null,null,null,""]
[{"$f":"IF(B230=\"\",\"\",MAX($A$7:A229)+1)","v":""},null,null,null,null,null,null,null,null,null,null,""]
[{"$f":"IF(B231=\"\",\"\",MAX($A$7:A230)+1)","v":""},null,null,null,null,null,null,null,null,null,null,""]
[{"$f":"IF(B232=\"\",\"\",MAX($A$7:A231)+1)","v":""},null,null,null,null,null,null,null,null,null,null,""]
[{"$f":"IF(B233=\"\",\"\",MAX($A$7:A232)+1)","v":""},null,null,null,null,null,null,null,null,null,null,""]
[{"$f":"IF(B234=\"\",\"\",MAX($A$7:A233)+1)","v":""},null,null,null,null,null,null,null,null,null,null,""]
[{"$f":"IF(B235=\"\",\"\",MAX($A$7:A234)+1)","v":""},null,null,null,null,null,null,null,null,null,null,""]
[{"$f":"IF(B236=\"\",\"\",MAX($A$7:A235)+1)","v":""},null,null,null,null,null,null,null,null,null,null,""]
[{"$f":"IF(B237=\"\",\"\",MAX($A$7:A236)+1)","v":""},null,null,null,null,null,null,null,null,null,null,""]
[{"$f":"IF(B238=\"\",\"\",MAX($A$7:A237)+1)","v":""},null,null,null,null,null,null,null,null,null,null,""]
[{"$f":"IF(B239=\"\",\"\",MAX($A$7:A238)+1)","v":""},null,null,null,null,null,null,null,null,null,null,""]
[{"$f":"IF(B240=\"\",\"\",MAX($A$7:A239)+1)","v":""},null,null,null,null,null,null,null,null,null,null,""]
[{"$f":"IF(B241=\"\",\"\",MAX($A$7:A240)+1)","v":""},null,null,null,null,null,null,null,null,null,null,""]
[{"$f":"IF(B242=\"\",\"\",MAX($A$7:A241)+1)","v":""},null,null,null,null,null,null,null,null,null,null,""]
[{"$f":"IF(B243=\"\",\"\",MAX($A$7:A242)+1)","v":""},null,null,null,null,null,null,null,null,null,null,""]
[{"$f":"IF(B244=\"\",\"\",MAX($A$7:A243)+1)","v":""},null,null,null,null,null,null,null,null,null,null,""]
[{"$f":"IF(B245=\"\",\"\",MAX($A$7:A244)+1)","v":""},null,null,null,null,null,null,null,null,null,null,""]
[{"$f":"IF(B246=\"\",\"\",MAX($A$7:A245)+1)","v":""},null,null,null,null,null,null,null,null,null,null,""]
[{"$f":"IF(B247=\"\",\"\",MAX($A$7:A246)+1)","v":""},null,null,null,null,null,null,null,null,null,null,""]
[{"$f":"IF(B248=\"\",\"\",MAX($A$7:A247)+1)","v":""},null,null,null,null,null,null,null,null,null,null,""]
[{"$f":"IF(B249=\"\",\"\",MAX($A$7:A248)+1)","v":""},null,null,null,null,null,null,null,null,null,null,""]
[{"$f":"IF(B250=\"\",\"\",MAX($A$7:A249)+1)","v":""},null,null,null,null,null,null,null,null,null,null,""]
[{"$f":"IF(B251=\"\",\"\",MAX($A$7:A250)+1)","v":""},null,null,null,null,null,null,null,null,null,null,""]
[{"$f":"IF(B252=\"\",\"\",MAX($A$7:A251)+1)","v":""},null,null,null,null,null,null,null,null,null,null,""]
[{"$f":"IF(B253=\"\",\"\",MAX($A$7:A252)+1)","v":""},null,null,null,null,null,null,null,null,null,null,""]
[{"$f":"IF(B254=\"\",\"\",MAX($A$7:A253)+1)","v":""},null,null,null,null,null,null,null,null,null,null,""]
[{"$f":"IF(B255=\"\",\"\",MAX($A$7:A254)+1)","v":""},null,null,null,null,null,null,null,null,null,null,""]
[{"$f":"IF(B256=\"\",\"\",MAX($A$7:A255)+1)","v":""},null,null,null,null,null,null,null,null,null,null,""]
[{"$f":"IF(B257=\"\",\"\",MAX($A$7:A256)+1)","v":""},null,null,null,null,null,null,null,null,null,null,""]
[{"$f":"IF(B258=\"\",\"\",MAX($A$7:A257)+1)","v":""},null,null,null,null,null,null,null,null,null,null,""]
[{"$f":"IF(B259=\"\",\"\",MAX($A$7:A258)+1)","v":""},null,null,null,null,null,null,null,null,null,null,""]
[{"$f":"IF(B260=\"\",\"\",MAX($A$7:A259)+1)","v":""},null,null,null,null,null,null,null,null,null,null,""]
[{"$f":"IF(B261=\"\",\"\",MAX($A$7:A260)+1)","v":""},null,null,null,null,null,null,null,null,null,null,""]
[{"$f":"IF(B262=\"\",\"\",MAX($A$7:A261)+1)","v":""},null,null,null,null,null,null,null,null,null,null,""]
[{"$f":"IF(B263=\"\",\"\",MAX($A$7:A262)+1)","v":""},null,null,null,null,null,null,null,null,null,null,""]
[{"$f":"IF(B264=\"\",\"\",MAX($A$7:A263)+1)","v":""},null,null,null,null,null,null,null,null,null,null,{"$f":"IF(AND(I264=\"\",J264=\"\"),\"\",L263+I264-J264-K264)","v":""}]
[{"$f":"IF(B265=\"\",\"\",MAX($A$7:A264)+1)","v":""},null,null,null,null,null,null,null,null,null,null,""]
[{"$f":"IF(B266=\"\",\"\",MAX($A$7:A265)+1)","v":""},null,null,null,null,null,null,null,null,null,null,""]
[{"$f":"IF(B267=\"\",\"\",MAX($A$7:A266)+1)","v":""},null,null,null,null,null,null,null,null,null,null,""]
[{"$f":"IF(B268=\"\",\"\",MAX($A$7:A267)+1)","v":""},null,null,null,null,null,null,null,null,null,null,""]
[{"$f":"IF(B269=\"\",\"\",MAX($A$7:A268)+1)","v":""},null,null,null,null,null,null,null,null,null,null,""]
[{"$f":"IF(B270=\"\",\"\",MAX($A$7:A269)+1)","v":""},null,null,null,null,null,null,null,null,null,null,""]
[{"$f":"IF(B271=\"\",\"\",MAX($A$7:A270)+1)","v":""},null,null,null,null,null,null,null,null,null,null,""]
[{"$f":"IF(B272=\"\",\"\",MAX($A$7:A271)+1)","v":""},null,null,null,null,null,null,null,null,null,null,""]
[{"$f":"IF(B273=\"\",\"\",MAX($A$7:A272)+1)","v":""},null,null,null,null,null,null,null,null,null,null,""]
[{"$f":"IF(B274=\"\",\"\",MAX($A$7:A273)+1)","v":""},null,null,null,null,null,null,null,null,null,null,""]
[{"$f":"IF(B275=\"\",\"\",MAX($A$7:A274)+1)","v":""},null,null,null,null,null,null,null,null,null,null,""]
[{"$f":"IF(B276=\"\",\"\",MAX($A$7:A275)+1)","v":""},null,null,null,null,null,null,null,null,null,null,""]
[{"$f":"IF(B277=\"\",\"\",MAX($A$7:A276)+1)","v":""},null,null,null,null,null,null,null,null,null,null,""]
[{"$f":"IF(B278=\"\",\"\",MAX($A$7:A277)+1)","v":""},null,null,null,null,null,null,null,null,null,null,""]
[{"$f":"IF(B279=\"\",\"\",MAX($A$7:A278)+1)","v":""},null,null,null,null,null,null,null,null,null,null,""]
[{"$f":"IF(B280=\"\",\"\",MAX($A$7:A279)+1)","v":""},null,null,null,null,null,null,null,null,null,null,""]
[{"$f":"IF(B281=\"\",\"\",MAX($A$7:A280)+1)","v":""},null,null,null,null,null,null,null,null,null,null,""]
[{"$f":"IF(B282=\"\",\"\",MAX($A$7:A281)+1)","v":""},null,null,null,null,null,null,null,null,null,null,""]
[{"$f":"IF(B283=\"\",\"\",MAX($A$7:A282)+1)","v":""},null,null,null,null,null,null,null,null,null,null,""]
[{"$f":"IF(B284=\"\",\"\",MAX($A$7:A283)+1)","v":""},null,null,null,null,null,null,null,null,null,null,""]
[{"$f":"IF(B285=\"\",\"\",MAX($A$7:A284)+1)","v":""},null,null,null,null,null,null,null,null,null,null,""]
[{"$f":"IF(B286=\"\",\"\",MAX($A$7:A285)+1)","v":""},null,null,null,null,null,null,null,null,null,null,""]
[{"$f":"IF(B287=\"\",\"\",MAX($A$7:A286)+1)","v":""},null,null,null,null,null,null,null,null,null,null,""]
[{"$f":"IF(B288=\"\",\"\",MAX($A$7:A287)+1)","v":""},null,null,null,null,null,null,null,null,null,null,""]
[{"$f":"IF(B289=\"\",\"\",MAX($A$7:A288)+1)","v":""},null,null,null,null,null,null,null,null,null,null,""]
[{"$f":"IF(B290=\"\",\"\",MAX($A$7:A289)+1)","v":""},null,null,null,null,null,null,null,null,null,null,""]
[{"$f":"IF(B291=\"\",\"\",MAX($A$7:A290)+1)","v":""},null,null,null,null,null,null,null,null,null,null,""]
[{"$f":"IF(B292=\"\",\"\",MAX($A$7:A291)+1)","v":""},null,null,null,null,null,null,null,null,null,null,""]
[{"$f":"IF(B293=\"\",\"\",MAX($A$7:A292)+1)","v":""},null,null,null,null,null,null,null,null,null,null,""]
[{"$f":"IF(B294=\"\",\"\",MAX($A$7:A293)+1)","v":""},null,null,null,null,null,null,null,null,null,null,""]
[{"$f":"IF(B295=\"\",\"\",MAX($A$7:A294)+1)","v":""},null,null,null,null,null,null,null,null,null,null,""]
[{"$f":"IF(B296=\"\",\"\",MAX($A$7:A295)+1)","v":""},null,null,null,null,null,null,null,null,null,null,""]
[{"$f":"IF(B297=\"\",\"\",MAX($A$7:A296)+1)","v":""},null,null,null,null,null,null,null,null,null,null,""]
[{"$f":"IF(B298=\"\",\"\",MAX($A$7:A297)+1)","v":""},null,null,null,null,null,null,null,null,null,null,""]
[{"$f":"IF(B299=\"\",\"\",MAX($A$7:A298)+1)","v":""},null,null,null,null,null,null,null,null,null,null,""]
[{"$f":"IF(B300=\"\",\"\",MAX($A$7:A299)+1)","v":""},null,null,null,null,null,null,null,null,null,null,""]
[{"$f":"IF(B301=\"\",\"\",MAX($A$7:A300)+1)","v":""},null,null,null,null,null,null,null,null,null,null,""]
[{"$f":"IF(B302=\"\",\"\",MAX($A$7:A301)+1)","v":""},null,null,null,null,null,null,null,null,null,null,""]
[{"$f":"IF(B303=\"\",\"\",MAX($A$7:A302)+1)","v":""},null,null,null,null,null,null,null,null,null,null,""]
[{"$f":"IF(B304=\"\",\"\",MAX($A$7:A303)+1)","v":""},null,null,null,null,null,null,null,null,null,null,""]
[{"$f":"IF(B305=\"\",\"\",MAX($A$7:A304)+1)","v":""},null,null,null,null,null,null,null,null,null,null,""]
[{"$f":"IF(B306=\"\",\"\",MAX($A$7:A305)+1)","v":""},null,null,null,null,null,null,null,null,null,null,""]
[{"$f":"IF(B307=\"\",\"\",MAX($A$7:A306)+1)","v":""},null,null,null,null,null,null,null,null,null,null,""]
[{"$f":"IF(B308=\"\",\"\",MAX($A$7:A307)+1)","v":""},null,null,null,null,null,null,null,null,null,null,""]
[{"$f":"IF(B309=\"\",\"\",MAX($A$7:A308)+1)","v":""},null,null,null,null,null,null,null,null,null,null,""]
[{"$f":"IF(B310=\"\",\"\",MAX($A$7:A309)+1)","v":""},null,null,null,null,null,null,null,null,null,null,""]
[{"$f":"IF(B311=\"\",\"\",MAX($A$7:A310)+1)","v":""},null,null,null,null,null,null,null,null,null,null,""]
[{"$f":"IF(B312=\"\",\"\",MAX($A$7:A311)+1)","v":""},null,null,null,null,null,null,null,null,null,null,""]
[{"$f":"IF(B313=\"\",\"\",MAX($A$7:A312)+1)","v":""},null,null,null,null,null,null,null,null,null,null,""]
[{"$f":"IF(B314=\"\",\"\",MAX($A$7:A313)+1)","v":""},null,null,null,null,null,null,null,null,null,null,""]
[{"$f":"IF(B315=\"\",\"\",MAX($A$7:A314)+1)","v":""},null,null,null,null,null,null,null,null,null,null,""]
[{"$f":"IF(B316=\"\",\"\",MAX($A$7:A315)+1)","v":""},null,null,null,null,null,null,null,null,null,null,""]
[{"$f":"IF(B317=\"\",\"\",MAX($A$7:A316)+1)","v":""},null,null,null,null,null,null,null,null,null,null,""]
[{"$f":"IF(B318=\"\",\"\",MAX($A$7:A317)+1)","v":""},null,null,null,null,null,null,null,null,null,null,""]
[{"$f":"IF(B319=\"\",\"\",MAX($A$7:A318)+1)","v":""},null,null,null,null,null,null,null,null,null,null,""]
[{"$f":"IF(B320=\"\",\"\",MAX($A$7:A319)+1)","v":""},null,null,null,null,null,null,null,null,null,null,""]
[{"$f":"IF(B321=\"\",\"\",MAX($A$7:A320)+1)","v":""},null,null,null,null,null,null,null,null,null,null,""]
[{"$f":"IF(B322=\"\",\"\",MAX($A$7:A321)+1)","v":""},null,null,null,null,null,null,null,null,null,null,""]
[{"$f":"IF(B323=\"\",\"\",MAX($A$7:A322)+1)","v":""},null,null,null,null,null,null,null,null,null,null,""]
[{"$f":"IF(B324=\"\",\"\",MAX($A$7:A323)+1)","v":""},null,null,null,null,null,null,null,null,null,null,""]
[{"$f":"IF(B325=\"\",\"\",MAX($A$7:A324)+1)","v":""},null,null,null,null,null,null,null,null,null,null,""]
[{"$f":"IF(B326=\"\",\"\",MAX($A$7:A325)+1)","v":""},null,null,null,null,null,null,null,null,null,null,""]
[{"$f":"IF(B327=\"\",\"\",MAX($A$7:A326)+1)","v":""},null,null,null,null,null,null,null,null,null,null,""]
[{"$f":"IF(B328=\"\",\"\",MAX($A$7:A327)+1)","v":""},null,null,null,null,null,null,null,null,null,null,{"$f":"IF(AND(I328=\"\",J328=\"\"),\"\",L327+I328-J328-K328)","v":""}]
[{"$f":"IF(B329=\"\",\"\",MAX($A$7:A328)+1)","v":""},null,null,null,null,null,null,null,null,null,null,""]
[{"$f":"IF(B330=\"\",\"\",MAX($A$7:A329)+1)","v":""},null,null,null,null,null,null,null,null,null,null,""]
[{"$f":"IF(B331=\"\",\"\",MAX($A$7:A330)+1)","v":""},null,null,null,null,null,null,null,null,null,null,""]
[{"$f":"IF(B332=\"\",\"\",MAX($A$7:A331)+1)","v":""},null,null,null,null,null,null,null,null,null,null,""]
[{"$f":"IF(B333=\"\",\"\",MAX($A$7:A332)+1)","v":""},null,null,null,null,null,null,null,null,null,null,""]
[{"$f":"IF(B334=\"\",\"\",MAX($A$7:A333)+1)","v":""},null,null,null,null,null,null,null,null,null,null,""]
[{"$f":"IF(B335=\"\",\"\",MAX($A$7:A334)+1)","v":""},null,null,null,null,null,null,null,null,null,null,""]
[{"$f":"IF(B336=\"\",\"\",MAX($A$7:A335)+1)","v":""},null,null,null,null,null,null,null,null,null,null,""]
[{"$f":"IF(B337=\"\",\"\",MAX($A$7:A336)+1)","v":""},null,null,null,null,null,null,null,null,null,null,""]
[{"$f":"IF(B338=\"\",\"\",MAX($A$7:A337)+1)","v":""},null,null,null,null,null,null,null,null,null,null,""]
[{"$f":"IF(B339=\"\",\"\",MAX($A$7:A338)+1)","v":""},null,null,null,null,null,null,null,null,null,null,""]
[{"$f":"IF(B340=\"\",\"\",MAX($A$7:A339)+1)","v":""},null,null,null,null,null,null,null,null,null,null,""]
[{"$f":"IF(B341=\"\",\"\",MAX($A$7:A340)+1)","v":""},null,null,null,null,null,null,null,null,null,null,""]
[{"$f":"IF(B342=\"\",\"\",MAX($A$7:A341)+1)","v":""},null,null,null,null,null,null,null,null,null,null,""]
[{"$f":"IF(B343=\"\",\"\",MAX($A$7:A342)+1)","v":""},null,null,null,null,null,null,null,null,null,null,""]
[{"$f":"IF(B344=\"\",\"\",MAX($A$7:A343)+1)","v":""},null,null,null,null,null,null,null,null,null,null,""]
[{"$f":"IF(B345=\"\",\"\",MAX($A$7:A344)+1)","v":""},null,null,null,null,null,null,null,null,null,null,""]
[{"$f":"IF(B346=\"\",\"\",MAX($A$7:A345)+1)","v":""},null,null,null,null,null,null,null,null,null,null,""]
[{"$f":"IF(B347=\"\",\"\",MAX($A$7:A346)+1)","v":""},null,null,null,null,null,null,null,null,null,null,""]
[{"$f":"IF(B348=\"\",\"\",MAX($A$7:A347)+1)","v":""},null,null,null,null,null,null,null,null,null,null,""]
[{"$f":"IF(B349=\"\",\"\",MAX($A$7:A348)+1)","v":""},null,null,null,null,null,null,null,null,null,null,""]
[{"$f":"IF(B350=\"\",\"\",MAX($A$7:A349)+1)","v":""},null,null,null,null,null,null,null,null,null,null,""]
[{"$f":"IF(B351=\"\",\"\",MAX($A$7:A350)+1)","v":""},null,null,null,null,null,null,null,null,null,null,""]
[{"$f":"IF(B352=\"\",\"\",MAX($A$7:A351)+1)","v":""},null,null,null,null,null,null,null,null,null,null,""]
[{"$f":"IF(B353=\"\",\"\",MAX($A$7:A352)+1)","v":""},null,null,null,null,null,null,null,null,null,null,""]
[{"$f":"IF(B354=\"\",\"\",MAX($A$7:A353)+1)","v":""},null,null,null,null,null,null,null,null,null,null,""]
[{"$f":"IF(B355=\"\",\"\",MAX($A$7:A354)+1)","v":""},null,null,null,null,null,null,null,null,null,null,""]
[{"$f":"IF(B356=\"\",\"\",MAX($A$7:A355)+1)","v":""},null,null,null,null,null,null,null,null,null,null,""]
[{"$f":"IF(B357=\"\",\"\",MAX($A$7:A356)+1)","v":""},null,null,null,null,null,null,null,null,null,null,""]
[{"$f":"IF(B358=\"\",\"\",MAX($A$7:A357)+1)","v":""},null,null,null,null,null,null,null,null,null,null,""]
[{"$f":"IF(B359=\"\",\"\",MAX($A$7:A358)+1)","v":""},null,null,null,null,null,null,null,null,null,null,""]
[{"$f":"IF(B360=\"\",\"\",MAX($A$7:A359)+1)","v":""},null,null,null,null,null,null,null,null,null,null,""]
[{"$f":"IF(B361=\"\",\"\",MAX($A$7:A360)+1)","v":""},null,null,null,null,null,null,null,null,null,null,""]
[{"$f":"IF(B362=\"\",\"\",MAX($A$7:A361)+1)","v":""},null,null,null,null,null,null,null,null,null,null,""]
[{"$f":"IF(B363=\"\",\"\",MAX($A$7:A362)+1)","v":""},null,null,null,null,null,null,null,null,null,null,""]
[{"$f":"IF(B364=\"\",\"\",MAX($A$7:A363)+1)","v":""},null,null,null,null,null,null,null,null,null,null,""]
[{"$f":"IF(B365=\"\",\"\",MAX($A$7:A364)+1)","v":""},null,null,null,null,null,null,null,null,null,null,""]
[{"$f":"IF(B366=\"\",\"\",MAX($A$7:A365)+1)","v":""},null,null,null,null,null,null,null,null,null,null,""]
[{"$f":"IF(B367=\"\",\"\",MAX($A$7:A366)+1)","v":""},null,null,null,null,null,null,null,null,null,null,""]
[{"$f":"IF(B368=\"\",\"\",MAX($A$7:A367)+1)","v":""},null,null,null,null,null,null,null,null,null,null,""]
[{"$f":"IF(B369=\"\",\"\",MAX($A$7:A368)+1)","v":""},null,null,null,null,null,null,null,null,null,null,""]
[{"$f":"IF(B370=\"\",\"\",MAX($A$7:A369)+1)","v":""},null,null,null,null,null,null,null,null,null,null,""]
[{"$f":"IF(B371=\"\",\"\",MAX($A$7:A370)+1)","v":""},null,null,null,null,null,null,null,null,null,null,""]
[{"$f":"IF(B372=\"\",\"\",MAX($A$7:A371)+1)","v":""},null,null,null,null,null,null,null,null,null,null,""]
[{"$f":"IF(B373=\"\",\"\",MAX($A$7:A372)+1)","v":""},null,null,null,null,null,null,null,null,null,null,""]
[{"$f":"IF(B374=\"\",\"\",MAX($A$7:A373)+1)","v":""},null,null,null,null,null,null,null,null,null,null,""]
[{"$f":"IF(B375=\"\",\"\",MAX($A$7:A374)+1)","v":""},null,null,null,null,null,null,null,null,null,null,""]
[{"$f":"IF(B376=\"\",\"\",MAX($A$7:A375)+1)","v":""},null,null,null,null,null,null,null,null,null,null,""]
[{"$f":"IF(B377=\"\",\"\",MAX($A$7:A376)+1)","v":""},null,null,null,null,null,null,null,null,null,null,""]
[{"$f":"IF(B378=\"\",\"\",MAX($A$7:A377)+1)","v":""},null,null,null,null,null,null,null,null,null,null,""]
[{"$f":"IF(B379=\"\",\"\",MAX($A$7:A378)+1)","v":""},null,null,null,null,null,null,null,null,null,null,""]
[{"$f":"IF(B380=\"\",\"\",MAX($A$7:A379)+1)","v":""},null,null,null,null,null,null,null,null,null,null,""]
[{"$f":"IF(B381=\"\",\"\",MAX($A$7:A380)+1)","v":""},null,null,null,null,null,null,null,null,null,null,""]
[{"$f":"IF(B382=\"\",\"\",MAX($A$7:A381)+1)","v":""},null,null,null,null,null,null,null,null,null,null,""]
[{"$f":"IF(B383=\"\",\"\",MAX($A$7:A382)+1)","v":""},null,null,null,null,null,null,null,null,null,null,""]
[{"$f":"IF(B384=\"\",\"\",MAX($A$7:A383)+1)","v":""},null,null,null,null,null,null,null,null,null,null,""]
[{"$f":"IF(B385=\"\",\"\",MAX($A$7:A384)+1)","v":""},null,null,null,null,null,null,null,null,null,null,""]
[{"$f":"IF(B386=\"\",\"\",MAX($A$7:A385)+1)","v":""},null,null,null,null,null,null,null,null,null,null,""]
[{"$f":"IF(B387=\"\",\"\",MAX($A$7:A386)+1)","v":""},null,null,null,null,null,null,null,null,null,null,""]
[{"$f":"IF(B388=\"\",\"\",MAX($A$7:A387)+1)","v":""},null,null,null,null,null,null,null,null,null,null,""]
[{"$f":"IF(B389=\"\",\"\",MAX($A$7:A388)+1)","v":""},null,null,null,null,null,null,null,null,null,null,""]
[{"$f":"IF(B390=\"\",\"\",MAX($A$7:A389)+1)","v":""},null,null,null,null,null,null,null,null,null,null,""]
[{"$f":"IF(B391=\"\",\"\",MAX($A$7:A390)+1)","v":""},null,null,null,null,null,null,null,null,null,null,""]
[{"$f":"IF(B392=\"\",\"\",MAX($A$7:A391)+1)","v":""},null,null,null,null,null,null,null,null,null,null,{"$f":"IF(AND(I392=\"\",J392=\"\"),\"\",L391+I392-J392-K392)","v":""}]
[{"$f":"IF(B393=\"\",\"\",MAX($A$7:A392)+1)","v":""},null,null,null,null,null,null,null,null,null,null,""]
[{"$f":"IF(B394=\"\",\"\",MAX($A$7:A393)+1)","v":""},null,null,null,null,null,null,null,null,null,null,""]
[{"$f":"IF(B395=\"\",\"\",MAX($A$7:A394)+1)","v":""},null,null,null,null,null,null,null,null,null,null,""]
[{"$f":"IF(B396=\"\",\"\",MAX($A$7:A395)+1)","v":""},null,null,null,null,null,null,null,null,null,null,""]
[{"$f":"IF(B397=\"\",\"\",MAX($A$7:A396)+1)","v":""},null,null,null,null,null,null,null,null,null,null,""]
[{"$f":"IF(B398=\"\",\"\",MAX($A$7:A397)+1)","v":""},null,null,null,null,null,null,null,null,null,null,""]
[{"$f":"IF(B399=\"\",\"\",MAX($A$7:A398)+1)","v":""},null,null,null,null,null,null,null,null,null,null,""]
[{"$f":"IF(B400=\"\",\"\",MAX($A$7:A399)+1)","v":""},null,null,null,null,null,null,null,null,null,null,""]
[{"$f":"IF(B401=\"\",\"\",MAX($A$7:A400)+1)","v":""},null,null,null,null,null,null,null,null,null,null,""]
[{"$f":"IF(B402=\"\",\"\",MAX($A$7:A401)+1)","v":""},null,null,null,null,null,null,null,null,null,null,""]
[{"$f":"IF(B403=\"\",\"\",MAX($A$7:A402)+1)","v":""},null,null,null,null,null,null,null,null,null,null,""]
[{"$f":"IF(B404=\"\",\"\",MAX($A$7:A403)+1)","v":""},null,null,null,null,null,null,null,null,null,null,""]
[{"$f":"IF(B405=\"\",\"\",MAX($A$7:A404)+1)","v":""},null,null,null,null,null,null,null,null,null,null,""]
[{"$f":"IF(B406=\"\",\"\",MAX($A$7:A405)+1)","v":""},null,null,null,null,null,null,null,null,null,null,""]
[{"$f":"IF(B407=\"\",\"\",MAX($A$7:A406)+1)","v":""},null,null,null,null,null,null,null,null,null,null,""]
[{"$f":"IF(B408=\"\",\"\",MAX($A$7:A407)+1)","v":""},null,null,null,null,null,null,null,null,null,null,""]
[{"$f":"IF(B409=\"\",\"\",MAX($A$7:A408)+1)","v":""},null,null,null,null,null,null,null,null,null,null,""]
[{"$f":"IF(B410=\"\",\"\",MAX($A$7:A409)+1)","v":""},null,null,null,null,null,null,null,null,null,null,""]
[{"$f":"IF(B411=\"\",\"\",MAX($A$7:A410)+1)","v":""},null,null,null,null,null,null,null,null,null,null,""]
[{"$f":"IF(B412=\"\",\"\",MAX($A$7:A411)+1)","v":""},null,null,null,null,null,null,null,null,null,null,""]
[{"$f":"IF(B413=\"\",\"\",MAX($A$7:A412)+1)","v":""},null,null,null,null,null,null,null,null,null,null,""]
[{"$f":"IF(B414=\"\",\"\",MAX($A$7:A413)+1)","v":""},null,null,null,null,null,null,null,null,null,null,""]
[{"$f":"IF(B415=\"\",\"\",MAX($A$7:A414)+1)","v":""},null,null,null,null,null,null,null,null,null,null,""]
[{"$f":"IF(B416=\"\",\"\",MAX($A$7:A415)+1)","v":""},null,null,null,null,null,null,null,null,null,null,""]
[{"$f":"IF(B417=\"\",\"\",MAX($A$7:A416)+1)","v":""},null,null,null,null,null,null,null,null,null,null,""]
[{"$f":"IF(B418=\"\",\"\",MAX($A$7:A417)+1)","v":""},null,null,null,null,null,null,null,null,null,null,""]
[{"$f":"IF(B419=\"\",\"\",MAX($A$7:A418)+1)","v":""},null,null,null,null,null,null,null,null,null,null,""]
[{"$f":"IF(B420=\"\",\"\",MAX($A$7:A419)+1)","v":""},null,null,null,null,null,null,null,null,null,null,""]
[{"$f":"IF(B421=\"\",\"\",MAX($A$7:A420)+1)","v":""},null,null,null,null,null,null,null,null,null,null,""]
[{"$f":"IF(B422=\"\",\"\",MAX($A$7:A421)+1)","v":""},null,null,null,null,null,null,null,null,null,null,""]
[{"$f":"IF(B423=\"\",\"\",MAX($A$7:A422)+1)","v":""},null,null,null,null,null,null,null,null,null,null,""]
[{"$f":"IF(B424=\"\",\"\",MAX($A$7:A423)+1)","v":""},null,null,null,null,null,null,null,null,null,null,""]
[{"$f":"IF(B425=\"\",\"\",MAX($A$7:A424)+1)","v":""},null,null,null,null,null,null,null,null,null,null,""]
[{"$f":"IF(B426=\"\",\"\",MAX($A$7:A425)+1)","v":""},null,null,null,null,null,null,null,null,null,null,""]
[{"$f":"IF(B427=\"\",\"\",MAX($A$7:A426)+1)","v":""},null,null,null,null,null,null,null,null,null,null,""]
[{"$f":"IF(B428=\"\",\"\",MAX($A$7:A427)+1)","v":""},null,null,null,null,null,null,null,null,null,null,""]
[{"$f":"IF(B429=\"\",\"\",MAX($A$7:A428)+1)","v":""},null,null,null,null,null,null,null,null,null,null,""]
[{"$f":"IF(B430=\"\",\"\",MAX($A$7:A429)+1)","v":""},null,null,null,null,null,null,null,null,null,null,""]
[{"$f":"IF(B431=\"\",\"\",MAX($A$7:A430)+1)","v":""},null,null,null,null,null,null,null,null,null,null,""]
[{"$f":"IF(B432=\"\",\"\",MAX($A$7:A431)+1)","v":""},null,null,null,null,null,null,null,null,null,null,""]
[{"$f":"IF(B433=\"\",\"\",MAX($A$7:A432)+1)","v":""},null,null,null,null,null,null,null,null,null,null,""]
[{"$f":"IF(B434=\"\",\"\",MAX($A$7:A433)+1)","v":""},null,null,null,null,null,null,null,null,null,null,""]
[{"$f":"IF(B435=\"\",\"\",MAX($A$7:A434)+1)","v":""},null,null,null,null,null,null,null,null,null,null,""]
[{"$f":"IF(B436=\"\",\"\",MAX($A$7:A435)+1)","v":""},null,null,null,null,null,null,null,null,null,null,""]
[{"$f":"IF(B437=\"\",\"\",MAX($A$7:A436)+1)","v":""},null,null,null,null,null,null,null,null,null,null,""]
[{"$f":"IF(B438=\"\",\"\",MAX($A$7:A437)+1)","v":""},null,null,null,null,null,null,null,null,null,null,""]
[{"$f":"IF(B439=\"\",\"\",MAX($A$7:A438)+1)","v":""},null,null,null,null,null,null,null,null,null,null,""]
[{"$f":"IF(B440=\"\",\"\",MAX($A$7:A439)+1)","v":""},null,null,null,null,null,null,null,null,null,null,""]
[{"$f":"IF(B441=\"\",\"\",MAX($A$7:A440)+1)","v":""},null,null,null,null,null,null,null,null,null,null,""]
[{"$f":"IF(B442=\"\",\"\",MAX($A$7:A441)+1)","v":""},null,null,null,null,null,null,null,null,null,null,""]
[{"$f":"IF(B443=\"\",\"\",MAX($A$7:A442)+1)","v":""},null,null,null,null,null,null,null,null,null,null,""]
[{"$f":"IF(B444=\"\",\"\",MAX($A$7:A443)+1)","v":""},null,null,null,null,null,null,null,null,null,null,""]
[{"$f":"IF(B445=\"\",\"\",MAX($A$7:A444)+1)","v":""},null,null,null,null,null,null,null,null,null,null,""]
[{"$f":"IF(B446=\"\",\"\",MAX($A$7:A445)+1)","v":""},null,null,null,null,null,null,null,null,null,null,""]
[{"$f":"IF(B447=\"\",\"\",MAX($A$7:A446)+1)","v":""},null,null,null,null,null,null,null,null,null,null,""]
[{"$f":"IF(B448=\"\",\"\",MAX($A$7:A447)+1)","v":""},null,null,null,null,null,null,null,null,null,null,""]
[{"$f":"IF(B449=\"\",\"\",MAX($A$7:A448)+1)","v":""},null,null,null,null,null,null,null,null,null,null,""]
[{"$f":"IF(B450=\"\",\"\",MAX($A$7:A449)+1)","v":""},null,null,null,null,null,null,null,null,null,null,""]
[{"$f":"IF(B451=\"\",\"\",MAX($A$7:A450)+1)","v":""},null,null,null,null,null,null,null,null,null,null,""]
[{"$f":"IF(B452=\"\",\"\",MAX($A$7:A451)+1)","v":""},null,null,null,null,null,null,null,null,null,null,""]
[{"$f":"IF(B453=\"\",\"\",MAX($A$7:A452)+1)","v":""},null,null,null,null,null,null,null,null,null,null,""]
[{"$f":"IF(B454=\"\",\"\",MAX($A$7:A453)+1)","v":""},null,null,null,null,null,null,null,null,null,null,""]
[{"$f":"IF(B455=\"\",\"\",MAX($A$7:A454)+1)","v":""},null,null,null,null,null,null,null,null,null,null,""]
[{"$f":"IF(B456=\"\",\"\",MAX($A$7:A455)+1)","v":""},null,null,null,null,null,null,null,null,null,null,{"$f":"IF(AND(I456=\"\",J456=\"\"),\"\",L455+I456-J456-K456)","v":""}]
[{"$f":"IF(B457=\"\",\"\",MAX($A$7:A456)+1)","v":""},null,null,null,null,null,null,null,null,null,null,""]
[{"$f":"IF(B458=\"\",\"\",MAX($A$7:A457)+1)","v":""},null,null,null,null,null,null,null,null,null,null,""]
[{"$f":"IF(B459=\"\",\"\",MAX($A$7:A458)+1)","v":""},null,null,null,null,null,null,null,null,null,null,""]
[{"$f":"IF(B460=\"\",\"\",MAX($A$7:A459)+1)","v":""},null,null,null,null,null,null,null,null,null,null,""]
[{"$f":"IF(B461=\"\",\"\",MAX($A$7:A460)+1)","v":""},null,null,null,null,null,null,null,null,null,null,""]
[{"$f":"IF(B462=\"\",\"\",MAX($A$7:A461)+1)","v":""},null,null,null,null,null,null,null,null,null,null,""]
[{"$f":"IF(B463=\"\",\"\",MAX($A$7:A462)+1)","v":""},null,null,null,null,null,null,null,null,null,null,""]
[{"$f":"IF(B464=\"\",\"\",MAX($A$7:A463)+1)","v":""},null,null,null,null,null,null,null,null,null,null,""]
[{"$f":"IF(B465=\"\",\"\",MAX($A$7:A464)+1)","v":""},null,null,null,null,null,null,null,null,null,null,""]
[{"$f":"IF(B466=\"\",\"\",MAX($A$7:A465)+1)","v":""},null,null,null,null,null,null,null,null,null,null,""]
[{"$f":"IF(B467=\"\",\"\",MAX($A$7:A466)+1)","v":""},null,null,null,null,null,null,null,null,null,null,""]
[{"$f":"IF(B468=\"\",\"\",MAX($A$7:A467)+1)","v":""},null,null,null,null,null,null,null,null,null,null,""]
[{"$f":"IF(B469=\"\",\"\",MAX($A$7:A468)+1)","v":""},null,null,null,null,null,null,null,null,null,null,""]
[{"$f":"IF(B470=\"\",\"\",MAX($A$7:A469)+1)","v":""},null,null,null,null,null,null,null,null,null,null,""]
[{"$f":"IF(B471=\"\",\"\",MAX($A$7:A470)+1)","v":""},null,null,null,null,null,null,null,null,null,null,""]
[{"$f":"IF(B472=\"\",\"\",MAX($A$7:A471)+1)","v":""},null,null,null,null,null,null,null,null,null,null,""]
[{"$f":"IF(B473=\"\",\"\",MAX($A$7:A472)+1)","v":""},null,null,null,null,null,null,null,null,null,null,""]
[{"$f":"IF(B474=\"\",\"\",MAX($A$7:A473)+1)","v":""},null,null,null,null,null,null,null,null,null,null,""]
[{"$f":"IF(B475=\"\",\"\",MAX($A$7:A474)+1)","v":""},null,null,null,null,null,null,null,null,null,null,""]
[{"$f":"IF(B476=\"\",\"\",MAX($A$7:A475)+1)","v":""},null,null,null,null,null,null,null,null,null,null,""]
[{"$f":"IF(B477=\"\",\"\",MAX($A$7:A476)+1)","v":""},null,null,null,null,null,null,null,null,null,null,""]
[{"$f":"IF(B478=\"\",\"\",MAX($A$7:A477)+1)","v":""},null,null,null,null,null,null,null,null,null,null,""]
[{"$f":"IF(B479=\"\",\"\",MAX($A$7:A478)+1)","v":""},null,null,null,null,null,null,null,null,null,null,""]
[{"$f":"IF(B480=\"\",\"\",MAX($A$7:A479)+1)","v":""},null,null,null,null,null,null,null,null,null,null,""]
[{"$f":"IF(B481=\"\",\"\",MAX($A$7:A480)+1)","v":""},null,null,null,null,null,null,null,null,null,null,""]
[{"$f":"IF(B482=\"\",\"\",MAX($A$7:A481)+1)","v":""},null,null,null,null,null,null,null,null,null,null,""]
[{"$f":"IF(B483=\"\",\"\",MAX($A$7:A482)+1)","v":""},null,null,null,null,null,null,null,null,null,null,""]
[{"$f":"IF(B484=\"\",\"\",MAX($A$7:A483)+1)","v":""},null,null,null,null,null,null,null,null,null,null,""]
[{"$f":"IF(B485=\"\",\"\",MAX($A$7:A484)+1)","v":""},null,null,null,null,null,null,null,null,null,null,""]
[{"$f":"IF(B486=\"\",\"\",MAX($A$7:A485)+1)","v":""},null,null,null,null,null,null,null,null,null,null,""]
[{"$f":"IF(B487=\"\",\"\",MAX($A$7:A486)+1)","v":""},null,null,null,null,null,null,null,null,null,null,""]
[{"$f":"IF(B488=\"\",\"\",MAX($A$7:A487)+1)","v":""},null,null,null,null,null,null,null,null,null,null,""]
[{"$f":"IF(B489=\"\",\"\",MAX($A$7:A488)+1)","v":""},null,null,null,null,null,null,null,null,null,null,""]
[{"$f":"IF(B490=\"\",\"\",MAX($A$7:A489)+1)","v":""},null,null,null,null,null,null,null,null,null,null,""]
[{"$f":"IF(B491=\"\",\"\",MAX($A$7:A490)+1)","v":""},null,null,null,null,null,null,null,null,null,null,""]
[{"$f":"IF(B492=\"\",\"\",MAX($A$7:A491)+1)","v":""},null,null,null,null,null,null,null,null,null,null,""]
[{"$f":"IF(B493=\"\",\"\",MAX($A$7:A492)+1)","v":""},null,null,null,null,null,null,null,null,null,null,""]
[{"$f":"IF(B494=\"\",\"\",MAX($A$7:A493)+1)","v":""},null,null,null,null,null,null,null,null,null,null,""]
[{"$f":"IF(B495=\"\",\"\",MAX($A$7:A494)+1)","v":""},null,null,null,null,null,null,null,null,null,null,""]
[{"$f":"IF(B496=\"\",\"\",MAX($A$7:A495)+1)","v":""},null,null,null,null,null,null,null,null,null,null,""]
[{"$f":"IF(B497=\"\",\"\",MAX($A$7:A496)+1)","v":""},null,null,null,null,null,null,null,null,null,null,""]
[{"$f":"IF(B498=\"\",\"\",MAX($A$7:A497)+1)","v":""},null,null,null,null,null,null,null,null,null,null,""]
[{"$f":"IF(B499=\"\",\"\",MAX($A$7:A498)+1)","v":""},null,null,null,null,null,null,null,null,null,null,""]
[{"$f":"IF(B500=\"\",\"\",MAX($A$7:A499)+1)","v":""},null,null,null,null,null,null,null,null,null,null,""]
[{"$f":"IF(B501=\"\",\"\",MAX($A$7:A500)+1)","v":""},null,null,null,null,null,null,null,null,null,null,""]
[{"$f":"IF(B502=\"\",\"\",MAX($A$7:A501)+1)","v":""},null,null,null,null,null,null,null,null,null,null,""]
[{"$f":"IF(B503=\"\",\"\",MAX($A$7:A502)+1)","v":""},null,null,null,null,null,null,null,null,null,null,""]
[{"$f":"IF(B504=\"\",\"\",MAX($A$7:A503)+1)","v":""},null,null,null,null,null,null,null,null,null,null,""]
[{"$f":"IF(B505=\"\",\"\",MAX($A$7:A504)+1)","v":""},null,null,null,null,null,null,null,null,null,null,""]
[{"$f":"IF(B506=\"\",\"\",MAX($A$7:A505)+1)","v":""},null,null,null,null,null,null,null,null,null,null,""]
[{"$f":"IF(B507=\"\",\"\",MAX($A$7:A506)+1)","v":""},null,null,null,null,null,null,null,null,null,null,""]
[{"$f":"IF(B508=\"\",\"\",MAX($A$7:A507)+1)","v":""},null,null,null,null,null,null,null,null,null,null,""]
[{"$f":"IF(B509=\"\",\"\",MAX($A$7:A508)+1)","v":""},null,null,null,null,null,null,null,null,null,null,""]
[{"$f":"IF(B510=\"\",\"\",MAX($A$7:A509)+1)","v":""},null,null,null,null,null,null,null,null,null,null,""]
[{"$f":"IF(B511=\"\",\"\",MAX($A$7:A510)+1)","v":""},null,null,null,null,null,null,null,null,null,null,""]
[{"$f":"IF(B512=\"\",\"\",MAX($A$7:A511)+1)","v":""},null,null,null,null,null,null,null,null,null,null,""]
[{"$f":"IF(B513=\"\",\"\",MAX($A$7:A512)+1)","v":""},null,null,null,null,null,null,null,null,null,null,""]
[{"$f":"IF(B514=\"\",\"\",MAX($A$7:A513)+1)","v":""},null,null,null,null,null,null,null,null,null,null,""]
[{"$f":"IF(B515=\"\",\"\",MAX($A$7:A514)+1)","v":""},null,null,null,null,null,null,null,null,null,null,""]
[{"$f":"IF(B516=\"\",\"\",MAX($A$7:A515)+1)","v":""},null,null,null,null,null,null,null,null,null,null,""]
[{"$f":"IF(B517=\"\",\"\",MAX($A$7:A516)+1)","v":""},null,null,null,null,null,null,null,null,null,null,""]
[{"$f":"IF(B518=\"\",\"\",MAX($A$7:A517)+1)","v":""},null,null,null,null,null,null,null,null,null,null,""]
[{"$f":"IF(B519=\"\",\"\",MAX($A$7:A518)+1)","v":""},null,null,null,null,null,null,null,null,null,null,""]
[{"$f":"IF(B520=\"\",\"\",MAX($A$7:A519)+1)","v":""},null,null,null,null,null,null,null,null,null,null,{"$f":"IF(AND(I520=\"\",J520=\"\"),\"\",L519+I520-J520-K520)","v":""}]
[{"$f":"IF(B521=\"\",\"\",MAX($A$7:A520)+1)","v":""},null,null,null,null,null,null,null,null,null,null,""]
[{"$f":"IF(B522=\"\",\"\",MAX($A$7:A521)+1)","v":""},null,null,null,null,null,null,null,null,null,null,""]
[{"$f":"IF(B523=\"\",\"\",MAX($A$7:A522)+1)","v":""},null,null,null,null,null,null,null,null,null,null,""]
[{"$f":"IF(B524=\"\",\"\",MAX($A$7:A523)+1)","v":""},null,null,null,null,null,null,null,null,null,null,""]
[{"$f":"IF(B525=\"\",\"\",MAX($A$7:A524)+1)","v":""},null,null,null,null,null,null,null,null,null,null,""]
[{"$f":"IF(B526=\"\",\"\",MAX($A$7:A525)+1)","v":""},null,null,null,null,null,null,null,null,null,null,""]
[{"$f":"IF(B527=\"\",\"\",MAX($A$7:A526)+1)","v":""},null,null,null,null,null,null,null,null,null,null,""]
[{"$f":"IF(B528=\"\",\"\",MAX($A$7:A527)+1)","v":""},null,null,null,null,null,null,null,null,null,null,""]
[{"$f":"IF(B529=\"\",\"\",MAX($A$7:A528)+1)","v":""},null,null,null,null,null,null,null,null,null,null,""]
[{"$f":"IF(B530=\"\",\"\",MAX($A$7:A529)+1)","v":""},null,null,null,null,null,null,null,null,null,null,""]
[{"$f":"IF(B531=\"\",\"\",MAX($A$7:A530)+1)","v":""},null,null,null,null,null,null,null,null,null,null,""]
[{"$f":"IF(B532=\"\",\"\",MAX($A$7:A531)+1)","v":""},null,null,null,null,null,null,null,null,null,null,""]
[{"$f":"IF(B533=\"\",\"\",MAX($A$7:A532)+1)","v":""},null,null,null,null,null,null,null,null,null,null,""]
[{"$f":"IF(B534=\"\",\"\",MAX($A$7:A533)+1)","v":""},null,null,null,null,null,null,null,null,null,null,""]
[{"$f":"IF(B535=\"\",\"\",MAX($A$7:A534)+1)","v":""},null,null,null,null,null,null,null,null,null,null,""]
[{"$f":"IF(B536=\"\",\"\",MAX($A$7:A535)+1)","v":""},null,null,null,null,null,null,null,null,null,null,""]
[{"$f":"IF(B537=\"\",\"\",MAX($A$7:A536)+1)","v":""},null,null,null,null,null,null,null,null,null,null,""]
[{"$f":"IF(B538=\"\",\"\",MAX($A$7:A537)+1)","v":""},null,null,null,null,null,null,null,null,null,null,""]
[{"$f":"IF(B539=\"\",\"\",MAX($A$7:A538)+1)","v":""},null,null,null,null,null,null,null,null,null,null,""]
[{"$f":"IF(B540=\"\",\"\",MAX($A$7:A539)+1)","v":""},null,null,null,null,null,null,null,null,null,null,""]
[{"$f":"IF(B541=\"\",\"\",MAX($A$7:A540)+1)","v":""},null,null,null,null,null,null,null,null,null,null,""]
[{"$f":"IF(B542=\"\",\"\",MAX($A$7:A541)+1)","v":""},null,null,null,null,null,null,null,null,null,null,""]
[{"$f":"IF(B543=\"\",\"\",MAX($A$7:A542)+1)","v":""},null,null,null,null,null,null,null,null,null,null,""]
[{"$f":"IF(B544=\"\",\"\",MAX($A$7:A543)+1)","v":""},null,null,null,null,null,null,null,null,null,null,""]
[{"$f":"IF(B545=\"\",\"\",MAX($A$7:A544)+1)","v":""},null,null,null,null,null,null,null,null,null,null,""]
[{"$f":"IF(B546=\"\",\"\",MAX($A$7:A545)+1)","v":""},null,null,null,null,null,null,null,null,null,null,""]
[{"$f":"IF(B547=\"\",\"\",MAX($A$7:A546)+1)","v":""},null,null,null,null,null,null,null,null,null,null,""]
[{"$f":"IF(B548=\"\",\"\",MAX($A$7:A547)+1)","v":""},null,null,null,null,null,null,null,null,null,null,""]
[{"$f":"IF(B549=\"\",\"\",MAX($A$7:A548)+1)","v":""},null,null,null,null,null,null,null,null,null,null,""]
[{"$f":"IF(B550=\"\",\"\",MAX($A$7:A549)+1)","v":""},null,null,null,null,null,null,null,null,null,null,""]
[{"$f":"IF(B551=\"\",\"\",MAX($A$7:A550)+1)","v":""},null,null,null,null,null,null,null,null,null,null,""]
[{"$f":"IF(B552=\"\",\"\",MAX($A$7:A551)+1)","v":""},null,null,null,null,null,null,null,null,null,null,""]
[{"$f":"IF(B553=\"\",\"\",MAX($A$7:A552)+1)","v":""},null,null,null,null,null,null,null,null,null,null,""]
[{"$f":"IF(B554=\"\",\"\",MAX($A$7:A553)+1)","v":""},null,null,null,null,null,null,null,null,null,null,""]
[{"$f":"IF(B555=\"\",\"\",MAX($A$7:A554)+1)","v":""},null,null,null,null,null,null,null,null,null,null,""]
[{"$f":"IF(B556=\"\",\"\",MAX($A$7:A555)+1)","v":""},null,null,null,null,null,null,null,null,null,null,""]
[{"$f":"IF(B557=\"\",\"\",MAX($A$7:A556)+1)","v":""},null,null,null,null,null,null,null,null,null,null,""]
[{"$f":"IF(B558=\"\",\"\",MAX($A$7:A557)+1)","v":""},null,null,null,null,null,null,null,null,null,null,""]
[{"$f":"IF(B559=\"\",\"\",MAX($A$7:A558)+1)","v":""},null,null,null,null,null,null,null,null,null,null,""]
[{"$f":"IF(B560=\"\",\"\",MAX($A$7:A559)+1)","v":""},null,null,null,null,null,null,null,null,null,null,""]
[{"$f":"IF(B561=\"\",\"\",MAX($A$7:A560)+1)","v":""},null,null,null,null,null,null,null,null,null,null,""]
[{"$f":"IF(B562=\"\",\"\",MAX($A$7:A561)+1)","v":""},null,null,null,null,null,null,null,null,null,null,""]
[{"$f":"IF(B563=\"\",\"\",MAX($A$7:A562)+1)","v":""},null,null,null,null,null,null,null,null,null,null,""]
[{"$f":"IF(B564=\"\",\"\",MAX($A$7:A563)+1)","v":""},null,null,null,null,null,null,null,null,null,null,""]
[{"$f":"IF(B565=\"\",\"\",MAX($A$7:A564)+1)","v":""},null,null,null,null,null,null,null,null,null,null,""]
[{"$f":"IF(B566=\"\",\"\",MAX($A$7:A565)+1)","v":""},null,null,null,null,null,null,null,null,null,null,""]
[{"$f":"IF(B567=\"\",\"\",MAX($A$7:A566)+1)","v":""},null,null,null,null,null,null,null,null,null,null,""]
[{"$f":"IF(B568=\"\",\"\",MAX($A$7:A567)+1)","v":""},null,null,null,null,null,null,null,null,null,null,""]
[{"$f":"IF(B569=\"\",\"\",MAX($A$7:A568)+1)","v":""},null,null,null,null,null,null,null,null,null,null,""]
[{"$f":"IF(B570=\"\",\"\",MAX($A$7:A569)+1)","v":""},null,null,null,null,null,null,null,null,null,null,""]
[{"$f":"IF(B571=\"\",\"\",MAX($A$7:A570)+1)","v":""},null,null,null,null,null,null,null,null,null,null,""]
[{"$f":"IF(B572=\"\",\"\",MAX($A$7:A571)+1)","v":""},null,null,null,null,null,null,null,null,null,null,""]
[{"$f":"IF(B573=\"\",\"\",MAX($A$7:A572)+1)","v":""},null,null,null,null,null,null,null,null,null,null,""]
[{"$f":"IF(B574=\"\",\"\",MAX($A$7:A573)+1)","v":""},null,null,null,null,null,null,null,null,null,null,""]
[{"$f":"IF(B575=\"\",\"\",MAX($A$7:A574)+1)","v":""},null,null,null,null,null,null,null,null,null,null,""]
[{"$f":"IF(B576=\"\",\"\",MAX($A$7:A575)+1)","v":""},null,null,null,null,null,null,null,null,null,null,""]
[{"$f":"IF(B577=\"\",\"\",MAX($A$7:A576)+1)","v":""},null,null,null,null,null,null,null,null,null,null,""]
[{"$f":"IF(B578=\"\",\"\",MAX($A$7:A577)+1)","v":""},null,null,null,null,null,null,null,null,null,null,""]
[{"$f":"IF(B579=\"\",\"\",MAX($A$7:A578)+1)","v":""},null,null,null,null,null,null,null,null,null,null,""]
[{"$f":"IF(B580=\"\",\"\",MAX($A$7:A579)+1)","v":""},null,null,null,null,null,null,null,null,null,null,""]
[{"$f":"IF(B581=\"\",\"\",MAX($A$7:A580)+1)","v":""},null,null,null,null,null,null,null,null,null,null,""]
[{"$f":"IF(B582=\"\",\"\",MAX($A$7:A581)+1)","v":""},null,null,null,null,null,null,null,null,null,null,""]
[{"$f":"IF(B583=\"\",\"\",MAX($A$7:A582)+1)","v":""},null,null,null,null,null,null,null,null,null,null,""]
[{"$f":"IF(B584=\"\",\"\",MAX($A$7:A583)+1)","v":""},null,null,null,null,null,null,null,null,null,null,{"$f":"IF(AND(I584=\"\",J584=\"\"),\"\",L583+I584-J584-K584)","v":""}]
[{"$f":"IF(B585=\"\",\"\",MAX($A$7:A584)+1)","v":""},null,null,null,null,null,null,null,null,null,null,""]
[{"$f":"IF(B586=\"\",\"\",MAX($A$7:A585)+1)","v":""},null,null,null,null,null,null,null,null,null,null,""]
[{"$f":"IF(B587=\"\",\"\",MAX($A$7:A586)+1)","v":""},null,null,null,null,null,null,null,null,null,null,""]
[{"$f":"IF(B588=\"\",\"\",MAX($A$7:A587)+1)","v":""},null,null,null,null,null,null,null,null,null,null,""]
[{"$f":"IF(B589=\"\",\"\",MAX($A$7:A588)+1)","v":""},null,null,null,null,null,null,null,null,null,null,""]
[{"$f":"IF(B590=\"\",\"\",MAX($A$7:A589)+1)","v":""},null,null,null,null,null,null,null,null,null,null,""]
[{"$f":"IF(B591=\"\",\"\",MAX($A$7:A590)+1)","v":""},null,null,null,null,null,null,null,null,null,null,""]
[{"$f":"IF(B592=\"\",\"\",MAX($A$7:A591)+1)","v":""},null,null,null,null,null,null,null,null,null,null,""]
[{"$f":"IF(B593=\"\",\"\",MAX($A$7:A592)+1)","v":""},null,null,null,null,null,null,null,null,null,null,""]
[{"$f":"IF(B594=\"\",\"\",MAX($A$7:A593)+1)","v":""},null,null,null,null,null,null,null,null,null,null,""]
[{"$f":"IF(B595=\"\",\"\",MAX($A$7:A594)+1)","v":""},null,null,null,null,null,null,null,null,null,null,""]
[{"$f":"IF(B596=\"\",\"\",MAX($A$7:A595)+1)","v":""},null,null,null,null,null,null,null,null,null,null,""]
[{"$f":"IF(B597=\"\",\"\",MAX($A$7:A596)+1)","v":""},null,null,null,null,null,null,null,null,null,null,""]
[{"$f":"IF(B598=\"\",\"\",MAX($A$7:A597)+1)","v":""},null,null,null,null,null,null,null,null,null,null,""]
[{"$f":"IF(B599=\"\",\"\",MAX($A$7:A598)+1)","v":""},null,null,null,null,null,null,null,null,null,null,""]
[{"$f":"IF(B600=\"\",\"\",MAX($A$7:A599)+1)","v":""},null,null,null,null,null,null,null,null,null,null,""]
[{"$f":"IF(B601=\"\",\"\",MAX($A$7:A600)+1)","v":""},null,null,null,null,null,null,null,null,null,null,""]
[{"$f":"IF(B602=\"\",\"\",MAX($A$7:A601)+1)","v":""},null,null,null,null,null,null,null,null,null,null,""]
[{"$f":"IF(B603=\"\",\"\",MAX($A$7:A602)+1)","v":""},null,null,null,null,null,null,null,null,null,null,""]
[{"$f":"IF(B604=\"\",\"\",MAX($A$7:A603)+1)","v":""},null,null,null,null,null,null,null,null,null,null,""]
[{"$f":"IF(B605=\"\",\"\",MAX($A$7:A604)+1)","v":""},null,null,null,null,null,null,null,null,null,null,""]
[{"$f":"IF(B606=\"\",\"\",MAX($A$7:A605)+1)","v":""},null,null,null,null,null,null,null,null,null,null,""]
[{"$f":"IF(B607=\"\",\"\",MAX($A$7:A606)+1)","v":""},null,null,null,null,null,null,null,null,null,null,""]
[{"$f":"IF(B608=\"\",\"\",MAX($A$7:A607)+1)","v":""},null,null,null,null,null,null,null,null,null,null,""]
[{"$f":"IF(B609=\"\",\"\",MAX($A$7:A608)+1)","v":""},null,null,null,null,null,null,null,null,null,null,""]
[{"$f":"IF(B610=\"\",\"\",MAX($A$7:A609)+1)","v":""},null,null,null,null,null,null,null,null,null,null,""]
[{"$f":"IF(B611=\"\",\"\",MAX($A$7:A610)+1)","v":""},null,null,null,null,null,null,null,null,null,null,""]
[{"$f":"IF(B612=\"\",\"\",MAX($A$7:A611)+1)","v":""},null,null,null,null,null,null,null,null,null,null,""]
[{"$f":"IF(B613=\"\",\"\",MAX($A$7:A612)+1)","v":""},null,null,null,null,null,null,null,null,null,null,""]
[{"$f":"IF(B614=\"\",\"\",MAX($A$7:A613)+1)","v":""},null,null,null,null,null,null,null,null,null,null,""]
[{"$f":"IF(B615=\"\",\"\",MAX($A$7:A614)+1)","v":""},null,null,null,null,null,null,null,null,null,null,""]
[{"$f":"IF(B616=\"\",\"\",MAX($A$7:A615)+1)","v":""},null,null,null,null,null,null,null,null,null,null,""]
[{"$f":"IF(B617=\"\",\"\",MAX($A$7:A616)+1)","v":""},null,null,null,null,null,null,null,null,null,null,""]
[{"$f":"IF(B618=\"\",\"\",MAX($A$7:A617)+1)","v":""},null,null,null,null,null,null,null,null,null,null,""]
[{"$f":"IF(B619=\"\",\"\",MAX($A$7:A618)+1)","v":""},null,null,null,null,null,null,null,null,null,null,""]
[{"$f":"IF(B620=\"\",\"\",MAX($A$7:A619)+1)","v":""},null,null,null,null,null,null,null,null,null,null,""]
[{"$f":"IF(B621=\"\",\"\",MAX($A$7:A620)+1)","v":""},null,null,null,null,null,null,null,null,null,null,""]
[{"$f":"IF(B622=\"\",\"\",MAX($A$7:A621)+1)","v":""},null,null,null,null,null,null,null,null,null,null,""]
[{"$f":"IF(B623=\"\",\"\",MAX($A$7:A622)+1)","v":""},null,null,null,null,null,null,null,null,null,null,""]
[{"$f":"IF(B624=\"\",\"\",MAX($A$7:A623)+1)","v":""},null,null,null,null,null,null,null,null,null,null,""]
[{"$f":"IF(B625=\"\",\"\",MAX($A$7:A624)+1)","v":""},null,null,null,null,null,null,null,null,null,null,""]
[{"$f":"IF(B626=\"\",\"\",MAX($A$7:A625)+1)","v":""},null,null,null,null,null,null,null,null,null,null,""]
[{"$f":"IF(B627=\"\",\"\",MAX($A$7:A626)+1)","v":""},null,null,null,null,null,null,null,null,null,null,""]
[{"$f":"IF(B628=\"\",\"\",MAX($A$7:A627)+1)","v":""},null,null,null,null,null,null,null,null,null,null,""]
[{"$f":"IF(B629=\"\",\"\",MAX($A$7:A628)+1)","v":""},null,null,null,null,null,null,null,null,null,null,""]
[{"$f":"IF(B630=\"\",\"\",MAX($A$7:A629)+1)","v":""},null,null,null,null,null,null,null,null,null,null,""]
[{"$f":"IF(B631=\"\",\"\",MAX($A$7:A630)+1)","v":""},null,null,null,null,null,null,null,null,null,null,""]
[{"$f":"IF(B632=\"\",\"\",MAX($A$7:A631)+1)","v":""},null,null,null,null,null,null,null,null,null,null,""]
[{"$f":"IF(B633=\"\",\"\",MAX($A$7:A632)+1)","v":""},null,null,null,null,null,null,null,null,null,null,""]
[{"$f":"IF(B634=\"\",\"\",MAX($A$7:A633)+1)","v":""},null,null,null,null,null,null,null,null,null,null,""]
[{"$f":"IF(B635=\"\",\"\",MAX($A$7:A634)+1)","v":""},null,null,null,null,null,null,null,null,null,null,""]
[{"$f":"IF(B636=\"\",\"\",MAX($A$7:A635)+1)","v":""},null,null,null,null,null,null,null,null,null,null,""]
[{"$f":"IF(B637=\"\",\"\",MAX($A$7:A636)+1)","v":""},null,null,null,null,null,null,null,null,null,null,""]
[{"$f":"IF(B638=\"\",\"\",MAX($A$7:A637)+1)","v":""},null,null,null,null,null,null,null,null,null,null,""]
[{"$f":"IF(B639=\"\",\"\",MAX($A$7:A638)+1)","v":""},null,null,null,null,null,null,null,null,null,null,""]
[{"$f":"IF(B640=\"\",\"\",MAX($A$7:A639)+1)","v":""},null,null,null,null,null,null,null,null,null,null,""]
[{"$f":"IF(B641=\"\",\"\",MAX($A$7:A640)+1)","v":""},null,null,null,null,null,null,null,null,null,null,""]
[{"$f":"IF(B642=\"\",\"\",MAX($A$7:A641)+1)","v":""},null,null,null,null,null,null,null,null,null,null,""]
[{"$f":"IF(B643=\"\",\"\",MAX($A$7:A642)+1)","v":""},null,null,null,null,null,null,null,null,null,null,""]
[{"$f":"IF(B644=\"\",\"\",MAX($A$7:A643)+1)","v":""},null,null,null,null,null,null,null,null,null,null,""]
[{"$f":"IF(B645=\"\",\"\",MAX($A$7:A644)+1)","v":""},null,null,null,null,null,null,null,null,null,null,""]
[{"$f":"IF(B646=\"\",\"\",MAX($A$7:A645)+1)","v":""},null,null,null,null,null,null,null,null,null,null,""]
[{"$f":"IF(B647=\"\",\"\",MAX($A$7:A646)+1)","v":""},null,null,null,null,null,null,null,null,null,null,""]
[{"$f":"IF(B648=\"\",\"\",MAX($A$7:A647)+1)","v":""},null,null,null,null,null,null,null,null,null,null,{"$f":"IF(AND(I648=\"\",J648=\"\"),\"\",L647+I648-J648-K648)","v":""}]
[{"$f":"IF(B649=\"\",\"\",MAX($A$7:A648)+1)","v":""},null,null,null,null,null,null,null,null,null,null,""]
[{"$f":"IF(B650=\"\",\"\",MAX($A$7:A649)+1)","v":""},null,null,null,null,null,null,null,null,null,null,""]
[{"$f":"IF(B651=\"\",\"\",MAX($A$7:A650)+1)","v":""},null,null,null,null,null,null,null,null,null,null,""]
[{"$f":"IF(B652=\"\",\"\",MAX($A$7:A651)+1)","v":""},null,null,null,null,null,null,null,null,null,null,""]
[{"$f":"IF(B653=\"\",\"\",MAX($A$7:A652)+1)","v":""},null,null,null,null,null,null,null,null,null,null,""]
[{"$f":"IF(B654=\"\",\"\",MAX($A$7:A653)+1)","v":""},null,null,null,null,null,null,null,null,null,null,""]
[{"$f":"IF(B655=\"\",\"\",MAX($A$7:A654)+1)","v":""},null,null,null,null,null,null,null,null,null,null,""]
[{"$f":"IF(B656=\"\",\"\",MAX($A$7:A655)+1)","v":""},null,null,null,null,null,null,null,null,null,null,""]
[{"$f":"IF(B657=\"\",\"\",MAX($A$7:A656)+1)","v":""},null,null,null,null,null,null,null,null,null,null,""]
[{"$f":"IF(B658=\"\",\"\",MAX($A$7:A657)+1)","v":""},null,null,null,null,null,null,null,null,null,null,""]
[{"$f":"IF(B659=\"\",\"\",MAX($A$7:A658)+1)","v":""},null,null,null,null,null,null,null,null,null,null,""]
[{"$f":"IF(B660=\"\",\"\",MAX($A$7:A659)+1)","v":""},null,null,null,null,null,null,null,null,null,null,""]
[{"$f":"IF(B661=\"\",\"\",MAX($A$7:A660)+1)","v":""},null,null,null,null,null,null,null,null,null,null,""]
[{"$f":"IF(B662=\"\",\"\",MAX($A$7:A661)+1)","v":""},null,null,null,null,null,null,null,null,null,null,""]
[{"$f":"IF(B663=\"\",\"\",MAX($A$7:A662)+1)","v":""},null,null,null,null,null,null,null,null,null,null,""]
[{"$f":"IF(B664=\"\",\"\",MAX($A$7:A663)+1)","v":""},null,null,null,null,null,null,null,null,null,null,""]
[{"$f":"IF(B665=\"\",\"\",MAX($A$7:A664)+1)","v":""},null,null,null,null,null,null,null,null,null,null,""]
[{"$f":"IF(B666=\"\",\"\",MAX($A$7:A665)+1)","v":""},null,null,null,null,null,null,null,null,null,null,""]
[{"$f":"IF(B667=\"\",\"\",MAX($A$7:A666)+1)","v":""},null,null,null,null,null,null,null,null,null,null,""]
[{"$f":"IF(B668=\"\",\"\",MAX($A$7:A667)+1)","v":""},null,null,null,null,null,null,null,null,null,null,""]
[{"$f":"IF(B669=\"\",\"\",MAX($A$7:A668)+1)","v":""},null,null,null,null,null,null,null,null,null,null,""]
[{"$f":"IF(B670=\"\",\"\",MAX($A$7:A669)+1)","v":""},null,null,null,null,null,null,null,null,null,null,""]
[{"$f":"IF(B671=\"\",\"\",MAX($A$7:A670)+1)","v":""},null,null,null,null,null,null,null,null,null,null,""]
[{"$f":"IF(B672=\"\",\"\",MAX($A$7:A671)+1)","v":""},null,null,null,null,null,null,null,null,null,null,""]
[{"$f":"IF(B673=\"\",\"\",MAX($A$7:A672)+1)","v":""},null,null,null,null,null,null,null,null,null,null,""]
[{"$f":"IF(B674=\"\",\"\",MAX($A$7:A673)+1)","v":""},null,null,null,null,null,null,null,null,null,null,""]
[{"$f":"IF(B675=\"\",\"\",MAX($A$7:A674)+1)","v":""},null,null,null,null,null,null,null,null,null,null,""]
[{"$f":"IF(B676=\"\",\"\",MAX($A$7:A675)+1)","v":""},null,null,null,null,null,null,null,null,null,null,""]
[{"$f":"IF(B677=\"\",\"\",MAX($A$7:A676)+1)","v":""},null,null,null,null,null,null,null,null,null,null,""]
[{"$f":"IF(B678=\"\",\"\",MAX($A$7:A677)+1)","v":""},null,null,null,null,null,null,null,null,null,null,""]
[{"$f":"IF(B679=\"\",\"\",MAX($A$7:A678)+1)","v":""},null,null,null,null,null,null,null,null,null,null,""]
[{"$f":"IF(B680=\"\",\"\",MAX($A$7:A679)+1)","v":""},null,null,null,null,null,null,null,null,null,null,""]
[{"$f":"IF(B681=\"\",\"\",MAX($A$7:A680)+1)","v":""},null,null,null,null,null,null,null,null,null,null,""]
[{"$f":"IF(B682=\"\",\"\",MAX($A$7:A681)+1)","v":""},null,null,null,null,null,null,null,null,null,null,""]
[{"$f":"IF(B683=\"\",\"\",MAX($A$7:A682)+1)","v":""},null,null,null,null,null,null,null,null,null,null,""]
[{"$f":"IF(B684=\"\",\"\",MAX($A$7:A683)+1)","v":""},null,null,null,null,null,null,null,null,null,null,""]
[{"$f":"IF(B685=\"\",\"\",MAX($A$7:A684)+1)","v":""},null,null,null,null,null,null,null,null,null,null,""]
[{"$f":"IF(B686=\"\",\"\",MAX($A$7:A685)+1)","v":""},null,null,null,null,null,null,null,null,null,null,""]
[{"$f":"IF(B687=\"\",\"\",MAX($A$7:A686)+1)","v":""},null,null,null,null,null,null,null,null,null,null,""]
[{"$f":"IF(B688=\"\",\"\",MAX($A$7:A687)+1)","v":""},null,null,null,null,null,null,null,null,null,null,""]
[{"$f":"IF(B689=\"\",\"\",MAX($A$7:A688)+1)","v":""},null,null,null,null,null,null,null,null,null,null,""]
[{"$f":"IF(B690=\"\",\"\",MAX($A$7:A689)+1)","v":""},null,null,null,null,null,null,null,null,null,null,""]
[{"$f":"IF(B691=\"\",\"\",MAX($A$7:A690)+1)","v":""},null,null,null,null,null,null,null,null,null,null,""]
[{"$f":"IF(B692=\"\",\"\",MAX($A$7:A691)+1)","v":""},null,null,null,null,null,null,null,null,null,null,""]
[{"$f":"IF(B693=\"\",\"\",MAX($A$7:A692)+1)","v":""},null,null,null,null,null,null,null,null,null,null,""]
[{"$f":"IF(B694=\"\",\"\",MAX($A$7:A693)+1)","v":""},null,null,null,null,null,null,null,null,null,null,""]
[{"$f":"IF(B695=\"\",\"\",MAX($A$7:A694)+1)","v":""},null,null,null,null,null,null,null,null,null,null,""]
[{"$f":"IF(B696=\"\",\"\",MAX($A$7:A695)+1)","v":""},null,null,null,null,null,null,null,null,null,null,""]
[{"$f":"IF(B697=\"\",\"\",MAX($A$7:A696)+1)","v":""},null,null,null,null,null,null,null,null,null,null,""]
[{"$f":"IF(B698=\"\",\"\",MAX($A$7:A697)+1)","v":""},null,null,null,null,null,null,null,null,null,null,""]
[{"$f":"IF(B699=\"\",\"\",MAX($A$7:A698)+1)","v":""},null,null,null,null,null,null,null,null,null,null,""]
[{"$f":"IF(B700=\"\",\"\",MAX($A$7:A699)+1)","v":""},null,null,null,null,null,null,null,null,null,null,""]
[{"$f":"IF(B701=\"\",\"\",MAX($A$7:A700)+1)","v":""},null,null,null,null,null,null,null,null,null,null,""]
[{"$f":"IF(B702=\"\",\"\",MAX($A$7:A701)+1)","v":""},null,null,null,null,null,null,null,null,null,null,""]
[{"$f":"IF(B703=\"\",\"\",MAX($A$7:A702)+1)","v":""},null,null,null,null,null,null,null,null,null,null,""]
[{"$f":"IF(B704=\"\",\"\",MAX($A$7:A703)+1)","v":""},null,null,null,null,null,null,null,null,null,null,""]
[{"$f":"IF(B705=\"\",\"\",MAX($A$7:A704)+1)","v":""},null,null,null,null,null,null,null,null,null,null,""]
[{"$f":"IF(B706=\"\",\"\",MAX($A$7:A705)+1)","v":""},null,null,null,null,null,null,null,null,null,null,""]
[{"$f":"IF(B707=\"\",\"\",MAX($A$7:A706)+1)","v":""},null,null,null,null,null,null,null,null,null,null,""]
[{"$f":"IF(B708=\"\",\"\",MAX($A$7:A707)+1)","v":""},null,null,null,null,null,null,null,null,null,null,""]
[{"$f":"IF(B709=\"\",\"\",MAX($A$7:A708)+1)","v":""},null,null,null,null,null,null,null,null,null,null,""]
[{"$f":"IF(B710=\"\",\"\",MAX($A$7:A709)+1)","v":""},null,null,null,null,null,null,null,null,null,null,""]
[{"$f":"IF(B711=\"\",\"\",MAX($A$7:A710)+1)","v":""},null,null,null,null,null,null,null,null,null,null,""]
[{"$f":"IF(B712=\"\",\"\",MAX($A$7:A711)+1)","v":""},null,null,null,null,null,null,null,null,null,null,{"$f":"IF(AND(I712=\"\",J712=\"\"),\"\",L711+I712-J712-K712)","v":""}]
[{"$f":"IF(B713=\"\",\"\",MAX($A$7:A712)+1)","v":""},null,null,null,null,null,null,null,null,null,null,""]
[{"$f":"IF(B714=\"\",\"\",MAX($A$7:A713)+1)","v":""},null,null,null,null,null,null,null,null,null,null,""]
[{"$f":"IF(B715=\"\",\"\",MAX($A$7:A714)+1)","v":""},null,null,null,null,null,null,null,null,null,null,""]
[{"$f":"IF(B716=\"\",\"\",MAX($A$7:A715)+1)","v":""},null,null,null,null,null,null,null,null,null,null,""]
[{"$f":"IF(B717=\"\",\"\",MAX($A$7:A716)+1)","v":""},null,null,null,null,null,null,null,null,null,null,""]
[{"$f":"IF(B718=\"\",\"\",MAX($A$7:A717)+1)","v":""},null,null,null,null,null,null,null,null,null,null,""]
[{"$f":"IF(B719=\"\",\"\",MAX($A$7:A718)+1)","v":""},null,null,null,null,null,null,null,null,null,null,""]
[{"$f":"IF(B720=\"\",\"\",MAX($A$7:A719)+1)","v":""},null,null,null,null,null,null,null,null,null,null,""]
[{"$f":"IF(B721=\"\",\"\",MAX($A$7:A720)+1)","v":""},null,null,null,null,null,null,null,null,null,null,""]
[{"$f":"IF(B722=\"\",\"\",MAX($A$7:A721)+1)","v":""},null,null,null,null,null,null,null,null,null,null,""]
[{"$f":"IF(B723=\"\",\"\",MAX($A$7:A722)+1)","v":""},null,null,null,null,null,null,null,null,null,null,""]
[{"$f":"IF(B724=\"\",\"\",MAX($A$7:A723)+1)","v":""},null,null,null,null,null,null,null,null,null,null,""]
[{"$f":"IF(B725=\"\",\"\",MAX($A$7:A724)+1)","v":""},null,null,null,null,null,null,null,null,null,null,""]
[{"$f":"IF(B726=\"\",\"\",MAX($A$7:A725)+1)","v":""},null,null,null,null,null,null,null,null,null,null,""]
[{"$f":"IF(B727=\"\",\"\",MAX($A$7:A726)+1)","v":""},null,null,null,null,null,null,null,null,null,null,""]
[{"$f":"IF(B728=\"\",\"\",MAX($A$7:A727)+1)","v":""},null,null,null,null,null,null,null,null,null,null,""]
[{"$f":"IF(B729=\"\",\"\",MAX($A$7:A728)+1)","v":""},null,null,null,null,null,null,null,null,null,null,""]
[{"$f":"IF(B730=\"\",\"\",MAX($A$7:A729)+1)","v":""},null,null,null,null,null,null,null,null,null,null,""]
[{"$f":"IF(B731=\"\",\"\",MAX($A$7:A730)+1)","v":""},null,null,null,null,null,null,null,null,null,null,""]
[{"$f":"IF(B732=\"\",\"\",MAX($A$7:A731)+1)","v":""},null,null,null,null,null,null,null,null,null,null,""]
[{"$f":"IF(B733=\"\",\"\",MAX($A$7:A732)+1)","v":""},null,null,null,null,null,null,null,null,null,null,""]
[{"$f":"IF(B734=\"\",\"\",MAX($A$7:A733)+1)","v":""},null,null,null,null,null,null,null,null,null,null,""]
[{"$f":"IF(B735=\"\",\"\",MAX($A$7:A734)+1)","v":""},null,null,null,null,null,null,null,null,null,null,""]
[{"$f":"IF(B736=\"\",\"\",MAX($A$7:A735)+1)","v":""},null,null,null,null,null,null,null,null,null,null,""]
[{"$f":"IF(B737=\"\",\"\",MAX($A$7:A736)+1)","v":""},null,null,null,null,null,null,null,null,null,null,""]
[{"$f":"IF(B738=\"\",\"\",MAX($A$7:A737)+1)","v":""},null,null,null,null,null,null,null,null,null,null,""]
[{"$f":"IF(B739=\"\",\"\",MAX($A$7:A738)+1)","v":""},null,null,null,null,null,null,null,null,null,null,""]
[{"$f":"IF(B740=\"\",\"\",MAX($A$7:A739)+1)","v":""},null,null,null,null,null,null,null,null,null,null,""]
[{"$f":"IF(B741=\"\",\"\",MAX($A$7:A740)+1)","v":""},null,null,null,null,null,null,null,null,null,null,""]
[{"$f":"IF(B742=\"\",\"\",MAX($A$7:A741)+1)","v":""},null,null,null,null,null,null,null,null,null,null,""]
[{"$f":"IF(B743=\"\",\"\",MAX($A$7:A742)+1)","v":""},null,null,null,null,null,null,null,null,null,null,""]
[{"$f":"IF(B744=\"\",\"\",MAX($A$7:A743)+1)","v":""},null,null,null,null,null,null,null,null,null,null,""]
[{"$f":"IF(B745=\"\",\"\",MAX($A$7:A744)+1)","v":""},null,null,null,null,null,null,null,null,null,null,""]
[{"$f":"IF(B746=\"\",\"\",MAX($A$7:A745)+1)","v":""},null,null,null,null,null,null,null,null,null,null,""]
[{"$f":"IF(B747=\"\",\"\",MAX($A$7:A746)+1)","v":""},null,null,null,null,null,null,null,null,null,null,""]
[{"$f":"IF(B748=\"\",\"\",MAX($A$7:A747)+1)","v":""},null,null,null,null,null,null,null,null,null,null,""]
[{"$f":"IF(B749=\"\",\"\",MAX($A$7:A748)+1)","v":""},null,null,null,null,null,null,null,null,null,null,""]
[{"$f":"IF(B750=\"\",\"\",MAX($A$7:A749)+1)","v":""},null,null,null,null,null,null,null,null,null,null,""]
[{"$f":"IF(B751=\"\",\"\",MAX($A$7:A750)+1)","v":""},null,null,null,null,null,null,null,null,null,null,""]
[{"$f":"IF(B752=\"\",\"\",MAX($A$7:A751)+1)","v":""},null,null,null,null,null,null,null,null,null,null,""]
[{"$f":"IF(B753=\"\",\"\",MAX($A$7:A752)+1)","v":""},null,null,null,null,null,null,null,null,null,null,""]
[{"$f":"IF(B754=\"\",\"\",MAX($A$7:A753)+1)","v":""},null,null,null,null,null,null,null,null,null,null,""]
[{"$f":"IF(B755=\"\",\"\",MAX($A$7:A754)+1)","v":""},null,null,null,null,null,null,null,null,null,null,""]
[{"$f":"IF(B756=\"\",\"\",MAX($A$7:A755)+1)","v":""},null,null,null,null,null,null,null,null,null,null,""]
[{"$f":"IF(B757=\"\",\"\",MAX($A$7:A756)+1)","v":""},null,null,null,null,null,null,null,null,null,null,""]
[{"$f":"IF(B758=\"\",\"\",MAX($A$7:A757)+1)","v":""},null,null,null,null,null,null,null,null,null,null,""]
[{"$f":"IF(B759=\"\",\"\",MAX($A$7:A758)+1)","v":""},null,null,null,null,null,null,null,null,null,null,""]
[{"$f":"IF(B760=\"\",\"\",MAX($A$7:A759)+1)","v":""},null,null,null,null,null,null,null,null,null,null,""]
[{"$f":"IF(B761=\"\",\"\",MAX($A$7:A760)+1)","v":""},null,null,null,null,null,null,null,null,null,null,""]
[{"$f":"IF(B762=\"\",\"\",MAX($A$7:A761)+1)","v":""},null,null,null,null,null,null,null,null,null,null,""]
[{"$f":"IF(B763=\"\",\"\",MAX($A$7:A762)+1)","v":""},null,null,null,null,null,null,null,null,null,null,""]
[{"$f":"IF(B764=\"\",\"\",MAX($A$7:A763)+1)","v":""},null,null,null,null,null,null,null,null,null,null,""]
[{"$f":"IF(B765=\"\",\"\",MAX($A$7:A764)+1)","v":""},null,null,null,null,null,null,null,null,null,null,""]
[{"$f":"IF(B766=\"\",\"\",MAX($A$7:A765)+1)","v":""},null,null,null,null,null,null,null,null,null,null,""]
[{"$f":"IF(B767=\"\",\"\",MAX($A$7:A766)+1)","v":""},null,null,null,null,null,null,null,null,null,null,""]
[{"$f":"IF(B768=\"\",\"\",MAX($A$7:A767)+1)","v":""},null,null,null,null,null,null,null,null,null,null,""]
[{"$f":"IF(B769=\"\",\"\",MAX($A$7:A768)+1)","v":""},null,null,null,null,null,null,null,null,null,null,""]
[{"$f":"IF(B770=\"\",\"\",MAX($A$7:A769)+1)","v":""},null,null,null,null,null,null,null,null,null,null,""]
[{"$f":"IF(B771=\"\",\"\",MAX($A$7:A770)+1)","v":""},null,null,null,null,null,null,null,null,null,null,""]
[{"$f":"IF(B772=\"\",\"\",MAX($A$7:A771)+1)","v":""},null,null,null,null,null,null,null,null,null,null,""]
[{"$f":"IF(B773=\"\",\"\",MAX($A$7:A772)+1)","v":""},null,null,null,null,null,null,null,null,null,null,""]
[{"$f":"IF(B774=\"\",\"\",MAX($A$7:A773)+1)","v":""},null,null,null,null,null,null,null,null,null,null,""]
[{"$f":"IF(B775=\"\",\"\",MAX($A$7:A774)+1)","v":""},null,null,null,null,null,null,null,null,null,null,""]
[{"$f":"IF(B776=\"\",\"\",MAX($A$7:A775)+1)","v":""},null,null,null,null,null,null,null,null,null,null,{"$f":"IF(AND(I776=\"\",J776=\"\"),\"\",L775+I776-J776-K776)","v":""}]
[{"$f":"IF(B777=\"\",\"\",MAX($A$7:A776)+1)","v":""},null,null,null,null,null,null,null,null,null,null,""]
[{"$f":"IF(B778=\"\",\"\",MAX($A$7:A777)+1)","v":""},null,null,null,null,null,null,null,null,null,null,""]
[{"$f":"IF(B779=\"\",\"\",MAX($A$7:A778)+1)","v":""},null,null,null,null,null,null,null,null,null,null,""]
[{"$f":"IF(B780=\"\",\"\",MAX($A$7:A779)+1)","v":""},null,null,null,null,null,null,null,null,null,null,""]
[{"$f":"IF(B781=\"\",\"\",MAX($A$7:A780)+1)","v":""},null,null,null,null,null,null,null,null,null,null,""]
[{"$f":"IF(B782=\"\",\"\",MAX($A$7:A781)+1)","v":""},null,null,null,null,null,null,null,null,null,null,""]
[{"$f":"IF(B783=\"\",\"\",MAX($A$7:A782)+1)","v":""},null,null,null,null,null,null,null,null,null,null,""]
[{"$f":"IF(B784=\"\",\"\",MAX($A$7:A783)+1)","v":""},null,null,null,null,null,null,null,null,null,null,""]
[{"$f":"IF(B785=\"\",\"\",MAX($A$7:A784)+1)","v":""},null,null,null,null,null,null,null,null,null,null,""]
[{"$f":"IF(B786=\"\",\"\",MAX($A$7:A785)+1)","v":""},null,null,null,null,null,null,null,null,null,null,""]
[{"$f":"IF(B787=\"\",\"\",MAX($A$7:A786)+1)","v":""},null,null,null,null,null,null,null,null,null,null,""]
[{"$f":"IF(B788=\"\",\"\",MAX($A$7:A787)+1)","v":""},null,null,null,null,null,null,null,null,null,null,""]
[{"$f":"IF(B789=\"\",\"\",MAX($A$7:A788)+1)","v":""},null,null,null,null,null,null,null,null,null,null,""]
[{"$f":"IF(B790=\"\",\"\",MAX($A$7:A789)+1)","v":""},null,null,null,null,null,null,null,null,null,null,""]
[{"$f":"IF(B791=\"\",\"\",MAX($A$7:A790)+1)","v":""},null,null,null,null,null,null,null,null,null,null,""]
[{"$f":"IF(B792=\"\",\"\",MAX($A$7:A791)+1)","v":""},null,null,null,null,null,null,null,null,null,null,""]
[{"$f":"IF(B793=\"\",\"\",MAX($A$7:A792)+1)","v":""},null,null,null,null,null,null,null,null,null,null,""]
[{"$f":"IF(B794=\"\",\"\",MAX($A$7:A793)+1)","v":""},null,null,null,null,null,null,null,null,null,null,""]
[{"$f":"IF(B795=\"\",\"\",MAX($A$7:A794)+1)","v":""},null,null,null,null,null,null,null,null,null,null,""]
[{"$f":"IF(B796=\"\",\"\",MAX($A$7:A795)+1)","v":""},null,null,null,null,null,null,null,null,null,null,""]
[{"$f":"IF(B797=\"\",\"\",MAX($A$7:A796)+1)","v":""},null,null,null,null,null,null,null,null,null,null,""]
[{"$f":"IF(B798=\"\",\"\",MAX($A$7:A797)+1)","v":""},null,null,null,null,null,null,null,null,null,null,""]
[{"$f":"IF(B799=\"\",\"\",MAX($A$7:A798)+1)","v":""},null,null,null,null,null,null,null,null,null,null,""]
[{"$f":"IF(B800=\"\",\"\",MAX($A$7:A799)+1)","v":""},null,null,null,null,null,null,null,null,null,null,""]
[{"$f":"IF(B801=\"\",\"\",MAX($A$7:A800)+1)","v":""},null,null,null,null,null,null,null,null,null,null,""]
[{"$f":"IF(B802=\"\",\"\",MAX($A$7:A801)+1)","v":""},null,null,null,null,null,null,null,null,null,null,""]
[{"$f":"IF(B803=\"\",\"\",MAX($A$7:A802)+1)","v":""},null,null,null,null,null,null,null,null,null,null,""]
[{"$f":"IF(B804=\"\",\"\",MAX($A$7:A803)+1)","v":""},null,null,null,null,null,null,null,null,null,null,""]
[{"$f":"IF(B805=\"\",\"\",MAX($A$7:A804)+1)","v":""},null,null,null,null,null,null,null,null,null,null,""]
[{"$f":"IF(B806=\"\",\"\",MAX($A$7:A805)+1)","v":""},null,null,null,null,null,null,null,null,null,null,""]
[{"$f":"IF(B807=\"\",\"\",MAX($A$7:A806)+1)","v":""},null,null,null,null,null,null,null,null,null,null,""]
[{"$f":"IF(B808=\"\",\"\",MAX($A$7:A807)+1)","v":""},null,null,null,null,null,null,null,null,null,null,""]
[{"$f":"IF(B809=\"\",\"\",MAX($A$7:A808)+1)","v":""},null,null,null,null,null,null,null,null,null,null,""]
[{"$f":"IF(B810=\"\",\"\",MAX($A$7:A809)+1)","v":""},null,null,null,null,null,null,null,null,null,null,""]
[{"$f":"IF(B811=\"\",\"\",MAX($A$7:A810)+1)","v":""},null,null,null,null,null,null,null,null,null,null,""]
[{"$f":"IF(B812=\"\",\"\",MAX($A$7:A811)+1)","v":""},null,null,null,null,null,null,null,null,null,null,""]
[{"$f":"IF(B813=\"\",\"\",MAX($A$7:A812)+1)","v":""},null,null,null,null,null,null,null,null,null,null,""]
[{"$f":"IF(B814=\"\",\"\",MAX($A$7:A813)+1)","v":""},null,null,null,null,null,null,null,null,null,null,""]
[{"$f":"IF(B815=\"\",\"\",MAX($A$7:A814)+1)","v":""},null,null,null,null,null,null,null,null,null,null,""]
[{"$f":"IF(B816=\"\",\"\",MAX($A$7:A815)+1)","v":""},null,null,null,null,null,null,null,null,null,null,""]
[{"$f":"IF(B817=\"\",\"\",MAX($A$7:A816)+1)","v":""},null,null,null,null,null,null,null,null,null,null,""]
[{"$f":"IF(B818=\"\",\"\",MAX($A$7:A817)+1)","v":""},null,null,null,null,null,null,null,null,null,null,""]
[{"$f":"IF(B819=\"\",\"\",MAX($A$7:A818)+1)","v":""},null,null,null,null,null,null,null,null,null,null,""]
[{"$f":"IF(B820=\"\",\"\",MAX($A$7:A819)+1)","v":""},null,null,null,null,null,null,null,null,null,null,""]
[{"$f":"IF(B821=\"\",\"\",MAX($A$7:A820)+1)","v":""},null,null,null,null,null,null,null,null,null,null,""]
[{"$f":"IF(B822=\"\",\"\",MAX($A$7:A821)+1)","v":""},null,null,null,null,null,null,null,null,null,null,""]
[{"$f":"IF(B823=\"\",\"\",MAX($A$7:A822)+1)","v":""},null,null,null,null,null,null,null,null,null,null,""]
[{"$f":"IF(B824=\"\",\"\",MAX($A$7:A823)+1)","v":""},null,null,null,null,null,null,null,null,null,null,""]
[{"$f":"IF(B825=\"\",\"\",MAX($A$7:A824)+1)","v":""},null,null,null,null,null,null,null,null,null,null,""]
[{"$f":"IF(B826=\"\",\"\",MAX($A$7:A825)+1)","v":""},null,null,null,null,null,null,null,null,null,null,""]
[{"$f":"IF(B827=\"\",\"\",MAX($A$7:A826)+1)","v":""},null,null,null,null,null,null,null,null,null,null,""]
[{"$f":"IF(B828=\"\",\"\",MAX($A$7:A827)+1)","v":""},null,null,null,null,null,null,null,null,null,null,""]
[{"$f":"IF(B829=\"\",\"\",MAX($A$7:A828)+1)","v":""},null,null,null,null,null,null,null,null,null,null,""]
[{"$f":"IF(B830=\"\",\"\",MAX($A$7:A829)+1)","v":""},null,null,null,null,null,null,null,null,null,null,""]
[{"$f":"IF(B831=\"\",\"\",MAX($A$7:A830)+1)","v":""},null,null,null,null,null,null,null,null,null,null,""]
[{"$f":"IF(B832=\"\",\"\",MAX($A$7:A831)+1)","v":""},null,null,null,null,null,null,null,null,null,null,""]
[{"$f":"IF(B833=\"\",\"\",MAX($A$7:A832)+1)","v":""},null,null,null,null,null,null,null,null,null,null,""]
[{"$f":"IF(B834=\"\",\"\",MAX($A$7:A833)+1)","v":""},null,null,null,null,null,null,null,null,null,null,""]
[{"$f":"IF(B835=\"\",\"\",MAX($A$7:A834)+1)","v":""},null,null,null,null,null,null,null,null,null,null,""]
[{"$f":"IF(B836=\"\",\"\",MAX($A$7:A835)+1)","v":""},null,null,null,null,null,null,null,null,null,null,""]
[{"$f":"IF(B837=\"\",\"\",MAX($A$7:A836)+1)","v":""},null,null,null,null,null,null,null,null,null,null,""]
[{"$f":"IF(B838=\"\",\"\",MAX($A$7:A837)+1)","v":""},null,null,null,null,null,null,null,null,null,null,""]
[{"$f":"IF(B839=\"\",\"\",MAX($A$7:A838)+1)","v":""},null,null,null,null,null,null,null,null,null,null,""]
[{"$f":"IF(B840=\"\",\"\",MAX($A$7:A839)+1)","v":""},null,null,null,null,null,null,null,null,null,null,{"$f":"IF(AND(I840=\"\",J840=\"\"),\"\",L839+I840-J840-K840)","v":""}]
[{"$f":"IF(B841=\"\",\"\",MAX($A$7:A840)+1)","v":""},null,null,null,null,null,null,null,null,null,null,""]
[{"$f":"IF(B842=\"\",\"\",MAX($A$7:A841)+1)","v":""},null,null,null,null,null,null,null,null,null,null,""]
[{"$f":"IF(B843=\"\",\"\",MAX($A$7:A842)+1)","v":""},null,null,null,null,null,null,null,null,null,null,""]
[{"$f":"IF(B844=\"\",\"\",MAX($A$7:A843)+1)","v":""},null,null,null,null,null,null,null,null,null,null,""]
[{"$f":"IF(B845=\"\",\"\",MAX($A$7:A844)+1)","v":""},null,null,null,null,null,null,null,null,null,null,""]
[{"$f":"IF(B846=\"\",\"\",MAX($A$7:A845)+1)","v":""},null,null,null,null,null,null,null,null,null,null,""]
[{"$f":"IF(B847=\"\",\"\",MAX($A$7:A846)+1)","v":""},null,null,null,null,null,null,null,null,null,null,""]
[{"$f":"IF(B848=\"\",\"\",MAX($A$7:A847)+1)","v":""},null,null,null,null,null,null,null,null,null,null,""]
[{"$f":"IF(B849=\"\",\"\",MAX($A$7:A848)+1)","v":""},null,null,null,null,null,null,null,null,null,null,""]
[{"$f":"IF(B850=\"\",\"\",MAX($A$7:A849)+1)","v":""},null,null,null,null,null,null,null,null,null,null,""]
[{"$f":"IF(B851=\"\",\"\",MAX($A$7:A850)+1)","v":""},null,null,null,null,null,null,null,null,null,null,""]
[{"$f":"IF(B852=\"\",\"\",MAX($A$7:A851)+1)","v":""},null,null,null,null,null,null,null,null,null,null,""]
[{"$f":"IF(B853=\"\",\"\",MAX($A$7:A852)+1)","v":""},null,null,null,null,null,null,null,null,null,null,""]
[{"$f":"IF(B854=\"\",\"\",MAX($A$7:A853)+1)","v":""},null,null,null,null,null,null,null,null,null,null,""]
[{"$f":"IF(B855=\"\",\"\",MAX($A$7:A854)+1)","v":""},null,null,null,null,null,null,null,null,null,null,""]
[{"$f":"IF(B856=\"\",\"\",MAX($A$7:A855)+1)","v":""},null,null,null,null,null,null,null,null,null,null,""]
[{"$f":"IF(B857=\"\",\"\",MAX($A$7:A856)+1)","v":""},null,null,null,null,null,null,null,null,null,null,""]
[{"$f":"IF(B858=\"\",\"\",MAX($A$7:A857)+1)","v":""},null,null,null,null,null,null,null,null,null,null,""]
[{"$f":"IF(B859=\"\",\"\",MAX($A$7:A858)+1)","v":""},null,null,null,null,null,null,null,null,null,null,""]
[{"$f":"IF(B860=\"\",\"\",MAX($A$7:A859)+1)","v":""},null,null,null,null,null,null,null,null,null,null,""]
[{"$f":"IF(B861=\"\",\"\",MAX($A$7:A860)+1)","v":""},null,null,null,null,null,null,null,null,null,null,""]
[{"$f":"IF(B862=\"\",\"\",MAX($A$7:A861)+1)","v":""},null,null,null,null,null,null,null,null,null,null,""]
[{"$f":"IF(B863=\"\",\"\",MAX($A$7:A862)+1)","v":""},null,null,null,null,null,null,null,null,null,null,""]
[{"$f":"IF(B864=\"\",\"\",MAX($A$7:A863)+1)","v":""},null,null,null,null,null,null,null,null,null,null,""]
[{"$f":"IF(B865=\"\",\"\",MAX($A$7:A864)+1)","v":""},null,null,null,null,null,null,null,null,null,null,""]
[{"$f":"IF(B866=\"\",\"\",MAX($A$7:A865)+1)","v":""},null,null,null,null,null,null,null,null,null,null,""]
[{"$f":"IF(B867=\"\",\"\",MAX($A$7:A866)+1)","v":""},null,null,null,null,null,null,null,null,null,null,""]
[{"$f":"IF(B868=\"\",\"\",MAX($A$7:A867)+1)","v":""},null,null,null,null,null,null,null,null,null,null,""]
[{"$f":"IF(B869=\"\",\"\",MAX($A$7:A868)+1)","v":""},null,null,null,null,null,null,null,null,null,null,""]
[{"$f":"IF(B870=\"\",\"\",MAX($A$7:A869)+1)","v":""},null,null,null,null,null,null,null,null,null,null,""]
[{"$f":"IF(B871=\"\",\"\",MAX($A$7:A870)+1)","v":""},null,null,null,null,null,null,null,null,null,null,""]
[{"$f":"IF(B872=\"\",\"\",MAX($A$7:A871)+1)","v":""},null,null,null,null,null,null,null,null,null,null,""]
[{"$f":"IF(B873=\"\",\"\",MAX($A$7:A872)+1)","v":""},null,null,null,null,null,null,null,null,null,null,""]
[{"$f":"IF(B874=\"\",\"\",MAX($A$7:A873)+1)","v":""},null,null,null,null,null,null,null,null,null,null,""]
[{"$f":"IF(B875=\"\",\"\",MAX($A$7:A874)+1)","v":""},null,null,null,null,null,null,null,null,null,null,""]
[{"$f":"IF(B876=\"\",\"\",MAX($A$7:A875)+1)","v":""},null,null,null,null,null,null,null,null,null,null,""]
[{"$f":"IF(B877=\"\",\"\",MAX($A$7:A876)+1)","v":""},null,null,null,null,null,null,null,null,null,null,""]
[{"$f":"IF(B878=\"\",\"\",MAX($A$7:A877)+1)","v":""},null,null,null,null,null,null,null,null,null,null,""]
[{"$f":"IF(B879=\"\",\"\",MAX($A$7:A878)+1)","v":""},null,null,null,null,null,null,null,null,null,null,""]
[{"$f":"IF(B880=\"\",\"\",MAX($A$7:A879)+1)","v":""},null,null,null,null,null,null,null,null,null,null,""]
[{"$f":"IF(B881=\"\",\"\",MAX($A$7:A880)+1)","v":""},null,null,null,null,null,null,null,null,null,null,""]
[{"$f":"IF(B882=\"\",\"\",MAX($A$7:A881)+1)","v":""},null,null,null,null,null,null,null,null,null,null,""]
[{"$f":"IF(B883=\"\",\"\",MAX($A$7:A882)+1)","v":""},null,null,null,null,null,null,null,null,null,null,""]
[{"$f":"IF(B884=\"\",\"\",MAX($A$7:A883)+1)","v":""},null,null,null,null,null,null,null,null,null,null,""]
[{"$f":"IF(B885=\"\",\"\",MAX($A$7:A884)+1)","v":""},null,null,null,null,null,null,null,null,null,null,""]
[{"$f":"IF(B886=\"\",\"\",MAX($A$7:A885)+1)","v":""},null,null,null,null,null,null,null,null,null,null,""]
[{"$f":"IF(B887=\"\",\"\",MAX($A$7:A886)+1)","v":""},null,null,null,null,null,null,null,null,null,null,""]
[{"$f":"IF(B888=\"\",\"\",MAX($A$7:A887)+1)","v":""},null,null,null,null,null,null,null,null,null,null,""]
[{"$f":"IF(B889=\"\",\"\",MAX($A$7:A888)+1)","v":""},null,null,null,null,null,null,null,null,null,null,""]
[{"$f":"IF(B890=\"\",\"\",MAX($A$7:A889)+1)","v":""},null,null,null,null,null,null,null,null,null,null,""]
[{"$f":"IF(B891=\"\",\"\",MAX($A$7:A890)+1)","v":""},null,null,null,null,null,null,null,null,null,null,""]
[{"$f":"IF(B892=\"\",\"\",MAX($A$7:A891)+1)","v":""},null,null,null,null,null,null,null,null,null,null,""]
[{"$f":"IF(B893=\"\",\"\",MAX($A$7:A892)+1)","v":""},null,null,null,null,null,null,null,null,null,null,""]
[{"$f":"IF(B894=\"\",\"\",MAX($A$7:A893)+1)","v":""},null,null,null,null,null,null,null,null,null,null,""]
[{"$f":"IF(B895=\"\",\"\",MAX($A$7:A894)+1)","v":""},null,null,null,null,null,null,null,null,null,null,""]
[{"$f":"IF(B896=\"\",\"\",MAX($A$7:A895)+1)","v":""},null,null,null,null,null,null,null,null,null,null,""]
[{"$f":"IF(B897=\"\",\"\",MAX($A$7:A896)+1)","v":""},null,null,null,null,null,null,null,null,null,null,""]
[{"$f":"IF(B898=\"\",\"\",MAX($A$7:A897)+1)","v":""},null,null,null,null,null,null,null,null,null,null,""]
[{"$f":"IF(B899=\"\",\"\",MAX($A$7:A898)+1)","v":""},null,null,null,null,null,null,null,null,null,null,""]
[{"$f":"IF(B900=\"\",\"\",MAX($A$7:A899)+1)","v":""},null,null,null,null,null,null,null,null,null,null,""]
[{"$f":"IF(B901=\"\",\"\",MAX($A$7:A900)+1)","v":""},null,null,null,null,null,null,null,null,null,null,""]
[{"$f":"IF(B902=\"\",\"\",MAX($A$7:A901)+1)","v":""},null,null,null,null,null,null,null,null,null,null,""]
[{"$f":"IF(B903=\"\",\"\",MAX($A$7:A902)+1)","v":""},null,null,null,null,null,null,null,null,null,null,""]
[{"$f":"IF(B904=\"\",\"\",MAX($A$7:A903)+1)","v":""},null,null,null,null,null,null,null,null,null,null,{"$f":"IF(AND(I904=\"\",J904=\"\"),\"\",L903+I904-J904-K904)","v":""}]
[{"$f":"IF(B905=\"\",\"\",MAX($A$7:A904)+1)","v":""},null,null,null,null,null,null,null,null,null,null,""]
[{"$f":"IF(B906=\"\",\"\",MAX($A$7:A905)+1)","v":""},null,null,null,null,null,null,null,null,null,null,""]
[{"$f":"IF(B907=\"\",\"\",MAX($A$7:A906)+1)","v":""},null,null,null,null,null,null,null,null,null,null,""]
[{"$f":"IF(B908=\"\",\"\",MAX($A$7:A907)+1)","v":""},null,null,null,null,null,null,null,null,null,null,""]
[{"$f":"IF(B909=\"\",\"\",MAX($A$7:A908)+1)","v":""},null,null,null,null,null,null,null,null,null,null,""]
[{"$f":"IF(B910=\"\",\"\",MAX($A$7:A909)+1)","v":""},null,null,null,null,null,null,null,null,null,null,""]
[{"$f":"IF(B911=\"\",\"\",MAX($A$7:A910)+1)","v":""},null,null,null,null,null,null,null,null,null,null,""]
[{"$f":"IF(B912=\"\",\"\",MAX($A$7:A911)+1)","v":""},null,null,null,null,null,null,null,null,null,null,""]
[{"$f":"IF(B913=\"\",\"\",MAX($A$7:A912)+1)","v":""},null,null,null,null,null,null,null,null,null,null,""]
[{"$f":"IF(B914=\"\",\"\",MAX($A$7:A913)+1)","v":""},null,null,null,null,null,null,null,null,null,null,""]
[{"$f":"IF(B915=\"\",\"\",MAX($A$7:A914)+1)","v":""},null,null,null,null,null,null,null,null,null,null,""]
[{"$f":"IF(B916=\"\",\"\",MAX($A$7:A915)+1)","v":""},null,null,null,null,null,null,null,null,null,null,""]
[{"$f":"IF(B917=\"\",\"\",MAX($A$7:A916)+1)","v":""},null,null,null,null,null,null,null,null,null,null,""]
[{"$f":"IF(B918=\"\",\"\",MAX($A$7:A917)+1)","v":""},null,null,null,null,null,null,null,null,null,null,""]
[{"$f":"IF(B919=\"\",\"\",MAX($A$7:A918)+1)","v":""},null,null,null,null,null,null,null,null,null,null,""]
[{"$f":"IF(B920=\"\",\"\",MAX($A$7:A919)+1)","v":""},null,null,null,null,null,null,null,null,null,null,""]
[{"$f":"IF(B921=\"\",\"\",MAX($A$7:A920)+1)","v":""},null,null,null,null,null,null,null,null,null,null,""]
[{"$f":"IF(B922=\"\",\"\",MAX($A$7:A921)+1)","v":""},null,null,null,null,null,null,null,null,null,null,""]
[{"$f":"IF(B923=\"\",\"\",MAX($A$7:A922)+1)","v":""},null,null,null,null,null,null,null,null,null,null,""]
[{"$f":"IF(B924=\"\",\"\",MAX($A$7:A923)+1)","v":""},null,null,null,null,null,null,null,null,null,null,""]
[{"$f":"IF(B925=\"\",\"\",MAX($A$7:A924)+1)","v":""},null,null,null,null,null,null,null,null,null,null,""]
[{"$f":"IF(B926=\"\",\"\",MAX($A$7:A925)+1)","v":""},null,null,null,null,null,null,null,null,null,null,""]
[{"$f":"IF(B927=\"\",\"\",MAX($A$7:A926)+1)","v":""},null,null,null,null,null,null,null,null,null,null,""]
[{"$f":"IF(B928=\"\",\"\",MAX($A$7:A927)+1)","v":""},null,null,null,null,null,null,null,null,null,null,""]
[{"$f":"IF(B929=\"\",\"\",MAX($A$7:A928)+1)","v":""},null,null,null,null,null,null,null,null,null,null,""]
[{"$f":"IF(B930=\"\",\"\",MAX($A$7:A929)+1)","v":""},null,null,null,null,null,null,null,null,null,null,""]
[{"$f":"IF(B931=\"\",\"\",MAX($A$7:A930)+1)","v":""},null,null,null,null,null,null,null,null,null,null,""]
[{"$f":"IF(B932=\"\",\"\",MAX($A$7:A931)+1)","v":""},null,null,null,null,null,null,null,null,null,null,""]
[{"$f":"IF(B933=\"\",\"\",MAX($A$7:A932)+1)","v":""},null,null,null,null,null,null,null,null,null,null,""]
[{"$f":"IF(B934=\"\",\"\",MAX($A$7:A933)+1)","v":""},null,null,null,null,null,null,null,null,null,null,""]
[{"$f":"IF(B935=\"\",\"\",MAX($A$7:A934)+1)","v":""},null,null,null,null,null,null,null,null,null,null,""]
[{"$f":"IF(B936=\"\",\"\",MAX($A$7:A935)+1)","v":""},null,null,null,null,null,null,null,null,null,null,""]
[{"$f":"IF(B937=\"\",\"\",MAX($A$7:A936)+1)","v":""},null,null,null,null,null,null,null,null,null,null,""]
[{"$f":"IF(B938=\"\",\"\",MAX($A$7:A937)+1)","v":""},null,null,null,null,null,null,null,null,null,null,""]
[{"$f":"IF(B939=\"\",\"\",MAX($A$7:A938)+1)","v":""},null,null,null,null,null,null,null,null,null,null,""]
[{"$f":"IF(B940=\"\",\"\",MAX($A$7:A939)+1)","v":""},null,null,null,null,null,null,null,null,null,null,""]
[{"$f":"IF(B941=\"\",\"\",MAX($A$7:A940)+1)","v":""},null,null,null,null,null,null,null,null,null,null,""]
[{"$f":"IF(B942=\"\",\"\",MAX($A$7:A941)+1)","v":""},null,null,null,null,null,null,null,null,null,null,""]
[{"$f":"IF(B943=\"\",\"\",MAX($A$7:A942)+1)","v":""},null,null,null,null,null,null,null,null,null,null,""]
[{"$f":"IF(B944=\"\",\"\",MAX($A$7:A943)+1)","v":""},null,null,null,null,null,null,null,null,null,null,""]
[{"$f":"IF(B945=\"\",\"\",MAX($A$7:A944)+1)","v":""},null,null,null,null,null,null,null,null,null,null,""]
[{"$f":"IF(B946=\"\",\"\",MAX($A$7:A945)+1)","v":""},null,null,null,null,null,null,null,null,null,null,""]
[{"$f":"IF(B947=\"\",\"\",MAX($A$7:A946)+1)","v":""},null,null,null,null,null,null,null,null,null,null,""]
[{"$f":"IF(B948=\"\",\"\",MAX($A$7:A947)+1)","v":""},null,null,null,null,null,null,null,null,null,null,""]
[{"$f":"IF(B949=\"\",\"\",MAX($A$7:A948)+1)","v":""},null,null,null,null,null,null,null,null,null,null,""]
[{"$f":"IF(B950=\"\",\"\",MAX($A$7:A949)+1)","v":""},null,null,null,null,null,null,null,null,null,null,""]
[{"$f":"IF(B951=\"\",\"\",MAX($A$7:A950)+1)","v":""},null,null,null,null,null,null,null,null,null,null,""]
[{"$f":"IF(B952=\"\",\"\",MAX($A$7:A951)+1)","v":""},null,null,null,null,null,null,null,null,null,null,""]
[{"$f":"IF(B953=\"\",\"\",MAX($A$7:A952)+1)","v":""},null,null,null,null,null,null,null,null,null,null,""]
[{"$f":"IF(B954=\"\",\"\",MAX($A$7:A953)+1)","v":""},null,null,null,null,null,null,null,null,null,null,""]
[{"$f":"IF(B955=\"\",\"\",MAX($A$7:A954)+1)","v":""},null,null,null,null,null,null,null,null,null,null,""]
[{"$f":"IF(B956=\"\",\"\",MAX($A$7:A955)+1)","v":""},null,null,null,null,null,null,null,null,null,null,""]
[{"$f":"IF(B957=\"\",\"\",MAX($A$7:A956)+1)","v":""},null,null,null,null,null,null,null,null,null,null,""]
[{"$f":"IF(B958=\"\",\"\",MAX($A$7:A957)+1)","v":""},null,null,null,null,null,null,null,null,null,null,""]
[{"$f":"IF(B959=\"\",\"\",MAX($A$7:A958)+1)","v":""},null,null,null,null,null,null,null,null,null,null,""]
[{"$f":"IF(B960=\"\",\"\",MAX($A$7:A959)+1)","v":""},null,null,null,null,null,null,null,null,null,null,""]
[{"$f":"IF(B961=\"\",\"\",MAX($A$7:A960)+1)","v":""},null,null,null,null,null,null,null,null,null,null,""]
[{"$f":"IF(B962=\"\",\"\",MAX($A$7:A961)+1)","v":""},null,null,null,null,null,null,null,null,null,null,""]
[{"$f":"IF(B963=\"\",\"\",MAX($A$7:A962)+1)","v":""},null,null,null,null,null,null,null,null,null,null,""]
[{"$f":"IF(B964=\"\",\"\",MAX($A$7:A963)+1)","v":""},null,null,null,null,null,null,null,null,null,null,""]
[{"$f":"IF(B965=\"\",\"\",MAX($A$7:A964)+1)","v":""},null,null,null,null,null,null,null,null,null,null,""]
[{"$f":"IF(B966=\"\",\"\",MAX($A$7:A965)+1)","v":""},null,null,null,null,null,null,null,null,null,null,""]
[{"$f":"IF(B967=\"\",\"\",MAX($A$7:A966)+1)","v":""},null,null,null,null,null,null,null,null,null,null,""]
[{"$f":"IF(B968=\"\",\"\",MAX($A$7:A967)+1)","v":""},null,null,null,null,null,null,null,null,null,null,{"$f":"IF(AND(I968=\"\",J968=\"\"),\"\",L967+I968-J968-K968)","v":""}]
[{"$f":"IF(B969=\"\",\"\",MAX($A$7:A968)+1)","v":""},null,null,null,null,null,null,null,null,null,null,""]
[{"$f":"IF(B970=\"\",\"\",MAX($A$7:A969)+1)","v":""},null,null,null,null,null,null,null,null,null,null,""]
[{"$f":"IF(B971=\"\",\"\",MAX($A$7:A970)+1)","v":""},null,null,null,null,null,null,null,null,null,null,""]
[{"$f":"IF(B972=\"\",\"\",MAX($A$7:A971)+1)","v":""},null,null,null,null,null,null,null,null,null,null,""]
[{"$f":"IF(B973=\"\",\"\",MAX($A$7:A972)+1)","v":""},null,null,null,null,null,null,null,null,null,null,""]
[{"$f":"IF(B974=\"\",\"\",MAX($A$7:A973)+1)","v":""},null,null,null,null,null,null,null,null,null,null,""]
[{"$f":"IF(B975=\"\",\"\",MAX($A$7:A974)+1)","v":""},null,null,null,null,null,null,null,null,null,null,""]
[{"$f":"IF(B976=\"\",\"\",MAX($A$7:A975)+1)","v":""},null,null,null,null,null,null,null,null,null,null,""]
[{"$f":"IF(B977=\"\",\"\",MAX($A$7:A976)+1)","v":""},null,null,null,null,null,null,null,null,null,null,""]
[{"$f":"IF(B978=\"\",\"\",MAX($A$7:A977)+1)","v":""},null,null,null,null,null,null,null,null,null,null,""]
[{"$f":"IF(B979=\"\",\"\",MAX($A$7:A978)+1)","v":""},null,null,null,null,null,null,null,null,null,null,""]
[{"$f":"IF(B980=\"\",\"\",MAX($A$7:A979)+1)","v":""},null,null,null,null,null,null,null,null,null,null,""]
[{"$f":"IF(B981=\"\",\"\",MAX($A$7:A980)+1)","v":""},null,null,null,null,null,null,null,null,null,null,""]
[{"$f":"IF(B982=\"\",\"\",MAX($A$7:A981)+1)","v":""},null,null,null,null,null,null,null,null,null,null,""]
[{"$f":"IF(B983=\"\",\"\",MAX($A$7:A982)+1)","v":""},null,null,null,null,null,null,null,null,null,null,""]
[{"$f":"IF(B984=\"\",\"\",MAX($A$7:A983)+1)","v":""},null,null,null,null,null,null,null,null,null,null,""]
[{"$f":"IF(B985=\"\",\"\",MAX($A$7:A984)+1)","v":""},null,null,null,null,null,null,null,null,null,null,""]
[{"$f":"IF(B986=\"\",\"\",MAX($A$7:A985)+1)","v":""},null,null,null,null,null,null,null,null,null,null,""]
[{"$f":"IF(B987=\"\",\"\",MAX($A$7:A986)+1)","v":""},null,null,null,null,null,null,null,null,null,null,""]
[{"$f":"IF(B988=\"\",\"\",MAX($A$7:A987)+1)","v":""},null,null,null,null,null,null,null,null,null,null,""]
[{"$f":"IF(B989=\"\",\"\",MAX($A$7:A988)+1)","v":""},null,null,null,null,null,null,null,null,null,null,""]
[{"$f":"IF(B990=\"\",\"\",MAX($A$7:A989)+1)","v":""},null,null,null,null,null,null,null,null,null,null,""]
[{"$f":"IF(B991=\"\",\"\",MAX($A$7:A990)+1)","v":""},null,null,null,null,null,null,null,null,null,null,""]
[{"$f":"IF(B992=\"\",\"\",MAX($A$7:A991)+1)","v":""},null,null,null,null,null,null,null,null,null,null,""]
[{"$f":"IF(B993=\"\",\"\",MAX($A$7:A992)+1)","v":""},null,null,null,null,null,null,null,null,null,null,""]
[{"$f":"IF(B994=\"\",\"\",MAX($A$7:A993)+1)","v":""},null,null,null,null,null,null,null,null,null,null,""]
[{"$f":"IF(B995=\"\",\"\",MAX($A$7:A994)+1)","v":""},null,null,null,null,null,null,null,null,null,null,""]
[{"$f":"IF(B996=\"\",\"\",MAX($A$7:A995)+1)","v":""},null,null,null,null,null,null,null,null,null,null,""]
[{"$f":"IF(B997=\"\",\"\",MAX($A$7:A996)+1)","v":""},null,null,null,null,null,null,null,null,null,null,""]
[{"$f":"IF(B998=\"\",\"\",MAX($A$7:A997)+1)","v":""},null,null,null,null,null,null,null,null,null,null,""]
[{"$f":"IF(B999=\"\",\"\",MAX($A$7:A998)+1)","v":""},null,null,null,null,null,null,null,null,null,null,""]
[{"$f":"IF(B1000=\"\",\"\",MAX($A$7:A999)+1)","v":""},null,null,null,null,null,null,null,null,null,null,""]
[{"$f":"IF(B1001=\"\",\"\",MAX($A$7:A1000)+1)","v":""},null,null,null,null,null,null,null,null,null,null,""]
[{"$f":"IF(B1002=\"\",\"\",MAX($A$7:A1001)+1)","v":""},null,null,null,null,null,null,null,null,null,null,""]
[{"$f":"IF(B1003=\"\",\"\",MAX($A$7:A1002)+1)","v":""},null,null,null,null,null,null,null,null,null,null,""]
[{"$f":"IF(B1004=\"\",\"\",MAX($A$7:A1003)+1)","v":""},null,null,null,null,null,null,null,null,null,null,""]
[{"$f":"IF(B1005=\"\",\"\",MAX($A$7:A1004)+1)","v":""},null,null,null,null,null,null,null,null,null,null,""]
[{"$f":"IF(B1006=\"\",\"\",MAX($A$7:A1005)+1)","v":""},null,null,null,null,null,null,null,null,null,null,""]
[{"$f":"IF(B1007=\"\",\"\",MAX($A$7:A1006)+1)","v":""},null,null,null,null,null,null,null,null,null,null,""]
[null,null,null,null,null,null,null,null,{"$f":"SUM(I8:I1007)","v":0},{"$f":"SUM(J8:J1007)","v":2400},{"$f":"SUM(K8:K1007)","v":2400}]