{"text_format":"1","workbook":"xlsx","n_sheets":2,"sheets":["Main","Report"],"not_rendered":{"charts":0,"images":0,"macros":0,"external_links":0,"defined_names":1,"comments":0,"pivot_tables":0},"unopened":[],"bounds":{"document_bytes":16777216,"sheet_cells":100000,"rows_first":2000,"rows_last":500,"rows_between":2000,"halvings":0,"cell_chars":16384,"cell_head_chars":4096},"cells_cut":0,"cells_raw":0,"read":"whole","date_system":"1900"}

{"sheet":"Main","index":0,"n_rows":224,"n_cols":43,"rows_kept":224,"cut":false,"hidden":false,"merged":[[0,35,0,42],[223,35,223,40],[0,0,0,2],[0,3,0,25],[0,26,0,30],[0,32,0,34]]}
["Participating",null,null,"Ticket",null,null,null,null,null,null,null,null,null,null,null,null,null,null,null,null,null,null,null,null,null,null,"Prices",null,null,null,null,"Codes","Cancel",null,null,"Collection"]
["Adl","Chd","Baby","Muh Kullanıcı","Muhasebe Tarih","Zarf","Accounting","Ödeme Beklenen","Sale Type","SlipNo","Slip Tutarı","Free","Tour Name","Voucher","Tour Date","Guide Name","Customer Package","Packet","Colection Control","Hotel","Suppliers","Sale Date","Trans Region Name","Remark","Lock","Ticket No","Tour Price","Discount","Ekstra Price","Net Amount","Collection",null,"Adl","Chd","Baby","Date","Process","Type","Receipt No","Curr","Exchange","Amount","Remark"]
[null,null,null,null,null,null,null,null,null,null,null,null,null,null,null,"Said Reda",null,null,null,null,null,null,null,null,null,1000055,null,null,null,195]
[null,null,null,null,null,null,null,null,null,null,null,null,null,null,null,"Said Reda",null,null,null,null,null,null,null,null,null,1000057,null,null,null,60]
[null,null,null,null,null,null,null,null,null,null,null,null,null,null,null,"Said Reda",null,null,null,null,null,null,null,null,null,1000058,null,null,null,70]
[null,null,null,null,null,null,null,null,null,null,null,null,"Shopping",null,null,"Said Reda",null,null,null,null,null,null,null,null,null,1000059,null,null,null,0]
[null,null,null,null,null,null,null,null,null,null,null,null,null,null,null,"Said Reda",null,null,null,null,null,null,null,null,null,1000060,null,null,null,160]
[null,null,null,null,null,null,null,null,null,null,null,null,null,null,null,"Said Reda",null,null,null,null,null,null,null,null,null,1000061,null,null,null,110]
[null,null,null,null,null,null,null,null,null,null,null,null,null,null,null,"Said Reda",null,null,null,null,null,null,null,null,null,1000062,null,null,null,60]
[null,null,null,null,null,null,null,null,null,null,null,null,"Shopping",null,null,"Said Reda",null,null,null,null,null,null,null,null,null,1000063,null,null,null,0]
[null,null,null,null,null,null,null,null,null,null,null,null,null,null,null,"Said Reda",null,null,null,null,null,null,null,null,null,1000064,null,null,null,80]
[null,null,null,null,null,null,null,null,null,null,null,null,null,null,null,"Said Reda",null,null,null,null,null,null,null,null,null,1000065,null,null,null,60]
[null,null,null,null,null,null,null,null,null,null,null,null,null,null,null,"Said Reda",null,null,null,null,null,null,null,null,null,1000066,null,null,null,75]
[null,null,null,null,null,null,null,null,null,null,null,null,"Shopping",null,null,"Said Reda",null,null,null,null,null,null,null,null,null,1000067,null,null,null,0]
[null,null,null,null,null,null,null,null,null,null,null,null,"Shopping",null,null,"Said Reda",null,null,null,null,null,null,null,null,null,1000069,null,null,null,0]
[null,null,null,null,null,null,null,null,null,null,null,null,"Shopping",null,null,"Said Reda",null,null,null,null,null,null,null,null,null,1000070,null,null,null,0]
[null,null,null,null,null,null,null,null,null,null,null,null,null,null,null,"Said Reda",null,null,null,null,null,null,null,null,null,1000072,null,null,null,60]
[null,null,null,null,null,null,null,null,null,null,null,null,"Shopping",null,null,"Said Reda",null,null,null,null,null,null,null,null,null,1000073,null,null,null,0]
[null,null,null,null,null,null,null,null,null,null,null,null,"Shopping",null,null,"Said Reda",null,null,null,null,null,null,null,null,null,1000074,null,null,null,0]
[null,null,null,null,null,null,null,null,null,null,null,null,null,null,null,"Said Reda",null,null,null,null,null,null,null,null,null,1000075,null,null,null,70]
[null,null,null,null,null,null,null,null,null,null,null,null,null,null,null,"Said Reda",null,null,null,null,null,null,null,null,null,1000077,null,null,null,90]
[null,null,null,null,null,null,null,null,null,null,null,null,null,null,null,"Said Reda",null,null,null,null,null,null,null,null,null,1000078,null,null,null,200]
[null,null,null,null,null,null,null,null,null,null,null,null,null,null,null,"Said Reda",null,null,null,null,null,null,null,null,null,1000079,null,null,null,100]
[null,null,null,null,null,null,null,null,null,null,null,null,null,null,null,"Said Reda",null,null,null,null,null,null,null,null,null,1000080,null,null,null,60]
[null,null,null,null,null,null,null,null,null,null,null,null,null,null,null,"Said Reda",null,null,null,null,null,null,null,null,null,1000081,null,null,null,160]
[null,null,null,null,null,null,null,null,null,null,null,null,"Shopping",null,null,"Said Reda",null,null,null,null,null,null,null,null,null,1000082,null,null,null,0]
[null,null,null,null,null,null,null,null,null,null,null,null,null,null,null,"Said Reda",null,null,null,null,null,null,null,null,null,1000083,null,null,null,80]
[null,null,null,null,null,null,null,null,null,null,null,null,null,null,null,"Samir Fouad",null,null,null,null,null,null,null,null,null,1000217,null,null,null,110]
[null,null,null,null,null,null,null,null,null,null,null,null,null,null,null,"Samir Fouad",null,null,null,null,null,null,null,null,null,1000218,null,null,null,60]
[null,null,null,null,null,null,null,null,null,null,null,null,null,null,null,"Samir Fouad",null,null,null,null,null,null,null,null,null,1000219,null,null,null,110]
[null,null,null,null,null,null,null,null,null,null,null,null,null,null,null,"Samir Fouad",null,null,null,null,null,null,null,null,null,1000220,null,null,null,60]
[null,null,null,null,null,null,null,null,null,null,null,null,null,null,null,"Samir Fouad",null,null,null,null,null,null,null,null,null,1000223,null,null,null,110]
[null,null,null,null,null,null,null,null,null,null,null,null,null,null,null,"Samir Fouad",null,null,null,null,null,null,null,null,null,1000224,null,null,null,60]
[null,null,null,null,null,null,null,null,null,null,null,null,null,null,null,"Samir Fouad",null,null,null,null,null,null,null,null,null,1000226,null,null,null,70]
[null,null,null,null,null,null,null,null,null,null,null,null,"20 $ Discount",null,null,"Samir Fouad",null,null,null,null,null,null,null,null,null,1000228,null,null,null,110]
[null,null,null,null,null,null,null,null,null,null,null,null,"10 $ Discount",null,null,"Samir Fouad",null,null,null,null,null,null,null,null,null,1000229,null,null,null,50]
[null,null,null,null,null,null,null,null,null,null,null,null,null,null,null,"Samir Fouad",null,null,null,null,null,null,null,null,null,1000233,null,null,null,30]
[null,null,null,null,null,null,null,null,null,null,null,null,"10 $ Discount",null,null,"Samir Fouad",null,null,null,null,null,null,null,null,null,1000234,null,null,null,60]
[null,null,null,null,null,null,null,null,null,null,null,null,"10 $ Discount",null,null,"Samir Fouad",null,null,null,null,null,null,null,null,null,1000238,null,null,null,60]
[null,null,null,null,null,null,null,null,null,null,null,null,"Shopping",null,null,"Samir Fouad",null,null,null,null,null,null,null,null,null,1000239,null,null,null,0]
[null,null,null,null,null,null,null,null,null,null,null,null,"5 $ Discount",null,null,"Samir Fouad",null,null,null,null,null,null,null,null,null,1000240,null,null,null,25]
[null,null,null,null,null,null,null,null,null,null,null,null,null,null,null,"Samir Fouad",null,null,null,null,null,null,null,null,null,1000241,null,null,null,30]
[null,null,null,null,null,null,null,null,null,null,null,null,null,null,null,"Samir Fouad",null,null,null,null,null,null,null,null,null,1000242,null,null,null,110]
[null,null,null,null,null,null,null,null,null,null,null,null,"Shopping",null,null,"Samir Fouad",null,null,null,null,null,null,null,null,null,1000243,null,null,null,0]
[null,null,null,null,null,null,null,null,null,null,null,null,null,null,null,"Samir Fouad",null,null,null,null,null,null,null,null,null,1000244,null,null,null,160]
[null,null,null,null,null,null,null,null,null,null,null,null,"Shopping",null,null,"Samir Fouad",null,null,null,null,null,null,null,null,null,1000245,null,null,null,0]
[null,null,null,null,null,null,null,null,null,null,null,null,null,null,null,"Samir Fouad",null,null,null,null,null,null,null,null,null,1000247,null,null,null,80]
[null,null,null,null,null,null,null,null,null,null,null,null,"Shopping",null,null,"Samir Fouad",null,null,null,null,null,null,null,null,null,1000248,null,null,null,0]
[null,null,null,null,null,null,null,null,null,null,null,null,"Shopping",null,null,"Samir Fouad",null,null,null,null,null,null,null,null,null,1000249,null,null,null,0]
[null,null,null,null,null,null,null,null,null,null,null,null,null,null,null,"Samir Fouad",null,null,null,null,null,null,null,null,null,1000250,null,null,null,100]
[null,null,null,null,null,null,null,null,null,null,null,null,null,null,null,"Omar Nagy",null,null,null,null,null,null,null,null,null,1000411,null,null,null,55]
[null,null,null,null,null,null,null,null,null,null,null,null,null,null,null,"Omar Nagy",null,null,null,null,null,null,null,null,null,1000413,null,null,null,220]
[null,null,null,null,null,null,null,null,null,null,null,null,null,null,null,"Omar Nagy",null,null,null,null,null,null,null,null,null,1000414,null,null,null,60]
[null,null,null,null,null,null,null,null,null,null,null,null,null,null,null,"Omar Nagy",null,null,null,null,null,null,null,null,null,1000416,null,null,null,90]
[null,null,null,null,null,null,null,null,null,null,null,null,"5 $ Discount",null,null,"Omar Nagy",null,null,null,null,null,null,null,null,null,1000421,null,null,null,55]
[null,null,null,null,null,null,null,null,null,null,null,null,null,null,null,"Omar Nagy",null,null,null,null,null,null,null,null,null,1000422,null,null,null,60]
[null,null,null,null,null,null,null,null,null,null,null,null,null,null,null,"Omar Nagy",null,null,null,null,null,null,null,null,null,1000423,null,null,null,60]
[null,null,null,null,null,null,null,null,null,null,null,null,null,null,null,"Omar Nagy",null,null,null,null,null,null,null,null,null,1000424,null,null,null,30]
[null,null,null,null,null,null,null,null,null,null,null,null,null,null,null,"Omar Nagy",null,null,null,null,null,null,null,null,null,1000425,null,null,null,60]
[null,null,null,null,null,null,null,null,null,null,null,null,null,null,null,"Omar Nagy",null,null,null,null,null,null,null,null,null,1000427,null,null,null,80]
[null,null,null,null,null,null,null,null,null,null,null,null,"Shopping",null,null,"Omar Nagy",null,null,null,null,null,null,null,null,null,1000428,null,null,null,0]
[null,null,null,null,null,null,null,null,null,null,null,null,"Shopping",null,null,"Omar Nagy",null,null,null,null,null,null,null,null,null,1000429,null,null,null,0]
[null,null,null,null,null,null,null,null,null,null,null,null,null,null,null,"Omar Nagy",null,null,null,null,null,null,null,null,null,1000430,null,null,null,165]
[null,null,null,null,null,null,null,null,null,null,null,null,null,null,null,"Omar Nagy",null,null,null,null,null,null,null,null,null,1000431,null,null,null,60]
[null,null,null,null,null,null,null,null,null,null,null,null,null,null,null,"Omar Nagy",null,null,null,null,null,null,null,null,null,1000432,null,null,null,80]
[null,null,null,null,null,null,null,null,null,null,null,null,null,null,null,"Omar Nagy",null,null,null,null,null,null,null,null,null,1000433,null,null,null,110]
[null,null,null,null,null,null,null,null,null,null,null,null,"Shopping",null,null,"Omar Nagy",null,null,null,null,null,null,null,null,null,1000434,null,null,null,0]
[null,null,null,null,null,null,null,null,null,null,null,null,"10 $ Discount",null,null,"Omar Nagy",null,null,null,null,null,null,null,null,null,1000435,null,null,null,100]
[null,null,null,null,null,null,null,null,null,null,null,null,"Shopping",null,null,"Omar Nagy",null,null,null,null,null,null,null,null,null,1000436,null,null,null,0]
[null,null,null,null,null,null,null,null,null,null,null,null,"Shopping",null,null,"Omar Nagy",null,null,null,null,null,null,null,null,null,1000437,null,null,null,0]
[null,null,null,null,null,null,null,null,null,null,null,null,null,null,null,"Omar Nagy",null,null,null,null,null,null,null,null,null,1000438,null,null,null,440]
[null,null,null,null,null,null,null,null,null,null,null,null,"35$ Discount",null,null,"Omar Nagy",null,null,null,null,null,null,null,null,null,1000439,null,null,null,115]
[null,null,null,null,null,null,null,null,null,null,null,null,null,null,null,"Samir Fouad",null,null,null,null,null,null,null,null,null,1000575,null,null,null,40]
[null,null,null,null,null,null,null,null,null,null,null,null,"Shopping",null,null,"Samir Fouad",null,null,null,null,null,null,null,null,null,1000588,null,null,null,0]
[null,null,null,null,null,null,null,null,null,null,null,null,null,null,null,"Samir Fouad",null,null,null,null,null,null,null,null,null,1000701,null,null,null,60]
[null,null,null,null,null,null,null,null,null,null,null,null,null,null,null,"Samir Fouad",null,null,null,null,null,null,null,null,null,1000702,null,null,null,80]
[null,null,null,null,null,null,null,null,null,null,null,null,"Shopping",null,null,"Samir Fouad",null,null,null,null,null,null,null,null,null,1000703,null,null,null,0]
[null,null,null,null,null,null,null,null,null,null,null,null,null,null,null,"Samir Fouad",null,null,null,null,null,null,null,null,null,1000704,null,null,null,80]
[null,null,null,null,null,null,null,null,null,null,null,null,null,null,null,"Samir Fouad",null,null,null,null,null,null,null,null,null,1000706,null,null,null,200]
[null,null,null,null,null,null,null,null,null,null,null,null,null,null,null,"Samir Fouad",null,null,null,null,null,null,null,null,null,1000707,null,null,null,70]
[null,null,null,null,null,null,null,null,null,null,null,null,"Shopping",null,null,"Samir Fouad",null,null,null,null,null,null,null,null,null,1000708,null,null,null,0]
[null,null,null,null,null,null,null,null,null,null,null,null,null,null,null,"Samir Fouad",null,null,null,null,null,null,null,null,null,1000709,null,null,null,80]
[null,null,null,null,null,null,null,null,null,null,null,null,null,null,null,"Samir Fouad",null,null,null,null,null,null,null,null,null,1000710,null,null,null,35]
[null,null,null,null,null,null,null,null,null,null,null,null,"Shopping",null,null,"Samir Fouad",null,null,null,null,null,null,null,null,null,1000711,null,null,null,0]
[null,null,null,null,null,null,null,null,null,null,null,null,null,null,null,"Samir Fouad",null,null,null,null,null,null,null,null,null,1000712,null,null,null,40]
[null,null,null,null,null,null,null,null,null,null,null,null,"5 $ Discount",null,null,"Samir Fouad",null,null,null,null,null,null,null,null,null,1000713,null,null,null,208]
[null,null,null,null,null,null,null,null,null,null,null,null,"5 $ Discount",null,null,"Samir Fouad",null,null,null,null,null,null,null,null,null,1000714,null,null,null,95]
[null,null,null,null,null,null,null,null,null,null,null,null,"5 $ Discount",null,null,"Samir Fouad",null,null,null,null,null,null,null,null,null,1000715,null,null,null,30]
[null,null,null,null,null,null,null,null,null,null,null,null,"Shopping",null,null,"Samir Fouad",null,null,null,null,null,null,null,null,null,1000716,null,null,null,0]
[null,null,null,null,null,null,null,null,null,null,null,null,null,null,null,"Samir Fouad",null,null,null,null,null,null,null,null,null,1000717,null,null,null,55]
[null,null,null,null,null,null,null,null,null,null,null,null,null,null,null,"Samir Fouad",null,null,null,null,null,null,null,null,null,1000718,null,null,null,95]
[null,null,null,null,null,null,null,null,null,null,null,null,"Shopping",null,null,"Samir Fouad",null,null,null,null,null,null,null,null,null,1000719,null,null,null,0]
[null,null,null,null,null,null,null,null,null,null,null,null,null,null,null,"Samir Fouad",null,null,null,null,null,null,null,null,null,1000720,null,null,null,90]
[null,null,null,null,null,null,null,null,null,null,null,null,null,null,null,"Samir Fouad",null,null,null,null,null,null,null,null,null,1000721,null,null,null,110]
[null,null,null,null,null,null,null,null,null,null,null,null,"Shopping",null,null,"Samir Fouad",null,null,null,null,null,null,null,null,null,1000723,null,null,null,0]
[null,null,null,null,null,null,null,null,null,null,null,null,"10 $ Discount",null,null,"Samir Fouad",null,null,null,null,null,null,null,null,null,1000724,null,null,null,110]
[null,null,null,null,null,null,null,null,null,null,null,null,"Shopping",null,null,"Samir Fouad",null,null,null,null,null,null,null,null,null,1000725,null,null,null,0]
[null,null,null,null,null,null,null,null,null,null,null,null,null,null,null,"Samir Fouad",null,null,null,null,null,null,null,null,null,1000726,null,null,null,80]
[null,null,null,null,null,null,null,null,null,null,null,null,"Shopping",null,null,"Samir Fouad",null,null,null,null,null,null,null,null,null,1000727,null,null,null,0]
[null,null,null,null,null,null,null,null,null,null,null,null,"15 $ Discount",null,null,"Samir Fouad",null,null,null,null,null,null,null,null,null,1000728,null,null,null,90]
[null,null,null,null,null,null,null,null,null,null,null,null,"5 $ Discount",null,null,"Samir Fouad",null,null,null,null,null,null,null,null,null,1000729,null,null,null,30]
[null,null,null,null,null,null,null,null,null,null,null,null,null,null,null,"Samir Fouad",null,null,null,null,null,null,null,null,null,1000730,null,null,null,110]
[null,null,null,null,null,null,null,null,null,null,null,null,"Shopping",null,null,"Samir Fouad",null,null,null,null,null,null,null,null,null,1000731,null,null,null,0]
[null,null,null,null,null,null,null,null,null,null,null,null,"Shopping",null,null,"Samir Fouad",null,null,null,null,null,null,null,null,null,1000732,null,null,null,0]
[null,null,null,null,null,null,null,null,null,null,null,null,null,null,null,"Samir Fouad",null,null,null,null,null,null,null,null,null,1000733,null,null,null,160]
[null,null,null,null,null,null,null,null,null,null,null,null,null,null,null,"Samir Fouad",null,null,null,null,null,null,null,null,null,1000734,null,null,null,160]
[null,null,null,null,null,null,null,null,null,null,null,null,null,null,null,"Samir Fouad",null,null,null,null,null,null,null,null,null,1000735,null,null,null,110]
[null,null,null,null,null,null,null,null,null,null,null,null,null,null,null,"Samir Fouad",null,null,null,null,null,null,null,null,null,1000736,null,null,null,160]
[null,null,null,null,null,null,null,null,null,null,null,null,null,null,null,"Samir Fouad",null,null,null,null,null,null,null,null,null,1000737,null,null,null,110]
[null,null,null,null,null,null,null,null,null,null,null,null,null,null,null,"Samir Fouad",null,null,null,null,null,null,null,null,null,1000738,null,null,null,160]
[null,null,null,null,null,null,null,null,null,null,null,null,null,null,null,"Samir Fouad",null,null,null,null,null,null,null,null,null,1000739,null,null,null,110]
[null,null,null,null,null,null,null,null,null,null,null,null,null,null,null,"Samir Fouad",null,null,null,null,null,null,null,null,null,1000740,null,null,null,160]
[null,null,null,null,null,null,null,null,null,null,null,null,null,null,null,"Samir Fouad",null,null,null,null,null,null,null,null,null,1000741,null,null,null,240]
[null,null,null,null,null,null,null,null,null,null,null,null,"Shopping",null,null,"Samir Fouad",null,null,null,null,null,null,null,null,null,1000742,null,null,null,0]
[null,null,null,null,null,null,null,null,null,null,null,null,null,null,null,"Samir Fouad",null,null,null,null,null,null,null,null,null,1000743,null,null,null,240]
[null,null,null,null,null,null,null,null,null,null,null,null,null,null,null,"Samir Fouad",null,null,null,null,null,null,null,null,null,1000744,null,null,null,186]
[null,null,null,null,null,null,null,null,null,null,null,null,null,null,null,"Samir Fouad",null,null,null,null,null,null,null,null,null,1000745,null,null,null,106]
[null,null,null,null,null,null,null,null,null,null,null,null,"Shopping",null,null,"Samir Fouad",null,null,null,null,null,null,null,null,null,1000746,null,null,null,0]
[null,null,null,null,null,null,null,null,null,null,null,null,"Shopping",null,null,"Samir Fouad",null,null,null,null,null,null,null,null,null,1000748,null,null,null,0]
[null,null,null,null,null,null,null,null,null,null,null,null,"10 $ Discount",null,null,"Samir Fouad",null,null,null,null,null,null,null,null,null,1000749,null,null,null,70]
[null,null,null,null,null,null,null,null,null,null,null,null,"Shopping",null,null,"Samir Fouad",null,null,null,null,null,null,null,null,null,1000750,null,null,null,0]
[null,null,null,null,null,null,null,null,null,null,null,null,null,null,null,"Samir Fouad",null,null,null,null,null,null,null,null,null,1000801,null,null,null,110]
[null,null,null,null,null,null,null,null,null,null,null,null,"Shopping",null,null,"Samir Fouad",null,null,null,null,null,null,null,null,null,1000802,null,null,null,0]
[null,null,null,null,null,null,null,null,null,null,null,null,null,null,null,"Samir Fouad",null,null,null,null,null,null,null,null,null,1000804,null,null,null,70]
[null,null,null,null,null,null,null,null,null,null,null,null,null,null,null,"Samir Fouad",null,null,null,null,null,null,null,null,null,1000805,null,null,null,80]
[null,null,null,null,null,null,null,null,null,null,null,null,null,null,null,"Samir Fouad",null,null,null,null,null,null,null,null,null,1000806,null,null,null,80]
[null,null,null,null,null,null,null,null,null,null,null,null,"Shopping",null,null,"Samir Fouad",null,null,null,null,null,null,null,null,null,1000807,null,null,null,0]
[null,null,null,null,null,null,null,null,null,null,null,null,"10 $ Discount",null,null,"Samir Fouad",null,null,null,null,null,null,null,null,null,1000808,null,null,null,60]
[null,null,null,null,null,null,null,null,null,null,null,null,"Shopping",null,null,"Samir Fouad",null,null,null,null,null,null,null,null,null,1000809,null,null,null,0]
[null,null,null,null,null,null,null,null,null,null,null,null,"20 $ Discount",null,null,"Samir Fouad",null,null,null,null,null,null,null,null,null,1000810,null,null,null,140]
[null,null,null,null,null,null,null,null,null,null,null,null,null,null,null,"Samir Fouad",null,null,null,null,null,null,null,null,null,1000811,null,null,null,80]
[null,null,null,null,null,null,null,null,null,null,null,null,null,null,null,"Samir Fouad",null,null,null,null,null,null,null,null,null,1000812,null,null,null,55]
[null,null,null,null,null,null,null,null,null,null,null,null,"Shopping",null,null,"Samir Fouad",null,null,null,null,null,null,null,null,null,1000814,null,null,null,0]
[null,null,null,null,null,null,null,null,null,null,null,null,"Shopping",null,null,"Samir Fouad",null,null,null,null,null,null,null,null,null,1000815,null,null,null,0]
[null,null,null,null,null,null,null,null,null,null,null,null,null,null,null,"Samir Fouad",null,null,null,null,null,null,null,null,null,1000816,null,null,null,160]
[null,null,null,null,null,null,null,null,null,null,null,null,null,null,null,"Samir Fouad",null,null,null,null,null,null,null,null,null,1000817,null,null,null,80]
[null,null,null,null,null,null,null,null,null,null,null,null,"Shopping",null,null,"Samir Fouad",null,null,null,null,null,null,null,null,null,1000818,null,null,null,0]
[null,null,null,null,null,null,null,null,null,null,null,null,null,null,null,"Samir Fouad",null,null,null,null,null,null,null,null,null,1000819,null,null,null,160]
[null,null,null,null,null,null,null,null,null,null,null,null,null,null,null,"Samir Fouad",null,null,null,null,null,null,null,null,null,1000820,null,null,null,120]
[null,null,null,null,null,null,null,null,null,null,null,null,null,null,null,"Samir Fouad",null,null,null,null,null,null,null,null,null,1000821,null,null,null,160]
[null,null,null,null,null,null,null,null,null,null,null,null,null,null,null,"Samir Fouad",null,null,null,null,null,null,null,null,null,1000822,null,null,null,120]
[null,null,null,null,null,null,null,null,null,null,null,null,"Shopping",null,null,"Samir Fouad",null,null,null,null,null,null,null,null,null,1000823,null,null,null,0]
[null,null,null,null,null,null,null,null,null,null,null,null,"Shopping",null,null,"Samir Fouad",null,null,null,null,null,null,null,null,null,1000824,null,null,null,0]
[null,null,null,null,null,null,null,null,null,null,null,null,"Shopping",null,null,"Samir Fouad",null,null,null,null,null,null,null,null,null,1000825,null,null,null,0]
[null,null,null,null,null,null,null,null,null,null,null,null,null,null,null,"Samir Fouad",null,null,null,null,null,null,null,null,null,1000826,null,null,null,70]
[null,null,null,null,null,null,null,null,null,null,null,null,"Shopping",null,null,"Samir Fouad",null,null,null,null,null,null,null,null,null,1000827,null,null,null,0]
[null,null,null,null,null,null,null,null,null,null,null,null,null,null,null,"Samir Fouad",null,null,null,null,null,null,null,null,null,1000828,null,null,null,120]
[null,null,null,null,null,null,null,null,null,null,null,null,null,null,null,"Samir Fouad",null,null,null,null,null,null,null,null,null,1000829,null,null,null,120]
[null,null,null,null,null,null,null,null,null,null,null,null,"20 $ Discount",null,null,"Samir Fouad",null,null,null,null,null,null,null,null,null,1000831,null,null,null,200]
[null,null,null,null,null,null,null,null,null,null,null,null,null,null,null,"Samir Fouad",null,null,null,null,null,null,null,null,null,1000832,null,null,null,320]
[null,null,null,null,null,null,null,null,null,null,null,null,"Shopping",null,null,"Samir Fouad",null,null,null,null,null,null,null,null,null,1000833,null,null,null,0]
[null,null,null,null,null,null,null,null,null,null,null,null,"Shopping",null,null,"Samir Fouad",null,null,null,null,null,null,null,null,null,1000834,null,null,null,0]
[null,null,null,null,null,null,null,null,null,null,null,null,null,null,null,"Samir Fouad",null,null,null,null,null,null,null,null,null,1000835,null,null,null,75]
[null,null,null,null,null,null,null,null,null,null,null,null,null,null,null,"Samir Fouad",null,null,null,null,null,null,null,null,null,1000836,null,null,null,55]
[null,null,null,null,null,null,null,null,null,null,null,null,"Shopping",null,null,"Samir Fouad",null,null,null,null,null,null,null,null,null,1000837,null,null,null,0]
[null,null,null,null,null,null,null,null,null,null,null,null,null,null,null,"Samir Fouad",null,null,null,null,null,null,null,null,null,1000838,null,null,null,60]
[null,null,null,null,null,null,null,null,null,null,null,null,"Shopping",null,null,"Samir Fouad",null,null,null,null,null,null,null,null,null,1000839,null,null,null,0]
[null,null,null,null,null,null,null,null,null,null,null,null,"Shopping",null,null,"Samir Fouad",null,null,null,null,null,null,null,null,null,1000840,null,null,null,0]
[null,null,null,null,null,null,null,null,null,null,null,null,"Shopping",null,null,"Samir Fouad",null,null,null,null,null,null,null,null,null,1000841,null,null,null,0]
[null,null,null,null,null,null,null,null,null,null,null,null,"Shopping",null,null,"Samir Fouad",null,null,null,null,null,null,null,null,null,1000843,null,null,null,0]
[null,null,null,null,null,null,null,null,null,null,null,null,"Shopping",null,null,"Samir Fouad",null,null,null,null,null,null,null,null,null,1000844,null,null,null,0]
[null,null,null,null,null,null,null,null,null,null,null,null,null,null,null,"Samir Fouad",null,null,null,null,null,null,null,null,null,1000845,null,null,null,30]
[null,null,null,null,null,null,null,null,null,null,null,null,"Shopping",null,null,"Samir Fouad",null,null,null,null,null,null,null,null,null,1000846,null,null,null,0]
[null,null,null,null,null,null,null,null,null,null,null,null,null,null,null,"Samir Fouad",null,null,null,null,null,null,null,null,null,1000847,null,null,null,80]
[null,null,null,null,null,null,null,null,null,null,null,null,"Shopping",null,null,"Samir Fouad",null,null,null,null,null,null,null,null,null,1000848,null,null,null,0]
[null,null,null,null,null,null,null,null,null,null,null,null,"10 $ Discount",null,null,"Samir Fouad",null,null,null,null,null,null,null,null,null,1000849,null,null,null,100]
[null,null,null,null,null,null,null,null,null,null,null,null,"Shopping",null,null,"Samir Fouad",null,null,null,null,null,null,null,null,null,1000850,null,null,null,0]
[null,null,null,null,null,null,null,null,null,null,null,null,null,null,null,"Samir Fouad",null,null,null,null,null,null,null,null,null,1001001,null,null,null,110]
[null,null,null,null,null,null,null,null,null,null,null,null,"Shopping",null,null,"Samir Fouad",null,null,null,null,null,null,null,null,null,1001002,null,null,null,0]
[null,null,null,null,null,null,null,null,null,null,null,null,null,null,null,"Samir Fouad",null,null,null,null,null,null,null,null,null,1001003,null,null,null,110]
[null,null,null,null,null,null,null,null,null,null,null,null,null,null,null,"Samir Fouad",null,null,null,null,null,null,null,null,null,1001004,null,null,null,60]
[null,null,null,null,null,null,null,null,null,null,null,null,"Shopping",null,null,"Samir Fouad",null,null,null,null,null,null,null,null,null,1001005,null,null,null,0]
[null,null,null,null,null,null,null,null,null,null,null,null,null,null,null,"Samir Fouad",null,null,null,null,null,null,null,null,null,1001006,null,null,null,110]
[null,null,null,null,null,null,null,null,null,null,null,null,"10 $ Discount",null,null,"Samir Fouad",null,null,null,null,null,null,null,null,null,1001007,null,null,null,100]
[null,null,null,null,null,null,null,null,null,null,null,null,"Shopping",null,null,"Samir Fouad",null,null,null,null,null,null,null,null,null,1001008,null,null,null,0]
[null,null,null,null,null,null,null,null,null,null,null,null,null,null,null,"Samir Fouad",null,null,null,null,null,null,null,null,null,1001009,null,null,null,110]
[null,null,null,null,null,null,null,null,null,null,null,null,"Shopping",null,null,"Samir Fouad",null,null,null,null,null,null,null,null,null,1001010,null,null,null,0]
[null,null,null,null,null,null,null,null,null,null,null,null,"Shopping",null,null,"Samir Fouad",null,null,null,null,null,null,null,null,null,1001011,null,null,null,0]
[null,null,null,null,null,null,null,null,null,null,null,null,null,null,null,"Samir Fouad",null,null,null,null,null,null,null,null,null,1001012,null,null,null,55]
[null,null,null,null,null,null,null,null,null,null,null,null,"Shopping",null,null,"Samir Fouad",null,null,null,null,null,null,null,null,null,1001013,null,null,null,0]
[null,null,null,null,null,null,null,null,null,null,null,null,"Shopping",null,null,"Samir Fouad",null,null,null,null,null,null,null,null,null,1001014,null,null,null,0]
[null,null,null,null,null,null,null,null,null,null,null,null,"Shopping",null,null,"Samir Fouad",null,null,null,null,null,null,null,null,null,1001015,null,null,null,0]
[null,null,null,null,null,null,null,null,null,null,null,null,"10 $ Discount",null,null,"Samir Fouad",null,null,null,null,null,null,null,null,null,1001016,null,null,null,110]
[null,null,null,null,null,null,null,null,null,null,null,null,null,null,null,"Samir Fouad",null,null,null,null,null,null,null,null,null,1001017,null,null,null,110]
[null,null,null,null,null,null,null,null,null,null,null,null,"10 $ Discount",null,null,"Samir Fouad",null,null,null,null,null,null,null,null,null,1001018,null,null,null,100]
[null,null,null,null,null,null,null,null,null,null,null,null,"Shopping",null,null,"Samir Fouad",null,null,null,null,null,null,null,null,null,1001019,null,null,null,0]
[null,null,null,null,null,null,null,null,null,null,null,null,"10 $ Discount",null,null,"Samir Fouad",null,null,null,null,null,null,null,null,null,1001020,null,null,null,100]
[null,null,null,null,null,null,null,null,null,null,null,null,"Shopping",null,null,"Samir Fouad",null,null,null,null,null,null,null,null,null,1001021,null,null,null,0]
[null,null,null,null,null,null,null,null,null,null,null,null,null,null,null,"Samir Fouad",null,null,null,null,null,null,null,null,null,1001022,null,null,null,99]
[null,null,null,null,null,null,null,null,null,null,null,null,"35$ Discount",null,null,"Samir Fouad",null,null,null,null,null,null,null,null,null,1001023,null,null,null,25]
[null,null,null,null,null,null,null,null,null,null,null,null,"Shopping",null,null,"Samir Fouad",null,null,null,null,null,null,null,null,null,1001024,null,null,null,0]
[null,null,null,null,null,null,null,null,null,null,null,null,"Shopping",null,null,"Samir Fouad",null,null,null,null,null,null,null,null,null,1001025,null,null,null,0]
[null,null,null,null,null,null,null,null,null,null,null,null,"5 $ Discount",null,null,"Samir Fouad",null,null,null,null,null,null,null,null,null,1001026,null,null,null,25]
[null,null,null,null,null,null,null,null,null,null,null,null,"5 $ Discount",null,null,"Samir Fouad",null,null,null,null,null,null,null,null,null,1001027,null,null,null,50]
[null,null,null,null,null,null,null,null,null,null,null,null,"10 $ Discount",null,null,"Samir Fouad",null,null,null,null,null,null,null,null,null,1001028,null,null,null,50]
[null,null,null,null,null,null,null,null,null,null,null,null,null,null,null,"Samir Fouad",null,null,null,null,null,null,null,null,null,1001029,null,null,null,198]
[null,null,null,null,null,null,null,null,null,null,null,null,"10 $ Discount",null,null,"Samir Fouad",null,null,null,null,null,null,null,null,null,1001030,null,null,null,100]
[null,null,null,null,null,null,null,null,null,null,null,null,"5 $ Discount",null,null,"Samir Fouad",null,null,null,null,null,null,null,null,null,1001031,null,null,null,25]
[null,null,null,null,null,null,null,null,null,null,null,null,"10 $ Discount",null,null,"Samir Fouad",null,null,null,null,null,null,null,null,null,1001032,null,null,null,100]
[null,null,null,null,null,null,null,null,null,null,null,null,null,null,null,"Samir Fouad",null,null,null,null,null,null,null,null,null,1001033,null,null,null,99]
[null,null,null,null,null,null,null,null,null,null,null,null,"Shopping",null,null,"Samir Fouad",null,null,null,null,null,null,null,null,null,1001034,null,null,null,0]
[null,null,null,null,null,null,null,null,null,null,null,null,null,null,null,"Samir Fouad",null,null,null,null,null,null,null,null,null,1001035,null,null,null,120]
[null,null,null,null,null,null,null,null,null,null,null,null,null,null,null,"Samir Fouad",null,null,null,null,null,null,null,null,null,1001036,null,null,null,220]
[null,null,null,null,null,null,null,null,null,null,null,null,"Shopping",null,null,"Samir Fouad",null,null,null,null,null,null,null,null,null,1001037,null,null,null,0]
[null,null,null,null,null,null,null,null,null,null,null,null,null,null,null,"Samir Fouad",null,null,null,null,null,null,null,null,null,1001038,null,null,null,110]
[null,null,null,null,null,null,null,null,null,null,null,null,null,null,null,"Samir Fouad",null,null,null,null,null,null,null,null,null,1001039,null,null,null,160]
[null,null,null,null,null,null,null,null,null,null,null,null,"Shopping",null,null,"Samir Fouad",null,null,null,null,null,null,null,null,null,1001040,null,null,null,0]
[null,null,null,null,null,null,null,null,null,null,null,null,null,null,null,"Samir Fouad",null,null,null,null,null,null,null,null,null,1001041,null,null,null,45]
[null,null,null,null,null,null,null,null,null,null,null,null,null,null,null,"Samir Fouad",null,null,null,null,null,null,null,null,null,1001042,null,null,null,120]
[null,null,null,null,null,null,null,null,null,null,null,null,"Shopping",null,null,"Samir Fouad",null,null,null,null,null,null,null,null,null,1001043,null,null,null,0]
[null,null,null,null,null,null,null,null,null,null,null,null,null,null,null,"Samir Fouad",null,null,null,null,null,null,null,null,null,1001044,null,null,null,60]
[null,null,null,null,null,null,null,null,null,null,null,null,"Shopping",null,null,"Samir Fouad",null,null,null,null,null,null,null,null,null,1001045,null,null,null,0]
[null,null,null,null,null,null,null,null,null,null,null,null,null,null,null,"Samir Fouad",null,null,null,null,null,null,null,null,null,1001046,null,null,null,160]
[null,null,null,null,null,null,null,null,null,null,null,null,"Shopping",null,null,"Samir Fouad",null,null,null,null,null,null,null,null,null,1001047,null,null,null,0]
[null,null,null,null,null,null,null,null,null,null,null,null,null,null,null,"Samir Fouad",null,null,null,null,null,null,null,null,null,1001048,null,null,null,80]
[null,null,null,null,null,null,null,null,null,null,null,null,null,null,null,"Samir Fouad",null,null,null,null,null,null,null,null,null,1001049,null,null,null,60]
[null,null,null,null,null,null,null,null,null,null,null,null,"5 $ Discount",null,null,"Samir Fouad",null,null,null,null,null,null,null,null,null,1001050,null,null,null,40]
[null,null,null,null,null,null,null,null,null,null,null,null,"Shopping",null,null,"Samir Fouad",null,null,null,null,null,null,null,null,null,1001051,null,null,null,0]
[null,null,null,null,null,null,null,null,null,null,null,null,null,null,null,"Samir Fouad",null,null,null,null,null,null,null,null,null,1001052,null,null,null,55]
[null,null,null,null,null,null,null,null,null,null,null,null,null,null,null,"Samir Fouad",null,null,null,null,null,null,null,null,null,1001053,null,null,null,40]
[null,null,null,null,null,null,null,null,null,null,null,null,"Shopping",null,null,"Samir Fouad",null,null,null,null,null,null,null,null,null,1001054,null,null,null,0]
[null,null,null,null,null,null,null,null,null,null,null,null,null,null,null,"Samir Fouad",null,null,null,null,null,null,null,null,null,1001055,null,null,null,320]
[null,null,null,null,null,null,null,null,null,null,null,null,"Shopping",null,null,"Samir Fouad",null,null,null,null,null,null,null,null,null,1001056,null,null,null,0]
[null,null,null,null,null,null,null,null,null,null,null,null,null,null,null,null,null,null,null,null,null,null,null,null,null,null,null,null,null,{"$f":"SUM(AD3:AD223)","v":14826}]

{"sheet":"Report","index":1,"n_rows":245,"n_cols":13,"rows_kept":245,"cut":false,"hidden":false,"merged":[[207,0,207,4],[242,0,242,1],[244,0,244,4],[21,10,22,15],[162,0,162,4],[164,0,164,1],[164,4,165,4],[166,0,166,4],[201,0,201,1],[203,0,203,4],[205,0,205,1],[205,4,206,4],[160,0,160,1],[123,0,123,1],[123,4,124,4],[125,0,125,4],[119,0,119,1],[121,0,121,4],[78,0,78,1],[80,0,80,4],[82,0,82,1],[82,4,83,4],[84,0,84,4],[39,0,39,4],[41,0,41,1],[41,4,42,4],[43,0,43,4],[37,0,37,1],[0,0,0,1],[0,4,1,4],[2,0,2,4]]}
[{"$f":"TODAY()","v":"2021-01-20"},null,null,null,1]
[]
["Company :Safari Company",null,null,null,null,null,null,null,null,null,null,null,"Said Reda"]
[null,null,null,null,null,null,null,null,null,null,null,null,"Omar Nagy"]
["Guide Name:",{"$f":"$G$5","v":"Said Reda"},null,null,null,null,"Said Reda",null,null,null,null,null,"Samir Fouad"]
[]
["No.","Voucher no.","Cash",null,"Remarks"]
[{"$f":"IF(B8=\"\",\"\",SUBTOTAL(3,$B$8:B8))","v":1},{"$f":"IFERROR(INDEX(Main!$Z$3:$Z$223,SMALL(IF((Report!$G$5=Main!$P$3:$P$223),ROW(Main!$P$3:$P$223)-2),ROW(A1))),\"\")","v":1000055},{"$f":"IFERROR(INDEX(Main!$AD$3:$AD$223,SMALL(IF((Report!$G$5=Main!$P$3:$P$223),ROW(Main!$P$3:$P$223)-2),ROW(A1))),\"\")","v":195},null,{"$f":"IFERROR(INDEX(Main!$M$3:$M$223,SMALL(IF((Report!$G$5=Main!$P$3:$P$223),ROW(Main!$P$3:$P$223)-2),ROW(A1))),\"\")","v":0}]
[{"$f":"IF(B9=\"\",\"\",SUBTOTAL(3,$B$8:B9))","v":2},{"$f":"IFERROR(INDEX(Main!$Z$3:$Z$223,SMALL(IF((Report!$G$5=Main!$P$3:$P$223),ROW(Main!$P$3:$P$223)-2),ROW(A2))),\"\")","v":1000057},{"$f":"IFERROR(INDEX(Main!$AD$3:$AD$223,SMALL(IF((Report!$G$5=Main!$P$3:$P$223),ROW(Main!$P$3:$P$223)-2),ROW(A2))),\"\")","v":60},null,{"$f":"IFERROR(INDEX(Main!$M$3:$M$223,SMALL(IF((Report!$G$5=Main!$P$3:$P$223),ROW(Main!$P$3:$P$223)-2),ROW(A2))),\"\")","v":0}]
[{"$f":"IF(B10=\"\",\"\",SUBTOTAL(3,$B$8:B10))","v":3},{"$f":"IFERROR(INDEX(Main!$Z$3:$Z$223,SMALL(IF((Report!$G$5=Main!$P$3:$P$223),ROW(Main!$P$3:$P$223)-2),ROW(A3))),\"\")","v":1000058},{"$f":"IFERROR(INDEX(Main!$AD$3:$AD$223,SMALL(IF((Report!$G$5=Main!$P$3:$P$223),ROW(Main!$P$3:$P$223)-2),ROW(A3))),\"\")","v":70},null,{"$f":"IFERROR(INDEX(Main!$M$3:$M$223,SMALL(IF((Report!$G$5=Main!$P$3:$P$223),ROW(Main!$P$3:$P$223)-2),ROW(A3))),\"\")","v":0}]
[{"$f":"IF(B11=\"\",\"\",SUBTOTAL(3,$B$8:B11))","v":4},{"$f":"IFERROR(INDEX(Main!$Z$3:$Z$223,SMALL(IF((Report!$G$5=Main!$P$3:$P$223),ROW(Main!$P$3:$P$223)-2),ROW(A4))),\"\")","v":1000059},{"$f":"IFERROR(INDEX(Main!$AD$3:$AD$223,SMALL(IF((Report!$G$5=Main!$P$3:$P$223),ROW(Main!$P$3:$P$223)-2),ROW(A4))),\"\")","v":0},null,{"$f":"IFERROR(INDEX(Main!$M$3:$M$223,SMALL(IF((Report!$G$5=Main!$P$3:$P$223),ROW(Main!$P$3:$P$223)-2),ROW(A4))),\"\")","v":"Shopping"}]
[{"$f":"IF(B12=\"\",\"\",SUBTOTAL(3,$B$8:B12))","v":5},{"$f":"IFERROR(INDEX(Main!$Z$3:$Z$223,SMALL(IF((Report!$G$5=Main!$P$3:$P$223),ROW(Main!$P$3:$P$223)-2),ROW(A5))),\"\")","v":1000060},{"$f":"IFERROR(INDEX(Main!$AD$3:$AD$223,SMALL(IF((Report!$G$5=Main!$P$3:$P$223),ROW(Main!$P$3:$P$223)-2),ROW(A5))),\"\")","v":160},null,{"$f":"IFERROR(INDEX(Main!$M$3:$M$223,SMALL(IF((Report!$G$5=Main!$P$3:$P$223),ROW(Main!$P$3:$P$223)-2),ROW(A5))),\"\")","v":0}]
[{"$f":"IF(B13=\"\",\"\",SUBTOTAL(3,$B$8:B13))","v":6},{"$f":"IFERROR(INDEX(Main!$Z$3:$Z$223,SMALL(IF((Report!$G$5=Main!$P$3:$P$223),ROW(Main!$P$3:$P$223)-2),ROW(A6))),\"\")","v":1000061},{"$f":"IFERROR(INDEX(Main!$AD$3:$AD$223,SMALL(IF((Report!$G$5=Main!$P$3:$P$223),ROW(Main!$P$3:$P$223)-2),ROW(A6))),\"\")","v":110},null,{"$f":"IFERROR(INDEX(Main!$M$3:$M$223,SMALL(IF((Report!$G$5=Main!$P$3:$P$223),ROW(Main!$P$3:$P$223)-2),ROW(A6))),\"\")","v":0}]
[{"$f":"IF(B14=\"\",\"\",SUBTOTAL(3,$B$8:B14))","v":7},{"$f":"IFERROR(INDEX(Main!$Z$3:$Z$223,SMALL(IF((Report!$G$5=Main!$P$3:$P$223),ROW(Main!$P$3:$P$223)-2),ROW(A7))),\"\")","v":1000062},{"$f":"IFERROR(INDEX(Main!$AD$3:$AD$223,SMALL(IF((Report!$G$5=Main!$P$3:$P$223),ROW(Main!$P$3:$P$223)-2),ROW(A7))),\"\")","v":60},null,{"$f":"IFERROR(INDEX(Main!$M$3:$M$223,SMALL(IF((Report!$G$5=Main!$P$3:$P$223),ROW(Main!$P$3:$P$223)-2),ROW(A7))),\"\")","v":0}]
[{"$f":"IF(B15=\"\",\"\",SUBTOTAL(3,$B$8:B15))","v":8},{"$f":"IFERROR(INDEX(Main!$Z$3:$Z$223,SMALL(IF((Report!$G$5=Main!$P$3:$P$223),ROW(Main!$P$3:$P$223)-2),ROW(A8))),\"\")","v":1000063},{"$f":"IFERROR(INDEX(Main!$AD$3:$AD$223,SMALL(IF((Report!$G$5=Main!$P$3:$P$223),ROW(Main!$P$3:$P$223)-2),ROW(A8))),\"\")","v":0},null,{"$f":"IFERROR(INDEX(Main!$M$3:$M$223,SMALL(IF((Report!$G$5=Main!$P$3:$P$223),ROW(Main!$P$3:$P$223)-2),ROW(A8))),\"\")","v":"Shopping"}]
[{"$f":"IF(B16=\"\",\"\",SUBTOTAL(3,$B$8:B16))","v":9},{"$f":"IFERROR(INDEX(Main!$Z$3:$Z$223,SMALL(IF((Report!$G$5=Main!$P$3:$P$223),ROW(Main!$P$3:$P$223)-2),ROW(A9))),\"\")","v":1000064},{"$f":"IFERROR(INDEX(Main!$AD$3:$AD$223,SMALL(IF((Report!$G$5=Main!$P$3:$P$223),ROW(Main!$P$3:$P$223)-2),ROW(A9))),\"\")","v":80},null,{"$f":"IFERROR(INDEX(Main!$M$3:$M$223,SMALL(IF((Report!$G$5=Main!$P$3:$P$223),ROW(Main!$P$3:$P$223)-2),ROW(A9))),\"\")","v":0}]
[{"$f":"IF(B17=\"\",\"\",SUBTOTAL(3,$B$8:B17))","v":10},{"$f":"IFERROR(INDEX(Main!$Z$3:$Z$223,SMALL(IF((Report!$G$5=Main!$P$3:$P$223),ROW(Main!$P$3:$P$223)-2),ROW(A10))),\"\")","v":1000065},{"$f":"IFERROR(INDEX(Main!$AD$3:$AD$223,SMALL(IF((Report!$G$5=Main!$P$3:$P$223),ROW(Main!$P$3:$P$223)-2),ROW(A10))),\"\")","v":60},null,{"$f":"IFERROR(INDEX(Main!$M$3:$M$223,SMALL(IF((Report!$G$5=Main!$P$3:$P$223),ROW(Main!$P$3:$P$223)-2),ROW(A10))),\"\")","v":0}]
[{"$f":"IF(B18=\"\",\"\",SUBTOTAL(3,$B$8:B18))","v":11},{"$f":"IFERROR(INDEX(Main!$Z$3:$Z$223,SMALL(IF((Report!$G$5=Main!$P$3:$P$223),ROW(Main!$P$3:$P$223)-2),ROW(A11))),\"\")","v":1000066},{"$f":"IFERROR(INDEX(Main!$AD$3:$AD$223,SMALL(IF((Report!$G$5=Main!$P$3:$P$223),ROW(Main!$P$3:$P$223)-2),ROW(A11))),\"\")","v":75},null,{"$f":"IFERROR(INDEX(Main!$M$3:$M$223,SMALL(IF((Report!$G$5=Main!$P$3:$P$223),ROW(Main!$P$3:$P$223)-2),ROW(A11))),\"\")","v":0}]
[{"$f":"IF(B19=\"\",\"\",SUBTOTAL(3,$B$8:B19))","v":12},{"$f":"IFERROR(INDEX(Main!$Z$3:$Z$223,SMALL(IF((Report!$G$5=Main!$P$3:$P$223),ROW(Main!$P$3:$P$223)-2),ROW(A12))),\"\")","v":1000067},{"$f":"IFERROR(INDEX(Main!$AD$3:$AD$223,SMALL(IF((Report!$G$5=Main!$P$3:$P$223),ROW(Main!$P$3:$P$223)-2),ROW(A12))),\"\")","v":0},null,{"$f":"IFERROR(INDEX(Main!$M$3:$M$223,SMALL(IF((Report!$G$5=Main!$P$3:$P$223),ROW(Main!$P$3:$P$223)-2),ROW(A12))),\"\")","v":"Shopping"}]
[{"$f":"IF(B20=\"\",\"\",SUBTOTAL(3,$B$8:B20))","v":13},{"$f":"IFERROR(INDEX(Main!$Z$3:$Z$223,SMALL(IF((Report!$G$5=Main!$P$3:$P$223),ROW(Main!$P$3:$P$223)-2),ROW(A13))),\"\")","v":1000069},{"$f":"IFERROR(INDEX(Main!$AD$3:$AD$223,SMALL(IF((Report!$G$5=Main!$P$3:$P$223),ROW(Main!$P$3:$P$223)-2),ROW(A13))),\"\")","v":0},null,{"$f":"IFERROR(INDEX(Main!$M$3:$M$223,SMALL(IF((Report!$G$5=Main!$P$3:$P$223),ROW(Main!$P$3:$P$223)-2),ROW(A13))),\"\")","v":"Shopping"}]
[{"$f":"IF(B21=\"\",\"\",SUBTOTAL(3,$B$8:B21))","v":14},{"$f":"IFERROR(INDEX(Main!$Z$3:$Z$223,SMALL(IF((Report!$G$5=Main!$P$3:$P$223),ROW(Main!$P$3:$P$223)-2),ROW(A14))),\"\")","v":1000070},{"$f":"IFERROR(INDEX(Main!$AD$3:$AD$223,SMALL(IF((Report!$G$5=Main!$P$3:$P$223),ROW(Main!$P$3:$P$223)-2),ROW(A14))),\"\")","v":0},null,{"$f":"IFERROR(INDEX(Main!$M$3:$M$223,SMALL(IF((Report!$G$5=Main!$P$3:$P$223),ROW(Main!$P$3:$P$223)-2),ROW(A14))),\"\")","v":"Shopping"}]
[{"$f":"IF(B22=\"\",\"\",SUBTOTAL(3,$B$8:B22))","v":15},{"$f":"IFERROR(INDEX(Main!$Z$3:$Z$223,SMALL(IF((Report!$G$5=Main!$P$3:$P$223),ROW(Main!$P$3:$P$223)-2),ROW(A15))),\"\")","v":1000072},{"$f":"IFERROR(INDEX(Main!$AD$3:$AD$223,SMALL(IF((Report!$G$5=Main!$P$3:$P$223),ROW(Main!$P$3:$P$223)-2),ROW(A15))),\"\")","v":60},null,{"$f":"IFERROR(INDEX(Main!$M$3:$M$223,SMALL(IF((Report!$G$5=Main!$P$3:$P$223),ROW(Main!$P$3:$P$223)-2),ROW(A15))),\"\")","v":0},null,null,null,null,null,"هذه شكل النتائج المطلوبة والبيانات المطلوب ترحيلها \nمن صفحة Main"]
[{"$f":"IF(B23=\"\",\"\",SUBTOTAL(3,$B$8:B23))","v":16},{"$f":"IFERROR(INDEX(Main!$Z$3:$Z$223,SMALL(IF((Report!$G$5=Main!$P$3:$P$223),ROW(Main!$P$3:$P$223)-2),ROW(A16))),\"\")","v":1000073},{"$f":"IFERROR(INDEX(Main!$AD$3:$AD$223,SMALL(IF((Report!$G$5=Main!$P$3:$P$223),ROW(Main!$P$3:$P$223)-2),ROW(A16))),\"\")","v":0},null,{"$f":"IFERROR(INDEX(Main!$M$3:$M$223,SMALL(IF((Report!$G$5=Main!$P$3:$P$223),ROW(Main!$P$3:$P$223)-2),ROW(A16))),\"\")","v":"Shopping"}]
[{"$f":"IF(B24=\"\",\"\",SUBTOTAL(3,$B$8:B24))","v":17},{"$f":"IFERROR(INDEX(Main!$Z$3:$Z$223,SMALL(IF((Report!$G$5=Main!$P$3:$P$223),ROW(Main!$P$3:$P$223)-2),ROW(A17))),\"\")","v":1000074},{"$f":"IFERROR(INDEX(Main!$AD$3:$AD$223,SMALL(IF((Report!$G$5=Main!$P$3:$P$223),ROW(Main!$P$3:$P$223)-2),ROW(A17))),\"\")","v":0},null,{"$f":"IFERROR(INDEX(Main!$M$3:$M$223,SMALL(IF((Report!$G$5=Main!$P$3:$P$223),ROW(Main!$P$3:$P$223)-2),ROW(A17))),\"\")","v":"Shopping"}]
[{"$f":"IF(B25=\"\",\"\",SUBTOTAL(3,$B$8:B25))","v":18},{"$f":"IFERROR(INDEX(Main!$Z$3:$Z$223,SMALL(IF((Report!$G$5=Main!$P$3:$P$223),ROW(Main!$P$3:$P$223)-2),ROW(A18))),\"\")","v":1000075},{"$f":"IFERROR(INDEX(Main!$AD$3:$AD$223,SMALL(IF((Report!$G$5=Main!$P$3:$P$223),ROW(Main!$P$3:$P$223)-2),ROW(A18))),\"\")","v":70},null,{"$f":"IFERROR(INDEX(Main!$M$3:$M$223,SMALL(IF((Report!$G$5=Main!$P$3:$P$223),ROW(Main!$P$3:$P$223)-2),ROW(A18))),\"\")","v":0}]
[{"$f":"IF(B26=\"\",\"\",SUBTOTAL(3,$B$8:B26))","v":19},{"$f":"IFERROR(INDEX(Main!$Z$3:$Z$223,SMALL(IF((Report!$G$5=Main!$P$3:$P$223),ROW(Main!$P$3:$P$223)-2),ROW(A19))),\"\")","v":1000077},{"$f":"IFERROR(INDEX(Main!$AD$3:$AD$223,SMALL(IF((Report!$G$5=Main!$P$3:$P$223),ROW(Main!$P$3:$P$223)-2),ROW(A19))),\"\")","v":90},null,{"$f":"IFERROR(INDEX(Main!$M$3:$M$223,SMALL(IF((Report!$G$5=Main!$P$3:$P$223),ROW(Main!$P$3:$P$223)-2),ROW(A19))),\"\")","v":0}]
[{"$f":"IF(B27=\"\",\"\",SUBTOTAL(3,$B$8:B27))","v":20},{"$f":"IFERROR(INDEX(Main!$Z$3:$Z$223,SMALL(IF((Report!$G$5=Main!$P$3:$P$223),ROW(Main!$P$3:$P$223)-2),ROW(A20))),\"\")","v":1000078},{"$f":"IFERROR(INDEX(Main!$AD$3:$AD$223,SMALL(IF((Report!$G$5=Main!$P$3:$P$223),ROW(Main!$P$3:$P$223)-2),ROW(A20))),\"\")","v":200},null,{"$f":"IFERROR(INDEX(Main!$M$3:$M$223,SMALL(IF((Report!$G$5=Main!$P$3:$P$223),ROW(Main!$P$3:$P$223)-2),ROW(A20))),\"\")","v":0}]
[{"$f":"IF(B28=\"\",\"\",SUBTOTAL(3,$B$8:B28))","v":21},{"$f":"IFERROR(INDEX(Main!$Z$3:$Z$223,SMALL(IF((Report!$G$5=Main!$P$3:$P$223),ROW(Main!$P$3:$P$223)-2),ROW(A21))),\"\")","v":1000079},{"$f":"IFERROR(INDEX(Main!$AD$3:$AD$223,SMALL(IF((Report!$G$5=Main!$P$3:$P$223),ROW(Main!$P$3:$P$223)-2),ROW(A21))),\"\")","v":100},null,{"$f":"IFERROR(INDEX(Main!$M$3:$M$223,SMALL(IF((Report!$G$5=Main!$P$3:$P$223),ROW(Main!$P$3:$P$223)-2),ROW(A21))),\"\")","v":0}]
[{"$f":"IF(B29=\"\",\"\",SUBTOTAL(3,$B$8:B29))","v":22},{"$f":"IFERROR(INDEX(Main!$Z$3:$Z$223,SMALL(IF((Report!$G$5=Main!$P$3:$P$223),ROW(Main!$P$3:$P$223)-2),ROW(A22))),\"\")","v":1000080},{"$f":"IFERROR(INDEX(Main!$AD$3:$AD$223,SMALL(IF((Report!$G$5=Main!$P$3:$P$223),ROW(Main!$P$3:$P$223)-2),ROW(A22))),\"\")","v":60},null,{"$f":"IFERROR(INDEX(Main!$M$3:$M$223,SMALL(IF((Report!$G$5=Main!$P$3:$P$223),ROW(Main!$P$3:$P$223)-2),ROW(A22))),\"\")","v":0}]
[{"$f":"IF(B30=\"\",\"\",SUBTOTAL(3,$B$8:B30))","v":23},{"$f":"IFERROR(INDEX(Main!$Z$3:$Z$223,SMALL(IF((Report!$G$5=Main!$P$3:$P$223),ROW(Main!$P$3:$P$223)-2),ROW(A23))),\"\")","v":1000081},{"$f":"IFERROR(INDEX(Main!$AD$3:$AD$223,SMALL(IF((Report!$G$5=Main!$P$3:$P$223),ROW(Main!$P$3:$P$223)-2),ROW(A23))),\"\")","v":160},null,{"$f":"IFERROR(INDEX(Main!$M$3:$M$223,SMALL(IF((Report!$G$5=Main!$P$3:$P$223),ROW(Main!$P$3:$P$223)-2),ROW(A23))),\"\")","v":0}]
[{"$f":"IF(B31=\"\",\"\",SUBTOTAL(3,$B$8:B31))","v":24},{"$f":"IFERROR(INDEX(Main!$Z$3:$Z$223,SMALL(IF((Report!$G$5=Main!$P$3:$P$223),ROW(Main!$P$3:$P$223)-2),ROW(A24))),\"\")","v":1000082},{"$f":"IFERROR(INDEX(Main!$AD$3:$AD$223,SMALL(IF((Report!$G$5=Main!$P$3:$P$223),ROW(Main!$P$3:$P$223)-2),ROW(A24))),\"\")","v":0},null,{"$f":"IFERROR(INDEX(Main!$M$3:$M$223,SMALL(IF((Report!$G$5=Main!$P$3:$P$223),ROW(Main!$P$3:$P$223)-2),ROW(A24))),\"\")","v":"Shopping"}]
[{"$f":"IF(B32=\"\",\"\",SUBTOTAL(3,$B$8:B32))","v":25},{"$f":"IFERROR(INDEX(Main!$Z$3:$Z$223,SMALL(IF((Report!$G$5=Main!$P$3:$P$223),ROW(Main!$P$3:$P$223)-2),ROW(A25))),\"\")","v":1000083},{"$f":"IFERROR(INDEX(Main!$AD$3:$AD$223,SMALL(IF((Report!$G$5=Main!$P$3:$P$223),ROW(Main!$P$3:$P$223)-2),ROW(A25))),\"\")","v":80},null,{"$f":"IFERROR(INDEX(Main!$M$3:$M$223,SMALL(IF((Report!$G$5=Main!$P$3:$P$223),ROW(Main!$P$3:$P$223)-2),ROW(A25))),\"\")","v":0}]
[{"$f":"IF(B33=\"\",\"\",SUBTOTAL(3,$B$8:B33))","v":""},{"$f":"IFERROR(INDEX(Main!$Z$3:$Z$223,SMALL(IF((Report!$G$5=Main!$P$3:$P$223),ROW(Main!$P$3:$P$223)-2),ROW(A26))),\"\")","v":""},{"$f":"IFERROR(INDEX(Main!$AD$3:$AD$223,SMALL(IF((Report!$G$5=Main!$P$3:$P$223),ROW(Main!$P$3:$P$223)-2),ROW(A26))),\"\")","v":""},null,{"$f":"IFERROR(INDEX(Main!$M$3:$M$223,SMALL(IF((Report!$G$5=Main!$P$3:$P$223),ROW(Main!$P$3:$P$223)-2),ROW(A26))),\"\")","v":""}]
[{"$f":"IF(B34=\"\",\"\",SUBTOTAL(3,$B$8:B34))","v":""},{"$f":"IFERROR(INDEX(Main!$Z$3:$Z$223,SMALL(IF((Report!$G$5=Main!$P$3:$P$223),ROW(Main!$P$3:$P$223)-2),ROW(A27))),\"\")","v":""},{"$f":"IFERROR(INDEX(Main!$AD$3:$AD$223,SMALL(IF((Report!$G$5=Main!$P$3:$P$223),ROW(Main!$P$3:$P$223)-2),ROW(A27))),\"\")","v":""},null,{"$f":"IFERROR(INDEX(Main!$M$3:$M$223,SMALL(IF((Report!$G$5=Main!$P$3:$P$223),ROW(Main!$P$3:$P$223)-2),ROW(A27))),\"\")","v":""}]
[{"$f":"IF(B35=\"\",\"\",SUBTOTAL(3,$B$8:B35))","v":""},{"$f":"IFERROR(INDEX(Main!$Z$3:$Z$223,SMALL(IF((Report!$G$5=Main!$P$3:$P$223),ROW(Main!$P$3:$P$223)-2),ROW(A28))),\"\")","v":""},{"$f":"IFERROR(INDEX(Main!$AD$3:$AD$223,SMALL(IF((Report!$G$5=Main!$P$3:$P$223),ROW(Main!$P$3:$P$223)-2),ROW(A28))),\"\")","v":""},null,{"$f":"IFERROR(INDEX(Main!$M$3:$M$223,SMALL(IF((Report!$G$5=Main!$P$3:$P$223),ROW(Main!$P$3:$P$223)-2),ROW(A28))),\"\")","v":""}]
[{"$f":"IF(B36=\"\",\"\",SUBTOTAL(3,$B$8:B36))","v":""},{"$f":"IFERROR(INDEX(Main!$Z$3:$Z$223,SMALL(IF((Report!$G$5=Main!$P$3:$P$223),ROW(Main!$P$3:$P$223)-2),ROW(A29))),\"\")","v":""},{"$f":"IFERROR(INDEX(Main!$AD$3:$AD$223,SMALL(IF((Report!$G$5=Main!$P$3:$P$223),ROW(Main!$P$3:$P$223)-2),ROW(A29))),\"\")","v":""},null,{"$f":"IFERROR(INDEX(Main!$M$3:$M$223,SMALL(IF((Report!$G$5=Main!$P$3:$P$223),ROW(Main!$P$3:$P$223)-2),ROW(A29))),\"\")","v":""}]
[{"$f":"IF(B37=\"\",\"\",SUBTOTAL(3,$B$8:B37))","v":""},{"$f":"IFERROR(INDEX(Main!$Z$3:$Z$223,SMALL(IF((Report!$G$5=Main!$P$3:$P$223),ROW(Main!$P$3:$P$223)-2),ROW(A30))),\"\")","v":""},{"$f":"IFERROR(INDEX(Main!$AD$3:$AD$223,SMALL(IF((Report!$G$5=Main!$P$3:$P$223),ROW(Main!$P$3:$P$223)-2),ROW(A30))),\"\")","v":""},null,{"$f":"IFERROR(INDEX(Main!$M$3:$M$223,SMALL(IF((Report!$G$5=Main!$P$3:$P$223),ROW(Main!$P$3:$P$223)-2),ROW(A30))),\"\")","v":""}]
["Total :",null,{"$f":"SUM(C8:C37)","v":1690}]
[]
["Guide Signature :…………………………………………………………………………………………………….."]
[]
[{"$f":"TODAY()","v":"2021-01-20"},null,null,null,2]
[]
["Company :Safari Company"]
[]
["Guide Name:",{"$f":"$G$5","v":"Said Reda"}]
[]
["No.","Voucher no.","Cash",null,"Remarks"]
[{"$f":"IF(B49=\"\",\"\",SUBTOTAL(3,$B$49:B49))","v":""},{"$f":"IFERROR(INDEX(Main!$Z$3:$Z$223,SMALL(IF((Report!$G$5=Main!$P$3:$P$223),ROW(Main!$P$3:$P$223)-2),ROW(A31))),\"\")","v":""},{"$f":"IFERROR(INDEX(Main!$AD$3:$AD$223,SMALL(IF((Report!$G$5=Main!$P$3:$P$223),ROW(Main!$P$3:$P$223)-2),ROW(A31))),\"\")","v":""},null,{"$f":"IFERROR(INDEX(Main!$M$3:$M$223,SMALL(IF((Report!$G$5=Main!$P$3:$P$223),ROW(Main!$P$3:$P$223)-2),ROW(A31))),\"\")","v":""}]
[{"$f":"IF(B50=\"\",\"\",SUBTOTAL(3,$B$49:B50))","v":""},{"$f":"IFERROR(INDEX(Main!$Z$3:$Z$223,SMALL(IF((Report!$G$5=Main!$P$3:$P$223),ROW(Main!$P$3:$P$223)-2),ROW(A32))),\"\")","v":""},{"$f":"IFERROR(INDEX(Main!$AD$3:$AD$223,SMALL(IF((Report!$G$5=Main!$P$3:$P$223),ROW(Main!$P$3:$P$223)-2),ROW(A32))),\"\")","v":""},null,{"$f":"IFERROR(INDEX(Main!$M$3:$M$223,SMALL(IF((Report!$G$5=Main!$P$3:$P$223),ROW(Main!$P$3:$P$223)-2),ROW(A32))),\"\")","v":""}]
[{"$f":"IF(B51=\"\",\"\",SUBTOTAL(3,$B$49:B51))","v":""},{"$f":"IFERROR(INDEX(Main!$Z$3:$Z$223,SMALL(IF((Report!$G$5=Main!$P$3:$P$223),ROW(Main!$P$3:$P$223)-2),ROW(A33))),\"\")","v":""},{"$f":"IFERROR(INDEX(Main!$AD$3:$AD$223,SMALL(IF((Report!$G$5=Main!$P$3:$P$223),ROW(Main!$P$3:$P$223)-2),ROW(A33))),\"\")","v":""},null,{"$f":"IFERROR(INDEX(Main!$M$3:$M$223,SMALL(IF((Report!$G$5=Main!$P$3:$P$223),ROW(Main!$P$3:$P$223)-2),ROW(A33))),\"\")","v":""}]
[{"$f":"IF(B52=\"\",\"\",SUBTOTAL(3,$B$49:B52))","v":""},{"$f":"IFERROR(INDEX(Main!$Z$3:$Z$223,SMALL(IF((Report!$G$5=Main!$P$3:$P$223),ROW(Main!$P$3:$P$223)-2),ROW(A34))),\"\")","v":""},{"$f":"IFERROR(INDEX(Main!$AD$3:$AD$223,SMALL(IF((Report!$G$5=Main!$P$3:$P$223),ROW(Main!$P$3:$P$223)-2),ROW(A34))),\"\")","v":""},null,{"$f":"IFERROR(INDEX(Main!$M$3:$M$223,SMALL(IF((Report!$G$5=Main!$P$3:$P$223),ROW(Main!$P$3:$P$223)-2),ROW(A34))),\"\")","v":""}]
[{"$f":"IF(B53=\"\",\"\",SUBTOTAL(3,$B$49:B53))","v":""},{"$f":"IFERROR(INDEX(Main!$Z$3:$Z$223,SMALL(IF((Report!$G$5=Main!$P$3:$P$223),ROW(Main!$P$3:$P$223)-2),ROW(A35))),\"\")","v":""},{"$f":"IFERROR(INDEX(Main!$AD$3:$AD$223,SMALL(IF((Report!$G$5=Main!$P$3:$P$223),ROW(Main!$P$3:$P$223)-2),ROW(A35))),\"\")","v":""},null,{"$f":"IFERROR(INDEX(Main!$M$3:$M$223,SMALL(IF((Report!$G$5=Main!$P$3:$P$223),ROW(Main!$P$3:$P$223)-2),ROW(A35))),\"\")","v":""}]
[{"$f":"IF(B54=\"\",\"\",SUBTOTAL(3,$B$49:B54))","v":""},{"$f":"IFERROR(INDEX(Main!$Z$3:$Z$223,SMALL(IF((Report!$G$5=Main!$P$3:$P$223),ROW(Main!$P$3:$P$223)-2),ROW(A36))),\"\")","v":""},{"$f":"IFERROR(INDEX(Main!$AD$3:$AD$223,SMALL(IF((Report!$G$5=Main!$P$3:$P$223),ROW(Main!$P$3:$P$223)-2),ROW(A36))),\"\")","v":""},null,{"$f":"IFERROR(INDEX(Main!$M$3:$M$223,SMALL(IF((Report!$G$5=Main!$P$3:$P$223),ROW(Main!$P$3:$P$223)-2),ROW(A36))),\"\")","v":""}]
[{"$f":"IF(B55=\"\",\"\",SUBTOTAL(3,$B$49:B55))","v":""},{"$f":"IFERROR(INDEX(Main!$Z$3:$Z$223,SMALL(IF((Report!$G$5=Main!$P$3:$P$223),ROW(Main!$P$3:$P$223)-2),ROW(A37))),\"\")","v":""},{"$f":"IFERROR(INDEX(Main!$AD$3:$AD$223,SMALL(IF((Report!$G$5=Main!$P$3:$P$223),ROW(Main!$P$3:$P$223)-2),ROW(A37))),\"\")","v":""},null,{"$f":"IFERROR(INDEX(Main!$M$3:$M$223,SMALL(IF((Report!$G$5=Main!$P$3:$P$223),ROW(Main!$P$3:$P$223)-2),ROW(A37))),\"\")","v":""}]
[{"$f":"IF(B56=\"\",\"\",SUBTOTAL(3,$B$49:B56))","v":""},{"$f":"IFERROR(INDEX(Main!$Z$3:$Z$223,SMALL(IF((Report!$G$5=Main!$P$3:$P$223),ROW(Main!$P$3:$P$223)-2),ROW(A38))),\"\")","v":""},{"$f":"IFERROR(INDEX(Main!$AD$3:$AD$223,SMALL(IF((Report!$G$5=Main!$P$3:$P$223),ROW(Main!$P$3:$P$223)-2),ROW(A38))),\"\")","v":""},null,{"$f":"IFERROR(INDEX(Main!$M$3:$M$223,SMALL(IF((Report!$G$5=Main!$P$3:$P$223),ROW(Main!$P$3:$P$223)-2),ROW(A38))),\"\")","v":""}]
[{"$f":"IF(B57=\"\",\"\",SUBTOTAL(3,$B$49:B57))","v":""},{"$f":"IFERROR(INDEX(Main!$Z$3:$Z$223,SMALL(IF((Report!$G$5=Main!$P$3:$P$223),ROW(Main!$P$3:$P$223)-2),ROW(A39))),\"\")","v":""},{"$f":"IFERROR(INDEX(Main!$AD$3:$AD$223,SMALL(IF((Report!$G$5=Main!$P$3:$P$223),ROW(Main!$P$3:$P$223)-2),ROW(A39))),\"\")","v":""},null,{"$f":"IFERROR(INDEX(Main!$M$3:$M$223,SMALL(IF((Report!$G$5=Main!$P$3:$P$223),ROW(Main!$P$3:$P$223)-2),ROW(A39))),\"\")","v":""}]
[{"$f":"IF(B58=\"\",\"\",SUBTOTAL(3,$B$49:B58))","v":""},{"$f":"IFERROR(INDEX(Main!$Z$3:$Z$223,SMALL(IF((Report!$G$5=Main!$P$3:$P$223),ROW(Main!$P$3:$P$223)-2),ROW(A40))),\"\")","v":""},{"$f":"IFERROR(INDEX(Main!$AD$3:$AD$223,SMALL(IF((Report!$G$5=Main!$P$3:$P$223),ROW(Main!$P$3:$P$223)-2),ROW(A40))),\"\")","v":""},null,{"$f":"IFERROR(INDEX(Main!$M$3:$M$223,SMALL(IF((Report!$G$5=Main!$P$3:$P$223),ROW(Main!$P$3:$P$223)-2),ROW(A40))),\"\")","v":""}]
[{"$f":"IF(B59=\"\",\"\",SUBTOTAL(3,$B$49:B59))","v":""},{"$f":"IFERROR(INDEX(Main!$Z$3:$Z$223,SMALL(IF((Report!$G$5=Main!$P$3:$P$223),ROW(Main!$P$3:$P$223)-2),ROW(A41))),\"\")","v":""},{"$f":"IFERROR(INDEX(Main!$AD$3:$AD$223,SMALL(IF((Report!$G$5=Main!$P$3:$P$223),ROW(Main!$P$3:$P$223)-2),ROW(A41))),\"\")","v":""},null,{"$f":"IFERROR(INDEX(Main!$M$3:$M$223,SMALL(IF((Report!$G$5=Main!$P$3:$P$223),ROW(Main!$P$3:$P$223)-2),ROW(A41))),\"\")","v":""}]
[{"$f":"IF(B60=\"\",\"\",SUBTOTAL(3,$B$49:B60))","v":""},{"$f":"IFERROR(INDEX(Main!$Z$3:$Z$223,SMALL(IF((Report!$G$5=Main!$P$3:$P$223),ROW(Main!$P$3:$P$223)-2),ROW(A42))),\"\")","v":""},{"$f":"IFERROR(INDEX(Main!$AD$3:$AD$223,SMALL(IF((Report!$G$5=Main!$P$3:$P$223),ROW(Main!$P$3:$P$223)-2),ROW(A42))),\"\")","v":""},null,{"$f":"IFERROR(INDEX(Main!$M$3:$M$223,SMALL(IF((Report!$G$5=Main!$P$3:$P$223),ROW(Main!$P$3:$P$223)-2),ROW(A42))),\"\")","v":""}]
[{"$f":"IF(B61=\"\",\"\",SUBTOTAL(3,$B$49:B61))","v":""},{"$f":"IFERROR(INDEX(Main!$Z$3:$Z$223,SMALL(IF((Report!$G$5=Main!$P$3:$P$223),ROW(Main!$P$3:$P$223)-2),ROW(A43))),\"\")","v":""},{"$f":"IFERROR(INDEX(Main!$AD$3:$AD$223,SMALL(IF((Report!$G$5=Main!$P$3:$P$223),ROW(Main!$P$3:$P$223)-2),ROW(A43))),\"\")","v":""},null,{"$f":"IFERROR(INDEX(Main!$M$3:$M$223,SMALL(IF((Report!$G$5=Main!$P$3:$P$223),ROW(Main!$P$3:$P$223)-2),ROW(A43))),\"\")","v":""}]
[{"$f":"IF(B62=\"\",\"\",SUBTOTAL(3,$B$49:B62))","v":""},{"$f":"IFERROR(INDEX(Main!$Z$3:$Z$223,SMALL(IF((Report!$G$5=Main!$P$3:$P$223),ROW(Main!$P$3:$P$223)-2),ROW(A44))),\"\")","v":""},{"$f":"IFERROR(INDEX(Main!$AD$3:$AD$223,SMALL(IF((Report!$G$5=Main!$P$3:$P$223),ROW(Main!$P$3:$P$223)-2),ROW(A44))),\"\")","v":""},null,{"$f":"IFERROR(INDEX(Main!$M$3:$M$223,SMALL(IF((Report!$G$5=Main!$P$3:$P$223),ROW(Main!$P$3:$P$223)-2),ROW(A44))),\"\")","v":""}]
[{"$f":"IF(B63=\"\",\"\",SUBTOTAL(3,$B$49:B63))","v":""},{"$f":"IFERROR(INDEX(Main!$Z$3:$Z$223,SMALL(IF((Report!$G$5=Main!$P$3:$P$223),ROW(Main!$P$3:$P$223)-2),ROW(A45))),\"\")","v":""},{"$f":"IFERROR(INDEX(Main!$AD$3:$AD$223,SMALL(IF((Report!$G$5=Main!$P$3:$P$223),ROW(Main!$P$3:$P$223)-2),ROW(A45))),\"\")","v":""},null,{"$f":"IFERROR(INDEX(Main!$M$3:$M$223,SMALL(IF((Report!$G$5=Main!$P$3:$P$223),ROW(Main!$P$3:$P$223)-2),ROW(A45))),\"\")","v":""}]
[{"$f":"IF(B64=\"\",\"\",SUBTOTAL(3,$B$49:B64))","v":""},{"$f":"IFERROR(INDEX(Main!$Z$3:$Z$223,SMALL(IF((Report!$G$5=Main!$P$3:$P$223),ROW(Main!$P$3:$P$223)-2),ROW(A46))),\"\")","v":""},{"$f":"IFERROR(INDEX(Main!$AD$3:$AD$223,SMALL(IF((Report!$G$5=Main!$P$3:$P$223),ROW(Main!$P$3:$P$223)-2),ROW(A46))),\"\")","v":""},null,{"$f":"IFERROR(INDEX(Main!$M$3:$M$223,SMALL(IF((Report!$G$5=Main!$P$3:$P$223),ROW(Main!$P$3:$P$223)-2),ROW(A46))),\"\")","v":""}]
[{"$f":"IF(B65=\"\",\"\",SUBTOTAL(3,$B$49:B65))","v":""},{"$f":"IFERROR(INDEX(Main!$Z$3:$Z$223,SMALL(IF((Report!$G$5=Main!$P$3:$P$223),ROW(Main!$P$3:$P$223)-2),ROW(A47))),\"\")","v":""},{"$f":"IFERROR(INDEX(Main!$AD$3:$AD$223,SMALL(IF((Report!$G$5=Main!$P$3:$P$223),ROW(Main!$P$3:$P$223)-2),ROW(A47))),\"\")","v":""},null,{"$f":"IFERROR(INDEX(Main!$M$3:$M$223,SMALL(IF((Report!$G$5=Main!$P$3:$P$223),ROW(Main!$P$3:$P$223)-2),ROW(A47))),\"\")","v":""}]
[{"$f":"IF(B66=\"\",\"\",SUBTOTAL(3,$B$49:B66))","v":""},{"$f":"IFERROR(INDEX(Main!$Z$3:$Z$223,SMALL(IF((Report!$G$5=Main!$P$3:$P$223),ROW(Main!$P$3:$P$223)-2),ROW(A48))),\"\")","v":""},{"$f":"IFERROR(INDEX(Main!$AD$3:$AD$223,SMALL(IF((Report!$G$5=Main!$P$3:$P$223),ROW(Main!$P$3:$P$223)-2),ROW(A48))),\"\")","v":""},null,{"$f":"IFERROR(INDEX(Main!$M$3:$M$223,SMALL(IF((Report!$G$5=Main!$P$3:$P$223),ROW(Main!$P$3:$P$223)-2),ROW(A48))),\"\")","v":""}]
[{"$f":"IF(B67=\"\",\"\",SUBTOTAL(3,$B$49:B67))","v":""},{"$f":"IFERROR(INDEX(Main!$Z$3:$Z$223,SMALL(IF((Report!$G$5=Main!$P$3:$P$223),ROW(Main!$P$3:$P$223)-2),ROW(A49))),\"\")","v":""},{"$f":"IFERROR(INDEX(Main!$AD$3:$AD$223,SMALL(IF((Report!$G$5=Main!$P$3:$P$223),ROW(Main!$P$3:$P$223)-2),ROW(A49))),\"\")","v":""},null,{"$f":"IFERROR(INDEX(Main!$M$3:$M$223,SMALL(IF((Report!$G$5=Main!$P$3:$P$223),ROW(Main!$P$3:$P$223)-2),ROW(A49))),\"\")","v":""}]
[{"$f":"IF(B68=\"\",\"\",SUBTOTAL(3,$B$49:B68))","v":""},{"$f":"IFERROR(INDEX(Main!$Z$3:$Z$223,SMALL(IF((Report!$G$5=Main!$P$3:$P$223),ROW(Main!$P$3:$P$223)-2),ROW(A50))),\"\")","v":""},{"$f":"IFERROR(INDEX(Main!$AD$3:$AD$223,SMALL(IF((Report!$G$5=Main!$P$3:$P$223),ROW(Main!$P$3:$P$223)-2),ROW(A50))),\"\")","v":""},null,{"$f":"IFERROR(INDEX(Main!$M$3:$M$223,SMALL(IF((Report!$G$5=Main!$P$3:$P$223),ROW(Main!$P$3:$P$223)-2),ROW(A50))),\"\")","v":""}]
[{"$f":"IF(B69=\"\",\"\",SUBTOTAL(3,$B$49:B69))","v":""},{"$f":"IFERROR(INDEX(Main!$Z$3:$Z$223,SMALL(IF((Report!$G$5=Main!$P$3:$P$223),ROW(Main!$P$3:$P$223)-2),ROW(A51))),\"\")","v":""},{"$f":"IFERROR(INDEX(Main!$AD$3:$AD$223,SMALL(IF((Report!$G$5=Main!$P$3:$P$223),ROW(Main!$P$3:$P$223)-2),ROW(A51))),\"\")","v":""},null,{"$f":"IFERROR(INDEX(Main!$M$3:$M$223,SMALL(IF((Report!$G$5=Main!$P$3:$P$223),ROW(Main!$P$3:$P$223)-2),ROW(A51))),\"\")","v":""}]
[{"$f":"IF(B70=\"\",\"\",SUBTOTAL(3,$B$49:B70))","v":""},{"$f":"IFERROR(INDEX(Main!$Z$3:$Z$223,SMALL(IF((Report!$G$5=Main!$P$3:$P$223),ROW(Main!$P$3:$P$223)-2),ROW(A52))),\"\")","v":""},{"$f":"IFERROR(INDEX(Main!$AD$3:$AD$223,SMALL(IF((Report!$G$5=Main!$P$3:$P$223),ROW(Main!$P$3:$P$223)-2),ROW(A52))),\"\")","v":""},null,{"$f":"IFERROR(INDEX(Main!$M$3:$M$223,SMALL(IF((Report!$G$5=Main!$P$3:$P$223),ROW(Main!$P$3:$P$223)-2),ROW(A52))),\"\")","v":""}]
[{"$f":"IF(B71=\"\",\"\",SUBTOTAL(3,$B$49:B71))","v":""},{"$f":"IFERROR(INDEX(Main!$Z$3:$Z$223,SMALL(IF((Report!$G$5=Main!$P$3:$P$223),ROW(Main!$P$3:$P$223)-2),ROW(A53))),\"\")","v":""},{"$f":"IFERROR(INDEX(Main!$AD$3:$AD$223,SMALL(IF((Report!$G$5=Main!$P$3:$P$223),ROW(Main!$P$3:$P$223)-2),ROW(A53))),\"\")","v":""},null,{"$f":"IFERROR(INDEX(Main!$M$3:$M$223,SMALL(IF((Report!$G$5=Main!$P$3:$P$223),ROW(Main!$P$3:$P$223)-2),ROW(A53))),\"\")","v":""}]
[{"$f":"IF(B72=\"\",\"\",SUBTOTAL(3,$B$49:B72))","v":""},{"$f":"IFERROR(INDEX(Main!$Z$3:$Z$223,SMALL(IF((Report!$G$5=Main!$P$3:$P$223),ROW(Main!$P$3:$P$223)-2),ROW(A54))),\"\")","v":""},{"$f":"IFERROR(INDEX(Main!$AD$3:$AD$223,SMALL(IF((Report!$G$5=Main!$P$3:$P$223),ROW(Main!$P$3:$P$223)-2),ROW(A54))),\"\")","v":""},null,{"$f":"IFERROR(INDEX(Main!$M$3:$M$223,SMALL(IF((Report!$G$5=Main!$P$3:$P$223),ROW(Main!$P$3:$P$223)-2),ROW(A54))),\"\")","v":""}]
[{"$f":"IF(B73=\"\",\"\",SUBTOTAL(3,$B$49:B73))","v":""},{"$f":"IFERROR(INDEX(Main!$Z$3:$Z$223,SMALL(IF((Report!$G$5=Main!$P$3:$P$223),ROW(Main!$P$3:$P$223)-2),ROW(A55))),\"\")","v":""},{"$f":"IFERROR(INDEX(Main!$AD$3:$AD$223,SMALL(IF((Report!$G$5=Main!$P$3:$P$223),ROW(Main!$P$3:$P$223)-2),ROW(A55))),\"\")","v":""},null,{"$f":"IFERROR(INDEX(Main!$M$3:$M$223,SMALL(IF((Report!$G$5=Main!$P$3:$P$223),ROW(Main!$P$3:$P$223)-2),ROW(A55))),\"\")","v":""}]
[{"$f":"IF(B74=\"\",\"\",SUBTOTAL(3,$B$49:B74))","v":""},{"$f":"IFERROR(INDEX(Main!$Z$3:$Z$223,SMALL(IF((Report!$G$5=Main!$P$3:$P$223),ROW(Main!$P$3:$P$223)-2),ROW(A56))),\"\")","v":""},{"$f":"IFERROR(INDEX(Main!$AD$3:$AD$223,SMALL(IF((Report!$G$5=Main!$P$3:$P$223),ROW(Main!$P$3:$P$223)-2),ROW(A56))),\"\")","v":""},null,{"$f":"IFERROR(INDEX(Main!$M$3:$M$223,SMALL(IF((Report!$G$5=Main!$P$3:$P$223),ROW(Main!$P$3:$P$223)-2),ROW(A56))),\"\")","v":""}]
[{"$f":"IF(B75=\"\",\"\",SUBTOTAL(3,$B$49:B75))","v":""},{"$f":"IFERROR(INDEX(Main!$Z$3:$Z$223,SMALL(IF((Report!$G$5=Main!$P$3:$P$223),ROW(Main!$P$3:$P$223)-2),ROW(A57))),\"\")","v":""},{"$f":"IFERROR(INDEX(Main!$AD$3:$AD$223,SMALL(IF((Report!$G$5=Main!$P$3:$P$223),ROW(Main!$P$3:$P$223)-2),ROW(A57))),\"\")","v":""},null,{"$f":"IFERROR(INDEX(Main!$M$3:$M$223,SMALL(IF((Report!$G$5=Main!$P$3:$P$223),ROW(Main!$P$3:$P$223)-2),ROW(A57))),\"\")","v":""}]
[{"$f":"IF(B76=\"\",\"\",SUBTOTAL(3,$B$49:B76))","v":""},{"$f":"IFERROR(INDEX(Main!$Z$3:$Z$223,SMALL(IF((Report!$G$5=Main!$P$3:$P$223),ROW(Main!$P$3:$P$223)-2),ROW(A58))),\"\")","v":""},{"$f":"IFERROR(INDEX(Main!$AD$3:$AD$223,SMALL(IF((Report!$G$5=Main!$P$3:$P$223),ROW(Main!$P$3:$P$223)-2),ROW(A58))),\"\")","v":""},null,{"$f":"IFERROR(INDEX(Main!$M$3:$M$223,SMALL(IF((Report!$G$5=Main!$P$3:$P$223),ROW(Main!$P$3:$P$223)-2),ROW(A58))),\"\")","v":""}]
[{"$f":"IF(B77=\"\",\"\",SUBTOTAL(3,$B$49:B77))","v":""},{"$f":"IFERROR(INDEX(Main!$Z$3:$Z$223,SMALL(IF((Report!$G$5=Main!$P$3:$P$223),ROW(Main!$P$3:$P$223)-2),ROW(A59))),\"\")","v":""},{"$f":"IFERROR(INDEX(Main!$AD$3:$AD$223,SMALL(IF((Report!$G$5=Main!$P$3:$P$223),ROW(Main!$P$3:$P$223)-2),ROW(A59))),\"\")","v":""},null,{"$f":"IFERROR(INDEX(Main!$M$3:$M$223,SMALL(IF((Report!$G$5=Main!$P$3:$P$223),ROW(Main!$P$3:$P$223)-2),ROW(A59))),\"\")","v":""}]
[{"$f":"IF(B78=\"\",\"\",SUBTOTAL(3,$B$49:B78))","v":""},{"$f":"IFERROR(INDEX(Main!$Z$3:$Z$223,SMALL(IF((Report!$G$5=Main!$P$3:$P$223),ROW(Main!$P$3:$P$223)-2),ROW(A60))),\"\")","v":""},{"$f":"IFERROR(INDEX(Main!$AD$3:$AD$223,SMALL(IF((Report!$G$5=Main!$P$3:$P$223),ROW(Main!$P$3:$P$223)-2),ROW(A60))),\"\")","v":""},null,{"$f":"IFERROR(INDEX(Main!$M$3:$M$223,SMALL(IF((Report!$G$5=Main!$P$3:$P$223),ROW(Main!$P$3:$P$223)-2),ROW(A60))),\"\")","v":""}]
["Total :",null,{"$f":"SUM(C49:C78)","v":0}]
[]
["Guide Signature :…………………………………………………………………………………………………….."]
[]
[{"$f":"TODAY()","v":"2021-01-20"},null,null,null,3]
[]
["Company :Safari Company"]
[]
["Guide Name:",{"$f":"$G$5","v":"Said Reda"}]
[]
["No.","Voucher no.","Cash",null,"Remarks"]
[{"$f":"IF(B90=\"\",\"\",SUBTOTAL(3,$B$90:B90))","v":""},{"$f":"IFERROR(INDEX(Main!$Z$3:$Z$223,SMALL(IF((Report!$G$5=Main!$P$3:$P$223),ROW(Main!$P$3:$P$223)-2),ROW(A61))),\"\")","v":""},{"$f":"IFERROR(INDEX(Main!$AD$3:$AD$223,SMALL(IF((Report!$G$5=Main!$P$3:$P$223),ROW(Main!$P$3:$P$223)-2),ROW(A61))),\"\")","v":""},null,{"$f":"IFERROR(INDEX(Main!$M$3:$M$223,SMALL(IF((Report!$G$5=Main!$P$3:$P$223),ROW(Main!$P$3:$P$223)-2),ROW(A61))),\"\")","v":""}]
[{"$f":"IF(B91=\"\",\"\",SUBTOTAL(3,$B$90:B91))","v":""},{"$f":"IFERROR(INDEX(Main!$Z$3:$Z$223,SMALL(IF((Report!$G$5=Main!$P$3:$P$223),ROW(Main!$P$3:$P$223)-2),ROW(A62))),\"\")","v":""},{"$f":"IFERROR(INDEX(Main!$AD$3:$AD$223,SMALL(IF((Report!$G$5=Main!$P$3:$P$223),ROW(Main!$P$3:$P$223)-2),ROW(A62))),\"\")","v":""},null,{"$f":"IFERROR(INDEX(Main!$M$3:$M$223,SMALL(IF((Report!$G$5=Main!$P$3:$P$223),ROW(Main!$P$3:$P$223)-2),ROW(A62))),\"\")","v":""}]
[{"$f":"IF(B92=\"\",\"\",SUBTOTAL(3,$B$90:B92))","v":""},{"$f":"IFERROR(INDEX(Main!$Z$3:$Z$223,SMALL(IF((Report!$G$5=Main!$P$3:$P$223),ROW(Main!$P$3:$P$223)-2),ROW(A63))),\"\")","v":""},{"$f":"IFERROR(INDEX(Main!$AD$3:$AD$223,SMALL(IF((Report!$G$5=Main!$P$3:$P$223),ROW(Main!$P$3:$P$223)-2),ROW(A63))),\"\")","v":""},null,{"$f":"IFERROR(INDEX(Main!$M$3:$M$223,SMALL(IF((Report!$G$5=Main!$P$3:$P$223),ROW(Main!$P$3:$P$223)-2),ROW(A63))),\"\")","v":""}]
[{"$f":"IF(B93=\"\",\"\",SUBTOTAL(3,$B$90:B93))","v":""},{"$f":"IFERROR(INDEX(Main!$Z$3:$Z$223,SMALL(IF((Report!$G$5=Main!$P$3:$P$223),ROW(Main!$P$3:$P$223)-2),ROW(A64))),\"\")","v":""},{"$f":"IFERROR(INDEX(Main!$AD$3:$AD$223,SMALL(IF((Report!$G$5=Main!$P$3:$P$223),ROW(Main!$P$3:$P$223)-2),ROW(A64))),\"\")","v":""},null,{"$f":"IFERROR(INDEX(Main!$M$3:$M$223,SMALL(IF((Report!$G$5=Main!$P$3:$P$223),ROW(Main!$P$3:$P$223)-2),ROW(A64))),\"\")","v":""}]
[{"$f":"IF(B94=\"\",\"\",SUBTOTAL(3,$B$90:B94))","v":""},{"$f":"IFERROR(INDEX(Main!$Z$3:$Z$223,SMALL(IF((Report!$G$5=Main!$P$3:$P$223),ROW(Main!$P$3:$P$223)-2),ROW(A65))),\"\")","v":""},{"$f":"IFERROR(INDEX(Main!$AD$3:$AD$223,SMALL(IF((Report!$G$5=Main!$P$3:$P$223),ROW(Main!$P$3:$P$223)-2),ROW(A65))),\"\")","v":""},null,{"$f":"IFERROR(INDEX(Main!$M$3:$M$223,SMALL(IF((Report!$G$5=Main!$P$3:$P$223),ROW(Main!$P$3:$P$223)-2),ROW(A65))),\"\")","v":""}]
[{"$f":"IF(B95=\"\",\"\",SUBTOTAL(3,$B$90:B95))","v":""},{"$f":"IFERROR(INDEX(Main!$Z$3:$Z$223,SMALL(IF((Report!$G$5=Main!$P$3:$P$223),ROW(Main!$P$3:$P$223)-2),ROW(A66))),\"\")","v":""},{"$f":"IFERROR(INDEX(Main!$AD$3:$AD$223,SMALL(IF((Report!$G$5=Main!$P$3:$P$223),ROW(Main!$P$3:$P$223)-2),ROW(A66))),\"\")","v":""},null,{"$f":"IFERROR(INDEX(Main!$M$3:$M$223,SMALL(IF((Report!$G$5=Main!$P$3:$P$223),ROW(Main!$P$3:$P$223)-2),ROW(A66))),\"\")","v":""}]
[{"$f":"IF(B96=\"\",\"\",SUBTOTAL(3,$B$90:B96))","v":""},{"$f":"IFERROR(INDEX(Main!$Z$3:$Z$223,SMALL(IF((Report!$G$5=Main!$P$3:$P$223),ROW(Main!$P$3:$P$223)-2),ROW(A67))),\"\")","v":""},{"$f":"IFERROR(INDEX(Main!$AD$3:$AD$223,SMALL(IF((Report!$G$5=Main!$P$3:$P$223),ROW(Main!$P$3:$P$223)-2),ROW(A67))),\"\")","v":""},null,{"$f":"IFERROR(INDEX(Main!$M$3:$M$223,SMALL(IF((Report!$G$5=Main!$P$3:$P$223),ROW(Main!$P$3:$P$223)-2),ROW(A67))),\"\")","v":""}]
[{"$f":"IF(B97=\"\",\"\",SUBTOTAL(3,$B$90:B97))","v":""},{"$f":"IFERROR(INDEX(Main!$Z$3:$Z$223,SMALL(IF((Report!$G$5=Main!$P$3:$P$223),ROW(Main!$P$3:$P$223)-2),ROW(A68))),\"\")","v":""},{"$f":"IFERROR(INDEX(Main!$AD$3:$AD$223,SMALL(IF((Report!$G$5=Main!$P$3:$P$223),ROW(Main!$P$3:$P$223)-2),ROW(A68))),\"\")","v":""},null,{"$f":"IFERROR(INDEX(Main!$M$3:$M$223,SMALL(IF((Report!$G$5=Main!$P$3:$P$223),ROW(Main!$P$3:$P$223)-2),ROW(A68))),\"\")","v":""}]
[{"$f":"IF(B98=\"\",\"\",SUBTOTAL(3,$B$90:B98))","v":""},{"$f":"IFERROR(INDEX(Main!$Z$3:$Z$223,SMALL(IF((Report!$G$5=Main!$P$3:$P$223),ROW(Main!$P$3:$P$223)-2),ROW(A69))),\"\")","v":""},{"$f":"IFERROR(INDEX(Main!$AD$3:$AD$223,SMALL(IF((Report!$G$5=Main!$P$3:$P$223),ROW(Main!$P$3:$P$223)-2),ROW(A69))),\"\")","v":""},null,{"$f":"IFERROR(INDEX(Main!$M$3:$M$223,SMALL(IF((Report!$G$5=Main!$P$3:$P$223),ROW(Main!$P$3:$P$223)-2),ROW(A69))),\"\")","v":""}]
[{"$f":"IF(B99=\"\",\"\",SUBTOTAL(3,$B$90:B99))","v":""},{"$f":"IFERROR(INDEX(Main!$Z$3:$Z$223,SMALL(IF((Report!$G$5=Main!$P$3:$P$223),ROW(Main!$P$3:$P$223)-2),ROW(A70))),\"\")","v":""},{"$f":"IFERROR(INDEX(Main!$AD$3:$AD$223,SMALL(IF((Report!$G$5=Main!$P$3:$P$223),ROW(Main!$P$3:$P$223)-2),ROW(A70))),\"\")","v":""},null,{"$f":"IFERROR(INDEX(Main!$M$3:$M$223,SMALL(IF((Report!$G$5=Main!$P$3:$P$223),ROW(Main!$P$3:$P$223)-2),ROW(A70))),\"\")","v":""}]
[{"$f":"IF(B100=\"\",\"\",SUBTOTAL(3,$B$90:B100))","v":""},{"$f":"IFERROR(INDEX(Main!$Z$3:$Z$223,SMALL(IF((Report!$G$5=Main!$P$3:$P$223),ROW(Main!$P$3:$P$223)-2),ROW(A71))),\"\")","v":""},{"$f":"IFERROR(INDEX(Main!$AD$3:$AD$223,SMALL(IF((Report!$G$5=Main!$P$3:$P$223),ROW(Main!$P$3:$P$223)-2),ROW(A71))),\"\")","v":""},null,{"$f":"IFERROR(INDEX(Main!$M$3:$M$223,SMALL(IF((Report!$G$5=Main!$P$3:$P$223),ROW(Main!$P$3:$P$223)-2),ROW(A71))),\"\")","v":""}]
[{"$f":"IF(B101=\"\",\"\",SUBTOTAL(3,$B$90:B101))","v":""},{"$f":"IFERROR(INDEX(Main!$Z$3:$Z$223,SMALL(IF((Report!$G$5=Main!$P$3:$P$223),ROW(Main!$P$3:$P$223)-2),ROW(A72))),\"\")","v":""},{"$f":"IFERROR(INDEX(Main!$AD$3:$AD$223,SMALL(IF((Report!$G$5=Main!$P$3:$P$223),ROW(Main!$P$3:$P$223)-2),ROW(A72))),\"\")","v":""},null,{"$f":"IFERROR(INDEX(Main!$M$3:$M$223,SMALL(IF((Report!$G$5=Main!$P$3:$P$223),ROW(Main!$P$3:$P$223)-2),ROW(A72))),\"\")","v":""}]
[{"$f":"IF(B102=\"\",\"\",SUBTOTAL(3,$B$90:B102))","v":""},{"$f":"IFERROR(INDEX(Main!$Z$3:$Z$223,SMALL(IF((Report!$G$5=Main!$P$3:$P$223),ROW(Main!$P$3:$P$223)-2),ROW(A73))),\"\")","v":""},{"$f":"IFERROR(INDEX(Main!$AD$3:$AD$223,SMALL(IF((Report!$G$5=Main!$P$3:$P$223),ROW(Main!$P$3:$P$223)-2),ROW(A73))),\"\")","v":""},null,{"$f":"IFERROR(INDEX(Main!$M$3:$M$223,SMALL(IF((Report!$G$5=Main!$P$3:$P$223),ROW(Main!$P$3:$P$223)-2),ROW(A73))),\"\")","v":""}]
[{"$f":"IF(B103=\"\",\"\",SUBTOTAL(3,$B$90:B103))","v":""},{"$f":"IFERROR(INDEX(Main!$Z$3:$Z$223,SMALL(IF((Report!$G$5=Main!$P$3:$P$223),ROW(Main!$P$3:$P$223)-2),ROW(A74))),\"\")","v":""},{"$f":"IFERROR(INDEX(Main!$AD$3:$AD$223,SMALL(IF((Report!$G$5=Main!$P$3:$P$223),ROW(Main!$P$3:$P$223)-2),ROW(A74))),\"\")","v":""},null,{"$f":"IFERROR(INDEX(Main!$M$3:$M$223,SMALL(IF((Report!$G$5=Main!$P$3:$P$223),ROW(Main!$P$3:$P$223)-2),ROW(A74))),\"\")","v":""}]
[{"$f":"IF(B104=\"\",\"\",SUBTOTAL(3,$B$90:B104))","v":""},{"$f":"IFERROR(INDEX(Main!$Z$3:$Z$223,SMALL(IF((Report!$G$5=Main!$P$3:$P$223),ROW(Main!$P$3:$P$223)-2),ROW(A75))),\"\")","v":""},{"$f":"IFERROR(INDEX(Main!$AD$3:$AD$223,SMALL(IF((Report!$G$5=Main!$P$3:$P$223),ROW(Main!$P$3:$P$223)-2),ROW(A75))),\"\")","v":""},null,{"$f":"IFERROR(INDEX(Main!$M$3:$M$223,SMALL(IF((Report!$G$5=Main!$P$3:$P$223),ROW(Main!$P$3:$P$223)-2),ROW(A75))),\"\")","v":""}]
[{"$f":"IF(B105=\"\",\"\",SUBTOTAL(3,$B$90:B105))","v":""},{"$f":"IFERROR(INDEX(Main!$Z$3:$Z$223,SMALL(IF((Report!$G$5=Main!$P$3:$P$223),ROW(Main!$P$3:$P$223)-2),ROW(A76))),\"\")","v":""},{"$f":"IFERROR(INDEX(Main!$AD$3:$AD$223,SMALL(IF((Report!$G$5=Main!$P$3:$P$223),ROW(Main!$P$3:$P$223)-2),ROW(A76))),\"\")","v":""},null,{"$f":"IFERROR(INDEX(Main!$M$3:$M$223,SMALL(IF((Report!$G$5=Main!$P$3:$P$223),ROW(Main!$P$3:$P$223)-2),ROW(A76))),\"\")","v":""}]
[{"$f":"IF(B106=\"\",\"\",SUBTOTAL(3,$B$90:B106))","v":""},{"$f":"IFERROR(INDEX(Main!$Z$3:$Z$223,SMALL(IF((Report!$G$5=Main!$P$3:$P$223),ROW(Main!$P$3:$P$223)-2),ROW(A77))),\"\")","v":""},{"$f":"IFERROR(INDEX(Main!$AD$3:$AD$223,SMALL(IF((Report!$G$5=Main!$P$3:$P$223),ROW(Main!$P$3:$P$223)-2),ROW(A77))),\"\")","v":""},null,{"$f":"IFERROR(INDEX(Main!$M$3:$M$223,SMALL(IF((Report!$G$5=Main!$P$3:$P$223),ROW(Main!$P$3:$P$223)-2),ROW(A77))),\"\")","v":""}]
[{"$f":"IF(B107=\"\",\"\",SUBTOTAL(3,$B$90:B107))","v":""},{"$f":"IFERROR(INDEX(Main!$Z$3:$Z$223,SMALL(IF((Report!$G$5=Main!$P$3:$P$223),ROW(Main!$P$3:$P$223)-2),ROW(A78))),\"\")","v":""},{"$f":"IFERROR(INDEX(Main!$AD$3:$AD$223,SMALL(IF((Report!$G$5=Main!$P$3:$P$223),ROW(Main!$P$3:$P$223)-2),ROW(A78))),\"\")","v":""},null,{"$f":"IFERROR(INDEX(Main!$M$3:$M$223,SMALL(IF((Report!$G$5=Main!$P$3:$P$223),ROW(Main!$P$3:$P$223)-2),ROW(A78))),\"\")","v":""}]
[{"$f":"IF(B108=\"\",\"\",SUBTOTAL(3,$B$90:B108))","v":""},{"$f":"IFERROR(INDEX(Main!$Z$3:$Z$223,SMALL(IF((Report!$G$5=Main!$P$3:$P$223),ROW(Main!$P$3:$P$223)-2),ROW(A79))),\"\")","v":""},{"$f":"IFERROR(INDEX(Main!$AD$3:$AD$223,SMALL(IF((Report!$G$5=Main!$P$3:$P$223),ROW(Main!$P$3:$P$223)-2),ROW(A79))),\"\")","v":""},null,{"$f":"IFERROR(INDEX(Main!$M$3:$M$223,SMALL(IF((Report!$G$5=Main!$P$3:$P$223),ROW(Main!$P$3:$P$223)-2),ROW(A79))),\"\")","v":""}]
[{"$f":"IF(B109=\"\",\"\",SUBTOTAL(3,$B$90:B109))","v":""},{"$f":"IFERROR(INDEX(Main!$Z$3:$Z$223,SMALL(IF((Report!$G$5=Main!$P$3:$P$223),ROW(Main!$P$3:$P$223)-2),ROW(A80))),\"\")","v":""},{"$f":"IFERROR(INDEX(Main!$AD$3:$AD$223,SMALL(IF((Report!$G$5=Main!$P$3:$P$223),ROW(Main!$P$3:$P$223)-2),ROW(A80))),\"\")","v":""},null,{"$f":"IFERROR(INDEX(Main!$M$3:$M$223,SMALL(IF((Report!$G$5=Main!$P$3:$P$223),ROW(Main!$P$3:$P$223)-2),ROW(A80))),\"\")","v":""}]
[{"$f":"IF(B110=\"\",\"\",SUBTOTAL(3,$B$90:B110))","v":""},{"$f":"IFERROR(INDEX(Main!$Z$3:$Z$223,SMALL(IF((Report!$G$5=Main!$P$3:$P$223),ROW(Main!$P$3:$P$223)-2),ROW(A81))),\"\")","v":""},{"$f":"IFERROR(INDEX(Main!$AD$3:$AD$223,SMALL(IF((Report!$G$5=Main!$P$3:$P$223),ROW(Main!$P$3:$P$223)-2),ROW(A81))),\"\")","v":""},null,{"$f":"IFERROR(INDEX(Main!$M$3:$M$223,SMALL(IF((Report!$G$5=Main!$P$3:$P$223),ROW(Main!$P$3:$P$223)-2),ROW(A81))),\"\")","v":""}]
[{"$f":"IF(B111=\"\",\"\",SUBTOTAL(3,$B$90:B111))","v":""},{"$f":"IFERROR(INDEX(Main!$Z$3:$Z$223,SMALL(IF((Report!$G$5=Main!$P$3:$P$223),ROW(Main!$P$3:$P$223)-2),ROW(A82))),\"\")","v":""},{"$f":"IFERROR(INDEX(Main!$AD$3:$AD$223,SMALL(IF((Report!$G$5=Main!$P$3:$P$223),ROW(Main!$P$3:$P$223)-2),ROW(A82))),\"\")","v":""},null,{"$f":"IFERROR(INDEX(Main!$M$3:$M$223,SMALL(IF((Report!$G$5=Main!$P$3:$P$223),ROW(Main!$P$3:$P$223)-2),ROW(A82))),\"\")","v":""}]
[{"$f":"IF(B112=\"\",\"\",SUBTOTAL(3,$B$90:B112))","v":""},{"$f":"IFERROR(INDEX(Main!$Z$3:$Z$223,SMALL(IF((Report!$G$5=Main!$P$3:$P$223),ROW(Main!$P$3:$P$223)-2),ROW(A83))),\"\")","v":""},{"$f":"IFERROR(INDEX(Main!$AD$3:$AD$223,SMALL(IF((Report!$G$5=Main!$P$3:$P$223),ROW(Main!$P$3:$P$223)-2),ROW(A83))),\"\")","v":""},null,{"$f":"IFERROR(INDEX(Main!$M$3:$M$223,SMALL(IF((Report!$G$5=Main!$P$3:$P$223),ROW(Main!$P$3:$P$223)-2),ROW(A83))),\"\")","v":""}]
[{"$f":"IF(B113=\"\",\"\",SUBTOTAL(3,$B$90:B113))","v":""},{"$f":"IFERROR(INDEX(Main!$Z$3:$Z$223,SMALL(IF((Report!$G$5=Main!$P$3:$P$223),ROW(Main!$P$3:$P$223)-2),ROW(A84))),\"\")","v":""},{"$f":"IFERROR(INDEX(Main!$AD$3:$AD$223,SMALL(IF((Report!$G$5=Main!$P$3:$P$223),ROW(Main!$P$3:$P$223)-2),ROW(A84))),\"\")","v":""},null,{"$f":"IFERROR(INDEX(Main!$M$3:$M$223,SMALL(IF((Report!$G$5=Main!$P$3:$P$223),ROW(Main!$P$3:$P$223)-2),ROW(A84))),\"\")","v":""}]
[{"$f":"IF(B114=\"\",\"\",SUBTOTAL(3,$B$90:B114))","v":""},{"$f":"IFERROR(INDEX(Main!$Z$3:$Z$223,SMALL(IF((Report!$G$5=Main!$P$3:$P$223),ROW(Main!$P$3:$P$223)-2),ROW(A85))),\"\")","v":""},{"$f":"IFERROR(INDEX(Main!$AD$3:$AD$223,SMALL(IF((Report!$G$5=Main!$P$3:$P$223),ROW(Main!$P$3:$P$223)-2),ROW(A85))),\"\")","v":""},null,{"$f":"IFERROR(INDEX(Main!$M$3:$M$223,SMALL(IF((Report!$G$5=Main!$P$3:$P$223),ROW(Main!$P$3:$P$223)-2),ROW(A85))),\"\")","v":""}]
[{"$f":"IF(B115=\"\",\"\",SUBTOTAL(3,$B$90:B115))","v":""},{"$f":"IFERROR(INDEX(Main!$Z$3:$Z$223,SMALL(IF((Report!$G$5=Main!$P$3:$P$223),ROW(Main!$P$3:$P$223)-2),ROW(A86))),\"\")","v":""},{"$f":"IFERROR(INDEX(Main!$AD$3:$AD$223,SMALL(IF((Report!$G$5=Main!$P$3:$P$223),ROW(Main!$P$3:$P$223)-2),ROW(A86))),\"\")","v":""},null,{"$f":"IFERROR(INDEX(Main!$M$3:$M$223,SMALL(IF((Report!$G$5=Main!$P$3:$P$223),ROW(Main!$P$3:$P$223)-2),ROW(A86))),\"\")","v":""}]
[{"$f":"IF(B116=\"\",\"\",SUBTOTAL(3,$B$90:B116))","v":""},{"$f":"IFERROR(INDEX(Main!$Z$3:$Z$223,SMALL(IF((Report!$G$5=Main!$P$3:$P$223),ROW(Main!$P$3:$P$223)-2),ROW(A87))),\"\")","v":""},{"$f":"IFERROR(INDEX(Main!$AD$3:$AD$223,SMALL(IF((Report!$G$5=Main!$P$3:$P$223),ROW(Main!$P$3:$P$223)-2),ROW(A87))),\"\")","v":""},null,{"$f":"IFERROR(INDEX(Main!$M$3:$M$223,SMALL(IF((Report!$G$5=Main!$P$3:$P$223),ROW(Main!$P$3:$P$223)-2),ROW(A87))),\"\")","v":""}]
[{"$f":"IF(B117=\"\",\"\",SUBTOTAL(3,$B$90:B117))","v":""},{"$f":"IFERROR(INDEX(Main!$Z$3:$Z$223,SMALL(IF((Report!$G$5=Main!$P$3:$P$223),ROW(Main!$P$3:$P$223)-2),ROW(A88))),\"\")","v":""},{"$f":"IFERROR(INDEX(Main!$AD$3:$AD$223,SMALL(IF((Report!$G$5=Main!$P$3:$P$223),ROW(Main!$P$3:$P$223)-2),ROW(A88))),\"\")","v":""},null,{"$f":"IFERROR(INDEX(Main!$M$3:$M$223,SMALL(IF((Report!$G$5=Main!$P$3:$P$223),ROW(Main!$P$3:$P$223)-2),ROW(A88))),\"\")","v":""}]
[{"$f":"IF(B118=\"\",\"\",SUBTOTAL(3,$B$90:B118))","v":""},{"$f":"IFERROR(INDEX(Main!$Z$3:$Z$223,SMALL(IF((Report!$G$5=Main!$P$3:$P$223),ROW(Main!$P$3:$P$223)-2),ROW(A89))),\"\")","v":""},{"$f":"IFERROR(INDEX(Main!$AD$3:$AD$223,SMALL(IF((Report!$G$5=Main!$P$3:$P$223),ROW(Main!$P$3:$P$223)-2),ROW(A89))),\"\")","v":""},null,{"$f":"IFERROR(INDEX(Main!$M$3:$M$223,SMALL(IF((Report!$G$5=Main!$P$3:$P$223),ROW(Main!$P$3:$P$223)-2),ROW(A89))),\"\")","v":""}]
[{"$f":"IF(B119=\"\",\"\",SUBTOTAL(3,$B$90:B119))","v":""},{"$f":"IFERROR(INDEX(Main!$Z$3:$Z$223,SMALL(IF((Report!$G$5=Main!$P$3:$P$223),ROW(Main!$P$3:$P$223)-2),ROW(A90))),\"\")","v":""},{"$f":"IFERROR(INDEX(Main!$AD$3:$AD$223,SMALL(IF((Report!$G$5=Main!$P$3:$P$223),ROW(Main!$P$3:$P$223)-2),ROW(A90))),\"\")","v":""},null,{"$f":"IFERROR(INDEX(Main!$M$3:$M$223,SMALL(IF((Report!$G$5=Main!$P$3:$P$223),ROW(Main!$P$3:$P$223)-2),ROW(A90))),\"\")","v":""}]
["Total :",null,{"$f":"SUM(C90:C119)","v":0}]
[]
["Guide Signature :…………………………………………………………………………………………………….."]
[]
[{"$f":"TODAY()","v":"2021-01-20"},null,null,null,4]
[]
["Company :Safari Company"]
[]
["Guide Name:",{"$f":"$G$5","v":"Said Reda"}]
[]
["No.","Voucher no.","Cash",null,"Remarks"]
[{"$f":"IF(B131=\"\",\"\",SUBTOTAL(3,$B$131:B131))","v":""},{"$f":"IFERROR(INDEX(Main!$Z$3:$Z$223,SMALL(IF((Report!$G$5=Main!$P$3:$P$223),ROW(Main!$P$3:$P$223)-2),ROW(A91))),\"\")","v":""},{"$f":"IFERROR(INDEX(Main!$AD$3:$AD$223,SMALL(IF((Report!$G$5=Main!$P$3:$P$223),ROW(Main!$P$3:$P$223)-2),ROW(A91))),\"\")","v":""},null,{"$f":"IFERROR(INDEX(Main!$M$3:$M$223,SMALL(IF((Report!$G$5=Main!$P$3:$P$223),ROW(Main!$P$3:$P$223)-2),ROW(A91))),\"\")","v":""}]
[{"$f":"IF(B132=\"\",\"\",SUBTOTAL(3,$B$131:B132))","v":""},{"$f":"IFERROR(INDEX(Main!$Z$3:$Z$223,SMALL(IF((Report!$G$5=Main!$P$3:$P$223),ROW(Main!$P$3:$P$223)-2),ROW(A92))),\"\")","v":""},{"$f":"IFERROR(INDEX(Main!$AD$3:$AD$223,SMALL(IF((Report!$G$5=Main!$P$3:$P$223),ROW(Main!$P$3:$P$223)-2),ROW(A92))),\"\")","v":""},null,{"$f":"IFERROR(INDEX(Main!$M$3:$M$223,SMALL(IF((Report!$G$5=Main!$P$3:$P$223),ROW(Main!$P$3:$P$223)-2),ROW(A92))),\"\")","v":""}]
[{"$f":"IF(B133=\"\",\"\",SUBTOTAL(3,$B$131:B133))","v":""},{"$f":"IFERROR(INDEX(Main!$Z$3:$Z$223,SMALL(IF((Report!$G$5=Main!$P$3:$P$223),ROW(Main!$P$3:$P$223)-2),ROW(A93))),\"\")","v":""},{"$f":"IFERROR(INDEX(Main!$AD$3:$AD$223,SMALL(IF((Report!$G$5=Main!$P$3:$P$223),ROW(Main!$P$3:$P$223)-2),ROW(A93))),\"\")","v":""},null,{"$f":"IFERROR(INDEX(Main!$M$3:$M$223,SMALL(IF((Report!$G$5=Main!$P$3:$P$223),ROW(Main!$P$3:$P$223)-2),ROW(A93))),\"\")","v":""}]
[{"$f":"IF(B134=\"\",\"\",SUBTOTAL(3,$B$131:B134))","v":""},{"$f":"IFERROR(INDEX(Main!$Z$3:$Z$223,SMALL(IF((Report!$G$5=Main!$P$3:$P$223),ROW(Main!$P$3:$P$223)-2),ROW(A94))),\"\")","v":""},{"$f":"IFERROR(INDEX(Main!$AD$3:$AD$223,SMALL(IF((Report!$G$5=Main!$P$3:$P$223),ROW(Main!$P$3:$P$223)-2),ROW(A94))),\"\")","v":""},null,{"$f":"IFERROR(INDEX(Main!$M$3:$M$223,SMALL(IF((Report!$G$5=Main!$P$3:$P$223),ROW(Main!$P$3:$P$223)-2),ROW(A94))),\"\")","v":""}]
[{"$f":"IF(B135=\"\",\"\",SUBTOTAL(3,$B$131:B135))","v":""},{"$f":"IFERROR(INDEX(Main!$Z$3:$Z$223,SMALL(IF((Report!$G$5=Main!$P$3:$P$223),ROW(Main!$P$3:$P$223)-2),ROW(A95))),\"\")","v":""},{"$f":"IFERROR(INDEX(Main!$AD$3:$AD$223,SMALL(IF((Report!$G$5=Main!$P$3:$P$223),ROW(Main!$P$3:$P$223)-2),ROW(A95))),\"\")","v":""},null,{"$f":"IFERROR(INDEX(Main!$M$3:$M$223,SMALL(IF((Report!$G$5=Main!$P$3:$P$223),ROW(Main!$P$3:$P$223)-2),ROW(A95))),\"\")","v":""}]
[{"$f":"IF(B136=\"\",\"\",SUBTOTAL(3,$B$131:B136))","v":""},{"$f":"IFERROR(INDEX(Main!$Z$3:$Z$223,SMALL(IF((Report!$G$5=Main!$P$3:$P$223),ROW(Main!$P$3:$P$223)-2),ROW(A96))),\"\")","v":""},{"$f":"IFERROR(INDEX(Main!$AD$3:$AD$223,SMALL(IF((Report!$G$5=Main!$P$3:$P$223),ROW(Main!$P$3:$P$223)-2),ROW(A96))),\"\")","v":""},null,{"$f":"IFERROR(INDEX(Main!$M$3:$M$223,SMALL(IF((Report!$G$5=Main!$P$3:$P$223),ROW(Main!$P$3:$P$223)-2),ROW(A96))),\"\")","v":""}]
[{"$f":"IF(B137=\"\",\"\",SUBTOTAL(3,$B$131:B137))","v":""},{"$f":"IFERROR(INDEX(Main!$Z$3:$Z$223,SMALL(IF((Report!$G$5=Main!$P$3:$P$223),ROW(Main!$P$3:$P$223)-2),ROW(A97))),\"\")","v":""},{"$f":"IFERROR(INDEX(Main!$AD$3:$AD$223,SMALL(IF((Report!$G$5=Main!$P$3:$P$223),ROW(Main!$P$3:$P$223)-2),ROW(A97))),\"\")","v":""},null,{"$f":"IFERROR(INDEX(Main!$M$3:$M$223,SMALL(IF((Report!$G$5=Main!$P$3:$P$223),ROW(Main!$P$3:$P$223)-2),ROW(A97))),\"\")","v":""}]
[{"$f":"IF(B138=\"\",\"\",SUBTOTAL(3,$B$131:B138))","v":""},{"$f":"IFERROR(INDEX(Main!$Z$3:$Z$223,SMALL(IF((Report!$G$5=Main!$P$3:$P$223),ROW(Main!$P$3:$P$223)-2),ROW(A98))),\"\")","v":""},{"$f":"IFERROR(INDEX(Main!$AD$3:$AD$223,SMALL(IF((Report!$G$5=Main!$P$3:$P$223),ROW(Main!$P$3:$P$223)-2),ROW(A98))),\"\")","v":""},null,{"$f":"IFERROR(INDEX(Main!$M$3:$M$223,SMALL(IF((Report!$G$5=Main!$P$3:$P$223),ROW(Main!$P$3:$P$223)-2),ROW(A98))),\"\")","v":""}]
[{"$f":"IF(B139=\"\",\"\",SUBTOTAL(3,$B$131:B139))","v":""},{"$f":"IFERROR(INDEX(Main!$Z$3:$Z$223,SMALL(IF((Report!$G$5=Main!$P$3:$P$223),ROW(Main!$P$3:$P$223)-2),ROW(A99))),\"\")","v":""},{"$f":"IFERROR(INDEX(Main!$AD$3:$AD$223,SMALL(IF((Report!$G$5=Main!$P$3:$P$223),ROW(Main!$P$3:$P$223)-2),ROW(A99))),\"\")","v":""},null,{"$f":"IFERROR(INDEX(Main!$M$3:$M$223,SMALL(IF((Report!$G$5=Main!$P$3:$P$223),ROW(Main!$P$3:$P$223)-2),ROW(A99))),\"\")","v":""}]
[{"$f":"IF(B140=\"\",\"\",SUBTOTAL(3,$B$131:B140))","v":""},{"$f":"IFERROR(INDEX(Main!$Z$3:$Z$223,SMALL(IF((Report!$G$5=Main!$P$3:$P$223),ROW(Main!$P$3:$P$223)-2),ROW(A100))),\"\")","v":""},{"$f":"IFERROR(INDEX(Main!$AD$3:$AD$223,SMALL(IF((Report!$G$5=Main!$P$3:$P$223),ROW(Main!$P$3:$P$223)-2),ROW(A100))),\"\")","v":""},null,{"$f":"IFERROR(INDEX(Main!$M$3:$M$223,SMALL(IF((Report!$G$5=Main!$P$3:$P$223),ROW(Main!$P$3:$P$223)-2),ROW(A100))),\"\")","v":""}]
[{"$f":"IF(B141=\"\",\"\",SUBTOTAL(3,$B$131:B141))","v":""},{"$f":"IFERROR(INDEX(Main!$Z$3:$Z$223,SMALL(IF((Report!$G$5=Main!$P$3:$P$223),ROW(Main!$P$3:$P$223)-2),ROW(A101))),\"\")","v":""},{"$f":"IFERROR(INDEX(Main!$AD$3:$AD$223,SMALL(IF((Report!$G$5=Main!$P$3:$P$223),ROW(Main!$P$3:$P$223)-2),ROW(A101))),\"\")","v":""},null,{"$f":"IFERROR(INDEX(Main!$M$3:$M$223,SMALL(IF((Report!$G$5=Main!$P$3:$P$223),ROW(Main!$P$3:$P$223)-2),ROW(A101))),\"\")","v":""}]
[{"$f":"IF(B142=\"\",\"\",SUBTOTAL(3,$B$131:B142))","v":""},{"$f":"IFERROR(INDEX(Main!$Z$3:$Z$223,SMALL(IF((Report!$G$5=Main!$P$3:$P$223),ROW(Main!$P$3:$P$223)-2),ROW(A102))),\"\")","v":""},{"$f":"IFERROR(INDEX(Main!$AD$3:$AD$223,SMALL(IF((Report!$G$5=Main!$P$3:$P$223),ROW(Main!$P$3:$P$223)-2),ROW(A102))),\"\")","v":""},null,{"$f":"IFERROR(INDEX(Main!$M$3:$M$223,SMALL(IF((Report!$G$5=Main!$P$3:$P$223),ROW(Main!$P$3:$P$223)-2),ROW(A102))),\"\")","v":""}]
[{"$f":"IF(B143=\"\",\"\",SUBTOTAL(3,$B$131:B143))","v":""},{"$f":"IFERROR(INDEX(Main!$Z$3:$Z$223,SMALL(IF((Report!$G$5=Main!$P$3:$P$223),ROW(Main!$P$3:$P$223)-2),ROW(A103))),\"\")","v":""},{"$f":"IFERROR(INDEX(Main!$AD$3:$AD$223,SMALL(IF((Report!$G$5=Main!$P$3:$P$223),ROW(Main!$P$3:$P$223)-2),ROW(A103))),\"\")","v":""},null,{"$f":"IFERROR(INDEX(Main!$M$3:$M$223,SMALL(IF((Report!$G$5=Main!$P$3:$P$223),ROW(Main!$P$3:$P$223)-2),ROW(A103))),\"\")","v":""}]
[{"$f":"IF(B144=\"\",\"\",SUBTOTAL(3,$B$131:B144))","v":""},{"$f":"IFERROR(INDEX(Main!$Z$3:$Z$223,SMALL(IF((Report!$G$5=Main!$P$3:$P$223),ROW(Main!$P$3:$P$223)-2),ROW(A104))),\"\")","v":""},{"$f":"IFERROR(INDEX(Main!$AD$3:$AD$223,SMALL(IF((Report!$G$5=Main!$P$3:$P$223),ROW(Main!$P$3:$P$223)-2),ROW(A104))),\"\")","v":""},null,{"$f":"IFERROR(INDEX(Main!$M$3:$M$223,SMALL(IF((Report!$G$5=Main!$P$3:$P$223),ROW(Main!$P$3:$P$223)-2),ROW(A104))),\"\")","v":""}]
[{"$f":"IF(B145=\"\",\"\",SUBTOTAL(3,$B$131:B145))","v":""},{"$f":"IFERROR(INDEX(Main!$Z$3:$Z$223,SMALL(IF((Report!$G$5=Main!$P$3:$P$223),ROW(Main!$P$3:$P$223)-2),ROW(A105))),\"\")","v":""},{"$f":"IFERROR(INDEX(Main!$AD$3:$AD$223,SMALL(IF((Report!$G$5=Main!$P$3:$P$223),ROW(Main!$P$3:$P$223)-2),ROW(A105))),\"\")","v":""},null,{"$f":"IFERROR(INDEX(Main!$M$3:$M$223,SMALL(IF((Report!$G$5=Main!$P$3:$P$223),ROW(Main!$P$3:$P$223)-2),ROW(A105))),\"\")","v":""}]
[{"$f":"IF(B146=\"\",\"\",SUBTOTAL(3,$B$131:B146))","v":""},{"$f":"IFERROR(INDEX(Main!$Z$3:$Z$223,SMALL(IF((Report!$G$5=Main!$P$3:$P$223),ROW(Main!$P$3:$P$223)-2),ROW(A106))),\"\")","v":""},{"$f":"IFERROR(INDEX(Main!$AD$3:$AD$223,SMALL(IF((Report!$G$5=Main!$P$3:$P$223),ROW(Main!$P$3:$P$223)-2),ROW(A106))),\"\")","v":""},null,{"$f":"IFERROR(INDEX(Main!$M$3:$M$223,SMALL(IF((Report!$G$5=Main!$P$3:$P$223),ROW(Main!$P$3:$P$223)-2),ROW(A106))),\"\")","v":""}]
[{"$f":"IF(B147=\"\",\"\",SUBTOTAL(3,$B$131:B147))","v":""},{"$f":"IFERROR(INDEX(Main!$Z$3:$Z$223,SMALL(IF((Report!$G$5=Main!$P$3:$P$223),ROW(Main!$P$3:$P$223)-2),ROW(A107))),\"\")","v":""},{"$f":"IFERROR(INDEX(Main!$AD$3:$AD$223,SMALL(IF((Report!$G$5=Main!$P$3:$P$223),ROW(Main!$P$3:$P$223)-2),ROW(A107))),\"\")","v":""},null,{"$f":"IFERROR(INDEX(Main!$M$3:$M$223,SMALL(IF((Report!$G$5=Main!$P$3:$P$223),ROW(Main!$P$3:$P$223)-2),ROW(A107))),\"\")","v":""}]
[{"$f":"IF(B148=\"\",\"\",SUBTOTAL(3,$B$131:B148))","v":""},{"$f":"IFERROR(INDEX(Main!$Z$3:$Z$223,SMALL(IF((Report!$G$5=Main!$P$3:$P$223),ROW(Main!$P$3:$P$223)-2),ROW(A108))),\"\")","v":""},{"$f":"IFERROR(INDEX(Main!$AD$3:$AD$223,SMALL(IF((Report!$G$5=Main!$P$3:$P$223),ROW(Main!$P$3:$P$223)-2),ROW(A108))),\"\")","v":""},null,{"$f":"IFERROR(INDEX(Main!$M$3:$M$223,SMALL(IF((Report!$G$5=Main!$P$3:$P$223),ROW(Main!$P$3:$P$223)-2),ROW(A108))),\"\")","v":""}]
[{"$f":"IF(B149=\"\",\"\",SUBTOTAL(3,$B$131:B149))","v":""},{"$f":"IFERROR(INDEX(Main!$Z$3:$Z$223,SMALL(IF((Report!$G$5=Main!$P$3:$P$223),ROW(Main!$P$3:$P$223)-2),ROW(A109))),\"\")","v":""},{"$f":"IFERROR(INDEX(Main!$AD$3:$AD$223,SMALL(IF((Report!$G$5=Main!$P$3:$P$223),ROW(Main!$P$3:$P$223)-2),ROW(A109))),\"\")","v":""},null,{"$f":"IFERROR(INDEX(Main!$M$3:$M$223,SMALL(IF((Report!$G$5=Main!$P$3:$P$223),ROW(Main!$P$3:$P$223)-2),ROW(A109))),\"\")","v":""}]
[{"$f":"IF(B150=\"\",\"\",SUBTOTAL(3,$B$131:B150))","v":""},{"$f":"IFERROR(INDEX(Main!$Z$3:$Z$223,SMALL(IF((Report!$G$5=Main!$P$3:$P$223),ROW(Main!$P$3:$P$223)-2),ROW(A110))),\"\")","v":""},{"$f":"IFERROR(INDEX(Main!$AD$3:$AD$223,SMALL(IF((Report!$G$5=Main!$P$3:$P$223),ROW(Main!$P$3:$P$223)-2),ROW(A110))),\"\")","v":""},null,{"$f":"IFERROR(INDEX(Main!$M$3:$M$223,SMALL(IF((Report!$G$5=Main!$P$3:$P$223),ROW(Main!$P$3:$P$223)-2),ROW(A110))),\"\")","v":""}]
[{"$f":"IF(B151=\"\",\"\",SUBTOTAL(3,$B$131:B151))","v":""},{"$f":"IFERROR(INDEX(Main!$Z$3:$Z$223,SMALL(IF((Report!$G$5=Main!$P$3:$P$223),ROW(Main!$P$3:$P$223)-2),ROW(A111))),\"\")","v":""},{"$f":"IFERROR(INDEX(Main!$AD$3:$AD$223,SMALL(IF((Report!$G$5=Main!$P$3:$P$223),ROW(Main!$P$3:$P$223)-2),ROW(A111))),\"\")","v":""},null,{"$f":"IFERROR(INDEX(Main!$M$3:$M$223,SMALL(IF((Report!$G$5=Main!$P$3:$P$223),ROW(Main!$P$3:$P$223)-2),ROW(A111))),\"\")","v":""}]
[{"$f":"IF(B152=\"\",\"\",SUBTOTAL(3,$B$131:B152))","v":""},{"$f":"IFERROR(INDEX(Main!$Z$3:$Z$223,SMALL(IF((Report!$G$5=Main!$P$3:$P$223),ROW(Main!$P$3:$P$223)-2),ROW(A112))),\"\")","v":""},{"$f":"IFERROR(INDEX(Main!$AD$3:$AD$223,SMALL(IF((Report!$G$5=Main!$P$3:$P$223),ROW(Main!$P$3:$P$223)-2),ROW(A112))),\"\")","v":""},null,{"$f":"IFERROR(INDEX(Main!$M$3:$M$223,SMALL(IF((Report!$G$5=Main!$P$3:$P$223),ROW(Main!$P$3:$P$223)-2),ROW(A112))),\"\")","v":""}]
[{"$f":"IF(B153=\"\",\"\",SUBTOTAL(3,$B$131:B153))","v":""},{"$f":"IFERROR(INDEX(Main!$Z$3:$Z$223,SMALL(IF((Report!$G$5=Main!$P$3:$P$223),ROW(Main!$P$3:$P$223)-2),ROW(A113))),\"\")","v":""},{"$f":"IFERROR(INDEX(Main!$AD$3:$AD$223,SMALL(IF((Report!$G$5=Main!$P$3:$P$223),ROW(Main!$P$3:$P$223)-2),ROW(A113))),\"\")","v":""},null,{"$f":"IFERROR(INDEX(Main!$M$3:$M$223,SMALL(IF((Report!$G$5=Main!$P$3:$P$223),ROW(Main!$P$3:$P$223)-2),ROW(A113))),\"\")","v":""}]
[{"$f":"IF(B154=\"\",\"\",SUBTOTAL(3,$B$131:B154))","v":""},{"$f":"IFERROR(INDEX(Main!$Z$3:$Z$223,SMALL(IF((Report!$G$5=Main!$P$3:$P$223),ROW(Main!$P$3:$P$223)-2),ROW(A114))),\"\")","v":""},{"$f":"IFERROR(INDEX(Main!$AD$3:$AD$223,SMALL(IF((Report!$G$5=Main!$P$3:$P$223),ROW(Main!$P$3:$P$223)-2),ROW(A114))),\"\")","v":""},null,{"$f":"IFERROR(INDEX(Main!$M$3:$M$223,SMALL(IF((Report!$G$5=Main!$P$3:$P$223),ROW(Main!$P$3:$P$223)-2),ROW(A114))),\"\")","v":""}]
[{"$f":"IF(B155=\"\",\"\",SUBTOTAL(3,$B$131:B155))","v":""},{"$f":"IFERROR(INDEX(Main!$Z$3:$Z$223,SMALL(IF((Report!$G$5=Main!$P$3:$P$223),ROW(Main!$P$3:$P$223)-2),ROW(A115))),\"\")","v":""},{"$f":"IFERROR(INDEX(Main!$AD$3:$AD$223,SMALL(IF((Report!$G$5=Main!$P$3:$P$223),ROW(Main!$P$3:$P$223)-2),ROW(A115))),\"\")","v":""},null,{"$f":"IFERROR(INDEX(Main!$M$3:$M$223,SMALL(IF((Report!$G$5=Main!$P$3:$P$223),ROW(Main!$P$3:$P$223)-2),ROW(A115))),\"\")","v":""}]
[{"$f":"IF(B156=\"\",\"\",SUBTOTAL(3,$B$131:B156))","v":""},{"$f":"IFERROR(INDEX(Main!$Z$3:$Z$223,SMALL(IF((Report!$G$5=Main!$P$3:$P$223),ROW(Main!$P$3:$P$223)-2),ROW(A116))),\"\")","v":""},{"$f":"IFERROR(INDEX(Main!$AD$3:$AD$223,SMALL(IF((Report!$G$5=Main!$P$3:$P$223),ROW(Main!$P$3:$P$223)-2),ROW(A116))),\"\")","v":""},null,{"$f":"IFERROR(INDEX(Main!$M$3:$M$223,SMALL(IF((Report!$G$5=Main!$P$3:$P$223),ROW(Main!$P$3:$P$223)-2),ROW(A116))),\"\")","v":""}]
[{"$f":"IF(B157=\"\",\"\",SUBTOTAL(3,$B$131:B157))","v":""},{"$f":"IFERROR(INDEX(Main!$Z$3:$Z$223,SMALL(IF((Report!$G$5=Main!$P$3:$P$223),ROW(Main!$P$3:$P$223)-2),ROW(A117))),\"\")","v":""},{"$f":"IFERROR(INDEX(Main!$AD$3:$AD$223,SMALL(IF((Report!$G$5=Main!$P$3:$P$223),ROW(Main!$P$3:$P$223)-2),ROW(A117))),\"\")","v":""},null,{"$f":"IFERROR(INDEX(Main!$M$3:$M$223,SMALL(IF((Report!$G$5=Main!$P$3:$P$223),ROW(Main!$P$3:$P$223)-2),ROW(A117))),\"\")","v":""}]
[{"$f":"IF(B158=\"\",\"\",SUBTOTAL(3,$B$131:B158))","v":""},{"$f":"IFERROR(INDEX(Main!$Z$3:$Z$223,SMALL(IF((Report!$G$5=Main!$P$3:$P$223),ROW(Main!$P$3:$P$223)-2),ROW(A118))),\"\")","v":""},{"$f":"IFERROR(INDEX(Main!$AD$3:$AD$223,SMALL(IF((Report!$G$5=Main!$P$3:$P$223),ROW(Main!$P$3:$P$223)-2),ROW(A118))),\"\")","v":""},null,{"$f":"IFERROR(INDEX(Main!$M$3:$M$223,SMALL(IF((Report!$G$5=Main!$P$3:$P$223),ROW(Main!$P$3:$P$223)-2),ROW(A118))),\"\")","v":""}]
[{"$f":"IF(B159=\"\",\"\",SUBTOTAL(3,$B$131:B159))","v":""},{"$f":"IFERROR(INDEX(Main!$Z$3:$Z$223,SMALL(IF((Report!$G$5=Main!$P$3:$P$223),ROW(Main!$P$3:$P$223)-2),ROW(A119))),\"\")","v":""},{"$f":"IFERROR(INDEX(Main!$AD$3:$AD$223,SMALL(IF((Report!$G$5=Main!$P$3:$P$223),ROW(Main!$P$3:$P$223)-2),ROW(A119))),\"\")","v":""},null,{"$f":"IFERROR(INDEX(Main!$M$3:$M$223,SMALL(IF((Report!$G$5=Main!$P$3:$P$223),ROW(Main!$P$3:$P$223)-2),ROW(A119))),\"\")","v":""}]
[{"$f":"IF(B160=\"\",\"\",SUBTOTAL(3,$B$131:B160))","v":""},{"$f":"IFERROR(INDEX(Main!$Z$3:$Z$223,SMALL(IF((Report!$G$5=Main!$P$3:$P$223),ROW(Main!$P$3:$P$223)-2),ROW(A120))),\"\")","v":""},{"$f":"IFERROR(INDEX(Main!$AD$3:$AD$223,SMALL(IF((Report!$G$5=Main!$P$3:$P$223),ROW(Main!$P$3:$P$223)-2),ROW(A120))),\"\")","v":""},null,{"$f":"IFERROR(INDEX(Main!$M$3:$M$223,SMALL(IF((Report!$G$5=Main!$P$3:$P$223),ROW(Main!$P$3:$P$223)-2),ROW(A120))),\"\")","v":""}]
["Total :",null,{"$f":"SUM(C131:C160)","v":0}]
[]
["Guide Signature :…………………………………………………………………………………………………….."]
[]
[{"$f":"TODAY()","v":"2021-01-20"},null,null,null,5]
[]
["Company :Safari Company"]
[]
["Guide Name:",{"$f":"$G$5","v":"Said Reda"}]
[]
["No.","Voucher no.","Cash",null,"Remarks"]
[{"$f":"IF(B172=\"\",\"\",SUBTOTAL(3,$B$172:B172))","v":""},{"$f":"IFERROR(INDEX(Main!$Z$3:$Z$223,SMALL(IF((Report!$G$5=Main!$P$3:$P$223),ROW(Main!$P$3:$P$223)-2),ROW(A121))),\"\")","v":""},{"$f":"IFERROR(INDEX(Main!$AD$3:$AD$223,SMALL(IF((Report!$G$5=Main!$P$3:$P$223),ROW(Main!$P$3:$P$223)-2),ROW(A121))),\"\")","v":""},null,{"$f":"IFERROR(INDEX(Main!$M$3:$M$223,SMALL(IF((Report!$G$5=Main!$P$3:$P$223),ROW(Main!$P$3:$P$223)-2),ROW(A121))),\"\")","v":""}]
[{"$f":"IF(B173=\"\",\"\",SUBTOTAL(3,$B$172:B173))","v":""},{"$f":"IFERROR(INDEX(Main!$Z$3:$Z$223,SMALL(IF((Report!$G$5=Main!$P$3:$P$223),ROW(Main!$P$3:$P$223)-2),ROW(A122))),\"\")","v":""},{"$f":"IFERROR(INDEX(Main!$AD$3:$AD$223,SMALL(IF((Report!$G$5=Main!$P$3:$P$223),ROW(Main!$P$3:$P$223)-2),ROW(A122))),\"\")","v":""},null,{"$f":"IFERROR(INDEX(Main!$M$3:$M$223,SMALL(IF((Report!$G$5=Main!$P$3:$P$223),ROW(Main!$P$3:$P$223)-2),ROW(A122))),\"\")","v":""}]
[{"$f":"IF(B174=\"\",\"\",SUBTOTAL(3,$B$172:B174))","v":""},{"$f":"IFERROR(INDEX(Main!$Z$3:$Z$223,SMALL(IF((Report!$G$5=Main!$P$3:$P$223),ROW(Main!$P$3:$P$223)-2),ROW(A123))),\"\")","v":""},{"$f":"IFERROR(INDEX(Main!$AD$3:$AD$223,SMALL(IF((Report!$G$5=Main!$P$3:$P$223),ROW(Main!$P$3:$P$223)-2),ROW(A123))),\"\")","v":""},null,{"$f":"IFERROR(INDEX(Main!$M$3:$M$223,SMALL(IF((Report!$G$5=Main!$P$3:$P$223),ROW(Main!$P$3:$P$223)-2),ROW(A123))),\"\")","v":""}]
[{"$f":"IF(B175=\"\",\"\",SUBTOTAL(3,$B$172:B175))","v":""},{"$f":"IFERROR(INDEX(Main!$Z$3:$Z$223,SMALL(IF((Report!$G$5=Main!$P$3:$P$223),ROW(Main!$P$3:$P$223)-2),ROW(A124))),\"\")","v":""},{"$f":"IFERROR(INDEX(Main!$AD$3:$AD$223,SMALL(IF((Report!$G$5=Main!$P$3:$P$223),ROW(Main!$P$3:$P$223)-2),ROW(A124))),\"\")","v":""},null,{"$f":"IFERROR(INDEX(Main!$M$3:$M$223,SMALL(IF((Report!$G$5=Main!$P$3:$P$223),ROW(Main!$P$3:$P$223)-2),ROW(A124))),\"\")","v":""}]
[{"$f":"IF(B176=\"\",\"\",SUBTOTAL(3,$B$172:B176))","v":""},{"$f":"IFERROR(INDEX(Main!$Z$3:$Z$223,SMALL(IF((Report!$G$5=Main!$P$3:$P$223),ROW(Main!$P$3:$P$223)-2),ROW(A125))),\"\")","v":""},{"$f":"IFERROR(INDEX(Main!$AD$3:$AD$223,SMALL(IF((Report!$G$5=Main!$P$3:$P$223),ROW(Main!$P$3:$P$223)-2),ROW(A125))),\"\")","v":""},null,{"$f":"IFERROR(INDEX(Main!$M$3:$M$223,SMALL(IF((Report!$G$5=Main!$P$3:$P$223),ROW(Main!$P$3:$P$223)-2),ROW(A125))),\"\")","v":""}]
[{"$f":"IF(B177=\"\",\"\",SUBTOTAL(3,$B$172:B177))","v":""},{"$f":"IFERROR(INDEX(Main!$Z$3:$Z$223,SMALL(IF((Report!$G$5=Main!$P$3:$P$223),ROW(Main!$P$3:$P$223)-2),ROW(A126))),\"\")","v":""},{"$f":"IFERROR(INDEX(Main!$AD$3:$AD$223,SMALL(IF((Report!$G$5=Main!$P$3:$P$223),ROW(Main!$P$3:$P$223)-2),ROW(A126))),\"\")","v":""},null,{"$f":"IFERROR(INDEX(Main!$M$3:$M$223,SMALL(IF((Report!$G$5=Main!$P$3:$P$223),ROW(Main!$P$3:$P$223)-2),ROW(A126))),\"\")","v":""}]
[{"$f":"IF(B178=\"\",\"\",SUBTOTAL(3,$B$172:B178))","v":""},{"$f":"IFERROR(INDEX(Main!$Z$3:$Z$223,SMALL(IF((Report!$G$5=Main!$P$3:$P$223),ROW(Main!$P$3:$P$223)-2),ROW(A127))),\"\")","v":""},{"$f":"IFERROR(INDEX(Main!$AD$3:$AD$223,SMALL(IF((Report!$G$5=Main!$P$3:$P$223),ROW(Main!$P$3:$P$223)-2),ROW(A127))),\"\")","v":""},null,{"$f":"IFERROR(INDEX(Main!$M$3:$M$223,SMALL(IF((Report!$G$5=Main!$P$3:$P$223),ROW(Main!$P$3:$P$223)-2),ROW(A127))),\"\")","v":""}]
[{"$f":"IF(B179=\"\",\"\",SUBTOTAL(3,$B$172:B179))","v":""},{"$f":"IFERROR(INDEX(Main!$Z$3:$Z$223,SMALL(IF((Report!$G$5=Main!$P$3:$P$223),ROW(Main!$P$3:$P$223)-2),ROW(A128))),\"\")","v":""},{"$f":"IFERROR(INDEX(Main!$AD$3:$AD$223,SMALL(IF((Report!$G$5=Main!$P$3:$P$223),ROW(Main!$P$3:$P$223)-2),ROW(A128))),\"\")","v":""},null,{"$f":"IFERROR(INDEX(Main!$M$3:$M$223,SMALL(IF((Report!$G$5=Main!$P$3:$P$223),ROW(Main!$P$3:$P$223)-2),ROW(A128))),\"\")","v":""}]
[{"$f":"IF(B180=\"\",\"\",SUBTOTAL(3,$B$172:B180))","v":""},{"$f":"IFERROR(INDEX(Main!$Z$3:$Z$223,SMALL(IF((Report!$G$5=Main!$P$3:$P$223),ROW(Main!$P$3:$P$223)-2),ROW(A129))),\"\")","v":""},{"$f":"IFERROR(INDEX(Main!$AD$3:$AD$223,SMALL(IF((Report!$G$5=Main!$P$3:$P$223),ROW(Main!$P$3:$P$223)-2),ROW(A129))),\"\")","v":""},null,{"$f":"IFERROR(INDEX(Main!$M$3:$M$223,SMALL(IF((Report!$G$5=Main!$P$3:$P$223),ROW(Main!$P$3:$P$223)-2),ROW(A129))),\"\")","v":""}]
[{"$f":"IF(B181=\"\",\"\",SUBTOTAL(3,$B$172:B181))","v":""},{"$f":"IFERROR(INDEX(Main!$Z$3:$Z$223,SMALL(IF((Report!$G$5=Main!$P$3:$P$223),ROW(Main!$P$3:$P$223)-2),ROW(A130))),\"\")","v":""},{"$f":"IFERROR(INDEX(Main!$AD$3:$AD$223,SMALL(IF((Report!$G$5=Main!$P$3:$P$223),ROW(Main!$P$3:$P$223)-2),ROW(A130))),\"\")","v":""},null,{"$f":"IFERROR(INDEX(Main!$M$3:$M$223,SMALL(IF((Report!$G$5=Main!$P$3:$P$223),ROW(Main!$P$3:$P$223)-2),ROW(A130))),\"\")","v":""}]
[{"$f":"IF(B182=\"\",\"\",SUBTOTAL(3,$B$172:B182))","v":""},{"$f":"IFERROR(INDEX(Main!$Z$3:$Z$223,SMALL(IF((Report!$G$5=Main!$P$3:$P$223),ROW(Main!$P$3:$P$223)-2),ROW(A131))),\"\")","v":""},{"$f":"IFERROR(INDEX(Main!$AD$3:$AD$223,SMALL(IF((Report!$G$5=Main!$P$3:$P$223),ROW(Main!$P$3:$P$223)-2),ROW(A131))),\"\")","v":""},null,{"$f":"IFERROR(INDEX(Main!$M$3:$M$223,SMALL(IF((Report!$G$5=Main!$P$3:$P$223),ROW(Main!$P$3:$P$223)-2),ROW(A131))),\"\")","v":""}]
[{"$f":"IF(B183=\"\",\"\",SUBTOTAL(3,$B$172:B183))","v":""},{"$f":"IFERROR(INDEX(Main!$Z$3:$Z$223,SMALL(IF((Report!$G$5=Main!$P$3:$P$223),ROW(Main!$P$3:$P$223)-2),ROW(A132))),\"\")","v":""},{"$f":"IFERROR(INDEX(Main!$AD$3:$AD$223,SMALL(IF((Report!$G$5=Main!$P$3:$P$223),ROW(Main!$P$3:$P$223)-2),ROW(A132))),\"\")","v":""},null,{"$f":"IFERROR(INDEX(Main!$M$3:$M$223,SMALL(IF((Report!$G$5=Main!$P$3:$P$223),ROW(Main!$P$3:$P$223)-2),ROW(A132))),\"\")","v":""}]
[{"$f":"IF(B184=\"\",\"\",SUBTOTAL(3,$B$172:B184))","v":""},{"$f":"IFERROR(INDEX(Main!$Z$3:$Z$223,SMALL(IF((Report!$G$5=Main!$P$3:$P$223),ROW(Main!$P$3:$P$223)-2),ROW(A133))),\"\")","v":""},{"$f":"IFERROR(INDEX(Main!$AD$3:$AD$223,SMALL(IF((Report!$G$5=Main!$P$3:$P$223),ROW(Main!$P$3:$P$223)-2),ROW(A133))),\"\")","v":""},null,{"$f":"IFERROR(INDEX(Main!$M$3:$M$223,SMALL(IF((Report!$G$5=Main!$P$3:$P$223),ROW(Main!$P$3:$P$223)-2),ROW(A133))),\"\")","v":""}]
[{"$f":"IF(B185=\"\",\"\",SUBTOTAL(3,$B$172:B185))","v":""},{"$f":"IFERROR(INDEX(Main!$Z$3:$Z$223,SMALL(IF((Report!$G$5=Main!$P$3:$P$223),ROW(Main!$P$3:$P$223)-2),ROW(A134))),\"\")","v":""},{"$f":"IFERROR(INDEX(Main!$AD$3:$AD$223,SMALL(IF((Report!$G$5=Main!$P$3:$P$223),ROW(Main!$P$3:$P$223)-2),ROW(A134))),\"\")","v":""},null,{"$f":"IFERROR(INDEX(Main!$M$3:$M$223,SMALL(IF((Report!$G$5=Main!$P$3:$P$223),ROW(Main!$P$3:$P$223)-2),ROW(A134))),\"\")","v":""}]
[{"$f":"IF(B186=\"\",\"\",SUBTOTAL(3,$B$172:B186))","v":""},{"$f":"IFERROR(INDEX(Main!$Z$3:$Z$223,SMALL(IF((Report!$G$5=Main!$P$3:$P$223),ROW(Main!$P$3:$P$223)-2),ROW(A135))),\"\")","v":""},{"$f":"IFERROR(INDEX(Main!$AD$3:$AD$223,SMALL(IF((Report!$G$5=Main!$P$3:$P$223),ROW(Main!$P$3:$P$223)-2),ROW(A135))),\"\")","v":""},null,{"$f":"IFERROR(INDEX(Main!$M$3:$M$223,SMALL(IF((Report!$G$5=Main!$P$3:$P$223),ROW(Main!$P$3:$P$223)-2),ROW(A135))),\"\")","v":""}]
[{"$f":"IF(B187=\"\",\"\",SUBTOTAL(3,$B$172:B187))","v":""},{"$f":"IFERROR(INDEX(Main!$Z$3:$Z$223,SMALL(IF((Report!$G$5=Main!$P$3:$P$223),ROW(Main!$P$3:$P$223)-2),ROW(A136))),\"\")","v":""},{"$f":"IFERROR(INDEX(Main!$AD$3:$AD$223,SMALL(IF((Report!$G$5=Main!$P$3:$P$223),ROW(Main!$P$3:$P$223)-2),ROW(A136))),\"\")","v":""},null,{"$f":"IFERROR(INDEX(Main!$M$3:$M$223,SMALL(IF((Report!$G$5=Main!$P$3:$P$223),ROW(Main!$P$3:$P$223)-2),ROW(A136))),\"\")","v":""}]
[{"$f":"IF(B188=\"\",\"\",SUBTOTAL(3,$B$172:B188))","v":""},{"$f":"IFERROR(INDEX(Main!$Z$3:$Z$223,SMALL(IF((Report!$G$5=Main!$P$3:$P$223),ROW(Main!$P$3:$P$223)-2),ROW(A137))),\"\")","v":""},{"$f":"IFERROR(INDEX(Main!$AD$3:$AD$223,SMALL(IF((Report!$G$5=Main!$P$3:$P$223),ROW(Main!$P$3:$P$223)-2),ROW(A137))),\"\")","v":""},null,{"$f":"IFERROR(INDEX(Main!$M$3:$M$223,SMALL(IF((Report!$G$5=Main!$P$3:$P$223),ROW(Main!$P$3:$P$223)-2),ROW(A137))),\"\")","v":""}]
[{"$f":"IF(B189=\"\",\"\",SUBTOTAL(3,$B$172:B189))","v":""},{"$f":"IFERROR(INDEX(Main!$Z$3:$Z$223,SMALL(IF((Report!$G$5=Main!$P$3:$P$223),ROW(Main!$P$3:$P$223)-2),ROW(A138))),\"\")","v":""},{"$f":"IFERROR(INDEX(Main!$AD$3:$AD$223,SMALL(IF((Report!$G$5=Main!$P$3:$P$223),ROW(Main!$P$3:$P$223)-2),ROW(A138))),\"\")","v":""},null,{"$f":"IFERROR(INDEX(Main!$M$3:$M$223,SMALL(IF((Report!$G$5=Main!$P$3:$P$223),ROW(Main!$P$3:$P$223)-2),ROW(A138))),\"\")","v":""}]
[{"$f":"IF(B190=\"\",\"\",SUBTOTAL(3,$B$172:B190))","v":""},{"$f":"IFERROR(INDEX(Main!$Z$3:$Z$223,SMALL(IF((Report!$G$5=Main!$P$3:$P$223),ROW(Main!$P$3:$P$223)-2),ROW(A139))),\"\")","v":""},{"$f":"IFERROR(INDEX(Main!$AD$3:$AD$223,SMALL(IF((Report!$G$5=Main!$P$3:$P$223),ROW(Main!$P$3:$P$223)-2),ROW(A139))),\"\")","v":""},null,{"$f":"IFERROR(INDEX(Main!$M$3:$M$223,SMALL(IF((Report!$G$5=Main!$P$3:$P$223),ROW(Main!$P$3:$P$223)-2),ROW(A139))),\"\")","v":""}]
[{"$f":"IF(B191=\"\",\"\",SUBTOTAL(3,$B$172:B191))","v":""},{"$f":"IFERROR(INDEX(Main!$Z$3:$Z$223,SMALL(IF((Report!$G$5=Main!$P$3:$P$223),ROW(Main!$P$3:$P$223)-2),ROW(A140))),\"\")","v":""},{"$f":"IFERROR(INDEX(Main!$AD$3:$AD$223,SMALL(IF((Report!$G$5=Main!$P$3:$P$223),ROW(Main!$P$3:$P$223)-2),ROW(A140))),\"\")","v":""},null,{"$f":"IFERROR(INDEX(Main!$M$3:$M$223,SMALL(IF((Report!$G$5=Main!$P$3:$P$223),ROW(Main!$P$3:$P$223)-2),ROW(A140))),\"\")","v":""}]
[{"$f":"IF(B192=\"\",\"\",SUBTOTAL(3,$B$172:B192))","v":""},{"$f":"IFERROR(INDEX(Main!$Z$3:$Z$223,SMALL(IF((Report!$G$5=Main!$P$3:$P$223),ROW(Main!$P$3:$P$223)-2),ROW(A141))),\"\")","v":""},{"$f":"IFERROR(INDEX(Main!$AD$3:$AD$223,SMALL(IF((Report!$G$5=Main!$P$3:$P$223),ROW(Main!$P$3:$P$223)-2),ROW(A141))),\"\")","v":""},null,{"$f":"IFERROR(INDEX(Main!$M$3:$M$223,SMALL(IF((Report!$G$5=Main!$P$3:$P$223),ROW(Main!$P$3:$P$223)-2),ROW(A141))),\"\")","v":""}]
[{"$f":"IF(B193=\"\",\"\",SUBTOTAL(3,$B$172:B193))","v":""},{"$f":"IFERROR(INDEX(Main!$Z$3:$Z$223,SMALL(IF((Report!$G$5=Main!$P$3:$P$223),ROW(Main!$P$3:$P$223)-2),ROW(A142))),\"\")","v":""},{"$f":"IFERROR(INDEX(Main!$AD$3:$AD$223,SMALL(IF((Report!$G$5=Main!$P$3:$P$223),ROW(Main!$P$3:$P$223)-2),ROW(A142))),\"\")","v":""},null,{"$f":"IFERROR(INDEX(Main!$M$3:$M$223,SMALL(IF((Report!$G$5=Main!$P$3:$P$223),ROW(Main!$P$3:$P$223)-2),ROW(A142))),\"\")","v":""}]
[{"$f":"IF(B194=\"\",\"\",SUBTOTAL(3,$B$172:B194))","v":""},{"$f":"IFERROR(INDEX(Main!$Z$3:$Z$223,SMALL(IF((Report!$G$5=Main!$P$3:$P$223),ROW(Main!$P$3:$P$223)-2),ROW(A143))),\"\")","v":""},{"$f":"IFERROR(INDEX(Main!$AD$3:$AD$223,SMALL(IF((Report!$G$5=Main!$P$3:$P$223),ROW(Main!$P$3:$P$223)-2),ROW(A143))),\"\")","v":""},null,{"$f":"IFERROR(INDEX(Main!$M$3:$M$223,SMALL(IF((Report!$G$5=Main!$P$3:$P$223),ROW(Main!$P$3:$P$223)-2),ROW(A143))),\"\")","v":""}]
[{"$f":"IF(B195=\"\",\"\",SUBTOTAL(3,$B$172:B195))","v":""},{"$f":"IFERROR(INDEX(Main!$Z$3:$Z$223,SMALL(IF((Report!$G$5=Main!$P$3:$P$223),ROW(Main!$P$3:$P$223)-2),ROW(A144))),\"\")","v":""},{"$f":"IFERROR(INDEX(Main!$AD$3:$AD$223,SMALL(IF((Report!$G$5=Main!$P$3:$P$223),ROW(Main!$P$3:$P$223)-2),ROW(A144))),\"\")","v":""},null,{"$f":"IFERROR(INDEX(Main!$M$3:$M$223,SMALL(IF((Report!$G$5=Main!$P$3:$P$223),ROW(Main!$P$3:$P$223)-2),ROW(A144))),\"\")","v":""}]
[{"$f":"IF(B196=\"\",\"\",SUBTOTAL(3,$B$172:B196))","v":""},{"$f":"IFERROR(INDEX(Main!$Z$3:$Z$223,SMALL(IF((Report!$G$5=Main!$P$3:$P$223),ROW(Main!$P$3:$P$223)-2),ROW(A145))),\"\")","v":""},{"$f":"IFERROR(INDEX(Main!$AD$3:$AD$223,SMALL(IF((Report!$G$5=Main!$P$3:$P$223),ROW(Main!$P$3:$P$223)-2),ROW(A145))),\"\")","v":""},null,{"$f":"IFERROR(INDEX(Main!$M$3:$M$223,SMALL(IF((Report!$G$5=Main!$P$3:$P$223),ROW(Main!$P$3:$P$223)-2),ROW(A145))),\"\")","v":""}]
[{"$f":"IF(B197=\"\",\"\",SUBTOTAL(3,$B$172:B197))","v":""},{"$f":"IFERROR(INDEX(Main!$Z$3:$Z$223,SMALL(IF((Report!$G$5=Main!$P$3:$P$223),ROW(Main!$P$3:$P$223)-2),ROW(A146))),\"\")","v":""},{"$f":"IFERROR(INDEX(Main!$AD$3:$AD$223,SMALL(IF((Report!$G$5=Main!$P$3:$P$223),ROW(Main!$P$3:$P$223)-2),ROW(A146))),\"\")","v":""},null,{"$f":"IFERROR(INDEX(Main!$M$3:$M$223,SMALL(IF((Report!$G$5=Main!$P$3:$P$223),ROW(Main!$P$3:$P$223)-2),ROW(A146))),\"\")","v":""}]
[{"$f":"IF(B198=\"\",\"\",SUBTOTAL(3,$B$172:B198))","v":""},{"$f":"IFERROR(INDEX(Main!$Z$3:$Z$223,SMALL(IF((Report!$G$5=Main!$P$3:$P$223),ROW(Main!$P$3:$P$223)-2),ROW(A147))),\"\")","v":""},{"$f":"IFERROR(INDEX(Main!$AD$3:$AD$223,SMALL(IF((Report!$G$5=Main!$P$3:$P$223),ROW(Main!$P$3:$P$223)-2),ROW(A147))),\"\")","v":""},null,{"$f":"IFERROR(INDEX(Main!$M$3:$M$223,SMALL(IF((Report!$G$5=Main!$P$3:$P$223),ROW(Main!$P$3:$P$223)-2),ROW(A147))),\"\")","v":""}]
[{"$f":"IF(B199=\"\",\"\",SUBTOTAL(3,$B$172:B199))","v":""},{"$f":"IFERROR(INDEX(Main!$Z$3:$Z$223,SMALL(IF((Report!$G$5=Main!$P$3:$P$223),ROW(Main!$P$3:$P$223)-2),ROW(A148))),\"\")","v":""},{"$f":"IFERROR(INDEX(Main!$AD$3:$AD$223,SMALL(IF((Report!$G$5=Main!$P$3:$P$223),ROW(Main!$P$3:$P$223)-2),ROW(A148))),\"\")","v":""},null,{"$f":"IFERROR(INDEX(Main!$M$3:$M$223,SMALL(IF((Report!$G$5=Main!$P$3:$P$223),ROW(Main!$P$3:$P$223)-2),ROW(A148))),\"\")","v":""}]
[{"$f":"IF(B200=\"\",\"\",SUBTOTAL(3,$B$172:B200))","v":""},{"$f":"IFERROR(INDEX(Main!$Z$3:$Z$223,SMALL(IF((Report!$G$5=Main!$P$3:$P$223),ROW(Main!$P$3:$P$223)-2),ROW(A149))),\"\")","v":""},{"$f":"IFERROR(INDEX(Main!$AD$3:$AD$223,SMALL(IF((Report!$G$5=Main!$P$3:$P$223),ROW(Main!$P$3:$P$223)-2),ROW(A149))),\"\")","v":""},null,{"$f":"IFERROR(INDEX(Main!$M$3:$M$223,SMALL(IF((Report!$G$5=Main!$P$3:$P$223),ROW(Main!$P$3:$P$223)-2),ROW(A149))),\"\")","v":""}]
[{"$f":"IF(B201=\"\",\"\",SUBTOTAL(3,$B$172:B201))","v":""},{"$f":"IFERROR(INDEX(Main!$Z$3:$Z$223,SMALL(IF((Report!$G$5=Main!$P$3:$P$223),ROW(Main!$P$3:$P$223)-2),ROW(A150))),\"\")","v":""},{"$f":"IFERROR(INDEX(Main!$AD$3:$AD$223,SMALL(IF((Report!$G$5=Main!$P$3:$P$223),ROW(Main!$P$3:$P$223)-2),ROW(A150))),\"\")","v":""},null,{"$f":"IFERROR(INDEX(Main!$M$3:$M$223,SMALL(IF((Report!$G$5=Main!$P$3:$P$223),ROW(Main!$P$3:$P$223)-2),ROW(A150))),\"\")","v":""}]
["Total :",null,{"$f":"SUM(C172:C201)","v":0}]
[]
["Guide Signature :…………………………………………………………………………………………………….."]
[]
[{"$f":"TODAY()","v":"2021-01-20"},null,null,null,6]
[]
["Company :Safari Company"]
[]
["Guide Name:",{"$f":"$G$5","v":"Said Reda"}]
[]
["No.","Voucher no.","Cash",null,"Remarks"]
[{"$f":"IF(B213=\"\",\"\",SUBTOTAL(3,$B$213:B213))","v":""},{"$f":"IFERROR(INDEX(Main!$Z$3:$Z$223,SMALL(IF((Report!$G$5=Main!$P$3:$P$223),ROW(Main!$P$3:$P$223)-2),ROW(A151))),\"\")","v":""},{"$f":"IFERROR(INDEX(Main!$AD$3:$AD$223,SMALL(IF((Report!$G$5=Main!$P$3:$P$223),ROW(Main!$P$3:$P$223)-2),ROW(A151))),\"\")","v":""},null,{"$f":"IFERROR(INDEX(Main!$M$3:$M$223,SMALL(IF((Report!$G$5=Main!$P$3:$P$223),ROW(Main!$P$3:$P$223)-2),ROW(A151))),\"\")","v":""}]
[{"$f":"IF(B214=\"\",\"\",SUBTOTAL(3,$B$213:B214))","v":""},{"$f":"IFERROR(INDEX(Main!$Z$3:$Z$223,SMALL(IF((Report!$G$5=Main!$P$3:$P$223),ROW(Main!$P$3:$P$223)-2),ROW(A152))),\"\")","v":""},{"$f":"IFERROR(INDEX(Main!$AD$3:$AD$223,SMALL(IF((Report!$G$5=Main!$P$3:$P$223),ROW(Main!$P$3:$P$223)-2),ROW(A152))),\"\")","v":""},null,{"$f":"IFERROR(INDEX(Main!$M$3:$M$223,SMALL(IF((Report!$G$5=Main!$P$3:$P$223),ROW(Main!$P$3:$P$223)-2),ROW(A152))),\"\")","v":""}]
[{"$f":"IF(B215=\"\",\"\",SUBTOTAL(3,$B$213:B215))","v":""},{"$f":"IFERROR(INDEX(Main!$Z$3:$Z$223,SMALL(IF((Report!$G$5=Main!$P$3:$P$223),ROW(Main!$P$3:$P$223)-2),ROW(A153))),\"\")","v":""},{"$f":"IFERROR(INDEX(Main!$AD$3:$AD$223,SMALL(IF((Report!$G$5=Main!$P$3:$P$223),ROW(Main!$P$3:$P$223)-2),ROW(A153))),\"\")","v":""},null,{"$f":"IFERROR(INDEX(Main!$M$3:$M$223,SMALL(IF((Report!$G$5=Main!$P$3:$P$223),ROW(Main!$P$3:$P$223)-2),ROW(A153))),\"\")","v":""}]
[{"$f":"IF(B216=\"\",\"\",SUBTOTAL(3,$B$213:B216))","v":""},{"$f":"IFERROR(INDEX(Main!$Z$3:$Z$223,SMALL(IF((Report!$G$5=Main!$P$3:$P$223),ROW(Main!$P$3:$P$223)-2),ROW(A154))),\"\")","v":""},{"$f":"IFERROR(INDEX(Main!$AD$3:$AD$223,SMALL(IF((Report!$G$5=Main!$P$3:$P$223),ROW(Main!$P$3:$P$223)-2),ROW(A154))),\"\")","v":""},null,{"$f":"IFERROR(INDEX(Main!$M$3:$M$223,SMALL(IF((Report!$G$5=Main!$P$3:$P$223),ROW(Main!$P$3:$P$223)-2),ROW(A154))),\"\")","v":""}]
[{"$f":"IF(B217=\"\",\"\",SUBTOTAL(3,$B$213:B217))","v":""},{"$f":"IFERROR(INDEX(Main!$Z$3:$Z$223,SMALL(IF((Report!$G$5=Main!$P$3:$P$223),ROW(Main!$P$3:$P$223)-2),ROW(A155))),\"\")","v":""},{"$f":"IFERROR(INDEX(Main!$AD$3:$AD$223,SMALL(IF((Report!$G$5=Main!$P$3:$P$223),ROW(Main!$P$3:$P$223)-2),ROW(A155))),\"\")","v":""},null,{"$f":"IFERROR(INDEX(Main!$M$3:$M$223,SMALL(IF((Report!$G$5=Main!$P$3:$P$223),ROW(Main!$P$3:$P$223)-2),ROW(A155))),\"\")","v":""}]
[{"$f":"IF(B218=\"\",\"\",SUBTOTAL(3,$B$213:B218))","v":""},{"$f":"IFERROR(INDEX(Main!$Z$3:$Z$223,SMALL(IF((Report!$G$5=Main!$P$3:$P$223),ROW(Main!$P$3:$P$223)-2),ROW(A156))),\"\")","v":""},{"$f":"IFERROR(INDEX(Main!$AD$3:$AD$223,SMALL(IF((Report!$G$5=Main!$P$3:$P$223),ROW(Main!$P$3:$P$223)-2),ROW(A156))),\"\")","v":""},null,{"$f":"IFERROR(INDEX(Main!$M$3:$M$223,SMALL(IF((Report!$G$5=Main!$P$3:$P$223),ROW(Main!$P$3:$P$223)-2),ROW(A156))),\"\")","v":""}]
[{"$f":"IF(B219=\"\",\"\",SUBTOTAL(3,$B$213:B219))","v":""},{"$f":"IFERROR(INDEX(Main!$Z$3:$Z$223,SMALL(IF((Report!$G$5=Main!$P$3:$P$223),ROW(Main!$P$3:$P$223)-2),ROW(A157))),\"\")","v":""},{"$f":"IFERROR(INDEX(Main!$AD$3:$AD$223,SMALL(IF((Report!$G$5=Main!$P$3:$P$223),ROW(Main!$P$3:$P$223)-2),ROW(A157))),\"\")","v":""},null,{"$f":"IFERROR(INDEX(Main!$M$3:$M$223,SMALL(IF((Report!$G$5=Main!$P$3:$P$223),ROW(Main!$P$3:$P$223)-2),ROW(A157))),\"\")","v":""}]
[{"$f":"IF(B220=\"\",\"\",SUBTOTAL(3,$B$213:B220))","v":""},{"$f":"IFERROR(INDEX(Main!$Z$3:$Z$223,SMALL(IF((Report!$G$5=Main!$P$3:$P$223),ROW(Main!$P$3:$P$223)-2),ROW(A158))),\"\")","v":""},{"$f":"IFERROR(INDEX(Main!$AD$3:$AD$223,SMALL(IF((Report!$G$5=Main!$P$3:$P$223),ROW(Main!$P$3:$P$223)-2),ROW(A158))),\"\")","v":""},null,{"$f":"IFERROR(INDEX(Main!$M$3:$M$223,SMALL(IF((Report!$G$5=Main!$P$3:$P$223),ROW(Main!$P$3:$P$223)-2),ROW(A158))),\"\")","v":""}]
[{"$f":"IF(B221=\"\",\"\",SUBTOTAL(3,$B$213:B221))","v":""},{"$f":"IFERROR(INDEX(Main!$Z$3:$Z$223,SMALL(IF((Report!$G$5=Main!$P$3:$P$223),ROW(Main!$P$3:$P$223)-2),ROW(A159))),\"\")","v":""},{"$f":"IFERROR(INDEX(Main!$AD$3:$AD$223,SMALL(IF((Report!$G$5=Main!$P$3:$P$223),ROW(Main!$P$3:$P$223)-2),ROW(A159))),\"\")","v":""},null,{"$f":"IFERROR(INDEX(Main!$M$3:$M$223,SMALL(IF((Report!$G$5=Main!$P$3:$P$223),ROW(Main!$P$3:$P$223)-2),ROW(A159))),\"\")","v":""}]
[{"$f":"IF(B222=\"\",\"\",SUBTOTAL(3,$B$213:B222))","v":""},{"$f":"IFERROR(INDEX(Main!$Z$3:$Z$223,SMALL(IF((Report!$G$5=Main!$P$3:$P$223),ROW(Main!$P$3:$P$223)-2),ROW(A160))),\"\")","v":""},{"$f":"IFERROR(INDEX(Main!$AD$3:$AD$223,SMALL(IF((Report!$G$5=Main!$P$3:$P$223),ROW(Main!$P$3:$P$223)-2),ROW(A160))),\"\")","v":""},null,{"$f":"IFERROR(INDEX(Main!$M$3:$M$223,SMALL(IF((Report!$G$5=Main!$P$3:$P$223),ROW(Main!$P$3:$P$223)-2),ROW(A160))),\"\")","v":""}]
[{"$f":"IF(B223=\"\",\"\",SUBTOTAL(3,$B$213:B223))","v":""},{"$f":"IFERROR(INDEX(Main!$Z$3:$Z$223,SMALL(IF((Report!$G$5=Main!$P$3:$P$223),ROW(Main!$P$3:$P$223)-2),ROW(A161))),\"\")","v":""},{"$f":"IFERROR(INDEX(Main!$AD$3:$AD$223,SMALL(IF((Report!$G$5=Main!$P$3:$P$223),ROW(Main!$P$3:$P$223)-2),ROW(A161))),\"\")","v":""},null,{"$f":"IFERROR(INDEX(Main!$M$3:$M$223,SMALL(IF((Report!$G$5=Main!$P$3:$P$223),ROW(Main!$P$3:$P$223)-2),ROW(A161))),\"\")","v":""}]
[{"$f":"IF(B224=\"\",\"\",SUBTOTAL(3,$B$213:B224))","v":""},{"$f":"IFERROR(INDEX(Main!$Z$3:$Z$223,SMALL(IF((Report!$G$5=Main!$P$3:$P$223),ROW(Main!$P$3:$P$223)-2),ROW(A162))),\"\")","v":""},{"$f":"IFERROR(INDEX(Main!$AD$3:$AD$223,SMALL(IF((Report!$G$5=Main!$P$3:$P$223),ROW(Main!$P$3:$P$223)-2),ROW(A162))),\"\")","v":""},null,{"$f":"IFERROR(INDEX(Main!$M$3:$M$223,SMALL(IF((Report!$G$5=Main!$P$3:$P$223),ROW(Main!$P$3:$P$223)-2),ROW(A162))),\"\")","v":""}]
[{"$f":"IF(B225=\"\",\"\",SUBTOTAL(3,$B$213:B225))","v":""},{"$f":"IFERROR(INDEX(Main!$Z$3:$Z$223,SMALL(IF((Report!$G$5=Main!$P$3:$P$223),ROW(Main!$P$3:$P$223)-2),ROW(A163))),\"\")","v":""},{"$f":"IFERROR(INDEX(Main!$AD$3:$AD$223,SMALL(IF((Report!$G$5=Main!$P$3:$P$223),ROW(Main!$P$3:$P$223)-2),ROW(A163))),\"\")","v":""},null,{"$f":"IFERROR(INDEX(Main!$M$3:$M$223,SMALL(IF((Report!$G$5=Main!$P$3:$P$223),ROW(Main!$P$3:$P$223)-2),ROW(A163))),\"\")","v":""}]
[{"$f":"IF(B226=\"\",\"\",SUBTOTAL(3,$B$213:B226))","v":""},{"$f":"IFERROR(INDEX(Main!$Z$3:$Z$223,SMALL(IF((Report!$G$5=Main!$P$3:$P$223),ROW(Main!$P$3:$P$223)-2),ROW(A164))),\"\")","v":""},{"$f":"IFERROR(INDEX(Main!$AD$3:$AD$223,SMALL(IF((Report!$G$5=Main!$P$3:$P$223),ROW(Main!$P$3:$P$223)-2),ROW(A164))),\"\")","v":""},null,{"$f":"IFERROR(INDEX(Main!$M$3:$M$223,SMALL(IF((Report!$G$5=Main!$P$3:$P$223),ROW(Main!$P$3:$P$223)-2),ROW(A164))),\"\")","v":""}]
[{"$f":"IF(B227=\"\",\"\",SUBTOTAL(3,$B$213:B227))","v":""},{"$f":"IFERROR(INDEX(Main!$Z$3:$Z$223,SMALL(IF((Report!$G$5=Main!$P$3:$P$223),ROW(Main!$P$3:$P$223)-2),ROW(A165))),\"\")","v":""},{"$f":"IFERROR(INDEX(Main!$AD$3:$AD$223,SMALL(IF((Report!$G$5=Main!$P$3:$P$223),ROW(Main!$P$3:$P$223)-2),ROW(A165))),\"\")","v":""},null,{"$f":"IFERROR(INDEX(Main!$M$3:$M$223,SMALL(IF((Report!$G$5=Main!$P$3:$P$223),ROW(Main!$P$3:$P$223)-2),ROW(A165))),\"\")","v":""}]
[{"$f":"IF(B228=\"\",\"\",SUBTOTAL(3,$B$213:B228))","v":""},{"$f":"IFERROR(INDEX(Main!$Z$3:$Z$223,SMALL(IF((Report!$G$5=Main!$P$3:$P$223),ROW(Main!$P$3:$P$223)-2),ROW(A166))),\"\")","v":""},{"$f":"IFERROR(INDEX(Main!$AD$3:$AD$223,SMALL(IF((Report!$G$5=Main!$P$3:$P$223),ROW(Main!$P$3:$P$223)-2),ROW(A166))),\"\")","v":""},null,{"$f":"IFERROR(INDEX(Main!$M$3:$M$223,SMALL(IF((Report!$G$5=Main!$P$3:$P$223),ROW(Main!$P$3:$P$223)-2),ROW(A166))),\"\")","v":""}]
[{"$f":"IF(B229=\"\",\"\",SUBTOTAL(3,$B$213:B229))","v":""},{"$f":"IFERROR(INDEX(Main!$Z$3:$Z$223,SMALL(IF((Report!$G$5=Main!$P$3:$P$223),ROW(Main!$P$3:$P$223)-2),ROW(A167))),\"\")","v":""},{"$f":"IFERROR(INDEX(Main!$AD$3:$AD$223,SMALL(IF((Report!$G$5=Main!$P$3:$P$223),ROW(Main!$P$3:$P$223)-2),ROW(A167))),\"\")","v":""},null,{"$f":"IFERROR(INDEX(Main!$M$3:$M$223,SMALL(IF((Report!$G$5=Main!$P$3:$P$223),ROW(Main!$P$3:$P$223)-2),ROW(A167))),\"\")","v":""}]
[{"$f":"IF(B230=\"\",\"\",SUBTOTAL(3,$B$213:B230))","v":""},{"$f":"IFERROR(INDEX(Main!$Z$3:$Z$223,SMALL(IF((Report!$G$5=Main!$P$3:$P$223),ROW(Main!$P$3:$P$223)-2),ROW(A168))),\"\")","v":""},{"$f":"IFERROR(INDEX(Main!$AD$3:$AD$223,SMALL(IF((Report!$G$5=Main!$P$3:$P$223),ROW(Main!$P$3:$P$223)-2),ROW(A168))),\"\")","v":""},null,{"$f":"IFERROR(INDEX(Main!$M$3:$M$223,SMALL(IF((Report!$G$5=Main!$P$3:$P$223),ROW(Main!$P$3:$P$223)-2),ROW(A168))),\"\")","v":""}]
[{"$f":"IF(B231=\"\",\"\",SUBTOTAL(3,$B$213:B231))","v":""},{"$f":"IFERROR(INDEX(Main!$Z$3:$Z$223,SMALL(IF((Report!$G$5=Main!$P$3:$P$223),ROW(Main!$P$3:$P$223)-2),ROW(A169))),\"\")","v":""},{"$f":"IFERROR(INDEX(Main!$AD$3:$AD$223,SMALL(IF((Report!$G$5=Main!$P$3:$P$223),ROW(Main!$P$3:$P$223)-2),ROW(A169))),\"\")","v":""},null,{"$f":"IFERROR(INDEX(Main!$M$3:$M$223,SMALL(IF((Report!$G$5=Main!$P$3:$P$223),ROW(Main!$P$3:$P$223)-2),ROW(A169))),\"\")","v":""}]
[{"$f":"IF(B232=\"\",\"\",SUBTOTAL(3,$B$213:B232))","v":""},{"$f":"IFERROR(INDEX(Main!$Z$3:$Z$223,SMALL(IF((Report!$G$5=Main!$P$3:$P$223),ROW(Main!$P$3:$P$223)-2),ROW(A170))),\"\")","v":""},{"$f":"IFERROR(INDEX(Main!$AD$3:$AD$223,SMALL(IF((Report!$G$5=Main!$P$3:$P$223),ROW(Main!$P$3:$P$223)-2),ROW(A170))),\"\")","v":""},null,{"$f":"IFERROR(INDEX(Main!$M$3:$M$223,SMALL(IF((Report!$G$5=Main!$P$3:$P$223),ROW(Main!$P$3:$P$223)-2),ROW(A170))),\"\")","v":""}]
[{"$f":"IF(B233=\"\",\"\",SUBTOTAL(3,$B$213:B233))","v":""},{"$f":"IFERROR(INDEX(Main!$Z$3:$Z$223,SMALL(IF((Report!$G$5=Main!$P$3:$P$223),ROW(Main!$P$3:$P$223)-2),ROW(A171))),\"\")","v":""},{"$f":"IFERROR(INDEX(Main!$AD$3:$AD$223,SMALL(IF((Report!$G$5=Main!$P$3:$P$223),ROW(Main!$P$3:$P$223)-2),ROW(A171))),\"\")","v":""},null,{"$f":"IFERROR(INDEX(Main!$M$3:$M$223,SMALL(IF((Report!$G$5=Main!$P$3:$P$223),ROW(Main!$P$3:$P$223)-2),ROW(A171))),\"\")","v":""}]
[{"$f":"IF(B234=\"\",\"\",SUBTOTAL(3,$B$213:B234))","v":""},{"$f":"IFERROR(INDEX(Main!$Z$3:$Z$223,SMALL(IF((Report!$G$5=Main!$P$3:$P$223),ROW(Main!$P$3:$P$223)-2),ROW(A172))),\"\")","v":""},{"$f":"IFERROR(INDEX(Main!$AD$3:$AD$223,SMALL(IF((Report!$G$5=Main!$P$3:$P$223),ROW(Main!$P$3:$P$223)-2),ROW(A172))),\"\")","v":""},null,{"$f":"IFERROR(INDEX(Main!$M$3:$M$223,SMALL(IF((Report!$G$5=Main!$P$3:$P$223),ROW(Main!$P$3:$P$223)-2),ROW(A172))),\"\")","v":""}]
[{"$f":"IF(B235=\"\",\"\",SUBTOTAL(3,$B$213:B235))","v":""},{"$f":"IFERROR(INDEX(Main!$Z$3:$Z$223,SMALL(IF((Report!$G$5=Main!$P$3:$P$223),ROW(Main!$P$3:$P$223)-2),ROW(A173))),\"\")","v":""},{"$f":"IFERROR(INDEX(Main!$AD$3:$AD$223,SMALL(IF((Report!$G$5=Main!$P$3:$P$223),ROW(Main!$P$3:$P$223)-2),ROW(A173))),\"\")","v":""},null,{"$f":"IFERROR(INDEX(Main!$M$3:$M$223,SMALL(IF((Report!$G$5=Main!$P$3:$P$223),ROW(Main!$P$3:$P$223)-2),ROW(A173))),\"\")","v":""}]
[{"$f":"IF(B236=\"\",\"\",SUBTOTAL(3,$B$213:B236))","v":""},{"$f":"IFERROR(INDEX(Main!$Z$3:$Z$223,SMALL(IF((Report!$G$5=Main!$P$3:$P$223),ROW(Main!$P$3:$P$223)-2),ROW(A174))),\"\")","v":""},{"$f":"IFERROR(INDEX(Main!$AD$3:$AD$223,SMALL(IF((Report!$G$5=Main!$P$3:$P$223),ROW(Main!$P$3:$P$223)-2),ROW(A174))),\"\")","v":""},null,{"$f":"IFERROR(INDEX(Main!$M$3:$M$223,SMALL(IF((Report!$G$5=Main!$P$3:$P$223),ROW(Main!$P$3:$P$223)-2),ROW(A174))),\"\")","v":""}]
[{"$f":"IF(B237=\"\",\"\",SUBTOTAL(3,$B$213:B237))","v":""},{"$f":"IFERROR(INDEX(Main!$Z$3:$Z$223,SMALL(IF((Report!$G$5=Main!$P$3:$P$223),ROW(Main!$P$3:$P$223)-2),ROW(A175))),\"\")","v":""},{"$f":"IFERROR(INDEX(Main!$AD$3:$AD$223,SMALL(IF((Report!$G$5=Main!$P$3:$P$223),ROW(Main!$P$3:$P$223)-2),ROW(A175))),\"\")","v":""},null,{"$f":"IFERROR(INDEX(Main!$M$3:$M$223,SMALL(IF((Report!$G$5=Main!$P$3:$P$223),ROW(Main!$P$3:$P$223)-2),ROW(A175))),\"\")","v":""}]
[{"$f":"IF(B238=\"\",\"\",SUBTOTAL(3,$B$213:B238))","v":""},{"$f":"IFERROR(INDEX(Main!$Z$3:$Z$223,SMALL(IF((Report!$G$5=Main!$P$3:$P$223),ROW(Main!$P$3:$P$223)-2),ROW(A176))),\"\")","v":""},{"$f":"IFERROR(INDEX(Main!$AD$3:$AD$223,SMALL(IF((Report!$G$5=Main!$P$3:$P$223),ROW(Main!$P$3:$P$223)-2),ROW(A176))),\"\")","v":""},null,{"$f":"IFERROR(INDEX(Main!$M$3:$M$223,SMALL(IF((Report!$G$5=Main!$P$3:$P$223),ROW(Main!$P$3:$P$223)-2),ROW(A176))),\"\")","v":""}]
[{"$f":"IF(B239=\"\",\"\",SUBTOTAL(3,$B$213:B239))","v":""},{"$f":"IFERROR(INDEX(Main!$Z$3:$Z$223,SMALL(IF((Report!$G$5=Main!$P$3:$P$223),ROW(Main!$P$3:$P$223)-2),ROW(A177))),\"\")","v":""},{"$f":"IFERROR(INDEX(Main!$AD$3:$AD$223,SMALL(IF((Report!$G$5=Main!$P$3:$P$223),ROW(Main!$P$3:$P$223)-2),ROW(A177))),\"\")","v":""},null,{"$f":"IFERROR(INDEX(Main!$M$3:$M$223,SMALL(IF((Report!$G$5=Main!$P$3:$P$223),ROW(Main!$P$3:$P$223)-2),ROW(A177))),\"\")","v":""}]
[{"$f":"IF(B240=\"\",\"\",SUBTOTAL(3,$B$213:B240))","v":""},{"$f":"IFERROR(INDEX(Main!$Z$3:$Z$223,SMALL(IF((Report!$G$5=Main!$P$3:$P$223),ROW(Main!$P$3:$P$223)-2),ROW(A178))),\"\")","v":""},{"$f":"IFERROR(INDEX(Main!$AD$3:$AD$223,SMALL(IF((Report!$G$5=Main!$P$3:$P$223),ROW(Main!$P$3:$P$223)-2),ROW(A178))),\"\")","v":""},null,{"$f":"IFERROR(INDEX(Main!$M$3:$M$223,SMALL(IF((Report!$G$5=Main!$P$3:$P$223),ROW(Main!$P$3:$P$223)-2),ROW(A178))),\"\")","v":""}]
[{"$f":"IF(B241=\"\",\"\",SUBTOTAL(3,$B$213:B241))","v":""},{"$f":"IFERROR(INDEX(Main!$Z$3:$Z$223,SMALL(IF((Report!$G$5=Main!$P$3:$P$223),ROW(Main!$P$3:$P$223)-2),ROW(A179))),\"\")","v":""},{"$f":"IFERROR(INDEX(Main!$AD$3:$AD$223,SMALL(IF((Report!$G$5=Main!$P$3:$P$223),ROW(Main!$P$3:$P$223)-2),ROW(A179))),\"\")","v":""},null,{"$f":"IFERROR(INDEX(Main!$M$3:$M$223,SMALL(IF((Report!$G$5=Main!$P$3:$P$223),ROW(Main!$P$3:$P$223)-2),ROW(A179))),\"\")","v":""}]
[{"$f":"IF(B242=\"\",\"\",SUBTOTAL(3,$B$213:B242))","v":""},{"$f":"IFERROR(INDEX(Main!$Z$3:$Z$223,SMALL(IF((Report!$G$5=Main!$P$3:$P$223),ROW(Main!$P$3:$P$223)-2),ROW(A180))),\"\")","v":""},{"$f":"IFERROR(INDEX(Main!$AD$3:$AD$223,SMALL(IF((Report!$G$5=Main!$P$3:$P$223),ROW(Main!$P$3:$P$223)-2),ROW(A180))),\"\")","v":""},null,{"$f":"IFERROR(INDEX(Main!$M$3:$M$223,SMALL(IF((Report!$G$5=Main!$P$3:$P$223),ROW(Main!$P$3:$P$223)-2),ROW(A180))),\"\")","v":""}]
["Total :",null,{"$f":"SUM(C213:C242)","v":0}]
[]
["Guide Signature :…………………………………………………………………………………………………….."]