{"text_format":"1","workbook":"xlsx","n_sheets":5,"sheets":["الرئيسية","رصيد اول","الوارد","المنصرف","الرصيد"],"not_rendered":{"charts":0,"images":5,"macros":1,"external_links":0,"defined_names":4,"comments":0,"pivot_tables":0},"unopened":[],"bounds":{"document_bytes":16777216,"sheet_cells":100000,"rows_first":2000,"rows_last":500,"rows_between":2000,"halvings":0,"cell_chars":16384,"cell_head_chars":4096},"cells_cut":0,"cells_raw":0,"read":"whole","date_system":"1900"}

{"sheet":"الرئيسية","index":0,"n_rows":38,"n_cols":14,"rows_kept":38,"cut":false,"hidden":false,"merged":[[37,1,37,4],[37,5,37,6],[37,7,37,8],[37,10,37,12],[37,13,37,15]]}
[]
[]
[]
[]
[]
[]
[]
[]
[]
[]
[]
[]
[]
[]
[]
[]
[]
[]
[]
[]
[]
[]
[]
[]
[]
[]
[]
[]
[]
[]
[]
[]
[]
[]
[]
[]
[]
[null,"تصميم وبرمجة / محمود عسر",null,null,null,"012-76812553",null,null,null,null,{"$f":"NOW()","v":"2021-03-25T14:28:34.350"},null,null,"برنامج المخازن المتكامل"]

{"sheet":"رصيد اول","index":1,"n_rows":7,"n_cols":4,"rows_kept":7,"cut":false,"hidden":false,"merged":[]}
["الكود","الصنف","رصيد اول المدة","سعر الشراء"]
[60001,"اكسجين",400,15]
[60002,"هيدروسلفيت",1010,25]
[60003,"صودا اش",754,5.2]
[60006,"ملح جلوبر",1630,4]
[60004,"تشرب",120,15]
[60010,"ملح طعام",5000,0.9]

{"sheet":"الوارد","index":2,"n_rows":8,"n_cols":8,"rows_kept":8,"cut":false,"hidden":false,"merged":[]}
["مستند رقم","التاريخ","المورد","الكود","اسم الصنف","الكمية","السعر","القيمة"]
[1,"21/2","سوبر كيم",60001,"اكسجين",500,10,5000]
[2,"2021-03-22","phkslf",60001,"اكسجين",10,15,150]
[3,"2021-03-22","pikpi",60002,"هيدروسلفيت",10,25,250]
[3,"2021-03-22","pikpi",60002,"هيدروسلفيت",10,25,250]
[4,"2021-03-22","kregma",60003,"صودا اش",10,5.2,52]
[5,"2021-03-22","سوبر كيم",60001,"اكسجين",100,15,1500]
[6,"2021-03-22","phksak;",60002,"هيدروسلفيت",10,25,250]

{"sheet":"المنصرف","index":3,"n_rows":4,"n_cols":9,"rows_kept":4,"cut":false,"hidden":false,"merged":[[10000,0,10000,2],[10000,4,10000,5]]}
["مستند رقم","التاريخ","الكود","اسم الصنف","الكمية","السعر","القيمة","اسم الصارف","الماكينة"]
[1,"2021-03-23",60001,"اكسجين",10,15,150]
[2,"2021-03-23",60002,"هيدروسلفيت",20,25,250]
[3,"2021-03-23",60002,"هيدروسلفيت",20,25,250]

{"sheet":"الرصيد","index":4,"n_rows":505,"n_cols":11,"rows_kept":505,"cut":false,"hidden":false,"merged":[[501,0,501,1],[502,0,502,1],[503,0,503,1],[504,0,504,1]]}
["الكود","الصنف","اول المده","قيمة اول المدة","الوارد","قيمة الوارد","المنصرف","قيمة المنصرف","الرصيد","قيمة الرصيد","السعر"]
[{"$f":"'رصيد اول'!A2","v":60001},{"$f":"'رصيد اول'!B2","v":"اكسجين"},{"$f":"SUMIF('رصيد اول'!$A:$B,'رصيد اول'!A2,'رصيد اول'!C:C)","v":400},{"$f":"C2*K2","v":6000},{"$f":"SUMIF(الوارد!$D:$D,الرصيد!A2,الوارد!F:F)","v":610},{"$f":"+E2*K2","v":9150},{"$f":"SUMIF(المنصرف!$C$1:$C$10000,A2,المنصرف!E:E)","v":10},{"$f":"G2*K2","v":150},{"$f":"C2+E2-G2","v":1000},{"$f":"I2*K2","v":15000},{"$f":"'رصيد اول'!D2","v":15}]
[{"$f":"'رصيد اول'!A3","v":60002},{"$f":"'رصيد اول'!B3","v":"هيدروسلفيت"},{"$f":"SUMIF('رصيد اول'!$A:$B,'رصيد اول'!A3,'رصيد اول'!C:C)","v":1010},{"$f":"C3*K3","v":25250},{"$f":"SUMIF(الوارد!$D:$D,الرصيد!A3,الوارد!F:F)","v":30},{"$f":"+E3*K3","v":750},{"$f":"SUMIF(المنصرف!$C$1:$C$10000,A3,المنصرف!E:E)","v":40},{"$f":"G3*K3","v":1000},{"$f":"C3+E3-G3","v":1000},{"$f":"I3*K3","v":25000},{"$f":"'رصيد اول'!D3","v":25}]
[{"$f":"'رصيد اول'!A4","v":60003},{"$f":"'رصيد اول'!B4","v":"صودا اش"},{"$f":"SUMIF('رصيد اول'!$A:$B,'رصيد اول'!A4,'رصيد اول'!C:C)","v":754},{"$f":"C4*K4","v":3920.8},{"$f":"SUMIF(الوارد!$D:$D,الرصيد!A4,الوارد!F:F)","v":10},{"$f":"+E4*K4","v":52},{"$f":"SUMIF(المنصرف!$C$1:$C$10000,A4,المنصرف!E:E)","v":0},{"$f":"G4*K4","v":0},764,{"$f":"I4*K4","v":3972.8},{"$f":"'رصيد اول'!D4","v":5.2}]
[{"$f":"'رصيد اول'!A5","v":60006},{"$f":"'رصيد اول'!B5","v":"ملح جلوبر"},{"$f":"SUMIF('رصيد اول'!$A:$B,'رصيد اول'!A5,'رصيد اول'!C:C)","v":1630},6520,{"$f":"SUMIF(الوارد!$D:$D,الرصيد!A5,الوارد!F:F)","v":0},0,{"$f":"SUMIF(المنصرف!$C$1:$C$10000,A5,المنصرف!E:E)","v":0},0,1630,6520,{"$f":"'رصيد اول'!D5","v":4}]
[{"$f":"'رصيد اول'!A6","v":60004},{"$f":"'رصيد اول'!B6","v":"تشرب"},{"$f":"SUMIF('رصيد اول'!$A:$B,'رصيد اول'!A6,'رصيد اول'!C:C)","v":120},1800,{"$f":"SUMIF(الوارد!$D:$D,الرصيد!A6,الوارد!F:F)","v":0},0,{"$f":"SUMIF(المنصرف!$C$1:$C$10000,A6,المنصرف!E:E)","v":0},0,120,1800,{"$f":"'رصيد اول'!D6","v":15}]
[{"$f":"'رصيد اول'!A7","v":60010},{"$f":"'رصيد اول'!B7","v":"ملح طعام"},{"$f":"SUMIF('رصيد اول'!$A:$B,'رصيد اول'!A7,'رصيد اول'!C:C)","v":5000},4500,{"$f":"SUMIF(الوارد!$D:$D,الرصيد!A7,الوارد!F:F)","v":0},0,{"$f":"SUMIF(المنصرف!$C$1:$C$10000,A7,المنصرف!E:E)","v":0},0,5000,4500,{"$f":"'رصيد اول'!D7","v":0.9}]
[{"$f":"'رصيد اول'!A8","v":0},{"$f":"'رصيد اول'!B8","v":0},{"$f":"SUMIF('رصيد اول'!$A:$B,'رصيد اول'!A8,'رصيد اول'!C:C)","v":0},0,{"$f":"SUMIF(الوارد!$D:$D,الرصيد!A8,الوارد!F:F)","v":0},0,{"$f":"SUMIF(المنصرف!$C$1:$C$10000,A8,المنصرف!E:E)","v":0},0,0,0,{"$f":"'رصيد اول'!D8","v":0}]
[{"$f":"'رصيد اول'!A9","v":0},{"$f":"'رصيد اول'!B9","v":0},{"$f":"SUMIF('رصيد اول'!$A:$B,'رصيد اول'!A9,'رصيد اول'!C:C)","v":0},0,{"$f":"SUMIF(الوارد!$D:$D,الرصيد!A9,الوارد!F:F)","v":0},0,{"$f":"SUMIF(المنصرف!$C$1:$C$10000,A9,المنصرف!E:E)","v":0},0,0,0,{"$f":"'رصيد اول'!D9","v":0}]
[{"$f":"'رصيد اول'!A10","v":0},{"$f":"'رصيد اول'!B10","v":0},{"$f":"SUMIF('رصيد اول'!$A:$B,'رصيد اول'!A10,'رصيد اول'!C:C)","v":0},0,{"$f":"SUMIF(الوارد!$D:$D,الرصيد!A10,الوارد!F:F)","v":0},0,{"$f":"SUMIF(المنصرف!$C$1:$C$10000,A10,المنصرف!E:E)","v":0},0,0,0,{"$f":"'رصيد اول'!D10","v":0}]
[{"$f":"'رصيد اول'!A11","v":0},{"$f":"'رصيد اول'!B11","v":0},{"$f":"SUMIF('رصيد اول'!$A:$B,'رصيد اول'!A11,'رصيد اول'!C:C)","v":0},0,{"$f":"SUMIF(الوارد!$D:$D,الرصيد!A11,الوارد!F:F)","v":0},0,{"$f":"SUMIF(المنصرف!$C$1:$C$10000,A11,المنصرف!E:E)","v":0},0,0,0,{"$f":"'رصيد اول'!D11","v":0}]
[{"$f":"'رصيد اول'!A12","v":0},{"$f":"'رصيد اول'!B12","v":0},{"$f":"SUMIF('رصيد اول'!$A:$B,'رصيد اول'!A12,'رصيد اول'!C:C)","v":0},0,{"$f":"SUMIF(الوارد!$D:$D,الرصيد!A12,الوارد!F:F)","v":0},0,{"$f":"SUMIF(المنصرف!$C$1:$C$10000,A12,المنصرف!E:E)","v":0},0,0,0,{"$f":"'رصيد اول'!D12","v":0}]
[{"$f":"'رصيد اول'!A13","v":0},{"$f":"'رصيد اول'!B13","v":0},{"$f":"SUMIF('رصيد اول'!$A:$B,'رصيد اول'!A13,'رصيد اول'!C:C)","v":0},0,{"$f":"SUMIF(الوارد!$D:$D,الرصيد!A13,الوارد!F:F)","v":0},0,{"$f":"SUMIF(المنصرف!$C$1:$C$10000,A13,المنصرف!E:E)","v":0},0,0,0,{"$f":"'رصيد اول'!D13","v":0}]
[{"$f":"'رصيد اول'!A14","v":0},{"$f":"'رصيد اول'!B14","v":0},{"$f":"SUMIF('رصيد اول'!$A:$B,'رصيد اول'!A14,'رصيد اول'!C:C)","v":0},0,{"$f":"SUMIF(الوارد!$D:$D,الرصيد!A14,الوارد!F:F)","v":0},0,{"$f":"SUMIF(المنصرف!$C$1:$C$10000,A14,المنصرف!E:E)","v":0},0,0,0,{"$f":"'رصيد اول'!D14","v":0}]
[{"$f":"'رصيد اول'!A15","v":0},{"$f":"'رصيد اول'!B15","v":0},{"$f":"SUMIF('رصيد اول'!$A:$B,'رصيد اول'!A15,'رصيد اول'!C:C)","v":0},0,{"$f":"SUMIF(الوارد!$D:$D,الرصيد!A15,الوارد!F:F)","v":0},0,{"$f":"SUMIF(المنصرف!$C$1:$C$10000,A15,المنصرف!E:E)","v":0},0,0,0,{"$f":"'رصيد اول'!D15","v":0}]
[{"$f":"'رصيد اول'!A16","v":0},{"$f":"'رصيد اول'!B16","v":0},{"$f":"SUMIF('رصيد اول'!$A:$B,'رصيد اول'!A16,'رصيد اول'!C:C)","v":0},0,{"$f":"SUMIF(الوارد!$D:$D,الرصيد!A16,الوارد!F:F)","v":0},0,{"$f":"SUMIF(المنصرف!$C$1:$C$10000,A16,المنصرف!E:E)","v":0},0,0,0,{"$f":"'رصيد اول'!D16","v":0}]
[{"$f":"'رصيد اول'!A17","v":0},{"$f":"'رصيد اول'!B17","v":0},{"$f":"SUMIF('رصيد اول'!$A:$B,'رصيد اول'!A17,'رصيد اول'!C:C)","v":0},0,{"$f":"SUMIF(الوارد!$D:$D,الرصيد!A17,الوارد!F:F)","v":0},0,{"$f":"SUMIF(المنصرف!$C$1:$C$10000,A17,المنصرف!E:E)","v":0},0,0,0,{"$f":"'رصيد اول'!D17","v":0}]
[{"$f":"'رصيد اول'!A18","v":0},{"$f":"'رصيد اول'!B18","v":0},{"$f":"SUMIF('رصيد اول'!$A:$B,'رصيد اول'!A18,'رصيد اول'!C:C)","v":0},0,{"$f":"SUMIF(الوارد!$D:$D,الرصيد!A18,الوارد!F:F)","v":0},0,{"$f":"SUMIF(المنصرف!$C$1:$C$10000,A18,المنصرف!E:E)","v":0},0,0,0,{"$f":"'رصيد اول'!D18","v":0}]
[{"$f":"'رصيد اول'!A19","v":0},{"$f":"'رصيد اول'!B19","v":0},{"$f":"SUMIF('رصيد اول'!$A:$B,'رصيد اول'!A19,'رصيد اول'!C:C)","v":0},0,{"$f":"SUMIF(الوارد!$D:$D,الرصيد!A19,الوارد!F:F)","v":0},0,{"$f":"SUMIF(المنصرف!$C$1:$C$10000,A19,المنصرف!E:E)","v":0},0,0,0,{"$f":"'رصيد اول'!D19","v":0}]
[{"$f":"'رصيد اول'!A20","v":0},{"$f":"'رصيد اول'!B20","v":0},{"$f":"SUMIF('رصيد اول'!$A:$B,'رصيد اول'!A20,'رصيد اول'!C:C)","v":0},0,{"$f":"SUMIF(الوارد!$D:$D,الرصيد!A20,الوارد!F:F)","v":0},0,{"$f":"SUMIF(المنصرف!$C$1:$C$10000,A20,المنصرف!E:E)","v":0},0,0,0,{"$f":"'رصيد اول'!D20","v":0}]
[{"$f":"'رصيد اول'!A21","v":0},{"$f":"'رصيد اول'!B21","v":0},{"$f":"SUMIF('رصيد اول'!$A:$B,'رصيد اول'!A21,'رصيد اول'!C:C)","v":0},0,{"$f":"SUMIF(الوارد!$D:$D,الرصيد!A21,الوارد!F:F)","v":0},0,{"$f":"SUMIF(المنصرف!$C$1:$C$10000,A21,المنصرف!E:E)","v":0},0,0,0,{"$f":"'رصيد اول'!D21","v":0}]
[{"$f":"'رصيد اول'!A22","v":0},{"$f":"'رصيد اول'!B22","v":0},{"$f":"SUMIF('رصيد اول'!$A:$B,'رصيد اول'!A22,'رصيد اول'!C:C)","v":0},0,{"$f":"SUMIF(الوارد!$D:$D,الرصيد!A22,الوارد!F:F)","v":0},0,{"$f":"SUMIF(المنصرف!$C$1:$C$10000,A22,المنصرف!E:E)","v":0},0,0,0,{"$f":"'رصيد اول'!D22","v":0}]
[{"$f":"'رصيد اول'!A23","v":0},{"$f":"'رصيد اول'!B23","v":0},{"$f":"SUMIF('رصيد اول'!$A:$B,'رصيد اول'!A23,'رصيد اول'!C:C)","v":0},0,{"$f":"SUMIF(الوارد!$D:$D,الرصيد!A23,الوارد!F:F)","v":0},0,{"$f":"SUMIF(المنصرف!$C$1:$C$10000,A23,المنصرف!E:E)","v":0},0,0,0,{"$f":"'رصيد اول'!D23","v":0}]
[{"$f":"'رصيد اول'!A24","v":0},{"$f":"'رصيد اول'!B24","v":0},{"$f":"SUMIF('رصيد اول'!$A:$B,'رصيد اول'!A24,'رصيد اول'!C:C)","v":0},0,{"$f":"SUMIF(الوارد!$D:$D,الرصيد!A24,الوارد!F:F)","v":0},0,{"$f":"SUMIF(المنصرف!$C$1:$C$10000,A24,المنصرف!E:E)","v":0},0,0,0,{"$f":"'رصيد اول'!D24","v":0}]
[{"$f":"'رصيد اول'!A25","v":0},{"$f":"'رصيد اول'!B25","v":0},{"$f":"SUMIF('رصيد اول'!$A:$B,'رصيد اول'!A25,'رصيد اول'!C:C)","v":0},0,{"$f":"SUMIF(الوارد!$D:$D,الرصيد!A25,الوارد!F:F)","v":0},0,{"$f":"SUMIF(المنصرف!$C$1:$C$10000,A25,المنصرف!E:E)","v":0},0,0,0,{"$f":"'رصيد اول'!D25","v":0}]
[{"$f":"'رصيد اول'!A26","v":0},{"$f":"'رصيد اول'!B26","v":0},{"$f":"SUMIF('رصيد اول'!$A:$B,'رصيد اول'!A26,'رصيد اول'!C:C)","v":0},0,{"$f":"SUMIF(الوارد!$D:$D,الرصيد!A26,الوارد!F:F)","v":0},0,{"$f":"SUMIF(المنصرف!$C$1:$C$10000,A26,المنصرف!E:E)","v":0},0,0,0,{"$f":"'رصيد اول'!D26","v":0}]
[{"$f":"'رصيد اول'!A27","v":0},{"$f":"'رصيد اول'!B27","v":0},{"$f":"SUMIF('رصيد اول'!$A:$B,'رصيد اول'!A27,'رصيد اول'!C:C)","v":0},0,{"$f":"SUMIF(الوارد!$D:$D,الرصيد!A27,الوارد!F:F)","v":0},0,{"$f":"SUMIF(المنصرف!$C$1:$C$10000,A27,المنصرف!E:E)","v":0},0,0,0,{"$f":"'رصيد اول'!D27","v":0}]
[{"$f":"'رصيد اول'!A28","v":0},{"$f":"'رصيد اول'!B28","v":0},{"$f":"SUMIF('رصيد اول'!$A:$B,'رصيد اول'!A28,'رصيد اول'!C:C)","v":0},0,{"$f":"SUMIF(الوارد!$D:$D,الرصيد!A28,الوارد!F:F)","v":0},0,{"$f":"SUMIF(المنصرف!$C$1:$C$10000,A28,المنصرف!E:E)","v":0},0,0,0,{"$f":"'رصيد اول'!D28","v":0}]
[{"$f":"'رصيد اول'!A29","v":0},{"$f":"'رصيد اول'!B29","v":0},{"$f":"SUMIF('رصيد اول'!$A:$B,'رصيد اول'!A29,'رصيد اول'!C:C)","v":0},0,{"$f":"SUMIF(الوارد!$D:$D,الرصيد!A29,الوارد!F:F)","v":0},0,{"$f":"SUMIF(المنصرف!$C$1:$C$10000,A29,المنصرف!E:E)","v":0},0,0,0,{"$f":"'رصيد اول'!D29","v":0}]
[{"$f":"'رصيد اول'!A30","v":0},{"$f":"'رصيد اول'!B30","v":0},{"$f":"SUMIF('رصيد اول'!$A:$B,'رصيد اول'!A30,'رصيد اول'!C:C)","v":0},0,{"$f":"SUMIF(الوارد!$D:$D,الرصيد!A30,الوارد!F:F)","v":0},0,{"$f":"SUMIF(المنصرف!$C$1:$C$10000,A30,المنصرف!E:E)","v":0},0,0,0,{"$f":"'رصيد اول'!D30","v":0}]
[{"$f":"'رصيد اول'!A31","v":0},{"$f":"'رصيد اول'!B31","v":0},{"$f":"SUMIF('رصيد اول'!$A:$B,'رصيد اول'!A31,'رصيد اول'!C:C)","v":0},0,{"$f":"SUMIF(الوارد!$D:$D,الرصيد!A31,الوارد!F:F)","v":0},0,{"$f":"SUMIF(المنصرف!$C$1:$C$10000,A31,المنصرف!E:E)","v":0},0,0,0,{"$f":"'رصيد اول'!D31","v":0}]
[{"$f":"'رصيد اول'!A32","v":0},{"$f":"'رصيد اول'!B32","v":0},{"$f":"SUMIF('رصيد اول'!$A:$B,'رصيد اول'!A32,'رصيد اول'!C:C)","v":0},0,{"$f":"SUMIF(الوارد!$D:$D,الرصيد!A32,الوارد!F:F)","v":0},0,{"$f":"SUMIF(المنصرف!$C$1:$C$10000,A32,المنصرف!E:E)","v":0},0,0,0,{"$f":"'رصيد اول'!D32","v":0}]
[{"$f":"'رصيد اول'!A33","v":0},{"$f":"'رصيد اول'!B33","v":0},{"$f":"SUMIF('رصيد اول'!$A:$B,'رصيد اول'!A33,'رصيد اول'!C:C)","v":0},0,{"$f":"SUMIF(الوارد!$D:$D,الرصيد!A33,الوارد!F:F)","v":0},0,{"$f":"SUMIF(المنصرف!$C$1:$C$10000,A33,المنصرف!E:E)","v":0},0,0,0,{"$f":"'رصيد اول'!D33","v":0}]
[{"$f":"'رصيد اول'!A34","v":0},{"$f":"'رصيد اول'!B34","v":0},{"$f":"SUMIF('رصيد اول'!$A:$B,'رصيد اول'!A34,'رصيد اول'!C:C)","v":0},0,{"$f":"SUMIF(الوارد!$D:$D,الرصيد!A34,الوارد!F:F)","v":0},0,{"$f":"SUMIF(المنصرف!$C$1:$C$10000,A34,المنصرف!E:E)","v":0},0,0,0,{"$f":"'رصيد اول'!D34","v":0}]
[{"$f":"'رصيد اول'!A35","v":0},{"$f":"'رصيد اول'!B35","v":0},{"$f":"SUMIF('رصيد اول'!$A:$B,'رصيد اول'!A35,'رصيد اول'!C:C)","v":0},0,{"$f":"SUMIF(الوارد!$D:$D,الرصيد!A35,الوارد!F:F)","v":0},0,{"$f":"SUMIF(المنصرف!$C$1:$C$10000,A35,المنصرف!E:E)","v":0},0,0,0,{"$f":"'رصيد اول'!D35","v":0}]
[{"$f":"'رصيد اول'!A36","v":0},{"$f":"'رصيد اول'!B36","v":0},{"$f":"SUMIF('رصيد اول'!$A:$B,'رصيد اول'!A36,'رصيد اول'!C:C)","v":0},0,{"$f":"SUMIF(الوارد!$D:$D,الرصيد!A36,الوارد!F:F)","v":0},0,{"$f":"SUMIF(المنصرف!$C$1:$C$10000,A36,المنصرف!E:E)","v":0},0,0,0,{"$f":"'رصيد اول'!D36","v":0}]
[{"$f":"'رصيد اول'!A37","v":0},{"$f":"'رصيد اول'!B37","v":0},{"$f":"SUMIF('رصيد اول'!$A:$B,'رصيد اول'!A37,'رصيد اول'!C:C)","v":0},0,{"$f":"SUMIF(الوارد!$D:$D,الرصيد!A37,الوارد!F:F)","v":0},0,{"$f":"SUMIF(المنصرف!$C$1:$C$10000,A37,المنصرف!E:E)","v":0},0,0,0,{"$f":"'رصيد اول'!D37","v":0}]
[{"$f":"'رصيد اول'!A38","v":0},{"$f":"'رصيد اول'!B38","v":0},{"$f":"SUMIF('رصيد اول'!$A:$B,'رصيد اول'!A38,'رصيد اول'!C:C)","v":0},0,{"$f":"SUMIF(الوارد!$D:$D,الرصيد!A38,الوارد!F:F)","v":0},0,{"$f":"SUMIF(المنصرف!$C$1:$C$10000,A38,المنصرف!E:E)","v":0},0,0,0,{"$f":"'رصيد اول'!D38","v":0}]
[{"$f":"'رصيد اول'!A39","v":0},{"$f":"'رصيد اول'!B39","v":0},{"$f":"SUMIF('رصيد اول'!$A:$B,'رصيد اول'!A39,'رصيد اول'!C:C)","v":0},0,{"$f":"SUMIF(الوارد!$D:$D,الرصيد!A39,الوارد!F:F)","v":0},0,{"$f":"SUMIF(المنصرف!$C$1:$C$10000,A39,المنصرف!E:E)","v":0},0,0,0,{"$f":"'رصيد اول'!D39","v":0}]
[{"$f":"'رصيد اول'!A40","v":0},{"$f":"'رصيد اول'!B40","v":0},{"$f":"SUMIF('رصيد اول'!$A:$B,'رصيد اول'!A40,'رصيد اول'!C:C)","v":0},0,{"$f":"SUMIF(الوارد!$D:$D,الرصيد!A40,الوارد!F:F)","v":0},0,{"$f":"SUMIF(المنصرف!$C$1:$C$10000,A40,المنصرف!E:E)","v":0},0,0,0,{"$f":"'رصيد اول'!D40","v":0}]
[{"$f":"'رصيد اول'!A41","v":0},{"$f":"'رصيد اول'!B41","v":0},{"$f":"SUMIF('رصيد اول'!$A:$B,'رصيد اول'!A41,'رصيد اول'!C:C)","v":0},0,{"$f":"SUMIF(الوارد!$D:$D,الرصيد!A41,الوارد!F:F)","v":0},0,{"$f":"SUMIF(المنصرف!$C$1:$C$10000,A41,المنصرف!E:E)","v":0},0,0,0,{"$f":"'رصيد اول'!D41","v":0}]
[{"$f":"'رصيد اول'!A42","v":0},{"$f":"'رصيد اول'!B42","v":0},{"$f":"SUMIF('رصيد اول'!$A:$B,'رصيد اول'!A42,'رصيد اول'!C:C)","v":0},0,{"$f":"SUMIF(الوارد!$D:$D,الرصيد!A42,الوارد!F:F)","v":0},0,{"$f":"SUMIF(المنصرف!$C$1:$C$10000,A42,المنصرف!E:E)","v":0},0,0,0,{"$f":"'رصيد اول'!D42","v":0}]
[{"$f":"'رصيد اول'!A43","v":0},{"$f":"'رصيد اول'!B43","v":0},{"$f":"SUMIF('رصيد اول'!$A:$B,'رصيد اول'!A43,'رصيد اول'!C:C)","v":0},0,{"$f":"SUMIF(الوارد!$D:$D,الرصيد!A43,الوارد!F:F)","v":0},0,{"$f":"SUMIF(المنصرف!$C$1:$C$10000,A43,المنصرف!E:E)","v":0},0,0,0,{"$f":"'رصيد اول'!D43","v":0}]
[{"$f":"'رصيد اول'!A44","v":0},{"$f":"'رصيد اول'!B44","v":0},{"$f":"SUMIF('رصيد اول'!$A:$B,'رصيد اول'!A44,'رصيد اول'!C:C)","v":0},0,{"$f":"SUMIF(الوارد!$D:$D,الرصيد!A44,الوارد!F:F)","v":0},0,{"$f":"SUMIF(المنصرف!$C$1:$C$10000,A44,المنصرف!E:E)","v":0},0,0,0,{"$f":"'رصيد اول'!D44","v":0}]
[{"$f":"'رصيد اول'!A45","v":0},{"$f":"'رصيد اول'!B45","v":0},{"$f":"SUMIF('رصيد اول'!$A:$B,'رصيد اول'!A45,'رصيد اول'!C:C)","v":0},0,{"$f":"SUMIF(الوارد!$D:$D,الرصيد!A45,الوارد!F:F)","v":0},0,{"$f":"SUMIF(المنصرف!$C$1:$C$10000,A45,المنصرف!E:E)","v":0},0,0,0,{"$f":"'رصيد اول'!D45","v":0}]
[{"$f":"'رصيد اول'!A46","v":0},{"$f":"'رصيد اول'!B46","v":0},{"$f":"SUMIF('رصيد اول'!$A:$B,'رصيد اول'!A46,'رصيد اول'!C:C)","v":0},0,{"$f":"SUMIF(الوارد!$D:$D,الرصيد!A46,الوارد!F:F)","v":0},0,{"$f":"SUMIF(المنصرف!$C$1:$C$10000,A46,المنصرف!E:E)","v":0},0,0,0,{"$f":"'رصيد اول'!D46","v":0}]
[{"$f":"'رصيد اول'!A47","v":0},{"$f":"'رصيد اول'!B47","v":0},{"$f":"SUMIF('رصيد اول'!$A:$B,'رصيد اول'!A47,'رصيد اول'!C:C)","v":0},0,{"$f":"SUMIF(الوارد!$D:$D,الرصيد!A47,الوارد!F:F)","v":0},0,{"$f":"SUMIF(المنصرف!$C$1:$C$10000,A47,المنصرف!E:E)","v":0},0,0,0,{"$f":"'رصيد اول'!D47","v":0}]
[{"$f":"'رصيد اول'!A48","v":0},{"$f":"'رصيد اول'!B48","v":0},{"$f":"SUMIF('رصيد اول'!$A:$B,'رصيد اول'!A48,'رصيد اول'!C:C)","v":0},0,{"$f":"SUMIF(الوارد!$D:$D,الرصيد!A48,الوارد!F:F)","v":0},0,{"$f":"SUMIF(المنصرف!$C$1:$C$10000,A48,المنصرف!E:E)","v":0},0,0,0,{"$f":"'رصيد اول'!D48","v":0}]
[{"$f":"'رصيد اول'!A49","v":0},{"$f":"'رصيد اول'!B49","v":0},{"$f":"SUMIF('رصيد اول'!$A:$B,'رصيد اول'!A49,'رصيد اول'!C:C)","v":0},0,{"$f":"SUMIF(الوارد!$D:$D,الرصيد!A49,الوارد!F:F)","v":0},0,{"$f":"SUMIF(المنصرف!$C$1:$C$10000,A49,المنصرف!E:E)","v":0},0,0,0,{"$f":"'رصيد اول'!D49","v":0}]
[{"$f":"'رصيد اول'!A50","v":0},{"$f":"'رصيد اول'!B50","v":0},{"$f":"SUMIF('رصيد اول'!$A:$B,'رصيد اول'!A50,'رصيد اول'!C:C)","v":0},0,{"$f":"SUMIF(الوارد!$D:$D,الرصيد!A50,الوارد!F:F)","v":0},0,{"$f":"SUMIF(المنصرف!$C$1:$C$10000,A50,المنصرف!E:E)","v":0},0,0,0,{"$f":"'رصيد اول'!D50","v":0}]
[{"$f":"'رصيد اول'!A51","v":0},{"$f":"'رصيد اول'!B51","v":0},{"$f":"SUMIF('رصيد اول'!$A:$B,'رصيد اول'!A51,'رصيد اول'!C:C)","v":0},0,{"$f":"SUMIF(الوارد!$D:$D,الرصيد!A51,الوارد!F:F)","v":0},0,{"$f":"SUMIF(المنصرف!$C$1:$C$10000,A51,المنصرف!E:E)","v":0},0,0,0,{"$f":"'رصيد اول'!D51","v":0}]
[{"$f":"'رصيد اول'!A52","v":0},{"$f":"'رصيد اول'!B52","v":0},{"$f":"SUMIF('رصيد اول'!$A:$B,'رصيد اول'!A52,'رصيد اول'!C:C)","v":0},0,{"$f":"SUMIF(الوارد!$D:$D,الرصيد!A52,الوارد!F:F)","v":0},0,{"$f":"SUMIF(المنصرف!$C$1:$C$10000,A52,المنصرف!E:E)","v":0},0,0,0,{"$f":"'رصيد اول'!D52","v":0}]
[{"$f":"'رصيد اول'!A53","v":0},{"$f":"'رصيد اول'!B53","v":0},{"$f":"SUMIF('رصيد اول'!$A:$B,'رصيد اول'!A53,'رصيد اول'!C:C)","v":0},0,{"$f":"SUMIF(الوارد!$D:$D,الرصيد!A53,الوارد!F:F)","v":0},0,{"$f":"SUMIF(المنصرف!$C$1:$C$10000,A53,المنصرف!E:E)","v":0},0,0,0,{"$f":"'رصيد اول'!D53","v":0}]
[{"$f":"'رصيد اول'!A54","v":0},{"$f":"'رصيد اول'!B54","v":0},{"$f":"SUMIF('رصيد اول'!$A:$B,'رصيد اول'!A54,'رصيد اول'!C:C)","v":0},0,{"$f":"SUMIF(الوارد!$D:$D,الرصيد!A54,الوارد!F:F)","v":0},0,{"$f":"SUMIF(المنصرف!$C$1:$C$10000,A54,المنصرف!E:E)","v":0},0,0,0,{"$f":"'رصيد اول'!D54","v":0}]
[{"$f":"'رصيد اول'!A55","v":0},{"$f":"'رصيد اول'!B55","v":0},{"$f":"SUMIF('رصيد اول'!$A:$B,'رصيد اول'!A55,'رصيد اول'!C:C)","v":0},0,{"$f":"SUMIF(الوارد!$D:$D,الرصيد!A55,الوارد!F:F)","v":0},0,{"$f":"SUMIF(المنصرف!$C$1:$C$10000,A55,المنصرف!E:E)","v":0},0,0,0,{"$f":"'رصيد اول'!D55","v":0}]
[{"$f":"'رصيد اول'!A56","v":0},{"$f":"'رصيد اول'!B56","v":0},{"$f":"SUMIF('رصيد اول'!$A:$B,'رصيد اول'!A56,'رصيد اول'!C:C)","v":0},0,{"$f":"SUMIF(الوارد!$D:$D,الرصيد!A56,الوارد!F:F)","v":0},0,{"$f":"SUMIF(المنصرف!$C$1:$C$10000,A56,المنصرف!E:E)","v":0},0,0,0,{"$f":"'رصيد اول'!D56","v":0}]
[{"$f":"'رصيد اول'!A57","v":0},{"$f":"'رصيد اول'!B57","v":0},{"$f":"SUMIF('رصيد اول'!$A:$B,'رصيد اول'!A57,'رصيد اول'!C:C)","v":0},0,{"$f":"SUMIF(الوارد!$D:$D,الرصيد!A57,الوارد!F:F)","v":0},0,{"$f":"SUMIF(المنصرف!$C$1:$C$10000,A57,المنصرف!E:E)","v":0},0,0,0,{"$f":"'رصيد اول'!D57","v":0}]
[{"$f":"'رصيد اول'!A58","v":0},{"$f":"'رصيد اول'!B58","v":0},{"$f":"SUMIF('رصيد اول'!$A:$B,'رصيد اول'!A58,'رصيد اول'!C:C)","v":0},0,{"$f":"SUMIF(الوارد!$D:$D,الرصيد!A58,الوارد!F:F)","v":0},0,{"$f":"SUMIF(المنصرف!$C$1:$C$10000,A58,المنصرف!E:E)","v":0},0,0,0,{"$f":"'رصيد اول'!D58","v":0}]
[{"$f":"'رصيد اول'!A59","v":0},{"$f":"'رصيد اول'!B59","v":0},{"$f":"SUMIF('رصيد اول'!$A:$B,'رصيد اول'!A59,'رصيد اول'!C:C)","v":0},0,{"$f":"SUMIF(الوارد!$D:$D,الرصيد!A59,الوارد!F:F)","v":0},0,{"$f":"SUMIF(المنصرف!$C$1:$C$10000,A59,المنصرف!E:E)","v":0},0,0,0,{"$f":"'رصيد اول'!D59","v":0}]
[{"$f":"'رصيد اول'!A60","v":0},{"$f":"'رصيد اول'!B60","v":0},{"$f":"SUMIF('رصيد اول'!$A:$B,'رصيد اول'!A60,'رصيد اول'!C:C)","v":0},0,{"$f":"SUMIF(الوارد!$D:$D,الرصيد!A60,الوارد!F:F)","v":0},0,{"$f":"SUMIF(المنصرف!$C$1:$C$10000,A60,المنصرف!E:E)","v":0},0,0,0,{"$f":"'رصيد اول'!D60","v":0}]
[{"$f":"'رصيد اول'!A61","v":0},{"$f":"'رصيد اول'!B61","v":0},{"$f":"SUMIF('رصيد اول'!$A:$B,'رصيد اول'!A61,'رصيد اول'!C:C)","v":0},0,{"$f":"SUMIF(الوارد!$D:$D,الرصيد!A61,الوارد!F:F)","v":0},0,{"$f":"SUMIF(المنصرف!$C$1:$C$10000,A61,المنصرف!E:E)","v":0},0,0,0,{"$f":"'رصيد اول'!D61","v":0}]
[{"$f":"'رصيد اول'!A62","v":0},{"$f":"'رصيد اول'!B62","v":0},{"$f":"SUMIF('رصيد اول'!$A:$B,'رصيد اول'!A62,'رصيد اول'!C:C)","v":0},0,{"$f":"SUMIF(الوارد!$D:$D,الرصيد!A62,الوارد!F:F)","v":0},0,{"$f":"SUMIF(المنصرف!$C$1:$C$10000,A62,المنصرف!E:E)","v":0},0,0,0,{"$f":"'رصيد اول'!D62","v":0}]
[{"$f":"'رصيد اول'!A63","v":0},{"$f":"'رصيد اول'!B63","v":0},{"$f":"SUMIF('رصيد اول'!$A:$B,'رصيد اول'!A63,'رصيد اول'!C:C)","v":0},0,{"$f":"SUMIF(الوارد!$D:$D,الرصيد!A63,الوارد!F:F)","v":0},0,{"$f":"SUMIF(المنصرف!$C$1:$C$10000,A63,المنصرف!E:E)","v":0},0,0,0,{"$f":"'رصيد اول'!D63","v":0}]
[{"$f":"'رصيد اول'!A64","v":0},{"$f":"'رصيد اول'!B64","v":0},{"$f":"SUMIF('رصيد اول'!$A:$B,'رصيد اول'!A64,'رصيد اول'!C:C)","v":0},0,{"$f":"SUMIF(الوارد!$D:$D,الرصيد!A64,الوارد!F:F)","v":0},0,{"$f":"SUMIF(المنصرف!$C$1:$C$10000,A64,المنصرف!E:E)","v":0},0,0,0,{"$f":"'رصيد اول'!D64","v":0}]
[{"$f":"'رصيد اول'!A65","v":0},{"$f":"'رصيد اول'!B65","v":0},{"$f":"SUMIF('رصيد اول'!$A:$B,'رصيد اول'!A65,'رصيد اول'!C:C)","v":0},0,{"$f":"SUMIF(الوارد!$D:$D,الرصيد!A65,الوارد!F:F)","v":0},0,{"$f":"SUMIF(المنصرف!$C$1:$C$10000,A65,المنصرف!E:E)","v":0},0,0,0,{"$f":"'رصيد اول'!D65","v":0}]
[{"$f":"'رصيد اول'!A66","v":0},{"$f":"'رصيد اول'!B66","v":0},{"$f":"SUMIF('رصيد اول'!$A:$B,'رصيد اول'!A66,'رصيد اول'!C:C)","v":0},0,{"$f":"SUMIF(الوارد!$D:$D,الرصيد!A66,الوارد!F:F)","v":0},0,{"$f":"SUMIF(المنصرف!$C$1:$C$10000,A66,المنصرف!E:E)","v":0},0,0,0,{"$f":"'رصيد اول'!D66","v":0}]
[{"$f":"'رصيد اول'!A67","v":0},{"$f":"'رصيد اول'!B67","v":0},{"$f":"SUMIF('رصيد اول'!$A:$B,'رصيد اول'!A67,'رصيد اول'!C:C)","v":0},0,{"$f":"SUMIF(الوارد!$D:$D,الرصيد!A67,الوارد!F:F)","v":0},0,{"$f":"SUMIF(المنصرف!$C$1:$C$10000,A67,المنصرف!E:E)","v":0},0,{"$f":"C67+E67-G67","v":0},0,{"$f":"'رصيد اول'!D67","v":0}]
[{"$f":"'رصيد اول'!A68","v":0},{"$f":"'رصيد اول'!B68","v":0},{"$f":"SUMIF('رصيد اول'!$A:$B,'رصيد اول'!A68,'رصيد اول'!C:C)","v":0},{"$f":"C68*K68","v":0},{"$f":"SUMIF(الوارد!$D:$D,الرصيد!A68,الوارد!F:F)","v":0},{"$f":"+E68*K68","v":0},{"$f":"SUMIF(المنصرف!$C$1:$C$10000,A68,المنصرف!E:E)","v":0},{"$f":"G68*K68","v":0},0,{"$f":"I68*K68","v":0},{"$f":"'رصيد اول'!D68","v":0}]
[{"$f":"'رصيد اول'!A69","v":0},{"$f":"'رصيد اول'!B69","v":0},{"$f":"SUMIF('رصيد اول'!$A:$B,'رصيد اول'!A69,'رصيد اول'!C:C)","v":0},0,{"$f":"SUMIF(الوارد!$D:$D,الرصيد!A69,الوارد!F:F)","v":0},0,{"$f":"SUMIF(المنصرف!$C$1:$C$10000,A69,المنصرف!E:E)","v":0},0,0,0,{"$f":"'رصيد اول'!D69","v":0}]
[{"$f":"'رصيد اول'!A70","v":0},{"$f":"'رصيد اول'!B70","v":0},{"$f":"SUMIF('رصيد اول'!$A:$B,'رصيد اول'!A70,'رصيد اول'!C:C)","v":0},0,{"$f":"SUMIF(الوارد!$D:$D,الرصيد!A70,الوارد!F:F)","v":0},0,{"$f":"SUMIF(المنصرف!$C$1:$C$10000,A70,المنصرف!E:E)","v":0},0,0,0,{"$f":"'رصيد اول'!D70","v":0}]
[{"$f":"'رصيد اول'!A71","v":0},{"$f":"'رصيد اول'!B71","v":0},{"$f":"SUMIF('رصيد اول'!$A:$B,'رصيد اول'!A71,'رصيد اول'!C:C)","v":0},0,{"$f":"SUMIF(الوارد!$D:$D,الرصيد!A71,الوارد!F:F)","v":0},0,{"$f":"SUMIF(المنصرف!$C$1:$C$10000,A71,المنصرف!E:E)","v":0},0,0,0,{"$f":"'رصيد اول'!D71","v":0}]
[{"$f":"'رصيد اول'!A72","v":0},{"$f":"'رصيد اول'!B72","v":0},{"$f":"SUMIF('رصيد اول'!$A:$B,'رصيد اول'!A72,'رصيد اول'!C:C)","v":0},0,{"$f":"SUMIF(الوارد!$D:$D,الرصيد!A72,الوارد!F:F)","v":0},0,{"$f":"SUMIF(المنصرف!$C$1:$C$10000,A72,المنصرف!E:E)","v":0},0,0,0,{"$f":"'رصيد اول'!D72","v":0}]
[{"$f":"'رصيد اول'!A73","v":0},{"$f":"'رصيد اول'!B73","v":0},{"$f":"SUMIF('رصيد اول'!$A:$B,'رصيد اول'!A73,'رصيد اول'!C:C)","v":0},0,{"$f":"SUMIF(الوارد!$D:$D,الرصيد!A73,الوارد!F:F)","v":0},0,{"$f":"SUMIF(المنصرف!$C$1:$C$10000,A73,المنصرف!E:E)","v":0},0,0,0,{"$f":"'رصيد اول'!D73","v":0}]
[{"$f":"'رصيد اول'!A74","v":0},{"$f":"'رصيد اول'!B74","v":0},{"$f":"SUMIF('رصيد اول'!$A:$B,'رصيد اول'!A74,'رصيد اول'!C:C)","v":0},0,{"$f":"SUMIF(الوارد!$D:$D,الرصيد!A74,الوارد!F:F)","v":0},0,{"$f":"SUMIF(المنصرف!$C$1:$C$10000,A74,المنصرف!E:E)","v":0},0,0,0,{"$f":"'رصيد اول'!D74","v":0}]
[{"$f":"'رصيد اول'!A75","v":0},{"$f":"'رصيد اول'!B75","v":0},{"$f":"SUMIF('رصيد اول'!$A:$B,'رصيد اول'!A75,'رصيد اول'!C:C)","v":0},0,{"$f":"SUMIF(الوارد!$D:$D,الرصيد!A75,الوارد!F:F)","v":0},0,{"$f":"SUMIF(المنصرف!$C$1:$C$10000,A75,المنصرف!E:E)","v":0},0,0,0,{"$f":"'رصيد اول'!D75","v":0}]
[{"$f":"'رصيد اول'!A76","v":0},{"$f":"'رصيد اول'!B76","v":0},{"$f":"SUMIF('رصيد اول'!$A:$B,'رصيد اول'!A76,'رصيد اول'!C:C)","v":0},0,{"$f":"SUMIF(الوارد!$D:$D,الرصيد!A76,الوارد!F:F)","v":0},0,{"$f":"SUMIF(المنصرف!$C$1:$C$10000,A76,المنصرف!E:E)","v":0},0,0,0,{"$f":"'رصيد اول'!D76","v":0}]
[{"$f":"'رصيد اول'!A77","v":0},{"$f":"'رصيد اول'!B77","v":0},{"$f":"SUMIF('رصيد اول'!$A:$B,'رصيد اول'!A77,'رصيد اول'!C:C)","v":0},0,{"$f":"SUMIF(الوارد!$D:$D,الرصيد!A77,الوارد!F:F)","v":0},0,{"$f":"SUMIF(المنصرف!$C$1:$C$10000,A77,المنصرف!E:E)","v":0},0,0,0,{"$f":"'رصيد اول'!D77","v":0}]
[{"$f":"'رصيد اول'!A78","v":0},{"$f":"'رصيد اول'!B78","v":0},{"$f":"SUMIF('رصيد اول'!$A:$B,'رصيد اول'!A78,'رصيد اول'!C:C)","v":0},0,{"$f":"SUMIF(الوارد!$D:$D,الرصيد!A78,الوارد!F:F)","v":0},0,{"$f":"SUMIF(المنصرف!$C$1:$C$10000,A78,المنصرف!E:E)","v":0},0,0,0,{"$f":"'رصيد اول'!D78","v":0}]
[{"$f":"'رصيد اول'!A79","v":0},{"$f":"'رصيد اول'!B79","v":0},{"$f":"SUMIF('رصيد اول'!$A:$B,'رصيد اول'!A79,'رصيد اول'!C:C)","v":0},0,{"$f":"SUMIF(الوارد!$D:$D,الرصيد!A79,الوارد!F:F)","v":0},0,{"$f":"SUMIF(المنصرف!$C$1:$C$10000,A79,المنصرف!E:E)","v":0},0,0,0,{"$f":"'رصيد اول'!D79","v":0}]
[{"$f":"'رصيد اول'!A80","v":0},{"$f":"'رصيد اول'!B80","v":0},{"$f":"SUMIF('رصيد اول'!$A:$B,'رصيد اول'!A80,'رصيد اول'!C:C)","v":0},0,{"$f":"SUMIF(الوارد!$D:$D,الرصيد!A80,الوارد!F:F)","v":0},0,{"$f":"SUMIF(المنصرف!$C$1:$C$10000,A80,المنصرف!E:E)","v":0},0,0,0,{"$f":"'رصيد اول'!D80","v":0}]
[{"$f":"'رصيد اول'!A81","v":0},{"$f":"'رصيد اول'!B81","v":0},{"$f":"SUMIF('رصيد اول'!$A:$B,'رصيد اول'!A81,'رصيد اول'!C:C)","v":0},0,{"$f":"SUMIF(الوارد!$D:$D,الرصيد!A81,الوارد!F:F)","v":0},0,{"$f":"SUMIF(المنصرف!$C$1:$C$10000,A81,المنصرف!E:E)","v":0},0,0,0,{"$f":"'رصيد اول'!D81","v":0}]
[{"$f":"'رصيد اول'!A82","v":0},{"$f":"'رصيد اول'!B82","v":0},{"$f":"SUMIF('رصيد اول'!$A:$B,'رصيد اول'!A82,'رصيد اول'!C:C)","v":0},0,{"$f":"SUMIF(الوارد!$D:$D,الرصيد!A82,الوارد!F:F)","v":0},0,{"$f":"SUMIF(المنصرف!$C$1:$C$10000,A82,المنصرف!E:E)","v":0},0,0,0,{"$f":"'رصيد اول'!D82","v":0}]
[{"$f":"'رصيد اول'!A83","v":0},{"$f":"'رصيد اول'!B83","v":0},{"$f":"SUMIF('رصيد اول'!$A:$B,'رصيد اول'!A83,'رصيد اول'!C:C)","v":0},0,{"$f":"SUMIF(الوارد!$D:$D,الرصيد!A83,الوارد!F:F)","v":0},0,{"$f":"SUMIF(المنصرف!$C$1:$C$10000,A83,المنصرف!E:E)","v":0},0,0,0,{"$f":"'رصيد اول'!D83","v":0}]
[{"$f":"'رصيد اول'!A84","v":0},{"$f":"'رصيد اول'!B84","v":0},{"$f":"SUMIF('رصيد اول'!$A:$B,'رصيد اول'!A84,'رصيد اول'!C:C)","v":0},0,{"$f":"SUMIF(الوارد!$D:$D,الرصيد!A84,الوارد!F:F)","v":0},0,{"$f":"SUMIF(المنصرف!$C$1:$C$10000,A84,المنصرف!E:E)","v":0},0,0,0,{"$f":"'رصيد اول'!D84","v":0}]
[{"$f":"'رصيد اول'!A85","v":0},{"$f":"'رصيد اول'!B85","v":0},{"$f":"SUMIF('رصيد اول'!$A:$B,'رصيد اول'!A85,'رصيد اول'!C:C)","v":0},0,{"$f":"SUMIF(الوارد!$D:$D,الرصيد!A85,الوارد!F:F)","v":0},0,{"$f":"SUMIF(المنصرف!$C$1:$C$10000,A85,المنصرف!E:E)","v":0},0,0,0,{"$f":"'رصيد اول'!D85","v":0}]
[{"$f":"'رصيد اول'!A86","v":0},{"$f":"'رصيد اول'!B86","v":0},{"$f":"SUMIF('رصيد اول'!$A:$B,'رصيد اول'!A86,'رصيد اول'!C:C)","v":0},0,{"$f":"SUMIF(الوارد!$D:$D,الرصيد!A86,الوارد!F:F)","v":0},0,{"$f":"SUMIF(المنصرف!$C$1:$C$10000,A86,المنصرف!E:E)","v":0},0,0,0,{"$f":"'رصيد اول'!D86","v":0}]
[{"$f":"'رصيد اول'!A87","v":0},{"$f":"'رصيد اول'!B87","v":0},{"$f":"SUMIF('رصيد اول'!$A:$B,'رصيد اول'!A87,'رصيد اول'!C:C)","v":0},0,{"$f":"SUMIF(الوارد!$D:$D,الرصيد!A87,الوارد!F:F)","v":0},0,{"$f":"SUMIF(المنصرف!$C$1:$C$10000,A87,المنصرف!E:E)","v":0},0,0,0,{"$f":"'رصيد اول'!D87","v":0}]
[{"$f":"'رصيد اول'!A88","v":0},{"$f":"'رصيد اول'!B88","v":0},{"$f":"SUMIF('رصيد اول'!$A:$B,'رصيد اول'!A88,'رصيد اول'!C:C)","v":0},0,{"$f":"SUMIF(الوارد!$D:$D,الرصيد!A88,الوارد!F:F)","v":0},0,{"$f":"SUMIF(المنصرف!$C$1:$C$10000,A88,المنصرف!E:E)","v":0},0,0,0,{"$f":"'رصيد اول'!D88","v":0}]
[{"$f":"'رصيد اول'!A89","v":0},{"$f":"'رصيد اول'!B89","v":0},{"$f":"SUMIF('رصيد اول'!$A:$B,'رصيد اول'!A89,'رصيد اول'!C:C)","v":0},0,{"$f":"SUMIF(الوارد!$D:$D,الرصيد!A89,الوارد!F:F)","v":0},0,{"$f":"SUMIF(المنصرف!$C$1:$C$10000,A89,المنصرف!E:E)","v":0},0,0,0,{"$f":"'رصيد اول'!D89","v":0}]
[{"$f":"'رصيد اول'!A90","v":0},{"$f":"'رصيد اول'!B90","v":0},{"$f":"SUMIF('رصيد اول'!$A:$B,'رصيد اول'!A90,'رصيد اول'!C:C)","v":0},0,{"$f":"SUMIF(الوارد!$D:$D,الرصيد!A90,الوارد!F:F)","v":0},0,{"$f":"SUMIF(المنصرف!$C$1:$C$10000,A90,المنصرف!E:E)","v":0},0,0,0,{"$f":"'رصيد اول'!D90","v":0}]
[{"$f":"'رصيد اول'!A91","v":0},{"$f":"'رصيد اول'!B91","v":0},{"$f":"SUMIF('رصيد اول'!$A:$B,'رصيد اول'!A91,'رصيد اول'!C:C)","v":0},0,{"$f":"SUMIF(الوارد!$D:$D,الرصيد!A91,الوارد!F:F)","v":0},0,{"$f":"SUMIF(المنصرف!$C$1:$C$10000,A91,المنصرف!E:E)","v":0},0,0,0,{"$f":"'رصيد اول'!D91","v":0}]
[{"$f":"'رصيد اول'!A92","v":0},{"$f":"'رصيد اول'!B92","v":0},{"$f":"SUMIF('رصيد اول'!$A:$B,'رصيد اول'!A92,'رصيد اول'!C:C)","v":0},0,{"$f":"SUMIF(الوارد!$D:$D,الرصيد!A92,الوارد!F:F)","v":0},0,{"$f":"SUMIF(المنصرف!$C$1:$C$10000,A92,المنصرف!E:E)","v":0},0,0,0,{"$f":"'رصيد اول'!D92","v":0}]
[{"$f":"'رصيد اول'!A93","v":0},{"$f":"'رصيد اول'!B93","v":0},{"$f":"SUMIF('رصيد اول'!$A:$B,'رصيد اول'!A93,'رصيد اول'!C:C)","v":0},0,{"$f":"SUMIF(الوارد!$D:$D,الرصيد!A93,الوارد!F:F)","v":0},0,{"$f":"SUMIF(المنصرف!$C$1:$C$10000,A93,المنصرف!E:E)","v":0},0,0,0,{"$f":"'رصيد اول'!D93","v":0}]
[{"$f":"'رصيد اول'!A94","v":0},{"$f":"'رصيد اول'!B94","v":0},{"$f":"SUMIF('رصيد اول'!$A:$B,'رصيد اول'!A94,'رصيد اول'!C:C)","v":0},0,{"$f":"SUMIF(الوارد!$D:$D,الرصيد!A94,الوارد!F:F)","v":0},0,{"$f":"SUMIF(المنصرف!$C$1:$C$10000,A94,المنصرف!E:E)","v":0},0,0,0,{"$f":"'رصيد اول'!D94","v":0}]
[{"$f":"'رصيد اول'!A95","v":0},{"$f":"'رصيد اول'!B95","v":0},{"$f":"SUMIF('رصيد اول'!$A:$B,'رصيد اول'!A95,'رصيد اول'!C:C)","v":0},0,{"$f":"SUMIF(الوارد!$D:$D,الرصيد!A95,الوارد!F:F)","v":0},0,{"$f":"SUMIF(المنصرف!$C$1:$C$10000,A95,المنصرف!E:E)","v":0},0,0,0,{"$f":"'رصيد اول'!D95","v":0}]
[{"$f":"'رصيد اول'!A96","v":0},{"$f":"'رصيد اول'!B96","v":0},{"$f":"SUMIF('رصيد اول'!$A:$B,'رصيد اول'!A96,'رصيد اول'!C:C)","v":0},0,{"$f":"SUMIF(الوارد!$D:$D,الرصيد!A96,الوارد!F:F)","v":0},0,{"$f":"SUMIF(المنصرف!$C$1:$C$10000,A96,المنصرف!E:E)","v":0},0,0,0,{"$f":"'رصيد اول'!D96","v":0}]
[{"$f":"'رصيد اول'!A97","v":0},{"$f":"'رصيد اول'!B97","v":0},{"$f":"SUMIF('رصيد اول'!$A:$B,'رصيد اول'!A97,'رصيد اول'!C:C)","v":0},0,{"$f":"SUMIF(الوارد!$D:$D,الرصيد!A97,الوارد!F:F)","v":0},0,{"$f":"SUMIF(المنصرف!$C$1:$C$10000,A97,المنصرف!E:E)","v":0},0,0,0,{"$f":"'رصيد اول'!D97","v":0}]
[{"$f":"'رصيد اول'!A98","v":0},{"$f":"'رصيد اول'!B98","v":0},{"$f":"SUMIF('رصيد اول'!$A:$B,'رصيد اول'!A98,'رصيد اول'!C:C)","v":0},0,{"$f":"SUMIF(الوارد!$D:$D,الرصيد!A98,الوارد!F:F)","v":0},0,{"$f":"SUMIF(المنصرف!$C$1:$C$10000,A98,المنصرف!E:E)","v":0},0,0,0,{"$f":"'رصيد اول'!D98","v":0}]
[{"$f":"'رصيد اول'!A99","v":0},{"$f":"'رصيد اول'!B99","v":0},{"$f":"SUMIF('رصيد اول'!$A:$B,'رصيد اول'!A99,'رصيد اول'!C:C)","v":0},0,{"$f":"SUMIF(الوارد!$D:$D,الرصيد!A99,الوارد!F:F)","v":0},0,{"$f":"SUMIF(المنصرف!$C$1:$C$10000,A99,المنصرف!E:E)","v":0},0,0,0,{"$f":"'رصيد اول'!D99","v":0}]
[{"$f":"'رصيد اول'!A100","v":0},{"$f":"'رصيد اول'!B100","v":0},{"$f":"SUMIF('رصيد اول'!$A:$B,'رصيد اول'!A100,'رصيد اول'!C:C)","v":0},0,{"$f":"SUMIF(الوارد!$D:$D,الرصيد!A100,الوارد!F:F)","v":0},0,{"$f":"SUMIF(المنصرف!$C$1:$C$10000,A100,المنصرف!E:E)","v":0},0,0,0,{"$f":"'رصيد اول'!D100","v":0}]
[{"$f":"'رصيد اول'!A101","v":0},{"$f":"'رصيد اول'!B101","v":0},{"$f":"SUMIF('رصيد اول'!$A:$B,'رصيد اول'!A101,'رصيد اول'!C:C)","v":0},0,{"$f":"SUMIF(الوارد!$D:$D,الرصيد!A101,الوارد!F:F)","v":0},0,{"$f":"SUMIF(المنصرف!$C$1:$C$10000,A101,المنصرف!E:E)","v":0},0,0,0,{"$f":"'رصيد اول'!D101","v":0}]
[{"$f":"'رصيد اول'!A102","v":0},{"$f":"'رصيد اول'!B102","v":0},{"$f":"SUMIF('رصيد اول'!$A:$B,'رصيد اول'!A102,'رصيد اول'!C:C)","v":0},0,{"$f":"SUMIF(الوارد!$D:$D,الرصيد!A102,الوارد!F:F)","v":0},0,{"$f":"SUMIF(المنصرف!$C$1:$C$10000,A102,المنصرف!E:E)","v":0},0,0,0,{"$f":"'رصيد اول'!D102","v":0}]
[{"$f":"'رصيد اول'!A103","v":0},{"$f":"'رصيد اول'!B103","v":0},{"$f":"SUMIF('رصيد اول'!$A:$B,'رصيد اول'!A103,'رصيد اول'!C:C)","v":0},0,{"$f":"SUMIF(الوارد!$D:$D,الرصيد!A103,الوارد!F:F)","v":0},0,{"$f":"SUMIF(المنصرف!$C$1:$C$10000,A103,المنصرف!E:E)","v":0},0,0,0,{"$f":"'رصيد اول'!D103","v":0}]
[{"$f":"'رصيد اول'!A104","v":0},{"$f":"'رصيد اول'!B104","v":0},{"$f":"SUMIF('رصيد اول'!$A:$B,'رصيد اول'!A104,'رصيد اول'!C:C)","v":0},0,{"$f":"SUMIF(الوارد!$D:$D,الرصيد!A104,الوارد!F:F)","v":0},0,{"$f":"SUMIF(المنصرف!$C$1:$C$10000,A104,المنصرف!E:E)","v":0},0,0,0,{"$f":"'رصيد اول'!D104","v":0}]
[{"$f":"'رصيد اول'!A105","v":0},{"$f":"'رصيد اول'!B105","v":0},{"$f":"SUMIF('رصيد اول'!$A:$B,'رصيد اول'!A105,'رصيد اول'!C:C)","v":0},0,{"$f":"SUMIF(الوارد!$D:$D,الرصيد!A105,الوارد!F:F)","v":0},0,{"$f":"SUMIF(المنصرف!$C$1:$C$10000,A105,المنصرف!E:E)","v":0},0,0,0,{"$f":"'رصيد اول'!D105","v":0}]
[{"$f":"'رصيد اول'!A106","v":0},{"$f":"'رصيد اول'!B106","v":0},{"$f":"SUMIF('رصيد اول'!$A:$B,'رصيد اول'!A106,'رصيد اول'!C:C)","v":0},0,{"$f":"SUMIF(الوارد!$D:$D,الرصيد!A106,الوارد!F:F)","v":0},0,{"$f":"SUMIF(المنصرف!$C$1:$C$10000,A106,المنصرف!E:E)","v":0},0,0,0,{"$f":"'رصيد اول'!D106","v":0}]
[{"$f":"'رصيد اول'!A107","v":0},{"$f":"'رصيد اول'!B107","v":0},{"$f":"SUMIF('رصيد اول'!$A:$B,'رصيد اول'!A107,'رصيد اول'!C:C)","v":0},0,{"$f":"SUMIF(الوارد!$D:$D,الرصيد!A107,الوارد!F:F)","v":0},0,{"$f":"SUMIF(المنصرف!$C$1:$C$10000,A107,المنصرف!E:E)","v":0},0,0,0,{"$f":"'رصيد اول'!D107","v":0}]
[{"$f":"'رصيد اول'!A108","v":0},{"$f":"'رصيد اول'!B108","v":0},{"$f":"SUMIF('رصيد اول'!$A:$B,'رصيد اول'!A108,'رصيد اول'!C:C)","v":0},0,{"$f":"SUMIF(الوارد!$D:$D,الرصيد!A108,الوارد!F:F)","v":0},0,{"$f":"SUMIF(المنصرف!$C$1:$C$10000,A108,المنصرف!E:E)","v":0},0,0,0,{"$f":"'رصيد اول'!D108","v":0}]
[{"$f":"'رصيد اول'!A109","v":0},{"$f":"'رصيد اول'!B109","v":0},{"$f":"SUMIF('رصيد اول'!$A:$B,'رصيد اول'!A109,'رصيد اول'!C:C)","v":0},0,{"$f":"SUMIF(الوارد!$D:$D,الرصيد!A109,الوارد!F:F)","v":0},0,{"$f":"SUMIF(المنصرف!$C$1:$C$10000,A109,المنصرف!E:E)","v":0},0,0,0,{"$f":"'رصيد اول'!D109","v":0}]
[{"$f":"'رصيد اول'!A110","v":0},{"$f":"'رصيد اول'!B110","v":0},{"$f":"SUMIF('رصيد اول'!$A:$B,'رصيد اول'!A110,'رصيد اول'!C:C)","v":0},0,{"$f":"SUMIF(الوارد!$D:$D,الرصيد!A110,الوارد!F:F)","v":0},0,{"$f":"SUMIF(المنصرف!$C$1:$C$10000,A110,المنصرف!E:E)","v":0},0,0,0,{"$f":"'رصيد اول'!D110","v":0}]
[{"$f":"'رصيد اول'!A111","v":0},{"$f":"'رصيد اول'!B111","v":0},{"$f":"SUMIF('رصيد اول'!$A:$B,'رصيد اول'!A111,'رصيد اول'!C:C)","v":0},0,{"$f":"SUMIF(الوارد!$D:$D,الرصيد!A111,الوارد!F:F)","v":0},0,{"$f":"SUMIF(المنصرف!$C$1:$C$10000,A111,المنصرف!E:E)","v":0},0,0,0,{"$f":"'رصيد اول'!D111","v":0}]
[{"$f":"'رصيد اول'!A112","v":0},{"$f":"'رصيد اول'!B112","v":0},{"$f":"SUMIF('رصيد اول'!$A:$B,'رصيد اول'!A112,'رصيد اول'!C:C)","v":0},0,{"$f":"SUMIF(الوارد!$D:$D,الرصيد!A112,الوارد!F:F)","v":0},0,{"$f":"SUMIF(المنصرف!$C$1:$C$10000,A112,المنصرف!E:E)","v":0},0,0,0,{"$f":"'رصيد اول'!D112","v":0}]
[{"$f":"'رصيد اول'!A113","v":0},{"$f":"'رصيد اول'!B113","v":0},{"$f":"SUMIF('رصيد اول'!$A:$B,'رصيد اول'!A113,'رصيد اول'!C:C)","v":0},0,{"$f":"SUMIF(الوارد!$D:$D,الرصيد!A113,الوارد!F:F)","v":0},0,{"$f":"SUMIF(المنصرف!$C$1:$C$10000,A113,المنصرف!E:E)","v":0},0,0,0,{"$f":"'رصيد اول'!D113","v":0}]
[{"$f":"'رصيد اول'!A114","v":0},{"$f":"'رصيد اول'!B114","v":0},{"$f":"SUMIF('رصيد اول'!$A:$B,'رصيد اول'!A114,'رصيد اول'!C:C)","v":0},0,{"$f":"SUMIF(الوارد!$D:$D,الرصيد!A114,الوارد!F:F)","v":0},0,{"$f":"SUMIF(المنصرف!$C$1:$C$10000,A114,المنصرف!E:E)","v":0},0,0,0,{"$f":"'رصيد اول'!D114","v":0}]
[{"$f":"'رصيد اول'!A115","v":0},{"$f":"'رصيد اول'!B115","v":0},{"$f":"SUMIF('رصيد اول'!$A:$B,'رصيد اول'!A115,'رصيد اول'!C:C)","v":0},0,{"$f":"SUMIF(الوارد!$D:$D,الرصيد!A115,الوارد!F:F)","v":0},0,{"$f":"SUMIF(المنصرف!$C$1:$C$10000,A115,المنصرف!E:E)","v":0},0,0,0,{"$f":"'رصيد اول'!D115","v":0}]
[{"$f":"'رصيد اول'!A116","v":0},{"$f":"'رصيد اول'!B116","v":0},{"$f":"SUMIF('رصيد اول'!$A:$B,'رصيد اول'!A116,'رصيد اول'!C:C)","v":0},0,{"$f":"SUMIF(الوارد!$D:$D,الرصيد!A116,الوارد!F:F)","v":0},0,{"$f":"SUMIF(المنصرف!$C$1:$C$10000,A116,المنصرف!E:E)","v":0},0,0,0,{"$f":"'رصيد اول'!D116","v":0}]
[{"$f":"'رصيد اول'!A117","v":0},{"$f":"'رصيد اول'!B117","v":0},{"$f":"SUMIF('رصيد اول'!$A:$B,'رصيد اول'!A117,'رصيد اول'!C:C)","v":0},0,{"$f":"SUMIF(الوارد!$D:$D,الرصيد!A117,الوارد!F:F)","v":0},0,{"$f":"SUMIF(المنصرف!$C$1:$C$10000,A117,المنصرف!E:E)","v":0},0,0,0,{"$f":"'رصيد اول'!D117","v":0}]
[{"$f":"'رصيد اول'!A118","v":0},{"$f":"'رصيد اول'!B118","v":0},{"$f":"SUMIF('رصيد اول'!$A:$B,'رصيد اول'!A118,'رصيد اول'!C:C)","v":0},0,{"$f":"SUMIF(الوارد!$D:$D,الرصيد!A118,الوارد!F:F)","v":0},0,{"$f":"SUMIF(المنصرف!$C$1:$C$10000,A118,المنصرف!E:E)","v":0},0,0,0,{"$f":"'رصيد اول'!D118","v":0}]
[{"$f":"'رصيد اول'!A119","v":0},{"$f":"'رصيد اول'!B119","v":0},{"$f":"SUMIF('رصيد اول'!$A:$B,'رصيد اول'!A119,'رصيد اول'!C:C)","v":0},0,{"$f":"SUMIF(الوارد!$D:$D,الرصيد!A119,الوارد!F:F)","v":0},0,{"$f":"SUMIF(المنصرف!$C$1:$C$10000,A119,المنصرف!E:E)","v":0},0,0,0,{"$f":"'رصيد اول'!D119","v":0}]
[{"$f":"'رصيد اول'!A120","v":0},{"$f":"'رصيد اول'!B120","v":0},{"$f":"SUMIF('رصيد اول'!$A:$B,'رصيد اول'!A120,'رصيد اول'!C:C)","v":0},0,{"$f":"SUMIF(الوارد!$D:$D,الرصيد!A120,الوارد!F:F)","v":0},0,{"$f":"SUMIF(المنصرف!$C$1:$C$10000,A120,المنصرف!E:E)","v":0},0,0,0,{"$f":"'رصيد اول'!D120","v":0}]
[{"$f":"'رصيد اول'!A121","v":0},{"$f":"'رصيد اول'!B121","v":0},{"$f":"SUMIF('رصيد اول'!$A:$B,'رصيد اول'!A121,'رصيد اول'!C:C)","v":0},0,{"$f":"SUMIF(الوارد!$D:$D,الرصيد!A121,الوارد!F:F)","v":0},0,{"$f":"SUMIF(المنصرف!$C$1:$C$10000,A121,المنصرف!E:E)","v":0},0,0,0,{"$f":"'رصيد اول'!D121","v":0}]
[{"$f":"'رصيد اول'!A122","v":0},{"$f":"'رصيد اول'!B122","v":0},{"$f":"SUMIF('رصيد اول'!$A:$B,'رصيد اول'!A122,'رصيد اول'!C:C)","v":0},0,{"$f":"SUMIF(الوارد!$D:$D,الرصيد!A122,الوارد!F:F)","v":0},0,{"$f":"SUMIF(المنصرف!$C$1:$C$10000,A122,المنصرف!E:E)","v":0},0,0,0,{"$f":"'رصيد اول'!D122","v":0}]
[{"$f":"'رصيد اول'!A123","v":0},{"$f":"'رصيد اول'!B123","v":0},{"$f":"SUMIF('رصيد اول'!$A:$B,'رصيد اول'!A123,'رصيد اول'!C:C)","v":0},0,{"$f":"SUMIF(الوارد!$D:$D,الرصيد!A123,الوارد!F:F)","v":0},0,{"$f":"SUMIF(المنصرف!$C$1:$C$10000,A123,المنصرف!E:E)","v":0},0,0,0,{"$f":"'رصيد اول'!D123","v":0}]
[{"$f":"'رصيد اول'!A124","v":0},{"$f":"'رصيد اول'!B124","v":0},{"$f":"SUMIF('رصيد اول'!$A:$B,'رصيد اول'!A124,'رصيد اول'!C:C)","v":0},0,{"$f":"SUMIF(الوارد!$D:$D,الرصيد!A124,الوارد!F:F)","v":0},0,{"$f":"SUMIF(المنصرف!$C$1:$C$10000,A124,المنصرف!E:E)","v":0},0,0,0,{"$f":"'رصيد اول'!D124","v":0}]
[{"$f":"'رصيد اول'!A125","v":0},{"$f":"'رصيد اول'!B125","v":0},{"$f":"SUMIF('رصيد اول'!$A:$B,'رصيد اول'!A125,'رصيد اول'!C:C)","v":0},0,{"$f":"SUMIF(الوارد!$D:$D,الرصيد!A125,الوارد!F:F)","v":0},0,{"$f":"SUMIF(المنصرف!$C$1:$C$10000,A125,المنصرف!E:E)","v":0},0,0,0,{"$f":"'رصيد اول'!D125","v":0}]
[{"$f":"'رصيد اول'!A126","v":0},{"$f":"'رصيد اول'!B126","v":0},{"$f":"SUMIF('رصيد اول'!$A:$B,'رصيد اول'!A126,'رصيد اول'!C:C)","v":0},0,{"$f":"SUMIF(الوارد!$D:$D,الرصيد!A126,الوارد!F:F)","v":0},0,{"$f":"SUMIF(المنصرف!$C$1:$C$10000,A126,المنصرف!E:E)","v":0},0,0,0,{"$f":"'رصيد اول'!D126","v":0}]
[{"$f":"'رصيد اول'!A127","v":0},{"$f":"'رصيد اول'!B127","v":0},{"$f":"SUMIF('رصيد اول'!$A:$B,'رصيد اول'!A127,'رصيد اول'!C:C)","v":0},0,{"$f":"SUMIF(الوارد!$D:$D,الرصيد!A127,الوارد!F:F)","v":0},0,{"$f":"SUMIF(المنصرف!$C$1:$C$10000,A127,المنصرف!E:E)","v":0},0,0,0,{"$f":"'رصيد اول'!D127","v":0}]
[{"$f":"'رصيد اول'!A128","v":0},{"$f":"'رصيد اول'!B128","v":0},{"$f":"SUMIF('رصيد اول'!$A:$B,'رصيد اول'!A128,'رصيد اول'!C:C)","v":0},0,{"$f":"SUMIF(الوارد!$D:$D,الرصيد!A128,الوارد!F:F)","v":0},0,{"$f":"SUMIF(المنصرف!$C$1:$C$10000,A128,المنصرف!E:E)","v":0},0,0,0,{"$f":"'رصيد اول'!D128","v":0}]
[{"$f":"'رصيد اول'!A129","v":0},{"$f":"'رصيد اول'!B129","v":0},{"$f":"SUMIF('رصيد اول'!$A:$B,'رصيد اول'!A129,'رصيد اول'!C:C)","v":0},0,{"$f":"SUMIF(الوارد!$D:$D,الرصيد!A129,الوارد!F:F)","v":0},0,{"$f":"SUMIF(المنصرف!$C$1:$C$10000,A129,المنصرف!E:E)","v":0},0,0,0,{"$f":"'رصيد اول'!D129","v":0}]
[{"$f":"'رصيد اول'!A130","v":0},{"$f":"'رصيد اول'!B130","v":0},{"$f":"SUMIF('رصيد اول'!$A:$B,'رصيد اول'!A130,'رصيد اول'!C:C)","v":0},0,{"$f":"SUMIF(الوارد!$D:$D,الرصيد!A130,الوارد!F:F)","v":0},0,{"$f":"SUMIF(المنصرف!$C$1:$C$10000,A130,المنصرف!E:E)","v":0},0,0,0,{"$f":"'رصيد اول'!D130","v":0}]
[{"$f":"'رصيد اول'!A131","v":0},{"$f":"'رصيد اول'!B131","v":0},{"$f":"SUMIF('رصيد اول'!$A:$B,'رصيد اول'!A131,'رصيد اول'!C:C)","v":0},0,{"$f":"SUMIF(الوارد!$D:$D,الرصيد!A131,الوارد!F:F)","v":0},0,{"$f":"SUMIF(المنصرف!$C$1:$C$10000,A131,المنصرف!E:E)","v":0},0,{"$f":"C131+E131-G131","v":0},0,{"$f":"'رصيد اول'!D131","v":0}]
[{"$f":"'رصيد اول'!A132","v":0},{"$f":"'رصيد اول'!B132","v":0},{"$f":"SUMIF('رصيد اول'!$A:$B,'رصيد اول'!A132,'رصيد اول'!C:C)","v":0},{"$f":"C132*K132","v":0},{"$f":"SUMIF(الوارد!$D:$D,الرصيد!A132,الوارد!F:F)","v":0},{"$f":"+E132*K132","v":0},{"$f":"SUMIF(المنصرف!$C$1:$C$10000,A132,المنصرف!E:E)","v":0},{"$f":"G132*K132","v":0},0,{"$f":"I132*K132","v":0},{"$f":"'رصيد اول'!D132","v":0}]
[{"$f":"'رصيد اول'!A133","v":0},{"$f":"'رصيد اول'!B133","v":0},{"$f":"SUMIF('رصيد اول'!$A:$B,'رصيد اول'!A133,'رصيد اول'!C:C)","v":0},0,{"$f":"SUMIF(الوارد!$D:$D,الرصيد!A133,الوارد!F:F)","v":0},0,{"$f":"SUMIF(المنصرف!$C$1:$C$10000,A133,المنصرف!E:E)","v":0},0,0,0,{"$f":"'رصيد اول'!D133","v":0}]
[{"$f":"'رصيد اول'!A134","v":0},{"$f":"'رصيد اول'!B134","v":0},{"$f":"SUMIF('رصيد اول'!$A:$B,'رصيد اول'!A134,'رصيد اول'!C:C)","v":0},0,{"$f":"SUMIF(الوارد!$D:$D,الرصيد!A134,الوارد!F:F)","v":0},0,{"$f":"SUMIF(المنصرف!$C$1:$C$10000,A134,المنصرف!E:E)","v":0},0,0,0,{"$f":"'رصيد اول'!D134","v":0}]
[{"$f":"'رصيد اول'!A135","v":0},{"$f":"'رصيد اول'!B135","v":0},{"$f":"SUMIF('رصيد اول'!$A:$B,'رصيد اول'!A135,'رصيد اول'!C:C)","v":0},0,{"$f":"SUMIF(الوارد!$D:$D,الرصيد!A135,الوارد!F:F)","v":0},0,{"$f":"SUMIF(المنصرف!$C$1:$C$10000,A135,المنصرف!E:E)","v":0},0,0,0,{"$f":"'رصيد اول'!D135","v":0}]
[{"$f":"'رصيد اول'!A136","v":0},{"$f":"'رصيد اول'!B136","v":0},{"$f":"SUMIF('رصيد اول'!$A:$B,'رصيد اول'!A136,'رصيد اول'!C:C)","v":0},0,{"$f":"SUMIF(الوارد!$D:$D,الرصيد!A136,الوارد!F:F)","v":0},0,{"$f":"SUMIF(المنصرف!$C$1:$C$10000,A136,المنصرف!E:E)","v":0},0,0,0,{"$f":"'رصيد اول'!D136","v":0}]
[{"$f":"'رصيد اول'!A137","v":0},{"$f":"'رصيد اول'!B137","v":0},{"$f":"SUMIF('رصيد اول'!$A:$B,'رصيد اول'!A137,'رصيد اول'!C:C)","v":0},0,{"$f":"SUMIF(الوارد!$D:$D,الرصيد!A137,الوارد!F:F)","v":0},0,{"$f":"SUMIF(المنصرف!$C$1:$C$10000,A137,المنصرف!E:E)","v":0},0,0,0,{"$f":"'رصيد اول'!D137","v":0}]
[{"$f":"'رصيد اول'!A138","v":0},{"$f":"'رصيد اول'!B138","v":0},{"$f":"SUMIF('رصيد اول'!$A:$B,'رصيد اول'!A138,'رصيد اول'!C:C)","v":0},0,{"$f":"SUMIF(الوارد!$D:$D,الرصيد!A138,الوارد!F:F)","v":0},0,{"$f":"SUMIF(المنصرف!$C$1:$C$10000,A138,المنصرف!E:E)","v":0},0,0,0,{"$f":"'رصيد اول'!D138","v":0}]
[{"$f":"'رصيد اول'!A139","v":0},{"$f":"'رصيد اول'!B139","v":0},{"$f":"SUMIF('رصيد اول'!$A:$B,'رصيد اول'!A139,'رصيد اول'!C:C)","v":0},0,{"$f":"SUMIF(الوارد!$D:$D,الرصيد!A139,الوارد!F:F)","v":0},0,{"$f":"SUMIF(المنصرف!$C$1:$C$10000,A139,المنصرف!E:E)","v":0},0,0,0,{"$f":"'رصيد اول'!D139","v":0}]
[{"$f":"'رصيد اول'!A140","v":0},{"$f":"'رصيد اول'!B140","v":0},{"$f":"SUMIF('رصيد اول'!$A:$B,'رصيد اول'!A140,'رصيد اول'!C:C)","v":0},0,{"$f":"SUMIF(الوارد!$D:$D,الرصيد!A140,الوارد!F:F)","v":0},0,{"$f":"SUMIF(المنصرف!$C$1:$C$10000,A140,المنصرف!E:E)","v":0},0,0,0,{"$f":"'رصيد اول'!D140","v":0}]
[{"$f":"'رصيد اول'!A141","v":0},{"$f":"'رصيد اول'!B141","v":0},{"$f":"SUMIF('رصيد اول'!$A:$B,'رصيد اول'!A141,'رصيد اول'!C:C)","v":0},0,{"$f":"SUMIF(الوارد!$D:$D,الرصيد!A141,الوارد!F:F)","v":0},0,{"$f":"SUMIF(المنصرف!$C$1:$C$10000,A141,المنصرف!E:E)","v":0},0,0,0,{"$f":"'رصيد اول'!D141","v":0}]
[{"$f":"'رصيد اول'!A142","v":0},{"$f":"'رصيد اول'!B142","v":0},{"$f":"SUMIF('رصيد اول'!$A:$B,'رصيد اول'!A142,'رصيد اول'!C:C)","v":0},0,{"$f":"SUMIF(الوارد!$D:$D,الرصيد!A142,الوارد!F:F)","v":0},0,{"$f":"SUMIF(المنصرف!$C$1:$C$10000,A142,المنصرف!E:E)","v":0},0,0,0,{"$f":"'رصيد اول'!D142","v":0}]
[{"$f":"'رصيد اول'!A143","v":0},{"$f":"'رصيد اول'!B143","v":0},{"$f":"SUMIF('رصيد اول'!$A:$B,'رصيد اول'!A143,'رصيد اول'!C:C)","v":0},0,{"$f":"SUMIF(الوارد!$D:$D,الرصيد!A143,الوارد!F:F)","v":0},0,{"$f":"SUMIF(المنصرف!$C$1:$C$10000,A143,المنصرف!E:E)","v":0},0,0,0,{"$f":"'رصيد اول'!D143","v":0}]
[{"$f":"'رصيد اول'!A144","v":0},{"$f":"'رصيد اول'!B144","v":0},{"$f":"SUMIF('رصيد اول'!$A:$B,'رصيد اول'!A144,'رصيد اول'!C:C)","v":0},0,{"$f":"SUMIF(الوارد!$D:$D,الرصيد!A144,الوارد!F:F)","v":0},0,{"$f":"SUMIF(المنصرف!$C$1:$C$10000,A144,المنصرف!E:E)","v":0},0,0,0,{"$f":"'رصيد اول'!D144","v":0}]
[{"$f":"'رصيد اول'!A145","v":0},{"$f":"'رصيد اول'!B145","v":0},{"$f":"SUMIF('رصيد اول'!$A:$B,'رصيد اول'!A145,'رصيد اول'!C:C)","v":0},0,{"$f":"SUMIF(الوارد!$D:$D,الرصيد!A145,الوارد!F:F)","v":0},0,{"$f":"SUMIF(المنصرف!$C$1:$C$10000,A145,المنصرف!E:E)","v":0},0,0,0,{"$f":"'رصيد اول'!D145","v":0}]
[{"$f":"'رصيد اول'!A146","v":0},{"$f":"'رصيد اول'!B146","v":0},{"$f":"SUMIF('رصيد اول'!$A:$B,'رصيد اول'!A146,'رصيد اول'!C:C)","v":0},0,{"$f":"SUMIF(الوارد!$D:$D,الرصيد!A146,الوارد!F:F)","v":0},0,{"$f":"SUMIF(المنصرف!$C$1:$C$10000,A146,المنصرف!E:E)","v":0},0,0,0,{"$f":"'رصيد اول'!D146","v":0}]
[{"$f":"'رصيد اول'!A147","v":0},{"$f":"'رصيد اول'!B147","v":0},{"$f":"SUMIF('رصيد اول'!$A:$B,'رصيد اول'!A147,'رصيد اول'!C:C)","v":0},0,{"$f":"SUMIF(الوارد!$D:$D,الرصيد!A147,الوارد!F:F)","v":0},0,{"$f":"SUMIF(المنصرف!$C$1:$C$10000,A147,المنصرف!E:E)","v":0},0,0,0,{"$f":"'رصيد اول'!D147","v":0}]
[{"$f":"'رصيد اول'!A148","v":0},{"$f":"'رصيد اول'!B148","v":0},{"$f":"SUMIF('رصيد اول'!$A:$B,'رصيد اول'!A148,'رصيد اول'!C:C)","v":0},0,{"$f":"SUMIF(الوارد!$D:$D,الرصيد!A148,الوارد!F:F)","v":0},0,{"$f":"SUMIF(المنصرف!$C$1:$C$10000,A148,المنصرف!E:E)","v":0},0,0,0,{"$f":"'رصيد اول'!D148","v":0}]
[{"$f":"'رصيد اول'!A149","v":0},{"$f":"'رصيد اول'!B149","v":0},{"$f":"SUMIF('رصيد اول'!$A:$B,'رصيد اول'!A149,'رصيد اول'!C:C)","v":0},0,{"$f":"SUMIF(الوارد!$D:$D,الرصيد!A149,الوارد!F:F)","v":0},0,{"$f":"SUMIF(المنصرف!$C$1:$C$10000,A149,المنصرف!E:E)","v":0},0,0,0,{"$f":"'رصيد اول'!D149","v":0}]
[{"$f":"'رصيد اول'!A150","v":0},{"$f":"'رصيد اول'!B150","v":0},{"$f":"SUMIF('رصيد اول'!$A:$B,'رصيد اول'!A150,'رصيد اول'!C:C)","v":0},0,{"$f":"SUMIF(الوارد!$D:$D,الرصيد!A150,الوارد!F:F)","v":0},0,{"$f":"SUMIF(المنصرف!$C$1:$C$10000,A150,المنصرف!E:E)","v":0},0,0,0,{"$f":"'رصيد اول'!D150","v":0}]
[{"$f":"'رصيد اول'!A151","v":0},{"$f":"'رصيد اول'!B151","v":0},{"$f":"SUMIF('رصيد اول'!$A:$B,'رصيد اول'!A151,'رصيد اول'!C:C)","v":0},0,{"$f":"SUMIF(الوارد!$D:$D,الرصيد!A151,الوارد!F:F)","v":0},0,{"$f":"SUMIF(المنصرف!$C$1:$C$10000,A151,المنصرف!E:E)","v":0},0,0,0,{"$f":"'رصيد اول'!D151","v":0}]
[{"$f":"'رصيد اول'!A152","v":0},{"$f":"'رصيد اول'!B152","v":0},{"$f":"SUMIF('رصيد اول'!$A:$B,'رصيد اول'!A152,'رصيد اول'!C:C)","v":0},0,{"$f":"SUMIF(الوارد!$D:$D,الرصيد!A152,الوارد!F:F)","v":0},0,{"$f":"SUMIF(المنصرف!$C$1:$C$10000,A152,المنصرف!E:E)","v":0},0,0,0,{"$f":"'رصيد اول'!D152","v":0}]
[{"$f":"'رصيد اول'!A153","v":0},{"$f":"'رصيد اول'!B153","v":0},{"$f":"SUMIF('رصيد اول'!$A:$B,'رصيد اول'!A153,'رصيد اول'!C:C)","v":0},0,{"$f":"SUMIF(الوارد!$D:$D,الرصيد!A153,الوارد!F:F)","v":0},0,{"$f":"SUMIF(المنصرف!$C$1:$C$10000,A153,المنصرف!E:E)","v":0},0,0,0,{"$f":"'رصيد اول'!D153","v":0}]
[{"$f":"'رصيد اول'!A154","v":0},{"$f":"'رصيد اول'!B154","v":0},{"$f":"SUMIF('رصيد اول'!$A:$B,'رصيد اول'!A154,'رصيد اول'!C:C)","v":0},0,{"$f":"SUMIF(الوارد!$D:$D,الرصيد!A154,الوارد!F:F)","v":0},0,{"$f":"SUMIF(المنصرف!$C$1:$C$10000,A154,المنصرف!E:E)","v":0},0,0,0,{"$f":"'رصيد اول'!D154","v":0}]
[{"$f":"'رصيد اول'!A155","v":0},{"$f":"'رصيد اول'!B155","v":0},{"$f":"SUMIF('رصيد اول'!$A:$B,'رصيد اول'!A155,'رصيد اول'!C:C)","v":0},0,{"$f":"SUMIF(الوارد!$D:$D,الرصيد!A155,الوارد!F:F)","v":0},0,{"$f":"SUMIF(المنصرف!$C$1:$C$10000,A155,المنصرف!E:E)","v":0},0,0,0,{"$f":"'رصيد اول'!D155","v":0}]
[{"$f":"'رصيد اول'!A156","v":0},{"$f":"'رصيد اول'!B156","v":0},{"$f":"SUMIF('رصيد اول'!$A:$B,'رصيد اول'!A156,'رصيد اول'!C:C)","v":0},0,{"$f":"SUMIF(الوارد!$D:$D,الرصيد!A156,الوارد!F:F)","v":0},0,{"$f":"SUMIF(المنصرف!$C$1:$C$10000,A156,المنصرف!E:E)","v":0},0,0,0,{"$f":"'رصيد اول'!D156","v":0}]
[{"$f":"'رصيد اول'!A157","v":0},{"$f":"'رصيد اول'!B157","v":0},{"$f":"SUMIF('رصيد اول'!$A:$B,'رصيد اول'!A157,'رصيد اول'!C:C)","v":0},0,{"$f":"SUMIF(الوارد!$D:$D,الرصيد!A157,الوارد!F:F)","v":0},0,{"$f":"SUMIF(المنصرف!$C$1:$C$10000,A157,المنصرف!E:E)","v":0},0,0,0,{"$f":"'رصيد اول'!D157","v":0}]
[{"$f":"'رصيد اول'!A158","v":0},{"$f":"'رصيد اول'!B158","v":0},{"$f":"SUMIF('رصيد اول'!$A:$B,'رصيد اول'!A158,'رصيد اول'!C:C)","v":0},0,{"$f":"SUMIF(الوارد!$D:$D,الرصيد!A158,الوارد!F:F)","v":0},0,{"$f":"SUMIF(المنصرف!$C$1:$C$10000,A158,المنصرف!E:E)","v":0},0,0,0,{"$f":"'رصيد اول'!D158","v":0}]
[{"$f":"'رصيد اول'!A159","v":0},{"$f":"'رصيد اول'!B159","v":0},{"$f":"SUMIF('رصيد اول'!$A:$B,'رصيد اول'!A159,'رصيد اول'!C:C)","v":0},0,{"$f":"SUMIF(الوارد!$D:$D,الرصيد!A159,الوارد!F:F)","v":0},0,{"$f":"SUMIF(المنصرف!$C$1:$C$10000,A159,المنصرف!E:E)","v":0},0,0,0,{"$f":"'رصيد اول'!D159","v":0}]
[{"$f":"'رصيد اول'!A160","v":0},{"$f":"'رصيد اول'!B160","v":0},{"$f":"SUMIF('رصيد اول'!$A:$B,'رصيد اول'!A160,'رصيد اول'!C:C)","v":0},0,{"$f":"SUMIF(الوارد!$D:$D,الرصيد!A160,الوارد!F:F)","v":0},0,{"$f":"SUMIF(المنصرف!$C$1:$C$10000,A160,المنصرف!E:E)","v":0},0,0,0,{"$f":"'رصيد اول'!D160","v":0}]
[{"$f":"'رصيد اول'!A161","v":0},{"$f":"'رصيد اول'!B161","v":0},{"$f":"SUMIF('رصيد اول'!$A:$B,'رصيد اول'!A161,'رصيد اول'!C:C)","v":0},0,{"$f":"SUMIF(الوارد!$D:$D,الرصيد!A161,الوارد!F:F)","v":0},0,{"$f":"SUMIF(المنصرف!$C$1:$C$10000,A161,المنصرف!E:E)","v":0},0,0,0,{"$f":"'رصيد اول'!D161","v":0}]
[{"$f":"'رصيد اول'!A162","v":0},{"$f":"'رصيد اول'!B162","v":0},{"$f":"SUMIF('رصيد اول'!$A:$B,'رصيد اول'!A162,'رصيد اول'!C:C)","v":0},0,{"$f":"SUMIF(الوارد!$D:$D,الرصيد!A162,الوارد!F:F)","v":0},0,{"$f":"SUMIF(المنصرف!$C$1:$C$10000,A162,المنصرف!E:E)","v":0},0,0,0,{"$f":"'رصيد اول'!D162","v":0}]
[{"$f":"'رصيد اول'!A163","v":0},{"$f":"'رصيد اول'!B163","v":0},{"$f":"SUMIF('رصيد اول'!$A:$B,'رصيد اول'!A163,'رصيد اول'!C:C)","v":0},0,{"$f":"SUMIF(الوارد!$D:$D,الرصيد!A163,الوارد!F:F)","v":0},0,{"$f":"SUMIF(المنصرف!$C$1:$C$10000,A163,المنصرف!E:E)","v":0},0,0,0,{"$f":"'رصيد اول'!D163","v":0}]
[{"$f":"'رصيد اول'!A164","v":0},{"$f":"'رصيد اول'!B164","v":0},{"$f":"SUMIF('رصيد اول'!$A:$B,'رصيد اول'!A164,'رصيد اول'!C:C)","v":0},0,{"$f":"SUMIF(الوارد!$D:$D,الرصيد!A164,الوارد!F:F)","v":0},0,{"$f":"SUMIF(المنصرف!$C$1:$C$10000,A164,المنصرف!E:E)","v":0},0,0,0,{"$f":"'رصيد اول'!D164","v":0}]
[{"$f":"'رصيد اول'!A165","v":0},{"$f":"'رصيد اول'!B165","v":0},{"$f":"SUMIF('رصيد اول'!$A:$B,'رصيد اول'!A165,'رصيد اول'!C:C)","v":0},0,{"$f":"SUMIF(الوارد!$D:$D,الرصيد!A165,الوارد!F:F)","v":0},0,{"$f":"SUMIF(المنصرف!$C$1:$C$10000,A165,المنصرف!E:E)","v":0},0,0,0,{"$f":"'رصيد اول'!D165","v":0}]
[{"$f":"'رصيد اول'!A166","v":0},{"$f":"'رصيد اول'!B166","v":0},{"$f":"SUMIF('رصيد اول'!$A:$B,'رصيد اول'!A166,'رصيد اول'!C:C)","v":0},0,{"$f":"SUMIF(الوارد!$D:$D,الرصيد!A166,الوارد!F:F)","v":0},0,{"$f":"SUMIF(المنصرف!$C$1:$C$10000,A166,المنصرف!E:E)","v":0},0,0,0,{"$f":"'رصيد اول'!D166","v":0}]
[{"$f":"'رصيد اول'!A167","v":0},{"$f":"'رصيد اول'!B167","v":0},{"$f":"SUMIF('رصيد اول'!$A:$B,'رصيد اول'!A167,'رصيد اول'!C:C)","v":0},0,{"$f":"SUMIF(الوارد!$D:$D,الرصيد!A167,الوارد!F:F)","v":0},0,{"$f":"SUMIF(المنصرف!$C$1:$C$10000,A167,المنصرف!E:E)","v":0},0,0,0,{"$f":"'رصيد اول'!D167","v":0}]
[{"$f":"'رصيد اول'!A168","v":0},{"$f":"'رصيد اول'!B168","v":0},{"$f":"SUMIF('رصيد اول'!$A:$B,'رصيد اول'!A168,'رصيد اول'!C:C)","v":0},0,{"$f":"SUMIF(الوارد!$D:$D,الرصيد!A168,الوارد!F:F)","v":0},0,{"$f":"SUMIF(المنصرف!$C$1:$C$10000,A168,المنصرف!E:E)","v":0},0,0,0,{"$f":"'رصيد اول'!D168","v":0}]
[{"$f":"'رصيد اول'!A169","v":0},{"$f":"'رصيد اول'!B169","v":0},{"$f":"SUMIF('رصيد اول'!$A:$B,'رصيد اول'!A169,'رصيد اول'!C:C)","v":0},0,{"$f":"SUMIF(الوارد!$D:$D,الرصيد!A169,الوارد!F:F)","v":0},0,{"$f":"SUMIF(المنصرف!$C$1:$C$10000,A169,المنصرف!E:E)","v":0},0,0,0,{"$f":"'رصيد اول'!D169","v":0}]
[{"$f":"'رصيد اول'!A170","v":0},{"$f":"'رصيد اول'!B170","v":0},{"$f":"SUMIF('رصيد اول'!$A:$B,'رصيد اول'!A170,'رصيد اول'!C:C)","v":0},0,{"$f":"SUMIF(الوارد!$D:$D,الرصيد!A170,الوارد!F:F)","v":0},0,{"$f":"SUMIF(المنصرف!$C$1:$C$10000,A170,المنصرف!E:E)","v":0},0,0,0,{"$f":"'رصيد اول'!D170","v":0}]
[{"$f":"'رصيد اول'!A171","v":0},{"$f":"'رصيد اول'!B171","v":0},{"$f":"SUMIF('رصيد اول'!$A:$B,'رصيد اول'!A171,'رصيد اول'!C:C)","v":0},0,{"$f":"SUMIF(الوارد!$D:$D,الرصيد!A171,الوارد!F:F)","v":0},0,{"$f":"SUMIF(المنصرف!$C$1:$C$10000,A171,المنصرف!E:E)","v":0},0,0,0,{"$f":"'رصيد اول'!D171","v":0}]
[{"$f":"'رصيد اول'!A172","v":0},{"$f":"'رصيد اول'!B172","v":0},{"$f":"SUMIF('رصيد اول'!$A:$B,'رصيد اول'!A172,'رصيد اول'!C:C)","v":0},0,{"$f":"SUMIF(الوارد!$D:$D,الرصيد!A172,الوارد!F:F)","v":0},0,{"$f":"SUMIF(المنصرف!$C$1:$C$10000,A172,المنصرف!E:E)","v":0},0,0,0,{"$f":"'رصيد اول'!D172","v":0}]
[{"$f":"'رصيد اول'!A173","v":0},{"$f":"'رصيد اول'!B173","v":0},{"$f":"SUMIF('رصيد اول'!$A:$B,'رصيد اول'!A173,'رصيد اول'!C:C)","v":0},0,{"$f":"SUMIF(الوارد!$D:$D,الرصيد!A173,الوارد!F:F)","v":0},0,{"$f":"SUMIF(المنصرف!$C$1:$C$10000,A173,المنصرف!E:E)","v":0},0,0,0,{"$f":"'رصيد اول'!D173","v":0}]
[{"$f":"'رصيد اول'!A174","v":0},{"$f":"'رصيد اول'!B174","v":0},{"$f":"SUMIF('رصيد اول'!$A:$B,'رصيد اول'!A174,'رصيد اول'!C:C)","v":0},0,{"$f":"SUMIF(الوارد!$D:$D,الرصيد!A174,الوارد!F:F)","v":0},0,{"$f":"SUMIF(المنصرف!$C$1:$C$10000,A174,المنصرف!E:E)","v":0},0,0,0,{"$f":"'رصيد اول'!D174","v":0}]
[{"$f":"'رصيد اول'!A175","v":0},{"$f":"'رصيد اول'!B175","v":0},{"$f":"SUMIF('رصيد اول'!$A:$B,'رصيد اول'!A175,'رصيد اول'!C:C)","v":0},0,{"$f":"SUMIF(الوارد!$D:$D,الرصيد!A175,الوارد!F:F)","v":0},0,{"$f":"SUMIF(المنصرف!$C$1:$C$10000,A175,المنصرف!E:E)","v":0},0,0,0,{"$f":"'رصيد اول'!D175","v":0}]
[{"$f":"'رصيد اول'!A176","v":0},{"$f":"'رصيد اول'!B176","v":0},{"$f":"SUMIF('رصيد اول'!$A:$B,'رصيد اول'!A176,'رصيد اول'!C:C)","v":0},0,{"$f":"SUMIF(الوارد!$D:$D,الرصيد!A176,الوارد!F:F)","v":0},0,{"$f":"SUMIF(المنصرف!$C$1:$C$10000,A176,المنصرف!E:E)","v":0},0,0,0,{"$f":"'رصيد اول'!D176","v":0}]
[{"$f":"'رصيد اول'!A177","v":0},{"$f":"'رصيد اول'!B177","v":0},{"$f":"SUMIF('رصيد اول'!$A:$B,'رصيد اول'!A177,'رصيد اول'!C:C)","v":0},0,{"$f":"SUMIF(الوارد!$D:$D,الرصيد!A177,الوارد!F:F)","v":0},0,{"$f":"SUMIF(المنصرف!$C$1:$C$10000,A177,المنصرف!E:E)","v":0},0,0,0,{"$f":"'رصيد اول'!D177","v":0}]
[{"$f":"'رصيد اول'!A178","v":0},{"$f":"'رصيد اول'!B178","v":0},{"$f":"SUMIF('رصيد اول'!$A:$B,'رصيد اول'!A178,'رصيد اول'!C:C)","v":0},0,{"$f":"SUMIF(الوارد!$D:$D,الرصيد!A178,الوارد!F:F)","v":0},0,{"$f":"SUMIF(المنصرف!$C$1:$C$10000,A178,المنصرف!E:E)","v":0},0,0,0,{"$f":"'رصيد اول'!D178","v":0}]
[{"$f":"'رصيد اول'!A179","v":0},{"$f":"'رصيد اول'!B179","v":0},{"$f":"SUMIF('رصيد اول'!$A:$B,'رصيد اول'!A179,'رصيد اول'!C:C)","v":0},0,{"$f":"SUMIF(الوارد!$D:$D,الرصيد!A179,الوارد!F:F)","v":0},0,{"$f":"SUMIF(المنصرف!$C$1:$C$10000,A179,المنصرف!E:E)","v":0},0,0,0,{"$f":"'رصيد اول'!D179","v":0}]
[{"$f":"'رصيد اول'!A180","v":0},{"$f":"'رصيد اول'!B180","v":0},{"$f":"SUMIF('رصيد اول'!$A:$B,'رصيد اول'!A180,'رصيد اول'!C:C)","v":0},0,{"$f":"SUMIF(الوارد!$D:$D,الرصيد!A180,الوارد!F:F)","v":0},0,{"$f":"SUMIF(المنصرف!$C$1:$C$10000,A180,المنصرف!E:E)","v":0},0,0,0,{"$f":"'رصيد اول'!D180","v":0}]
[{"$f":"'رصيد اول'!A181","v":0},{"$f":"'رصيد اول'!B181","v":0},{"$f":"SUMIF('رصيد اول'!$A:$B,'رصيد اول'!A181,'رصيد اول'!C:C)","v":0},0,{"$f":"SUMIF(الوارد!$D:$D,الرصيد!A181,الوارد!F:F)","v":0},0,{"$f":"SUMIF(المنصرف!$C$1:$C$10000,A181,المنصرف!E:E)","v":0},0,0,0,{"$f":"'رصيد اول'!D181","v":0}]
[{"$f":"'رصيد اول'!A182","v":0},{"$f":"'رصيد اول'!B182","v":0},{"$f":"SUMIF('رصيد اول'!$A:$B,'رصيد اول'!A182,'رصيد اول'!C:C)","v":0},0,{"$f":"SUMIF(الوارد!$D:$D,الرصيد!A182,الوارد!F:F)","v":0},0,{"$f":"SUMIF(المنصرف!$C$1:$C$10000,A182,المنصرف!E:E)","v":0},0,0,0,{"$f":"'رصيد اول'!D182","v":0}]
[{"$f":"'رصيد اول'!A183","v":0},{"$f":"'رصيد اول'!B183","v":0},{"$f":"SUMIF('رصيد اول'!$A:$B,'رصيد اول'!A183,'رصيد اول'!C:C)","v":0},0,{"$f":"SUMIF(الوارد!$D:$D,الرصيد!A183,الوارد!F:F)","v":0},0,{"$f":"SUMIF(المنصرف!$C$1:$C$10000,A183,المنصرف!E:E)","v":0},0,0,0,{"$f":"'رصيد اول'!D183","v":0}]
[{"$f":"'رصيد اول'!A184","v":0},{"$f":"'رصيد اول'!B184","v":0},{"$f":"SUMIF('رصيد اول'!$A:$B,'رصيد اول'!A184,'رصيد اول'!C:C)","v":0},0,{"$f":"SUMIF(الوارد!$D:$D,الرصيد!A184,الوارد!F:F)","v":0},0,{"$f":"SUMIF(المنصرف!$C$1:$C$10000,A184,المنصرف!E:E)","v":0},0,0,0,{"$f":"'رصيد اول'!D184","v":0}]
[{"$f":"'رصيد اول'!A185","v":0},{"$f":"'رصيد اول'!B185","v":0},{"$f":"SUMIF('رصيد اول'!$A:$B,'رصيد اول'!A185,'رصيد اول'!C:C)","v":0},0,{"$f":"SUMIF(الوارد!$D:$D,الرصيد!A185,الوارد!F:F)","v":0},0,{"$f":"SUMIF(المنصرف!$C$1:$C$10000,A185,المنصرف!E:E)","v":0},0,0,0,{"$f":"'رصيد اول'!D185","v":0}]
[{"$f":"'رصيد اول'!A186","v":0},{"$f":"'رصيد اول'!B186","v":0},{"$f":"SUMIF('رصيد اول'!$A:$B,'رصيد اول'!A186,'رصيد اول'!C:C)","v":0},0,{"$f":"SUMIF(الوارد!$D:$D,الرصيد!A186,الوارد!F:F)","v":0},0,{"$f":"SUMIF(المنصرف!$C$1:$C$10000,A186,المنصرف!E:E)","v":0},0,0,0,{"$f":"'رصيد اول'!D186","v":0}]
[{"$f":"'رصيد اول'!A187","v":0},{"$f":"'رصيد اول'!B187","v":0},{"$f":"SUMIF('رصيد اول'!$A:$B,'رصيد اول'!A187,'رصيد اول'!C:C)","v":0},0,{"$f":"SUMIF(الوارد!$D:$D,الرصيد!A187,الوارد!F:F)","v":0},0,{"$f":"SUMIF(المنصرف!$C$1:$C$10000,A187,المنصرف!E:E)","v":0},0,0,0,{"$f":"'رصيد اول'!D187","v":0}]
[{"$f":"'رصيد اول'!A188","v":0},{"$f":"'رصيد اول'!B188","v":0},{"$f":"SUMIF('رصيد اول'!$A:$B,'رصيد اول'!A188,'رصيد اول'!C:C)","v":0},0,{"$f":"SUMIF(الوارد!$D:$D,الرصيد!A188,الوارد!F:F)","v":0},0,{"$f":"SUMIF(المنصرف!$C$1:$C$10000,A188,المنصرف!E:E)","v":0},0,0,0,{"$f":"'رصيد اول'!D188","v":0}]
[{"$f":"'رصيد اول'!A189","v":0},{"$f":"'رصيد اول'!B189","v":0},{"$f":"SUMIF('رصيد اول'!$A:$B,'رصيد اول'!A189,'رصيد اول'!C:C)","v":0},0,{"$f":"SUMIF(الوارد!$D:$D,الرصيد!A189,الوارد!F:F)","v":0},0,{"$f":"SUMIF(المنصرف!$C$1:$C$10000,A189,المنصرف!E:E)","v":0},0,0,0,{"$f":"'رصيد اول'!D189","v":0}]
[{"$f":"'رصيد اول'!A190","v":0},{"$f":"'رصيد اول'!B190","v":0},{"$f":"SUMIF('رصيد اول'!$A:$B,'رصيد اول'!A190,'رصيد اول'!C:C)","v":0},0,{"$f":"SUMIF(الوارد!$D:$D,الرصيد!A190,الوارد!F:F)","v":0},0,{"$f":"SUMIF(المنصرف!$C$1:$C$10000,A190,المنصرف!E:E)","v":0},0,0,0,{"$f":"'رصيد اول'!D190","v":0}]
[{"$f":"'رصيد اول'!A191","v":0},{"$f":"'رصيد اول'!B191","v":0},{"$f":"SUMIF('رصيد اول'!$A:$B,'رصيد اول'!A191,'رصيد اول'!C:C)","v":0},0,{"$f":"SUMIF(الوارد!$D:$D,الرصيد!A191,الوارد!F:F)","v":0},0,{"$f":"SUMIF(المنصرف!$C$1:$C$10000,A191,المنصرف!E:E)","v":0},0,0,0,{"$f":"'رصيد اول'!D191","v":0}]
[{"$f":"'رصيد اول'!A192","v":0},{"$f":"'رصيد اول'!B192","v":0},{"$f":"SUMIF('رصيد اول'!$A:$B,'رصيد اول'!A192,'رصيد اول'!C:C)","v":0},0,{"$f":"SUMIF(الوارد!$D:$D,الرصيد!A192,الوارد!F:F)","v":0},0,{"$f":"SUMIF(المنصرف!$C$1:$C$10000,A192,المنصرف!E:E)","v":0},0,0,0,{"$f":"'رصيد اول'!D192","v":0}]
[{"$f":"'رصيد اول'!A193","v":0},{"$f":"'رصيد اول'!B193","v":0},{"$f":"SUMIF('رصيد اول'!$A:$B,'رصيد اول'!A193,'رصيد اول'!C:C)","v":0},0,{"$f":"SUMIF(الوارد!$D:$D,الرصيد!A193,الوارد!F:F)","v":0},0,{"$f":"SUMIF(المنصرف!$C$1:$C$10000,A193,المنصرف!E:E)","v":0},0,0,0,{"$f":"'رصيد اول'!D193","v":0}]
[{"$f":"'رصيد اول'!A194","v":0},{"$f":"'رصيد اول'!B194","v":0},{"$f":"SUMIF('رصيد اول'!$A:$B,'رصيد اول'!A194,'رصيد اول'!C:C)","v":0},0,{"$f":"SUMIF(الوارد!$D:$D,الرصيد!A194,الوارد!F:F)","v":0},0,{"$f":"SUMIF(المنصرف!$C$1:$C$10000,A194,المنصرف!E:E)","v":0},0,0,0,{"$f":"'رصيد اول'!D194","v":0}]
[{"$f":"'رصيد اول'!A195","v":0},{"$f":"'رصيد اول'!B195","v":0},{"$f":"SUMIF('رصيد اول'!$A:$B,'رصيد اول'!A195,'رصيد اول'!C:C)","v":0},0,{"$f":"SUMIF(الوارد!$D:$D,الرصيد!A195,الوارد!F:F)","v":0},0,{"$f":"SUMIF(المنصرف!$C$1:$C$10000,A195,المنصرف!E:E)","v":0},0,{"$f":"C195+E195-G195","v":0},0,{"$f":"'رصيد اول'!D195","v":0}]
[{"$f":"'رصيد اول'!A196","v":0},{"$f":"'رصيد اول'!B196","v":0},{"$f":"SUMIF('رصيد اول'!$A:$B,'رصيد اول'!A196,'رصيد اول'!C:C)","v":0},{"$f":"C196*K196","v":0},{"$f":"SUMIF(الوارد!$D:$D,الرصيد!A196,الوارد!F:F)","v":0},{"$f":"+E196*K196","v":0},{"$f":"SUMIF(المنصرف!$C$1:$C$10000,A196,المنصرف!E:E)","v":0},{"$f":"G196*K196","v":0},0,{"$f":"I196*K196","v":0},{"$f":"'رصيد اول'!D196","v":0}]
[{"$f":"'رصيد اول'!A197","v":0},{"$f":"'رصيد اول'!B197","v":0},{"$f":"SUMIF('رصيد اول'!$A:$B,'رصيد اول'!A197,'رصيد اول'!C:C)","v":0},0,{"$f":"SUMIF(الوارد!$D:$D,الرصيد!A197,الوارد!F:F)","v":0},0,{"$f":"SUMIF(المنصرف!$C$1:$C$10000,A197,المنصرف!E:E)","v":0},0,0,0,{"$f":"'رصيد اول'!D197","v":0}]
[{"$f":"'رصيد اول'!A198","v":0},{"$f":"'رصيد اول'!B198","v":0},{"$f":"SUMIF('رصيد اول'!$A:$B,'رصيد اول'!A198,'رصيد اول'!C:C)","v":0},0,{"$f":"SUMIF(الوارد!$D:$D,الرصيد!A198,الوارد!F:F)","v":0},0,{"$f":"SUMIF(المنصرف!$C$1:$C$10000,A198,المنصرف!E:E)","v":0},0,0,0,{"$f":"'رصيد اول'!D198","v":0}]
[{"$f":"'رصيد اول'!A199","v":0},{"$f":"'رصيد اول'!B199","v":0},{"$f":"SUMIF('رصيد اول'!$A:$B,'رصيد اول'!A199,'رصيد اول'!C:C)","v":0},0,{"$f":"SUMIF(الوارد!$D:$D,الرصيد!A199,الوارد!F:F)","v":0},0,{"$f":"SUMIF(المنصرف!$C$1:$C$10000,A199,المنصرف!E:E)","v":0},0,0,0,{"$f":"'رصيد اول'!D199","v":0}]
[{"$f":"'رصيد اول'!A200","v":0},{"$f":"'رصيد اول'!B200","v":0},{"$f":"SUMIF('رصيد اول'!$A:$B,'رصيد اول'!A200,'رصيد اول'!C:C)","v":0},0,{"$f":"SUMIF(الوارد!$D:$D,الرصيد!A200,الوارد!F:F)","v":0},0,{"$f":"SUMIF(المنصرف!$C$1:$C$10000,A200,المنصرف!E:E)","v":0},0,0,0,{"$f":"'رصيد اول'!D200","v":0}]
[{"$f":"'رصيد اول'!A201","v":0},{"$f":"'رصيد اول'!B201","v":0},{"$f":"SUMIF('رصيد اول'!$A:$B,'رصيد اول'!A201,'رصيد اول'!C:C)","v":0},0,{"$f":"SUMIF(الوارد!$D:$D,الرصيد!A201,الوارد!F:F)","v":0},0,{"$f":"SUMIF(المنصرف!$C$1:$C$10000,A201,المنصرف!E:E)","v":0},0,0,0,{"$f":"'رصيد اول'!D201","v":0}]
[{"$f":"'رصيد اول'!A202","v":0},{"$f":"'رصيد اول'!B202","v":0},{"$f":"SUMIF('رصيد اول'!$A:$B,'رصيد اول'!A202,'رصيد اول'!C:C)","v":0},0,{"$f":"SUMIF(الوارد!$D:$D,الرصيد!A202,الوارد!F:F)","v":0},0,{"$f":"SUMIF(المنصرف!$C$1:$C$10000,A202,المنصرف!E:E)","v":0},0,0,0,{"$f":"'رصيد اول'!D202","v":0}]
[{"$f":"'رصيد اول'!A203","v":0},{"$f":"'رصيد اول'!B203","v":0},{"$f":"SUMIF('رصيد اول'!$A:$B,'رصيد اول'!A203,'رصيد اول'!C:C)","v":0},0,{"$f":"SUMIF(الوارد!$D:$D,الرصيد!A203,الوارد!F:F)","v":0},0,{"$f":"SUMIF(المنصرف!$C$1:$C$10000,A203,المنصرف!E:E)","v":0},0,0,0,{"$f":"'رصيد اول'!D203","v":0}]
[{"$f":"'رصيد اول'!A204","v":0},{"$f":"'رصيد اول'!B204","v":0},{"$f":"SUMIF('رصيد اول'!$A:$B,'رصيد اول'!A204,'رصيد اول'!C:C)","v":0},0,{"$f":"SUMIF(الوارد!$D:$D,الرصيد!A204,الوارد!F:F)","v":0},0,{"$f":"SUMIF(المنصرف!$C$1:$C$10000,A204,المنصرف!E:E)","v":0},0,0,0,{"$f":"'رصيد اول'!D204","v":0}]
[{"$f":"'رصيد اول'!A205","v":0},{"$f":"'رصيد اول'!B205","v":0},{"$f":"SUMIF('رصيد اول'!$A:$B,'رصيد اول'!A205,'رصيد اول'!C:C)","v":0},0,{"$f":"SUMIF(الوارد!$D:$D,الرصيد!A205,الوارد!F:F)","v":0},0,{"$f":"SUMIF(المنصرف!$C$1:$C$10000,A205,المنصرف!E:E)","v":0},0,0,0,{"$f":"'رصيد اول'!D205","v":0}]
[{"$f":"'رصيد اول'!A206","v":0},{"$f":"'رصيد اول'!B206","v":0},{"$f":"SUMIF('رصيد اول'!$A:$B,'رصيد اول'!A206,'رصيد اول'!C:C)","v":0},0,{"$f":"SUMIF(الوارد!$D:$D,الرصيد!A206,الوارد!F:F)","v":0},0,{"$f":"SUMIF(المنصرف!$C$1:$C$10000,A206,المنصرف!E:E)","v":0},0,0,0,{"$f":"'رصيد اول'!D206","v":0}]
[{"$f":"'رصيد اول'!A207","v":0},{"$f":"'رصيد اول'!B207","v":0},{"$f":"SUMIF('رصيد اول'!$A:$B,'رصيد اول'!A207,'رصيد اول'!C:C)","v":0},0,{"$f":"SUMIF(الوارد!$D:$D,الرصيد!A207,الوارد!F:F)","v":0},0,{"$f":"SUMIF(المنصرف!$C$1:$C$10000,A207,المنصرف!E:E)","v":0},0,0,0,{"$f":"'رصيد اول'!D207","v":0}]
[{"$f":"'رصيد اول'!A208","v":0},{"$f":"'رصيد اول'!B208","v":0},{"$f":"SUMIF('رصيد اول'!$A:$B,'رصيد اول'!A208,'رصيد اول'!C:C)","v":0},0,{"$f":"SUMIF(الوارد!$D:$D,الرصيد!A208,الوارد!F:F)","v":0},0,{"$f":"SUMIF(المنصرف!$C$1:$C$10000,A208,المنصرف!E:E)","v":0},0,0,0,{"$f":"'رصيد اول'!D208","v":0}]
[{"$f":"'رصيد اول'!A209","v":0},{"$f":"'رصيد اول'!B209","v":0},{"$f":"SUMIF('رصيد اول'!$A:$B,'رصيد اول'!A209,'رصيد اول'!C:C)","v":0},0,{"$f":"SUMIF(الوارد!$D:$D,الرصيد!A209,الوارد!F:F)","v":0},0,{"$f":"SUMIF(المنصرف!$C$1:$C$10000,A209,المنصرف!E:E)","v":0},0,0,0,{"$f":"'رصيد اول'!D209","v":0}]
[{"$f":"'رصيد اول'!A210","v":0},{"$f":"'رصيد اول'!B210","v":0},{"$f":"SUMIF('رصيد اول'!$A:$B,'رصيد اول'!A210,'رصيد اول'!C:C)","v":0},0,{"$f":"SUMIF(الوارد!$D:$D,الرصيد!A210,الوارد!F:F)","v":0},0,{"$f":"SUMIF(المنصرف!$C$1:$C$10000,A210,المنصرف!E:E)","v":0},0,0,0,{"$f":"'رصيد اول'!D210","v":0}]
[{"$f":"'رصيد اول'!A211","v":0},{"$f":"'رصيد اول'!B211","v":0},{"$f":"SUMIF('رصيد اول'!$A:$B,'رصيد اول'!A211,'رصيد اول'!C:C)","v":0},0,{"$f":"SUMIF(الوارد!$D:$D,الرصيد!A211,الوارد!F:F)","v":0},0,{"$f":"SUMIF(المنصرف!$C$1:$C$10000,A211,المنصرف!E:E)","v":0},0,0,0,{"$f":"'رصيد اول'!D211","v":0}]
[{"$f":"'رصيد اول'!A212","v":0},{"$f":"'رصيد اول'!B212","v":0},{"$f":"SUMIF('رصيد اول'!$A:$B,'رصيد اول'!A212,'رصيد اول'!C:C)","v":0},0,{"$f":"SUMIF(الوارد!$D:$D,الرصيد!A212,الوارد!F:F)","v":0},0,{"$f":"SUMIF(المنصرف!$C$1:$C$10000,A212,المنصرف!E:E)","v":0},0,0,0,{"$f":"'رصيد اول'!D212","v":0}]
[{"$f":"'رصيد اول'!A213","v":0},{"$f":"'رصيد اول'!B213","v":0},{"$f":"SUMIF('رصيد اول'!$A:$B,'رصيد اول'!A213,'رصيد اول'!C:C)","v":0},0,{"$f":"SUMIF(الوارد!$D:$D,الرصيد!A213,الوارد!F:F)","v":0},0,{"$f":"SUMIF(المنصرف!$C$1:$C$10000,A213,المنصرف!E:E)","v":0},0,0,0,{"$f":"'رصيد اول'!D213","v":0}]
[{"$f":"'رصيد اول'!A214","v":0},{"$f":"'رصيد اول'!B214","v":0},{"$f":"SUMIF('رصيد اول'!$A:$B,'رصيد اول'!A214,'رصيد اول'!C:C)","v":0},0,{"$f":"SUMIF(الوارد!$D:$D,الرصيد!A214,الوارد!F:F)","v":0},0,{"$f":"SUMIF(المنصرف!$C$1:$C$10000,A214,المنصرف!E:E)","v":0},0,0,0,{"$f":"'رصيد اول'!D214","v":0}]
[{"$f":"'رصيد اول'!A215","v":0},{"$f":"'رصيد اول'!B215","v":0},{"$f":"SUMIF('رصيد اول'!$A:$B,'رصيد اول'!A215,'رصيد اول'!C:C)","v":0},0,{"$f":"SUMIF(الوارد!$D:$D,الرصيد!A215,الوارد!F:F)","v":0},0,{"$f":"SUMIF(المنصرف!$C$1:$C$10000,A215,المنصرف!E:E)","v":0},0,0,0,{"$f":"'رصيد اول'!D215","v":0}]
[{"$f":"'رصيد اول'!A216","v":0},{"$f":"'رصيد اول'!B216","v":0},{"$f":"SUMIF('رصيد اول'!$A:$B,'رصيد اول'!A216,'رصيد اول'!C:C)","v":0},0,{"$f":"SUMIF(الوارد!$D:$D,الرصيد!A216,الوارد!F:F)","v":0},0,{"$f":"SUMIF(المنصرف!$C$1:$C$10000,A216,المنصرف!E:E)","v":0},0,0,0,{"$f":"'رصيد اول'!D216","v":0}]
[{"$f":"'رصيد اول'!A217","v":0},{"$f":"'رصيد اول'!B217","v":0},{"$f":"SUMIF('رصيد اول'!$A:$B,'رصيد اول'!A217,'رصيد اول'!C:C)","v":0},0,{"$f":"SUMIF(الوارد!$D:$D,الرصيد!A217,الوارد!F:F)","v":0},0,{"$f":"SUMIF(المنصرف!$C$1:$C$10000,A217,المنصرف!E:E)","v":0},0,0,0,{"$f":"'رصيد اول'!D217","v":0}]
[{"$f":"'رصيد اول'!A218","v":0},{"$f":"'رصيد اول'!B218","v":0},{"$f":"SUMIF('رصيد اول'!$A:$B,'رصيد اول'!A218,'رصيد اول'!C:C)","v":0},0,{"$f":"SUMIF(الوارد!$D:$D,الرصيد!A218,الوارد!F:F)","v":0},0,{"$f":"SUMIF(المنصرف!$C$1:$C$10000,A218,المنصرف!E:E)","v":0},0,0,0,{"$f":"'رصيد اول'!D218","v":0}]
[{"$f":"'رصيد اول'!A219","v":0},{"$f":"'رصيد اول'!B219","v":0},{"$f":"SUMIF('رصيد اول'!$A:$B,'رصيد اول'!A219,'رصيد اول'!C:C)","v":0},0,{"$f":"SUMIF(الوارد!$D:$D,الرصيد!A219,الوارد!F:F)","v":0},0,{"$f":"SUMIF(المنصرف!$C$1:$C$10000,A219,المنصرف!E:E)","v":0},0,0,0,{"$f":"'رصيد اول'!D219","v":0}]
[{"$f":"'رصيد اول'!A220","v":0},{"$f":"'رصيد اول'!B220","v":0},{"$f":"SUMIF('رصيد اول'!$A:$B,'رصيد اول'!A220,'رصيد اول'!C:C)","v":0},0,{"$f":"SUMIF(الوارد!$D:$D,الرصيد!A220,الوارد!F:F)","v":0},0,{"$f":"SUMIF(المنصرف!$C$1:$C$10000,A220,المنصرف!E:E)","v":0},0,0,0,{"$f":"'رصيد اول'!D220","v":0}]
[{"$f":"'رصيد اول'!A221","v":0},{"$f":"'رصيد اول'!B221","v":0},{"$f":"SUMIF('رصيد اول'!$A:$B,'رصيد اول'!A221,'رصيد اول'!C:C)","v":0},0,{"$f":"SUMIF(الوارد!$D:$D,الرصيد!A221,الوارد!F:F)","v":0},0,{"$f":"SUMIF(المنصرف!$C$1:$C$10000,A221,المنصرف!E:E)","v":0},0,0,0,{"$f":"'رصيد اول'!D221","v":0}]
[{"$f":"'رصيد اول'!A222","v":0},{"$f":"'رصيد اول'!B222","v":0},{"$f":"SUMIF('رصيد اول'!$A:$B,'رصيد اول'!A222,'رصيد اول'!C:C)","v":0},0,{"$f":"SUMIF(الوارد!$D:$D,الرصيد!A222,الوارد!F:F)","v":0},0,{"$f":"SUMIF(المنصرف!$C$1:$C$10000,A222,المنصرف!E:E)","v":0},0,0,0,{"$f":"'رصيد اول'!D222","v":0}]
[{"$f":"'رصيد اول'!A223","v":0},{"$f":"'رصيد اول'!B223","v":0},{"$f":"SUMIF('رصيد اول'!$A:$B,'رصيد اول'!A223,'رصيد اول'!C:C)","v":0},0,{"$f":"SUMIF(الوارد!$D:$D,الرصيد!A223,الوارد!F:F)","v":0},0,{"$f":"SUMIF(المنصرف!$C$1:$C$10000,A223,المنصرف!E:E)","v":0},0,0,0,{"$f":"'رصيد اول'!D223","v":0}]
[{"$f":"'رصيد اول'!A224","v":0},{"$f":"'رصيد اول'!B224","v":0},{"$f":"SUMIF('رصيد اول'!$A:$B,'رصيد اول'!A224,'رصيد اول'!C:C)","v":0},0,{"$f":"SUMIF(الوارد!$D:$D,الرصيد!A224,الوارد!F:F)","v":0},0,{"$f":"SUMIF(المنصرف!$C$1:$C$10000,A224,المنصرف!E:E)","v":0},0,0,0,{"$f":"'رصيد اول'!D224","v":0}]
[{"$f":"'رصيد اول'!A225","v":0},{"$f":"'رصيد اول'!B225","v":0},{"$f":"SUMIF('رصيد اول'!$A:$B,'رصيد اول'!A225,'رصيد اول'!C:C)","v":0},0,{"$f":"SUMIF(الوارد!$D:$D,الرصيد!A225,الوارد!F:F)","v":0},0,{"$f":"SUMIF(المنصرف!$C$1:$C$10000,A225,المنصرف!E:E)","v":0},0,0,0,{"$f":"'رصيد اول'!D225","v":0}]
[{"$f":"'رصيد اول'!A226","v":0},{"$f":"'رصيد اول'!B226","v":0},{"$f":"SUMIF('رصيد اول'!$A:$B,'رصيد اول'!A226,'رصيد اول'!C:C)","v":0},0,{"$f":"SUMIF(الوارد!$D:$D,الرصيد!A226,الوارد!F:F)","v":0},0,{"$f":"SUMIF(المنصرف!$C$1:$C$10000,A226,المنصرف!E:E)","v":0},0,0,0,{"$f":"'رصيد اول'!D226","v":0}]
[{"$f":"'رصيد اول'!A227","v":0},{"$f":"'رصيد اول'!B227","v":0},{"$f":"SUMIF('رصيد اول'!$A:$B,'رصيد اول'!A227,'رصيد اول'!C:C)","v":0},0,{"$f":"SUMIF(الوارد!$D:$D,الرصيد!A227,الوارد!F:F)","v":0},0,{"$f":"SUMIF(المنصرف!$C$1:$C$10000,A227,المنصرف!E:E)","v":0},0,0,0,{"$f":"'رصيد اول'!D227","v":0}]
[{"$f":"'رصيد اول'!A228","v":0},{"$f":"'رصيد اول'!B228","v":0},{"$f":"SUMIF('رصيد اول'!$A:$B,'رصيد اول'!A228,'رصيد اول'!C:C)","v":0},0,{"$f":"SUMIF(الوارد!$D:$D,الرصيد!A228,الوارد!F:F)","v":0},0,{"$f":"SUMIF(المنصرف!$C$1:$C$10000,A228,المنصرف!E:E)","v":0},0,0,0,{"$f":"'رصيد اول'!D228","v":0}]
[{"$f":"'رصيد اول'!A229","v":0},{"$f":"'رصيد اول'!B229","v":0},{"$f":"SUMIF('رصيد اول'!$A:$B,'رصيد اول'!A229,'رصيد اول'!C:C)","v":0},0,{"$f":"SUMIF(الوارد!$D:$D,الرصيد!A229,الوارد!F:F)","v":0},0,{"$f":"SUMIF(المنصرف!$C$1:$C$10000,A229,المنصرف!E:E)","v":0},0,0,0,{"$f":"'رصيد اول'!D229","v":0}]
[{"$f":"'رصيد اول'!A230","v":0},{"$f":"'رصيد اول'!B230","v":0},{"$f":"SUMIF('رصيد اول'!$A:$B,'رصيد اول'!A230,'رصيد اول'!C:C)","v":0},0,{"$f":"SUMIF(الوارد!$D:$D,الرصيد!A230,الوارد!F:F)","v":0},0,{"$f":"SUMIF(المنصرف!$C$1:$C$10000,A230,المنصرف!E:E)","v":0},0,0,0,{"$f":"'رصيد اول'!D230","v":0}]
[{"$f":"'رصيد اول'!A231","v":0},{"$f":"'رصيد اول'!B231","v":0},{"$f":"SUMIF('رصيد اول'!$A:$B,'رصيد اول'!A231,'رصيد اول'!C:C)","v":0},0,{"$f":"SUMIF(الوارد!$D:$D,الرصيد!A231,الوارد!F:F)","v":0},0,{"$f":"SUMIF(المنصرف!$C$1:$C$10000,A231,المنصرف!E:E)","v":0},0,0,0,{"$f":"'رصيد اول'!D231","v":0}]
[{"$f":"'رصيد اول'!A232","v":0},{"$f":"'رصيد اول'!B232","v":0},{"$f":"SUMIF('رصيد اول'!$A:$B,'رصيد اول'!A232,'رصيد اول'!C:C)","v":0},0,{"$f":"SUMIF(الوارد!$D:$D,الرصيد!A232,الوارد!F:F)","v":0},0,{"$f":"SUMIF(المنصرف!$C$1:$C$10000,A232,المنصرف!E:E)","v":0},0,0,0,{"$f":"'رصيد اول'!D232","v":0}]
[{"$f":"'رصيد اول'!A233","v":0},{"$f":"'رصيد اول'!B233","v":0},{"$f":"SUMIF('رصيد اول'!$A:$B,'رصيد اول'!A233,'رصيد اول'!C:C)","v":0},0,{"$f":"SUMIF(الوارد!$D:$D,الرصيد!A233,الوارد!F:F)","v":0},0,{"$f":"SUMIF(المنصرف!$C$1:$C$10000,A233,المنصرف!E:E)","v":0},0,0,0,{"$f":"'رصيد اول'!D233","v":0}]
[{"$f":"'رصيد اول'!A234","v":0},{"$f":"'رصيد اول'!B234","v":0},{"$f":"SUMIF('رصيد اول'!$A:$B,'رصيد اول'!A234,'رصيد اول'!C:C)","v":0},0,{"$f":"SUMIF(الوارد!$D:$D,الرصيد!A234,الوارد!F:F)","v":0},0,{"$f":"SUMIF(المنصرف!$C$1:$C$10000,A234,المنصرف!E:E)","v":0},0,0,0,{"$f":"'رصيد اول'!D234","v":0}]
[{"$f":"'رصيد اول'!A235","v":0},{"$f":"'رصيد اول'!B235","v":0},{"$f":"SUMIF('رصيد اول'!$A:$B,'رصيد اول'!A235,'رصيد اول'!C:C)","v":0},0,{"$f":"SUMIF(الوارد!$D:$D,الرصيد!A235,الوارد!F:F)","v":0},0,{"$f":"SUMIF(المنصرف!$C$1:$C$10000,A235,المنصرف!E:E)","v":0},0,0,0,{"$f":"'رصيد اول'!D235","v":0}]
[{"$f":"'رصيد اول'!A236","v":0},{"$f":"'رصيد اول'!B236","v":0},{"$f":"SUMIF('رصيد اول'!$A:$B,'رصيد اول'!A236,'رصيد اول'!C:C)","v":0},0,{"$f":"SUMIF(الوارد!$D:$D,الرصيد!A236,الوارد!F:F)","v":0},0,{"$f":"SUMIF(المنصرف!$C$1:$C$10000,A236,المنصرف!E:E)","v":0},0,0,0,{"$f":"'رصيد اول'!D236","v":0}]
[{"$f":"'رصيد اول'!A237","v":0},{"$f":"'رصيد اول'!B237","v":0},{"$f":"SUMIF('رصيد اول'!$A:$B,'رصيد اول'!A237,'رصيد اول'!C:C)","v":0},0,{"$f":"SUMIF(الوارد!$D:$D,الرصيد!A237,الوارد!F:F)","v":0},0,{"$f":"SUMIF(المنصرف!$C$1:$C$10000,A237,المنصرف!E:E)","v":0},0,0,0,{"$f":"'رصيد اول'!D237","v":0}]
[{"$f":"'رصيد اول'!A238","v":0},{"$f":"'رصيد اول'!B238","v":0},{"$f":"SUMIF('رصيد اول'!$A:$B,'رصيد اول'!A238,'رصيد اول'!C:C)","v":0},0,{"$f":"SUMIF(الوارد!$D:$D,الرصيد!A238,الوارد!F:F)","v":0},0,{"$f":"SUMIF(المنصرف!$C$1:$C$10000,A238,المنصرف!E:E)","v":0},0,0,0,{"$f":"'رصيد اول'!D238","v":0}]
[{"$f":"'رصيد اول'!A239","v":0},{"$f":"'رصيد اول'!B239","v":0},{"$f":"SUMIF('رصيد اول'!$A:$B,'رصيد اول'!A239,'رصيد اول'!C:C)","v":0},0,{"$f":"SUMIF(الوارد!$D:$D,الرصيد!A239,الوارد!F:F)","v":0},0,{"$f":"SUMIF(المنصرف!$C$1:$C$10000,A239,المنصرف!E:E)","v":0},0,0,0,{"$f":"'رصيد اول'!D239","v":0}]
[{"$f":"'رصيد اول'!A240","v":0},{"$f":"'رصيد اول'!B240","v":0},{"$f":"SUMIF('رصيد اول'!$A:$B,'رصيد اول'!A240,'رصيد اول'!C:C)","v":0},0,{"$f":"SUMIF(الوارد!$D:$D,الرصيد!A240,الوارد!F:F)","v":0},0,{"$f":"SUMIF(المنصرف!$C$1:$C$10000,A240,المنصرف!E:E)","v":0},0,0,0,{"$f":"'رصيد اول'!D240","v":0}]
[{"$f":"'رصيد اول'!A241","v":0},{"$f":"'رصيد اول'!B241","v":0},{"$f":"SUMIF('رصيد اول'!$A:$B,'رصيد اول'!A241,'رصيد اول'!C:C)","v":0},0,{"$f":"SUMIF(الوارد!$D:$D,الرصيد!A241,الوارد!F:F)","v":0},0,{"$f":"SUMIF(المنصرف!$C$1:$C$10000,A241,المنصرف!E:E)","v":0},0,0,0,{"$f":"'رصيد اول'!D241","v":0}]
[{"$f":"'رصيد اول'!A242","v":0},{"$f":"'رصيد اول'!B242","v":0},{"$f":"SUMIF('رصيد اول'!$A:$B,'رصيد اول'!A242,'رصيد اول'!C:C)","v":0},0,{"$f":"SUMIF(الوارد!$D:$D,الرصيد!A242,الوارد!F:F)","v":0},0,{"$f":"SUMIF(المنصرف!$C$1:$C$10000,A242,المنصرف!E:E)","v":0},0,0,0,{"$f":"'رصيد اول'!D242","v":0}]
[{"$f":"'رصيد اول'!A243","v":0},{"$f":"'رصيد اول'!B243","v":0},{"$f":"SUMIF('رصيد اول'!$A:$B,'رصيد اول'!A243,'رصيد اول'!C:C)","v":0},0,{"$f":"SUMIF(الوارد!$D:$D,الرصيد!A243,الوارد!F:F)","v":0},0,{"$f":"SUMIF(المنصرف!$C$1:$C$10000,A243,المنصرف!E:E)","v":0},0,0,0,{"$f":"'رصيد اول'!D243","v":0}]
[{"$f":"'رصيد اول'!A244","v":0},{"$f":"'رصيد اول'!B244","v":0},{"$f":"SUMIF('رصيد اول'!$A:$B,'رصيد اول'!A244,'رصيد اول'!C:C)","v":0},0,{"$f":"SUMIF(الوارد!$D:$D,الرصيد!A244,الوارد!F:F)","v":0},0,{"$f":"SUMIF(المنصرف!$C$1:$C$10000,A244,المنصرف!E:E)","v":0},0,0,0,{"$f":"'رصيد اول'!D244","v":0}]
[{"$f":"'رصيد اول'!A245","v":0},{"$f":"'رصيد اول'!B245","v":0},{"$f":"SUMIF('رصيد اول'!$A:$B,'رصيد اول'!A245,'رصيد اول'!C:C)","v":0},0,{"$f":"SUMIF(الوارد!$D:$D,الرصيد!A245,الوارد!F:F)","v":0},0,{"$f":"SUMIF(المنصرف!$C$1:$C$10000,A245,المنصرف!E:E)","v":0},0,0,0,{"$f":"'رصيد اول'!D245","v":0}]
[{"$f":"'رصيد اول'!A246","v":0},{"$f":"'رصيد اول'!B246","v":0},{"$f":"SUMIF('رصيد اول'!$A:$B,'رصيد اول'!A246,'رصيد اول'!C:C)","v":0},0,{"$f":"SUMIF(الوارد!$D:$D,الرصيد!A246,الوارد!F:F)","v":0},0,{"$f":"SUMIF(المنصرف!$C$1:$C$10000,A246,المنصرف!E:E)","v":0},0,0,0,{"$f":"'رصيد اول'!D246","v":0}]
[{"$f":"'رصيد اول'!A247","v":0},{"$f":"'رصيد اول'!B247","v":0},{"$f":"SUMIF('رصيد اول'!$A:$B,'رصيد اول'!A247,'رصيد اول'!C:C)","v":0},0,{"$f":"SUMIF(الوارد!$D:$D,الرصيد!A247,الوارد!F:F)","v":0},0,{"$f":"SUMIF(المنصرف!$C$1:$C$10000,A247,المنصرف!E:E)","v":0},0,0,0,{"$f":"'رصيد اول'!D247","v":0}]
[{"$f":"'رصيد اول'!A248","v":0},{"$f":"'رصيد اول'!B248","v":0},{"$f":"SUMIF('رصيد اول'!$A:$B,'رصيد اول'!A248,'رصيد اول'!C:C)","v":0},0,{"$f":"SUMIF(الوارد!$D:$D,الرصيد!A248,الوارد!F:F)","v":0},0,{"$f":"SUMIF(المنصرف!$C$1:$C$10000,A248,المنصرف!E:E)","v":0},0,0,0,{"$f":"'رصيد اول'!D248","v":0}]
[{"$f":"'رصيد اول'!A249","v":0},{"$f":"'رصيد اول'!B249","v":0},{"$f":"SUMIF('رصيد اول'!$A:$B,'رصيد اول'!A249,'رصيد اول'!C:C)","v":0},0,{"$f":"SUMIF(الوارد!$D:$D,الرصيد!A249,الوارد!F:F)","v":0},0,{"$f":"SUMIF(المنصرف!$C$1:$C$10000,A249,المنصرف!E:E)","v":0},0,0,0,{"$f":"'رصيد اول'!D249","v":0}]
[{"$f":"'رصيد اول'!A250","v":0},{"$f":"'رصيد اول'!B250","v":0},{"$f":"SUMIF('رصيد اول'!$A:$B,'رصيد اول'!A250,'رصيد اول'!C:C)","v":0},0,{"$f":"SUMIF(الوارد!$D:$D,الرصيد!A250,الوارد!F:F)","v":0},0,{"$f":"SUMIF(المنصرف!$C$1:$C$10000,A250,المنصرف!E:E)","v":0},0,0,0,{"$f":"'رصيد اول'!D250","v":0}]
[{"$f":"'رصيد اول'!A251","v":0},{"$f":"'رصيد اول'!B251","v":0},{"$f":"SUMIF('رصيد اول'!$A:$B,'رصيد اول'!A251,'رصيد اول'!C:C)","v":0},0,{"$f":"SUMIF(الوارد!$D:$D,الرصيد!A251,الوارد!F:F)","v":0},0,{"$f":"SUMIF(المنصرف!$C$1:$C$10000,A251,المنصرف!E:E)","v":0},0,0,0,{"$f":"'رصيد اول'!D251","v":0}]
[{"$f":"'رصيد اول'!A252","v":0},{"$f":"'رصيد اول'!B252","v":0},{"$f":"SUMIF('رصيد اول'!$A:$B,'رصيد اول'!A252,'رصيد اول'!C:C)","v":0},0,{"$f":"SUMIF(الوارد!$D:$D,الرصيد!A252,الوارد!F:F)","v":0},0,{"$f":"SUMIF(المنصرف!$C$1:$C$10000,A252,المنصرف!E:E)","v":0},0,0,0,{"$f":"'رصيد اول'!D252","v":0}]
[{"$f":"'رصيد اول'!A253","v":0},{"$f":"'رصيد اول'!B253","v":0},{"$f":"SUMIF('رصيد اول'!$A:$B,'رصيد اول'!A253,'رصيد اول'!C:C)","v":0},0,{"$f":"SUMIF(الوارد!$D:$D,الرصيد!A253,الوارد!F:F)","v":0},0,{"$f":"SUMIF(المنصرف!$C$1:$C$10000,A253,المنصرف!E:E)","v":0},0,0,0,{"$f":"'رصيد اول'!D253","v":0}]
[{"$f":"'رصيد اول'!A254","v":0},{"$f":"'رصيد اول'!B254","v":0},{"$f":"SUMIF('رصيد اول'!$A:$B,'رصيد اول'!A254,'رصيد اول'!C:C)","v":0},0,{"$f":"SUMIF(الوارد!$D:$D,الرصيد!A254,الوارد!F:F)","v":0},0,{"$f":"SUMIF(المنصرف!$C$1:$C$10000,A254,المنصرف!E:E)","v":0},0,0,0,{"$f":"'رصيد اول'!D254","v":0}]
[{"$f":"'رصيد اول'!A255","v":0},{"$f":"'رصيد اول'!B255","v":0},{"$f":"SUMIF('رصيد اول'!$A:$B,'رصيد اول'!A255,'رصيد اول'!C:C)","v":0},0,{"$f":"SUMIF(الوارد!$D:$D,الرصيد!A255,الوارد!F:F)","v":0},0,{"$f":"SUMIF(المنصرف!$C$1:$C$10000,A255,المنصرف!E:E)","v":0},0,0,0,{"$f":"'رصيد اول'!D255","v":0}]
[{"$f":"'رصيد اول'!A256","v":0},{"$f":"'رصيد اول'!B256","v":0},{"$f":"SUMIF('رصيد اول'!$A:$B,'رصيد اول'!A256,'رصيد اول'!C:C)","v":0},0,{"$f":"SUMIF(الوارد!$D:$D,الرصيد!A256,الوارد!F:F)","v":0},0,{"$f":"SUMIF(المنصرف!$C$1:$C$10000,A256,المنصرف!E:E)","v":0},0,0,0,{"$f":"'رصيد اول'!D256","v":0}]
[{"$f":"'رصيد اول'!A257","v":0},{"$f":"'رصيد اول'!B257","v":0},{"$f":"SUMIF('رصيد اول'!$A:$B,'رصيد اول'!A257,'رصيد اول'!C:C)","v":0},0,{"$f":"SUMIF(الوارد!$D:$D,الرصيد!A257,الوارد!F:F)","v":0},0,{"$f":"SUMIF(المنصرف!$C$1:$C$10000,A257,المنصرف!E:E)","v":0},0,0,0,{"$f":"'رصيد اول'!D257","v":0}]
[{"$f":"'رصيد اول'!A258","v":0},{"$f":"'رصيد اول'!B258","v":0},{"$f":"SUMIF('رصيد اول'!$A:$B,'رصيد اول'!A258,'رصيد اول'!C:C)","v":0},0,{"$f":"SUMIF(الوارد!$D:$D,الرصيد!A258,الوارد!F:F)","v":0},0,{"$f":"SUMIF(المنصرف!$C$1:$C$10000,A258,المنصرف!E:E)","v":0},0,0,0,{"$f":"'رصيد اول'!D258","v":0}]
[{"$f":"'رصيد اول'!A259","v":0},{"$f":"'رصيد اول'!B259","v":0},{"$f":"SUMIF('رصيد اول'!$A:$B,'رصيد اول'!A259,'رصيد اول'!C:C)","v":0},0,{"$f":"SUMIF(الوارد!$D:$D,الرصيد!A259,الوارد!F:F)","v":0},0,{"$f":"SUMIF(المنصرف!$C$1:$C$10000,A259,المنصرف!E:E)","v":0},0,{"$f":"C259+E259-G259","v":0},0,{"$f":"'رصيد اول'!D259","v":0}]
[{"$f":"'رصيد اول'!A260","v":0},{"$f":"'رصيد اول'!B260","v":0},{"$f":"SUMIF('رصيد اول'!$A:$B,'رصيد اول'!A260,'رصيد اول'!C:C)","v":0},{"$f":"C260*K260","v":0},{"$f":"SUMIF(الوارد!$D:$D,الرصيد!A260,الوارد!F:F)","v":0},{"$f":"+E260*K260","v":0},{"$f":"SUMIF(المنصرف!$C$1:$C$10000,A260,المنصرف!E:E)","v":0},{"$f":"G260*K260","v":0},0,{"$f":"I260*K260","v":0},{"$f":"'رصيد اول'!D260","v":0}]
[{"$f":"'رصيد اول'!A261","v":0},{"$f":"'رصيد اول'!B261","v":0},{"$f":"SUMIF('رصيد اول'!$A:$B,'رصيد اول'!A261,'رصيد اول'!C:C)","v":0},0,{"$f":"SUMIF(الوارد!$D:$D,الرصيد!A261,الوارد!F:F)","v":0},0,{"$f":"SUMIF(المنصرف!$C$1:$C$10000,A261,المنصرف!E:E)","v":0},0,0,0,{"$f":"'رصيد اول'!D261","v":0}]
[{"$f":"'رصيد اول'!A262","v":0},{"$f":"'رصيد اول'!B262","v":0},{"$f":"SUMIF('رصيد اول'!$A:$B,'رصيد اول'!A262,'رصيد اول'!C:C)","v":0},0,{"$f":"SUMIF(الوارد!$D:$D,الرصيد!A262,الوارد!F:F)","v":0},0,{"$f":"SUMIF(المنصرف!$C$1:$C$10000,A262,المنصرف!E:E)","v":0},0,0,0,{"$f":"'رصيد اول'!D262","v":0}]
[{"$f":"'رصيد اول'!A263","v":0},{"$f":"'رصيد اول'!B263","v":0},{"$f":"SUMIF('رصيد اول'!$A:$B,'رصيد اول'!A263,'رصيد اول'!C:C)","v":0},0,{"$f":"SUMIF(الوارد!$D:$D,الرصيد!A263,الوارد!F:F)","v":0},0,{"$f":"SUMIF(المنصرف!$C$1:$C$10000,A263,المنصرف!E:E)","v":0},0,0,0,{"$f":"'رصيد اول'!D263","v":0}]
[{"$f":"'رصيد اول'!A264","v":0},{"$f":"'رصيد اول'!B264","v":0},{"$f":"SUMIF('رصيد اول'!$A:$B,'رصيد اول'!A264,'رصيد اول'!C:C)","v":0},0,{"$f":"SUMIF(الوارد!$D:$D,الرصيد!A264,الوارد!F:F)","v":0},0,{"$f":"SUMIF(المنصرف!$C$1:$C$10000,A264,المنصرف!E:E)","v":0},0,0,0,{"$f":"'رصيد اول'!D264","v":0}]
[{"$f":"'رصيد اول'!A265","v":0},{"$f":"'رصيد اول'!B265","v":0},{"$f":"SUMIF('رصيد اول'!$A:$B,'رصيد اول'!A265,'رصيد اول'!C:C)","v":0},0,{"$f":"SUMIF(الوارد!$D:$D,الرصيد!A265,الوارد!F:F)","v":0},0,{"$f":"SUMIF(المنصرف!$C$1:$C$10000,A265,المنصرف!E:E)","v":0},0,0,0,{"$f":"'رصيد اول'!D265","v":0}]
[{"$f":"'رصيد اول'!A266","v":0},{"$f":"'رصيد اول'!B266","v":0},{"$f":"SUMIF('رصيد اول'!$A:$B,'رصيد اول'!A266,'رصيد اول'!C:C)","v":0},0,{"$f":"SUMIF(الوارد!$D:$D,الرصيد!A266,الوارد!F:F)","v":0},0,{"$f":"SUMIF(المنصرف!$C$1:$C$10000,A266,المنصرف!E:E)","v":0},0,0,0,{"$f":"'رصيد اول'!D266","v":0}]
[{"$f":"'رصيد اول'!A267","v":0},{"$f":"'رصيد اول'!B267","v":0},{"$f":"SUMIF('رصيد اول'!$A:$B,'رصيد اول'!A267,'رصيد اول'!C:C)","v":0},0,{"$f":"SUMIF(الوارد!$D:$D,الرصيد!A267,الوارد!F:F)","v":0},0,{"$f":"SUMIF(المنصرف!$C$1:$C$10000,A267,المنصرف!E:E)","v":0},0,0,0,{"$f":"'رصيد اول'!D267","v":0}]
[{"$f":"'رصيد اول'!A268","v":0},{"$f":"'رصيد اول'!B268","v":0},{"$f":"SUMIF('رصيد اول'!$A:$B,'رصيد اول'!A268,'رصيد اول'!C:C)","v":0},0,{"$f":"SUMIF(الوارد!$D:$D,الرصيد!A268,الوارد!F:F)","v":0},0,{"$f":"SUMIF(المنصرف!$C$1:$C$10000,A268,المنصرف!E:E)","v":0},0,0,0,{"$f":"'رصيد اول'!D268","v":0}]
[{"$f":"'رصيد اول'!A269","v":0},{"$f":"'رصيد اول'!B269","v":0},{"$f":"SUMIF('رصيد اول'!$A:$B,'رصيد اول'!A269,'رصيد اول'!C:C)","v":0},0,{"$f":"SUMIF(الوارد!$D:$D,الرصيد!A269,الوارد!F:F)","v":0},0,{"$f":"SUMIF(المنصرف!$C$1:$C$10000,A269,المنصرف!E:E)","v":0},0,0,0,{"$f":"'رصيد اول'!D269","v":0}]
[{"$f":"'رصيد اول'!A270","v":0},{"$f":"'رصيد اول'!B270","v":0},{"$f":"SUMIF('رصيد اول'!$A:$B,'رصيد اول'!A270,'رصيد اول'!C:C)","v":0},0,{"$f":"SUMIF(الوارد!$D:$D,الرصيد!A270,الوارد!F:F)","v":0},0,{"$f":"SUMIF(المنصرف!$C$1:$C$10000,A270,المنصرف!E:E)","v":0},0,0,0,{"$f":"'رصيد اول'!D270","v":0}]
[{"$f":"'رصيد اول'!A271","v":0},{"$f":"'رصيد اول'!B271","v":0},{"$f":"SUMIF('رصيد اول'!$A:$B,'رصيد اول'!A271,'رصيد اول'!C:C)","v":0},0,{"$f":"SUMIF(الوارد!$D:$D,الرصيد!A271,الوارد!F:F)","v":0},0,{"$f":"SUMIF(المنصرف!$C$1:$C$10000,A271,المنصرف!E:E)","v":0},0,0,0,{"$f":"'رصيد اول'!D271","v":0}]
[{"$f":"'رصيد اول'!A272","v":0},{"$f":"'رصيد اول'!B272","v":0},{"$f":"SUMIF('رصيد اول'!$A:$B,'رصيد اول'!A272,'رصيد اول'!C:C)","v":0},0,{"$f":"SUMIF(الوارد!$D:$D,الرصيد!A272,الوارد!F:F)","v":0},0,{"$f":"SUMIF(المنصرف!$C$1:$C$10000,A272,المنصرف!E:E)","v":0},0,0,0,{"$f":"'رصيد اول'!D272","v":0}]
[{"$f":"'رصيد اول'!A273","v":0},{"$f":"'رصيد اول'!B273","v":0},{"$f":"SUMIF('رصيد اول'!$A:$B,'رصيد اول'!A273,'رصيد اول'!C:C)","v":0},0,{"$f":"SUMIF(الوارد!$D:$D,الرصيد!A273,الوارد!F:F)","v":0},0,{"$f":"SUMIF(المنصرف!$C$1:$C$10000,A273,المنصرف!E:E)","v":0},0,0,0,{"$f":"'رصيد اول'!D273","v":0}]
[{"$f":"'رصيد اول'!A274","v":0},{"$f":"'رصيد اول'!B274","v":0},{"$f":"SUMIF('رصيد اول'!$A:$B,'رصيد اول'!A274,'رصيد اول'!C:C)","v":0},0,{"$f":"SUMIF(الوارد!$D:$D,الرصيد!A274,الوارد!F:F)","v":0},0,{"$f":"SUMIF(المنصرف!$C$1:$C$10000,A274,المنصرف!E:E)","v":0},0,0,0,{"$f":"'رصيد اول'!D274","v":0}]
[{"$f":"'رصيد اول'!A275","v":0},{"$f":"'رصيد اول'!B275","v":0},{"$f":"SUMIF('رصيد اول'!$A:$B,'رصيد اول'!A275,'رصيد اول'!C:C)","v":0},0,{"$f":"SUMIF(الوارد!$D:$D,الرصيد!A275,الوارد!F:F)","v":0},0,{"$f":"SUMIF(المنصرف!$C$1:$C$10000,A275,المنصرف!E:E)","v":0},0,0,0,{"$f":"'رصيد اول'!D275","v":0}]
[{"$f":"'رصيد اول'!A276","v":0},{"$f":"'رصيد اول'!B276","v":0},{"$f":"SUMIF('رصيد اول'!$A:$B,'رصيد اول'!A276,'رصيد اول'!C:C)","v":0},0,{"$f":"SUMIF(الوارد!$D:$D,الرصيد!A276,الوارد!F:F)","v":0},0,{"$f":"SUMIF(المنصرف!$C$1:$C$10000,A276,المنصرف!E:E)","v":0},0,0,0,{"$f":"'رصيد اول'!D276","v":0}]
[{"$f":"'رصيد اول'!A277","v":0},{"$f":"'رصيد اول'!B277","v":0},{"$f":"SUMIF('رصيد اول'!$A:$B,'رصيد اول'!A277,'رصيد اول'!C:C)","v":0},0,{"$f":"SUMIF(الوارد!$D:$D,الرصيد!A277,الوارد!F:F)","v":0},0,{"$f":"SUMIF(المنصرف!$C$1:$C$10000,A277,المنصرف!E:E)","v":0},0,0,0,{"$f":"'رصيد اول'!D277","v":0}]
[{"$f":"'رصيد اول'!A278","v":0},{"$f":"'رصيد اول'!B278","v":0},{"$f":"SUMIF('رصيد اول'!$A:$B,'رصيد اول'!A278,'رصيد اول'!C:C)","v":0},0,{"$f":"SUMIF(الوارد!$D:$D,الرصيد!A278,الوارد!F:F)","v":0},0,{"$f":"SUMIF(المنصرف!$C$1:$C$10000,A278,المنصرف!E:E)","v":0},0,0,0,{"$f":"'رصيد اول'!D278","v":0}]
[{"$f":"'رصيد اول'!A279","v":0},{"$f":"'رصيد اول'!B279","v":0},{"$f":"SUMIF('رصيد اول'!$A:$B,'رصيد اول'!A279,'رصيد اول'!C:C)","v":0},0,{"$f":"SUMIF(الوارد!$D:$D,الرصيد!A279,الوارد!F:F)","v":0},0,{"$f":"SUMIF(المنصرف!$C$1:$C$10000,A279,المنصرف!E:E)","v":0},0,0,0,{"$f":"'رصيد اول'!D279","v":0}]
[{"$f":"'رصيد اول'!A280","v":0},{"$f":"'رصيد اول'!B280","v":0},{"$f":"SUMIF('رصيد اول'!$A:$B,'رصيد اول'!A280,'رصيد اول'!C:C)","v":0},0,{"$f":"SUMIF(الوارد!$D:$D,الرصيد!A280,الوارد!F:F)","v":0},0,{"$f":"SUMIF(المنصرف!$C$1:$C$10000,A280,المنصرف!E:E)","v":0},0,0,0,{"$f":"'رصيد اول'!D280","v":0}]
[{"$f":"'رصيد اول'!A281","v":0},{"$f":"'رصيد اول'!B281","v":0},{"$f":"SUMIF('رصيد اول'!$A:$B,'رصيد اول'!A281,'رصيد اول'!C:C)","v":0},0,{"$f":"SUMIF(الوارد!$D:$D,الرصيد!A281,الوارد!F:F)","v":0},0,{"$f":"SUMIF(المنصرف!$C$1:$C$10000,A281,المنصرف!E:E)","v":0},0,0,0,{"$f":"'رصيد اول'!D281","v":0}]
[{"$f":"'رصيد اول'!A282","v":0},{"$f":"'رصيد اول'!B282","v":0},{"$f":"SUMIF('رصيد اول'!$A:$B,'رصيد اول'!A282,'رصيد اول'!C:C)","v":0},0,{"$f":"SUMIF(الوارد!$D:$D,الرصيد!A282,الوارد!F:F)","v":0},0,{"$f":"SUMIF(المنصرف!$C$1:$C$10000,A282,المنصرف!E:E)","v":0},0,0,0,{"$f":"'رصيد اول'!D282","v":0}]
[{"$f":"'رصيد اول'!A283","v":0},{"$f":"'رصيد اول'!B283","v":0},{"$f":"SUMIF('رصيد اول'!$A:$B,'رصيد اول'!A283,'رصيد اول'!C:C)","v":0},0,{"$f":"SUMIF(الوارد!$D:$D,الرصيد!A283,الوارد!F:F)","v":0},0,{"$f":"SUMIF(المنصرف!$C$1:$C$10000,A283,المنصرف!E:E)","v":0},0,0,0,{"$f":"'رصيد اول'!D283","v":0}]
[{"$f":"'رصيد اول'!A284","v":0},{"$f":"'رصيد اول'!B284","v":0},{"$f":"SUMIF('رصيد اول'!$A:$B,'رصيد اول'!A284,'رصيد اول'!C:C)","v":0},0,{"$f":"SUMIF(الوارد!$D:$D,الرصيد!A284,الوارد!F:F)","v":0},0,{"$f":"SUMIF(المنصرف!$C$1:$C$10000,A284,المنصرف!E:E)","v":0},0,0,0,{"$f":"'رصيد اول'!D284","v":0}]
[{"$f":"'رصيد اول'!A285","v":0},{"$f":"'رصيد اول'!B285","v":0},{"$f":"SUMIF('رصيد اول'!$A:$B,'رصيد اول'!A285,'رصيد اول'!C:C)","v":0},0,{"$f":"SUMIF(الوارد!$D:$D,الرصيد!A285,الوارد!F:F)","v":0},0,{"$f":"SUMIF(المنصرف!$C$1:$C$10000,A285,المنصرف!E:E)","v":0},0,0,0,{"$f":"'رصيد اول'!D285","v":0}]
[{"$f":"'رصيد اول'!A286","v":0},{"$f":"'رصيد اول'!B286","v":0},{"$f":"SUMIF('رصيد اول'!$A:$B,'رصيد اول'!A286,'رصيد اول'!C:C)","v":0},0,{"$f":"SUMIF(الوارد!$D:$D,الرصيد!A286,الوارد!F:F)","v":0},0,{"$f":"SUMIF(المنصرف!$C$1:$C$10000,A286,المنصرف!E:E)","v":0},0,0,0,{"$f":"'رصيد اول'!D286","v":0}]
[{"$f":"'رصيد اول'!A287","v":0},{"$f":"'رصيد اول'!B287","v":0},{"$f":"SUMIF('رصيد اول'!$A:$B,'رصيد اول'!A287,'رصيد اول'!C:C)","v":0},0,{"$f":"SUMIF(الوارد!$D:$D,الرصيد!A287,الوارد!F:F)","v":0},0,{"$f":"SUMIF(المنصرف!$C$1:$C$10000,A287,المنصرف!E:E)","v":0},0,0,0,{"$f":"'رصيد اول'!D287","v":0}]
[{"$f":"'رصيد اول'!A288","v":0},{"$f":"'رصيد اول'!B288","v":0},{"$f":"SUMIF('رصيد اول'!$A:$B,'رصيد اول'!A288,'رصيد اول'!C:C)","v":0},0,{"$f":"SUMIF(الوارد!$D:$D,الرصيد!A288,الوارد!F:F)","v":0},0,{"$f":"SUMIF(المنصرف!$C$1:$C$10000,A288,المنصرف!E:E)","v":0},0,0,0,{"$f":"'رصيد اول'!D288","v":0}]
[{"$f":"'رصيد اول'!A289","v":0},{"$f":"'رصيد اول'!B289","v":0},{"$f":"SUMIF('رصيد اول'!$A:$B,'رصيد اول'!A289,'رصيد اول'!C:C)","v":0},0,{"$f":"SUMIF(الوارد!$D:$D,الرصيد!A289,الوارد!F:F)","v":0},0,{"$f":"SUMIF(المنصرف!$C$1:$C$10000,A289,المنصرف!E:E)","v":0},0,0,0,{"$f":"'رصيد اول'!D289","v":0}]
[{"$f":"'رصيد اول'!A290","v":0},{"$f":"'رصيد اول'!B290","v":0},{"$f":"SUMIF('رصيد اول'!$A:$B,'رصيد اول'!A290,'رصيد اول'!C:C)","v":0},0,{"$f":"SUMIF(الوارد!$D:$D,الرصيد!A290,الوارد!F:F)","v":0},0,{"$f":"SUMIF(المنصرف!$C$1:$C$10000,A290,المنصرف!E:E)","v":0},0,0,0,{"$f":"'رصيد اول'!D290","v":0}]
[{"$f":"'رصيد اول'!A291","v":0},{"$f":"'رصيد اول'!B291","v":0},{"$f":"SUMIF('رصيد اول'!$A:$B,'رصيد اول'!A291,'رصيد اول'!C:C)","v":0},0,{"$f":"SUMIF(الوارد!$D:$D,الرصيد!A291,الوارد!F:F)","v":0},0,{"$f":"SUMIF(المنصرف!$C$1:$C$10000,A291,المنصرف!E:E)","v":0},0,0,0,{"$f":"'رصيد اول'!D291","v":0}]
[{"$f":"'رصيد اول'!A292","v":0},{"$f":"'رصيد اول'!B292","v":0},{"$f":"SUMIF('رصيد اول'!$A:$B,'رصيد اول'!A292,'رصيد اول'!C:C)","v":0},0,{"$f":"SUMIF(الوارد!$D:$D,الرصيد!A292,الوارد!F:F)","v":0},0,{"$f":"SUMIF(المنصرف!$C$1:$C$10000,A292,المنصرف!E:E)","v":0},0,0,0,{"$f":"'رصيد اول'!D292","v":0}]
[{"$f":"'رصيد اول'!A293","v":0},{"$f":"'رصيد اول'!B293","v":0},{"$f":"SUMIF('رصيد اول'!$A:$B,'رصيد اول'!A293,'رصيد اول'!C:C)","v":0},0,{"$f":"SUMIF(الوارد!$D:$D,الرصيد!A293,الوارد!F:F)","v":0},0,{"$f":"SUMIF(المنصرف!$C$1:$C$10000,A293,المنصرف!E:E)","v":0},0,0,0,{"$f":"'رصيد اول'!D293","v":0}]
[{"$f":"'رصيد اول'!A294","v":0},{"$f":"'رصيد اول'!B294","v":0},{"$f":"SUMIF('رصيد اول'!$A:$B,'رصيد اول'!A294,'رصيد اول'!C:C)","v":0},0,{"$f":"SUMIF(الوارد!$D:$D,الرصيد!A294,الوارد!F:F)","v":0},0,{"$f":"SUMIF(المنصرف!$C$1:$C$10000,A294,المنصرف!E:E)","v":0},0,0,0,{"$f":"'رصيد اول'!D294","v":0}]
[{"$f":"'رصيد اول'!A295","v":0},{"$f":"'رصيد اول'!B295","v":0},{"$f":"SUMIF('رصيد اول'!$A:$B,'رصيد اول'!A295,'رصيد اول'!C:C)","v":0},0,{"$f":"SUMIF(الوارد!$D:$D,الرصيد!A295,الوارد!F:F)","v":0},0,{"$f":"SUMIF(المنصرف!$C$1:$C$10000,A295,المنصرف!E:E)","v":0},0,0,0,{"$f":"'رصيد اول'!D295","v":0}]
[{"$f":"'رصيد اول'!A296","v":0},{"$f":"'رصيد اول'!B296","v":0},{"$f":"SUMIF('رصيد اول'!$A:$B,'رصيد اول'!A296,'رصيد اول'!C:C)","v":0},0,{"$f":"SUMIF(الوارد!$D:$D,الرصيد!A296,الوارد!F:F)","v":0},0,{"$f":"SUMIF(المنصرف!$C$1:$C$10000,A296,المنصرف!E:E)","v":0},0,0,0,{"$f":"'رصيد اول'!D296","v":0}]
[{"$f":"'رصيد اول'!A297","v":0},{"$f":"'رصيد اول'!B297","v":0},{"$f":"SUMIF('رصيد اول'!$A:$B,'رصيد اول'!A297,'رصيد اول'!C:C)","v":0},0,{"$f":"SUMIF(الوارد!$D:$D,الرصيد!A297,الوارد!F:F)","v":0},0,{"$f":"SUMIF(المنصرف!$C$1:$C$10000,A297,المنصرف!E:E)","v":0},0,0,0,{"$f":"'رصيد اول'!D297","v":0}]
[{"$f":"'رصيد اول'!A298","v":0},{"$f":"'رصيد اول'!B298","v":0},{"$f":"SUMIF('رصيد اول'!$A:$B,'رصيد اول'!A298,'رصيد اول'!C:C)","v":0},0,{"$f":"SUMIF(الوارد!$D:$D,الرصيد!A298,الوارد!F:F)","v":0},0,{"$f":"SUMIF(المنصرف!$C$1:$C$10000,A298,المنصرف!E:E)","v":0},0,0,0,{"$f":"'رصيد اول'!D298","v":0}]
[{"$f":"'رصيد اول'!A299","v":0},{"$f":"'رصيد اول'!B299","v":0},{"$f":"SUMIF('رصيد اول'!$A:$B,'رصيد اول'!A299,'رصيد اول'!C:C)","v":0},0,{"$f":"SUMIF(الوارد!$D:$D,الرصيد!A299,الوارد!F:F)","v":0},0,{"$f":"SUMIF(المنصرف!$C$1:$C$10000,A299,المنصرف!E:E)","v":0},0,0,0,{"$f":"'رصيد اول'!D299","v":0}]
[{"$f":"'رصيد اول'!A300","v":0},{"$f":"'رصيد اول'!B300","v":0},{"$f":"SUMIF('رصيد اول'!$A:$B,'رصيد اول'!A300,'رصيد اول'!C:C)","v":0},0,{"$f":"SUMIF(الوارد!$D:$D,الرصيد!A300,الوارد!F:F)","v":0},0,{"$f":"SUMIF(المنصرف!$C$1:$C$10000,A300,المنصرف!E:E)","v":0},0,0,0,{"$f":"'رصيد اول'!D300","v":0}]
[{"$f":"'رصيد اول'!A301","v":0},{"$f":"'رصيد اول'!B301","v":0},{"$f":"SUMIF('رصيد اول'!$A:$B,'رصيد اول'!A301,'رصيد اول'!C:C)","v":0},0,{"$f":"SUMIF(الوارد!$D:$D,الرصيد!A301,الوارد!F:F)","v":0},0,{"$f":"SUMIF(المنصرف!$C$1:$C$10000,A301,المنصرف!E:E)","v":0},0,0,0,{"$f":"'رصيد اول'!D301","v":0}]
[{"$f":"'رصيد اول'!A302","v":0},{"$f":"'رصيد اول'!B302","v":0},{"$f":"SUMIF('رصيد اول'!$A:$B,'رصيد اول'!A302,'رصيد اول'!C:C)","v":0},0,{"$f":"SUMIF(الوارد!$D:$D,الرصيد!A302,الوارد!F:F)","v":0},0,{"$f":"SUMIF(المنصرف!$C$1:$C$10000,A302,المنصرف!E:E)","v":0},0,0,0,{"$f":"'رصيد اول'!D302","v":0}]
[{"$f":"'رصيد اول'!A303","v":0},{"$f":"'رصيد اول'!B303","v":0},{"$f":"SUMIF('رصيد اول'!$A:$B,'رصيد اول'!A303,'رصيد اول'!C:C)","v":0},0,{"$f":"SUMIF(الوارد!$D:$D,الرصيد!A303,الوارد!F:F)","v":0},0,{"$f":"SUMIF(المنصرف!$C$1:$C$10000,A303,المنصرف!E:E)","v":0},0,0,0,{"$f":"'رصيد اول'!D303","v":0}]
[{"$f":"'رصيد اول'!A304","v":0},{"$f":"'رصيد اول'!B304","v":0},{"$f":"SUMIF('رصيد اول'!$A:$B,'رصيد اول'!A304,'رصيد اول'!C:C)","v":0},0,{"$f":"SUMIF(الوارد!$D:$D,الرصيد!A304,الوارد!F:F)","v":0},0,{"$f":"SUMIF(المنصرف!$C$1:$C$10000,A304,المنصرف!E:E)","v":0},0,0,0,{"$f":"'رصيد اول'!D304","v":0}]
[{"$f":"'رصيد اول'!A305","v":0},{"$f":"'رصيد اول'!B305","v":0},{"$f":"SUMIF('رصيد اول'!$A:$B,'رصيد اول'!A305,'رصيد اول'!C:C)","v":0},0,{"$f":"SUMIF(الوارد!$D:$D,الرصيد!A305,الوارد!F:F)","v":0},0,{"$f":"SUMIF(المنصرف!$C$1:$C$10000,A305,المنصرف!E:E)","v":0},0,0,0,{"$f":"'رصيد اول'!D305","v":0}]
[{"$f":"'رصيد اول'!A306","v":0},{"$f":"'رصيد اول'!B306","v":0},{"$f":"SUMIF('رصيد اول'!$A:$B,'رصيد اول'!A306,'رصيد اول'!C:C)","v":0},0,{"$f":"SUMIF(الوارد!$D:$D,الرصيد!A306,الوارد!F:F)","v":0},0,{"$f":"SUMIF(المنصرف!$C$1:$C$10000,A306,المنصرف!E:E)","v":0},0,0,0,{"$f":"'رصيد اول'!D306","v":0}]
[{"$f":"'رصيد اول'!A307","v":0},{"$f":"'رصيد اول'!B307","v":0},{"$f":"SUMIF('رصيد اول'!$A:$B,'رصيد اول'!A307,'رصيد اول'!C:C)","v":0},0,{"$f":"SUMIF(الوارد!$D:$D,الرصيد!A307,الوارد!F:F)","v":0},0,{"$f":"SUMIF(المنصرف!$C$1:$C$10000,A307,المنصرف!E:E)","v":0},0,0,0,{"$f":"'رصيد اول'!D307","v":0}]
[{"$f":"'رصيد اول'!A308","v":0},{"$f":"'رصيد اول'!B308","v":0},{"$f":"SUMIF('رصيد اول'!$A:$B,'رصيد اول'!A308,'رصيد اول'!C:C)","v":0},0,{"$f":"SUMIF(الوارد!$D:$D,الرصيد!A308,الوارد!F:F)","v":0},0,{"$f":"SUMIF(المنصرف!$C$1:$C$10000,A308,المنصرف!E:E)","v":0},0,0,0,{"$f":"'رصيد اول'!D308","v":0}]
[{"$f":"'رصيد اول'!A309","v":0},{"$f":"'رصيد اول'!B309","v":0},{"$f":"SUMIF('رصيد اول'!$A:$B,'رصيد اول'!A309,'رصيد اول'!C:C)","v":0},0,{"$f":"SUMIF(الوارد!$D:$D,الرصيد!A309,الوارد!F:F)","v":0},0,{"$f":"SUMIF(المنصرف!$C$1:$C$10000,A309,المنصرف!E:E)","v":0},0,0,0,{"$f":"'رصيد اول'!D309","v":0}]
[{"$f":"'رصيد اول'!A310","v":0},{"$f":"'رصيد اول'!B310","v":0},{"$f":"SUMIF('رصيد اول'!$A:$B,'رصيد اول'!A310,'رصيد اول'!C:C)","v":0},0,{"$f":"SUMIF(الوارد!$D:$D,الرصيد!A310,الوارد!F:F)","v":0},0,{"$f":"SUMIF(المنصرف!$C$1:$C$10000,A310,المنصرف!E:E)","v":0},0,0,0,{"$f":"'رصيد اول'!D310","v":0}]
[{"$f":"'رصيد اول'!A311","v":0},{"$f":"'رصيد اول'!B311","v":0},{"$f":"SUMIF('رصيد اول'!$A:$B,'رصيد اول'!A311,'رصيد اول'!C:C)","v":0},0,{"$f":"SUMIF(الوارد!$D:$D,الرصيد!A311,الوارد!F:F)","v":0},0,{"$f":"SUMIF(المنصرف!$C$1:$C$10000,A311,المنصرف!E:E)","v":0},0,0,0,{"$f":"'رصيد اول'!D311","v":0}]
[{"$f":"'رصيد اول'!A312","v":0},{"$f":"'رصيد اول'!B312","v":0},{"$f":"SUMIF('رصيد اول'!$A:$B,'رصيد اول'!A312,'رصيد اول'!C:C)","v":0},0,{"$f":"SUMIF(الوارد!$D:$D,الرصيد!A312,الوارد!F:F)","v":0},0,{"$f":"SUMIF(المنصرف!$C$1:$C$10000,A312,المنصرف!E:E)","v":0},0,0,0,{"$f":"'رصيد اول'!D312","v":0}]
[{"$f":"'رصيد اول'!A313","v":0},{"$f":"'رصيد اول'!B313","v":0},{"$f":"SUMIF('رصيد اول'!$A:$B,'رصيد اول'!A313,'رصيد اول'!C:C)","v":0},0,{"$f":"SUMIF(الوارد!$D:$D,الرصيد!A313,الوارد!F:F)","v":0},0,{"$f":"SUMIF(المنصرف!$C$1:$C$10000,A313,المنصرف!E:E)","v":0},0,0,0,{"$f":"'رصيد اول'!D313","v":0}]
[{"$f":"'رصيد اول'!A314","v":0},{"$f":"'رصيد اول'!B314","v":0},{"$f":"SUMIF('رصيد اول'!$A:$B,'رصيد اول'!A314,'رصيد اول'!C:C)","v":0},0,{"$f":"SUMIF(الوارد!$D:$D,الرصيد!A314,الوارد!F:F)","v":0},0,{"$f":"SUMIF(المنصرف!$C$1:$C$10000,A314,المنصرف!E:E)","v":0},0,0,0,{"$f":"'رصيد اول'!D314","v":0}]
[{"$f":"'رصيد اول'!A315","v":0},{"$f":"'رصيد اول'!B315","v":0},{"$f":"SUMIF('رصيد اول'!$A:$B,'رصيد اول'!A315,'رصيد اول'!C:C)","v":0},0,{"$f":"SUMIF(الوارد!$D:$D,الرصيد!A315,الوارد!F:F)","v":0},0,{"$f":"SUMIF(المنصرف!$C$1:$C$10000,A315,المنصرف!E:E)","v":0},0,0,0,{"$f":"'رصيد اول'!D315","v":0}]
[{"$f":"'رصيد اول'!A316","v":0},{"$f":"'رصيد اول'!B316","v":0},{"$f":"SUMIF('رصيد اول'!$A:$B,'رصيد اول'!A316,'رصيد اول'!C:C)","v":0},0,{"$f":"SUMIF(الوارد!$D:$D,الرصيد!A316,الوارد!F:F)","v":0},0,{"$f":"SUMIF(المنصرف!$C$1:$C$10000,A316,المنصرف!E:E)","v":0},0,0,0,{"$f":"'رصيد اول'!D316","v":0}]
[{"$f":"'رصيد اول'!A317","v":0},{"$f":"'رصيد اول'!B317","v":0},{"$f":"SUMIF('رصيد اول'!$A:$B,'رصيد اول'!A317,'رصيد اول'!C:C)","v":0},0,{"$f":"SUMIF(الوارد!$D:$D,الرصيد!A317,الوارد!F:F)","v":0},0,{"$f":"SUMIF(المنصرف!$C$1:$C$10000,A317,المنصرف!E:E)","v":0},0,0,0,{"$f":"'رصيد اول'!D317","v":0}]
[{"$f":"'رصيد اول'!A318","v":0},{"$f":"'رصيد اول'!B318","v":0},{"$f":"SUMIF('رصيد اول'!$A:$B,'رصيد اول'!A318,'رصيد اول'!C:C)","v":0},0,{"$f":"SUMIF(الوارد!$D:$D,الرصيد!A318,الوارد!F:F)","v":0},0,{"$f":"SUMIF(المنصرف!$C$1:$C$10000,A318,المنصرف!E:E)","v":0},0,0,0,{"$f":"'رصيد اول'!D318","v":0}]
[{"$f":"'رصيد اول'!A319","v":0},{"$f":"'رصيد اول'!B319","v":0},{"$f":"SUMIF('رصيد اول'!$A:$B,'رصيد اول'!A319,'رصيد اول'!C:C)","v":0},0,{"$f":"SUMIF(الوارد!$D:$D,الرصيد!A319,الوارد!F:F)","v":0},0,{"$f":"SUMIF(المنصرف!$C$1:$C$10000,A319,المنصرف!E:E)","v":0},0,0,0,{"$f":"'رصيد اول'!D319","v":0}]
[{"$f":"'رصيد اول'!A320","v":0},{"$f":"'رصيد اول'!B320","v":0},{"$f":"SUMIF('رصيد اول'!$A:$B,'رصيد اول'!A320,'رصيد اول'!C:C)","v":0},0,{"$f":"SUMIF(الوارد!$D:$D,الرصيد!A320,الوارد!F:F)","v":0},0,{"$f":"SUMIF(المنصرف!$C$1:$C$10000,A320,المنصرف!E:E)","v":0},0,0,0,{"$f":"'رصيد اول'!D320","v":0}]
[{"$f":"'رصيد اول'!A321","v":0},{"$f":"'رصيد اول'!B321","v":0},{"$f":"SUMIF('رصيد اول'!$A:$B,'رصيد اول'!A321,'رصيد اول'!C:C)","v":0},0,{"$f":"SUMIF(الوارد!$D:$D,الرصيد!A321,الوارد!F:F)","v":0},0,{"$f":"SUMIF(المنصرف!$C$1:$C$10000,A321,المنصرف!E:E)","v":0},0,0,0,{"$f":"'رصيد اول'!D321","v":0}]
[{"$f":"'رصيد اول'!A322","v":0},{"$f":"'رصيد اول'!B322","v":0},{"$f":"SUMIF('رصيد اول'!$A:$B,'رصيد اول'!A322,'رصيد اول'!C:C)","v":0},0,{"$f":"SUMIF(الوارد!$D:$D,الرصيد!A322,الوارد!F:F)","v":0},0,{"$f":"SUMIF(المنصرف!$C$1:$C$10000,A322,المنصرف!E:E)","v":0},0,0,0,{"$f":"'رصيد اول'!D322","v":0}]
[{"$f":"'رصيد اول'!A323","v":0},{"$f":"'رصيد اول'!B323","v":0},{"$f":"SUMIF('رصيد اول'!$A:$B,'رصيد اول'!A323,'رصيد اول'!C:C)","v":0},0,{"$f":"SUMIF(الوارد!$D:$D,الرصيد!A323,الوارد!F:F)","v":0},0,{"$f":"SUMIF(المنصرف!$C$1:$C$10000,A323,المنصرف!E:E)","v":0},0,{"$f":"C323+E323-G323","v":0},0,{"$f":"'رصيد اول'!D323","v":0}]
[{"$f":"'رصيد اول'!A324","v":0},{"$f":"'رصيد اول'!B324","v":0},{"$f":"SUMIF('رصيد اول'!$A:$B,'رصيد اول'!A324,'رصيد اول'!C:C)","v":0},{"$f":"C324*K324","v":0},{"$f":"SUMIF(الوارد!$D:$D,الرصيد!A324,الوارد!F:F)","v":0},{"$f":"+E324*K324","v":0},{"$f":"SUMIF(المنصرف!$C$1:$C$10000,A324,المنصرف!E:E)","v":0},{"$f":"G324*K324","v":0},0,{"$f":"I324*K324","v":0},{"$f":"'رصيد اول'!D324","v":0}]
[{"$f":"'رصيد اول'!A325","v":0},{"$f":"'رصيد اول'!B325","v":0},{"$f":"SUMIF('رصيد اول'!$A:$B,'رصيد اول'!A325,'رصيد اول'!C:C)","v":0},0,{"$f":"SUMIF(الوارد!$D:$D,الرصيد!A325,الوارد!F:F)","v":0},0,{"$f":"SUMIF(المنصرف!$C$1:$C$10000,A325,المنصرف!E:E)","v":0},0,0,0,{"$f":"'رصيد اول'!D325","v":0}]
[{"$f":"'رصيد اول'!A326","v":0},{"$f":"'رصيد اول'!B326","v":0},{"$f":"SUMIF('رصيد اول'!$A:$B,'رصيد اول'!A326,'رصيد اول'!C:C)","v":0},0,{"$f":"SUMIF(الوارد!$D:$D,الرصيد!A326,الوارد!F:F)","v":0},0,{"$f":"SUMIF(المنصرف!$C$1:$C$10000,A326,المنصرف!E:E)","v":0},0,0,0,{"$f":"'رصيد اول'!D326","v":0}]
[{"$f":"'رصيد اول'!A327","v":0},{"$f":"'رصيد اول'!B327","v":0},{"$f":"SUMIF('رصيد اول'!$A:$B,'رصيد اول'!A327,'رصيد اول'!C:C)","v":0},0,{"$f":"SUMIF(الوارد!$D:$D,الرصيد!A327,الوارد!F:F)","v":0},0,{"$f":"SUMIF(المنصرف!$C$1:$C$10000,A327,المنصرف!E:E)","v":0},0,0,0,{"$f":"'رصيد اول'!D327","v":0}]
[{"$f":"'رصيد اول'!A328","v":0},{"$f":"'رصيد اول'!B328","v":0},{"$f":"SUMIF('رصيد اول'!$A:$B,'رصيد اول'!A328,'رصيد اول'!C:C)","v":0},0,{"$f":"SUMIF(الوارد!$D:$D,الرصيد!A328,الوارد!F:F)","v":0},0,{"$f":"SUMIF(المنصرف!$C$1:$C$10000,A328,المنصرف!E:E)","v":0},0,0,0,{"$f":"'رصيد اول'!D328","v":0}]
[{"$f":"'رصيد اول'!A329","v":0},{"$f":"'رصيد اول'!B329","v":0},{"$f":"SUMIF('رصيد اول'!$A:$B,'رصيد اول'!A329,'رصيد اول'!C:C)","v":0},0,{"$f":"SUMIF(الوارد!$D:$D,الرصيد!A329,الوارد!F:F)","v":0},0,{"$f":"SUMIF(المنصرف!$C$1:$C$10000,A329,المنصرف!E:E)","v":0},0,0,0,{"$f":"'رصيد اول'!D329","v":0}]
[{"$f":"'رصيد اول'!A330","v":0},{"$f":"'رصيد اول'!B330","v":0},{"$f":"SUMIF('رصيد اول'!$A:$B,'رصيد اول'!A330,'رصيد اول'!C:C)","v":0},0,{"$f":"SUMIF(الوارد!$D:$D,الرصيد!A330,الوارد!F:F)","v":0},0,{"$f":"SUMIF(المنصرف!$C$1:$C$10000,A330,المنصرف!E:E)","v":0},0,0,0,{"$f":"'رصيد اول'!D330","v":0}]
[{"$f":"'رصيد اول'!A331","v":0},{"$f":"'رصيد اول'!B331","v":0},{"$f":"SUMIF('رصيد اول'!$A:$B,'رصيد اول'!A331,'رصيد اول'!C:C)","v":0},0,{"$f":"SUMIF(الوارد!$D:$D,الرصيد!A331,الوارد!F:F)","v":0},0,{"$f":"SUMIF(المنصرف!$C$1:$C$10000,A331,المنصرف!E:E)","v":0},0,0,0,{"$f":"'رصيد اول'!D331","v":0}]
[{"$f":"'رصيد اول'!A332","v":0},{"$f":"'رصيد اول'!B332","v":0},{"$f":"SUMIF('رصيد اول'!$A:$B,'رصيد اول'!A332,'رصيد اول'!C:C)","v":0},0,{"$f":"SUMIF(الوارد!$D:$D,الرصيد!A332,الوارد!F:F)","v":0},0,{"$f":"SUMIF(المنصرف!$C$1:$C$10000,A332,المنصرف!E:E)","v":0},0,0,0,{"$f":"'رصيد اول'!D332","v":0}]
[{"$f":"'رصيد اول'!A333","v":0},{"$f":"'رصيد اول'!B333","v":0},{"$f":"SUMIF('رصيد اول'!$A:$B,'رصيد اول'!A333,'رصيد اول'!C:C)","v":0},0,{"$f":"SUMIF(الوارد!$D:$D,الرصيد!A333,الوارد!F:F)","v":0},0,{"$f":"SUMIF(المنصرف!$C$1:$C$10000,A333,المنصرف!E:E)","v":0},0,0,0,{"$f":"'رصيد اول'!D333","v":0}]
[{"$f":"'رصيد اول'!A334","v":0},{"$f":"'رصيد اول'!B334","v":0},{"$f":"SUMIF('رصيد اول'!$A:$B,'رصيد اول'!A334,'رصيد اول'!C:C)","v":0},0,{"$f":"SUMIF(الوارد!$D:$D,الرصيد!A334,الوارد!F:F)","v":0},0,{"$f":"SUMIF(المنصرف!$C$1:$C$10000,A334,المنصرف!E:E)","v":0},0,0,0,{"$f":"'رصيد اول'!D334","v":0}]
[{"$f":"'رصيد اول'!A335","v":0},{"$f":"'رصيد اول'!B335","v":0},{"$f":"SUMIF('رصيد اول'!$A:$B,'رصيد اول'!A335,'رصيد اول'!C:C)","v":0},0,{"$f":"SUMIF(الوارد!$D:$D,الرصيد!A335,الوارد!F:F)","v":0},0,{"$f":"SUMIF(المنصرف!$C$1:$C$10000,A335,المنصرف!E:E)","v":0},0,0,0,{"$f":"'رصيد اول'!D335","v":0}]
[{"$f":"'رصيد اول'!A336","v":0},{"$f":"'رصيد اول'!B336","v":0},{"$f":"SUMIF('رصيد اول'!$A:$B,'رصيد اول'!A336,'رصيد اول'!C:C)","v":0},0,{"$f":"SUMIF(الوارد!$D:$D,الرصيد!A336,الوارد!F:F)","v":0},0,{"$f":"SUMIF(المنصرف!$C$1:$C$10000,A336,المنصرف!E:E)","v":0},0,0,0,{"$f":"'رصيد اول'!D336","v":0}]
[{"$f":"'رصيد اول'!A337","v":0},{"$f":"'رصيد اول'!B337","v":0},{"$f":"SUMIF('رصيد اول'!$A:$B,'رصيد اول'!A337,'رصيد اول'!C:C)","v":0},0,{"$f":"SUMIF(الوارد!$D:$D,الرصيد!A337,الوارد!F:F)","v":0},0,{"$f":"SUMIF(المنصرف!$C$1:$C$10000,A337,المنصرف!E:E)","v":0},0,0,0,{"$f":"'رصيد اول'!D337","v":0}]
[{"$f":"'رصيد اول'!A338","v":0},{"$f":"'رصيد اول'!B338","v":0},{"$f":"SUMIF('رصيد اول'!$A:$B,'رصيد اول'!A338,'رصيد اول'!C:C)","v":0},0,{"$f":"SUMIF(الوارد!$D:$D,الرصيد!A338,الوارد!F:F)","v":0},0,{"$f":"SUMIF(المنصرف!$C$1:$C$10000,A338,المنصرف!E:E)","v":0},0,0,0,{"$f":"'رصيد اول'!D338","v":0}]
[{"$f":"'رصيد اول'!A339","v":0},{"$f":"'رصيد اول'!B339","v":0},{"$f":"SUMIF('رصيد اول'!$A:$B,'رصيد اول'!A339,'رصيد اول'!C:C)","v":0},0,{"$f":"SUMIF(الوارد!$D:$D,الرصيد!A339,الوارد!F:F)","v":0},0,{"$f":"SUMIF(المنصرف!$C$1:$C$10000,A339,المنصرف!E:E)","v":0},0,0,0,{"$f":"'رصيد اول'!D339","v":0}]
[{"$f":"'رصيد اول'!A340","v":0},{"$f":"'رصيد اول'!B340","v":0},{"$f":"SUMIF('رصيد اول'!$A:$B,'رصيد اول'!A340,'رصيد اول'!C:C)","v":0},0,{"$f":"SUMIF(الوارد!$D:$D,الرصيد!A340,الوارد!F:F)","v":0},0,{"$f":"SUMIF(المنصرف!$C$1:$C$10000,A340,المنصرف!E:E)","v":0},0,0,0,{"$f":"'رصيد اول'!D340","v":0}]
[{"$f":"'رصيد اول'!A341","v":0},{"$f":"'رصيد اول'!B341","v":0},{"$f":"SUMIF('رصيد اول'!$A:$B,'رصيد اول'!A341,'رصيد اول'!C:C)","v":0},0,{"$f":"SUMIF(الوارد!$D:$D,الرصيد!A341,الوارد!F:F)","v":0},0,{"$f":"SUMIF(المنصرف!$C$1:$C$10000,A341,المنصرف!E:E)","v":0},0,0,0,{"$f":"'رصيد اول'!D341","v":0}]
[{"$f":"'رصيد اول'!A342","v":0},{"$f":"'رصيد اول'!B342","v":0},{"$f":"SUMIF('رصيد اول'!$A:$B,'رصيد اول'!A342,'رصيد اول'!C:C)","v":0},0,{"$f":"SUMIF(الوارد!$D:$D,الرصيد!A342,الوارد!F:F)","v":0},0,{"$f":"SUMIF(المنصرف!$C$1:$C$10000,A342,المنصرف!E:E)","v":0},0,0,0,{"$f":"'رصيد اول'!D342","v":0}]
[{"$f":"'رصيد اول'!A343","v":0},{"$f":"'رصيد اول'!B343","v":0},{"$f":"SUMIF('رصيد اول'!$A:$B,'رصيد اول'!A343,'رصيد اول'!C:C)","v":0},0,{"$f":"SUMIF(الوارد!$D:$D,الرصيد!A343,الوارد!F:F)","v":0},0,{"$f":"SUMIF(المنصرف!$C$1:$C$10000,A343,المنصرف!E:E)","v":0},0,0,0,{"$f":"'رصيد اول'!D343","v":0}]
[{"$f":"'رصيد اول'!A344","v":0},{"$f":"'رصيد اول'!B344","v":0},{"$f":"SUMIF('رصيد اول'!$A:$B,'رصيد اول'!A344,'رصيد اول'!C:C)","v":0},0,{"$f":"SUMIF(الوارد!$D:$D,الرصيد!A344,الوارد!F:F)","v":0},0,{"$f":"SUMIF(المنصرف!$C$1:$C$10000,A344,المنصرف!E:E)","v":0},0,0,0,{"$f":"'رصيد اول'!D344","v":0}]
[{"$f":"'رصيد اول'!A345","v":0},{"$f":"'رصيد اول'!B345","v":0},{"$f":"SUMIF('رصيد اول'!$A:$B,'رصيد اول'!A345,'رصيد اول'!C:C)","v":0},0,{"$f":"SUMIF(الوارد!$D:$D,الرصيد!A345,الوارد!F:F)","v":0},0,{"$f":"SUMIF(المنصرف!$C$1:$C$10000,A345,المنصرف!E:E)","v":0},0,0,0,{"$f":"'رصيد اول'!D345","v":0}]
[{"$f":"'رصيد اول'!A346","v":0},{"$f":"'رصيد اول'!B346","v":0},{"$f":"SUMIF('رصيد اول'!$A:$B,'رصيد اول'!A346,'رصيد اول'!C:C)","v":0},0,{"$f":"SUMIF(الوارد!$D:$D,الرصيد!A346,الوارد!F:F)","v":0},0,{"$f":"SUMIF(المنصرف!$C$1:$C$10000,A346,المنصرف!E:E)","v":0},0,0,0,{"$f":"'رصيد اول'!D346","v":0}]
[{"$f":"'رصيد اول'!A347","v":0},{"$f":"'رصيد اول'!B347","v":0},{"$f":"SUMIF('رصيد اول'!$A:$B,'رصيد اول'!A347,'رصيد اول'!C:C)","v":0},0,{"$f":"SUMIF(الوارد!$D:$D,الرصيد!A347,الوارد!F:F)","v":0},0,{"$f":"SUMIF(المنصرف!$C$1:$C$10000,A347,المنصرف!E:E)","v":0},0,0,0,{"$f":"'رصيد اول'!D347","v":0}]
[{"$f":"'رصيد اول'!A348","v":0},{"$f":"'رصيد اول'!B348","v":0},{"$f":"SUMIF('رصيد اول'!$A:$B,'رصيد اول'!A348,'رصيد اول'!C:C)","v":0},0,{"$f":"SUMIF(الوارد!$D:$D,الرصيد!A348,الوارد!F:F)","v":0},0,{"$f":"SUMIF(المنصرف!$C$1:$C$10000,A348,المنصرف!E:E)","v":0},0,0,0,{"$f":"'رصيد اول'!D348","v":0}]
[{"$f":"'رصيد اول'!A349","v":0},{"$f":"'رصيد اول'!B349","v":0},{"$f":"SUMIF('رصيد اول'!$A:$B,'رصيد اول'!A349,'رصيد اول'!C:C)","v":0},0,{"$f":"SUMIF(الوارد!$D:$D,الرصيد!A349,الوارد!F:F)","v":0},0,{"$f":"SUMIF(المنصرف!$C$1:$C$10000,A349,المنصرف!E:E)","v":0},0,0,0,{"$f":"'رصيد اول'!D349","v":0}]
[{"$f":"'رصيد اول'!A350","v":0},{"$f":"'رصيد اول'!B350","v":0},{"$f":"SUMIF('رصيد اول'!$A:$B,'رصيد اول'!A350,'رصيد اول'!C:C)","v":0},0,{"$f":"SUMIF(الوارد!$D:$D,الرصيد!A350,الوارد!F:F)","v":0},0,{"$f":"SUMIF(المنصرف!$C$1:$C$10000,A350,المنصرف!E:E)","v":0},0,0,0,{"$f":"'رصيد اول'!D350","v":0}]
[{"$f":"'رصيد اول'!A351","v":0},{"$f":"'رصيد اول'!B351","v":0},{"$f":"SUMIF('رصيد اول'!$A:$B,'رصيد اول'!A351,'رصيد اول'!C:C)","v":0},0,{"$f":"SUMIF(الوارد!$D:$D,الرصيد!A351,الوارد!F:F)","v":0},0,{"$f":"SUMIF(المنصرف!$C$1:$C$10000,A351,المنصرف!E:E)","v":0},0,0,0,{"$f":"'رصيد اول'!D351","v":0}]
[{"$f":"'رصيد اول'!A352","v":0},{"$f":"'رصيد اول'!B352","v":0},{"$f":"SUMIF('رصيد اول'!$A:$B,'رصيد اول'!A352,'رصيد اول'!C:C)","v":0},0,{"$f":"SUMIF(الوارد!$D:$D,الرصيد!A352,الوارد!F:F)","v":0},0,{"$f":"SUMIF(المنصرف!$C$1:$C$10000,A352,المنصرف!E:E)","v":0},0,0,0,{"$f":"'رصيد اول'!D352","v":0}]
[{"$f":"'رصيد اول'!A353","v":0},{"$f":"'رصيد اول'!B353","v":0},{"$f":"SUMIF('رصيد اول'!$A:$B,'رصيد اول'!A353,'رصيد اول'!C:C)","v":0},0,{"$f":"SUMIF(الوارد!$D:$D,الرصيد!A353,الوارد!F:F)","v":0},0,{"$f":"SUMIF(المنصرف!$C$1:$C$10000,A353,المنصرف!E:E)","v":0},0,0,0,{"$f":"'رصيد اول'!D353","v":0}]
[{"$f":"'رصيد اول'!A354","v":0},{"$f":"'رصيد اول'!B354","v":0},{"$f":"SUMIF('رصيد اول'!$A:$B,'رصيد اول'!A354,'رصيد اول'!C:C)","v":0},0,{"$f":"SUMIF(الوارد!$D:$D,الرصيد!A354,الوارد!F:F)","v":0},0,{"$f":"SUMIF(المنصرف!$C$1:$C$10000,A354,المنصرف!E:E)","v":0},0,0,0,{"$f":"'رصيد اول'!D354","v":0}]
[{"$f":"'رصيد اول'!A355","v":0},{"$f":"'رصيد اول'!B355","v":0},{"$f":"SUMIF('رصيد اول'!$A:$B,'رصيد اول'!A355,'رصيد اول'!C:C)","v":0},0,{"$f":"SUMIF(الوارد!$D:$D,الرصيد!A355,الوارد!F:F)","v":0},0,{"$f":"SUMIF(المنصرف!$C$1:$C$10000,A355,المنصرف!E:E)","v":0},0,0,0,{"$f":"'رصيد اول'!D355","v":0}]
[{"$f":"'رصيد اول'!A356","v":0},{"$f":"'رصيد اول'!B356","v":0},{"$f":"SUMIF('رصيد اول'!$A:$B,'رصيد اول'!A356,'رصيد اول'!C:C)","v":0},0,{"$f":"SUMIF(الوارد!$D:$D,الرصيد!A356,الوارد!F:F)","v":0},0,{"$f":"SUMIF(المنصرف!$C$1:$C$10000,A356,المنصرف!E:E)","v":0},0,0,0,{"$f":"'رصيد اول'!D356","v":0}]
[{"$f":"'رصيد اول'!A357","v":0},{"$f":"'رصيد اول'!B357","v":0},{"$f":"SUMIF('رصيد اول'!$A:$B,'رصيد اول'!A357,'رصيد اول'!C:C)","v":0},0,{"$f":"SUMIF(الوارد!$D:$D,الرصيد!A357,الوارد!F:F)","v":0},0,{"$f":"SUMIF(المنصرف!$C$1:$C$10000,A357,المنصرف!E:E)","v":0},0,0,0,{"$f":"'رصيد اول'!D357","v":0}]
[{"$f":"'رصيد اول'!A358","v":0},{"$f":"'رصيد اول'!B358","v":0},{"$f":"SUMIF('رصيد اول'!$A:$B,'رصيد اول'!A358,'رصيد اول'!C:C)","v":0},0,{"$f":"SUMIF(الوارد!$D:$D,الرصيد!A358,الوارد!F:F)","v":0},0,{"$f":"SUMIF(المنصرف!$C$1:$C$10000,A358,المنصرف!E:E)","v":0},0,0,0,{"$f":"'رصيد اول'!D358","v":0}]
[{"$f":"'رصيد اول'!A359","v":0},{"$f":"'رصيد اول'!B359","v":0},{"$f":"SUMIF('رصيد اول'!$A:$B,'رصيد اول'!A359,'رصيد اول'!C:C)","v":0},0,{"$f":"SUMIF(الوارد!$D:$D,الرصيد!A359,الوارد!F:F)","v":0},0,{"$f":"SUMIF(المنصرف!$C$1:$C$10000,A359,المنصرف!E:E)","v":0},0,0,0,{"$f":"'رصيد اول'!D359","v":0}]
[{"$f":"'رصيد اول'!A360","v":0},{"$f":"'رصيد اول'!B360","v":0},{"$f":"SUMIF('رصيد اول'!$A:$B,'رصيد اول'!A360,'رصيد اول'!C:C)","v":0},0,{"$f":"SUMIF(الوارد!$D:$D,الرصيد!A360,الوارد!F:F)","v":0},0,{"$f":"SUMIF(المنصرف!$C$1:$C$10000,A360,المنصرف!E:E)","v":0},0,0,0,{"$f":"'رصيد اول'!D360","v":0}]
[{"$f":"'رصيد اول'!A361","v":0},{"$f":"'رصيد اول'!B361","v":0},{"$f":"SUMIF('رصيد اول'!$A:$B,'رصيد اول'!A361,'رصيد اول'!C:C)","v":0},0,{"$f":"SUMIF(الوارد!$D:$D,الرصيد!A361,الوارد!F:F)","v":0},0,{"$f":"SUMIF(المنصرف!$C$1:$C$10000,A361,المنصرف!E:E)","v":0},0,0,0,{"$f":"'رصيد اول'!D361","v":0}]
[{"$f":"'رصيد اول'!A362","v":0},{"$f":"'رصيد اول'!B362","v":0},{"$f":"SUMIF('رصيد اول'!$A:$B,'رصيد اول'!A362,'رصيد اول'!C:C)","v":0},0,{"$f":"SUMIF(الوارد!$D:$D,الرصيد!A362,الوارد!F:F)","v":0},0,{"$f":"SUMIF(المنصرف!$C$1:$C$10000,A362,المنصرف!E:E)","v":0},0,0,0,{"$f":"'رصيد اول'!D362","v":0}]
[{"$f":"'رصيد اول'!A363","v":0},{"$f":"'رصيد اول'!B363","v":0},{"$f":"SUMIF('رصيد اول'!$A:$B,'رصيد اول'!A363,'رصيد اول'!C:C)","v":0},0,{"$f":"SUMIF(الوارد!$D:$D,الرصيد!A363,الوارد!F:F)","v":0},0,{"$f":"SUMIF(المنصرف!$C$1:$C$10000,A363,المنصرف!E:E)","v":0},0,0,0,{"$f":"'رصيد اول'!D363","v":0}]
[{"$f":"'رصيد اول'!A364","v":0},{"$f":"'رصيد اول'!B364","v":0},{"$f":"SUMIF('رصيد اول'!$A:$B,'رصيد اول'!A364,'رصيد اول'!C:C)","v":0},0,{"$f":"SUMIF(الوارد!$D:$D,الرصيد!A364,الوارد!F:F)","v":0},0,{"$f":"SUMIF(المنصرف!$C$1:$C$10000,A364,المنصرف!E:E)","v":0},0,0,0,{"$f":"'رصيد اول'!D364","v":0}]
[{"$f":"'رصيد اول'!A365","v":0},{"$f":"'رصيد اول'!B365","v":0},{"$f":"SUMIF('رصيد اول'!$A:$B,'رصيد اول'!A365,'رصيد اول'!C:C)","v":0},0,{"$f":"SUMIF(الوارد!$D:$D,الرصيد!A365,الوارد!F:F)","v":0},0,{"$f":"SUMIF(المنصرف!$C$1:$C$10000,A365,المنصرف!E:E)","v":0},0,0,0,{"$f":"'رصيد اول'!D365","v":0}]
[{"$f":"'رصيد اول'!A366","v":0},{"$f":"'رصيد اول'!B366","v":0},{"$f":"SUMIF('رصيد اول'!$A:$B,'رصيد اول'!A366,'رصيد اول'!C:C)","v":0},0,{"$f":"SUMIF(الوارد!$D:$D,الرصيد!A366,الوارد!F:F)","v":0},0,{"$f":"SUMIF(المنصرف!$C$1:$C$10000,A366,المنصرف!E:E)","v":0},0,0,0,{"$f":"'رصيد اول'!D366","v":0}]
[{"$f":"'رصيد اول'!A367","v":0},{"$f":"'رصيد اول'!B367","v":0},{"$f":"SUMIF('رصيد اول'!$A:$B,'رصيد اول'!A367,'رصيد اول'!C:C)","v":0},0,{"$f":"SUMIF(الوارد!$D:$D,الرصيد!A367,الوارد!F:F)","v":0},0,{"$f":"SUMIF(المنصرف!$C$1:$C$10000,A367,المنصرف!E:E)","v":0},0,0,0,{"$f":"'رصيد اول'!D367","v":0}]
[{"$f":"'رصيد اول'!A368","v":0},{"$f":"'رصيد اول'!B368","v":0},{"$f":"SUMIF('رصيد اول'!$A:$B,'رصيد اول'!A368,'رصيد اول'!C:C)","v":0},0,{"$f":"SUMIF(الوارد!$D:$D,الرصيد!A368,الوارد!F:F)","v":0},0,{"$f":"SUMIF(المنصرف!$C$1:$C$10000,A368,المنصرف!E:E)","v":0},0,0,0,{"$f":"'رصيد اول'!D368","v":0}]
[{"$f":"'رصيد اول'!A369","v":0},{"$f":"'رصيد اول'!B369","v":0},{"$f":"SUMIF('رصيد اول'!$A:$B,'رصيد اول'!A369,'رصيد اول'!C:C)","v":0},0,{"$f":"SUMIF(الوارد!$D:$D,الرصيد!A369,الوارد!F:F)","v":0},0,{"$f":"SUMIF(المنصرف!$C$1:$C$10000,A369,المنصرف!E:E)","v":0},0,0,0,{"$f":"'رصيد اول'!D369","v":0}]
[{"$f":"'رصيد اول'!A370","v":0},{"$f":"'رصيد اول'!B370","v":0},{"$f":"SUMIF('رصيد اول'!$A:$B,'رصيد اول'!A370,'رصيد اول'!C:C)","v":0},0,{"$f":"SUMIF(الوارد!$D:$D,الرصيد!A370,الوارد!F:F)","v":0},0,{"$f":"SUMIF(المنصرف!$C$1:$C$10000,A370,المنصرف!E:E)","v":0},0,0,0,{"$f":"'رصيد اول'!D370","v":0}]
[{"$f":"'رصيد اول'!A371","v":0},{"$f":"'رصيد اول'!B371","v":0},{"$f":"SUMIF('رصيد اول'!$A:$B,'رصيد اول'!A371,'رصيد اول'!C:C)","v":0},0,{"$f":"SUMIF(الوارد!$D:$D,الرصيد!A371,الوارد!F:F)","v":0},0,{"$f":"SUMIF(المنصرف!$C$1:$C$10000,A371,المنصرف!E:E)","v":0},0,0,0,{"$f":"'رصيد اول'!D371","v":0}]
[{"$f":"'رصيد اول'!A372","v":0},{"$f":"'رصيد اول'!B372","v":0},{"$f":"SUMIF('رصيد اول'!$A:$B,'رصيد اول'!A372,'رصيد اول'!C:C)","v":0},0,{"$f":"SUMIF(الوارد!$D:$D,الرصيد!A372,الوارد!F:F)","v":0},0,{"$f":"SUMIF(المنصرف!$C$1:$C$10000,A372,المنصرف!E:E)","v":0},0,0,0,{"$f":"'رصيد اول'!D372","v":0}]
[{"$f":"'رصيد اول'!A373","v":0},{"$f":"'رصيد اول'!B373","v":0},{"$f":"SUMIF('رصيد اول'!$A:$B,'رصيد اول'!A373,'رصيد اول'!C:C)","v":0},0,{"$f":"SUMIF(الوارد!$D:$D,الرصيد!A373,الوارد!F:F)","v":0},0,{"$f":"SUMIF(المنصرف!$C$1:$C$10000,A373,المنصرف!E:E)","v":0},0,0,0,{"$f":"'رصيد اول'!D373","v":0}]
[{"$f":"'رصيد اول'!A374","v":0},{"$f":"'رصيد اول'!B374","v":0},{"$f":"SUMIF('رصيد اول'!$A:$B,'رصيد اول'!A374,'رصيد اول'!C:C)","v":0},0,{"$f":"SUMIF(الوارد!$D:$D,الرصيد!A374,الوارد!F:F)","v":0},0,{"$f":"SUMIF(المنصرف!$C$1:$C$10000,A374,المنصرف!E:E)","v":0},0,0,0,{"$f":"'رصيد اول'!D374","v":0}]
[{"$f":"'رصيد اول'!A375","v":0},{"$f":"'رصيد اول'!B375","v":0},{"$f":"SUMIF('رصيد اول'!$A:$B,'رصيد اول'!A375,'رصيد اول'!C:C)","v":0},0,{"$f":"SUMIF(الوارد!$D:$D,الرصيد!A375,الوارد!F:F)","v":0},0,{"$f":"SUMIF(المنصرف!$C$1:$C$10000,A375,المنصرف!E:E)","v":0},0,0,0,{"$f":"'رصيد اول'!D375","v":0}]
[{"$f":"'رصيد اول'!A376","v":0},{"$f":"'رصيد اول'!B376","v":0},{"$f":"SUMIF('رصيد اول'!$A:$B,'رصيد اول'!A376,'رصيد اول'!C:C)","v":0},0,{"$f":"SUMIF(الوارد!$D:$D,الرصيد!A376,الوارد!F:F)","v":0},0,{"$f":"SUMIF(المنصرف!$C$1:$C$10000,A376,المنصرف!E:E)","v":0},0,0,0,{"$f":"'رصيد اول'!D376","v":0}]
[{"$f":"'رصيد اول'!A377","v":0},{"$f":"'رصيد اول'!B377","v":0},{"$f":"SUMIF('رصيد اول'!$A:$B,'رصيد اول'!A377,'رصيد اول'!C:C)","v":0},0,{"$f":"SUMIF(الوارد!$D:$D,الرصيد!A377,الوارد!F:F)","v":0},0,{"$f":"SUMIF(المنصرف!$C$1:$C$10000,A377,المنصرف!E:E)","v":0},0,0,0,{"$f":"'رصيد اول'!D377","v":0}]
[{"$f":"'رصيد اول'!A378","v":0},{"$f":"'رصيد اول'!B378","v":0},{"$f":"SUMIF('رصيد اول'!$A:$B,'رصيد اول'!A378,'رصيد اول'!C:C)","v":0},0,{"$f":"SUMIF(الوارد!$D:$D,الرصيد!A378,الوارد!F:F)","v":0},0,{"$f":"SUMIF(المنصرف!$C$1:$C$10000,A378,المنصرف!E:E)","v":0},0,0,0,{"$f":"'رصيد اول'!D378","v":0}]
[{"$f":"'رصيد اول'!A379","v":0},{"$f":"'رصيد اول'!B379","v":0},{"$f":"SUMIF('رصيد اول'!$A:$B,'رصيد اول'!A379,'رصيد اول'!C:C)","v":0},0,{"$f":"SUMIF(الوارد!$D:$D,الرصيد!A379,الوارد!F:F)","v":0},0,{"$f":"SUMIF(المنصرف!$C$1:$C$10000,A379,المنصرف!E:E)","v":0},0,0,0,{"$f":"'رصيد اول'!D379","v":0}]
[{"$f":"'رصيد اول'!A380","v":0},{"$f":"'رصيد اول'!B380","v":0},{"$f":"SUMIF('رصيد اول'!$A:$B,'رصيد اول'!A380,'رصيد اول'!C:C)","v":0},0,{"$f":"SUMIF(الوارد!$D:$D,الرصيد!A380,الوارد!F:F)","v":0},0,{"$f":"SUMIF(المنصرف!$C$1:$C$10000,A380,المنصرف!E:E)","v":0},0,0,0,{"$f":"'رصيد اول'!D380","v":0}]
[{"$f":"'رصيد اول'!A381","v":0},{"$f":"'رصيد اول'!B381","v":0},{"$f":"SUMIF('رصيد اول'!$A:$B,'رصيد اول'!A381,'رصيد اول'!C:C)","v":0},0,{"$f":"SUMIF(الوارد!$D:$D,الرصيد!A381,الوارد!F:F)","v":0},0,{"$f":"SUMIF(المنصرف!$C$1:$C$10000,A381,المنصرف!E:E)","v":0},0,0,0,{"$f":"'رصيد اول'!D381","v":0}]
[{"$f":"'رصيد اول'!A382","v":0},{"$f":"'رصيد اول'!B382","v":0},{"$f":"SUMIF('رصيد اول'!$A:$B,'رصيد اول'!A382,'رصيد اول'!C:C)","v":0},0,{"$f":"SUMIF(الوارد!$D:$D,الرصيد!A382,الوارد!F:F)","v":0},0,{"$f":"SUMIF(المنصرف!$C$1:$C$10000,A382,المنصرف!E:E)","v":0},0,0,0,{"$f":"'رصيد اول'!D382","v":0}]
[{"$f":"'رصيد اول'!A383","v":0},{"$f":"'رصيد اول'!B383","v":0},{"$f":"SUMIF('رصيد اول'!$A:$B,'رصيد اول'!A383,'رصيد اول'!C:C)","v":0},0,{"$f":"SUMIF(الوارد!$D:$D,الرصيد!A383,الوارد!F:F)","v":0},0,{"$f":"SUMIF(المنصرف!$C$1:$C$10000,A383,المنصرف!E:E)","v":0},0,0,0,{"$f":"'رصيد اول'!D383","v":0}]
[{"$f":"'رصيد اول'!A384","v":0},{"$f":"'رصيد اول'!B384","v":0},{"$f":"SUMIF('رصيد اول'!$A:$B,'رصيد اول'!A384,'رصيد اول'!C:C)","v":0},0,{"$f":"SUMIF(الوارد!$D:$D,الرصيد!A384,الوارد!F:F)","v":0},0,{"$f":"SUMIF(المنصرف!$C$1:$C$10000,A384,المنصرف!E:E)","v":0},0,0,0,{"$f":"'رصيد اول'!D384","v":0}]
[{"$f":"'رصيد اول'!A385","v":0},{"$f":"'رصيد اول'!B385","v":0},{"$f":"SUMIF('رصيد اول'!$A:$B,'رصيد اول'!A385,'رصيد اول'!C:C)","v":0},0,{"$f":"SUMIF(الوارد!$D:$D,الرصيد!A385,الوارد!F:F)","v":0},0,{"$f":"SUMIF(المنصرف!$C$1:$C$10000,A385,المنصرف!E:E)","v":0},0,0,0,{"$f":"'رصيد اول'!D385","v":0}]
[{"$f":"'رصيد اول'!A386","v":0},{"$f":"'رصيد اول'!B386","v":0},{"$f":"SUMIF('رصيد اول'!$A:$B,'رصيد اول'!A386,'رصيد اول'!C:C)","v":0},0,{"$f":"SUMIF(الوارد!$D:$D,الرصيد!A386,الوارد!F:F)","v":0},0,{"$f":"SUMIF(المنصرف!$C$1:$C$10000,A386,المنصرف!E:E)","v":0},0,0,0,{"$f":"'رصيد اول'!D386","v":0}]
[{"$f":"'رصيد اول'!A387","v":0},{"$f":"'رصيد اول'!B387","v":0},{"$f":"SUMIF('رصيد اول'!$A:$B,'رصيد اول'!A387,'رصيد اول'!C:C)","v":0},0,{"$f":"SUMIF(الوارد!$D:$D,الرصيد!A387,الوارد!F:F)","v":0},0,{"$f":"SUMIF(المنصرف!$C$1:$C$10000,A387,المنصرف!E:E)","v":0},0,{"$f":"C387+E387-G387","v":0},0,{"$f":"'رصيد اول'!D387","v":0}]
[{"$f":"'رصيد اول'!A388","v":0},{"$f":"'رصيد اول'!B388","v":0},{"$f":"SUMIF('رصيد اول'!$A:$B,'رصيد اول'!A388,'رصيد اول'!C:C)","v":0},{"$f":"C388*K388","v":0},{"$f":"SUMIF(الوارد!$D:$D,الرصيد!A388,الوارد!F:F)","v":0},{"$f":"+E388*K388","v":0},{"$f":"SUMIF(المنصرف!$C$1:$C$10000,A388,المنصرف!E:E)","v":0},{"$f":"G388*K388","v":0},0,{"$f":"I388*K388","v":0},{"$f":"'رصيد اول'!D388","v":0}]
[{"$f":"'رصيد اول'!A389","v":0},{"$f":"'رصيد اول'!B389","v":0},{"$f":"SUMIF('رصيد اول'!$A:$B,'رصيد اول'!A389,'رصيد اول'!C:C)","v":0},0,{"$f":"SUMIF(الوارد!$D:$D,الرصيد!A389,الوارد!F:F)","v":0},0,{"$f":"SUMIF(المنصرف!$C$1:$C$10000,A389,المنصرف!E:E)","v":0},0,0,0,{"$f":"'رصيد اول'!D389","v":0}]
[{"$f":"'رصيد اول'!A390","v":0},{"$f":"'رصيد اول'!B390","v":0},{"$f":"SUMIF('رصيد اول'!$A:$B,'رصيد اول'!A390,'رصيد اول'!C:C)","v":0},0,{"$f":"SUMIF(الوارد!$D:$D,الرصيد!A390,الوارد!F:F)","v":0},0,{"$f":"SUMIF(المنصرف!$C$1:$C$10000,A390,المنصرف!E:E)","v":0},0,0,0,{"$f":"'رصيد اول'!D390","v":0}]
[{"$f":"'رصيد اول'!A391","v":0},{"$f":"'رصيد اول'!B391","v":0},{"$f":"SUMIF('رصيد اول'!$A:$B,'رصيد اول'!A391,'رصيد اول'!C:C)","v":0},0,{"$f":"SUMIF(الوارد!$D:$D,الرصيد!A391,الوارد!F:F)","v":0},0,{"$f":"SUMIF(المنصرف!$C$1:$C$10000,A391,المنصرف!E:E)","v":0},0,0,0,{"$f":"'رصيد اول'!D391","v":0}]
[{"$f":"'رصيد اول'!A392","v":0},{"$f":"'رصيد اول'!B392","v":0},{"$f":"SUMIF('رصيد اول'!$A:$B,'رصيد اول'!A392,'رصيد اول'!C:C)","v":0},0,{"$f":"SUMIF(الوارد!$D:$D,الرصيد!A392,الوارد!F:F)","v":0},0,{"$f":"SUMIF(المنصرف!$C$1:$C$10000,A392,المنصرف!E:E)","v":0},0,0,0,{"$f":"'رصيد اول'!D392","v":0}]
[{"$f":"'رصيد اول'!A393","v":0},{"$f":"'رصيد اول'!B393","v":0},{"$f":"SUMIF('رصيد اول'!$A:$B,'رصيد اول'!A393,'رصيد اول'!C:C)","v":0},0,{"$f":"SUMIF(الوارد!$D:$D,الرصيد!A393,الوارد!F:F)","v":0},0,{"$f":"SUMIF(المنصرف!$C$1:$C$10000,A393,المنصرف!E:E)","v":0},0,0,0,{"$f":"'رصيد اول'!D393","v":0}]
[{"$f":"'رصيد اول'!A394","v":0},{"$f":"'رصيد اول'!B394","v":0},{"$f":"SUMIF('رصيد اول'!$A:$B,'رصيد اول'!A394,'رصيد اول'!C:C)","v":0},0,{"$f":"SUMIF(الوارد!$D:$D,الرصيد!A394,الوارد!F:F)","v":0},0,{"$f":"SUMIF(المنصرف!$C$1:$C$10000,A394,المنصرف!E:E)","v":0},0,0,0,{"$f":"'رصيد اول'!D394","v":0}]
[{"$f":"'رصيد اول'!A395","v":0},{"$f":"'رصيد اول'!B395","v":0},{"$f":"SUMIF('رصيد اول'!$A:$B,'رصيد اول'!A395,'رصيد اول'!C:C)","v":0},0,{"$f":"SUMIF(الوارد!$D:$D,الرصيد!A395,الوارد!F:F)","v":0},0,{"$f":"SUMIF(المنصرف!$C$1:$C$10000,A395,المنصرف!E:E)","v":0},0,0,0,{"$f":"'رصيد اول'!D395","v":0}]
[{"$f":"'رصيد اول'!A396","v":0},{"$f":"'رصيد اول'!B396","v":0},{"$f":"SUMIF('رصيد اول'!$A:$B,'رصيد اول'!A396,'رصيد اول'!C:C)","v":0},0,{"$f":"SUMIF(الوارد!$D:$D,الرصيد!A396,الوارد!F:F)","v":0},0,{"$f":"SUMIF(المنصرف!$C$1:$C$10000,A396,المنصرف!E:E)","v":0},0,0,0,{"$f":"'رصيد اول'!D396","v":0}]
[{"$f":"'رصيد اول'!A397","v":0},{"$f":"'رصيد اول'!B397","v":0},{"$f":"SUMIF('رصيد اول'!$A:$B,'رصيد اول'!A397,'رصيد اول'!C:C)","v":0},0,{"$f":"SUMIF(الوارد!$D:$D,الرصيد!A397,الوارد!F:F)","v":0},0,{"$f":"SUMIF(المنصرف!$C$1:$C$10000,A397,المنصرف!E:E)","v":0},0,0,0,{"$f":"'رصيد اول'!D397","v":0}]
[{"$f":"'رصيد اول'!A398","v":0},{"$f":"'رصيد اول'!B398","v":0},{"$f":"SUMIF('رصيد اول'!$A:$B,'رصيد اول'!A398,'رصيد اول'!C:C)","v":0},0,{"$f":"SUMIF(الوارد!$D:$D,الرصيد!A398,الوارد!F:F)","v":0},0,{"$f":"SUMIF(المنصرف!$C$1:$C$10000,A398,المنصرف!E:E)","v":0},0,0,0,{"$f":"'رصيد اول'!D398","v":0}]
[{"$f":"'رصيد اول'!A399","v":0},{"$f":"'رصيد اول'!B399","v":0},{"$f":"SUMIF('رصيد اول'!$A:$B,'رصيد اول'!A399,'رصيد اول'!C:C)","v":0},0,{"$f":"SUMIF(الوارد!$D:$D,الرصيد!A399,الوارد!F:F)","v":0},0,{"$f":"SUMIF(المنصرف!$C$1:$C$10000,A399,المنصرف!E:E)","v":0},0,0,0,{"$f":"'رصيد اول'!D399","v":0}]
[{"$f":"'رصيد اول'!A400","v":0},{"$f":"'رصيد اول'!B400","v":0},{"$f":"SUMIF('رصيد اول'!$A:$B,'رصيد اول'!A400,'رصيد اول'!C:C)","v":0},0,{"$f":"SUMIF(الوارد!$D:$D,الرصيد!A400,الوارد!F:F)","v":0},0,{"$f":"SUMIF(المنصرف!$C$1:$C$10000,A400,المنصرف!E:E)","v":0},0,0,0,{"$f":"'رصيد اول'!D400","v":0}]
[{"$f":"'رصيد اول'!A401","v":0},{"$f":"'رصيد اول'!B401","v":0},{"$f":"SUMIF('رصيد اول'!$A:$B,'رصيد اول'!A401,'رصيد اول'!C:C)","v":0},0,{"$f":"SUMIF(الوارد!$D:$D,الرصيد!A401,الوارد!F:F)","v":0},0,{"$f":"SUMIF(المنصرف!$C$1:$C$10000,A401,المنصرف!E:E)","v":0},0,0,0,{"$f":"'رصيد اول'!D401","v":0}]
[{"$f":"'رصيد اول'!A402","v":0},{"$f":"'رصيد اول'!B402","v":0},{"$f":"SUMIF('رصيد اول'!$A:$B,'رصيد اول'!A402,'رصيد اول'!C:C)","v":0},0,{"$f":"SUMIF(الوارد!$D:$D,الرصيد!A402,الوارد!F:F)","v":0},0,{"$f":"SUMIF(المنصرف!$C$1:$C$10000,A402,المنصرف!E:E)","v":0},0,0,0,{"$f":"'رصيد اول'!D402","v":0}]
[{"$f":"'رصيد اول'!A403","v":0},{"$f":"'رصيد اول'!B403","v":0},{"$f":"SUMIF('رصيد اول'!$A:$B,'رصيد اول'!A403,'رصيد اول'!C:C)","v":0},0,{"$f":"SUMIF(الوارد!$D:$D,الرصيد!A403,الوارد!F:F)","v":0},0,{"$f":"SUMIF(المنصرف!$C$1:$C$10000,A403,المنصرف!E:E)","v":0},0,0,0,{"$f":"'رصيد اول'!D403","v":0}]
[{"$f":"'رصيد اول'!A404","v":0},{"$f":"'رصيد اول'!B404","v":0},{"$f":"SUMIF('رصيد اول'!$A:$B,'رصيد اول'!A404,'رصيد اول'!C:C)","v":0},0,{"$f":"SUMIF(الوارد!$D:$D,الرصيد!A404,الوارد!F:F)","v":0},0,{"$f":"SUMIF(المنصرف!$C$1:$C$10000,A404,المنصرف!E:E)","v":0},0,0,0,{"$f":"'رصيد اول'!D404","v":0}]
[{"$f":"'رصيد اول'!A405","v":0},{"$f":"'رصيد اول'!B405","v":0},{"$f":"SUMIF('رصيد اول'!$A:$B,'رصيد اول'!A405,'رصيد اول'!C:C)","v":0},0,{"$f":"SUMIF(الوارد!$D:$D,الرصيد!A405,الوارد!F:F)","v":0},0,{"$f":"SUMIF(المنصرف!$C$1:$C$10000,A405,المنصرف!E:E)","v":0},0,0,0,{"$f":"'رصيد اول'!D405","v":0}]
[{"$f":"'رصيد اول'!A406","v":0},{"$f":"'رصيد اول'!B406","v":0},{"$f":"SUMIF('رصيد اول'!$A:$B,'رصيد اول'!A406,'رصيد اول'!C:C)","v":0},0,{"$f":"SUMIF(الوارد!$D:$D,الرصيد!A406,الوارد!F:F)","v":0},0,{"$f":"SUMIF(المنصرف!$C$1:$C$10000,A406,المنصرف!E:E)","v":0},0,0,0,{"$f":"'رصيد اول'!D406","v":0}]
[{"$f":"'رصيد اول'!A407","v":0},{"$f":"'رصيد اول'!B407","v":0},{"$f":"SUMIF('رصيد اول'!$A:$B,'رصيد اول'!A407,'رصيد اول'!C:C)","v":0},0,{"$f":"SUMIF(الوارد!$D:$D,الرصيد!A407,الوارد!F:F)","v":0},0,{"$f":"SUMIF(المنصرف!$C$1:$C$10000,A407,المنصرف!E:E)","v":0},0,0,0,{"$f":"'رصيد اول'!D407","v":0}]
[{"$f":"'رصيد اول'!A408","v":0},{"$f":"'رصيد اول'!B408","v":0},{"$f":"SUMIF('رصيد اول'!$A:$B,'رصيد اول'!A408,'رصيد اول'!C:C)","v":0},0,{"$f":"SUMIF(الوارد!$D:$D,الرصيد!A408,الوارد!F:F)","v":0},0,{"$f":"SUMIF(المنصرف!$C$1:$C$10000,A408,المنصرف!E:E)","v":0},0,0,0,{"$f":"'رصيد اول'!D408","v":0}]
[{"$f":"'رصيد اول'!A409","v":0},{"$f":"'رصيد اول'!B409","v":0},{"$f":"SUMIF('رصيد اول'!$A:$B,'رصيد اول'!A409,'رصيد اول'!C:C)","v":0},0,{"$f":"SUMIF(الوارد!$D:$D,الرصيد!A409,الوارد!F:F)","v":0},0,{"$f":"SUMIF(المنصرف!$C$1:$C$10000,A409,المنصرف!E:E)","v":0},0,0,0,{"$f":"'رصيد اول'!D409","v":0}]
[{"$f":"'رصيد اول'!A410","v":0},{"$f":"'رصيد اول'!B410","v":0},{"$f":"SUMIF('رصيد اول'!$A:$B,'رصيد اول'!A410,'رصيد اول'!C:C)","v":0},0,{"$f":"SUMIF(الوارد!$D:$D,الرصيد!A410,الوارد!F:F)","v":0},0,{"$f":"SUMIF(المنصرف!$C$1:$C$10000,A410,المنصرف!E:E)","v":0},0,0,0,{"$f":"'رصيد اول'!D410","v":0}]
[{"$f":"'رصيد اول'!A411","v":0},{"$f":"'رصيد اول'!B411","v":0},{"$f":"SUMIF('رصيد اول'!$A:$B,'رصيد اول'!A411,'رصيد اول'!C:C)","v":0},0,{"$f":"SUMIF(الوارد!$D:$D,الرصيد!A411,الوارد!F:F)","v":0},0,{"$f":"SUMIF(المنصرف!$C$1:$C$10000,A411,المنصرف!E:E)","v":0},0,0,0,{"$f":"'رصيد اول'!D411","v":0}]
[{"$f":"'رصيد اول'!A412","v":0},{"$f":"'رصيد اول'!B412","v":0},{"$f":"SUMIF('رصيد اول'!$A:$B,'رصيد اول'!A412,'رصيد اول'!C:C)","v":0},0,{"$f":"SUMIF(الوارد!$D:$D,الرصيد!A412,الوارد!F:F)","v":0},0,{"$f":"SUMIF(المنصرف!$C$1:$C$10000,A412,المنصرف!E:E)","v":0},0,0,0,{"$f":"'رصيد اول'!D412","v":0}]
[{"$f":"'رصيد اول'!A413","v":0},{"$f":"'رصيد اول'!B413","v":0},{"$f":"SUMIF('رصيد اول'!$A:$B,'رصيد اول'!A413,'رصيد اول'!C:C)","v":0},0,{"$f":"SUMIF(الوارد!$D:$D,الرصيد!A413,الوارد!F:F)","v":0},0,{"$f":"SUMIF(المنصرف!$C$1:$C$10000,A413,المنصرف!E:E)","v":0},0,0,0,{"$f":"'رصيد اول'!D413","v":0}]
[{"$f":"'رصيد اول'!A414","v":0},{"$f":"'رصيد اول'!B414","v":0},{"$f":"SUMIF('رصيد اول'!$A:$B,'رصيد اول'!A414,'رصيد اول'!C:C)","v":0},0,{"$f":"SUMIF(الوارد!$D:$D,الرصيد!A414,الوارد!F:F)","v":0},0,{"$f":"SUMIF(المنصرف!$C$1:$C$10000,A414,المنصرف!E:E)","v":0},0,0,0,{"$f":"'رصيد اول'!D414","v":0}]
[{"$f":"'رصيد اول'!A415","v":0},{"$f":"'رصيد اول'!B415","v":0},{"$f":"SUMIF('رصيد اول'!$A:$B,'رصيد اول'!A415,'رصيد اول'!C:C)","v":0},0,{"$f":"SUMIF(الوارد!$D:$D,الرصيد!A415,الوارد!F:F)","v":0},0,{"$f":"SUMIF(المنصرف!$C$1:$C$10000,A415,المنصرف!E:E)","v":0},0,0,0,{"$f":"'رصيد اول'!D415","v":0}]
[{"$f":"'رصيد اول'!A416","v":0},{"$f":"'رصيد اول'!B416","v":0},{"$f":"SUMIF('رصيد اول'!$A:$B,'رصيد اول'!A416,'رصيد اول'!C:C)","v":0},0,{"$f":"SUMIF(الوارد!$D:$D,الرصيد!A416,الوارد!F:F)","v":0},0,{"$f":"SUMIF(المنصرف!$C$1:$C$10000,A416,المنصرف!E:E)","v":0},0,0,0,{"$f":"'رصيد اول'!D416","v":0}]
[{"$f":"'رصيد اول'!A417","v":0},{"$f":"'رصيد اول'!B417","v":0},{"$f":"SUMIF('رصيد اول'!$A:$B,'رصيد اول'!A417,'رصيد اول'!C:C)","v":0},0,{"$f":"SUMIF(الوارد!$D:$D,الرصيد!A417,الوارد!F:F)","v":0},0,{"$f":"SUMIF(المنصرف!$C$1:$C$10000,A417,المنصرف!E:E)","v":0},0,0,0,{"$f":"'رصيد اول'!D417","v":0}]
[{"$f":"'رصيد اول'!A418","v":0},{"$f":"'رصيد اول'!B418","v":0},{"$f":"SUMIF('رصيد اول'!$A:$B,'رصيد اول'!A418,'رصيد اول'!C:C)","v":0},0,{"$f":"SUMIF(الوارد!$D:$D,الرصيد!A418,الوارد!F:F)","v":0},0,{"$f":"SUMIF(المنصرف!$C$1:$C$10000,A418,المنصرف!E:E)","v":0},0,0,0,{"$f":"'رصيد اول'!D418","v":0}]
[{"$f":"'رصيد اول'!A419","v":0},{"$f":"'رصيد اول'!B419","v":0},{"$f":"SUMIF('رصيد اول'!$A:$B,'رصيد اول'!A419,'رصيد اول'!C:C)","v":0},0,{"$f":"SUMIF(الوارد!$D:$D,الرصيد!A419,الوارد!F:F)","v":0},0,{"$f":"SUMIF(المنصرف!$C$1:$C$10000,A419,المنصرف!E:E)","v":0},0,0,0,{"$f":"'رصيد اول'!D419","v":0}]
[{"$f":"'رصيد اول'!A420","v":0},{"$f":"'رصيد اول'!B420","v":0},{"$f":"SUMIF('رصيد اول'!$A:$B,'رصيد اول'!A420,'رصيد اول'!C:C)","v":0},0,{"$f":"SUMIF(الوارد!$D:$D,الرصيد!A420,الوارد!F:F)","v":0},0,{"$f":"SUMIF(المنصرف!$C$1:$C$10000,A420,المنصرف!E:E)","v":0},0,0,0,{"$f":"'رصيد اول'!D420","v":0}]
[{"$f":"'رصيد اول'!A421","v":0},{"$f":"'رصيد اول'!B421","v":0},{"$f":"SUMIF('رصيد اول'!$A:$B,'رصيد اول'!A421,'رصيد اول'!C:C)","v":0},0,{"$f":"SUMIF(الوارد!$D:$D,الرصيد!A421,الوارد!F:F)","v":0},0,{"$f":"SUMIF(المنصرف!$C$1:$C$10000,A421,المنصرف!E:E)","v":0},0,0,0,{"$f":"'رصيد اول'!D421","v":0}]
[{"$f":"'رصيد اول'!A422","v":0},{"$f":"'رصيد اول'!B422","v":0},{"$f":"SUMIF('رصيد اول'!$A:$B,'رصيد اول'!A422,'رصيد اول'!C:C)","v":0},0,{"$f":"SUMIF(الوارد!$D:$D,الرصيد!A422,الوارد!F:F)","v":0},0,{"$f":"SUMIF(المنصرف!$C$1:$C$10000,A422,المنصرف!E:E)","v":0},0,0,0,{"$f":"'رصيد اول'!D422","v":0}]
[{"$f":"'رصيد اول'!A423","v":0},{"$f":"'رصيد اول'!B423","v":0},{"$f":"SUMIF('رصيد اول'!$A:$B,'رصيد اول'!A423,'رصيد اول'!C:C)","v":0},0,{"$f":"SUMIF(الوارد!$D:$D,الرصيد!A423,الوارد!F:F)","v":0},0,{"$f":"SUMIF(المنصرف!$C$1:$C$10000,A423,المنصرف!E:E)","v":0},0,0,0,{"$f":"'رصيد اول'!D423","v":0}]
[{"$f":"'رصيد اول'!A424","v":0},{"$f":"'رصيد اول'!B424","v":0},{"$f":"SUMIF('رصيد اول'!$A:$B,'رصيد اول'!A424,'رصيد اول'!C:C)","v":0},0,{"$f":"SUMIF(الوارد!$D:$D,الرصيد!A424,الوارد!F:F)","v":0},0,{"$f":"SUMIF(المنصرف!$C$1:$C$10000,A424,المنصرف!E:E)","v":0},0,0,0,{"$f":"'رصيد اول'!D424","v":0}]
[{"$f":"'رصيد اول'!A425","v":0},{"$f":"'رصيد اول'!B425","v":0},{"$f":"SUMIF('رصيد اول'!$A:$B,'رصيد اول'!A425,'رصيد اول'!C:C)","v":0},0,{"$f":"SUMIF(الوارد!$D:$D,الرصيد!A425,الوارد!F:F)","v":0},0,{"$f":"SUMIF(المنصرف!$C$1:$C$10000,A425,المنصرف!E:E)","v":0},0,0,0,{"$f":"'رصيد اول'!D425","v":0}]
[{"$f":"'رصيد اول'!A426","v":0},{"$f":"'رصيد اول'!B426","v":0},{"$f":"SUMIF('رصيد اول'!$A:$B,'رصيد اول'!A426,'رصيد اول'!C:C)","v":0},0,{"$f":"SUMIF(الوارد!$D:$D,الرصيد!A426,الوارد!F:F)","v":0},0,{"$f":"SUMIF(المنصرف!$C$1:$C$10000,A426,المنصرف!E:E)","v":0},0,0,0,{"$f":"'رصيد اول'!D426","v":0}]
[{"$f":"'رصيد اول'!A427","v":0},{"$f":"'رصيد اول'!B427","v":0},{"$f":"SUMIF('رصيد اول'!$A:$B,'رصيد اول'!A427,'رصيد اول'!C:C)","v":0},0,{"$f":"SUMIF(الوارد!$D:$D,الرصيد!A427,الوارد!F:F)","v":0},0,{"$f":"SUMIF(المنصرف!$C$1:$C$10000,A427,المنصرف!E:E)","v":0},0,0,0,{"$f":"'رصيد اول'!D427","v":0}]
[{"$f":"'رصيد اول'!A428","v":0},{"$f":"'رصيد اول'!B428","v":0},{"$f":"SUMIF('رصيد اول'!$A:$B,'رصيد اول'!A428,'رصيد اول'!C:C)","v":0},0,{"$f":"SUMIF(الوارد!$D:$D,الرصيد!A428,الوارد!F:F)","v":0},0,{"$f":"SUMIF(المنصرف!$C$1:$C$10000,A428,المنصرف!E:E)","v":0},0,0,0,{"$f":"'رصيد اول'!D428","v":0}]
[{"$f":"'رصيد اول'!A429","v":0},{"$f":"'رصيد اول'!B429","v":0},{"$f":"SUMIF('رصيد اول'!$A:$B,'رصيد اول'!A429,'رصيد اول'!C:C)","v":0},0,{"$f":"SUMIF(الوارد!$D:$D,الرصيد!A429,الوارد!F:F)","v":0},0,{"$f":"SUMIF(المنصرف!$C$1:$C$10000,A429,المنصرف!E:E)","v":0},0,0,0,{"$f":"'رصيد اول'!D429","v":0}]
[{"$f":"'رصيد اول'!A430","v":0},{"$f":"'رصيد اول'!B430","v":0},{"$f":"SUMIF('رصيد اول'!$A:$B,'رصيد اول'!A430,'رصيد اول'!C:C)","v":0},0,{"$f":"SUMIF(الوارد!$D:$D,الرصيد!A430,الوارد!F:F)","v":0},0,{"$f":"SUMIF(المنصرف!$C$1:$C$10000,A430,المنصرف!E:E)","v":0},0,0,0,{"$f":"'رصيد اول'!D430","v":0}]
[{"$f":"'رصيد اول'!A431","v":0},{"$f":"'رصيد اول'!B431","v":0},{"$f":"SUMIF('رصيد اول'!$A:$B,'رصيد اول'!A431,'رصيد اول'!C:C)","v":0},0,{"$f":"SUMIF(الوارد!$D:$D,الرصيد!A431,الوارد!F:F)","v":0},0,{"$f":"SUMIF(المنصرف!$C$1:$C$10000,A431,المنصرف!E:E)","v":0},0,0,0,{"$f":"'رصيد اول'!D431","v":0}]
[{"$f":"'رصيد اول'!A432","v":0},{"$f":"'رصيد اول'!B432","v":0},{"$f":"SUMIF('رصيد اول'!$A:$B,'رصيد اول'!A432,'رصيد اول'!C:C)","v":0},0,{"$f":"SUMIF(الوارد!$D:$D,الرصيد!A432,الوارد!F:F)","v":0},0,{"$f":"SUMIF(المنصرف!$C$1:$C$10000,A432,المنصرف!E:E)","v":0},0,0,0,{"$f":"'رصيد اول'!D432","v":0}]
[{"$f":"'رصيد اول'!A433","v":0},{"$f":"'رصيد اول'!B433","v":0},{"$f":"SUMIF('رصيد اول'!$A:$B,'رصيد اول'!A433,'رصيد اول'!C:C)","v":0},0,{"$f":"SUMIF(الوارد!$D:$D,الرصيد!A433,الوارد!F:F)","v":0},0,{"$f":"SUMIF(المنصرف!$C$1:$C$10000,A433,المنصرف!E:E)","v":0},0,0,0,{"$f":"'رصيد اول'!D433","v":0}]
[{"$f":"'رصيد اول'!A434","v":0},{"$f":"'رصيد اول'!B434","v":0},{"$f":"SUMIF('رصيد اول'!$A:$B,'رصيد اول'!A434,'رصيد اول'!C:C)","v":0},0,{"$f":"SUMIF(الوارد!$D:$D,الرصيد!A434,الوارد!F:F)","v":0},0,{"$f":"SUMIF(المنصرف!$C$1:$C$10000,A434,المنصرف!E:E)","v":0},0,0,0,{"$f":"'رصيد اول'!D434","v":0}]
[{"$f":"'رصيد اول'!A435","v":0},{"$f":"'رصيد اول'!B435","v":0},{"$f":"SUMIF('رصيد اول'!$A:$B,'رصيد اول'!A435,'رصيد اول'!C:C)","v":0},0,{"$f":"SUMIF(الوارد!$D:$D,الرصيد!A435,الوارد!F:F)","v":0},0,{"$f":"SUMIF(المنصرف!$C$1:$C$10000,A435,المنصرف!E:E)","v":0},0,0,0,{"$f":"'رصيد اول'!D435","v":0}]
[{"$f":"'رصيد اول'!A436","v":0},{"$f":"'رصيد اول'!B436","v":0},{"$f":"SUMIF('رصيد اول'!$A:$B,'رصيد اول'!A436,'رصيد اول'!C:C)","v":0},0,{"$f":"SUMIF(الوارد!$D:$D,الرصيد!A436,الوارد!F:F)","v":0},0,{"$f":"SUMIF(المنصرف!$C$1:$C$10000,A436,المنصرف!E:E)","v":0},0,0,0,{"$f":"'رصيد اول'!D436","v":0}]
[{"$f":"'رصيد اول'!A437","v":0},{"$f":"'رصيد اول'!B437","v":0},{"$f":"SUMIF('رصيد اول'!$A:$B,'رصيد اول'!A437,'رصيد اول'!C:C)","v":0},0,{"$f":"SUMIF(الوارد!$D:$D,الرصيد!A437,الوارد!F:F)","v":0},0,{"$f":"SUMIF(المنصرف!$C$1:$C$10000,A437,المنصرف!E:E)","v":0},0,0,0,{"$f":"'رصيد اول'!D437","v":0}]
[{"$f":"'رصيد اول'!A438","v":0},{"$f":"'رصيد اول'!B438","v":0},{"$f":"SUMIF('رصيد اول'!$A:$B,'رصيد اول'!A438,'رصيد اول'!C:C)","v":0},0,{"$f":"SUMIF(الوارد!$D:$D,الرصيد!A438,الوارد!F:F)","v":0},0,{"$f":"SUMIF(المنصرف!$C$1:$C$10000,A438,المنصرف!E:E)","v":0},0,0,0,{"$f":"'رصيد اول'!D438","v":0}]
[{"$f":"'رصيد اول'!A439","v":0},{"$f":"'رصيد اول'!B439","v":0},{"$f":"SUMIF('رصيد اول'!$A:$B,'رصيد اول'!A439,'رصيد اول'!C:C)","v":0},0,{"$f":"SUMIF(الوارد!$D:$D,الرصيد!A439,الوارد!F:F)","v":0},0,{"$f":"SUMIF(المنصرف!$C$1:$C$10000,A439,المنصرف!E:E)","v":0},0,0,0,{"$f":"'رصيد اول'!D439","v":0}]
[{"$f":"'رصيد اول'!A440","v":0},{"$f":"'رصيد اول'!B440","v":0},{"$f":"SUMIF('رصيد اول'!$A:$B,'رصيد اول'!A440,'رصيد اول'!C:C)","v":0},0,{"$f":"SUMIF(الوارد!$D:$D,الرصيد!A440,الوارد!F:F)","v":0},0,{"$f":"SUMIF(المنصرف!$C$1:$C$10000,A440,المنصرف!E:E)","v":0},0,0,0,{"$f":"'رصيد اول'!D440","v":0}]
[{"$f":"'رصيد اول'!A441","v":0},{"$f":"'رصيد اول'!B441","v":0},{"$f":"SUMIF('رصيد اول'!$A:$B,'رصيد اول'!A441,'رصيد اول'!C:C)","v":0},0,{"$f":"SUMIF(الوارد!$D:$D,الرصيد!A441,الوارد!F:F)","v":0},0,{"$f":"SUMIF(المنصرف!$C$1:$C$10000,A441,المنصرف!E:E)","v":0},0,0,0,{"$f":"'رصيد اول'!D441","v":0}]
[{"$f":"'رصيد اول'!A442","v":0},{"$f":"'رصيد اول'!B442","v":0},{"$f":"SUMIF('رصيد اول'!$A:$B,'رصيد اول'!A442,'رصيد اول'!C:C)","v":0},0,{"$f":"SUMIF(الوارد!$D:$D,الرصيد!A442,الوارد!F:F)","v":0},0,{"$f":"SUMIF(المنصرف!$C$1:$C$10000,A442,المنصرف!E:E)","v":0},0,0,0,{"$f":"'رصيد اول'!D442","v":0}]
[{"$f":"'رصيد اول'!A443","v":0},{"$f":"'رصيد اول'!B443","v":0},{"$f":"SUMIF('رصيد اول'!$A:$B,'رصيد اول'!A443,'رصيد اول'!C:C)","v":0},0,{"$f":"SUMIF(الوارد!$D:$D,الرصيد!A443,الوارد!F:F)","v":0},0,{"$f":"SUMIF(المنصرف!$C$1:$C$10000,A443,المنصرف!E:E)","v":0},0,0,0,{"$f":"'رصيد اول'!D443","v":0}]
[{"$f":"'رصيد اول'!A444","v":0},{"$f":"'رصيد اول'!B444","v":0},{"$f":"SUMIF('رصيد اول'!$A:$B,'رصيد اول'!A444,'رصيد اول'!C:C)","v":0},0,{"$f":"SUMIF(الوارد!$D:$D,الرصيد!A444,الوارد!F:F)","v":0},0,{"$f":"SUMIF(المنصرف!$C$1:$C$10000,A444,المنصرف!E:E)","v":0},0,0,0,{"$f":"'رصيد اول'!D444","v":0}]
[{"$f":"'رصيد اول'!A445","v":0},{"$f":"'رصيد اول'!B445","v":0},{"$f":"SUMIF('رصيد اول'!$A:$B,'رصيد اول'!A445,'رصيد اول'!C:C)","v":0},0,{"$f":"SUMIF(الوارد!$D:$D,الرصيد!A445,الوارد!F:F)","v":0},0,{"$f":"SUMIF(المنصرف!$C$1:$C$10000,A445,المنصرف!E:E)","v":0},0,0,0,{"$f":"'رصيد اول'!D445","v":0}]
[{"$f":"'رصيد اول'!A446","v":0},{"$f":"'رصيد اول'!B446","v":0},{"$f":"SUMIF('رصيد اول'!$A:$B,'رصيد اول'!A446,'رصيد اول'!C:C)","v":0},0,{"$f":"SUMIF(الوارد!$D:$D,الرصيد!A446,الوارد!F:F)","v":0},0,{"$f":"SUMIF(المنصرف!$C$1:$C$10000,A446,المنصرف!E:E)","v":0},0,0,0,{"$f":"'رصيد اول'!D446","v":0}]
[{"$f":"'رصيد اول'!A447","v":0},{"$f":"'رصيد اول'!B447","v":0},{"$f":"SUMIF('رصيد اول'!$A:$B,'رصيد اول'!A447,'رصيد اول'!C:C)","v":0},0,{"$f":"SUMIF(الوارد!$D:$D,الرصيد!A447,الوارد!F:F)","v":0},0,{"$f":"SUMIF(المنصرف!$C$1:$C$10000,A447,المنصرف!E:E)","v":0},0,0,0,{"$f":"'رصيد اول'!D447","v":0}]
[{"$f":"'رصيد اول'!A448","v":0},{"$f":"'رصيد اول'!B448","v":0},{"$f":"SUMIF('رصيد اول'!$A:$B,'رصيد اول'!A448,'رصيد اول'!C:C)","v":0},0,{"$f":"SUMIF(الوارد!$D:$D,الرصيد!A448,الوارد!F:F)","v":0},0,{"$f":"SUMIF(المنصرف!$C$1:$C$10000,A448,المنصرف!E:E)","v":0},0,0,0,{"$f":"'رصيد اول'!D448","v":0}]
[{"$f":"'رصيد اول'!A449","v":0},{"$f":"'رصيد اول'!B449","v":0},{"$f":"SUMIF('رصيد اول'!$A:$B,'رصيد اول'!A449,'رصيد اول'!C:C)","v":0},0,{"$f":"SUMIF(الوارد!$D:$D,الرصيد!A449,الوارد!F:F)","v":0},0,{"$f":"SUMIF(المنصرف!$C$1:$C$10000,A449,المنصرف!E:E)","v":0},0,0,0,{"$f":"'رصيد اول'!D449","v":0}]
[{"$f":"'رصيد اول'!A450","v":0},{"$f":"'رصيد اول'!B450","v":0},{"$f":"SUMIF('رصيد اول'!$A:$B,'رصيد اول'!A450,'رصيد اول'!C:C)","v":0},0,{"$f":"SUMIF(الوارد!$D:$D,الرصيد!A450,الوارد!F:F)","v":0},0,{"$f":"SUMIF(المنصرف!$C$1:$C$10000,A450,المنصرف!E:E)","v":0},0,0,0,{"$f":"'رصيد اول'!D450","v":0}]
[{"$f":"'رصيد اول'!A451","v":0},{"$f":"'رصيد اول'!B451","v":0},{"$f":"SUMIF('رصيد اول'!$A:$B,'رصيد اول'!A451,'رصيد اول'!C:C)","v":0},0,{"$f":"SUMIF(الوارد!$D:$D,الرصيد!A451,الوارد!F:F)","v":0},0,{"$f":"SUMIF(المنصرف!$C$1:$C$10000,A451,المنصرف!E:E)","v":0},0,{"$f":"C451+E451-G451","v":0},0,{"$f":"'رصيد اول'!D451","v":0}]
[{"$f":"'رصيد اول'!A452","v":0},{"$f":"'رصيد اول'!B452","v":0},{"$f":"SUMIF('رصيد اول'!$A:$B,'رصيد اول'!A452,'رصيد اول'!C:C)","v":0},{"$f":"C452*K452","v":0},{"$f":"SUMIF(الوارد!$D:$D,الرصيد!A452,الوارد!F:F)","v":0},{"$f":"+E452*K452","v":0},{"$f":"SUMIF(المنصرف!$C$1:$C$10000,A452,المنصرف!E:E)","v":0},{"$f":"G452*K452","v":0},0,{"$f":"I452*K452","v":0},{"$f":"'رصيد اول'!D452","v":0}]
[{"$f":"'رصيد اول'!A453","v":0},{"$f":"'رصيد اول'!B453","v":0},{"$f":"SUMIF('رصيد اول'!$A:$B,'رصيد اول'!A453,'رصيد اول'!C:C)","v":0},0,{"$f":"SUMIF(الوارد!$D:$D,الرصيد!A453,الوارد!F:F)","v":0},0,{"$f":"SUMIF(المنصرف!$C$1:$C$10000,A453,المنصرف!E:E)","v":0},0,0,0,{"$f":"'رصيد اول'!D453","v":0}]
[{"$f":"'رصيد اول'!A454","v":0},{"$f":"'رصيد اول'!B454","v":0},{"$f":"SUMIF('رصيد اول'!$A:$B,'رصيد اول'!A454,'رصيد اول'!C:C)","v":0},0,{"$f":"SUMIF(الوارد!$D:$D,الرصيد!A454,الوارد!F:F)","v":0},0,{"$f":"SUMIF(المنصرف!$C$1:$C$10000,A454,المنصرف!E:E)","v":0},0,0,0,{"$f":"'رصيد اول'!D454","v":0}]
[{"$f":"'رصيد اول'!A455","v":0},{"$f":"'رصيد اول'!B455","v":0},{"$f":"SUMIF('رصيد اول'!$A:$B,'رصيد اول'!A455,'رصيد اول'!C:C)","v":0},0,{"$f":"SUMIF(الوارد!$D:$D,الرصيد!A455,الوارد!F:F)","v":0},0,{"$f":"SUMIF(المنصرف!$C$1:$C$10000,A455,المنصرف!E:E)","v":0},0,0,0,{"$f":"'رصيد اول'!D455","v":0}]
[{"$f":"'رصيد اول'!A456","v":0},{"$f":"'رصيد اول'!B456","v":0},{"$f":"SUMIF('رصيد اول'!$A:$B,'رصيد اول'!A456,'رصيد اول'!C:C)","v":0},0,{"$f":"SUMIF(الوارد!$D:$D,الرصيد!A456,الوارد!F:F)","v":0},0,{"$f":"SUMIF(المنصرف!$C$1:$C$10000,A456,المنصرف!E:E)","v":0},0,0,0,{"$f":"'رصيد اول'!D456","v":0}]
[{"$f":"'رصيد اول'!A457","v":0},{"$f":"'رصيد اول'!B457","v":0},{"$f":"SUMIF('رصيد اول'!$A:$B,'رصيد اول'!A457,'رصيد اول'!C:C)","v":0},0,{"$f":"SUMIF(الوارد!$D:$D,الرصيد!A457,الوارد!F:F)","v":0},0,{"$f":"SUMIF(المنصرف!$C$1:$C$10000,A457,المنصرف!E:E)","v":0},0,0,0,{"$f":"'رصيد اول'!D457","v":0}]
[{"$f":"'رصيد اول'!A458","v":0},{"$f":"'رصيد اول'!B458","v":0},{"$f":"SUMIF('رصيد اول'!$A:$B,'رصيد اول'!A458,'رصيد اول'!C:C)","v":0},0,{"$f":"SUMIF(الوارد!$D:$D,الرصيد!A458,الوارد!F:F)","v":0},0,{"$f":"SUMIF(المنصرف!$C$1:$C$10000,A458,المنصرف!E:E)","v":0},0,0,0,{"$f":"'رصيد اول'!D458","v":0}]
[{"$f":"'رصيد اول'!A459","v":0},{"$f":"'رصيد اول'!B459","v":0},{"$f":"SUMIF('رصيد اول'!$A:$B,'رصيد اول'!A459,'رصيد اول'!C:C)","v":0},0,{"$f":"SUMIF(الوارد!$D:$D,الرصيد!A459,الوارد!F:F)","v":0},0,{"$f":"SUMIF(المنصرف!$C$1:$C$10000,A459,المنصرف!E:E)","v":0},0,0,0,{"$f":"'رصيد اول'!D459","v":0}]
[{"$f":"'رصيد اول'!A460","v":0},{"$f":"'رصيد اول'!B460","v":0},{"$f":"SUMIF('رصيد اول'!$A:$B,'رصيد اول'!A460,'رصيد اول'!C:C)","v":0},0,{"$f":"SUMIF(الوارد!$D:$D,الرصيد!A460,الوارد!F:F)","v":0},0,{"$f":"SUMIF(المنصرف!$C$1:$C$10000,A460,المنصرف!E:E)","v":0},0,0,0,{"$f":"'رصيد اول'!D460","v":0}]
[{"$f":"'رصيد اول'!A461","v":0},{"$f":"'رصيد اول'!B461","v":0},{"$f":"SUMIF('رصيد اول'!$A:$B,'رصيد اول'!A461,'رصيد اول'!C:C)","v":0},0,{"$f":"SUMIF(الوارد!$D:$D,الرصيد!A461,الوارد!F:F)","v":0},0,{"$f":"SUMIF(المنصرف!$C$1:$C$10000,A461,المنصرف!E:E)","v":0},0,0,0,{"$f":"'رصيد اول'!D461","v":0}]
[{"$f":"'رصيد اول'!A462","v":0},{"$f":"'رصيد اول'!B462","v":0},{"$f":"SUMIF('رصيد اول'!$A:$B,'رصيد اول'!A462,'رصيد اول'!C:C)","v":0},0,{"$f":"SUMIF(الوارد!$D:$D,الرصيد!A462,الوارد!F:F)","v":0},0,{"$f":"SUMIF(المنصرف!$C$1:$C$10000,A462,المنصرف!E:E)","v":0},0,0,0,{"$f":"'رصيد اول'!D462","v":0}]
[{"$f":"'رصيد اول'!A463","v":0},{"$f":"'رصيد اول'!B463","v":0},{"$f":"SUMIF('رصيد اول'!$A:$B,'رصيد اول'!A463,'رصيد اول'!C:C)","v":0},0,{"$f":"SUMIF(الوارد!$D:$D,الرصيد!A463,الوارد!F:F)","v":0},0,{"$f":"SUMIF(المنصرف!$C$1:$C$10000,A463,المنصرف!E:E)","v":0},0,0,0,{"$f":"'رصيد اول'!D463","v":0}]
[{"$f":"'رصيد اول'!A464","v":0},{"$f":"'رصيد اول'!B464","v":0},{"$f":"SUMIF('رصيد اول'!$A:$B,'رصيد اول'!A464,'رصيد اول'!C:C)","v":0},0,{"$f":"SUMIF(الوارد!$D:$D,الرصيد!A464,الوارد!F:F)","v":0},0,{"$f":"SUMIF(المنصرف!$C$1:$C$10000,A464,المنصرف!E:E)","v":0},0,0,0,{"$f":"'رصيد اول'!D464","v":0}]
[{"$f":"'رصيد اول'!A465","v":0},{"$f":"'رصيد اول'!B465","v":0},{"$f":"SUMIF('رصيد اول'!$A:$B,'رصيد اول'!A465,'رصيد اول'!C:C)","v":0},0,{"$f":"SUMIF(الوارد!$D:$D,الرصيد!A465,الوارد!F:F)","v":0},0,{"$f":"SUMIF(المنصرف!$C$1:$C$10000,A465,المنصرف!E:E)","v":0},0,0,0,{"$f":"'رصيد اول'!D465","v":0}]
[{"$f":"'رصيد اول'!A466","v":0},{"$f":"'رصيد اول'!B466","v":0},{"$f":"SUMIF('رصيد اول'!$A:$B,'رصيد اول'!A466,'رصيد اول'!C:C)","v":0},0,{"$f":"SUMIF(الوارد!$D:$D,الرصيد!A466,الوارد!F:F)","v":0},0,{"$f":"SUMIF(المنصرف!$C$1:$C$10000,A466,المنصرف!E:E)","v":0},0,0,0,{"$f":"'رصيد اول'!D466","v":0}]
[{"$f":"'رصيد اول'!A467","v":0},{"$f":"'رصيد اول'!B467","v":0},{"$f":"SUMIF('رصيد اول'!$A:$B,'رصيد اول'!A467,'رصيد اول'!C:C)","v":0},0,{"$f":"SUMIF(الوارد!$D:$D,الرصيد!A467,الوارد!F:F)","v":0},0,{"$f":"SUMIF(المنصرف!$C$1:$C$10000,A467,المنصرف!E:E)","v":0},0,0,0,{"$f":"'رصيد اول'!D467","v":0}]
[{"$f":"'رصيد اول'!A468","v":0},{"$f":"'رصيد اول'!B468","v":0},{"$f":"SUMIF('رصيد اول'!$A:$B,'رصيد اول'!A468,'رصيد اول'!C:C)","v":0},0,{"$f":"SUMIF(الوارد!$D:$D,الرصيد!A468,الوارد!F:F)","v":0},0,{"$f":"SUMIF(المنصرف!$C$1:$C$10000,A468,المنصرف!E:E)","v":0},0,0,0,{"$f":"'رصيد اول'!D468","v":0}]
[{"$f":"'رصيد اول'!A469","v":0},{"$f":"'رصيد اول'!B469","v":0},{"$f":"SUMIF('رصيد اول'!$A:$B,'رصيد اول'!A469,'رصيد اول'!C:C)","v":0},0,{"$f":"SUMIF(الوارد!$D:$D,الرصيد!A469,الوارد!F:F)","v":0},0,{"$f":"SUMIF(المنصرف!$C$1:$C$10000,A469,المنصرف!E:E)","v":0},0,0,0,{"$f":"'رصيد اول'!D469","v":0}]
[{"$f":"'رصيد اول'!A470","v":0},{"$f":"'رصيد اول'!B470","v":0},{"$f":"SUMIF('رصيد اول'!$A:$B,'رصيد اول'!A470,'رصيد اول'!C:C)","v":0},0,{"$f":"SUMIF(الوارد!$D:$D,الرصيد!A470,الوارد!F:F)","v":0},0,{"$f":"SUMIF(المنصرف!$C$1:$C$10000,A470,المنصرف!E:E)","v":0},0,0,0,{"$f":"'رصيد اول'!D470","v":0}]
[{"$f":"'رصيد اول'!A471","v":0},{"$f":"'رصيد اول'!B471","v":0},{"$f":"SUMIF('رصيد اول'!$A:$B,'رصيد اول'!A471,'رصيد اول'!C:C)","v":0},0,{"$f":"SUMIF(الوارد!$D:$D,الرصيد!A471,الوارد!F:F)","v":0},0,{"$f":"SUMIF(المنصرف!$C$1:$C$10000,A471,المنصرف!E:E)","v":0},0,0,0,{"$f":"'رصيد اول'!D471","v":0}]
[{"$f":"'رصيد اول'!A472","v":0},{"$f":"'رصيد اول'!B472","v":0},{"$f":"SUMIF('رصيد اول'!$A:$B,'رصيد اول'!A472,'رصيد اول'!C:C)","v":0},0,{"$f":"SUMIF(الوارد!$D:$D,الرصيد!A472,الوارد!F:F)","v":0},0,{"$f":"SUMIF(المنصرف!$C$1:$C$10000,A472,المنصرف!E:E)","v":0},0,0,0,{"$f":"'رصيد اول'!D472","v":0}]
[{"$f":"'رصيد اول'!A473","v":0},{"$f":"'رصيد اول'!B473","v":0},{"$f":"SUMIF('رصيد اول'!$A:$B,'رصيد اول'!A473,'رصيد اول'!C:C)","v":0},0,{"$f":"SUMIF(الوارد!$D:$D,الرصيد!A473,الوارد!F:F)","v":0},0,{"$f":"SUMIF(المنصرف!$C$1:$C$10000,A473,المنصرف!E:E)","v":0},0,0,0,{"$f":"'رصيد اول'!D473","v":0}]
[{"$f":"'رصيد اول'!A474","v":0},{"$f":"'رصيد اول'!B474","v":0},{"$f":"SUMIF('رصيد اول'!$A:$B,'رصيد اول'!A474,'رصيد اول'!C:C)","v":0},0,{"$f":"SUMIF(الوارد!$D:$D,الرصيد!A474,الوارد!F:F)","v":0},0,{"$f":"SUMIF(المنصرف!$C$1:$C$10000,A474,المنصرف!E:E)","v":0},0,0,0,{"$f":"'رصيد اول'!D474","v":0}]
[{"$f":"'رصيد اول'!A475","v":0},{"$f":"'رصيد اول'!B475","v":0},{"$f":"SUMIF('رصيد اول'!$A:$B,'رصيد اول'!A475,'رصيد اول'!C:C)","v":0},0,{"$f":"SUMIF(الوارد!$D:$D,الرصيد!A475,الوارد!F:F)","v":0},0,{"$f":"SUMIF(المنصرف!$C$1:$C$10000,A475,المنصرف!E:E)","v":0},0,0,0,{"$f":"'رصيد اول'!D475","v":0}]
[{"$f":"'رصيد اول'!A476","v":0},{"$f":"'رصيد اول'!B476","v":0},{"$f":"SUMIF('رصيد اول'!$A:$B,'رصيد اول'!A476,'رصيد اول'!C:C)","v":0},0,{"$f":"SUMIF(الوارد!$D:$D,الرصيد!A476,الوارد!F:F)","v":0},0,{"$f":"SUMIF(المنصرف!$C$1:$C$10000,A476,المنصرف!E:E)","v":0},0,0,0,{"$f":"'رصيد اول'!D476","v":0}]
[{"$f":"'رصيد اول'!A477","v":0},{"$f":"'رصيد اول'!B477","v":0},{"$f":"SUMIF('رصيد اول'!$A:$B,'رصيد اول'!A477,'رصيد اول'!C:C)","v":0},0,{"$f":"SUMIF(الوارد!$D:$D,الرصيد!A477,الوارد!F:F)","v":0},0,{"$f":"SUMIF(المنصرف!$C$1:$C$10000,A477,المنصرف!E:E)","v":0},0,0,0,{"$f":"'رصيد اول'!D477","v":0}]
[{"$f":"'رصيد اول'!A478","v":0},{"$f":"'رصيد اول'!B478","v":0},{"$f":"SUMIF('رصيد اول'!$A:$B,'رصيد اول'!A478,'رصيد اول'!C:C)","v":0},0,{"$f":"SUMIF(الوارد!$D:$D,الرصيد!A478,الوارد!F:F)","v":0},0,{"$f":"SUMIF(المنصرف!$C$1:$C$10000,A478,المنصرف!E:E)","v":0},0,0,0,{"$f":"'رصيد اول'!D478","v":0}]
[{"$f":"'رصيد اول'!A479","v":0},{"$f":"'رصيد اول'!B479","v":0},{"$f":"SUMIF('رصيد اول'!$A:$B,'رصيد اول'!A479,'رصيد اول'!C:C)","v":0},0,{"$f":"SUMIF(الوارد!$D:$D,الرصيد!A479,الوارد!F:F)","v":0},0,{"$f":"SUMIF(المنصرف!$C$1:$C$10000,A479,المنصرف!E:E)","v":0},0,0,0,{"$f":"'رصيد اول'!D479","v":0}]
[{"$f":"'رصيد اول'!A480","v":0},{"$f":"'رصيد اول'!B480","v":0},{"$f":"SUMIF('رصيد اول'!$A:$B,'رصيد اول'!A480,'رصيد اول'!C:C)","v":0},0,{"$f":"SUMIF(الوارد!$D:$D,الرصيد!A480,الوارد!F:F)","v":0},0,{"$f":"SUMIF(المنصرف!$C$1:$C$10000,A480,المنصرف!E:E)","v":0},0,0,0,{"$f":"'رصيد اول'!D480","v":0}]
[{"$f":"'رصيد اول'!A481","v":0},{"$f":"'رصيد اول'!B481","v":0},{"$f":"SUMIF('رصيد اول'!$A:$B,'رصيد اول'!A481,'رصيد اول'!C:C)","v":0},0,{"$f":"SUMIF(الوارد!$D:$D,الرصيد!A481,الوارد!F:F)","v":0},0,{"$f":"SUMIF(المنصرف!$C$1:$C$10000,A481,المنصرف!E:E)","v":0},0,0,0,{"$f":"'رصيد اول'!D481","v":0}]
[{"$f":"'رصيد اول'!A482","v":0},{"$f":"'رصيد اول'!B482","v":0},{"$f":"SUMIF('رصيد اول'!$A:$B,'رصيد اول'!A482,'رصيد اول'!C:C)","v":0},0,{"$f":"SUMIF(الوارد!$D:$D,الرصيد!A482,الوارد!F:F)","v":0},0,{"$f":"SUMIF(المنصرف!$C$1:$C$10000,A482,المنصرف!E:E)","v":0},0,0,0,{"$f":"'رصيد اول'!D482","v":0}]
[{"$f":"'رصيد اول'!A483","v":0},{"$f":"'رصيد اول'!B483","v":0},{"$f":"SUMIF('رصيد اول'!$A:$B,'رصيد اول'!A483,'رصيد اول'!C:C)","v":0},0,{"$f":"SUMIF(الوارد!$D:$D,الرصيد!A483,الوارد!F:F)","v":0},0,{"$f":"SUMIF(المنصرف!$C$1:$C$10000,A483,المنصرف!E:E)","v":0},0,0,0,{"$f":"'رصيد اول'!D483","v":0}]
[{"$f":"'رصيد اول'!A484","v":0},{"$f":"'رصيد اول'!B484","v":0},{"$f":"SUMIF('رصيد اول'!$A:$B,'رصيد اول'!A484,'رصيد اول'!C:C)","v":0},0,{"$f":"SUMIF(الوارد!$D:$D,الرصيد!A484,الوارد!F:F)","v":0},0,{"$f":"SUMIF(المنصرف!$C$1:$C$10000,A484,المنصرف!E:E)","v":0},0,0,0,{"$f":"'رصيد اول'!D484","v":0}]
[{"$f":"'رصيد اول'!A485","v":0},{"$f":"'رصيد اول'!B485","v":0},{"$f":"SUMIF('رصيد اول'!$A:$B,'رصيد اول'!A485,'رصيد اول'!C:C)","v":0},0,{"$f":"SUMIF(الوارد!$D:$D,الرصيد!A485,الوارد!F:F)","v":0},0,{"$f":"SUMIF(المنصرف!$C$1:$C$10000,A485,المنصرف!E:E)","v":0},0,0,0,{"$f":"'رصيد اول'!D485","v":0}]
[{"$f":"'رصيد اول'!A486","v":0},{"$f":"'رصيد اول'!B486","v":0},{"$f":"SUMIF('رصيد اول'!$A:$B,'رصيد اول'!A486,'رصيد اول'!C:C)","v":0},0,{"$f":"SUMIF(الوارد!$D:$D,الرصيد!A486,الوارد!F:F)","v":0},0,{"$f":"SUMIF(المنصرف!$C$1:$C$10000,A486,المنصرف!E:E)","v":0},0,0,0,{"$f":"'رصيد اول'!D486","v":0}]
[{"$f":"'رصيد اول'!A487","v":0},{"$f":"'رصيد اول'!B487","v":0},{"$f":"SUMIF('رصيد اول'!$A:$B,'رصيد اول'!A487,'رصيد اول'!C:C)","v":0},0,{"$f":"SUMIF(الوارد!$D:$D,الرصيد!A487,الوارد!F:F)","v":0},0,{"$f":"SUMIF(المنصرف!$C$1:$C$10000,A487,المنصرف!E:E)","v":0},0,0,0,{"$f":"'رصيد اول'!D487","v":0}]
[{"$f":"'رصيد اول'!A488","v":0},{"$f":"'رصيد اول'!B488","v":0},{"$f":"SUMIF('رصيد اول'!$A:$B,'رصيد اول'!A488,'رصيد اول'!C:C)","v":0},0,{"$f":"SUMIF(الوارد!$D:$D,الرصيد!A488,الوارد!F:F)","v":0},0,{"$f":"SUMIF(المنصرف!$C$1:$C$10000,A488,المنصرف!E:E)","v":0},0,0,0,{"$f":"'رصيد اول'!D488","v":0}]
[{"$f":"'رصيد اول'!A489","v":0},{"$f":"'رصيد اول'!B489","v":0},{"$f":"SUMIF('رصيد اول'!$A:$B,'رصيد اول'!A489,'رصيد اول'!C:C)","v":0},0,{"$f":"SUMIF(الوارد!$D:$D,الرصيد!A489,الوارد!F:F)","v":0},0,{"$f":"SUMIF(المنصرف!$C$1:$C$10000,A489,المنصرف!E:E)","v":0},0,0,0,{"$f":"'رصيد اول'!D489","v":0}]
[{"$f":"'رصيد اول'!A490","v":0},{"$f":"'رصيد اول'!B490","v":0},{"$f":"SUMIF('رصيد اول'!$A:$B,'رصيد اول'!A490,'رصيد اول'!C:C)","v":0},0,{"$f":"SUMIF(الوارد!$D:$D,الرصيد!A490,الوارد!F:F)","v":0},0,{"$f":"SUMIF(المنصرف!$C$1:$C$10000,A490,المنصرف!E:E)","v":0},0,0,0,{"$f":"'رصيد اول'!D490","v":0}]
[{"$f":"'رصيد اول'!A491","v":0},{"$f":"'رصيد اول'!B491","v":0},{"$f":"SUMIF('رصيد اول'!$A:$B,'رصيد اول'!A491,'رصيد اول'!C:C)","v":0},0,{"$f":"SUMIF(الوارد!$D:$D,الرصيد!A491,الوارد!F:F)","v":0},0,{"$f":"SUMIF(المنصرف!$C$1:$C$10000,A491,المنصرف!E:E)","v":0},0,0,0,{"$f":"'رصيد اول'!D491","v":0}]
[{"$f":"'رصيد اول'!A492","v":0},{"$f":"'رصيد اول'!B492","v":0},{"$f":"SUMIF('رصيد اول'!$A:$B,'رصيد اول'!A492,'رصيد اول'!C:C)","v":0},0,{"$f":"SUMIF(الوارد!$D:$D,الرصيد!A492,الوارد!F:F)","v":0},0,{"$f":"SUMIF(المنصرف!$C$1:$C$10000,A492,المنصرف!E:E)","v":0},0,0,0,{"$f":"'رصيد اول'!D492","v":0}]
[{"$f":"'رصيد اول'!A493","v":0},{"$f":"'رصيد اول'!B493","v":0},{"$f":"SUMIF('رصيد اول'!$A:$B,'رصيد اول'!A493,'رصيد اول'!C:C)","v":0},0,{"$f":"SUMIF(الوارد!$D:$D,الرصيد!A493,الوارد!F:F)","v":0},0,{"$f":"SUMIF(المنصرف!$C$1:$C$10000,A493,المنصرف!E:E)","v":0},0,0,0,{"$f":"'رصيد اول'!D493","v":0}]
[{"$f":"'رصيد اول'!A494","v":0},{"$f":"'رصيد اول'!B494","v":0},{"$f":"SUMIF('رصيد اول'!$A:$B,'رصيد اول'!A494,'رصيد اول'!C:C)","v":0},0,{"$f":"SUMIF(الوارد!$D:$D,الرصيد!A494,الوارد!F:F)","v":0},0,{"$f":"SUMIF(المنصرف!$C$1:$C$10000,A494,المنصرف!E:E)","v":0},0,0,0,{"$f":"'رصيد اول'!D494","v":0}]
[{"$f":"'رصيد اول'!A495","v":0},{"$f":"'رصيد اول'!B495","v":0},{"$f":"SUMIF('رصيد اول'!$A:$B,'رصيد اول'!A495,'رصيد اول'!C:C)","v":0},0,{"$f":"SUMIF(الوارد!$D:$D,الرصيد!A495,الوارد!F:F)","v":0},0,{"$f":"SUMIF(المنصرف!$C$1:$C$10000,A495,المنصرف!E:E)","v":0},0,0,0,{"$f":"'رصيد اول'!D495","v":0}]
[{"$f":"'رصيد اول'!A496","v":0},{"$f":"'رصيد اول'!B496","v":0},{"$f":"SUMIF('رصيد اول'!$A:$B,'رصيد اول'!A496,'رصيد اول'!C:C)","v":0},0,{"$f":"SUMIF(الوارد!$D:$D,الرصيد!A496,الوارد!F:F)","v":0},0,{"$f":"SUMIF(المنصرف!$C$1:$C$10000,A496,المنصرف!E:E)","v":0},0,0,0,{"$f":"'رصيد اول'!D496","v":0}]
[{"$f":"'رصيد اول'!A497","v":0},{"$f":"'رصيد اول'!B497","v":0},{"$f":"SUMIF('رصيد اول'!$A:$B,'رصيد اول'!A497,'رصيد اول'!C:C)","v":0},0,{"$f":"SUMIF(الوارد!$D:$D,الرصيد!A497,الوارد!F:F)","v":0},0,{"$f":"SUMIF(المنصرف!$C$1:$C$10000,A497,المنصرف!E:E)","v":0},0,0,0,{"$f":"'رصيد اول'!D497","v":0}]
[{"$f":"'رصيد اول'!A498","v":0},{"$f":"'رصيد اول'!B498","v":0},{"$f":"SUMIF('رصيد اول'!$A:$B,'رصيد اول'!A498,'رصيد اول'!C:C)","v":0},0,{"$f":"SUMIF(الوارد!$D:$D,الرصيد!A498,الوارد!F:F)","v":0},0,{"$f":"SUMIF(المنصرف!$C$1:$C$10000,A498,المنصرف!E:E)","v":0},0,0,0,{"$f":"'رصيد اول'!D498","v":0}]
[{"$f":"'رصيد اول'!A499","v":0},{"$f":"'رصيد اول'!B499","v":0},{"$f":"SUMIF('رصيد اول'!$A:$B,'رصيد اول'!A499,'رصيد اول'!C:C)","v":0},0,{"$f":"SUMIF(الوارد!$D:$D,الرصيد!A499,الوارد!F:F)","v":0},0,{"$f":"SUMIF(المنصرف!$C$1:$C$10000,A499,المنصرف!E:E)","v":0},0,0,0,{"$f":"'رصيد اول'!D499","v":0}]
[{"$f":"'رصيد اول'!A500","v":0},{"$f":"'رصيد اول'!B500","v":0},{"$f":"SUMIF('رصيد اول'!$A:$B,'رصيد اول'!A500,'رصيد اول'!C:C)","v":0},0,{"$f":"SUMIF(الوارد!$D:$D,الرصيد!A500,الوارد!F:F)","v":0},0,{"$f":"SUMIF(المنصرف!$C$1:$C$10000,A500,المنصرف!E:E)","v":0},0,0,0,{"$f":"'رصيد اول'!D500","v":0}]
[{"$f":"'رصيد اول'!A501","v":0},{"$f":"'رصيد اول'!B501","v":0},{"$f":"SUMIF('رصيد اول'!$A:$B,'رصيد اول'!A501,'رصيد اول'!C:C)","v":0},0,{"$f":"SUMIF(الوارد!$D:$D,الرصيد!A501,الوارد!F:F)","v":0},0,{"$f":"SUMIF(المنصرف!$C$1:$C$10000,A501,المنصرف!E:E)","v":0},0,0,0,{"$f":"'رصيد اول'!D501","v":0}]
["TOTAL",null,{"$f":"SUM(C2:C501)","v":8914},{"$f":"SUM(D2:D501)","v":47990.8},{"$f":"SUM(E2:E501)","v":650},9952,50,1150,9514,56792.800000000003]
[null,null,{"$f":"'رصيد اول'!C502","v":0},{"$f":"'رصيد اول'!D502","v":0},{"$f":"الوارد!F2501","v":0},{"$f":"الوارد!G2501","v":0},{"$f":"المنصرف!D10001","v":0},{"$f":"المنصرف!E10001","v":0},{"$f":"C503+E503-G503","v":0}]
[null,null,{"$f":"C502-C503","v":8914},{"$f":"D502-D503","v":47990.8},{"$f":"E502-E503","v":650},9952,50,1150,{"$f":"I502-I503","v":9514}]
[null,null,{"$f":"SUBTOTAL(9,C2:C501)","v":8914},{"$f":"SUBTOTAL(9,D2:D501)","v":47990.8},{"$f":"SUBTOTAL(9,E2:E501)","v":650},9952,50,1150,9514]