{"text_format":"1","workbook":"xlsx","n_sheets":4,"sheets":["الربع","ورقة1","الفروتي","الربع (2)"],"not_rendered":{"charts":0,"images":2,"macros":1,"external_links":0,"defined_names":4,"comments":0,"pivot_tables":0},"unopened":[],"bounds":{"document_bytes":16777216,"sheet_cells":100000,"rows_first":2000,"rows_last":500,"rows_between":2000,"halvings":0,"cell_chars":16384,"cell_head_chars":4096},"cells_cut":0,"cells_raw":0,"read":"whole","date_system":"1900"}

{"sheet":"الربع","index":0,"n_rows":80,"n_cols":14,"rows_kept":80,"cut":false,"hidden":false,"merged":[[70,10,70,11],[71,10,71,11],[72,10,72,11],[73,10,73,11],[74,10,74,11],[75,10,75,11],[64,10,64,11],[65,10,65,11],[66,10,66,11],[67,10,67,11],[68,10,68,11],[69,10,69,11],[58,10,58,11],[59,10,59,11],[60,10,60,11],[61,10,61,11],[62,10,62,11],[63,10,63,11],[55,10,55,11],[56,10,56,11],[57,10,57,11],[11,5,11,6],[11,7,11,8],[12,2,12,3],[12,5,12,6],[49,10,49,11],[50,10,50,11],[51,10,51,11],[52,10,52,11],[53,10,53,11],[54,10,54,11],[43,10,43,11],[44,10,44,11],[45,10,45,11],[46,10,46,11],[47,10,47,11],[48,10,48,11],[37,10,37,11],[38,10,38,11],[39,10,39,11],[40,10,40,11],[41,10,41,11],[42,10,42,11],[31,10,31,11],[32,10,32,11],[33,10,33,11],[34,10,34,11],[35,10,35,11],[36,10,36,11],[25,10,25,11],[26,10,26,11],[27,10,27,11],[28,10,28,11],[29,10,29,11],[30,10,30,11],[17,5,17,8],[4,3,4,7],[10,2,10,4],[10,5,10,6],[10,7,10,8],[13,2,13,4],[13,5,13,6],[13,7,13,9],[76,10,76,11],[1,1,3,3],[17,2,17,3],[19,2,19,3],[6,3,6,6],[19,5,19,8],[2,5,2,9],[15,8,15,9],[7,2,7,9],[15,5,15,7]]}
[]
[]
[null,null,null,null,null,"اشعار خصم حافز ربع سنوي"]
[]
[null,null,"العميـــــــل :","ابو عمار للتجارة","الحرمين-5","الحرمين-5","الحرمين-5","الحرمين-5",null,{"$f":"VLOOKUP(D5,C26:N77,12,0)","v":3529}]
[]
[null,null,"العنــــــــوان :",{"$f":"VLOOKUP($D$5,$C$26:$I$78,6,FALSE)","v":"دمياط"},{"$f":"D7*C7","v":{"$error":"#VALUE!"}},{"$f":"VLOOKUP($D$5,$C$26:$G$78,2,FALSE)","v":2110.5104000000001},{"$f":"F7*E7","v":{"$error":"#VALUE!"}},"تليفون :"]
[null,null,"تتقدم الشركة بكل الشكر لسيادتكم علي ما حققتموه من مسحوبات وتعاملات خلال الربع الاول  من عام 2021"]
[null,null,"متمنين من الله دوام التوفيق والنجاح ."]
[]
[null,null,"مرســــــل لسيادتـــكم مبــــلغ",null,null,{"$f":"VLOOKUP($D$5,$C$26:$G$78,2,FALSE)","v":2110.5104000000001},{"$f":"F11*E11","v":0},"فقط",null,{"$f":"Horof(F11)","v":"ألفان ومائة وعشرةة جنيه مصرى و 51قرش"}]
[null,null,null,"ضرائب ",null,{"$f":"VLOOKUP($D$5,$C$26:$L$78,8,FALSE)","v":295.47145600000005},{"$f":"F12*E12","v":0},"فقط",null,{"$f":"Horof(F12)","v":"مئتان وخمسة وتسعون جنيه مصرى و 47قرش"}]
[null,null,"اجمالي المبلغ",null,null,{"$f":"VLOOKUP($D$5,$C$26:$L$78,9,FALSE)","v":2405.9818560000003},{"$f":"F13*E13","v":0},null,null,{"$f":"Horof(F13)","v":"ألفان وأربعمائة وخمسة جنيه مصرى و 98قرش"}]
[null,null,"وذلك قيمة مسحوبات بمبــــلغ",null,null,{"$f":"VLOOKUP($D$5,$C$26:$G$78,5,FALSE)","v":211051.04},{"$f":"F14*E14","v":0},"قبل الضــــــــرائــب"]
[]
[null,null," عن الفترة من 1 /7/ 2013  حتي 30 /9 / 2013","2021-01-01","حتى","2021-03-31",null,null,"نسبة الخصم حسب شريحة المسحوبات هى ",null,null,{"$f":"VLOOKUP($D$5,$C$26:$G$78,3,FALSE)","v":0.01},{"$f":"L16*K16","v":0}]
[]
[null,null,"   توقيع العميل بالاستلام",null,null,"توقيع القائم بالتسليم",null,null,null,"               توقيع مشرف الفرع"]
[]
[null,null,".............................................",null,null,".............................................",null,null,null,"      ................................................            "]
[]
[]
[]
[]
[]
[null,null,"محمود البدراوي",{"$f":"G26*E26","v":17826.282999999999},0.01,null,1782628.3,"دمياط",0.14000000000000001,{"$f":"I26*D26","v":2495.6796200000003},{"$f":"D26+J26","v":20321.962619999998},null,null,10]
[null,null,"احمد عشرة",{"$f":"G27*E27","v":3113.7171999999996},0.01,null,311371.71999999997,"دمياط",0.14000000000000001,{"$f":"I27*D27","v":435.92040800000001},{"$f":"D27+J27","v":3549.6376079999995},null,null,18]
[null,null,"ابو عمار للتجارة",2110.5104000000001,0.01,null,211051.04,"دمياط",0.14000000000000001,295.47145600000005,2405.9818560000003,null,null,3529]
[null,null,"احمد عثمان",1873.9947,0.01,null,187399.47,"دمياط",0.14000000000000001,262.35925800000001,2136.3539580000001,null,null,35]
[null,null,"عبد الحميد الشربيني-2",1127.0255,0.01,null,112702.55,"دمياط",0.14000000000000001,157.78357,1284.80907,null,null,2064]
[null,null,"صلاح ابو العنين",1024.5127,0.01,null,102451.27,"دمياط",0.14000000000000001,143.43177800000001,1167.9444779999999,null,null,95]
[null,null,"نجمة سينا",991.07020000000011,0.01,null,99107.02,"بورسعيد",0.14000000000000001,138.74982800000004,1129.8200280000001,null,null,223]
[null,null,"محمد المليجي",937.23810000000003,0.01,null,93723.81,"بورسعيد",0.14000000000000001,131.213334,1068.4514340000001,null,null,263]
[null,null,"تامر الريدي",905.94500000000005,0.01,null,90594.5,"دمياط",0.14000000000000001,126.83230000000002,1032.7773,null,null,19]
[null,null,"ايمن عبدالله",811.779,0.01,null,81177.899999999994,"بورسعيد",0.14000000000000001,113.64906000000001,925.42805999999996,null,null,291]
[null,null,"فتحي حجازي",746.57369999999992,0.01,null,74657.37,"بورسعيد",0.14000000000000001,104.520318,851.09401799999989,null,null,210]
[null,null,"صلاح سريه",675.78789999999992,0.01,null,67578.789999999994,"دمياط",0.14000000000000001,94.610305999999994,770.39820599999996,null,null,20]
[null,null,"شطا سنتر",669.8796000000001,0.01,null,66987.960000000006,"بورسعيد",0.14000000000000001,93.783144000000021,763.66274400000009,null,null,352]
[null,null,"حسام حمدون",655.84850000000006,0.01,null,65584.850000000006,"دمياط",0.14000000000000001,91.818790000000021,747.66729000000009,null,null,136]
[null,null,"ابراهيم غنيم-1",649.58809999999994,0.01,null,64958.81,"بورسعيد",0.14000000000000001,90.942334000000002,740.5304339999999,null,null,209]
[null,null,"سامح عبدالله",647.28579999999999,0.01,null,64728.58,"بورسعيد",0.14000000000000001,90.620012000000003,737.90581199999997,null,null,205]
[null,null,"الايمان-1",646.69370000000004,0.01,null,64669.37,"بورسعيد",0.14000000000000001,90.537118000000007,737.230818,null,null,218]
[null,null,"محمد الدياسطي",604.58960000000002,0.01,null,60458.96,"دمياط",0.14000000000000001,84.642544000000015,689.23214400000006,null,null,6]
[null,null,"الجميل",602.51370000000009,0.01,null,60251.37,"دمياط",0.14000000000000001,84.351918000000026,686.86561800000015,null,null,8]
[null,null,"احمد الصعيدي",285.30124999999998,5.0000000000000001E-3,null,57060.25,"بورسعيد",0.14000000000000001,39.942174999999999,325.243425,null,null,265]
[null,null,"الفردوس-1",281.97025000000002,5.0000000000000001E-3,null,56394.05,"بورسعيد",0.14000000000000001,39.475835000000004,321.44608500000004,null,null,216]
[null,null,"محمود حجازي",253.88835,5.0000000000000001E-3,null,50777.67,"بورسعيد",0.14000000000000001,35.544369000000003,289.43271900000002,null,null,230]
[null,null,"الهادى-1",246.06615000000002,5.0000000000000001E-3,null,49213.23,"دمياط",0.14000000000000001,34.449261000000007,280.51541100000003,null,null,193]
[null,null,"جنة المؤمنين",243.25700000000001,5.0000000000000001E-3,null,48651.4,"بورسعيد",0.14000000000000001,34.055980000000005,277.31298000000004,null,null,279]
[null,null,"شركة الفتح",209.14875000000001,5.0000000000000001E-3,null,41829.75,"دمياط",0.14000000000000001,29.280825000000004,238.429575,null,null,164]
[null,null,"عبده الشافعي",208.59619999999998,5.0000000000000001E-3,null,41719.24,"دمياط",0.14000000000000001,29.203468000000001,237.799668,null,null,11]
[null,null,"المنار-2",198.1927,5.0000000000000001E-3,null,39638.54,"دمياط",0.14000000000000001,27.746978000000002,225.93967800000001,null,null,23]
[null,null,"محمد صبح",170.02759999999998,5.0000000000000001E-3,null,34005.519999999997,"بورسعيد",0.14000000000000001,23.803864000000001,193.83146399999998,null,null,275]
[null,null,"حمدون . عزبة البرج",167.98974999999999,5.0000000000000001E-3,null,33597.949999999997,"دمياط",0.14000000000000001,23.518564999999999,191.50831499999998,null,null,65]
[null,null,"مكة-2",164.77110000000002,5.0000000000000001E-3,null,32954.22,"بورسعيد",0.14000000000000001,23.067954000000004,187.83905400000003,null,null,217]
[null,null,"رفعت النجار",160.99040000000002,5.0000000000000001E-3,null,32198.080000000002,"بورسعيد",0.14000000000000001,22.538656000000007,183.52905600000003,null,null,328]
[null,null,"محمد العربي-1",157.36135000000002,5.0000000000000001E-3,null,31472.27,"بورسعيد",0.14000000000000001,22.030589000000003,179.39193900000001,null,null,204]
[null,null,"شركة النور",157.28475,5.0000000000000001E-3,null,31456.95,"بورسعيد",0.14000000000000001,22.019865000000003,179.30461500000001,null,null,211]
[null,null,"رفعت عبد الله",156.197,5.0000000000000001E-3,null,31239.4,"دمياط",0.14000000000000001,21.867580000000004,{"$f":"D59+J59","v":178.06458000000001},null,null,3258]
[null,null,"اولاد خالد رجب",154.82114999999999,5.0000000000000001E-3,null,30964.23,"دمياط",0.14000000000000001,21.674961,176.49611099999998,null,null,127]
[null,null,"حراز",150.29455000000002,5.0000000000000001E-3,null,30058.91,"بورسعيد",0.14000000000000001,21.041237000000002,171.33578700000001,null,null,215]
[null,null,"عوض عبود",150.09379999999999,5.0000000000000001E-3,null,30018.76,"دمياط",0.14000000000000001,21.013131999999999,171.10693199999997,null,null,82]
[null,null,"سوبر ماركت الفار",2974.9883000000004,0.01,null,297498.83,"بورسعيد",0.14000000000000001,416.4983620000001,3391.4866620000007,null,null,3127]
[null,null,"هايبر المدينة 00",1418.5962,0.01,null,141859.62,"دمياط",0.14000000000000001,198.60346800000002,1617.199668,null,null,3129]
[null,null,"سوبر ماركت جويده",478.78699999999998,5.0000000000000001E-3,null,95757.4,"دمياط",0.14000000000000001,67.030180000000001,545.81718000000001,null,null,3133]
[null,null,"ماركت عبده ابو العنين",161.57990000000001,5.0000000000000001E-3,null,32315.98,"دمياط",0.14000000000000001,22.621186000000005,184.201086,null,null,3132]
[null,null,"ماركت الحرمين",160.98085,5.0000000000000001E-3,null,32196.17,"بورسعيد",0.14000000000000001,22.537319000000004,183.518169,null,null,3163]
[null,null,null,0,5.0000000000000001E-3,null,null,"بورسعيد",0.14000000000000001,0,0]
[null,null,null,0,5.0000000000000001E-3,null,null,"بورسعيد",0.14000000000000001,0,0]
[null,null,null,0,5.0000000000000001E-3,null,null,"بورسعيد",0.14000000000000001,0,0]
[null,null,null,0,5.0000000000000001E-3,null,null,"بورسعيد",0.14000000000000001,0,0]
[null,null,null,0,0.01,null,null,"بورسعيد",0.14000000000000001,0,{"$f":"D72+J72","v":0}]
[null,null,null,0,0.01,null,null,"دمياط",0.14000000000000001,0,0]
[null,null,null,0,0.01,null,null,"دمياط",0.14000000000000001,0,0]
[null,null,null,0,5.0000000000000001E-3,null,null,"بورسعيد",0.14000000000000001,0,0]
[null,null,null,0,5.0000000000000001E-3,null,null,"دمياط",0.14000000000000001,0,0]
[null,null,null,0,5.0000000000000001E-3,null,null,"دمياط",0.14000000000000001,0,0]
[null,null,null,null,null,null,null,null,null,null,null,{"$f":"SUM(K26:L77)","v":51678.503655000022}]
[]
[null,null,null,null,null,null,null,null,null,{"$f":"L78","v":51678.503655000022}]

{"sheet":"ورقة1","index":1,"n_rows":254,"n_cols":9,"rows_kept":254,"cut":false,"hidden":true,"merged":[[65,7,114,7],[1,5,1,6],[1,7,2,7],[1,8,2,8],[60,7,64,7]]}
[]
["مسسلسل","اسم العميل",null,"إجمالي قيمة المسحوبات","إجمالي قيمة المسحوبات","حافز الربع",null,"مسحوبات الربع الأول 2007","نسبة النمو"]
[null,null,null,null,null,"الشريحة","القيمة"]
[1,"محمود البدراوي",null,809054,809054,0.01,8090.54,null,{"$f":"(D4-H4)/H4","v":{"$error":"#DIV/0!"}}]
[2,"نجمة سينا",null,96117.18,96117.18,0.01,961.17179999999996,null,{"$f":"(D5-H5)/H5","v":{"$error":"#DIV/0!"}}]
[3,"محمد الدياسطي",null,87756.39,87756.39,0.01,877.56389999999999,null,{"$error":"#DIV/0!"}]
[4,"تامر الريدي",null,71421.440000000002,71421.440000000002,0.01,714.21440000000007,null,{"$error":"#DIV/0!"}]
[5,"احمد عشرة",null,70019.55,70019.55,0.01,700.19550000000004,null,{"$error":"#DIV/0!"}]
[6,"شركة الفار",null,60016.24,60016.24,0.01,600.16240000000005,null,{"$error":"#DIV/0!"}]
[7,"الجميل",null,56936.38,56936.38,0.01,569.36379999999997,null,{"$error":"#DIV/0!"}]
[8,"ايمن عبدالله",null,55011.44,55011.44,0.01,550.11440000000005,null,{"$error":"#DIV/0!"}]
[9,"فتحي حجازي",null,50674.05,50674.05,0.01,506.74050000000005,null,{"$error":"#DIV/0!"}]
[10,"احمد رزق",null,49261.18,49261.18,5.0000000000000001E-3,246.30590000000001,null,{"$error":"#DIV/0!"}]
[11,"محمد سعده",null,43944.69,43944.69,5.0000000000000001E-3,219.72345000000001,null,{"$error":"#DIV/0!"}]
[12,"الحسن والحسين",null,41638.67,41638.67,5.0000000000000001E-3,208.19335000000001,null,{"$error":"#DIV/0!"}]
[13,"اسامة شرة",null,36899.379999999997,36899.379999999997,5.0000000000000001E-3,184.49689999999998,null,{"$error":"#DIV/0!"}]
[14,"حمدون . عزبة البرج",null,33777.32,33777.32,5.0000000000000001E-3,168.88660000000002,null,{"$error":"#DIV/0!"}]
[15,"عبد الحميد الشربيني",null,32097.4,32097.4,5.0000000000000001E-3,160.48700000000002,null,{"$error":"#DIV/0!"}]
[16,"عبده ابو العنين",null,30716.880000000001,30716.880000000001,5.0000000000000001E-3,153.58440000000002,null,{"$error":"#DIV/0!"}]
[17,"صلاح ابو العنين",null,30144.2,30144.2,5.0000000000000001E-3,150.721,null,{"$error":"#DIV/0!"}]
[18,null,null,null,null,null,null,null,{"$error":"#DIV/0!"}]
[19,null,null,null,null,null,null,null,{"$error":"#DIV/0!"}]
[20,null,null,null,null,null,null,null,{"$error":"#DIV/0!"}]
[21,null,null,null,null,null,null,null,{"$error":"#DIV/0!"}]
[22,null,null,null,null,null,null,null,{"$error":"#DIV/0!"}]
[23,null,null,null,null,null,null,null,{"$error":"#DIV/0!"}]
[24,null,null,null,null,null,null,null,{"$error":"#DIV/0!"}]
[25,null,null,null,null,null,null,null,{"$error":"#DIV/0!"}]
[26,null,null,null,null,null,null,null,{"$error":"#DIV/0!"}]
[27,null,null,null,null,null,null,null,{"$error":"#DIV/0!"}]
[28,null,null,null,null,null,null,null,{"$error":"#DIV/0!"}]
[29,null,null,null,null,null,null,null,{"$error":"#DIV/0!"}]
[30,null,null,null,null,null,null,null,{"$error":"#DIV/0!"}]
[31,null,null,null,null,null,null,null,{"$error":"#DIV/0!"}]
[32,null,null,null,null,null,null,null,{"$error":"#DIV/0!"}]
[33,null,null,null,null,null,null,null,{"$error":"#DIV/0!"}]
[34,null,null,null,null,null,null,null,{"$error":"#DIV/0!"}]
[35,null,null,null,null,null,null,null,{"$error":"#DIV/0!"}]
[36,null,null,null,null,null,null,null,{"$error":"#DIV/0!"}]
[37,null,null,null,null,null,null,null,{"$error":"#DIV/0!"}]
[38,null,null,null,null,null,null,null,{"$error":"#DIV/0!"}]
[39,null,null,null,null,null,null,null,{"$error":"#DIV/0!"}]
[40,null,null,null,null,null,null,null,{"$error":"#DIV/0!"}]
[41,null,null,null,null,null,null,null,{"$error":"#DIV/0!"}]
[42,null,null,null,null,null,null,null,{"$error":"#DIV/0!"}]
[43,null,null,null,null,null,null,null,{"$error":"#DIV/0!"}]
[44,null,null,null,null,null,null,null,{"$error":"#DIV/0!"}]
[45,null,null,null,null,null,null,null,{"$error":"#DIV/0!"}]
[46,null,null,null,null,null,null,null,{"$error":"#DIV/0!"}]
[47,null,null,null,null,null,null,null,{"$error":"#DIV/0!"}]
[48,null,null,null,null,null,null,null,{"$error":"#DIV/0!"}]
[49,null,null,null,null,null,null,null,{"$error":"#DIV/0!"}]
[50,null,null,null,null,null,null,null,{"$error":"#DIV/0!"}]
[51,null,null,null,null,null,null,null,{"$error":"#DIV/0!"}]
[52,null,null,null,null,null,null,null,{"$error":"#DIV/0!"}]
[53,null,null,null,null,null,null,null,{"$error":"#DIV/0!"}]
[54,null,null,null,null,null,null,null,{"$error":"#DIV/0!"}]
[55,null,null,null,null,null,null,null,{"$error":"#DIV/0!"}]
[56,null,null,null,null,null,null,null,{"$error":"#DIV/0!"}]
[]
[]
[]
[]
[]
[]
[]
[]
[]
[]
[]
[]
[]
[]
[]
[]
[]
[]
[]
[]
[]
[]
[]
[]
[]
[]
[]
[]
[]
[]
[]
[]
[]
[]
[]
[]
[]
[]
[]
[]
[]
[]
[]
[]
[]
[]
[]
[]
[]
[]
[]
[]
[]
[]
[]
[]
[]
[]
[]
[]
[]
[]
[]
[]
[]
[]
[]
[]
[]
[]
[]
[]
[]
[]
[]
[]
[]
[]
[]
[]
[]
[]
[]
[]
[]
[]
[]
[]
[]
[]
[]
[]
[]
[]
[]
[]
[]
[]
[]
[]
[]
[]
[]
[]
[]
[]
[]
[]
[]
[]
[]
[]
[]
[]
[]
[]
[]
[]
[]
[]
[]
[]
[]
[]
[]
[]
[]
[]
[]
[]
[]
[]
[]
[]
[]
[]
[]
[]
[]
[]
[]
[]
[]
[]
[]
[]
[]
[]
[]
[]
[]
[]
[]
[]
[]
[]
[]
[]
[]
[]
[]
[]
[]
[]
[]
[]
[]
[]
[]
[]
[]
[]
[]
[]
[]
[]
[]
[]
[]
[]
[]
[]
[]
[]
[]
[]
[]
[]
[]
[]
[]
[]
[]
[]
[null,null,null,{"$f":"SUM(D4:D253)","v":1655486.3899999994},{"$f":"SUM(E4:E253)","v":1655486.3899999994},{"$f":"IF(ISERROR(G254/E254),\"-\",G254/E254)","v":9.0985135190389567E-3},{"$f":"SUM(G4:G253)","v":15062.465299999994},{"$f":"SUM(H4:H253)","v":0},{"$f":"(D254-H254)/H254","v":{"$error":"#DIV/0!"}}]

{"sheet":"الفروتي","index":2,"n_rows":83,"n_cols":10,"rows_kept":83,"cut":false,"hidden":true,"merged":[[12,2,12,9],[15,6,15,7],[10,7,10,8],[14,5,14,7],[14,3,14,4],[14,8,14,9],[15,8,15,9],[2,4,2,9],[1,1,3,3],[4,3,4,7],[6,3,6,6],[10,2,10,4],[10,5,10,6],[21,2,21,3],[21,5,21,8],[16,8,16,9],[19,2,19,3],[19,5,19,8],[17,8,17,9],[17,5,17,7],[16,6,16,7]]}
[]
[]
[null,null,null,null,"اشعار خصم حافز مسحوبات فروتي مركز"]
[]
[null,null,"العميـــــــل :",{"$f":"C17","v":"نجمة سيناء"}]
[]
[null,null,"العنــــــــوان :",null,null,null,null,"تليفون :"]
[null,null,"تتقدم شركة دريم بكل الشكر لسيادتكم علي ما حققتموه من مسحوبات وتعاملات خلال الربع الاول من عام 2013"]
[null,null,"متمنين من الله دوام التوفيق والنجاح ."]
[]
[null,null,"مرســــــل لسيادتـــكم مبــــلغ",null,null,{"$f":"I18","v":131},null,"فقط",null,{"$f":"Horof(F11)","v":"مائة وواحد وثلاثون جنيه مصرى"}]
[]
[null,null,"وذلك لتحقيق شريحة 250كرتونة مسحوبات 0"]
[]
[null,null,null,0.01,null,7.4999999999999997E-3,null,null,5.0000000000000001E-3]
[null,null,"اسم العميل","مسحوبات يناير","قيمة الخصم","مسحوبات فبراير","قيمة الخصم",null,"مسحوبات مارس  175 كرتونة                         "]
[null,null,"نجمة سيناء",0,null,75,51.3,null," قيمة خصم مارس  79.7جنية"]
[null,null,null,null,null,"اجمالي الخصم",null,null,131]
[]
[null,null,"   توقيع العميل بالاستلام",null,null,"توقيع القائم بالتسليم",null,null,null,"               توقيع مشرف الفرع"]
[]
[null,null,".............................................",null,null,".............................................",null,null,null,"      ................................................            "]
[]
[]
[]
[]
[]
[null,null,{"$f":"ورقة1!B4","v":"محمود البدراوي"}]
[null,null,{"$f":"ورقة1!B5","v":"نجمة سينا"}]
[null,null,{"$f":"ورقة1!B6","v":"محمد الدياسطي"}]
[null,null,{"$f":"ورقة1!B7","v":"تامر الريدي"}]
[null,null,{"$f":"ورقة1!B8","v":"احمد عشرة"}]
[null,null,{"$f":"ورقة1!B9","v":"شركة الفار"}]
[null,null,{"$f":"ورقة1!B10","v":"الجميل"}]
[null,null,{"$f":"ورقة1!B11","v":"ايمن عبدالله"}]
[null,null,{"$f":"ورقة1!B12","v":"فتحي حجازي"}]
[null,null,{"$f":"ورقة1!B13","v":"احمد رزق"}]
[null,null,{"$f":"ورقة1!B14","v":"محمد سعده"}]
[null,null,{"$f":"ورقة1!B15","v":"الحسن والحسين"}]
[null,null,{"$f":"ورقة1!B16","v":"اسامة شرة"}]
[null,null,{"$f":"ورقة1!B17","v":"حمدون . عزبة البرج"}]
[null,null,{"$f":"ورقة1!B18","v":"عبد الحميد الشربيني"}]
[null,null,{"$f":"ورقة1!B19","v":"عبده ابو العنين"}]
[null,null,{"$f":"ورقة1!B20","v":"صلاح ابو العنين"}]
[null,null,{"$f":"ورقة1!B21","v":0}]
[null,null,{"$f":"ورقة1!B22","v":0}]
[null,null,{"$f":"ورقة1!B23","v":0}]
[null,null,{"$f":"ورقة1!B24","v":0}]
[null,null,{"$f":"ورقة1!B25","v":0}]
[null,null,{"$f":"ورقة1!B26","v":0}]
[null,null,{"$f":"ورقة1!B27","v":0}]
[null,null,{"$f":"ورقة1!B28","v":0}]
[null,null,{"$f":"ورقة1!B29","v":0}]
[null,null,{"$f":"ورقة1!B30","v":0}]
[null,null,{"$f":"ورقة1!B31","v":0}]
[null,null,{"$f":"ورقة1!B32","v":0}]
[null,null,{"$f":"ورقة1!B33","v":0}]
[null,null,{"$f":"ورقة1!B34","v":0}]
[null,null,{"$f":"ورقة1!B35","v":0}]
[null,null,{"$f":"ورقة1!B36","v":0}]
[null,null,{"$f":"ورقة1!B37","v":0}]
[null,null,{"$f":"ورقة1!B38","v":0}]
[null,null,{"$f":"ورقة1!B39","v":0}]
[null,null,{"$f":"ورقة1!B40","v":0}]
[null,null,{"$f":"ورقة1!B41","v":0}]
[null,null,{"$f":"ورقة1!B42","v":0}]
[null,null,{"$f":"ورقة1!B43","v":0}]
[null,null,{"$f":"ورقة1!B44","v":0}]
[null,null,{"$f":"ورقة1!B45","v":0}]
[null,null,{"$f":"ورقة1!B46","v":0}]
[null,null,{"$f":"ورقة1!B47","v":0}]
[null,null,{"$f":"ورقة1!B48","v":0}]
[null,null,{"$f":"ورقة1!B49","v":0}]
[null,null,{"$f":"ورقة1!B50","v":0}]
[null,null,{"$f":"ورقة1!B51","v":0}]
[null,null,{"$f":"ورقة1!B52","v":0}]
[null,null,{"$f":"ورقة1!B53","v":0}]
[null,null,{"$f":"ورقة1!B54","v":0}]
[null,null,{"$f":"ورقة1!B55","v":0}]
[null,null,{"$f":"ورقة1!B56","v":0}]
[null,null,{"$f":"ورقة1!B57","v":0}]
[null,null,{"$f":"ورقة1!B58","v":0}]
[null,null,{"$f":"ورقة1!B59","v":0}]

{"sheet":"الربع (2)","index":3,"n_rows":225,"n_cols":209,"rows_kept":225,"cut":false,"hidden":true,"merged":[[4,1,4,2],[1,3,1,4],[3,3,3,4],[4,3,4,4],[5,3,5,4],[3,1,3,2],[159,1,159,2],[159,3,159,4],[6,1,6,2],[6,3,6,4],[5,1,5,2]]}
[]
[null,null,null,"متابعة صرف حافز"]
[]
[null,"  اســـــــــم التوكـــــيل",null,null,null,"اجمالي الحوافز التي تم صرفها"]
[null,"    نــــــوع الحـــــــــافز",null,null,null,{"$f":"N160","v":150.01770000000002}]
[null,"عــــام",null,null,null,"باقي الحوافز التي لم يتم صرفها"]
[null," شـهر",null,null,null,{"$f":"D160-F5","v":29799.04005}]
[]
[null,"م","اسم العميل","قيمة الحافز","????","مؤشر الصرف"]
[null,1,"محمود البدراوي",9627.606600000001,null,{"$f":"IF(D10=0,0,J10)","v":0},null,null,{"$f":"IF(E10=$HA$10,L10,M10)","v":"لم يتم الصرف"},{"$f":"IF(E10=0,0,I10)","v":0},null,"تم الصرف","لم يتم الصرف",{"$f":"IF(E10=$HA$10,D10,0)","v":0},null,null,null,null,null,null,null,null,null,null,null,null,null,null,null,null,null,null,null,null,null,null,null,null,null,null,null,null,null,null,null,null,null,null,null,null,null,null,null,null,null,null,null,null,null,null,null,null,null,null,null,null,null,null,null,null,null,null,null,null,null,null,null,null,null,null,null,null,null,null,null,null,null,null,null,null,null,null,null,null,null,null,null,null,null,null,null,null,null,null,null,null,null,null,null,null,null,null,null,null,null,null,null,null,null,null,null,null,null,null,null,null,null,null,null,null,null,null,null,null,null,null,null,null,null,null,null,null,null,null,null,null,null,null,null,null,null,null,null,null,null,null,null,null,null,null,null,null,null,null,null,null,null,null,null,null,null,null,null,null,null,null,null,null,null,null,null,null,null,null,null,null,null,null,null,null,null,null,null,null,null,null,null,null,null,null,null,null,null,null,null,null,null,null,"a"]
[null,2,"سوبر ماركت الفار",2058.4632999999999,null,0,null,null,"لم يتم الصرف",0,null,"تم الصرف","لم يتم الصرف",{"$f":"IF(E11=$HA$10,D11,0)","v":0},null,null,null,null,null,null,null,null,null,null,null,null,null,null,null,null,null,null,null,null,null,null,null,null,null,null,null,null,null,null,null,null,null,null,null,null,null,null,null,null,null,null,null,null,null,null,null,null,null,null,null,null,null,null,null,null,null,null,null,null,null,null,null,null,null,null,null,null,null,null,null,null,null,null,null,null,null,null,null,null,null,null,null,null,null,null,null,null,null,null,null,null,null,null,null,null,null,null,null,null,null,null,null,null,null,null,null,null,null,null,null,null,null,null,null,null,null,null,null,null,null,null,null,null,null,null,null,null,null,null,null,null,null,null,null,null,null,null,null,null,null,null,null,null,null,null,null,null,null,null,null,null,null,null,null,null,null,null,null,null,null,null,null,null,null,null,null,null,null,null,null,null,null,null,null,null,null,null,null,null,null,null,null,null,null,null,null,null,null,null,null,null,null,null,"r"]
[null,3,"هايبر المدينة 00",2009.1768,null,0,null,null,"لم يتم الصرف",0,null,"تم الصرف","لم يتم الصرف",0]
[null,4,"احمد عشرة",1287.0288,null,0,null,null,"لم يتم الصرف",0,null,"تم الصرف","لم يتم الصرف",0]
[null,5,"محمد الدياسطي",793.39789999999994,null,0,null,null,"لم يتم الصرف",0,null,"تم الصرف","لم يتم الصرف",0]
[null,6,"احمد عثمان",748.84789999999998,null,0,null,null,"لم يتم الصرف",0,null,"تم الصرف","لم يتم الصرف",0]
[null,7,"فتحي حجازي",699.12240000000008,null,0,null,null,"لم يتم الصرف",0,null,"تم الصرف","لم يتم الصرف",0]
[null,8,"تامر الريدي",658.99070000000006,null,0,null,null,"لم يتم الصرف",0,null,"تم الصرف","لم يتم الصرف",0]
[null,9,"محمد المليجي",655.63070000000005,null,0,null,null,"لم يتم الصرف",0,null,"تم الصرف","لم يتم الصرف",0]
[null,10,"الجميل",650.46320000000003,null,0,null,null,"لم يتم الصرف",0,null,"تم الصرف","لم يتم الصرف",0]
[null,11,"الفردوس-1",611.53219999999999,null,0,null,null,"لم يتم الصرف",0,null,"تم الصرف","لم يتم الصرف",0]
[null,12,"عبد الحميد الشربيني-2",604.16849999999999,null,0,null,null,"لم يتم الصرف",0,null,"تم الصرف","لم يتم الصرف",0]
[null,13,"ايمن عبدالله",247.71415000000002,null,0,null,null,"لم يتم الصرف",0,null,"تم الصرف","لم يتم الصرف",0]
[null,14,"جنة المؤمنين",209.63550000000001,null,0,null,null,"لم يتم الصرف",0,null,"تم الصرف","لم يتم الصرف",0]
[null,15,"حسام حمدون",203.50275000000002,null,0,null,null,"لم يتم الصرف",0,null,"تم الصرف","لم يتم الصرف",0]
[null,16,"صلاح ابو العنين",198.61840000000001,null,0,null,null,"لم يتم الصرف",0,null,"تم الصرف","لم يتم الصرف",0]
[null,17,"محمود حجازي",196.26435000000001,null,0,null,null,"لم يتم الصرف",0,null,"تم الصرف","لم يتم الصرف",0]
[null,18,"نجمة سينا",194.41980000000001,null,0,null,null,"لم يتم الصرف",0,null,"تم الصرف","لم يتم الصرف",0]
[null,19,"سامح عبدالله",191.86709999999999,null,0,null,null,"لم يتم الصرف",0,null,"تم الصرف","لم يتم الصرف",0]
[null,20,"شطا سنتر",183.03439999999998,null,0,null,null,"لم يتم الصرف",0,null,"تم الصرف","لم يتم الصرف",0]
[null,21,"الايمان-1",161.20065,null,0,null,null,"لم يتم الصرف",0,null,"تم الصرف","لم يتم الصرف",0]
[null,22,"صلاح سريه",159.9785,null,0,null,null,"لم يتم الصرف",0,null,"تم الصرف","لم يتم الصرف",0]
[null,23,"عبده الشافعي",158.90549999999999,null,0,null,null,"لم يتم الصرف",0,null,"تم الصرف","لم يتم الصرف",0]
[null,24,"المدينة المنورة-1",153.86085,null,0,null,null,"لم يتم الصرف",0,null,"تم الصرف","لم يتم الصرف",0]
[null,25,"مكة-2",152.65270000000001,null,0,null,null,"لم يتم الصرف",0,null,"تم الصرف","لم يتم الصرف",0]
[null,26,"حمدون . عزبة البرج",150.01770000000002,"a","تم الصرف",null,null,"تم الصرف","تم الصرف",null,"تم الصرف","لم يتم الصرف",150.01770000000002]
[null,27,{"$f":"الربع!C52","v":"المنار-2"},{"$f":"الربع!D52","v":198.1927},null,0,null,null,"لم يتم الصرف",0,null,"تم الصرف","لم يتم الصرف",0]
[null,28,{"$f":"الربع!C53","v":"محمد صبح"},{"$f":"الربع!D53","v":170.02759999999998},null,0,null,null,"لم يتم الصرف",0,null,"تم الصرف","لم يتم الصرف",0]
[null,29,{"$f":"الربع!C54","v":"حمدون . عزبة البرج"},{"$f":"الربع!D54","v":167.98974999999999},null,0,null,null,"لم يتم الصرف",0,null,"تم الصرف","لم يتم الصرف",0]
[null,30,{"$f":"الربع!C55","v":"مكة-2"},{"$f":"الربع!D55","v":164.77110000000002},null,0,null,null,"لم يتم الصرف",0,null,"تم الصرف","لم يتم الصرف",0]
[null,31,{"$f":"الربع!C56","v":"رفعت النجار"},{"$f":"الربع!D56","v":160.99040000000002},null,0,null,null,"لم يتم الصرف",0,null,"تم الصرف","لم يتم الصرف",0]
[null,32,{"$f":"الربع!C57","v":"محمد العربي-1"},{"$f":"الربع!D57","v":157.36135000000002},null,0,null,null,"لم يتم الصرف",0,null,"تم الصرف","لم يتم الصرف",0]
[null,33,{"$f":"الربع!C58","v":"شركة النور"},{"$f":"الربع!D58","v":157.28475},null,{"$f":"IF(D42=0,0,J42)","v":0},null,null,{"$f":"IF(E42=$HA$10,L42,M42)","v":"لم يتم الصرف"},{"$f":"IF(E42=0,0,I42)","v":0},null,"تم الصرف","لم يتم الصرف",0]
[null,34,{"$f":"الربع!C59","v":"رفعت عبد الله"},{"$f":"الربع!D59","v":156.197},null,0,null,null,"لم يتم الصرف",0,null,"تم الصرف","لم يتم الصرف",0]
[null,35,{"$f":"الربع!C60","v":"اولاد خالد رجب"},{"$f":"الربع!D60","v":154.82114999999999},null,0,null,null,"لم يتم الصرف",0,null,"تم الصرف","لم يتم الصرف",0]
[null,36,{"$f":"الربع!C61","v":"حراز"},{"$f":"الربع!D61","v":150.29455000000002},null,0,null,null,"لم يتم الصرف",0,null,"تم الصرف","لم يتم الصرف",0]
[null,37,{"$f":"الربع!C62","v":"عوض عبود"},{"$f":"الربع!D62","v":150.09379999999999},null,0,null,null,"لم يتم الصرف",0,null,"تم الصرف","لم يتم الصرف",0]
[null,38,{"$f":"الربع!C63","v":"سوبر ماركت الفار"},{"$f":"الربع!D63","v":2974.9883000000004},null,0,null,null,"لم يتم الصرف",0,null,"تم الصرف","لم يتم الصرف",0]
[null,39,{"$f":"الربع!C64","v":"هايبر المدينة 00"},{"$f":"الربع!D64","v":1418.5962},null,0,null,null,"لم يتم الصرف",0,null,"تم الصرف","لم يتم الصرف",0]
[null,40,{"$f":"الربع!C65","v":"سوبر ماركت جويده"},{"$f":"الربع!D65","v":478.78699999999998},null,0,null,null,"لم يتم الصرف",0,null,"تم الصرف","لم يتم الصرف",0]
[null,41,{"$f":"الربع!C66","v":"ماركت عبده ابو العنين"},{"$f":"الربع!D66","v":161.57990000000001},null,0,null,null,"لم يتم الصرف",0,null,"تم الصرف","لم يتم الصرف",0]
[null,42,{"$f":"الربع!C67","v":"ماركت الحرمين"},{"$f":"الربع!D67","v":160.98085},null,0,null,null,"لم يتم الصرف",0,null,"تم الصرف","لم يتم الصرف",0]
[null,43,{"$f":"الربع!C68","v":0},{"$f":"الربع!D68","v":0},null,0,null,null,"لم يتم الصرف",0,null,"تم الصرف","لم يتم الصرف",0]
[null,44,{"$f":"الربع!C69","v":0},{"$f":"الربع!D69","v":0},null,0,null,null,"لم يتم الصرف",0,null,"تم الصرف","لم يتم الصرف",0]
[null,45,{"$f":"الربع!C70","v":0},{"$f":"الربع!D70","v":0},null,0,null,null,"لم يتم الصرف",0,null,"تم الصرف","لم يتم الصرف",0]
[null,46,{"$f":"الربع!C71","v":0},{"$f":"الربع!D71","v":0},null,0,null,null,"لم يتم الصرف",0,null,"تم الصرف","لم يتم الصرف",0]
[null,47,{"$f":"الربع!C72","v":0},{"$f":"الربع!D72","v":0},null,0,null,null,"لم يتم الصرف",0,null,"تم الصرف","لم يتم الصرف",0]
[null,48,{"$f":"الربع!C73","v":0},{"$f":"الربع!D73","v":0},null,0,null,null,"لم يتم الصرف",0,null,"تم الصرف","لم يتم الصرف",0]
[null,49,{"$f":"الربع!C74","v":0},{"$f":"الربع!D74","v":0},null,0,null,null,"لم يتم الصرف",0,null,"تم الصرف","لم يتم الصرف",0]
[null,50,{"$f":"الربع!C75","v":0},{"$f":"الربع!D75","v":0},null,0,null,null,"لم يتم الصرف",0,null,"تم الصرف","لم يتم الصرف",0]
[null,51,{"$f":"الربع!C76","v":0},{"$f":"الربع!D76","v":0},null,0,null,null,"لم يتم الصرف",0,null,"تم الصرف","لم يتم الصرف",0]
[null,52,{"$f":"الربع!C77","v":0},{"$f":"الربع!D77","v":0},null,0,null,null,"لم يتم الصرف",0,null,"تم الصرف","لم يتم الصرف",0]
[null,53,{"$f":"الربع!C78","v":0},{"$f":"الربع!D78","v":0},null,0,null,null,"لم يتم الصرف",0,null,"تم الصرف","لم يتم الصرف",0]
[null,54,{"$f":"الربع!C79","v":0},{"$f":"الربع!D79","v":0},null,0,null,null,"لم يتم الصرف",0,null,"تم الصرف","لم يتم الصرف",0]
[null,55,{"$f":"الربع!C80","v":0},{"$f":"الربع!D80","v":0},null,0,null,null,"لم يتم الصرف",0,null,"تم الصرف","لم يتم الصرف",0]
[null,56,{"$f":"الربع!C81","v":0},{"$f":"الربع!D81","v":0},null,0,null,null,"لم يتم الصرف",0,null,"تم الصرف","لم يتم الصرف",0]
[null,57,{"$f":"الربع!C82","v":0},{"$f":"الربع!D82","v":0},null,0,null,null,"لم يتم الصرف",0,null,"تم الصرف","لم يتم الصرف",0,null,null,null,null,null,null,null,null,null,null,null,null,null,null,null,null,null,null,null,null,null,null,null,null,null,null,null,null,null,null,null,null,null,null,null,null,null,null,null,null,null,null,null,null,null,null,null,null,null,null,null,null,null,null,null,null,null,null,null,null,null,null,null,null,null,null,null,null,null,null,null,null,null,null,null,null,null,null,null,null,null,null,null,null,null,null,null,null,null,null,null,null,null,null,null,null,null,null,null,null,null,null,null,null,null,null,null,null,null,null,null,null,null,null,null,null,null,null,null,null,null,null,null,null,null,null,null,null,null,null,null,null,null,null,null,null,null,null,null,null,null,null,null,null,null,null,null,null,null,null,null,null,null,null,null,null,null,null,null,null,null,null,null,null,null,null,null,null,null,null,null,null,null,null,null,null,null,null,null,null,null,null,null,null,null,null,null,null,null,null,null,null,null,null,"a"]
[null,58,{"$f":"الربع!C83","v":0},{"$f":"الربع!D83","v":0},null,0,null,null,"لم يتم الصرف",0,null,"تم الصرف","لم يتم الصرف",0,null,null,null,null,null,null,null,null,null,null,null,null,null,null,null,null,null,null,null,null,null,null,null,null,null,null,null,null,null,null,null,null,null,null,null,null,null,null,null,null,null,null,null,null,null,null,null,null,null,null,null,null,null,null,null,null,null,null,null,null,null,null,null,null,null,null,null,null,null,null,null,null,null,null,null,null,null,null,null,null,null,null,null,null,null,null,null,null,null,null,null,null,null,null,null,null,null,null,null,null,null,null,null,null,null,null,null,null,null,null,null,null,null,null,null,null,null,null,null,null,null,null,null,null,null,null,null,null,null,null,null,null,null,null,null,null,null,null,null,null,null,null,null,null,null,null,null,null,null,null,null,null,null,null,null,null,null,null,null,null,null,null,null,null,null,null,null,null,null,null,null,null,null,null,null,null,null,null,null,null,null,null,null,null,null,null,null,null,null,null,null,null,null,null,"r"]
[null,59,{"$f":"الربع!C84","v":0},{"$f":"الربع!D84","v":0},null,0,null,null,"لم يتم الصرف",0,null,"تم الصرف","لم يتم الصرف",0]
[null,60,{"$f":"الربع!C85","v":0},{"$f":"الربع!D85","v":0},null,0,null,null,"لم يتم الصرف",0,null,"تم الصرف","لم يتم الصرف",0]
[null,61,{"$f":"الربع!C86","v":0},{"$f":"الربع!D86","v":0},null,0,null,null,"لم يتم الصرف",0,null,"تم الصرف","لم يتم الصرف",0]
[null,62,{"$f":"الربع!C87","v":0},{"$f":"الربع!D87","v":0},null,0,null,null,"لم يتم الصرف",0,null,"تم الصرف","لم يتم الصرف",0]
[null,63,{"$f":"الربع!C88","v":0},{"$f":"الربع!D88","v":0},null,0,null,null,"لم يتم الصرف",0,null,"تم الصرف","لم يتم الصرف",0]
[null,64,{"$f":"الربع!C89","v":0},{"$f":"الربع!D89","v":0},null,0,null,null,"لم يتم الصرف",0,null,"تم الصرف","لم يتم الصرف",0]
[null,65,{"$f":"الربع!C90","v":0},{"$f":"الربع!D90","v":0},null,{"$f":"IF(D74=0,0,J74)","v":0},null,null,{"$f":"IF(E74=$HA$10,L74,M74)","v":"لم يتم الصرف"},{"$f":"IF(E74=0,0,I74)","v":0},null,"تم الصرف","لم يتم الصرف",0]
[null,66,{"$f":"الربع!C91","v":0},{"$f":"الربع!D91","v":0},null,0,null,null,"لم يتم الصرف",0,null,"تم الصرف","لم يتم الصرف",{"$f":"IF(E75=$HA$10,D75,0)","v":0}]
[null,67,{"$f":"الربع!C92","v":0},{"$f":"الربع!D92","v":0},null,0,null,null,"لم يتم الصرف",0,null,"تم الصرف","لم يتم الصرف",0]
[null,68,{"$f":"الربع!C93","v":0},{"$f":"الربع!D93","v":0},null,0,null,null,"لم يتم الصرف",0,null,"تم الصرف","لم يتم الصرف",0]
[null,69,{"$f":"الربع!C94","v":0},{"$f":"الربع!D94","v":0},null,0,null,null,"لم يتم الصرف",0,null,"تم الصرف","لم يتم الصرف",0]
[null,70,{"$f":"الربع!C95","v":0},{"$f":"الربع!D95","v":0},null,0,null,null,"لم يتم الصرف",0,null,"تم الصرف","لم يتم الصرف",0]
[null,71,{"$f":"الربع!C96","v":0},{"$f":"الربع!D96","v":0},null,0,null,null,"لم يتم الصرف",0,null,"تم الصرف","لم يتم الصرف",0]
[null,72,{"$f":"الربع!C97","v":0},{"$f":"الربع!D97","v":0},null,0,null,null,"لم يتم الصرف",0,null,"تم الصرف","لم يتم الصرف",0]
[null,73,{"$f":"الربع!C98","v":0},{"$f":"الربع!D98","v":0},null,0,null,null,"لم يتم الصرف",0,null,"تم الصرف","لم يتم الصرف",0]
[null,74,{"$f":"الربع!C99","v":0},{"$f":"الربع!D99","v":0},null,0,null,null,"لم يتم الصرف",0,null,"تم الصرف","لم يتم الصرف",0]
[null,75,{"$f":"ورقة1!B78","v":0},{"$f":"الربع!D100","v":0},null,0,null,null,"لم يتم الصرف",0,null,"تم الصرف","لم يتم الصرف",0]
[null,76,{"$f":"ورقة1!B79","v":0},{"$f":"الربع!D101","v":0},null,0,null,null,"لم يتم الصرف",0,null,"تم الصرف","لم يتم الصرف",0]
[null,77,{"$f":"ورقة1!B80","v":0},{"$f":"الربع!D102","v":0},null,0,null,null,"لم يتم الصرف",0,null,"تم الصرف","لم يتم الصرف",0]
[null,78,{"$f":"ورقة1!B60","v":0},{"$f":"الربع!D103","v":0},null,0,null,null,"لم يتم الصرف",0,null,"تم الصرف","لم يتم الصرف",0]
[null,79,{"$f":"ورقة1!B61","v":0},{"$f":"الربع!D104","v":0},null,0,null,null,"لم يتم الصرف",0,null,"تم الصرف","لم يتم الصرف",0]
[null,80,{"$f":"ورقة1!B62","v":0},{"$f":"الربع!D105","v":0},null,0,null,null,"لم يتم الصرف",0,null,"تم الصرف","لم يتم الصرف",0]
[null,81,{"$f":"ورقة1!B63","v":0},{"$f":"الربع!D106","v":0},null,0,null,null,"لم يتم الصرف",0,null,"تم الصرف","لم يتم الصرف",0]
[null,82,{"$f":"ورقة1!B64","v":0},{"$f":"الربع!D107","v":0},null,0,null,null,"لم يتم الصرف",0,null,"تم الصرف","لم يتم الصرف",0]
[null,83,{"$f":"ورقة1!B65","v":0},{"$f":"الربع!D108","v":0},null,0,null,null,"لم يتم الصرف",0,null,"تم الصرف","لم يتم الصرف",0]
[null,84,{"$f":"ورقة1!B66","v":0},{"$f":"الربع!D109","v":0},null,0,null,null,"لم يتم الصرف",0,null,"تم الصرف","لم يتم الصرف",0]
[null,85,{"$f":"ورقة1!B67","v":0},{"$f":"الربع!D110","v":0},null,0,null,null,"لم يتم الصرف",0,null,"تم الصرف","لم يتم الصرف",0]
[null,86,{"$f":"ورقة1!B68","v":0},{"$f":"الربع!D111","v":0},null,0,null,null,"لم يتم الصرف",0,null,"تم الصرف","لم يتم الصرف",0]
[null,87,{"$f":"ورقة1!B69","v":0},{"$f":"الربع!D112","v":0},null,0,null,null,"لم يتم الصرف",0,null,"تم الصرف","لم يتم الصرف",0]
[null,88,{"$f":"ورقة1!B70","v":0},{"$f":"الربع!D113","v":0},null,0,null,null,"لم يتم الصرف",0,null,"تم الصرف","لم يتم الصرف",0]
[null,89,{"$f":"ورقة1!B71","v":0},{"$f":"الربع!D114","v":0},null,0,null,null,"لم يتم الصرف",0,null,"تم الصرف","لم يتم الصرف",0]
[null,90,{"$f":"ورقة1!B72","v":0},{"$f":"الربع!D115","v":0},null,0,null,null,"لم يتم الصرف",0,null,"تم الصرف","لم يتم الصرف",0]
[null,91,{"$f":"ورقة1!B73","v":0},{"$f":"الربع!D116","v":0},null,0,null,null,"لم يتم الصرف",0,null,"تم الصرف","لم يتم الصرف",0]
[null,92,{"$f":"ورقة1!B74","v":0},{"$f":"الربع!D117","v":0},null,0,null,null,"لم يتم الصرف",0,null,"تم الصرف","لم يتم الصرف",0]
[null,93,{"$f":"ورقة1!B75","v":0},{"$f":"الربع!D118","v":0},null,0,null,null,"لم يتم الصرف",0,null,"تم الصرف","لم يتم الصرف",0]
[null,94,{"$f":"ورقة1!B76","v":0},{"$f":"الربع!D119","v":0},null,0,null,null,"لم يتم الصرف",0,null,"تم الصرف","لم يتم الصرف",0]
[null,95,{"$f":"ورقة1!B77","v":0},{"$f":"الربع!D120","v":0},null,0,null,null,"لم يتم الصرف",0,null,"تم الصرف","لم يتم الصرف",0]
[null,96,{"$f":"ورقة1!B78","v":0},{"$f":"الربع!D121","v":0},null,0,null,null,"لم يتم الصرف",0,null,"تم الصرف","لم يتم الصرف",0]
[null,97,{"$f":"ورقة1!B79","v":0},{"$f":"الربع!D122","v":0},null,{"$f":"IF(D106=0,0,J106)","v":0},null,null,{"$f":"IF(E106=$HA$10,L106,M106)","v":"لم يتم الصرف"},{"$f":"IF(E106=0,0,I106)","v":0},null,"تم الصرف","لم يتم الصرف",0]
[null,98,{"$f":"ورقة1!B80","v":0},{"$f":"الربع!D123","v":0},null,0,null,null,"لم يتم الصرف",0,null,"تم الصرف","لم يتم الصرف",0]
[null,99,{"$f":"ورقة1!B81","v":0},{"$f":"الربع!D124","v":0},null,0,null,null,"لم يتم الصرف",0,null,"تم الصرف","لم يتم الصرف",0]
[null,100,{"$f":"ورقة1!B82","v":0},{"$f":"الربع!D125","v":0},null,0,null,null,"لم يتم الصرف",0,null,"تم الصرف","لم يتم الصرف",0]
[null,101,{"$f":"ورقة1!B83","v":0},{"$f":"الربع!D126","v":0},null,0,null,null,"لم يتم الصرف",0,null,"تم الصرف","لم يتم الصرف",0]
[null,102,{"$f":"ورقة1!B84","v":0},{"$f":"الربع!D127","v":0},null,0,null,null,"لم يتم الصرف",0,null,"تم الصرف","لم يتم الصرف",0]
[null,103,{"$f":"ورقة1!B85","v":0},{"$f":"الربع!D128","v":0},null,0,null,null,"لم يتم الصرف",0,null,"تم الصرف","لم يتم الصرف",0]
[null,104,{"$f":"ورقة1!B86","v":0},{"$f":"الربع!D129","v":0},null,0,null,null,"لم يتم الصرف",0,null,"تم الصرف","لم يتم الصرف",0]
[null,105,{"$f":"ورقة1!B87","v":0},{"$f":"الربع!D130","v":0},null,0,null,null,"لم يتم الصرف",0,null,"تم الصرف","لم يتم الصرف",0]
[null,106,{"$f":"ورقة1!B88","v":0},{"$f":"الربع!D131","v":0},null,0,null,null,"لم يتم الصرف",0,null,"تم الصرف","لم يتم الصرف",0]
[null,107,{"$f":"ورقة1!B89","v":0},{"$f":"الربع!D132","v":0},null,0,null,null,"لم يتم الصرف",0,null,"تم الصرف","لم يتم الصرف",0]
[null,108,{"$f":"ورقة1!B90","v":0},{"$f":"الربع!D133","v":0},null,0,null,null,"لم يتم الصرف",0,null,"تم الصرف","لم يتم الصرف",0]
[null,109,{"$f":"ورقة1!B91","v":0},{"$f":"الربع!D134","v":0},null,0,null,null,"لم يتم الصرف",0,null,"تم الصرف","لم يتم الصرف",0]
[null,110,{"$f":"ورقة1!B92","v":0},{"$f":"ورقة1!G92","v":0},null,0,null,null,"لم يتم الصرف",0,null,"تم الصرف","لم يتم الصرف",0]
[null,111,{"$f":"ورقة1!B93","v":0},{"$f":"ورقة1!G93","v":0},null,0,null,null,"لم يتم الصرف",0,null,"تم الصرف","لم يتم الصرف",0]
[null,112,{"$f":"ورقة1!B94","v":0},{"$f":"ورقة1!G94","v":0},null,0,null,null,"لم يتم الصرف",0,null,"تم الصرف","لم يتم الصرف",0]
[null,113,{"$f":"ورقة1!B95","v":0},{"$f":"ورقة1!G95","v":0},null,0,null,null,"لم يتم الصرف",0,null,"تم الصرف","لم يتم الصرف",0]
[null,114,{"$f":"ورقة1!B96","v":0},{"$f":"ورقة1!G96","v":0},null,0,null,null,"لم يتم الصرف",0,null,"تم الصرف","لم يتم الصرف",0]
[null,115,{"$f":"ورقة1!B97","v":0},{"$f":"ورقة1!G97","v":0},null,0,null,null,"لم يتم الصرف",0,null,"تم الصرف","لم يتم الصرف",0]
[null,116,{"$f":"ورقة1!B98","v":0},{"$f":"ورقة1!G98","v":0},null,0,null,null,"لم يتم الصرف",0,null,"تم الصرف","لم يتم الصرف",0]
[null,117,{"$f":"ورقة1!B99","v":0},{"$f":"ورقة1!G99","v":0},null,0,null,null,"لم يتم الصرف",0,null,"تم الصرف","لم يتم الصرف",0]
[null,118,{"$f":"ورقة1!B100","v":0},{"$f":"ورقة1!G100","v":0},null,0,null,null,"لم يتم الصرف",0,null,"تم الصرف","لم يتم الصرف",0]
[null,119,{"$f":"ورقة1!B101","v":0},{"$f":"ورقة1!G101","v":0},null,0,null,null,"لم يتم الصرف",0,null,"تم الصرف","لم يتم الصرف",0]
[null,120,{"$f":"ورقة1!B102","v":0},{"$f":"ورقة1!G102","v":0},null,0,null,null,"لم يتم الصرف",0,null,"تم الصرف","لم يتم الصرف",0]
[null,121,{"$f":"ورقة1!B103","v":0},{"$f":"ورقة1!G103","v":0},null,0,null,null,"لم يتم الصرف",0,null,"تم الصرف","لم يتم الصرف",0]
[null,122,{"$f":"ورقة1!B104","v":0},{"$f":"ورقة1!G104","v":0},null,0,null,null,"لم يتم الصرف",0,null,"تم الصرف","لم يتم الصرف",0]
[null,123,{"$f":"ورقة1!B105","v":0},{"$f":"ورقة1!G105","v":0},null,0,null,null,"لم يتم الصرف",0,null,"تم الصرف","لم يتم الصرف",0]
[null,124,{"$f":"ورقة1!B106","v":0},{"$f":"ورقة1!G106","v":0},null,0,null,null,"لم يتم الصرف",0,null,"تم الصرف","لم يتم الصرف",0]
[null,125,{"$f":"ورقة1!B107","v":0},{"$f":"ورقة1!G107","v":0},null,0,null,null,"لم يتم الصرف",0,null,"تم الصرف","لم يتم الصرف",0]
[null,126,{"$f":"ورقة1!B108","v":0},{"$f":"ورقة1!G108","v":0},null,0,null,null,"لم يتم الصرف",0,null,"تم الصرف","لم يتم الصرف",0]
[null,127,{"$f":"ورقة1!B109","v":0},{"$f":"ورقة1!G109","v":0},null,0,null,null,"لم يتم الصرف",0,null,"تم الصرف","لم يتم الصرف",0]
[null,128,{"$f":"ورقة1!B95","v":0},{"$f":"ورقة1!G95","v":0},null,0,null,null,"لم يتم الصرف",0,null,"تم الصرف","لم يتم الصرف",0]
[null,129,{"$f":"ورقة1!B96","v":0},{"$f":"ورقة1!G96","v":0},null,{"$f":"IF(D138=0,0,J138)","v":0},null,null,{"$f":"IF(E138=$HA$10,L138,M138)","v":"لم يتم الصرف"},{"$f":"IF(E138=0,0,I138)","v":0},null,"تم الصرف","لم يتم الصرف",0]
[null,130,{"$f":"ورقة1!B97","v":0},{"$f":"ورقة1!G97","v":0},null,0,null,null,"لم يتم الصرف",0,null,"تم الصرف","لم يتم الصرف",{"$f":"IF(E139=$HA$10,D139,0)","v":0}]
[null,131,{"$f":"ورقة1!B98","v":0},{"$f":"ورقة1!G98","v":0},null,0,null,null,"لم يتم الصرف",0,null,"تم الصرف","لم يتم الصرف",0]
[null,132,{"$f":"ورقة1!B99","v":0},{"$f":"ورقة1!G99","v":0},null,0,null,null,"لم يتم الصرف",0,null,"تم الصرف","لم يتم الصرف",0]
[null,133,{"$f":"ورقة1!B100","v":0},{"$f":"ورقة1!G100","v":0},null,0,null,null,"لم يتم الصرف",0,null,"تم الصرف","لم يتم الصرف",0]
[null,134,{"$f":"ورقة1!B101","v":0},{"$f":"ورقة1!G101","v":0},null,0,null,null,"لم يتم الصرف",0,null,"تم الصرف","لم يتم الصرف",0]
[null,135,{"$f":"ورقة1!B102","v":0},{"$f":"ورقة1!G102","v":0},null,0,null,null,"لم يتم الصرف",0,null,"تم الصرف","لم يتم الصرف",0]
[null,136,{"$f":"ورقة1!B103","v":0},{"$f":"ورقة1!G103","v":0},null,0,null,null,"لم يتم الصرف",0,null,"تم الصرف","لم يتم الصرف",0]
[null,137,{"$f":"ورقة1!B104","v":0},{"$f":"ورقة1!G104","v":0},null,0,null,null,"لم يتم الصرف",0,null,"تم الصرف","لم يتم الصرف",0]
[null,138,{"$f":"ورقة1!B105","v":0},{"$f":"ورقة1!G105","v":0},null,0,null,null,"لم يتم الصرف",0,null,"تم الصرف","لم يتم الصرف",0]
[null,139,{"$f":"ورقة1!B106","v":0},{"$f":"ورقة1!G106","v":0},null,0,null,null,"لم يتم الصرف",0,null,"تم الصرف","لم يتم الصرف",0]
[null,140,{"$f":"ورقة1!B107","v":0},{"$f":"ورقة1!G107","v":0},null,0,null,null,"لم يتم الصرف",0,null,"تم الصرف","لم يتم الصرف",0]
[null,141,{"$f":"ورقة1!B108","v":0},{"$f":"ورقة1!G108","v":0},null,0,null,null,"لم يتم الصرف",0,null,"تم الصرف","لم يتم الصرف",0]
[null,142,{"$f":"ورقة1!B109","v":0},{"$f":"ورقة1!G109","v":0},null,0,null,null,"لم يتم الصرف",0,null,"تم الصرف","لم يتم الصرف",0]
[null,143,{"$f":"ورقة1!B110","v":0},{"$f":"ورقة1!G110","v":0},null,0,null,null,"لم يتم الصرف",0,null,"تم الصرف","لم يتم الصرف",0]
[null,144,{"$f":"ورقة1!B111","v":0},{"$f":"ورقة1!G111","v":0},null,0,null,null,"لم يتم الصرف",0,null,"تم الصرف","لم يتم الصرف",0]
[null,145,{"$f":"ورقة1!B112","v":0},{"$f":"ورقة1!G112","v":0},null,0,null,null,"لم يتم الصرف",0,null,"تم الصرف","لم يتم الصرف",0]
[null,146,{"$f":"ورقة1!B113","v":0},{"$f":"ورقة1!G113","v":0},null,0,null,null,"لم يتم الصرف",0,null,"تم الصرف","لم يتم الصرف",0]
[null,147,{"$f":"ورقة1!B112","v":0},{"$f":"ورقة1!G112","v":0},null,0,null,null,"لم يتم الصرف",0,null,"تم الصرف","لم يتم الصرف",0]
[null,148,{"$f":"ورقة1!B113","v":0},{"$f":"ورقة1!G113","v":0},null,0,null,null,"لم يتم الصرف",0,null,"تم الصرف","لم يتم الصرف",0]
[null,149,{"$f":"ورقة1!B114","v":0},{"$f":"ورقة1!G114","v":0},null,0,null,null,"لم يتم الصرف",0,null,"تم الصرف","لم يتم الصرف",0]
[null,150,{"$f":"ورقة1!B115","v":0},{"$f":"ورقة1!G115","v":0},null,0,null,null,"لم يتم الصرف",0,null,"تم الصرف","لم يتم الصرف",0]
[null,"الاجمـــــــــــــــــــالي",null,{"$f":"SUM(D10:D159)","v":29949.05775},null,null,null,null,null,null,null,null,null,{"$f":"SUM(N10:N159)","v":150.01770000000002}]
[]
[]
[]
[]
[]
[]
[]
[]
[]
[]
[]
[]
[]
[]
[]
[]
[]
[]
[]
[]
[]
[]
[]
[]
[]
[]
[]
[]
[]
[]
[]
[]
[]
[]
[]
[]
[]
[]
[]
[]
[]
[]
[]
[]
[]
[]
[]
[]
[]
[]
[]
[]
[]
[]
[]
[]
[]
[]
[]
[]
[]
[]
[]
[null,null,"a"]
[null,null,"r"]