{"text_format":"1","workbook":"xlsx","n_sheets":5,"sheets":["الرئيسية","إشعار1","10-1","الإحصائية الشهرية","الإحصائية السنوية"],"not_rendered":{"charts":0,"images":0,"macros":1,"external_links":5,"defined_names":63,"comments":0,"pivot_tables":0},"unopened":[],"bounds":{"document_bytes":16777216,"sheet_cells":100000,"rows_first":2000,"rows_last":500,"rows_between":2000,"halvings":0,"cell_chars":16384,"cell_head_chars":4096},"cells_cut":0,"cells_raw":0,"read":"whole","date_system":"1900"}

{"sheet":"الرئيسية","index":0,"n_rows":9,"n_cols":13,"rows_kept":9,"cut":false,"hidden":false,"merged":[[8,7,10,11],[8,12,10,16],[1,8,1,15],[2,7,4,11],[2,12,4,16],[5,7,7,11],[5,12,7,16]]}
[]
[null,null,null,null,null,null,null,null,"الحضور والغياب (سبتمبر)"]
[null,null,null,null,null,null,null,"10\\1",null,null,null,null,"10\\2"]
[]
[]
[null,null,null,null,null,null,null,"10\\3",null,null,null,null,"10\\4"]
[]
[]
[null,null,null,null,null,null,null,"10\\5"]

{"sheet":"إشعار1","index":1,"n_rows":74,"n_cols":11,"rows_kept":74,"cut":false,"hidden":false,"merged":[[1,3,1,7]]}
[]
[null,null,null,"إشعار بتكرار الغياب 3 مرات أو أكثر"]
[null,"الرقم","اسم الطالب","الصف","رقم ولي الأمر","عدد مرات الغياب","التحويل 3","التحويل 5","التحويل 7","التحويل 10","التحويل 13"]
[null,{"$f":"ROW()-3","v":1},{"$f":"IFERROR(INDEX('الإحصائية السنوية'!$C$6:$C$990,SMALL(IF('الإحصائية السنوية'!$P$6:$P$990>=3,ROW($C$12:$C$996)-ROW($C$12)+1),ROWS($C$3:C3))),\"\")","v":""},{"$f":"IFERROR(INDEX('الإحصائية السنوية'!$E$6:$E$990,SMALL(IF('الإحصائية السنوية'!$P$6:$P$990>=3,ROW($C$12:$C$996)-ROW($C$12)+1),ROWS($C$3:C3))),\"\")","v":""},{"$f":"IFERROR(INDEX('الإحصائية السنوية'!$D$6:$D$990,SMALL(IF('الإحصائية السنوية'!$P$6:$P$990>=3,ROW($C$12:$C$996)-ROW($C$12)+1),ROWS($C$3:C3))),\"\")","v":""},{"$f":"IFERROR(INDEX('الإحصائية السنوية'!$P$6:$P$990,SMALL(IF('الإحصائية السنوية'!$P$6:$P$990>=3,ROW($C$12:$C$996)-ROW($C$12)+1),ROWS($C$3:C3))),\"\")","v":""},"تم","تم"]
[null,{"$f":"ROW()-3","v":2},{"$f":"IFERROR(INDEX('الإحصائية السنوية'!$C$6:$C$990,SMALL(IF('الإحصائية السنوية'!$P$6:$P$990>=3,ROW($C$12:$C$996)-ROW($C$12)+1),ROWS($C$3:C4))),\"\")","v":""},{"$f":"IFERROR(INDEX('الإحصائية السنوية'!$E$6:$E$990,SMALL(IF('الإحصائية السنوية'!$P$6:$P$990>=3,ROW($C$12:$C$996)-ROW($C$12)+1),ROWS($C$3:C4))),\"\")","v":""},{"$f":"IFERROR(INDEX('الإحصائية السنوية'!$D$6:$D$990,SMALL(IF('الإحصائية السنوية'!$P$6:$P$990>=3,ROW($C$12:$C$996)-ROW($C$12)+1),ROWS($C$3:C4))),\"\")","v":""},{"$f":"IFERROR(INDEX('الإحصائية السنوية'!$P$6:$P$990,SMALL(IF('الإحصائية السنوية'!$P$6:$P$990>=3,ROW($C$12:$C$996)-ROW($C$12)+1),ROWS($C$3:C4))),\"\")","v":""}]
[null,3,{"$f":"IFERROR(INDEX('الإحصائية السنوية'!$C$6:$C$990,SMALL(IF('الإحصائية السنوية'!$P$6:$P$990>=3,ROW($C$12:$C$996)-ROW($C$12)+1),ROWS($C$3:C5))),\"\")","v":""},{"$f":"IFERROR(INDEX('الإحصائية السنوية'!$E$6:$E$990,SMALL(IF('الإحصائية السنوية'!$P$6:$P$990>=3,ROW($C$12:$C$996)-ROW($C$12)+1),ROWS($C$3:C5))),\"\")","v":""},{"$f":"IFERROR(INDEX('الإحصائية السنوية'!$D$6:$D$990,SMALL(IF('الإحصائية السنوية'!$P$6:$P$990>=3,ROW($C$12:$C$996)-ROW($C$12)+1),ROWS($C$3:C5))),\"\")","v":""},{"$f":"IFERROR(INDEX('الإحصائية السنوية'!$P$6:$P$990,SMALL(IF('الإحصائية السنوية'!$P$6:$P$990>=3,ROW($C$12:$C$996)-ROW($C$12)+1),ROWS($C$3:C5))),\"\")","v":""}]
[null,4,{"$f":"IFERROR(INDEX('الإحصائية السنوية'!$C$6:$C$990,SMALL(IF('الإحصائية السنوية'!$P$6:$P$990>=3,ROW($C$12:$C$996)-ROW($C$12)+1),ROWS($C$3:C6))),\"\")","v":""},{"$f":"IFERROR(INDEX('الإحصائية السنوية'!$E$6:$E$990,SMALL(IF('الإحصائية السنوية'!$P$6:$P$990>=3,ROW($C$12:$C$996)-ROW($C$12)+1),ROWS($C$3:C6))),\"\")","v":""},{"$f":"IFERROR(INDEX('الإحصائية السنوية'!$D$6:$D$990,SMALL(IF('الإحصائية السنوية'!$P$6:$P$990>=3,ROW($C$12:$C$996)-ROW($C$12)+1),ROWS($C$3:C6))),\"\")","v":""},{"$f":"IFERROR(INDEX('الإحصائية السنوية'!$P$6:$P$990,SMALL(IF('الإحصائية السنوية'!$P$6:$P$990>=3,ROW($C$12:$C$996)-ROW($C$12)+1),ROWS($C$3:C6))),\"\")","v":""}]
[null,5,{"$f":"IFERROR(INDEX('الإحصائية السنوية'!$C$6:$C$990,SMALL(IF('الإحصائية السنوية'!$P$6:$P$990>=3,ROW($C$12:$C$996)-ROW($C$12)+1),ROWS($C$3:C7))),\"\")","v":""},{"$f":"IFERROR(INDEX('الإحصائية السنوية'!$E$6:$E$990,SMALL(IF('الإحصائية السنوية'!$P$6:$P$990>=3,ROW($C$12:$C$996)-ROW($C$12)+1),ROWS($C$3:C7))),\"\")","v":""},{"$f":"IFERROR(INDEX('الإحصائية السنوية'!$D$6:$D$990,SMALL(IF('الإحصائية السنوية'!$P$6:$P$990>=3,ROW($C$12:$C$996)-ROW($C$12)+1),ROWS($C$3:C7))),\"\")","v":""},{"$f":"IFERROR(INDEX('الإحصائية السنوية'!$P$6:$P$990,SMALL(IF('الإحصائية السنوية'!$P$6:$P$990>=3,ROW($C$12:$C$996)-ROW($C$12)+1),ROWS($C$3:C7))),\"\")","v":""}]
[null,6,{"$f":"IFERROR(INDEX('الإحصائية السنوية'!$C$6:$C$990,SMALL(IF('الإحصائية السنوية'!$P$6:$P$990>=3,ROW($C$12:$C$996)-ROW($C$12)+1),ROWS($C$3:C8))),\"\")","v":""},{"$f":"IFERROR(INDEX('الإحصائية السنوية'!$E$6:$E$990,SMALL(IF('الإحصائية السنوية'!$P$6:$P$990>=3,ROW($C$12:$C$996)-ROW($C$12)+1),ROWS($C$3:C8))),\"\")","v":""},{"$f":"IFERROR(INDEX('الإحصائية السنوية'!$D$6:$D$990,SMALL(IF('الإحصائية السنوية'!$P$6:$P$990>=3,ROW($C$12:$C$996)-ROW($C$12)+1),ROWS($C$3:C8))),\"\")","v":""},{"$f":"IFERROR(INDEX('الإحصائية السنوية'!$P$6:$P$990,SMALL(IF('الإحصائية السنوية'!$P$6:$P$990>=3,ROW($C$12:$C$996)-ROW($C$12)+1),ROWS($C$3:C8))),\"\")","v":""}]
[null,7,{"$f":"IFERROR(INDEX('الإحصائية السنوية'!$C$6:$C$990,SMALL(IF('الإحصائية السنوية'!$P$6:$P$990>=3,ROW($C$12:$C$996)-ROW($C$12)+1),ROWS($C$3:C9))),\"\")","v":""},{"$f":"IFERROR(INDEX('الإحصائية السنوية'!$E$6:$E$990,SMALL(IF('الإحصائية السنوية'!$P$6:$P$990>=3,ROW($C$12:$C$996)-ROW($C$12)+1),ROWS($C$3:C9))),\"\")","v":""},{"$f":"IFERROR(INDEX('الإحصائية السنوية'!$D$6:$D$990,SMALL(IF('الإحصائية السنوية'!$P$6:$P$990>=3,ROW($C$12:$C$996)-ROW($C$12)+1),ROWS($C$3:C9))),\"\")","v":""},{"$f":"IFERROR(INDEX('الإحصائية السنوية'!$P$6:$P$990,SMALL(IF('الإحصائية السنوية'!$P$6:$P$990>=3,ROW($C$12:$C$996)-ROW($C$12)+1),ROWS($C$3:C9))),\"\")","v":""}]
[null,8,{"$f":"IFERROR(INDEX('الإحصائية السنوية'!$C$6:$C$990,SMALL(IF('الإحصائية السنوية'!$P$6:$P$990>=3,ROW($C$12:$C$996)-ROW($C$12)+1),ROWS($C$3:C10))),\"\")","v":""},{"$f":"IFERROR(INDEX('الإحصائية السنوية'!$E$6:$E$990,SMALL(IF('الإحصائية السنوية'!$P$6:$P$990>=3,ROW($C$12:$C$996)-ROW($C$12)+1),ROWS($C$3:C10))),\"\")","v":""},{"$f":"IFERROR(INDEX('الإحصائية السنوية'!$D$6:$D$990,SMALL(IF('الإحصائية السنوية'!$P$6:$P$990>=3,ROW($C$12:$C$996)-ROW($C$12)+1),ROWS($C$3:C10))),\"\")","v":""},{"$f":"IFERROR(INDEX('الإحصائية السنوية'!$P$6:$P$990,SMALL(IF('الإحصائية السنوية'!$P$6:$P$990>=3,ROW($C$12:$C$996)-ROW($C$12)+1),ROWS($C$3:C10))),\"\")","v":""}]
[null,9,{"$f":"IFERROR(INDEX('الإحصائية السنوية'!$C$6:$C$990,SMALL(IF('الإحصائية السنوية'!$P$6:$P$990>=3,ROW($C$12:$C$996)-ROW($C$12)+1),ROWS($C$3:C11))),\"\")","v":""},{"$f":"IFERROR(INDEX('الإحصائية السنوية'!$E$6:$E$990,SMALL(IF('الإحصائية السنوية'!$P$6:$P$990>=3,ROW($C$12:$C$996)-ROW($C$12)+1),ROWS($C$3:C11))),\"\")","v":""},{"$f":"IFERROR(INDEX('الإحصائية السنوية'!$D$6:$D$990,SMALL(IF('الإحصائية السنوية'!$P$6:$P$990>=3,ROW($C$12:$C$996)-ROW($C$12)+1),ROWS($C$3:C11))),\"\")","v":""},{"$f":"IFERROR(INDEX('الإحصائية السنوية'!$P$6:$P$990,SMALL(IF('الإحصائية السنوية'!$P$6:$P$990>=3,ROW($C$12:$C$996)-ROW($C$12)+1),ROWS($C$3:C11))),\"\")","v":""}]
[null,10,{"$f":"IFERROR(INDEX('الإحصائية السنوية'!$C$6:$C$990,SMALL(IF('الإحصائية السنوية'!$P$6:$P$990>=3,ROW($C$12:$C$996)-ROW($C$12)+1),ROWS($C$3:C12))),\"\")","v":""},{"$f":"IFERROR(INDEX('الإحصائية السنوية'!$E$6:$E$990,SMALL(IF('الإحصائية السنوية'!$P$6:$P$990>=3,ROW($C$12:$C$996)-ROW($C$12)+1),ROWS($C$3:C12))),\"\")","v":""},{"$f":"IFERROR(INDEX('الإحصائية السنوية'!$D$6:$D$990,SMALL(IF('الإحصائية السنوية'!$P$6:$P$990>=3,ROW($C$12:$C$996)-ROW($C$12)+1),ROWS($C$3:C12))),\"\")","v":""},{"$f":"IFERROR(INDEX('الإحصائية السنوية'!$P$6:$P$990,SMALL(IF('الإحصائية السنوية'!$P$6:$P$990>=3,ROW($C$12:$C$996)-ROW($C$12)+1),ROWS($C$3:C12))),\"\")","v":""}]
[null,{"$f":"ROW()-3","v":11},{"$f":"IFERROR(INDEX('الإحصائية السنوية'!$C$6:$C$990,SMALL(IF('الإحصائية السنوية'!$P$6:$P$990>=3,ROW($C$12:$C$996)-ROW($C$12)+1),ROWS($C$3:C13))),\"\")","v":""},{"$f":"IFERROR(INDEX('الإحصائية السنوية'!$E$6:$E$990,SMALL(IF('الإحصائية السنوية'!$P$6:$P$990>=3,ROW($C$12:$C$996)-ROW($C$12)+1),ROWS($C$3:C13))),\"\")","v":""},{"$f":"IFERROR(INDEX('الإحصائية السنوية'!$D$6:$D$990,SMALL(IF('الإحصائية السنوية'!$P$6:$P$990>=3,ROW($C$12:$C$996)-ROW($C$12)+1),ROWS($C$3:C13))),\"\")","v":""},{"$f":"IFERROR(INDEX('الإحصائية السنوية'!$P$6:$P$990,SMALL(IF('الإحصائية السنوية'!$P$6:$P$990>=3,ROW($C$12:$C$996)-ROW($C$12)+1),ROWS($C$3:C13))),\"\")","v":""}]
[null,12,{"$f":"IFERROR(INDEX('الإحصائية السنوية'!$C$6:$C$990,SMALL(IF('الإحصائية السنوية'!$P$6:$P$990>=3,ROW($C$12:$C$996)-ROW($C$12)+1),ROWS($C$3:C14))),\"\")","v":""},{"$f":"IFERROR(INDEX('الإحصائية السنوية'!$E$6:$E$990,SMALL(IF('الإحصائية السنوية'!$P$6:$P$990>=3,ROW($C$12:$C$996)-ROW($C$12)+1),ROWS($C$3:C14))),\"\")","v":""},{"$f":"IFERROR(INDEX('الإحصائية السنوية'!$D$6:$D$990,SMALL(IF('الإحصائية السنوية'!$P$6:$P$990>=3,ROW($C$12:$C$996)-ROW($C$12)+1),ROWS($C$3:C14))),\"\")","v":""},{"$f":"IFERROR(INDEX('الإحصائية السنوية'!$P$6:$P$990,SMALL(IF('الإحصائية السنوية'!$P$6:$P$990>=3,ROW($C$12:$C$996)-ROW($C$12)+1),ROWS($C$3:C14))),\"\")","v":""}]
[null,13,{"$f":"IFERROR(INDEX('الإحصائية السنوية'!$C$6:$C$990,SMALL(IF('الإحصائية السنوية'!$P$6:$P$990>=3,ROW($C$12:$C$996)-ROW($C$12)+1),ROWS($C$3:C15))),\"\")","v":""},{"$f":"IFERROR(INDEX('الإحصائية السنوية'!$E$6:$E$990,SMALL(IF('الإحصائية السنوية'!$P$6:$P$990>=3,ROW($C$12:$C$996)-ROW($C$12)+1),ROWS($C$3:C15))),\"\")","v":""},{"$f":"IFERROR(INDEX('الإحصائية السنوية'!$D$6:$D$990,SMALL(IF('الإحصائية السنوية'!$P$6:$P$990>=3,ROW($C$12:$C$996)-ROW($C$12)+1),ROWS($C$3:C15))),\"\")","v":""},{"$f":"IFERROR(INDEX('الإحصائية السنوية'!$P$6:$P$990,SMALL(IF('الإحصائية السنوية'!$P$6:$P$990>=3,ROW($C$12:$C$996)-ROW($C$12)+1),ROWS($C$3:C15))),\"\")","v":""}]
[null,14,{"$f":"IFERROR(INDEX('الإحصائية السنوية'!$C$6:$C$990,SMALL(IF('الإحصائية السنوية'!$P$6:$P$990>=3,ROW($C$12:$C$996)-ROW($C$12)+1),ROWS($C$3:C16))),\"\")","v":""},{"$f":"IFERROR(INDEX('الإحصائية السنوية'!$E$6:$E$990,SMALL(IF('الإحصائية السنوية'!$P$6:$P$990>=3,ROW($C$12:$C$996)-ROW($C$12)+1),ROWS($C$3:C16))),\"\")","v":""},{"$f":"IFERROR(INDEX('الإحصائية السنوية'!$D$6:$D$990,SMALL(IF('الإحصائية السنوية'!$P$6:$P$990>=3,ROW($C$12:$C$996)-ROW($C$12)+1),ROWS($C$3:C16))),\"\")","v":""},{"$f":"IFERROR(INDEX('الإحصائية السنوية'!$P$6:$P$990,SMALL(IF('الإحصائية السنوية'!$P$6:$P$990>=3,ROW($C$12:$C$996)-ROW($C$12)+1),ROWS($C$3:C16))),\"\")","v":""}]
[null,15,{"$f":"IFERROR(INDEX('الإحصائية السنوية'!$C$6:$C$990,SMALL(IF('الإحصائية السنوية'!$P$6:$P$990>=3,ROW($C$12:$C$996)-ROW($C$12)+1),ROWS($C$3:C17))),\"\")","v":""},{"$f":"IFERROR(INDEX('الإحصائية السنوية'!$E$6:$E$990,SMALL(IF('الإحصائية السنوية'!$P$6:$P$990>=3,ROW($C$12:$C$996)-ROW($C$12)+1),ROWS($C$3:C17))),\"\")","v":""},{"$f":"IFERROR(INDEX('الإحصائية السنوية'!$D$6:$D$990,SMALL(IF('الإحصائية السنوية'!$P$6:$P$990>=3,ROW($C$12:$C$996)-ROW($C$12)+1),ROWS($C$3:C17))),\"\")","v":""},{"$f":"IFERROR(INDEX('الإحصائية السنوية'!$P$6:$P$990,SMALL(IF('الإحصائية السنوية'!$P$6:$P$990>=3,ROW($C$12:$C$996)-ROW($C$12)+1),ROWS($C$3:C17))),\"\")","v":""}]
[null,16,{"$f":"IFERROR(INDEX('الإحصائية السنوية'!$C$6:$C$990,SMALL(IF('الإحصائية السنوية'!$P$6:$P$990>=3,ROW($C$12:$C$996)-ROW($C$12)+1),ROWS($C$3:C18))),\"\")","v":""},{"$f":"IFERROR(INDEX('الإحصائية السنوية'!$E$6:$E$990,SMALL(IF('الإحصائية السنوية'!$P$6:$P$990>=3,ROW($C$12:$C$996)-ROW($C$12)+1),ROWS($C$3:C18))),\"\")","v":""},{"$f":"IFERROR(INDEX('الإحصائية السنوية'!$D$6:$D$990,SMALL(IF('الإحصائية السنوية'!$P$6:$P$990>=3,ROW($C$12:$C$996)-ROW($C$12)+1),ROWS($C$3:C18))),\"\")","v":""},{"$f":"IFERROR(INDEX('الإحصائية السنوية'!$P$6:$P$990,SMALL(IF('الإحصائية السنوية'!$P$6:$P$990>=3,ROW($C$12:$C$996)-ROW($C$12)+1),ROWS($C$3:C18))),\"\")","v":""}]
[null,17,{"$f":"IFERROR(INDEX('الإحصائية السنوية'!$C$6:$C$990,SMALL(IF('الإحصائية السنوية'!$P$6:$P$990>=3,ROW($C$12:$C$996)-ROW($C$12)+1),ROWS($C$3:C19))),\"\")","v":""},{"$f":"IFERROR(INDEX('الإحصائية السنوية'!$E$6:$E$990,SMALL(IF('الإحصائية السنوية'!$P$6:$P$990>=3,ROW($C$12:$C$996)-ROW($C$12)+1),ROWS($C$3:C19))),\"\")","v":""},{"$f":"IFERROR(INDEX('الإحصائية السنوية'!$D$6:$D$990,SMALL(IF('الإحصائية السنوية'!$P$6:$P$990>=3,ROW($C$12:$C$996)-ROW($C$12)+1),ROWS($C$3:C19))),\"\")","v":""},{"$f":"IFERROR(INDEX('الإحصائية السنوية'!$P$6:$P$990,SMALL(IF('الإحصائية السنوية'!$P$6:$P$990>=3,ROW($C$12:$C$996)-ROW($C$12)+1),ROWS($C$3:C19))),\"\")","v":""}]
[null,18,{"$f":"IFERROR(INDEX('الإحصائية السنوية'!$C$6:$C$990,SMALL(IF('الإحصائية السنوية'!$P$6:$P$990>=3,ROW($C$12:$C$996)-ROW($C$12)+1),ROWS($C$3:C20))),\"\")","v":""},{"$f":"IFERROR(INDEX('الإحصائية السنوية'!$E$6:$E$990,SMALL(IF('الإحصائية السنوية'!$P$6:$P$990>=3,ROW($C$12:$C$996)-ROW($C$12)+1),ROWS($C$3:C20))),\"\")","v":""},{"$f":"IFERROR(INDEX('الإحصائية السنوية'!$D$6:$D$990,SMALL(IF('الإحصائية السنوية'!$P$6:$P$990>=3,ROW($C$12:$C$996)-ROW($C$12)+1),ROWS($C$3:C20))),\"\")","v":""},{"$f":"IFERROR(INDEX('الإحصائية السنوية'!$P$6:$P$990,SMALL(IF('الإحصائية السنوية'!$P$6:$P$990>=3,ROW($C$12:$C$996)-ROW($C$12)+1),ROWS($C$3:C20))),\"\")","v":""}]
[null,19,{"$f":"IFERROR(INDEX('الإحصائية السنوية'!$C$6:$C$990,SMALL(IF('الإحصائية السنوية'!$P$6:$P$990>=3,ROW($C$12:$C$996)-ROW($C$12)+1),ROWS($C$3:C21))),\"\")","v":""},{"$f":"IFERROR(INDEX('الإحصائية السنوية'!$E$6:$E$990,SMALL(IF('الإحصائية السنوية'!$P$6:$P$990>=3,ROW($C$12:$C$996)-ROW($C$12)+1),ROWS($C$3:C21))),\"\")","v":""},{"$f":"IFERROR(INDEX('الإحصائية السنوية'!$D$6:$D$990,SMALL(IF('الإحصائية السنوية'!$P$6:$P$990>=3,ROW($C$12:$C$996)-ROW($C$12)+1),ROWS($C$3:C21))),\"\")","v":""},{"$f":"IFERROR(INDEX('الإحصائية السنوية'!$P$6:$P$990,SMALL(IF('الإحصائية السنوية'!$P$6:$P$990>=3,ROW($C$12:$C$996)-ROW($C$12)+1),ROWS($C$3:C21))),\"\")","v":""}]
[null,20,{"$f":"IFERROR(INDEX('الإحصائية السنوية'!$C$6:$C$990,SMALL(IF('الإحصائية السنوية'!$P$6:$P$990>=3,ROW($C$12:$C$996)-ROW($C$12)+1),ROWS($C$3:C22))),\"\")","v":""},{"$f":"IFERROR(INDEX('الإحصائية السنوية'!$E$6:$E$990,SMALL(IF('الإحصائية السنوية'!$P$6:$P$990>=3,ROW($C$12:$C$996)-ROW($C$12)+1),ROWS($C$3:C22))),\"\")","v":""},{"$f":"IFERROR(INDEX('الإحصائية السنوية'!$D$6:$D$990,SMALL(IF('الإحصائية السنوية'!$P$6:$P$990>=3,ROW($C$12:$C$996)-ROW($C$12)+1),ROWS($C$3:C22))),\"\")","v":""},{"$f":"IFERROR(INDEX('الإحصائية السنوية'!$P$6:$P$990,SMALL(IF('الإحصائية السنوية'!$P$6:$P$990>=3,ROW($C$12:$C$996)-ROW($C$12)+1),ROWS($C$3:C22))),\"\")","v":""}]
[null,{"$f":"ROW()-3","v":21},{"$f":"IFERROR(INDEX('الإحصائية السنوية'!$C$6:$C$990,SMALL(IF('الإحصائية السنوية'!$P$6:$P$990>=3,ROW($C$12:$C$996)-ROW($C$12)+1),ROWS($C$3:C23))),\"\")","v":""},{"$f":"IFERROR(INDEX('الإحصائية السنوية'!$E$6:$E$990,SMALL(IF('الإحصائية السنوية'!$P$6:$P$990>=3,ROW($C$12:$C$996)-ROW($C$12)+1),ROWS($C$3:C23))),\"\")","v":""},{"$f":"IFERROR(INDEX('الإحصائية السنوية'!$D$6:$D$990,SMALL(IF('الإحصائية السنوية'!$P$6:$P$990>=3,ROW($C$12:$C$996)-ROW($C$12)+1),ROWS($C$3:C23))),\"\")","v":""},{"$f":"IFERROR(INDEX('الإحصائية السنوية'!$P$6:$P$990,SMALL(IF('الإحصائية السنوية'!$P$6:$P$990>=3,ROW($C$12:$C$996)-ROW($C$12)+1),ROWS($C$3:C23))),\"\")","v":""}]
[null,22,{"$f":"IFERROR(INDEX('الإحصائية السنوية'!$C$6:$C$990,SMALL(IF('الإحصائية السنوية'!$P$6:$P$990>=3,ROW($C$12:$C$996)-ROW($C$12)+1),ROWS($C$3:C24))),\"\")","v":""},{"$f":"IFERROR(INDEX('الإحصائية السنوية'!$E$6:$E$990,SMALL(IF('الإحصائية السنوية'!$P$6:$P$990>=3,ROW($C$12:$C$996)-ROW($C$12)+1),ROWS($C$3:C24))),\"\")","v":""},{"$f":"IFERROR(INDEX('الإحصائية السنوية'!$D$6:$D$990,SMALL(IF('الإحصائية السنوية'!$P$6:$P$990>=3,ROW($C$12:$C$996)-ROW($C$12)+1),ROWS($C$3:C24))),\"\")","v":""},{"$f":"IFERROR(INDEX('الإحصائية السنوية'!$P$6:$P$990,SMALL(IF('الإحصائية السنوية'!$P$6:$P$990>=3,ROW($C$12:$C$996)-ROW($C$12)+1),ROWS($C$3:C24))),\"\")","v":""}]
[null,23,{"$f":"IFERROR(INDEX('الإحصائية السنوية'!$C$6:$C$990,SMALL(IF('الإحصائية السنوية'!$P$6:$P$990>=3,ROW($C$12:$C$996)-ROW($C$12)+1),ROWS($C$3:C25))),\"\")","v":""},{"$f":"IFERROR(INDEX('الإحصائية السنوية'!$E$6:$E$990,SMALL(IF('الإحصائية السنوية'!$P$6:$P$990>=3,ROW($C$12:$C$996)-ROW($C$12)+1),ROWS($C$3:C25))),\"\")","v":""},{"$f":"IFERROR(INDEX('الإحصائية السنوية'!$D$6:$D$990,SMALL(IF('الإحصائية السنوية'!$P$6:$P$990>=3,ROW($C$12:$C$996)-ROW($C$12)+1),ROWS($C$3:C25))),\"\")","v":""},{"$f":"IFERROR(INDEX('الإحصائية السنوية'!$P$6:$P$990,SMALL(IF('الإحصائية السنوية'!$P$6:$P$990>=3,ROW($C$12:$C$996)-ROW($C$12)+1),ROWS($C$3:C25))),\"\")","v":""}]
[null,24,{"$f":"IFERROR(INDEX('الإحصائية السنوية'!$C$6:$C$990,SMALL(IF('الإحصائية السنوية'!$P$6:$P$990>=3,ROW($C$12:$C$996)-ROW($C$12)+1),ROWS($C$3:C26))),\"\")","v":""},{"$f":"IFERROR(INDEX('الإحصائية السنوية'!$E$6:$E$990,SMALL(IF('الإحصائية السنوية'!$P$6:$P$990>=3,ROW($C$12:$C$996)-ROW($C$12)+1),ROWS($C$3:C26))),\"\")","v":""},{"$f":"IFERROR(INDEX('الإحصائية السنوية'!$D$6:$D$990,SMALL(IF('الإحصائية السنوية'!$P$6:$P$990>=3,ROW($C$12:$C$996)-ROW($C$12)+1),ROWS($C$3:C26))),\"\")","v":""},{"$f":"IFERROR(INDEX('الإحصائية السنوية'!$P$6:$P$990,SMALL(IF('الإحصائية السنوية'!$P$6:$P$990>=3,ROW($C$12:$C$996)-ROW($C$12)+1),ROWS($C$3:C26))),\"\")","v":""}]
[null,25,{"$f":"IFERROR(INDEX('الإحصائية السنوية'!$C$6:$C$990,SMALL(IF('الإحصائية السنوية'!$P$6:$P$990>=3,ROW($C$12:$C$996)-ROW($C$12)+1),ROWS($C$3:C27))),\"\")","v":""},{"$f":"IFERROR(INDEX('الإحصائية السنوية'!$E$6:$E$990,SMALL(IF('الإحصائية السنوية'!$P$6:$P$990>=3,ROW($C$12:$C$996)-ROW($C$12)+1),ROWS($C$3:C27))),\"\")","v":""},{"$f":"IFERROR(INDEX('الإحصائية السنوية'!$D$6:$D$990,SMALL(IF('الإحصائية السنوية'!$P$6:$P$990>=3,ROW($C$12:$C$996)-ROW($C$12)+1),ROWS($C$3:C27))),\"\")","v":""},{"$f":"IFERROR(INDEX('الإحصائية السنوية'!$P$6:$P$990,SMALL(IF('الإحصائية السنوية'!$P$6:$P$990>=3,ROW($C$12:$C$996)-ROW($C$12)+1),ROWS($C$3:C27))),\"\")","v":""}]
[null,26,{"$f":"IFERROR(INDEX('الإحصائية السنوية'!$C$6:$C$990,SMALL(IF('الإحصائية السنوية'!$P$6:$P$990>=3,ROW($C$12:$C$996)-ROW($C$12)+1),ROWS($C$3:C28))),\"\")","v":""},{"$f":"IFERROR(INDEX('الإحصائية السنوية'!$E$6:$E$990,SMALL(IF('الإحصائية السنوية'!$P$6:$P$990>=3,ROW($C$12:$C$996)-ROW($C$12)+1),ROWS($C$3:C28))),\"\")","v":""},{"$f":"IFERROR(INDEX('الإحصائية السنوية'!$D$6:$D$990,SMALL(IF('الإحصائية السنوية'!$P$6:$P$990>=3,ROW($C$12:$C$996)-ROW($C$12)+1),ROWS($C$3:C28))),\"\")","v":""},{"$f":"IFERROR(INDEX('الإحصائية السنوية'!$P$6:$P$990,SMALL(IF('الإحصائية السنوية'!$P$6:$P$990>=3,ROW($C$12:$C$996)-ROW($C$12)+1),ROWS($C$3:C28))),\"\")","v":""}]
[null,27,{"$f":"IFERROR(INDEX('الإحصائية السنوية'!$C$6:$C$990,SMALL(IF('الإحصائية السنوية'!$P$6:$P$990>=3,ROW($C$12:$C$996)-ROW($C$12)+1),ROWS($C$3:C29))),\"\")","v":""},{"$f":"IFERROR(INDEX('الإحصائية السنوية'!$E$6:$E$990,SMALL(IF('الإحصائية السنوية'!$P$6:$P$990>=3,ROW($C$12:$C$996)-ROW($C$12)+1),ROWS($C$3:C29))),\"\")","v":""},{"$f":"IFERROR(INDEX('الإحصائية السنوية'!$D$6:$D$990,SMALL(IF('الإحصائية السنوية'!$P$6:$P$990>=3,ROW($C$12:$C$996)-ROW($C$12)+1),ROWS($C$3:C29))),\"\")","v":""},{"$f":"IFERROR(INDEX('الإحصائية السنوية'!$P$6:$P$990,SMALL(IF('الإحصائية السنوية'!$P$6:$P$990>=3,ROW($C$12:$C$996)-ROW($C$12)+1),ROWS($C$3:C29))),\"\")","v":""}]
[null,28,{"$f":"IFERROR(INDEX('الإحصائية السنوية'!$C$6:$C$990,SMALL(IF('الإحصائية السنوية'!$P$6:$P$990>=3,ROW($C$12:$C$996)-ROW($C$12)+1),ROWS($C$3:C30))),\"\")","v":""},{"$f":"IFERROR(INDEX('الإحصائية السنوية'!$E$6:$E$990,SMALL(IF('الإحصائية السنوية'!$P$6:$P$990>=3,ROW($C$12:$C$996)-ROW($C$12)+1),ROWS($C$3:C30))),\"\")","v":""},{"$f":"IFERROR(INDEX('الإحصائية السنوية'!$D$6:$D$990,SMALL(IF('الإحصائية السنوية'!$P$6:$P$990>=3,ROW($C$12:$C$996)-ROW($C$12)+1),ROWS($C$3:C30))),\"\")","v":""},{"$f":"IFERROR(INDEX('الإحصائية السنوية'!$P$6:$P$990,SMALL(IF('الإحصائية السنوية'!$P$6:$P$990>=3,ROW($C$12:$C$996)-ROW($C$12)+1),ROWS($C$3:C30))),\"\")","v":""}]
[null,29,{"$f":"IFERROR(INDEX('الإحصائية السنوية'!$C$6:$C$990,SMALL(IF('الإحصائية السنوية'!$P$6:$P$990>=3,ROW($C$12:$C$996)-ROW($C$12)+1),ROWS($C$3:C31))),\"\")","v":""},{"$f":"IFERROR(INDEX('الإحصائية السنوية'!$E$6:$E$990,SMALL(IF('الإحصائية السنوية'!$P$6:$P$990>=3,ROW($C$12:$C$996)-ROW($C$12)+1),ROWS($C$3:C31))),\"\")","v":""},{"$f":"IFERROR(INDEX('الإحصائية السنوية'!$D$6:$D$990,SMALL(IF('الإحصائية السنوية'!$P$6:$P$990>=3,ROW($C$12:$C$996)-ROW($C$12)+1),ROWS($C$3:C31))),\"\")","v":""},{"$f":"IFERROR(INDEX('الإحصائية السنوية'!$P$6:$P$990,SMALL(IF('الإحصائية السنوية'!$P$6:$P$990>=3,ROW($C$12:$C$996)-ROW($C$12)+1),ROWS($C$3:C31))),\"\")","v":""}]
[null,30,{"$f":"IFERROR(INDEX('الإحصائية السنوية'!$C$6:$C$990,SMALL(IF('الإحصائية السنوية'!$P$6:$P$990>=3,ROW($C$12:$C$996)-ROW($C$12)+1),ROWS($C$3:C32))),\"\")","v":""},{"$f":"IFERROR(INDEX('الإحصائية السنوية'!$E$6:$E$990,SMALL(IF('الإحصائية السنوية'!$P$6:$P$990>=3,ROW($C$12:$C$996)-ROW($C$12)+1),ROWS($C$3:C32))),\"\")","v":""},{"$f":"IFERROR(INDEX('الإحصائية السنوية'!$D$6:$D$990,SMALL(IF('الإحصائية السنوية'!$P$6:$P$990>=3,ROW($C$12:$C$996)-ROW($C$12)+1),ROWS($C$3:C32))),\"\")","v":""},{"$f":"IFERROR(INDEX('الإحصائية السنوية'!$P$6:$P$990,SMALL(IF('الإحصائية السنوية'!$P$6:$P$990>=3,ROW($C$12:$C$996)-ROW($C$12)+1),ROWS($C$3:C32))),\"\")","v":""}]
[null,31,{"$f":"IFERROR(INDEX('الإحصائية السنوية'!$C$6:$C$990,SMALL(IF('الإحصائية السنوية'!$P$6:$P$990>=3,ROW($C$12:$C$996)-ROW($C$12)+1),ROWS($C$3:C33))),\"\")","v":""},{"$f":"IFERROR(INDEX('الإحصائية السنوية'!$E$6:$E$990,SMALL(IF('الإحصائية السنوية'!$P$6:$P$990>=3,ROW($C$12:$C$996)-ROW($C$12)+1),ROWS($C$3:C33))),\"\")","v":""},{"$f":"IFERROR(INDEX('الإحصائية السنوية'!$D$6:$D$990,SMALL(IF('الإحصائية السنوية'!$P$6:$P$990>=3,ROW($C$12:$C$996)-ROW($C$12)+1),ROWS($C$3:C33))),\"\")","v":""},{"$f":"IFERROR(INDEX('الإحصائية السنوية'!$P$6:$P$990,SMALL(IF('الإحصائية السنوية'!$P$6:$P$990>=3,ROW($C$12:$C$996)-ROW($C$12)+1),ROWS($C$3:C33))),\"\")","v":""}]
[null,32,{"$f":"IFERROR(INDEX('الإحصائية السنوية'!$C$6:$C$990,SMALL(IF('الإحصائية السنوية'!$P$6:$P$990>=3,ROW($C$12:$C$996)-ROW($C$12)+1),ROWS($C$3:C34))),\"\")","v":""},{"$f":"IFERROR(INDEX('الإحصائية السنوية'!$E$6:$E$990,SMALL(IF('الإحصائية السنوية'!$P$6:$P$990>=3,ROW($C$12:$C$996)-ROW($C$12)+1),ROWS($C$3:C34))),\"\")","v":""},{"$f":"IFERROR(INDEX('الإحصائية السنوية'!$D$6:$D$990,SMALL(IF('الإحصائية السنوية'!$P$6:$P$990>=3,ROW($C$12:$C$996)-ROW($C$12)+1),ROWS($C$3:C34))),\"\")","v":""},{"$f":"IFERROR(INDEX('الإحصائية السنوية'!$P$6:$P$990,SMALL(IF('الإحصائية السنوية'!$P$6:$P$990>=3,ROW($C$12:$C$996)-ROW($C$12)+1),ROWS($C$3:C34))),\"\")","v":""}]
[null,33,{"$f":"IFERROR(INDEX('الإحصائية السنوية'!$C$6:$C$990,SMALL(IF('الإحصائية السنوية'!$P$6:$P$990>=3,ROW($C$12:$C$996)-ROW($C$12)+1),ROWS($C$3:C35))),\"\")","v":""},{"$f":"IFERROR(INDEX('الإحصائية السنوية'!$E$6:$E$990,SMALL(IF('الإحصائية السنوية'!$P$6:$P$990>=3,ROW($C$12:$C$996)-ROW($C$12)+1),ROWS($C$3:C35))),\"\")","v":""},{"$f":"IFERROR(INDEX('الإحصائية السنوية'!$D$6:$D$990,SMALL(IF('الإحصائية السنوية'!$P$6:$P$990>=3,ROW($C$12:$C$996)-ROW($C$12)+1),ROWS($C$3:C35))),\"\")","v":""},{"$f":"IFERROR(INDEX('الإحصائية السنوية'!$P$6:$P$990,SMALL(IF('الإحصائية السنوية'!$P$6:$P$990>=3,ROW($C$12:$C$996)-ROW($C$12)+1),ROWS($C$3:C35))),\"\")","v":""}]
[null,34,{"$f":"IFERROR(INDEX('الإحصائية السنوية'!$C$6:$C$990,SMALL(IF('الإحصائية السنوية'!$P$6:$P$990>=3,ROW($C$12:$C$996)-ROW($C$12)+1),ROWS($C$3:C36))),\"\")","v":""},{"$f":"IFERROR(INDEX('الإحصائية السنوية'!$E$6:$E$990,SMALL(IF('الإحصائية السنوية'!$P$6:$P$990>=3,ROW($C$12:$C$996)-ROW($C$12)+1),ROWS($C$3:C36))),\"\")","v":""},{"$f":"IFERROR(INDEX('الإحصائية السنوية'!$D$6:$D$990,SMALL(IF('الإحصائية السنوية'!$P$6:$P$990>=3,ROW($C$12:$C$996)-ROW($C$12)+1),ROWS($C$3:C36))),\"\")","v":""},{"$f":"IFERROR(INDEX('الإحصائية السنوية'!$P$6:$P$990,SMALL(IF('الإحصائية السنوية'!$P$6:$P$990>=3,ROW($C$12:$C$996)-ROW($C$12)+1),ROWS($C$3:C36))),\"\")","v":""}]
[null,35,{"$f":"IFERROR(INDEX('الإحصائية السنوية'!$C$6:$C$990,SMALL(IF('الإحصائية السنوية'!$P$6:$P$990>=3,ROW($C$12:$C$996)-ROW($C$12)+1),ROWS($C$3:C37))),\"\")","v":""},{"$f":"IFERROR(INDEX('الإحصائية السنوية'!$E$6:$E$990,SMALL(IF('الإحصائية السنوية'!$P$6:$P$990>=3,ROW($C$12:$C$996)-ROW($C$12)+1),ROWS($C$3:C37))),\"\")","v":""},{"$f":"IFERROR(INDEX('الإحصائية السنوية'!$D$6:$D$990,SMALL(IF('الإحصائية السنوية'!$P$6:$P$990>=3,ROW($C$12:$C$996)-ROW($C$12)+1),ROWS($C$3:C37))),\"\")","v":""},{"$f":"IFERROR(INDEX('الإحصائية السنوية'!$P$6:$P$990,SMALL(IF('الإحصائية السنوية'!$P$6:$P$990>=3,ROW($C$12:$C$996)-ROW($C$12)+1),ROWS($C$3:C37))),\"\")","v":""}]
[null,36,{"$f":"IFERROR(INDEX('الإحصائية السنوية'!$C$6:$C$990,SMALL(IF('الإحصائية السنوية'!$P$6:$P$990>=3,ROW($C$12:$C$996)-ROW($C$12)+1),ROWS($C$3:C38))),\"\")","v":""},{"$f":"IFERROR(INDEX('الإحصائية السنوية'!$E$6:$E$990,SMALL(IF('الإحصائية السنوية'!$P$6:$P$990>=3,ROW($C$12:$C$996)-ROW($C$12)+1),ROWS($C$3:C38))),\"\")","v":""},{"$f":"IFERROR(INDEX('الإحصائية السنوية'!$D$6:$D$990,SMALL(IF('الإحصائية السنوية'!$P$6:$P$990>=3,ROW($C$12:$C$996)-ROW($C$12)+1),ROWS($C$3:C38))),\"\")","v":""},{"$f":"IFERROR(INDEX('الإحصائية السنوية'!$P$6:$P$990,SMALL(IF('الإحصائية السنوية'!$P$6:$P$990>=3,ROW($C$12:$C$996)-ROW($C$12)+1),ROWS($C$3:C38))),\"\")","v":""}]
[null,37,{"$f":"IFERROR(INDEX('الإحصائية السنوية'!$C$6:$C$990,SMALL(IF('الإحصائية السنوية'!$P$6:$P$990>=3,ROW($C$12:$C$996)-ROW($C$12)+1),ROWS($C$3:C39))),\"\")","v":""},{"$f":"IFERROR(INDEX('الإحصائية السنوية'!$E$6:$E$990,SMALL(IF('الإحصائية السنوية'!$P$6:$P$990>=3,ROW($C$12:$C$996)-ROW($C$12)+1),ROWS($C$3:C39))),\"\")","v":""},{"$f":"IFERROR(INDEX('الإحصائية السنوية'!$D$6:$D$990,SMALL(IF('الإحصائية السنوية'!$P$6:$P$990>=3,ROW($C$12:$C$996)-ROW($C$12)+1),ROWS($C$3:C39))),\"\")","v":""},{"$f":"IFERROR(INDEX('الإحصائية السنوية'!$P$6:$P$990,SMALL(IF('الإحصائية السنوية'!$P$6:$P$990>=3,ROW($C$12:$C$996)-ROW($C$12)+1),ROWS($C$3:C39))),\"\")","v":""}]
[null,38,{"$f":"IFERROR(INDEX('الإحصائية السنوية'!$C$6:$C$990,SMALL(IF('الإحصائية السنوية'!$P$6:$P$990>=3,ROW($C$12:$C$996)-ROW($C$12)+1),ROWS($C$3:C40))),\"\")","v":""},{"$f":"IFERROR(INDEX('الإحصائية السنوية'!$E$6:$E$990,SMALL(IF('الإحصائية السنوية'!$P$6:$P$990>=3,ROW($C$12:$C$996)-ROW($C$12)+1),ROWS($C$3:C40))),\"\")","v":""},{"$f":"IFERROR(INDEX('الإحصائية السنوية'!$D$6:$D$990,SMALL(IF('الإحصائية السنوية'!$P$6:$P$990>=3,ROW($C$12:$C$996)-ROW($C$12)+1),ROWS($C$3:C40))),\"\")","v":""},{"$f":"IFERROR(INDEX('الإحصائية السنوية'!$P$6:$P$990,SMALL(IF('الإحصائية السنوية'!$P$6:$P$990>=3,ROW($C$12:$C$996)-ROW($C$12)+1),ROWS($C$3:C40))),\"\")","v":""}]
[null,39,{"$f":"IFERROR(INDEX('الإحصائية السنوية'!$C$6:$C$990,SMALL(IF('الإحصائية السنوية'!$P$6:$P$990>=3,ROW($C$12:$C$996)-ROW($C$12)+1),ROWS($C$3:C41))),\"\")","v":""},{"$f":"IFERROR(INDEX('الإحصائية السنوية'!$E$6:$E$990,SMALL(IF('الإحصائية السنوية'!$P$6:$P$990>=3,ROW($C$12:$C$996)-ROW($C$12)+1),ROWS($C$3:C41))),\"\")","v":""},{"$f":"IFERROR(INDEX('الإحصائية السنوية'!$D$6:$D$990,SMALL(IF('الإحصائية السنوية'!$P$6:$P$990>=3,ROW($C$12:$C$996)-ROW($C$12)+1),ROWS($C$3:C41))),\"\")","v":""},{"$f":"IFERROR(INDEX('الإحصائية السنوية'!$P$6:$P$990,SMALL(IF('الإحصائية السنوية'!$P$6:$P$990>=3,ROW($C$12:$C$996)-ROW($C$12)+1),ROWS($C$3:C41))),\"\")","v":""}]
[null,40,{"$f":"IFERROR(INDEX('الإحصائية السنوية'!$C$6:$C$990,SMALL(IF('الإحصائية السنوية'!$P$6:$P$990>=3,ROW($C$12:$C$996)-ROW($C$12)+1),ROWS($C$3:C42))),\"\")","v":""},{"$f":"IFERROR(INDEX('الإحصائية السنوية'!$E$6:$E$990,SMALL(IF('الإحصائية السنوية'!$P$6:$P$990>=3,ROW($C$12:$C$996)-ROW($C$12)+1),ROWS($C$3:C42))),\"\")","v":""},{"$f":"IFERROR(INDEX('الإحصائية السنوية'!$D$6:$D$990,SMALL(IF('الإحصائية السنوية'!$P$6:$P$990>=3,ROW($C$12:$C$996)-ROW($C$12)+1),ROWS($C$3:C42))),\"\")","v":""},{"$f":"IFERROR(INDEX('الإحصائية السنوية'!$P$6:$P$990,SMALL(IF('الإحصائية السنوية'!$P$6:$P$990>=3,ROW($C$12:$C$996)-ROW($C$12)+1),ROWS($C$3:C42))),\"\")","v":""}]
[null,41,{"$f":"IFERROR(INDEX('الإحصائية السنوية'!$C$6:$C$990,SMALL(IF('الإحصائية السنوية'!$P$6:$P$990>=3,ROW($C$12:$C$996)-ROW($C$12)+1),ROWS($C$3:C43))),\"\")","v":""},{"$f":"IFERROR(INDEX('الإحصائية السنوية'!$E$6:$E$990,SMALL(IF('الإحصائية السنوية'!$P$6:$P$990>=3,ROW($C$12:$C$996)-ROW($C$12)+1),ROWS($C$3:C43))),\"\")","v":""},{"$f":"IFERROR(INDEX('الإحصائية السنوية'!$D$6:$D$990,SMALL(IF('الإحصائية السنوية'!$P$6:$P$990>=3,ROW($C$12:$C$996)-ROW($C$12)+1),ROWS($C$3:C43))),\"\")","v":""},{"$f":"IFERROR(INDEX('الإحصائية السنوية'!$P$6:$P$990,SMALL(IF('الإحصائية السنوية'!$P$6:$P$990>=3,ROW($C$12:$C$996)-ROW($C$12)+1),ROWS($C$3:C43))),\"\")","v":""}]
[null,42,{"$f":"IFERROR(INDEX('الإحصائية السنوية'!$C$6:$C$990,SMALL(IF('الإحصائية السنوية'!$P$6:$P$990>=3,ROW($C$12:$C$996)-ROW($C$12)+1),ROWS($C$3:C44))),\"\")","v":""},{"$f":"IFERROR(INDEX('الإحصائية السنوية'!$E$6:$E$990,SMALL(IF('الإحصائية السنوية'!$P$6:$P$990>=3,ROW($C$12:$C$996)-ROW($C$12)+1),ROWS($C$3:C44))),\"\")","v":""},{"$f":"IFERROR(INDEX('الإحصائية السنوية'!$D$6:$D$990,SMALL(IF('الإحصائية السنوية'!$P$6:$P$990>=3,ROW($C$12:$C$996)-ROW($C$12)+1),ROWS($C$3:C44))),\"\")","v":""},{"$f":"IFERROR(INDEX('الإحصائية السنوية'!$P$6:$P$990,SMALL(IF('الإحصائية السنوية'!$P$6:$P$990>=3,ROW($C$12:$C$996)-ROW($C$12)+1),ROWS($C$3:C44))),\"\")","v":""}]
[null,43,{"$f":"IFERROR(INDEX('الإحصائية السنوية'!$C$6:$C$990,SMALL(IF('الإحصائية السنوية'!$P$6:$P$990>=3,ROW($C$12:$C$996)-ROW($C$12)+1),ROWS($C$3:C45))),\"\")","v":""},{"$f":"IFERROR(INDEX('الإحصائية السنوية'!$E$6:$E$990,SMALL(IF('الإحصائية السنوية'!$P$6:$P$990>=3,ROW($C$12:$C$996)-ROW($C$12)+1),ROWS($C$3:C45))),\"\")","v":""},{"$f":"IFERROR(INDEX('الإحصائية السنوية'!$D$6:$D$990,SMALL(IF('الإحصائية السنوية'!$P$6:$P$990>=3,ROW($C$12:$C$996)-ROW($C$12)+1),ROWS($C$3:C45))),\"\")","v":""},{"$f":"IFERROR(INDEX('الإحصائية السنوية'!$P$6:$P$990,SMALL(IF('الإحصائية السنوية'!$P$6:$P$990>=3,ROW($C$12:$C$996)-ROW($C$12)+1),ROWS($C$3:C45))),\"\")","v":""}]
[null,44,{"$f":"IFERROR(INDEX('الإحصائية السنوية'!$C$6:$C$990,SMALL(IF('الإحصائية السنوية'!$P$6:$P$990>=3,ROW($C$12:$C$996)-ROW($C$12)+1),ROWS($C$3:C46))),\"\")","v":""},{"$f":"IFERROR(INDEX('الإحصائية السنوية'!$E$6:$E$990,SMALL(IF('الإحصائية السنوية'!$P$6:$P$990>=3,ROW($C$12:$C$996)-ROW($C$12)+1),ROWS($C$3:C46))),\"\")","v":""},{"$f":"IFERROR(INDEX('الإحصائية السنوية'!$D$6:$D$990,SMALL(IF('الإحصائية السنوية'!$P$6:$P$990>=3,ROW($C$12:$C$996)-ROW($C$12)+1),ROWS($C$3:C46))),\"\")","v":""},{"$f":"IFERROR(INDEX('الإحصائية السنوية'!$P$6:$P$990,SMALL(IF('الإحصائية السنوية'!$P$6:$P$990>=3,ROW($C$12:$C$996)-ROW($C$12)+1),ROWS($C$3:C46))),\"\")","v":""}]
[null,45,{"$f":"IFERROR(INDEX('الإحصائية السنوية'!$C$6:$C$990,SMALL(IF('الإحصائية السنوية'!$P$6:$P$990>=3,ROW($C$12:$C$996)-ROW($C$12)+1),ROWS($C$3:C47))),\"\")","v":""},{"$f":"IFERROR(INDEX('الإحصائية السنوية'!$E$6:$E$990,SMALL(IF('الإحصائية السنوية'!$P$6:$P$990>=3,ROW($C$12:$C$996)-ROW($C$12)+1),ROWS($C$3:C47))),\"\")","v":""},{"$f":"IFERROR(INDEX('الإحصائية السنوية'!$D$6:$D$990,SMALL(IF('الإحصائية السنوية'!$P$6:$P$990>=3,ROW($C$12:$C$996)-ROW($C$12)+1),ROWS($C$3:C47))),\"\")","v":""},{"$f":"IFERROR(INDEX('الإحصائية السنوية'!$P$6:$P$990,SMALL(IF('الإحصائية السنوية'!$P$6:$P$990>=3,ROW($C$12:$C$996)-ROW($C$12)+1),ROWS($C$3:C47))),\"\")","v":""}]
[null,46,{"$f":"IFERROR(INDEX('الإحصائية السنوية'!$C$6:$C$990,SMALL(IF('الإحصائية السنوية'!$P$6:$P$990>=3,ROW($C$12:$C$996)-ROW($C$12)+1),ROWS($C$3:C48))),\"\")","v":""},{"$f":"IFERROR(INDEX('الإحصائية السنوية'!$E$6:$E$990,SMALL(IF('الإحصائية السنوية'!$P$6:$P$990>=3,ROW($C$12:$C$996)-ROW($C$12)+1),ROWS($C$3:C48))),\"\")","v":""},{"$f":"IFERROR(INDEX('الإحصائية السنوية'!$D$6:$D$990,SMALL(IF('الإحصائية السنوية'!$P$6:$P$990>=3,ROW($C$12:$C$996)-ROW($C$12)+1),ROWS($C$3:C48))),\"\")","v":""},{"$f":"IFERROR(INDEX('الإحصائية السنوية'!$P$6:$P$990,SMALL(IF('الإحصائية السنوية'!$P$6:$P$990>=3,ROW($C$12:$C$996)-ROW($C$12)+1),ROWS($C$3:C48))),\"\")","v":""}]
[null,47,{"$f":"IFERROR(INDEX('الإحصائية السنوية'!$C$6:$C$990,SMALL(IF('الإحصائية السنوية'!$P$6:$P$990>=3,ROW($C$12:$C$996)-ROW($C$12)+1),ROWS($C$3:C49))),\"\")","v":""},{"$f":"IFERROR(INDEX('الإحصائية السنوية'!$E$6:$E$990,SMALL(IF('الإحصائية السنوية'!$P$6:$P$990>=3,ROW($C$12:$C$996)-ROW($C$12)+1),ROWS($C$3:C49))),\"\")","v":""},{"$f":"IFERROR(INDEX('الإحصائية السنوية'!$D$6:$D$990,SMALL(IF('الإحصائية السنوية'!$P$6:$P$990>=3,ROW($C$12:$C$996)-ROW($C$12)+1),ROWS($C$3:C49))),\"\")","v":""},{"$f":"IFERROR(INDEX('الإحصائية السنوية'!$P$6:$P$990,SMALL(IF('الإحصائية السنوية'!$P$6:$P$990>=3,ROW($C$12:$C$996)-ROW($C$12)+1),ROWS($C$3:C49))),\"\")","v":""}]
[null,48,{"$f":"IFERROR(INDEX('الإحصائية السنوية'!$C$6:$C$990,SMALL(IF('الإحصائية السنوية'!$P$6:$P$990>=3,ROW($C$12:$C$996)-ROW($C$12)+1),ROWS($C$3:C50))),\"\")","v":""},{"$f":"IFERROR(INDEX('الإحصائية السنوية'!$E$6:$E$990,SMALL(IF('الإحصائية السنوية'!$P$6:$P$990>=3,ROW($C$12:$C$996)-ROW($C$12)+1),ROWS($C$3:C50))),\"\")","v":""},{"$f":"IFERROR(INDEX('الإحصائية السنوية'!$D$6:$D$990,SMALL(IF('الإحصائية السنوية'!$P$6:$P$990>=3,ROW($C$12:$C$996)-ROW($C$12)+1),ROWS($C$3:C50))),\"\")","v":""},{"$f":"IFERROR(INDEX('الإحصائية السنوية'!$P$6:$P$990,SMALL(IF('الإحصائية السنوية'!$P$6:$P$990>=3,ROW($C$12:$C$996)-ROW($C$12)+1),ROWS($C$3:C50))),\"\")","v":""}]
[null,49,{"$f":"IFERROR(INDEX('الإحصائية السنوية'!$C$6:$C$990,SMALL(IF('الإحصائية السنوية'!$P$6:$P$990>=3,ROW($C$12:$C$996)-ROW($C$12)+1),ROWS($C$3:C51))),\"\")","v":""},{"$f":"IFERROR(INDEX('الإحصائية السنوية'!$E$6:$E$990,SMALL(IF('الإحصائية السنوية'!$P$6:$P$990>=3,ROW($C$12:$C$996)-ROW($C$12)+1),ROWS($C$3:C51))),\"\")","v":""},{"$f":"IFERROR(INDEX('الإحصائية السنوية'!$D$6:$D$990,SMALL(IF('الإحصائية السنوية'!$P$6:$P$990>=3,ROW($C$12:$C$996)-ROW($C$12)+1),ROWS($C$3:C51))),\"\")","v":""},{"$f":"IFERROR(INDEX('الإحصائية السنوية'!$P$6:$P$990,SMALL(IF('الإحصائية السنوية'!$P$6:$P$990>=3,ROW($C$12:$C$996)-ROW($C$12)+1),ROWS($C$3:C51))),\"\")","v":""}]
[null,50,{"$f":"IFERROR(INDEX('الإحصائية السنوية'!$C$6:$C$990,SMALL(IF('الإحصائية السنوية'!$P$6:$P$990>=3,ROW($C$12:$C$996)-ROW($C$12)+1),ROWS($C$3:C52))),\"\")","v":""},{"$f":"IFERROR(INDEX('الإحصائية السنوية'!$E$6:$E$990,SMALL(IF('الإحصائية السنوية'!$P$6:$P$990>=3,ROW($C$12:$C$996)-ROW($C$12)+1),ROWS($C$3:C52))),\"\")","v":""},{"$f":"IFERROR(INDEX('الإحصائية السنوية'!$D$6:$D$990,SMALL(IF('الإحصائية السنوية'!$P$6:$P$990>=3,ROW($C$12:$C$996)-ROW($C$12)+1),ROWS($C$3:C52))),\"\")","v":""},{"$f":"IFERROR(INDEX('الإحصائية السنوية'!$P$6:$P$990,SMALL(IF('الإحصائية السنوية'!$P$6:$P$990>=3,ROW($C$12:$C$996)-ROW($C$12)+1),ROWS($C$3:C52))),\"\")","v":""}]
[null,51,{"$f":"IFERROR(INDEX('الإحصائية السنوية'!$C$6:$C$990,SMALL(IF('الإحصائية السنوية'!$P$6:$P$990>=3,ROW($C$12:$C$996)-ROW($C$12)+1),ROWS($C$3:C53))),\"\")","v":""},{"$f":"IFERROR(INDEX('الإحصائية السنوية'!$E$6:$E$990,SMALL(IF('الإحصائية السنوية'!$P$6:$P$990>=3,ROW($C$12:$C$996)-ROW($C$12)+1),ROWS($C$3:C53))),\"\")","v":""},{"$f":"IFERROR(INDEX('الإحصائية السنوية'!$D$6:$D$990,SMALL(IF('الإحصائية السنوية'!$P$6:$P$990>=3,ROW($C$12:$C$996)-ROW($C$12)+1),ROWS($C$3:C53))),\"\")","v":""},{"$f":"IFERROR(INDEX('الإحصائية السنوية'!$P$6:$P$990,SMALL(IF('الإحصائية السنوية'!$P$6:$P$990>=3,ROW($C$12:$C$996)-ROW($C$12)+1),ROWS($C$3:C53))),\"\")","v":""}]
[null,52,{"$f":"IFERROR(INDEX('الإحصائية السنوية'!$C$6:$C$990,SMALL(IF('الإحصائية السنوية'!$P$6:$P$990>=3,ROW($C$12:$C$996)-ROW($C$12)+1),ROWS($C$3:C54))),\"\")","v":""},{"$f":"IFERROR(INDEX('الإحصائية السنوية'!$E$6:$E$990,SMALL(IF('الإحصائية السنوية'!$P$6:$P$990>=3,ROW($C$12:$C$996)-ROW($C$12)+1),ROWS($C$3:C54))),\"\")","v":""},{"$f":"IFERROR(INDEX('الإحصائية السنوية'!$D$6:$D$990,SMALL(IF('الإحصائية السنوية'!$P$6:$P$990>=3,ROW($C$12:$C$996)-ROW($C$12)+1),ROWS($C$3:C54))),\"\")","v":""},{"$f":"IFERROR(INDEX('الإحصائية السنوية'!$P$6:$P$990,SMALL(IF('الإحصائية السنوية'!$P$6:$P$990>=3,ROW($C$12:$C$996)-ROW($C$12)+1),ROWS($C$3:C54))),\"\")","v":""}]
[null,{"$f":"ROW()-3","v":53},{"$f":"IFERROR(INDEX('الإحصائية السنوية'!$C$6:$C$990,SMALL(IF('الإحصائية السنوية'!$P$6:$P$990>=3,ROW($C$12:$C$996)-ROW($C$12)+1),ROWS($C$3:C55))),\"\")","v":""},{"$f":"IFERROR(INDEX('الإحصائية السنوية'!$E$6:$E$990,SMALL(IF('الإحصائية السنوية'!$P$6:$P$990>=3,ROW($C$12:$C$996)-ROW($C$12)+1),ROWS($C$3:C55))),\"\")","v":""},{"$f":"IFERROR(INDEX('الإحصائية السنوية'!$D$6:$D$990,SMALL(IF('الإحصائية السنوية'!$P$6:$P$990>=3,ROW($C$12:$C$996)-ROW($C$12)+1),ROWS($C$3:C55))),\"\")","v":""},{"$f":"IFERROR(INDEX('الإحصائية السنوية'!$P$6:$P$990,SMALL(IF('الإحصائية السنوية'!$P$6:$P$990>=3,ROW($C$12:$C$996)-ROW($C$12)+1),ROWS($C$3:C55))),\"\")","v":""}]
[null,54,{"$f":"IFERROR(INDEX('الإحصائية السنوية'!$C$6:$C$990,SMALL(IF('الإحصائية السنوية'!$P$6:$P$990>=3,ROW($C$12:$C$996)-ROW($C$12)+1),ROWS($C$3:C56))),\"\")","v":""},{"$f":"IFERROR(INDEX('الإحصائية السنوية'!$E$6:$E$990,SMALL(IF('الإحصائية السنوية'!$P$6:$P$990>=3,ROW($C$12:$C$996)-ROW($C$12)+1),ROWS($C$3:C56))),\"\")","v":""},{"$f":"IFERROR(INDEX('الإحصائية السنوية'!$D$6:$D$990,SMALL(IF('الإحصائية السنوية'!$P$6:$P$990>=3,ROW($C$12:$C$996)-ROW($C$12)+1),ROWS($C$3:C56))),\"\")","v":""},{"$f":"IFERROR(INDEX('الإحصائية السنوية'!$P$6:$P$990,SMALL(IF('الإحصائية السنوية'!$P$6:$P$990>=3,ROW($C$12:$C$996)-ROW($C$12)+1),ROWS($C$3:C56))),\"\")","v":""}]
[null,55,{"$f":"IFERROR(INDEX('الإحصائية السنوية'!$C$6:$C$990,SMALL(IF('الإحصائية السنوية'!$P$6:$P$990>=3,ROW($C$12:$C$996)-ROW($C$12)+1),ROWS($C$3:C57))),\"\")","v":""},{"$f":"IFERROR(INDEX('الإحصائية السنوية'!$E$6:$E$990,SMALL(IF('الإحصائية السنوية'!$P$6:$P$990>=3,ROW($C$12:$C$996)-ROW($C$12)+1),ROWS($C$3:C57))),\"\")","v":""},{"$f":"IFERROR(INDEX('الإحصائية السنوية'!$D$6:$D$990,SMALL(IF('الإحصائية السنوية'!$P$6:$P$990>=3,ROW($C$12:$C$996)-ROW($C$12)+1),ROWS($C$3:C57))),\"\")","v":""},{"$f":"IFERROR(INDEX('الإحصائية السنوية'!$P$6:$P$990,SMALL(IF('الإحصائية السنوية'!$P$6:$P$990>=3,ROW($C$12:$C$996)-ROW($C$12)+1),ROWS($C$3:C57))),\"\")","v":""}]
[null,56,{"$f":"IFERROR(INDEX('الإحصائية السنوية'!$C$6:$C$990,SMALL(IF('الإحصائية السنوية'!$P$6:$P$990>=3,ROW($C$12:$C$996)-ROW($C$12)+1),ROWS($C$3:C58))),\"\")","v":""},{"$f":"IFERROR(INDEX('الإحصائية السنوية'!$E$6:$E$990,SMALL(IF('الإحصائية السنوية'!$P$6:$P$990>=3,ROW($C$12:$C$996)-ROW($C$12)+1),ROWS($C$3:C58))),\"\")","v":""},{"$f":"IFERROR(INDEX('الإحصائية السنوية'!$D$6:$D$990,SMALL(IF('الإحصائية السنوية'!$P$6:$P$990>=3,ROW($C$12:$C$996)-ROW($C$12)+1),ROWS($C$3:C58))),\"\")","v":""},{"$f":"IFERROR(INDEX('الإحصائية السنوية'!$P$6:$P$990,SMALL(IF('الإحصائية السنوية'!$P$6:$P$990>=3,ROW($C$12:$C$996)-ROW($C$12)+1),ROWS($C$3:C58))),\"\")","v":""}]
[null,57,{"$f":"IFERROR(INDEX('الإحصائية السنوية'!$C$6:$C$990,SMALL(IF('الإحصائية السنوية'!$P$6:$P$990>=3,ROW($C$12:$C$996)-ROW($C$12)+1),ROWS($C$3:C59))),\"\")","v":""},{"$f":"IFERROR(INDEX('الإحصائية السنوية'!$E$6:$E$990,SMALL(IF('الإحصائية السنوية'!$P$6:$P$990>=3,ROW($C$12:$C$996)-ROW($C$12)+1),ROWS($C$3:C59))),\"\")","v":""},{"$f":"IFERROR(INDEX('الإحصائية السنوية'!$D$6:$D$990,SMALL(IF('الإحصائية السنوية'!$P$6:$P$990>=3,ROW($C$12:$C$996)-ROW($C$12)+1),ROWS($C$3:C59))),\"\")","v":""},{"$f":"IFERROR(INDEX('الإحصائية السنوية'!$P$6:$P$990,SMALL(IF('الإحصائية السنوية'!$P$6:$P$990>=3,ROW($C$12:$C$996)-ROW($C$12)+1),ROWS($C$3:C59))),\"\")","v":""}]
[null,58,{"$f":"IFERROR(INDEX('الإحصائية السنوية'!$C$6:$C$990,SMALL(IF('الإحصائية السنوية'!$P$6:$P$990>=3,ROW($C$12:$C$996)-ROW($C$12)+1),ROWS($C$3:C60))),\"\")","v":""},{"$f":"IFERROR(INDEX('الإحصائية السنوية'!$E$6:$E$990,SMALL(IF('الإحصائية السنوية'!$P$6:$P$990>=3,ROW($C$12:$C$996)-ROW($C$12)+1),ROWS($C$3:C60))),\"\")","v":""},{"$f":"IFERROR(INDEX('الإحصائية السنوية'!$D$6:$D$990,SMALL(IF('الإحصائية السنوية'!$P$6:$P$990>=3,ROW($C$12:$C$996)-ROW($C$12)+1),ROWS($C$3:C60))),\"\")","v":""},{"$f":"IFERROR(INDEX('الإحصائية السنوية'!$P$6:$P$990,SMALL(IF('الإحصائية السنوية'!$P$6:$P$990>=3,ROW($C$12:$C$996)-ROW($C$12)+1),ROWS($C$3:C60))),\"\")","v":""}]
[null,59,{"$f":"IFERROR(INDEX('الإحصائية السنوية'!$C$6:$C$990,SMALL(IF('الإحصائية السنوية'!$P$6:$P$990>=3,ROW($C$12:$C$996)-ROW($C$12)+1),ROWS($C$3:C61))),\"\")","v":""},{"$f":"IFERROR(INDEX('الإحصائية السنوية'!$E$6:$E$990,SMALL(IF('الإحصائية السنوية'!$P$6:$P$990>=3,ROW($C$12:$C$996)-ROW($C$12)+1),ROWS($C$3:C61))),\"\")","v":""},{"$f":"IFERROR(INDEX('الإحصائية السنوية'!$D$6:$D$990,SMALL(IF('الإحصائية السنوية'!$P$6:$P$990>=3,ROW($C$12:$C$996)-ROW($C$12)+1),ROWS($C$3:C61))),\"\")","v":""},{"$f":"IFERROR(INDEX('الإحصائية السنوية'!$P$6:$P$990,SMALL(IF('الإحصائية السنوية'!$P$6:$P$990>=3,ROW($C$12:$C$996)-ROW($C$12)+1),ROWS($C$3:C61))),\"\")","v":""}]
[null,60,{"$f":"IFERROR(INDEX('الإحصائية السنوية'!$C$6:$C$990,SMALL(IF('الإحصائية السنوية'!$P$6:$P$990>=3,ROW($C$12:$C$996)-ROW($C$12)+1),ROWS($C$3:C62))),\"\")","v":""},{"$f":"IFERROR(INDEX('الإحصائية السنوية'!$E$6:$E$990,SMALL(IF('الإحصائية السنوية'!$P$6:$P$990>=3,ROW($C$12:$C$996)-ROW($C$12)+1),ROWS($C$3:C62))),\"\")","v":""},{"$f":"IFERROR(INDEX('الإحصائية السنوية'!$D$6:$D$990,SMALL(IF('الإحصائية السنوية'!$P$6:$P$990>=3,ROW($C$12:$C$996)-ROW($C$12)+1),ROWS($C$3:C62))),\"\")","v":""},{"$f":"IFERROR(INDEX('الإحصائية السنوية'!$P$6:$P$990,SMALL(IF('الإحصائية السنوية'!$P$6:$P$990>=3,ROW($C$12:$C$996)-ROW($C$12)+1),ROWS($C$3:C62))),\"\")","v":""}]
[null,61,{"$f":"IFERROR(INDEX('الإحصائية السنوية'!$C$6:$C$990,SMALL(IF('الإحصائية السنوية'!$P$6:$P$990>=3,ROW($C$12:$C$996)-ROW($C$12)+1),ROWS($C$3:C63))),\"\")","v":""},{"$f":"IFERROR(INDEX('الإحصائية السنوية'!$E$6:$E$990,SMALL(IF('الإحصائية السنوية'!$P$6:$P$990>=3,ROW($C$12:$C$996)-ROW($C$12)+1),ROWS($C$3:C63))),\"\")","v":""},{"$f":"IFERROR(INDEX('الإحصائية السنوية'!$D$6:$D$990,SMALL(IF('الإحصائية السنوية'!$P$6:$P$990>=3,ROW($C$12:$C$996)-ROW($C$12)+1),ROWS($C$3:C63))),\"\")","v":""},{"$f":"IFERROR(INDEX('الإحصائية السنوية'!$P$6:$P$990,SMALL(IF('الإحصائية السنوية'!$P$6:$P$990>=3,ROW($C$12:$C$996)-ROW($C$12)+1),ROWS($C$3:C63))),\"\")","v":""}]
[null,62,{"$f":"IFERROR(INDEX('الإحصائية السنوية'!$C$6:$C$990,SMALL(IF('الإحصائية السنوية'!$P$6:$P$990>=3,ROW($C$12:$C$996)-ROW($C$12)+1),ROWS($C$3:C64))),\"\")","v":""},{"$f":"IFERROR(INDEX('الإحصائية السنوية'!$E$6:$E$990,SMALL(IF('الإحصائية السنوية'!$P$6:$P$990>=3,ROW($C$12:$C$996)-ROW($C$12)+1),ROWS($C$3:C64))),\"\")","v":""},{"$f":"IFERROR(INDEX('الإحصائية السنوية'!$D$6:$D$990,SMALL(IF('الإحصائية السنوية'!$P$6:$P$990>=3,ROW($C$12:$C$996)-ROW($C$12)+1),ROWS($C$3:C64))),\"\")","v":""},{"$f":"IFERROR(INDEX('الإحصائية السنوية'!$P$6:$P$990,SMALL(IF('الإحصائية السنوية'!$P$6:$P$990>=3,ROW($C$12:$C$996)-ROW($C$12)+1),ROWS($C$3:C64))),\"\")","v":""}]
[null,63,{"$f":"IFERROR(INDEX('الإحصائية السنوية'!$C$6:$C$990,SMALL(IF('الإحصائية السنوية'!$P$6:$P$990>=3,ROW($C$12:$C$996)-ROW($C$12)+1),ROWS($C$3:C65))),\"\")","v":""},{"$f":"IFERROR(INDEX('الإحصائية السنوية'!$E$6:$E$990,SMALL(IF('الإحصائية السنوية'!$P$6:$P$990>=3,ROW($C$12:$C$996)-ROW($C$12)+1),ROWS($C$3:C65))),\"\")","v":""},{"$f":"IFERROR(INDEX('الإحصائية السنوية'!$D$6:$D$990,SMALL(IF('الإحصائية السنوية'!$P$6:$P$990>=3,ROW($C$12:$C$996)-ROW($C$12)+1),ROWS($C$3:C65))),\"\")","v":""},{"$f":"IFERROR(INDEX('الإحصائية السنوية'!$P$6:$P$990,SMALL(IF('الإحصائية السنوية'!$P$6:$P$990>=3,ROW($C$12:$C$996)-ROW($C$12)+1),ROWS($C$3:C65))),\"\")","v":""}]
[null,64,{"$f":"IFERROR(INDEX('الإحصائية السنوية'!$C$6:$C$990,SMALL(IF('الإحصائية السنوية'!$P$6:$P$990>=3,ROW($C$12:$C$996)-ROW($C$12)+1),ROWS($C$3:C66))),\"\")","v":""},{"$f":"IFERROR(INDEX('الإحصائية السنوية'!$E$6:$E$990,SMALL(IF('الإحصائية السنوية'!$P$6:$P$990>=3,ROW($C$12:$C$996)-ROW($C$12)+1),ROWS($C$3:C66))),\"\")","v":""},{"$f":"IFERROR(INDEX('الإحصائية السنوية'!$D$6:$D$990,SMALL(IF('الإحصائية السنوية'!$P$6:$P$990>=3,ROW($C$12:$C$996)-ROW($C$12)+1),ROWS($C$3:C66))),\"\")","v":""},{"$f":"IFERROR(INDEX('الإحصائية السنوية'!$P$6:$P$990,SMALL(IF('الإحصائية السنوية'!$P$6:$P$990>=3,ROW($C$12:$C$996)-ROW($C$12)+1),ROWS($C$3:C66))),\"\")","v":""}]
[null,65,{"$f":"IFERROR(INDEX('الإحصائية السنوية'!$C$6:$C$990,SMALL(IF('الإحصائية السنوية'!$P$6:$P$990>=3,ROW($C$12:$C$996)-ROW($C$12)+1),ROWS($C$3:C67))),\"\")","v":""},{"$f":"IFERROR(INDEX('الإحصائية السنوية'!$E$6:$E$990,SMALL(IF('الإحصائية السنوية'!$P$6:$P$990>=3,ROW($C$12:$C$996)-ROW($C$12)+1),ROWS($C$3:C67))),\"\")","v":""},{"$f":"IFERROR(INDEX('الإحصائية السنوية'!$D$6:$D$990,SMALL(IF('الإحصائية السنوية'!$P$6:$P$990>=3,ROW($C$12:$C$996)-ROW($C$12)+1),ROWS($C$3:C67))),\"\")","v":""},{"$f":"IFERROR(INDEX('الإحصائية السنوية'!$P$6:$P$990,SMALL(IF('الإحصائية السنوية'!$P$6:$P$990>=3,ROW($C$12:$C$996)-ROW($C$12)+1),ROWS($C$3:C67))),\"\")","v":""}]
[null,66,{"$f":"IFERROR(INDEX('الإحصائية السنوية'!$C$6:$C$990,SMALL(IF('الإحصائية السنوية'!$P$6:$P$990>=3,ROW($C$12:$C$996)-ROW($C$12)+1),ROWS($C$3:C68))),\"\")","v":""},{"$f":"IFERROR(INDEX('الإحصائية السنوية'!$E$6:$E$990,SMALL(IF('الإحصائية السنوية'!$P$6:$P$990>=3,ROW($C$12:$C$996)-ROW($C$12)+1),ROWS($C$3:C68))),\"\")","v":""},{"$f":"IFERROR(INDEX('الإحصائية السنوية'!$D$6:$D$990,SMALL(IF('الإحصائية السنوية'!$P$6:$P$990>=3,ROW($C$12:$C$996)-ROW($C$12)+1),ROWS($C$3:C68))),\"\")","v":""},{"$f":"IFERROR(INDEX('الإحصائية السنوية'!$P$6:$P$990,SMALL(IF('الإحصائية السنوية'!$P$6:$P$990>=3,ROW($C$12:$C$996)-ROW($C$12)+1),ROWS($C$3:C68))),\"\")","v":""}]
[null,67,{"$f":"IFERROR(INDEX('الإحصائية السنوية'!$C$6:$C$990,SMALL(IF('الإحصائية السنوية'!$P$6:$P$990>=3,ROW($C$12:$C$996)-ROW($C$12)+1),ROWS($C$3:C69))),\"\")","v":""},{"$f":"IFERROR(INDEX('الإحصائية السنوية'!$E$6:$E$990,SMALL(IF('الإحصائية السنوية'!$P$6:$P$990>=3,ROW($C$12:$C$996)-ROW($C$12)+1),ROWS($C$3:C69))),\"\")","v":""},{"$f":"IFERROR(INDEX('الإحصائية السنوية'!$D$6:$D$990,SMALL(IF('الإحصائية السنوية'!$P$6:$P$990>=3,ROW($C$12:$C$996)-ROW($C$12)+1),ROWS($C$3:C69))),\"\")","v":""},{"$f":"IFERROR(INDEX('الإحصائية السنوية'!$P$6:$P$990,SMALL(IF('الإحصائية السنوية'!$P$6:$P$990>=3,ROW($C$12:$C$996)-ROW($C$12)+1),ROWS($C$3:C69))),\"\")","v":""}]
[null,68,{"$f":"IFERROR(INDEX('الإحصائية السنوية'!$C$6:$C$990,SMALL(IF('الإحصائية السنوية'!$P$6:$P$990>=3,ROW($C$12:$C$996)-ROW($C$12)+1),ROWS($C$3:C70))),\"\")","v":""},{"$f":"IFERROR(INDEX('الإحصائية السنوية'!$E$6:$E$990,SMALL(IF('الإحصائية السنوية'!$P$6:$P$990>=3,ROW($C$12:$C$996)-ROW($C$12)+1),ROWS($C$3:C70))),\"\")","v":""},{"$f":"IFERROR(INDEX('الإحصائية السنوية'!$D$6:$D$990,SMALL(IF('الإحصائية السنوية'!$P$6:$P$990>=3,ROW($C$12:$C$996)-ROW($C$12)+1),ROWS($C$3:C70))),\"\")","v":""},{"$f":"IFERROR(INDEX('الإحصائية السنوية'!$P$6:$P$990,SMALL(IF('الإحصائية السنوية'!$P$6:$P$990>=3,ROW($C$12:$C$996)-ROW($C$12)+1),ROWS($C$3:C70))),\"\")","v":""}]
[null,69,{"$f":"IFERROR(INDEX('الإحصائية السنوية'!$C$6:$C$990,SMALL(IF('الإحصائية السنوية'!$P$6:$P$990>=3,ROW($C$12:$C$996)-ROW($C$12)+1),ROWS($C$3:C71))),\"\")","v":""},{"$f":"IFERROR(INDEX('الإحصائية السنوية'!$E$6:$E$990,SMALL(IF('الإحصائية السنوية'!$P$6:$P$990>=3,ROW($C$12:$C$996)-ROW($C$12)+1),ROWS($C$3:C71))),\"\")","v":""},{"$f":"IFERROR(INDEX('الإحصائية السنوية'!$D$6:$D$990,SMALL(IF('الإحصائية السنوية'!$P$6:$P$990>=3,ROW($C$12:$C$996)-ROW($C$12)+1),ROWS($C$3:C71))),\"\")","v":""},{"$f":"IFERROR(INDEX('الإحصائية السنوية'!$P$6:$P$990,SMALL(IF('الإحصائية السنوية'!$P$6:$P$990>=3,ROW($C$12:$C$996)-ROW($C$12)+1),ROWS($C$3:C71))),\"\")","v":""}]
[null,70,{"$f":"IFERROR(INDEX('الإحصائية السنوية'!$C$6:$C$990,SMALL(IF('الإحصائية السنوية'!$P$6:$P$990>=3,ROW($C$12:$C$996)-ROW($C$12)+1),ROWS($C$3:C72))),\"\")","v":""},{"$f":"IFERROR(INDEX('الإحصائية السنوية'!$E$6:$E$990,SMALL(IF('الإحصائية السنوية'!$P$6:$P$990>=3,ROW($C$12:$C$996)-ROW($C$12)+1),ROWS($C$3:C72))),\"\")","v":""},{"$f":"IFERROR(INDEX('الإحصائية السنوية'!$D$6:$D$990,SMALL(IF('الإحصائية السنوية'!$P$6:$P$990>=3,ROW($C$12:$C$996)-ROW($C$12)+1),ROWS($C$3:C72))),\"\")","v":""},{"$f":"IFERROR(INDEX('الإحصائية السنوية'!$P$6:$P$990,SMALL(IF('الإحصائية السنوية'!$P$6:$P$990>=3,ROW($C$12:$C$996)-ROW($C$12)+1),ROWS($C$3:C72))),\"\")","v":""}]
[null,71,{"$f":"IFERROR(INDEX('الإحصائية السنوية'!$C$6:$C$990,SMALL(IF('الإحصائية السنوية'!$P$6:$P$990>=3,ROW($C$12:$C$996)-ROW($C$12)+1),ROWS($C$3:C73))),\"\")","v":""},{"$f":"IFERROR(INDEX('الإحصائية السنوية'!$E$6:$E$990,SMALL(IF('الإحصائية السنوية'!$P$6:$P$990>=3,ROW($C$12:$C$996)-ROW($C$12)+1),ROWS($C$3:C73))),\"\")","v":""},{"$f":"IFERROR(INDEX('الإحصائية السنوية'!$D$6:$D$990,SMALL(IF('الإحصائية السنوية'!$P$6:$P$990>=3,ROW($C$12:$C$996)-ROW($C$12)+1),ROWS($C$3:C73))),\"\")","v":""},{"$f":"IFERROR(INDEX('الإحصائية السنوية'!$P$6:$P$990,SMALL(IF('الإحصائية السنوية'!$P$6:$P$990>=3,ROW($C$12:$C$996)-ROW($C$12)+1),ROWS($C$3:C73))),\"\")","v":""}]

{"sheet":"10-1","index":2,"n_rows":41,"n_cols":93,"rows_kept":41,"cut":false,"hidden":false,"merged":[[3,56,3,70],[5,68,5,70],[5,83,5,87],[5,88,5,92],[3,78,3,92],[5,73,5,77],[5,78,5,82],[4,71,4,92],[5,71,5,72],[38,1,40,1],[4,0,7,0],[4,1,7,1],[5,6,5,7],[4,2,5,4],[6,3,7,3],[6,4,7,4],[6,2,7,2],[23,0,29,4],[4,28,4,48],[3,35,3,48],[3,13,3,27],[5,28,5,32],[5,38,5,42],[5,33,5,37],[5,43,5,47],[5,13,5,17],[5,18,5,22],[5,23,5,27],[4,6,4,27],[5,8,5,12],[5,49,5,52],[5,63,5,67],[5,58,5,62],[5,53,5,57],[4,49,4,70]]}
["السنة",2021]
["الشهر","ديسمبر"]
[null,null,null,null,null,null,null,22,null,null,null,null,null,null,null,null,null,null,null,null,null,null,null,null,null,null,null,null,21,null,null,null,null,null,null,null,null,null,null,null,null,null,null,null,null,null,null,null,null,22,null,null,null,null,null,null,null,null,null,null,null,null,null,null,null,null,null,null,null,null,null,22]
[null,null,null,null,null,null,null,null,null,null,null,null,null,"10\\1",null,null,null,null,null,null,null,null,null,null,null,null,null,null,null,null,null,null,null,null,null,"10\\1",null,null,null,null,null,null,null,null,null,null,null,null,null,null,null,null,null,null,null,null,"10\\1",null,null,null,null,null,null,null,null,null,null,null,null,null,null,null,null,null,null,null,null,null,"10\\1"]
["م","اسم الطالب",null,null,null,"الشهر","سبتمبر",null,null,null,null,null,null,null,null,null,null,null,null,null,null,null,null,null,null,null,null,null,"أكتوبر",null,null,null,null,null,null,null,null,null,null,null,null,null,null,null,null,null,null,null,null,"نوفمبر",null,null,null,null,null,null,null,null,null,null,null,null,null,null,null,null,null,null,null,null,null,"ديسمبر"]
[null,null,null,null,null,"الأسبوع","الأسبوع الأول",null,"الأسبوع الثاني",null,null,null,null,"الأسبوع الثالث",null,null,null,null,"الأسبوع الرابع",null,null,null,null,"الأسبوع الخامس",null,null,null,null,"الأسبوع الأول",null,null,null,null,"الأسبوع الثاني",null,null,null,null,"الأسبوع الثالث",null,null,null,null,"الأسبوع الرابع",null,null,null,null,"الخامس","الأسبوع الأول",null,null,null,"الأسبوع الثاني",null,null,null,null,"الأسبوع الثالث",null,null,null,null,"الأسبوع الرابع",null,null,null,null,"الأسبوع الخامس",null,null,"الأول",null,"الأسبوع الثاني",null,null,null,null,"الأسبوع الثالث",null,null,null,null,"الأسبوع الرابع",null,null,null,null,"الأسبوع الخامس"]
[null,null,"أيام \nالحضور","بعذر","بدون \nعذر","اليوم",{"$f":"IF(G8=\"\",\"\",TEXT(G8,\"ddd\"))","v":"الأربعاء"},{"$f":"IF(H8=\"\",\"\",TEXT(H8,\"ddd\"))","v":"الخميس"},"الأحد","الإثنين","الثلاثاء","الأربعاء","الخميس","الأحد","الإثنين","الثلاثاء","الأربعاء","الخميس","الأحد","الإثنين","الثلاثاء","الأربعاء","الخميس","الأحد","الإثنين","الثلاثاء","الأربعاء","الإثنين","الأحد","الإثنين","الثلاثاء","الأربعاء","الخميس","الأحد","الإثنين","الثلاثاء","الأربعاء","الخميس","الأحد","الإثنين","الثلاثاء","الأربعاء","الخميس","الأحد","الإثنين","الثلاثاء","الأربعاء","الخميس","الأحد","الإثنين","الثلاثاء","الأربعاء","الخميس","الأحد","الإثنين","الثلاثاء","الأربعاء","الخميس","الأحد","الإثنين","الثلاثاء","الأربعاء","الخميس","الأحد","الإثنين","الثلاثاء","الأربعاء","الخميس",{"$f":"IF(BQ8=\"\",\"\",TEXT(BQ8,\"ddd\"))","v":"الأحد"},"الإثنين","الثلاثاء","الأربعاء","الخميس","الأحد","الإثنين","الثلاثاء","الأربعاء","الخميس","الأحد","الإثنين","الثلاثاء","الأربعاء","الخميس","الأحد","الإثنين","الثلاثاء","الأربعاء","الخميس","الأحد","الإثنين","الثلاثاء",{"$f":"IF(CN8=\"\",\"\",TEXT(CN8,\"ddd\"))","v":"الأربعاء"},{"$f":"IF(CO8=\"\",\"\",TEXT(CO8,\"ddd\"))","v":"الخميس"}]
[null,null,null,null,null,"التاريخ","2021-09-01","2021-09-02","2021-09-05","2021-09-06","2021-09-07","2021-09-08","2021-09-09","2021-09-12","2021-09-13","2021-09-14","2021-09-15","2021-09-16","2021-09-19","2021-09-20","2021-09-21","2021-09-22","2021-09-23","2021-09-26","2021-09-27","2021-09-28","2021-09-29",30,"2021-10-03","2021-10-04","2021-10-05","2021-10-06","2021-10-07","2021-10-10","2021-10-11","2021-10-12","2021-10-13","2021-10-14","2021-10-17","2021-10-18","2021-10-19","2021-10-20","2021-10-21","2021-10-24","2021-10-25","2021-10-26","2021-10-27","2021-10-28","2021-10-31","2021-11-01","2021-11-02","2021-11-03","2021-11-04","2021-11-07","2021-11-08","2021-11-09","2021-11-10","2021-11-11","2021-11-14","2021-11-15","2021-11-16","2021-11-17","2021-11-18","2021-11-21","2021-11-22","2021-11-23","2021-11-24","2021-11-25","2021-11-28","2021-11-29","2021-11-30","2021-12-01","2021-12-02","2021-12-05","2021-12-06","2021-12-07","2021-12-08","2021-12-09","2021-12-12","2021-12-13","2021-12-14","2021-12-15","2021-12-16","2021-12-19","2021-12-20","2021-12-21","2021-12-22","2021-12-23","2021-12-26","2021-12-27","2021-12-28","2021-12-29","2021-12-30"]
[1,"احمد ناصر احمد على المطوع",{"$f":"COUNTIF(G9:AB9,C$39)","v":0},{"$f":"COUNTIF(G9:AB9,C$41)","v":0},{"$f":"COUNTIF(G9:AB9,C$40)","v":0}]
[2,"اسلام محمود احمد خميس يوسف",0,0,0]
[3,"توفيق درغام توفيق بكليزي",0,0,0]
[4,"ثائر رائد تيسير محمود القيسى",0,0,0]
[5,"حسام الدين طارق مهدي عبيد",0,0,0]
[6,"حمد جاسم على محمد القايد",0,0,0]
[7,"حمد على راشد سالم المرى",0,0,0]
[8,"خالد عماد حمدى موسى الزرد",0,0,0]
[9,"خالد كرم صلاح الهوارى",0,0,0]
[10,"خالد محمد ناصر البكرى اليافعى",0,0,0]
[11,"سعيد حمد محمد على بن نوره",0,0,0]
[12,"عبدالرحمن سالم محمد ابوعرقوه المرى",0,0,0]
[13,"عبدالرحمن محمد علي احمد",0,0,0]
[14,"عبدالهادي اركان حسين المشهدانى",0,0,0]
[15,"على محمد على احمد طليب",0,0,0]
["احصائيات يومية",null,null,null,null,"المجموع",{"$f":"SUM(G25:G27)","v":0},{"$f":"SUM(H25:H27)","v":0},0,0,0,0,0,0,0,0,0,0,0,0,0,0,0,0,0,0,0,0,{"$f":"SUM(AC25:AC27)","v":0},{"$f":"SUM(AD25:AD27)","v":0},0,0,0,0,0,0,0,0,0,0,0,0,0,0,0,0,0,0,0,{"$f":"SUM(AX25:AX27)","v":0},0,0,0,0,0,0,0,0,0,0,0,0,0,0,0,0,0,0,0,{"$f":"SUM(BR25:BR27)","v":0},{"$f":"SUM(BS25:BS27)","v":0},0,0,0,0,0,0,0,0,0,0,0,0,0,0,0,0,0,0,0,0,{"$f":"SUM(CN25:CN27)","v":0},0]
[null,null,null,null,null,"الحضور",{"$f":"COUNTIF(G9:G23,\"حاضر\")","v":0},{"$f":"COUNTIF(H9:H23,\"حاضر\")","v":0},0,0,0,0,0,0,0,0,0,0,0,0,0,0,0,0,0,0,0,0,{"$f":"COUNTIF(AC9:AC23,\"حاضر\")","v":0},0,0,0,0,0,0,0,0,0,0,0,0,0,0,0,0,0,0,0,0,{"$f":"COUNTIF(AX9:AX23,\"حاضر\")","v":0},0,0,0,0,0,0,0,0,0,0,0,0,0,0,0,0,0,0,0,{"$f":"COUNTIF(BR9:BR23,\"حاضر\")","v":0},{"$f":"COUNTIF(BS9:BS23,\"حاضر\")","v":0},0,0,0,0,0,0,0,0,0,0,0,0,0,0,0,0,0,0,0,0,{"$f":"COUNTIF(CN9:CN23,\"حاضر\")","v":0},0]
[null,null,null,null,null,"الغياب ",{"$f":"COUNTIF(G9:G23,\"غائب\")","v":0},{"$f":"COUNTIF(H9:H23,\"غائب\")","v":0},0,0,0,0,0,0,0,0,0,0,0,0,0,0,0,0,0,0,0,0,{"$f":"COUNTIF(AC9:AC23,\"غائب\")","v":0},{"$f":"COUNTIF(AD9:AD23,\"غائب\")","v":0},0,0,0,0,0,0,0,0,0,0,0,0,0,0,0,0,0,0,0,{"$f":"COUNTIF(AX9:AX23,\"غائب\")","v":0},0,0,0,0,0,0,0,0,0,0,0,0,0,0,0,0,0,0,0,{"$f":"COUNTIF(BR9:BR23,\"غائب\")","v":0},{"$f":"COUNTIF(BS9:BS23,\"غائب\")","v":0},0,0,0,0,0,0,0,0,0,0,0,0,0,0,0,0,0,0,0,0,{"$f":"COUNTIF(CN9:CN23,\"غائب\")","v":0},0]
[null,null,null,null,null,"غ بعذر",{"$f":"COUNTIF(G9:G23,\"غ بعذر\")","v":0},{"$f":"COUNTIF(H9:H23,\"غ بعذر\")","v":0},0,0,0,0,0,0,0,0,0,0,0,0,0,0,0,0,0,0,0,0,{"$f":"COUNTIF(AC9:AC23,\"غ بعذر\")","v":0},{"$f":"COUNTIF(AD9:AD23,\"غ بعذر\")","v":0},0,0,0,0,0,0,0,0,0,0,0,0,0,0,0,0,0,0,0,{"$f":"COUNTIF(AX9:AX23,\"غ بعذر\")","v":0},0,0,0,0,0,0,0,0,0,0,0,0,0,0,0,0,0,0,0,{"$f":"COUNTIF(BR9:BR23,\"غ بعذر\")","v":0},{"$f":"COUNTIF(BS9:BS23,\"غ بعذر\")","v":0},0,0,0,0,0,0,0,0,0,0,0,0,0,0,0,0,0,0,0,0,{"$f":"COUNTIF(CN9:CN23,\"غ بعذر\")","v":0},0]
[null,null,null,null,null,"نسبة الحضور",{"$f":"IFERROR(G25/G24,0)","v":0},0,0,0,0,0,0,0,0,0,0,0,0,0,0,0,0,0,0,0,0,0,{"$f":"IFERROR(AC25/AC24,0)","v":0},0,0,0,0,0,0,0,0,0,0,0,0,0,0,0,0,0,0,0,0,0,0,0,0,0,0,0,0,0,0,0,0,0,0,0,0,0,0,0,0,0,0,0,0,0,0,0,0,0,0,0,0,0,0,0,0,0,0,0,0,0,0,0,{"$f":"IFERROR(CO25/CO24,0)","v":0}]
[null,null,null,null,null,"نسبة الغياب",{"$f":"IFERROR(G26/G24,0)","v":0},{"$f":"IFERROR(H26/H24,0)","v":0},0,0,0,0,0,0,0,0,0,0,0,0,0,0,0,0,0,0,0,0,{"$f":"IFERROR(AC26/AC24,0)","v":0},0,0,0,0,0,0,0,0,0,0,0,0,0,0,0,0,0,0,0,0,0,0,0,0,0,0,0,0,0,0,0,0,0,0,0,0,0,0,0,0,0,0,0,0,0,0,0,0,0,0,0,0,0,0,0,0,0,0,0,0,0,0,0,{"$f":"IFERROR(CO26/CO24,0)","v":0}]
[null,null,null,null,null,"المعذورين",{"$f":"IFERROR(G27/G24,0)","v":0},{"$f":"IFERROR(H27/H24,0)","v":0},0,0,0,0,0,0,0,0,0,0,0,0,0,0,0,0,0,0,0,0,{"$f":"IFERROR(AC27/AC24,0)","v":0},0,0,0,0,0,0,0,0,0,0,0,0,0,0,0,0,0,0,0,0,0,0,0,0,0,0,0,0,0,0,0,0,0,0,0,0,0,0,0,0,0,0,0,0,0,0,0,0,0,0,0,0,0,0,0,0,0,0,0,0,0,0,0,{"$f":"IFERROR(CO27/CO24,0)","v":0}]
[]
[]
[]
[]
[]
[]
[]
[]
[null,"القائمة","حاضر"]
[null,null,"غائب"]
[null,null,"غ بعذر"]

{"sheet":"الإحصائية الشهرية","index":3,"n_rows":30,"n_cols":25,"rows_kept":30,"cut":false,"hidden":false,"merged":[[23,3,23,24],[26,1,28,1],[29,1,29,2],[9,3,9,23],[19,1,21,1],[22,1,22,2],[23,1,25,1],[23,2,25,2],[15,1,15,2],[16,1,18,1],[16,2,18,2],[16,3,16,24],[9,1,11,1],[9,2,11,2],[12,1,14,1],[8,1,8,2],[1,10,1,16],[2,1,4,1],[2,2,4,2],[2,3,2,24],[5,1,7,1]]}
[]
[null,null,null,null,null,null,null,null,null,null,"إحصائية الغياب الشهرية"]
[null,null,null,"سبتمبر"]
[null,null,null,{"$f":"IF(D5=\"\",\"\",TEXT(D5,\"ddd\"))","v":"الأربعاء"},{"$f":"IF(E5=\"\",\"\",TEXT(E5,\"ddd\"))","v":"الخميس"},"الأحد","الإثنين","الثلاثاء","الأربعاء","الخميس","الأحد","الإثنين","الثلاثاء","الأربعاء","الخميس","الأحد","الإثنين","الثلاثاء","الأربعاء","الخميس","الأحد","الإثنين","الثلاثاء","الأربعاء","الخميس"]
[null,null,null,"2021-09-01","2021-09-02","2021-09-05","2021-09-06","2021-09-07","2021-09-08","2021-09-09","2021-09-12","2021-09-13","2021-09-14","2021-09-15","2021-09-16","2021-09-19","2021-09-20","2021-09-21","2021-09-22","2021-09-23","2021-09-26","2021-09-27","2021-09-28","2021-09-29","2021-09-30"]
[null,"العاشر","الحضور"]
[null,null,"الغياب "]
[null,null,"غ بعذر"]
[null,"المجموع للعاشر",null,{"$f":"SUM(D6:D8)","v":0},{"$f":"SUM(E6:E8)","v":0},0,0,0,0,0,0,0,0,0,0,0,0,0,0,0,0,0,0,0,0]
[null,null,null,"أكتوبر"]
[null,null,null,{"$f":"IF(D12=\"\",\"\",TEXT(D12,\"ddd\"))","v":"الأحد"},"الإثنين","الثلاثاء","الأربعاء","الخميس","الأحد","الإثنين","الثلاثاء","الأربعاء","الخميس","الأحد","الإثنين","الثلاثاء","الأربعاء","الخميس","الأحد","الإثنين","الثلاثاء","الأربعاء","الخميس","الأحد"]
[null,null,null,"2021-10-03","2021-10-04","2021-10-05","2021-10-06","2021-10-07","2021-10-10","2021-10-11","2021-10-12","2021-10-13","2021-10-14","2021-10-17","2021-10-18","2021-10-19","2021-10-20","2021-10-21","2021-10-24","2021-10-25","2021-10-26","2021-10-27","2021-10-28","2021-10-31"]
[null,"العاشر","الحضور"]
[null,null,"الغياب "]
[null,null,"غ بعذر"]
[null,"المجموع للعاشر",null,{"$f":"SUM(D13:D15)","v":0},{"$f":"SUM(E13:E15)","v":0},{"$f":"SUM(F13:F15)","v":0},{"$f":"SUM(G13:G15)","v":0},{"$f":"SUM(H13:H15)","v":0},{"$f":"SUM(I13:I15)","v":0},0,0,0,0,0,0,0,0,0,0,0,0,0,0,0]
[null,null,null,"نوفمبر"]
[null,null,null,"الإثنين","الثلاثاء","الأربعاء","الخميس","الأحد","الإثنين","الثلاثاء","الأربعاء","الخميس","الأحد","الإثنين","الثلاثاء","الأربعاء","الخميس","الأحد","الإثنين","الثلاثاء","الأربعاء","الخميس","الأحد","الإثنين","الثلاثاء"]
[null,null,null,"2021-11-01","2021-11-02","2021-11-03","2021-11-04","2021-11-07","2021-11-08","2021-11-09","2021-11-10","2021-11-11","2021-11-14","2021-11-15","2021-11-16","2021-11-17","2021-11-18","2021-11-21","2021-11-22","2021-11-23","2021-11-24","2021-11-25","2021-11-28","2021-11-29","2021-11-30"]
[null,"العاشر","الحضور"]
[null,null,"الغياب "]
[null,null,"غ بعذر"]
[null,"المجموع للعاشر",null,{"$f":"SUM(D20:D22)","v":0},{"$f":"SUM(E20:E22)","v":0},0,0,0,0,0,0,0,0,0,0,0,0,0,0,0,0,0,0,0,0]
[null,null,null,"ديسمبر"]
[null,null,null,"الأربعاء","الخميس","الأحد","الإثنين","الثلاثاء","الأربعاء","الخميس","الأحد","الإثنين","الثلاثاء","الأربعاء","الخميس","الأحد","الإثنين","الثلاثاء","الأربعاء","الخميس","الأحد","الإثنين","الثلاثاء","الأربعاء","الخميس"]
[null,null,null,"2021-12-01","2021-12-02","2021-12-05","2021-12-06","2021-12-07","2021-12-08","2021-12-09","2021-12-12","2021-12-13","2021-12-14","2021-12-15","2021-12-16","2021-12-19","2021-12-20","2021-12-21","2021-12-22","2021-12-23","2021-12-26","2021-12-27","2021-12-28","2021-12-29","2021-12-30"]
[null,"العاشر","الحضور"]
[null,null,"الغياب "]
[null,null,"غ بعذر"]
[null,"المجموع للعاشر",null,{"$f":"D27+D28+D29","v":0},{"$f":"E27+E28+E29","v":0},0,0,0,0,0,0,0,0,0,0,0,0,0,0,0,0,0,0,0,0]

{"sheet":"الإحصائية السنوية","index":4,"n_rows":175,"n_cols":19,"rows_kept":175,"cut":false,"hidden":false,"merged":[[1,4,1,12],[2,16,2,17],[3,1,4,1],[3,2,4,2],[3,4,4,4],[3,5,4,5],[3,6,4,6],[3,7,4,7],[3,8,4,8],[3,15,4,15],[3,16,4,16],[3,17,4,17],[3,3,4,3],[3,18,4,18],[3,9,4,9],[3,10,4,10],[3,11,4,11],[3,12,4,12],[3,13,4,13],[3,14,4,14]]}
[]
[null,null,null,null,"الإحصائية السنوية"]
[null,null,null,null,null,null,null,null,null,null,null,null,null,null,null,null,"عدد أيام الدوام السنوي",null,{"$f":"SUMIF('10-1'!G3:BT3,\">0\",'10-1'!G3:BT3)","v":87}]
[null,"الرقم","اسم الطالب","رقم ولي الأمر","الشهر\nالصف",9,10,11,12,1,2,3,4,5,6,"مجموع أيام\nالغياب","مجموع أيام \nالحضور","نسبة\nالحضور","نسبة\nالغياب"]
[]
[null,1,"احمد ناصر احمد على المطوع",33334546,"10\\1",{"$f":"COUNTIFS('10-1'!$G9:$AB9,\"غائب\")","v":0},null,null,null,null,null,null,null,null,null,{"$f":"IF($C6=\"\",\"\",IF(SUM($F6:$O6)=0,0,SUM($F6:$O6)))","v":0},{"$f":"IF($C6=\"\",\"\",$S$3-$P6)","v":87},{"$f":"IF($C6=\"\",\"\",($Q6/$S$3)*100)","v":100},{"$f":"IF($C6=\"\",\"\",($P6/$S$3)*100)","v":0}]
[null,2,"اسلام محمود احمد خميس يوسف",5465454,"10\\1",{"$f":"COUNTIFS('10-1'!$G10:$AB10,\"غائب\")","v":0},null,null,null,null,null,null,null,null,null,0,87,100,0]
[null,3,"توفيق درغام توفيق بكليزي",5467687989,"10\\1",{"$f":"COUNTIFS('10-1'!$G11:$AB11,\"غائب\")","v":0},null,null,null,null,null,null,null,null,null,0,87,100,0]
[null,4,"ثائر رائد تيسير محمود القيسى",3333667,"10\\1",{"$f":"COUNTIFS('10-1'!$G12:$AB12,\"غائب\")","v":0},null,null,null,null,null,null,null,null,null,0,87,100,0]
[null,5,"حسام الدين طارق مهدي عبيد",555777,"10\\1",{"$f":"COUNTIFS('10-1'!$G13:$AB13,\"غائب\")","v":0},null,null,null,null,null,null,null,null,null,0,87,100,0]
[null,6,"حمد جاسم على محمد القايد",565656888,"10\\1",{"$f":"COUNTIFS('10-1'!$G14:$AB14,\"غائب\")","v":0},null,null,null,null,null,null,null,null,null,0,87,100,0]
[null,7,"حمد على راشد سالم المرى",7878798,"10\\1",{"$f":"COUNTIFS('10-1'!$G15:$AB15,\"غائب\")","v":0},null,null,null,null,null,null,null,null,null,0,87,100,0]
[null,8,"خالد عماد حمدى موسى الزرد",65543233,"10\\1",{"$f":"COUNTIFS('10-1'!$G16:$AB16,\"غائب\")","v":0},null,null,null,null,null,null,null,null,null,0,87,100,0]
[null,9,"خالد كرم صلاح الهوارى",343465,"10\\1",{"$f":"COUNTIFS('10-1'!$G17:$AB17,\"غائب\")","v":0},null,null,null,null,null,null,null,null,null,0,87,100,0]
[null,10,"خالد محمد ناصر البكرى اليافعى",76867566,"10\\1",{"$f":"COUNTIFS('10-1'!$G18:$AB18,\"غائب\")","v":0},null,null,null,null,null,null,null,null,null,0,87,100,0]
[null,11,"سعيد حمد محمد على بن نوره",767645656,"10\\1",{"$f":"COUNTIFS('10-1'!$G19:$AB19,\"غائب\")","v":0},null,null,null,null,null,null,null,null,null,0,87,100,0]
[null,12,"عبدالرحمن سالم محمد ابوعرقوه المرى",4564546456,"10\\1",{"$f":"COUNTIFS('10-1'!$G20:$AB20,\"غائب\")","v":0},null,null,null,null,null,null,null,null,null,0,87,100,0]
[null,13,"عبدالرحمن محمد علي احمد",45645645,"10\\1",{"$f":"COUNTIFS('10-1'!$G21:$AB21,\"غائب\")","v":0},null,null,null,null,null,null,null,null,null,0,87,100,0]
[null,14,"عبدالهادي اركان حسين المشهدانى",64564564564,"10\\1",{"$f":"COUNTIFS('10-1'!$G22:$AB22,\"غائب\")","v":0},null,null,null,null,null,null,null,null,null,0,87,100,0]
[null,15,"على محمد على احمد طليب",56575757,"10\\1",{"$f":"COUNTIFS('10-1'!$G23:$AB23,\"غائب\")","v":0},null,null,null,null,null,null,null,null,null,0,87,100,0]
[null,16,"عمر عبدالناصر احمد جبريل ابوحصيره",null,"10\\2",null,null,null,null,null,null,null,null,null,null,0,87,100,0]
[null,17,"غسان محمد عبدالله كليب",null,"10\\2",null,null,null,null,null,null,null,null,null,null,0,87,100,0]
[null,18,"ماهر عبدالله صالح صالح الوجيه",null,"10\\2",null,null,null,null,null,null,null,null,null,null,0,87,100,0]
[null,19,"محمد خالد سلمى",null,"10\\2",null,null,null,null,null,null,null,null,null,null,0,87,100,0]
[null,20,"محمد خليفه محمد احمد الحمادى",null,"10\\2",null,null,null,null,null,null,null,null,null,null,0,87,100,0]
[null,21,"عبدالرحمن مصطفي عزمي محمد",null,"10\\2",null,null,null,null,null,null,null,null,null,null,0,87,100,0]
[null,22,"انس إبراهيم اسعد إبراهيم",null,"10\\2",null,null,null,null,null,null,null,null,null,null,0,87,100,0]
[null,23,"محمد محمد عبدالودود محمد عبدالحى",null,"10\\2",null,null,null,null,null,null,null,null,null,null,0,87,100,0]
[null,24,"نورالدين محمود سامي احمد جبارة ",null,"10\\2",null,null,null,null,null,null,null,null,null,null,0,87,100,0]
[null,25," محمد جميل احمد طه امام",null,"10\\2",null,null,null,null,null,null,null,null,null,null,0,87,100,0]
[null,26,"احمد حسام احمد عبدالعزيز الحبشى",null,"10\\2",null,null,null,null,null,null,null,null,null,null,0,87,100,0]
[null,27,"احمد عبدالقوى حسين عبداللة اليهري",null,"10\\2",null,null,null,null,null,null,null,null,null,null,0,87,100,0]
[null,28,"ادريس فايز محمد سليم عليان",null,"10\\2",null,null,null,null,null,null,null,null,null,null,0,87,100,0]
[null,29,"اسامة عبده ناصر مثنى احمد",null,"10\\2",null,null,null,null,null,null,null,null,null,null,0,87,100,0]
[null,30,"اسر عمر غازي احمد",null,"10\\2",null,null,null,null,null,null,null,null,null,null,0,87,100,0]
[null,31,"راشد مبارك سالم بطى الكعبى",null,"10\\3",null,null,null,null,null,null,null,null,null,null,0,87,100,0]
[null,32,"زياد رجب محمد الاشرم",null,"10\\3",null,null,null,null,null,null,null,null,null,null,0,87,100,0]
[null,33,"سعد محمد فرج سعيد الخوار",null,"10\\3",null,null,null,null,null,null,null,null,null,null,{"$f":"IF($C38=\"\",\"\",IF(SUM($F38:$O38)=0,0,SUM($F38:$O38)))","v":0},87,{"$f":"IF($C38=\"\",\"\",($Q38/$S$3)*100)","v":100},{"$f":"IF($C38=\"\",\"\",($P38/$S$3)*100)","v":0}]
[null,34,"عاصم السيد حسن السيد رمضان",null,"10\\3",null,null,null,null,null,null,null,null,null,null,0,{"$f":"IF($C39=\"\",\"\",$S$3-$P39)","v":87},100,0]
[null,35,"عبدالرحمن احمد طه  ابوشهبه",null,"10\\3",null,null,null,null,null,null,null,null,null,null,0,87,100,0]
[null,36,"عبدالسلام محمد سالم صالح",null,"10\\3",null,null,null,null,null,null,null,null,null,null,0,87,100,0]
[null,37,"عبدالله ناجى مسعد احمد الطيرى",null,"10\\3",null,null,null,null,null,null,null,null,null,null,0,87,100,0]
[null,38,"علاءالدين عماد محمد الشعيبات",null,"10\\3",null,null,null,null,null,null,null,null,null,null,0,87,100,0]
[null,39,"عمر احمد سامى الغمرى",null,"10\\3",null,null,null,null,null,null,null,null,null,null,0,87,100,0]
[null,40,"عمر جودت اي محفوظ",null,"10\\3",null,null,null,null,null,null,null,null,null,null,0,87,100,0]
[null,41,"عمر محمد رضا كرار سليمان",null,"10\\3",null,null,null,null,null,null,null,null,null,null,0,87,100,0]
[null,42,"فؤاد محمد فؤاد احمد حجازي",null,"10\\3",null,null,null,null,null,null,null,null,null,null,0,87,100,0]
[null,43,"مجد عبدالمنعم ظاهر",null,"10\\3",null,null,null,null,null,null,null,null,null,null,0,87,100,0]
[null,44,"مجد محمد برهان طباع",null,"10\\3",null,null,null,null,null,null,null,null,null,null,0,87,100,0]
[null,45,"محمد ايهاب محمد الصعيدي",null,"10\\3",null,null,null,null,null,null,null,null,null,null,0,87,100,0]
[null,46,"محمد عبدالقادر بن محمد فالحى",null,"10\\4",null,null,null,null,null,null,null,null,null,null,0,87,100,0]
[null,47,"محمد محروس ابوالوفا احمد",null,"10\\4",null,null,null,null,null,null,null,null,null,null,0,87,100,0]
[null,48,"محمد محمد جاياز امان جول",null,"10\\4",null,null,null,null,null,null,null,null,null,null,0,87,100,0]
[null,49,"مصطفى احمد فاروق امين",null,"10\\4",null,null,null,null,null,null,null,null,null,null,0,87,100,0]
[null,50,"منير ربيع زغل",null,"10\\4",null,null,null,null,null,null,null,null,null,null,0,87,100,0]
[null,51,"نايف على راشد محمد انديله",null,"10\\4",null,null,null,null,null,null,null,null,null,null,0,87,100,0]
[null,52,"خالد خميس محبوب الدوسري",null,"10\\4",null,null,null,null,null,null,null,null,null,null,0,87,100,0]
[null,53,"يزيد محمد احمد الزغول",null,"10\\4",null,null,null,null,null,null,null,null,null,null,0,87,100,0]
[null,54,"عبدالرحمن صفوت عبدالغفار محمد الخواجه",null,"10\\4",null,null,null,null,null,null,null,null,null,null,0,87,100,0]
[null,55,"ابراهيم ابوبكر محمد",null,"10\\4",null,null,null,null,null,null,null,null,null,null,0,87,100,0]
[null,56,"احمد ابراهيم عواد ابراهيم احمد",null,"10\\4",null,null,null,null,null,null,null,null,null,null,0,87,100,0]
[null,57,"احمد عاصم عبدالسلام محمد الانصارى",null,"10\\4",null,null,null,null,null,null,null,null,null,null,0,87,100,0]
[null,58,"أحمد عبدالمعين على احمد القحطانى",null,"10\\4",null,null,null,null,null,null,null,null,null,null,0,87,100,0]
[null,59,"احمد عمار سليمان ملكاوي",null,"10\\4",null,null,null,null,null,null,null,null,null,null,0,87,100,0]
[null,60,"احمد وحيد احمد محمد العزبى",null,"10\\4",null,null,null,null,null,null,null,null,null,null,0,87,100,0]
[null,61,"القسام اشرف السيد محمد",null,"10\\5",null,null,null,null,null,null,null,null,null,null,0,87,100,0]
[null,62,"الوليد فادى روبين راشد العلمى",null,"10\\5",null,null,null,null,null,null,null,null,null,null,0,87,100,0]
[null,63,"أمير ابوالفتوح عبدالظاهر عمر",null,"10\\5",null,null,null,null,null,null,null,null,null,null,0,87,100,0]
[null,64,"صالح حمد شيخ صالح بايزيد",null,"10\\5",null,null,null,null,null,null,null,null,null,null,0,87,100,0]
[null,65,"عبدالرحمن احمد سيد احمد ابوجديرى",null,"10\\5",null,null,null,null,null,null,null,null,null,null,{"$f":"IF($C70=\"\",\"\",IF(SUM($F70:$O70)=0,0,SUM($F70:$O70)))","v":0},87,{"$f":"IF($C70=\"\",\"\",($Q70/$S$3)*100)","v":100},{"$f":"IF($C70=\"\",\"\",($P70/$S$3)*100)","v":0}]
[null,66,"عبدالعزيز محمد غالب باخلف",null,"10\\5",null,null,null,null,null,null,null,null,null,null,0,{"$f":"IF($C71=\"\",\"\",$S$3-$P71)","v":87},100,0]
[null,67,"عبدالله ايهاب عبدالله الكناني",null,"10\\5",null,null,null,null,null,null,null,null,null,null,0,87,100,0]
[null,68,"عبدالله على عبدالله ال احمد ال ثانى",null,"10\\5",null,null,null,null,null,null,null,null,null,null,0,87,100,0]
[null,69,"على حزام على محمد النديله",null,"10\\5",null,null,null,null,null,null,null,null,null,null,0,87,100,0]
[null,70,"على طارق محسن صادق عبدالرحمن",null,"10\\5",null,null,null,null,null,null,null,null,null,null,0,87,100,0]
[null,71,"على عامر مطيع مهمل سمحه",null,"10\\5",null,null,null,null,null,null,null,null,null,null,0,87,100,0]
[null,72,"على عبدالله جابر طالب حنزاب",null,"10\\5",null,null,null,null,null,null,null,null,null,null,0,87,100,0]
[null,73,"محمد جاسم محمد طارق",null,"10\\5",null,null,null,null,null,null,null,null,null,null,0,87,100,0]
[null,74,"محمد حاتم محمد البدري ابراهيم",null,"10\\5",null,null,null,null,null,null,null,null,null,null,0,87,100,0]
[null,75,"محمد خلفان خليفه المسقري",null,"10\\5",null,null,null,null,null,null,null,null,null,null,0,87,100,0]
[null,76,"محمد رزق عبده احمد رمضان",null,null,null,null,null,null,null,null,null,null,null,null,0,87,100,0]
[null,77,"محمد ضياء قاسم ال حسين",null,null,null,null,null,null,null,null,null,null,null,null,0,87,100,0]
[null,78,"ملهم مازن الموسى",null,null,null,null,null,null,null,null,null,null,null,null,0,87,100,0]
[null,79,"ياسر السيد حسن السيد الديب",null,null,null,null,null,null,null,null,null,null,null,null,0,87,100,0]
[null,80,"يوسف سامى سليمان محمد ادريس",null,null,null,null,null,null,null,null,null,null,null,null,0,87,100,0]
[null,81,"يوسف نايف عبدالله محمد نايف",null,null,null,null,null,null,null,null,null,null,null,null,0,87,100,0]
[null,82,"الهاشمي الحسين الهاشمي محي الدين ",null,null,null,null,null,null,null,null,null,null,null,null,0,87,100,0]
[null,83,"ابراهيم محسن قاسم العقري",null,null,null,null,null,null,null,null,null,null,null,null,0,87,100,0]
[null,84,"احمد عبدالعزيز عبدالله عبدالرحمن الدرهم",null,null,null,null,null,null,null,null,null,null,null,null,0,87,100,0]
[null,85,"احمد على مانع حمد الدوسرى",null,null,null,null,null,null,null,null,null,null,null,null,0,87,100,0]
[null,86,"اسامه خالد عماديان",null,null,null,null,null,null,null,null,null,null,null,null,0,87,100,0]
[null,87,"بندر عبدالرحمن علي بوسيول ال سرور",null,null,null,null,null,null,null,null,null,null,null,null,0,87,100,0]
[null,88,"تميم ماهر صبحى محمود الانقر",null,null,null,null,null,null,null,null,null,null,null,null,0,87,100,0]
[null,89,"حسن اكرم حسن عبدالله الحمايده",null,null,null,null,null,null,null,null,null,null,null,null,0,87,100,0]
[null,90,"خالد عبدالله محمد ال نشيره المرى",null,null,null,null,null,null,null,null,null,null,null,null,0,87,100,0]
[null,91,"راشد على راشد الحسناء المرى",null,null,null,null,null,null,null,null,null,null,null,null,0,87,100,0]
[null,92,"سعيد عبدالرحمن سعيد الخفير القرنى",null,null,null,null,null,null,null,null,null,null,null,null,0,87,100,0]
[null,93,"سلطان عيسى سلطان عيسى السليطى",null,null,null,null,null,null,null,null,null,null,null,null,0,87,100,0]
[null,94,"سلطان محمد راشد ال رشدان الفهيدى",null,null,null,null,null,null,null,null,null,null,null,null,0,87,100,0]
[null,95,"عامر اسعد الحاج الخلف",null,null,null,null,null,null,null,null,null,null,null,null,0,87,100,0]
[null,96,"عبدالرحمن على حسن سالم الخلف",null,null,null,null,null,null,null,null,null,null,null,null,0,87,100,0]
[null,97,"عبدالله بخيت حمد راشد المنخس",null,null,null,null,null,null,null,null,null,null,null,null,{"$f":"IF($C102=\"\",\"\",IF(SUM($F102:$O102)=0,0,SUM($F102:$O102)))","v":0},87,{"$f":"IF($C102=\"\",\"\",($Q102/$S$3)*100)","v":100},{"$f":"IF($C102=\"\",\"\",($P102/$S$3)*100)","v":0}]
[null,98,"عبدالله عبدالعزيز عبدالله على الهيدوس",null,null,null,null,null,null,null,null,null,null,null,null,0,{"$f":"IF($C103=\"\",\"\",$S$3-$P103)","v":87},100,0]
[null,99,"عبدالله عبدالمجيد جمعه اربابي",null,null,null,null,null,null,null,null,null,null,null,null,0,87,100,0]
[null,100,"عبدالهادى سالم صالح المشروم المرى",null,null,null,null,null,null,null,null,null,null,null,null,0,87,100,0]
[null,101,"على محمد على محمد انديله",null,null,null,null,null,null,null,null,null,null,null,null,0,87,100,0]
[null,102,"علي اشرف على حسن سعدالدين",null,null,null,null,null,null,null,null,null,null,null,null,0,87,100,0]
[null,103,"عمر خالد ابراهيم محمد العمادى",null,null,null,null,null,null,null,null,null,null,null,null,0,87,100,0]
[null,104,"عمر محمد عمر السعدي",null,null,null,null,null,null,null,null,null,null,null,null,0,87,100,0]
[null,105,"عمرو مبارك طة محمد علي",null,null,null,null,null,null,null,null,null,null,null,null,0,87,100,0]
[null,106,"غانم على ناصر ال سلمان القحطانى",null,null,null,null,null,null,null,null,null,null,null,null,0,87,100,0]
[null,107,"فلاح نادر عباس",null,null,null,null,null,null,null,null,null,null,null,null,0,87,100,0]
[null,108,"محمد عيسى محمد الحسن السليطى",null,null,null,null,null,null,null,null,null,null,null,null,0,87,100,0]
[null,109,"محمد فهد راشد الصعاق المرى",null,null,null,null,null,null,null,null,null,null,null,null,0,87,100,0]
[null,110,"سالم محمد راشد صبيح",null,null,null,null,null,null,null,null,null,null,null,null,0,87,100,0]
[null,111,"عبدالله يوسف عبدالله على الحداد",null,null,null,null,null,null,null,null,null,null,null,null,0,87,100,0]
[null,112,"عبدالرحمن محمد",null,null,null,null,null,null,null,null,null,null,null,null,0,87,100,0]
[null,113,"منصور ناصر محمد اللواء المرى",null,null,null,null,null,null,null,null,null,null,null,null,0,87,100,0]
[null,114," جابر حمد راشد المسعود المرى",null,null,null,null,null,null,null,null,null,null,null,null,0,87,100,0]
[null,115," فهد محمد",null,null,null,null,null,null,null,null,null,null,null,null,0,87,100,0]
[null,116,"امين المحسن لعريض",null,null,null,null,null,null,null,null,null,null,null,null,0,87,100,0]
[null,117,"بسام نصير محمد عيسى خان",null,null,null,null,null,null,null,null,null,null,null,null,0,87,100,0]
[null,118,"جابر على محمد الزبدان المرى",null,null,null,null,null,null,null,null,null,null,null,null,0,87,100,0]
[null,119,"حمد جاسم علي احمد القعود",null,null,null,null,null,null,null,null,null,null,null,null,0,87,100,0]
[null,120,"حمد سعيد محمد سعيد الخوار",null,null,null,null,null,null,null,null,null,null,null,null,0,87,100,0]
[null,121,"حمد على مبارك الهامله المرى",null,null,null,null,null,null,null,null,null,null,null,null,0,87,100,0]
[null,122,"حمد ناصر على محمد العمادى",null,null,null,null,null,null,null,null,null,null,null,null,0,87,100,0]
[null,123,"خالد بلال حسين",null,null,null,null,null,null,null,null,null,null,null,null,0,87,100,0]
[null,124,"خالد محمد خان خان والى",null,null,null,null,null,null,null,null,null,null,null,null,0,87,100,0]
[null,125,"خالد محمد سالم عمار خوار",null,null,null,null,null,null,null,null,null,null,null,null,0,87,100,0]
[null,126,"راشد احضار راشد عمره اليربوعى",null,null,null,null,null,null,null,null,null,null,null,null,0,87,100,0]
[null,127,"زكريا ممتاز رحمان",null,null,null,null,null,null,null,null,null,null,null,null,0,87,100,0]
[null,128,"سالم خالد احمد سالم خوار",null,null,null,null,null,null,null,null,null,null,null,null,0,87,100,0]
[null,129,"عبدالعزيز على سالم حمد جبران",null,null,null,null,null,null,null,null,null,null,null,null,{"$f":"IF($C134=\"\",\"\",IF(SUM($F134:$O134)=0,0,SUM($F134:$O134)))","v":0},87,{"$f":"IF($C134=\"\",\"\",($Q134/$S$3)*100)","v":100},{"$f":"IF($C134=\"\",\"\",($P134/$S$3)*100)","v":0}]
[null,130,"عبدالعزيز محمد ناصر العسيرى المعاضيد",null,null,null,null,null,null,null,null,null,null,null,null,0,{"$f":"IF($C135=\"\",\"\",$S$3-$P135)","v":87},100,0]
[null,131,"عبدالله على عبدالله ال رحمه المرى",null,null,null,null,null,null,null,null,null,null,null,null,0,87,100,0]
[null,132,"عبدالله على عبدالله سلطان الحداد",null,null,null,null,null,null,null,null,null,null,null,null,0,87,100,0]
[null,133,"عبدالله يوسف عبدالله عامرى",null,null,null,null,null,null,null,null,null,null,null,null,0,87,100,0]
[null,134,"علي حسين محمد عوض اليهرى",null,null,null,null,null,null,null,null,null,null,null,null,0,87,100,0]
[null,135,"علي مسعد صالح قايد الشيبة",null,null,null,null,null,null,null,null,null,null,null,null,0,87,100,0]
[null,136,"عمرو مامون بشير حامد",null,null,null,null,null,null,null,null,null,null,null,null,0,87,100,0]
[null,137,"غانم ناصر نياز درزاده",null,null,null,null,null,null,null,null,null,null,null,null,0,87,100,0]
[null,138,"فرج محمد سعيد صالح النابت",null,null,null,null,null,null,null,null,null,null,null,null,0,87,100,0]
[null,139,"فهد احمد حفظي عبدالرحمن ابوالعوف",null,null,null,null,null,null,null,null,null,null,null,null,0,87,100,0]
[null,140,"فهد راجى ناجى راشد الشمرى",null,null,null,null,null,null,null,null,null,null,null,null,0,87,100,0]
[null,141,"فيصل الله بخش عبد الرحمن بلوجي",null,null,null,null,null,null,null,null,null,null,null,null,0,87,100,0]
[null,142,"محمد زيد راشد زيد النديله",null,null,null,null,null,null,null,null,null,null,null,null,0,87,100,0]
[null,143,"محمد سالم محمد سالم خوار",null,null,null,null,null,null,null,null,null,null,null,null,0,87,100,0]
[null,144,"محمد غلام قادر شير رئيسى",null,null,null,null,null,null,null,null,null,null,null,null,0,87,100,0]
[null,145,"محمد مبارك شليويح مبارك رملان",null,null,null,null,null,null,null,null,null,null,null,null,0,87,100,0]
[null,146,"احمد محمد احمد خلف المالكي",null,null,null,null,null,null,null,null,null,null,null,null,0,87,100,0]
[null,147,"اسامه محمد فرج سعيد الخوار",null,null,null,null,null,null,null,null,null,null,null,null,0,87,100,0]
[null,148,"تميم حزام محمد محسن انديله",null,null,null,null,null,null,null,null,null,null,null,null,0,87,100,0]
[null,149,"حزام راشد محسن حزام انديله",null,null,null,null,null,null,null,null,null,null,null,null,0,87,100,0]
[null,150,"حسن عبدالواحد فضيلى حسن",null,null,null,null,null,null,null,null,null,null,null,null,0,87,100,0]
[null,151,"حسن هادى سعيد ال سيف القحطانى",null,null,null,null,null,null,null,null,null,null,null,null,0,87,100,0]
[null,152,"حسين على عبدالرحمن حاجى الشرشنى",null,null,null,null,null,null,null,null,null,null,null,null,0,87,100,0]
[null,153,"خليفه جمال ابراهيم اسحاق الاسحاق",null,null,null,null,null,null,null,null,null,null,null,null,0,87,100,0]
[null,154,"خليفه عبدالعزيز محمد جمعه السليطى",null,null,null,null,null,null,null,null,null,null,null,null,0,87,100,0]
[null,155,"ركاد احمد خالد احمد الحميدى",null,null,null,null,null,null,null,null,null,null,null,null,0,87,100,0]
[null,156,"سعود محمد مبارك جمعه السليطى",null,null,null,null,null,null,null,null,null,null,null,null,0,87,100,0]
[null,157,"سلمان احمد جان كوجال خان",null,null,null,null,null,null,null,null,null,null,null,null,0,87,100,0]
[null,158,"عبدالحي خان",null,null,null,null,null,null,null,null,null,null,null,null,0,87,100,0]
[null,159,"عبدالرحمن عبدالحق رحيم خان",null,null,null,null,null,null,null,null,null,null,null,null,0,87,100,0]
[null,160,"عبدالرحمن على عبدالرحمن حاجى الشرشنى",null,null,null,null,null,null,null,null,null,null,null,null,0,87,100,0]
[null,161,"عبدالرحمن محمد جلال الدين طعيمه سيد",null,null,null,null,null,null,null,null,null,null,null,null,{"$f":"IF($C166=\"\",\"\",IF(SUM($F166:$O166)=0,0,SUM($F166:$O166)))","v":0},87,{"$f":"IF($C166=\"\",\"\",($Q166/$S$3)*100)","v":100},{"$f":"IF($C166=\"\",\"\",($P166/$S$3)*100)","v":0}]
[null,162,"عبدالسلام يارمحمد",null,null,null,null,null,null,null,null,null,null,null,null,0,{"$f":"IF($C167=\"\",\"\",$S$3-$P167)","v":87},100,0]
[null,163,"عبدالعزيز عبدالله مرزوقى فر",null,null,null,null,null,null,null,null,null,null,null,null,0,87,100,0]
[null,164,"عبدالعزيز عبدي نور محمود",null,null,null,null,null,null,null,null,null,null,null,null,0,87,100,0]
[null,165,"عبدالله عسكر مبخوت ال مسفر الكربى",null,null,null,null,null,null,null,null,null,null,null,null,0,87,100,0]
[null,166,"عبدالله محمد هادى سهيل الخوار",null,null,null,null,null,null,null,null,null,null,null,null,0,87,100,0]
[null,167,"على جابر غلوم رضا الشرشنى",null,null,null,null,null,null,null,null,null,null,null,null,0,87,100,0]
[null,168,"على محمد ناصر البكرى اليافعى",null,null,null,null,null,null,null,null,null,null,null,null,0,87,100,0]
[null,169,"محمد زايد محمد محمود المطوع",null,null,null,null,null,null,null,null,null,null,null,null,0,87,100,0]
[null,170,"محمد على جعفر عبدالله الصفار",null,null,null,null,null,null,null,null,null,null,null,null,0,87,100,0]