{"text_format":"1","workbook":"xlsx","n_sheets":3,"sheets":["دليل الحسابات","اليومية الامريكية","ميزان المراجعه"],"not_rendered":{"charts":0,"images":0,"macros":1,"external_links":0,"defined_names":1,"comments":0,"pivot_tables":0},"unopened":[],"bounds":{"document_bytes":16777216,"sheet_cells":100000,"rows_first":2000,"rows_last":500,"rows_between":2000,"halvings":0,"cell_chars":16384,"cell_head_chars":4096},"cells_cut":0,"cells_raw":0,"read":"whole","date_system":"1900"}

{"sheet":"دليل الحسابات","index":0,"n_rows":85,"n_cols":2,"rows_kept":85,"cut":false,"hidden":false,"merged":[[2,0,2,1]]}
[]
[]
["دليل الحسابات"]
[]
["م","اسم الحساب"]
[1,"الخزينة"]
[2,"البنك"]
[3,"العملاء"]
[4,"الموردين"]
[5,"المشتريات"]
[6,"المبيعات"]
[7,"مردودات المشتريات "]
[8,"مردودات المبيعات"]
[9,"خصم مسموح به"]
[10,"خصم مكتسب"]
[11,"جاري الشركاء"]
[12,"مصروفات عمومية وادارية"]
[13,"مخزون اول المدة"]
[14,"اصول ثابتة"]
[15,"الشيكات"]
[16,"الشيكات المستحقة"]
[17,"المدينون"]
[18,"الدائنون"]
[19,"حساب 19"]
[20,"حساب 20"]
[21,"حساب 21"]
[22,"حساب 22"]
[23,"حساب 23"]
[24,"حساب 24"]
[25,"حساب 25"]
[26,"حساب 26"]
[27,"حساب 27"]
[28,"حساب 28"]
[29,"حساب 29"]
[30,"حساب 30"]
[31,"حساب 31"]
[32,"حساب 32"]
[33,"حساب 33"]
[34,"حساب 34"]
[35,"حساب 35"]
[36,"حساب 36"]
[37,"حساب 37"]
[38,"حساب 38"]
[39,"حساب 39"]
[40,"حساب 40"]
[41,"حساب 41"]
[42,"حساب 42"]
[43,"حساب 43"]
[44,"حساب 44"]
[45,"حساب 45"]
[46,"حساب 46"]
[47,"حساب 47"]
[48,"حساب 48"]
[49,"حساب 49"]
[50,"حساب 50"]
[51,"حساب 51"]
[52,"حساب 52"]
[53,"حساب 53"]
[54,"حساب 54"]
[55,"حساب 55"]
[56,"حساب 56"]
[57,"حساب 57"]
[58,"حساب 58"]
[59,"حساب 59"]
[60,"حساب 60"]
[61,"حساب 61"]
[62,"حساب 62"]
[63,"حساب 63"]
[64,"حساب 64"]
[65,"حساب 65"]
[66,"حساب 66"]
[67,"حساب 67"]
[68,"حساب 68"]
[69,"حساب 69"]
[70,"حساب 70"]
[71,"حساب 71"]
[72,"حساب 72"]
[73,"حساب 73"]
[74,"حساب 74"]
[75,"حساب 75"]
[76,"حساب 76"]
[77,"حساب 77"]
[78,"حساب 78"]
[79,"حساب 79"]
[80,"حساب 80"]

{"sheet":"اليومية الامريكية","index":1,"n_rows":308,"n_cols":171,"rows_kept":308,"cut":false,"hidden":false,"merged":[[1,0,1,8],[4,159,4,160],[4,161,4,162],[4,163,4,164],[4,165,4,166],[4,167,4,168],[4,9,4,10],[4,147,4,148],[4,149,4,150],[4,151,4,152],[4,153,4,154],[4,155,4,156],[4,157,4,158],[4,135,4,136],[4,137,4,138],[4,139,4,140],[4,141,4,142],[4,143,4,144],[4,145,4,146],[4,123,4,124],[4,125,4,126],[4,127,4,128],[4,129,4,130],[4,131,4,132],[4,133,4,134],[4,111,4,112],[4,113,4,114],[4,115,4,116],[4,117,4,118],[4,119,4,120],[4,121,4,122],[4,99,4,100],[4,101,4,102],[4,103,4,104],[4,105,4,106],[4,107,4,108],[4,109,4,110],[4,87,4,88],[4,89,4,90],[4,91,4,92],[4,93,4,94],[4,95,4,96],[4,97,4,98],[4,75,4,76],[4,77,4,78],[4,79,4,80],[4,81,4,82],[4,83,4,84],[4,85,4,86],[4,63,4,64],[4,65,4,66],[4,67,4,68],[4,69,4,70],[4,71,4,72],[4,73,4,74],[4,51,4,52],[4,53,4,54],[4,55,4,56],[4,57,4,58],[4,59,4,60],[4,61,4,62],[4,39,4,40],[4,41,4,42],[4,43,4,44],[4,45,4,46],[4,47,4,48],[4,49,4,50],[4,27,4,28],[4,29,4,30],[4,31,4,32],[4,33,4,34],[4,35,4,36],[4,37,4,38],[1,161,1,162],[1,163,1,164],[1,165,1,166],[1,167,1,168],[1,169,1,170],[4,11,4,12],[4,13,4,14],[4,15,4,16],[4,17,4,18],[4,19,4,20],[1,149,1,150],[1,151,1,152],[1,153,1,154],[1,155,1,156],[1,157,1,158],[1,159,1,160],[1,137,1,138],[1,139,1,140],[1,141,1,142],[1,143,1,144],[1,145,1,146],[1,147,1,148],[1,125,1,126],[1,127,1,128],[1,129,1,130],[1,131,1,132],[1,133,1,134],[1,135,1,136],[1,113,1,114],[1,115,1,116],[1,117,1,118],[1,119,1,120],[1,121,1,122],[1,123,1,124],[1,101,1,102],[1,103,1,104],[1,105,1,106],[1,107,1,108],[1,109,1,110],[1,111,1,112],[1,89,1,90],[1,91,1,92],[1,93,1,94],[1,95,1,96],[1,97,1,98],[1,99,1,100],[1,77,1,78],[1,79,1,80],[1,81,1,82],[1,83,1,84],[1,85,1,86],[1,87,1,88],[1,65,1,66],[1,67,1,68],[1,69,1,70],[1,71,1,72],[1,73,1,74],[1,75,1,76],[1,53,1,54],[1,55,1,56],[1,57,1,58],[1,59,1,60],[1,61,1,62],[1,63,1,64],[1,41,1,42],[1,43,1,44],[1,45,1,46],[1,47,1,48],[1,49,1,50],[1,51,1,52],[1,29,1,30],[1,31,1,32],[1,33,1,34],[1,35,1,36],[1,37,1,38],[1,39,1,40],[1,17,1,18],[1,19,1,20],[1,21,1,22],[1,23,1,24],[1,25,1,26],[1,27,1,28],[1,9,1,10],[1,11,1,12],[1,13,1,14],[1,15,1,16],[4,169,4,170],[6,3,7,3],[6,2,7,2],[6,1,7,1],[6,0,7,0],[6,9,6,10],[4,21,4,22],[4,23,4,24],[4,25,4,26],[6,159,6,160],[6,161,6,162],[6,163,6,164],[6,165,6,166],[6,167,6,168],[6,169,6,170],[6,147,6,148],[6,149,6,150],[6,151,6,152],[6,153,6,154],[6,155,6,156],[6,157,6,158],[6,135,6,136],[6,137,6,138],[6,139,6,140],[6,141,6,142],[6,143,6,144],[6,145,6,146],[6,123,6,124],[6,125,6,126],[6,127,6,128],[6,129,6,130],[6,131,6,132],[6,133,6,134],[6,111,6,112],[6,113,6,114],[6,115,6,116],[6,117,6,118],[6,119,6,120],[6,121,6,122],[6,99,6,100],[6,101,6,102],[6,103,6,104],[6,105,6,106],[6,107,6,108],[6,109,6,110],[6,87,6,88],[6,89,6,90],[6,91,6,92],[6,93,6,94],[6,95,6,96],[6,97,6,98],[6,75,6,76],[6,77,6,78],[6,79,6,80],[6,81,6,82],[6,83,6,84],[6,85,6,86],[6,63,6,64],[6,65,6,66],[6,67,6,68],[6,69,6,70],[6,71,6,72],[6,73,6,74],[6,51,6,52],[6,53,6,54],[6,55,6,56],[6,57,6,58],[6,59,6,60],[6,61,6,62],[6,39,6,40],[6,41,6,42],[6,43,6,44],[6,45,6,46],[6,47,6,48],[6,49,6,50],[6,27,6,28],[6,29,6,30],[6,31,6,32],[6,33,6,34],[6,35,6,36],[6,37,6,38],[6,15,6,16],[6,17,6,18],[6,19,6,20],[6,21,6,22],[6,23,6,24],[6,25,6,26],[6,4,6,5],[6,6,6,7],[6,8,7,8],[6,11,6,12],[6,13,6,14]]}
[]
["كل ما عليك فعلة اختيار الحساب في الجانب المدين والجانب الدائن ــــــــــــــــــــــــــــــــــــــــــــــــــــــ وتكتب المبلغ في الجانب المدين والدائن ",null,null,null,null,null,null,null,null,"الاجمالي",null,{"$f":"'دليل الحسابات'!$B$6","v":"الخزينة"},null,{"$f":"'دليل الحسابات'!$B$7","v":"البنك"},null,{"$f":"'دليل الحسابات'!$B$8","v":"العملاء"},null,{"$f":"'دليل الحسابات'!$B$9","v":"الموردين"},null,{"$f":"'دليل الحسابات'!$B$10","v":"المشتريات"},null,{"$f":"'دليل الحسابات'!$B$11","v":"المبيعات"},null,{"$f":"'دليل الحسابات'!$B$12","v":"مردودات المشتريات "},null,{"$f":"'دليل الحسابات'!$B$13","v":"مردودات المبيعات"},null,{"$f":"'دليل الحسابات'!$B$14","v":"خصم مسموح به"},null,{"$f":"'دليل الحسابات'!$B$15","v":"خصم مكتسب"},null,{"$f":"'دليل الحسابات'!$B$16","v":"جاري الشركاء"},null,{"$f":"'دليل الحسابات'!$B$17","v":"مصروفات عمومية وادارية"},null,{"$f":"'دليل الحسابات'!$B$18","v":"مخزون اول المدة"},null,{"$f":"'دليل الحسابات'!$B$19","v":"اصول ثابتة"},null,{"$f":"'دليل الحسابات'!$B$20","v":"الشيكات"},null,{"$f":"'دليل الحسابات'!$B$21","v":"الشيكات المستحقة"},null,{"$f":"'دليل الحسابات'!$B$22","v":"المدينون"},null,{"$f":"'دليل الحسابات'!$B$23","v":"الدائنون"},null,{"$f":"'دليل الحسابات'!$B$24","v":"حساب 19"},null,{"$f":"'دليل الحسابات'!$B$25","v":"حساب 20"},null,{"$f":"'دليل الحسابات'!$B$26","v":"حساب 21"},null,{"$f":"'دليل الحسابات'!$B$27","v":"حساب 22"},null,{"$f":"'دليل الحسابات'!$B$28","v":"حساب 23"},null,{"$f":"'دليل الحسابات'!$B$29","v":"حساب 24"},null,{"$f":"'دليل الحسابات'!$B$30","v":"حساب 25"},null,{"$f":"'دليل الحسابات'!$B$31","v":"حساب 26"},null,{"$f":"'دليل الحسابات'!$B$32","v":"حساب 27"},null,{"$f":"'دليل الحسابات'!$B$33","v":"حساب 28"},null,{"$f":"'دليل الحسابات'!$B$34","v":"حساب 29"},null,{"$f":"'دليل الحسابات'!$B$35","v":"حساب 30"},null,{"$f":"'دليل الحسابات'!$B$36","v":"حساب 31"},null,{"$f":"'دليل الحسابات'!$B$37","v":"حساب 32"},null,{"$f":"'دليل الحسابات'!$B$38","v":"حساب 33"},null,{"$f":"'دليل الحسابات'!$B$39","v":"حساب 34"},null,{"$f":"'دليل الحسابات'!$B$40","v":"حساب 35"},null,{"$f":"'دليل الحسابات'!$B$41","v":"حساب 36"},null,{"$f":"'دليل الحسابات'!$B$42","v":"حساب 37"},null,{"$f":"'دليل الحسابات'!$B$43","v":"حساب 38"},null,{"$f":"'دليل الحسابات'!$B$44","v":"حساب 39"},null,{"$f":"'دليل الحسابات'!$B$45","v":"حساب 40"},null,{"$f":"'دليل الحسابات'!$B$46","v":"حساب 41"},null,{"$f":"'دليل الحسابات'!$B$47","v":"حساب 42"},null,{"$f":"'دليل الحسابات'!$B$48","v":"حساب 43"},null,{"$f":"'دليل الحسابات'!$B$49","v":"حساب 44"},null,{"$f":"'دليل الحسابات'!$B$50","v":"حساب 45"},null,{"$f":"'دليل الحسابات'!$B$51","v":"حساب 46"},null,{"$f":"'دليل الحسابات'!$B$52","v":"حساب 47"},null,{"$f":"'دليل الحسابات'!$B$53","v":"حساب 48"},null,{"$f":"'دليل الحسابات'!$B$54","v":"حساب 49"},null,{"$f":"'دليل الحسابات'!$B$55","v":"حساب 50"},null,"حساب 51",null,"حساب 52",null,"حساب 53",null,"حساب 54",null,"حساب 55",null,"حساب 56",null,"حساب 57",null,"حساب 58",null,"حساب 59",null,"حساب 60",null,"حساب 61",null,"حساب 62",null,"حساب 63",null,"حساب 64",null,"حساب 65",null,"حساب 66",null,"حساب 67",null,"حساب 68",null,"حساب 69",null,"حساب 70",null,"حساب 71",null,"حساب 72",null,"حساب 73",null,"حساب 74",null,"حساب 75",null,"حساب 76",null,"حساب 77",null,"حساب 78",null,"حساب 79",null,"حساب 80"]
[null,null,null,null,null,null,null,null,null,"مدين","دائن","مدين","دائن","مدين","دائن","مدين","دائن","مدين","دائن","مدين","دائن","مدين","دائن","مدين","دائن","مدين","دائن","مدين","دائن","مدين","دائن","مدين","دائن","مدين","دائن","مدين","دائن","مدين","دائن","مدين","دائن","مدين","دائن","مدين","دائن","مدين","دائن","مدين","دائن","مدين","دائن","مدين","دائن","مدين","دائن","مدين","دائن","مدين","دائن","مدين","دائن","مدين","دائن","مدين","دائن","مدين","دائن","مدين","دائن","مدين","دائن","مدين","دائن","مدين","دائن","مدين","دائن","مدين","دائن","مدين","دائن","مدين","دائن","مدين","دائن","مدين","دائن","مدين","دائن","مدين","دائن","مدين","دائن","مدين","دائن","مدين","دائن","مدين","دائن","مدين","دائن","مدين","دائن","مدين","دائن","مدين","دائن","مدين","دائن","مدين","دائن","مدين","دائن","مدين","دائن","مدين","دائن","مدين","دائن","مدين","دائن","مدين","دائن","مدين","دائن","مدين","دائن","مدين","دائن","مدين","دائن","مدين","دائن","مدين","دائن","مدين","دائن","مدين","دائن","مدين","دائن","مدين","دائن","مدين","دائن","مدين","دائن","مدين","دائن","مدين","دائن","مدين","دائن","مدين","دائن","مدين","دائن","مدين","دائن","مدين","دائن","مدين","دائن","مدين","دائن","مدين","دائن","مدين","دائن","مدين","دائن"]
[null,null,null,null,null,null,null,null,null,{"$f":"SUM(J9:J308)","v":0},{"$f":"SUM(K9:K308)","v":0},{"$f":"SUM(L9:L308)","v":0},{"$f":"SUM(M9:M308)","v":0},0,0,0,0,0,0,0,0,0,0,0,0,0,0,0,0,0,0,0,0,0,0,0,0,0,0,0,0,0,0,0,0,0,0,0,0,0,0,0,0,0,0,0,0,0,0,0,0,0,0,0,0,0,0,0,0,0,0,0,0,0,0,0,{"$f":"SUM(BY9:BY308)","v":0},0,0,0,0,0,0,0,0,0,0,0,0,0,0,0,0,0,0,0,0,0,0,0,0,0,0,0,0,0,0,0,0,0,0,0,0,0,0,0,0,0,0,0,0,0,0,0,0,0,0,0,0,0,0,0,0,0,0,0,0,0,0,0,{"$f":"SUM(EK9:EK308)","v":0},0,0,0,0,0,0,0,0,0,0,0,0,0,0,0,0,0,0,0,0,0,0,0,0,0,0,0,0,0,0]
[null,null,null,null,null,null,null,null,null,{"$f":"J4=K4","v":true},null,{"$f":"L4-M4","v":0},null,{"$f":"N4-O4","v":0},null,{"$f":"P4-Q4","v":0},null,{"$f":"R4-S4","v":0},null,{"$f":"T4-U4","v":0},null,{"$f":"V4-W4","v":0},null,{"$f":"X4-Y4","v":0},null,{"$f":"Z4-AA4","v":0},null,{"$f":"AB4-AC4","v":0},null,{"$f":"AD4-AE4","v":0},null,{"$f":"AF4-AG4","v":0},null,{"$f":"AH4-AI4","v":0},null,{"$f":"AJ4-AK4","v":0},null,{"$f":"AL4-AM4","v":0},null,{"$f":"AN4-AO4","v":0},null,{"$f":"AP4-AQ4","v":0},null,{"$f":"AR4-AS4","v":0},null,{"$f":"AT4-AU4","v":0},null,{"$f":"AV4-AW4","v":0},null,{"$f":"AX4-AY4","v":0},null,{"$f":"AZ4-BA4","v":0},null,{"$f":"BB4-BC4","v":0},null,{"$f":"BD4-BE4","v":0},null,{"$f":"BF4-BG4","v":0},null,{"$f":"BH4-BI4","v":0},null,{"$f":"BJ4-BK4","v":0},null,{"$f":"BL4-BM4","v":0},null,{"$f":"BN4-BO4","v":0},null,{"$f":"BP4-BQ4","v":0},null,{"$f":"BR4-BS4","v":0},null,{"$f":"BT4-BU4","v":0},null,{"$f":"BV4-BW4","v":0},null,{"$f":"BX4-BY4","v":0},null,{"$f":"BZ4-CA4","v":0},null,{"$f":"CB4-CC4","v":0},null,{"$f":"CD4-CE4","v":0},null,{"$f":"CF4-CG4","v":0},null,{"$f":"CH4-CI4","v":0},null,{"$f":"CJ4-CK4","v":0},null,{"$f":"CL4-CM4","v":0},null,{"$f":"CN4-CO4","v":0},null,{"$f":"CP4-CQ4","v":0},null,{"$f":"CR4-CS4","v":0},null,{"$f":"CT4-CU4","v":0},null,{"$f":"CV4-CW4","v":0},null,{"$f":"CX4-CY4","v":0},null,{"$f":"CZ4-DA4","v":0},null,{"$f":"DB4-DC4","v":0},null,{"$f":"DD4-DE4","v":0},null,{"$f":"DF4-DG4","v":0},null,{"$f":"DH4-DI4","v":0},null,{"$f":"DJ4-DK4","v":0},null,{"$f":"DL4-DM4","v":0},null,{"$f":"DN4-DO4","v":0},null,{"$f":"DP4-DQ4","v":0},null,{"$f":"DR4-DS4","v":0},null,{"$f":"DT4-DU4","v":0},null,{"$f":"DV4-DW4","v":0},null,{"$f":"DX4-DY4","v":0},null,{"$f":"DZ4-EA4","v":0},null,{"$f":"EB4-EC4","v":0},null,{"$f":"ED4-EE4","v":0},null,{"$f":"EF4-EG4","v":0},null,{"$f":"EH4-EI4","v":0},null,{"$f":"EJ4-EK4","v":0},null,{"$f":"EL4-EM4","v":0},null,{"$f":"EN4-EO4","v":0},null,{"$f":"EP4-EQ4","v":0},null,{"$f":"ER4-ES4","v":0},null,{"$f":"ET4-EU4","v":0},null,{"$f":"EV4-EW4","v":0},null,{"$f":"EX4-EY4","v":0},null,{"$f":"EZ4-FA4","v":0},null,{"$f":"FB4-FC4","v":0},null,{"$f":"FD4-FE4","v":0},null,{"$f":"FF4-FG4","v":0},null,{"$f":"FH4-FI4","v":0},null,{"$f":"FJ4-FK4","v":0},null,{"$f":"FL4-FM4","v":0},null,{"$f":"FN4-FO4","v":0}]
[]
["م","التاريخ","رقم القيد","البيان","اسم الحساب",null,"المبلغ",null,"الاتزان","الاجمالي",null,{"$f":"'دليل الحسابات'!$B$6","v":"الخزينة"},null,{"$f":"'دليل الحسابات'!$B$7","v":"البنك"},null,{"$f":"'دليل الحسابات'!$B$8","v":"العملاء"},null,{"$f":"'دليل الحسابات'!$B$9","v":"الموردين"},null,{"$f":"'دليل الحسابات'!$B$10","v":"المشتريات"},null,{"$f":"'دليل الحسابات'!$B$11","v":"المبيعات"},null,{"$f":"'دليل الحسابات'!$B$12","v":"مردودات المشتريات "},null,{"$f":"'دليل الحسابات'!$B$13","v":"مردودات المبيعات"},null,{"$f":"'دليل الحسابات'!$B$14","v":"خصم مسموح به"},null,{"$f":"'دليل الحسابات'!$B$15","v":"خصم مكتسب"},null,{"$f":"'دليل الحسابات'!$B$16","v":"جاري الشركاء"},null,{"$f":"'دليل الحسابات'!$B$17","v":"مصروفات عمومية وادارية"},null,{"$f":"'دليل الحسابات'!$B$18","v":"مخزون اول المدة"},null,{"$f":"'دليل الحسابات'!$B$19","v":"اصول ثابتة"},null,{"$f":"'دليل الحسابات'!$B$20","v":"الشيكات"},null,{"$f":"'دليل الحسابات'!$B$21","v":"الشيكات المستحقة"},null,{"$f":"'دليل الحسابات'!$B$22","v":"المدينون"},null,{"$f":"'دليل الحسابات'!$B$23","v":"الدائنون"},null,{"$f":"'دليل الحسابات'!$B$24","v":"حساب 19"},null,{"$f":"'دليل الحسابات'!$B$25","v":"حساب 20"},null,{"$f":"'دليل الحسابات'!$B$26","v":"حساب 21"},null,{"$f":"'دليل الحسابات'!$B$27","v":"حساب 22"},null,{"$f":"'دليل الحسابات'!$B$28","v":"حساب 23"},null,{"$f":"'دليل الحسابات'!$B$29","v":"حساب 24"},null,{"$f":"'دليل الحسابات'!$B$30","v":"حساب 25"},null,{"$f":"'دليل الحسابات'!$B$31","v":"حساب 26"},null,{"$f":"'دليل الحسابات'!$B$32","v":"حساب 27"},null,{"$f":"'دليل الحسابات'!$B$33","v":"حساب 28"},null,{"$f":"'دليل الحسابات'!$B$34","v":"حساب 29"},null,{"$f":"'دليل الحسابات'!$B$35","v":"حساب 30"},null,{"$f":"'دليل الحسابات'!$B$36","v":"حساب 31"},null,{"$f":"'دليل الحسابات'!$B$37","v":"حساب 32"},null,{"$f":"'دليل الحسابات'!$B$38","v":"حساب 33"},null,{"$f":"'دليل الحسابات'!$B$39","v":"حساب 34"},null,{"$f":"'دليل الحسابات'!$B$40","v":"حساب 35"},null,{"$f":"'دليل الحسابات'!$B$41","v":"حساب 36"},null,{"$f":"'دليل الحسابات'!$B$42","v":"حساب 37"},null,{"$f":"'دليل الحسابات'!$B$43","v":"حساب 38"},null,{"$f":"'دليل الحسابات'!$B$44","v":"حساب 39"},null,{"$f":"'دليل الحسابات'!$B$45","v":"حساب 40"},null,{"$f":"'دليل الحسابات'!$B$46","v":"حساب 41"},null,{"$f":"'دليل الحسابات'!$B$47","v":"حساب 42"},null,{"$f":"'دليل الحسابات'!$B$48","v":"حساب 43"},null,{"$f":"'دليل الحسابات'!$B$49","v":"حساب 44"},null,{"$f":"'دليل الحسابات'!$B$50","v":"حساب 45"},null,{"$f":"'دليل الحسابات'!$B$51","v":"حساب 46"},null,{"$f":"'دليل الحسابات'!$B$52","v":"حساب 47"},null,{"$f":"'دليل الحسابات'!$B$53","v":"حساب 48"},null,{"$f":"'دليل الحسابات'!$B$54","v":"حساب 49"},null,{"$f":"'دليل الحسابات'!$B$55","v":"حساب 50"}]
[null,null,null,null,"الموردين","البنك","9","9",null,"مدين","دائن","مدين","دائن","مدين","دائن","مدين","دائن","مدين","دائن","مدين","دائن","مدين","دائن","مدين","دائن","مدين","دائن","مدين","دائن","مدين","دائن","مدين","دائن","مدين","دائن","مدين","دائن","مدين","دائن","مدين","دائن","مدين","دائن","مدين","دائن","مدين","دائن","مدين","دائن","مدين","دائن","مدين","دائن","مدين","دائن","مدين","دائن","مدين","دائن","مدين","دائن","مدين","دائن","مدين","دائن","مدين","دائن","مدين","دائن","مدين","دائن","مدين","دائن","مدين","دائن","مدين","دائن","مدين","دائن","مدين","دائن","مدين","دائن","مدين","دائن","مدين","دائن","مدين","دائن","مدين","دائن","مدين","دائن","مدين","دائن","مدين","دائن","مدين","دائن","مدين","دائن","مدين","دائن","مدين","دائن","مدين","دائن","مدين","دائن","مدين","دائن","مدين","دائن","مدين","دائن","مدين","دائن","مدين","دائن","مدين","دائن","مدين","دائن","مدين","دائن","مدين","دائن","مدين","دائن","مدين","دائن","مدين","دائن","مدين","دائن","مدين","دائن","مدين","دائن","مدين","دائن","مدين","دائن","مدين","دائن","مدين","دائن","مدين","دائن","مدين","دائن","مدين","دائن","مدين","دائن","مدين","دائن","مدين","دائن","مدين","دائن","مدين","دائن","مدين","دائن","مدين","دائن","مدين","دائن","مدين","دائن"]
[1,0,null,null,null,null,null,null,{"$f":"J9=K9","v":true},{"$f":"SUMIF($L$8:$FO$8,$J$8,L9:FO9)","v":0},{"$f":"SUMIF($L$8:$FO$8,$K$8,L9:FO9)","v":0},{"$f":"IF(L$7=$E9,$G9,\"\")","v":""},{"$f":"IF(L$7=$F9,$H9,\"\")","v":""},{"$f":"IF(N$7=$E9,$G9,\"\")","v":""},{"$f":"IF(N$7=$F9,$H9,\"\")","v":""},{"$f":"IF(P$7=$E9,$G9,\"\")","v":""},{"$f":"IF(P$7=$F9,$H9,\"\")","v":""},{"$f":"IF(R$7=$E9,$G9,\"\")","v":""},{"$f":"IF(R$7=$F9,$H9,\"\")","v":""},{"$f":"IF(T$7=$E9,$G9,\"\")","v":""},{"$f":"IF(T$7=$F9,$H9,\"\")","v":""},{"$f":"IF(V$7=$E9,$G9,\"\")","v":""},{"$f":"IF(V$7=$F9,$H9,\"\")","v":""},{"$f":"IF(X$7=$E9,$G9,\"\")","v":""},{"$f":"IF(X$7=$F9,$H9,\"\")","v":""},{"$f":"IF(Z$7=$E9,$G9,\"\")","v":""},{"$f":"IF(Z$7=$F9,$H9,\"\")","v":""},{"$f":"IF(AB$7=$E9,$G9,\"\")","v":""},{"$f":"IF(AB$7=$F9,$H9,\"\")","v":""},{"$f":"IF(AD$7=$E9,$G9,\"\")","v":""},{"$f":"IF(AD$7=$F9,$H9,\"\")","v":""},{"$f":"IF(AF$7=$E9,$G9,\"\")","v":""},{"$f":"IF(AF$7=$F9,$H9,\"\")","v":""},{"$f":"IF(AH$7=$E9,$G9,\"\")","v":""},{"$f":"IF(AH$7=$F9,$H9,\"\")","v":""},{"$f":"IF(AJ$7=$E9,$G9,\"\")","v":""},{"$f":"IF(AJ$7=$F9,$H9,\"\")","v":""},{"$f":"IF(AL$7=$E9,$G9,\"\")","v":""},{"$f":"IF(AL$7=$F9,$H9,\"\")","v":""},{"$f":"IF(AN$7=$E9,$G9,\"\")","v":""},{"$f":"IF(AN$7=$F9,$H9,\"\")","v":""},{"$f":"IF(AP$7=$E9,$G9,\"\")","v":""},{"$f":"IF(AP$7=$F9,$H9,\"\")","v":""},{"$f":"IF(AR$7=$E9,$G9,\"\")","v":""},{"$f":"IF(AR$7=$F9,$H9,\"\")","v":""},{"$f":"IF(AT$7=$E9,$G9,\"\")","v":""},{"$f":"IF(AT$7=$F9,$H9,\"\")","v":""},{"$f":"IF(AV$7=$E9,$G9,\"\")","v":""},{"$f":"IF(AV$7=$F9,$H9,\"\")","v":""},{"$f":"IF(AX$7=$E9,$G9,\"\")","v":""},{"$f":"IF(AX$7=$F9,$H9,\"\")","v":""},{"$f":"IF(AZ$7=$E9,$G9,\"\")","v":""},{"$f":"IF(AZ$7=$F9,$H9,\"\")","v":""},{"$f":"IF(BB$7=$E9,$G9,\"\")","v":""},{"$f":"IF(BB$7=$F9,$H9,\"\")","v":""},{"$f":"IF(BD$7=$E9,$G9,\"\")","v":""},{"$f":"IF(BD$7=$F9,$H9,\"\")","v":""},{"$f":"IF(BF$7=$E9,$G9,\"\")","v":""},{"$f":"IF(BF$7=$F9,$H9,\"\")","v":""},{"$f":"IF(BH$7=$E9,$G9,\"\")","v":""},{"$f":"IF(BH$7=$F9,$H9,\"\")","v":""},{"$f":"IF(BJ$7=$E9,$G9,\"\")","v":""},{"$f":"IF(BJ$7=$F9,$H9,\"\")","v":""},{"$f":"IF(BL$7=$E9,$G9,\"\")","v":""},{"$f":"IF(BL$7=$F9,$H9,\"\")","v":""},{"$f":"IF(BN$7=$E9,$G9,\"\")","v":""},{"$f":"IF(BN$7=$F9,$H9,\"\")","v":""},{"$f":"IF(BP$7=$E9,$G9,\"\")","v":""},{"$f":"IF(BP$7=$F9,$H9,\"\")","v":""},{"$f":"IF(BR$7=$E9,$G9,\"\")","v":""},{"$f":"IF(BR$7=$F9,$H9,\"\")","v":""},{"$f":"IF(BT$7=$E9,$G9,\"\")","v":""},{"$f":"IF(BT$7=$F9,$H9,\"\")","v":""},{"$f":"IF(BV$7=$E9,$G9,\"\")","v":""},{"$f":"IF(BV$7=$F9,$H9,\"\")","v":""},{"$f":"IF(BX$7=$E9,$G9,\"\")","v":""},{"$f":"IF(BX$7=$F9,$H9,\"\")","v":""},{"$f":"IF(BZ$7=$E9,$G9,\"\")","v":""},{"$f":"IF(BZ$7=$F9,$H9,\"\")","v":""},{"$f":"IF(CB$7=$E9,$G9,\"\")","v":""},{"$f":"IF(CB$7=$F9,$H9,\"\")","v":""},{"$f":"IF(CD$7=$E9,$G9,\"\")","v":""},{"$f":"IF(CD$7=$F9,$H9,\"\")","v":""},{"$f":"IF(CF$7=$E9,$G9,\"\")","v":""},{"$f":"IF(CF$7=$F9,$H9,\"\")","v":""},{"$f":"IF(CH$7=$E9,$G9,\"\")","v":""},{"$f":"IF(CH$7=$F9,$H9,\"\")","v":""},{"$f":"IF(CJ$7=$E9,$G9,\"\")","v":""},{"$f":"IF(CJ$7=$F9,$H9,\"\")","v":""},{"$f":"IF(CL$7=$E9,$G9,\"\")","v":""},{"$f":"IF(CL$7=$F9,$H9,\"\")","v":""},{"$f":"IF(CN$7=$E9,$G9,\"\")","v":""},{"$f":"IF(CN$7=$F9,$H9,\"\")","v":""},{"$f":"IF(CP$7=$E9,$G9,\"\")","v":""},{"$f":"IF(CP$7=$F9,$H9,\"\")","v":""},{"$f":"IF(CR$7=$E9,$G9,\"\")","v":""},{"$f":"IF(CR$7=$F9,$H9,\"\")","v":""},{"$f":"IF(CT$7=$E9,$G9,\"\")","v":""},{"$f":"IF(CT$7=$F9,$H9,\"\")","v":""},{"$f":"IF(CV$7=$E9,$G9,\"\")","v":""},{"$f":"IF(CV$7=$F9,$H9,\"\")","v":""},{"$f":"IF(CX$7=$E9,$G9,\"\")","v":""},{"$f":"IF(CX$7=$F9,$H9,\"\")","v":""},{"$f":"IF(CZ$7=$E9,$G9,\"\")","v":""},{"$f":"IF(CZ$7=$F9,$H9,\"\")","v":""},{"$f":"IF(DB$7=$E9,$G9,\"\")","v":""},{"$f":"IF(DB$7=$F9,$H9,\"\")","v":""},{"$f":"IF(DD$7=$E9,$G9,\"\")","v":""},{"$f":"IF(DD$7=$F9,$H9,\"\")","v":""},{"$f":"IF(DF$7=$E9,$G9,\"\")","v":""},{"$f":"IF(DF$7=$F9,$H9,\"\")","v":""},{"$f":"IF(DH$7=$E9,$G9,\"\")","v":0},{"$f":"IF(DH$7=$F9,$H9,\"\")","v":0},{"$f":"IF(DJ$7=$E9,$G9,\"\")","v":0},{"$f":"IF(DJ$7=$F9,$H9,\"\")","v":0},{"$f":"IF(DL$7=$E9,$G9,\"\")","v":0},{"$f":"IF(DL$7=$F9,$H9,\"\")","v":0},{"$f":"IF(DN$7=$E9,$G9,\"\")","v":0},{"$f":"IF(DN$7=$F9,$H9,\"\")","v":0},{"$f":"IF(DP$7=$E9,$G9,\"\")","v":0},{"$f":"IF(DP$7=$F9,$H9,\"\")","v":0},{"$f":"IF(DR$7=$E9,$G9,\"\")","v":0},{"$f":"IF(DR$7=$F9,$H9,\"\")","v":0},{"$f":"IF(DT$7=$E9,$G9,\"\")","v":0},{"$f":"IF(DT$7=$F9,$H9,\"\")","v":0},{"$f":"IF(DV$7=$E9,$G9,\"\")","v":0},{"$f":"IF(DV$7=$F9,$H9,\"\")","v":0},{"$f":"IF(DX$7=$E9,$G9,\"\")","v":0},{"$f":"IF(DX$7=$F9,$H9,\"\")","v":0},{"$f":"IF(DZ$7=$E9,$G9,\"\")","v":0},{"$f":"IF(DZ$7=$F9,$H9,\"\")","v":0},{"$f":"IF(EB$7=$E9,$G9,\"\")","v":0},{"$f":"IF(EB$7=$F9,$H9,\"\")","v":0},{"$f":"IF(ED$7=$E9,$G9,\"\")","v":0},{"$f":"IF(ED$7=$F9,$H9,\"\")","v":0},{"$f":"IF(EF$7=$E9,$G9,\"\")","v":0},{"$f":"IF(EF$7=$F9,$H9,\"\")","v":0},{"$f":"IF(EH$7=$E9,$G9,\"\")","v":0},{"$f":"IF(EH$7=$F9,$H9,\"\")","v":0},{"$f":"IF(EJ$7=$E9,$G9,\"\")","v":0},{"$f":"IF(EJ$7=$F9,$H9,\"\")","v":0},{"$f":"IF(EL$7=$E9,$G9,\"\")","v":0},{"$f":"IF(EL$7=$F9,$H9,\"\")","v":0},{"$f":"IF(EN$7=$E9,$G9,\"\")","v":0},{"$f":"IF(EN$7=$F9,$H9,\"\")","v":0},{"$f":"IF(EP$7=$E9,$G9,\"\")","v":0},{"$f":"IF(EP$7=$F9,$H9,\"\")","v":0},{"$f":"IF(ER$7=$E9,$G9,\"\")","v":0},{"$f":"IF(ER$7=$F9,$H9,\"\")","v":0},{"$f":"IF(ET$7=$E9,$G9,\"\")","v":0},{"$f":"IF(ET$7=$F9,$H9,\"\")","v":0},{"$f":"IF(EV$7=$E9,$G9,\"\")","v":0},{"$f":"IF(EV$7=$F9,$H9,\"\")","v":0},{"$f":"IF(EX$7=$E9,$G9,\"\")","v":0},{"$f":"IF(EX$7=$F9,$H9,\"\")","v":0},{"$f":"IF(EZ$7=$E9,$G9,\"\")","v":0},{"$f":"IF(EZ$7=$F9,$H9,\"\")","v":0},{"$f":"IF(FB$7=$E9,$G9,\"\")","v":0},{"$f":"IF(FB$7=$F9,$H9,\"\")","v":0},{"$f":"IF(FD$7=$E9,$G9,\"\")","v":0},{"$f":"IF(FD$7=$F9,$H9,\"\")","v":0},{"$f":"IF(FF$7=$E9,$G9,\"\")","v":0},{"$f":"IF(FF$7=$F9,$H9,\"\")","v":0},{"$f":"IF(FH$7=$E9,$G9,\"\")","v":0},{"$f":"IF(FH$7=$F9,$H9,\"\")","v":0},{"$f":"IF(FJ$7=$E9,$G9,\"\")","v":0},{"$f":"IF(FJ$7=$F9,$H9,\"\")","v":0},{"$f":"IF(FL$7=$E9,$G9,\"\")","v":0},{"$f":"IF(FL$7=$F9,$H9,\"\")","v":0},{"$f":"IF(FN$7=$E9,$G9,\"\")","v":0},{"$f":"IF(FN$7=$F9,$H9,\"\")","v":0}]
[2,"18/يونيو/2021","1","1","","","1","1",{"$f":"J10=K10","v":true},{"$f":"SUMIF($L$8:$FO$8,$J$8,L10:FO10)","v":0},{"$f":"SUMIF($L$8:$FO$8,$K$8,L10:FO10)","v":0},{"$f":"IF(L$7=$E10,$G10,\"\")","v":""},{"$f":"IF(L$7=$F10,$H10,\"\")","v":""},"",{"$f":"IF(N$7=$F10,$H10,\"\")","v":""},"",{"$f":"IF(P$7=$F10,$H10,\"\")","v":""},"",{"$f":"IF(R$7=$F10,$H10,\"\")","v":""},"",{"$f":"IF(T$7=$F10,$H10,\"\")","v":""},"",{"$f":"IF(V$7=$F10,$H10,\"\")","v":""},"",{"$f":"IF(X$7=$F10,$H10,\"\")","v":""},"",{"$f":"IF(Z$7=$F10,$H10,\"\")","v":""},"",{"$f":"IF(AB$7=$F10,$H10,\"\")","v":""},"",{"$f":"IF(AD$7=$F10,$H10,\"\")","v":""},"",{"$f":"IF(AF$7=$F10,$H10,\"\")","v":""},"",{"$f":"IF(AH$7=$F10,$H10,\"\")","v":""},"",{"$f":"IF(AJ$7=$F10,$H10,\"\")","v":""},"",{"$f":"IF(AL$7=$F10,$H10,\"\")","v":""},"",{"$f":"IF(AN$7=$F10,$H10,\"\")","v":""},"",{"$f":"IF(AP$7=$F10,$H10,\"\")","v":""},"",{"$f":"IF(AR$7=$F10,$H10,\"\")","v":""},"",{"$f":"IF(AT$7=$F10,$H10,\"\")","v":""},"",{"$f":"IF(AV$7=$F10,$H10,\"\")","v":""},"",{"$f":"IF(AX$7=$F10,$H10,\"\")","v":""},"",{"$f":"IF(AZ$7=$F10,$H10,\"\")","v":""},"",{"$f":"IF(BB$7=$F10,$H10,\"\")","v":""},"",{"$f":"IF(BD$7=$F10,$H10,\"\")","v":""},"",{"$f":"IF(BF$7=$F10,$H10,\"\")","v":""},"",{"$f":"IF(BH$7=$F10,$H10,\"\")","v":""},"",{"$f":"IF(BJ$7=$F10,$H10,\"\")","v":""},"",{"$f":"IF(BL$7=$F10,$H10,\"\")","v":""},"",{"$f":"IF(BN$7=$F10,$H10,\"\")","v":""},"",{"$f":"IF(BP$7=$F10,$H10,\"\")","v":""},"",{"$f":"IF(BR$7=$F10,$H10,\"\")","v":""},"",{"$f":"IF(BT$7=$F10,$H10,\"\")","v":""},"",{"$f":"IF(BV$7=$F10,$H10,\"\")","v":""},"",{"$f":"IF(BX$7=$F10,$H10,\"\")","v":""},"",{"$f":"IF(BZ$7=$F10,$H10,\"\")","v":""},"",{"$f":"IF(CB$7=$F10,$H10,\"\")","v":""},"",{"$f":"IF(CD$7=$F10,$H10,\"\")","v":""},"",{"$f":"IF(CF$7=$F10,$H10,\"\")","v":""},"",{"$f":"IF(CH$7=$F10,$H10,\"\")","v":""},"",{"$f":"IF(CJ$7=$F10,$H10,\"\")","v":""},"",{"$f":"IF(CL$7=$F10,$H10,\"\")","v":""},"",{"$f":"IF(CN$7=$F10,$H10,\"\")","v":""},"",{"$f":"IF(CP$7=$F10,$H10,\"\")","v":""},"",{"$f":"IF(CR$7=$F10,$H10,\"\")","v":""},"",{"$f":"IF(CT$7=$F10,$H10,\"\")","v":""},"",{"$f":"IF(CV$7=$F10,$H10,\"\")","v":""},"",{"$f":"IF(CX$7=$F10,$H10,\"\")","v":""},"",{"$f":"IF(CZ$7=$F10,$H10,\"\")","v":""},"",{"$f":"IF(DB$7=$F10,$H10,\"\")","v":""},"",{"$f":"IF(DD$7=$F10,$H10,\"\")","v":""},"",{"$f":"IF(DF$7=$F10,$H10,\"\")","v":""},"1",{"$f":"IF(DH$7=$F10,$H10,\"\")","v":"1"},"1",{"$f":"IF(DJ$7=$F10,$H10,\"\")","v":"1"},"1",{"$f":"IF(DL$7=$F10,$H10,\"\")","v":"1"},"1",{"$f":"IF(DN$7=$F10,$H10,\"\")","v":"1"},"1",{"$f":"IF(DP$7=$F10,$H10,\"\")","v":"1"},"1",{"$f":"IF(DR$7=$F10,$H10,\"\")","v":"1"},"1",{"$f":"IF(DT$7=$F10,$H10,\"\")","v":"1"},"1",{"$f":"IF(DV$7=$F10,$H10,\"\")","v":"1"},"1",{"$f":"IF(DX$7=$F10,$H10,\"\")","v":"1"},"1",{"$f":"IF(DZ$7=$F10,$H10,\"\")","v":"1"},"1",{"$f":"IF(EB$7=$F10,$H10,\"\")","v":"1"},"1",{"$f":"IF(ED$7=$F10,$H10,\"\")","v":"1"},"1",{"$f":"IF(EF$7=$F10,$H10,\"\")","v":"1"},"1",{"$f":"IF(EH$7=$F10,$H10,\"\")","v":"1"},"1",{"$f":"IF(EJ$7=$F10,$H10,\"\")","v":"1"},"1",{"$f":"IF(EL$7=$F10,$H10,\"\")","v":"1"},"1",{"$f":"IF(EN$7=$F10,$H10,\"\")","v":"1"},"1",{"$f":"IF(EP$7=$F10,$H10,\"\")","v":"1"},"1",{"$f":"IF(ER$7=$F10,$H10,\"\")","v":"1"},"1",{"$f":"IF(ET$7=$F10,$H10,\"\")","v":"1"},"1",{"$f":"IF(EV$7=$F10,$H10,\"\")","v":"1"},"1",{"$f":"IF(EX$7=$F10,$H10,\"\")","v":"1"},"1",{"$f":"IF(EZ$7=$F10,$H10,\"\")","v":"1"},"1",{"$f":"IF(FB$7=$F10,$H10,\"\")","v":"1"},"1",{"$f":"IF(FD$7=$F10,$H10,\"\")","v":"1"},"1",{"$f":"IF(FF$7=$F10,$H10,\"\")","v":"1"},"1",{"$f":"IF(FH$7=$F10,$H10,\"\")","v":"1"},"1",{"$f":"IF(FJ$7=$F10,$H10,\"\")","v":"1"},"1",{"$f":"IF(FL$7=$F10,$H10,\"\")","v":"1"},"1","1"]
[3,"18/يونيو/2021","99","9","العملاء","الخزينة","99","88",true,0,0,"","88","",{"$f":"IF(N$7=$F11,$H11,\"\")","v":""},"99",{"$f":"IF(P$7=$F11,$H11,\"\")","v":""},"",{"$f":"IF(R$7=$F11,$H11,\"\")","v":""},"",{"$f":"IF(T$7=$F11,$H11,\"\")","v":""},"",{"$f":"IF(V$7=$F11,$H11,\"\")","v":""},"",{"$f":"IF(X$7=$F11,$H11,\"\")","v":""},"",{"$f":"IF(Z$7=$F11,$H11,\"\")","v":""},"",{"$f":"IF(AB$7=$F11,$H11,\"\")","v":""},"",{"$f":"IF(AD$7=$F11,$H11,\"\")","v":""},"",{"$f":"IF(AF$7=$F11,$H11,\"\")","v":""},"",{"$f":"IF(AH$7=$F11,$H11,\"\")","v":""},"",{"$f":"IF(AJ$7=$F11,$H11,\"\")","v":""},"",{"$f":"IF(AL$7=$F11,$H11,\"\")","v":""},"",{"$f":"IF(AN$7=$F11,$H11,\"\")","v":""},"",{"$f":"IF(AP$7=$F11,$H11,\"\")","v":""},"",{"$f":"IF(AR$7=$F11,$H11,\"\")","v":""},"",{"$f":"IF(AT$7=$F11,$H11,\"\")","v":""},"",{"$f":"IF(AV$7=$F11,$H11,\"\")","v":""},"",{"$f":"IF(AX$7=$F11,$H11,\"\")","v":""},"",{"$f":"IF(AZ$7=$F11,$H11,\"\")","v":""},"",{"$f":"IF(BB$7=$F11,$H11,\"\")","v":""},"",{"$f":"IF(BD$7=$F11,$H11,\"\")","v":""},"",{"$f":"IF(BF$7=$F11,$H11,\"\")","v":""},"",{"$f":"IF(BH$7=$F11,$H11,\"\")","v":""},"",{"$f":"IF(BJ$7=$F11,$H11,\"\")","v":""},"",{"$f":"IF(BL$7=$F11,$H11,\"\")","v":""},"",{"$f":"IF(BN$7=$F11,$H11,\"\")","v":""},"",{"$f":"IF(BP$7=$F11,$H11,\"\")","v":""},"",{"$f":"IF(BR$7=$F11,$H11,\"\")","v":""},"",{"$f":"IF(BT$7=$F11,$H11,\"\")","v":""},"",{"$f":"IF(BV$7=$F11,$H11,\"\")","v":""},"",{"$f":"IF(BX$7=$F11,$H11,\"\")","v":""},"",{"$f":"IF(BZ$7=$F11,$H11,\"\")","v":""},"",{"$f":"IF(CB$7=$F11,$H11,\"\")","v":""},"",{"$f":"IF(CD$7=$F11,$H11,\"\")","v":""},"",{"$f":"IF(CF$7=$F11,$H11,\"\")","v":""},"",{"$f":"IF(CH$7=$F11,$H11,\"\")","v":""},"",{"$f":"IF(CJ$7=$F11,$H11,\"\")","v":""},"",{"$f":"IF(CL$7=$F11,$H11,\"\")","v":""},"",{"$f":"IF(CN$7=$F11,$H11,\"\")","v":""},"",{"$f":"IF(CP$7=$F11,$H11,\"\")","v":""},"",{"$f":"IF(CR$7=$F11,$H11,\"\")","v":""},"",{"$f":"IF(CT$7=$F11,$H11,\"\")","v":""},"",{"$f":"IF(CV$7=$F11,$H11,\"\")","v":""},"",{"$f":"IF(CX$7=$F11,$H11,\"\")","v":""},"",{"$f":"IF(CZ$7=$F11,$H11,\"\")","v":""},"",{"$f":"IF(DB$7=$F11,$H11,\"\")","v":""},"",{"$f":"IF(DD$7=$F11,$H11,\"\")","v":""},"",{"$f":"IF(DF$7=$F11,$H11,\"\")","v":""},"",{"$f":"IF(DH$7=$F11,$H11,\"\")","v":""},"",{"$f":"IF(DJ$7=$F11,$H11,\"\")","v":""},"",{"$f":"IF(DL$7=$F11,$H11,\"\")","v":""},"",{"$f":"IF(DN$7=$F11,$H11,\"\")","v":""},"",{"$f":"IF(DP$7=$F11,$H11,\"\")","v":""},"",{"$f":"IF(DR$7=$F11,$H11,\"\")","v":""},"",{"$f":"IF(DT$7=$F11,$H11,\"\")","v":""},"",{"$f":"IF(DV$7=$F11,$H11,\"\")","v":""},"",{"$f":"IF(DX$7=$F11,$H11,\"\")","v":""},"",{"$f":"IF(DZ$7=$F11,$H11,\"\")","v":""},"",{"$f":"IF(EB$7=$F11,$H11,\"\")","v":""},"",{"$f":"IF(ED$7=$F11,$H11,\"\")","v":""},"",{"$f":"IF(EF$7=$F11,$H11,\"\")","v":""},"",{"$f":"IF(EH$7=$F11,$H11,\"\")","v":""},"",{"$f":"IF(EJ$7=$F11,$H11,\"\")","v":""},"",{"$f":"IF(EL$7=$F11,$H11,\"\")","v":""},"",{"$f":"IF(EN$7=$F11,$H11,\"\")","v":""},"",{"$f":"IF(EP$7=$F11,$H11,\"\")","v":""},"",{"$f":"IF(ER$7=$F11,$H11,\"\")","v":""},"",{"$f":"IF(ET$7=$F11,$H11,\"\")","v":""},"",{"$f":"IF(EV$7=$F11,$H11,\"\")","v":""},"",{"$f":"IF(EX$7=$F11,$H11,\"\")","v":""},"",{"$f":"IF(EZ$7=$F11,$H11,\"\")","v":""},"",{"$f":"IF(FB$7=$F11,$H11,\"\")","v":""},"",{"$f":"IF(FD$7=$F11,$H11,\"\")","v":""},"",{"$f":"IF(FF$7=$F11,$H11,\"\")","v":""},"",{"$f":"IF(FH$7=$F11,$H11,\"\")","v":""},"",{"$f":"IF(FJ$7=$F11,$H11,\"\")","v":""},"",{"$f":"IF(FL$7=$F11,$H11,\"\")","v":""},"",""]
[4,null,null,null,null,null,null,null,true,0,0,"","","",{"$f":"IF(N$7=$F12,$H12,\"\")","v":""},"",{"$f":"IF(P$7=$F12,$H12,\"\")","v":""},"",{"$f":"IF(R$7=$F12,$H12,\"\")","v":""},"",{"$f":"IF(T$7=$F12,$H12,\"\")","v":""},"",{"$f":"IF(V$7=$F12,$H12,\"\")","v":""},"",{"$f":"IF(X$7=$F12,$H12,\"\")","v":""},"",{"$f":"IF(Z$7=$F12,$H12,\"\")","v":""},"",{"$f":"IF(AB$7=$F12,$H12,\"\")","v":""},"",{"$f":"IF(AD$7=$F12,$H12,\"\")","v":""},"",{"$f":"IF(AF$7=$F12,$H12,\"\")","v":""},"",{"$f":"IF(AH$7=$F12,$H12,\"\")","v":""},"",{"$f":"IF(AJ$7=$F12,$H12,\"\")","v":""},"",{"$f":"IF(AL$7=$F12,$H12,\"\")","v":""},"",{"$f":"IF(AN$7=$F12,$H12,\"\")","v":""},"",{"$f":"IF(AP$7=$F12,$H12,\"\")","v":""},"",{"$f":"IF(AR$7=$F12,$H12,\"\")","v":""},"",{"$f":"IF(AT$7=$F12,$H12,\"\")","v":""},"",{"$f":"IF(AV$7=$F12,$H12,\"\")","v":""},"",{"$f":"IF(AX$7=$F12,$H12,\"\")","v":""},"",{"$f":"IF(AZ$7=$F12,$H12,\"\")","v":""},"",{"$f":"IF(BB$7=$F12,$H12,\"\")","v":""},"",{"$f":"IF(BD$7=$F12,$H12,\"\")","v":""},"",{"$f":"IF(BF$7=$F12,$H12,\"\")","v":""},"",{"$f":"IF(BH$7=$F12,$H12,\"\")","v":""},"",{"$f":"IF(BJ$7=$F12,$H12,\"\")","v":""},"",{"$f":"IF(BL$7=$F12,$H12,\"\")","v":""},"",{"$f":"IF(BN$7=$F12,$H12,\"\")","v":""},"",{"$f":"IF(BP$7=$F12,$H12,\"\")","v":""},"",{"$f":"IF(BR$7=$F12,$H12,\"\")","v":""},"",{"$f":"IF(BT$7=$F12,$H12,\"\")","v":""},"",{"$f":"IF(BV$7=$F12,$H12,\"\")","v":""},"",{"$f":"IF(BX$7=$F12,$H12,\"\")","v":""},"",{"$f":"IF(BZ$7=$F12,$H12,\"\")","v":""},"",{"$f":"IF(CB$7=$F12,$H12,\"\")","v":""},"",{"$f":"IF(CD$7=$F12,$H12,\"\")","v":""},"",{"$f":"IF(CF$7=$F12,$H12,\"\")","v":""},"",{"$f":"IF(CH$7=$F12,$H12,\"\")","v":""},"",{"$f":"IF(CJ$7=$F12,$H12,\"\")","v":""},"",{"$f":"IF(CL$7=$F12,$H12,\"\")","v":""},"",{"$f":"IF(CN$7=$F12,$H12,\"\")","v":""},"",{"$f":"IF(CP$7=$F12,$H12,\"\")","v":""},"",{"$f":"IF(CR$7=$F12,$H12,\"\")","v":""},"",{"$f":"IF(CT$7=$F12,$H12,\"\")","v":""},"",{"$f":"IF(CV$7=$F12,$H12,\"\")","v":""},"",{"$f":"IF(CX$7=$F12,$H12,\"\")","v":""},"",{"$f":"IF(CZ$7=$F12,$H12,\"\")","v":""},"",{"$f":"IF(DB$7=$F12,$H12,\"\")","v":""},"",{"$f":"IF(DD$7=$F12,$H12,\"\")","v":""},"",{"$f":"IF(DF$7=$F12,$H12,\"\")","v":""},0,{"$f":"IF(DH$7=$F12,$H12,\"\")","v":0},0,{"$f":"IF(DJ$7=$F12,$H12,\"\")","v":0},0,{"$f":"IF(DL$7=$F12,$H12,\"\")","v":0},0,{"$f":"IF(DN$7=$F12,$H12,\"\")","v":0},0,{"$f":"IF(DP$7=$F12,$H12,\"\")","v":0},0,{"$f":"IF(DR$7=$F12,$H12,\"\")","v":0},0,{"$f":"IF(DT$7=$F12,$H12,\"\")","v":0},0,{"$f":"IF(DV$7=$F12,$H12,\"\")","v":0},0,{"$f":"IF(DX$7=$F12,$H12,\"\")","v":0},0,{"$f":"IF(DZ$7=$F12,$H12,\"\")","v":0},0,{"$f":"IF(EB$7=$F12,$H12,\"\")","v":0},0,{"$f":"IF(ED$7=$F12,$H12,\"\")","v":0},0,{"$f":"IF(EF$7=$F12,$H12,\"\")","v":0},0,{"$f":"IF(EH$7=$F12,$H12,\"\")","v":0},0,{"$f":"IF(EJ$7=$F12,$H12,\"\")","v":0},0,{"$f":"IF(EL$7=$F12,$H12,\"\")","v":0},0,{"$f":"IF(EN$7=$F12,$H12,\"\")","v":0},0,{"$f":"IF(EP$7=$F12,$H12,\"\")","v":0},0,{"$f":"IF(ER$7=$F12,$H12,\"\")","v":0},0,{"$f":"IF(ET$7=$F12,$H12,\"\")","v":0},0,{"$f":"IF(EV$7=$F12,$H12,\"\")","v":0},0,{"$f":"IF(EX$7=$F12,$H12,\"\")","v":0},0,{"$f":"IF(EZ$7=$F12,$H12,\"\")","v":0},0,{"$f":"IF(FB$7=$F12,$H12,\"\")","v":0},0,{"$f":"IF(FD$7=$F12,$H12,\"\")","v":0},0,{"$f":"IF(FF$7=$F12,$H12,\"\")","v":0},0,{"$f":"IF(FH$7=$F12,$H12,\"\")","v":0},0,{"$f":"IF(FJ$7=$F12,$H12,\"\")","v":0},0,{"$f":"IF(FL$7=$F12,$H12,\"\")","v":0},0,0]
[5,null,null,null,null,null,null,null,true,0,0,"","","",{"$f":"IF(N$7=$F13,$H13,\"\")","v":""},"",{"$f":"IF(P$7=$F13,$H13,\"\")","v":""},"",{"$f":"IF(R$7=$F13,$H13,\"\")","v":""},"",{"$f":"IF(T$7=$F13,$H13,\"\")","v":""},"",{"$f":"IF(V$7=$F13,$H13,\"\")","v":""},"",{"$f":"IF(X$7=$F13,$H13,\"\")","v":""},"",{"$f":"IF(Z$7=$F13,$H13,\"\")","v":""},"",{"$f":"IF(AB$7=$F13,$H13,\"\")","v":""},"",{"$f":"IF(AD$7=$F13,$H13,\"\")","v":""},"",{"$f":"IF(AF$7=$F13,$H13,\"\")","v":""},"",{"$f":"IF(AH$7=$F13,$H13,\"\")","v":""},"",{"$f":"IF(AJ$7=$F13,$H13,\"\")","v":""},"",{"$f":"IF(AL$7=$F13,$H13,\"\")","v":""},"",{"$f":"IF(AN$7=$F13,$H13,\"\")","v":""},"",{"$f":"IF(AP$7=$F13,$H13,\"\")","v":""},"",{"$f":"IF(AR$7=$F13,$H13,\"\")","v":""},"",{"$f":"IF(AT$7=$F13,$H13,\"\")","v":""},"",{"$f":"IF(AV$7=$F13,$H13,\"\")","v":""},"",{"$f":"IF(AX$7=$F13,$H13,\"\")","v":""},"",{"$f":"IF(AZ$7=$F13,$H13,\"\")","v":""},"",{"$f":"IF(BB$7=$F13,$H13,\"\")","v":""},"",{"$f":"IF(BD$7=$F13,$H13,\"\")","v":""},"",{"$f":"IF(BF$7=$F13,$H13,\"\")","v":""},"",{"$f":"IF(BH$7=$F13,$H13,\"\")","v":""},"",{"$f":"IF(BJ$7=$F13,$H13,\"\")","v":""},"",{"$f":"IF(BL$7=$F13,$H13,\"\")","v":""},"",{"$f":"IF(BN$7=$F13,$H13,\"\")","v":""},"",{"$f":"IF(BP$7=$F13,$H13,\"\")","v":""},"",{"$f":"IF(BR$7=$F13,$H13,\"\")","v":""},"",{"$f":"IF(BT$7=$F13,$H13,\"\")","v":""},"",{"$f":"IF(BV$7=$F13,$H13,\"\")","v":""},"",{"$f":"IF(BX$7=$F13,$H13,\"\")","v":""},"",{"$f":"IF(BZ$7=$F13,$H13,\"\")","v":""},"",{"$f":"IF(CB$7=$F13,$H13,\"\")","v":""},"",{"$f":"IF(CD$7=$F13,$H13,\"\")","v":""},"",{"$f":"IF(CF$7=$F13,$H13,\"\")","v":""},"",{"$f":"IF(CH$7=$F13,$H13,\"\")","v":""},"",{"$f":"IF(CJ$7=$F13,$H13,\"\")","v":""},"",{"$f":"IF(CL$7=$F13,$H13,\"\")","v":""},"",{"$f":"IF(CN$7=$F13,$H13,\"\")","v":""},"",{"$f":"IF(CP$7=$F13,$H13,\"\")","v":""},"",{"$f":"IF(CR$7=$F13,$H13,\"\")","v":""},"",{"$f":"IF(CT$7=$F13,$H13,\"\")","v":""},"",{"$f":"IF(CV$7=$F13,$H13,\"\")","v":""},"",{"$f":"IF(CX$7=$F13,$H13,\"\")","v":""},"",{"$f":"IF(CZ$7=$F13,$H13,\"\")","v":""},"",{"$f":"IF(DB$7=$F13,$H13,\"\")","v":""},"",{"$f":"IF(DD$7=$F13,$H13,\"\")","v":""},"",{"$f":"IF(DF$7=$F13,$H13,\"\")","v":""},0,{"$f":"IF(DH$7=$F13,$H13,\"\")","v":0},0,{"$f":"IF(DJ$7=$F13,$H13,\"\")","v":0},0,{"$f":"IF(DL$7=$F13,$H13,\"\")","v":0},0,{"$f":"IF(DN$7=$F13,$H13,\"\")","v":0},0,{"$f":"IF(DP$7=$F13,$H13,\"\")","v":0},0,{"$f":"IF(DR$7=$F13,$H13,\"\")","v":0},0,{"$f":"IF(DT$7=$F13,$H13,\"\")","v":0},0,{"$f":"IF(DV$7=$F13,$H13,\"\")","v":0},0,{"$f":"IF(DX$7=$F13,$H13,\"\")","v":0},0,{"$f":"IF(DZ$7=$F13,$H13,\"\")","v":0},0,{"$f":"IF(EB$7=$F13,$H13,\"\")","v":0},0,{"$f":"IF(ED$7=$F13,$H13,\"\")","v":0},0,{"$f":"IF(EF$7=$F13,$H13,\"\")","v":0},0,{"$f":"IF(EH$7=$F13,$H13,\"\")","v":0},0,{"$f":"IF(EJ$7=$F13,$H13,\"\")","v":0},0,{"$f":"IF(EL$7=$F13,$H13,\"\")","v":0},0,{"$f":"IF(EN$7=$F13,$H13,\"\")","v":0},0,{"$f":"IF(EP$7=$F13,$H13,\"\")","v":0},0,{"$f":"IF(ER$7=$F13,$H13,\"\")","v":0},0,{"$f":"IF(ET$7=$F13,$H13,\"\")","v":0},0,{"$f":"IF(EV$7=$F13,$H13,\"\")","v":0},0,{"$f":"IF(EX$7=$F13,$H13,\"\")","v":0},0,{"$f":"IF(EZ$7=$F13,$H13,\"\")","v":0},0,{"$f":"IF(FB$7=$F13,$H13,\"\")","v":0},0,{"$f":"IF(FD$7=$F13,$H13,\"\")","v":0},0,{"$f":"IF(FF$7=$F13,$H13,\"\")","v":0},0,{"$f":"IF(FH$7=$F13,$H13,\"\")","v":0},0,{"$f":"IF(FJ$7=$F13,$H13,\"\")","v":0},0,{"$f":"IF(FL$7=$F13,$H13,\"\")","v":0},0,0]
[6,null,null,null,null,null,null,null,true,0,0,"","","",{"$f":"IF(N$7=$F14,$H14,\"\")","v":""},"",{"$f":"IF(P$7=$F14,$H14,\"\")","v":""},"",{"$f":"IF(R$7=$F14,$H14,\"\")","v":""},"",{"$f":"IF(T$7=$F14,$H14,\"\")","v":""},"",{"$f":"IF(V$7=$F14,$H14,\"\")","v":""},"",{"$f":"IF(X$7=$F14,$H14,\"\")","v":""},"",{"$f":"IF(Z$7=$F14,$H14,\"\")","v":""},"",{"$f":"IF(AB$7=$F14,$H14,\"\")","v":""},"",{"$f":"IF(AD$7=$F14,$H14,\"\")","v":""},"",{"$f":"IF(AF$7=$F14,$H14,\"\")","v":""},"",{"$f":"IF(AH$7=$F14,$H14,\"\")","v":""},"",{"$f":"IF(AJ$7=$F14,$H14,\"\")","v":""},"",{"$f":"IF(AL$7=$F14,$H14,\"\")","v":""},"",{"$f":"IF(AN$7=$F14,$H14,\"\")","v":""},"",{"$f":"IF(AP$7=$F14,$H14,\"\")","v":""},"",{"$f":"IF(AR$7=$F14,$H14,\"\")","v":""},"",{"$f":"IF(AT$7=$F14,$H14,\"\")","v":""},"",{"$f":"IF(AV$7=$F14,$H14,\"\")","v":""},"",{"$f":"IF(AX$7=$F14,$H14,\"\")","v":""},"",{"$f":"IF(AZ$7=$F14,$H14,\"\")","v":""},"",{"$f":"IF(BB$7=$F14,$H14,\"\")","v":""},"",{"$f":"IF(BD$7=$F14,$H14,\"\")","v":""},"",{"$f":"IF(BF$7=$F14,$H14,\"\")","v":""},"",{"$f":"IF(BH$7=$F14,$H14,\"\")","v":""},"",{"$f":"IF(BJ$7=$F14,$H14,\"\")","v":""},"",{"$f":"IF(BL$7=$F14,$H14,\"\")","v":""},"",{"$f":"IF(BN$7=$F14,$H14,\"\")","v":""},"",{"$f":"IF(BP$7=$F14,$H14,\"\")","v":""},"",{"$f":"IF(BR$7=$F14,$H14,\"\")","v":""},"",{"$f":"IF(BT$7=$F14,$H14,\"\")","v":""},"",{"$f":"IF(BV$7=$F14,$H14,\"\")","v":""},"",{"$f":"IF(BX$7=$F14,$H14,\"\")","v":""},"",{"$f":"IF(BZ$7=$F14,$H14,\"\")","v":""},"",{"$f":"IF(CB$7=$F14,$H14,\"\")","v":""},"",{"$f":"IF(CD$7=$F14,$H14,\"\")","v":""},"",{"$f":"IF(CF$7=$F14,$H14,\"\")","v":""},"",{"$f":"IF(CH$7=$F14,$H14,\"\")","v":""},"",{"$f":"IF(CJ$7=$F14,$H14,\"\")","v":""},"",{"$f":"IF(CL$7=$F14,$H14,\"\")","v":""},"",{"$f":"IF(CN$7=$F14,$H14,\"\")","v":""},"",{"$f":"IF(CP$7=$F14,$H14,\"\")","v":""},"",{"$f":"IF(CR$7=$F14,$H14,\"\")","v":""},"",{"$f":"IF(CT$7=$F14,$H14,\"\")","v":""},"",{"$f":"IF(CV$7=$F14,$H14,\"\")","v":""},"",{"$f":"IF(CX$7=$F14,$H14,\"\")","v":""},"",{"$f":"IF(CZ$7=$F14,$H14,\"\")","v":""},"",{"$f":"IF(DB$7=$F14,$H14,\"\")","v":""},"",{"$f":"IF(DD$7=$F14,$H14,\"\")","v":""},"",{"$f":"IF(DF$7=$F14,$H14,\"\")","v":""},0,{"$f":"IF(DH$7=$F14,$H14,\"\")","v":0},0,{"$f":"IF(DJ$7=$F14,$H14,\"\")","v":0},0,{"$f":"IF(DL$7=$F14,$H14,\"\")","v":0},0,{"$f":"IF(DN$7=$F14,$H14,\"\")","v":0},0,{"$f":"IF(DP$7=$F14,$H14,\"\")","v":0},0,{"$f":"IF(DR$7=$F14,$H14,\"\")","v":0},0,{"$f":"IF(DT$7=$F14,$H14,\"\")","v":0},0,{"$f":"IF(DV$7=$F14,$H14,\"\")","v":0},0,{"$f":"IF(DX$7=$F14,$H14,\"\")","v":0},0,{"$f":"IF(DZ$7=$F14,$H14,\"\")","v":0},0,{"$f":"IF(EB$7=$F14,$H14,\"\")","v":0},0,{"$f":"IF(ED$7=$F14,$H14,\"\")","v":0},0,{"$f":"IF(EF$7=$F14,$H14,\"\")","v":0},0,{"$f":"IF(EH$7=$F14,$H14,\"\")","v":0},0,{"$f":"IF(EJ$7=$F14,$H14,\"\")","v":0},0,{"$f":"IF(EL$7=$F14,$H14,\"\")","v":0},0,{"$f":"IF(EN$7=$F14,$H14,\"\")","v":0},0,{"$f":"IF(EP$7=$F14,$H14,\"\")","v":0},0,{"$f":"IF(ER$7=$F14,$H14,\"\")","v":0},0,{"$f":"IF(ET$7=$F14,$H14,\"\")","v":0},0,{"$f":"IF(EV$7=$F14,$H14,\"\")","v":0},0,{"$f":"IF(EX$7=$F14,$H14,\"\")","v":0},0,{"$f":"IF(EZ$7=$F14,$H14,\"\")","v":0},0,{"$f":"IF(FB$7=$F14,$H14,\"\")","v":0},0,{"$f":"IF(FD$7=$F14,$H14,\"\")","v":0},0,{"$f":"IF(FF$7=$F14,$H14,\"\")","v":0},0,{"$f":"IF(FH$7=$F14,$H14,\"\")","v":0},0,{"$f":"IF(FJ$7=$F14,$H14,\"\")","v":0},0,{"$f":"IF(FL$7=$F14,$H14,\"\")","v":0},0,0]
[7,null,null,null,null,null,null,null,true,0,0,"","","",{"$f":"IF(N$7=$F15,$H15,\"\")","v":""},"",{"$f":"IF(P$7=$F15,$H15,\"\")","v":""},"",{"$f":"IF(R$7=$F15,$H15,\"\")","v":""},"",{"$f":"IF(T$7=$F15,$H15,\"\")","v":""},"",{"$f":"IF(V$7=$F15,$H15,\"\")","v":""},"",{"$f":"IF(X$7=$F15,$H15,\"\")","v":""},"",{"$f":"IF(Z$7=$F15,$H15,\"\")","v":""},"",{"$f":"IF(AB$7=$F15,$H15,\"\")","v":""},"",{"$f":"IF(AD$7=$F15,$H15,\"\")","v":""},"",{"$f":"IF(AF$7=$F15,$H15,\"\")","v":""},"",{"$f":"IF(AH$7=$F15,$H15,\"\")","v":""},"",{"$f":"IF(AJ$7=$F15,$H15,\"\")","v":""},"",{"$f":"IF(AL$7=$F15,$H15,\"\")","v":""},"",{"$f":"IF(AN$7=$F15,$H15,\"\")","v":""},"",{"$f":"IF(AP$7=$F15,$H15,\"\")","v":""},"",{"$f":"IF(AR$7=$F15,$H15,\"\")","v":""},"",{"$f":"IF(AT$7=$F15,$H15,\"\")","v":""},"",{"$f":"IF(AV$7=$F15,$H15,\"\")","v":""},"",{"$f":"IF(AX$7=$F15,$H15,\"\")","v":""},"",{"$f":"IF(AZ$7=$F15,$H15,\"\")","v":""},"",{"$f":"IF(BB$7=$F15,$H15,\"\")","v":""},"",{"$f":"IF(BD$7=$F15,$H15,\"\")","v":""},"",{"$f":"IF(BF$7=$F15,$H15,\"\")","v":""},"",{"$f":"IF(BH$7=$F15,$H15,\"\")","v":""},"",{"$f":"IF(BJ$7=$F15,$H15,\"\")","v":""},"",{"$f":"IF(BL$7=$F15,$H15,\"\")","v":""},"",{"$f":"IF(BN$7=$F15,$H15,\"\")","v":""},"",{"$f":"IF(BP$7=$F15,$H15,\"\")","v":""},"",{"$f":"IF(BR$7=$F15,$H15,\"\")","v":""},"",{"$f":"IF(BT$7=$F15,$H15,\"\")","v":""},"",{"$f":"IF(BV$7=$F15,$H15,\"\")","v":""},"",{"$f":"IF(BX$7=$F15,$H15,\"\")","v":""},"",{"$f":"IF(BZ$7=$F15,$H15,\"\")","v":""},"",{"$f":"IF(CB$7=$F15,$H15,\"\")","v":""},"",{"$f":"IF(CD$7=$F15,$H15,\"\")","v":""},"",{"$f":"IF(CF$7=$F15,$H15,\"\")","v":""},"",{"$f":"IF(CH$7=$F15,$H15,\"\")","v":""},"",{"$f":"IF(CJ$7=$F15,$H15,\"\")","v":""},"",{"$f":"IF(CL$7=$F15,$H15,\"\")","v":""},"",{"$f":"IF(CN$7=$F15,$H15,\"\")","v":""},"",{"$f":"IF(CP$7=$F15,$H15,\"\")","v":""},"",{"$f":"IF(CR$7=$F15,$H15,\"\")","v":""},"",{"$f":"IF(CT$7=$F15,$H15,\"\")","v":""},"",{"$f":"IF(CV$7=$F15,$H15,\"\")","v":""},"",{"$f":"IF(CX$7=$F15,$H15,\"\")","v":""},"",{"$f":"IF(CZ$7=$F15,$H15,\"\")","v":""},"",{"$f":"IF(DB$7=$F15,$H15,\"\")","v":""},"",{"$f":"IF(DD$7=$F15,$H15,\"\")","v":""},"",{"$f":"IF(DF$7=$F15,$H15,\"\")","v":""},0,{"$f":"IF(DH$7=$F15,$H15,\"\")","v":0},0,{"$f":"IF(DJ$7=$F15,$H15,\"\")","v":0},0,{"$f":"IF(DL$7=$F15,$H15,\"\")","v":0},0,{"$f":"IF(DN$7=$F15,$H15,\"\")","v":0},0,{"$f":"IF(DP$7=$F15,$H15,\"\")","v":0},0,{"$f":"IF(DR$7=$F15,$H15,\"\")","v":0},0,{"$f":"IF(DT$7=$F15,$H15,\"\")","v":0},0,{"$f":"IF(DV$7=$F15,$H15,\"\")","v":0},0,{"$f":"IF(DX$7=$F15,$H15,\"\")","v":0},0,{"$f":"IF(DZ$7=$F15,$H15,\"\")","v":0},0,{"$f":"IF(EB$7=$F15,$H15,\"\")","v":0},0,{"$f":"IF(ED$7=$F15,$H15,\"\")","v":0},0,{"$f":"IF(EF$7=$F15,$H15,\"\")","v":0},0,{"$f":"IF(EH$7=$F15,$H15,\"\")","v":0},0,{"$f":"IF(EJ$7=$F15,$H15,\"\")","v":0},0,{"$f":"IF(EL$7=$F15,$H15,\"\")","v":0},0,{"$f":"IF(EN$7=$F15,$H15,\"\")","v":0},0,{"$f":"IF(EP$7=$F15,$H15,\"\")","v":0},0,{"$f":"IF(ER$7=$F15,$H15,\"\")","v":0},0,{"$f":"IF(ET$7=$F15,$H15,\"\")","v":0},0,{"$f":"IF(EV$7=$F15,$H15,\"\")","v":0},0,{"$f":"IF(EX$7=$F15,$H15,\"\")","v":0},0,{"$f":"IF(EZ$7=$F15,$H15,\"\")","v":0},0,{"$f":"IF(FB$7=$F15,$H15,\"\")","v":0},0,{"$f":"IF(FD$7=$F15,$H15,\"\")","v":0},0,{"$f":"IF(FF$7=$F15,$H15,\"\")","v":0},0,{"$f":"IF(FH$7=$F15,$H15,\"\")","v":0},0,{"$f":"IF(FJ$7=$F15,$H15,\"\")","v":0},0,{"$f":"IF(FL$7=$F15,$H15,\"\")","v":0},0,0]
[8,null,null,null,null,null,null,null,true,0,0,"","","",{"$f":"IF(N$7=$F16,$H16,\"\")","v":""},"",{"$f":"IF(P$7=$F16,$H16,\"\")","v":""},"",{"$f":"IF(R$7=$F16,$H16,\"\")","v":""},"",{"$f":"IF(T$7=$F16,$H16,\"\")","v":""},"",{"$f":"IF(V$7=$F16,$H16,\"\")","v":""},"",{"$f":"IF(X$7=$F16,$H16,\"\")","v":""},"",{"$f":"IF(Z$7=$F16,$H16,\"\")","v":""},"",{"$f":"IF(AB$7=$F16,$H16,\"\")","v":""},"",{"$f":"IF(AD$7=$F16,$H16,\"\")","v":""},"",{"$f":"IF(AF$7=$F16,$H16,\"\")","v":""},"",{"$f":"IF(AH$7=$F16,$H16,\"\")","v":""},"",{"$f":"IF(AJ$7=$F16,$H16,\"\")","v":""},"",{"$f":"IF(AL$7=$F16,$H16,\"\")","v":""},"",{"$f":"IF(AN$7=$F16,$H16,\"\")","v":""},"",{"$f":"IF(AP$7=$F16,$H16,\"\")","v":""},"",{"$f":"IF(AR$7=$F16,$H16,\"\")","v":""},"",{"$f":"IF(AT$7=$F16,$H16,\"\")","v":""},"",{"$f":"IF(AV$7=$F16,$H16,\"\")","v":""},"",{"$f":"IF(AX$7=$F16,$H16,\"\")","v":""},"",{"$f":"IF(AZ$7=$F16,$H16,\"\")","v":""},"",{"$f":"IF(BB$7=$F16,$H16,\"\")","v":""},"",{"$f":"IF(BD$7=$F16,$H16,\"\")","v":""},"",{"$f":"IF(BF$7=$F16,$H16,\"\")","v":""},"",{"$f":"IF(BH$7=$F16,$H16,\"\")","v":""},"",{"$f":"IF(BJ$7=$F16,$H16,\"\")","v":""},"",{"$f":"IF(BL$7=$F16,$H16,\"\")","v":""},"",{"$f":"IF(BN$7=$F16,$H16,\"\")","v":""},"",{"$f":"IF(BP$7=$F16,$H16,\"\")","v":""},"",{"$f":"IF(BR$7=$F16,$H16,\"\")","v":""},"",{"$f":"IF(BT$7=$F16,$H16,\"\")","v":""},"",{"$f":"IF(BV$7=$F16,$H16,\"\")","v":""},"",{"$f":"IF(BX$7=$F16,$H16,\"\")","v":""},"",{"$f":"IF(BZ$7=$F16,$H16,\"\")","v":""},"",{"$f":"IF(CB$7=$F16,$H16,\"\")","v":""},"",{"$f":"IF(CD$7=$F16,$H16,\"\")","v":""},"",{"$f":"IF(CF$7=$F16,$H16,\"\")","v":""},"",{"$f":"IF(CH$7=$F16,$H16,\"\")","v":""},"",{"$f":"IF(CJ$7=$F16,$H16,\"\")","v":""},"",{"$f":"IF(CL$7=$F16,$H16,\"\")","v":""},"",{"$f":"IF(CN$7=$F16,$H16,\"\")","v":""},"",{"$f":"IF(CP$7=$F16,$H16,\"\")","v":""},"",{"$f":"IF(CR$7=$F16,$H16,\"\")","v":""},"",{"$f":"IF(CT$7=$F16,$H16,\"\")","v":""},"",{"$f":"IF(CV$7=$F16,$H16,\"\")","v":""},"",{"$f":"IF(CX$7=$F16,$H16,\"\")","v":""},"",{"$f":"IF(CZ$7=$F16,$H16,\"\")","v":""},"",{"$f":"IF(DB$7=$F16,$H16,\"\")","v":""},"",{"$f":"IF(DD$7=$F16,$H16,\"\")","v":""},"",{"$f":"IF(DF$7=$F16,$H16,\"\")","v":""},0,{"$f":"IF(DH$7=$F16,$H16,\"\")","v":0},0,{"$f":"IF(DJ$7=$F16,$H16,\"\")","v":0},0,{"$f":"IF(DL$7=$F16,$H16,\"\")","v":0},0,{"$f":"IF(DN$7=$F16,$H16,\"\")","v":0},0,{"$f":"IF(DP$7=$F16,$H16,\"\")","v":0},0,{"$f":"IF(DR$7=$F16,$H16,\"\")","v":0},0,{"$f":"IF(DT$7=$F16,$H16,\"\")","v":0},0,{"$f":"IF(DV$7=$F16,$H16,\"\")","v":0},0,{"$f":"IF(DX$7=$F16,$H16,\"\")","v":0},0,{"$f":"IF(DZ$7=$F16,$H16,\"\")","v":0},0,{"$f":"IF(EB$7=$F16,$H16,\"\")","v":0},0,{"$f":"IF(ED$7=$F16,$H16,\"\")","v":0},0,{"$f":"IF(EF$7=$F16,$H16,\"\")","v":0},0,{"$f":"IF(EH$7=$F16,$H16,\"\")","v":0},0,{"$f":"IF(EJ$7=$F16,$H16,\"\")","v":0},0,{"$f":"IF(EL$7=$F16,$H16,\"\")","v":0},0,{"$f":"IF(EN$7=$F16,$H16,\"\")","v":0},0,{"$f":"IF(EP$7=$F16,$H16,\"\")","v":0},0,{"$f":"IF(ER$7=$F16,$H16,\"\")","v":0},0,{"$f":"IF(ET$7=$F16,$H16,\"\")","v":0},0,{"$f":"IF(EV$7=$F16,$H16,\"\")","v":0},0,{"$f":"IF(EX$7=$F16,$H16,\"\")","v":0},0,{"$f":"IF(EZ$7=$F16,$H16,\"\")","v":0},0,{"$f":"IF(FB$7=$F16,$H16,\"\")","v":0},0,{"$f":"IF(FD$7=$F16,$H16,\"\")","v":0},0,{"$f":"IF(FF$7=$F16,$H16,\"\")","v":0},0,{"$f":"IF(FH$7=$F16,$H16,\"\")","v":0},0,{"$f":"IF(FJ$7=$F16,$H16,\"\")","v":0},0,{"$f":"IF(FL$7=$F16,$H16,\"\")","v":0},0,0]
[9,null,null,null,null,null,null,null,true,0,0,"","","",{"$f":"IF(N$7=$F17,$H17,\"\")","v":""},"",{"$f":"IF(P$7=$F17,$H17,\"\")","v":""},"",{"$f":"IF(R$7=$F17,$H17,\"\")","v":""},"",{"$f":"IF(T$7=$F17,$H17,\"\")","v":""},"",{"$f":"IF(V$7=$F17,$H17,\"\")","v":""},"",{"$f":"IF(X$7=$F17,$H17,\"\")","v":""},"",{"$f":"IF(Z$7=$F17,$H17,\"\")","v":""},"",{"$f":"IF(AB$7=$F17,$H17,\"\")","v":""},"",{"$f":"IF(AD$7=$F17,$H17,\"\")","v":""},"",{"$f":"IF(AF$7=$F17,$H17,\"\")","v":""},"",{"$f":"IF(AH$7=$F17,$H17,\"\")","v":""},"",{"$f":"IF(AJ$7=$F17,$H17,\"\")","v":""},"",{"$f":"IF(AL$7=$F17,$H17,\"\")","v":""},"",{"$f":"IF(AN$7=$F17,$H17,\"\")","v":""},"",{"$f":"IF(AP$7=$F17,$H17,\"\")","v":""},"",{"$f":"IF(AR$7=$F17,$H17,\"\")","v":""},"",{"$f":"IF(AT$7=$F17,$H17,\"\")","v":""},"",{"$f":"IF(AV$7=$F17,$H17,\"\")","v":""},"",{"$f":"IF(AX$7=$F17,$H17,\"\")","v":""},"",{"$f":"IF(AZ$7=$F17,$H17,\"\")","v":""},"",{"$f":"IF(BB$7=$F17,$H17,\"\")","v":""},"",{"$f":"IF(BD$7=$F17,$H17,\"\")","v":""},"",{"$f":"IF(BF$7=$F17,$H17,\"\")","v":""},"",{"$f":"IF(BH$7=$F17,$H17,\"\")","v":""},"",{"$f":"IF(BJ$7=$F17,$H17,\"\")","v":""},"",{"$f":"IF(BL$7=$F17,$H17,\"\")","v":""},"",{"$f":"IF(BN$7=$F17,$H17,\"\")","v":""},"",{"$f":"IF(BP$7=$F17,$H17,\"\")","v":""},"",{"$f":"IF(BR$7=$F17,$H17,\"\")","v":""},"",{"$f":"IF(BT$7=$F17,$H17,\"\")","v":""},"",{"$f":"IF(BV$7=$F17,$H17,\"\")","v":""},"",{"$f":"IF(BX$7=$F17,$H17,\"\")","v":""},"",{"$f":"IF(BZ$7=$F17,$H17,\"\")","v":""},"",{"$f":"IF(CB$7=$F17,$H17,\"\")","v":""},"",{"$f":"IF(CD$7=$F17,$H17,\"\")","v":""},"",{"$f":"IF(CF$7=$F17,$H17,\"\")","v":""},"",{"$f":"IF(CH$7=$F17,$H17,\"\")","v":""},"",{"$f":"IF(CJ$7=$F17,$H17,\"\")","v":""},"",{"$f":"IF(CL$7=$F17,$H17,\"\")","v":""},"",{"$f":"IF(CN$7=$F17,$H17,\"\")","v":""},"",{"$f":"IF(CP$7=$F17,$H17,\"\")","v":""},"",{"$f":"IF(CR$7=$F17,$H17,\"\")","v":""},"",{"$f":"IF(CT$7=$F17,$H17,\"\")","v":""},"",{"$f":"IF(CV$7=$F17,$H17,\"\")","v":""},"",{"$f":"IF(CX$7=$F17,$H17,\"\")","v":""},"",{"$f":"IF(CZ$7=$F17,$H17,\"\")","v":""},"",{"$f":"IF(DB$7=$F17,$H17,\"\")","v":""},"",{"$f":"IF(DD$7=$F17,$H17,\"\")","v":""},"",{"$f":"IF(DF$7=$F17,$H17,\"\")","v":""},0,{"$f":"IF(DH$7=$F17,$H17,\"\")","v":0},0,{"$f":"IF(DJ$7=$F17,$H17,\"\")","v":0},0,{"$f":"IF(DL$7=$F17,$H17,\"\")","v":0},0,{"$f":"IF(DN$7=$F17,$H17,\"\")","v":0},0,{"$f":"IF(DP$7=$F17,$H17,\"\")","v":0},0,{"$f":"IF(DR$7=$F17,$H17,\"\")","v":0},0,{"$f":"IF(DT$7=$F17,$H17,\"\")","v":0},0,{"$f":"IF(DV$7=$F17,$H17,\"\")","v":0},0,{"$f":"IF(DX$7=$F17,$H17,\"\")","v":0},0,{"$f":"IF(DZ$7=$F17,$H17,\"\")","v":0},0,{"$f":"IF(EB$7=$F17,$H17,\"\")","v":0},0,{"$f":"IF(ED$7=$F17,$H17,\"\")","v":0},0,{"$f":"IF(EF$7=$F17,$H17,\"\")","v":0},0,{"$f":"IF(EH$7=$F17,$H17,\"\")","v":0},0,{"$f":"IF(EJ$7=$F17,$H17,\"\")","v":0},0,{"$f":"IF(EL$7=$F17,$H17,\"\")","v":0},0,{"$f":"IF(EN$7=$F17,$H17,\"\")","v":0},0,{"$f":"IF(EP$7=$F17,$H17,\"\")","v":0},0,{"$f":"IF(ER$7=$F17,$H17,\"\")","v":0},0,{"$f":"IF(ET$7=$F17,$H17,\"\")","v":0},0,{"$f":"IF(EV$7=$F17,$H17,\"\")","v":0},0,{"$f":"IF(EX$7=$F17,$H17,\"\")","v":0},0,{"$f":"IF(EZ$7=$F17,$H17,\"\")","v":0},0,{"$f":"IF(FB$7=$F17,$H17,\"\")","v":0},0,{"$f":"IF(FD$7=$F17,$H17,\"\")","v":0},0,{"$f":"IF(FF$7=$F17,$H17,\"\")","v":0},0,{"$f":"IF(FH$7=$F17,$H17,\"\")","v":0},0,{"$f":"IF(FJ$7=$F17,$H17,\"\")","v":0},0,{"$f":"IF(FL$7=$F17,$H17,\"\")","v":0},0,0]
[10,null,null,null,null,null,null,null,true,0,0,"","","",{"$f":"IF(N$7=$F18,$H18,\"\")","v":""},"",{"$f":"IF(P$7=$F18,$H18,\"\")","v":""},"",{"$f":"IF(R$7=$F18,$H18,\"\")","v":""},"",{"$f":"IF(T$7=$F18,$H18,\"\")","v":""},"",{"$f":"IF(V$7=$F18,$H18,\"\")","v":""},"",{"$f":"IF(X$7=$F18,$H18,\"\")","v":""},"",{"$f":"IF(Z$7=$F18,$H18,\"\")","v":""},"",{"$f":"IF(AB$7=$F18,$H18,\"\")","v":""},"",{"$f":"IF(AD$7=$F18,$H18,\"\")","v":""},"",{"$f":"IF(AF$7=$F18,$H18,\"\")","v":""},"",{"$f":"IF(AH$7=$F18,$H18,\"\")","v":""},"",{"$f":"IF(AJ$7=$F18,$H18,\"\")","v":""},"",{"$f":"IF(AL$7=$F18,$H18,\"\")","v":""},"",{"$f":"IF(AN$7=$F18,$H18,\"\")","v":""},"",{"$f":"IF(AP$7=$F18,$H18,\"\")","v":""},"",{"$f":"IF(AR$7=$F18,$H18,\"\")","v":""},"",{"$f":"IF(AT$7=$F18,$H18,\"\")","v":""},"",{"$f":"IF(AV$7=$F18,$H18,\"\")","v":""},"",{"$f":"IF(AX$7=$F18,$H18,\"\")","v":""},"",{"$f":"IF(AZ$7=$F18,$H18,\"\")","v":""},"",{"$f":"IF(BB$7=$F18,$H18,\"\")","v":""},"",{"$f":"IF(BD$7=$F18,$H18,\"\")","v":""},"",{"$f":"IF(BF$7=$F18,$H18,\"\")","v":""},"",{"$f":"IF(BH$7=$F18,$H18,\"\")","v":""},"",{"$f":"IF(BJ$7=$F18,$H18,\"\")","v":""},"",{"$f":"IF(BL$7=$F18,$H18,\"\")","v":""},"",{"$f":"IF(BN$7=$F18,$H18,\"\")","v":""},"",{"$f":"IF(BP$7=$F18,$H18,\"\")","v":""},"",{"$f":"IF(BR$7=$F18,$H18,\"\")","v":""},"",{"$f":"IF(BT$7=$F18,$H18,\"\")","v":""},"",{"$f":"IF(BV$7=$F18,$H18,\"\")","v":""},"",{"$f":"IF(BX$7=$F18,$H18,\"\")","v":""},"",{"$f":"IF(BZ$7=$F18,$H18,\"\")","v":""},"",{"$f":"IF(CB$7=$F18,$H18,\"\")","v":""},"",{"$f":"IF(CD$7=$F18,$H18,\"\")","v":""},"",{"$f":"IF(CF$7=$F18,$H18,\"\")","v":""},"",{"$f":"IF(CH$7=$F18,$H18,\"\")","v":""},"",{"$f":"IF(CJ$7=$F18,$H18,\"\")","v":""},"",{"$f":"IF(CL$7=$F18,$H18,\"\")","v":""},"",{"$f":"IF(CN$7=$F18,$H18,\"\")","v":""},"",{"$f":"IF(CP$7=$F18,$H18,\"\")","v":""},"",{"$f":"IF(CR$7=$F18,$H18,\"\")","v":""},"",{"$f":"IF(CT$7=$F18,$H18,\"\")","v":""},"",{"$f":"IF(CV$7=$F18,$H18,\"\")","v":""},"",{"$f":"IF(CX$7=$F18,$H18,\"\")","v":""},"",{"$f":"IF(CZ$7=$F18,$H18,\"\")","v":""},"",{"$f":"IF(DB$7=$F18,$H18,\"\")","v":""},"",{"$f":"IF(DD$7=$F18,$H18,\"\")","v":""},"",{"$f":"IF(DF$7=$F18,$H18,\"\")","v":""},0,{"$f":"IF(DH$7=$F18,$H18,\"\")","v":0},0,{"$f":"IF(DJ$7=$F18,$H18,\"\")","v":0},0,{"$f":"IF(DL$7=$F18,$H18,\"\")","v":0},0,{"$f":"IF(DN$7=$F18,$H18,\"\")","v":0},0,{"$f":"IF(DP$7=$F18,$H18,\"\")","v":0},0,{"$f":"IF(DR$7=$F18,$H18,\"\")","v":0},0,{"$f":"IF(DT$7=$F18,$H18,\"\")","v":0},0,{"$f":"IF(DV$7=$F18,$H18,\"\")","v":0},0,{"$f":"IF(DX$7=$F18,$H18,\"\")","v":0},0,{"$f":"IF(DZ$7=$F18,$H18,\"\")","v":0},0,{"$f":"IF(EB$7=$F18,$H18,\"\")","v":0},0,{"$f":"IF(ED$7=$F18,$H18,\"\")","v":0},0,{"$f":"IF(EF$7=$F18,$H18,\"\")","v":0},0,{"$f":"IF(EH$7=$F18,$H18,\"\")","v":0},0,{"$f":"IF(EJ$7=$F18,$H18,\"\")","v":0},0,{"$f":"IF(EL$7=$F18,$H18,\"\")","v":0},0,{"$f":"IF(EN$7=$F18,$H18,\"\")","v":0},0,{"$f":"IF(EP$7=$F18,$H18,\"\")","v":0},0,{"$f":"IF(ER$7=$F18,$H18,\"\")","v":0},0,{"$f":"IF(ET$7=$F18,$H18,\"\")","v":0},0,{"$f":"IF(EV$7=$F18,$H18,\"\")","v":0},0,{"$f":"IF(EX$7=$F18,$H18,\"\")","v":0},0,{"$f":"IF(EZ$7=$F18,$H18,\"\")","v":0},0,{"$f":"IF(FB$7=$F18,$H18,\"\")","v":0},0,{"$f":"IF(FD$7=$F18,$H18,\"\")","v":0},0,{"$f":"IF(FF$7=$F18,$H18,\"\")","v":0},0,{"$f":"IF(FH$7=$F18,$H18,\"\")","v":0},0,{"$f":"IF(FJ$7=$F18,$H18,\"\")","v":0},0,{"$f":"IF(FL$7=$F18,$H18,\"\")","v":0},0,0]
[11,null,null,null,null,null,null,null,true,0,0,"","","",{"$f":"IF(N$7=$F19,$H19,\"\")","v":""},"",{"$f":"IF(P$7=$F19,$H19,\"\")","v":""},"",{"$f":"IF(R$7=$F19,$H19,\"\")","v":""},"",{"$f":"IF(T$7=$F19,$H19,\"\")","v":""},"",{"$f":"IF(V$7=$F19,$H19,\"\")","v":""},"",{"$f":"IF(X$7=$F19,$H19,\"\")","v":""},"",{"$f":"IF(Z$7=$F19,$H19,\"\")","v":""},"",{"$f":"IF(AB$7=$F19,$H19,\"\")","v":""},"",{"$f":"IF(AD$7=$F19,$H19,\"\")","v":""},"",{"$f":"IF(AF$7=$F19,$H19,\"\")","v":""},"",{"$f":"IF(AH$7=$F19,$H19,\"\")","v":""},"",{"$f":"IF(AJ$7=$F19,$H19,\"\")","v":""},"",{"$f":"IF(AL$7=$F19,$H19,\"\")","v":""},"",{"$f":"IF(AN$7=$F19,$H19,\"\")","v":""},"",{"$f":"IF(AP$7=$F19,$H19,\"\")","v":""},"",{"$f":"IF(AR$7=$F19,$H19,\"\")","v":""},"",{"$f":"IF(AT$7=$F19,$H19,\"\")","v":""},"",{"$f":"IF(AV$7=$F19,$H19,\"\")","v":""},"",{"$f":"IF(AX$7=$F19,$H19,\"\")","v":""},"",{"$f":"IF(AZ$7=$F19,$H19,\"\")","v":""},"",{"$f":"IF(BB$7=$F19,$H19,\"\")","v":""},"",{"$f":"IF(BD$7=$F19,$H19,\"\")","v":""},"",{"$f":"IF(BF$7=$F19,$H19,\"\")","v":""},"",{"$f":"IF(BH$7=$F19,$H19,\"\")","v":""},"",{"$f":"IF(BJ$7=$F19,$H19,\"\")","v":""},"",{"$f":"IF(BL$7=$F19,$H19,\"\")","v":""},"",{"$f":"IF(BN$7=$F19,$H19,\"\")","v":""},"",{"$f":"IF(BP$7=$F19,$H19,\"\")","v":""},"",{"$f":"IF(BR$7=$F19,$H19,\"\")","v":""},"",{"$f":"IF(BT$7=$F19,$H19,\"\")","v":""},"",{"$f":"IF(BV$7=$F19,$H19,\"\")","v":""},"",{"$f":"IF(BX$7=$F19,$H19,\"\")","v":""},"",{"$f":"IF(BZ$7=$F19,$H19,\"\")","v":""},"",{"$f":"IF(CB$7=$F19,$H19,\"\")","v":""},"",{"$f":"IF(CD$7=$F19,$H19,\"\")","v":""},"",{"$f":"IF(CF$7=$F19,$H19,\"\")","v":""},"",{"$f":"IF(CH$7=$F19,$H19,\"\")","v":""},"",{"$f":"IF(CJ$7=$F19,$H19,\"\")","v":""},"",{"$f":"IF(CL$7=$F19,$H19,\"\")","v":""},"",{"$f":"IF(CN$7=$F19,$H19,\"\")","v":""},"",{"$f":"IF(CP$7=$F19,$H19,\"\")","v":""},"",{"$f":"IF(CR$7=$F19,$H19,\"\")","v":""},"",{"$f":"IF(CT$7=$F19,$H19,\"\")","v":""},"",{"$f":"IF(CV$7=$F19,$H19,\"\")","v":""},"",{"$f":"IF(CX$7=$F19,$H19,\"\")","v":""},"",{"$f":"IF(CZ$7=$F19,$H19,\"\")","v":""},"",{"$f":"IF(DB$7=$F19,$H19,\"\")","v":""},"",{"$f":"IF(DD$7=$F19,$H19,\"\")","v":""},"",{"$f":"IF(DF$7=$F19,$H19,\"\")","v":""},0,{"$f":"IF(DH$7=$F19,$H19,\"\")","v":0},0,{"$f":"IF(DJ$7=$F19,$H19,\"\")","v":0},0,{"$f":"IF(DL$7=$F19,$H19,\"\")","v":0},0,{"$f":"IF(DN$7=$F19,$H19,\"\")","v":0},0,{"$f":"IF(DP$7=$F19,$H19,\"\")","v":0},0,{"$f":"IF(DR$7=$F19,$H19,\"\")","v":0},0,{"$f":"IF(DT$7=$F19,$H19,\"\")","v":0},0,{"$f":"IF(DV$7=$F19,$H19,\"\")","v":0},0,{"$f":"IF(DX$7=$F19,$H19,\"\")","v":0},0,{"$f":"IF(DZ$7=$F19,$H19,\"\")","v":0},0,{"$f":"IF(EB$7=$F19,$H19,\"\")","v":0},0,{"$f":"IF(ED$7=$F19,$H19,\"\")","v":0},0,{"$f":"IF(EF$7=$F19,$H19,\"\")","v":0},0,{"$f":"IF(EH$7=$F19,$H19,\"\")","v":0},0,{"$f":"IF(EJ$7=$F19,$H19,\"\")","v":0},0,{"$f":"IF(EL$7=$F19,$H19,\"\")","v":0},0,{"$f":"IF(EN$7=$F19,$H19,\"\")","v":0},0,{"$f":"IF(EP$7=$F19,$H19,\"\")","v":0},0,{"$f":"IF(ER$7=$F19,$H19,\"\")","v":0},0,{"$f":"IF(ET$7=$F19,$H19,\"\")","v":0},0,{"$f":"IF(EV$7=$F19,$H19,\"\")","v":0},0,{"$f":"IF(EX$7=$F19,$H19,\"\")","v":0},0,{"$f":"IF(EZ$7=$F19,$H19,\"\")","v":0},0,{"$f":"IF(FB$7=$F19,$H19,\"\")","v":0},0,{"$f":"IF(FD$7=$F19,$H19,\"\")","v":0},0,{"$f":"IF(FF$7=$F19,$H19,\"\")","v":0},0,{"$f":"IF(FH$7=$F19,$H19,\"\")","v":0},0,{"$f":"IF(FJ$7=$F19,$H19,\"\")","v":0},0,{"$f":"IF(FL$7=$F19,$H19,\"\")","v":0},0,0]
[12,null,null,null,null,null,null,null,true,0,0,"","","",{"$f":"IF(N$7=$F20,$H20,\"\")","v":""},"",{"$f":"IF(P$7=$F20,$H20,\"\")","v":""},"",{"$f":"IF(R$7=$F20,$H20,\"\")","v":""},"",{"$f":"IF(T$7=$F20,$H20,\"\")","v":""},"",{"$f":"IF(V$7=$F20,$H20,\"\")","v":""},"",{"$f":"IF(X$7=$F20,$H20,\"\")","v":""},"",{"$f":"IF(Z$7=$F20,$H20,\"\")","v":""},"",{"$f":"IF(AB$7=$F20,$H20,\"\")","v":""},"",{"$f":"IF(AD$7=$F20,$H20,\"\")","v":""},"",{"$f":"IF(AF$7=$F20,$H20,\"\")","v":""},"",{"$f":"IF(AH$7=$F20,$H20,\"\")","v":""},"",{"$f":"IF(AJ$7=$F20,$H20,\"\")","v":""},"",{"$f":"IF(AL$7=$F20,$H20,\"\")","v":""},"",{"$f":"IF(AN$7=$F20,$H20,\"\")","v":""},"",{"$f":"IF(AP$7=$F20,$H20,\"\")","v":""},"",{"$f":"IF(AR$7=$F20,$H20,\"\")","v":""},"",{"$f":"IF(AT$7=$F20,$H20,\"\")","v":""},"",{"$f":"IF(AV$7=$F20,$H20,\"\")","v":""},"",{"$f":"IF(AX$7=$F20,$H20,\"\")","v":""},"",{"$f":"IF(AZ$7=$F20,$H20,\"\")","v":""},"",{"$f":"IF(BB$7=$F20,$H20,\"\")","v":""},"",{"$f":"IF(BD$7=$F20,$H20,\"\")","v":""},"",{"$f":"IF(BF$7=$F20,$H20,\"\")","v":""},"",{"$f":"IF(BH$7=$F20,$H20,\"\")","v":""},"",{"$f":"IF(BJ$7=$F20,$H20,\"\")","v":""},"",{"$f":"IF(BL$7=$F20,$H20,\"\")","v":""},"",{"$f":"IF(BN$7=$F20,$H20,\"\")","v":""},"",{"$f":"IF(BP$7=$F20,$H20,\"\")","v":""},"",{"$f":"IF(BR$7=$F20,$H20,\"\")","v":""},"",{"$f":"IF(BT$7=$F20,$H20,\"\")","v":""},"",{"$f":"IF(BV$7=$F20,$H20,\"\")","v":""},"",{"$f":"IF(BX$7=$F20,$H20,\"\")","v":""},"",{"$f":"IF(BZ$7=$F20,$H20,\"\")","v":""},"",{"$f":"IF(CB$7=$F20,$H20,\"\")","v":""},"",{"$f":"IF(CD$7=$F20,$H20,\"\")","v":""},"",{"$f":"IF(CF$7=$F20,$H20,\"\")","v":""},"",{"$f":"IF(CH$7=$F20,$H20,\"\")","v":""},"",{"$f":"IF(CJ$7=$F20,$H20,\"\")","v":""},"",{"$f":"IF(CL$7=$F20,$H20,\"\")","v":""},"",{"$f":"IF(CN$7=$F20,$H20,\"\")","v":""},"",{"$f":"IF(CP$7=$F20,$H20,\"\")","v":""},"",{"$f":"IF(CR$7=$F20,$H20,\"\")","v":""},"",{"$f":"IF(CT$7=$F20,$H20,\"\")","v":""},"",{"$f":"IF(CV$7=$F20,$H20,\"\")","v":""},"",{"$f":"IF(CX$7=$F20,$H20,\"\")","v":""},"",{"$f":"IF(CZ$7=$F20,$H20,\"\")","v":""},"",{"$f":"IF(DB$7=$F20,$H20,\"\")","v":""},"",{"$f":"IF(DD$7=$F20,$H20,\"\")","v":""},"",{"$f":"IF(DF$7=$F20,$H20,\"\")","v":""},0,{"$f":"IF(DH$7=$F20,$H20,\"\")","v":0},0,{"$f":"IF(DJ$7=$F20,$H20,\"\")","v":0},0,{"$f":"IF(DL$7=$F20,$H20,\"\")","v":0},0,{"$f":"IF(DN$7=$F20,$H20,\"\")","v":0},0,{"$f":"IF(DP$7=$F20,$H20,\"\")","v":0},0,{"$f":"IF(DR$7=$F20,$H20,\"\")","v":0},0,{"$f":"IF(DT$7=$F20,$H20,\"\")","v":0},0,{"$f":"IF(DV$7=$F20,$H20,\"\")","v":0},0,{"$f":"IF(DX$7=$F20,$H20,\"\")","v":0},0,{"$f":"IF(DZ$7=$F20,$H20,\"\")","v":0},0,{"$f":"IF(EB$7=$F20,$H20,\"\")","v":0},0,{"$f":"IF(ED$7=$F20,$H20,\"\")","v":0},0,{"$f":"IF(EF$7=$F20,$H20,\"\")","v":0},0,{"$f":"IF(EH$7=$F20,$H20,\"\")","v":0},0,{"$f":"IF(EJ$7=$F20,$H20,\"\")","v":0},0,{"$f":"IF(EL$7=$F20,$H20,\"\")","v":0},0,{"$f":"IF(EN$7=$F20,$H20,\"\")","v":0},0,{"$f":"IF(EP$7=$F20,$H20,\"\")","v":0},0,{"$f":"IF(ER$7=$F20,$H20,\"\")","v":0},0,{"$f":"IF(ET$7=$F20,$H20,\"\")","v":0},0,{"$f":"IF(EV$7=$F20,$H20,\"\")","v":0},0,{"$f":"IF(EX$7=$F20,$H20,\"\")","v":0},0,{"$f":"IF(EZ$7=$F20,$H20,\"\")","v":0},0,{"$f":"IF(FB$7=$F20,$H20,\"\")","v":0},0,{"$f":"IF(FD$7=$F20,$H20,\"\")","v":0},0,{"$f":"IF(FF$7=$F20,$H20,\"\")","v":0},0,{"$f":"IF(FH$7=$F20,$H20,\"\")","v":0},0,{"$f":"IF(FJ$7=$F20,$H20,\"\")","v":0},0,{"$f":"IF(FL$7=$F20,$H20,\"\")","v":0},0,0]
[13,null,null,null,null,null,null,null,true,0,0,"","","",{"$f":"IF(N$7=$F21,$H21,\"\")","v":""},"",{"$f":"IF(P$7=$F21,$H21,\"\")","v":""},"",{"$f":"IF(R$7=$F21,$H21,\"\")","v":""},"",{"$f":"IF(T$7=$F21,$H21,\"\")","v":""},"",{"$f":"IF(V$7=$F21,$H21,\"\")","v":""},"",{"$f":"IF(X$7=$F21,$H21,\"\")","v":""},"",{"$f":"IF(Z$7=$F21,$H21,\"\")","v":""},"",{"$f":"IF(AB$7=$F21,$H21,\"\")","v":""},"",{"$f":"IF(AD$7=$F21,$H21,\"\")","v":""},"",{"$f":"IF(AF$7=$F21,$H21,\"\")","v":""},"",{"$f":"IF(AH$7=$F21,$H21,\"\")","v":""},"",{"$f":"IF(AJ$7=$F21,$H21,\"\")","v":""},"",{"$f":"IF(AL$7=$F21,$H21,\"\")","v":""},"",{"$f":"IF(AN$7=$F21,$H21,\"\")","v":""},"",{"$f":"IF(AP$7=$F21,$H21,\"\")","v":""},"",{"$f":"IF(AR$7=$F21,$H21,\"\")","v":""},"",{"$f":"IF(AT$7=$F21,$H21,\"\")","v":""},"",{"$f":"IF(AV$7=$F21,$H21,\"\")","v":""},"",{"$f":"IF(AX$7=$F21,$H21,\"\")","v":""},"",{"$f":"IF(AZ$7=$F21,$H21,\"\")","v":""},"",{"$f":"IF(BB$7=$F21,$H21,\"\")","v":""},"",{"$f":"IF(BD$7=$F21,$H21,\"\")","v":""},"",{"$f":"IF(BF$7=$F21,$H21,\"\")","v":""},"",{"$f":"IF(BH$7=$F21,$H21,\"\")","v":""},"",{"$f":"IF(BJ$7=$F21,$H21,\"\")","v":""},"",{"$f":"IF(BL$7=$F21,$H21,\"\")","v":""},"",{"$f":"IF(BN$7=$F21,$H21,\"\")","v":""},"",{"$f":"IF(BP$7=$F21,$H21,\"\")","v":""},"",{"$f":"IF(BR$7=$F21,$H21,\"\")","v":""},"",{"$f":"IF(BT$7=$F21,$H21,\"\")","v":""},"",{"$f":"IF(BV$7=$F21,$H21,\"\")","v":""},"",{"$f":"IF(BX$7=$F21,$H21,\"\")","v":""},"",{"$f":"IF(BZ$7=$F21,$H21,\"\")","v":""},"",{"$f":"IF(CB$7=$F21,$H21,\"\")","v":""},"",{"$f":"IF(CD$7=$F21,$H21,\"\")","v":""},"",{"$f":"IF(CF$7=$F21,$H21,\"\")","v":""},"",{"$f":"IF(CH$7=$F21,$H21,\"\")","v":""},"",{"$f":"IF(CJ$7=$F21,$H21,\"\")","v":""},"",{"$f":"IF(CL$7=$F21,$H21,\"\")","v":""},"",{"$f":"IF(CN$7=$F21,$H21,\"\")","v":""},"",{"$f":"IF(CP$7=$F21,$H21,\"\")","v":""},"",{"$f":"IF(CR$7=$F21,$H21,\"\")","v":""},"",{"$f":"IF(CT$7=$F21,$H21,\"\")","v":""},"",{"$f":"IF(CV$7=$F21,$H21,\"\")","v":""},"",{"$f":"IF(CX$7=$F21,$H21,\"\")","v":""},"",{"$f":"IF(CZ$7=$F21,$H21,\"\")","v":""},"",{"$f":"IF(DB$7=$F21,$H21,\"\")","v":""},"",{"$f":"IF(DD$7=$F21,$H21,\"\")","v":""},"",{"$f":"IF(DF$7=$F21,$H21,\"\")","v":""},0,{"$f":"IF(DH$7=$F21,$H21,\"\")","v":0},0,{"$f":"IF(DJ$7=$F21,$H21,\"\")","v":0},0,{"$f":"IF(DL$7=$F21,$H21,\"\")","v":0},0,{"$f":"IF(DN$7=$F21,$H21,\"\")","v":0},0,{"$f":"IF(DP$7=$F21,$H21,\"\")","v":0},0,{"$f":"IF(DR$7=$F21,$H21,\"\")","v":0},0,{"$f":"IF(DT$7=$F21,$H21,\"\")","v":0},0,{"$f":"IF(DV$7=$F21,$H21,\"\")","v":0},0,{"$f":"IF(DX$7=$F21,$H21,\"\")","v":0},0,{"$f":"IF(DZ$7=$F21,$H21,\"\")","v":0},0,{"$f":"IF(EB$7=$F21,$H21,\"\")","v":0},0,{"$f":"IF(ED$7=$F21,$H21,\"\")","v":0},0,{"$f":"IF(EF$7=$F21,$H21,\"\")","v":0},0,{"$f":"IF(EH$7=$F21,$H21,\"\")","v":0},0,{"$f":"IF(EJ$7=$F21,$H21,\"\")","v":0},0,{"$f":"IF(EL$7=$F21,$H21,\"\")","v":0},0,{"$f":"IF(EN$7=$F21,$H21,\"\")","v":0},0,{"$f":"IF(EP$7=$F21,$H21,\"\")","v":0},0,{"$f":"IF(ER$7=$F21,$H21,\"\")","v":0},0,{"$f":"IF(ET$7=$F21,$H21,\"\")","v":0},0,{"$f":"IF(EV$7=$F21,$H21,\"\")","v":0},0,{"$f":"IF(EX$7=$F21,$H21,\"\")","v":0},0,{"$f":"IF(EZ$7=$F21,$H21,\"\")","v":0},0,{"$f":"IF(FB$7=$F21,$H21,\"\")","v":0},0,{"$f":"IF(FD$7=$F21,$H21,\"\")","v":0},0,{"$f":"IF(FF$7=$F21,$H21,\"\")","v":0},0,{"$f":"IF(FH$7=$F21,$H21,\"\")","v":0},0,{"$f":"IF(FJ$7=$F21,$H21,\"\")","v":0},0,{"$f":"IF(FL$7=$F21,$H21,\"\")","v":0},0,0]
[14,null,null,null,null,null,null,null,true,0,0,"","","",{"$f":"IF(N$7=$F22,$H22,\"\")","v":""},"",{"$f":"IF(P$7=$F22,$H22,\"\")","v":""},"",{"$f":"IF(R$7=$F22,$H22,\"\")","v":""},"",{"$f":"IF(T$7=$F22,$H22,\"\")","v":""},"",{"$f":"IF(V$7=$F22,$H22,\"\")","v":""},"",{"$f":"IF(X$7=$F22,$H22,\"\")","v":""},"",{"$f":"IF(Z$7=$F22,$H22,\"\")","v":""},"",{"$f":"IF(AB$7=$F22,$H22,\"\")","v":""},"",{"$f":"IF(AD$7=$F22,$H22,\"\")","v":""},"",{"$f":"IF(AF$7=$F22,$H22,\"\")","v":""},"",{"$f":"IF(AH$7=$F22,$H22,\"\")","v":""},"",{"$f":"IF(AJ$7=$F22,$H22,\"\")","v":""},"",{"$f":"IF(AL$7=$F22,$H22,\"\")","v":""},"",{"$f":"IF(AN$7=$F22,$H22,\"\")","v":""},"",{"$f":"IF(AP$7=$F22,$H22,\"\")","v":""},"",{"$f":"IF(AR$7=$F22,$H22,\"\")","v":""},"",{"$f":"IF(AT$7=$F22,$H22,\"\")","v":""},"",{"$f":"IF(AV$7=$F22,$H22,\"\")","v":""},"",{"$f":"IF(AX$7=$F22,$H22,\"\")","v":""},"",{"$f":"IF(AZ$7=$F22,$H22,\"\")","v":""},"",{"$f":"IF(BB$7=$F22,$H22,\"\")","v":""},"",{"$f":"IF(BD$7=$F22,$H22,\"\")","v":""},"",{"$f":"IF(BF$7=$F22,$H22,\"\")","v":""},"",{"$f":"IF(BH$7=$F22,$H22,\"\")","v":""},"",{"$f":"IF(BJ$7=$F22,$H22,\"\")","v":""},"",{"$f":"IF(BL$7=$F22,$H22,\"\")","v":""},"",{"$f":"IF(BN$7=$F22,$H22,\"\")","v":""},"",{"$f":"IF(BP$7=$F22,$H22,\"\")","v":""},"",{"$f":"IF(BR$7=$F22,$H22,\"\")","v":""},"",{"$f":"IF(BT$7=$F22,$H22,\"\")","v":""},"",{"$f":"IF(BV$7=$F22,$H22,\"\")","v":""},"",{"$f":"IF(BX$7=$F22,$H22,\"\")","v":""},"",{"$f":"IF(BZ$7=$F22,$H22,\"\")","v":""},"",{"$f":"IF(CB$7=$F22,$H22,\"\")","v":""},"",{"$f":"IF(CD$7=$F22,$H22,\"\")","v":""},"",{"$f":"IF(CF$7=$F22,$H22,\"\")","v":""},"",{"$f":"IF(CH$7=$F22,$H22,\"\")","v":""},"",{"$f":"IF(CJ$7=$F22,$H22,\"\")","v":""},"",{"$f":"IF(CL$7=$F22,$H22,\"\")","v":""},"",{"$f":"IF(CN$7=$F22,$H22,\"\")","v":""},"",{"$f":"IF(CP$7=$F22,$H22,\"\")","v":""},"",{"$f":"IF(CR$7=$F22,$H22,\"\")","v":""},"",{"$f":"IF(CT$7=$F22,$H22,\"\")","v":""},"",{"$f":"IF(CV$7=$F22,$H22,\"\")","v":""},"",{"$f":"IF(CX$7=$F22,$H22,\"\")","v":""},"",{"$f":"IF(CZ$7=$F22,$H22,\"\")","v":""},"",{"$f":"IF(DB$7=$F22,$H22,\"\")","v":""},"",{"$f":"IF(DD$7=$F22,$H22,\"\")","v":""},"",{"$f":"IF(DF$7=$F22,$H22,\"\")","v":""},0,{"$f":"IF(DH$7=$F22,$H22,\"\")","v":0},0,{"$f":"IF(DJ$7=$F22,$H22,\"\")","v":0},0,{"$f":"IF(DL$7=$F22,$H22,\"\")","v":0},0,{"$f":"IF(DN$7=$F22,$H22,\"\")","v":0},0,{"$f":"IF(DP$7=$F22,$H22,\"\")","v":0},0,{"$f":"IF(DR$7=$F22,$H22,\"\")","v":0},0,{"$f":"IF(DT$7=$F22,$H22,\"\")","v":0},0,{"$f":"IF(DV$7=$F22,$H22,\"\")","v":0},0,{"$f":"IF(DX$7=$F22,$H22,\"\")","v":0},0,{"$f":"IF(DZ$7=$F22,$H22,\"\")","v":0},0,{"$f":"IF(EB$7=$F22,$H22,\"\")","v":0},0,{"$f":"IF(ED$7=$F22,$H22,\"\")","v":0},0,{"$f":"IF(EF$7=$F22,$H22,\"\")","v":0},0,{"$f":"IF(EH$7=$F22,$H22,\"\")","v":0},0,{"$f":"IF(EJ$7=$F22,$H22,\"\")","v":0},0,{"$f":"IF(EL$7=$F22,$H22,\"\")","v":0},0,{"$f":"IF(EN$7=$F22,$H22,\"\")","v":0},0,{"$f":"IF(EP$7=$F22,$H22,\"\")","v":0},0,{"$f":"IF(ER$7=$F22,$H22,\"\")","v":0},0,{"$f":"IF(ET$7=$F22,$H22,\"\")","v":0},0,{"$f":"IF(EV$7=$F22,$H22,\"\")","v":0},0,{"$f":"IF(EX$7=$F22,$H22,\"\")","v":0},0,{"$f":"IF(EZ$7=$F22,$H22,\"\")","v":0},0,{"$f":"IF(FB$7=$F22,$H22,\"\")","v":0},0,{"$f":"IF(FD$7=$F22,$H22,\"\")","v":0},0,{"$f":"IF(FF$7=$F22,$H22,\"\")","v":0},0,{"$f":"IF(FH$7=$F22,$H22,\"\")","v":0},0,{"$f":"IF(FJ$7=$F22,$H22,\"\")","v":0},0,{"$f":"IF(FL$7=$F22,$H22,\"\")","v":0},0,0]
[15,null,null,null,null,null,null,null,true,0,0,"","","",{"$f":"IF(N$7=$F23,$H23,\"\")","v":""},"",{"$f":"IF(P$7=$F23,$H23,\"\")","v":""},"",{"$f":"IF(R$7=$F23,$H23,\"\")","v":""},"",{"$f":"IF(T$7=$F23,$H23,\"\")","v":""},"",{"$f":"IF(V$7=$F23,$H23,\"\")","v":""},"",{"$f":"IF(X$7=$F23,$H23,\"\")","v":""},"",{"$f":"IF(Z$7=$F23,$H23,\"\")","v":""},"",{"$f":"IF(AB$7=$F23,$H23,\"\")","v":""},"",{"$f":"IF(AD$7=$F23,$H23,\"\")","v":""},"",{"$f":"IF(AF$7=$F23,$H23,\"\")","v":""},"",{"$f":"IF(AH$7=$F23,$H23,\"\")","v":""},"",{"$f":"IF(AJ$7=$F23,$H23,\"\")","v":""},"",{"$f":"IF(AL$7=$F23,$H23,\"\")","v":""},"",{"$f":"IF(AN$7=$F23,$H23,\"\")","v":""},"",{"$f":"IF(AP$7=$F23,$H23,\"\")","v":""},"",{"$f":"IF(AR$7=$F23,$H23,\"\")","v":""},"",{"$f":"IF(AT$7=$F23,$H23,\"\")","v":""},"",{"$f":"IF(AV$7=$F23,$H23,\"\")","v":""},"",{"$f":"IF(AX$7=$F23,$H23,\"\")","v":""},"",{"$f":"IF(AZ$7=$F23,$H23,\"\")","v":""},"",{"$f":"IF(BB$7=$F23,$H23,\"\")","v":""},"",{"$f":"IF(BD$7=$F23,$H23,\"\")","v":""},"",{"$f":"IF(BF$7=$F23,$H23,\"\")","v":""},"",{"$f":"IF(BH$7=$F23,$H23,\"\")","v":""},"",{"$f":"IF(BJ$7=$F23,$H23,\"\")","v":""},"",{"$f":"IF(BL$7=$F23,$H23,\"\")","v":""},"",{"$f":"IF(BN$7=$F23,$H23,\"\")","v":""},"",{"$f":"IF(BP$7=$F23,$H23,\"\")","v":""},"",{"$f":"IF(BR$7=$F23,$H23,\"\")","v":""},"",{"$f":"IF(BT$7=$F23,$H23,\"\")","v":""},"",{"$f":"IF(BV$7=$F23,$H23,\"\")","v":""},"",{"$f":"IF(BX$7=$F23,$H23,\"\")","v":""},"",{"$f":"IF(BZ$7=$F23,$H23,\"\")","v":""},"",{"$f":"IF(CB$7=$F23,$H23,\"\")","v":""},"",{"$f":"IF(CD$7=$F23,$H23,\"\")","v":""},"",{"$f":"IF(CF$7=$F23,$H23,\"\")","v":""},"",{"$f":"IF(CH$7=$F23,$H23,\"\")","v":""},"",{"$f":"IF(CJ$7=$F23,$H23,\"\")","v":""},"",{"$f":"IF(CL$7=$F23,$H23,\"\")","v":""},"",{"$f":"IF(CN$7=$F23,$H23,\"\")","v":""},"",{"$f":"IF(CP$7=$F23,$H23,\"\")","v":""},"",{"$f":"IF(CR$7=$F23,$H23,\"\")","v":""},"",{"$f":"IF(CT$7=$F23,$H23,\"\")","v":""},"",{"$f":"IF(CV$7=$F23,$H23,\"\")","v":""},"",{"$f":"IF(CX$7=$F23,$H23,\"\")","v":""},"",{"$f":"IF(CZ$7=$F23,$H23,\"\")","v":""},"",{"$f":"IF(DB$7=$F23,$H23,\"\")","v":""},"",{"$f":"IF(DD$7=$F23,$H23,\"\")","v":""},"",{"$f":"IF(DF$7=$F23,$H23,\"\")","v":""},0,{"$f":"IF(DH$7=$F23,$H23,\"\")","v":0},0,{"$f":"IF(DJ$7=$F23,$H23,\"\")","v":0},0,{"$f":"IF(DL$7=$F23,$H23,\"\")","v":0},0,{"$f":"IF(DN$7=$F23,$H23,\"\")","v":0},0,{"$f":"IF(DP$7=$F23,$H23,\"\")","v":0},0,{"$f":"IF(DR$7=$F23,$H23,\"\")","v":0},0,{"$f":"IF(DT$7=$F23,$H23,\"\")","v":0},0,{"$f":"IF(DV$7=$F23,$H23,\"\")","v":0},0,{"$f":"IF(DX$7=$F23,$H23,\"\")","v":0},0,{"$f":"IF(DZ$7=$F23,$H23,\"\")","v":0},0,{"$f":"IF(EB$7=$F23,$H23,\"\")","v":0},0,{"$f":"IF(ED$7=$F23,$H23,\"\")","v":0},0,{"$f":"IF(EF$7=$F23,$H23,\"\")","v":0},0,{"$f":"IF(EH$7=$F23,$H23,\"\")","v":0},0,{"$f":"IF(EJ$7=$F23,$H23,\"\")","v":0},0,{"$f":"IF(EL$7=$F23,$H23,\"\")","v":0},0,{"$f":"IF(EN$7=$F23,$H23,\"\")","v":0},0,{"$f":"IF(EP$7=$F23,$H23,\"\")","v":0},0,{"$f":"IF(ER$7=$F23,$H23,\"\")","v":0},0,{"$f":"IF(ET$7=$F23,$H23,\"\")","v":0},0,{"$f":"IF(EV$7=$F23,$H23,\"\")","v":0},0,{"$f":"IF(EX$7=$F23,$H23,\"\")","v":0},0,{"$f":"IF(EZ$7=$F23,$H23,\"\")","v":0},0,{"$f":"IF(FB$7=$F23,$H23,\"\")","v":0},0,{"$f":"IF(FD$7=$F23,$H23,\"\")","v":0},0,{"$f":"IF(FF$7=$F23,$H23,\"\")","v":0},0,{"$f":"IF(FH$7=$F23,$H23,\"\")","v":0},0,{"$f":"IF(FJ$7=$F23,$H23,\"\")","v":0},0,{"$f":"IF(FL$7=$F23,$H23,\"\")","v":0},0,0]
[16,null,null,null,null,null,null,null,true,0,0,"","","",{"$f":"IF(N$7=$F24,$H24,\"\")","v":""},"",{"$f":"IF(P$7=$F24,$H24,\"\")","v":""},"",{"$f":"IF(R$7=$F24,$H24,\"\")","v":""},"",{"$f":"IF(T$7=$F24,$H24,\"\")","v":""},"",{"$f":"IF(V$7=$F24,$H24,\"\")","v":""},"",{"$f":"IF(X$7=$F24,$H24,\"\")","v":""},"",{"$f":"IF(Z$7=$F24,$H24,\"\")","v":""},"",{"$f":"IF(AB$7=$F24,$H24,\"\")","v":""},"",{"$f":"IF(AD$7=$F24,$H24,\"\")","v":""},"",{"$f":"IF(AF$7=$F24,$H24,\"\")","v":""},"",{"$f":"IF(AH$7=$F24,$H24,\"\")","v":""},"",{"$f":"IF(AJ$7=$F24,$H24,\"\")","v":""},"",{"$f":"IF(AL$7=$F24,$H24,\"\")","v":""},"",{"$f":"IF(AN$7=$F24,$H24,\"\")","v":""},"",{"$f":"IF(AP$7=$F24,$H24,\"\")","v":""},"",{"$f":"IF(AR$7=$F24,$H24,\"\")","v":""},"",{"$f":"IF(AT$7=$F24,$H24,\"\")","v":""},"",{"$f":"IF(AV$7=$F24,$H24,\"\")","v":""},"",{"$f":"IF(AX$7=$F24,$H24,\"\")","v":""},"",{"$f":"IF(AZ$7=$F24,$H24,\"\")","v":""},"",{"$f":"IF(BB$7=$F24,$H24,\"\")","v":""},"",{"$f":"IF(BD$7=$F24,$H24,\"\")","v":""},"",{"$f":"IF(BF$7=$F24,$H24,\"\")","v":""},"",{"$f":"IF(BH$7=$F24,$H24,\"\")","v":""},"",{"$f":"IF(BJ$7=$F24,$H24,\"\")","v":""},"",{"$f":"IF(BL$7=$F24,$H24,\"\")","v":""},"",{"$f":"IF(BN$7=$F24,$H24,\"\")","v":""},"",{"$f":"IF(BP$7=$F24,$H24,\"\")","v":""},"",{"$f":"IF(BR$7=$F24,$H24,\"\")","v":""},"",{"$f":"IF(BT$7=$F24,$H24,\"\")","v":""},"",{"$f":"IF(BV$7=$F24,$H24,\"\")","v":""},"",{"$f":"IF(BX$7=$F24,$H24,\"\")","v":""},"",{"$f":"IF(BZ$7=$F24,$H24,\"\")","v":""},"",{"$f":"IF(CB$7=$F24,$H24,\"\")","v":""},"",{"$f":"IF(CD$7=$F24,$H24,\"\")","v":""},"",{"$f":"IF(CF$7=$F24,$H24,\"\")","v":""},"",{"$f":"IF(CH$7=$F24,$H24,\"\")","v":""},"",{"$f":"IF(CJ$7=$F24,$H24,\"\")","v":""},"",{"$f":"IF(CL$7=$F24,$H24,\"\")","v":""},"",{"$f":"IF(CN$7=$F24,$H24,\"\")","v":""},"",{"$f":"IF(CP$7=$F24,$H24,\"\")","v":""},"",{"$f":"IF(CR$7=$F24,$H24,\"\")","v":""},"",{"$f":"IF(CT$7=$F24,$H24,\"\")","v":""},"",{"$f":"IF(CV$7=$F24,$H24,\"\")","v":""},"",{"$f":"IF(CX$7=$F24,$H24,\"\")","v":""},"",{"$f":"IF(CZ$7=$F24,$H24,\"\")","v":""},"",{"$f":"IF(DB$7=$F24,$H24,\"\")","v":""},"",{"$f":"IF(DD$7=$F24,$H24,\"\")","v":""},"",{"$f":"IF(DF$7=$F24,$H24,\"\")","v":""},0,{"$f":"IF(DH$7=$F24,$H24,\"\")","v":0},0,{"$f":"IF(DJ$7=$F24,$H24,\"\")","v":0},0,{"$f":"IF(DL$7=$F24,$H24,\"\")","v":0},0,{"$f":"IF(DN$7=$F24,$H24,\"\")","v":0},0,{"$f":"IF(DP$7=$F24,$H24,\"\")","v":0},0,{"$f":"IF(DR$7=$F24,$H24,\"\")","v":0},0,{"$f":"IF(DT$7=$F24,$H24,\"\")","v":0},0,{"$f":"IF(DV$7=$F24,$H24,\"\")","v":0},0,{"$f":"IF(DX$7=$F24,$H24,\"\")","v":0},0,{"$f":"IF(DZ$7=$F24,$H24,\"\")","v":0},0,{"$f":"IF(EB$7=$F24,$H24,\"\")","v":0},0,{"$f":"IF(ED$7=$F24,$H24,\"\")","v":0},0,{"$f":"IF(EF$7=$F24,$H24,\"\")","v":0},0,{"$f":"IF(EH$7=$F24,$H24,\"\")","v":0},0,{"$f":"IF(EJ$7=$F24,$H24,\"\")","v":0},0,{"$f":"IF(EL$7=$F24,$H24,\"\")","v":0},0,{"$f":"IF(EN$7=$F24,$H24,\"\")","v":0},0,{"$f":"IF(EP$7=$F24,$H24,\"\")","v":0},0,{"$f":"IF(ER$7=$F24,$H24,\"\")","v":0},0,{"$f":"IF(ET$7=$F24,$H24,\"\")","v":0},0,{"$f":"IF(EV$7=$F24,$H24,\"\")","v":0},0,{"$f":"IF(EX$7=$F24,$H24,\"\")","v":0},0,{"$f":"IF(EZ$7=$F24,$H24,\"\")","v":0},0,{"$f":"IF(FB$7=$F24,$H24,\"\")","v":0},0,{"$f":"IF(FD$7=$F24,$H24,\"\")","v":0},0,{"$f":"IF(FF$7=$F24,$H24,\"\")","v":0},0,{"$f":"IF(FH$7=$F24,$H24,\"\")","v":0},0,{"$f":"IF(FJ$7=$F24,$H24,\"\")","v":0},0,{"$f":"IF(FL$7=$F24,$H24,\"\")","v":0},0,0]
[17,null,null,null,null,null,null,null,true,0,0,"","",{"$f":"IF(N$7=$E25,$G25,\"\")","v":""},{"$f":"IF(N$7=$F25,$H25,\"\")","v":""},{"$f":"IF(P$7=$E25,$G25,\"\")","v":""},{"$f":"IF(P$7=$F25,$H25,\"\")","v":""},{"$f":"IF(R$7=$E25,$G25,\"\")","v":""},{"$f":"IF(R$7=$F25,$H25,\"\")","v":""},{"$f":"IF(T$7=$E25,$G25,\"\")","v":""},{"$f":"IF(T$7=$F25,$H25,\"\")","v":""},{"$f":"IF(V$7=$E25,$G25,\"\")","v":""},{"$f":"IF(V$7=$F25,$H25,\"\")","v":""},{"$f":"IF(X$7=$E25,$G25,\"\")","v":""},{"$f":"IF(X$7=$F25,$H25,\"\")","v":""},{"$f":"IF(Z$7=$E25,$G25,\"\")","v":""},{"$f":"IF(Z$7=$F25,$H25,\"\")","v":""},{"$f":"IF(AB$7=$E25,$G25,\"\")","v":""},{"$f":"IF(AB$7=$F25,$H25,\"\")","v":""},{"$f":"IF(AD$7=$E25,$G25,\"\")","v":""},{"$f":"IF(AD$7=$F25,$H25,\"\")","v":""},{"$f":"IF(AF$7=$E25,$G25,\"\")","v":""},{"$f":"IF(AF$7=$F25,$H25,\"\")","v":""},{"$f":"IF(AH$7=$E25,$G25,\"\")","v":""},{"$f":"IF(AH$7=$F25,$H25,\"\")","v":""},{"$f":"IF(AJ$7=$E25,$G25,\"\")","v":""},{"$f":"IF(AJ$7=$F25,$H25,\"\")","v":""},{"$f":"IF(AL$7=$E25,$G25,\"\")","v":""},{"$f":"IF(AL$7=$F25,$H25,\"\")","v":""},{"$f":"IF(AN$7=$E25,$G25,\"\")","v":""},{"$f":"IF(AN$7=$F25,$H25,\"\")","v":""},{"$f":"IF(AP$7=$E25,$G25,\"\")","v":""},{"$f":"IF(AP$7=$F25,$H25,\"\")","v":""},{"$f":"IF(AR$7=$E25,$G25,\"\")","v":""},{"$f":"IF(AR$7=$F25,$H25,\"\")","v":""},{"$f":"IF(AT$7=$E25,$G25,\"\")","v":""},{"$f":"IF(AT$7=$F25,$H25,\"\")","v":""},{"$f":"IF(AV$7=$E25,$G25,\"\")","v":""},{"$f":"IF(AV$7=$F25,$H25,\"\")","v":""},{"$f":"IF(AX$7=$E25,$G25,\"\")","v":""},{"$f":"IF(AX$7=$F25,$H25,\"\")","v":""},{"$f":"IF(AZ$7=$E25,$G25,\"\")","v":""},{"$f":"IF(AZ$7=$F25,$H25,\"\")","v":""},{"$f":"IF(BB$7=$E25,$G25,\"\")","v":""},{"$f":"IF(BB$7=$F25,$H25,\"\")","v":""},{"$f":"IF(BD$7=$E25,$G25,\"\")","v":""},{"$f":"IF(BD$7=$F25,$H25,\"\")","v":""},{"$f":"IF(BF$7=$E25,$G25,\"\")","v":""},{"$f":"IF(BF$7=$F25,$H25,\"\")","v":""},{"$f":"IF(BH$7=$E25,$G25,\"\")","v":""},{"$f":"IF(BH$7=$F25,$H25,\"\")","v":""},{"$f":"IF(BJ$7=$E25,$G25,\"\")","v":""},{"$f":"IF(BJ$7=$F25,$H25,\"\")","v":""},{"$f":"IF(BL$7=$E25,$G25,\"\")","v":""},{"$f":"IF(BL$7=$F25,$H25,\"\")","v":""},{"$f":"IF(BN$7=$E25,$G25,\"\")","v":""},{"$f":"IF(BN$7=$F25,$H25,\"\")","v":""},{"$f":"IF(BP$7=$E25,$G25,\"\")","v":""},{"$f":"IF(BP$7=$F25,$H25,\"\")","v":""},{"$f":"IF(BR$7=$E25,$G25,\"\")","v":""},{"$f":"IF(BR$7=$F25,$H25,\"\")","v":""},{"$f":"IF(BT$7=$E25,$G25,\"\")","v":""},{"$f":"IF(BT$7=$F25,$H25,\"\")","v":""},{"$f":"IF(BV$7=$E25,$G25,\"\")","v":""},{"$f":"IF(BV$7=$F25,$H25,\"\")","v":""},{"$f":"IF(BX$7=$E25,$G25,\"\")","v":""},{"$f":"IF(BX$7=$F25,$H25,\"\")","v":""},{"$f":"IF(BZ$7=$E25,$G25,\"\")","v":""},{"$f":"IF(BZ$7=$F25,$H25,\"\")","v":""},{"$f":"IF(CB$7=$E25,$G25,\"\")","v":""},{"$f":"IF(CB$7=$F25,$H25,\"\")","v":""},{"$f":"IF(CD$7=$E25,$G25,\"\")","v":""},{"$f":"IF(CD$7=$F25,$H25,\"\")","v":""},{"$f":"IF(CF$7=$E25,$G25,\"\")","v":""},{"$f":"IF(CF$7=$F25,$H25,\"\")","v":""},{"$f":"IF(CH$7=$E25,$G25,\"\")","v":""},{"$f":"IF(CH$7=$F25,$H25,\"\")","v":""},{"$f":"IF(CJ$7=$E25,$G25,\"\")","v":""},{"$f":"IF(CJ$7=$F25,$H25,\"\")","v":""},{"$f":"IF(CL$7=$E25,$G25,\"\")","v":""},{"$f":"IF(CL$7=$F25,$H25,\"\")","v":""},{"$f":"IF(CN$7=$E25,$G25,\"\")","v":""},{"$f":"IF(CN$7=$F25,$H25,\"\")","v":""},{"$f":"IF(CP$7=$E25,$G25,\"\")","v":""},{"$f":"IF(CP$7=$F25,$H25,\"\")","v":""},{"$f":"IF(CR$7=$E25,$G25,\"\")","v":""},{"$f":"IF(CR$7=$F25,$H25,\"\")","v":""},{"$f":"IF(CT$7=$E25,$G25,\"\")","v":""},{"$f":"IF(CT$7=$F25,$H25,\"\")","v":""},{"$f":"IF(CV$7=$E25,$G25,\"\")","v":""},{"$f":"IF(CV$7=$F25,$H25,\"\")","v":""},{"$f":"IF(CX$7=$E25,$G25,\"\")","v":""},{"$f":"IF(CX$7=$F25,$H25,\"\")","v":""},{"$f":"IF(CZ$7=$E25,$G25,\"\")","v":""},{"$f":"IF(CZ$7=$F25,$H25,\"\")","v":""},{"$f":"IF(DB$7=$E25,$G25,\"\")","v":""},{"$f":"IF(DB$7=$F25,$H25,\"\")","v":""},{"$f":"IF(DD$7=$E25,$G25,\"\")","v":""},{"$f":"IF(DD$7=$F25,$H25,\"\")","v":""},{"$f":"IF(DF$7=$E25,$G25,\"\")","v":""},{"$f":"IF(DF$7=$F25,$H25,\"\")","v":""},{"$f":"IF(DH$7=$E25,$G25,\"\")","v":0},{"$f":"IF(DH$7=$F25,$H25,\"\")","v":0},{"$f":"IF(DJ$7=$E25,$G25,\"\")","v":0},{"$f":"IF(DJ$7=$F25,$H25,\"\")","v":0},{"$f":"IF(DL$7=$E25,$G25,\"\")","v":0},{"$f":"IF(DL$7=$F25,$H25,\"\")","v":0},{"$f":"IF(DN$7=$E25,$G25,\"\")","v":0},{"$f":"IF(DN$7=$F25,$H25,\"\")","v":0},{"$f":"IF(DP$7=$E25,$G25,\"\")","v":0},{"$f":"IF(DP$7=$F25,$H25,\"\")","v":0},{"$f":"IF(DR$7=$E25,$G25,\"\")","v":0},{"$f":"IF(DR$7=$F25,$H25,\"\")","v":0},{"$f":"IF(DT$7=$E25,$G25,\"\")","v":0},{"$f":"IF(DT$7=$F25,$H25,\"\")","v":0},{"$f":"IF(DV$7=$E25,$G25,\"\")","v":0},{"$f":"IF(DV$7=$F25,$H25,\"\")","v":0},{"$f":"IF(DX$7=$E25,$G25,\"\")","v":0},{"$f":"IF(DX$7=$F25,$H25,\"\")","v":0},{"$f":"IF(DZ$7=$E25,$G25,\"\")","v":0},{"$f":"IF(DZ$7=$F25,$H25,\"\")","v":0},{"$f":"IF(EB$7=$E25,$G25,\"\")","v":0},{"$f":"IF(EB$7=$F25,$H25,\"\")","v":0},{"$f":"IF(ED$7=$E25,$G25,\"\")","v":0},{"$f":"IF(ED$7=$F25,$H25,\"\")","v":0},{"$f":"IF(EF$7=$E25,$G25,\"\")","v":0},{"$f":"IF(EF$7=$F25,$H25,\"\")","v":0},{"$f":"IF(EH$7=$E25,$G25,\"\")","v":0},{"$f":"IF(EH$7=$F25,$H25,\"\")","v":0},{"$f":"IF(EJ$7=$E25,$G25,\"\")","v":0},{"$f":"IF(EJ$7=$F25,$H25,\"\")","v":0},{"$f":"IF(EL$7=$E25,$G25,\"\")","v":0},{"$f":"IF(EL$7=$F25,$H25,\"\")","v":0},{"$f":"IF(EN$7=$E25,$G25,\"\")","v":0},{"$f":"IF(EN$7=$F25,$H25,\"\")","v":0},{"$f":"IF(EP$7=$E25,$G25,\"\")","v":0},{"$f":"IF(EP$7=$F25,$H25,\"\")","v":0},{"$f":"IF(ER$7=$E25,$G25,\"\")","v":0},{"$f":"IF(ER$7=$F25,$H25,\"\")","v":0},{"$f":"IF(ET$7=$E25,$G25,\"\")","v":0},{"$f":"IF(ET$7=$F25,$H25,\"\")","v":0},{"$f":"IF(EV$7=$E25,$G25,\"\")","v":0},{"$f":"IF(EV$7=$F25,$H25,\"\")","v":0},{"$f":"IF(EX$7=$E25,$G25,\"\")","v":0},{"$f":"IF(EX$7=$F25,$H25,\"\")","v":0},{"$f":"IF(EZ$7=$E25,$G25,\"\")","v":0},{"$f":"IF(EZ$7=$F25,$H25,\"\")","v":0},{"$f":"IF(FB$7=$E25,$G25,\"\")","v":0},{"$f":"IF(FB$7=$F25,$H25,\"\")","v":0},{"$f":"IF(FD$7=$E25,$G25,\"\")","v":0},{"$f":"IF(FD$7=$F25,$H25,\"\")","v":0},{"$f":"IF(FF$7=$E25,$G25,\"\")","v":0},{"$f":"IF(FF$7=$F25,$H25,\"\")","v":0},{"$f":"IF(FH$7=$E25,$G25,\"\")","v":0},{"$f":"IF(FH$7=$F25,$H25,\"\")","v":0},{"$f":"IF(FJ$7=$E25,$G25,\"\")","v":0},{"$f":"IF(FJ$7=$F25,$H25,\"\")","v":0},{"$f":"IF(FL$7=$E25,$G25,\"\")","v":0},{"$f":"IF(FL$7=$F25,$H25,\"\")","v":0},{"$f":"IF(FN$7=$E25,$G25,\"\")","v":0},0]
[18,null,null,null,null,null,null,null,true,0,0,"","","",{"$f":"IF(N$7=$F26,$H26,\"\")","v":""},"",{"$f":"IF(P$7=$F26,$H26,\"\")","v":""},"",{"$f":"IF(R$7=$F26,$H26,\"\")","v":""},"",{"$f":"IF(T$7=$F26,$H26,\"\")","v":""},"",{"$f":"IF(V$7=$F26,$H26,\"\")","v":""},"",{"$f":"IF(X$7=$F26,$H26,\"\")","v":""},"",{"$f":"IF(Z$7=$F26,$H26,\"\")","v":""},"",{"$f":"IF(AB$7=$F26,$H26,\"\")","v":""},"",{"$f":"IF(AD$7=$F26,$H26,\"\")","v":""},"",{"$f":"IF(AF$7=$F26,$H26,\"\")","v":""},"",{"$f":"IF(AH$7=$F26,$H26,\"\")","v":""},"",{"$f":"IF(AJ$7=$F26,$H26,\"\")","v":""},"",{"$f":"IF(AL$7=$F26,$H26,\"\")","v":""},"",{"$f":"IF(AN$7=$F26,$H26,\"\")","v":""},"",{"$f":"IF(AP$7=$F26,$H26,\"\")","v":""},"",{"$f":"IF(AR$7=$F26,$H26,\"\")","v":""},"",{"$f":"IF(AT$7=$F26,$H26,\"\")","v":""},"",{"$f":"IF(AV$7=$F26,$H26,\"\")","v":""},"",{"$f":"IF(AX$7=$F26,$H26,\"\")","v":""},"",{"$f":"IF(AZ$7=$F26,$H26,\"\")","v":""},"",{"$f":"IF(BB$7=$F26,$H26,\"\")","v":""},"",{"$f":"IF(BD$7=$F26,$H26,\"\")","v":""},"",{"$f":"IF(BF$7=$F26,$H26,\"\")","v":""},"",{"$f":"IF(BH$7=$F26,$H26,\"\")","v":""},"",{"$f":"IF(BJ$7=$F26,$H26,\"\")","v":""},"",{"$f":"IF(BL$7=$F26,$H26,\"\")","v":""},"",{"$f":"IF(BN$7=$F26,$H26,\"\")","v":""},"",{"$f":"IF(BP$7=$F26,$H26,\"\")","v":""},"",{"$f":"IF(BR$7=$F26,$H26,\"\")","v":""},"",{"$f":"IF(BT$7=$F26,$H26,\"\")","v":""},"",{"$f":"IF(BV$7=$F26,$H26,\"\")","v":""},"",{"$f":"IF(BX$7=$F26,$H26,\"\")","v":""},"",{"$f":"IF(BZ$7=$F26,$H26,\"\")","v":""},"",{"$f":"IF(CB$7=$F26,$H26,\"\")","v":""},"",{"$f":"IF(CD$7=$F26,$H26,\"\")","v":""},"",{"$f":"IF(CF$7=$F26,$H26,\"\")","v":""},"",{"$f":"IF(CH$7=$F26,$H26,\"\")","v":""},"",{"$f":"IF(CJ$7=$F26,$H26,\"\")","v":""},"",{"$f":"IF(CL$7=$F26,$H26,\"\")","v":""},"",{"$f":"IF(CN$7=$F26,$H26,\"\")","v":""},"",{"$f":"IF(CP$7=$F26,$H26,\"\")","v":""},"",{"$f":"IF(CR$7=$F26,$H26,\"\")","v":""},"",{"$f":"IF(CT$7=$F26,$H26,\"\")","v":""},"",{"$f":"IF(CV$7=$F26,$H26,\"\")","v":""},"",{"$f":"IF(CX$7=$F26,$H26,\"\")","v":""},"",{"$f":"IF(CZ$7=$F26,$H26,\"\")","v":""},"",{"$f":"IF(DB$7=$F26,$H26,\"\")","v":""},"",{"$f":"IF(DD$7=$F26,$H26,\"\")","v":""},"",{"$f":"IF(DF$7=$F26,$H26,\"\")","v":""},0,{"$f":"IF(DH$7=$F26,$H26,\"\")","v":0},0,{"$f":"IF(DJ$7=$F26,$H26,\"\")","v":0},0,{"$f":"IF(DL$7=$F26,$H26,\"\")","v":0},0,{"$f":"IF(DN$7=$F26,$H26,\"\")","v":0},0,{"$f":"IF(DP$7=$F26,$H26,\"\")","v":0},0,{"$f":"IF(DR$7=$F26,$H26,\"\")","v":0},0,{"$f":"IF(DT$7=$F26,$H26,\"\")","v":0},0,{"$f":"IF(DV$7=$F26,$H26,\"\")","v":0},0,{"$f":"IF(DX$7=$F26,$H26,\"\")","v":0},0,{"$f":"IF(DZ$7=$F26,$H26,\"\")","v":0},0,{"$f":"IF(EB$7=$F26,$H26,\"\")","v":0},0,{"$f":"IF(ED$7=$F26,$H26,\"\")","v":0},0,{"$f":"IF(EF$7=$F26,$H26,\"\")","v":0},0,{"$f":"IF(EH$7=$F26,$H26,\"\")","v":0},0,{"$f":"IF(EJ$7=$F26,$H26,\"\")","v":0},0,{"$f":"IF(EL$7=$F26,$H26,\"\")","v":0},0,{"$f":"IF(EN$7=$F26,$H26,\"\")","v":0},0,{"$f":"IF(EP$7=$F26,$H26,\"\")","v":0},0,{"$f":"IF(ER$7=$F26,$H26,\"\")","v":0},0,{"$f":"IF(ET$7=$F26,$H26,\"\")","v":0},0,{"$f":"IF(EV$7=$F26,$H26,\"\")","v":0},0,{"$f":"IF(EX$7=$F26,$H26,\"\")","v":0},0,{"$f":"IF(EZ$7=$F26,$H26,\"\")","v":0},0,{"$f":"IF(FB$7=$F26,$H26,\"\")","v":0},0,{"$f":"IF(FD$7=$F26,$H26,\"\")","v":0},0,{"$f":"IF(FF$7=$F26,$H26,\"\")","v":0},0,{"$f":"IF(FH$7=$F26,$H26,\"\")","v":0},0,{"$f":"IF(FJ$7=$F26,$H26,\"\")","v":0},0,{"$f":"IF(FL$7=$F26,$H26,\"\")","v":0},0,0]
[19,null,null,null,null,null,null,null,true,0,0,"","","",{"$f":"IF(N$7=$F27,$H27,\"\")","v":""},"",{"$f":"IF(P$7=$F27,$H27,\"\")","v":""},"",{"$f":"IF(R$7=$F27,$H27,\"\")","v":""},"",{"$f":"IF(T$7=$F27,$H27,\"\")","v":""},"",{"$f":"IF(V$7=$F27,$H27,\"\")","v":""},"",{"$f":"IF(X$7=$F27,$H27,\"\")","v":""},"",{"$f":"IF(Z$7=$F27,$H27,\"\")","v":""},"",{"$f":"IF(AB$7=$F27,$H27,\"\")","v":""},"",{"$f":"IF(AD$7=$F27,$H27,\"\")","v":""},"",{"$f":"IF(AF$7=$F27,$H27,\"\")","v":""},"",{"$f":"IF(AH$7=$F27,$H27,\"\")","v":""},"",{"$f":"IF(AJ$7=$F27,$H27,\"\")","v":""},"",{"$f":"IF(AL$7=$F27,$H27,\"\")","v":""},"",{"$f":"IF(AN$7=$F27,$H27,\"\")","v":""},"",{"$f":"IF(AP$7=$F27,$H27,\"\")","v":""},"",{"$f":"IF(AR$7=$F27,$H27,\"\")","v":""},"",{"$f":"IF(AT$7=$F27,$H27,\"\")","v":""},"",{"$f":"IF(AV$7=$F27,$H27,\"\")","v":""},"",{"$f":"IF(AX$7=$F27,$H27,\"\")","v":""},"",{"$f":"IF(AZ$7=$F27,$H27,\"\")","v":""},"",{"$f":"IF(BB$7=$F27,$H27,\"\")","v":""},"",{"$f":"IF(BD$7=$F27,$H27,\"\")","v":""},"",{"$f":"IF(BF$7=$F27,$H27,\"\")","v":""},"",{"$f":"IF(BH$7=$F27,$H27,\"\")","v":""},"",{"$f":"IF(BJ$7=$F27,$H27,\"\")","v":""},"",{"$f":"IF(BL$7=$F27,$H27,\"\")","v":""},"",{"$f":"IF(BN$7=$F27,$H27,\"\")","v":""},"",{"$f":"IF(BP$7=$F27,$H27,\"\")","v":""},"",{"$f":"IF(BR$7=$F27,$H27,\"\")","v":""},"",{"$f":"IF(BT$7=$F27,$H27,\"\")","v":""},"",{"$f":"IF(BV$7=$F27,$H27,\"\")","v":""},"",{"$f":"IF(BX$7=$F27,$H27,\"\")","v":""},"",{"$f":"IF(BZ$7=$F27,$H27,\"\")","v":""},"",{"$f":"IF(CB$7=$F27,$H27,\"\")","v":""},"",{"$f":"IF(CD$7=$F27,$H27,\"\")","v":""},"",{"$f":"IF(CF$7=$F27,$H27,\"\")","v":""},"",{"$f":"IF(CH$7=$F27,$H27,\"\")","v":""},"",{"$f":"IF(CJ$7=$F27,$H27,\"\")","v":""},"",{"$f":"IF(CL$7=$F27,$H27,\"\")","v":""},"",{"$f":"IF(CN$7=$F27,$H27,\"\")","v":""},"",{"$f":"IF(CP$7=$F27,$H27,\"\")","v":""},"",{"$f":"IF(CR$7=$F27,$H27,\"\")","v":""},"",{"$f":"IF(CT$7=$F27,$H27,\"\")","v":""},"",{"$f":"IF(CV$7=$F27,$H27,\"\")","v":""},"",{"$f":"IF(CX$7=$F27,$H27,\"\")","v":""},"",{"$f":"IF(CZ$7=$F27,$H27,\"\")","v":""},"",{"$f":"IF(DB$7=$F27,$H27,\"\")","v":""},"",{"$f":"IF(DD$7=$F27,$H27,\"\")","v":""},"",{"$f":"IF(DF$7=$F27,$H27,\"\")","v":""},0,{"$f":"IF(DH$7=$F27,$H27,\"\")","v":0},0,{"$f":"IF(DJ$7=$F27,$H27,\"\")","v":0},0,{"$f":"IF(DL$7=$F27,$H27,\"\")","v":0},0,{"$f":"IF(DN$7=$F27,$H27,\"\")","v":0},0,{"$f":"IF(DP$7=$F27,$H27,\"\")","v":0},0,{"$f":"IF(DR$7=$F27,$H27,\"\")","v":0},0,{"$f":"IF(DT$7=$F27,$H27,\"\")","v":0},0,{"$f":"IF(DV$7=$F27,$H27,\"\")","v":0},0,{"$f":"IF(DX$7=$F27,$H27,\"\")","v":0},0,{"$f":"IF(DZ$7=$F27,$H27,\"\")","v":0},0,{"$f":"IF(EB$7=$F27,$H27,\"\")","v":0},0,{"$f":"IF(ED$7=$F27,$H27,\"\")","v":0},0,{"$f":"IF(EF$7=$F27,$H27,\"\")","v":0},0,{"$f":"IF(EH$7=$F27,$H27,\"\")","v":0},0,{"$f":"IF(EJ$7=$F27,$H27,\"\")","v":0},0,{"$f":"IF(EL$7=$F27,$H27,\"\")","v":0},0,{"$f":"IF(EN$7=$F27,$H27,\"\")","v":0},0,{"$f":"IF(EP$7=$F27,$H27,\"\")","v":0},0,{"$f":"IF(ER$7=$F27,$H27,\"\")","v":0},0,{"$f":"IF(ET$7=$F27,$H27,\"\")","v":0},0,{"$f":"IF(EV$7=$F27,$H27,\"\")","v":0},0,{"$f":"IF(EX$7=$F27,$H27,\"\")","v":0},0,{"$f":"IF(EZ$7=$F27,$H27,\"\")","v":0},0,{"$f":"IF(FB$7=$F27,$H27,\"\")","v":0},0,{"$f":"IF(FD$7=$F27,$H27,\"\")","v":0},0,{"$f":"IF(FF$7=$F27,$H27,\"\")","v":0},0,{"$f":"IF(FH$7=$F27,$H27,\"\")","v":0},0,{"$f":"IF(FJ$7=$F27,$H27,\"\")","v":0},0,{"$f":"IF(FL$7=$F27,$H27,\"\")","v":0},0,0]
[20,null,null,null,null,null,null,null,true,0,0,"","","",{"$f":"IF(N$7=$F28,$H28,\"\")","v":""},"",{"$f":"IF(P$7=$F28,$H28,\"\")","v":""},"",{"$f":"IF(R$7=$F28,$H28,\"\")","v":""},"",{"$f":"IF(T$7=$F28,$H28,\"\")","v":""},"",{"$f":"IF(V$7=$F28,$H28,\"\")","v":""},"",{"$f":"IF(X$7=$F28,$H28,\"\")","v":""},"",{"$f":"IF(Z$7=$F28,$H28,\"\")","v":""},"",{"$f":"IF(AB$7=$F28,$H28,\"\")","v":""},"",{"$f":"IF(AD$7=$F28,$H28,\"\")","v":""},"",{"$f":"IF(AF$7=$F28,$H28,\"\")","v":""},"",{"$f":"IF(AH$7=$F28,$H28,\"\")","v":""},"",{"$f":"IF(AJ$7=$F28,$H28,\"\")","v":""},"",{"$f":"IF(AL$7=$F28,$H28,\"\")","v":""},"",{"$f":"IF(AN$7=$F28,$H28,\"\")","v":""},"",{"$f":"IF(AP$7=$F28,$H28,\"\")","v":""},"",{"$f":"IF(AR$7=$F28,$H28,\"\")","v":""},"",{"$f":"IF(AT$7=$F28,$H28,\"\")","v":""},"",{"$f":"IF(AV$7=$F28,$H28,\"\")","v":""},"",{"$f":"IF(AX$7=$F28,$H28,\"\")","v":""},"",{"$f":"IF(AZ$7=$F28,$H28,\"\")","v":""},"",{"$f":"IF(BB$7=$F28,$H28,\"\")","v":""},"",{"$f":"IF(BD$7=$F28,$H28,\"\")","v":""},"",{"$f":"IF(BF$7=$F28,$H28,\"\")","v":""},"",{"$f":"IF(BH$7=$F28,$H28,\"\")","v":""},"",{"$f":"IF(BJ$7=$F28,$H28,\"\")","v":""},"",{"$f":"IF(BL$7=$F28,$H28,\"\")","v":""},"",{"$f":"IF(BN$7=$F28,$H28,\"\")","v":""},"",{"$f":"IF(BP$7=$F28,$H28,\"\")","v":""},"",{"$f":"IF(BR$7=$F28,$H28,\"\")","v":""},"",{"$f":"IF(BT$7=$F28,$H28,\"\")","v":""},"",{"$f":"IF(BV$7=$F28,$H28,\"\")","v":""},"",{"$f":"IF(BX$7=$F28,$H28,\"\")","v":""},"",{"$f":"IF(BZ$7=$F28,$H28,\"\")","v":""},"",{"$f":"IF(CB$7=$F28,$H28,\"\")","v":""},"",{"$f":"IF(CD$7=$F28,$H28,\"\")","v":""},"",{"$f":"IF(CF$7=$F28,$H28,\"\")","v":""},"",{"$f":"IF(CH$7=$F28,$H28,\"\")","v":""},"",{"$f":"IF(CJ$7=$F28,$H28,\"\")","v":""},"",{"$f":"IF(CL$7=$F28,$H28,\"\")","v":""},"",{"$f":"IF(CN$7=$F28,$H28,\"\")","v":""},"",{"$f":"IF(CP$7=$F28,$H28,\"\")","v":""},"",{"$f":"IF(CR$7=$F28,$H28,\"\")","v":""},"",{"$f":"IF(CT$7=$F28,$H28,\"\")","v":""},"",{"$f":"IF(CV$7=$F28,$H28,\"\")","v":""},"",{"$f":"IF(CX$7=$F28,$H28,\"\")","v":""},"",{"$f":"IF(CZ$7=$F28,$H28,\"\")","v":""},"",{"$f":"IF(DB$7=$F28,$H28,\"\")","v":""},"",{"$f":"IF(DD$7=$F28,$H28,\"\")","v":""},"",{"$f":"IF(DF$7=$F28,$H28,\"\")","v":""},0,{"$f":"IF(DH$7=$F28,$H28,\"\")","v":0},0,{"$f":"IF(DJ$7=$F28,$H28,\"\")","v":0},0,{"$f":"IF(DL$7=$F28,$H28,\"\")","v":0},0,{"$f":"IF(DN$7=$F28,$H28,\"\")","v":0},0,{"$f":"IF(DP$7=$F28,$H28,\"\")","v":0},0,{"$f":"IF(DR$7=$F28,$H28,\"\")","v":0},0,{"$f":"IF(DT$7=$F28,$H28,\"\")","v":0},0,{"$f":"IF(DV$7=$F28,$H28,\"\")","v":0},0,{"$f":"IF(DX$7=$F28,$H28,\"\")","v":0},0,{"$f":"IF(DZ$7=$F28,$H28,\"\")","v":0},0,{"$f":"IF(EB$7=$F28,$H28,\"\")","v":0},0,{"$f":"IF(ED$7=$F28,$H28,\"\")","v":0},0,{"$f":"IF(EF$7=$F28,$H28,\"\")","v":0},0,{"$f":"IF(EH$7=$F28,$H28,\"\")","v":0},0,{"$f":"IF(EJ$7=$F28,$H28,\"\")","v":0},0,{"$f":"IF(EL$7=$F28,$H28,\"\")","v":0},0,{"$f":"IF(EN$7=$F28,$H28,\"\")","v":0},0,{"$f":"IF(EP$7=$F28,$H28,\"\")","v":0},0,{"$f":"IF(ER$7=$F28,$H28,\"\")","v":0},0,{"$f":"IF(ET$7=$F28,$H28,\"\")","v":0},0,{"$f":"IF(EV$7=$F28,$H28,\"\")","v":0},0,{"$f":"IF(EX$7=$F28,$H28,\"\")","v":0},0,{"$f":"IF(EZ$7=$F28,$H28,\"\")","v":0},0,{"$f":"IF(FB$7=$F28,$H28,\"\")","v":0},0,{"$f":"IF(FD$7=$F28,$H28,\"\")","v":0},0,{"$f":"IF(FF$7=$F28,$H28,\"\")","v":0},0,{"$f":"IF(FH$7=$F28,$H28,\"\")","v":0},0,{"$f":"IF(FJ$7=$F28,$H28,\"\")","v":0},0,{"$f":"IF(FL$7=$F28,$H28,\"\")","v":0},0,0]
[21,null,null,null,null,null,null,null,true,0,0,"","","",{"$f":"IF(N$7=$F29,$H29,\"\")","v":""},"",{"$f":"IF(P$7=$F29,$H29,\"\")","v":""},"",{"$f":"IF(R$7=$F29,$H29,\"\")","v":""},"",{"$f":"IF(T$7=$F29,$H29,\"\")","v":""},"",{"$f":"IF(V$7=$F29,$H29,\"\")","v":""},"",{"$f":"IF(X$7=$F29,$H29,\"\")","v":""},"",{"$f":"IF(Z$7=$F29,$H29,\"\")","v":""},"",{"$f":"IF(AB$7=$F29,$H29,\"\")","v":""},"",{"$f":"IF(AD$7=$F29,$H29,\"\")","v":""},"",{"$f":"IF(AF$7=$F29,$H29,\"\")","v":""},"",{"$f":"IF(AH$7=$F29,$H29,\"\")","v":""},"",{"$f":"IF(AJ$7=$F29,$H29,\"\")","v":""},"",{"$f":"IF(AL$7=$F29,$H29,\"\")","v":""},"",{"$f":"IF(AN$7=$F29,$H29,\"\")","v":""},"",{"$f":"IF(AP$7=$F29,$H29,\"\")","v":""},"",{"$f":"IF(AR$7=$F29,$H29,\"\")","v":""},"",{"$f":"IF(AT$7=$F29,$H29,\"\")","v":""},"",{"$f":"IF(AV$7=$F29,$H29,\"\")","v":""},"",{"$f":"IF(AX$7=$F29,$H29,\"\")","v":""},"",{"$f":"IF(AZ$7=$F29,$H29,\"\")","v":""},"",{"$f":"IF(BB$7=$F29,$H29,\"\")","v":""},"",{"$f":"IF(BD$7=$F29,$H29,\"\")","v":""},"",{"$f":"IF(BF$7=$F29,$H29,\"\")","v":""},"",{"$f":"IF(BH$7=$F29,$H29,\"\")","v":""},"",{"$f":"IF(BJ$7=$F29,$H29,\"\")","v":""},"",{"$f":"IF(BL$7=$F29,$H29,\"\")","v":""},"",{"$f":"IF(BN$7=$F29,$H29,\"\")","v":""},"",{"$f":"IF(BP$7=$F29,$H29,\"\")","v":""},"",{"$f":"IF(BR$7=$F29,$H29,\"\")","v":""},"",{"$f":"IF(BT$7=$F29,$H29,\"\")","v":""},"",{"$f":"IF(BV$7=$F29,$H29,\"\")","v":""},"",{"$f":"IF(BX$7=$F29,$H29,\"\")","v":""},"",{"$f":"IF(BZ$7=$F29,$H29,\"\")","v":""},"",{"$f":"IF(CB$7=$F29,$H29,\"\")","v":""},"",{"$f":"IF(CD$7=$F29,$H29,\"\")","v":""},"",{"$f":"IF(CF$7=$F29,$H29,\"\")","v":""},"",{"$f":"IF(CH$7=$F29,$H29,\"\")","v":""},"",{"$f":"IF(CJ$7=$F29,$H29,\"\")","v":""},"",{"$f":"IF(CL$7=$F29,$H29,\"\")","v":""},"",{"$f":"IF(CN$7=$F29,$H29,\"\")","v":""},"",{"$f":"IF(CP$7=$F29,$H29,\"\")","v":""},"",{"$f":"IF(CR$7=$F29,$H29,\"\")","v":""},"",{"$f":"IF(CT$7=$F29,$H29,\"\")","v":""},"",{"$f":"IF(CV$7=$F29,$H29,\"\")","v":""},"",{"$f":"IF(CX$7=$F29,$H29,\"\")","v":""},"",{"$f":"IF(CZ$7=$F29,$H29,\"\")","v":""},"",{"$f":"IF(DB$7=$F29,$H29,\"\")","v":""},"",{"$f":"IF(DD$7=$F29,$H29,\"\")","v":""},"",{"$f":"IF(DF$7=$F29,$H29,\"\")","v":""},0,{"$f":"IF(DH$7=$F29,$H29,\"\")","v":0},0,{"$f":"IF(DJ$7=$F29,$H29,\"\")","v":0},0,{"$f":"IF(DL$7=$F29,$H29,\"\")","v":0},0,{"$f":"IF(DN$7=$F29,$H29,\"\")","v":0},0,{"$f":"IF(DP$7=$F29,$H29,\"\")","v":0},0,{"$f":"IF(DR$7=$F29,$H29,\"\")","v":0},0,{"$f":"IF(DT$7=$F29,$H29,\"\")","v":0},0,{"$f":"IF(DV$7=$F29,$H29,\"\")","v":0},0,{"$f":"IF(DX$7=$F29,$H29,\"\")","v":0},0,{"$f":"IF(DZ$7=$F29,$H29,\"\")","v":0},0,{"$f":"IF(EB$7=$F29,$H29,\"\")","v":0},0,{"$f":"IF(ED$7=$F29,$H29,\"\")","v":0},0,{"$f":"IF(EF$7=$F29,$H29,\"\")","v":0},0,{"$f":"IF(EH$7=$F29,$H29,\"\")","v":0},0,{"$f":"IF(EJ$7=$F29,$H29,\"\")","v":0},0,{"$f":"IF(EL$7=$F29,$H29,\"\")","v":0},0,{"$f":"IF(EN$7=$F29,$H29,\"\")","v":0},0,{"$f":"IF(EP$7=$F29,$H29,\"\")","v":0},0,{"$f":"IF(ER$7=$F29,$H29,\"\")","v":0},0,{"$f":"IF(ET$7=$F29,$H29,\"\")","v":0},0,{"$f":"IF(EV$7=$F29,$H29,\"\")","v":0},0,{"$f":"IF(EX$7=$F29,$H29,\"\")","v":0},0,{"$f":"IF(EZ$7=$F29,$H29,\"\")","v":0},0,{"$f":"IF(FB$7=$F29,$H29,\"\")","v":0},0,{"$f":"IF(FD$7=$F29,$H29,\"\")","v":0},0,{"$f":"IF(FF$7=$F29,$H29,\"\")","v":0},0,{"$f":"IF(FH$7=$F29,$H29,\"\")","v":0},0,{"$f":"IF(FJ$7=$F29,$H29,\"\")","v":0},0,{"$f":"IF(FL$7=$F29,$H29,\"\")","v":0},0,0]
[22,null,null,null,null,null,null,null,true,0,0,"","","",{"$f":"IF(N$7=$F30,$H30,\"\")","v":""},"",{"$f":"IF(P$7=$F30,$H30,\"\")","v":""},"",{"$f":"IF(R$7=$F30,$H30,\"\")","v":""},"",{"$f":"IF(T$7=$F30,$H30,\"\")","v":""},"",{"$f":"IF(V$7=$F30,$H30,\"\")","v":""},"",{"$f":"IF(X$7=$F30,$H30,\"\")","v":""},"",{"$f":"IF(Z$7=$F30,$H30,\"\")","v":""},"",{"$f":"IF(AB$7=$F30,$H30,\"\")","v":""},"",{"$f":"IF(AD$7=$F30,$H30,\"\")","v":""},"",{"$f":"IF(AF$7=$F30,$H30,\"\")","v":""},"",{"$f":"IF(AH$7=$F30,$H30,\"\")","v":""},"",{"$f":"IF(AJ$7=$F30,$H30,\"\")","v":""},"",{"$f":"IF(AL$7=$F30,$H30,\"\")","v":""},"",{"$f":"IF(AN$7=$F30,$H30,\"\")","v":""},"",{"$f":"IF(AP$7=$F30,$H30,\"\")","v":""},"",{"$f":"IF(AR$7=$F30,$H30,\"\")","v":""},"",{"$f":"IF(AT$7=$F30,$H30,\"\")","v":""},"",{"$f":"IF(AV$7=$F30,$H30,\"\")","v":""},"",{"$f":"IF(AX$7=$F30,$H30,\"\")","v":""},"",{"$f":"IF(AZ$7=$F30,$H30,\"\")","v":""},"",{"$f":"IF(BB$7=$F30,$H30,\"\")","v":""},"",{"$f":"IF(BD$7=$F30,$H30,\"\")","v":""},"",{"$f":"IF(BF$7=$F30,$H30,\"\")","v":""},"",{"$f":"IF(BH$7=$F30,$H30,\"\")","v":""},"",{"$f":"IF(BJ$7=$F30,$H30,\"\")","v":""},"",{"$f":"IF(BL$7=$F30,$H30,\"\")","v":""},"",{"$f":"IF(BN$7=$F30,$H30,\"\")","v":""},"",{"$f":"IF(BP$7=$F30,$H30,\"\")","v":""},"",{"$f":"IF(BR$7=$F30,$H30,\"\")","v":""},"",{"$f":"IF(BT$7=$F30,$H30,\"\")","v":""},"",{"$f":"IF(BV$7=$F30,$H30,\"\")","v":""},"",{"$f":"IF(BX$7=$F30,$H30,\"\")","v":""},"",{"$f":"IF(BZ$7=$F30,$H30,\"\")","v":""},"",{"$f":"IF(CB$7=$F30,$H30,\"\")","v":""},"",{"$f":"IF(CD$7=$F30,$H30,\"\")","v":""},"",{"$f":"IF(CF$7=$F30,$H30,\"\")","v":""},"",{"$f":"IF(CH$7=$F30,$H30,\"\")","v":""},"",{"$f":"IF(CJ$7=$F30,$H30,\"\")","v":""},"",{"$f":"IF(CL$7=$F30,$H30,\"\")","v":""},"",{"$f":"IF(CN$7=$F30,$H30,\"\")","v":""},"",{"$f":"IF(CP$7=$F30,$H30,\"\")","v":""},"",{"$f":"IF(CR$7=$F30,$H30,\"\")","v":""},"",{"$f":"IF(CT$7=$F30,$H30,\"\")","v":""},"",{"$f":"IF(CV$7=$F30,$H30,\"\")","v":""},"",{"$f":"IF(CX$7=$F30,$H30,\"\")","v":""},"",{"$f":"IF(CZ$7=$F30,$H30,\"\")","v":""},"",{"$f":"IF(DB$7=$F30,$H30,\"\")","v":""},"",{"$f":"IF(DD$7=$F30,$H30,\"\")","v":""},"",{"$f":"IF(DF$7=$F30,$H30,\"\")","v":""},0,{"$f":"IF(DH$7=$F30,$H30,\"\")","v":0},0,{"$f":"IF(DJ$7=$F30,$H30,\"\")","v":0},0,{"$f":"IF(DL$7=$F30,$H30,\"\")","v":0},0,{"$f":"IF(DN$7=$F30,$H30,\"\")","v":0},0,{"$f":"IF(DP$7=$F30,$H30,\"\")","v":0},0,{"$f":"IF(DR$7=$F30,$H30,\"\")","v":0},0,{"$f":"IF(DT$7=$F30,$H30,\"\")","v":0},0,{"$f":"IF(DV$7=$F30,$H30,\"\")","v":0},0,{"$f":"IF(DX$7=$F30,$H30,\"\")","v":0},0,{"$f":"IF(DZ$7=$F30,$H30,\"\")","v":0},0,{"$f":"IF(EB$7=$F30,$H30,\"\")","v":0},0,{"$f":"IF(ED$7=$F30,$H30,\"\")","v":0},0,{"$f":"IF(EF$7=$F30,$H30,\"\")","v":0},0,{"$f":"IF(EH$7=$F30,$H30,\"\")","v":0},0,{"$f":"IF(EJ$7=$F30,$H30,\"\")","v":0},0,{"$f":"IF(EL$7=$F30,$H30,\"\")","v":0},0,{"$f":"IF(EN$7=$F30,$H30,\"\")","v":0},0,{"$f":"IF(EP$7=$F30,$H30,\"\")","v":0},0,{"$f":"IF(ER$7=$F30,$H30,\"\")","v":0},0,{"$f":"IF(ET$7=$F30,$H30,\"\")","v":0},0,{"$f":"IF(EV$7=$F30,$H30,\"\")","v":0},0,{"$f":"IF(EX$7=$F30,$H30,\"\")","v":0},0,{"$f":"IF(EZ$7=$F30,$H30,\"\")","v":0},0,{"$f":"IF(FB$7=$F30,$H30,\"\")","v":0},0,{"$f":"IF(FD$7=$F30,$H30,\"\")","v":0},0,{"$f":"IF(FF$7=$F30,$H30,\"\")","v":0},0,{"$f":"IF(FH$7=$F30,$H30,\"\")","v":0},0,{"$f":"IF(FJ$7=$F30,$H30,\"\")","v":0},0,{"$f":"IF(FL$7=$F30,$H30,\"\")","v":0},0,0]
[23,null,null,null,null,null,null,null,true,0,0,"","","",{"$f":"IF(N$7=$F31,$H31,\"\")","v":""},"",{"$f":"IF(P$7=$F31,$H31,\"\")","v":""},"",{"$f":"IF(R$7=$F31,$H31,\"\")","v":""},"",{"$f":"IF(T$7=$F31,$H31,\"\")","v":""},"",{"$f":"IF(V$7=$F31,$H31,\"\")","v":""},"",{"$f":"IF(X$7=$F31,$H31,\"\")","v":""},"",{"$f":"IF(Z$7=$F31,$H31,\"\")","v":""},"",{"$f":"IF(AB$7=$F31,$H31,\"\")","v":""},"",{"$f":"IF(AD$7=$F31,$H31,\"\")","v":""},"",{"$f":"IF(AF$7=$F31,$H31,\"\")","v":""},"",{"$f":"IF(AH$7=$F31,$H31,\"\")","v":""},"",{"$f":"IF(AJ$7=$F31,$H31,\"\")","v":""},"",{"$f":"IF(AL$7=$F31,$H31,\"\")","v":""},"",{"$f":"IF(AN$7=$F31,$H31,\"\")","v":""},"",{"$f":"IF(AP$7=$F31,$H31,\"\")","v":""},"",{"$f":"IF(AR$7=$F31,$H31,\"\")","v":""},"",{"$f":"IF(AT$7=$F31,$H31,\"\")","v":""},"",{"$f":"IF(AV$7=$F31,$H31,\"\")","v":""},"",{"$f":"IF(AX$7=$F31,$H31,\"\")","v":""},"",{"$f":"IF(AZ$7=$F31,$H31,\"\")","v":""},"",{"$f":"IF(BB$7=$F31,$H31,\"\")","v":""},"",{"$f":"IF(BD$7=$F31,$H31,\"\")","v":""},"",{"$f":"IF(BF$7=$F31,$H31,\"\")","v":""},"",{"$f":"IF(BH$7=$F31,$H31,\"\")","v":""},"",{"$f":"IF(BJ$7=$F31,$H31,\"\")","v":""},"",{"$f":"IF(BL$7=$F31,$H31,\"\")","v":""},"",{"$f":"IF(BN$7=$F31,$H31,\"\")","v":""},"",{"$f":"IF(BP$7=$F31,$H31,\"\")","v":""},"",{"$f":"IF(BR$7=$F31,$H31,\"\")","v":""},"",{"$f":"IF(BT$7=$F31,$H31,\"\")","v":""},"",{"$f":"IF(BV$7=$F31,$H31,\"\")","v":""},"",{"$f":"IF(BX$7=$F31,$H31,\"\")","v":""},"",{"$f":"IF(BZ$7=$F31,$H31,\"\")","v":""},"",{"$f":"IF(CB$7=$F31,$H31,\"\")","v":""},"",{"$f":"IF(CD$7=$F31,$H31,\"\")","v":""},"",{"$f":"IF(CF$7=$F31,$H31,\"\")","v":""},"",{"$f":"IF(CH$7=$F31,$H31,\"\")","v":""},"",{"$f":"IF(CJ$7=$F31,$H31,\"\")","v":""},"",{"$f":"IF(CL$7=$F31,$H31,\"\")","v":""},"",{"$f":"IF(CN$7=$F31,$H31,\"\")","v":""},"",{"$f":"IF(CP$7=$F31,$H31,\"\")","v":""},"",{"$f":"IF(CR$7=$F31,$H31,\"\")","v":""},"",{"$f":"IF(CT$7=$F31,$H31,\"\")","v":""},"",{"$f":"IF(CV$7=$F31,$H31,\"\")","v":""},"",{"$f":"IF(CX$7=$F31,$H31,\"\")","v":""},"",{"$f":"IF(CZ$7=$F31,$H31,\"\")","v":""},"",{"$f":"IF(DB$7=$F31,$H31,\"\")","v":""},"",{"$f":"IF(DD$7=$F31,$H31,\"\")","v":""},"",{"$f":"IF(DF$7=$F31,$H31,\"\")","v":""},0,{"$f":"IF(DH$7=$F31,$H31,\"\")","v":0},0,{"$f":"IF(DJ$7=$F31,$H31,\"\")","v":0},0,{"$f":"IF(DL$7=$F31,$H31,\"\")","v":0},0,{"$f":"IF(DN$7=$F31,$H31,\"\")","v":0},0,{"$f":"IF(DP$7=$F31,$H31,\"\")","v":0},0,{"$f":"IF(DR$7=$F31,$H31,\"\")","v":0},0,{"$f":"IF(DT$7=$F31,$H31,\"\")","v":0},0,{"$f":"IF(DV$7=$F31,$H31,\"\")","v":0},0,{"$f":"IF(DX$7=$F31,$H31,\"\")","v":0},0,{"$f":"IF(DZ$7=$F31,$H31,\"\")","v":0},0,{"$f":"IF(EB$7=$F31,$H31,\"\")","v":0},0,{"$f":"IF(ED$7=$F31,$H31,\"\")","v":0},0,{"$f":"IF(EF$7=$F31,$H31,\"\")","v":0},0,{"$f":"IF(EH$7=$F31,$H31,\"\")","v":0},0,{"$f":"IF(EJ$7=$F31,$H31,\"\")","v":0},0,{"$f":"IF(EL$7=$F31,$H31,\"\")","v":0},0,{"$f":"IF(EN$7=$F31,$H31,\"\")","v":0},0,{"$f":"IF(EP$7=$F31,$H31,\"\")","v":0},0,{"$f":"IF(ER$7=$F31,$H31,\"\")","v":0},0,{"$f":"IF(ET$7=$F31,$H31,\"\")","v":0},0,{"$f":"IF(EV$7=$F31,$H31,\"\")","v":0},0,{"$f":"IF(EX$7=$F31,$H31,\"\")","v":0},0,{"$f":"IF(EZ$7=$F31,$H31,\"\")","v":0},0,{"$f":"IF(FB$7=$F31,$H31,\"\")","v":0},0,{"$f":"IF(FD$7=$F31,$H31,\"\")","v":0},0,{"$f":"IF(FF$7=$F31,$H31,\"\")","v":0},0,{"$f":"IF(FH$7=$F31,$H31,\"\")","v":0},0,{"$f":"IF(FJ$7=$F31,$H31,\"\")","v":0},0,{"$f":"IF(FL$7=$F31,$H31,\"\")","v":0},0,0]
[24,null,null,null,null,null,null,null,true,0,0,"","","",{"$f":"IF(N$7=$F32,$H32,\"\")","v":""},"",{"$f":"IF(P$7=$F32,$H32,\"\")","v":""},"",{"$f":"IF(R$7=$F32,$H32,\"\")","v":""},"",{"$f":"IF(T$7=$F32,$H32,\"\")","v":""},"",{"$f":"IF(V$7=$F32,$H32,\"\")","v":""},"",{"$f":"IF(X$7=$F32,$H32,\"\")","v":""},"",{"$f":"IF(Z$7=$F32,$H32,\"\")","v":""},"",{"$f":"IF(AB$7=$F32,$H32,\"\")","v":""},"",{"$f":"IF(AD$7=$F32,$H32,\"\")","v":""},"",{"$f":"IF(AF$7=$F32,$H32,\"\")","v":""},"",{"$f":"IF(AH$7=$F32,$H32,\"\")","v":""},"",{"$f":"IF(AJ$7=$F32,$H32,\"\")","v":""},"",{"$f":"IF(AL$7=$F32,$H32,\"\")","v":""},"",{"$f":"IF(AN$7=$F32,$H32,\"\")","v":""},"",{"$f":"IF(AP$7=$F32,$H32,\"\")","v":""},"",{"$f":"IF(AR$7=$F32,$H32,\"\")","v":""},"",{"$f":"IF(AT$7=$F32,$H32,\"\")","v":""},"",{"$f":"IF(AV$7=$F32,$H32,\"\")","v":""},"",{"$f":"IF(AX$7=$F32,$H32,\"\")","v":""},"",{"$f":"IF(AZ$7=$F32,$H32,\"\")","v":""},"",{"$f":"IF(BB$7=$F32,$H32,\"\")","v":""},"",{"$f":"IF(BD$7=$F32,$H32,\"\")","v":""},"",{"$f":"IF(BF$7=$F32,$H32,\"\")","v":""},"",{"$f":"IF(BH$7=$F32,$H32,\"\")","v":""},"",{"$f":"IF(BJ$7=$F32,$H32,\"\")","v":""},"",{"$f":"IF(BL$7=$F32,$H32,\"\")","v":""},"",{"$f":"IF(BN$7=$F32,$H32,\"\")","v":""},"",{"$f":"IF(BP$7=$F32,$H32,\"\")","v":""},"",{"$f":"IF(BR$7=$F32,$H32,\"\")","v":""},"",{"$f":"IF(BT$7=$F32,$H32,\"\")","v":""},"",{"$f":"IF(BV$7=$F32,$H32,\"\")","v":""},"",{"$f":"IF(BX$7=$F32,$H32,\"\")","v":""},"",{"$f":"IF(BZ$7=$F32,$H32,\"\")","v":""},"",{"$f":"IF(CB$7=$F32,$H32,\"\")","v":""},"",{"$f":"IF(CD$7=$F32,$H32,\"\")","v":""},"",{"$f":"IF(CF$7=$F32,$H32,\"\")","v":""},"",{"$f":"IF(CH$7=$F32,$H32,\"\")","v":""},"",{"$f":"IF(CJ$7=$F32,$H32,\"\")","v":""},"",{"$f":"IF(CL$7=$F32,$H32,\"\")","v":""},"",{"$f":"IF(CN$7=$F32,$H32,\"\")","v":""},"",{"$f":"IF(CP$7=$F32,$H32,\"\")","v":""},"",{"$f":"IF(CR$7=$F32,$H32,\"\")","v":""},"",{"$f":"IF(CT$7=$F32,$H32,\"\")","v":""},"",{"$f":"IF(CV$7=$F32,$H32,\"\")","v":""},"",{"$f":"IF(CX$7=$F32,$H32,\"\")","v":""},"",{"$f":"IF(CZ$7=$F32,$H32,\"\")","v":""},"",{"$f":"IF(DB$7=$F32,$H32,\"\")","v":""},"",{"$f":"IF(DD$7=$F32,$H32,\"\")","v":""},"",{"$f":"IF(DF$7=$F32,$H32,\"\")","v":""},0,{"$f":"IF(DH$7=$F32,$H32,\"\")","v":0},0,{"$f":"IF(DJ$7=$F32,$H32,\"\")","v":0},0,{"$f":"IF(DL$7=$F32,$H32,\"\")","v":0},0,{"$f":"IF(DN$7=$F32,$H32,\"\")","v":0},0,{"$f":"IF(DP$7=$F32,$H32,\"\")","v":0},0,{"$f":"IF(DR$7=$F32,$H32,\"\")","v":0},0,{"$f":"IF(DT$7=$F32,$H32,\"\")","v":0},0,{"$f":"IF(DV$7=$F32,$H32,\"\")","v":0},0,{"$f":"IF(DX$7=$F32,$H32,\"\")","v":0},0,{"$f":"IF(DZ$7=$F32,$H32,\"\")","v":0},0,{"$f":"IF(EB$7=$F32,$H32,\"\")","v":0},0,{"$f":"IF(ED$7=$F32,$H32,\"\")","v":0},0,{"$f":"IF(EF$7=$F32,$H32,\"\")","v":0},0,{"$f":"IF(EH$7=$F32,$H32,\"\")","v":0},0,{"$f":"IF(EJ$7=$F32,$H32,\"\")","v":0},0,{"$f":"IF(EL$7=$F32,$H32,\"\")","v":0},0,{"$f":"IF(EN$7=$F32,$H32,\"\")","v":0},0,{"$f":"IF(EP$7=$F32,$H32,\"\")","v":0},0,{"$f":"IF(ER$7=$F32,$H32,\"\")","v":0},0,{"$f":"IF(ET$7=$F32,$H32,\"\")","v":0},0,{"$f":"IF(EV$7=$F32,$H32,\"\")","v":0},0,{"$f":"IF(EX$7=$F32,$H32,\"\")","v":0},0,{"$f":"IF(EZ$7=$F32,$H32,\"\")","v":0},0,{"$f":"IF(FB$7=$F32,$H32,\"\")","v":0},0,{"$f":"IF(FD$7=$F32,$H32,\"\")","v":0},0,{"$f":"IF(FF$7=$F32,$H32,\"\")","v":0},0,{"$f":"IF(FH$7=$F32,$H32,\"\")","v":0},0,{"$f":"IF(FJ$7=$F32,$H32,\"\")","v":0},0,{"$f":"IF(FL$7=$F32,$H32,\"\")","v":0},0,0]
[25,null,null,null,null,null,null,null,true,0,0,"","","",{"$f":"IF(N$7=$F33,$H33,\"\")","v":""},"",{"$f":"IF(P$7=$F33,$H33,\"\")","v":""},"",{"$f":"IF(R$7=$F33,$H33,\"\")","v":""},"",{"$f":"IF(T$7=$F33,$H33,\"\")","v":""},"",{"$f":"IF(V$7=$F33,$H33,\"\")","v":""},"",{"$f":"IF(X$7=$F33,$H33,\"\")","v":""},"",{"$f":"IF(Z$7=$F33,$H33,\"\")","v":""},"",{"$f":"IF(AB$7=$F33,$H33,\"\")","v":""},"",{"$f":"IF(AD$7=$F33,$H33,\"\")","v":""},"",{"$f":"IF(AF$7=$F33,$H33,\"\")","v":""},"",{"$f":"IF(AH$7=$F33,$H33,\"\")","v":""},"",{"$f":"IF(AJ$7=$F33,$H33,\"\")","v":""},"",{"$f":"IF(AL$7=$F33,$H33,\"\")","v":""},"",{"$f":"IF(AN$7=$F33,$H33,\"\")","v":""},"",{"$f":"IF(AP$7=$F33,$H33,\"\")","v":""},"",{"$f":"IF(AR$7=$F33,$H33,\"\")","v":""},"",{"$f":"IF(AT$7=$F33,$H33,\"\")","v":""},"",{"$f":"IF(AV$7=$F33,$H33,\"\")","v":""},"",{"$f":"IF(AX$7=$F33,$H33,\"\")","v":""},"",{"$f":"IF(AZ$7=$F33,$H33,\"\")","v":""},"",{"$f":"IF(BB$7=$F33,$H33,\"\")","v":""},"",{"$f":"IF(BD$7=$F33,$H33,\"\")","v":""},"",{"$f":"IF(BF$7=$F33,$H33,\"\")","v":""},"",{"$f":"IF(BH$7=$F33,$H33,\"\")","v":""},"",{"$f":"IF(BJ$7=$F33,$H33,\"\")","v":""},"",{"$f":"IF(BL$7=$F33,$H33,\"\")","v":""},"",{"$f":"IF(BN$7=$F33,$H33,\"\")","v":""},"",{"$f":"IF(BP$7=$F33,$H33,\"\")","v":""},"",{"$f":"IF(BR$7=$F33,$H33,\"\")","v":""},"",{"$f":"IF(BT$7=$F33,$H33,\"\")","v":""},"",{"$f":"IF(BV$7=$F33,$H33,\"\")","v":""},"",{"$f":"IF(BX$7=$F33,$H33,\"\")","v":""},"",{"$f":"IF(BZ$7=$F33,$H33,\"\")","v":""},"",{"$f":"IF(CB$7=$F33,$H33,\"\")","v":""},"",{"$f":"IF(CD$7=$F33,$H33,\"\")","v":""},"",{"$f":"IF(CF$7=$F33,$H33,\"\")","v":""},"",{"$f":"IF(CH$7=$F33,$H33,\"\")","v":""},"",{"$f":"IF(CJ$7=$F33,$H33,\"\")","v":""},"",{"$f":"IF(CL$7=$F33,$H33,\"\")","v":""},"",{"$f":"IF(CN$7=$F33,$H33,\"\")","v":""},"",{"$f":"IF(CP$7=$F33,$H33,\"\")","v":""},"",{"$f":"IF(CR$7=$F33,$H33,\"\")","v":""},"",{"$f":"IF(CT$7=$F33,$H33,\"\")","v":""},"",{"$f":"IF(CV$7=$F33,$H33,\"\")","v":""},"",{"$f":"IF(CX$7=$F33,$H33,\"\")","v":""},"",{"$f":"IF(CZ$7=$F33,$H33,\"\")","v":""},"",{"$f":"IF(DB$7=$F33,$H33,\"\")","v":""},"",{"$f":"IF(DD$7=$F33,$H33,\"\")","v":""},"",{"$f":"IF(DF$7=$F33,$H33,\"\")","v":""},0,{"$f":"IF(DH$7=$F33,$H33,\"\")","v":0},0,{"$f":"IF(DJ$7=$F33,$H33,\"\")","v":0},0,{"$f":"IF(DL$7=$F33,$H33,\"\")","v":0},0,{"$f":"IF(DN$7=$F33,$H33,\"\")","v":0},0,{"$f":"IF(DP$7=$F33,$H33,\"\")","v":0},0,{"$f":"IF(DR$7=$F33,$H33,\"\")","v":0},0,{"$f":"IF(DT$7=$F33,$H33,\"\")","v":0},0,{"$f":"IF(DV$7=$F33,$H33,\"\")","v":0},0,{"$f":"IF(DX$7=$F33,$H33,\"\")","v":0},0,{"$f":"IF(DZ$7=$F33,$H33,\"\")","v":0},0,{"$f":"IF(EB$7=$F33,$H33,\"\")","v":0},0,{"$f":"IF(ED$7=$F33,$H33,\"\")","v":0},0,{"$f":"IF(EF$7=$F33,$H33,\"\")","v":0},0,{"$f":"IF(EH$7=$F33,$H33,\"\")","v":0},0,{"$f":"IF(EJ$7=$F33,$H33,\"\")","v":0},0,{"$f":"IF(EL$7=$F33,$H33,\"\")","v":0},0,{"$f":"IF(EN$7=$F33,$H33,\"\")","v":0},0,{"$f":"IF(EP$7=$F33,$H33,\"\")","v":0},0,{"$f":"IF(ER$7=$F33,$H33,\"\")","v":0},0,{"$f":"IF(ET$7=$F33,$H33,\"\")","v":0},0,{"$f":"IF(EV$7=$F33,$H33,\"\")","v":0},0,{"$f":"IF(EX$7=$F33,$H33,\"\")","v":0},0,{"$f":"IF(EZ$7=$F33,$H33,\"\")","v":0},0,{"$f":"IF(FB$7=$F33,$H33,\"\")","v":0},0,{"$f":"IF(FD$7=$F33,$H33,\"\")","v":0},0,{"$f":"IF(FF$7=$F33,$H33,\"\")","v":0},0,{"$f":"IF(FH$7=$F33,$H33,\"\")","v":0},0,{"$f":"IF(FJ$7=$F33,$H33,\"\")","v":0},0,{"$f":"IF(FL$7=$F33,$H33,\"\")","v":0},0,0]
[26,null,null,null,null,null,null,null,true,0,0,"","","",{"$f":"IF(N$7=$F34,$H34,\"\")","v":""},"",{"$f":"IF(P$7=$F34,$H34,\"\")","v":""},"",{"$f":"IF(R$7=$F34,$H34,\"\")","v":""},"",{"$f":"IF(T$7=$F34,$H34,\"\")","v":""},"",{"$f":"IF(V$7=$F34,$H34,\"\")","v":""},"",{"$f":"IF(X$7=$F34,$H34,\"\")","v":""},"",{"$f":"IF(Z$7=$F34,$H34,\"\")","v":""},"",{"$f":"IF(AB$7=$F34,$H34,\"\")","v":""},"",{"$f":"IF(AD$7=$F34,$H34,\"\")","v":""},"",{"$f":"IF(AF$7=$F34,$H34,\"\")","v":""},"",{"$f":"IF(AH$7=$F34,$H34,\"\")","v":""},"",{"$f":"IF(AJ$7=$F34,$H34,\"\")","v":""},"",{"$f":"IF(AL$7=$F34,$H34,\"\")","v":""},"",{"$f":"IF(AN$7=$F34,$H34,\"\")","v":""},"",{"$f":"IF(AP$7=$F34,$H34,\"\")","v":""},"",{"$f":"IF(AR$7=$F34,$H34,\"\")","v":""},"",{"$f":"IF(AT$7=$F34,$H34,\"\")","v":""},"",{"$f":"IF(AV$7=$F34,$H34,\"\")","v":""},"",{"$f":"IF(AX$7=$F34,$H34,\"\")","v":""},"",{"$f":"IF(AZ$7=$F34,$H34,\"\")","v":""},"",{"$f":"IF(BB$7=$F34,$H34,\"\")","v":""},"",{"$f":"IF(BD$7=$F34,$H34,\"\")","v":""},"",{"$f":"IF(BF$7=$F34,$H34,\"\")","v":""},"",{"$f":"IF(BH$7=$F34,$H34,\"\")","v":""},"",{"$f":"IF(BJ$7=$F34,$H34,\"\")","v":""},"",{"$f":"IF(BL$7=$F34,$H34,\"\")","v":""},"",{"$f":"IF(BN$7=$F34,$H34,\"\")","v":""},"",{"$f":"IF(BP$7=$F34,$H34,\"\")","v":""},"",{"$f":"IF(BR$7=$F34,$H34,\"\")","v":""},"",{"$f":"IF(BT$7=$F34,$H34,\"\")","v":""},"",{"$f":"IF(BV$7=$F34,$H34,\"\")","v":""},"",{"$f":"IF(BX$7=$F34,$H34,\"\")","v":""},"",{"$f":"IF(BZ$7=$F34,$H34,\"\")","v":""},"",{"$f":"IF(CB$7=$F34,$H34,\"\")","v":""},"",{"$f":"IF(CD$7=$F34,$H34,\"\")","v":""},"",{"$f":"IF(CF$7=$F34,$H34,\"\")","v":""},"",{"$f":"IF(CH$7=$F34,$H34,\"\")","v":""},"",{"$f":"IF(CJ$7=$F34,$H34,\"\")","v":""},"",{"$f":"IF(CL$7=$F34,$H34,\"\")","v":""},"",{"$f":"IF(CN$7=$F34,$H34,\"\")","v":""},"",{"$f":"IF(CP$7=$F34,$H34,\"\")","v":""},"",{"$f":"IF(CR$7=$F34,$H34,\"\")","v":""},"",{"$f":"IF(CT$7=$F34,$H34,\"\")","v":""},"",{"$f":"IF(CV$7=$F34,$H34,\"\")","v":""},"",{"$f":"IF(CX$7=$F34,$H34,\"\")","v":""},"",{"$f":"IF(CZ$7=$F34,$H34,\"\")","v":""},"",{"$f":"IF(DB$7=$F34,$H34,\"\")","v":""},"",{"$f":"IF(DD$7=$F34,$H34,\"\")","v":""},"",{"$f":"IF(DF$7=$F34,$H34,\"\")","v":""},0,{"$f":"IF(DH$7=$F34,$H34,\"\")","v":0},0,{"$f":"IF(DJ$7=$F34,$H34,\"\")","v":0},0,{"$f":"IF(DL$7=$F34,$H34,\"\")","v":0},0,{"$f":"IF(DN$7=$F34,$H34,\"\")","v":0},0,{"$f":"IF(DP$7=$F34,$H34,\"\")","v":0},0,{"$f":"IF(DR$7=$F34,$H34,\"\")","v":0},0,{"$f":"IF(DT$7=$F34,$H34,\"\")","v":0},0,{"$f":"IF(DV$7=$F34,$H34,\"\")","v":0},0,{"$f":"IF(DX$7=$F34,$H34,\"\")","v":0},0,{"$f":"IF(DZ$7=$F34,$H34,\"\")","v":0},0,{"$f":"IF(EB$7=$F34,$H34,\"\")","v":0},0,{"$f":"IF(ED$7=$F34,$H34,\"\")","v":0},0,{"$f":"IF(EF$7=$F34,$H34,\"\")","v":0},0,{"$f":"IF(EH$7=$F34,$H34,\"\")","v":0},0,{"$f":"IF(EJ$7=$F34,$H34,\"\")","v":0},0,{"$f":"IF(EL$7=$F34,$H34,\"\")","v":0},0,{"$f":"IF(EN$7=$F34,$H34,\"\")","v":0},0,{"$f":"IF(EP$7=$F34,$H34,\"\")","v":0},0,{"$f":"IF(ER$7=$F34,$H34,\"\")","v":0},0,{"$f":"IF(ET$7=$F34,$H34,\"\")","v":0},0,{"$f":"IF(EV$7=$F34,$H34,\"\")","v":0},0,{"$f":"IF(EX$7=$F34,$H34,\"\")","v":0},0,{"$f":"IF(EZ$7=$F34,$H34,\"\")","v":0},0,{"$f":"IF(FB$7=$F34,$H34,\"\")","v":0},0,{"$f":"IF(FD$7=$F34,$H34,\"\")","v":0},0,{"$f":"IF(FF$7=$F34,$H34,\"\")","v":0},0,{"$f":"IF(FH$7=$F34,$H34,\"\")","v":0},0,{"$f":"IF(FJ$7=$F34,$H34,\"\")","v":0},0,{"$f":"IF(FL$7=$F34,$H34,\"\")","v":0},0,0]
[27,null,null,null,null,null,null,null,true,0,0,"","","",{"$f":"IF(N$7=$F35,$H35,\"\")","v":""},"",{"$f":"IF(P$7=$F35,$H35,\"\")","v":""},"",{"$f":"IF(R$7=$F35,$H35,\"\")","v":""},"",{"$f":"IF(T$7=$F35,$H35,\"\")","v":""},"",{"$f":"IF(V$7=$F35,$H35,\"\")","v":""},"",{"$f":"IF(X$7=$F35,$H35,\"\")","v":""},"",{"$f":"IF(Z$7=$F35,$H35,\"\")","v":""},"",{"$f":"IF(AB$7=$F35,$H35,\"\")","v":""},"",{"$f":"IF(AD$7=$F35,$H35,\"\")","v":""},"",{"$f":"IF(AF$7=$F35,$H35,\"\")","v":""},"",{"$f":"IF(AH$7=$F35,$H35,\"\")","v":""},"",{"$f":"IF(AJ$7=$F35,$H35,\"\")","v":""},"",{"$f":"IF(AL$7=$F35,$H35,\"\")","v":""},"",{"$f":"IF(AN$7=$F35,$H35,\"\")","v":""},"",{"$f":"IF(AP$7=$F35,$H35,\"\")","v":""},"",{"$f":"IF(AR$7=$F35,$H35,\"\")","v":""},"",{"$f":"IF(AT$7=$F35,$H35,\"\")","v":""},"",{"$f":"IF(AV$7=$F35,$H35,\"\")","v":""},"",{"$f":"IF(AX$7=$F35,$H35,\"\")","v":""},"",{"$f":"IF(AZ$7=$F35,$H35,\"\")","v":""},"",{"$f":"IF(BB$7=$F35,$H35,\"\")","v":""},"",{"$f":"IF(BD$7=$F35,$H35,\"\")","v":""},"",{"$f":"IF(BF$7=$F35,$H35,\"\")","v":""},"",{"$f":"IF(BH$7=$F35,$H35,\"\")","v":""},"",{"$f":"IF(BJ$7=$F35,$H35,\"\")","v":""},"",{"$f":"IF(BL$7=$F35,$H35,\"\")","v":""},"",{"$f":"IF(BN$7=$F35,$H35,\"\")","v":""},"",{"$f":"IF(BP$7=$F35,$H35,\"\")","v":""},"",{"$f":"IF(BR$7=$F35,$H35,\"\")","v":""},"",{"$f":"IF(BT$7=$F35,$H35,\"\")","v":""},"",{"$f":"IF(BV$7=$F35,$H35,\"\")","v":""},"",{"$f":"IF(BX$7=$F35,$H35,\"\")","v":""},"",{"$f":"IF(BZ$7=$F35,$H35,\"\")","v":""},"",{"$f":"IF(CB$7=$F35,$H35,\"\")","v":""},"",{"$f":"IF(CD$7=$F35,$H35,\"\")","v":""},"",{"$f":"IF(CF$7=$F35,$H35,\"\")","v":""},"",{"$f":"IF(CH$7=$F35,$H35,\"\")","v":""},"",{"$f":"IF(CJ$7=$F35,$H35,\"\")","v":""},"",{"$f":"IF(CL$7=$F35,$H35,\"\")","v":""},"",{"$f":"IF(CN$7=$F35,$H35,\"\")","v":""},"",{"$f":"IF(CP$7=$F35,$H35,\"\")","v":""},"",{"$f":"IF(CR$7=$F35,$H35,\"\")","v":""},"",{"$f":"IF(CT$7=$F35,$H35,\"\")","v":""},"",{"$f":"IF(CV$7=$F35,$H35,\"\")","v":""},"",{"$f":"IF(CX$7=$F35,$H35,\"\")","v":""},"",{"$f":"IF(CZ$7=$F35,$H35,\"\")","v":""},"",{"$f":"IF(DB$7=$F35,$H35,\"\")","v":""},"",{"$f":"IF(DD$7=$F35,$H35,\"\")","v":""},"",{"$f":"IF(DF$7=$F35,$H35,\"\")","v":""},0,{"$f":"IF(DH$7=$F35,$H35,\"\")","v":0},0,{"$f":"IF(DJ$7=$F35,$H35,\"\")","v":0},0,{"$f":"IF(DL$7=$F35,$H35,\"\")","v":0},0,{"$f":"IF(DN$7=$F35,$H35,\"\")","v":0},0,{"$f":"IF(DP$7=$F35,$H35,\"\")","v":0},0,{"$f":"IF(DR$7=$F35,$H35,\"\")","v":0},0,{"$f":"IF(DT$7=$F35,$H35,\"\")","v":0},0,{"$f":"IF(DV$7=$F35,$H35,\"\")","v":0},0,{"$f":"IF(DX$7=$F35,$H35,\"\")","v":0},0,{"$f":"IF(DZ$7=$F35,$H35,\"\")","v":0},0,{"$f":"IF(EB$7=$F35,$H35,\"\")","v":0},0,{"$f":"IF(ED$7=$F35,$H35,\"\")","v":0},0,{"$f":"IF(EF$7=$F35,$H35,\"\")","v":0},0,{"$f":"IF(EH$7=$F35,$H35,\"\")","v":0},0,{"$f":"IF(EJ$7=$F35,$H35,\"\")","v":0},0,{"$f":"IF(EL$7=$F35,$H35,\"\")","v":0},0,{"$f":"IF(EN$7=$F35,$H35,\"\")","v":0},0,{"$f":"IF(EP$7=$F35,$H35,\"\")","v":0},0,{"$f":"IF(ER$7=$F35,$H35,\"\")","v":0},0,{"$f":"IF(ET$7=$F35,$H35,\"\")","v":0},0,{"$f":"IF(EV$7=$F35,$H35,\"\")","v":0},0,{"$f":"IF(EX$7=$F35,$H35,\"\")","v":0},0,{"$f":"IF(EZ$7=$F35,$H35,\"\")","v":0},0,{"$f":"IF(FB$7=$F35,$H35,\"\")","v":0},0,{"$f":"IF(FD$7=$F35,$H35,\"\")","v":0},0,{"$f":"IF(FF$7=$F35,$H35,\"\")","v":0},0,{"$f":"IF(FH$7=$F35,$H35,\"\")","v":0},0,{"$f":"IF(FJ$7=$F35,$H35,\"\")","v":0},0,{"$f":"IF(FL$7=$F35,$H35,\"\")","v":0},0,0]
[28,null,null,null,null,null,null,null,true,0,0,"","","",{"$f":"IF(N$7=$F36,$H36,\"\")","v":""},"",{"$f":"IF(P$7=$F36,$H36,\"\")","v":""},"",{"$f":"IF(R$7=$F36,$H36,\"\")","v":""},"",{"$f":"IF(T$7=$F36,$H36,\"\")","v":""},"",{"$f":"IF(V$7=$F36,$H36,\"\")","v":""},"",{"$f":"IF(X$7=$F36,$H36,\"\")","v":""},"",{"$f":"IF(Z$7=$F36,$H36,\"\")","v":""},"",{"$f":"IF(AB$7=$F36,$H36,\"\")","v":""},"",{"$f":"IF(AD$7=$F36,$H36,\"\")","v":""},"",{"$f":"IF(AF$7=$F36,$H36,\"\")","v":""},"",{"$f":"IF(AH$7=$F36,$H36,\"\")","v":""},"",{"$f":"IF(AJ$7=$F36,$H36,\"\")","v":""},"",{"$f":"IF(AL$7=$F36,$H36,\"\")","v":""},"",{"$f":"IF(AN$7=$F36,$H36,\"\")","v":""},"",{"$f":"IF(AP$7=$F36,$H36,\"\")","v":""},"",{"$f":"IF(AR$7=$F36,$H36,\"\")","v":""},"",{"$f":"IF(AT$7=$F36,$H36,\"\")","v":""},"",{"$f":"IF(AV$7=$F36,$H36,\"\")","v":""},"",{"$f":"IF(AX$7=$F36,$H36,\"\")","v":""},"",{"$f":"IF(AZ$7=$F36,$H36,\"\")","v":""},"",{"$f":"IF(BB$7=$F36,$H36,\"\")","v":""},"",{"$f":"IF(BD$7=$F36,$H36,\"\")","v":""},"",{"$f":"IF(BF$7=$F36,$H36,\"\")","v":""},"",{"$f":"IF(BH$7=$F36,$H36,\"\")","v":""},"",{"$f":"IF(BJ$7=$F36,$H36,\"\")","v":""},"",{"$f":"IF(BL$7=$F36,$H36,\"\")","v":""},"",{"$f":"IF(BN$7=$F36,$H36,\"\")","v":""},"",{"$f":"IF(BP$7=$F36,$H36,\"\")","v":""},"",{"$f":"IF(BR$7=$F36,$H36,\"\")","v":""},"",{"$f":"IF(BT$7=$F36,$H36,\"\")","v":""},"",{"$f":"IF(BV$7=$F36,$H36,\"\")","v":""},"",{"$f":"IF(BX$7=$F36,$H36,\"\")","v":""},"",{"$f":"IF(BZ$7=$F36,$H36,\"\")","v":""},"",{"$f":"IF(CB$7=$F36,$H36,\"\")","v":""},"",{"$f":"IF(CD$7=$F36,$H36,\"\")","v":""},"",{"$f":"IF(CF$7=$F36,$H36,\"\")","v":""},"",{"$f":"IF(CH$7=$F36,$H36,\"\")","v":""},"",{"$f":"IF(CJ$7=$F36,$H36,\"\")","v":""},"",{"$f":"IF(CL$7=$F36,$H36,\"\")","v":""},"",{"$f":"IF(CN$7=$F36,$H36,\"\")","v":""},"",{"$f":"IF(CP$7=$F36,$H36,\"\")","v":""},"",{"$f":"IF(CR$7=$F36,$H36,\"\")","v":""},"",{"$f":"IF(CT$7=$F36,$H36,\"\")","v":""},"",{"$f":"IF(CV$7=$F36,$H36,\"\")","v":""},"",{"$f":"IF(CX$7=$F36,$H36,\"\")","v":""},"",{"$f":"IF(CZ$7=$F36,$H36,\"\")","v":""},"",{"$f":"IF(DB$7=$F36,$H36,\"\")","v":""},"",{"$f":"IF(DD$7=$F36,$H36,\"\")","v":""},"",{"$f":"IF(DF$7=$F36,$H36,\"\")","v":""},0,{"$f":"IF(DH$7=$F36,$H36,\"\")","v":0},0,{"$f":"IF(DJ$7=$F36,$H36,\"\")","v":0},0,{"$f":"IF(DL$7=$F36,$H36,\"\")","v":0},0,{"$f":"IF(DN$7=$F36,$H36,\"\")","v":0},0,{"$f":"IF(DP$7=$F36,$H36,\"\")","v":0},0,{"$f":"IF(DR$7=$F36,$H36,\"\")","v":0},0,{"$f":"IF(DT$7=$F36,$H36,\"\")","v":0},0,{"$f":"IF(DV$7=$F36,$H36,\"\")","v":0},0,{"$f":"IF(DX$7=$F36,$H36,\"\")","v":0},0,{"$f":"IF(DZ$7=$F36,$H36,\"\")","v":0},0,{"$f":"IF(EB$7=$F36,$H36,\"\")","v":0},0,{"$f":"IF(ED$7=$F36,$H36,\"\")","v":0},0,{"$f":"IF(EF$7=$F36,$H36,\"\")","v":0},0,{"$f":"IF(EH$7=$F36,$H36,\"\")","v":0},0,{"$f":"IF(EJ$7=$F36,$H36,\"\")","v":0},0,{"$f":"IF(EL$7=$F36,$H36,\"\")","v":0},0,{"$f":"IF(EN$7=$F36,$H36,\"\")","v":0},0,{"$f":"IF(EP$7=$F36,$H36,\"\")","v":0},0,{"$f":"IF(ER$7=$F36,$H36,\"\")","v":0},0,{"$f":"IF(ET$7=$F36,$H36,\"\")","v":0},0,{"$f":"IF(EV$7=$F36,$H36,\"\")","v":0},0,{"$f":"IF(EX$7=$F36,$H36,\"\")","v":0},0,{"$f":"IF(EZ$7=$F36,$H36,\"\")","v":0},0,{"$f":"IF(FB$7=$F36,$H36,\"\")","v":0},0,{"$f":"IF(FD$7=$F36,$H36,\"\")","v":0},0,{"$f":"IF(FF$7=$F36,$H36,\"\")","v":0},0,{"$f":"IF(FH$7=$F36,$H36,\"\")","v":0},0,{"$f":"IF(FJ$7=$F36,$H36,\"\")","v":0},0,{"$f":"IF(FL$7=$F36,$H36,\"\")","v":0},0,0]
[29,null,null,null,null,null,null,null,true,0,0,"","","",{"$f":"IF(N$7=$F37,$H37,\"\")","v":""},"",{"$f":"IF(P$7=$F37,$H37,\"\")","v":""},"",{"$f":"IF(R$7=$F37,$H37,\"\")","v":""},"",{"$f":"IF(T$7=$F37,$H37,\"\")","v":""},"",{"$f":"IF(V$7=$F37,$H37,\"\")","v":""},"",{"$f":"IF(X$7=$F37,$H37,\"\")","v":""},"",{"$f":"IF(Z$7=$F37,$H37,\"\")","v":""},"",{"$f":"IF(AB$7=$F37,$H37,\"\")","v":""},"",{"$f":"IF(AD$7=$F37,$H37,\"\")","v":""},"",{"$f":"IF(AF$7=$F37,$H37,\"\")","v":""},"",{"$f":"IF(AH$7=$F37,$H37,\"\")","v":""},"",{"$f":"IF(AJ$7=$F37,$H37,\"\")","v":""},"",{"$f":"IF(AL$7=$F37,$H37,\"\")","v":""},"",{"$f":"IF(AN$7=$F37,$H37,\"\")","v":""},"",{"$f":"IF(AP$7=$F37,$H37,\"\")","v":""},"",{"$f":"IF(AR$7=$F37,$H37,\"\")","v":""},"",{"$f":"IF(AT$7=$F37,$H37,\"\")","v":""},"",{"$f":"IF(AV$7=$F37,$H37,\"\")","v":""},"",{"$f":"IF(AX$7=$F37,$H37,\"\")","v":""},"",{"$f":"IF(AZ$7=$F37,$H37,\"\")","v":""},"",{"$f":"IF(BB$7=$F37,$H37,\"\")","v":""},"",{"$f":"IF(BD$7=$F37,$H37,\"\")","v":""},"",{"$f":"IF(BF$7=$F37,$H37,\"\")","v":""},"",{"$f":"IF(BH$7=$F37,$H37,\"\")","v":""},"",{"$f":"IF(BJ$7=$F37,$H37,\"\")","v":""},"",{"$f":"IF(BL$7=$F37,$H37,\"\")","v":""},"",{"$f":"IF(BN$7=$F37,$H37,\"\")","v":""},"",{"$f":"IF(BP$7=$F37,$H37,\"\")","v":""},"",{"$f":"IF(BR$7=$F37,$H37,\"\")","v":""},"",{"$f":"IF(BT$7=$F37,$H37,\"\")","v":""},"",{"$f":"IF(BV$7=$F37,$H37,\"\")","v":""},"",{"$f":"IF(BX$7=$F37,$H37,\"\")","v":""},"",{"$f":"IF(BZ$7=$F37,$H37,\"\")","v":""},"",{"$f":"IF(CB$7=$F37,$H37,\"\")","v":""},"",{"$f":"IF(CD$7=$F37,$H37,\"\")","v":""},"",{"$f":"IF(CF$7=$F37,$H37,\"\")","v":""},"",{"$f":"IF(CH$7=$F37,$H37,\"\")","v":""},"",{"$f":"IF(CJ$7=$F37,$H37,\"\")","v":""},"",{"$f":"IF(CL$7=$F37,$H37,\"\")","v":""},"",{"$f":"IF(CN$7=$F37,$H37,\"\")","v":""},"",{"$f":"IF(CP$7=$F37,$H37,\"\")","v":""},"",{"$f":"IF(CR$7=$F37,$H37,\"\")","v":""},"",{"$f":"IF(CT$7=$F37,$H37,\"\")","v":""},"",{"$f":"IF(CV$7=$F37,$H37,\"\")","v":""},"",{"$f":"IF(CX$7=$F37,$H37,\"\")","v":""},"",{"$f":"IF(CZ$7=$F37,$H37,\"\")","v":""},"",{"$f":"IF(DB$7=$F37,$H37,\"\")","v":""},"",{"$f":"IF(DD$7=$F37,$H37,\"\")","v":""},"",{"$f":"IF(DF$7=$F37,$H37,\"\")","v":""},0,{"$f":"IF(DH$7=$F37,$H37,\"\")","v":0},0,{"$f":"IF(DJ$7=$F37,$H37,\"\")","v":0},0,{"$f":"IF(DL$7=$F37,$H37,\"\")","v":0},0,{"$f":"IF(DN$7=$F37,$H37,\"\")","v":0},0,{"$f":"IF(DP$7=$F37,$H37,\"\")","v":0},0,{"$f":"IF(DR$7=$F37,$H37,\"\")","v":0},0,{"$f":"IF(DT$7=$F37,$H37,\"\")","v":0},0,{"$f":"IF(DV$7=$F37,$H37,\"\")","v":0},0,{"$f":"IF(DX$7=$F37,$H37,\"\")","v":0},0,{"$f":"IF(DZ$7=$F37,$H37,\"\")","v":0},0,{"$f":"IF(EB$7=$F37,$H37,\"\")","v":0},0,{"$f":"IF(ED$7=$F37,$H37,\"\")","v":0},0,{"$f":"IF(EF$7=$F37,$H37,\"\")","v":0},0,{"$f":"IF(EH$7=$F37,$H37,\"\")","v":0},0,{"$f":"IF(EJ$7=$F37,$H37,\"\")","v":0},0,{"$f":"IF(EL$7=$F37,$H37,\"\")","v":0},0,{"$f":"IF(EN$7=$F37,$H37,\"\")","v":0},0,{"$f":"IF(EP$7=$F37,$H37,\"\")","v":0},0,{"$f":"IF(ER$7=$F37,$H37,\"\")","v":0},0,{"$f":"IF(ET$7=$F37,$H37,\"\")","v":0},0,{"$f":"IF(EV$7=$F37,$H37,\"\")","v":0},0,{"$f":"IF(EX$7=$F37,$H37,\"\")","v":0},0,{"$f":"IF(EZ$7=$F37,$H37,\"\")","v":0},0,{"$f":"IF(FB$7=$F37,$H37,\"\")","v":0},0,{"$f":"IF(FD$7=$F37,$H37,\"\")","v":0},0,{"$f":"IF(FF$7=$F37,$H37,\"\")","v":0},0,{"$f":"IF(FH$7=$F37,$H37,\"\")","v":0},0,{"$f":"IF(FJ$7=$F37,$H37,\"\")","v":0},0,{"$f":"IF(FL$7=$F37,$H37,\"\")","v":0},0,0]
[30,null,null,null,null,null,null,null,true,0,0,"","","",{"$f":"IF(N$7=$F38,$H38,\"\")","v":""},"",{"$f":"IF(P$7=$F38,$H38,\"\")","v":""},"",{"$f":"IF(R$7=$F38,$H38,\"\")","v":""},"",{"$f":"IF(T$7=$F38,$H38,\"\")","v":""},"",{"$f":"IF(V$7=$F38,$H38,\"\")","v":""},"",{"$f":"IF(X$7=$F38,$H38,\"\")","v":""},"",{"$f":"IF(Z$7=$F38,$H38,\"\")","v":""},"",{"$f":"IF(AB$7=$F38,$H38,\"\")","v":""},"",{"$f":"IF(AD$7=$F38,$H38,\"\")","v":""},"",{"$f":"IF(AF$7=$F38,$H38,\"\")","v":""},"",{"$f":"IF(AH$7=$F38,$H38,\"\")","v":""},"",{"$f":"IF(AJ$7=$F38,$H38,\"\")","v":""},"",{"$f":"IF(AL$7=$F38,$H38,\"\")","v":""},"",{"$f":"IF(AN$7=$F38,$H38,\"\")","v":""},"",{"$f":"IF(AP$7=$F38,$H38,\"\")","v":""},"",{"$f":"IF(AR$7=$F38,$H38,\"\")","v":""},"",{"$f":"IF(AT$7=$F38,$H38,\"\")","v":""},"",{"$f":"IF(AV$7=$F38,$H38,\"\")","v":""},"",{"$f":"IF(AX$7=$F38,$H38,\"\")","v":""},"",{"$f":"IF(AZ$7=$F38,$H38,\"\")","v":""},"",{"$f":"IF(BB$7=$F38,$H38,\"\")","v":""},"",{"$f":"IF(BD$7=$F38,$H38,\"\")","v":""},"",{"$f":"IF(BF$7=$F38,$H38,\"\")","v":""},"",{"$f":"IF(BH$7=$F38,$H38,\"\")","v":""},"",{"$f":"IF(BJ$7=$F38,$H38,\"\")","v":""},"",{"$f":"IF(BL$7=$F38,$H38,\"\")","v":""},"",{"$f":"IF(BN$7=$F38,$H38,\"\")","v":""},"",{"$f":"IF(BP$7=$F38,$H38,\"\")","v":""},"",{"$f":"IF(BR$7=$F38,$H38,\"\")","v":""},"",{"$f":"IF(BT$7=$F38,$H38,\"\")","v":""},"",{"$f":"IF(BV$7=$F38,$H38,\"\")","v":""},"",{"$f":"IF(BX$7=$F38,$H38,\"\")","v":""},"",{"$f":"IF(BZ$7=$F38,$H38,\"\")","v":""},"",{"$f":"IF(CB$7=$F38,$H38,\"\")","v":""},"",{"$f":"IF(CD$7=$F38,$H38,\"\")","v":""},"",{"$f":"IF(CF$7=$F38,$H38,\"\")","v":""},"",{"$f":"IF(CH$7=$F38,$H38,\"\")","v":""},"",{"$f":"IF(CJ$7=$F38,$H38,\"\")","v":""},"",{"$f":"IF(CL$7=$F38,$H38,\"\")","v":""},"",{"$f":"IF(CN$7=$F38,$H38,\"\")","v":""},"",{"$f":"IF(CP$7=$F38,$H38,\"\")","v":""},"",{"$f":"IF(CR$7=$F38,$H38,\"\")","v":""},"",{"$f":"IF(CT$7=$F38,$H38,\"\")","v":""},"",{"$f":"IF(CV$7=$F38,$H38,\"\")","v":""},"",{"$f":"IF(CX$7=$F38,$H38,\"\")","v":""},"",{"$f":"IF(CZ$7=$F38,$H38,\"\")","v":""},"",{"$f":"IF(DB$7=$F38,$H38,\"\")","v":""},"",{"$f":"IF(DD$7=$F38,$H38,\"\")","v":""},"",{"$f":"IF(DF$7=$F38,$H38,\"\")","v":""},0,{"$f":"IF(DH$7=$F38,$H38,\"\")","v":0},0,{"$f":"IF(DJ$7=$F38,$H38,\"\")","v":0},0,{"$f":"IF(DL$7=$F38,$H38,\"\")","v":0},0,{"$f":"IF(DN$7=$F38,$H38,\"\")","v":0},0,{"$f":"IF(DP$7=$F38,$H38,\"\")","v":0},0,{"$f":"IF(DR$7=$F38,$H38,\"\")","v":0},0,{"$f":"IF(DT$7=$F38,$H38,\"\")","v":0},0,{"$f":"IF(DV$7=$F38,$H38,\"\")","v":0},0,{"$f":"IF(DX$7=$F38,$H38,\"\")","v":0},0,{"$f":"IF(DZ$7=$F38,$H38,\"\")","v":0},0,{"$f":"IF(EB$7=$F38,$H38,\"\")","v":0},0,{"$f":"IF(ED$7=$F38,$H38,\"\")","v":0},0,{"$f":"IF(EF$7=$F38,$H38,\"\")","v":0},0,{"$f":"IF(EH$7=$F38,$H38,\"\")","v":0},0,{"$f":"IF(EJ$7=$F38,$H38,\"\")","v":0},0,{"$f":"IF(EL$7=$F38,$H38,\"\")","v":0},0,{"$f":"IF(EN$7=$F38,$H38,\"\")","v":0},0,{"$f":"IF(EP$7=$F38,$H38,\"\")","v":0},0,{"$f":"IF(ER$7=$F38,$H38,\"\")","v":0},0,{"$f":"IF(ET$7=$F38,$H38,\"\")","v":0},0,{"$f":"IF(EV$7=$F38,$H38,\"\")","v":0},0,{"$f":"IF(EX$7=$F38,$H38,\"\")","v":0},0,{"$f":"IF(EZ$7=$F38,$H38,\"\")","v":0},0,{"$f":"IF(FB$7=$F38,$H38,\"\")","v":0},0,{"$f":"IF(FD$7=$F38,$H38,\"\")","v":0},0,{"$f":"IF(FF$7=$F38,$H38,\"\")","v":0},0,{"$f":"IF(FH$7=$F38,$H38,\"\")","v":0},0,{"$f":"IF(FJ$7=$F38,$H38,\"\")","v":0},0,{"$f":"IF(FL$7=$F38,$H38,\"\")","v":0},0,0]
[31,null,null,null,null,null,null,null,true,0,0,"","","",{"$f":"IF(N$7=$F39,$H39,\"\")","v":""},"",{"$f":"IF(P$7=$F39,$H39,\"\")","v":""},"",{"$f":"IF(R$7=$F39,$H39,\"\")","v":""},"",{"$f":"IF(T$7=$F39,$H39,\"\")","v":""},"",{"$f":"IF(V$7=$F39,$H39,\"\")","v":""},"",{"$f":"IF(X$7=$F39,$H39,\"\")","v":""},"",{"$f":"IF(Z$7=$F39,$H39,\"\")","v":""},"",{"$f":"IF(AB$7=$F39,$H39,\"\")","v":""},"",{"$f":"IF(AD$7=$F39,$H39,\"\")","v":""},"",{"$f":"IF(AF$7=$F39,$H39,\"\")","v":""},"",{"$f":"IF(AH$7=$F39,$H39,\"\")","v":""},"",{"$f":"IF(AJ$7=$F39,$H39,\"\")","v":""},"",{"$f":"IF(AL$7=$F39,$H39,\"\")","v":""},"",{"$f":"IF(AN$7=$F39,$H39,\"\")","v":""},"",{"$f":"IF(AP$7=$F39,$H39,\"\")","v":""},"",{"$f":"IF(AR$7=$F39,$H39,\"\")","v":""},"",{"$f":"IF(AT$7=$F39,$H39,\"\")","v":""},"",{"$f":"IF(AV$7=$F39,$H39,\"\")","v":""},"",{"$f":"IF(AX$7=$F39,$H39,\"\")","v":""},"",{"$f":"IF(AZ$7=$F39,$H39,\"\")","v":""},"",{"$f":"IF(BB$7=$F39,$H39,\"\")","v":""},"",{"$f":"IF(BD$7=$F39,$H39,\"\")","v":""},"",{"$f":"IF(BF$7=$F39,$H39,\"\")","v":""},"",{"$f":"IF(BH$7=$F39,$H39,\"\")","v":""},"",{"$f":"IF(BJ$7=$F39,$H39,\"\")","v":""},"",{"$f":"IF(BL$7=$F39,$H39,\"\")","v":""},"",{"$f":"IF(BN$7=$F39,$H39,\"\")","v":""},"",{"$f":"IF(BP$7=$F39,$H39,\"\")","v":""},"",{"$f":"IF(BR$7=$F39,$H39,\"\")","v":""},"",{"$f":"IF(BT$7=$F39,$H39,\"\")","v":""},"",{"$f":"IF(BV$7=$F39,$H39,\"\")","v":""},"",{"$f":"IF(BX$7=$F39,$H39,\"\")","v":""},"",{"$f":"IF(BZ$7=$F39,$H39,\"\")","v":""},"",{"$f":"IF(CB$7=$F39,$H39,\"\")","v":""},"",{"$f":"IF(CD$7=$F39,$H39,\"\")","v":""},"",{"$f":"IF(CF$7=$F39,$H39,\"\")","v":""},"",{"$f":"IF(CH$7=$F39,$H39,\"\")","v":""},"",{"$f":"IF(CJ$7=$F39,$H39,\"\")","v":""},"",{"$f":"IF(CL$7=$F39,$H39,\"\")","v":""},"",{"$f":"IF(CN$7=$F39,$H39,\"\")","v":""},"",{"$f":"IF(CP$7=$F39,$H39,\"\")","v":""},"",{"$f":"IF(CR$7=$F39,$H39,\"\")","v":""},"",{"$f":"IF(CT$7=$F39,$H39,\"\")","v":""},"",{"$f":"IF(CV$7=$F39,$H39,\"\")","v":""},"",{"$f":"IF(CX$7=$F39,$H39,\"\")","v":""},"",{"$f":"IF(CZ$7=$F39,$H39,\"\")","v":""},"",{"$f":"IF(DB$7=$F39,$H39,\"\")","v":""},"",{"$f":"IF(DD$7=$F39,$H39,\"\")","v":""},"",{"$f":"IF(DF$7=$F39,$H39,\"\")","v":""},0,{"$f":"IF(DH$7=$F39,$H39,\"\")","v":0},0,{"$f":"IF(DJ$7=$F39,$H39,\"\")","v":0},0,{"$f":"IF(DL$7=$F39,$H39,\"\")","v":0},0,{"$f":"IF(DN$7=$F39,$H39,\"\")","v":0},0,{"$f":"IF(DP$7=$F39,$H39,\"\")","v":0},0,{"$f":"IF(DR$7=$F39,$H39,\"\")","v":0},0,{"$f":"IF(DT$7=$F39,$H39,\"\")","v":0},0,{"$f":"IF(DV$7=$F39,$H39,\"\")","v":0},0,{"$f":"IF(DX$7=$F39,$H39,\"\")","v":0},0,{"$f":"IF(DZ$7=$F39,$H39,\"\")","v":0},0,{"$f":"IF(EB$7=$F39,$H39,\"\")","v":0},0,{"$f":"IF(ED$7=$F39,$H39,\"\")","v":0},0,{"$f":"IF(EF$7=$F39,$H39,\"\")","v":0},0,{"$f":"IF(EH$7=$F39,$H39,\"\")","v":0},0,{"$f":"IF(EJ$7=$F39,$H39,\"\")","v":0},0,{"$f":"IF(EL$7=$F39,$H39,\"\")","v":0},0,{"$f":"IF(EN$7=$F39,$H39,\"\")","v":0},0,{"$f":"IF(EP$7=$F39,$H39,\"\")","v":0},0,{"$f":"IF(ER$7=$F39,$H39,\"\")","v":0},0,{"$f":"IF(ET$7=$F39,$H39,\"\")","v":0},0,{"$f":"IF(EV$7=$F39,$H39,\"\")","v":0},0,{"$f":"IF(EX$7=$F39,$H39,\"\")","v":0},0,{"$f":"IF(EZ$7=$F39,$H39,\"\")","v":0},0,{"$f":"IF(FB$7=$F39,$H39,\"\")","v":0},0,{"$f":"IF(FD$7=$F39,$H39,\"\")","v":0},0,{"$f":"IF(FF$7=$F39,$H39,\"\")","v":0},0,{"$f":"IF(FH$7=$F39,$H39,\"\")","v":0},0,{"$f":"IF(FJ$7=$F39,$H39,\"\")","v":0},0,{"$f":"IF(FL$7=$F39,$H39,\"\")","v":0},0,0]
[32,null,null,null,null,null,null,null,true,0,0,"","","",{"$f":"IF(N$7=$F40,$H40,\"\")","v":""},"",{"$f":"IF(P$7=$F40,$H40,\"\")","v":""},"",{"$f":"IF(R$7=$F40,$H40,\"\")","v":""},"",{"$f":"IF(T$7=$F40,$H40,\"\")","v":""},"",{"$f":"IF(V$7=$F40,$H40,\"\")","v":""},"",{"$f":"IF(X$7=$F40,$H40,\"\")","v":""},"",{"$f":"IF(Z$7=$F40,$H40,\"\")","v":""},"",{"$f":"IF(AB$7=$F40,$H40,\"\")","v":""},"",{"$f":"IF(AD$7=$F40,$H40,\"\")","v":""},"",{"$f":"IF(AF$7=$F40,$H40,\"\")","v":""},"",{"$f":"IF(AH$7=$F40,$H40,\"\")","v":""},"",{"$f":"IF(AJ$7=$F40,$H40,\"\")","v":""},"",{"$f":"IF(AL$7=$F40,$H40,\"\")","v":""},"",{"$f":"IF(AN$7=$F40,$H40,\"\")","v":""},"",{"$f":"IF(AP$7=$F40,$H40,\"\")","v":""},"",{"$f":"IF(AR$7=$F40,$H40,\"\")","v":""},"",{"$f":"IF(AT$7=$F40,$H40,\"\")","v":""},"",{"$f":"IF(AV$7=$F40,$H40,\"\")","v":""},"",{"$f":"IF(AX$7=$F40,$H40,\"\")","v":""},"",{"$f":"IF(AZ$7=$F40,$H40,\"\")","v":""},"",{"$f":"IF(BB$7=$F40,$H40,\"\")","v":""},"",{"$f":"IF(BD$7=$F40,$H40,\"\")","v":""},"",{"$f":"IF(BF$7=$F40,$H40,\"\")","v":""},"",{"$f":"IF(BH$7=$F40,$H40,\"\")","v":""},"",{"$f":"IF(BJ$7=$F40,$H40,\"\")","v":""},"",{"$f":"IF(BL$7=$F40,$H40,\"\")","v":""},"",{"$f":"IF(BN$7=$F40,$H40,\"\")","v":""},"",{"$f":"IF(BP$7=$F40,$H40,\"\")","v":""},"",{"$f":"IF(BR$7=$F40,$H40,\"\")","v":""},"",{"$f":"IF(BT$7=$F40,$H40,\"\")","v":""},"",{"$f":"IF(BV$7=$F40,$H40,\"\")","v":""},"",{"$f":"IF(BX$7=$F40,$H40,\"\")","v":""},"",{"$f":"IF(BZ$7=$F40,$H40,\"\")","v":""},"",{"$f":"IF(CB$7=$F40,$H40,\"\")","v":""},"",{"$f":"IF(CD$7=$F40,$H40,\"\")","v":""},"",{"$f":"IF(CF$7=$F40,$H40,\"\")","v":""},"",{"$f":"IF(CH$7=$F40,$H40,\"\")","v":""},"",{"$f":"IF(CJ$7=$F40,$H40,\"\")","v":""},"",{"$f":"IF(CL$7=$F40,$H40,\"\")","v":""},"",{"$f":"IF(CN$7=$F40,$H40,\"\")","v":""},"",{"$f":"IF(CP$7=$F40,$H40,\"\")","v":""},"",{"$f":"IF(CR$7=$F40,$H40,\"\")","v":""},"",{"$f":"IF(CT$7=$F40,$H40,\"\")","v":""},"",{"$f":"IF(CV$7=$F40,$H40,\"\")","v":""},"",{"$f":"IF(CX$7=$F40,$H40,\"\")","v":""},"",{"$f":"IF(CZ$7=$F40,$H40,\"\")","v":""},"",{"$f":"IF(DB$7=$F40,$H40,\"\")","v":""},"",{"$f":"IF(DD$7=$F40,$H40,\"\")","v":""},"",{"$f":"IF(DF$7=$F40,$H40,\"\")","v":""},0,{"$f":"IF(DH$7=$F40,$H40,\"\")","v":0},0,{"$f":"IF(DJ$7=$F40,$H40,\"\")","v":0},0,{"$f":"IF(DL$7=$F40,$H40,\"\")","v":0},0,{"$f":"IF(DN$7=$F40,$H40,\"\")","v":0},0,{"$f":"IF(DP$7=$F40,$H40,\"\")","v":0},0,{"$f":"IF(DR$7=$F40,$H40,\"\")","v":0},0,{"$f":"IF(DT$7=$F40,$H40,\"\")","v":0},0,{"$f":"IF(DV$7=$F40,$H40,\"\")","v":0},0,{"$f":"IF(DX$7=$F40,$H40,\"\")","v":0},0,{"$f":"IF(DZ$7=$F40,$H40,\"\")","v":0},0,{"$f":"IF(EB$7=$F40,$H40,\"\")","v":0},0,{"$f":"IF(ED$7=$F40,$H40,\"\")","v":0},0,{"$f":"IF(EF$7=$F40,$H40,\"\")","v":0},0,{"$f":"IF(EH$7=$F40,$H40,\"\")","v":0},0,{"$f":"IF(EJ$7=$F40,$H40,\"\")","v":0},0,{"$f":"IF(EL$7=$F40,$H40,\"\")","v":0},0,{"$f":"IF(EN$7=$F40,$H40,\"\")","v":0},0,{"$f":"IF(EP$7=$F40,$H40,\"\")","v":0},0,{"$f":"IF(ER$7=$F40,$H40,\"\")","v":0},0,{"$f":"IF(ET$7=$F40,$H40,\"\")","v":0},0,{"$f":"IF(EV$7=$F40,$H40,\"\")","v":0},0,{"$f":"IF(EX$7=$F40,$H40,\"\")","v":0},0,{"$f":"IF(EZ$7=$F40,$H40,\"\")","v":0},0,{"$f":"IF(FB$7=$F40,$H40,\"\")","v":0},0,{"$f":"IF(FD$7=$F40,$H40,\"\")","v":0},0,{"$f":"IF(FF$7=$F40,$H40,\"\")","v":0},0,{"$f":"IF(FH$7=$F40,$H40,\"\")","v":0},0,{"$f":"IF(FJ$7=$F40,$H40,\"\")","v":0},0,{"$f":"IF(FL$7=$F40,$H40,\"\")","v":0},0,0]
[33,null,null,null,null,null,null,null,true,0,0,"","","",{"$f":"IF(N$7=$F41,$H41,\"\")","v":""},"",{"$f":"IF(P$7=$F41,$H41,\"\")","v":""},"",{"$f":"IF(R$7=$F41,$H41,\"\")","v":""},"",{"$f":"IF(T$7=$F41,$H41,\"\")","v":""},"",{"$f":"IF(V$7=$F41,$H41,\"\")","v":""},"",{"$f":"IF(X$7=$F41,$H41,\"\")","v":""},"",{"$f":"IF(Z$7=$F41,$H41,\"\")","v":""},"",{"$f":"IF(AB$7=$F41,$H41,\"\")","v":""},"",{"$f":"IF(AD$7=$F41,$H41,\"\")","v":""},"",{"$f":"IF(AF$7=$F41,$H41,\"\")","v":""},"",{"$f":"IF(AH$7=$F41,$H41,\"\")","v":""},"",{"$f":"IF(AJ$7=$F41,$H41,\"\")","v":""},"",{"$f":"IF(AL$7=$F41,$H41,\"\")","v":""},"",{"$f":"IF(AN$7=$F41,$H41,\"\")","v":""},"",{"$f":"IF(AP$7=$F41,$H41,\"\")","v":""},"",{"$f":"IF(AR$7=$F41,$H41,\"\")","v":""},"",{"$f":"IF(AT$7=$F41,$H41,\"\")","v":""},"",{"$f":"IF(AV$7=$F41,$H41,\"\")","v":""},"",{"$f":"IF(AX$7=$F41,$H41,\"\")","v":""},"",{"$f":"IF(AZ$7=$F41,$H41,\"\")","v":""},"",{"$f":"IF(BB$7=$F41,$H41,\"\")","v":""},"",{"$f":"IF(BD$7=$F41,$H41,\"\")","v":""},"",{"$f":"IF(BF$7=$F41,$H41,\"\")","v":""},"",{"$f":"IF(BH$7=$F41,$H41,\"\")","v":""},"",{"$f":"IF(BJ$7=$F41,$H41,\"\")","v":""},"",{"$f":"IF(BL$7=$F41,$H41,\"\")","v":""},"",{"$f":"IF(BN$7=$F41,$H41,\"\")","v":""},"",{"$f":"IF(BP$7=$F41,$H41,\"\")","v":""},"",{"$f":"IF(BR$7=$F41,$H41,\"\")","v":""},"",{"$f":"IF(BT$7=$F41,$H41,\"\")","v":""},"",{"$f":"IF(BV$7=$F41,$H41,\"\")","v":""},"",{"$f":"IF(BX$7=$F41,$H41,\"\")","v":""},"",{"$f":"IF(BZ$7=$F41,$H41,\"\")","v":""},"",{"$f":"IF(CB$7=$F41,$H41,\"\")","v":""},"",{"$f":"IF(CD$7=$F41,$H41,\"\")","v":""},"",{"$f":"IF(CF$7=$F41,$H41,\"\")","v":""},"",{"$f":"IF(CH$7=$F41,$H41,\"\")","v":""},"",{"$f":"IF(CJ$7=$F41,$H41,\"\")","v":""},"",{"$f":"IF(CL$7=$F41,$H41,\"\")","v":""},"",{"$f":"IF(CN$7=$F41,$H41,\"\")","v":""},"",{"$f":"IF(CP$7=$F41,$H41,\"\")","v":""},"",{"$f":"IF(CR$7=$F41,$H41,\"\")","v":""},"",{"$f":"IF(CT$7=$F41,$H41,\"\")","v":""},"",{"$f":"IF(CV$7=$F41,$H41,\"\")","v":""},"",{"$f":"IF(CX$7=$F41,$H41,\"\")","v":""},"",{"$f":"IF(CZ$7=$F41,$H41,\"\")","v":""},"",{"$f":"IF(DB$7=$F41,$H41,\"\")","v":""},"",{"$f":"IF(DD$7=$F41,$H41,\"\")","v":""},"",{"$f":"IF(DF$7=$F41,$H41,\"\")","v":""},0,{"$f":"IF(DH$7=$F41,$H41,\"\")","v":0},0,{"$f":"IF(DJ$7=$F41,$H41,\"\")","v":0},0,{"$f":"IF(DL$7=$F41,$H41,\"\")","v":0},0,{"$f":"IF(DN$7=$F41,$H41,\"\")","v":0},0,{"$f":"IF(DP$7=$F41,$H41,\"\")","v":0},0,{"$f":"IF(DR$7=$F41,$H41,\"\")","v":0},0,{"$f":"IF(DT$7=$F41,$H41,\"\")","v":0},0,{"$f":"IF(DV$7=$F41,$H41,\"\")","v":0},0,{"$f":"IF(DX$7=$F41,$H41,\"\")","v":0},0,{"$f":"IF(DZ$7=$F41,$H41,\"\")","v":0},0,{"$f":"IF(EB$7=$F41,$H41,\"\")","v":0},0,{"$f":"IF(ED$7=$F41,$H41,\"\")","v":0},0,{"$f":"IF(EF$7=$F41,$H41,\"\")","v":0},0,{"$f":"IF(EH$7=$F41,$H41,\"\")","v":0},0,{"$f":"IF(EJ$7=$F41,$H41,\"\")","v":0},0,{"$f":"IF(EL$7=$F41,$H41,\"\")","v":0},0,{"$f":"IF(EN$7=$F41,$H41,\"\")","v":0},0,{"$f":"IF(EP$7=$F41,$H41,\"\")","v":0},0,{"$f":"IF(ER$7=$F41,$H41,\"\")","v":0},0,{"$f":"IF(ET$7=$F41,$H41,\"\")","v":0},0,{"$f":"IF(EV$7=$F41,$H41,\"\")","v":0},0,{"$f":"IF(EX$7=$F41,$H41,\"\")","v":0},0,{"$f":"IF(EZ$7=$F41,$H41,\"\")","v":0},0,{"$f":"IF(FB$7=$F41,$H41,\"\")","v":0},0,{"$f":"IF(FD$7=$F41,$H41,\"\")","v":0},0,{"$f":"IF(FF$7=$F41,$H41,\"\")","v":0},0,{"$f":"IF(FH$7=$F41,$H41,\"\")","v":0},0,{"$f":"IF(FJ$7=$F41,$H41,\"\")","v":0},0,{"$f":"IF(FL$7=$F41,$H41,\"\")","v":0},0,0]
[34,null,null,null,null,null,null,null,true,0,0,"","","",{"$f":"IF(N$7=$F42,$H42,\"\")","v":""},"",{"$f":"IF(P$7=$F42,$H42,\"\")","v":""},"",{"$f":"IF(R$7=$F42,$H42,\"\")","v":""},"",{"$f":"IF(T$7=$F42,$H42,\"\")","v":""},"",{"$f":"IF(V$7=$F42,$H42,\"\")","v":""},"",{"$f":"IF(X$7=$F42,$H42,\"\")","v":""},"",{"$f":"IF(Z$7=$F42,$H42,\"\")","v":""},"",{"$f":"IF(AB$7=$F42,$H42,\"\")","v":""},"",{"$f":"IF(AD$7=$F42,$H42,\"\")","v":""},"",{"$f":"IF(AF$7=$F42,$H42,\"\")","v":""},"",{"$f":"IF(AH$7=$F42,$H42,\"\")","v":""},"",{"$f":"IF(AJ$7=$F42,$H42,\"\")","v":""},"",{"$f":"IF(AL$7=$F42,$H42,\"\")","v":""},"",{"$f":"IF(AN$7=$F42,$H42,\"\")","v":""},"",{"$f":"IF(AP$7=$F42,$H42,\"\")","v":""},"",{"$f":"IF(AR$7=$F42,$H42,\"\")","v":""},"",{"$f":"IF(AT$7=$F42,$H42,\"\")","v":""},"",{"$f":"IF(AV$7=$F42,$H42,\"\")","v":""},"",{"$f":"IF(AX$7=$F42,$H42,\"\")","v":""},"",{"$f":"IF(AZ$7=$F42,$H42,\"\")","v":""},"",{"$f":"IF(BB$7=$F42,$H42,\"\")","v":""},"",{"$f":"IF(BD$7=$F42,$H42,\"\")","v":""},"",{"$f":"IF(BF$7=$F42,$H42,\"\")","v":""},"",{"$f":"IF(BH$7=$F42,$H42,\"\")","v":""},"",{"$f":"IF(BJ$7=$F42,$H42,\"\")","v":""},"",{"$f":"IF(BL$7=$F42,$H42,\"\")","v":""},"",{"$f":"IF(BN$7=$F42,$H42,\"\")","v":""},"",{"$f":"IF(BP$7=$F42,$H42,\"\")","v":""},"",{"$f":"IF(BR$7=$F42,$H42,\"\")","v":""},"",{"$f":"IF(BT$7=$F42,$H42,\"\")","v":""},"",{"$f":"IF(BV$7=$F42,$H42,\"\")","v":""},"",{"$f":"IF(BX$7=$F42,$H42,\"\")","v":""},"",{"$f":"IF(BZ$7=$F42,$H42,\"\")","v":""},"",{"$f":"IF(CB$7=$F42,$H42,\"\")","v":""},"",{"$f":"IF(CD$7=$F42,$H42,\"\")","v":""},"",{"$f":"IF(CF$7=$F42,$H42,\"\")","v":""},"",{"$f":"IF(CH$7=$F42,$H42,\"\")","v":""},"",{"$f":"IF(CJ$7=$F42,$H42,\"\")","v":""},"",{"$f":"IF(CL$7=$F42,$H42,\"\")","v":""},"",{"$f":"IF(CN$7=$F42,$H42,\"\")","v":""},"",{"$f":"IF(CP$7=$F42,$H42,\"\")","v":""},"",{"$f":"IF(CR$7=$F42,$H42,\"\")","v":""},"",{"$f":"IF(CT$7=$F42,$H42,\"\")","v":""},"",{"$f":"IF(CV$7=$F42,$H42,\"\")","v":""},"",{"$f":"IF(CX$7=$F42,$H42,\"\")","v":""},"",{"$f":"IF(CZ$7=$F42,$H42,\"\")","v":""},"",{"$f":"IF(DB$7=$F42,$H42,\"\")","v":""},"",{"$f":"IF(DD$7=$F42,$H42,\"\")","v":""},"",{"$f":"IF(DF$7=$F42,$H42,\"\")","v":""},0,{"$f":"IF(DH$7=$F42,$H42,\"\")","v":0},0,{"$f":"IF(DJ$7=$F42,$H42,\"\")","v":0},0,{"$f":"IF(DL$7=$F42,$H42,\"\")","v":0},0,{"$f":"IF(DN$7=$F42,$H42,\"\")","v":0},0,{"$f":"IF(DP$7=$F42,$H42,\"\")","v":0},0,{"$f":"IF(DR$7=$F42,$H42,\"\")","v":0},0,{"$f":"IF(DT$7=$F42,$H42,\"\")","v":0},0,{"$f":"IF(DV$7=$F42,$H42,\"\")","v":0},0,{"$f":"IF(DX$7=$F42,$H42,\"\")","v":0},0,{"$f":"IF(DZ$7=$F42,$H42,\"\")","v":0},0,{"$f":"IF(EB$7=$F42,$H42,\"\")","v":0},0,{"$f":"IF(ED$7=$F42,$H42,\"\")","v":0},0,{"$f":"IF(EF$7=$F42,$H42,\"\")","v":0},0,{"$f":"IF(EH$7=$F42,$H42,\"\")","v":0},0,{"$f":"IF(EJ$7=$F42,$H42,\"\")","v":0},0,{"$f":"IF(EL$7=$F42,$H42,\"\")","v":0},0,{"$f":"IF(EN$7=$F42,$H42,\"\")","v":0},0,{"$f":"IF(EP$7=$F42,$H42,\"\")","v":0},0,{"$f":"IF(ER$7=$F42,$H42,\"\")","v":0},0,{"$f":"IF(ET$7=$F42,$H42,\"\")","v":0},0,{"$f":"IF(EV$7=$F42,$H42,\"\")","v":0},0,{"$f":"IF(EX$7=$F42,$H42,\"\")","v":0},0,{"$f":"IF(EZ$7=$F42,$H42,\"\")","v":0},0,{"$f":"IF(FB$7=$F42,$H42,\"\")","v":0},0,{"$f":"IF(FD$7=$F42,$H42,\"\")","v":0},0,{"$f":"IF(FF$7=$F42,$H42,\"\")","v":0},0,{"$f":"IF(FH$7=$F42,$H42,\"\")","v":0},0,{"$f":"IF(FJ$7=$F42,$H42,\"\")","v":0},0,{"$f":"IF(FL$7=$F42,$H42,\"\")","v":0},0,0]
[35,null,null,null,null,null,null,null,true,0,0,"","","",{"$f":"IF(N$7=$F43,$H43,\"\")","v":""},"",{"$f":"IF(P$7=$F43,$H43,\"\")","v":""},"",{"$f":"IF(R$7=$F43,$H43,\"\")","v":""},"",{"$f":"IF(T$7=$F43,$H43,\"\")","v":""},"",{"$f":"IF(V$7=$F43,$H43,\"\")","v":""},"",{"$f":"IF(X$7=$F43,$H43,\"\")","v":""},"",{"$f":"IF(Z$7=$F43,$H43,\"\")","v":""},"",{"$f":"IF(AB$7=$F43,$H43,\"\")","v":""},"",{"$f":"IF(AD$7=$F43,$H43,\"\")","v":""},"",{"$f":"IF(AF$7=$F43,$H43,\"\")","v":""},"",{"$f":"IF(AH$7=$F43,$H43,\"\")","v":""},"",{"$f":"IF(AJ$7=$F43,$H43,\"\")","v":""},"",{"$f":"IF(AL$7=$F43,$H43,\"\")","v":""},"",{"$f":"IF(AN$7=$F43,$H43,\"\")","v":""},"",{"$f":"IF(AP$7=$F43,$H43,\"\")","v":""},"",{"$f":"IF(AR$7=$F43,$H43,\"\")","v":""},"",{"$f":"IF(AT$7=$F43,$H43,\"\")","v":""},"",{"$f":"IF(AV$7=$F43,$H43,\"\")","v":""},"",{"$f":"IF(AX$7=$F43,$H43,\"\")","v":""},"",{"$f":"IF(AZ$7=$F43,$H43,\"\")","v":""},"",{"$f":"IF(BB$7=$F43,$H43,\"\")","v":""},"",{"$f":"IF(BD$7=$F43,$H43,\"\")","v":""},"",{"$f":"IF(BF$7=$F43,$H43,\"\")","v":""},"",{"$f":"IF(BH$7=$F43,$H43,\"\")","v":""},"",{"$f":"IF(BJ$7=$F43,$H43,\"\")","v":""},"",{"$f":"IF(BL$7=$F43,$H43,\"\")","v":""},"",{"$f":"IF(BN$7=$F43,$H43,\"\")","v":""},"",{"$f":"IF(BP$7=$F43,$H43,\"\")","v":""},"",{"$f":"IF(BR$7=$F43,$H43,\"\")","v":""},"",{"$f":"IF(BT$7=$F43,$H43,\"\")","v":""},"",{"$f":"IF(BV$7=$F43,$H43,\"\")","v":""},"",{"$f":"IF(BX$7=$F43,$H43,\"\")","v":""},"",{"$f":"IF(BZ$7=$F43,$H43,\"\")","v":""},"",{"$f":"IF(CB$7=$F43,$H43,\"\")","v":""},"",{"$f":"IF(CD$7=$F43,$H43,\"\")","v":""},"",{"$f":"IF(CF$7=$F43,$H43,\"\")","v":""},"",{"$f":"IF(CH$7=$F43,$H43,\"\")","v":""},"",{"$f":"IF(CJ$7=$F43,$H43,\"\")","v":""},"",{"$f":"IF(CL$7=$F43,$H43,\"\")","v":""},"",{"$f":"IF(CN$7=$F43,$H43,\"\")","v":""},"",{"$f":"IF(CP$7=$F43,$H43,\"\")","v":""},"",{"$f":"IF(CR$7=$F43,$H43,\"\")","v":""},"",{"$f":"IF(CT$7=$F43,$H43,\"\")","v":""},"",{"$f":"IF(CV$7=$F43,$H43,\"\")","v":""},"",{"$f":"IF(CX$7=$F43,$H43,\"\")","v":""},"",{"$f":"IF(CZ$7=$F43,$H43,\"\")","v":""},"",{"$f":"IF(DB$7=$F43,$H43,\"\")","v":""},"",{"$f":"IF(DD$7=$F43,$H43,\"\")","v":""},"",{"$f":"IF(DF$7=$F43,$H43,\"\")","v":""},0,{"$f":"IF(DH$7=$F43,$H43,\"\")","v":0},0,{"$f":"IF(DJ$7=$F43,$H43,\"\")","v":0},0,{"$f":"IF(DL$7=$F43,$H43,\"\")","v":0},0,{"$f":"IF(DN$7=$F43,$H43,\"\")","v":0},0,{"$f":"IF(DP$7=$F43,$H43,\"\")","v":0},0,{"$f":"IF(DR$7=$F43,$H43,\"\")","v":0},0,{"$f":"IF(DT$7=$F43,$H43,\"\")","v":0},0,{"$f":"IF(DV$7=$F43,$H43,\"\")","v":0},0,{"$f":"IF(DX$7=$F43,$H43,\"\")","v":0},0,{"$f":"IF(DZ$7=$F43,$H43,\"\")","v":0},0,{"$f":"IF(EB$7=$F43,$H43,\"\")","v":0},0,{"$f":"IF(ED$7=$F43,$H43,\"\")","v":0},0,{"$f":"IF(EF$7=$F43,$H43,\"\")","v":0},0,{"$f":"IF(EH$7=$F43,$H43,\"\")","v":0},0,{"$f":"IF(EJ$7=$F43,$H43,\"\")","v":0},0,{"$f":"IF(EL$7=$F43,$H43,\"\")","v":0},0,{"$f":"IF(EN$7=$F43,$H43,\"\")","v":0},0,{"$f":"IF(EP$7=$F43,$H43,\"\")","v":0},0,{"$f":"IF(ER$7=$F43,$H43,\"\")","v":0},0,{"$f":"IF(ET$7=$F43,$H43,\"\")","v":0},0,{"$f":"IF(EV$7=$F43,$H43,\"\")","v":0},0,{"$f":"IF(EX$7=$F43,$H43,\"\")","v":0},0,{"$f":"IF(EZ$7=$F43,$H43,\"\")","v":0},0,{"$f":"IF(FB$7=$F43,$H43,\"\")","v":0},0,{"$f":"IF(FD$7=$F43,$H43,\"\")","v":0},0,{"$f":"IF(FF$7=$F43,$H43,\"\")","v":0},0,{"$f":"IF(FH$7=$F43,$H43,\"\")","v":0},0,{"$f":"IF(FJ$7=$F43,$H43,\"\")","v":0},0,{"$f":"IF(FL$7=$F43,$H43,\"\")","v":0},0,0]
[36,null,null,null,null,null,null,null,true,0,0,"","","",{"$f":"IF(N$7=$F44,$H44,\"\")","v":""},"",{"$f":"IF(P$7=$F44,$H44,\"\")","v":""},"",{"$f":"IF(R$7=$F44,$H44,\"\")","v":""},"",{"$f":"IF(T$7=$F44,$H44,\"\")","v":""},"",{"$f":"IF(V$7=$F44,$H44,\"\")","v":""},"",{"$f":"IF(X$7=$F44,$H44,\"\")","v":""},"",{"$f":"IF(Z$7=$F44,$H44,\"\")","v":""},"",{"$f":"IF(AB$7=$F44,$H44,\"\")","v":""},"",{"$f":"IF(AD$7=$F44,$H44,\"\")","v":""},"",{"$f":"IF(AF$7=$F44,$H44,\"\")","v":""},"",{"$f":"IF(AH$7=$F44,$H44,\"\")","v":""},"",{"$f":"IF(AJ$7=$F44,$H44,\"\")","v":""},"",{"$f":"IF(AL$7=$F44,$H44,\"\")","v":""},"",{"$f":"IF(AN$7=$F44,$H44,\"\")","v":""},"",{"$f":"IF(AP$7=$F44,$H44,\"\")","v":""},"",{"$f":"IF(AR$7=$F44,$H44,\"\")","v":""},"",{"$f":"IF(AT$7=$F44,$H44,\"\")","v":""},"",{"$f":"IF(AV$7=$F44,$H44,\"\")","v":""},"",{"$f":"IF(AX$7=$F44,$H44,\"\")","v":""},"",{"$f":"IF(AZ$7=$F44,$H44,\"\")","v":""},"",{"$f":"IF(BB$7=$F44,$H44,\"\")","v":""},"",{"$f":"IF(BD$7=$F44,$H44,\"\")","v":""},"",{"$f":"IF(BF$7=$F44,$H44,\"\")","v":""},"",{"$f":"IF(BH$7=$F44,$H44,\"\")","v":""},"",{"$f":"IF(BJ$7=$F44,$H44,\"\")","v":""},"",{"$f":"IF(BL$7=$F44,$H44,\"\")","v":""},"",{"$f":"IF(BN$7=$F44,$H44,\"\")","v":""},"",{"$f":"IF(BP$7=$F44,$H44,\"\")","v":""},"",{"$f":"IF(BR$7=$F44,$H44,\"\")","v":""},"",{"$f":"IF(BT$7=$F44,$H44,\"\")","v":""},"",{"$f":"IF(BV$7=$F44,$H44,\"\")","v":""},"",{"$f":"IF(BX$7=$F44,$H44,\"\")","v":""},"",{"$f":"IF(BZ$7=$F44,$H44,\"\")","v":""},"",{"$f":"IF(CB$7=$F44,$H44,\"\")","v":""},"",{"$f":"IF(CD$7=$F44,$H44,\"\")","v":""},"",{"$f":"IF(CF$7=$F44,$H44,\"\")","v":""},"",{"$f":"IF(CH$7=$F44,$H44,\"\")","v":""},"",{"$f":"IF(CJ$7=$F44,$H44,\"\")","v":""},"",{"$f":"IF(CL$7=$F44,$H44,\"\")","v":""},"",{"$f":"IF(CN$7=$F44,$H44,\"\")","v":""},"",{"$f":"IF(CP$7=$F44,$H44,\"\")","v":""},"",{"$f":"IF(CR$7=$F44,$H44,\"\")","v":""},"",{"$f":"IF(CT$7=$F44,$H44,\"\")","v":""},"",{"$f":"IF(CV$7=$F44,$H44,\"\")","v":""},"",{"$f":"IF(CX$7=$F44,$H44,\"\")","v":""},"",{"$f":"IF(CZ$7=$F44,$H44,\"\")","v":""},"",{"$f":"IF(DB$7=$F44,$H44,\"\")","v":""},"",{"$f":"IF(DD$7=$F44,$H44,\"\")","v":""},"",{"$f":"IF(DF$7=$F44,$H44,\"\")","v":""},0,{"$f":"IF(DH$7=$F44,$H44,\"\")","v":0},0,{"$f":"IF(DJ$7=$F44,$H44,\"\")","v":0},0,{"$f":"IF(DL$7=$F44,$H44,\"\")","v":0},0,{"$f":"IF(DN$7=$F44,$H44,\"\")","v":0},0,{"$f":"IF(DP$7=$F44,$H44,\"\")","v":0},0,{"$f":"IF(DR$7=$F44,$H44,\"\")","v":0},0,{"$f":"IF(DT$7=$F44,$H44,\"\")","v":0},0,{"$f":"IF(DV$7=$F44,$H44,\"\")","v":0},0,{"$f":"IF(DX$7=$F44,$H44,\"\")","v":0},0,{"$f":"IF(DZ$7=$F44,$H44,\"\")","v":0},0,{"$f":"IF(EB$7=$F44,$H44,\"\")","v":0},0,{"$f":"IF(ED$7=$F44,$H44,\"\")","v":0},0,{"$f":"IF(EF$7=$F44,$H44,\"\")","v":0},0,{"$f":"IF(EH$7=$F44,$H44,\"\")","v":0},0,{"$f":"IF(EJ$7=$F44,$H44,\"\")","v":0},0,{"$f":"IF(EL$7=$F44,$H44,\"\")","v":0},0,{"$f":"IF(EN$7=$F44,$H44,\"\")","v":0},0,{"$f":"IF(EP$7=$F44,$H44,\"\")","v":0},0,{"$f":"IF(ER$7=$F44,$H44,\"\")","v":0},0,{"$f":"IF(ET$7=$F44,$H44,\"\")","v":0},0,{"$f":"IF(EV$7=$F44,$H44,\"\")","v":0},0,{"$f":"IF(EX$7=$F44,$H44,\"\")","v":0},0,{"$f":"IF(EZ$7=$F44,$H44,\"\")","v":0},0,{"$f":"IF(FB$7=$F44,$H44,\"\")","v":0},0,{"$f":"IF(FD$7=$F44,$H44,\"\")","v":0},0,{"$f":"IF(FF$7=$F44,$H44,\"\")","v":0},0,{"$f":"IF(FH$7=$F44,$H44,\"\")","v":0},0,{"$f":"IF(FJ$7=$F44,$H44,\"\")","v":0},0,{"$f":"IF(FL$7=$F44,$H44,\"\")","v":0},0,0]
[37,null,null,null,null,null,null,null,true,0,0,"","","",{"$f":"IF(N$7=$F45,$H45,\"\")","v":""},"",{"$f":"IF(P$7=$F45,$H45,\"\")","v":""},"",{"$f":"IF(R$7=$F45,$H45,\"\")","v":""},"",{"$f":"IF(T$7=$F45,$H45,\"\")","v":""},"",{"$f":"IF(V$7=$F45,$H45,\"\")","v":""},"",{"$f":"IF(X$7=$F45,$H45,\"\")","v":""},"",{"$f":"IF(Z$7=$F45,$H45,\"\")","v":""},"",{"$f":"IF(AB$7=$F45,$H45,\"\")","v":""},"",{"$f":"IF(AD$7=$F45,$H45,\"\")","v":""},"",{"$f":"IF(AF$7=$F45,$H45,\"\")","v":""},"",{"$f":"IF(AH$7=$F45,$H45,\"\")","v":""},"",{"$f":"IF(AJ$7=$F45,$H45,\"\")","v":""},"",{"$f":"IF(AL$7=$F45,$H45,\"\")","v":""},"",{"$f":"IF(AN$7=$F45,$H45,\"\")","v":""},"",{"$f":"IF(AP$7=$F45,$H45,\"\")","v":""},"",{"$f":"IF(AR$7=$F45,$H45,\"\")","v":""},"",{"$f":"IF(AT$7=$F45,$H45,\"\")","v":""},"",{"$f":"IF(AV$7=$F45,$H45,\"\")","v":""},"",{"$f":"IF(AX$7=$F45,$H45,\"\")","v":""},"",{"$f":"IF(AZ$7=$F45,$H45,\"\")","v":""},"",{"$f":"IF(BB$7=$F45,$H45,\"\")","v":""},"",{"$f":"IF(BD$7=$F45,$H45,\"\")","v":""},"",{"$f":"IF(BF$7=$F45,$H45,\"\")","v":""},"",{"$f":"IF(BH$7=$F45,$H45,\"\")","v":""},"",{"$f":"IF(BJ$7=$F45,$H45,\"\")","v":""},"",{"$f":"IF(BL$7=$F45,$H45,\"\")","v":""},"",{"$f":"IF(BN$7=$F45,$H45,\"\")","v":""},"",{"$f":"IF(BP$7=$F45,$H45,\"\")","v":""},"",{"$f":"IF(BR$7=$F45,$H45,\"\")","v":""},"",{"$f":"IF(BT$7=$F45,$H45,\"\")","v":""},"",{"$f":"IF(BV$7=$F45,$H45,\"\")","v":""},"",{"$f":"IF(BX$7=$F45,$H45,\"\")","v":""},"",{"$f":"IF(BZ$7=$F45,$H45,\"\")","v":""},"",{"$f":"IF(CB$7=$F45,$H45,\"\")","v":""},"",{"$f":"IF(CD$7=$F45,$H45,\"\")","v":""},"",{"$f":"IF(CF$7=$F45,$H45,\"\")","v":""},"",{"$f":"IF(CH$7=$F45,$H45,\"\")","v":""},"",{"$f":"IF(CJ$7=$F45,$H45,\"\")","v":""},"",{"$f":"IF(CL$7=$F45,$H45,\"\")","v":""},"",{"$f":"IF(CN$7=$F45,$H45,\"\")","v":""},"",{"$f":"IF(CP$7=$F45,$H45,\"\")","v":""},"",{"$f":"IF(CR$7=$F45,$H45,\"\")","v":""},"",{"$f":"IF(CT$7=$F45,$H45,\"\")","v":""},"",{"$f":"IF(CV$7=$F45,$H45,\"\")","v":""},"",{"$f":"IF(CX$7=$F45,$H45,\"\")","v":""},"",{"$f":"IF(CZ$7=$F45,$H45,\"\")","v":""},"",{"$f":"IF(DB$7=$F45,$H45,\"\")","v":""},"",{"$f":"IF(DD$7=$F45,$H45,\"\")","v":""},"",{"$f":"IF(DF$7=$F45,$H45,\"\")","v":""},0,{"$f":"IF(DH$7=$F45,$H45,\"\")","v":0},0,{"$f":"IF(DJ$7=$F45,$H45,\"\")","v":0},0,{"$f":"IF(DL$7=$F45,$H45,\"\")","v":0},0,{"$f":"IF(DN$7=$F45,$H45,\"\")","v":0},0,{"$f":"IF(DP$7=$F45,$H45,\"\")","v":0},0,{"$f":"IF(DR$7=$F45,$H45,\"\")","v":0},0,{"$f":"IF(DT$7=$F45,$H45,\"\")","v":0},0,{"$f":"IF(DV$7=$F45,$H45,\"\")","v":0},0,{"$f":"IF(DX$7=$F45,$H45,\"\")","v":0},0,{"$f":"IF(DZ$7=$F45,$H45,\"\")","v":0},0,{"$f":"IF(EB$7=$F45,$H45,\"\")","v":0},0,{"$f":"IF(ED$7=$F45,$H45,\"\")","v":0},0,{"$f":"IF(EF$7=$F45,$H45,\"\")","v":0},0,{"$f":"IF(EH$7=$F45,$H45,\"\")","v":0},0,{"$f":"IF(EJ$7=$F45,$H45,\"\")","v":0},0,{"$f":"IF(EL$7=$F45,$H45,\"\")","v":0},0,{"$f":"IF(EN$7=$F45,$H45,\"\")","v":0},0,{"$f":"IF(EP$7=$F45,$H45,\"\")","v":0},0,{"$f":"IF(ER$7=$F45,$H45,\"\")","v":0},0,{"$f":"IF(ET$7=$F45,$H45,\"\")","v":0},0,{"$f":"IF(EV$7=$F45,$H45,\"\")","v":0},0,{"$f":"IF(EX$7=$F45,$H45,\"\")","v":0},0,{"$f":"IF(EZ$7=$F45,$H45,\"\")","v":0},0,{"$f":"IF(FB$7=$F45,$H45,\"\")","v":0},0,{"$f":"IF(FD$7=$F45,$H45,\"\")","v":0},0,{"$f":"IF(FF$7=$F45,$H45,\"\")","v":0},0,{"$f":"IF(FH$7=$F45,$H45,\"\")","v":0},0,{"$f":"IF(FJ$7=$F45,$H45,\"\")","v":0},0,{"$f":"IF(FL$7=$F45,$H45,\"\")","v":0},0,0]
[38,null,null,null,null,null,null,null,true,0,0,"","","",{"$f":"IF(N$7=$F46,$H46,\"\")","v":""},"",{"$f":"IF(P$7=$F46,$H46,\"\")","v":""},"",{"$f":"IF(R$7=$F46,$H46,\"\")","v":""},"",{"$f":"IF(T$7=$F46,$H46,\"\")","v":""},"",{"$f":"IF(V$7=$F46,$H46,\"\")","v":""},"",{"$f":"IF(X$7=$F46,$H46,\"\")","v":""},"",{"$f":"IF(Z$7=$F46,$H46,\"\")","v":""},"",{"$f":"IF(AB$7=$F46,$H46,\"\")","v":""},"",{"$f":"IF(AD$7=$F46,$H46,\"\")","v":""},"",{"$f":"IF(AF$7=$F46,$H46,\"\")","v":""},"",{"$f":"IF(AH$7=$F46,$H46,\"\")","v":""},"",{"$f":"IF(AJ$7=$F46,$H46,\"\")","v":""},"",{"$f":"IF(AL$7=$F46,$H46,\"\")","v":""},"",{"$f":"IF(AN$7=$F46,$H46,\"\")","v":""},"",{"$f":"IF(AP$7=$F46,$H46,\"\")","v":""},"",{"$f":"IF(AR$7=$F46,$H46,\"\")","v":""},"",{"$f":"IF(AT$7=$F46,$H46,\"\")","v":""},"",{"$f":"IF(AV$7=$F46,$H46,\"\")","v":""},"",{"$f":"IF(AX$7=$F46,$H46,\"\")","v":""},"",{"$f":"IF(AZ$7=$F46,$H46,\"\")","v":""},"",{"$f":"IF(BB$7=$F46,$H46,\"\")","v":""},"",{"$f":"IF(BD$7=$F46,$H46,\"\")","v":""},"",{"$f":"IF(BF$7=$F46,$H46,\"\")","v":""},"",{"$f":"IF(BH$7=$F46,$H46,\"\")","v":""},"",{"$f":"IF(BJ$7=$F46,$H46,\"\")","v":""},"",{"$f":"IF(BL$7=$F46,$H46,\"\")","v":""},"",{"$f":"IF(BN$7=$F46,$H46,\"\")","v":""},"",{"$f":"IF(BP$7=$F46,$H46,\"\")","v":""},"",{"$f":"IF(BR$7=$F46,$H46,\"\")","v":""},"",{"$f":"IF(BT$7=$F46,$H46,\"\")","v":""},"",{"$f":"IF(BV$7=$F46,$H46,\"\")","v":""},"",{"$f":"IF(BX$7=$F46,$H46,\"\")","v":""},"",{"$f":"IF(BZ$7=$F46,$H46,\"\")","v":""},"",{"$f":"IF(CB$7=$F46,$H46,\"\")","v":""},"",{"$f":"IF(CD$7=$F46,$H46,\"\")","v":""},"",{"$f":"IF(CF$7=$F46,$H46,\"\")","v":""},"",{"$f":"IF(CH$7=$F46,$H46,\"\")","v":""},"",{"$f":"IF(CJ$7=$F46,$H46,\"\")","v":""},"",{"$f":"IF(CL$7=$F46,$H46,\"\")","v":""},"",{"$f":"IF(CN$7=$F46,$H46,\"\")","v":""},"",{"$f":"IF(CP$7=$F46,$H46,\"\")","v":""},"",{"$f":"IF(CR$7=$F46,$H46,\"\")","v":""},"",{"$f":"IF(CT$7=$F46,$H46,\"\")","v":""},"",{"$f":"IF(CV$7=$F46,$H46,\"\")","v":""},"",{"$f":"IF(CX$7=$F46,$H46,\"\")","v":""},"",{"$f":"IF(CZ$7=$F46,$H46,\"\")","v":""},"",{"$f":"IF(DB$7=$F46,$H46,\"\")","v":""},"",{"$f":"IF(DD$7=$F46,$H46,\"\")","v":""},"",{"$f":"IF(DF$7=$F46,$H46,\"\")","v":""},0,{"$f":"IF(DH$7=$F46,$H46,\"\")","v":0},0,{"$f":"IF(DJ$7=$F46,$H46,\"\")","v":0},0,{"$f":"IF(DL$7=$F46,$H46,\"\")","v":0},0,{"$f":"IF(DN$7=$F46,$H46,\"\")","v":0},0,{"$f":"IF(DP$7=$F46,$H46,\"\")","v":0},0,{"$f":"IF(DR$7=$F46,$H46,\"\")","v":0},0,{"$f":"IF(DT$7=$F46,$H46,\"\")","v":0},0,{"$f":"IF(DV$7=$F46,$H46,\"\")","v":0},0,{"$f":"IF(DX$7=$F46,$H46,\"\")","v":0},0,{"$f":"IF(DZ$7=$F46,$H46,\"\")","v":0},0,{"$f":"IF(EB$7=$F46,$H46,\"\")","v":0},0,{"$f":"IF(ED$7=$F46,$H46,\"\")","v":0},0,{"$f":"IF(EF$7=$F46,$H46,\"\")","v":0},0,{"$f":"IF(EH$7=$F46,$H46,\"\")","v":0},0,{"$f":"IF(EJ$7=$F46,$H46,\"\")","v":0},0,{"$f":"IF(EL$7=$F46,$H46,\"\")","v":0},0,{"$f":"IF(EN$7=$F46,$H46,\"\")","v":0},0,{"$f":"IF(EP$7=$F46,$H46,\"\")","v":0},0,{"$f":"IF(ER$7=$F46,$H46,\"\")","v":0},0,{"$f":"IF(ET$7=$F46,$H46,\"\")","v":0},0,{"$f":"IF(EV$7=$F46,$H46,\"\")","v":0},0,{"$f":"IF(EX$7=$F46,$H46,\"\")","v":0},0,{"$f":"IF(EZ$7=$F46,$H46,\"\")","v":0},0,{"$f":"IF(FB$7=$F46,$H46,\"\")","v":0},0,{"$f":"IF(FD$7=$F46,$H46,\"\")","v":0},0,{"$f":"IF(FF$7=$F46,$H46,\"\")","v":0},0,{"$f":"IF(FH$7=$F46,$H46,\"\")","v":0},0,{"$f":"IF(FJ$7=$F46,$H46,\"\")","v":0},0,{"$f":"IF(FL$7=$F46,$H46,\"\")","v":0},0,0]
[39,null,null,null,null,null,null,null,true,0,0,"","","",{"$f":"IF(N$7=$F47,$H47,\"\")","v":""},"",{"$f":"IF(P$7=$F47,$H47,\"\")","v":""},"",{"$f":"IF(R$7=$F47,$H47,\"\")","v":""},"",{"$f":"IF(T$7=$F47,$H47,\"\")","v":""},"",{"$f":"IF(V$7=$F47,$H47,\"\")","v":""},"",{"$f":"IF(X$7=$F47,$H47,\"\")","v":""},"",{"$f":"IF(Z$7=$F47,$H47,\"\")","v":""},"",{"$f":"IF(AB$7=$F47,$H47,\"\")","v":""},"",{"$f":"IF(AD$7=$F47,$H47,\"\")","v":""},"",{"$f":"IF(AF$7=$F47,$H47,\"\")","v":""},"",{"$f":"IF(AH$7=$F47,$H47,\"\")","v":""},"",{"$f":"IF(AJ$7=$F47,$H47,\"\")","v":""},"",{"$f":"IF(AL$7=$F47,$H47,\"\")","v":""},"",{"$f":"IF(AN$7=$F47,$H47,\"\")","v":""},"",{"$f":"IF(AP$7=$F47,$H47,\"\")","v":""},"",{"$f":"IF(AR$7=$F47,$H47,\"\")","v":""},"",{"$f":"IF(AT$7=$F47,$H47,\"\")","v":""},"",{"$f":"IF(AV$7=$F47,$H47,\"\")","v":""},"",{"$f":"IF(AX$7=$F47,$H47,\"\")","v":""},"",{"$f":"IF(AZ$7=$F47,$H47,\"\")","v":""},"",{"$f":"IF(BB$7=$F47,$H47,\"\")","v":""},"",{"$f":"IF(BD$7=$F47,$H47,\"\")","v":""},"",{"$f":"IF(BF$7=$F47,$H47,\"\")","v":""},"",{"$f":"IF(BH$7=$F47,$H47,\"\")","v":""},"",{"$f":"IF(BJ$7=$F47,$H47,\"\")","v":""},"",{"$f":"IF(BL$7=$F47,$H47,\"\")","v":""},"",{"$f":"IF(BN$7=$F47,$H47,\"\")","v":""},"",{"$f":"IF(BP$7=$F47,$H47,\"\")","v":""},"",{"$f":"IF(BR$7=$F47,$H47,\"\")","v":""},"",{"$f":"IF(BT$7=$F47,$H47,\"\")","v":""},"",{"$f":"IF(BV$7=$F47,$H47,\"\")","v":""},"",{"$f":"IF(BX$7=$F47,$H47,\"\")","v":""},"",{"$f":"IF(BZ$7=$F47,$H47,\"\")","v":""},"",{"$f":"IF(CB$7=$F47,$H47,\"\")","v":""},"",{"$f":"IF(CD$7=$F47,$H47,\"\")","v":""},"",{"$f":"IF(CF$7=$F47,$H47,\"\")","v":""},"",{"$f":"IF(CH$7=$F47,$H47,\"\")","v":""},"",{"$f":"IF(CJ$7=$F47,$H47,\"\")","v":""},"",{"$f":"IF(CL$7=$F47,$H47,\"\")","v":""},"",{"$f":"IF(CN$7=$F47,$H47,\"\")","v":""},"",{"$f":"IF(CP$7=$F47,$H47,\"\")","v":""},"",{"$f":"IF(CR$7=$F47,$H47,\"\")","v":""},"",{"$f":"IF(CT$7=$F47,$H47,\"\")","v":""},"",{"$f":"IF(CV$7=$F47,$H47,\"\")","v":""},"",{"$f":"IF(CX$7=$F47,$H47,\"\")","v":""},"",{"$f":"IF(CZ$7=$F47,$H47,\"\")","v":""},"",{"$f":"IF(DB$7=$F47,$H47,\"\")","v":""},"",{"$f":"IF(DD$7=$F47,$H47,\"\")","v":""},"",{"$f":"IF(DF$7=$F47,$H47,\"\")","v":""},0,{"$f":"IF(DH$7=$F47,$H47,\"\")","v":0},0,{"$f":"IF(DJ$7=$F47,$H47,\"\")","v":0},0,{"$f":"IF(DL$7=$F47,$H47,\"\")","v":0},0,{"$f":"IF(DN$7=$F47,$H47,\"\")","v":0},0,{"$f":"IF(DP$7=$F47,$H47,\"\")","v":0},0,{"$f":"IF(DR$7=$F47,$H47,\"\")","v":0},0,{"$f":"IF(DT$7=$F47,$H47,\"\")","v":0},0,{"$f":"IF(DV$7=$F47,$H47,\"\")","v":0},0,{"$f":"IF(DX$7=$F47,$H47,\"\")","v":0},0,{"$f":"IF(DZ$7=$F47,$H47,\"\")","v":0},0,{"$f":"IF(EB$7=$F47,$H47,\"\")","v":0},0,{"$f":"IF(ED$7=$F47,$H47,\"\")","v":0},0,{"$f":"IF(EF$7=$F47,$H47,\"\")","v":0},0,{"$f":"IF(EH$7=$F47,$H47,\"\")","v":0},0,{"$f":"IF(EJ$7=$F47,$H47,\"\")","v":0},0,{"$f":"IF(EL$7=$F47,$H47,\"\")","v":0},0,{"$f":"IF(EN$7=$F47,$H47,\"\")","v":0},0,{"$f":"IF(EP$7=$F47,$H47,\"\")","v":0},0,{"$f":"IF(ER$7=$F47,$H47,\"\")","v":0},0,{"$f":"IF(ET$7=$F47,$H47,\"\")","v":0},0,{"$f":"IF(EV$7=$F47,$H47,\"\")","v":0},0,{"$f":"IF(EX$7=$F47,$H47,\"\")","v":0},0,{"$f":"IF(EZ$7=$F47,$H47,\"\")","v":0},0,{"$f":"IF(FB$7=$F47,$H47,\"\")","v":0},0,{"$f":"IF(FD$7=$F47,$H47,\"\")","v":0},0,{"$f":"IF(FF$7=$F47,$H47,\"\")","v":0},0,{"$f":"IF(FH$7=$F47,$H47,\"\")","v":0},0,{"$f":"IF(FJ$7=$F47,$H47,\"\")","v":0},0,{"$f":"IF(FL$7=$F47,$H47,\"\")","v":0},0,0]
[40,null,null,null,null,null,null,null,true,0,0,"","","",{"$f":"IF(N$7=$F48,$H48,\"\")","v":""},"",{"$f":"IF(P$7=$F48,$H48,\"\")","v":""},"",{"$f":"IF(R$7=$F48,$H48,\"\")","v":""},"",{"$f":"IF(T$7=$F48,$H48,\"\")","v":""},"",{"$f":"IF(V$7=$F48,$H48,\"\")","v":""},"",{"$f":"IF(X$7=$F48,$H48,\"\")","v":""},"",{"$f":"IF(Z$7=$F48,$H48,\"\")","v":""},"",{"$f":"IF(AB$7=$F48,$H48,\"\")","v":""},"",{"$f":"IF(AD$7=$F48,$H48,\"\")","v":""},"",{"$f":"IF(AF$7=$F48,$H48,\"\")","v":""},"",{"$f":"IF(AH$7=$F48,$H48,\"\")","v":""},"",{"$f":"IF(AJ$7=$F48,$H48,\"\")","v":""},"",{"$f":"IF(AL$7=$F48,$H48,\"\")","v":""},"",{"$f":"IF(AN$7=$F48,$H48,\"\")","v":""},"",{"$f":"IF(AP$7=$F48,$H48,\"\")","v":""},"",{"$f":"IF(AR$7=$F48,$H48,\"\")","v":""},"",{"$f":"IF(AT$7=$F48,$H48,\"\")","v":""},"",{"$f":"IF(AV$7=$F48,$H48,\"\")","v":""},"",{"$f":"IF(AX$7=$F48,$H48,\"\")","v":""},"",{"$f":"IF(AZ$7=$F48,$H48,\"\")","v":""},"",{"$f":"IF(BB$7=$F48,$H48,\"\")","v":""},"",{"$f":"IF(BD$7=$F48,$H48,\"\")","v":""},"",{"$f":"IF(BF$7=$F48,$H48,\"\")","v":""},"",{"$f":"IF(BH$7=$F48,$H48,\"\")","v":""},"",{"$f":"IF(BJ$7=$F48,$H48,\"\")","v":""},"",{"$f":"IF(BL$7=$F48,$H48,\"\")","v":""},"",{"$f":"IF(BN$7=$F48,$H48,\"\")","v":""},"",{"$f":"IF(BP$7=$F48,$H48,\"\")","v":""},"",{"$f":"IF(BR$7=$F48,$H48,\"\")","v":""},"",{"$f":"IF(BT$7=$F48,$H48,\"\")","v":""},"",{"$f":"IF(BV$7=$F48,$H48,\"\")","v":""},"",{"$f":"IF(BX$7=$F48,$H48,\"\")","v":""},"",{"$f":"IF(BZ$7=$F48,$H48,\"\")","v":""},"",{"$f":"IF(CB$7=$F48,$H48,\"\")","v":""},"",{"$f":"IF(CD$7=$F48,$H48,\"\")","v":""},"",{"$f":"IF(CF$7=$F48,$H48,\"\")","v":""},"",{"$f":"IF(CH$7=$F48,$H48,\"\")","v":""},"",{"$f":"IF(CJ$7=$F48,$H48,\"\")","v":""},"",{"$f":"IF(CL$7=$F48,$H48,\"\")","v":""},"",{"$f":"IF(CN$7=$F48,$H48,\"\")","v":""},"",{"$f":"IF(CP$7=$F48,$H48,\"\")","v":""},"",{"$f":"IF(CR$7=$F48,$H48,\"\")","v":""},"",{"$f":"IF(CT$7=$F48,$H48,\"\")","v":""},"",{"$f":"IF(CV$7=$F48,$H48,\"\")","v":""},"",{"$f":"IF(CX$7=$F48,$H48,\"\")","v":""},"",{"$f":"IF(CZ$7=$F48,$H48,\"\")","v":""},"",{"$f":"IF(DB$7=$F48,$H48,\"\")","v":""},"",{"$f":"IF(DD$7=$F48,$H48,\"\")","v":""},"",{"$f":"IF(DF$7=$F48,$H48,\"\")","v":""},0,{"$f":"IF(DH$7=$F48,$H48,\"\")","v":0},0,{"$f":"IF(DJ$7=$F48,$H48,\"\")","v":0},0,{"$f":"IF(DL$7=$F48,$H48,\"\")","v":0},0,{"$f":"IF(DN$7=$F48,$H48,\"\")","v":0},0,{"$f":"IF(DP$7=$F48,$H48,\"\")","v":0},0,{"$f":"IF(DR$7=$F48,$H48,\"\")","v":0},0,{"$f":"IF(DT$7=$F48,$H48,\"\")","v":0},0,{"$f":"IF(DV$7=$F48,$H48,\"\")","v":0},0,{"$f":"IF(DX$7=$F48,$H48,\"\")","v":0},0,{"$f":"IF(DZ$7=$F48,$H48,\"\")","v":0},0,{"$f":"IF(EB$7=$F48,$H48,\"\")","v":0},0,{"$f":"IF(ED$7=$F48,$H48,\"\")","v":0},0,{"$f":"IF(EF$7=$F48,$H48,\"\")","v":0},0,{"$f":"IF(EH$7=$F48,$H48,\"\")","v":0},0,{"$f":"IF(EJ$7=$F48,$H48,\"\")","v":0},0,{"$f":"IF(EL$7=$F48,$H48,\"\")","v":0},0,{"$f":"IF(EN$7=$F48,$H48,\"\")","v":0},0,{"$f":"IF(EP$7=$F48,$H48,\"\")","v":0},0,{"$f":"IF(ER$7=$F48,$H48,\"\")","v":0},0,{"$f":"IF(ET$7=$F48,$H48,\"\")","v":0},0,{"$f":"IF(EV$7=$F48,$H48,\"\")","v":0},0,{"$f":"IF(EX$7=$F48,$H48,\"\")","v":0},0,{"$f":"IF(EZ$7=$F48,$H48,\"\")","v":0},0,{"$f":"IF(FB$7=$F48,$H48,\"\")","v":0},0,{"$f":"IF(FD$7=$F48,$H48,\"\")","v":0},0,{"$f":"IF(FF$7=$F48,$H48,\"\")","v":0},0,{"$f":"IF(FH$7=$F48,$H48,\"\")","v":0},0,{"$f":"IF(FJ$7=$F48,$H48,\"\")","v":0},0,{"$f":"IF(FL$7=$F48,$H48,\"\")","v":0},0,0]
[41,null,null,null,null,null,null,null,true,0,0,"","","",{"$f":"IF(N$7=$F49,$H49,\"\")","v":""},"",{"$f":"IF(P$7=$F49,$H49,\"\")","v":""},"",{"$f":"IF(R$7=$F49,$H49,\"\")","v":""},"",{"$f":"IF(T$7=$F49,$H49,\"\")","v":""},"",{"$f":"IF(V$7=$F49,$H49,\"\")","v":""},"",{"$f":"IF(X$7=$F49,$H49,\"\")","v":""},"",{"$f":"IF(Z$7=$F49,$H49,\"\")","v":""},"",{"$f":"IF(AB$7=$F49,$H49,\"\")","v":""},"",{"$f":"IF(AD$7=$F49,$H49,\"\")","v":""},"",{"$f":"IF(AF$7=$F49,$H49,\"\")","v":""},"",{"$f":"IF(AH$7=$F49,$H49,\"\")","v":""},"",{"$f":"IF(AJ$7=$F49,$H49,\"\")","v":""},"",{"$f":"IF(AL$7=$F49,$H49,\"\")","v":""},"",{"$f":"IF(AN$7=$F49,$H49,\"\")","v":""},"",{"$f":"IF(AP$7=$F49,$H49,\"\")","v":""},"",{"$f":"IF(AR$7=$F49,$H49,\"\")","v":""},"",{"$f":"IF(AT$7=$F49,$H49,\"\")","v":""},"",{"$f":"IF(AV$7=$F49,$H49,\"\")","v":""},"",{"$f":"IF(AX$7=$F49,$H49,\"\")","v":""},"",{"$f":"IF(AZ$7=$F49,$H49,\"\")","v":""},"",{"$f":"IF(BB$7=$F49,$H49,\"\")","v":""},"",{"$f":"IF(BD$7=$F49,$H49,\"\")","v":""},"",{"$f":"IF(BF$7=$F49,$H49,\"\")","v":""},"",{"$f":"IF(BH$7=$F49,$H49,\"\")","v":""},"",{"$f":"IF(BJ$7=$F49,$H49,\"\")","v":""},"",{"$f":"IF(BL$7=$F49,$H49,\"\")","v":""},"",{"$f":"IF(BN$7=$F49,$H49,\"\")","v":""},"",{"$f":"IF(BP$7=$F49,$H49,\"\")","v":""},"",{"$f":"IF(BR$7=$F49,$H49,\"\")","v":""},"",{"$f":"IF(BT$7=$F49,$H49,\"\")","v":""},"",{"$f":"IF(BV$7=$F49,$H49,\"\")","v":""},"",{"$f":"IF(BX$7=$F49,$H49,\"\")","v":""},"",{"$f":"IF(BZ$7=$F49,$H49,\"\")","v":""},"",{"$f":"IF(CB$7=$F49,$H49,\"\")","v":""},"",{"$f":"IF(CD$7=$F49,$H49,\"\")","v":""},"",{"$f":"IF(CF$7=$F49,$H49,\"\")","v":""},"",{"$f":"IF(CH$7=$F49,$H49,\"\")","v":""},"",{"$f":"IF(CJ$7=$F49,$H49,\"\")","v":""},"",{"$f":"IF(CL$7=$F49,$H49,\"\")","v":""},"",{"$f":"IF(CN$7=$F49,$H49,\"\")","v":""},"",{"$f":"IF(CP$7=$F49,$H49,\"\")","v":""},"",{"$f":"IF(CR$7=$F49,$H49,\"\")","v":""},"",{"$f":"IF(CT$7=$F49,$H49,\"\")","v":""},"",{"$f":"IF(CV$7=$F49,$H49,\"\")","v":""},"",{"$f":"IF(CX$7=$F49,$H49,\"\")","v":""},"",{"$f":"IF(CZ$7=$F49,$H49,\"\")","v":""},"",{"$f":"IF(DB$7=$F49,$H49,\"\")","v":""},"",{"$f":"IF(DD$7=$F49,$H49,\"\")","v":""},"",{"$f":"IF(DF$7=$F49,$H49,\"\")","v":""},0,{"$f":"IF(DH$7=$F49,$H49,\"\")","v":0},0,{"$f":"IF(DJ$7=$F49,$H49,\"\")","v":0},0,{"$f":"IF(DL$7=$F49,$H49,\"\")","v":0},0,{"$f":"IF(DN$7=$F49,$H49,\"\")","v":0},0,{"$f":"IF(DP$7=$F49,$H49,\"\")","v":0},0,{"$f":"IF(DR$7=$F49,$H49,\"\")","v":0},0,{"$f":"IF(DT$7=$F49,$H49,\"\")","v":0},0,{"$f":"IF(DV$7=$F49,$H49,\"\")","v":0},0,{"$f":"IF(DX$7=$F49,$H49,\"\")","v":0},0,{"$f":"IF(DZ$7=$F49,$H49,\"\")","v":0},0,{"$f":"IF(EB$7=$F49,$H49,\"\")","v":0},0,{"$f":"IF(ED$7=$F49,$H49,\"\")","v":0},0,{"$f":"IF(EF$7=$F49,$H49,\"\")","v":0},0,{"$f":"IF(EH$7=$F49,$H49,\"\")","v":0},0,{"$f":"IF(EJ$7=$F49,$H49,\"\")","v":0},0,{"$f":"IF(EL$7=$F49,$H49,\"\")","v":0},0,{"$f":"IF(EN$7=$F49,$H49,\"\")","v":0},0,{"$f":"IF(EP$7=$F49,$H49,\"\")","v":0},0,{"$f":"IF(ER$7=$F49,$H49,\"\")","v":0},0,{"$f":"IF(ET$7=$F49,$H49,\"\")","v":0},0,{"$f":"IF(EV$7=$F49,$H49,\"\")","v":0},0,{"$f":"IF(EX$7=$F49,$H49,\"\")","v":0},0,{"$f":"IF(EZ$7=$F49,$H49,\"\")","v":0},0,{"$f":"IF(FB$7=$F49,$H49,\"\")","v":0},0,{"$f":"IF(FD$7=$F49,$H49,\"\")","v":0},0,{"$f":"IF(FF$7=$F49,$H49,\"\")","v":0},0,{"$f":"IF(FH$7=$F49,$H49,\"\")","v":0},0,{"$f":"IF(FJ$7=$F49,$H49,\"\")","v":0},0,{"$f":"IF(FL$7=$F49,$H49,\"\")","v":0},0,0]
[42,null,null,null,null,null,null,null,true,0,0,"","","",{"$f":"IF(N$7=$F50,$H50,\"\")","v":""},"",{"$f":"IF(P$7=$F50,$H50,\"\")","v":""},"",{"$f":"IF(R$7=$F50,$H50,\"\")","v":""},"",{"$f":"IF(T$7=$F50,$H50,\"\")","v":""},"",{"$f":"IF(V$7=$F50,$H50,\"\")","v":""},"",{"$f":"IF(X$7=$F50,$H50,\"\")","v":""},"",{"$f":"IF(Z$7=$F50,$H50,\"\")","v":""},"",{"$f":"IF(AB$7=$F50,$H50,\"\")","v":""},"",{"$f":"IF(AD$7=$F50,$H50,\"\")","v":""},"",{"$f":"IF(AF$7=$F50,$H50,\"\")","v":""},"",{"$f":"IF(AH$7=$F50,$H50,\"\")","v":""},"",{"$f":"IF(AJ$7=$F50,$H50,\"\")","v":""},"",{"$f":"IF(AL$7=$F50,$H50,\"\")","v":""},"",{"$f":"IF(AN$7=$F50,$H50,\"\")","v":""},"",{"$f":"IF(AP$7=$F50,$H50,\"\")","v":""},"",{"$f":"IF(AR$7=$F50,$H50,\"\")","v":""},"",{"$f":"IF(AT$7=$F50,$H50,\"\")","v":""},"",{"$f":"IF(AV$7=$F50,$H50,\"\")","v":""},"",{"$f":"IF(AX$7=$F50,$H50,\"\")","v":""},"",{"$f":"IF(AZ$7=$F50,$H50,\"\")","v":""},"",{"$f":"IF(BB$7=$F50,$H50,\"\")","v":""},"",{"$f":"IF(BD$7=$F50,$H50,\"\")","v":""},"",{"$f":"IF(BF$7=$F50,$H50,\"\")","v":""},"",{"$f":"IF(BH$7=$F50,$H50,\"\")","v":""},"",{"$f":"IF(BJ$7=$F50,$H50,\"\")","v":""},"",{"$f":"IF(BL$7=$F50,$H50,\"\")","v":""},"",{"$f":"IF(BN$7=$F50,$H50,\"\")","v":""},"",{"$f":"IF(BP$7=$F50,$H50,\"\")","v":""},"",{"$f":"IF(BR$7=$F50,$H50,\"\")","v":""},"",{"$f":"IF(BT$7=$F50,$H50,\"\")","v":""},"",{"$f":"IF(BV$7=$F50,$H50,\"\")","v":""},"",{"$f":"IF(BX$7=$F50,$H50,\"\")","v":""},"",{"$f":"IF(BZ$7=$F50,$H50,\"\")","v":""},"",{"$f":"IF(CB$7=$F50,$H50,\"\")","v":""},"",{"$f":"IF(CD$7=$F50,$H50,\"\")","v":""},"",{"$f":"IF(CF$7=$F50,$H50,\"\")","v":""},"",{"$f":"IF(CH$7=$F50,$H50,\"\")","v":""},"",{"$f":"IF(CJ$7=$F50,$H50,\"\")","v":""},"",{"$f":"IF(CL$7=$F50,$H50,\"\")","v":""},"",{"$f":"IF(CN$7=$F50,$H50,\"\")","v":""},"",{"$f":"IF(CP$7=$F50,$H50,\"\")","v":""},"",{"$f":"IF(CR$7=$F50,$H50,\"\")","v":""},"",{"$f":"IF(CT$7=$F50,$H50,\"\")","v":""},"",{"$f":"IF(CV$7=$F50,$H50,\"\")","v":""},"",{"$f":"IF(CX$7=$F50,$H50,\"\")","v":""},"",{"$f":"IF(CZ$7=$F50,$H50,\"\")","v":""},"",{"$f":"IF(DB$7=$F50,$H50,\"\")","v":""},"",{"$f":"IF(DD$7=$F50,$H50,\"\")","v":""},"",{"$f":"IF(DF$7=$F50,$H50,\"\")","v":""},0,{"$f":"IF(DH$7=$F50,$H50,\"\")","v":0},0,{"$f":"IF(DJ$7=$F50,$H50,\"\")","v":0},0,{"$f":"IF(DL$7=$F50,$H50,\"\")","v":0},0,{"$f":"IF(DN$7=$F50,$H50,\"\")","v":0},0,{"$f":"IF(DP$7=$F50,$H50,\"\")","v":0},0,{"$f":"IF(DR$7=$F50,$H50,\"\")","v":0},0,{"$f":"IF(DT$7=$F50,$H50,\"\")","v":0},0,{"$f":"IF(DV$7=$F50,$H50,\"\")","v":0},0,{"$f":"IF(DX$7=$F50,$H50,\"\")","v":0},0,{"$f":"IF(DZ$7=$F50,$H50,\"\")","v":0},0,{"$f":"IF(EB$7=$F50,$H50,\"\")","v":0},0,{"$f":"IF(ED$7=$F50,$H50,\"\")","v":0},0,{"$f":"IF(EF$7=$F50,$H50,\"\")","v":0},0,{"$f":"IF(EH$7=$F50,$H50,\"\")","v":0},0,{"$f":"IF(EJ$7=$F50,$H50,\"\")","v":0},0,{"$f":"IF(EL$7=$F50,$H50,\"\")","v":0},0,{"$f":"IF(EN$7=$F50,$H50,\"\")","v":0},0,{"$f":"IF(EP$7=$F50,$H50,\"\")","v":0},0,{"$f":"IF(ER$7=$F50,$H50,\"\")","v":0},0,{"$f":"IF(ET$7=$F50,$H50,\"\")","v":0},0,{"$f":"IF(EV$7=$F50,$H50,\"\")","v":0},0,{"$f":"IF(EX$7=$F50,$H50,\"\")","v":0},0,{"$f":"IF(EZ$7=$F50,$H50,\"\")","v":0},0,{"$f":"IF(FB$7=$F50,$H50,\"\")","v":0},0,{"$f":"IF(FD$7=$F50,$H50,\"\")","v":0},0,{"$f":"IF(FF$7=$F50,$H50,\"\")","v":0},0,{"$f":"IF(FH$7=$F50,$H50,\"\")","v":0},0,{"$f":"IF(FJ$7=$F50,$H50,\"\")","v":0},0,{"$f":"IF(FL$7=$F50,$H50,\"\")","v":0},0,0]
[43,null,null,null,null,null,null,null,true,0,0,"","","",{"$f":"IF(N$7=$F51,$H51,\"\")","v":""},"",{"$f":"IF(P$7=$F51,$H51,\"\")","v":""},"",{"$f":"IF(R$7=$F51,$H51,\"\")","v":""},"",{"$f":"IF(T$7=$F51,$H51,\"\")","v":""},"",{"$f":"IF(V$7=$F51,$H51,\"\")","v":""},"",{"$f":"IF(X$7=$F51,$H51,\"\")","v":""},"",{"$f":"IF(Z$7=$F51,$H51,\"\")","v":""},"",{"$f":"IF(AB$7=$F51,$H51,\"\")","v":""},"",{"$f":"IF(AD$7=$F51,$H51,\"\")","v":""},"",{"$f":"IF(AF$7=$F51,$H51,\"\")","v":""},"",{"$f":"IF(AH$7=$F51,$H51,\"\")","v":""},"",{"$f":"IF(AJ$7=$F51,$H51,\"\")","v":""},"",{"$f":"IF(AL$7=$F51,$H51,\"\")","v":""},"",{"$f":"IF(AN$7=$F51,$H51,\"\")","v":""},"",{"$f":"IF(AP$7=$F51,$H51,\"\")","v":""},"",{"$f":"IF(AR$7=$F51,$H51,\"\")","v":""},"",{"$f":"IF(AT$7=$F51,$H51,\"\")","v":""},"",{"$f":"IF(AV$7=$F51,$H51,\"\")","v":""},"",{"$f":"IF(AX$7=$F51,$H51,\"\")","v":""},"",{"$f":"IF(AZ$7=$F51,$H51,\"\")","v":""},"",{"$f":"IF(BB$7=$F51,$H51,\"\")","v":""},"",{"$f":"IF(BD$7=$F51,$H51,\"\")","v":""},"",{"$f":"IF(BF$7=$F51,$H51,\"\")","v":""},"",{"$f":"IF(BH$7=$F51,$H51,\"\")","v":""},"",{"$f":"IF(BJ$7=$F51,$H51,\"\")","v":""},"",{"$f":"IF(BL$7=$F51,$H51,\"\")","v":""},"",{"$f":"IF(BN$7=$F51,$H51,\"\")","v":""},"",{"$f":"IF(BP$7=$F51,$H51,\"\")","v":""},"",{"$f":"IF(BR$7=$F51,$H51,\"\")","v":""},"",{"$f":"IF(BT$7=$F51,$H51,\"\")","v":""},"",{"$f":"IF(BV$7=$F51,$H51,\"\")","v":""},"",{"$f":"IF(BX$7=$F51,$H51,\"\")","v":""},"",{"$f":"IF(BZ$7=$F51,$H51,\"\")","v":""},"",{"$f":"IF(CB$7=$F51,$H51,\"\")","v":""},"",{"$f":"IF(CD$7=$F51,$H51,\"\")","v":""},"",{"$f":"IF(CF$7=$F51,$H51,\"\")","v":""},"",{"$f":"IF(CH$7=$F51,$H51,\"\")","v":""},"",{"$f":"IF(CJ$7=$F51,$H51,\"\")","v":""},"",{"$f":"IF(CL$7=$F51,$H51,\"\")","v":""},"",{"$f":"IF(CN$7=$F51,$H51,\"\")","v":""},"",{"$f":"IF(CP$7=$F51,$H51,\"\")","v":""},"",{"$f":"IF(CR$7=$F51,$H51,\"\")","v":""},"",{"$f":"IF(CT$7=$F51,$H51,\"\")","v":""},"",{"$f":"IF(CV$7=$F51,$H51,\"\")","v":""},"",{"$f":"IF(CX$7=$F51,$H51,\"\")","v":""},"",{"$f":"IF(CZ$7=$F51,$H51,\"\")","v":""},"",{"$f":"IF(DB$7=$F51,$H51,\"\")","v":""},"",{"$f":"IF(DD$7=$F51,$H51,\"\")","v":""},"",{"$f":"IF(DF$7=$F51,$H51,\"\")","v":""},0,{"$f":"IF(DH$7=$F51,$H51,\"\")","v":0},0,{"$f":"IF(DJ$7=$F51,$H51,\"\")","v":0},0,{"$f":"IF(DL$7=$F51,$H51,\"\")","v":0},0,{"$f":"IF(DN$7=$F51,$H51,\"\")","v":0},0,{"$f":"IF(DP$7=$F51,$H51,\"\")","v":0},0,{"$f":"IF(DR$7=$F51,$H51,\"\")","v":0},0,{"$f":"IF(DT$7=$F51,$H51,\"\")","v":0},0,{"$f":"IF(DV$7=$F51,$H51,\"\")","v":0},0,{"$f":"IF(DX$7=$F51,$H51,\"\")","v":0},0,{"$f":"IF(DZ$7=$F51,$H51,\"\")","v":0},0,{"$f":"IF(EB$7=$F51,$H51,\"\")","v":0},0,{"$f":"IF(ED$7=$F51,$H51,\"\")","v":0},0,{"$f":"IF(EF$7=$F51,$H51,\"\")","v":0},0,{"$f":"IF(EH$7=$F51,$H51,\"\")","v":0},0,{"$f":"IF(EJ$7=$F51,$H51,\"\")","v":0},0,{"$f":"IF(EL$7=$F51,$H51,\"\")","v":0},0,{"$f":"IF(EN$7=$F51,$H51,\"\")","v":0},0,{"$f":"IF(EP$7=$F51,$H51,\"\")","v":0},0,{"$f":"IF(ER$7=$F51,$H51,\"\")","v":0},0,{"$f":"IF(ET$7=$F51,$H51,\"\")","v":0},0,{"$f":"IF(EV$7=$F51,$H51,\"\")","v":0},0,{"$f":"IF(EX$7=$F51,$H51,\"\")","v":0},0,{"$f":"IF(EZ$7=$F51,$H51,\"\")","v":0},0,{"$f":"IF(FB$7=$F51,$H51,\"\")","v":0},0,{"$f":"IF(FD$7=$F51,$H51,\"\")","v":0},0,{"$f":"IF(FF$7=$F51,$H51,\"\")","v":0},0,{"$f":"IF(FH$7=$F51,$H51,\"\")","v":0},0,{"$f":"IF(FJ$7=$F51,$H51,\"\")","v":0},0,{"$f":"IF(FL$7=$F51,$H51,\"\")","v":0},0,0]
[44,null,null,null,null,null,null,null,true,0,0,"","","",{"$f":"IF(N$7=$F52,$H52,\"\")","v":""},"",{"$f":"IF(P$7=$F52,$H52,\"\")","v":""},"",{"$f":"IF(R$7=$F52,$H52,\"\")","v":""},"",{"$f":"IF(T$7=$F52,$H52,\"\")","v":""},"",{"$f":"IF(V$7=$F52,$H52,\"\")","v":""},"",{"$f":"IF(X$7=$F52,$H52,\"\")","v":""},"",{"$f":"IF(Z$7=$F52,$H52,\"\")","v":""},"",{"$f":"IF(AB$7=$F52,$H52,\"\")","v":""},"",{"$f":"IF(AD$7=$F52,$H52,\"\")","v":""},"",{"$f":"IF(AF$7=$F52,$H52,\"\")","v":""},"",{"$f":"IF(AH$7=$F52,$H52,\"\")","v":""},"",{"$f":"IF(AJ$7=$F52,$H52,\"\")","v":""},"",{"$f":"IF(AL$7=$F52,$H52,\"\")","v":""},"",{"$f":"IF(AN$7=$F52,$H52,\"\")","v":""},"",{"$f":"IF(AP$7=$F52,$H52,\"\")","v":""},"",{"$f":"IF(AR$7=$F52,$H52,\"\")","v":""},"",{"$f":"IF(AT$7=$F52,$H52,\"\")","v":""},"",{"$f":"IF(AV$7=$F52,$H52,\"\")","v":""},"",{"$f":"IF(AX$7=$F52,$H52,\"\")","v":""},"",{"$f":"IF(AZ$7=$F52,$H52,\"\")","v":""},"",{"$f":"IF(BB$7=$F52,$H52,\"\")","v":""},"",{"$f":"IF(BD$7=$F52,$H52,\"\")","v":""},"",{"$f":"IF(BF$7=$F52,$H52,\"\")","v":""},"",{"$f":"IF(BH$7=$F52,$H52,\"\")","v":""},"",{"$f":"IF(BJ$7=$F52,$H52,\"\")","v":""},"",{"$f":"IF(BL$7=$F52,$H52,\"\")","v":""},"",{"$f":"IF(BN$7=$F52,$H52,\"\")","v":""},"",{"$f":"IF(BP$7=$F52,$H52,\"\")","v":""},"",{"$f":"IF(BR$7=$F52,$H52,\"\")","v":""},"",{"$f":"IF(BT$7=$F52,$H52,\"\")","v":""},"",{"$f":"IF(BV$7=$F52,$H52,\"\")","v":""},"",{"$f":"IF(BX$7=$F52,$H52,\"\")","v":""},"",{"$f":"IF(BZ$7=$F52,$H52,\"\")","v":""},"",{"$f":"IF(CB$7=$F52,$H52,\"\")","v":""},"",{"$f":"IF(CD$7=$F52,$H52,\"\")","v":""},"",{"$f":"IF(CF$7=$F52,$H52,\"\")","v":""},"",{"$f":"IF(CH$7=$F52,$H52,\"\")","v":""},"",{"$f":"IF(CJ$7=$F52,$H52,\"\")","v":""},"",{"$f":"IF(CL$7=$F52,$H52,\"\")","v":""},"",{"$f":"IF(CN$7=$F52,$H52,\"\")","v":""},"",{"$f":"IF(CP$7=$F52,$H52,\"\")","v":""},"",{"$f":"IF(CR$7=$F52,$H52,\"\")","v":""},"",{"$f":"IF(CT$7=$F52,$H52,\"\")","v":""},"",{"$f":"IF(CV$7=$F52,$H52,\"\")","v":""},"",{"$f":"IF(CX$7=$F52,$H52,\"\")","v":""},"",{"$f":"IF(CZ$7=$F52,$H52,\"\")","v":""},"",{"$f":"IF(DB$7=$F52,$H52,\"\")","v":""},"",{"$f":"IF(DD$7=$F52,$H52,\"\")","v":""},"",{"$f":"IF(DF$7=$F52,$H52,\"\")","v":""},0,{"$f":"IF(DH$7=$F52,$H52,\"\")","v":0},0,{"$f":"IF(DJ$7=$F52,$H52,\"\")","v":0},0,{"$f":"IF(DL$7=$F52,$H52,\"\")","v":0},0,{"$f":"IF(DN$7=$F52,$H52,\"\")","v":0},0,{"$f":"IF(DP$7=$F52,$H52,\"\")","v":0},0,{"$f":"IF(DR$7=$F52,$H52,\"\")","v":0},0,{"$f":"IF(DT$7=$F52,$H52,\"\")","v":0},0,{"$f":"IF(DV$7=$F52,$H52,\"\")","v":0},0,{"$f":"IF(DX$7=$F52,$H52,\"\")","v":0},0,{"$f":"IF(DZ$7=$F52,$H52,\"\")","v":0},0,{"$f":"IF(EB$7=$F52,$H52,\"\")","v":0},0,{"$f":"IF(ED$7=$F52,$H52,\"\")","v":0},0,{"$f":"IF(EF$7=$F52,$H52,\"\")","v":0},0,{"$f":"IF(EH$7=$F52,$H52,\"\")","v":0},0,{"$f":"IF(EJ$7=$F52,$H52,\"\")","v":0},0,{"$f":"IF(EL$7=$F52,$H52,\"\")","v":0},0,{"$f":"IF(EN$7=$F52,$H52,\"\")","v":0},0,{"$f":"IF(EP$7=$F52,$H52,\"\")","v":0},0,{"$f":"IF(ER$7=$F52,$H52,\"\")","v":0},0,{"$f":"IF(ET$7=$F52,$H52,\"\")","v":0},0,{"$f":"IF(EV$7=$F52,$H52,\"\")","v":0},0,{"$f":"IF(EX$7=$F52,$H52,\"\")","v":0},0,{"$f":"IF(EZ$7=$F52,$H52,\"\")","v":0},0,{"$f":"IF(FB$7=$F52,$H52,\"\")","v":0},0,{"$f":"IF(FD$7=$F52,$H52,\"\")","v":0},0,{"$f":"IF(FF$7=$F52,$H52,\"\")","v":0},0,{"$f":"IF(FH$7=$F52,$H52,\"\")","v":0},0,{"$f":"IF(FJ$7=$F52,$H52,\"\")","v":0},0,{"$f":"IF(FL$7=$F52,$H52,\"\")","v":0},0,0]
[45,null,null,null,null,null,null,null,true,0,0,"","","",{"$f":"IF(N$7=$F53,$H53,\"\")","v":""},"",{"$f":"IF(P$7=$F53,$H53,\"\")","v":""},"",{"$f":"IF(R$7=$F53,$H53,\"\")","v":""},"",{"$f":"IF(T$7=$F53,$H53,\"\")","v":""},"",{"$f":"IF(V$7=$F53,$H53,\"\")","v":""},"",{"$f":"IF(X$7=$F53,$H53,\"\")","v":""},"",{"$f":"IF(Z$7=$F53,$H53,\"\")","v":""},"",{"$f":"IF(AB$7=$F53,$H53,\"\")","v":""},"",{"$f":"IF(AD$7=$F53,$H53,\"\")","v":""},"",{"$f":"IF(AF$7=$F53,$H53,\"\")","v":""},"",{"$f":"IF(AH$7=$F53,$H53,\"\")","v":""},"",{"$f":"IF(AJ$7=$F53,$H53,\"\")","v":""},"",{"$f":"IF(AL$7=$F53,$H53,\"\")","v":""},"",{"$f":"IF(AN$7=$F53,$H53,\"\")","v":""},"",{"$f":"IF(AP$7=$F53,$H53,\"\")","v":""},"",{"$f":"IF(AR$7=$F53,$H53,\"\")","v":""},"",{"$f":"IF(AT$7=$F53,$H53,\"\")","v":""},"",{"$f":"IF(AV$7=$F53,$H53,\"\")","v":""},"",{"$f":"IF(AX$7=$F53,$H53,\"\")","v":""},"",{"$f":"IF(AZ$7=$F53,$H53,\"\")","v":""},"",{"$f":"IF(BB$7=$F53,$H53,\"\")","v":""},"",{"$f":"IF(BD$7=$F53,$H53,\"\")","v":""},"",{"$f":"IF(BF$7=$F53,$H53,\"\")","v":""},"",{"$f":"IF(BH$7=$F53,$H53,\"\")","v":""},"",{"$f":"IF(BJ$7=$F53,$H53,\"\")","v":""},"",{"$f":"IF(BL$7=$F53,$H53,\"\")","v":""},"",{"$f":"IF(BN$7=$F53,$H53,\"\")","v":""},"",{"$f":"IF(BP$7=$F53,$H53,\"\")","v":""},"",{"$f":"IF(BR$7=$F53,$H53,\"\")","v":""},"",{"$f":"IF(BT$7=$F53,$H53,\"\")","v":""},"",{"$f":"IF(BV$7=$F53,$H53,\"\")","v":""},"",{"$f":"IF(BX$7=$F53,$H53,\"\")","v":""},"",{"$f":"IF(BZ$7=$F53,$H53,\"\")","v":""},"",{"$f":"IF(CB$7=$F53,$H53,\"\")","v":""},"",{"$f":"IF(CD$7=$F53,$H53,\"\")","v":""},"",{"$f":"IF(CF$7=$F53,$H53,\"\")","v":""},"",{"$f":"IF(CH$7=$F53,$H53,\"\")","v":""},"",{"$f":"IF(CJ$7=$F53,$H53,\"\")","v":""},"",{"$f":"IF(CL$7=$F53,$H53,\"\")","v":""},"",{"$f":"IF(CN$7=$F53,$H53,\"\")","v":""},"",{"$f":"IF(CP$7=$F53,$H53,\"\")","v":""},"",{"$f":"IF(CR$7=$F53,$H53,\"\")","v":""},"",{"$f":"IF(CT$7=$F53,$H53,\"\")","v":""},"",{"$f":"IF(CV$7=$F53,$H53,\"\")","v":""},"",{"$f":"IF(CX$7=$F53,$H53,\"\")","v":""},"",{"$f":"IF(CZ$7=$F53,$H53,\"\")","v":""},"",{"$f":"IF(DB$7=$F53,$H53,\"\")","v":""},"",{"$f":"IF(DD$7=$F53,$H53,\"\")","v":""},"",{"$f":"IF(DF$7=$F53,$H53,\"\")","v":""},0,{"$f":"IF(DH$7=$F53,$H53,\"\")","v":0},0,{"$f":"IF(DJ$7=$F53,$H53,\"\")","v":0},0,{"$f":"IF(DL$7=$F53,$H53,\"\")","v":0},0,{"$f":"IF(DN$7=$F53,$H53,\"\")","v":0},0,{"$f":"IF(DP$7=$F53,$H53,\"\")","v":0},0,{"$f":"IF(DR$7=$F53,$H53,\"\")","v":0},0,{"$f":"IF(DT$7=$F53,$H53,\"\")","v":0},0,{"$f":"IF(DV$7=$F53,$H53,\"\")","v":0},0,{"$f":"IF(DX$7=$F53,$H53,\"\")","v":0},0,{"$f":"IF(DZ$7=$F53,$H53,\"\")","v":0},0,{"$f":"IF(EB$7=$F53,$H53,\"\")","v":0},0,{"$f":"IF(ED$7=$F53,$H53,\"\")","v":0},0,{"$f":"IF(EF$7=$F53,$H53,\"\")","v":0},0,{"$f":"IF(EH$7=$F53,$H53,\"\")","v":0},0,{"$f":"IF(EJ$7=$F53,$H53,\"\")","v":0},0,{"$f":"IF(EL$7=$F53,$H53,\"\")","v":0},0,{"$f":"IF(EN$7=$F53,$H53,\"\")","v":0},0,{"$f":"IF(EP$7=$F53,$H53,\"\")","v":0},0,{"$f":"IF(ER$7=$F53,$H53,\"\")","v":0},0,{"$f":"IF(ET$7=$F53,$H53,\"\")","v":0},0,{"$f":"IF(EV$7=$F53,$H53,\"\")","v":0},0,{"$f":"IF(EX$7=$F53,$H53,\"\")","v":0},0,{"$f":"IF(EZ$7=$F53,$H53,\"\")","v":0},0,{"$f":"IF(FB$7=$F53,$H53,\"\")","v":0},0,{"$f":"IF(FD$7=$F53,$H53,\"\")","v":0},0,{"$f":"IF(FF$7=$F53,$H53,\"\")","v":0},0,{"$f":"IF(FH$7=$F53,$H53,\"\")","v":0},0,{"$f":"IF(FJ$7=$F53,$H53,\"\")","v":0},0,{"$f":"IF(FL$7=$F53,$H53,\"\")","v":0},0,0]
[46,null,null,null,null,null,null,null,true,0,0,"","","",{"$f":"IF(N$7=$F54,$H54,\"\")","v":""},"",{"$f":"IF(P$7=$F54,$H54,\"\")","v":""},"",{"$f":"IF(R$7=$F54,$H54,\"\")","v":""},"",{"$f":"IF(T$7=$F54,$H54,\"\")","v":""},"",{"$f":"IF(V$7=$F54,$H54,\"\")","v":""},"",{"$f":"IF(X$7=$F54,$H54,\"\")","v":""},"",{"$f":"IF(Z$7=$F54,$H54,\"\")","v":""},"",{"$f":"IF(AB$7=$F54,$H54,\"\")","v":""},"",{"$f":"IF(AD$7=$F54,$H54,\"\")","v":""},"",{"$f":"IF(AF$7=$F54,$H54,\"\")","v":""},"",{"$f":"IF(AH$7=$F54,$H54,\"\")","v":""},"",{"$f":"IF(AJ$7=$F54,$H54,\"\")","v":""},"",{"$f":"IF(AL$7=$F54,$H54,\"\")","v":""},"",{"$f":"IF(AN$7=$F54,$H54,\"\")","v":""},"",{"$f":"IF(AP$7=$F54,$H54,\"\")","v":""},"",{"$f":"IF(AR$7=$F54,$H54,\"\")","v":""},"",{"$f":"IF(AT$7=$F54,$H54,\"\")","v":""},"",{"$f":"IF(AV$7=$F54,$H54,\"\")","v":""},"",{"$f":"IF(AX$7=$F54,$H54,\"\")","v":""},"",{"$f":"IF(AZ$7=$F54,$H54,\"\")","v":""},"",{"$f":"IF(BB$7=$F54,$H54,\"\")","v":""},"",{"$f":"IF(BD$7=$F54,$H54,\"\")","v":""},"",{"$f":"IF(BF$7=$F54,$H54,\"\")","v":""},"",{"$f":"IF(BH$7=$F54,$H54,\"\")","v":""},"",{"$f":"IF(BJ$7=$F54,$H54,\"\")","v":""},"",{"$f":"IF(BL$7=$F54,$H54,\"\")","v":""},"",{"$f":"IF(BN$7=$F54,$H54,\"\")","v":""},"",{"$f":"IF(BP$7=$F54,$H54,\"\")","v":""},"",{"$f":"IF(BR$7=$F54,$H54,\"\")","v":""},"",{"$f":"IF(BT$7=$F54,$H54,\"\")","v":""},"",{"$f":"IF(BV$7=$F54,$H54,\"\")","v":""},"",{"$f":"IF(BX$7=$F54,$H54,\"\")","v":""},"",{"$f":"IF(BZ$7=$F54,$H54,\"\")","v":""},"",{"$f":"IF(CB$7=$F54,$H54,\"\")","v":""},"",{"$f":"IF(CD$7=$F54,$H54,\"\")","v":""},"",{"$f":"IF(CF$7=$F54,$H54,\"\")","v":""},"",{"$f":"IF(CH$7=$F54,$H54,\"\")","v":""},"",{"$f":"IF(CJ$7=$F54,$H54,\"\")","v":""},"",{"$f":"IF(CL$7=$F54,$H54,\"\")","v":""},"",{"$f":"IF(CN$7=$F54,$H54,\"\")","v":""},"",{"$f":"IF(CP$7=$F54,$H54,\"\")","v":""},"",{"$f":"IF(CR$7=$F54,$H54,\"\")","v":""},"",{"$f":"IF(CT$7=$F54,$H54,\"\")","v":""},"",{"$f":"IF(CV$7=$F54,$H54,\"\")","v":""},"",{"$f":"IF(CX$7=$F54,$H54,\"\")","v":""},"",{"$f":"IF(CZ$7=$F54,$H54,\"\")","v":""},"",{"$f":"IF(DB$7=$F54,$H54,\"\")","v":""},"",{"$f":"IF(DD$7=$F54,$H54,\"\")","v":""},"",{"$f":"IF(DF$7=$F54,$H54,\"\")","v":""},0,{"$f":"IF(DH$7=$F54,$H54,\"\")","v":0},0,{"$f":"IF(DJ$7=$F54,$H54,\"\")","v":0},0,{"$f":"IF(DL$7=$F54,$H54,\"\")","v":0},0,{"$f":"IF(DN$7=$F54,$H54,\"\")","v":0},0,{"$f":"IF(DP$7=$F54,$H54,\"\")","v":0},0,{"$f":"IF(DR$7=$F54,$H54,\"\")","v":0},0,{"$f":"IF(DT$7=$F54,$H54,\"\")","v":0},0,{"$f":"IF(DV$7=$F54,$H54,\"\")","v":0},0,{"$f":"IF(DX$7=$F54,$H54,\"\")","v":0},0,{"$f":"IF(DZ$7=$F54,$H54,\"\")","v":0},0,{"$f":"IF(EB$7=$F54,$H54,\"\")","v":0},0,{"$f":"IF(ED$7=$F54,$H54,\"\")","v":0},0,{"$f":"IF(EF$7=$F54,$H54,\"\")","v":0},0,{"$f":"IF(EH$7=$F54,$H54,\"\")","v":0},0,{"$f":"IF(EJ$7=$F54,$H54,\"\")","v":0},0,{"$f":"IF(EL$7=$F54,$H54,\"\")","v":0},0,{"$f":"IF(EN$7=$F54,$H54,\"\")","v":0},0,{"$f":"IF(EP$7=$F54,$H54,\"\")","v":0},0,{"$f":"IF(ER$7=$F54,$H54,\"\")","v":0},0,{"$f":"IF(ET$7=$F54,$H54,\"\")","v":0},0,{"$f":"IF(EV$7=$F54,$H54,\"\")","v":0},0,{"$f":"IF(EX$7=$F54,$H54,\"\")","v":0},0,{"$f":"IF(EZ$7=$F54,$H54,\"\")","v":0},0,{"$f":"IF(FB$7=$F54,$H54,\"\")","v":0},0,{"$f":"IF(FD$7=$F54,$H54,\"\")","v":0},0,{"$f":"IF(FF$7=$F54,$H54,\"\")","v":0},0,{"$f":"IF(FH$7=$F54,$H54,\"\")","v":0},0,{"$f":"IF(FJ$7=$F54,$H54,\"\")","v":0},0,{"$f":"IF(FL$7=$F54,$H54,\"\")","v":0},0,0]
[47,null,null,null,null,null,null,null,true,0,0,"","","",{"$f":"IF(N$7=$F55,$H55,\"\")","v":""},"",{"$f":"IF(P$7=$F55,$H55,\"\")","v":""},"",{"$f":"IF(R$7=$F55,$H55,\"\")","v":""},"",{"$f":"IF(T$7=$F55,$H55,\"\")","v":""},"",{"$f":"IF(V$7=$F55,$H55,\"\")","v":""},"",{"$f":"IF(X$7=$F55,$H55,\"\")","v":""},"",{"$f":"IF(Z$7=$F55,$H55,\"\")","v":""},"",{"$f":"IF(AB$7=$F55,$H55,\"\")","v":""},"",{"$f":"IF(AD$7=$F55,$H55,\"\")","v":""},"",{"$f":"IF(AF$7=$F55,$H55,\"\")","v":""},"",{"$f":"IF(AH$7=$F55,$H55,\"\")","v":""},"",{"$f":"IF(AJ$7=$F55,$H55,\"\")","v":""},"",{"$f":"IF(AL$7=$F55,$H55,\"\")","v":""},"",{"$f":"IF(AN$7=$F55,$H55,\"\")","v":""},"",{"$f":"IF(AP$7=$F55,$H55,\"\")","v":""},"",{"$f":"IF(AR$7=$F55,$H55,\"\")","v":""},"",{"$f":"IF(AT$7=$F55,$H55,\"\")","v":""},"",{"$f":"IF(AV$7=$F55,$H55,\"\")","v":""},"",{"$f":"IF(AX$7=$F55,$H55,\"\")","v":""},"",{"$f":"IF(AZ$7=$F55,$H55,\"\")","v":""},"",{"$f":"IF(BB$7=$F55,$H55,\"\")","v":""},"",{"$f":"IF(BD$7=$F55,$H55,\"\")","v":""},"",{"$f":"IF(BF$7=$F55,$H55,\"\")","v":""},"",{"$f":"IF(BH$7=$F55,$H55,\"\")","v":""},"",{"$f":"IF(BJ$7=$F55,$H55,\"\")","v":""},"",{"$f":"IF(BL$7=$F55,$H55,\"\")","v":""},"",{"$f":"IF(BN$7=$F55,$H55,\"\")","v":""},"",{"$f":"IF(BP$7=$F55,$H55,\"\")","v":""},"",{"$f":"IF(BR$7=$F55,$H55,\"\")","v":""},"",{"$f":"IF(BT$7=$F55,$H55,\"\")","v":""},"",{"$f":"IF(BV$7=$F55,$H55,\"\")","v":""},"",{"$f":"IF(BX$7=$F55,$H55,\"\")","v":""},"",{"$f":"IF(BZ$7=$F55,$H55,\"\")","v":""},"",{"$f":"IF(CB$7=$F55,$H55,\"\")","v":""},"",{"$f":"IF(CD$7=$F55,$H55,\"\")","v":""},"",{"$f":"IF(CF$7=$F55,$H55,\"\")","v":""},"",{"$f":"IF(CH$7=$F55,$H55,\"\")","v":""},"",{"$f":"IF(CJ$7=$F55,$H55,\"\")","v":""},"",{"$f":"IF(CL$7=$F55,$H55,\"\")","v":""},"",{"$f":"IF(CN$7=$F55,$H55,\"\")","v":""},"",{"$f":"IF(CP$7=$F55,$H55,\"\")","v":""},"",{"$f":"IF(CR$7=$F55,$H55,\"\")","v":""},"",{"$f":"IF(CT$7=$F55,$H55,\"\")","v":""},"",{"$f":"IF(CV$7=$F55,$H55,\"\")","v":""},"",{"$f":"IF(CX$7=$F55,$H55,\"\")","v":""},"",{"$f":"IF(CZ$7=$F55,$H55,\"\")","v":""},"",{"$f":"IF(DB$7=$F55,$H55,\"\")","v":""},"",{"$f":"IF(DD$7=$F55,$H55,\"\")","v":""},"",{"$f":"IF(DF$7=$F55,$H55,\"\")","v":""},0,{"$f":"IF(DH$7=$F55,$H55,\"\")","v":0},0,{"$f":"IF(DJ$7=$F55,$H55,\"\")","v":0},0,{"$f":"IF(DL$7=$F55,$H55,\"\")","v":0},0,{"$f":"IF(DN$7=$F55,$H55,\"\")","v":0},0,{"$f":"IF(DP$7=$F55,$H55,\"\")","v":0},0,{"$f":"IF(DR$7=$F55,$H55,\"\")","v":0},0,{"$f":"IF(DT$7=$F55,$H55,\"\")","v":0},0,{"$f":"IF(DV$7=$F55,$H55,\"\")","v":0},0,{"$f":"IF(DX$7=$F55,$H55,\"\")","v":0},0,{"$f":"IF(DZ$7=$F55,$H55,\"\")","v":0},0,{"$f":"IF(EB$7=$F55,$H55,\"\")","v":0},0,{"$f":"IF(ED$7=$F55,$H55,\"\")","v":0},0,{"$f":"IF(EF$7=$F55,$H55,\"\")","v":0},0,{"$f":"IF(EH$7=$F55,$H55,\"\")","v":0},0,{"$f":"IF(EJ$7=$F55,$H55,\"\")","v":0},0,{"$f":"IF(EL$7=$F55,$H55,\"\")","v":0},0,{"$f":"IF(EN$7=$F55,$H55,\"\")","v":0},0,{"$f":"IF(EP$7=$F55,$H55,\"\")","v":0},0,{"$f":"IF(ER$7=$F55,$H55,\"\")","v":0},0,{"$f":"IF(ET$7=$F55,$H55,\"\")","v":0},0,{"$f":"IF(EV$7=$F55,$H55,\"\")","v":0},0,{"$f":"IF(EX$7=$F55,$H55,\"\")","v":0},0,{"$f":"IF(EZ$7=$F55,$H55,\"\")","v":0},0,{"$f":"IF(FB$7=$F55,$H55,\"\")","v":0},0,{"$f":"IF(FD$7=$F55,$H55,\"\")","v":0},0,{"$f":"IF(FF$7=$F55,$H55,\"\")","v":0},0,{"$f":"IF(FH$7=$F55,$H55,\"\")","v":0},0,{"$f":"IF(FJ$7=$F55,$H55,\"\")","v":0},0,{"$f":"IF(FL$7=$F55,$H55,\"\")","v":0},0,0]
[48,null,null,null,null,null,null,null,true,0,0,"","","",{"$f":"IF(N$7=$F56,$H56,\"\")","v":""},"",{"$f":"IF(P$7=$F56,$H56,\"\")","v":""},"",{"$f":"IF(R$7=$F56,$H56,\"\")","v":""},"",{"$f":"IF(T$7=$F56,$H56,\"\")","v":""},"",{"$f":"IF(V$7=$F56,$H56,\"\")","v":""},"",{"$f":"IF(X$7=$F56,$H56,\"\")","v":""},"",{"$f":"IF(Z$7=$F56,$H56,\"\")","v":""},"",{"$f":"IF(AB$7=$F56,$H56,\"\")","v":""},"",{"$f":"IF(AD$7=$F56,$H56,\"\")","v":""},"",{"$f":"IF(AF$7=$F56,$H56,\"\")","v":""},"",{"$f":"IF(AH$7=$F56,$H56,\"\")","v":""},"",{"$f":"IF(AJ$7=$F56,$H56,\"\")","v":""},"",{"$f":"IF(AL$7=$F56,$H56,\"\")","v":""},"",{"$f":"IF(AN$7=$F56,$H56,\"\")","v":""},"",{"$f":"IF(AP$7=$F56,$H56,\"\")","v":""},"",{"$f":"IF(AR$7=$F56,$H56,\"\")","v":""},"",{"$f":"IF(AT$7=$F56,$H56,\"\")","v":""},"",{"$f":"IF(AV$7=$F56,$H56,\"\")","v":""},"",{"$f":"IF(AX$7=$F56,$H56,\"\")","v":""},"",{"$f":"IF(AZ$7=$F56,$H56,\"\")","v":""},"",{"$f":"IF(BB$7=$F56,$H56,\"\")","v":""},"",{"$f":"IF(BD$7=$F56,$H56,\"\")","v":""},"",{"$f":"IF(BF$7=$F56,$H56,\"\")","v":""},"",{"$f":"IF(BH$7=$F56,$H56,\"\")","v":""},"",{"$f":"IF(BJ$7=$F56,$H56,\"\")","v":""},"",{"$f":"IF(BL$7=$F56,$H56,\"\")","v":""},"",{"$f":"IF(BN$7=$F56,$H56,\"\")","v":""},"",{"$f":"IF(BP$7=$F56,$H56,\"\")","v":""},"",{"$f":"IF(BR$7=$F56,$H56,\"\")","v":""},"",{"$f":"IF(BT$7=$F56,$H56,\"\")","v":""},"",{"$f":"IF(BV$7=$F56,$H56,\"\")","v":""},"",{"$f":"IF(BX$7=$F56,$H56,\"\")","v":""},"",{"$f":"IF(BZ$7=$F56,$H56,\"\")","v":""},"",{"$f":"IF(CB$7=$F56,$H56,\"\")","v":""},"",{"$f":"IF(CD$7=$F56,$H56,\"\")","v":""},"",{"$f":"IF(CF$7=$F56,$H56,\"\")","v":""},"",{"$f":"IF(CH$7=$F56,$H56,\"\")","v":""},"",{"$f":"IF(CJ$7=$F56,$H56,\"\")","v":""},"",{"$f":"IF(CL$7=$F56,$H56,\"\")","v":""},"",{"$f":"IF(CN$7=$F56,$H56,\"\")","v":""},"",{"$f":"IF(CP$7=$F56,$H56,\"\")","v":""},"",{"$f":"IF(CR$7=$F56,$H56,\"\")","v":""},"",{"$f":"IF(CT$7=$F56,$H56,\"\")","v":""},"",{"$f":"IF(CV$7=$F56,$H56,\"\")","v":""},"",{"$f":"IF(CX$7=$F56,$H56,\"\")","v":""},"",{"$f":"IF(CZ$7=$F56,$H56,\"\")","v":""},"",{"$f":"IF(DB$7=$F56,$H56,\"\")","v":""},"",{"$f":"IF(DD$7=$F56,$H56,\"\")","v":""},"",{"$f":"IF(DF$7=$F56,$H56,\"\")","v":""},0,{"$f":"IF(DH$7=$F56,$H56,\"\")","v":0},0,{"$f":"IF(DJ$7=$F56,$H56,\"\")","v":0},0,{"$f":"IF(DL$7=$F56,$H56,\"\")","v":0},0,{"$f":"IF(DN$7=$F56,$H56,\"\")","v":0},0,{"$f":"IF(DP$7=$F56,$H56,\"\")","v":0},0,{"$f":"IF(DR$7=$F56,$H56,\"\")","v":0},0,{"$f":"IF(DT$7=$F56,$H56,\"\")","v":0},0,{"$f":"IF(DV$7=$F56,$H56,\"\")","v":0},0,{"$f":"IF(DX$7=$F56,$H56,\"\")","v":0},0,{"$f":"IF(DZ$7=$F56,$H56,\"\")","v":0},0,{"$f":"IF(EB$7=$F56,$H56,\"\")","v":0},0,{"$f":"IF(ED$7=$F56,$H56,\"\")","v":0},0,{"$f":"IF(EF$7=$F56,$H56,\"\")","v":0},0,{"$f":"IF(EH$7=$F56,$H56,\"\")","v":0},0,{"$f":"IF(EJ$7=$F56,$H56,\"\")","v":0},0,{"$f":"IF(EL$7=$F56,$H56,\"\")","v":0},0,{"$f":"IF(EN$7=$F56,$H56,\"\")","v":0},0,{"$f":"IF(EP$7=$F56,$H56,\"\")","v":0},0,{"$f":"IF(ER$7=$F56,$H56,\"\")","v":0},0,{"$f":"IF(ET$7=$F56,$H56,\"\")","v":0},0,{"$f":"IF(EV$7=$F56,$H56,\"\")","v":0},0,{"$f":"IF(EX$7=$F56,$H56,\"\")","v":0},0,{"$f":"IF(EZ$7=$F56,$H56,\"\")","v":0},0,{"$f":"IF(FB$7=$F56,$H56,\"\")","v":0},0,{"$f":"IF(FD$7=$F56,$H56,\"\")","v":0},0,{"$f":"IF(FF$7=$F56,$H56,\"\")","v":0},0,{"$f":"IF(FH$7=$F56,$H56,\"\")","v":0},0,{"$f":"IF(FJ$7=$F56,$H56,\"\")","v":0},0,{"$f":"IF(FL$7=$F56,$H56,\"\")","v":0},0,0]
[49,null,null,null,null,null,null,null,true,0,0,"","","",{"$f":"IF(N$7=$F57,$H57,\"\")","v":""},"",{"$f":"IF(P$7=$F57,$H57,\"\")","v":""},"",{"$f":"IF(R$7=$F57,$H57,\"\")","v":""},"",{"$f":"IF(T$7=$F57,$H57,\"\")","v":""},"",{"$f":"IF(V$7=$F57,$H57,\"\")","v":""},"",{"$f":"IF(X$7=$F57,$H57,\"\")","v":""},"",{"$f":"IF(Z$7=$F57,$H57,\"\")","v":""},"",{"$f":"IF(AB$7=$F57,$H57,\"\")","v":""},"",{"$f":"IF(AD$7=$F57,$H57,\"\")","v":""},"",{"$f":"IF(AF$7=$F57,$H57,\"\")","v":""},"",{"$f":"IF(AH$7=$F57,$H57,\"\")","v":""},"",{"$f":"IF(AJ$7=$F57,$H57,\"\")","v":""},"",{"$f":"IF(AL$7=$F57,$H57,\"\")","v":""},"",{"$f":"IF(AN$7=$F57,$H57,\"\")","v":""},"",{"$f":"IF(AP$7=$F57,$H57,\"\")","v":""},"",{"$f":"IF(AR$7=$F57,$H57,\"\")","v":""},"",{"$f":"IF(AT$7=$F57,$H57,\"\")","v":""},"",{"$f":"IF(AV$7=$F57,$H57,\"\")","v":""},"",{"$f":"IF(AX$7=$F57,$H57,\"\")","v":""},"",{"$f":"IF(AZ$7=$F57,$H57,\"\")","v":""},"",{"$f":"IF(BB$7=$F57,$H57,\"\")","v":""},"",{"$f":"IF(BD$7=$F57,$H57,\"\")","v":""},"",{"$f":"IF(BF$7=$F57,$H57,\"\")","v":""},"",{"$f":"IF(BH$7=$F57,$H57,\"\")","v":""},"",{"$f":"IF(BJ$7=$F57,$H57,\"\")","v":""},"",{"$f":"IF(BL$7=$F57,$H57,\"\")","v":""},"",{"$f":"IF(BN$7=$F57,$H57,\"\")","v":""},"",{"$f":"IF(BP$7=$F57,$H57,\"\")","v":""},"",{"$f":"IF(BR$7=$F57,$H57,\"\")","v":""},"",{"$f":"IF(BT$7=$F57,$H57,\"\")","v":""},"",{"$f":"IF(BV$7=$F57,$H57,\"\")","v":""},"",{"$f":"IF(BX$7=$F57,$H57,\"\")","v":""},"",{"$f":"IF(BZ$7=$F57,$H57,\"\")","v":""},"",{"$f":"IF(CB$7=$F57,$H57,\"\")","v":""},"",{"$f":"IF(CD$7=$F57,$H57,\"\")","v":""},"",{"$f":"IF(CF$7=$F57,$H57,\"\")","v":""},"",{"$f":"IF(CH$7=$F57,$H57,\"\")","v":""},"",{"$f":"IF(CJ$7=$F57,$H57,\"\")","v":""},"",{"$f":"IF(CL$7=$F57,$H57,\"\")","v":""},"",{"$f":"IF(CN$7=$F57,$H57,\"\")","v":""},"",{"$f":"IF(CP$7=$F57,$H57,\"\")","v":""},"",{"$f":"IF(CR$7=$F57,$H57,\"\")","v":""},"",{"$f":"IF(CT$7=$F57,$H57,\"\")","v":""},"",{"$f":"IF(CV$7=$F57,$H57,\"\")","v":""},"",{"$f":"IF(CX$7=$F57,$H57,\"\")","v":""},"",{"$f":"IF(CZ$7=$F57,$H57,\"\")","v":""},"",{"$f":"IF(DB$7=$F57,$H57,\"\")","v":""},"",{"$f":"IF(DD$7=$F57,$H57,\"\")","v":""},"",{"$f":"IF(DF$7=$F57,$H57,\"\")","v":""},0,{"$f":"IF(DH$7=$F57,$H57,\"\")","v":0},0,{"$f":"IF(DJ$7=$F57,$H57,\"\")","v":0},0,{"$f":"IF(DL$7=$F57,$H57,\"\")","v":0},0,{"$f":"IF(DN$7=$F57,$H57,\"\")","v":0},0,{"$f":"IF(DP$7=$F57,$H57,\"\")","v":0},0,{"$f":"IF(DR$7=$F57,$H57,\"\")","v":0},0,{"$f":"IF(DT$7=$F57,$H57,\"\")","v":0},0,{"$f":"IF(DV$7=$F57,$H57,\"\")","v":0},0,{"$f":"IF(DX$7=$F57,$H57,\"\")","v":0},0,{"$f":"IF(DZ$7=$F57,$H57,\"\")","v":0},0,{"$f":"IF(EB$7=$F57,$H57,\"\")","v":0},0,{"$f":"IF(ED$7=$F57,$H57,\"\")","v":0},0,{"$f":"IF(EF$7=$F57,$H57,\"\")","v":0},0,{"$f":"IF(EH$7=$F57,$H57,\"\")","v":0},0,{"$f":"IF(EJ$7=$F57,$H57,\"\")","v":0},0,{"$f":"IF(EL$7=$F57,$H57,\"\")","v":0},0,{"$f":"IF(EN$7=$F57,$H57,\"\")","v":0},0,{"$f":"IF(EP$7=$F57,$H57,\"\")","v":0},0,{"$f":"IF(ER$7=$F57,$H57,\"\")","v":0},0,{"$f":"IF(ET$7=$F57,$H57,\"\")","v":0},0,{"$f":"IF(EV$7=$F57,$H57,\"\")","v":0},0,{"$f":"IF(EX$7=$F57,$H57,\"\")","v":0},0,{"$f":"IF(EZ$7=$F57,$H57,\"\")","v":0},0,{"$f":"IF(FB$7=$F57,$H57,\"\")","v":0},0,{"$f":"IF(FD$7=$F57,$H57,\"\")","v":0},0,{"$f":"IF(FF$7=$F57,$H57,\"\")","v":0},0,{"$f":"IF(FH$7=$F57,$H57,\"\")","v":0},0,{"$f":"IF(FJ$7=$F57,$H57,\"\")","v":0},0,{"$f":"IF(FL$7=$F57,$H57,\"\")","v":0},0,0]
[50,null,null,null,null,null,null,null,true,0,0,"","","",{"$f":"IF(N$7=$F58,$H58,\"\")","v":""},"",{"$f":"IF(P$7=$F58,$H58,\"\")","v":""},"",{"$f":"IF(R$7=$F58,$H58,\"\")","v":""},"",{"$f":"IF(T$7=$F58,$H58,\"\")","v":""},"",{"$f":"IF(V$7=$F58,$H58,\"\")","v":""},"",{"$f":"IF(X$7=$F58,$H58,\"\")","v":""},"",{"$f":"IF(Z$7=$F58,$H58,\"\")","v":""},"",{"$f":"IF(AB$7=$F58,$H58,\"\")","v":""},"",{"$f":"IF(AD$7=$F58,$H58,\"\")","v":""},"",{"$f":"IF(AF$7=$F58,$H58,\"\")","v":""},"",{"$f":"IF(AH$7=$F58,$H58,\"\")","v":""},"",{"$f":"IF(AJ$7=$F58,$H58,\"\")","v":""},"",{"$f":"IF(AL$7=$F58,$H58,\"\")","v":""},"",{"$f":"IF(AN$7=$F58,$H58,\"\")","v":""},"",{"$f":"IF(AP$7=$F58,$H58,\"\")","v":""},"",{"$f":"IF(AR$7=$F58,$H58,\"\")","v":""},"",{"$f":"IF(AT$7=$F58,$H58,\"\")","v":""},"",{"$f":"IF(AV$7=$F58,$H58,\"\")","v":""},"",{"$f":"IF(AX$7=$F58,$H58,\"\")","v":""},"",{"$f":"IF(AZ$7=$F58,$H58,\"\")","v":""},"",{"$f":"IF(BB$7=$F58,$H58,\"\")","v":""},"",{"$f":"IF(BD$7=$F58,$H58,\"\")","v":""},"",{"$f":"IF(BF$7=$F58,$H58,\"\")","v":""},"",{"$f":"IF(BH$7=$F58,$H58,\"\")","v":""},"",{"$f":"IF(BJ$7=$F58,$H58,\"\")","v":""},"",{"$f":"IF(BL$7=$F58,$H58,\"\")","v":""},"",{"$f":"IF(BN$7=$F58,$H58,\"\")","v":""},"",{"$f":"IF(BP$7=$F58,$H58,\"\")","v":""},"",{"$f":"IF(BR$7=$F58,$H58,\"\")","v":""},"",{"$f":"IF(BT$7=$F58,$H58,\"\")","v":""},"",{"$f":"IF(BV$7=$F58,$H58,\"\")","v":""},"",{"$f":"IF(BX$7=$F58,$H58,\"\")","v":""},"",{"$f":"IF(BZ$7=$F58,$H58,\"\")","v":""},"",{"$f":"IF(CB$7=$F58,$H58,\"\")","v":""},"",{"$f":"IF(CD$7=$F58,$H58,\"\")","v":""},"",{"$f":"IF(CF$7=$F58,$H58,\"\")","v":""},"",{"$f":"IF(CH$7=$F58,$H58,\"\")","v":""},"",{"$f":"IF(CJ$7=$F58,$H58,\"\")","v":""},"",{"$f":"IF(CL$7=$F58,$H58,\"\")","v":""},"",{"$f":"IF(CN$7=$F58,$H58,\"\")","v":""},"",{"$f":"IF(CP$7=$F58,$H58,\"\")","v":""},"",{"$f":"IF(CR$7=$F58,$H58,\"\")","v":""},"",{"$f":"IF(CT$7=$F58,$H58,\"\")","v":""},"",{"$f":"IF(CV$7=$F58,$H58,\"\")","v":""},"",{"$f":"IF(CX$7=$F58,$H58,\"\")","v":""},"",{"$f":"IF(CZ$7=$F58,$H58,\"\")","v":""},"",{"$f":"IF(DB$7=$F58,$H58,\"\")","v":""},"",{"$f":"IF(DD$7=$F58,$H58,\"\")","v":""},"",{"$f":"IF(DF$7=$F58,$H58,\"\")","v":""},0,{"$f":"IF(DH$7=$F58,$H58,\"\")","v":0},0,{"$f":"IF(DJ$7=$F58,$H58,\"\")","v":0},0,{"$f":"IF(DL$7=$F58,$H58,\"\")","v":0},0,{"$f":"IF(DN$7=$F58,$H58,\"\")","v":0},0,{"$f":"IF(DP$7=$F58,$H58,\"\")","v":0},0,{"$f":"IF(DR$7=$F58,$H58,\"\")","v":0},0,{"$f":"IF(DT$7=$F58,$H58,\"\")","v":0},0,{"$f":"IF(DV$7=$F58,$H58,\"\")","v":0},0,{"$f":"IF(DX$7=$F58,$H58,\"\")","v":0},0,{"$f":"IF(DZ$7=$F58,$H58,\"\")","v":0},0,{"$f":"IF(EB$7=$F58,$H58,\"\")","v":0},0,{"$f":"IF(ED$7=$F58,$H58,\"\")","v":0},0,{"$f":"IF(EF$7=$F58,$H58,\"\")","v":0},0,{"$f":"IF(EH$7=$F58,$H58,\"\")","v":0},0,{"$f":"IF(EJ$7=$F58,$H58,\"\")","v":0},0,{"$f":"IF(EL$7=$F58,$H58,\"\")","v":0},0,{"$f":"IF(EN$7=$F58,$H58,\"\")","v":0},0,{"$f":"IF(EP$7=$F58,$H58,\"\")","v":0},0,{"$f":"IF(ER$7=$F58,$H58,\"\")","v":0},0,{"$f":"IF(ET$7=$F58,$H58,\"\")","v":0},0,{"$f":"IF(EV$7=$F58,$H58,\"\")","v":0},0,{"$f":"IF(EX$7=$F58,$H58,\"\")","v":0},0,{"$f":"IF(EZ$7=$F58,$H58,\"\")","v":0},0,{"$f":"IF(FB$7=$F58,$H58,\"\")","v":0},0,{"$f":"IF(FD$7=$F58,$H58,\"\")","v":0},0,{"$f":"IF(FF$7=$F58,$H58,\"\")","v":0},0,{"$f":"IF(FH$7=$F58,$H58,\"\")","v":0},0,{"$f":"IF(FJ$7=$F58,$H58,\"\")","v":0},0,{"$f":"IF(FL$7=$F58,$H58,\"\")","v":0},0,0]
[51,null,null,null,null,null,null,null,true,0,0,"","","",{"$f":"IF(N$7=$F59,$H59,\"\")","v":""},"",{"$f":"IF(P$7=$F59,$H59,\"\")","v":""},"",{"$f":"IF(R$7=$F59,$H59,\"\")","v":""},"",{"$f":"IF(T$7=$F59,$H59,\"\")","v":""},"",{"$f":"IF(V$7=$F59,$H59,\"\")","v":""},"",{"$f":"IF(X$7=$F59,$H59,\"\")","v":""},"",{"$f":"IF(Z$7=$F59,$H59,\"\")","v":""},"",{"$f":"IF(AB$7=$F59,$H59,\"\")","v":""},"",{"$f":"IF(AD$7=$F59,$H59,\"\")","v":""},"",{"$f":"IF(AF$7=$F59,$H59,\"\")","v":""},"",{"$f":"IF(AH$7=$F59,$H59,\"\")","v":""},"",{"$f":"IF(AJ$7=$F59,$H59,\"\")","v":""},"",{"$f":"IF(AL$7=$F59,$H59,\"\")","v":""},"",{"$f":"IF(AN$7=$F59,$H59,\"\")","v":""},"",{"$f":"IF(AP$7=$F59,$H59,\"\")","v":""},"",{"$f":"IF(AR$7=$F59,$H59,\"\")","v":""},"",{"$f":"IF(AT$7=$F59,$H59,\"\")","v":""},"",{"$f":"IF(AV$7=$F59,$H59,\"\")","v":""},"",{"$f":"IF(AX$7=$F59,$H59,\"\")","v":""},"",{"$f":"IF(AZ$7=$F59,$H59,\"\")","v":""},"",{"$f":"IF(BB$7=$F59,$H59,\"\")","v":""},"",{"$f":"IF(BD$7=$F59,$H59,\"\")","v":""},"",{"$f":"IF(BF$7=$F59,$H59,\"\")","v":""},"",{"$f":"IF(BH$7=$F59,$H59,\"\")","v":""},"",{"$f":"IF(BJ$7=$F59,$H59,\"\")","v":""},"",{"$f":"IF(BL$7=$F59,$H59,\"\")","v":""},"",{"$f":"IF(BN$7=$F59,$H59,\"\")","v":""},"",{"$f":"IF(BP$7=$F59,$H59,\"\")","v":""},"",{"$f":"IF(BR$7=$F59,$H59,\"\")","v":""},"",{"$f":"IF(BT$7=$F59,$H59,\"\")","v":""},"",{"$f":"IF(BV$7=$F59,$H59,\"\")","v":""},"",{"$f":"IF(BX$7=$F59,$H59,\"\")","v":""},"",{"$f":"IF(BZ$7=$F59,$H59,\"\")","v":""},"",{"$f":"IF(CB$7=$F59,$H59,\"\")","v":""},"",{"$f":"IF(CD$7=$F59,$H59,\"\")","v":""},"",{"$f":"IF(CF$7=$F59,$H59,\"\")","v":""},"",{"$f":"IF(CH$7=$F59,$H59,\"\")","v":""},"",{"$f":"IF(CJ$7=$F59,$H59,\"\")","v":""},"",{"$f":"IF(CL$7=$F59,$H59,\"\")","v":""},"",{"$f":"IF(CN$7=$F59,$H59,\"\")","v":""},"",{"$f":"IF(CP$7=$F59,$H59,\"\")","v":""},"",{"$f":"IF(CR$7=$F59,$H59,\"\")","v":""},"",{"$f":"IF(CT$7=$F59,$H59,\"\")","v":""},"",{"$f":"IF(CV$7=$F59,$H59,\"\")","v":""},"",{"$f":"IF(CX$7=$F59,$H59,\"\")","v":""},"",{"$f":"IF(CZ$7=$F59,$H59,\"\")","v":""},"",{"$f":"IF(DB$7=$F59,$H59,\"\")","v":""},"",{"$f":"IF(DD$7=$F59,$H59,\"\")","v":""},"",{"$f":"IF(DF$7=$F59,$H59,\"\")","v":""},0,{"$f":"IF(DH$7=$F59,$H59,\"\")","v":0},0,{"$f":"IF(DJ$7=$F59,$H59,\"\")","v":0},0,{"$f":"IF(DL$7=$F59,$H59,\"\")","v":0},0,{"$f":"IF(DN$7=$F59,$H59,\"\")","v":0},0,{"$f":"IF(DP$7=$F59,$H59,\"\")","v":0},0,{"$f":"IF(DR$7=$F59,$H59,\"\")","v":0},0,{"$f":"IF(DT$7=$F59,$H59,\"\")","v":0},0,{"$f":"IF(DV$7=$F59,$H59,\"\")","v":0},0,{"$f":"IF(DX$7=$F59,$H59,\"\")","v":0},0,{"$f":"IF(DZ$7=$F59,$H59,\"\")","v":0},0,{"$f":"IF(EB$7=$F59,$H59,\"\")","v":0},0,{"$f":"IF(ED$7=$F59,$H59,\"\")","v":0},0,{"$f":"IF(EF$7=$F59,$H59,\"\")","v":0},0,{"$f":"IF(EH$7=$F59,$H59,\"\")","v":0},0,{"$f":"IF(EJ$7=$F59,$H59,\"\")","v":0},0,{"$f":"IF(EL$7=$F59,$H59,\"\")","v":0},0,{"$f":"IF(EN$7=$F59,$H59,\"\")","v":0},0,{"$f":"IF(EP$7=$F59,$H59,\"\")","v":0},0,{"$f":"IF(ER$7=$F59,$H59,\"\")","v":0},0,{"$f":"IF(ET$7=$F59,$H59,\"\")","v":0},0,{"$f":"IF(EV$7=$F59,$H59,\"\")","v":0},0,{"$f":"IF(EX$7=$F59,$H59,\"\")","v":0},0,{"$f":"IF(EZ$7=$F59,$H59,\"\")","v":0},0,{"$f":"IF(FB$7=$F59,$H59,\"\")","v":0},0,{"$f":"IF(FD$7=$F59,$H59,\"\")","v":0},0,{"$f":"IF(FF$7=$F59,$H59,\"\")","v":0},0,{"$f":"IF(FH$7=$F59,$H59,\"\")","v":0},0,{"$f":"IF(FJ$7=$F59,$H59,\"\")","v":0},0,{"$f":"IF(FL$7=$F59,$H59,\"\")","v":0},0,0]
[52,null,null,null,null,null,null,null,true,0,0,"","","",{"$f":"IF(N$7=$F60,$H60,\"\")","v":""},"",{"$f":"IF(P$7=$F60,$H60,\"\")","v":""},"",{"$f":"IF(R$7=$F60,$H60,\"\")","v":""},"",{"$f":"IF(T$7=$F60,$H60,\"\")","v":""},"",{"$f":"IF(V$7=$F60,$H60,\"\")","v":""},"",{"$f":"IF(X$7=$F60,$H60,\"\")","v":""},"",{"$f":"IF(Z$7=$F60,$H60,\"\")","v":""},"",{"$f":"IF(AB$7=$F60,$H60,\"\")","v":""},"",{"$f":"IF(AD$7=$F60,$H60,\"\")","v":""},"",{"$f":"IF(AF$7=$F60,$H60,\"\")","v":""},"",{"$f":"IF(AH$7=$F60,$H60,\"\")","v":""},"",{"$f":"IF(AJ$7=$F60,$H60,\"\")","v":""},"",{"$f":"IF(AL$7=$F60,$H60,\"\")","v":""},"",{"$f":"IF(AN$7=$F60,$H60,\"\")","v":""},"",{"$f":"IF(AP$7=$F60,$H60,\"\")","v":""},"",{"$f":"IF(AR$7=$F60,$H60,\"\")","v":""},"",{"$f":"IF(AT$7=$F60,$H60,\"\")","v":""},"",{"$f":"IF(AV$7=$F60,$H60,\"\")","v":""},"",{"$f":"IF(AX$7=$F60,$H60,\"\")","v":""},"",{"$f":"IF(AZ$7=$F60,$H60,\"\")","v":""},"",{"$f":"IF(BB$7=$F60,$H60,\"\")","v":""},"",{"$f":"IF(BD$7=$F60,$H60,\"\")","v":""},"",{"$f":"IF(BF$7=$F60,$H60,\"\")","v":""},"",{"$f":"IF(BH$7=$F60,$H60,\"\")","v":""},"",{"$f":"IF(BJ$7=$F60,$H60,\"\")","v":""},"",{"$f":"IF(BL$7=$F60,$H60,\"\")","v":""},"",{"$f":"IF(BN$7=$F60,$H60,\"\")","v":""},"",{"$f":"IF(BP$7=$F60,$H60,\"\")","v":""},"",{"$f":"IF(BR$7=$F60,$H60,\"\")","v":""},"",{"$f":"IF(BT$7=$F60,$H60,\"\")","v":""},"",{"$f":"IF(BV$7=$F60,$H60,\"\")","v":""},"",{"$f":"IF(BX$7=$F60,$H60,\"\")","v":""},"",{"$f":"IF(BZ$7=$F60,$H60,\"\")","v":""},"",{"$f":"IF(CB$7=$F60,$H60,\"\")","v":""},"",{"$f":"IF(CD$7=$F60,$H60,\"\")","v":""},"",{"$f":"IF(CF$7=$F60,$H60,\"\")","v":""},"",{"$f":"IF(CH$7=$F60,$H60,\"\")","v":""},"",{"$f":"IF(CJ$7=$F60,$H60,\"\")","v":""},"",{"$f":"IF(CL$7=$F60,$H60,\"\")","v":""},"",{"$f":"IF(CN$7=$F60,$H60,\"\")","v":""},"",{"$f":"IF(CP$7=$F60,$H60,\"\")","v":""},"",{"$f":"IF(CR$7=$F60,$H60,\"\")","v":""},"",{"$f":"IF(CT$7=$F60,$H60,\"\")","v":""},"",{"$f":"IF(CV$7=$F60,$H60,\"\")","v":""},"",{"$f":"IF(CX$7=$F60,$H60,\"\")","v":""},"",{"$f":"IF(CZ$7=$F60,$H60,\"\")","v":""},"",{"$f":"IF(DB$7=$F60,$H60,\"\")","v":""},"",{"$f":"IF(DD$7=$F60,$H60,\"\")","v":""},"",{"$f":"IF(DF$7=$F60,$H60,\"\")","v":""},0,{"$f":"IF(DH$7=$F60,$H60,\"\")","v":0},0,{"$f":"IF(DJ$7=$F60,$H60,\"\")","v":0},0,{"$f":"IF(DL$7=$F60,$H60,\"\")","v":0},0,{"$f":"IF(DN$7=$F60,$H60,\"\")","v":0},0,{"$f":"IF(DP$7=$F60,$H60,\"\")","v":0},0,{"$f":"IF(DR$7=$F60,$H60,\"\")","v":0},0,{"$f":"IF(DT$7=$F60,$H60,\"\")","v":0},0,{"$f":"IF(DV$7=$F60,$H60,\"\")","v":0},0,{"$f":"IF(DX$7=$F60,$H60,\"\")","v":0},0,{"$f":"IF(DZ$7=$F60,$H60,\"\")","v":0},0,{"$f":"IF(EB$7=$F60,$H60,\"\")","v":0},0,{"$f":"IF(ED$7=$F60,$H60,\"\")","v":0},0,{"$f":"IF(EF$7=$F60,$H60,\"\")","v":0},0,{"$f":"IF(EH$7=$F60,$H60,\"\")","v":0},0,{"$f":"IF(EJ$7=$F60,$H60,\"\")","v":0},0,{"$f":"IF(EL$7=$F60,$H60,\"\")","v":0},0,{"$f":"IF(EN$7=$F60,$H60,\"\")","v":0},0,{"$f":"IF(EP$7=$F60,$H60,\"\")","v":0},0,{"$f":"IF(ER$7=$F60,$H60,\"\")","v":0},0,{"$f":"IF(ET$7=$F60,$H60,\"\")","v":0},0,{"$f":"IF(EV$7=$F60,$H60,\"\")","v":0},0,{"$f":"IF(EX$7=$F60,$H60,\"\")","v":0},0,{"$f":"IF(EZ$7=$F60,$H60,\"\")","v":0},0,{"$f":"IF(FB$7=$F60,$H60,\"\")","v":0},0,{"$f":"IF(FD$7=$F60,$H60,\"\")","v":0},0,{"$f":"IF(FF$7=$F60,$H60,\"\")","v":0},0,{"$f":"IF(FH$7=$F60,$H60,\"\")","v":0},0,{"$f":"IF(FJ$7=$F60,$H60,\"\")","v":0},0,{"$f":"IF(FL$7=$F60,$H60,\"\")","v":0},0,0]
[53,null,null,null,null,null,null,null,true,0,0,"","","",{"$f":"IF(N$7=$F61,$H61,\"\")","v":""},"",{"$f":"IF(P$7=$F61,$H61,\"\")","v":""},"",{"$f":"IF(R$7=$F61,$H61,\"\")","v":""},"",{"$f":"IF(T$7=$F61,$H61,\"\")","v":""},"",{"$f":"IF(V$7=$F61,$H61,\"\")","v":""},"",{"$f":"IF(X$7=$F61,$H61,\"\")","v":""},"",{"$f":"IF(Z$7=$F61,$H61,\"\")","v":""},"",{"$f":"IF(AB$7=$F61,$H61,\"\")","v":""},"",{"$f":"IF(AD$7=$F61,$H61,\"\")","v":""},"",{"$f":"IF(AF$7=$F61,$H61,\"\")","v":""},"",{"$f":"IF(AH$7=$F61,$H61,\"\")","v":""},"",{"$f":"IF(AJ$7=$F61,$H61,\"\")","v":""},"",{"$f":"IF(AL$7=$F61,$H61,\"\")","v":""},"",{"$f":"IF(AN$7=$F61,$H61,\"\")","v":""},"",{"$f":"IF(AP$7=$F61,$H61,\"\")","v":""},"",{"$f":"IF(AR$7=$F61,$H61,\"\")","v":""},"",{"$f":"IF(AT$7=$F61,$H61,\"\")","v":""},"",{"$f":"IF(AV$7=$F61,$H61,\"\")","v":""},"",{"$f":"IF(AX$7=$F61,$H61,\"\")","v":""},"",{"$f":"IF(AZ$7=$F61,$H61,\"\")","v":""},"",{"$f":"IF(BB$7=$F61,$H61,\"\")","v":""},"",{"$f":"IF(BD$7=$F61,$H61,\"\")","v":""},"",{"$f":"IF(BF$7=$F61,$H61,\"\")","v":""},"",{"$f":"IF(BH$7=$F61,$H61,\"\")","v":""},"",{"$f":"IF(BJ$7=$F61,$H61,\"\")","v":""},"",{"$f":"IF(BL$7=$F61,$H61,\"\")","v":""},"",{"$f":"IF(BN$7=$F61,$H61,\"\")","v":""},"",{"$f":"IF(BP$7=$F61,$H61,\"\")","v":""},"",{"$f":"IF(BR$7=$F61,$H61,\"\")","v":""},"",{"$f":"IF(BT$7=$F61,$H61,\"\")","v":""},"",{"$f":"IF(BV$7=$F61,$H61,\"\")","v":""},"",{"$f":"IF(BX$7=$F61,$H61,\"\")","v":""},"",{"$f":"IF(BZ$7=$F61,$H61,\"\")","v":""},"",{"$f":"IF(CB$7=$F61,$H61,\"\")","v":""},"",{"$f":"IF(CD$7=$F61,$H61,\"\")","v":""},"",{"$f":"IF(CF$7=$F61,$H61,\"\")","v":""},"",{"$f":"IF(CH$7=$F61,$H61,\"\")","v":""},"",{"$f":"IF(CJ$7=$F61,$H61,\"\")","v":""},"",{"$f":"IF(CL$7=$F61,$H61,\"\")","v":""},"",{"$f":"IF(CN$7=$F61,$H61,\"\")","v":""},"",{"$f":"IF(CP$7=$F61,$H61,\"\")","v":""},"",{"$f":"IF(CR$7=$F61,$H61,\"\")","v":""},"",{"$f":"IF(CT$7=$F61,$H61,\"\")","v":""},"",{"$f":"IF(CV$7=$F61,$H61,\"\")","v":""},"",{"$f":"IF(CX$7=$F61,$H61,\"\")","v":""},"",{"$f":"IF(CZ$7=$F61,$H61,\"\")","v":""},"",{"$f":"IF(DB$7=$F61,$H61,\"\")","v":""},"",{"$f":"IF(DD$7=$F61,$H61,\"\")","v":""},"",{"$f":"IF(DF$7=$F61,$H61,\"\")","v":""},0,{"$f":"IF(DH$7=$F61,$H61,\"\")","v":0},0,{"$f":"IF(DJ$7=$F61,$H61,\"\")","v":0},0,{"$f":"IF(DL$7=$F61,$H61,\"\")","v":0},0,{"$f":"IF(DN$7=$F61,$H61,\"\")","v":0},0,{"$f":"IF(DP$7=$F61,$H61,\"\")","v":0},0,{"$f":"IF(DR$7=$F61,$H61,\"\")","v":0},0,{"$f":"IF(DT$7=$F61,$H61,\"\")","v":0},0,{"$f":"IF(DV$7=$F61,$H61,\"\")","v":0},0,{"$f":"IF(DX$7=$F61,$H61,\"\")","v":0},0,{"$f":"IF(DZ$7=$F61,$H61,\"\")","v":0},0,{"$f":"IF(EB$7=$F61,$H61,\"\")","v":0},0,{"$f":"IF(ED$7=$F61,$H61,\"\")","v":0},0,{"$f":"IF(EF$7=$F61,$H61,\"\")","v":0},0,{"$f":"IF(EH$7=$F61,$H61,\"\")","v":0},0,{"$f":"IF(EJ$7=$F61,$H61,\"\")","v":0},0,{"$f":"IF(EL$7=$F61,$H61,\"\")","v":0},0,{"$f":"IF(EN$7=$F61,$H61,\"\")","v":0},0,{"$f":"IF(EP$7=$F61,$H61,\"\")","v":0},0,{"$f":"IF(ER$7=$F61,$H61,\"\")","v":0},0,{"$f":"IF(ET$7=$F61,$H61,\"\")","v":0},0,{"$f":"IF(EV$7=$F61,$H61,\"\")","v":0},0,{"$f":"IF(EX$7=$F61,$H61,\"\")","v":0},0,{"$f":"IF(EZ$7=$F61,$H61,\"\")","v":0},0,{"$f":"IF(FB$7=$F61,$H61,\"\")","v":0},0,{"$f":"IF(FD$7=$F61,$H61,\"\")","v":0},0,{"$f":"IF(FF$7=$F61,$H61,\"\")","v":0},0,{"$f":"IF(FH$7=$F61,$H61,\"\")","v":0},0,{"$f":"IF(FJ$7=$F61,$H61,\"\")","v":0},0,{"$f":"IF(FL$7=$F61,$H61,\"\")","v":0},0,0]
[54,null,null,null,null,null,null,null,true,0,0,"","","",{"$f":"IF(N$7=$F62,$H62,\"\")","v":""},"",{"$f":"IF(P$7=$F62,$H62,\"\")","v":""},"",{"$f":"IF(R$7=$F62,$H62,\"\")","v":""},"",{"$f":"IF(T$7=$F62,$H62,\"\")","v":""},"",{"$f":"IF(V$7=$F62,$H62,\"\")","v":""},"",{"$f":"IF(X$7=$F62,$H62,\"\")","v":""},"",{"$f":"IF(Z$7=$F62,$H62,\"\")","v":""},"",{"$f":"IF(AB$7=$F62,$H62,\"\")","v":""},"",{"$f":"IF(AD$7=$F62,$H62,\"\")","v":""},"",{"$f":"IF(AF$7=$F62,$H62,\"\")","v":""},"",{"$f":"IF(AH$7=$F62,$H62,\"\")","v":""},"",{"$f":"IF(AJ$7=$F62,$H62,\"\")","v":""},"",{"$f":"IF(AL$7=$F62,$H62,\"\")","v":""},"",{"$f":"IF(AN$7=$F62,$H62,\"\")","v":""},"",{"$f":"IF(AP$7=$F62,$H62,\"\")","v":""},"",{"$f":"IF(AR$7=$F62,$H62,\"\")","v":""},"",{"$f":"IF(AT$7=$F62,$H62,\"\")","v":""},"",{"$f":"IF(AV$7=$F62,$H62,\"\")","v":""},"",{"$f":"IF(AX$7=$F62,$H62,\"\")","v":""},"",{"$f":"IF(AZ$7=$F62,$H62,\"\")","v":""},"",{"$f":"IF(BB$7=$F62,$H62,\"\")","v":""},"",{"$f":"IF(BD$7=$F62,$H62,\"\")","v":""},"",{"$f":"IF(BF$7=$F62,$H62,\"\")","v":""},"",{"$f":"IF(BH$7=$F62,$H62,\"\")","v":""},"",{"$f":"IF(BJ$7=$F62,$H62,\"\")","v":""},"",{"$f":"IF(BL$7=$F62,$H62,\"\")","v":""},"",{"$f":"IF(BN$7=$F62,$H62,\"\")","v":""},"",{"$f":"IF(BP$7=$F62,$H62,\"\")","v":""},"",{"$f":"IF(BR$7=$F62,$H62,\"\")","v":""},"",{"$f":"IF(BT$7=$F62,$H62,\"\")","v":""},"",{"$f":"IF(BV$7=$F62,$H62,\"\")","v":""},"",{"$f":"IF(BX$7=$F62,$H62,\"\")","v":""},"",{"$f":"IF(BZ$7=$F62,$H62,\"\")","v":""},"",{"$f":"IF(CB$7=$F62,$H62,\"\")","v":""},"",{"$f":"IF(CD$7=$F62,$H62,\"\")","v":""},"",{"$f":"IF(CF$7=$F62,$H62,\"\")","v":""},"",{"$f":"IF(CH$7=$F62,$H62,\"\")","v":""},"",{"$f":"IF(CJ$7=$F62,$H62,\"\")","v":""},"",{"$f":"IF(CL$7=$F62,$H62,\"\")","v":""},"",{"$f":"IF(CN$7=$F62,$H62,\"\")","v":""},"",{"$f":"IF(CP$7=$F62,$H62,\"\")","v":""},"",{"$f":"IF(CR$7=$F62,$H62,\"\")","v":""},"",{"$f":"IF(CT$7=$F62,$H62,\"\")","v":""},"",{"$f":"IF(CV$7=$F62,$H62,\"\")","v":""},"",{"$f":"IF(CX$7=$F62,$H62,\"\")","v":""},"",{"$f":"IF(CZ$7=$F62,$H62,\"\")","v":""},"",{"$f":"IF(DB$7=$F62,$H62,\"\")","v":""},"",{"$f":"IF(DD$7=$F62,$H62,\"\")","v":""},"",{"$f":"IF(DF$7=$F62,$H62,\"\")","v":""},0,{"$f":"IF(DH$7=$F62,$H62,\"\")","v":0},0,{"$f":"IF(DJ$7=$F62,$H62,\"\")","v":0},0,{"$f":"IF(DL$7=$F62,$H62,\"\")","v":0},0,{"$f":"IF(DN$7=$F62,$H62,\"\")","v":0},0,{"$f":"IF(DP$7=$F62,$H62,\"\")","v":0},0,{"$f":"IF(DR$7=$F62,$H62,\"\")","v":0},0,{"$f":"IF(DT$7=$F62,$H62,\"\")","v":0},0,{"$f":"IF(DV$7=$F62,$H62,\"\")","v":0},0,{"$f":"IF(DX$7=$F62,$H62,\"\")","v":0},0,{"$f":"IF(DZ$7=$F62,$H62,\"\")","v":0},0,{"$f":"IF(EB$7=$F62,$H62,\"\")","v":0},0,{"$f":"IF(ED$7=$F62,$H62,\"\")","v":0},0,{"$f":"IF(EF$7=$F62,$H62,\"\")","v":0},0,{"$f":"IF(EH$7=$F62,$H62,\"\")","v":0},0,{"$f":"IF(EJ$7=$F62,$H62,\"\")","v":0},0,{"$f":"IF(EL$7=$F62,$H62,\"\")","v":0},0,{"$f":"IF(EN$7=$F62,$H62,\"\")","v":0},0,{"$f":"IF(EP$7=$F62,$H62,\"\")","v":0},0,{"$f":"IF(ER$7=$F62,$H62,\"\")","v":0},0,{"$f":"IF(ET$7=$F62,$H62,\"\")","v":0},0,{"$f":"IF(EV$7=$F62,$H62,\"\")","v":0},0,{"$f":"IF(EX$7=$F62,$H62,\"\")","v":0},0,{"$f":"IF(EZ$7=$F62,$H62,\"\")","v":0},0,{"$f":"IF(FB$7=$F62,$H62,\"\")","v":0},0,{"$f":"IF(FD$7=$F62,$H62,\"\")","v":0},0,{"$f":"IF(FF$7=$F62,$H62,\"\")","v":0},0,{"$f":"IF(FH$7=$F62,$H62,\"\")","v":0},0,{"$f":"IF(FJ$7=$F62,$H62,\"\")","v":0},0,{"$f":"IF(FL$7=$F62,$H62,\"\")","v":0},0,0]
[55,null,null,null,null,null,null,null,true,0,0,"","","",{"$f":"IF(N$7=$F63,$H63,\"\")","v":""},"",{"$f":"IF(P$7=$F63,$H63,\"\")","v":""},"",{"$f":"IF(R$7=$F63,$H63,\"\")","v":""},"",{"$f":"IF(T$7=$F63,$H63,\"\")","v":""},"",{"$f":"IF(V$7=$F63,$H63,\"\")","v":""},"",{"$f":"IF(X$7=$F63,$H63,\"\")","v":""},"",{"$f":"IF(Z$7=$F63,$H63,\"\")","v":""},"",{"$f":"IF(AB$7=$F63,$H63,\"\")","v":""},"",{"$f":"IF(AD$7=$F63,$H63,\"\")","v":""},"",{"$f":"IF(AF$7=$F63,$H63,\"\")","v":""},"",{"$f":"IF(AH$7=$F63,$H63,\"\")","v":""},"",{"$f":"IF(AJ$7=$F63,$H63,\"\")","v":""},"",{"$f":"IF(AL$7=$F63,$H63,\"\")","v":""},"",{"$f":"IF(AN$7=$F63,$H63,\"\")","v":""},"",{"$f":"IF(AP$7=$F63,$H63,\"\")","v":""},"",{"$f":"IF(AR$7=$F63,$H63,\"\")","v":""},"",{"$f":"IF(AT$7=$F63,$H63,\"\")","v":""},"",{"$f":"IF(AV$7=$F63,$H63,\"\")","v":""},"",{"$f":"IF(AX$7=$F63,$H63,\"\")","v":""},"",{"$f":"IF(AZ$7=$F63,$H63,\"\")","v":""},"",{"$f":"IF(BB$7=$F63,$H63,\"\")","v":""},"",{"$f":"IF(BD$7=$F63,$H63,\"\")","v":""},"",{"$f":"IF(BF$7=$F63,$H63,\"\")","v":""},"",{"$f":"IF(BH$7=$F63,$H63,\"\")","v":""},"",{"$f":"IF(BJ$7=$F63,$H63,\"\")","v":""},"",{"$f":"IF(BL$7=$F63,$H63,\"\")","v":""},"",{"$f":"IF(BN$7=$F63,$H63,\"\")","v":""},"",{"$f":"IF(BP$7=$F63,$H63,\"\")","v":""},"",{"$f":"IF(BR$7=$F63,$H63,\"\")","v":""},"",{"$f":"IF(BT$7=$F63,$H63,\"\")","v":""},"",{"$f":"IF(BV$7=$F63,$H63,\"\")","v":""},"",{"$f":"IF(BX$7=$F63,$H63,\"\")","v":""},"",{"$f":"IF(BZ$7=$F63,$H63,\"\")","v":""},"",{"$f":"IF(CB$7=$F63,$H63,\"\")","v":""},"",{"$f":"IF(CD$7=$F63,$H63,\"\")","v":""},"",{"$f":"IF(CF$7=$F63,$H63,\"\")","v":""},"",{"$f":"IF(CH$7=$F63,$H63,\"\")","v":""},"",{"$f":"IF(CJ$7=$F63,$H63,\"\")","v":""},"",{"$f":"IF(CL$7=$F63,$H63,\"\")","v":""},"",{"$f":"IF(CN$7=$F63,$H63,\"\")","v":""},"",{"$f":"IF(CP$7=$F63,$H63,\"\")","v":""},"",{"$f":"IF(CR$7=$F63,$H63,\"\")","v":""},"",{"$f":"IF(CT$7=$F63,$H63,\"\")","v":""},"",{"$f":"IF(CV$7=$F63,$H63,\"\")","v":""},"",{"$f":"IF(CX$7=$F63,$H63,\"\")","v":""},"",{"$f":"IF(CZ$7=$F63,$H63,\"\")","v":""},"",{"$f":"IF(DB$7=$F63,$H63,\"\")","v":""},"",{"$f":"IF(DD$7=$F63,$H63,\"\")","v":""},"",{"$f":"IF(DF$7=$F63,$H63,\"\")","v":""},0,{"$f":"IF(DH$7=$F63,$H63,\"\")","v":0},0,{"$f":"IF(DJ$7=$F63,$H63,\"\")","v":0},0,{"$f":"IF(DL$7=$F63,$H63,\"\")","v":0},0,{"$f":"IF(DN$7=$F63,$H63,\"\")","v":0},0,{"$f":"IF(DP$7=$F63,$H63,\"\")","v":0},0,{"$f":"IF(DR$7=$F63,$H63,\"\")","v":0},0,{"$f":"IF(DT$7=$F63,$H63,\"\")","v":0},0,{"$f":"IF(DV$7=$F63,$H63,\"\")","v":0},0,{"$f":"IF(DX$7=$F63,$H63,\"\")","v":0},0,{"$f":"IF(DZ$7=$F63,$H63,\"\")","v":0},0,{"$f":"IF(EB$7=$F63,$H63,\"\")","v":0},0,{"$f":"IF(ED$7=$F63,$H63,\"\")","v":0},0,{"$f":"IF(EF$7=$F63,$H63,\"\")","v":0},0,{"$f":"IF(EH$7=$F63,$H63,\"\")","v":0},0,{"$f":"IF(EJ$7=$F63,$H63,\"\")","v":0},0,{"$f":"IF(EL$7=$F63,$H63,\"\")","v":0},0,{"$f":"IF(EN$7=$F63,$H63,\"\")","v":0},0,{"$f":"IF(EP$7=$F63,$H63,\"\")","v":0},0,{"$f":"IF(ER$7=$F63,$H63,\"\")","v":0},0,{"$f":"IF(ET$7=$F63,$H63,\"\")","v":0},0,{"$f":"IF(EV$7=$F63,$H63,\"\")","v":0},0,{"$f":"IF(EX$7=$F63,$H63,\"\")","v":0},0,{"$f":"IF(EZ$7=$F63,$H63,\"\")","v":0},0,{"$f":"IF(FB$7=$F63,$H63,\"\")","v":0},0,{"$f":"IF(FD$7=$F63,$H63,\"\")","v":0},0,{"$f":"IF(FF$7=$F63,$H63,\"\")","v":0},0,{"$f":"IF(FH$7=$F63,$H63,\"\")","v":0},0,{"$f":"IF(FJ$7=$F63,$H63,\"\")","v":0},0,{"$f":"IF(FL$7=$F63,$H63,\"\")","v":0},0,0]
[56,null,null,null,null,null,null,null,true,0,0,"","","",{"$f":"IF(N$7=$F64,$H64,\"\")","v":""},"",{"$f":"IF(P$7=$F64,$H64,\"\")","v":""},"",{"$f":"IF(R$7=$F64,$H64,\"\")","v":""},"",{"$f":"IF(T$7=$F64,$H64,\"\")","v":""},"",{"$f":"IF(V$7=$F64,$H64,\"\")","v":""},"",{"$f":"IF(X$7=$F64,$H64,\"\")","v":""},"",{"$f":"IF(Z$7=$F64,$H64,\"\")","v":""},"",{"$f":"IF(AB$7=$F64,$H64,\"\")","v":""},"",{"$f":"IF(AD$7=$F64,$H64,\"\")","v":""},"",{"$f":"IF(AF$7=$F64,$H64,\"\")","v":""},"",{"$f":"IF(AH$7=$F64,$H64,\"\")","v":""},"",{"$f":"IF(AJ$7=$F64,$H64,\"\")","v":""},"",{"$f":"IF(AL$7=$F64,$H64,\"\")","v":""},"",{"$f":"IF(AN$7=$F64,$H64,\"\")","v":""},"",{"$f":"IF(AP$7=$F64,$H64,\"\")","v":""},"",{"$f":"IF(AR$7=$F64,$H64,\"\")","v":""},"",{"$f":"IF(AT$7=$F64,$H64,\"\")","v":""},"",{"$f":"IF(AV$7=$F64,$H64,\"\")","v":""},"",{"$f":"IF(AX$7=$F64,$H64,\"\")","v":""},"",{"$f":"IF(AZ$7=$F64,$H64,\"\")","v":""},"",{"$f":"IF(BB$7=$F64,$H64,\"\")","v":""},"",{"$f":"IF(BD$7=$F64,$H64,\"\")","v":""},"",{"$f":"IF(BF$7=$F64,$H64,\"\")","v":""},"",{"$f":"IF(BH$7=$F64,$H64,\"\")","v":""},"",{"$f":"IF(BJ$7=$F64,$H64,\"\")","v":""},"",{"$f":"IF(BL$7=$F64,$H64,\"\")","v":""},"",{"$f":"IF(BN$7=$F64,$H64,\"\")","v":""},"",{"$f":"IF(BP$7=$F64,$H64,\"\")","v":""},"",{"$f":"IF(BR$7=$F64,$H64,\"\")","v":""},"",{"$f":"IF(BT$7=$F64,$H64,\"\")","v":""},"",{"$f":"IF(BV$7=$F64,$H64,\"\")","v":""},"",{"$f":"IF(BX$7=$F64,$H64,\"\")","v":""},"",{"$f":"IF(BZ$7=$F64,$H64,\"\")","v":""},"",{"$f":"IF(CB$7=$F64,$H64,\"\")","v":""},"",{"$f":"IF(CD$7=$F64,$H64,\"\")","v":""},"",{"$f":"IF(CF$7=$F64,$H64,\"\")","v":""},"",{"$f":"IF(CH$7=$F64,$H64,\"\")","v":""},"",{"$f":"IF(CJ$7=$F64,$H64,\"\")","v":""},"",{"$f":"IF(CL$7=$F64,$H64,\"\")","v":""},"",{"$f":"IF(CN$7=$F64,$H64,\"\")","v":""},"",{"$f":"IF(CP$7=$F64,$H64,\"\")","v":""},"",{"$f":"IF(CR$7=$F64,$H64,\"\")","v":""},"",{"$f":"IF(CT$7=$F64,$H64,\"\")","v":""},"",{"$f":"IF(CV$7=$F64,$H64,\"\")","v":""},"",{"$f":"IF(CX$7=$F64,$H64,\"\")","v":""},"",{"$f":"IF(CZ$7=$F64,$H64,\"\")","v":""},"",{"$f":"IF(DB$7=$F64,$H64,\"\")","v":""},"",{"$f":"IF(DD$7=$F64,$H64,\"\")","v":""},"",{"$f":"IF(DF$7=$F64,$H64,\"\")","v":""},0,{"$f":"IF(DH$7=$F64,$H64,\"\")","v":0},0,{"$f":"IF(DJ$7=$F64,$H64,\"\")","v":0},0,{"$f":"IF(DL$7=$F64,$H64,\"\")","v":0},0,{"$f":"IF(DN$7=$F64,$H64,\"\")","v":0},0,{"$f":"IF(DP$7=$F64,$H64,\"\")","v":0},0,{"$f":"IF(DR$7=$F64,$H64,\"\")","v":0},0,{"$f":"IF(DT$7=$F64,$H64,\"\")","v":0},0,{"$f":"IF(DV$7=$F64,$H64,\"\")","v":0},0,{"$f":"IF(DX$7=$F64,$H64,\"\")","v":0},0,{"$f":"IF(DZ$7=$F64,$H64,\"\")","v":0},0,{"$f":"IF(EB$7=$F64,$H64,\"\")","v":0},0,{"$f":"IF(ED$7=$F64,$H64,\"\")","v":0},0,{"$f":"IF(EF$7=$F64,$H64,\"\")","v":0},0,{"$f":"IF(EH$7=$F64,$H64,\"\")","v":0},0,{"$f":"IF(EJ$7=$F64,$H64,\"\")","v":0},0,{"$f":"IF(EL$7=$F64,$H64,\"\")","v":0},0,{"$f":"IF(EN$7=$F64,$H64,\"\")","v":0},0,{"$f":"IF(EP$7=$F64,$H64,\"\")","v":0},0,{"$f":"IF(ER$7=$F64,$H64,\"\")","v":0},0,{"$f":"IF(ET$7=$F64,$H64,\"\")","v":0},0,{"$f":"IF(EV$7=$F64,$H64,\"\")","v":0},0,{"$f":"IF(EX$7=$F64,$H64,\"\")","v":0},0,{"$f":"IF(EZ$7=$F64,$H64,\"\")","v":0},0,{"$f":"IF(FB$7=$F64,$H64,\"\")","v":0},0,{"$f":"IF(FD$7=$F64,$H64,\"\")","v":0},0,{"$f":"IF(FF$7=$F64,$H64,\"\")","v":0},0,{"$f":"IF(FH$7=$F64,$H64,\"\")","v":0},0,{"$f":"IF(FJ$7=$F64,$H64,\"\")","v":0},0,{"$f":"IF(FL$7=$F64,$H64,\"\")","v":0},0,0]
[57,null,null,null,null,null,null,null,true,0,0,"","","",{"$f":"IF(N$7=$F65,$H65,\"\")","v":""},"",{"$f":"IF(P$7=$F65,$H65,\"\")","v":""},"",{"$f":"IF(R$7=$F65,$H65,\"\")","v":""},"",{"$f":"IF(T$7=$F65,$H65,\"\")","v":""},"",{"$f":"IF(V$7=$F65,$H65,\"\")","v":""},"",{"$f":"IF(X$7=$F65,$H65,\"\")","v":""},"",{"$f":"IF(Z$7=$F65,$H65,\"\")","v":""},"",{"$f":"IF(AB$7=$F65,$H65,\"\")","v":""},"",{"$f":"IF(AD$7=$F65,$H65,\"\")","v":""},"",{"$f":"IF(AF$7=$F65,$H65,\"\")","v":""},"",{"$f":"IF(AH$7=$F65,$H65,\"\")","v":""},"",{"$f":"IF(AJ$7=$F65,$H65,\"\")","v":""},"",{"$f":"IF(AL$7=$F65,$H65,\"\")","v":""},"",{"$f":"IF(AN$7=$F65,$H65,\"\")","v":""},"",{"$f":"IF(AP$7=$F65,$H65,\"\")","v":""},"",{"$f":"IF(AR$7=$F65,$H65,\"\")","v":""},"",{"$f":"IF(AT$7=$F65,$H65,\"\")","v":""},"",{"$f":"IF(AV$7=$F65,$H65,\"\")","v":""},"",{"$f":"IF(AX$7=$F65,$H65,\"\")","v":""},"",{"$f":"IF(AZ$7=$F65,$H65,\"\")","v":""},"",{"$f":"IF(BB$7=$F65,$H65,\"\")","v":""},"",{"$f":"IF(BD$7=$F65,$H65,\"\")","v":""},"",{"$f":"IF(BF$7=$F65,$H65,\"\")","v":""},"",{"$f":"IF(BH$7=$F65,$H65,\"\")","v":""},"",{"$f":"IF(BJ$7=$F65,$H65,\"\")","v":""},"",{"$f":"IF(BL$7=$F65,$H65,\"\")","v":""},"",{"$f":"IF(BN$7=$F65,$H65,\"\")","v":""},"",{"$f":"IF(BP$7=$F65,$H65,\"\")","v":""},"",{"$f":"IF(BR$7=$F65,$H65,\"\")","v":""},"",{"$f":"IF(BT$7=$F65,$H65,\"\")","v":""},"",{"$f":"IF(BV$7=$F65,$H65,\"\")","v":""},"",{"$f":"IF(BX$7=$F65,$H65,\"\")","v":""},"",{"$f":"IF(BZ$7=$F65,$H65,\"\")","v":""},"",{"$f":"IF(CB$7=$F65,$H65,\"\")","v":""},"",{"$f":"IF(CD$7=$F65,$H65,\"\")","v":""},"",{"$f":"IF(CF$7=$F65,$H65,\"\")","v":""},"",{"$f":"IF(CH$7=$F65,$H65,\"\")","v":""},"",{"$f":"IF(CJ$7=$F65,$H65,\"\")","v":""},"",{"$f":"IF(CL$7=$F65,$H65,\"\")","v":""},"",{"$f":"IF(CN$7=$F65,$H65,\"\")","v":""},"",{"$f":"IF(CP$7=$F65,$H65,\"\")","v":""},"",{"$f":"IF(CR$7=$F65,$H65,\"\")","v":""},"",{"$f":"IF(CT$7=$F65,$H65,\"\")","v":""},"",{"$f":"IF(CV$7=$F65,$H65,\"\")","v":""},"",{"$f":"IF(CX$7=$F65,$H65,\"\")","v":""},"",{"$f":"IF(CZ$7=$F65,$H65,\"\")","v":""},"",{"$f":"IF(DB$7=$F65,$H65,\"\")","v":""},"",{"$f":"IF(DD$7=$F65,$H65,\"\")","v":""},"",{"$f":"IF(DF$7=$F65,$H65,\"\")","v":""},0,{"$f":"IF(DH$7=$F65,$H65,\"\")","v":0},0,{"$f":"IF(DJ$7=$F65,$H65,\"\")","v":0},0,{"$f":"IF(DL$7=$F65,$H65,\"\")","v":0},0,{"$f":"IF(DN$7=$F65,$H65,\"\")","v":0},0,{"$f":"IF(DP$7=$F65,$H65,\"\")","v":0},0,{"$f":"IF(DR$7=$F65,$H65,\"\")","v":0},0,{"$f":"IF(DT$7=$F65,$H65,\"\")","v":0},0,{"$f":"IF(DV$7=$F65,$H65,\"\")","v":0},0,{"$f":"IF(DX$7=$F65,$H65,\"\")","v":0},0,{"$f":"IF(DZ$7=$F65,$H65,\"\")","v":0},0,{"$f":"IF(EB$7=$F65,$H65,\"\")","v":0},0,{"$f":"IF(ED$7=$F65,$H65,\"\")","v":0},0,{"$f":"IF(EF$7=$F65,$H65,\"\")","v":0},0,{"$f":"IF(EH$7=$F65,$H65,\"\")","v":0},0,{"$f":"IF(EJ$7=$F65,$H65,\"\")","v":0},0,{"$f":"IF(EL$7=$F65,$H65,\"\")","v":0},0,{"$f":"IF(EN$7=$F65,$H65,\"\")","v":0},0,{"$f":"IF(EP$7=$F65,$H65,\"\")","v":0},0,{"$f":"IF(ER$7=$F65,$H65,\"\")","v":0},0,{"$f":"IF(ET$7=$F65,$H65,\"\")","v":0},0,{"$f":"IF(EV$7=$F65,$H65,\"\")","v":0},0,{"$f":"IF(EX$7=$F65,$H65,\"\")","v":0},0,{"$f":"IF(EZ$7=$F65,$H65,\"\")","v":0},0,{"$f":"IF(FB$7=$F65,$H65,\"\")","v":0},0,{"$f":"IF(FD$7=$F65,$H65,\"\")","v":0},0,{"$f":"IF(FF$7=$F65,$H65,\"\")","v":0},0,{"$f":"IF(FH$7=$F65,$H65,\"\")","v":0},0,{"$f":"IF(FJ$7=$F65,$H65,\"\")","v":0},0,{"$f":"IF(FL$7=$F65,$H65,\"\")","v":0},0,0]
[58,null,null,null,null,null,null,null,true,0,0,"","","",{"$f":"IF(N$7=$F66,$H66,\"\")","v":""},"",{"$f":"IF(P$7=$F66,$H66,\"\")","v":""},"",{"$f":"IF(R$7=$F66,$H66,\"\")","v":""},"",{"$f":"IF(T$7=$F66,$H66,\"\")","v":""},"",{"$f":"IF(V$7=$F66,$H66,\"\")","v":""},"",{"$f":"IF(X$7=$F66,$H66,\"\")","v":""},"",{"$f":"IF(Z$7=$F66,$H66,\"\")","v":""},"",{"$f":"IF(AB$7=$F66,$H66,\"\")","v":""},"",{"$f":"IF(AD$7=$F66,$H66,\"\")","v":""},"",{"$f":"IF(AF$7=$F66,$H66,\"\")","v":""},"",{"$f":"IF(AH$7=$F66,$H66,\"\")","v":""},"",{"$f":"IF(AJ$7=$F66,$H66,\"\")","v":""},"",{"$f":"IF(AL$7=$F66,$H66,\"\")","v":""},"",{"$f":"IF(AN$7=$F66,$H66,\"\")","v":""},"",{"$f":"IF(AP$7=$F66,$H66,\"\")","v":""},"",{"$f":"IF(AR$7=$F66,$H66,\"\")","v":""},"",{"$f":"IF(AT$7=$F66,$H66,\"\")","v":""},"",{"$f":"IF(AV$7=$F66,$H66,\"\")","v":""},"",{"$f":"IF(AX$7=$F66,$H66,\"\")","v":""},"",{"$f":"IF(AZ$7=$F66,$H66,\"\")","v":""},"",{"$f":"IF(BB$7=$F66,$H66,\"\")","v":""},"",{"$f":"IF(BD$7=$F66,$H66,\"\")","v":""},"",{"$f":"IF(BF$7=$F66,$H66,\"\")","v":""},"",{"$f":"IF(BH$7=$F66,$H66,\"\")","v":""},"",{"$f":"IF(BJ$7=$F66,$H66,\"\")","v":""},"",{"$f":"IF(BL$7=$F66,$H66,\"\")","v":""},"",{"$f":"IF(BN$7=$F66,$H66,\"\")","v":""},"",{"$f":"IF(BP$7=$F66,$H66,\"\")","v":""},"",{"$f":"IF(BR$7=$F66,$H66,\"\")","v":""},"",{"$f":"IF(BT$7=$F66,$H66,\"\")","v":""},"",{"$f":"IF(BV$7=$F66,$H66,\"\")","v":""},"",{"$f":"IF(BX$7=$F66,$H66,\"\")","v":""},"",{"$f":"IF(BZ$7=$F66,$H66,\"\")","v":""},"",{"$f":"IF(CB$7=$F66,$H66,\"\")","v":""},"",{"$f":"IF(CD$7=$F66,$H66,\"\")","v":""},"",{"$f":"IF(CF$7=$F66,$H66,\"\")","v":""},"",{"$f":"IF(CH$7=$F66,$H66,\"\")","v":""},"",{"$f":"IF(CJ$7=$F66,$H66,\"\")","v":""},"",{"$f":"IF(CL$7=$F66,$H66,\"\")","v":""},"",{"$f":"IF(CN$7=$F66,$H66,\"\")","v":""},"",{"$f":"IF(CP$7=$F66,$H66,\"\")","v":""},"",{"$f":"IF(CR$7=$F66,$H66,\"\")","v":""},"",{"$f":"IF(CT$7=$F66,$H66,\"\")","v":""},"",{"$f":"IF(CV$7=$F66,$H66,\"\")","v":""},"",{"$f":"IF(CX$7=$F66,$H66,\"\")","v":""},"",{"$f":"IF(CZ$7=$F66,$H66,\"\")","v":""},"",{"$f":"IF(DB$7=$F66,$H66,\"\")","v":""},"",{"$f":"IF(DD$7=$F66,$H66,\"\")","v":""},"",{"$f":"IF(DF$7=$F66,$H66,\"\")","v":""},0,{"$f":"IF(DH$7=$F66,$H66,\"\")","v":0},0,{"$f":"IF(DJ$7=$F66,$H66,\"\")","v":0},0,{"$f":"IF(DL$7=$F66,$H66,\"\")","v":0},0,{"$f":"IF(DN$7=$F66,$H66,\"\")","v":0},0,{"$f":"IF(DP$7=$F66,$H66,\"\")","v":0},0,{"$f":"IF(DR$7=$F66,$H66,\"\")","v":0},0,{"$f":"IF(DT$7=$F66,$H66,\"\")","v":0},0,{"$f":"IF(DV$7=$F66,$H66,\"\")","v":0},0,{"$f":"IF(DX$7=$F66,$H66,\"\")","v":0},0,{"$f":"IF(DZ$7=$F66,$H66,\"\")","v":0},0,{"$f":"IF(EB$7=$F66,$H66,\"\")","v":0},0,{"$f":"IF(ED$7=$F66,$H66,\"\")","v":0},0,{"$f":"IF(EF$7=$F66,$H66,\"\")","v":0},0,{"$f":"IF(EH$7=$F66,$H66,\"\")","v":0},0,{"$f":"IF(EJ$7=$F66,$H66,\"\")","v":0},0,{"$f":"IF(EL$7=$F66,$H66,\"\")","v":0},0,{"$f":"IF(EN$7=$F66,$H66,\"\")","v":0},0,{"$f":"IF(EP$7=$F66,$H66,\"\")","v":0},0,{"$f":"IF(ER$7=$F66,$H66,\"\")","v":0},0,{"$f":"IF(ET$7=$F66,$H66,\"\")","v":0},0,{"$f":"IF(EV$7=$F66,$H66,\"\")","v":0},0,{"$f":"IF(EX$7=$F66,$H66,\"\")","v":0},0,{"$f":"IF(EZ$7=$F66,$H66,\"\")","v":0},0,{"$f":"IF(FB$7=$F66,$H66,\"\")","v":0},0,{"$f":"IF(FD$7=$F66,$H66,\"\")","v":0},0,{"$f":"IF(FF$7=$F66,$H66,\"\")","v":0},0,{"$f":"IF(FH$7=$F66,$H66,\"\")","v":0},0,{"$f":"IF(FJ$7=$F66,$H66,\"\")","v":0},0,{"$f":"IF(FL$7=$F66,$H66,\"\")","v":0},0,0]
[59,null,null,null,null,null,null,null,true,0,0,"","","",{"$f":"IF(N$7=$F67,$H67,\"\")","v":""},"",{"$f":"IF(P$7=$F67,$H67,\"\")","v":""},"",{"$f":"IF(R$7=$F67,$H67,\"\")","v":""},"",{"$f":"IF(T$7=$F67,$H67,\"\")","v":""},"",{"$f":"IF(V$7=$F67,$H67,\"\")","v":""},"",{"$f":"IF(X$7=$F67,$H67,\"\")","v":""},"",{"$f":"IF(Z$7=$F67,$H67,\"\")","v":""},"",{"$f":"IF(AB$7=$F67,$H67,\"\")","v":""},"",{"$f":"IF(AD$7=$F67,$H67,\"\")","v":""},"",{"$f":"IF(AF$7=$F67,$H67,\"\")","v":""},"",{"$f":"IF(AH$7=$F67,$H67,\"\")","v":""},"",{"$f":"IF(AJ$7=$F67,$H67,\"\")","v":""},"",{"$f":"IF(AL$7=$F67,$H67,\"\")","v":""},"",{"$f":"IF(AN$7=$F67,$H67,\"\")","v":""},"",{"$f":"IF(AP$7=$F67,$H67,\"\")","v":""},"",{"$f":"IF(AR$7=$F67,$H67,\"\")","v":""},"",{"$f":"IF(AT$7=$F67,$H67,\"\")","v":""},"",{"$f":"IF(AV$7=$F67,$H67,\"\")","v":""},"",{"$f":"IF(AX$7=$F67,$H67,\"\")","v":""},"",{"$f":"IF(AZ$7=$F67,$H67,\"\")","v":""},"",{"$f":"IF(BB$7=$F67,$H67,\"\")","v":""},"",{"$f":"IF(BD$7=$F67,$H67,\"\")","v":""},"",{"$f":"IF(BF$7=$F67,$H67,\"\")","v":""},"",{"$f":"IF(BH$7=$F67,$H67,\"\")","v":""},"",{"$f":"IF(BJ$7=$F67,$H67,\"\")","v":""},"",{"$f":"IF(BL$7=$F67,$H67,\"\")","v":""},"",{"$f":"IF(BN$7=$F67,$H67,\"\")","v":""},"",{"$f":"IF(BP$7=$F67,$H67,\"\")","v":""},"",{"$f":"IF(BR$7=$F67,$H67,\"\")","v":""},"",{"$f":"IF(BT$7=$F67,$H67,\"\")","v":""},"",{"$f":"IF(BV$7=$F67,$H67,\"\")","v":""},"",{"$f":"IF(BX$7=$F67,$H67,\"\")","v":""},"",{"$f":"IF(BZ$7=$F67,$H67,\"\")","v":""},"",{"$f":"IF(CB$7=$F67,$H67,\"\")","v":""},"",{"$f":"IF(CD$7=$F67,$H67,\"\")","v":""},"",{"$f":"IF(CF$7=$F67,$H67,\"\")","v":""},"",{"$f":"IF(CH$7=$F67,$H67,\"\")","v":""},"",{"$f":"IF(CJ$7=$F67,$H67,\"\")","v":""},"",{"$f":"IF(CL$7=$F67,$H67,\"\")","v":""},"",{"$f":"IF(CN$7=$F67,$H67,\"\")","v":""},"",{"$f":"IF(CP$7=$F67,$H67,\"\")","v":""},"",{"$f":"IF(CR$7=$F67,$H67,\"\")","v":""},"",{"$f":"IF(CT$7=$F67,$H67,\"\")","v":""},"",{"$f":"IF(CV$7=$F67,$H67,\"\")","v":""},"",{"$f":"IF(CX$7=$F67,$H67,\"\")","v":""},"",{"$f":"IF(CZ$7=$F67,$H67,\"\")","v":""},"",{"$f":"IF(DB$7=$F67,$H67,\"\")","v":""},"",{"$f":"IF(DD$7=$F67,$H67,\"\")","v":""},"",{"$f":"IF(DF$7=$F67,$H67,\"\")","v":""},0,{"$f":"IF(DH$7=$F67,$H67,\"\")","v":0},0,{"$f":"IF(DJ$7=$F67,$H67,\"\")","v":0},0,{"$f":"IF(DL$7=$F67,$H67,\"\")","v":0},0,{"$f":"IF(DN$7=$F67,$H67,\"\")","v":0},0,{"$f":"IF(DP$7=$F67,$H67,\"\")","v":0},0,{"$f":"IF(DR$7=$F67,$H67,\"\")","v":0},0,{"$f":"IF(DT$7=$F67,$H67,\"\")","v":0},0,{"$f":"IF(DV$7=$F67,$H67,\"\")","v":0},0,{"$f":"IF(DX$7=$F67,$H67,\"\")","v":0},0,{"$f":"IF(DZ$7=$F67,$H67,\"\")","v":0},0,{"$f":"IF(EB$7=$F67,$H67,\"\")","v":0},0,{"$f":"IF(ED$7=$F67,$H67,\"\")","v":0},0,{"$f":"IF(EF$7=$F67,$H67,\"\")","v":0},0,{"$f":"IF(EH$7=$F67,$H67,\"\")","v":0},0,{"$f":"IF(EJ$7=$F67,$H67,\"\")","v":0},0,{"$f":"IF(EL$7=$F67,$H67,\"\")","v":0},0,{"$f":"IF(EN$7=$F67,$H67,\"\")","v":0},0,{"$f":"IF(EP$7=$F67,$H67,\"\")","v":0},0,{"$f":"IF(ER$7=$F67,$H67,\"\")","v":0},0,{"$f":"IF(ET$7=$F67,$H67,\"\")","v":0},0,{"$f":"IF(EV$7=$F67,$H67,\"\")","v":0},0,{"$f":"IF(EX$7=$F67,$H67,\"\")","v":0},0,{"$f":"IF(EZ$7=$F67,$H67,\"\")","v":0},0,{"$f":"IF(FB$7=$F67,$H67,\"\")","v":0},0,{"$f":"IF(FD$7=$F67,$H67,\"\")","v":0},0,{"$f":"IF(FF$7=$F67,$H67,\"\")","v":0},0,{"$f":"IF(FH$7=$F67,$H67,\"\")","v":0},0,{"$f":"IF(FJ$7=$F67,$H67,\"\")","v":0},0,{"$f":"IF(FL$7=$F67,$H67,\"\")","v":0},0,0]
[60,null,null,null,null,null,null,null,true,0,0,"","","",{"$f":"IF(N$7=$F68,$H68,\"\")","v":""},"",{"$f":"IF(P$7=$F68,$H68,\"\")","v":""},"",{"$f":"IF(R$7=$F68,$H68,\"\")","v":""},"",{"$f":"IF(T$7=$F68,$H68,\"\")","v":""},"",{"$f":"IF(V$7=$F68,$H68,\"\")","v":""},"",{"$f":"IF(X$7=$F68,$H68,\"\")","v":""},"",{"$f":"IF(Z$7=$F68,$H68,\"\")","v":""},"",{"$f":"IF(AB$7=$F68,$H68,\"\")","v":""},"",{"$f":"IF(AD$7=$F68,$H68,\"\")","v":""},"",{"$f":"IF(AF$7=$F68,$H68,\"\")","v":""},"",{"$f":"IF(AH$7=$F68,$H68,\"\")","v":""},"",{"$f":"IF(AJ$7=$F68,$H68,\"\")","v":""},"",{"$f":"IF(AL$7=$F68,$H68,\"\")","v":""},"",{"$f":"IF(AN$7=$F68,$H68,\"\")","v":""},"",{"$f":"IF(AP$7=$F68,$H68,\"\")","v":""},"",{"$f":"IF(AR$7=$F68,$H68,\"\")","v":""},"",{"$f":"IF(AT$7=$F68,$H68,\"\")","v":""},"",{"$f":"IF(AV$7=$F68,$H68,\"\")","v":""},"",{"$f":"IF(AX$7=$F68,$H68,\"\")","v":""},"",{"$f":"IF(AZ$7=$F68,$H68,\"\")","v":""},"",{"$f":"IF(BB$7=$F68,$H68,\"\")","v":""},"",{"$f":"IF(BD$7=$F68,$H68,\"\")","v":""},"",{"$f":"IF(BF$7=$F68,$H68,\"\")","v":""},"",{"$f":"IF(BH$7=$F68,$H68,\"\")","v":""},"",{"$f":"IF(BJ$7=$F68,$H68,\"\")","v":""},"",{"$f":"IF(BL$7=$F68,$H68,\"\")","v":""},"",{"$f":"IF(BN$7=$F68,$H68,\"\")","v":""},"",{"$f":"IF(BP$7=$F68,$H68,\"\")","v":""},"",{"$f":"IF(BR$7=$F68,$H68,\"\")","v":""},"",{"$f":"IF(BT$7=$F68,$H68,\"\")","v":""},"",{"$f":"IF(BV$7=$F68,$H68,\"\")","v":""},"",{"$f":"IF(BX$7=$F68,$H68,\"\")","v":""},"",{"$f":"IF(BZ$7=$F68,$H68,\"\")","v":""},"",{"$f":"IF(CB$7=$F68,$H68,\"\")","v":""},"",{"$f":"IF(CD$7=$F68,$H68,\"\")","v":""},"",{"$f":"IF(CF$7=$F68,$H68,\"\")","v":""},"",{"$f":"IF(CH$7=$F68,$H68,\"\")","v":""},"",{"$f":"IF(CJ$7=$F68,$H68,\"\")","v":""},"",{"$f":"IF(CL$7=$F68,$H68,\"\")","v":""},"",{"$f":"IF(CN$7=$F68,$H68,\"\")","v":""},"",{"$f":"IF(CP$7=$F68,$H68,\"\")","v":""},"",{"$f":"IF(CR$7=$F68,$H68,\"\")","v":""},"",{"$f":"IF(CT$7=$F68,$H68,\"\")","v":""},"",{"$f":"IF(CV$7=$F68,$H68,\"\")","v":""},"",{"$f":"IF(CX$7=$F68,$H68,\"\")","v":""},"",{"$f":"IF(CZ$7=$F68,$H68,\"\")","v":""},"",{"$f":"IF(DB$7=$F68,$H68,\"\")","v":""},"",{"$f":"IF(DD$7=$F68,$H68,\"\")","v":""},"",{"$f":"IF(DF$7=$F68,$H68,\"\")","v":""},0,{"$f":"IF(DH$7=$F68,$H68,\"\")","v":0},0,{"$f":"IF(DJ$7=$F68,$H68,\"\")","v":0},0,{"$f":"IF(DL$7=$F68,$H68,\"\")","v":0},0,{"$f":"IF(DN$7=$F68,$H68,\"\")","v":0},0,{"$f":"IF(DP$7=$F68,$H68,\"\")","v":0},0,{"$f":"IF(DR$7=$F68,$H68,\"\")","v":0},0,{"$f":"IF(DT$7=$F68,$H68,\"\")","v":0},0,{"$f":"IF(DV$7=$F68,$H68,\"\")","v":0},0,{"$f":"IF(DX$7=$F68,$H68,\"\")","v":0},0,{"$f":"IF(DZ$7=$F68,$H68,\"\")","v":0},0,{"$f":"IF(EB$7=$F68,$H68,\"\")","v":0},0,{"$f":"IF(ED$7=$F68,$H68,\"\")","v":0},0,{"$f":"IF(EF$7=$F68,$H68,\"\")","v":0},0,{"$f":"IF(EH$7=$F68,$H68,\"\")","v":0},0,{"$f":"IF(EJ$7=$F68,$H68,\"\")","v":0},0,{"$f":"IF(EL$7=$F68,$H68,\"\")","v":0},0,{"$f":"IF(EN$7=$F68,$H68,\"\")","v":0},0,{"$f":"IF(EP$7=$F68,$H68,\"\")","v":0},0,{"$f":"IF(ER$7=$F68,$H68,\"\")","v":0},0,{"$f":"IF(ET$7=$F68,$H68,\"\")","v":0},0,{"$f":"IF(EV$7=$F68,$H68,\"\")","v":0},0,{"$f":"IF(EX$7=$F68,$H68,\"\")","v":0},0,{"$f":"IF(EZ$7=$F68,$H68,\"\")","v":0},0,{"$f":"IF(FB$7=$F68,$H68,\"\")","v":0},0,{"$f":"IF(FD$7=$F68,$H68,\"\")","v":0},0,{"$f":"IF(FF$7=$F68,$H68,\"\")","v":0},0,{"$f":"IF(FH$7=$F68,$H68,\"\")","v":0},0,{"$f":"IF(FJ$7=$F68,$H68,\"\")","v":0},0,{"$f":"IF(FL$7=$F68,$H68,\"\")","v":0},0,0]
[61,null,null,null,null,null,null,null,true,0,0,"","","",{"$f":"IF(N$7=$F69,$H69,\"\")","v":""},"",{"$f":"IF(P$7=$F69,$H69,\"\")","v":""},"",{"$f":"IF(R$7=$F69,$H69,\"\")","v":""},"",{"$f":"IF(T$7=$F69,$H69,\"\")","v":""},"",{"$f":"IF(V$7=$F69,$H69,\"\")","v":""},"",{"$f":"IF(X$7=$F69,$H69,\"\")","v":""},"",{"$f":"IF(Z$7=$F69,$H69,\"\")","v":""},"",{"$f":"IF(AB$7=$F69,$H69,\"\")","v":""},"",{"$f":"IF(AD$7=$F69,$H69,\"\")","v":""},"",{"$f":"IF(AF$7=$F69,$H69,\"\")","v":""},"",{"$f":"IF(AH$7=$F69,$H69,\"\")","v":""},"",{"$f":"IF(AJ$7=$F69,$H69,\"\")","v":""},"",{"$f":"IF(AL$7=$F69,$H69,\"\")","v":""},"",{"$f":"IF(AN$7=$F69,$H69,\"\")","v":""},"",{"$f":"IF(AP$7=$F69,$H69,\"\")","v":""},"",{"$f":"IF(AR$7=$F69,$H69,\"\")","v":""},"",{"$f":"IF(AT$7=$F69,$H69,\"\")","v":""},"",{"$f":"IF(AV$7=$F69,$H69,\"\")","v":""},"",{"$f":"IF(AX$7=$F69,$H69,\"\")","v":""},"",{"$f":"IF(AZ$7=$F69,$H69,\"\")","v":""},"",{"$f":"IF(BB$7=$F69,$H69,\"\")","v":""},"",{"$f":"IF(BD$7=$F69,$H69,\"\")","v":""},"",{"$f":"IF(BF$7=$F69,$H69,\"\")","v":""},"",{"$f":"IF(BH$7=$F69,$H69,\"\")","v":""},"",{"$f":"IF(BJ$7=$F69,$H69,\"\")","v":""},"",{"$f":"IF(BL$7=$F69,$H69,\"\")","v":""},"",{"$f":"IF(BN$7=$F69,$H69,\"\")","v":""},"",{"$f":"IF(BP$7=$F69,$H69,\"\")","v":""},"",{"$f":"IF(BR$7=$F69,$H69,\"\")","v":""},"",{"$f":"IF(BT$7=$F69,$H69,\"\")","v":""},"",{"$f":"IF(BV$7=$F69,$H69,\"\")","v":""},"",{"$f":"IF(BX$7=$F69,$H69,\"\")","v":""},"",{"$f":"IF(BZ$7=$F69,$H69,\"\")","v":""},"",{"$f":"IF(CB$7=$F69,$H69,\"\")","v":""},"",{"$f":"IF(CD$7=$F69,$H69,\"\")","v":""},"",{"$f":"IF(CF$7=$F69,$H69,\"\")","v":""},"",{"$f":"IF(CH$7=$F69,$H69,\"\")","v":""},"",{"$f":"IF(CJ$7=$F69,$H69,\"\")","v":""},"",{"$f":"IF(CL$7=$F69,$H69,\"\")","v":""},"",{"$f":"IF(CN$7=$F69,$H69,\"\")","v":""},"",{"$f":"IF(CP$7=$F69,$H69,\"\")","v":""},"",{"$f":"IF(CR$7=$F69,$H69,\"\")","v":""},"",{"$f":"IF(CT$7=$F69,$H69,\"\")","v":""},"",{"$f":"IF(CV$7=$F69,$H69,\"\")","v":""},"",{"$f":"IF(CX$7=$F69,$H69,\"\")","v":""},"",{"$f":"IF(CZ$7=$F69,$H69,\"\")","v":""},"",{"$f":"IF(DB$7=$F69,$H69,\"\")","v":""},"",{"$f":"IF(DD$7=$F69,$H69,\"\")","v":""},"",{"$f":"IF(DF$7=$F69,$H69,\"\")","v":""},0,{"$f":"IF(DH$7=$F69,$H69,\"\")","v":0},0,{"$f":"IF(DJ$7=$F69,$H69,\"\")","v":0},0,{"$f":"IF(DL$7=$F69,$H69,\"\")","v":0},0,{"$f":"IF(DN$7=$F69,$H69,\"\")","v":0},0,{"$f":"IF(DP$7=$F69,$H69,\"\")","v":0},0,{"$f":"IF(DR$7=$F69,$H69,\"\")","v":0},0,{"$f":"IF(DT$7=$F69,$H69,\"\")","v":0},0,{"$f":"IF(DV$7=$F69,$H69,\"\")","v":0},0,{"$f":"IF(DX$7=$F69,$H69,\"\")","v":0},0,{"$f":"IF(DZ$7=$F69,$H69,\"\")","v":0},0,{"$f":"IF(EB$7=$F69,$H69,\"\")","v":0},0,{"$f":"IF(ED$7=$F69,$H69,\"\")","v":0},0,{"$f":"IF(EF$7=$F69,$H69,\"\")","v":0},0,{"$f":"IF(EH$7=$F69,$H69,\"\")","v":0},0,{"$f":"IF(EJ$7=$F69,$H69,\"\")","v":0},0,{"$f":"IF(EL$7=$F69,$H69,\"\")","v":0},0,{"$f":"IF(EN$7=$F69,$H69,\"\")","v":0},0,{"$f":"IF(EP$7=$F69,$H69,\"\")","v":0},0,{"$f":"IF(ER$7=$F69,$H69,\"\")","v":0},0,{"$f":"IF(ET$7=$F69,$H69,\"\")","v":0},0,{"$f":"IF(EV$7=$F69,$H69,\"\")","v":0},0,{"$f":"IF(EX$7=$F69,$H69,\"\")","v":0},0,{"$f":"IF(EZ$7=$F69,$H69,\"\")","v":0},0,{"$f":"IF(FB$7=$F69,$H69,\"\")","v":0},0,{"$f":"IF(FD$7=$F69,$H69,\"\")","v":0},0,{"$f":"IF(FF$7=$F69,$H69,\"\")","v":0},0,{"$f":"IF(FH$7=$F69,$H69,\"\")","v":0},0,{"$f":"IF(FJ$7=$F69,$H69,\"\")","v":0},0,{"$f":"IF(FL$7=$F69,$H69,\"\")","v":0},0,0]
[62,null,null,null,null,null,null,null,true,0,0,"","","",{"$f":"IF(N$7=$F70,$H70,\"\")","v":""},"",{"$f":"IF(P$7=$F70,$H70,\"\")","v":""},"",{"$f":"IF(R$7=$F70,$H70,\"\")","v":""},"",{"$f":"IF(T$7=$F70,$H70,\"\")","v":""},"",{"$f":"IF(V$7=$F70,$H70,\"\")","v":""},"",{"$f":"IF(X$7=$F70,$H70,\"\")","v":""},"",{"$f":"IF(Z$7=$F70,$H70,\"\")","v":""},"",{"$f":"IF(AB$7=$F70,$H70,\"\")","v":""},"",{"$f":"IF(AD$7=$F70,$H70,\"\")","v":""},"",{"$f":"IF(AF$7=$F70,$H70,\"\")","v":""},"",{"$f":"IF(AH$7=$F70,$H70,\"\")","v":""},"",{"$f":"IF(AJ$7=$F70,$H70,\"\")","v":""},"",{"$f":"IF(AL$7=$F70,$H70,\"\")","v":""},"",{"$f":"IF(AN$7=$F70,$H70,\"\")","v":""},"",{"$f":"IF(AP$7=$F70,$H70,\"\")","v":""},"",{"$f":"IF(AR$7=$F70,$H70,\"\")","v":""},"",{"$f":"IF(AT$7=$F70,$H70,\"\")","v":""},"",{"$f":"IF(AV$7=$F70,$H70,\"\")","v":""},"",{"$f":"IF(AX$7=$F70,$H70,\"\")","v":""},"",{"$f":"IF(AZ$7=$F70,$H70,\"\")","v":""},"",{"$f":"IF(BB$7=$F70,$H70,\"\")","v":""},"",{"$f":"IF(BD$7=$F70,$H70,\"\")","v":""},"",{"$f":"IF(BF$7=$F70,$H70,\"\")","v":""},"",{"$f":"IF(BH$7=$F70,$H70,\"\")","v":""},"",{"$f":"IF(BJ$7=$F70,$H70,\"\")","v":""},"",{"$f":"IF(BL$7=$F70,$H70,\"\")","v":""},"",{"$f":"IF(BN$7=$F70,$H70,\"\")","v":""},"",{"$f":"IF(BP$7=$F70,$H70,\"\")","v":""},"",{"$f":"IF(BR$7=$F70,$H70,\"\")","v":""},"",{"$f":"IF(BT$7=$F70,$H70,\"\")","v":""},"",{"$f":"IF(BV$7=$F70,$H70,\"\")","v":""},"",{"$f":"IF(BX$7=$F70,$H70,\"\")","v":""},"",{"$f":"IF(BZ$7=$F70,$H70,\"\")","v":""},"",{"$f":"IF(CB$7=$F70,$H70,\"\")","v":""},"",{"$f":"IF(CD$7=$F70,$H70,\"\")","v":""},"",{"$f":"IF(CF$7=$F70,$H70,\"\")","v":""},"",{"$f":"IF(CH$7=$F70,$H70,\"\")","v":""},"",{"$f":"IF(CJ$7=$F70,$H70,\"\")","v":""},"",{"$f":"IF(CL$7=$F70,$H70,\"\")","v":""},"",{"$f":"IF(CN$7=$F70,$H70,\"\")","v":""},"",{"$f":"IF(CP$7=$F70,$H70,\"\")","v":""},"",{"$f":"IF(CR$7=$F70,$H70,\"\")","v":""},"",{"$f":"IF(CT$7=$F70,$H70,\"\")","v":""},"",{"$f":"IF(CV$7=$F70,$H70,\"\")","v":""},"",{"$f":"IF(CX$7=$F70,$H70,\"\")","v":""},"",{"$f":"IF(CZ$7=$F70,$H70,\"\")","v":""},"",{"$f":"IF(DB$7=$F70,$H70,\"\")","v":""},"",{"$f":"IF(DD$7=$F70,$H70,\"\")","v":""},"",{"$f":"IF(DF$7=$F70,$H70,\"\")","v":""},0,{"$f":"IF(DH$7=$F70,$H70,\"\")","v":0},0,{"$f":"IF(DJ$7=$F70,$H70,\"\")","v":0},0,{"$f":"IF(DL$7=$F70,$H70,\"\")","v":0},0,{"$f":"IF(DN$7=$F70,$H70,\"\")","v":0},0,{"$f":"IF(DP$7=$F70,$H70,\"\")","v":0},0,{"$f":"IF(DR$7=$F70,$H70,\"\")","v":0},0,{"$f":"IF(DT$7=$F70,$H70,\"\")","v":0},0,{"$f":"IF(DV$7=$F70,$H70,\"\")","v":0},0,{"$f":"IF(DX$7=$F70,$H70,\"\")","v":0},0,{"$f":"IF(DZ$7=$F70,$H70,\"\")","v":0},0,{"$f":"IF(EB$7=$F70,$H70,\"\")","v":0},0,{"$f":"IF(ED$7=$F70,$H70,\"\")","v":0},0,{"$f":"IF(EF$7=$F70,$H70,\"\")","v":0},0,{"$f":"IF(EH$7=$F70,$H70,\"\")","v":0},0,{"$f":"IF(EJ$7=$F70,$H70,\"\")","v":0},0,{"$f":"IF(EL$7=$F70,$H70,\"\")","v":0},0,{"$f":"IF(EN$7=$F70,$H70,\"\")","v":0},0,{"$f":"IF(EP$7=$F70,$H70,\"\")","v":0},0,{"$f":"IF(ER$7=$F70,$H70,\"\")","v":0},0,{"$f":"IF(ET$7=$F70,$H70,\"\")","v":0},0,{"$f":"IF(EV$7=$F70,$H70,\"\")","v":0},0,{"$f":"IF(EX$7=$F70,$H70,\"\")","v":0},0,{"$f":"IF(EZ$7=$F70,$H70,\"\")","v":0},0,{"$f":"IF(FB$7=$F70,$H70,\"\")","v":0},0,{"$f":"IF(FD$7=$F70,$H70,\"\")","v":0},0,{"$f":"IF(FF$7=$F70,$H70,\"\")","v":0},0,{"$f":"IF(FH$7=$F70,$H70,\"\")","v":0},0,{"$f":"IF(FJ$7=$F70,$H70,\"\")","v":0},0,{"$f":"IF(FL$7=$F70,$H70,\"\")","v":0},0,0]
[63,null,null,null,null,null,null,null,true,0,0,"","","",{"$f":"IF(N$7=$F71,$H71,\"\")","v":""},"",{"$f":"IF(P$7=$F71,$H71,\"\")","v":""},"",{"$f":"IF(R$7=$F71,$H71,\"\")","v":""},"",{"$f":"IF(T$7=$F71,$H71,\"\")","v":""},"",{"$f":"IF(V$7=$F71,$H71,\"\")","v":""},"",{"$f":"IF(X$7=$F71,$H71,\"\")","v":""},"",{"$f":"IF(Z$7=$F71,$H71,\"\")","v":""},"",{"$f":"IF(AB$7=$F71,$H71,\"\")","v":""},"",{"$f":"IF(AD$7=$F71,$H71,\"\")","v":""},"",{"$f":"IF(AF$7=$F71,$H71,\"\")","v":""},"",{"$f":"IF(AH$7=$F71,$H71,\"\")","v":""},"",{"$f":"IF(AJ$7=$F71,$H71,\"\")","v":""},"",{"$f":"IF(AL$7=$F71,$H71,\"\")","v":""},"",{"$f":"IF(AN$7=$F71,$H71,\"\")","v":""},"",{"$f":"IF(AP$7=$F71,$H71,\"\")","v":""},"",{"$f":"IF(AR$7=$F71,$H71,\"\")","v":""},"",{"$f":"IF(AT$7=$F71,$H71,\"\")","v":""},"",{"$f":"IF(AV$7=$F71,$H71,\"\")","v":""},"",{"$f":"IF(AX$7=$F71,$H71,\"\")","v":""},"",{"$f":"IF(AZ$7=$F71,$H71,\"\")","v":""},"",{"$f":"IF(BB$7=$F71,$H71,\"\")","v":""},"",{"$f":"IF(BD$7=$F71,$H71,\"\")","v":""},"",{"$f":"IF(BF$7=$F71,$H71,\"\")","v":""},"",{"$f":"IF(BH$7=$F71,$H71,\"\")","v":""},"",{"$f":"IF(BJ$7=$F71,$H71,\"\")","v":""},"",{"$f":"IF(BL$7=$F71,$H71,\"\")","v":""},"",{"$f":"IF(BN$7=$F71,$H71,\"\")","v":""},"",{"$f":"IF(BP$7=$F71,$H71,\"\")","v":""},"",{"$f":"IF(BR$7=$F71,$H71,\"\")","v":""},"",{"$f":"IF(BT$7=$F71,$H71,\"\")","v":""},"",{"$f":"IF(BV$7=$F71,$H71,\"\")","v":""},"",{"$f":"IF(BX$7=$F71,$H71,\"\")","v":""},"",{"$f":"IF(BZ$7=$F71,$H71,\"\")","v":""},"",{"$f":"IF(CB$7=$F71,$H71,\"\")","v":""},"",{"$f":"IF(CD$7=$F71,$H71,\"\")","v":""},"",{"$f":"IF(CF$7=$F71,$H71,\"\")","v":""},"",{"$f":"IF(CH$7=$F71,$H71,\"\")","v":""},"",{"$f":"IF(CJ$7=$F71,$H71,\"\")","v":""},"",{"$f":"IF(CL$7=$F71,$H71,\"\")","v":""},"",{"$f":"IF(CN$7=$F71,$H71,\"\")","v":""},"",{"$f":"IF(CP$7=$F71,$H71,\"\")","v":""},"",{"$f":"IF(CR$7=$F71,$H71,\"\")","v":""},"",{"$f":"IF(CT$7=$F71,$H71,\"\")","v":""},"",{"$f":"IF(CV$7=$F71,$H71,\"\")","v":""},"",{"$f":"IF(CX$7=$F71,$H71,\"\")","v":""},"",{"$f":"IF(CZ$7=$F71,$H71,\"\")","v":""},"",{"$f":"IF(DB$7=$F71,$H71,\"\")","v":""},"",{"$f":"IF(DD$7=$F71,$H71,\"\")","v":""},"",{"$f":"IF(DF$7=$F71,$H71,\"\")","v":""},0,{"$f":"IF(DH$7=$F71,$H71,\"\")","v":0},0,{"$f":"IF(DJ$7=$F71,$H71,\"\")","v":0},0,{"$f":"IF(DL$7=$F71,$H71,\"\")","v":0},0,{"$f":"IF(DN$7=$F71,$H71,\"\")","v":0},0,{"$f":"IF(DP$7=$F71,$H71,\"\")","v":0},0,{"$f":"IF(DR$7=$F71,$H71,\"\")","v":0},0,{"$f":"IF(DT$7=$F71,$H71,\"\")","v":0},0,{"$f":"IF(DV$7=$F71,$H71,\"\")","v":0},0,{"$f":"IF(DX$7=$F71,$H71,\"\")","v":0},0,{"$f":"IF(DZ$7=$F71,$H71,\"\")","v":0},0,{"$f":"IF(EB$7=$F71,$H71,\"\")","v":0},0,{"$f":"IF(ED$7=$F71,$H71,\"\")","v":0},0,{"$f":"IF(EF$7=$F71,$H71,\"\")","v":0},0,{"$f":"IF(EH$7=$F71,$H71,\"\")","v":0},0,{"$f":"IF(EJ$7=$F71,$H71,\"\")","v":0},0,{"$f":"IF(EL$7=$F71,$H71,\"\")","v":0},0,{"$f":"IF(EN$7=$F71,$H71,\"\")","v":0},0,{"$f":"IF(EP$7=$F71,$H71,\"\")","v":0},0,{"$f":"IF(ER$7=$F71,$H71,\"\")","v":0},0,{"$f":"IF(ET$7=$F71,$H71,\"\")","v":0},0,{"$f":"IF(EV$7=$F71,$H71,\"\")","v":0},0,{"$f":"IF(EX$7=$F71,$H71,\"\")","v":0},0,{"$f":"IF(EZ$7=$F71,$H71,\"\")","v":0},0,{"$f":"IF(FB$7=$F71,$H71,\"\")","v":0},0,{"$f":"IF(FD$7=$F71,$H71,\"\")","v":0},0,{"$f":"IF(FF$7=$F71,$H71,\"\")","v":0},0,{"$f":"IF(FH$7=$F71,$H71,\"\")","v":0},0,{"$f":"IF(FJ$7=$F71,$H71,\"\")","v":0},0,{"$f":"IF(FL$7=$F71,$H71,\"\")","v":0},0,0]
[64,null,null,null,null,null,null,null,true,0,0,"","","",{"$f":"IF(N$7=$F72,$H72,\"\")","v":""},"",{"$f":"IF(P$7=$F72,$H72,\"\")","v":""},"",{"$f":"IF(R$7=$F72,$H72,\"\")","v":""},"",{"$f":"IF(T$7=$F72,$H72,\"\")","v":""},"",{"$f":"IF(V$7=$F72,$H72,\"\")","v":""},"",{"$f":"IF(X$7=$F72,$H72,\"\")","v":""},"",{"$f":"IF(Z$7=$F72,$H72,\"\")","v":""},"",{"$f":"IF(AB$7=$F72,$H72,\"\")","v":""},"",{"$f":"IF(AD$7=$F72,$H72,\"\")","v":""},"",{"$f":"IF(AF$7=$F72,$H72,\"\")","v":""},"",{"$f":"IF(AH$7=$F72,$H72,\"\")","v":""},"",{"$f":"IF(AJ$7=$F72,$H72,\"\")","v":""},"",{"$f":"IF(AL$7=$F72,$H72,\"\")","v":""},"",{"$f":"IF(AN$7=$F72,$H72,\"\")","v":""},"",{"$f":"IF(AP$7=$F72,$H72,\"\")","v":""},"",{"$f":"IF(AR$7=$F72,$H72,\"\")","v":""},"",{"$f":"IF(AT$7=$F72,$H72,\"\")","v":""},"",{"$f":"IF(AV$7=$F72,$H72,\"\")","v":""},"",{"$f":"IF(AX$7=$F72,$H72,\"\")","v":""},"",{"$f":"IF(AZ$7=$F72,$H72,\"\")","v":""},"",{"$f":"IF(BB$7=$F72,$H72,\"\")","v":""},"",{"$f":"IF(BD$7=$F72,$H72,\"\")","v":""},"",{"$f":"IF(BF$7=$F72,$H72,\"\")","v":""},"",{"$f":"IF(BH$7=$F72,$H72,\"\")","v":""},"",{"$f":"IF(BJ$7=$F72,$H72,\"\")","v":""},"",{"$f":"IF(BL$7=$F72,$H72,\"\")","v":""},"",{"$f":"IF(BN$7=$F72,$H72,\"\")","v":""},"",{"$f":"IF(BP$7=$F72,$H72,\"\")","v":""},"",{"$f":"IF(BR$7=$F72,$H72,\"\")","v":""},"",{"$f":"IF(BT$7=$F72,$H72,\"\")","v":""},"",{"$f":"IF(BV$7=$F72,$H72,\"\")","v":""},"",{"$f":"IF(BX$7=$F72,$H72,\"\")","v":""},"",{"$f":"IF(BZ$7=$F72,$H72,\"\")","v":""},"",{"$f":"IF(CB$7=$F72,$H72,\"\")","v":""},"",{"$f":"IF(CD$7=$F72,$H72,\"\")","v":""},"",{"$f":"IF(CF$7=$F72,$H72,\"\")","v":""},"",{"$f":"IF(CH$7=$F72,$H72,\"\")","v":""},"",{"$f":"IF(CJ$7=$F72,$H72,\"\")","v":""},"",{"$f":"IF(CL$7=$F72,$H72,\"\")","v":""},"",{"$f":"IF(CN$7=$F72,$H72,\"\")","v":""},"",{"$f":"IF(CP$7=$F72,$H72,\"\")","v":""},"",{"$f":"IF(CR$7=$F72,$H72,\"\")","v":""},"",{"$f":"IF(CT$7=$F72,$H72,\"\")","v":""},"",{"$f":"IF(CV$7=$F72,$H72,\"\")","v":""},"",{"$f":"IF(CX$7=$F72,$H72,\"\")","v":""},"",{"$f":"IF(CZ$7=$F72,$H72,\"\")","v":""},"",{"$f":"IF(DB$7=$F72,$H72,\"\")","v":""},"",{"$f":"IF(DD$7=$F72,$H72,\"\")","v":""},"",{"$f":"IF(DF$7=$F72,$H72,\"\")","v":""},0,{"$f":"IF(DH$7=$F72,$H72,\"\")","v":0},0,{"$f":"IF(DJ$7=$F72,$H72,\"\")","v":0},0,{"$f":"IF(DL$7=$F72,$H72,\"\")","v":0},0,{"$f":"IF(DN$7=$F72,$H72,\"\")","v":0},0,{"$f":"IF(DP$7=$F72,$H72,\"\")","v":0},0,{"$f":"IF(DR$7=$F72,$H72,\"\")","v":0},0,{"$f":"IF(DT$7=$F72,$H72,\"\")","v":0},0,{"$f":"IF(DV$7=$F72,$H72,\"\")","v":0},0,{"$f":"IF(DX$7=$F72,$H72,\"\")","v":0},0,{"$f":"IF(DZ$7=$F72,$H72,\"\")","v":0},0,{"$f":"IF(EB$7=$F72,$H72,\"\")","v":0},0,{"$f":"IF(ED$7=$F72,$H72,\"\")","v":0},0,{"$f":"IF(EF$7=$F72,$H72,\"\")","v":0},0,{"$f":"IF(EH$7=$F72,$H72,\"\")","v":0},0,{"$f":"IF(EJ$7=$F72,$H72,\"\")","v":0},0,{"$f":"IF(EL$7=$F72,$H72,\"\")","v":0},0,{"$f":"IF(EN$7=$F72,$H72,\"\")","v":0},0,{"$f":"IF(EP$7=$F72,$H72,\"\")","v":0},0,{"$f":"IF(ER$7=$F72,$H72,\"\")","v":0},0,{"$f":"IF(ET$7=$F72,$H72,\"\")","v":0},0,{"$f":"IF(EV$7=$F72,$H72,\"\")","v":0},0,{"$f":"IF(EX$7=$F72,$H72,\"\")","v":0},0,{"$f":"IF(EZ$7=$F72,$H72,\"\")","v":0},0,{"$f":"IF(FB$7=$F72,$H72,\"\")","v":0},0,{"$f":"IF(FD$7=$F72,$H72,\"\")","v":0},0,{"$f":"IF(FF$7=$F72,$H72,\"\")","v":0},0,{"$f":"IF(FH$7=$F72,$H72,\"\")","v":0},0,{"$f":"IF(FJ$7=$F72,$H72,\"\")","v":0},0,{"$f":"IF(FL$7=$F72,$H72,\"\")","v":0},0,0]
[65,null,null,null,null,null,null,null,true,0,0,"","","",{"$f":"IF(N$7=$F73,$H73,\"\")","v":""},"",{"$f":"IF(P$7=$F73,$H73,\"\")","v":""},"",{"$f":"IF(R$7=$F73,$H73,\"\")","v":""},"",{"$f":"IF(T$7=$F73,$H73,\"\")","v":""},"",{"$f":"IF(V$7=$F73,$H73,\"\")","v":""},"",{"$f":"IF(X$7=$F73,$H73,\"\")","v":""},"",{"$f":"IF(Z$7=$F73,$H73,\"\")","v":""},"",{"$f":"IF(AB$7=$F73,$H73,\"\")","v":""},"",{"$f":"IF(AD$7=$F73,$H73,\"\")","v":""},"",{"$f":"IF(AF$7=$F73,$H73,\"\")","v":""},"",{"$f":"IF(AH$7=$F73,$H73,\"\")","v":""},"",{"$f":"IF(AJ$7=$F73,$H73,\"\")","v":""},"",{"$f":"IF(AL$7=$F73,$H73,\"\")","v":""},"",{"$f":"IF(AN$7=$F73,$H73,\"\")","v":""},"",{"$f":"IF(AP$7=$F73,$H73,\"\")","v":""},"",{"$f":"IF(AR$7=$F73,$H73,\"\")","v":""},"",{"$f":"IF(AT$7=$F73,$H73,\"\")","v":""},"",{"$f":"IF(AV$7=$F73,$H73,\"\")","v":""},"",{"$f":"IF(AX$7=$F73,$H73,\"\")","v":""},"",{"$f":"IF(AZ$7=$F73,$H73,\"\")","v":""},"",{"$f":"IF(BB$7=$F73,$H73,\"\")","v":""},"",{"$f":"IF(BD$7=$F73,$H73,\"\")","v":""},"",{"$f":"IF(BF$7=$F73,$H73,\"\")","v":""},"",{"$f":"IF(BH$7=$F73,$H73,\"\")","v":""},"",{"$f":"IF(BJ$7=$F73,$H73,\"\")","v":""},"",{"$f":"IF(BL$7=$F73,$H73,\"\")","v":""},"",{"$f":"IF(BN$7=$F73,$H73,\"\")","v":""},"",{"$f":"IF(BP$7=$F73,$H73,\"\")","v":""},"",{"$f":"IF(BR$7=$F73,$H73,\"\")","v":""},"",{"$f":"IF(BT$7=$F73,$H73,\"\")","v":""},"",{"$f":"IF(BV$7=$F73,$H73,\"\")","v":""},"",{"$f":"IF(BX$7=$F73,$H73,\"\")","v":""},"",{"$f":"IF(BZ$7=$F73,$H73,\"\")","v":""},"",{"$f":"IF(CB$7=$F73,$H73,\"\")","v":""},"",{"$f":"IF(CD$7=$F73,$H73,\"\")","v":""},"",{"$f":"IF(CF$7=$F73,$H73,\"\")","v":""},"",{"$f":"IF(CH$7=$F73,$H73,\"\")","v":""},"",{"$f":"IF(CJ$7=$F73,$H73,\"\")","v":""},"",{"$f":"IF(CL$7=$F73,$H73,\"\")","v":""},"",{"$f":"IF(CN$7=$F73,$H73,\"\")","v":""},"",{"$f":"IF(CP$7=$F73,$H73,\"\")","v":""},"",{"$f":"IF(CR$7=$F73,$H73,\"\")","v":""},"",{"$f":"IF(CT$7=$F73,$H73,\"\")","v":""},"",{"$f":"IF(CV$7=$F73,$H73,\"\")","v":""},"",{"$f":"IF(CX$7=$F73,$H73,\"\")","v":""},"",{"$f":"IF(CZ$7=$F73,$H73,\"\")","v":""},"",{"$f":"IF(DB$7=$F73,$H73,\"\")","v":""},"",{"$f":"IF(DD$7=$F73,$H73,\"\")","v":""},"",{"$f":"IF(DF$7=$F73,$H73,\"\")","v":""},0,{"$f":"IF(DH$7=$F73,$H73,\"\")","v":0},0,{"$f":"IF(DJ$7=$F73,$H73,\"\")","v":0},0,{"$f":"IF(DL$7=$F73,$H73,\"\")","v":0},0,{"$f":"IF(DN$7=$F73,$H73,\"\")","v":0},0,{"$f":"IF(DP$7=$F73,$H73,\"\")","v":0},0,{"$f":"IF(DR$7=$F73,$H73,\"\")","v":0},0,{"$f":"IF(DT$7=$F73,$H73,\"\")","v":0},0,{"$f":"IF(DV$7=$F73,$H73,\"\")","v":0},0,{"$f":"IF(DX$7=$F73,$H73,\"\")","v":0},0,{"$f":"IF(DZ$7=$F73,$H73,\"\")","v":0},0,{"$f":"IF(EB$7=$F73,$H73,\"\")","v":0},0,{"$f":"IF(ED$7=$F73,$H73,\"\")","v":0},0,{"$f":"IF(EF$7=$F73,$H73,\"\")","v":0},0,{"$f":"IF(EH$7=$F73,$H73,\"\")","v":0},0,{"$f":"IF(EJ$7=$F73,$H73,\"\")","v":0},0,{"$f":"IF(EL$7=$F73,$H73,\"\")","v":0},0,{"$f":"IF(EN$7=$F73,$H73,\"\")","v":0},0,{"$f":"IF(EP$7=$F73,$H73,\"\")","v":0},0,{"$f":"IF(ER$7=$F73,$H73,\"\")","v":0},0,{"$f":"IF(ET$7=$F73,$H73,\"\")","v":0},0,{"$f":"IF(EV$7=$F73,$H73,\"\")","v":0},0,{"$f":"IF(EX$7=$F73,$H73,\"\")","v":0},0,{"$f":"IF(EZ$7=$F73,$H73,\"\")","v":0},0,{"$f":"IF(FB$7=$F73,$H73,\"\")","v":0},0,{"$f":"IF(FD$7=$F73,$H73,\"\")","v":0},0,{"$f":"IF(FF$7=$F73,$H73,\"\")","v":0},0,{"$f":"IF(FH$7=$F73,$H73,\"\")","v":0},0,{"$f":"IF(FJ$7=$F73,$H73,\"\")","v":0},0,{"$f":"IF(FL$7=$F73,$H73,\"\")","v":0},0,{"$f":"IF(FN$7=$F73,$H73,\"\")","v":0}]
[66,null,null,null,null,null,null,null,{"$f":"J74=K74","v":true},{"$f":"SUMIF($L$8:$FO$8,$J$8,L74:FO74)","v":0},{"$f":"SUMIF($L$8:$FO$8,$K$8,L74:FO74)","v":0},{"$f":"IF(L$7=$E74,$G74,\"\")","v":""},{"$f":"IF(L$7=$F74,$H74,\"\")","v":""},"",{"$f":"IF(N$7=$F74,$H74,\"\")","v":""},"",{"$f":"IF(P$7=$F74,$H74,\"\")","v":""},"",{"$f":"IF(R$7=$F74,$H74,\"\")","v":""},"",{"$f":"IF(T$7=$F74,$H74,\"\")","v":""},"",{"$f":"IF(V$7=$F74,$H74,\"\")","v":""},"",{"$f":"IF(X$7=$F74,$H74,\"\")","v":""},"",{"$f":"IF(Z$7=$F74,$H74,\"\")","v":""},"",{"$f":"IF(AB$7=$F74,$H74,\"\")","v":""},"",{"$f":"IF(AD$7=$F74,$H74,\"\")","v":""},"",{"$f":"IF(AF$7=$F74,$H74,\"\")","v":""},"",{"$f":"IF(AH$7=$F74,$H74,\"\")","v":""},"",{"$f":"IF(AJ$7=$F74,$H74,\"\")","v":""},"",{"$f":"IF(AL$7=$F74,$H74,\"\")","v":""},"",{"$f":"IF(AN$7=$F74,$H74,\"\")","v":""},"",{"$f":"IF(AP$7=$F74,$H74,\"\")","v":""},"",{"$f":"IF(AR$7=$F74,$H74,\"\")","v":""},"",{"$f":"IF(AT$7=$F74,$H74,\"\")","v":""},"",{"$f":"IF(AV$7=$F74,$H74,\"\")","v":""},"",{"$f":"IF(AX$7=$F74,$H74,\"\")","v":""},"",{"$f":"IF(AZ$7=$F74,$H74,\"\")","v":""},"",{"$f":"IF(BB$7=$F74,$H74,\"\")","v":""},"",{"$f":"IF(BD$7=$F74,$H74,\"\")","v":""},"",{"$f":"IF(BF$7=$F74,$H74,\"\")","v":""},"",{"$f":"IF(BH$7=$F74,$H74,\"\")","v":""},"",{"$f":"IF(BJ$7=$F74,$H74,\"\")","v":""},"",{"$f":"IF(BL$7=$F74,$H74,\"\")","v":""},"",{"$f":"IF(BN$7=$F74,$H74,\"\")","v":""},"",{"$f":"IF(BP$7=$F74,$H74,\"\")","v":""},"",{"$f":"IF(BR$7=$F74,$H74,\"\")","v":""},"",{"$f":"IF(BT$7=$F74,$H74,\"\")","v":""},"",{"$f":"IF(BV$7=$F74,$H74,\"\")","v":""},"",{"$f":"IF(BX$7=$F74,$H74,\"\")","v":""},"",{"$f":"IF(BZ$7=$F74,$H74,\"\")","v":""},"",{"$f":"IF(CB$7=$F74,$H74,\"\")","v":""},"",{"$f":"IF(CD$7=$F74,$H74,\"\")","v":""},"",{"$f":"IF(CF$7=$F74,$H74,\"\")","v":""},"",{"$f":"IF(CH$7=$F74,$H74,\"\")","v":""},"",{"$f":"IF(CJ$7=$F74,$H74,\"\")","v":""},"",{"$f":"IF(CL$7=$F74,$H74,\"\")","v":""},"",{"$f":"IF(CN$7=$F74,$H74,\"\")","v":""},"",{"$f":"IF(CP$7=$F74,$H74,\"\")","v":""},"",{"$f":"IF(CR$7=$F74,$H74,\"\")","v":""},"",{"$f":"IF(CT$7=$F74,$H74,\"\")","v":""},"",{"$f":"IF(CV$7=$F74,$H74,\"\")","v":""},"",{"$f":"IF(CX$7=$F74,$H74,\"\")","v":""},"",{"$f":"IF(CZ$7=$F74,$H74,\"\")","v":""},"",{"$f":"IF(DB$7=$F74,$H74,\"\")","v":""},"",{"$f":"IF(DD$7=$F74,$H74,\"\")","v":""},"",{"$f":"IF(DF$7=$F74,$H74,\"\")","v":""},0,{"$f":"IF(DH$7=$F74,$H74,\"\")","v":0},0,{"$f":"IF(DJ$7=$F74,$H74,\"\")","v":0},0,{"$f":"IF(DL$7=$F74,$H74,\"\")","v":0},0,{"$f":"IF(DN$7=$F74,$H74,\"\")","v":0},0,{"$f":"IF(DP$7=$F74,$H74,\"\")","v":0},0,{"$f":"IF(DR$7=$F74,$H74,\"\")","v":0},0,{"$f":"IF(DT$7=$F74,$H74,\"\")","v":0},0,{"$f":"IF(DV$7=$F74,$H74,\"\")","v":0},0,{"$f":"IF(DX$7=$F74,$H74,\"\")","v":0},0,{"$f":"IF(DZ$7=$F74,$H74,\"\")","v":0},0,{"$f":"IF(EB$7=$F74,$H74,\"\")","v":0},0,{"$f":"IF(ED$7=$F74,$H74,\"\")","v":0},0,{"$f":"IF(EF$7=$F74,$H74,\"\")","v":0},0,{"$f":"IF(EH$7=$F74,$H74,\"\")","v":0},0,{"$f":"IF(EJ$7=$F74,$H74,\"\")","v":0},0,{"$f":"IF(EL$7=$F74,$H74,\"\")","v":0},0,{"$f":"IF(EN$7=$F74,$H74,\"\")","v":0},0,{"$f":"IF(EP$7=$F74,$H74,\"\")","v":0},0,{"$f":"IF(ER$7=$F74,$H74,\"\")","v":0},0,{"$f":"IF(ET$7=$F74,$H74,\"\")","v":0},0,{"$f":"IF(EV$7=$F74,$H74,\"\")","v":0},0,{"$f":"IF(EX$7=$F74,$H74,\"\")","v":0},0,{"$f":"IF(EZ$7=$F74,$H74,\"\")","v":0},0,{"$f":"IF(FB$7=$F74,$H74,\"\")","v":0},0,{"$f":"IF(FD$7=$F74,$H74,\"\")","v":0},0,{"$f":"IF(FF$7=$F74,$H74,\"\")","v":0},0,{"$f":"IF(FH$7=$F74,$H74,\"\")","v":0},0,{"$f":"IF(FJ$7=$F74,$H74,\"\")","v":0},0,{"$f":"IF(FL$7=$F74,$H74,\"\")","v":0},0,0]
[67,null,null,null,null,null,null,null,true,0,0,"","","",{"$f":"IF(N$7=$F75,$H75,\"\")","v":""},"",{"$f":"IF(P$7=$F75,$H75,\"\")","v":""},"",{"$f":"IF(R$7=$F75,$H75,\"\")","v":""},"",{"$f":"IF(T$7=$F75,$H75,\"\")","v":""},"",{"$f":"IF(V$7=$F75,$H75,\"\")","v":""},"",{"$f":"IF(X$7=$F75,$H75,\"\")","v":""},"",{"$f":"IF(Z$7=$F75,$H75,\"\")","v":""},"",{"$f":"IF(AB$7=$F75,$H75,\"\")","v":""},"",{"$f":"IF(AD$7=$F75,$H75,\"\")","v":""},"",{"$f":"IF(AF$7=$F75,$H75,\"\")","v":""},"",{"$f":"IF(AH$7=$F75,$H75,\"\")","v":""},"",{"$f":"IF(AJ$7=$F75,$H75,\"\")","v":""},"",{"$f":"IF(AL$7=$F75,$H75,\"\")","v":""},"",{"$f":"IF(AN$7=$F75,$H75,\"\")","v":""},"",{"$f":"IF(AP$7=$F75,$H75,\"\")","v":""},"",{"$f":"IF(AR$7=$F75,$H75,\"\")","v":""},"",{"$f":"IF(AT$7=$F75,$H75,\"\")","v":""},"",{"$f":"IF(AV$7=$F75,$H75,\"\")","v":""},"",{"$f":"IF(AX$7=$F75,$H75,\"\")","v":""},"",{"$f":"IF(AZ$7=$F75,$H75,\"\")","v":""},"",{"$f":"IF(BB$7=$F75,$H75,\"\")","v":""},"",{"$f":"IF(BD$7=$F75,$H75,\"\")","v":""},"",{"$f":"IF(BF$7=$F75,$H75,\"\")","v":""},"",{"$f":"IF(BH$7=$F75,$H75,\"\")","v":""},"",{"$f":"IF(BJ$7=$F75,$H75,\"\")","v":""},"",{"$f":"IF(BL$7=$F75,$H75,\"\")","v":""},"",{"$f":"IF(BN$7=$F75,$H75,\"\")","v":""},"",{"$f":"IF(BP$7=$F75,$H75,\"\")","v":""},"",{"$f":"IF(BR$7=$F75,$H75,\"\")","v":""},"",{"$f":"IF(BT$7=$F75,$H75,\"\")","v":""},"",{"$f":"IF(BV$7=$F75,$H75,\"\")","v":""},"",{"$f":"IF(BX$7=$F75,$H75,\"\")","v":""},"",{"$f":"IF(BZ$7=$F75,$H75,\"\")","v":""},"",{"$f":"IF(CB$7=$F75,$H75,\"\")","v":""},"",{"$f":"IF(CD$7=$F75,$H75,\"\")","v":""},"",{"$f":"IF(CF$7=$F75,$H75,\"\")","v":""},"",{"$f":"IF(CH$7=$F75,$H75,\"\")","v":""},"",{"$f":"IF(CJ$7=$F75,$H75,\"\")","v":""},"",{"$f":"IF(CL$7=$F75,$H75,\"\")","v":""},"",{"$f":"IF(CN$7=$F75,$H75,\"\")","v":""},"",{"$f":"IF(CP$7=$F75,$H75,\"\")","v":""},"",{"$f":"IF(CR$7=$F75,$H75,\"\")","v":""},"",{"$f":"IF(CT$7=$F75,$H75,\"\")","v":""},"",{"$f":"IF(CV$7=$F75,$H75,\"\")","v":""},"",{"$f":"IF(CX$7=$F75,$H75,\"\")","v":""},"",{"$f":"IF(CZ$7=$F75,$H75,\"\")","v":""},"",{"$f":"IF(DB$7=$F75,$H75,\"\")","v":""},"",{"$f":"IF(DD$7=$F75,$H75,\"\")","v":""},"",{"$f":"IF(DF$7=$F75,$H75,\"\")","v":""},0,{"$f":"IF(DH$7=$F75,$H75,\"\")","v":0},0,{"$f":"IF(DJ$7=$F75,$H75,\"\")","v":0},0,{"$f":"IF(DL$7=$F75,$H75,\"\")","v":0},0,{"$f":"IF(DN$7=$F75,$H75,\"\")","v":0},0,{"$f":"IF(DP$7=$F75,$H75,\"\")","v":0},0,{"$f":"IF(DR$7=$F75,$H75,\"\")","v":0},0,{"$f":"IF(DT$7=$F75,$H75,\"\")","v":0},0,{"$f":"IF(DV$7=$F75,$H75,\"\")","v":0},0,{"$f":"IF(DX$7=$F75,$H75,\"\")","v":0},0,{"$f":"IF(DZ$7=$F75,$H75,\"\")","v":0},0,{"$f":"IF(EB$7=$F75,$H75,\"\")","v":0},0,{"$f":"IF(ED$7=$F75,$H75,\"\")","v":0},0,{"$f":"IF(EF$7=$F75,$H75,\"\")","v":0},0,{"$f":"IF(EH$7=$F75,$H75,\"\")","v":0},0,{"$f":"IF(EJ$7=$F75,$H75,\"\")","v":0},0,{"$f":"IF(EL$7=$F75,$H75,\"\")","v":0},0,{"$f":"IF(EN$7=$F75,$H75,\"\")","v":0},0,{"$f":"IF(EP$7=$F75,$H75,\"\")","v":0},0,{"$f":"IF(ER$7=$F75,$H75,\"\")","v":0},0,{"$f":"IF(ET$7=$F75,$H75,\"\")","v":0},0,{"$f":"IF(EV$7=$F75,$H75,\"\")","v":0},0,{"$f":"IF(EX$7=$F75,$H75,\"\")","v":0},0,{"$f":"IF(EZ$7=$F75,$H75,\"\")","v":0},0,{"$f":"IF(FB$7=$F75,$H75,\"\")","v":0},0,{"$f":"IF(FD$7=$F75,$H75,\"\")","v":0},0,{"$f":"IF(FF$7=$F75,$H75,\"\")","v":0},0,{"$f":"IF(FH$7=$F75,$H75,\"\")","v":0},0,{"$f":"IF(FJ$7=$F75,$H75,\"\")","v":0},0,{"$f":"IF(FL$7=$F75,$H75,\"\")","v":0},0,0]
[68,null,null,null,null,null,null,null,true,0,0,"","","",{"$f":"IF(N$7=$F76,$H76,\"\")","v":""},"",{"$f":"IF(P$7=$F76,$H76,\"\")","v":""},"",{"$f":"IF(R$7=$F76,$H76,\"\")","v":""},"",{"$f":"IF(T$7=$F76,$H76,\"\")","v":""},"",{"$f":"IF(V$7=$F76,$H76,\"\")","v":""},"",{"$f":"IF(X$7=$F76,$H76,\"\")","v":""},"",{"$f":"IF(Z$7=$F76,$H76,\"\")","v":""},"",{"$f":"IF(AB$7=$F76,$H76,\"\")","v":""},"",{"$f":"IF(AD$7=$F76,$H76,\"\")","v":""},"",{"$f":"IF(AF$7=$F76,$H76,\"\")","v":""},"",{"$f":"IF(AH$7=$F76,$H76,\"\")","v":""},"",{"$f":"IF(AJ$7=$F76,$H76,\"\")","v":""},"",{"$f":"IF(AL$7=$F76,$H76,\"\")","v":""},"",{"$f":"IF(AN$7=$F76,$H76,\"\")","v":""},"",{"$f":"IF(AP$7=$F76,$H76,\"\")","v":""},"",{"$f":"IF(AR$7=$F76,$H76,\"\")","v":""},"",{"$f":"IF(AT$7=$F76,$H76,\"\")","v":""},"",{"$f":"IF(AV$7=$F76,$H76,\"\")","v":""},"",{"$f":"IF(AX$7=$F76,$H76,\"\")","v":""},"",{"$f":"IF(AZ$7=$F76,$H76,\"\")","v":""},"",{"$f":"IF(BB$7=$F76,$H76,\"\")","v":""},"",{"$f":"IF(BD$7=$F76,$H76,\"\")","v":""},"",{"$f":"IF(BF$7=$F76,$H76,\"\")","v":""},"",{"$f":"IF(BH$7=$F76,$H76,\"\")","v":""},"",{"$f":"IF(BJ$7=$F76,$H76,\"\")","v":""},"",{"$f":"IF(BL$7=$F76,$H76,\"\")","v":""},"",{"$f":"IF(BN$7=$F76,$H76,\"\")","v":""},"",{"$f":"IF(BP$7=$F76,$H76,\"\")","v":""},"",{"$f":"IF(BR$7=$F76,$H76,\"\")","v":""},"",{"$f":"IF(BT$7=$F76,$H76,\"\")","v":""},"",{"$f":"IF(BV$7=$F76,$H76,\"\")","v":""},"",{"$f":"IF(BX$7=$F76,$H76,\"\")","v":""},"",{"$f":"IF(BZ$7=$F76,$H76,\"\")","v":""},"",{"$f":"IF(CB$7=$F76,$H76,\"\")","v":""},"",{"$f":"IF(CD$7=$F76,$H76,\"\")","v":""},"",{"$f":"IF(CF$7=$F76,$H76,\"\")","v":""},"",{"$f":"IF(CH$7=$F76,$H76,\"\")","v":""},"",{"$f":"IF(CJ$7=$F76,$H76,\"\")","v":""},"",{"$f":"IF(CL$7=$F76,$H76,\"\")","v":""},"",{"$f":"IF(CN$7=$F76,$H76,\"\")","v":""},"",{"$f":"IF(CP$7=$F76,$H76,\"\")","v":""},"",{"$f":"IF(CR$7=$F76,$H76,\"\")","v":""},"",{"$f":"IF(CT$7=$F76,$H76,\"\")","v":""},"",{"$f":"IF(CV$7=$F76,$H76,\"\")","v":""},"",{"$f":"IF(CX$7=$F76,$H76,\"\")","v":""},"",{"$f":"IF(CZ$7=$F76,$H76,\"\")","v":""},"",{"$f":"IF(DB$7=$F76,$H76,\"\")","v":""},"",{"$f":"IF(DD$7=$F76,$H76,\"\")","v":""},"",{"$f":"IF(DF$7=$F76,$H76,\"\")","v":""},0,{"$f":"IF(DH$7=$F76,$H76,\"\")","v":0},0,{"$f":"IF(DJ$7=$F76,$H76,\"\")","v":0},0,{"$f":"IF(DL$7=$F76,$H76,\"\")","v":0},0,{"$f":"IF(DN$7=$F76,$H76,\"\")","v":0},0,{"$f":"IF(DP$7=$F76,$H76,\"\")","v":0},0,{"$f":"IF(DR$7=$F76,$H76,\"\")","v":0},0,{"$f":"IF(DT$7=$F76,$H76,\"\")","v":0},0,{"$f":"IF(DV$7=$F76,$H76,\"\")","v":0},0,{"$f":"IF(DX$7=$F76,$H76,\"\")","v":0},0,{"$f":"IF(DZ$7=$F76,$H76,\"\")","v":0},0,{"$f":"IF(EB$7=$F76,$H76,\"\")","v":0},0,{"$f":"IF(ED$7=$F76,$H76,\"\")","v":0},0,{"$f":"IF(EF$7=$F76,$H76,\"\")","v":0},0,{"$f":"IF(EH$7=$F76,$H76,\"\")","v":0},0,{"$f":"IF(EJ$7=$F76,$H76,\"\")","v":0},0,{"$f":"IF(EL$7=$F76,$H76,\"\")","v":0},0,{"$f":"IF(EN$7=$F76,$H76,\"\")","v":0},0,{"$f":"IF(EP$7=$F76,$H76,\"\")","v":0},0,{"$f":"IF(ER$7=$F76,$H76,\"\")","v":0},0,{"$f":"IF(ET$7=$F76,$H76,\"\")","v":0},0,{"$f":"IF(EV$7=$F76,$H76,\"\")","v":0},0,{"$f":"IF(EX$7=$F76,$H76,\"\")","v":0},0,{"$f":"IF(EZ$7=$F76,$H76,\"\")","v":0},0,{"$f":"IF(FB$7=$F76,$H76,\"\")","v":0},0,{"$f":"IF(FD$7=$F76,$H76,\"\")","v":0},0,{"$f":"IF(FF$7=$F76,$H76,\"\")","v":0},0,{"$f":"IF(FH$7=$F76,$H76,\"\")","v":0},0,{"$f":"IF(FJ$7=$F76,$H76,\"\")","v":0},0,{"$f":"IF(FL$7=$F76,$H76,\"\")","v":0},0,0]
[69,null,null,null,null,null,null,null,true,0,0,"","","",{"$f":"IF(N$7=$F77,$H77,\"\")","v":""},"",{"$f":"IF(P$7=$F77,$H77,\"\")","v":""},"",{"$f":"IF(R$7=$F77,$H77,\"\")","v":""},"",{"$f":"IF(T$7=$F77,$H77,\"\")","v":""},"",{"$f":"IF(V$7=$F77,$H77,\"\")","v":""},"",{"$f":"IF(X$7=$F77,$H77,\"\")","v":""},"",{"$f":"IF(Z$7=$F77,$H77,\"\")","v":""},"",{"$f":"IF(AB$7=$F77,$H77,\"\")","v":""},"",{"$f":"IF(AD$7=$F77,$H77,\"\")","v":""},"",{"$f":"IF(AF$7=$F77,$H77,\"\")","v":""},"",{"$f":"IF(AH$7=$F77,$H77,\"\")","v":""},"",{"$f":"IF(AJ$7=$F77,$H77,\"\")","v":""},"",{"$f":"IF(AL$7=$F77,$H77,\"\")","v":""},"",{"$f":"IF(AN$7=$F77,$H77,\"\")","v":""},"",{"$f":"IF(AP$7=$F77,$H77,\"\")","v":""},"",{"$f":"IF(AR$7=$F77,$H77,\"\")","v":""},"",{"$f":"IF(AT$7=$F77,$H77,\"\")","v":""},"",{"$f":"IF(AV$7=$F77,$H77,\"\")","v":""},"",{"$f":"IF(AX$7=$F77,$H77,\"\")","v":""},"",{"$f":"IF(AZ$7=$F77,$H77,\"\")","v":""},"",{"$f":"IF(BB$7=$F77,$H77,\"\")","v":""},"",{"$f":"IF(BD$7=$F77,$H77,\"\")","v":""},"",{"$f":"IF(BF$7=$F77,$H77,\"\")","v":""},"",{"$f":"IF(BH$7=$F77,$H77,\"\")","v":""},"",{"$f":"IF(BJ$7=$F77,$H77,\"\")","v":""},"",{"$f":"IF(BL$7=$F77,$H77,\"\")","v":""},"",{"$f":"IF(BN$7=$F77,$H77,\"\")","v":""},"",{"$f":"IF(BP$7=$F77,$H77,\"\")","v":""},"",{"$f":"IF(BR$7=$F77,$H77,\"\")","v":""},"",{"$f":"IF(BT$7=$F77,$H77,\"\")","v":""},"",{"$f":"IF(BV$7=$F77,$H77,\"\")","v":""},"",{"$f":"IF(BX$7=$F77,$H77,\"\")","v":""},"",{"$f":"IF(BZ$7=$F77,$H77,\"\")","v":""},"",{"$f":"IF(CB$7=$F77,$H77,\"\")","v":""},"",{"$f":"IF(CD$7=$F77,$H77,\"\")","v":""},"",{"$f":"IF(CF$7=$F77,$H77,\"\")","v":""},"",{"$f":"IF(CH$7=$F77,$H77,\"\")","v":""},"",{"$f":"IF(CJ$7=$F77,$H77,\"\")","v":""},"",{"$f":"IF(CL$7=$F77,$H77,\"\")","v":""},"",{"$f":"IF(CN$7=$F77,$H77,\"\")","v":""},"",{"$f":"IF(CP$7=$F77,$H77,\"\")","v":""},"",{"$f":"IF(CR$7=$F77,$H77,\"\")","v":""},"",{"$f":"IF(CT$7=$F77,$H77,\"\")","v":""},"",{"$f":"IF(CV$7=$F77,$H77,\"\")","v":""},"",{"$f":"IF(CX$7=$F77,$H77,\"\")","v":""},"",{"$f":"IF(CZ$7=$F77,$H77,\"\")","v":""},"",{"$f":"IF(DB$7=$F77,$H77,\"\")","v":""},"",{"$f":"IF(DD$7=$F77,$H77,\"\")","v":""},"",{"$f":"IF(DF$7=$F77,$H77,\"\")","v":""},0,{"$f":"IF(DH$7=$F77,$H77,\"\")","v":0},0,{"$f":"IF(DJ$7=$F77,$H77,\"\")","v":0},0,{"$f":"IF(DL$7=$F77,$H77,\"\")","v":0},0,{"$f":"IF(DN$7=$F77,$H77,\"\")","v":0},0,{"$f":"IF(DP$7=$F77,$H77,\"\")","v":0},0,{"$f":"IF(DR$7=$F77,$H77,\"\")","v":0},0,{"$f":"IF(DT$7=$F77,$H77,\"\")","v":0},0,{"$f":"IF(DV$7=$F77,$H77,\"\")","v":0},0,{"$f":"IF(DX$7=$F77,$H77,\"\")","v":0},0,{"$f":"IF(DZ$7=$F77,$H77,\"\")","v":0},0,{"$f":"IF(EB$7=$F77,$H77,\"\")","v":0},0,{"$f":"IF(ED$7=$F77,$H77,\"\")","v":0},0,{"$f":"IF(EF$7=$F77,$H77,\"\")","v":0},0,{"$f":"IF(EH$7=$F77,$H77,\"\")","v":0},0,{"$f":"IF(EJ$7=$F77,$H77,\"\")","v":0},0,{"$f":"IF(EL$7=$F77,$H77,\"\")","v":0},0,{"$f":"IF(EN$7=$F77,$H77,\"\")","v":0},0,{"$f":"IF(EP$7=$F77,$H77,\"\")","v":0},0,{"$f":"IF(ER$7=$F77,$H77,\"\")","v":0},0,{"$f":"IF(ET$7=$F77,$H77,\"\")","v":0},0,{"$f":"IF(EV$7=$F77,$H77,\"\")","v":0},0,{"$f":"IF(EX$7=$F77,$H77,\"\")","v":0},0,{"$f":"IF(EZ$7=$F77,$H77,\"\")","v":0},0,{"$f":"IF(FB$7=$F77,$H77,\"\")","v":0},0,{"$f":"IF(FD$7=$F77,$H77,\"\")","v":0},0,{"$f":"IF(FF$7=$F77,$H77,\"\")","v":0},0,{"$f":"IF(FH$7=$F77,$H77,\"\")","v":0},0,{"$f":"IF(FJ$7=$F77,$H77,\"\")","v":0},0,{"$f":"IF(FL$7=$F77,$H77,\"\")","v":0},0,0]
[70,null,null,null,null,null,null,null,true,0,0,"","","",{"$f":"IF(N$7=$F78,$H78,\"\")","v":""},"",{"$f":"IF(P$7=$F78,$H78,\"\")","v":""},"",{"$f":"IF(R$7=$F78,$H78,\"\")","v":""},"",{"$f":"IF(T$7=$F78,$H78,\"\")","v":""},"",{"$f":"IF(V$7=$F78,$H78,\"\")","v":""},"",{"$f":"IF(X$7=$F78,$H78,\"\")","v":""},"",{"$f":"IF(Z$7=$F78,$H78,\"\")","v":""},"",{"$f":"IF(AB$7=$F78,$H78,\"\")","v":""},"",{"$f":"IF(AD$7=$F78,$H78,\"\")","v":""},"",{"$f":"IF(AF$7=$F78,$H78,\"\")","v":""},"",{"$f":"IF(AH$7=$F78,$H78,\"\")","v":""},"",{"$f":"IF(AJ$7=$F78,$H78,\"\")","v":""},"",{"$f":"IF(AL$7=$F78,$H78,\"\")","v":""},"",{"$f":"IF(AN$7=$F78,$H78,\"\")","v":""},"",{"$f":"IF(AP$7=$F78,$H78,\"\")","v":""},"",{"$f":"IF(AR$7=$F78,$H78,\"\")","v":""},"",{"$f":"IF(AT$7=$F78,$H78,\"\")","v":""},"",{"$f":"IF(AV$7=$F78,$H78,\"\")","v":""},"",{"$f":"IF(AX$7=$F78,$H78,\"\")","v":""},"",{"$f":"IF(AZ$7=$F78,$H78,\"\")","v":""},"",{"$f":"IF(BB$7=$F78,$H78,\"\")","v":""},"",{"$f":"IF(BD$7=$F78,$H78,\"\")","v":""},"",{"$f":"IF(BF$7=$F78,$H78,\"\")","v":""},"",{"$f":"IF(BH$7=$F78,$H78,\"\")","v":""},"",{"$f":"IF(BJ$7=$F78,$H78,\"\")","v":""},"",{"$f":"IF(BL$7=$F78,$H78,\"\")","v":""},"",{"$f":"IF(BN$7=$F78,$H78,\"\")","v":""},"",{"$f":"IF(BP$7=$F78,$H78,\"\")","v":""},"",{"$f":"IF(BR$7=$F78,$H78,\"\")","v":""},"",{"$f":"IF(BT$7=$F78,$H78,\"\")","v":""},"",{"$f":"IF(BV$7=$F78,$H78,\"\")","v":""},"",{"$f":"IF(BX$7=$F78,$H78,\"\")","v":""},"",{"$f":"IF(BZ$7=$F78,$H78,\"\")","v":""},"",{"$f":"IF(CB$7=$F78,$H78,\"\")","v":""},"",{"$f":"IF(CD$7=$F78,$H78,\"\")","v":""},"",{"$f":"IF(CF$7=$F78,$H78,\"\")","v":""},"",{"$f":"IF(CH$7=$F78,$H78,\"\")","v":""},"",{"$f":"IF(CJ$7=$F78,$H78,\"\")","v":""},"",{"$f":"IF(CL$7=$F78,$H78,\"\")","v":""},"",{"$f":"IF(CN$7=$F78,$H78,\"\")","v":""},"",{"$f":"IF(CP$7=$F78,$H78,\"\")","v":""},"",{"$f":"IF(CR$7=$F78,$H78,\"\")","v":""},"",{"$f":"IF(CT$7=$F78,$H78,\"\")","v":""},"",{"$f":"IF(CV$7=$F78,$H78,\"\")","v":""},"",{"$f":"IF(CX$7=$F78,$H78,\"\")","v":""},"",{"$f":"IF(CZ$7=$F78,$H78,\"\")","v":""},"",{"$f":"IF(DB$7=$F78,$H78,\"\")","v":""},"",{"$f":"IF(DD$7=$F78,$H78,\"\")","v":""},"",{"$f":"IF(DF$7=$F78,$H78,\"\")","v":""},0,{"$f":"IF(DH$7=$F78,$H78,\"\")","v":0},0,{"$f":"IF(DJ$7=$F78,$H78,\"\")","v":0},0,{"$f":"IF(DL$7=$F78,$H78,\"\")","v":0},0,{"$f":"IF(DN$7=$F78,$H78,\"\")","v":0},0,{"$f":"IF(DP$7=$F78,$H78,\"\")","v":0},0,{"$f":"IF(DR$7=$F78,$H78,\"\")","v":0},0,{"$f":"IF(DT$7=$F78,$H78,\"\")","v":0},0,{"$f":"IF(DV$7=$F78,$H78,\"\")","v":0},0,{"$f":"IF(DX$7=$F78,$H78,\"\")","v":0},0,{"$f":"IF(DZ$7=$F78,$H78,\"\")","v":0},0,{"$f":"IF(EB$7=$F78,$H78,\"\")","v":0},0,{"$f":"IF(ED$7=$F78,$H78,\"\")","v":0},0,{"$f":"IF(EF$7=$F78,$H78,\"\")","v":0},0,{"$f":"IF(EH$7=$F78,$H78,\"\")","v":0},0,{"$f":"IF(EJ$7=$F78,$H78,\"\")","v":0},0,{"$f":"IF(EL$7=$F78,$H78,\"\")","v":0},0,{"$f":"IF(EN$7=$F78,$H78,\"\")","v":0},0,{"$f":"IF(EP$7=$F78,$H78,\"\")","v":0},0,{"$f":"IF(ER$7=$F78,$H78,\"\")","v":0},0,{"$f":"IF(ET$7=$F78,$H78,\"\")","v":0},0,{"$f":"IF(EV$7=$F78,$H78,\"\")","v":0},0,{"$f":"IF(EX$7=$F78,$H78,\"\")","v":0},0,{"$f":"IF(EZ$7=$F78,$H78,\"\")","v":0},0,{"$f":"IF(FB$7=$F78,$H78,\"\")","v":0},0,{"$f":"IF(FD$7=$F78,$H78,\"\")","v":0},0,{"$f":"IF(FF$7=$F78,$H78,\"\")","v":0},0,{"$f":"IF(FH$7=$F78,$H78,\"\")","v":0},0,{"$f":"IF(FJ$7=$F78,$H78,\"\")","v":0},0,{"$f":"IF(FL$7=$F78,$H78,\"\")","v":0},0,0]
[71,null,null,null,null,null,null,null,true,0,0,"","","",{"$f":"IF(N$7=$F79,$H79,\"\")","v":""},"",{"$f":"IF(P$7=$F79,$H79,\"\")","v":""},"",{"$f":"IF(R$7=$F79,$H79,\"\")","v":""},"",{"$f":"IF(T$7=$F79,$H79,\"\")","v":""},"",{"$f":"IF(V$7=$F79,$H79,\"\")","v":""},"",{"$f":"IF(X$7=$F79,$H79,\"\")","v":""},"",{"$f":"IF(Z$7=$F79,$H79,\"\")","v":""},"",{"$f":"IF(AB$7=$F79,$H79,\"\")","v":""},"",{"$f":"IF(AD$7=$F79,$H79,\"\")","v":""},"",{"$f":"IF(AF$7=$F79,$H79,\"\")","v":""},"",{"$f":"IF(AH$7=$F79,$H79,\"\")","v":""},"",{"$f":"IF(AJ$7=$F79,$H79,\"\")","v":""},"",{"$f":"IF(AL$7=$F79,$H79,\"\")","v":""},"",{"$f":"IF(AN$7=$F79,$H79,\"\")","v":""},"",{"$f":"IF(AP$7=$F79,$H79,\"\")","v":""},"",{"$f":"IF(AR$7=$F79,$H79,\"\")","v":""},"",{"$f":"IF(AT$7=$F79,$H79,\"\")","v":""},"",{"$f":"IF(AV$7=$F79,$H79,\"\")","v":""},"",{"$f":"IF(AX$7=$F79,$H79,\"\")","v":""},"",{"$f":"IF(AZ$7=$F79,$H79,\"\")","v":""},"",{"$f":"IF(BB$7=$F79,$H79,\"\")","v":""},"",{"$f":"IF(BD$7=$F79,$H79,\"\")","v":""},"",{"$f":"IF(BF$7=$F79,$H79,\"\")","v":""},"",{"$f":"IF(BH$7=$F79,$H79,\"\")","v":""},"",{"$f":"IF(BJ$7=$F79,$H79,\"\")","v":""},"",{"$f":"IF(BL$7=$F79,$H79,\"\")","v":""},"",{"$f":"IF(BN$7=$F79,$H79,\"\")","v":""},"",{"$f":"IF(BP$7=$F79,$H79,\"\")","v":""},"",{"$f":"IF(BR$7=$F79,$H79,\"\")","v":""},"",{"$f":"IF(BT$7=$F79,$H79,\"\")","v":""},"",{"$f":"IF(BV$7=$F79,$H79,\"\")","v":""},"",{"$f":"IF(BX$7=$F79,$H79,\"\")","v":""},"",{"$f":"IF(BZ$7=$F79,$H79,\"\")","v":""},"",{"$f":"IF(CB$7=$F79,$H79,\"\")","v":""},"",{"$f":"IF(CD$7=$F79,$H79,\"\")","v":""},"",{"$f":"IF(CF$7=$F79,$H79,\"\")","v":""},"",{"$f":"IF(CH$7=$F79,$H79,\"\")","v":""},"",{"$f":"IF(CJ$7=$F79,$H79,\"\")","v":""},"",{"$f":"IF(CL$7=$F79,$H79,\"\")","v":""},"",{"$f":"IF(CN$7=$F79,$H79,\"\")","v":""},"",{"$f":"IF(CP$7=$F79,$H79,\"\")","v":""},"",{"$f":"IF(CR$7=$F79,$H79,\"\")","v":""},"",{"$f":"IF(CT$7=$F79,$H79,\"\")","v":""},"",{"$f":"IF(CV$7=$F79,$H79,\"\")","v":""},"",{"$f":"IF(CX$7=$F79,$H79,\"\")","v":""},"",{"$f":"IF(CZ$7=$F79,$H79,\"\")","v":""},"",{"$f":"IF(DB$7=$F79,$H79,\"\")","v":""},"",{"$f":"IF(DD$7=$F79,$H79,\"\")","v":""},"",{"$f":"IF(DF$7=$F79,$H79,\"\")","v":""},0,{"$f":"IF(DH$7=$F79,$H79,\"\")","v":0},0,{"$f":"IF(DJ$7=$F79,$H79,\"\")","v":0},0,{"$f":"IF(DL$7=$F79,$H79,\"\")","v":0},0,{"$f":"IF(DN$7=$F79,$H79,\"\")","v":0},0,{"$f":"IF(DP$7=$F79,$H79,\"\")","v":0},0,{"$f":"IF(DR$7=$F79,$H79,\"\")","v":0},0,{"$f":"IF(DT$7=$F79,$H79,\"\")","v":0},0,{"$f":"IF(DV$7=$F79,$H79,\"\")","v":0},0,{"$f":"IF(DX$7=$F79,$H79,\"\")","v":0},0,{"$f":"IF(DZ$7=$F79,$H79,\"\")","v":0},0,{"$f":"IF(EB$7=$F79,$H79,\"\")","v":0},0,{"$f":"IF(ED$7=$F79,$H79,\"\")","v":0},0,{"$f":"IF(EF$7=$F79,$H79,\"\")","v":0},0,{"$f":"IF(EH$7=$F79,$H79,\"\")","v":0},0,{"$f":"IF(EJ$7=$F79,$H79,\"\")","v":0},0,{"$f":"IF(EL$7=$F79,$H79,\"\")","v":0},0,{"$f":"IF(EN$7=$F79,$H79,\"\")","v":0},0,{"$f":"IF(EP$7=$F79,$H79,\"\")","v":0},0,{"$f":"IF(ER$7=$F79,$H79,\"\")","v":0},0,{"$f":"IF(ET$7=$F79,$H79,\"\")","v":0},0,{"$f":"IF(EV$7=$F79,$H79,\"\")","v":0},0,{"$f":"IF(EX$7=$F79,$H79,\"\")","v":0},0,{"$f":"IF(EZ$7=$F79,$H79,\"\")","v":0},0,{"$f":"IF(FB$7=$F79,$H79,\"\")","v":0},0,{"$f":"IF(FD$7=$F79,$H79,\"\")","v":0},0,{"$f":"IF(FF$7=$F79,$H79,\"\")","v":0},0,{"$f":"IF(FH$7=$F79,$H79,\"\")","v":0},0,{"$f":"IF(FJ$7=$F79,$H79,\"\")","v":0},0,{"$f":"IF(FL$7=$F79,$H79,\"\")","v":0},0,0]
[72,null,null,null,null,null,null,null,true,0,0,"","","",{"$f":"IF(N$7=$F80,$H80,\"\")","v":""},"",{"$f":"IF(P$7=$F80,$H80,\"\")","v":""},"",{"$f":"IF(R$7=$F80,$H80,\"\")","v":""},"",{"$f":"IF(T$7=$F80,$H80,\"\")","v":""},"",{"$f":"IF(V$7=$F80,$H80,\"\")","v":""},"",{"$f":"IF(X$7=$F80,$H80,\"\")","v":""},"",{"$f":"IF(Z$7=$F80,$H80,\"\")","v":""},"",{"$f":"IF(AB$7=$F80,$H80,\"\")","v":""},"",{"$f":"IF(AD$7=$F80,$H80,\"\")","v":""},"",{"$f":"IF(AF$7=$F80,$H80,\"\")","v":""},"",{"$f":"IF(AH$7=$F80,$H80,\"\")","v":""},"",{"$f":"IF(AJ$7=$F80,$H80,\"\")","v":""},"",{"$f":"IF(AL$7=$F80,$H80,\"\")","v":""},"",{"$f":"IF(AN$7=$F80,$H80,\"\")","v":""},"",{"$f":"IF(AP$7=$F80,$H80,\"\")","v":""},"",{"$f":"IF(AR$7=$F80,$H80,\"\")","v":""},"",{"$f":"IF(AT$7=$F80,$H80,\"\")","v":""},"",{"$f":"IF(AV$7=$F80,$H80,\"\")","v":""},"",{"$f":"IF(AX$7=$F80,$H80,\"\")","v":""},"",{"$f":"IF(AZ$7=$F80,$H80,\"\")","v":""},"",{"$f":"IF(BB$7=$F80,$H80,\"\")","v":""},"",{"$f":"IF(BD$7=$F80,$H80,\"\")","v":""},"",{"$f":"IF(BF$7=$F80,$H80,\"\")","v":""},"",{"$f":"IF(BH$7=$F80,$H80,\"\")","v":""},"",{"$f":"IF(BJ$7=$F80,$H80,\"\")","v":""},"",{"$f":"IF(BL$7=$F80,$H80,\"\")","v":""},"",{"$f":"IF(BN$7=$F80,$H80,\"\")","v":""},"",{"$f":"IF(BP$7=$F80,$H80,\"\")","v":""},"",{"$f":"IF(BR$7=$F80,$H80,\"\")","v":""},"",{"$f":"IF(BT$7=$F80,$H80,\"\")","v":""},"",{"$f":"IF(BV$7=$F80,$H80,\"\")","v":""},"",{"$f":"IF(BX$7=$F80,$H80,\"\")","v":""},"",{"$f":"IF(BZ$7=$F80,$H80,\"\")","v":""},"",{"$f":"IF(CB$7=$F80,$H80,\"\")","v":""},"",{"$f":"IF(CD$7=$F80,$H80,\"\")","v":""},"",{"$f":"IF(CF$7=$F80,$H80,\"\")","v":""},"",{"$f":"IF(CH$7=$F80,$H80,\"\")","v":""},"",{"$f":"IF(CJ$7=$F80,$H80,\"\")","v":""},"",{"$f":"IF(CL$7=$F80,$H80,\"\")","v":""},"",{"$f":"IF(CN$7=$F80,$H80,\"\")","v":""},"",{"$f":"IF(CP$7=$F80,$H80,\"\")","v":""},"",{"$f":"IF(CR$7=$F80,$H80,\"\")","v":""},"",{"$f":"IF(CT$7=$F80,$H80,\"\")","v":""},"",{"$f":"IF(CV$7=$F80,$H80,\"\")","v":""},"",{"$f":"IF(CX$7=$F80,$H80,\"\")","v":""},"",{"$f":"IF(CZ$7=$F80,$H80,\"\")","v":""},"",{"$f":"IF(DB$7=$F80,$H80,\"\")","v":""},"",{"$f":"IF(DD$7=$F80,$H80,\"\")","v":""},"",{"$f":"IF(DF$7=$F80,$H80,\"\")","v":""},0,{"$f":"IF(DH$7=$F80,$H80,\"\")","v":0},0,{"$f":"IF(DJ$7=$F80,$H80,\"\")","v":0},0,{"$f":"IF(DL$7=$F80,$H80,\"\")","v":0},0,{"$f":"IF(DN$7=$F80,$H80,\"\")","v":0},0,{"$f":"IF(DP$7=$F80,$H80,\"\")","v":0},0,{"$f":"IF(DR$7=$F80,$H80,\"\")","v":0},0,{"$f":"IF(DT$7=$F80,$H80,\"\")","v":0},0,{"$f":"IF(DV$7=$F80,$H80,\"\")","v":0},0,{"$f":"IF(DX$7=$F80,$H80,\"\")","v":0},0,{"$f":"IF(DZ$7=$F80,$H80,\"\")","v":0},0,{"$f":"IF(EB$7=$F80,$H80,\"\")","v":0},0,{"$f":"IF(ED$7=$F80,$H80,\"\")","v":0},0,{"$f":"IF(EF$7=$F80,$H80,\"\")","v":0},0,{"$f":"IF(EH$7=$F80,$H80,\"\")","v":0},0,{"$f":"IF(EJ$7=$F80,$H80,\"\")","v":0},0,{"$f":"IF(EL$7=$F80,$H80,\"\")","v":0},0,{"$f":"IF(EN$7=$F80,$H80,\"\")","v":0},0,{"$f":"IF(EP$7=$F80,$H80,\"\")","v":0},0,{"$f":"IF(ER$7=$F80,$H80,\"\")","v":0},0,{"$f":"IF(ET$7=$F80,$H80,\"\")","v":0},0,{"$f":"IF(EV$7=$F80,$H80,\"\")","v":0},0,{"$f":"IF(EX$7=$F80,$H80,\"\")","v":0},0,{"$f":"IF(EZ$7=$F80,$H80,\"\")","v":0},0,{"$f":"IF(FB$7=$F80,$H80,\"\")","v":0},0,{"$f":"IF(FD$7=$F80,$H80,\"\")","v":0},0,{"$f":"IF(FF$7=$F80,$H80,\"\")","v":0},0,{"$f":"IF(FH$7=$F80,$H80,\"\")","v":0},0,{"$f":"IF(FJ$7=$F80,$H80,\"\")","v":0},0,{"$f":"IF(FL$7=$F80,$H80,\"\")","v":0},0,0]
[73,null,null,null,null,null,null,null,true,0,0,"","","",{"$f":"IF(N$7=$F81,$H81,\"\")","v":""},"",{"$f":"IF(P$7=$F81,$H81,\"\")","v":""},"",{"$f":"IF(R$7=$F81,$H81,\"\")","v":""},"",{"$f":"IF(T$7=$F81,$H81,\"\")","v":""},"",{"$f":"IF(V$7=$F81,$H81,\"\")","v":""},"",{"$f":"IF(X$7=$F81,$H81,\"\")","v":""},"",{"$f":"IF(Z$7=$F81,$H81,\"\")","v":""},"",{"$f":"IF(AB$7=$F81,$H81,\"\")","v":""},"",{"$f":"IF(AD$7=$F81,$H81,\"\")","v":""},"",{"$f":"IF(AF$7=$F81,$H81,\"\")","v":""},"",{"$f":"IF(AH$7=$F81,$H81,\"\")","v":""},"",{"$f":"IF(AJ$7=$F81,$H81,\"\")","v":""},"",{"$f":"IF(AL$7=$F81,$H81,\"\")","v":""},"",{"$f":"IF(AN$7=$F81,$H81,\"\")","v":""},"",{"$f":"IF(AP$7=$F81,$H81,\"\")","v":""},"",{"$f":"IF(AR$7=$F81,$H81,\"\")","v":""},"",{"$f":"IF(AT$7=$F81,$H81,\"\")","v":""},"",{"$f":"IF(AV$7=$F81,$H81,\"\")","v":""},"",{"$f":"IF(AX$7=$F81,$H81,\"\")","v":""},"",{"$f":"IF(AZ$7=$F81,$H81,\"\")","v":""},"",{"$f":"IF(BB$7=$F81,$H81,\"\")","v":""},"",{"$f":"IF(BD$7=$F81,$H81,\"\")","v":""},"",{"$f":"IF(BF$7=$F81,$H81,\"\")","v":""},"",{"$f":"IF(BH$7=$F81,$H81,\"\")","v":""},"",{"$f":"IF(BJ$7=$F81,$H81,\"\")","v":""},"",{"$f":"IF(BL$7=$F81,$H81,\"\")","v":""},"",{"$f":"IF(BN$7=$F81,$H81,\"\")","v":""},"",{"$f":"IF(BP$7=$F81,$H81,\"\")","v":""},"",{"$f":"IF(BR$7=$F81,$H81,\"\")","v":""},"",{"$f":"IF(BT$7=$F81,$H81,\"\")","v":""},"",{"$f":"IF(BV$7=$F81,$H81,\"\")","v":""},"",{"$f":"IF(BX$7=$F81,$H81,\"\")","v":""},"",{"$f":"IF(BZ$7=$F81,$H81,\"\")","v":""},"",{"$f":"IF(CB$7=$F81,$H81,\"\")","v":""},"",{"$f":"IF(CD$7=$F81,$H81,\"\")","v":""},"",{"$f":"IF(CF$7=$F81,$H81,\"\")","v":""},"",{"$f":"IF(CH$7=$F81,$H81,\"\")","v":""},"",{"$f":"IF(CJ$7=$F81,$H81,\"\")","v":""},"",{"$f":"IF(CL$7=$F81,$H81,\"\")","v":""},"",{"$f":"IF(CN$7=$F81,$H81,\"\")","v":""},"",{"$f":"IF(CP$7=$F81,$H81,\"\")","v":""},"",{"$f":"IF(CR$7=$F81,$H81,\"\")","v":""},"",{"$f":"IF(CT$7=$F81,$H81,\"\")","v":""},"",{"$f":"IF(CV$7=$F81,$H81,\"\")","v":""},"",{"$f":"IF(CX$7=$F81,$H81,\"\")","v":""},"",{"$f":"IF(CZ$7=$F81,$H81,\"\")","v":""},"",{"$f":"IF(DB$7=$F81,$H81,\"\")","v":""},"",{"$f":"IF(DD$7=$F81,$H81,\"\")","v":""},"",{"$f":"IF(DF$7=$F81,$H81,\"\")","v":""},0,{"$f":"IF(DH$7=$F81,$H81,\"\")","v":0},0,{"$f":"IF(DJ$7=$F81,$H81,\"\")","v":0},0,{"$f":"IF(DL$7=$F81,$H81,\"\")","v":0},0,{"$f":"IF(DN$7=$F81,$H81,\"\")","v":0},0,{"$f":"IF(DP$7=$F81,$H81,\"\")","v":0},0,{"$f":"IF(DR$7=$F81,$H81,\"\")","v":0},0,{"$f":"IF(DT$7=$F81,$H81,\"\")","v":0},0,{"$f":"IF(DV$7=$F81,$H81,\"\")","v":0},0,{"$f":"IF(DX$7=$F81,$H81,\"\")","v":0},0,{"$f":"IF(DZ$7=$F81,$H81,\"\")","v":0},0,{"$f":"IF(EB$7=$F81,$H81,\"\")","v":0},0,{"$f":"IF(ED$7=$F81,$H81,\"\")","v":0},0,{"$f":"IF(EF$7=$F81,$H81,\"\")","v":0},0,{"$f":"IF(EH$7=$F81,$H81,\"\")","v":0},0,{"$f":"IF(EJ$7=$F81,$H81,\"\")","v":0},0,{"$f":"IF(EL$7=$F81,$H81,\"\")","v":0},0,{"$f":"IF(EN$7=$F81,$H81,\"\")","v":0},0,{"$f":"IF(EP$7=$F81,$H81,\"\")","v":0},0,{"$f":"IF(ER$7=$F81,$H81,\"\")","v":0},0,{"$f":"IF(ET$7=$F81,$H81,\"\")","v":0},0,{"$f":"IF(EV$7=$F81,$H81,\"\")","v":0},0,{"$f":"IF(EX$7=$F81,$H81,\"\")","v":0},0,{"$f":"IF(EZ$7=$F81,$H81,\"\")","v":0},0,{"$f":"IF(FB$7=$F81,$H81,\"\")","v":0},0,{"$f":"IF(FD$7=$F81,$H81,\"\")","v":0},0,{"$f":"IF(FF$7=$F81,$H81,\"\")","v":0},0,{"$f":"IF(FH$7=$F81,$H81,\"\")","v":0},0,{"$f":"IF(FJ$7=$F81,$H81,\"\")","v":0},0,{"$f":"IF(FL$7=$F81,$H81,\"\")","v":0},0,0]
[74,null,null,null,null,null,null,null,true,0,0,"","","",{"$f":"IF(N$7=$F82,$H82,\"\")","v":""},"",{"$f":"IF(P$7=$F82,$H82,\"\")","v":""},"",{"$f":"IF(R$7=$F82,$H82,\"\")","v":""},"",{"$f":"IF(T$7=$F82,$H82,\"\")","v":""},"",{"$f":"IF(V$7=$F82,$H82,\"\")","v":""},"",{"$f":"IF(X$7=$F82,$H82,\"\")","v":""},"",{"$f":"IF(Z$7=$F82,$H82,\"\")","v":""},"",{"$f":"IF(AB$7=$F82,$H82,\"\")","v":""},"",{"$f":"IF(AD$7=$F82,$H82,\"\")","v":""},"",{"$f":"IF(AF$7=$F82,$H82,\"\")","v":""},"",{"$f":"IF(AH$7=$F82,$H82,\"\")","v":""},"",{"$f":"IF(AJ$7=$F82,$H82,\"\")","v":""},"",{"$f":"IF(AL$7=$F82,$H82,\"\")","v":""},"",{"$f":"IF(AN$7=$F82,$H82,\"\")","v":""},"",{"$f":"IF(AP$7=$F82,$H82,\"\")","v":""},"",{"$f":"IF(AR$7=$F82,$H82,\"\")","v":""},"",{"$f":"IF(AT$7=$F82,$H82,\"\")","v":""},"",{"$f":"IF(AV$7=$F82,$H82,\"\")","v":""},"",{"$f":"IF(AX$7=$F82,$H82,\"\")","v":""},"",{"$f":"IF(AZ$7=$F82,$H82,\"\")","v":""},"",{"$f":"IF(BB$7=$F82,$H82,\"\")","v":""},"",{"$f":"IF(BD$7=$F82,$H82,\"\")","v":""},"",{"$f":"IF(BF$7=$F82,$H82,\"\")","v":""},"",{"$f":"IF(BH$7=$F82,$H82,\"\")","v":""},"",{"$f":"IF(BJ$7=$F82,$H82,\"\")","v":""},"",{"$f":"IF(BL$7=$F82,$H82,\"\")","v":""},"",{"$f":"IF(BN$7=$F82,$H82,\"\")","v":""},"",{"$f":"IF(BP$7=$F82,$H82,\"\")","v":""},"",{"$f":"IF(BR$7=$F82,$H82,\"\")","v":""},"",{"$f":"IF(BT$7=$F82,$H82,\"\")","v":""},"",{"$f":"IF(BV$7=$F82,$H82,\"\")","v":""},"",{"$f":"IF(BX$7=$F82,$H82,\"\")","v":""},"",{"$f":"IF(BZ$7=$F82,$H82,\"\")","v":""},"",{"$f":"IF(CB$7=$F82,$H82,\"\")","v":""},"",{"$f":"IF(CD$7=$F82,$H82,\"\")","v":""},"",{"$f":"IF(CF$7=$F82,$H82,\"\")","v":""},"",{"$f":"IF(CH$7=$F82,$H82,\"\")","v":""},"",{"$f":"IF(CJ$7=$F82,$H82,\"\")","v":""},"",{"$f":"IF(CL$7=$F82,$H82,\"\")","v":""},"",{"$f":"IF(CN$7=$F82,$H82,\"\")","v":""},"",{"$f":"IF(CP$7=$F82,$H82,\"\")","v":""},"",{"$f":"IF(CR$7=$F82,$H82,\"\")","v":""},"",{"$f":"IF(CT$7=$F82,$H82,\"\")","v":""},"",{"$f":"IF(CV$7=$F82,$H82,\"\")","v":""},"",{"$f":"IF(CX$7=$F82,$H82,\"\")","v":""},"",{"$f":"IF(CZ$7=$F82,$H82,\"\")","v":""},"",{"$f":"IF(DB$7=$F82,$H82,\"\")","v":""},"",{"$f":"IF(DD$7=$F82,$H82,\"\")","v":""},"",{"$f":"IF(DF$7=$F82,$H82,\"\")","v":""},0,{"$f":"IF(DH$7=$F82,$H82,\"\")","v":0},0,{"$f":"IF(DJ$7=$F82,$H82,\"\")","v":0},0,{"$f":"IF(DL$7=$F82,$H82,\"\")","v":0},0,{"$f":"IF(DN$7=$F82,$H82,\"\")","v":0},0,{"$f":"IF(DP$7=$F82,$H82,\"\")","v":0},0,{"$f":"IF(DR$7=$F82,$H82,\"\")","v":0},0,{"$f":"IF(DT$7=$F82,$H82,\"\")","v":0},0,{"$f":"IF(DV$7=$F82,$H82,\"\")","v":0},0,{"$f":"IF(DX$7=$F82,$H82,\"\")","v":0},0,{"$f":"IF(DZ$7=$F82,$H82,\"\")","v":0},0,{"$f":"IF(EB$7=$F82,$H82,\"\")","v":0},0,{"$f":"IF(ED$7=$F82,$H82,\"\")","v":0},0,{"$f":"IF(EF$7=$F82,$H82,\"\")","v":0},0,{"$f":"IF(EH$7=$F82,$H82,\"\")","v":0},0,{"$f":"IF(EJ$7=$F82,$H82,\"\")","v":0},0,{"$f":"IF(EL$7=$F82,$H82,\"\")","v":0},0,{"$f":"IF(EN$7=$F82,$H82,\"\")","v":0},0,{"$f":"IF(EP$7=$F82,$H82,\"\")","v":0},0,{"$f":"IF(ER$7=$F82,$H82,\"\")","v":0},0,{"$f":"IF(ET$7=$F82,$H82,\"\")","v":0},0,{"$f":"IF(EV$7=$F82,$H82,\"\")","v":0},0,{"$f":"IF(EX$7=$F82,$H82,\"\")","v":0},0,{"$f":"IF(EZ$7=$F82,$H82,\"\")","v":0},0,{"$f":"IF(FB$7=$F82,$H82,\"\")","v":0},0,{"$f":"IF(FD$7=$F82,$H82,\"\")","v":0},0,{"$f":"IF(FF$7=$F82,$H82,\"\")","v":0},0,{"$f":"IF(FH$7=$F82,$H82,\"\")","v":0},0,{"$f":"IF(FJ$7=$F82,$H82,\"\")","v":0},0,{"$f":"IF(FL$7=$F82,$H82,\"\")","v":0},0,0]
[75,null,null,null,null,null,null,null,true,0,0,"","","",{"$f":"IF(N$7=$F83,$H83,\"\")","v":""},"",{"$f":"IF(P$7=$F83,$H83,\"\")","v":""},"",{"$f":"IF(R$7=$F83,$H83,\"\")","v":""},"",{"$f":"IF(T$7=$F83,$H83,\"\")","v":""},"",{"$f":"IF(V$7=$F83,$H83,\"\")","v":""},"",{"$f":"IF(X$7=$F83,$H83,\"\")","v":""},"",{"$f":"IF(Z$7=$F83,$H83,\"\")","v":""},"",{"$f":"IF(AB$7=$F83,$H83,\"\")","v":""},"",{"$f":"IF(AD$7=$F83,$H83,\"\")","v":""},"",{"$f":"IF(AF$7=$F83,$H83,\"\")","v":""},"",{"$f":"IF(AH$7=$F83,$H83,\"\")","v":""},"",{"$f":"IF(AJ$7=$F83,$H83,\"\")","v":""},"",{"$f":"IF(AL$7=$F83,$H83,\"\")","v":""},"",{"$f":"IF(AN$7=$F83,$H83,\"\")","v":""},"",{"$f":"IF(AP$7=$F83,$H83,\"\")","v":""},"",{"$f":"IF(AR$7=$F83,$H83,\"\")","v":""},"",{"$f":"IF(AT$7=$F83,$H83,\"\")","v":""},"",{"$f":"IF(AV$7=$F83,$H83,\"\")","v":""},"",{"$f":"IF(AX$7=$F83,$H83,\"\")","v":""},"",{"$f":"IF(AZ$7=$F83,$H83,\"\")","v":""},"",{"$f":"IF(BB$7=$F83,$H83,\"\")","v":""},"",{"$f":"IF(BD$7=$F83,$H83,\"\")","v":""},"",{"$f":"IF(BF$7=$F83,$H83,\"\")","v":""},"",{"$f":"IF(BH$7=$F83,$H83,\"\")","v":""},"",{"$f":"IF(BJ$7=$F83,$H83,\"\")","v":""},"",{"$f":"IF(BL$7=$F83,$H83,\"\")","v":""},"",{"$f":"IF(BN$7=$F83,$H83,\"\")","v":""},"",{"$f":"IF(BP$7=$F83,$H83,\"\")","v":""},"",{"$f":"IF(BR$7=$F83,$H83,\"\")","v":""},"",{"$f":"IF(BT$7=$F83,$H83,\"\")","v":""},"",{"$f":"IF(BV$7=$F83,$H83,\"\")","v":""},"",{"$f":"IF(BX$7=$F83,$H83,\"\")","v":""},"",{"$f":"IF(BZ$7=$F83,$H83,\"\")","v":""},"",{"$f":"IF(CB$7=$F83,$H83,\"\")","v":""},"",{"$f":"IF(CD$7=$F83,$H83,\"\")","v":""},"",{"$f":"IF(CF$7=$F83,$H83,\"\")","v":""},"",{"$f":"IF(CH$7=$F83,$H83,\"\")","v":""},"",{"$f":"IF(CJ$7=$F83,$H83,\"\")","v":""},"",{"$f":"IF(CL$7=$F83,$H83,\"\")","v":""},"",{"$f":"IF(CN$7=$F83,$H83,\"\")","v":""},"",{"$f":"IF(CP$7=$F83,$H83,\"\")","v":""},"",{"$f":"IF(CR$7=$F83,$H83,\"\")","v":""},"",{"$f":"IF(CT$7=$F83,$H83,\"\")","v":""},"",{"$f":"IF(CV$7=$F83,$H83,\"\")","v":""},"",{"$f":"IF(CX$7=$F83,$H83,\"\")","v":""},"",{"$f":"IF(CZ$7=$F83,$H83,\"\")","v":""},"",{"$f":"IF(DB$7=$F83,$H83,\"\")","v":""},"",{"$f":"IF(DD$7=$F83,$H83,\"\")","v":""},"",{"$f":"IF(DF$7=$F83,$H83,\"\")","v":""},0,{"$f":"IF(DH$7=$F83,$H83,\"\")","v":0},0,{"$f":"IF(DJ$7=$F83,$H83,\"\")","v":0},0,{"$f":"IF(DL$7=$F83,$H83,\"\")","v":0},0,{"$f":"IF(DN$7=$F83,$H83,\"\")","v":0},0,{"$f":"IF(DP$7=$F83,$H83,\"\")","v":0},0,{"$f":"IF(DR$7=$F83,$H83,\"\")","v":0},0,{"$f":"IF(DT$7=$F83,$H83,\"\")","v":0},0,{"$f":"IF(DV$7=$F83,$H83,\"\")","v":0},0,{"$f":"IF(DX$7=$F83,$H83,\"\")","v":0},0,{"$f":"IF(DZ$7=$F83,$H83,\"\")","v":0},0,{"$f":"IF(EB$7=$F83,$H83,\"\")","v":0},0,{"$f":"IF(ED$7=$F83,$H83,\"\")","v":0},0,{"$f":"IF(EF$7=$F83,$H83,\"\")","v":0},0,{"$f":"IF(EH$7=$F83,$H83,\"\")","v":0},0,{"$f":"IF(EJ$7=$F83,$H83,\"\")","v":0},0,{"$f":"IF(EL$7=$F83,$H83,\"\")","v":0},0,{"$f":"IF(EN$7=$F83,$H83,\"\")","v":0},0,{"$f":"IF(EP$7=$F83,$H83,\"\")","v":0},0,{"$f":"IF(ER$7=$F83,$H83,\"\")","v":0},0,{"$f":"IF(ET$7=$F83,$H83,\"\")","v":0},0,{"$f":"IF(EV$7=$F83,$H83,\"\")","v":0},0,{"$f":"IF(EX$7=$F83,$H83,\"\")","v":0},0,{"$f":"IF(EZ$7=$F83,$H83,\"\")","v":0},0,{"$f":"IF(FB$7=$F83,$H83,\"\")","v":0},0,{"$f":"IF(FD$7=$F83,$H83,\"\")","v":0},0,{"$f":"IF(FF$7=$F83,$H83,\"\")","v":0},0,{"$f":"IF(FH$7=$F83,$H83,\"\")","v":0},0,{"$f":"IF(FJ$7=$F83,$H83,\"\")","v":0},0,{"$f":"IF(FL$7=$F83,$H83,\"\")","v":0},0,0]
[76,null,null,null,null,null,null,null,true,0,0,"","","",{"$f":"IF(N$7=$F84,$H84,\"\")","v":""},"",{"$f":"IF(P$7=$F84,$H84,\"\")","v":""},"",{"$f":"IF(R$7=$F84,$H84,\"\")","v":""},"",{"$f":"IF(T$7=$F84,$H84,\"\")","v":""},"",{"$f":"IF(V$7=$F84,$H84,\"\")","v":""},"",{"$f":"IF(X$7=$F84,$H84,\"\")","v":""},"",{"$f":"IF(Z$7=$F84,$H84,\"\")","v":""},"",{"$f":"IF(AB$7=$F84,$H84,\"\")","v":""},"",{"$f":"IF(AD$7=$F84,$H84,\"\")","v":""},"",{"$f":"IF(AF$7=$F84,$H84,\"\")","v":""},"",{"$f":"IF(AH$7=$F84,$H84,\"\")","v":""},"",{"$f":"IF(AJ$7=$F84,$H84,\"\")","v":""},"",{"$f":"IF(AL$7=$F84,$H84,\"\")","v":""},"",{"$f":"IF(AN$7=$F84,$H84,\"\")","v":""},"",{"$f":"IF(AP$7=$F84,$H84,\"\")","v":""},"",{"$f":"IF(AR$7=$F84,$H84,\"\")","v":""},"",{"$f":"IF(AT$7=$F84,$H84,\"\")","v":""},"",{"$f":"IF(AV$7=$F84,$H84,\"\")","v":""},"",{"$f":"IF(AX$7=$F84,$H84,\"\")","v":""},"",{"$f":"IF(AZ$7=$F84,$H84,\"\")","v":""},"",{"$f":"IF(BB$7=$F84,$H84,\"\")","v":""},"",{"$f":"IF(BD$7=$F84,$H84,\"\")","v":""},"",{"$f":"IF(BF$7=$F84,$H84,\"\")","v":""},"",{"$f":"IF(BH$7=$F84,$H84,\"\")","v":""},"",{"$f":"IF(BJ$7=$F84,$H84,\"\")","v":""},"",{"$f":"IF(BL$7=$F84,$H84,\"\")","v":""},"",{"$f":"IF(BN$7=$F84,$H84,\"\")","v":""},"",{"$f":"IF(BP$7=$F84,$H84,\"\")","v":""},"",{"$f":"IF(BR$7=$F84,$H84,\"\")","v":""},"",{"$f":"IF(BT$7=$F84,$H84,\"\")","v":""},"",{"$f":"IF(BV$7=$F84,$H84,\"\")","v":""},"",{"$f":"IF(BX$7=$F84,$H84,\"\")","v":""},"",{"$f":"IF(BZ$7=$F84,$H84,\"\")","v":""},"",{"$f":"IF(CB$7=$F84,$H84,\"\")","v":""},"",{"$f":"IF(CD$7=$F84,$H84,\"\")","v":""},"",{"$f":"IF(CF$7=$F84,$H84,\"\")","v":""},"",{"$f":"IF(CH$7=$F84,$H84,\"\")","v":""},"",{"$f":"IF(CJ$7=$F84,$H84,\"\")","v":""},"",{"$f":"IF(CL$7=$F84,$H84,\"\")","v":""},"",{"$f":"IF(CN$7=$F84,$H84,\"\")","v":""},"",{"$f":"IF(CP$7=$F84,$H84,\"\")","v":""},"",{"$f":"IF(CR$7=$F84,$H84,\"\")","v":""},"",{"$f":"IF(CT$7=$F84,$H84,\"\")","v":""},"",{"$f":"IF(CV$7=$F84,$H84,\"\")","v":""},"",{"$f":"IF(CX$7=$F84,$H84,\"\")","v":""},"",{"$f":"IF(CZ$7=$F84,$H84,\"\")","v":""},"",{"$f":"IF(DB$7=$F84,$H84,\"\")","v":""},"",{"$f":"IF(DD$7=$F84,$H84,\"\")","v":""},"",{"$f":"IF(DF$7=$F84,$H84,\"\")","v":""},0,{"$f":"IF(DH$7=$F84,$H84,\"\")","v":0},0,{"$f":"IF(DJ$7=$F84,$H84,\"\")","v":0},0,{"$f":"IF(DL$7=$F84,$H84,\"\")","v":0},0,{"$f":"IF(DN$7=$F84,$H84,\"\")","v":0},0,{"$f":"IF(DP$7=$F84,$H84,\"\")","v":0},0,{"$f":"IF(DR$7=$F84,$H84,\"\")","v":0},0,{"$f":"IF(DT$7=$F84,$H84,\"\")","v":0},0,{"$f":"IF(DV$7=$F84,$H84,\"\")","v":0},0,{"$f":"IF(DX$7=$F84,$H84,\"\")","v":0},0,{"$f":"IF(DZ$7=$F84,$H84,\"\")","v":0},0,{"$f":"IF(EB$7=$F84,$H84,\"\")","v":0},0,{"$f":"IF(ED$7=$F84,$H84,\"\")","v":0},0,{"$f":"IF(EF$7=$F84,$H84,\"\")","v":0},0,{"$f":"IF(EH$7=$F84,$H84,\"\")","v":0},0,{"$f":"IF(EJ$7=$F84,$H84,\"\")","v":0},0,{"$f":"IF(EL$7=$F84,$H84,\"\")","v":0},0,{"$f":"IF(EN$7=$F84,$H84,\"\")","v":0},0,{"$f":"IF(EP$7=$F84,$H84,\"\")","v":0},0,{"$f":"IF(ER$7=$F84,$H84,\"\")","v":0},0,{"$f":"IF(ET$7=$F84,$H84,\"\")","v":0},0,{"$f":"IF(EV$7=$F84,$H84,\"\")","v":0},0,{"$f":"IF(EX$7=$F84,$H84,\"\")","v":0},0,{"$f":"IF(EZ$7=$F84,$H84,\"\")","v":0},0,{"$f":"IF(FB$7=$F84,$H84,\"\")","v":0},0,{"$f":"IF(FD$7=$F84,$H84,\"\")","v":0},0,{"$f":"IF(FF$7=$F84,$H84,\"\")","v":0},0,{"$f":"IF(FH$7=$F84,$H84,\"\")","v":0},0,{"$f":"IF(FJ$7=$F84,$H84,\"\")","v":0},0,{"$f":"IF(FL$7=$F84,$H84,\"\")","v":0},0,0]
[77,null,null,null,null,null,null,null,true,0,0,"","","",{"$f":"IF(N$7=$F85,$H85,\"\")","v":""},"",{"$f":"IF(P$7=$F85,$H85,\"\")","v":""},"",{"$f":"IF(R$7=$F85,$H85,\"\")","v":""},"",{"$f":"IF(T$7=$F85,$H85,\"\")","v":""},"",{"$f":"IF(V$7=$F85,$H85,\"\")","v":""},"",{"$f":"IF(X$7=$F85,$H85,\"\")","v":""},"",{"$f":"IF(Z$7=$F85,$H85,\"\")","v":""},"",{"$f":"IF(AB$7=$F85,$H85,\"\")","v":""},"",{"$f":"IF(AD$7=$F85,$H85,\"\")","v":""},"",{"$f":"IF(AF$7=$F85,$H85,\"\")","v":""},"",{"$f":"IF(AH$7=$F85,$H85,\"\")","v":""},"",{"$f":"IF(AJ$7=$F85,$H85,\"\")","v":""},"",{"$f":"IF(AL$7=$F85,$H85,\"\")","v":""},"",{"$f":"IF(AN$7=$F85,$H85,\"\")","v":""},"",{"$f":"IF(AP$7=$F85,$H85,\"\")","v":""},"",{"$f":"IF(AR$7=$F85,$H85,\"\")","v":""},"",{"$f":"IF(AT$7=$F85,$H85,\"\")","v":""},"",{"$f":"IF(AV$7=$F85,$H85,\"\")","v":""},"",{"$f":"IF(AX$7=$F85,$H85,\"\")","v":""},"",{"$f":"IF(AZ$7=$F85,$H85,\"\")","v":""},"",{"$f":"IF(BB$7=$F85,$H85,\"\")","v":""},"",{"$f":"IF(BD$7=$F85,$H85,\"\")","v":""},"",{"$f":"IF(BF$7=$F85,$H85,\"\")","v":""},"",{"$f":"IF(BH$7=$F85,$H85,\"\")","v":""},"",{"$f":"IF(BJ$7=$F85,$H85,\"\")","v":""},"",{"$f":"IF(BL$7=$F85,$H85,\"\")","v":""},"",{"$f":"IF(BN$7=$F85,$H85,\"\")","v":""},"",{"$f":"IF(BP$7=$F85,$H85,\"\")","v":""},"",{"$f":"IF(BR$7=$F85,$H85,\"\")","v":""},"",{"$f":"IF(BT$7=$F85,$H85,\"\")","v":""},"",{"$f":"IF(BV$7=$F85,$H85,\"\")","v":""},"",{"$f":"IF(BX$7=$F85,$H85,\"\")","v":""},"",{"$f":"IF(BZ$7=$F85,$H85,\"\")","v":""},"",{"$f":"IF(CB$7=$F85,$H85,\"\")","v":""},"",{"$f":"IF(CD$7=$F85,$H85,\"\")","v":""},"",{"$f":"IF(CF$7=$F85,$H85,\"\")","v":""},"",{"$f":"IF(CH$7=$F85,$H85,\"\")","v":""},"",{"$f":"IF(CJ$7=$F85,$H85,\"\")","v":""},"",{"$f":"IF(CL$7=$F85,$H85,\"\")","v":""},"",{"$f":"IF(CN$7=$F85,$H85,\"\")","v":""},"",{"$f":"IF(CP$7=$F85,$H85,\"\")","v":""},"",{"$f":"IF(CR$7=$F85,$H85,\"\")","v":""},"",{"$f":"IF(CT$7=$F85,$H85,\"\")","v":""},"",{"$f":"IF(CV$7=$F85,$H85,\"\")","v":""},"",{"$f":"IF(CX$7=$F85,$H85,\"\")","v":""},"",{"$f":"IF(CZ$7=$F85,$H85,\"\")","v":""},"",{"$f":"IF(DB$7=$F85,$H85,\"\")","v":""},"",{"$f":"IF(DD$7=$F85,$H85,\"\")","v":""},"",{"$f":"IF(DF$7=$F85,$H85,\"\")","v":""},0,{"$f":"IF(DH$7=$F85,$H85,\"\")","v":0},0,{"$f":"IF(DJ$7=$F85,$H85,\"\")","v":0},0,{"$f":"IF(DL$7=$F85,$H85,\"\")","v":0},0,{"$f":"IF(DN$7=$F85,$H85,\"\")","v":0},0,{"$f":"IF(DP$7=$F85,$H85,\"\")","v":0},0,{"$f":"IF(DR$7=$F85,$H85,\"\")","v":0},0,{"$f":"IF(DT$7=$F85,$H85,\"\")","v":0},0,{"$f":"IF(DV$7=$F85,$H85,\"\")","v":0},0,{"$f":"IF(DX$7=$F85,$H85,\"\")","v":0},0,{"$f":"IF(DZ$7=$F85,$H85,\"\")","v":0},0,{"$f":"IF(EB$7=$F85,$H85,\"\")","v":0},0,{"$f":"IF(ED$7=$F85,$H85,\"\")","v":0},0,{"$f":"IF(EF$7=$F85,$H85,\"\")","v":0},0,{"$f":"IF(EH$7=$F85,$H85,\"\")","v":0},0,{"$f":"IF(EJ$7=$F85,$H85,\"\")","v":0},0,{"$f":"IF(EL$7=$F85,$H85,\"\")","v":0},0,{"$f":"IF(EN$7=$F85,$H85,\"\")","v":0},0,{"$f":"IF(EP$7=$F85,$H85,\"\")","v":0},0,{"$f":"IF(ER$7=$F85,$H85,\"\")","v":0},0,{"$f":"IF(ET$7=$F85,$H85,\"\")","v":0},0,{"$f":"IF(EV$7=$F85,$H85,\"\")","v":0},0,{"$f":"IF(EX$7=$F85,$H85,\"\")","v":0},0,{"$f":"IF(EZ$7=$F85,$H85,\"\")","v":0},0,{"$f":"IF(FB$7=$F85,$H85,\"\")","v":0},0,{"$f":"IF(FD$7=$F85,$H85,\"\")","v":0},0,{"$f":"IF(FF$7=$F85,$H85,\"\")","v":0},0,{"$f":"IF(FH$7=$F85,$H85,\"\")","v":0},0,{"$f":"IF(FJ$7=$F85,$H85,\"\")","v":0},0,{"$f":"IF(FL$7=$F85,$H85,\"\")","v":0},0,0]
[78,null,null,null,null,null,null,null,true,0,0,"","","",{"$f":"IF(N$7=$F86,$H86,\"\")","v":""},"",{"$f":"IF(P$7=$F86,$H86,\"\")","v":""},"",{"$f":"IF(R$7=$F86,$H86,\"\")","v":""},"",{"$f":"IF(T$7=$F86,$H86,\"\")","v":""},"",{"$f":"IF(V$7=$F86,$H86,\"\")","v":""},"",{"$f":"IF(X$7=$F86,$H86,\"\")","v":""},"",{"$f":"IF(Z$7=$F86,$H86,\"\")","v":""},"",{"$f":"IF(AB$7=$F86,$H86,\"\")","v":""},"",{"$f":"IF(AD$7=$F86,$H86,\"\")","v":""},"",{"$f":"IF(AF$7=$F86,$H86,\"\")","v":""},"",{"$f":"IF(AH$7=$F86,$H86,\"\")","v":""},"",{"$f":"IF(AJ$7=$F86,$H86,\"\")","v":""},"",{"$f":"IF(AL$7=$F86,$H86,\"\")","v":""},"",{"$f":"IF(AN$7=$F86,$H86,\"\")","v":""},"",{"$f":"IF(AP$7=$F86,$H86,\"\")","v":""},"",{"$f":"IF(AR$7=$F86,$H86,\"\")","v":""},"",{"$f":"IF(AT$7=$F86,$H86,\"\")","v":""},"",{"$f":"IF(AV$7=$F86,$H86,\"\")","v":""},"",{"$f":"IF(AX$7=$F86,$H86,\"\")","v":""},"",{"$f":"IF(AZ$7=$F86,$H86,\"\")","v":""},"",{"$f":"IF(BB$7=$F86,$H86,\"\")","v":""},"",{"$f":"IF(BD$7=$F86,$H86,\"\")","v":""},"",{"$f":"IF(BF$7=$F86,$H86,\"\")","v":""},"",{"$f":"IF(BH$7=$F86,$H86,\"\")","v":""},"",{"$f":"IF(BJ$7=$F86,$H86,\"\")","v":""},"",{"$f":"IF(BL$7=$F86,$H86,\"\")","v":""},"",{"$f":"IF(BN$7=$F86,$H86,\"\")","v":""},"",{"$f":"IF(BP$7=$F86,$H86,\"\")","v":""},"",{"$f":"IF(BR$7=$F86,$H86,\"\")","v":""},"",{"$f":"IF(BT$7=$F86,$H86,\"\")","v":""},"",{"$f":"IF(BV$7=$F86,$H86,\"\")","v":""},"",{"$f":"IF(BX$7=$F86,$H86,\"\")","v":""},"",{"$f":"IF(BZ$7=$F86,$H86,\"\")","v":""},"",{"$f":"IF(CB$7=$F86,$H86,\"\")","v":""},"",{"$f":"IF(CD$7=$F86,$H86,\"\")","v":""},"",{"$f":"IF(CF$7=$F86,$H86,\"\")","v":""},"",{"$f":"IF(CH$7=$F86,$H86,\"\")","v":""},"",{"$f":"IF(CJ$7=$F86,$H86,\"\")","v":""},"",{"$f":"IF(CL$7=$F86,$H86,\"\")","v":""},"",{"$f":"IF(CN$7=$F86,$H86,\"\")","v":""},"",{"$f":"IF(CP$7=$F86,$H86,\"\")","v":""},"",{"$f":"IF(CR$7=$F86,$H86,\"\")","v":""},"",{"$f":"IF(CT$7=$F86,$H86,\"\")","v":""},"",{"$f":"IF(CV$7=$F86,$H86,\"\")","v":""},"",{"$f":"IF(CX$7=$F86,$H86,\"\")","v":""},"",{"$f":"IF(CZ$7=$F86,$H86,\"\")","v":""},"",{"$f":"IF(DB$7=$F86,$H86,\"\")","v":""},"",{"$f":"IF(DD$7=$F86,$H86,\"\")","v":""},"",{"$f":"IF(DF$7=$F86,$H86,\"\")","v":""},0,{"$f":"IF(DH$7=$F86,$H86,\"\")","v":0},0,{"$f":"IF(DJ$7=$F86,$H86,\"\")","v":0},0,{"$f":"IF(DL$7=$F86,$H86,\"\")","v":0},0,{"$f":"IF(DN$7=$F86,$H86,\"\")","v":0},0,{"$f":"IF(DP$7=$F86,$H86,\"\")","v":0},0,{"$f":"IF(DR$7=$F86,$H86,\"\")","v":0},0,{"$f":"IF(DT$7=$F86,$H86,\"\")","v":0},0,{"$f":"IF(DV$7=$F86,$H86,\"\")","v":0},0,{"$f":"IF(DX$7=$F86,$H86,\"\")","v":0},0,{"$f":"IF(DZ$7=$F86,$H86,\"\")","v":0},0,{"$f":"IF(EB$7=$F86,$H86,\"\")","v":0},0,{"$f":"IF(ED$7=$F86,$H86,\"\")","v":0},0,{"$f":"IF(EF$7=$F86,$H86,\"\")","v":0},0,{"$f":"IF(EH$7=$F86,$H86,\"\")","v":0},0,{"$f":"IF(EJ$7=$F86,$H86,\"\")","v":0},0,{"$f":"IF(EL$7=$F86,$H86,\"\")","v":0},0,{"$f":"IF(EN$7=$F86,$H86,\"\")","v":0},0,{"$f":"IF(EP$7=$F86,$H86,\"\")","v":0},0,{"$f":"IF(ER$7=$F86,$H86,\"\")","v":0},0,{"$f":"IF(ET$7=$F86,$H86,\"\")","v":0},0,{"$f":"IF(EV$7=$F86,$H86,\"\")","v":0},0,{"$f":"IF(EX$7=$F86,$H86,\"\")","v":0},0,{"$f":"IF(EZ$7=$F86,$H86,\"\")","v":0},0,{"$f":"IF(FB$7=$F86,$H86,\"\")","v":0},0,{"$f":"IF(FD$7=$F86,$H86,\"\")","v":0},0,{"$f":"IF(FF$7=$F86,$H86,\"\")","v":0},0,{"$f":"IF(FH$7=$F86,$H86,\"\")","v":0},0,{"$f":"IF(FJ$7=$F86,$H86,\"\")","v":0},0,{"$f":"IF(FL$7=$F86,$H86,\"\")","v":0},0,0]
[79,null,null,null,null,null,null,null,true,0,0,"","","",{"$f":"IF(N$7=$F87,$H87,\"\")","v":""},"",{"$f":"IF(P$7=$F87,$H87,\"\")","v":""},"",{"$f":"IF(R$7=$F87,$H87,\"\")","v":""},"",{"$f":"IF(T$7=$F87,$H87,\"\")","v":""},"",{"$f":"IF(V$7=$F87,$H87,\"\")","v":""},"",{"$f":"IF(X$7=$F87,$H87,\"\")","v":""},"",{"$f":"IF(Z$7=$F87,$H87,\"\")","v":""},"",{"$f":"IF(AB$7=$F87,$H87,\"\")","v":""},"",{"$f":"IF(AD$7=$F87,$H87,\"\")","v":""},"",{"$f":"IF(AF$7=$F87,$H87,\"\")","v":""},"",{"$f":"IF(AH$7=$F87,$H87,\"\")","v":""},"",{"$f":"IF(AJ$7=$F87,$H87,\"\")","v":""},"",{"$f":"IF(AL$7=$F87,$H87,\"\")","v":""},"",{"$f":"IF(AN$7=$F87,$H87,\"\")","v":""},"",{"$f":"IF(AP$7=$F87,$H87,\"\")","v":""},"",{"$f":"IF(AR$7=$F87,$H87,\"\")","v":""},"",{"$f":"IF(AT$7=$F87,$H87,\"\")","v":""},"",{"$f":"IF(AV$7=$F87,$H87,\"\")","v":""},"",{"$f":"IF(AX$7=$F87,$H87,\"\")","v":""},"",{"$f":"IF(AZ$7=$F87,$H87,\"\")","v":""},"",{"$f":"IF(BB$7=$F87,$H87,\"\")","v":""},"",{"$f":"IF(BD$7=$F87,$H87,\"\")","v":""},"",{"$f":"IF(BF$7=$F87,$H87,\"\")","v":""},"",{"$f":"IF(BH$7=$F87,$H87,\"\")","v":""},"",{"$f":"IF(BJ$7=$F87,$H87,\"\")","v":""},"",{"$f":"IF(BL$7=$F87,$H87,\"\")","v":""},"",{"$f":"IF(BN$7=$F87,$H87,\"\")","v":""},"",{"$f":"IF(BP$7=$F87,$H87,\"\")","v":""},"",{"$f":"IF(BR$7=$F87,$H87,\"\")","v":""},"",{"$f":"IF(BT$7=$F87,$H87,\"\")","v":""},"",{"$f":"IF(BV$7=$F87,$H87,\"\")","v":""},"",{"$f":"IF(BX$7=$F87,$H87,\"\")","v":""},"",{"$f":"IF(BZ$7=$F87,$H87,\"\")","v":""},"",{"$f":"IF(CB$7=$F87,$H87,\"\")","v":""},"",{"$f":"IF(CD$7=$F87,$H87,\"\")","v":""},"",{"$f":"IF(CF$7=$F87,$H87,\"\")","v":""},"",{"$f":"IF(CH$7=$F87,$H87,\"\")","v":""},"",{"$f":"IF(CJ$7=$F87,$H87,\"\")","v":""},"",{"$f":"IF(CL$7=$F87,$H87,\"\")","v":""},"",{"$f":"IF(CN$7=$F87,$H87,\"\")","v":""},"",{"$f":"IF(CP$7=$F87,$H87,\"\")","v":""},"",{"$f":"IF(CR$7=$F87,$H87,\"\")","v":""},"",{"$f":"IF(CT$7=$F87,$H87,\"\")","v":""},"",{"$f":"IF(CV$7=$F87,$H87,\"\")","v":""},"",{"$f":"IF(CX$7=$F87,$H87,\"\")","v":""},"",{"$f":"IF(CZ$7=$F87,$H87,\"\")","v":""},"",{"$f":"IF(DB$7=$F87,$H87,\"\")","v":""},"",{"$f":"IF(DD$7=$F87,$H87,\"\")","v":""},"",{"$f":"IF(DF$7=$F87,$H87,\"\")","v":""},0,{"$f":"IF(DH$7=$F87,$H87,\"\")","v":0},0,{"$f":"IF(DJ$7=$F87,$H87,\"\")","v":0},0,{"$f":"IF(DL$7=$F87,$H87,\"\")","v":0},0,{"$f":"IF(DN$7=$F87,$H87,\"\")","v":0},0,{"$f":"IF(DP$7=$F87,$H87,\"\")","v":0},0,{"$f":"IF(DR$7=$F87,$H87,\"\")","v":0},0,{"$f":"IF(DT$7=$F87,$H87,\"\")","v":0},0,{"$f":"IF(DV$7=$F87,$H87,\"\")","v":0},0,{"$f":"IF(DX$7=$F87,$H87,\"\")","v":0},0,{"$f":"IF(DZ$7=$F87,$H87,\"\")","v":0},0,{"$f":"IF(EB$7=$F87,$H87,\"\")","v":0},0,{"$f":"IF(ED$7=$F87,$H87,\"\")","v":0},0,{"$f":"IF(EF$7=$F87,$H87,\"\")","v":0},0,{"$f":"IF(EH$7=$F87,$H87,\"\")","v":0},0,{"$f":"IF(EJ$7=$F87,$H87,\"\")","v":0},0,{"$f":"IF(EL$7=$F87,$H87,\"\")","v":0},0,{"$f":"IF(EN$7=$F87,$H87,\"\")","v":0},0,{"$f":"IF(EP$7=$F87,$H87,\"\")","v":0},0,{"$f":"IF(ER$7=$F87,$H87,\"\")","v":0},0,{"$f":"IF(ET$7=$F87,$H87,\"\")","v":0},0,{"$f":"IF(EV$7=$F87,$H87,\"\")","v":0},0,{"$f":"IF(EX$7=$F87,$H87,\"\")","v":0},0,{"$f":"IF(EZ$7=$F87,$H87,\"\")","v":0},0,{"$f":"IF(FB$7=$F87,$H87,\"\")","v":0},0,{"$f":"IF(FD$7=$F87,$H87,\"\")","v":0},0,{"$f":"IF(FF$7=$F87,$H87,\"\")","v":0},0,{"$f":"IF(FH$7=$F87,$H87,\"\")","v":0},0,{"$f":"IF(FJ$7=$F87,$H87,\"\")","v":0},0,{"$f":"IF(FL$7=$F87,$H87,\"\")","v":0},0,0]
[80,null,null,null,null,null,null,null,true,0,0,"","","",{"$f":"IF(N$7=$F88,$H88,\"\")","v":""},"",{"$f":"IF(P$7=$F88,$H88,\"\")","v":""},"",{"$f":"IF(R$7=$F88,$H88,\"\")","v":""},"",{"$f":"IF(T$7=$F88,$H88,\"\")","v":""},"",{"$f":"IF(V$7=$F88,$H88,\"\")","v":""},"",{"$f":"IF(X$7=$F88,$H88,\"\")","v":""},"",{"$f":"IF(Z$7=$F88,$H88,\"\")","v":""},"",{"$f":"IF(AB$7=$F88,$H88,\"\")","v":""},"",{"$f":"IF(AD$7=$F88,$H88,\"\")","v":""},"",{"$f":"IF(AF$7=$F88,$H88,\"\")","v":""},"",{"$f":"IF(AH$7=$F88,$H88,\"\")","v":""},"",{"$f":"IF(AJ$7=$F88,$H88,\"\")","v":""},"",{"$f":"IF(AL$7=$F88,$H88,\"\")","v":""},"",{"$f":"IF(AN$7=$F88,$H88,\"\")","v":""},"",{"$f":"IF(AP$7=$F88,$H88,\"\")","v":""},"",{"$f":"IF(AR$7=$F88,$H88,\"\")","v":""},"",{"$f":"IF(AT$7=$F88,$H88,\"\")","v":""},"",{"$f":"IF(AV$7=$F88,$H88,\"\")","v":""},"",{"$f":"IF(AX$7=$F88,$H88,\"\")","v":""},"",{"$f":"IF(AZ$7=$F88,$H88,\"\")","v":""},"",{"$f":"IF(BB$7=$F88,$H88,\"\")","v":""},"",{"$f":"IF(BD$7=$F88,$H88,\"\")","v":""},"",{"$f":"IF(BF$7=$F88,$H88,\"\")","v":""},"",{"$f":"IF(BH$7=$F88,$H88,\"\")","v":""},"",{"$f":"IF(BJ$7=$F88,$H88,\"\")","v":""},"",{"$f":"IF(BL$7=$F88,$H88,\"\")","v":""},"",{"$f":"IF(BN$7=$F88,$H88,\"\")","v":""},"",{"$f":"IF(BP$7=$F88,$H88,\"\")","v":""},"",{"$f":"IF(BR$7=$F88,$H88,\"\")","v":""},"",{"$f":"IF(BT$7=$F88,$H88,\"\")","v":""},"",{"$f":"IF(BV$7=$F88,$H88,\"\")","v":""},"",{"$f":"IF(BX$7=$F88,$H88,\"\")","v":""},"",{"$f":"IF(BZ$7=$F88,$H88,\"\")","v":""},"",{"$f":"IF(CB$7=$F88,$H88,\"\")","v":""},"",{"$f":"IF(CD$7=$F88,$H88,\"\")","v":""},"",{"$f":"IF(CF$7=$F88,$H88,\"\")","v":""},"",{"$f":"IF(CH$7=$F88,$H88,\"\")","v":""},"",{"$f":"IF(CJ$7=$F88,$H88,\"\")","v":""},"",{"$f":"IF(CL$7=$F88,$H88,\"\")","v":""},"",{"$f":"IF(CN$7=$F88,$H88,\"\")","v":""},"",{"$f":"IF(CP$7=$F88,$H88,\"\")","v":""},"",{"$f":"IF(CR$7=$F88,$H88,\"\")","v":""},"",{"$f":"IF(CT$7=$F88,$H88,\"\")","v":""},"",{"$f":"IF(CV$7=$F88,$H88,\"\")","v":""},"",{"$f":"IF(CX$7=$F88,$H88,\"\")","v":""},"",{"$f":"IF(CZ$7=$F88,$H88,\"\")","v":""},"",{"$f":"IF(DB$7=$F88,$H88,\"\")","v":""},"",{"$f":"IF(DD$7=$F88,$H88,\"\")","v":""},"",{"$f":"IF(DF$7=$F88,$H88,\"\")","v":""},0,{"$f":"IF(DH$7=$F88,$H88,\"\")","v":0},0,{"$f":"IF(DJ$7=$F88,$H88,\"\")","v":0},0,{"$f":"IF(DL$7=$F88,$H88,\"\")","v":0},0,{"$f":"IF(DN$7=$F88,$H88,\"\")","v":0},0,{"$f":"IF(DP$7=$F88,$H88,\"\")","v":0},0,{"$f":"IF(DR$7=$F88,$H88,\"\")","v":0},0,{"$f":"IF(DT$7=$F88,$H88,\"\")","v":0},0,{"$f":"IF(DV$7=$F88,$H88,\"\")","v":0},0,{"$f":"IF(DX$7=$F88,$H88,\"\")","v":0},0,{"$f":"IF(DZ$7=$F88,$H88,\"\")","v":0},0,{"$f":"IF(EB$7=$F88,$H88,\"\")","v":0},0,{"$f":"IF(ED$7=$F88,$H88,\"\")","v":0},0,{"$f":"IF(EF$7=$F88,$H88,\"\")","v":0},0,{"$f":"IF(EH$7=$F88,$H88,\"\")","v":0},0,{"$f":"IF(EJ$7=$F88,$H88,\"\")","v":0},0,{"$f":"IF(EL$7=$F88,$H88,\"\")","v":0},0,{"$f":"IF(EN$7=$F88,$H88,\"\")","v":0},0,{"$f":"IF(EP$7=$F88,$H88,\"\")","v":0},0,{"$f":"IF(ER$7=$F88,$H88,\"\")","v":0},0,{"$f":"IF(ET$7=$F88,$H88,\"\")","v":0},0,{"$f":"IF(EV$7=$F88,$H88,\"\")","v":0},0,{"$f":"IF(EX$7=$F88,$H88,\"\")","v":0},0,{"$f":"IF(EZ$7=$F88,$H88,\"\")","v":0},0,{"$f":"IF(FB$7=$F88,$H88,\"\")","v":0},0,{"$f":"IF(FD$7=$F88,$H88,\"\")","v":0},0,{"$f":"IF(FF$7=$F88,$H88,\"\")","v":0},0,{"$f":"IF(FH$7=$F88,$H88,\"\")","v":0},0,{"$f":"IF(FJ$7=$F88,$H88,\"\")","v":0},0,{"$f":"IF(FL$7=$F88,$H88,\"\")","v":0},0,0]
[81,null,null,null,null,null,null,null,true,0,0,"","",{"$f":"IF(N$7=$E89,$G89,\"\")","v":""},{"$f":"IF(N$7=$F89,$H89,\"\")","v":""},{"$f":"IF(P$7=$E89,$G89,\"\")","v":""},{"$f":"IF(P$7=$F89,$H89,\"\")","v":""},{"$f":"IF(R$7=$E89,$G89,\"\")","v":""},{"$f":"IF(R$7=$F89,$H89,\"\")","v":""},{"$f":"IF(T$7=$E89,$G89,\"\")","v":""},{"$f":"IF(T$7=$F89,$H89,\"\")","v":""},{"$f":"IF(V$7=$E89,$G89,\"\")","v":""},{"$f":"IF(V$7=$F89,$H89,\"\")","v":""},{"$f":"IF(X$7=$E89,$G89,\"\")","v":""},{"$f":"IF(X$7=$F89,$H89,\"\")","v":""},{"$f":"IF(Z$7=$E89,$G89,\"\")","v":""},{"$f":"IF(Z$7=$F89,$H89,\"\")","v":""},{"$f":"IF(AB$7=$E89,$G89,\"\")","v":""},{"$f":"IF(AB$7=$F89,$H89,\"\")","v":""},{"$f":"IF(AD$7=$E89,$G89,\"\")","v":""},{"$f":"IF(AD$7=$F89,$H89,\"\")","v":""},{"$f":"IF(AF$7=$E89,$G89,\"\")","v":""},{"$f":"IF(AF$7=$F89,$H89,\"\")","v":""},{"$f":"IF(AH$7=$E89,$G89,\"\")","v":""},{"$f":"IF(AH$7=$F89,$H89,\"\")","v":""},{"$f":"IF(AJ$7=$E89,$G89,\"\")","v":""},{"$f":"IF(AJ$7=$F89,$H89,\"\")","v":""},{"$f":"IF(AL$7=$E89,$G89,\"\")","v":""},{"$f":"IF(AL$7=$F89,$H89,\"\")","v":""},{"$f":"IF(AN$7=$E89,$G89,\"\")","v":""},{"$f":"IF(AN$7=$F89,$H89,\"\")","v":""},{"$f":"IF(AP$7=$E89,$G89,\"\")","v":""},{"$f":"IF(AP$7=$F89,$H89,\"\")","v":""},{"$f":"IF(AR$7=$E89,$G89,\"\")","v":""},{"$f":"IF(AR$7=$F89,$H89,\"\")","v":""},{"$f":"IF(AT$7=$E89,$G89,\"\")","v":""},{"$f":"IF(AT$7=$F89,$H89,\"\")","v":""},{"$f":"IF(AV$7=$E89,$G89,\"\")","v":""},{"$f":"IF(AV$7=$F89,$H89,\"\")","v":""},{"$f":"IF(AX$7=$E89,$G89,\"\")","v":""},{"$f":"IF(AX$7=$F89,$H89,\"\")","v":""},{"$f":"IF(AZ$7=$E89,$G89,\"\")","v":""},{"$f":"IF(AZ$7=$F89,$H89,\"\")","v":""},{"$f":"IF(BB$7=$E89,$G89,\"\")","v":""},{"$f":"IF(BB$7=$F89,$H89,\"\")","v":""},{"$f":"IF(BD$7=$E89,$G89,\"\")","v":""},{"$f":"IF(BD$7=$F89,$H89,\"\")","v":""},{"$f":"IF(BF$7=$E89,$G89,\"\")","v":""},{"$f":"IF(BF$7=$F89,$H89,\"\")","v":""},{"$f":"IF(BH$7=$E89,$G89,\"\")","v":""},{"$f":"IF(BH$7=$F89,$H89,\"\")","v":""},{"$f":"IF(BJ$7=$E89,$G89,\"\")","v":""},{"$f":"IF(BJ$7=$F89,$H89,\"\")","v":""},{"$f":"IF(BL$7=$E89,$G89,\"\")","v":""},{"$f":"IF(BL$7=$F89,$H89,\"\")","v":""},{"$f":"IF(BN$7=$E89,$G89,\"\")","v":""},{"$f":"IF(BN$7=$F89,$H89,\"\")","v":""},{"$f":"IF(BP$7=$E89,$G89,\"\")","v":""},{"$f":"IF(BP$7=$F89,$H89,\"\")","v":""},{"$f":"IF(BR$7=$E89,$G89,\"\")","v":""},{"$f":"IF(BR$7=$F89,$H89,\"\")","v":""},{"$f":"IF(BT$7=$E89,$G89,\"\")","v":""},{"$f":"IF(BT$7=$F89,$H89,\"\")","v":""},{"$f":"IF(BV$7=$E89,$G89,\"\")","v":""},{"$f":"IF(BV$7=$F89,$H89,\"\")","v":""},{"$f":"IF(BX$7=$E89,$G89,\"\")","v":""},{"$f":"IF(BX$7=$F89,$H89,\"\")","v":""},{"$f":"IF(BZ$7=$E89,$G89,\"\")","v":""},{"$f":"IF(BZ$7=$F89,$H89,\"\")","v":""},{"$f":"IF(CB$7=$E89,$G89,\"\")","v":""},{"$f":"IF(CB$7=$F89,$H89,\"\")","v":""},{"$f":"IF(CD$7=$E89,$G89,\"\")","v":""},{"$f":"IF(CD$7=$F89,$H89,\"\")","v":""},{"$f":"IF(CF$7=$E89,$G89,\"\")","v":""},{"$f":"IF(CF$7=$F89,$H89,\"\")","v":""},{"$f":"IF(CH$7=$E89,$G89,\"\")","v":""},{"$f":"IF(CH$7=$F89,$H89,\"\")","v":""},{"$f":"IF(CJ$7=$E89,$G89,\"\")","v":""},{"$f":"IF(CJ$7=$F89,$H89,\"\")","v":""},{"$f":"IF(CL$7=$E89,$G89,\"\")","v":""},{"$f":"IF(CL$7=$F89,$H89,\"\")","v":""},{"$f":"IF(CN$7=$E89,$G89,\"\")","v":""},{"$f":"IF(CN$7=$F89,$H89,\"\")","v":""},{"$f":"IF(CP$7=$E89,$G89,\"\")","v":""},{"$f":"IF(CP$7=$F89,$H89,\"\")","v":""},{"$f":"IF(CR$7=$E89,$G89,\"\")","v":""},{"$f":"IF(CR$7=$F89,$H89,\"\")","v":""},{"$f":"IF(CT$7=$E89,$G89,\"\")","v":""},{"$f":"IF(CT$7=$F89,$H89,\"\")","v":""},{"$f":"IF(CV$7=$E89,$G89,\"\")","v":""},{"$f":"IF(CV$7=$F89,$H89,\"\")","v":""},{"$f":"IF(CX$7=$E89,$G89,\"\")","v":""},{"$f":"IF(CX$7=$F89,$H89,\"\")","v":""},{"$f":"IF(CZ$7=$E89,$G89,\"\")","v":""},{"$f":"IF(CZ$7=$F89,$H89,\"\")","v":""},{"$f":"IF(DB$7=$E89,$G89,\"\")","v":""},{"$f":"IF(DB$7=$F89,$H89,\"\")","v":""},{"$f":"IF(DD$7=$E89,$G89,\"\")","v":""},{"$f":"IF(DD$7=$F89,$H89,\"\")","v":""},{"$f":"IF(DF$7=$E89,$G89,\"\")","v":""},{"$f":"IF(DF$7=$F89,$H89,\"\")","v":""},{"$f":"IF(DH$7=$E89,$G89,\"\")","v":0},{"$f":"IF(DH$7=$F89,$H89,\"\")","v":0},{"$f":"IF(DJ$7=$E89,$G89,\"\")","v":0},{"$f":"IF(DJ$7=$F89,$H89,\"\")","v":0},{"$f":"IF(DL$7=$E89,$G89,\"\")","v":0},{"$f":"IF(DL$7=$F89,$H89,\"\")","v":0},{"$f":"IF(DN$7=$E89,$G89,\"\")","v":0},{"$f":"IF(DN$7=$F89,$H89,\"\")","v":0},{"$f":"IF(DP$7=$E89,$G89,\"\")","v":0},{"$f":"IF(DP$7=$F89,$H89,\"\")","v":0},{"$f":"IF(DR$7=$E89,$G89,\"\")","v":0},{"$f":"IF(DR$7=$F89,$H89,\"\")","v":0},{"$f":"IF(DT$7=$E89,$G89,\"\")","v":0},{"$f":"IF(DT$7=$F89,$H89,\"\")","v":0},{"$f":"IF(DV$7=$E89,$G89,\"\")","v":0},{"$f":"IF(DV$7=$F89,$H89,\"\")","v":0},{"$f":"IF(DX$7=$E89,$G89,\"\")","v":0},{"$f":"IF(DX$7=$F89,$H89,\"\")","v":0},{"$f":"IF(DZ$7=$E89,$G89,\"\")","v":0},{"$f":"IF(DZ$7=$F89,$H89,\"\")","v":0},{"$f":"IF(EB$7=$E89,$G89,\"\")","v":0},{"$f":"IF(EB$7=$F89,$H89,\"\")","v":0},{"$f":"IF(ED$7=$E89,$G89,\"\")","v":0},{"$f":"IF(ED$7=$F89,$H89,\"\")","v":0},{"$f":"IF(EF$7=$E89,$G89,\"\")","v":0},{"$f":"IF(EF$7=$F89,$H89,\"\")","v":0},{"$f":"IF(EH$7=$E89,$G89,\"\")","v":0},{"$f":"IF(EH$7=$F89,$H89,\"\")","v":0},{"$f":"IF(EJ$7=$E89,$G89,\"\")","v":0},{"$f":"IF(EJ$7=$F89,$H89,\"\")","v":0},{"$f":"IF(EL$7=$E89,$G89,\"\")","v":0},{"$f":"IF(EL$7=$F89,$H89,\"\")","v":0},{"$f":"IF(EN$7=$E89,$G89,\"\")","v":0},{"$f":"IF(EN$7=$F89,$H89,\"\")","v":0},{"$f":"IF(EP$7=$E89,$G89,\"\")","v":0},{"$f":"IF(EP$7=$F89,$H89,\"\")","v":0},{"$f":"IF(ER$7=$E89,$G89,\"\")","v":0},{"$f":"IF(ER$7=$F89,$H89,\"\")","v":0},{"$f":"IF(ET$7=$E89,$G89,\"\")","v":0},{"$f":"IF(ET$7=$F89,$H89,\"\")","v":0},{"$f":"IF(EV$7=$E89,$G89,\"\")","v":0},{"$f":"IF(EV$7=$F89,$H89,\"\")","v":0},{"$f":"IF(EX$7=$E89,$G89,\"\")","v":0},{"$f":"IF(EX$7=$F89,$H89,\"\")","v":0},{"$f":"IF(EZ$7=$E89,$G89,\"\")","v":0},{"$f":"IF(EZ$7=$F89,$H89,\"\")","v":0},{"$f":"IF(FB$7=$E89,$G89,\"\")","v":0},{"$f":"IF(FB$7=$F89,$H89,\"\")","v":0},{"$f":"IF(FD$7=$E89,$G89,\"\")","v":0},{"$f":"IF(FD$7=$F89,$H89,\"\")","v":0},{"$f":"IF(FF$7=$E89,$G89,\"\")","v":0},{"$f":"IF(FF$7=$F89,$H89,\"\")","v":0},{"$f":"IF(FH$7=$E89,$G89,\"\")","v":0},{"$f":"IF(FH$7=$F89,$H89,\"\")","v":0},{"$f":"IF(FJ$7=$E89,$G89,\"\")","v":0},{"$f":"IF(FJ$7=$F89,$H89,\"\")","v":0},{"$f":"IF(FL$7=$E89,$G89,\"\")","v":0},{"$f":"IF(FL$7=$F89,$H89,\"\")","v":0},{"$f":"IF(FN$7=$E89,$G89,\"\")","v":0},0]
[82,null,null,null,null,null,null,null,true,0,0,"","","",{"$f":"IF(N$7=$F90,$H90,\"\")","v":""},"",{"$f":"IF(P$7=$F90,$H90,\"\")","v":""},"",{"$f":"IF(R$7=$F90,$H90,\"\")","v":""},"",{"$f":"IF(T$7=$F90,$H90,\"\")","v":""},"",{"$f":"IF(V$7=$F90,$H90,\"\")","v":""},"",{"$f":"IF(X$7=$F90,$H90,\"\")","v":""},"",{"$f":"IF(Z$7=$F90,$H90,\"\")","v":""},"",{"$f":"IF(AB$7=$F90,$H90,\"\")","v":""},"",{"$f":"IF(AD$7=$F90,$H90,\"\")","v":""},"",{"$f":"IF(AF$7=$F90,$H90,\"\")","v":""},"",{"$f":"IF(AH$7=$F90,$H90,\"\")","v":""},"",{"$f":"IF(AJ$7=$F90,$H90,\"\")","v":""},"",{"$f":"IF(AL$7=$F90,$H90,\"\")","v":""},"",{"$f":"IF(AN$7=$F90,$H90,\"\")","v":""},"",{"$f":"IF(AP$7=$F90,$H90,\"\")","v":""},"",{"$f":"IF(AR$7=$F90,$H90,\"\")","v":""},"",{"$f":"IF(AT$7=$F90,$H90,\"\")","v":""},"",{"$f":"IF(AV$7=$F90,$H90,\"\")","v":""},"",{"$f":"IF(AX$7=$F90,$H90,\"\")","v":""},"",{"$f":"IF(AZ$7=$F90,$H90,\"\")","v":""},"",{"$f":"IF(BB$7=$F90,$H90,\"\")","v":""},"",{"$f":"IF(BD$7=$F90,$H90,\"\")","v":""},"",{"$f":"IF(BF$7=$F90,$H90,\"\")","v":""},"",{"$f":"IF(BH$7=$F90,$H90,\"\")","v":""},"",{"$f":"IF(BJ$7=$F90,$H90,\"\")","v":""},"",{"$f":"IF(BL$7=$F90,$H90,\"\")","v":""},"",{"$f":"IF(BN$7=$F90,$H90,\"\")","v":""},"",{"$f":"IF(BP$7=$F90,$H90,\"\")","v":""},"",{"$f":"IF(BR$7=$F90,$H90,\"\")","v":""},"",{"$f":"IF(BT$7=$F90,$H90,\"\")","v":""},"",{"$f":"IF(BV$7=$F90,$H90,\"\")","v":""},"",{"$f":"IF(BX$7=$F90,$H90,\"\")","v":""},"",{"$f":"IF(BZ$7=$F90,$H90,\"\")","v":""},"",{"$f":"IF(CB$7=$F90,$H90,\"\")","v":""},"",{"$f":"IF(CD$7=$F90,$H90,\"\")","v":""},"",{"$f":"IF(CF$7=$F90,$H90,\"\")","v":""},"",{"$f":"IF(CH$7=$F90,$H90,\"\")","v":""},"",{"$f":"IF(CJ$7=$F90,$H90,\"\")","v":""},"",{"$f":"IF(CL$7=$F90,$H90,\"\")","v":""},"",{"$f":"IF(CN$7=$F90,$H90,\"\")","v":""},"",{"$f":"IF(CP$7=$F90,$H90,\"\")","v":""},"",{"$f":"IF(CR$7=$F90,$H90,\"\")","v":""},"",{"$f":"IF(CT$7=$F90,$H90,\"\")","v":""},"",{"$f":"IF(CV$7=$F90,$H90,\"\")","v":""},"",{"$f":"IF(CX$7=$F90,$H90,\"\")","v":""},"",{"$f":"IF(CZ$7=$F90,$H90,\"\")","v":""},"",{"$f":"IF(DB$7=$F90,$H90,\"\")","v":""},"",{"$f":"IF(DD$7=$F90,$H90,\"\")","v":""},"",{"$f":"IF(DF$7=$F90,$H90,\"\")","v":""},0,{"$f":"IF(DH$7=$F90,$H90,\"\")","v":0},0,{"$f":"IF(DJ$7=$F90,$H90,\"\")","v":0},0,{"$f":"IF(DL$7=$F90,$H90,\"\")","v":0},0,{"$f":"IF(DN$7=$F90,$H90,\"\")","v":0},0,{"$f":"IF(DP$7=$F90,$H90,\"\")","v":0},0,{"$f":"IF(DR$7=$F90,$H90,\"\")","v":0},0,{"$f":"IF(DT$7=$F90,$H90,\"\")","v":0},0,{"$f":"IF(DV$7=$F90,$H90,\"\")","v":0},0,{"$f":"IF(DX$7=$F90,$H90,\"\")","v":0},0,{"$f":"IF(DZ$7=$F90,$H90,\"\")","v":0},0,{"$f":"IF(EB$7=$F90,$H90,\"\")","v":0},0,{"$f":"IF(ED$7=$F90,$H90,\"\")","v":0},0,{"$f":"IF(EF$7=$F90,$H90,\"\")","v":0},0,{"$f":"IF(EH$7=$F90,$H90,\"\")","v":0},0,{"$f":"IF(EJ$7=$F90,$H90,\"\")","v":0},0,{"$f":"IF(EL$7=$F90,$H90,\"\")","v":0},0,{"$f":"IF(EN$7=$F90,$H90,\"\")","v":0},0,{"$f":"IF(EP$7=$F90,$H90,\"\")","v":0},0,{"$f":"IF(ER$7=$F90,$H90,\"\")","v":0},0,{"$f":"IF(ET$7=$F90,$H90,\"\")","v":0},0,{"$f":"IF(EV$7=$F90,$H90,\"\")","v":0},0,{"$f":"IF(EX$7=$F90,$H90,\"\")","v":0},0,{"$f":"IF(EZ$7=$F90,$H90,\"\")","v":0},0,{"$f":"IF(FB$7=$F90,$H90,\"\")","v":0},0,{"$f":"IF(FD$7=$F90,$H90,\"\")","v":0},0,{"$f":"IF(FF$7=$F90,$H90,\"\")","v":0},0,{"$f":"IF(FH$7=$F90,$H90,\"\")","v":0},0,{"$f":"IF(FJ$7=$F90,$H90,\"\")","v":0},0,{"$f":"IF(FL$7=$F90,$H90,\"\")","v":0},0,0]
[83,null,null,null,null,null,null,null,true,0,0,"","","",{"$f":"IF(N$7=$F91,$H91,\"\")","v":""},"",{"$f":"IF(P$7=$F91,$H91,\"\")","v":""},"",{"$f":"IF(R$7=$F91,$H91,\"\")","v":""},"",{"$f":"IF(T$7=$F91,$H91,\"\")","v":""},"",{"$f":"IF(V$7=$F91,$H91,\"\")","v":""},"",{"$f":"IF(X$7=$F91,$H91,\"\")","v":""},"",{"$f":"IF(Z$7=$F91,$H91,\"\")","v":""},"",{"$f":"IF(AB$7=$F91,$H91,\"\")","v":""},"",{"$f":"IF(AD$7=$F91,$H91,\"\")","v":""},"",{"$f":"IF(AF$7=$F91,$H91,\"\")","v":""},"",{"$f":"IF(AH$7=$F91,$H91,\"\")","v":""},"",{"$f":"IF(AJ$7=$F91,$H91,\"\")","v":""},"",{"$f":"IF(AL$7=$F91,$H91,\"\")","v":""},"",{"$f":"IF(AN$7=$F91,$H91,\"\")","v":""},"",{"$f":"IF(AP$7=$F91,$H91,\"\")","v":""},"",{"$f":"IF(AR$7=$F91,$H91,\"\")","v":""},"",{"$f":"IF(AT$7=$F91,$H91,\"\")","v":""},"",{"$f":"IF(AV$7=$F91,$H91,\"\")","v":""},"",{"$f":"IF(AX$7=$F91,$H91,\"\")","v":""},"",{"$f":"IF(AZ$7=$F91,$H91,\"\")","v":""},"",{"$f":"IF(BB$7=$F91,$H91,\"\")","v":""},"",{"$f":"IF(BD$7=$F91,$H91,\"\")","v":""},"",{"$f":"IF(BF$7=$F91,$H91,\"\")","v":""},"",{"$f":"IF(BH$7=$F91,$H91,\"\")","v":""},"",{"$f":"IF(BJ$7=$F91,$H91,\"\")","v":""},"",{"$f":"IF(BL$7=$F91,$H91,\"\")","v":""},"",{"$f":"IF(BN$7=$F91,$H91,\"\")","v":""},"",{"$f":"IF(BP$7=$F91,$H91,\"\")","v":""},"",{"$f":"IF(BR$7=$F91,$H91,\"\")","v":""},"",{"$f":"IF(BT$7=$F91,$H91,\"\")","v":""},"",{"$f":"IF(BV$7=$F91,$H91,\"\")","v":""},"",{"$f":"IF(BX$7=$F91,$H91,\"\")","v":""},"",{"$f":"IF(BZ$7=$F91,$H91,\"\")","v":""},"",{"$f":"IF(CB$7=$F91,$H91,\"\")","v":""},"",{"$f":"IF(CD$7=$F91,$H91,\"\")","v":""},"",{"$f":"IF(CF$7=$F91,$H91,\"\")","v":""},"",{"$f":"IF(CH$7=$F91,$H91,\"\")","v":""},"",{"$f":"IF(CJ$7=$F91,$H91,\"\")","v":""},"",{"$f":"IF(CL$7=$F91,$H91,\"\")","v":""},"",{"$f":"IF(CN$7=$F91,$H91,\"\")","v":""},"",{"$f":"IF(CP$7=$F91,$H91,\"\")","v":""},"",{"$f":"IF(CR$7=$F91,$H91,\"\")","v":""},"",{"$f":"IF(CT$7=$F91,$H91,\"\")","v":""},"",{"$f":"IF(CV$7=$F91,$H91,\"\")","v":""},"",{"$f":"IF(CX$7=$F91,$H91,\"\")","v":""},"",{"$f":"IF(CZ$7=$F91,$H91,\"\")","v":""},"",{"$f":"IF(DB$7=$F91,$H91,\"\")","v":""},"",{"$f":"IF(DD$7=$F91,$H91,\"\")","v":""},"",{"$f":"IF(DF$7=$F91,$H91,\"\")","v":""},0,{"$f":"IF(DH$7=$F91,$H91,\"\")","v":0},0,{"$f":"IF(DJ$7=$F91,$H91,\"\")","v":0},0,{"$f":"IF(DL$7=$F91,$H91,\"\")","v":0},0,{"$f":"IF(DN$7=$F91,$H91,\"\")","v":0},0,{"$f":"IF(DP$7=$F91,$H91,\"\")","v":0},0,{"$f":"IF(DR$7=$F91,$H91,\"\")","v":0},0,{"$f":"IF(DT$7=$F91,$H91,\"\")","v":0},0,{"$f":"IF(DV$7=$F91,$H91,\"\")","v":0},0,{"$f":"IF(DX$7=$F91,$H91,\"\")","v":0},0,{"$f":"IF(DZ$7=$F91,$H91,\"\")","v":0},0,{"$f":"IF(EB$7=$F91,$H91,\"\")","v":0},0,{"$f":"IF(ED$7=$F91,$H91,\"\")","v":0},0,{"$f":"IF(EF$7=$F91,$H91,\"\")","v":0},0,{"$f":"IF(EH$7=$F91,$H91,\"\")","v":0},0,{"$f":"IF(EJ$7=$F91,$H91,\"\")","v":0},0,{"$f":"IF(EL$7=$F91,$H91,\"\")","v":0},0,{"$f":"IF(EN$7=$F91,$H91,\"\")","v":0},0,{"$f":"IF(EP$7=$F91,$H91,\"\")","v":0},0,{"$f":"IF(ER$7=$F91,$H91,\"\")","v":0},0,{"$f":"IF(ET$7=$F91,$H91,\"\")","v":0},0,{"$f":"IF(EV$7=$F91,$H91,\"\")","v":0},0,{"$f":"IF(EX$7=$F91,$H91,\"\")","v":0},0,{"$f":"IF(EZ$7=$F91,$H91,\"\")","v":0},0,{"$f":"IF(FB$7=$F91,$H91,\"\")","v":0},0,{"$f":"IF(FD$7=$F91,$H91,\"\")","v":0},0,{"$f":"IF(FF$7=$F91,$H91,\"\")","v":0},0,{"$f":"IF(FH$7=$F91,$H91,\"\")","v":0},0,{"$f":"IF(FJ$7=$F91,$H91,\"\")","v":0},0,{"$f":"IF(FL$7=$F91,$H91,\"\")","v":0},0,0]
[84,null,null,null,null,null,null,null,true,0,0,"","","",{"$f":"IF(N$7=$F92,$H92,\"\")","v":""},"",{"$f":"IF(P$7=$F92,$H92,\"\")","v":""},"",{"$f":"IF(R$7=$F92,$H92,\"\")","v":""},"",{"$f":"IF(T$7=$F92,$H92,\"\")","v":""},"",{"$f":"IF(V$7=$F92,$H92,\"\")","v":""},"",{"$f":"IF(X$7=$F92,$H92,\"\")","v":""},"",{"$f":"IF(Z$7=$F92,$H92,\"\")","v":""},"",{"$f":"IF(AB$7=$F92,$H92,\"\")","v":""},"",{"$f":"IF(AD$7=$F92,$H92,\"\")","v":""},"",{"$f":"IF(AF$7=$F92,$H92,\"\")","v":""},"",{"$f":"IF(AH$7=$F92,$H92,\"\")","v":""},"",{"$f":"IF(AJ$7=$F92,$H92,\"\")","v":""},"",{"$f":"IF(AL$7=$F92,$H92,\"\")","v":""},"",{"$f":"IF(AN$7=$F92,$H92,\"\")","v":""},"",{"$f":"IF(AP$7=$F92,$H92,\"\")","v":""},"",{"$f":"IF(AR$7=$F92,$H92,\"\")","v":""},"",{"$f":"IF(AT$7=$F92,$H92,\"\")","v":""},"",{"$f":"IF(AV$7=$F92,$H92,\"\")","v":""},"",{"$f":"IF(AX$7=$F92,$H92,\"\")","v":""},"",{"$f":"IF(AZ$7=$F92,$H92,\"\")","v":""},"",{"$f":"IF(BB$7=$F92,$H92,\"\")","v":""},"",{"$f":"IF(BD$7=$F92,$H92,\"\")","v":""},"",{"$f":"IF(BF$7=$F92,$H92,\"\")","v":""},"",{"$f":"IF(BH$7=$F92,$H92,\"\")","v":""},"",{"$f":"IF(BJ$7=$F92,$H92,\"\")","v":""},"",{"$f":"IF(BL$7=$F92,$H92,\"\")","v":""},"",{"$f":"IF(BN$7=$F92,$H92,\"\")","v":""},"",{"$f":"IF(BP$7=$F92,$H92,\"\")","v":""},"",{"$f":"IF(BR$7=$F92,$H92,\"\")","v":""},"",{"$f":"IF(BT$7=$F92,$H92,\"\")","v":""},"",{"$f":"IF(BV$7=$F92,$H92,\"\")","v":""},"",{"$f":"IF(BX$7=$F92,$H92,\"\")","v":""},"",{"$f":"IF(BZ$7=$F92,$H92,\"\")","v":""},"",{"$f":"IF(CB$7=$F92,$H92,\"\")","v":""},"",{"$f":"IF(CD$7=$F92,$H92,\"\")","v":""},"",{"$f":"IF(CF$7=$F92,$H92,\"\")","v":""},"",{"$f":"IF(CH$7=$F92,$H92,\"\")","v":""},"",{"$f":"IF(CJ$7=$F92,$H92,\"\")","v":""},"",{"$f":"IF(CL$7=$F92,$H92,\"\")","v":""},"",{"$f":"IF(CN$7=$F92,$H92,\"\")","v":""},"",{"$f":"IF(CP$7=$F92,$H92,\"\")","v":""},"",{"$f":"IF(CR$7=$F92,$H92,\"\")","v":""},"",{"$f":"IF(CT$7=$F92,$H92,\"\")","v":""},"",{"$f":"IF(CV$7=$F92,$H92,\"\")","v":""},"",{"$f":"IF(CX$7=$F92,$H92,\"\")","v":""},"",{"$f":"IF(CZ$7=$F92,$H92,\"\")","v":""},"",{"$f":"IF(DB$7=$F92,$H92,\"\")","v":""},"",{"$f":"IF(DD$7=$F92,$H92,\"\")","v":""},"",{"$f":"IF(DF$7=$F92,$H92,\"\")","v":""},0,{"$f":"IF(DH$7=$F92,$H92,\"\")","v":0},0,{"$f":"IF(DJ$7=$F92,$H92,\"\")","v":0},0,{"$f":"IF(DL$7=$F92,$H92,\"\")","v":0},0,{"$f":"IF(DN$7=$F92,$H92,\"\")","v":0},0,{"$f":"IF(DP$7=$F92,$H92,\"\")","v":0},0,{"$f":"IF(DR$7=$F92,$H92,\"\")","v":0},0,{"$f":"IF(DT$7=$F92,$H92,\"\")","v":0},0,{"$f":"IF(DV$7=$F92,$H92,\"\")","v":0},0,{"$f":"IF(DX$7=$F92,$H92,\"\")","v":0},0,{"$f":"IF(DZ$7=$F92,$H92,\"\")","v":0},0,{"$f":"IF(EB$7=$F92,$H92,\"\")","v":0},0,{"$f":"IF(ED$7=$F92,$H92,\"\")","v":0},0,{"$f":"IF(EF$7=$F92,$H92,\"\")","v":0},0,{"$f":"IF(EH$7=$F92,$H92,\"\")","v":0},0,{"$f":"IF(EJ$7=$F92,$H92,\"\")","v":0},0,{"$f":"IF(EL$7=$F92,$H92,\"\")","v":0},0,{"$f":"IF(EN$7=$F92,$H92,\"\")","v":0},0,{"$f":"IF(EP$7=$F92,$H92,\"\")","v":0},0,{"$f":"IF(ER$7=$F92,$H92,\"\")","v":0},0,{"$f":"IF(ET$7=$F92,$H92,\"\")","v":0},0,{"$f":"IF(EV$7=$F92,$H92,\"\")","v":0},0,{"$f":"IF(EX$7=$F92,$H92,\"\")","v":0},0,{"$f":"IF(EZ$7=$F92,$H92,\"\")","v":0},0,{"$f":"IF(FB$7=$F92,$H92,\"\")","v":0},0,{"$f":"IF(FD$7=$F92,$H92,\"\")","v":0},0,{"$f":"IF(FF$7=$F92,$H92,\"\")","v":0},0,{"$f":"IF(FH$7=$F92,$H92,\"\")","v":0},0,{"$f":"IF(FJ$7=$F92,$H92,\"\")","v":0},0,{"$f":"IF(FL$7=$F92,$H92,\"\")","v":0},0,0]
[85,null,null,null,null,null,null,null,true,0,0,"","","",{"$f":"IF(N$7=$F93,$H93,\"\")","v":""},"",{"$f":"IF(P$7=$F93,$H93,\"\")","v":""},"",{"$f":"IF(R$7=$F93,$H93,\"\")","v":""},"",{"$f":"IF(T$7=$F93,$H93,\"\")","v":""},"",{"$f":"IF(V$7=$F93,$H93,\"\")","v":""},"",{"$f":"IF(X$7=$F93,$H93,\"\")","v":""},"",{"$f":"IF(Z$7=$F93,$H93,\"\")","v":""},"",{"$f":"IF(AB$7=$F93,$H93,\"\")","v":""},"",{"$f":"IF(AD$7=$F93,$H93,\"\")","v":""},"",{"$f":"IF(AF$7=$F93,$H93,\"\")","v":""},"",{"$f":"IF(AH$7=$F93,$H93,\"\")","v":""},"",{"$f":"IF(AJ$7=$F93,$H93,\"\")","v":""},"",{"$f":"IF(AL$7=$F93,$H93,\"\")","v":""},"",{"$f":"IF(AN$7=$F93,$H93,\"\")","v":""},"",{"$f":"IF(AP$7=$F93,$H93,\"\")","v":""},"",{"$f":"IF(AR$7=$F93,$H93,\"\")","v":""},"",{"$f":"IF(AT$7=$F93,$H93,\"\")","v":""},"",{"$f":"IF(AV$7=$F93,$H93,\"\")","v":""},"",{"$f":"IF(AX$7=$F93,$H93,\"\")","v":""},"",{"$f":"IF(AZ$7=$F93,$H93,\"\")","v":""},"",{"$f":"IF(BB$7=$F93,$H93,\"\")","v":""},"",{"$f":"IF(BD$7=$F93,$H93,\"\")","v":""},"",{"$f":"IF(BF$7=$F93,$H93,\"\")","v":""},"",{"$f":"IF(BH$7=$F93,$H93,\"\")","v":""},"",{"$f":"IF(BJ$7=$F93,$H93,\"\")","v":""},"",{"$f":"IF(BL$7=$F93,$H93,\"\")","v":""},"",{"$f":"IF(BN$7=$F93,$H93,\"\")","v":""},"",{"$f":"IF(BP$7=$F93,$H93,\"\")","v":""},"",{"$f":"IF(BR$7=$F93,$H93,\"\")","v":""},"",{"$f":"IF(BT$7=$F93,$H93,\"\")","v":""},"",{"$f":"IF(BV$7=$F93,$H93,\"\")","v":""},"",{"$f":"IF(BX$7=$F93,$H93,\"\")","v":""},"",{"$f":"IF(BZ$7=$F93,$H93,\"\")","v":""},"",{"$f":"IF(CB$7=$F93,$H93,\"\")","v":""},"",{"$f":"IF(CD$7=$F93,$H93,\"\")","v":""},"",{"$f":"IF(CF$7=$F93,$H93,\"\")","v":""},"",{"$f":"IF(CH$7=$F93,$H93,\"\")","v":""},"",{"$f":"IF(CJ$7=$F93,$H93,\"\")","v":""},"",{"$f":"IF(CL$7=$F93,$H93,\"\")","v":""},"",{"$f":"IF(CN$7=$F93,$H93,\"\")","v":""},"",{"$f":"IF(CP$7=$F93,$H93,\"\")","v":""},"",{"$f":"IF(CR$7=$F93,$H93,\"\")","v":""},"",{"$f":"IF(CT$7=$F93,$H93,\"\")","v":""},"",{"$f":"IF(CV$7=$F93,$H93,\"\")","v":""},"",{"$f":"IF(CX$7=$F93,$H93,\"\")","v":""},"",{"$f":"IF(CZ$7=$F93,$H93,\"\")","v":""},"",{"$f":"IF(DB$7=$F93,$H93,\"\")","v":""},"",{"$f":"IF(DD$7=$F93,$H93,\"\")","v":""},"",{"$f":"IF(DF$7=$F93,$H93,\"\")","v":""},0,{"$f":"IF(DH$7=$F93,$H93,\"\")","v":0},0,{"$f":"IF(DJ$7=$F93,$H93,\"\")","v":0},0,{"$f":"IF(DL$7=$F93,$H93,\"\")","v":0},0,{"$f":"IF(DN$7=$F93,$H93,\"\")","v":0},0,{"$f":"IF(DP$7=$F93,$H93,\"\")","v":0},0,{"$f":"IF(DR$7=$F93,$H93,\"\")","v":0},0,{"$f":"IF(DT$7=$F93,$H93,\"\")","v":0},0,{"$f":"IF(DV$7=$F93,$H93,\"\")","v":0},0,{"$f":"IF(DX$7=$F93,$H93,\"\")","v":0},0,{"$f":"IF(DZ$7=$F93,$H93,\"\")","v":0},0,{"$f":"IF(EB$7=$F93,$H93,\"\")","v":0},0,{"$f":"IF(ED$7=$F93,$H93,\"\")","v":0},0,{"$f":"IF(EF$7=$F93,$H93,\"\")","v":0},0,{"$f":"IF(EH$7=$F93,$H93,\"\")","v":0},0,{"$f":"IF(EJ$7=$F93,$H93,\"\")","v":0},0,{"$f":"IF(EL$7=$F93,$H93,\"\")","v":0},0,{"$f":"IF(EN$7=$F93,$H93,\"\")","v":0},0,{"$f":"IF(EP$7=$F93,$H93,\"\")","v":0},0,{"$f":"IF(ER$7=$F93,$H93,\"\")","v":0},0,{"$f":"IF(ET$7=$F93,$H93,\"\")","v":0},0,{"$f":"IF(EV$7=$F93,$H93,\"\")","v":0},0,{"$f":"IF(EX$7=$F93,$H93,\"\")","v":0},0,{"$f":"IF(EZ$7=$F93,$H93,\"\")","v":0},0,{"$f":"IF(FB$7=$F93,$H93,\"\")","v":0},0,{"$f":"IF(FD$7=$F93,$H93,\"\")","v":0},0,{"$f":"IF(FF$7=$F93,$H93,\"\")","v":0},0,{"$f":"IF(FH$7=$F93,$H93,\"\")","v":0},0,{"$f":"IF(FJ$7=$F93,$H93,\"\")","v":0},0,{"$f":"IF(FL$7=$F93,$H93,\"\")","v":0},0,0]
[86,null,null,null,null,null,null,null,true,0,0,"","","",{"$f":"IF(N$7=$F94,$H94,\"\")","v":""},"",{"$f":"IF(P$7=$F94,$H94,\"\")","v":""},"",{"$f":"IF(R$7=$F94,$H94,\"\")","v":""},"",{"$f":"IF(T$7=$F94,$H94,\"\")","v":""},"",{"$f":"IF(V$7=$F94,$H94,\"\")","v":""},"",{"$f":"IF(X$7=$F94,$H94,\"\")","v":""},"",{"$f":"IF(Z$7=$F94,$H94,\"\")","v":""},"",{"$f":"IF(AB$7=$F94,$H94,\"\")","v":""},"",{"$f":"IF(AD$7=$F94,$H94,\"\")","v":""},"",{"$f":"IF(AF$7=$F94,$H94,\"\")","v":""},"",{"$f":"IF(AH$7=$F94,$H94,\"\")","v":""},"",{"$f":"IF(AJ$7=$F94,$H94,\"\")","v":""},"",{"$f":"IF(AL$7=$F94,$H94,\"\")","v":""},"",{"$f":"IF(AN$7=$F94,$H94,\"\")","v":""},"",{"$f":"IF(AP$7=$F94,$H94,\"\")","v":""},"",{"$f":"IF(AR$7=$F94,$H94,\"\")","v":""},"",{"$f":"IF(AT$7=$F94,$H94,\"\")","v":""},"",{"$f":"IF(AV$7=$F94,$H94,\"\")","v":""},"",{"$f":"IF(AX$7=$F94,$H94,\"\")","v":""},"",{"$f":"IF(AZ$7=$F94,$H94,\"\")","v":""},"",{"$f":"IF(BB$7=$F94,$H94,\"\")","v":""},"",{"$f":"IF(BD$7=$F94,$H94,\"\")","v":""},"",{"$f":"IF(BF$7=$F94,$H94,\"\")","v":""},"",{"$f":"IF(BH$7=$F94,$H94,\"\")","v":""},"",{"$f":"IF(BJ$7=$F94,$H94,\"\")","v":""},"",{"$f":"IF(BL$7=$F94,$H94,\"\")","v":""},"",{"$f":"IF(BN$7=$F94,$H94,\"\")","v":""},"",{"$f":"IF(BP$7=$F94,$H94,\"\")","v":""},"",{"$f":"IF(BR$7=$F94,$H94,\"\")","v":""},"",{"$f":"IF(BT$7=$F94,$H94,\"\")","v":""},"",{"$f":"IF(BV$7=$F94,$H94,\"\")","v":""},"",{"$f":"IF(BX$7=$F94,$H94,\"\")","v":""},"",{"$f":"IF(BZ$7=$F94,$H94,\"\")","v":""},"",{"$f":"IF(CB$7=$F94,$H94,\"\")","v":""},"",{"$f":"IF(CD$7=$F94,$H94,\"\")","v":""},"",{"$f":"IF(CF$7=$F94,$H94,\"\")","v":""},"",{"$f":"IF(CH$7=$F94,$H94,\"\")","v":""},"",{"$f":"IF(CJ$7=$F94,$H94,\"\")","v":""},"",{"$f":"IF(CL$7=$F94,$H94,\"\")","v":""},"",{"$f":"IF(CN$7=$F94,$H94,\"\")","v":""},"",{"$f":"IF(CP$7=$F94,$H94,\"\")","v":""},"",{"$f":"IF(CR$7=$F94,$H94,\"\")","v":""},"",{"$f":"IF(CT$7=$F94,$H94,\"\")","v":""},"",{"$f":"IF(CV$7=$F94,$H94,\"\")","v":""},"",{"$f":"IF(CX$7=$F94,$H94,\"\")","v":""},"",{"$f":"IF(CZ$7=$F94,$H94,\"\")","v":""},"",{"$f":"IF(DB$7=$F94,$H94,\"\")","v":""},"",{"$f":"IF(DD$7=$F94,$H94,\"\")","v":""},"",{"$f":"IF(DF$7=$F94,$H94,\"\")","v":""},0,{"$f":"IF(DH$7=$F94,$H94,\"\")","v":0},0,{"$f":"IF(DJ$7=$F94,$H94,\"\")","v":0},0,{"$f":"IF(DL$7=$F94,$H94,\"\")","v":0},0,{"$f":"IF(DN$7=$F94,$H94,\"\")","v":0},0,{"$f":"IF(DP$7=$F94,$H94,\"\")","v":0},0,{"$f":"IF(DR$7=$F94,$H94,\"\")","v":0},0,{"$f":"IF(DT$7=$F94,$H94,\"\")","v":0},0,{"$f":"IF(DV$7=$F94,$H94,\"\")","v":0},0,{"$f":"IF(DX$7=$F94,$H94,\"\")","v":0},0,{"$f":"IF(DZ$7=$F94,$H94,\"\")","v":0},0,{"$f":"IF(EB$7=$F94,$H94,\"\")","v":0},0,{"$f":"IF(ED$7=$F94,$H94,\"\")","v":0},0,{"$f":"IF(EF$7=$F94,$H94,\"\")","v":0},0,{"$f":"IF(EH$7=$F94,$H94,\"\")","v":0},0,{"$f":"IF(EJ$7=$F94,$H94,\"\")","v":0},0,{"$f":"IF(EL$7=$F94,$H94,\"\")","v":0},0,{"$f":"IF(EN$7=$F94,$H94,\"\")","v":0},0,{"$f":"IF(EP$7=$F94,$H94,\"\")","v":0},0,{"$f":"IF(ER$7=$F94,$H94,\"\")","v":0},0,{"$f":"IF(ET$7=$F94,$H94,\"\")","v":0},0,{"$f":"IF(EV$7=$F94,$H94,\"\")","v":0},0,{"$f":"IF(EX$7=$F94,$H94,\"\")","v":0},0,{"$f":"IF(EZ$7=$F94,$H94,\"\")","v":0},0,{"$f":"IF(FB$7=$F94,$H94,\"\")","v":0},0,{"$f":"IF(FD$7=$F94,$H94,\"\")","v":0},0,{"$f":"IF(FF$7=$F94,$H94,\"\")","v":0},0,{"$f":"IF(FH$7=$F94,$H94,\"\")","v":0},0,{"$f":"IF(FJ$7=$F94,$H94,\"\")","v":0},0,{"$f":"IF(FL$7=$F94,$H94,\"\")","v":0},0,0]
[87,null,null,null,null,null,null,null,true,0,0,"","","",{"$f":"IF(N$7=$F95,$H95,\"\")","v":""},"",{"$f":"IF(P$7=$F95,$H95,\"\")","v":""},"",{"$f":"IF(R$7=$F95,$H95,\"\")","v":""},"",{"$f":"IF(T$7=$F95,$H95,\"\")","v":""},"",{"$f":"IF(V$7=$F95,$H95,\"\")","v":""},"",{"$f":"IF(X$7=$F95,$H95,\"\")","v":""},"",{"$f":"IF(Z$7=$F95,$H95,\"\")","v":""},"",{"$f":"IF(AB$7=$F95,$H95,\"\")","v":""},"",{"$f":"IF(AD$7=$F95,$H95,\"\")","v":""},"",{"$f":"IF(AF$7=$F95,$H95,\"\")","v":""},"",{"$f":"IF(AH$7=$F95,$H95,\"\")","v":""},"",{"$f":"IF(AJ$7=$F95,$H95,\"\")","v":""},"",{"$f":"IF(AL$7=$F95,$H95,\"\")","v":""},"",{"$f":"IF(AN$7=$F95,$H95,\"\")","v":""},"",{"$f":"IF(AP$7=$F95,$H95,\"\")","v":""},"",{"$f":"IF(AR$7=$F95,$H95,\"\")","v":""},"",{"$f":"IF(AT$7=$F95,$H95,\"\")","v":""},"",{"$f":"IF(AV$7=$F95,$H95,\"\")","v":""},"",{"$f":"IF(AX$7=$F95,$H95,\"\")","v":""},"",{"$f":"IF(AZ$7=$F95,$H95,\"\")","v":""},"",{"$f":"IF(BB$7=$F95,$H95,\"\")","v":""},"",{"$f":"IF(BD$7=$F95,$H95,\"\")","v":""},"",{"$f":"IF(BF$7=$F95,$H95,\"\")","v":""},"",{"$f":"IF(BH$7=$F95,$H95,\"\")","v":""},"",{"$f":"IF(BJ$7=$F95,$H95,\"\")","v":""},"",{"$f":"IF(BL$7=$F95,$H95,\"\")","v":""},"",{"$f":"IF(BN$7=$F95,$H95,\"\")","v":""},"",{"$f":"IF(BP$7=$F95,$H95,\"\")","v":""},"",{"$f":"IF(BR$7=$F95,$H95,\"\")","v":""},"",{"$f":"IF(BT$7=$F95,$H95,\"\")","v":""},"",{"$f":"IF(BV$7=$F95,$H95,\"\")","v":""},"",{"$f":"IF(BX$7=$F95,$H95,\"\")","v":""},"",{"$f":"IF(BZ$7=$F95,$H95,\"\")","v":""},"",{"$f":"IF(CB$7=$F95,$H95,\"\")","v":""},"",{"$f":"IF(CD$7=$F95,$H95,\"\")","v":""},"",{"$f":"IF(CF$7=$F95,$H95,\"\")","v":""},"",{"$f":"IF(CH$7=$F95,$H95,\"\")","v":""},"",{"$f":"IF(CJ$7=$F95,$H95,\"\")","v":""},"",{"$f":"IF(CL$7=$F95,$H95,\"\")","v":""},"",{"$f":"IF(CN$7=$F95,$H95,\"\")","v":""},"",{"$f":"IF(CP$7=$F95,$H95,\"\")","v":""},"",{"$f":"IF(CR$7=$F95,$H95,\"\")","v":""},"",{"$f":"IF(CT$7=$F95,$H95,\"\")","v":""},"",{"$f":"IF(CV$7=$F95,$H95,\"\")","v":""},"",{"$f":"IF(CX$7=$F95,$H95,\"\")","v":""},"",{"$f":"IF(CZ$7=$F95,$H95,\"\")","v":""},"",{"$f":"IF(DB$7=$F95,$H95,\"\")","v":""},"",{"$f":"IF(DD$7=$F95,$H95,\"\")","v":""},"",{"$f":"IF(DF$7=$F95,$H95,\"\")","v":""},0,{"$f":"IF(DH$7=$F95,$H95,\"\")","v":0},0,{"$f":"IF(DJ$7=$F95,$H95,\"\")","v":0},0,{"$f":"IF(DL$7=$F95,$H95,\"\")","v":0},0,{"$f":"IF(DN$7=$F95,$H95,\"\")","v":0},0,{"$f":"IF(DP$7=$F95,$H95,\"\")","v":0},0,{"$f":"IF(DR$7=$F95,$H95,\"\")","v":0},0,{"$f":"IF(DT$7=$F95,$H95,\"\")","v":0},0,{"$f":"IF(DV$7=$F95,$H95,\"\")","v":0},0,{"$f":"IF(DX$7=$F95,$H95,\"\")","v":0},0,{"$f":"IF(DZ$7=$F95,$H95,\"\")","v":0},0,{"$f":"IF(EB$7=$F95,$H95,\"\")","v":0},0,{"$f":"IF(ED$7=$F95,$H95,\"\")","v":0},0,{"$f":"IF(EF$7=$F95,$H95,\"\")","v":0},0,{"$f":"IF(EH$7=$F95,$H95,\"\")","v":0},0,{"$f":"IF(EJ$7=$F95,$H95,\"\")","v":0},0,{"$f":"IF(EL$7=$F95,$H95,\"\")","v":0},0,{"$f":"IF(EN$7=$F95,$H95,\"\")","v":0},0,{"$f":"IF(EP$7=$F95,$H95,\"\")","v":0},0,{"$f":"IF(ER$7=$F95,$H95,\"\")","v":0},0,{"$f":"IF(ET$7=$F95,$H95,\"\")","v":0},0,{"$f":"IF(EV$7=$F95,$H95,\"\")","v":0},0,{"$f":"IF(EX$7=$F95,$H95,\"\")","v":0},0,{"$f":"IF(EZ$7=$F95,$H95,\"\")","v":0},0,{"$f":"IF(FB$7=$F95,$H95,\"\")","v":0},0,{"$f":"IF(FD$7=$F95,$H95,\"\")","v":0},0,{"$f":"IF(FF$7=$F95,$H95,\"\")","v":0},0,{"$f":"IF(FH$7=$F95,$H95,\"\")","v":0},0,{"$f":"IF(FJ$7=$F95,$H95,\"\")","v":0},0,{"$f":"IF(FL$7=$F95,$H95,\"\")","v":0},0,0]
[88,null,null,null,null,null,null,null,true,0,0,"","","",{"$f":"IF(N$7=$F96,$H96,\"\")","v":""},"",{"$f":"IF(P$7=$F96,$H96,\"\")","v":""},"",{"$f":"IF(R$7=$F96,$H96,\"\")","v":""},"",{"$f":"IF(T$7=$F96,$H96,\"\")","v":""},"",{"$f":"IF(V$7=$F96,$H96,\"\")","v":""},"",{"$f":"IF(X$7=$F96,$H96,\"\")","v":""},"",{"$f":"IF(Z$7=$F96,$H96,\"\")","v":""},"",{"$f":"IF(AB$7=$F96,$H96,\"\")","v":""},"",{"$f":"IF(AD$7=$F96,$H96,\"\")","v":""},"",{"$f":"IF(AF$7=$F96,$H96,\"\")","v":""},"",{"$f":"IF(AH$7=$F96,$H96,\"\")","v":""},"",{"$f":"IF(AJ$7=$F96,$H96,\"\")","v":""},"",{"$f":"IF(AL$7=$F96,$H96,\"\")","v":""},"",{"$f":"IF(AN$7=$F96,$H96,\"\")","v":""},"",{"$f":"IF(AP$7=$F96,$H96,\"\")","v":""},"",{"$f":"IF(AR$7=$F96,$H96,\"\")","v":""},"",{"$f":"IF(AT$7=$F96,$H96,\"\")","v":""},"",{"$f":"IF(AV$7=$F96,$H96,\"\")","v":""},"",{"$f":"IF(AX$7=$F96,$H96,\"\")","v":""},"",{"$f":"IF(AZ$7=$F96,$H96,\"\")","v":""},"",{"$f":"IF(BB$7=$F96,$H96,\"\")","v":""},"",{"$f":"IF(BD$7=$F96,$H96,\"\")","v":""},"",{"$f":"IF(BF$7=$F96,$H96,\"\")","v":""},"",{"$f":"IF(BH$7=$F96,$H96,\"\")","v":""},"",{"$f":"IF(BJ$7=$F96,$H96,\"\")","v":""},"",{"$f":"IF(BL$7=$F96,$H96,\"\")","v":""},"",{"$f":"IF(BN$7=$F96,$H96,\"\")","v":""},"",{"$f":"IF(BP$7=$F96,$H96,\"\")","v":""},"",{"$f":"IF(BR$7=$F96,$H96,\"\")","v":""},"",{"$f":"IF(BT$7=$F96,$H96,\"\")","v":""},"",{"$f":"IF(BV$7=$F96,$H96,\"\")","v":""},"",{"$f":"IF(BX$7=$F96,$H96,\"\")","v":""},"",{"$f":"IF(BZ$7=$F96,$H96,\"\")","v":""},"",{"$f":"IF(CB$7=$F96,$H96,\"\")","v":""},"",{"$f":"IF(CD$7=$F96,$H96,\"\")","v":""},"",{"$f":"IF(CF$7=$F96,$H96,\"\")","v":""},"",{"$f":"IF(CH$7=$F96,$H96,\"\")","v":""},"",{"$f":"IF(CJ$7=$F96,$H96,\"\")","v":""},"",{"$f":"IF(CL$7=$F96,$H96,\"\")","v":""},"",{"$f":"IF(CN$7=$F96,$H96,\"\")","v":""},"",{"$f":"IF(CP$7=$F96,$H96,\"\")","v":""},"",{"$f":"IF(CR$7=$F96,$H96,\"\")","v":""},"",{"$f":"IF(CT$7=$F96,$H96,\"\")","v":""},"",{"$f":"IF(CV$7=$F96,$H96,\"\")","v":""},"",{"$f":"IF(CX$7=$F96,$H96,\"\")","v":""},"",{"$f":"IF(CZ$7=$F96,$H96,\"\")","v":""},"",{"$f":"IF(DB$7=$F96,$H96,\"\")","v":""},"",{"$f":"IF(DD$7=$F96,$H96,\"\")","v":""},"",{"$f":"IF(DF$7=$F96,$H96,\"\")","v":""},0,{"$f":"IF(DH$7=$F96,$H96,\"\")","v":0},0,{"$f":"IF(DJ$7=$F96,$H96,\"\")","v":0},0,{"$f":"IF(DL$7=$F96,$H96,\"\")","v":0},0,{"$f":"IF(DN$7=$F96,$H96,\"\")","v":0},0,{"$f":"IF(DP$7=$F96,$H96,\"\")","v":0},0,{"$f":"IF(DR$7=$F96,$H96,\"\")","v":0},0,{"$f":"IF(DT$7=$F96,$H96,\"\")","v":0},0,{"$f":"IF(DV$7=$F96,$H96,\"\")","v":0},0,{"$f":"IF(DX$7=$F96,$H96,\"\")","v":0},0,{"$f":"IF(DZ$7=$F96,$H96,\"\")","v":0},0,{"$f":"IF(EB$7=$F96,$H96,\"\")","v":0},0,{"$f":"IF(ED$7=$F96,$H96,\"\")","v":0},0,{"$f":"IF(EF$7=$F96,$H96,\"\")","v":0},0,{"$f":"IF(EH$7=$F96,$H96,\"\")","v":0},0,{"$f":"IF(EJ$7=$F96,$H96,\"\")","v":0},0,{"$f":"IF(EL$7=$F96,$H96,\"\")","v":0},0,{"$f":"IF(EN$7=$F96,$H96,\"\")","v":0},0,{"$f":"IF(EP$7=$F96,$H96,\"\")","v":0},0,{"$f":"IF(ER$7=$F96,$H96,\"\")","v":0},0,{"$f":"IF(ET$7=$F96,$H96,\"\")","v":0},0,{"$f":"IF(EV$7=$F96,$H96,\"\")","v":0},0,{"$f":"IF(EX$7=$F96,$H96,\"\")","v":0},0,{"$f":"IF(EZ$7=$F96,$H96,\"\")","v":0},0,{"$f":"IF(FB$7=$F96,$H96,\"\")","v":0},0,{"$f":"IF(FD$7=$F96,$H96,\"\")","v":0},0,{"$f":"IF(FF$7=$F96,$H96,\"\")","v":0},0,{"$f":"IF(FH$7=$F96,$H96,\"\")","v":0},0,{"$f":"IF(FJ$7=$F96,$H96,\"\")","v":0},0,{"$f":"IF(FL$7=$F96,$H96,\"\")","v":0},0,0]
[89,null,null,null,null,null,null,null,true,0,0,"","","",{"$f":"IF(N$7=$F97,$H97,\"\")","v":""},"",{"$f":"IF(P$7=$F97,$H97,\"\")","v":""},"",{"$f":"IF(R$7=$F97,$H97,\"\")","v":""},"",{"$f":"IF(T$7=$F97,$H97,\"\")","v":""},"",{"$f":"IF(V$7=$F97,$H97,\"\")","v":""},"",{"$f":"IF(X$7=$F97,$H97,\"\")","v":""},"",{"$f":"IF(Z$7=$F97,$H97,\"\")","v":""},"",{"$f":"IF(AB$7=$F97,$H97,\"\")","v":""},"",{"$f":"IF(AD$7=$F97,$H97,\"\")","v":""},"",{"$f":"IF(AF$7=$F97,$H97,\"\")","v":""},"",{"$f":"IF(AH$7=$F97,$H97,\"\")","v":""},"",{"$f":"IF(AJ$7=$F97,$H97,\"\")","v":""},"",{"$f":"IF(AL$7=$F97,$H97,\"\")","v":""},"",{"$f":"IF(AN$7=$F97,$H97,\"\")","v":""},"",{"$f":"IF(AP$7=$F97,$H97,\"\")","v":""},"",{"$f":"IF(AR$7=$F97,$H97,\"\")","v":""},"",{"$f":"IF(AT$7=$F97,$H97,\"\")","v":""},"",{"$f":"IF(AV$7=$F97,$H97,\"\")","v":""},"",{"$f":"IF(AX$7=$F97,$H97,\"\")","v":""},"",{"$f":"IF(AZ$7=$F97,$H97,\"\")","v":""},"",{"$f":"IF(BB$7=$F97,$H97,\"\")","v":""},"",{"$f":"IF(BD$7=$F97,$H97,\"\")","v":""},"",{"$f":"IF(BF$7=$F97,$H97,\"\")","v":""},"",{"$f":"IF(BH$7=$F97,$H97,\"\")","v":""},"",{"$f":"IF(BJ$7=$F97,$H97,\"\")","v":""},"",{"$f":"IF(BL$7=$F97,$H97,\"\")","v":""},"",{"$f":"IF(BN$7=$F97,$H97,\"\")","v":""},"",{"$f":"IF(BP$7=$F97,$H97,\"\")","v":""},"",{"$f":"IF(BR$7=$F97,$H97,\"\")","v":""},"",{"$f":"IF(BT$7=$F97,$H97,\"\")","v":""},"",{"$f":"IF(BV$7=$F97,$H97,\"\")","v":""},"",{"$f":"IF(BX$7=$F97,$H97,\"\")","v":""},"",{"$f":"IF(BZ$7=$F97,$H97,\"\")","v":""},"",{"$f":"IF(CB$7=$F97,$H97,\"\")","v":""},"",{"$f":"IF(CD$7=$F97,$H97,\"\")","v":""},"",{"$f":"IF(CF$7=$F97,$H97,\"\")","v":""},"",{"$f":"IF(CH$7=$F97,$H97,\"\")","v":""},"",{"$f":"IF(CJ$7=$F97,$H97,\"\")","v":""},"",{"$f":"IF(CL$7=$F97,$H97,\"\")","v":""},"",{"$f":"IF(CN$7=$F97,$H97,\"\")","v":""},"",{"$f":"IF(CP$7=$F97,$H97,\"\")","v":""},"",{"$f":"IF(CR$7=$F97,$H97,\"\")","v":""},"",{"$f":"IF(CT$7=$F97,$H97,\"\")","v":""},"",{"$f":"IF(CV$7=$F97,$H97,\"\")","v":""},"",{"$f":"IF(CX$7=$F97,$H97,\"\")","v":""},"",{"$f":"IF(CZ$7=$F97,$H97,\"\")","v":""},"",{"$f":"IF(DB$7=$F97,$H97,\"\")","v":""},"",{"$f":"IF(DD$7=$F97,$H97,\"\")","v":""},"",{"$f":"IF(DF$7=$F97,$H97,\"\")","v":""},0,{"$f":"IF(DH$7=$F97,$H97,\"\")","v":0},0,{"$f":"IF(DJ$7=$F97,$H97,\"\")","v":0},0,{"$f":"IF(DL$7=$F97,$H97,\"\")","v":0},0,{"$f":"IF(DN$7=$F97,$H97,\"\")","v":0},0,{"$f":"IF(DP$7=$F97,$H97,\"\")","v":0},0,{"$f":"IF(DR$7=$F97,$H97,\"\")","v":0},0,{"$f":"IF(DT$7=$F97,$H97,\"\")","v":0},0,{"$f":"IF(DV$7=$F97,$H97,\"\")","v":0},0,{"$f":"IF(DX$7=$F97,$H97,\"\")","v":0},0,{"$f":"IF(DZ$7=$F97,$H97,\"\")","v":0},0,{"$f":"IF(EB$7=$F97,$H97,\"\")","v":0},0,{"$f":"IF(ED$7=$F97,$H97,\"\")","v":0},0,{"$f":"IF(EF$7=$F97,$H97,\"\")","v":0},0,{"$f":"IF(EH$7=$F97,$H97,\"\")","v":0},0,{"$f":"IF(EJ$7=$F97,$H97,\"\")","v":0},0,{"$f":"IF(EL$7=$F97,$H97,\"\")","v":0},0,{"$f":"IF(EN$7=$F97,$H97,\"\")","v":0},0,{"$f":"IF(EP$7=$F97,$H97,\"\")","v":0},0,{"$f":"IF(ER$7=$F97,$H97,\"\")","v":0},0,{"$f":"IF(ET$7=$F97,$H97,\"\")","v":0},0,{"$f":"IF(EV$7=$F97,$H97,\"\")","v":0},0,{"$f":"IF(EX$7=$F97,$H97,\"\")","v":0},0,{"$f":"IF(EZ$7=$F97,$H97,\"\")","v":0},0,{"$f":"IF(FB$7=$F97,$H97,\"\")","v":0},0,{"$f":"IF(FD$7=$F97,$H97,\"\")","v":0},0,{"$f":"IF(FF$7=$F97,$H97,\"\")","v":0},0,{"$f":"IF(FH$7=$F97,$H97,\"\")","v":0},0,{"$f":"IF(FJ$7=$F97,$H97,\"\")","v":0},0,{"$f":"IF(FL$7=$F97,$H97,\"\")","v":0},0,0]
[90,null,null,null,null,null,null,null,true,0,0,"","","",{"$f":"IF(N$7=$F98,$H98,\"\")","v":""},"",{"$f":"IF(P$7=$F98,$H98,\"\")","v":""},"",{"$f":"IF(R$7=$F98,$H98,\"\")","v":""},"",{"$f":"IF(T$7=$F98,$H98,\"\")","v":""},"",{"$f":"IF(V$7=$F98,$H98,\"\")","v":""},"",{"$f":"IF(X$7=$F98,$H98,\"\")","v":""},"",{"$f":"IF(Z$7=$F98,$H98,\"\")","v":""},"",{"$f":"IF(AB$7=$F98,$H98,\"\")","v":""},"",{"$f":"IF(AD$7=$F98,$H98,\"\")","v":""},"",{"$f":"IF(AF$7=$F98,$H98,\"\")","v":""},"",{"$f":"IF(AH$7=$F98,$H98,\"\")","v":""},"",{"$f":"IF(AJ$7=$F98,$H98,\"\")","v":""},"",{"$f":"IF(AL$7=$F98,$H98,\"\")","v":""},"",{"$f":"IF(AN$7=$F98,$H98,\"\")","v":""},"",{"$f":"IF(AP$7=$F98,$H98,\"\")","v":""},"",{"$f":"IF(AR$7=$F98,$H98,\"\")","v":""},"",{"$f":"IF(AT$7=$F98,$H98,\"\")","v":""},"",{"$f":"IF(AV$7=$F98,$H98,\"\")","v":""},"",{"$f":"IF(AX$7=$F98,$H98,\"\")","v":""},"",{"$f":"IF(AZ$7=$F98,$H98,\"\")","v":""},"",{"$f":"IF(BB$7=$F98,$H98,\"\")","v":""},"",{"$f":"IF(BD$7=$F98,$H98,\"\")","v":""},"",{"$f":"IF(BF$7=$F98,$H98,\"\")","v":""},"",{"$f":"IF(BH$7=$F98,$H98,\"\")","v":""},"",{"$f":"IF(BJ$7=$F98,$H98,\"\")","v":""},"",{"$f":"IF(BL$7=$F98,$H98,\"\")","v":""},"",{"$f":"IF(BN$7=$F98,$H98,\"\")","v":""},"",{"$f":"IF(BP$7=$F98,$H98,\"\")","v":""},"",{"$f":"IF(BR$7=$F98,$H98,\"\")","v":""},"",{"$f":"IF(BT$7=$F98,$H98,\"\")","v":""},"",{"$f":"IF(BV$7=$F98,$H98,\"\")","v":""},"",{"$f":"IF(BX$7=$F98,$H98,\"\")","v":""},"",{"$f":"IF(BZ$7=$F98,$H98,\"\")","v":""},"",{"$f":"IF(CB$7=$F98,$H98,\"\")","v":""},"",{"$f":"IF(CD$7=$F98,$H98,\"\")","v":""},"",{"$f":"IF(CF$7=$F98,$H98,\"\")","v":""},"",{"$f":"IF(CH$7=$F98,$H98,\"\")","v":""},"",{"$f":"IF(CJ$7=$F98,$H98,\"\")","v":""},"",{"$f":"IF(CL$7=$F98,$H98,\"\")","v":""},"",{"$f":"IF(CN$7=$F98,$H98,\"\")","v":""},"",{"$f":"IF(CP$7=$F98,$H98,\"\")","v":""},"",{"$f":"IF(CR$7=$F98,$H98,\"\")","v":""},"",{"$f":"IF(CT$7=$F98,$H98,\"\")","v":""},"",{"$f":"IF(CV$7=$F98,$H98,\"\")","v":""},"",{"$f":"IF(CX$7=$F98,$H98,\"\")","v":""},"",{"$f":"IF(CZ$7=$F98,$H98,\"\")","v":""},"",{"$f":"IF(DB$7=$F98,$H98,\"\")","v":""},"",{"$f":"IF(DD$7=$F98,$H98,\"\")","v":""},"",{"$f":"IF(DF$7=$F98,$H98,\"\")","v":""},0,{"$f":"IF(DH$7=$F98,$H98,\"\")","v":0},0,{"$f":"IF(DJ$7=$F98,$H98,\"\")","v":0},0,{"$f":"IF(DL$7=$F98,$H98,\"\")","v":0},0,{"$f":"IF(DN$7=$F98,$H98,\"\")","v":0},0,{"$f":"IF(DP$7=$F98,$H98,\"\")","v":0},0,{"$f":"IF(DR$7=$F98,$H98,\"\")","v":0},0,{"$f":"IF(DT$7=$F98,$H98,\"\")","v":0},0,{"$f":"IF(DV$7=$F98,$H98,\"\")","v":0},0,{"$f":"IF(DX$7=$F98,$H98,\"\")","v":0},0,{"$f":"IF(DZ$7=$F98,$H98,\"\")","v":0},0,{"$f":"IF(EB$7=$F98,$H98,\"\")","v":0},0,{"$f":"IF(ED$7=$F98,$H98,\"\")","v":0},0,{"$f":"IF(EF$7=$F98,$H98,\"\")","v":0},0,{"$f":"IF(EH$7=$F98,$H98,\"\")","v":0},0,{"$f":"IF(EJ$7=$F98,$H98,\"\")","v":0},0,{"$f":"IF(EL$7=$F98,$H98,\"\")","v":0},0,{"$f":"IF(EN$7=$F98,$H98,\"\")","v":0},0,{"$f":"IF(EP$7=$F98,$H98,\"\")","v":0},0,{"$f":"IF(ER$7=$F98,$H98,\"\")","v":0},0,{"$f":"IF(ET$7=$F98,$H98,\"\")","v":0},0,{"$f":"IF(EV$7=$F98,$H98,\"\")","v":0},0,{"$f":"IF(EX$7=$F98,$H98,\"\")","v":0},0,{"$f":"IF(EZ$7=$F98,$H98,\"\")","v":0},0,{"$f":"IF(FB$7=$F98,$H98,\"\")","v":0},0,{"$f":"IF(FD$7=$F98,$H98,\"\")","v":0},0,{"$f":"IF(FF$7=$F98,$H98,\"\")","v":0},0,{"$f":"IF(FH$7=$F98,$H98,\"\")","v":0},0,{"$f":"IF(FJ$7=$F98,$H98,\"\")","v":0},0,{"$f":"IF(FL$7=$F98,$H98,\"\")","v":0},0,0]
[91,null,null,null,null,null,null,null,true,0,0,"","","",{"$f":"IF(N$7=$F99,$H99,\"\")","v":""},"",{"$f":"IF(P$7=$F99,$H99,\"\")","v":""},"",{"$f":"IF(R$7=$F99,$H99,\"\")","v":""},"",{"$f":"IF(T$7=$F99,$H99,\"\")","v":""},"",{"$f":"IF(V$7=$F99,$H99,\"\")","v":""},"",{"$f":"IF(X$7=$F99,$H99,\"\")","v":""},"",{"$f":"IF(Z$7=$F99,$H99,\"\")","v":""},"",{"$f":"IF(AB$7=$F99,$H99,\"\")","v":""},"",{"$f":"IF(AD$7=$F99,$H99,\"\")","v":""},"",{"$f":"IF(AF$7=$F99,$H99,\"\")","v":""},"",{"$f":"IF(AH$7=$F99,$H99,\"\")","v":""},"",{"$f":"IF(AJ$7=$F99,$H99,\"\")","v":""},"",{"$f":"IF(AL$7=$F99,$H99,\"\")","v":""},"",{"$f":"IF(AN$7=$F99,$H99,\"\")","v":""},"",{"$f":"IF(AP$7=$F99,$H99,\"\")","v":""},"",{"$f":"IF(AR$7=$F99,$H99,\"\")","v":""},"",{"$f":"IF(AT$7=$F99,$H99,\"\")","v":""},"",{"$f":"IF(AV$7=$F99,$H99,\"\")","v":""},"",{"$f":"IF(AX$7=$F99,$H99,\"\")","v":""},"",{"$f":"IF(AZ$7=$F99,$H99,\"\")","v":""},"",{"$f":"IF(BB$7=$F99,$H99,\"\")","v":""},"",{"$f":"IF(BD$7=$F99,$H99,\"\")","v":""},"",{"$f":"IF(BF$7=$F99,$H99,\"\")","v":""},"",{"$f":"IF(BH$7=$F99,$H99,\"\")","v":""},"",{"$f":"IF(BJ$7=$F99,$H99,\"\")","v":""},"",{"$f":"IF(BL$7=$F99,$H99,\"\")","v":""},"",{"$f":"IF(BN$7=$F99,$H99,\"\")","v":""},"",{"$f":"IF(BP$7=$F99,$H99,\"\")","v":""},"",{"$f":"IF(BR$7=$F99,$H99,\"\")","v":""},"",{"$f":"IF(BT$7=$F99,$H99,\"\")","v":""},"",{"$f":"IF(BV$7=$F99,$H99,\"\")","v":""},"",{"$f":"IF(BX$7=$F99,$H99,\"\")","v":""},"",{"$f":"IF(BZ$7=$F99,$H99,\"\")","v":""},"",{"$f":"IF(CB$7=$F99,$H99,\"\")","v":""},"",{"$f":"IF(CD$7=$F99,$H99,\"\")","v":""},"",{"$f":"IF(CF$7=$F99,$H99,\"\")","v":""},"",{"$f":"IF(CH$7=$F99,$H99,\"\")","v":""},"",{"$f":"IF(CJ$7=$F99,$H99,\"\")","v":""},"",{"$f":"IF(CL$7=$F99,$H99,\"\")","v":""},"",{"$f":"IF(CN$7=$F99,$H99,\"\")","v":""},"",{"$f":"IF(CP$7=$F99,$H99,\"\")","v":""},"",{"$f":"IF(CR$7=$F99,$H99,\"\")","v":""},"",{"$f":"IF(CT$7=$F99,$H99,\"\")","v":""},"",{"$f":"IF(CV$7=$F99,$H99,\"\")","v":""},"",{"$f":"IF(CX$7=$F99,$H99,\"\")","v":""},"",{"$f":"IF(CZ$7=$F99,$H99,\"\")","v":""},"",{"$f":"IF(DB$7=$F99,$H99,\"\")","v":""},"",{"$f":"IF(DD$7=$F99,$H99,\"\")","v":""},"",{"$f":"IF(DF$7=$F99,$H99,\"\")","v":""},0,{"$f":"IF(DH$7=$F99,$H99,\"\")","v":0},0,{"$f":"IF(DJ$7=$F99,$H99,\"\")","v":0},0,{"$f":"IF(DL$7=$F99,$H99,\"\")","v":0},0,{"$f":"IF(DN$7=$F99,$H99,\"\")","v":0},0,{"$f":"IF(DP$7=$F99,$H99,\"\")","v":0},0,{"$f":"IF(DR$7=$F99,$H99,\"\")","v":0},0,{"$f":"IF(DT$7=$F99,$H99,\"\")","v":0},0,{"$f":"IF(DV$7=$F99,$H99,\"\")","v":0},0,{"$f":"IF(DX$7=$F99,$H99,\"\")","v":0},0,{"$f":"IF(DZ$7=$F99,$H99,\"\")","v":0},0,{"$f":"IF(EB$7=$F99,$H99,\"\")","v":0},0,{"$f":"IF(ED$7=$F99,$H99,\"\")","v":0},0,{"$f":"IF(EF$7=$F99,$H99,\"\")","v":0},0,{"$f":"IF(EH$7=$F99,$H99,\"\")","v":0},0,{"$f":"IF(EJ$7=$F99,$H99,\"\")","v":0},0,{"$f":"IF(EL$7=$F99,$H99,\"\")","v":0},0,{"$f":"IF(EN$7=$F99,$H99,\"\")","v":0},0,{"$f":"IF(EP$7=$F99,$H99,\"\")","v":0},0,{"$f":"IF(ER$7=$F99,$H99,\"\")","v":0},0,{"$f":"IF(ET$7=$F99,$H99,\"\")","v":0},0,{"$f":"IF(EV$7=$F99,$H99,\"\")","v":0},0,{"$f":"IF(EX$7=$F99,$H99,\"\")","v":0},0,{"$f":"IF(EZ$7=$F99,$H99,\"\")","v":0},0,{"$f":"IF(FB$7=$F99,$H99,\"\")","v":0},0,{"$f":"IF(FD$7=$F99,$H99,\"\")","v":0},0,{"$f":"IF(FF$7=$F99,$H99,\"\")","v":0},0,{"$f":"IF(FH$7=$F99,$H99,\"\")","v":0},0,{"$f":"IF(FJ$7=$F99,$H99,\"\")","v":0},0,{"$f":"IF(FL$7=$F99,$H99,\"\")","v":0},0,0]
[92,null,null,null,null,null,null,null,true,0,0,"","","",{"$f":"IF(N$7=$F100,$H100,\"\")","v":""},"",{"$f":"IF(P$7=$F100,$H100,\"\")","v":""},"",{"$f":"IF(R$7=$F100,$H100,\"\")","v":""},"",{"$f":"IF(T$7=$F100,$H100,\"\")","v":""},"",{"$f":"IF(V$7=$F100,$H100,\"\")","v":""},"",{"$f":"IF(X$7=$F100,$H100,\"\")","v":""},"",{"$f":"IF(Z$7=$F100,$H100,\"\")","v":""},"",{"$f":"IF(AB$7=$F100,$H100,\"\")","v":""},"",{"$f":"IF(AD$7=$F100,$H100,\"\")","v":""},"",{"$f":"IF(AF$7=$F100,$H100,\"\")","v":""},"",{"$f":"IF(AH$7=$F100,$H100,\"\")","v":""},"",{"$f":"IF(AJ$7=$F100,$H100,\"\")","v":""},"",{"$f":"IF(AL$7=$F100,$H100,\"\")","v":""},"",{"$f":"IF(AN$7=$F100,$H100,\"\")","v":""},"",{"$f":"IF(AP$7=$F100,$H100,\"\")","v":""},"",{"$f":"IF(AR$7=$F100,$H100,\"\")","v":""},"",{"$f":"IF(AT$7=$F100,$H100,\"\")","v":""},"",{"$f":"IF(AV$7=$F100,$H100,\"\")","v":""},"",{"$f":"IF(AX$7=$F100,$H100,\"\")","v":""},"",{"$f":"IF(AZ$7=$F100,$H100,\"\")","v":""},"",{"$f":"IF(BB$7=$F100,$H100,\"\")","v":""},"",{"$f":"IF(BD$7=$F100,$H100,\"\")","v":""},"",{"$f":"IF(BF$7=$F100,$H100,\"\")","v":""},"",{"$f":"IF(BH$7=$F100,$H100,\"\")","v":""},"",{"$f":"IF(BJ$7=$F100,$H100,\"\")","v":""},"",{"$f":"IF(BL$7=$F100,$H100,\"\")","v":""},"",{"$f":"IF(BN$7=$F100,$H100,\"\")","v":""},"",{"$f":"IF(BP$7=$F100,$H100,\"\")","v":""},"",{"$f":"IF(BR$7=$F100,$H100,\"\")","v":""},"",{"$f":"IF(BT$7=$F100,$H100,\"\")","v":""},"",{"$f":"IF(BV$7=$F100,$H100,\"\")","v":""},"",{"$f":"IF(BX$7=$F100,$H100,\"\")","v":""},"",{"$f":"IF(BZ$7=$F100,$H100,\"\")","v":""},"",{"$f":"IF(CB$7=$F100,$H100,\"\")","v":""},"",{"$f":"IF(CD$7=$F100,$H100,\"\")","v":""},"",{"$f":"IF(CF$7=$F100,$H100,\"\")","v":""},"",{"$f":"IF(CH$7=$F100,$H100,\"\")","v":""},"",{"$f":"IF(CJ$7=$F100,$H100,\"\")","v":""},"",{"$f":"IF(CL$7=$F100,$H100,\"\")","v":""},"",{"$f":"IF(CN$7=$F100,$H100,\"\")","v":""},"",{"$f":"IF(CP$7=$F100,$H100,\"\")","v":""},"",{"$f":"IF(CR$7=$F100,$H100,\"\")","v":""},"",{"$f":"IF(CT$7=$F100,$H100,\"\")","v":""},"",{"$f":"IF(CV$7=$F100,$H100,\"\")","v":""},"",{"$f":"IF(CX$7=$F100,$H100,\"\")","v":""},"",{"$f":"IF(CZ$7=$F100,$H100,\"\")","v":""},"",{"$f":"IF(DB$7=$F100,$H100,\"\")","v":""},"",{"$f":"IF(DD$7=$F100,$H100,\"\")","v":""},"",{"$f":"IF(DF$7=$F100,$H100,\"\")","v":""},0,{"$f":"IF(DH$7=$F100,$H100,\"\")","v":0},0,{"$f":"IF(DJ$7=$F100,$H100,\"\")","v":0},0,{"$f":"IF(DL$7=$F100,$H100,\"\")","v":0},0,{"$f":"IF(DN$7=$F100,$H100,\"\")","v":0},0,{"$f":"IF(DP$7=$F100,$H100,\"\")","v":0},0,{"$f":"IF(DR$7=$F100,$H100,\"\")","v":0},0,{"$f":"IF(DT$7=$F100,$H100,\"\")","v":0},0,{"$f":"IF(DV$7=$F100,$H100,\"\")","v":0},0,{"$f":"IF(DX$7=$F100,$H100,\"\")","v":0},0,{"$f":"IF(DZ$7=$F100,$H100,\"\")","v":0},0,{"$f":"IF(EB$7=$F100,$H100,\"\")","v":0},0,{"$f":"IF(ED$7=$F100,$H100,\"\")","v":0},0,{"$f":"IF(EF$7=$F100,$H100,\"\")","v":0},0,{"$f":"IF(EH$7=$F100,$H100,\"\")","v":0},0,{"$f":"IF(EJ$7=$F100,$H100,\"\")","v":0},0,{"$f":"IF(EL$7=$F100,$H100,\"\")","v":0},0,{"$f":"IF(EN$7=$F100,$H100,\"\")","v":0},0,{"$f":"IF(EP$7=$F100,$H100,\"\")","v":0},0,{"$f":"IF(ER$7=$F100,$H100,\"\")","v":0},0,{"$f":"IF(ET$7=$F100,$H100,\"\")","v":0},0,{"$f":"IF(EV$7=$F100,$H100,\"\")","v":0},0,{"$f":"IF(EX$7=$F100,$H100,\"\")","v":0},0,{"$f":"IF(EZ$7=$F100,$H100,\"\")","v":0},0,{"$f":"IF(FB$7=$F100,$H100,\"\")","v":0},0,{"$f":"IF(FD$7=$F100,$H100,\"\")","v":0},0,{"$f":"IF(FF$7=$F100,$H100,\"\")","v":0},0,{"$f":"IF(FH$7=$F100,$H100,\"\")","v":0},0,{"$f":"IF(FJ$7=$F100,$H100,\"\")","v":0},0,{"$f":"IF(FL$7=$F100,$H100,\"\")","v":0},0,0]
[93,null,null,null,null,null,null,null,true,0,0,"","","",{"$f":"IF(N$7=$F101,$H101,\"\")","v":""},"",{"$f":"IF(P$7=$F101,$H101,\"\")","v":""},"",{"$f":"IF(R$7=$F101,$H101,\"\")","v":""},"",{"$f":"IF(T$7=$F101,$H101,\"\")","v":""},"",{"$f":"IF(V$7=$F101,$H101,\"\")","v":""},"",{"$f":"IF(X$7=$F101,$H101,\"\")","v":""},"",{"$f":"IF(Z$7=$F101,$H101,\"\")","v":""},"",{"$f":"IF(AB$7=$F101,$H101,\"\")","v":""},"",{"$f":"IF(AD$7=$F101,$H101,\"\")","v":""},"",{"$f":"IF(AF$7=$F101,$H101,\"\")","v":""},"",{"$f":"IF(AH$7=$F101,$H101,\"\")","v":""},"",{"$f":"IF(AJ$7=$F101,$H101,\"\")","v":""},"",{"$f":"IF(AL$7=$F101,$H101,\"\")","v":""},"",{"$f":"IF(AN$7=$F101,$H101,\"\")","v":""},"",{"$f":"IF(AP$7=$F101,$H101,\"\")","v":""},"",{"$f":"IF(AR$7=$F101,$H101,\"\")","v":""},"",{"$f":"IF(AT$7=$F101,$H101,\"\")","v":""},"",{"$f":"IF(AV$7=$F101,$H101,\"\")","v":""},"",{"$f":"IF(AX$7=$F101,$H101,\"\")","v":""},"",{"$f":"IF(AZ$7=$F101,$H101,\"\")","v":""},"",{"$f":"IF(BB$7=$F101,$H101,\"\")","v":""},"",{"$f":"IF(BD$7=$F101,$H101,\"\")","v":""},"",{"$f":"IF(BF$7=$F101,$H101,\"\")","v":""},"",{"$f":"IF(BH$7=$F101,$H101,\"\")","v":""},"",{"$f":"IF(BJ$7=$F101,$H101,\"\")","v":""},"",{"$f":"IF(BL$7=$F101,$H101,\"\")","v":""},"",{"$f":"IF(BN$7=$F101,$H101,\"\")","v":""},"",{"$f":"IF(BP$7=$F101,$H101,\"\")","v":""},"",{"$f":"IF(BR$7=$F101,$H101,\"\")","v":""},"",{"$f":"IF(BT$7=$F101,$H101,\"\")","v":""},"",{"$f":"IF(BV$7=$F101,$H101,\"\")","v":""},"",{"$f":"IF(BX$7=$F101,$H101,\"\")","v":""},"",{"$f":"IF(BZ$7=$F101,$H101,\"\")","v":""},"",{"$f":"IF(CB$7=$F101,$H101,\"\")","v":""},"",{"$f":"IF(CD$7=$F101,$H101,\"\")","v":""},"",{"$f":"IF(CF$7=$F101,$H101,\"\")","v":""},"",{"$f":"IF(CH$7=$F101,$H101,\"\")","v":""},"",{"$f":"IF(CJ$7=$F101,$H101,\"\")","v":""},"",{"$f":"IF(CL$7=$F101,$H101,\"\")","v":""},"",{"$f":"IF(CN$7=$F101,$H101,\"\")","v":""},"",{"$f":"IF(CP$7=$F101,$H101,\"\")","v":""},"",{"$f":"IF(CR$7=$F101,$H101,\"\")","v":""},"",{"$f":"IF(CT$7=$F101,$H101,\"\")","v":""},"",{"$f":"IF(CV$7=$F101,$H101,\"\")","v":""},"",{"$f":"IF(CX$7=$F101,$H101,\"\")","v":""},"",{"$f":"IF(CZ$7=$F101,$H101,\"\")","v":""},"",{"$f":"IF(DB$7=$F101,$H101,\"\")","v":""},"",{"$f":"IF(DD$7=$F101,$H101,\"\")","v":""},"",{"$f":"IF(DF$7=$F101,$H101,\"\")","v":""},0,{"$f":"IF(DH$7=$F101,$H101,\"\")","v":0},0,{"$f":"IF(DJ$7=$F101,$H101,\"\")","v":0},0,{"$f":"IF(DL$7=$F101,$H101,\"\")","v":0},0,{"$f":"IF(DN$7=$F101,$H101,\"\")","v":0},0,{"$f":"IF(DP$7=$F101,$H101,\"\")","v":0},0,{"$f":"IF(DR$7=$F101,$H101,\"\")","v":0},0,{"$f":"IF(DT$7=$F101,$H101,\"\")","v":0},0,{"$f":"IF(DV$7=$F101,$H101,\"\")","v":0},0,{"$f":"IF(DX$7=$F101,$H101,\"\")","v":0},0,{"$f":"IF(DZ$7=$F101,$H101,\"\")","v":0},0,{"$f":"IF(EB$7=$F101,$H101,\"\")","v":0},0,{"$f":"IF(ED$7=$F101,$H101,\"\")","v":0},0,{"$f":"IF(EF$7=$F101,$H101,\"\")","v":0},0,{"$f":"IF(EH$7=$F101,$H101,\"\")","v":0},0,{"$f":"IF(EJ$7=$F101,$H101,\"\")","v":0},0,{"$f":"IF(EL$7=$F101,$H101,\"\")","v":0},0,{"$f":"IF(EN$7=$F101,$H101,\"\")","v":0},0,{"$f":"IF(EP$7=$F101,$H101,\"\")","v":0},0,{"$f":"IF(ER$7=$F101,$H101,\"\")","v":0},0,{"$f":"IF(ET$7=$F101,$H101,\"\")","v":0},0,{"$f":"IF(EV$7=$F101,$H101,\"\")","v":0},0,{"$f":"IF(EX$7=$F101,$H101,\"\")","v":0},0,{"$f":"IF(EZ$7=$F101,$H101,\"\")","v":0},0,{"$f":"IF(FB$7=$F101,$H101,\"\")","v":0},0,{"$f":"IF(FD$7=$F101,$H101,\"\")","v":0},0,{"$f":"IF(FF$7=$F101,$H101,\"\")","v":0},0,{"$f":"IF(FH$7=$F101,$H101,\"\")","v":0},0,{"$f":"IF(FJ$7=$F101,$H101,\"\")","v":0},0,{"$f":"IF(FL$7=$F101,$H101,\"\")","v":0},0,0]
[94,null,null,null,null,null,null,null,true,0,0,"","","",{"$f":"IF(N$7=$F102,$H102,\"\")","v":""},"",{"$f":"IF(P$7=$F102,$H102,\"\")","v":""},"",{"$f":"IF(R$7=$F102,$H102,\"\")","v":""},"",{"$f":"IF(T$7=$F102,$H102,\"\")","v":""},"",{"$f":"IF(V$7=$F102,$H102,\"\")","v":""},"",{"$f":"IF(X$7=$F102,$H102,\"\")","v":""},"",{"$f":"IF(Z$7=$F102,$H102,\"\")","v":""},"",{"$f":"IF(AB$7=$F102,$H102,\"\")","v":""},"",{"$f":"IF(AD$7=$F102,$H102,\"\")","v":""},"",{"$f":"IF(AF$7=$F102,$H102,\"\")","v":""},"",{"$f":"IF(AH$7=$F102,$H102,\"\")","v":""},"",{"$f":"IF(AJ$7=$F102,$H102,\"\")","v":""},"",{"$f":"IF(AL$7=$F102,$H102,\"\")","v":""},"",{"$f":"IF(AN$7=$F102,$H102,\"\")","v":""},"",{"$f":"IF(AP$7=$F102,$H102,\"\")","v":""},"",{"$f":"IF(AR$7=$F102,$H102,\"\")","v":""},"",{"$f":"IF(AT$7=$F102,$H102,\"\")","v":""},"",{"$f":"IF(AV$7=$F102,$H102,\"\")","v":""},"",{"$f":"IF(AX$7=$F102,$H102,\"\")","v":""},"",{"$f":"IF(AZ$7=$F102,$H102,\"\")","v":""},"",{"$f":"IF(BB$7=$F102,$H102,\"\")","v":""},"",{"$f":"IF(BD$7=$F102,$H102,\"\")","v":""},"",{"$f":"IF(BF$7=$F102,$H102,\"\")","v":""},"",{"$f":"IF(BH$7=$F102,$H102,\"\")","v":""},"",{"$f":"IF(BJ$7=$F102,$H102,\"\")","v":""},"",{"$f":"IF(BL$7=$F102,$H102,\"\")","v":""},"",{"$f":"IF(BN$7=$F102,$H102,\"\")","v":""},"",{"$f":"IF(BP$7=$F102,$H102,\"\")","v":""},"",{"$f":"IF(BR$7=$F102,$H102,\"\")","v":""},"",{"$f":"IF(BT$7=$F102,$H102,\"\")","v":""},"",{"$f":"IF(BV$7=$F102,$H102,\"\")","v":""},"",{"$f":"IF(BX$7=$F102,$H102,\"\")","v":""},"",{"$f":"IF(BZ$7=$F102,$H102,\"\")","v":""},"",{"$f":"IF(CB$7=$F102,$H102,\"\")","v":""},"",{"$f":"IF(CD$7=$F102,$H102,\"\")","v":""},"",{"$f":"IF(CF$7=$F102,$H102,\"\")","v":""},"",{"$f":"IF(CH$7=$F102,$H102,\"\")","v":""},"",{"$f":"IF(CJ$7=$F102,$H102,\"\")","v":""},"",{"$f":"IF(CL$7=$F102,$H102,\"\")","v":""},"",{"$f":"IF(CN$7=$F102,$H102,\"\")","v":""},"",{"$f":"IF(CP$7=$F102,$H102,\"\")","v":""},"",{"$f":"IF(CR$7=$F102,$H102,\"\")","v":""},"",{"$f":"IF(CT$7=$F102,$H102,\"\")","v":""},"",{"$f":"IF(CV$7=$F102,$H102,\"\")","v":""},"",{"$f":"IF(CX$7=$F102,$H102,\"\")","v":""},"",{"$f":"IF(CZ$7=$F102,$H102,\"\")","v":""},"",{"$f":"IF(DB$7=$F102,$H102,\"\")","v":""},"",{"$f":"IF(DD$7=$F102,$H102,\"\")","v":""},"",{"$f":"IF(DF$7=$F102,$H102,\"\")","v":""},0,{"$f":"IF(DH$7=$F102,$H102,\"\")","v":0},0,{"$f":"IF(DJ$7=$F102,$H102,\"\")","v":0},0,{"$f":"IF(DL$7=$F102,$H102,\"\")","v":0},0,{"$f":"IF(DN$7=$F102,$H102,\"\")","v":0},0,{"$f":"IF(DP$7=$F102,$H102,\"\")","v":0},0,{"$f":"IF(DR$7=$F102,$H102,\"\")","v":0},0,{"$f":"IF(DT$7=$F102,$H102,\"\")","v":0},0,{"$f":"IF(DV$7=$F102,$H102,\"\")","v":0},0,{"$f":"IF(DX$7=$F102,$H102,\"\")","v":0},0,{"$f":"IF(DZ$7=$F102,$H102,\"\")","v":0},0,{"$f":"IF(EB$7=$F102,$H102,\"\")","v":0},0,{"$f":"IF(ED$7=$F102,$H102,\"\")","v":0},0,{"$f":"IF(EF$7=$F102,$H102,\"\")","v":0},0,{"$f":"IF(EH$7=$F102,$H102,\"\")","v":0},0,{"$f":"IF(EJ$7=$F102,$H102,\"\")","v":0},0,{"$f":"IF(EL$7=$F102,$H102,\"\")","v":0},0,{"$f":"IF(EN$7=$F102,$H102,\"\")","v":0},0,{"$f":"IF(EP$7=$F102,$H102,\"\")","v":0},0,{"$f":"IF(ER$7=$F102,$H102,\"\")","v":0},0,{"$f":"IF(ET$7=$F102,$H102,\"\")","v":0},0,{"$f":"IF(EV$7=$F102,$H102,\"\")","v":0},0,{"$f":"IF(EX$7=$F102,$H102,\"\")","v":0},0,{"$f":"IF(EZ$7=$F102,$H102,\"\")","v":0},0,{"$f":"IF(FB$7=$F102,$H102,\"\")","v":0},0,{"$f":"IF(FD$7=$F102,$H102,\"\")","v":0},0,{"$f":"IF(FF$7=$F102,$H102,\"\")","v":0},0,{"$f":"IF(FH$7=$F102,$H102,\"\")","v":0},0,{"$f":"IF(FJ$7=$F102,$H102,\"\")","v":0},0,{"$f":"IF(FL$7=$F102,$H102,\"\")","v":0},0,0]
[95,null,null,null,null,null,null,null,true,0,0,"","","",{"$f":"IF(N$7=$F103,$H103,\"\")","v":""},"",{"$f":"IF(P$7=$F103,$H103,\"\")","v":""},"",{"$f":"IF(R$7=$F103,$H103,\"\")","v":""},"",{"$f":"IF(T$7=$F103,$H103,\"\")","v":""},"",{"$f":"IF(V$7=$F103,$H103,\"\")","v":""},"",{"$f":"IF(X$7=$F103,$H103,\"\")","v":""},"",{"$f":"IF(Z$7=$F103,$H103,\"\")","v":""},"",{"$f":"IF(AB$7=$F103,$H103,\"\")","v":""},"",{"$f":"IF(AD$7=$F103,$H103,\"\")","v":""},"",{"$f":"IF(AF$7=$F103,$H103,\"\")","v":""},"",{"$f":"IF(AH$7=$F103,$H103,\"\")","v":""},"",{"$f":"IF(AJ$7=$F103,$H103,\"\")","v":""},"",{"$f":"IF(AL$7=$F103,$H103,\"\")","v":""},"",{"$f":"IF(AN$7=$F103,$H103,\"\")","v":""},"",{"$f":"IF(AP$7=$F103,$H103,\"\")","v":""},"",{"$f":"IF(AR$7=$F103,$H103,\"\")","v":""},"",{"$f":"IF(AT$7=$F103,$H103,\"\")","v":""},"",{"$f":"IF(AV$7=$F103,$H103,\"\")","v":""},"",{"$f":"IF(AX$7=$F103,$H103,\"\")","v":""},"",{"$f":"IF(AZ$7=$F103,$H103,\"\")","v":""},"",{"$f":"IF(BB$7=$F103,$H103,\"\")","v":""},"",{"$f":"IF(BD$7=$F103,$H103,\"\")","v":""},"",{"$f":"IF(BF$7=$F103,$H103,\"\")","v":""},"",{"$f":"IF(BH$7=$F103,$H103,\"\")","v":""},"",{"$f":"IF(BJ$7=$F103,$H103,\"\")","v":""},"",{"$f":"IF(BL$7=$F103,$H103,\"\")","v":""},"",{"$f":"IF(BN$7=$F103,$H103,\"\")","v":""},"",{"$f":"IF(BP$7=$F103,$H103,\"\")","v":""},"",{"$f":"IF(BR$7=$F103,$H103,\"\")","v":""},"",{"$f":"IF(BT$7=$F103,$H103,\"\")","v":""},"",{"$f":"IF(BV$7=$F103,$H103,\"\")","v":""},"",{"$f":"IF(BX$7=$F103,$H103,\"\")","v":""},"",{"$f":"IF(BZ$7=$F103,$H103,\"\")","v":""},"",{"$f":"IF(CB$7=$F103,$H103,\"\")","v":""},"",{"$f":"IF(CD$7=$F103,$H103,\"\")","v":""},"",{"$f":"IF(CF$7=$F103,$H103,\"\")","v":""},"",{"$f":"IF(CH$7=$F103,$H103,\"\")","v":""},"",{"$f":"IF(CJ$7=$F103,$H103,\"\")","v":""},"",{"$f":"IF(CL$7=$F103,$H103,\"\")","v":""},"",{"$f":"IF(CN$7=$F103,$H103,\"\")","v":""},"",{"$f":"IF(CP$7=$F103,$H103,\"\")","v":""},"",{"$f":"IF(CR$7=$F103,$H103,\"\")","v":""},"",{"$f":"IF(CT$7=$F103,$H103,\"\")","v":""},"",{"$f":"IF(CV$7=$F103,$H103,\"\")","v":""},"",{"$f":"IF(CX$7=$F103,$H103,\"\")","v":""},"",{"$f":"IF(CZ$7=$F103,$H103,\"\")","v":""},"",{"$f":"IF(DB$7=$F103,$H103,\"\")","v":""},"",{"$f":"IF(DD$7=$F103,$H103,\"\")","v":""},"",{"$f":"IF(DF$7=$F103,$H103,\"\")","v":""},0,{"$f":"IF(DH$7=$F103,$H103,\"\")","v":0},0,{"$f":"IF(DJ$7=$F103,$H103,\"\")","v":0},0,{"$f":"IF(DL$7=$F103,$H103,\"\")","v":0},0,{"$f":"IF(DN$7=$F103,$H103,\"\")","v":0},0,{"$f":"IF(DP$7=$F103,$H103,\"\")","v":0},0,{"$f":"IF(DR$7=$F103,$H103,\"\")","v":0},0,{"$f":"IF(DT$7=$F103,$H103,\"\")","v":0},0,{"$f":"IF(DV$7=$F103,$H103,\"\")","v":0},0,{"$f":"IF(DX$7=$F103,$H103,\"\")","v":0},0,{"$f":"IF(DZ$7=$F103,$H103,\"\")","v":0},0,{"$f":"IF(EB$7=$F103,$H103,\"\")","v":0},0,{"$f":"IF(ED$7=$F103,$H103,\"\")","v":0},0,{"$f":"IF(EF$7=$F103,$H103,\"\")","v":0},0,{"$f":"IF(EH$7=$F103,$H103,\"\")","v":0},0,{"$f":"IF(EJ$7=$F103,$H103,\"\")","v":0},0,{"$f":"IF(EL$7=$F103,$H103,\"\")","v":0},0,{"$f":"IF(EN$7=$F103,$H103,\"\")","v":0},0,{"$f":"IF(EP$7=$F103,$H103,\"\")","v":0},0,{"$f":"IF(ER$7=$F103,$H103,\"\")","v":0},0,{"$f":"IF(ET$7=$F103,$H103,\"\")","v":0},0,{"$f":"IF(EV$7=$F103,$H103,\"\")","v":0},0,{"$f":"IF(EX$7=$F103,$H103,\"\")","v":0},0,{"$f":"IF(EZ$7=$F103,$H103,\"\")","v":0},0,{"$f":"IF(FB$7=$F103,$H103,\"\")","v":0},0,{"$f":"IF(FD$7=$F103,$H103,\"\")","v":0},0,{"$f":"IF(FF$7=$F103,$H103,\"\")","v":0},0,{"$f":"IF(FH$7=$F103,$H103,\"\")","v":0},0,{"$f":"IF(FJ$7=$F103,$H103,\"\")","v":0},0,{"$f":"IF(FL$7=$F103,$H103,\"\")","v":0},0,0]
[96,null,null,null,null,null,null,null,true,0,0,"","","",{"$f":"IF(N$7=$F104,$H104,\"\")","v":""},"",{"$f":"IF(P$7=$F104,$H104,\"\")","v":""},"",{"$f":"IF(R$7=$F104,$H104,\"\")","v":""},"",{"$f":"IF(T$7=$F104,$H104,\"\")","v":""},"",{"$f":"IF(V$7=$F104,$H104,\"\")","v":""},"",{"$f":"IF(X$7=$F104,$H104,\"\")","v":""},"",{"$f":"IF(Z$7=$F104,$H104,\"\")","v":""},"",{"$f":"IF(AB$7=$F104,$H104,\"\")","v":""},"",{"$f":"IF(AD$7=$F104,$H104,\"\")","v":""},"",{"$f":"IF(AF$7=$F104,$H104,\"\")","v":""},"",{"$f":"IF(AH$7=$F104,$H104,\"\")","v":""},"",{"$f":"IF(AJ$7=$F104,$H104,\"\")","v":""},"",{"$f":"IF(AL$7=$F104,$H104,\"\")","v":""},"",{"$f":"IF(AN$7=$F104,$H104,\"\")","v":""},"",{"$f":"IF(AP$7=$F104,$H104,\"\")","v":""},"",{"$f":"IF(AR$7=$F104,$H104,\"\")","v":""},"",{"$f":"IF(AT$7=$F104,$H104,\"\")","v":""},"",{"$f":"IF(AV$7=$F104,$H104,\"\")","v":""},"",{"$f":"IF(AX$7=$F104,$H104,\"\")","v":""},"",{"$f":"IF(AZ$7=$F104,$H104,\"\")","v":""},"",{"$f":"IF(BB$7=$F104,$H104,\"\")","v":""},"",{"$f":"IF(BD$7=$F104,$H104,\"\")","v":""},"",{"$f":"IF(BF$7=$F104,$H104,\"\")","v":""},"",{"$f":"IF(BH$7=$F104,$H104,\"\")","v":""},"",{"$f":"IF(BJ$7=$F104,$H104,\"\")","v":""},"",{"$f":"IF(BL$7=$F104,$H104,\"\")","v":""},"",{"$f":"IF(BN$7=$F104,$H104,\"\")","v":""},"",{"$f":"IF(BP$7=$F104,$H104,\"\")","v":""},"",{"$f":"IF(BR$7=$F104,$H104,\"\")","v":""},"",{"$f":"IF(BT$7=$F104,$H104,\"\")","v":""},"",{"$f":"IF(BV$7=$F104,$H104,\"\")","v":""},"",{"$f":"IF(BX$7=$F104,$H104,\"\")","v":""},"",{"$f":"IF(BZ$7=$F104,$H104,\"\")","v":""},"",{"$f":"IF(CB$7=$F104,$H104,\"\")","v":""},"",{"$f":"IF(CD$7=$F104,$H104,\"\")","v":""},"",{"$f":"IF(CF$7=$F104,$H104,\"\")","v":""},"",{"$f":"IF(CH$7=$F104,$H104,\"\")","v":""},"",{"$f":"IF(CJ$7=$F104,$H104,\"\")","v":""},"",{"$f":"IF(CL$7=$F104,$H104,\"\")","v":""},"",{"$f":"IF(CN$7=$F104,$H104,\"\")","v":""},"",{"$f":"IF(CP$7=$F104,$H104,\"\")","v":""},"",{"$f":"IF(CR$7=$F104,$H104,\"\")","v":""},"",{"$f":"IF(CT$7=$F104,$H104,\"\")","v":""},"",{"$f":"IF(CV$7=$F104,$H104,\"\")","v":""},"",{"$f":"IF(CX$7=$F104,$H104,\"\")","v":""},"",{"$f":"IF(CZ$7=$F104,$H104,\"\")","v":""},"",{"$f":"IF(DB$7=$F104,$H104,\"\")","v":""},"",{"$f":"IF(DD$7=$F104,$H104,\"\")","v":""},"",{"$f":"IF(DF$7=$F104,$H104,\"\")","v":""},0,{"$f":"IF(DH$7=$F104,$H104,\"\")","v":0},0,{"$f":"IF(DJ$7=$F104,$H104,\"\")","v":0},0,{"$f":"IF(DL$7=$F104,$H104,\"\")","v":0},0,{"$f":"IF(DN$7=$F104,$H104,\"\")","v":0},0,{"$f":"IF(DP$7=$F104,$H104,\"\")","v":0},0,{"$f":"IF(DR$7=$F104,$H104,\"\")","v":0},0,{"$f":"IF(DT$7=$F104,$H104,\"\")","v":0},0,{"$f":"IF(DV$7=$F104,$H104,\"\")","v":0},0,{"$f":"IF(DX$7=$F104,$H104,\"\")","v":0},0,{"$f":"IF(DZ$7=$F104,$H104,\"\")","v":0},0,{"$f":"IF(EB$7=$F104,$H104,\"\")","v":0},0,{"$f":"IF(ED$7=$F104,$H104,\"\")","v":0},0,{"$f":"IF(EF$7=$F104,$H104,\"\")","v":0},0,{"$f":"IF(EH$7=$F104,$H104,\"\")","v":0},0,{"$f":"IF(EJ$7=$F104,$H104,\"\")","v":0},0,{"$f":"IF(EL$7=$F104,$H104,\"\")","v":0},0,{"$f":"IF(EN$7=$F104,$H104,\"\")","v":0},0,{"$f":"IF(EP$7=$F104,$H104,\"\")","v":0},0,{"$f":"IF(ER$7=$F104,$H104,\"\")","v":0},0,{"$f":"IF(ET$7=$F104,$H104,\"\")","v":0},0,{"$f":"IF(EV$7=$F104,$H104,\"\")","v":0},0,{"$f":"IF(EX$7=$F104,$H104,\"\")","v":0},0,{"$f":"IF(EZ$7=$F104,$H104,\"\")","v":0},0,{"$f":"IF(FB$7=$F104,$H104,\"\")","v":0},0,{"$f":"IF(FD$7=$F104,$H104,\"\")","v":0},0,{"$f":"IF(FF$7=$F104,$H104,\"\")","v":0},0,{"$f":"IF(FH$7=$F104,$H104,\"\")","v":0},0,{"$f":"IF(FJ$7=$F104,$H104,\"\")","v":0},0,{"$f":"IF(FL$7=$F104,$H104,\"\")","v":0},0,0]
[97,null,null,null,null,null,null,null,true,0,0,"","","",{"$f":"IF(N$7=$F105,$H105,\"\")","v":""},"",{"$f":"IF(P$7=$F105,$H105,\"\")","v":""},"",{"$f":"IF(R$7=$F105,$H105,\"\")","v":""},"",{"$f":"IF(T$7=$F105,$H105,\"\")","v":""},"",{"$f":"IF(V$7=$F105,$H105,\"\")","v":""},"",{"$f":"IF(X$7=$F105,$H105,\"\")","v":""},"",{"$f":"IF(Z$7=$F105,$H105,\"\")","v":""},"",{"$f":"IF(AB$7=$F105,$H105,\"\")","v":""},"",{"$f":"IF(AD$7=$F105,$H105,\"\")","v":""},"",{"$f":"IF(AF$7=$F105,$H105,\"\")","v":""},"",{"$f":"IF(AH$7=$F105,$H105,\"\")","v":""},"",{"$f":"IF(AJ$7=$F105,$H105,\"\")","v":""},"",{"$f":"IF(AL$7=$F105,$H105,\"\")","v":""},"",{"$f":"IF(AN$7=$F105,$H105,\"\")","v":""},"",{"$f":"IF(AP$7=$F105,$H105,\"\")","v":""},"",{"$f":"IF(AR$7=$F105,$H105,\"\")","v":""},"",{"$f":"IF(AT$7=$F105,$H105,\"\")","v":""},"",{"$f":"IF(AV$7=$F105,$H105,\"\")","v":""},"",{"$f":"IF(AX$7=$F105,$H105,\"\")","v":""},"",{"$f":"IF(AZ$7=$F105,$H105,\"\")","v":""},"",{"$f":"IF(BB$7=$F105,$H105,\"\")","v":""},"",{"$f":"IF(BD$7=$F105,$H105,\"\")","v":""},"",{"$f":"IF(BF$7=$F105,$H105,\"\")","v":""},"",{"$f":"IF(BH$7=$F105,$H105,\"\")","v":""},"",{"$f":"IF(BJ$7=$F105,$H105,\"\")","v":""},"",{"$f":"IF(BL$7=$F105,$H105,\"\")","v":""},"",{"$f":"IF(BN$7=$F105,$H105,\"\")","v":""},"",{"$f":"IF(BP$7=$F105,$H105,\"\")","v":""},"",{"$f":"IF(BR$7=$F105,$H105,\"\")","v":""},"",{"$f":"IF(BT$7=$F105,$H105,\"\")","v":""},"",{"$f":"IF(BV$7=$F105,$H105,\"\")","v":""},"",{"$f":"IF(BX$7=$F105,$H105,\"\")","v":""},"",{"$f":"IF(BZ$7=$F105,$H105,\"\")","v":""},"",{"$f":"IF(CB$7=$F105,$H105,\"\")","v":""},"",{"$f":"IF(CD$7=$F105,$H105,\"\")","v":""},"",{"$f":"IF(CF$7=$F105,$H105,\"\")","v":""},"",{"$f":"IF(CH$7=$F105,$H105,\"\")","v":""},"",{"$f":"IF(CJ$7=$F105,$H105,\"\")","v":""},"",{"$f":"IF(CL$7=$F105,$H105,\"\")","v":""},"",{"$f":"IF(CN$7=$F105,$H105,\"\")","v":""},"",{"$f":"IF(CP$7=$F105,$H105,\"\")","v":""},"",{"$f":"IF(CR$7=$F105,$H105,\"\")","v":""},"",{"$f":"IF(CT$7=$F105,$H105,\"\")","v":""},"",{"$f":"IF(CV$7=$F105,$H105,\"\")","v":""},"",{"$f":"IF(CX$7=$F105,$H105,\"\")","v":""},"",{"$f":"IF(CZ$7=$F105,$H105,\"\")","v":""},"",{"$f":"IF(DB$7=$F105,$H105,\"\")","v":""},"",{"$f":"IF(DD$7=$F105,$H105,\"\")","v":""},"",{"$f":"IF(DF$7=$F105,$H105,\"\")","v":""},0,{"$f":"IF(DH$7=$F105,$H105,\"\")","v":0},0,{"$f":"IF(DJ$7=$F105,$H105,\"\")","v":0},0,{"$f":"IF(DL$7=$F105,$H105,\"\")","v":0},0,{"$f":"IF(DN$7=$F105,$H105,\"\")","v":0},0,{"$f":"IF(DP$7=$F105,$H105,\"\")","v":0},0,{"$f":"IF(DR$7=$F105,$H105,\"\")","v":0},0,{"$f":"IF(DT$7=$F105,$H105,\"\")","v":0},0,{"$f":"IF(DV$7=$F105,$H105,\"\")","v":0},0,{"$f":"IF(DX$7=$F105,$H105,\"\")","v":0},0,{"$f":"IF(DZ$7=$F105,$H105,\"\")","v":0},0,{"$f":"IF(EB$7=$F105,$H105,\"\")","v":0},0,{"$f":"IF(ED$7=$F105,$H105,\"\")","v":0},0,{"$f":"IF(EF$7=$F105,$H105,\"\")","v":0},0,{"$f":"IF(EH$7=$F105,$H105,\"\")","v":0},0,{"$f":"IF(EJ$7=$F105,$H105,\"\")","v":0},0,{"$f":"IF(EL$7=$F105,$H105,\"\")","v":0},0,{"$f":"IF(EN$7=$F105,$H105,\"\")","v":0},0,{"$f":"IF(EP$7=$F105,$H105,\"\")","v":0},0,{"$f":"IF(ER$7=$F105,$H105,\"\")","v":0},0,{"$f":"IF(ET$7=$F105,$H105,\"\")","v":0},0,{"$f":"IF(EV$7=$F105,$H105,\"\")","v":0},0,{"$f":"IF(EX$7=$F105,$H105,\"\")","v":0},0,{"$f":"IF(EZ$7=$F105,$H105,\"\")","v":0},0,{"$f":"IF(FB$7=$F105,$H105,\"\")","v":0},0,{"$f":"IF(FD$7=$F105,$H105,\"\")","v":0},0,{"$f":"IF(FF$7=$F105,$H105,\"\")","v":0},0,{"$f":"IF(FH$7=$F105,$H105,\"\")","v":0},0,{"$f":"IF(FJ$7=$F105,$H105,\"\")","v":0},0,{"$f":"IF(FL$7=$F105,$H105,\"\")","v":0},0,0]
[98,null,null,null,null,null,null,null,true,0,0,"","","",{"$f":"IF(N$7=$F106,$H106,\"\")","v":""},"",{"$f":"IF(P$7=$F106,$H106,\"\")","v":""},"",{"$f":"IF(R$7=$F106,$H106,\"\")","v":""},"",{"$f":"IF(T$7=$F106,$H106,\"\")","v":""},"",{"$f":"IF(V$7=$F106,$H106,\"\")","v":""},"",{"$f":"IF(X$7=$F106,$H106,\"\")","v":""},"",{"$f":"IF(Z$7=$F106,$H106,\"\")","v":""},"",{"$f":"IF(AB$7=$F106,$H106,\"\")","v":""},"",{"$f":"IF(AD$7=$F106,$H106,\"\")","v":""},"",{"$f":"IF(AF$7=$F106,$H106,\"\")","v":""},"",{"$f":"IF(AH$7=$F106,$H106,\"\")","v":""},"",{"$f":"IF(AJ$7=$F106,$H106,\"\")","v":""},"",{"$f":"IF(AL$7=$F106,$H106,\"\")","v":""},"",{"$f":"IF(AN$7=$F106,$H106,\"\")","v":""},"",{"$f":"IF(AP$7=$F106,$H106,\"\")","v":""},"",{"$f":"IF(AR$7=$F106,$H106,\"\")","v":""},"",{"$f":"IF(AT$7=$F106,$H106,\"\")","v":""},"",{"$f":"IF(AV$7=$F106,$H106,\"\")","v":""},"",{"$f":"IF(AX$7=$F106,$H106,\"\")","v":""},"",{"$f":"IF(AZ$7=$F106,$H106,\"\")","v":""},"",{"$f":"IF(BB$7=$F106,$H106,\"\")","v":""},"",{"$f":"IF(BD$7=$F106,$H106,\"\")","v":""},"",{"$f":"IF(BF$7=$F106,$H106,\"\")","v":""},"",{"$f":"IF(BH$7=$F106,$H106,\"\")","v":""},"",{"$f":"IF(BJ$7=$F106,$H106,\"\")","v":""},"",{"$f":"IF(BL$7=$F106,$H106,\"\")","v":""},"",{"$f":"IF(BN$7=$F106,$H106,\"\")","v":""},"",{"$f":"IF(BP$7=$F106,$H106,\"\")","v":""},"",{"$f":"IF(BR$7=$F106,$H106,\"\")","v":""},"",{"$f":"IF(BT$7=$F106,$H106,\"\")","v":""},"",{"$f":"IF(BV$7=$F106,$H106,\"\")","v":""},"",{"$f":"IF(BX$7=$F106,$H106,\"\")","v":""},"",{"$f":"IF(BZ$7=$F106,$H106,\"\")","v":""},"",{"$f":"IF(CB$7=$F106,$H106,\"\")","v":""},"",{"$f":"IF(CD$7=$F106,$H106,\"\")","v":""},"",{"$f":"IF(CF$7=$F106,$H106,\"\")","v":""},"",{"$f":"IF(CH$7=$F106,$H106,\"\")","v":""},"",{"$f":"IF(CJ$7=$F106,$H106,\"\")","v":""},"",{"$f":"IF(CL$7=$F106,$H106,\"\")","v":""},"",{"$f":"IF(CN$7=$F106,$H106,\"\")","v":""},"",{"$f":"IF(CP$7=$F106,$H106,\"\")","v":""},"",{"$f":"IF(CR$7=$F106,$H106,\"\")","v":""},"",{"$f":"IF(CT$7=$F106,$H106,\"\")","v":""},"",{"$f":"IF(CV$7=$F106,$H106,\"\")","v":""},"",{"$f":"IF(CX$7=$F106,$H106,\"\")","v":""},"",{"$f":"IF(CZ$7=$F106,$H106,\"\")","v":""},"",{"$f":"IF(DB$7=$F106,$H106,\"\")","v":""},"",{"$f":"IF(DD$7=$F106,$H106,\"\")","v":""},"",{"$f":"IF(DF$7=$F106,$H106,\"\")","v":""},0,{"$f":"IF(DH$7=$F106,$H106,\"\")","v":0},0,{"$f":"IF(DJ$7=$F106,$H106,\"\")","v":0},0,{"$f":"IF(DL$7=$F106,$H106,\"\")","v":0},0,{"$f":"IF(DN$7=$F106,$H106,\"\")","v":0},0,{"$f":"IF(DP$7=$F106,$H106,\"\")","v":0},0,{"$f":"IF(DR$7=$F106,$H106,\"\")","v":0},0,{"$f":"IF(DT$7=$F106,$H106,\"\")","v":0},0,{"$f":"IF(DV$7=$F106,$H106,\"\")","v":0},0,{"$f":"IF(DX$7=$F106,$H106,\"\")","v":0},0,{"$f":"IF(DZ$7=$F106,$H106,\"\")","v":0},0,{"$f":"IF(EB$7=$F106,$H106,\"\")","v":0},0,{"$f":"IF(ED$7=$F106,$H106,\"\")","v":0},0,{"$f":"IF(EF$7=$F106,$H106,\"\")","v":0},0,{"$f":"IF(EH$7=$F106,$H106,\"\")","v":0},0,{"$f":"IF(EJ$7=$F106,$H106,\"\")","v":0},0,{"$f":"IF(EL$7=$F106,$H106,\"\")","v":0},0,{"$f":"IF(EN$7=$F106,$H106,\"\")","v":0},0,{"$f":"IF(EP$7=$F106,$H106,\"\")","v":0},0,{"$f":"IF(ER$7=$F106,$H106,\"\")","v":0},0,{"$f":"IF(ET$7=$F106,$H106,\"\")","v":0},0,{"$f":"IF(EV$7=$F106,$H106,\"\")","v":0},0,{"$f":"IF(EX$7=$F106,$H106,\"\")","v":0},0,{"$f":"IF(EZ$7=$F106,$H106,\"\")","v":0},0,{"$f":"IF(FB$7=$F106,$H106,\"\")","v":0},0,{"$f":"IF(FD$7=$F106,$H106,\"\")","v":0},0,{"$f":"IF(FF$7=$F106,$H106,\"\")","v":0},0,{"$f":"IF(FH$7=$F106,$H106,\"\")","v":0},0,{"$f":"IF(FJ$7=$F106,$H106,\"\")","v":0},0,{"$f":"IF(FL$7=$F106,$H106,\"\")","v":0},0,0]
[99,null,null,null,null,null,null,null,true,0,0,"","","",{"$f":"IF(N$7=$F107,$H107,\"\")","v":""},"",{"$f":"IF(P$7=$F107,$H107,\"\")","v":""},"",{"$f":"IF(R$7=$F107,$H107,\"\")","v":""},"",{"$f":"IF(T$7=$F107,$H107,\"\")","v":""},"",{"$f":"IF(V$7=$F107,$H107,\"\")","v":""},"",{"$f":"IF(X$7=$F107,$H107,\"\")","v":""},"",{"$f":"IF(Z$7=$F107,$H107,\"\")","v":""},"",{"$f":"IF(AB$7=$F107,$H107,\"\")","v":""},"",{"$f":"IF(AD$7=$F107,$H107,\"\")","v":""},"",{"$f":"IF(AF$7=$F107,$H107,\"\")","v":""},"",{"$f":"IF(AH$7=$F107,$H107,\"\")","v":""},"",{"$f":"IF(AJ$7=$F107,$H107,\"\")","v":""},"",{"$f":"IF(AL$7=$F107,$H107,\"\")","v":""},"",{"$f":"IF(AN$7=$F107,$H107,\"\")","v":""},"",{"$f":"IF(AP$7=$F107,$H107,\"\")","v":""},"",{"$f":"IF(AR$7=$F107,$H107,\"\")","v":""},"",{"$f":"IF(AT$7=$F107,$H107,\"\")","v":""},"",{"$f":"IF(AV$7=$F107,$H107,\"\")","v":""},"",{"$f":"IF(AX$7=$F107,$H107,\"\")","v":""},"",{"$f":"IF(AZ$7=$F107,$H107,\"\")","v":""},"",{"$f":"IF(BB$7=$F107,$H107,\"\")","v":""},"",{"$f":"IF(BD$7=$F107,$H107,\"\")","v":""},"",{"$f":"IF(BF$7=$F107,$H107,\"\")","v":""},"",{"$f":"IF(BH$7=$F107,$H107,\"\")","v":""},"",{"$f":"IF(BJ$7=$F107,$H107,\"\")","v":""},"",{"$f":"IF(BL$7=$F107,$H107,\"\")","v":""},"",{"$f":"IF(BN$7=$F107,$H107,\"\")","v":""},"",{"$f":"IF(BP$7=$F107,$H107,\"\")","v":""},"",{"$f":"IF(BR$7=$F107,$H107,\"\")","v":""},"",{"$f":"IF(BT$7=$F107,$H107,\"\")","v":""},"",{"$f":"IF(BV$7=$F107,$H107,\"\")","v":""},"",{"$f":"IF(BX$7=$F107,$H107,\"\")","v":""},"",{"$f":"IF(BZ$7=$F107,$H107,\"\")","v":""},"",{"$f":"IF(CB$7=$F107,$H107,\"\")","v":""},"",{"$f":"IF(CD$7=$F107,$H107,\"\")","v":""},"",{"$f":"IF(CF$7=$F107,$H107,\"\")","v":""},"",{"$f":"IF(CH$7=$F107,$H107,\"\")","v":""},"",{"$f":"IF(CJ$7=$F107,$H107,\"\")","v":""},"",{"$f":"IF(CL$7=$F107,$H107,\"\")","v":""},"",{"$f":"IF(CN$7=$F107,$H107,\"\")","v":""},"",{"$f":"IF(CP$7=$F107,$H107,\"\")","v":""},"",{"$f":"IF(CR$7=$F107,$H107,\"\")","v":""},"",{"$f":"IF(CT$7=$F107,$H107,\"\")","v":""},"",{"$f":"IF(CV$7=$F107,$H107,\"\")","v":""},"",{"$f":"IF(CX$7=$F107,$H107,\"\")","v":""},"",{"$f":"IF(CZ$7=$F107,$H107,\"\")","v":""},"",{"$f":"IF(DB$7=$F107,$H107,\"\")","v":""},"",{"$f":"IF(DD$7=$F107,$H107,\"\")","v":""},"",{"$f":"IF(DF$7=$F107,$H107,\"\")","v":""},0,{"$f":"IF(DH$7=$F107,$H107,\"\")","v":0},0,{"$f":"IF(DJ$7=$F107,$H107,\"\")","v":0},0,{"$f":"IF(DL$7=$F107,$H107,\"\")","v":0},0,{"$f":"IF(DN$7=$F107,$H107,\"\")","v":0},0,{"$f":"IF(DP$7=$F107,$H107,\"\")","v":0},0,{"$f":"IF(DR$7=$F107,$H107,\"\")","v":0},0,{"$f":"IF(DT$7=$F107,$H107,\"\")","v":0},0,{"$f":"IF(DV$7=$F107,$H107,\"\")","v":0},0,{"$f":"IF(DX$7=$F107,$H107,\"\")","v":0},0,{"$f":"IF(DZ$7=$F107,$H107,\"\")","v":0},0,{"$f":"IF(EB$7=$F107,$H107,\"\")","v":0},0,{"$f":"IF(ED$7=$F107,$H107,\"\")","v":0},0,{"$f":"IF(EF$7=$F107,$H107,\"\")","v":0},0,{"$f":"IF(EH$7=$F107,$H107,\"\")","v":0},0,{"$f":"IF(EJ$7=$F107,$H107,\"\")","v":0},0,{"$f":"IF(EL$7=$F107,$H107,\"\")","v":0},0,{"$f":"IF(EN$7=$F107,$H107,\"\")","v":0},0,{"$f":"IF(EP$7=$F107,$H107,\"\")","v":0},0,{"$f":"IF(ER$7=$F107,$H107,\"\")","v":0},0,{"$f":"IF(ET$7=$F107,$H107,\"\")","v":0},0,{"$f":"IF(EV$7=$F107,$H107,\"\")","v":0},0,{"$f":"IF(EX$7=$F107,$H107,\"\")","v":0},0,{"$f":"IF(EZ$7=$F107,$H107,\"\")","v":0},0,{"$f":"IF(FB$7=$F107,$H107,\"\")","v":0},0,{"$f":"IF(FD$7=$F107,$H107,\"\")","v":0},0,{"$f":"IF(FF$7=$F107,$H107,\"\")","v":0},0,{"$f":"IF(FH$7=$F107,$H107,\"\")","v":0},0,{"$f":"IF(FJ$7=$F107,$H107,\"\")","v":0},0,{"$f":"IF(FL$7=$F107,$H107,\"\")","v":0},0,0]
[100,null,null,null,null,null,null,null,true,0,0,"","","",{"$f":"IF(N$7=$F108,$H108,\"\")","v":""},"",{"$f":"IF(P$7=$F108,$H108,\"\")","v":""},"",{"$f":"IF(R$7=$F108,$H108,\"\")","v":""},"",{"$f":"IF(T$7=$F108,$H108,\"\")","v":""},"",{"$f":"IF(V$7=$F108,$H108,\"\")","v":""},"",{"$f":"IF(X$7=$F108,$H108,\"\")","v":""},"",{"$f":"IF(Z$7=$F108,$H108,\"\")","v":""},"",{"$f":"IF(AB$7=$F108,$H108,\"\")","v":""},"",{"$f":"IF(AD$7=$F108,$H108,\"\")","v":""},"",{"$f":"IF(AF$7=$F108,$H108,\"\")","v":""},"",{"$f":"IF(AH$7=$F108,$H108,\"\")","v":""},"",{"$f":"IF(AJ$7=$F108,$H108,\"\")","v":""},"",{"$f":"IF(AL$7=$F108,$H108,\"\")","v":""},"",{"$f":"IF(AN$7=$F108,$H108,\"\")","v":""},"",{"$f":"IF(AP$7=$F108,$H108,\"\")","v":""},"",{"$f":"IF(AR$7=$F108,$H108,\"\")","v":""},"",{"$f":"IF(AT$7=$F108,$H108,\"\")","v":""},"",{"$f":"IF(AV$7=$F108,$H108,\"\")","v":""},"",{"$f":"IF(AX$7=$F108,$H108,\"\")","v":""},"",{"$f":"IF(AZ$7=$F108,$H108,\"\")","v":""},"",{"$f":"IF(BB$7=$F108,$H108,\"\")","v":""},"",{"$f":"IF(BD$7=$F108,$H108,\"\")","v":""},"",{"$f":"IF(BF$7=$F108,$H108,\"\")","v":""},"",{"$f":"IF(BH$7=$F108,$H108,\"\")","v":""},"",{"$f":"IF(BJ$7=$F108,$H108,\"\")","v":""},"",{"$f":"IF(BL$7=$F108,$H108,\"\")","v":""},"",{"$f":"IF(BN$7=$F108,$H108,\"\")","v":""},"",{"$f":"IF(BP$7=$F108,$H108,\"\")","v":""},"",{"$f":"IF(BR$7=$F108,$H108,\"\")","v":""},"",{"$f":"IF(BT$7=$F108,$H108,\"\")","v":""},"",{"$f":"IF(BV$7=$F108,$H108,\"\")","v":""},"",{"$f":"IF(BX$7=$F108,$H108,\"\")","v":""},"",{"$f":"IF(BZ$7=$F108,$H108,\"\")","v":""},"",{"$f":"IF(CB$7=$F108,$H108,\"\")","v":""},"",{"$f":"IF(CD$7=$F108,$H108,\"\")","v":""},"",{"$f":"IF(CF$7=$F108,$H108,\"\")","v":""},"",{"$f":"IF(CH$7=$F108,$H108,\"\")","v":""},"",{"$f":"IF(CJ$7=$F108,$H108,\"\")","v":""},"",{"$f":"IF(CL$7=$F108,$H108,\"\")","v":""},"",{"$f":"IF(CN$7=$F108,$H108,\"\")","v":""},"",{"$f":"IF(CP$7=$F108,$H108,\"\")","v":""},"",{"$f":"IF(CR$7=$F108,$H108,\"\")","v":""},"",{"$f":"IF(CT$7=$F108,$H108,\"\")","v":""},"",{"$f":"IF(CV$7=$F108,$H108,\"\")","v":""},"",{"$f":"IF(CX$7=$F108,$H108,\"\")","v":""},"",{"$f":"IF(CZ$7=$F108,$H108,\"\")","v":""},"",{"$f":"IF(DB$7=$F108,$H108,\"\")","v":""},"",{"$f":"IF(DD$7=$F108,$H108,\"\")","v":""},"",{"$f":"IF(DF$7=$F108,$H108,\"\")","v":""},0,{"$f":"IF(DH$7=$F108,$H108,\"\")","v":0},0,{"$f":"IF(DJ$7=$F108,$H108,\"\")","v":0},0,{"$f":"IF(DL$7=$F108,$H108,\"\")","v":0},0,{"$f":"IF(DN$7=$F108,$H108,\"\")","v":0},0,{"$f":"IF(DP$7=$F108,$H108,\"\")","v":0},0,{"$f":"IF(DR$7=$F108,$H108,\"\")","v":0},0,{"$f":"IF(DT$7=$F108,$H108,\"\")","v":0},0,{"$f":"IF(DV$7=$F108,$H108,\"\")","v":0},0,{"$f":"IF(DX$7=$F108,$H108,\"\")","v":0},0,{"$f":"IF(DZ$7=$F108,$H108,\"\")","v":0},0,{"$f":"IF(EB$7=$F108,$H108,\"\")","v":0},0,{"$f":"IF(ED$7=$F108,$H108,\"\")","v":0},0,{"$f":"IF(EF$7=$F108,$H108,\"\")","v":0},0,{"$f":"IF(EH$7=$F108,$H108,\"\")","v":0},0,{"$f":"IF(EJ$7=$F108,$H108,\"\")","v":0},0,{"$f":"IF(EL$7=$F108,$H108,\"\")","v":0},0,{"$f":"IF(EN$7=$F108,$H108,\"\")","v":0},0,{"$f":"IF(EP$7=$F108,$H108,\"\")","v":0},0,{"$f":"IF(ER$7=$F108,$H108,\"\")","v":0},0,{"$f":"IF(ET$7=$F108,$H108,\"\")","v":0},0,{"$f":"IF(EV$7=$F108,$H108,\"\")","v":0},0,{"$f":"IF(EX$7=$F108,$H108,\"\")","v":0},0,{"$f":"IF(EZ$7=$F108,$H108,\"\")","v":0},0,{"$f":"IF(FB$7=$F108,$H108,\"\")","v":0},0,{"$f":"IF(FD$7=$F108,$H108,\"\")","v":0},0,{"$f":"IF(FF$7=$F108,$H108,\"\")","v":0},0,{"$f":"IF(FH$7=$F108,$H108,\"\")","v":0},0,{"$f":"IF(FJ$7=$F108,$H108,\"\")","v":0},0,{"$f":"IF(FL$7=$F108,$H108,\"\")","v":0},0,0]
[101,null,null,null,null,null,null,null,true,0,0,"","","",{"$f":"IF(N$7=$F109,$H109,\"\")","v":""},"",{"$f":"IF(P$7=$F109,$H109,\"\")","v":""},"",{"$f":"IF(R$7=$F109,$H109,\"\")","v":""},"",{"$f":"IF(T$7=$F109,$H109,\"\")","v":""},"",{"$f":"IF(V$7=$F109,$H109,\"\")","v":""},"",{"$f":"IF(X$7=$F109,$H109,\"\")","v":""},"",{"$f":"IF(Z$7=$F109,$H109,\"\")","v":""},"",{"$f":"IF(AB$7=$F109,$H109,\"\")","v":""},"",{"$f":"IF(AD$7=$F109,$H109,\"\")","v":""},"",{"$f":"IF(AF$7=$F109,$H109,\"\")","v":""},"",{"$f":"IF(AH$7=$F109,$H109,\"\")","v":""},"",{"$f":"IF(AJ$7=$F109,$H109,\"\")","v":""},"",{"$f":"IF(AL$7=$F109,$H109,\"\")","v":""},"",{"$f":"IF(AN$7=$F109,$H109,\"\")","v":""},"",{"$f":"IF(AP$7=$F109,$H109,\"\")","v":""},"",{"$f":"IF(AR$7=$F109,$H109,\"\")","v":""},"",{"$f":"IF(AT$7=$F109,$H109,\"\")","v":""},"",{"$f":"IF(AV$7=$F109,$H109,\"\")","v":""},"",{"$f":"IF(AX$7=$F109,$H109,\"\")","v":""},"",{"$f":"IF(AZ$7=$F109,$H109,\"\")","v":""},"",{"$f":"IF(BB$7=$F109,$H109,\"\")","v":""},"",{"$f":"IF(BD$7=$F109,$H109,\"\")","v":""},"",{"$f":"IF(BF$7=$F109,$H109,\"\")","v":""},"",{"$f":"IF(BH$7=$F109,$H109,\"\")","v":""},"",{"$f":"IF(BJ$7=$F109,$H109,\"\")","v":""},"",{"$f":"IF(BL$7=$F109,$H109,\"\")","v":""},"",{"$f":"IF(BN$7=$F109,$H109,\"\")","v":""},"",{"$f":"IF(BP$7=$F109,$H109,\"\")","v":""},"",{"$f":"IF(BR$7=$F109,$H109,\"\")","v":""},"",{"$f":"IF(BT$7=$F109,$H109,\"\")","v":""},"",{"$f":"IF(BV$7=$F109,$H109,\"\")","v":""},"",{"$f":"IF(BX$7=$F109,$H109,\"\")","v":""},"",{"$f":"IF(BZ$7=$F109,$H109,\"\")","v":""},"",{"$f":"IF(CB$7=$F109,$H109,\"\")","v":""},"",{"$f":"IF(CD$7=$F109,$H109,\"\")","v":""},"",{"$f":"IF(CF$7=$F109,$H109,\"\")","v":""},"",{"$f":"IF(CH$7=$F109,$H109,\"\")","v":""},"",{"$f":"IF(CJ$7=$F109,$H109,\"\")","v":""},"",{"$f":"IF(CL$7=$F109,$H109,\"\")","v":""},"",{"$f":"IF(CN$7=$F109,$H109,\"\")","v":""},"",{"$f":"IF(CP$7=$F109,$H109,\"\")","v":""},"",{"$f":"IF(CR$7=$F109,$H109,\"\")","v":""},"",{"$f":"IF(CT$7=$F109,$H109,\"\")","v":""},"",{"$f":"IF(CV$7=$F109,$H109,\"\")","v":""},"",{"$f":"IF(CX$7=$F109,$H109,\"\")","v":""},"",{"$f":"IF(CZ$7=$F109,$H109,\"\")","v":""},"",{"$f":"IF(DB$7=$F109,$H109,\"\")","v":""},"",{"$f":"IF(DD$7=$F109,$H109,\"\")","v":""},"",{"$f":"IF(DF$7=$F109,$H109,\"\")","v":""},0,{"$f":"IF(DH$7=$F109,$H109,\"\")","v":0},0,{"$f":"IF(DJ$7=$F109,$H109,\"\")","v":0},0,{"$f":"IF(DL$7=$F109,$H109,\"\")","v":0},0,{"$f":"IF(DN$7=$F109,$H109,\"\")","v":0},0,{"$f":"IF(DP$7=$F109,$H109,\"\")","v":0},0,{"$f":"IF(DR$7=$F109,$H109,\"\")","v":0},0,{"$f":"IF(DT$7=$F109,$H109,\"\")","v":0},0,{"$f":"IF(DV$7=$F109,$H109,\"\")","v":0},0,{"$f":"IF(DX$7=$F109,$H109,\"\")","v":0},0,{"$f":"IF(DZ$7=$F109,$H109,\"\")","v":0},0,{"$f":"IF(EB$7=$F109,$H109,\"\")","v":0},0,{"$f":"IF(ED$7=$F109,$H109,\"\")","v":0},0,{"$f":"IF(EF$7=$F109,$H109,\"\")","v":0},0,{"$f":"IF(EH$7=$F109,$H109,\"\")","v":0},0,{"$f":"IF(EJ$7=$F109,$H109,\"\")","v":0},0,{"$f":"IF(EL$7=$F109,$H109,\"\")","v":0},0,{"$f":"IF(EN$7=$F109,$H109,\"\")","v":0},0,{"$f":"IF(EP$7=$F109,$H109,\"\")","v":0},0,{"$f":"IF(ER$7=$F109,$H109,\"\")","v":0},0,{"$f":"IF(ET$7=$F109,$H109,\"\")","v":0},0,{"$f":"IF(EV$7=$F109,$H109,\"\")","v":0},0,{"$f":"IF(EX$7=$F109,$H109,\"\")","v":0},0,{"$f":"IF(EZ$7=$F109,$H109,\"\")","v":0},0,{"$f":"IF(FB$7=$F109,$H109,\"\")","v":0},0,{"$f":"IF(FD$7=$F109,$H109,\"\")","v":0},0,{"$f":"IF(FF$7=$F109,$H109,\"\")","v":0},0,{"$f":"IF(FH$7=$F109,$H109,\"\")","v":0},0,{"$f":"IF(FJ$7=$F109,$H109,\"\")","v":0},0,{"$f":"IF(FL$7=$F109,$H109,\"\")","v":0},0,0]
[102,null,null,null,null,null,null,null,true,0,0,"","","",{"$f":"IF(N$7=$F110,$H110,\"\")","v":""},"",{"$f":"IF(P$7=$F110,$H110,\"\")","v":""},"",{"$f":"IF(R$7=$F110,$H110,\"\")","v":""},"",{"$f":"IF(T$7=$F110,$H110,\"\")","v":""},"",{"$f":"IF(V$7=$F110,$H110,\"\")","v":""},"",{"$f":"IF(X$7=$F110,$H110,\"\")","v":""},"",{"$f":"IF(Z$7=$F110,$H110,\"\")","v":""},"",{"$f":"IF(AB$7=$F110,$H110,\"\")","v":""},"",{"$f":"IF(AD$7=$F110,$H110,\"\")","v":""},"",{"$f":"IF(AF$7=$F110,$H110,\"\")","v":""},"",{"$f":"IF(AH$7=$F110,$H110,\"\")","v":""},"",{"$f":"IF(AJ$7=$F110,$H110,\"\")","v":""},"",{"$f":"IF(AL$7=$F110,$H110,\"\")","v":""},"",{"$f":"IF(AN$7=$F110,$H110,\"\")","v":""},"",{"$f":"IF(AP$7=$F110,$H110,\"\")","v":""},"",{"$f":"IF(AR$7=$F110,$H110,\"\")","v":""},"",{"$f":"IF(AT$7=$F110,$H110,\"\")","v":""},"",{"$f":"IF(AV$7=$F110,$H110,\"\")","v":""},"",{"$f":"IF(AX$7=$F110,$H110,\"\")","v":""},"",{"$f":"IF(AZ$7=$F110,$H110,\"\")","v":""},"",{"$f":"IF(BB$7=$F110,$H110,\"\")","v":""},"",{"$f":"IF(BD$7=$F110,$H110,\"\")","v":""},"",{"$f":"IF(BF$7=$F110,$H110,\"\")","v":""},"",{"$f":"IF(BH$7=$F110,$H110,\"\")","v":""},"",{"$f":"IF(BJ$7=$F110,$H110,\"\")","v":""},"",{"$f":"IF(BL$7=$F110,$H110,\"\")","v":""},"",{"$f":"IF(BN$7=$F110,$H110,\"\")","v":""},"",{"$f":"IF(BP$7=$F110,$H110,\"\")","v":""},"",{"$f":"IF(BR$7=$F110,$H110,\"\")","v":""},"",{"$f":"IF(BT$7=$F110,$H110,\"\")","v":""},"",{"$f":"IF(BV$7=$F110,$H110,\"\")","v":""},"",{"$f":"IF(BX$7=$F110,$H110,\"\")","v":""},"",{"$f":"IF(BZ$7=$F110,$H110,\"\")","v":""},"",{"$f":"IF(CB$7=$F110,$H110,\"\")","v":""},"",{"$f":"IF(CD$7=$F110,$H110,\"\")","v":""},"",{"$f":"IF(CF$7=$F110,$H110,\"\")","v":""},"",{"$f":"IF(CH$7=$F110,$H110,\"\")","v":""},"",{"$f":"IF(CJ$7=$F110,$H110,\"\")","v":""},"",{"$f":"IF(CL$7=$F110,$H110,\"\")","v":""},"",{"$f":"IF(CN$7=$F110,$H110,\"\")","v":""},"",{"$f":"IF(CP$7=$F110,$H110,\"\")","v":""},"",{"$f":"IF(CR$7=$F110,$H110,\"\")","v":""},"",{"$f":"IF(CT$7=$F110,$H110,\"\")","v":""},"",{"$f":"IF(CV$7=$F110,$H110,\"\")","v":""},"",{"$f":"IF(CX$7=$F110,$H110,\"\")","v":""},"",{"$f":"IF(CZ$7=$F110,$H110,\"\")","v":""},"",{"$f":"IF(DB$7=$F110,$H110,\"\")","v":""},"",{"$f":"IF(DD$7=$F110,$H110,\"\")","v":""},"",{"$f":"IF(DF$7=$F110,$H110,\"\")","v":""},0,{"$f":"IF(DH$7=$F110,$H110,\"\")","v":0},0,{"$f":"IF(DJ$7=$F110,$H110,\"\")","v":0},0,{"$f":"IF(DL$7=$F110,$H110,\"\")","v":0},0,{"$f":"IF(DN$7=$F110,$H110,\"\")","v":0},0,{"$f":"IF(DP$7=$F110,$H110,\"\")","v":0},0,{"$f":"IF(DR$7=$F110,$H110,\"\")","v":0},0,{"$f":"IF(DT$7=$F110,$H110,\"\")","v":0},0,{"$f":"IF(DV$7=$F110,$H110,\"\")","v":0},0,{"$f":"IF(DX$7=$F110,$H110,\"\")","v":0},0,{"$f":"IF(DZ$7=$F110,$H110,\"\")","v":0},0,{"$f":"IF(EB$7=$F110,$H110,\"\")","v":0},0,{"$f":"IF(ED$7=$F110,$H110,\"\")","v":0},0,{"$f":"IF(EF$7=$F110,$H110,\"\")","v":0},0,{"$f":"IF(EH$7=$F110,$H110,\"\")","v":0},0,{"$f":"IF(EJ$7=$F110,$H110,\"\")","v":0},0,{"$f":"IF(EL$7=$F110,$H110,\"\")","v":0},0,{"$f":"IF(EN$7=$F110,$H110,\"\")","v":0},0,{"$f":"IF(EP$7=$F110,$H110,\"\")","v":0},0,{"$f":"IF(ER$7=$F110,$H110,\"\")","v":0},0,{"$f":"IF(ET$7=$F110,$H110,\"\")","v":0},0,{"$f":"IF(EV$7=$F110,$H110,\"\")","v":0},0,{"$f":"IF(EX$7=$F110,$H110,\"\")","v":0},0,{"$f":"IF(EZ$7=$F110,$H110,\"\")","v":0},0,{"$f":"IF(FB$7=$F110,$H110,\"\")","v":0},0,{"$f":"IF(FD$7=$F110,$H110,\"\")","v":0},0,{"$f":"IF(FF$7=$F110,$H110,\"\")","v":0},0,{"$f":"IF(FH$7=$F110,$H110,\"\")","v":0},0,{"$f":"IF(FJ$7=$F110,$H110,\"\")","v":0},0,{"$f":"IF(FL$7=$F110,$H110,\"\")","v":0},0,0]
[103,null,null,null,null,null,null,null,true,0,0,"","","",{"$f":"IF(N$7=$F111,$H111,\"\")","v":""},"",{"$f":"IF(P$7=$F111,$H111,\"\")","v":""},"",{"$f":"IF(R$7=$F111,$H111,\"\")","v":""},"",{"$f":"IF(T$7=$F111,$H111,\"\")","v":""},"",{"$f":"IF(V$7=$F111,$H111,\"\")","v":""},"",{"$f":"IF(X$7=$F111,$H111,\"\")","v":""},"",{"$f":"IF(Z$7=$F111,$H111,\"\")","v":""},"",{"$f":"IF(AB$7=$F111,$H111,\"\")","v":""},"",{"$f":"IF(AD$7=$F111,$H111,\"\")","v":""},"",{"$f":"IF(AF$7=$F111,$H111,\"\")","v":""},"",{"$f":"IF(AH$7=$F111,$H111,\"\")","v":""},"",{"$f":"IF(AJ$7=$F111,$H111,\"\")","v":""},"",{"$f":"IF(AL$7=$F111,$H111,\"\")","v":""},"",{"$f":"IF(AN$7=$F111,$H111,\"\")","v":""},"",{"$f":"IF(AP$7=$F111,$H111,\"\")","v":""},"",{"$f":"IF(AR$7=$F111,$H111,\"\")","v":""},"",{"$f":"IF(AT$7=$F111,$H111,\"\")","v":""},"",{"$f":"IF(AV$7=$F111,$H111,\"\")","v":""},"",{"$f":"IF(AX$7=$F111,$H111,\"\")","v":""},"",{"$f":"IF(AZ$7=$F111,$H111,\"\")","v":""},"",{"$f":"IF(BB$7=$F111,$H111,\"\")","v":""},"",{"$f":"IF(BD$7=$F111,$H111,\"\")","v":""},"",{"$f":"IF(BF$7=$F111,$H111,\"\")","v":""},"",{"$f":"IF(BH$7=$F111,$H111,\"\")","v":""},"",{"$f":"IF(BJ$7=$F111,$H111,\"\")","v":""},"",{"$f":"IF(BL$7=$F111,$H111,\"\")","v":""},"",{"$f":"IF(BN$7=$F111,$H111,\"\")","v":""},"",{"$f":"IF(BP$7=$F111,$H111,\"\")","v":""},"",{"$f":"IF(BR$7=$F111,$H111,\"\")","v":""},"",{"$f":"IF(BT$7=$F111,$H111,\"\")","v":""},"",{"$f":"IF(BV$7=$F111,$H111,\"\")","v":""},"",{"$f":"IF(BX$7=$F111,$H111,\"\")","v":""},"",{"$f":"IF(BZ$7=$F111,$H111,\"\")","v":""},"",{"$f":"IF(CB$7=$F111,$H111,\"\")","v":""},"",{"$f":"IF(CD$7=$F111,$H111,\"\")","v":""},"",{"$f":"IF(CF$7=$F111,$H111,\"\")","v":""},"",{"$f":"IF(CH$7=$F111,$H111,\"\")","v":""},"",{"$f":"IF(CJ$7=$F111,$H111,\"\")","v":""},"",{"$f":"IF(CL$7=$F111,$H111,\"\")","v":""},"",{"$f":"IF(CN$7=$F111,$H111,\"\")","v":""},"",{"$f":"IF(CP$7=$F111,$H111,\"\")","v":""},"",{"$f":"IF(CR$7=$F111,$H111,\"\")","v":""},"",{"$f":"IF(CT$7=$F111,$H111,\"\")","v":""},"",{"$f":"IF(CV$7=$F111,$H111,\"\")","v":""},"",{"$f":"IF(CX$7=$F111,$H111,\"\")","v":""},"",{"$f":"IF(CZ$7=$F111,$H111,\"\")","v":""},"",{"$f":"IF(DB$7=$F111,$H111,\"\")","v":""},"",{"$f":"IF(DD$7=$F111,$H111,\"\")","v":""},"",{"$f":"IF(DF$7=$F111,$H111,\"\")","v":""},0,{"$f":"IF(DH$7=$F111,$H111,\"\")","v":0},0,{"$f":"IF(DJ$7=$F111,$H111,\"\")","v":0},0,{"$f":"IF(DL$7=$F111,$H111,\"\")","v":0},0,{"$f":"IF(DN$7=$F111,$H111,\"\")","v":0},0,{"$f":"IF(DP$7=$F111,$H111,\"\")","v":0},0,{"$f":"IF(DR$7=$F111,$H111,\"\")","v":0},0,{"$f":"IF(DT$7=$F111,$H111,\"\")","v":0},0,{"$f":"IF(DV$7=$F111,$H111,\"\")","v":0},0,{"$f":"IF(DX$7=$F111,$H111,\"\")","v":0},0,{"$f":"IF(DZ$7=$F111,$H111,\"\")","v":0},0,{"$f":"IF(EB$7=$F111,$H111,\"\")","v":0},0,{"$f":"IF(ED$7=$F111,$H111,\"\")","v":0},0,{"$f":"IF(EF$7=$F111,$H111,\"\")","v":0},0,{"$f":"IF(EH$7=$F111,$H111,\"\")","v":0},0,{"$f":"IF(EJ$7=$F111,$H111,\"\")","v":0},0,{"$f":"IF(EL$7=$F111,$H111,\"\")","v":0},0,{"$f":"IF(EN$7=$F111,$H111,\"\")","v":0},0,{"$f":"IF(EP$7=$F111,$H111,\"\")","v":0},0,{"$f":"IF(ER$7=$F111,$H111,\"\")","v":0},0,{"$f":"IF(ET$7=$F111,$H111,\"\")","v":0},0,{"$f":"IF(EV$7=$F111,$H111,\"\")","v":0},0,{"$f":"IF(EX$7=$F111,$H111,\"\")","v":0},0,{"$f":"IF(EZ$7=$F111,$H111,\"\")","v":0},0,{"$f":"IF(FB$7=$F111,$H111,\"\")","v":0},0,{"$f":"IF(FD$7=$F111,$H111,\"\")","v":0},0,{"$f":"IF(FF$7=$F111,$H111,\"\")","v":0},0,{"$f":"IF(FH$7=$F111,$H111,\"\")","v":0},0,{"$f":"IF(FJ$7=$F111,$H111,\"\")","v":0},0,{"$f":"IF(FL$7=$F111,$H111,\"\")","v":0},0,0]
[104,null,null,null,null,null,null,null,true,0,0,"","","",{"$f":"IF(N$7=$F112,$H112,\"\")","v":""},"",{"$f":"IF(P$7=$F112,$H112,\"\")","v":""},"",{"$f":"IF(R$7=$F112,$H112,\"\")","v":""},"",{"$f":"IF(T$7=$F112,$H112,\"\")","v":""},"",{"$f":"IF(V$7=$F112,$H112,\"\")","v":""},"",{"$f":"IF(X$7=$F112,$H112,\"\")","v":""},"",{"$f":"IF(Z$7=$F112,$H112,\"\")","v":""},"",{"$f":"IF(AB$7=$F112,$H112,\"\")","v":""},"",{"$f":"IF(AD$7=$F112,$H112,\"\")","v":""},"",{"$f":"IF(AF$7=$F112,$H112,\"\")","v":""},"",{"$f":"IF(AH$7=$F112,$H112,\"\")","v":""},"",{"$f":"IF(AJ$7=$F112,$H112,\"\")","v":""},"",{"$f":"IF(AL$7=$F112,$H112,\"\")","v":""},"",{"$f":"IF(AN$7=$F112,$H112,\"\")","v":""},"",{"$f":"IF(AP$7=$F112,$H112,\"\")","v":""},"",{"$f":"IF(AR$7=$F112,$H112,\"\")","v":""},"",{"$f":"IF(AT$7=$F112,$H112,\"\")","v":""},"",{"$f":"IF(AV$7=$F112,$H112,\"\")","v":""},"",{"$f":"IF(AX$7=$F112,$H112,\"\")","v":""},"",{"$f":"IF(AZ$7=$F112,$H112,\"\")","v":""},"",{"$f":"IF(BB$7=$F112,$H112,\"\")","v":""},"",{"$f":"IF(BD$7=$F112,$H112,\"\")","v":""},"",{"$f":"IF(BF$7=$F112,$H112,\"\")","v":""},"",{"$f":"IF(BH$7=$F112,$H112,\"\")","v":""},"",{"$f":"IF(BJ$7=$F112,$H112,\"\")","v":""},"",{"$f":"IF(BL$7=$F112,$H112,\"\")","v":""},"",{"$f":"IF(BN$7=$F112,$H112,\"\")","v":""},"",{"$f":"IF(BP$7=$F112,$H112,\"\")","v":""},"",{"$f":"IF(BR$7=$F112,$H112,\"\")","v":""},"",{"$f":"IF(BT$7=$F112,$H112,\"\")","v":""},"",{"$f":"IF(BV$7=$F112,$H112,\"\")","v":""},"",{"$f":"IF(BX$7=$F112,$H112,\"\")","v":""},"",{"$f":"IF(BZ$7=$F112,$H112,\"\")","v":""},"",{"$f":"IF(CB$7=$F112,$H112,\"\")","v":""},"",{"$f":"IF(CD$7=$F112,$H112,\"\")","v":""},"",{"$f":"IF(CF$7=$F112,$H112,\"\")","v":""},"",{"$f":"IF(CH$7=$F112,$H112,\"\")","v":""},"",{"$f":"IF(CJ$7=$F112,$H112,\"\")","v":""},"",{"$f":"IF(CL$7=$F112,$H112,\"\")","v":""},"",{"$f":"IF(CN$7=$F112,$H112,\"\")","v":""},"",{"$f":"IF(CP$7=$F112,$H112,\"\")","v":""},"",{"$f":"IF(CR$7=$F112,$H112,\"\")","v":""},"",{"$f":"IF(CT$7=$F112,$H112,\"\")","v":""},"",{"$f":"IF(CV$7=$F112,$H112,\"\")","v":""},"",{"$f":"IF(CX$7=$F112,$H112,\"\")","v":""},"",{"$f":"IF(CZ$7=$F112,$H112,\"\")","v":""},"",{"$f":"IF(DB$7=$F112,$H112,\"\")","v":""},"",{"$f":"IF(DD$7=$F112,$H112,\"\")","v":""},"",{"$f":"IF(DF$7=$F112,$H112,\"\")","v":""},0,{"$f":"IF(DH$7=$F112,$H112,\"\")","v":0},0,{"$f":"IF(DJ$7=$F112,$H112,\"\")","v":0},0,{"$f":"IF(DL$7=$F112,$H112,\"\")","v":0},0,{"$f":"IF(DN$7=$F112,$H112,\"\")","v":0},0,{"$f":"IF(DP$7=$F112,$H112,\"\")","v":0},0,{"$f":"IF(DR$7=$F112,$H112,\"\")","v":0},0,{"$f":"IF(DT$7=$F112,$H112,\"\")","v":0},0,{"$f":"IF(DV$7=$F112,$H112,\"\")","v":0},0,{"$f":"IF(DX$7=$F112,$H112,\"\")","v":0},0,{"$f":"IF(DZ$7=$F112,$H112,\"\")","v":0},0,{"$f":"IF(EB$7=$F112,$H112,\"\")","v":0},0,{"$f":"IF(ED$7=$F112,$H112,\"\")","v":0},0,{"$f":"IF(EF$7=$F112,$H112,\"\")","v":0},0,{"$f":"IF(EH$7=$F112,$H112,\"\")","v":0},0,{"$f":"IF(EJ$7=$F112,$H112,\"\")","v":0},0,{"$f":"IF(EL$7=$F112,$H112,\"\")","v":0},0,{"$f":"IF(EN$7=$F112,$H112,\"\")","v":0},0,{"$f":"IF(EP$7=$F112,$H112,\"\")","v":0},0,{"$f":"IF(ER$7=$F112,$H112,\"\")","v":0},0,{"$f":"IF(ET$7=$F112,$H112,\"\")","v":0},0,{"$f":"IF(EV$7=$F112,$H112,\"\")","v":0},0,{"$f":"IF(EX$7=$F112,$H112,\"\")","v":0},0,{"$f":"IF(EZ$7=$F112,$H112,\"\")","v":0},0,{"$f":"IF(FB$7=$F112,$H112,\"\")","v":0},0,{"$f":"IF(FD$7=$F112,$H112,\"\")","v":0},0,{"$f":"IF(FF$7=$F112,$H112,\"\")","v":0},0,{"$f":"IF(FH$7=$F112,$H112,\"\")","v":0},0,{"$f":"IF(FJ$7=$F112,$H112,\"\")","v":0},0,{"$f":"IF(FL$7=$F112,$H112,\"\")","v":0},0,0]
[105,null,null,null,null,null,null,null,true,0,0,"","","",{"$f":"IF(N$7=$F113,$H113,\"\")","v":""},"",{"$f":"IF(P$7=$F113,$H113,\"\")","v":""},"",{"$f":"IF(R$7=$F113,$H113,\"\")","v":""},"",{"$f":"IF(T$7=$F113,$H113,\"\")","v":""},"",{"$f":"IF(V$7=$F113,$H113,\"\")","v":""},"",{"$f":"IF(X$7=$F113,$H113,\"\")","v":""},"",{"$f":"IF(Z$7=$F113,$H113,\"\")","v":""},"",{"$f":"IF(AB$7=$F113,$H113,\"\")","v":""},"",{"$f":"IF(AD$7=$F113,$H113,\"\")","v":""},"",{"$f":"IF(AF$7=$F113,$H113,\"\")","v":""},"",{"$f":"IF(AH$7=$F113,$H113,\"\")","v":""},"",{"$f":"IF(AJ$7=$F113,$H113,\"\")","v":""},"",{"$f":"IF(AL$7=$F113,$H113,\"\")","v":""},"",{"$f":"IF(AN$7=$F113,$H113,\"\")","v":""},"",{"$f":"IF(AP$7=$F113,$H113,\"\")","v":""},"",{"$f":"IF(AR$7=$F113,$H113,\"\")","v":""},"",{"$f":"IF(AT$7=$F113,$H113,\"\")","v":""},"",{"$f":"IF(AV$7=$F113,$H113,\"\")","v":""},"",{"$f":"IF(AX$7=$F113,$H113,\"\")","v":""},"",{"$f":"IF(AZ$7=$F113,$H113,\"\")","v":""},"",{"$f":"IF(BB$7=$F113,$H113,\"\")","v":""},"",{"$f":"IF(BD$7=$F113,$H113,\"\")","v":""},"",{"$f":"IF(BF$7=$F113,$H113,\"\")","v":""},"",{"$f":"IF(BH$7=$F113,$H113,\"\")","v":""},"",{"$f":"IF(BJ$7=$F113,$H113,\"\")","v":""},"",{"$f":"IF(BL$7=$F113,$H113,\"\")","v":""},"",{"$f":"IF(BN$7=$F113,$H113,\"\")","v":""},"",{"$f":"IF(BP$7=$F113,$H113,\"\")","v":""},"",{"$f":"IF(BR$7=$F113,$H113,\"\")","v":""},"",{"$f":"IF(BT$7=$F113,$H113,\"\")","v":""},"",{"$f":"IF(BV$7=$F113,$H113,\"\")","v":""},"",{"$f":"IF(BX$7=$F113,$H113,\"\")","v":""},"",{"$f":"IF(BZ$7=$F113,$H113,\"\")","v":""},"",{"$f":"IF(CB$7=$F113,$H113,\"\")","v":""},"",{"$f":"IF(CD$7=$F113,$H113,\"\")","v":""},"",{"$f":"IF(CF$7=$F113,$H113,\"\")","v":""},"",{"$f":"IF(CH$7=$F113,$H113,\"\")","v":""},"",{"$f":"IF(CJ$7=$F113,$H113,\"\")","v":""},"",{"$f":"IF(CL$7=$F113,$H113,\"\")","v":""},"",{"$f":"IF(CN$7=$F113,$H113,\"\")","v":""},"",{"$f":"IF(CP$7=$F113,$H113,\"\")","v":""},"",{"$f":"IF(CR$7=$F113,$H113,\"\")","v":""},"",{"$f":"IF(CT$7=$F113,$H113,\"\")","v":""},"",{"$f":"IF(CV$7=$F113,$H113,\"\")","v":""},"",{"$f":"IF(CX$7=$F113,$H113,\"\")","v":""},"",{"$f":"IF(CZ$7=$F113,$H113,\"\")","v":""},"",{"$f":"IF(DB$7=$F113,$H113,\"\")","v":""},"",{"$f":"IF(DD$7=$F113,$H113,\"\")","v":""},"",{"$f":"IF(DF$7=$F113,$H113,\"\")","v":""},0,{"$f":"IF(DH$7=$F113,$H113,\"\")","v":0},0,{"$f":"IF(DJ$7=$F113,$H113,\"\")","v":0},0,{"$f":"IF(DL$7=$F113,$H113,\"\")","v":0},0,{"$f":"IF(DN$7=$F113,$H113,\"\")","v":0},0,{"$f":"IF(DP$7=$F113,$H113,\"\")","v":0},0,{"$f":"IF(DR$7=$F113,$H113,\"\")","v":0},0,{"$f":"IF(DT$7=$F113,$H113,\"\")","v":0},0,{"$f":"IF(DV$7=$F113,$H113,\"\")","v":0},0,{"$f":"IF(DX$7=$F113,$H113,\"\")","v":0},0,{"$f":"IF(DZ$7=$F113,$H113,\"\")","v":0},0,{"$f":"IF(EB$7=$F113,$H113,\"\")","v":0},0,{"$f":"IF(ED$7=$F113,$H113,\"\")","v":0},0,{"$f":"IF(EF$7=$F113,$H113,\"\")","v":0},0,{"$f":"IF(EH$7=$F113,$H113,\"\")","v":0},0,{"$f":"IF(EJ$7=$F113,$H113,\"\")","v":0},0,{"$f":"IF(EL$7=$F113,$H113,\"\")","v":0},0,{"$f":"IF(EN$7=$F113,$H113,\"\")","v":0},0,{"$f":"IF(EP$7=$F113,$H113,\"\")","v":0},0,{"$f":"IF(ER$7=$F113,$H113,\"\")","v":0},0,{"$f":"IF(ET$7=$F113,$H113,\"\")","v":0},0,{"$f":"IF(EV$7=$F113,$H113,\"\")","v":0},0,{"$f":"IF(EX$7=$F113,$H113,\"\")","v":0},0,{"$f":"IF(EZ$7=$F113,$H113,\"\")","v":0},0,{"$f":"IF(FB$7=$F113,$H113,\"\")","v":0},0,{"$f":"IF(FD$7=$F113,$H113,\"\")","v":0},0,{"$f":"IF(FF$7=$F113,$H113,\"\")","v":0},0,{"$f":"IF(FH$7=$F113,$H113,\"\")","v":0},0,{"$f":"IF(FJ$7=$F113,$H113,\"\")","v":0},0,{"$f":"IF(FL$7=$F113,$H113,\"\")","v":0},0,0]
[106,null,null,null,null,null,null,null,true,0,0,"","","",{"$f":"IF(N$7=$F114,$H114,\"\")","v":""},"",{"$f":"IF(P$7=$F114,$H114,\"\")","v":""},"",{"$f":"IF(R$7=$F114,$H114,\"\")","v":""},"",{"$f":"IF(T$7=$F114,$H114,\"\")","v":""},"",{"$f":"IF(V$7=$F114,$H114,\"\")","v":""},"",{"$f":"IF(X$7=$F114,$H114,\"\")","v":""},"",{"$f":"IF(Z$7=$F114,$H114,\"\")","v":""},"",{"$f":"IF(AB$7=$F114,$H114,\"\")","v":""},"",{"$f":"IF(AD$7=$F114,$H114,\"\")","v":""},"",{"$f":"IF(AF$7=$F114,$H114,\"\")","v":""},"",{"$f":"IF(AH$7=$F114,$H114,\"\")","v":""},"",{"$f":"IF(AJ$7=$F114,$H114,\"\")","v":""},"",{"$f":"IF(AL$7=$F114,$H114,\"\")","v":""},"",{"$f":"IF(AN$7=$F114,$H114,\"\")","v":""},"",{"$f":"IF(AP$7=$F114,$H114,\"\")","v":""},"",{"$f":"IF(AR$7=$F114,$H114,\"\")","v":""},"",{"$f":"IF(AT$7=$F114,$H114,\"\")","v":""},"",{"$f":"IF(AV$7=$F114,$H114,\"\")","v":""},"",{"$f":"IF(AX$7=$F114,$H114,\"\")","v":""},"",{"$f":"IF(AZ$7=$F114,$H114,\"\")","v":""},"",{"$f":"IF(BB$7=$F114,$H114,\"\")","v":""},"",{"$f":"IF(BD$7=$F114,$H114,\"\")","v":""},"",{"$f":"IF(BF$7=$F114,$H114,\"\")","v":""},"",{"$f":"IF(BH$7=$F114,$H114,\"\")","v":""},"",{"$f":"IF(BJ$7=$F114,$H114,\"\")","v":""},"",{"$f":"IF(BL$7=$F114,$H114,\"\")","v":""},"",{"$f":"IF(BN$7=$F114,$H114,\"\")","v":""},"",{"$f":"IF(BP$7=$F114,$H114,\"\")","v":""},"",{"$f":"IF(BR$7=$F114,$H114,\"\")","v":""},"",{"$f":"IF(BT$7=$F114,$H114,\"\")","v":""},"",{"$f":"IF(BV$7=$F114,$H114,\"\")","v":""},"",{"$f":"IF(BX$7=$F114,$H114,\"\")","v":""},"",{"$f":"IF(BZ$7=$F114,$H114,\"\")","v":""},"",{"$f":"IF(CB$7=$F114,$H114,\"\")","v":""},"",{"$f":"IF(CD$7=$F114,$H114,\"\")","v":""},"",{"$f":"IF(CF$7=$F114,$H114,\"\")","v":""},"",{"$f":"IF(CH$7=$F114,$H114,\"\")","v":""},"",{"$f":"IF(CJ$7=$F114,$H114,\"\")","v":""},"",{"$f":"IF(CL$7=$F114,$H114,\"\")","v":""},"",{"$f":"IF(CN$7=$F114,$H114,\"\")","v":""},"",{"$f":"IF(CP$7=$F114,$H114,\"\")","v":""},"",{"$f":"IF(CR$7=$F114,$H114,\"\")","v":""},"",{"$f":"IF(CT$7=$F114,$H114,\"\")","v":""},"",{"$f":"IF(CV$7=$F114,$H114,\"\")","v":""},"",{"$f":"IF(CX$7=$F114,$H114,\"\")","v":""},"",{"$f":"IF(CZ$7=$F114,$H114,\"\")","v":""},"",{"$f":"IF(DB$7=$F114,$H114,\"\")","v":""},"",{"$f":"IF(DD$7=$F114,$H114,\"\")","v":""},"",{"$f":"IF(DF$7=$F114,$H114,\"\")","v":""},0,{"$f":"IF(DH$7=$F114,$H114,\"\")","v":0},0,{"$f":"IF(DJ$7=$F114,$H114,\"\")","v":0},0,{"$f":"IF(DL$7=$F114,$H114,\"\")","v":0},0,{"$f":"IF(DN$7=$F114,$H114,\"\")","v":0},0,{"$f":"IF(DP$7=$F114,$H114,\"\")","v":0},0,{"$f":"IF(DR$7=$F114,$H114,\"\")","v":0},0,{"$f":"IF(DT$7=$F114,$H114,\"\")","v":0},0,{"$f":"IF(DV$7=$F114,$H114,\"\")","v":0},0,{"$f":"IF(DX$7=$F114,$H114,\"\")","v":0},0,{"$f":"IF(DZ$7=$F114,$H114,\"\")","v":0},0,{"$f":"IF(EB$7=$F114,$H114,\"\")","v":0},0,{"$f":"IF(ED$7=$F114,$H114,\"\")","v":0},0,{"$f":"IF(EF$7=$F114,$H114,\"\")","v":0},0,{"$f":"IF(EH$7=$F114,$H114,\"\")","v":0},0,{"$f":"IF(EJ$7=$F114,$H114,\"\")","v":0},0,{"$f":"IF(EL$7=$F114,$H114,\"\")","v":0},0,{"$f":"IF(EN$7=$F114,$H114,\"\")","v":0},0,{"$f":"IF(EP$7=$F114,$H114,\"\")","v":0},0,{"$f":"IF(ER$7=$F114,$H114,\"\")","v":0},0,{"$f":"IF(ET$7=$F114,$H114,\"\")","v":0},0,{"$f":"IF(EV$7=$F114,$H114,\"\")","v":0},0,{"$f":"IF(EX$7=$F114,$H114,\"\")","v":0},0,{"$f":"IF(EZ$7=$F114,$H114,\"\")","v":0},0,{"$f":"IF(FB$7=$F114,$H114,\"\")","v":0},0,{"$f":"IF(FD$7=$F114,$H114,\"\")","v":0},0,{"$f":"IF(FF$7=$F114,$H114,\"\")","v":0},0,{"$f":"IF(FH$7=$F114,$H114,\"\")","v":0},0,{"$f":"IF(FJ$7=$F114,$H114,\"\")","v":0},0,{"$f":"IF(FL$7=$F114,$H114,\"\")","v":0},0,0]
[107,null,null,null,null,null,null,null,true,0,0,"","","",{"$f":"IF(N$7=$F115,$H115,\"\")","v":""},"",{"$f":"IF(P$7=$F115,$H115,\"\")","v":""},"",{"$f":"IF(R$7=$F115,$H115,\"\")","v":""},"",{"$f":"IF(T$7=$F115,$H115,\"\")","v":""},"",{"$f":"IF(V$7=$F115,$H115,\"\")","v":""},"",{"$f":"IF(X$7=$F115,$H115,\"\")","v":""},"",{"$f":"IF(Z$7=$F115,$H115,\"\")","v":""},"",{"$f":"IF(AB$7=$F115,$H115,\"\")","v":""},"",{"$f":"IF(AD$7=$F115,$H115,\"\")","v":""},"",{"$f":"IF(AF$7=$F115,$H115,\"\")","v":""},"",{"$f":"IF(AH$7=$F115,$H115,\"\")","v":""},"",{"$f":"IF(AJ$7=$F115,$H115,\"\")","v":""},"",{"$f":"IF(AL$7=$F115,$H115,\"\")","v":""},"",{"$f":"IF(AN$7=$F115,$H115,\"\")","v":""},"",{"$f":"IF(AP$7=$F115,$H115,\"\")","v":""},"",{"$f":"IF(AR$7=$F115,$H115,\"\")","v":""},"",{"$f":"IF(AT$7=$F115,$H115,\"\")","v":""},"",{"$f":"IF(AV$7=$F115,$H115,\"\")","v":""},"",{"$f":"IF(AX$7=$F115,$H115,\"\")","v":""},"",{"$f":"IF(AZ$7=$F115,$H115,\"\")","v":""},"",{"$f":"IF(BB$7=$F115,$H115,\"\")","v":""},"",{"$f":"IF(BD$7=$F115,$H115,\"\")","v":""},"",{"$f":"IF(BF$7=$F115,$H115,\"\")","v":""},"",{"$f":"IF(BH$7=$F115,$H115,\"\")","v":""},"",{"$f":"IF(BJ$7=$F115,$H115,\"\")","v":""},"",{"$f":"IF(BL$7=$F115,$H115,\"\")","v":""},"",{"$f":"IF(BN$7=$F115,$H115,\"\")","v":""},"",{"$f":"IF(BP$7=$F115,$H115,\"\")","v":""},"",{"$f":"IF(BR$7=$F115,$H115,\"\")","v":""},"",{"$f":"IF(BT$7=$F115,$H115,\"\")","v":""},"",{"$f":"IF(BV$7=$F115,$H115,\"\")","v":""},"",{"$f":"IF(BX$7=$F115,$H115,\"\")","v":""},"",{"$f":"IF(BZ$7=$F115,$H115,\"\")","v":""},"",{"$f":"IF(CB$7=$F115,$H115,\"\")","v":""},"",{"$f":"IF(CD$7=$F115,$H115,\"\")","v":""},"",{"$f":"IF(CF$7=$F115,$H115,\"\")","v":""},"",{"$f":"IF(CH$7=$F115,$H115,\"\")","v":""},"",{"$f":"IF(CJ$7=$F115,$H115,\"\")","v":""},"",{"$f":"IF(CL$7=$F115,$H115,\"\")","v":""},"",{"$f":"IF(CN$7=$F115,$H115,\"\")","v":""},"",{"$f":"IF(CP$7=$F115,$H115,\"\")","v":""},"",{"$f":"IF(CR$7=$F115,$H115,\"\")","v":""},"",{"$f":"IF(CT$7=$F115,$H115,\"\")","v":""},"",{"$f":"IF(CV$7=$F115,$H115,\"\")","v":""},"",{"$f":"IF(CX$7=$F115,$H115,\"\")","v":""},"",{"$f":"IF(CZ$7=$F115,$H115,\"\")","v":""},"",{"$f":"IF(DB$7=$F115,$H115,\"\")","v":""},"",{"$f":"IF(DD$7=$F115,$H115,\"\")","v":""},"",{"$f":"IF(DF$7=$F115,$H115,\"\")","v":""},0,{"$f":"IF(DH$7=$F115,$H115,\"\")","v":0},0,{"$f":"IF(DJ$7=$F115,$H115,\"\")","v":0},0,{"$f":"IF(DL$7=$F115,$H115,\"\")","v":0},0,{"$f":"IF(DN$7=$F115,$H115,\"\")","v":0},0,{"$f":"IF(DP$7=$F115,$H115,\"\")","v":0},0,{"$f":"IF(DR$7=$F115,$H115,\"\")","v":0},0,{"$f":"IF(DT$7=$F115,$H115,\"\")","v":0},0,{"$f":"IF(DV$7=$F115,$H115,\"\")","v":0},0,{"$f":"IF(DX$7=$F115,$H115,\"\")","v":0},0,{"$f":"IF(DZ$7=$F115,$H115,\"\")","v":0},0,{"$f":"IF(EB$7=$F115,$H115,\"\")","v":0},0,{"$f":"IF(ED$7=$F115,$H115,\"\")","v":0},0,{"$f":"IF(EF$7=$F115,$H115,\"\")","v":0},0,{"$f":"IF(EH$7=$F115,$H115,\"\")","v":0},0,{"$f":"IF(EJ$7=$F115,$H115,\"\")","v":0},0,{"$f":"IF(EL$7=$F115,$H115,\"\")","v":0},0,{"$f":"IF(EN$7=$F115,$H115,\"\")","v":0},0,{"$f":"IF(EP$7=$F115,$H115,\"\")","v":0},0,{"$f":"IF(ER$7=$F115,$H115,\"\")","v":0},0,{"$f":"IF(ET$7=$F115,$H115,\"\")","v":0},0,{"$f":"IF(EV$7=$F115,$H115,\"\")","v":0},0,{"$f":"IF(EX$7=$F115,$H115,\"\")","v":0},0,{"$f":"IF(EZ$7=$F115,$H115,\"\")","v":0},0,{"$f":"IF(FB$7=$F115,$H115,\"\")","v":0},0,{"$f":"IF(FD$7=$F115,$H115,\"\")","v":0},0,{"$f":"IF(FF$7=$F115,$H115,\"\")","v":0},0,{"$f":"IF(FH$7=$F115,$H115,\"\")","v":0},0,{"$f":"IF(FJ$7=$F115,$H115,\"\")","v":0},0,{"$f":"IF(FL$7=$F115,$H115,\"\")","v":0},0,0]
[108,null,null,null,null,null,null,null,true,0,0,"","","",{"$f":"IF(N$7=$F116,$H116,\"\")","v":""},"",{"$f":"IF(P$7=$F116,$H116,\"\")","v":""},"",{"$f":"IF(R$7=$F116,$H116,\"\")","v":""},"",{"$f":"IF(T$7=$F116,$H116,\"\")","v":""},"",{"$f":"IF(V$7=$F116,$H116,\"\")","v":""},"",{"$f":"IF(X$7=$F116,$H116,\"\")","v":""},"",{"$f":"IF(Z$7=$F116,$H116,\"\")","v":""},"",{"$f":"IF(AB$7=$F116,$H116,\"\")","v":""},"",{"$f":"IF(AD$7=$F116,$H116,\"\")","v":""},"",{"$f":"IF(AF$7=$F116,$H116,\"\")","v":""},"",{"$f":"IF(AH$7=$F116,$H116,\"\")","v":""},"",{"$f":"IF(AJ$7=$F116,$H116,\"\")","v":""},"",{"$f":"IF(AL$7=$F116,$H116,\"\")","v":""},"",{"$f":"IF(AN$7=$F116,$H116,\"\")","v":""},"",{"$f":"IF(AP$7=$F116,$H116,\"\")","v":""},"",{"$f":"IF(AR$7=$F116,$H116,\"\")","v":""},"",{"$f":"IF(AT$7=$F116,$H116,\"\")","v":""},"",{"$f":"IF(AV$7=$F116,$H116,\"\")","v":""},"",{"$f":"IF(AX$7=$F116,$H116,\"\")","v":""},"",{"$f":"IF(AZ$7=$F116,$H116,\"\")","v":""},"",{"$f":"IF(BB$7=$F116,$H116,\"\")","v":""},"",{"$f":"IF(BD$7=$F116,$H116,\"\")","v":""},"",{"$f":"IF(BF$7=$F116,$H116,\"\")","v":""},"",{"$f":"IF(BH$7=$F116,$H116,\"\")","v":""},"",{"$f":"IF(BJ$7=$F116,$H116,\"\")","v":""},"",{"$f":"IF(BL$7=$F116,$H116,\"\")","v":""},"",{"$f":"IF(BN$7=$F116,$H116,\"\")","v":""},"",{"$f":"IF(BP$7=$F116,$H116,\"\")","v":""},"",{"$f":"IF(BR$7=$F116,$H116,\"\")","v":""},"",{"$f":"IF(BT$7=$F116,$H116,\"\")","v":""},"",{"$f":"IF(BV$7=$F116,$H116,\"\")","v":""},"",{"$f":"IF(BX$7=$F116,$H116,\"\")","v":""},"",{"$f":"IF(BZ$7=$F116,$H116,\"\")","v":""},"",{"$f":"IF(CB$7=$F116,$H116,\"\")","v":""},"",{"$f":"IF(CD$7=$F116,$H116,\"\")","v":""},"",{"$f":"IF(CF$7=$F116,$H116,\"\")","v":""},"",{"$f":"IF(CH$7=$F116,$H116,\"\")","v":""},"",{"$f":"IF(CJ$7=$F116,$H116,\"\")","v":""},"",{"$f":"IF(CL$7=$F116,$H116,\"\")","v":""},"",{"$f":"IF(CN$7=$F116,$H116,\"\")","v":""},"",{"$f":"IF(CP$7=$F116,$H116,\"\")","v":""},"",{"$f":"IF(CR$7=$F116,$H116,\"\")","v":""},"",{"$f":"IF(CT$7=$F116,$H116,\"\")","v":""},"",{"$f":"IF(CV$7=$F116,$H116,\"\")","v":""},"",{"$f":"IF(CX$7=$F116,$H116,\"\")","v":""},"",{"$f":"IF(CZ$7=$F116,$H116,\"\")","v":""},"",{"$f":"IF(DB$7=$F116,$H116,\"\")","v":""},"",{"$f":"IF(DD$7=$F116,$H116,\"\")","v":""},"",{"$f":"IF(DF$7=$F116,$H116,\"\")","v":""},0,{"$f":"IF(DH$7=$F116,$H116,\"\")","v":0},0,{"$f":"IF(DJ$7=$F116,$H116,\"\")","v":0},0,{"$f":"IF(DL$7=$F116,$H116,\"\")","v":0},0,{"$f":"IF(DN$7=$F116,$H116,\"\")","v":0},0,{"$f":"IF(DP$7=$F116,$H116,\"\")","v":0},0,{"$f":"IF(DR$7=$F116,$H116,\"\")","v":0},0,{"$f":"IF(DT$7=$F116,$H116,\"\")","v":0},0,{"$f":"IF(DV$7=$F116,$H116,\"\")","v":0},0,{"$f":"IF(DX$7=$F116,$H116,\"\")","v":0},0,{"$f":"IF(DZ$7=$F116,$H116,\"\")","v":0},0,{"$f":"IF(EB$7=$F116,$H116,\"\")","v":0},0,{"$f":"IF(ED$7=$F116,$H116,\"\")","v":0},0,{"$f":"IF(EF$7=$F116,$H116,\"\")","v":0},0,{"$f":"IF(EH$7=$F116,$H116,\"\")","v":0},0,{"$f":"IF(EJ$7=$F116,$H116,\"\")","v":0},0,{"$f":"IF(EL$7=$F116,$H116,\"\")","v":0},0,{"$f":"IF(EN$7=$F116,$H116,\"\")","v":0},0,{"$f":"IF(EP$7=$F116,$H116,\"\")","v":0},0,{"$f":"IF(ER$7=$F116,$H116,\"\")","v":0},0,{"$f":"IF(ET$7=$F116,$H116,\"\")","v":0},0,{"$f":"IF(EV$7=$F116,$H116,\"\")","v":0},0,{"$f":"IF(EX$7=$F116,$H116,\"\")","v":0},0,{"$f":"IF(EZ$7=$F116,$H116,\"\")","v":0},0,{"$f":"IF(FB$7=$F116,$H116,\"\")","v":0},0,{"$f":"IF(FD$7=$F116,$H116,\"\")","v":0},0,{"$f":"IF(FF$7=$F116,$H116,\"\")","v":0},0,{"$f":"IF(FH$7=$F116,$H116,\"\")","v":0},0,{"$f":"IF(FJ$7=$F116,$H116,\"\")","v":0},0,{"$f":"IF(FL$7=$F116,$H116,\"\")","v":0},0,0]
[109,null,null,null,null,null,null,null,true,0,0,"","","",{"$f":"IF(N$7=$F117,$H117,\"\")","v":""},"",{"$f":"IF(P$7=$F117,$H117,\"\")","v":""},"",{"$f":"IF(R$7=$F117,$H117,\"\")","v":""},"",{"$f":"IF(T$7=$F117,$H117,\"\")","v":""},"",{"$f":"IF(V$7=$F117,$H117,\"\")","v":""},"",{"$f":"IF(X$7=$F117,$H117,\"\")","v":""},"",{"$f":"IF(Z$7=$F117,$H117,\"\")","v":""},"",{"$f":"IF(AB$7=$F117,$H117,\"\")","v":""},"",{"$f":"IF(AD$7=$F117,$H117,\"\")","v":""},"",{"$f":"IF(AF$7=$F117,$H117,\"\")","v":""},"",{"$f":"IF(AH$7=$F117,$H117,\"\")","v":""},"",{"$f":"IF(AJ$7=$F117,$H117,\"\")","v":""},"",{"$f":"IF(AL$7=$F117,$H117,\"\")","v":""},"",{"$f":"IF(AN$7=$F117,$H117,\"\")","v":""},"",{"$f":"IF(AP$7=$F117,$H117,\"\")","v":""},"",{"$f":"IF(AR$7=$F117,$H117,\"\")","v":""},"",{"$f":"IF(AT$7=$F117,$H117,\"\")","v":""},"",{"$f":"IF(AV$7=$F117,$H117,\"\")","v":""},"",{"$f":"IF(AX$7=$F117,$H117,\"\")","v":""},"",{"$f":"IF(AZ$7=$F117,$H117,\"\")","v":""},"",{"$f":"IF(BB$7=$F117,$H117,\"\")","v":""},"",{"$f":"IF(BD$7=$F117,$H117,\"\")","v":""},"",{"$f":"IF(BF$7=$F117,$H117,\"\")","v":""},"",{"$f":"IF(BH$7=$F117,$H117,\"\")","v":""},"",{"$f":"IF(BJ$7=$F117,$H117,\"\")","v":""},"",{"$f":"IF(BL$7=$F117,$H117,\"\")","v":""},"",{"$f":"IF(BN$7=$F117,$H117,\"\")","v":""},"",{"$f":"IF(BP$7=$F117,$H117,\"\")","v":""},"",{"$f":"IF(BR$7=$F117,$H117,\"\")","v":""},"",{"$f":"IF(BT$7=$F117,$H117,\"\")","v":""},"",{"$f":"IF(BV$7=$F117,$H117,\"\")","v":""},"",{"$f":"IF(BX$7=$F117,$H117,\"\")","v":""},"",{"$f":"IF(BZ$7=$F117,$H117,\"\")","v":""},"",{"$f":"IF(CB$7=$F117,$H117,\"\")","v":""},"",{"$f":"IF(CD$7=$F117,$H117,\"\")","v":""},"",{"$f":"IF(CF$7=$F117,$H117,\"\")","v":""},"",{"$f":"IF(CH$7=$F117,$H117,\"\")","v":""},"",{"$f":"IF(CJ$7=$F117,$H117,\"\")","v":""},"",{"$f":"IF(CL$7=$F117,$H117,\"\")","v":""},"",{"$f":"IF(CN$7=$F117,$H117,\"\")","v":""},"",{"$f":"IF(CP$7=$F117,$H117,\"\")","v":""},"",{"$f":"IF(CR$7=$F117,$H117,\"\")","v":""},"",{"$f":"IF(CT$7=$F117,$H117,\"\")","v":""},"",{"$f":"IF(CV$7=$F117,$H117,\"\")","v":""},"",{"$f":"IF(CX$7=$F117,$H117,\"\")","v":""},"",{"$f":"IF(CZ$7=$F117,$H117,\"\")","v":""},"",{"$f":"IF(DB$7=$F117,$H117,\"\")","v":""},"",{"$f":"IF(DD$7=$F117,$H117,\"\")","v":""},"",{"$f":"IF(DF$7=$F117,$H117,\"\")","v":""},0,{"$f":"IF(DH$7=$F117,$H117,\"\")","v":0},0,{"$f":"IF(DJ$7=$F117,$H117,\"\")","v":0},0,{"$f":"IF(DL$7=$F117,$H117,\"\")","v":0},0,{"$f":"IF(DN$7=$F117,$H117,\"\")","v":0},0,{"$f":"IF(DP$7=$F117,$H117,\"\")","v":0},0,{"$f":"IF(DR$7=$F117,$H117,\"\")","v":0},0,{"$f":"IF(DT$7=$F117,$H117,\"\")","v":0},0,{"$f":"IF(DV$7=$F117,$H117,\"\")","v":0},0,{"$f":"IF(DX$7=$F117,$H117,\"\")","v":0},0,{"$f":"IF(DZ$7=$F117,$H117,\"\")","v":0},0,{"$f":"IF(EB$7=$F117,$H117,\"\")","v":0},0,{"$f":"IF(ED$7=$F117,$H117,\"\")","v":0},0,{"$f":"IF(EF$7=$F117,$H117,\"\")","v":0},0,{"$f":"IF(EH$7=$F117,$H117,\"\")","v":0},0,{"$f":"IF(EJ$7=$F117,$H117,\"\")","v":0},0,{"$f":"IF(EL$7=$F117,$H117,\"\")","v":0},0,{"$f":"IF(EN$7=$F117,$H117,\"\")","v":0},0,{"$f":"IF(EP$7=$F117,$H117,\"\")","v":0},0,{"$f":"IF(ER$7=$F117,$H117,\"\")","v":0},0,{"$f":"IF(ET$7=$F117,$H117,\"\")","v":0},0,{"$f":"IF(EV$7=$F117,$H117,\"\")","v":0},0,{"$f":"IF(EX$7=$F117,$H117,\"\")","v":0},0,{"$f":"IF(EZ$7=$F117,$H117,\"\")","v":0},0,{"$f":"IF(FB$7=$F117,$H117,\"\")","v":0},0,{"$f":"IF(FD$7=$F117,$H117,\"\")","v":0},0,{"$f":"IF(FF$7=$F117,$H117,\"\")","v":0},0,{"$f":"IF(FH$7=$F117,$H117,\"\")","v":0},0,{"$f":"IF(FJ$7=$F117,$H117,\"\")","v":0},0,{"$f":"IF(FL$7=$F117,$H117,\"\")","v":0},0,0]
[110,null,null,null,null,null,null,null,true,0,0,"","","",{"$f":"IF(N$7=$F118,$H118,\"\")","v":""},"",{"$f":"IF(P$7=$F118,$H118,\"\")","v":""},"",{"$f":"IF(R$7=$F118,$H118,\"\")","v":""},"",{"$f":"IF(T$7=$F118,$H118,\"\")","v":""},"",{"$f":"IF(V$7=$F118,$H118,\"\")","v":""},"",{"$f":"IF(X$7=$F118,$H118,\"\")","v":""},"",{"$f":"IF(Z$7=$F118,$H118,\"\")","v":""},"",{"$f":"IF(AB$7=$F118,$H118,\"\")","v":""},"",{"$f":"IF(AD$7=$F118,$H118,\"\")","v":""},"",{"$f":"IF(AF$7=$F118,$H118,\"\")","v":""},"",{"$f":"IF(AH$7=$F118,$H118,\"\")","v":""},"",{"$f":"IF(AJ$7=$F118,$H118,\"\")","v":""},"",{"$f":"IF(AL$7=$F118,$H118,\"\")","v":""},"",{"$f":"IF(AN$7=$F118,$H118,\"\")","v":""},"",{"$f":"IF(AP$7=$F118,$H118,\"\")","v":""},"",{"$f":"IF(AR$7=$F118,$H118,\"\")","v":""},"",{"$f":"IF(AT$7=$F118,$H118,\"\")","v":""},"",{"$f":"IF(AV$7=$F118,$H118,\"\")","v":""},"",{"$f":"IF(AX$7=$F118,$H118,\"\")","v":""},"",{"$f":"IF(AZ$7=$F118,$H118,\"\")","v":""},"",{"$f":"IF(BB$7=$F118,$H118,\"\")","v":""},"",{"$f":"IF(BD$7=$F118,$H118,\"\")","v":""},"",{"$f":"IF(BF$7=$F118,$H118,\"\")","v":""},"",{"$f":"IF(BH$7=$F118,$H118,\"\")","v":""},"",{"$f":"IF(BJ$7=$F118,$H118,\"\")","v":""},"",{"$f":"IF(BL$7=$F118,$H118,\"\")","v":""},"",{"$f":"IF(BN$7=$F118,$H118,\"\")","v":""},"",{"$f":"IF(BP$7=$F118,$H118,\"\")","v":""},"",{"$f":"IF(BR$7=$F118,$H118,\"\")","v":""},"",{"$f":"IF(BT$7=$F118,$H118,\"\")","v":""},"",{"$f":"IF(BV$7=$F118,$H118,\"\")","v":""},"",{"$f":"IF(BX$7=$F118,$H118,\"\")","v":""},"",{"$f":"IF(BZ$7=$F118,$H118,\"\")","v":""},"",{"$f":"IF(CB$7=$F118,$H118,\"\")","v":""},"",{"$f":"IF(CD$7=$F118,$H118,\"\")","v":""},"",{"$f":"IF(CF$7=$F118,$H118,\"\")","v":""},"",{"$f":"IF(CH$7=$F118,$H118,\"\")","v":""},"",{"$f":"IF(CJ$7=$F118,$H118,\"\")","v":""},"",{"$f":"IF(CL$7=$F118,$H118,\"\")","v":""},"",{"$f":"IF(CN$7=$F118,$H118,\"\")","v":""},"",{"$f":"IF(CP$7=$F118,$H118,\"\")","v":""},"",{"$f":"IF(CR$7=$F118,$H118,\"\")","v":""},"",{"$f":"IF(CT$7=$F118,$H118,\"\")","v":""},"",{"$f":"IF(CV$7=$F118,$H118,\"\")","v":""},"",{"$f":"IF(CX$7=$F118,$H118,\"\")","v":""},"",{"$f":"IF(CZ$7=$F118,$H118,\"\")","v":""},"",{"$f":"IF(DB$7=$F118,$H118,\"\")","v":""},"",{"$f":"IF(DD$7=$F118,$H118,\"\")","v":""},"",{"$f":"IF(DF$7=$F118,$H118,\"\")","v":""},0,{"$f":"IF(DH$7=$F118,$H118,\"\")","v":0},0,{"$f":"IF(DJ$7=$F118,$H118,\"\")","v":0},0,{"$f":"IF(DL$7=$F118,$H118,\"\")","v":0},0,{"$f":"IF(DN$7=$F118,$H118,\"\")","v":0},0,{"$f":"IF(DP$7=$F118,$H118,\"\")","v":0},0,{"$f":"IF(DR$7=$F118,$H118,\"\")","v":0},0,{"$f":"IF(DT$7=$F118,$H118,\"\")","v":0},0,{"$f":"IF(DV$7=$F118,$H118,\"\")","v":0},0,{"$f":"IF(DX$7=$F118,$H118,\"\")","v":0},0,{"$f":"IF(DZ$7=$F118,$H118,\"\")","v":0},0,{"$f":"IF(EB$7=$F118,$H118,\"\")","v":0},0,{"$f":"IF(ED$7=$F118,$H118,\"\")","v":0},0,{"$f":"IF(EF$7=$F118,$H118,\"\")","v":0},0,{"$f":"IF(EH$7=$F118,$H118,\"\")","v":0},0,{"$f":"IF(EJ$7=$F118,$H118,\"\")","v":0},0,{"$f":"IF(EL$7=$F118,$H118,\"\")","v":0},0,{"$f":"IF(EN$7=$F118,$H118,\"\")","v":0},0,{"$f":"IF(EP$7=$F118,$H118,\"\")","v":0},0,{"$f":"IF(ER$7=$F118,$H118,\"\")","v":0},0,{"$f":"IF(ET$7=$F118,$H118,\"\")","v":0},0,{"$f":"IF(EV$7=$F118,$H118,\"\")","v":0},0,{"$f":"IF(EX$7=$F118,$H118,\"\")","v":0},0,{"$f":"IF(EZ$7=$F118,$H118,\"\")","v":0},0,{"$f":"IF(FB$7=$F118,$H118,\"\")","v":0},0,{"$f":"IF(FD$7=$F118,$H118,\"\")","v":0},0,{"$f":"IF(FF$7=$F118,$H118,\"\")","v":0},0,{"$f":"IF(FH$7=$F118,$H118,\"\")","v":0},0,{"$f":"IF(FJ$7=$F118,$H118,\"\")","v":0},0,{"$f":"IF(FL$7=$F118,$H118,\"\")","v":0},0,0]
[111,null,null,null,null,null,null,null,true,0,0,"","","",{"$f":"IF(N$7=$F119,$H119,\"\")","v":""},"",{"$f":"IF(P$7=$F119,$H119,\"\")","v":""},"",{"$f":"IF(R$7=$F119,$H119,\"\")","v":""},"",{"$f":"IF(T$7=$F119,$H119,\"\")","v":""},"",{"$f":"IF(V$7=$F119,$H119,\"\")","v":""},"",{"$f":"IF(X$7=$F119,$H119,\"\")","v":""},"",{"$f":"IF(Z$7=$F119,$H119,\"\")","v":""},"",{"$f":"IF(AB$7=$F119,$H119,\"\")","v":""},"",{"$f":"IF(AD$7=$F119,$H119,\"\")","v":""},"",{"$f":"IF(AF$7=$F119,$H119,\"\")","v":""},"",{"$f":"IF(AH$7=$F119,$H119,\"\")","v":""},"",{"$f":"IF(AJ$7=$F119,$H119,\"\")","v":""},"",{"$f":"IF(AL$7=$F119,$H119,\"\")","v":""},"",{"$f":"IF(AN$7=$F119,$H119,\"\")","v":""},"",{"$f":"IF(AP$7=$F119,$H119,\"\")","v":""},"",{"$f":"IF(AR$7=$F119,$H119,\"\")","v":""},"",{"$f":"IF(AT$7=$F119,$H119,\"\")","v":""},"",{"$f":"IF(AV$7=$F119,$H119,\"\")","v":""},"",{"$f":"IF(AX$7=$F119,$H119,\"\")","v":""},"",{"$f":"IF(AZ$7=$F119,$H119,\"\")","v":""},"",{"$f":"IF(BB$7=$F119,$H119,\"\")","v":""},"",{"$f":"IF(BD$7=$F119,$H119,\"\")","v":""},"",{"$f":"IF(BF$7=$F119,$H119,\"\")","v":""},"",{"$f":"IF(BH$7=$F119,$H119,\"\")","v":""},"",{"$f":"IF(BJ$7=$F119,$H119,\"\")","v":""},"",{"$f":"IF(BL$7=$F119,$H119,\"\")","v":""},"",{"$f":"IF(BN$7=$F119,$H119,\"\")","v":""},"",{"$f":"IF(BP$7=$F119,$H119,\"\")","v":""},"",{"$f":"IF(BR$7=$F119,$H119,\"\")","v":""},"",{"$f":"IF(BT$7=$F119,$H119,\"\")","v":""},"",{"$f":"IF(BV$7=$F119,$H119,\"\")","v":""},"",{"$f":"IF(BX$7=$F119,$H119,\"\")","v":""},"",{"$f":"IF(BZ$7=$F119,$H119,\"\")","v":""},"",{"$f":"IF(CB$7=$F119,$H119,\"\")","v":""},"",{"$f":"IF(CD$7=$F119,$H119,\"\")","v":""},"",{"$f":"IF(CF$7=$F119,$H119,\"\")","v":""},"",{"$f":"IF(CH$7=$F119,$H119,\"\")","v":""},"",{"$f":"IF(CJ$7=$F119,$H119,\"\")","v":""},"",{"$f":"IF(CL$7=$F119,$H119,\"\")","v":""},"",{"$f":"IF(CN$7=$F119,$H119,\"\")","v":""},"",{"$f":"IF(CP$7=$F119,$H119,\"\")","v":""},"",{"$f":"IF(CR$7=$F119,$H119,\"\")","v":""},"",{"$f":"IF(CT$7=$F119,$H119,\"\")","v":""},"",{"$f":"IF(CV$7=$F119,$H119,\"\")","v":""},"",{"$f":"IF(CX$7=$F119,$H119,\"\")","v":""},"",{"$f":"IF(CZ$7=$F119,$H119,\"\")","v":""},"",{"$f":"IF(DB$7=$F119,$H119,\"\")","v":""},"",{"$f":"IF(DD$7=$F119,$H119,\"\")","v":""},"",{"$f":"IF(DF$7=$F119,$H119,\"\")","v":""},0,{"$f":"IF(DH$7=$F119,$H119,\"\")","v":0},0,{"$f":"IF(DJ$7=$F119,$H119,\"\")","v":0},0,{"$f":"IF(DL$7=$F119,$H119,\"\")","v":0},0,{"$f":"IF(DN$7=$F119,$H119,\"\")","v":0},0,{"$f":"IF(DP$7=$F119,$H119,\"\")","v":0},0,{"$f":"IF(DR$7=$F119,$H119,\"\")","v":0},0,{"$f":"IF(DT$7=$F119,$H119,\"\")","v":0},0,{"$f":"IF(DV$7=$F119,$H119,\"\")","v":0},0,{"$f":"IF(DX$7=$F119,$H119,\"\")","v":0},0,{"$f":"IF(DZ$7=$F119,$H119,\"\")","v":0},0,{"$f":"IF(EB$7=$F119,$H119,\"\")","v":0},0,{"$f":"IF(ED$7=$F119,$H119,\"\")","v":0},0,{"$f":"IF(EF$7=$F119,$H119,\"\")","v":0},0,{"$f":"IF(EH$7=$F119,$H119,\"\")","v":0},0,{"$f":"IF(EJ$7=$F119,$H119,\"\")","v":0},0,{"$f":"IF(EL$7=$F119,$H119,\"\")","v":0},0,{"$f":"IF(EN$7=$F119,$H119,\"\")","v":0},0,{"$f":"IF(EP$7=$F119,$H119,\"\")","v":0},0,{"$f":"IF(ER$7=$F119,$H119,\"\")","v":0},0,{"$f":"IF(ET$7=$F119,$H119,\"\")","v":0},0,{"$f":"IF(EV$7=$F119,$H119,\"\")","v":0},0,{"$f":"IF(EX$7=$F119,$H119,\"\")","v":0},0,{"$f":"IF(EZ$7=$F119,$H119,\"\")","v":0},0,{"$f":"IF(FB$7=$F119,$H119,\"\")","v":0},0,{"$f":"IF(FD$7=$F119,$H119,\"\")","v":0},0,{"$f":"IF(FF$7=$F119,$H119,\"\")","v":0},0,{"$f":"IF(FH$7=$F119,$H119,\"\")","v":0},0,{"$f":"IF(FJ$7=$F119,$H119,\"\")","v":0},0,{"$f":"IF(FL$7=$F119,$H119,\"\")","v":0},0,0]
[112,null,null,null,null,null,null,null,true,0,0,"","","",{"$f":"IF(N$7=$F120,$H120,\"\")","v":""},"",{"$f":"IF(P$7=$F120,$H120,\"\")","v":""},"",{"$f":"IF(R$7=$F120,$H120,\"\")","v":""},"",{"$f":"IF(T$7=$F120,$H120,\"\")","v":""},"",{"$f":"IF(V$7=$F120,$H120,\"\")","v":""},"",{"$f":"IF(X$7=$F120,$H120,\"\")","v":""},"",{"$f":"IF(Z$7=$F120,$H120,\"\")","v":""},"",{"$f":"IF(AB$7=$F120,$H120,\"\")","v":""},"",{"$f":"IF(AD$7=$F120,$H120,\"\")","v":""},"",{"$f":"IF(AF$7=$F120,$H120,\"\")","v":""},"",{"$f":"IF(AH$7=$F120,$H120,\"\")","v":""},"",{"$f":"IF(AJ$7=$F120,$H120,\"\")","v":""},"",{"$f":"IF(AL$7=$F120,$H120,\"\")","v":""},"",{"$f":"IF(AN$7=$F120,$H120,\"\")","v":""},"",{"$f":"IF(AP$7=$F120,$H120,\"\")","v":""},"",{"$f":"IF(AR$7=$F120,$H120,\"\")","v":""},"",{"$f":"IF(AT$7=$F120,$H120,\"\")","v":""},"",{"$f":"IF(AV$7=$F120,$H120,\"\")","v":""},"",{"$f":"IF(AX$7=$F120,$H120,\"\")","v":""},"",{"$f":"IF(AZ$7=$F120,$H120,\"\")","v":""},"",{"$f":"IF(BB$7=$F120,$H120,\"\")","v":""},"",{"$f":"IF(BD$7=$F120,$H120,\"\")","v":""},"",{"$f":"IF(BF$7=$F120,$H120,\"\")","v":""},"",{"$f":"IF(BH$7=$F120,$H120,\"\")","v":""},"",{"$f":"IF(BJ$7=$F120,$H120,\"\")","v":""},"",{"$f":"IF(BL$7=$F120,$H120,\"\")","v":""},"",{"$f":"IF(BN$7=$F120,$H120,\"\")","v":""},"",{"$f":"IF(BP$7=$F120,$H120,\"\")","v":""},"",{"$f":"IF(BR$7=$F120,$H120,\"\")","v":""},"",{"$f":"IF(BT$7=$F120,$H120,\"\")","v":""},"",{"$f":"IF(BV$7=$F120,$H120,\"\")","v":""},"",{"$f":"IF(BX$7=$F120,$H120,\"\")","v":""},"",{"$f":"IF(BZ$7=$F120,$H120,\"\")","v":""},"",{"$f":"IF(CB$7=$F120,$H120,\"\")","v":""},"",{"$f":"IF(CD$7=$F120,$H120,\"\")","v":""},"",{"$f":"IF(CF$7=$F120,$H120,\"\")","v":""},"",{"$f":"IF(CH$7=$F120,$H120,\"\")","v":""},"",{"$f":"IF(CJ$7=$F120,$H120,\"\")","v":""},"",{"$f":"IF(CL$7=$F120,$H120,\"\")","v":""},"",{"$f":"IF(CN$7=$F120,$H120,\"\")","v":""},"",{"$f":"IF(CP$7=$F120,$H120,\"\")","v":""},"",{"$f":"IF(CR$7=$F120,$H120,\"\")","v":""},"",{"$f":"IF(CT$7=$F120,$H120,\"\")","v":""},"",{"$f":"IF(CV$7=$F120,$H120,\"\")","v":""},"",{"$f":"IF(CX$7=$F120,$H120,\"\")","v":""},"",{"$f":"IF(CZ$7=$F120,$H120,\"\")","v":""},"",{"$f":"IF(DB$7=$F120,$H120,\"\")","v":""},"",{"$f":"IF(DD$7=$F120,$H120,\"\")","v":""},"",{"$f":"IF(DF$7=$F120,$H120,\"\")","v":""},0,{"$f":"IF(DH$7=$F120,$H120,\"\")","v":0},0,{"$f":"IF(DJ$7=$F120,$H120,\"\")","v":0},0,{"$f":"IF(DL$7=$F120,$H120,\"\")","v":0},0,{"$f":"IF(DN$7=$F120,$H120,\"\")","v":0},0,{"$f":"IF(DP$7=$F120,$H120,\"\")","v":0},0,{"$f":"IF(DR$7=$F120,$H120,\"\")","v":0},0,{"$f":"IF(DT$7=$F120,$H120,\"\")","v":0},0,{"$f":"IF(DV$7=$F120,$H120,\"\")","v":0},0,{"$f":"IF(DX$7=$F120,$H120,\"\")","v":0},0,{"$f":"IF(DZ$7=$F120,$H120,\"\")","v":0},0,{"$f":"IF(EB$7=$F120,$H120,\"\")","v":0},0,{"$f":"IF(ED$7=$F120,$H120,\"\")","v":0},0,{"$f":"IF(EF$7=$F120,$H120,\"\")","v":0},0,{"$f":"IF(EH$7=$F120,$H120,\"\")","v":0},0,{"$f":"IF(EJ$7=$F120,$H120,\"\")","v":0},0,{"$f":"IF(EL$7=$F120,$H120,\"\")","v":0},0,{"$f":"IF(EN$7=$F120,$H120,\"\")","v":0},0,{"$f":"IF(EP$7=$F120,$H120,\"\")","v":0},0,{"$f":"IF(ER$7=$F120,$H120,\"\")","v":0},0,{"$f":"IF(ET$7=$F120,$H120,\"\")","v":0},0,{"$f":"IF(EV$7=$F120,$H120,\"\")","v":0},0,{"$f":"IF(EX$7=$F120,$H120,\"\")","v":0},0,{"$f":"IF(EZ$7=$F120,$H120,\"\")","v":0},0,{"$f":"IF(FB$7=$F120,$H120,\"\")","v":0},0,{"$f":"IF(FD$7=$F120,$H120,\"\")","v":0},0,{"$f":"IF(FF$7=$F120,$H120,\"\")","v":0},0,{"$f":"IF(FH$7=$F120,$H120,\"\")","v":0},0,{"$f":"IF(FJ$7=$F120,$H120,\"\")","v":0},0,{"$f":"IF(FL$7=$F120,$H120,\"\")","v":0},0,0]
[113,null,null,null,null,null,null,null,true,0,0,"","","",{"$f":"IF(N$7=$F121,$H121,\"\")","v":""},"",{"$f":"IF(P$7=$F121,$H121,\"\")","v":""},"",{"$f":"IF(R$7=$F121,$H121,\"\")","v":""},"",{"$f":"IF(T$7=$F121,$H121,\"\")","v":""},"",{"$f":"IF(V$7=$F121,$H121,\"\")","v":""},"",{"$f":"IF(X$7=$F121,$H121,\"\")","v":""},"",{"$f":"IF(Z$7=$F121,$H121,\"\")","v":""},"",{"$f":"IF(AB$7=$F121,$H121,\"\")","v":""},"",{"$f":"IF(AD$7=$F121,$H121,\"\")","v":""},"",{"$f":"IF(AF$7=$F121,$H121,\"\")","v":""},"",{"$f":"IF(AH$7=$F121,$H121,\"\")","v":""},"",{"$f":"IF(AJ$7=$F121,$H121,\"\")","v":""},"",{"$f":"IF(AL$7=$F121,$H121,\"\")","v":""},"",{"$f":"IF(AN$7=$F121,$H121,\"\")","v":""},"",{"$f":"IF(AP$7=$F121,$H121,\"\")","v":""},"",{"$f":"IF(AR$7=$F121,$H121,\"\")","v":""},"",{"$f":"IF(AT$7=$F121,$H121,\"\")","v":""},"",{"$f":"IF(AV$7=$F121,$H121,\"\")","v":""},"",{"$f":"IF(AX$7=$F121,$H121,\"\")","v":""},"",{"$f":"IF(AZ$7=$F121,$H121,\"\")","v":""},"",{"$f":"IF(BB$7=$F121,$H121,\"\")","v":""},"",{"$f":"IF(BD$7=$F121,$H121,\"\")","v":""},"",{"$f":"IF(BF$7=$F121,$H121,\"\")","v":""},"",{"$f":"IF(BH$7=$F121,$H121,\"\")","v":""},"",{"$f":"IF(BJ$7=$F121,$H121,\"\")","v":""},"",{"$f":"IF(BL$7=$F121,$H121,\"\")","v":""},"",{"$f":"IF(BN$7=$F121,$H121,\"\")","v":""},"",{"$f":"IF(BP$7=$F121,$H121,\"\")","v":""},"",{"$f":"IF(BR$7=$F121,$H121,\"\")","v":""},"",{"$f":"IF(BT$7=$F121,$H121,\"\")","v":""},"",{"$f":"IF(BV$7=$F121,$H121,\"\")","v":""},"",{"$f":"IF(BX$7=$F121,$H121,\"\")","v":""},"",{"$f":"IF(BZ$7=$F121,$H121,\"\")","v":""},"",{"$f":"IF(CB$7=$F121,$H121,\"\")","v":""},"",{"$f":"IF(CD$7=$F121,$H121,\"\")","v":""},"",{"$f":"IF(CF$7=$F121,$H121,\"\")","v":""},"",{"$f":"IF(CH$7=$F121,$H121,\"\")","v":""},"",{"$f":"IF(CJ$7=$F121,$H121,\"\")","v":""},"",{"$f":"IF(CL$7=$F121,$H121,\"\")","v":""},"",{"$f":"IF(CN$7=$F121,$H121,\"\")","v":""},"",{"$f":"IF(CP$7=$F121,$H121,\"\")","v":""},"",{"$f":"IF(CR$7=$F121,$H121,\"\")","v":""},"",{"$f":"IF(CT$7=$F121,$H121,\"\")","v":""},"",{"$f":"IF(CV$7=$F121,$H121,\"\")","v":""},"",{"$f":"IF(CX$7=$F121,$H121,\"\")","v":""},"",{"$f":"IF(CZ$7=$F121,$H121,\"\")","v":""},"",{"$f":"IF(DB$7=$F121,$H121,\"\")","v":""},"",{"$f":"IF(DD$7=$F121,$H121,\"\")","v":""},"",{"$f":"IF(DF$7=$F121,$H121,\"\")","v":""},0,{"$f":"IF(DH$7=$F121,$H121,\"\")","v":0},0,{"$f":"IF(DJ$7=$F121,$H121,\"\")","v":0},0,{"$f":"IF(DL$7=$F121,$H121,\"\")","v":0},0,{"$f":"IF(DN$7=$F121,$H121,\"\")","v":0},0,{"$f":"IF(DP$7=$F121,$H121,\"\")","v":0},0,{"$f":"IF(DR$7=$F121,$H121,\"\")","v":0},0,{"$f":"IF(DT$7=$F121,$H121,\"\")","v":0},0,{"$f":"IF(DV$7=$F121,$H121,\"\")","v":0},0,{"$f":"IF(DX$7=$F121,$H121,\"\")","v":0},0,{"$f":"IF(DZ$7=$F121,$H121,\"\")","v":0},0,{"$f":"IF(EB$7=$F121,$H121,\"\")","v":0},0,{"$f":"IF(ED$7=$F121,$H121,\"\")","v":0},0,{"$f":"IF(EF$7=$F121,$H121,\"\")","v":0},0,{"$f":"IF(EH$7=$F121,$H121,\"\")","v":0},0,{"$f":"IF(EJ$7=$F121,$H121,\"\")","v":0},0,{"$f":"IF(EL$7=$F121,$H121,\"\")","v":0},0,{"$f":"IF(EN$7=$F121,$H121,\"\")","v":0},0,{"$f":"IF(EP$7=$F121,$H121,\"\")","v":0},0,{"$f":"IF(ER$7=$F121,$H121,\"\")","v":0},0,{"$f":"IF(ET$7=$F121,$H121,\"\")","v":0},0,{"$f":"IF(EV$7=$F121,$H121,\"\")","v":0},0,{"$f":"IF(EX$7=$F121,$H121,\"\")","v":0},0,{"$f":"IF(EZ$7=$F121,$H121,\"\")","v":0},0,{"$f":"IF(FB$7=$F121,$H121,\"\")","v":0},0,{"$f":"IF(FD$7=$F121,$H121,\"\")","v":0},0,{"$f":"IF(FF$7=$F121,$H121,\"\")","v":0},0,{"$f":"IF(FH$7=$F121,$H121,\"\")","v":0},0,{"$f":"IF(FJ$7=$F121,$H121,\"\")","v":0},0,{"$f":"IF(FL$7=$F121,$H121,\"\")","v":0},0,0]
[114,null,null,null,null,null,null,null,true,0,0,"","","",{"$f":"IF(N$7=$F122,$H122,\"\")","v":""},"",{"$f":"IF(P$7=$F122,$H122,\"\")","v":""},"",{"$f":"IF(R$7=$F122,$H122,\"\")","v":""},"",{"$f":"IF(T$7=$F122,$H122,\"\")","v":""},"",{"$f":"IF(V$7=$F122,$H122,\"\")","v":""},"",{"$f":"IF(X$7=$F122,$H122,\"\")","v":""},"",{"$f":"IF(Z$7=$F122,$H122,\"\")","v":""},"",{"$f":"IF(AB$7=$F122,$H122,\"\")","v":""},"",{"$f":"IF(AD$7=$F122,$H122,\"\")","v":""},"",{"$f":"IF(AF$7=$F122,$H122,\"\")","v":""},"",{"$f":"IF(AH$7=$F122,$H122,\"\")","v":""},"",{"$f":"IF(AJ$7=$F122,$H122,\"\")","v":""},"",{"$f":"IF(AL$7=$F122,$H122,\"\")","v":""},"",{"$f":"IF(AN$7=$F122,$H122,\"\")","v":""},"",{"$f":"IF(AP$7=$F122,$H122,\"\")","v":""},"",{"$f":"IF(AR$7=$F122,$H122,\"\")","v":""},"",{"$f":"IF(AT$7=$F122,$H122,\"\")","v":""},"",{"$f":"IF(AV$7=$F122,$H122,\"\")","v":""},"",{"$f":"IF(AX$7=$F122,$H122,\"\")","v":""},"",{"$f":"IF(AZ$7=$F122,$H122,\"\")","v":""},"",{"$f":"IF(BB$7=$F122,$H122,\"\")","v":""},"",{"$f":"IF(BD$7=$F122,$H122,\"\")","v":""},"",{"$f":"IF(BF$7=$F122,$H122,\"\")","v":""},"",{"$f":"IF(BH$7=$F122,$H122,\"\")","v":""},"",{"$f":"IF(BJ$7=$F122,$H122,\"\")","v":""},"",{"$f":"IF(BL$7=$F122,$H122,\"\")","v":""},"",{"$f":"IF(BN$7=$F122,$H122,\"\")","v":""},"",{"$f":"IF(BP$7=$F122,$H122,\"\")","v":""},"",{"$f":"IF(BR$7=$F122,$H122,\"\")","v":""},"",{"$f":"IF(BT$7=$F122,$H122,\"\")","v":""},"",{"$f":"IF(BV$7=$F122,$H122,\"\")","v":""},"",{"$f":"IF(BX$7=$F122,$H122,\"\")","v":""},"",{"$f":"IF(BZ$7=$F122,$H122,\"\")","v":""},"",{"$f":"IF(CB$7=$F122,$H122,\"\")","v":""},"",{"$f":"IF(CD$7=$F122,$H122,\"\")","v":""},"",{"$f":"IF(CF$7=$F122,$H122,\"\")","v":""},"",{"$f":"IF(CH$7=$F122,$H122,\"\")","v":""},"",{"$f":"IF(CJ$7=$F122,$H122,\"\")","v":""},"",{"$f":"IF(CL$7=$F122,$H122,\"\")","v":""},"",{"$f":"IF(CN$7=$F122,$H122,\"\")","v":""},"",{"$f":"IF(CP$7=$F122,$H122,\"\")","v":""},"",{"$f":"IF(CR$7=$F122,$H122,\"\")","v":""},"",{"$f":"IF(CT$7=$F122,$H122,\"\")","v":""},"",{"$f":"IF(CV$7=$F122,$H122,\"\")","v":""},"",{"$f":"IF(CX$7=$F122,$H122,\"\")","v":""},"",{"$f":"IF(CZ$7=$F122,$H122,\"\")","v":""},"",{"$f":"IF(DB$7=$F122,$H122,\"\")","v":""},"",{"$f":"IF(DD$7=$F122,$H122,\"\")","v":""},"",{"$f":"IF(DF$7=$F122,$H122,\"\")","v":""},0,{"$f":"IF(DH$7=$F122,$H122,\"\")","v":0},0,{"$f":"IF(DJ$7=$F122,$H122,\"\")","v":0},0,{"$f":"IF(DL$7=$F122,$H122,\"\")","v":0},0,{"$f":"IF(DN$7=$F122,$H122,\"\")","v":0},0,{"$f":"IF(DP$7=$F122,$H122,\"\")","v":0},0,{"$f":"IF(DR$7=$F122,$H122,\"\")","v":0},0,{"$f":"IF(DT$7=$F122,$H122,\"\")","v":0},0,{"$f":"IF(DV$7=$F122,$H122,\"\")","v":0},0,{"$f":"IF(DX$7=$F122,$H122,\"\")","v":0},0,{"$f":"IF(DZ$7=$F122,$H122,\"\")","v":0},0,{"$f":"IF(EB$7=$F122,$H122,\"\")","v":0},0,{"$f":"IF(ED$7=$F122,$H122,\"\")","v":0},0,{"$f":"IF(EF$7=$F122,$H122,\"\")","v":0},0,{"$f":"IF(EH$7=$F122,$H122,\"\")","v":0},0,{"$f":"IF(EJ$7=$F122,$H122,\"\")","v":0},0,{"$f":"IF(EL$7=$F122,$H122,\"\")","v":0},0,{"$f":"IF(EN$7=$F122,$H122,\"\")","v":0},0,{"$f":"IF(EP$7=$F122,$H122,\"\")","v":0},0,{"$f":"IF(ER$7=$F122,$H122,\"\")","v":0},0,{"$f":"IF(ET$7=$F122,$H122,\"\")","v":0},0,{"$f":"IF(EV$7=$F122,$H122,\"\")","v":0},0,{"$f":"IF(EX$7=$F122,$H122,\"\")","v":0},0,{"$f":"IF(EZ$7=$F122,$H122,\"\")","v":0},0,{"$f":"IF(FB$7=$F122,$H122,\"\")","v":0},0,{"$f":"IF(FD$7=$F122,$H122,\"\")","v":0},0,{"$f":"IF(FF$7=$F122,$H122,\"\")","v":0},0,{"$f":"IF(FH$7=$F122,$H122,\"\")","v":0},0,{"$f":"IF(FJ$7=$F122,$H122,\"\")","v":0},0,{"$f":"IF(FL$7=$F122,$H122,\"\")","v":0},0,0]
[115,null,null,null,null,null,null,null,true,0,0,"","","",{"$f":"IF(N$7=$F123,$H123,\"\")","v":""},"",{"$f":"IF(P$7=$F123,$H123,\"\")","v":""},"",{"$f":"IF(R$7=$F123,$H123,\"\")","v":""},"",{"$f":"IF(T$7=$F123,$H123,\"\")","v":""},"",{"$f":"IF(V$7=$F123,$H123,\"\")","v":""},"",{"$f":"IF(X$7=$F123,$H123,\"\")","v":""},"",{"$f":"IF(Z$7=$F123,$H123,\"\")","v":""},"",{"$f":"IF(AB$7=$F123,$H123,\"\")","v":""},"",{"$f":"IF(AD$7=$F123,$H123,\"\")","v":""},"",{"$f":"IF(AF$7=$F123,$H123,\"\")","v":""},"",{"$f":"IF(AH$7=$F123,$H123,\"\")","v":""},"",{"$f":"IF(AJ$7=$F123,$H123,\"\")","v":""},"",{"$f":"IF(AL$7=$F123,$H123,\"\")","v":""},"",{"$f":"IF(AN$7=$F123,$H123,\"\")","v":""},"",{"$f":"IF(AP$7=$F123,$H123,\"\")","v":""},"",{"$f":"IF(AR$7=$F123,$H123,\"\")","v":""},"",{"$f":"IF(AT$7=$F123,$H123,\"\")","v":""},"",{"$f":"IF(AV$7=$F123,$H123,\"\")","v":""},"",{"$f":"IF(AX$7=$F123,$H123,\"\")","v":""},"",{"$f":"IF(AZ$7=$F123,$H123,\"\")","v":""},"",{"$f":"IF(BB$7=$F123,$H123,\"\")","v":""},"",{"$f":"IF(BD$7=$F123,$H123,\"\")","v":""},"",{"$f":"IF(BF$7=$F123,$H123,\"\")","v":""},"",{"$f":"IF(BH$7=$F123,$H123,\"\")","v":""},"",{"$f":"IF(BJ$7=$F123,$H123,\"\")","v":""},"",{"$f":"IF(BL$7=$F123,$H123,\"\")","v":""},"",{"$f":"IF(BN$7=$F123,$H123,\"\")","v":""},"",{"$f":"IF(BP$7=$F123,$H123,\"\")","v":""},"",{"$f":"IF(BR$7=$F123,$H123,\"\")","v":""},"",{"$f":"IF(BT$7=$F123,$H123,\"\")","v":""},"",{"$f":"IF(BV$7=$F123,$H123,\"\")","v":""},"",{"$f":"IF(BX$7=$F123,$H123,\"\")","v":""},"",{"$f":"IF(BZ$7=$F123,$H123,\"\")","v":""},"",{"$f":"IF(CB$7=$F123,$H123,\"\")","v":""},"",{"$f":"IF(CD$7=$F123,$H123,\"\")","v":""},"",{"$f":"IF(CF$7=$F123,$H123,\"\")","v":""},"",{"$f":"IF(CH$7=$F123,$H123,\"\")","v":""},"",{"$f":"IF(CJ$7=$F123,$H123,\"\")","v":""},"",{"$f":"IF(CL$7=$F123,$H123,\"\")","v":""},"",{"$f":"IF(CN$7=$F123,$H123,\"\")","v":""},"",{"$f":"IF(CP$7=$F123,$H123,\"\")","v":""},"",{"$f":"IF(CR$7=$F123,$H123,\"\")","v":""},"",{"$f":"IF(CT$7=$F123,$H123,\"\")","v":""},"",{"$f":"IF(CV$7=$F123,$H123,\"\")","v":""},"",{"$f":"IF(CX$7=$F123,$H123,\"\")","v":""},"",{"$f":"IF(CZ$7=$F123,$H123,\"\")","v":""},"",{"$f":"IF(DB$7=$F123,$H123,\"\")","v":""},"",{"$f":"IF(DD$7=$F123,$H123,\"\")","v":""},"",{"$f":"IF(DF$7=$F123,$H123,\"\")","v":""},0,{"$f":"IF(DH$7=$F123,$H123,\"\")","v":0},0,{"$f":"IF(DJ$7=$F123,$H123,\"\")","v":0},0,{"$f":"IF(DL$7=$F123,$H123,\"\")","v":0},0,{"$f":"IF(DN$7=$F123,$H123,\"\")","v":0},0,{"$f":"IF(DP$7=$F123,$H123,\"\")","v":0},0,{"$f":"IF(DR$7=$F123,$H123,\"\")","v":0},0,{"$f":"IF(DT$7=$F123,$H123,\"\")","v":0},0,{"$f":"IF(DV$7=$F123,$H123,\"\")","v":0},0,{"$f":"IF(DX$7=$F123,$H123,\"\")","v":0},0,{"$f":"IF(DZ$7=$F123,$H123,\"\")","v":0},0,{"$f":"IF(EB$7=$F123,$H123,\"\")","v":0},0,{"$f":"IF(ED$7=$F123,$H123,\"\")","v":0},0,{"$f":"IF(EF$7=$F123,$H123,\"\")","v":0},0,{"$f":"IF(EH$7=$F123,$H123,\"\")","v":0},0,{"$f":"IF(EJ$7=$F123,$H123,\"\")","v":0},0,{"$f":"IF(EL$7=$F123,$H123,\"\")","v":0},0,{"$f":"IF(EN$7=$F123,$H123,\"\")","v":0},0,{"$f":"IF(EP$7=$F123,$H123,\"\")","v":0},0,{"$f":"IF(ER$7=$F123,$H123,\"\")","v":0},0,{"$f":"IF(ET$7=$F123,$H123,\"\")","v":0},0,{"$f":"IF(EV$7=$F123,$H123,\"\")","v":0},0,{"$f":"IF(EX$7=$F123,$H123,\"\")","v":0},0,{"$f":"IF(EZ$7=$F123,$H123,\"\")","v":0},0,{"$f":"IF(FB$7=$F123,$H123,\"\")","v":0},0,{"$f":"IF(FD$7=$F123,$H123,\"\")","v":0},0,{"$f":"IF(FF$7=$F123,$H123,\"\")","v":0},0,{"$f":"IF(FH$7=$F123,$H123,\"\")","v":0},0,{"$f":"IF(FJ$7=$F123,$H123,\"\")","v":0},0,{"$f":"IF(FL$7=$F123,$H123,\"\")","v":0},0,0]
[116,null,null,null,null,null,null,null,true,0,0,"","","",{"$f":"IF(N$7=$F124,$H124,\"\")","v":""},"",{"$f":"IF(P$7=$F124,$H124,\"\")","v":""},"",{"$f":"IF(R$7=$F124,$H124,\"\")","v":""},"",{"$f":"IF(T$7=$F124,$H124,\"\")","v":""},"",{"$f":"IF(V$7=$F124,$H124,\"\")","v":""},"",{"$f":"IF(X$7=$F124,$H124,\"\")","v":""},"",{"$f":"IF(Z$7=$F124,$H124,\"\")","v":""},"",{"$f":"IF(AB$7=$F124,$H124,\"\")","v":""},"",{"$f":"IF(AD$7=$F124,$H124,\"\")","v":""},"",{"$f":"IF(AF$7=$F124,$H124,\"\")","v":""},"",{"$f":"IF(AH$7=$F124,$H124,\"\")","v":""},"",{"$f":"IF(AJ$7=$F124,$H124,\"\")","v":""},"",{"$f":"IF(AL$7=$F124,$H124,\"\")","v":""},"",{"$f":"IF(AN$7=$F124,$H124,\"\")","v":""},"",{"$f":"IF(AP$7=$F124,$H124,\"\")","v":""},"",{"$f":"IF(AR$7=$F124,$H124,\"\")","v":""},"",{"$f":"IF(AT$7=$F124,$H124,\"\")","v":""},"",{"$f":"IF(AV$7=$F124,$H124,\"\")","v":""},"",{"$f":"IF(AX$7=$F124,$H124,\"\")","v":""},"",{"$f":"IF(AZ$7=$F124,$H124,\"\")","v":""},"",{"$f":"IF(BB$7=$F124,$H124,\"\")","v":""},"",{"$f":"IF(BD$7=$F124,$H124,\"\")","v":""},"",{"$f":"IF(BF$7=$F124,$H124,\"\")","v":""},"",{"$f":"IF(BH$7=$F124,$H124,\"\")","v":""},"",{"$f":"IF(BJ$7=$F124,$H124,\"\")","v":""},"",{"$f":"IF(BL$7=$F124,$H124,\"\")","v":""},"",{"$f":"IF(BN$7=$F124,$H124,\"\")","v":""},"",{"$f":"IF(BP$7=$F124,$H124,\"\")","v":""},"",{"$f":"IF(BR$7=$F124,$H124,\"\")","v":""},"",{"$f":"IF(BT$7=$F124,$H124,\"\")","v":""},"",{"$f":"IF(BV$7=$F124,$H124,\"\")","v":""},"",{"$f":"IF(BX$7=$F124,$H124,\"\")","v":""},"",{"$f":"IF(BZ$7=$F124,$H124,\"\")","v":""},"",{"$f":"IF(CB$7=$F124,$H124,\"\")","v":""},"",{"$f":"IF(CD$7=$F124,$H124,\"\")","v":""},"",{"$f":"IF(CF$7=$F124,$H124,\"\")","v":""},"",{"$f":"IF(CH$7=$F124,$H124,\"\")","v":""},"",{"$f":"IF(CJ$7=$F124,$H124,\"\")","v":""},"",{"$f":"IF(CL$7=$F124,$H124,\"\")","v":""},"",{"$f":"IF(CN$7=$F124,$H124,\"\")","v":""},"",{"$f":"IF(CP$7=$F124,$H124,\"\")","v":""},"",{"$f":"IF(CR$7=$F124,$H124,\"\")","v":""},"",{"$f":"IF(CT$7=$F124,$H124,\"\")","v":""},"",{"$f":"IF(CV$7=$F124,$H124,\"\")","v":""},"",{"$f":"IF(CX$7=$F124,$H124,\"\")","v":""},"",{"$f":"IF(CZ$7=$F124,$H124,\"\")","v":""},"",{"$f":"IF(DB$7=$F124,$H124,\"\")","v":""},"",{"$f":"IF(DD$7=$F124,$H124,\"\")","v":""},"",{"$f":"IF(DF$7=$F124,$H124,\"\")","v":""},0,{"$f":"IF(DH$7=$F124,$H124,\"\")","v":0},0,{"$f":"IF(DJ$7=$F124,$H124,\"\")","v":0},0,{"$f":"IF(DL$7=$F124,$H124,\"\")","v":0},0,{"$f":"IF(DN$7=$F124,$H124,\"\")","v":0},0,{"$f":"IF(DP$7=$F124,$H124,\"\")","v":0},0,{"$f":"IF(DR$7=$F124,$H124,\"\")","v":0},0,{"$f":"IF(DT$7=$F124,$H124,\"\")","v":0},0,{"$f":"IF(DV$7=$F124,$H124,\"\")","v":0},0,{"$f":"IF(DX$7=$F124,$H124,\"\")","v":0},0,{"$f":"IF(DZ$7=$F124,$H124,\"\")","v":0},0,{"$f":"IF(EB$7=$F124,$H124,\"\")","v":0},0,{"$f":"IF(ED$7=$F124,$H124,\"\")","v":0},0,{"$f":"IF(EF$7=$F124,$H124,\"\")","v":0},0,{"$f":"IF(EH$7=$F124,$H124,\"\")","v":0},0,{"$f":"IF(EJ$7=$F124,$H124,\"\")","v":0},0,{"$f":"IF(EL$7=$F124,$H124,\"\")","v":0},0,{"$f":"IF(EN$7=$F124,$H124,\"\")","v":0},0,{"$f":"IF(EP$7=$F124,$H124,\"\")","v":0},0,{"$f":"IF(ER$7=$F124,$H124,\"\")","v":0},0,{"$f":"IF(ET$7=$F124,$H124,\"\")","v":0},0,{"$f":"IF(EV$7=$F124,$H124,\"\")","v":0},0,{"$f":"IF(EX$7=$F124,$H124,\"\")","v":0},0,{"$f":"IF(EZ$7=$F124,$H124,\"\")","v":0},0,{"$f":"IF(FB$7=$F124,$H124,\"\")","v":0},0,{"$f":"IF(FD$7=$F124,$H124,\"\")","v":0},0,{"$f":"IF(FF$7=$F124,$H124,\"\")","v":0},0,{"$f":"IF(FH$7=$F124,$H124,\"\")","v":0},0,{"$f":"IF(FJ$7=$F124,$H124,\"\")","v":0},0,{"$f":"IF(FL$7=$F124,$H124,\"\")","v":0},0,0]
[117,null,null,null,null,null,null,null,true,0,0,"","","",{"$f":"IF(N$7=$F125,$H125,\"\")","v":""},"",{"$f":"IF(P$7=$F125,$H125,\"\")","v":""},"",{"$f":"IF(R$7=$F125,$H125,\"\")","v":""},"",{"$f":"IF(T$7=$F125,$H125,\"\")","v":""},"",{"$f":"IF(V$7=$F125,$H125,\"\")","v":""},"",{"$f":"IF(X$7=$F125,$H125,\"\")","v":""},"",{"$f":"IF(Z$7=$F125,$H125,\"\")","v":""},"",{"$f":"IF(AB$7=$F125,$H125,\"\")","v":""},"",{"$f":"IF(AD$7=$F125,$H125,\"\")","v":""},"",{"$f":"IF(AF$7=$F125,$H125,\"\")","v":""},"",{"$f":"IF(AH$7=$F125,$H125,\"\")","v":""},"",{"$f":"IF(AJ$7=$F125,$H125,\"\")","v":""},"",{"$f":"IF(AL$7=$F125,$H125,\"\")","v":""},"",{"$f":"IF(AN$7=$F125,$H125,\"\")","v":""},"",{"$f":"IF(AP$7=$F125,$H125,\"\")","v":""},"",{"$f":"IF(AR$7=$F125,$H125,\"\")","v":""},"",{"$f":"IF(AT$7=$F125,$H125,\"\")","v":""},"",{"$f":"IF(AV$7=$F125,$H125,\"\")","v":""},"",{"$f":"IF(AX$7=$F125,$H125,\"\")","v":""},"",{"$f":"IF(AZ$7=$F125,$H125,\"\")","v":""},"",{"$f":"IF(BB$7=$F125,$H125,\"\")","v":""},"",{"$f":"IF(BD$7=$F125,$H125,\"\")","v":""},"",{"$f":"IF(BF$7=$F125,$H125,\"\")","v":""},"",{"$f":"IF(BH$7=$F125,$H125,\"\")","v":""},"",{"$f":"IF(BJ$7=$F125,$H125,\"\")","v":""},"",{"$f":"IF(BL$7=$F125,$H125,\"\")","v":""},"",{"$f":"IF(BN$7=$F125,$H125,\"\")","v":""},"",{"$f":"IF(BP$7=$F125,$H125,\"\")","v":""},"",{"$f":"IF(BR$7=$F125,$H125,\"\")","v":""},"",{"$f":"IF(BT$7=$F125,$H125,\"\")","v":""},"",{"$f":"IF(BV$7=$F125,$H125,\"\")","v":""},"",{"$f":"IF(BX$7=$F125,$H125,\"\")","v":""},"",{"$f":"IF(BZ$7=$F125,$H125,\"\")","v":""},"",{"$f":"IF(CB$7=$F125,$H125,\"\")","v":""},"",{"$f":"IF(CD$7=$F125,$H125,\"\")","v":""},"",{"$f":"IF(CF$7=$F125,$H125,\"\")","v":""},"",{"$f":"IF(CH$7=$F125,$H125,\"\")","v":""},"",{"$f":"IF(CJ$7=$F125,$H125,\"\")","v":""},"",{"$f":"IF(CL$7=$F125,$H125,\"\")","v":""},"",{"$f":"IF(CN$7=$F125,$H125,\"\")","v":""},"",{"$f":"IF(CP$7=$F125,$H125,\"\")","v":""},"",{"$f":"IF(CR$7=$F125,$H125,\"\")","v":""},"",{"$f":"IF(CT$7=$F125,$H125,\"\")","v":""},"",{"$f":"IF(CV$7=$F125,$H125,\"\")","v":""},"",{"$f":"IF(CX$7=$F125,$H125,\"\")","v":""},"",{"$f":"IF(CZ$7=$F125,$H125,\"\")","v":""},"",{"$f":"IF(DB$7=$F125,$H125,\"\")","v":""},"",{"$f":"IF(DD$7=$F125,$H125,\"\")","v":""},"",{"$f":"IF(DF$7=$F125,$H125,\"\")","v":""},0,{"$f":"IF(DH$7=$F125,$H125,\"\")","v":0},0,{"$f":"IF(DJ$7=$F125,$H125,\"\")","v":0},0,{"$f":"IF(DL$7=$F125,$H125,\"\")","v":0},0,{"$f":"IF(DN$7=$F125,$H125,\"\")","v":0},0,{"$f":"IF(DP$7=$F125,$H125,\"\")","v":0},0,{"$f":"IF(DR$7=$F125,$H125,\"\")","v":0},0,{"$f":"IF(DT$7=$F125,$H125,\"\")","v":0},0,{"$f":"IF(DV$7=$F125,$H125,\"\")","v":0},0,{"$f":"IF(DX$7=$F125,$H125,\"\")","v":0},0,{"$f":"IF(DZ$7=$F125,$H125,\"\")","v":0},0,{"$f":"IF(EB$7=$F125,$H125,\"\")","v":0},0,{"$f":"IF(ED$7=$F125,$H125,\"\")","v":0},0,{"$f":"IF(EF$7=$F125,$H125,\"\")","v":0},0,{"$f":"IF(EH$7=$F125,$H125,\"\")","v":0},0,{"$f":"IF(EJ$7=$F125,$H125,\"\")","v":0},0,{"$f":"IF(EL$7=$F125,$H125,\"\")","v":0},0,{"$f":"IF(EN$7=$F125,$H125,\"\")","v":0},0,{"$f":"IF(EP$7=$F125,$H125,\"\")","v":0},0,{"$f":"IF(ER$7=$F125,$H125,\"\")","v":0},0,{"$f":"IF(ET$7=$F125,$H125,\"\")","v":0},0,{"$f":"IF(EV$7=$F125,$H125,\"\")","v":0},0,{"$f":"IF(EX$7=$F125,$H125,\"\")","v":0},0,{"$f":"IF(EZ$7=$F125,$H125,\"\")","v":0},0,{"$f":"IF(FB$7=$F125,$H125,\"\")","v":0},0,{"$f":"IF(FD$7=$F125,$H125,\"\")","v":0},0,{"$f":"IF(FF$7=$F125,$H125,\"\")","v":0},0,{"$f":"IF(FH$7=$F125,$H125,\"\")","v":0},0,{"$f":"IF(FJ$7=$F125,$H125,\"\")","v":0},0,{"$f":"IF(FL$7=$F125,$H125,\"\")","v":0},0,0]
[118,null,null,null,null,null,null,null,true,0,0,"","","",{"$f":"IF(N$7=$F126,$H126,\"\")","v":""},"",{"$f":"IF(P$7=$F126,$H126,\"\")","v":""},"",{"$f":"IF(R$7=$F126,$H126,\"\")","v":""},"",{"$f":"IF(T$7=$F126,$H126,\"\")","v":""},"",{"$f":"IF(V$7=$F126,$H126,\"\")","v":""},"",{"$f":"IF(X$7=$F126,$H126,\"\")","v":""},"",{"$f":"IF(Z$7=$F126,$H126,\"\")","v":""},"",{"$f":"IF(AB$7=$F126,$H126,\"\")","v":""},"",{"$f":"IF(AD$7=$F126,$H126,\"\")","v":""},"",{"$f":"IF(AF$7=$F126,$H126,\"\")","v":""},"",{"$f":"IF(AH$7=$F126,$H126,\"\")","v":""},"",{"$f":"IF(AJ$7=$F126,$H126,\"\")","v":""},"",{"$f":"IF(AL$7=$F126,$H126,\"\")","v":""},"",{"$f":"IF(AN$7=$F126,$H126,\"\")","v":""},"",{"$f":"IF(AP$7=$F126,$H126,\"\")","v":""},"",{"$f":"IF(AR$7=$F126,$H126,\"\")","v":""},"",{"$f":"IF(AT$7=$F126,$H126,\"\")","v":""},"",{"$f":"IF(AV$7=$F126,$H126,\"\")","v":""},"",{"$f":"IF(AX$7=$F126,$H126,\"\")","v":""},"",{"$f":"IF(AZ$7=$F126,$H126,\"\")","v":""},"",{"$f":"IF(BB$7=$F126,$H126,\"\")","v":""},"",{"$f":"IF(BD$7=$F126,$H126,\"\")","v":""},"",{"$f":"IF(BF$7=$F126,$H126,\"\")","v":""},"",{"$f":"IF(BH$7=$F126,$H126,\"\")","v":""},"",{"$f":"IF(BJ$7=$F126,$H126,\"\")","v":""},"",{"$f":"IF(BL$7=$F126,$H126,\"\")","v":""},"",{"$f":"IF(BN$7=$F126,$H126,\"\")","v":""},"",{"$f":"IF(BP$7=$F126,$H126,\"\")","v":""},"",{"$f":"IF(BR$7=$F126,$H126,\"\")","v":""},"",{"$f":"IF(BT$7=$F126,$H126,\"\")","v":""},"",{"$f":"IF(BV$7=$F126,$H126,\"\")","v":""},"",{"$f":"IF(BX$7=$F126,$H126,\"\")","v":""},"",{"$f":"IF(BZ$7=$F126,$H126,\"\")","v":""},"",{"$f":"IF(CB$7=$F126,$H126,\"\")","v":""},"",{"$f":"IF(CD$7=$F126,$H126,\"\")","v":""},"",{"$f":"IF(CF$7=$F126,$H126,\"\")","v":""},"",{"$f":"IF(CH$7=$F126,$H126,\"\")","v":""},"",{"$f":"IF(CJ$7=$F126,$H126,\"\")","v":""},"",{"$f":"IF(CL$7=$F126,$H126,\"\")","v":""},"",{"$f":"IF(CN$7=$F126,$H126,\"\")","v":""},"",{"$f":"IF(CP$7=$F126,$H126,\"\")","v":""},"",{"$f":"IF(CR$7=$F126,$H126,\"\")","v":""},"",{"$f":"IF(CT$7=$F126,$H126,\"\")","v":""},"",{"$f":"IF(CV$7=$F126,$H126,\"\")","v":""},"",{"$f":"IF(CX$7=$F126,$H126,\"\")","v":""},"",{"$f":"IF(CZ$7=$F126,$H126,\"\")","v":""},"",{"$f":"IF(DB$7=$F126,$H126,\"\")","v":""},"",{"$f":"IF(DD$7=$F126,$H126,\"\")","v":""},"",{"$f":"IF(DF$7=$F126,$H126,\"\")","v":""},0,{"$f":"IF(DH$7=$F126,$H126,\"\")","v":0},0,{"$f":"IF(DJ$7=$F126,$H126,\"\")","v":0},0,{"$f":"IF(DL$7=$F126,$H126,\"\")","v":0},0,{"$f":"IF(DN$7=$F126,$H126,\"\")","v":0},0,{"$f":"IF(DP$7=$F126,$H126,\"\")","v":0},0,{"$f":"IF(DR$7=$F126,$H126,\"\")","v":0},0,{"$f":"IF(DT$7=$F126,$H126,\"\")","v":0},0,{"$f":"IF(DV$7=$F126,$H126,\"\")","v":0},0,{"$f":"IF(DX$7=$F126,$H126,\"\")","v":0},0,{"$f":"IF(DZ$7=$F126,$H126,\"\")","v":0},0,{"$f":"IF(EB$7=$F126,$H126,\"\")","v":0},0,{"$f":"IF(ED$7=$F126,$H126,\"\")","v":0},0,{"$f":"IF(EF$7=$F126,$H126,\"\")","v":0},0,{"$f":"IF(EH$7=$F126,$H126,\"\")","v":0},0,{"$f":"IF(EJ$7=$F126,$H126,\"\")","v":0},0,{"$f":"IF(EL$7=$F126,$H126,\"\")","v":0},0,{"$f":"IF(EN$7=$F126,$H126,\"\")","v":0},0,{"$f":"IF(EP$7=$F126,$H126,\"\")","v":0},0,{"$f":"IF(ER$7=$F126,$H126,\"\")","v":0},0,{"$f":"IF(ET$7=$F126,$H126,\"\")","v":0},0,{"$f":"IF(EV$7=$F126,$H126,\"\")","v":0},0,{"$f":"IF(EX$7=$F126,$H126,\"\")","v":0},0,{"$f":"IF(EZ$7=$F126,$H126,\"\")","v":0},0,{"$f":"IF(FB$7=$F126,$H126,\"\")","v":0},0,{"$f":"IF(FD$7=$F126,$H126,\"\")","v":0},0,{"$f":"IF(FF$7=$F126,$H126,\"\")","v":0},0,{"$f":"IF(FH$7=$F126,$H126,\"\")","v":0},0,{"$f":"IF(FJ$7=$F126,$H126,\"\")","v":0},0,{"$f":"IF(FL$7=$F126,$H126,\"\")","v":0},0,0]
[119,null,null,null,null,null,null,null,true,0,0,"","","",{"$f":"IF(N$7=$F127,$H127,\"\")","v":""},"",{"$f":"IF(P$7=$F127,$H127,\"\")","v":""},"",{"$f":"IF(R$7=$F127,$H127,\"\")","v":""},"",{"$f":"IF(T$7=$F127,$H127,\"\")","v":""},"",{"$f":"IF(V$7=$F127,$H127,\"\")","v":""},"",{"$f":"IF(X$7=$F127,$H127,\"\")","v":""},"",{"$f":"IF(Z$7=$F127,$H127,\"\")","v":""},"",{"$f":"IF(AB$7=$F127,$H127,\"\")","v":""},"",{"$f":"IF(AD$7=$F127,$H127,\"\")","v":""},"",{"$f":"IF(AF$7=$F127,$H127,\"\")","v":""},"",{"$f":"IF(AH$7=$F127,$H127,\"\")","v":""},"",{"$f":"IF(AJ$7=$F127,$H127,\"\")","v":""},"",{"$f":"IF(AL$7=$F127,$H127,\"\")","v":""},"",{"$f":"IF(AN$7=$F127,$H127,\"\")","v":""},"",{"$f":"IF(AP$7=$F127,$H127,\"\")","v":""},"",{"$f":"IF(AR$7=$F127,$H127,\"\")","v":""},"",{"$f":"IF(AT$7=$F127,$H127,\"\")","v":""},"",{"$f":"IF(AV$7=$F127,$H127,\"\")","v":""},"",{"$f":"IF(AX$7=$F127,$H127,\"\")","v":""},"",{"$f":"IF(AZ$7=$F127,$H127,\"\")","v":""},"",{"$f":"IF(BB$7=$F127,$H127,\"\")","v":""},"",{"$f":"IF(BD$7=$F127,$H127,\"\")","v":""},"",{"$f":"IF(BF$7=$F127,$H127,\"\")","v":""},"",{"$f":"IF(BH$7=$F127,$H127,\"\")","v":""},"",{"$f":"IF(BJ$7=$F127,$H127,\"\")","v":""},"",{"$f":"IF(BL$7=$F127,$H127,\"\")","v":""},"",{"$f":"IF(BN$7=$F127,$H127,\"\")","v":""},"",{"$f":"IF(BP$7=$F127,$H127,\"\")","v":""},"",{"$f":"IF(BR$7=$F127,$H127,\"\")","v":""},"",{"$f":"IF(BT$7=$F127,$H127,\"\")","v":""},"",{"$f":"IF(BV$7=$F127,$H127,\"\")","v":""},"",{"$f":"IF(BX$7=$F127,$H127,\"\")","v":""},"",{"$f":"IF(BZ$7=$F127,$H127,\"\")","v":""},"",{"$f":"IF(CB$7=$F127,$H127,\"\")","v":""},"",{"$f":"IF(CD$7=$F127,$H127,\"\")","v":""},"",{"$f":"IF(CF$7=$F127,$H127,\"\")","v":""},"",{"$f":"IF(CH$7=$F127,$H127,\"\")","v":""},"",{"$f":"IF(CJ$7=$F127,$H127,\"\")","v":""},"",{"$f":"IF(CL$7=$F127,$H127,\"\")","v":""},"",{"$f":"IF(CN$7=$F127,$H127,\"\")","v":""},"",{"$f":"IF(CP$7=$F127,$H127,\"\")","v":""},"",{"$f":"IF(CR$7=$F127,$H127,\"\")","v":""},"",{"$f":"IF(CT$7=$F127,$H127,\"\")","v":""},"",{"$f":"IF(CV$7=$F127,$H127,\"\")","v":""},"",{"$f":"IF(CX$7=$F127,$H127,\"\")","v":""},"",{"$f":"IF(CZ$7=$F127,$H127,\"\")","v":""},"",{"$f":"IF(DB$7=$F127,$H127,\"\")","v":""},"",{"$f":"IF(DD$7=$F127,$H127,\"\")","v":""},"",{"$f":"IF(DF$7=$F127,$H127,\"\")","v":""},0,{"$f":"IF(DH$7=$F127,$H127,\"\")","v":0},0,{"$f":"IF(DJ$7=$F127,$H127,\"\")","v":0},0,{"$f":"IF(DL$7=$F127,$H127,\"\")","v":0},0,{"$f":"IF(DN$7=$F127,$H127,\"\")","v":0},0,{"$f":"IF(DP$7=$F127,$H127,\"\")","v":0},0,{"$f":"IF(DR$7=$F127,$H127,\"\")","v":0},0,{"$f":"IF(DT$7=$F127,$H127,\"\")","v":0},0,{"$f":"IF(DV$7=$F127,$H127,\"\")","v":0},0,{"$f":"IF(DX$7=$F127,$H127,\"\")","v":0},0,{"$f":"IF(DZ$7=$F127,$H127,\"\")","v":0},0,{"$f":"IF(EB$7=$F127,$H127,\"\")","v":0},0,{"$f":"IF(ED$7=$F127,$H127,\"\")","v":0},0,{"$f":"IF(EF$7=$F127,$H127,\"\")","v":0},0,{"$f":"IF(EH$7=$F127,$H127,\"\")","v":0},0,{"$f":"IF(EJ$7=$F127,$H127,\"\")","v":0},0,{"$f":"IF(EL$7=$F127,$H127,\"\")","v":0},0,{"$f":"IF(EN$7=$F127,$H127,\"\")","v":0},0,{"$f":"IF(EP$7=$F127,$H127,\"\")","v":0},0,{"$f":"IF(ER$7=$F127,$H127,\"\")","v":0},0,{"$f":"IF(ET$7=$F127,$H127,\"\")","v":0},0,{"$f":"IF(EV$7=$F127,$H127,\"\")","v":0},0,{"$f":"IF(EX$7=$F127,$H127,\"\")","v":0},0,{"$f":"IF(EZ$7=$F127,$H127,\"\")","v":0},0,{"$f":"IF(FB$7=$F127,$H127,\"\")","v":0},0,{"$f":"IF(FD$7=$F127,$H127,\"\")","v":0},0,{"$f":"IF(FF$7=$F127,$H127,\"\")","v":0},0,{"$f":"IF(FH$7=$F127,$H127,\"\")","v":0},0,{"$f":"IF(FJ$7=$F127,$H127,\"\")","v":0},0,{"$f":"IF(FL$7=$F127,$H127,\"\")","v":0},0,0]
[120,null,null,null,null,null,null,null,true,0,0,"","","",{"$f":"IF(N$7=$F128,$H128,\"\")","v":""},"",{"$f":"IF(P$7=$F128,$H128,\"\")","v":""},"",{"$f":"IF(R$7=$F128,$H128,\"\")","v":""},"",{"$f":"IF(T$7=$F128,$H128,\"\")","v":""},"",{"$f":"IF(V$7=$F128,$H128,\"\")","v":""},"",{"$f":"IF(X$7=$F128,$H128,\"\")","v":""},"",{"$f":"IF(Z$7=$F128,$H128,\"\")","v":""},"",{"$f":"IF(AB$7=$F128,$H128,\"\")","v":""},"",{"$f":"IF(AD$7=$F128,$H128,\"\")","v":""},"",{"$f":"IF(AF$7=$F128,$H128,\"\")","v":""},"",{"$f":"IF(AH$7=$F128,$H128,\"\")","v":""},"",{"$f":"IF(AJ$7=$F128,$H128,\"\")","v":""},"",{"$f":"IF(AL$7=$F128,$H128,\"\")","v":""},"",{"$f":"IF(AN$7=$F128,$H128,\"\")","v":""},"",{"$f":"IF(AP$7=$F128,$H128,\"\")","v":""},"",{"$f":"IF(AR$7=$F128,$H128,\"\")","v":""},"",{"$f":"IF(AT$7=$F128,$H128,\"\")","v":""},"",{"$f":"IF(AV$7=$F128,$H128,\"\")","v":""},"",{"$f":"IF(AX$7=$F128,$H128,\"\")","v":""},"",{"$f":"IF(AZ$7=$F128,$H128,\"\")","v":""},"",{"$f":"IF(BB$7=$F128,$H128,\"\")","v":""},"",{"$f":"IF(BD$7=$F128,$H128,\"\")","v":""},"",{"$f":"IF(BF$7=$F128,$H128,\"\")","v":""},"",{"$f":"IF(BH$7=$F128,$H128,\"\")","v":""},"",{"$f":"IF(BJ$7=$F128,$H128,\"\")","v":""},"",{"$f":"IF(BL$7=$F128,$H128,\"\")","v":""},"",{"$f":"IF(BN$7=$F128,$H128,\"\")","v":""},"",{"$f":"IF(BP$7=$F128,$H128,\"\")","v":""},"",{"$f":"IF(BR$7=$F128,$H128,\"\")","v":""},"",{"$f":"IF(BT$7=$F128,$H128,\"\")","v":""},"",{"$f":"IF(BV$7=$F128,$H128,\"\")","v":""},"",{"$f":"IF(BX$7=$F128,$H128,\"\")","v":""},"",{"$f":"IF(BZ$7=$F128,$H128,\"\")","v":""},"",{"$f":"IF(CB$7=$F128,$H128,\"\")","v":""},"",{"$f":"IF(CD$7=$F128,$H128,\"\")","v":""},"",{"$f":"IF(CF$7=$F128,$H128,\"\")","v":""},"",{"$f":"IF(CH$7=$F128,$H128,\"\")","v":""},"",{"$f":"IF(CJ$7=$F128,$H128,\"\")","v":""},"",{"$f":"IF(CL$7=$F128,$H128,\"\")","v":""},"",{"$f":"IF(CN$7=$F128,$H128,\"\")","v":""},"",{"$f":"IF(CP$7=$F128,$H128,\"\")","v":""},"",{"$f":"IF(CR$7=$F128,$H128,\"\")","v":""},"",{"$f":"IF(CT$7=$F128,$H128,\"\")","v":""},"",{"$f":"IF(CV$7=$F128,$H128,\"\")","v":""},"",{"$f":"IF(CX$7=$F128,$H128,\"\")","v":""},"",{"$f":"IF(CZ$7=$F128,$H128,\"\")","v":""},"",{"$f":"IF(DB$7=$F128,$H128,\"\")","v":""},"",{"$f":"IF(DD$7=$F128,$H128,\"\")","v":""},"",{"$f":"IF(DF$7=$F128,$H128,\"\")","v":""},0,{"$f":"IF(DH$7=$F128,$H128,\"\")","v":0},0,{"$f":"IF(DJ$7=$F128,$H128,\"\")","v":0},0,{"$f":"IF(DL$7=$F128,$H128,\"\")","v":0},0,{"$f":"IF(DN$7=$F128,$H128,\"\")","v":0},0,{"$f":"IF(DP$7=$F128,$H128,\"\")","v":0},0,{"$f":"IF(DR$7=$F128,$H128,\"\")","v":0},0,{"$f":"IF(DT$7=$F128,$H128,\"\")","v":0},0,{"$f":"IF(DV$7=$F128,$H128,\"\")","v":0},0,{"$f":"IF(DX$7=$F128,$H128,\"\")","v":0},0,{"$f":"IF(DZ$7=$F128,$H128,\"\")","v":0},0,{"$f":"IF(EB$7=$F128,$H128,\"\")","v":0},0,{"$f":"IF(ED$7=$F128,$H128,\"\")","v":0},0,{"$f":"IF(EF$7=$F128,$H128,\"\")","v":0},0,{"$f":"IF(EH$7=$F128,$H128,\"\")","v":0},0,{"$f":"IF(EJ$7=$F128,$H128,\"\")","v":0},0,{"$f":"IF(EL$7=$F128,$H128,\"\")","v":0},0,{"$f":"IF(EN$7=$F128,$H128,\"\")","v":0},0,{"$f":"IF(EP$7=$F128,$H128,\"\")","v":0},0,{"$f":"IF(ER$7=$F128,$H128,\"\")","v":0},0,{"$f":"IF(ET$7=$F128,$H128,\"\")","v":0},0,{"$f":"IF(EV$7=$F128,$H128,\"\")","v":0},0,{"$f":"IF(EX$7=$F128,$H128,\"\")","v":0},0,{"$f":"IF(EZ$7=$F128,$H128,\"\")","v":0},0,{"$f":"IF(FB$7=$F128,$H128,\"\")","v":0},0,{"$f":"IF(FD$7=$F128,$H128,\"\")","v":0},0,{"$f":"IF(FF$7=$F128,$H128,\"\")","v":0},0,{"$f":"IF(FH$7=$F128,$H128,\"\")","v":0},0,{"$f":"IF(FJ$7=$F128,$H128,\"\")","v":0},0,{"$f":"IF(FL$7=$F128,$H128,\"\")","v":0},0,0]
[121,null,null,null,null,null,null,null,true,0,0,"","","",{"$f":"IF(N$7=$F129,$H129,\"\")","v":""},"",{"$f":"IF(P$7=$F129,$H129,\"\")","v":""},"",{"$f":"IF(R$7=$F129,$H129,\"\")","v":""},"",{"$f":"IF(T$7=$F129,$H129,\"\")","v":""},"",{"$f":"IF(V$7=$F129,$H129,\"\")","v":""},"",{"$f":"IF(X$7=$F129,$H129,\"\")","v":""},"",{"$f":"IF(Z$7=$F129,$H129,\"\")","v":""},"",{"$f":"IF(AB$7=$F129,$H129,\"\")","v":""},"",{"$f":"IF(AD$7=$F129,$H129,\"\")","v":""},"",{"$f":"IF(AF$7=$F129,$H129,\"\")","v":""},"",{"$f":"IF(AH$7=$F129,$H129,\"\")","v":""},"",{"$f":"IF(AJ$7=$F129,$H129,\"\")","v":""},"",{"$f":"IF(AL$7=$F129,$H129,\"\")","v":""},"",{"$f":"IF(AN$7=$F129,$H129,\"\")","v":""},"",{"$f":"IF(AP$7=$F129,$H129,\"\")","v":""},"",{"$f":"IF(AR$7=$F129,$H129,\"\")","v":""},"",{"$f":"IF(AT$7=$F129,$H129,\"\")","v":""},"",{"$f":"IF(AV$7=$F129,$H129,\"\")","v":""},"",{"$f":"IF(AX$7=$F129,$H129,\"\")","v":""},"",{"$f":"IF(AZ$7=$F129,$H129,\"\")","v":""},"",{"$f":"IF(BB$7=$F129,$H129,\"\")","v":""},"",{"$f":"IF(BD$7=$F129,$H129,\"\")","v":""},"",{"$f":"IF(BF$7=$F129,$H129,\"\")","v":""},"",{"$f":"IF(BH$7=$F129,$H129,\"\")","v":""},"",{"$f":"IF(BJ$7=$F129,$H129,\"\")","v":""},"",{"$f":"IF(BL$7=$F129,$H129,\"\")","v":""},"",{"$f":"IF(BN$7=$F129,$H129,\"\")","v":""},"",{"$f":"IF(BP$7=$F129,$H129,\"\")","v":""},"",{"$f":"IF(BR$7=$F129,$H129,\"\")","v":""},"",{"$f":"IF(BT$7=$F129,$H129,\"\")","v":""},"",{"$f":"IF(BV$7=$F129,$H129,\"\")","v":""},"",{"$f":"IF(BX$7=$F129,$H129,\"\")","v":""},"",{"$f":"IF(BZ$7=$F129,$H129,\"\")","v":""},"",{"$f":"IF(CB$7=$F129,$H129,\"\")","v":""},"",{"$f":"IF(CD$7=$F129,$H129,\"\")","v":""},"",{"$f":"IF(CF$7=$F129,$H129,\"\")","v":""},"",{"$f":"IF(CH$7=$F129,$H129,\"\")","v":""},"",{"$f":"IF(CJ$7=$F129,$H129,\"\")","v":""},"",{"$f":"IF(CL$7=$F129,$H129,\"\")","v":""},"",{"$f":"IF(CN$7=$F129,$H129,\"\")","v":""},"",{"$f":"IF(CP$7=$F129,$H129,\"\")","v":""},"",{"$f":"IF(CR$7=$F129,$H129,\"\")","v":""},"",{"$f":"IF(CT$7=$F129,$H129,\"\")","v":""},"",{"$f":"IF(CV$7=$F129,$H129,\"\")","v":""},"",{"$f":"IF(CX$7=$F129,$H129,\"\")","v":""},"",{"$f":"IF(CZ$7=$F129,$H129,\"\")","v":""},"",{"$f":"IF(DB$7=$F129,$H129,\"\")","v":""},"",{"$f":"IF(DD$7=$F129,$H129,\"\")","v":""},"",{"$f":"IF(DF$7=$F129,$H129,\"\")","v":""},0,{"$f":"IF(DH$7=$F129,$H129,\"\")","v":0},0,{"$f":"IF(DJ$7=$F129,$H129,\"\")","v":0},0,{"$f":"IF(DL$7=$F129,$H129,\"\")","v":0},0,{"$f":"IF(DN$7=$F129,$H129,\"\")","v":0},0,{"$f":"IF(DP$7=$F129,$H129,\"\")","v":0},0,{"$f":"IF(DR$7=$F129,$H129,\"\")","v":0},0,{"$f":"IF(DT$7=$F129,$H129,\"\")","v":0},0,{"$f":"IF(DV$7=$F129,$H129,\"\")","v":0},0,{"$f":"IF(DX$7=$F129,$H129,\"\")","v":0},0,{"$f":"IF(DZ$7=$F129,$H129,\"\")","v":0},0,{"$f":"IF(EB$7=$F129,$H129,\"\")","v":0},0,{"$f":"IF(ED$7=$F129,$H129,\"\")","v":0},0,{"$f":"IF(EF$7=$F129,$H129,\"\")","v":0},0,{"$f":"IF(EH$7=$F129,$H129,\"\")","v":0},0,{"$f":"IF(EJ$7=$F129,$H129,\"\")","v":0},0,{"$f":"IF(EL$7=$F129,$H129,\"\")","v":0},0,{"$f":"IF(EN$7=$F129,$H129,\"\")","v":0},0,{"$f":"IF(EP$7=$F129,$H129,\"\")","v":0},0,{"$f":"IF(ER$7=$F129,$H129,\"\")","v":0},0,{"$f":"IF(ET$7=$F129,$H129,\"\")","v":0},0,{"$f":"IF(EV$7=$F129,$H129,\"\")","v":0},0,{"$f":"IF(EX$7=$F129,$H129,\"\")","v":0},0,{"$f":"IF(EZ$7=$F129,$H129,\"\")","v":0},0,{"$f":"IF(FB$7=$F129,$H129,\"\")","v":0},0,{"$f":"IF(FD$7=$F129,$H129,\"\")","v":0},0,{"$f":"IF(FF$7=$F129,$H129,\"\")","v":0},0,{"$f":"IF(FH$7=$F129,$H129,\"\")","v":0},0,{"$f":"IF(FJ$7=$F129,$H129,\"\")","v":0},0,{"$f":"IF(FL$7=$F129,$H129,\"\")","v":0},0,0]
[122,null,null,null,null,null,null,null,true,0,0,"","","",{"$f":"IF(N$7=$F130,$H130,\"\")","v":""},"",{"$f":"IF(P$7=$F130,$H130,\"\")","v":""},"",{"$f":"IF(R$7=$F130,$H130,\"\")","v":""},"",{"$f":"IF(T$7=$F130,$H130,\"\")","v":""},"",{"$f":"IF(V$7=$F130,$H130,\"\")","v":""},"",{"$f":"IF(X$7=$F130,$H130,\"\")","v":""},"",{"$f":"IF(Z$7=$F130,$H130,\"\")","v":""},"",{"$f":"IF(AB$7=$F130,$H130,\"\")","v":""},"",{"$f":"IF(AD$7=$F130,$H130,\"\")","v":""},"",{"$f":"IF(AF$7=$F130,$H130,\"\")","v":""},"",{"$f":"IF(AH$7=$F130,$H130,\"\")","v":""},"",{"$f":"IF(AJ$7=$F130,$H130,\"\")","v":""},"",{"$f":"IF(AL$7=$F130,$H130,\"\")","v":""},"",{"$f":"IF(AN$7=$F130,$H130,\"\")","v":""},"",{"$f":"IF(AP$7=$F130,$H130,\"\")","v":""},"",{"$f":"IF(AR$7=$F130,$H130,\"\")","v":""},"",{"$f":"IF(AT$7=$F130,$H130,\"\")","v":""},"",{"$f":"IF(AV$7=$F130,$H130,\"\")","v":""},"",{"$f":"IF(AX$7=$F130,$H130,\"\")","v":""},"",{"$f":"IF(AZ$7=$F130,$H130,\"\")","v":""},"",{"$f":"IF(BB$7=$F130,$H130,\"\")","v":""},"",{"$f":"IF(BD$7=$F130,$H130,\"\")","v":""},"",{"$f":"IF(BF$7=$F130,$H130,\"\")","v":""},"",{"$f":"IF(BH$7=$F130,$H130,\"\")","v":""},"",{"$f":"IF(BJ$7=$F130,$H130,\"\")","v":""},"",{"$f":"IF(BL$7=$F130,$H130,\"\")","v":""},"",{"$f":"IF(BN$7=$F130,$H130,\"\")","v":""},"",{"$f":"IF(BP$7=$F130,$H130,\"\")","v":""},"",{"$f":"IF(BR$7=$F130,$H130,\"\")","v":""},"",{"$f":"IF(BT$7=$F130,$H130,\"\")","v":""},"",{"$f":"IF(BV$7=$F130,$H130,\"\")","v":""},"",{"$f":"IF(BX$7=$F130,$H130,\"\")","v":""},"",{"$f":"IF(BZ$7=$F130,$H130,\"\")","v":""},"",{"$f":"IF(CB$7=$F130,$H130,\"\")","v":""},"",{"$f":"IF(CD$7=$F130,$H130,\"\")","v":""},"",{"$f":"IF(CF$7=$F130,$H130,\"\")","v":""},"",{"$f":"IF(CH$7=$F130,$H130,\"\")","v":""},"",{"$f":"IF(CJ$7=$F130,$H130,\"\")","v":""},"",{"$f":"IF(CL$7=$F130,$H130,\"\")","v":""},"",{"$f":"IF(CN$7=$F130,$H130,\"\")","v":""},"",{"$f":"IF(CP$7=$F130,$H130,\"\")","v":""},"",{"$f":"IF(CR$7=$F130,$H130,\"\")","v":""},"",{"$f":"IF(CT$7=$F130,$H130,\"\")","v":""},"",{"$f":"IF(CV$7=$F130,$H130,\"\")","v":""},"",{"$f":"IF(CX$7=$F130,$H130,\"\")","v":""},"",{"$f":"IF(CZ$7=$F130,$H130,\"\")","v":""},"",{"$f":"IF(DB$7=$F130,$H130,\"\")","v":""},"",{"$f":"IF(DD$7=$F130,$H130,\"\")","v":""},"",{"$f":"IF(DF$7=$F130,$H130,\"\")","v":""},0,{"$f":"IF(DH$7=$F130,$H130,\"\")","v":0},0,{"$f":"IF(DJ$7=$F130,$H130,\"\")","v":0},0,{"$f":"IF(DL$7=$F130,$H130,\"\")","v":0},0,{"$f":"IF(DN$7=$F130,$H130,\"\")","v":0},0,{"$f":"IF(DP$7=$F130,$H130,\"\")","v":0},0,{"$f":"IF(DR$7=$F130,$H130,\"\")","v":0},0,{"$f":"IF(DT$7=$F130,$H130,\"\")","v":0},0,{"$f":"IF(DV$7=$F130,$H130,\"\")","v":0},0,{"$f":"IF(DX$7=$F130,$H130,\"\")","v":0},0,{"$f":"IF(DZ$7=$F130,$H130,\"\")","v":0},0,{"$f":"IF(EB$7=$F130,$H130,\"\")","v":0},0,{"$f":"IF(ED$7=$F130,$H130,\"\")","v":0},0,{"$f":"IF(EF$7=$F130,$H130,\"\")","v":0},0,{"$f":"IF(EH$7=$F130,$H130,\"\")","v":0},0,{"$f":"IF(EJ$7=$F130,$H130,\"\")","v":0},0,{"$f":"IF(EL$7=$F130,$H130,\"\")","v":0},0,{"$f":"IF(EN$7=$F130,$H130,\"\")","v":0},0,{"$f":"IF(EP$7=$F130,$H130,\"\")","v":0},0,{"$f":"IF(ER$7=$F130,$H130,\"\")","v":0},0,{"$f":"IF(ET$7=$F130,$H130,\"\")","v":0},0,{"$f":"IF(EV$7=$F130,$H130,\"\")","v":0},0,{"$f":"IF(EX$7=$F130,$H130,\"\")","v":0},0,{"$f":"IF(EZ$7=$F130,$H130,\"\")","v":0},0,{"$f":"IF(FB$7=$F130,$H130,\"\")","v":0},0,{"$f":"IF(FD$7=$F130,$H130,\"\")","v":0},0,{"$f":"IF(FF$7=$F130,$H130,\"\")","v":0},0,{"$f":"IF(FH$7=$F130,$H130,\"\")","v":0},0,{"$f":"IF(FJ$7=$F130,$H130,\"\")","v":0},0,{"$f":"IF(FL$7=$F130,$H130,\"\")","v":0},0,0]
[123,null,null,null,null,null,null,null,true,0,0,"","","",{"$f":"IF(N$7=$F131,$H131,\"\")","v":""},"",{"$f":"IF(P$7=$F131,$H131,\"\")","v":""},"",{"$f":"IF(R$7=$F131,$H131,\"\")","v":""},"",{"$f":"IF(T$7=$F131,$H131,\"\")","v":""},"",{"$f":"IF(V$7=$F131,$H131,\"\")","v":""},"",{"$f":"IF(X$7=$F131,$H131,\"\")","v":""},"",{"$f":"IF(Z$7=$F131,$H131,\"\")","v":""},"",{"$f":"IF(AB$7=$F131,$H131,\"\")","v":""},"",{"$f":"IF(AD$7=$F131,$H131,\"\")","v":""},"",{"$f":"IF(AF$7=$F131,$H131,\"\")","v":""},"",{"$f":"IF(AH$7=$F131,$H131,\"\")","v":""},"",{"$f":"IF(AJ$7=$F131,$H131,\"\")","v":""},"",{"$f":"IF(AL$7=$F131,$H131,\"\")","v":""},"",{"$f":"IF(AN$7=$F131,$H131,\"\")","v":""},"",{"$f":"IF(AP$7=$F131,$H131,\"\")","v":""},"",{"$f":"IF(AR$7=$F131,$H131,\"\")","v":""},"",{"$f":"IF(AT$7=$F131,$H131,\"\")","v":""},"",{"$f":"IF(AV$7=$F131,$H131,\"\")","v":""},"",{"$f":"IF(AX$7=$F131,$H131,\"\")","v":""},"",{"$f":"IF(AZ$7=$F131,$H131,\"\")","v":""},"",{"$f":"IF(BB$7=$F131,$H131,\"\")","v":""},"",{"$f":"IF(BD$7=$F131,$H131,\"\")","v":""},"",{"$f":"IF(BF$7=$F131,$H131,\"\")","v":""},"",{"$f":"IF(BH$7=$F131,$H131,\"\")","v":""},"",{"$f":"IF(BJ$7=$F131,$H131,\"\")","v":""},"",{"$f":"IF(BL$7=$F131,$H131,\"\")","v":""},"",{"$f":"IF(BN$7=$F131,$H131,\"\")","v":""},"",{"$f":"IF(BP$7=$F131,$H131,\"\")","v":""},"",{"$f":"IF(BR$7=$F131,$H131,\"\")","v":""},"",{"$f":"IF(BT$7=$F131,$H131,\"\")","v":""},"",{"$f":"IF(BV$7=$F131,$H131,\"\")","v":""},"",{"$f":"IF(BX$7=$F131,$H131,\"\")","v":""},"",{"$f":"IF(BZ$7=$F131,$H131,\"\")","v":""},"",{"$f":"IF(CB$7=$F131,$H131,\"\")","v":""},"",{"$f":"IF(CD$7=$F131,$H131,\"\")","v":""},"",{"$f":"IF(CF$7=$F131,$H131,\"\")","v":""},"",{"$f":"IF(CH$7=$F131,$H131,\"\")","v":""},"",{"$f":"IF(CJ$7=$F131,$H131,\"\")","v":""},"",{"$f":"IF(CL$7=$F131,$H131,\"\")","v":""},"",{"$f":"IF(CN$7=$F131,$H131,\"\")","v":""},"",{"$f":"IF(CP$7=$F131,$H131,\"\")","v":""},"",{"$f":"IF(CR$7=$F131,$H131,\"\")","v":""},"",{"$f":"IF(CT$7=$F131,$H131,\"\")","v":""},"",{"$f":"IF(CV$7=$F131,$H131,\"\")","v":""},"",{"$f":"IF(CX$7=$F131,$H131,\"\")","v":""},"",{"$f":"IF(CZ$7=$F131,$H131,\"\")","v":""},"",{"$f":"IF(DB$7=$F131,$H131,\"\")","v":""},"",{"$f":"IF(DD$7=$F131,$H131,\"\")","v":""},"",{"$f":"IF(DF$7=$F131,$H131,\"\")","v":""},0,{"$f":"IF(DH$7=$F131,$H131,\"\")","v":0},0,{"$f":"IF(DJ$7=$F131,$H131,\"\")","v":0},0,{"$f":"IF(DL$7=$F131,$H131,\"\")","v":0},0,{"$f":"IF(DN$7=$F131,$H131,\"\")","v":0},0,{"$f":"IF(DP$7=$F131,$H131,\"\")","v":0},0,{"$f":"IF(DR$7=$F131,$H131,\"\")","v":0},0,{"$f":"IF(DT$7=$F131,$H131,\"\")","v":0},0,{"$f":"IF(DV$7=$F131,$H131,\"\")","v":0},0,{"$f":"IF(DX$7=$F131,$H131,\"\")","v":0},0,{"$f":"IF(DZ$7=$F131,$H131,\"\")","v":0},0,{"$f":"IF(EB$7=$F131,$H131,\"\")","v":0},0,{"$f":"IF(ED$7=$F131,$H131,\"\")","v":0},0,{"$f":"IF(EF$7=$F131,$H131,\"\")","v":0},0,{"$f":"IF(EH$7=$F131,$H131,\"\")","v":0},0,{"$f":"IF(EJ$7=$F131,$H131,\"\")","v":0},0,{"$f":"IF(EL$7=$F131,$H131,\"\")","v":0},0,{"$f":"IF(EN$7=$F131,$H131,\"\")","v":0},0,{"$f":"IF(EP$7=$F131,$H131,\"\")","v":0},0,{"$f":"IF(ER$7=$F131,$H131,\"\")","v":0},0,{"$f":"IF(ET$7=$F131,$H131,\"\")","v":0},0,{"$f":"IF(EV$7=$F131,$H131,\"\")","v":0},0,{"$f":"IF(EX$7=$F131,$H131,\"\")","v":0},0,{"$f":"IF(EZ$7=$F131,$H131,\"\")","v":0},0,{"$f":"IF(FB$7=$F131,$H131,\"\")","v":0},0,{"$f":"IF(FD$7=$F131,$H131,\"\")","v":0},0,{"$f":"IF(FF$7=$F131,$H131,\"\")","v":0},0,{"$f":"IF(FH$7=$F131,$H131,\"\")","v":0},0,{"$f":"IF(FJ$7=$F131,$H131,\"\")","v":0},0,{"$f":"IF(FL$7=$F131,$H131,\"\")","v":0},0,0]
[124,null,null,null,null,null,null,null,true,0,0,"","","",{"$f":"IF(N$7=$F132,$H132,\"\")","v":""},"",{"$f":"IF(P$7=$F132,$H132,\"\")","v":""},"",{"$f":"IF(R$7=$F132,$H132,\"\")","v":""},"",{"$f":"IF(T$7=$F132,$H132,\"\")","v":""},"",{"$f":"IF(V$7=$F132,$H132,\"\")","v":""},"",{"$f":"IF(X$7=$F132,$H132,\"\")","v":""},"",{"$f":"IF(Z$7=$F132,$H132,\"\")","v":""},"",{"$f":"IF(AB$7=$F132,$H132,\"\")","v":""},"",{"$f":"IF(AD$7=$F132,$H132,\"\")","v":""},"",{"$f":"IF(AF$7=$F132,$H132,\"\")","v":""},"",{"$f":"IF(AH$7=$F132,$H132,\"\")","v":""},"",{"$f":"IF(AJ$7=$F132,$H132,\"\")","v":""},"",{"$f":"IF(AL$7=$F132,$H132,\"\")","v":""},"",{"$f":"IF(AN$7=$F132,$H132,\"\")","v":""},"",{"$f":"IF(AP$7=$F132,$H132,\"\")","v":""},"",{"$f":"IF(AR$7=$F132,$H132,\"\")","v":""},"",{"$f":"IF(AT$7=$F132,$H132,\"\")","v":""},"",{"$f":"IF(AV$7=$F132,$H132,\"\")","v":""},"",{"$f":"IF(AX$7=$F132,$H132,\"\")","v":""},"",{"$f":"IF(AZ$7=$F132,$H132,\"\")","v":""},"",{"$f":"IF(BB$7=$F132,$H132,\"\")","v":""},"",{"$f":"IF(BD$7=$F132,$H132,\"\")","v":""},"",{"$f":"IF(BF$7=$F132,$H132,\"\")","v":""},"",{"$f":"IF(BH$7=$F132,$H132,\"\")","v":""},"",{"$f":"IF(BJ$7=$F132,$H132,\"\")","v":""},"",{"$f":"IF(BL$7=$F132,$H132,\"\")","v":""},"",{"$f":"IF(BN$7=$F132,$H132,\"\")","v":""},"",{"$f":"IF(BP$7=$F132,$H132,\"\")","v":""},"",{"$f":"IF(BR$7=$F132,$H132,\"\")","v":""},"",{"$f":"IF(BT$7=$F132,$H132,\"\")","v":""},"",{"$f":"IF(BV$7=$F132,$H132,\"\")","v":""},"",{"$f":"IF(BX$7=$F132,$H132,\"\")","v":""},"",{"$f":"IF(BZ$7=$F132,$H132,\"\")","v":""},"",{"$f":"IF(CB$7=$F132,$H132,\"\")","v":""},"",{"$f":"IF(CD$7=$F132,$H132,\"\")","v":""},"",{"$f":"IF(CF$7=$F132,$H132,\"\")","v":""},"",{"$f":"IF(CH$7=$F132,$H132,\"\")","v":""},"",{"$f":"IF(CJ$7=$F132,$H132,\"\")","v":""},"",{"$f":"IF(CL$7=$F132,$H132,\"\")","v":""},"",{"$f":"IF(CN$7=$F132,$H132,\"\")","v":""},"",{"$f":"IF(CP$7=$F132,$H132,\"\")","v":""},"",{"$f":"IF(CR$7=$F132,$H132,\"\")","v":""},"",{"$f":"IF(CT$7=$F132,$H132,\"\")","v":""},"",{"$f":"IF(CV$7=$F132,$H132,\"\")","v":""},"",{"$f":"IF(CX$7=$F132,$H132,\"\")","v":""},"",{"$f":"IF(CZ$7=$F132,$H132,\"\")","v":""},"",{"$f":"IF(DB$7=$F132,$H132,\"\")","v":""},"",{"$f":"IF(DD$7=$F132,$H132,\"\")","v":""},"",{"$f":"IF(DF$7=$F132,$H132,\"\")","v":""},0,{"$f":"IF(DH$7=$F132,$H132,\"\")","v":0},0,{"$f":"IF(DJ$7=$F132,$H132,\"\")","v":0},0,{"$f":"IF(DL$7=$F132,$H132,\"\")","v":0},0,{"$f":"IF(DN$7=$F132,$H132,\"\")","v":0},0,{"$f":"IF(DP$7=$F132,$H132,\"\")","v":0},0,{"$f":"IF(DR$7=$F132,$H132,\"\")","v":0},0,{"$f":"IF(DT$7=$F132,$H132,\"\")","v":0},0,{"$f":"IF(DV$7=$F132,$H132,\"\")","v":0},0,{"$f":"IF(DX$7=$F132,$H132,\"\")","v":0},0,{"$f":"IF(DZ$7=$F132,$H132,\"\")","v":0},0,{"$f":"IF(EB$7=$F132,$H132,\"\")","v":0},0,{"$f":"IF(ED$7=$F132,$H132,\"\")","v":0},0,{"$f":"IF(EF$7=$F132,$H132,\"\")","v":0},0,{"$f":"IF(EH$7=$F132,$H132,\"\")","v":0},0,{"$f":"IF(EJ$7=$F132,$H132,\"\")","v":0},0,{"$f":"IF(EL$7=$F132,$H132,\"\")","v":0},0,{"$f":"IF(EN$7=$F132,$H132,\"\")","v":0},0,{"$f":"IF(EP$7=$F132,$H132,\"\")","v":0},0,{"$f":"IF(ER$7=$F132,$H132,\"\")","v":0},0,{"$f":"IF(ET$7=$F132,$H132,\"\")","v":0},0,{"$f":"IF(EV$7=$F132,$H132,\"\")","v":0},0,{"$f":"IF(EX$7=$F132,$H132,\"\")","v":0},0,{"$f":"IF(EZ$7=$F132,$H132,\"\")","v":0},0,{"$f":"IF(FB$7=$F132,$H132,\"\")","v":0},0,{"$f":"IF(FD$7=$F132,$H132,\"\")","v":0},0,{"$f":"IF(FF$7=$F132,$H132,\"\")","v":0},0,{"$f":"IF(FH$7=$F132,$H132,\"\")","v":0},0,{"$f":"IF(FJ$7=$F132,$H132,\"\")","v":0},0,{"$f":"IF(FL$7=$F132,$H132,\"\")","v":0},0,0]
[125,null,null,null,null,null,null,null,true,0,0,"","","",{"$f":"IF(N$7=$F133,$H133,\"\")","v":""},"",{"$f":"IF(P$7=$F133,$H133,\"\")","v":""},"",{"$f":"IF(R$7=$F133,$H133,\"\")","v":""},"",{"$f":"IF(T$7=$F133,$H133,\"\")","v":""},"",{"$f":"IF(V$7=$F133,$H133,\"\")","v":""},"",{"$f":"IF(X$7=$F133,$H133,\"\")","v":""},"",{"$f":"IF(Z$7=$F133,$H133,\"\")","v":""},"",{"$f":"IF(AB$7=$F133,$H133,\"\")","v":""},"",{"$f":"IF(AD$7=$F133,$H133,\"\")","v":""},"",{"$f":"IF(AF$7=$F133,$H133,\"\")","v":""},"",{"$f":"IF(AH$7=$F133,$H133,\"\")","v":""},"",{"$f":"IF(AJ$7=$F133,$H133,\"\")","v":""},"",{"$f":"IF(AL$7=$F133,$H133,\"\")","v":""},"",{"$f":"IF(AN$7=$F133,$H133,\"\")","v":""},"",{"$f":"IF(AP$7=$F133,$H133,\"\")","v":""},"",{"$f":"IF(AR$7=$F133,$H133,\"\")","v":""},"",{"$f":"IF(AT$7=$F133,$H133,\"\")","v":""},"",{"$f":"IF(AV$7=$F133,$H133,\"\")","v":""},"",{"$f":"IF(AX$7=$F133,$H133,\"\")","v":""},"",{"$f":"IF(AZ$7=$F133,$H133,\"\")","v":""},"",{"$f":"IF(BB$7=$F133,$H133,\"\")","v":""},"",{"$f":"IF(BD$7=$F133,$H133,\"\")","v":""},"",{"$f":"IF(BF$7=$F133,$H133,\"\")","v":""},"",{"$f":"IF(BH$7=$F133,$H133,\"\")","v":""},"",{"$f":"IF(BJ$7=$F133,$H133,\"\")","v":""},"",{"$f":"IF(BL$7=$F133,$H133,\"\")","v":""},"",{"$f":"IF(BN$7=$F133,$H133,\"\")","v":""},"",{"$f":"IF(BP$7=$F133,$H133,\"\")","v":""},"",{"$f":"IF(BR$7=$F133,$H133,\"\")","v":""},"",{"$f":"IF(BT$7=$F133,$H133,\"\")","v":""},"",{"$f":"IF(BV$7=$F133,$H133,\"\")","v":""},"",{"$f":"IF(BX$7=$F133,$H133,\"\")","v":""},"",{"$f":"IF(BZ$7=$F133,$H133,\"\")","v":""},"",{"$f":"IF(CB$7=$F133,$H133,\"\")","v":""},"",{"$f":"IF(CD$7=$F133,$H133,\"\")","v":""},"",{"$f":"IF(CF$7=$F133,$H133,\"\")","v":""},"",{"$f":"IF(CH$7=$F133,$H133,\"\")","v":""},"",{"$f":"IF(CJ$7=$F133,$H133,\"\")","v":""},"",{"$f":"IF(CL$7=$F133,$H133,\"\")","v":""},"",{"$f":"IF(CN$7=$F133,$H133,\"\")","v":""},"",{"$f":"IF(CP$7=$F133,$H133,\"\")","v":""},"",{"$f":"IF(CR$7=$F133,$H133,\"\")","v":""},"",{"$f":"IF(CT$7=$F133,$H133,\"\")","v":""},"",{"$f":"IF(CV$7=$F133,$H133,\"\")","v":""},"",{"$f":"IF(CX$7=$F133,$H133,\"\")","v":""},"",{"$f":"IF(CZ$7=$F133,$H133,\"\")","v":""},"",{"$f":"IF(DB$7=$F133,$H133,\"\")","v":""},"",{"$f":"IF(DD$7=$F133,$H133,\"\")","v":""},"",{"$f":"IF(DF$7=$F133,$H133,\"\")","v":""},0,{"$f":"IF(DH$7=$F133,$H133,\"\")","v":0},0,{"$f":"IF(DJ$7=$F133,$H133,\"\")","v":0},0,{"$f":"IF(DL$7=$F133,$H133,\"\")","v":0},0,{"$f":"IF(DN$7=$F133,$H133,\"\")","v":0},0,{"$f":"IF(DP$7=$F133,$H133,\"\")","v":0},0,{"$f":"IF(DR$7=$F133,$H133,\"\")","v":0},0,{"$f":"IF(DT$7=$F133,$H133,\"\")","v":0},0,{"$f":"IF(DV$7=$F133,$H133,\"\")","v":0},0,{"$f":"IF(DX$7=$F133,$H133,\"\")","v":0},0,{"$f":"IF(DZ$7=$F133,$H133,\"\")","v":0},0,{"$f":"IF(EB$7=$F133,$H133,\"\")","v":0},0,{"$f":"IF(ED$7=$F133,$H133,\"\")","v":0},0,{"$f":"IF(EF$7=$F133,$H133,\"\")","v":0},0,{"$f":"IF(EH$7=$F133,$H133,\"\")","v":0},0,{"$f":"IF(EJ$7=$F133,$H133,\"\")","v":0},0,{"$f":"IF(EL$7=$F133,$H133,\"\")","v":0},0,{"$f":"IF(EN$7=$F133,$H133,\"\")","v":0},0,{"$f":"IF(EP$7=$F133,$H133,\"\")","v":0},0,{"$f":"IF(ER$7=$F133,$H133,\"\")","v":0},0,{"$f":"IF(ET$7=$F133,$H133,\"\")","v":0},0,{"$f":"IF(EV$7=$F133,$H133,\"\")","v":0},0,{"$f":"IF(EX$7=$F133,$H133,\"\")","v":0},0,{"$f":"IF(EZ$7=$F133,$H133,\"\")","v":0},0,{"$f":"IF(FB$7=$F133,$H133,\"\")","v":0},0,{"$f":"IF(FD$7=$F133,$H133,\"\")","v":0},0,{"$f":"IF(FF$7=$F133,$H133,\"\")","v":0},0,{"$f":"IF(FH$7=$F133,$H133,\"\")","v":0},0,{"$f":"IF(FJ$7=$F133,$H133,\"\")","v":0},0,{"$f":"IF(FL$7=$F133,$H133,\"\")","v":0},0,0]
[126,null,null,null,null,null,null,null,true,0,0,"","","",{"$f":"IF(N$7=$F134,$H134,\"\")","v":""},"",{"$f":"IF(P$7=$F134,$H134,\"\")","v":""},"",{"$f":"IF(R$7=$F134,$H134,\"\")","v":""},"",{"$f":"IF(T$7=$F134,$H134,\"\")","v":""},"",{"$f":"IF(V$7=$F134,$H134,\"\")","v":""},"",{"$f":"IF(X$7=$F134,$H134,\"\")","v":""},"",{"$f":"IF(Z$7=$F134,$H134,\"\")","v":""},"",{"$f":"IF(AB$7=$F134,$H134,\"\")","v":""},"",{"$f":"IF(AD$7=$F134,$H134,\"\")","v":""},"",{"$f":"IF(AF$7=$F134,$H134,\"\")","v":""},"",{"$f":"IF(AH$7=$F134,$H134,\"\")","v":""},"",{"$f":"IF(AJ$7=$F134,$H134,\"\")","v":""},"",{"$f":"IF(AL$7=$F134,$H134,\"\")","v":""},"",{"$f":"IF(AN$7=$F134,$H134,\"\")","v":""},"",{"$f":"IF(AP$7=$F134,$H134,\"\")","v":""},"",{"$f":"IF(AR$7=$F134,$H134,\"\")","v":""},"",{"$f":"IF(AT$7=$F134,$H134,\"\")","v":""},"",{"$f":"IF(AV$7=$F134,$H134,\"\")","v":""},"",{"$f":"IF(AX$7=$F134,$H134,\"\")","v":""},"",{"$f":"IF(AZ$7=$F134,$H134,\"\")","v":""},"",{"$f":"IF(BB$7=$F134,$H134,\"\")","v":""},"",{"$f":"IF(BD$7=$F134,$H134,\"\")","v":""},"",{"$f":"IF(BF$7=$F134,$H134,\"\")","v":""},"",{"$f":"IF(BH$7=$F134,$H134,\"\")","v":""},"",{"$f":"IF(BJ$7=$F134,$H134,\"\")","v":""},"",{"$f":"IF(BL$7=$F134,$H134,\"\")","v":""},"",{"$f":"IF(BN$7=$F134,$H134,\"\")","v":""},"",{"$f":"IF(BP$7=$F134,$H134,\"\")","v":""},"",{"$f":"IF(BR$7=$F134,$H134,\"\")","v":""},"",{"$f":"IF(BT$7=$F134,$H134,\"\")","v":""},"",{"$f":"IF(BV$7=$F134,$H134,\"\")","v":""},"",{"$f":"IF(BX$7=$F134,$H134,\"\")","v":""},"",{"$f":"IF(BZ$7=$F134,$H134,\"\")","v":""},"",{"$f":"IF(CB$7=$F134,$H134,\"\")","v":""},"",{"$f":"IF(CD$7=$F134,$H134,\"\")","v":""},"",{"$f":"IF(CF$7=$F134,$H134,\"\")","v":""},"",{"$f":"IF(CH$7=$F134,$H134,\"\")","v":""},"",{"$f":"IF(CJ$7=$F134,$H134,\"\")","v":""},"",{"$f":"IF(CL$7=$F134,$H134,\"\")","v":""},"",{"$f":"IF(CN$7=$F134,$H134,\"\")","v":""},"",{"$f":"IF(CP$7=$F134,$H134,\"\")","v":""},"",{"$f":"IF(CR$7=$F134,$H134,\"\")","v":""},"",{"$f":"IF(CT$7=$F134,$H134,\"\")","v":""},"",{"$f":"IF(CV$7=$F134,$H134,\"\")","v":""},"",{"$f":"IF(CX$7=$F134,$H134,\"\")","v":""},"",{"$f":"IF(CZ$7=$F134,$H134,\"\")","v":""},"",{"$f":"IF(DB$7=$F134,$H134,\"\")","v":""},"",{"$f":"IF(DD$7=$F134,$H134,\"\")","v":""},"",{"$f":"IF(DF$7=$F134,$H134,\"\")","v":""},0,{"$f":"IF(DH$7=$F134,$H134,\"\")","v":0},0,{"$f":"IF(DJ$7=$F134,$H134,\"\")","v":0},0,{"$f":"IF(DL$7=$F134,$H134,\"\")","v":0},0,{"$f":"IF(DN$7=$F134,$H134,\"\")","v":0},0,{"$f":"IF(DP$7=$F134,$H134,\"\")","v":0},0,{"$f":"IF(DR$7=$F134,$H134,\"\")","v":0},0,{"$f":"IF(DT$7=$F134,$H134,\"\")","v":0},0,{"$f":"IF(DV$7=$F134,$H134,\"\")","v":0},0,{"$f":"IF(DX$7=$F134,$H134,\"\")","v":0},0,{"$f":"IF(DZ$7=$F134,$H134,\"\")","v":0},0,{"$f":"IF(EB$7=$F134,$H134,\"\")","v":0},0,{"$f":"IF(ED$7=$F134,$H134,\"\")","v":0},0,{"$f":"IF(EF$7=$F134,$H134,\"\")","v":0},0,{"$f":"IF(EH$7=$F134,$H134,\"\")","v":0},0,{"$f":"IF(EJ$7=$F134,$H134,\"\")","v":0},0,{"$f":"IF(EL$7=$F134,$H134,\"\")","v":0},0,{"$f":"IF(EN$7=$F134,$H134,\"\")","v":0},0,{"$f":"IF(EP$7=$F134,$H134,\"\")","v":0},0,{"$f":"IF(ER$7=$F134,$H134,\"\")","v":0},0,{"$f":"IF(ET$7=$F134,$H134,\"\")","v":0},0,{"$f":"IF(EV$7=$F134,$H134,\"\")","v":0},0,{"$f":"IF(EX$7=$F134,$H134,\"\")","v":0},0,{"$f":"IF(EZ$7=$F134,$H134,\"\")","v":0},0,{"$f":"IF(FB$7=$F134,$H134,\"\")","v":0},0,{"$f":"IF(FD$7=$F134,$H134,\"\")","v":0},0,{"$f":"IF(FF$7=$F134,$H134,\"\")","v":0},0,{"$f":"IF(FH$7=$F134,$H134,\"\")","v":0},0,{"$f":"IF(FJ$7=$F134,$H134,\"\")","v":0},0,{"$f":"IF(FL$7=$F134,$H134,\"\")","v":0},0,0]
[127,null,null,null,null,null,null,null,true,0,0,"","","",{"$f":"IF(N$7=$F135,$H135,\"\")","v":""},"",{"$f":"IF(P$7=$F135,$H135,\"\")","v":""},"",{"$f":"IF(R$7=$F135,$H135,\"\")","v":""},"",{"$f":"IF(T$7=$F135,$H135,\"\")","v":""},"",{"$f":"IF(V$7=$F135,$H135,\"\")","v":""},"",{"$f":"IF(X$7=$F135,$H135,\"\")","v":""},"",{"$f":"IF(Z$7=$F135,$H135,\"\")","v":""},"",{"$f":"IF(AB$7=$F135,$H135,\"\")","v":""},"",{"$f":"IF(AD$7=$F135,$H135,\"\")","v":""},"",{"$f":"IF(AF$7=$F135,$H135,\"\")","v":""},"",{"$f":"IF(AH$7=$F135,$H135,\"\")","v":""},"",{"$f":"IF(AJ$7=$F135,$H135,\"\")","v":""},"",{"$f":"IF(AL$7=$F135,$H135,\"\")","v":""},"",{"$f":"IF(AN$7=$F135,$H135,\"\")","v":""},"",{"$f":"IF(AP$7=$F135,$H135,\"\")","v":""},"",{"$f":"IF(AR$7=$F135,$H135,\"\")","v":""},"",{"$f":"IF(AT$7=$F135,$H135,\"\")","v":""},"",{"$f":"IF(AV$7=$F135,$H135,\"\")","v":""},"",{"$f":"IF(AX$7=$F135,$H135,\"\")","v":""},"",{"$f":"IF(AZ$7=$F135,$H135,\"\")","v":""},"",{"$f":"IF(BB$7=$F135,$H135,\"\")","v":""},"",{"$f":"IF(BD$7=$F135,$H135,\"\")","v":""},"",{"$f":"IF(BF$7=$F135,$H135,\"\")","v":""},"",{"$f":"IF(BH$7=$F135,$H135,\"\")","v":""},"",{"$f":"IF(BJ$7=$F135,$H135,\"\")","v":""},"",{"$f":"IF(BL$7=$F135,$H135,\"\")","v":""},"",{"$f":"IF(BN$7=$F135,$H135,\"\")","v":""},"",{"$f":"IF(BP$7=$F135,$H135,\"\")","v":""},"",{"$f":"IF(BR$7=$F135,$H135,\"\")","v":""},"",{"$f":"IF(BT$7=$F135,$H135,\"\")","v":""},"",{"$f":"IF(BV$7=$F135,$H135,\"\")","v":""},"",{"$f":"IF(BX$7=$F135,$H135,\"\")","v":""},"",{"$f":"IF(BZ$7=$F135,$H135,\"\")","v":""},"",{"$f":"IF(CB$7=$F135,$H135,\"\")","v":""},"",{"$f":"IF(CD$7=$F135,$H135,\"\")","v":""},"",{"$f":"IF(CF$7=$F135,$H135,\"\")","v":""},"",{"$f":"IF(CH$7=$F135,$H135,\"\")","v":""},"",{"$f":"IF(CJ$7=$F135,$H135,\"\")","v":""},"",{"$f":"IF(CL$7=$F135,$H135,\"\")","v":""},"",{"$f":"IF(CN$7=$F135,$H135,\"\")","v":""},"",{"$f":"IF(CP$7=$F135,$H135,\"\")","v":""},"",{"$f":"IF(CR$7=$F135,$H135,\"\")","v":""},"",{"$f":"IF(CT$7=$F135,$H135,\"\")","v":""},"",{"$f":"IF(CV$7=$F135,$H135,\"\")","v":""},"",{"$f":"IF(CX$7=$F135,$H135,\"\")","v":""},"",{"$f":"IF(CZ$7=$F135,$H135,\"\")","v":""},"",{"$f":"IF(DB$7=$F135,$H135,\"\")","v":""},"",{"$f":"IF(DD$7=$F135,$H135,\"\")","v":""},"",{"$f":"IF(DF$7=$F135,$H135,\"\")","v":""},0,{"$f":"IF(DH$7=$F135,$H135,\"\")","v":0},0,{"$f":"IF(DJ$7=$F135,$H135,\"\")","v":0},0,{"$f":"IF(DL$7=$F135,$H135,\"\")","v":0},0,{"$f":"IF(DN$7=$F135,$H135,\"\")","v":0},0,{"$f":"IF(DP$7=$F135,$H135,\"\")","v":0},0,{"$f":"IF(DR$7=$F135,$H135,\"\")","v":0},0,{"$f":"IF(DT$7=$F135,$H135,\"\")","v":0},0,{"$f":"IF(DV$7=$F135,$H135,\"\")","v":0},0,{"$f":"IF(DX$7=$F135,$H135,\"\")","v":0},0,{"$f":"IF(DZ$7=$F135,$H135,\"\")","v":0},0,{"$f":"IF(EB$7=$F135,$H135,\"\")","v":0},0,{"$f":"IF(ED$7=$F135,$H135,\"\")","v":0},0,{"$f":"IF(EF$7=$F135,$H135,\"\")","v":0},0,{"$f":"IF(EH$7=$F135,$H135,\"\")","v":0},0,{"$f":"IF(EJ$7=$F135,$H135,\"\")","v":0},0,{"$f":"IF(EL$7=$F135,$H135,\"\")","v":0},0,{"$f":"IF(EN$7=$F135,$H135,\"\")","v":0},0,{"$f":"IF(EP$7=$F135,$H135,\"\")","v":0},0,{"$f":"IF(ER$7=$F135,$H135,\"\")","v":0},0,{"$f":"IF(ET$7=$F135,$H135,\"\")","v":0},0,{"$f":"IF(EV$7=$F135,$H135,\"\")","v":0},0,{"$f":"IF(EX$7=$F135,$H135,\"\")","v":0},0,{"$f":"IF(EZ$7=$F135,$H135,\"\")","v":0},0,{"$f":"IF(FB$7=$F135,$H135,\"\")","v":0},0,{"$f":"IF(FD$7=$F135,$H135,\"\")","v":0},0,{"$f":"IF(FF$7=$F135,$H135,\"\")","v":0},0,{"$f":"IF(FH$7=$F135,$H135,\"\")","v":0},0,{"$f":"IF(FJ$7=$F135,$H135,\"\")","v":0},0,{"$f":"IF(FL$7=$F135,$H135,\"\")","v":0},0,0]
[128,null,null,null,null,null,null,null,true,0,0,"","","",{"$f":"IF(N$7=$F136,$H136,\"\")","v":""},"",{"$f":"IF(P$7=$F136,$H136,\"\")","v":""},"",{"$f":"IF(R$7=$F136,$H136,\"\")","v":""},"",{"$f":"IF(T$7=$F136,$H136,\"\")","v":""},"",{"$f":"IF(V$7=$F136,$H136,\"\")","v":""},"",{"$f":"IF(X$7=$F136,$H136,\"\")","v":""},"",{"$f":"IF(Z$7=$F136,$H136,\"\")","v":""},"",{"$f":"IF(AB$7=$F136,$H136,\"\")","v":""},"",{"$f":"IF(AD$7=$F136,$H136,\"\")","v":""},"",{"$f":"IF(AF$7=$F136,$H136,\"\")","v":""},"",{"$f":"IF(AH$7=$F136,$H136,\"\")","v":""},"",{"$f":"IF(AJ$7=$F136,$H136,\"\")","v":""},"",{"$f":"IF(AL$7=$F136,$H136,\"\")","v":""},"",{"$f":"IF(AN$7=$F136,$H136,\"\")","v":""},"",{"$f":"IF(AP$7=$F136,$H136,\"\")","v":""},"",{"$f":"IF(AR$7=$F136,$H136,\"\")","v":""},"",{"$f":"IF(AT$7=$F136,$H136,\"\")","v":""},"",{"$f":"IF(AV$7=$F136,$H136,\"\")","v":""},"",{"$f":"IF(AX$7=$F136,$H136,\"\")","v":""},"",{"$f":"IF(AZ$7=$F136,$H136,\"\")","v":""},"",{"$f":"IF(BB$7=$F136,$H136,\"\")","v":""},"",{"$f":"IF(BD$7=$F136,$H136,\"\")","v":""},"",{"$f":"IF(BF$7=$F136,$H136,\"\")","v":""},"",{"$f":"IF(BH$7=$F136,$H136,\"\")","v":""},"",{"$f":"IF(BJ$7=$F136,$H136,\"\")","v":""},"",{"$f":"IF(BL$7=$F136,$H136,\"\")","v":""},"",{"$f":"IF(BN$7=$F136,$H136,\"\")","v":""},"",{"$f":"IF(BP$7=$F136,$H136,\"\")","v":""},"",{"$f":"IF(BR$7=$F136,$H136,\"\")","v":""},"",{"$f":"IF(BT$7=$F136,$H136,\"\")","v":""},"",{"$f":"IF(BV$7=$F136,$H136,\"\")","v":""},"",{"$f":"IF(BX$7=$F136,$H136,\"\")","v":""},"",{"$f":"IF(BZ$7=$F136,$H136,\"\")","v":""},"",{"$f":"IF(CB$7=$F136,$H136,\"\")","v":""},"",{"$f":"IF(CD$7=$F136,$H136,\"\")","v":""},"",{"$f":"IF(CF$7=$F136,$H136,\"\")","v":""},"",{"$f":"IF(CH$7=$F136,$H136,\"\")","v":""},"",{"$f":"IF(CJ$7=$F136,$H136,\"\")","v":""},"",{"$f":"IF(CL$7=$F136,$H136,\"\")","v":""},"",{"$f":"IF(CN$7=$F136,$H136,\"\")","v":""},"",{"$f":"IF(CP$7=$F136,$H136,\"\")","v":""},"",{"$f":"IF(CR$7=$F136,$H136,\"\")","v":""},"",{"$f":"IF(CT$7=$F136,$H136,\"\")","v":""},"",{"$f":"IF(CV$7=$F136,$H136,\"\")","v":""},"",{"$f":"IF(CX$7=$F136,$H136,\"\")","v":""},"",{"$f":"IF(CZ$7=$F136,$H136,\"\")","v":""},"",{"$f":"IF(DB$7=$F136,$H136,\"\")","v":""},"",{"$f":"IF(DD$7=$F136,$H136,\"\")","v":""},"",{"$f":"IF(DF$7=$F136,$H136,\"\")","v":""},0,{"$f":"IF(DH$7=$F136,$H136,\"\")","v":0},0,{"$f":"IF(DJ$7=$F136,$H136,\"\")","v":0},0,{"$f":"IF(DL$7=$F136,$H136,\"\")","v":0},0,{"$f":"IF(DN$7=$F136,$H136,\"\")","v":0},0,{"$f":"IF(DP$7=$F136,$H136,\"\")","v":0},0,{"$f":"IF(DR$7=$F136,$H136,\"\")","v":0},0,{"$f":"IF(DT$7=$F136,$H136,\"\")","v":0},0,{"$f":"IF(DV$7=$F136,$H136,\"\")","v":0},0,{"$f":"IF(DX$7=$F136,$H136,\"\")","v":0},0,{"$f":"IF(DZ$7=$F136,$H136,\"\")","v":0},0,{"$f":"IF(EB$7=$F136,$H136,\"\")","v":0},0,{"$f":"IF(ED$7=$F136,$H136,\"\")","v":0},0,{"$f":"IF(EF$7=$F136,$H136,\"\")","v":0},0,{"$f":"IF(EH$7=$F136,$H136,\"\")","v":0},0,{"$f":"IF(EJ$7=$F136,$H136,\"\")","v":0},0,{"$f":"IF(EL$7=$F136,$H136,\"\")","v":0},0,{"$f":"IF(EN$7=$F136,$H136,\"\")","v":0},0,{"$f":"IF(EP$7=$F136,$H136,\"\")","v":0},0,{"$f":"IF(ER$7=$F136,$H136,\"\")","v":0},0,{"$f":"IF(ET$7=$F136,$H136,\"\")","v":0},0,{"$f":"IF(EV$7=$F136,$H136,\"\")","v":0},0,{"$f":"IF(EX$7=$F136,$H136,\"\")","v":0},0,{"$f":"IF(EZ$7=$F136,$H136,\"\")","v":0},0,{"$f":"IF(FB$7=$F136,$H136,\"\")","v":0},0,{"$f":"IF(FD$7=$F136,$H136,\"\")","v":0},0,{"$f":"IF(FF$7=$F136,$H136,\"\")","v":0},0,{"$f":"IF(FH$7=$F136,$H136,\"\")","v":0},0,{"$f":"IF(FJ$7=$F136,$H136,\"\")","v":0},0,{"$f":"IF(FL$7=$F136,$H136,\"\")","v":0},0,0]
[129,null,null,null,null,null,null,null,true,0,0,"","","",{"$f":"IF(N$7=$F137,$H137,\"\")","v":""},"",{"$f":"IF(P$7=$F137,$H137,\"\")","v":""},"",{"$f":"IF(R$7=$F137,$H137,\"\")","v":""},"",{"$f":"IF(T$7=$F137,$H137,\"\")","v":""},"",{"$f":"IF(V$7=$F137,$H137,\"\")","v":""},"",{"$f":"IF(X$7=$F137,$H137,\"\")","v":""},"",{"$f":"IF(Z$7=$F137,$H137,\"\")","v":""},"",{"$f":"IF(AB$7=$F137,$H137,\"\")","v":""},"",{"$f":"IF(AD$7=$F137,$H137,\"\")","v":""},"",{"$f":"IF(AF$7=$F137,$H137,\"\")","v":""},"",{"$f":"IF(AH$7=$F137,$H137,\"\")","v":""},"",{"$f":"IF(AJ$7=$F137,$H137,\"\")","v":""},"",{"$f":"IF(AL$7=$F137,$H137,\"\")","v":""},"",{"$f":"IF(AN$7=$F137,$H137,\"\")","v":""},"",{"$f":"IF(AP$7=$F137,$H137,\"\")","v":""},"",{"$f":"IF(AR$7=$F137,$H137,\"\")","v":""},"",{"$f":"IF(AT$7=$F137,$H137,\"\")","v":""},"",{"$f":"IF(AV$7=$F137,$H137,\"\")","v":""},"",{"$f":"IF(AX$7=$F137,$H137,\"\")","v":""},"",{"$f":"IF(AZ$7=$F137,$H137,\"\")","v":""},"",{"$f":"IF(BB$7=$F137,$H137,\"\")","v":""},"",{"$f":"IF(BD$7=$F137,$H137,\"\")","v":""},"",{"$f":"IF(BF$7=$F137,$H137,\"\")","v":""},"",{"$f":"IF(BH$7=$F137,$H137,\"\")","v":""},"",{"$f":"IF(BJ$7=$F137,$H137,\"\")","v":""},"",{"$f":"IF(BL$7=$F137,$H137,\"\")","v":""},"",{"$f":"IF(BN$7=$F137,$H137,\"\")","v":""},"",{"$f":"IF(BP$7=$F137,$H137,\"\")","v":""},"",{"$f":"IF(BR$7=$F137,$H137,\"\")","v":""},"",{"$f":"IF(BT$7=$F137,$H137,\"\")","v":""},"",{"$f":"IF(BV$7=$F137,$H137,\"\")","v":""},"",{"$f":"IF(BX$7=$F137,$H137,\"\")","v":""},"",{"$f":"IF(BZ$7=$F137,$H137,\"\")","v":""},"",{"$f":"IF(CB$7=$F137,$H137,\"\")","v":""},"",{"$f":"IF(CD$7=$F137,$H137,\"\")","v":""},"",{"$f":"IF(CF$7=$F137,$H137,\"\")","v":""},"",{"$f":"IF(CH$7=$F137,$H137,\"\")","v":""},"",{"$f":"IF(CJ$7=$F137,$H137,\"\")","v":""},"",{"$f":"IF(CL$7=$F137,$H137,\"\")","v":""},"",{"$f":"IF(CN$7=$F137,$H137,\"\")","v":""},"",{"$f":"IF(CP$7=$F137,$H137,\"\")","v":""},"",{"$f":"IF(CR$7=$F137,$H137,\"\")","v":""},"",{"$f":"IF(CT$7=$F137,$H137,\"\")","v":""},"",{"$f":"IF(CV$7=$F137,$H137,\"\")","v":""},"",{"$f":"IF(CX$7=$F137,$H137,\"\")","v":""},"",{"$f":"IF(CZ$7=$F137,$H137,\"\")","v":""},"",{"$f":"IF(DB$7=$F137,$H137,\"\")","v":""},"",{"$f":"IF(DD$7=$F137,$H137,\"\")","v":""},"",{"$f":"IF(DF$7=$F137,$H137,\"\")","v":""},0,{"$f":"IF(DH$7=$F137,$H137,\"\")","v":0},0,{"$f":"IF(DJ$7=$F137,$H137,\"\")","v":0},0,{"$f":"IF(DL$7=$F137,$H137,\"\")","v":0},0,{"$f":"IF(DN$7=$F137,$H137,\"\")","v":0},0,{"$f":"IF(DP$7=$F137,$H137,\"\")","v":0},0,{"$f":"IF(DR$7=$F137,$H137,\"\")","v":0},0,{"$f":"IF(DT$7=$F137,$H137,\"\")","v":0},0,{"$f":"IF(DV$7=$F137,$H137,\"\")","v":0},0,{"$f":"IF(DX$7=$F137,$H137,\"\")","v":0},0,{"$f":"IF(DZ$7=$F137,$H137,\"\")","v":0},0,{"$f":"IF(EB$7=$F137,$H137,\"\")","v":0},0,{"$f":"IF(ED$7=$F137,$H137,\"\")","v":0},0,{"$f":"IF(EF$7=$F137,$H137,\"\")","v":0},0,{"$f":"IF(EH$7=$F137,$H137,\"\")","v":0},0,{"$f":"IF(EJ$7=$F137,$H137,\"\")","v":0},0,{"$f":"IF(EL$7=$F137,$H137,\"\")","v":0},0,{"$f":"IF(EN$7=$F137,$H137,\"\")","v":0},0,{"$f":"IF(EP$7=$F137,$H137,\"\")","v":0},0,{"$f":"IF(ER$7=$F137,$H137,\"\")","v":0},0,{"$f":"IF(ET$7=$F137,$H137,\"\")","v":0},0,{"$f":"IF(EV$7=$F137,$H137,\"\")","v":0},0,{"$f":"IF(EX$7=$F137,$H137,\"\")","v":0},0,{"$f":"IF(EZ$7=$F137,$H137,\"\")","v":0},0,{"$f":"IF(FB$7=$F137,$H137,\"\")","v":0},0,{"$f":"IF(FD$7=$F137,$H137,\"\")","v":0},0,{"$f":"IF(FF$7=$F137,$H137,\"\")","v":0},0,{"$f":"IF(FH$7=$F137,$H137,\"\")","v":0},0,{"$f":"IF(FJ$7=$F137,$H137,\"\")","v":0},0,{"$f":"IF(FL$7=$F137,$H137,\"\")","v":0},0,{"$f":"IF(FN$7=$F137,$H137,\"\")","v":0}]
[130,null,null,null,null,null,null,null,{"$f":"J138=K138","v":true},{"$f":"SUMIF($L$8:$FO$8,$J$8,L138:FO138)","v":0},{"$f":"SUMIF($L$8:$FO$8,$K$8,L138:FO138)","v":0},{"$f":"IF(L$7=$E138,$G138,\"\")","v":""},{"$f":"IF(L$7=$F138,$H138,\"\")","v":""},"",{"$f":"IF(N$7=$F138,$H138,\"\")","v":""},"",{"$f":"IF(P$7=$F138,$H138,\"\")","v":""},"",{"$f":"IF(R$7=$F138,$H138,\"\")","v":""},"",{"$f":"IF(T$7=$F138,$H138,\"\")","v":""},"",{"$f":"IF(V$7=$F138,$H138,\"\")","v":""},"",{"$f":"IF(X$7=$F138,$H138,\"\")","v":""},"",{"$f":"IF(Z$7=$F138,$H138,\"\")","v":""},"",{"$f":"IF(AB$7=$F138,$H138,\"\")","v":""},"",{"$f":"IF(AD$7=$F138,$H138,\"\")","v":""},"",{"$f":"IF(AF$7=$F138,$H138,\"\")","v":""},"",{"$f":"IF(AH$7=$F138,$H138,\"\")","v":""},"",{"$f":"IF(AJ$7=$F138,$H138,\"\")","v":""},"",{"$f":"IF(AL$7=$F138,$H138,\"\")","v":""},"",{"$f":"IF(AN$7=$F138,$H138,\"\")","v":""},"",{"$f":"IF(AP$7=$F138,$H138,\"\")","v":""},"",{"$f":"IF(AR$7=$F138,$H138,\"\")","v":""},"",{"$f":"IF(AT$7=$F138,$H138,\"\")","v":""},"",{"$f":"IF(AV$7=$F138,$H138,\"\")","v":""},"",{"$f":"IF(AX$7=$F138,$H138,\"\")","v":""},"",{"$f":"IF(AZ$7=$F138,$H138,\"\")","v":""},"",{"$f":"IF(BB$7=$F138,$H138,\"\")","v":""},"",{"$f":"IF(BD$7=$F138,$H138,\"\")","v":""},"",{"$f":"IF(BF$7=$F138,$H138,\"\")","v":""},"",{"$f":"IF(BH$7=$F138,$H138,\"\")","v":""},"",{"$f":"IF(BJ$7=$F138,$H138,\"\")","v":""},"",{"$f":"IF(BL$7=$F138,$H138,\"\")","v":""},"",{"$f":"IF(BN$7=$F138,$H138,\"\")","v":""},"",{"$f":"IF(BP$7=$F138,$H138,\"\")","v":""},"",{"$f":"IF(BR$7=$F138,$H138,\"\")","v":""},"",{"$f":"IF(BT$7=$F138,$H138,\"\")","v":""},"",{"$f":"IF(BV$7=$F138,$H138,\"\")","v":""},"",{"$f":"IF(BX$7=$F138,$H138,\"\")","v":""},"",{"$f":"IF(BZ$7=$F138,$H138,\"\")","v":""},"",{"$f":"IF(CB$7=$F138,$H138,\"\")","v":""},"",{"$f":"IF(CD$7=$F138,$H138,\"\")","v":""},"",{"$f":"IF(CF$7=$F138,$H138,\"\")","v":""},"",{"$f":"IF(CH$7=$F138,$H138,\"\")","v":""},"",{"$f":"IF(CJ$7=$F138,$H138,\"\")","v":""},"",{"$f":"IF(CL$7=$F138,$H138,\"\")","v":""},"",{"$f":"IF(CN$7=$F138,$H138,\"\")","v":""},"",{"$f":"IF(CP$7=$F138,$H138,\"\")","v":""},"",{"$f":"IF(CR$7=$F138,$H138,\"\")","v":""},"",{"$f":"IF(CT$7=$F138,$H138,\"\")","v":""},"",{"$f":"IF(CV$7=$F138,$H138,\"\")","v":""},"",{"$f":"IF(CX$7=$F138,$H138,\"\")","v":""},"",{"$f":"IF(CZ$7=$F138,$H138,\"\")","v":""},"",{"$f":"IF(DB$7=$F138,$H138,\"\")","v":""},"",{"$f":"IF(DD$7=$F138,$H138,\"\")","v":""},"",{"$f":"IF(DF$7=$F138,$H138,\"\")","v":""},0,{"$f":"IF(DH$7=$F138,$H138,\"\")","v":0},0,{"$f":"IF(DJ$7=$F138,$H138,\"\")","v":0},0,{"$f":"IF(DL$7=$F138,$H138,\"\")","v":0},0,{"$f":"IF(DN$7=$F138,$H138,\"\")","v":0},0,{"$f":"IF(DP$7=$F138,$H138,\"\")","v":0},0,{"$f":"IF(DR$7=$F138,$H138,\"\")","v":0},0,{"$f":"IF(DT$7=$F138,$H138,\"\")","v":0},0,{"$f":"IF(DV$7=$F138,$H138,\"\")","v":0},0,{"$f":"IF(DX$7=$F138,$H138,\"\")","v":0},0,{"$f":"IF(DZ$7=$F138,$H138,\"\")","v":0},0,{"$f":"IF(EB$7=$F138,$H138,\"\")","v":0},0,{"$f":"IF(ED$7=$F138,$H138,\"\")","v":0},0,{"$f":"IF(EF$7=$F138,$H138,\"\")","v":0},0,{"$f":"IF(EH$7=$F138,$H138,\"\")","v":0},0,{"$f":"IF(EJ$7=$F138,$H138,\"\")","v":0},0,{"$f":"IF(EL$7=$F138,$H138,\"\")","v":0},0,{"$f":"IF(EN$7=$F138,$H138,\"\")","v":0},0,{"$f":"IF(EP$7=$F138,$H138,\"\")","v":0},0,{"$f":"IF(ER$7=$F138,$H138,\"\")","v":0},0,{"$f":"IF(ET$7=$F138,$H138,\"\")","v":0},0,{"$f":"IF(EV$7=$F138,$H138,\"\")","v":0},0,{"$f":"IF(EX$7=$F138,$H138,\"\")","v":0},0,{"$f":"IF(EZ$7=$F138,$H138,\"\")","v":0},0,{"$f":"IF(FB$7=$F138,$H138,\"\")","v":0},0,{"$f":"IF(FD$7=$F138,$H138,\"\")","v":0},0,{"$f":"IF(FF$7=$F138,$H138,\"\")","v":0},0,{"$f":"IF(FH$7=$F138,$H138,\"\")","v":0},0,{"$f":"IF(FJ$7=$F138,$H138,\"\")","v":0},0,{"$f":"IF(FL$7=$F138,$H138,\"\")","v":0},0,0]
[131,null,null,null,null,null,null,null,true,0,0,"","","",{"$f":"IF(N$7=$F139,$H139,\"\")","v":""},"",{"$f":"IF(P$7=$F139,$H139,\"\")","v":""},"",{"$f":"IF(R$7=$F139,$H139,\"\")","v":""},"",{"$f":"IF(T$7=$F139,$H139,\"\")","v":""},"",{"$f":"IF(V$7=$F139,$H139,\"\")","v":""},"",{"$f":"IF(X$7=$F139,$H139,\"\")","v":""},"",{"$f":"IF(Z$7=$F139,$H139,\"\")","v":""},"",{"$f":"IF(AB$7=$F139,$H139,\"\")","v":""},"",{"$f":"IF(AD$7=$F139,$H139,\"\")","v":""},"",{"$f":"IF(AF$7=$F139,$H139,\"\")","v":""},"",{"$f":"IF(AH$7=$F139,$H139,\"\")","v":""},"",{"$f":"IF(AJ$7=$F139,$H139,\"\")","v":""},"",{"$f":"IF(AL$7=$F139,$H139,\"\")","v":""},"",{"$f":"IF(AN$7=$F139,$H139,\"\")","v":""},"",{"$f":"IF(AP$7=$F139,$H139,\"\")","v":""},"",{"$f":"IF(AR$7=$F139,$H139,\"\")","v":""},"",{"$f":"IF(AT$7=$F139,$H139,\"\")","v":""},"",{"$f":"IF(AV$7=$F139,$H139,\"\")","v":""},"",{"$f":"IF(AX$7=$F139,$H139,\"\")","v":""},"",{"$f":"IF(AZ$7=$F139,$H139,\"\")","v":""},"",{"$f":"IF(BB$7=$F139,$H139,\"\")","v":""},"",{"$f":"IF(BD$7=$F139,$H139,\"\")","v":""},"",{"$f":"IF(BF$7=$F139,$H139,\"\")","v":""},"",{"$f":"IF(BH$7=$F139,$H139,\"\")","v":""},"",{"$f":"IF(BJ$7=$F139,$H139,\"\")","v":""},"",{"$f":"IF(BL$7=$F139,$H139,\"\")","v":""},"",{"$f":"IF(BN$7=$F139,$H139,\"\")","v":""},"",{"$f":"IF(BP$7=$F139,$H139,\"\")","v":""},"",{"$f":"IF(BR$7=$F139,$H139,\"\")","v":""},"",{"$f":"IF(BT$7=$F139,$H139,\"\")","v":""},"",{"$f":"IF(BV$7=$F139,$H139,\"\")","v":""},"",{"$f":"IF(BX$7=$F139,$H139,\"\")","v":""},"",{"$f":"IF(BZ$7=$F139,$H139,\"\")","v":""},"",{"$f":"IF(CB$7=$F139,$H139,\"\")","v":""},"",{"$f":"IF(CD$7=$F139,$H139,\"\")","v":""},"",{"$f":"IF(CF$7=$F139,$H139,\"\")","v":""},"",{"$f":"IF(CH$7=$F139,$H139,\"\")","v":""},"",{"$f":"IF(CJ$7=$F139,$H139,\"\")","v":""},"",{"$f":"IF(CL$7=$F139,$H139,\"\")","v":""},"",{"$f":"IF(CN$7=$F139,$H139,\"\")","v":""},"",{"$f":"IF(CP$7=$F139,$H139,\"\")","v":""},"",{"$f":"IF(CR$7=$F139,$H139,\"\")","v":""},"",{"$f":"IF(CT$7=$F139,$H139,\"\")","v":""},"",{"$f":"IF(CV$7=$F139,$H139,\"\")","v":""},"",{"$f":"IF(CX$7=$F139,$H139,\"\")","v":""},"",{"$f":"IF(CZ$7=$F139,$H139,\"\")","v":""},"",{"$f":"IF(DB$7=$F139,$H139,\"\")","v":""},"",{"$f":"IF(DD$7=$F139,$H139,\"\")","v":""},"",{"$f":"IF(DF$7=$F139,$H139,\"\")","v":""},0,{"$f":"IF(DH$7=$F139,$H139,\"\")","v":0},0,{"$f":"IF(DJ$7=$F139,$H139,\"\")","v":0},0,{"$f":"IF(DL$7=$F139,$H139,\"\")","v":0},0,{"$f":"IF(DN$7=$F139,$H139,\"\")","v":0},0,{"$f":"IF(DP$7=$F139,$H139,\"\")","v":0},0,{"$f":"IF(DR$7=$F139,$H139,\"\")","v":0},0,{"$f":"IF(DT$7=$F139,$H139,\"\")","v":0},0,{"$f":"IF(DV$7=$F139,$H139,\"\")","v":0},0,{"$f":"IF(DX$7=$F139,$H139,\"\")","v":0},0,{"$f":"IF(DZ$7=$F139,$H139,\"\")","v":0},0,{"$f":"IF(EB$7=$F139,$H139,\"\")","v":0},0,{"$f":"IF(ED$7=$F139,$H139,\"\")","v":0},0,{"$f":"IF(EF$7=$F139,$H139,\"\")","v":0},0,{"$f":"IF(EH$7=$F139,$H139,\"\")","v":0},0,{"$f":"IF(EJ$7=$F139,$H139,\"\")","v":0},0,{"$f":"IF(EL$7=$F139,$H139,\"\")","v":0},0,{"$f":"IF(EN$7=$F139,$H139,\"\")","v":0},0,{"$f":"IF(EP$7=$F139,$H139,\"\")","v":0},0,{"$f":"IF(ER$7=$F139,$H139,\"\")","v":0},0,{"$f":"IF(ET$7=$F139,$H139,\"\")","v":0},0,{"$f":"IF(EV$7=$F139,$H139,\"\")","v":0},0,{"$f":"IF(EX$7=$F139,$H139,\"\")","v":0},0,{"$f":"IF(EZ$7=$F139,$H139,\"\")","v":0},0,{"$f":"IF(FB$7=$F139,$H139,\"\")","v":0},0,{"$f":"IF(FD$7=$F139,$H139,\"\")","v":0},0,{"$f":"IF(FF$7=$F139,$H139,\"\")","v":0},0,{"$f":"IF(FH$7=$F139,$H139,\"\")","v":0},0,{"$f":"IF(FJ$7=$F139,$H139,\"\")","v":0},0,{"$f":"IF(FL$7=$F139,$H139,\"\")","v":0},0,0]
[132,null,null,null,null,null,null,null,true,0,0,"","","",{"$f":"IF(N$7=$F140,$H140,\"\")","v":""},"",{"$f":"IF(P$7=$F140,$H140,\"\")","v":""},"",{"$f":"IF(R$7=$F140,$H140,\"\")","v":""},"",{"$f":"IF(T$7=$F140,$H140,\"\")","v":""},"",{"$f":"IF(V$7=$F140,$H140,\"\")","v":""},"",{"$f":"IF(X$7=$F140,$H140,\"\")","v":""},"",{"$f":"IF(Z$7=$F140,$H140,\"\")","v":""},"",{"$f":"IF(AB$7=$F140,$H140,\"\")","v":""},"",{"$f":"IF(AD$7=$F140,$H140,\"\")","v":""},"",{"$f":"IF(AF$7=$F140,$H140,\"\")","v":""},"",{"$f":"IF(AH$7=$F140,$H140,\"\")","v":""},"",{"$f":"IF(AJ$7=$F140,$H140,\"\")","v":""},"",{"$f":"IF(AL$7=$F140,$H140,\"\")","v":""},"",{"$f":"IF(AN$7=$F140,$H140,\"\")","v":""},"",{"$f":"IF(AP$7=$F140,$H140,\"\")","v":""},"",{"$f":"IF(AR$7=$F140,$H140,\"\")","v":""},"",{"$f":"IF(AT$7=$F140,$H140,\"\")","v":""},"",{"$f":"IF(AV$7=$F140,$H140,\"\")","v":""},"",{"$f":"IF(AX$7=$F140,$H140,\"\")","v":""},"",{"$f":"IF(AZ$7=$F140,$H140,\"\")","v":""},"",{"$f":"IF(BB$7=$F140,$H140,\"\")","v":""},"",{"$f":"IF(BD$7=$F140,$H140,\"\")","v":""},"",{"$f":"IF(BF$7=$F140,$H140,\"\")","v":""},"",{"$f":"IF(BH$7=$F140,$H140,\"\")","v":""},"",{"$f":"IF(BJ$7=$F140,$H140,\"\")","v":""},"",{"$f":"IF(BL$7=$F140,$H140,\"\")","v":""},"",{"$f":"IF(BN$7=$F140,$H140,\"\")","v":""},"",{"$f":"IF(BP$7=$F140,$H140,\"\")","v":""},"",{"$f":"IF(BR$7=$F140,$H140,\"\")","v":""},"",{"$f":"IF(BT$7=$F140,$H140,\"\")","v":""},"",{"$f":"IF(BV$7=$F140,$H140,\"\")","v":""},"",{"$f":"IF(BX$7=$F140,$H140,\"\")","v":""},"",{"$f":"IF(BZ$7=$F140,$H140,\"\")","v":""},"",{"$f":"IF(CB$7=$F140,$H140,\"\")","v":""},"",{"$f":"IF(CD$7=$F140,$H140,\"\")","v":""},"",{"$f":"IF(CF$7=$F140,$H140,\"\")","v":""},"",{"$f":"IF(CH$7=$F140,$H140,\"\")","v":""},"",{"$f":"IF(CJ$7=$F140,$H140,\"\")","v":""},"",{"$f":"IF(CL$7=$F140,$H140,\"\")","v":""},"",{"$f":"IF(CN$7=$F140,$H140,\"\")","v":""},"",{"$f":"IF(CP$7=$F140,$H140,\"\")","v":""},"",{"$f":"IF(CR$7=$F140,$H140,\"\")","v":""},"",{"$f":"IF(CT$7=$F140,$H140,\"\")","v":""},"",{"$f":"IF(CV$7=$F140,$H140,\"\")","v":""},"",{"$f":"IF(CX$7=$F140,$H140,\"\")","v":""},"",{"$f":"IF(CZ$7=$F140,$H140,\"\")","v":""},"",{"$f":"IF(DB$7=$F140,$H140,\"\")","v":""},"",{"$f":"IF(DD$7=$F140,$H140,\"\")","v":""},"",{"$f":"IF(DF$7=$F140,$H140,\"\")","v":""},0,{"$f":"IF(DH$7=$F140,$H140,\"\")","v":0},0,{"$f":"IF(DJ$7=$F140,$H140,\"\")","v":0},0,{"$f":"IF(DL$7=$F140,$H140,\"\")","v":0},0,{"$f":"IF(DN$7=$F140,$H140,\"\")","v":0},0,{"$f":"IF(DP$7=$F140,$H140,\"\")","v":0},0,{"$f":"IF(DR$7=$F140,$H140,\"\")","v":0},0,{"$f":"IF(DT$7=$F140,$H140,\"\")","v":0},0,{"$f":"IF(DV$7=$F140,$H140,\"\")","v":0},0,{"$f":"IF(DX$7=$F140,$H140,\"\")","v":0},0,{"$f":"IF(DZ$7=$F140,$H140,\"\")","v":0},0,{"$f":"IF(EB$7=$F140,$H140,\"\")","v":0},0,{"$f":"IF(ED$7=$F140,$H140,\"\")","v":0},0,{"$f":"IF(EF$7=$F140,$H140,\"\")","v":0},0,{"$f":"IF(EH$7=$F140,$H140,\"\")","v":0},0,{"$f":"IF(EJ$7=$F140,$H140,\"\")","v":0},0,{"$f":"IF(EL$7=$F140,$H140,\"\")","v":0},0,{"$f":"IF(EN$7=$F140,$H140,\"\")","v":0},0,{"$f":"IF(EP$7=$F140,$H140,\"\")","v":0},0,{"$f":"IF(ER$7=$F140,$H140,\"\")","v":0},0,{"$f":"IF(ET$7=$F140,$H140,\"\")","v":0},0,{"$f":"IF(EV$7=$F140,$H140,\"\")","v":0},0,{"$f":"IF(EX$7=$F140,$H140,\"\")","v":0},0,{"$f":"IF(EZ$7=$F140,$H140,\"\")","v":0},0,{"$f":"IF(FB$7=$F140,$H140,\"\")","v":0},0,{"$f":"IF(FD$7=$F140,$H140,\"\")","v":0},0,{"$f":"IF(FF$7=$F140,$H140,\"\")","v":0},0,{"$f":"IF(FH$7=$F140,$H140,\"\")","v":0},0,{"$f":"IF(FJ$7=$F140,$H140,\"\")","v":0},0,{"$f":"IF(FL$7=$F140,$H140,\"\")","v":0},0,0]
[133,null,null,null,null,null,null,null,true,0,0,"","","",{"$f":"IF(N$7=$F141,$H141,\"\")","v":""},"",{"$f":"IF(P$7=$F141,$H141,\"\")","v":""},"",{"$f":"IF(R$7=$F141,$H141,\"\")","v":""},"",{"$f":"IF(T$7=$F141,$H141,\"\")","v":""},"",{"$f":"IF(V$7=$F141,$H141,\"\")","v":""},"",{"$f":"IF(X$7=$F141,$H141,\"\")","v":""},"",{"$f":"IF(Z$7=$F141,$H141,\"\")","v":""},"",{"$f":"IF(AB$7=$F141,$H141,\"\")","v":""},"",{"$f":"IF(AD$7=$F141,$H141,\"\")","v":""},"",{"$f":"IF(AF$7=$F141,$H141,\"\")","v":""},"",{"$f":"IF(AH$7=$F141,$H141,\"\")","v":""},"",{"$f":"IF(AJ$7=$F141,$H141,\"\")","v":""},"",{"$f":"IF(AL$7=$F141,$H141,\"\")","v":""},"",{"$f":"IF(AN$7=$F141,$H141,\"\")","v":""},"",{"$f":"IF(AP$7=$F141,$H141,\"\")","v":""},"",{"$f":"IF(AR$7=$F141,$H141,\"\")","v":""},"",{"$f":"IF(AT$7=$F141,$H141,\"\")","v":""},"",{"$f":"IF(AV$7=$F141,$H141,\"\")","v":""},"",{"$f":"IF(AX$7=$F141,$H141,\"\")","v":""},"",{"$f":"IF(AZ$7=$F141,$H141,\"\")","v":""},"",{"$f":"IF(BB$7=$F141,$H141,\"\")","v":""},"",{"$f":"IF(BD$7=$F141,$H141,\"\")","v":""},"",{"$f":"IF(BF$7=$F141,$H141,\"\")","v":""},"",{"$f":"IF(BH$7=$F141,$H141,\"\")","v":""},"",{"$f":"IF(BJ$7=$F141,$H141,\"\")","v":""},"",{"$f":"IF(BL$7=$F141,$H141,\"\")","v":""},"",{"$f":"IF(BN$7=$F141,$H141,\"\")","v":""},"",{"$f":"IF(BP$7=$F141,$H141,\"\")","v":""},"",{"$f":"IF(BR$7=$F141,$H141,\"\")","v":""},"",{"$f":"IF(BT$7=$F141,$H141,\"\")","v":""},"",{"$f":"IF(BV$7=$F141,$H141,\"\")","v":""},"",{"$f":"IF(BX$7=$F141,$H141,\"\")","v":""},"",{"$f":"IF(BZ$7=$F141,$H141,\"\")","v":""},"",{"$f":"IF(CB$7=$F141,$H141,\"\")","v":""},"",{"$f":"IF(CD$7=$F141,$H141,\"\")","v":""},"",{"$f":"IF(CF$7=$F141,$H141,\"\")","v":""},"",{"$f":"IF(CH$7=$F141,$H141,\"\")","v":""},"",{"$f":"IF(CJ$7=$F141,$H141,\"\")","v":""},"",{"$f":"IF(CL$7=$F141,$H141,\"\")","v":""},"",{"$f":"IF(CN$7=$F141,$H141,\"\")","v":""},"",{"$f":"IF(CP$7=$F141,$H141,\"\")","v":""},"",{"$f":"IF(CR$7=$F141,$H141,\"\")","v":""},"",{"$f":"IF(CT$7=$F141,$H141,\"\")","v":""},"",{"$f":"IF(CV$7=$F141,$H141,\"\")","v":""},"",{"$f":"IF(CX$7=$F141,$H141,\"\")","v":""},"",{"$f":"IF(CZ$7=$F141,$H141,\"\")","v":""},"",{"$f":"IF(DB$7=$F141,$H141,\"\")","v":""},"",{"$f":"IF(DD$7=$F141,$H141,\"\")","v":""},"",{"$f":"IF(DF$7=$F141,$H141,\"\")","v":""},0,{"$f":"IF(DH$7=$F141,$H141,\"\")","v":0},0,{"$f":"IF(DJ$7=$F141,$H141,\"\")","v":0},0,{"$f":"IF(DL$7=$F141,$H141,\"\")","v":0},0,{"$f":"IF(DN$7=$F141,$H141,\"\")","v":0},0,{"$f":"IF(DP$7=$F141,$H141,\"\")","v":0},0,{"$f":"IF(DR$7=$F141,$H141,\"\")","v":0},0,{"$f":"IF(DT$7=$F141,$H141,\"\")","v":0},0,{"$f":"IF(DV$7=$F141,$H141,\"\")","v":0},0,{"$f":"IF(DX$7=$F141,$H141,\"\")","v":0},0,{"$f":"IF(DZ$7=$F141,$H141,\"\")","v":0},0,{"$f":"IF(EB$7=$F141,$H141,\"\")","v":0},0,{"$f":"IF(ED$7=$F141,$H141,\"\")","v":0},0,{"$f":"IF(EF$7=$F141,$H141,\"\")","v":0},0,{"$f":"IF(EH$7=$F141,$H141,\"\")","v":0},0,{"$f":"IF(EJ$7=$F141,$H141,\"\")","v":0},0,{"$f":"IF(EL$7=$F141,$H141,\"\")","v":0},0,{"$f":"IF(EN$7=$F141,$H141,\"\")","v":0},0,{"$f":"IF(EP$7=$F141,$H141,\"\")","v":0},0,{"$f":"IF(ER$7=$F141,$H141,\"\")","v":0},0,{"$f":"IF(ET$7=$F141,$H141,\"\")","v":0},0,{"$f":"IF(EV$7=$F141,$H141,\"\")","v":0},0,{"$f":"IF(EX$7=$F141,$H141,\"\")","v":0},0,{"$f":"IF(EZ$7=$F141,$H141,\"\")","v":0},0,{"$f":"IF(FB$7=$F141,$H141,\"\")","v":0},0,{"$f":"IF(FD$7=$F141,$H141,\"\")","v":0},0,{"$f":"IF(FF$7=$F141,$H141,\"\")","v":0},0,{"$f":"IF(FH$7=$F141,$H141,\"\")","v":0},0,{"$f":"IF(FJ$7=$F141,$H141,\"\")","v":0},0,{"$f":"IF(FL$7=$F141,$H141,\"\")","v":0},0,0]
[134,null,null,null,null,null,null,null,true,0,0,"","","",{"$f":"IF(N$7=$F142,$H142,\"\")","v":""},"",{"$f":"IF(P$7=$F142,$H142,\"\")","v":""},"",{"$f":"IF(R$7=$F142,$H142,\"\")","v":""},"",{"$f":"IF(T$7=$F142,$H142,\"\")","v":""},"",{"$f":"IF(V$7=$F142,$H142,\"\")","v":""},"",{"$f":"IF(X$7=$F142,$H142,\"\")","v":""},"",{"$f":"IF(Z$7=$F142,$H142,\"\")","v":""},"",{"$f":"IF(AB$7=$F142,$H142,\"\")","v":""},"",{"$f":"IF(AD$7=$F142,$H142,\"\")","v":""},"",{"$f":"IF(AF$7=$F142,$H142,\"\")","v":""},"",{"$f":"IF(AH$7=$F142,$H142,\"\")","v":""},"",{"$f":"IF(AJ$7=$F142,$H142,\"\")","v":""},"",{"$f":"IF(AL$7=$F142,$H142,\"\")","v":""},"",{"$f":"IF(AN$7=$F142,$H142,\"\")","v":""},"",{"$f":"IF(AP$7=$F142,$H142,\"\")","v":""},"",{"$f":"IF(AR$7=$F142,$H142,\"\")","v":""},"",{"$f":"IF(AT$7=$F142,$H142,\"\")","v":""},"",{"$f":"IF(AV$7=$F142,$H142,\"\")","v":""},"",{"$f":"IF(AX$7=$F142,$H142,\"\")","v":""},"",{"$f":"IF(AZ$7=$F142,$H142,\"\")","v":""},"",{"$f":"IF(BB$7=$F142,$H142,\"\")","v":""},"",{"$f":"IF(BD$7=$F142,$H142,\"\")","v":""},"",{"$f":"IF(BF$7=$F142,$H142,\"\")","v":""},"",{"$f":"IF(BH$7=$F142,$H142,\"\")","v":""},"",{"$f":"IF(BJ$7=$F142,$H142,\"\")","v":""},"",{"$f":"IF(BL$7=$F142,$H142,\"\")","v":""},"",{"$f":"IF(BN$7=$F142,$H142,\"\")","v":""},"",{"$f":"IF(BP$7=$F142,$H142,\"\")","v":""},"",{"$f":"IF(BR$7=$F142,$H142,\"\")","v":""},"",{"$f":"IF(BT$7=$F142,$H142,\"\")","v":""},"",{"$f":"IF(BV$7=$F142,$H142,\"\")","v":""},"",{"$f":"IF(BX$7=$F142,$H142,\"\")","v":""},"",{"$f":"IF(BZ$7=$F142,$H142,\"\")","v":""},"",{"$f":"IF(CB$7=$F142,$H142,\"\")","v":""},"",{"$f":"IF(CD$7=$F142,$H142,\"\")","v":""},"",{"$f":"IF(CF$7=$F142,$H142,\"\")","v":""},"",{"$f":"IF(CH$7=$F142,$H142,\"\")","v":""},"",{"$f":"IF(CJ$7=$F142,$H142,\"\")","v":""},"",{"$f":"IF(CL$7=$F142,$H142,\"\")","v":""},"",{"$f":"IF(CN$7=$F142,$H142,\"\")","v":""},"",{"$f":"IF(CP$7=$F142,$H142,\"\")","v":""},"",{"$f":"IF(CR$7=$F142,$H142,\"\")","v":""},"",{"$f":"IF(CT$7=$F142,$H142,\"\")","v":""},"",{"$f":"IF(CV$7=$F142,$H142,\"\")","v":""},"",{"$f":"IF(CX$7=$F142,$H142,\"\")","v":""},"",{"$f":"IF(CZ$7=$F142,$H142,\"\")","v":""},"",{"$f":"IF(DB$7=$F142,$H142,\"\")","v":""},"",{"$f":"IF(DD$7=$F142,$H142,\"\")","v":""},"",{"$f":"IF(DF$7=$F142,$H142,\"\")","v":""},0,{"$f":"IF(DH$7=$F142,$H142,\"\")","v":0},0,{"$f":"IF(DJ$7=$F142,$H142,\"\")","v":0},0,{"$f":"IF(DL$7=$F142,$H142,\"\")","v":0},0,{"$f":"IF(DN$7=$F142,$H142,\"\")","v":0},0,{"$f":"IF(DP$7=$F142,$H142,\"\")","v":0},0,{"$f":"IF(DR$7=$F142,$H142,\"\")","v":0},0,{"$f":"IF(DT$7=$F142,$H142,\"\")","v":0},0,{"$f":"IF(DV$7=$F142,$H142,\"\")","v":0},0,{"$f":"IF(DX$7=$F142,$H142,\"\")","v":0},0,{"$f":"IF(DZ$7=$F142,$H142,\"\")","v":0},0,{"$f":"IF(EB$7=$F142,$H142,\"\")","v":0},0,{"$f":"IF(ED$7=$F142,$H142,\"\")","v":0},0,{"$f":"IF(EF$7=$F142,$H142,\"\")","v":0},0,{"$f":"IF(EH$7=$F142,$H142,\"\")","v":0},0,{"$f":"IF(EJ$7=$F142,$H142,\"\")","v":0},0,{"$f":"IF(EL$7=$F142,$H142,\"\")","v":0},0,{"$f":"IF(EN$7=$F142,$H142,\"\")","v":0},0,{"$f":"IF(EP$7=$F142,$H142,\"\")","v":0},0,{"$f":"IF(ER$7=$F142,$H142,\"\")","v":0},0,{"$f":"IF(ET$7=$F142,$H142,\"\")","v":0},0,{"$f":"IF(EV$7=$F142,$H142,\"\")","v":0},0,{"$f":"IF(EX$7=$F142,$H142,\"\")","v":0},0,{"$f":"IF(EZ$7=$F142,$H142,\"\")","v":0},0,{"$f":"IF(FB$7=$F142,$H142,\"\")","v":0},0,{"$f":"IF(FD$7=$F142,$H142,\"\")","v":0},0,{"$f":"IF(FF$7=$F142,$H142,\"\")","v":0},0,{"$f":"IF(FH$7=$F142,$H142,\"\")","v":0},0,{"$f":"IF(FJ$7=$F142,$H142,\"\")","v":0},0,{"$f":"IF(FL$7=$F142,$H142,\"\")","v":0},0,0]
[135,null,null,null,null,null,null,null,true,0,0,"","","",{"$f":"IF(N$7=$F143,$H143,\"\")","v":""},"",{"$f":"IF(P$7=$F143,$H143,\"\")","v":""},"",{"$f":"IF(R$7=$F143,$H143,\"\")","v":""},"",{"$f":"IF(T$7=$F143,$H143,\"\")","v":""},"",{"$f":"IF(V$7=$F143,$H143,\"\")","v":""},"",{"$f":"IF(X$7=$F143,$H143,\"\")","v":""},"",{"$f":"IF(Z$7=$F143,$H143,\"\")","v":""},"",{"$f":"IF(AB$7=$F143,$H143,\"\")","v":""},"",{"$f":"IF(AD$7=$F143,$H143,\"\")","v":""},"",{"$f":"IF(AF$7=$F143,$H143,\"\")","v":""},"",{"$f":"IF(AH$7=$F143,$H143,\"\")","v":""},"",{"$f":"IF(AJ$7=$F143,$H143,\"\")","v":""},"",{"$f":"IF(AL$7=$F143,$H143,\"\")","v":""},"",{"$f":"IF(AN$7=$F143,$H143,\"\")","v":""},"",{"$f":"IF(AP$7=$F143,$H143,\"\")","v":""},"",{"$f":"IF(AR$7=$F143,$H143,\"\")","v":""},"",{"$f":"IF(AT$7=$F143,$H143,\"\")","v":""},"",{"$f":"IF(AV$7=$F143,$H143,\"\")","v":""},"",{"$f":"IF(AX$7=$F143,$H143,\"\")","v":""},"",{"$f":"IF(AZ$7=$F143,$H143,\"\")","v":""},"",{"$f":"IF(BB$7=$F143,$H143,\"\")","v":""},"",{"$f":"IF(BD$7=$F143,$H143,\"\")","v":""},"",{"$f":"IF(BF$7=$F143,$H143,\"\")","v":""},"",{"$f":"IF(BH$7=$F143,$H143,\"\")","v":""},"",{"$f":"IF(BJ$7=$F143,$H143,\"\")","v":""},"",{"$f":"IF(BL$7=$F143,$H143,\"\")","v":""},"",{"$f":"IF(BN$7=$F143,$H143,\"\")","v":""},"",{"$f":"IF(BP$7=$F143,$H143,\"\")","v":""},"",{"$f":"IF(BR$7=$F143,$H143,\"\")","v":""},"",{"$f":"IF(BT$7=$F143,$H143,\"\")","v":""},"",{"$f":"IF(BV$7=$F143,$H143,\"\")","v":""},"",{"$f":"IF(BX$7=$F143,$H143,\"\")","v":""},"",{"$f":"IF(BZ$7=$F143,$H143,\"\")","v":""},"",{"$f":"IF(CB$7=$F143,$H143,\"\")","v":""},"",{"$f":"IF(CD$7=$F143,$H143,\"\")","v":""},"",{"$f":"IF(CF$7=$F143,$H143,\"\")","v":""},"",{"$f":"IF(CH$7=$F143,$H143,\"\")","v":""},"",{"$f":"IF(CJ$7=$F143,$H143,\"\")","v":""},"",{"$f":"IF(CL$7=$F143,$H143,\"\")","v":""},"",{"$f":"IF(CN$7=$F143,$H143,\"\")","v":""},"",{"$f":"IF(CP$7=$F143,$H143,\"\")","v":""},"",{"$f":"IF(CR$7=$F143,$H143,\"\")","v":""},"",{"$f":"IF(CT$7=$F143,$H143,\"\")","v":""},"",{"$f":"IF(CV$7=$F143,$H143,\"\")","v":""},"",{"$f":"IF(CX$7=$F143,$H143,\"\")","v":""},"",{"$f":"IF(CZ$7=$F143,$H143,\"\")","v":""},"",{"$f":"IF(DB$7=$F143,$H143,\"\")","v":""},"",{"$f":"IF(DD$7=$F143,$H143,\"\")","v":""},"",{"$f":"IF(DF$7=$F143,$H143,\"\")","v":""},0,{"$f":"IF(DH$7=$F143,$H143,\"\")","v":0},0,{"$f":"IF(DJ$7=$F143,$H143,\"\")","v":0},0,{"$f":"IF(DL$7=$F143,$H143,\"\")","v":0},0,{"$f":"IF(DN$7=$F143,$H143,\"\")","v":0},0,{"$f":"IF(DP$7=$F143,$H143,\"\")","v":0},0,{"$f":"IF(DR$7=$F143,$H143,\"\")","v":0},0,{"$f":"IF(DT$7=$F143,$H143,\"\")","v":0},0,{"$f":"IF(DV$7=$F143,$H143,\"\")","v":0},0,{"$f":"IF(DX$7=$F143,$H143,\"\")","v":0},0,{"$f":"IF(DZ$7=$F143,$H143,\"\")","v":0},0,{"$f":"IF(EB$7=$F143,$H143,\"\")","v":0},0,{"$f":"IF(ED$7=$F143,$H143,\"\")","v":0},0,{"$f":"IF(EF$7=$F143,$H143,\"\")","v":0},0,{"$f":"IF(EH$7=$F143,$H143,\"\")","v":0},0,{"$f":"IF(EJ$7=$F143,$H143,\"\")","v":0},0,{"$f":"IF(EL$7=$F143,$H143,\"\")","v":0},0,{"$f":"IF(EN$7=$F143,$H143,\"\")","v":0},0,{"$f":"IF(EP$7=$F143,$H143,\"\")","v":0},0,{"$f":"IF(ER$7=$F143,$H143,\"\")","v":0},0,{"$f":"IF(ET$7=$F143,$H143,\"\")","v":0},0,{"$f":"IF(EV$7=$F143,$H143,\"\")","v":0},0,{"$f":"IF(EX$7=$F143,$H143,\"\")","v":0},0,{"$f":"IF(EZ$7=$F143,$H143,\"\")","v":0},0,{"$f":"IF(FB$7=$F143,$H143,\"\")","v":0},0,{"$f":"IF(FD$7=$F143,$H143,\"\")","v":0},0,{"$f":"IF(FF$7=$F143,$H143,\"\")","v":0},0,{"$f":"IF(FH$7=$F143,$H143,\"\")","v":0},0,{"$f":"IF(FJ$7=$F143,$H143,\"\")","v":0},0,{"$f":"IF(FL$7=$F143,$H143,\"\")","v":0},0,0]
[136,null,null,null,null,null,null,null,true,0,0,"","","",{"$f":"IF(N$7=$F144,$H144,\"\")","v":""},"",{"$f":"IF(P$7=$F144,$H144,\"\")","v":""},"",{"$f":"IF(R$7=$F144,$H144,\"\")","v":""},"",{"$f":"IF(T$7=$F144,$H144,\"\")","v":""},"",{"$f":"IF(V$7=$F144,$H144,\"\")","v":""},"",{"$f":"IF(X$7=$F144,$H144,\"\")","v":""},"",{"$f":"IF(Z$7=$F144,$H144,\"\")","v":""},"",{"$f":"IF(AB$7=$F144,$H144,\"\")","v":""},"",{"$f":"IF(AD$7=$F144,$H144,\"\")","v":""},"",{"$f":"IF(AF$7=$F144,$H144,\"\")","v":""},"",{"$f":"IF(AH$7=$F144,$H144,\"\")","v":""},"",{"$f":"IF(AJ$7=$F144,$H144,\"\")","v":""},"",{"$f":"IF(AL$7=$F144,$H144,\"\")","v":""},"",{"$f":"IF(AN$7=$F144,$H144,\"\")","v":""},"",{"$f":"IF(AP$7=$F144,$H144,\"\")","v":""},"",{"$f":"IF(AR$7=$F144,$H144,\"\")","v":""},"",{"$f":"IF(AT$7=$F144,$H144,\"\")","v":""},"",{"$f":"IF(AV$7=$F144,$H144,\"\")","v":""},"",{"$f":"IF(AX$7=$F144,$H144,\"\")","v":""},"",{"$f":"IF(AZ$7=$F144,$H144,\"\")","v":""},"",{"$f":"IF(BB$7=$F144,$H144,\"\")","v":""},"",{"$f":"IF(BD$7=$F144,$H144,\"\")","v":""},"",{"$f":"IF(BF$7=$F144,$H144,\"\")","v":""},"",{"$f":"IF(BH$7=$F144,$H144,\"\")","v":""},"",{"$f":"IF(BJ$7=$F144,$H144,\"\")","v":""},"",{"$f":"IF(BL$7=$F144,$H144,\"\")","v":""},"",{"$f":"IF(BN$7=$F144,$H144,\"\")","v":""},"",{"$f":"IF(BP$7=$F144,$H144,\"\")","v":""},"",{"$f":"IF(BR$7=$F144,$H144,\"\")","v":""},"",{"$f":"IF(BT$7=$F144,$H144,\"\")","v":""},"",{"$f":"IF(BV$7=$F144,$H144,\"\")","v":""},"",{"$f":"IF(BX$7=$F144,$H144,\"\")","v":""},"",{"$f":"IF(BZ$7=$F144,$H144,\"\")","v":""},"",{"$f":"IF(CB$7=$F144,$H144,\"\")","v":""},"",{"$f":"IF(CD$7=$F144,$H144,\"\")","v":""},"",{"$f":"IF(CF$7=$F144,$H144,\"\")","v":""},"",{"$f":"IF(CH$7=$F144,$H144,\"\")","v":""},"",{"$f":"IF(CJ$7=$F144,$H144,\"\")","v":""},"",{"$f":"IF(CL$7=$F144,$H144,\"\")","v":""},"",{"$f":"IF(CN$7=$F144,$H144,\"\")","v":""},"",{"$f":"IF(CP$7=$F144,$H144,\"\")","v":""},"",{"$f":"IF(CR$7=$F144,$H144,\"\")","v":""},"",{"$f":"IF(CT$7=$F144,$H144,\"\")","v":""},"",{"$f":"IF(CV$7=$F144,$H144,\"\")","v":""},"",{"$f":"IF(CX$7=$F144,$H144,\"\")","v":""},"",{"$f":"IF(CZ$7=$F144,$H144,\"\")","v":""},"",{"$f":"IF(DB$7=$F144,$H144,\"\")","v":""},"",{"$f":"IF(DD$7=$F144,$H144,\"\")","v":""},"",{"$f":"IF(DF$7=$F144,$H144,\"\")","v":""},0,{"$f":"IF(DH$7=$F144,$H144,\"\")","v":0},0,{"$f":"IF(DJ$7=$F144,$H144,\"\")","v":0},0,{"$f":"IF(DL$7=$F144,$H144,\"\")","v":0},0,{"$f":"IF(DN$7=$F144,$H144,\"\")","v":0},0,{"$f":"IF(DP$7=$F144,$H144,\"\")","v":0},0,{"$f":"IF(DR$7=$F144,$H144,\"\")","v":0},0,{"$f":"IF(DT$7=$F144,$H144,\"\")","v":0},0,{"$f":"IF(DV$7=$F144,$H144,\"\")","v":0},0,{"$f":"IF(DX$7=$F144,$H144,\"\")","v":0},0,{"$f":"IF(DZ$7=$F144,$H144,\"\")","v":0},0,{"$f":"IF(EB$7=$F144,$H144,\"\")","v":0},0,{"$f":"IF(ED$7=$F144,$H144,\"\")","v":0},0,{"$f":"IF(EF$7=$F144,$H144,\"\")","v":0},0,{"$f":"IF(EH$7=$F144,$H144,\"\")","v":0},0,{"$f":"IF(EJ$7=$F144,$H144,\"\")","v":0},0,{"$f":"IF(EL$7=$F144,$H144,\"\")","v":0},0,{"$f":"IF(EN$7=$F144,$H144,\"\")","v":0},0,{"$f":"IF(EP$7=$F144,$H144,\"\")","v":0},0,{"$f":"IF(ER$7=$F144,$H144,\"\")","v":0},0,{"$f":"IF(ET$7=$F144,$H144,\"\")","v":0},0,{"$f":"IF(EV$7=$F144,$H144,\"\")","v":0},0,{"$f":"IF(EX$7=$F144,$H144,\"\")","v":0},0,{"$f":"IF(EZ$7=$F144,$H144,\"\")","v":0},0,{"$f":"IF(FB$7=$F144,$H144,\"\")","v":0},0,{"$f":"IF(FD$7=$F144,$H144,\"\")","v":0},0,{"$f":"IF(FF$7=$F144,$H144,\"\")","v":0},0,{"$f":"IF(FH$7=$F144,$H144,\"\")","v":0},0,{"$f":"IF(FJ$7=$F144,$H144,\"\")","v":0},0,{"$f":"IF(FL$7=$F144,$H144,\"\")","v":0},0,0]
[137,null,null,null,null,null,null,null,true,0,0,"","","",{"$f":"IF(N$7=$F145,$H145,\"\")","v":""},"",{"$f":"IF(P$7=$F145,$H145,\"\")","v":""},"",{"$f":"IF(R$7=$F145,$H145,\"\")","v":""},"",{"$f":"IF(T$7=$F145,$H145,\"\")","v":""},"",{"$f":"IF(V$7=$F145,$H145,\"\")","v":""},"",{"$f":"IF(X$7=$F145,$H145,\"\")","v":""},"",{"$f":"IF(Z$7=$F145,$H145,\"\")","v":""},"",{"$f":"IF(AB$7=$F145,$H145,\"\")","v":""},"",{"$f":"IF(AD$7=$F145,$H145,\"\")","v":""},"",{"$f":"IF(AF$7=$F145,$H145,\"\")","v":""},"",{"$f":"IF(AH$7=$F145,$H145,\"\")","v":""},"",{"$f":"IF(AJ$7=$F145,$H145,\"\")","v":""},"",{"$f":"IF(AL$7=$F145,$H145,\"\")","v":""},"",{"$f":"IF(AN$7=$F145,$H145,\"\")","v":""},"",{"$f":"IF(AP$7=$F145,$H145,\"\")","v":""},"",{"$f":"IF(AR$7=$F145,$H145,\"\")","v":""},"",{"$f":"IF(AT$7=$F145,$H145,\"\")","v":""},"",{"$f":"IF(AV$7=$F145,$H145,\"\")","v":""},"",{"$f":"IF(AX$7=$F145,$H145,\"\")","v":""},"",{"$f":"IF(AZ$7=$F145,$H145,\"\")","v":""},"",{"$f":"IF(BB$7=$F145,$H145,\"\")","v":""},"",{"$f":"IF(BD$7=$F145,$H145,\"\")","v":""},"",{"$f":"IF(BF$7=$F145,$H145,\"\")","v":""},"",{"$f":"IF(BH$7=$F145,$H145,\"\")","v":""},"",{"$f":"IF(BJ$7=$F145,$H145,\"\")","v":""},"",{"$f":"IF(BL$7=$F145,$H145,\"\")","v":""},"",{"$f":"IF(BN$7=$F145,$H145,\"\")","v":""},"",{"$f":"IF(BP$7=$F145,$H145,\"\")","v":""},"",{"$f":"IF(BR$7=$F145,$H145,\"\")","v":""},"",{"$f":"IF(BT$7=$F145,$H145,\"\")","v":""},"",{"$f":"IF(BV$7=$F145,$H145,\"\")","v":""},"",{"$f":"IF(BX$7=$F145,$H145,\"\")","v":""},"",{"$f":"IF(BZ$7=$F145,$H145,\"\")","v":""},"",{"$f":"IF(CB$7=$F145,$H145,\"\")","v":""},"",{"$f":"IF(CD$7=$F145,$H145,\"\")","v":""},"",{"$f":"IF(CF$7=$F145,$H145,\"\")","v":""},"",{"$f":"IF(CH$7=$F145,$H145,\"\")","v":""},"",{"$f":"IF(CJ$7=$F145,$H145,\"\")","v":""},"",{"$f":"IF(CL$7=$F145,$H145,\"\")","v":""},"",{"$f":"IF(CN$7=$F145,$H145,\"\")","v":""},"",{"$f":"IF(CP$7=$F145,$H145,\"\")","v":""},"",{"$f":"IF(CR$7=$F145,$H145,\"\")","v":""},"",{"$f":"IF(CT$7=$F145,$H145,\"\")","v":""},"",{"$f":"IF(CV$7=$F145,$H145,\"\")","v":""},"",{"$f":"IF(CX$7=$F145,$H145,\"\")","v":""},"",{"$f":"IF(CZ$7=$F145,$H145,\"\")","v":""},"",{"$f":"IF(DB$7=$F145,$H145,\"\")","v":""},"",{"$f":"IF(DD$7=$F145,$H145,\"\")","v":""},"",{"$f":"IF(DF$7=$F145,$H145,\"\")","v":""},0,{"$f":"IF(DH$7=$F145,$H145,\"\")","v":0},0,{"$f":"IF(DJ$7=$F145,$H145,\"\")","v":0},0,{"$f":"IF(DL$7=$F145,$H145,\"\")","v":0},0,{"$f":"IF(DN$7=$F145,$H145,\"\")","v":0},0,{"$f":"IF(DP$7=$F145,$H145,\"\")","v":0},0,{"$f":"IF(DR$7=$F145,$H145,\"\")","v":0},0,{"$f":"IF(DT$7=$F145,$H145,\"\")","v":0},0,{"$f":"IF(DV$7=$F145,$H145,\"\")","v":0},0,{"$f":"IF(DX$7=$F145,$H145,\"\")","v":0},0,{"$f":"IF(DZ$7=$F145,$H145,\"\")","v":0},0,{"$f":"IF(EB$7=$F145,$H145,\"\")","v":0},0,{"$f":"IF(ED$7=$F145,$H145,\"\")","v":0},0,{"$f":"IF(EF$7=$F145,$H145,\"\")","v":0},0,{"$f":"IF(EH$7=$F145,$H145,\"\")","v":0},0,{"$f":"IF(EJ$7=$F145,$H145,\"\")","v":0},0,{"$f":"IF(EL$7=$F145,$H145,\"\")","v":0},0,{"$f":"IF(EN$7=$F145,$H145,\"\")","v":0},0,{"$f":"IF(EP$7=$F145,$H145,\"\")","v":0},0,{"$f":"IF(ER$7=$F145,$H145,\"\")","v":0},0,{"$f":"IF(ET$7=$F145,$H145,\"\")","v":0},0,{"$f":"IF(EV$7=$F145,$H145,\"\")","v":0},0,{"$f":"IF(EX$7=$F145,$H145,\"\")","v":0},0,{"$f":"IF(EZ$7=$F145,$H145,\"\")","v":0},0,{"$f":"IF(FB$7=$F145,$H145,\"\")","v":0},0,{"$f":"IF(FD$7=$F145,$H145,\"\")","v":0},0,{"$f":"IF(FF$7=$F145,$H145,\"\")","v":0},0,{"$f":"IF(FH$7=$F145,$H145,\"\")","v":0},0,{"$f":"IF(FJ$7=$F145,$H145,\"\")","v":0},0,{"$f":"IF(FL$7=$F145,$H145,\"\")","v":0},0,0]
[138,null,null,null,null,null,null,null,true,0,0,"","","",{"$f":"IF(N$7=$F146,$H146,\"\")","v":""},"",{"$f":"IF(P$7=$F146,$H146,\"\")","v":""},"",{"$f":"IF(R$7=$F146,$H146,\"\")","v":""},"",{"$f":"IF(T$7=$F146,$H146,\"\")","v":""},"",{"$f":"IF(V$7=$F146,$H146,\"\")","v":""},"",{"$f":"IF(X$7=$F146,$H146,\"\")","v":""},"",{"$f":"IF(Z$7=$F146,$H146,\"\")","v":""},"",{"$f":"IF(AB$7=$F146,$H146,\"\")","v":""},"",{"$f":"IF(AD$7=$F146,$H146,\"\")","v":""},"",{"$f":"IF(AF$7=$F146,$H146,\"\")","v":""},"",{"$f":"IF(AH$7=$F146,$H146,\"\")","v":""},"",{"$f":"IF(AJ$7=$F146,$H146,\"\")","v":""},"",{"$f":"IF(AL$7=$F146,$H146,\"\")","v":""},"",{"$f":"IF(AN$7=$F146,$H146,\"\")","v":""},"",{"$f":"IF(AP$7=$F146,$H146,\"\")","v":""},"",{"$f":"IF(AR$7=$F146,$H146,\"\")","v":""},"",{"$f":"IF(AT$7=$F146,$H146,\"\")","v":""},"",{"$f":"IF(AV$7=$F146,$H146,\"\")","v":""},"",{"$f":"IF(AX$7=$F146,$H146,\"\")","v":""},"",{"$f":"IF(AZ$7=$F146,$H146,\"\")","v":""},"",{"$f":"IF(BB$7=$F146,$H146,\"\")","v":""},"",{"$f":"IF(BD$7=$F146,$H146,\"\")","v":""},"",{"$f":"IF(BF$7=$F146,$H146,\"\")","v":""},"",{"$f":"IF(BH$7=$F146,$H146,\"\")","v":""},"",{"$f":"IF(BJ$7=$F146,$H146,\"\")","v":""},"",{"$f":"IF(BL$7=$F146,$H146,\"\")","v":""},"",{"$f":"IF(BN$7=$F146,$H146,\"\")","v":""},"",{"$f":"IF(BP$7=$F146,$H146,\"\")","v":""},"",{"$f":"IF(BR$7=$F146,$H146,\"\")","v":""},"",{"$f":"IF(BT$7=$F146,$H146,\"\")","v":""},"",{"$f":"IF(BV$7=$F146,$H146,\"\")","v":""},"",{"$f":"IF(BX$7=$F146,$H146,\"\")","v":""},"",{"$f":"IF(BZ$7=$F146,$H146,\"\")","v":""},"",{"$f":"IF(CB$7=$F146,$H146,\"\")","v":""},"",{"$f":"IF(CD$7=$F146,$H146,\"\")","v":""},"",{"$f":"IF(CF$7=$F146,$H146,\"\")","v":""},"",{"$f":"IF(CH$7=$F146,$H146,\"\")","v":""},"",{"$f":"IF(CJ$7=$F146,$H146,\"\")","v":""},"",{"$f":"IF(CL$7=$F146,$H146,\"\")","v":""},"",{"$f":"IF(CN$7=$F146,$H146,\"\")","v":""},"",{"$f":"IF(CP$7=$F146,$H146,\"\")","v":""},"",{"$f":"IF(CR$7=$F146,$H146,\"\")","v":""},"",{"$f":"IF(CT$7=$F146,$H146,\"\")","v":""},"",{"$f":"IF(CV$7=$F146,$H146,\"\")","v":""},"",{"$f":"IF(CX$7=$F146,$H146,\"\")","v":""},"",{"$f":"IF(CZ$7=$F146,$H146,\"\")","v":""},"",{"$f":"IF(DB$7=$F146,$H146,\"\")","v":""},"",{"$f":"IF(DD$7=$F146,$H146,\"\")","v":""},"",{"$f":"IF(DF$7=$F146,$H146,\"\")","v":""},0,{"$f":"IF(DH$7=$F146,$H146,\"\")","v":0},0,{"$f":"IF(DJ$7=$F146,$H146,\"\")","v":0},0,{"$f":"IF(DL$7=$F146,$H146,\"\")","v":0},0,{"$f":"IF(DN$7=$F146,$H146,\"\")","v":0},0,{"$f":"IF(DP$7=$F146,$H146,\"\")","v":0},0,{"$f":"IF(DR$7=$F146,$H146,\"\")","v":0},0,{"$f":"IF(DT$7=$F146,$H146,\"\")","v":0},0,{"$f":"IF(DV$7=$F146,$H146,\"\")","v":0},0,{"$f":"IF(DX$7=$F146,$H146,\"\")","v":0},0,{"$f":"IF(DZ$7=$F146,$H146,\"\")","v":0},0,{"$f":"IF(EB$7=$F146,$H146,\"\")","v":0},0,{"$f":"IF(ED$7=$F146,$H146,\"\")","v":0},0,{"$f":"IF(EF$7=$F146,$H146,\"\")","v":0},0,{"$f":"IF(EH$7=$F146,$H146,\"\")","v":0},0,{"$f":"IF(EJ$7=$F146,$H146,\"\")","v":0},0,{"$f":"IF(EL$7=$F146,$H146,\"\")","v":0},0,{"$f":"IF(EN$7=$F146,$H146,\"\")","v":0},0,{"$f":"IF(EP$7=$F146,$H146,\"\")","v":0},0,{"$f":"IF(ER$7=$F146,$H146,\"\")","v":0},0,{"$f":"IF(ET$7=$F146,$H146,\"\")","v":0},0,{"$f":"IF(EV$7=$F146,$H146,\"\")","v":0},0,{"$f":"IF(EX$7=$F146,$H146,\"\")","v":0},0,{"$f":"IF(EZ$7=$F146,$H146,\"\")","v":0},0,{"$f":"IF(FB$7=$F146,$H146,\"\")","v":0},0,{"$f":"IF(FD$7=$F146,$H146,\"\")","v":0},0,{"$f":"IF(FF$7=$F146,$H146,\"\")","v":0},0,{"$f":"IF(FH$7=$F146,$H146,\"\")","v":0},0,{"$f":"IF(FJ$7=$F146,$H146,\"\")","v":0},0,{"$f":"IF(FL$7=$F146,$H146,\"\")","v":0},0,0]
[139,null,null,null,null,null,null,null,true,0,0,"","","",{"$f":"IF(N$7=$F147,$H147,\"\")","v":""},"",{"$f":"IF(P$7=$F147,$H147,\"\")","v":""},"",{"$f":"IF(R$7=$F147,$H147,\"\")","v":""},"",{"$f":"IF(T$7=$F147,$H147,\"\")","v":""},"",{"$f":"IF(V$7=$F147,$H147,\"\")","v":""},"",{"$f":"IF(X$7=$F147,$H147,\"\")","v":""},"",{"$f":"IF(Z$7=$F147,$H147,\"\")","v":""},"",{"$f":"IF(AB$7=$F147,$H147,\"\")","v":""},"",{"$f":"IF(AD$7=$F147,$H147,\"\")","v":""},"",{"$f":"IF(AF$7=$F147,$H147,\"\")","v":""},"",{"$f":"IF(AH$7=$F147,$H147,\"\")","v":""},"",{"$f":"IF(AJ$7=$F147,$H147,\"\")","v":""},"",{"$f":"IF(AL$7=$F147,$H147,\"\")","v":""},"",{"$f":"IF(AN$7=$F147,$H147,\"\")","v":""},"",{"$f":"IF(AP$7=$F147,$H147,\"\")","v":""},"",{"$f":"IF(AR$7=$F147,$H147,\"\")","v":""},"",{"$f":"IF(AT$7=$F147,$H147,\"\")","v":""},"",{"$f":"IF(AV$7=$F147,$H147,\"\")","v":""},"",{"$f":"IF(AX$7=$F147,$H147,\"\")","v":""},"",{"$f":"IF(AZ$7=$F147,$H147,\"\")","v":""},"",{"$f":"IF(BB$7=$F147,$H147,\"\")","v":""},"",{"$f":"IF(BD$7=$F147,$H147,\"\")","v":""},"",{"$f":"IF(BF$7=$F147,$H147,\"\")","v":""},"",{"$f":"IF(BH$7=$F147,$H147,\"\")","v":""},"",{"$f":"IF(BJ$7=$F147,$H147,\"\")","v":""},"",{"$f":"IF(BL$7=$F147,$H147,\"\")","v":""},"",{"$f":"IF(BN$7=$F147,$H147,\"\")","v":""},"",{"$f":"IF(BP$7=$F147,$H147,\"\")","v":""},"",{"$f":"IF(BR$7=$F147,$H147,\"\")","v":""},"",{"$f":"IF(BT$7=$F147,$H147,\"\")","v":""},"",{"$f":"IF(BV$7=$F147,$H147,\"\")","v":""},"",{"$f":"IF(BX$7=$F147,$H147,\"\")","v":""},"",{"$f":"IF(BZ$7=$F147,$H147,\"\")","v":""},"",{"$f":"IF(CB$7=$F147,$H147,\"\")","v":""},"",{"$f":"IF(CD$7=$F147,$H147,\"\")","v":""},"",{"$f":"IF(CF$7=$F147,$H147,\"\")","v":""},"",{"$f":"IF(CH$7=$F147,$H147,\"\")","v":""},"",{"$f":"IF(CJ$7=$F147,$H147,\"\")","v":""},"",{"$f":"IF(CL$7=$F147,$H147,\"\")","v":""},"",{"$f":"IF(CN$7=$F147,$H147,\"\")","v":""},"",{"$f":"IF(CP$7=$F147,$H147,\"\")","v":""},"",{"$f":"IF(CR$7=$F147,$H147,\"\")","v":""},"",{"$f":"IF(CT$7=$F147,$H147,\"\")","v":""},"",{"$f":"IF(CV$7=$F147,$H147,\"\")","v":""},"",{"$f":"IF(CX$7=$F147,$H147,\"\")","v":""},"",{"$f":"IF(CZ$7=$F147,$H147,\"\")","v":""},"",{"$f":"IF(DB$7=$F147,$H147,\"\")","v":""},"",{"$f":"IF(DD$7=$F147,$H147,\"\")","v":""},"",{"$f":"IF(DF$7=$F147,$H147,\"\")","v":""},0,{"$f":"IF(DH$7=$F147,$H147,\"\")","v":0},0,{"$f":"IF(DJ$7=$F147,$H147,\"\")","v":0},0,{"$f":"IF(DL$7=$F147,$H147,\"\")","v":0},0,{"$f":"IF(DN$7=$F147,$H147,\"\")","v":0},0,{"$f":"IF(DP$7=$F147,$H147,\"\")","v":0},0,{"$f":"IF(DR$7=$F147,$H147,\"\")","v":0},0,{"$f":"IF(DT$7=$F147,$H147,\"\")","v":0},0,{"$f":"IF(DV$7=$F147,$H147,\"\")","v":0},0,{"$f":"IF(DX$7=$F147,$H147,\"\")","v":0},0,{"$f":"IF(DZ$7=$F147,$H147,\"\")","v":0},0,{"$f":"IF(EB$7=$F147,$H147,\"\")","v":0},0,{"$f":"IF(ED$7=$F147,$H147,\"\")","v":0},0,{"$f":"IF(EF$7=$F147,$H147,\"\")","v":0},0,{"$f":"IF(EH$7=$F147,$H147,\"\")","v":0},0,{"$f":"IF(EJ$7=$F147,$H147,\"\")","v":0},0,{"$f":"IF(EL$7=$F147,$H147,\"\")","v":0},0,{"$f":"IF(EN$7=$F147,$H147,\"\")","v":0},0,{"$f":"IF(EP$7=$F147,$H147,\"\")","v":0},0,{"$f":"IF(ER$7=$F147,$H147,\"\")","v":0},0,{"$f":"IF(ET$7=$F147,$H147,\"\")","v":0},0,{"$f":"IF(EV$7=$F147,$H147,\"\")","v":0},0,{"$f":"IF(EX$7=$F147,$H147,\"\")","v":0},0,{"$f":"IF(EZ$7=$F147,$H147,\"\")","v":0},0,{"$f":"IF(FB$7=$F147,$H147,\"\")","v":0},0,{"$f":"IF(FD$7=$F147,$H147,\"\")","v":0},0,{"$f":"IF(FF$7=$F147,$H147,\"\")","v":0},0,{"$f":"IF(FH$7=$F147,$H147,\"\")","v":0},0,{"$f":"IF(FJ$7=$F147,$H147,\"\")","v":0},0,{"$f":"IF(FL$7=$F147,$H147,\"\")","v":0},0,0]
[140,null,null,null,null,null,null,null,true,0,0,"","","",{"$f":"IF(N$7=$F148,$H148,\"\")","v":""},"",{"$f":"IF(P$7=$F148,$H148,\"\")","v":""},"",{"$f":"IF(R$7=$F148,$H148,\"\")","v":""},"",{"$f":"IF(T$7=$F148,$H148,\"\")","v":""},"",{"$f":"IF(V$7=$F148,$H148,\"\")","v":""},"",{"$f":"IF(X$7=$F148,$H148,\"\")","v":""},"",{"$f":"IF(Z$7=$F148,$H148,\"\")","v":""},"",{"$f":"IF(AB$7=$F148,$H148,\"\")","v":""},"",{"$f":"IF(AD$7=$F148,$H148,\"\")","v":""},"",{"$f":"IF(AF$7=$F148,$H148,\"\")","v":""},"",{"$f":"IF(AH$7=$F148,$H148,\"\")","v":""},"",{"$f":"IF(AJ$7=$F148,$H148,\"\")","v":""},"",{"$f":"IF(AL$7=$F148,$H148,\"\")","v":""},"",{"$f":"IF(AN$7=$F148,$H148,\"\")","v":""},"",{"$f":"IF(AP$7=$F148,$H148,\"\")","v":""},"",{"$f":"IF(AR$7=$F148,$H148,\"\")","v":""},"",{"$f":"IF(AT$7=$F148,$H148,\"\")","v":""},"",{"$f":"IF(AV$7=$F148,$H148,\"\")","v":""},"",{"$f":"IF(AX$7=$F148,$H148,\"\")","v":""},"",{"$f":"IF(AZ$7=$F148,$H148,\"\")","v":""},"",{"$f":"IF(BB$7=$F148,$H148,\"\")","v":""},"",{"$f":"IF(BD$7=$F148,$H148,\"\")","v":""},"",{"$f":"IF(BF$7=$F148,$H148,\"\")","v":""},"",{"$f":"IF(BH$7=$F148,$H148,\"\")","v":""},"",{"$f":"IF(BJ$7=$F148,$H148,\"\")","v":""},"",{"$f":"IF(BL$7=$F148,$H148,\"\")","v":""},"",{"$f":"IF(BN$7=$F148,$H148,\"\")","v":""},"",{"$f":"IF(BP$7=$F148,$H148,\"\")","v":""},"",{"$f":"IF(BR$7=$F148,$H148,\"\")","v":""},"",{"$f":"IF(BT$7=$F148,$H148,\"\")","v":""},"",{"$f":"IF(BV$7=$F148,$H148,\"\")","v":""},"",{"$f":"IF(BX$7=$F148,$H148,\"\")","v":""},"",{"$f":"IF(BZ$7=$F148,$H148,\"\")","v":""},"",{"$f":"IF(CB$7=$F148,$H148,\"\")","v":""},"",{"$f":"IF(CD$7=$F148,$H148,\"\")","v":""},"",{"$f":"IF(CF$7=$F148,$H148,\"\")","v":""},"",{"$f":"IF(CH$7=$F148,$H148,\"\")","v":""},"",{"$f":"IF(CJ$7=$F148,$H148,\"\")","v":""},"",{"$f":"IF(CL$7=$F148,$H148,\"\")","v":""},"",{"$f":"IF(CN$7=$F148,$H148,\"\")","v":""},"",{"$f":"IF(CP$7=$F148,$H148,\"\")","v":""},"",{"$f":"IF(CR$7=$F148,$H148,\"\")","v":""},"",{"$f":"IF(CT$7=$F148,$H148,\"\")","v":""},"",{"$f":"IF(CV$7=$F148,$H148,\"\")","v":""},"",{"$f":"IF(CX$7=$F148,$H148,\"\")","v":""},"",{"$f":"IF(CZ$7=$F148,$H148,\"\")","v":""},"",{"$f":"IF(DB$7=$F148,$H148,\"\")","v":""},"",{"$f":"IF(DD$7=$F148,$H148,\"\")","v":""},"",{"$f":"IF(DF$7=$F148,$H148,\"\")","v":""},0,{"$f":"IF(DH$7=$F148,$H148,\"\")","v":0},0,{"$f":"IF(DJ$7=$F148,$H148,\"\")","v":0},0,{"$f":"IF(DL$7=$F148,$H148,\"\")","v":0},0,{"$f":"IF(DN$7=$F148,$H148,\"\")","v":0},0,{"$f":"IF(DP$7=$F148,$H148,\"\")","v":0},0,{"$f":"IF(DR$7=$F148,$H148,\"\")","v":0},0,{"$f":"IF(DT$7=$F148,$H148,\"\")","v":0},0,{"$f":"IF(DV$7=$F148,$H148,\"\")","v":0},0,{"$f":"IF(DX$7=$F148,$H148,\"\")","v":0},0,{"$f":"IF(DZ$7=$F148,$H148,\"\")","v":0},0,{"$f":"IF(EB$7=$F148,$H148,\"\")","v":0},0,{"$f":"IF(ED$7=$F148,$H148,\"\")","v":0},0,{"$f":"IF(EF$7=$F148,$H148,\"\")","v":0},0,{"$f":"IF(EH$7=$F148,$H148,\"\")","v":0},0,{"$f":"IF(EJ$7=$F148,$H148,\"\")","v":0},0,{"$f":"IF(EL$7=$F148,$H148,\"\")","v":0},0,{"$f":"IF(EN$7=$F148,$H148,\"\")","v":0},0,{"$f":"IF(EP$7=$F148,$H148,\"\")","v":0},0,{"$f":"IF(ER$7=$F148,$H148,\"\")","v":0},0,{"$f":"IF(ET$7=$F148,$H148,\"\")","v":0},0,{"$f":"IF(EV$7=$F148,$H148,\"\")","v":0},0,{"$f":"IF(EX$7=$F148,$H148,\"\")","v":0},0,{"$f":"IF(EZ$7=$F148,$H148,\"\")","v":0},0,{"$f":"IF(FB$7=$F148,$H148,\"\")","v":0},0,{"$f":"IF(FD$7=$F148,$H148,\"\")","v":0},0,{"$f":"IF(FF$7=$F148,$H148,\"\")","v":0},0,{"$f":"IF(FH$7=$F148,$H148,\"\")","v":0},0,{"$f":"IF(FJ$7=$F148,$H148,\"\")","v":0},0,{"$f":"IF(FL$7=$F148,$H148,\"\")","v":0},0,0]
[141,null,null,null,null,null,null,null,true,0,0,"","","",{"$f":"IF(N$7=$F149,$H149,\"\")","v":""},"",{"$f":"IF(P$7=$F149,$H149,\"\")","v":""},"",{"$f":"IF(R$7=$F149,$H149,\"\")","v":""},"",{"$f":"IF(T$7=$F149,$H149,\"\")","v":""},"",{"$f":"IF(V$7=$F149,$H149,\"\")","v":""},"",{"$f":"IF(X$7=$F149,$H149,\"\")","v":""},"",{"$f":"IF(Z$7=$F149,$H149,\"\")","v":""},"",{"$f":"IF(AB$7=$F149,$H149,\"\")","v":""},"",{"$f":"IF(AD$7=$F149,$H149,\"\")","v":""},"",{"$f":"IF(AF$7=$F149,$H149,\"\")","v":""},"",{"$f":"IF(AH$7=$F149,$H149,\"\")","v":""},"",{"$f":"IF(AJ$7=$F149,$H149,\"\")","v":""},"",{"$f":"IF(AL$7=$F149,$H149,\"\")","v":""},"",{"$f":"IF(AN$7=$F149,$H149,\"\")","v":""},"",{"$f":"IF(AP$7=$F149,$H149,\"\")","v":""},"",{"$f":"IF(AR$7=$F149,$H149,\"\")","v":""},"",{"$f":"IF(AT$7=$F149,$H149,\"\")","v":""},"",{"$f":"IF(AV$7=$F149,$H149,\"\")","v":""},"",{"$f":"IF(AX$7=$F149,$H149,\"\")","v":""},"",{"$f":"IF(AZ$7=$F149,$H149,\"\")","v":""},"",{"$f":"IF(BB$7=$F149,$H149,\"\")","v":""},"",{"$f":"IF(BD$7=$F149,$H149,\"\")","v":""},"",{"$f":"IF(BF$7=$F149,$H149,\"\")","v":""},"",{"$f":"IF(BH$7=$F149,$H149,\"\")","v":""},"",{"$f":"IF(BJ$7=$F149,$H149,\"\")","v":""},"",{"$f":"IF(BL$7=$F149,$H149,\"\")","v":""},"",{"$f":"IF(BN$7=$F149,$H149,\"\")","v":""},"",{"$f":"IF(BP$7=$F149,$H149,\"\")","v":""},"",{"$f":"IF(BR$7=$F149,$H149,\"\")","v":""},"",{"$f":"IF(BT$7=$F149,$H149,\"\")","v":""},"",{"$f":"IF(BV$7=$F149,$H149,\"\")","v":""},"",{"$f":"IF(BX$7=$F149,$H149,\"\")","v":""},"",{"$f":"IF(BZ$7=$F149,$H149,\"\")","v":""},"",{"$f":"IF(CB$7=$F149,$H149,\"\")","v":""},"",{"$f":"IF(CD$7=$F149,$H149,\"\")","v":""},"",{"$f":"IF(CF$7=$F149,$H149,\"\")","v":""},"",{"$f":"IF(CH$7=$F149,$H149,\"\")","v":""},"",{"$f":"IF(CJ$7=$F149,$H149,\"\")","v":""},"",{"$f":"IF(CL$7=$F149,$H149,\"\")","v":""},"",{"$f":"IF(CN$7=$F149,$H149,\"\")","v":""},"",{"$f":"IF(CP$7=$F149,$H149,\"\")","v":""},"",{"$f":"IF(CR$7=$F149,$H149,\"\")","v":""},"",{"$f":"IF(CT$7=$F149,$H149,\"\")","v":""},"",{"$f":"IF(CV$7=$F149,$H149,\"\")","v":""},"",{"$f":"IF(CX$7=$F149,$H149,\"\")","v":""},"",{"$f":"IF(CZ$7=$F149,$H149,\"\")","v":""},"",{"$f":"IF(DB$7=$F149,$H149,\"\")","v":""},"",{"$f":"IF(DD$7=$F149,$H149,\"\")","v":""},"",{"$f":"IF(DF$7=$F149,$H149,\"\")","v":""},0,{"$f":"IF(DH$7=$F149,$H149,\"\")","v":0},0,{"$f":"IF(DJ$7=$F149,$H149,\"\")","v":0},0,{"$f":"IF(DL$7=$F149,$H149,\"\")","v":0},0,{"$f":"IF(DN$7=$F149,$H149,\"\")","v":0},0,{"$f":"IF(DP$7=$F149,$H149,\"\")","v":0},0,{"$f":"IF(DR$7=$F149,$H149,\"\")","v":0},0,{"$f":"IF(DT$7=$F149,$H149,\"\")","v":0},0,{"$f":"IF(DV$7=$F149,$H149,\"\")","v":0},0,{"$f":"IF(DX$7=$F149,$H149,\"\")","v":0},0,{"$f":"IF(DZ$7=$F149,$H149,\"\")","v":0},0,{"$f":"IF(EB$7=$F149,$H149,\"\")","v":0},0,{"$f":"IF(ED$7=$F149,$H149,\"\")","v":0},0,{"$f":"IF(EF$7=$F149,$H149,\"\")","v":0},0,{"$f":"IF(EH$7=$F149,$H149,\"\")","v":0},0,{"$f":"IF(EJ$7=$F149,$H149,\"\")","v":0},0,{"$f":"IF(EL$7=$F149,$H149,\"\")","v":0},0,{"$f":"IF(EN$7=$F149,$H149,\"\")","v":0},0,{"$f":"IF(EP$7=$F149,$H149,\"\")","v":0},0,{"$f":"IF(ER$7=$F149,$H149,\"\")","v":0},0,{"$f":"IF(ET$7=$F149,$H149,\"\")","v":0},0,{"$f":"IF(EV$7=$F149,$H149,\"\")","v":0},0,{"$f":"IF(EX$7=$F149,$H149,\"\")","v":0},0,{"$f":"IF(EZ$7=$F149,$H149,\"\")","v":0},0,{"$f":"IF(FB$7=$F149,$H149,\"\")","v":0},0,{"$f":"IF(FD$7=$F149,$H149,\"\")","v":0},0,{"$f":"IF(FF$7=$F149,$H149,\"\")","v":0},0,{"$f":"IF(FH$7=$F149,$H149,\"\")","v":0},0,{"$f":"IF(FJ$7=$F149,$H149,\"\")","v":0},0,{"$f":"IF(FL$7=$F149,$H149,\"\")","v":0},0,0]
[142,null,null,null,null,null,null,null,true,0,0,"","","",{"$f":"IF(N$7=$F150,$H150,\"\")","v":""},"",{"$f":"IF(P$7=$F150,$H150,\"\")","v":""},"",{"$f":"IF(R$7=$F150,$H150,\"\")","v":""},"",{"$f":"IF(T$7=$F150,$H150,\"\")","v":""},"",{"$f":"IF(V$7=$F150,$H150,\"\")","v":""},"",{"$f":"IF(X$7=$F150,$H150,\"\")","v":""},"",{"$f":"IF(Z$7=$F150,$H150,\"\")","v":""},"",{"$f":"IF(AB$7=$F150,$H150,\"\")","v":""},"",{"$f":"IF(AD$7=$F150,$H150,\"\")","v":""},"",{"$f":"IF(AF$7=$F150,$H150,\"\")","v":""},"",{"$f":"IF(AH$7=$F150,$H150,\"\")","v":""},"",{"$f":"IF(AJ$7=$F150,$H150,\"\")","v":""},"",{"$f":"IF(AL$7=$F150,$H150,\"\")","v":""},"",{"$f":"IF(AN$7=$F150,$H150,\"\")","v":""},"",{"$f":"IF(AP$7=$F150,$H150,\"\")","v":""},"",{"$f":"IF(AR$7=$F150,$H150,\"\")","v":""},"",{"$f":"IF(AT$7=$F150,$H150,\"\")","v":""},"",{"$f":"IF(AV$7=$F150,$H150,\"\")","v":""},"",{"$f":"IF(AX$7=$F150,$H150,\"\")","v":""},"",{"$f":"IF(AZ$7=$F150,$H150,\"\")","v":""},"",{"$f":"IF(BB$7=$F150,$H150,\"\")","v":""},"",{"$f":"IF(BD$7=$F150,$H150,\"\")","v":""},"",{"$f":"IF(BF$7=$F150,$H150,\"\")","v":""},"",{"$f":"IF(BH$7=$F150,$H150,\"\")","v":""},"",{"$f":"IF(BJ$7=$F150,$H150,\"\")","v":""},"",{"$f":"IF(BL$7=$F150,$H150,\"\")","v":""},"",{"$f":"IF(BN$7=$F150,$H150,\"\")","v":""},"",{"$f":"IF(BP$7=$F150,$H150,\"\")","v":""},"",{"$f":"IF(BR$7=$F150,$H150,\"\")","v":""},"",{"$f":"IF(BT$7=$F150,$H150,\"\")","v":""},"",{"$f":"IF(BV$7=$F150,$H150,\"\")","v":""},"",{"$f":"IF(BX$7=$F150,$H150,\"\")","v":""},"",{"$f":"IF(BZ$7=$F150,$H150,\"\")","v":""},"",{"$f":"IF(CB$7=$F150,$H150,\"\")","v":""},"",{"$f":"IF(CD$7=$F150,$H150,\"\")","v":""},"",{"$f":"IF(CF$7=$F150,$H150,\"\")","v":""},"",{"$f":"IF(CH$7=$F150,$H150,\"\")","v":""},"",{"$f":"IF(CJ$7=$F150,$H150,\"\")","v":""},"",{"$f":"IF(CL$7=$F150,$H150,\"\")","v":""},"",{"$f":"IF(CN$7=$F150,$H150,\"\")","v":""},"",{"$f":"IF(CP$7=$F150,$H150,\"\")","v":""},"",{"$f":"IF(CR$7=$F150,$H150,\"\")","v":""},"",{"$f":"IF(CT$7=$F150,$H150,\"\")","v":""},"",{"$f":"IF(CV$7=$F150,$H150,\"\")","v":""},"",{"$f":"IF(CX$7=$F150,$H150,\"\")","v":""},"",{"$f":"IF(CZ$7=$F150,$H150,\"\")","v":""},"",{"$f":"IF(DB$7=$F150,$H150,\"\")","v":""},"",{"$f":"IF(DD$7=$F150,$H150,\"\")","v":""},"",{"$f":"IF(DF$7=$F150,$H150,\"\")","v":""},0,{"$f":"IF(DH$7=$F150,$H150,\"\")","v":0},0,{"$f":"IF(DJ$7=$F150,$H150,\"\")","v":0},0,{"$f":"IF(DL$7=$F150,$H150,\"\")","v":0},0,{"$f":"IF(DN$7=$F150,$H150,\"\")","v":0},0,{"$f":"IF(DP$7=$F150,$H150,\"\")","v":0},0,{"$f":"IF(DR$7=$F150,$H150,\"\")","v":0},0,{"$f":"IF(DT$7=$F150,$H150,\"\")","v":0},0,{"$f":"IF(DV$7=$F150,$H150,\"\")","v":0},0,{"$f":"IF(DX$7=$F150,$H150,\"\")","v":0},0,{"$f":"IF(DZ$7=$F150,$H150,\"\")","v":0},0,{"$f":"IF(EB$7=$F150,$H150,\"\")","v":0},0,{"$f":"IF(ED$7=$F150,$H150,\"\")","v":0},0,{"$f":"IF(EF$7=$F150,$H150,\"\")","v":0},0,{"$f":"IF(EH$7=$F150,$H150,\"\")","v":0},0,{"$f":"IF(EJ$7=$F150,$H150,\"\")","v":0},0,{"$f":"IF(EL$7=$F150,$H150,\"\")","v":0},0,{"$f":"IF(EN$7=$F150,$H150,\"\")","v":0},0,{"$f":"IF(EP$7=$F150,$H150,\"\")","v":0},0,{"$f":"IF(ER$7=$F150,$H150,\"\")","v":0},0,{"$f":"IF(ET$7=$F150,$H150,\"\")","v":0},0,{"$f":"IF(EV$7=$F150,$H150,\"\")","v":0},0,{"$f":"IF(EX$7=$F150,$H150,\"\")","v":0},0,{"$f":"IF(EZ$7=$F150,$H150,\"\")","v":0},0,{"$f":"IF(FB$7=$F150,$H150,\"\")","v":0},0,{"$f":"IF(FD$7=$F150,$H150,\"\")","v":0},0,{"$f":"IF(FF$7=$F150,$H150,\"\")","v":0},0,{"$f":"IF(FH$7=$F150,$H150,\"\")","v":0},0,{"$f":"IF(FJ$7=$F150,$H150,\"\")","v":0},0,{"$f":"IF(FL$7=$F150,$H150,\"\")","v":0},0,0]
[143,null,null,null,null,null,null,null,true,0,0,"","","",{"$f":"IF(N$7=$F151,$H151,\"\")","v":""},"",{"$f":"IF(P$7=$F151,$H151,\"\")","v":""},"",{"$f":"IF(R$7=$F151,$H151,\"\")","v":""},"",{"$f":"IF(T$7=$F151,$H151,\"\")","v":""},"",{"$f":"IF(V$7=$F151,$H151,\"\")","v":""},"",{"$f":"IF(X$7=$F151,$H151,\"\")","v":""},"",{"$f":"IF(Z$7=$F151,$H151,\"\")","v":""},"",{"$f":"IF(AB$7=$F151,$H151,\"\")","v":""},"",{"$f":"IF(AD$7=$F151,$H151,\"\")","v":""},"",{"$f":"IF(AF$7=$F151,$H151,\"\")","v":""},"",{"$f":"IF(AH$7=$F151,$H151,\"\")","v":""},"",{"$f":"IF(AJ$7=$F151,$H151,\"\")","v":""},"",{"$f":"IF(AL$7=$F151,$H151,\"\")","v":""},"",{"$f":"IF(AN$7=$F151,$H151,\"\")","v":""},"",{"$f":"IF(AP$7=$F151,$H151,\"\")","v":""},"",{"$f":"IF(AR$7=$F151,$H151,\"\")","v":""},"",{"$f":"IF(AT$7=$F151,$H151,\"\")","v":""},"",{"$f":"IF(AV$7=$F151,$H151,\"\")","v":""},"",{"$f":"IF(AX$7=$F151,$H151,\"\")","v":""},"",{"$f":"IF(AZ$7=$F151,$H151,\"\")","v":""},"",{"$f":"IF(BB$7=$F151,$H151,\"\")","v":""},"",{"$f":"IF(BD$7=$F151,$H151,\"\")","v":""},"",{"$f":"IF(BF$7=$F151,$H151,\"\")","v":""},"",{"$f":"IF(BH$7=$F151,$H151,\"\")","v":""},"",{"$f":"IF(BJ$7=$F151,$H151,\"\")","v":""},"",{"$f":"IF(BL$7=$F151,$H151,\"\")","v":""},"",{"$f":"IF(BN$7=$F151,$H151,\"\")","v":""},"",{"$f":"IF(BP$7=$F151,$H151,\"\")","v":""},"",{"$f":"IF(BR$7=$F151,$H151,\"\")","v":""},"",{"$f":"IF(BT$7=$F151,$H151,\"\")","v":""},"",{"$f":"IF(BV$7=$F151,$H151,\"\")","v":""},"",{"$f":"IF(BX$7=$F151,$H151,\"\")","v":""},"",{"$f":"IF(BZ$7=$F151,$H151,\"\")","v":""},"",{"$f":"IF(CB$7=$F151,$H151,\"\")","v":""},"",{"$f":"IF(CD$7=$F151,$H151,\"\")","v":""},"",{"$f":"IF(CF$7=$F151,$H151,\"\")","v":""},"",{"$f":"IF(CH$7=$F151,$H151,\"\")","v":""},"",{"$f":"IF(CJ$7=$F151,$H151,\"\")","v":""},"",{"$f":"IF(CL$7=$F151,$H151,\"\")","v":""},"",{"$f":"IF(CN$7=$F151,$H151,\"\")","v":""},"",{"$f":"IF(CP$7=$F151,$H151,\"\")","v":""},"",{"$f":"IF(CR$7=$F151,$H151,\"\")","v":""},"",{"$f":"IF(CT$7=$F151,$H151,\"\")","v":""},"",{"$f":"IF(CV$7=$F151,$H151,\"\")","v":""},"",{"$f":"IF(CX$7=$F151,$H151,\"\")","v":""},"",{"$f":"IF(CZ$7=$F151,$H151,\"\")","v":""},"",{"$f":"IF(DB$7=$F151,$H151,\"\")","v":""},"",{"$f":"IF(DD$7=$F151,$H151,\"\")","v":""},"",{"$f":"IF(DF$7=$F151,$H151,\"\")","v":""},0,{"$f":"IF(DH$7=$F151,$H151,\"\")","v":0},0,{"$f":"IF(DJ$7=$F151,$H151,\"\")","v":0},0,{"$f":"IF(DL$7=$F151,$H151,\"\")","v":0},0,{"$f":"IF(DN$7=$F151,$H151,\"\")","v":0},0,{"$f":"IF(DP$7=$F151,$H151,\"\")","v":0},0,{"$f":"IF(DR$7=$F151,$H151,\"\")","v":0},0,{"$f":"IF(DT$7=$F151,$H151,\"\")","v":0},0,{"$f":"IF(DV$7=$F151,$H151,\"\")","v":0},0,{"$f":"IF(DX$7=$F151,$H151,\"\")","v":0},0,{"$f":"IF(DZ$7=$F151,$H151,\"\")","v":0},0,{"$f":"IF(EB$7=$F151,$H151,\"\")","v":0},0,{"$f":"IF(ED$7=$F151,$H151,\"\")","v":0},0,{"$f":"IF(EF$7=$F151,$H151,\"\")","v":0},0,{"$f":"IF(EH$7=$F151,$H151,\"\")","v":0},0,{"$f":"IF(EJ$7=$F151,$H151,\"\")","v":0},0,{"$f":"IF(EL$7=$F151,$H151,\"\")","v":0},0,{"$f":"IF(EN$7=$F151,$H151,\"\")","v":0},0,{"$f":"IF(EP$7=$F151,$H151,\"\")","v":0},0,{"$f":"IF(ER$7=$F151,$H151,\"\")","v":0},0,{"$f":"IF(ET$7=$F151,$H151,\"\")","v":0},0,{"$f":"IF(EV$7=$F151,$H151,\"\")","v":0},0,{"$f":"IF(EX$7=$F151,$H151,\"\")","v":0},0,{"$f":"IF(EZ$7=$F151,$H151,\"\")","v":0},0,{"$f":"IF(FB$7=$F151,$H151,\"\")","v":0},0,{"$f":"IF(FD$7=$F151,$H151,\"\")","v":0},0,{"$f":"IF(FF$7=$F151,$H151,\"\")","v":0},0,{"$f":"IF(FH$7=$F151,$H151,\"\")","v":0},0,{"$f":"IF(FJ$7=$F151,$H151,\"\")","v":0},0,{"$f":"IF(FL$7=$F151,$H151,\"\")","v":0},0,0]
[144,null,null,null,null,null,null,null,true,0,0,"","","",{"$f":"IF(N$7=$F152,$H152,\"\")","v":""},"",{"$f":"IF(P$7=$F152,$H152,\"\")","v":""},"",{"$f":"IF(R$7=$F152,$H152,\"\")","v":""},"",{"$f":"IF(T$7=$F152,$H152,\"\")","v":""},"",{"$f":"IF(V$7=$F152,$H152,\"\")","v":""},"",{"$f":"IF(X$7=$F152,$H152,\"\")","v":""},"",{"$f":"IF(Z$7=$F152,$H152,\"\")","v":""},"",{"$f":"IF(AB$7=$F152,$H152,\"\")","v":""},"",{"$f":"IF(AD$7=$F152,$H152,\"\")","v":""},"",{"$f":"IF(AF$7=$F152,$H152,\"\")","v":""},"",{"$f":"IF(AH$7=$F152,$H152,\"\")","v":""},"",{"$f":"IF(AJ$7=$F152,$H152,\"\")","v":""},"",{"$f":"IF(AL$7=$F152,$H152,\"\")","v":""},"",{"$f":"IF(AN$7=$F152,$H152,\"\")","v":""},"",{"$f":"IF(AP$7=$F152,$H152,\"\")","v":""},"",{"$f":"IF(AR$7=$F152,$H152,\"\")","v":""},"",{"$f":"IF(AT$7=$F152,$H152,\"\")","v":""},"",{"$f":"IF(AV$7=$F152,$H152,\"\")","v":""},"",{"$f":"IF(AX$7=$F152,$H152,\"\")","v":""},"",{"$f":"IF(AZ$7=$F152,$H152,\"\")","v":""},"",{"$f":"IF(BB$7=$F152,$H152,\"\")","v":""},"",{"$f":"IF(BD$7=$F152,$H152,\"\")","v":""},"",{"$f":"IF(BF$7=$F152,$H152,\"\")","v":""},"",{"$f":"IF(BH$7=$F152,$H152,\"\")","v":""},"",{"$f":"IF(BJ$7=$F152,$H152,\"\")","v":""},"",{"$f":"IF(BL$7=$F152,$H152,\"\")","v":""},"",{"$f":"IF(BN$7=$F152,$H152,\"\")","v":""},"",{"$f":"IF(BP$7=$F152,$H152,\"\")","v":""},"",{"$f":"IF(BR$7=$F152,$H152,\"\")","v":""},"",{"$f":"IF(BT$7=$F152,$H152,\"\")","v":""},"",{"$f":"IF(BV$7=$F152,$H152,\"\")","v":""},"",{"$f":"IF(BX$7=$F152,$H152,\"\")","v":""},"",{"$f":"IF(BZ$7=$F152,$H152,\"\")","v":""},"",{"$f":"IF(CB$7=$F152,$H152,\"\")","v":""},"",{"$f":"IF(CD$7=$F152,$H152,\"\")","v":""},"",{"$f":"IF(CF$7=$F152,$H152,\"\")","v":""},"",{"$f":"IF(CH$7=$F152,$H152,\"\")","v":""},"",{"$f":"IF(CJ$7=$F152,$H152,\"\")","v":""},"",{"$f":"IF(CL$7=$F152,$H152,\"\")","v":""},"",{"$f":"IF(CN$7=$F152,$H152,\"\")","v":""},"",{"$f":"IF(CP$7=$F152,$H152,\"\")","v":""},"",{"$f":"IF(CR$7=$F152,$H152,\"\")","v":""},"",{"$f":"IF(CT$7=$F152,$H152,\"\")","v":""},"",{"$f":"IF(CV$7=$F152,$H152,\"\")","v":""},"",{"$f":"IF(CX$7=$F152,$H152,\"\")","v":""},"",{"$f":"IF(CZ$7=$F152,$H152,\"\")","v":""},"",{"$f":"IF(DB$7=$F152,$H152,\"\")","v":""},"",{"$f":"IF(DD$7=$F152,$H152,\"\")","v":""},"",{"$f":"IF(DF$7=$F152,$H152,\"\")","v":""},0,{"$f":"IF(DH$7=$F152,$H152,\"\")","v":0},0,{"$f":"IF(DJ$7=$F152,$H152,\"\")","v":0},0,{"$f":"IF(DL$7=$F152,$H152,\"\")","v":0},0,{"$f":"IF(DN$7=$F152,$H152,\"\")","v":0},0,{"$f":"IF(DP$7=$F152,$H152,\"\")","v":0},0,{"$f":"IF(DR$7=$F152,$H152,\"\")","v":0},0,{"$f":"IF(DT$7=$F152,$H152,\"\")","v":0},0,{"$f":"IF(DV$7=$F152,$H152,\"\")","v":0},0,{"$f":"IF(DX$7=$F152,$H152,\"\")","v":0},0,{"$f":"IF(DZ$7=$F152,$H152,\"\")","v":0},0,{"$f":"IF(EB$7=$F152,$H152,\"\")","v":0},0,{"$f":"IF(ED$7=$F152,$H152,\"\")","v":0},0,{"$f":"IF(EF$7=$F152,$H152,\"\")","v":0},0,{"$f":"IF(EH$7=$F152,$H152,\"\")","v":0},0,{"$f":"IF(EJ$7=$F152,$H152,\"\")","v":0},0,{"$f":"IF(EL$7=$F152,$H152,\"\")","v":0},0,{"$f":"IF(EN$7=$F152,$H152,\"\")","v":0},0,{"$f":"IF(EP$7=$F152,$H152,\"\")","v":0},0,{"$f":"IF(ER$7=$F152,$H152,\"\")","v":0},0,{"$f":"IF(ET$7=$F152,$H152,\"\")","v":0},0,{"$f":"IF(EV$7=$F152,$H152,\"\")","v":0},0,{"$f":"IF(EX$7=$F152,$H152,\"\")","v":0},0,{"$f":"IF(EZ$7=$F152,$H152,\"\")","v":0},0,{"$f":"IF(FB$7=$F152,$H152,\"\")","v":0},0,{"$f":"IF(FD$7=$F152,$H152,\"\")","v":0},0,{"$f":"IF(FF$7=$F152,$H152,\"\")","v":0},0,{"$f":"IF(FH$7=$F152,$H152,\"\")","v":0},0,{"$f":"IF(FJ$7=$F152,$H152,\"\")","v":0},0,{"$f":"IF(FL$7=$F152,$H152,\"\")","v":0},0,0]
[145,null,null,null,null,null,null,null,true,0,0,"","",{"$f":"IF(N$7=$E153,$G153,\"\")","v":""},{"$f":"IF(N$7=$F153,$H153,\"\")","v":""},{"$f":"IF(P$7=$E153,$G153,\"\")","v":""},{"$f":"IF(P$7=$F153,$H153,\"\")","v":""},{"$f":"IF(R$7=$E153,$G153,\"\")","v":""},{"$f":"IF(R$7=$F153,$H153,\"\")","v":""},{"$f":"IF(T$7=$E153,$G153,\"\")","v":""},{"$f":"IF(T$7=$F153,$H153,\"\")","v":""},{"$f":"IF(V$7=$E153,$G153,\"\")","v":""},{"$f":"IF(V$7=$F153,$H153,\"\")","v":""},{"$f":"IF(X$7=$E153,$G153,\"\")","v":""},{"$f":"IF(X$7=$F153,$H153,\"\")","v":""},{"$f":"IF(Z$7=$E153,$G153,\"\")","v":""},{"$f":"IF(Z$7=$F153,$H153,\"\")","v":""},{"$f":"IF(AB$7=$E153,$G153,\"\")","v":""},{"$f":"IF(AB$7=$F153,$H153,\"\")","v":""},{"$f":"IF(AD$7=$E153,$G153,\"\")","v":""},{"$f":"IF(AD$7=$F153,$H153,\"\")","v":""},{"$f":"IF(AF$7=$E153,$G153,\"\")","v":""},{"$f":"IF(AF$7=$F153,$H153,\"\")","v":""},{"$f":"IF(AH$7=$E153,$G153,\"\")","v":""},{"$f":"IF(AH$7=$F153,$H153,\"\")","v":""},{"$f":"IF(AJ$7=$E153,$G153,\"\")","v":""},{"$f":"IF(AJ$7=$F153,$H153,\"\")","v":""},{"$f":"IF(AL$7=$E153,$G153,\"\")","v":""},{"$f":"IF(AL$7=$F153,$H153,\"\")","v":""},{"$f":"IF(AN$7=$E153,$G153,\"\")","v":""},{"$f":"IF(AN$7=$F153,$H153,\"\")","v":""},{"$f":"IF(AP$7=$E153,$G153,\"\")","v":""},{"$f":"IF(AP$7=$F153,$H153,\"\")","v":""},{"$f":"IF(AR$7=$E153,$G153,\"\")","v":""},{"$f":"IF(AR$7=$F153,$H153,\"\")","v":""},{"$f":"IF(AT$7=$E153,$G153,\"\")","v":""},{"$f":"IF(AT$7=$F153,$H153,\"\")","v":""},{"$f":"IF(AV$7=$E153,$G153,\"\")","v":""},{"$f":"IF(AV$7=$F153,$H153,\"\")","v":""},{"$f":"IF(AX$7=$E153,$G153,\"\")","v":""},{"$f":"IF(AX$7=$F153,$H153,\"\")","v":""},{"$f":"IF(AZ$7=$E153,$G153,\"\")","v":""},{"$f":"IF(AZ$7=$F153,$H153,\"\")","v":""},{"$f":"IF(BB$7=$E153,$G153,\"\")","v":""},{"$f":"IF(BB$7=$F153,$H153,\"\")","v":""},{"$f":"IF(BD$7=$E153,$G153,\"\")","v":""},{"$f":"IF(BD$7=$F153,$H153,\"\")","v":""},{"$f":"IF(BF$7=$E153,$G153,\"\")","v":""},{"$f":"IF(BF$7=$F153,$H153,\"\")","v":""},{"$f":"IF(BH$7=$E153,$G153,\"\")","v":""},{"$f":"IF(BH$7=$F153,$H153,\"\")","v":""},{"$f":"IF(BJ$7=$E153,$G153,\"\")","v":""},{"$f":"IF(BJ$7=$F153,$H153,\"\")","v":""},{"$f":"IF(BL$7=$E153,$G153,\"\")","v":""},{"$f":"IF(BL$7=$F153,$H153,\"\")","v":""},{"$f":"IF(BN$7=$E153,$G153,\"\")","v":""},{"$f":"IF(BN$7=$F153,$H153,\"\")","v":""},{"$f":"IF(BP$7=$E153,$G153,\"\")","v":""},{"$f":"IF(BP$7=$F153,$H153,\"\")","v":""},{"$f":"IF(BR$7=$E153,$G153,\"\")","v":""},{"$f":"IF(BR$7=$F153,$H153,\"\")","v":""},{"$f":"IF(BT$7=$E153,$G153,\"\")","v":""},{"$f":"IF(BT$7=$F153,$H153,\"\")","v":""},{"$f":"IF(BV$7=$E153,$G153,\"\")","v":""},{"$f":"IF(BV$7=$F153,$H153,\"\")","v":""},{"$f":"IF(BX$7=$E153,$G153,\"\")","v":""},{"$f":"IF(BX$7=$F153,$H153,\"\")","v":""},{"$f":"IF(BZ$7=$E153,$G153,\"\")","v":""},{"$f":"IF(BZ$7=$F153,$H153,\"\")","v":""},{"$f":"IF(CB$7=$E153,$G153,\"\")","v":""},{"$f":"IF(CB$7=$F153,$H153,\"\")","v":""},{"$f":"IF(CD$7=$E153,$G153,\"\")","v":""},{"$f":"IF(CD$7=$F153,$H153,\"\")","v":""},{"$f":"IF(CF$7=$E153,$G153,\"\")","v":""},{"$f":"IF(CF$7=$F153,$H153,\"\")","v":""},{"$f":"IF(CH$7=$E153,$G153,\"\")","v":""},{"$f":"IF(CH$7=$F153,$H153,\"\")","v":""},{"$f":"IF(CJ$7=$E153,$G153,\"\")","v":""},{"$f":"IF(CJ$7=$F153,$H153,\"\")","v":""},{"$f":"IF(CL$7=$E153,$G153,\"\")","v":""},{"$f":"IF(CL$7=$F153,$H153,\"\")","v":""},{"$f":"IF(CN$7=$E153,$G153,\"\")","v":""},{"$f":"IF(CN$7=$F153,$H153,\"\")","v":""},{"$f":"IF(CP$7=$E153,$G153,\"\")","v":""},{"$f":"IF(CP$7=$F153,$H153,\"\")","v":""},{"$f":"IF(CR$7=$E153,$G153,\"\")","v":""},{"$f":"IF(CR$7=$F153,$H153,\"\")","v":""},{"$f":"IF(CT$7=$E153,$G153,\"\")","v":""},{"$f":"IF(CT$7=$F153,$H153,\"\")","v":""},{"$f":"IF(CV$7=$E153,$G153,\"\")","v":""},{"$f":"IF(CV$7=$F153,$H153,\"\")","v":""},{"$f":"IF(CX$7=$E153,$G153,\"\")","v":""},{"$f":"IF(CX$7=$F153,$H153,\"\")","v":""},{"$f":"IF(CZ$7=$E153,$G153,\"\")","v":""},{"$f":"IF(CZ$7=$F153,$H153,\"\")","v":""},{"$f":"IF(DB$7=$E153,$G153,\"\")","v":""},{"$f":"IF(DB$7=$F153,$H153,\"\")","v":""},{"$f":"IF(DD$7=$E153,$G153,\"\")","v":""},{"$f":"IF(DD$7=$F153,$H153,\"\")","v":""},{"$f":"IF(DF$7=$E153,$G153,\"\")","v":""},{"$f":"IF(DF$7=$F153,$H153,\"\")","v":""},{"$f":"IF(DH$7=$E153,$G153,\"\")","v":0},{"$f":"IF(DH$7=$F153,$H153,\"\")","v":0},{"$f":"IF(DJ$7=$E153,$G153,\"\")","v":0},{"$f":"IF(DJ$7=$F153,$H153,\"\")","v":0},{"$f":"IF(DL$7=$E153,$G153,\"\")","v":0},{"$f":"IF(DL$7=$F153,$H153,\"\")","v":0},{"$f":"IF(DN$7=$E153,$G153,\"\")","v":0},{"$f":"IF(DN$7=$F153,$H153,\"\")","v":0},{"$f":"IF(DP$7=$E153,$G153,\"\")","v":0},{"$f":"IF(DP$7=$F153,$H153,\"\")","v":0},{"$f":"IF(DR$7=$E153,$G153,\"\")","v":0},{"$f":"IF(DR$7=$F153,$H153,\"\")","v":0},{"$f":"IF(DT$7=$E153,$G153,\"\")","v":0},{"$f":"IF(DT$7=$F153,$H153,\"\")","v":0},{"$f":"IF(DV$7=$E153,$G153,\"\")","v":0},{"$f":"IF(DV$7=$F153,$H153,\"\")","v":0},{"$f":"IF(DX$7=$E153,$G153,\"\")","v":0},{"$f":"IF(DX$7=$F153,$H153,\"\")","v":0},{"$f":"IF(DZ$7=$E153,$G153,\"\")","v":0},{"$f":"IF(DZ$7=$F153,$H153,\"\")","v":0},{"$f":"IF(EB$7=$E153,$G153,\"\")","v":0},{"$f":"IF(EB$7=$F153,$H153,\"\")","v":0},{"$f":"IF(ED$7=$E153,$G153,\"\")","v":0},{"$f":"IF(ED$7=$F153,$H153,\"\")","v":0},{"$f":"IF(EF$7=$E153,$G153,\"\")","v":0},{"$f":"IF(EF$7=$F153,$H153,\"\")","v":0},{"$f":"IF(EH$7=$E153,$G153,\"\")","v":0},{"$f":"IF(EH$7=$F153,$H153,\"\")","v":0},{"$f":"IF(EJ$7=$E153,$G153,\"\")","v":0},{"$f":"IF(EJ$7=$F153,$H153,\"\")","v":0},{"$f":"IF(EL$7=$E153,$G153,\"\")","v":0},{"$f":"IF(EL$7=$F153,$H153,\"\")","v":0},{"$f":"IF(EN$7=$E153,$G153,\"\")","v":0},{"$f":"IF(EN$7=$F153,$H153,\"\")","v":0},{"$f":"IF(EP$7=$E153,$G153,\"\")","v":0},{"$f":"IF(EP$7=$F153,$H153,\"\")","v":0},{"$f":"IF(ER$7=$E153,$G153,\"\")","v":0},{"$f":"IF(ER$7=$F153,$H153,\"\")","v":0},{"$f":"IF(ET$7=$E153,$G153,\"\")","v":0},{"$f":"IF(ET$7=$F153,$H153,\"\")","v":0},{"$f":"IF(EV$7=$E153,$G153,\"\")","v":0},{"$f":"IF(EV$7=$F153,$H153,\"\")","v":0},{"$f":"IF(EX$7=$E153,$G153,\"\")","v":0},{"$f":"IF(EX$7=$F153,$H153,\"\")","v":0},{"$f":"IF(EZ$7=$E153,$G153,\"\")","v":0},{"$f":"IF(EZ$7=$F153,$H153,\"\")","v":0},{"$f":"IF(FB$7=$E153,$G153,\"\")","v":0},{"$f":"IF(FB$7=$F153,$H153,\"\")","v":0},{"$f":"IF(FD$7=$E153,$G153,\"\")","v":0},{"$f":"IF(FD$7=$F153,$H153,\"\")","v":0},{"$f":"IF(FF$7=$E153,$G153,\"\")","v":0},{"$f":"IF(FF$7=$F153,$H153,\"\")","v":0},{"$f":"IF(FH$7=$E153,$G153,\"\")","v":0},{"$f":"IF(FH$7=$F153,$H153,\"\")","v":0},{"$f":"IF(FJ$7=$E153,$G153,\"\")","v":0},{"$f":"IF(FJ$7=$F153,$H153,\"\")","v":0},{"$f":"IF(FL$7=$E153,$G153,\"\")","v":0},{"$f":"IF(FL$7=$F153,$H153,\"\")","v":0},{"$f":"IF(FN$7=$E153,$G153,\"\")","v":0},0]
[146,null,null,null,null,null,null,null,true,0,0,"","","",{"$f":"IF(N$7=$F154,$H154,\"\")","v":""},"",{"$f":"IF(P$7=$F154,$H154,\"\")","v":""},"",{"$f":"IF(R$7=$F154,$H154,\"\")","v":""},"",{"$f":"IF(T$7=$F154,$H154,\"\")","v":""},"",{"$f":"IF(V$7=$F154,$H154,\"\")","v":""},"",{"$f":"IF(X$7=$F154,$H154,\"\")","v":""},"",{"$f":"IF(Z$7=$F154,$H154,\"\")","v":""},"",{"$f":"IF(AB$7=$F154,$H154,\"\")","v":""},"",{"$f":"IF(AD$7=$F154,$H154,\"\")","v":""},"",{"$f":"IF(AF$7=$F154,$H154,\"\")","v":""},"",{"$f":"IF(AH$7=$F154,$H154,\"\")","v":""},"",{"$f":"IF(AJ$7=$F154,$H154,\"\")","v":""},"",{"$f":"IF(AL$7=$F154,$H154,\"\")","v":""},"",{"$f":"IF(AN$7=$F154,$H154,\"\")","v":""},"",{"$f":"IF(AP$7=$F154,$H154,\"\")","v":""},"",{"$f":"IF(AR$7=$F154,$H154,\"\")","v":""},"",{"$f":"IF(AT$7=$F154,$H154,\"\")","v":""},"",{"$f":"IF(AV$7=$F154,$H154,\"\")","v":""},"",{"$f":"IF(AX$7=$F154,$H154,\"\")","v":""},"",{"$f":"IF(AZ$7=$F154,$H154,\"\")","v":""},"",{"$f":"IF(BB$7=$F154,$H154,\"\")","v":""},"",{"$f":"IF(BD$7=$F154,$H154,\"\")","v":""},"",{"$f":"IF(BF$7=$F154,$H154,\"\")","v":""},"",{"$f":"IF(BH$7=$F154,$H154,\"\")","v":""},"",{"$f":"IF(BJ$7=$F154,$H154,\"\")","v":""},"",{"$f":"IF(BL$7=$F154,$H154,\"\")","v":""},"",{"$f":"IF(BN$7=$F154,$H154,\"\")","v":""},"",{"$f":"IF(BP$7=$F154,$H154,\"\")","v":""},"",{"$f":"IF(BR$7=$F154,$H154,\"\")","v":""},"",{"$f":"IF(BT$7=$F154,$H154,\"\")","v":""},"",{"$f":"IF(BV$7=$F154,$H154,\"\")","v":""},"",{"$f":"IF(BX$7=$F154,$H154,\"\")","v":""},"",{"$f":"IF(BZ$7=$F154,$H154,\"\")","v":""},"",{"$f":"IF(CB$7=$F154,$H154,\"\")","v":""},"",{"$f":"IF(CD$7=$F154,$H154,\"\")","v":""},"",{"$f":"IF(CF$7=$F154,$H154,\"\")","v":""},"",{"$f":"IF(CH$7=$F154,$H154,\"\")","v":""},"",{"$f":"IF(CJ$7=$F154,$H154,\"\")","v":""},"",{"$f":"IF(CL$7=$F154,$H154,\"\")","v":""},"",{"$f":"IF(CN$7=$F154,$H154,\"\")","v":""},"",{"$f":"IF(CP$7=$F154,$H154,\"\")","v":""},"",{"$f":"IF(CR$7=$F154,$H154,\"\")","v":""},"",{"$f":"IF(CT$7=$F154,$H154,\"\")","v":""},"",{"$f":"IF(CV$7=$F154,$H154,\"\")","v":""},"",{"$f":"IF(CX$7=$F154,$H154,\"\")","v":""},"",{"$f":"IF(CZ$7=$F154,$H154,\"\")","v":""},"",{"$f":"IF(DB$7=$F154,$H154,\"\")","v":""},"",{"$f":"IF(DD$7=$F154,$H154,\"\")","v":""},"",{"$f":"IF(DF$7=$F154,$H154,\"\")","v":""},0,{"$f":"IF(DH$7=$F154,$H154,\"\")","v":0},0,{"$f":"IF(DJ$7=$F154,$H154,\"\")","v":0},0,{"$f":"IF(DL$7=$F154,$H154,\"\")","v":0},0,{"$f":"IF(DN$7=$F154,$H154,\"\")","v":0},0,{"$f":"IF(DP$7=$F154,$H154,\"\")","v":0},0,{"$f":"IF(DR$7=$F154,$H154,\"\")","v":0},0,{"$f":"IF(DT$7=$F154,$H154,\"\")","v":0},0,{"$f":"IF(DV$7=$F154,$H154,\"\")","v":0},0,{"$f":"IF(DX$7=$F154,$H154,\"\")","v":0},0,{"$f":"IF(DZ$7=$F154,$H154,\"\")","v":0},0,{"$f":"IF(EB$7=$F154,$H154,\"\")","v":0},0,{"$f":"IF(ED$7=$F154,$H154,\"\")","v":0},0,{"$f":"IF(EF$7=$F154,$H154,\"\")","v":0},0,{"$f":"IF(EH$7=$F154,$H154,\"\")","v":0},0,{"$f":"IF(EJ$7=$F154,$H154,\"\")","v":0},0,{"$f":"IF(EL$7=$F154,$H154,\"\")","v":0},0,{"$f":"IF(EN$7=$F154,$H154,\"\")","v":0},0,{"$f":"IF(EP$7=$F154,$H154,\"\")","v":0},0,{"$f":"IF(ER$7=$F154,$H154,\"\")","v":0},0,{"$f":"IF(ET$7=$F154,$H154,\"\")","v":0},0,{"$f":"IF(EV$7=$F154,$H154,\"\")","v":0},0,{"$f":"IF(EX$7=$F154,$H154,\"\")","v":0},0,{"$f":"IF(EZ$7=$F154,$H154,\"\")","v":0},0,{"$f":"IF(FB$7=$F154,$H154,\"\")","v":0},0,{"$f":"IF(FD$7=$F154,$H154,\"\")","v":0},0,{"$f":"IF(FF$7=$F154,$H154,\"\")","v":0},0,{"$f":"IF(FH$7=$F154,$H154,\"\")","v":0},0,{"$f":"IF(FJ$7=$F154,$H154,\"\")","v":0},0,{"$f":"IF(FL$7=$F154,$H154,\"\")","v":0},0,0]
[147,null,null,null,null,null,null,null,true,0,0,"","","",{"$f":"IF(N$7=$F155,$H155,\"\")","v":""},"",{"$f":"IF(P$7=$F155,$H155,\"\")","v":""},"",{"$f":"IF(R$7=$F155,$H155,\"\")","v":""},"",{"$f":"IF(T$7=$F155,$H155,\"\")","v":""},"",{"$f":"IF(V$7=$F155,$H155,\"\")","v":""},"",{"$f":"IF(X$7=$F155,$H155,\"\")","v":""},"",{"$f":"IF(Z$7=$F155,$H155,\"\")","v":""},"",{"$f":"IF(AB$7=$F155,$H155,\"\")","v":""},"",{"$f":"IF(AD$7=$F155,$H155,\"\")","v":""},"",{"$f":"IF(AF$7=$F155,$H155,\"\")","v":""},"",{"$f":"IF(AH$7=$F155,$H155,\"\")","v":""},"",{"$f":"IF(AJ$7=$F155,$H155,\"\")","v":""},"",{"$f":"IF(AL$7=$F155,$H155,\"\")","v":""},"",{"$f":"IF(AN$7=$F155,$H155,\"\")","v":""},"",{"$f":"IF(AP$7=$F155,$H155,\"\")","v":""},"",{"$f":"IF(AR$7=$F155,$H155,\"\")","v":""},"",{"$f":"IF(AT$7=$F155,$H155,\"\")","v":""},"",{"$f":"IF(AV$7=$F155,$H155,\"\")","v":""},"",{"$f":"IF(AX$7=$F155,$H155,\"\")","v":""},"",{"$f":"IF(AZ$7=$F155,$H155,\"\")","v":""},"",{"$f":"IF(BB$7=$F155,$H155,\"\")","v":""},"",{"$f":"IF(BD$7=$F155,$H155,\"\")","v":""},"",{"$f":"IF(BF$7=$F155,$H155,\"\")","v":""},"",{"$f":"IF(BH$7=$F155,$H155,\"\")","v":""},"",{"$f":"IF(BJ$7=$F155,$H155,\"\")","v":""},"",{"$f":"IF(BL$7=$F155,$H155,\"\")","v":""},"",{"$f":"IF(BN$7=$F155,$H155,\"\")","v":""},"",{"$f":"IF(BP$7=$F155,$H155,\"\")","v":""},"",{"$f":"IF(BR$7=$F155,$H155,\"\")","v":""},"",{"$f":"IF(BT$7=$F155,$H155,\"\")","v":""},"",{"$f":"IF(BV$7=$F155,$H155,\"\")","v":""},"",{"$f":"IF(BX$7=$F155,$H155,\"\")","v":""},"",{"$f":"IF(BZ$7=$F155,$H155,\"\")","v":""},"",{"$f":"IF(CB$7=$F155,$H155,\"\")","v":""},"",{"$f":"IF(CD$7=$F155,$H155,\"\")","v":""},"",{"$f":"IF(CF$7=$F155,$H155,\"\")","v":""},"",{"$f":"IF(CH$7=$F155,$H155,\"\")","v":""},"",{"$f":"IF(CJ$7=$F155,$H155,\"\")","v":""},"",{"$f":"IF(CL$7=$F155,$H155,\"\")","v":""},"",{"$f":"IF(CN$7=$F155,$H155,\"\")","v":""},"",{"$f":"IF(CP$7=$F155,$H155,\"\")","v":""},"",{"$f":"IF(CR$7=$F155,$H155,\"\")","v":""},"",{"$f":"IF(CT$7=$F155,$H155,\"\")","v":""},"",{"$f":"IF(CV$7=$F155,$H155,\"\")","v":""},"",{"$f":"IF(CX$7=$F155,$H155,\"\")","v":""},"",{"$f":"IF(CZ$7=$F155,$H155,\"\")","v":""},"",{"$f":"IF(DB$7=$F155,$H155,\"\")","v":""},"",{"$f":"IF(DD$7=$F155,$H155,\"\")","v":""},"",{"$f":"IF(DF$7=$F155,$H155,\"\")","v":""},0,{"$f":"IF(DH$7=$F155,$H155,\"\")","v":0},0,{"$f":"IF(DJ$7=$F155,$H155,\"\")","v":0},0,{"$f":"IF(DL$7=$F155,$H155,\"\")","v":0},0,{"$f":"IF(DN$7=$F155,$H155,\"\")","v":0},0,{"$f":"IF(DP$7=$F155,$H155,\"\")","v":0},0,{"$f":"IF(DR$7=$F155,$H155,\"\")","v":0},0,{"$f":"IF(DT$7=$F155,$H155,\"\")","v":0},0,{"$f":"IF(DV$7=$F155,$H155,\"\")","v":0},0,{"$f":"IF(DX$7=$F155,$H155,\"\")","v":0},0,{"$f":"IF(DZ$7=$F155,$H155,\"\")","v":0},0,{"$f":"IF(EB$7=$F155,$H155,\"\")","v":0},0,{"$f":"IF(ED$7=$F155,$H155,\"\")","v":0},0,{"$f":"IF(EF$7=$F155,$H155,\"\")","v":0},0,{"$f":"IF(EH$7=$F155,$H155,\"\")","v":0},0,{"$f":"IF(EJ$7=$F155,$H155,\"\")","v":0},0,{"$f":"IF(EL$7=$F155,$H155,\"\")","v":0},0,{"$f":"IF(EN$7=$F155,$H155,\"\")","v":0},0,{"$f":"IF(EP$7=$F155,$H155,\"\")","v":0},0,{"$f":"IF(ER$7=$F155,$H155,\"\")","v":0},0,{"$f":"IF(ET$7=$F155,$H155,\"\")","v":0},0,{"$f":"IF(EV$7=$F155,$H155,\"\")","v":0},0,{"$f":"IF(EX$7=$F155,$H155,\"\")","v":0},0,{"$f":"IF(EZ$7=$F155,$H155,\"\")","v":0},0,{"$f":"IF(FB$7=$F155,$H155,\"\")","v":0},0,{"$f":"IF(FD$7=$F155,$H155,\"\")","v":0},0,{"$f":"IF(FF$7=$F155,$H155,\"\")","v":0},0,{"$f":"IF(FH$7=$F155,$H155,\"\")","v":0},0,{"$f":"IF(FJ$7=$F155,$H155,\"\")","v":0},0,{"$f":"IF(FL$7=$F155,$H155,\"\")","v":0},0,0]
[148,null,null,null,null,null,null,null,true,0,0,"","","",{"$f":"IF(N$7=$F156,$H156,\"\")","v":""},"",{"$f":"IF(P$7=$F156,$H156,\"\")","v":""},"",{"$f":"IF(R$7=$F156,$H156,\"\")","v":""},"",{"$f":"IF(T$7=$F156,$H156,\"\")","v":""},"",{"$f":"IF(V$7=$F156,$H156,\"\")","v":""},"",{"$f":"IF(X$7=$F156,$H156,\"\")","v":""},"",{"$f":"IF(Z$7=$F156,$H156,\"\")","v":""},"",{"$f":"IF(AB$7=$F156,$H156,\"\")","v":""},"",{"$f":"IF(AD$7=$F156,$H156,\"\")","v":""},"",{"$f":"IF(AF$7=$F156,$H156,\"\")","v":""},"",{"$f":"IF(AH$7=$F156,$H156,\"\")","v":""},"",{"$f":"IF(AJ$7=$F156,$H156,\"\")","v":""},"",{"$f":"IF(AL$7=$F156,$H156,\"\")","v":""},"",{"$f":"IF(AN$7=$F156,$H156,\"\")","v":""},"",{"$f":"IF(AP$7=$F156,$H156,\"\")","v":""},"",{"$f":"IF(AR$7=$F156,$H156,\"\")","v":""},"",{"$f":"IF(AT$7=$F156,$H156,\"\")","v":""},"",{"$f":"IF(AV$7=$F156,$H156,\"\")","v":""},"",{"$f":"IF(AX$7=$F156,$H156,\"\")","v":""},"",{"$f":"IF(AZ$7=$F156,$H156,\"\")","v":""},"",{"$f":"IF(BB$7=$F156,$H156,\"\")","v":""},"",{"$f":"IF(BD$7=$F156,$H156,\"\")","v":""},"",{"$f":"IF(BF$7=$F156,$H156,\"\")","v":""},"",{"$f":"IF(BH$7=$F156,$H156,\"\")","v":""},"",{"$f":"IF(BJ$7=$F156,$H156,\"\")","v":""},"",{"$f":"IF(BL$7=$F156,$H156,\"\")","v":""},"",{"$f":"IF(BN$7=$F156,$H156,\"\")","v":""},"",{"$f":"IF(BP$7=$F156,$H156,\"\")","v":""},"",{"$f":"IF(BR$7=$F156,$H156,\"\")","v":""},"",{"$f":"IF(BT$7=$F156,$H156,\"\")","v":""},"",{"$f":"IF(BV$7=$F156,$H156,\"\")","v":""},"",{"$f":"IF(BX$7=$F156,$H156,\"\")","v":""},"",{"$f":"IF(BZ$7=$F156,$H156,\"\")","v":""},"",{"$f":"IF(CB$7=$F156,$H156,\"\")","v":""},"",{"$f":"IF(CD$7=$F156,$H156,\"\")","v":""},"",{"$f":"IF(CF$7=$F156,$H156,\"\")","v":""},"",{"$f":"IF(CH$7=$F156,$H156,\"\")","v":""},"",{"$f":"IF(CJ$7=$F156,$H156,\"\")","v":""},"",{"$f":"IF(CL$7=$F156,$H156,\"\")","v":""},"",{"$f":"IF(CN$7=$F156,$H156,\"\")","v":""},"",{"$f":"IF(CP$7=$F156,$H156,\"\")","v":""},"",{"$f":"IF(CR$7=$F156,$H156,\"\")","v":""},"",{"$f":"IF(CT$7=$F156,$H156,\"\")","v":""},"",{"$f":"IF(CV$7=$F156,$H156,\"\")","v":""},"",{"$f":"IF(CX$7=$F156,$H156,\"\")","v":""},"",{"$f":"IF(CZ$7=$F156,$H156,\"\")","v":""},"",{"$f":"IF(DB$7=$F156,$H156,\"\")","v":""},"",{"$f":"IF(DD$7=$F156,$H156,\"\")","v":""},"",{"$f":"IF(DF$7=$F156,$H156,\"\")","v":""},0,{"$f":"IF(DH$7=$F156,$H156,\"\")","v":0},0,{"$f":"IF(DJ$7=$F156,$H156,\"\")","v":0},0,{"$f":"IF(DL$7=$F156,$H156,\"\")","v":0},0,{"$f":"IF(DN$7=$F156,$H156,\"\")","v":0},0,{"$f":"IF(DP$7=$F156,$H156,\"\")","v":0},0,{"$f":"IF(DR$7=$F156,$H156,\"\")","v":0},0,{"$f":"IF(DT$7=$F156,$H156,\"\")","v":0},0,{"$f":"IF(DV$7=$F156,$H156,\"\")","v":0},0,{"$f":"IF(DX$7=$F156,$H156,\"\")","v":0},0,{"$f":"IF(DZ$7=$F156,$H156,\"\")","v":0},0,{"$f":"IF(EB$7=$F156,$H156,\"\")","v":0},0,{"$f":"IF(ED$7=$F156,$H156,\"\")","v":0},0,{"$f":"IF(EF$7=$F156,$H156,\"\")","v":0},0,{"$f":"IF(EH$7=$F156,$H156,\"\")","v":0},0,{"$f":"IF(EJ$7=$F156,$H156,\"\")","v":0},0,{"$f":"IF(EL$7=$F156,$H156,\"\")","v":0},0,{"$f":"IF(EN$7=$F156,$H156,\"\")","v":0},0,{"$f":"IF(EP$7=$F156,$H156,\"\")","v":0},0,{"$f":"IF(ER$7=$F156,$H156,\"\")","v":0},0,{"$f":"IF(ET$7=$F156,$H156,\"\")","v":0},0,{"$f":"IF(EV$7=$F156,$H156,\"\")","v":0},0,{"$f":"IF(EX$7=$F156,$H156,\"\")","v":0},0,{"$f":"IF(EZ$7=$F156,$H156,\"\")","v":0},0,{"$f":"IF(FB$7=$F156,$H156,\"\")","v":0},0,{"$f":"IF(FD$7=$F156,$H156,\"\")","v":0},0,{"$f":"IF(FF$7=$F156,$H156,\"\")","v":0},0,{"$f":"IF(FH$7=$F156,$H156,\"\")","v":0},0,{"$f":"IF(FJ$7=$F156,$H156,\"\")","v":0},0,{"$f":"IF(FL$7=$F156,$H156,\"\")","v":0},0,0]
[149,null,null,null,null,null,null,null,true,0,0,"","","",{"$f":"IF(N$7=$F157,$H157,\"\")","v":""},"",{"$f":"IF(P$7=$F157,$H157,\"\")","v":""},"",{"$f":"IF(R$7=$F157,$H157,\"\")","v":""},"",{"$f":"IF(T$7=$F157,$H157,\"\")","v":""},"",{"$f":"IF(V$7=$F157,$H157,\"\")","v":""},"",{"$f":"IF(X$7=$F157,$H157,\"\")","v":""},"",{"$f":"IF(Z$7=$F157,$H157,\"\")","v":""},"",{"$f":"IF(AB$7=$F157,$H157,\"\")","v":""},"",{"$f":"IF(AD$7=$F157,$H157,\"\")","v":""},"",{"$f":"IF(AF$7=$F157,$H157,\"\")","v":""},"",{"$f":"IF(AH$7=$F157,$H157,\"\")","v":""},"",{"$f":"IF(AJ$7=$F157,$H157,\"\")","v":""},"",{"$f":"IF(AL$7=$F157,$H157,\"\")","v":""},"",{"$f":"IF(AN$7=$F157,$H157,\"\")","v":""},"",{"$f":"IF(AP$7=$F157,$H157,\"\")","v":""},"",{"$f":"IF(AR$7=$F157,$H157,\"\")","v":""},"",{"$f":"IF(AT$7=$F157,$H157,\"\")","v":""},"",{"$f":"IF(AV$7=$F157,$H157,\"\")","v":""},"",{"$f":"IF(AX$7=$F157,$H157,\"\")","v":""},"",{"$f":"IF(AZ$7=$F157,$H157,\"\")","v":""},"",{"$f":"IF(BB$7=$F157,$H157,\"\")","v":""},"",{"$f":"IF(BD$7=$F157,$H157,\"\")","v":""},"",{"$f":"IF(BF$7=$F157,$H157,\"\")","v":""},"",{"$f":"IF(BH$7=$F157,$H157,\"\")","v":""},"",{"$f":"IF(BJ$7=$F157,$H157,\"\")","v":""},"",{"$f":"IF(BL$7=$F157,$H157,\"\")","v":""},"",{"$f":"IF(BN$7=$F157,$H157,\"\")","v":""},"",{"$f":"IF(BP$7=$F157,$H157,\"\")","v":""},"",{"$f":"IF(BR$7=$F157,$H157,\"\")","v":""},"",{"$f":"IF(BT$7=$F157,$H157,\"\")","v":""},"",{"$f":"IF(BV$7=$F157,$H157,\"\")","v":""},"",{"$f":"IF(BX$7=$F157,$H157,\"\")","v":""},"",{"$f":"IF(BZ$7=$F157,$H157,\"\")","v":""},"",{"$f":"IF(CB$7=$F157,$H157,\"\")","v":""},"",{"$f":"IF(CD$7=$F157,$H157,\"\")","v":""},"",{"$f":"IF(CF$7=$F157,$H157,\"\")","v":""},"",{"$f":"IF(CH$7=$F157,$H157,\"\")","v":""},"",{"$f":"IF(CJ$7=$F157,$H157,\"\")","v":""},"",{"$f":"IF(CL$7=$F157,$H157,\"\")","v":""},"",{"$f":"IF(CN$7=$F157,$H157,\"\")","v":""},"",{"$f":"IF(CP$7=$F157,$H157,\"\")","v":""},"",{"$f":"IF(CR$7=$F157,$H157,\"\")","v":""},"",{"$f":"IF(CT$7=$F157,$H157,\"\")","v":""},"",{"$f":"IF(CV$7=$F157,$H157,\"\")","v":""},"",{"$f":"IF(CX$7=$F157,$H157,\"\")","v":""},"",{"$f":"IF(CZ$7=$F157,$H157,\"\")","v":""},"",{"$f":"IF(DB$7=$F157,$H157,\"\")","v":""},"",{"$f":"IF(DD$7=$F157,$H157,\"\")","v":""},"",{"$f":"IF(DF$7=$F157,$H157,\"\")","v":""},0,{"$f":"IF(DH$7=$F157,$H157,\"\")","v":0},0,{"$f":"IF(DJ$7=$F157,$H157,\"\")","v":0},0,{"$f":"IF(DL$7=$F157,$H157,\"\")","v":0},0,{"$f":"IF(DN$7=$F157,$H157,\"\")","v":0},0,{"$f":"IF(DP$7=$F157,$H157,\"\")","v":0},0,{"$f":"IF(DR$7=$F157,$H157,\"\")","v":0},0,{"$f":"IF(DT$7=$F157,$H157,\"\")","v":0},0,{"$f":"IF(DV$7=$F157,$H157,\"\")","v":0},0,{"$f":"IF(DX$7=$F157,$H157,\"\")","v":0},0,{"$f":"IF(DZ$7=$F157,$H157,\"\")","v":0},0,{"$f":"IF(EB$7=$F157,$H157,\"\")","v":0},0,{"$f":"IF(ED$7=$F157,$H157,\"\")","v":0},0,{"$f":"IF(EF$7=$F157,$H157,\"\")","v":0},0,{"$f":"IF(EH$7=$F157,$H157,\"\")","v":0},0,{"$f":"IF(EJ$7=$F157,$H157,\"\")","v":0},0,{"$f":"IF(EL$7=$F157,$H157,\"\")","v":0},0,{"$f":"IF(EN$7=$F157,$H157,\"\")","v":0},0,{"$f":"IF(EP$7=$F157,$H157,\"\")","v":0},0,{"$f":"IF(ER$7=$F157,$H157,\"\")","v":0},0,{"$f":"IF(ET$7=$F157,$H157,\"\")","v":0},0,{"$f":"IF(EV$7=$F157,$H157,\"\")","v":0},0,{"$f":"IF(EX$7=$F157,$H157,\"\")","v":0},0,{"$f":"IF(EZ$7=$F157,$H157,\"\")","v":0},0,{"$f":"IF(FB$7=$F157,$H157,\"\")","v":0},0,{"$f":"IF(FD$7=$F157,$H157,\"\")","v":0},0,{"$f":"IF(FF$7=$F157,$H157,\"\")","v":0},0,{"$f":"IF(FH$7=$F157,$H157,\"\")","v":0},0,{"$f":"IF(FJ$7=$F157,$H157,\"\")","v":0},0,{"$f":"IF(FL$7=$F157,$H157,\"\")","v":0},0,0]
[150,null,null,null,null,null,null,null,true,0,0,"","","",{"$f":"IF(N$7=$F158,$H158,\"\")","v":""},"",{"$f":"IF(P$7=$F158,$H158,\"\")","v":""},"",{"$f":"IF(R$7=$F158,$H158,\"\")","v":""},"",{"$f":"IF(T$7=$F158,$H158,\"\")","v":""},"",{"$f":"IF(V$7=$F158,$H158,\"\")","v":""},"",{"$f":"IF(X$7=$F158,$H158,\"\")","v":""},"",{"$f":"IF(Z$7=$F158,$H158,\"\")","v":""},"",{"$f":"IF(AB$7=$F158,$H158,\"\")","v":""},"",{"$f":"IF(AD$7=$F158,$H158,\"\")","v":""},"",{"$f":"IF(AF$7=$F158,$H158,\"\")","v":""},"",{"$f":"IF(AH$7=$F158,$H158,\"\")","v":""},"",{"$f":"IF(AJ$7=$F158,$H158,\"\")","v":""},"",{"$f":"IF(AL$7=$F158,$H158,\"\")","v":""},"",{"$f":"IF(AN$7=$F158,$H158,\"\")","v":""},"",{"$f":"IF(AP$7=$F158,$H158,\"\")","v":""},"",{"$f":"IF(AR$7=$F158,$H158,\"\")","v":""},"",{"$f":"IF(AT$7=$F158,$H158,\"\")","v":""},"",{"$f":"IF(AV$7=$F158,$H158,\"\")","v":""},"",{"$f":"IF(AX$7=$F158,$H158,\"\")","v":""},"",{"$f":"IF(AZ$7=$F158,$H158,\"\")","v":""},"",{"$f":"IF(BB$7=$F158,$H158,\"\")","v":""},"",{"$f":"IF(BD$7=$F158,$H158,\"\")","v":""},"",{"$f":"IF(BF$7=$F158,$H158,\"\")","v":""},"",{"$f":"IF(BH$7=$F158,$H158,\"\")","v":""},"",{"$f":"IF(BJ$7=$F158,$H158,\"\")","v":""},"",{"$f":"IF(BL$7=$F158,$H158,\"\")","v":""},"",{"$f":"IF(BN$7=$F158,$H158,\"\")","v":""},"",{"$f":"IF(BP$7=$F158,$H158,\"\")","v":""},"",{"$f":"IF(BR$7=$F158,$H158,\"\")","v":""},"",{"$f":"IF(BT$7=$F158,$H158,\"\")","v":""},"",{"$f":"IF(BV$7=$F158,$H158,\"\")","v":""},"",{"$f":"IF(BX$7=$F158,$H158,\"\")","v":""},"",{"$f":"IF(BZ$7=$F158,$H158,\"\")","v":""},"",{"$f":"IF(CB$7=$F158,$H158,\"\")","v":""},"",{"$f":"IF(CD$7=$F158,$H158,\"\")","v":""},"",{"$f":"IF(CF$7=$F158,$H158,\"\")","v":""},"",{"$f":"IF(CH$7=$F158,$H158,\"\")","v":""},"",{"$f":"IF(CJ$7=$F158,$H158,\"\")","v":""},"",{"$f":"IF(CL$7=$F158,$H158,\"\")","v":""},"",{"$f":"IF(CN$7=$F158,$H158,\"\")","v":""},"",{"$f":"IF(CP$7=$F158,$H158,\"\")","v":""},"",{"$f":"IF(CR$7=$F158,$H158,\"\")","v":""},"",{"$f":"IF(CT$7=$F158,$H158,\"\")","v":""},"",{"$f":"IF(CV$7=$F158,$H158,\"\")","v":""},"",{"$f":"IF(CX$7=$F158,$H158,\"\")","v":""},"",{"$f":"IF(CZ$7=$F158,$H158,\"\")","v":""},"",{"$f":"IF(DB$7=$F158,$H158,\"\")","v":""},"",{"$f":"IF(DD$7=$F158,$H158,\"\")","v":""},"",{"$f":"IF(DF$7=$F158,$H158,\"\")","v":""},0,{"$f":"IF(DH$7=$F158,$H158,\"\")","v":0},0,{"$f":"IF(DJ$7=$F158,$H158,\"\")","v":0},0,{"$f":"IF(DL$7=$F158,$H158,\"\")","v":0},0,{"$f":"IF(DN$7=$F158,$H158,\"\")","v":0},0,{"$f":"IF(DP$7=$F158,$H158,\"\")","v":0},0,{"$f":"IF(DR$7=$F158,$H158,\"\")","v":0},0,{"$f":"IF(DT$7=$F158,$H158,\"\")","v":0},0,{"$f":"IF(DV$7=$F158,$H158,\"\")","v":0},0,{"$f":"IF(DX$7=$F158,$H158,\"\")","v":0},0,{"$f":"IF(DZ$7=$F158,$H158,\"\")","v":0},0,{"$f":"IF(EB$7=$F158,$H158,\"\")","v":0},0,{"$f":"IF(ED$7=$F158,$H158,\"\")","v":0},0,{"$f":"IF(EF$7=$F158,$H158,\"\")","v":0},0,{"$f":"IF(EH$7=$F158,$H158,\"\")","v":0},0,{"$f":"IF(EJ$7=$F158,$H158,\"\")","v":0},0,{"$f":"IF(EL$7=$F158,$H158,\"\")","v":0},0,{"$f":"IF(EN$7=$F158,$H158,\"\")","v":0},0,{"$f":"IF(EP$7=$F158,$H158,\"\")","v":0},0,{"$f":"IF(ER$7=$F158,$H158,\"\")","v":0},0,{"$f":"IF(ET$7=$F158,$H158,\"\")","v":0},0,{"$f":"IF(EV$7=$F158,$H158,\"\")","v":0},0,{"$f":"IF(EX$7=$F158,$H158,\"\")","v":0},0,{"$f":"IF(EZ$7=$F158,$H158,\"\")","v":0},0,{"$f":"IF(FB$7=$F158,$H158,\"\")","v":0},0,{"$f":"IF(FD$7=$F158,$H158,\"\")","v":0},0,{"$f":"IF(FF$7=$F158,$H158,\"\")","v":0},0,{"$f":"IF(FH$7=$F158,$H158,\"\")","v":0},0,{"$f":"IF(FJ$7=$F158,$H158,\"\")","v":0},0,{"$f":"IF(FL$7=$F158,$H158,\"\")","v":0},0,0]
[151,null,null,null,null,null,null,null,true,0,0,"","","",{"$f":"IF(N$7=$F159,$H159,\"\")","v":""},"",{"$f":"IF(P$7=$F159,$H159,\"\")","v":""},"",{"$f":"IF(R$7=$F159,$H159,\"\")","v":""},"",{"$f":"IF(T$7=$F159,$H159,\"\")","v":""},"",{"$f":"IF(V$7=$F159,$H159,\"\")","v":""},"",{"$f":"IF(X$7=$F159,$H159,\"\")","v":""},"",{"$f":"IF(Z$7=$F159,$H159,\"\")","v":""},"",{"$f":"IF(AB$7=$F159,$H159,\"\")","v":""},"",{"$f":"IF(AD$7=$F159,$H159,\"\")","v":""},"",{"$f":"IF(AF$7=$F159,$H159,\"\")","v":""},"",{"$f":"IF(AH$7=$F159,$H159,\"\")","v":""},"",{"$f":"IF(AJ$7=$F159,$H159,\"\")","v":""},"",{"$f":"IF(AL$7=$F159,$H159,\"\")","v":""},"",{"$f":"IF(AN$7=$F159,$H159,\"\")","v":""},"",{"$f":"IF(AP$7=$F159,$H159,\"\")","v":""},"",{"$f":"IF(AR$7=$F159,$H159,\"\")","v":""},"",{"$f":"IF(AT$7=$F159,$H159,\"\")","v":""},"",{"$f":"IF(AV$7=$F159,$H159,\"\")","v":""},"",{"$f":"IF(AX$7=$F159,$H159,\"\")","v":""},"",{"$f":"IF(AZ$7=$F159,$H159,\"\")","v":""},"",{"$f":"IF(BB$7=$F159,$H159,\"\")","v":""},"",{"$f":"IF(BD$7=$F159,$H159,\"\")","v":""},"",{"$f":"IF(BF$7=$F159,$H159,\"\")","v":""},"",{"$f":"IF(BH$7=$F159,$H159,\"\")","v":""},"",{"$f":"IF(BJ$7=$F159,$H159,\"\")","v":""},"",{"$f":"IF(BL$7=$F159,$H159,\"\")","v":""},"",{"$f":"IF(BN$7=$F159,$H159,\"\")","v":""},"",{"$f":"IF(BP$7=$F159,$H159,\"\")","v":""},"",{"$f":"IF(BR$7=$F159,$H159,\"\")","v":""},"",{"$f":"IF(BT$7=$F159,$H159,\"\")","v":""},"",{"$f":"IF(BV$7=$F159,$H159,\"\")","v":""},"",{"$f":"IF(BX$7=$F159,$H159,\"\")","v":""},"",{"$f":"IF(BZ$7=$F159,$H159,\"\")","v":""},"",{"$f":"IF(CB$7=$F159,$H159,\"\")","v":""},"",{"$f":"IF(CD$7=$F159,$H159,\"\")","v":""},"",{"$f":"IF(CF$7=$F159,$H159,\"\")","v":""},"",{"$f":"IF(CH$7=$F159,$H159,\"\")","v":""},"",{"$f":"IF(CJ$7=$F159,$H159,\"\")","v":""},"",{"$f":"IF(CL$7=$F159,$H159,\"\")","v":""},"",{"$f":"IF(CN$7=$F159,$H159,\"\")","v":""},"",{"$f":"IF(CP$7=$F159,$H159,\"\")","v":""},"",{"$f":"IF(CR$7=$F159,$H159,\"\")","v":""},"",{"$f":"IF(CT$7=$F159,$H159,\"\")","v":""},"",{"$f":"IF(CV$7=$F159,$H159,\"\")","v":""},"",{"$f":"IF(CX$7=$F159,$H159,\"\")","v":""},"",{"$f":"IF(CZ$7=$F159,$H159,\"\")","v":""},"",{"$f":"IF(DB$7=$F159,$H159,\"\")","v":""},"",{"$f":"IF(DD$7=$F159,$H159,\"\")","v":""},"",{"$f":"IF(DF$7=$F159,$H159,\"\")","v":""},0,{"$f":"IF(DH$7=$F159,$H159,\"\")","v":0},0,{"$f":"IF(DJ$7=$F159,$H159,\"\")","v":0},0,{"$f":"IF(DL$7=$F159,$H159,\"\")","v":0},0,{"$f":"IF(DN$7=$F159,$H159,\"\")","v":0},0,{"$f":"IF(DP$7=$F159,$H159,\"\")","v":0},0,{"$f":"IF(DR$7=$F159,$H159,\"\")","v":0},0,{"$f":"IF(DT$7=$F159,$H159,\"\")","v":0},0,{"$f":"IF(DV$7=$F159,$H159,\"\")","v":0},0,{"$f":"IF(DX$7=$F159,$H159,\"\")","v":0},0,{"$f":"IF(DZ$7=$F159,$H159,\"\")","v":0},0,{"$f":"IF(EB$7=$F159,$H159,\"\")","v":0},0,{"$f":"IF(ED$7=$F159,$H159,\"\")","v":0},0,{"$f":"IF(EF$7=$F159,$H159,\"\")","v":0},0,{"$f":"IF(EH$7=$F159,$H159,\"\")","v":0},0,{"$f":"IF(EJ$7=$F159,$H159,\"\")","v":0},0,{"$f":"IF(EL$7=$F159,$H159,\"\")","v":0},0,{"$f":"IF(EN$7=$F159,$H159,\"\")","v":0},0,{"$f":"IF(EP$7=$F159,$H159,\"\")","v":0},0,{"$f":"IF(ER$7=$F159,$H159,\"\")","v":0},0,{"$f":"IF(ET$7=$F159,$H159,\"\")","v":0},0,{"$f":"IF(EV$7=$F159,$H159,\"\")","v":0},0,{"$f":"IF(EX$7=$F159,$H159,\"\")","v":0},0,{"$f":"IF(EZ$7=$F159,$H159,\"\")","v":0},0,{"$f":"IF(FB$7=$F159,$H159,\"\")","v":0},0,{"$f":"IF(FD$7=$F159,$H159,\"\")","v":0},0,{"$f":"IF(FF$7=$F159,$H159,\"\")","v":0},0,{"$f":"IF(FH$7=$F159,$H159,\"\")","v":0},0,{"$f":"IF(FJ$7=$F159,$H159,\"\")","v":0},0,{"$f":"IF(FL$7=$F159,$H159,\"\")","v":0},0,0]
[152,null,null,null,null,null,null,null,true,0,0,"","","",{"$f":"IF(N$7=$F160,$H160,\"\")","v":""},"",{"$f":"IF(P$7=$F160,$H160,\"\")","v":""},"",{"$f":"IF(R$7=$F160,$H160,\"\")","v":""},"",{"$f":"IF(T$7=$F160,$H160,\"\")","v":""},"",{"$f":"IF(V$7=$F160,$H160,\"\")","v":""},"",{"$f":"IF(X$7=$F160,$H160,\"\")","v":""},"",{"$f":"IF(Z$7=$F160,$H160,\"\")","v":""},"",{"$f":"IF(AB$7=$F160,$H160,\"\")","v":""},"",{"$f":"IF(AD$7=$F160,$H160,\"\")","v":""},"",{"$f":"IF(AF$7=$F160,$H160,\"\")","v":""},"",{"$f":"IF(AH$7=$F160,$H160,\"\")","v":""},"",{"$f":"IF(AJ$7=$F160,$H160,\"\")","v":""},"",{"$f":"IF(AL$7=$F160,$H160,\"\")","v":""},"",{"$f":"IF(AN$7=$F160,$H160,\"\")","v":""},"",{"$f":"IF(AP$7=$F160,$H160,\"\")","v":""},"",{"$f":"IF(AR$7=$F160,$H160,\"\")","v":""},"",{"$f":"IF(AT$7=$F160,$H160,\"\")","v":""},"",{"$f":"IF(AV$7=$F160,$H160,\"\")","v":""},"",{"$f":"IF(AX$7=$F160,$H160,\"\")","v":""},"",{"$f":"IF(AZ$7=$F160,$H160,\"\")","v":""},"",{"$f":"IF(BB$7=$F160,$H160,\"\")","v":""},"",{"$f":"IF(BD$7=$F160,$H160,\"\")","v":""},"",{"$f":"IF(BF$7=$F160,$H160,\"\")","v":""},"",{"$f":"IF(BH$7=$F160,$H160,\"\")","v":""},"",{"$f":"IF(BJ$7=$F160,$H160,\"\")","v":""},"",{"$f":"IF(BL$7=$F160,$H160,\"\")","v":""},"",{"$f":"IF(BN$7=$F160,$H160,\"\")","v":""},"",{"$f":"IF(BP$7=$F160,$H160,\"\")","v":""},"",{"$f":"IF(BR$7=$F160,$H160,\"\")","v":""},"",{"$f":"IF(BT$7=$F160,$H160,\"\")","v":""},"",{"$f":"IF(BV$7=$F160,$H160,\"\")","v":""},"",{"$f":"IF(BX$7=$F160,$H160,\"\")","v":""},"",{"$f":"IF(BZ$7=$F160,$H160,\"\")","v":""},"",{"$f":"IF(CB$7=$F160,$H160,\"\")","v":""},"",{"$f":"IF(CD$7=$F160,$H160,\"\")","v":""},"",{"$f":"IF(CF$7=$F160,$H160,\"\")","v":""},"",{"$f":"IF(CH$7=$F160,$H160,\"\")","v":""},"",{"$f":"IF(CJ$7=$F160,$H160,\"\")","v":""},"",{"$f":"IF(CL$7=$F160,$H160,\"\")","v":""},"",{"$f":"IF(CN$7=$F160,$H160,\"\")","v":""},"",{"$f":"IF(CP$7=$F160,$H160,\"\")","v":""},"",{"$f":"IF(CR$7=$F160,$H160,\"\")","v":""},"",{"$f":"IF(CT$7=$F160,$H160,\"\")","v":""},"",{"$f":"IF(CV$7=$F160,$H160,\"\")","v":""},"",{"$f":"IF(CX$7=$F160,$H160,\"\")","v":""},"",{"$f":"IF(CZ$7=$F160,$H160,\"\")","v":""},"",{"$f":"IF(DB$7=$F160,$H160,\"\")","v":""},"",{"$f":"IF(DD$7=$F160,$H160,\"\")","v":""},"",{"$f":"IF(DF$7=$F160,$H160,\"\")","v":""},0,{"$f":"IF(DH$7=$F160,$H160,\"\")","v":0},0,{"$f":"IF(DJ$7=$F160,$H160,\"\")","v":0},0,{"$f":"IF(DL$7=$F160,$H160,\"\")","v":0},0,{"$f":"IF(DN$7=$F160,$H160,\"\")","v":0},0,{"$f":"IF(DP$7=$F160,$H160,\"\")","v":0},0,{"$f":"IF(DR$7=$F160,$H160,\"\")","v":0},0,{"$f":"IF(DT$7=$F160,$H160,\"\")","v":0},0,{"$f":"IF(DV$7=$F160,$H160,\"\")","v":0},0,{"$f":"IF(DX$7=$F160,$H160,\"\")","v":0},0,{"$f":"IF(DZ$7=$F160,$H160,\"\")","v":0},0,{"$f":"IF(EB$7=$F160,$H160,\"\")","v":0},0,{"$f":"IF(ED$7=$F160,$H160,\"\")","v":0},0,{"$f":"IF(EF$7=$F160,$H160,\"\")","v":0},0,{"$f":"IF(EH$7=$F160,$H160,\"\")","v":0},0,{"$f":"IF(EJ$7=$F160,$H160,\"\")","v":0},0,{"$f":"IF(EL$7=$F160,$H160,\"\")","v":0},0,{"$f":"IF(EN$7=$F160,$H160,\"\")","v":0},0,{"$f":"IF(EP$7=$F160,$H160,\"\")","v":0},0,{"$f":"IF(ER$7=$F160,$H160,\"\")","v":0},0,{"$f":"IF(ET$7=$F160,$H160,\"\")","v":0},0,{"$f":"IF(EV$7=$F160,$H160,\"\")","v":0},0,{"$f":"IF(EX$7=$F160,$H160,\"\")","v":0},0,{"$f":"IF(EZ$7=$F160,$H160,\"\")","v":0},0,{"$f":"IF(FB$7=$F160,$H160,\"\")","v":0},0,{"$f":"IF(FD$7=$F160,$H160,\"\")","v":0},0,{"$f":"IF(FF$7=$F160,$H160,\"\")","v":0},0,{"$f":"IF(FH$7=$F160,$H160,\"\")","v":0},0,{"$f":"IF(FJ$7=$F160,$H160,\"\")","v":0},0,{"$f":"IF(FL$7=$F160,$H160,\"\")","v":0},0,0]
[153,null,null,null,null,null,null,null,true,0,0,"","","",{"$f":"IF(N$7=$F161,$H161,\"\")","v":""},"",{"$f":"IF(P$7=$F161,$H161,\"\")","v":""},"",{"$f":"IF(R$7=$F161,$H161,\"\")","v":""},"",{"$f":"IF(T$7=$F161,$H161,\"\")","v":""},"",{"$f":"IF(V$7=$F161,$H161,\"\")","v":""},"",{"$f":"IF(X$7=$F161,$H161,\"\")","v":""},"",{"$f":"IF(Z$7=$F161,$H161,\"\")","v":""},"",{"$f":"IF(AB$7=$F161,$H161,\"\")","v":""},"",{"$f":"IF(AD$7=$F161,$H161,\"\")","v":""},"",{"$f":"IF(AF$7=$F161,$H161,\"\")","v":""},"",{"$f":"IF(AH$7=$F161,$H161,\"\")","v":""},"",{"$f":"IF(AJ$7=$F161,$H161,\"\")","v":""},"",{"$f":"IF(AL$7=$F161,$H161,\"\")","v":""},"",{"$f":"IF(AN$7=$F161,$H161,\"\")","v":""},"",{"$f":"IF(AP$7=$F161,$H161,\"\")","v":""},"",{"$f":"IF(AR$7=$F161,$H161,\"\")","v":""},"",{"$f":"IF(AT$7=$F161,$H161,\"\")","v":""},"",{"$f":"IF(AV$7=$F161,$H161,\"\")","v":""},"",{"$f":"IF(AX$7=$F161,$H161,\"\")","v":""},"",{"$f":"IF(AZ$7=$F161,$H161,\"\")","v":""},"",{"$f":"IF(BB$7=$F161,$H161,\"\")","v":""},"",{"$f":"IF(BD$7=$F161,$H161,\"\")","v":""},"",{"$f":"IF(BF$7=$F161,$H161,\"\")","v":""},"",{"$f":"IF(BH$7=$F161,$H161,\"\")","v":""},"",{"$f":"IF(BJ$7=$F161,$H161,\"\")","v":""},"",{"$f":"IF(BL$7=$F161,$H161,\"\")","v":""},"",{"$f":"IF(BN$7=$F161,$H161,\"\")","v":""},"",{"$f":"IF(BP$7=$F161,$H161,\"\")","v":""},"",{"$f":"IF(BR$7=$F161,$H161,\"\")","v":""},"",{"$f":"IF(BT$7=$F161,$H161,\"\")","v":""},"",{"$f":"IF(BV$7=$F161,$H161,\"\")","v":""},"",{"$f":"IF(BX$7=$F161,$H161,\"\")","v":""},"",{"$f":"IF(BZ$7=$F161,$H161,\"\")","v":""},"",{"$f":"IF(CB$7=$F161,$H161,\"\")","v":""},"",{"$f":"IF(CD$7=$F161,$H161,\"\")","v":""},"",{"$f":"IF(CF$7=$F161,$H161,\"\")","v":""},"",{"$f":"IF(CH$7=$F161,$H161,\"\")","v":""},"",{"$f":"IF(CJ$7=$F161,$H161,\"\")","v":""},"",{"$f":"IF(CL$7=$F161,$H161,\"\")","v":""},"",{"$f":"IF(CN$7=$F161,$H161,\"\")","v":""},"",{"$f":"IF(CP$7=$F161,$H161,\"\")","v":""},"",{"$f":"IF(CR$7=$F161,$H161,\"\")","v":""},"",{"$f":"IF(CT$7=$F161,$H161,\"\")","v":""},"",{"$f":"IF(CV$7=$F161,$H161,\"\")","v":""},"",{"$f":"IF(CX$7=$F161,$H161,\"\")","v":""},"",{"$f":"IF(CZ$7=$F161,$H161,\"\")","v":""},"",{"$f":"IF(DB$7=$F161,$H161,\"\")","v":""},"",{"$f":"IF(DD$7=$F161,$H161,\"\")","v":""},"",{"$f":"IF(DF$7=$F161,$H161,\"\")","v":""},0,{"$f":"IF(DH$7=$F161,$H161,\"\")","v":0},0,{"$f":"IF(DJ$7=$F161,$H161,\"\")","v":0},0,{"$f":"IF(DL$7=$F161,$H161,\"\")","v":0},0,{"$f":"IF(DN$7=$F161,$H161,\"\")","v":0},0,{"$f":"IF(DP$7=$F161,$H161,\"\")","v":0},0,{"$f":"IF(DR$7=$F161,$H161,\"\")","v":0},0,{"$f":"IF(DT$7=$F161,$H161,\"\")","v":0},0,{"$f":"IF(DV$7=$F161,$H161,\"\")","v":0},0,{"$f":"IF(DX$7=$F161,$H161,\"\")","v":0},0,{"$f":"IF(DZ$7=$F161,$H161,\"\")","v":0},0,{"$f":"IF(EB$7=$F161,$H161,\"\")","v":0},0,{"$f":"IF(ED$7=$F161,$H161,\"\")","v":0},0,{"$f":"IF(EF$7=$F161,$H161,\"\")","v":0},0,{"$f":"IF(EH$7=$F161,$H161,\"\")","v":0},0,{"$f":"IF(EJ$7=$F161,$H161,\"\")","v":0},0,{"$f":"IF(EL$7=$F161,$H161,\"\")","v":0},0,{"$f":"IF(EN$7=$F161,$H161,\"\")","v":0},0,{"$f":"IF(EP$7=$F161,$H161,\"\")","v":0},0,{"$f":"IF(ER$7=$F161,$H161,\"\")","v":0},0,{"$f":"IF(ET$7=$F161,$H161,\"\")","v":0},0,{"$f":"IF(EV$7=$F161,$H161,\"\")","v":0},0,{"$f":"IF(EX$7=$F161,$H161,\"\")","v":0},0,{"$f":"IF(EZ$7=$F161,$H161,\"\")","v":0},0,{"$f":"IF(FB$7=$F161,$H161,\"\")","v":0},0,{"$f":"IF(FD$7=$F161,$H161,\"\")","v":0},0,{"$f":"IF(FF$7=$F161,$H161,\"\")","v":0},0,{"$f":"IF(FH$7=$F161,$H161,\"\")","v":0},0,{"$f":"IF(FJ$7=$F161,$H161,\"\")","v":0},0,{"$f":"IF(FL$7=$F161,$H161,\"\")","v":0},0,0]
[154,null,null,null,null,null,null,null,true,0,0,"","","",{"$f":"IF(N$7=$F162,$H162,\"\")","v":""},"",{"$f":"IF(P$7=$F162,$H162,\"\")","v":""},"",{"$f":"IF(R$7=$F162,$H162,\"\")","v":""},"",{"$f":"IF(T$7=$F162,$H162,\"\")","v":""},"",{"$f":"IF(V$7=$F162,$H162,\"\")","v":""},"",{"$f":"IF(X$7=$F162,$H162,\"\")","v":""},"",{"$f":"IF(Z$7=$F162,$H162,\"\")","v":""},"",{"$f":"IF(AB$7=$F162,$H162,\"\")","v":""},"",{"$f":"IF(AD$7=$F162,$H162,\"\")","v":""},"",{"$f":"IF(AF$7=$F162,$H162,\"\")","v":""},"",{"$f":"IF(AH$7=$F162,$H162,\"\")","v":""},"",{"$f":"IF(AJ$7=$F162,$H162,\"\")","v":""},"",{"$f":"IF(AL$7=$F162,$H162,\"\")","v":""},"",{"$f":"IF(AN$7=$F162,$H162,\"\")","v":""},"",{"$f":"IF(AP$7=$F162,$H162,\"\")","v":""},"",{"$f":"IF(AR$7=$F162,$H162,\"\")","v":""},"",{"$f":"IF(AT$7=$F162,$H162,\"\")","v":""},"",{"$f":"IF(AV$7=$F162,$H162,\"\")","v":""},"",{"$f":"IF(AX$7=$F162,$H162,\"\")","v":""},"",{"$f":"IF(AZ$7=$F162,$H162,\"\")","v":""},"",{"$f":"IF(BB$7=$F162,$H162,\"\")","v":""},"",{"$f":"IF(BD$7=$F162,$H162,\"\")","v":""},"",{"$f":"IF(BF$7=$F162,$H162,\"\")","v":""},"",{"$f":"IF(BH$7=$F162,$H162,\"\")","v":""},"",{"$f":"IF(BJ$7=$F162,$H162,\"\")","v":""},"",{"$f":"IF(BL$7=$F162,$H162,\"\")","v":""},"",{"$f":"IF(BN$7=$F162,$H162,\"\")","v":""},"",{"$f":"IF(BP$7=$F162,$H162,\"\")","v":""},"",{"$f":"IF(BR$7=$F162,$H162,\"\")","v":""},"",{"$f":"IF(BT$7=$F162,$H162,\"\")","v":""},"",{"$f":"IF(BV$7=$F162,$H162,\"\")","v":""},"",{"$f":"IF(BX$7=$F162,$H162,\"\")","v":""},"",{"$f":"IF(BZ$7=$F162,$H162,\"\")","v":""},"",{"$f":"IF(CB$7=$F162,$H162,\"\")","v":""},"",{"$f":"IF(CD$7=$F162,$H162,\"\")","v":""},"",{"$f":"IF(CF$7=$F162,$H162,\"\")","v":""},"",{"$f":"IF(CH$7=$F162,$H162,\"\")","v":""},"",{"$f":"IF(CJ$7=$F162,$H162,\"\")","v":""},"",{"$f":"IF(CL$7=$F162,$H162,\"\")","v":""},"",{"$f":"IF(CN$7=$F162,$H162,\"\")","v":""},"",{"$f":"IF(CP$7=$F162,$H162,\"\")","v":""},"",{"$f":"IF(CR$7=$F162,$H162,\"\")","v":""},"",{"$f":"IF(CT$7=$F162,$H162,\"\")","v":""},"",{"$f":"IF(CV$7=$F162,$H162,\"\")","v":""},"",{"$f":"IF(CX$7=$F162,$H162,\"\")","v":""},"",{"$f":"IF(CZ$7=$F162,$H162,\"\")","v":""},"",{"$f":"IF(DB$7=$F162,$H162,\"\")","v":""},"",{"$f":"IF(DD$7=$F162,$H162,\"\")","v":""},"",{"$f":"IF(DF$7=$F162,$H162,\"\")","v":""},0,{"$f":"IF(DH$7=$F162,$H162,\"\")","v":0},0,{"$f":"IF(DJ$7=$F162,$H162,\"\")","v":0},0,{"$f":"IF(DL$7=$F162,$H162,\"\")","v":0},0,{"$f":"IF(DN$7=$F162,$H162,\"\")","v":0},0,{"$f":"IF(DP$7=$F162,$H162,\"\")","v":0},0,{"$f":"IF(DR$7=$F162,$H162,\"\")","v":0},0,{"$f":"IF(DT$7=$F162,$H162,\"\")","v":0},0,{"$f":"IF(DV$7=$F162,$H162,\"\")","v":0},0,{"$f":"IF(DX$7=$F162,$H162,\"\")","v":0},0,{"$f":"IF(DZ$7=$F162,$H162,\"\")","v":0},0,{"$f":"IF(EB$7=$F162,$H162,\"\")","v":0},0,{"$f":"IF(ED$7=$F162,$H162,\"\")","v":0},0,{"$f":"IF(EF$7=$F162,$H162,\"\")","v":0},0,{"$f":"IF(EH$7=$F162,$H162,\"\")","v":0},0,{"$f":"IF(EJ$7=$F162,$H162,\"\")","v":0},0,{"$f":"IF(EL$7=$F162,$H162,\"\")","v":0},0,{"$f":"IF(EN$7=$F162,$H162,\"\")","v":0},0,{"$f":"IF(EP$7=$F162,$H162,\"\")","v":0},0,{"$f":"IF(ER$7=$F162,$H162,\"\")","v":0},0,{"$f":"IF(ET$7=$F162,$H162,\"\")","v":0},0,{"$f":"IF(EV$7=$F162,$H162,\"\")","v":0},0,{"$f":"IF(EX$7=$F162,$H162,\"\")","v":0},0,{"$f":"IF(EZ$7=$F162,$H162,\"\")","v":0},0,{"$f":"IF(FB$7=$F162,$H162,\"\")","v":0},0,{"$f":"IF(FD$7=$F162,$H162,\"\")","v":0},0,{"$f":"IF(FF$7=$F162,$H162,\"\")","v":0},0,{"$f":"IF(FH$7=$F162,$H162,\"\")","v":0},0,{"$f":"IF(FJ$7=$F162,$H162,\"\")","v":0},0,{"$f":"IF(FL$7=$F162,$H162,\"\")","v":0},0,0]
[155,null,null,null,null,null,null,null,true,0,0,"","","",{"$f":"IF(N$7=$F163,$H163,\"\")","v":""},"",{"$f":"IF(P$7=$F163,$H163,\"\")","v":""},"",{"$f":"IF(R$7=$F163,$H163,\"\")","v":""},"",{"$f":"IF(T$7=$F163,$H163,\"\")","v":""},"",{"$f":"IF(V$7=$F163,$H163,\"\")","v":""},"",{"$f":"IF(X$7=$F163,$H163,\"\")","v":""},"",{"$f":"IF(Z$7=$F163,$H163,\"\")","v":""},"",{"$f":"IF(AB$7=$F163,$H163,\"\")","v":""},"",{"$f":"IF(AD$7=$F163,$H163,\"\")","v":""},"",{"$f":"IF(AF$7=$F163,$H163,\"\")","v":""},"",{"$f":"IF(AH$7=$F163,$H163,\"\")","v":""},"",{"$f":"IF(AJ$7=$F163,$H163,\"\")","v":""},"",{"$f":"IF(AL$7=$F163,$H163,\"\")","v":""},"",{"$f":"IF(AN$7=$F163,$H163,\"\")","v":""},"",{"$f":"IF(AP$7=$F163,$H163,\"\")","v":""},"",{"$f":"IF(AR$7=$F163,$H163,\"\")","v":""},"",{"$f":"IF(AT$7=$F163,$H163,\"\")","v":""},"",{"$f":"IF(AV$7=$F163,$H163,\"\")","v":""},"",{"$f":"IF(AX$7=$F163,$H163,\"\")","v":""},"",{"$f":"IF(AZ$7=$F163,$H163,\"\")","v":""},"",{"$f":"IF(BB$7=$F163,$H163,\"\")","v":""},"",{"$f":"IF(BD$7=$F163,$H163,\"\")","v":""},"",{"$f":"IF(BF$7=$F163,$H163,\"\")","v":""},"",{"$f":"IF(BH$7=$F163,$H163,\"\")","v":""},"",{"$f":"IF(BJ$7=$F163,$H163,\"\")","v":""},"",{"$f":"IF(BL$7=$F163,$H163,\"\")","v":""},"",{"$f":"IF(BN$7=$F163,$H163,\"\")","v":""},"",{"$f":"IF(BP$7=$F163,$H163,\"\")","v":""},"",{"$f":"IF(BR$7=$F163,$H163,\"\")","v":""},"",{"$f":"IF(BT$7=$F163,$H163,\"\")","v":""},"",{"$f":"IF(BV$7=$F163,$H163,\"\")","v":""},"",{"$f":"IF(BX$7=$F163,$H163,\"\")","v":""},"",{"$f":"IF(BZ$7=$F163,$H163,\"\")","v":""},"",{"$f":"IF(CB$7=$F163,$H163,\"\")","v":""},"",{"$f":"IF(CD$7=$F163,$H163,\"\")","v":""},"",{"$f":"IF(CF$7=$F163,$H163,\"\")","v":""},"",{"$f":"IF(CH$7=$F163,$H163,\"\")","v":""},"",{"$f":"IF(CJ$7=$F163,$H163,\"\")","v":""},"",{"$f":"IF(CL$7=$F163,$H163,\"\")","v":""},"",{"$f":"IF(CN$7=$F163,$H163,\"\")","v":""},"",{"$f":"IF(CP$7=$F163,$H163,\"\")","v":""},"",{"$f":"IF(CR$7=$F163,$H163,\"\")","v":""},"",{"$f":"IF(CT$7=$F163,$H163,\"\")","v":""},"",{"$f":"IF(CV$7=$F163,$H163,\"\")","v":""},"",{"$f":"IF(CX$7=$F163,$H163,\"\")","v":""},"",{"$f":"IF(CZ$7=$F163,$H163,\"\")","v":""},"",{"$f":"IF(DB$7=$F163,$H163,\"\")","v":""},"",{"$f":"IF(DD$7=$F163,$H163,\"\")","v":""},"",{"$f":"IF(DF$7=$F163,$H163,\"\")","v":""},0,{"$f":"IF(DH$7=$F163,$H163,\"\")","v":0},0,{"$f":"IF(DJ$7=$F163,$H163,\"\")","v":0},0,{"$f":"IF(DL$7=$F163,$H163,\"\")","v":0},0,{"$f":"IF(DN$7=$F163,$H163,\"\")","v":0},0,{"$f":"IF(DP$7=$F163,$H163,\"\")","v":0},0,{"$f":"IF(DR$7=$F163,$H163,\"\")","v":0},0,{"$f":"IF(DT$7=$F163,$H163,\"\")","v":0},0,{"$f":"IF(DV$7=$F163,$H163,\"\")","v":0},0,{"$f":"IF(DX$7=$F163,$H163,\"\")","v":0},0,{"$f":"IF(DZ$7=$F163,$H163,\"\")","v":0},0,{"$f":"IF(EB$7=$F163,$H163,\"\")","v":0},0,{"$f":"IF(ED$7=$F163,$H163,\"\")","v":0},0,{"$f":"IF(EF$7=$F163,$H163,\"\")","v":0},0,{"$f":"IF(EH$7=$F163,$H163,\"\")","v":0},0,{"$f":"IF(EJ$7=$F163,$H163,\"\")","v":0},0,{"$f":"IF(EL$7=$F163,$H163,\"\")","v":0},0,{"$f":"IF(EN$7=$F163,$H163,\"\")","v":0},0,{"$f":"IF(EP$7=$F163,$H163,\"\")","v":0},0,{"$f":"IF(ER$7=$F163,$H163,\"\")","v":0},0,{"$f":"IF(ET$7=$F163,$H163,\"\")","v":0},0,{"$f":"IF(EV$7=$F163,$H163,\"\")","v":0},0,{"$f":"IF(EX$7=$F163,$H163,\"\")","v":0},0,{"$f":"IF(EZ$7=$F163,$H163,\"\")","v":0},0,{"$f":"IF(FB$7=$F163,$H163,\"\")","v":0},0,{"$f":"IF(FD$7=$F163,$H163,\"\")","v":0},0,{"$f":"IF(FF$7=$F163,$H163,\"\")","v":0},0,{"$f":"IF(FH$7=$F163,$H163,\"\")","v":0},0,{"$f":"IF(FJ$7=$F163,$H163,\"\")","v":0},0,{"$f":"IF(FL$7=$F163,$H163,\"\")","v":0},0,0]
[156,null,null,null,null,null,null,null,true,0,0,"","","",{"$f":"IF(N$7=$F164,$H164,\"\")","v":""},"",{"$f":"IF(P$7=$F164,$H164,\"\")","v":""},"",{"$f":"IF(R$7=$F164,$H164,\"\")","v":""},"",{"$f":"IF(T$7=$F164,$H164,\"\")","v":""},"",{"$f":"IF(V$7=$F164,$H164,\"\")","v":""},"",{"$f":"IF(X$7=$F164,$H164,\"\")","v":""},"",{"$f":"IF(Z$7=$F164,$H164,\"\")","v":""},"",{"$f":"IF(AB$7=$F164,$H164,\"\")","v":""},"",{"$f":"IF(AD$7=$F164,$H164,\"\")","v":""},"",{"$f":"IF(AF$7=$F164,$H164,\"\")","v":""},"",{"$f":"IF(AH$7=$F164,$H164,\"\")","v":""},"",{"$f":"IF(AJ$7=$F164,$H164,\"\")","v":""},"",{"$f":"IF(AL$7=$F164,$H164,\"\")","v":""},"",{"$f":"IF(AN$7=$F164,$H164,\"\")","v":""},"",{"$f":"IF(AP$7=$F164,$H164,\"\")","v":""},"",{"$f":"IF(AR$7=$F164,$H164,\"\")","v":""},"",{"$f":"IF(AT$7=$F164,$H164,\"\")","v":""},"",{"$f":"IF(AV$7=$F164,$H164,\"\")","v":""},"",{"$f":"IF(AX$7=$F164,$H164,\"\")","v":""},"",{"$f":"IF(AZ$7=$F164,$H164,\"\")","v":""},"",{"$f":"IF(BB$7=$F164,$H164,\"\")","v":""},"",{"$f":"IF(BD$7=$F164,$H164,\"\")","v":""},"",{"$f":"IF(BF$7=$F164,$H164,\"\")","v":""},"",{"$f":"IF(BH$7=$F164,$H164,\"\")","v":""},"",{"$f":"IF(BJ$7=$F164,$H164,\"\")","v":""},"",{"$f":"IF(BL$7=$F164,$H164,\"\")","v":""},"",{"$f":"IF(BN$7=$F164,$H164,\"\")","v":""},"",{"$f":"IF(BP$7=$F164,$H164,\"\")","v":""},"",{"$f":"IF(BR$7=$F164,$H164,\"\")","v":""},"",{"$f":"IF(BT$7=$F164,$H164,\"\")","v":""},"",{"$f":"IF(BV$7=$F164,$H164,\"\")","v":""},"",{"$f":"IF(BX$7=$F164,$H164,\"\")","v":""},"",{"$f":"IF(BZ$7=$F164,$H164,\"\")","v":""},"",{"$f":"IF(CB$7=$F164,$H164,\"\")","v":""},"",{"$f":"IF(CD$7=$F164,$H164,\"\")","v":""},"",{"$f":"IF(CF$7=$F164,$H164,\"\")","v":""},"",{"$f":"IF(CH$7=$F164,$H164,\"\")","v":""},"",{"$f":"IF(CJ$7=$F164,$H164,\"\")","v":""},"",{"$f":"IF(CL$7=$F164,$H164,\"\")","v":""},"",{"$f":"IF(CN$7=$F164,$H164,\"\")","v":""},"",{"$f":"IF(CP$7=$F164,$H164,\"\")","v":""},"",{"$f":"IF(CR$7=$F164,$H164,\"\")","v":""},"",{"$f":"IF(CT$7=$F164,$H164,\"\")","v":""},"",{"$f":"IF(CV$7=$F164,$H164,\"\")","v":""},"",{"$f":"IF(CX$7=$F164,$H164,\"\")","v":""},"",{"$f":"IF(CZ$7=$F164,$H164,\"\")","v":""},"",{"$f":"IF(DB$7=$F164,$H164,\"\")","v":""},"",{"$f":"IF(DD$7=$F164,$H164,\"\")","v":""},"",{"$f":"IF(DF$7=$F164,$H164,\"\")","v":""},0,{"$f":"IF(DH$7=$F164,$H164,\"\")","v":0},0,{"$f":"IF(DJ$7=$F164,$H164,\"\")","v":0},0,{"$f":"IF(DL$7=$F164,$H164,\"\")","v":0},0,{"$f":"IF(DN$7=$F164,$H164,\"\")","v":0},0,{"$f":"IF(DP$7=$F164,$H164,\"\")","v":0},0,{"$f":"IF(DR$7=$F164,$H164,\"\")","v":0},0,{"$f":"IF(DT$7=$F164,$H164,\"\")","v":0},0,{"$f":"IF(DV$7=$F164,$H164,\"\")","v":0},0,{"$f":"IF(DX$7=$F164,$H164,\"\")","v":0},0,{"$f":"IF(DZ$7=$F164,$H164,\"\")","v":0},0,{"$f":"IF(EB$7=$F164,$H164,\"\")","v":0},0,{"$f":"IF(ED$7=$F164,$H164,\"\")","v":0},0,{"$f":"IF(EF$7=$F164,$H164,\"\")","v":0},0,{"$f":"IF(EH$7=$F164,$H164,\"\")","v":0},0,{"$f":"IF(EJ$7=$F164,$H164,\"\")","v":0},0,{"$f":"IF(EL$7=$F164,$H164,\"\")","v":0},0,{"$f":"IF(EN$7=$F164,$H164,\"\")","v":0},0,{"$f":"IF(EP$7=$F164,$H164,\"\")","v":0},0,{"$f":"IF(ER$7=$F164,$H164,\"\")","v":0},0,{"$f":"IF(ET$7=$F164,$H164,\"\")","v":0},0,{"$f":"IF(EV$7=$F164,$H164,\"\")","v":0},0,{"$f":"IF(EX$7=$F164,$H164,\"\")","v":0},0,{"$f":"IF(EZ$7=$F164,$H164,\"\")","v":0},0,{"$f":"IF(FB$7=$F164,$H164,\"\")","v":0},0,{"$f":"IF(FD$7=$F164,$H164,\"\")","v":0},0,{"$f":"IF(FF$7=$F164,$H164,\"\")","v":0},0,{"$f":"IF(FH$7=$F164,$H164,\"\")","v":0},0,{"$f":"IF(FJ$7=$F164,$H164,\"\")","v":0},0,{"$f":"IF(FL$7=$F164,$H164,\"\")","v":0},0,0]
[157,null,null,null,null,null,null,null,true,0,0,"","","",{"$f":"IF(N$7=$F165,$H165,\"\")","v":""},"",{"$f":"IF(P$7=$F165,$H165,\"\")","v":""},"",{"$f":"IF(R$7=$F165,$H165,\"\")","v":""},"",{"$f":"IF(T$7=$F165,$H165,\"\")","v":""},"",{"$f":"IF(V$7=$F165,$H165,\"\")","v":""},"",{"$f":"IF(X$7=$F165,$H165,\"\")","v":""},"",{"$f":"IF(Z$7=$F165,$H165,\"\")","v":""},"",{"$f":"IF(AB$7=$F165,$H165,\"\")","v":""},"",{"$f":"IF(AD$7=$F165,$H165,\"\")","v":""},"",{"$f":"IF(AF$7=$F165,$H165,\"\")","v":""},"",{"$f":"IF(AH$7=$F165,$H165,\"\")","v":""},"",{"$f":"IF(AJ$7=$F165,$H165,\"\")","v":""},"",{"$f":"IF(AL$7=$F165,$H165,\"\")","v":""},"",{"$f":"IF(AN$7=$F165,$H165,\"\")","v":""},"",{"$f":"IF(AP$7=$F165,$H165,\"\")","v":""},"",{"$f":"IF(AR$7=$F165,$H165,\"\")","v":""},"",{"$f":"IF(AT$7=$F165,$H165,\"\")","v":""},"",{"$f":"IF(AV$7=$F165,$H165,\"\")","v":""},"",{"$f":"IF(AX$7=$F165,$H165,\"\")","v":""},"",{"$f":"IF(AZ$7=$F165,$H165,\"\")","v":""},"",{"$f":"IF(BB$7=$F165,$H165,\"\")","v":""},"",{"$f":"IF(BD$7=$F165,$H165,\"\")","v":""},"",{"$f":"IF(BF$7=$F165,$H165,\"\")","v":""},"",{"$f":"IF(BH$7=$F165,$H165,\"\")","v":""},"",{"$f":"IF(BJ$7=$F165,$H165,\"\")","v":""},"",{"$f":"IF(BL$7=$F165,$H165,\"\")","v":""},"",{"$f":"IF(BN$7=$F165,$H165,\"\")","v":""},"",{"$f":"IF(BP$7=$F165,$H165,\"\")","v":""},"",{"$f":"IF(BR$7=$F165,$H165,\"\")","v":""},"",{"$f":"IF(BT$7=$F165,$H165,\"\")","v":""},"",{"$f":"IF(BV$7=$F165,$H165,\"\")","v":""},"",{"$f":"IF(BX$7=$F165,$H165,\"\")","v":""},"",{"$f":"IF(BZ$7=$F165,$H165,\"\")","v":""},"",{"$f":"IF(CB$7=$F165,$H165,\"\")","v":""},"",{"$f":"IF(CD$7=$F165,$H165,\"\")","v":""},"",{"$f":"IF(CF$7=$F165,$H165,\"\")","v":""},"",{"$f":"IF(CH$7=$F165,$H165,\"\")","v":""},"",{"$f":"IF(CJ$7=$F165,$H165,\"\")","v":""},"",{"$f":"IF(CL$7=$F165,$H165,\"\")","v":""},"",{"$f":"IF(CN$7=$F165,$H165,\"\")","v":""},"",{"$f":"IF(CP$7=$F165,$H165,\"\")","v":""},"",{"$f":"IF(CR$7=$F165,$H165,\"\")","v":""},"",{"$f":"IF(CT$7=$F165,$H165,\"\")","v":""},"",{"$f":"IF(CV$7=$F165,$H165,\"\")","v":""},"",{"$f":"IF(CX$7=$F165,$H165,\"\")","v":""},"",{"$f":"IF(CZ$7=$F165,$H165,\"\")","v":""},"",{"$f":"IF(DB$7=$F165,$H165,\"\")","v":""},"",{"$f":"IF(DD$7=$F165,$H165,\"\")","v":""},"",{"$f":"IF(DF$7=$F165,$H165,\"\")","v":""},0,{"$f":"IF(DH$7=$F165,$H165,\"\")","v":0},0,{"$f":"IF(DJ$7=$F165,$H165,\"\")","v":0},0,{"$f":"IF(DL$7=$F165,$H165,\"\")","v":0},0,{"$f":"IF(DN$7=$F165,$H165,\"\")","v":0},0,{"$f":"IF(DP$7=$F165,$H165,\"\")","v":0},0,{"$f":"IF(DR$7=$F165,$H165,\"\")","v":0},0,{"$f":"IF(DT$7=$F165,$H165,\"\")","v":0},0,{"$f":"IF(DV$7=$F165,$H165,\"\")","v":0},0,{"$f":"IF(DX$7=$F165,$H165,\"\")","v":0},0,{"$f":"IF(DZ$7=$F165,$H165,\"\")","v":0},0,{"$f":"IF(EB$7=$F165,$H165,\"\")","v":0},0,{"$f":"IF(ED$7=$F165,$H165,\"\")","v":0},0,{"$f":"IF(EF$7=$F165,$H165,\"\")","v":0},0,{"$f":"IF(EH$7=$F165,$H165,\"\")","v":0},0,{"$f":"IF(EJ$7=$F165,$H165,\"\")","v":0},0,{"$f":"IF(EL$7=$F165,$H165,\"\")","v":0},0,{"$f":"IF(EN$7=$F165,$H165,\"\")","v":0},0,{"$f":"IF(EP$7=$F165,$H165,\"\")","v":0},0,{"$f":"IF(ER$7=$F165,$H165,\"\")","v":0},0,{"$f":"IF(ET$7=$F165,$H165,\"\")","v":0},0,{"$f":"IF(EV$7=$F165,$H165,\"\")","v":0},0,{"$f":"IF(EX$7=$F165,$H165,\"\")","v":0},0,{"$f":"IF(EZ$7=$F165,$H165,\"\")","v":0},0,{"$f":"IF(FB$7=$F165,$H165,\"\")","v":0},0,{"$f":"IF(FD$7=$F165,$H165,\"\")","v":0},0,{"$f":"IF(FF$7=$F165,$H165,\"\")","v":0},0,{"$f":"IF(FH$7=$F165,$H165,\"\")","v":0},0,{"$f":"IF(FJ$7=$F165,$H165,\"\")","v":0},0,{"$f":"IF(FL$7=$F165,$H165,\"\")","v":0},0,0]
[158,null,null,null,null,null,null,null,true,0,0,"","","",{"$f":"IF(N$7=$F166,$H166,\"\")","v":""},"",{"$f":"IF(P$7=$F166,$H166,\"\")","v":""},"",{"$f":"IF(R$7=$F166,$H166,\"\")","v":""},"",{"$f":"IF(T$7=$F166,$H166,\"\")","v":""},"",{"$f":"IF(V$7=$F166,$H166,\"\")","v":""},"",{"$f":"IF(X$7=$F166,$H166,\"\")","v":""},"",{"$f":"IF(Z$7=$F166,$H166,\"\")","v":""},"",{"$f":"IF(AB$7=$F166,$H166,\"\")","v":""},"",{"$f":"IF(AD$7=$F166,$H166,\"\")","v":""},"",{"$f":"IF(AF$7=$F166,$H166,\"\")","v":""},"",{"$f":"IF(AH$7=$F166,$H166,\"\")","v":""},"",{"$f":"IF(AJ$7=$F166,$H166,\"\")","v":""},"",{"$f":"IF(AL$7=$F166,$H166,\"\")","v":""},"",{"$f":"IF(AN$7=$F166,$H166,\"\")","v":""},"",{"$f":"IF(AP$7=$F166,$H166,\"\")","v":""},"",{"$f":"IF(AR$7=$F166,$H166,\"\")","v":""},"",{"$f":"IF(AT$7=$F166,$H166,\"\")","v":""},"",{"$f":"IF(AV$7=$F166,$H166,\"\")","v":""},"",{"$f":"IF(AX$7=$F166,$H166,\"\")","v":""},"",{"$f":"IF(AZ$7=$F166,$H166,\"\")","v":""},"",{"$f":"IF(BB$7=$F166,$H166,\"\")","v":""},"",{"$f":"IF(BD$7=$F166,$H166,\"\")","v":""},"",{"$f":"IF(BF$7=$F166,$H166,\"\")","v":""},"",{"$f":"IF(BH$7=$F166,$H166,\"\")","v":""},"",{"$f":"IF(BJ$7=$F166,$H166,\"\")","v":""},"",{"$f":"IF(BL$7=$F166,$H166,\"\")","v":""},"",{"$f":"IF(BN$7=$F166,$H166,\"\")","v":""},"",{"$f":"IF(BP$7=$F166,$H166,\"\")","v":""},"",{"$f":"IF(BR$7=$F166,$H166,\"\")","v":""},"",{"$f":"IF(BT$7=$F166,$H166,\"\")","v":""},"",{"$f":"IF(BV$7=$F166,$H166,\"\")","v":""},"",{"$f":"IF(BX$7=$F166,$H166,\"\")","v":""},"",{"$f":"IF(BZ$7=$F166,$H166,\"\")","v":""},"",{"$f":"IF(CB$7=$F166,$H166,\"\")","v":""},"",{"$f":"IF(CD$7=$F166,$H166,\"\")","v":""},"",{"$f":"IF(CF$7=$F166,$H166,\"\")","v":""},"",{"$f":"IF(CH$7=$F166,$H166,\"\")","v":""},"",{"$f":"IF(CJ$7=$F166,$H166,\"\")","v":""},"",{"$f":"IF(CL$7=$F166,$H166,\"\")","v":""},"",{"$f":"IF(CN$7=$F166,$H166,\"\")","v":""},"",{"$f":"IF(CP$7=$F166,$H166,\"\")","v":""},"",{"$f":"IF(CR$7=$F166,$H166,\"\")","v":""},"",{"$f":"IF(CT$7=$F166,$H166,\"\")","v":""},"",{"$f":"IF(CV$7=$F166,$H166,\"\")","v":""},"",{"$f":"IF(CX$7=$F166,$H166,\"\")","v":""},"",{"$f":"IF(CZ$7=$F166,$H166,\"\")","v":""},"",{"$f":"IF(DB$7=$F166,$H166,\"\")","v":""},"",{"$f":"IF(DD$7=$F166,$H166,\"\")","v":""},"",{"$f":"IF(DF$7=$F166,$H166,\"\")","v":""},0,{"$f":"IF(DH$7=$F166,$H166,\"\")","v":0},0,{"$f":"IF(DJ$7=$F166,$H166,\"\")","v":0},0,{"$f":"IF(DL$7=$F166,$H166,\"\")","v":0},0,{"$f":"IF(DN$7=$F166,$H166,\"\")","v":0},0,{"$f":"IF(DP$7=$F166,$H166,\"\")","v":0},0,{"$f":"IF(DR$7=$F166,$H166,\"\")","v":0},0,{"$f":"IF(DT$7=$F166,$H166,\"\")","v":0},0,{"$f":"IF(DV$7=$F166,$H166,\"\")","v":0},0,{"$f":"IF(DX$7=$F166,$H166,\"\")","v":0},0,{"$f":"IF(DZ$7=$F166,$H166,\"\")","v":0},0,{"$f":"IF(EB$7=$F166,$H166,\"\")","v":0},0,{"$f":"IF(ED$7=$F166,$H166,\"\")","v":0},0,{"$f":"IF(EF$7=$F166,$H166,\"\")","v":0},0,{"$f":"IF(EH$7=$F166,$H166,\"\")","v":0},0,{"$f":"IF(EJ$7=$F166,$H166,\"\")","v":0},0,{"$f":"IF(EL$7=$F166,$H166,\"\")","v":0},0,{"$f":"IF(EN$7=$F166,$H166,\"\")","v":0},0,{"$f":"IF(EP$7=$F166,$H166,\"\")","v":0},0,{"$f":"IF(ER$7=$F166,$H166,\"\")","v":0},0,{"$f":"IF(ET$7=$F166,$H166,\"\")","v":0},0,{"$f":"IF(EV$7=$F166,$H166,\"\")","v":0},0,{"$f":"IF(EX$7=$F166,$H166,\"\")","v":0},0,{"$f":"IF(EZ$7=$F166,$H166,\"\")","v":0},0,{"$f":"IF(FB$7=$F166,$H166,\"\")","v":0},0,{"$f":"IF(FD$7=$F166,$H166,\"\")","v":0},0,{"$f":"IF(FF$7=$F166,$H166,\"\")","v":0},0,{"$f":"IF(FH$7=$F166,$H166,\"\")","v":0},0,{"$f":"IF(FJ$7=$F166,$H166,\"\")","v":0},0,{"$f":"IF(FL$7=$F166,$H166,\"\")","v":0},0,0]
[159,null,null,null,null,null,null,null,true,0,0,"","","",{"$f":"IF(N$7=$F167,$H167,\"\")","v":""},"",{"$f":"IF(P$7=$F167,$H167,\"\")","v":""},"",{"$f":"IF(R$7=$F167,$H167,\"\")","v":""},"",{"$f":"IF(T$7=$F167,$H167,\"\")","v":""},"",{"$f":"IF(V$7=$F167,$H167,\"\")","v":""},"",{"$f":"IF(X$7=$F167,$H167,\"\")","v":""},"",{"$f":"IF(Z$7=$F167,$H167,\"\")","v":""},"",{"$f":"IF(AB$7=$F167,$H167,\"\")","v":""},"",{"$f":"IF(AD$7=$F167,$H167,\"\")","v":""},"",{"$f":"IF(AF$7=$F167,$H167,\"\")","v":""},"",{"$f":"IF(AH$7=$F167,$H167,\"\")","v":""},"",{"$f":"IF(AJ$7=$F167,$H167,\"\")","v":""},"",{"$f":"IF(AL$7=$F167,$H167,\"\")","v":""},"",{"$f":"IF(AN$7=$F167,$H167,\"\")","v":""},"",{"$f":"IF(AP$7=$F167,$H167,\"\")","v":""},"",{"$f":"IF(AR$7=$F167,$H167,\"\")","v":""},"",{"$f":"IF(AT$7=$F167,$H167,\"\")","v":""},"",{"$f":"IF(AV$7=$F167,$H167,\"\")","v":""},"",{"$f":"IF(AX$7=$F167,$H167,\"\")","v":""},"",{"$f":"IF(AZ$7=$F167,$H167,\"\")","v":""},"",{"$f":"IF(BB$7=$F167,$H167,\"\")","v":""},"",{"$f":"IF(BD$7=$F167,$H167,\"\")","v":""},"",{"$f":"IF(BF$7=$F167,$H167,\"\")","v":""},"",{"$f":"IF(BH$7=$F167,$H167,\"\")","v":""},"",{"$f":"IF(BJ$7=$F167,$H167,\"\")","v":""},"",{"$f":"IF(BL$7=$F167,$H167,\"\")","v":""},"",{"$f":"IF(BN$7=$F167,$H167,\"\")","v":""},"",{"$f":"IF(BP$7=$F167,$H167,\"\")","v":""},"",{"$f":"IF(BR$7=$F167,$H167,\"\")","v":""},"",{"$f":"IF(BT$7=$F167,$H167,\"\")","v":""},"",{"$f":"IF(BV$7=$F167,$H167,\"\")","v":""},"",{"$f":"IF(BX$7=$F167,$H167,\"\")","v":""},"",{"$f":"IF(BZ$7=$F167,$H167,\"\")","v":""},"",{"$f":"IF(CB$7=$F167,$H167,\"\")","v":""},"",{"$f":"IF(CD$7=$F167,$H167,\"\")","v":""},"",{"$f":"IF(CF$7=$F167,$H167,\"\")","v":""},"",{"$f":"IF(CH$7=$F167,$H167,\"\")","v":""},"",{"$f":"IF(CJ$7=$F167,$H167,\"\")","v":""},"",{"$f":"IF(CL$7=$F167,$H167,\"\")","v":""},"",{"$f":"IF(CN$7=$F167,$H167,\"\")","v":""},"",{"$f":"IF(CP$7=$F167,$H167,\"\")","v":""},"",{"$f":"IF(CR$7=$F167,$H167,\"\")","v":""},"",{"$f":"IF(CT$7=$F167,$H167,\"\")","v":""},"",{"$f":"IF(CV$7=$F167,$H167,\"\")","v":""},"",{"$f":"IF(CX$7=$F167,$H167,\"\")","v":""},"",{"$f":"IF(CZ$7=$F167,$H167,\"\")","v":""},"",{"$f":"IF(DB$7=$F167,$H167,\"\")","v":""},"",{"$f":"IF(DD$7=$F167,$H167,\"\")","v":""},"",{"$f":"IF(DF$7=$F167,$H167,\"\")","v":""},0,{"$f":"IF(DH$7=$F167,$H167,\"\")","v":0},0,{"$f":"IF(DJ$7=$F167,$H167,\"\")","v":0},0,{"$f":"IF(DL$7=$F167,$H167,\"\")","v":0},0,{"$f":"IF(DN$7=$F167,$H167,\"\")","v":0},0,{"$f":"IF(DP$7=$F167,$H167,\"\")","v":0},0,{"$f":"IF(DR$7=$F167,$H167,\"\")","v":0},0,{"$f":"IF(DT$7=$F167,$H167,\"\")","v":0},0,{"$f":"IF(DV$7=$F167,$H167,\"\")","v":0},0,{"$f":"IF(DX$7=$F167,$H167,\"\")","v":0},0,{"$f":"IF(DZ$7=$F167,$H167,\"\")","v":0},0,{"$f":"IF(EB$7=$F167,$H167,\"\")","v":0},0,{"$f":"IF(ED$7=$F167,$H167,\"\")","v":0},0,{"$f":"IF(EF$7=$F167,$H167,\"\")","v":0},0,{"$f":"IF(EH$7=$F167,$H167,\"\")","v":0},0,{"$f":"IF(EJ$7=$F167,$H167,\"\")","v":0},0,{"$f":"IF(EL$7=$F167,$H167,\"\")","v":0},0,{"$f":"IF(EN$7=$F167,$H167,\"\")","v":0},0,{"$f":"IF(EP$7=$F167,$H167,\"\")","v":0},0,{"$f":"IF(ER$7=$F167,$H167,\"\")","v":0},0,{"$f":"IF(ET$7=$F167,$H167,\"\")","v":0},0,{"$f":"IF(EV$7=$F167,$H167,\"\")","v":0},0,{"$f":"IF(EX$7=$F167,$H167,\"\")","v":0},0,{"$f":"IF(EZ$7=$F167,$H167,\"\")","v":0},0,{"$f":"IF(FB$7=$F167,$H167,\"\")","v":0},0,{"$f":"IF(FD$7=$F167,$H167,\"\")","v":0},0,{"$f":"IF(FF$7=$F167,$H167,\"\")","v":0},0,{"$f":"IF(FH$7=$F167,$H167,\"\")","v":0},0,{"$f":"IF(FJ$7=$F167,$H167,\"\")","v":0},0,{"$f":"IF(FL$7=$F167,$H167,\"\")","v":0},0,0]
[160,null,null,null,null,null,null,null,true,0,0,"","","",{"$f":"IF(N$7=$F168,$H168,\"\")","v":""},"",{"$f":"IF(P$7=$F168,$H168,\"\")","v":""},"",{"$f":"IF(R$7=$F168,$H168,\"\")","v":""},"",{"$f":"IF(T$7=$F168,$H168,\"\")","v":""},"",{"$f":"IF(V$7=$F168,$H168,\"\")","v":""},"",{"$f":"IF(X$7=$F168,$H168,\"\")","v":""},"",{"$f":"IF(Z$7=$F168,$H168,\"\")","v":""},"",{"$f":"IF(AB$7=$F168,$H168,\"\")","v":""},"",{"$f":"IF(AD$7=$F168,$H168,\"\")","v":""},"",{"$f":"IF(AF$7=$F168,$H168,\"\")","v":""},"",{"$f":"IF(AH$7=$F168,$H168,\"\")","v":""},"",{"$f":"IF(AJ$7=$F168,$H168,\"\")","v":""},"",{"$f":"IF(AL$7=$F168,$H168,\"\")","v":""},"",{"$f":"IF(AN$7=$F168,$H168,\"\")","v":""},"",{"$f":"IF(AP$7=$F168,$H168,\"\")","v":""},"",{"$f":"IF(AR$7=$F168,$H168,\"\")","v":""},"",{"$f":"IF(AT$7=$F168,$H168,\"\")","v":""},"",{"$f":"IF(AV$7=$F168,$H168,\"\")","v":""},"",{"$f":"IF(AX$7=$F168,$H168,\"\")","v":""},"",{"$f":"IF(AZ$7=$F168,$H168,\"\")","v":""},"",{"$f":"IF(BB$7=$F168,$H168,\"\")","v":""},"",{"$f":"IF(BD$7=$F168,$H168,\"\")","v":""},"",{"$f":"IF(BF$7=$F168,$H168,\"\")","v":""},"",{"$f":"IF(BH$7=$F168,$H168,\"\")","v":""},"",{"$f":"IF(BJ$7=$F168,$H168,\"\")","v":""},"",{"$f":"IF(BL$7=$F168,$H168,\"\")","v":""},"",{"$f":"IF(BN$7=$F168,$H168,\"\")","v":""},"",{"$f":"IF(BP$7=$F168,$H168,\"\")","v":""},"",{"$f":"IF(BR$7=$F168,$H168,\"\")","v":""},"",{"$f":"IF(BT$7=$F168,$H168,\"\")","v":""},"",{"$f":"IF(BV$7=$F168,$H168,\"\")","v":""},"",{"$f":"IF(BX$7=$F168,$H168,\"\")","v":""},"",{"$f":"IF(BZ$7=$F168,$H168,\"\")","v":""},"",{"$f":"IF(CB$7=$F168,$H168,\"\")","v":""},"",{"$f":"IF(CD$7=$F168,$H168,\"\")","v":""},"",{"$f":"IF(CF$7=$F168,$H168,\"\")","v":""},"",{"$f":"IF(CH$7=$F168,$H168,\"\")","v":""},"",{"$f":"IF(CJ$7=$F168,$H168,\"\")","v":""},"",{"$f":"IF(CL$7=$F168,$H168,\"\")","v":""},"",{"$f":"IF(CN$7=$F168,$H168,\"\")","v":""},"",{"$f":"IF(CP$7=$F168,$H168,\"\")","v":""},"",{"$f":"IF(CR$7=$F168,$H168,\"\")","v":""},"",{"$f":"IF(CT$7=$F168,$H168,\"\")","v":""},"",{"$f":"IF(CV$7=$F168,$H168,\"\")","v":""},"",{"$f":"IF(CX$7=$F168,$H168,\"\")","v":""},"",{"$f":"IF(CZ$7=$F168,$H168,\"\")","v":""},"",{"$f":"IF(DB$7=$F168,$H168,\"\")","v":""},"",{"$f":"IF(DD$7=$F168,$H168,\"\")","v":""},"",{"$f":"IF(DF$7=$F168,$H168,\"\")","v":""},0,{"$f":"IF(DH$7=$F168,$H168,\"\")","v":0},0,{"$f":"IF(DJ$7=$F168,$H168,\"\")","v":0},0,{"$f":"IF(DL$7=$F168,$H168,\"\")","v":0},0,{"$f":"IF(DN$7=$F168,$H168,\"\")","v":0},0,{"$f":"IF(DP$7=$F168,$H168,\"\")","v":0},0,{"$f":"IF(DR$7=$F168,$H168,\"\")","v":0},0,{"$f":"IF(DT$7=$F168,$H168,\"\")","v":0},0,{"$f":"IF(DV$7=$F168,$H168,\"\")","v":0},0,{"$f":"IF(DX$7=$F168,$H168,\"\")","v":0},0,{"$f":"IF(DZ$7=$F168,$H168,\"\")","v":0},0,{"$f":"IF(EB$7=$F168,$H168,\"\")","v":0},0,{"$f":"IF(ED$7=$F168,$H168,\"\")","v":0},0,{"$f":"IF(EF$7=$F168,$H168,\"\")","v":0},0,{"$f":"IF(EH$7=$F168,$H168,\"\")","v":0},0,{"$f":"IF(EJ$7=$F168,$H168,\"\")","v":0},0,{"$f":"IF(EL$7=$F168,$H168,\"\")","v":0},0,{"$f":"IF(EN$7=$F168,$H168,\"\")","v":0},0,{"$f":"IF(EP$7=$F168,$H168,\"\")","v":0},0,{"$f":"IF(ER$7=$F168,$H168,\"\")","v":0},0,{"$f":"IF(ET$7=$F168,$H168,\"\")","v":0},0,{"$f":"IF(EV$7=$F168,$H168,\"\")","v":0},0,{"$f":"IF(EX$7=$F168,$H168,\"\")","v":0},0,{"$f":"IF(EZ$7=$F168,$H168,\"\")","v":0},0,{"$f":"IF(FB$7=$F168,$H168,\"\")","v":0},0,{"$f":"IF(FD$7=$F168,$H168,\"\")","v":0},0,{"$f":"IF(FF$7=$F168,$H168,\"\")","v":0},0,{"$f":"IF(FH$7=$F168,$H168,\"\")","v":0},0,{"$f":"IF(FJ$7=$F168,$H168,\"\")","v":0},0,{"$f":"IF(FL$7=$F168,$H168,\"\")","v":0},0,0]
[161,null,null,null,null,null,null,null,true,0,0,"","","",{"$f":"IF(N$7=$F169,$H169,\"\")","v":""},"",{"$f":"IF(P$7=$F169,$H169,\"\")","v":""},"",{"$f":"IF(R$7=$F169,$H169,\"\")","v":""},"",{"$f":"IF(T$7=$F169,$H169,\"\")","v":""},"",{"$f":"IF(V$7=$F169,$H169,\"\")","v":""},"",{"$f":"IF(X$7=$F169,$H169,\"\")","v":""},"",{"$f":"IF(Z$7=$F169,$H169,\"\")","v":""},"",{"$f":"IF(AB$7=$F169,$H169,\"\")","v":""},"",{"$f":"IF(AD$7=$F169,$H169,\"\")","v":""},"",{"$f":"IF(AF$7=$F169,$H169,\"\")","v":""},"",{"$f":"IF(AH$7=$F169,$H169,\"\")","v":""},"",{"$f":"IF(AJ$7=$F169,$H169,\"\")","v":""},"",{"$f":"IF(AL$7=$F169,$H169,\"\")","v":""},"",{"$f":"IF(AN$7=$F169,$H169,\"\")","v":""},"",{"$f":"IF(AP$7=$F169,$H169,\"\")","v":""},"",{"$f":"IF(AR$7=$F169,$H169,\"\")","v":""},"",{"$f":"IF(AT$7=$F169,$H169,\"\")","v":""},"",{"$f":"IF(AV$7=$F169,$H169,\"\")","v":""},"",{"$f":"IF(AX$7=$F169,$H169,\"\")","v":""},"",{"$f":"IF(AZ$7=$F169,$H169,\"\")","v":""},"",{"$f":"IF(BB$7=$F169,$H169,\"\")","v":""},"",{"$f":"IF(BD$7=$F169,$H169,\"\")","v":""},"",{"$f":"IF(BF$7=$F169,$H169,\"\")","v":""},"",{"$f":"IF(BH$7=$F169,$H169,\"\")","v":""},"",{"$f":"IF(BJ$7=$F169,$H169,\"\")","v":""},"",{"$f":"IF(BL$7=$F169,$H169,\"\")","v":""},"",{"$f":"IF(BN$7=$F169,$H169,\"\")","v":""},"",{"$f":"IF(BP$7=$F169,$H169,\"\")","v":""},"",{"$f":"IF(BR$7=$F169,$H169,\"\")","v":""},"",{"$f":"IF(BT$7=$F169,$H169,\"\")","v":""},"",{"$f":"IF(BV$7=$F169,$H169,\"\")","v":""},"",{"$f":"IF(BX$7=$F169,$H169,\"\")","v":""},"",{"$f":"IF(BZ$7=$F169,$H169,\"\")","v":""},"",{"$f":"IF(CB$7=$F169,$H169,\"\")","v":""},"",{"$f":"IF(CD$7=$F169,$H169,\"\")","v":""},"",{"$f":"IF(CF$7=$F169,$H169,\"\")","v":""},"",{"$f":"IF(CH$7=$F169,$H169,\"\")","v":""},"",{"$f":"IF(CJ$7=$F169,$H169,\"\")","v":""},"",{"$f":"IF(CL$7=$F169,$H169,\"\")","v":""},"",{"$f":"IF(CN$7=$F169,$H169,\"\")","v":""},"",{"$f":"IF(CP$7=$F169,$H169,\"\")","v":""},"",{"$f":"IF(CR$7=$F169,$H169,\"\")","v":""},"",{"$f":"IF(CT$7=$F169,$H169,\"\")","v":""},"",{"$f":"IF(CV$7=$F169,$H169,\"\")","v":""},"",{"$f":"IF(CX$7=$F169,$H169,\"\")","v":""},"",{"$f":"IF(CZ$7=$F169,$H169,\"\")","v":""},"",{"$f":"IF(DB$7=$F169,$H169,\"\")","v":""},"",{"$f":"IF(DD$7=$F169,$H169,\"\")","v":""},"",{"$f":"IF(DF$7=$F169,$H169,\"\")","v":""},0,{"$f":"IF(DH$7=$F169,$H169,\"\")","v":0},0,{"$f":"IF(DJ$7=$F169,$H169,\"\")","v":0},0,{"$f":"IF(DL$7=$F169,$H169,\"\")","v":0},0,{"$f":"IF(DN$7=$F169,$H169,\"\")","v":0},0,{"$f":"IF(DP$7=$F169,$H169,\"\")","v":0},0,{"$f":"IF(DR$7=$F169,$H169,\"\")","v":0},0,{"$f":"IF(DT$7=$F169,$H169,\"\")","v":0},0,{"$f":"IF(DV$7=$F169,$H169,\"\")","v":0},0,{"$f":"IF(DX$7=$F169,$H169,\"\")","v":0},0,{"$f":"IF(DZ$7=$F169,$H169,\"\")","v":0},0,{"$f":"IF(EB$7=$F169,$H169,\"\")","v":0},0,{"$f":"IF(ED$7=$F169,$H169,\"\")","v":0},0,{"$f":"IF(EF$7=$F169,$H169,\"\")","v":0},0,{"$f":"IF(EH$7=$F169,$H169,\"\")","v":0},0,{"$f":"IF(EJ$7=$F169,$H169,\"\")","v":0},0,{"$f":"IF(EL$7=$F169,$H169,\"\")","v":0},0,{"$f":"IF(EN$7=$F169,$H169,\"\")","v":0},0,{"$f":"IF(EP$7=$F169,$H169,\"\")","v":0},0,{"$f":"IF(ER$7=$F169,$H169,\"\")","v":0},0,{"$f":"IF(ET$7=$F169,$H169,\"\")","v":0},0,{"$f":"IF(EV$7=$F169,$H169,\"\")","v":0},0,{"$f":"IF(EX$7=$F169,$H169,\"\")","v":0},0,{"$f":"IF(EZ$7=$F169,$H169,\"\")","v":0},0,{"$f":"IF(FB$7=$F169,$H169,\"\")","v":0},0,{"$f":"IF(FD$7=$F169,$H169,\"\")","v":0},0,{"$f":"IF(FF$7=$F169,$H169,\"\")","v":0},0,{"$f":"IF(FH$7=$F169,$H169,\"\")","v":0},0,{"$f":"IF(FJ$7=$F169,$H169,\"\")","v":0},0,{"$f":"IF(FL$7=$F169,$H169,\"\")","v":0},0,0]
[162,null,null,null,null,null,null,null,true,0,0,"","","",{"$f":"IF(N$7=$F170,$H170,\"\")","v":""},"",{"$f":"IF(P$7=$F170,$H170,\"\")","v":""},"",{"$f":"IF(R$7=$F170,$H170,\"\")","v":""},"",{"$f":"IF(T$7=$F170,$H170,\"\")","v":""},"",{"$f":"IF(V$7=$F170,$H170,\"\")","v":""},"",{"$f":"IF(X$7=$F170,$H170,\"\")","v":""},"",{"$f":"IF(Z$7=$F170,$H170,\"\")","v":""},"",{"$f":"IF(AB$7=$F170,$H170,\"\")","v":""},"",{"$f":"IF(AD$7=$F170,$H170,\"\")","v":""},"",{"$f":"IF(AF$7=$F170,$H170,\"\")","v":""},"",{"$f":"IF(AH$7=$F170,$H170,\"\")","v":""},"",{"$f":"IF(AJ$7=$F170,$H170,\"\")","v":""},"",{"$f":"IF(AL$7=$F170,$H170,\"\")","v":""},"",{"$f":"IF(AN$7=$F170,$H170,\"\")","v":""},"",{"$f":"IF(AP$7=$F170,$H170,\"\")","v":""},"",{"$f":"IF(AR$7=$F170,$H170,\"\")","v":""},"",{"$f":"IF(AT$7=$F170,$H170,\"\")","v":""},"",{"$f":"IF(AV$7=$F170,$H170,\"\")","v":""},"",{"$f":"IF(AX$7=$F170,$H170,\"\")","v":""},"",{"$f":"IF(AZ$7=$F170,$H170,\"\")","v":""},"",{"$f":"IF(BB$7=$F170,$H170,\"\")","v":""},"",{"$f":"IF(BD$7=$F170,$H170,\"\")","v":""},"",{"$f":"IF(BF$7=$F170,$H170,\"\")","v":""},"",{"$f":"IF(BH$7=$F170,$H170,\"\")","v":""},"",{"$f":"IF(BJ$7=$F170,$H170,\"\")","v":""},"",{"$f":"IF(BL$7=$F170,$H170,\"\")","v":""},"",{"$f":"IF(BN$7=$F170,$H170,\"\")","v":""},"",{"$f":"IF(BP$7=$F170,$H170,\"\")","v":""},"",{"$f":"IF(BR$7=$F170,$H170,\"\")","v":""},"",{"$f":"IF(BT$7=$F170,$H170,\"\")","v":""},"",{"$f":"IF(BV$7=$F170,$H170,\"\")","v":""},"",{"$f":"IF(BX$7=$F170,$H170,\"\")","v":""},"",{"$f":"IF(BZ$7=$F170,$H170,\"\")","v":""},"",{"$f":"IF(CB$7=$F170,$H170,\"\")","v":""},"",{"$f":"IF(CD$7=$F170,$H170,\"\")","v":""},"",{"$f":"IF(CF$7=$F170,$H170,\"\")","v":""},"",{"$f":"IF(CH$7=$F170,$H170,\"\")","v":""},"",{"$f":"IF(CJ$7=$F170,$H170,\"\")","v":""},"",{"$f":"IF(CL$7=$F170,$H170,\"\")","v":""},"",{"$f":"IF(CN$7=$F170,$H170,\"\")","v":""},"",{"$f":"IF(CP$7=$F170,$H170,\"\")","v":""},"",{"$f":"IF(CR$7=$F170,$H170,\"\")","v":""},"",{"$f":"IF(CT$7=$F170,$H170,\"\")","v":""},"",{"$f":"IF(CV$7=$F170,$H170,\"\")","v":""},"",{"$f":"IF(CX$7=$F170,$H170,\"\")","v":""},"",{"$f":"IF(CZ$7=$F170,$H170,\"\")","v":""},"",{"$f":"IF(DB$7=$F170,$H170,\"\")","v":""},"",{"$f":"IF(DD$7=$F170,$H170,\"\")","v":""},"",{"$f":"IF(DF$7=$F170,$H170,\"\")","v":""},0,{"$f":"IF(DH$7=$F170,$H170,\"\")","v":0},0,{"$f":"IF(DJ$7=$F170,$H170,\"\")","v":0},0,{"$f":"IF(DL$7=$F170,$H170,\"\")","v":0},0,{"$f":"IF(DN$7=$F170,$H170,\"\")","v":0},0,{"$f":"IF(DP$7=$F170,$H170,\"\")","v":0},0,{"$f":"IF(DR$7=$F170,$H170,\"\")","v":0},0,{"$f":"IF(DT$7=$F170,$H170,\"\")","v":0},0,{"$f":"IF(DV$7=$F170,$H170,\"\")","v":0},0,{"$f":"IF(DX$7=$F170,$H170,\"\")","v":0},0,{"$f":"IF(DZ$7=$F170,$H170,\"\")","v":0},0,{"$f":"IF(EB$7=$F170,$H170,\"\")","v":0},0,{"$f":"IF(ED$7=$F170,$H170,\"\")","v":0},0,{"$f":"IF(EF$7=$F170,$H170,\"\")","v":0},0,{"$f":"IF(EH$7=$F170,$H170,\"\")","v":0},0,{"$f":"IF(EJ$7=$F170,$H170,\"\")","v":0},0,{"$f":"IF(EL$7=$F170,$H170,\"\")","v":0},0,{"$f":"IF(EN$7=$F170,$H170,\"\")","v":0},0,{"$f":"IF(EP$7=$F170,$H170,\"\")","v":0},0,{"$f":"IF(ER$7=$F170,$H170,\"\")","v":0},0,{"$f":"IF(ET$7=$F170,$H170,\"\")","v":0},0,{"$f":"IF(EV$7=$F170,$H170,\"\")","v":0},0,{"$f":"IF(EX$7=$F170,$H170,\"\")","v":0},0,{"$f":"IF(EZ$7=$F170,$H170,\"\")","v":0},0,{"$f":"IF(FB$7=$F170,$H170,\"\")","v":0},0,{"$f":"IF(FD$7=$F170,$H170,\"\")","v":0},0,{"$f":"IF(FF$7=$F170,$H170,\"\")","v":0},0,{"$f":"IF(FH$7=$F170,$H170,\"\")","v":0},0,{"$f":"IF(FJ$7=$F170,$H170,\"\")","v":0},0,{"$f":"IF(FL$7=$F170,$H170,\"\")","v":0},0,0]
[163,null,null,null,null,null,null,null,true,0,0,"","","",{"$f":"IF(N$7=$F171,$H171,\"\")","v":""},"",{"$f":"IF(P$7=$F171,$H171,\"\")","v":""},"",{"$f":"IF(R$7=$F171,$H171,\"\")","v":""},"",{"$f":"IF(T$7=$F171,$H171,\"\")","v":""},"",{"$f":"IF(V$7=$F171,$H171,\"\")","v":""},"",{"$f":"IF(X$7=$F171,$H171,\"\")","v":""},"",{"$f":"IF(Z$7=$F171,$H171,\"\")","v":""},"",{"$f":"IF(AB$7=$F171,$H171,\"\")","v":""},"",{"$f":"IF(AD$7=$F171,$H171,\"\")","v":""},"",{"$f":"IF(AF$7=$F171,$H171,\"\")","v":""},"",{"$f":"IF(AH$7=$F171,$H171,\"\")","v":""},"",{"$f":"IF(AJ$7=$F171,$H171,\"\")","v":""},"",{"$f":"IF(AL$7=$F171,$H171,\"\")","v":""},"",{"$f":"IF(AN$7=$F171,$H171,\"\")","v":""},"",{"$f":"IF(AP$7=$F171,$H171,\"\")","v":""},"",{"$f":"IF(AR$7=$F171,$H171,\"\")","v":""},"",{"$f":"IF(AT$7=$F171,$H171,\"\")","v":""},"",{"$f":"IF(AV$7=$F171,$H171,\"\")","v":""},"",{"$f":"IF(AX$7=$F171,$H171,\"\")","v":""},"",{"$f":"IF(AZ$7=$F171,$H171,\"\")","v":""},"",{"$f":"IF(BB$7=$F171,$H171,\"\")","v":""},"",{"$f":"IF(BD$7=$F171,$H171,\"\")","v":""},"",{"$f":"IF(BF$7=$F171,$H171,\"\")","v":""},"",{"$f":"IF(BH$7=$F171,$H171,\"\")","v":""},"",{"$f":"IF(BJ$7=$F171,$H171,\"\")","v":""},"",{"$f":"IF(BL$7=$F171,$H171,\"\")","v":""},"",{"$f":"IF(BN$7=$F171,$H171,\"\")","v":""},"",{"$f":"IF(BP$7=$F171,$H171,\"\")","v":""},"",{"$f":"IF(BR$7=$F171,$H171,\"\")","v":""},"",{"$f":"IF(BT$7=$F171,$H171,\"\")","v":""},"",{"$f":"IF(BV$7=$F171,$H171,\"\")","v":""},"",{"$f":"IF(BX$7=$F171,$H171,\"\")","v":""},"",{"$f":"IF(BZ$7=$F171,$H171,\"\")","v":""},"",{"$f":"IF(CB$7=$F171,$H171,\"\")","v":""},"",{"$f":"IF(CD$7=$F171,$H171,\"\")","v":""},"",{"$f":"IF(CF$7=$F171,$H171,\"\")","v":""},"",{"$f":"IF(CH$7=$F171,$H171,\"\")","v":""},"",{"$f":"IF(CJ$7=$F171,$H171,\"\")","v":""},"",{"$f":"IF(CL$7=$F171,$H171,\"\")","v":""},"",{"$f":"IF(CN$7=$F171,$H171,\"\")","v":""},"",{"$f":"IF(CP$7=$F171,$H171,\"\")","v":""},"",{"$f":"IF(CR$7=$F171,$H171,\"\")","v":""},"",{"$f":"IF(CT$7=$F171,$H171,\"\")","v":""},"",{"$f":"IF(CV$7=$F171,$H171,\"\")","v":""},"",{"$f":"IF(CX$7=$F171,$H171,\"\")","v":""},"",{"$f":"IF(CZ$7=$F171,$H171,\"\")","v":""},"",{"$f":"IF(DB$7=$F171,$H171,\"\")","v":""},"",{"$f":"IF(DD$7=$F171,$H171,\"\")","v":""},"",{"$f":"IF(DF$7=$F171,$H171,\"\")","v":""},0,{"$f":"IF(DH$7=$F171,$H171,\"\")","v":0},0,{"$f":"IF(DJ$7=$F171,$H171,\"\")","v":0},0,{"$f":"IF(DL$7=$F171,$H171,\"\")","v":0},0,{"$f":"IF(DN$7=$F171,$H171,\"\")","v":0},0,{"$f":"IF(DP$7=$F171,$H171,\"\")","v":0},0,{"$f":"IF(DR$7=$F171,$H171,\"\")","v":0},0,{"$f":"IF(DT$7=$F171,$H171,\"\")","v":0},0,{"$f":"IF(DV$7=$F171,$H171,\"\")","v":0},0,{"$f":"IF(DX$7=$F171,$H171,\"\")","v":0},0,{"$f":"IF(DZ$7=$F171,$H171,\"\")","v":0},0,{"$f":"IF(EB$7=$F171,$H171,\"\")","v":0},0,{"$f":"IF(ED$7=$F171,$H171,\"\")","v":0},0,{"$f":"IF(EF$7=$F171,$H171,\"\")","v":0},0,{"$f":"IF(EH$7=$F171,$H171,\"\")","v":0},0,{"$f":"IF(EJ$7=$F171,$H171,\"\")","v":0},0,{"$f":"IF(EL$7=$F171,$H171,\"\")","v":0},0,{"$f":"IF(EN$7=$F171,$H171,\"\")","v":0},0,{"$f":"IF(EP$7=$F171,$H171,\"\")","v":0},0,{"$f":"IF(ER$7=$F171,$H171,\"\")","v":0},0,{"$f":"IF(ET$7=$F171,$H171,\"\")","v":0},0,{"$f":"IF(EV$7=$F171,$H171,\"\")","v":0},0,{"$f":"IF(EX$7=$F171,$H171,\"\")","v":0},0,{"$f":"IF(EZ$7=$F171,$H171,\"\")","v":0},0,{"$f":"IF(FB$7=$F171,$H171,\"\")","v":0},0,{"$f":"IF(FD$7=$F171,$H171,\"\")","v":0},0,{"$f":"IF(FF$7=$F171,$H171,\"\")","v":0},0,{"$f":"IF(FH$7=$F171,$H171,\"\")","v":0},0,{"$f":"IF(FJ$7=$F171,$H171,\"\")","v":0},0,{"$f":"IF(FL$7=$F171,$H171,\"\")","v":0},0,0]
[164,null,null,null,null,null,null,null,true,0,0,"","","",{"$f":"IF(N$7=$F172,$H172,\"\")","v":""},"",{"$f":"IF(P$7=$F172,$H172,\"\")","v":""},"",{"$f":"IF(R$7=$F172,$H172,\"\")","v":""},"",{"$f":"IF(T$7=$F172,$H172,\"\")","v":""},"",{"$f":"IF(V$7=$F172,$H172,\"\")","v":""},"",{"$f":"IF(X$7=$F172,$H172,\"\")","v":""},"",{"$f":"IF(Z$7=$F172,$H172,\"\")","v":""},"",{"$f":"IF(AB$7=$F172,$H172,\"\")","v":""},"",{"$f":"IF(AD$7=$F172,$H172,\"\")","v":""},"",{"$f":"IF(AF$7=$F172,$H172,\"\")","v":""},"",{"$f":"IF(AH$7=$F172,$H172,\"\")","v":""},"",{"$f":"IF(AJ$7=$F172,$H172,\"\")","v":""},"",{"$f":"IF(AL$7=$F172,$H172,\"\")","v":""},"",{"$f":"IF(AN$7=$F172,$H172,\"\")","v":""},"",{"$f":"IF(AP$7=$F172,$H172,\"\")","v":""},"",{"$f":"IF(AR$7=$F172,$H172,\"\")","v":""},"",{"$f":"IF(AT$7=$F172,$H172,\"\")","v":""},"",{"$f":"IF(AV$7=$F172,$H172,\"\")","v":""},"",{"$f":"IF(AX$7=$F172,$H172,\"\")","v":""},"",{"$f":"IF(AZ$7=$F172,$H172,\"\")","v":""},"",{"$f":"IF(BB$7=$F172,$H172,\"\")","v":""},"",{"$f":"IF(BD$7=$F172,$H172,\"\")","v":""},"",{"$f":"IF(BF$7=$F172,$H172,\"\")","v":""},"",{"$f":"IF(BH$7=$F172,$H172,\"\")","v":""},"",{"$f":"IF(BJ$7=$F172,$H172,\"\")","v":""},"",{"$f":"IF(BL$7=$F172,$H172,\"\")","v":""},"",{"$f":"IF(BN$7=$F172,$H172,\"\")","v":""},"",{"$f":"IF(BP$7=$F172,$H172,\"\")","v":""},"",{"$f":"IF(BR$7=$F172,$H172,\"\")","v":""},"",{"$f":"IF(BT$7=$F172,$H172,\"\")","v":""},"",{"$f":"IF(BV$7=$F172,$H172,\"\")","v":""},"",{"$f":"IF(BX$7=$F172,$H172,\"\")","v":""},"",{"$f":"IF(BZ$7=$F172,$H172,\"\")","v":""},"",{"$f":"IF(CB$7=$F172,$H172,\"\")","v":""},"",{"$f":"IF(CD$7=$F172,$H172,\"\")","v":""},"",{"$f":"IF(CF$7=$F172,$H172,\"\")","v":""},"",{"$f":"IF(CH$7=$F172,$H172,\"\")","v":""},"",{"$f":"IF(CJ$7=$F172,$H172,\"\")","v":""},"",{"$f":"IF(CL$7=$F172,$H172,\"\")","v":""},"",{"$f":"IF(CN$7=$F172,$H172,\"\")","v":""},"",{"$f":"IF(CP$7=$F172,$H172,\"\")","v":""},"",{"$f":"IF(CR$7=$F172,$H172,\"\")","v":""},"",{"$f":"IF(CT$7=$F172,$H172,\"\")","v":""},"",{"$f":"IF(CV$7=$F172,$H172,\"\")","v":""},"",{"$f":"IF(CX$7=$F172,$H172,\"\")","v":""},"",{"$f":"IF(CZ$7=$F172,$H172,\"\")","v":""},"",{"$f":"IF(DB$7=$F172,$H172,\"\")","v":""},"",{"$f":"IF(DD$7=$F172,$H172,\"\")","v":""},"",{"$f":"IF(DF$7=$F172,$H172,\"\")","v":""},0,{"$f":"IF(DH$7=$F172,$H172,\"\")","v":0},0,{"$f":"IF(DJ$7=$F172,$H172,\"\")","v":0},0,{"$f":"IF(DL$7=$F172,$H172,\"\")","v":0},0,{"$f":"IF(DN$7=$F172,$H172,\"\")","v":0},0,{"$f":"IF(DP$7=$F172,$H172,\"\")","v":0},0,{"$f":"IF(DR$7=$F172,$H172,\"\")","v":0},0,{"$f":"IF(DT$7=$F172,$H172,\"\")","v":0},0,{"$f":"IF(DV$7=$F172,$H172,\"\")","v":0},0,{"$f":"IF(DX$7=$F172,$H172,\"\")","v":0},0,{"$f":"IF(DZ$7=$F172,$H172,\"\")","v":0},0,{"$f":"IF(EB$7=$F172,$H172,\"\")","v":0},0,{"$f":"IF(ED$7=$F172,$H172,\"\")","v":0},0,{"$f":"IF(EF$7=$F172,$H172,\"\")","v":0},0,{"$f":"IF(EH$7=$F172,$H172,\"\")","v":0},0,{"$f":"IF(EJ$7=$F172,$H172,\"\")","v":0},0,{"$f":"IF(EL$7=$F172,$H172,\"\")","v":0},0,{"$f":"IF(EN$7=$F172,$H172,\"\")","v":0},0,{"$f":"IF(EP$7=$F172,$H172,\"\")","v":0},0,{"$f":"IF(ER$7=$F172,$H172,\"\")","v":0},0,{"$f":"IF(ET$7=$F172,$H172,\"\")","v":0},0,{"$f":"IF(EV$7=$F172,$H172,\"\")","v":0},0,{"$f":"IF(EX$7=$F172,$H172,\"\")","v":0},0,{"$f":"IF(EZ$7=$F172,$H172,\"\")","v":0},0,{"$f":"IF(FB$7=$F172,$H172,\"\")","v":0},0,{"$f":"IF(FD$7=$F172,$H172,\"\")","v":0},0,{"$f":"IF(FF$7=$F172,$H172,\"\")","v":0},0,{"$f":"IF(FH$7=$F172,$H172,\"\")","v":0},0,{"$f":"IF(FJ$7=$F172,$H172,\"\")","v":0},0,{"$f":"IF(FL$7=$F172,$H172,\"\")","v":0},0,0]
[165,null,null,null,null,null,null,null,true,0,0,"","","",{"$f":"IF(N$7=$F173,$H173,\"\")","v":""},"",{"$f":"IF(P$7=$F173,$H173,\"\")","v":""},"",{"$f":"IF(R$7=$F173,$H173,\"\")","v":""},"",{"$f":"IF(T$7=$F173,$H173,\"\")","v":""},"",{"$f":"IF(V$7=$F173,$H173,\"\")","v":""},"",{"$f":"IF(X$7=$F173,$H173,\"\")","v":""},"",{"$f":"IF(Z$7=$F173,$H173,\"\")","v":""},"",{"$f":"IF(AB$7=$F173,$H173,\"\")","v":""},"",{"$f":"IF(AD$7=$F173,$H173,\"\")","v":""},"",{"$f":"IF(AF$7=$F173,$H173,\"\")","v":""},"",{"$f":"IF(AH$7=$F173,$H173,\"\")","v":""},"",{"$f":"IF(AJ$7=$F173,$H173,\"\")","v":""},"",{"$f":"IF(AL$7=$F173,$H173,\"\")","v":""},"",{"$f":"IF(AN$7=$F173,$H173,\"\")","v":""},"",{"$f":"IF(AP$7=$F173,$H173,\"\")","v":""},"",{"$f":"IF(AR$7=$F173,$H173,\"\")","v":""},"",{"$f":"IF(AT$7=$F173,$H173,\"\")","v":""},"",{"$f":"IF(AV$7=$F173,$H173,\"\")","v":""},"",{"$f":"IF(AX$7=$F173,$H173,\"\")","v":""},"",{"$f":"IF(AZ$7=$F173,$H173,\"\")","v":""},"",{"$f":"IF(BB$7=$F173,$H173,\"\")","v":""},"",{"$f":"IF(BD$7=$F173,$H173,\"\")","v":""},"",{"$f":"IF(BF$7=$F173,$H173,\"\")","v":""},"",{"$f":"IF(BH$7=$F173,$H173,\"\")","v":""},"",{"$f":"IF(BJ$7=$F173,$H173,\"\")","v":""},"",{"$f":"IF(BL$7=$F173,$H173,\"\")","v":""},"",{"$f":"IF(BN$7=$F173,$H173,\"\")","v":""},"",{"$f":"IF(BP$7=$F173,$H173,\"\")","v":""},"",{"$f":"IF(BR$7=$F173,$H173,\"\")","v":""},"",{"$f":"IF(BT$7=$F173,$H173,\"\")","v":""},"",{"$f":"IF(BV$7=$F173,$H173,\"\")","v":""},"",{"$f":"IF(BX$7=$F173,$H173,\"\")","v":""},"",{"$f":"IF(BZ$7=$F173,$H173,\"\")","v":""},"",{"$f":"IF(CB$7=$F173,$H173,\"\")","v":""},"",{"$f":"IF(CD$7=$F173,$H173,\"\")","v":""},"",{"$f":"IF(CF$7=$F173,$H173,\"\")","v":""},"",{"$f":"IF(CH$7=$F173,$H173,\"\")","v":""},"",{"$f":"IF(CJ$7=$F173,$H173,\"\")","v":""},"",{"$f":"IF(CL$7=$F173,$H173,\"\")","v":""},"",{"$f":"IF(CN$7=$F173,$H173,\"\")","v":""},"",{"$f":"IF(CP$7=$F173,$H173,\"\")","v":""},"",{"$f":"IF(CR$7=$F173,$H173,\"\")","v":""},"",{"$f":"IF(CT$7=$F173,$H173,\"\")","v":""},"",{"$f":"IF(CV$7=$F173,$H173,\"\")","v":""},"",{"$f":"IF(CX$7=$F173,$H173,\"\")","v":""},"",{"$f":"IF(CZ$7=$F173,$H173,\"\")","v":""},"",{"$f":"IF(DB$7=$F173,$H173,\"\")","v":""},"",{"$f":"IF(DD$7=$F173,$H173,\"\")","v":""},"",{"$f":"IF(DF$7=$F173,$H173,\"\")","v":""},0,{"$f":"IF(DH$7=$F173,$H173,\"\")","v":0},0,{"$f":"IF(DJ$7=$F173,$H173,\"\")","v":0},0,{"$f":"IF(DL$7=$F173,$H173,\"\")","v":0},0,{"$f":"IF(DN$7=$F173,$H173,\"\")","v":0},0,{"$f":"IF(DP$7=$F173,$H173,\"\")","v":0},0,{"$f":"IF(DR$7=$F173,$H173,\"\")","v":0},0,{"$f":"IF(DT$7=$F173,$H173,\"\")","v":0},0,{"$f":"IF(DV$7=$F173,$H173,\"\")","v":0},0,{"$f":"IF(DX$7=$F173,$H173,\"\")","v":0},0,{"$f":"IF(DZ$7=$F173,$H173,\"\")","v":0},0,{"$f":"IF(EB$7=$F173,$H173,\"\")","v":0},0,{"$f":"IF(ED$7=$F173,$H173,\"\")","v":0},0,{"$f":"IF(EF$7=$F173,$H173,\"\")","v":0},0,{"$f":"IF(EH$7=$F173,$H173,\"\")","v":0},0,{"$f":"IF(EJ$7=$F173,$H173,\"\")","v":0},0,{"$f":"IF(EL$7=$F173,$H173,\"\")","v":0},0,{"$f":"IF(EN$7=$F173,$H173,\"\")","v":0},0,{"$f":"IF(EP$7=$F173,$H173,\"\")","v":0},0,{"$f":"IF(ER$7=$F173,$H173,\"\")","v":0},0,{"$f":"IF(ET$7=$F173,$H173,\"\")","v":0},0,{"$f":"IF(EV$7=$F173,$H173,\"\")","v":0},0,{"$f":"IF(EX$7=$F173,$H173,\"\")","v":0},0,{"$f":"IF(EZ$7=$F173,$H173,\"\")","v":0},0,{"$f":"IF(FB$7=$F173,$H173,\"\")","v":0},0,{"$f":"IF(FD$7=$F173,$H173,\"\")","v":0},0,{"$f":"IF(FF$7=$F173,$H173,\"\")","v":0},0,{"$f":"IF(FH$7=$F173,$H173,\"\")","v":0},0,{"$f":"IF(FJ$7=$F173,$H173,\"\")","v":0},0,{"$f":"IF(FL$7=$F173,$H173,\"\")","v":0},0,0]
[166,null,null,null,null,null,null,null,true,0,0,"","","",{"$f":"IF(N$7=$F174,$H174,\"\")","v":""},"",{"$f":"IF(P$7=$F174,$H174,\"\")","v":""},"",{"$f":"IF(R$7=$F174,$H174,\"\")","v":""},"",{"$f":"IF(T$7=$F174,$H174,\"\")","v":""},"",{"$f":"IF(V$7=$F174,$H174,\"\")","v":""},"",{"$f":"IF(X$7=$F174,$H174,\"\")","v":""},"",{"$f":"IF(Z$7=$F174,$H174,\"\")","v":""},"",{"$f":"IF(AB$7=$F174,$H174,\"\")","v":""},"",{"$f":"IF(AD$7=$F174,$H174,\"\")","v":""},"",{"$f":"IF(AF$7=$F174,$H174,\"\")","v":""},"",{"$f":"IF(AH$7=$F174,$H174,\"\")","v":""},"",{"$f":"IF(AJ$7=$F174,$H174,\"\")","v":""},"",{"$f":"IF(AL$7=$F174,$H174,\"\")","v":""},"",{"$f":"IF(AN$7=$F174,$H174,\"\")","v":""},"",{"$f":"IF(AP$7=$F174,$H174,\"\")","v":""},"",{"$f":"IF(AR$7=$F174,$H174,\"\")","v":""},"",{"$f":"IF(AT$7=$F174,$H174,\"\")","v":""},"",{"$f":"IF(AV$7=$F174,$H174,\"\")","v":""},"",{"$f":"IF(AX$7=$F174,$H174,\"\")","v":""},"",{"$f":"IF(AZ$7=$F174,$H174,\"\")","v":""},"",{"$f":"IF(BB$7=$F174,$H174,\"\")","v":""},"",{"$f":"IF(BD$7=$F174,$H174,\"\")","v":""},"",{"$f":"IF(BF$7=$F174,$H174,\"\")","v":""},"",{"$f":"IF(BH$7=$F174,$H174,\"\")","v":""},"",{"$f":"IF(BJ$7=$F174,$H174,\"\")","v":""},"",{"$f":"IF(BL$7=$F174,$H174,\"\")","v":""},"",{"$f":"IF(BN$7=$F174,$H174,\"\")","v":""},"",{"$f":"IF(BP$7=$F174,$H174,\"\")","v":""},"",{"$f":"IF(BR$7=$F174,$H174,\"\")","v":""},"",{"$f":"IF(BT$7=$F174,$H174,\"\")","v":""},"",{"$f":"IF(BV$7=$F174,$H174,\"\")","v":""},"",{"$f":"IF(BX$7=$F174,$H174,\"\")","v":""},"",{"$f":"IF(BZ$7=$F174,$H174,\"\")","v":""},"",{"$f":"IF(CB$7=$F174,$H174,\"\")","v":""},"",{"$f":"IF(CD$7=$F174,$H174,\"\")","v":""},"",{"$f":"IF(CF$7=$F174,$H174,\"\")","v":""},"",{"$f":"IF(CH$7=$F174,$H174,\"\")","v":""},"",{"$f":"IF(CJ$7=$F174,$H174,\"\")","v":""},"",{"$f":"IF(CL$7=$F174,$H174,\"\")","v":""},"",{"$f":"IF(CN$7=$F174,$H174,\"\")","v":""},"",{"$f":"IF(CP$7=$F174,$H174,\"\")","v":""},"",{"$f":"IF(CR$7=$F174,$H174,\"\")","v":""},"",{"$f":"IF(CT$7=$F174,$H174,\"\")","v":""},"",{"$f":"IF(CV$7=$F174,$H174,\"\")","v":""},"",{"$f":"IF(CX$7=$F174,$H174,\"\")","v":""},"",{"$f":"IF(CZ$7=$F174,$H174,\"\")","v":""},"",{"$f":"IF(DB$7=$F174,$H174,\"\")","v":""},"",{"$f":"IF(DD$7=$F174,$H174,\"\")","v":""},"",{"$f":"IF(DF$7=$F174,$H174,\"\")","v":""},0,{"$f":"IF(DH$7=$F174,$H174,\"\")","v":0},0,{"$f":"IF(DJ$7=$F174,$H174,\"\")","v":0},0,{"$f":"IF(DL$7=$F174,$H174,\"\")","v":0},0,{"$f":"IF(DN$7=$F174,$H174,\"\")","v":0},0,{"$f":"IF(DP$7=$F174,$H174,\"\")","v":0},0,{"$f":"IF(DR$7=$F174,$H174,\"\")","v":0},0,{"$f":"IF(DT$7=$F174,$H174,\"\")","v":0},0,{"$f":"IF(DV$7=$F174,$H174,\"\")","v":0},0,{"$f":"IF(DX$7=$F174,$H174,\"\")","v":0},0,{"$f":"IF(DZ$7=$F174,$H174,\"\")","v":0},0,{"$f":"IF(EB$7=$F174,$H174,\"\")","v":0},0,{"$f":"IF(ED$7=$F174,$H174,\"\")","v":0},0,{"$f":"IF(EF$7=$F174,$H174,\"\")","v":0},0,{"$f":"IF(EH$7=$F174,$H174,\"\")","v":0},0,{"$f":"IF(EJ$7=$F174,$H174,\"\")","v":0},0,{"$f":"IF(EL$7=$F174,$H174,\"\")","v":0},0,{"$f":"IF(EN$7=$F174,$H174,\"\")","v":0},0,{"$f":"IF(EP$7=$F174,$H174,\"\")","v":0},0,{"$f":"IF(ER$7=$F174,$H174,\"\")","v":0},0,{"$f":"IF(ET$7=$F174,$H174,\"\")","v":0},0,{"$f":"IF(EV$7=$F174,$H174,\"\")","v":0},0,{"$f":"IF(EX$7=$F174,$H174,\"\")","v":0},0,{"$f":"IF(EZ$7=$F174,$H174,\"\")","v":0},0,{"$f":"IF(FB$7=$F174,$H174,\"\")","v":0},0,{"$f":"IF(FD$7=$F174,$H174,\"\")","v":0},0,{"$f":"IF(FF$7=$F174,$H174,\"\")","v":0},0,{"$f":"IF(FH$7=$F174,$H174,\"\")","v":0},0,{"$f":"IF(FJ$7=$F174,$H174,\"\")","v":0},0,{"$f":"IF(FL$7=$F174,$H174,\"\")","v":0},0,0]
[167,null,null,null,null,null,null,null,true,0,0,"","","",{"$f":"IF(N$7=$F175,$H175,\"\")","v":""},"",{"$f":"IF(P$7=$F175,$H175,\"\")","v":""},"",{"$f":"IF(R$7=$F175,$H175,\"\")","v":""},"",{"$f":"IF(T$7=$F175,$H175,\"\")","v":""},"",{"$f":"IF(V$7=$F175,$H175,\"\")","v":""},"",{"$f":"IF(X$7=$F175,$H175,\"\")","v":""},"",{"$f":"IF(Z$7=$F175,$H175,\"\")","v":""},"",{"$f":"IF(AB$7=$F175,$H175,\"\")","v":""},"",{"$f":"IF(AD$7=$F175,$H175,\"\")","v":""},"",{"$f":"IF(AF$7=$F175,$H175,\"\")","v":""},"",{"$f":"IF(AH$7=$F175,$H175,\"\")","v":""},"",{"$f":"IF(AJ$7=$F175,$H175,\"\")","v":""},"",{"$f":"IF(AL$7=$F175,$H175,\"\")","v":""},"",{"$f":"IF(AN$7=$F175,$H175,\"\")","v":""},"",{"$f":"IF(AP$7=$F175,$H175,\"\")","v":""},"",{"$f":"IF(AR$7=$F175,$H175,\"\")","v":""},"",{"$f":"IF(AT$7=$F175,$H175,\"\")","v":""},"",{"$f":"IF(AV$7=$F175,$H175,\"\")","v":""},"",{"$f":"IF(AX$7=$F175,$H175,\"\")","v":""},"",{"$f":"IF(AZ$7=$F175,$H175,\"\")","v":""},"",{"$f":"IF(BB$7=$F175,$H175,\"\")","v":""},"",{"$f":"IF(BD$7=$F175,$H175,\"\")","v":""},"",{"$f":"IF(BF$7=$F175,$H175,\"\")","v":""},"",{"$f":"IF(BH$7=$F175,$H175,\"\")","v":""},"",{"$f":"IF(BJ$7=$F175,$H175,\"\")","v":""},"",{"$f":"IF(BL$7=$F175,$H175,\"\")","v":""},"",{"$f":"IF(BN$7=$F175,$H175,\"\")","v":""},"",{"$f":"IF(BP$7=$F175,$H175,\"\")","v":""},"",{"$f":"IF(BR$7=$F175,$H175,\"\")","v":""},"",{"$f":"IF(BT$7=$F175,$H175,\"\")","v":""},"",{"$f":"IF(BV$7=$F175,$H175,\"\")","v":""},"",{"$f":"IF(BX$7=$F175,$H175,\"\")","v":""},"",{"$f":"IF(BZ$7=$F175,$H175,\"\")","v":""},"",{"$f":"IF(CB$7=$F175,$H175,\"\")","v":""},"",{"$f":"IF(CD$7=$F175,$H175,\"\")","v":""},"",{"$f":"IF(CF$7=$F175,$H175,\"\")","v":""},"",{"$f":"IF(CH$7=$F175,$H175,\"\")","v":""},"",{"$f":"IF(CJ$7=$F175,$H175,\"\")","v":""},"",{"$f":"IF(CL$7=$F175,$H175,\"\")","v":""},"",{"$f":"IF(CN$7=$F175,$H175,\"\")","v":""},"",{"$f":"IF(CP$7=$F175,$H175,\"\")","v":""},"",{"$f":"IF(CR$7=$F175,$H175,\"\")","v":""},"",{"$f":"IF(CT$7=$F175,$H175,\"\")","v":""},"",{"$f":"IF(CV$7=$F175,$H175,\"\")","v":""},"",{"$f":"IF(CX$7=$F175,$H175,\"\")","v":""},"",{"$f":"IF(CZ$7=$F175,$H175,\"\")","v":""},"",{"$f":"IF(DB$7=$F175,$H175,\"\")","v":""},"",{"$f":"IF(DD$7=$F175,$H175,\"\")","v":""},"",{"$f":"IF(DF$7=$F175,$H175,\"\")","v":""},0,{"$f":"IF(DH$7=$F175,$H175,\"\")","v":0},0,{"$f":"IF(DJ$7=$F175,$H175,\"\")","v":0},0,{"$f":"IF(DL$7=$F175,$H175,\"\")","v":0},0,{"$f":"IF(DN$7=$F175,$H175,\"\")","v":0},0,{"$f":"IF(DP$7=$F175,$H175,\"\")","v":0},0,{"$f":"IF(DR$7=$F175,$H175,\"\")","v":0},0,{"$f":"IF(DT$7=$F175,$H175,\"\")","v":0},0,{"$f":"IF(DV$7=$F175,$H175,\"\")","v":0},0,{"$f":"IF(DX$7=$F175,$H175,\"\")","v":0},0,{"$f":"IF(DZ$7=$F175,$H175,\"\")","v":0},0,{"$f":"IF(EB$7=$F175,$H175,\"\")","v":0},0,{"$f":"IF(ED$7=$F175,$H175,\"\")","v":0},0,{"$f":"IF(EF$7=$F175,$H175,\"\")","v":0},0,{"$f":"IF(EH$7=$F175,$H175,\"\")","v":0},0,{"$f":"IF(EJ$7=$F175,$H175,\"\")","v":0},0,{"$f":"IF(EL$7=$F175,$H175,\"\")","v":0},0,{"$f":"IF(EN$7=$F175,$H175,\"\")","v":0},0,{"$f":"IF(EP$7=$F175,$H175,\"\")","v":0},0,{"$f":"IF(ER$7=$F175,$H175,\"\")","v":0},0,{"$f":"IF(ET$7=$F175,$H175,\"\")","v":0},0,{"$f":"IF(EV$7=$F175,$H175,\"\")","v":0},0,{"$f":"IF(EX$7=$F175,$H175,\"\")","v":0},0,{"$f":"IF(EZ$7=$F175,$H175,\"\")","v":0},0,{"$f":"IF(FB$7=$F175,$H175,\"\")","v":0},0,{"$f":"IF(FD$7=$F175,$H175,\"\")","v":0},0,{"$f":"IF(FF$7=$F175,$H175,\"\")","v":0},0,{"$f":"IF(FH$7=$F175,$H175,\"\")","v":0},0,{"$f":"IF(FJ$7=$F175,$H175,\"\")","v":0},0,{"$f":"IF(FL$7=$F175,$H175,\"\")","v":0},0,0]
[168,null,null,null,null,null,null,null,true,0,0,"","","",{"$f":"IF(N$7=$F176,$H176,\"\")","v":""},"",{"$f":"IF(P$7=$F176,$H176,\"\")","v":""},"",{"$f":"IF(R$7=$F176,$H176,\"\")","v":""},"",{"$f":"IF(T$7=$F176,$H176,\"\")","v":""},"",{"$f":"IF(V$7=$F176,$H176,\"\")","v":""},"",{"$f":"IF(X$7=$F176,$H176,\"\")","v":""},"",{"$f":"IF(Z$7=$F176,$H176,\"\")","v":""},"",{"$f":"IF(AB$7=$F176,$H176,\"\")","v":""},"",{"$f":"IF(AD$7=$F176,$H176,\"\")","v":""},"",{"$f":"IF(AF$7=$F176,$H176,\"\")","v":""},"",{"$f":"IF(AH$7=$F176,$H176,\"\")","v":""},"",{"$f":"IF(AJ$7=$F176,$H176,\"\")","v":""},"",{"$f":"IF(AL$7=$F176,$H176,\"\")","v":""},"",{"$f":"IF(AN$7=$F176,$H176,\"\")","v":""},"",{"$f":"IF(AP$7=$F176,$H176,\"\")","v":""},"",{"$f":"IF(AR$7=$F176,$H176,\"\")","v":""},"",{"$f":"IF(AT$7=$F176,$H176,\"\")","v":""},"",{"$f":"IF(AV$7=$F176,$H176,\"\")","v":""},"",{"$f":"IF(AX$7=$F176,$H176,\"\")","v":""},"",{"$f":"IF(AZ$7=$F176,$H176,\"\")","v":""},"",{"$f":"IF(BB$7=$F176,$H176,\"\")","v":""},"",{"$f":"IF(BD$7=$F176,$H176,\"\")","v":""},"",{"$f":"IF(BF$7=$F176,$H176,\"\")","v":""},"",{"$f":"IF(BH$7=$F176,$H176,\"\")","v":""},"",{"$f":"IF(BJ$7=$F176,$H176,\"\")","v":""},"",{"$f":"IF(BL$7=$F176,$H176,\"\")","v":""},"",{"$f":"IF(BN$7=$F176,$H176,\"\")","v":""},"",{"$f":"IF(BP$7=$F176,$H176,\"\")","v":""},"",{"$f":"IF(BR$7=$F176,$H176,\"\")","v":""},"",{"$f":"IF(BT$7=$F176,$H176,\"\")","v":""},"",{"$f":"IF(BV$7=$F176,$H176,\"\")","v":""},"",{"$f":"IF(BX$7=$F176,$H176,\"\")","v":""},"",{"$f":"IF(BZ$7=$F176,$H176,\"\")","v":""},"",{"$f":"IF(CB$7=$F176,$H176,\"\")","v":""},"",{"$f":"IF(CD$7=$F176,$H176,\"\")","v":""},"",{"$f":"IF(CF$7=$F176,$H176,\"\")","v":""},"",{"$f":"IF(CH$7=$F176,$H176,\"\")","v":""},"",{"$f":"IF(CJ$7=$F176,$H176,\"\")","v":""},"",{"$f":"IF(CL$7=$F176,$H176,\"\")","v":""},"",{"$f":"IF(CN$7=$F176,$H176,\"\")","v":""},"",{"$f":"IF(CP$7=$F176,$H176,\"\")","v":""},"",{"$f":"IF(CR$7=$F176,$H176,\"\")","v":""},"",{"$f":"IF(CT$7=$F176,$H176,\"\")","v":""},"",{"$f":"IF(CV$7=$F176,$H176,\"\")","v":""},"",{"$f":"IF(CX$7=$F176,$H176,\"\")","v":""},"",{"$f":"IF(CZ$7=$F176,$H176,\"\")","v":""},"",{"$f":"IF(DB$7=$F176,$H176,\"\")","v":""},"",{"$f":"IF(DD$7=$F176,$H176,\"\")","v":""},"",{"$f":"IF(DF$7=$F176,$H176,\"\")","v":""},0,{"$f":"IF(DH$7=$F176,$H176,\"\")","v":0},0,{"$f":"IF(DJ$7=$F176,$H176,\"\")","v":0},0,{"$f":"IF(DL$7=$F176,$H176,\"\")","v":0},0,{"$f":"IF(DN$7=$F176,$H176,\"\")","v":0},0,{"$f":"IF(DP$7=$F176,$H176,\"\")","v":0},0,{"$f":"IF(DR$7=$F176,$H176,\"\")","v":0},0,{"$f":"IF(DT$7=$F176,$H176,\"\")","v":0},0,{"$f":"IF(DV$7=$F176,$H176,\"\")","v":0},0,{"$f":"IF(DX$7=$F176,$H176,\"\")","v":0},0,{"$f":"IF(DZ$7=$F176,$H176,\"\")","v":0},0,{"$f":"IF(EB$7=$F176,$H176,\"\")","v":0},0,{"$f":"IF(ED$7=$F176,$H176,\"\")","v":0},0,{"$f":"IF(EF$7=$F176,$H176,\"\")","v":0},0,{"$f":"IF(EH$7=$F176,$H176,\"\")","v":0},0,{"$f":"IF(EJ$7=$F176,$H176,\"\")","v":0},0,{"$f":"IF(EL$7=$F176,$H176,\"\")","v":0},0,{"$f":"IF(EN$7=$F176,$H176,\"\")","v":0},0,{"$f":"IF(EP$7=$F176,$H176,\"\")","v":0},0,{"$f":"IF(ER$7=$F176,$H176,\"\")","v":0},0,{"$f":"IF(ET$7=$F176,$H176,\"\")","v":0},0,{"$f":"IF(EV$7=$F176,$H176,\"\")","v":0},0,{"$f":"IF(EX$7=$F176,$H176,\"\")","v":0},0,{"$f":"IF(EZ$7=$F176,$H176,\"\")","v":0},0,{"$f":"IF(FB$7=$F176,$H176,\"\")","v":0},0,{"$f":"IF(FD$7=$F176,$H176,\"\")","v":0},0,{"$f":"IF(FF$7=$F176,$H176,\"\")","v":0},0,{"$f":"IF(FH$7=$F176,$H176,\"\")","v":0},0,{"$f":"IF(FJ$7=$F176,$H176,\"\")","v":0},0,{"$f":"IF(FL$7=$F176,$H176,\"\")","v":0},0,0]
[169,null,null,null,null,null,null,null,true,0,0,"","","",{"$f":"IF(N$7=$F177,$H177,\"\")","v":""},"",{"$f":"IF(P$7=$F177,$H177,\"\")","v":""},"",{"$f":"IF(R$7=$F177,$H177,\"\")","v":""},"",{"$f":"IF(T$7=$F177,$H177,\"\")","v":""},"",{"$f":"IF(V$7=$F177,$H177,\"\")","v":""},"",{"$f":"IF(X$7=$F177,$H177,\"\")","v":""},"",{"$f":"IF(Z$7=$F177,$H177,\"\")","v":""},"",{"$f":"IF(AB$7=$F177,$H177,\"\")","v":""},"",{"$f":"IF(AD$7=$F177,$H177,\"\")","v":""},"",{"$f":"IF(AF$7=$F177,$H177,\"\")","v":""},"",{"$f":"IF(AH$7=$F177,$H177,\"\")","v":""},"",{"$f":"IF(AJ$7=$F177,$H177,\"\")","v":""},"",{"$f":"IF(AL$7=$F177,$H177,\"\")","v":""},"",{"$f":"IF(AN$7=$F177,$H177,\"\")","v":""},"",{"$f":"IF(AP$7=$F177,$H177,\"\")","v":""},"",{"$f":"IF(AR$7=$F177,$H177,\"\")","v":""},"",{"$f":"IF(AT$7=$F177,$H177,\"\")","v":""},"",{"$f":"IF(AV$7=$F177,$H177,\"\")","v":""},"",{"$f":"IF(AX$7=$F177,$H177,\"\")","v":""},"",{"$f":"IF(AZ$7=$F177,$H177,\"\")","v":""},"",{"$f":"IF(BB$7=$F177,$H177,\"\")","v":""},"",{"$f":"IF(BD$7=$F177,$H177,\"\")","v":""},"",{"$f":"IF(BF$7=$F177,$H177,\"\")","v":""},"",{"$f":"IF(BH$7=$F177,$H177,\"\")","v":""},"",{"$f":"IF(BJ$7=$F177,$H177,\"\")","v":""},"",{"$f":"IF(BL$7=$F177,$H177,\"\")","v":""},"",{"$f":"IF(BN$7=$F177,$H177,\"\")","v":""},"",{"$f":"IF(BP$7=$F177,$H177,\"\")","v":""},"",{"$f":"IF(BR$7=$F177,$H177,\"\")","v":""},"",{"$f":"IF(BT$7=$F177,$H177,\"\")","v":""},"",{"$f":"IF(BV$7=$F177,$H177,\"\")","v":""},"",{"$f":"IF(BX$7=$F177,$H177,\"\")","v":""},"",{"$f":"IF(BZ$7=$F177,$H177,\"\")","v":""},"",{"$f":"IF(CB$7=$F177,$H177,\"\")","v":""},"",{"$f":"IF(CD$7=$F177,$H177,\"\")","v":""},"",{"$f":"IF(CF$7=$F177,$H177,\"\")","v":""},"",{"$f":"IF(CH$7=$F177,$H177,\"\")","v":""},"",{"$f":"IF(CJ$7=$F177,$H177,\"\")","v":""},"",{"$f":"IF(CL$7=$F177,$H177,\"\")","v":""},"",{"$f":"IF(CN$7=$F177,$H177,\"\")","v":""},"",{"$f":"IF(CP$7=$F177,$H177,\"\")","v":""},"",{"$f":"IF(CR$7=$F177,$H177,\"\")","v":""},"",{"$f":"IF(CT$7=$F177,$H177,\"\")","v":""},"",{"$f":"IF(CV$7=$F177,$H177,\"\")","v":""},"",{"$f":"IF(CX$7=$F177,$H177,\"\")","v":""},"",{"$f":"IF(CZ$7=$F177,$H177,\"\")","v":""},"",{"$f":"IF(DB$7=$F177,$H177,\"\")","v":""},"",{"$f":"IF(DD$7=$F177,$H177,\"\")","v":""},"",{"$f":"IF(DF$7=$F177,$H177,\"\")","v":""},0,{"$f":"IF(DH$7=$F177,$H177,\"\")","v":0},0,{"$f":"IF(DJ$7=$F177,$H177,\"\")","v":0},0,{"$f":"IF(DL$7=$F177,$H177,\"\")","v":0},0,{"$f":"IF(DN$7=$F177,$H177,\"\")","v":0},0,{"$f":"IF(DP$7=$F177,$H177,\"\")","v":0},0,{"$f":"IF(DR$7=$F177,$H177,\"\")","v":0},0,{"$f":"IF(DT$7=$F177,$H177,\"\")","v":0},0,{"$f":"IF(DV$7=$F177,$H177,\"\")","v":0},0,{"$f":"IF(DX$7=$F177,$H177,\"\")","v":0},0,{"$f":"IF(DZ$7=$F177,$H177,\"\")","v":0},0,{"$f":"IF(EB$7=$F177,$H177,\"\")","v":0},0,{"$f":"IF(ED$7=$F177,$H177,\"\")","v":0},0,{"$f":"IF(EF$7=$F177,$H177,\"\")","v":0},0,{"$f":"IF(EH$7=$F177,$H177,\"\")","v":0},0,{"$f":"IF(EJ$7=$F177,$H177,\"\")","v":0},0,{"$f":"IF(EL$7=$F177,$H177,\"\")","v":0},0,{"$f":"IF(EN$7=$F177,$H177,\"\")","v":0},0,{"$f":"IF(EP$7=$F177,$H177,\"\")","v":0},0,{"$f":"IF(ER$7=$F177,$H177,\"\")","v":0},0,{"$f":"IF(ET$7=$F177,$H177,\"\")","v":0},0,{"$f":"IF(EV$7=$F177,$H177,\"\")","v":0},0,{"$f":"IF(EX$7=$F177,$H177,\"\")","v":0},0,{"$f":"IF(EZ$7=$F177,$H177,\"\")","v":0},0,{"$f":"IF(FB$7=$F177,$H177,\"\")","v":0},0,{"$f":"IF(FD$7=$F177,$H177,\"\")","v":0},0,{"$f":"IF(FF$7=$F177,$H177,\"\")","v":0},0,{"$f":"IF(FH$7=$F177,$H177,\"\")","v":0},0,{"$f":"IF(FJ$7=$F177,$H177,\"\")","v":0},0,{"$f":"IF(FL$7=$F177,$H177,\"\")","v":0},0,0]
[170,null,null,null,null,null,null,null,true,0,0,"","","",{"$f":"IF(N$7=$F178,$H178,\"\")","v":""},"",{"$f":"IF(P$7=$F178,$H178,\"\")","v":""},"",{"$f":"IF(R$7=$F178,$H178,\"\")","v":""},"",{"$f":"IF(T$7=$F178,$H178,\"\")","v":""},"",{"$f":"IF(V$7=$F178,$H178,\"\")","v":""},"",{"$f":"IF(X$7=$F178,$H178,\"\")","v":""},"",{"$f":"IF(Z$7=$F178,$H178,\"\")","v":""},"",{"$f":"IF(AB$7=$F178,$H178,\"\")","v":""},"",{"$f":"IF(AD$7=$F178,$H178,\"\")","v":""},"",{"$f":"IF(AF$7=$F178,$H178,\"\")","v":""},"",{"$f":"IF(AH$7=$F178,$H178,\"\")","v":""},"",{"$f":"IF(AJ$7=$F178,$H178,\"\")","v":""},"",{"$f":"IF(AL$7=$F178,$H178,\"\")","v":""},"",{"$f":"IF(AN$7=$F178,$H178,\"\")","v":""},"",{"$f":"IF(AP$7=$F178,$H178,\"\")","v":""},"",{"$f":"IF(AR$7=$F178,$H178,\"\")","v":""},"",{"$f":"IF(AT$7=$F178,$H178,\"\")","v":""},"",{"$f":"IF(AV$7=$F178,$H178,\"\")","v":""},"",{"$f":"IF(AX$7=$F178,$H178,\"\")","v":""},"",{"$f":"IF(AZ$7=$F178,$H178,\"\")","v":""},"",{"$f":"IF(BB$7=$F178,$H178,\"\")","v":""},"",{"$f":"IF(BD$7=$F178,$H178,\"\")","v":""},"",{"$f":"IF(BF$7=$F178,$H178,\"\")","v":""},"",{"$f":"IF(BH$7=$F178,$H178,\"\")","v":""},"",{"$f":"IF(BJ$7=$F178,$H178,\"\")","v":""},"",{"$f":"IF(BL$7=$F178,$H178,\"\")","v":""},"",{"$f":"IF(BN$7=$F178,$H178,\"\")","v":""},"",{"$f":"IF(BP$7=$F178,$H178,\"\")","v":""},"",{"$f":"IF(BR$7=$F178,$H178,\"\")","v":""},"",{"$f":"IF(BT$7=$F178,$H178,\"\")","v":""},"",{"$f":"IF(BV$7=$F178,$H178,\"\")","v":""},"",{"$f":"IF(BX$7=$F178,$H178,\"\")","v":""},"",{"$f":"IF(BZ$7=$F178,$H178,\"\")","v":""},"",{"$f":"IF(CB$7=$F178,$H178,\"\")","v":""},"",{"$f":"IF(CD$7=$F178,$H178,\"\")","v":""},"",{"$f":"IF(CF$7=$F178,$H178,\"\")","v":""},"",{"$f":"IF(CH$7=$F178,$H178,\"\")","v":""},"",{"$f":"IF(CJ$7=$F178,$H178,\"\")","v":""},"",{"$f":"IF(CL$7=$F178,$H178,\"\")","v":""},"",{"$f":"IF(CN$7=$F178,$H178,\"\")","v":""},"",{"$f":"IF(CP$7=$F178,$H178,\"\")","v":""},"",{"$f":"IF(CR$7=$F178,$H178,\"\")","v":""},"",{"$f":"IF(CT$7=$F178,$H178,\"\")","v":""},"",{"$f":"IF(CV$7=$F178,$H178,\"\")","v":""},"",{"$f":"IF(CX$7=$F178,$H178,\"\")","v":""},"",{"$f":"IF(CZ$7=$F178,$H178,\"\")","v":""},"",{"$f":"IF(DB$7=$F178,$H178,\"\")","v":""},"",{"$f":"IF(DD$7=$F178,$H178,\"\")","v":""},"",{"$f":"IF(DF$7=$F178,$H178,\"\")","v":""},0,{"$f":"IF(DH$7=$F178,$H178,\"\")","v":0},0,{"$f":"IF(DJ$7=$F178,$H178,\"\")","v":0},0,{"$f":"IF(DL$7=$F178,$H178,\"\")","v":0},0,{"$f":"IF(DN$7=$F178,$H178,\"\")","v":0},0,{"$f":"IF(DP$7=$F178,$H178,\"\")","v":0},0,{"$f":"IF(DR$7=$F178,$H178,\"\")","v":0},0,{"$f":"IF(DT$7=$F178,$H178,\"\")","v":0},0,{"$f":"IF(DV$7=$F178,$H178,\"\")","v":0},0,{"$f":"IF(DX$7=$F178,$H178,\"\")","v":0},0,{"$f":"IF(DZ$7=$F178,$H178,\"\")","v":0},0,{"$f":"IF(EB$7=$F178,$H178,\"\")","v":0},0,{"$f":"IF(ED$7=$F178,$H178,\"\")","v":0},0,{"$f":"IF(EF$7=$F178,$H178,\"\")","v":0},0,{"$f":"IF(EH$7=$F178,$H178,\"\")","v":0},0,{"$f":"IF(EJ$7=$F178,$H178,\"\")","v":0},0,{"$f":"IF(EL$7=$F178,$H178,\"\")","v":0},0,{"$f":"IF(EN$7=$F178,$H178,\"\")","v":0},0,{"$f":"IF(EP$7=$F178,$H178,\"\")","v":0},0,{"$f":"IF(ER$7=$F178,$H178,\"\")","v":0},0,{"$f":"IF(ET$7=$F178,$H178,\"\")","v":0},0,{"$f":"IF(EV$7=$F178,$H178,\"\")","v":0},0,{"$f":"IF(EX$7=$F178,$H178,\"\")","v":0},0,{"$f":"IF(EZ$7=$F178,$H178,\"\")","v":0},0,{"$f":"IF(FB$7=$F178,$H178,\"\")","v":0},0,{"$f":"IF(FD$7=$F178,$H178,\"\")","v":0},0,{"$f":"IF(FF$7=$F178,$H178,\"\")","v":0},0,{"$f":"IF(FH$7=$F178,$H178,\"\")","v":0},0,{"$f":"IF(FJ$7=$F178,$H178,\"\")","v":0},0,{"$f":"IF(FL$7=$F178,$H178,\"\")","v":0},0,0]
[171,null,null,null,null,null,null,null,true,0,0,"","","",{"$f":"IF(N$7=$F179,$H179,\"\")","v":""},"",{"$f":"IF(P$7=$F179,$H179,\"\")","v":""},"",{"$f":"IF(R$7=$F179,$H179,\"\")","v":""},"",{"$f":"IF(T$7=$F179,$H179,\"\")","v":""},"",{"$f":"IF(V$7=$F179,$H179,\"\")","v":""},"",{"$f":"IF(X$7=$F179,$H179,\"\")","v":""},"",{"$f":"IF(Z$7=$F179,$H179,\"\")","v":""},"",{"$f":"IF(AB$7=$F179,$H179,\"\")","v":""},"",{"$f":"IF(AD$7=$F179,$H179,\"\")","v":""},"",{"$f":"IF(AF$7=$F179,$H179,\"\")","v":""},"",{"$f":"IF(AH$7=$F179,$H179,\"\")","v":""},"",{"$f":"IF(AJ$7=$F179,$H179,\"\")","v":""},"",{"$f":"IF(AL$7=$F179,$H179,\"\")","v":""},"",{"$f":"IF(AN$7=$F179,$H179,\"\")","v":""},"",{"$f":"IF(AP$7=$F179,$H179,\"\")","v":""},"",{"$f":"IF(AR$7=$F179,$H179,\"\")","v":""},"",{"$f":"IF(AT$7=$F179,$H179,\"\")","v":""},"",{"$f":"IF(AV$7=$F179,$H179,\"\")","v":""},"",{"$f":"IF(AX$7=$F179,$H179,\"\")","v":""},"",{"$f":"IF(AZ$7=$F179,$H179,\"\")","v":""},"",{"$f":"IF(BB$7=$F179,$H179,\"\")","v":""},"",{"$f":"IF(BD$7=$F179,$H179,\"\")","v":""},"",{"$f":"IF(BF$7=$F179,$H179,\"\")","v":""},"",{"$f":"IF(BH$7=$F179,$H179,\"\")","v":""},"",{"$f":"IF(BJ$7=$F179,$H179,\"\")","v":""},"",{"$f":"IF(BL$7=$F179,$H179,\"\")","v":""},"",{"$f":"IF(BN$7=$F179,$H179,\"\")","v":""},"",{"$f":"IF(BP$7=$F179,$H179,\"\")","v":""},"",{"$f":"IF(BR$7=$F179,$H179,\"\")","v":""},"",{"$f":"IF(BT$7=$F179,$H179,\"\")","v":""},"",{"$f":"IF(BV$7=$F179,$H179,\"\")","v":""},"",{"$f":"IF(BX$7=$F179,$H179,\"\")","v":""},"",{"$f":"IF(BZ$7=$F179,$H179,\"\")","v":""},"",{"$f":"IF(CB$7=$F179,$H179,\"\")","v":""},"",{"$f":"IF(CD$7=$F179,$H179,\"\")","v":""},"",{"$f":"IF(CF$7=$F179,$H179,\"\")","v":""},"",{"$f":"IF(CH$7=$F179,$H179,\"\")","v":""},"",{"$f":"IF(CJ$7=$F179,$H179,\"\")","v":""},"",{"$f":"IF(CL$7=$F179,$H179,\"\")","v":""},"",{"$f":"IF(CN$7=$F179,$H179,\"\")","v":""},"",{"$f":"IF(CP$7=$F179,$H179,\"\")","v":""},"",{"$f":"IF(CR$7=$F179,$H179,\"\")","v":""},"",{"$f":"IF(CT$7=$F179,$H179,\"\")","v":""},"",{"$f":"IF(CV$7=$F179,$H179,\"\")","v":""},"",{"$f":"IF(CX$7=$F179,$H179,\"\")","v":""},"",{"$f":"IF(CZ$7=$F179,$H179,\"\")","v":""},"",{"$f":"IF(DB$7=$F179,$H179,\"\")","v":""},"",{"$f":"IF(DD$7=$F179,$H179,\"\")","v":""},"",{"$f":"IF(DF$7=$F179,$H179,\"\")","v":""},0,{"$f":"IF(DH$7=$F179,$H179,\"\")","v":0},0,{"$f":"IF(DJ$7=$F179,$H179,\"\")","v":0},0,{"$f":"IF(DL$7=$F179,$H179,\"\")","v":0},0,{"$f":"IF(DN$7=$F179,$H179,\"\")","v":0},0,{"$f":"IF(DP$7=$F179,$H179,\"\")","v":0},0,{"$f":"IF(DR$7=$F179,$H179,\"\")","v":0},0,{"$f":"IF(DT$7=$F179,$H179,\"\")","v":0},0,{"$f":"IF(DV$7=$F179,$H179,\"\")","v":0},0,{"$f":"IF(DX$7=$F179,$H179,\"\")","v":0},0,{"$f":"IF(DZ$7=$F179,$H179,\"\")","v":0},0,{"$f":"IF(EB$7=$F179,$H179,\"\")","v":0},0,{"$f":"IF(ED$7=$F179,$H179,\"\")","v":0},0,{"$f":"IF(EF$7=$F179,$H179,\"\")","v":0},0,{"$f":"IF(EH$7=$F179,$H179,\"\")","v":0},0,{"$f":"IF(EJ$7=$F179,$H179,\"\")","v":0},0,{"$f":"IF(EL$7=$F179,$H179,\"\")","v":0},0,{"$f":"IF(EN$7=$F179,$H179,\"\")","v":0},0,{"$f":"IF(EP$7=$F179,$H179,\"\")","v":0},0,{"$f":"IF(ER$7=$F179,$H179,\"\")","v":0},0,{"$f":"IF(ET$7=$F179,$H179,\"\")","v":0},0,{"$f":"IF(EV$7=$F179,$H179,\"\")","v":0},0,{"$f":"IF(EX$7=$F179,$H179,\"\")","v":0},0,{"$f":"IF(EZ$7=$F179,$H179,\"\")","v":0},0,{"$f":"IF(FB$7=$F179,$H179,\"\")","v":0},0,{"$f":"IF(FD$7=$F179,$H179,\"\")","v":0},0,{"$f":"IF(FF$7=$F179,$H179,\"\")","v":0},0,{"$f":"IF(FH$7=$F179,$H179,\"\")","v":0},0,{"$f":"IF(FJ$7=$F179,$H179,\"\")","v":0},0,{"$f":"IF(FL$7=$F179,$H179,\"\")","v":0},0,0]
[172,null,null,null,null,null,null,null,true,0,0,"","","",{"$f":"IF(N$7=$F180,$H180,\"\")","v":""},"",{"$f":"IF(P$7=$F180,$H180,\"\")","v":""},"",{"$f":"IF(R$7=$F180,$H180,\"\")","v":""},"",{"$f":"IF(T$7=$F180,$H180,\"\")","v":""},"",{"$f":"IF(V$7=$F180,$H180,\"\")","v":""},"",{"$f":"IF(X$7=$F180,$H180,\"\")","v":""},"",{"$f":"IF(Z$7=$F180,$H180,\"\")","v":""},"",{"$f":"IF(AB$7=$F180,$H180,\"\")","v":""},"",{"$f":"IF(AD$7=$F180,$H180,\"\")","v":""},"",{"$f":"IF(AF$7=$F180,$H180,\"\")","v":""},"",{"$f":"IF(AH$7=$F180,$H180,\"\")","v":""},"",{"$f":"IF(AJ$7=$F180,$H180,\"\")","v":""},"",{"$f":"IF(AL$7=$F180,$H180,\"\")","v":""},"",{"$f":"IF(AN$7=$F180,$H180,\"\")","v":""},"",{"$f":"IF(AP$7=$F180,$H180,\"\")","v":""},"",{"$f":"IF(AR$7=$F180,$H180,\"\")","v":""},"",{"$f":"IF(AT$7=$F180,$H180,\"\")","v":""},"",{"$f":"IF(AV$7=$F180,$H180,\"\")","v":""},"",{"$f":"IF(AX$7=$F180,$H180,\"\")","v":""},"",{"$f":"IF(AZ$7=$F180,$H180,\"\")","v":""},"",{"$f":"IF(BB$7=$F180,$H180,\"\")","v":""},"",{"$f":"IF(BD$7=$F180,$H180,\"\")","v":""},"",{"$f":"IF(BF$7=$F180,$H180,\"\")","v":""},"",{"$f":"IF(BH$7=$F180,$H180,\"\")","v":""},"",{"$f":"IF(BJ$7=$F180,$H180,\"\")","v":""},"",{"$f":"IF(BL$7=$F180,$H180,\"\")","v":""},"",{"$f":"IF(BN$7=$F180,$H180,\"\")","v":""},"",{"$f":"IF(BP$7=$F180,$H180,\"\")","v":""},"",{"$f":"IF(BR$7=$F180,$H180,\"\")","v":""},"",{"$f":"IF(BT$7=$F180,$H180,\"\")","v":""},"",{"$f":"IF(BV$7=$F180,$H180,\"\")","v":""},"",{"$f":"IF(BX$7=$F180,$H180,\"\")","v":""},"",{"$f":"IF(BZ$7=$F180,$H180,\"\")","v":""},"",{"$f":"IF(CB$7=$F180,$H180,\"\")","v":""},"",{"$f":"IF(CD$7=$F180,$H180,\"\")","v":""},"",{"$f":"IF(CF$7=$F180,$H180,\"\")","v":""},"",{"$f":"IF(CH$7=$F180,$H180,\"\")","v":""},"",{"$f":"IF(CJ$7=$F180,$H180,\"\")","v":""},"",{"$f":"IF(CL$7=$F180,$H180,\"\")","v":""},"",{"$f":"IF(CN$7=$F180,$H180,\"\")","v":""},"",{"$f":"IF(CP$7=$F180,$H180,\"\")","v":""},"",{"$f":"IF(CR$7=$F180,$H180,\"\")","v":""},"",{"$f":"IF(CT$7=$F180,$H180,\"\")","v":""},"",{"$f":"IF(CV$7=$F180,$H180,\"\")","v":""},"",{"$f":"IF(CX$7=$F180,$H180,\"\")","v":""},"",{"$f":"IF(CZ$7=$F180,$H180,\"\")","v":""},"",{"$f":"IF(DB$7=$F180,$H180,\"\")","v":""},"",{"$f":"IF(DD$7=$F180,$H180,\"\")","v":""},"",{"$f":"IF(DF$7=$F180,$H180,\"\")","v":""},0,{"$f":"IF(DH$7=$F180,$H180,\"\")","v":0},0,{"$f":"IF(DJ$7=$F180,$H180,\"\")","v":0},0,{"$f":"IF(DL$7=$F180,$H180,\"\")","v":0},0,{"$f":"IF(DN$7=$F180,$H180,\"\")","v":0},0,{"$f":"IF(DP$7=$F180,$H180,\"\")","v":0},0,{"$f":"IF(DR$7=$F180,$H180,\"\")","v":0},0,{"$f":"IF(DT$7=$F180,$H180,\"\")","v":0},0,{"$f":"IF(DV$7=$F180,$H180,\"\")","v":0},0,{"$f":"IF(DX$7=$F180,$H180,\"\")","v":0},0,{"$f":"IF(DZ$7=$F180,$H180,\"\")","v":0},0,{"$f":"IF(EB$7=$F180,$H180,\"\")","v":0},0,{"$f":"IF(ED$7=$F180,$H180,\"\")","v":0},0,{"$f":"IF(EF$7=$F180,$H180,\"\")","v":0},0,{"$f":"IF(EH$7=$F180,$H180,\"\")","v":0},0,{"$f":"IF(EJ$7=$F180,$H180,\"\")","v":0},0,{"$f":"IF(EL$7=$F180,$H180,\"\")","v":0},0,{"$f":"IF(EN$7=$F180,$H180,\"\")","v":0},0,{"$f":"IF(EP$7=$F180,$H180,\"\")","v":0},0,{"$f":"IF(ER$7=$F180,$H180,\"\")","v":0},0,{"$f":"IF(ET$7=$F180,$H180,\"\")","v":0},0,{"$f":"IF(EV$7=$F180,$H180,\"\")","v":0},0,{"$f":"IF(EX$7=$F180,$H180,\"\")","v":0},0,{"$f":"IF(EZ$7=$F180,$H180,\"\")","v":0},0,{"$f":"IF(FB$7=$F180,$H180,\"\")","v":0},0,{"$f":"IF(FD$7=$F180,$H180,\"\")","v":0},0,{"$f":"IF(FF$7=$F180,$H180,\"\")","v":0},0,{"$f":"IF(FH$7=$F180,$H180,\"\")","v":0},0,{"$f":"IF(FJ$7=$F180,$H180,\"\")","v":0},0,{"$f":"IF(FL$7=$F180,$H180,\"\")","v":0},0,0]
[173,null,null,null,null,null,null,null,true,0,0,"","","",{"$f":"IF(N$7=$F181,$H181,\"\")","v":""},"",{"$f":"IF(P$7=$F181,$H181,\"\")","v":""},"",{"$f":"IF(R$7=$F181,$H181,\"\")","v":""},"",{"$f":"IF(T$7=$F181,$H181,\"\")","v":""},"",{"$f":"IF(V$7=$F181,$H181,\"\")","v":""},"",{"$f":"IF(X$7=$F181,$H181,\"\")","v":""},"",{"$f":"IF(Z$7=$F181,$H181,\"\")","v":""},"",{"$f":"IF(AB$7=$F181,$H181,\"\")","v":""},"",{"$f":"IF(AD$7=$F181,$H181,\"\")","v":""},"",{"$f":"IF(AF$7=$F181,$H181,\"\")","v":""},"",{"$f":"IF(AH$7=$F181,$H181,\"\")","v":""},"",{"$f":"IF(AJ$7=$F181,$H181,\"\")","v":""},"",{"$f":"IF(AL$7=$F181,$H181,\"\")","v":""},"",{"$f":"IF(AN$7=$F181,$H181,\"\")","v":""},"",{"$f":"IF(AP$7=$F181,$H181,\"\")","v":""},"",{"$f":"IF(AR$7=$F181,$H181,\"\")","v":""},"",{"$f":"IF(AT$7=$F181,$H181,\"\")","v":""},"",{"$f":"IF(AV$7=$F181,$H181,\"\")","v":""},"",{"$f":"IF(AX$7=$F181,$H181,\"\")","v":""},"",{"$f":"IF(AZ$7=$F181,$H181,\"\")","v":""},"",{"$f":"IF(BB$7=$F181,$H181,\"\")","v":""},"",{"$f":"IF(BD$7=$F181,$H181,\"\")","v":""},"",{"$f":"IF(BF$7=$F181,$H181,\"\")","v":""},"",{"$f":"IF(BH$7=$F181,$H181,\"\")","v":""},"",{"$f":"IF(BJ$7=$F181,$H181,\"\")","v":""},"",{"$f":"IF(BL$7=$F181,$H181,\"\")","v":""},"",{"$f":"IF(BN$7=$F181,$H181,\"\")","v":""},"",{"$f":"IF(BP$7=$F181,$H181,\"\")","v":""},"",{"$f":"IF(BR$7=$F181,$H181,\"\")","v":""},"",{"$f":"IF(BT$7=$F181,$H181,\"\")","v":""},"",{"$f":"IF(BV$7=$F181,$H181,\"\")","v":""},"",{"$f":"IF(BX$7=$F181,$H181,\"\")","v":""},"",{"$f":"IF(BZ$7=$F181,$H181,\"\")","v":""},"",{"$f":"IF(CB$7=$F181,$H181,\"\")","v":""},"",{"$f":"IF(CD$7=$F181,$H181,\"\")","v":""},"",{"$f":"IF(CF$7=$F181,$H181,\"\")","v":""},"",{"$f":"IF(CH$7=$F181,$H181,\"\")","v":""},"",{"$f":"IF(CJ$7=$F181,$H181,\"\")","v":""},"",{"$f":"IF(CL$7=$F181,$H181,\"\")","v":""},"",{"$f":"IF(CN$7=$F181,$H181,\"\")","v":""},"",{"$f":"IF(CP$7=$F181,$H181,\"\")","v":""},"",{"$f":"IF(CR$7=$F181,$H181,\"\")","v":""},"",{"$f":"IF(CT$7=$F181,$H181,\"\")","v":""},"",{"$f":"IF(CV$7=$F181,$H181,\"\")","v":""},"",{"$f":"IF(CX$7=$F181,$H181,\"\")","v":""},"",{"$f":"IF(CZ$7=$F181,$H181,\"\")","v":""},"",{"$f":"IF(DB$7=$F181,$H181,\"\")","v":""},"",{"$f":"IF(DD$7=$F181,$H181,\"\")","v":""},"",{"$f":"IF(DF$7=$F181,$H181,\"\")","v":""},0,{"$f":"IF(DH$7=$F181,$H181,\"\")","v":0},0,{"$f":"IF(DJ$7=$F181,$H181,\"\")","v":0},0,{"$f":"IF(DL$7=$F181,$H181,\"\")","v":0},0,{"$f":"IF(DN$7=$F181,$H181,\"\")","v":0},0,{"$f":"IF(DP$7=$F181,$H181,\"\")","v":0},0,{"$f":"IF(DR$7=$F181,$H181,\"\")","v":0},0,{"$f":"IF(DT$7=$F181,$H181,\"\")","v":0},0,{"$f":"IF(DV$7=$F181,$H181,\"\")","v":0},0,{"$f":"IF(DX$7=$F181,$H181,\"\")","v":0},0,{"$f":"IF(DZ$7=$F181,$H181,\"\")","v":0},0,{"$f":"IF(EB$7=$F181,$H181,\"\")","v":0},0,{"$f":"IF(ED$7=$F181,$H181,\"\")","v":0},0,{"$f":"IF(EF$7=$F181,$H181,\"\")","v":0},0,{"$f":"IF(EH$7=$F181,$H181,\"\")","v":0},0,{"$f":"IF(EJ$7=$F181,$H181,\"\")","v":0},0,{"$f":"IF(EL$7=$F181,$H181,\"\")","v":0},0,{"$f":"IF(EN$7=$F181,$H181,\"\")","v":0},0,{"$f":"IF(EP$7=$F181,$H181,\"\")","v":0},0,{"$f":"IF(ER$7=$F181,$H181,\"\")","v":0},0,{"$f":"IF(ET$7=$F181,$H181,\"\")","v":0},0,{"$f":"IF(EV$7=$F181,$H181,\"\")","v":0},0,{"$f":"IF(EX$7=$F181,$H181,\"\")","v":0},0,{"$f":"IF(EZ$7=$F181,$H181,\"\")","v":0},0,{"$f":"IF(FB$7=$F181,$H181,\"\")","v":0},0,{"$f":"IF(FD$7=$F181,$H181,\"\")","v":0},0,{"$f":"IF(FF$7=$F181,$H181,\"\")","v":0},0,{"$f":"IF(FH$7=$F181,$H181,\"\")","v":0},0,{"$f":"IF(FJ$7=$F181,$H181,\"\")","v":0},0,{"$f":"IF(FL$7=$F181,$H181,\"\")","v":0},0,0]
[174,null,null,null,null,null,null,null,true,0,0,"","","",{"$f":"IF(N$7=$F182,$H182,\"\")","v":""},"",{"$f":"IF(P$7=$F182,$H182,\"\")","v":""},"",{"$f":"IF(R$7=$F182,$H182,\"\")","v":""},"",{"$f":"IF(T$7=$F182,$H182,\"\")","v":""},"",{"$f":"IF(V$7=$F182,$H182,\"\")","v":""},"",{"$f":"IF(X$7=$F182,$H182,\"\")","v":""},"",{"$f":"IF(Z$7=$F182,$H182,\"\")","v":""},"",{"$f":"IF(AB$7=$F182,$H182,\"\")","v":""},"",{"$f":"IF(AD$7=$F182,$H182,\"\")","v":""},"",{"$f":"IF(AF$7=$F182,$H182,\"\")","v":""},"",{"$f":"IF(AH$7=$F182,$H182,\"\")","v":""},"",{"$f":"IF(AJ$7=$F182,$H182,\"\")","v":""},"",{"$f":"IF(AL$7=$F182,$H182,\"\")","v":""},"",{"$f":"IF(AN$7=$F182,$H182,\"\")","v":""},"",{"$f":"IF(AP$7=$F182,$H182,\"\")","v":""},"",{"$f":"IF(AR$7=$F182,$H182,\"\")","v":""},"",{"$f":"IF(AT$7=$F182,$H182,\"\")","v":""},"",{"$f":"IF(AV$7=$F182,$H182,\"\")","v":""},"",{"$f":"IF(AX$7=$F182,$H182,\"\")","v":""},"",{"$f":"IF(AZ$7=$F182,$H182,\"\")","v":""},"",{"$f":"IF(BB$7=$F182,$H182,\"\")","v":""},"",{"$f":"IF(BD$7=$F182,$H182,\"\")","v":""},"",{"$f":"IF(BF$7=$F182,$H182,\"\")","v":""},"",{"$f":"IF(BH$7=$F182,$H182,\"\")","v":""},"",{"$f":"IF(BJ$7=$F182,$H182,\"\")","v":""},"",{"$f":"IF(BL$7=$F182,$H182,\"\")","v":""},"",{"$f":"IF(BN$7=$F182,$H182,\"\")","v":""},"",{"$f":"IF(BP$7=$F182,$H182,\"\")","v":""},"",{"$f":"IF(BR$7=$F182,$H182,\"\")","v":""},"",{"$f":"IF(BT$7=$F182,$H182,\"\")","v":""},"",{"$f":"IF(BV$7=$F182,$H182,\"\")","v":""},"",{"$f":"IF(BX$7=$F182,$H182,\"\")","v":""},"",{"$f":"IF(BZ$7=$F182,$H182,\"\")","v":""},"",{"$f":"IF(CB$7=$F182,$H182,\"\")","v":""},"",{"$f":"IF(CD$7=$F182,$H182,\"\")","v":""},"",{"$f":"IF(CF$7=$F182,$H182,\"\")","v":""},"",{"$f":"IF(CH$7=$F182,$H182,\"\")","v":""},"",{"$f":"IF(CJ$7=$F182,$H182,\"\")","v":""},"",{"$f":"IF(CL$7=$F182,$H182,\"\")","v":""},"",{"$f":"IF(CN$7=$F182,$H182,\"\")","v":""},"",{"$f":"IF(CP$7=$F182,$H182,\"\")","v":""},"",{"$f":"IF(CR$7=$F182,$H182,\"\")","v":""},"",{"$f":"IF(CT$7=$F182,$H182,\"\")","v":""},"",{"$f":"IF(CV$7=$F182,$H182,\"\")","v":""},"",{"$f":"IF(CX$7=$F182,$H182,\"\")","v":""},"",{"$f":"IF(CZ$7=$F182,$H182,\"\")","v":""},"",{"$f":"IF(DB$7=$F182,$H182,\"\")","v":""},"",{"$f":"IF(DD$7=$F182,$H182,\"\")","v":""},"",{"$f":"IF(DF$7=$F182,$H182,\"\")","v":""},0,{"$f":"IF(DH$7=$F182,$H182,\"\")","v":0},0,{"$f":"IF(DJ$7=$F182,$H182,\"\")","v":0},0,{"$f":"IF(DL$7=$F182,$H182,\"\")","v":0},0,{"$f":"IF(DN$7=$F182,$H182,\"\")","v":0},0,{"$f":"IF(DP$7=$F182,$H182,\"\")","v":0},0,{"$f":"IF(DR$7=$F182,$H182,\"\")","v":0},0,{"$f":"IF(DT$7=$F182,$H182,\"\")","v":0},0,{"$f":"IF(DV$7=$F182,$H182,\"\")","v":0},0,{"$f":"IF(DX$7=$F182,$H182,\"\")","v":0},0,{"$f":"IF(DZ$7=$F182,$H182,\"\")","v":0},0,{"$f":"IF(EB$7=$F182,$H182,\"\")","v":0},0,{"$f":"IF(ED$7=$F182,$H182,\"\")","v":0},0,{"$f":"IF(EF$7=$F182,$H182,\"\")","v":0},0,{"$f":"IF(EH$7=$F182,$H182,\"\")","v":0},0,{"$f":"IF(EJ$7=$F182,$H182,\"\")","v":0},0,{"$f":"IF(EL$7=$F182,$H182,\"\")","v":0},0,{"$f":"IF(EN$7=$F182,$H182,\"\")","v":0},0,{"$f":"IF(EP$7=$F182,$H182,\"\")","v":0},0,{"$f":"IF(ER$7=$F182,$H182,\"\")","v":0},0,{"$f":"IF(ET$7=$F182,$H182,\"\")","v":0},0,{"$f":"IF(EV$7=$F182,$H182,\"\")","v":0},0,{"$f":"IF(EX$7=$F182,$H182,\"\")","v":0},0,{"$f":"IF(EZ$7=$F182,$H182,\"\")","v":0},0,{"$f":"IF(FB$7=$F182,$H182,\"\")","v":0},0,{"$f":"IF(FD$7=$F182,$H182,\"\")","v":0},0,{"$f":"IF(FF$7=$F182,$H182,\"\")","v":0},0,{"$f":"IF(FH$7=$F182,$H182,\"\")","v":0},0,{"$f":"IF(FJ$7=$F182,$H182,\"\")","v":0},0,{"$f":"IF(FL$7=$F182,$H182,\"\")","v":0},0,0]
[175,null,null,null,null,null,null,null,true,0,0,"","","",{"$f":"IF(N$7=$F183,$H183,\"\")","v":""},"",{"$f":"IF(P$7=$F183,$H183,\"\")","v":""},"",{"$f":"IF(R$7=$F183,$H183,\"\")","v":""},"",{"$f":"IF(T$7=$F183,$H183,\"\")","v":""},"",{"$f":"IF(V$7=$F183,$H183,\"\")","v":""},"",{"$f":"IF(X$7=$F183,$H183,\"\")","v":""},"",{"$f":"IF(Z$7=$F183,$H183,\"\")","v":""},"",{"$f":"IF(AB$7=$F183,$H183,\"\")","v":""},"",{"$f":"IF(AD$7=$F183,$H183,\"\")","v":""},"",{"$f":"IF(AF$7=$F183,$H183,\"\")","v":""},"",{"$f":"IF(AH$7=$F183,$H183,\"\")","v":""},"",{"$f":"IF(AJ$7=$F183,$H183,\"\")","v":""},"",{"$f":"IF(AL$7=$F183,$H183,\"\")","v":""},"",{"$f":"IF(AN$7=$F183,$H183,\"\")","v":""},"",{"$f":"IF(AP$7=$F183,$H183,\"\")","v":""},"",{"$f":"IF(AR$7=$F183,$H183,\"\")","v":""},"",{"$f":"IF(AT$7=$F183,$H183,\"\")","v":""},"",{"$f":"IF(AV$7=$F183,$H183,\"\")","v":""},"",{"$f":"IF(AX$7=$F183,$H183,\"\")","v":""},"",{"$f":"IF(AZ$7=$F183,$H183,\"\")","v":""},"",{"$f":"IF(BB$7=$F183,$H183,\"\")","v":""},"",{"$f":"IF(BD$7=$F183,$H183,\"\")","v":""},"",{"$f":"IF(BF$7=$F183,$H183,\"\")","v":""},"",{"$f":"IF(BH$7=$F183,$H183,\"\")","v":""},"",{"$f":"IF(BJ$7=$F183,$H183,\"\")","v":""},"",{"$f":"IF(BL$7=$F183,$H183,\"\")","v":""},"",{"$f":"IF(BN$7=$F183,$H183,\"\")","v":""},"",{"$f":"IF(BP$7=$F183,$H183,\"\")","v":""},"",{"$f":"IF(BR$7=$F183,$H183,\"\")","v":""},"",{"$f":"IF(BT$7=$F183,$H183,\"\")","v":""},"",{"$f":"IF(BV$7=$F183,$H183,\"\")","v":""},"",{"$f":"IF(BX$7=$F183,$H183,\"\")","v":""},"",{"$f":"IF(BZ$7=$F183,$H183,\"\")","v":""},"",{"$f":"IF(CB$7=$F183,$H183,\"\")","v":""},"",{"$f":"IF(CD$7=$F183,$H183,\"\")","v":""},"",{"$f":"IF(CF$7=$F183,$H183,\"\")","v":""},"",{"$f":"IF(CH$7=$F183,$H183,\"\")","v":""},"",{"$f":"IF(CJ$7=$F183,$H183,\"\")","v":""},"",{"$f":"IF(CL$7=$F183,$H183,\"\")","v":""},"",{"$f":"IF(CN$7=$F183,$H183,\"\")","v":""},"",{"$f":"IF(CP$7=$F183,$H183,\"\")","v":""},"",{"$f":"IF(CR$7=$F183,$H183,\"\")","v":""},"",{"$f":"IF(CT$7=$F183,$H183,\"\")","v":""},"",{"$f":"IF(CV$7=$F183,$H183,\"\")","v":""},"",{"$f":"IF(CX$7=$F183,$H183,\"\")","v":""},"",{"$f":"IF(CZ$7=$F183,$H183,\"\")","v":""},"",{"$f":"IF(DB$7=$F183,$H183,\"\")","v":""},"",{"$f":"IF(DD$7=$F183,$H183,\"\")","v":""},"",{"$f":"IF(DF$7=$F183,$H183,\"\")","v":""},0,{"$f":"IF(DH$7=$F183,$H183,\"\")","v":0},0,{"$f":"IF(DJ$7=$F183,$H183,\"\")","v":0},0,{"$f":"IF(DL$7=$F183,$H183,\"\")","v":0},0,{"$f":"IF(DN$7=$F183,$H183,\"\")","v":0},0,{"$f":"IF(DP$7=$F183,$H183,\"\")","v":0},0,{"$f":"IF(DR$7=$F183,$H183,\"\")","v":0},0,{"$f":"IF(DT$7=$F183,$H183,\"\")","v":0},0,{"$f":"IF(DV$7=$F183,$H183,\"\")","v":0},0,{"$f":"IF(DX$7=$F183,$H183,\"\")","v":0},0,{"$f":"IF(DZ$7=$F183,$H183,\"\")","v":0},0,{"$f":"IF(EB$7=$F183,$H183,\"\")","v":0},0,{"$f":"IF(ED$7=$F183,$H183,\"\")","v":0},0,{"$f":"IF(EF$7=$F183,$H183,\"\")","v":0},0,{"$f":"IF(EH$7=$F183,$H183,\"\")","v":0},0,{"$f":"IF(EJ$7=$F183,$H183,\"\")","v":0},0,{"$f":"IF(EL$7=$F183,$H183,\"\")","v":0},0,{"$f":"IF(EN$7=$F183,$H183,\"\")","v":0},0,{"$f":"IF(EP$7=$F183,$H183,\"\")","v":0},0,{"$f":"IF(ER$7=$F183,$H183,\"\")","v":0},0,{"$f":"IF(ET$7=$F183,$H183,\"\")","v":0},0,{"$f":"IF(EV$7=$F183,$H183,\"\")","v":0},0,{"$f":"IF(EX$7=$F183,$H183,\"\")","v":0},0,{"$f":"IF(EZ$7=$F183,$H183,\"\")","v":0},0,{"$f":"IF(FB$7=$F183,$H183,\"\")","v":0},0,{"$f":"IF(FD$7=$F183,$H183,\"\")","v":0},0,{"$f":"IF(FF$7=$F183,$H183,\"\")","v":0},0,{"$f":"IF(FH$7=$F183,$H183,\"\")","v":0},0,{"$f":"IF(FJ$7=$F183,$H183,\"\")","v":0},0,{"$f":"IF(FL$7=$F183,$H183,\"\")","v":0},0,0]
[176,null,null,null,null,null,null,null,true,0,0,"","","",{"$f":"IF(N$7=$F184,$H184,\"\")","v":""},"",{"$f":"IF(P$7=$F184,$H184,\"\")","v":""},"",{"$f":"IF(R$7=$F184,$H184,\"\")","v":""},"",{"$f":"IF(T$7=$F184,$H184,\"\")","v":""},"",{"$f":"IF(V$7=$F184,$H184,\"\")","v":""},"",{"$f":"IF(X$7=$F184,$H184,\"\")","v":""},"",{"$f":"IF(Z$7=$F184,$H184,\"\")","v":""},"",{"$f":"IF(AB$7=$F184,$H184,\"\")","v":""},"",{"$f":"IF(AD$7=$F184,$H184,\"\")","v":""},"",{"$f":"IF(AF$7=$F184,$H184,\"\")","v":""},"",{"$f":"IF(AH$7=$F184,$H184,\"\")","v":""},"",{"$f":"IF(AJ$7=$F184,$H184,\"\")","v":""},"",{"$f":"IF(AL$7=$F184,$H184,\"\")","v":""},"",{"$f":"IF(AN$7=$F184,$H184,\"\")","v":""},"",{"$f":"IF(AP$7=$F184,$H184,\"\")","v":""},"",{"$f":"IF(AR$7=$F184,$H184,\"\")","v":""},"",{"$f":"IF(AT$7=$F184,$H184,\"\")","v":""},"",{"$f":"IF(AV$7=$F184,$H184,\"\")","v":""},"",{"$f":"IF(AX$7=$F184,$H184,\"\")","v":""},"",{"$f":"IF(AZ$7=$F184,$H184,\"\")","v":""},"",{"$f":"IF(BB$7=$F184,$H184,\"\")","v":""},"",{"$f":"IF(BD$7=$F184,$H184,\"\")","v":""},"",{"$f":"IF(BF$7=$F184,$H184,\"\")","v":""},"",{"$f":"IF(BH$7=$F184,$H184,\"\")","v":""},"",{"$f":"IF(BJ$7=$F184,$H184,\"\")","v":""},"",{"$f":"IF(BL$7=$F184,$H184,\"\")","v":""},"",{"$f":"IF(BN$7=$F184,$H184,\"\")","v":""},"",{"$f":"IF(BP$7=$F184,$H184,\"\")","v":""},"",{"$f":"IF(BR$7=$F184,$H184,\"\")","v":""},"",{"$f":"IF(BT$7=$F184,$H184,\"\")","v":""},"",{"$f":"IF(BV$7=$F184,$H184,\"\")","v":""},"",{"$f":"IF(BX$7=$F184,$H184,\"\")","v":""},"",{"$f":"IF(BZ$7=$F184,$H184,\"\")","v":""},"",{"$f":"IF(CB$7=$F184,$H184,\"\")","v":""},"",{"$f":"IF(CD$7=$F184,$H184,\"\")","v":""},"",{"$f":"IF(CF$7=$F184,$H184,\"\")","v":""},"",{"$f":"IF(CH$7=$F184,$H184,\"\")","v":""},"",{"$f":"IF(CJ$7=$F184,$H184,\"\")","v":""},"",{"$f":"IF(CL$7=$F184,$H184,\"\")","v":""},"",{"$f":"IF(CN$7=$F184,$H184,\"\")","v":""},"",{"$f":"IF(CP$7=$F184,$H184,\"\")","v":""},"",{"$f":"IF(CR$7=$F184,$H184,\"\")","v":""},"",{"$f":"IF(CT$7=$F184,$H184,\"\")","v":""},"",{"$f":"IF(CV$7=$F184,$H184,\"\")","v":""},"",{"$f":"IF(CX$7=$F184,$H184,\"\")","v":""},"",{"$f":"IF(CZ$7=$F184,$H184,\"\")","v":""},"",{"$f":"IF(DB$7=$F184,$H184,\"\")","v":""},"",{"$f":"IF(DD$7=$F184,$H184,\"\")","v":""},"",{"$f":"IF(DF$7=$F184,$H184,\"\")","v":""},0,{"$f":"IF(DH$7=$F184,$H184,\"\")","v":0},0,{"$f":"IF(DJ$7=$F184,$H184,\"\")","v":0},0,{"$f":"IF(DL$7=$F184,$H184,\"\")","v":0},0,{"$f":"IF(DN$7=$F184,$H184,\"\")","v":0},0,{"$f":"IF(DP$7=$F184,$H184,\"\")","v":0},0,{"$f":"IF(DR$7=$F184,$H184,\"\")","v":0},0,{"$f":"IF(DT$7=$F184,$H184,\"\")","v":0},0,{"$f":"IF(DV$7=$F184,$H184,\"\")","v":0},0,{"$f":"IF(DX$7=$F184,$H184,\"\")","v":0},0,{"$f":"IF(DZ$7=$F184,$H184,\"\")","v":0},0,{"$f":"IF(EB$7=$F184,$H184,\"\")","v":0},0,{"$f":"IF(ED$7=$F184,$H184,\"\")","v":0},0,{"$f":"IF(EF$7=$F184,$H184,\"\")","v":0},0,{"$f":"IF(EH$7=$F184,$H184,\"\")","v":0},0,{"$f":"IF(EJ$7=$F184,$H184,\"\")","v":0},0,{"$f":"IF(EL$7=$F184,$H184,\"\")","v":0},0,{"$f":"IF(EN$7=$F184,$H184,\"\")","v":0},0,{"$f":"IF(EP$7=$F184,$H184,\"\")","v":0},0,{"$f":"IF(ER$7=$F184,$H184,\"\")","v":0},0,{"$f":"IF(ET$7=$F184,$H184,\"\")","v":0},0,{"$f":"IF(EV$7=$F184,$H184,\"\")","v":0},0,{"$f":"IF(EX$7=$F184,$H184,\"\")","v":0},0,{"$f":"IF(EZ$7=$F184,$H184,\"\")","v":0},0,{"$f":"IF(FB$7=$F184,$H184,\"\")","v":0},0,{"$f":"IF(FD$7=$F184,$H184,\"\")","v":0},0,{"$f":"IF(FF$7=$F184,$H184,\"\")","v":0},0,{"$f":"IF(FH$7=$F184,$H184,\"\")","v":0},0,{"$f":"IF(FJ$7=$F184,$H184,\"\")","v":0},0,{"$f":"IF(FL$7=$F184,$H184,\"\")","v":0},0,0]
[177,null,null,null,null,null,null,null,true,0,0,"","","",{"$f":"IF(N$7=$F185,$H185,\"\")","v":""},"",{"$f":"IF(P$7=$F185,$H185,\"\")","v":""},"",{"$f":"IF(R$7=$F185,$H185,\"\")","v":""},"",{"$f":"IF(T$7=$F185,$H185,\"\")","v":""},"",{"$f":"IF(V$7=$F185,$H185,\"\")","v":""},"",{"$f":"IF(X$7=$F185,$H185,\"\")","v":""},"",{"$f":"IF(Z$7=$F185,$H185,\"\")","v":""},"",{"$f":"IF(AB$7=$F185,$H185,\"\")","v":""},"",{"$f":"IF(AD$7=$F185,$H185,\"\")","v":""},"",{"$f":"IF(AF$7=$F185,$H185,\"\")","v":""},"",{"$f":"IF(AH$7=$F185,$H185,\"\")","v":""},"",{"$f":"IF(AJ$7=$F185,$H185,\"\")","v":""},"",{"$f":"IF(AL$7=$F185,$H185,\"\")","v":""},"",{"$f":"IF(AN$7=$F185,$H185,\"\")","v":""},"",{"$f":"IF(AP$7=$F185,$H185,\"\")","v":""},"",{"$f":"IF(AR$7=$F185,$H185,\"\")","v":""},"",{"$f":"IF(AT$7=$F185,$H185,\"\")","v":""},"",{"$f":"IF(AV$7=$F185,$H185,\"\")","v":""},"",{"$f":"IF(AX$7=$F185,$H185,\"\")","v":""},"",{"$f":"IF(AZ$7=$F185,$H185,\"\")","v":""},"",{"$f":"IF(BB$7=$F185,$H185,\"\")","v":""},"",{"$f":"IF(BD$7=$F185,$H185,\"\")","v":""},"",{"$f":"IF(BF$7=$F185,$H185,\"\")","v":""},"",{"$f":"IF(BH$7=$F185,$H185,\"\")","v":""},"",{"$f":"IF(BJ$7=$F185,$H185,\"\")","v":""},"",{"$f":"IF(BL$7=$F185,$H185,\"\")","v":""},"",{"$f":"IF(BN$7=$F185,$H185,\"\")","v":""},"",{"$f":"IF(BP$7=$F185,$H185,\"\")","v":""},"",{"$f":"IF(BR$7=$F185,$H185,\"\")","v":""},"",{"$f":"IF(BT$7=$F185,$H185,\"\")","v":""},"",{"$f":"IF(BV$7=$F185,$H185,\"\")","v":""},"",{"$f":"IF(BX$7=$F185,$H185,\"\")","v":""},"",{"$f":"IF(BZ$7=$F185,$H185,\"\")","v":""},"",{"$f":"IF(CB$7=$F185,$H185,\"\")","v":""},"",{"$f":"IF(CD$7=$F185,$H185,\"\")","v":""},"",{"$f":"IF(CF$7=$F185,$H185,\"\")","v":""},"",{"$f":"IF(CH$7=$F185,$H185,\"\")","v":""},"",{"$f":"IF(CJ$7=$F185,$H185,\"\")","v":""},"",{"$f":"IF(CL$7=$F185,$H185,\"\")","v":""},"",{"$f":"IF(CN$7=$F185,$H185,\"\")","v":""},"",{"$f":"IF(CP$7=$F185,$H185,\"\")","v":""},"",{"$f":"IF(CR$7=$F185,$H185,\"\")","v":""},"",{"$f":"IF(CT$7=$F185,$H185,\"\")","v":""},"",{"$f":"IF(CV$7=$F185,$H185,\"\")","v":""},"",{"$f":"IF(CX$7=$F185,$H185,\"\")","v":""},"",{"$f":"IF(CZ$7=$F185,$H185,\"\")","v":""},"",{"$f":"IF(DB$7=$F185,$H185,\"\")","v":""},"",{"$f":"IF(DD$7=$F185,$H185,\"\")","v":""},"",{"$f":"IF(DF$7=$F185,$H185,\"\")","v":""},0,{"$f":"IF(DH$7=$F185,$H185,\"\")","v":0},0,{"$f":"IF(DJ$7=$F185,$H185,\"\")","v":0},0,{"$f":"IF(DL$7=$F185,$H185,\"\")","v":0},0,{"$f":"IF(DN$7=$F185,$H185,\"\")","v":0},0,{"$f":"IF(DP$7=$F185,$H185,\"\")","v":0},0,{"$f":"IF(DR$7=$F185,$H185,\"\")","v":0},0,{"$f":"IF(DT$7=$F185,$H185,\"\")","v":0},0,{"$f":"IF(DV$7=$F185,$H185,\"\")","v":0},0,{"$f":"IF(DX$7=$F185,$H185,\"\")","v":0},0,{"$f":"IF(DZ$7=$F185,$H185,\"\")","v":0},0,{"$f":"IF(EB$7=$F185,$H185,\"\")","v":0},0,{"$f":"IF(ED$7=$F185,$H185,\"\")","v":0},0,{"$f":"IF(EF$7=$F185,$H185,\"\")","v":0},0,{"$f":"IF(EH$7=$F185,$H185,\"\")","v":0},0,{"$f":"IF(EJ$7=$F185,$H185,\"\")","v":0},0,{"$f":"IF(EL$7=$F185,$H185,\"\")","v":0},0,{"$f":"IF(EN$7=$F185,$H185,\"\")","v":0},0,{"$f":"IF(EP$7=$F185,$H185,\"\")","v":0},0,{"$f":"IF(ER$7=$F185,$H185,\"\")","v":0},0,{"$f":"IF(ET$7=$F185,$H185,\"\")","v":0},0,{"$f":"IF(EV$7=$F185,$H185,\"\")","v":0},0,{"$f":"IF(EX$7=$F185,$H185,\"\")","v":0},0,{"$f":"IF(EZ$7=$F185,$H185,\"\")","v":0},0,{"$f":"IF(FB$7=$F185,$H185,\"\")","v":0},0,{"$f":"IF(FD$7=$F185,$H185,\"\")","v":0},0,{"$f":"IF(FF$7=$F185,$H185,\"\")","v":0},0,{"$f":"IF(FH$7=$F185,$H185,\"\")","v":0},0,{"$f":"IF(FJ$7=$F185,$H185,\"\")","v":0},0,{"$f":"IF(FL$7=$F185,$H185,\"\")","v":0},0,0]
[178,null,null,null,null,null,null,null,true,0,0,"","","",{"$f":"IF(N$7=$F186,$H186,\"\")","v":""},"",{"$f":"IF(P$7=$F186,$H186,\"\")","v":""},"",{"$f":"IF(R$7=$F186,$H186,\"\")","v":""},"",{"$f":"IF(T$7=$F186,$H186,\"\")","v":""},"",{"$f":"IF(V$7=$F186,$H186,\"\")","v":""},"",{"$f":"IF(X$7=$F186,$H186,\"\")","v":""},"",{"$f":"IF(Z$7=$F186,$H186,\"\")","v":""},"",{"$f":"IF(AB$7=$F186,$H186,\"\")","v":""},"",{"$f":"IF(AD$7=$F186,$H186,\"\")","v":""},"",{"$f":"IF(AF$7=$F186,$H186,\"\")","v":""},"",{"$f":"IF(AH$7=$F186,$H186,\"\")","v":""},"",{"$f":"IF(AJ$7=$F186,$H186,\"\")","v":""},"",{"$f":"IF(AL$7=$F186,$H186,\"\")","v":""},"",{"$f":"IF(AN$7=$F186,$H186,\"\")","v":""},"",{"$f":"IF(AP$7=$F186,$H186,\"\")","v":""},"",{"$f":"IF(AR$7=$F186,$H186,\"\")","v":""},"",{"$f":"IF(AT$7=$F186,$H186,\"\")","v":""},"",{"$f":"IF(AV$7=$F186,$H186,\"\")","v":""},"",{"$f":"IF(AX$7=$F186,$H186,\"\")","v":""},"",{"$f":"IF(AZ$7=$F186,$H186,\"\")","v":""},"",{"$f":"IF(BB$7=$F186,$H186,\"\")","v":""},"",{"$f":"IF(BD$7=$F186,$H186,\"\")","v":""},"",{"$f":"IF(BF$7=$F186,$H186,\"\")","v":""},"",{"$f":"IF(BH$7=$F186,$H186,\"\")","v":""},"",{"$f":"IF(BJ$7=$F186,$H186,\"\")","v":""},"",{"$f":"IF(BL$7=$F186,$H186,\"\")","v":""},"",{"$f":"IF(BN$7=$F186,$H186,\"\")","v":""},"",{"$f":"IF(BP$7=$F186,$H186,\"\")","v":""},"",{"$f":"IF(BR$7=$F186,$H186,\"\")","v":""},"",{"$f":"IF(BT$7=$F186,$H186,\"\")","v":""},"",{"$f":"IF(BV$7=$F186,$H186,\"\")","v":""},"",{"$f":"IF(BX$7=$F186,$H186,\"\")","v":""},"",{"$f":"IF(BZ$7=$F186,$H186,\"\")","v":""},"",{"$f":"IF(CB$7=$F186,$H186,\"\")","v":""},"",{"$f":"IF(CD$7=$F186,$H186,\"\")","v":""},"",{"$f":"IF(CF$7=$F186,$H186,\"\")","v":""},"",{"$f":"IF(CH$7=$F186,$H186,\"\")","v":""},"",{"$f":"IF(CJ$7=$F186,$H186,\"\")","v":""},"",{"$f":"IF(CL$7=$F186,$H186,\"\")","v":""},"",{"$f":"IF(CN$7=$F186,$H186,\"\")","v":""},"",{"$f":"IF(CP$7=$F186,$H186,\"\")","v":""},"",{"$f":"IF(CR$7=$F186,$H186,\"\")","v":""},"",{"$f":"IF(CT$7=$F186,$H186,\"\")","v":""},"",{"$f":"IF(CV$7=$F186,$H186,\"\")","v":""},"",{"$f":"IF(CX$7=$F186,$H186,\"\")","v":""},"",{"$f":"IF(CZ$7=$F186,$H186,\"\")","v":""},"",{"$f":"IF(DB$7=$F186,$H186,\"\")","v":""},"",{"$f":"IF(DD$7=$F186,$H186,\"\")","v":""},"",{"$f":"IF(DF$7=$F186,$H186,\"\")","v":""},0,{"$f":"IF(DH$7=$F186,$H186,\"\")","v":0},0,{"$f":"IF(DJ$7=$F186,$H186,\"\")","v":0},0,{"$f":"IF(DL$7=$F186,$H186,\"\")","v":0},0,{"$f":"IF(DN$7=$F186,$H186,\"\")","v":0},0,{"$f":"IF(DP$7=$F186,$H186,\"\")","v":0},0,{"$f":"IF(DR$7=$F186,$H186,\"\")","v":0},0,{"$f":"IF(DT$7=$F186,$H186,\"\")","v":0},0,{"$f":"IF(DV$7=$F186,$H186,\"\")","v":0},0,{"$f":"IF(DX$7=$F186,$H186,\"\")","v":0},0,{"$f":"IF(DZ$7=$F186,$H186,\"\")","v":0},0,{"$f":"IF(EB$7=$F186,$H186,\"\")","v":0},0,{"$f":"IF(ED$7=$F186,$H186,\"\")","v":0},0,{"$f":"IF(EF$7=$F186,$H186,\"\")","v":0},0,{"$f":"IF(EH$7=$F186,$H186,\"\")","v":0},0,{"$f":"IF(EJ$7=$F186,$H186,\"\")","v":0},0,{"$f":"IF(EL$7=$F186,$H186,\"\")","v":0},0,{"$f":"IF(EN$7=$F186,$H186,\"\")","v":0},0,{"$f":"IF(EP$7=$F186,$H186,\"\")","v":0},0,{"$f":"IF(ER$7=$F186,$H186,\"\")","v":0},0,{"$f":"IF(ET$7=$F186,$H186,\"\")","v":0},0,{"$f":"IF(EV$7=$F186,$H186,\"\")","v":0},0,{"$f":"IF(EX$7=$F186,$H186,\"\")","v":0},0,{"$f":"IF(EZ$7=$F186,$H186,\"\")","v":0},0,{"$f":"IF(FB$7=$F186,$H186,\"\")","v":0},0,{"$f":"IF(FD$7=$F186,$H186,\"\")","v":0},0,{"$f":"IF(FF$7=$F186,$H186,\"\")","v":0},0,{"$f":"IF(FH$7=$F186,$H186,\"\")","v":0},0,{"$f":"IF(FJ$7=$F186,$H186,\"\")","v":0},0,{"$f":"IF(FL$7=$F186,$H186,\"\")","v":0},0,0]
[179,null,null,null,null,null,null,null,true,0,0,"","","",{"$f":"IF(N$7=$F187,$H187,\"\")","v":""},"",{"$f":"IF(P$7=$F187,$H187,\"\")","v":""},"",{"$f":"IF(R$7=$F187,$H187,\"\")","v":""},"",{"$f":"IF(T$7=$F187,$H187,\"\")","v":""},"",{"$f":"IF(V$7=$F187,$H187,\"\")","v":""},"",{"$f":"IF(X$7=$F187,$H187,\"\")","v":""},"",{"$f":"IF(Z$7=$F187,$H187,\"\")","v":""},"",{"$f":"IF(AB$7=$F187,$H187,\"\")","v":""},"",{"$f":"IF(AD$7=$F187,$H187,\"\")","v":""},"",{"$f":"IF(AF$7=$F187,$H187,\"\")","v":""},"",{"$f":"IF(AH$7=$F187,$H187,\"\")","v":""},"",{"$f":"IF(AJ$7=$F187,$H187,\"\")","v":""},"",{"$f":"IF(AL$7=$F187,$H187,\"\")","v":""},"",{"$f":"IF(AN$7=$F187,$H187,\"\")","v":""},"",{"$f":"IF(AP$7=$F187,$H187,\"\")","v":""},"",{"$f":"IF(AR$7=$F187,$H187,\"\")","v":""},"",{"$f":"IF(AT$7=$F187,$H187,\"\")","v":""},"",{"$f":"IF(AV$7=$F187,$H187,\"\")","v":""},"",{"$f":"IF(AX$7=$F187,$H187,\"\")","v":""},"",{"$f":"IF(AZ$7=$F187,$H187,\"\")","v":""},"",{"$f":"IF(BB$7=$F187,$H187,\"\")","v":""},"",{"$f":"IF(BD$7=$F187,$H187,\"\")","v":""},"",{"$f":"IF(BF$7=$F187,$H187,\"\")","v":""},"",{"$f":"IF(BH$7=$F187,$H187,\"\")","v":""},"",{"$f":"IF(BJ$7=$F187,$H187,\"\")","v":""},"",{"$f":"IF(BL$7=$F187,$H187,\"\")","v":""},"",{"$f":"IF(BN$7=$F187,$H187,\"\")","v":""},"",{"$f":"IF(BP$7=$F187,$H187,\"\")","v":""},"",{"$f":"IF(BR$7=$F187,$H187,\"\")","v":""},"",{"$f":"IF(BT$7=$F187,$H187,\"\")","v":""},"",{"$f":"IF(BV$7=$F187,$H187,\"\")","v":""},"",{"$f":"IF(BX$7=$F187,$H187,\"\")","v":""},"",{"$f":"IF(BZ$7=$F187,$H187,\"\")","v":""},"",{"$f":"IF(CB$7=$F187,$H187,\"\")","v":""},"",{"$f":"IF(CD$7=$F187,$H187,\"\")","v":""},"",{"$f":"IF(CF$7=$F187,$H187,\"\")","v":""},"",{"$f":"IF(CH$7=$F187,$H187,\"\")","v":""},"",{"$f":"IF(CJ$7=$F187,$H187,\"\")","v":""},"",{"$f":"IF(CL$7=$F187,$H187,\"\")","v":""},"",{"$f":"IF(CN$7=$F187,$H187,\"\")","v":""},"",{"$f":"IF(CP$7=$F187,$H187,\"\")","v":""},"",{"$f":"IF(CR$7=$F187,$H187,\"\")","v":""},"",{"$f":"IF(CT$7=$F187,$H187,\"\")","v":""},"",{"$f":"IF(CV$7=$F187,$H187,\"\")","v":""},"",{"$f":"IF(CX$7=$F187,$H187,\"\")","v":""},"",{"$f":"IF(CZ$7=$F187,$H187,\"\")","v":""},"",{"$f":"IF(DB$7=$F187,$H187,\"\")","v":""},"",{"$f":"IF(DD$7=$F187,$H187,\"\")","v":""},"",{"$f":"IF(DF$7=$F187,$H187,\"\")","v":""},0,{"$f":"IF(DH$7=$F187,$H187,\"\")","v":0},0,{"$f":"IF(DJ$7=$F187,$H187,\"\")","v":0},0,{"$f":"IF(DL$7=$F187,$H187,\"\")","v":0},0,{"$f":"IF(DN$7=$F187,$H187,\"\")","v":0},0,{"$f":"IF(DP$7=$F187,$H187,\"\")","v":0},0,{"$f":"IF(DR$7=$F187,$H187,\"\")","v":0},0,{"$f":"IF(DT$7=$F187,$H187,\"\")","v":0},0,{"$f":"IF(DV$7=$F187,$H187,\"\")","v":0},0,{"$f":"IF(DX$7=$F187,$H187,\"\")","v":0},0,{"$f":"IF(DZ$7=$F187,$H187,\"\")","v":0},0,{"$f":"IF(EB$7=$F187,$H187,\"\")","v":0},0,{"$f":"IF(ED$7=$F187,$H187,\"\")","v":0},0,{"$f":"IF(EF$7=$F187,$H187,\"\")","v":0},0,{"$f":"IF(EH$7=$F187,$H187,\"\")","v":0},0,{"$f":"IF(EJ$7=$F187,$H187,\"\")","v":0},0,{"$f":"IF(EL$7=$F187,$H187,\"\")","v":0},0,{"$f":"IF(EN$7=$F187,$H187,\"\")","v":0},0,{"$f":"IF(EP$7=$F187,$H187,\"\")","v":0},0,{"$f":"IF(ER$7=$F187,$H187,\"\")","v":0},0,{"$f":"IF(ET$7=$F187,$H187,\"\")","v":0},0,{"$f":"IF(EV$7=$F187,$H187,\"\")","v":0},0,{"$f":"IF(EX$7=$F187,$H187,\"\")","v":0},0,{"$f":"IF(EZ$7=$F187,$H187,\"\")","v":0},0,{"$f":"IF(FB$7=$F187,$H187,\"\")","v":0},0,{"$f":"IF(FD$7=$F187,$H187,\"\")","v":0},0,{"$f":"IF(FF$7=$F187,$H187,\"\")","v":0},0,{"$f":"IF(FH$7=$F187,$H187,\"\")","v":0},0,{"$f":"IF(FJ$7=$F187,$H187,\"\")","v":0},0,{"$f":"IF(FL$7=$F187,$H187,\"\")","v":0},0,0]
[180,null,null,null,null,null,null,null,true,0,0,"","","",{"$f":"IF(N$7=$F188,$H188,\"\")","v":""},"",{"$f":"IF(P$7=$F188,$H188,\"\")","v":""},"",{"$f":"IF(R$7=$F188,$H188,\"\")","v":""},"",{"$f":"IF(T$7=$F188,$H188,\"\")","v":""},"",{"$f":"IF(V$7=$F188,$H188,\"\")","v":""},"",{"$f":"IF(X$7=$F188,$H188,\"\")","v":""},"",{"$f":"IF(Z$7=$F188,$H188,\"\")","v":""},"",{"$f":"IF(AB$7=$F188,$H188,\"\")","v":""},"",{"$f":"IF(AD$7=$F188,$H188,\"\")","v":""},"",{"$f":"IF(AF$7=$F188,$H188,\"\")","v":""},"",{"$f":"IF(AH$7=$F188,$H188,\"\")","v":""},"",{"$f":"IF(AJ$7=$F188,$H188,\"\")","v":""},"",{"$f":"IF(AL$7=$F188,$H188,\"\")","v":""},"",{"$f":"IF(AN$7=$F188,$H188,\"\")","v":""},"",{"$f":"IF(AP$7=$F188,$H188,\"\")","v":""},"",{"$f":"IF(AR$7=$F188,$H188,\"\")","v":""},"",{"$f":"IF(AT$7=$F188,$H188,\"\")","v":""},"",{"$f":"IF(AV$7=$F188,$H188,\"\")","v":""},"",{"$f":"IF(AX$7=$F188,$H188,\"\")","v":""},"",{"$f":"IF(AZ$7=$F188,$H188,\"\")","v":""},"",{"$f":"IF(BB$7=$F188,$H188,\"\")","v":""},"",{"$f":"IF(BD$7=$F188,$H188,\"\")","v":""},"",{"$f":"IF(BF$7=$F188,$H188,\"\")","v":""},"",{"$f":"IF(BH$7=$F188,$H188,\"\")","v":""},"",{"$f":"IF(BJ$7=$F188,$H188,\"\")","v":""},"",{"$f":"IF(BL$7=$F188,$H188,\"\")","v":""},"",{"$f":"IF(BN$7=$F188,$H188,\"\")","v":""},"",{"$f":"IF(BP$7=$F188,$H188,\"\")","v":""},"",{"$f":"IF(BR$7=$F188,$H188,\"\")","v":""},"",{"$f":"IF(BT$7=$F188,$H188,\"\")","v":""},"",{"$f":"IF(BV$7=$F188,$H188,\"\")","v":""},"",{"$f":"IF(BX$7=$F188,$H188,\"\")","v":""},"",{"$f":"IF(BZ$7=$F188,$H188,\"\")","v":""},"",{"$f":"IF(CB$7=$F188,$H188,\"\")","v":""},"",{"$f":"IF(CD$7=$F188,$H188,\"\")","v":""},"",{"$f":"IF(CF$7=$F188,$H188,\"\")","v":""},"",{"$f":"IF(CH$7=$F188,$H188,\"\")","v":""},"",{"$f":"IF(CJ$7=$F188,$H188,\"\")","v":""},"",{"$f":"IF(CL$7=$F188,$H188,\"\")","v":""},"",{"$f":"IF(CN$7=$F188,$H188,\"\")","v":""},"",{"$f":"IF(CP$7=$F188,$H188,\"\")","v":""},"",{"$f":"IF(CR$7=$F188,$H188,\"\")","v":""},"",{"$f":"IF(CT$7=$F188,$H188,\"\")","v":""},"",{"$f":"IF(CV$7=$F188,$H188,\"\")","v":""},"",{"$f":"IF(CX$7=$F188,$H188,\"\")","v":""},"",{"$f":"IF(CZ$7=$F188,$H188,\"\")","v":""},"",{"$f":"IF(DB$7=$F188,$H188,\"\")","v":""},"",{"$f":"IF(DD$7=$F188,$H188,\"\")","v":""},"",{"$f":"IF(DF$7=$F188,$H188,\"\")","v":""},0,{"$f":"IF(DH$7=$F188,$H188,\"\")","v":0},0,{"$f":"IF(DJ$7=$F188,$H188,\"\")","v":0},0,{"$f":"IF(DL$7=$F188,$H188,\"\")","v":0},0,{"$f":"IF(DN$7=$F188,$H188,\"\")","v":0},0,{"$f":"IF(DP$7=$F188,$H188,\"\")","v":0},0,{"$f":"IF(DR$7=$F188,$H188,\"\")","v":0},0,{"$f":"IF(DT$7=$F188,$H188,\"\")","v":0},0,{"$f":"IF(DV$7=$F188,$H188,\"\")","v":0},0,{"$f":"IF(DX$7=$F188,$H188,\"\")","v":0},0,{"$f":"IF(DZ$7=$F188,$H188,\"\")","v":0},0,{"$f":"IF(EB$7=$F188,$H188,\"\")","v":0},0,{"$f":"IF(ED$7=$F188,$H188,\"\")","v":0},0,{"$f":"IF(EF$7=$F188,$H188,\"\")","v":0},0,{"$f":"IF(EH$7=$F188,$H188,\"\")","v":0},0,{"$f":"IF(EJ$7=$F188,$H188,\"\")","v":0},0,{"$f":"IF(EL$7=$F188,$H188,\"\")","v":0},0,{"$f":"IF(EN$7=$F188,$H188,\"\")","v":0},0,{"$f":"IF(EP$7=$F188,$H188,\"\")","v":0},0,{"$f":"IF(ER$7=$F188,$H188,\"\")","v":0},0,{"$f":"IF(ET$7=$F188,$H188,\"\")","v":0},0,{"$f":"IF(EV$7=$F188,$H188,\"\")","v":0},0,{"$f":"IF(EX$7=$F188,$H188,\"\")","v":0},0,{"$f":"IF(EZ$7=$F188,$H188,\"\")","v":0},0,{"$f":"IF(FB$7=$F188,$H188,\"\")","v":0},0,{"$f":"IF(FD$7=$F188,$H188,\"\")","v":0},0,{"$f":"IF(FF$7=$F188,$H188,\"\")","v":0},0,{"$f":"IF(FH$7=$F188,$H188,\"\")","v":0},0,{"$f":"IF(FJ$7=$F188,$H188,\"\")","v":0},0,{"$f":"IF(FL$7=$F188,$H188,\"\")","v":0},0,0]
[181,null,null,null,null,null,null,null,true,0,0,"","","",{"$f":"IF(N$7=$F189,$H189,\"\")","v":""},"",{"$f":"IF(P$7=$F189,$H189,\"\")","v":""},"",{"$f":"IF(R$7=$F189,$H189,\"\")","v":""},"",{"$f":"IF(T$7=$F189,$H189,\"\")","v":""},"",{"$f":"IF(V$7=$F189,$H189,\"\")","v":""},"",{"$f":"IF(X$7=$F189,$H189,\"\")","v":""},"",{"$f":"IF(Z$7=$F189,$H189,\"\")","v":""},"",{"$f":"IF(AB$7=$F189,$H189,\"\")","v":""},"",{"$f":"IF(AD$7=$F189,$H189,\"\")","v":""},"",{"$f":"IF(AF$7=$F189,$H189,\"\")","v":""},"",{"$f":"IF(AH$7=$F189,$H189,\"\")","v":""},"",{"$f":"IF(AJ$7=$F189,$H189,\"\")","v":""},"",{"$f":"IF(AL$7=$F189,$H189,\"\")","v":""},"",{"$f":"IF(AN$7=$F189,$H189,\"\")","v":""},"",{"$f":"IF(AP$7=$F189,$H189,\"\")","v":""},"",{"$f":"IF(AR$7=$F189,$H189,\"\")","v":""},"",{"$f":"IF(AT$7=$F189,$H189,\"\")","v":""},"",{"$f":"IF(AV$7=$F189,$H189,\"\")","v":""},"",{"$f":"IF(AX$7=$F189,$H189,\"\")","v":""},"",{"$f":"IF(AZ$7=$F189,$H189,\"\")","v":""},"",{"$f":"IF(BB$7=$F189,$H189,\"\")","v":""},"",{"$f":"IF(BD$7=$F189,$H189,\"\")","v":""},"",{"$f":"IF(BF$7=$F189,$H189,\"\")","v":""},"",{"$f":"IF(BH$7=$F189,$H189,\"\")","v":""},"",{"$f":"IF(BJ$7=$F189,$H189,\"\")","v":""},"",{"$f":"IF(BL$7=$F189,$H189,\"\")","v":""},"",{"$f":"IF(BN$7=$F189,$H189,\"\")","v":""},"",{"$f":"IF(BP$7=$F189,$H189,\"\")","v":""},"",{"$f":"IF(BR$7=$F189,$H189,\"\")","v":""},"",{"$f":"IF(BT$7=$F189,$H189,\"\")","v":""},"",{"$f":"IF(BV$7=$F189,$H189,\"\")","v":""},"",{"$f":"IF(BX$7=$F189,$H189,\"\")","v":""},"",{"$f":"IF(BZ$7=$F189,$H189,\"\")","v":""},"",{"$f":"IF(CB$7=$F189,$H189,\"\")","v":""},"",{"$f":"IF(CD$7=$F189,$H189,\"\")","v":""},"",{"$f":"IF(CF$7=$F189,$H189,\"\")","v":""},"",{"$f":"IF(CH$7=$F189,$H189,\"\")","v":""},"",{"$f":"IF(CJ$7=$F189,$H189,\"\")","v":""},"",{"$f":"IF(CL$7=$F189,$H189,\"\")","v":""},"",{"$f":"IF(CN$7=$F189,$H189,\"\")","v":""},"",{"$f":"IF(CP$7=$F189,$H189,\"\")","v":""},"",{"$f":"IF(CR$7=$F189,$H189,\"\")","v":""},"",{"$f":"IF(CT$7=$F189,$H189,\"\")","v":""},"",{"$f":"IF(CV$7=$F189,$H189,\"\")","v":""},"",{"$f":"IF(CX$7=$F189,$H189,\"\")","v":""},"",{"$f":"IF(CZ$7=$F189,$H189,\"\")","v":""},"",{"$f":"IF(DB$7=$F189,$H189,\"\")","v":""},"",{"$f":"IF(DD$7=$F189,$H189,\"\")","v":""},"",{"$f":"IF(DF$7=$F189,$H189,\"\")","v":""},0,{"$f":"IF(DH$7=$F189,$H189,\"\")","v":0},0,{"$f":"IF(DJ$7=$F189,$H189,\"\")","v":0},0,{"$f":"IF(DL$7=$F189,$H189,\"\")","v":0},0,{"$f":"IF(DN$7=$F189,$H189,\"\")","v":0},0,{"$f":"IF(DP$7=$F189,$H189,\"\")","v":0},0,{"$f":"IF(DR$7=$F189,$H189,\"\")","v":0},0,{"$f":"IF(DT$7=$F189,$H189,\"\")","v":0},0,{"$f":"IF(DV$7=$F189,$H189,\"\")","v":0},0,{"$f":"IF(DX$7=$F189,$H189,\"\")","v":0},0,{"$f":"IF(DZ$7=$F189,$H189,\"\")","v":0},0,{"$f":"IF(EB$7=$F189,$H189,\"\")","v":0},0,{"$f":"IF(ED$7=$F189,$H189,\"\")","v":0},0,{"$f":"IF(EF$7=$F189,$H189,\"\")","v":0},0,{"$f":"IF(EH$7=$F189,$H189,\"\")","v":0},0,{"$f":"IF(EJ$7=$F189,$H189,\"\")","v":0},0,{"$f":"IF(EL$7=$F189,$H189,\"\")","v":0},0,{"$f":"IF(EN$7=$F189,$H189,\"\")","v":0},0,{"$f":"IF(EP$7=$F189,$H189,\"\")","v":0},0,{"$f":"IF(ER$7=$F189,$H189,\"\")","v":0},0,{"$f":"IF(ET$7=$F189,$H189,\"\")","v":0},0,{"$f":"IF(EV$7=$F189,$H189,\"\")","v":0},0,{"$f":"IF(EX$7=$F189,$H189,\"\")","v":0},0,{"$f":"IF(EZ$7=$F189,$H189,\"\")","v":0},0,{"$f":"IF(FB$7=$F189,$H189,\"\")","v":0},0,{"$f":"IF(FD$7=$F189,$H189,\"\")","v":0},0,{"$f":"IF(FF$7=$F189,$H189,\"\")","v":0},0,{"$f":"IF(FH$7=$F189,$H189,\"\")","v":0},0,{"$f":"IF(FJ$7=$F189,$H189,\"\")","v":0},0,{"$f":"IF(FL$7=$F189,$H189,\"\")","v":0},0,0]
[182,null,null,null,null,null,null,null,true,0,0,"","","",{"$f":"IF(N$7=$F190,$H190,\"\")","v":""},"",{"$f":"IF(P$7=$F190,$H190,\"\")","v":""},"",{"$f":"IF(R$7=$F190,$H190,\"\")","v":""},"",{"$f":"IF(T$7=$F190,$H190,\"\")","v":""},"",{"$f":"IF(V$7=$F190,$H190,\"\")","v":""},"",{"$f":"IF(X$7=$F190,$H190,\"\")","v":""},"",{"$f":"IF(Z$7=$F190,$H190,\"\")","v":""},"",{"$f":"IF(AB$7=$F190,$H190,\"\")","v":""},"",{"$f":"IF(AD$7=$F190,$H190,\"\")","v":""},"",{"$f":"IF(AF$7=$F190,$H190,\"\")","v":""},"",{"$f":"IF(AH$7=$F190,$H190,\"\")","v":""},"",{"$f":"IF(AJ$7=$F190,$H190,\"\")","v":""},"",{"$f":"IF(AL$7=$F190,$H190,\"\")","v":""},"",{"$f":"IF(AN$7=$F190,$H190,\"\")","v":""},"",{"$f":"IF(AP$7=$F190,$H190,\"\")","v":""},"",{"$f":"IF(AR$7=$F190,$H190,\"\")","v":""},"",{"$f":"IF(AT$7=$F190,$H190,\"\")","v":""},"",{"$f":"IF(AV$7=$F190,$H190,\"\")","v":""},"",{"$f":"IF(AX$7=$F190,$H190,\"\")","v":""},"",{"$f":"IF(AZ$7=$F190,$H190,\"\")","v":""},"",{"$f":"IF(BB$7=$F190,$H190,\"\")","v":""},"",{"$f":"IF(BD$7=$F190,$H190,\"\")","v":""},"",{"$f":"IF(BF$7=$F190,$H190,\"\")","v":""},"",{"$f":"IF(BH$7=$F190,$H190,\"\")","v":""},"",{"$f":"IF(BJ$7=$F190,$H190,\"\")","v":""},"",{"$f":"IF(BL$7=$F190,$H190,\"\")","v":""},"",{"$f":"IF(BN$7=$F190,$H190,\"\")","v":""},"",{"$f":"IF(BP$7=$F190,$H190,\"\")","v":""},"",{"$f":"IF(BR$7=$F190,$H190,\"\")","v":""},"",{"$f":"IF(BT$7=$F190,$H190,\"\")","v":""},"",{"$f":"IF(BV$7=$F190,$H190,\"\")","v":""},"",{"$f":"IF(BX$7=$F190,$H190,\"\")","v":""},"",{"$f":"IF(BZ$7=$F190,$H190,\"\")","v":""},"",{"$f":"IF(CB$7=$F190,$H190,\"\")","v":""},"",{"$f":"IF(CD$7=$F190,$H190,\"\")","v":""},"",{"$f":"IF(CF$7=$F190,$H190,\"\")","v":""},"",{"$f":"IF(CH$7=$F190,$H190,\"\")","v":""},"",{"$f":"IF(CJ$7=$F190,$H190,\"\")","v":""},"",{"$f":"IF(CL$7=$F190,$H190,\"\")","v":""},"",{"$f":"IF(CN$7=$F190,$H190,\"\")","v":""},"",{"$f":"IF(CP$7=$F190,$H190,\"\")","v":""},"",{"$f":"IF(CR$7=$F190,$H190,\"\")","v":""},"",{"$f":"IF(CT$7=$F190,$H190,\"\")","v":""},"",{"$f":"IF(CV$7=$F190,$H190,\"\")","v":""},"",{"$f":"IF(CX$7=$F190,$H190,\"\")","v":""},"",{"$f":"IF(CZ$7=$F190,$H190,\"\")","v":""},"",{"$f":"IF(DB$7=$F190,$H190,\"\")","v":""},"",{"$f":"IF(DD$7=$F190,$H190,\"\")","v":""},"",{"$f":"IF(DF$7=$F190,$H190,\"\")","v":""},0,{"$f":"IF(DH$7=$F190,$H190,\"\")","v":0},0,{"$f":"IF(DJ$7=$F190,$H190,\"\")","v":0},0,{"$f":"IF(DL$7=$F190,$H190,\"\")","v":0},0,{"$f":"IF(DN$7=$F190,$H190,\"\")","v":0},0,{"$f":"IF(DP$7=$F190,$H190,\"\")","v":0},0,{"$f":"IF(DR$7=$F190,$H190,\"\")","v":0},0,{"$f":"IF(DT$7=$F190,$H190,\"\")","v":0},0,{"$f":"IF(DV$7=$F190,$H190,\"\")","v":0},0,{"$f":"IF(DX$7=$F190,$H190,\"\")","v":0},0,{"$f":"IF(DZ$7=$F190,$H190,\"\")","v":0},0,{"$f":"IF(EB$7=$F190,$H190,\"\")","v":0},0,{"$f":"IF(ED$7=$F190,$H190,\"\")","v":0},0,{"$f":"IF(EF$7=$F190,$H190,\"\")","v":0},0,{"$f":"IF(EH$7=$F190,$H190,\"\")","v":0},0,{"$f":"IF(EJ$7=$F190,$H190,\"\")","v":0},0,{"$f":"IF(EL$7=$F190,$H190,\"\")","v":0},0,{"$f":"IF(EN$7=$F190,$H190,\"\")","v":0},0,{"$f":"IF(EP$7=$F190,$H190,\"\")","v":0},0,{"$f":"IF(ER$7=$F190,$H190,\"\")","v":0},0,{"$f":"IF(ET$7=$F190,$H190,\"\")","v":0},0,{"$f":"IF(EV$7=$F190,$H190,\"\")","v":0},0,{"$f":"IF(EX$7=$F190,$H190,\"\")","v":0},0,{"$f":"IF(EZ$7=$F190,$H190,\"\")","v":0},0,{"$f":"IF(FB$7=$F190,$H190,\"\")","v":0},0,{"$f":"IF(FD$7=$F190,$H190,\"\")","v":0},0,{"$f":"IF(FF$7=$F190,$H190,\"\")","v":0},0,{"$f":"IF(FH$7=$F190,$H190,\"\")","v":0},0,{"$f":"IF(FJ$7=$F190,$H190,\"\")","v":0},0,{"$f":"IF(FL$7=$F190,$H190,\"\")","v":0},0,0]
[183,null,null,null,null,null,null,null,true,0,0,"","","",{"$f":"IF(N$7=$F191,$H191,\"\")","v":""},"",{"$f":"IF(P$7=$F191,$H191,\"\")","v":""},"",{"$f":"IF(R$7=$F191,$H191,\"\")","v":""},"",{"$f":"IF(T$7=$F191,$H191,\"\")","v":""},"",{"$f":"IF(V$7=$F191,$H191,\"\")","v":""},"",{"$f":"IF(X$7=$F191,$H191,\"\")","v":""},"",{"$f":"IF(Z$7=$F191,$H191,\"\")","v":""},"",{"$f":"IF(AB$7=$F191,$H191,\"\")","v":""},"",{"$f":"IF(AD$7=$F191,$H191,\"\")","v":""},"",{"$f":"IF(AF$7=$F191,$H191,\"\")","v":""},"",{"$f":"IF(AH$7=$F191,$H191,\"\")","v":""},"",{"$f":"IF(AJ$7=$F191,$H191,\"\")","v":""},"",{"$f":"IF(AL$7=$F191,$H191,\"\")","v":""},"",{"$f":"IF(AN$7=$F191,$H191,\"\")","v":""},"",{"$f":"IF(AP$7=$F191,$H191,\"\")","v":""},"",{"$f":"IF(AR$7=$F191,$H191,\"\")","v":""},"",{"$f":"IF(AT$7=$F191,$H191,\"\")","v":""},"",{"$f":"IF(AV$7=$F191,$H191,\"\")","v":""},"",{"$f":"IF(AX$7=$F191,$H191,\"\")","v":""},"",{"$f":"IF(AZ$7=$F191,$H191,\"\")","v":""},"",{"$f":"IF(BB$7=$F191,$H191,\"\")","v":""},"",{"$f":"IF(BD$7=$F191,$H191,\"\")","v":""},"",{"$f":"IF(BF$7=$F191,$H191,\"\")","v":""},"",{"$f":"IF(BH$7=$F191,$H191,\"\")","v":""},"",{"$f":"IF(BJ$7=$F191,$H191,\"\")","v":""},"",{"$f":"IF(BL$7=$F191,$H191,\"\")","v":""},"",{"$f":"IF(BN$7=$F191,$H191,\"\")","v":""},"",{"$f":"IF(BP$7=$F191,$H191,\"\")","v":""},"",{"$f":"IF(BR$7=$F191,$H191,\"\")","v":""},"",{"$f":"IF(BT$7=$F191,$H191,\"\")","v":""},"",{"$f":"IF(BV$7=$F191,$H191,\"\")","v":""},"",{"$f":"IF(BX$7=$F191,$H191,\"\")","v":""},"",{"$f":"IF(BZ$7=$F191,$H191,\"\")","v":""},"",{"$f":"IF(CB$7=$F191,$H191,\"\")","v":""},"",{"$f":"IF(CD$7=$F191,$H191,\"\")","v":""},"",{"$f":"IF(CF$7=$F191,$H191,\"\")","v":""},"",{"$f":"IF(CH$7=$F191,$H191,\"\")","v":""},"",{"$f":"IF(CJ$7=$F191,$H191,\"\")","v":""},"",{"$f":"IF(CL$7=$F191,$H191,\"\")","v":""},"",{"$f":"IF(CN$7=$F191,$H191,\"\")","v":""},"",{"$f":"IF(CP$7=$F191,$H191,\"\")","v":""},"",{"$f":"IF(CR$7=$F191,$H191,\"\")","v":""},"",{"$f":"IF(CT$7=$F191,$H191,\"\")","v":""},"",{"$f":"IF(CV$7=$F191,$H191,\"\")","v":""},"",{"$f":"IF(CX$7=$F191,$H191,\"\")","v":""},"",{"$f":"IF(CZ$7=$F191,$H191,\"\")","v":""},"",{"$f":"IF(DB$7=$F191,$H191,\"\")","v":""},"",{"$f":"IF(DD$7=$F191,$H191,\"\")","v":""},"",{"$f":"IF(DF$7=$F191,$H191,\"\")","v":""},0,{"$f":"IF(DH$7=$F191,$H191,\"\")","v":0},0,{"$f":"IF(DJ$7=$F191,$H191,\"\")","v":0},0,{"$f":"IF(DL$7=$F191,$H191,\"\")","v":0},0,{"$f":"IF(DN$7=$F191,$H191,\"\")","v":0},0,{"$f":"IF(DP$7=$F191,$H191,\"\")","v":0},0,{"$f":"IF(DR$7=$F191,$H191,\"\")","v":0},0,{"$f":"IF(DT$7=$F191,$H191,\"\")","v":0},0,{"$f":"IF(DV$7=$F191,$H191,\"\")","v":0},0,{"$f":"IF(DX$7=$F191,$H191,\"\")","v":0},0,{"$f":"IF(DZ$7=$F191,$H191,\"\")","v":0},0,{"$f":"IF(EB$7=$F191,$H191,\"\")","v":0},0,{"$f":"IF(ED$7=$F191,$H191,\"\")","v":0},0,{"$f":"IF(EF$7=$F191,$H191,\"\")","v":0},0,{"$f":"IF(EH$7=$F191,$H191,\"\")","v":0},0,{"$f":"IF(EJ$7=$F191,$H191,\"\")","v":0},0,{"$f":"IF(EL$7=$F191,$H191,\"\")","v":0},0,{"$f":"IF(EN$7=$F191,$H191,\"\")","v":0},0,{"$f":"IF(EP$7=$F191,$H191,\"\")","v":0},0,{"$f":"IF(ER$7=$F191,$H191,\"\")","v":0},0,{"$f":"IF(ET$7=$F191,$H191,\"\")","v":0},0,{"$f":"IF(EV$7=$F191,$H191,\"\")","v":0},0,{"$f":"IF(EX$7=$F191,$H191,\"\")","v":0},0,{"$f":"IF(EZ$7=$F191,$H191,\"\")","v":0},0,{"$f":"IF(FB$7=$F191,$H191,\"\")","v":0},0,{"$f":"IF(FD$7=$F191,$H191,\"\")","v":0},0,{"$f":"IF(FF$7=$F191,$H191,\"\")","v":0},0,{"$f":"IF(FH$7=$F191,$H191,\"\")","v":0},0,{"$f":"IF(FJ$7=$F191,$H191,\"\")","v":0},0,{"$f":"IF(FL$7=$F191,$H191,\"\")","v":0},0,0]
[184,null,null,null,null,null,null,null,true,0,0,"","","",{"$f":"IF(N$7=$F192,$H192,\"\")","v":""},"",{"$f":"IF(P$7=$F192,$H192,\"\")","v":""},"",{"$f":"IF(R$7=$F192,$H192,\"\")","v":""},"",{"$f":"IF(T$7=$F192,$H192,\"\")","v":""},"",{"$f":"IF(V$7=$F192,$H192,\"\")","v":""},"",{"$f":"IF(X$7=$F192,$H192,\"\")","v":""},"",{"$f":"IF(Z$7=$F192,$H192,\"\")","v":""},"",{"$f":"IF(AB$7=$F192,$H192,\"\")","v":""},"",{"$f":"IF(AD$7=$F192,$H192,\"\")","v":""},"",{"$f":"IF(AF$7=$F192,$H192,\"\")","v":""},"",{"$f":"IF(AH$7=$F192,$H192,\"\")","v":""},"",{"$f":"IF(AJ$7=$F192,$H192,\"\")","v":""},"",{"$f":"IF(AL$7=$F192,$H192,\"\")","v":""},"",{"$f":"IF(AN$7=$F192,$H192,\"\")","v":""},"",{"$f":"IF(AP$7=$F192,$H192,\"\")","v":""},"",{"$f":"IF(AR$7=$F192,$H192,\"\")","v":""},"",{"$f":"IF(AT$7=$F192,$H192,\"\")","v":""},"",{"$f":"IF(AV$7=$F192,$H192,\"\")","v":""},"",{"$f":"IF(AX$7=$F192,$H192,\"\")","v":""},"",{"$f":"IF(AZ$7=$F192,$H192,\"\")","v":""},"",{"$f":"IF(BB$7=$F192,$H192,\"\")","v":""},"",{"$f":"IF(BD$7=$F192,$H192,\"\")","v":""},"",{"$f":"IF(BF$7=$F192,$H192,\"\")","v":""},"",{"$f":"IF(BH$7=$F192,$H192,\"\")","v":""},"",{"$f":"IF(BJ$7=$F192,$H192,\"\")","v":""},"",{"$f":"IF(BL$7=$F192,$H192,\"\")","v":""},"",{"$f":"IF(BN$7=$F192,$H192,\"\")","v":""},"",{"$f":"IF(BP$7=$F192,$H192,\"\")","v":""},"",{"$f":"IF(BR$7=$F192,$H192,\"\")","v":""},"",{"$f":"IF(BT$7=$F192,$H192,\"\")","v":""},"",{"$f":"IF(BV$7=$F192,$H192,\"\")","v":""},"",{"$f":"IF(BX$7=$F192,$H192,\"\")","v":""},"",{"$f":"IF(BZ$7=$F192,$H192,\"\")","v":""},"",{"$f":"IF(CB$7=$F192,$H192,\"\")","v":""},"",{"$f":"IF(CD$7=$F192,$H192,\"\")","v":""},"",{"$f":"IF(CF$7=$F192,$H192,\"\")","v":""},"",{"$f":"IF(CH$7=$F192,$H192,\"\")","v":""},"",{"$f":"IF(CJ$7=$F192,$H192,\"\")","v":""},"",{"$f":"IF(CL$7=$F192,$H192,\"\")","v":""},"",{"$f":"IF(CN$7=$F192,$H192,\"\")","v":""},"",{"$f":"IF(CP$7=$F192,$H192,\"\")","v":""},"",{"$f":"IF(CR$7=$F192,$H192,\"\")","v":""},"",{"$f":"IF(CT$7=$F192,$H192,\"\")","v":""},"",{"$f":"IF(CV$7=$F192,$H192,\"\")","v":""},"",{"$f":"IF(CX$7=$F192,$H192,\"\")","v":""},"",{"$f":"IF(CZ$7=$F192,$H192,\"\")","v":""},"",{"$f":"IF(DB$7=$F192,$H192,\"\")","v":""},"",{"$f":"IF(DD$7=$F192,$H192,\"\")","v":""},"",{"$f":"IF(DF$7=$F192,$H192,\"\")","v":""},0,{"$f":"IF(DH$7=$F192,$H192,\"\")","v":0},0,{"$f":"IF(DJ$7=$F192,$H192,\"\")","v":0},0,{"$f":"IF(DL$7=$F192,$H192,\"\")","v":0},0,{"$f":"IF(DN$7=$F192,$H192,\"\")","v":0},0,{"$f":"IF(DP$7=$F192,$H192,\"\")","v":0},0,{"$f":"IF(DR$7=$F192,$H192,\"\")","v":0},0,{"$f":"IF(DT$7=$F192,$H192,\"\")","v":0},0,{"$f":"IF(DV$7=$F192,$H192,\"\")","v":0},0,{"$f":"IF(DX$7=$F192,$H192,\"\")","v":0},0,{"$f":"IF(DZ$7=$F192,$H192,\"\")","v":0},0,{"$f":"IF(EB$7=$F192,$H192,\"\")","v":0},0,{"$f":"IF(ED$7=$F192,$H192,\"\")","v":0},0,{"$f":"IF(EF$7=$F192,$H192,\"\")","v":0},0,{"$f":"IF(EH$7=$F192,$H192,\"\")","v":0},0,{"$f":"IF(EJ$7=$F192,$H192,\"\")","v":0},0,{"$f":"IF(EL$7=$F192,$H192,\"\")","v":0},0,{"$f":"IF(EN$7=$F192,$H192,\"\")","v":0},0,{"$f":"IF(EP$7=$F192,$H192,\"\")","v":0},0,{"$f":"IF(ER$7=$F192,$H192,\"\")","v":0},0,{"$f":"IF(ET$7=$F192,$H192,\"\")","v":0},0,{"$f":"IF(EV$7=$F192,$H192,\"\")","v":0},0,{"$f":"IF(EX$7=$F192,$H192,\"\")","v":0},0,{"$f":"IF(EZ$7=$F192,$H192,\"\")","v":0},0,{"$f":"IF(FB$7=$F192,$H192,\"\")","v":0},0,{"$f":"IF(FD$7=$F192,$H192,\"\")","v":0},0,{"$f":"IF(FF$7=$F192,$H192,\"\")","v":0},0,{"$f":"IF(FH$7=$F192,$H192,\"\")","v":0},0,{"$f":"IF(FJ$7=$F192,$H192,\"\")","v":0},0,{"$f":"IF(FL$7=$F192,$H192,\"\")","v":0},0,0]
[185,null,null,null,null,null,null,null,true,0,0,"","","",{"$f":"IF(N$7=$F193,$H193,\"\")","v":""},"",{"$f":"IF(P$7=$F193,$H193,\"\")","v":""},"",{"$f":"IF(R$7=$F193,$H193,\"\")","v":""},"",{"$f":"IF(T$7=$F193,$H193,\"\")","v":""},"",{"$f":"IF(V$7=$F193,$H193,\"\")","v":""},"",{"$f":"IF(X$7=$F193,$H193,\"\")","v":""},"",{"$f":"IF(Z$7=$F193,$H193,\"\")","v":""},"",{"$f":"IF(AB$7=$F193,$H193,\"\")","v":""},"",{"$f":"IF(AD$7=$F193,$H193,\"\")","v":""},"",{"$f":"IF(AF$7=$F193,$H193,\"\")","v":""},"",{"$f":"IF(AH$7=$F193,$H193,\"\")","v":""},"",{"$f":"IF(AJ$7=$F193,$H193,\"\")","v":""},"",{"$f":"IF(AL$7=$F193,$H193,\"\")","v":""},"",{"$f":"IF(AN$7=$F193,$H193,\"\")","v":""},"",{"$f":"IF(AP$7=$F193,$H193,\"\")","v":""},"",{"$f":"IF(AR$7=$F193,$H193,\"\")","v":""},"",{"$f":"IF(AT$7=$F193,$H193,\"\")","v":""},"",{"$f":"IF(AV$7=$F193,$H193,\"\")","v":""},"",{"$f":"IF(AX$7=$F193,$H193,\"\")","v":""},"",{"$f":"IF(AZ$7=$F193,$H193,\"\")","v":""},"",{"$f":"IF(BB$7=$F193,$H193,\"\")","v":""},"",{"$f":"IF(BD$7=$F193,$H193,\"\")","v":""},"",{"$f":"IF(BF$7=$F193,$H193,\"\")","v":""},"",{"$f":"IF(BH$7=$F193,$H193,\"\")","v":""},"",{"$f":"IF(BJ$7=$F193,$H193,\"\")","v":""},"",{"$f":"IF(BL$7=$F193,$H193,\"\")","v":""},"",{"$f":"IF(BN$7=$F193,$H193,\"\")","v":""},"",{"$f":"IF(BP$7=$F193,$H193,\"\")","v":""},"",{"$f":"IF(BR$7=$F193,$H193,\"\")","v":""},"",{"$f":"IF(BT$7=$F193,$H193,\"\")","v":""},"",{"$f":"IF(BV$7=$F193,$H193,\"\")","v":""},"",{"$f":"IF(BX$7=$F193,$H193,\"\")","v":""},"",{"$f":"IF(BZ$7=$F193,$H193,\"\")","v":""},"",{"$f":"IF(CB$7=$F193,$H193,\"\")","v":""},"",{"$f":"IF(CD$7=$F193,$H193,\"\")","v":""},"",{"$f":"IF(CF$7=$F193,$H193,\"\")","v":""},"",{"$f":"IF(CH$7=$F193,$H193,\"\")","v":""},"",{"$f":"IF(CJ$7=$F193,$H193,\"\")","v":""},"",{"$f":"IF(CL$7=$F193,$H193,\"\")","v":""},"",{"$f":"IF(CN$7=$F193,$H193,\"\")","v":""},"",{"$f":"IF(CP$7=$F193,$H193,\"\")","v":""},"",{"$f":"IF(CR$7=$F193,$H193,\"\")","v":""},"",{"$f":"IF(CT$7=$F193,$H193,\"\")","v":""},"",{"$f":"IF(CV$7=$F193,$H193,\"\")","v":""},"",{"$f":"IF(CX$7=$F193,$H193,\"\")","v":""},"",{"$f":"IF(CZ$7=$F193,$H193,\"\")","v":""},"",{"$f":"IF(DB$7=$F193,$H193,\"\")","v":""},"",{"$f":"IF(DD$7=$F193,$H193,\"\")","v":""},"",{"$f":"IF(DF$7=$F193,$H193,\"\")","v":""},0,{"$f":"IF(DH$7=$F193,$H193,\"\")","v":0},0,{"$f":"IF(DJ$7=$F193,$H193,\"\")","v":0},0,{"$f":"IF(DL$7=$F193,$H193,\"\")","v":0},0,{"$f":"IF(DN$7=$F193,$H193,\"\")","v":0},0,{"$f":"IF(DP$7=$F193,$H193,\"\")","v":0},0,{"$f":"IF(DR$7=$F193,$H193,\"\")","v":0},0,{"$f":"IF(DT$7=$F193,$H193,\"\")","v":0},0,{"$f":"IF(DV$7=$F193,$H193,\"\")","v":0},0,{"$f":"IF(DX$7=$F193,$H193,\"\")","v":0},0,{"$f":"IF(DZ$7=$F193,$H193,\"\")","v":0},0,{"$f":"IF(EB$7=$F193,$H193,\"\")","v":0},0,{"$f":"IF(ED$7=$F193,$H193,\"\")","v":0},0,{"$f":"IF(EF$7=$F193,$H193,\"\")","v":0},0,{"$f":"IF(EH$7=$F193,$H193,\"\")","v":0},0,{"$f":"IF(EJ$7=$F193,$H193,\"\")","v":0},0,{"$f":"IF(EL$7=$F193,$H193,\"\")","v":0},0,{"$f":"IF(EN$7=$F193,$H193,\"\")","v":0},0,{"$f":"IF(EP$7=$F193,$H193,\"\")","v":0},0,{"$f":"IF(ER$7=$F193,$H193,\"\")","v":0},0,{"$f":"IF(ET$7=$F193,$H193,\"\")","v":0},0,{"$f":"IF(EV$7=$F193,$H193,\"\")","v":0},0,{"$f":"IF(EX$7=$F193,$H193,\"\")","v":0},0,{"$f":"IF(EZ$7=$F193,$H193,\"\")","v":0},0,{"$f":"IF(FB$7=$F193,$H193,\"\")","v":0},0,{"$f":"IF(FD$7=$F193,$H193,\"\")","v":0},0,{"$f":"IF(FF$7=$F193,$H193,\"\")","v":0},0,{"$f":"IF(FH$7=$F193,$H193,\"\")","v":0},0,{"$f":"IF(FJ$7=$F193,$H193,\"\")","v":0},0,{"$f":"IF(FL$7=$F193,$H193,\"\")","v":0},0,0]
[186,null,null,null,null,null,null,null,true,0,0,"","","",{"$f":"IF(N$7=$F194,$H194,\"\")","v":""},"",{"$f":"IF(P$7=$F194,$H194,\"\")","v":""},"",{"$f":"IF(R$7=$F194,$H194,\"\")","v":""},"",{"$f":"IF(T$7=$F194,$H194,\"\")","v":""},"",{"$f":"IF(V$7=$F194,$H194,\"\")","v":""},"",{"$f":"IF(X$7=$F194,$H194,\"\")","v":""},"",{"$f":"IF(Z$7=$F194,$H194,\"\")","v":""},"",{"$f":"IF(AB$7=$F194,$H194,\"\")","v":""},"",{"$f":"IF(AD$7=$F194,$H194,\"\")","v":""},"",{"$f":"IF(AF$7=$F194,$H194,\"\")","v":""},"",{"$f":"IF(AH$7=$F194,$H194,\"\")","v":""},"",{"$f":"IF(AJ$7=$F194,$H194,\"\")","v":""},"",{"$f":"IF(AL$7=$F194,$H194,\"\")","v":""},"",{"$f":"IF(AN$7=$F194,$H194,\"\")","v":""},"",{"$f":"IF(AP$7=$F194,$H194,\"\")","v":""},"",{"$f":"IF(AR$7=$F194,$H194,\"\")","v":""},"",{"$f":"IF(AT$7=$F194,$H194,\"\")","v":""},"",{"$f":"IF(AV$7=$F194,$H194,\"\")","v":""},"",{"$f":"IF(AX$7=$F194,$H194,\"\")","v":""},"",{"$f":"IF(AZ$7=$F194,$H194,\"\")","v":""},"",{"$f":"IF(BB$7=$F194,$H194,\"\")","v":""},"",{"$f":"IF(BD$7=$F194,$H194,\"\")","v":""},"",{"$f":"IF(BF$7=$F194,$H194,\"\")","v":""},"",{"$f":"IF(BH$7=$F194,$H194,\"\")","v":""},"",{"$f":"IF(BJ$7=$F194,$H194,\"\")","v":""},"",{"$f":"IF(BL$7=$F194,$H194,\"\")","v":""},"",{"$f":"IF(BN$7=$F194,$H194,\"\")","v":""},"",{"$f":"IF(BP$7=$F194,$H194,\"\")","v":""},"",{"$f":"IF(BR$7=$F194,$H194,\"\")","v":""},"",{"$f":"IF(BT$7=$F194,$H194,\"\")","v":""},"",{"$f":"IF(BV$7=$F194,$H194,\"\")","v":""},"",{"$f":"IF(BX$7=$F194,$H194,\"\")","v":""},"",{"$f":"IF(BZ$7=$F194,$H194,\"\")","v":""},"",{"$f":"IF(CB$7=$F194,$H194,\"\")","v":""},"",{"$f":"IF(CD$7=$F194,$H194,\"\")","v":""},"",{"$f":"IF(CF$7=$F194,$H194,\"\")","v":""},"",{"$f":"IF(CH$7=$F194,$H194,\"\")","v":""},"",{"$f":"IF(CJ$7=$F194,$H194,\"\")","v":""},"",{"$f":"IF(CL$7=$F194,$H194,\"\")","v":""},"",{"$f":"IF(CN$7=$F194,$H194,\"\")","v":""},"",{"$f":"IF(CP$7=$F194,$H194,\"\")","v":""},"",{"$f":"IF(CR$7=$F194,$H194,\"\")","v":""},"",{"$f":"IF(CT$7=$F194,$H194,\"\")","v":""},"",{"$f":"IF(CV$7=$F194,$H194,\"\")","v":""},"",{"$f":"IF(CX$7=$F194,$H194,\"\")","v":""},"",{"$f":"IF(CZ$7=$F194,$H194,\"\")","v":""},"",{"$f":"IF(DB$7=$F194,$H194,\"\")","v":""},"",{"$f":"IF(DD$7=$F194,$H194,\"\")","v":""},"",{"$f":"IF(DF$7=$F194,$H194,\"\")","v":""},0,{"$f":"IF(DH$7=$F194,$H194,\"\")","v":0},0,{"$f":"IF(DJ$7=$F194,$H194,\"\")","v":0},0,{"$f":"IF(DL$7=$F194,$H194,\"\")","v":0},0,{"$f":"IF(DN$7=$F194,$H194,\"\")","v":0},0,{"$f":"IF(DP$7=$F194,$H194,\"\")","v":0},0,{"$f":"IF(DR$7=$F194,$H194,\"\")","v":0},0,{"$f":"IF(DT$7=$F194,$H194,\"\")","v":0},0,{"$f":"IF(DV$7=$F194,$H194,\"\")","v":0},0,{"$f":"IF(DX$7=$F194,$H194,\"\")","v":0},0,{"$f":"IF(DZ$7=$F194,$H194,\"\")","v":0},0,{"$f":"IF(EB$7=$F194,$H194,\"\")","v":0},0,{"$f":"IF(ED$7=$F194,$H194,\"\")","v":0},0,{"$f":"IF(EF$7=$F194,$H194,\"\")","v":0},0,{"$f":"IF(EH$7=$F194,$H194,\"\")","v":0},0,{"$f":"IF(EJ$7=$F194,$H194,\"\")","v":0},0,{"$f":"IF(EL$7=$F194,$H194,\"\")","v":0},0,{"$f":"IF(EN$7=$F194,$H194,\"\")","v":0},0,{"$f":"IF(EP$7=$F194,$H194,\"\")","v":0},0,{"$f":"IF(ER$7=$F194,$H194,\"\")","v":0},0,{"$f":"IF(ET$7=$F194,$H194,\"\")","v":0},0,{"$f":"IF(EV$7=$F194,$H194,\"\")","v":0},0,{"$f":"IF(EX$7=$F194,$H194,\"\")","v":0},0,{"$f":"IF(EZ$7=$F194,$H194,\"\")","v":0},0,{"$f":"IF(FB$7=$F194,$H194,\"\")","v":0},0,{"$f":"IF(FD$7=$F194,$H194,\"\")","v":0},0,{"$f":"IF(FF$7=$F194,$H194,\"\")","v":0},0,{"$f":"IF(FH$7=$F194,$H194,\"\")","v":0},0,{"$f":"IF(FJ$7=$F194,$H194,\"\")","v":0},0,{"$f":"IF(FL$7=$F194,$H194,\"\")","v":0},0,0]
[187,null,null,null,null,null,null,null,true,0,0,"","","",{"$f":"IF(N$7=$F195,$H195,\"\")","v":""},"",{"$f":"IF(P$7=$F195,$H195,\"\")","v":""},"",{"$f":"IF(R$7=$F195,$H195,\"\")","v":""},"",{"$f":"IF(T$7=$F195,$H195,\"\")","v":""},"",{"$f":"IF(V$7=$F195,$H195,\"\")","v":""},"",{"$f":"IF(X$7=$F195,$H195,\"\")","v":""},"",{"$f":"IF(Z$7=$F195,$H195,\"\")","v":""},"",{"$f":"IF(AB$7=$F195,$H195,\"\")","v":""},"",{"$f":"IF(AD$7=$F195,$H195,\"\")","v":""},"",{"$f":"IF(AF$7=$F195,$H195,\"\")","v":""},"",{"$f":"IF(AH$7=$F195,$H195,\"\")","v":""},"",{"$f":"IF(AJ$7=$F195,$H195,\"\")","v":""},"",{"$f":"IF(AL$7=$F195,$H195,\"\")","v":""},"",{"$f":"IF(AN$7=$F195,$H195,\"\")","v":""},"",{"$f":"IF(AP$7=$F195,$H195,\"\")","v":""},"",{"$f":"IF(AR$7=$F195,$H195,\"\")","v":""},"",{"$f":"IF(AT$7=$F195,$H195,\"\")","v":""},"",{"$f":"IF(AV$7=$F195,$H195,\"\")","v":""},"",{"$f":"IF(AX$7=$F195,$H195,\"\")","v":""},"",{"$f":"IF(AZ$7=$F195,$H195,\"\")","v":""},"",{"$f":"IF(BB$7=$F195,$H195,\"\")","v":""},"",{"$f":"IF(BD$7=$F195,$H195,\"\")","v":""},"",{"$f":"IF(BF$7=$F195,$H195,\"\")","v":""},"",{"$f":"IF(BH$7=$F195,$H195,\"\")","v":""},"",{"$f":"IF(BJ$7=$F195,$H195,\"\")","v":""},"",{"$f":"IF(BL$7=$F195,$H195,\"\")","v":""},"",{"$f":"IF(BN$7=$F195,$H195,\"\")","v":""},"",{"$f":"IF(BP$7=$F195,$H195,\"\")","v":""},"",{"$f":"IF(BR$7=$F195,$H195,\"\")","v":""},"",{"$f":"IF(BT$7=$F195,$H195,\"\")","v":""},"",{"$f":"IF(BV$7=$F195,$H195,\"\")","v":""},"",{"$f":"IF(BX$7=$F195,$H195,\"\")","v":""},"",{"$f":"IF(BZ$7=$F195,$H195,\"\")","v":""},"",{"$f":"IF(CB$7=$F195,$H195,\"\")","v":""},"",{"$f":"IF(CD$7=$F195,$H195,\"\")","v":""},"",{"$f":"IF(CF$7=$F195,$H195,\"\")","v":""},"",{"$f":"IF(CH$7=$F195,$H195,\"\")","v":""},"",{"$f":"IF(CJ$7=$F195,$H195,\"\")","v":""},"",{"$f":"IF(CL$7=$F195,$H195,\"\")","v":""},"",{"$f":"IF(CN$7=$F195,$H195,\"\")","v":""},"",{"$f":"IF(CP$7=$F195,$H195,\"\")","v":""},"",{"$f":"IF(CR$7=$F195,$H195,\"\")","v":""},"",{"$f":"IF(CT$7=$F195,$H195,\"\")","v":""},"",{"$f":"IF(CV$7=$F195,$H195,\"\")","v":""},"",{"$f":"IF(CX$7=$F195,$H195,\"\")","v":""},"",{"$f":"IF(CZ$7=$F195,$H195,\"\")","v":""},"",{"$f":"IF(DB$7=$F195,$H195,\"\")","v":""},"",{"$f":"IF(DD$7=$F195,$H195,\"\")","v":""},"",{"$f":"IF(DF$7=$F195,$H195,\"\")","v":""},0,{"$f":"IF(DH$7=$F195,$H195,\"\")","v":0},0,{"$f":"IF(DJ$7=$F195,$H195,\"\")","v":0},0,{"$f":"IF(DL$7=$F195,$H195,\"\")","v":0},0,{"$f":"IF(DN$7=$F195,$H195,\"\")","v":0},0,{"$f":"IF(DP$7=$F195,$H195,\"\")","v":0},0,{"$f":"IF(DR$7=$F195,$H195,\"\")","v":0},0,{"$f":"IF(DT$7=$F195,$H195,\"\")","v":0},0,{"$f":"IF(DV$7=$F195,$H195,\"\")","v":0},0,{"$f":"IF(DX$7=$F195,$H195,\"\")","v":0},0,{"$f":"IF(DZ$7=$F195,$H195,\"\")","v":0},0,{"$f":"IF(EB$7=$F195,$H195,\"\")","v":0},0,{"$f":"IF(ED$7=$F195,$H195,\"\")","v":0},0,{"$f":"IF(EF$7=$F195,$H195,\"\")","v":0},0,{"$f":"IF(EH$7=$F195,$H195,\"\")","v":0},0,{"$f":"IF(EJ$7=$F195,$H195,\"\")","v":0},0,{"$f":"IF(EL$7=$F195,$H195,\"\")","v":0},0,{"$f":"IF(EN$7=$F195,$H195,\"\")","v":0},0,{"$f":"IF(EP$7=$F195,$H195,\"\")","v":0},0,{"$f":"IF(ER$7=$F195,$H195,\"\")","v":0},0,{"$f":"IF(ET$7=$F195,$H195,\"\")","v":0},0,{"$f":"IF(EV$7=$F195,$H195,\"\")","v":0},0,{"$f":"IF(EX$7=$F195,$H195,\"\")","v":0},0,{"$f":"IF(EZ$7=$F195,$H195,\"\")","v":0},0,{"$f":"IF(FB$7=$F195,$H195,\"\")","v":0},0,{"$f":"IF(FD$7=$F195,$H195,\"\")","v":0},0,{"$f":"IF(FF$7=$F195,$H195,\"\")","v":0},0,{"$f":"IF(FH$7=$F195,$H195,\"\")","v":0},0,{"$f":"IF(FJ$7=$F195,$H195,\"\")","v":0},0,{"$f":"IF(FL$7=$F195,$H195,\"\")","v":0},0,0]
[188,null,null,null,null,null,null,null,true,0,0,"","","",{"$f":"IF(N$7=$F196,$H196,\"\")","v":""},"",{"$f":"IF(P$7=$F196,$H196,\"\")","v":""},"",{"$f":"IF(R$7=$F196,$H196,\"\")","v":""},"",{"$f":"IF(T$7=$F196,$H196,\"\")","v":""},"",{"$f":"IF(V$7=$F196,$H196,\"\")","v":""},"",{"$f":"IF(X$7=$F196,$H196,\"\")","v":""},"",{"$f":"IF(Z$7=$F196,$H196,\"\")","v":""},"",{"$f":"IF(AB$7=$F196,$H196,\"\")","v":""},"",{"$f":"IF(AD$7=$F196,$H196,\"\")","v":""},"",{"$f":"IF(AF$7=$F196,$H196,\"\")","v":""},"",{"$f":"IF(AH$7=$F196,$H196,\"\")","v":""},"",{"$f":"IF(AJ$7=$F196,$H196,\"\")","v":""},"",{"$f":"IF(AL$7=$F196,$H196,\"\")","v":""},"",{"$f":"IF(AN$7=$F196,$H196,\"\")","v":""},"",{"$f":"IF(AP$7=$F196,$H196,\"\")","v":""},"",{"$f":"IF(AR$7=$F196,$H196,\"\")","v":""},"",{"$f":"IF(AT$7=$F196,$H196,\"\")","v":""},"",{"$f":"IF(AV$7=$F196,$H196,\"\")","v":""},"",{"$f":"IF(AX$7=$F196,$H196,\"\")","v":""},"",{"$f":"IF(AZ$7=$F196,$H196,\"\")","v":""},"",{"$f":"IF(BB$7=$F196,$H196,\"\")","v":""},"",{"$f":"IF(BD$7=$F196,$H196,\"\")","v":""},"",{"$f":"IF(BF$7=$F196,$H196,\"\")","v":""},"",{"$f":"IF(BH$7=$F196,$H196,\"\")","v":""},"",{"$f":"IF(BJ$7=$F196,$H196,\"\")","v":""},"",{"$f":"IF(BL$7=$F196,$H196,\"\")","v":""},"",{"$f":"IF(BN$7=$F196,$H196,\"\")","v":""},"",{"$f":"IF(BP$7=$F196,$H196,\"\")","v":""},"",{"$f":"IF(BR$7=$F196,$H196,\"\")","v":""},"",{"$f":"IF(BT$7=$F196,$H196,\"\")","v":""},"",{"$f":"IF(BV$7=$F196,$H196,\"\")","v":""},"",{"$f":"IF(BX$7=$F196,$H196,\"\")","v":""},"",{"$f":"IF(BZ$7=$F196,$H196,\"\")","v":""},"",{"$f":"IF(CB$7=$F196,$H196,\"\")","v":""},"",{"$f":"IF(CD$7=$F196,$H196,\"\")","v":""},"",{"$f":"IF(CF$7=$F196,$H196,\"\")","v":""},"",{"$f":"IF(CH$7=$F196,$H196,\"\")","v":""},"",{"$f":"IF(CJ$7=$F196,$H196,\"\")","v":""},"",{"$f":"IF(CL$7=$F196,$H196,\"\")","v":""},"",{"$f":"IF(CN$7=$F196,$H196,\"\")","v":""},"",{"$f":"IF(CP$7=$F196,$H196,\"\")","v":""},"",{"$f":"IF(CR$7=$F196,$H196,\"\")","v":""},"",{"$f":"IF(CT$7=$F196,$H196,\"\")","v":""},"",{"$f":"IF(CV$7=$F196,$H196,\"\")","v":""},"",{"$f":"IF(CX$7=$F196,$H196,\"\")","v":""},"",{"$f":"IF(CZ$7=$F196,$H196,\"\")","v":""},"",{"$f":"IF(DB$7=$F196,$H196,\"\")","v":""},"",{"$f":"IF(DD$7=$F196,$H196,\"\")","v":""},"",{"$f":"IF(DF$7=$F196,$H196,\"\")","v":""},0,{"$f":"IF(DH$7=$F196,$H196,\"\")","v":0},0,{"$f":"IF(DJ$7=$F196,$H196,\"\")","v":0},0,{"$f":"IF(DL$7=$F196,$H196,\"\")","v":0},0,{"$f":"IF(DN$7=$F196,$H196,\"\")","v":0},0,{"$f":"IF(DP$7=$F196,$H196,\"\")","v":0},0,{"$f":"IF(DR$7=$F196,$H196,\"\")","v":0},0,{"$f":"IF(DT$7=$F196,$H196,\"\")","v":0},0,{"$f":"IF(DV$7=$F196,$H196,\"\")","v":0},0,{"$f":"IF(DX$7=$F196,$H196,\"\")","v":0},0,{"$f":"IF(DZ$7=$F196,$H196,\"\")","v":0},0,{"$f":"IF(EB$7=$F196,$H196,\"\")","v":0},0,{"$f":"IF(ED$7=$F196,$H196,\"\")","v":0},0,{"$f":"IF(EF$7=$F196,$H196,\"\")","v":0},0,{"$f":"IF(EH$7=$F196,$H196,\"\")","v":0},0,{"$f":"IF(EJ$7=$F196,$H196,\"\")","v":0},0,{"$f":"IF(EL$7=$F196,$H196,\"\")","v":0},0,{"$f":"IF(EN$7=$F196,$H196,\"\")","v":0},0,{"$f":"IF(EP$7=$F196,$H196,\"\")","v":0},0,{"$f":"IF(ER$7=$F196,$H196,\"\")","v":0},0,{"$f":"IF(ET$7=$F196,$H196,\"\")","v":0},0,{"$f":"IF(EV$7=$F196,$H196,\"\")","v":0},0,{"$f":"IF(EX$7=$F196,$H196,\"\")","v":0},0,{"$f":"IF(EZ$7=$F196,$H196,\"\")","v":0},0,{"$f":"IF(FB$7=$F196,$H196,\"\")","v":0},0,{"$f":"IF(FD$7=$F196,$H196,\"\")","v":0},0,{"$f":"IF(FF$7=$F196,$H196,\"\")","v":0},0,{"$f":"IF(FH$7=$F196,$H196,\"\")","v":0},0,{"$f":"IF(FJ$7=$F196,$H196,\"\")","v":0},0,{"$f":"IF(FL$7=$F196,$H196,\"\")","v":0},0,0]
[189,null,null,null,null,null,null,null,true,0,0,"","","",{"$f":"IF(N$7=$F197,$H197,\"\")","v":""},"",{"$f":"IF(P$7=$F197,$H197,\"\")","v":""},"",{"$f":"IF(R$7=$F197,$H197,\"\")","v":""},"",{"$f":"IF(T$7=$F197,$H197,\"\")","v":""},"",{"$f":"IF(V$7=$F197,$H197,\"\")","v":""},"",{"$f":"IF(X$7=$F197,$H197,\"\")","v":""},"",{"$f":"IF(Z$7=$F197,$H197,\"\")","v":""},"",{"$f":"IF(AB$7=$F197,$H197,\"\")","v":""},"",{"$f":"IF(AD$7=$F197,$H197,\"\")","v":""},"",{"$f":"IF(AF$7=$F197,$H197,\"\")","v":""},"",{"$f":"IF(AH$7=$F197,$H197,\"\")","v":""},"",{"$f":"IF(AJ$7=$F197,$H197,\"\")","v":""},"",{"$f":"IF(AL$7=$F197,$H197,\"\")","v":""},"",{"$f":"IF(AN$7=$F197,$H197,\"\")","v":""},"",{"$f":"IF(AP$7=$F197,$H197,\"\")","v":""},"",{"$f":"IF(AR$7=$F197,$H197,\"\")","v":""},"",{"$f":"IF(AT$7=$F197,$H197,\"\")","v":""},"",{"$f":"IF(AV$7=$F197,$H197,\"\")","v":""},"",{"$f":"IF(AX$7=$F197,$H197,\"\")","v":""},"",{"$f":"IF(AZ$7=$F197,$H197,\"\")","v":""},"",{"$f":"IF(BB$7=$F197,$H197,\"\")","v":""},"",{"$f":"IF(BD$7=$F197,$H197,\"\")","v":""},"",{"$f":"IF(BF$7=$F197,$H197,\"\")","v":""},"",{"$f":"IF(BH$7=$F197,$H197,\"\")","v":""},"",{"$f":"IF(BJ$7=$F197,$H197,\"\")","v":""},"",{"$f":"IF(BL$7=$F197,$H197,\"\")","v":""},"",{"$f":"IF(BN$7=$F197,$H197,\"\")","v":""},"",{"$f":"IF(BP$7=$F197,$H197,\"\")","v":""},"",{"$f":"IF(BR$7=$F197,$H197,\"\")","v":""},"",{"$f":"IF(BT$7=$F197,$H197,\"\")","v":""},"",{"$f":"IF(BV$7=$F197,$H197,\"\")","v":""},"",{"$f":"IF(BX$7=$F197,$H197,\"\")","v":""},"",{"$f":"IF(BZ$7=$F197,$H197,\"\")","v":""},"",{"$f":"IF(CB$7=$F197,$H197,\"\")","v":""},"",{"$f":"IF(CD$7=$F197,$H197,\"\")","v":""},"",{"$f":"IF(CF$7=$F197,$H197,\"\")","v":""},"",{"$f":"IF(CH$7=$F197,$H197,\"\")","v":""},"",{"$f":"IF(CJ$7=$F197,$H197,\"\")","v":""},"",{"$f":"IF(CL$7=$F197,$H197,\"\")","v":""},"",{"$f":"IF(CN$7=$F197,$H197,\"\")","v":""},"",{"$f":"IF(CP$7=$F197,$H197,\"\")","v":""},"",{"$f":"IF(CR$7=$F197,$H197,\"\")","v":""},"",{"$f":"IF(CT$7=$F197,$H197,\"\")","v":""},"",{"$f":"IF(CV$7=$F197,$H197,\"\")","v":""},"",{"$f":"IF(CX$7=$F197,$H197,\"\")","v":""},"",{"$f":"IF(CZ$7=$F197,$H197,\"\")","v":""},"",{"$f":"IF(DB$7=$F197,$H197,\"\")","v":""},"",{"$f":"IF(DD$7=$F197,$H197,\"\")","v":""},"",{"$f":"IF(DF$7=$F197,$H197,\"\")","v":""},0,{"$f":"IF(DH$7=$F197,$H197,\"\")","v":0},0,{"$f":"IF(DJ$7=$F197,$H197,\"\")","v":0},0,{"$f":"IF(DL$7=$F197,$H197,\"\")","v":0},0,{"$f":"IF(DN$7=$F197,$H197,\"\")","v":0},0,{"$f":"IF(DP$7=$F197,$H197,\"\")","v":0},0,{"$f":"IF(DR$7=$F197,$H197,\"\")","v":0},0,{"$f":"IF(DT$7=$F197,$H197,\"\")","v":0},0,{"$f":"IF(DV$7=$F197,$H197,\"\")","v":0},0,{"$f":"IF(DX$7=$F197,$H197,\"\")","v":0},0,{"$f":"IF(DZ$7=$F197,$H197,\"\")","v":0},0,{"$f":"IF(EB$7=$F197,$H197,\"\")","v":0},0,{"$f":"IF(ED$7=$F197,$H197,\"\")","v":0},0,{"$f":"IF(EF$7=$F197,$H197,\"\")","v":0},0,{"$f":"IF(EH$7=$F197,$H197,\"\")","v":0},0,{"$f":"IF(EJ$7=$F197,$H197,\"\")","v":0},0,{"$f":"IF(EL$7=$F197,$H197,\"\")","v":0},0,{"$f":"IF(EN$7=$F197,$H197,\"\")","v":0},0,{"$f":"IF(EP$7=$F197,$H197,\"\")","v":0},0,{"$f":"IF(ER$7=$F197,$H197,\"\")","v":0},0,{"$f":"IF(ET$7=$F197,$H197,\"\")","v":0},0,{"$f":"IF(EV$7=$F197,$H197,\"\")","v":0},0,{"$f":"IF(EX$7=$F197,$H197,\"\")","v":0},0,{"$f":"IF(EZ$7=$F197,$H197,\"\")","v":0},0,{"$f":"IF(FB$7=$F197,$H197,\"\")","v":0},0,{"$f":"IF(FD$7=$F197,$H197,\"\")","v":0},0,{"$f":"IF(FF$7=$F197,$H197,\"\")","v":0},0,{"$f":"IF(FH$7=$F197,$H197,\"\")","v":0},0,{"$f":"IF(FJ$7=$F197,$H197,\"\")","v":0},0,{"$f":"IF(FL$7=$F197,$H197,\"\")","v":0},0,0]
[190,null,null,null,null,null,null,null,true,0,0,"","","",{"$f":"IF(N$7=$F198,$H198,\"\")","v":""},"",{"$f":"IF(P$7=$F198,$H198,\"\")","v":""},"",{"$f":"IF(R$7=$F198,$H198,\"\")","v":""},"",{"$f":"IF(T$7=$F198,$H198,\"\")","v":""},"",{"$f":"IF(V$7=$F198,$H198,\"\")","v":""},"",{"$f":"IF(X$7=$F198,$H198,\"\")","v":""},"",{"$f":"IF(Z$7=$F198,$H198,\"\")","v":""},"",{"$f":"IF(AB$7=$F198,$H198,\"\")","v":""},"",{"$f":"IF(AD$7=$F198,$H198,\"\")","v":""},"",{"$f":"IF(AF$7=$F198,$H198,\"\")","v":""},"",{"$f":"IF(AH$7=$F198,$H198,\"\")","v":""},"",{"$f":"IF(AJ$7=$F198,$H198,\"\")","v":""},"",{"$f":"IF(AL$7=$F198,$H198,\"\")","v":""},"",{"$f":"IF(AN$7=$F198,$H198,\"\")","v":""},"",{"$f":"IF(AP$7=$F198,$H198,\"\")","v":""},"",{"$f":"IF(AR$7=$F198,$H198,\"\")","v":""},"",{"$f":"IF(AT$7=$F198,$H198,\"\")","v":""},"",{"$f":"IF(AV$7=$F198,$H198,\"\")","v":""},"",{"$f":"IF(AX$7=$F198,$H198,\"\")","v":""},"",{"$f":"IF(AZ$7=$F198,$H198,\"\")","v":""},"",{"$f":"IF(BB$7=$F198,$H198,\"\")","v":""},"",{"$f":"IF(BD$7=$F198,$H198,\"\")","v":""},"",{"$f":"IF(BF$7=$F198,$H198,\"\")","v":""},"",{"$f":"IF(BH$7=$F198,$H198,\"\")","v":""},"",{"$f":"IF(BJ$7=$F198,$H198,\"\")","v":""},"",{"$f":"IF(BL$7=$F198,$H198,\"\")","v":""},"",{"$f":"IF(BN$7=$F198,$H198,\"\")","v":""},"",{"$f":"IF(BP$7=$F198,$H198,\"\")","v":""},"",{"$f":"IF(BR$7=$F198,$H198,\"\")","v":""},"",{"$f":"IF(BT$7=$F198,$H198,\"\")","v":""},"",{"$f":"IF(BV$7=$F198,$H198,\"\")","v":""},"",{"$f":"IF(BX$7=$F198,$H198,\"\")","v":""},"",{"$f":"IF(BZ$7=$F198,$H198,\"\")","v":""},"",{"$f":"IF(CB$7=$F198,$H198,\"\")","v":""},"",{"$f":"IF(CD$7=$F198,$H198,\"\")","v":""},"",{"$f":"IF(CF$7=$F198,$H198,\"\")","v":""},"",{"$f":"IF(CH$7=$F198,$H198,\"\")","v":""},"",{"$f":"IF(CJ$7=$F198,$H198,\"\")","v":""},"",{"$f":"IF(CL$7=$F198,$H198,\"\")","v":""},"",{"$f":"IF(CN$7=$F198,$H198,\"\")","v":""},"",{"$f":"IF(CP$7=$F198,$H198,\"\")","v":""},"",{"$f":"IF(CR$7=$F198,$H198,\"\")","v":""},"",{"$f":"IF(CT$7=$F198,$H198,\"\")","v":""},"",{"$f":"IF(CV$7=$F198,$H198,\"\")","v":""},"",{"$f":"IF(CX$7=$F198,$H198,\"\")","v":""},"",{"$f":"IF(CZ$7=$F198,$H198,\"\")","v":""},"",{"$f":"IF(DB$7=$F198,$H198,\"\")","v":""},"",{"$f":"IF(DD$7=$F198,$H198,\"\")","v":""},"",{"$f":"IF(DF$7=$F198,$H198,\"\")","v":""},0,{"$f":"IF(DH$7=$F198,$H198,\"\")","v":0},0,{"$f":"IF(DJ$7=$F198,$H198,\"\")","v":0},0,{"$f":"IF(DL$7=$F198,$H198,\"\")","v":0},0,{"$f":"IF(DN$7=$F198,$H198,\"\")","v":0},0,{"$f":"IF(DP$7=$F198,$H198,\"\")","v":0},0,{"$f":"IF(DR$7=$F198,$H198,\"\")","v":0},0,{"$f":"IF(DT$7=$F198,$H198,\"\")","v":0},0,{"$f":"IF(DV$7=$F198,$H198,\"\")","v":0},0,{"$f":"IF(DX$7=$F198,$H198,\"\")","v":0},0,{"$f":"IF(DZ$7=$F198,$H198,\"\")","v":0},0,{"$f":"IF(EB$7=$F198,$H198,\"\")","v":0},0,{"$f":"IF(ED$7=$F198,$H198,\"\")","v":0},0,{"$f":"IF(EF$7=$F198,$H198,\"\")","v":0},0,{"$f":"IF(EH$7=$F198,$H198,\"\")","v":0},0,{"$f":"IF(EJ$7=$F198,$H198,\"\")","v":0},0,{"$f":"IF(EL$7=$F198,$H198,\"\")","v":0},0,{"$f":"IF(EN$7=$F198,$H198,\"\")","v":0},0,{"$f":"IF(EP$7=$F198,$H198,\"\")","v":0},0,{"$f":"IF(ER$7=$F198,$H198,\"\")","v":0},0,{"$f":"IF(ET$7=$F198,$H198,\"\")","v":0},0,{"$f":"IF(EV$7=$F198,$H198,\"\")","v":0},0,{"$f":"IF(EX$7=$F198,$H198,\"\")","v":0},0,{"$f":"IF(EZ$7=$F198,$H198,\"\")","v":0},0,{"$f":"IF(FB$7=$F198,$H198,\"\")","v":0},0,{"$f":"IF(FD$7=$F198,$H198,\"\")","v":0},0,{"$f":"IF(FF$7=$F198,$H198,\"\")","v":0},0,{"$f":"IF(FH$7=$F198,$H198,\"\")","v":0},0,{"$f":"IF(FJ$7=$F198,$H198,\"\")","v":0},0,{"$f":"IF(FL$7=$F198,$H198,\"\")","v":0},0,0]
[191,null,null,null,null,null,null,null,true,0,0,"","","",{"$f":"IF(N$7=$F199,$H199,\"\")","v":""},"",{"$f":"IF(P$7=$F199,$H199,\"\")","v":""},"",{"$f":"IF(R$7=$F199,$H199,\"\")","v":""},"",{"$f":"IF(T$7=$F199,$H199,\"\")","v":""},"",{"$f":"IF(V$7=$F199,$H199,\"\")","v":""},"",{"$f":"IF(X$7=$F199,$H199,\"\")","v":""},"",{"$f":"IF(Z$7=$F199,$H199,\"\")","v":""},"",{"$f":"IF(AB$7=$F199,$H199,\"\")","v":""},"",{"$f":"IF(AD$7=$F199,$H199,\"\")","v":""},"",{"$f":"IF(AF$7=$F199,$H199,\"\")","v":""},"",{"$f":"IF(AH$7=$F199,$H199,\"\")","v":""},"",{"$f":"IF(AJ$7=$F199,$H199,\"\")","v":""},"",{"$f":"IF(AL$7=$F199,$H199,\"\")","v":""},"",{"$f":"IF(AN$7=$F199,$H199,\"\")","v":""},"",{"$f":"IF(AP$7=$F199,$H199,\"\")","v":""},"",{"$f":"IF(AR$7=$F199,$H199,\"\")","v":""},"",{"$f":"IF(AT$7=$F199,$H199,\"\")","v":""},"",{"$f":"IF(AV$7=$F199,$H199,\"\")","v":""},"",{"$f":"IF(AX$7=$F199,$H199,\"\")","v":""},"",{"$f":"IF(AZ$7=$F199,$H199,\"\")","v":""},"",{"$f":"IF(BB$7=$F199,$H199,\"\")","v":""},"",{"$f":"IF(BD$7=$F199,$H199,\"\")","v":""},"",{"$f":"IF(BF$7=$F199,$H199,\"\")","v":""},"",{"$f":"IF(BH$7=$F199,$H199,\"\")","v":""},"",{"$f":"IF(BJ$7=$F199,$H199,\"\")","v":""},"",{"$f":"IF(BL$7=$F199,$H199,\"\")","v":""},"",{"$f":"IF(BN$7=$F199,$H199,\"\")","v":""},"",{"$f":"IF(BP$7=$F199,$H199,\"\")","v":""},"",{"$f":"IF(BR$7=$F199,$H199,\"\")","v":""},"",{"$f":"IF(BT$7=$F199,$H199,\"\")","v":""},"",{"$f":"IF(BV$7=$F199,$H199,\"\")","v":""},"",{"$f":"IF(BX$7=$F199,$H199,\"\")","v":""},"",{"$f":"IF(BZ$7=$F199,$H199,\"\")","v":""},"",{"$f":"IF(CB$7=$F199,$H199,\"\")","v":""},"",{"$f":"IF(CD$7=$F199,$H199,\"\")","v":""},"",{"$f":"IF(CF$7=$F199,$H199,\"\")","v":""},"",{"$f":"IF(CH$7=$F199,$H199,\"\")","v":""},"",{"$f":"IF(CJ$7=$F199,$H199,\"\")","v":""},"",{"$f":"IF(CL$7=$F199,$H199,\"\")","v":""},"",{"$f":"IF(CN$7=$F199,$H199,\"\")","v":""},"",{"$f":"IF(CP$7=$F199,$H199,\"\")","v":""},"",{"$f":"IF(CR$7=$F199,$H199,\"\")","v":""},"",{"$f":"IF(CT$7=$F199,$H199,\"\")","v":""},"",{"$f":"IF(CV$7=$F199,$H199,\"\")","v":""},"",{"$f":"IF(CX$7=$F199,$H199,\"\")","v":""},"",{"$f":"IF(CZ$7=$F199,$H199,\"\")","v":""},"",{"$f":"IF(DB$7=$F199,$H199,\"\")","v":""},"",{"$f":"IF(DD$7=$F199,$H199,\"\")","v":""},"",{"$f":"IF(DF$7=$F199,$H199,\"\")","v":""},0,{"$f":"IF(DH$7=$F199,$H199,\"\")","v":0},0,{"$f":"IF(DJ$7=$F199,$H199,\"\")","v":0},0,{"$f":"IF(DL$7=$F199,$H199,\"\")","v":0},0,{"$f":"IF(DN$7=$F199,$H199,\"\")","v":0},0,{"$f":"IF(DP$7=$F199,$H199,\"\")","v":0},0,{"$f":"IF(DR$7=$F199,$H199,\"\")","v":0},0,{"$f":"IF(DT$7=$F199,$H199,\"\")","v":0},0,{"$f":"IF(DV$7=$F199,$H199,\"\")","v":0},0,{"$f":"IF(DX$7=$F199,$H199,\"\")","v":0},0,{"$f":"IF(DZ$7=$F199,$H199,\"\")","v":0},0,{"$f":"IF(EB$7=$F199,$H199,\"\")","v":0},0,{"$f":"IF(ED$7=$F199,$H199,\"\")","v":0},0,{"$f":"IF(EF$7=$F199,$H199,\"\")","v":0},0,{"$f":"IF(EH$7=$F199,$H199,\"\")","v":0},0,{"$f":"IF(EJ$7=$F199,$H199,\"\")","v":0},0,{"$f":"IF(EL$7=$F199,$H199,\"\")","v":0},0,{"$f":"IF(EN$7=$F199,$H199,\"\")","v":0},0,{"$f":"IF(EP$7=$F199,$H199,\"\")","v":0},0,{"$f":"IF(ER$7=$F199,$H199,\"\")","v":0},0,{"$f":"IF(ET$7=$F199,$H199,\"\")","v":0},0,{"$f":"IF(EV$7=$F199,$H199,\"\")","v":0},0,{"$f":"IF(EX$7=$F199,$H199,\"\")","v":0},0,{"$f":"IF(EZ$7=$F199,$H199,\"\")","v":0},0,{"$f":"IF(FB$7=$F199,$H199,\"\")","v":0},0,{"$f":"IF(FD$7=$F199,$H199,\"\")","v":0},0,{"$f":"IF(FF$7=$F199,$H199,\"\")","v":0},0,{"$f":"IF(FH$7=$F199,$H199,\"\")","v":0},0,{"$f":"IF(FJ$7=$F199,$H199,\"\")","v":0},0,{"$f":"IF(FL$7=$F199,$H199,\"\")","v":0},0,0]
[192,null,null,null,null,null,null,null,true,0,0,"","","",{"$f":"IF(N$7=$F200,$H200,\"\")","v":""},"",{"$f":"IF(P$7=$F200,$H200,\"\")","v":""},"",{"$f":"IF(R$7=$F200,$H200,\"\")","v":""},"",{"$f":"IF(T$7=$F200,$H200,\"\")","v":""},"",{"$f":"IF(V$7=$F200,$H200,\"\")","v":""},"",{"$f":"IF(X$7=$F200,$H200,\"\")","v":""},"",{"$f":"IF(Z$7=$F200,$H200,\"\")","v":""},"",{"$f":"IF(AB$7=$F200,$H200,\"\")","v":""},"",{"$f":"IF(AD$7=$F200,$H200,\"\")","v":""},"",{"$f":"IF(AF$7=$F200,$H200,\"\")","v":""},"",{"$f":"IF(AH$7=$F200,$H200,\"\")","v":""},"",{"$f":"IF(AJ$7=$F200,$H200,\"\")","v":""},"",{"$f":"IF(AL$7=$F200,$H200,\"\")","v":""},"",{"$f":"IF(AN$7=$F200,$H200,\"\")","v":""},"",{"$f":"IF(AP$7=$F200,$H200,\"\")","v":""},"",{"$f":"IF(AR$7=$F200,$H200,\"\")","v":""},"",{"$f":"IF(AT$7=$F200,$H200,\"\")","v":""},"",{"$f":"IF(AV$7=$F200,$H200,\"\")","v":""},"",{"$f":"IF(AX$7=$F200,$H200,\"\")","v":""},"",{"$f":"IF(AZ$7=$F200,$H200,\"\")","v":""},"",{"$f":"IF(BB$7=$F200,$H200,\"\")","v":""},"",{"$f":"IF(BD$7=$F200,$H200,\"\")","v":""},"",{"$f":"IF(BF$7=$F200,$H200,\"\")","v":""},"",{"$f":"IF(BH$7=$F200,$H200,\"\")","v":""},"",{"$f":"IF(BJ$7=$F200,$H200,\"\")","v":""},"",{"$f":"IF(BL$7=$F200,$H200,\"\")","v":""},"",{"$f":"IF(BN$7=$F200,$H200,\"\")","v":""},"",{"$f":"IF(BP$7=$F200,$H200,\"\")","v":""},"",{"$f":"IF(BR$7=$F200,$H200,\"\")","v":""},"",{"$f":"IF(BT$7=$F200,$H200,\"\")","v":""},"",{"$f":"IF(BV$7=$F200,$H200,\"\")","v":""},"",{"$f":"IF(BX$7=$F200,$H200,\"\")","v":""},"",{"$f":"IF(BZ$7=$F200,$H200,\"\")","v":""},"",{"$f":"IF(CB$7=$F200,$H200,\"\")","v":""},"",{"$f":"IF(CD$7=$F200,$H200,\"\")","v":""},"",{"$f":"IF(CF$7=$F200,$H200,\"\")","v":""},"",{"$f":"IF(CH$7=$F200,$H200,\"\")","v":""},"",{"$f":"IF(CJ$7=$F200,$H200,\"\")","v":""},"",{"$f":"IF(CL$7=$F200,$H200,\"\")","v":""},"",{"$f":"IF(CN$7=$F200,$H200,\"\")","v":""},"",{"$f":"IF(CP$7=$F200,$H200,\"\")","v":""},"",{"$f":"IF(CR$7=$F200,$H200,\"\")","v":""},"",{"$f":"IF(CT$7=$F200,$H200,\"\")","v":""},"",{"$f":"IF(CV$7=$F200,$H200,\"\")","v":""},"",{"$f":"IF(CX$7=$F200,$H200,\"\")","v":""},"",{"$f":"IF(CZ$7=$F200,$H200,\"\")","v":""},"",{"$f":"IF(DB$7=$F200,$H200,\"\")","v":""},"",{"$f":"IF(DD$7=$F200,$H200,\"\")","v":""},"",{"$f":"IF(DF$7=$F200,$H200,\"\")","v":""},0,{"$f":"IF(DH$7=$F200,$H200,\"\")","v":0},0,{"$f":"IF(DJ$7=$F200,$H200,\"\")","v":0},0,{"$f":"IF(DL$7=$F200,$H200,\"\")","v":0},0,{"$f":"IF(DN$7=$F200,$H200,\"\")","v":0},0,{"$f":"IF(DP$7=$F200,$H200,\"\")","v":0},0,{"$f":"IF(DR$7=$F200,$H200,\"\")","v":0},0,{"$f":"IF(DT$7=$F200,$H200,\"\")","v":0},0,{"$f":"IF(DV$7=$F200,$H200,\"\")","v":0},0,{"$f":"IF(DX$7=$F200,$H200,\"\")","v":0},0,{"$f":"IF(DZ$7=$F200,$H200,\"\")","v":0},0,{"$f":"IF(EB$7=$F200,$H200,\"\")","v":0},0,{"$f":"IF(ED$7=$F200,$H200,\"\")","v":0},0,{"$f":"IF(EF$7=$F200,$H200,\"\")","v":0},0,{"$f":"IF(EH$7=$F200,$H200,\"\")","v":0},0,{"$f":"IF(EJ$7=$F200,$H200,\"\")","v":0},0,{"$f":"IF(EL$7=$F200,$H200,\"\")","v":0},0,{"$f":"IF(EN$7=$F200,$H200,\"\")","v":0},0,{"$f":"IF(EP$7=$F200,$H200,\"\")","v":0},0,{"$f":"IF(ER$7=$F200,$H200,\"\")","v":0},0,{"$f":"IF(ET$7=$F200,$H200,\"\")","v":0},0,{"$f":"IF(EV$7=$F200,$H200,\"\")","v":0},0,{"$f":"IF(EX$7=$F200,$H200,\"\")","v":0},0,{"$f":"IF(EZ$7=$F200,$H200,\"\")","v":0},0,{"$f":"IF(FB$7=$F200,$H200,\"\")","v":0},0,{"$f":"IF(FD$7=$F200,$H200,\"\")","v":0},0,{"$f":"IF(FF$7=$F200,$H200,\"\")","v":0},0,{"$f":"IF(FH$7=$F200,$H200,\"\")","v":0},0,{"$f":"IF(FJ$7=$F200,$H200,\"\")","v":0},0,{"$f":"IF(FL$7=$F200,$H200,\"\")","v":0},0,0]
[193,null,null,null,null,null,null,null,true,0,0,"","","",{"$f":"IF(N$7=$F201,$H201,\"\")","v":""},"",{"$f":"IF(P$7=$F201,$H201,\"\")","v":""},"",{"$f":"IF(R$7=$F201,$H201,\"\")","v":""},"",{"$f":"IF(T$7=$F201,$H201,\"\")","v":""},"",{"$f":"IF(V$7=$F201,$H201,\"\")","v":""},"",{"$f":"IF(X$7=$F201,$H201,\"\")","v":""},"",{"$f":"IF(Z$7=$F201,$H201,\"\")","v":""},"",{"$f":"IF(AB$7=$F201,$H201,\"\")","v":""},"",{"$f":"IF(AD$7=$F201,$H201,\"\")","v":""},"",{"$f":"IF(AF$7=$F201,$H201,\"\")","v":""},"",{"$f":"IF(AH$7=$F201,$H201,\"\")","v":""},"",{"$f":"IF(AJ$7=$F201,$H201,\"\")","v":""},"",{"$f":"IF(AL$7=$F201,$H201,\"\")","v":""},"",{"$f":"IF(AN$7=$F201,$H201,\"\")","v":""},"",{"$f":"IF(AP$7=$F201,$H201,\"\")","v":""},"",{"$f":"IF(AR$7=$F201,$H201,\"\")","v":""},"",{"$f":"IF(AT$7=$F201,$H201,\"\")","v":""},"",{"$f":"IF(AV$7=$F201,$H201,\"\")","v":""},"",{"$f":"IF(AX$7=$F201,$H201,\"\")","v":""},"",{"$f":"IF(AZ$7=$F201,$H201,\"\")","v":""},"",{"$f":"IF(BB$7=$F201,$H201,\"\")","v":""},"",{"$f":"IF(BD$7=$F201,$H201,\"\")","v":""},"",{"$f":"IF(BF$7=$F201,$H201,\"\")","v":""},"",{"$f":"IF(BH$7=$F201,$H201,\"\")","v":""},"",{"$f":"IF(BJ$7=$F201,$H201,\"\")","v":""},"",{"$f":"IF(BL$7=$F201,$H201,\"\")","v":""},"",{"$f":"IF(BN$7=$F201,$H201,\"\")","v":""},"",{"$f":"IF(BP$7=$F201,$H201,\"\")","v":""},"",{"$f":"IF(BR$7=$F201,$H201,\"\")","v":""},"",{"$f":"IF(BT$7=$F201,$H201,\"\")","v":""},"",{"$f":"IF(BV$7=$F201,$H201,\"\")","v":""},"",{"$f":"IF(BX$7=$F201,$H201,\"\")","v":""},"",{"$f":"IF(BZ$7=$F201,$H201,\"\")","v":""},"",{"$f":"IF(CB$7=$F201,$H201,\"\")","v":""},"",{"$f":"IF(CD$7=$F201,$H201,\"\")","v":""},"",{"$f":"IF(CF$7=$F201,$H201,\"\")","v":""},"",{"$f":"IF(CH$7=$F201,$H201,\"\")","v":""},"",{"$f":"IF(CJ$7=$F201,$H201,\"\")","v":""},"",{"$f":"IF(CL$7=$F201,$H201,\"\")","v":""},"",{"$f":"IF(CN$7=$F201,$H201,\"\")","v":""},"",{"$f":"IF(CP$7=$F201,$H201,\"\")","v":""},"",{"$f":"IF(CR$7=$F201,$H201,\"\")","v":""},"",{"$f":"IF(CT$7=$F201,$H201,\"\")","v":""},"",{"$f":"IF(CV$7=$F201,$H201,\"\")","v":""},"",{"$f":"IF(CX$7=$F201,$H201,\"\")","v":""},"",{"$f":"IF(CZ$7=$F201,$H201,\"\")","v":""},"",{"$f":"IF(DB$7=$F201,$H201,\"\")","v":""},"",{"$f":"IF(DD$7=$F201,$H201,\"\")","v":""},"",{"$f":"IF(DF$7=$F201,$H201,\"\")","v":""},0,{"$f":"IF(DH$7=$F201,$H201,\"\")","v":0},0,{"$f":"IF(DJ$7=$F201,$H201,\"\")","v":0},0,{"$f":"IF(DL$7=$F201,$H201,\"\")","v":0},0,{"$f":"IF(DN$7=$F201,$H201,\"\")","v":0},0,{"$f":"IF(DP$7=$F201,$H201,\"\")","v":0},0,{"$f":"IF(DR$7=$F201,$H201,\"\")","v":0},0,{"$f":"IF(DT$7=$F201,$H201,\"\")","v":0},0,{"$f":"IF(DV$7=$F201,$H201,\"\")","v":0},0,{"$f":"IF(DX$7=$F201,$H201,\"\")","v":0},0,{"$f":"IF(DZ$7=$F201,$H201,\"\")","v":0},0,{"$f":"IF(EB$7=$F201,$H201,\"\")","v":0},0,{"$f":"IF(ED$7=$F201,$H201,\"\")","v":0},0,{"$f":"IF(EF$7=$F201,$H201,\"\")","v":0},0,{"$f":"IF(EH$7=$F201,$H201,\"\")","v":0},0,{"$f":"IF(EJ$7=$F201,$H201,\"\")","v":0},0,{"$f":"IF(EL$7=$F201,$H201,\"\")","v":0},0,{"$f":"IF(EN$7=$F201,$H201,\"\")","v":0},0,{"$f":"IF(EP$7=$F201,$H201,\"\")","v":0},0,{"$f":"IF(ER$7=$F201,$H201,\"\")","v":0},0,{"$f":"IF(ET$7=$F201,$H201,\"\")","v":0},0,{"$f":"IF(EV$7=$F201,$H201,\"\")","v":0},0,{"$f":"IF(EX$7=$F201,$H201,\"\")","v":0},0,{"$f":"IF(EZ$7=$F201,$H201,\"\")","v":0},0,{"$f":"IF(FB$7=$F201,$H201,\"\")","v":0},0,{"$f":"IF(FD$7=$F201,$H201,\"\")","v":0},0,{"$f":"IF(FF$7=$F201,$H201,\"\")","v":0},0,{"$f":"IF(FH$7=$F201,$H201,\"\")","v":0},0,{"$f":"IF(FJ$7=$F201,$H201,\"\")","v":0},0,{"$f":"IF(FL$7=$F201,$H201,\"\")","v":0},0,{"$f":"IF(FN$7=$F201,$H201,\"\")","v":0}]
[194,null,null,null,null,null,null,null,{"$f":"J202=K202","v":true},{"$f":"SUMIF($L$8:$FO$8,$J$8,L202:FO202)","v":0},{"$f":"SUMIF($L$8:$FO$8,$K$8,L202:FO202)","v":0},{"$f":"IF(L$7=$E202,$G202,\"\")","v":""},{"$f":"IF(L$7=$F202,$H202,\"\")","v":""},"",{"$f":"IF(N$7=$F202,$H202,\"\")","v":""},"",{"$f":"IF(P$7=$F202,$H202,\"\")","v":""},"",{"$f":"IF(R$7=$F202,$H202,\"\")","v":""},"",{"$f":"IF(T$7=$F202,$H202,\"\")","v":""},"",{"$f":"IF(V$7=$F202,$H202,\"\")","v":""},"",{"$f":"IF(X$7=$F202,$H202,\"\")","v":""},"",{"$f":"IF(Z$7=$F202,$H202,\"\")","v":""},"",{"$f":"IF(AB$7=$F202,$H202,\"\")","v":""},"",{"$f":"IF(AD$7=$F202,$H202,\"\")","v":""},"",{"$f":"IF(AF$7=$F202,$H202,\"\")","v":""},"",{"$f":"IF(AH$7=$F202,$H202,\"\")","v":""},"",{"$f":"IF(AJ$7=$F202,$H202,\"\")","v":""},"",{"$f":"IF(AL$7=$F202,$H202,\"\")","v":""},"",{"$f":"IF(AN$7=$F202,$H202,\"\")","v":""},"",{"$f":"IF(AP$7=$F202,$H202,\"\")","v":""},"",{"$f":"IF(AR$7=$F202,$H202,\"\")","v":""},"",{"$f":"IF(AT$7=$F202,$H202,\"\")","v":""},"",{"$f":"IF(AV$7=$F202,$H202,\"\")","v":""},"",{"$f":"IF(AX$7=$F202,$H202,\"\")","v":""},"",{"$f":"IF(AZ$7=$F202,$H202,\"\")","v":""},"",{"$f":"IF(BB$7=$F202,$H202,\"\")","v":""},"",{"$f":"IF(BD$7=$F202,$H202,\"\")","v":""},"",{"$f":"IF(BF$7=$F202,$H202,\"\")","v":""},"",{"$f":"IF(BH$7=$F202,$H202,\"\")","v":""},"",{"$f":"IF(BJ$7=$F202,$H202,\"\")","v":""},"",{"$f":"IF(BL$7=$F202,$H202,\"\")","v":""},"",{"$f":"IF(BN$7=$F202,$H202,\"\")","v":""},"",{"$f":"IF(BP$7=$F202,$H202,\"\")","v":""},"",{"$f":"IF(BR$7=$F202,$H202,\"\")","v":""},"",{"$f":"IF(BT$7=$F202,$H202,\"\")","v":""},"",{"$f":"IF(BV$7=$F202,$H202,\"\")","v":""},"",{"$f":"IF(BX$7=$F202,$H202,\"\")","v":""},"",{"$f":"IF(BZ$7=$F202,$H202,\"\")","v":""},"",{"$f":"IF(CB$7=$F202,$H202,\"\")","v":""},"",{"$f":"IF(CD$7=$F202,$H202,\"\")","v":""},"",{"$f":"IF(CF$7=$F202,$H202,\"\")","v":""},"",{"$f":"IF(CH$7=$F202,$H202,\"\")","v":""},"",{"$f":"IF(CJ$7=$F202,$H202,\"\")","v":""},"",{"$f":"IF(CL$7=$F202,$H202,\"\")","v":""},"",{"$f":"IF(CN$7=$F202,$H202,\"\")","v":""},"",{"$f":"IF(CP$7=$F202,$H202,\"\")","v":""},"",{"$f":"IF(CR$7=$F202,$H202,\"\")","v":""},"",{"$f":"IF(CT$7=$F202,$H202,\"\")","v":""},"",{"$f":"IF(CV$7=$F202,$H202,\"\")","v":""},"",{"$f":"IF(CX$7=$F202,$H202,\"\")","v":""},"",{"$f":"IF(CZ$7=$F202,$H202,\"\")","v":""},"",{"$f":"IF(DB$7=$F202,$H202,\"\")","v":""},"",{"$f":"IF(DD$7=$F202,$H202,\"\")","v":""},"",{"$f":"IF(DF$7=$F202,$H202,\"\")","v":""},0,{"$f":"IF(DH$7=$F202,$H202,\"\")","v":0},0,{"$f":"IF(DJ$7=$F202,$H202,\"\")","v":0},0,{"$f":"IF(DL$7=$F202,$H202,\"\")","v":0},0,{"$f":"IF(DN$7=$F202,$H202,\"\")","v":0},0,{"$f":"IF(DP$7=$F202,$H202,\"\")","v":0},0,{"$f":"IF(DR$7=$F202,$H202,\"\")","v":0},0,{"$f":"IF(DT$7=$F202,$H202,\"\")","v":0},0,{"$f":"IF(DV$7=$F202,$H202,\"\")","v":0},0,{"$f":"IF(DX$7=$F202,$H202,\"\")","v":0},0,{"$f":"IF(DZ$7=$F202,$H202,\"\")","v":0},0,{"$f":"IF(EB$7=$F202,$H202,\"\")","v":0},0,{"$f":"IF(ED$7=$F202,$H202,\"\")","v":0},0,{"$f":"IF(EF$7=$F202,$H202,\"\")","v":0},0,{"$f":"IF(EH$7=$F202,$H202,\"\")","v":0},0,{"$f":"IF(EJ$7=$F202,$H202,\"\")","v":0},0,{"$f":"IF(EL$7=$F202,$H202,\"\")","v":0},0,{"$f":"IF(EN$7=$F202,$H202,\"\")","v":0},0,{"$f":"IF(EP$7=$F202,$H202,\"\")","v":0},0,{"$f":"IF(ER$7=$F202,$H202,\"\")","v":0},0,{"$f":"IF(ET$7=$F202,$H202,\"\")","v":0},0,{"$f":"IF(EV$7=$F202,$H202,\"\")","v":0},0,{"$f":"IF(EX$7=$F202,$H202,\"\")","v":0},0,{"$f":"IF(EZ$7=$F202,$H202,\"\")","v":0},0,{"$f":"IF(FB$7=$F202,$H202,\"\")","v":0},0,{"$f":"IF(FD$7=$F202,$H202,\"\")","v":0},0,{"$f":"IF(FF$7=$F202,$H202,\"\")","v":0},0,{"$f":"IF(FH$7=$F202,$H202,\"\")","v":0},0,{"$f":"IF(FJ$7=$F202,$H202,\"\")","v":0},0,{"$f":"IF(FL$7=$F202,$H202,\"\")","v":0},0,0]
[195,null,null,null,null,null,null,null,true,0,0,"","","",{"$f":"IF(N$7=$F203,$H203,\"\")","v":""},"",{"$f":"IF(P$7=$F203,$H203,\"\")","v":""},"",{"$f":"IF(R$7=$F203,$H203,\"\")","v":""},"",{"$f":"IF(T$7=$F203,$H203,\"\")","v":""},"",{"$f":"IF(V$7=$F203,$H203,\"\")","v":""},"",{"$f":"IF(X$7=$F203,$H203,\"\")","v":""},"",{"$f":"IF(Z$7=$F203,$H203,\"\")","v":""},"",{"$f":"IF(AB$7=$F203,$H203,\"\")","v":""},"",{"$f":"IF(AD$7=$F203,$H203,\"\")","v":""},"",{"$f":"IF(AF$7=$F203,$H203,\"\")","v":""},"",{"$f":"IF(AH$7=$F203,$H203,\"\")","v":""},"",{"$f":"IF(AJ$7=$F203,$H203,\"\")","v":""},"",{"$f":"IF(AL$7=$F203,$H203,\"\")","v":""},"",{"$f":"IF(AN$7=$F203,$H203,\"\")","v":""},"",{"$f":"IF(AP$7=$F203,$H203,\"\")","v":""},"",{"$f":"IF(AR$7=$F203,$H203,\"\")","v":""},"",{"$f":"IF(AT$7=$F203,$H203,\"\")","v":""},"",{"$f":"IF(AV$7=$F203,$H203,\"\")","v":""},"",{"$f":"IF(AX$7=$F203,$H203,\"\")","v":""},"",{"$f":"IF(AZ$7=$F203,$H203,\"\")","v":""},"",{"$f":"IF(BB$7=$F203,$H203,\"\")","v":""},"",{"$f":"IF(BD$7=$F203,$H203,\"\")","v":""},"",{"$f":"IF(BF$7=$F203,$H203,\"\")","v":""},"",{"$f":"IF(BH$7=$F203,$H203,\"\")","v":""},"",{"$f":"IF(BJ$7=$F203,$H203,\"\")","v":""},"",{"$f":"IF(BL$7=$F203,$H203,\"\")","v":""},"",{"$f":"IF(BN$7=$F203,$H203,\"\")","v":""},"",{"$f":"IF(BP$7=$F203,$H203,\"\")","v":""},"",{"$f":"IF(BR$7=$F203,$H203,\"\")","v":""},"",{"$f":"IF(BT$7=$F203,$H203,\"\")","v":""},"",{"$f":"IF(BV$7=$F203,$H203,\"\")","v":""},"",{"$f":"IF(BX$7=$F203,$H203,\"\")","v":""},"",{"$f":"IF(BZ$7=$F203,$H203,\"\")","v":""},"",{"$f":"IF(CB$7=$F203,$H203,\"\")","v":""},"",{"$f":"IF(CD$7=$F203,$H203,\"\")","v":""},"",{"$f":"IF(CF$7=$F203,$H203,\"\")","v":""},"",{"$f":"IF(CH$7=$F203,$H203,\"\")","v":""},"",{"$f":"IF(CJ$7=$F203,$H203,\"\")","v":""},"",{"$f":"IF(CL$7=$F203,$H203,\"\")","v":""},"",{"$f":"IF(CN$7=$F203,$H203,\"\")","v":""},"",{"$f":"IF(CP$7=$F203,$H203,\"\")","v":""},"",{"$f":"IF(CR$7=$F203,$H203,\"\")","v":""},"",{"$f":"IF(CT$7=$F203,$H203,\"\")","v":""},"",{"$f":"IF(CV$7=$F203,$H203,\"\")","v":""},"",{"$f":"IF(CX$7=$F203,$H203,\"\")","v":""},"",{"$f":"IF(CZ$7=$F203,$H203,\"\")","v":""},"",{"$f":"IF(DB$7=$F203,$H203,\"\")","v":""},"",{"$f":"IF(DD$7=$F203,$H203,\"\")","v":""},"",{"$f":"IF(DF$7=$F203,$H203,\"\")","v":""},0,{"$f":"IF(DH$7=$F203,$H203,\"\")","v":0},0,{"$f":"IF(DJ$7=$F203,$H203,\"\")","v":0},0,{"$f":"IF(DL$7=$F203,$H203,\"\")","v":0},0,{"$f":"IF(DN$7=$F203,$H203,\"\")","v":0},0,{"$f":"IF(DP$7=$F203,$H203,\"\")","v":0},0,{"$f":"IF(DR$7=$F203,$H203,\"\")","v":0},0,{"$f":"IF(DT$7=$F203,$H203,\"\")","v":0},0,{"$f":"IF(DV$7=$F203,$H203,\"\")","v":0},0,{"$f":"IF(DX$7=$F203,$H203,\"\")","v":0},0,{"$f":"IF(DZ$7=$F203,$H203,\"\")","v":0},0,{"$f":"IF(EB$7=$F203,$H203,\"\")","v":0},0,{"$f":"IF(ED$7=$F203,$H203,\"\")","v":0},0,{"$f":"IF(EF$7=$F203,$H203,\"\")","v":0},0,{"$f":"IF(EH$7=$F203,$H203,\"\")","v":0},0,{"$f":"IF(EJ$7=$F203,$H203,\"\")","v":0},0,{"$f":"IF(EL$7=$F203,$H203,\"\")","v":0},0,{"$f":"IF(EN$7=$F203,$H203,\"\")","v":0},0,{"$f":"IF(EP$7=$F203,$H203,\"\")","v":0},0,{"$f":"IF(ER$7=$F203,$H203,\"\")","v":0},0,{"$f":"IF(ET$7=$F203,$H203,\"\")","v":0},0,{"$f":"IF(EV$7=$F203,$H203,\"\")","v":0},0,{"$f":"IF(EX$7=$F203,$H203,\"\")","v":0},0,{"$f":"IF(EZ$7=$F203,$H203,\"\")","v":0},0,{"$f":"IF(FB$7=$F203,$H203,\"\")","v":0},0,{"$f":"IF(FD$7=$F203,$H203,\"\")","v":0},0,{"$f":"IF(FF$7=$F203,$H203,\"\")","v":0},0,{"$f":"IF(FH$7=$F203,$H203,\"\")","v":0},0,{"$f":"IF(FJ$7=$F203,$H203,\"\")","v":0},0,{"$f":"IF(FL$7=$F203,$H203,\"\")","v":0},0,0]
[196,null,null,null,null,null,null,null,true,0,0,"","","",{"$f":"IF(N$7=$F204,$H204,\"\")","v":""},"",{"$f":"IF(P$7=$F204,$H204,\"\")","v":""},"",{"$f":"IF(R$7=$F204,$H204,\"\")","v":""},"",{"$f":"IF(T$7=$F204,$H204,\"\")","v":""},"",{"$f":"IF(V$7=$F204,$H204,\"\")","v":""},"",{"$f":"IF(X$7=$F204,$H204,\"\")","v":""},"",{"$f":"IF(Z$7=$F204,$H204,\"\")","v":""},"",{"$f":"IF(AB$7=$F204,$H204,\"\")","v":""},"",{"$f":"IF(AD$7=$F204,$H204,\"\")","v":""},"",{"$f":"IF(AF$7=$F204,$H204,\"\")","v":""},"",{"$f":"IF(AH$7=$F204,$H204,\"\")","v":""},"",{"$f":"IF(AJ$7=$F204,$H204,\"\")","v":""},"",{"$f":"IF(AL$7=$F204,$H204,\"\")","v":""},"",{"$f":"IF(AN$7=$F204,$H204,\"\")","v":""},"",{"$f":"IF(AP$7=$F204,$H204,\"\")","v":""},"",{"$f":"IF(AR$7=$F204,$H204,\"\")","v":""},"",{"$f":"IF(AT$7=$F204,$H204,\"\")","v":""},"",{"$f":"IF(AV$7=$F204,$H204,\"\")","v":""},"",{"$f":"IF(AX$7=$F204,$H204,\"\")","v":""},"",{"$f":"IF(AZ$7=$F204,$H204,\"\")","v":""},"",{"$f":"IF(BB$7=$F204,$H204,\"\")","v":""},"",{"$f":"IF(BD$7=$F204,$H204,\"\")","v":""},"",{"$f":"IF(BF$7=$F204,$H204,\"\")","v":""},"",{"$f":"IF(BH$7=$F204,$H204,\"\")","v":""},"",{"$f":"IF(BJ$7=$F204,$H204,\"\")","v":""},"",{"$f":"IF(BL$7=$F204,$H204,\"\")","v":""},"",{"$f":"IF(BN$7=$F204,$H204,\"\")","v":""},"",{"$f":"IF(BP$7=$F204,$H204,\"\")","v":""},"",{"$f":"IF(BR$7=$F204,$H204,\"\")","v":""},"",{"$f":"IF(BT$7=$F204,$H204,\"\")","v":""},"",{"$f":"IF(BV$7=$F204,$H204,\"\")","v":""},"",{"$f":"IF(BX$7=$F204,$H204,\"\")","v":""},"",{"$f":"IF(BZ$7=$F204,$H204,\"\")","v":""},"",{"$f":"IF(CB$7=$F204,$H204,\"\")","v":""},"",{"$f":"IF(CD$7=$F204,$H204,\"\")","v":""},"",{"$f":"IF(CF$7=$F204,$H204,\"\")","v":""},"",{"$f":"IF(CH$7=$F204,$H204,\"\")","v":""},"",{"$f":"IF(CJ$7=$F204,$H204,\"\")","v":""},"",{"$f":"IF(CL$7=$F204,$H204,\"\")","v":""},"",{"$f":"IF(CN$7=$F204,$H204,\"\")","v":""},"",{"$f":"IF(CP$7=$F204,$H204,\"\")","v":""},"",{"$f":"IF(CR$7=$F204,$H204,\"\")","v":""},"",{"$f":"IF(CT$7=$F204,$H204,\"\")","v":""},"",{"$f":"IF(CV$7=$F204,$H204,\"\")","v":""},"",{"$f":"IF(CX$7=$F204,$H204,\"\")","v":""},"",{"$f":"IF(CZ$7=$F204,$H204,\"\")","v":""},"",{"$f":"IF(DB$7=$F204,$H204,\"\")","v":""},"",{"$f":"IF(DD$7=$F204,$H204,\"\")","v":""},"",{"$f":"IF(DF$7=$F204,$H204,\"\")","v":""},0,{"$f":"IF(DH$7=$F204,$H204,\"\")","v":0},0,{"$f":"IF(DJ$7=$F204,$H204,\"\")","v":0},0,{"$f":"IF(DL$7=$F204,$H204,\"\")","v":0},0,{"$f":"IF(DN$7=$F204,$H204,\"\")","v":0},0,{"$f":"IF(DP$7=$F204,$H204,\"\")","v":0},0,{"$f":"IF(DR$7=$F204,$H204,\"\")","v":0},0,{"$f":"IF(DT$7=$F204,$H204,\"\")","v":0},0,{"$f":"IF(DV$7=$F204,$H204,\"\")","v":0},0,{"$f":"IF(DX$7=$F204,$H204,\"\")","v":0},0,{"$f":"IF(DZ$7=$F204,$H204,\"\")","v":0},0,{"$f":"IF(EB$7=$F204,$H204,\"\")","v":0},0,{"$f":"IF(ED$7=$F204,$H204,\"\")","v":0},0,{"$f":"IF(EF$7=$F204,$H204,\"\")","v":0},0,{"$f":"IF(EH$7=$F204,$H204,\"\")","v":0},0,{"$f":"IF(EJ$7=$F204,$H204,\"\")","v":0},0,{"$f":"IF(EL$7=$F204,$H204,\"\")","v":0},0,{"$f":"IF(EN$7=$F204,$H204,\"\")","v":0},0,{"$f":"IF(EP$7=$F204,$H204,\"\")","v":0},0,{"$f":"IF(ER$7=$F204,$H204,\"\")","v":0},0,{"$f":"IF(ET$7=$F204,$H204,\"\")","v":0},0,{"$f":"IF(EV$7=$F204,$H204,\"\")","v":0},0,{"$f":"IF(EX$7=$F204,$H204,\"\")","v":0},0,{"$f":"IF(EZ$7=$F204,$H204,\"\")","v":0},0,{"$f":"IF(FB$7=$F204,$H204,\"\")","v":0},0,{"$f":"IF(FD$7=$F204,$H204,\"\")","v":0},0,{"$f":"IF(FF$7=$F204,$H204,\"\")","v":0},0,{"$f":"IF(FH$7=$F204,$H204,\"\")","v":0},0,{"$f":"IF(FJ$7=$F204,$H204,\"\")","v":0},0,{"$f":"IF(FL$7=$F204,$H204,\"\")","v":0},0,0]
[197,null,null,null,null,null,null,null,true,0,0,"","","",{"$f":"IF(N$7=$F205,$H205,\"\")","v":""},"",{"$f":"IF(P$7=$F205,$H205,\"\")","v":""},"",{"$f":"IF(R$7=$F205,$H205,\"\")","v":""},"",{"$f":"IF(T$7=$F205,$H205,\"\")","v":""},"",{"$f":"IF(V$7=$F205,$H205,\"\")","v":""},"",{"$f":"IF(X$7=$F205,$H205,\"\")","v":""},"",{"$f":"IF(Z$7=$F205,$H205,\"\")","v":""},"",{"$f":"IF(AB$7=$F205,$H205,\"\")","v":""},"",{"$f":"IF(AD$7=$F205,$H205,\"\")","v":""},"",{"$f":"IF(AF$7=$F205,$H205,\"\")","v":""},"",{"$f":"IF(AH$7=$F205,$H205,\"\")","v":""},"",{"$f":"IF(AJ$7=$F205,$H205,\"\")","v":""},"",{"$f":"IF(AL$7=$F205,$H205,\"\")","v":""},"",{"$f":"IF(AN$7=$F205,$H205,\"\")","v":""},"",{"$f":"IF(AP$7=$F205,$H205,\"\")","v":""},"",{"$f":"IF(AR$7=$F205,$H205,\"\")","v":""},"",{"$f":"IF(AT$7=$F205,$H205,\"\")","v":""},"",{"$f":"IF(AV$7=$F205,$H205,\"\")","v":""},"",{"$f":"IF(AX$7=$F205,$H205,\"\")","v":""},"",{"$f":"IF(AZ$7=$F205,$H205,\"\")","v":""},"",{"$f":"IF(BB$7=$F205,$H205,\"\")","v":""},"",{"$f":"IF(BD$7=$F205,$H205,\"\")","v":""},"",{"$f":"IF(BF$7=$F205,$H205,\"\")","v":""},"",{"$f":"IF(BH$7=$F205,$H205,\"\")","v":""},"",{"$f":"IF(BJ$7=$F205,$H205,\"\")","v":""},"",{"$f":"IF(BL$7=$F205,$H205,\"\")","v":""},"",{"$f":"IF(BN$7=$F205,$H205,\"\")","v":""},"",{"$f":"IF(BP$7=$F205,$H205,\"\")","v":""},"",{"$f":"IF(BR$7=$F205,$H205,\"\")","v":""},"",{"$f":"IF(BT$7=$F205,$H205,\"\")","v":""},"",{"$f":"IF(BV$7=$F205,$H205,\"\")","v":""},"",{"$f":"IF(BX$7=$F205,$H205,\"\")","v":""},"",{"$f":"IF(BZ$7=$F205,$H205,\"\")","v":""},"",{"$f":"IF(CB$7=$F205,$H205,\"\")","v":""},"",{"$f":"IF(CD$7=$F205,$H205,\"\")","v":""},"",{"$f":"IF(CF$7=$F205,$H205,\"\")","v":""},"",{"$f":"IF(CH$7=$F205,$H205,\"\")","v":""},"",{"$f":"IF(CJ$7=$F205,$H205,\"\")","v":""},"",{"$f":"IF(CL$7=$F205,$H205,\"\")","v":""},"",{"$f":"IF(CN$7=$F205,$H205,\"\")","v":""},"",{"$f":"IF(CP$7=$F205,$H205,\"\")","v":""},"",{"$f":"IF(CR$7=$F205,$H205,\"\")","v":""},"",{"$f":"IF(CT$7=$F205,$H205,\"\")","v":""},"",{"$f":"IF(CV$7=$F205,$H205,\"\")","v":""},"",{"$f":"IF(CX$7=$F205,$H205,\"\")","v":""},"",{"$f":"IF(CZ$7=$F205,$H205,\"\")","v":""},"",{"$f":"IF(DB$7=$F205,$H205,\"\")","v":""},"",{"$f":"IF(DD$7=$F205,$H205,\"\")","v":""},"",{"$f":"IF(DF$7=$F205,$H205,\"\")","v":""},0,{"$f":"IF(DH$7=$F205,$H205,\"\")","v":0},0,{"$f":"IF(DJ$7=$F205,$H205,\"\")","v":0},0,{"$f":"IF(DL$7=$F205,$H205,\"\")","v":0},0,{"$f":"IF(DN$7=$F205,$H205,\"\")","v":0},0,{"$f":"IF(DP$7=$F205,$H205,\"\")","v":0},0,{"$f":"IF(DR$7=$F205,$H205,\"\")","v":0},0,{"$f":"IF(DT$7=$F205,$H205,\"\")","v":0},0,{"$f":"IF(DV$7=$F205,$H205,\"\")","v":0},0,{"$f":"IF(DX$7=$F205,$H205,\"\")","v":0},0,{"$f":"IF(DZ$7=$F205,$H205,\"\")","v":0},0,{"$f":"IF(EB$7=$F205,$H205,\"\")","v":0},0,{"$f":"IF(ED$7=$F205,$H205,\"\")","v":0},0,{"$f":"IF(EF$7=$F205,$H205,\"\")","v":0},0,{"$f":"IF(EH$7=$F205,$H205,\"\")","v":0},0,{"$f":"IF(EJ$7=$F205,$H205,\"\")","v":0},0,{"$f":"IF(EL$7=$F205,$H205,\"\")","v":0},0,{"$f":"IF(EN$7=$F205,$H205,\"\")","v":0},0,{"$f":"IF(EP$7=$F205,$H205,\"\")","v":0},0,{"$f":"IF(ER$7=$F205,$H205,\"\")","v":0},0,{"$f":"IF(ET$7=$F205,$H205,\"\")","v":0},0,{"$f":"IF(EV$7=$F205,$H205,\"\")","v":0},0,{"$f":"IF(EX$7=$F205,$H205,\"\")","v":0},0,{"$f":"IF(EZ$7=$F205,$H205,\"\")","v":0},0,{"$f":"IF(FB$7=$F205,$H205,\"\")","v":0},0,{"$f":"IF(FD$7=$F205,$H205,\"\")","v":0},0,{"$f":"IF(FF$7=$F205,$H205,\"\")","v":0},0,{"$f":"IF(FH$7=$F205,$H205,\"\")","v":0},0,{"$f":"IF(FJ$7=$F205,$H205,\"\")","v":0},0,{"$f":"IF(FL$7=$F205,$H205,\"\")","v":0},0,0]
[198,null,null,null,null,null,null,null,true,0,0,"","","",{"$f":"IF(N$7=$F206,$H206,\"\")","v":""},"",{"$f":"IF(P$7=$F206,$H206,\"\")","v":""},"",{"$f":"IF(R$7=$F206,$H206,\"\")","v":""},"",{"$f":"IF(T$7=$F206,$H206,\"\")","v":""},"",{"$f":"IF(V$7=$F206,$H206,\"\")","v":""},"",{"$f":"IF(X$7=$F206,$H206,\"\")","v":""},"",{"$f":"IF(Z$7=$F206,$H206,\"\")","v":""},"",{"$f":"IF(AB$7=$F206,$H206,\"\")","v":""},"",{"$f":"IF(AD$7=$F206,$H206,\"\")","v":""},"",{"$f":"IF(AF$7=$F206,$H206,\"\")","v":""},"",{"$f":"IF(AH$7=$F206,$H206,\"\")","v":""},"",{"$f":"IF(AJ$7=$F206,$H206,\"\")","v":""},"",{"$f":"IF(AL$7=$F206,$H206,\"\")","v":""},"",{"$f":"IF(AN$7=$F206,$H206,\"\")","v":""},"",{"$f":"IF(AP$7=$F206,$H206,\"\")","v":""},"",{"$f":"IF(AR$7=$F206,$H206,\"\")","v":""},"",{"$f":"IF(AT$7=$F206,$H206,\"\")","v":""},"",{"$f":"IF(AV$7=$F206,$H206,\"\")","v":""},"",{"$f":"IF(AX$7=$F206,$H206,\"\")","v":""},"",{"$f":"IF(AZ$7=$F206,$H206,\"\")","v":""},"",{"$f":"IF(BB$7=$F206,$H206,\"\")","v":""},"",{"$f":"IF(BD$7=$F206,$H206,\"\")","v":""},"",{"$f":"IF(BF$7=$F206,$H206,\"\")","v":""},"",{"$f":"IF(BH$7=$F206,$H206,\"\")","v":""},"",{"$f":"IF(BJ$7=$F206,$H206,\"\")","v":""},"",{"$f":"IF(BL$7=$F206,$H206,\"\")","v":""},"",{"$f":"IF(BN$7=$F206,$H206,\"\")","v":""},"",{"$f":"IF(BP$7=$F206,$H206,\"\")","v":""},"",{"$f":"IF(BR$7=$F206,$H206,\"\")","v":""},"",{"$f":"IF(BT$7=$F206,$H206,\"\")","v":""},"",{"$f":"IF(BV$7=$F206,$H206,\"\")","v":""},"",{"$f":"IF(BX$7=$F206,$H206,\"\")","v":""},"",{"$f":"IF(BZ$7=$F206,$H206,\"\")","v":""},"",{"$f":"IF(CB$7=$F206,$H206,\"\")","v":""},"",{"$f":"IF(CD$7=$F206,$H206,\"\")","v":""},"",{"$f":"IF(CF$7=$F206,$H206,\"\")","v":""},"",{"$f":"IF(CH$7=$F206,$H206,\"\")","v":""},"",{"$f":"IF(CJ$7=$F206,$H206,\"\")","v":""},"",{"$f":"IF(CL$7=$F206,$H206,\"\")","v":""},"",{"$f":"IF(CN$7=$F206,$H206,\"\")","v":""},"",{"$f":"IF(CP$7=$F206,$H206,\"\")","v":""},"",{"$f":"IF(CR$7=$F206,$H206,\"\")","v":""},"",{"$f":"IF(CT$7=$F206,$H206,\"\")","v":""},"",{"$f":"IF(CV$7=$F206,$H206,\"\")","v":""},"",{"$f":"IF(CX$7=$F206,$H206,\"\")","v":""},"",{"$f":"IF(CZ$7=$F206,$H206,\"\")","v":""},"",{"$f":"IF(DB$7=$F206,$H206,\"\")","v":""},"",{"$f":"IF(DD$7=$F206,$H206,\"\")","v":""},"",{"$f":"IF(DF$7=$F206,$H206,\"\")","v":""},0,{"$f":"IF(DH$7=$F206,$H206,\"\")","v":0},0,{"$f":"IF(DJ$7=$F206,$H206,\"\")","v":0},0,{"$f":"IF(DL$7=$F206,$H206,\"\")","v":0},0,{"$f":"IF(DN$7=$F206,$H206,\"\")","v":0},0,{"$f":"IF(DP$7=$F206,$H206,\"\")","v":0},0,{"$f":"IF(DR$7=$F206,$H206,\"\")","v":0},0,{"$f":"IF(DT$7=$F206,$H206,\"\")","v":0},0,{"$f":"IF(DV$7=$F206,$H206,\"\")","v":0},0,{"$f":"IF(DX$7=$F206,$H206,\"\")","v":0},0,{"$f":"IF(DZ$7=$F206,$H206,\"\")","v":0},0,{"$f":"IF(EB$7=$F206,$H206,\"\")","v":0},0,{"$f":"IF(ED$7=$F206,$H206,\"\")","v":0},0,{"$f":"IF(EF$7=$F206,$H206,\"\")","v":0},0,{"$f":"IF(EH$7=$F206,$H206,\"\")","v":0},0,{"$f":"IF(EJ$7=$F206,$H206,\"\")","v":0},0,{"$f":"IF(EL$7=$F206,$H206,\"\")","v":0},0,{"$f":"IF(EN$7=$F206,$H206,\"\")","v":0},0,{"$f":"IF(EP$7=$F206,$H206,\"\")","v":0},0,{"$f":"IF(ER$7=$F206,$H206,\"\")","v":0},0,{"$f":"IF(ET$7=$F206,$H206,\"\")","v":0},0,{"$f":"IF(EV$7=$F206,$H206,\"\")","v":0},0,{"$f":"IF(EX$7=$F206,$H206,\"\")","v":0},0,{"$f":"IF(EZ$7=$F206,$H206,\"\")","v":0},0,{"$f":"IF(FB$7=$F206,$H206,\"\")","v":0},0,{"$f":"IF(FD$7=$F206,$H206,\"\")","v":0},0,{"$f":"IF(FF$7=$F206,$H206,\"\")","v":0},0,{"$f":"IF(FH$7=$F206,$H206,\"\")","v":0},0,{"$f":"IF(FJ$7=$F206,$H206,\"\")","v":0},0,{"$f":"IF(FL$7=$F206,$H206,\"\")","v":0},0,0]
[199,null,null,null,null,null,null,null,true,0,0,"","","",{"$f":"IF(N$7=$F207,$H207,\"\")","v":""},"",{"$f":"IF(P$7=$F207,$H207,\"\")","v":""},"",{"$f":"IF(R$7=$F207,$H207,\"\")","v":""},"",{"$f":"IF(T$7=$F207,$H207,\"\")","v":""},"",{"$f":"IF(V$7=$F207,$H207,\"\")","v":""},"",{"$f":"IF(X$7=$F207,$H207,\"\")","v":""},"",{"$f":"IF(Z$7=$F207,$H207,\"\")","v":""},"",{"$f":"IF(AB$7=$F207,$H207,\"\")","v":""},"",{"$f":"IF(AD$7=$F207,$H207,\"\")","v":""},"",{"$f":"IF(AF$7=$F207,$H207,\"\")","v":""},"",{"$f":"IF(AH$7=$F207,$H207,\"\")","v":""},"",{"$f":"IF(AJ$7=$F207,$H207,\"\")","v":""},"",{"$f":"IF(AL$7=$F207,$H207,\"\")","v":""},"",{"$f":"IF(AN$7=$F207,$H207,\"\")","v":""},"",{"$f":"IF(AP$7=$F207,$H207,\"\")","v":""},"",{"$f":"IF(AR$7=$F207,$H207,\"\")","v":""},"",{"$f":"IF(AT$7=$F207,$H207,\"\")","v":""},"",{"$f":"IF(AV$7=$F207,$H207,\"\")","v":""},"",{"$f":"IF(AX$7=$F207,$H207,\"\")","v":""},"",{"$f":"IF(AZ$7=$F207,$H207,\"\")","v":""},"",{"$f":"IF(BB$7=$F207,$H207,\"\")","v":""},"",{"$f":"IF(BD$7=$F207,$H207,\"\")","v":""},"",{"$f":"IF(BF$7=$F207,$H207,\"\")","v":""},"",{"$f":"IF(BH$7=$F207,$H207,\"\")","v":""},"",{"$f":"IF(BJ$7=$F207,$H207,\"\")","v":""},"",{"$f":"IF(BL$7=$F207,$H207,\"\")","v":""},"",{"$f":"IF(BN$7=$F207,$H207,\"\")","v":""},"",{"$f":"IF(BP$7=$F207,$H207,\"\")","v":""},"",{"$f":"IF(BR$7=$F207,$H207,\"\")","v":""},"",{"$f":"IF(BT$7=$F207,$H207,\"\")","v":""},"",{"$f":"IF(BV$7=$F207,$H207,\"\")","v":""},"",{"$f":"IF(BX$7=$F207,$H207,\"\")","v":""},"",{"$f":"IF(BZ$7=$F207,$H207,\"\")","v":""},"",{"$f":"IF(CB$7=$F207,$H207,\"\")","v":""},"",{"$f":"IF(CD$7=$F207,$H207,\"\")","v":""},"",{"$f":"IF(CF$7=$F207,$H207,\"\")","v":""},"",{"$f":"IF(CH$7=$F207,$H207,\"\")","v":""},"",{"$f":"IF(CJ$7=$F207,$H207,\"\")","v":""},"",{"$f":"IF(CL$7=$F207,$H207,\"\")","v":""},"",{"$f":"IF(CN$7=$F207,$H207,\"\")","v":""},"",{"$f":"IF(CP$7=$F207,$H207,\"\")","v":""},"",{"$f":"IF(CR$7=$F207,$H207,\"\")","v":""},"",{"$f":"IF(CT$7=$F207,$H207,\"\")","v":""},"",{"$f":"IF(CV$7=$F207,$H207,\"\")","v":""},"",{"$f":"IF(CX$7=$F207,$H207,\"\")","v":""},"",{"$f":"IF(CZ$7=$F207,$H207,\"\")","v":""},"",{"$f":"IF(DB$7=$F207,$H207,\"\")","v":""},"",{"$f":"IF(DD$7=$F207,$H207,\"\")","v":""},"",{"$f":"IF(DF$7=$F207,$H207,\"\")","v":""},0,{"$f":"IF(DH$7=$F207,$H207,\"\")","v":0},0,{"$f":"IF(DJ$7=$F207,$H207,\"\")","v":0},0,{"$f":"IF(DL$7=$F207,$H207,\"\")","v":0},0,{"$f":"IF(DN$7=$F207,$H207,\"\")","v":0},0,{"$f":"IF(DP$7=$F207,$H207,\"\")","v":0},0,{"$f":"IF(DR$7=$F207,$H207,\"\")","v":0},0,{"$f":"IF(DT$7=$F207,$H207,\"\")","v":0},0,{"$f":"IF(DV$7=$F207,$H207,\"\")","v":0},0,{"$f":"IF(DX$7=$F207,$H207,\"\")","v":0},0,{"$f":"IF(DZ$7=$F207,$H207,\"\")","v":0},0,{"$f":"IF(EB$7=$F207,$H207,\"\")","v":0},0,{"$f":"IF(ED$7=$F207,$H207,\"\")","v":0},0,{"$f":"IF(EF$7=$F207,$H207,\"\")","v":0},0,{"$f":"IF(EH$7=$F207,$H207,\"\")","v":0},0,{"$f":"IF(EJ$7=$F207,$H207,\"\")","v":0},0,{"$f":"IF(EL$7=$F207,$H207,\"\")","v":0},0,{"$f":"IF(EN$7=$F207,$H207,\"\")","v":0},0,{"$f":"IF(EP$7=$F207,$H207,\"\")","v":0},0,{"$f":"IF(ER$7=$F207,$H207,\"\")","v":0},0,{"$f":"IF(ET$7=$F207,$H207,\"\")","v":0},0,{"$f":"IF(EV$7=$F207,$H207,\"\")","v":0},0,{"$f":"IF(EX$7=$F207,$H207,\"\")","v":0},0,{"$f":"IF(EZ$7=$F207,$H207,\"\")","v":0},0,{"$f":"IF(FB$7=$F207,$H207,\"\")","v":0},0,{"$f":"IF(FD$7=$F207,$H207,\"\")","v":0},0,{"$f":"IF(FF$7=$F207,$H207,\"\")","v":0},0,{"$f":"IF(FH$7=$F207,$H207,\"\")","v":0},0,{"$f":"IF(FJ$7=$F207,$H207,\"\")","v":0},0,{"$f":"IF(FL$7=$F207,$H207,\"\")","v":0},0,0]
[200,null,null,null,null,null,null,null,true,0,0,"","","",{"$f":"IF(N$7=$F208,$H208,\"\")","v":""},"",{"$f":"IF(P$7=$F208,$H208,\"\")","v":""},"",{"$f":"IF(R$7=$F208,$H208,\"\")","v":""},"",{"$f":"IF(T$7=$F208,$H208,\"\")","v":""},"",{"$f":"IF(V$7=$F208,$H208,\"\")","v":""},"",{"$f":"IF(X$7=$F208,$H208,\"\")","v":""},"",{"$f":"IF(Z$7=$F208,$H208,\"\")","v":""},"",{"$f":"IF(AB$7=$F208,$H208,\"\")","v":""},"",{"$f":"IF(AD$7=$F208,$H208,\"\")","v":""},"",{"$f":"IF(AF$7=$F208,$H208,\"\")","v":""},"",{"$f":"IF(AH$7=$F208,$H208,\"\")","v":""},"",{"$f":"IF(AJ$7=$F208,$H208,\"\")","v":""},"",{"$f":"IF(AL$7=$F208,$H208,\"\")","v":""},"",{"$f":"IF(AN$7=$F208,$H208,\"\")","v":""},"",{"$f":"IF(AP$7=$F208,$H208,\"\")","v":""},"",{"$f":"IF(AR$7=$F208,$H208,\"\")","v":""},"",{"$f":"IF(AT$7=$F208,$H208,\"\")","v":""},"",{"$f":"IF(AV$7=$F208,$H208,\"\")","v":""},"",{"$f":"IF(AX$7=$F208,$H208,\"\")","v":""},"",{"$f":"IF(AZ$7=$F208,$H208,\"\")","v":""},"",{"$f":"IF(BB$7=$F208,$H208,\"\")","v":""},"",{"$f":"IF(BD$7=$F208,$H208,\"\")","v":""},"",{"$f":"IF(BF$7=$F208,$H208,\"\")","v":""},"",{"$f":"IF(BH$7=$F208,$H208,\"\")","v":""},"",{"$f":"IF(BJ$7=$F208,$H208,\"\")","v":""},"",{"$f":"IF(BL$7=$F208,$H208,\"\")","v":""},"",{"$f":"IF(BN$7=$F208,$H208,\"\")","v":""},"",{"$f":"IF(BP$7=$F208,$H208,\"\")","v":""},"",{"$f":"IF(BR$7=$F208,$H208,\"\")","v":""},"",{"$f":"IF(BT$7=$F208,$H208,\"\")","v":""},"",{"$f":"IF(BV$7=$F208,$H208,\"\")","v":""},"",{"$f":"IF(BX$7=$F208,$H208,\"\")","v":""},"",{"$f":"IF(BZ$7=$F208,$H208,\"\")","v":""},"",{"$f":"IF(CB$7=$F208,$H208,\"\")","v":""},"",{"$f":"IF(CD$7=$F208,$H208,\"\")","v":""},"",{"$f":"IF(CF$7=$F208,$H208,\"\")","v":""},"",{"$f":"IF(CH$7=$F208,$H208,\"\")","v":""},"",{"$f":"IF(CJ$7=$F208,$H208,\"\")","v":""},"",{"$f":"IF(CL$7=$F208,$H208,\"\")","v":""},"",{"$f":"IF(CN$7=$F208,$H208,\"\")","v":""},"",{"$f":"IF(CP$7=$F208,$H208,\"\")","v":""},"",{"$f":"IF(CR$7=$F208,$H208,\"\")","v":""},"",{"$f":"IF(CT$7=$F208,$H208,\"\")","v":""},"",{"$f":"IF(CV$7=$F208,$H208,\"\")","v":""},"",{"$f":"IF(CX$7=$F208,$H208,\"\")","v":""},"",{"$f":"IF(CZ$7=$F208,$H208,\"\")","v":""},"",{"$f":"IF(DB$7=$F208,$H208,\"\")","v":""},"",{"$f":"IF(DD$7=$F208,$H208,\"\")","v":""},"",{"$f":"IF(DF$7=$F208,$H208,\"\")","v":""},0,{"$f":"IF(DH$7=$F208,$H208,\"\")","v":0},0,{"$f":"IF(DJ$7=$F208,$H208,\"\")","v":0},0,{"$f":"IF(DL$7=$F208,$H208,\"\")","v":0},0,{"$f":"IF(DN$7=$F208,$H208,\"\")","v":0},0,{"$f":"IF(DP$7=$F208,$H208,\"\")","v":0},0,{"$f":"IF(DR$7=$F208,$H208,\"\")","v":0},0,{"$f":"IF(DT$7=$F208,$H208,\"\")","v":0},0,{"$f":"IF(DV$7=$F208,$H208,\"\")","v":0},0,{"$f":"IF(DX$7=$F208,$H208,\"\")","v":0},0,{"$f":"IF(DZ$7=$F208,$H208,\"\")","v":0},0,{"$f":"IF(EB$7=$F208,$H208,\"\")","v":0},0,{"$f":"IF(ED$7=$F208,$H208,\"\")","v":0},0,{"$f":"IF(EF$7=$F208,$H208,\"\")","v":0},0,{"$f":"IF(EH$7=$F208,$H208,\"\")","v":0},0,{"$f":"IF(EJ$7=$F208,$H208,\"\")","v":0},0,{"$f":"IF(EL$7=$F208,$H208,\"\")","v":0},0,{"$f":"IF(EN$7=$F208,$H208,\"\")","v":0},0,{"$f":"IF(EP$7=$F208,$H208,\"\")","v":0},0,{"$f":"IF(ER$7=$F208,$H208,\"\")","v":0},0,{"$f":"IF(ET$7=$F208,$H208,\"\")","v":0},0,{"$f":"IF(EV$7=$F208,$H208,\"\")","v":0},0,{"$f":"IF(EX$7=$F208,$H208,\"\")","v":0},0,{"$f":"IF(EZ$7=$F208,$H208,\"\")","v":0},0,{"$f":"IF(FB$7=$F208,$H208,\"\")","v":0},0,{"$f":"IF(FD$7=$F208,$H208,\"\")","v":0},0,{"$f":"IF(FF$7=$F208,$H208,\"\")","v":0},0,{"$f":"IF(FH$7=$F208,$H208,\"\")","v":0},0,{"$f":"IF(FJ$7=$F208,$H208,\"\")","v":0},0,{"$f":"IF(FL$7=$F208,$H208,\"\")","v":0},0,0]
[201,null,null,null,null,null,null,null,true,0,0,"","","",{"$f":"IF(N$7=$F209,$H209,\"\")","v":""},"",{"$f":"IF(P$7=$F209,$H209,\"\")","v":""},"",{"$f":"IF(R$7=$F209,$H209,\"\")","v":""},"",{"$f":"IF(T$7=$F209,$H209,\"\")","v":""},"",{"$f":"IF(V$7=$F209,$H209,\"\")","v":""},"",{"$f":"IF(X$7=$F209,$H209,\"\")","v":""},"",{"$f":"IF(Z$7=$F209,$H209,\"\")","v":""},"",{"$f":"IF(AB$7=$F209,$H209,\"\")","v":""},"",{"$f":"IF(AD$7=$F209,$H209,\"\")","v":""},"",{"$f":"IF(AF$7=$F209,$H209,\"\")","v":""},"",{"$f":"IF(AH$7=$F209,$H209,\"\")","v":""},"",{"$f":"IF(AJ$7=$F209,$H209,\"\")","v":""},"",{"$f":"IF(AL$7=$F209,$H209,\"\")","v":""},"",{"$f":"IF(AN$7=$F209,$H209,\"\")","v":""},"",{"$f":"IF(AP$7=$F209,$H209,\"\")","v":""},"",{"$f":"IF(AR$7=$F209,$H209,\"\")","v":""},"",{"$f":"IF(AT$7=$F209,$H209,\"\")","v":""},"",{"$f":"IF(AV$7=$F209,$H209,\"\")","v":""},"",{"$f":"IF(AX$7=$F209,$H209,\"\")","v":""},"",{"$f":"IF(AZ$7=$F209,$H209,\"\")","v":""},"",{"$f":"IF(BB$7=$F209,$H209,\"\")","v":""},"",{"$f":"IF(BD$7=$F209,$H209,\"\")","v":""},"",{"$f":"IF(BF$7=$F209,$H209,\"\")","v":""},"",{"$f":"IF(BH$7=$F209,$H209,\"\")","v":""},"",{"$f":"IF(BJ$7=$F209,$H209,\"\")","v":""},"",{"$f":"IF(BL$7=$F209,$H209,\"\")","v":""},"",{"$f":"IF(BN$7=$F209,$H209,\"\")","v":""},"",{"$f":"IF(BP$7=$F209,$H209,\"\")","v":""},"",{"$f":"IF(BR$7=$F209,$H209,\"\")","v":""},"",{"$f":"IF(BT$7=$F209,$H209,\"\")","v":""},"",{"$f":"IF(BV$7=$F209,$H209,\"\")","v":""},"",{"$f":"IF(BX$7=$F209,$H209,\"\")","v":""},"",{"$f":"IF(BZ$7=$F209,$H209,\"\")","v":""},"",{"$f":"IF(CB$7=$F209,$H209,\"\")","v":""},"",{"$f":"IF(CD$7=$F209,$H209,\"\")","v":""},"",{"$f":"IF(CF$7=$F209,$H209,\"\")","v":""},"",{"$f":"IF(CH$7=$F209,$H209,\"\")","v":""},"",{"$f":"IF(CJ$7=$F209,$H209,\"\")","v":""},"",{"$f":"IF(CL$7=$F209,$H209,\"\")","v":""},"",{"$f":"IF(CN$7=$F209,$H209,\"\")","v":""},"",{"$f":"IF(CP$7=$F209,$H209,\"\")","v":""},"",{"$f":"IF(CR$7=$F209,$H209,\"\")","v":""},"",{"$f":"IF(CT$7=$F209,$H209,\"\")","v":""},"",{"$f":"IF(CV$7=$F209,$H209,\"\")","v":""},"",{"$f":"IF(CX$7=$F209,$H209,\"\")","v":""},"",{"$f":"IF(CZ$7=$F209,$H209,\"\")","v":""},"",{"$f":"IF(DB$7=$F209,$H209,\"\")","v":""},"",{"$f":"IF(DD$7=$F209,$H209,\"\")","v":""},"",{"$f":"IF(DF$7=$F209,$H209,\"\")","v":""},0,{"$f":"IF(DH$7=$F209,$H209,\"\")","v":0},0,{"$f":"IF(DJ$7=$F209,$H209,\"\")","v":0},0,{"$f":"IF(DL$7=$F209,$H209,\"\")","v":0},0,{"$f":"IF(DN$7=$F209,$H209,\"\")","v":0},0,{"$f":"IF(DP$7=$F209,$H209,\"\")","v":0},0,{"$f":"IF(DR$7=$F209,$H209,\"\")","v":0},0,{"$f":"IF(DT$7=$F209,$H209,\"\")","v":0},0,{"$f":"IF(DV$7=$F209,$H209,\"\")","v":0},0,{"$f":"IF(DX$7=$F209,$H209,\"\")","v":0},0,{"$f":"IF(DZ$7=$F209,$H209,\"\")","v":0},0,{"$f":"IF(EB$7=$F209,$H209,\"\")","v":0},0,{"$f":"IF(ED$7=$F209,$H209,\"\")","v":0},0,{"$f":"IF(EF$7=$F209,$H209,\"\")","v":0},0,{"$f":"IF(EH$7=$F209,$H209,\"\")","v":0},0,{"$f":"IF(EJ$7=$F209,$H209,\"\")","v":0},0,{"$f":"IF(EL$7=$F209,$H209,\"\")","v":0},0,{"$f":"IF(EN$7=$F209,$H209,\"\")","v":0},0,{"$f":"IF(EP$7=$F209,$H209,\"\")","v":0},0,{"$f":"IF(ER$7=$F209,$H209,\"\")","v":0},0,{"$f":"IF(ET$7=$F209,$H209,\"\")","v":0},0,{"$f":"IF(EV$7=$F209,$H209,\"\")","v":0},0,{"$f":"IF(EX$7=$F209,$H209,\"\")","v":0},0,{"$f":"IF(EZ$7=$F209,$H209,\"\")","v":0},0,{"$f":"IF(FB$7=$F209,$H209,\"\")","v":0},0,{"$f":"IF(FD$7=$F209,$H209,\"\")","v":0},0,{"$f":"IF(FF$7=$F209,$H209,\"\")","v":0},0,{"$f":"IF(FH$7=$F209,$H209,\"\")","v":0},0,{"$f":"IF(FJ$7=$F209,$H209,\"\")","v":0},0,{"$f":"IF(FL$7=$F209,$H209,\"\")","v":0},0,0]
[202,null,null,null,null,null,null,null,true,0,0,"","","",{"$f":"IF(N$7=$F210,$H210,\"\")","v":""},"",{"$f":"IF(P$7=$F210,$H210,\"\")","v":""},"",{"$f":"IF(R$7=$F210,$H210,\"\")","v":""},"",{"$f":"IF(T$7=$F210,$H210,\"\")","v":""},"",{"$f":"IF(V$7=$F210,$H210,\"\")","v":""},"",{"$f":"IF(X$7=$F210,$H210,\"\")","v":""},"",{"$f":"IF(Z$7=$F210,$H210,\"\")","v":""},"",{"$f":"IF(AB$7=$F210,$H210,\"\")","v":""},"",{"$f":"IF(AD$7=$F210,$H210,\"\")","v":""},"",{"$f":"IF(AF$7=$F210,$H210,\"\")","v":""},"",{"$f":"IF(AH$7=$F210,$H210,\"\")","v":""},"",{"$f":"IF(AJ$7=$F210,$H210,\"\")","v":""},"",{"$f":"IF(AL$7=$F210,$H210,\"\")","v":""},"",{"$f":"IF(AN$7=$F210,$H210,\"\")","v":""},"",{"$f":"IF(AP$7=$F210,$H210,\"\")","v":""},"",{"$f":"IF(AR$7=$F210,$H210,\"\")","v":""},"",{"$f":"IF(AT$7=$F210,$H210,\"\")","v":""},"",{"$f":"IF(AV$7=$F210,$H210,\"\")","v":""},"",{"$f":"IF(AX$7=$F210,$H210,\"\")","v":""},"",{"$f":"IF(AZ$7=$F210,$H210,\"\")","v":""},"",{"$f":"IF(BB$7=$F210,$H210,\"\")","v":""},"",{"$f":"IF(BD$7=$F210,$H210,\"\")","v":""},"",{"$f":"IF(BF$7=$F210,$H210,\"\")","v":""},"",{"$f":"IF(BH$7=$F210,$H210,\"\")","v":""},"",{"$f":"IF(BJ$7=$F210,$H210,\"\")","v":""},"",{"$f":"IF(BL$7=$F210,$H210,\"\")","v":""},"",{"$f":"IF(BN$7=$F210,$H210,\"\")","v":""},"",{"$f":"IF(BP$7=$F210,$H210,\"\")","v":""},"",{"$f":"IF(BR$7=$F210,$H210,\"\")","v":""},"",{"$f":"IF(BT$7=$F210,$H210,\"\")","v":""},"",{"$f":"IF(BV$7=$F210,$H210,\"\")","v":""},"",{"$f":"IF(BX$7=$F210,$H210,\"\")","v":""},"",{"$f":"IF(BZ$7=$F210,$H210,\"\")","v":""},"",{"$f":"IF(CB$7=$F210,$H210,\"\")","v":""},"",{"$f":"IF(CD$7=$F210,$H210,\"\")","v":""},"",{"$f":"IF(CF$7=$F210,$H210,\"\")","v":""},"",{"$f":"IF(CH$7=$F210,$H210,\"\")","v":""},"",{"$f":"IF(CJ$7=$F210,$H210,\"\")","v":""},"",{"$f":"IF(CL$7=$F210,$H210,\"\")","v":""},"",{"$f":"IF(CN$7=$F210,$H210,\"\")","v":""},"",{"$f":"IF(CP$7=$F210,$H210,\"\")","v":""},"",{"$f":"IF(CR$7=$F210,$H210,\"\")","v":""},"",{"$f":"IF(CT$7=$F210,$H210,\"\")","v":""},"",{"$f":"IF(CV$7=$F210,$H210,\"\")","v":""},"",{"$f":"IF(CX$7=$F210,$H210,\"\")","v":""},"",{"$f":"IF(CZ$7=$F210,$H210,\"\")","v":""},"",{"$f":"IF(DB$7=$F210,$H210,\"\")","v":""},"",{"$f":"IF(DD$7=$F210,$H210,\"\")","v":""},"",{"$f":"IF(DF$7=$F210,$H210,\"\")","v":""},0,{"$f":"IF(DH$7=$F210,$H210,\"\")","v":0},0,{"$f":"IF(DJ$7=$F210,$H210,\"\")","v":0},0,{"$f":"IF(DL$7=$F210,$H210,\"\")","v":0},0,{"$f":"IF(DN$7=$F210,$H210,\"\")","v":0},0,{"$f":"IF(DP$7=$F210,$H210,\"\")","v":0},0,{"$f":"IF(DR$7=$F210,$H210,\"\")","v":0},0,{"$f":"IF(DT$7=$F210,$H210,\"\")","v":0},0,{"$f":"IF(DV$7=$F210,$H210,\"\")","v":0},0,{"$f":"IF(DX$7=$F210,$H210,\"\")","v":0},0,{"$f":"IF(DZ$7=$F210,$H210,\"\")","v":0},0,{"$f":"IF(EB$7=$F210,$H210,\"\")","v":0},0,{"$f":"IF(ED$7=$F210,$H210,\"\")","v":0},0,{"$f":"IF(EF$7=$F210,$H210,\"\")","v":0},0,{"$f":"IF(EH$7=$F210,$H210,\"\")","v":0},0,{"$f":"IF(EJ$7=$F210,$H210,\"\")","v":0},0,{"$f":"IF(EL$7=$F210,$H210,\"\")","v":0},0,{"$f":"IF(EN$7=$F210,$H210,\"\")","v":0},0,{"$f":"IF(EP$7=$F210,$H210,\"\")","v":0},0,{"$f":"IF(ER$7=$F210,$H210,\"\")","v":0},0,{"$f":"IF(ET$7=$F210,$H210,\"\")","v":0},0,{"$f":"IF(EV$7=$F210,$H210,\"\")","v":0},0,{"$f":"IF(EX$7=$F210,$H210,\"\")","v":0},0,{"$f":"IF(EZ$7=$F210,$H210,\"\")","v":0},0,{"$f":"IF(FB$7=$F210,$H210,\"\")","v":0},0,{"$f":"IF(FD$7=$F210,$H210,\"\")","v":0},0,{"$f":"IF(FF$7=$F210,$H210,\"\")","v":0},0,{"$f":"IF(FH$7=$F210,$H210,\"\")","v":0},0,{"$f":"IF(FJ$7=$F210,$H210,\"\")","v":0},0,{"$f":"IF(FL$7=$F210,$H210,\"\")","v":0},0,0]
[203,null,null,null,null,null,null,null,true,0,0,"","","",{"$f":"IF(N$7=$F211,$H211,\"\")","v":""},"",{"$f":"IF(P$7=$F211,$H211,\"\")","v":""},"",{"$f":"IF(R$7=$F211,$H211,\"\")","v":""},"",{"$f":"IF(T$7=$F211,$H211,\"\")","v":""},"",{"$f":"IF(V$7=$F211,$H211,\"\")","v":""},"",{"$f":"IF(X$7=$F211,$H211,\"\")","v":""},"",{"$f":"IF(Z$7=$F211,$H211,\"\")","v":""},"",{"$f":"IF(AB$7=$F211,$H211,\"\")","v":""},"",{"$f":"IF(AD$7=$F211,$H211,\"\")","v":""},"",{"$f":"IF(AF$7=$F211,$H211,\"\")","v":""},"",{"$f":"IF(AH$7=$F211,$H211,\"\")","v":""},"",{"$f":"IF(AJ$7=$F211,$H211,\"\")","v":""},"",{"$f":"IF(AL$7=$F211,$H211,\"\")","v":""},"",{"$f":"IF(AN$7=$F211,$H211,\"\")","v":""},"",{"$f":"IF(AP$7=$F211,$H211,\"\")","v":""},"",{"$f":"IF(AR$7=$F211,$H211,\"\")","v":""},"",{"$f":"IF(AT$7=$F211,$H211,\"\")","v":""},"",{"$f":"IF(AV$7=$F211,$H211,\"\")","v":""},"",{"$f":"IF(AX$7=$F211,$H211,\"\")","v":""},"",{"$f":"IF(AZ$7=$F211,$H211,\"\")","v":""},"",{"$f":"IF(BB$7=$F211,$H211,\"\")","v":""},"",{"$f":"IF(BD$7=$F211,$H211,\"\")","v":""},"",{"$f":"IF(BF$7=$F211,$H211,\"\")","v":""},"",{"$f":"IF(BH$7=$F211,$H211,\"\")","v":""},"",{"$f":"IF(BJ$7=$F211,$H211,\"\")","v":""},"",{"$f":"IF(BL$7=$F211,$H211,\"\")","v":""},"",{"$f":"IF(BN$7=$F211,$H211,\"\")","v":""},"",{"$f":"IF(BP$7=$F211,$H211,\"\")","v":""},"",{"$f":"IF(BR$7=$F211,$H211,\"\")","v":""},"",{"$f":"IF(BT$7=$F211,$H211,\"\")","v":""},"",{"$f":"IF(BV$7=$F211,$H211,\"\")","v":""},"",{"$f":"IF(BX$7=$F211,$H211,\"\")","v":""},"",{"$f":"IF(BZ$7=$F211,$H211,\"\")","v":""},"",{"$f":"IF(CB$7=$F211,$H211,\"\")","v":""},"",{"$f":"IF(CD$7=$F211,$H211,\"\")","v":""},"",{"$f":"IF(CF$7=$F211,$H211,\"\")","v":""},"",{"$f":"IF(CH$7=$F211,$H211,\"\")","v":""},"",{"$f":"IF(CJ$7=$F211,$H211,\"\")","v":""},"",{"$f":"IF(CL$7=$F211,$H211,\"\")","v":""},"",{"$f":"IF(CN$7=$F211,$H211,\"\")","v":""},"",{"$f":"IF(CP$7=$F211,$H211,\"\")","v":""},"",{"$f":"IF(CR$7=$F211,$H211,\"\")","v":""},"",{"$f":"IF(CT$7=$F211,$H211,\"\")","v":""},"",{"$f":"IF(CV$7=$F211,$H211,\"\")","v":""},"",{"$f":"IF(CX$7=$F211,$H211,\"\")","v":""},"",{"$f":"IF(CZ$7=$F211,$H211,\"\")","v":""},"",{"$f":"IF(DB$7=$F211,$H211,\"\")","v":""},"",{"$f":"IF(DD$7=$F211,$H211,\"\")","v":""},"",{"$f":"IF(DF$7=$F211,$H211,\"\")","v":""},0,{"$f":"IF(DH$7=$F211,$H211,\"\")","v":0},0,{"$f":"IF(DJ$7=$F211,$H211,\"\")","v":0},0,{"$f":"IF(DL$7=$F211,$H211,\"\")","v":0},0,{"$f":"IF(DN$7=$F211,$H211,\"\")","v":0},0,{"$f":"IF(DP$7=$F211,$H211,\"\")","v":0},0,{"$f":"IF(DR$7=$F211,$H211,\"\")","v":0},0,{"$f":"IF(DT$7=$F211,$H211,\"\")","v":0},0,{"$f":"IF(DV$7=$F211,$H211,\"\")","v":0},0,{"$f":"IF(DX$7=$F211,$H211,\"\")","v":0},0,{"$f":"IF(DZ$7=$F211,$H211,\"\")","v":0},0,{"$f":"IF(EB$7=$F211,$H211,\"\")","v":0},0,{"$f":"IF(ED$7=$F211,$H211,\"\")","v":0},0,{"$f":"IF(EF$7=$F211,$H211,\"\")","v":0},0,{"$f":"IF(EH$7=$F211,$H211,\"\")","v":0},0,{"$f":"IF(EJ$7=$F211,$H211,\"\")","v":0},0,{"$f":"IF(EL$7=$F211,$H211,\"\")","v":0},0,{"$f":"IF(EN$7=$F211,$H211,\"\")","v":0},0,{"$f":"IF(EP$7=$F211,$H211,\"\")","v":0},0,{"$f":"IF(ER$7=$F211,$H211,\"\")","v":0},0,{"$f":"IF(ET$7=$F211,$H211,\"\")","v":0},0,{"$f":"IF(EV$7=$F211,$H211,\"\")","v":0},0,{"$f":"IF(EX$7=$F211,$H211,\"\")","v":0},0,{"$f":"IF(EZ$7=$F211,$H211,\"\")","v":0},0,{"$f":"IF(FB$7=$F211,$H211,\"\")","v":0},0,{"$f":"IF(FD$7=$F211,$H211,\"\")","v":0},0,{"$f":"IF(FF$7=$F211,$H211,\"\")","v":0},0,{"$f":"IF(FH$7=$F211,$H211,\"\")","v":0},0,{"$f":"IF(FJ$7=$F211,$H211,\"\")","v":0},0,{"$f":"IF(FL$7=$F211,$H211,\"\")","v":0},0,0]
[204,null,null,null,null,null,null,null,true,0,0,"","","",{"$f":"IF(N$7=$F212,$H212,\"\")","v":""},"",{"$f":"IF(P$7=$F212,$H212,\"\")","v":""},"",{"$f":"IF(R$7=$F212,$H212,\"\")","v":""},"",{"$f":"IF(T$7=$F212,$H212,\"\")","v":""},"",{"$f":"IF(V$7=$F212,$H212,\"\")","v":""},"",{"$f":"IF(X$7=$F212,$H212,\"\")","v":""},"",{"$f":"IF(Z$7=$F212,$H212,\"\")","v":""},"",{"$f":"IF(AB$7=$F212,$H212,\"\")","v":""},"",{"$f":"IF(AD$7=$F212,$H212,\"\")","v":""},"",{"$f":"IF(AF$7=$F212,$H212,\"\")","v":""},"",{"$f":"IF(AH$7=$F212,$H212,\"\")","v":""},"",{"$f":"IF(AJ$7=$F212,$H212,\"\")","v":""},"",{"$f":"IF(AL$7=$F212,$H212,\"\")","v":""},"",{"$f":"IF(AN$7=$F212,$H212,\"\")","v":""},"",{"$f":"IF(AP$7=$F212,$H212,\"\")","v":""},"",{"$f":"IF(AR$7=$F212,$H212,\"\")","v":""},"",{"$f":"IF(AT$7=$F212,$H212,\"\")","v":""},"",{"$f":"IF(AV$7=$F212,$H212,\"\")","v":""},"",{"$f":"IF(AX$7=$F212,$H212,\"\")","v":""},"",{"$f":"IF(AZ$7=$F212,$H212,\"\")","v":""},"",{"$f":"IF(BB$7=$F212,$H212,\"\")","v":""},"",{"$f":"IF(BD$7=$F212,$H212,\"\")","v":""},"",{"$f":"IF(BF$7=$F212,$H212,\"\")","v":""},"",{"$f":"IF(BH$7=$F212,$H212,\"\")","v":""},"",{"$f":"IF(BJ$7=$F212,$H212,\"\")","v":""},"",{"$f":"IF(BL$7=$F212,$H212,\"\")","v":""},"",{"$f":"IF(BN$7=$F212,$H212,\"\")","v":""},"",{"$f":"IF(BP$7=$F212,$H212,\"\")","v":""},"",{"$f":"IF(BR$7=$F212,$H212,\"\")","v":""},"",{"$f":"IF(BT$7=$F212,$H212,\"\")","v":""},"",{"$f":"IF(BV$7=$F212,$H212,\"\")","v":""},"",{"$f":"IF(BX$7=$F212,$H212,\"\")","v":""},"",{"$f":"IF(BZ$7=$F212,$H212,\"\")","v":""},"",{"$f":"IF(CB$7=$F212,$H212,\"\")","v":""},"",{"$f":"IF(CD$7=$F212,$H212,\"\")","v":""},"",{"$f":"IF(CF$7=$F212,$H212,\"\")","v":""},"",{"$f":"IF(CH$7=$F212,$H212,\"\")","v":""},"",{"$f":"IF(CJ$7=$F212,$H212,\"\")","v":""},"",{"$f":"IF(CL$7=$F212,$H212,\"\")","v":""},"",{"$f":"IF(CN$7=$F212,$H212,\"\")","v":""},"",{"$f":"IF(CP$7=$F212,$H212,\"\")","v":""},"",{"$f":"IF(CR$7=$F212,$H212,\"\")","v":""},"",{"$f":"IF(CT$7=$F212,$H212,\"\")","v":""},"",{"$f":"IF(CV$7=$F212,$H212,\"\")","v":""},"",{"$f":"IF(CX$7=$F212,$H212,\"\")","v":""},"",{"$f":"IF(CZ$7=$F212,$H212,\"\")","v":""},"",{"$f":"IF(DB$7=$F212,$H212,\"\")","v":""},"",{"$f":"IF(DD$7=$F212,$H212,\"\")","v":""},"",{"$f":"IF(DF$7=$F212,$H212,\"\")","v":""},0,{"$f":"IF(DH$7=$F212,$H212,\"\")","v":0},0,{"$f":"IF(DJ$7=$F212,$H212,\"\")","v":0},0,{"$f":"IF(DL$7=$F212,$H212,\"\")","v":0},0,{"$f":"IF(DN$7=$F212,$H212,\"\")","v":0},0,{"$f":"IF(DP$7=$F212,$H212,\"\")","v":0},0,{"$f":"IF(DR$7=$F212,$H212,\"\")","v":0},0,{"$f":"IF(DT$7=$F212,$H212,\"\")","v":0},0,{"$f":"IF(DV$7=$F212,$H212,\"\")","v":0},0,{"$f":"IF(DX$7=$F212,$H212,\"\")","v":0},0,{"$f":"IF(DZ$7=$F212,$H212,\"\")","v":0},0,{"$f":"IF(EB$7=$F212,$H212,\"\")","v":0},0,{"$f":"IF(ED$7=$F212,$H212,\"\")","v":0},0,{"$f":"IF(EF$7=$F212,$H212,\"\")","v":0},0,{"$f":"IF(EH$7=$F212,$H212,\"\")","v":0},0,{"$f":"IF(EJ$7=$F212,$H212,\"\")","v":0},0,{"$f":"IF(EL$7=$F212,$H212,\"\")","v":0},0,{"$f":"IF(EN$7=$F212,$H212,\"\")","v":0},0,{"$f":"IF(EP$7=$F212,$H212,\"\")","v":0},0,{"$f":"IF(ER$7=$F212,$H212,\"\")","v":0},0,{"$f":"IF(ET$7=$F212,$H212,\"\")","v":0},0,{"$f":"IF(EV$7=$F212,$H212,\"\")","v":0},0,{"$f":"IF(EX$7=$F212,$H212,\"\")","v":0},0,{"$f":"IF(EZ$7=$F212,$H212,\"\")","v":0},0,{"$f":"IF(FB$7=$F212,$H212,\"\")","v":0},0,{"$f":"IF(FD$7=$F212,$H212,\"\")","v":0},0,{"$f":"IF(FF$7=$F212,$H212,\"\")","v":0},0,{"$f":"IF(FH$7=$F212,$H212,\"\")","v":0},0,{"$f":"IF(FJ$7=$F212,$H212,\"\")","v":0},0,{"$f":"IF(FL$7=$F212,$H212,\"\")","v":0},0,0]
[205,null,null,null,null,null,null,null,true,0,0,"","","",{"$f":"IF(N$7=$F213,$H213,\"\")","v":""},"",{"$f":"IF(P$7=$F213,$H213,\"\")","v":""},"",{"$f":"IF(R$7=$F213,$H213,\"\")","v":""},"",{"$f":"IF(T$7=$F213,$H213,\"\")","v":""},"",{"$f":"IF(V$7=$F213,$H213,\"\")","v":""},"",{"$f":"IF(X$7=$F213,$H213,\"\")","v":""},"",{"$f":"IF(Z$7=$F213,$H213,\"\")","v":""},"",{"$f":"IF(AB$7=$F213,$H213,\"\")","v":""},"",{"$f":"IF(AD$7=$F213,$H213,\"\")","v":""},"",{"$f":"IF(AF$7=$F213,$H213,\"\")","v":""},"",{"$f":"IF(AH$7=$F213,$H213,\"\")","v":""},"",{"$f":"IF(AJ$7=$F213,$H213,\"\")","v":""},"",{"$f":"IF(AL$7=$F213,$H213,\"\")","v":""},"",{"$f":"IF(AN$7=$F213,$H213,\"\")","v":""},"",{"$f":"IF(AP$7=$F213,$H213,\"\")","v":""},"",{"$f":"IF(AR$7=$F213,$H213,\"\")","v":""},"",{"$f":"IF(AT$7=$F213,$H213,\"\")","v":""},"",{"$f":"IF(AV$7=$F213,$H213,\"\")","v":""},"",{"$f":"IF(AX$7=$F213,$H213,\"\")","v":""},"",{"$f":"IF(AZ$7=$F213,$H213,\"\")","v":""},"",{"$f":"IF(BB$7=$F213,$H213,\"\")","v":""},"",{"$f":"IF(BD$7=$F213,$H213,\"\")","v":""},"",{"$f":"IF(BF$7=$F213,$H213,\"\")","v":""},"",{"$f":"IF(BH$7=$F213,$H213,\"\")","v":""},"",{"$f":"IF(BJ$7=$F213,$H213,\"\")","v":""},"",{"$f":"IF(BL$7=$F213,$H213,\"\")","v":""},"",{"$f":"IF(BN$7=$F213,$H213,\"\")","v":""},"",{"$f":"IF(BP$7=$F213,$H213,\"\")","v":""},"",{"$f":"IF(BR$7=$F213,$H213,\"\")","v":""},"",{"$f":"IF(BT$7=$F213,$H213,\"\")","v":""},"",{"$f":"IF(BV$7=$F213,$H213,\"\")","v":""},"",{"$f":"IF(BX$7=$F213,$H213,\"\")","v":""},"",{"$f":"IF(BZ$7=$F213,$H213,\"\")","v":""},"",{"$f":"IF(CB$7=$F213,$H213,\"\")","v":""},"",{"$f":"IF(CD$7=$F213,$H213,\"\")","v":""},"",{"$f":"IF(CF$7=$F213,$H213,\"\")","v":""},"",{"$f":"IF(CH$7=$F213,$H213,\"\")","v":""},"",{"$f":"IF(CJ$7=$F213,$H213,\"\")","v":""},"",{"$f":"IF(CL$7=$F213,$H213,\"\")","v":""},"",{"$f":"IF(CN$7=$F213,$H213,\"\")","v":""},"",{"$f":"IF(CP$7=$F213,$H213,\"\")","v":""},"",{"$f":"IF(CR$7=$F213,$H213,\"\")","v":""},"",{"$f":"IF(CT$7=$F213,$H213,\"\")","v":""},"",{"$f":"IF(CV$7=$F213,$H213,\"\")","v":""},"",{"$f":"IF(CX$7=$F213,$H213,\"\")","v":""},"",{"$f":"IF(CZ$7=$F213,$H213,\"\")","v":""},"",{"$f":"IF(DB$7=$F213,$H213,\"\")","v":""},"",{"$f":"IF(DD$7=$F213,$H213,\"\")","v":""},"",{"$f":"IF(DF$7=$F213,$H213,\"\")","v":""},0,{"$f":"IF(DH$7=$F213,$H213,\"\")","v":0},0,{"$f":"IF(DJ$7=$F213,$H213,\"\")","v":0},0,{"$f":"IF(DL$7=$F213,$H213,\"\")","v":0},0,{"$f":"IF(DN$7=$F213,$H213,\"\")","v":0},0,{"$f":"IF(DP$7=$F213,$H213,\"\")","v":0},0,{"$f":"IF(DR$7=$F213,$H213,\"\")","v":0},0,{"$f":"IF(DT$7=$F213,$H213,\"\")","v":0},0,{"$f":"IF(DV$7=$F213,$H213,\"\")","v":0},0,{"$f":"IF(DX$7=$F213,$H213,\"\")","v":0},0,{"$f":"IF(DZ$7=$F213,$H213,\"\")","v":0},0,{"$f":"IF(EB$7=$F213,$H213,\"\")","v":0},0,{"$f":"IF(ED$7=$F213,$H213,\"\")","v":0},0,{"$f":"IF(EF$7=$F213,$H213,\"\")","v":0},0,{"$f":"IF(EH$7=$F213,$H213,\"\")","v":0},0,{"$f":"IF(EJ$7=$F213,$H213,\"\")","v":0},0,{"$f":"IF(EL$7=$F213,$H213,\"\")","v":0},0,{"$f":"IF(EN$7=$F213,$H213,\"\")","v":0},0,{"$f":"IF(EP$7=$F213,$H213,\"\")","v":0},0,{"$f":"IF(ER$7=$F213,$H213,\"\")","v":0},0,{"$f":"IF(ET$7=$F213,$H213,\"\")","v":0},0,{"$f":"IF(EV$7=$F213,$H213,\"\")","v":0},0,{"$f":"IF(EX$7=$F213,$H213,\"\")","v":0},0,{"$f":"IF(EZ$7=$F213,$H213,\"\")","v":0},0,{"$f":"IF(FB$7=$F213,$H213,\"\")","v":0},0,{"$f":"IF(FD$7=$F213,$H213,\"\")","v":0},0,{"$f":"IF(FF$7=$F213,$H213,\"\")","v":0},0,{"$f":"IF(FH$7=$F213,$H213,\"\")","v":0},0,{"$f":"IF(FJ$7=$F213,$H213,\"\")","v":0},0,{"$f":"IF(FL$7=$F213,$H213,\"\")","v":0},0,0]
[206,null,null,null,null,null,null,null,true,0,0,"","","",{"$f":"IF(N$7=$F214,$H214,\"\")","v":""},"",{"$f":"IF(P$7=$F214,$H214,\"\")","v":""},"",{"$f":"IF(R$7=$F214,$H214,\"\")","v":""},"",{"$f":"IF(T$7=$F214,$H214,\"\")","v":""},"",{"$f":"IF(V$7=$F214,$H214,\"\")","v":""},"",{"$f":"IF(X$7=$F214,$H214,\"\")","v":""},"",{"$f":"IF(Z$7=$F214,$H214,\"\")","v":""},"",{"$f":"IF(AB$7=$F214,$H214,\"\")","v":""},"",{"$f":"IF(AD$7=$F214,$H214,\"\")","v":""},"",{"$f":"IF(AF$7=$F214,$H214,\"\")","v":""},"",{"$f":"IF(AH$7=$F214,$H214,\"\")","v":""},"",{"$f":"IF(AJ$7=$F214,$H214,\"\")","v":""},"",{"$f":"IF(AL$7=$F214,$H214,\"\")","v":""},"",{"$f":"IF(AN$7=$F214,$H214,\"\")","v":""},"",{"$f":"IF(AP$7=$F214,$H214,\"\")","v":""},"",{"$f":"IF(AR$7=$F214,$H214,\"\")","v":""},"",{"$f":"IF(AT$7=$F214,$H214,\"\")","v":""},"",{"$f":"IF(AV$7=$F214,$H214,\"\")","v":""},"",{"$f":"IF(AX$7=$F214,$H214,\"\")","v":""},"",{"$f":"IF(AZ$7=$F214,$H214,\"\")","v":""},"",{"$f":"IF(BB$7=$F214,$H214,\"\")","v":""},"",{"$f":"IF(BD$7=$F214,$H214,\"\")","v":""},"",{"$f":"IF(BF$7=$F214,$H214,\"\")","v":""},"",{"$f":"IF(BH$7=$F214,$H214,\"\")","v":""},"",{"$f":"IF(BJ$7=$F214,$H214,\"\")","v":""},"",{"$f":"IF(BL$7=$F214,$H214,\"\")","v":""},"",{"$f":"IF(BN$7=$F214,$H214,\"\")","v":""},"",{"$f":"IF(BP$7=$F214,$H214,\"\")","v":""},"",{"$f":"IF(BR$7=$F214,$H214,\"\")","v":""},"",{"$f":"IF(BT$7=$F214,$H214,\"\")","v":""},"",{"$f":"IF(BV$7=$F214,$H214,\"\")","v":""},"",{"$f":"IF(BX$7=$F214,$H214,\"\")","v":""},"",{"$f":"IF(BZ$7=$F214,$H214,\"\")","v":""},"",{"$f":"IF(CB$7=$F214,$H214,\"\")","v":""},"",{"$f":"IF(CD$7=$F214,$H214,\"\")","v":""},"",{"$f":"IF(CF$7=$F214,$H214,\"\")","v":""},"",{"$f":"IF(CH$7=$F214,$H214,\"\")","v":""},"",{"$f":"IF(CJ$7=$F214,$H214,\"\")","v":""},"",{"$f":"IF(CL$7=$F214,$H214,\"\")","v":""},"",{"$f":"IF(CN$7=$F214,$H214,\"\")","v":""},"",{"$f":"IF(CP$7=$F214,$H214,\"\")","v":""},"",{"$f":"IF(CR$7=$F214,$H214,\"\")","v":""},"",{"$f":"IF(CT$7=$F214,$H214,\"\")","v":""},"",{"$f":"IF(CV$7=$F214,$H214,\"\")","v":""},"",{"$f":"IF(CX$7=$F214,$H214,\"\")","v":""},"",{"$f":"IF(CZ$7=$F214,$H214,\"\")","v":""},"",{"$f":"IF(DB$7=$F214,$H214,\"\")","v":""},"",{"$f":"IF(DD$7=$F214,$H214,\"\")","v":""},"",{"$f":"IF(DF$7=$F214,$H214,\"\")","v":""},0,{"$f":"IF(DH$7=$F214,$H214,\"\")","v":0},0,{"$f":"IF(DJ$7=$F214,$H214,\"\")","v":0},0,{"$f":"IF(DL$7=$F214,$H214,\"\")","v":0},0,{"$f":"IF(DN$7=$F214,$H214,\"\")","v":0},0,{"$f":"IF(DP$7=$F214,$H214,\"\")","v":0},0,{"$f":"IF(DR$7=$F214,$H214,\"\")","v":0},0,{"$f":"IF(DT$7=$F214,$H214,\"\")","v":0},0,{"$f":"IF(DV$7=$F214,$H214,\"\")","v":0},0,{"$f":"IF(DX$7=$F214,$H214,\"\")","v":0},0,{"$f":"IF(DZ$7=$F214,$H214,\"\")","v":0},0,{"$f":"IF(EB$7=$F214,$H214,\"\")","v":0},0,{"$f":"IF(ED$7=$F214,$H214,\"\")","v":0},0,{"$f":"IF(EF$7=$F214,$H214,\"\")","v":0},0,{"$f":"IF(EH$7=$F214,$H214,\"\")","v":0},0,{"$f":"IF(EJ$7=$F214,$H214,\"\")","v":0},0,{"$f":"IF(EL$7=$F214,$H214,\"\")","v":0},0,{"$f":"IF(EN$7=$F214,$H214,\"\")","v":0},0,{"$f":"IF(EP$7=$F214,$H214,\"\")","v":0},0,{"$f":"IF(ER$7=$F214,$H214,\"\")","v":0},0,{"$f":"IF(ET$7=$F214,$H214,\"\")","v":0},0,{"$f":"IF(EV$7=$F214,$H214,\"\")","v":0},0,{"$f":"IF(EX$7=$F214,$H214,\"\")","v":0},0,{"$f":"IF(EZ$7=$F214,$H214,\"\")","v":0},0,{"$f":"IF(FB$7=$F214,$H214,\"\")","v":0},0,{"$f":"IF(FD$7=$F214,$H214,\"\")","v":0},0,{"$f":"IF(FF$7=$F214,$H214,\"\")","v":0},0,{"$f":"IF(FH$7=$F214,$H214,\"\")","v":0},0,{"$f":"IF(FJ$7=$F214,$H214,\"\")","v":0},0,{"$f":"IF(FL$7=$F214,$H214,\"\")","v":0},0,0]
[207,null,null,null,null,null,null,null,true,0,0,"","","",{"$f":"IF(N$7=$F215,$H215,\"\")","v":""},"",{"$f":"IF(P$7=$F215,$H215,\"\")","v":""},"",{"$f":"IF(R$7=$F215,$H215,\"\")","v":""},"",{"$f":"IF(T$7=$F215,$H215,\"\")","v":""},"",{"$f":"IF(V$7=$F215,$H215,\"\")","v":""},"",{"$f":"IF(X$7=$F215,$H215,\"\")","v":""},"",{"$f":"IF(Z$7=$F215,$H215,\"\")","v":""},"",{"$f":"IF(AB$7=$F215,$H215,\"\")","v":""},"",{"$f":"IF(AD$7=$F215,$H215,\"\")","v":""},"",{"$f":"IF(AF$7=$F215,$H215,\"\")","v":""},"",{"$f":"IF(AH$7=$F215,$H215,\"\")","v":""},"",{"$f":"IF(AJ$7=$F215,$H215,\"\")","v":""},"",{"$f":"IF(AL$7=$F215,$H215,\"\")","v":""},"",{"$f":"IF(AN$7=$F215,$H215,\"\")","v":""},"",{"$f":"IF(AP$7=$F215,$H215,\"\")","v":""},"",{"$f":"IF(AR$7=$F215,$H215,\"\")","v":""},"",{"$f":"IF(AT$7=$F215,$H215,\"\")","v":""},"",{"$f":"IF(AV$7=$F215,$H215,\"\")","v":""},"",{"$f":"IF(AX$7=$F215,$H215,\"\")","v":""},"",{"$f":"IF(AZ$7=$F215,$H215,\"\")","v":""},"",{"$f":"IF(BB$7=$F215,$H215,\"\")","v":""},"",{"$f":"IF(BD$7=$F215,$H215,\"\")","v":""},"",{"$f":"IF(BF$7=$F215,$H215,\"\")","v":""},"",{"$f":"IF(BH$7=$F215,$H215,\"\")","v":""},"",{"$f":"IF(BJ$7=$F215,$H215,\"\")","v":""},"",{"$f":"IF(BL$7=$F215,$H215,\"\")","v":""},"",{"$f":"IF(BN$7=$F215,$H215,\"\")","v":""},"",{"$f":"IF(BP$7=$F215,$H215,\"\")","v":""},"",{"$f":"IF(BR$7=$F215,$H215,\"\")","v":""},"",{"$f":"IF(BT$7=$F215,$H215,\"\")","v":""},"",{"$f":"IF(BV$7=$F215,$H215,\"\")","v":""},"",{"$f":"IF(BX$7=$F215,$H215,\"\")","v":""},"",{"$f":"IF(BZ$7=$F215,$H215,\"\")","v":""},"",{"$f":"IF(CB$7=$F215,$H215,\"\")","v":""},"",{"$f":"IF(CD$7=$F215,$H215,\"\")","v":""},"",{"$f":"IF(CF$7=$F215,$H215,\"\")","v":""},"",{"$f":"IF(CH$7=$F215,$H215,\"\")","v":""},"",{"$f":"IF(CJ$7=$F215,$H215,\"\")","v":""},"",{"$f":"IF(CL$7=$F215,$H215,\"\")","v":""},"",{"$f":"IF(CN$7=$F215,$H215,\"\")","v":""},"",{"$f":"IF(CP$7=$F215,$H215,\"\")","v":""},"",{"$f":"IF(CR$7=$F215,$H215,\"\")","v":""},"",{"$f":"IF(CT$7=$F215,$H215,\"\")","v":""},"",{"$f":"IF(CV$7=$F215,$H215,\"\")","v":""},"",{"$f":"IF(CX$7=$F215,$H215,\"\")","v":""},"",{"$f":"IF(CZ$7=$F215,$H215,\"\")","v":""},"",{"$f":"IF(DB$7=$F215,$H215,\"\")","v":""},"",{"$f":"IF(DD$7=$F215,$H215,\"\")","v":""},"",{"$f":"IF(DF$7=$F215,$H215,\"\")","v":""},0,{"$f":"IF(DH$7=$F215,$H215,\"\")","v":0},0,{"$f":"IF(DJ$7=$F215,$H215,\"\")","v":0},0,{"$f":"IF(DL$7=$F215,$H215,\"\")","v":0},0,{"$f":"IF(DN$7=$F215,$H215,\"\")","v":0},0,{"$f":"IF(DP$7=$F215,$H215,\"\")","v":0},0,{"$f":"IF(DR$7=$F215,$H215,\"\")","v":0},0,{"$f":"IF(DT$7=$F215,$H215,\"\")","v":0},0,{"$f":"IF(DV$7=$F215,$H215,\"\")","v":0},0,{"$f":"IF(DX$7=$F215,$H215,\"\")","v":0},0,{"$f":"IF(DZ$7=$F215,$H215,\"\")","v":0},0,{"$f":"IF(EB$7=$F215,$H215,\"\")","v":0},0,{"$f":"IF(ED$7=$F215,$H215,\"\")","v":0},0,{"$f":"IF(EF$7=$F215,$H215,\"\")","v":0},0,{"$f":"IF(EH$7=$F215,$H215,\"\")","v":0},0,{"$f":"IF(EJ$7=$F215,$H215,\"\")","v":0},0,{"$f":"IF(EL$7=$F215,$H215,\"\")","v":0},0,{"$f":"IF(EN$7=$F215,$H215,\"\")","v":0},0,{"$f":"IF(EP$7=$F215,$H215,\"\")","v":0},0,{"$f":"IF(ER$7=$F215,$H215,\"\")","v":0},0,{"$f":"IF(ET$7=$F215,$H215,\"\")","v":0},0,{"$f":"IF(EV$7=$F215,$H215,\"\")","v":0},0,{"$f":"IF(EX$7=$F215,$H215,\"\")","v":0},0,{"$f":"IF(EZ$7=$F215,$H215,\"\")","v":0},0,{"$f":"IF(FB$7=$F215,$H215,\"\")","v":0},0,{"$f":"IF(FD$7=$F215,$H215,\"\")","v":0},0,{"$f":"IF(FF$7=$F215,$H215,\"\")","v":0},0,{"$f":"IF(FH$7=$F215,$H215,\"\")","v":0},0,{"$f":"IF(FJ$7=$F215,$H215,\"\")","v":0},0,{"$f":"IF(FL$7=$F215,$H215,\"\")","v":0},0,0]
[208,null,null,null,null,null,null,null,true,0,0,"","","",{"$f":"IF(N$7=$F216,$H216,\"\")","v":""},"",{"$f":"IF(P$7=$F216,$H216,\"\")","v":""},"",{"$f":"IF(R$7=$F216,$H216,\"\")","v":""},"",{"$f":"IF(T$7=$F216,$H216,\"\")","v":""},"",{"$f":"IF(V$7=$F216,$H216,\"\")","v":""},"",{"$f":"IF(X$7=$F216,$H216,\"\")","v":""},"",{"$f":"IF(Z$7=$F216,$H216,\"\")","v":""},"",{"$f":"IF(AB$7=$F216,$H216,\"\")","v":""},"",{"$f":"IF(AD$7=$F216,$H216,\"\")","v":""},"",{"$f":"IF(AF$7=$F216,$H216,\"\")","v":""},"",{"$f":"IF(AH$7=$F216,$H216,\"\")","v":""},"",{"$f":"IF(AJ$7=$F216,$H216,\"\")","v":""},"",{"$f":"IF(AL$7=$F216,$H216,\"\")","v":""},"",{"$f":"IF(AN$7=$F216,$H216,\"\")","v":""},"",{"$f":"IF(AP$7=$F216,$H216,\"\")","v":""},"",{"$f":"IF(AR$7=$F216,$H216,\"\")","v":""},"",{"$f":"IF(AT$7=$F216,$H216,\"\")","v":""},"",{"$f":"IF(AV$7=$F216,$H216,\"\")","v":""},"",{"$f":"IF(AX$7=$F216,$H216,\"\")","v":""},"",{"$f":"IF(AZ$7=$F216,$H216,\"\")","v":""},"",{"$f":"IF(BB$7=$F216,$H216,\"\")","v":""},"",{"$f":"IF(BD$7=$F216,$H216,\"\")","v":""},"",{"$f":"IF(BF$7=$F216,$H216,\"\")","v":""},"",{"$f":"IF(BH$7=$F216,$H216,\"\")","v":""},"",{"$f":"IF(BJ$7=$F216,$H216,\"\")","v":""},"",{"$f":"IF(BL$7=$F216,$H216,\"\")","v":""},"",{"$f":"IF(BN$7=$F216,$H216,\"\")","v":""},"",{"$f":"IF(BP$7=$F216,$H216,\"\")","v":""},"",{"$f":"IF(BR$7=$F216,$H216,\"\")","v":""},"",{"$f":"IF(BT$7=$F216,$H216,\"\")","v":""},"",{"$f":"IF(BV$7=$F216,$H216,\"\")","v":""},"",{"$f":"IF(BX$7=$F216,$H216,\"\")","v":""},"",{"$f":"IF(BZ$7=$F216,$H216,\"\")","v":""},"",{"$f":"IF(CB$7=$F216,$H216,\"\")","v":""},"",{"$f":"IF(CD$7=$F216,$H216,\"\")","v":""},"",{"$f":"IF(CF$7=$F216,$H216,\"\")","v":""},"",{"$f":"IF(CH$7=$F216,$H216,\"\")","v":""},"",{"$f":"IF(CJ$7=$F216,$H216,\"\")","v":""},"",{"$f":"IF(CL$7=$F216,$H216,\"\")","v":""},"",{"$f":"IF(CN$7=$F216,$H216,\"\")","v":""},"",{"$f":"IF(CP$7=$F216,$H216,\"\")","v":""},"",{"$f":"IF(CR$7=$F216,$H216,\"\")","v":""},"",{"$f":"IF(CT$7=$F216,$H216,\"\")","v":""},"",{"$f":"IF(CV$7=$F216,$H216,\"\")","v":""},"",{"$f":"IF(CX$7=$F216,$H216,\"\")","v":""},"",{"$f":"IF(CZ$7=$F216,$H216,\"\")","v":""},"",{"$f":"IF(DB$7=$F216,$H216,\"\")","v":""},"",{"$f":"IF(DD$7=$F216,$H216,\"\")","v":""},"",{"$f":"IF(DF$7=$F216,$H216,\"\")","v":""},0,{"$f":"IF(DH$7=$F216,$H216,\"\")","v":0},0,{"$f":"IF(DJ$7=$F216,$H216,\"\")","v":0},0,{"$f":"IF(DL$7=$F216,$H216,\"\")","v":0},0,{"$f":"IF(DN$7=$F216,$H216,\"\")","v":0},0,{"$f":"IF(DP$7=$F216,$H216,\"\")","v":0},0,{"$f":"IF(DR$7=$F216,$H216,\"\")","v":0},0,{"$f":"IF(DT$7=$F216,$H216,\"\")","v":0},0,{"$f":"IF(DV$7=$F216,$H216,\"\")","v":0},0,{"$f":"IF(DX$7=$F216,$H216,\"\")","v":0},0,{"$f":"IF(DZ$7=$F216,$H216,\"\")","v":0},0,{"$f":"IF(EB$7=$F216,$H216,\"\")","v":0},0,{"$f":"IF(ED$7=$F216,$H216,\"\")","v":0},0,{"$f":"IF(EF$7=$F216,$H216,\"\")","v":0},0,{"$f":"IF(EH$7=$F216,$H216,\"\")","v":0},0,{"$f":"IF(EJ$7=$F216,$H216,\"\")","v":0},0,{"$f":"IF(EL$7=$F216,$H216,\"\")","v":0},0,{"$f":"IF(EN$7=$F216,$H216,\"\")","v":0},0,{"$f":"IF(EP$7=$F216,$H216,\"\")","v":0},0,{"$f":"IF(ER$7=$F216,$H216,\"\")","v":0},0,{"$f":"IF(ET$7=$F216,$H216,\"\")","v":0},0,{"$f":"IF(EV$7=$F216,$H216,\"\")","v":0},0,{"$f":"IF(EX$7=$F216,$H216,\"\")","v":0},0,{"$f":"IF(EZ$7=$F216,$H216,\"\")","v":0},0,{"$f":"IF(FB$7=$F216,$H216,\"\")","v":0},0,{"$f":"IF(FD$7=$F216,$H216,\"\")","v":0},0,{"$f":"IF(FF$7=$F216,$H216,\"\")","v":0},0,{"$f":"IF(FH$7=$F216,$H216,\"\")","v":0},0,{"$f":"IF(FJ$7=$F216,$H216,\"\")","v":0},0,{"$f":"IF(FL$7=$F216,$H216,\"\")","v":0},0,0]
[209,null,null,null,null,null,null,null,true,0,0,"","",{"$f":"IF(N$7=$E217,$G217,\"\")","v":""},{"$f":"IF(N$7=$F217,$H217,\"\")","v":""},{"$f":"IF(P$7=$E217,$G217,\"\")","v":""},{"$f":"IF(P$7=$F217,$H217,\"\")","v":""},{"$f":"IF(R$7=$E217,$G217,\"\")","v":""},{"$f":"IF(R$7=$F217,$H217,\"\")","v":""},{"$f":"IF(T$7=$E217,$G217,\"\")","v":""},{"$f":"IF(T$7=$F217,$H217,\"\")","v":""},{"$f":"IF(V$7=$E217,$G217,\"\")","v":""},{"$f":"IF(V$7=$F217,$H217,\"\")","v":""},{"$f":"IF(X$7=$E217,$G217,\"\")","v":""},{"$f":"IF(X$7=$F217,$H217,\"\")","v":""},{"$f":"IF(Z$7=$E217,$G217,\"\")","v":""},{"$f":"IF(Z$7=$F217,$H217,\"\")","v":""},{"$f":"IF(AB$7=$E217,$G217,\"\")","v":""},{"$f":"IF(AB$7=$F217,$H217,\"\")","v":""},{"$f":"IF(AD$7=$E217,$G217,\"\")","v":""},{"$f":"IF(AD$7=$F217,$H217,\"\")","v":""},{"$f":"IF(AF$7=$E217,$G217,\"\")","v":""},{"$f":"IF(AF$7=$F217,$H217,\"\")","v":""},{"$f":"IF(AH$7=$E217,$G217,\"\")","v":""},{"$f":"IF(AH$7=$F217,$H217,\"\")","v":""},{"$f":"IF(AJ$7=$E217,$G217,\"\")","v":""},{"$f":"IF(AJ$7=$F217,$H217,\"\")","v":""},{"$f":"IF(AL$7=$E217,$G217,\"\")","v":""},{"$f":"IF(AL$7=$F217,$H217,\"\")","v":""},{"$f":"IF(AN$7=$E217,$G217,\"\")","v":""},{"$f":"IF(AN$7=$F217,$H217,\"\")","v":""},{"$f":"IF(AP$7=$E217,$G217,\"\")","v":""},{"$f":"IF(AP$7=$F217,$H217,\"\")","v":""},{"$f":"IF(AR$7=$E217,$G217,\"\")","v":""},{"$f":"IF(AR$7=$F217,$H217,\"\")","v":""},{"$f":"IF(AT$7=$E217,$G217,\"\")","v":""},{"$f":"IF(AT$7=$F217,$H217,\"\")","v":""},{"$f":"IF(AV$7=$E217,$G217,\"\")","v":""},{"$f":"IF(AV$7=$F217,$H217,\"\")","v":""},{"$f":"IF(AX$7=$E217,$G217,\"\")","v":""},{"$f":"IF(AX$7=$F217,$H217,\"\")","v":""},{"$f":"IF(AZ$7=$E217,$G217,\"\")","v":""},{"$f":"IF(AZ$7=$F217,$H217,\"\")","v":""},{"$f":"IF(BB$7=$E217,$G217,\"\")","v":""},{"$f":"IF(BB$7=$F217,$H217,\"\")","v":""},{"$f":"IF(BD$7=$E217,$G217,\"\")","v":""},{"$f":"IF(BD$7=$F217,$H217,\"\")","v":""},{"$f":"IF(BF$7=$E217,$G217,\"\")","v":""},{"$f":"IF(BF$7=$F217,$H217,\"\")","v":""},{"$f":"IF(BH$7=$E217,$G217,\"\")","v":""},{"$f":"IF(BH$7=$F217,$H217,\"\")","v":""},{"$f":"IF(BJ$7=$E217,$G217,\"\")","v":""},{"$f":"IF(BJ$7=$F217,$H217,\"\")","v":""},{"$f":"IF(BL$7=$E217,$G217,\"\")","v":""},{"$f":"IF(BL$7=$F217,$H217,\"\")","v":""},{"$f":"IF(BN$7=$E217,$G217,\"\")","v":""},{"$f":"IF(BN$7=$F217,$H217,\"\")","v":""},{"$f":"IF(BP$7=$E217,$G217,\"\")","v":""},{"$f":"IF(BP$7=$F217,$H217,\"\")","v":""},{"$f":"IF(BR$7=$E217,$G217,\"\")","v":""},{"$f":"IF(BR$7=$F217,$H217,\"\")","v":""},{"$f":"IF(BT$7=$E217,$G217,\"\")","v":""},{"$f":"IF(BT$7=$F217,$H217,\"\")","v":""},{"$f":"IF(BV$7=$E217,$G217,\"\")","v":""},{"$f":"IF(BV$7=$F217,$H217,\"\")","v":""},{"$f":"IF(BX$7=$E217,$G217,\"\")","v":""},{"$f":"IF(BX$7=$F217,$H217,\"\")","v":""},{"$f":"IF(BZ$7=$E217,$G217,\"\")","v":""},{"$f":"IF(BZ$7=$F217,$H217,\"\")","v":""},{"$f":"IF(CB$7=$E217,$G217,\"\")","v":""},{"$f":"IF(CB$7=$F217,$H217,\"\")","v":""},{"$f":"IF(CD$7=$E217,$G217,\"\")","v":""},{"$f":"IF(CD$7=$F217,$H217,\"\")","v":""},{"$f":"IF(CF$7=$E217,$G217,\"\")","v":""},{"$f":"IF(CF$7=$F217,$H217,\"\")","v":""},{"$f":"IF(CH$7=$E217,$G217,\"\")","v":""},{"$f":"IF(CH$7=$F217,$H217,\"\")","v":""},{"$f":"IF(CJ$7=$E217,$G217,\"\")","v":""},{"$f":"IF(CJ$7=$F217,$H217,\"\")","v":""},{"$f":"IF(CL$7=$E217,$G217,\"\")","v":""},{"$f":"IF(CL$7=$F217,$H217,\"\")","v":""},{"$f":"IF(CN$7=$E217,$G217,\"\")","v":""},{"$f":"IF(CN$7=$F217,$H217,\"\")","v":""},{"$f":"IF(CP$7=$E217,$G217,\"\")","v":""},{"$f":"IF(CP$7=$F217,$H217,\"\")","v":""},{"$f":"IF(CR$7=$E217,$G217,\"\")","v":""},{"$f":"IF(CR$7=$F217,$H217,\"\")","v":""},{"$f":"IF(CT$7=$E217,$G217,\"\")","v":""},{"$f":"IF(CT$7=$F217,$H217,\"\")","v":""},{"$f":"IF(CV$7=$E217,$G217,\"\")","v":""},{"$f":"IF(CV$7=$F217,$H217,\"\")","v":""},{"$f":"IF(CX$7=$E217,$G217,\"\")","v":""},{"$f":"IF(CX$7=$F217,$H217,\"\")","v":""},{"$f":"IF(CZ$7=$E217,$G217,\"\")","v":""},{"$f":"IF(CZ$7=$F217,$H217,\"\")","v":""},{"$f":"IF(DB$7=$E217,$G217,\"\")","v":""},{"$f":"IF(DB$7=$F217,$H217,\"\")","v":""},{"$f":"IF(DD$7=$E217,$G217,\"\")","v":""},{"$f":"IF(DD$7=$F217,$H217,\"\")","v":""},{"$f":"IF(DF$7=$E217,$G217,\"\")","v":""},{"$f":"IF(DF$7=$F217,$H217,\"\")","v":""},{"$f":"IF(DH$7=$E217,$G217,\"\")","v":0},{"$f":"IF(DH$7=$F217,$H217,\"\")","v":0},{"$f":"IF(DJ$7=$E217,$G217,\"\")","v":0},{"$f":"IF(DJ$7=$F217,$H217,\"\")","v":0},{"$f":"IF(DL$7=$E217,$G217,\"\")","v":0},{"$f":"IF(DL$7=$F217,$H217,\"\")","v":0},{"$f":"IF(DN$7=$E217,$G217,\"\")","v":0},{"$f":"IF(DN$7=$F217,$H217,\"\")","v":0},{"$f":"IF(DP$7=$E217,$G217,\"\")","v":0},{"$f":"IF(DP$7=$F217,$H217,\"\")","v":0},{"$f":"IF(DR$7=$E217,$G217,\"\")","v":0},{"$f":"IF(DR$7=$F217,$H217,\"\")","v":0},{"$f":"IF(DT$7=$E217,$G217,\"\")","v":0},{"$f":"IF(DT$7=$F217,$H217,\"\")","v":0},{"$f":"IF(DV$7=$E217,$G217,\"\")","v":0},{"$f":"IF(DV$7=$F217,$H217,\"\")","v":0},{"$f":"IF(DX$7=$E217,$G217,\"\")","v":0},{"$f":"IF(DX$7=$F217,$H217,\"\")","v":0},{"$f":"IF(DZ$7=$E217,$G217,\"\")","v":0},{"$f":"IF(DZ$7=$F217,$H217,\"\")","v":0},{"$f":"IF(EB$7=$E217,$G217,\"\")","v":0},{"$f":"IF(EB$7=$F217,$H217,\"\")","v":0},{"$f":"IF(ED$7=$E217,$G217,\"\")","v":0},{"$f":"IF(ED$7=$F217,$H217,\"\")","v":0},{"$f":"IF(EF$7=$E217,$G217,\"\")","v":0},{"$f":"IF(EF$7=$F217,$H217,\"\")","v":0},{"$f":"IF(EH$7=$E217,$G217,\"\")","v":0},{"$f":"IF(EH$7=$F217,$H217,\"\")","v":0},{"$f":"IF(EJ$7=$E217,$G217,\"\")","v":0},{"$f":"IF(EJ$7=$F217,$H217,\"\")","v":0},{"$f":"IF(EL$7=$E217,$G217,\"\")","v":0},{"$f":"IF(EL$7=$F217,$H217,\"\")","v":0},{"$f":"IF(EN$7=$E217,$G217,\"\")","v":0},{"$f":"IF(EN$7=$F217,$H217,\"\")","v":0},{"$f":"IF(EP$7=$E217,$G217,\"\")","v":0},{"$f":"IF(EP$7=$F217,$H217,\"\")","v":0},{"$f":"IF(ER$7=$E217,$G217,\"\")","v":0},{"$f":"IF(ER$7=$F217,$H217,\"\")","v":0},{"$f":"IF(ET$7=$E217,$G217,\"\")","v":0},{"$f":"IF(ET$7=$F217,$H217,\"\")","v":0},{"$f":"IF(EV$7=$E217,$G217,\"\")","v":0},{"$f":"IF(EV$7=$F217,$H217,\"\")","v":0},{"$f":"IF(EX$7=$E217,$G217,\"\")","v":0},{"$f":"IF(EX$7=$F217,$H217,\"\")","v":0},{"$f":"IF(EZ$7=$E217,$G217,\"\")","v":0},{"$f":"IF(EZ$7=$F217,$H217,\"\")","v":0},{"$f":"IF(FB$7=$E217,$G217,\"\")","v":0},{"$f":"IF(FB$7=$F217,$H217,\"\")","v":0},{"$f":"IF(FD$7=$E217,$G217,\"\")","v":0},{"$f":"IF(FD$7=$F217,$H217,\"\")","v":0},{"$f":"IF(FF$7=$E217,$G217,\"\")","v":0},{"$f":"IF(FF$7=$F217,$H217,\"\")","v":0},{"$f":"IF(FH$7=$E217,$G217,\"\")","v":0},{"$f":"IF(FH$7=$F217,$H217,\"\")","v":0},{"$f":"IF(FJ$7=$E217,$G217,\"\")","v":0},{"$f":"IF(FJ$7=$F217,$H217,\"\")","v":0},{"$f":"IF(FL$7=$E217,$G217,\"\")","v":0},{"$f":"IF(FL$7=$F217,$H217,\"\")","v":0},{"$f":"IF(FN$7=$E217,$G217,\"\")","v":0},0]
[210,null,null,null,null,null,null,null,true,0,0,"","","",{"$f":"IF(N$7=$F218,$H218,\"\")","v":""},"",{"$f":"IF(P$7=$F218,$H218,\"\")","v":""},"",{"$f":"IF(R$7=$F218,$H218,\"\")","v":""},"",{"$f":"IF(T$7=$F218,$H218,\"\")","v":""},"",{"$f":"IF(V$7=$F218,$H218,\"\")","v":""},"",{"$f":"IF(X$7=$F218,$H218,\"\")","v":""},"",{"$f":"IF(Z$7=$F218,$H218,\"\")","v":""},"",{"$f":"IF(AB$7=$F218,$H218,\"\")","v":""},"",{"$f":"IF(AD$7=$F218,$H218,\"\")","v":""},"",{"$f":"IF(AF$7=$F218,$H218,\"\")","v":""},"",{"$f":"IF(AH$7=$F218,$H218,\"\")","v":""},"",{"$f":"IF(AJ$7=$F218,$H218,\"\")","v":""},"",{"$f":"IF(AL$7=$F218,$H218,\"\")","v":""},"",{"$f":"IF(AN$7=$F218,$H218,\"\")","v":""},"",{"$f":"IF(AP$7=$F218,$H218,\"\")","v":""},"",{"$f":"IF(AR$7=$F218,$H218,\"\")","v":""},"",{"$f":"IF(AT$7=$F218,$H218,\"\")","v":""},"",{"$f":"IF(AV$7=$F218,$H218,\"\")","v":""},"",{"$f":"IF(AX$7=$F218,$H218,\"\")","v":""},"",{"$f":"IF(AZ$7=$F218,$H218,\"\")","v":""},"",{"$f":"IF(BB$7=$F218,$H218,\"\")","v":""},"",{"$f":"IF(BD$7=$F218,$H218,\"\")","v":""},"",{"$f":"IF(BF$7=$F218,$H218,\"\")","v":""},"",{"$f":"IF(BH$7=$F218,$H218,\"\")","v":""},"",{"$f":"IF(BJ$7=$F218,$H218,\"\")","v":""},"",{"$f":"IF(BL$7=$F218,$H218,\"\")","v":""},"",{"$f":"IF(BN$7=$F218,$H218,\"\")","v":""},"",{"$f":"IF(BP$7=$F218,$H218,\"\")","v":""},"",{"$f":"IF(BR$7=$F218,$H218,\"\")","v":""},"",{"$f":"IF(BT$7=$F218,$H218,\"\")","v":""},"",{"$f":"IF(BV$7=$F218,$H218,\"\")","v":""},"",{"$f":"IF(BX$7=$F218,$H218,\"\")","v":""},"",{"$f":"IF(BZ$7=$F218,$H218,\"\")","v":""},"",{"$f":"IF(CB$7=$F218,$H218,\"\")","v":""},"",{"$f":"IF(CD$7=$F218,$H218,\"\")","v":""},"",{"$f":"IF(CF$7=$F218,$H218,\"\")","v":""},"",{"$f":"IF(CH$7=$F218,$H218,\"\")","v":""},"",{"$f":"IF(CJ$7=$F218,$H218,\"\")","v":""},"",{"$f":"IF(CL$7=$F218,$H218,\"\")","v":""},"",{"$f":"IF(CN$7=$F218,$H218,\"\")","v":""},"",{"$f":"IF(CP$7=$F218,$H218,\"\")","v":""},"",{"$f":"IF(CR$7=$F218,$H218,\"\")","v":""},"",{"$f":"IF(CT$7=$F218,$H218,\"\")","v":""},"",{"$f":"IF(CV$7=$F218,$H218,\"\")","v":""},"",{"$f":"IF(CX$7=$F218,$H218,\"\")","v":""},"",{"$f":"IF(CZ$7=$F218,$H218,\"\")","v":""},"",{"$f":"IF(DB$7=$F218,$H218,\"\")","v":""},"",{"$f":"IF(DD$7=$F218,$H218,\"\")","v":""},"",{"$f":"IF(DF$7=$F218,$H218,\"\")","v":""},0,{"$f":"IF(DH$7=$F218,$H218,\"\")","v":0},0,{"$f":"IF(DJ$7=$F218,$H218,\"\")","v":0},0,{"$f":"IF(DL$7=$F218,$H218,\"\")","v":0},0,{"$f":"IF(DN$7=$F218,$H218,\"\")","v":0},0,{"$f":"IF(DP$7=$F218,$H218,\"\")","v":0},0,{"$f":"IF(DR$7=$F218,$H218,\"\")","v":0},0,{"$f":"IF(DT$7=$F218,$H218,\"\")","v":0},0,{"$f":"IF(DV$7=$F218,$H218,\"\")","v":0},0,{"$f":"IF(DX$7=$F218,$H218,\"\")","v":0},0,{"$f":"IF(DZ$7=$F218,$H218,\"\")","v":0},0,{"$f":"IF(EB$7=$F218,$H218,\"\")","v":0},0,{"$f":"IF(ED$7=$F218,$H218,\"\")","v":0},0,{"$f":"IF(EF$7=$F218,$H218,\"\")","v":0},0,{"$f":"IF(EH$7=$F218,$H218,\"\")","v":0},0,{"$f":"IF(EJ$7=$F218,$H218,\"\")","v":0},0,{"$f":"IF(EL$7=$F218,$H218,\"\")","v":0},0,{"$f":"IF(EN$7=$F218,$H218,\"\")","v":0},0,{"$f":"IF(EP$7=$F218,$H218,\"\")","v":0},0,{"$f":"IF(ER$7=$F218,$H218,\"\")","v":0},0,{"$f":"IF(ET$7=$F218,$H218,\"\")","v":0},0,{"$f":"IF(EV$7=$F218,$H218,\"\")","v":0},0,{"$f":"IF(EX$7=$F218,$H218,\"\")","v":0},0,{"$f":"IF(EZ$7=$F218,$H218,\"\")","v":0},0,{"$f":"IF(FB$7=$F218,$H218,\"\")","v":0},0,{"$f":"IF(FD$7=$F218,$H218,\"\")","v":0},0,{"$f":"IF(FF$7=$F218,$H218,\"\")","v":0},0,{"$f":"IF(FH$7=$F218,$H218,\"\")","v":0},0,{"$f":"IF(FJ$7=$F218,$H218,\"\")","v":0},0,{"$f":"IF(FL$7=$F218,$H218,\"\")","v":0},0,0]
[211,null,null,null,null,null,null,null,true,0,0,"","","",{"$f":"IF(N$7=$F219,$H219,\"\")","v":""},"",{"$f":"IF(P$7=$F219,$H219,\"\")","v":""},"",{"$f":"IF(R$7=$F219,$H219,\"\")","v":""},"",{"$f":"IF(T$7=$F219,$H219,\"\")","v":""},"",{"$f":"IF(V$7=$F219,$H219,\"\")","v":""},"",{"$f":"IF(X$7=$F219,$H219,\"\")","v":""},"",{"$f":"IF(Z$7=$F219,$H219,\"\")","v":""},"",{"$f":"IF(AB$7=$F219,$H219,\"\")","v":""},"",{"$f":"IF(AD$7=$F219,$H219,\"\")","v":""},"",{"$f":"IF(AF$7=$F219,$H219,\"\")","v":""},"",{"$f":"IF(AH$7=$F219,$H219,\"\")","v":""},"",{"$f":"IF(AJ$7=$F219,$H219,\"\")","v":""},"",{"$f":"IF(AL$7=$F219,$H219,\"\")","v":""},"",{"$f":"IF(AN$7=$F219,$H219,\"\")","v":""},"",{"$f":"IF(AP$7=$F219,$H219,\"\")","v":""},"",{"$f":"IF(AR$7=$F219,$H219,\"\")","v":""},"",{"$f":"IF(AT$7=$F219,$H219,\"\")","v":""},"",{"$f":"IF(AV$7=$F219,$H219,\"\")","v":""},"",{"$f":"IF(AX$7=$F219,$H219,\"\")","v":""},"",{"$f":"IF(AZ$7=$F219,$H219,\"\")","v":""},"",{"$f":"IF(BB$7=$F219,$H219,\"\")","v":""},"",{"$f":"IF(BD$7=$F219,$H219,\"\")","v":""},"",{"$f":"IF(BF$7=$F219,$H219,\"\")","v":""},"",{"$f":"IF(BH$7=$F219,$H219,\"\")","v":""},"",{"$f":"IF(BJ$7=$F219,$H219,\"\")","v":""},"",{"$f":"IF(BL$7=$F219,$H219,\"\")","v":""},"",{"$f":"IF(BN$7=$F219,$H219,\"\")","v":""},"",{"$f":"IF(BP$7=$F219,$H219,\"\")","v":""},"",{"$f":"IF(BR$7=$F219,$H219,\"\")","v":""},"",{"$f":"IF(BT$7=$F219,$H219,\"\")","v":""},"",{"$f":"IF(BV$7=$F219,$H219,\"\")","v":""},"",{"$f":"IF(BX$7=$F219,$H219,\"\")","v":""},"",{"$f":"IF(BZ$7=$F219,$H219,\"\")","v":""},"",{"$f":"IF(CB$7=$F219,$H219,\"\")","v":""},"",{"$f":"IF(CD$7=$F219,$H219,\"\")","v":""},"",{"$f":"IF(CF$7=$F219,$H219,\"\")","v":""},"",{"$f":"IF(CH$7=$F219,$H219,\"\")","v":""},"",{"$f":"IF(CJ$7=$F219,$H219,\"\")","v":""},"",{"$f":"IF(CL$7=$F219,$H219,\"\")","v":""},"",{"$f":"IF(CN$7=$F219,$H219,\"\")","v":""},"",{"$f":"IF(CP$7=$F219,$H219,\"\")","v":""},"",{"$f":"IF(CR$7=$F219,$H219,\"\")","v":""},"",{"$f":"IF(CT$7=$F219,$H219,\"\")","v":""},"",{"$f":"IF(CV$7=$F219,$H219,\"\")","v":""},"",{"$f":"IF(CX$7=$F219,$H219,\"\")","v":""},"",{"$f":"IF(CZ$7=$F219,$H219,\"\")","v":""},"",{"$f":"IF(DB$7=$F219,$H219,\"\")","v":""},"",{"$f":"IF(DD$7=$F219,$H219,\"\")","v":""},"",{"$f":"IF(DF$7=$F219,$H219,\"\")","v":""},0,{"$f":"IF(DH$7=$F219,$H219,\"\")","v":0},0,{"$f":"IF(DJ$7=$F219,$H219,\"\")","v":0},0,{"$f":"IF(DL$7=$F219,$H219,\"\")","v":0},0,{"$f":"IF(DN$7=$F219,$H219,\"\")","v":0},0,{"$f":"IF(DP$7=$F219,$H219,\"\")","v":0},0,{"$f":"IF(DR$7=$F219,$H219,\"\")","v":0},0,{"$f":"IF(DT$7=$F219,$H219,\"\")","v":0},0,{"$f":"IF(DV$7=$F219,$H219,\"\")","v":0},0,{"$f":"IF(DX$7=$F219,$H219,\"\")","v":0},0,{"$f":"IF(DZ$7=$F219,$H219,\"\")","v":0},0,{"$f":"IF(EB$7=$F219,$H219,\"\")","v":0},0,{"$f":"IF(ED$7=$F219,$H219,\"\")","v":0},0,{"$f":"IF(EF$7=$F219,$H219,\"\")","v":0},0,{"$f":"IF(EH$7=$F219,$H219,\"\")","v":0},0,{"$f":"IF(EJ$7=$F219,$H219,\"\")","v":0},0,{"$f":"IF(EL$7=$F219,$H219,\"\")","v":0},0,{"$f":"IF(EN$7=$F219,$H219,\"\")","v":0},0,{"$f":"IF(EP$7=$F219,$H219,\"\")","v":0},0,{"$f":"IF(ER$7=$F219,$H219,\"\")","v":0},0,{"$f":"IF(ET$7=$F219,$H219,\"\")","v":0},0,{"$f":"IF(EV$7=$F219,$H219,\"\")","v":0},0,{"$f":"IF(EX$7=$F219,$H219,\"\")","v":0},0,{"$f":"IF(EZ$7=$F219,$H219,\"\")","v":0},0,{"$f":"IF(FB$7=$F219,$H219,\"\")","v":0},0,{"$f":"IF(FD$7=$F219,$H219,\"\")","v":0},0,{"$f":"IF(FF$7=$F219,$H219,\"\")","v":0},0,{"$f":"IF(FH$7=$F219,$H219,\"\")","v":0},0,{"$f":"IF(FJ$7=$F219,$H219,\"\")","v":0},0,{"$f":"IF(FL$7=$F219,$H219,\"\")","v":0},0,0]
[212,null,null,null,null,null,null,null,true,0,0,"","","",{"$f":"IF(N$7=$F220,$H220,\"\")","v":""},"",{"$f":"IF(P$7=$F220,$H220,\"\")","v":""},"",{"$f":"IF(R$7=$F220,$H220,\"\")","v":""},"",{"$f":"IF(T$7=$F220,$H220,\"\")","v":""},"",{"$f":"IF(V$7=$F220,$H220,\"\")","v":""},"",{"$f":"IF(X$7=$F220,$H220,\"\")","v":""},"",{"$f":"IF(Z$7=$F220,$H220,\"\")","v":""},"",{"$f":"IF(AB$7=$F220,$H220,\"\")","v":""},"",{"$f":"IF(AD$7=$F220,$H220,\"\")","v":""},"",{"$f":"IF(AF$7=$F220,$H220,\"\")","v":""},"",{"$f":"IF(AH$7=$F220,$H220,\"\")","v":""},"",{"$f":"IF(AJ$7=$F220,$H220,\"\")","v":""},"",{"$f":"IF(AL$7=$F220,$H220,\"\")","v":""},"",{"$f":"IF(AN$7=$F220,$H220,\"\")","v":""},"",{"$f":"IF(AP$7=$F220,$H220,\"\")","v":""},"",{"$f":"IF(AR$7=$F220,$H220,\"\")","v":""},"",{"$f":"IF(AT$7=$F220,$H220,\"\")","v":""},"",{"$f":"IF(AV$7=$F220,$H220,\"\")","v":""},"",{"$f":"IF(AX$7=$F220,$H220,\"\")","v":""},"",{"$f":"IF(AZ$7=$F220,$H220,\"\")","v":""},"",{"$f":"IF(BB$7=$F220,$H220,\"\")","v":""},"",{"$f":"IF(BD$7=$F220,$H220,\"\")","v":""},"",{"$f":"IF(BF$7=$F220,$H220,\"\")","v":""},"",{"$f":"IF(BH$7=$F220,$H220,\"\")","v":""},"",{"$f":"IF(BJ$7=$F220,$H220,\"\")","v":""},"",{"$f":"IF(BL$7=$F220,$H220,\"\")","v":""},"",{"$f":"IF(BN$7=$F220,$H220,\"\")","v":""},"",{"$f":"IF(BP$7=$F220,$H220,\"\")","v":""},"",{"$f":"IF(BR$7=$F220,$H220,\"\")","v":""},"",{"$f":"IF(BT$7=$F220,$H220,\"\")","v":""},"",{"$f":"IF(BV$7=$F220,$H220,\"\")","v":""},"",{"$f":"IF(BX$7=$F220,$H220,\"\")","v":""},"",{"$f":"IF(BZ$7=$F220,$H220,\"\")","v":""},"",{"$f":"IF(CB$7=$F220,$H220,\"\")","v":""},"",{"$f":"IF(CD$7=$F220,$H220,\"\")","v":""},"",{"$f":"IF(CF$7=$F220,$H220,\"\")","v":""},"",{"$f":"IF(CH$7=$F220,$H220,\"\")","v":""},"",{"$f":"IF(CJ$7=$F220,$H220,\"\")","v":""},"",{"$f":"IF(CL$7=$F220,$H220,\"\")","v":""},"",{"$f":"IF(CN$7=$F220,$H220,\"\")","v":""},"",{"$f":"IF(CP$7=$F220,$H220,\"\")","v":""},"",{"$f":"IF(CR$7=$F220,$H220,\"\")","v":""},"",{"$f":"IF(CT$7=$F220,$H220,\"\")","v":""},"",{"$f":"IF(CV$7=$F220,$H220,\"\")","v":""},"",{"$f":"IF(CX$7=$F220,$H220,\"\")","v":""},"",{"$f":"IF(CZ$7=$F220,$H220,\"\")","v":""},"",{"$f":"IF(DB$7=$F220,$H220,\"\")","v":""},"",{"$f":"IF(DD$7=$F220,$H220,\"\")","v":""},"",{"$f":"IF(DF$7=$F220,$H220,\"\")","v":""},0,{"$f":"IF(DH$7=$F220,$H220,\"\")","v":0},0,{"$f":"IF(DJ$7=$F220,$H220,\"\")","v":0},0,{"$f":"IF(DL$7=$F220,$H220,\"\")","v":0},0,{"$f":"IF(DN$7=$F220,$H220,\"\")","v":0},0,{"$f":"IF(DP$7=$F220,$H220,\"\")","v":0},0,{"$f":"IF(DR$7=$F220,$H220,\"\")","v":0},0,{"$f":"IF(DT$7=$F220,$H220,\"\")","v":0},0,{"$f":"IF(DV$7=$F220,$H220,\"\")","v":0},0,{"$f":"IF(DX$7=$F220,$H220,\"\")","v":0},0,{"$f":"IF(DZ$7=$F220,$H220,\"\")","v":0},0,{"$f":"IF(EB$7=$F220,$H220,\"\")","v":0},0,{"$f":"IF(ED$7=$F220,$H220,\"\")","v":0},0,{"$f":"IF(EF$7=$F220,$H220,\"\")","v":0},0,{"$f":"IF(EH$7=$F220,$H220,\"\")","v":0},0,{"$f":"IF(EJ$7=$F220,$H220,\"\")","v":0},0,{"$f":"IF(EL$7=$F220,$H220,\"\")","v":0},0,{"$f":"IF(EN$7=$F220,$H220,\"\")","v":0},0,{"$f":"IF(EP$7=$F220,$H220,\"\")","v":0},0,{"$f":"IF(ER$7=$F220,$H220,\"\")","v":0},0,{"$f":"IF(ET$7=$F220,$H220,\"\")","v":0},0,{"$f":"IF(EV$7=$F220,$H220,\"\")","v":0},0,{"$f":"IF(EX$7=$F220,$H220,\"\")","v":0},0,{"$f":"IF(EZ$7=$F220,$H220,\"\")","v":0},0,{"$f":"IF(FB$7=$F220,$H220,\"\")","v":0},0,{"$f":"IF(FD$7=$F220,$H220,\"\")","v":0},0,{"$f":"IF(FF$7=$F220,$H220,\"\")","v":0},0,{"$f":"IF(FH$7=$F220,$H220,\"\")","v":0},0,{"$f":"IF(FJ$7=$F220,$H220,\"\")","v":0},0,{"$f":"IF(FL$7=$F220,$H220,\"\")","v":0},0,0]
[213,null,null,null,null,null,null,null,true,0,0,"","","",{"$f":"IF(N$7=$F221,$H221,\"\")","v":""},"",{"$f":"IF(P$7=$F221,$H221,\"\")","v":""},"",{"$f":"IF(R$7=$F221,$H221,\"\")","v":""},"",{"$f":"IF(T$7=$F221,$H221,\"\")","v":""},"",{"$f":"IF(V$7=$F221,$H221,\"\")","v":""},"",{"$f":"IF(X$7=$F221,$H221,\"\")","v":""},"",{"$f":"IF(Z$7=$F221,$H221,\"\")","v":""},"",{"$f":"IF(AB$7=$F221,$H221,\"\")","v":""},"",{"$f":"IF(AD$7=$F221,$H221,\"\")","v":""},"",{"$f":"IF(AF$7=$F221,$H221,\"\")","v":""},"",{"$f":"IF(AH$7=$F221,$H221,\"\")","v":""},"",{"$f":"IF(AJ$7=$F221,$H221,\"\")","v":""},"",{"$f":"IF(AL$7=$F221,$H221,\"\")","v":""},"",{"$f":"IF(AN$7=$F221,$H221,\"\")","v":""},"",{"$f":"IF(AP$7=$F221,$H221,\"\")","v":""},"",{"$f":"IF(AR$7=$F221,$H221,\"\")","v":""},"",{"$f":"IF(AT$7=$F221,$H221,\"\")","v":""},"",{"$f":"IF(AV$7=$F221,$H221,\"\")","v":""},"",{"$f":"IF(AX$7=$F221,$H221,\"\")","v":""},"",{"$f":"IF(AZ$7=$F221,$H221,\"\")","v":""},"",{"$f":"IF(BB$7=$F221,$H221,\"\")","v":""},"",{"$f":"IF(BD$7=$F221,$H221,\"\")","v":""},"",{"$f":"IF(BF$7=$F221,$H221,\"\")","v":""},"",{"$f":"IF(BH$7=$F221,$H221,\"\")","v":""},"",{"$f":"IF(BJ$7=$F221,$H221,\"\")","v":""},"",{"$f":"IF(BL$7=$F221,$H221,\"\")","v":""},"",{"$f":"IF(BN$7=$F221,$H221,\"\")","v":""},"",{"$f":"IF(BP$7=$F221,$H221,\"\")","v":""},"",{"$f":"IF(BR$7=$F221,$H221,\"\")","v":""},"",{"$f":"IF(BT$7=$F221,$H221,\"\")","v":""},"",{"$f":"IF(BV$7=$F221,$H221,\"\")","v":""},"",{"$f":"IF(BX$7=$F221,$H221,\"\")","v":""},"",{"$f":"IF(BZ$7=$F221,$H221,\"\")","v":""},"",{"$f":"IF(CB$7=$F221,$H221,\"\")","v":""},"",{"$f":"IF(CD$7=$F221,$H221,\"\")","v":""},"",{"$f":"IF(CF$7=$F221,$H221,\"\")","v":""},"",{"$f":"IF(CH$7=$F221,$H221,\"\")","v":""},"",{"$f":"IF(CJ$7=$F221,$H221,\"\")","v":""},"",{"$f":"IF(CL$7=$F221,$H221,\"\")","v":""},"",{"$f":"IF(CN$7=$F221,$H221,\"\")","v":""},"",{"$f":"IF(CP$7=$F221,$H221,\"\")","v":""},"",{"$f":"IF(CR$7=$F221,$H221,\"\")","v":""},"",{"$f":"IF(CT$7=$F221,$H221,\"\")","v":""},"",{"$f":"IF(CV$7=$F221,$H221,\"\")","v":""},"",{"$f":"IF(CX$7=$F221,$H221,\"\")","v":""},"",{"$f":"IF(CZ$7=$F221,$H221,\"\")","v":""},"",{"$f":"IF(DB$7=$F221,$H221,\"\")","v":""},"",{"$f":"IF(DD$7=$F221,$H221,\"\")","v":""},"",{"$f":"IF(DF$7=$F221,$H221,\"\")","v":""},0,{"$f":"IF(DH$7=$F221,$H221,\"\")","v":0},0,{"$f":"IF(DJ$7=$F221,$H221,\"\")","v":0},0,{"$f":"IF(DL$7=$F221,$H221,\"\")","v":0},0,{"$f":"IF(DN$7=$F221,$H221,\"\")","v":0},0,{"$f":"IF(DP$7=$F221,$H221,\"\")","v":0},0,{"$f":"IF(DR$7=$F221,$H221,\"\")","v":0},0,{"$f":"IF(DT$7=$F221,$H221,\"\")","v":0},0,{"$f":"IF(DV$7=$F221,$H221,\"\")","v":0},0,{"$f":"IF(DX$7=$F221,$H221,\"\")","v":0},0,{"$f":"IF(DZ$7=$F221,$H221,\"\")","v":0},0,{"$f":"IF(EB$7=$F221,$H221,\"\")","v":0},0,{"$f":"IF(ED$7=$F221,$H221,\"\")","v":0},0,{"$f":"IF(EF$7=$F221,$H221,\"\")","v":0},0,{"$f":"IF(EH$7=$F221,$H221,\"\")","v":0},0,{"$f":"IF(EJ$7=$F221,$H221,\"\")","v":0},0,{"$f":"IF(EL$7=$F221,$H221,\"\")","v":0},0,{"$f":"IF(EN$7=$F221,$H221,\"\")","v":0},0,{"$f":"IF(EP$7=$F221,$H221,\"\")","v":0},0,{"$f":"IF(ER$7=$F221,$H221,\"\")","v":0},0,{"$f":"IF(ET$7=$F221,$H221,\"\")","v":0},0,{"$f":"IF(EV$7=$F221,$H221,\"\")","v":0},0,{"$f":"IF(EX$7=$F221,$H221,\"\")","v":0},0,{"$f":"IF(EZ$7=$F221,$H221,\"\")","v":0},0,{"$f":"IF(FB$7=$F221,$H221,\"\")","v":0},0,{"$f":"IF(FD$7=$F221,$H221,\"\")","v":0},0,{"$f":"IF(FF$7=$F221,$H221,\"\")","v":0},0,{"$f":"IF(FH$7=$F221,$H221,\"\")","v":0},0,{"$f":"IF(FJ$7=$F221,$H221,\"\")","v":0},0,{"$f":"IF(FL$7=$F221,$H221,\"\")","v":0},0,0]
[214,null,null,null,null,null,null,null,true,0,0,"","","",{"$f":"IF(N$7=$F222,$H222,\"\")","v":""},"",{"$f":"IF(P$7=$F222,$H222,\"\")","v":""},"",{"$f":"IF(R$7=$F222,$H222,\"\")","v":""},"",{"$f":"IF(T$7=$F222,$H222,\"\")","v":""},"",{"$f":"IF(V$7=$F222,$H222,\"\")","v":""},"",{"$f":"IF(X$7=$F222,$H222,\"\")","v":""},"",{"$f":"IF(Z$7=$F222,$H222,\"\")","v":""},"",{"$f":"IF(AB$7=$F222,$H222,\"\")","v":""},"",{"$f":"IF(AD$7=$F222,$H222,\"\")","v":""},"",{"$f":"IF(AF$7=$F222,$H222,\"\")","v":""},"",{"$f":"IF(AH$7=$F222,$H222,\"\")","v":""},"",{"$f":"IF(AJ$7=$F222,$H222,\"\")","v":""},"",{"$f":"IF(AL$7=$F222,$H222,\"\")","v":""},"",{"$f":"IF(AN$7=$F222,$H222,\"\")","v":""},"",{"$f":"IF(AP$7=$F222,$H222,\"\")","v":""},"",{"$f":"IF(AR$7=$F222,$H222,\"\")","v":""},"",{"$f":"IF(AT$7=$F222,$H222,\"\")","v":""},"",{"$f":"IF(AV$7=$F222,$H222,\"\")","v":""},"",{"$f":"IF(AX$7=$F222,$H222,\"\")","v":""},"",{"$f":"IF(AZ$7=$F222,$H222,\"\")","v":""},"",{"$f":"IF(BB$7=$F222,$H222,\"\")","v":""},"",{"$f":"IF(BD$7=$F222,$H222,\"\")","v":""},"",{"$f":"IF(BF$7=$F222,$H222,\"\")","v":""},"",{"$f":"IF(BH$7=$F222,$H222,\"\")","v":""},"",{"$f":"IF(BJ$7=$F222,$H222,\"\")","v":""},"",{"$f":"IF(BL$7=$F222,$H222,\"\")","v":""},"",{"$f":"IF(BN$7=$F222,$H222,\"\")","v":""},"",{"$f":"IF(BP$7=$F222,$H222,\"\")","v":""},"",{"$f":"IF(BR$7=$F222,$H222,\"\")","v":""},"",{"$f":"IF(BT$7=$F222,$H222,\"\")","v":""},"",{"$f":"IF(BV$7=$F222,$H222,\"\")","v":""},"",{"$f":"IF(BX$7=$F222,$H222,\"\")","v":""},"",{"$f":"IF(BZ$7=$F222,$H222,\"\")","v":""},"",{"$f":"IF(CB$7=$F222,$H222,\"\")","v":""},"",{"$f":"IF(CD$7=$F222,$H222,\"\")","v":""},"",{"$f":"IF(CF$7=$F222,$H222,\"\")","v":""},"",{"$f":"IF(CH$7=$F222,$H222,\"\")","v":""},"",{"$f":"IF(CJ$7=$F222,$H222,\"\")","v":""},"",{"$f":"IF(CL$7=$F222,$H222,\"\")","v":""},"",{"$f":"IF(CN$7=$F222,$H222,\"\")","v":""},"",{"$f":"IF(CP$7=$F222,$H222,\"\")","v":""},"",{"$f":"IF(CR$7=$F222,$H222,\"\")","v":""},"",{"$f":"IF(CT$7=$F222,$H222,\"\")","v":""},"",{"$f":"IF(CV$7=$F222,$H222,\"\")","v":""},"",{"$f":"IF(CX$7=$F222,$H222,\"\")","v":""},"",{"$f":"IF(CZ$7=$F222,$H222,\"\")","v":""},"",{"$f":"IF(DB$7=$F222,$H222,\"\")","v":""},"",{"$f":"IF(DD$7=$F222,$H222,\"\")","v":""},"",{"$f":"IF(DF$7=$F222,$H222,\"\")","v":""},0,{"$f":"IF(DH$7=$F222,$H222,\"\")","v":0},0,{"$f":"IF(DJ$7=$F222,$H222,\"\")","v":0},0,{"$f":"IF(DL$7=$F222,$H222,\"\")","v":0},0,{"$f":"IF(DN$7=$F222,$H222,\"\")","v":0},0,{"$f":"IF(DP$7=$F222,$H222,\"\")","v":0},0,{"$f":"IF(DR$7=$F222,$H222,\"\")","v":0},0,{"$f":"IF(DT$7=$F222,$H222,\"\")","v":0},0,{"$f":"IF(DV$7=$F222,$H222,\"\")","v":0},0,{"$f":"IF(DX$7=$F222,$H222,\"\")","v":0},0,{"$f":"IF(DZ$7=$F222,$H222,\"\")","v":0},0,{"$f":"IF(EB$7=$F222,$H222,\"\")","v":0},0,{"$f":"IF(ED$7=$F222,$H222,\"\")","v":0},0,{"$f":"IF(EF$7=$F222,$H222,\"\")","v":0},0,{"$f":"IF(EH$7=$F222,$H222,\"\")","v":0},0,{"$f":"IF(EJ$7=$F222,$H222,\"\")","v":0},0,{"$f":"IF(EL$7=$F222,$H222,\"\")","v":0},0,{"$f":"IF(EN$7=$F222,$H222,\"\")","v":0},0,{"$f":"IF(EP$7=$F222,$H222,\"\")","v":0},0,{"$f":"IF(ER$7=$F222,$H222,\"\")","v":0},0,{"$f":"IF(ET$7=$F222,$H222,\"\")","v":0},0,{"$f":"IF(EV$7=$F222,$H222,\"\")","v":0},0,{"$f":"IF(EX$7=$F222,$H222,\"\")","v":0},0,{"$f":"IF(EZ$7=$F222,$H222,\"\")","v":0},0,{"$f":"IF(FB$7=$F222,$H222,\"\")","v":0},0,{"$f":"IF(FD$7=$F222,$H222,\"\")","v":0},0,{"$f":"IF(FF$7=$F222,$H222,\"\")","v":0},0,{"$f":"IF(FH$7=$F222,$H222,\"\")","v":0},0,{"$f":"IF(FJ$7=$F222,$H222,\"\")","v":0},0,{"$f":"IF(FL$7=$F222,$H222,\"\")","v":0},0,0]
[215,null,null,null,null,null,null,null,true,0,0,"","","",{"$f":"IF(N$7=$F223,$H223,\"\")","v":""},"",{"$f":"IF(P$7=$F223,$H223,\"\")","v":""},"",{"$f":"IF(R$7=$F223,$H223,\"\")","v":""},"",{"$f":"IF(T$7=$F223,$H223,\"\")","v":""},"",{"$f":"IF(V$7=$F223,$H223,\"\")","v":""},"",{"$f":"IF(X$7=$F223,$H223,\"\")","v":""},"",{"$f":"IF(Z$7=$F223,$H223,\"\")","v":""},"",{"$f":"IF(AB$7=$F223,$H223,\"\")","v":""},"",{"$f":"IF(AD$7=$F223,$H223,\"\")","v":""},"",{"$f":"IF(AF$7=$F223,$H223,\"\")","v":""},"",{"$f":"IF(AH$7=$F223,$H223,\"\")","v":""},"",{"$f":"IF(AJ$7=$F223,$H223,\"\")","v":""},"",{"$f":"IF(AL$7=$F223,$H223,\"\")","v":""},"",{"$f":"IF(AN$7=$F223,$H223,\"\")","v":""},"",{"$f":"IF(AP$7=$F223,$H223,\"\")","v":""},"",{"$f":"IF(AR$7=$F223,$H223,\"\")","v":""},"",{"$f":"IF(AT$7=$F223,$H223,\"\")","v":""},"",{"$f":"IF(AV$7=$F223,$H223,\"\")","v":""},"",{"$f":"IF(AX$7=$F223,$H223,\"\")","v":""},"",{"$f":"IF(AZ$7=$F223,$H223,\"\")","v":""},"",{"$f":"IF(BB$7=$F223,$H223,\"\")","v":""},"",{"$f":"IF(BD$7=$F223,$H223,\"\")","v":""},"",{"$f":"IF(BF$7=$F223,$H223,\"\")","v":""},"",{"$f":"IF(BH$7=$F223,$H223,\"\")","v":""},"",{"$f":"IF(BJ$7=$F223,$H223,\"\")","v":""},"",{"$f":"IF(BL$7=$F223,$H223,\"\")","v":""},"",{"$f":"IF(BN$7=$F223,$H223,\"\")","v":""},"",{"$f":"IF(BP$7=$F223,$H223,\"\")","v":""},"",{"$f":"IF(BR$7=$F223,$H223,\"\")","v":""},"",{"$f":"IF(BT$7=$F223,$H223,\"\")","v":""},"",{"$f":"IF(BV$7=$F223,$H223,\"\")","v":""},"",{"$f":"IF(BX$7=$F223,$H223,\"\")","v":""},"",{"$f":"IF(BZ$7=$F223,$H223,\"\")","v":""},"",{"$f":"IF(CB$7=$F223,$H223,\"\")","v":""},"",{"$f":"IF(CD$7=$F223,$H223,\"\")","v":""},"",{"$f":"IF(CF$7=$F223,$H223,\"\")","v":""},"",{"$f":"IF(CH$7=$F223,$H223,\"\")","v":""},"",{"$f":"IF(CJ$7=$F223,$H223,\"\")","v":""},"",{"$f":"IF(CL$7=$F223,$H223,\"\")","v":""},"",{"$f":"IF(CN$7=$F223,$H223,\"\")","v":""},"",{"$f":"IF(CP$7=$F223,$H223,\"\")","v":""},"",{"$f":"IF(CR$7=$F223,$H223,\"\")","v":""},"",{"$f":"IF(CT$7=$F223,$H223,\"\")","v":""},"",{"$f":"IF(CV$7=$F223,$H223,\"\")","v":""},"",{"$f":"IF(CX$7=$F223,$H223,\"\")","v":""},"",{"$f":"IF(CZ$7=$F223,$H223,\"\")","v":""},"",{"$f":"IF(DB$7=$F223,$H223,\"\")","v":""},"",{"$f":"IF(DD$7=$F223,$H223,\"\")","v":""},"",{"$f":"IF(DF$7=$F223,$H223,\"\")","v":""},0,{"$f":"IF(DH$7=$F223,$H223,\"\")","v":0},0,{"$f":"IF(DJ$7=$F223,$H223,\"\")","v":0},0,{"$f":"IF(DL$7=$F223,$H223,\"\")","v":0},0,{"$f":"IF(DN$7=$F223,$H223,\"\")","v":0},0,{"$f":"IF(DP$7=$F223,$H223,\"\")","v":0},0,{"$f":"IF(DR$7=$F223,$H223,\"\")","v":0},0,{"$f":"IF(DT$7=$F223,$H223,\"\")","v":0},0,{"$f":"IF(DV$7=$F223,$H223,\"\")","v":0},0,{"$f":"IF(DX$7=$F223,$H223,\"\")","v":0},0,{"$f":"IF(DZ$7=$F223,$H223,\"\")","v":0},0,{"$f":"IF(EB$7=$F223,$H223,\"\")","v":0},0,{"$f":"IF(ED$7=$F223,$H223,\"\")","v":0},0,{"$f":"IF(EF$7=$F223,$H223,\"\")","v":0},0,{"$f":"IF(EH$7=$F223,$H223,\"\")","v":0},0,{"$f":"IF(EJ$7=$F223,$H223,\"\")","v":0},0,{"$f":"IF(EL$7=$F223,$H223,\"\")","v":0},0,{"$f":"IF(EN$7=$F223,$H223,\"\")","v":0},0,{"$f":"IF(EP$7=$F223,$H223,\"\")","v":0},0,{"$f":"IF(ER$7=$F223,$H223,\"\")","v":0},0,{"$f":"IF(ET$7=$F223,$H223,\"\")","v":0},0,{"$f":"IF(EV$7=$F223,$H223,\"\")","v":0},0,{"$f":"IF(EX$7=$F223,$H223,\"\")","v":0},0,{"$f":"IF(EZ$7=$F223,$H223,\"\")","v":0},0,{"$f":"IF(FB$7=$F223,$H223,\"\")","v":0},0,{"$f":"IF(FD$7=$F223,$H223,\"\")","v":0},0,{"$f":"IF(FF$7=$F223,$H223,\"\")","v":0},0,{"$f":"IF(FH$7=$F223,$H223,\"\")","v":0},0,{"$f":"IF(FJ$7=$F223,$H223,\"\")","v":0},0,{"$f":"IF(FL$7=$F223,$H223,\"\")","v":0},0,0]
[216,null,null,null,null,null,null,null,true,0,0,"","","",{"$f":"IF(N$7=$F224,$H224,\"\")","v":""},"",{"$f":"IF(P$7=$F224,$H224,\"\")","v":""},"",{"$f":"IF(R$7=$F224,$H224,\"\")","v":""},"",{"$f":"IF(T$7=$F224,$H224,\"\")","v":""},"",{"$f":"IF(V$7=$F224,$H224,\"\")","v":""},"",{"$f":"IF(X$7=$F224,$H224,\"\")","v":""},"",{"$f":"IF(Z$7=$F224,$H224,\"\")","v":""},"",{"$f":"IF(AB$7=$F224,$H224,\"\")","v":""},"",{"$f":"IF(AD$7=$F224,$H224,\"\")","v":""},"",{"$f":"IF(AF$7=$F224,$H224,\"\")","v":""},"",{"$f":"IF(AH$7=$F224,$H224,\"\")","v":""},"",{"$f":"IF(AJ$7=$F224,$H224,\"\")","v":""},"",{"$f":"IF(AL$7=$F224,$H224,\"\")","v":""},"",{"$f":"IF(AN$7=$F224,$H224,\"\")","v":""},"",{"$f":"IF(AP$7=$F224,$H224,\"\")","v":""},"",{"$f":"IF(AR$7=$F224,$H224,\"\")","v":""},"",{"$f":"IF(AT$7=$F224,$H224,\"\")","v":""},"",{"$f":"IF(AV$7=$F224,$H224,\"\")","v":""},"",{"$f":"IF(AX$7=$F224,$H224,\"\")","v":""},"",{"$f":"IF(AZ$7=$F224,$H224,\"\")","v":""},"",{"$f":"IF(BB$7=$F224,$H224,\"\")","v":""},"",{"$f":"IF(BD$7=$F224,$H224,\"\")","v":""},"",{"$f":"IF(BF$7=$F224,$H224,\"\")","v":""},"",{"$f":"IF(BH$7=$F224,$H224,\"\")","v":""},"",{"$f":"IF(BJ$7=$F224,$H224,\"\")","v":""},"",{"$f":"IF(BL$7=$F224,$H224,\"\")","v":""},"",{"$f":"IF(BN$7=$F224,$H224,\"\")","v":""},"",{"$f":"IF(BP$7=$F224,$H224,\"\")","v":""},"",{"$f":"IF(BR$7=$F224,$H224,\"\")","v":""},"",{"$f":"IF(BT$7=$F224,$H224,\"\")","v":""},"",{"$f":"IF(BV$7=$F224,$H224,\"\")","v":""},"",{"$f":"IF(BX$7=$F224,$H224,\"\")","v":""},"",{"$f":"IF(BZ$7=$F224,$H224,\"\")","v":""},"",{"$f":"IF(CB$7=$F224,$H224,\"\")","v":""},"",{"$f":"IF(CD$7=$F224,$H224,\"\")","v":""},"",{"$f":"IF(CF$7=$F224,$H224,\"\")","v":""},"",{"$f":"IF(CH$7=$F224,$H224,\"\")","v":""},"",{"$f":"IF(CJ$7=$F224,$H224,\"\")","v":""},"",{"$f":"IF(CL$7=$F224,$H224,\"\")","v":""},"",{"$f":"IF(CN$7=$F224,$H224,\"\")","v":""},"",{"$f":"IF(CP$7=$F224,$H224,\"\")","v":""},"",{"$f":"IF(CR$7=$F224,$H224,\"\")","v":""},"",{"$f":"IF(CT$7=$F224,$H224,\"\")","v":""},"",{"$f":"IF(CV$7=$F224,$H224,\"\")","v":""},"",{"$f":"IF(CX$7=$F224,$H224,\"\")","v":""},"",{"$f":"IF(CZ$7=$F224,$H224,\"\")","v":""},"",{"$f":"IF(DB$7=$F224,$H224,\"\")","v":""},"",{"$f":"IF(DD$7=$F224,$H224,\"\")","v":""},"",{"$f":"IF(DF$7=$F224,$H224,\"\")","v":""},0,{"$f":"IF(DH$7=$F224,$H224,\"\")","v":0},0,{"$f":"IF(DJ$7=$F224,$H224,\"\")","v":0},0,{"$f":"IF(DL$7=$F224,$H224,\"\")","v":0},0,{"$f":"IF(DN$7=$F224,$H224,\"\")","v":0},0,{"$f":"IF(DP$7=$F224,$H224,\"\")","v":0},0,{"$f":"IF(DR$7=$F224,$H224,\"\")","v":0},0,{"$f":"IF(DT$7=$F224,$H224,\"\")","v":0},0,{"$f":"IF(DV$7=$F224,$H224,\"\")","v":0},0,{"$f":"IF(DX$7=$F224,$H224,\"\")","v":0},0,{"$f":"IF(DZ$7=$F224,$H224,\"\")","v":0},0,{"$f":"IF(EB$7=$F224,$H224,\"\")","v":0},0,{"$f":"IF(ED$7=$F224,$H224,\"\")","v":0},0,{"$f":"IF(EF$7=$F224,$H224,\"\")","v":0},0,{"$f":"IF(EH$7=$F224,$H224,\"\")","v":0},0,{"$f":"IF(EJ$7=$F224,$H224,\"\")","v":0},0,{"$f":"IF(EL$7=$F224,$H224,\"\")","v":0},0,{"$f":"IF(EN$7=$F224,$H224,\"\")","v":0},0,{"$f":"IF(EP$7=$F224,$H224,\"\")","v":0},0,{"$f":"IF(ER$7=$F224,$H224,\"\")","v":0},0,{"$f":"IF(ET$7=$F224,$H224,\"\")","v":0},0,{"$f":"IF(EV$7=$F224,$H224,\"\")","v":0},0,{"$f":"IF(EX$7=$F224,$H224,\"\")","v":0},0,{"$f":"IF(EZ$7=$F224,$H224,\"\")","v":0},0,{"$f":"IF(FB$7=$F224,$H224,\"\")","v":0},0,{"$f":"IF(FD$7=$F224,$H224,\"\")","v":0},0,{"$f":"IF(FF$7=$F224,$H224,\"\")","v":0},0,{"$f":"IF(FH$7=$F224,$H224,\"\")","v":0},0,{"$f":"IF(FJ$7=$F224,$H224,\"\")","v":0},0,{"$f":"IF(FL$7=$F224,$H224,\"\")","v":0},0,0]
[217,null,null,null,null,null,null,null,true,0,0,"","","",{"$f":"IF(N$7=$F225,$H225,\"\")","v":""},"",{"$f":"IF(P$7=$F225,$H225,\"\")","v":""},"",{"$f":"IF(R$7=$F225,$H225,\"\")","v":""},"",{"$f":"IF(T$7=$F225,$H225,\"\")","v":""},"",{"$f":"IF(V$7=$F225,$H225,\"\")","v":""},"",{"$f":"IF(X$7=$F225,$H225,\"\")","v":""},"",{"$f":"IF(Z$7=$F225,$H225,\"\")","v":""},"",{"$f":"IF(AB$7=$F225,$H225,\"\")","v":""},"",{"$f":"IF(AD$7=$F225,$H225,\"\")","v":""},"",{"$f":"IF(AF$7=$F225,$H225,\"\")","v":""},"",{"$f":"IF(AH$7=$F225,$H225,\"\")","v":""},"",{"$f":"IF(AJ$7=$F225,$H225,\"\")","v":""},"",{"$f":"IF(AL$7=$F225,$H225,\"\")","v":""},"",{"$f":"IF(AN$7=$F225,$H225,\"\")","v":""},"",{"$f":"IF(AP$7=$F225,$H225,\"\")","v":""},"",{"$f":"IF(AR$7=$F225,$H225,\"\")","v":""},"",{"$f":"IF(AT$7=$F225,$H225,\"\")","v":""},"",{"$f":"IF(AV$7=$F225,$H225,\"\")","v":""},"",{"$f":"IF(AX$7=$F225,$H225,\"\")","v":""},"",{"$f":"IF(AZ$7=$F225,$H225,\"\")","v":""},"",{"$f":"IF(BB$7=$F225,$H225,\"\")","v":""},"",{"$f":"IF(BD$7=$F225,$H225,\"\")","v":""},"",{"$f":"IF(BF$7=$F225,$H225,\"\")","v":""},"",{"$f":"IF(BH$7=$F225,$H225,\"\")","v":""},"",{"$f":"IF(BJ$7=$F225,$H225,\"\")","v":""},"",{"$f":"IF(BL$7=$F225,$H225,\"\")","v":""},"",{"$f":"IF(BN$7=$F225,$H225,\"\")","v":""},"",{"$f":"IF(BP$7=$F225,$H225,\"\")","v":""},"",{"$f":"IF(BR$7=$F225,$H225,\"\")","v":""},"",{"$f":"IF(BT$7=$F225,$H225,\"\")","v":""},"",{"$f":"IF(BV$7=$F225,$H225,\"\")","v":""},"",{"$f":"IF(BX$7=$F225,$H225,\"\")","v":""},"",{"$f":"IF(BZ$7=$F225,$H225,\"\")","v":""},"",{"$f":"IF(CB$7=$F225,$H225,\"\")","v":""},"",{"$f":"IF(CD$7=$F225,$H225,\"\")","v":""},"",{"$f":"IF(CF$7=$F225,$H225,\"\")","v":""},"",{"$f":"IF(CH$7=$F225,$H225,\"\")","v":""},"",{"$f":"IF(CJ$7=$F225,$H225,\"\")","v":""},"",{"$f":"IF(CL$7=$F225,$H225,\"\")","v":""},"",{"$f":"IF(CN$7=$F225,$H225,\"\")","v":""},"",{"$f":"IF(CP$7=$F225,$H225,\"\")","v":""},"",{"$f":"IF(CR$7=$F225,$H225,\"\")","v":""},"",{"$f":"IF(CT$7=$F225,$H225,\"\")","v":""},"",{"$f":"IF(CV$7=$F225,$H225,\"\")","v":""},"",{"$f":"IF(CX$7=$F225,$H225,\"\")","v":""},"",{"$f":"IF(CZ$7=$F225,$H225,\"\")","v":""},"",{"$f":"IF(DB$7=$F225,$H225,\"\")","v":""},"",{"$f":"IF(DD$7=$F225,$H225,\"\")","v":""},"",{"$f":"IF(DF$7=$F225,$H225,\"\")","v":""},0,{"$f":"IF(DH$7=$F225,$H225,\"\")","v":0},0,{"$f":"IF(DJ$7=$F225,$H225,\"\")","v":0},0,{"$f":"IF(DL$7=$F225,$H225,\"\")","v":0},0,{"$f":"IF(DN$7=$F225,$H225,\"\")","v":0},0,{"$f":"IF(DP$7=$F225,$H225,\"\")","v":0},0,{"$f":"IF(DR$7=$F225,$H225,\"\")","v":0},0,{"$f":"IF(DT$7=$F225,$H225,\"\")","v":0},0,{"$f":"IF(DV$7=$F225,$H225,\"\")","v":0},0,{"$f":"IF(DX$7=$F225,$H225,\"\")","v":0},0,{"$f":"IF(DZ$7=$F225,$H225,\"\")","v":0},0,{"$f":"IF(EB$7=$F225,$H225,\"\")","v":0},0,{"$f":"IF(ED$7=$F225,$H225,\"\")","v":0},0,{"$f":"IF(EF$7=$F225,$H225,\"\")","v":0},0,{"$f":"IF(EH$7=$F225,$H225,\"\")","v":0},0,{"$f":"IF(EJ$7=$F225,$H225,\"\")","v":0},0,{"$f":"IF(EL$7=$F225,$H225,\"\")","v":0},0,{"$f":"IF(EN$7=$F225,$H225,\"\")","v":0},0,{"$f":"IF(EP$7=$F225,$H225,\"\")","v":0},0,{"$f":"IF(ER$7=$F225,$H225,\"\")","v":0},0,{"$f":"IF(ET$7=$F225,$H225,\"\")","v":0},0,{"$f":"IF(EV$7=$F225,$H225,\"\")","v":0},0,{"$f":"IF(EX$7=$F225,$H225,\"\")","v":0},0,{"$f":"IF(EZ$7=$F225,$H225,\"\")","v":0},0,{"$f":"IF(FB$7=$F225,$H225,\"\")","v":0},0,{"$f":"IF(FD$7=$F225,$H225,\"\")","v":0},0,{"$f":"IF(FF$7=$F225,$H225,\"\")","v":0},0,{"$f":"IF(FH$7=$F225,$H225,\"\")","v":0},0,{"$f":"IF(FJ$7=$F225,$H225,\"\")","v":0},0,{"$f":"IF(FL$7=$F225,$H225,\"\")","v":0},0,0]
[218,null,null,null,null,null,null,null,true,0,0,"","","",{"$f":"IF(N$7=$F226,$H226,\"\")","v":""},"",{"$f":"IF(P$7=$F226,$H226,\"\")","v":""},"",{"$f":"IF(R$7=$F226,$H226,\"\")","v":""},"",{"$f":"IF(T$7=$F226,$H226,\"\")","v":""},"",{"$f":"IF(V$7=$F226,$H226,\"\")","v":""},"",{"$f":"IF(X$7=$F226,$H226,\"\")","v":""},"",{"$f":"IF(Z$7=$F226,$H226,\"\")","v":""},"",{"$f":"IF(AB$7=$F226,$H226,\"\")","v":""},"",{"$f":"IF(AD$7=$F226,$H226,\"\")","v":""},"",{"$f":"IF(AF$7=$F226,$H226,\"\")","v":""},"",{"$f":"IF(AH$7=$F226,$H226,\"\")","v":""},"",{"$f":"IF(AJ$7=$F226,$H226,\"\")","v":""},"",{"$f":"IF(AL$7=$F226,$H226,\"\")","v":""},"",{"$f":"IF(AN$7=$F226,$H226,\"\")","v":""},"",{"$f":"IF(AP$7=$F226,$H226,\"\")","v":""},"",{"$f":"IF(AR$7=$F226,$H226,\"\")","v":""},"",{"$f":"IF(AT$7=$F226,$H226,\"\")","v":""},"",{"$f":"IF(AV$7=$F226,$H226,\"\")","v":""},"",{"$f":"IF(AX$7=$F226,$H226,\"\")","v":""},"",{"$f":"IF(AZ$7=$F226,$H226,\"\")","v":""},"",{"$f":"IF(BB$7=$F226,$H226,\"\")","v":""},"",{"$f":"IF(BD$7=$F226,$H226,\"\")","v":""},"",{"$f":"IF(BF$7=$F226,$H226,\"\")","v":""},"",{"$f":"IF(BH$7=$F226,$H226,\"\")","v":""},"",{"$f":"IF(BJ$7=$F226,$H226,\"\")","v":""},"",{"$f":"IF(BL$7=$F226,$H226,\"\")","v":""},"",{"$f":"IF(BN$7=$F226,$H226,\"\")","v":""},"",{"$f":"IF(BP$7=$F226,$H226,\"\")","v":""},"",{"$f":"IF(BR$7=$F226,$H226,\"\")","v":""},"",{"$f":"IF(BT$7=$F226,$H226,\"\")","v":""},"",{"$f":"IF(BV$7=$F226,$H226,\"\")","v":""},"",{"$f":"IF(BX$7=$F226,$H226,\"\")","v":""},"",{"$f":"IF(BZ$7=$F226,$H226,\"\")","v":""},"",{"$f":"IF(CB$7=$F226,$H226,\"\")","v":""},"",{"$f":"IF(CD$7=$F226,$H226,\"\")","v":""},"",{"$f":"IF(CF$7=$F226,$H226,\"\")","v":""},"",{"$f":"IF(CH$7=$F226,$H226,\"\")","v":""},"",{"$f":"IF(CJ$7=$F226,$H226,\"\")","v":""},"",{"$f":"IF(CL$7=$F226,$H226,\"\")","v":""},"",{"$f":"IF(CN$7=$F226,$H226,\"\")","v":""},"",{"$f":"IF(CP$7=$F226,$H226,\"\")","v":""},"",{"$f":"IF(CR$7=$F226,$H226,\"\")","v":""},"",{"$f":"IF(CT$7=$F226,$H226,\"\")","v":""},"",{"$f":"IF(CV$7=$F226,$H226,\"\")","v":""},"",{"$f":"IF(CX$7=$F226,$H226,\"\")","v":""},"",{"$f":"IF(CZ$7=$F226,$H226,\"\")","v":""},"",{"$f":"IF(DB$7=$F226,$H226,\"\")","v":""},"",{"$f":"IF(DD$7=$F226,$H226,\"\")","v":""},"",{"$f":"IF(DF$7=$F226,$H226,\"\")","v":""},0,{"$f":"IF(DH$7=$F226,$H226,\"\")","v":0},0,{"$f":"IF(DJ$7=$F226,$H226,\"\")","v":0},0,{"$f":"IF(DL$7=$F226,$H226,\"\")","v":0},0,{"$f":"IF(DN$7=$F226,$H226,\"\")","v":0},0,{"$f":"IF(DP$7=$F226,$H226,\"\")","v":0},0,{"$f":"IF(DR$7=$F226,$H226,\"\")","v":0},0,{"$f":"IF(DT$7=$F226,$H226,\"\")","v":0},0,{"$f":"IF(DV$7=$F226,$H226,\"\")","v":0},0,{"$f":"IF(DX$7=$F226,$H226,\"\")","v":0},0,{"$f":"IF(DZ$7=$F226,$H226,\"\")","v":0},0,{"$f":"IF(EB$7=$F226,$H226,\"\")","v":0},0,{"$f":"IF(ED$7=$F226,$H226,\"\")","v":0},0,{"$f":"IF(EF$7=$F226,$H226,\"\")","v":0},0,{"$f":"IF(EH$7=$F226,$H226,\"\")","v":0},0,{"$f":"IF(EJ$7=$F226,$H226,\"\")","v":0},0,{"$f":"IF(EL$7=$F226,$H226,\"\")","v":0},0,{"$f":"IF(EN$7=$F226,$H226,\"\")","v":0},0,{"$f":"IF(EP$7=$F226,$H226,\"\")","v":0},0,{"$f":"IF(ER$7=$F226,$H226,\"\")","v":0},0,{"$f":"IF(ET$7=$F226,$H226,\"\")","v":0},0,{"$f":"IF(EV$7=$F226,$H226,\"\")","v":0},0,{"$f":"IF(EX$7=$F226,$H226,\"\")","v":0},0,{"$f":"IF(EZ$7=$F226,$H226,\"\")","v":0},0,{"$f":"IF(FB$7=$F226,$H226,\"\")","v":0},0,{"$f":"IF(FD$7=$F226,$H226,\"\")","v":0},0,{"$f":"IF(FF$7=$F226,$H226,\"\")","v":0},0,{"$f":"IF(FH$7=$F226,$H226,\"\")","v":0},0,{"$f":"IF(FJ$7=$F226,$H226,\"\")","v":0},0,{"$f":"IF(FL$7=$F226,$H226,\"\")","v":0},0,0]
[219,null,null,null,null,null,null,null,true,0,0,"","","",{"$f":"IF(N$7=$F227,$H227,\"\")","v":""},"",{"$f":"IF(P$7=$F227,$H227,\"\")","v":""},"",{"$f":"IF(R$7=$F227,$H227,\"\")","v":""},"",{"$f":"IF(T$7=$F227,$H227,\"\")","v":""},"",{"$f":"IF(V$7=$F227,$H227,\"\")","v":""},"",{"$f":"IF(X$7=$F227,$H227,\"\")","v":""},"",{"$f":"IF(Z$7=$F227,$H227,\"\")","v":""},"",{"$f":"IF(AB$7=$F227,$H227,\"\")","v":""},"",{"$f":"IF(AD$7=$F227,$H227,\"\")","v":""},"",{"$f":"IF(AF$7=$F227,$H227,\"\")","v":""},"",{"$f":"IF(AH$7=$F227,$H227,\"\")","v":""},"",{"$f":"IF(AJ$7=$F227,$H227,\"\")","v":""},"",{"$f":"IF(AL$7=$F227,$H227,\"\")","v":""},"",{"$f":"IF(AN$7=$F227,$H227,\"\")","v":""},"",{"$f":"IF(AP$7=$F227,$H227,\"\")","v":""},"",{"$f":"IF(AR$7=$F227,$H227,\"\")","v":""},"",{"$f":"IF(AT$7=$F227,$H227,\"\")","v":""},"",{"$f":"IF(AV$7=$F227,$H227,\"\")","v":""},"",{"$f":"IF(AX$7=$F227,$H227,\"\")","v":""},"",{"$f":"IF(AZ$7=$F227,$H227,\"\")","v":""},"",{"$f":"IF(BB$7=$F227,$H227,\"\")","v":""},"",{"$f":"IF(BD$7=$F227,$H227,\"\")","v":""},"",{"$f":"IF(BF$7=$F227,$H227,\"\")","v":""},"",{"$f":"IF(BH$7=$F227,$H227,\"\")","v":""},"",{"$f":"IF(BJ$7=$F227,$H227,\"\")","v":""},"",{"$f":"IF(BL$7=$F227,$H227,\"\")","v":""},"",{"$f":"IF(BN$7=$F227,$H227,\"\")","v":""},"",{"$f":"IF(BP$7=$F227,$H227,\"\")","v":""},"",{"$f":"IF(BR$7=$F227,$H227,\"\")","v":""},"",{"$f":"IF(BT$7=$F227,$H227,\"\")","v":""},"",{"$f":"IF(BV$7=$F227,$H227,\"\")","v":""},"",{"$f":"IF(BX$7=$F227,$H227,\"\")","v":""},"",{"$f":"IF(BZ$7=$F227,$H227,\"\")","v":""},"",{"$f":"IF(CB$7=$F227,$H227,\"\")","v":""},"",{"$f":"IF(CD$7=$F227,$H227,\"\")","v":""},"",{"$f":"IF(CF$7=$F227,$H227,\"\")","v":""},"",{"$f":"IF(CH$7=$F227,$H227,\"\")","v":""},"",{"$f":"IF(CJ$7=$F227,$H227,\"\")","v":""},"",{"$f":"IF(CL$7=$F227,$H227,\"\")","v":""},"",{"$f":"IF(CN$7=$F227,$H227,\"\")","v":""},"",{"$f":"IF(CP$7=$F227,$H227,\"\")","v":""},"",{"$f":"IF(CR$7=$F227,$H227,\"\")","v":""},"",{"$f":"IF(CT$7=$F227,$H227,\"\")","v":""},"",{"$f":"IF(CV$7=$F227,$H227,\"\")","v":""},"",{"$f":"IF(CX$7=$F227,$H227,\"\")","v":""},"",{"$f":"IF(CZ$7=$F227,$H227,\"\")","v":""},"",{"$f":"IF(DB$7=$F227,$H227,\"\")","v":""},"",{"$f":"IF(DD$7=$F227,$H227,\"\")","v":""},"",{"$f":"IF(DF$7=$F227,$H227,\"\")","v":""},0,{"$f":"IF(DH$7=$F227,$H227,\"\")","v":0},0,{"$f":"IF(DJ$7=$F227,$H227,\"\")","v":0},0,{"$f":"IF(DL$7=$F227,$H227,\"\")","v":0},0,{"$f":"IF(DN$7=$F227,$H227,\"\")","v":0},0,{"$f":"IF(DP$7=$F227,$H227,\"\")","v":0},0,{"$f":"IF(DR$7=$F227,$H227,\"\")","v":0},0,{"$f":"IF(DT$7=$F227,$H227,\"\")","v":0},0,{"$f":"IF(DV$7=$F227,$H227,\"\")","v":0},0,{"$f":"IF(DX$7=$F227,$H227,\"\")","v":0},0,{"$f":"IF(DZ$7=$F227,$H227,\"\")","v":0},0,{"$f":"IF(EB$7=$F227,$H227,\"\")","v":0},0,{"$f":"IF(ED$7=$F227,$H227,\"\")","v":0},0,{"$f":"IF(EF$7=$F227,$H227,\"\")","v":0},0,{"$f":"IF(EH$7=$F227,$H227,\"\")","v":0},0,{"$f":"IF(EJ$7=$F227,$H227,\"\")","v":0},0,{"$f":"IF(EL$7=$F227,$H227,\"\")","v":0},0,{"$f":"IF(EN$7=$F227,$H227,\"\")","v":0},0,{"$f":"IF(EP$7=$F227,$H227,\"\")","v":0},0,{"$f":"IF(ER$7=$F227,$H227,\"\")","v":0},0,{"$f":"IF(ET$7=$F227,$H227,\"\")","v":0},0,{"$f":"IF(EV$7=$F227,$H227,\"\")","v":0},0,{"$f":"IF(EX$7=$F227,$H227,\"\")","v":0},0,{"$f":"IF(EZ$7=$F227,$H227,\"\")","v":0},0,{"$f":"IF(FB$7=$F227,$H227,\"\")","v":0},0,{"$f":"IF(FD$7=$F227,$H227,\"\")","v":0},0,{"$f":"IF(FF$7=$F227,$H227,\"\")","v":0},0,{"$f":"IF(FH$7=$F227,$H227,\"\")","v":0},0,{"$f":"IF(FJ$7=$F227,$H227,\"\")","v":0},0,{"$f":"IF(FL$7=$F227,$H227,\"\")","v":0},0,0]
[220,null,null,null,null,null,null,null,true,0,0,"","","",{"$f":"IF(N$7=$F228,$H228,\"\")","v":""},"",{"$f":"IF(P$7=$F228,$H228,\"\")","v":""},"",{"$f":"IF(R$7=$F228,$H228,\"\")","v":""},"",{"$f":"IF(T$7=$F228,$H228,\"\")","v":""},"",{"$f":"IF(V$7=$F228,$H228,\"\")","v":""},"",{"$f":"IF(X$7=$F228,$H228,\"\")","v":""},"",{"$f":"IF(Z$7=$F228,$H228,\"\")","v":""},"",{"$f":"IF(AB$7=$F228,$H228,\"\")","v":""},"",{"$f":"IF(AD$7=$F228,$H228,\"\")","v":""},"",{"$f":"IF(AF$7=$F228,$H228,\"\")","v":""},"",{"$f":"IF(AH$7=$F228,$H228,\"\")","v":""},"",{"$f":"IF(AJ$7=$F228,$H228,\"\")","v":""},"",{"$f":"IF(AL$7=$F228,$H228,\"\")","v":""},"",{"$f":"IF(AN$7=$F228,$H228,\"\")","v":""},"",{"$f":"IF(AP$7=$F228,$H228,\"\")","v":""},"",{"$f":"IF(AR$7=$F228,$H228,\"\")","v":""},"",{"$f":"IF(AT$7=$F228,$H228,\"\")","v":""},"",{"$f":"IF(AV$7=$F228,$H228,\"\")","v":""},"",{"$f":"IF(AX$7=$F228,$H228,\"\")","v":""},"",{"$f":"IF(AZ$7=$F228,$H228,\"\")","v":""},"",{"$f":"IF(BB$7=$F228,$H228,\"\")","v":""},"",{"$f":"IF(BD$7=$F228,$H228,\"\")","v":""},"",{"$f":"IF(BF$7=$F228,$H228,\"\")","v":""},"",{"$f":"IF(BH$7=$F228,$H228,\"\")","v":""},"",{"$f":"IF(BJ$7=$F228,$H228,\"\")","v":""},"",{"$f":"IF(BL$7=$F228,$H228,\"\")","v":""},"",{"$f":"IF(BN$7=$F228,$H228,\"\")","v":""},"",{"$f":"IF(BP$7=$F228,$H228,\"\")","v":""},"",{"$f":"IF(BR$7=$F228,$H228,\"\")","v":""},"",{"$f":"IF(BT$7=$F228,$H228,\"\")","v":""},"",{"$f":"IF(BV$7=$F228,$H228,\"\")","v":""},"",{"$f":"IF(BX$7=$F228,$H228,\"\")","v":""},"",{"$f":"IF(BZ$7=$F228,$H228,\"\")","v":""},"",{"$f":"IF(CB$7=$F228,$H228,\"\")","v":""},"",{"$f":"IF(CD$7=$F228,$H228,\"\")","v":""},"",{"$f":"IF(CF$7=$F228,$H228,\"\")","v":""},"",{"$f":"IF(CH$7=$F228,$H228,\"\")","v":""},"",{"$f":"IF(CJ$7=$F228,$H228,\"\")","v":""},"",{"$f":"IF(CL$7=$F228,$H228,\"\")","v":""},"",{"$f":"IF(CN$7=$F228,$H228,\"\")","v":""},"",{"$f":"IF(CP$7=$F228,$H228,\"\")","v":""},"",{"$f":"IF(CR$7=$F228,$H228,\"\")","v":""},"",{"$f":"IF(CT$7=$F228,$H228,\"\")","v":""},"",{"$f":"IF(CV$7=$F228,$H228,\"\")","v":""},"",{"$f":"IF(CX$7=$F228,$H228,\"\")","v":""},"",{"$f":"IF(CZ$7=$F228,$H228,\"\")","v":""},"",{"$f":"IF(DB$7=$F228,$H228,\"\")","v":""},"",{"$f":"IF(DD$7=$F228,$H228,\"\")","v":""},"",{"$f":"IF(DF$7=$F228,$H228,\"\")","v":""},0,{"$f":"IF(DH$7=$F228,$H228,\"\")","v":0},0,{"$f":"IF(DJ$7=$F228,$H228,\"\")","v":0},0,{"$f":"IF(DL$7=$F228,$H228,\"\")","v":0},0,{"$f":"IF(DN$7=$F228,$H228,\"\")","v":0},0,{"$f":"IF(DP$7=$F228,$H228,\"\")","v":0},0,{"$f":"IF(DR$7=$F228,$H228,\"\")","v":0},0,{"$f":"IF(DT$7=$F228,$H228,\"\")","v":0},0,{"$f":"IF(DV$7=$F228,$H228,\"\")","v":0},0,{"$f":"IF(DX$7=$F228,$H228,\"\")","v":0},0,{"$f":"IF(DZ$7=$F228,$H228,\"\")","v":0},0,{"$f":"IF(EB$7=$F228,$H228,\"\")","v":0},0,{"$f":"IF(ED$7=$F228,$H228,\"\")","v":0},0,{"$f":"IF(EF$7=$F228,$H228,\"\")","v":0},0,{"$f":"IF(EH$7=$F228,$H228,\"\")","v":0},0,{"$f":"IF(EJ$7=$F228,$H228,\"\")","v":0},0,{"$f":"IF(EL$7=$F228,$H228,\"\")","v":0},0,{"$f":"IF(EN$7=$F228,$H228,\"\")","v":0},0,{"$f":"IF(EP$7=$F228,$H228,\"\")","v":0},0,{"$f":"IF(ER$7=$F228,$H228,\"\")","v":0},0,{"$f":"IF(ET$7=$F228,$H228,\"\")","v":0},0,{"$f":"IF(EV$7=$F228,$H228,\"\")","v":0},0,{"$f":"IF(EX$7=$F228,$H228,\"\")","v":0},0,{"$f":"IF(EZ$7=$F228,$H228,\"\")","v":0},0,{"$f":"IF(FB$7=$F228,$H228,\"\")","v":0},0,{"$f":"IF(FD$7=$F228,$H228,\"\")","v":0},0,{"$f":"IF(FF$7=$F228,$H228,\"\")","v":0},0,{"$f":"IF(FH$7=$F228,$H228,\"\")","v":0},0,{"$f":"IF(FJ$7=$F228,$H228,\"\")","v":0},0,{"$f":"IF(FL$7=$F228,$H228,\"\")","v":0},0,0]
[221,null,null,null,null,null,null,null,true,0,0,"","","",{"$f":"IF(N$7=$F229,$H229,\"\")","v":""},"",{"$f":"IF(P$7=$F229,$H229,\"\")","v":""},"",{"$f":"IF(R$7=$F229,$H229,\"\")","v":""},"",{"$f":"IF(T$7=$F229,$H229,\"\")","v":""},"",{"$f":"IF(V$7=$F229,$H229,\"\")","v":""},"",{"$f":"IF(X$7=$F229,$H229,\"\")","v":""},"",{"$f":"IF(Z$7=$F229,$H229,\"\")","v":""},"",{"$f":"IF(AB$7=$F229,$H229,\"\")","v":""},"",{"$f":"IF(AD$7=$F229,$H229,\"\")","v":""},"",{"$f":"IF(AF$7=$F229,$H229,\"\")","v":""},"",{"$f":"IF(AH$7=$F229,$H229,\"\")","v":""},"",{"$f":"IF(AJ$7=$F229,$H229,\"\")","v":""},"",{"$f":"IF(AL$7=$F229,$H229,\"\")","v":""},"",{"$f":"IF(AN$7=$F229,$H229,\"\")","v":""},"",{"$f":"IF(AP$7=$F229,$H229,\"\")","v":""},"",{"$f":"IF(AR$7=$F229,$H229,\"\")","v":""},"",{"$f":"IF(AT$7=$F229,$H229,\"\")","v":""},"",{"$f":"IF(AV$7=$F229,$H229,\"\")","v":""},"",{"$f":"IF(AX$7=$F229,$H229,\"\")","v":""},"",{"$f":"IF(AZ$7=$F229,$H229,\"\")","v":""},"",{"$f":"IF(BB$7=$F229,$H229,\"\")","v":""},"",{"$f":"IF(BD$7=$F229,$H229,\"\")","v":""},"",{"$f":"IF(BF$7=$F229,$H229,\"\")","v":""},"",{"$f":"IF(BH$7=$F229,$H229,\"\")","v":""},"",{"$f":"IF(BJ$7=$F229,$H229,\"\")","v":""},"",{"$f":"IF(BL$7=$F229,$H229,\"\")","v":""},"",{"$f":"IF(BN$7=$F229,$H229,\"\")","v":""},"",{"$f":"IF(BP$7=$F229,$H229,\"\")","v":""},"",{"$f":"IF(BR$7=$F229,$H229,\"\")","v":""},"",{"$f":"IF(BT$7=$F229,$H229,\"\")","v":""},"",{"$f":"IF(BV$7=$F229,$H229,\"\")","v":""},"",{"$f":"IF(BX$7=$F229,$H229,\"\")","v":""},"",{"$f":"IF(BZ$7=$F229,$H229,\"\")","v":""},"",{"$f":"IF(CB$7=$F229,$H229,\"\")","v":""},"",{"$f":"IF(CD$7=$F229,$H229,\"\")","v":""},"",{"$f":"IF(CF$7=$F229,$H229,\"\")","v":""},"",{"$f":"IF(CH$7=$F229,$H229,\"\")","v":""},"",{"$f":"IF(CJ$7=$F229,$H229,\"\")","v":""},"",{"$f":"IF(CL$7=$F229,$H229,\"\")","v":""},"",{"$f":"IF(CN$7=$F229,$H229,\"\")","v":""},"",{"$f":"IF(CP$7=$F229,$H229,\"\")","v":""},"",{"$f":"IF(CR$7=$F229,$H229,\"\")","v":""},"",{"$f":"IF(CT$7=$F229,$H229,\"\")","v":""},"",{"$f":"IF(CV$7=$F229,$H229,\"\")","v":""},"",{"$f":"IF(CX$7=$F229,$H229,\"\")","v":""},"",{"$f":"IF(CZ$7=$F229,$H229,\"\")","v":""},"",{"$f":"IF(DB$7=$F229,$H229,\"\")","v":""},"",{"$f":"IF(DD$7=$F229,$H229,\"\")","v":""},"",{"$f":"IF(DF$7=$F229,$H229,\"\")","v":""},0,{"$f":"IF(DH$7=$F229,$H229,\"\")","v":0},0,{"$f":"IF(DJ$7=$F229,$H229,\"\")","v":0},0,{"$f":"IF(DL$7=$F229,$H229,\"\")","v":0},0,{"$f":"IF(DN$7=$F229,$H229,\"\")","v":0},0,{"$f":"IF(DP$7=$F229,$H229,\"\")","v":0},0,{"$f":"IF(DR$7=$F229,$H229,\"\")","v":0},0,{"$f":"IF(DT$7=$F229,$H229,\"\")","v":0},0,{"$f":"IF(DV$7=$F229,$H229,\"\")","v":0},0,{"$f":"IF(DX$7=$F229,$H229,\"\")","v":0},0,{"$f":"IF(DZ$7=$F229,$H229,\"\")","v":0},0,{"$f":"IF(EB$7=$F229,$H229,\"\")","v":0},0,{"$f":"IF(ED$7=$F229,$H229,\"\")","v":0},0,{"$f":"IF(EF$7=$F229,$H229,\"\")","v":0},0,{"$f":"IF(EH$7=$F229,$H229,\"\")","v":0},0,{"$f":"IF(EJ$7=$F229,$H229,\"\")","v":0},0,{"$f":"IF(EL$7=$F229,$H229,\"\")","v":0},0,{"$f":"IF(EN$7=$F229,$H229,\"\")","v":0},0,{"$f":"IF(EP$7=$F229,$H229,\"\")","v":0},0,{"$f":"IF(ER$7=$F229,$H229,\"\")","v":0},0,{"$f":"IF(ET$7=$F229,$H229,\"\")","v":0},0,{"$f":"IF(EV$7=$F229,$H229,\"\")","v":0},0,{"$f":"IF(EX$7=$F229,$H229,\"\")","v":0},0,{"$f":"IF(EZ$7=$F229,$H229,\"\")","v":0},0,{"$f":"IF(FB$7=$F229,$H229,\"\")","v":0},0,{"$f":"IF(FD$7=$F229,$H229,\"\")","v":0},0,{"$f":"IF(FF$7=$F229,$H229,\"\")","v":0},0,{"$f":"IF(FH$7=$F229,$H229,\"\")","v":0},0,{"$f":"IF(FJ$7=$F229,$H229,\"\")","v":0},0,{"$f":"IF(FL$7=$F229,$H229,\"\")","v":0},0,0]
[222,null,null,null,null,null,null,null,true,0,0,"","","",{"$f":"IF(N$7=$F230,$H230,\"\")","v":""},"",{"$f":"IF(P$7=$F230,$H230,\"\")","v":""},"",{"$f":"IF(R$7=$F230,$H230,\"\")","v":""},"",{"$f":"IF(T$7=$F230,$H230,\"\")","v":""},"",{"$f":"IF(V$7=$F230,$H230,\"\")","v":""},"",{"$f":"IF(X$7=$F230,$H230,\"\")","v":""},"",{"$f":"IF(Z$7=$F230,$H230,\"\")","v":""},"",{"$f":"IF(AB$7=$F230,$H230,\"\")","v":""},"",{"$f":"IF(AD$7=$F230,$H230,\"\")","v":""},"",{"$f":"IF(AF$7=$F230,$H230,\"\")","v":""},"",{"$f":"IF(AH$7=$F230,$H230,\"\")","v":""},"",{"$f":"IF(AJ$7=$F230,$H230,\"\")","v":""},"",{"$f":"IF(AL$7=$F230,$H230,\"\")","v":""},"",{"$f":"IF(AN$7=$F230,$H230,\"\")","v":""},"",{"$f":"IF(AP$7=$F230,$H230,\"\")","v":""},"",{"$f":"IF(AR$7=$F230,$H230,\"\")","v":""},"",{"$f":"IF(AT$7=$F230,$H230,\"\")","v":""},"",{"$f":"IF(AV$7=$F230,$H230,\"\")","v":""},"",{"$f":"IF(AX$7=$F230,$H230,\"\")","v":""},"",{"$f":"IF(AZ$7=$F230,$H230,\"\")","v":""},"",{"$f":"IF(BB$7=$F230,$H230,\"\")","v":""},"",{"$f":"IF(BD$7=$F230,$H230,\"\")","v":""},"",{"$f":"IF(BF$7=$F230,$H230,\"\")","v":""},"",{"$f":"IF(BH$7=$F230,$H230,\"\")","v":""},"",{"$f":"IF(BJ$7=$F230,$H230,\"\")","v":""},"",{"$f":"IF(BL$7=$F230,$H230,\"\")","v":""},"",{"$f":"IF(BN$7=$F230,$H230,\"\")","v":""},"",{"$f":"IF(BP$7=$F230,$H230,\"\")","v":""},"",{"$f":"IF(BR$7=$F230,$H230,\"\")","v":""},"",{"$f":"IF(BT$7=$F230,$H230,\"\")","v":""},"",{"$f":"IF(BV$7=$F230,$H230,\"\")","v":""},"",{"$f":"IF(BX$7=$F230,$H230,\"\")","v":""},"",{"$f":"IF(BZ$7=$F230,$H230,\"\")","v":""},"",{"$f":"IF(CB$7=$F230,$H230,\"\")","v":""},"",{"$f":"IF(CD$7=$F230,$H230,\"\")","v":""},"",{"$f":"IF(CF$7=$F230,$H230,\"\")","v":""},"",{"$f":"IF(CH$7=$F230,$H230,\"\")","v":""},"",{"$f":"IF(CJ$7=$F230,$H230,\"\")","v":""},"",{"$f":"IF(CL$7=$F230,$H230,\"\")","v":""},"",{"$f":"IF(CN$7=$F230,$H230,\"\")","v":""},"",{"$f":"IF(CP$7=$F230,$H230,\"\")","v":""},"",{"$f":"IF(CR$7=$F230,$H230,\"\")","v":""},"",{"$f":"IF(CT$7=$F230,$H230,\"\")","v":""},"",{"$f":"IF(CV$7=$F230,$H230,\"\")","v":""},"",{"$f":"IF(CX$7=$F230,$H230,\"\")","v":""},"",{"$f":"IF(CZ$7=$F230,$H230,\"\")","v":""},"",{"$f":"IF(DB$7=$F230,$H230,\"\")","v":""},"",{"$f":"IF(DD$7=$F230,$H230,\"\")","v":""},"",{"$f":"IF(DF$7=$F230,$H230,\"\")","v":""},0,{"$f":"IF(DH$7=$F230,$H230,\"\")","v":0},0,{"$f":"IF(DJ$7=$F230,$H230,\"\")","v":0},0,{"$f":"IF(DL$7=$F230,$H230,\"\")","v":0},0,{"$f":"IF(DN$7=$F230,$H230,\"\")","v":0},0,{"$f":"IF(DP$7=$F230,$H230,\"\")","v":0},0,{"$f":"IF(DR$7=$F230,$H230,\"\")","v":0},0,{"$f":"IF(DT$7=$F230,$H230,\"\")","v":0},0,{"$f":"IF(DV$7=$F230,$H230,\"\")","v":0},0,{"$f":"IF(DX$7=$F230,$H230,\"\")","v":0},0,{"$f":"IF(DZ$7=$F230,$H230,\"\")","v":0},0,{"$f":"IF(EB$7=$F230,$H230,\"\")","v":0},0,{"$f":"IF(ED$7=$F230,$H230,\"\")","v":0},0,{"$f":"IF(EF$7=$F230,$H230,\"\")","v":0},0,{"$f":"IF(EH$7=$F230,$H230,\"\")","v":0},0,{"$f":"IF(EJ$7=$F230,$H230,\"\")","v":0},0,{"$f":"IF(EL$7=$F230,$H230,\"\")","v":0},0,{"$f":"IF(EN$7=$F230,$H230,\"\")","v":0},0,{"$f":"IF(EP$7=$F230,$H230,\"\")","v":0},0,{"$f":"IF(ER$7=$F230,$H230,\"\")","v":0},0,{"$f":"IF(ET$7=$F230,$H230,\"\")","v":0},0,{"$f":"IF(EV$7=$F230,$H230,\"\")","v":0},0,{"$f":"IF(EX$7=$F230,$H230,\"\")","v":0},0,{"$f":"IF(EZ$7=$F230,$H230,\"\")","v":0},0,{"$f":"IF(FB$7=$F230,$H230,\"\")","v":0},0,{"$f":"IF(FD$7=$F230,$H230,\"\")","v":0},0,{"$f":"IF(FF$7=$F230,$H230,\"\")","v":0},0,{"$f":"IF(FH$7=$F230,$H230,\"\")","v":0},0,{"$f":"IF(FJ$7=$F230,$H230,\"\")","v":0},0,{"$f":"IF(FL$7=$F230,$H230,\"\")","v":0},0,0]
[223,null,null,null,null,null,null,null,true,0,0,"","","",{"$f":"IF(N$7=$F231,$H231,\"\")","v":""},"",{"$f":"IF(P$7=$F231,$H231,\"\")","v":""},"",{"$f":"IF(R$7=$F231,$H231,\"\")","v":""},"",{"$f":"IF(T$7=$F231,$H231,\"\")","v":""},"",{"$f":"IF(V$7=$F231,$H231,\"\")","v":""},"",{"$f":"IF(X$7=$F231,$H231,\"\")","v":""},"",{"$f":"IF(Z$7=$F231,$H231,\"\")","v":""},"",{"$f":"IF(AB$7=$F231,$H231,\"\")","v":""},"",{"$f":"IF(AD$7=$F231,$H231,\"\")","v":""},"",{"$f":"IF(AF$7=$F231,$H231,\"\")","v":""},"",{"$f":"IF(AH$7=$F231,$H231,\"\")","v":""},"",{"$f":"IF(AJ$7=$F231,$H231,\"\")","v":""},"",{"$f":"IF(AL$7=$F231,$H231,\"\")","v":""},"",{"$f":"IF(AN$7=$F231,$H231,\"\")","v":""},"",{"$f":"IF(AP$7=$F231,$H231,\"\")","v":""},"",{"$f":"IF(AR$7=$F231,$H231,\"\")","v":""},"",{"$f":"IF(AT$7=$F231,$H231,\"\")","v":""},"",{"$f":"IF(AV$7=$F231,$H231,\"\")","v":""},"",{"$f":"IF(AX$7=$F231,$H231,\"\")","v":""},"",{"$f":"IF(AZ$7=$F231,$H231,\"\")","v":""},"",{"$f":"IF(BB$7=$F231,$H231,\"\")","v":""},"",{"$f":"IF(BD$7=$F231,$H231,\"\")","v":""},"",{"$f":"IF(BF$7=$F231,$H231,\"\")","v":""},"",{"$f":"IF(BH$7=$F231,$H231,\"\")","v":""},"",{"$f":"IF(BJ$7=$F231,$H231,\"\")","v":""},"",{"$f":"IF(BL$7=$F231,$H231,\"\")","v":""},"",{"$f":"IF(BN$7=$F231,$H231,\"\")","v":""},"",{"$f":"IF(BP$7=$F231,$H231,\"\")","v":""},"",{"$f":"IF(BR$7=$F231,$H231,\"\")","v":""},"",{"$f":"IF(BT$7=$F231,$H231,\"\")","v":""},"",{"$f":"IF(BV$7=$F231,$H231,\"\")","v":""},"",{"$f":"IF(BX$7=$F231,$H231,\"\")","v":""},"",{"$f":"IF(BZ$7=$F231,$H231,\"\")","v":""},"",{"$f":"IF(CB$7=$F231,$H231,\"\")","v":""},"",{"$f":"IF(CD$7=$F231,$H231,\"\")","v":""},"",{"$f":"IF(CF$7=$F231,$H231,\"\")","v":""},"",{"$f":"IF(CH$7=$F231,$H231,\"\")","v":""},"",{"$f":"IF(CJ$7=$F231,$H231,\"\")","v":""},"",{"$f":"IF(CL$7=$F231,$H231,\"\")","v":""},"",{"$f":"IF(CN$7=$F231,$H231,\"\")","v":""},"",{"$f":"IF(CP$7=$F231,$H231,\"\")","v":""},"",{"$f":"IF(CR$7=$F231,$H231,\"\")","v":""},"",{"$f":"IF(CT$7=$F231,$H231,\"\")","v":""},"",{"$f":"IF(CV$7=$F231,$H231,\"\")","v":""},"",{"$f":"IF(CX$7=$F231,$H231,\"\")","v":""},"",{"$f":"IF(CZ$7=$F231,$H231,\"\")","v":""},"",{"$f":"IF(DB$7=$F231,$H231,\"\")","v":""},"",{"$f":"IF(DD$7=$F231,$H231,\"\")","v":""},"",{"$f":"IF(DF$7=$F231,$H231,\"\")","v":""},0,{"$f":"IF(DH$7=$F231,$H231,\"\")","v":0},0,{"$f":"IF(DJ$7=$F231,$H231,\"\")","v":0},0,{"$f":"IF(DL$7=$F231,$H231,\"\")","v":0},0,{"$f":"IF(DN$7=$F231,$H231,\"\")","v":0},0,{"$f":"IF(DP$7=$F231,$H231,\"\")","v":0},0,{"$f":"IF(DR$7=$F231,$H231,\"\")","v":0},0,{"$f":"IF(DT$7=$F231,$H231,\"\")","v":0},0,{"$f":"IF(DV$7=$F231,$H231,\"\")","v":0},0,{"$f":"IF(DX$7=$F231,$H231,\"\")","v":0},0,{"$f":"IF(DZ$7=$F231,$H231,\"\")","v":0},0,{"$f":"IF(EB$7=$F231,$H231,\"\")","v":0},0,{"$f":"IF(ED$7=$F231,$H231,\"\")","v":0},0,{"$f":"IF(EF$7=$F231,$H231,\"\")","v":0},0,{"$f":"IF(EH$7=$F231,$H231,\"\")","v":0},0,{"$f":"IF(EJ$7=$F231,$H231,\"\")","v":0},0,{"$f":"IF(EL$7=$F231,$H231,\"\")","v":0},0,{"$f":"IF(EN$7=$F231,$H231,\"\")","v":0},0,{"$f":"IF(EP$7=$F231,$H231,\"\")","v":0},0,{"$f":"IF(ER$7=$F231,$H231,\"\")","v":0},0,{"$f":"IF(ET$7=$F231,$H231,\"\")","v":0},0,{"$f":"IF(EV$7=$F231,$H231,\"\")","v":0},0,{"$f":"IF(EX$7=$F231,$H231,\"\")","v":0},0,{"$f":"IF(EZ$7=$F231,$H231,\"\")","v":0},0,{"$f":"IF(FB$7=$F231,$H231,\"\")","v":0},0,{"$f":"IF(FD$7=$F231,$H231,\"\")","v":0},0,{"$f":"IF(FF$7=$F231,$H231,\"\")","v":0},0,{"$f":"IF(FH$7=$F231,$H231,\"\")","v":0},0,{"$f":"IF(FJ$7=$F231,$H231,\"\")","v":0},0,{"$f":"IF(FL$7=$F231,$H231,\"\")","v":0},0,0]
[224,null,null,null,null,null,null,null,true,0,0,"","","",{"$f":"IF(N$7=$F232,$H232,\"\")","v":""},"",{"$f":"IF(P$7=$F232,$H232,\"\")","v":""},"",{"$f":"IF(R$7=$F232,$H232,\"\")","v":""},"",{"$f":"IF(T$7=$F232,$H232,\"\")","v":""},"",{"$f":"IF(V$7=$F232,$H232,\"\")","v":""},"",{"$f":"IF(X$7=$F232,$H232,\"\")","v":""},"",{"$f":"IF(Z$7=$F232,$H232,\"\")","v":""},"",{"$f":"IF(AB$7=$F232,$H232,\"\")","v":""},"",{"$f":"IF(AD$7=$F232,$H232,\"\")","v":""},"",{"$f":"IF(AF$7=$F232,$H232,\"\")","v":""},"",{"$f":"IF(AH$7=$F232,$H232,\"\")","v":""},"",{"$f":"IF(AJ$7=$F232,$H232,\"\")","v":""},"",{"$f":"IF(AL$7=$F232,$H232,\"\")","v":""},"",{"$f":"IF(AN$7=$F232,$H232,\"\")","v":""},"",{"$f":"IF(AP$7=$F232,$H232,\"\")","v":""},"",{"$f":"IF(AR$7=$F232,$H232,\"\")","v":""},"",{"$f":"IF(AT$7=$F232,$H232,\"\")","v":""},"",{"$f":"IF(AV$7=$F232,$H232,\"\")","v":""},"",{"$f":"IF(AX$7=$F232,$H232,\"\")","v":""},"",{"$f":"IF(AZ$7=$F232,$H232,\"\")","v":""},"",{"$f":"IF(BB$7=$F232,$H232,\"\")","v":""},"",{"$f":"IF(BD$7=$F232,$H232,\"\")","v":""},"",{"$f":"IF(BF$7=$F232,$H232,\"\")","v":""},"",{"$f":"IF(BH$7=$F232,$H232,\"\")","v":""},"",{"$f":"IF(BJ$7=$F232,$H232,\"\")","v":""},"",{"$f":"IF(BL$7=$F232,$H232,\"\")","v":""},"",{"$f":"IF(BN$7=$F232,$H232,\"\")","v":""},"",{"$f":"IF(BP$7=$F232,$H232,\"\")","v":""},"",{"$f":"IF(BR$7=$F232,$H232,\"\")","v":""},"",{"$f":"IF(BT$7=$F232,$H232,\"\")","v":""},"",{"$f":"IF(BV$7=$F232,$H232,\"\")","v":""},"",{"$f":"IF(BX$7=$F232,$H232,\"\")","v":""},"",{"$f":"IF(BZ$7=$F232,$H232,\"\")","v":""},"",{"$f":"IF(CB$7=$F232,$H232,\"\")","v":""},"",{"$f":"IF(CD$7=$F232,$H232,\"\")","v":""},"",{"$f":"IF(CF$7=$F232,$H232,\"\")","v":""},"",{"$f":"IF(CH$7=$F232,$H232,\"\")","v":""},"",{"$f":"IF(CJ$7=$F232,$H232,\"\")","v":""},"",{"$f":"IF(CL$7=$F232,$H232,\"\")","v":""},"",{"$f":"IF(CN$7=$F232,$H232,\"\")","v":""},"",{"$f":"IF(CP$7=$F232,$H232,\"\")","v":""},"",{"$f":"IF(CR$7=$F232,$H232,\"\")","v":""},"",{"$f":"IF(CT$7=$F232,$H232,\"\")","v":""},"",{"$f":"IF(CV$7=$F232,$H232,\"\")","v":""},"",{"$f":"IF(CX$7=$F232,$H232,\"\")","v":""},"",{"$f":"IF(CZ$7=$F232,$H232,\"\")","v":""},"",{"$f":"IF(DB$7=$F232,$H232,\"\")","v":""},"",{"$f":"IF(DD$7=$F232,$H232,\"\")","v":""},"",{"$f":"IF(DF$7=$F232,$H232,\"\")","v":""},0,{"$f":"IF(DH$7=$F232,$H232,\"\")","v":0},0,{"$f":"IF(DJ$7=$F232,$H232,\"\")","v":0},0,{"$f":"IF(DL$7=$F232,$H232,\"\")","v":0},0,{"$f":"IF(DN$7=$F232,$H232,\"\")","v":0},0,{"$f":"IF(DP$7=$F232,$H232,\"\")","v":0},0,{"$f":"IF(DR$7=$F232,$H232,\"\")","v":0},0,{"$f":"IF(DT$7=$F232,$H232,\"\")","v":0},0,{"$f":"IF(DV$7=$F232,$H232,\"\")","v":0},0,{"$f":"IF(DX$7=$F232,$H232,\"\")","v":0},0,{"$f":"IF(DZ$7=$F232,$H232,\"\")","v":0},0,{"$f":"IF(EB$7=$F232,$H232,\"\")","v":0},0,{"$f":"IF(ED$7=$F232,$H232,\"\")","v":0},0,{"$f":"IF(EF$7=$F232,$H232,\"\")","v":0},0,{"$f":"IF(EH$7=$F232,$H232,\"\")","v":0},0,{"$f":"IF(EJ$7=$F232,$H232,\"\")","v":0},0,{"$f":"IF(EL$7=$F232,$H232,\"\")","v":0},0,{"$f":"IF(EN$7=$F232,$H232,\"\")","v":0},0,{"$f":"IF(EP$7=$F232,$H232,\"\")","v":0},0,{"$f":"IF(ER$7=$F232,$H232,\"\")","v":0},0,{"$f":"IF(ET$7=$F232,$H232,\"\")","v":0},0,{"$f":"IF(EV$7=$F232,$H232,\"\")","v":0},0,{"$f":"IF(EX$7=$F232,$H232,\"\")","v":0},0,{"$f":"IF(EZ$7=$F232,$H232,\"\")","v":0},0,{"$f":"IF(FB$7=$F232,$H232,\"\")","v":0},0,{"$f":"IF(FD$7=$F232,$H232,\"\")","v":0},0,{"$f":"IF(FF$7=$F232,$H232,\"\")","v":0},0,{"$f":"IF(FH$7=$F232,$H232,\"\")","v":0},0,{"$f":"IF(FJ$7=$F232,$H232,\"\")","v":0},0,{"$f":"IF(FL$7=$F232,$H232,\"\")","v":0},0,0]
[225,null,null,null,null,null,null,null,true,0,0,"","","",{"$f":"IF(N$7=$F233,$H233,\"\")","v":""},"",{"$f":"IF(P$7=$F233,$H233,\"\")","v":""},"",{"$f":"IF(R$7=$F233,$H233,\"\")","v":""},"",{"$f":"IF(T$7=$F233,$H233,\"\")","v":""},"",{"$f":"IF(V$7=$F233,$H233,\"\")","v":""},"",{"$f":"IF(X$7=$F233,$H233,\"\")","v":""},"",{"$f":"IF(Z$7=$F233,$H233,\"\")","v":""},"",{"$f":"IF(AB$7=$F233,$H233,\"\")","v":""},"",{"$f":"IF(AD$7=$F233,$H233,\"\")","v":""},"",{"$f":"IF(AF$7=$F233,$H233,\"\")","v":""},"",{"$f":"IF(AH$7=$F233,$H233,\"\")","v":""},"",{"$f":"IF(AJ$7=$F233,$H233,\"\")","v":""},"",{"$f":"IF(AL$7=$F233,$H233,\"\")","v":""},"",{"$f":"IF(AN$7=$F233,$H233,\"\")","v":""},"",{"$f":"IF(AP$7=$F233,$H233,\"\")","v":""},"",{"$f":"IF(AR$7=$F233,$H233,\"\")","v":""},"",{"$f":"IF(AT$7=$F233,$H233,\"\")","v":""},"",{"$f":"IF(AV$7=$F233,$H233,\"\")","v":""},"",{"$f":"IF(AX$7=$F233,$H233,\"\")","v":""},"",{"$f":"IF(AZ$7=$F233,$H233,\"\")","v":""},"",{"$f":"IF(BB$7=$F233,$H233,\"\")","v":""},"",{"$f":"IF(BD$7=$F233,$H233,\"\")","v":""},"",{"$f":"IF(BF$7=$F233,$H233,\"\")","v":""},"",{"$f":"IF(BH$7=$F233,$H233,\"\")","v":""},"",{"$f":"IF(BJ$7=$F233,$H233,\"\")","v":""},"",{"$f":"IF(BL$7=$F233,$H233,\"\")","v":""},"",{"$f":"IF(BN$7=$F233,$H233,\"\")","v":""},"",{"$f":"IF(BP$7=$F233,$H233,\"\")","v":""},"",{"$f":"IF(BR$7=$F233,$H233,\"\")","v":""},"",{"$f":"IF(BT$7=$F233,$H233,\"\")","v":""},"",{"$f":"IF(BV$7=$F233,$H233,\"\")","v":""},"",{"$f":"IF(BX$7=$F233,$H233,\"\")","v":""},"",{"$f":"IF(BZ$7=$F233,$H233,\"\")","v":""},"",{"$f":"IF(CB$7=$F233,$H233,\"\")","v":""},"",{"$f":"IF(CD$7=$F233,$H233,\"\")","v":""},"",{"$f":"IF(CF$7=$F233,$H233,\"\")","v":""},"",{"$f":"IF(CH$7=$F233,$H233,\"\")","v":""},"",{"$f":"IF(CJ$7=$F233,$H233,\"\")","v":""},"",{"$f":"IF(CL$7=$F233,$H233,\"\")","v":""},"",{"$f":"IF(CN$7=$F233,$H233,\"\")","v":""},"",{"$f":"IF(CP$7=$F233,$H233,\"\")","v":""},"",{"$f":"IF(CR$7=$F233,$H233,\"\")","v":""},"",{"$f":"IF(CT$7=$F233,$H233,\"\")","v":""},"",{"$f":"IF(CV$7=$F233,$H233,\"\")","v":""},"",{"$f":"IF(CX$7=$F233,$H233,\"\")","v":""},"",{"$f":"IF(CZ$7=$F233,$H233,\"\")","v":""},"",{"$f":"IF(DB$7=$F233,$H233,\"\")","v":""},"",{"$f":"IF(DD$7=$F233,$H233,\"\")","v":""},"",{"$f":"IF(DF$7=$F233,$H233,\"\")","v":""},0,{"$f":"IF(DH$7=$F233,$H233,\"\")","v":0},0,{"$f":"IF(DJ$7=$F233,$H233,\"\")","v":0},0,{"$f":"IF(DL$7=$F233,$H233,\"\")","v":0},0,{"$f":"IF(DN$7=$F233,$H233,\"\")","v":0},0,{"$f":"IF(DP$7=$F233,$H233,\"\")","v":0},0,{"$f":"IF(DR$7=$F233,$H233,\"\")","v":0},0,{"$f":"IF(DT$7=$F233,$H233,\"\")","v":0},0,{"$f":"IF(DV$7=$F233,$H233,\"\")","v":0},0,{"$f":"IF(DX$7=$F233,$H233,\"\")","v":0},0,{"$f":"IF(DZ$7=$F233,$H233,\"\")","v":0},0,{"$f":"IF(EB$7=$F233,$H233,\"\")","v":0},0,{"$f":"IF(ED$7=$F233,$H233,\"\")","v":0},0,{"$f":"IF(EF$7=$F233,$H233,\"\")","v":0},0,{"$f":"IF(EH$7=$F233,$H233,\"\")","v":0},0,{"$f":"IF(EJ$7=$F233,$H233,\"\")","v":0},0,{"$f":"IF(EL$7=$F233,$H233,\"\")","v":0},0,{"$f":"IF(EN$7=$F233,$H233,\"\")","v":0},0,{"$f":"IF(EP$7=$F233,$H233,\"\")","v":0},0,{"$f":"IF(ER$7=$F233,$H233,\"\")","v":0},0,{"$f":"IF(ET$7=$F233,$H233,\"\")","v":0},0,{"$f":"IF(EV$7=$F233,$H233,\"\")","v":0},0,{"$f":"IF(EX$7=$F233,$H233,\"\")","v":0},0,{"$f":"IF(EZ$7=$F233,$H233,\"\")","v":0},0,{"$f":"IF(FB$7=$F233,$H233,\"\")","v":0},0,{"$f":"IF(FD$7=$F233,$H233,\"\")","v":0},0,{"$f":"IF(FF$7=$F233,$H233,\"\")","v":0},0,{"$f":"IF(FH$7=$F233,$H233,\"\")","v":0},0,{"$f":"IF(FJ$7=$F233,$H233,\"\")","v":0},0,{"$f":"IF(FL$7=$F233,$H233,\"\")","v":0},0,0]
[226,null,null,null,null,null,null,null,true,0,0,"","","",{"$f":"IF(N$7=$F234,$H234,\"\")","v":""},"",{"$f":"IF(P$7=$F234,$H234,\"\")","v":""},"",{"$f":"IF(R$7=$F234,$H234,\"\")","v":""},"",{"$f":"IF(T$7=$F234,$H234,\"\")","v":""},"",{"$f":"IF(V$7=$F234,$H234,\"\")","v":""},"",{"$f":"IF(X$7=$F234,$H234,\"\")","v":""},"",{"$f":"IF(Z$7=$F234,$H234,\"\")","v":""},"",{"$f":"IF(AB$7=$F234,$H234,\"\")","v":""},"",{"$f":"IF(AD$7=$F234,$H234,\"\")","v":""},"",{"$f":"IF(AF$7=$F234,$H234,\"\")","v":""},"",{"$f":"IF(AH$7=$F234,$H234,\"\")","v":""},"",{"$f":"IF(AJ$7=$F234,$H234,\"\")","v":""},"",{"$f":"IF(AL$7=$F234,$H234,\"\")","v":""},"",{"$f":"IF(AN$7=$F234,$H234,\"\")","v":""},"",{"$f":"IF(AP$7=$F234,$H234,\"\")","v":""},"",{"$f":"IF(AR$7=$F234,$H234,\"\")","v":""},"",{"$f":"IF(AT$7=$F234,$H234,\"\")","v":""},"",{"$f":"IF(AV$7=$F234,$H234,\"\")","v":""},"",{"$f":"IF(AX$7=$F234,$H234,\"\")","v":""},"",{"$f":"IF(AZ$7=$F234,$H234,\"\")","v":""},"",{"$f":"IF(BB$7=$F234,$H234,\"\")","v":""},"",{"$f":"IF(BD$7=$F234,$H234,\"\")","v":""},"",{"$f":"IF(BF$7=$F234,$H234,\"\")","v":""},"",{"$f":"IF(BH$7=$F234,$H234,\"\")","v":""},"",{"$f":"IF(BJ$7=$F234,$H234,\"\")","v":""},"",{"$f":"IF(BL$7=$F234,$H234,\"\")","v":""},"",{"$f":"IF(BN$7=$F234,$H234,\"\")","v":""},"",{"$f":"IF(BP$7=$F234,$H234,\"\")","v":""},"",{"$f":"IF(BR$7=$F234,$H234,\"\")","v":""},"",{"$f":"IF(BT$7=$F234,$H234,\"\")","v":""},"",{"$f":"IF(BV$7=$F234,$H234,\"\")","v":""},"",{"$f":"IF(BX$7=$F234,$H234,\"\")","v":""},"",{"$f":"IF(BZ$7=$F234,$H234,\"\")","v":""},"",{"$f":"IF(CB$7=$F234,$H234,\"\")","v":""},"",{"$f":"IF(CD$7=$F234,$H234,\"\")","v":""},"",{"$f":"IF(CF$7=$F234,$H234,\"\")","v":""},"",{"$f":"IF(CH$7=$F234,$H234,\"\")","v":""},"",{"$f":"IF(CJ$7=$F234,$H234,\"\")","v":""},"",{"$f":"IF(CL$7=$F234,$H234,\"\")","v":""},"",{"$f":"IF(CN$7=$F234,$H234,\"\")","v":""},"",{"$f":"IF(CP$7=$F234,$H234,\"\")","v":""},"",{"$f":"IF(CR$7=$F234,$H234,\"\")","v":""},"",{"$f":"IF(CT$7=$F234,$H234,\"\")","v":""},"",{"$f":"IF(CV$7=$F234,$H234,\"\")","v":""},"",{"$f":"IF(CX$7=$F234,$H234,\"\")","v":""},"",{"$f":"IF(CZ$7=$F234,$H234,\"\")","v":""},"",{"$f":"IF(DB$7=$F234,$H234,\"\")","v":""},"",{"$f":"IF(DD$7=$F234,$H234,\"\")","v":""},"",{"$f":"IF(DF$7=$F234,$H234,\"\")","v":""},0,{"$f":"IF(DH$7=$F234,$H234,\"\")","v":0},0,{"$f":"IF(DJ$7=$F234,$H234,\"\")","v":0},0,{"$f":"IF(DL$7=$F234,$H234,\"\")","v":0},0,{"$f":"IF(DN$7=$F234,$H234,\"\")","v":0},0,{"$f":"IF(DP$7=$F234,$H234,\"\")","v":0},0,{"$f":"IF(DR$7=$F234,$H234,\"\")","v":0},0,{"$f":"IF(DT$7=$F234,$H234,\"\")","v":0},0,{"$f":"IF(DV$7=$F234,$H234,\"\")","v":0},0,{"$f":"IF(DX$7=$F234,$H234,\"\")","v":0},0,{"$f":"IF(DZ$7=$F234,$H234,\"\")","v":0},0,{"$f":"IF(EB$7=$F234,$H234,\"\")","v":0},0,{"$f":"IF(ED$7=$F234,$H234,\"\")","v":0},0,{"$f":"IF(EF$7=$F234,$H234,\"\")","v":0},0,{"$f":"IF(EH$7=$F234,$H234,\"\")","v":0},0,{"$f":"IF(EJ$7=$F234,$H234,\"\")","v":0},0,{"$f":"IF(EL$7=$F234,$H234,\"\")","v":0},0,{"$f":"IF(EN$7=$F234,$H234,\"\")","v":0},0,{"$f":"IF(EP$7=$F234,$H234,\"\")","v":0},0,{"$f":"IF(ER$7=$F234,$H234,\"\")","v":0},0,{"$f":"IF(ET$7=$F234,$H234,\"\")","v":0},0,{"$f":"IF(EV$7=$F234,$H234,\"\")","v":0},0,{"$f":"IF(EX$7=$F234,$H234,\"\")","v":0},0,{"$f":"IF(EZ$7=$F234,$H234,\"\")","v":0},0,{"$f":"IF(FB$7=$F234,$H234,\"\")","v":0},0,{"$f":"IF(FD$7=$F234,$H234,\"\")","v":0},0,{"$f":"IF(FF$7=$F234,$H234,\"\")","v":0},0,{"$f":"IF(FH$7=$F234,$H234,\"\")","v":0},0,{"$f":"IF(FJ$7=$F234,$H234,\"\")","v":0},0,{"$f":"IF(FL$7=$F234,$H234,\"\")","v":0},0,0]
[227,null,null,null,null,null,null,null,true,0,0,"","","",{"$f":"IF(N$7=$F235,$H235,\"\")","v":""},"",{"$f":"IF(P$7=$F235,$H235,\"\")","v":""},"",{"$f":"IF(R$7=$F235,$H235,\"\")","v":""},"",{"$f":"IF(T$7=$F235,$H235,\"\")","v":""},"",{"$f":"IF(V$7=$F235,$H235,\"\")","v":""},"",{"$f":"IF(X$7=$F235,$H235,\"\")","v":""},"",{"$f":"IF(Z$7=$F235,$H235,\"\")","v":""},"",{"$f":"IF(AB$7=$F235,$H235,\"\")","v":""},"",{"$f":"IF(AD$7=$F235,$H235,\"\")","v":""},"",{"$f":"IF(AF$7=$F235,$H235,\"\")","v":""},"",{"$f":"IF(AH$7=$F235,$H235,\"\")","v":""},"",{"$f":"IF(AJ$7=$F235,$H235,\"\")","v":""},"",{"$f":"IF(AL$7=$F235,$H235,\"\")","v":""},"",{"$f":"IF(AN$7=$F235,$H235,\"\")","v":""},"",{"$f":"IF(AP$7=$F235,$H235,\"\")","v":""},"",{"$f":"IF(AR$7=$F235,$H235,\"\")","v":""},"",{"$f":"IF(AT$7=$F235,$H235,\"\")","v":""},"",{"$f":"IF(AV$7=$F235,$H235,\"\")","v":""},"",{"$f":"IF(AX$7=$F235,$H235,\"\")","v":""},"",{"$f":"IF(AZ$7=$F235,$H235,\"\")","v":""},"",{"$f":"IF(BB$7=$F235,$H235,\"\")","v":""},"",{"$f":"IF(BD$7=$F235,$H235,\"\")","v":""},"",{"$f":"IF(BF$7=$F235,$H235,\"\")","v":""},"",{"$f":"IF(BH$7=$F235,$H235,\"\")","v":""},"",{"$f":"IF(BJ$7=$F235,$H235,\"\")","v":""},"",{"$f":"IF(BL$7=$F235,$H235,\"\")","v":""},"",{"$f":"IF(BN$7=$F235,$H235,\"\")","v":""},"",{"$f":"IF(BP$7=$F235,$H235,\"\")","v":""},"",{"$f":"IF(BR$7=$F235,$H235,\"\")","v":""},"",{"$f":"IF(BT$7=$F235,$H235,\"\")","v":""},"",{"$f":"IF(BV$7=$F235,$H235,\"\")","v":""},"",{"$f":"IF(BX$7=$F235,$H235,\"\")","v":""},"",{"$f":"IF(BZ$7=$F235,$H235,\"\")","v":""},"",{"$f":"IF(CB$7=$F235,$H235,\"\")","v":""},"",{"$f":"IF(CD$7=$F235,$H235,\"\")","v":""},"",{"$f":"IF(CF$7=$F235,$H235,\"\")","v":""},"",{"$f":"IF(CH$7=$F235,$H235,\"\")","v":""},"",{"$f":"IF(CJ$7=$F235,$H235,\"\")","v":""},"",{"$f":"IF(CL$7=$F235,$H235,\"\")","v":""},"",{"$f":"IF(CN$7=$F235,$H235,\"\")","v":""},"",{"$f":"IF(CP$7=$F235,$H235,\"\")","v":""},"",{"$f":"IF(CR$7=$F235,$H235,\"\")","v":""},"",{"$f":"IF(CT$7=$F235,$H235,\"\")","v":""},"",{"$f":"IF(CV$7=$F235,$H235,\"\")","v":""},"",{"$f":"IF(CX$7=$F235,$H235,\"\")","v":""},"",{"$f":"IF(CZ$7=$F235,$H235,\"\")","v":""},"",{"$f":"IF(DB$7=$F235,$H235,\"\")","v":""},"",{"$f":"IF(DD$7=$F235,$H235,\"\")","v":""},"",{"$f":"IF(DF$7=$F235,$H235,\"\")","v":""},0,{"$f":"IF(DH$7=$F235,$H235,\"\")","v":0},0,{"$f":"IF(DJ$7=$F235,$H235,\"\")","v":0},0,{"$f":"IF(DL$7=$F235,$H235,\"\")","v":0},0,{"$f":"IF(DN$7=$F235,$H235,\"\")","v":0},0,{"$f":"IF(DP$7=$F235,$H235,\"\")","v":0},0,{"$f":"IF(DR$7=$F235,$H235,\"\")","v":0},0,{"$f":"IF(DT$7=$F235,$H235,\"\")","v":0},0,{"$f":"IF(DV$7=$F235,$H235,\"\")","v":0},0,{"$f":"IF(DX$7=$F235,$H235,\"\")","v":0},0,{"$f":"IF(DZ$7=$F235,$H235,\"\")","v":0},0,{"$f":"IF(EB$7=$F235,$H235,\"\")","v":0},0,{"$f":"IF(ED$7=$F235,$H235,\"\")","v":0},0,{"$f":"IF(EF$7=$F235,$H235,\"\")","v":0},0,{"$f":"IF(EH$7=$F235,$H235,\"\")","v":0},0,{"$f":"IF(EJ$7=$F235,$H235,\"\")","v":0},0,{"$f":"IF(EL$7=$F235,$H235,\"\")","v":0},0,{"$f":"IF(EN$7=$F235,$H235,\"\")","v":0},0,{"$f":"IF(EP$7=$F235,$H235,\"\")","v":0},0,{"$f":"IF(ER$7=$F235,$H235,\"\")","v":0},0,{"$f":"IF(ET$7=$F235,$H235,\"\")","v":0},0,{"$f":"IF(EV$7=$F235,$H235,\"\")","v":0},0,{"$f":"IF(EX$7=$F235,$H235,\"\")","v":0},0,{"$f":"IF(EZ$7=$F235,$H235,\"\")","v":0},0,{"$f":"IF(FB$7=$F235,$H235,\"\")","v":0},0,{"$f":"IF(FD$7=$F235,$H235,\"\")","v":0},0,{"$f":"IF(FF$7=$F235,$H235,\"\")","v":0},0,{"$f":"IF(FH$7=$F235,$H235,\"\")","v":0},0,{"$f":"IF(FJ$7=$F235,$H235,\"\")","v":0},0,{"$f":"IF(FL$7=$F235,$H235,\"\")","v":0},0,0]
[228,null,null,null,null,null,null,null,true,0,0,"","","",{"$f":"IF(N$7=$F236,$H236,\"\")","v":""},"",{"$f":"IF(P$7=$F236,$H236,\"\")","v":""},"",{"$f":"IF(R$7=$F236,$H236,\"\")","v":""},"",{"$f":"IF(T$7=$F236,$H236,\"\")","v":""},"",{"$f":"IF(V$7=$F236,$H236,\"\")","v":""},"",{"$f":"IF(X$7=$F236,$H236,\"\")","v":""},"",{"$f":"IF(Z$7=$F236,$H236,\"\")","v":""},"",{"$f":"IF(AB$7=$F236,$H236,\"\")","v":""},"",{"$f":"IF(AD$7=$F236,$H236,\"\")","v":""},"",{"$f":"IF(AF$7=$F236,$H236,\"\")","v":""},"",{"$f":"IF(AH$7=$F236,$H236,\"\")","v":""},"",{"$f":"IF(AJ$7=$F236,$H236,\"\")","v":""},"",{"$f":"IF(AL$7=$F236,$H236,\"\")","v":""},"",{"$f":"IF(AN$7=$F236,$H236,\"\")","v":""},"",{"$f":"IF(AP$7=$F236,$H236,\"\")","v":""},"",{"$f":"IF(AR$7=$F236,$H236,\"\")","v":""},"",{"$f":"IF(AT$7=$F236,$H236,\"\")","v":""},"",{"$f":"IF(AV$7=$F236,$H236,\"\")","v":""},"",{"$f":"IF(AX$7=$F236,$H236,\"\")","v":""},"",{"$f":"IF(AZ$7=$F236,$H236,\"\")","v":""},"",{"$f":"IF(BB$7=$F236,$H236,\"\")","v":""},"",{"$f":"IF(BD$7=$F236,$H236,\"\")","v":""},"",{"$f":"IF(BF$7=$F236,$H236,\"\")","v":""},"",{"$f":"IF(BH$7=$F236,$H236,\"\")","v":""},"",{"$f":"IF(BJ$7=$F236,$H236,\"\")","v":""},"",{"$f":"IF(BL$7=$F236,$H236,\"\")","v":""},"",{"$f":"IF(BN$7=$F236,$H236,\"\")","v":""},"",{"$f":"IF(BP$7=$F236,$H236,\"\")","v":""},"",{"$f":"IF(BR$7=$F236,$H236,\"\")","v":""},"",{"$f":"IF(BT$7=$F236,$H236,\"\")","v":""},"",{"$f":"IF(BV$7=$F236,$H236,\"\")","v":""},"",{"$f":"IF(BX$7=$F236,$H236,\"\")","v":""},"",{"$f":"IF(BZ$7=$F236,$H236,\"\")","v":""},"",{"$f":"IF(CB$7=$F236,$H236,\"\")","v":""},"",{"$f":"IF(CD$7=$F236,$H236,\"\")","v":""},"",{"$f":"IF(CF$7=$F236,$H236,\"\")","v":""},"",{"$f":"IF(CH$7=$F236,$H236,\"\")","v":""},"",{"$f":"IF(CJ$7=$F236,$H236,\"\")","v":""},"",{"$f":"IF(CL$7=$F236,$H236,\"\")","v":""},"",{"$f":"IF(CN$7=$F236,$H236,\"\")","v":""},"",{"$f":"IF(CP$7=$F236,$H236,\"\")","v":""},"",{"$f":"IF(CR$7=$F236,$H236,\"\")","v":""},"",{"$f":"IF(CT$7=$F236,$H236,\"\")","v":""},"",{"$f":"IF(CV$7=$F236,$H236,\"\")","v":""},"",{"$f":"IF(CX$7=$F236,$H236,\"\")","v":""},"",{"$f":"IF(CZ$7=$F236,$H236,\"\")","v":""},"",{"$f":"IF(DB$7=$F236,$H236,\"\")","v":""},"",{"$f":"IF(DD$7=$F236,$H236,\"\")","v":""},"",{"$f":"IF(DF$7=$F236,$H236,\"\")","v":""},0,{"$f":"IF(DH$7=$F236,$H236,\"\")","v":0},0,{"$f":"IF(DJ$7=$F236,$H236,\"\")","v":0},0,{"$f":"IF(DL$7=$F236,$H236,\"\")","v":0},0,{"$f":"IF(DN$7=$F236,$H236,\"\")","v":0},0,{"$f":"IF(DP$7=$F236,$H236,\"\")","v":0},0,{"$f":"IF(DR$7=$F236,$H236,\"\")","v":0},0,{"$f":"IF(DT$7=$F236,$H236,\"\")","v":0},0,{"$f":"IF(DV$7=$F236,$H236,\"\")","v":0},0,{"$f":"IF(DX$7=$F236,$H236,\"\")","v":0},0,{"$f":"IF(DZ$7=$F236,$H236,\"\")","v":0},0,{"$f":"IF(EB$7=$F236,$H236,\"\")","v":0},0,{"$f":"IF(ED$7=$F236,$H236,\"\")","v":0},0,{"$f":"IF(EF$7=$F236,$H236,\"\")","v":0},0,{"$f":"IF(EH$7=$F236,$H236,\"\")","v":0},0,{"$f":"IF(EJ$7=$F236,$H236,\"\")","v":0},0,{"$f":"IF(EL$7=$F236,$H236,\"\")","v":0},0,{"$f":"IF(EN$7=$F236,$H236,\"\")","v":0},0,{"$f":"IF(EP$7=$F236,$H236,\"\")","v":0},0,{"$f":"IF(ER$7=$F236,$H236,\"\")","v":0},0,{"$f":"IF(ET$7=$F236,$H236,\"\")","v":0},0,{"$f":"IF(EV$7=$F236,$H236,\"\")","v":0},0,{"$f":"IF(EX$7=$F236,$H236,\"\")","v":0},0,{"$f":"IF(EZ$7=$F236,$H236,\"\")","v":0},0,{"$f":"IF(FB$7=$F236,$H236,\"\")","v":0},0,{"$f":"IF(FD$7=$F236,$H236,\"\")","v":0},0,{"$f":"IF(FF$7=$F236,$H236,\"\")","v":0},0,{"$f":"IF(FH$7=$F236,$H236,\"\")","v":0},0,{"$f":"IF(FJ$7=$F236,$H236,\"\")","v":0},0,{"$f":"IF(FL$7=$F236,$H236,\"\")","v":0},0,0]
[229,null,null,null,null,null,null,null,true,0,0,"","","",{"$f":"IF(N$7=$F237,$H237,\"\")","v":""},"",{"$f":"IF(P$7=$F237,$H237,\"\")","v":""},"",{"$f":"IF(R$7=$F237,$H237,\"\")","v":""},"",{"$f":"IF(T$7=$F237,$H237,\"\")","v":""},"",{"$f":"IF(V$7=$F237,$H237,\"\")","v":""},"",{"$f":"IF(X$7=$F237,$H237,\"\")","v":""},"",{"$f":"IF(Z$7=$F237,$H237,\"\")","v":""},"",{"$f":"IF(AB$7=$F237,$H237,\"\")","v":""},"",{"$f":"IF(AD$7=$F237,$H237,\"\")","v":""},"",{"$f":"IF(AF$7=$F237,$H237,\"\")","v":""},"",{"$f":"IF(AH$7=$F237,$H237,\"\")","v":""},"",{"$f":"IF(AJ$7=$F237,$H237,\"\")","v":""},"",{"$f":"IF(AL$7=$F237,$H237,\"\")","v":""},"",{"$f":"IF(AN$7=$F237,$H237,\"\")","v":""},"",{"$f":"IF(AP$7=$F237,$H237,\"\")","v":""},"",{"$f":"IF(AR$7=$F237,$H237,\"\")","v":""},"",{"$f":"IF(AT$7=$F237,$H237,\"\")","v":""},"",{"$f":"IF(AV$7=$F237,$H237,\"\")","v":""},"",{"$f":"IF(AX$7=$F237,$H237,\"\")","v":""},"",{"$f":"IF(AZ$7=$F237,$H237,\"\")","v":""},"",{"$f":"IF(BB$7=$F237,$H237,\"\")","v":""},"",{"$f":"IF(BD$7=$F237,$H237,\"\")","v":""},"",{"$f":"IF(BF$7=$F237,$H237,\"\")","v":""},"",{"$f":"IF(BH$7=$F237,$H237,\"\")","v":""},"",{"$f":"IF(BJ$7=$F237,$H237,\"\")","v":""},"",{"$f":"IF(BL$7=$F237,$H237,\"\")","v":""},"",{"$f":"IF(BN$7=$F237,$H237,\"\")","v":""},"",{"$f":"IF(BP$7=$F237,$H237,\"\")","v":""},"",{"$f":"IF(BR$7=$F237,$H237,\"\")","v":""},"",{"$f":"IF(BT$7=$F237,$H237,\"\")","v":""},"",{"$f":"IF(BV$7=$F237,$H237,\"\")","v":""},"",{"$f":"IF(BX$7=$F237,$H237,\"\")","v":""},"",{"$f":"IF(BZ$7=$F237,$H237,\"\")","v":""},"",{"$f":"IF(CB$7=$F237,$H237,\"\")","v":""},"",{"$f":"IF(CD$7=$F237,$H237,\"\")","v":""},"",{"$f":"IF(CF$7=$F237,$H237,\"\")","v":""},"",{"$f":"IF(CH$7=$F237,$H237,\"\")","v":""},"",{"$f":"IF(CJ$7=$F237,$H237,\"\")","v":""},"",{"$f":"IF(CL$7=$F237,$H237,\"\")","v":""},"",{"$f":"IF(CN$7=$F237,$H237,\"\")","v":""},"",{"$f":"IF(CP$7=$F237,$H237,\"\")","v":""},"",{"$f":"IF(CR$7=$F237,$H237,\"\")","v":""},"",{"$f":"IF(CT$7=$F237,$H237,\"\")","v":""},"",{"$f":"IF(CV$7=$F237,$H237,\"\")","v":""},"",{"$f":"IF(CX$7=$F237,$H237,\"\")","v":""},"",{"$f":"IF(CZ$7=$F237,$H237,\"\")","v":""},"",{"$f":"IF(DB$7=$F237,$H237,\"\")","v":""},"",{"$f":"IF(DD$7=$F237,$H237,\"\")","v":""},"",{"$f":"IF(DF$7=$F237,$H237,\"\")","v":""},0,{"$f":"IF(DH$7=$F237,$H237,\"\")","v":0},0,{"$f":"IF(DJ$7=$F237,$H237,\"\")","v":0},0,{"$f":"IF(DL$7=$F237,$H237,\"\")","v":0},0,{"$f":"IF(DN$7=$F237,$H237,\"\")","v":0},0,{"$f":"IF(DP$7=$F237,$H237,\"\")","v":0},0,{"$f":"IF(DR$7=$F237,$H237,\"\")","v":0},0,{"$f":"IF(DT$7=$F237,$H237,\"\")","v":0},0,{"$f":"IF(DV$7=$F237,$H237,\"\")","v":0},0,{"$f":"IF(DX$7=$F237,$H237,\"\")","v":0},0,{"$f":"IF(DZ$7=$F237,$H237,\"\")","v":0},0,{"$f":"IF(EB$7=$F237,$H237,\"\")","v":0},0,{"$f":"IF(ED$7=$F237,$H237,\"\")","v":0},0,{"$f":"IF(EF$7=$F237,$H237,\"\")","v":0},0,{"$f":"IF(EH$7=$F237,$H237,\"\")","v":0},0,{"$f":"IF(EJ$7=$F237,$H237,\"\")","v":0},0,{"$f":"IF(EL$7=$F237,$H237,\"\")","v":0},0,{"$f":"IF(EN$7=$F237,$H237,\"\")","v":0},0,{"$f":"IF(EP$7=$F237,$H237,\"\")","v":0},0,{"$f":"IF(ER$7=$F237,$H237,\"\")","v":0},0,{"$f":"IF(ET$7=$F237,$H237,\"\")","v":0},0,{"$f":"IF(EV$7=$F237,$H237,\"\")","v":0},0,{"$f":"IF(EX$7=$F237,$H237,\"\")","v":0},0,{"$f":"IF(EZ$7=$F237,$H237,\"\")","v":0},0,{"$f":"IF(FB$7=$F237,$H237,\"\")","v":0},0,{"$f":"IF(FD$7=$F237,$H237,\"\")","v":0},0,{"$f":"IF(FF$7=$F237,$H237,\"\")","v":0},0,{"$f":"IF(FH$7=$F237,$H237,\"\")","v":0},0,{"$f":"IF(FJ$7=$F237,$H237,\"\")","v":0},0,{"$f":"IF(FL$7=$F237,$H237,\"\")","v":0},0,0]
[230,null,null,null,null,null,null,null,true,0,0,"","","",{"$f":"IF(N$7=$F238,$H238,\"\")","v":""},"",{"$f":"IF(P$7=$F238,$H238,\"\")","v":""},"",{"$f":"IF(R$7=$F238,$H238,\"\")","v":""},"",{"$f":"IF(T$7=$F238,$H238,\"\")","v":""},"",{"$f":"IF(V$7=$F238,$H238,\"\")","v":""},"",{"$f":"IF(X$7=$F238,$H238,\"\")","v":""},"",{"$f":"IF(Z$7=$F238,$H238,\"\")","v":""},"",{"$f":"IF(AB$7=$F238,$H238,\"\")","v":""},"",{"$f":"IF(AD$7=$F238,$H238,\"\")","v":""},"",{"$f":"IF(AF$7=$F238,$H238,\"\")","v":""},"",{"$f":"IF(AH$7=$F238,$H238,\"\")","v":""},"",{"$f":"IF(AJ$7=$F238,$H238,\"\")","v":""},"",{"$f":"IF(AL$7=$F238,$H238,\"\")","v":""},"",{"$f":"IF(AN$7=$F238,$H238,\"\")","v":""},"",{"$f":"IF(AP$7=$F238,$H238,\"\")","v":""},"",{"$f":"IF(AR$7=$F238,$H238,\"\")","v":""},"",{"$f":"IF(AT$7=$F238,$H238,\"\")","v":""},"",{"$f":"IF(AV$7=$F238,$H238,\"\")","v":""},"",{"$f":"IF(AX$7=$F238,$H238,\"\")","v":""},"",{"$f":"IF(AZ$7=$F238,$H238,\"\")","v":""},"",{"$f":"IF(BB$7=$F238,$H238,\"\")","v":""},"",{"$f":"IF(BD$7=$F238,$H238,\"\")","v":""},"",{"$f":"IF(BF$7=$F238,$H238,\"\")","v":""},"",{"$f":"IF(BH$7=$F238,$H238,\"\")","v":""},"",{"$f":"IF(BJ$7=$F238,$H238,\"\")","v":""},"",{"$f":"IF(BL$7=$F238,$H238,\"\")","v":""},"",{"$f":"IF(BN$7=$F238,$H238,\"\")","v":""},"",{"$f":"IF(BP$7=$F238,$H238,\"\")","v":""},"",{"$f":"IF(BR$7=$F238,$H238,\"\")","v":""},"",{"$f":"IF(BT$7=$F238,$H238,\"\")","v":""},"",{"$f":"IF(BV$7=$F238,$H238,\"\")","v":""},"",{"$f":"IF(BX$7=$F238,$H238,\"\")","v":""},"",{"$f":"IF(BZ$7=$F238,$H238,\"\")","v":""},"",{"$f":"IF(CB$7=$F238,$H238,\"\")","v":""},"",{"$f":"IF(CD$7=$F238,$H238,\"\")","v":""},"",{"$f":"IF(CF$7=$F238,$H238,\"\")","v":""},"",{"$f":"IF(CH$7=$F238,$H238,\"\")","v":""},"",{"$f":"IF(CJ$7=$F238,$H238,\"\")","v":""},"",{"$f":"IF(CL$7=$F238,$H238,\"\")","v":""},"",{"$f":"IF(CN$7=$F238,$H238,\"\")","v":""},"",{"$f":"IF(CP$7=$F238,$H238,\"\")","v":""},"",{"$f":"IF(CR$7=$F238,$H238,\"\")","v":""},"",{"$f":"IF(CT$7=$F238,$H238,\"\")","v":""},"",{"$f":"IF(CV$7=$F238,$H238,\"\")","v":""},"",{"$f":"IF(CX$7=$F238,$H238,\"\")","v":""},"",{"$f":"IF(CZ$7=$F238,$H238,\"\")","v":""},"",{"$f":"IF(DB$7=$F238,$H238,\"\")","v":""},"",{"$f":"IF(DD$7=$F238,$H238,\"\")","v":""},"",{"$f":"IF(DF$7=$F238,$H238,\"\")","v":""},0,{"$f":"IF(DH$7=$F238,$H238,\"\")","v":0},0,{"$f":"IF(DJ$7=$F238,$H238,\"\")","v":0},0,{"$f":"IF(DL$7=$F238,$H238,\"\")","v":0},0,{"$f":"IF(DN$7=$F238,$H238,\"\")","v":0},0,{"$f":"IF(DP$7=$F238,$H238,\"\")","v":0},0,{"$f":"IF(DR$7=$F238,$H238,\"\")","v":0},0,{"$f":"IF(DT$7=$F238,$H238,\"\")","v":0},0,{"$f":"IF(DV$7=$F238,$H238,\"\")","v":0},0,{"$f":"IF(DX$7=$F238,$H238,\"\")","v":0},0,{"$f":"IF(DZ$7=$F238,$H238,\"\")","v":0},0,{"$f":"IF(EB$7=$F238,$H238,\"\")","v":0},0,{"$f":"IF(ED$7=$F238,$H238,\"\")","v":0},0,{"$f":"IF(EF$7=$F238,$H238,\"\")","v":0},0,{"$f":"IF(EH$7=$F238,$H238,\"\")","v":0},0,{"$f":"IF(EJ$7=$F238,$H238,\"\")","v":0},0,{"$f":"IF(EL$7=$F238,$H238,\"\")","v":0},0,{"$f":"IF(EN$7=$F238,$H238,\"\")","v":0},0,{"$f":"IF(EP$7=$F238,$H238,\"\")","v":0},0,{"$f":"IF(ER$7=$F238,$H238,\"\")","v":0},0,{"$f":"IF(ET$7=$F238,$H238,\"\")","v":0},0,{"$f":"IF(EV$7=$F238,$H238,\"\")","v":0},0,{"$f":"IF(EX$7=$F238,$H238,\"\")","v":0},0,{"$f":"IF(EZ$7=$F238,$H238,\"\")","v":0},0,{"$f":"IF(FB$7=$F238,$H238,\"\")","v":0},0,{"$f":"IF(FD$7=$F238,$H238,\"\")","v":0},0,{"$f":"IF(FF$7=$F238,$H238,\"\")","v":0},0,{"$f":"IF(FH$7=$F238,$H238,\"\")","v":0},0,{"$f":"IF(FJ$7=$F238,$H238,\"\")","v":0},0,{"$f":"IF(FL$7=$F238,$H238,\"\")","v":0},0,0]
[231,null,null,null,null,null,null,null,true,0,0,"","","",{"$f":"IF(N$7=$F239,$H239,\"\")","v":""},"",{"$f":"IF(P$7=$F239,$H239,\"\")","v":""},"",{"$f":"IF(R$7=$F239,$H239,\"\")","v":""},"",{"$f":"IF(T$7=$F239,$H239,\"\")","v":""},"",{"$f":"IF(V$7=$F239,$H239,\"\")","v":""},"",{"$f":"IF(X$7=$F239,$H239,\"\")","v":""},"",{"$f":"IF(Z$7=$F239,$H239,\"\")","v":""},"",{"$f":"IF(AB$7=$F239,$H239,\"\")","v":""},"",{"$f":"IF(AD$7=$F239,$H239,\"\")","v":""},"",{"$f":"IF(AF$7=$F239,$H239,\"\")","v":""},"",{"$f":"IF(AH$7=$F239,$H239,\"\")","v":""},"",{"$f":"IF(AJ$7=$F239,$H239,\"\")","v":""},"",{"$f":"IF(AL$7=$F239,$H239,\"\")","v":""},"",{"$f":"IF(AN$7=$F239,$H239,\"\")","v":""},"",{"$f":"IF(AP$7=$F239,$H239,\"\")","v":""},"",{"$f":"IF(AR$7=$F239,$H239,\"\")","v":""},"",{"$f":"IF(AT$7=$F239,$H239,\"\")","v":""},"",{"$f":"IF(AV$7=$F239,$H239,\"\")","v":""},"",{"$f":"IF(AX$7=$F239,$H239,\"\")","v":""},"",{"$f":"IF(AZ$7=$F239,$H239,\"\")","v":""},"",{"$f":"IF(BB$7=$F239,$H239,\"\")","v":""},"",{"$f":"IF(BD$7=$F239,$H239,\"\")","v":""},"",{"$f":"IF(BF$7=$F239,$H239,\"\")","v":""},"",{"$f":"IF(BH$7=$F239,$H239,\"\")","v":""},"",{"$f":"IF(BJ$7=$F239,$H239,\"\")","v":""},"",{"$f":"IF(BL$7=$F239,$H239,\"\")","v":""},"",{"$f":"IF(BN$7=$F239,$H239,\"\")","v":""},"",{"$f":"IF(BP$7=$F239,$H239,\"\")","v":""},"",{"$f":"IF(BR$7=$F239,$H239,\"\")","v":""},"",{"$f":"IF(BT$7=$F239,$H239,\"\")","v":""},"",{"$f":"IF(BV$7=$F239,$H239,\"\")","v":""},"",{"$f":"IF(BX$7=$F239,$H239,\"\")","v":""},"",{"$f":"IF(BZ$7=$F239,$H239,\"\")","v":""},"",{"$f":"IF(CB$7=$F239,$H239,\"\")","v":""},"",{"$f":"IF(CD$7=$F239,$H239,\"\")","v":""},"",{"$f":"IF(CF$7=$F239,$H239,\"\")","v":""},"",{"$f":"IF(CH$7=$F239,$H239,\"\")","v":""},"",{"$f":"IF(CJ$7=$F239,$H239,\"\")","v":""},"",{"$f":"IF(CL$7=$F239,$H239,\"\")","v":""},"",{"$f":"IF(CN$7=$F239,$H239,\"\")","v":""},"",{"$f":"IF(CP$7=$F239,$H239,\"\")","v":""},"",{"$f":"IF(CR$7=$F239,$H239,\"\")","v":""},"",{"$f":"IF(CT$7=$F239,$H239,\"\")","v":""},"",{"$f":"IF(CV$7=$F239,$H239,\"\")","v":""},"",{"$f":"IF(CX$7=$F239,$H239,\"\")","v":""},"",{"$f":"IF(CZ$7=$F239,$H239,\"\")","v":""},"",{"$f":"IF(DB$7=$F239,$H239,\"\")","v":""},"",{"$f":"IF(DD$7=$F239,$H239,\"\")","v":""},"",{"$f":"IF(DF$7=$F239,$H239,\"\")","v":""},0,{"$f":"IF(DH$7=$F239,$H239,\"\")","v":0},0,{"$f":"IF(DJ$7=$F239,$H239,\"\")","v":0},0,{"$f":"IF(DL$7=$F239,$H239,\"\")","v":0},0,{"$f":"IF(DN$7=$F239,$H239,\"\")","v":0},0,{"$f":"IF(DP$7=$F239,$H239,\"\")","v":0},0,{"$f":"IF(DR$7=$F239,$H239,\"\")","v":0},0,{"$f":"IF(DT$7=$F239,$H239,\"\")","v":0},0,{"$f":"IF(DV$7=$F239,$H239,\"\")","v":0},0,{"$f":"IF(DX$7=$F239,$H239,\"\")","v":0},0,{"$f":"IF(DZ$7=$F239,$H239,\"\")","v":0},0,{"$f":"IF(EB$7=$F239,$H239,\"\")","v":0},0,{"$f":"IF(ED$7=$F239,$H239,\"\")","v":0},0,{"$f":"IF(EF$7=$F239,$H239,\"\")","v":0},0,{"$f":"IF(EH$7=$F239,$H239,\"\")","v":0},0,{"$f":"IF(EJ$7=$F239,$H239,\"\")","v":0},0,{"$f":"IF(EL$7=$F239,$H239,\"\")","v":0},0,{"$f":"IF(EN$7=$F239,$H239,\"\")","v":0},0,{"$f":"IF(EP$7=$F239,$H239,\"\")","v":0},0,{"$f":"IF(ER$7=$F239,$H239,\"\")","v":0},0,{"$f":"IF(ET$7=$F239,$H239,\"\")","v":0},0,{"$f":"IF(EV$7=$F239,$H239,\"\")","v":0},0,{"$f":"IF(EX$7=$F239,$H239,\"\")","v":0},0,{"$f":"IF(EZ$7=$F239,$H239,\"\")","v":0},0,{"$f":"IF(FB$7=$F239,$H239,\"\")","v":0},0,{"$f":"IF(FD$7=$F239,$H239,\"\")","v":0},0,{"$f":"IF(FF$7=$F239,$H239,\"\")","v":0},0,{"$f":"IF(FH$7=$F239,$H239,\"\")","v":0},0,{"$f":"IF(FJ$7=$F239,$H239,\"\")","v":0},0,{"$f":"IF(FL$7=$F239,$H239,\"\")","v":0},0,0]
[232,null,null,null,null,null,null,null,true,0,0,"","","",{"$f":"IF(N$7=$F240,$H240,\"\")","v":""},"",{"$f":"IF(P$7=$F240,$H240,\"\")","v":""},"",{"$f":"IF(R$7=$F240,$H240,\"\")","v":""},"",{"$f":"IF(T$7=$F240,$H240,\"\")","v":""},"",{"$f":"IF(V$7=$F240,$H240,\"\")","v":""},"",{"$f":"IF(X$7=$F240,$H240,\"\")","v":""},"",{"$f":"IF(Z$7=$F240,$H240,\"\")","v":""},"",{"$f":"IF(AB$7=$F240,$H240,\"\")","v":""},"",{"$f":"IF(AD$7=$F240,$H240,\"\")","v":""},"",{"$f":"IF(AF$7=$F240,$H240,\"\")","v":""},"",{"$f":"IF(AH$7=$F240,$H240,\"\")","v":""},"",{"$f":"IF(AJ$7=$F240,$H240,\"\")","v":""},"",{"$f":"IF(AL$7=$F240,$H240,\"\")","v":""},"",{"$f":"IF(AN$7=$F240,$H240,\"\")","v":""},"",{"$f":"IF(AP$7=$F240,$H240,\"\")","v":""},"",{"$f":"IF(AR$7=$F240,$H240,\"\")","v":""},"",{"$f":"IF(AT$7=$F240,$H240,\"\")","v":""},"",{"$f":"IF(AV$7=$F240,$H240,\"\")","v":""},"",{"$f":"IF(AX$7=$F240,$H240,\"\")","v":""},"",{"$f":"IF(AZ$7=$F240,$H240,\"\")","v":""},"",{"$f":"IF(BB$7=$F240,$H240,\"\")","v":""},"",{"$f":"IF(BD$7=$F240,$H240,\"\")","v":""},"",{"$f":"IF(BF$7=$F240,$H240,\"\")","v":""},"",{"$f":"IF(BH$7=$F240,$H240,\"\")","v":""},"",{"$f":"IF(BJ$7=$F240,$H240,\"\")","v":""},"",{"$f":"IF(BL$7=$F240,$H240,\"\")","v":""},"",{"$f":"IF(BN$7=$F240,$H240,\"\")","v":""},"",{"$f":"IF(BP$7=$F240,$H240,\"\")","v":""},"",{"$f":"IF(BR$7=$F240,$H240,\"\")","v":""},"",{"$f":"IF(BT$7=$F240,$H240,\"\")","v":""},"",{"$f":"IF(BV$7=$F240,$H240,\"\")","v":""},"",{"$f":"IF(BX$7=$F240,$H240,\"\")","v":""},"",{"$f":"IF(BZ$7=$F240,$H240,\"\")","v":""},"",{"$f":"IF(CB$7=$F240,$H240,\"\")","v":""},"",{"$f":"IF(CD$7=$F240,$H240,\"\")","v":""},"",{"$f":"IF(CF$7=$F240,$H240,\"\")","v":""},"",{"$f":"IF(CH$7=$F240,$H240,\"\")","v":""},"",{"$f":"IF(CJ$7=$F240,$H240,\"\")","v":""},"",{"$f":"IF(CL$7=$F240,$H240,\"\")","v":""},"",{"$f":"IF(CN$7=$F240,$H240,\"\")","v":""},"",{"$f":"IF(CP$7=$F240,$H240,\"\")","v":""},"",{"$f":"IF(CR$7=$F240,$H240,\"\")","v":""},"",{"$f":"IF(CT$7=$F240,$H240,\"\")","v":""},"",{"$f":"IF(CV$7=$F240,$H240,\"\")","v":""},"",{"$f":"IF(CX$7=$F240,$H240,\"\")","v":""},"",{"$f":"IF(CZ$7=$F240,$H240,\"\")","v":""},"",{"$f":"IF(DB$7=$F240,$H240,\"\")","v":""},"",{"$f":"IF(DD$7=$F240,$H240,\"\")","v":""},"",{"$f":"IF(DF$7=$F240,$H240,\"\")","v":""},0,{"$f":"IF(DH$7=$F240,$H240,\"\")","v":0},0,{"$f":"IF(DJ$7=$F240,$H240,\"\")","v":0},0,{"$f":"IF(DL$7=$F240,$H240,\"\")","v":0},0,{"$f":"IF(DN$7=$F240,$H240,\"\")","v":0},0,{"$f":"IF(DP$7=$F240,$H240,\"\")","v":0},0,{"$f":"IF(DR$7=$F240,$H240,\"\")","v":0},0,{"$f":"IF(DT$7=$F240,$H240,\"\")","v":0},0,{"$f":"IF(DV$7=$F240,$H240,\"\")","v":0},0,{"$f":"IF(DX$7=$F240,$H240,\"\")","v":0},0,{"$f":"IF(DZ$7=$F240,$H240,\"\")","v":0},0,{"$f":"IF(EB$7=$F240,$H240,\"\")","v":0},0,{"$f":"IF(ED$7=$F240,$H240,\"\")","v":0},0,{"$f":"IF(EF$7=$F240,$H240,\"\")","v":0},0,{"$f":"IF(EH$7=$F240,$H240,\"\")","v":0},0,{"$f":"IF(EJ$7=$F240,$H240,\"\")","v":0},0,{"$f":"IF(EL$7=$F240,$H240,\"\")","v":0},0,{"$f":"IF(EN$7=$F240,$H240,\"\")","v":0},0,{"$f":"IF(EP$7=$F240,$H240,\"\")","v":0},0,{"$f":"IF(ER$7=$F240,$H240,\"\")","v":0},0,{"$f":"IF(ET$7=$F240,$H240,\"\")","v":0},0,{"$f":"IF(EV$7=$F240,$H240,\"\")","v":0},0,{"$f":"IF(EX$7=$F240,$H240,\"\")","v":0},0,{"$f":"IF(EZ$7=$F240,$H240,\"\")","v":0},0,{"$f":"IF(FB$7=$F240,$H240,\"\")","v":0},0,{"$f":"IF(FD$7=$F240,$H240,\"\")","v":0},0,{"$f":"IF(FF$7=$F240,$H240,\"\")","v":0},0,{"$f":"IF(FH$7=$F240,$H240,\"\")","v":0},0,{"$f":"IF(FJ$7=$F240,$H240,\"\")","v":0},0,{"$f":"IF(FL$7=$F240,$H240,\"\")","v":0},0,0]
[233,null,null,null,null,null,null,null,true,0,0,"","","",{"$f":"IF(N$7=$F241,$H241,\"\")","v":""},"",{"$f":"IF(P$7=$F241,$H241,\"\")","v":""},"",{"$f":"IF(R$7=$F241,$H241,\"\")","v":""},"",{"$f":"IF(T$7=$F241,$H241,\"\")","v":""},"",{"$f":"IF(V$7=$F241,$H241,\"\")","v":""},"",{"$f":"IF(X$7=$F241,$H241,\"\")","v":""},"",{"$f":"IF(Z$7=$F241,$H241,\"\")","v":""},"",{"$f":"IF(AB$7=$F241,$H241,\"\")","v":""},"",{"$f":"IF(AD$7=$F241,$H241,\"\")","v":""},"",{"$f":"IF(AF$7=$F241,$H241,\"\")","v":""},"",{"$f":"IF(AH$7=$F241,$H241,\"\")","v":""},"",{"$f":"IF(AJ$7=$F241,$H241,\"\")","v":""},"",{"$f":"IF(AL$7=$F241,$H241,\"\")","v":""},"",{"$f":"IF(AN$7=$F241,$H241,\"\")","v":""},"",{"$f":"IF(AP$7=$F241,$H241,\"\")","v":""},"",{"$f":"IF(AR$7=$F241,$H241,\"\")","v":""},"",{"$f":"IF(AT$7=$F241,$H241,\"\")","v":""},"",{"$f":"IF(AV$7=$F241,$H241,\"\")","v":""},"",{"$f":"IF(AX$7=$F241,$H241,\"\")","v":""},"",{"$f":"IF(AZ$7=$F241,$H241,\"\")","v":""},"",{"$f":"IF(BB$7=$F241,$H241,\"\")","v":""},"",{"$f":"IF(BD$7=$F241,$H241,\"\")","v":""},"",{"$f":"IF(BF$7=$F241,$H241,\"\")","v":""},"",{"$f":"IF(BH$7=$F241,$H241,\"\")","v":""},"",{"$f":"IF(BJ$7=$F241,$H241,\"\")","v":""},"",{"$f":"IF(BL$7=$F241,$H241,\"\")","v":""},"",{"$f":"IF(BN$7=$F241,$H241,\"\")","v":""},"",{"$f":"IF(BP$7=$F241,$H241,\"\")","v":""},"",{"$f":"IF(BR$7=$F241,$H241,\"\")","v":""},"",{"$f":"IF(BT$7=$F241,$H241,\"\")","v":""},"",{"$f":"IF(BV$7=$F241,$H241,\"\")","v":""},"",{"$f":"IF(BX$7=$F241,$H241,\"\")","v":""},"",{"$f":"IF(BZ$7=$F241,$H241,\"\")","v":""},"",{"$f":"IF(CB$7=$F241,$H241,\"\")","v":""},"",{"$f":"IF(CD$7=$F241,$H241,\"\")","v":""},"",{"$f":"IF(CF$7=$F241,$H241,\"\")","v":""},"",{"$f":"IF(CH$7=$F241,$H241,\"\")","v":""},"",{"$f":"IF(CJ$7=$F241,$H241,\"\")","v":""},"",{"$f":"IF(CL$7=$F241,$H241,\"\")","v":""},"",{"$f":"IF(CN$7=$F241,$H241,\"\")","v":""},"",{"$f":"IF(CP$7=$F241,$H241,\"\")","v":""},"",{"$f":"IF(CR$7=$F241,$H241,\"\")","v":""},"",{"$f":"IF(CT$7=$F241,$H241,\"\")","v":""},"",{"$f":"IF(CV$7=$F241,$H241,\"\")","v":""},"",{"$f":"IF(CX$7=$F241,$H241,\"\")","v":""},"",{"$f":"IF(CZ$7=$F241,$H241,\"\")","v":""},"",{"$f":"IF(DB$7=$F241,$H241,\"\")","v":""},"",{"$f":"IF(DD$7=$F241,$H241,\"\")","v":""},"",{"$f":"IF(DF$7=$F241,$H241,\"\")","v":""},0,{"$f":"IF(DH$7=$F241,$H241,\"\")","v":0},0,{"$f":"IF(DJ$7=$F241,$H241,\"\")","v":0},0,{"$f":"IF(DL$7=$F241,$H241,\"\")","v":0},0,{"$f":"IF(DN$7=$F241,$H241,\"\")","v":0},0,{"$f":"IF(DP$7=$F241,$H241,\"\")","v":0},0,{"$f":"IF(DR$7=$F241,$H241,\"\")","v":0},0,{"$f":"IF(DT$7=$F241,$H241,\"\")","v":0},0,{"$f":"IF(DV$7=$F241,$H241,\"\")","v":0},0,{"$f":"IF(DX$7=$F241,$H241,\"\")","v":0},0,{"$f":"IF(DZ$7=$F241,$H241,\"\")","v":0},0,{"$f":"IF(EB$7=$F241,$H241,\"\")","v":0},0,{"$f":"IF(ED$7=$F241,$H241,\"\")","v":0},0,{"$f":"IF(EF$7=$F241,$H241,\"\")","v":0},0,{"$f":"IF(EH$7=$F241,$H241,\"\")","v":0},0,{"$f":"IF(EJ$7=$F241,$H241,\"\")","v":0},0,{"$f":"IF(EL$7=$F241,$H241,\"\")","v":0},0,{"$f":"IF(EN$7=$F241,$H241,\"\")","v":0},0,{"$f":"IF(EP$7=$F241,$H241,\"\")","v":0},0,{"$f":"IF(ER$7=$F241,$H241,\"\")","v":0},0,{"$f":"IF(ET$7=$F241,$H241,\"\")","v":0},0,{"$f":"IF(EV$7=$F241,$H241,\"\")","v":0},0,{"$f":"IF(EX$7=$F241,$H241,\"\")","v":0},0,{"$f":"IF(EZ$7=$F241,$H241,\"\")","v":0},0,{"$f":"IF(FB$7=$F241,$H241,\"\")","v":0},0,{"$f":"IF(FD$7=$F241,$H241,\"\")","v":0},0,{"$f":"IF(FF$7=$F241,$H241,\"\")","v":0},0,{"$f":"IF(FH$7=$F241,$H241,\"\")","v":0},0,{"$f":"IF(FJ$7=$F241,$H241,\"\")","v":0},0,{"$f":"IF(FL$7=$F241,$H241,\"\")","v":0},0,0]
[234,null,null,null,null,null,null,null,true,0,0,"","","",{"$f":"IF(N$7=$F242,$H242,\"\")","v":""},"",{"$f":"IF(P$7=$F242,$H242,\"\")","v":""},"",{"$f":"IF(R$7=$F242,$H242,\"\")","v":""},"",{"$f":"IF(T$7=$F242,$H242,\"\")","v":""},"",{"$f":"IF(V$7=$F242,$H242,\"\")","v":""},"",{"$f":"IF(X$7=$F242,$H242,\"\")","v":""},"",{"$f":"IF(Z$7=$F242,$H242,\"\")","v":""},"",{"$f":"IF(AB$7=$F242,$H242,\"\")","v":""},"",{"$f":"IF(AD$7=$F242,$H242,\"\")","v":""},"",{"$f":"IF(AF$7=$F242,$H242,\"\")","v":""},"",{"$f":"IF(AH$7=$F242,$H242,\"\")","v":""},"",{"$f":"IF(AJ$7=$F242,$H242,\"\")","v":""},"",{"$f":"IF(AL$7=$F242,$H242,\"\")","v":""},"",{"$f":"IF(AN$7=$F242,$H242,\"\")","v":""},"",{"$f":"IF(AP$7=$F242,$H242,\"\")","v":""},"",{"$f":"IF(AR$7=$F242,$H242,\"\")","v":""},"",{"$f":"IF(AT$7=$F242,$H242,\"\")","v":""},"",{"$f":"IF(AV$7=$F242,$H242,\"\")","v":""},"",{"$f":"IF(AX$7=$F242,$H242,\"\")","v":""},"",{"$f":"IF(AZ$7=$F242,$H242,\"\")","v":""},"",{"$f":"IF(BB$7=$F242,$H242,\"\")","v":""},"",{"$f":"IF(BD$7=$F242,$H242,\"\")","v":""},"",{"$f":"IF(BF$7=$F242,$H242,\"\")","v":""},"",{"$f":"IF(BH$7=$F242,$H242,\"\")","v":""},"",{"$f":"IF(BJ$7=$F242,$H242,\"\")","v":""},"",{"$f":"IF(BL$7=$F242,$H242,\"\")","v":""},"",{"$f":"IF(BN$7=$F242,$H242,\"\")","v":""},"",{"$f":"IF(BP$7=$F242,$H242,\"\")","v":""},"",{"$f":"IF(BR$7=$F242,$H242,\"\")","v":""},"",{"$f":"IF(BT$7=$F242,$H242,\"\")","v":""},"",{"$f":"IF(BV$7=$F242,$H242,\"\")","v":""},"",{"$f":"IF(BX$7=$F242,$H242,\"\")","v":""},"",{"$f":"IF(BZ$7=$F242,$H242,\"\")","v":""},"",{"$f":"IF(CB$7=$F242,$H242,\"\")","v":""},"",{"$f":"IF(CD$7=$F242,$H242,\"\")","v":""},"",{"$f":"IF(CF$7=$F242,$H242,\"\")","v":""},"",{"$f":"IF(CH$7=$F242,$H242,\"\")","v":""},"",{"$f":"IF(CJ$7=$F242,$H242,\"\")","v":""},"",{"$f":"IF(CL$7=$F242,$H242,\"\")","v":""},"",{"$f":"IF(CN$7=$F242,$H242,\"\")","v":""},"",{"$f":"IF(CP$7=$F242,$H242,\"\")","v":""},"",{"$f":"IF(CR$7=$F242,$H242,\"\")","v":""},"",{"$f":"IF(CT$7=$F242,$H242,\"\")","v":""},"",{"$f":"IF(CV$7=$F242,$H242,\"\")","v":""},"",{"$f":"IF(CX$7=$F242,$H242,\"\")","v":""},"",{"$f":"IF(CZ$7=$F242,$H242,\"\")","v":""},"",{"$f":"IF(DB$7=$F242,$H242,\"\")","v":""},"",{"$f":"IF(DD$7=$F242,$H242,\"\")","v":""},"",{"$f":"IF(DF$7=$F242,$H242,\"\")","v":""},0,{"$f":"IF(DH$7=$F242,$H242,\"\")","v":0},0,{"$f":"IF(DJ$7=$F242,$H242,\"\")","v":0},0,{"$f":"IF(DL$7=$F242,$H242,\"\")","v":0},0,{"$f":"IF(DN$7=$F242,$H242,\"\")","v":0},0,{"$f":"IF(DP$7=$F242,$H242,\"\")","v":0},0,{"$f":"IF(DR$7=$F242,$H242,\"\")","v":0},0,{"$f":"IF(DT$7=$F242,$H242,\"\")","v":0},0,{"$f":"IF(DV$7=$F242,$H242,\"\")","v":0},0,{"$f":"IF(DX$7=$F242,$H242,\"\")","v":0},0,{"$f":"IF(DZ$7=$F242,$H242,\"\")","v":0},0,{"$f":"IF(EB$7=$F242,$H242,\"\")","v":0},0,{"$f":"IF(ED$7=$F242,$H242,\"\")","v":0},0,{"$f":"IF(EF$7=$F242,$H242,\"\")","v":0},0,{"$f":"IF(EH$7=$F242,$H242,\"\")","v":0},0,{"$f":"IF(EJ$7=$F242,$H242,\"\")","v":0},0,{"$f":"IF(EL$7=$F242,$H242,\"\")","v":0},0,{"$f":"IF(EN$7=$F242,$H242,\"\")","v":0},0,{"$f":"IF(EP$7=$F242,$H242,\"\")","v":0},0,{"$f":"IF(ER$7=$F242,$H242,\"\")","v":0},0,{"$f":"IF(ET$7=$F242,$H242,\"\")","v":0},0,{"$f":"IF(EV$7=$F242,$H242,\"\")","v":0},0,{"$f":"IF(EX$7=$F242,$H242,\"\")","v":0},0,{"$f":"IF(EZ$7=$F242,$H242,\"\")","v":0},0,{"$f":"IF(FB$7=$F242,$H242,\"\")","v":0},0,{"$f":"IF(FD$7=$F242,$H242,\"\")","v":0},0,{"$f":"IF(FF$7=$F242,$H242,\"\")","v":0},0,{"$f":"IF(FH$7=$F242,$H242,\"\")","v":0},0,{"$f":"IF(FJ$7=$F242,$H242,\"\")","v":0},0,{"$f":"IF(FL$7=$F242,$H242,\"\")","v":0},0,0]
[235,null,null,null,null,null,null,null,true,0,0,"","","",{"$f":"IF(N$7=$F243,$H243,\"\")","v":""},"",{"$f":"IF(P$7=$F243,$H243,\"\")","v":""},"",{"$f":"IF(R$7=$F243,$H243,\"\")","v":""},"",{"$f":"IF(T$7=$F243,$H243,\"\")","v":""},"",{"$f":"IF(V$7=$F243,$H243,\"\")","v":""},"",{"$f":"IF(X$7=$F243,$H243,\"\")","v":""},"",{"$f":"IF(Z$7=$F243,$H243,\"\")","v":""},"",{"$f":"IF(AB$7=$F243,$H243,\"\")","v":""},"",{"$f":"IF(AD$7=$F243,$H243,\"\")","v":""},"",{"$f":"IF(AF$7=$F243,$H243,\"\")","v":""},"",{"$f":"IF(AH$7=$F243,$H243,\"\")","v":""},"",{"$f":"IF(AJ$7=$F243,$H243,\"\")","v":""},"",{"$f":"IF(AL$7=$F243,$H243,\"\")","v":""},"",{"$f":"IF(AN$7=$F243,$H243,\"\")","v":""},"",{"$f":"IF(AP$7=$F243,$H243,\"\")","v":""},"",{"$f":"IF(AR$7=$F243,$H243,\"\")","v":""},"",{"$f":"IF(AT$7=$F243,$H243,\"\")","v":""},"",{"$f":"IF(AV$7=$F243,$H243,\"\")","v":""},"",{"$f":"IF(AX$7=$F243,$H243,\"\")","v":""},"",{"$f":"IF(AZ$7=$F243,$H243,\"\")","v":""},"",{"$f":"IF(BB$7=$F243,$H243,\"\")","v":""},"",{"$f":"IF(BD$7=$F243,$H243,\"\")","v":""},"",{"$f":"IF(BF$7=$F243,$H243,\"\")","v":""},"",{"$f":"IF(BH$7=$F243,$H243,\"\")","v":""},"",{"$f":"IF(BJ$7=$F243,$H243,\"\")","v":""},"",{"$f":"IF(BL$7=$F243,$H243,\"\")","v":""},"",{"$f":"IF(BN$7=$F243,$H243,\"\")","v":""},"",{"$f":"IF(BP$7=$F243,$H243,\"\")","v":""},"",{"$f":"IF(BR$7=$F243,$H243,\"\")","v":""},"",{"$f":"IF(BT$7=$F243,$H243,\"\")","v":""},"",{"$f":"IF(BV$7=$F243,$H243,\"\")","v":""},"",{"$f":"IF(BX$7=$F243,$H243,\"\")","v":""},"",{"$f":"IF(BZ$7=$F243,$H243,\"\")","v":""},"",{"$f":"IF(CB$7=$F243,$H243,\"\")","v":""},"",{"$f":"IF(CD$7=$F243,$H243,\"\")","v":""},"",{"$f":"IF(CF$7=$F243,$H243,\"\")","v":""},"",{"$f":"IF(CH$7=$F243,$H243,\"\")","v":""},"",{"$f":"IF(CJ$7=$F243,$H243,\"\")","v":""},"",{"$f":"IF(CL$7=$F243,$H243,\"\")","v":""},"",{"$f":"IF(CN$7=$F243,$H243,\"\")","v":""},"",{"$f":"IF(CP$7=$F243,$H243,\"\")","v":""},"",{"$f":"IF(CR$7=$F243,$H243,\"\")","v":""},"",{"$f":"IF(CT$7=$F243,$H243,\"\")","v":""},"",{"$f":"IF(CV$7=$F243,$H243,\"\")","v":""},"",{"$f":"IF(CX$7=$F243,$H243,\"\")","v":""},"",{"$f":"IF(CZ$7=$F243,$H243,\"\")","v":""},"",{"$f":"IF(DB$7=$F243,$H243,\"\")","v":""},"",{"$f":"IF(DD$7=$F243,$H243,\"\")","v":""},"",{"$f":"IF(DF$7=$F243,$H243,\"\")","v":""},0,{"$f":"IF(DH$7=$F243,$H243,\"\")","v":0},0,{"$f":"IF(DJ$7=$F243,$H243,\"\")","v":0},0,{"$f":"IF(DL$7=$F243,$H243,\"\")","v":0},0,{"$f":"IF(DN$7=$F243,$H243,\"\")","v":0},0,{"$f":"IF(DP$7=$F243,$H243,\"\")","v":0},0,{"$f":"IF(DR$7=$F243,$H243,\"\")","v":0},0,{"$f":"IF(DT$7=$F243,$H243,\"\")","v":0},0,{"$f":"IF(DV$7=$F243,$H243,\"\")","v":0},0,{"$f":"IF(DX$7=$F243,$H243,\"\")","v":0},0,{"$f":"IF(DZ$7=$F243,$H243,\"\")","v":0},0,{"$f":"IF(EB$7=$F243,$H243,\"\")","v":0},0,{"$f":"IF(ED$7=$F243,$H243,\"\")","v":0},0,{"$f":"IF(EF$7=$F243,$H243,\"\")","v":0},0,{"$f":"IF(EH$7=$F243,$H243,\"\")","v":0},0,{"$f":"IF(EJ$7=$F243,$H243,\"\")","v":0},0,{"$f":"IF(EL$7=$F243,$H243,\"\")","v":0},0,{"$f":"IF(EN$7=$F243,$H243,\"\")","v":0},0,{"$f":"IF(EP$7=$F243,$H243,\"\")","v":0},0,{"$f":"IF(ER$7=$F243,$H243,\"\")","v":0},0,{"$f":"IF(ET$7=$F243,$H243,\"\")","v":0},0,{"$f":"IF(EV$7=$F243,$H243,\"\")","v":0},0,{"$f":"IF(EX$7=$F243,$H243,\"\")","v":0},0,{"$f":"IF(EZ$7=$F243,$H243,\"\")","v":0},0,{"$f":"IF(FB$7=$F243,$H243,\"\")","v":0},0,{"$f":"IF(FD$7=$F243,$H243,\"\")","v":0},0,{"$f":"IF(FF$7=$F243,$H243,\"\")","v":0},0,{"$f":"IF(FH$7=$F243,$H243,\"\")","v":0},0,{"$f":"IF(FJ$7=$F243,$H243,\"\")","v":0},0,{"$f":"IF(FL$7=$F243,$H243,\"\")","v":0},0,0]
[236,null,null,null,null,null,null,null,true,0,0,"","","",{"$f":"IF(N$7=$F244,$H244,\"\")","v":""},"",{"$f":"IF(P$7=$F244,$H244,\"\")","v":""},"",{"$f":"IF(R$7=$F244,$H244,\"\")","v":""},"",{"$f":"IF(T$7=$F244,$H244,\"\")","v":""},"",{"$f":"IF(V$7=$F244,$H244,\"\")","v":""},"",{"$f":"IF(X$7=$F244,$H244,\"\")","v":""},"",{"$f":"IF(Z$7=$F244,$H244,\"\")","v":""},"",{"$f":"IF(AB$7=$F244,$H244,\"\")","v":""},"",{"$f":"IF(AD$7=$F244,$H244,\"\")","v":""},"",{"$f":"IF(AF$7=$F244,$H244,\"\")","v":""},"",{"$f":"IF(AH$7=$F244,$H244,\"\")","v":""},"",{"$f":"IF(AJ$7=$F244,$H244,\"\")","v":""},"",{"$f":"IF(AL$7=$F244,$H244,\"\")","v":""},"",{"$f":"IF(AN$7=$F244,$H244,\"\")","v":""},"",{"$f":"IF(AP$7=$F244,$H244,\"\")","v":""},"",{"$f":"IF(AR$7=$F244,$H244,\"\")","v":""},"",{"$f":"IF(AT$7=$F244,$H244,\"\")","v":""},"",{"$f":"IF(AV$7=$F244,$H244,\"\")","v":""},"",{"$f":"IF(AX$7=$F244,$H244,\"\")","v":""},"",{"$f":"IF(AZ$7=$F244,$H244,\"\")","v":""},"",{"$f":"IF(BB$7=$F244,$H244,\"\")","v":""},"",{"$f":"IF(BD$7=$F244,$H244,\"\")","v":""},"",{"$f":"IF(BF$7=$F244,$H244,\"\")","v":""},"",{"$f":"IF(BH$7=$F244,$H244,\"\")","v":""},"",{"$f":"IF(BJ$7=$F244,$H244,\"\")","v":""},"",{"$f":"IF(BL$7=$F244,$H244,\"\")","v":""},"",{"$f":"IF(BN$7=$F244,$H244,\"\")","v":""},"",{"$f":"IF(BP$7=$F244,$H244,\"\")","v":""},"",{"$f":"IF(BR$7=$F244,$H244,\"\")","v":""},"",{"$f":"IF(BT$7=$F244,$H244,\"\")","v":""},"",{"$f":"IF(BV$7=$F244,$H244,\"\")","v":""},"",{"$f":"IF(BX$7=$F244,$H244,\"\")","v":""},"",{"$f":"IF(BZ$7=$F244,$H244,\"\")","v":""},"",{"$f":"IF(CB$7=$F244,$H244,\"\")","v":""},"",{"$f":"IF(CD$7=$F244,$H244,\"\")","v":""},"",{"$f":"IF(CF$7=$F244,$H244,\"\")","v":""},"",{"$f":"IF(CH$7=$F244,$H244,\"\")","v":""},"",{"$f":"IF(CJ$7=$F244,$H244,\"\")","v":""},"",{"$f":"IF(CL$7=$F244,$H244,\"\")","v":""},"",{"$f":"IF(CN$7=$F244,$H244,\"\")","v":""},"",{"$f":"IF(CP$7=$F244,$H244,\"\")","v":""},"",{"$f":"IF(CR$7=$F244,$H244,\"\")","v":""},"",{"$f":"IF(CT$7=$F244,$H244,\"\")","v":""},"",{"$f":"IF(CV$7=$F244,$H244,\"\")","v":""},"",{"$f":"IF(CX$7=$F244,$H244,\"\")","v":""},"",{"$f":"IF(CZ$7=$F244,$H244,\"\")","v":""},"",{"$f":"IF(DB$7=$F244,$H244,\"\")","v":""},"",{"$f":"IF(DD$7=$F244,$H244,\"\")","v":""},"",{"$f":"IF(DF$7=$F244,$H244,\"\")","v":""},0,{"$f":"IF(DH$7=$F244,$H244,\"\")","v":0},0,{"$f":"IF(DJ$7=$F244,$H244,\"\")","v":0},0,{"$f":"IF(DL$7=$F244,$H244,\"\")","v":0},0,{"$f":"IF(DN$7=$F244,$H244,\"\")","v":0},0,{"$f":"IF(DP$7=$F244,$H244,\"\")","v":0},0,{"$f":"IF(DR$7=$F244,$H244,\"\")","v":0},0,{"$f":"IF(DT$7=$F244,$H244,\"\")","v":0},0,{"$f":"IF(DV$7=$F244,$H244,\"\")","v":0},0,{"$f":"IF(DX$7=$F244,$H244,\"\")","v":0},0,{"$f":"IF(DZ$7=$F244,$H244,\"\")","v":0},0,{"$f":"IF(EB$7=$F244,$H244,\"\")","v":0},0,{"$f":"IF(ED$7=$F244,$H244,\"\")","v":0},0,{"$f":"IF(EF$7=$F244,$H244,\"\")","v":0},0,{"$f":"IF(EH$7=$F244,$H244,\"\")","v":0},0,{"$f":"IF(EJ$7=$F244,$H244,\"\")","v":0},0,{"$f":"IF(EL$7=$F244,$H244,\"\")","v":0},0,{"$f":"IF(EN$7=$F244,$H244,\"\")","v":0},0,{"$f":"IF(EP$7=$F244,$H244,\"\")","v":0},0,{"$f":"IF(ER$7=$F244,$H244,\"\")","v":0},0,{"$f":"IF(ET$7=$F244,$H244,\"\")","v":0},0,{"$f":"IF(EV$7=$F244,$H244,\"\")","v":0},0,{"$f":"IF(EX$7=$F244,$H244,\"\")","v":0},0,{"$f":"IF(EZ$7=$F244,$H244,\"\")","v":0},0,{"$f":"IF(FB$7=$F244,$H244,\"\")","v":0},0,{"$f":"IF(FD$7=$F244,$H244,\"\")","v":0},0,{"$f":"IF(FF$7=$F244,$H244,\"\")","v":0},0,{"$f":"IF(FH$7=$F244,$H244,\"\")","v":0},0,{"$f":"IF(FJ$7=$F244,$H244,\"\")","v":0},0,{"$f":"IF(FL$7=$F244,$H244,\"\")","v":0},0,0]
[237,null,null,null,null,null,null,null,true,0,0,"","","",{"$f":"IF(N$7=$F245,$H245,\"\")","v":""},"",{"$f":"IF(P$7=$F245,$H245,\"\")","v":""},"",{"$f":"IF(R$7=$F245,$H245,\"\")","v":""},"",{"$f":"IF(T$7=$F245,$H245,\"\")","v":""},"",{"$f":"IF(V$7=$F245,$H245,\"\")","v":""},"",{"$f":"IF(X$7=$F245,$H245,\"\")","v":""},"",{"$f":"IF(Z$7=$F245,$H245,\"\")","v":""},"",{"$f":"IF(AB$7=$F245,$H245,\"\")","v":""},"",{"$f":"IF(AD$7=$F245,$H245,\"\")","v":""},"",{"$f":"IF(AF$7=$F245,$H245,\"\")","v":""},"",{"$f":"IF(AH$7=$F245,$H245,\"\")","v":""},"",{"$f":"IF(AJ$7=$F245,$H245,\"\")","v":""},"",{"$f":"IF(AL$7=$F245,$H245,\"\")","v":""},"",{"$f":"IF(AN$7=$F245,$H245,\"\")","v":""},"",{"$f":"IF(AP$7=$F245,$H245,\"\")","v":""},"",{"$f":"IF(AR$7=$F245,$H245,\"\")","v":""},"",{"$f":"IF(AT$7=$F245,$H245,\"\")","v":""},"",{"$f":"IF(AV$7=$F245,$H245,\"\")","v":""},"",{"$f":"IF(AX$7=$F245,$H245,\"\")","v":""},"",{"$f":"IF(AZ$7=$F245,$H245,\"\")","v":""},"",{"$f":"IF(BB$7=$F245,$H245,\"\")","v":""},"",{"$f":"IF(BD$7=$F245,$H245,\"\")","v":""},"",{"$f":"IF(BF$7=$F245,$H245,\"\")","v":""},"",{"$f":"IF(BH$7=$F245,$H245,\"\")","v":""},"",{"$f":"IF(BJ$7=$F245,$H245,\"\")","v":""},"",{"$f":"IF(BL$7=$F245,$H245,\"\")","v":""},"",{"$f":"IF(BN$7=$F245,$H245,\"\")","v":""},"",{"$f":"IF(BP$7=$F245,$H245,\"\")","v":""},"",{"$f":"IF(BR$7=$F245,$H245,\"\")","v":""},"",{"$f":"IF(BT$7=$F245,$H245,\"\")","v":""},"",{"$f":"IF(BV$7=$F245,$H245,\"\")","v":""},"",{"$f":"IF(BX$7=$F245,$H245,\"\")","v":""},"",{"$f":"IF(BZ$7=$F245,$H245,\"\")","v":""},"",{"$f":"IF(CB$7=$F245,$H245,\"\")","v":""},"",{"$f":"IF(CD$7=$F245,$H245,\"\")","v":""},"",{"$f":"IF(CF$7=$F245,$H245,\"\")","v":""},"",{"$f":"IF(CH$7=$F245,$H245,\"\")","v":""},"",{"$f":"IF(CJ$7=$F245,$H245,\"\")","v":""},"",{"$f":"IF(CL$7=$F245,$H245,\"\")","v":""},"",{"$f":"IF(CN$7=$F245,$H245,\"\")","v":""},"",{"$f":"IF(CP$7=$F245,$H245,\"\")","v":""},"",{"$f":"IF(CR$7=$F245,$H245,\"\")","v":""},"",{"$f":"IF(CT$7=$F245,$H245,\"\")","v":""},"",{"$f":"IF(CV$7=$F245,$H245,\"\")","v":""},"",{"$f":"IF(CX$7=$F245,$H245,\"\")","v":""},"",{"$f":"IF(CZ$7=$F245,$H245,\"\")","v":""},"",{"$f":"IF(DB$7=$F245,$H245,\"\")","v":""},"",{"$f":"IF(DD$7=$F245,$H245,\"\")","v":""},"",{"$f":"IF(DF$7=$F245,$H245,\"\")","v":""},0,{"$f":"IF(DH$7=$F245,$H245,\"\")","v":0},0,{"$f":"IF(DJ$7=$F245,$H245,\"\")","v":0},0,{"$f":"IF(DL$7=$F245,$H245,\"\")","v":0},0,{"$f":"IF(DN$7=$F245,$H245,\"\")","v":0},0,{"$f":"IF(DP$7=$F245,$H245,\"\")","v":0},0,{"$f":"IF(DR$7=$F245,$H245,\"\")","v":0},0,{"$f":"IF(DT$7=$F245,$H245,\"\")","v":0},0,{"$f":"IF(DV$7=$F245,$H245,\"\")","v":0},0,{"$f":"IF(DX$7=$F245,$H245,\"\")","v":0},0,{"$f":"IF(DZ$7=$F245,$H245,\"\")","v":0},0,{"$f":"IF(EB$7=$F245,$H245,\"\")","v":0},0,{"$f":"IF(ED$7=$F245,$H245,\"\")","v":0},0,{"$f":"IF(EF$7=$F245,$H245,\"\")","v":0},0,{"$f":"IF(EH$7=$F245,$H245,\"\")","v":0},0,{"$f":"IF(EJ$7=$F245,$H245,\"\")","v":0},0,{"$f":"IF(EL$7=$F245,$H245,\"\")","v":0},0,{"$f":"IF(EN$7=$F245,$H245,\"\")","v":0},0,{"$f":"IF(EP$7=$F245,$H245,\"\")","v":0},0,{"$f":"IF(ER$7=$F245,$H245,\"\")","v":0},0,{"$f":"IF(ET$7=$F245,$H245,\"\")","v":0},0,{"$f":"IF(EV$7=$F245,$H245,\"\")","v":0},0,{"$f":"IF(EX$7=$F245,$H245,\"\")","v":0},0,{"$f":"IF(EZ$7=$F245,$H245,\"\")","v":0},0,{"$f":"IF(FB$7=$F245,$H245,\"\")","v":0},0,{"$f":"IF(FD$7=$F245,$H245,\"\")","v":0},0,{"$f":"IF(FF$7=$F245,$H245,\"\")","v":0},0,{"$f":"IF(FH$7=$F245,$H245,\"\")","v":0},0,{"$f":"IF(FJ$7=$F245,$H245,\"\")","v":0},0,{"$f":"IF(FL$7=$F245,$H245,\"\")","v":0},0,0]
[238,null,null,null,null,null,null,null,true,0,0,"","","",{"$f":"IF(N$7=$F246,$H246,\"\")","v":""},"",{"$f":"IF(P$7=$F246,$H246,\"\")","v":""},"",{"$f":"IF(R$7=$F246,$H246,\"\")","v":""},"",{"$f":"IF(T$7=$F246,$H246,\"\")","v":""},"",{"$f":"IF(V$7=$F246,$H246,\"\")","v":""},"",{"$f":"IF(X$7=$F246,$H246,\"\")","v":""},"",{"$f":"IF(Z$7=$F246,$H246,\"\")","v":""},"",{"$f":"IF(AB$7=$F246,$H246,\"\")","v":""},"",{"$f":"IF(AD$7=$F246,$H246,\"\")","v":""},"",{"$f":"IF(AF$7=$F246,$H246,\"\")","v":""},"",{"$f":"IF(AH$7=$F246,$H246,\"\")","v":""},"",{"$f":"IF(AJ$7=$F246,$H246,\"\")","v":""},"",{"$f":"IF(AL$7=$F246,$H246,\"\")","v":""},"",{"$f":"IF(AN$7=$F246,$H246,\"\")","v":""},"",{"$f":"IF(AP$7=$F246,$H246,\"\")","v":""},"",{"$f":"IF(AR$7=$F246,$H246,\"\")","v":""},"",{"$f":"IF(AT$7=$F246,$H246,\"\")","v":""},"",{"$f":"IF(AV$7=$F246,$H246,\"\")","v":""},"",{"$f":"IF(AX$7=$F246,$H246,\"\")","v":""},"",{"$f":"IF(AZ$7=$F246,$H246,\"\")","v":""},"",{"$f":"IF(BB$7=$F246,$H246,\"\")","v":""},"",{"$f":"IF(BD$7=$F246,$H246,\"\")","v":""},"",{"$f":"IF(BF$7=$F246,$H246,\"\")","v":""},"",{"$f":"IF(BH$7=$F246,$H246,\"\")","v":""},"",{"$f":"IF(BJ$7=$F246,$H246,\"\")","v":""},"",{"$f":"IF(BL$7=$F246,$H246,\"\")","v":""},"",{"$f":"IF(BN$7=$F246,$H246,\"\")","v":""},"",{"$f":"IF(BP$7=$F246,$H246,\"\")","v":""},"",{"$f":"IF(BR$7=$F246,$H246,\"\")","v":""},"",{"$f":"IF(BT$7=$F246,$H246,\"\")","v":""},"",{"$f":"IF(BV$7=$F246,$H246,\"\")","v":""},"",{"$f":"IF(BX$7=$F246,$H246,\"\")","v":""},"",{"$f":"IF(BZ$7=$F246,$H246,\"\")","v":""},"",{"$f":"IF(CB$7=$F246,$H246,\"\")","v":""},"",{"$f":"IF(CD$7=$F246,$H246,\"\")","v":""},"",{"$f":"IF(CF$7=$F246,$H246,\"\")","v":""},"",{"$f":"IF(CH$7=$F246,$H246,\"\")","v":""},"",{"$f":"IF(CJ$7=$F246,$H246,\"\")","v":""},"",{"$f":"IF(CL$7=$F246,$H246,\"\")","v":""},"",{"$f":"IF(CN$7=$F246,$H246,\"\")","v":""},"",{"$f":"IF(CP$7=$F246,$H246,\"\")","v":""},"",{"$f":"IF(CR$7=$F246,$H246,\"\")","v":""},"",{"$f":"IF(CT$7=$F246,$H246,\"\")","v":""},"",{"$f":"IF(CV$7=$F246,$H246,\"\")","v":""},"",{"$f":"IF(CX$7=$F246,$H246,\"\")","v":""},"",{"$f":"IF(CZ$7=$F246,$H246,\"\")","v":""},"",{"$f":"IF(DB$7=$F246,$H246,\"\")","v":""},"",{"$f":"IF(DD$7=$F246,$H246,\"\")","v":""},"",{"$f":"IF(DF$7=$F246,$H246,\"\")","v":""},0,{"$f":"IF(DH$7=$F246,$H246,\"\")","v":0},0,{"$f":"IF(DJ$7=$F246,$H246,\"\")","v":0},0,{"$f":"IF(DL$7=$F246,$H246,\"\")","v":0},0,{"$f":"IF(DN$7=$F246,$H246,\"\")","v":0},0,{"$f":"IF(DP$7=$F246,$H246,\"\")","v":0},0,{"$f":"IF(DR$7=$F246,$H246,\"\")","v":0},0,{"$f":"IF(DT$7=$F246,$H246,\"\")","v":0},0,{"$f":"IF(DV$7=$F246,$H246,\"\")","v":0},0,{"$f":"IF(DX$7=$F246,$H246,\"\")","v":0},0,{"$f":"IF(DZ$7=$F246,$H246,\"\")","v":0},0,{"$f":"IF(EB$7=$F246,$H246,\"\")","v":0},0,{"$f":"IF(ED$7=$F246,$H246,\"\")","v":0},0,{"$f":"IF(EF$7=$F246,$H246,\"\")","v":0},0,{"$f":"IF(EH$7=$F246,$H246,\"\")","v":0},0,{"$f":"IF(EJ$7=$F246,$H246,\"\")","v":0},0,{"$f":"IF(EL$7=$F246,$H246,\"\")","v":0},0,{"$f":"IF(EN$7=$F246,$H246,\"\")","v":0},0,{"$f":"IF(EP$7=$F246,$H246,\"\")","v":0},0,{"$f":"IF(ER$7=$F246,$H246,\"\")","v":0},0,{"$f":"IF(ET$7=$F246,$H246,\"\")","v":0},0,{"$f":"IF(EV$7=$F246,$H246,\"\")","v":0},0,{"$f":"IF(EX$7=$F246,$H246,\"\")","v":0},0,{"$f":"IF(EZ$7=$F246,$H246,\"\")","v":0},0,{"$f":"IF(FB$7=$F246,$H246,\"\")","v":0},0,{"$f":"IF(FD$7=$F246,$H246,\"\")","v":0},0,{"$f":"IF(FF$7=$F246,$H246,\"\")","v":0},0,{"$f":"IF(FH$7=$F246,$H246,\"\")","v":0},0,{"$f":"IF(FJ$7=$F246,$H246,\"\")","v":0},0,{"$f":"IF(FL$7=$F246,$H246,\"\")","v":0},0,0]
[239,null,null,null,null,null,null,null,true,0,0,"","","",{"$f":"IF(N$7=$F247,$H247,\"\")","v":""},"",{"$f":"IF(P$7=$F247,$H247,\"\")","v":""},"",{"$f":"IF(R$7=$F247,$H247,\"\")","v":""},"",{"$f":"IF(T$7=$F247,$H247,\"\")","v":""},"",{"$f":"IF(V$7=$F247,$H247,\"\")","v":""},"",{"$f":"IF(X$7=$F247,$H247,\"\")","v":""},"",{"$f":"IF(Z$7=$F247,$H247,\"\")","v":""},"",{"$f":"IF(AB$7=$F247,$H247,\"\")","v":""},"",{"$f":"IF(AD$7=$F247,$H247,\"\")","v":""},"",{"$f":"IF(AF$7=$F247,$H247,\"\")","v":""},"",{"$f":"IF(AH$7=$F247,$H247,\"\")","v":""},"",{"$f":"IF(AJ$7=$F247,$H247,\"\")","v":""},"",{"$f":"IF(AL$7=$F247,$H247,\"\")","v":""},"",{"$f":"IF(AN$7=$F247,$H247,\"\")","v":""},"",{"$f":"IF(AP$7=$F247,$H247,\"\")","v":""},"",{"$f":"IF(AR$7=$F247,$H247,\"\")","v":""},"",{"$f":"IF(AT$7=$F247,$H247,\"\")","v":""},"",{"$f":"IF(AV$7=$F247,$H247,\"\")","v":""},"",{"$f":"IF(AX$7=$F247,$H247,\"\")","v":""},"",{"$f":"IF(AZ$7=$F247,$H247,\"\")","v":""},"",{"$f":"IF(BB$7=$F247,$H247,\"\")","v":""},"",{"$f":"IF(BD$7=$F247,$H247,\"\")","v":""},"",{"$f":"IF(BF$7=$F247,$H247,\"\")","v":""},"",{"$f":"IF(BH$7=$F247,$H247,\"\")","v":""},"",{"$f":"IF(BJ$7=$F247,$H247,\"\")","v":""},"",{"$f":"IF(BL$7=$F247,$H247,\"\")","v":""},"",{"$f":"IF(BN$7=$F247,$H247,\"\")","v":""},"",{"$f":"IF(BP$7=$F247,$H247,\"\")","v":""},"",{"$f":"IF(BR$7=$F247,$H247,\"\")","v":""},"",{"$f":"IF(BT$7=$F247,$H247,\"\")","v":""},"",{"$f":"IF(BV$7=$F247,$H247,\"\")","v":""},"",{"$f":"IF(BX$7=$F247,$H247,\"\")","v":""},"",{"$f":"IF(BZ$7=$F247,$H247,\"\")","v":""},"",{"$f":"IF(CB$7=$F247,$H247,\"\")","v":""},"",{"$f":"IF(CD$7=$F247,$H247,\"\")","v":""},"",{"$f":"IF(CF$7=$F247,$H247,\"\")","v":""},"",{"$f":"IF(CH$7=$F247,$H247,\"\")","v":""},"",{"$f":"IF(CJ$7=$F247,$H247,\"\")","v":""},"",{"$f":"IF(CL$7=$F247,$H247,\"\")","v":""},"",{"$f":"IF(CN$7=$F247,$H247,\"\")","v":""},"",{"$f":"IF(CP$7=$F247,$H247,\"\")","v":""},"",{"$f":"IF(CR$7=$F247,$H247,\"\")","v":""},"",{"$f":"IF(CT$7=$F247,$H247,\"\")","v":""},"",{"$f":"IF(CV$7=$F247,$H247,\"\")","v":""},"",{"$f":"IF(CX$7=$F247,$H247,\"\")","v":""},"",{"$f":"IF(CZ$7=$F247,$H247,\"\")","v":""},"",{"$f":"IF(DB$7=$F247,$H247,\"\")","v":""},"",{"$f":"IF(DD$7=$F247,$H247,\"\")","v":""},"",{"$f":"IF(DF$7=$F247,$H247,\"\")","v":""},0,{"$f":"IF(DH$7=$F247,$H247,\"\")","v":0},0,{"$f":"IF(DJ$7=$F247,$H247,\"\")","v":0},0,{"$f":"IF(DL$7=$F247,$H247,\"\")","v":0},0,{"$f":"IF(DN$7=$F247,$H247,\"\")","v":0},0,{"$f":"IF(DP$7=$F247,$H247,\"\")","v":0},0,{"$f":"IF(DR$7=$F247,$H247,\"\")","v":0},0,{"$f":"IF(DT$7=$F247,$H247,\"\")","v":0},0,{"$f":"IF(DV$7=$F247,$H247,\"\")","v":0},0,{"$f":"IF(DX$7=$F247,$H247,\"\")","v":0},0,{"$f":"IF(DZ$7=$F247,$H247,\"\")","v":0},0,{"$f":"IF(EB$7=$F247,$H247,\"\")","v":0},0,{"$f":"IF(ED$7=$F247,$H247,\"\")","v":0},0,{"$f":"IF(EF$7=$F247,$H247,\"\")","v":0},0,{"$f":"IF(EH$7=$F247,$H247,\"\")","v":0},0,{"$f":"IF(EJ$7=$F247,$H247,\"\")","v":0},0,{"$f":"IF(EL$7=$F247,$H247,\"\")","v":0},0,{"$f":"IF(EN$7=$F247,$H247,\"\")","v":0},0,{"$f":"IF(EP$7=$F247,$H247,\"\")","v":0},0,{"$f":"IF(ER$7=$F247,$H247,\"\")","v":0},0,{"$f":"IF(ET$7=$F247,$H247,\"\")","v":0},0,{"$f":"IF(EV$7=$F247,$H247,\"\")","v":0},0,{"$f":"IF(EX$7=$F247,$H247,\"\")","v":0},0,{"$f":"IF(EZ$7=$F247,$H247,\"\")","v":0},0,{"$f":"IF(FB$7=$F247,$H247,\"\")","v":0},0,{"$f":"IF(FD$7=$F247,$H247,\"\")","v":0},0,{"$f":"IF(FF$7=$F247,$H247,\"\")","v":0},0,{"$f":"IF(FH$7=$F247,$H247,\"\")","v":0},0,{"$f":"IF(FJ$7=$F247,$H247,\"\")","v":0},0,{"$f":"IF(FL$7=$F247,$H247,\"\")","v":0},0,0]
[240,null,null,null,null,null,null,null,true,0,0,"","","",{"$f":"IF(N$7=$F248,$H248,\"\")","v":""},"",{"$f":"IF(P$7=$F248,$H248,\"\")","v":""},"",{"$f":"IF(R$7=$F248,$H248,\"\")","v":""},"",{"$f":"IF(T$7=$F248,$H248,\"\")","v":""},"",{"$f":"IF(V$7=$F248,$H248,\"\")","v":""},"",{"$f":"IF(X$7=$F248,$H248,\"\")","v":""},"",{"$f":"IF(Z$7=$F248,$H248,\"\")","v":""},"",{"$f":"IF(AB$7=$F248,$H248,\"\")","v":""},"",{"$f":"IF(AD$7=$F248,$H248,\"\")","v":""},"",{"$f":"IF(AF$7=$F248,$H248,\"\")","v":""},"",{"$f":"IF(AH$7=$F248,$H248,\"\")","v":""},"",{"$f":"IF(AJ$7=$F248,$H248,\"\")","v":""},"",{"$f":"IF(AL$7=$F248,$H248,\"\")","v":""},"",{"$f":"IF(AN$7=$F248,$H248,\"\")","v":""},"",{"$f":"IF(AP$7=$F248,$H248,\"\")","v":""},"",{"$f":"IF(AR$7=$F248,$H248,\"\")","v":""},"",{"$f":"IF(AT$7=$F248,$H248,\"\")","v":""},"",{"$f":"IF(AV$7=$F248,$H248,\"\")","v":""},"",{"$f":"IF(AX$7=$F248,$H248,\"\")","v":""},"",{"$f":"IF(AZ$7=$F248,$H248,\"\")","v":""},"",{"$f":"IF(BB$7=$F248,$H248,\"\")","v":""},"",{"$f":"IF(BD$7=$F248,$H248,\"\")","v":""},"",{"$f":"IF(BF$7=$F248,$H248,\"\")","v":""},"",{"$f":"IF(BH$7=$F248,$H248,\"\")","v":""},"",{"$f":"IF(BJ$7=$F248,$H248,\"\")","v":""},"",{"$f":"IF(BL$7=$F248,$H248,\"\")","v":""},"",{"$f":"IF(BN$7=$F248,$H248,\"\")","v":""},"",{"$f":"IF(BP$7=$F248,$H248,\"\")","v":""},"",{"$f":"IF(BR$7=$F248,$H248,\"\")","v":""},"",{"$f":"IF(BT$7=$F248,$H248,\"\")","v":""},"",{"$f":"IF(BV$7=$F248,$H248,\"\")","v":""},"",{"$f":"IF(BX$7=$F248,$H248,\"\")","v":""},"",{"$f":"IF(BZ$7=$F248,$H248,\"\")","v":""},"",{"$f":"IF(CB$7=$F248,$H248,\"\")","v":""},"",{"$f":"IF(CD$7=$F248,$H248,\"\")","v":""},"",{"$f":"IF(CF$7=$F248,$H248,\"\")","v":""},"",{"$f":"IF(CH$7=$F248,$H248,\"\")","v":""},"",{"$f":"IF(CJ$7=$F248,$H248,\"\")","v":""},"",{"$f":"IF(CL$7=$F248,$H248,\"\")","v":""},"",{"$f":"IF(CN$7=$F248,$H248,\"\")","v":""},"",{"$f":"IF(CP$7=$F248,$H248,\"\")","v":""},"",{"$f":"IF(CR$7=$F248,$H248,\"\")","v":""},"",{"$f":"IF(CT$7=$F248,$H248,\"\")","v":""},"",{"$f":"IF(CV$7=$F248,$H248,\"\")","v":""},"",{"$f":"IF(CX$7=$F248,$H248,\"\")","v":""},"",{"$f":"IF(CZ$7=$F248,$H248,\"\")","v":""},"",{"$f":"IF(DB$7=$F248,$H248,\"\")","v":""},"",{"$f":"IF(DD$7=$F248,$H248,\"\")","v":""},"",{"$f":"IF(DF$7=$F248,$H248,\"\")","v":""},0,{"$f":"IF(DH$7=$F248,$H248,\"\")","v":0},0,{"$f":"IF(DJ$7=$F248,$H248,\"\")","v":0},0,{"$f":"IF(DL$7=$F248,$H248,\"\")","v":0},0,{"$f":"IF(DN$7=$F248,$H248,\"\")","v":0},0,{"$f":"IF(DP$7=$F248,$H248,\"\")","v":0},0,{"$f":"IF(DR$7=$F248,$H248,\"\")","v":0},0,{"$f":"IF(DT$7=$F248,$H248,\"\")","v":0},0,{"$f":"IF(DV$7=$F248,$H248,\"\")","v":0},0,{"$f":"IF(DX$7=$F248,$H248,\"\")","v":0},0,{"$f":"IF(DZ$7=$F248,$H248,\"\")","v":0},0,{"$f":"IF(EB$7=$F248,$H248,\"\")","v":0},0,{"$f":"IF(ED$7=$F248,$H248,\"\")","v":0},0,{"$f":"IF(EF$7=$F248,$H248,\"\")","v":0},0,{"$f":"IF(EH$7=$F248,$H248,\"\")","v":0},0,{"$f":"IF(EJ$7=$F248,$H248,\"\")","v":0},0,{"$f":"IF(EL$7=$F248,$H248,\"\")","v":0},0,{"$f":"IF(EN$7=$F248,$H248,\"\")","v":0},0,{"$f":"IF(EP$7=$F248,$H248,\"\")","v":0},0,{"$f":"IF(ER$7=$F248,$H248,\"\")","v":0},0,{"$f":"IF(ET$7=$F248,$H248,\"\")","v":0},0,{"$f":"IF(EV$7=$F248,$H248,\"\")","v":0},0,{"$f":"IF(EX$7=$F248,$H248,\"\")","v":0},0,{"$f":"IF(EZ$7=$F248,$H248,\"\")","v":0},0,{"$f":"IF(FB$7=$F248,$H248,\"\")","v":0},0,{"$f":"IF(FD$7=$F248,$H248,\"\")","v":0},0,{"$f":"IF(FF$7=$F248,$H248,\"\")","v":0},0,{"$f":"IF(FH$7=$F248,$H248,\"\")","v":0},0,{"$f":"IF(FJ$7=$F248,$H248,\"\")","v":0},0,{"$f":"IF(FL$7=$F248,$H248,\"\")","v":0},0,0]
[241,null,null,null,null,null,null,null,true,0,0,"","","",{"$f":"IF(N$7=$F249,$H249,\"\")","v":""},"",{"$f":"IF(P$7=$F249,$H249,\"\")","v":""},"",{"$f":"IF(R$7=$F249,$H249,\"\")","v":""},"",{"$f":"IF(T$7=$F249,$H249,\"\")","v":""},"",{"$f":"IF(V$7=$F249,$H249,\"\")","v":""},"",{"$f":"IF(X$7=$F249,$H249,\"\")","v":""},"",{"$f":"IF(Z$7=$F249,$H249,\"\")","v":""},"",{"$f":"IF(AB$7=$F249,$H249,\"\")","v":""},"",{"$f":"IF(AD$7=$F249,$H249,\"\")","v":""},"",{"$f":"IF(AF$7=$F249,$H249,\"\")","v":""},"",{"$f":"IF(AH$7=$F249,$H249,\"\")","v":""},"",{"$f":"IF(AJ$7=$F249,$H249,\"\")","v":""},"",{"$f":"IF(AL$7=$F249,$H249,\"\")","v":""},"",{"$f":"IF(AN$7=$F249,$H249,\"\")","v":""},"",{"$f":"IF(AP$7=$F249,$H249,\"\")","v":""},"",{"$f":"IF(AR$7=$F249,$H249,\"\")","v":""},"",{"$f":"IF(AT$7=$F249,$H249,\"\")","v":""},"",{"$f":"IF(AV$7=$F249,$H249,\"\")","v":""},"",{"$f":"IF(AX$7=$F249,$H249,\"\")","v":""},"",{"$f":"IF(AZ$7=$F249,$H249,\"\")","v":""},"",{"$f":"IF(BB$7=$F249,$H249,\"\")","v":""},"",{"$f":"IF(BD$7=$F249,$H249,\"\")","v":""},"",{"$f":"IF(BF$7=$F249,$H249,\"\")","v":""},"",{"$f":"IF(BH$7=$F249,$H249,\"\")","v":""},"",{"$f":"IF(BJ$7=$F249,$H249,\"\")","v":""},"",{"$f":"IF(BL$7=$F249,$H249,\"\")","v":""},"",{"$f":"IF(BN$7=$F249,$H249,\"\")","v":""},"",{"$f":"IF(BP$7=$F249,$H249,\"\")","v":""},"",{"$f":"IF(BR$7=$F249,$H249,\"\")","v":""},"",{"$f":"IF(BT$7=$F249,$H249,\"\")","v":""},"",{"$f":"IF(BV$7=$F249,$H249,\"\")","v":""},"",{"$f":"IF(BX$7=$F249,$H249,\"\")","v":""},"",{"$f":"IF(BZ$7=$F249,$H249,\"\")","v":""},"",{"$f":"IF(CB$7=$F249,$H249,\"\")","v":""},"",{"$f":"IF(CD$7=$F249,$H249,\"\")","v":""},"",{"$f":"IF(CF$7=$F249,$H249,\"\")","v":""},"",{"$f":"IF(CH$7=$F249,$H249,\"\")","v":""},"",{"$f":"IF(CJ$7=$F249,$H249,\"\")","v":""},"",{"$f":"IF(CL$7=$F249,$H249,\"\")","v":""},"",{"$f":"IF(CN$7=$F249,$H249,\"\")","v":""},"",{"$f":"IF(CP$7=$F249,$H249,\"\")","v":""},"",{"$f":"IF(CR$7=$F249,$H249,\"\")","v":""},"",{"$f":"IF(CT$7=$F249,$H249,\"\")","v":""},"",{"$f":"IF(CV$7=$F249,$H249,\"\")","v":""},"",{"$f":"IF(CX$7=$F249,$H249,\"\")","v":""},"",{"$f":"IF(CZ$7=$F249,$H249,\"\")","v":""},"",{"$f":"IF(DB$7=$F249,$H249,\"\")","v":""},"",{"$f":"IF(DD$7=$F249,$H249,\"\")","v":""},"",{"$f":"IF(DF$7=$F249,$H249,\"\")","v":""},0,{"$f":"IF(DH$7=$F249,$H249,\"\")","v":0},0,{"$f":"IF(DJ$7=$F249,$H249,\"\")","v":0},0,{"$f":"IF(DL$7=$F249,$H249,\"\")","v":0},0,{"$f":"IF(DN$7=$F249,$H249,\"\")","v":0},0,{"$f":"IF(DP$7=$F249,$H249,\"\")","v":0},0,{"$f":"IF(DR$7=$F249,$H249,\"\")","v":0},0,{"$f":"IF(DT$7=$F249,$H249,\"\")","v":0},0,{"$f":"IF(DV$7=$F249,$H249,\"\")","v":0},0,{"$f":"IF(DX$7=$F249,$H249,\"\")","v":0},0,{"$f":"IF(DZ$7=$F249,$H249,\"\")","v":0},0,{"$f":"IF(EB$7=$F249,$H249,\"\")","v":0},0,{"$f":"IF(ED$7=$F249,$H249,\"\")","v":0},0,{"$f":"IF(EF$7=$F249,$H249,\"\")","v":0},0,{"$f":"IF(EH$7=$F249,$H249,\"\")","v":0},0,{"$f":"IF(EJ$7=$F249,$H249,\"\")","v":0},0,{"$f":"IF(EL$7=$F249,$H249,\"\")","v":0},0,{"$f":"IF(EN$7=$F249,$H249,\"\")","v":0},0,{"$f":"IF(EP$7=$F249,$H249,\"\")","v":0},0,{"$f":"IF(ER$7=$F249,$H249,\"\")","v":0},0,{"$f":"IF(ET$7=$F249,$H249,\"\")","v":0},0,{"$f":"IF(EV$7=$F249,$H249,\"\")","v":0},0,{"$f":"IF(EX$7=$F249,$H249,\"\")","v":0},0,{"$f":"IF(EZ$7=$F249,$H249,\"\")","v":0},0,{"$f":"IF(FB$7=$F249,$H249,\"\")","v":0},0,{"$f":"IF(FD$7=$F249,$H249,\"\")","v":0},0,{"$f":"IF(FF$7=$F249,$H249,\"\")","v":0},0,{"$f":"IF(FH$7=$F249,$H249,\"\")","v":0},0,{"$f":"IF(FJ$7=$F249,$H249,\"\")","v":0},0,{"$f":"IF(FL$7=$F249,$H249,\"\")","v":0},0,0]
[242,null,null,null,null,null,null,null,true,0,0,"","","",{"$f":"IF(N$7=$F250,$H250,\"\")","v":""},"",{"$f":"IF(P$7=$F250,$H250,\"\")","v":""},"",{"$f":"IF(R$7=$F250,$H250,\"\")","v":""},"",{"$f":"IF(T$7=$F250,$H250,\"\")","v":""},"",{"$f":"IF(V$7=$F250,$H250,\"\")","v":""},"",{"$f":"IF(X$7=$F250,$H250,\"\")","v":""},"",{"$f":"IF(Z$7=$F250,$H250,\"\")","v":""},"",{"$f":"IF(AB$7=$F250,$H250,\"\")","v":""},"",{"$f":"IF(AD$7=$F250,$H250,\"\")","v":""},"",{"$f":"IF(AF$7=$F250,$H250,\"\")","v":""},"",{"$f":"IF(AH$7=$F250,$H250,\"\")","v":""},"",{"$f":"IF(AJ$7=$F250,$H250,\"\")","v":""},"",{"$f":"IF(AL$7=$F250,$H250,\"\")","v":""},"",{"$f":"IF(AN$7=$F250,$H250,\"\")","v":""},"",{"$f":"IF(AP$7=$F250,$H250,\"\")","v":""},"",{"$f":"IF(AR$7=$F250,$H250,\"\")","v":""},"",{"$f":"IF(AT$7=$F250,$H250,\"\")","v":""},"",{"$f":"IF(AV$7=$F250,$H250,\"\")","v":""},"",{"$f":"IF(AX$7=$F250,$H250,\"\")","v":""},"",{"$f":"IF(AZ$7=$F250,$H250,\"\")","v":""},"",{"$f":"IF(BB$7=$F250,$H250,\"\")","v":""},"",{"$f":"IF(BD$7=$F250,$H250,\"\")","v":""},"",{"$f":"IF(BF$7=$F250,$H250,\"\")","v":""},"",{"$f":"IF(BH$7=$F250,$H250,\"\")","v":""},"",{"$f":"IF(BJ$7=$F250,$H250,\"\")","v":""},"",{"$f":"IF(BL$7=$F250,$H250,\"\")","v":""},"",{"$f":"IF(BN$7=$F250,$H250,\"\")","v":""},"",{"$f":"IF(BP$7=$F250,$H250,\"\")","v":""},"",{"$f":"IF(BR$7=$F250,$H250,\"\")","v":""},"",{"$f":"IF(BT$7=$F250,$H250,\"\")","v":""},"",{"$f":"IF(BV$7=$F250,$H250,\"\")","v":""},"",{"$f":"IF(BX$7=$F250,$H250,\"\")","v":""},"",{"$f":"IF(BZ$7=$F250,$H250,\"\")","v":""},"",{"$f":"IF(CB$7=$F250,$H250,\"\")","v":""},"",{"$f":"IF(CD$7=$F250,$H250,\"\")","v":""},"",{"$f":"IF(CF$7=$F250,$H250,\"\")","v":""},"",{"$f":"IF(CH$7=$F250,$H250,\"\")","v":""},"",{"$f":"IF(CJ$7=$F250,$H250,\"\")","v":""},"",{"$f":"IF(CL$7=$F250,$H250,\"\")","v":""},"",{"$f":"IF(CN$7=$F250,$H250,\"\")","v":""},"",{"$f":"IF(CP$7=$F250,$H250,\"\")","v":""},"",{"$f":"IF(CR$7=$F250,$H250,\"\")","v":""},"",{"$f":"IF(CT$7=$F250,$H250,\"\")","v":""},"",{"$f":"IF(CV$7=$F250,$H250,\"\")","v":""},"",{"$f":"IF(CX$7=$F250,$H250,\"\")","v":""},"",{"$f":"IF(CZ$7=$F250,$H250,\"\")","v":""},"",{"$f":"IF(DB$7=$F250,$H250,\"\")","v":""},"",{"$f":"IF(DD$7=$F250,$H250,\"\")","v":""},"",{"$f":"IF(DF$7=$F250,$H250,\"\")","v":""},0,{"$f":"IF(DH$7=$F250,$H250,\"\")","v":0},0,{"$f":"IF(DJ$7=$F250,$H250,\"\")","v":0},0,{"$f":"IF(DL$7=$F250,$H250,\"\")","v":0},0,{"$f":"IF(DN$7=$F250,$H250,\"\")","v":0},0,{"$f":"IF(DP$7=$F250,$H250,\"\")","v":0},0,{"$f":"IF(DR$7=$F250,$H250,\"\")","v":0},0,{"$f":"IF(DT$7=$F250,$H250,\"\")","v":0},0,{"$f":"IF(DV$7=$F250,$H250,\"\")","v":0},0,{"$f":"IF(DX$7=$F250,$H250,\"\")","v":0},0,{"$f":"IF(DZ$7=$F250,$H250,\"\")","v":0},0,{"$f":"IF(EB$7=$F250,$H250,\"\")","v":0},0,{"$f":"IF(ED$7=$F250,$H250,\"\")","v":0},0,{"$f":"IF(EF$7=$F250,$H250,\"\")","v":0},0,{"$f":"IF(EH$7=$F250,$H250,\"\")","v":0},0,{"$f":"IF(EJ$7=$F250,$H250,\"\")","v":0},0,{"$f":"IF(EL$7=$F250,$H250,\"\")","v":0},0,{"$f":"IF(EN$7=$F250,$H250,\"\")","v":0},0,{"$f":"IF(EP$7=$F250,$H250,\"\")","v":0},0,{"$f":"IF(ER$7=$F250,$H250,\"\")","v":0},0,{"$f":"IF(ET$7=$F250,$H250,\"\")","v":0},0,{"$f":"IF(EV$7=$F250,$H250,\"\")","v":0},0,{"$f":"IF(EX$7=$F250,$H250,\"\")","v":0},0,{"$f":"IF(EZ$7=$F250,$H250,\"\")","v":0},0,{"$f":"IF(FB$7=$F250,$H250,\"\")","v":0},0,{"$f":"IF(FD$7=$F250,$H250,\"\")","v":0},0,{"$f":"IF(FF$7=$F250,$H250,\"\")","v":0},0,{"$f":"IF(FH$7=$F250,$H250,\"\")","v":0},0,{"$f":"IF(FJ$7=$F250,$H250,\"\")","v":0},0,{"$f":"IF(FL$7=$F250,$H250,\"\")","v":0},0,0]
[243,null,null,null,null,null,null,null,true,0,0,"","","",{"$f":"IF(N$7=$F251,$H251,\"\")","v":""},"",{"$f":"IF(P$7=$F251,$H251,\"\")","v":""},"",{"$f":"IF(R$7=$F251,$H251,\"\")","v":""},"",{"$f":"IF(T$7=$F251,$H251,\"\")","v":""},"",{"$f":"IF(V$7=$F251,$H251,\"\")","v":""},"",{"$f":"IF(X$7=$F251,$H251,\"\")","v":""},"",{"$f":"IF(Z$7=$F251,$H251,\"\")","v":""},"",{"$f":"IF(AB$7=$F251,$H251,\"\")","v":""},"",{"$f":"IF(AD$7=$F251,$H251,\"\")","v":""},"",{"$f":"IF(AF$7=$F251,$H251,\"\")","v":""},"",{"$f":"IF(AH$7=$F251,$H251,\"\")","v":""},"",{"$f":"IF(AJ$7=$F251,$H251,\"\")","v":""},"",{"$f":"IF(AL$7=$F251,$H251,\"\")","v":""},"",{"$f":"IF(AN$7=$F251,$H251,\"\")","v":""},"",{"$f":"IF(AP$7=$F251,$H251,\"\")","v":""},"",{"$f":"IF(AR$7=$F251,$H251,\"\")","v":""},"",{"$f":"IF(AT$7=$F251,$H251,\"\")","v":""},"",{"$f":"IF(AV$7=$F251,$H251,\"\")","v":""},"",{"$f":"IF(AX$7=$F251,$H251,\"\")","v":""},"",{"$f":"IF(AZ$7=$F251,$H251,\"\")","v":""},"",{"$f":"IF(BB$7=$F251,$H251,\"\")","v":""},"",{"$f":"IF(BD$7=$F251,$H251,\"\")","v":""},"",{"$f":"IF(BF$7=$F251,$H251,\"\")","v":""},"",{"$f":"IF(BH$7=$F251,$H251,\"\")","v":""},"",{"$f":"IF(BJ$7=$F251,$H251,\"\")","v":""},"",{"$f":"IF(BL$7=$F251,$H251,\"\")","v":""},"",{"$f":"IF(BN$7=$F251,$H251,\"\")","v":""},"",{"$f":"IF(BP$7=$F251,$H251,\"\")","v":""},"",{"$f":"IF(BR$7=$F251,$H251,\"\")","v":""},"",{"$f":"IF(BT$7=$F251,$H251,\"\")","v":""},"",{"$f":"IF(BV$7=$F251,$H251,\"\")","v":""},"",{"$f":"IF(BX$7=$F251,$H251,\"\")","v":""},"",{"$f":"IF(BZ$7=$F251,$H251,\"\")","v":""},"",{"$f":"IF(CB$7=$F251,$H251,\"\")","v":""},"",{"$f":"IF(CD$7=$F251,$H251,\"\")","v":""},"",{"$f":"IF(CF$7=$F251,$H251,\"\")","v":""},"",{"$f":"IF(CH$7=$F251,$H251,\"\")","v":""},"",{"$f":"IF(CJ$7=$F251,$H251,\"\")","v":""},"",{"$f":"IF(CL$7=$F251,$H251,\"\")","v":""},"",{"$f":"IF(CN$7=$F251,$H251,\"\")","v":""},"",{"$f":"IF(CP$7=$F251,$H251,\"\")","v":""},"",{"$f":"IF(CR$7=$F251,$H251,\"\")","v":""},"",{"$f":"IF(CT$7=$F251,$H251,\"\")","v":""},"",{"$f":"IF(CV$7=$F251,$H251,\"\")","v":""},"",{"$f":"IF(CX$7=$F251,$H251,\"\")","v":""},"",{"$f":"IF(CZ$7=$F251,$H251,\"\")","v":""},"",{"$f":"IF(DB$7=$F251,$H251,\"\")","v":""},"",{"$f":"IF(DD$7=$F251,$H251,\"\")","v":""},"",{"$f":"IF(DF$7=$F251,$H251,\"\")","v":""},0,{"$f":"IF(DH$7=$F251,$H251,\"\")","v":0},0,{"$f":"IF(DJ$7=$F251,$H251,\"\")","v":0},0,{"$f":"IF(DL$7=$F251,$H251,\"\")","v":0},0,{"$f":"IF(DN$7=$F251,$H251,\"\")","v":0},0,{"$f":"IF(DP$7=$F251,$H251,\"\")","v":0},0,{"$f":"IF(DR$7=$F251,$H251,\"\")","v":0},0,{"$f":"IF(DT$7=$F251,$H251,\"\")","v":0},0,{"$f":"IF(DV$7=$F251,$H251,\"\")","v":0},0,{"$f":"IF(DX$7=$F251,$H251,\"\")","v":0},0,{"$f":"IF(DZ$7=$F251,$H251,\"\")","v":0},0,{"$f":"IF(EB$7=$F251,$H251,\"\")","v":0},0,{"$f":"IF(ED$7=$F251,$H251,\"\")","v":0},0,{"$f":"IF(EF$7=$F251,$H251,\"\")","v":0},0,{"$f":"IF(EH$7=$F251,$H251,\"\")","v":0},0,{"$f":"IF(EJ$7=$F251,$H251,\"\")","v":0},0,{"$f":"IF(EL$7=$F251,$H251,\"\")","v":0},0,{"$f":"IF(EN$7=$F251,$H251,\"\")","v":0},0,{"$f":"IF(EP$7=$F251,$H251,\"\")","v":0},0,{"$f":"IF(ER$7=$F251,$H251,\"\")","v":0},0,{"$f":"IF(ET$7=$F251,$H251,\"\")","v":0},0,{"$f":"IF(EV$7=$F251,$H251,\"\")","v":0},0,{"$f":"IF(EX$7=$F251,$H251,\"\")","v":0},0,{"$f":"IF(EZ$7=$F251,$H251,\"\")","v":0},0,{"$f":"IF(FB$7=$F251,$H251,\"\")","v":0},0,{"$f":"IF(FD$7=$F251,$H251,\"\")","v":0},0,{"$f":"IF(FF$7=$F251,$H251,\"\")","v":0},0,{"$f":"IF(FH$7=$F251,$H251,\"\")","v":0},0,{"$f":"IF(FJ$7=$F251,$H251,\"\")","v":0},0,{"$f":"IF(FL$7=$F251,$H251,\"\")","v":0},0,0]
[244,null,null,null,null,null,null,null,true,0,0,"","","",{"$f":"IF(N$7=$F252,$H252,\"\")","v":""},"",{"$f":"IF(P$7=$F252,$H252,\"\")","v":""},"",{"$f":"IF(R$7=$F252,$H252,\"\")","v":""},"",{"$f":"IF(T$7=$F252,$H252,\"\")","v":""},"",{"$f":"IF(V$7=$F252,$H252,\"\")","v":""},"",{"$f":"IF(X$7=$F252,$H252,\"\")","v":""},"",{"$f":"IF(Z$7=$F252,$H252,\"\")","v":""},"",{"$f":"IF(AB$7=$F252,$H252,\"\")","v":""},"",{"$f":"IF(AD$7=$F252,$H252,\"\")","v":""},"",{"$f":"IF(AF$7=$F252,$H252,\"\")","v":""},"",{"$f":"IF(AH$7=$F252,$H252,\"\")","v":""},"",{"$f":"IF(AJ$7=$F252,$H252,\"\")","v":""},"",{"$f":"IF(AL$7=$F252,$H252,\"\")","v":""},"",{"$f":"IF(AN$7=$F252,$H252,\"\")","v":""},"",{"$f":"IF(AP$7=$F252,$H252,\"\")","v":""},"",{"$f":"IF(AR$7=$F252,$H252,\"\")","v":""},"",{"$f":"IF(AT$7=$F252,$H252,\"\")","v":""},"",{"$f":"IF(AV$7=$F252,$H252,\"\")","v":""},"",{"$f":"IF(AX$7=$F252,$H252,\"\")","v":""},"",{"$f":"IF(AZ$7=$F252,$H252,\"\")","v":""},"",{"$f":"IF(BB$7=$F252,$H252,\"\")","v":""},"",{"$f":"IF(BD$7=$F252,$H252,\"\")","v":""},"",{"$f":"IF(BF$7=$F252,$H252,\"\")","v":""},"",{"$f":"IF(BH$7=$F252,$H252,\"\")","v":""},"",{"$f":"IF(BJ$7=$F252,$H252,\"\")","v":""},"",{"$f":"IF(BL$7=$F252,$H252,\"\")","v":""},"",{"$f":"IF(BN$7=$F252,$H252,\"\")","v":""},"",{"$f":"IF(BP$7=$F252,$H252,\"\")","v":""},"",{"$f":"IF(BR$7=$F252,$H252,\"\")","v":""},"",{"$f":"IF(BT$7=$F252,$H252,\"\")","v":""},"",{"$f":"IF(BV$7=$F252,$H252,\"\")","v":""},"",{"$f":"IF(BX$7=$F252,$H252,\"\")","v":""},"",{"$f":"IF(BZ$7=$F252,$H252,\"\")","v":""},"",{"$f":"IF(CB$7=$F252,$H252,\"\")","v":""},"",{"$f":"IF(CD$7=$F252,$H252,\"\")","v":""},"",{"$f":"IF(CF$7=$F252,$H252,\"\")","v":""},"",{"$f":"IF(CH$7=$F252,$H252,\"\")","v":""},"",{"$f":"IF(CJ$7=$F252,$H252,\"\")","v":""},"",{"$f":"IF(CL$7=$F252,$H252,\"\")","v":""},"",{"$f":"IF(CN$7=$F252,$H252,\"\")","v":""},"",{"$f":"IF(CP$7=$F252,$H252,\"\")","v":""},"",{"$f":"IF(CR$7=$F252,$H252,\"\")","v":""},"",{"$f":"IF(CT$7=$F252,$H252,\"\")","v":""},"",{"$f":"IF(CV$7=$F252,$H252,\"\")","v":""},"",{"$f":"IF(CX$7=$F252,$H252,\"\")","v":""},"",{"$f":"IF(CZ$7=$F252,$H252,\"\")","v":""},"",{"$f":"IF(DB$7=$F252,$H252,\"\")","v":""},"",{"$f":"IF(DD$7=$F252,$H252,\"\")","v":""},"",{"$f":"IF(DF$7=$F252,$H252,\"\")","v":""},0,{"$f":"IF(DH$7=$F252,$H252,\"\")","v":0},0,{"$f":"IF(DJ$7=$F252,$H252,\"\")","v":0},0,{"$f":"IF(DL$7=$F252,$H252,\"\")","v":0},0,{"$f":"IF(DN$7=$F252,$H252,\"\")","v":0},0,{"$f":"IF(DP$7=$F252,$H252,\"\")","v":0},0,{"$f":"IF(DR$7=$F252,$H252,\"\")","v":0},0,{"$f":"IF(DT$7=$F252,$H252,\"\")","v":0},0,{"$f":"IF(DV$7=$F252,$H252,\"\")","v":0},0,{"$f":"IF(DX$7=$F252,$H252,\"\")","v":0},0,{"$f":"IF(DZ$7=$F252,$H252,\"\")","v":0},0,{"$f":"IF(EB$7=$F252,$H252,\"\")","v":0},0,{"$f":"IF(ED$7=$F252,$H252,\"\")","v":0},0,{"$f":"IF(EF$7=$F252,$H252,\"\")","v":0},0,{"$f":"IF(EH$7=$F252,$H252,\"\")","v":0},0,{"$f":"IF(EJ$7=$F252,$H252,\"\")","v":0},0,{"$f":"IF(EL$7=$F252,$H252,\"\")","v":0},0,{"$f":"IF(EN$7=$F252,$H252,\"\")","v":0},0,{"$f":"IF(EP$7=$F252,$H252,\"\")","v":0},0,{"$f":"IF(ER$7=$F252,$H252,\"\")","v":0},0,{"$f":"IF(ET$7=$F252,$H252,\"\")","v":0},0,{"$f":"IF(EV$7=$F252,$H252,\"\")","v":0},0,{"$f":"IF(EX$7=$F252,$H252,\"\")","v":0},0,{"$f":"IF(EZ$7=$F252,$H252,\"\")","v":0},0,{"$f":"IF(FB$7=$F252,$H252,\"\")","v":0},0,{"$f":"IF(FD$7=$F252,$H252,\"\")","v":0},0,{"$f":"IF(FF$7=$F252,$H252,\"\")","v":0},0,{"$f":"IF(FH$7=$F252,$H252,\"\")","v":0},0,{"$f":"IF(FJ$7=$F252,$H252,\"\")","v":0},0,{"$f":"IF(FL$7=$F252,$H252,\"\")","v":0},0,0]
[245,null,null,null,null,null,null,null,true,0,0,"","","",{"$f":"IF(N$7=$F253,$H253,\"\")","v":""},"",{"$f":"IF(P$7=$F253,$H253,\"\")","v":""},"",{"$f":"IF(R$7=$F253,$H253,\"\")","v":""},"",{"$f":"IF(T$7=$F253,$H253,\"\")","v":""},"",{"$f":"IF(V$7=$F253,$H253,\"\")","v":""},"",{"$f":"IF(X$7=$F253,$H253,\"\")","v":""},"",{"$f":"IF(Z$7=$F253,$H253,\"\")","v":""},"",{"$f":"IF(AB$7=$F253,$H253,\"\")","v":""},"",{"$f":"IF(AD$7=$F253,$H253,\"\")","v":""},"",{"$f":"IF(AF$7=$F253,$H253,\"\")","v":""},"",{"$f":"IF(AH$7=$F253,$H253,\"\")","v":""},"",{"$f":"IF(AJ$7=$F253,$H253,\"\")","v":""},"",{"$f":"IF(AL$7=$F253,$H253,\"\")","v":""},"",{"$f":"IF(AN$7=$F253,$H253,\"\")","v":""},"",{"$f":"IF(AP$7=$F253,$H253,\"\")","v":""},"",{"$f":"IF(AR$7=$F253,$H253,\"\")","v":""},"",{"$f":"IF(AT$7=$F253,$H253,\"\")","v":""},"",{"$f":"IF(AV$7=$F253,$H253,\"\")","v":""},"",{"$f":"IF(AX$7=$F253,$H253,\"\")","v":""},"",{"$f":"IF(AZ$7=$F253,$H253,\"\")","v":""},"",{"$f":"IF(BB$7=$F253,$H253,\"\")","v":""},"",{"$f":"IF(BD$7=$F253,$H253,\"\")","v":""},"",{"$f":"IF(BF$7=$F253,$H253,\"\")","v":""},"",{"$f":"IF(BH$7=$F253,$H253,\"\")","v":""},"",{"$f":"IF(BJ$7=$F253,$H253,\"\")","v":""},"",{"$f":"IF(BL$7=$F253,$H253,\"\")","v":""},"",{"$f":"IF(BN$7=$F253,$H253,\"\")","v":""},"",{"$f":"IF(BP$7=$F253,$H253,\"\")","v":""},"",{"$f":"IF(BR$7=$F253,$H253,\"\")","v":""},"",{"$f":"IF(BT$7=$F253,$H253,\"\")","v":""},"",{"$f":"IF(BV$7=$F253,$H253,\"\")","v":""},"",{"$f":"IF(BX$7=$F253,$H253,\"\")","v":""},"",{"$f":"IF(BZ$7=$F253,$H253,\"\")","v":""},"",{"$f":"IF(CB$7=$F253,$H253,\"\")","v":""},"",{"$f":"IF(CD$7=$F253,$H253,\"\")","v":""},"",{"$f":"IF(CF$7=$F253,$H253,\"\")","v":""},"",{"$f":"IF(CH$7=$F253,$H253,\"\")","v":""},"",{"$f":"IF(CJ$7=$F253,$H253,\"\")","v":""},"",{"$f":"IF(CL$7=$F253,$H253,\"\")","v":""},"",{"$f":"IF(CN$7=$F253,$H253,\"\")","v":""},"",{"$f":"IF(CP$7=$F253,$H253,\"\")","v":""},"",{"$f":"IF(CR$7=$F253,$H253,\"\")","v":""},"",{"$f":"IF(CT$7=$F253,$H253,\"\")","v":""},"",{"$f":"IF(CV$7=$F253,$H253,\"\")","v":""},"",{"$f":"IF(CX$7=$F253,$H253,\"\")","v":""},"",{"$f":"IF(CZ$7=$F253,$H253,\"\")","v":""},"",{"$f":"IF(DB$7=$F253,$H253,\"\")","v":""},"",{"$f":"IF(DD$7=$F253,$H253,\"\")","v":""},"",{"$f":"IF(DF$7=$F253,$H253,\"\")","v":""},0,{"$f":"IF(DH$7=$F253,$H253,\"\")","v":0},0,{"$f":"IF(DJ$7=$F253,$H253,\"\")","v":0},0,{"$f":"IF(DL$7=$F253,$H253,\"\")","v":0},0,{"$f":"IF(DN$7=$F253,$H253,\"\")","v":0},0,{"$f":"IF(DP$7=$F253,$H253,\"\")","v":0},0,{"$f":"IF(DR$7=$F253,$H253,\"\")","v":0},0,{"$f":"IF(DT$7=$F253,$H253,\"\")","v":0},0,{"$f":"IF(DV$7=$F253,$H253,\"\")","v":0},0,{"$f":"IF(DX$7=$F253,$H253,\"\")","v":0},0,{"$f":"IF(DZ$7=$F253,$H253,\"\")","v":0},0,{"$f":"IF(EB$7=$F253,$H253,\"\")","v":0},0,{"$f":"IF(ED$7=$F253,$H253,\"\")","v":0},0,{"$f":"IF(EF$7=$F253,$H253,\"\")","v":0},0,{"$f":"IF(EH$7=$F253,$H253,\"\")","v":0},0,{"$f":"IF(EJ$7=$F253,$H253,\"\")","v":0},0,{"$f":"IF(EL$7=$F253,$H253,\"\")","v":0},0,{"$f":"IF(EN$7=$F253,$H253,\"\")","v":0},0,{"$f":"IF(EP$7=$F253,$H253,\"\")","v":0},0,{"$f":"IF(ER$7=$F253,$H253,\"\")","v":0},0,{"$f":"IF(ET$7=$F253,$H253,\"\")","v":0},0,{"$f":"IF(EV$7=$F253,$H253,\"\")","v":0},0,{"$f":"IF(EX$7=$F253,$H253,\"\")","v":0},0,{"$f":"IF(EZ$7=$F253,$H253,\"\")","v":0},0,{"$f":"IF(FB$7=$F253,$H253,\"\")","v":0},0,{"$f":"IF(FD$7=$F253,$H253,\"\")","v":0},0,{"$f":"IF(FF$7=$F253,$H253,\"\")","v":0},0,{"$f":"IF(FH$7=$F253,$H253,\"\")","v":0},0,{"$f":"IF(FJ$7=$F253,$H253,\"\")","v":0},0,{"$f":"IF(FL$7=$F253,$H253,\"\")","v":0},0,0]
[246,null,null,null,null,null,null,null,true,0,0,"","","",{"$f":"IF(N$7=$F254,$H254,\"\")","v":""},"",{"$f":"IF(P$7=$F254,$H254,\"\")","v":""},"",{"$f":"IF(R$7=$F254,$H254,\"\")","v":""},"",{"$f":"IF(T$7=$F254,$H254,\"\")","v":""},"",{"$f":"IF(V$7=$F254,$H254,\"\")","v":""},"",{"$f":"IF(X$7=$F254,$H254,\"\")","v":""},"",{"$f":"IF(Z$7=$F254,$H254,\"\")","v":""},"",{"$f":"IF(AB$7=$F254,$H254,\"\")","v":""},"",{"$f":"IF(AD$7=$F254,$H254,\"\")","v":""},"",{"$f":"IF(AF$7=$F254,$H254,\"\")","v":""},"",{"$f":"IF(AH$7=$F254,$H254,\"\")","v":""},"",{"$f":"IF(AJ$7=$F254,$H254,\"\")","v":""},"",{"$f":"IF(AL$7=$F254,$H254,\"\")","v":""},"",{"$f":"IF(AN$7=$F254,$H254,\"\")","v":""},"",{"$f":"IF(AP$7=$F254,$H254,\"\")","v":""},"",{"$f":"IF(AR$7=$F254,$H254,\"\")","v":""},"",{"$f":"IF(AT$7=$F254,$H254,\"\")","v":""},"",{"$f":"IF(AV$7=$F254,$H254,\"\")","v":""},"",{"$f":"IF(AX$7=$F254,$H254,\"\")","v":""},"",{"$f":"IF(AZ$7=$F254,$H254,\"\")","v":""},"",{"$f":"IF(BB$7=$F254,$H254,\"\")","v":""},"",{"$f":"IF(BD$7=$F254,$H254,\"\")","v":""},"",{"$f":"IF(BF$7=$F254,$H254,\"\")","v":""},"",{"$f":"IF(BH$7=$F254,$H254,\"\")","v":""},"",{"$f":"IF(BJ$7=$F254,$H254,\"\")","v":""},"",{"$f":"IF(BL$7=$F254,$H254,\"\")","v":""},"",{"$f":"IF(BN$7=$F254,$H254,\"\")","v":""},"",{"$f":"IF(BP$7=$F254,$H254,\"\")","v":""},"",{"$f":"IF(BR$7=$F254,$H254,\"\")","v":""},"",{"$f":"IF(BT$7=$F254,$H254,\"\")","v":""},"",{"$f":"IF(BV$7=$F254,$H254,\"\")","v":""},"",{"$f":"IF(BX$7=$F254,$H254,\"\")","v":""},"",{"$f":"IF(BZ$7=$F254,$H254,\"\")","v":""},"",{"$f":"IF(CB$7=$F254,$H254,\"\")","v":""},"",{"$f":"IF(CD$7=$F254,$H254,\"\")","v":""},"",{"$f":"IF(CF$7=$F254,$H254,\"\")","v":""},"",{"$f":"IF(CH$7=$F254,$H254,\"\")","v":""},"",{"$f":"IF(CJ$7=$F254,$H254,\"\")","v":""},"",{"$f":"IF(CL$7=$F254,$H254,\"\")","v":""},"",{"$f":"IF(CN$7=$F254,$H254,\"\")","v":""},"",{"$f":"IF(CP$7=$F254,$H254,\"\")","v":""},"",{"$f":"IF(CR$7=$F254,$H254,\"\")","v":""},"",{"$f":"IF(CT$7=$F254,$H254,\"\")","v":""},"",{"$f":"IF(CV$7=$F254,$H254,\"\")","v":""},"",{"$f":"IF(CX$7=$F254,$H254,\"\")","v":""},"",{"$f":"IF(CZ$7=$F254,$H254,\"\")","v":""},"",{"$f":"IF(DB$7=$F254,$H254,\"\")","v":""},"",{"$f":"IF(DD$7=$F254,$H254,\"\")","v":""},"",{"$f":"IF(DF$7=$F254,$H254,\"\")","v":""},0,{"$f":"IF(DH$7=$F254,$H254,\"\")","v":0},0,{"$f":"IF(DJ$7=$F254,$H254,\"\")","v":0},0,{"$f":"IF(DL$7=$F254,$H254,\"\")","v":0},0,{"$f":"IF(DN$7=$F254,$H254,\"\")","v":0},0,{"$f":"IF(DP$7=$F254,$H254,\"\")","v":0},0,{"$f":"IF(DR$7=$F254,$H254,\"\")","v":0},0,{"$f":"IF(DT$7=$F254,$H254,\"\")","v":0},0,{"$f":"IF(DV$7=$F254,$H254,\"\")","v":0},0,{"$f":"IF(DX$7=$F254,$H254,\"\")","v":0},0,{"$f":"IF(DZ$7=$F254,$H254,\"\")","v":0},0,{"$f":"IF(EB$7=$F254,$H254,\"\")","v":0},0,{"$f":"IF(ED$7=$F254,$H254,\"\")","v":0},0,{"$f":"IF(EF$7=$F254,$H254,\"\")","v":0},0,{"$f":"IF(EH$7=$F254,$H254,\"\")","v":0},0,{"$f":"IF(EJ$7=$F254,$H254,\"\")","v":0},0,{"$f":"IF(EL$7=$F254,$H254,\"\")","v":0},0,{"$f":"IF(EN$7=$F254,$H254,\"\")","v":0},0,{"$f":"IF(EP$7=$F254,$H254,\"\")","v":0},0,{"$f":"IF(ER$7=$F254,$H254,\"\")","v":0},0,{"$f":"IF(ET$7=$F254,$H254,\"\")","v":0},0,{"$f":"IF(EV$7=$F254,$H254,\"\")","v":0},0,{"$f":"IF(EX$7=$F254,$H254,\"\")","v":0},0,{"$f":"IF(EZ$7=$F254,$H254,\"\")","v":0},0,{"$f":"IF(FB$7=$F254,$H254,\"\")","v":0},0,{"$f":"IF(FD$7=$F254,$H254,\"\")","v":0},0,{"$f":"IF(FF$7=$F254,$H254,\"\")","v":0},0,{"$f":"IF(FH$7=$F254,$H254,\"\")","v":0},0,{"$f":"IF(FJ$7=$F254,$H254,\"\")","v":0},0,{"$f":"IF(FL$7=$F254,$H254,\"\")","v":0},0,0]
[247,null,null,null,null,null,null,null,true,0,0,"","","",{"$f":"IF(N$7=$F255,$H255,\"\")","v":""},"",{"$f":"IF(P$7=$F255,$H255,\"\")","v":""},"",{"$f":"IF(R$7=$F255,$H255,\"\")","v":""},"",{"$f":"IF(T$7=$F255,$H255,\"\")","v":""},"",{"$f":"IF(V$7=$F255,$H255,\"\")","v":""},"",{"$f":"IF(X$7=$F255,$H255,\"\")","v":""},"",{"$f":"IF(Z$7=$F255,$H255,\"\")","v":""},"",{"$f":"IF(AB$7=$F255,$H255,\"\")","v":""},"",{"$f":"IF(AD$7=$F255,$H255,\"\")","v":""},"",{"$f":"IF(AF$7=$F255,$H255,\"\")","v":""},"",{"$f":"IF(AH$7=$F255,$H255,\"\")","v":""},"",{"$f":"IF(AJ$7=$F255,$H255,\"\")","v":""},"",{"$f":"IF(AL$7=$F255,$H255,\"\")","v":""},"",{"$f":"IF(AN$7=$F255,$H255,\"\")","v":""},"",{"$f":"IF(AP$7=$F255,$H255,\"\")","v":""},"",{"$f":"IF(AR$7=$F255,$H255,\"\")","v":""},"",{"$f":"IF(AT$7=$F255,$H255,\"\")","v":""},"",{"$f":"IF(AV$7=$F255,$H255,\"\")","v":""},"",{"$f":"IF(AX$7=$F255,$H255,\"\")","v":""},"",{"$f":"IF(AZ$7=$F255,$H255,\"\")","v":""},"",{"$f":"IF(BB$7=$F255,$H255,\"\")","v":""},"",{"$f":"IF(BD$7=$F255,$H255,\"\")","v":""},"",{"$f":"IF(BF$7=$F255,$H255,\"\")","v":""},"",{"$f":"IF(BH$7=$F255,$H255,\"\")","v":""},"",{"$f":"IF(BJ$7=$F255,$H255,\"\")","v":""},"",{"$f":"IF(BL$7=$F255,$H255,\"\")","v":""},"",{"$f":"IF(BN$7=$F255,$H255,\"\")","v":""},"",{"$f":"IF(BP$7=$F255,$H255,\"\")","v":""},"",{"$f":"IF(BR$7=$F255,$H255,\"\")","v":""},"",{"$f":"IF(BT$7=$F255,$H255,\"\")","v":""},"",{"$f":"IF(BV$7=$F255,$H255,\"\")","v":""},"",{"$f":"IF(BX$7=$F255,$H255,\"\")","v":""},"",{"$f":"IF(BZ$7=$F255,$H255,\"\")","v":""},"",{"$f":"IF(CB$7=$F255,$H255,\"\")","v":""},"",{"$f":"IF(CD$7=$F255,$H255,\"\")","v":""},"",{"$f":"IF(CF$7=$F255,$H255,\"\")","v":""},"",{"$f":"IF(CH$7=$F255,$H255,\"\")","v":""},"",{"$f":"IF(CJ$7=$F255,$H255,\"\")","v":""},"",{"$f":"IF(CL$7=$F255,$H255,\"\")","v":""},"",{"$f":"IF(CN$7=$F255,$H255,\"\")","v":""},"",{"$f":"IF(CP$7=$F255,$H255,\"\")","v":""},"",{"$f":"IF(CR$7=$F255,$H255,\"\")","v":""},"",{"$f":"IF(CT$7=$F255,$H255,\"\")","v":""},"",{"$f":"IF(CV$7=$F255,$H255,\"\")","v":""},"",{"$f":"IF(CX$7=$F255,$H255,\"\")","v":""},"",{"$f":"IF(CZ$7=$F255,$H255,\"\")","v":""},"",{"$f":"IF(DB$7=$F255,$H255,\"\")","v":""},"",{"$f":"IF(DD$7=$F255,$H255,\"\")","v":""},"",{"$f":"IF(DF$7=$F255,$H255,\"\")","v":""},0,{"$f":"IF(DH$7=$F255,$H255,\"\")","v":0},0,{"$f":"IF(DJ$7=$F255,$H255,\"\")","v":0},0,{"$f":"IF(DL$7=$F255,$H255,\"\")","v":0},0,{"$f":"IF(DN$7=$F255,$H255,\"\")","v":0},0,{"$f":"IF(DP$7=$F255,$H255,\"\")","v":0},0,{"$f":"IF(DR$7=$F255,$H255,\"\")","v":0},0,{"$f":"IF(DT$7=$F255,$H255,\"\")","v":0},0,{"$f":"IF(DV$7=$F255,$H255,\"\")","v":0},0,{"$f":"IF(DX$7=$F255,$H255,\"\")","v":0},0,{"$f":"IF(DZ$7=$F255,$H255,\"\")","v":0},0,{"$f":"IF(EB$7=$F255,$H255,\"\")","v":0},0,{"$f":"IF(ED$7=$F255,$H255,\"\")","v":0},0,{"$f":"IF(EF$7=$F255,$H255,\"\")","v":0},0,{"$f":"IF(EH$7=$F255,$H255,\"\")","v":0},0,{"$f":"IF(EJ$7=$F255,$H255,\"\")","v":0},0,{"$f":"IF(EL$7=$F255,$H255,\"\")","v":0},0,{"$f":"IF(EN$7=$F255,$H255,\"\")","v":0},0,{"$f":"IF(EP$7=$F255,$H255,\"\")","v":0},0,{"$f":"IF(ER$7=$F255,$H255,\"\")","v":0},0,{"$f":"IF(ET$7=$F255,$H255,\"\")","v":0},0,{"$f":"IF(EV$7=$F255,$H255,\"\")","v":0},0,{"$f":"IF(EX$7=$F255,$H255,\"\")","v":0},0,{"$f":"IF(EZ$7=$F255,$H255,\"\")","v":0},0,{"$f":"IF(FB$7=$F255,$H255,\"\")","v":0},0,{"$f":"IF(FD$7=$F255,$H255,\"\")","v":0},0,{"$f":"IF(FF$7=$F255,$H255,\"\")","v":0},0,{"$f":"IF(FH$7=$F255,$H255,\"\")","v":0},0,{"$f":"IF(FJ$7=$F255,$H255,\"\")","v":0},0,{"$f":"IF(FL$7=$F255,$H255,\"\")","v":0},0,0]
[248,null,null,null,null,null,null,null,true,0,0,"","","",{"$f":"IF(N$7=$F256,$H256,\"\")","v":""},"",{"$f":"IF(P$7=$F256,$H256,\"\")","v":""},"",{"$f":"IF(R$7=$F256,$H256,\"\")","v":""},"",{"$f":"IF(T$7=$F256,$H256,\"\")","v":""},"",{"$f":"IF(V$7=$F256,$H256,\"\")","v":""},"",{"$f":"IF(X$7=$F256,$H256,\"\")","v":""},"",{"$f":"IF(Z$7=$F256,$H256,\"\")","v":""},"",{"$f":"IF(AB$7=$F256,$H256,\"\")","v":""},"",{"$f":"IF(AD$7=$F256,$H256,\"\")","v":""},"",{"$f":"IF(AF$7=$F256,$H256,\"\")","v":""},"",{"$f":"IF(AH$7=$F256,$H256,\"\")","v":""},"",{"$f":"IF(AJ$7=$F256,$H256,\"\")","v":""},"",{"$f":"IF(AL$7=$F256,$H256,\"\")","v":""},"",{"$f":"IF(AN$7=$F256,$H256,\"\")","v":""},"",{"$f":"IF(AP$7=$F256,$H256,\"\")","v":""},"",{"$f":"IF(AR$7=$F256,$H256,\"\")","v":""},"",{"$f":"IF(AT$7=$F256,$H256,\"\")","v":""},"",{"$f":"IF(AV$7=$F256,$H256,\"\")","v":""},"",{"$f":"IF(AX$7=$F256,$H256,\"\")","v":""},"",{"$f":"IF(AZ$7=$F256,$H256,\"\")","v":""},"",{"$f":"IF(BB$7=$F256,$H256,\"\")","v":""},"",{"$f":"IF(BD$7=$F256,$H256,\"\")","v":""},"",{"$f":"IF(BF$7=$F256,$H256,\"\")","v":""},"",{"$f":"IF(BH$7=$F256,$H256,\"\")","v":""},"",{"$f":"IF(BJ$7=$F256,$H256,\"\")","v":""},"",{"$f":"IF(BL$7=$F256,$H256,\"\")","v":""},"",{"$f":"IF(BN$7=$F256,$H256,\"\")","v":""},"",{"$f":"IF(BP$7=$F256,$H256,\"\")","v":""},"",{"$f":"IF(BR$7=$F256,$H256,\"\")","v":""},"",{"$f":"IF(BT$7=$F256,$H256,\"\")","v":""},"",{"$f":"IF(BV$7=$F256,$H256,\"\")","v":""},"",{"$f":"IF(BX$7=$F256,$H256,\"\")","v":""},"",{"$f":"IF(BZ$7=$F256,$H256,\"\")","v":""},"",{"$f":"IF(CB$7=$F256,$H256,\"\")","v":""},"",{"$f":"IF(CD$7=$F256,$H256,\"\")","v":""},"",{"$f":"IF(CF$7=$F256,$H256,\"\")","v":""},"",{"$f":"IF(CH$7=$F256,$H256,\"\")","v":""},"",{"$f":"IF(CJ$7=$F256,$H256,\"\")","v":""},"",{"$f":"IF(CL$7=$F256,$H256,\"\")","v":""},"",{"$f":"IF(CN$7=$F256,$H256,\"\")","v":""},"",{"$f":"IF(CP$7=$F256,$H256,\"\")","v":""},"",{"$f":"IF(CR$7=$F256,$H256,\"\")","v":""},"",{"$f":"IF(CT$7=$F256,$H256,\"\")","v":""},"",{"$f":"IF(CV$7=$F256,$H256,\"\")","v":""},"",{"$f":"IF(CX$7=$F256,$H256,\"\")","v":""},"",{"$f":"IF(CZ$7=$F256,$H256,\"\")","v":""},"",{"$f":"IF(DB$7=$F256,$H256,\"\")","v":""},"",{"$f":"IF(DD$7=$F256,$H256,\"\")","v":""},"",{"$f":"IF(DF$7=$F256,$H256,\"\")","v":""},0,{"$f":"IF(DH$7=$F256,$H256,\"\")","v":0},0,{"$f":"IF(DJ$7=$F256,$H256,\"\")","v":0},0,{"$f":"IF(DL$7=$F256,$H256,\"\")","v":0},0,{"$f":"IF(DN$7=$F256,$H256,\"\")","v":0},0,{"$f":"IF(DP$7=$F256,$H256,\"\")","v":0},0,{"$f":"IF(DR$7=$F256,$H256,\"\")","v":0},0,{"$f":"IF(DT$7=$F256,$H256,\"\")","v":0},0,{"$f":"IF(DV$7=$F256,$H256,\"\")","v":0},0,{"$f":"IF(DX$7=$F256,$H256,\"\")","v":0},0,{"$f":"IF(DZ$7=$F256,$H256,\"\")","v":0},0,{"$f":"IF(EB$7=$F256,$H256,\"\")","v":0},0,{"$f":"IF(ED$7=$F256,$H256,\"\")","v":0},0,{"$f":"IF(EF$7=$F256,$H256,\"\")","v":0},0,{"$f":"IF(EH$7=$F256,$H256,\"\")","v":0},0,{"$f":"IF(EJ$7=$F256,$H256,\"\")","v":0},0,{"$f":"IF(EL$7=$F256,$H256,\"\")","v":0},0,{"$f":"IF(EN$7=$F256,$H256,\"\")","v":0},0,{"$f":"IF(EP$7=$F256,$H256,\"\")","v":0},0,{"$f":"IF(ER$7=$F256,$H256,\"\")","v":0},0,{"$f":"IF(ET$7=$F256,$H256,\"\")","v":0},0,{"$f":"IF(EV$7=$F256,$H256,\"\")","v":0},0,{"$f":"IF(EX$7=$F256,$H256,\"\")","v":0},0,{"$f":"IF(EZ$7=$F256,$H256,\"\")","v":0},0,{"$f":"IF(FB$7=$F256,$H256,\"\")","v":0},0,{"$f":"IF(FD$7=$F256,$H256,\"\")","v":0},0,{"$f":"IF(FF$7=$F256,$H256,\"\")","v":0},0,{"$f":"IF(FH$7=$F256,$H256,\"\")","v":0},0,{"$f":"IF(FJ$7=$F256,$H256,\"\")","v":0},0,{"$f":"IF(FL$7=$F256,$H256,\"\")","v":0},0,0]
[249,null,null,null,null,null,null,null,true,0,0,"","","",{"$f":"IF(N$7=$F257,$H257,\"\")","v":""},"",{"$f":"IF(P$7=$F257,$H257,\"\")","v":""},"",{"$f":"IF(R$7=$F257,$H257,\"\")","v":""},"",{"$f":"IF(T$7=$F257,$H257,\"\")","v":""},"",{"$f":"IF(V$7=$F257,$H257,\"\")","v":""},"",{"$f":"IF(X$7=$F257,$H257,\"\")","v":""},"",{"$f":"IF(Z$7=$F257,$H257,\"\")","v":""},"",{"$f":"IF(AB$7=$F257,$H257,\"\")","v":""},"",{"$f":"IF(AD$7=$F257,$H257,\"\")","v":""},"",{"$f":"IF(AF$7=$F257,$H257,\"\")","v":""},"",{"$f":"IF(AH$7=$F257,$H257,\"\")","v":""},"",{"$f":"IF(AJ$7=$F257,$H257,\"\")","v":""},"",{"$f":"IF(AL$7=$F257,$H257,\"\")","v":""},"",{"$f":"IF(AN$7=$F257,$H257,\"\")","v":""},"",{"$f":"IF(AP$7=$F257,$H257,\"\")","v":""},"",{"$f":"IF(AR$7=$F257,$H257,\"\")","v":""},"",{"$f":"IF(AT$7=$F257,$H257,\"\")","v":""},"",{"$f":"IF(AV$7=$F257,$H257,\"\")","v":""},"",{"$f":"IF(AX$7=$F257,$H257,\"\")","v":""},"",{"$f":"IF(AZ$7=$F257,$H257,\"\")","v":""},"",{"$f":"IF(BB$7=$F257,$H257,\"\")","v":""},"",{"$f":"IF(BD$7=$F257,$H257,\"\")","v":""},"",{"$f":"IF(BF$7=$F257,$H257,\"\")","v":""},"",{"$f":"IF(BH$7=$F257,$H257,\"\")","v":""},"",{"$f":"IF(BJ$7=$F257,$H257,\"\")","v":""},"",{"$f":"IF(BL$7=$F257,$H257,\"\")","v":""},"",{"$f":"IF(BN$7=$F257,$H257,\"\")","v":""},"",{"$f":"IF(BP$7=$F257,$H257,\"\")","v":""},"",{"$f":"IF(BR$7=$F257,$H257,\"\")","v":""},"",{"$f":"IF(BT$7=$F257,$H257,\"\")","v":""},"",{"$f":"IF(BV$7=$F257,$H257,\"\")","v":""},"",{"$f":"IF(BX$7=$F257,$H257,\"\")","v":""},"",{"$f":"IF(BZ$7=$F257,$H257,\"\")","v":""},"",{"$f":"IF(CB$7=$F257,$H257,\"\")","v":""},"",{"$f":"IF(CD$7=$F257,$H257,\"\")","v":""},"",{"$f":"IF(CF$7=$F257,$H257,\"\")","v":""},"",{"$f":"IF(CH$7=$F257,$H257,\"\")","v":""},"",{"$f":"IF(CJ$7=$F257,$H257,\"\")","v":""},"",{"$f":"IF(CL$7=$F257,$H257,\"\")","v":""},"",{"$f":"IF(CN$7=$F257,$H257,\"\")","v":""},"",{"$f":"IF(CP$7=$F257,$H257,\"\")","v":""},"",{"$f":"IF(CR$7=$F257,$H257,\"\")","v":""},"",{"$f":"IF(CT$7=$F257,$H257,\"\")","v":""},"",{"$f":"IF(CV$7=$F257,$H257,\"\")","v":""},"",{"$f":"IF(CX$7=$F257,$H257,\"\")","v":""},"",{"$f":"IF(CZ$7=$F257,$H257,\"\")","v":""},"",{"$f":"IF(DB$7=$F257,$H257,\"\")","v":""},"",{"$f":"IF(DD$7=$F257,$H257,\"\")","v":""},"",{"$f":"IF(DF$7=$F257,$H257,\"\")","v":""},0,{"$f":"IF(DH$7=$F257,$H257,\"\")","v":0},0,{"$f":"IF(DJ$7=$F257,$H257,\"\")","v":0},0,{"$f":"IF(DL$7=$F257,$H257,\"\")","v":0},0,{"$f":"IF(DN$7=$F257,$H257,\"\")","v":0},0,{"$f":"IF(DP$7=$F257,$H257,\"\")","v":0},0,{"$f":"IF(DR$7=$F257,$H257,\"\")","v":0},0,{"$f":"IF(DT$7=$F257,$H257,\"\")","v":0},0,{"$f":"IF(DV$7=$F257,$H257,\"\")","v":0},0,{"$f":"IF(DX$7=$F257,$H257,\"\")","v":0},0,{"$f":"IF(DZ$7=$F257,$H257,\"\")","v":0},0,{"$f":"IF(EB$7=$F257,$H257,\"\")","v":0},0,{"$f":"IF(ED$7=$F257,$H257,\"\")","v":0},0,{"$f":"IF(EF$7=$F257,$H257,\"\")","v":0},0,{"$f":"IF(EH$7=$F257,$H257,\"\")","v":0},0,{"$f":"IF(EJ$7=$F257,$H257,\"\")","v":0},0,{"$f":"IF(EL$7=$F257,$H257,\"\")","v":0},0,{"$f":"IF(EN$7=$F257,$H257,\"\")","v":0},0,{"$f":"IF(EP$7=$F257,$H257,\"\")","v":0},0,{"$f":"IF(ER$7=$F257,$H257,\"\")","v":0},0,{"$f":"IF(ET$7=$F257,$H257,\"\")","v":0},0,{"$f":"IF(EV$7=$F257,$H257,\"\")","v":0},0,{"$f":"IF(EX$7=$F257,$H257,\"\")","v":0},0,{"$f":"IF(EZ$7=$F257,$H257,\"\")","v":0},0,{"$f":"IF(FB$7=$F257,$H257,\"\")","v":0},0,{"$f":"IF(FD$7=$F257,$H257,\"\")","v":0},0,{"$f":"IF(FF$7=$F257,$H257,\"\")","v":0},0,{"$f":"IF(FH$7=$F257,$H257,\"\")","v":0},0,{"$f":"IF(FJ$7=$F257,$H257,\"\")","v":0},0,{"$f":"IF(FL$7=$F257,$H257,\"\")","v":0},0,0]
[250,null,null,null,null,null,null,null,true,0,0,"","","",{"$f":"IF(N$7=$F258,$H258,\"\")","v":""},"",{"$f":"IF(P$7=$F258,$H258,\"\")","v":""},"",{"$f":"IF(R$7=$F258,$H258,\"\")","v":""},"",{"$f":"IF(T$7=$F258,$H258,\"\")","v":""},"",{"$f":"IF(V$7=$F258,$H258,\"\")","v":""},"",{"$f":"IF(X$7=$F258,$H258,\"\")","v":""},"",{"$f":"IF(Z$7=$F258,$H258,\"\")","v":""},"",{"$f":"IF(AB$7=$F258,$H258,\"\")","v":""},"",{"$f":"IF(AD$7=$F258,$H258,\"\")","v":""},"",{"$f":"IF(AF$7=$F258,$H258,\"\")","v":""},"",{"$f":"IF(AH$7=$F258,$H258,\"\")","v":""},"",{"$f":"IF(AJ$7=$F258,$H258,\"\")","v":""},"",{"$f":"IF(AL$7=$F258,$H258,\"\")","v":""},"",{"$f":"IF(AN$7=$F258,$H258,\"\")","v":""},"",{"$f":"IF(AP$7=$F258,$H258,\"\")","v":""},"",{"$f":"IF(AR$7=$F258,$H258,\"\")","v":""},"",{"$f":"IF(AT$7=$F258,$H258,\"\")","v":""},"",{"$f":"IF(AV$7=$F258,$H258,\"\")","v":""},"",{"$f":"IF(AX$7=$F258,$H258,\"\")","v":""},"",{"$f":"IF(AZ$7=$F258,$H258,\"\")","v":""},"",{"$f":"IF(BB$7=$F258,$H258,\"\")","v":""},"",{"$f":"IF(BD$7=$F258,$H258,\"\")","v":""},"",{"$f":"IF(BF$7=$F258,$H258,\"\")","v":""},"",{"$f":"IF(BH$7=$F258,$H258,\"\")","v":""},"",{"$f":"IF(BJ$7=$F258,$H258,\"\")","v":""},"",{"$f":"IF(BL$7=$F258,$H258,\"\")","v":""},"",{"$f":"IF(BN$7=$F258,$H258,\"\")","v":""},"",{"$f":"IF(BP$7=$F258,$H258,\"\")","v":""},"",{"$f":"IF(BR$7=$F258,$H258,\"\")","v":""},"",{"$f":"IF(BT$7=$F258,$H258,\"\")","v":""},"",{"$f":"IF(BV$7=$F258,$H258,\"\")","v":""},"",{"$f":"IF(BX$7=$F258,$H258,\"\")","v":""},"",{"$f":"IF(BZ$7=$F258,$H258,\"\")","v":""},"",{"$f":"IF(CB$7=$F258,$H258,\"\")","v":""},"",{"$f":"IF(CD$7=$F258,$H258,\"\")","v":""},"",{"$f":"IF(CF$7=$F258,$H258,\"\")","v":""},"",{"$f":"IF(CH$7=$F258,$H258,\"\")","v":""},"",{"$f":"IF(CJ$7=$F258,$H258,\"\")","v":""},"",{"$f":"IF(CL$7=$F258,$H258,\"\")","v":""},"",{"$f":"IF(CN$7=$F258,$H258,\"\")","v":""},"",{"$f":"IF(CP$7=$F258,$H258,\"\")","v":""},"",{"$f":"IF(CR$7=$F258,$H258,\"\")","v":""},"",{"$f":"IF(CT$7=$F258,$H258,\"\")","v":""},"",{"$f":"IF(CV$7=$F258,$H258,\"\")","v":""},"",{"$f":"IF(CX$7=$F258,$H258,\"\")","v":""},"",{"$f":"IF(CZ$7=$F258,$H258,\"\")","v":""},"",{"$f":"IF(DB$7=$F258,$H258,\"\")","v":""},"",{"$f":"IF(DD$7=$F258,$H258,\"\")","v":""},"",{"$f":"IF(DF$7=$F258,$H258,\"\")","v":""},0,{"$f":"IF(DH$7=$F258,$H258,\"\")","v":0},0,{"$f":"IF(DJ$7=$F258,$H258,\"\")","v":0},0,{"$f":"IF(DL$7=$F258,$H258,\"\")","v":0},0,{"$f":"IF(DN$7=$F258,$H258,\"\")","v":0},0,{"$f":"IF(DP$7=$F258,$H258,\"\")","v":0},0,{"$f":"IF(DR$7=$F258,$H258,\"\")","v":0},0,{"$f":"IF(DT$7=$F258,$H258,\"\")","v":0},0,{"$f":"IF(DV$7=$F258,$H258,\"\")","v":0},0,{"$f":"IF(DX$7=$F258,$H258,\"\")","v":0},0,{"$f":"IF(DZ$7=$F258,$H258,\"\")","v":0},0,{"$f":"IF(EB$7=$F258,$H258,\"\")","v":0},0,{"$f":"IF(ED$7=$F258,$H258,\"\")","v":0},0,{"$f":"IF(EF$7=$F258,$H258,\"\")","v":0},0,{"$f":"IF(EH$7=$F258,$H258,\"\")","v":0},0,{"$f":"IF(EJ$7=$F258,$H258,\"\")","v":0},0,{"$f":"IF(EL$7=$F258,$H258,\"\")","v":0},0,{"$f":"IF(EN$7=$F258,$H258,\"\")","v":0},0,{"$f":"IF(EP$7=$F258,$H258,\"\")","v":0},0,{"$f":"IF(ER$7=$F258,$H258,\"\")","v":0},0,{"$f":"IF(ET$7=$F258,$H258,\"\")","v":0},0,{"$f":"IF(EV$7=$F258,$H258,\"\")","v":0},0,{"$f":"IF(EX$7=$F258,$H258,\"\")","v":0},0,{"$f":"IF(EZ$7=$F258,$H258,\"\")","v":0},0,{"$f":"IF(FB$7=$F258,$H258,\"\")","v":0},0,{"$f":"IF(FD$7=$F258,$H258,\"\")","v":0},0,{"$f":"IF(FF$7=$F258,$H258,\"\")","v":0},0,{"$f":"IF(FH$7=$F258,$H258,\"\")","v":0},0,{"$f":"IF(FJ$7=$F258,$H258,\"\")","v":0},0,{"$f":"IF(FL$7=$F258,$H258,\"\")","v":0},0,0]
[251,null,null,null,null,null,null,null,true,0,0,"","","",{"$f":"IF(N$7=$F259,$H259,\"\")","v":""},"",{"$f":"IF(P$7=$F259,$H259,\"\")","v":""},"",{"$f":"IF(R$7=$F259,$H259,\"\")","v":""},"",{"$f":"IF(T$7=$F259,$H259,\"\")","v":""},"",{"$f":"IF(V$7=$F259,$H259,\"\")","v":""},"",{"$f":"IF(X$7=$F259,$H259,\"\")","v":""},"",{"$f":"IF(Z$7=$F259,$H259,\"\")","v":""},"",{"$f":"IF(AB$7=$F259,$H259,\"\")","v":""},"",{"$f":"IF(AD$7=$F259,$H259,\"\")","v":""},"",{"$f":"IF(AF$7=$F259,$H259,\"\")","v":""},"",{"$f":"IF(AH$7=$F259,$H259,\"\")","v":""},"",{"$f":"IF(AJ$7=$F259,$H259,\"\")","v":""},"",{"$f":"IF(AL$7=$F259,$H259,\"\")","v":""},"",{"$f":"IF(AN$7=$F259,$H259,\"\")","v":""},"",{"$f":"IF(AP$7=$F259,$H259,\"\")","v":""},"",{"$f":"IF(AR$7=$F259,$H259,\"\")","v":""},"",{"$f":"IF(AT$7=$F259,$H259,\"\")","v":""},"",{"$f":"IF(AV$7=$F259,$H259,\"\")","v":""},"",{"$f":"IF(AX$7=$F259,$H259,\"\")","v":""},"",{"$f":"IF(AZ$7=$F259,$H259,\"\")","v":""},"",{"$f":"IF(BB$7=$F259,$H259,\"\")","v":""},"",{"$f":"IF(BD$7=$F259,$H259,\"\")","v":""},"",{"$f":"IF(BF$7=$F259,$H259,\"\")","v":""},"",{"$f":"IF(BH$7=$F259,$H259,\"\")","v":""},"",{"$f":"IF(BJ$7=$F259,$H259,\"\")","v":""},"",{"$f":"IF(BL$7=$F259,$H259,\"\")","v":""},"",{"$f":"IF(BN$7=$F259,$H259,\"\")","v":""},"",{"$f":"IF(BP$7=$F259,$H259,\"\")","v":""},"",{"$f":"IF(BR$7=$F259,$H259,\"\")","v":""},"",{"$f":"IF(BT$7=$F259,$H259,\"\")","v":""},"",{"$f":"IF(BV$7=$F259,$H259,\"\")","v":""},"",{"$f":"IF(BX$7=$F259,$H259,\"\")","v":""},"",{"$f":"IF(BZ$7=$F259,$H259,\"\")","v":""},"",{"$f":"IF(CB$7=$F259,$H259,\"\")","v":""},"",{"$f":"IF(CD$7=$F259,$H259,\"\")","v":""},"",{"$f":"IF(CF$7=$F259,$H259,\"\")","v":""},"",{"$f":"IF(CH$7=$F259,$H259,\"\")","v":""},"",{"$f":"IF(CJ$7=$F259,$H259,\"\")","v":""},"",{"$f":"IF(CL$7=$F259,$H259,\"\")","v":""},"",{"$f":"IF(CN$7=$F259,$H259,\"\")","v":""},"",{"$f":"IF(CP$7=$F259,$H259,\"\")","v":""},"",{"$f":"IF(CR$7=$F259,$H259,\"\")","v":""},"",{"$f":"IF(CT$7=$F259,$H259,\"\")","v":""},"",{"$f":"IF(CV$7=$F259,$H259,\"\")","v":""},"",{"$f":"IF(CX$7=$F259,$H259,\"\")","v":""},"",{"$f":"IF(CZ$7=$F259,$H259,\"\")","v":""},"",{"$f":"IF(DB$7=$F259,$H259,\"\")","v":""},"",{"$f":"IF(DD$7=$F259,$H259,\"\")","v":""},"",{"$f":"IF(DF$7=$F259,$H259,\"\")","v":""},0,{"$f":"IF(DH$7=$F259,$H259,\"\")","v":0},0,{"$f":"IF(DJ$7=$F259,$H259,\"\")","v":0},0,{"$f":"IF(DL$7=$F259,$H259,\"\")","v":0},0,{"$f":"IF(DN$7=$F259,$H259,\"\")","v":0},0,{"$f":"IF(DP$7=$F259,$H259,\"\")","v":0},0,{"$f":"IF(DR$7=$F259,$H259,\"\")","v":0},0,{"$f":"IF(DT$7=$F259,$H259,\"\")","v":0},0,{"$f":"IF(DV$7=$F259,$H259,\"\")","v":0},0,{"$f":"IF(DX$7=$F259,$H259,\"\")","v":0},0,{"$f":"IF(DZ$7=$F259,$H259,\"\")","v":0},0,{"$f":"IF(EB$7=$F259,$H259,\"\")","v":0},0,{"$f":"IF(ED$7=$F259,$H259,\"\")","v":0},0,{"$f":"IF(EF$7=$F259,$H259,\"\")","v":0},0,{"$f":"IF(EH$7=$F259,$H259,\"\")","v":0},0,{"$f":"IF(EJ$7=$F259,$H259,\"\")","v":0},0,{"$f":"IF(EL$7=$F259,$H259,\"\")","v":0},0,{"$f":"IF(EN$7=$F259,$H259,\"\")","v":0},0,{"$f":"IF(EP$7=$F259,$H259,\"\")","v":0},0,{"$f":"IF(ER$7=$F259,$H259,\"\")","v":0},0,{"$f":"IF(ET$7=$F259,$H259,\"\")","v":0},0,{"$f":"IF(EV$7=$F259,$H259,\"\")","v":0},0,{"$f":"IF(EX$7=$F259,$H259,\"\")","v":0},0,{"$f":"IF(EZ$7=$F259,$H259,\"\")","v":0},0,{"$f":"IF(FB$7=$F259,$H259,\"\")","v":0},0,{"$f":"IF(FD$7=$F259,$H259,\"\")","v":0},0,{"$f":"IF(FF$7=$F259,$H259,\"\")","v":0},0,{"$f":"IF(FH$7=$F259,$H259,\"\")","v":0},0,{"$f":"IF(FJ$7=$F259,$H259,\"\")","v":0},0,{"$f":"IF(FL$7=$F259,$H259,\"\")","v":0},0,0]
[252,null,null,null,null,null,null,null,true,0,0,"","","",{"$f":"IF(N$7=$F260,$H260,\"\")","v":""},"",{"$f":"IF(P$7=$F260,$H260,\"\")","v":""},"",{"$f":"IF(R$7=$F260,$H260,\"\")","v":""},"",{"$f":"IF(T$7=$F260,$H260,\"\")","v":""},"",{"$f":"IF(V$7=$F260,$H260,\"\")","v":""},"",{"$f":"IF(X$7=$F260,$H260,\"\")","v":""},"",{"$f":"IF(Z$7=$F260,$H260,\"\")","v":""},"",{"$f":"IF(AB$7=$F260,$H260,\"\")","v":""},"",{"$f":"IF(AD$7=$F260,$H260,\"\")","v":""},"",{"$f":"IF(AF$7=$F260,$H260,\"\")","v":""},"",{"$f":"IF(AH$7=$F260,$H260,\"\")","v":""},"",{"$f":"IF(AJ$7=$F260,$H260,\"\")","v":""},"",{"$f":"IF(AL$7=$F260,$H260,\"\")","v":""},"",{"$f":"IF(AN$7=$F260,$H260,\"\")","v":""},"",{"$f":"IF(AP$7=$F260,$H260,\"\")","v":""},"",{"$f":"IF(AR$7=$F260,$H260,\"\")","v":""},"",{"$f":"IF(AT$7=$F260,$H260,\"\")","v":""},"",{"$f":"IF(AV$7=$F260,$H260,\"\")","v":""},"",{"$f":"IF(AX$7=$F260,$H260,\"\")","v":""},"",{"$f":"IF(AZ$7=$F260,$H260,\"\")","v":""},"",{"$f":"IF(BB$7=$F260,$H260,\"\")","v":""},"",{"$f":"IF(BD$7=$F260,$H260,\"\")","v":""},"",{"$f":"IF(BF$7=$F260,$H260,\"\")","v":""},"",{"$f":"IF(BH$7=$F260,$H260,\"\")","v":""},"",{"$f":"IF(BJ$7=$F260,$H260,\"\")","v":""},"",{"$f":"IF(BL$7=$F260,$H260,\"\")","v":""},"",{"$f":"IF(BN$7=$F260,$H260,\"\")","v":""},"",{"$f":"IF(BP$7=$F260,$H260,\"\")","v":""},"",{"$f":"IF(BR$7=$F260,$H260,\"\")","v":""},"",{"$f":"IF(BT$7=$F260,$H260,\"\")","v":""},"",{"$f":"IF(BV$7=$F260,$H260,\"\")","v":""},"",{"$f":"IF(BX$7=$F260,$H260,\"\")","v":""},"",{"$f":"IF(BZ$7=$F260,$H260,\"\")","v":""},"",{"$f":"IF(CB$7=$F260,$H260,\"\")","v":""},"",{"$f":"IF(CD$7=$F260,$H260,\"\")","v":""},"",{"$f":"IF(CF$7=$F260,$H260,\"\")","v":""},"",{"$f":"IF(CH$7=$F260,$H260,\"\")","v":""},"",{"$f":"IF(CJ$7=$F260,$H260,\"\")","v":""},"",{"$f":"IF(CL$7=$F260,$H260,\"\")","v":""},"",{"$f":"IF(CN$7=$F260,$H260,\"\")","v":""},"",{"$f":"IF(CP$7=$F260,$H260,\"\")","v":""},"",{"$f":"IF(CR$7=$F260,$H260,\"\")","v":""},"",{"$f":"IF(CT$7=$F260,$H260,\"\")","v":""},"",{"$f":"IF(CV$7=$F260,$H260,\"\")","v":""},"",{"$f":"IF(CX$7=$F260,$H260,\"\")","v":""},"",{"$f":"IF(CZ$7=$F260,$H260,\"\")","v":""},"",{"$f":"IF(DB$7=$F260,$H260,\"\")","v":""},"",{"$f":"IF(DD$7=$F260,$H260,\"\")","v":""},"",{"$f":"IF(DF$7=$F260,$H260,\"\")","v":""},0,{"$f":"IF(DH$7=$F260,$H260,\"\")","v":0},0,{"$f":"IF(DJ$7=$F260,$H260,\"\")","v":0},0,{"$f":"IF(DL$7=$F260,$H260,\"\")","v":0},0,{"$f":"IF(DN$7=$F260,$H260,\"\")","v":0},0,{"$f":"IF(DP$7=$F260,$H260,\"\")","v":0},0,{"$f":"IF(DR$7=$F260,$H260,\"\")","v":0},0,{"$f":"IF(DT$7=$F260,$H260,\"\")","v":0},0,{"$f":"IF(DV$7=$F260,$H260,\"\")","v":0},0,{"$f":"IF(DX$7=$F260,$H260,\"\")","v":0},0,{"$f":"IF(DZ$7=$F260,$H260,\"\")","v":0},0,{"$f":"IF(EB$7=$F260,$H260,\"\")","v":0},0,{"$f":"IF(ED$7=$F260,$H260,\"\")","v":0},0,{"$f":"IF(EF$7=$F260,$H260,\"\")","v":0},0,{"$f":"IF(EH$7=$F260,$H260,\"\")","v":0},0,{"$f":"IF(EJ$7=$F260,$H260,\"\")","v":0},0,{"$f":"IF(EL$7=$F260,$H260,\"\")","v":0},0,{"$f":"IF(EN$7=$F260,$H260,\"\")","v":0},0,{"$f":"IF(EP$7=$F260,$H260,\"\")","v":0},0,{"$f":"IF(ER$7=$F260,$H260,\"\")","v":0},0,{"$f":"IF(ET$7=$F260,$H260,\"\")","v":0},0,{"$f":"IF(EV$7=$F260,$H260,\"\")","v":0},0,{"$f":"IF(EX$7=$F260,$H260,\"\")","v":0},0,{"$f":"IF(EZ$7=$F260,$H260,\"\")","v":0},0,{"$f":"IF(FB$7=$F260,$H260,\"\")","v":0},0,{"$f":"IF(FD$7=$F260,$H260,\"\")","v":0},0,{"$f":"IF(FF$7=$F260,$H260,\"\")","v":0},0,{"$f":"IF(FH$7=$F260,$H260,\"\")","v":0},0,{"$f":"IF(FJ$7=$F260,$H260,\"\")","v":0},0,{"$f":"IF(FL$7=$F260,$H260,\"\")","v":0},0,0]
[253,null,null,null,null,null,null,null,true,0,0,"","","",{"$f":"IF(N$7=$F261,$H261,\"\")","v":""},"",{"$f":"IF(P$7=$F261,$H261,\"\")","v":""},"",{"$f":"IF(R$7=$F261,$H261,\"\")","v":""},"",{"$f":"IF(T$7=$F261,$H261,\"\")","v":""},"",{"$f":"IF(V$7=$F261,$H261,\"\")","v":""},"",{"$f":"IF(X$7=$F261,$H261,\"\")","v":""},"",{"$f":"IF(Z$7=$F261,$H261,\"\")","v":""},"",{"$f":"IF(AB$7=$F261,$H261,\"\")","v":""},"",{"$f":"IF(AD$7=$F261,$H261,\"\")","v":""},"",{"$f":"IF(AF$7=$F261,$H261,\"\")","v":""},"",{"$f":"IF(AH$7=$F261,$H261,\"\")","v":""},"",{"$f":"IF(AJ$7=$F261,$H261,\"\")","v":""},"",{"$f":"IF(AL$7=$F261,$H261,\"\")","v":""},"",{"$f":"IF(AN$7=$F261,$H261,\"\")","v":""},"",{"$f":"IF(AP$7=$F261,$H261,\"\")","v":""},"",{"$f":"IF(AR$7=$F261,$H261,\"\")","v":""},"",{"$f":"IF(AT$7=$F261,$H261,\"\")","v":""},"",{"$f":"IF(AV$7=$F261,$H261,\"\")","v":""},"",{"$f":"IF(AX$7=$F261,$H261,\"\")","v":""},"",{"$f":"IF(AZ$7=$F261,$H261,\"\")","v":""},"",{"$f":"IF(BB$7=$F261,$H261,\"\")","v":""},"",{"$f":"IF(BD$7=$F261,$H261,\"\")","v":""},"",{"$f":"IF(BF$7=$F261,$H261,\"\")","v":""},"",{"$f":"IF(BH$7=$F261,$H261,\"\")","v":""},"",{"$f":"IF(BJ$7=$F261,$H261,\"\")","v":""},"",{"$f":"IF(BL$7=$F261,$H261,\"\")","v":""},"",{"$f":"IF(BN$7=$F261,$H261,\"\")","v":""},"",{"$f":"IF(BP$7=$F261,$H261,\"\")","v":""},"",{"$f":"IF(BR$7=$F261,$H261,\"\")","v":""},"",{"$f":"IF(BT$7=$F261,$H261,\"\")","v":""},"",{"$f":"IF(BV$7=$F261,$H261,\"\")","v":""},"",{"$f":"IF(BX$7=$F261,$H261,\"\")","v":""},"",{"$f":"IF(BZ$7=$F261,$H261,\"\")","v":""},"",{"$f":"IF(CB$7=$F261,$H261,\"\")","v":""},"",{"$f":"IF(CD$7=$F261,$H261,\"\")","v":""},"",{"$f":"IF(CF$7=$F261,$H261,\"\")","v":""},"",{"$f":"IF(CH$7=$F261,$H261,\"\")","v":""},"",{"$f":"IF(CJ$7=$F261,$H261,\"\")","v":""},"",{"$f":"IF(CL$7=$F261,$H261,\"\")","v":""},"",{"$f":"IF(CN$7=$F261,$H261,\"\")","v":""},"",{"$f":"IF(CP$7=$F261,$H261,\"\")","v":""},"",{"$f":"IF(CR$7=$F261,$H261,\"\")","v":""},"",{"$f":"IF(CT$7=$F261,$H261,\"\")","v":""},"",{"$f":"IF(CV$7=$F261,$H261,\"\")","v":""},"",{"$f":"IF(CX$7=$F261,$H261,\"\")","v":""},"",{"$f":"IF(CZ$7=$F261,$H261,\"\")","v":""},"",{"$f":"IF(DB$7=$F261,$H261,\"\")","v":""},"",{"$f":"IF(DD$7=$F261,$H261,\"\")","v":""},"",{"$f":"IF(DF$7=$F261,$H261,\"\")","v":""},0,{"$f":"IF(DH$7=$F261,$H261,\"\")","v":0},0,{"$f":"IF(DJ$7=$F261,$H261,\"\")","v":0},0,{"$f":"IF(DL$7=$F261,$H261,\"\")","v":0},0,{"$f":"IF(DN$7=$F261,$H261,\"\")","v":0},0,{"$f":"IF(DP$7=$F261,$H261,\"\")","v":0},0,{"$f":"IF(DR$7=$F261,$H261,\"\")","v":0},0,{"$f":"IF(DT$7=$F261,$H261,\"\")","v":0},0,{"$f":"IF(DV$7=$F261,$H261,\"\")","v":0},0,{"$f":"IF(DX$7=$F261,$H261,\"\")","v":0},0,{"$f":"IF(DZ$7=$F261,$H261,\"\")","v":0},0,{"$f":"IF(EB$7=$F261,$H261,\"\")","v":0},0,{"$f":"IF(ED$7=$F261,$H261,\"\")","v":0},0,{"$f":"IF(EF$7=$F261,$H261,\"\")","v":0},0,{"$f":"IF(EH$7=$F261,$H261,\"\")","v":0},0,{"$f":"IF(EJ$7=$F261,$H261,\"\")","v":0},0,{"$f":"IF(EL$7=$F261,$H261,\"\")","v":0},0,{"$f":"IF(EN$7=$F261,$H261,\"\")","v":0},0,{"$f":"IF(EP$7=$F261,$H261,\"\")","v":0},0,{"$f":"IF(ER$7=$F261,$H261,\"\")","v":0},0,{"$f":"IF(ET$7=$F261,$H261,\"\")","v":0},0,{"$f":"IF(EV$7=$F261,$H261,\"\")","v":0},0,{"$f":"IF(EX$7=$F261,$H261,\"\")","v":0},0,{"$f":"IF(EZ$7=$F261,$H261,\"\")","v":0},0,{"$f":"IF(FB$7=$F261,$H261,\"\")","v":0},0,{"$f":"IF(FD$7=$F261,$H261,\"\")","v":0},0,{"$f":"IF(FF$7=$F261,$H261,\"\")","v":0},0,{"$f":"IF(FH$7=$F261,$H261,\"\")","v":0},0,{"$f":"IF(FJ$7=$F261,$H261,\"\")","v":0},0,{"$f":"IF(FL$7=$F261,$H261,\"\")","v":0},0,0]
[254,null,null,null,null,null,null,null,true,0,0,"","","",{"$f":"IF(N$7=$F262,$H262,\"\")","v":""},"",{"$f":"IF(P$7=$F262,$H262,\"\")","v":""},"",{"$f":"IF(R$7=$F262,$H262,\"\")","v":""},"",{"$f":"IF(T$7=$F262,$H262,\"\")","v":""},"",{"$f":"IF(V$7=$F262,$H262,\"\")","v":""},"",{"$f":"IF(X$7=$F262,$H262,\"\")","v":""},"",{"$f":"IF(Z$7=$F262,$H262,\"\")","v":""},"",{"$f":"IF(AB$7=$F262,$H262,\"\")","v":""},"",{"$f":"IF(AD$7=$F262,$H262,\"\")","v":""},"",{"$f":"IF(AF$7=$F262,$H262,\"\")","v":""},"",{"$f":"IF(AH$7=$F262,$H262,\"\")","v":""},"",{"$f":"IF(AJ$7=$F262,$H262,\"\")","v":""},"",{"$f":"IF(AL$7=$F262,$H262,\"\")","v":""},"",{"$f":"IF(AN$7=$F262,$H262,\"\")","v":""},"",{"$f":"IF(AP$7=$F262,$H262,\"\")","v":""},"",{"$f":"IF(AR$7=$F262,$H262,\"\")","v":""},"",{"$f":"IF(AT$7=$F262,$H262,\"\")","v":""},"",{"$f":"IF(AV$7=$F262,$H262,\"\")","v":""},"",{"$f":"IF(AX$7=$F262,$H262,\"\")","v":""},"",{"$f":"IF(AZ$7=$F262,$H262,\"\")","v":""},"",{"$f":"IF(BB$7=$F262,$H262,\"\")","v":""},"",{"$f":"IF(BD$7=$F262,$H262,\"\")","v":""},"",{"$f":"IF(BF$7=$F262,$H262,\"\")","v":""},"",{"$f":"IF(BH$7=$F262,$H262,\"\")","v":""},"",{"$f":"IF(BJ$7=$F262,$H262,\"\")","v":""},"",{"$f":"IF(BL$7=$F262,$H262,\"\")","v":""},"",{"$f":"IF(BN$7=$F262,$H262,\"\")","v":""},"",{"$f":"IF(BP$7=$F262,$H262,\"\")","v":""},"",{"$f":"IF(BR$7=$F262,$H262,\"\")","v":""},"",{"$f":"IF(BT$7=$F262,$H262,\"\")","v":""},"",{"$f":"IF(BV$7=$F262,$H262,\"\")","v":""},"",{"$f":"IF(BX$7=$F262,$H262,\"\")","v":""},"",{"$f":"IF(BZ$7=$F262,$H262,\"\")","v":""},"",{"$f":"IF(CB$7=$F262,$H262,\"\")","v":""},"",{"$f":"IF(CD$7=$F262,$H262,\"\")","v":""},"",{"$f":"IF(CF$7=$F262,$H262,\"\")","v":""},"",{"$f":"IF(CH$7=$F262,$H262,\"\")","v":""},"",{"$f":"IF(CJ$7=$F262,$H262,\"\")","v":""},"",{"$f":"IF(CL$7=$F262,$H262,\"\")","v":""},"",{"$f":"IF(CN$7=$F262,$H262,\"\")","v":""},"",{"$f":"IF(CP$7=$F262,$H262,\"\")","v":""},"",{"$f":"IF(CR$7=$F262,$H262,\"\")","v":""},"",{"$f":"IF(CT$7=$F262,$H262,\"\")","v":""},"",{"$f":"IF(CV$7=$F262,$H262,\"\")","v":""},"",{"$f":"IF(CX$7=$F262,$H262,\"\")","v":""},"",{"$f":"IF(CZ$7=$F262,$H262,\"\")","v":""},"",{"$f":"IF(DB$7=$F262,$H262,\"\")","v":""},"",{"$f":"IF(DD$7=$F262,$H262,\"\")","v":""},"",{"$f":"IF(DF$7=$F262,$H262,\"\")","v":""},0,{"$f":"IF(DH$7=$F262,$H262,\"\")","v":0},0,{"$f":"IF(DJ$7=$F262,$H262,\"\")","v":0},0,{"$f":"IF(DL$7=$F262,$H262,\"\")","v":0},0,{"$f":"IF(DN$7=$F262,$H262,\"\")","v":0},0,{"$f":"IF(DP$7=$F262,$H262,\"\")","v":0},0,{"$f":"IF(DR$7=$F262,$H262,\"\")","v":0},0,{"$f":"IF(DT$7=$F262,$H262,\"\")","v":0},0,{"$f":"IF(DV$7=$F262,$H262,\"\")","v":0},0,{"$f":"IF(DX$7=$F262,$H262,\"\")","v":0},0,{"$f":"IF(DZ$7=$F262,$H262,\"\")","v":0},0,{"$f":"IF(EB$7=$F262,$H262,\"\")","v":0},0,{"$f":"IF(ED$7=$F262,$H262,\"\")","v":0},0,{"$f":"IF(EF$7=$F262,$H262,\"\")","v":0},0,{"$f":"IF(EH$7=$F262,$H262,\"\")","v":0},0,{"$f":"IF(EJ$7=$F262,$H262,\"\")","v":0},0,{"$f":"IF(EL$7=$F262,$H262,\"\")","v":0},0,{"$f":"IF(EN$7=$F262,$H262,\"\")","v":0},0,{"$f":"IF(EP$7=$F262,$H262,\"\")","v":0},0,{"$f":"IF(ER$7=$F262,$H262,\"\")","v":0},0,{"$f":"IF(ET$7=$F262,$H262,\"\")","v":0},0,{"$f":"IF(EV$7=$F262,$H262,\"\")","v":0},0,{"$f":"IF(EX$7=$F262,$H262,\"\")","v":0},0,{"$f":"IF(EZ$7=$F262,$H262,\"\")","v":0},0,{"$f":"IF(FB$7=$F262,$H262,\"\")","v":0},0,{"$f":"IF(FD$7=$F262,$H262,\"\")","v":0},0,{"$f":"IF(FF$7=$F262,$H262,\"\")","v":0},0,{"$f":"IF(FH$7=$F262,$H262,\"\")","v":0},0,{"$f":"IF(FJ$7=$F262,$H262,\"\")","v":0},0,{"$f":"IF(FL$7=$F262,$H262,\"\")","v":0},0,0]
[255,null,null,null,null,null,null,null,true,0,0,"","","",{"$f":"IF(N$7=$F263,$H263,\"\")","v":""},"",{"$f":"IF(P$7=$F263,$H263,\"\")","v":""},"",{"$f":"IF(R$7=$F263,$H263,\"\")","v":""},"",{"$f":"IF(T$7=$F263,$H263,\"\")","v":""},"",{"$f":"IF(V$7=$F263,$H263,\"\")","v":""},"",{"$f":"IF(X$7=$F263,$H263,\"\")","v":""},"",{"$f":"IF(Z$7=$F263,$H263,\"\")","v":""},"",{"$f":"IF(AB$7=$F263,$H263,\"\")","v":""},"",{"$f":"IF(AD$7=$F263,$H263,\"\")","v":""},"",{"$f":"IF(AF$7=$F263,$H263,\"\")","v":""},"",{"$f":"IF(AH$7=$F263,$H263,\"\")","v":""},"",{"$f":"IF(AJ$7=$F263,$H263,\"\")","v":""},"",{"$f":"IF(AL$7=$F263,$H263,\"\")","v":""},"",{"$f":"IF(AN$7=$F263,$H263,\"\")","v":""},"",{"$f":"IF(AP$7=$F263,$H263,\"\")","v":""},"",{"$f":"IF(AR$7=$F263,$H263,\"\")","v":""},"",{"$f":"IF(AT$7=$F263,$H263,\"\")","v":""},"",{"$f":"IF(AV$7=$F263,$H263,\"\")","v":""},"",{"$f":"IF(AX$7=$F263,$H263,\"\")","v":""},"",{"$f":"IF(AZ$7=$F263,$H263,\"\")","v":""},"",{"$f":"IF(BB$7=$F263,$H263,\"\")","v":""},"",{"$f":"IF(BD$7=$F263,$H263,\"\")","v":""},"",{"$f":"IF(BF$7=$F263,$H263,\"\")","v":""},"",{"$f":"IF(BH$7=$F263,$H263,\"\")","v":""},"",{"$f":"IF(BJ$7=$F263,$H263,\"\")","v":""},"",{"$f":"IF(BL$7=$F263,$H263,\"\")","v":""},"",{"$f":"IF(BN$7=$F263,$H263,\"\")","v":""},"",{"$f":"IF(BP$7=$F263,$H263,\"\")","v":""},"",{"$f":"IF(BR$7=$F263,$H263,\"\")","v":""},"",{"$f":"IF(BT$7=$F263,$H263,\"\")","v":""},"",{"$f":"IF(BV$7=$F263,$H263,\"\")","v":""},"",{"$f":"IF(BX$7=$F263,$H263,\"\")","v":""},"",{"$f":"IF(BZ$7=$F263,$H263,\"\")","v":""},"",{"$f":"IF(CB$7=$F263,$H263,\"\")","v":""},"",{"$f":"IF(CD$7=$F263,$H263,\"\")","v":""},"",{"$f":"IF(CF$7=$F263,$H263,\"\")","v":""},"",{"$f":"IF(CH$7=$F263,$H263,\"\")","v":""},"",{"$f":"IF(CJ$7=$F263,$H263,\"\")","v":""},"",{"$f":"IF(CL$7=$F263,$H263,\"\")","v":""},"",{"$f":"IF(CN$7=$F263,$H263,\"\")","v":""},"",{"$f":"IF(CP$7=$F263,$H263,\"\")","v":""},"",{"$f":"IF(CR$7=$F263,$H263,\"\")","v":""},"",{"$f":"IF(CT$7=$F263,$H263,\"\")","v":""},"",{"$f":"IF(CV$7=$F263,$H263,\"\")","v":""},"",{"$f":"IF(CX$7=$F263,$H263,\"\")","v":""},"",{"$f":"IF(CZ$7=$F263,$H263,\"\")","v":""},"",{"$f":"IF(DB$7=$F263,$H263,\"\")","v":""},"",{"$f":"IF(DD$7=$F263,$H263,\"\")","v":""},"",{"$f":"IF(DF$7=$F263,$H263,\"\")","v":""},0,{"$f":"IF(DH$7=$F263,$H263,\"\")","v":0},0,{"$f":"IF(DJ$7=$F263,$H263,\"\")","v":0},0,{"$f":"IF(DL$7=$F263,$H263,\"\")","v":0},0,{"$f":"IF(DN$7=$F263,$H263,\"\")","v":0},0,{"$f":"IF(DP$7=$F263,$H263,\"\")","v":0},0,{"$f":"IF(DR$7=$F263,$H263,\"\")","v":0},0,{"$f":"IF(DT$7=$F263,$H263,\"\")","v":0},0,{"$f":"IF(DV$7=$F263,$H263,\"\")","v":0},0,{"$f":"IF(DX$7=$F263,$H263,\"\")","v":0},0,{"$f":"IF(DZ$7=$F263,$H263,\"\")","v":0},0,{"$f":"IF(EB$7=$F263,$H263,\"\")","v":0},0,{"$f":"IF(ED$7=$F263,$H263,\"\")","v":0},0,{"$f":"IF(EF$7=$F263,$H263,\"\")","v":0},0,{"$f":"IF(EH$7=$F263,$H263,\"\")","v":0},0,{"$f":"IF(EJ$7=$F263,$H263,\"\")","v":0},0,{"$f":"IF(EL$7=$F263,$H263,\"\")","v":0},0,{"$f":"IF(EN$7=$F263,$H263,\"\")","v":0},0,{"$f":"IF(EP$7=$F263,$H263,\"\")","v":0},0,{"$f":"IF(ER$7=$F263,$H263,\"\")","v":0},0,{"$f":"IF(ET$7=$F263,$H263,\"\")","v":0},0,{"$f":"IF(EV$7=$F263,$H263,\"\")","v":0},0,{"$f":"IF(EX$7=$F263,$H263,\"\")","v":0},0,{"$f":"IF(EZ$7=$F263,$H263,\"\")","v":0},0,{"$f":"IF(FB$7=$F263,$H263,\"\")","v":0},0,{"$f":"IF(FD$7=$F263,$H263,\"\")","v":0},0,{"$f":"IF(FF$7=$F263,$H263,\"\")","v":0},0,{"$f":"IF(FH$7=$F263,$H263,\"\")","v":0},0,{"$f":"IF(FJ$7=$F263,$H263,\"\")","v":0},0,{"$f":"IF(FL$7=$F263,$H263,\"\")","v":0},0,0]
[256,null,null,null,null,null,null,null,true,0,0,"","","",{"$f":"IF(N$7=$F264,$H264,\"\")","v":""},"",{"$f":"IF(P$7=$F264,$H264,\"\")","v":""},"",{"$f":"IF(R$7=$F264,$H264,\"\")","v":""},"",{"$f":"IF(T$7=$F264,$H264,\"\")","v":""},"",{"$f":"IF(V$7=$F264,$H264,\"\")","v":""},"",{"$f":"IF(X$7=$F264,$H264,\"\")","v":""},"",{"$f":"IF(Z$7=$F264,$H264,\"\")","v":""},"",{"$f":"IF(AB$7=$F264,$H264,\"\")","v":""},"",{"$f":"IF(AD$7=$F264,$H264,\"\")","v":""},"",{"$f":"IF(AF$7=$F264,$H264,\"\")","v":""},"",{"$f":"IF(AH$7=$F264,$H264,\"\")","v":""},"",{"$f":"IF(AJ$7=$F264,$H264,\"\")","v":""},"",{"$f":"IF(AL$7=$F264,$H264,\"\")","v":""},"",{"$f":"IF(AN$7=$F264,$H264,\"\")","v":""},"",{"$f":"IF(AP$7=$F264,$H264,\"\")","v":""},"",{"$f":"IF(AR$7=$F264,$H264,\"\")","v":""},"",{"$f":"IF(AT$7=$F264,$H264,\"\")","v":""},"",{"$f":"IF(AV$7=$F264,$H264,\"\")","v":""},"",{"$f":"IF(AX$7=$F264,$H264,\"\")","v":""},"",{"$f":"IF(AZ$7=$F264,$H264,\"\")","v":""},"",{"$f":"IF(BB$7=$F264,$H264,\"\")","v":""},"",{"$f":"IF(BD$7=$F264,$H264,\"\")","v":""},"",{"$f":"IF(BF$7=$F264,$H264,\"\")","v":""},"",{"$f":"IF(BH$7=$F264,$H264,\"\")","v":""},"",{"$f":"IF(BJ$7=$F264,$H264,\"\")","v":""},"",{"$f":"IF(BL$7=$F264,$H264,\"\")","v":""},"",{"$f":"IF(BN$7=$F264,$H264,\"\")","v":""},"",{"$f":"IF(BP$7=$F264,$H264,\"\")","v":""},"",{"$f":"IF(BR$7=$F264,$H264,\"\")","v":""},"",{"$f":"IF(BT$7=$F264,$H264,\"\")","v":""},"",{"$f":"IF(BV$7=$F264,$H264,\"\")","v":""},"",{"$f":"IF(BX$7=$F264,$H264,\"\")","v":""},"",{"$f":"IF(BZ$7=$F264,$H264,\"\")","v":""},"",{"$f":"IF(CB$7=$F264,$H264,\"\")","v":""},"",{"$f":"IF(CD$7=$F264,$H264,\"\")","v":""},"",{"$f":"IF(CF$7=$F264,$H264,\"\")","v":""},"",{"$f":"IF(CH$7=$F264,$H264,\"\")","v":""},"",{"$f":"IF(CJ$7=$F264,$H264,\"\")","v":""},"",{"$f":"IF(CL$7=$F264,$H264,\"\")","v":""},"",{"$f":"IF(CN$7=$F264,$H264,\"\")","v":""},"",{"$f":"IF(CP$7=$F264,$H264,\"\")","v":""},"",{"$f":"IF(CR$7=$F264,$H264,\"\")","v":""},"",{"$f":"IF(CT$7=$F264,$H264,\"\")","v":""},"",{"$f":"IF(CV$7=$F264,$H264,\"\")","v":""},"",{"$f":"IF(CX$7=$F264,$H264,\"\")","v":""},"",{"$f":"IF(CZ$7=$F264,$H264,\"\")","v":""},"",{"$f":"IF(DB$7=$F264,$H264,\"\")","v":""},"",{"$f":"IF(DD$7=$F264,$H264,\"\")","v":""},"",{"$f":"IF(DF$7=$F264,$H264,\"\")","v":""},0,{"$f":"IF(DH$7=$F264,$H264,\"\")","v":0},0,{"$f":"IF(DJ$7=$F264,$H264,\"\")","v":0},0,{"$f":"IF(DL$7=$F264,$H264,\"\")","v":0},0,{"$f":"IF(DN$7=$F264,$H264,\"\")","v":0},0,{"$f":"IF(DP$7=$F264,$H264,\"\")","v":0},0,{"$f":"IF(DR$7=$F264,$H264,\"\")","v":0},0,{"$f":"IF(DT$7=$F264,$H264,\"\")","v":0},0,{"$f":"IF(DV$7=$F264,$H264,\"\")","v":0},0,{"$f":"IF(DX$7=$F264,$H264,\"\")","v":0},0,{"$f":"IF(DZ$7=$F264,$H264,\"\")","v":0},0,{"$f":"IF(EB$7=$F264,$H264,\"\")","v":0},0,{"$f":"IF(ED$7=$F264,$H264,\"\")","v":0},0,{"$f":"IF(EF$7=$F264,$H264,\"\")","v":0},0,{"$f":"IF(EH$7=$F264,$H264,\"\")","v":0},0,{"$f":"IF(EJ$7=$F264,$H264,\"\")","v":0},0,{"$f":"IF(EL$7=$F264,$H264,\"\")","v":0},0,{"$f":"IF(EN$7=$F264,$H264,\"\")","v":0},0,{"$f":"IF(EP$7=$F264,$H264,\"\")","v":0},0,{"$f":"IF(ER$7=$F264,$H264,\"\")","v":0},0,{"$f":"IF(ET$7=$F264,$H264,\"\")","v":0},0,{"$f":"IF(EV$7=$F264,$H264,\"\")","v":0},0,{"$f":"IF(EX$7=$F264,$H264,\"\")","v":0},0,{"$f":"IF(EZ$7=$F264,$H264,\"\")","v":0},0,{"$f":"IF(FB$7=$F264,$H264,\"\")","v":0},0,{"$f":"IF(FD$7=$F264,$H264,\"\")","v":0},0,{"$f":"IF(FF$7=$F264,$H264,\"\")","v":0},0,{"$f":"IF(FH$7=$F264,$H264,\"\")","v":0},0,{"$f":"IF(FJ$7=$F264,$H264,\"\")","v":0},0,{"$f":"IF(FL$7=$F264,$H264,\"\")","v":0},0,0]
[257,null,null,null,null,null,null,null,true,0,0,"","","",{"$f":"IF(N$7=$F265,$H265,\"\")","v":""},"",{"$f":"IF(P$7=$F265,$H265,\"\")","v":""},"",{"$f":"IF(R$7=$F265,$H265,\"\")","v":""},"",{"$f":"IF(T$7=$F265,$H265,\"\")","v":""},"",{"$f":"IF(V$7=$F265,$H265,\"\")","v":""},"",{"$f":"IF(X$7=$F265,$H265,\"\")","v":""},"",{"$f":"IF(Z$7=$F265,$H265,\"\")","v":""},"",{"$f":"IF(AB$7=$F265,$H265,\"\")","v":""},"",{"$f":"IF(AD$7=$F265,$H265,\"\")","v":""},"",{"$f":"IF(AF$7=$F265,$H265,\"\")","v":""},"",{"$f":"IF(AH$7=$F265,$H265,\"\")","v":""},"",{"$f":"IF(AJ$7=$F265,$H265,\"\")","v":""},"",{"$f":"IF(AL$7=$F265,$H265,\"\")","v":""},"",{"$f":"IF(AN$7=$F265,$H265,\"\")","v":""},"",{"$f":"IF(AP$7=$F265,$H265,\"\")","v":""},"",{"$f":"IF(AR$7=$F265,$H265,\"\")","v":""},"",{"$f":"IF(AT$7=$F265,$H265,\"\")","v":""},"",{"$f":"IF(AV$7=$F265,$H265,\"\")","v":""},"",{"$f":"IF(AX$7=$F265,$H265,\"\")","v":""},"",{"$f":"IF(AZ$7=$F265,$H265,\"\")","v":""},"",{"$f":"IF(BB$7=$F265,$H265,\"\")","v":""},"",{"$f":"IF(BD$7=$F265,$H265,\"\")","v":""},"",{"$f":"IF(BF$7=$F265,$H265,\"\")","v":""},"",{"$f":"IF(BH$7=$F265,$H265,\"\")","v":""},"",{"$f":"IF(BJ$7=$F265,$H265,\"\")","v":""},"",{"$f":"IF(BL$7=$F265,$H265,\"\")","v":""},"",{"$f":"IF(BN$7=$F265,$H265,\"\")","v":""},"",{"$f":"IF(BP$7=$F265,$H265,\"\")","v":""},"",{"$f":"IF(BR$7=$F265,$H265,\"\")","v":""},"",{"$f":"IF(BT$7=$F265,$H265,\"\")","v":""},"",{"$f":"IF(BV$7=$F265,$H265,\"\")","v":""},"",{"$f":"IF(BX$7=$F265,$H265,\"\")","v":""},"",{"$f":"IF(BZ$7=$F265,$H265,\"\")","v":""},"",{"$f":"IF(CB$7=$F265,$H265,\"\")","v":""},"",{"$f":"IF(CD$7=$F265,$H265,\"\")","v":""},"",{"$f":"IF(CF$7=$F265,$H265,\"\")","v":""},"",{"$f":"IF(CH$7=$F265,$H265,\"\")","v":""},"",{"$f":"IF(CJ$7=$F265,$H265,\"\")","v":""},"",{"$f":"IF(CL$7=$F265,$H265,\"\")","v":""},"",{"$f":"IF(CN$7=$F265,$H265,\"\")","v":""},"",{"$f":"IF(CP$7=$F265,$H265,\"\")","v":""},"",{"$f":"IF(CR$7=$F265,$H265,\"\")","v":""},"",{"$f":"IF(CT$7=$F265,$H265,\"\")","v":""},"",{"$f":"IF(CV$7=$F265,$H265,\"\")","v":""},"",{"$f":"IF(CX$7=$F265,$H265,\"\")","v":""},"",{"$f":"IF(CZ$7=$F265,$H265,\"\")","v":""},"",{"$f":"IF(DB$7=$F265,$H265,\"\")","v":""},"",{"$f":"IF(DD$7=$F265,$H265,\"\")","v":""},"",{"$f":"IF(DF$7=$F265,$H265,\"\")","v":""},0,{"$f":"IF(DH$7=$F265,$H265,\"\")","v":0},0,{"$f":"IF(DJ$7=$F265,$H265,\"\")","v":0},0,{"$f":"IF(DL$7=$F265,$H265,\"\")","v":0},0,{"$f":"IF(DN$7=$F265,$H265,\"\")","v":0},0,{"$f":"IF(DP$7=$F265,$H265,\"\")","v":0},0,{"$f":"IF(DR$7=$F265,$H265,\"\")","v":0},0,{"$f":"IF(DT$7=$F265,$H265,\"\")","v":0},0,{"$f":"IF(DV$7=$F265,$H265,\"\")","v":0},0,{"$f":"IF(DX$7=$F265,$H265,\"\")","v":0},0,{"$f":"IF(DZ$7=$F265,$H265,\"\")","v":0},0,{"$f":"IF(EB$7=$F265,$H265,\"\")","v":0},0,{"$f":"IF(ED$7=$F265,$H265,\"\")","v":0},0,{"$f":"IF(EF$7=$F265,$H265,\"\")","v":0},0,{"$f":"IF(EH$7=$F265,$H265,\"\")","v":0},0,{"$f":"IF(EJ$7=$F265,$H265,\"\")","v":0},0,{"$f":"IF(EL$7=$F265,$H265,\"\")","v":0},0,{"$f":"IF(EN$7=$F265,$H265,\"\")","v":0},0,{"$f":"IF(EP$7=$F265,$H265,\"\")","v":0},0,{"$f":"IF(ER$7=$F265,$H265,\"\")","v":0},0,{"$f":"IF(ET$7=$F265,$H265,\"\")","v":0},0,{"$f":"IF(EV$7=$F265,$H265,\"\")","v":0},0,{"$f":"IF(EX$7=$F265,$H265,\"\")","v":0},0,{"$f":"IF(EZ$7=$F265,$H265,\"\")","v":0},0,{"$f":"IF(FB$7=$F265,$H265,\"\")","v":0},0,{"$f":"IF(FD$7=$F265,$H265,\"\")","v":0},0,{"$f":"IF(FF$7=$F265,$H265,\"\")","v":0},0,{"$f":"IF(FH$7=$F265,$H265,\"\")","v":0},0,{"$f":"IF(FJ$7=$F265,$H265,\"\")","v":0},0,{"$f":"IF(FL$7=$F265,$H265,\"\")","v":0},0,{"$f":"IF(FN$7=$F265,$H265,\"\")","v":0}]
[258,null,null,null,null,null,null,null,{"$f":"J266=K266","v":true},{"$f":"SUMIF($L$8:$FO$8,$J$8,L266:FO266)","v":0},{"$f":"SUMIF($L$8:$FO$8,$K$8,L266:FO266)","v":0},{"$f":"IF(L$7=$E266,$G266,\"\")","v":""},{"$f":"IF(L$7=$F266,$H266,\"\")","v":""},"",{"$f":"IF(N$7=$F266,$H266,\"\")","v":""},"",{"$f":"IF(P$7=$F266,$H266,\"\")","v":""},"",{"$f":"IF(R$7=$F266,$H266,\"\")","v":""},"",{"$f":"IF(T$7=$F266,$H266,\"\")","v":""},"",{"$f":"IF(V$7=$F266,$H266,\"\")","v":""},"",{"$f":"IF(X$7=$F266,$H266,\"\")","v":""},"",{"$f":"IF(Z$7=$F266,$H266,\"\")","v":""},"",{"$f":"IF(AB$7=$F266,$H266,\"\")","v":""},"",{"$f":"IF(AD$7=$F266,$H266,\"\")","v":""},"",{"$f":"IF(AF$7=$F266,$H266,\"\")","v":""},"",{"$f":"IF(AH$7=$F266,$H266,\"\")","v":""},"",{"$f":"IF(AJ$7=$F266,$H266,\"\")","v":""},"",{"$f":"IF(AL$7=$F266,$H266,\"\")","v":""},"",{"$f":"IF(AN$7=$F266,$H266,\"\")","v":""},"",{"$f":"IF(AP$7=$F266,$H266,\"\")","v":""},"",{"$f":"IF(AR$7=$F266,$H266,\"\")","v":""},"",{"$f":"IF(AT$7=$F266,$H266,\"\")","v":""},"",{"$f":"IF(AV$7=$F266,$H266,\"\")","v":""},"",{"$f":"IF(AX$7=$F266,$H266,\"\")","v":""},"",{"$f":"IF(AZ$7=$F266,$H266,\"\")","v":""},"",{"$f":"IF(BB$7=$F266,$H266,\"\")","v":""},"",{"$f":"IF(BD$7=$F266,$H266,\"\")","v":""},"",{"$f":"IF(BF$7=$F266,$H266,\"\")","v":""},"",{"$f":"IF(BH$7=$F266,$H266,\"\")","v":""},"",{"$f":"IF(BJ$7=$F266,$H266,\"\")","v":""},"",{"$f":"IF(BL$7=$F266,$H266,\"\")","v":""},"",{"$f":"IF(BN$7=$F266,$H266,\"\")","v":""},"",{"$f":"IF(BP$7=$F266,$H266,\"\")","v":""},"",{"$f":"IF(BR$7=$F266,$H266,\"\")","v":""},"",{"$f":"IF(BT$7=$F266,$H266,\"\")","v":""},"",{"$f":"IF(BV$7=$F266,$H266,\"\")","v":""},"",{"$f":"IF(BX$7=$F266,$H266,\"\")","v":""},"",{"$f":"IF(BZ$7=$F266,$H266,\"\")","v":""},"",{"$f":"IF(CB$7=$F266,$H266,\"\")","v":""},"",{"$f":"IF(CD$7=$F266,$H266,\"\")","v":""},"",{"$f":"IF(CF$7=$F266,$H266,\"\")","v":""},"",{"$f":"IF(CH$7=$F266,$H266,\"\")","v":""},"",{"$f":"IF(CJ$7=$F266,$H266,\"\")","v":""},"",{"$f":"IF(CL$7=$F266,$H266,\"\")","v":""},"",{"$f":"IF(CN$7=$F266,$H266,\"\")","v":""},"",{"$f":"IF(CP$7=$F266,$H266,\"\")","v":""},"",{"$f":"IF(CR$7=$F266,$H266,\"\")","v":""},"",{"$f":"IF(CT$7=$F266,$H266,\"\")","v":""},"",{"$f":"IF(CV$7=$F266,$H266,\"\")","v":""},"",{"$f":"IF(CX$7=$F266,$H266,\"\")","v":""},"",{"$f":"IF(CZ$7=$F266,$H266,\"\")","v":""},"",{"$f":"IF(DB$7=$F266,$H266,\"\")","v":""},"",{"$f":"IF(DD$7=$F266,$H266,\"\")","v":""},"",{"$f":"IF(DF$7=$F266,$H266,\"\")","v":""},0,{"$f":"IF(DH$7=$F266,$H266,\"\")","v":0},0,{"$f":"IF(DJ$7=$F266,$H266,\"\")","v":0},0,{"$f":"IF(DL$7=$F266,$H266,\"\")","v":0},0,{"$f":"IF(DN$7=$F266,$H266,\"\")","v":0},0,{"$f":"IF(DP$7=$F266,$H266,\"\")","v":0},0,{"$f":"IF(DR$7=$F266,$H266,\"\")","v":0},0,{"$f":"IF(DT$7=$F266,$H266,\"\")","v":0},0,{"$f":"IF(DV$7=$F266,$H266,\"\")","v":0},0,{"$f":"IF(DX$7=$F266,$H266,\"\")","v":0},0,{"$f":"IF(DZ$7=$F266,$H266,\"\")","v":0},0,{"$f":"IF(EB$7=$F266,$H266,\"\")","v":0},0,{"$f":"IF(ED$7=$F266,$H266,\"\")","v":0},0,{"$f":"IF(EF$7=$F266,$H266,\"\")","v":0},0,{"$f":"IF(EH$7=$F266,$H266,\"\")","v":0},0,{"$f":"IF(EJ$7=$F266,$H266,\"\")","v":0},0,{"$f":"IF(EL$7=$F266,$H266,\"\")","v":0},0,{"$f":"IF(EN$7=$F266,$H266,\"\")","v":0},0,{"$f":"IF(EP$7=$F266,$H266,\"\")","v":0},0,{"$f":"IF(ER$7=$F266,$H266,\"\")","v":0},0,{"$f":"IF(ET$7=$F266,$H266,\"\")","v":0},0,{"$f":"IF(EV$7=$F266,$H266,\"\")","v":0},0,{"$f":"IF(EX$7=$F266,$H266,\"\")","v":0},0,{"$f":"IF(EZ$7=$F266,$H266,\"\")","v":0},0,{"$f":"IF(FB$7=$F266,$H266,\"\")","v":0},0,{"$f":"IF(FD$7=$F266,$H266,\"\")","v":0},0,{"$f":"IF(FF$7=$F266,$H266,\"\")","v":0},0,{"$f":"IF(FH$7=$F266,$H266,\"\")","v":0},0,{"$f":"IF(FJ$7=$F266,$H266,\"\")","v":0},0,{"$f":"IF(FL$7=$F266,$H266,\"\")","v":0},0,0]
[259,null,null,null,null,null,null,null,true,0,0,"","","",{"$f":"IF(N$7=$F267,$H267,\"\")","v":""},"",{"$f":"IF(P$7=$F267,$H267,\"\")","v":""},"",{"$f":"IF(R$7=$F267,$H267,\"\")","v":""},"",{"$f":"IF(T$7=$F267,$H267,\"\")","v":""},"",{"$f":"IF(V$7=$F267,$H267,\"\")","v":""},"",{"$f":"IF(X$7=$F267,$H267,\"\")","v":""},"",{"$f":"IF(Z$7=$F267,$H267,\"\")","v":""},"",{"$f":"IF(AB$7=$F267,$H267,\"\")","v":""},"",{"$f":"IF(AD$7=$F267,$H267,\"\")","v":""},"",{"$f":"IF(AF$7=$F267,$H267,\"\")","v":""},"",{"$f":"IF(AH$7=$F267,$H267,\"\")","v":""},"",{"$f":"IF(AJ$7=$F267,$H267,\"\")","v":""},"",{"$f":"IF(AL$7=$F267,$H267,\"\")","v":""},"",{"$f":"IF(AN$7=$F267,$H267,\"\")","v":""},"",{"$f":"IF(AP$7=$F267,$H267,\"\")","v":""},"",{"$f":"IF(AR$7=$F267,$H267,\"\")","v":""},"",{"$f":"IF(AT$7=$F267,$H267,\"\")","v":""},"",{"$f":"IF(AV$7=$F267,$H267,\"\")","v":""},"",{"$f":"IF(AX$7=$F267,$H267,\"\")","v":""},"",{"$f":"IF(AZ$7=$F267,$H267,\"\")","v":""},"",{"$f":"IF(BB$7=$F267,$H267,\"\")","v":""},"",{"$f":"IF(BD$7=$F267,$H267,\"\")","v":""},"",{"$f":"IF(BF$7=$F267,$H267,\"\")","v":""},"",{"$f":"IF(BH$7=$F267,$H267,\"\")","v":""},"",{"$f":"IF(BJ$7=$F267,$H267,\"\")","v":""},"",{"$f":"IF(BL$7=$F267,$H267,\"\")","v":""},"",{"$f":"IF(BN$7=$F267,$H267,\"\")","v":""},"",{"$f":"IF(BP$7=$F267,$H267,\"\")","v":""},"",{"$f":"IF(BR$7=$F267,$H267,\"\")","v":""},"",{"$f":"IF(BT$7=$F267,$H267,\"\")","v":""},"",{"$f":"IF(BV$7=$F267,$H267,\"\")","v":""},"",{"$f":"IF(BX$7=$F267,$H267,\"\")","v":""},"",{"$f":"IF(BZ$7=$F267,$H267,\"\")","v":""},"",{"$f":"IF(CB$7=$F267,$H267,\"\")","v":""},"",{"$f":"IF(CD$7=$F267,$H267,\"\")","v":""},"",{"$f":"IF(CF$7=$F267,$H267,\"\")","v":""},"",{"$f":"IF(CH$7=$F267,$H267,\"\")","v":""},"",{"$f":"IF(CJ$7=$F267,$H267,\"\")","v":""},"",{"$f":"IF(CL$7=$F267,$H267,\"\")","v":""},"",{"$f":"IF(CN$7=$F267,$H267,\"\")","v":""},"",{"$f":"IF(CP$7=$F267,$H267,\"\")","v":""},"",{"$f":"IF(CR$7=$F267,$H267,\"\")","v":""},"",{"$f":"IF(CT$7=$F267,$H267,\"\")","v":""},"",{"$f":"IF(CV$7=$F267,$H267,\"\")","v":""},"",{"$f":"IF(CX$7=$F267,$H267,\"\")","v":""},"",{"$f":"IF(CZ$7=$F267,$H267,\"\")","v":""},"",{"$f":"IF(DB$7=$F267,$H267,\"\")","v":""},"",{"$f":"IF(DD$7=$F267,$H267,\"\")","v":""},"",{"$f":"IF(DF$7=$F267,$H267,\"\")","v":""},0,{"$f":"IF(DH$7=$F267,$H267,\"\")","v":0},0,{"$f":"IF(DJ$7=$F267,$H267,\"\")","v":0},0,{"$f":"IF(DL$7=$F267,$H267,\"\")","v":0},0,{"$f":"IF(DN$7=$F267,$H267,\"\")","v":0},0,{"$f":"IF(DP$7=$F267,$H267,\"\")","v":0},0,{"$f":"IF(DR$7=$F267,$H267,\"\")","v":0},0,{"$f":"IF(DT$7=$F267,$H267,\"\")","v":0},0,{"$f":"IF(DV$7=$F267,$H267,\"\")","v":0},0,{"$f":"IF(DX$7=$F267,$H267,\"\")","v":0},0,{"$f":"IF(DZ$7=$F267,$H267,\"\")","v":0},0,{"$f":"IF(EB$7=$F267,$H267,\"\")","v":0},0,{"$f":"IF(ED$7=$F267,$H267,\"\")","v":0},0,{"$f":"IF(EF$7=$F267,$H267,\"\")","v":0},0,{"$f":"IF(EH$7=$F267,$H267,\"\")","v":0},0,{"$f":"IF(EJ$7=$F267,$H267,\"\")","v":0},0,{"$f":"IF(EL$7=$F267,$H267,\"\")","v":0},0,{"$f":"IF(EN$7=$F267,$H267,\"\")","v":0},0,{"$f":"IF(EP$7=$F267,$H267,\"\")","v":0},0,{"$f":"IF(ER$7=$F267,$H267,\"\")","v":0},0,{"$f":"IF(ET$7=$F267,$H267,\"\")","v":0},0,{"$f":"IF(EV$7=$F267,$H267,\"\")","v":0},0,{"$f":"IF(EX$7=$F267,$H267,\"\")","v":0},0,{"$f":"IF(EZ$7=$F267,$H267,\"\")","v":0},0,{"$f":"IF(FB$7=$F267,$H267,\"\")","v":0},0,{"$f":"IF(FD$7=$F267,$H267,\"\")","v":0},0,{"$f":"IF(FF$7=$F267,$H267,\"\")","v":0},0,{"$f":"IF(FH$7=$F267,$H267,\"\")","v":0},0,{"$f":"IF(FJ$7=$F267,$H267,\"\")","v":0},0,{"$f":"IF(FL$7=$F267,$H267,\"\")","v":0},0,0]
[260,null,null,null,null,null,null,null,true,0,0,"","","",{"$f":"IF(N$7=$F268,$H268,\"\")","v":""},"",{"$f":"IF(P$7=$F268,$H268,\"\")","v":""},"",{"$f":"IF(R$7=$F268,$H268,\"\")","v":""},"",{"$f":"IF(T$7=$F268,$H268,\"\")","v":""},"",{"$f":"IF(V$7=$F268,$H268,\"\")","v":""},"",{"$f":"IF(X$7=$F268,$H268,\"\")","v":""},"",{"$f":"IF(Z$7=$F268,$H268,\"\")","v":""},"",{"$f":"IF(AB$7=$F268,$H268,\"\")","v":""},"",{"$f":"IF(AD$7=$F268,$H268,\"\")","v":""},"",{"$f":"IF(AF$7=$F268,$H268,\"\")","v":""},"",{"$f":"IF(AH$7=$F268,$H268,\"\")","v":""},"",{"$f":"IF(AJ$7=$F268,$H268,\"\")","v":""},"",{"$f":"IF(AL$7=$F268,$H268,\"\")","v":""},"",{"$f":"IF(AN$7=$F268,$H268,\"\")","v":""},"",{"$f":"IF(AP$7=$F268,$H268,\"\")","v":""},"",{"$f":"IF(AR$7=$F268,$H268,\"\")","v":""},"",{"$f":"IF(AT$7=$F268,$H268,\"\")","v":""},"",{"$f":"IF(AV$7=$F268,$H268,\"\")","v":""},"",{"$f":"IF(AX$7=$F268,$H268,\"\")","v":""},"",{"$f":"IF(AZ$7=$F268,$H268,\"\")","v":""},"",{"$f":"IF(BB$7=$F268,$H268,\"\")","v":""},"",{"$f":"IF(BD$7=$F268,$H268,\"\")","v":""},"",{"$f":"IF(BF$7=$F268,$H268,\"\")","v":""},"",{"$f":"IF(BH$7=$F268,$H268,\"\")","v":""},"",{"$f":"IF(BJ$7=$F268,$H268,\"\")","v":""},"",{"$f":"IF(BL$7=$F268,$H268,\"\")","v":""},"",{"$f":"IF(BN$7=$F268,$H268,\"\")","v":""},"",{"$f":"IF(BP$7=$F268,$H268,\"\")","v":""},"",{"$f":"IF(BR$7=$F268,$H268,\"\")","v":""},"",{"$f":"IF(BT$7=$F268,$H268,\"\")","v":""},"",{"$f":"IF(BV$7=$F268,$H268,\"\")","v":""},"",{"$f":"IF(BX$7=$F268,$H268,\"\")","v":""},"",{"$f":"IF(BZ$7=$F268,$H268,\"\")","v":""},"",{"$f":"IF(CB$7=$F268,$H268,\"\")","v":""},"",{"$f":"IF(CD$7=$F268,$H268,\"\")","v":""},"",{"$f":"IF(CF$7=$F268,$H268,\"\")","v":""},"",{"$f":"IF(CH$7=$F268,$H268,\"\")","v":""},"",{"$f":"IF(CJ$7=$F268,$H268,\"\")","v":""},"",{"$f":"IF(CL$7=$F268,$H268,\"\")","v":""},"",{"$f":"IF(CN$7=$F268,$H268,\"\")","v":""},"",{"$f":"IF(CP$7=$F268,$H268,\"\")","v":""},"",{"$f":"IF(CR$7=$F268,$H268,\"\")","v":""},"",{"$f":"IF(CT$7=$F268,$H268,\"\")","v":""},"",{"$f":"IF(CV$7=$F268,$H268,\"\")","v":""},"",{"$f":"IF(CX$7=$F268,$H268,\"\")","v":""},"",{"$f":"IF(CZ$7=$F268,$H268,\"\")","v":""},"",{"$f":"IF(DB$7=$F268,$H268,\"\")","v":""},"",{"$f":"IF(DD$7=$F268,$H268,\"\")","v":""},"",{"$f":"IF(DF$7=$F268,$H268,\"\")","v":""},0,{"$f":"IF(DH$7=$F268,$H268,\"\")","v":0},0,{"$f":"IF(DJ$7=$F268,$H268,\"\")","v":0},0,{"$f":"IF(DL$7=$F268,$H268,\"\")","v":0},0,{"$f":"IF(DN$7=$F268,$H268,\"\")","v":0},0,{"$f":"IF(DP$7=$F268,$H268,\"\")","v":0},0,{"$f":"IF(DR$7=$F268,$H268,\"\")","v":0},0,{"$f":"IF(DT$7=$F268,$H268,\"\")","v":0},0,{"$f":"IF(DV$7=$F268,$H268,\"\")","v":0},0,{"$f":"IF(DX$7=$F268,$H268,\"\")","v":0},0,{"$f":"IF(DZ$7=$F268,$H268,\"\")","v":0},0,{"$f":"IF(EB$7=$F268,$H268,\"\")","v":0},0,{"$f":"IF(ED$7=$F268,$H268,\"\")","v":0},0,{"$f":"IF(EF$7=$F268,$H268,\"\")","v":0},0,{"$f":"IF(EH$7=$F268,$H268,\"\")","v":0},0,{"$f":"IF(EJ$7=$F268,$H268,\"\")","v":0},0,{"$f":"IF(EL$7=$F268,$H268,\"\")","v":0},0,{"$f":"IF(EN$7=$F268,$H268,\"\")","v":0},0,{"$f":"IF(EP$7=$F268,$H268,\"\")","v":0},0,{"$f":"IF(ER$7=$F268,$H268,\"\")","v":0},0,{"$f":"IF(ET$7=$F268,$H268,\"\")","v":0},0,{"$f":"IF(EV$7=$F268,$H268,\"\")","v":0},0,{"$f":"IF(EX$7=$F268,$H268,\"\")","v":0},0,{"$f":"IF(EZ$7=$F268,$H268,\"\")","v":0},0,{"$f":"IF(FB$7=$F268,$H268,\"\")","v":0},0,{"$f":"IF(FD$7=$F268,$H268,\"\")","v":0},0,{"$f":"IF(FF$7=$F268,$H268,\"\")","v":0},0,{"$f":"IF(FH$7=$F268,$H268,\"\")","v":0},0,{"$f":"IF(FJ$7=$F268,$H268,\"\")","v":0},0,{"$f":"IF(FL$7=$F268,$H268,\"\")","v":0},0,0]
[261,null,null,null,null,null,null,null,true,0,0,"","","",{"$f":"IF(N$7=$F269,$H269,\"\")","v":""},"",{"$f":"IF(P$7=$F269,$H269,\"\")","v":""},"",{"$f":"IF(R$7=$F269,$H269,\"\")","v":""},"",{"$f":"IF(T$7=$F269,$H269,\"\")","v":""},"",{"$f":"IF(V$7=$F269,$H269,\"\")","v":""},"",{"$f":"IF(X$7=$F269,$H269,\"\")","v":""},"",{"$f":"IF(Z$7=$F269,$H269,\"\")","v":""},"",{"$f":"IF(AB$7=$F269,$H269,\"\")","v":""},"",{"$f":"IF(AD$7=$F269,$H269,\"\")","v":""},"",{"$f":"IF(AF$7=$F269,$H269,\"\")","v":""},"",{"$f":"IF(AH$7=$F269,$H269,\"\")","v":""},"",{"$f":"IF(AJ$7=$F269,$H269,\"\")","v":""},"",{"$f":"IF(AL$7=$F269,$H269,\"\")","v":""},"",{"$f":"IF(AN$7=$F269,$H269,\"\")","v":""},"",{"$f":"IF(AP$7=$F269,$H269,\"\")","v":""},"",{"$f":"IF(AR$7=$F269,$H269,\"\")","v":""},"",{"$f":"IF(AT$7=$F269,$H269,\"\")","v":""},"",{"$f":"IF(AV$7=$F269,$H269,\"\")","v":""},"",{"$f":"IF(AX$7=$F269,$H269,\"\")","v":""},"",{"$f":"IF(AZ$7=$F269,$H269,\"\")","v":""},"",{"$f":"IF(BB$7=$F269,$H269,\"\")","v":""},"",{"$f":"IF(BD$7=$F269,$H269,\"\")","v":""},"",{"$f":"IF(BF$7=$F269,$H269,\"\")","v":""},"",{"$f":"IF(BH$7=$F269,$H269,\"\")","v":""},"",{"$f":"IF(BJ$7=$F269,$H269,\"\")","v":""},"",{"$f":"IF(BL$7=$F269,$H269,\"\")","v":""},"",{"$f":"IF(BN$7=$F269,$H269,\"\")","v":""},"",{"$f":"IF(BP$7=$F269,$H269,\"\")","v":""},"",{"$f":"IF(BR$7=$F269,$H269,\"\")","v":""},"",{"$f":"IF(BT$7=$F269,$H269,\"\")","v":""},"",{"$f":"IF(BV$7=$F269,$H269,\"\")","v":""},"",{"$f":"IF(BX$7=$F269,$H269,\"\")","v":""},"",{"$f":"IF(BZ$7=$F269,$H269,\"\")","v":""},"",{"$f":"IF(CB$7=$F269,$H269,\"\")","v":""},"",{"$f":"IF(CD$7=$F269,$H269,\"\")","v":""},"",{"$f":"IF(CF$7=$F269,$H269,\"\")","v":""},"",{"$f":"IF(CH$7=$F269,$H269,\"\")","v":""},"",{"$f":"IF(CJ$7=$F269,$H269,\"\")","v":""},"",{"$f":"IF(CL$7=$F269,$H269,\"\")","v":""},"",{"$f":"IF(CN$7=$F269,$H269,\"\")","v":""},"",{"$f":"IF(CP$7=$F269,$H269,\"\")","v":""},"",{"$f":"IF(CR$7=$F269,$H269,\"\")","v":""},"",{"$f":"IF(CT$7=$F269,$H269,\"\")","v":""},"",{"$f":"IF(CV$7=$F269,$H269,\"\")","v":""},"",{"$f":"IF(CX$7=$F269,$H269,\"\")","v":""},"",{"$f":"IF(CZ$7=$F269,$H269,\"\")","v":""},"",{"$f":"IF(DB$7=$F269,$H269,\"\")","v":""},"",{"$f":"IF(DD$7=$F269,$H269,\"\")","v":""},"",{"$f":"IF(DF$7=$F269,$H269,\"\")","v":""},0,{"$f":"IF(DH$7=$F269,$H269,\"\")","v":0},0,{"$f":"IF(DJ$7=$F269,$H269,\"\")","v":0},0,{"$f":"IF(DL$7=$F269,$H269,\"\")","v":0},0,{"$f":"IF(DN$7=$F269,$H269,\"\")","v":0},0,{"$f":"IF(DP$7=$F269,$H269,\"\")","v":0},0,{"$f":"IF(DR$7=$F269,$H269,\"\")","v":0},0,{"$f":"IF(DT$7=$F269,$H269,\"\")","v":0},0,{"$f":"IF(DV$7=$F269,$H269,\"\")","v":0},0,{"$f":"IF(DX$7=$F269,$H269,\"\")","v":0},0,{"$f":"IF(DZ$7=$F269,$H269,\"\")","v":0},0,{"$f":"IF(EB$7=$F269,$H269,\"\")","v":0},0,{"$f":"IF(ED$7=$F269,$H269,\"\")","v":0},0,{"$f":"IF(EF$7=$F269,$H269,\"\")","v":0},0,{"$f":"IF(EH$7=$F269,$H269,\"\")","v":0},0,{"$f":"IF(EJ$7=$F269,$H269,\"\")","v":0},0,{"$f":"IF(EL$7=$F269,$H269,\"\")","v":0},0,{"$f":"IF(EN$7=$F269,$H269,\"\")","v":0},0,{"$f":"IF(EP$7=$F269,$H269,\"\")","v":0},0,{"$f":"IF(ER$7=$F269,$H269,\"\")","v":0},0,{"$f":"IF(ET$7=$F269,$H269,\"\")","v":0},0,{"$f":"IF(EV$7=$F269,$H269,\"\")","v":0},0,{"$f":"IF(EX$7=$F269,$H269,\"\")","v":0},0,{"$f":"IF(EZ$7=$F269,$H269,\"\")","v":0},0,{"$f":"IF(FB$7=$F269,$H269,\"\")","v":0},0,{"$f":"IF(FD$7=$F269,$H269,\"\")","v":0},0,{"$f":"IF(FF$7=$F269,$H269,\"\")","v":0},0,{"$f":"IF(FH$7=$F269,$H269,\"\")","v":0},0,{"$f":"IF(FJ$7=$F269,$H269,\"\")","v":0},0,{"$f":"IF(FL$7=$F269,$H269,\"\")","v":0},0,0]
[262,null,null,null,null,null,null,null,true,0,0,"","","",{"$f":"IF(N$7=$F270,$H270,\"\")","v":""},"",{"$f":"IF(P$7=$F270,$H270,\"\")","v":""},"",{"$f":"IF(R$7=$F270,$H270,\"\")","v":""},"",{"$f":"IF(T$7=$F270,$H270,\"\")","v":""},"",{"$f":"IF(V$7=$F270,$H270,\"\")","v":""},"",{"$f":"IF(X$7=$F270,$H270,\"\")","v":""},"",{"$f":"IF(Z$7=$F270,$H270,\"\")","v":""},"",{"$f":"IF(AB$7=$F270,$H270,\"\")","v":""},"",{"$f":"IF(AD$7=$F270,$H270,\"\")","v":""},"",{"$f":"IF(AF$7=$F270,$H270,\"\")","v":""},"",{"$f":"IF(AH$7=$F270,$H270,\"\")","v":""},"",{"$f":"IF(AJ$7=$F270,$H270,\"\")","v":""},"",{"$f":"IF(AL$7=$F270,$H270,\"\")","v":""},"",{"$f":"IF(AN$7=$F270,$H270,\"\")","v":""},"",{"$f":"IF(AP$7=$F270,$H270,\"\")","v":""},"",{"$f":"IF(AR$7=$F270,$H270,\"\")","v":""},"",{"$f":"IF(AT$7=$F270,$H270,\"\")","v":""},"",{"$f":"IF(AV$7=$F270,$H270,\"\")","v":""},"",{"$f":"IF(AX$7=$F270,$H270,\"\")","v":""},"",{"$f":"IF(AZ$7=$F270,$H270,\"\")","v":""},"",{"$f":"IF(BB$7=$F270,$H270,\"\")","v":""},"",{"$f":"IF(BD$7=$F270,$H270,\"\")","v":""},"",{"$f":"IF(BF$7=$F270,$H270,\"\")","v":""},"",{"$f":"IF(BH$7=$F270,$H270,\"\")","v":""},"",{"$f":"IF(BJ$7=$F270,$H270,\"\")","v":""},"",{"$f":"IF(BL$7=$F270,$H270,\"\")","v":""},"",{"$f":"IF(BN$7=$F270,$H270,\"\")","v":""},"",{"$f":"IF(BP$7=$F270,$H270,\"\")","v":""},"",{"$f":"IF(BR$7=$F270,$H270,\"\")","v":""},"",{"$f":"IF(BT$7=$F270,$H270,\"\")","v":""},"",{"$f":"IF(BV$7=$F270,$H270,\"\")","v":""},"",{"$f":"IF(BX$7=$F270,$H270,\"\")","v":""},"",{"$f":"IF(BZ$7=$F270,$H270,\"\")","v":""},"",{"$f":"IF(CB$7=$F270,$H270,\"\")","v":""},"",{"$f":"IF(CD$7=$F270,$H270,\"\")","v":""},"",{"$f":"IF(CF$7=$F270,$H270,\"\")","v":""},"",{"$f":"IF(CH$7=$F270,$H270,\"\")","v":""},"",{"$f":"IF(CJ$7=$F270,$H270,\"\")","v":""},"",{"$f":"IF(CL$7=$F270,$H270,\"\")","v":""},"",{"$f":"IF(CN$7=$F270,$H270,\"\")","v":""},"",{"$f":"IF(CP$7=$F270,$H270,\"\")","v":""},"",{"$f":"IF(CR$7=$F270,$H270,\"\")","v":""},"",{"$f":"IF(CT$7=$F270,$H270,\"\")","v":""},"",{"$f":"IF(CV$7=$F270,$H270,\"\")","v":""},"",{"$f":"IF(CX$7=$F270,$H270,\"\")","v":""},"",{"$f":"IF(CZ$7=$F270,$H270,\"\")","v":""},"",{"$f":"IF(DB$7=$F270,$H270,\"\")","v":""},"",{"$f":"IF(DD$7=$F270,$H270,\"\")","v":""},"",{"$f":"IF(DF$7=$F270,$H270,\"\")","v":""},0,{"$f":"IF(DH$7=$F270,$H270,\"\")","v":0},0,{"$f":"IF(DJ$7=$F270,$H270,\"\")","v":0},0,{"$f":"IF(DL$7=$F270,$H270,\"\")","v":0},0,{"$f":"IF(DN$7=$F270,$H270,\"\")","v":0},0,{"$f":"IF(DP$7=$F270,$H270,\"\")","v":0},0,{"$f":"IF(DR$7=$F270,$H270,\"\")","v":0},0,{"$f":"IF(DT$7=$F270,$H270,\"\")","v":0},0,{"$f":"IF(DV$7=$F270,$H270,\"\")","v":0},0,{"$f":"IF(DX$7=$F270,$H270,\"\")","v":0},0,{"$f":"IF(DZ$7=$F270,$H270,\"\")","v":0},0,{"$f":"IF(EB$7=$F270,$H270,\"\")","v":0},0,{"$f":"IF(ED$7=$F270,$H270,\"\")","v":0},0,{"$f":"IF(EF$7=$F270,$H270,\"\")","v":0},0,{"$f":"IF(EH$7=$F270,$H270,\"\")","v":0},0,{"$f":"IF(EJ$7=$F270,$H270,\"\")","v":0},0,{"$f":"IF(EL$7=$F270,$H270,\"\")","v":0},0,{"$f":"IF(EN$7=$F270,$H270,\"\")","v":0},0,{"$f":"IF(EP$7=$F270,$H270,\"\")","v":0},0,{"$f":"IF(ER$7=$F270,$H270,\"\")","v":0},0,{"$f":"IF(ET$7=$F270,$H270,\"\")","v":0},0,{"$f":"IF(EV$7=$F270,$H270,\"\")","v":0},0,{"$f":"IF(EX$7=$F270,$H270,\"\")","v":0},0,{"$f":"IF(EZ$7=$F270,$H270,\"\")","v":0},0,{"$f":"IF(FB$7=$F270,$H270,\"\")","v":0},0,{"$f":"IF(FD$7=$F270,$H270,\"\")","v":0},0,{"$f":"IF(FF$7=$F270,$H270,\"\")","v":0},0,{"$f":"IF(FH$7=$F270,$H270,\"\")","v":0},0,{"$f":"IF(FJ$7=$F270,$H270,\"\")","v":0},0,{"$f":"IF(FL$7=$F270,$H270,\"\")","v":0},0,0]
[263,null,null,null,null,null,null,null,true,0,0,"","","",{"$f":"IF(N$7=$F271,$H271,\"\")","v":""},"",{"$f":"IF(P$7=$F271,$H271,\"\")","v":""},"",{"$f":"IF(R$7=$F271,$H271,\"\")","v":""},"",{"$f":"IF(T$7=$F271,$H271,\"\")","v":""},"",{"$f":"IF(V$7=$F271,$H271,\"\")","v":""},"",{"$f":"IF(X$7=$F271,$H271,\"\")","v":""},"",{"$f":"IF(Z$7=$F271,$H271,\"\")","v":""},"",{"$f":"IF(AB$7=$F271,$H271,\"\")","v":""},"",{"$f":"IF(AD$7=$F271,$H271,\"\")","v":""},"",{"$f":"IF(AF$7=$F271,$H271,\"\")","v":""},"",{"$f":"IF(AH$7=$F271,$H271,\"\")","v":""},"",{"$f":"IF(AJ$7=$F271,$H271,\"\")","v":""},"",{"$f":"IF(AL$7=$F271,$H271,\"\")","v":""},"",{"$f":"IF(AN$7=$F271,$H271,\"\")","v":""},"",{"$f":"IF(AP$7=$F271,$H271,\"\")","v":""},"",{"$f":"IF(AR$7=$F271,$H271,\"\")","v":""},"",{"$f":"IF(AT$7=$F271,$H271,\"\")","v":""},"",{"$f":"IF(AV$7=$F271,$H271,\"\")","v":""},"",{"$f":"IF(AX$7=$F271,$H271,\"\")","v":""},"",{"$f":"IF(AZ$7=$F271,$H271,\"\")","v":""},"",{"$f":"IF(BB$7=$F271,$H271,\"\")","v":""},"",{"$f":"IF(BD$7=$F271,$H271,\"\")","v":""},"",{"$f":"IF(BF$7=$F271,$H271,\"\")","v":""},"",{"$f":"IF(BH$7=$F271,$H271,\"\")","v":""},"",{"$f":"IF(BJ$7=$F271,$H271,\"\")","v":""},"",{"$f":"IF(BL$7=$F271,$H271,\"\")","v":""},"",{"$f":"IF(BN$7=$F271,$H271,\"\")","v":""},"",{"$f":"IF(BP$7=$F271,$H271,\"\")","v":""},"",{"$f":"IF(BR$7=$F271,$H271,\"\")","v":""},"",{"$f":"IF(BT$7=$F271,$H271,\"\")","v":""},"",{"$f":"IF(BV$7=$F271,$H271,\"\")","v":""},"",{"$f":"IF(BX$7=$F271,$H271,\"\")","v":""},"",{"$f":"IF(BZ$7=$F271,$H271,\"\")","v":""},"",{"$f":"IF(CB$7=$F271,$H271,\"\")","v":""},"",{"$f":"IF(CD$7=$F271,$H271,\"\")","v":""},"",{"$f":"IF(CF$7=$F271,$H271,\"\")","v":""},"",{"$f":"IF(CH$7=$F271,$H271,\"\")","v":""},"",{"$f":"IF(CJ$7=$F271,$H271,\"\")","v":""},"",{"$f":"IF(CL$7=$F271,$H271,\"\")","v":""},"",{"$f":"IF(CN$7=$F271,$H271,\"\")","v":""},"",{"$f":"IF(CP$7=$F271,$H271,\"\")","v":""},"",{"$f":"IF(CR$7=$F271,$H271,\"\")","v":""},"",{"$f":"IF(CT$7=$F271,$H271,\"\")","v":""},"",{"$f":"IF(CV$7=$F271,$H271,\"\")","v":""},"",{"$f":"IF(CX$7=$F271,$H271,\"\")","v":""},"",{"$f":"IF(CZ$7=$F271,$H271,\"\")","v":""},"",{"$f":"IF(DB$7=$F271,$H271,\"\")","v":""},"",{"$f":"IF(DD$7=$F271,$H271,\"\")","v":""},"",{"$f":"IF(DF$7=$F271,$H271,\"\")","v":""},0,{"$f":"IF(DH$7=$F271,$H271,\"\")","v":0},0,{"$f":"IF(DJ$7=$F271,$H271,\"\")","v":0},0,{"$f":"IF(DL$7=$F271,$H271,\"\")","v":0},0,{"$f":"IF(DN$7=$F271,$H271,\"\")","v":0},0,{"$f":"IF(DP$7=$F271,$H271,\"\")","v":0},0,{"$f":"IF(DR$7=$F271,$H271,\"\")","v":0},0,{"$f":"IF(DT$7=$F271,$H271,\"\")","v":0},0,{"$f":"IF(DV$7=$F271,$H271,\"\")","v":0},0,{"$f":"IF(DX$7=$F271,$H271,\"\")","v":0},0,{"$f":"IF(DZ$7=$F271,$H271,\"\")","v":0},0,{"$f":"IF(EB$7=$F271,$H271,\"\")","v":0},0,{"$f":"IF(ED$7=$F271,$H271,\"\")","v":0},0,{"$f":"IF(EF$7=$F271,$H271,\"\")","v":0},0,{"$f":"IF(EH$7=$F271,$H271,\"\")","v":0},0,{"$f":"IF(EJ$7=$F271,$H271,\"\")","v":0},0,{"$f":"IF(EL$7=$F271,$H271,\"\")","v":0},0,{"$f":"IF(EN$7=$F271,$H271,\"\")","v":0},0,{"$f":"IF(EP$7=$F271,$H271,\"\")","v":0},0,{"$f":"IF(ER$7=$F271,$H271,\"\")","v":0},0,{"$f":"IF(ET$7=$F271,$H271,\"\")","v":0},0,{"$f":"IF(EV$7=$F271,$H271,\"\")","v":0},0,{"$f":"IF(EX$7=$F271,$H271,\"\")","v":0},0,{"$f":"IF(EZ$7=$F271,$H271,\"\")","v":0},0,{"$f":"IF(FB$7=$F271,$H271,\"\")","v":0},0,{"$f":"IF(FD$7=$F271,$H271,\"\")","v":0},0,{"$f":"IF(FF$7=$F271,$H271,\"\")","v":0},0,{"$f":"IF(FH$7=$F271,$H271,\"\")","v":0},0,{"$f":"IF(FJ$7=$F271,$H271,\"\")","v":0},0,{"$f":"IF(FL$7=$F271,$H271,\"\")","v":0},0,0]
[264,null,null,null,null,null,null,null,true,0,0,"","","",{"$f":"IF(N$7=$F272,$H272,\"\")","v":""},"",{"$f":"IF(P$7=$F272,$H272,\"\")","v":""},"",{"$f":"IF(R$7=$F272,$H272,\"\")","v":""},"",{"$f":"IF(T$7=$F272,$H272,\"\")","v":""},"",{"$f":"IF(V$7=$F272,$H272,\"\")","v":""},"",{"$f":"IF(X$7=$F272,$H272,\"\")","v":""},"",{"$f":"IF(Z$7=$F272,$H272,\"\")","v":""},"",{"$f":"IF(AB$7=$F272,$H272,\"\")","v":""},"",{"$f":"IF(AD$7=$F272,$H272,\"\")","v":""},"",{"$f":"IF(AF$7=$F272,$H272,\"\")","v":""},"",{"$f":"IF(AH$7=$F272,$H272,\"\")","v":""},"",{"$f":"IF(AJ$7=$F272,$H272,\"\")","v":""},"",{"$f":"IF(AL$7=$F272,$H272,\"\")","v":""},"",{"$f":"IF(AN$7=$F272,$H272,\"\")","v":""},"",{"$f":"IF(AP$7=$F272,$H272,\"\")","v":""},"",{"$f":"IF(AR$7=$F272,$H272,\"\")","v":""},"",{"$f":"IF(AT$7=$F272,$H272,\"\")","v":""},"",{"$f":"IF(AV$7=$F272,$H272,\"\")","v":""},"",{"$f":"IF(AX$7=$F272,$H272,\"\")","v":""},"",{"$f":"IF(AZ$7=$F272,$H272,\"\")","v":""},"",{"$f":"IF(BB$7=$F272,$H272,\"\")","v":""},"",{"$f":"IF(BD$7=$F272,$H272,\"\")","v":""},"",{"$f":"IF(BF$7=$F272,$H272,\"\")","v":""},"",{"$f":"IF(BH$7=$F272,$H272,\"\")","v":""},"",{"$f":"IF(BJ$7=$F272,$H272,\"\")","v":""},"",{"$f":"IF(BL$7=$F272,$H272,\"\")","v":""},"",{"$f":"IF(BN$7=$F272,$H272,\"\")","v":""},"",{"$f":"IF(BP$7=$F272,$H272,\"\")","v":""},"",{"$f":"IF(BR$7=$F272,$H272,\"\")","v":""},"",{"$f":"IF(BT$7=$F272,$H272,\"\")","v":""},"",{"$f":"IF(BV$7=$F272,$H272,\"\")","v":""},"",{"$f":"IF(BX$7=$F272,$H272,\"\")","v":""},"",{"$f":"IF(BZ$7=$F272,$H272,\"\")","v":""},"",{"$f":"IF(CB$7=$F272,$H272,\"\")","v":""},"",{"$f":"IF(CD$7=$F272,$H272,\"\")","v":""},"",{"$f":"IF(CF$7=$F272,$H272,\"\")","v":""},"",{"$f":"IF(CH$7=$F272,$H272,\"\")","v":""},"",{"$f":"IF(CJ$7=$F272,$H272,\"\")","v":""},"",{"$f":"IF(CL$7=$F272,$H272,\"\")","v":""},"",{"$f":"IF(CN$7=$F272,$H272,\"\")","v":""},"",{"$f":"IF(CP$7=$F272,$H272,\"\")","v":""},"",{"$f":"IF(CR$7=$F272,$H272,\"\")","v":""},"",{"$f":"IF(CT$7=$F272,$H272,\"\")","v":""},"",{"$f":"IF(CV$7=$F272,$H272,\"\")","v":""},"",{"$f":"IF(CX$7=$F272,$H272,\"\")","v":""},"",{"$f":"IF(CZ$7=$F272,$H272,\"\")","v":""},"",{"$f":"IF(DB$7=$F272,$H272,\"\")","v":""},"",{"$f":"IF(DD$7=$F272,$H272,\"\")","v":""},"",{"$f":"IF(DF$7=$F272,$H272,\"\")","v":""},0,{"$f":"IF(DH$7=$F272,$H272,\"\")","v":0},0,{"$f":"IF(DJ$7=$F272,$H272,\"\")","v":0},0,{"$f":"IF(DL$7=$F272,$H272,\"\")","v":0},0,{"$f":"IF(DN$7=$F272,$H272,\"\")","v":0},0,{"$f":"IF(DP$7=$F272,$H272,\"\")","v":0},0,{"$f":"IF(DR$7=$F272,$H272,\"\")","v":0},0,{"$f":"IF(DT$7=$F272,$H272,\"\")","v":0},0,{"$f":"IF(DV$7=$F272,$H272,\"\")","v":0},0,{"$f":"IF(DX$7=$F272,$H272,\"\")","v":0},0,{"$f":"IF(DZ$7=$F272,$H272,\"\")","v":0},0,{"$f":"IF(EB$7=$F272,$H272,\"\")","v":0},0,{"$f":"IF(ED$7=$F272,$H272,\"\")","v":0},0,{"$f":"IF(EF$7=$F272,$H272,\"\")","v":0},0,{"$f":"IF(EH$7=$F272,$H272,\"\")","v":0},0,{"$f":"IF(EJ$7=$F272,$H272,\"\")","v":0},0,{"$f":"IF(EL$7=$F272,$H272,\"\")","v":0},0,{"$f":"IF(EN$7=$F272,$H272,\"\")","v":0},0,{"$f":"IF(EP$7=$F272,$H272,\"\")","v":0},0,{"$f":"IF(ER$7=$F272,$H272,\"\")","v":0},0,{"$f":"IF(ET$7=$F272,$H272,\"\")","v":0},0,{"$f":"IF(EV$7=$F272,$H272,\"\")","v":0},0,{"$f":"IF(EX$7=$F272,$H272,\"\")","v":0},0,{"$f":"IF(EZ$7=$F272,$H272,\"\")","v":0},0,{"$f":"IF(FB$7=$F272,$H272,\"\")","v":0},0,{"$f":"IF(FD$7=$F272,$H272,\"\")","v":0},0,{"$f":"IF(FF$7=$F272,$H272,\"\")","v":0},0,{"$f":"IF(FH$7=$F272,$H272,\"\")","v":0},0,{"$f":"IF(FJ$7=$F272,$H272,\"\")","v":0},0,{"$f":"IF(FL$7=$F272,$H272,\"\")","v":0},0,0]
[265,null,null,null,null,null,null,null,true,0,0,"","","",{"$f":"IF(N$7=$F273,$H273,\"\")","v":""},"",{"$f":"IF(P$7=$F273,$H273,\"\")","v":""},"",{"$f":"IF(R$7=$F273,$H273,\"\")","v":""},"",{"$f":"IF(T$7=$F273,$H273,\"\")","v":""},"",{"$f":"IF(V$7=$F273,$H273,\"\")","v":""},"",{"$f":"IF(X$7=$F273,$H273,\"\")","v":""},"",{"$f":"IF(Z$7=$F273,$H273,\"\")","v":""},"",{"$f":"IF(AB$7=$F273,$H273,\"\")","v":""},"",{"$f":"IF(AD$7=$F273,$H273,\"\")","v":""},"",{"$f":"IF(AF$7=$F273,$H273,\"\")","v":""},"",{"$f":"IF(AH$7=$F273,$H273,\"\")","v":""},"",{"$f":"IF(AJ$7=$F273,$H273,\"\")","v":""},"",{"$f":"IF(AL$7=$F273,$H273,\"\")","v":""},"",{"$f":"IF(AN$7=$F273,$H273,\"\")","v":""},"",{"$f":"IF(AP$7=$F273,$H273,\"\")","v":""},"",{"$f":"IF(AR$7=$F273,$H273,\"\")","v":""},"",{"$f":"IF(AT$7=$F273,$H273,\"\")","v":""},"",{"$f":"IF(AV$7=$F273,$H273,\"\")","v":""},"",{"$f":"IF(AX$7=$F273,$H273,\"\")","v":""},"",{"$f":"IF(AZ$7=$F273,$H273,\"\")","v":""},"",{"$f":"IF(BB$7=$F273,$H273,\"\")","v":""},"",{"$f":"IF(BD$7=$F273,$H273,\"\")","v":""},"",{"$f":"IF(BF$7=$F273,$H273,\"\")","v":""},"",{"$f":"IF(BH$7=$F273,$H273,\"\")","v":""},"",{"$f":"IF(BJ$7=$F273,$H273,\"\")","v":""},"",{"$f":"IF(BL$7=$F273,$H273,\"\")","v":""},"",{"$f":"IF(BN$7=$F273,$H273,\"\")","v":""},"",{"$f":"IF(BP$7=$F273,$H273,\"\")","v":""},"",{"$f":"IF(BR$7=$F273,$H273,\"\")","v":""},"",{"$f":"IF(BT$7=$F273,$H273,\"\")","v":""},"",{"$f":"IF(BV$7=$F273,$H273,\"\")","v":""},"",{"$f":"IF(BX$7=$F273,$H273,\"\")","v":""},"",{"$f":"IF(BZ$7=$F273,$H273,\"\")","v":""},"",{"$f":"IF(CB$7=$F273,$H273,\"\")","v":""},"",{"$f":"IF(CD$7=$F273,$H273,\"\")","v":""},"",{"$f":"IF(CF$7=$F273,$H273,\"\")","v":""},"",{"$f":"IF(CH$7=$F273,$H273,\"\")","v":""},"",{"$f":"IF(CJ$7=$F273,$H273,\"\")","v":""},"",{"$f":"IF(CL$7=$F273,$H273,\"\")","v":""},"",{"$f":"IF(CN$7=$F273,$H273,\"\")","v":""},"",{"$f":"IF(CP$7=$F273,$H273,\"\")","v":""},"",{"$f":"IF(CR$7=$F273,$H273,\"\")","v":""},"",{"$f":"IF(CT$7=$F273,$H273,\"\")","v":""},"",{"$f":"IF(CV$7=$F273,$H273,\"\")","v":""},"",{"$f":"IF(CX$7=$F273,$H273,\"\")","v":""},"",{"$f":"IF(CZ$7=$F273,$H273,\"\")","v":""},"",{"$f":"IF(DB$7=$F273,$H273,\"\")","v":""},"",{"$f":"IF(DD$7=$F273,$H273,\"\")","v":""},"",{"$f":"IF(DF$7=$F273,$H273,\"\")","v":""},0,{"$f":"IF(DH$7=$F273,$H273,\"\")","v":0},0,{"$f":"IF(DJ$7=$F273,$H273,\"\")","v":0},0,{"$f":"IF(DL$7=$F273,$H273,\"\")","v":0},0,{"$f":"IF(DN$7=$F273,$H273,\"\")","v":0},0,{"$f":"IF(DP$7=$F273,$H273,\"\")","v":0},0,{"$f":"IF(DR$7=$F273,$H273,\"\")","v":0},0,{"$f":"IF(DT$7=$F273,$H273,\"\")","v":0},0,{"$f":"IF(DV$7=$F273,$H273,\"\")","v":0},0,{"$f":"IF(DX$7=$F273,$H273,\"\")","v":0},0,{"$f":"IF(DZ$7=$F273,$H273,\"\")","v":0},0,{"$f":"IF(EB$7=$F273,$H273,\"\")","v":0},0,{"$f":"IF(ED$7=$F273,$H273,\"\")","v":0},0,{"$f":"IF(EF$7=$F273,$H273,\"\")","v":0},0,{"$f":"IF(EH$7=$F273,$H273,\"\")","v":0},0,{"$f":"IF(EJ$7=$F273,$H273,\"\")","v":0},0,{"$f":"IF(EL$7=$F273,$H273,\"\")","v":0},0,{"$f":"IF(EN$7=$F273,$H273,\"\")","v":0},0,{"$f":"IF(EP$7=$F273,$H273,\"\")","v":0},0,{"$f":"IF(ER$7=$F273,$H273,\"\")","v":0},0,{"$f":"IF(ET$7=$F273,$H273,\"\")","v":0},0,{"$f":"IF(EV$7=$F273,$H273,\"\")","v":0},0,{"$f":"IF(EX$7=$F273,$H273,\"\")","v":0},0,{"$f":"IF(EZ$7=$F273,$H273,\"\")","v":0},0,{"$f":"IF(FB$7=$F273,$H273,\"\")","v":0},0,{"$f":"IF(FD$7=$F273,$H273,\"\")","v":0},0,{"$f":"IF(FF$7=$F273,$H273,\"\")","v":0},0,{"$f":"IF(FH$7=$F273,$H273,\"\")","v":0},0,{"$f":"IF(FJ$7=$F273,$H273,\"\")","v":0},0,{"$f":"IF(FL$7=$F273,$H273,\"\")","v":0},0,0]
[266,null,null,null,null,null,null,null,true,0,0,"","","",{"$f":"IF(N$7=$F274,$H274,\"\")","v":""},"",{"$f":"IF(P$7=$F274,$H274,\"\")","v":""},"",{"$f":"IF(R$7=$F274,$H274,\"\")","v":""},"",{"$f":"IF(T$7=$F274,$H274,\"\")","v":""},"",{"$f":"IF(V$7=$F274,$H274,\"\")","v":""},"",{"$f":"IF(X$7=$F274,$H274,\"\")","v":""},"",{"$f":"IF(Z$7=$F274,$H274,\"\")","v":""},"",{"$f":"IF(AB$7=$F274,$H274,\"\")","v":""},"",{"$f":"IF(AD$7=$F274,$H274,\"\")","v":""},"",{"$f":"IF(AF$7=$F274,$H274,\"\")","v":""},"",{"$f":"IF(AH$7=$F274,$H274,\"\")","v":""},"",{"$f":"IF(AJ$7=$F274,$H274,\"\")","v":""},"",{"$f":"IF(AL$7=$F274,$H274,\"\")","v":""},"",{"$f":"IF(AN$7=$F274,$H274,\"\")","v":""},"",{"$f":"IF(AP$7=$F274,$H274,\"\")","v":""},"",{"$f":"IF(AR$7=$F274,$H274,\"\")","v":""},"",{"$f":"IF(AT$7=$F274,$H274,\"\")","v":""},"",{"$f":"IF(AV$7=$F274,$H274,\"\")","v":""},"",{"$f":"IF(AX$7=$F274,$H274,\"\")","v":""},"",{"$f":"IF(AZ$7=$F274,$H274,\"\")","v":""},"",{"$f":"IF(BB$7=$F274,$H274,\"\")","v":""},"",{"$f":"IF(BD$7=$F274,$H274,\"\")","v":""},"",{"$f":"IF(BF$7=$F274,$H274,\"\")","v":""},"",{"$f":"IF(BH$7=$F274,$H274,\"\")","v":""},"",{"$f":"IF(BJ$7=$F274,$H274,\"\")","v":""},"",{"$f":"IF(BL$7=$F274,$H274,\"\")","v":""},"",{"$f":"IF(BN$7=$F274,$H274,\"\")","v":""},"",{"$f":"IF(BP$7=$F274,$H274,\"\")","v":""},"",{"$f":"IF(BR$7=$F274,$H274,\"\")","v":""},"",{"$f":"IF(BT$7=$F274,$H274,\"\")","v":""},"",{"$f":"IF(BV$7=$F274,$H274,\"\")","v":""},"",{"$f":"IF(BX$7=$F274,$H274,\"\")","v":""},"",{"$f":"IF(BZ$7=$F274,$H274,\"\")","v":""},"",{"$f":"IF(CB$7=$F274,$H274,\"\")","v":""},"",{"$f":"IF(CD$7=$F274,$H274,\"\")","v":""},"",{"$f":"IF(CF$7=$F274,$H274,\"\")","v":""},"",{"$f":"IF(CH$7=$F274,$H274,\"\")","v":""},"",{"$f":"IF(CJ$7=$F274,$H274,\"\")","v":""},"",{"$f":"IF(CL$7=$F274,$H274,\"\")","v":""},"",{"$f":"IF(CN$7=$F274,$H274,\"\")","v":""},"",{"$f":"IF(CP$7=$F274,$H274,\"\")","v":""},"",{"$f":"IF(CR$7=$F274,$H274,\"\")","v":""},"",{"$f":"IF(CT$7=$F274,$H274,\"\")","v":""},"",{"$f":"IF(CV$7=$F274,$H274,\"\")","v":""},"",{"$f":"IF(CX$7=$F274,$H274,\"\")","v":""},"",{"$f":"IF(CZ$7=$F274,$H274,\"\")","v":""},"",{"$f":"IF(DB$7=$F274,$H274,\"\")","v":""},"",{"$f":"IF(DD$7=$F274,$H274,\"\")","v":""},"",{"$f":"IF(DF$7=$F274,$H274,\"\")","v":""},0,{"$f":"IF(DH$7=$F274,$H274,\"\")","v":0},0,{"$f":"IF(DJ$7=$F274,$H274,\"\")","v":0},0,{"$f":"IF(DL$7=$F274,$H274,\"\")","v":0},0,{"$f":"IF(DN$7=$F274,$H274,\"\")","v":0},0,{"$f":"IF(DP$7=$F274,$H274,\"\")","v":0},0,{"$f":"IF(DR$7=$F274,$H274,\"\")","v":0},0,{"$f":"IF(DT$7=$F274,$H274,\"\")","v":0},0,{"$f":"IF(DV$7=$F274,$H274,\"\")","v":0},0,{"$f":"IF(DX$7=$F274,$H274,\"\")","v":0},0,{"$f":"IF(DZ$7=$F274,$H274,\"\")","v":0},0,{"$f":"IF(EB$7=$F274,$H274,\"\")","v":0},0,{"$f":"IF(ED$7=$F274,$H274,\"\")","v":0},0,{"$f":"IF(EF$7=$F274,$H274,\"\")","v":0},0,{"$f":"IF(EH$7=$F274,$H274,\"\")","v":0},0,{"$f":"IF(EJ$7=$F274,$H274,\"\")","v":0},0,{"$f":"IF(EL$7=$F274,$H274,\"\")","v":0},0,{"$f":"IF(EN$7=$F274,$H274,\"\")","v":0},0,{"$f":"IF(EP$7=$F274,$H274,\"\")","v":0},0,{"$f":"IF(ER$7=$F274,$H274,\"\")","v":0},0,{"$f":"IF(ET$7=$F274,$H274,\"\")","v":0},0,{"$f":"IF(EV$7=$F274,$H274,\"\")","v":0},0,{"$f":"IF(EX$7=$F274,$H274,\"\")","v":0},0,{"$f":"IF(EZ$7=$F274,$H274,\"\")","v":0},0,{"$f":"IF(FB$7=$F274,$H274,\"\")","v":0},0,{"$f":"IF(FD$7=$F274,$H274,\"\")","v":0},0,{"$f":"IF(FF$7=$F274,$H274,\"\")","v":0},0,{"$f":"IF(FH$7=$F274,$H274,\"\")","v":0},0,{"$f":"IF(FJ$7=$F274,$H274,\"\")","v":0},0,{"$f":"IF(FL$7=$F274,$H274,\"\")","v":0},0,0]
[267,null,null,null,null,null,null,null,true,0,0,"","","",{"$f":"IF(N$7=$F275,$H275,\"\")","v":""},"",{"$f":"IF(P$7=$F275,$H275,\"\")","v":""},"",{"$f":"IF(R$7=$F275,$H275,\"\")","v":""},"",{"$f":"IF(T$7=$F275,$H275,\"\")","v":""},"",{"$f":"IF(V$7=$F275,$H275,\"\")","v":""},"",{"$f":"IF(X$7=$F275,$H275,\"\")","v":""},"",{"$f":"IF(Z$7=$F275,$H275,\"\")","v":""},"",{"$f":"IF(AB$7=$F275,$H275,\"\")","v":""},"",{"$f":"IF(AD$7=$F275,$H275,\"\")","v":""},"",{"$f":"IF(AF$7=$F275,$H275,\"\")","v":""},"",{"$f":"IF(AH$7=$F275,$H275,\"\")","v":""},"",{"$f":"IF(AJ$7=$F275,$H275,\"\")","v":""},"",{"$f":"IF(AL$7=$F275,$H275,\"\")","v":""},"",{"$f":"IF(AN$7=$F275,$H275,\"\")","v":""},"",{"$f":"IF(AP$7=$F275,$H275,\"\")","v":""},"",{"$f":"IF(AR$7=$F275,$H275,\"\")","v":""},"",{"$f":"IF(AT$7=$F275,$H275,\"\")","v":""},"",{"$f":"IF(AV$7=$F275,$H275,\"\")","v":""},"",{"$f":"IF(AX$7=$F275,$H275,\"\")","v":""},"",{"$f":"IF(AZ$7=$F275,$H275,\"\")","v":""},"",{"$f":"IF(BB$7=$F275,$H275,\"\")","v":""},"",{"$f":"IF(BD$7=$F275,$H275,\"\")","v":""},"",{"$f":"IF(BF$7=$F275,$H275,\"\")","v":""},"",{"$f":"IF(BH$7=$F275,$H275,\"\")","v":""},"",{"$f":"IF(BJ$7=$F275,$H275,\"\")","v":""},"",{"$f":"IF(BL$7=$F275,$H275,\"\")","v":""},"",{"$f":"IF(BN$7=$F275,$H275,\"\")","v":""},"",{"$f":"IF(BP$7=$F275,$H275,\"\")","v":""},"",{"$f":"IF(BR$7=$F275,$H275,\"\")","v":""},"",{"$f":"IF(BT$7=$F275,$H275,\"\")","v":""},"",{"$f":"IF(BV$7=$F275,$H275,\"\")","v":""},"",{"$f":"IF(BX$7=$F275,$H275,\"\")","v":""},"",{"$f":"IF(BZ$7=$F275,$H275,\"\")","v":""},"",{"$f":"IF(CB$7=$F275,$H275,\"\")","v":""},"",{"$f":"IF(CD$7=$F275,$H275,\"\")","v":""},"",{"$f":"IF(CF$7=$F275,$H275,\"\")","v":""},"",{"$f":"IF(CH$7=$F275,$H275,\"\")","v":""},"",{"$f":"IF(CJ$7=$F275,$H275,\"\")","v":""},"",{"$f":"IF(CL$7=$F275,$H275,\"\")","v":""},"",{"$f":"IF(CN$7=$F275,$H275,\"\")","v":""},"",{"$f":"IF(CP$7=$F275,$H275,\"\")","v":""},"",{"$f":"IF(CR$7=$F275,$H275,\"\")","v":""},"",{"$f":"IF(CT$7=$F275,$H275,\"\")","v":""},"",{"$f":"IF(CV$7=$F275,$H275,\"\")","v":""},"",{"$f":"IF(CX$7=$F275,$H275,\"\")","v":""},"",{"$f":"IF(CZ$7=$F275,$H275,\"\")","v":""},"",{"$f":"IF(DB$7=$F275,$H275,\"\")","v":""},"",{"$f":"IF(DD$7=$F275,$H275,\"\")","v":""},"",{"$f":"IF(DF$7=$F275,$H275,\"\")","v":""},0,{"$f":"IF(DH$7=$F275,$H275,\"\")","v":0},0,{"$f":"IF(DJ$7=$F275,$H275,\"\")","v":0},0,{"$f":"IF(DL$7=$F275,$H275,\"\")","v":0},0,{"$f":"IF(DN$7=$F275,$H275,\"\")","v":0},0,{"$f":"IF(DP$7=$F275,$H275,\"\")","v":0},0,{"$f":"IF(DR$7=$F275,$H275,\"\")","v":0},0,{"$f":"IF(DT$7=$F275,$H275,\"\")","v":0},0,{"$f":"IF(DV$7=$F275,$H275,\"\")","v":0},0,{"$f":"IF(DX$7=$F275,$H275,\"\")","v":0},0,{"$f":"IF(DZ$7=$F275,$H275,\"\")","v":0},0,{"$f":"IF(EB$7=$F275,$H275,\"\")","v":0},0,{"$f":"IF(ED$7=$F275,$H275,\"\")","v":0},0,{"$f":"IF(EF$7=$F275,$H275,\"\")","v":0},0,{"$f":"IF(EH$7=$F275,$H275,\"\")","v":0},0,{"$f":"IF(EJ$7=$F275,$H275,\"\")","v":0},0,{"$f":"IF(EL$7=$F275,$H275,\"\")","v":0},0,{"$f":"IF(EN$7=$F275,$H275,\"\")","v":0},0,{"$f":"IF(EP$7=$F275,$H275,\"\")","v":0},0,{"$f":"IF(ER$7=$F275,$H275,\"\")","v":0},0,{"$f":"IF(ET$7=$F275,$H275,\"\")","v":0},0,{"$f":"IF(EV$7=$F275,$H275,\"\")","v":0},0,{"$f":"IF(EX$7=$F275,$H275,\"\")","v":0},0,{"$f":"IF(EZ$7=$F275,$H275,\"\")","v":0},0,{"$f":"IF(FB$7=$F275,$H275,\"\")","v":0},0,{"$f":"IF(FD$7=$F275,$H275,\"\")","v":0},0,{"$f":"IF(FF$7=$F275,$H275,\"\")","v":0},0,{"$f":"IF(FH$7=$F275,$H275,\"\")","v":0},0,{"$f":"IF(FJ$7=$F275,$H275,\"\")","v":0},0,{"$f":"IF(FL$7=$F275,$H275,\"\")","v":0},0,0]
[268,null,null,null,null,null,null,null,true,0,0,"","","",{"$f":"IF(N$7=$F276,$H276,\"\")","v":""},"",{"$f":"IF(P$7=$F276,$H276,\"\")","v":""},"",{"$f":"IF(R$7=$F276,$H276,\"\")","v":""},"",{"$f":"IF(T$7=$F276,$H276,\"\")","v":""},"",{"$f":"IF(V$7=$F276,$H276,\"\")","v":""},"",{"$f":"IF(X$7=$F276,$H276,\"\")","v":""},"",{"$f":"IF(Z$7=$F276,$H276,\"\")","v":""},"",{"$f":"IF(AB$7=$F276,$H276,\"\")","v":""},"",{"$f":"IF(AD$7=$F276,$H276,\"\")","v":""},"",{"$f":"IF(AF$7=$F276,$H276,\"\")","v":""},"",{"$f":"IF(AH$7=$F276,$H276,\"\")","v":""},"",{"$f":"IF(AJ$7=$F276,$H276,\"\")","v":""},"",{"$f":"IF(AL$7=$F276,$H276,\"\")","v":""},"",{"$f":"IF(AN$7=$F276,$H276,\"\")","v":""},"",{"$f":"IF(AP$7=$F276,$H276,\"\")","v":""},"",{"$f":"IF(AR$7=$F276,$H276,\"\")","v":""},"",{"$f":"IF(AT$7=$F276,$H276,\"\")","v":""},"",{"$f":"IF(AV$7=$F276,$H276,\"\")","v":""},"",{"$f":"IF(AX$7=$F276,$H276,\"\")","v":""},"",{"$f":"IF(AZ$7=$F276,$H276,\"\")","v":""},"",{"$f":"IF(BB$7=$F276,$H276,\"\")","v":""},"",{"$f":"IF(BD$7=$F276,$H276,\"\")","v":""},"",{"$f":"IF(BF$7=$F276,$H276,\"\")","v":""},"",{"$f":"IF(BH$7=$F276,$H276,\"\")","v":""},"",{"$f":"IF(BJ$7=$F276,$H276,\"\")","v":""},"",{"$f":"IF(BL$7=$F276,$H276,\"\")","v":""},"",{"$f":"IF(BN$7=$F276,$H276,\"\")","v":""},"",{"$f":"IF(BP$7=$F276,$H276,\"\")","v":""},"",{"$f":"IF(BR$7=$F276,$H276,\"\")","v":""},"",{"$f":"IF(BT$7=$F276,$H276,\"\")","v":""},"",{"$f":"IF(BV$7=$F276,$H276,\"\")","v":""},"",{"$f":"IF(BX$7=$F276,$H276,\"\")","v":""},"",{"$f":"IF(BZ$7=$F276,$H276,\"\")","v":""},"",{"$f":"IF(CB$7=$F276,$H276,\"\")","v":""},"",{"$f":"IF(CD$7=$F276,$H276,\"\")","v":""},"",{"$f":"IF(CF$7=$F276,$H276,\"\")","v":""},"",{"$f":"IF(CH$7=$F276,$H276,\"\")","v":""},"",{"$f":"IF(CJ$7=$F276,$H276,\"\")","v":""},"",{"$f":"IF(CL$7=$F276,$H276,\"\")","v":""},"",{"$f":"IF(CN$7=$F276,$H276,\"\")","v":""},"",{"$f":"IF(CP$7=$F276,$H276,\"\")","v":""},"",{"$f":"IF(CR$7=$F276,$H276,\"\")","v":""},"",{"$f":"IF(CT$7=$F276,$H276,\"\")","v":""},"",{"$f":"IF(CV$7=$F276,$H276,\"\")","v":""},"",{"$f":"IF(CX$7=$F276,$H276,\"\")","v":""},"",{"$f":"IF(CZ$7=$F276,$H276,\"\")","v":""},"",{"$f":"IF(DB$7=$F276,$H276,\"\")","v":""},"",{"$f":"IF(DD$7=$F276,$H276,\"\")","v":""},"",{"$f":"IF(DF$7=$F276,$H276,\"\")","v":""},0,{"$f":"IF(DH$7=$F276,$H276,\"\")","v":0},0,{"$f":"IF(DJ$7=$F276,$H276,\"\")","v":0},0,{"$f":"IF(DL$7=$F276,$H276,\"\")","v":0},0,{"$f":"IF(DN$7=$F276,$H276,\"\")","v":0},0,{"$f":"IF(DP$7=$F276,$H276,\"\")","v":0},0,{"$f":"IF(DR$7=$F276,$H276,\"\")","v":0},0,{"$f":"IF(DT$7=$F276,$H276,\"\")","v":0},0,{"$f":"IF(DV$7=$F276,$H276,\"\")","v":0},0,{"$f":"IF(DX$7=$F276,$H276,\"\")","v":0},0,{"$f":"IF(DZ$7=$F276,$H276,\"\")","v":0},0,{"$f":"IF(EB$7=$F276,$H276,\"\")","v":0},0,{"$f":"IF(ED$7=$F276,$H276,\"\")","v":0},0,{"$f":"IF(EF$7=$F276,$H276,\"\")","v":0},0,{"$f":"IF(EH$7=$F276,$H276,\"\")","v":0},0,{"$f":"IF(EJ$7=$F276,$H276,\"\")","v":0},0,{"$f":"IF(EL$7=$F276,$H276,\"\")","v":0},0,{"$f":"IF(EN$7=$F276,$H276,\"\")","v":0},0,{"$f":"IF(EP$7=$F276,$H276,\"\")","v":0},0,{"$f":"IF(ER$7=$F276,$H276,\"\")","v":0},0,{"$f":"IF(ET$7=$F276,$H276,\"\")","v":0},0,{"$f":"IF(EV$7=$F276,$H276,\"\")","v":0},0,{"$f":"IF(EX$7=$F276,$H276,\"\")","v":0},0,{"$f":"IF(EZ$7=$F276,$H276,\"\")","v":0},0,{"$f":"IF(FB$7=$F276,$H276,\"\")","v":0},0,{"$f":"IF(FD$7=$F276,$H276,\"\")","v":0},0,{"$f":"IF(FF$7=$F276,$H276,\"\")","v":0},0,{"$f":"IF(FH$7=$F276,$H276,\"\")","v":0},0,{"$f":"IF(FJ$7=$F276,$H276,\"\")","v":0},0,{"$f":"IF(FL$7=$F276,$H276,\"\")","v":0},0,0]
[269,null,null,null,null,null,null,null,true,0,0,"","","",{"$f":"IF(N$7=$F277,$H277,\"\")","v":""},"",{"$f":"IF(P$7=$F277,$H277,\"\")","v":""},"",{"$f":"IF(R$7=$F277,$H277,\"\")","v":""},"",{"$f":"IF(T$7=$F277,$H277,\"\")","v":""},"",{"$f":"IF(V$7=$F277,$H277,\"\")","v":""},"",{"$f":"IF(X$7=$F277,$H277,\"\")","v":""},"",{"$f":"IF(Z$7=$F277,$H277,\"\")","v":""},"",{"$f":"IF(AB$7=$F277,$H277,\"\")","v":""},"",{"$f":"IF(AD$7=$F277,$H277,\"\")","v":""},"",{"$f":"IF(AF$7=$F277,$H277,\"\")","v":""},"",{"$f":"IF(AH$7=$F277,$H277,\"\")","v":""},"",{"$f":"IF(AJ$7=$F277,$H277,\"\")","v":""},"",{"$f":"IF(AL$7=$F277,$H277,\"\")","v":""},"",{"$f":"IF(AN$7=$F277,$H277,\"\")","v":""},"",{"$f":"IF(AP$7=$F277,$H277,\"\")","v":""},"",{"$f":"IF(AR$7=$F277,$H277,\"\")","v":""},"",{"$f":"IF(AT$7=$F277,$H277,\"\")","v":""},"",{"$f":"IF(AV$7=$F277,$H277,\"\")","v":""},"",{"$f":"IF(AX$7=$F277,$H277,\"\")","v":""},"",{"$f":"IF(AZ$7=$F277,$H277,\"\")","v":""},"",{"$f":"IF(BB$7=$F277,$H277,\"\")","v":""},"",{"$f":"IF(BD$7=$F277,$H277,\"\")","v":""},"",{"$f":"IF(BF$7=$F277,$H277,\"\")","v":""},"",{"$f":"IF(BH$7=$F277,$H277,\"\")","v":""},"",{"$f":"IF(BJ$7=$F277,$H277,\"\")","v":""},"",{"$f":"IF(BL$7=$F277,$H277,\"\")","v":""},"",{"$f":"IF(BN$7=$F277,$H277,\"\")","v":""},"",{"$f":"IF(BP$7=$F277,$H277,\"\")","v":""},"",{"$f":"IF(BR$7=$F277,$H277,\"\")","v":""},"",{"$f":"IF(BT$7=$F277,$H277,\"\")","v":""},"",{"$f":"IF(BV$7=$F277,$H277,\"\")","v":""},"",{"$f":"IF(BX$7=$F277,$H277,\"\")","v":""},"",{"$f":"IF(BZ$7=$F277,$H277,\"\")","v":""},"",{"$f":"IF(CB$7=$F277,$H277,\"\")","v":""},"",{"$f":"IF(CD$7=$F277,$H277,\"\")","v":""},"",{"$f":"IF(CF$7=$F277,$H277,\"\")","v":""},"",{"$f":"IF(CH$7=$F277,$H277,\"\")","v":""},"",{"$f":"IF(CJ$7=$F277,$H277,\"\")","v":""},"",{"$f":"IF(CL$7=$F277,$H277,\"\")","v":""},"",{"$f":"IF(CN$7=$F277,$H277,\"\")","v":""},"",{"$f":"IF(CP$7=$F277,$H277,\"\")","v":""},"",{"$f":"IF(CR$7=$F277,$H277,\"\")","v":""},"",{"$f":"IF(CT$7=$F277,$H277,\"\")","v":""},"",{"$f":"IF(CV$7=$F277,$H277,\"\")","v":""},"",{"$f":"IF(CX$7=$F277,$H277,\"\")","v":""},"",{"$f":"IF(CZ$7=$F277,$H277,\"\")","v":""},"",{"$f":"IF(DB$7=$F277,$H277,\"\")","v":""},"",{"$f":"IF(DD$7=$F277,$H277,\"\")","v":""},"",{"$f":"IF(DF$7=$F277,$H277,\"\")","v":""},0,{"$f":"IF(DH$7=$F277,$H277,\"\")","v":0},0,{"$f":"IF(DJ$7=$F277,$H277,\"\")","v":0},0,{"$f":"IF(DL$7=$F277,$H277,\"\")","v":0},0,{"$f":"IF(DN$7=$F277,$H277,\"\")","v":0},0,{"$f":"IF(DP$7=$F277,$H277,\"\")","v":0},0,{"$f":"IF(DR$7=$F277,$H277,\"\")","v":0},0,{"$f":"IF(DT$7=$F277,$H277,\"\")","v":0},0,{"$f":"IF(DV$7=$F277,$H277,\"\")","v":0},0,{"$f":"IF(DX$7=$F277,$H277,\"\")","v":0},0,{"$f":"IF(DZ$7=$F277,$H277,\"\")","v":0},0,{"$f":"IF(EB$7=$F277,$H277,\"\")","v":0},0,{"$f":"IF(ED$7=$F277,$H277,\"\")","v":0},0,{"$f":"IF(EF$7=$F277,$H277,\"\")","v":0},0,{"$f":"IF(EH$7=$F277,$H277,\"\")","v":0},0,{"$f":"IF(EJ$7=$F277,$H277,\"\")","v":0},0,{"$f":"IF(EL$7=$F277,$H277,\"\")","v":0},0,{"$f":"IF(EN$7=$F277,$H277,\"\")","v":0},0,{"$f":"IF(EP$7=$F277,$H277,\"\")","v":0},0,{"$f":"IF(ER$7=$F277,$H277,\"\")","v":0},0,{"$f":"IF(ET$7=$F277,$H277,\"\")","v":0},0,{"$f":"IF(EV$7=$F277,$H277,\"\")","v":0},0,{"$f":"IF(EX$7=$F277,$H277,\"\")","v":0},0,{"$f":"IF(EZ$7=$F277,$H277,\"\")","v":0},0,{"$f":"IF(FB$7=$F277,$H277,\"\")","v":0},0,{"$f":"IF(FD$7=$F277,$H277,\"\")","v":0},0,{"$f":"IF(FF$7=$F277,$H277,\"\")","v":0},0,{"$f":"IF(FH$7=$F277,$H277,\"\")","v":0},0,{"$f":"IF(FJ$7=$F277,$H277,\"\")","v":0},0,{"$f":"IF(FL$7=$F277,$H277,\"\")","v":0},0,0]
[270,null,null,null,null,null,null,null,true,0,0,"","","",{"$f":"IF(N$7=$F278,$H278,\"\")","v":""},"",{"$f":"IF(P$7=$F278,$H278,\"\")","v":""},"",{"$f":"IF(R$7=$F278,$H278,\"\")","v":""},"",{"$f":"IF(T$7=$F278,$H278,\"\")","v":""},"",{"$f":"IF(V$7=$F278,$H278,\"\")","v":""},"",{"$f":"IF(X$7=$F278,$H278,\"\")","v":""},"",{"$f":"IF(Z$7=$F278,$H278,\"\")","v":""},"",{"$f":"IF(AB$7=$F278,$H278,\"\")","v":""},"",{"$f":"IF(AD$7=$F278,$H278,\"\")","v":""},"",{"$f":"IF(AF$7=$F278,$H278,\"\")","v":""},"",{"$f":"IF(AH$7=$F278,$H278,\"\")","v":""},"",{"$f":"IF(AJ$7=$F278,$H278,\"\")","v":""},"",{"$f":"IF(AL$7=$F278,$H278,\"\")","v":""},"",{"$f":"IF(AN$7=$F278,$H278,\"\")","v":""},"",{"$f":"IF(AP$7=$F278,$H278,\"\")","v":""},"",{"$f":"IF(AR$7=$F278,$H278,\"\")","v":""},"",{"$f":"IF(AT$7=$F278,$H278,\"\")","v":""},"",{"$f":"IF(AV$7=$F278,$H278,\"\")","v":""},"",{"$f":"IF(AX$7=$F278,$H278,\"\")","v":""},"",{"$f":"IF(AZ$7=$F278,$H278,\"\")","v":""},"",{"$f":"IF(BB$7=$F278,$H278,\"\")","v":""},"",{"$f":"IF(BD$7=$F278,$H278,\"\")","v":""},"",{"$f":"IF(BF$7=$F278,$H278,\"\")","v":""},"",{"$f":"IF(BH$7=$F278,$H278,\"\")","v":""},"",{"$f":"IF(BJ$7=$F278,$H278,\"\")","v":""},"",{"$f":"IF(BL$7=$F278,$H278,\"\")","v":""},"",{"$f":"IF(BN$7=$F278,$H278,\"\")","v":""},"",{"$f":"IF(BP$7=$F278,$H278,\"\")","v":""},"",{"$f":"IF(BR$7=$F278,$H278,\"\")","v":""},"",{"$f":"IF(BT$7=$F278,$H278,\"\")","v":""},"",{"$f":"IF(BV$7=$F278,$H278,\"\")","v":""},"",{"$f":"IF(BX$7=$F278,$H278,\"\")","v":""},"",{"$f":"IF(BZ$7=$F278,$H278,\"\")","v":""},"",{"$f":"IF(CB$7=$F278,$H278,\"\")","v":""},"",{"$f":"IF(CD$7=$F278,$H278,\"\")","v":""},"",{"$f":"IF(CF$7=$F278,$H278,\"\")","v":""},"",{"$f":"IF(CH$7=$F278,$H278,\"\")","v":""},"",{"$f":"IF(CJ$7=$F278,$H278,\"\")","v":""},"",{"$f":"IF(CL$7=$F278,$H278,\"\")","v":""},"",{"$f":"IF(CN$7=$F278,$H278,\"\")","v":""},"",{"$f":"IF(CP$7=$F278,$H278,\"\")","v":""},"",{"$f":"IF(CR$7=$F278,$H278,\"\")","v":""},"",{"$f":"IF(CT$7=$F278,$H278,\"\")","v":""},"",{"$f":"IF(CV$7=$F278,$H278,\"\")","v":""},"",{"$f":"IF(CX$7=$F278,$H278,\"\")","v":""},"",{"$f":"IF(CZ$7=$F278,$H278,\"\")","v":""},"",{"$f":"IF(DB$7=$F278,$H278,\"\")","v":""},"",{"$f":"IF(DD$7=$F278,$H278,\"\")","v":""},"",{"$f":"IF(DF$7=$F278,$H278,\"\")","v":""},0,{"$f":"IF(DH$7=$F278,$H278,\"\")","v":0},0,{"$f":"IF(DJ$7=$F278,$H278,\"\")","v":0},0,{"$f":"IF(DL$7=$F278,$H278,\"\")","v":0},0,{"$f":"IF(DN$7=$F278,$H278,\"\")","v":0},0,{"$f":"IF(DP$7=$F278,$H278,\"\")","v":0},0,{"$f":"IF(DR$7=$F278,$H278,\"\")","v":0},0,{"$f":"IF(DT$7=$F278,$H278,\"\")","v":0},0,{"$f":"IF(DV$7=$F278,$H278,\"\")","v":0},0,{"$f":"IF(DX$7=$F278,$H278,\"\")","v":0},0,{"$f":"IF(DZ$7=$F278,$H278,\"\")","v":0},0,{"$f":"IF(EB$7=$F278,$H278,\"\")","v":0},0,{"$f":"IF(ED$7=$F278,$H278,\"\")","v":0},0,{"$f":"IF(EF$7=$F278,$H278,\"\")","v":0},0,{"$f":"IF(EH$7=$F278,$H278,\"\")","v":0},0,{"$f":"IF(EJ$7=$F278,$H278,\"\")","v":0},0,{"$f":"IF(EL$7=$F278,$H278,\"\")","v":0},0,{"$f":"IF(EN$7=$F278,$H278,\"\")","v":0},0,{"$f":"IF(EP$7=$F278,$H278,\"\")","v":0},0,{"$f":"IF(ER$7=$F278,$H278,\"\")","v":0},0,{"$f":"IF(ET$7=$F278,$H278,\"\")","v":0},0,{"$f":"IF(EV$7=$F278,$H278,\"\")","v":0},0,{"$f":"IF(EX$7=$F278,$H278,\"\")","v":0},0,{"$f":"IF(EZ$7=$F278,$H278,\"\")","v":0},0,{"$f":"IF(FB$7=$F278,$H278,\"\")","v":0},0,{"$f":"IF(FD$7=$F278,$H278,\"\")","v":0},0,{"$f":"IF(FF$7=$F278,$H278,\"\")","v":0},0,{"$f":"IF(FH$7=$F278,$H278,\"\")","v":0},0,{"$f":"IF(FJ$7=$F278,$H278,\"\")","v":0},0,{"$f":"IF(FL$7=$F278,$H278,\"\")","v":0},0,0]
[271,null,null,null,null,null,null,null,true,0,0,"","","",{"$f":"IF(N$7=$F279,$H279,\"\")","v":""},"",{"$f":"IF(P$7=$F279,$H279,\"\")","v":""},"",{"$f":"IF(R$7=$F279,$H279,\"\")","v":""},"",{"$f":"IF(T$7=$F279,$H279,\"\")","v":""},"",{"$f":"IF(V$7=$F279,$H279,\"\")","v":""},"",{"$f":"IF(X$7=$F279,$H279,\"\")","v":""},"",{"$f":"IF(Z$7=$F279,$H279,\"\")","v":""},"",{"$f":"IF(AB$7=$F279,$H279,\"\")","v":""},"",{"$f":"IF(AD$7=$F279,$H279,\"\")","v":""},"",{"$f":"IF(AF$7=$F279,$H279,\"\")","v":""},"",{"$f":"IF(AH$7=$F279,$H279,\"\")","v":""},"",{"$f":"IF(AJ$7=$F279,$H279,\"\")","v":""},"",{"$f":"IF(AL$7=$F279,$H279,\"\")","v":""},"",{"$f":"IF(AN$7=$F279,$H279,\"\")","v":""},"",{"$f":"IF(AP$7=$F279,$H279,\"\")","v":""},"",{"$f":"IF(AR$7=$F279,$H279,\"\")","v":""},"",{"$f":"IF(AT$7=$F279,$H279,\"\")","v":""},"",{"$f":"IF(AV$7=$F279,$H279,\"\")","v":""},"",{"$f":"IF(AX$7=$F279,$H279,\"\")","v":""},"",{"$f":"IF(AZ$7=$F279,$H279,\"\")","v":""},"",{"$f":"IF(BB$7=$F279,$H279,\"\")","v":""},"",{"$f":"IF(BD$7=$F279,$H279,\"\")","v":""},"",{"$f":"IF(BF$7=$F279,$H279,\"\")","v":""},"",{"$f":"IF(BH$7=$F279,$H279,\"\")","v":""},"",{"$f":"IF(BJ$7=$F279,$H279,\"\")","v":""},"",{"$f":"IF(BL$7=$F279,$H279,\"\")","v":""},"",{"$f":"IF(BN$7=$F279,$H279,\"\")","v":""},"",{"$f":"IF(BP$7=$F279,$H279,\"\")","v":""},"",{"$f":"IF(BR$7=$F279,$H279,\"\")","v":""},"",{"$f":"IF(BT$7=$F279,$H279,\"\")","v":""},"",{"$f":"IF(BV$7=$F279,$H279,\"\")","v":""},"",{"$f":"IF(BX$7=$F279,$H279,\"\")","v":""},"",{"$f":"IF(BZ$7=$F279,$H279,\"\")","v":""},"",{"$f":"IF(CB$7=$F279,$H279,\"\")","v":""},"",{"$f":"IF(CD$7=$F279,$H279,\"\")","v":""},"",{"$f":"IF(CF$7=$F279,$H279,\"\")","v":""},"",{"$f":"IF(CH$7=$F279,$H279,\"\")","v":""},"",{"$f":"IF(CJ$7=$F279,$H279,\"\")","v":""},"",{"$f":"IF(CL$7=$F279,$H279,\"\")","v":""},"",{"$f":"IF(CN$7=$F279,$H279,\"\")","v":""},"",{"$f":"IF(CP$7=$F279,$H279,\"\")","v":""},"",{"$f":"IF(CR$7=$F279,$H279,\"\")","v":""},"",{"$f":"IF(CT$7=$F279,$H279,\"\")","v":""},"",{"$f":"IF(CV$7=$F279,$H279,\"\")","v":""},"",{"$f":"IF(CX$7=$F279,$H279,\"\")","v":""},"",{"$f":"IF(CZ$7=$F279,$H279,\"\")","v":""},"",{"$f":"IF(DB$7=$F279,$H279,\"\")","v":""},"",{"$f":"IF(DD$7=$F279,$H279,\"\")","v":""},"",{"$f":"IF(DF$7=$F279,$H279,\"\")","v":""},0,{"$f":"IF(DH$7=$F279,$H279,\"\")","v":0},0,{"$f":"IF(DJ$7=$F279,$H279,\"\")","v":0},0,{"$f":"IF(DL$7=$F279,$H279,\"\")","v":0},0,{"$f":"IF(DN$7=$F279,$H279,\"\")","v":0},0,{"$f":"IF(DP$7=$F279,$H279,\"\")","v":0},0,{"$f":"IF(DR$7=$F279,$H279,\"\")","v":0},0,{"$f":"IF(DT$7=$F279,$H279,\"\")","v":0},0,{"$f":"IF(DV$7=$F279,$H279,\"\")","v":0},0,{"$f":"IF(DX$7=$F279,$H279,\"\")","v":0},0,{"$f":"IF(DZ$7=$F279,$H279,\"\")","v":0},0,{"$f":"IF(EB$7=$F279,$H279,\"\")","v":0},0,{"$f":"IF(ED$7=$F279,$H279,\"\")","v":0},0,{"$f":"IF(EF$7=$F279,$H279,\"\")","v":0},0,{"$f":"IF(EH$7=$F279,$H279,\"\")","v":0},0,{"$f":"IF(EJ$7=$F279,$H279,\"\")","v":0},0,{"$f":"IF(EL$7=$F279,$H279,\"\")","v":0},0,{"$f":"IF(EN$7=$F279,$H279,\"\")","v":0},0,{"$f":"IF(EP$7=$F279,$H279,\"\")","v":0},0,{"$f":"IF(ER$7=$F279,$H279,\"\")","v":0},0,{"$f":"IF(ET$7=$F279,$H279,\"\")","v":0},0,{"$f":"IF(EV$7=$F279,$H279,\"\")","v":0},0,{"$f":"IF(EX$7=$F279,$H279,\"\")","v":0},0,{"$f":"IF(EZ$7=$F279,$H279,\"\")","v":0},0,{"$f":"IF(FB$7=$F279,$H279,\"\")","v":0},0,{"$f":"IF(FD$7=$F279,$H279,\"\")","v":0},0,{"$f":"IF(FF$7=$F279,$H279,\"\")","v":0},0,{"$f":"IF(FH$7=$F279,$H279,\"\")","v":0},0,{"$f":"IF(FJ$7=$F279,$H279,\"\")","v":0},0,{"$f":"IF(FL$7=$F279,$H279,\"\")","v":0},0,0]
[272,null,null,null,null,null,null,null,true,0,0,"","","",{"$f":"IF(N$7=$F280,$H280,\"\")","v":""},"",{"$f":"IF(P$7=$F280,$H280,\"\")","v":""},"",{"$f":"IF(R$7=$F280,$H280,\"\")","v":""},"",{"$f":"IF(T$7=$F280,$H280,\"\")","v":""},"",{"$f":"IF(V$7=$F280,$H280,\"\")","v":""},"",{"$f":"IF(X$7=$F280,$H280,\"\")","v":""},"",{"$f":"IF(Z$7=$F280,$H280,\"\")","v":""},"",{"$f":"IF(AB$7=$F280,$H280,\"\")","v":""},"",{"$f":"IF(AD$7=$F280,$H280,\"\")","v":""},"",{"$f":"IF(AF$7=$F280,$H280,\"\")","v":""},"",{"$f":"IF(AH$7=$F280,$H280,\"\")","v":""},"",{"$f":"IF(AJ$7=$F280,$H280,\"\")","v":""},"",{"$f":"IF(AL$7=$F280,$H280,\"\")","v":""},"",{"$f":"IF(AN$7=$F280,$H280,\"\")","v":""},"",{"$f":"IF(AP$7=$F280,$H280,\"\")","v":""},"",{"$f":"IF(AR$7=$F280,$H280,\"\")","v":""},"",{"$f":"IF(AT$7=$F280,$H280,\"\")","v":""},"",{"$f":"IF(AV$7=$F280,$H280,\"\")","v":""},"",{"$f":"IF(AX$7=$F280,$H280,\"\")","v":""},"",{"$f":"IF(AZ$7=$F280,$H280,\"\")","v":""},"",{"$f":"IF(BB$7=$F280,$H280,\"\")","v":""},"",{"$f":"IF(BD$7=$F280,$H280,\"\")","v":""},"",{"$f":"IF(BF$7=$F280,$H280,\"\")","v":""},"",{"$f":"IF(BH$7=$F280,$H280,\"\")","v":""},"",{"$f":"IF(BJ$7=$F280,$H280,\"\")","v":""},"",{"$f":"IF(BL$7=$F280,$H280,\"\")","v":""},"",{"$f":"IF(BN$7=$F280,$H280,\"\")","v":""},"",{"$f":"IF(BP$7=$F280,$H280,\"\")","v":""},"",{"$f":"IF(BR$7=$F280,$H280,\"\")","v":""},"",{"$f":"IF(BT$7=$F280,$H280,\"\")","v":""},"",{"$f":"IF(BV$7=$F280,$H280,\"\")","v":""},"",{"$f":"IF(BX$7=$F280,$H280,\"\")","v":""},"",{"$f":"IF(BZ$7=$F280,$H280,\"\")","v":""},"",{"$f":"IF(CB$7=$F280,$H280,\"\")","v":""},"",{"$f":"IF(CD$7=$F280,$H280,\"\")","v":""},"",{"$f":"IF(CF$7=$F280,$H280,\"\")","v":""},"",{"$f":"IF(CH$7=$F280,$H280,\"\")","v":""},"",{"$f":"IF(CJ$7=$F280,$H280,\"\")","v":""},"",{"$f":"IF(CL$7=$F280,$H280,\"\")","v":""},"",{"$f":"IF(CN$7=$F280,$H280,\"\")","v":""},"",{"$f":"IF(CP$7=$F280,$H280,\"\")","v":""},"",{"$f":"IF(CR$7=$F280,$H280,\"\")","v":""},"",{"$f":"IF(CT$7=$F280,$H280,\"\")","v":""},"",{"$f":"IF(CV$7=$F280,$H280,\"\")","v":""},"",{"$f":"IF(CX$7=$F280,$H280,\"\")","v":""},"",{"$f":"IF(CZ$7=$F280,$H280,\"\")","v":""},"",{"$f":"IF(DB$7=$F280,$H280,\"\")","v":""},"",{"$f":"IF(DD$7=$F280,$H280,\"\")","v":""},"",{"$f":"IF(DF$7=$F280,$H280,\"\")","v":""},0,{"$f":"IF(DH$7=$F280,$H280,\"\")","v":0},0,{"$f":"IF(DJ$7=$F280,$H280,\"\")","v":0},0,{"$f":"IF(DL$7=$F280,$H280,\"\")","v":0},0,{"$f":"IF(DN$7=$F280,$H280,\"\")","v":0},0,{"$f":"IF(DP$7=$F280,$H280,\"\")","v":0},0,{"$f":"IF(DR$7=$F280,$H280,\"\")","v":0},0,{"$f":"IF(DT$7=$F280,$H280,\"\")","v":0},0,{"$f":"IF(DV$7=$F280,$H280,\"\")","v":0},0,{"$f":"IF(DX$7=$F280,$H280,\"\")","v":0},0,{"$f":"IF(DZ$7=$F280,$H280,\"\")","v":0},0,{"$f":"IF(EB$7=$F280,$H280,\"\")","v":0},0,{"$f":"IF(ED$7=$F280,$H280,\"\")","v":0},0,{"$f":"IF(EF$7=$F280,$H280,\"\")","v":0},0,{"$f":"IF(EH$7=$F280,$H280,\"\")","v":0},0,{"$f":"IF(EJ$7=$F280,$H280,\"\")","v":0},0,{"$f":"IF(EL$7=$F280,$H280,\"\")","v":0},0,{"$f":"IF(EN$7=$F280,$H280,\"\")","v":0},0,{"$f":"IF(EP$7=$F280,$H280,\"\")","v":0},0,{"$f":"IF(ER$7=$F280,$H280,\"\")","v":0},0,{"$f":"IF(ET$7=$F280,$H280,\"\")","v":0},0,{"$f":"IF(EV$7=$F280,$H280,\"\")","v":0},0,{"$f":"IF(EX$7=$F280,$H280,\"\")","v":0},0,{"$f":"IF(EZ$7=$F280,$H280,\"\")","v":0},0,{"$f":"IF(FB$7=$F280,$H280,\"\")","v":0},0,{"$f":"IF(FD$7=$F280,$H280,\"\")","v":0},0,{"$f":"IF(FF$7=$F280,$H280,\"\")","v":0},0,{"$f":"IF(FH$7=$F280,$H280,\"\")","v":0},0,{"$f":"IF(FJ$7=$F280,$H280,\"\")","v":0},0,{"$f":"IF(FL$7=$F280,$H280,\"\")","v":0},0,0]
[273,null,null,null,null,null,null,null,true,0,0,"","",{"$f":"IF(N$7=$E281,$G281,\"\")","v":""},{"$f":"IF(N$7=$F281,$H281,\"\")","v":""},{"$f":"IF(P$7=$E281,$G281,\"\")","v":""},{"$f":"IF(P$7=$F281,$H281,\"\")","v":""},{"$f":"IF(R$7=$E281,$G281,\"\")","v":""},{"$f":"IF(R$7=$F281,$H281,\"\")","v":""},{"$f":"IF(T$7=$E281,$G281,\"\")","v":""},{"$f":"IF(T$7=$F281,$H281,\"\")","v":""},{"$f":"IF(V$7=$E281,$G281,\"\")","v":""},{"$f":"IF(V$7=$F281,$H281,\"\")","v":""},{"$f":"IF(X$7=$E281,$G281,\"\")","v":""},{"$f":"IF(X$7=$F281,$H281,\"\")","v":""},{"$f":"IF(Z$7=$E281,$G281,\"\")","v":""},{"$f":"IF(Z$7=$F281,$H281,\"\")","v":""},{"$f":"IF(AB$7=$E281,$G281,\"\")","v":""},{"$f":"IF(AB$7=$F281,$H281,\"\")","v":""},{"$f":"IF(AD$7=$E281,$G281,\"\")","v":""},{"$f":"IF(AD$7=$F281,$H281,\"\")","v":""},{"$f":"IF(AF$7=$E281,$G281,\"\")","v":""},{"$f":"IF(AF$7=$F281,$H281,\"\")","v":""},{"$f":"IF(AH$7=$E281,$G281,\"\")","v":""},{"$f":"IF(AH$7=$F281,$H281,\"\")","v":""},{"$f":"IF(AJ$7=$E281,$G281,\"\")","v":""},{"$f":"IF(AJ$7=$F281,$H281,\"\")","v":""},{"$f":"IF(AL$7=$E281,$G281,\"\")","v":""},{"$f":"IF(AL$7=$F281,$H281,\"\")","v":""},{"$f":"IF(AN$7=$E281,$G281,\"\")","v":""},{"$f":"IF(AN$7=$F281,$H281,\"\")","v":""},{"$f":"IF(AP$7=$E281,$G281,\"\")","v":""},{"$f":"IF(AP$7=$F281,$H281,\"\")","v":""},{"$f":"IF(AR$7=$E281,$G281,\"\")","v":""},{"$f":"IF(AR$7=$F281,$H281,\"\")","v":""},{"$f":"IF(AT$7=$E281,$G281,\"\")","v":""},{"$f":"IF(AT$7=$F281,$H281,\"\")","v":""},{"$f":"IF(AV$7=$E281,$G281,\"\")","v":""},{"$f":"IF(AV$7=$F281,$H281,\"\")","v":""},{"$f":"IF(AX$7=$E281,$G281,\"\")","v":""},{"$f":"IF(AX$7=$F281,$H281,\"\")","v":""},{"$f":"IF(AZ$7=$E281,$G281,\"\")","v":""},{"$f":"IF(AZ$7=$F281,$H281,\"\")","v":""},{"$f":"IF(BB$7=$E281,$G281,\"\")","v":""},{"$f":"IF(BB$7=$F281,$H281,\"\")","v":""},{"$f":"IF(BD$7=$E281,$G281,\"\")","v":""},{"$f":"IF(BD$7=$F281,$H281,\"\")","v":""},{"$f":"IF(BF$7=$E281,$G281,\"\")","v":""},{"$f":"IF(BF$7=$F281,$H281,\"\")","v":""},{"$f":"IF(BH$7=$E281,$G281,\"\")","v":""},{"$f":"IF(BH$7=$F281,$H281,\"\")","v":""},{"$f":"IF(BJ$7=$E281,$G281,\"\")","v":""},{"$f":"IF(BJ$7=$F281,$H281,\"\")","v":""},{"$f":"IF(BL$7=$E281,$G281,\"\")","v":""},{"$f":"IF(BL$7=$F281,$H281,\"\")","v":""},{"$f":"IF(BN$7=$E281,$G281,\"\")","v":""},{"$f":"IF(BN$7=$F281,$H281,\"\")","v":""},{"$f":"IF(BP$7=$E281,$G281,\"\")","v":""},{"$f":"IF(BP$7=$F281,$H281,\"\")","v":""},{"$f":"IF(BR$7=$E281,$G281,\"\")","v":""},{"$f":"IF(BR$7=$F281,$H281,\"\")","v":""},{"$f":"IF(BT$7=$E281,$G281,\"\")","v":""},{"$f":"IF(BT$7=$F281,$H281,\"\")","v":""},{"$f":"IF(BV$7=$E281,$G281,\"\")","v":""},{"$f":"IF(BV$7=$F281,$H281,\"\")","v":""},{"$f":"IF(BX$7=$E281,$G281,\"\")","v":""},{"$f":"IF(BX$7=$F281,$H281,\"\")","v":""},{"$f":"IF(BZ$7=$E281,$G281,\"\")","v":""},{"$f":"IF(BZ$7=$F281,$H281,\"\")","v":""},{"$f":"IF(CB$7=$E281,$G281,\"\")","v":""},{"$f":"IF(CB$7=$F281,$H281,\"\")","v":""},{"$f":"IF(CD$7=$E281,$G281,\"\")","v":""},{"$f":"IF(CD$7=$F281,$H281,\"\")","v":""},{"$f":"IF(CF$7=$E281,$G281,\"\")","v":""},{"$f":"IF(CF$7=$F281,$H281,\"\")","v":""},{"$f":"IF(CH$7=$E281,$G281,\"\")","v":""},{"$f":"IF(CH$7=$F281,$H281,\"\")","v":""},{"$f":"IF(CJ$7=$E281,$G281,\"\")","v":""},{"$f":"IF(CJ$7=$F281,$H281,\"\")","v":""},{"$f":"IF(CL$7=$E281,$G281,\"\")","v":""},{"$f":"IF(CL$7=$F281,$H281,\"\")","v":""},{"$f":"IF(CN$7=$E281,$G281,\"\")","v":""},{"$f":"IF(CN$7=$F281,$H281,\"\")","v":""},{"$f":"IF(CP$7=$E281,$G281,\"\")","v":""},{"$f":"IF(CP$7=$F281,$H281,\"\")","v":""},{"$f":"IF(CR$7=$E281,$G281,\"\")","v":""},{"$f":"IF(CR$7=$F281,$H281,\"\")","v":""},{"$f":"IF(CT$7=$E281,$G281,\"\")","v":""},{"$f":"IF(CT$7=$F281,$H281,\"\")","v":""},{"$f":"IF(CV$7=$E281,$G281,\"\")","v":""},{"$f":"IF(CV$7=$F281,$H281,\"\")","v":""},{"$f":"IF(CX$7=$E281,$G281,\"\")","v":""},{"$f":"IF(CX$7=$F281,$H281,\"\")","v":""},{"$f":"IF(CZ$7=$E281,$G281,\"\")","v":""},{"$f":"IF(CZ$7=$F281,$H281,\"\")","v":""},{"$f":"IF(DB$7=$E281,$G281,\"\")","v":""},{"$f":"IF(DB$7=$F281,$H281,\"\")","v":""},{"$f":"IF(DD$7=$E281,$G281,\"\")","v":""},{"$f":"IF(DD$7=$F281,$H281,\"\")","v":""},{"$f":"IF(DF$7=$E281,$G281,\"\")","v":""},{"$f":"IF(DF$7=$F281,$H281,\"\")","v":""},{"$f":"IF(DH$7=$E281,$G281,\"\")","v":0},{"$f":"IF(DH$7=$F281,$H281,\"\")","v":0},{"$f":"IF(DJ$7=$E281,$G281,\"\")","v":0},{"$f":"IF(DJ$7=$F281,$H281,\"\")","v":0},{"$f":"IF(DL$7=$E281,$G281,\"\")","v":0},{"$f":"IF(DL$7=$F281,$H281,\"\")","v":0},{"$f":"IF(DN$7=$E281,$G281,\"\")","v":0},{"$f":"IF(DN$7=$F281,$H281,\"\")","v":0},{"$f":"IF(DP$7=$E281,$G281,\"\")","v":0},{"$f":"IF(DP$7=$F281,$H281,\"\")","v":0},{"$f":"IF(DR$7=$E281,$G281,\"\")","v":0},{"$f":"IF(DR$7=$F281,$H281,\"\")","v":0},{"$f":"IF(DT$7=$E281,$G281,\"\")","v":0},{"$f":"IF(DT$7=$F281,$H281,\"\")","v":0},{"$f":"IF(DV$7=$E281,$G281,\"\")","v":0},{"$f":"IF(DV$7=$F281,$H281,\"\")","v":0},{"$f":"IF(DX$7=$E281,$G281,\"\")","v":0},{"$f":"IF(DX$7=$F281,$H281,\"\")","v":0},{"$f":"IF(DZ$7=$E281,$G281,\"\")","v":0},{"$f":"IF(DZ$7=$F281,$H281,\"\")","v":0},{"$f":"IF(EB$7=$E281,$G281,\"\")","v":0},{"$f":"IF(EB$7=$F281,$H281,\"\")","v":0},{"$f":"IF(ED$7=$E281,$G281,\"\")","v":0},{"$f":"IF(ED$7=$F281,$H281,\"\")","v":0},{"$f":"IF(EF$7=$E281,$G281,\"\")","v":0},{"$f":"IF(EF$7=$F281,$H281,\"\")","v":0},{"$f":"IF(EH$7=$E281,$G281,\"\")","v":0},{"$f":"IF(EH$7=$F281,$H281,\"\")","v":0},{"$f":"IF(EJ$7=$E281,$G281,\"\")","v":0},{"$f":"IF(EJ$7=$F281,$H281,\"\")","v":0},{"$f":"IF(EL$7=$E281,$G281,\"\")","v":0},{"$f":"IF(EL$7=$F281,$H281,\"\")","v":0},{"$f":"IF(EN$7=$E281,$G281,\"\")","v":0},{"$f":"IF(EN$7=$F281,$H281,\"\")","v":0},{"$f":"IF(EP$7=$E281,$G281,\"\")","v":0},{"$f":"IF(EP$7=$F281,$H281,\"\")","v":0},{"$f":"IF(ER$7=$E281,$G281,\"\")","v":0},{"$f":"IF(ER$7=$F281,$H281,\"\")","v":0},{"$f":"IF(ET$7=$E281,$G281,\"\")","v":0},{"$f":"IF(ET$7=$F281,$H281,\"\")","v":0},{"$f":"IF(EV$7=$E281,$G281,\"\")","v":0},{"$f":"IF(EV$7=$F281,$H281,\"\")","v":0},{"$f":"IF(EX$7=$E281,$G281,\"\")","v":0},{"$f":"IF(EX$7=$F281,$H281,\"\")","v":0},{"$f":"IF(EZ$7=$E281,$G281,\"\")","v":0},{"$f":"IF(EZ$7=$F281,$H281,\"\")","v":0},{"$f":"IF(FB$7=$E281,$G281,\"\")","v":0},{"$f":"IF(FB$7=$F281,$H281,\"\")","v":0},{"$f":"IF(FD$7=$E281,$G281,\"\")","v":0},{"$f":"IF(FD$7=$F281,$H281,\"\")","v":0},{"$f":"IF(FF$7=$E281,$G281,\"\")","v":0},{"$f":"IF(FF$7=$F281,$H281,\"\")","v":0},{"$f":"IF(FH$7=$E281,$G281,\"\")","v":0},{"$f":"IF(FH$7=$F281,$H281,\"\")","v":0},{"$f":"IF(FJ$7=$E281,$G281,\"\")","v":0},{"$f":"IF(FJ$7=$F281,$H281,\"\")","v":0},{"$f":"IF(FL$7=$E281,$G281,\"\")","v":0},{"$f":"IF(FL$7=$F281,$H281,\"\")","v":0},{"$f":"IF(FN$7=$E281,$G281,\"\")","v":0},0]
[274,null,null,null,null,null,null,null,true,0,0,"","","",{"$f":"IF(N$7=$F282,$H282,\"\")","v":""},"",{"$f":"IF(P$7=$F282,$H282,\"\")","v":""},"",{"$f":"IF(R$7=$F282,$H282,\"\")","v":""},"",{"$f":"IF(T$7=$F282,$H282,\"\")","v":""},"",{"$f":"IF(V$7=$F282,$H282,\"\")","v":""},"",{"$f":"IF(X$7=$F282,$H282,\"\")","v":""},"",{"$f":"IF(Z$7=$F282,$H282,\"\")","v":""},"",{"$f":"IF(AB$7=$F282,$H282,\"\")","v":""},"",{"$f":"IF(AD$7=$F282,$H282,\"\")","v":""},"",{"$f":"IF(AF$7=$F282,$H282,\"\")","v":""},"",{"$f":"IF(AH$7=$F282,$H282,\"\")","v":""},"",{"$f":"IF(AJ$7=$F282,$H282,\"\")","v":""},"",{"$f":"IF(AL$7=$F282,$H282,\"\")","v":""},"",{"$f":"IF(AN$7=$F282,$H282,\"\")","v":""},"",{"$f":"IF(AP$7=$F282,$H282,\"\")","v":""},"",{"$f":"IF(AR$7=$F282,$H282,\"\")","v":""},"",{"$f":"IF(AT$7=$F282,$H282,\"\")","v":""},"",{"$f":"IF(AV$7=$F282,$H282,\"\")","v":""},"",{"$f":"IF(AX$7=$F282,$H282,\"\")","v":""},"",{"$f":"IF(AZ$7=$F282,$H282,\"\")","v":""},"",{"$f":"IF(BB$7=$F282,$H282,\"\")","v":""},"",{"$f":"IF(BD$7=$F282,$H282,\"\")","v":""},"",{"$f":"IF(BF$7=$F282,$H282,\"\")","v":""},"",{"$f":"IF(BH$7=$F282,$H282,\"\")","v":""},"",{"$f":"IF(BJ$7=$F282,$H282,\"\")","v":""},"",{"$f":"IF(BL$7=$F282,$H282,\"\")","v":""},"",{"$f":"IF(BN$7=$F282,$H282,\"\")","v":""},"",{"$f":"IF(BP$7=$F282,$H282,\"\")","v":""},"",{"$f":"IF(BR$7=$F282,$H282,\"\")","v":""},"",{"$f":"IF(BT$7=$F282,$H282,\"\")","v":""},"",{"$f":"IF(BV$7=$F282,$H282,\"\")","v":""},"",{"$f":"IF(BX$7=$F282,$H282,\"\")","v":""},"",{"$f":"IF(BZ$7=$F282,$H282,\"\")","v":""},"",{"$f":"IF(CB$7=$F282,$H282,\"\")","v":""},"",{"$f":"IF(CD$7=$F282,$H282,\"\")","v":""},"",{"$f":"IF(CF$7=$F282,$H282,\"\")","v":""},"",{"$f":"IF(CH$7=$F282,$H282,\"\")","v":""},"",{"$f":"IF(CJ$7=$F282,$H282,\"\")","v":""},"",{"$f":"IF(CL$7=$F282,$H282,\"\")","v":""},"",{"$f":"IF(CN$7=$F282,$H282,\"\")","v":""},"",{"$f":"IF(CP$7=$F282,$H282,\"\")","v":""},"",{"$f":"IF(CR$7=$F282,$H282,\"\")","v":""},"",{"$f":"IF(CT$7=$F282,$H282,\"\")","v":""},"",{"$f":"IF(CV$7=$F282,$H282,\"\")","v":""},"",{"$f":"IF(CX$7=$F282,$H282,\"\")","v":""},"",{"$f":"IF(CZ$7=$F282,$H282,\"\")","v":""},"",{"$f":"IF(DB$7=$F282,$H282,\"\")","v":""},"",{"$f":"IF(DD$7=$F282,$H282,\"\")","v":""},"",{"$f":"IF(DF$7=$F282,$H282,\"\")","v":""},0,{"$f":"IF(DH$7=$F282,$H282,\"\")","v":0},0,{"$f":"IF(DJ$7=$F282,$H282,\"\")","v":0},0,{"$f":"IF(DL$7=$F282,$H282,\"\")","v":0},0,{"$f":"IF(DN$7=$F282,$H282,\"\")","v":0},0,{"$f":"IF(DP$7=$F282,$H282,\"\")","v":0},0,{"$f":"IF(DR$7=$F282,$H282,\"\")","v":0},0,{"$f":"IF(DT$7=$F282,$H282,\"\")","v":0},0,{"$f":"IF(DV$7=$F282,$H282,\"\")","v":0},0,{"$f":"IF(DX$7=$F282,$H282,\"\")","v":0},0,{"$f":"IF(DZ$7=$F282,$H282,\"\")","v":0},0,{"$f":"IF(EB$7=$F282,$H282,\"\")","v":0},0,{"$f":"IF(ED$7=$F282,$H282,\"\")","v":0},0,{"$f":"IF(EF$7=$F282,$H282,\"\")","v":0},0,{"$f":"IF(EH$7=$F282,$H282,\"\")","v":0},0,{"$f":"IF(EJ$7=$F282,$H282,\"\")","v":0},0,{"$f":"IF(EL$7=$F282,$H282,\"\")","v":0},0,{"$f":"IF(EN$7=$F282,$H282,\"\")","v":0},0,{"$f":"IF(EP$7=$F282,$H282,\"\")","v":0},0,{"$f":"IF(ER$7=$F282,$H282,\"\")","v":0},0,{"$f":"IF(ET$7=$F282,$H282,\"\")","v":0},0,{"$f":"IF(EV$7=$F282,$H282,\"\")","v":0},0,{"$f":"IF(EX$7=$F282,$H282,\"\")","v":0},0,{"$f":"IF(EZ$7=$F282,$H282,\"\")","v":0},0,{"$f":"IF(FB$7=$F282,$H282,\"\")","v":0},0,{"$f":"IF(FD$7=$F282,$H282,\"\")","v":0},0,{"$f":"IF(FF$7=$F282,$H282,\"\")","v":0},0,{"$f":"IF(FH$7=$F282,$H282,\"\")","v":0},0,{"$f":"IF(FJ$7=$F282,$H282,\"\")","v":0},0,{"$f":"IF(FL$7=$F282,$H282,\"\")","v":0},0,0]
[275,null,null,null,null,null,null,null,true,0,0,"","","",{"$f":"IF(N$7=$F283,$H283,\"\")","v":""},"",{"$f":"IF(P$7=$F283,$H283,\"\")","v":""},"",{"$f":"IF(R$7=$F283,$H283,\"\")","v":""},"",{"$f":"IF(T$7=$F283,$H283,\"\")","v":""},"",{"$f":"IF(V$7=$F283,$H283,\"\")","v":""},"",{"$f":"IF(X$7=$F283,$H283,\"\")","v":""},"",{"$f":"IF(Z$7=$F283,$H283,\"\")","v":""},"",{"$f":"IF(AB$7=$F283,$H283,\"\")","v":""},"",{"$f":"IF(AD$7=$F283,$H283,\"\")","v":""},"",{"$f":"IF(AF$7=$F283,$H283,\"\")","v":""},"",{"$f":"IF(AH$7=$F283,$H283,\"\")","v":""},"",{"$f":"IF(AJ$7=$F283,$H283,\"\")","v":""},"",{"$f":"IF(AL$7=$F283,$H283,\"\")","v":""},"",{"$f":"IF(AN$7=$F283,$H283,\"\")","v":""},"",{"$f":"IF(AP$7=$F283,$H283,\"\")","v":""},"",{"$f":"IF(AR$7=$F283,$H283,\"\")","v":""},"",{"$f":"IF(AT$7=$F283,$H283,\"\")","v":""},"",{"$f":"IF(AV$7=$F283,$H283,\"\")","v":""},"",{"$f":"IF(AX$7=$F283,$H283,\"\")","v":""},"",{"$f":"IF(AZ$7=$F283,$H283,\"\")","v":""},"",{"$f":"IF(BB$7=$F283,$H283,\"\")","v":""},"",{"$f":"IF(BD$7=$F283,$H283,\"\")","v":""},"",{"$f":"IF(BF$7=$F283,$H283,\"\")","v":""},"",{"$f":"IF(BH$7=$F283,$H283,\"\")","v":""},"",{"$f":"IF(BJ$7=$F283,$H283,\"\")","v":""},"",{"$f":"IF(BL$7=$F283,$H283,\"\")","v":""},"",{"$f":"IF(BN$7=$F283,$H283,\"\")","v":""},"",{"$f":"IF(BP$7=$F283,$H283,\"\")","v":""},"",{"$f":"IF(BR$7=$F283,$H283,\"\")","v":""},"",{"$f":"IF(BT$7=$F283,$H283,\"\")","v":""},"",{"$f":"IF(BV$7=$F283,$H283,\"\")","v":""},"",{"$f":"IF(BX$7=$F283,$H283,\"\")","v":""},"",{"$f":"IF(BZ$7=$F283,$H283,\"\")","v":""},"",{"$f":"IF(CB$7=$F283,$H283,\"\")","v":""},"",{"$f":"IF(CD$7=$F283,$H283,\"\")","v":""},"",{"$f":"IF(CF$7=$F283,$H283,\"\")","v":""},"",{"$f":"IF(CH$7=$F283,$H283,\"\")","v":""},"",{"$f":"IF(CJ$7=$F283,$H283,\"\")","v":""},"",{"$f":"IF(CL$7=$F283,$H283,\"\")","v":""},"",{"$f":"IF(CN$7=$F283,$H283,\"\")","v":""},"",{"$f":"IF(CP$7=$F283,$H283,\"\")","v":""},"",{"$f":"IF(CR$7=$F283,$H283,\"\")","v":""},"",{"$f":"IF(CT$7=$F283,$H283,\"\")","v":""},"",{"$f":"IF(CV$7=$F283,$H283,\"\")","v":""},"",{"$f":"IF(CX$7=$F283,$H283,\"\")","v":""},"",{"$f":"IF(CZ$7=$F283,$H283,\"\")","v":""},"",{"$f":"IF(DB$7=$F283,$H283,\"\")","v":""},"",{"$f":"IF(DD$7=$F283,$H283,\"\")","v":""},"",{"$f":"IF(DF$7=$F283,$H283,\"\")","v":""},0,{"$f":"IF(DH$7=$F283,$H283,\"\")","v":0},0,{"$f":"IF(DJ$7=$F283,$H283,\"\")","v":0},0,{"$f":"IF(DL$7=$F283,$H283,\"\")","v":0},0,{"$f":"IF(DN$7=$F283,$H283,\"\")","v":0},0,{"$f":"IF(DP$7=$F283,$H283,\"\")","v":0},0,{"$f":"IF(DR$7=$F283,$H283,\"\")","v":0},0,{"$f":"IF(DT$7=$F283,$H283,\"\")","v":0},0,{"$f":"IF(DV$7=$F283,$H283,\"\")","v":0},0,{"$f":"IF(DX$7=$F283,$H283,\"\")","v":0},0,{"$f":"IF(DZ$7=$F283,$H283,\"\")","v":0},0,{"$f":"IF(EB$7=$F283,$H283,\"\")","v":0},0,{"$f":"IF(ED$7=$F283,$H283,\"\")","v":0},0,{"$f":"IF(EF$7=$F283,$H283,\"\")","v":0},0,{"$f":"IF(EH$7=$F283,$H283,\"\")","v":0},0,{"$f":"IF(EJ$7=$F283,$H283,\"\")","v":0},0,{"$f":"IF(EL$7=$F283,$H283,\"\")","v":0},0,{"$f":"IF(EN$7=$F283,$H283,\"\")","v":0},0,{"$f":"IF(EP$7=$F283,$H283,\"\")","v":0},0,{"$f":"IF(ER$7=$F283,$H283,\"\")","v":0},0,{"$f":"IF(ET$7=$F283,$H283,\"\")","v":0},0,{"$f":"IF(EV$7=$F283,$H283,\"\")","v":0},0,{"$f":"IF(EX$7=$F283,$H283,\"\")","v":0},0,{"$f":"IF(EZ$7=$F283,$H283,\"\")","v":0},0,{"$f":"IF(FB$7=$F283,$H283,\"\")","v":0},0,{"$f":"IF(FD$7=$F283,$H283,\"\")","v":0},0,{"$f":"IF(FF$7=$F283,$H283,\"\")","v":0},0,{"$f":"IF(FH$7=$F283,$H283,\"\")","v":0},0,{"$f":"IF(FJ$7=$F283,$H283,\"\")","v":0},0,{"$f":"IF(FL$7=$F283,$H283,\"\")","v":0},0,0]
[276,null,null,null,null,null,null,null,true,0,0,"","","",{"$f":"IF(N$7=$F284,$H284,\"\")","v":""},"",{"$f":"IF(P$7=$F284,$H284,\"\")","v":""},"",{"$f":"IF(R$7=$F284,$H284,\"\")","v":""},"",{"$f":"IF(T$7=$F284,$H284,\"\")","v":""},"",{"$f":"IF(V$7=$F284,$H284,\"\")","v":""},"",{"$f":"IF(X$7=$F284,$H284,\"\")","v":""},"",{"$f":"IF(Z$7=$F284,$H284,\"\")","v":""},"",{"$f":"IF(AB$7=$F284,$H284,\"\")","v":""},"",{"$f":"IF(AD$7=$F284,$H284,\"\")","v":""},"",{"$f":"IF(AF$7=$F284,$H284,\"\")","v":""},"",{"$f":"IF(AH$7=$F284,$H284,\"\")","v":""},"",{"$f":"IF(AJ$7=$F284,$H284,\"\")","v":""},"",{"$f":"IF(AL$7=$F284,$H284,\"\")","v":""},"",{"$f":"IF(AN$7=$F284,$H284,\"\")","v":""},"",{"$f":"IF(AP$7=$F284,$H284,\"\")","v":""},"",{"$f":"IF(AR$7=$F284,$H284,\"\")","v":""},"",{"$f":"IF(AT$7=$F284,$H284,\"\")","v":""},"",{"$f":"IF(AV$7=$F284,$H284,\"\")","v":""},"",{"$f":"IF(AX$7=$F284,$H284,\"\")","v":""},"",{"$f":"IF(AZ$7=$F284,$H284,\"\")","v":""},"",{"$f":"IF(BB$7=$F284,$H284,\"\")","v":""},"",{"$f":"IF(BD$7=$F284,$H284,\"\")","v":""},"",{"$f":"IF(BF$7=$F284,$H284,\"\")","v":""},"",{"$f":"IF(BH$7=$F284,$H284,\"\")","v":""},"",{"$f":"IF(BJ$7=$F284,$H284,\"\")","v":""},"",{"$f":"IF(BL$7=$F284,$H284,\"\")","v":""},"",{"$f":"IF(BN$7=$F284,$H284,\"\")","v":""},"",{"$f":"IF(BP$7=$F284,$H284,\"\")","v":""},"",{"$f":"IF(BR$7=$F284,$H284,\"\")","v":""},"",{"$f":"IF(BT$7=$F284,$H284,\"\")","v":""},"",{"$f":"IF(BV$7=$F284,$H284,\"\")","v":""},"",{"$f":"IF(BX$7=$F284,$H284,\"\")","v":""},"",{"$f":"IF(BZ$7=$F284,$H284,\"\")","v":""},"",{"$f":"IF(CB$7=$F284,$H284,\"\")","v":""},"",{"$f":"IF(CD$7=$F284,$H284,\"\")","v":""},"",{"$f":"IF(CF$7=$F284,$H284,\"\")","v":""},"",{"$f":"IF(CH$7=$F284,$H284,\"\")","v":""},"",{"$f":"IF(CJ$7=$F284,$H284,\"\")","v":""},"",{"$f":"IF(CL$7=$F284,$H284,\"\")","v":""},"",{"$f":"IF(CN$7=$F284,$H284,\"\")","v":""},"",{"$f":"IF(CP$7=$F284,$H284,\"\")","v":""},"",{"$f":"IF(CR$7=$F284,$H284,\"\")","v":""},"",{"$f":"IF(CT$7=$F284,$H284,\"\")","v":""},"",{"$f":"IF(CV$7=$F284,$H284,\"\")","v":""},"",{"$f":"IF(CX$7=$F284,$H284,\"\")","v":""},"",{"$f":"IF(CZ$7=$F284,$H284,\"\")","v":""},"",{"$f":"IF(DB$7=$F284,$H284,\"\")","v":""},"",{"$f":"IF(DD$7=$F284,$H284,\"\")","v":""},"",{"$f":"IF(DF$7=$F284,$H284,\"\")","v":""},0,{"$f":"IF(DH$7=$F284,$H284,\"\")","v":0},0,{"$f":"IF(DJ$7=$F284,$H284,\"\")","v":0},0,{"$f":"IF(DL$7=$F284,$H284,\"\")","v":0},0,{"$f":"IF(DN$7=$F284,$H284,\"\")","v":0},0,{"$f":"IF(DP$7=$F284,$H284,\"\")","v":0},0,{"$f":"IF(DR$7=$F284,$H284,\"\")","v":0},0,{"$f":"IF(DT$7=$F284,$H284,\"\")","v":0},0,{"$f":"IF(DV$7=$F284,$H284,\"\")","v":0},0,{"$f":"IF(DX$7=$F284,$H284,\"\")","v":0},0,{"$f":"IF(DZ$7=$F284,$H284,\"\")","v":0},0,{"$f":"IF(EB$7=$F284,$H284,\"\")","v":0},0,{"$f":"IF(ED$7=$F284,$H284,\"\")","v":0},0,{"$f":"IF(EF$7=$F284,$H284,\"\")","v":0},0,{"$f":"IF(EH$7=$F284,$H284,\"\")","v":0},0,{"$f":"IF(EJ$7=$F284,$H284,\"\")","v":0},0,{"$f":"IF(EL$7=$F284,$H284,\"\")","v":0},0,{"$f":"IF(EN$7=$F284,$H284,\"\")","v":0},0,{"$f":"IF(EP$7=$F284,$H284,\"\")","v":0},0,{"$f":"IF(ER$7=$F284,$H284,\"\")","v":0},0,{"$f":"IF(ET$7=$F284,$H284,\"\")","v":0},0,{"$f":"IF(EV$7=$F284,$H284,\"\")","v":0},0,{"$f":"IF(EX$7=$F284,$H284,\"\")","v":0},0,{"$f":"IF(EZ$7=$F284,$H284,\"\")","v":0},0,{"$f":"IF(FB$7=$F284,$H284,\"\")","v":0},0,{"$f":"IF(FD$7=$F284,$H284,\"\")","v":0},0,{"$f":"IF(FF$7=$F284,$H284,\"\")","v":0},0,{"$f":"IF(FH$7=$F284,$H284,\"\")","v":0},0,{"$f":"IF(FJ$7=$F284,$H284,\"\")","v":0},0,{"$f":"IF(FL$7=$F284,$H284,\"\")","v":0},0,0]
[277,null,null,null,null,null,null,null,true,0,0,"","","",{"$f":"IF(N$7=$F285,$H285,\"\")","v":""},"",{"$f":"IF(P$7=$F285,$H285,\"\")","v":""},"",{"$f":"IF(R$7=$F285,$H285,\"\")","v":""},"",{"$f":"IF(T$7=$F285,$H285,\"\")","v":""},"",{"$f":"IF(V$7=$F285,$H285,\"\")","v":""},"",{"$f":"IF(X$7=$F285,$H285,\"\")","v":""},"",{"$f":"IF(Z$7=$F285,$H285,\"\")","v":""},"",{"$f":"IF(AB$7=$F285,$H285,\"\")","v":""},"",{"$f":"IF(AD$7=$F285,$H285,\"\")","v":""},"",{"$f":"IF(AF$7=$F285,$H285,\"\")","v":""},"",{"$f":"IF(AH$7=$F285,$H285,\"\")","v":""},"",{"$f":"IF(AJ$7=$F285,$H285,\"\")","v":""},"",{"$f":"IF(AL$7=$F285,$H285,\"\")","v":""},"",{"$f":"IF(AN$7=$F285,$H285,\"\")","v":""},"",{"$f":"IF(AP$7=$F285,$H285,\"\")","v":""},"",{"$f":"IF(AR$7=$F285,$H285,\"\")","v":""},"",{"$f":"IF(AT$7=$F285,$H285,\"\")","v":""},"",{"$f":"IF(AV$7=$F285,$H285,\"\")","v":""},"",{"$f":"IF(AX$7=$F285,$H285,\"\")","v":""},"",{"$f":"IF(AZ$7=$F285,$H285,\"\")","v":""},"",{"$f":"IF(BB$7=$F285,$H285,\"\")","v":""},"",{"$f":"IF(BD$7=$F285,$H285,\"\")","v":""},"",{"$f":"IF(BF$7=$F285,$H285,\"\")","v":""},"",{"$f":"IF(BH$7=$F285,$H285,\"\")","v":""},"",{"$f":"IF(BJ$7=$F285,$H285,\"\")","v":""},"",{"$f":"IF(BL$7=$F285,$H285,\"\")","v":""},"",{"$f":"IF(BN$7=$F285,$H285,\"\")","v":""},"",{"$f":"IF(BP$7=$F285,$H285,\"\")","v":""},"",{"$f":"IF(BR$7=$F285,$H285,\"\")","v":""},"",{"$f":"IF(BT$7=$F285,$H285,\"\")","v":""},"",{"$f":"IF(BV$7=$F285,$H285,\"\")","v":""},"",{"$f":"IF(BX$7=$F285,$H285,\"\")","v":""},"",{"$f":"IF(BZ$7=$F285,$H285,\"\")","v":""},"",{"$f":"IF(CB$7=$F285,$H285,\"\")","v":""},"",{"$f":"IF(CD$7=$F285,$H285,\"\")","v":""},"",{"$f":"IF(CF$7=$F285,$H285,\"\")","v":""},"",{"$f":"IF(CH$7=$F285,$H285,\"\")","v":""},"",{"$f":"IF(CJ$7=$F285,$H285,\"\")","v":""},"",{"$f":"IF(CL$7=$F285,$H285,\"\")","v":""},"",{"$f":"IF(CN$7=$F285,$H285,\"\")","v":""},"",{"$f":"IF(CP$7=$F285,$H285,\"\")","v":""},"",{"$f":"IF(CR$7=$F285,$H285,\"\")","v":""},"",{"$f":"IF(CT$7=$F285,$H285,\"\")","v":""},"",{"$f":"IF(CV$7=$F285,$H285,\"\")","v":""},"",{"$f":"IF(CX$7=$F285,$H285,\"\")","v":""},"",{"$f":"IF(CZ$7=$F285,$H285,\"\")","v":""},"",{"$f":"IF(DB$7=$F285,$H285,\"\")","v":""},"",{"$f":"IF(DD$7=$F285,$H285,\"\")","v":""},"",{"$f":"IF(DF$7=$F285,$H285,\"\")","v":""},0,{"$f":"IF(DH$7=$F285,$H285,\"\")","v":0},0,{"$f":"IF(DJ$7=$F285,$H285,\"\")","v":0},0,{"$f":"IF(DL$7=$F285,$H285,\"\")","v":0},0,{"$f":"IF(DN$7=$F285,$H285,\"\")","v":0},0,{"$f":"IF(DP$7=$F285,$H285,\"\")","v":0},0,{"$f":"IF(DR$7=$F285,$H285,\"\")","v":0},0,{"$f":"IF(DT$7=$F285,$H285,\"\")","v":0},0,{"$f":"IF(DV$7=$F285,$H285,\"\")","v":0},0,{"$f":"IF(DX$7=$F285,$H285,\"\")","v":0},0,{"$f":"IF(DZ$7=$F285,$H285,\"\")","v":0},0,{"$f":"IF(EB$7=$F285,$H285,\"\")","v":0},0,{"$f":"IF(ED$7=$F285,$H285,\"\")","v":0},0,{"$f":"IF(EF$7=$F285,$H285,\"\")","v":0},0,{"$f":"IF(EH$7=$F285,$H285,\"\")","v":0},0,{"$f":"IF(EJ$7=$F285,$H285,\"\")","v":0},0,{"$f":"IF(EL$7=$F285,$H285,\"\")","v":0},0,{"$f":"IF(EN$7=$F285,$H285,\"\")","v":0},0,{"$f":"IF(EP$7=$F285,$H285,\"\")","v":0},0,{"$f":"IF(ER$7=$F285,$H285,\"\")","v":0},0,{"$f":"IF(ET$7=$F285,$H285,\"\")","v":0},0,{"$f":"IF(EV$7=$F285,$H285,\"\")","v":0},0,{"$f":"IF(EX$7=$F285,$H285,\"\")","v":0},0,{"$f":"IF(EZ$7=$F285,$H285,\"\")","v":0},0,{"$f":"IF(FB$7=$F285,$H285,\"\")","v":0},0,{"$f":"IF(FD$7=$F285,$H285,\"\")","v":0},0,{"$f":"IF(FF$7=$F285,$H285,\"\")","v":0},0,{"$f":"IF(FH$7=$F285,$H285,\"\")","v":0},0,{"$f":"IF(FJ$7=$F285,$H285,\"\")","v":0},0,{"$f":"IF(FL$7=$F285,$H285,\"\")","v":0},0,0]
[278,null,null,null,null,null,null,null,true,0,0,"","","",{"$f":"IF(N$7=$F286,$H286,\"\")","v":""},"",{"$f":"IF(P$7=$F286,$H286,\"\")","v":""},"",{"$f":"IF(R$7=$F286,$H286,\"\")","v":""},"",{"$f":"IF(T$7=$F286,$H286,\"\")","v":""},"",{"$f":"IF(V$7=$F286,$H286,\"\")","v":""},"",{"$f":"IF(X$7=$F286,$H286,\"\")","v":""},"",{"$f":"IF(Z$7=$F286,$H286,\"\")","v":""},"",{"$f":"IF(AB$7=$F286,$H286,\"\")","v":""},"",{"$f":"IF(AD$7=$F286,$H286,\"\")","v":""},"",{"$f":"IF(AF$7=$F286,$H286,\"\")","v":""},"",{"$f":"IF(AH$7=$F286,$H286,\"\")","v":""},"",{"$f":"IF(AJ$7=$F286,$H286,\"\")","v":""},"",{"$f":"IF(AL$7=$F286,$H286,\"\")","v":""},"",{"$f":"IF(AN$7=$F286,$H286,\"\")","v":""},"",{"$f":"IF(AP$7=$F286,$H286,\"\")","v":""},"",{"$f":"IF(AR$7=$F286,$H286,\"\")","v":""},"",{"$f":"IF(AT$7=$F286,$H286,\"\")","v":""},"",{"$f":"IF(AV$7=$F286,$H286,\"\")","v":""},"",{"$f":"IF(AX$7=$F286,$H286,\"\")","v":""},"",{"$f":"IF(AZ$7=$F286,$H286,\"\")","v":""},"",{"$f":"IF(BB$7=$F286,$H286,\"\")","v":""},"",{"$f":"IF(BD$7=$F286,$H286,\"\")","v":""},"",{"$f":"IF(BF$7=$F286,$H286,\"\")","v":""},"",{"$f":"IF(BH$7=$F286,$H286,\"\")","v":""},"",{"$f":"IF(BJ$7=$F286,$H286,\"\")","v":""},"",{"$f":"IF(BL$7=$F286,$H286,\"\")","v":""},"",{"$f":"IF(BN$7=$F286,$H286,\"\")","v":""},"",{"$f":"IF(BP$7=$F286,$H286,\"\")","v":""},"",{"$f":"IF(BR$7=$F286,$H286,\"\")","v":""},"",{"$f":"IF(BT$7=$F286,$H286,\"\")","v":""},"",{"$f":"IF(BV$7=$F286,$H286,\"\")","v":""},"",{"$f":"IF(BX$7=$F286,$H286,\"\")","v":""},"",{"$f":"IF(BZ$7=$F286,$H286,\"\")","v":""},"",{"$f":"IF(CB$7=$F286,$H286,\"\")","v":""},"",{"$f":"IF(CD$7=$F286,$H286,\"\")","v":""},"",{"$f":"IF(CF$7=$F286,$H286,\"\")","v":""},"",{"$f":"IF(CH$7=$F286,$H286,\"\")","v":""},"",{"$f":"IF(CJ$7=$F286,$H286,\"\")","v":""},"",{"$f":"IF(CL$7=$F286,$H286,\"\")","v":""},"",{"$f":"IF(CN$7=$F286,$H286,\"\")","v":""},"",{"$f":"IF(CP$7=$F286,$H286,\"\")","v":""},"",{"$f":"IF(CR$7=$F286,$H286,\"\")","v":""},"",{"$f":"IF(CT$7=$F286,$H286,\"\")","v":""},"",{"$f":"IF(CV$7=$F286,$H286,\"\")","v":""},"",{"$f":"IF(CX$7=$F286,$H286,\"\")","v":""},"",{"$f":"IF(CZ$7=$F286,$H286,\"\")","v":""},"",{"$f":"IF(DB$7=$F286,$H286,\"\")","v":""},"",{"$f":"IF(DD$7=$F286,$H286,\"\")","v":""},"",{"$f":"IF(DF$7=$F286,$H286,\"\")","v":""},0,{"$f":"IF(DH$7=$F286,$H286,\"\")","v":0},0,{"$f":"IF(DJ$7=$F286,$H286,\"\")","v":0},0,{"$f":"IF(DL$7=$F286,$H286,\"\")","v":0},0,{"$f":"IF(DN$7=$F286,$H286,\"\")","v":0},0,{"$f":"IF(DP$7=$F286,$H286,\"\")","v":0},0,{"$f":"IF(DR$7=$F286,$H286,\"\")","v":0},0,{"$f":"IF(DT$7=$F286,$H286,\"\")","v":0},0,{"$f":"IF(DV$7=$F286,$H286,\"\")","v":0},0,{"$f":"IF(DX$7=$F286,$H286,\"\")","v":0},0,{"$f":"IF(DZ$7=$F286,$H286,\"\")","v":0},0,{"$f":"IF(EB$7=$F286,$H286,\"\")","v":0},0,{"$f":"IF(ED$7=$F286,$H286,\"\")","v":0},0,{"$f":"IF(EF$7=$F286,$H286,\"\")","v":0},0,{"$f":"IF(EH$7=$F286,$H286,\"\")","v":0},0,{"$f":"IF(EJ$7=$F286,$H286,\"\")","v":0},0,{"$f":"IF(EL$7=$F286,$H286,\"\")","v":0},0,{"$f":"IF(EN$7=$F286,$H286,\"\")","v":0},0,{"$f":"IF(EP$7=$F286,$H286,\"\")","v":0},0,{"$f":"IF(ER$7=$F286,$H286,\"\")","v":0},0,{"$f":"IF(ET$7=$F286,$H286,\"\")","v":0},0,{"$f":"IF(EV$7=$F286,$H286,\"\")","v":0},0,{"$f":"IF(EX$7=$F286,$H286,\"\")","v":0},0,{"$f":"IF(EZ$7=$F286,$H286,\"\")","v":0},0,{"$f":"IF(FB$7=$F286,$H286,\"\")","v":0},0,{"$f":"IF(FD$7=$F286,$H286,\"\")","v":0},0,{"$f":"IF(FF$7=$F286,$H286,\"\")","v":0},0,{"$f":"IF(FH$7=$F286,$H286,\"\")","v":0},0,{"$f":"IF(FJ$7=$F286,$H286,\"\")","v":0},0,{"$f":"IF(FL$7=$F286,$H286,\"\")","v":0},0,0]
[279,null,null,null,null,null,null,null,true,0,0,"","","",{"$f":"IF(N$7=$F287,$H287,\"\")","v":""},"",{"$f":"IF(P$7=$F287,$H287,\"\")","v":""},"",{"$f":"IF(R$7=$F287,$H287,\"\")","v":""},"",{"$f":"IF(T$7=$F287,$H287,\"\")","v":""},"",{"$f":"IF(V$7=$F287,$H287,\"\")","v":""},"",{"$f":"IF(X$7=$F287,$H287,\"\")","v":""},"",{"$f":"IF(Z$7=$F287,$H287,\"\")","v":""},"",{"$f":"IF(AB$7=$F287,$H287,\"\")","v":""},"",{"$f":"IF(AD$7=$F287,$H287,\"\")","v":""},"",{"$f":"IF(AF$7=$F287,$H287,\"\")","v":""},"",{"$f":"IF(AH$7=$F287,$H287,\"\")","v":""},"",{"$f":"IF(AJ$7=$F287,$H287,\"\")","v":""},"",{"$f":"IF(AL$7=$F287,$H287,\"\")","v":""},"",{"$f":"IF(AN$7=$F287,$H287,\"\")","v":""},"",{"$f":"IF(AP$7=$F287,$H287,\"\")","v":""},"",{"$f":"IF(AR$7=$F287,$H287,\"\")","v":""},"",{"$f":"IF(AT$7=$F287,$H287,\"\")","v":""},"",{"$f":"IF(AV$7=$F287,$H287,\"\")","v":""},"",{"$f":"IF(AX$7=$F287,$H287,\"\")","v":""},"",{"$f":"IF(AZ$7=$F287,$H287,\"\")","v":""},"",{"$f":"IF(BB$7=$F287,$H287,\"\")","v":""},"",{"$f":"IF(BD$7=$F287,$H287,\"\")","v":""},"",{"$f":"IF(BF$7=$F287,$H287,\"\")","v":""},"",{"$f":"IF(BH$7=$F287,$H287,\"\")","v":""},"",{"$f":"IF(BJ$7=$F287,$H287,\"\")","v":""},"",{"$f":"IF(BL$7=$F287,$H287,\"\")","v":""},"",{"$f":"IF(BN$7=$F287,$H287,\"\")","v":""},"",{"$f":"IF(BP$7=$F287,$H287,\"\")","v":""},"",{"$f":"IF(BR$7=$F287,$H287,\"\")","v":""},"",{"$f":"IF(BT$7=$F287,$H287,\"\")","v":""},"",{"$f":"IF(BV$7=$F287,$H287,\"\")","v":""},"",{"$f":"IF(BX$7=$F287,$H287,\"\")","v":""},"",{"$f":"IF(BZ$7=$F287,$H287,\"\")","v":""},"",{"$f":"IF(CB$7=$F287,$H287,\"\")","v":""},"",{"$f":"IF(CD$7=$F287,$H287,\"\")","v":""},"",{"$f":"IF(CF$7=$F287,$H287,\"\")","v":""},"",{"$f":"IF(CH$7=$F287,$H287,\"\")","v":""},"",{"$f":"IF(CJ$7=$F287,$H287,\"\")","v":""},"",{"$f":"IF(CL$7=$F287,$H287,\"\")","v":""},"",{"$f":"IF(CN$7=$F287,$H287,\"\")","v":""},"",{"$f":"IF(CP$7=$F287,$H287,\"\")","v":""},"",{"$f":"IF(CR$7=$F287,$H287,\"\")","v":""},"",{"$f":"IF(CT$7=$F287,$H287,\"\")","v":""},"",{"$f":"IF(CV$7=$F287,$H287,\"\")","v":""},"",{"$f":"IF(CX$7=$F287,$H287,\"\")","v":""},"",{"$f":"IF(CZ$7=$F287,$H287,\"\")","v":""},"",{"$f":"IF(DB$7=$F287,$H287,\"\")","v":""},"",{"$f":"IF(DD$7=$F287,$H287,\"\")","v":""},"",{"$f":"IF(DF$7=$F287,$H287,\"\")","v":""},0,{"$f":"IF(DH$7=$F287,$H287,\"\")","v":0},0,{"$f":"IF(DJ$7=$F287,$H287,\"\")","v":0},0,{"$f":"IF(DL$7=$F287,$H287,\"\")","v":0},0,{"$f":"IF(DN$7=$F287,$H287,\"\")","v":0},0,{"$f":"IF(DP$7=$F287,$H287,\"\")","v":0},0,{"$f":"IF(DR$7=$F287,$H287,\"\")","v":0},0,{"$f":"IF(DT$7=$F287,$H287,\"\")","v":0},0,{"$f":"IF(DV$7=$F287,$H287,\"\")","v":0},0,{"$f":"IF(DX$7=$F287,$H287,\"\")","v":0},0,{"$f":"IF(DZ$7=$F287,$H287,\"\")","v":0},0,{"$f":"IF(EB$7=$F287,$H287,\"\")","v":0},0,{"$f":"IF(ED$7=$F287,$H287,\"\")","v":0},0,{"$f":"IF(EF$7=$F287,$H287,\"\")","v":0},0,{"$f":"IF(EH$7=$F287,$H287,\"\")","v":0},0,{"$f":"IF(EJ$7=$F287,$H287,\"\")","v":0},0,{"$f":"IF(EL$7=$F287,$H287,\"\")","v":0},0,{"$f":"IF(EN$7=$F287,$H287,\"\")","v":0},0,{"$f":"IF(EP$7=$F287,$H287,\"\")","v":0},0,{"$f":"IF(ER$7=$F287,$H287,\"\")","v":0},0,{"$f":"IF(ET$7=$F287,$H287,\"\")","v":0},0,{"$f":"IF(EV$7=$F287,$H287,\"\")","v":0},0,{"$f":"IF(EX$7=$F287,$H287,\"\")","v":0},0,{"$f":"IF(EZ$7=$F287,$H287,\"\")","v":0},0,{"$f":"IF(FB$7=$F287,$H287,\"\")","v":0},0,{"$f":"IF(FD$7=$F287,$H287,\"\")","v":0},0,{"$f":"IF(FF$7=$F287,$H287,\"\")","v":0},0,{"$f":"IF(FH$7=$F287,$H287,\"\")","v":0},0,{"$f":"IF(FJ$7=$F287,$H287,\"\")","v":0},0,{"$f":"IF(FL$7=$F287,$H287,\"\")","v":0},0,0]
[280,null,null,null,null,null,null,null,true,0,0,"","","",{"$f":"IF(N$7=$F288,$H288,\"\")","v":""},"",{"$f":"IF(P$7=$F288,$H288,\"\")","v":""},"",{"$f":"IF(R$7=$F288,$H288,\"\")","v":""},"",{"$f":"IF(T$7=$F288,$H288,\"\")","v":""},"",{"$f":"IF(V$7=$F288,$H288,\"\")","v":""},"",{"$f":"IF(X$7=$F288,$H288,\"\")","v":""},"",{"$f":"IF(Z$7=$F288,$H288,\"\")","v":""},"",{"$f":"IF(AB$7=$F288,$H288,\"\")","v":""},"",{"$f":"IF(AD$7=$F288,$H288,\"\")","v":""},"",{"$f":"IF(AF$7=$F288,$H288,\"\")","v":""},"",{"$f":"IF(AH$7=$F288,$H288,\"\")","v":""},"",{"$f":"IF(AJ$7=$F288,$H288,\"\")","v":""},"",{"$f":"IF(AL$7=$F288,$H288,\"\")","v":""},"",{"$f":"IF(AN$7=$F288,$H288,\"\")","v":""},"",{"$f":"IF(AP$7=$F288,$H288,\"\")","v":""},"",{"$f":"IF(AR$7=$F288,$H288,\"\")","v":""},"",{"$f":"IF(AT$7=$F288,$H288,\"\")","v":""},"",{"$f":"IF(AV$7=$F288,$H288,\"\")","v":""},"",{"$f":"IF(AX$7=$F288,$H288,\"\")","v":""},"",{"$f":"IF(AZ$7=$F288,$H288,\"\")","v":""},"",{"$f":"IF(BB$7=$F288,$H288,\"\")","v":""},"",{"$f":"IF(BD$7=$F288,$H288,\"\")","v":""},"",{"$f":"IF(BF$7=$F288,$H288,\"\")","v":""},"",{"$f":"IF(BH$7=$F288,$H288,\"\")","v":""},"",{"$f":"IF(BJ$7=$F288,$H288,\"\")","v":""},"",{"$f":"IF(BL$7=$F288,$H288,\"\")","v":""},"",{"$f":"IF(BN$7=$F288,$H288,\"\")","v":""},"",{"$f":"IF(BP$7=$F288,$H288,\"\")","v":""},"",{"$f":"IF(BR$7=$F288,$H288,\"\")","v":""},"",{"$f":"IF(BT$7=$F288,$H288,\"\")","v":""},"",{"$f":"IF(BV$7=$F288,$H288,\"\")","v":""},"",{"$f":"IF(BX$7=$F288,$H288,\"\")","v":""},"",{"$f":"IF(BZ$7=$F288,$H288,\"\")","v":""},"",{"$f":"IF(CB$7=$F288,$H288,\"\")","v":""},"",{"$f":"IF(CD$7=$F288,$H288,\"\")","v":""},"",{"$f":"IF(CF$7=$F288,$H288,\"\")","v":""},"",{"$f":"IF(CH$7=$F288,$H288,\"\")","v":""},"",{"$f":"IF(CJ$7=$F288,$H288,\"\")","v":""},"",{"$f":"IF(CL$7=$F288,$H288,\"\")","v":""},"",{"$f":"IF(CN$7=$F288,$H288,\"\")","v":""},"",{"$f":"IF(CP$7=$F288,$H288,\"\")","v":""},"",{"$f":"IF(CR$7=$F288,$H288,\"\")","v":""},"",{"$f":"IF(CT$7=$F288,$H288,\"\")","v":""},"",{"$f":"IF(CV$7=$F288,$H288,\"\")","v":""},"",{"$f":"IF(CX$7=$F288,$H288,\"\")","v":""},"",{"$f":"IF(CZ$7=$F288,$H288,\"\")","v":""},"",{"$f":"IF(DB$7=$F288,$H288,\"\")","v":""},"",{"$f":"IF(DD$7=$F288,$H288,\"\")","v":""},"",{"$f":"IF(DF$7=$F288,$H288,\"\")","v":""},0,{"$f":"IF(DH$7=$F288,$H288,\"\")","v":0},0,{"$f":"IF(DJ$7=$F288,$H288,\"\")","v":0},0,{"$f":"IF(DL$7=$F288,$H288,\"\")","v":0},0,{"$f":"IF(DN$7=$F288,$H288,\"\")","v":0},0,{"$f":"IF(DP$7=$F288,$H288,\"\")","v":0},0,{"$f":"IF(DR$7=$F288,$H288,\"\")","v":0},0,{"$f":"IF(DT$7=$F288,$H288,\"\")","v":0},0,{"$f":"IF(DV$7=$F288,$H288,\"\")","v":0},0,{"$f":"IF(DX$7=$F288,$H288,\"\")","v":0},0,{"$f":"IF(DZ$7=$F288,$H288,\"\")","v":0},0,{"$f":"IF(EB$7=$F288,$H288,\"\")","v":0},0,{"$f":"IF(ED$7=$F288,$H288,\"\")","v":0},0,{"$f":"IF(EF$7=$F288,$H288,\"\")","v":0},0,{"$f":"IF(EH$7=$F288,$H288,\"\")","v":0},0,{"$f":"IF(EJ$7=$F288,$H288,\"\")","v":0},0,{"$f":"IF(EL$7=$F288,$H288,\"\")","v":0},0,{"$f":"IF(EN$7=$F288,$H288,\"\")","v":0},0,{"$f":"IF(EP$7=$F288,$H288,\"\")","v":0},0,{"$f":"IF(ER$7=$F288,$H288,\"\")","v":0},0,{"$f":"IF(ET$7=$F288,$H288,\"\")","v":0},0,{"$f":"IF(EV$7=$F288,$H288,\"\")","v":0},0,{"$f":"IF(EX$7=$F288,$H288,\"\")","v":0},0,{"$f":"IF(EZ$7=$F288,$H288,\"\")","v":0},0,{"$f":"IF(FB$7=$F288,$H288,\"\")","v":0},0,{"$f":"IF(FD$7=$F288,$H288,\"\")","v":0},0,{"$f":"IF(FF$7=$F288,$H288,\"\")","v":0},0,{"$f":"IF(FH$7=$F288,$H288,\"\")","v":0},0,{"$f":"IF(FJ$7=$F288,$H288,\"\")","v":0},0,{"$f":"IF(FL$7=$F288,$H288,\"\")","v":0},0,0]
[281,null,null,null,null,null,null,null,true,0,0,"","","",{"$f":"IF(N$7=$F289,$H289,\"\")","v":""},"",{"$f":"IF(P$7=$F289,$H289,\"\")","v":""},"",{"$f":"IF(R$7=$F289,$H289,\"\")","v":""},"",{"$f":"IF(T$7=$F289,$H289,\"\")","v":""},"",{"$f":"IF(V$7=$F289,$H289,\"\")","v":""},"",{"$f":"IF(X$7=$F289,$H289,\"\")","v":""},"",{"$f":"IF(Z$7=$F289,$H289,\"\")","v":""},"",{"$f":"IF(AB$7=$F289,$H289,\"\")","v":""},"",{"$f":"IF(AD$7=$F289,$H289,\"\")","v":""},"",{"$f":"IF(AF$7=$F289,$H289,\"\")","v":""},"",{"$f":"IF(AH$7=$F289,$H289,\"\")","v":""},"",{"$f":"IF(AJ$7=$F289,$H289,\"\")","v":""},"",{"$f":"IF(AL$7=$F289,$H289,\"\")","v":""},"",{"$f":"IF(AN$7=$F289,$H289,\"\")","v":""},"",{"$f":"IF(AP$7=$F289,$H289,\"\")","v":""},"",{"$f":"IF(AR$7=$F289,$H289,\"\")","v":""},"",{"$f":"IF(AT$7=$F289,$H289,\"\")","v":""},"",{"$f":"IF(AV$7=$F289,$H289,\"\")","v":""},"",{"$f":"IF(AX$7=$F289,$H289,\"\")","v":""},"",{"$f":"IF(AZ$7=$F289,$H289,\"\")","v":""},"",{"$f":"IF(BB$7=$F289,$H289,\"\")","v":""},"",{"$f":"IF(BD$7=$F289,$H289,\"\")","v":""},"",{"$f":"IF(BF$7=$F289,$H289,\"\")","v":""},"",{"$f":"IF(BH$7=$F289,$H289,\"\")","v":""},"",{"$f":"IF(BJ$7=$F289,$H289,\"\")","v":""},"",{"$f":"IF(BL$7=$F289,$H289,\"\")","v":""},"",{"$f":"IF(BN$7=$F289,$H289,\"\")","v":""},"",{"$f":"IF(BP$7=$F289,$H289,\"\")","v":""},"",{"$f":"IF(BR$7=$F289,$H289,\"\")","v":""},"",{"$f":"IF(BT$7=$F289,$H289,\"\")","v":""},"",{"$f":"IF(BV$7=$F289,$H289,\"\")","v":""},"",{"$f":"IF(BX$7=$F289,$H289,\"\")","v":""},"",{"$f":"IF(BZ$7=$F289,$H289,\"\")","v":""},"",{"$f":"IF(CB$7=$F289,$H289,\"\")","v":""},"",{"$f":"IF(CD$7=$F289,$H289,\"\")","v":""},"",{"$f":"IF(CF$7=$F289,$H289,\"\")","v":""},"",{"$f":"IF(CH$7=$F289,$H289,\"\")","v":""},"",{"$f":"IF(CJ$7=$F289,$H289,\"\")","v":""},"",{"$f":"IF(CL$7=$F289,$H289,\"\")","v":""},"",{"$f":"IF(CN$7=$F289,$H289,\"\")","v":""},"",{"$f":"IF(CP$7=$F289,$H289,\"\")","v":""},"",{"$f":"IF(CR$7=$F289,$H289,\"\")","v":""},"",{"$f":"IF(CT$7=$F289,$H289,\"\")","v":""},"",{"$f":"IF(CV$7=$F289,$H289,\"\")","v":""},"",{"$f":"IF(CX$7=$F289,$H289,\"\")","v":""},"",{"$f":"IF(CZ$7=$F289,$H289,\"\")","v":""},"",{"$f":"IF(DB$7=$F289,$H289,\"\")","v":""},"",{"$f":"IF(DD$7=$F289,$H289,\"\")","v":""},"",{"$f":"IF(DF$7=$F289,$H289,\"\")","v":""},0,{"$f":"IF(DH$7=$F289,$H289,\"\")","v":0},0,{"$f":"IF(DJ$7=$F289,$H289,\"\")","v":0},0,{"$f":"IF(DL$7=$F289,$H289,\"\")","v":0},0,{"$f":"IF(DN$7=$F289,$H289,\"\")","v":0},0,{"$f":"IF(DP$7=$F289,$H289,\"\")","v":0},0,{"$f":"IF(DR$7=$F289,$H289,\"\")","v":0},0,{"$f":"IF(DT$7=$F289,$H289,\"\")","v":0},0,{"$f":"IF(DV$7=$F289,$H289,\"\")","v":0},0,{"$f":"IF(DX$7=$F289,$H289,\"\")","v":0},0,{"$f":"IF(DZ$7=$F289,$H289,\"\")","v":0},0,{"$f":"IF(EB$7=$F289,$H289,\"\")","v":0},0,{"$f":"IF(ED$7=$F289,$H289,\"\")","v":0},0,{"$f":"IF(EF$7=$F289,$H289,\"\")","v":0},0,{"$f":"IF(EH$7=$F289,$H289,\"\")","v":0},0,{"$f":"IF(EJ$7=$F289,$H289,\"\")","v":0},0,{"$f":"IF(EL$7=$F289,$H289,\"\")","v":0},0,{"$f":"IF(EN$7=$F289,$H289,\"\")","v":0},0,{"$f":"IF(EP$7=$F289,$H289,\"\")","v":0},0,{"$f":"IF(ER$7=$F289,$H289,\"\")","v":0},0,{"$f":"IF(ET$7=$F289,$H289,\"\")","v":0},0,{"$f":"IF(EV$7=$F289,$H289,\"\")","v":0},0,{"$f":"IF(EX$7=$F289,$H289,\"\")","v":0},0,{"$f":"IF(EZ$7=$F289,$H289,\"\")","v":0},0,{"$f":"IF(FB$7=$F289,$H289,\"\")","v":0},0,{"$f":"IF(FD$7=$F289,$H289,\"\")","v":0},0,{"$f":"IF(FF$7=$F289,$H289,\"\")","v":0},0,{"$f":"IF(FH$7=$F289,$H289,\"\")","v":0},0,{"$f":"IF(FJ$7=$F289,$H289,\"\")","v":0},0,{"$f":"IF(FL$7=$F289,$H289,\"\")","v":0},0,0]
[282,null,null,null,null,null,null,null,true,0,0,"","","",{"$f":"IF(N$7=$F290,$H290,\"\")","v":""},"",{"$f":"IF(P$7=$F290,$H290,\"\")","v":""},"",{"$f":"IF(R$7=$F290,$H290,\"\")","v":""},"",{"$f":"IF(T$7=$F290,$H290,\"\")","v":""},"",{"$f":"IF(V$7=$F290,$H290,\"\")","v":""},"",{"$f":"IF(X$7=$F290,$H290,\"\")","v":""},"",{"$f":"IF(Z$7=$F290,$H290,\"\")","v":""},"",{"$f":"IF(AB$7=$F290,$H290,\"\")","v":""},"",{"$f":"IF(AD$7=$F290,$H290,\"\")","v":""},"",{"$f":"IF(AF$7=$F290,$H290,\"\")","v":""},"",{"$f":"IF(AH$7=$F290,$H290,\"\")","v":""},"",{"$f":"IF(AJ$7=$F290,$H290,\"\")","v":""},"",{"$f":"IF(AL$7=$F290,$H290,\"\")","v":""},"",{"$f":"IF(AN$7=$F290,$H290,\"\")","v":""},"",{"$f":"IF(AP$7=$F290,$H290,\"\")","v":""},"",{"$f":"IF(AR$7=$F290,$H290,\"\")","v":""},"",{"$f":"IF(AT$7=$F290,$H290,\"\")","v":""},"",{"$f":"IF(AV$7=$F290,$H290,\"\")","v":""},"",{"$f":"IF(AX$7=$F290,$H290,\"\")","v":""},"",{"$f":"IF(AZ$7=$F290,$H290,\"\")","v":""},"",{"$f":"IF(BB$7=$F290,$H290,\"\")","v":""},"",{"$f":"IF(BD$7=$F290,$H290,\"\")","v":""},"",{"$f":"IF(BF$7=$F290,$H290,\"\")","v":""},"",{"$f":"IF(BH$7=$F290,$H290,\"\")","v":""},"",{"$f":"IF(BJ$7=$F290,$H290,\"\")","v":""},"",{"$f":"IF(BL$7=$F290,$H290,\"\")","v":""},"",{"$f":"IF(BN$7=$F290,$H290,\"\")","v":""},"",{"$f":"IF(BP$7=$F290,$H290,\"\")","v":""},"",{"$f":"IF(BR$7=$F290,$H290,\"\")","v":""},"",{"$f":"IF(BT$7=$F290,$H290,\"\")","v":""},"",{"$f":"IF(BV$7=$F290,$H290,\"\")","v":""},"",{"$f":"IF(BX$7=$F290,$H290,\"\")","v":""},"",{"$f":"IF(BZ$7=$F290,$H290,\"\")","v":""},"",{"$f":"IF(CB$7=$F290,$H290,\"\")","v":""},"",{"$f":"IF(CD$7=$F290,$H290,\"\")","v":""},"",{"$f":"IF(CF$7=$F290,$H290,\"\")","v":""},"",{"$f":"IF(CH$7=$F290,$H290,\"\")","v":""},"",{"$f":"IF(CJ$7=$F290,$H290,\"\")","v":""},"",{"$f":"IF(CL$7=$F290,$H290,\"\")","v":""},"",{"$f":"IF(CN$7=$F290,$H290,\"\")","v":""},"",{"$f":"IF(CP$7=$F290,$H290,\"\")","v":""},"",{"$f":"IF(CR$7=$F290,$H290,\"\")","v":""},"",{"$f":"IF(CT$7=$F290,$H290,\"\")","v":""},"",{"$f":"IF(CV$7=$F290,$H290,\"\")","v":""},"",{"$f":"IF(CX$7=$F290,$H290,\"\")","v":""},"",{"$f":"IF(CZ$7=$F290,$H290,\"\")","v":""},"",{"$f":"IF(DB$7=$F290,$H290,\"\")","v":""},"",{"$f":"IF(DD$7=$F290,$H290,\"\")","v":""},"",{"$f":"IF(DF$7=$F290,$H290,\"\")","v":""},0,{"$f":"IF(DH$7=$F290,$H290,\"\")","v":0},0,{"$f":"IF(DJ$7=$F290,$H290,\"\")","v":0},0,{"$f":"IF(DL$7=$F290,$H290,\"\")","v":0},0,{"$f":"IF(DN$7=$F290,$H290,\"\")","v":0},0,{"$f":"IF(DP$7=$F290,$H290,\"\")","v":0},0,{"$f":"IF(DR$7=$F290,$H290,\"\")","v":0},0,{"$f":"IF(DT$7=$F290,$H290,\"\")","v":0},0,{"$f":"IF(DV$7=$F290,$H290,\"\")","v":0},0,{"$f":"IF(DX$7=$F290,$H290,\"\")","v":0},0,{"$f":"IF(DZ$7=$F290,$H290,\"\")","v":0},0,{"$f":"IF(EB$7=$F290,$H290,\"\")","v":0},0,{"$f":"IF(ED$7=$F290,$H290,\"\")","v":0},0,{"$f":"IF(EF$7=$F290,$H290,\"\")","v":0},0,{"$f":"IF(EH$7=$F290,$H290,\"\")","v":0},0,{"$f":"IF(EJ$7=$F290,$H290,\"\")","v":0},0,{"$f":"IF(EL$7=$F290,$H290,\"\")","v":0},0,{"$f":"IF(EN$7=$F290,$H290,\"\")","v":0},0,{"$f":"IF(EP$7=$F290,$H290,\"\")","v":0},0,{"$f":"IF(ER$7=$F290,$H290,\"\")","v":0},0,{"$f":"IF(ET$7=$F290,$H290,\"\")","v":0},0,{"$f":"IF(EV$7=$F290,$H290,\"\")","v":0},0,{"$f":"IF(EX$7=$F290,$H290,\"\")","v":0},0,{"$f":"IF(EZ$7=$F290,$H290,\"\")","v":0},0,{"$f":"IF(FB$7=$F290,$H290,\"\")","v":0},0,{"$f":"IF(FD$7=$F290,$H290,\"\")","v":0},0,{"$f":"IF(FF$7=$F290,$H290,\"\")","v":0},0,{"$f":"IF(FH$7=$F290,$H290,\"\")","v":0},0,{"$f":"IF(FJ$7=$F290,$H290,\"\")","v":0},0,{"$f":"IF(FL$7=$F290,$H290,\"\")","v":0},0,0]
[283,null,null,null,null,null,null,null,true,0,0,"","","",{"$f":"IF(N$7=$F291,$H291,\"\")","v":""},"",{"$f":"IF(P$7=$F291,$H291,\"\")","v":""},"",{"$f":"IF(R$7=$F291,$H291,\"\")","v":""},"",{"$f":"IF(T$7=$F291,$H291,\"\")","v":""},"",{"$f":"IF(V$7=$F291,$H291,\"\")","v":""},"",{"$f":"IF(X$7=$F291,$H291,\"\")","v":""},"",{"$f":"IF(Z$7=$F291,$H291,\"\")","v":""},"",{"$f":"IF(AB$7=$F291,$H291,\"\")","v":""},"",{"$f":"IF(AD$7=$F291,$H291,\"\")","v":""},"",{"$f":"IF(AF$7=$F291,$H291,\"\")","v":""},"",{"$f":"IF(AH$7=$F291,$H291,\"\")","v":""},"",{"$f":"IF(AJ$7=$F291,$H291,\"\")","v":""},"",{"$f":"IF(AL$7=$F291,$H291,\"\")","v":""},"",{"$f":"IF(AN$7=$F291,$H291,\"\")","v":""},"",{"$f":"IF(AP$7=$F291,$H291,\"\")","v":""},"",{"$f":"IF(AR$7=$F291,$H291,\"\")","v":""},"",{"$f":"IF(AT$7=$F291,$H291,\"\")","v":""},"",{"$f":"IF(AV$7=$F291,$H291,\"\")","v":""},"",{"$f":"IF(AX$7=$F291,$H291,\"\")","v":""},"",{"$f":"IF(AZ$7=$F291,$H291,\"\")","v":""},"",{"$f":"IF(BB$7=$F291,$H291,\"\")","v":""},"",{"$f":"IF(BD$7=$F291,$H291,\"\")","v":""},"",{"$f":"IF(BF$7=$F291,$H291,\"\")","v":""},"",{"$f":"IF(BH$7=$F291,$H291,\"\")","v":""},"",{"$f":"IF(BJ$7=$F291,$H291,\"\")","v":""},"",{"$f":"IF(BL$7=$F291,$H291,\"\")","v":""},"",{"$f":"IF(BN$7=$F291,$H291,\"\")","v":""},"",{"$f":"IF(BP$7=$F291,$H291,\"\")","v":""},"",{"$f":"IF(BR$7=$F291,$H291,\"\")","v":""},"",{"$f":"IF(BT$7=$F291,$H291,\"\")","v":""},"",{"$f":"IF(BV$7=$F291,$H291,\"\")","v":""},"",{"$f":"IF(BX$7=$F291,$H291,\"\")","v":""},"",{"$f":"IF(BZ$7=$F291,$H291,\"\")","v":""},"",{"$f":"IF(CB$7=$F291,$H291,\"\")","v":""},"",{"$f":"IF(CD$7=$F291,$H291,\"\")","v":""},"",{"$f":"IF(CF$7=$F291,$H291,\"\")","v":""},"",{"$f":"IF(CH$7=$F291,$H291,\"\")","v":""},"",{"$f":"IF(CJ$7=$F291,$H291,\"\")","v":""},"",{"$f":"IF(CL$7=$F291,$H291,\"\")","v":""},"",{"$f":"IF(CN$7=$F291,$H291,\"\")","v":""},"",{"$f":"IF(CP$7=$F291,$H291,\"\")","v":""},"",{"$f":"IF(CR$7=$F291,$H291,\"\")","v":""},"",{"$f":"IF(CT$7=$F291,$H291,\"\")","v":""},"",{"$f":"IF(CV$7=$F291,$H291,\"\")","v":""},"",{"$f":"IF(CX$7=$F291,$H291,\"\")","v":""},"",{"$f":"IF(CZ$7=$F291,$H291,\"\")","v":""},"",{"$f":"IF(DB$7=$F291,$H291,\"\")","v":""},"",{"$f":"IF(DD$7=$F291,$H291,\"\")","v":""},"",{"$f":"IF(DF$7=$F291,$H291,\"\")","v":""},0,{"$f":"IF(DH$7=$F291,$H291,\"\")","v":0},0,{"$f":"IF(DJ$7=$F291,$H291,\"\")","v":0},0,{"$f":"IF(DL$7=$F291,$H291,\"\")","v":0},0,{"$f":"IF(DN$7=$F291,$H291,\"\")","v":0},0,{"$f":"IF(DP$7=$F291,$H291,\"\")","v":0},0,{"$f":"IF(DR$7=$F291,$H291,\"\")","v":0},0,{"$f":"IF(DT$7=$F291,$H291,\"\")","v":0},0,{"$f":"IF(DV$7=$F291,$H291,\"\")","v":0},0,{"$f":"IF(DX$7=$F291,$H291,\"\")","v":0},0,{"$f":"IF(DZ$7=$F291,$H291,\"\")","v":0},0,{"$f":"IF(EB$7=$F291,$H291,\"\")","v":0},0,{"$f":"IF(ED$7=$F291,$H291,\"\")","v":0},0,{"$f":"IF(EF$7=$F291,$H291,\"\")","v":0},0,{"$f":"IF(EH$7=$F291,$H291,\"\")","v":0},0,{"$f":"IF(EJ$7=$F291,$H291,\"\")","v":0},0,{"$f":"IF(EL$7=$F291,$H291,\"\")","v":0},0,{"$f":"IF(EN$7=$F291,$H291,\"\")","v":0},0,{"$f":"IF(EP$7=$F291,$H291,\"\")","v":0},0,{"$f":"IF(ER$7=$F291,$H291,\"\")","v":0},0,{"$f":"IF(ET$7=$F291,$H291,\"\")","v":0},0,{"$f":"IF(EV$7=$F291,$H291,\"\")","v":0},0,{"$f":"IF(EX$7=$F291,$H291,\"\")","v":0},0,{"$f":"IF(EZ$7=$F291,$H291,\"\")","v":0},0,{"$f":"IF(FB$7=$F291,$H291,\"\")","v":0},0,{"$f":"IF(FD$7=$F291,$H291,\"\")","v":0},0,{"$f":"IF(FF$7=$F291,$H291,\"\")","v":0},0,{"$f":"IF(FH$7=$F291,$H291,\"\")","v":0},0,{"$f":"IF(FJ$7=$F291,$H291,\"\")","v":0},0,{"$f":"IF(FL$7=$F291,$H291,\"\")","v":0},0,0]
[284,null,null,null,null,null,null,null,true,0,0,"","","",{"$f":"IF(N$7=$F292,$H292,\"\")","v":""},"",{"$f":"IF(P$7=$F292,$H292,\"\")","v":""},"",{"$f":"IF(R$7=$F292,$H292,\"\")","v":""},"",{"$f":"IF(T$7=$F292,$H292,\"\")","v":""},"",{"$f":"IF(V$7=$F292,$H292,\"\")","v":""},"",{"$f":"IF(X$7=$F292,$H292,\"\")","v":""},"",{"$f":"IF(Z$7=$F292,$H292,\"\")","v":""},"",{"$f":"IF(AB$7=$F292,$H292,\"\")","v":""},"",{"$f":"IF(AD$7=$F292,$H292,\"\")","v":""},"",{"$f":"IF(AF$7=$F292,$H292,\"\")","v":""},"",{"$f":"IF(AH$7=$F292,$H292,\"\")","v":""},"",{"$f":"IF(AJ$7=$F292,$H292,\"\")","v":""},"",{"$f":"IF(AL$7=$F292,$H292,\"\")","v":""},"",{"$f":"IF(AN$7=$F292,$H292,\"\")","v":""},"",{"$f":"IF(AP$7=$F292,$H292,\"\")","v":""},"",{"$f":"IF(AR$7=$F292,$H292,\"\")","v":""},"",{"$f":"IF(AT$7=$F292,$H292,\"\")","v":""},"",{"$f":"IF(AV$7=$F292,$H292,\"\")","v":""},"",{"$f":"IF(AX$7=$F292,$H292,\"\")","v":""},"",{"$f":"IF(AZ$7=$F292,$H292,\"\")","v":""},"",{"$f":"IF(BB$7=$F292,$H292,\"\")","v":""},"",{"$f":"IF(BD$7=$F292,$H292,\"\")","v":""},"",{"$f":"IF(BF$7=$F292,$H292,\"\")","v":""},"",{"$f":"IF(BH$7=$F292,$H292,\"\")","v":""},"",{"$f":"IF(BJ$7=$F292,$H292,\"\")","v":""},"",{"$f":"IF(BL$7=$F292,$H292,\"\")","v":""},"",{"$f":"IF(BN$7=$F292,$H292,\"\")","v":""},"",{"$f":"IF(BP$7=$F292,$H292,\"\")","v":""},"",{"$f":"IF(BR$7=$F292,$H292,\"\")","v":""},"",{"$f":"IF(BT$7=$F292,$H292,\"\")","v":""},"",{"$f":"IF(BV$7=$F292,$H292,\"\")","v":""},"",{"$f":"IF(BX$7=$F292,$H292,\"\")","v":""},"",{"$f":"IF(BZ$7=$F292,$H292,\"\")","v":""},"",{"$f":"IF(CB$7=$F292,$H292,\"\")","v":""},"",{"$f":"IF(CD$7=$F292,$H292,\"\")","v":""},"",{"$f":"IF(CF$7=$F292,$H292,\"\")","v":""},"",{"$f":"IF(CH$7=$F292,$H292,\"\")","v":""},"",{"$f":"IF(CJ$7=$F292,$H292,\"\")","v":""},"",{"$f":"IF(CL$7=$F292,$H292,\"\")","v":""},"",{"$f":"IF(CN$7=$F292,$H292,\"\")","v":""},"",{"$f":"IF(CP$7=$F292,$H292,\"\")","v":""},"",{"$f":"IF(CR$7=$F292,$H292,\"\")","v":""},"",{"$f":"IF(CT$7=$F292,$H292,\"\")","v":""},"",{"$f":"IF(CV$7=$F292,$H292,\"\")","v":""},"",{"$f":"IF(CX$7=$F292,$H292,\"\")","v":""},"",{"$f":"IF(CZ$7=$F292,$H292,\"\")","v":""},"",{"$f":"IF(DB$7=$F292,$H292,\"\")","v":""},"",{"$f":"IF(DD$7=$F292,$H292,\"\")","v":""},"",{"$f":"IF(DF$7=$F292,$H292,\"\")","v":""},0,{"$f":"IF(DH$7=$F292,$H292,\"\")","v":0},0,{"$f":"IF(DJ$7=$F292,$H292,\"\")","v":0},0,{"$f":"IF(DL$7=$F292,$H292,\"\")","v":0},0,{"$f":"IF(DN$7=$F292,$H292,\"\")","v":0},0,{"$f":"IF(DP$7=$F292,$H292,\"\")","v":0},0,{"$f":"IF(DR$7=$F292,$H292,\"\")","v":0},0,{"$f":"IF(DT$7=$F292,$H292,\"\")","v":0},0,{"$f":"IF(DV$7=$F292,$H292,\"\")","v":0},0,{"$f":"IF(DX$7=$F292,$H292,\"\")","v":0},0,{"$f":"IF(DZ$7=$F292,$H292,\"\")","v":0},0,{"$f":"IF(EB$7=$F292,$H292,\"\")","v":0},0,{"$f":"IF(ED$7=$F292,$H292,\"\")","v":0},0,{"$f":"IF(EF$7=$F292,$H292,\"\")","v":0},0,{"$f":"IF(EH$7=$F292,$H292,\"\")","v":0},0,{"$f":"IF(EJ$7=$F292,$H292,\"\")","v":0},0,{"$f":"IF(EL$7=$F292,$H292,\"\")","v":0},0,{"$f":"IF(EN$7=$F292,$H292,\"\")","v":0},0,{"$f":"IF(EP$7=$F292,$H292,\"\")","v":0},0,{"$f":"IF(ER$7=$F292,$H292,\"\")","v":0},0,{"$f":"IF(ET$7=$F292,$H292,\"\")","v":0},0,{"$f":"IF(EV$7=$F292,$H292,\"\")","v":0},0,{"$f":"IF(EX$7=$F292,$H292,\"\")","v":0},0,{"$f":"IF(EZ$7=$F292,$H292,\"\")","v":0},0,{"$f":"IF(FB$7=$F292,$H292,\"\")","v":0},0,{"$f":"IF(FD$7=$F292,$H292,\"\")","v":0},0,{"$f":"IF(FF$7=$F292,$H292,\"\")","v":0},0,{"$f":"IF(FH$7=$F292,$H292,\"\")","v":0},0,{"$f":"IF(FJ$7=$F292,$H292,\"\")","v":0},0,{"$f":"IF(FL$7=$F292,$H292,\"\")","v":0},0,0]
[285,null,null,null,null,null,null,null,true,0,0,"","","",{"$f":"IF(N$7=$F293,$H293,\"\")","v":""},"",{"$f":"IF(P$7=$F293,$H293,\"\")","v":""},"",{"$f":"IF(R$7=$F293,$H293,\"\")","v":""},"",{"$f":"IF(T$7=$F293,$H293,\"\")","v":""},"",{"$f":"IF(V$7=$F293,$H293,\"\")","v":""},"",{"$f":"IF(X$7=$F293,$H293,\"\")","v":""},"",{"$f":"IF(Z$7=$F293,$H293,\"\")","v":""},"",{"$f":"IF(AB$7=$F293,$H293,\"\")","v":""},"",{"$f":"IF(AD$7=$F293,$H293,\"\")","v":""},"",{"$f":"IF(AF$7=$F293,$H293,\"\")","v":""},"",{"$f":"IF(AH$7=$F293,$H293,\"\")","v":""},"",{"$f":"IF(AJ$7=$F293,$H293,\"\")","v":""},"",{"$f":"IF(AL$7=$F293,$H293,\"\")","v":""},"",{"$f":"IF(AN$7=$F293,$H293,\"\")","v":""},"",{"$f":"IF(AP$7=$F293,$H293,\"\")","v":""},"",{"$f":"IF(AR$7=$F293,$H293,\"\")","v":""},"",{"$f":"IF(AT$7=$F293,$H293,\"\")","v":""},"",{"$f":"IF(AV$7=$F293,$H293,\"\")","v":""},"",{"$f":"IF(AX$7=$F293,$H293,\"\")","v":""},"",{"$f":"IF(AZ$7=$F293,$H293,\"\")","v":""},"",{"$f":"IF(BB$7=$F293,$H293,\"\")","v":""},"",{"$f":"IF(BD$7=$F293,$H293,\"\")","v":""},"",{"$f":"IF(BF$7=$F293,$H293,\"\")","v":""},"",{"$f":"IF(BH$7=$F293,$H293,\"\")","v":""},"",{"$f":"IF(BJ$7=$F293,$H293,\"\")","v":""},"",{"$f":"IF(BL$7=$F293,$H293,\"\")","v":""},"",{"$f":"IF(BN$7=$F293,$H293,\"\")","v":""},"",{"$f":"IF(BP$7=$F293,$H293,\"\")","v":""},"",{"$f":"IF(BR$7=$F293,$H293,\"\")","v":""},"",{"$f":"IF(BT$7=$F293,$H293,\"\")","v":""},"",{"$f":"IF(BV$7=$F293,$H293,\"\")","v":""},"",{"$f":"IF(BX$7=$F293,$H293,\"\")","v":""},"",{"$f":"IF(BZ$7=$F293,$H293,\"\")","v":""},"",{"$f":"IF(CB$7=$F293,$H293,\"\")","v":""},"",{"$f":"IF(CD$7=$F293,$H293,\"\")","v":""},"",{"$f":"IF(CF$7=$F293,$H293,\"\")","v":""},"",{"$f":"IF(CH$7=$F293,$H293,\"\")","v":""},"",{"$f":"IF(CJ$7=$F293,$H293,\"\")","v":""},"",{"$f":"IF(CL$7=$F293,$H293,\"\")","v":""},"",{"$f":"IF(CN$7=$F293,$H293,\"\")","v":""},"",{"$f":"IF(CP$7=$F293,$H293,\"\")","v":""},"",{"$f":"IF(CR$7=$F293,$H293,\"\")","v":""},"",{"$f":"IF(CT$7=$F293,$H293,\"\")","v":""},"",{"$f":"IF(CV$7=$F293,$H293,\"\")","v":""},"",{"$f":"IF(CX$7=$F293,$H293,\"\")","v":""},"",{"$f":"IF(CZ$7=$F293,$H293,\"\")","v":""},"",{"$f":"IF(DB$7=$F293,$H293,\"\")","v":""},"",{"$f":"IF(DD$7=$F293,$H293,\"\")","v":""},"",{"$f":"IF(DF$7=$F293,$H293,\"\")","v":""},0,{"$f":"IF(DH$7=$F293,$H293,\"\")","v":0},0,{"$f":"IF(DJ$7=$F293,$H293,\"\")","v":0},0,{"$f":"IF(DL$7=$F293,$H293,\"\")","v":0},0,{"$f":"IF(DN$7=$F293,$H293,\"\")","v":0},0,{"$f":"IF(DP$7=$F293,$H293,\"\")","v":0},0,{"$f":"IF(DR$7=$F293,$H293,\"\")","v":0},0,{"$f":"IF(DT$7=$F293,$H293,\"\")","v":0},0,{"$f":"IF(DV$7=$F293,$H293,\"\")","v":0},0,{"$f":"IF(DX$7=$F293,$H293,\"\")","v":0},0,{"$f":"IF(DZ$7=$F293,$H293,\"\")","v":0},0,{"$f":"IF(EB$7=$F293,$H293,\"\")","v":0},0,{"$f":"IF(ED$7=$F293,$H293,\"\")","v":0},0,{"$f":"IF(EF$7=$F293,$H293,\"\")","v":0},0,{"$f":"IF(EH$7=$F293,$H293,\"\")","v":0},0,{"$f":"IF(EJ$7=$F293,$H293,\"\")","v":0},0,{"$f":"IF(EL$7=$F293,$H293,\"\")","v":0},0,{"$f":"IF(EN$7=$F293,$H293,\"\")","v":0},0,{"$f":"IF(EP$7=$F293,$H293,\"\")","v":0},0,{"$f":"IF(ER$7=$F293,$H293,\"\")","v":0},0,{"$f":"IF(ET$7=$F293,$H293,\"\")","v":0},0,{"$f":"IF(EV$7=$F293,$H293,\"\")","v":0},0,{"$f":"IF(EX$7=$F293,$H293,\"\")","v":0},0,{"$f":"IF(EZ$7=$F293,$H293,\"\")","v":0},0,{"$f":"IF(FB$7=$F293,$H293,\"\")","v":0},0,{"$f":"IF(FD$7=$F293,$H293,\"\")","v":0},0,{"$f":"IF(FF$7=$F293,$H293,\"\")","v":0},0,{"$f":"IF(FH$7=$F293,$H293,\"\")","v":0},0,{"$f":"IF(FJ$7=$F293,$H293,\"\")","v":0},0,{"$f":"IF(FL$7=$F293,$H293,\"\")","v":0},0,0]
[286,null,null,null,null,null,null,null,true,0,0,"","","",{"$f":"IF(N$7=$F294,$H294,\"\")","v":""},"",{"$f":"IF(P$7=$F294,$H294,\"\")","v":""},"",{"$f":"IF(R$7=$F294,$H294,\"\")","v":""},"",{"$f":"IF(T$7=$F294,$H294,\"\")","v":""},"",{"$f":"IF(V$7=$F294,$H294,\"\")","v":""},"",{"$f":"IF(X$7=$F294,$H294,\"\")","v":""},"",{"$f":"IF(Z$7=$F294,$H294,\"\")","v":""},"",{"$f":"IF(AB$7=$F294,$H294,\"\")","v":""},"",{"$f":"IF(AD$7=$F294,$H294,\"\")","v":""},"",{"$f":"IF(AF$7=$F294,$H294,\"\")","v":""},"",{"$f":"IF(AH$7=$F294,$H294,\"\")","v":""},"",{"$f":"IF(AJ$7=$F294,$H294,\"\")","v":""},"",{"$f":"IF(AL$7=$F294,$H294,\"\")","v":""},"",{"$f":"IF(AN$7=$F294,$H294,\"\")","v":""},"",{"$f":"IF(AP$7=$F294,$H294,\"\")","v":""},"",{"$f":"IF(AR$7=$F294,$H294,\"\")","v":""},"",{"$f":"IF(AT$7=$F294,$H294,\"\")","v":""},"",{"$f":"IF(AV$7=$F294,$H294,\"\")","v":""},"",{"$f":"IF(AX$7=$F294,$H294,\"\")","v":""},"",{"$f":"IF(AZ$7=$F294,$H294,\"\")","v":""},"",{"$f":"IF(BB$7=$F294,$H294,\"\")","v":""},"",{"$f":"IF(BD$7=$F294,$H294,\"\")","v":""},"",{"$f":"IF(BF$7=$F294,$H294,\"\")","v":""},"",{"$f":"IF(BH$7=$F294,$H294,\"\")","v":""},"",{"$f":"IF(BJ$7=$F294,$H294,\"\")","v":""},"",{"$f":"IF(BL$7=$F294,$H294,\"\")","v":""},"",{"$f":"IF(BN$7=$F294,$H294,\"\")","v":""},"",{"$f":"IF(BP$7=$F294,$H294,\"\")","v":""},"",{"$f":"IF(BR$7=$F294,$H294,\"\")","v":""},"",{"$f":"IF(BT$7=$F294,$H294,\"\")","v":""},"",{"$f":"IF(BV$7=$F294,$H294,\"\")","v":""},"",{"$f":"IF(BX$7=$F294,$H294,\"\")","v":""},"",{"$f":"IF(BZ$7=$F294,$H294,\"\")","v":""},"",{"$f":"IF(CB$7=$F294,$H294,\"\")","v":""},"",{"$f":"IF(CD$7=$F294,$H294,\"\")","v":""},"",{"$f":"IF(CF$7=$F294,$H294,\"\")","v":""},"",{"$f":"IF(CH$7=$F294,$H294,\"\")","v":""},"",{"$f":"IF(CJ$7=$F294,$H294,\"\")","v":""},"",{"$f":"IF(CL$7=$F294,$H294,\"\")","v":""},"",{"$f":"IF(CN$7=$F294,$H294,\"\")","v":""},"",{"$f":"IF(CP$7=$F294,$H294,\"\")","v":""},"",{"$f":"IF(CR$7=$F294,$H294,\"\")","v":""},"",{"$f":"IF(CT$7=$F294,$H294,\"\")","v":""},"",{"$f":"IF(CV$7=$F294,$H294,\"\")","v":""},"",{"$f":"IF(CX$7=$F294,$H294,\"\")","v":""},"",{"$f":"IF(CZ$7=$F294,$H294,\"\")","v":""},"",{"$f":"IF(DB$7=$F294,$H294,\"\")","v":""},"",{"$f":"IF(DD$7=$F294,$H294,\"\")","v":""},"",{"$f":"IF(DF$7=$F294,$H294,\"\")","v":""},0,{"$f":"IF(DH$7=$F294,$H294,\"\")","v":0},0,{"$f":"IF(DJ$7=$F294,$H294,\"\")","v":0},0,{"$f":"IF(DL$7=$F294,$H294,\"\")","v":0},0,{"$f":"IF(DN$7=$F294,$H294,\"\")","v":0},0,{"$f":"IF(DP$7=$F294,$H294,\"\")","v":0},0,{"$f":"IF(DR$7=$F294,$H294,\"\")","v":0},0,{"$f":"IF(DT$7=$F294,$H294,\"\")","v":0},0,{"$f":"IF(DV$7=$F294,$H294,\"\")","v":0},0,{"$f":"IF(DX$7=$F294,$H294,\"\")","v":0},0,{"$f":"IF(DZ$7=$F294,$H294,\"\")","v":0},0,{"$f":"IF(EB$7=$F294,$H294,\"\")","v":0},0,{"$f":"IF(ED$7=$F294,$H294,\"\")","v":0},0,{"$f":"IF(EF$7=$F294,$H294,\"\")","v":0},0,{"$f":"IF(EH$7=$F294,$H294,\"\")","v":0},0,{"$f":"IF(EJ$7=$F294,$H294,\"\")","v":0},0,{"$f":"IF(EL$7=$F294,$H294,\"\")","v":0},0,{"$f":"IF(EN$7=$F294,$H294,\"\")","v":0},0,{"$f":"IF(EP$7=$F294,$H294,\"\")","v":0},0,{"$f":"IF(ER$7=$F294,$H294,\"\")","v":0},0,{"$f":"IF(ET$7=$F294,$H294,\"\")","v":0},0,{"$f":"IF(EV$7=$F294,$H294,\"\")","v":0},0,{"$f":"IF(EX$7=$F294,$H294,\"\")","v":0},0,{"$f":"IF(EZ$7=$F294,$H294,\"\")","v":0},0,{"$f":"IF(FB$7=$F294,$H294,\"\")","v":0},0,{"$f":"IF(FD$7=$F294,$H294,\"\")","v":0},0,{"$f":"IF(FF$7=$F294,$H294,\"\")","v":0},0,{"$f":"IF(FH$7=$F294,$H294,\"\")","v":0},0,{"$f":"IF(FJ$7=$F294,$H294,\"\")","v":0},0,{"$f":"IF(FL$7=$F294,$H294,\"\")","v":0},0,0]
[287,null,null,null,null,null,null,null,true,0,0,"","","",{"$f":"IF(N$7=$F295,$H295,\"\")","v":""},"",{"$f":"IF(P$7=$F295,$H295,\"\")","v":""},"",{"$f":"IF(R$7=$F295,$H295,\"\")","v":""},"",{"$f":"IF(T$7=$F295,$H295,\"\")","v":""},"",{"$f":"IF(V$7=$F295,$H295,\"\")","v":""},"",{"$f":"IF(X$7=$F295,$H295,\"\")","v":""},"",{"$f":"IF(Z$7=$F295,$H295,\"\")","v":""},"",{"$f":"IF(AB$7=$F295,$H295,\"\")","v":""},"",{"$f":"IF(AD$7=$F295,$H295,\"\")","v":""},"",{"$f":"IF(AF$7=$F295,$H295,\"\")","v":""},"",{"$f":"IF(AH$7=$F295,$H295,\"\")","v":""},"",{"$f":"IF(AJ$7=$F295,$H295,\"\")","v":""},"",{"$f":"IF(AL$7=$F295,$H295,\"\")","v":""},"",{"$f":"IF(AN$7=$F295,$H295,\"\")","v":""},"",{"$f":"IF(AP$7=$F295,$H295,\"\")","v":""},"",{"$f":"IF(AR$7=$F295,$H295,\"\")","v":""},"",{"$f":"IF(AT$7=$F295,$H295,\"\")","v":""},"",{"$f":"IF(AV$7=$F295,$H295,\"\")","v":""},"",{"$f":"IF(AX$7=$F295,$H295,\"\")","v":""},"",{"$f":"IF(AZ$7=$F295,$H295,\"\")","v":""},"",{"$f":"IF(BB$7=$F295,$H295,\"\")","v":""},"",{"$f":"IF(BD$7=$F295,$H295,\"\")","v":""},"",{"$f":"IF(BF$7=$F295,$H295,\"\")","v":""},"",{"$f":"IF(BH$7=$F295,$H295,\"\")","v":""},"",{"$f":"IF(BJ$7=$F295,$H295,\"\")","v":""},"",{"$f":"IF(BL$7=$F295,$H295,\"\")","v":""},"",{"$f":"IF(BN$7=$F295,$H295,\"\")","v":""},"",{"$f":"IF(BP$7=$F295,$H295,\"\")","v":""},"",{"$f":"IF(BR$7=$F295,$H295,\"\")","v":""},"",{"$f":"IF(BT$7=$F295,$H295,\"\")","v":""},"",{"$f":"IF(BV$7=$F295,$H295,\"\")","v":""},"",{"$f":"IF(BX$7=$F295,$H295,\"\")","v":""},"",{"$f":"IF(BZ$7=$F295,$H295,\"\")","v":""},"",{"$f":"IF(CB$7=$F295,$H295,\"\")","v":""},"",{"$f":"IF(CD$7=$F295,$H295,\"\")","v":""},"",{"$f":"IF(CF$7=$F295,$H295,\"\")","v":""},"",{"$f":"IF(CH$7=$F295,$H295,\"\")","v":""},"",{"$f":"IF(CJ$7=$F295,$H295,\"\")","v":""},"",{"$f":"IF(CL$7=$F295,$H295,\"\")","v":""},"",{"$f":"IF(CN$7=$F295,$H295,\"\")","v":""},"",{"$f":"IF(CP$7=$F295,$H295,\"\")","v":""},"",{"$f":"IF(CR$7=$F295,$H295,\"\")","v":""},"",{"$f":"IF(CT$7=$F295,$H295,\"\")","v":""},"",{"$f":"IF(CV$7=$F295,$H295,\"\")","v":""},"",{"$f":"IF(CX$7=$F295,$H295,\"\")","v":""},"",{"$f":"IF(CZ$7=$F295,$H295,\"\")","v":""},"",{"$f":"IF(DB$7=$F295,$H295,\"\")","v":""},"",{"$f":"IF(DD$7=$F295,$H295,\"\")","v":""},"",{"$f":"IF(DF$7=$F295,$H295,\"\")","v":""},0,{"$f":"IF(DH$7=$F295,$H295,\"\")","v":0},0,{"$f":"IF(DJ$7=$F295,$H295,\"\")","v":0},0,{"$f":"IF(DL$7=$F295,$H295,\"\")","v":0},0,{"$f":"IF(DN$7=$F295,$H295,\"\")","v":0},0,{"$f":"IF(DP$7=$F295,$H295,\"\")","v":0},0,{"$f":"IF(DR$7=$F295,$H295,\"\")","v":0},0,{"$f":"IF(DT$7=$F295,$H295,\"\")","v":0},0,{"$f":"IF(DV$7=$F295,$H295,\"\")","v":0},0,{"$f":"IF(DX$7=$F295,$H295,\"\")","v":0},0,{"$f":"IF(DZ$7=$F295,$H295,\"\")","v":0},0,{"$f":"IF(EB$7=$F295,$H295,\"\")","v":0},0,{"$f":"IF(ED$7=$F295,$H295,\"\")","v":0},0,{"$f":"IF(EF$7=$F295,$H295,\"\")","v":0},0,{"$f":"IF(EH$7=$F295,$H295,\"\")","v":0},0,{"$f":"IF(EJ$7=$F295,$H295,\"\")","v":0},0,{"$f":"IF(EL$7=$F295,$H295,\"\")","v":0},0,{"$f":"IF(EN$7=$F295,$H295,\"\")","v":0},0,{"$f":"IF(EP$7=$F295,$H295,\"\")","v":0},0,{"$f":"IF(ER$7=$F295,$H295,\"\")","v":0},0,{"$f":"IF(ET$7=$F295,$H295,\"\")","v":0},0,{"$f":"IF(EV$7=$F295,$H295,\"\")","v":0},0,{"$f":"IF(EX$7=$F295,$H295,\"\")","v":0},0,{"$f":"IF(EZ$7=$F295,$H295,\"\")","v":0},0,{"$f":"IF(FB$7=$F295,$H295,\"\")","v":0},0,{"$f":"IF(FD$7=$F295,$H295,\"\")","v":0},0,{"$f":"IF(FF$7=$F295,$H295,\"\")","v":0},0,{"$f":"IF(FH$7=$F295,$H295,\"\")","v":0},0,{"$f":"IF(FJ$7=$F295,$H295,\"\")","v":0},0,{"$f":"IF(FL$7=$F295,$H295,\"\")","v":0},0,0]
[288,null,null,null,null,null,null,null,true,0,0,"","","",{"$f":"IF(N$7=$F296,$H296,\"\")","v":""},"",{"$f":"IF(P$7=$F296,$H296,\"\")","v":""},"",{"$f":"IF(R$7=$F296,$H296,\"\")","v":""},"",{"$f":"IF(T$7=$F296,$H296,\"\")","v":""},"",{"$f":"IF(V$7=$F296,$H296,\"\")","v":""},"",{"$f":"IF(X$7=$F296,$H296,\"\")","v":""},"",{"$f":"IF(Z$7=$F296,$H296,\"\")","v":""},"",{"$f":"IF(AB$7=$F296,$H296,\"\")","v":""},"",{"$f":"IF(AD$7=$F296,$H296,\"\")","v":""},"",{"$f":"IF(AF$7=$F296,$H296,\"\")","v":""},"",{"$f":"IF(AH$7=$F296,$H296,\"\")","v":""},"",{"$f":"IF(AJ$7=$F296,$H296,\"\")","v":""},"",{"$f":"IF(AL$7=$F296,$H296,\"\")","v":""},"",{"$f":"IF(AN$7=$F296,$H296,\"\")","v":""},"",{"$f":"IF(AP$7=$F296,$H296,\"\")","v":""},"",{"$f":"IF(AR$7=$F296,$H296,\"\")","v":""},"",{"$f":"IF(AT$7=$F296,$H296,\"\")","v":""},"",{"$f":"IF(AV$7=$F296,$H296,\"\")","v":""},"",{"$f":"IF(AX$7=$F296,$H296,\"\")","v":""},"",{"$f":"IF(AZ$7=$F296,$H296,\"\")","v":""},"",{"$f":"IF(BB$7=$F296,$H296,\"\")","v":""},"",{"$f":"IF(BD$7=$F296,$H296,\"\")","v":""},"",{"$f":"IF(BF$7=$F296,$H296,\"\")","v":""},"",{"$f":"IF(BH$7=$F296,$H296,\"\")","v":""},"",{"$f":"IF(BJ$7=$F296,$H296,\"\")","v":""},"",{"$f":"IF(BL$7=$F296,$H296,\"\")","v":""},"",{"$f":"IF(BN$7=$F296,$H296,\"\")","v":""},"",{"$f":"IF(BP$7=$F296,$H296,\"\")","v":""},"",{"$f":"IF(BR$7=$F296,$H296,\"\")","v":""},"",{"$f":"IF(BT$7=$F296,$H296,\"\")","v":""},"",{"$f":"IF(BV$7=$F296,$H296,\"\")","v":""},"",{"$f":"IF(BX$7=$F296,$H296,\"\")","v":""},"",{"$f":"IF(BZ$7=$F296,$H296,\"\")","v":""},"",{"$f":"IF(CB$7=$F296,$H296,\"\")","v":""},"",{"$f":"IF(CD$7=$F296,$H296,\"\")","v":""},"",{"$f":"IF(CF$7=$F296,$H296,\"\")","v":""},"",{"$f":"IF(CH$7=$F296,$H296,\"\")","v":""},"",{"$f":"IF(CJ$7=$F296,$H296,\"\")","v":""},"",{"$f":"IF(CL$7=$F296,$H296,\"\")","v":""},"",{"$f":"IF(CN$7=$F296,$H296,\"\")","v":""},"",{"$f":"IF(CP$7=$F296,$H296,\"\")","v":""},"",{"$f":"IF(CR$7=$F296,$H296,\"\")","v":""},"",{"$f":"IF(CT$7=$F296,$H296,\"\")","v":""},"",{"$f":"IF(CV$7=$F296,$H296,\"\")","v":""},"",{"$f":"IF(CX$7=$F296,$H296,\"\")","v":""},"",{"$f":"IF(CZ$7=$F296,$H296,\"\")","v":""},"",{"$f":"IF(DB$7=$F296,$H296,\"\")","v":""},"",{"$f":"IF(DD$7=$F296,$H296,\"\")","v":""},"",{"$f":"IF(DF$7=$F296,$H296,\"\")","v":""},0,{"$f":"IF(DH$7=$F296,$H296,\"\")","v":0},0,{"$f":"IF(DJ$7=$F296,$H296,\"\")","v":0},0,{"$f":"IF(DL$7=$F296,$H296,\"\")","v":0},0,{"$f":"IF(DN$7=$F296,$H296,\"\")","v":0},0,{"$f":"IF(DP$7=$F296,$H296,\"\")","v":0},0,{"$f":"IF(DR$7=$F296,$H296,\"\")","v":0},0,{"$f":"IF(DT$7=$F296,$H296,\"\")","v":0},0,{"$f":"IF(DV$7=$F296,$H296,\"\")","v":0},0,{"$f":"IF(DX$7=$F296,$H296,\"\")","v":0},0,{"$f":"IF(DZ$7=$F296,$H296,\"\")","v":0},0,{"$f":"IF(EB$7=$F296,$H296,\"\")","v":0},0,{"$f":"IF(ED$7=$F296,$H296,\"\")","v":0},0,{"$f":"IF(EF$7=$F296,$H296,\"\")","v":0},0,{"$f":"IF(EH$7=$F296,$H296,\"\")","v":0},0,{"$f":"IF(EJ$7=$F296,$H296,\"\")","v":0},0,{"$f":"IF(EL$7=$F296,$H296,\"\")","v":0},0,{"$f":"IF(EN$7=$F296,$H296,\"\")","v":0},0,{"$f":"IF(EP$7=$F296,$H296,\"\")","v":0},0,{"$f":"IF(ER$7=$F296,$H296,\"\")","v":0},0,{"$f":"IF(ET$7=$F296,$H296,\"\")","v":0},0,{"$f":"IF(EV$7=$F296,$H296,\"\")","v":0},0,{"$f":"IF(EX$7=$F296,$H296,\"\")","v":0},0,{"$f":"IF(EZ$7=$F296,$H296,\"\")","v":0},0,{"$f":"IF(FB$7=$F296,$H296,\"\")","v":0},0,{"$f":"IF(FD$7=$F296,$H296,\"\")","v":0},0,{"$f":"IF(FF$7=$F296,$H296,\"\")","v":0},0,{"$f":"IF(FH$7=$F296,$H296,\"\")","v":0},0,{"$f":"IF(FJ$7=$F296,$H296,\"\")","v":0},0,{"$f":"IF(FL$7=$F296,$H296,\"\")","v":0},0,0]
[289,null,null,null,null,null,null,null,true,0,0,"","","",{"$f":"IF(N$7=$F297,$H297,\"\")","v":""},"",{"$f":"IF(P$7=$F297,$H297,\"\")","v":""},"",{"$f":"IF(R$7=$F297,$H297,\"\")","v":""},"",{"$f":"IF(T$7=$F297,$H297,\"\")","v":""},"",{"$f":"IF(V$7=$F297,$H297,\"\")","v":""},"",{"$f":"IF(X$7=$F297,$H297,\"\")","v":""},"",{"$f":"IF(Z$7=$F297,$H297,\"\")","v":""},"",{"$f":"IF(AB$7=$F297,$H297,\"\")","v":""},"",{"$f":"IF(AD$7=$F297,$H297,\"\")","v":""},"",{"$f":"IF(AF$7=$F297,$H297,\"\")","v":""},"",{"$f":"IF(AH$7=$F297,$H297,\"\")","v":""},"",{"$f":"IF(AJ$7=$F297,$H297,\"\")","v":""},"",{"$f":"IF(AL$7=$F297,$H297,\"\")","v":""},"",{"$f":"IF(AN$7=$F297,$H297,\"\")","v":""},"",{"$f":"IF(AP$7=$F297,$H297,\"\")","v":""},"",{"$f":"IF(AR$7=$F297,$H297,\"\")","v":""},"",{"$f":"IF(AT$7=$F297,$H297,\"\")","v":""},"",{"$f":"IF(AV$7=$F297,$H297,\"\")","v":""},"",{"$f":"IF(AX$7=$F297,$H297,\"\")","v":""},"",{"$f":"IF(AZ$7=$F297,$H297,\"\")","v":""},"",{"$f":"IF(BB$7=$F297,$H297,\"\")","v":""},"",{"$f":"IF(BD$7=$F297,$H297,\"\")","v":""},"",{"$f":"IF(BF$7=$F297,$H297,\"\")","v":""},"",{"$f":"IF(BH$7=$F297,$H297,\"\")","v":""},"",{"$f":"IF(BJ$7=$F297,$H297,\"\")","v":""},"",{"$f":"IF(BL$7=$F297,$H297,\"\")","v":""},"",{"$f":"IF(BN$7=$F297,$H297,\"\")","v":""},"",{"$f":"IF(BP$7=$F297,$H297,\"\")","v":""},"",{"$f":"IF(BR$7=$F297,$H297,\"\")","v":""},"",{"$f":"IF(BT$7=$F297,$H297,\"\")","v":""},"",{"$f":"IF(BV$7=$F297,$H297,\"\")","v":""},"",{"$f":"IF(BX$7=$F297,$H297,\"\")","v":""},"",{"$f":"IF(BZ$7=$F297,$H297,\"\")","v":""},"",{"$f":"IF(CB$7=$F297,$H297,\"\")","v":""},"",{"$f":"IF(CD$7=$F297,$H297,\"\")","v":""},"",{"$f":"IF(CF$7=$F297,$H297,\"\")","v":""},"",{"$f":"IF(CH$7=$F297,$H297,\"\")","v":""},"",{"$f":"IF(CJ$7=$F297,$H297,\"\")","v":""},"",{"$f":"IF(CL$7=$F297,$H297,\"\")","v":""},"",{"$f":"IF(CN$7=$F297,$H297,\"\")","v":""},"",{"$f":"IF(CP$7=$F297,$H297,\"\")","v":""},"",{"$f":"IF(CR$7=$F297,$H297,\"\")","v":""},"",{"$f":"IF(CT$7=$F297,$H297,\"\")","v":""},"",{"$f":"IF(CV$7=$F297,$H297,\"\")","v":""},"",{"$f":"IF(CX$7=$F297,$H297,\"\")","v":""},"",{"$f":"IF(CZ$7=$F297,$H297,\"\")","v":""},"",{"$f":"IF(DB$7=$F297,$H297,\"\")","v":""},"",{"$f":"IF(DD$7=$F297,$H297,\"\")","v":""},"",{"$f":"IF(DF$7=$F297,$H297,\"\")","v":""},0,{"$f":"IF(DH$7=$F297,$H297,\"\")","v":0},0,{"$f":"IF(DJ$7=$F297,$H297,\"\")","v":0},0,{"$f":"IF(DL$7=$F297,$H297,\"\")","v":0},0,{"$f":"IF(DN$7=$F297,$H297,\"\")","v":0},0,{"$f":"IF(DP$7=$F297,$H297,\"\")","v":0},0,{"$f":"IF(DR$7=$F297,$H297,\"\")","v":0},0,{"$f":"IF(DT$7=$F297,$H297,\"\")","v":0},0,{"$f":"IF(DV$7=$F297,$H297,\"\")","v":0},0,{"$f":"IF(DX$7=$F297,$H297,\"\")","v":0},0,{"$f":"IF(DZ$7=$F297,$H297,\"\")","v":0},0,{"$f":"IF(EB$7=$F297,$H297,\"\")","v":0},0,{"$f":"IF(ED$7=$F297,$H297,\"\")","v":0},0,{"$f":"IF(EF$7=$F297,$H297,\"\")","v":0},0,{"$f":"IF(EH$7=$F297,$H297,\"\")","v":0},0,{"$f":"IF(EJ$7=$F297,$H297,\"\")","v":0},0,{"$f":"IF(EL$7=$F297,$H297,\"\")","v":0},0,{"$f":"IF(EN$7=$F297,$H297,\"\")","v":0},0,{"$f":"IF(EP$7=$F297,$H297,\"\")","v":0},0,{"$f":"IF(ER$7=$F297,$H297,\"\")","v":0},0,{"$f":"IF(ET$7=$F297,$H297,\"\")","v":0},0,{"$f":"IF(EV$7=$F297,$H297,\"\")","v":0},0,{"$f":"IF(EX$7=$F297,$H297,\"\")","v":0},0,{"$f":"IF(EZ$7=$F297,$H297,\"\")","v":0},0,{"$f":"IF(FB$7=$F297,$H297,\"\")","v":0},0,{"$f":"IF(FD$7=$F297,$H297,\"\")","v":0},0,{"$f":"IF(FF$7=$F297,$H297,\"\")","v":0},0,{"$f":"IF(FH$7=$F297,$H297,\"\")","v":0},0,{"$f":"IF(FJ$7=$F297,$H297,\"\")","v":0},0,{"$f":"IF(FL$7=$F297,$H297,\"\")","v":0},0,0]
[290,null,null,null,null,null,null,null,true,0,0,"","","",{"$f":"IF(N$7=$F298,$H298,\"\")","v":""},"",{"$f":"IF(P$7=$F298,$H298,\"\")","v":""},"",{"$f":"IF(R$7=$F298,$H298,\"\")","v":""},"",{"$f":"IF(T$7=$F298,$H298,\"\")","v":""},"",{"$f":"IF(V$7=$F298,$H298,\"\")","v":""},"",{"$f":"IF(X$7=$F298,$H298,\"\")","v":""},"",{"$f":"IF(Z$7=$F298,$H298,\"\")","v":""},"",{"$f":"IF(AB$7=$F298,$H298,\"\")","v":""},"",{"$f":"IF(AD$7=$F298,$H298,\"\")","v":""},"",{"$f":"IF(AF$7=$F298,$H298,\"\")","v":""},"",{"$f":"IF(AH$7=$F298,$H298,\"\")","v":""},"",{"$f":"IF(AJ$7=$F298,$H298,\"\")","v":""},"",{"$f":"IF(AL$7=$F298,$H298,\"\")","v":""},"",{"$f":"IF(AN$7=$F298,$H298,\"\")","v":""},"",{"$f":"IF(AP$7=$F298,$H298,\"\")","v":""},"",{"$f":"IF(AR$7=$F298,$H298,\"\")","v":""},"",{"$f":"IF(AT$7=$F298,$H298,\"\")","v":""},"",{"$f":"IF(AV$7=$F298,$H298,\"\")","v":""},"",{"$f":"IF(AX$7=$F298,$H298,\"\")","v":""},"",{"$f":"IF(AZ$7=$F298,$H298,\"\")","v":""},"",{"$f":"IF(BB$7=$F298,$H298,\"\")","v":""},"",{"$f":"IF(BD$7=$F298,$H298,\"\")","v":""},"",{"$f":"IF(BF$7=$F298,$H298,\"\")","v":""},"",{"$f":"IF(BH$7=$F298,$H298,\"\")","v":""},"",{"$f":"IF(BJ$7=$F298,$H298,\"\")","v":""},"",{"$f":"IF(BL$7=$F298,$H298,\"\")","v":""},"",{"$f":"IF(BN$7=$F298,$H298,\"\")","v":""},"",{"$f":"IF(BP$7=$F298,$H298,\"\")","v":""},"",{"$f":"IF(BR$7=$F298,$H298,\"\")","v":""},"",{"$f":"IF(BT$7=$F298,$H298,\"\")","v":""},"",{"$f":"IF(BV$7=$F298,$H298,\"\")","v":""},"",{"$f":"IF(BX$7=$F298,$H298,\"\")","v":""},"",{"$f":"IF(BZ$7=$F298,$H298,\"\")","v":""},"",{"$f":"IF(CB$7=$F298,$H298,\"\")","v":""},"",{"$f":"IF(CD$7=$F298,$H298,\"\")","v":""},"",{"$f":"IF(CF$7=$F298,$H298,\"\")","v":""},"",{"$f":"IF(CH$7=$F298,$H298,\"\")","v":""},"",{"$f":"IF(CJ$7=$F298,$H298,\"\")","v":""},"",{"$f":"IF(CL$7=$F298,$H298,\"\")","v":""},"",{"$f":"IF(CN$7=$F298,$H298,\"\")","v":""},"",{"$f":"IF(CP$7=$F298,$H298,\"\")","v":""},"",{"$f":"IF(CR$7=$F298,$H298,\"\")","v":""},"",{"$f":"IF(CT$7=$F298,$H298,\"\")","v":""},"",{"$f":"IF(CV$7=$F298,$H298,\"\")","v":""},"",{"$f":"IF(CX$7=$F298,$H298,\"\")","v":""},"",{"$f":"IF(CZ$7=$F298,$H298,\"\")","v":""},"",{"$f":"IF(DB$7=$F298,$H298,\"\")","v":""},"",{"$f":"IF(DD$7=$F298,$H298,\"\")","v":""},"",{"$f":"IF(DF$7=$F298,$H298,\"\")","v":""},0,{"$f":"IF(DH$7=$F298,$H298,\"\")","v":0},0,{"$f":"IF(DJ$7=$F298,$H298,\"\")","v":0},0,{"$f":"IF(DL$7=$F298,$H298,\"\")","v":0},0,{"$f":"IF(DN$7=$F298,$H298,\"\")","v":0},0,{"$f":"IF(DP$7=$F298,$H298,\"\")","v":0},0,{"$f":"IF(DR$7=$F298,$H298,\"\")","v":0},0,{"$f":"IF(DT$7=$F298,$H298,\"\")","v":0},0,{"$f":"IF(DV$7=$F298,$H298,\"\")","v":0},0,{"$f":"IF(DX$7=$F298,$H298,\"\")","v":0},0,{"$f":"IF(DZ$7=$F298,$H298,\"\")","v":0},0,{"$f":"IF(EB$7=$F298,$H298,\"\")","v":0},0,{"$f":"IF(ED$7=$F298,$H298,\"\")","v":0},0,{"$f":"IF(EF$7=$F298,$H298,\"\")","v":0},0,{"$f":"IF(EH$7=$F298,$H298,\"\")","v":0},0,{"$f":"IF(EJ$7=$F298,$H298,\"\")","v":0},0,{"$f":"IF(EL$7=$F298,$H298,\"\")","v":0},0,{"$f":"IF(EN$7=$F298,$H298,\"\")","v":0},0,{"$f":"IF(EP$7=$F298,$H298,\"\")","v":0},0,{"$f":"IF(ER$7=$F298,$H298,\"\")","v":0},0,{"$f":"IF(ET$7=$F298,$H298,\"\")","v":0},0,{"$f":"IF(EV$7=$F298,$H298,\"\")","v":0},0,{"$f":"IF(EX$7=$F298,$H298,\"\")","v":0},0,{"$f":"IF(EZ$7=$F298,$H298,\"\")","v":0},0,{"$f":"IF(FB$7=$F298,$H298,\"\")","v":0},0,{"$f":"IF(FD$7=$F298,$H298,\"\")","v":0},0,{"$f":"IF(FF$7=$F298,$H298,\"\")","v":0},0,{"$f":"IF(FH$7=$F298,$H298,\"\")","v":0},0,{"$f":"IF(FJ$7=$F298,$H298,\"\")","v":0},0,{"$f":"IF(FL$7=$F298,$H298,\"\")","v":0},0,0]
[291,null,null,null,null,null,null,null,true,0,0,"","","",{"$f":"IF(N$7=$F299,$H299,\"\")","v":""},"",{"$f":"IF(P$7=$F299,$H299,\"\")","v":""},"",{"$f":"IF(R$7=$F299,$H299,\"\")","v":""},"",{"$f":"IF(T$7=$F299,$H299,\"\")","v":""},"",{"$f":"IF(V$7=$F299,$H299,\"\")","v":""},"",{"$f":"IF(X$7=$F299,$H299,\"\")","v":""},"",{"$f":"IF(Z$7=$F299,$H299,\"\")","v":""},"",{"$f":"IF(AB$7=$F299,$H299,\"\")","v":""},"",{"$f":"IF(AD$7=$F299,$H299,\"\")","v":""},"",{"$f":"IF(AF$7=$F299,$H299,\"\")","v":""},"",{"$f":"IF(AH$7=$F299,$H299,\"\")","v":""},"",{"$f":"IF(AJ$7=$F299,$H299,\"\")","v":""},"",{"$f":"IF(AL$7=$F299,$H299,\"\")","v":""},"",{"$f":"IF(AN$7=$F299,$H299,\"\")","v":""},"",{"$f":"IF(AP$7=$F299,$H299,\"\")","v":""},"",{"$f":"IF(AR$7=$F299,$H299,\"\")","v":""},"",{"$f":"IF(AT$7=$F299,$H299,\"\")","v":""},"",{"$f":"IF(AV$7=$F299,$H299,\"\")","v":""},"",{"$f":"IF(AX$7=$F299,$H299,\"\")","v":""},"",{"$f":"IF(AZ$7=$F299,$H299,\"\")","v":""},"",{"$f":"IF(BB$7=$F299,$H299,\"\")","v":""},"",{"$f":"IF(BD$7=$F299,$H299,\"\")","v":""},"",{"$f":"IF(BF$7=$F299,$H299,\"\")","v":""},"",{"$f":"IF(BH$7=$F299,$H299,\"\")","v":""},"",{"$f":"IF(BJ$7=$F299,$H299,\"\")","v":""},"",{"$f":"IF(BL$7=$F299,$H299,\"\")","v":""},"",{"$f":"IF(BN$7=$F299,$H299,\"\")","v":""},"",{"$f":"IF(BP$7=$F299,$H299,\"\")","v":""},"",{"$f":"IF(BR$7=$F299,$H299,\"\")","v":""},"",{"$f":"IF(BT$7=$F299,$H299,\"\")","v":""},"",{"$f":"IF(BV$7=$F299,$H299,\"\")","v":""},"",{"$f":"IF(BX$7=$F299,$H299,\"\")","v":""},"",{"$f":"IF(BZ$7=$F299,$H299,\"\")","v":""},"",{"$f":"IF(CB$7=$F299,$H299,\"\")","v":""},"",{"$f":"IF(CD$7=$F299,$H299,\"\")","v":""},"",{"$f":"IF(CF$7=$F299,$H299,\"\")","v":""},"",{"$f":"IF(CH$7=$F299,$H299,\"\")","v":""},"",{"$f":"IF(CJ$7=$F299,$H299,\"\")","v":""},"",{"$f":"IF(CL$7=$F299,$H299,\"\")","v":""},"",{"$f":"IF(CN$7=$F299,$H299,\"\")","v":""},"",{"$f":"IF(CP$7=$F299,$H299,\"\")","v":""},"",{"$f":"IF(CR$7=$F299,$H299,\"\")","v":""},"",{"$f":"IF(CT$7=$F299,$H299,\"\")","v":""},"",{"$f":"IF(CV$7=$F299,$H299,\"\")","v":""},"",{"$f":"IF(CX$7=$F299,$H299,\"\")","v":""},"",{"$f":"IF(CZ$7=$F299,$H299,\"\")","v":""},"",{"$f":"IF(DB$7=$F299,$H299,\"\")","v":""},"",{"$f":"IF(DD$7=$F299,$H299,\"\")","v":""},"",{"$f":"IF(DF$7=$F299,$H299,\"\")","v":""},0,{"$f":"IF(DH$7=$F299,$H299,\"\")","v":0},0,{"$f":"IF(DJ$7=$F299,$H299,\"\")","v":0},0,{"$f":"IF(DL$7=$F299,$H299,\"\")","v":0},0,{"$f":"IF(DN$7=$F299,$H299,\"\")","v":0},0,{"$f":"IF(DP$7=$F299,$H299,\"\")","v":0},0,{"$f":"IF(DR$7=$F299,$H299,\"\")","v":0},0,{"$f":"IF(DT$7=$F299,$H299,\"\")","v":0},0,{"$f":"IF(DV$7=$F299,$H299,\"\")","v":0},0,{"$f":"IF(DX$7=$F299,$H299,\"\")","v":0},0,{"$f":"IF(DZ$7=$F299,$H299,\"\")","v":0},0,{"$f":"IF(EB$7=$F299,$H299,\"\")","v":0},0,{"$f":"IF(ED$7=$F299,$H299,\"\")","v":0},0,{"$f":"IF(EF$7=$F299,$H299,\"\")","v":0},0,{"$f":"IF(EH$7=$F299,$H299,\"\")","v":0},0,{"$f":"IF(EJ$7=$F299,$H299,\"\")","v":0},0,{"$f":"IF(EL$7=$F299,$H299,\"\")","v":0},0,{"$f":"IF(EN$7=$F299,$H299,\"\")","v":0},0,{"$f":"IF(EP$7=$F299,$H299,\"\")","v":0},0,{"$f":"IF(ER$7=$F299,$H299,\"\")","v":0},0,{"$f":"IF(ET$7=$F299,$H299,\"\")","v":0},0,{"$f":"IF(EV$7=$F299,$H299,\"\")","v":0},0,{"$f":"IF(EX$7=$F299,$H299,\"\")","v":0},0,{"$f":"IF(EZ$7=$F299,$H299,\"\")","v":0},0,{"$f":"IF(FB$7=$F299,$H299,\"\")","v":0},0,{"$f":"IF(FD$7=$F299,$H299,\"\")","v":0},0,{"$f":"IF(FF$7=$F299,$H299,\"\")","v":0},0,{"$f":"IF(FH$7=$F299,$H299,\"\")","v":0},0,{"$f":"IF(FJ$7=$F299,$H299,\"\")","v":0},0,{"$f":"IF(FL$7=$F299,$H299,\"\")","v":0},0,0]
[292,null,null,null,null,null,null,null,true,0,0,"","","",{"$f":"IF(N$7=$F300,$H300,\"\")","v":""},"",{"$f":"IF(P$7=$F300,$H300,\"\")","v":""},"",{"$f":"IF(R$7=$F300,$H300,\"\")","v":""},"",{"$f":"IF(T$7=$F300,$H300,\"\")","v":""},"",{"$f":"IF(V$7=$F300,$H300,\"\")","v":""},"",{"$f":"IF(X$7=$F300,$H300,\"\")","v":""},"",{"$f":"IF(Z$7=$F300,$H300,\"\")","v":""},"",{"$f":"IF(AB$7=$F300,$H300,\"\")","v":""},"",{"$f":"IF(AD$7=$F300,$H300,\"\")","v":""},"",{"$f":"IF(AF$7=$F300,$H300,\"\")","v":""},"",{"$f":"IF(AH$7=$F300,$H300,\"\")","v":""},"",{"$f":"IF(AJ$7=$F300,$H300,\"\")","v":""},"",{"$f":"IF(AL$7=$F300,$H300,\"\")","v":""},"",{"$f":"IF(AN$7=$F300,$H300,\"\")","v":""},"",{"$f":"IF(AP$7=$F300,$H300,\"\")","v":""},"",{"$f":"IF(AR$7=$F300,$H300,\"\")","v":""},"",{"$f":"IF(AT$7=$F300,$H300,\"\")","v":""},"",{"$f":"IF(AV$7=$F300,$H300,\"\")","v":""},"",{"$f":"IF(AX$7=$F300,$H300,\"\")","v":""},"",{"$f":"IF(AZ$7=$F300,$H300,\"\")","v":""},"",{"$f":"IF(BB$7=$F300,$H300,\"\")","v":""},"",{"$f":"IF(BD$7=$F300,$H300,\"\")","v":""},"",{"$f":"IF(BF$7=$F300,$H300,\"\")","v":""},"",{"$f":"IF(BH$7=$F300,$H300,\"\")","v":""},"",{"$f":"IF(BJ$7=$F300,$H300,\"\")","v":""},"",{"$f":"IF(BL$7=$F300,$H300,\"\")","v":""},"",{"$f":"IF(BN$7=$F300,$H300,\"\")","v":""},"",{"$f":"IF(BP$7=$F300,$H300,\"\")","v":""},"",{"$f":"IF(BR$7=$F300,$H300,\"\")","v":""},"",{"$f":"IF(BT$7=$F300,$H300,\"\")","v":""},"",{"$f":"IF(BV$7=$F300,$H300,\"\")","v":""},"",{"$f":"IF(BX$7=$F300,$H300,\"\")","v":""},"",{"$f":"IF(BZ$7=$F300,$H300,\"\")","v":""},"",{"$f":"IF(CB$7=$F300,$H300,\"\")","v":""},"",{"$f":"IF(CD$7=$F300,$H300,\"\")","v":""},"",{"$f":"IF(CF$7=$F300,$H300,\"\")","v":""},"",{"$f":"IF(CH$7=$F300,$H300,\"\")","v":""},"",{"$f":"IF(CJ$7=$F300,$H300,\"\")","v":""},"",{"$f":"IF(CL$7=$F300,$H300,\"\")","v":""},"",{"$f":"IF(CN$7=$F300,$H300,\"\")","v":""},"",{"$f":"IF(CP$7=$F300,$H300,\"\")","v":""},"",{"$f":"IF(CR$7=$F300,$H300,\"\")","v":""},"",{"$f":"IF(CT$7=$F300,$H300,\"\")","v":""},"",{"$f":"IF(CV$7=$F300,$H300,\"\")","v":""},"",{"$f":"IF(CX$7=$F300,$H300,\"\")","v":""},"",{"$f":"IF(CZ$7=$F300,$H300,\"\")","v":""},"",{"$f":"IF(DB$7=$F300,$H300,\"\")","v":""},"",{"$f":"IF(DD$7=$F300,$H300,\"\")","v":""},"",{"$f":"IF(DF$7=$F300,$H300,\"\")","v":""},0,{"$f":"IF(DH$7=$F300,$H300,\"\")","v":0},0,{"$f":"IF(DJ$7=$F300,$H300,\"\")","v":0},0,{"$f":"IF(DL$7=$F300,$H300,\"\")","v":0},0,{"$f":"IF(DN$7=$F300,$H300,\"\")","v":0},0,{"$f":"IF(DP$7=$F300,$H300,\"\")","v":0},0,{"$f":"IF(DR$7=$F300,$H300,\"\")","v":0},0,{"$f":"IF(DT$7=$F300,$H300,\"\")","v":0},0,{"$f":"IF(DV$7=$F300,$H300,\"\")","v":0},0,{"$f":"IF(DX$7=$F300,$H300,\"\")","v":0},0,{"$f":"IF(DZ$7=$F300,$H300,\"\")","v":0},0,{"$f":"IF(EB$7=$F300,$H300,\"\")","v":0},0,{"$f":"IF(ED$7=$F300,$H300,\"\")","v":0},0,{"$f":"IF(EF$7=$F300,$H300,\"\")","v":0},0,{"$f":"IF(EH$7=$F300,$H300,\"\")","v":0},0,{"$f":"IF(EJ$7=$F300,$H300,\"\")","v":0},0,{"$f":"IF(EL$7=$F300,$H300,\"\")","v":0},0,{"$f":"IF(EN$7=$F300,$H300,\"\")","v":0},0,{"$f":"IF(EP$7=$F300,$H300,\"\")","v":0},0,{"$f":"IF(ER$7=$F300,$H300,\"\")","v":0},0,{"$f":"IF(ET$7=$F300,$H300,\"\")","v":0},0,{"$f":"IF(EV$7=$F300,$H300,\"\")","v":0},0,{"$f":"IF(EX$7=$F300,$H300,\"\")","v":0},0,{"$f":"IF(EZ$7=$F300,$H300,\"\")","v":0},0,{"$f":"IF(FB$7=$F300,$H300,\"\")","v":0},0,{"$f":"IF(FD$7=$F300,$H300,\"\")","v":0},0,{"$f":"IF(FF$7=$F300,$H300,\"\")","v":0},0,{"$f":"IF(FH$7=$F300,$H300,\"\")","v":0},0,{"$f":"IF(FJ$7=$F300,$H300,\"\")","v":0},0,{"$f":"IF(FL$7=$F300,$H300,\"\")","v":0},0,0]
[293,null,null,null,null,null,null,null,true,0,0,"","","",{"$f":"IF(N$7=$F301,$H301,\"\")","v":""},"",{"$f":"IF(P$7=$F301,$H301,\"\")","v":""},"",{"$f":"IF(R$7=$F301,$H301,\"\")","v":""},"",{"$f":"IF(T$7=$F301,$H301,\"\")","v":""},"",{"$f":"IF(V$7=$F301,$H301,\"\")","v":""},"",{"$f":"IF(X$7=$F301,$H301,\"\")","v":""},"",{"$f":"IF(Z$7=$F301,$H301,\"\")","v":""},"",{"$f":"IF(AB$7=$F301,$H301,\"\")","v":""},"",{"$f":"IF(AD$7=$F301,$H301,\"\")","v":""},"",{"$f":"IF(AF$7=$F301,$H301,\"\")","v":""},"",{"$f":"IF(AH$7=$F301,$H301,\"\")","v":""},"",{"$f":"IF(AJ$7=$F301,$H301,\"\")","v":""},"",{"$f":"IF(AL$7=$F301,$H301,\"\")","v":""},"",{"$f":"IF(AN$7=$F301,$H301,\"\")","v":""},"",{"$f":"IF(AP$7=$F301,$H301,\"\")","v":""},"",{"$f":"IF(AR$7=$F301,$H301,\"\")","v":""},"",{"$f":"IF(AT$7=$F301,$H301,\"\")","v":""},"",{"$f":"IF(AV$7=$F301,$H301,\"\")","v":""},"",{"$f":"IF(AX$7=$F301,$H301,\"\")","v":""},"",{"$f":"IF(AZ$7=$F301,$H301,\"\")","v":""},"",{"$f":"IF(BB$7=$F301,$H301,\"\")","v":""},"",{"$f":"IF(BD$7=$F301,$H301,\"\")","v":""},"",{"$f":"IF(BF$7=$F301,$H301,\"\")","v":""},"",{"$f":"IF(BH$7=$F301,$H301,\"\")","v":""},"",{"$f":"IF(BJ$7=$F301,$H301,\"\")","v":""},"",{"$f":"IF(BL$7=$F301,$H301,\"\")","v":""},"",{"$f":"IF(BN$7=$F301,$H301,\"\")","v":""},"",{"$f":"IF(BP$7=$F301,$H301,\"\")","v":""},"",{"$f":"IF(BR$7=$F301,$H301,\"\")","v":""},"",{"$f":"IF(BT$7=$F301,$H301,\"\")","v":""},"",{"$f":"IF(BV$7=$F301,$H301,\"\")","v":""},"",{"$f":"IF(BX$7=$F301,$H301,\"\")","v":""},"",{"$f":"IF(BZ$7=$F301,$H301,\"\")","v":""},"",{"$f":"IF(CB$7=$F301,$H301,\"\")","v":""},"",{"$f":"IF(CD$7=$F301,$H301,\"\")","v":""},"",{"$f":"IF(CF$7=$F301,$H301,\"\")","v":""},"",{"$f":"IF(CH$7=$F301,$H301,\"\")","v":""},"",{"$f":"IF(CJ$7=$F301,$H301,\"\")","v":""},"",{"$f":"IF(CL$7=$F301,$H301,\"\")","v":""},"",{"$f":"IF(CN$7=$F301,$H301,\"\")","v":""},"",{"$f":"IF(CP$7=$F301,$H301,\"\")","v":""},"",{"$f":"IF(CR$7=$F301,$H301,\"\")","v":""},"",{"$f":"IF(CT$7=$F301,$H301,\"\")","v":""},"",{"$f":"IF(CV$7=$F301,$H301,\"\")","v":""},"",{"$f":"IF(CX$7=$F301,$H301,\"\")","v":""},"",{"$f":"IF(CZ$7=$F301,$H301,\"\")","v":""},"",{"$f":"IF(DB$7=$F301,$H301,\"\")","v":""},"",{"$f":"IF(DD$7=$F301,$H301,\"\")","v":""},"",{"$f":"IF(DF$7=$F301,$H301,\"\")","v":""},0,{"$f":"IF(DH$7=$F301,$H301,\"\")","v":0},0,{"$f":"IF(DJ$7=$F301,$H301,\"\")","v":0},0,{"$f":"IF(DL$7=$F301,$H301,\"\")","v":0},0,{"$f":"IF(DN$7=$F301,$H301,\"\")","v":0},0,{"$f":"IF(DP$7=$F301,$H301,\"\")","v":0},0,{"$f":"IF(DR$7=$F301,$H301,\"\")","v":0},0,{"$f":"IF(DT$7=$F301,$H301,\"\")","v":0},0,{"$f":"IF(DV$7=$F301,$H301,\"\")","v":0},0,{"$f":"IF(DX$7=$F301,$H301,\"\")","v":0},0,{"$f":"IF(DZ$7=$F301,$H301,\"\")","v":0},0,{"$f":"IF(EB$7=$F301,$H301,\"\")","v":0},0,{"$f":"IF(ED$7=$F301,$H301,\"\")","v":0},0,{"$f":"IF(EF$7=$F301,$H301,\"\")","v":0},0,{"$f":"IF(EH$7=$F301,$H301,\"\")","v":0},0,{"$f":"IF(EJ$7=$F301,$H301,\"\")","v":0},0,{"$f":"IF(EL$7=$F301,$H301,\"\")","v":0},0,{"$f":"IF(EN$7=$F301,$H301,\"\")","v":0},0,{"$f":"IF(EP$7=$F301,$H301,\"\")","v":0},0,{"$f":"IF(ER$7=$F301,$H301,\"\")","v":0},0,{"$f":"IF(ET$7=$F301,$H301,\"\")","v":0},0,{"$f":"IF(EV$7=$F301,$H301,\"\")","v":0},0,{"$f":"IF(EX$7=$F301,$H301,\"\")","v":0},0,{"$f":"IF(EZ$7=$F301,$H301,\"\")","v":0},0,{"$f":"IF(FB$7=$F301,$H301,\"\")","v":0},0,{"$f":"IF(FD$7=$F301,$H301,\"\")","v":0},0,{"$f":"IF(FF$7=$F301,$H301,\"\")","v":0},0,{"$f":"IF(FH$7=$F301,$H301,\"\")","v":0},0,{"$f":"IF(FJ$7=$F301,$H301,\"\")","v":0},0,{"$f":"IF(FL$7=$F301,$H301,\"\")","v":0},0,0]
[294,null,null,null,null,null,null,null,true,0,0,"","","",{"$f":"IF(N$7=$F302,$H302,\"\")","v":""},"",{"$f":"IF(P$7=$F302,$H302,\"\")","v":""},"",{"$f":"IF(R$7=$F302,$H302,\"\")","v":""},"",{"$f":"IF(T$7=$F302,$H302,\"\")","v":""},"",{"$f":"IF(V$7=$F302,$H302,\"\")","v":""},"",{"$f":"IF(X$7=$F302,$H302,\"\")","v":""},"",{"$f":"IF(Z$7=$F302,$H302,\"\")","v":""},"",{"$f":"IF(AB$7=$F302,$H302,\"\")","v":""},"",{"$f":"IF(AD$7=$F302,$H302,\"\")","v":""},"",{"$f":"IF(AF$7=$F302,$H302,\"\")","v":""},"",{"$f":"IF(AH$7=$F302,$H302,\"\")","v":""},"",{"$f":"IF(AJ$7=$F302,$H302,\"\")","v":""},"",{"$f":"IF(AL$7=$F302,$H302,\"\")","v":""},"",{"$f":"IF(AN$7=$F302,$H302,\"\")","v":""},"",{"$f":"IF(AP$7=$F302,$H302,\"\")","v":""},"",{"$f":"IF(AR$7=$F302,$H302,\"\")","v":""},"",{"$f":"IF(AT$7=$F302,$H302,\"\")","v":""},"",{"$f":"IF(AV$7=$F302,$H302,\"\")","v":""},"",{"$f":"IF(AX$7=$F302,$H302,\"\")","v":""},"",{"$f":"IF(AZ$7=$F302,$H302,\"\")","v":""},"",{"$f":"IF(BB$7=$F302,$H302,\"\")","v":""},"",{"$f":"IF(BD$7=$F302,$H302,\"\")","v":""},"",{"$f":"IF(BF$7=$F302,$H302,\"\")","v":""},"",{"$f":"IF(BH$7=$F302,$H302,\"\")","v":""},"",{"$f":"IF(BJ$7=$F302,$H302,\"\")","v":""},"",{"$f":"IF(BL$7=$F302,$H302,\"\")","v":""},"",{"$f":"IF(BN$7=$F302,$H302,\"\")","v":""},"",{"$f":"IF(BP$7=$F302,$H302,\"\")","v":""},"",{"$f":"IF(BR$7=$F302,$H302,\"\")","v":""},"",{"$f":"IF(BT$7=$F302,$H302,\"\")","v":""},"",{"$f":"IF(BV$7=$F302,$H302,\"\")","v":""},"",{"$f":"IF(BX$7=$F302,$H302,\"\")","v":""},"",{"$f":"IF(BZ$7=$F302,$H302,\"\")","v":""},"",{"$f":"IF(CB$7=$F302,$H302,\"\")","v":""},"",{"$f":"IF(CD$7=$F302,$H302,\"\")","v":""},"",{"$f":"IF(CF$7=$F302,$H302,\"\")","v":""},"",{"$f":"IF(CH$7=$F302,$H302,\"\")","v":""},"",{"$f":"IF(CJ$7=$F302,$H302,\"\")","v":""},"",{"$f":"IF(CL$7=$F302,$H302,\"\")","v":""},"",{"$f":"IF(CN$7=$F302,$H302,\"\")","v":""},"",{"$f":"IF(CP$7=$F302,$H302,\"\")","v":""},"",{"$f":"IF(CR$7=$F302,$H302,\"\")","v":""},"",{"$f":"IF(CT$7=$F302,$H302,\"\")","v":""},"",{"$f":"IF(CV$7=$F302,$H302,\"\")","v":""},"",{"$f":"IF(CX$7=$F302,$H302,\"\")","v":""},"",{"$f":"IF(CZ$7=$F302,$H302,\"\")","v":""},"",{"$f":"IF(DB$7=$F302,$H302,\"\")","v":""},"",{"$f":"IF(DD$7=$F302,$H302,\"\")","v":""},"",{"$f":"IF(DF$7=$F302,$H302,\"\")","v":""},0,{"$f":"IF(DH$7=$F302,$H302,\"\")","v":0},0,{"$f":"IF(DJ$7=$F302,$H302,\"\")","v":0},0,{"$f":"IF(DL$7=$F302,$H302,\"\")","v":0},0,{"$f":"IF(DN$7=$F302,$H302,\"\")","v":0},0,{"$f":"IF(DP$7=$F302,$H302,\"\")","v":0},0,{"$f":"IF(DR$7=$F302,$H302,\"\")","v":0},0,{"$f":"IF(DT$7=$F302,$H302,\"\")","v":0},0,{"$f":"IF(DV$7=$F302,$H302,\"\")","v":0},0,{"$f":"IF(DX$7=$F302,$H302,\"\")","v":0},0,{"$f":"IF(DZ$7=$F302,$H302,\"\")","v":0},0,{"$f":"IF(EB$7=$F302,$H302,\"\")","v":0},0,{"$f":"IF(ED$7=$F302,$H302,\"\")","v":0},0,{"$f":"IF(EF$7=$F302,$H302,\"\")","v":0},0,{"$f":"IF(EH$7=$F302,$H302,\"\")","v":0},0,{"$f":"IF(EJ$7=$F302,$H302,\"\")","v":0},0,{"$f":"IF(EL$7=$F302,$H302,\"\")","v":0},0,{"$f":"IF(EN$7=$F302,$H302,\"\")","v":0},0,{"$f":"IF(EP$7=$F302,$H302,\"\")","v":0},0,{"$f":"IF(ER$7=$F302,$H302,\"\")","v":0},0,{"$f":"IF(ET$7=$F302,$H302,\"\")","v":0},0,{"$f":"IF(EV$7=$F302,$H302,\"\")","v":0},0,{"$f":"IF(EX$7=$F302,$H302,\"\")","v":0},0,{"$f":"IF(EZ$7=$F302,$H302,\"\")","v":0},0,{"$f":"IF(FB$7=$F302,$H302,\"\")","v":0},0,{"$f":"IF(FD$7=$F302,$H302,\"\")","v":0},0,{"$f":"IF(FF$7=$F302,$H302,\"\")","v":0},0,{"$f":"IF(FH$7=$F302,$H302,\"\")","v":0},0,{"$f":"IF(FJ$7=$F302,$H302,\"\")","v":0},0,{"$f":"IF(FL$7=$F302,$H302,\"\")","v":0},0,0]
[295,null,null,null,null,null,null,null,true,0,0,"","","",{"$f":"IF(N$7=$F303,$H303,\"\")","v":""},"",{"$f":"IF(P$7=$F303,$H303,\"\")","v":""},"",{"$f":"IF(R$7=$F303,$H303,\"\")","v":""},"",{"$f":"IF(T$7=$F303,$H303,\"\")","v":""},"",{"$f":"IF(V$7=$F303,$H303,\"\")","v":""},"",{"$f":"IF(X$7=$F303,$H303,\"\")","v":""},"",{"$f":"IF(Z$7=$F303,$H303,\"\")","v":""},"",{"$f":"IF(AB$7=$F303,$H303,\"\")","v":""},"",{"$f":"IF(AD$7=$F303,$H303,\"\")","v":""},"",{"$f":"IF(AF$7=$F303,$H303,\"\")","v":""},"",{"$f":"IF(AH$7=$F303,$H303,\"\")","v":""},"",{"$f":"IF(AJ$7=$F303,$H303,\"\")","v":""},"",{"$f":"IF(AL$7=$F303,$H303,\"\")","v":""},"",{"$f":"IF(AN$7=$F303,$H303,\"\")","v":""},"",{"$f":"IF(AP$7=$F303,$H303,\"\")","v":""},"",{"$f":"IF(AR$7=$F303,$H303,\"\")","v":""},"",{"$f":"IF(AT$7=$F303,$H303,\"\")","v":""},"",{"$f":"IF(AV$7=$F303,$H303,\"\")","v":""},"",{"$f":"IF(AX$7=$F303,$H303,\"\")","v":""},"",{"$f":"IF(AZ$7=$F303,$H303,\"\")","v":""},"",{"$f":"IF(BB$7=$F303,$H303,\"\")","v":""},"",{"$f":"IF(BD$7=$F303,$H303,\"\")","v":""},"",{"$f":"IF(BF$7=$F303,$H303,\"\")","v":""},"",{"$f":"IF(BH$7=$F303,$H303,\"\")","v":""},"",{"$f":"IF(BJ$7=$F303,$H303,\"\")","v":""},"",{"$f":"IF(BL$7=$F303,$H303,\"\")","v":""},"",{"$f":"IF(BN$7=$F303,$H303,\"\")","v":""},"",{"$f":"IF(BP$7=$F303,$H303,\"\")","v":""},"",{"$f":"IF(BR$7=$F303,$H303,\"\")","v":""},"",{"$f":"IF(BT$7=$F303,$H303,\"\")","v":""},"",{"$f":"IF(BV$7=$F303,$H303,\"\")","v":""},"",{"$f":"IF(BX$7=$F303,$H303,\"\")","v":""},"",{"$f":"IF(BZ$7=$F303,$H303,\"\")","v":""},"",{"$f":"IF(CB$7=$F303,$H303,\"\")","v":""},"",{"$f":"IF(CD$7=$F303,$H303,\"\")","v":""},"",{"$f":"IF(CF$7=$F303,$H303,\"\")","v":""},"",{"$f":"IF(CH$7=$F303,$H303,\"\")","v":""},"",{"$f":"IF(CJ$7=$F303,$H303,\"\")","v":""},"",{"$f":"IF(CL$7=$F303,$H303,\"\")","v":""},"",{"$f":"IF(CN$7=$F303,$H303,\"\")","v":""},"",{"$f":"IF(CP$7=$F303,$H303,\"\")","v":""},"",{"$f":"IF(CR$7=$F303,$H303,\"\")","v":""},"",{"$f":"IF(CT$7=$F303,$H303,\"\")","v":""},"",{"$f":"IF(CV$7=$F303,$H303,\"\")","v":""},"",{"$f":"IF(CX$7=$F303,$H303,\"\")","v":""},"",{"$f":"IF(CZ$7=$F303,$H303,\"\")","v":""},"",{"$f":"IF(DB$7=$F303,$H303,\"\")","v":""},"",{"$f":"IF(DD$7=$F303,$H303,\"\")","v":""},"",{"$f":"IF(DF$7=$F303,$H303,\"\")","v":""},0,{"$f":"IF(DH$7=$F303,$H303,\"\")","v":0},0,{"$f":"IF(DJ$7=$F303,$H303,\"\")","v":0},0,{"$f":"IF(DL$7=$F303,$H303,\"\")","v":0},0,{"$f":"IF(DN$7=$F303,$H303,\"\")","v":0},0,{"$f":"IF(DP$7=$F303,$H303,\"\")","v":0},0,{"$f":"IF(DR$7=$F303,$H303,\"\")","v":0},0,{"$f":"IF(DT$7=$F303,$H303,\"\")","v":0},0,{"$f":"IF(DV$7=$F303,$H303,\"\")","v":0},0,{"$f":"IF(DX$7=$F303,$H303,\"\")","v":0},0,{"$f":"IF(DZ$7=$F303,$H303,\"\")","v":0},0,{"$f":"IF(EB$7=$F303,$H303,\"\")","v":0},0,{"$f":"IF(ED$7=$F303,$H303,\"\")","v":0},0,{"$f":"IF(EF$7=$F303,$H303,\"\")","v":0},0,{"$f":"IF(EH$7=$F303,$H303,\"\")","v":0},0,{"$f":"IF(EJ$7=$F303,$H303,\"\")","v":0},0,{"$f":"IF(EL$7=$F303,$H303,\"\")","v":0},0,{"$f":"IF(EN$7=$F303,$H303,\"\")","v":0},0,{"$f":"IF(EP$7=$F303,$H303,\"\")","v":0},0,{"$f":"IF(ER$7=$F303,$H303,\"\")","v":0},0,{"$f":"IF(ET$7=$F303,$H303,\"\")","v":0},0,{"$f":"IF(EV$7=$F303,$H303,\"\")","v":0},0,{"$f":"IF(EX$7=$F303,$H303,\"\")","v":0},0,{"$f":"IF(EZ$7=$F303,$H303,\"\")","v":0},0,{"$f":"IF(FB$7=$F303,$H303,\"\")","v":0},0,{"$f":"IF(FD$7=$F303,$H303,\"\")","v":0},0,{"$f":"IF(FF$7=$F303,$H303,\"\")","v":0},0,{"$f":"IF(FH$7=$F303,$H303,\"\")","v":0},0,{"$f":"IF(FJ$7=$F303,$H303,\"\")","v":0},0,{"$f":"IF(FL$7=$F303,$H303,\"\")","v":0},0,0]
[296,null,null,null,null,null,null,null,true,0,0,"","","",{"$f":"IF(N$7=$F304,$H304,\"\")","v":""},"",{"$f":"IF(P$7=$F304,$H304,\"\")","v":""},"",{"$f":"IF(R$7=$F304,$H304,\"\")","v":""},"",{"$f":"IF(T$7=$F304,$H304,\"\")","v":""},"",{"$f":"IF(V$7=$F304,$H304,\"\")","v":""},"",{"$f":"IF(X$7=$F304,$H304,\"\")","v":""},"",{"$f":"IF(Z$7=$F304,$H304,\"\")","v":""},"",{"$f":"IF(AB$7=$F304,$H304,\"\")","v":""},"",{"$f":"IF(AD$7=$F304,$H304,\"\")","v":""},"",{"$f":"IF(AF$7=$F304,$H304,\"\")","v":""},"",{"$f":"IF(AH$7=$F304,$H304,\"\")","v":""},"",{"$f":"IF(AJ$7=$F304,$H304,\"\")","v":""},"",{"$f":"IF(AL$7=$F304,$H304,\"\")","v":""},"",{"$f":"IF(AN$7=$F304,$H304,\"\")","v":""},"",{"$f":"IF(AP$7=$F304,$H304,\"\")","v":""},"",{"$f":"IF(AR$7=$F304,$H304,\"\")","v":""},"",{"$f":"IF(AT$7=$F304,$H304,\"\")","v":""},"",{"$f":"IF(AV$7=$F304,$H304,\"\")","v":""},"",{"$f":"IF(AX$7=$F304,$H304,\"\")","v":""},"",{"$f":"IF(AZ$7=$F304,$H304,\"\")","v":""},"",{"$f":"IF(BB$7=$F304,$H304,\"\")","v":""},"",{"$f":"IF(BD$7=$F304,$H304,\"\")","v":""},"",{"$f":"IF(BF$7=$F304,$H304,\"\")","v":""},"",{"$f":"IF(BH$7=$F304,$H304,\"\")","v":""},"",{"$f":"IF(BJ$7=$F304,$H304,\"\")","v":""},"",{"$f":"IF(BL$7=$F304,$H304,\"\")","v":""},"",{"$f":"IF(BN$7=$F304,$H304,\"\")","v":""},"",{"$f":"IF(BP$7=$F304,$H304,\"\")","v":""},"",{"$f":"IF(BR$7=$F304,$H304,\"\")","v":""},"",{"$f":"IF(BT$7=$F304,$H304,\"\")","v":""},"",{"$f":"IF(BV$7=$F304,$H304,\"\")","v":""},"",{"$f":"IF(BX$7=$F304,$H304,\"\")","v":""},"",{"$f":"IF(BZ$7=$F304,$H304,\"\")","v":""},"",{"$f":"IF(CB$7=$F304,$H304,\"\")","v":""},"",{"$f":"IF(CD$7=$F304,$H304,\"\")","v":""},"",{"$f":"IF(CF$7=$F304,$H304,\"\")","v":""},"",{"$f":"IF(CH$7=$F304,$H304,\"\")","v":""},"",{"$f":"IF(CJ$7=$F304,$H304,\"\")","v":""},"",{"$f":"IF(CL$7=$F304,$H304,\"\")","v":""},"",{"$f":"IF(CN$7=$F304,$H304,\"\")","v":""},"",{"$f":"IF(CP$7=$F304,$H304,\"\")","v":""},"",{"$f":"IF(CR$7=$F304,$H304,\"\")","v":""},"",{"$f":"IF(CT$7=$F304,$H304,\"\")","v":""},"",{"$f":"IF(CV$7=$F304,$H304,\"\")","v":""},"",{"$f":"IF(CX$7=$F304,$H304,\"\")","v":""},"",{"$f":"IF(CZ$7=$F304,$H304,\"\")","v":""},"",{"$f":"IF(DB$7=$F304,$H304,\"\")","v":""},"",{"$f":"IF(DD$7=$F304,$H304,\"\")","v":""},"",{"$f":"IF(DF$7=$F304,$H304,\"\")","v":""},0,{"$f":"IF(DH$7=$F304,$H304,\"\")","v":0},0,{"$f":"IF(DJ$7=$F304,$H304,\"\")","v":0},0,{"$f":"IF(DL$7=$F304,$H304,\"\")","v":0},0,{"$f":"IF(DN$7=$F304,$H304,\"\")","v":0},0,{"$f":"IF(DP$7=$F304,$H304,\"\")","v":0},0,{"$f":"IF(DR$7=$F304,$H304,\"\")","v":0},0,{"$f":"IF(DT$7=$F304,$H304,\"\")","v":0},0,{"$f":"IF(DV$7=$F304,$H304,\"\")","v":0},0,{"$f":"IF(DX$7=$F304,$H304,\"\")","v":0},0,{"$f":"IF(DZ$7=$F304,$H304,\"\")","v":0},0,{"$f":"IF(EB$7=$F304,$H304,\"\")","v":0},0,{"$f":"IF(ED$7=$F304,$H304,\"\")","v":0},0,{"$f":"IF(EF$7=$F304,$H304,\"\")","v":0},0,{"$f":"IF(EH$7=$F304,$H304,\"\")","v":0},0,{"$f":"IF(EJ$7=$F304,$H304,\"\")","v":0},0,{"$f":"IF(EL$7=$F304,$H304,\"\")","v":0},0,{"$f":"IF(EN$7=$F304,$H304,\"\")","v":0},0,{"$f":"IF(EP$7=$F304,$H304,\"\")","v":0},0,{"$f":"IF(ER$7=$F304,$H304,\"\")","v":0},0,{"$f":"IF(ET$7=$F304,$H304,\"\")","v":0},0,{"$f":"IF(EV$7=$F304,$H304,\"\")","v":0},0,{"$f":"IF(EX$7=$F304,$H304,\"\")","v":0},0,{"$f":"IF(EZ$7=$F304,$H304,\"\")","v":0},0,{"$f":"IF(FB$7=$F304,$H304,\"\")","v":0},0,{"$f":"IF(FD$7=$F304,$H304,\"\")","v":0},0,{"$f":"IF(FF$7=$F304,$H304,\"\")","v":0},0,{"$f":"IF(FH$7=$F304,$H304,\"\")","v":0},0,{"$f":"IF(FJ$7=$F304,$H304,\"\")","v":0},0,{"$f":"IF(FL$7=$F304,$H304,\"\")","v":0},0,0]
[297,null,null,null,null,null,null,null,true,0,0,"","","",{"$f":"IF(N$7=$F305,$H305,\"\")","v":""},"",{"$f":"IF(P$7=$F305,$H305,\"\")","v":""},"",{"$f":"IF(R$7=$F305,$H305,\"\")","v":""},"",{"$f":"IF(T$7=$F305,$H305,\"\")","v":""},"",{"$f":"IF(V$7=$F305,$H305,\"\")","v":""},"",{"$f":"IF(X$7=$F305,$H305,\"\")","v":""},"",{"$f":"IF(Z$7=$F305,$H305,\"\")","v":""},"",{"$f":"IF(AB$7=$F305,$H305,\"\")","v":""},"",{"$f":"IF(AD$7=$F305,$H305,\"\")","v":""},"",{"$f":"IF(AF$7=$F305,$H305,\"\")","v":""},"",{"$f":"IF(AH$7=$F305,$H305,\"\")","v":""},"",{"$f":"IF(AJ$7=$F305,$H305,\"\")","v":""},"",{"$f":"IF(AL$7=$F305,$H305,\"\")","v":""},"",{"$f":"IF(AN$7=$F305,$H305,\"\")","v":""},"",{"$f":"IF(AP$7=$F305,$H305,\"\")","v":""},"",{"$f":"IF(AR$7=$F305,$H305,\"\")","v":""},"",{"$f":"IF(AT$7=$F305,$H305,\"\")","v":""},"",{"$f":"IF(AV$7=$F305,$H305,\"\")","v":""},"",{"$f":"IF(AX$7=$F305,$H305,\"\")","v":""},"",{"$f":"IF(AZ$7=$F305,$H305,\"\")","v":""},"",{"$f":"IF(BB$7=$F305,$H305,\"\")","v":""},"",{"$f":"IF(BD$7=$F305,$H305,\"\")","v":""},"",{"$f":"IF(BF$7=$F305,$H305,\"\")","v":""},"",{"$f":"IF(BH$7=$F305,$H305,\"\")","v":""},"",{"$f":"IF(BJ$7=$F305,$H305,\"\")","v":""},"",{"$f":"IF(BL$7=$F305,$H305,\"\")","v":""},"",{"$f":"IF(BN$7=$F305,$H305,\"\")","v":""},"",{"$f":"IF(BP$7=$F305,$H305,\"\")","v":""},"",{"$f":"IF(BR$7=$F305,$H305,\"\")","v":""},"",{"$f":"IF(BT$7=$F305,$H305,\"\")","v":""},"",{"$f":"IF(BV$7=$F305,$H305,\"\")","v":""},"",{"$f":"IF(BX$7=$F305,$H305,\"\")","v":""},"",{"$f":"IF(BZ$7=$F305,$H305,\"\")","v":""},"",{"$f":"IF(CB$7=$F305,$H305,\"\")","v":""},"",{"$f":"IF(CD$7=$F305,$H305,\"\")","v":""},"",{"$f":"IF(CF$7=$F305,$H305,\"\")","v":""},"",{"$f":"IF(CH$7=$F305,$H305,\"\")","v":""},"",{"$f":"IF(CJ$7=$F305,$H305,\"\")","v":""},"",{"$f":"IF(CL$7=$F305,$H305,\"\")","v":""},"",{"$f":"IF(CN$7=$F305,$H305,\"\")","v":""},"",{"$f":"IF(CP$7=$F305,$H305,\"\")","v":""},"",{"$f":"IF(CR$7=$F305,$H305,\"\")","v":""},"",{"$f":"IF(CT$7=$F305,$H305,\"\")","v":""},"",{"$f":"IF(CV$7=$F305,$H305,\"\")","v":""},"",{"$f":"IF(CX$7=$F305,$H305,\"\")","v":""},"",{"$f":"IF(CZ$7=$F305,$H305,\"\")","v":""},"",{"$f":"IF(DB$7=$F305,$H305,\"\")","v":""},"",{"$f":"IF(DD$7=$F305,$H305,\"\")","v":""},"",{"$f":"IF(DF$7=$F305,$H305,\"\")","v":""},0,{"$f":"IF(DH$7=$F305,$H305,\"\")","v":0},0,{"$f":"IF(DJ$7=$F305,$H305,\"\")","v":0},0,{"$f":"IF(DL$7=$F305,$H305,\"\")","v":0},0,{"$f":"IF(DN$7=$F305,$H305,\"\")","v":0},0,{"$f":"IF(DP$7=$F305,$H305,\"\")","v":0},0,{"$f":"IF(DR$7=$F305,$H305,\"\")","v":0},0,{"$f":"IF(DT$7=$F305,$H305,\"\")","v":0},0,{"$f":"IF(DV$7=$F305,$H305,\"\")","v":0},0,{"$f":"IF(DX$7=$F305,$H305,\"\")","v":0},0,{"$f":"IF(DZ$7=$F305,$H305,\"\")","v":0},0,{"$f":"IF(EB$7=$F305,$H305,\"\")","v":0},0,{"$f":"IF(ED$7=$F305,$H305,\"\")","v":0},0,{"$f":"IF(EF$7=$F305,$H305,\"\")","v":0},0,{"$f":"IF(EH$7=$F305,$H305,\"\")","v":0},0,{"$f":"IF(EJ$7=$F305,$H305,\"\")","v":0},0,{"$f":"IF(EL$7=$F305,$H305,\"\")","v":0},0,{"$f":"IF(EN$7=$F305,$H305,\"\")","v":0},0,{"$f":"IF(EP$7=$F305,$H305,\"\")","v":0},0,{"$f":"IF(ER$7=$F305,$H305,\"\")","v":0},0,{"$f":"IF(ET$7=$F305,$H305,\"\")","v":0},0,{"$f":"IF(EV$7=$F305,$H305,\"\")","v":0},0,{"$f":"IF(EX$7=$F305,$H305,\"\")","v":0},0,{"$f":"IF(EZ$7=$F305,$H305,\"\")","v":0},0,{"$f":"IF(FB$7=$F305,$H305,\"\")","v":0},0,{"$f":"IF(FD$7=$F305,$H305,\"\")","v":0},0,{"$f":"IF(FF$7=$F305,$H305,\"\")","v":0},0,{"$f":"IF(FH$7=$F305,$H305,\"\")","v":0},0,{"$f":"IF(FJ$7=$F305,$H305,\"\")","v":0},0,{"$f":"IF(FL$7=$F305,$H305,\"\")","v":0},0,0]
[298,null,null,null,null,null,null,null,true,0,0,"","","",{"$f":"IF(N$7=$F306,$H306,\"\")","v":""},"",{"$f":"IF(P$7=$F306,$H306,\"\")","v":""},"",{"$f":"IF(R$7=$F306,$H306,\"\")","v":""},"",{"$f":"IF(T$7=$F306,$H306,\"\")","v":""},"",{"$f":"IF(V$7=$F306,$H306,\"\")","v":""},"",{"$f":"IF(X$7=$F306,$H306,\"\")","v":""},"",{"$f":"IF(Z$7=$F306,$H306,\"\")","v":""},"",{"$f":"IF(AB$7=$F306,$H306,\"\")","v":""},"",{"$f":"IF(AD$7=$F306,$H306,\"\")","v":""},"",{"$f":"IF(AF$7=$F306,$H306,\"\")","v":""},"",{"$f":"IF(AH$7=$F306,$H306,\"\")","v":""},"",{"$f":"IF(AJ$7=$F306,$H306,\"\")","v":""},"",{"$f":"IF(AL$7=$F306,$H306,\"\")","v":""},"",{"$f":"IF(AN$7=$F306,$H306,\"\")","v":""},"",{"$f":"IF(AP$7=$F306,$H306,\"\")","v":""},"",{"$f":"IF(AR$7=$F306,$H306,\"\")","v":""},"",{"$f":"IF(AT$7=$F306,$H306,\"\")","v":""},"",{"$f":"IF(AV$7=$F306,$H306,\"\")","v":""},"",{"$f":"IF(AX$7=$F306,$H306,\"\")","v":""},"",{"$f":"IF(AZ$7=$F306,$H306,\"\")","v":""},"",{"$f":"IF(BB$7=$F306,$H306,\"\")","v":""},"",{"$f":"IF(BD$7=$F306,$H306,\"\")","v":""},"",{"$f":"IF(BF$7=$F306,$H306,\"\")","v":""},"",{"$f":"IF(BH$7=$F306,$H306,\"\")","v":""},"",{"$f":"IF(BJ$7=$F306,$H306,\"\")","v":""},"",{"$f":"IF(BL$7=$F306,$H306,\"\")","v":""},"",{"$f":"IF(BN$7=$F306,$H306,\"\")","v":""},"",{"$f":"IF(BP$7=$F306,$H306,\"\")","v":""},"",{"$f":"IF(BR$7=$F306,$H306,\"\")","v":""},"",{"$f":"IF(BT$7=$F306,$H306,\"\")","v":""},"",{"$f":"IF(BV$7=$F306,$H306,\"\")","v":""},"",{"$f":"IF(BX$7=$F306,$H306,\"\")","v":""},"",{"$f":"IF(BZ$7=$F306,$H306,\"\")","v":""},"",{"$f":"IF(CB$7=$F306,$H306,\"\")","v":""},"",{"$f":"IF(CD$7=$F306,$H306,\"\")","v":""},"",{"$f":"IF(CF$7=$F306,$H306,\"\")","v":""},"",{"$f":"IF(CH$7=$F306,$H306,\"\")","v":""},"",{"$f":"IF(CJ$7=$F306,$H306,\"\")","v":""},"",{"$f":"IF(CL$7=$F306,$H306,\"\")","v":""},"",{"$f":"IF(CN$7=$F306,$H306,\"\")","v":""},"",{"$f":"IF(CP$7=$F306,$H306,\"\")","v":""},"",{"$f":"IF(CR$7=$F306,$H306,\"\")","v":""},"",{"$f":"IF(CT$7=$F306,$H306,\"\")","v":""},"",{"$f":"IF(CV$7=$F306,$H306,\"\")","v":""},"",{"$f":"IF(CX$7=$F306,$H306,\"\")","v":""},"",{"$f":"IF(CZ$7=$F306,$H306,\"\")","v":""},"",{"$f":"IF(DB$7=$F306,$H306,\"\")","v":""},"",{"$f":"IF(DD$7=$F306,$H306,\"\")","v":""},"",{"$f":"IF(DF$7=$F306,$H306,\"\")","v":""},0,{"$f":"IF(DH$7=$F306,$H306,\"\")","v":0},0,{"$f":"IF(DJ$7=$F306,$H306,\"\")","v":0},0,{"$f":"IF(DL$7=$F306,$H306,\"\")","v":0},0,{"$f":"IF(DN$7=$F306,$H306,\"\")","v":0},0,{"$f":"IF(DP$7=$F306,$H306,\"\")","v":0},0,{"$f":"IF(DR$7=$F306,$H306,\"\")","v":0},0,{"$f":"IF(DT$7=$F306,$H306,\"\")","v":0},0,{"$f":"IF(DV$7=$F306,$H306,\"\")","v":0},0,{"$f":"IF(DX$7=$F306,$H306,\"\")","v":0},0,{"$f":"IF(DZ$7=$F306,$H306,\"\")","v":0},0,{"$f":"IF(EB$7=$F306,$H306,\"\")","v":0},0,{"$f":"IF(ED$7=$F306,$H306,\"\")","v":0},0,{"$f":"IF(EF$7=$F306,$H306,\"\")","v":0},0,{"$f":"IF(EH$7=$F306,$H306,\"\")","v":0},0,{"$f":"IF(EJ$7=$F306,$H306,\"\")","v":0},0,{"$f":"IF(EL$7=$F306,$H306,\"\")","v":0},0,{"$f":"IF(EN$7=$F306,$H306,\"\")","v":0},0,{"$f":"IF(EP$7=$F306,$H306,\"\")","v":0},0,{"$f":"IF(ER$7=$F306,$H306,\"\")","v":0},0,{"$f":"IF(ET$7=$F306,$H306,\"\")","v":0},0,{"$f":"IF(EV$7=$F306,$H306,\"\")","v":0},0,{"$f":"IF(EX$7=$F306,$H306,\"\")","v":0},0,{"$f":"IF(EZ$7=$F306,$H306,\"\")","v":0},0,{"$f":"IF(FB$7=$F306,$H306,\"\")","v":0},0,{"$f":"IF(FD$7=$F306,$H306,\"\")","v":0},0,{"$f":"IF(FF$7=$F306,$H306,\"\")","v":0},0,{"$f":"IF(FH$7=$F306,$H306,\"\")","v":0},0,{"$f":"IF(FJ$7=$F306,$H306,\"\")","v":0},0,{"$f":"IF(FL$7=$F306,$H306,\"\")","v":0},0,0]
[299,null,null,null,null,null,null,null,true,0,0,"","","",{"$f":"IF(N$7=$F307,$H307,\"\")","v":""},"",{"$f":"IF(P$7=$F307,$H307,\"\")","v":""},"",{"$f":"IF(R$7=$F307,$H307,\"\")","v":""},"",{"$f":"IF(T$7=$F307,$H307,\"\")","v":""},"",{"$f":"IF(V$7=$F307,$H307,\"\")","v":""},"",{"$f":"IF(X$7=$F307,$H307,\"\")","v":""},"",{"$f":"IF(Z$7=$F307,$H307,\"\")","v":""},"",{"$f":"IF(AB$7=$F307,$H307,\"\")","v":""},"",{"$f":"IF(AD$7=$F307,$H307,\"\")","v":""},"",{"$f":"IF(AF$7=$F307,$H307,\"\")","v":""},"",{"$f":"IF(AH$7=$F307,$H307,\"\")","v":""},"",{"$f":"IF(AJ$7=$F307,$H307,\"\")","v":""},"",{"$f":"IF(AL$7=$F307,$H307,\"\")","v":""},"",{"$f":"IF(AN$7=$F307,$H307,\"\")","v":""},"",{"$f":"IF(AP$7=$F307,$H307,\"\")","v":""},"",{"$f":"IF(AR$7=$F307,$H307,\"\")","v":""},"",{"$f":"IF(AT$7=$F307,$H307,\"\")","v":""},"",{"$f":"IF(AV$7=$F307,$H307,\"\")","v":""},"",{"$f":"IF(AX$7=$F307,$H307,\"\")","v":""},"",{"$f":"IF(AZ$7=$F307,$H307,\"\")","v":""},"",{"$f":"IF(BB$7=$F307,$H307,\"\")","v":""},"",{"$f":"IF(BD$7=$F307,$H307,\"\")","v":""},"",{"$f":"IF(BF$7=$F307,$H307,\"\")","v":""},"",{"$f":"IF(BH$7=$F307,$H307,\"\")","v":""},"",{"$f":"IF(BJ$7=$F307,$H307,\"\")","v":""},"",{"$f":"IF(BL$7=$F307,$H307,\"\")","v":""},"",{"$f":"IF(BN$7=$F307,$H307,\"\")","v":""},"",{"$f":"IF(BP$7=$F307,$H307,\"\")","v":""},"",{"$f":"IF(BR$7=$F307,$H307,\"\")","v":""},"",{"$f":"IF(BT$7=$F307,$H307,\"\")","v":""},"",{"$f":"IF(BV$7=$F307,$H307,\"\")","v":""},"",{"$f":"IF(BX$7=$F307,$H307,\"\")","v":""},"",{"$f":"IF(BZ$7=$F307,$H307,\"\")","v":""},"",{"$f":"IF(CB$7=$F307,$H307,\"\")","v":""},"",{"$f":"IF(CD$7=$F307,$H307,\"\")","v":""},"",{"$f":"IF(CF$7=$F307,$H307,\"\")","v":""},"",{"$f":"IF(CH$7=$F307,$H307,\"\")","v":""},"",{"$f":"IF(CJ$7=$F307,$H307,\"\")","v":""},"",{"$f":"IF(CL$7=$F307,$H307,\"\")","v":""},"",{"$f":"IF(CN$7=$F307,$H307,\"\")","v":""},"",{"$f":"IF(CP$7=$F307,$H307,\"\")","v":""},"",{"$f":"IF(CR$7=$F307,$H307,\"\")","v":""},"",{"$f":"IF(CT$7=$F307,$H307,\"\")","v":""},"",{"$f":"IF(CV$7=$F307,$H307,\"\")","v":""},"",{"$f":"IF(CX$7=$F307,$H307,\"\")","v":""},"",{"$f":"IF(CZ$7=$F307,$H307,\"\")","v":""},"",{"$f":"IF(DB$7=$F307,$H307,\"\")","v":""},"",{"$f":"IF(DD$7=$F307,$H307,\"\")","v":""},"",{"$f":"IF(DF$7=$F307,$H307,\"\")","v":""},0,{"$f":"IF(DH$7=$F307,$H307,\"\")","v":0},0,{"$f":"IF(DJ$7=$F307,$H307,\"\")","v":0},0,{"$f":"IF(DL$7=$F307,$H307,\"\")","v":0},0,{"$f":"IF(DN$7=$F307,$H307,\"\")","v":0},0,{"$f":"IF(DP$7=$F307,$H307,\"\")","v":0},0,{"$f":"IF(DR$7=$F307,$H307,\"\")","v":0},0,{"$f":"IF(DT$7=$F307,$H307,\"\")","v":0},0,{"$f":"IF(DV$7=$F307,$H307,\"\")","v":0},0,{"$f":"IF(DX$7=$F307,$H307,\"\")","v":0},0,{"$f":"IF(DZ$7=$F307,$H307,\"\")","v":0},0,{"$f":"IF(EB$7=$F307,$H307,\"\")","v":0},0,{"$f":"IF(ED$7=$F307,$H307,\"\")","v":0},0,{"$f":"IF(EF$7=$F307,$H307,\"\")","v":0},0,{"$f":"IF(EH$7=$F307,$H307,\"\")","v":0},0,{"$f":"IF(EJ$7=$F307,$H307,\"\")","v":0},0,{"$f":"IF(EL$7=$F307,$H307,\"\")","v":0},0,{"$f":"IF(EN$7=$F307,$H307,\"\")","v":0},0,{"$f":"IF(EP$7=$F307,$H307,\"\")","v":0},0,{"$f":"IF(ER$7=$F307,$H307,\"\")","v":0},0,{"$f":"IF(ET$7=$F307,$H307,\"\")","v":0},0,{"$f":"IF(EV$7=$F307,$H307,\"\")","v":0},0,{"$f":"IF(EX$7=$F307,$H307,\"\")","v":0},0,{"$f":"IF(EZ$7=$F307,$H307,\"\")","v":0},0,{"$f":"IF(FB$7=$F307,$H307,\"\")","v":0},0,{"$f":"IF(FD$7=$F307,$H307,\"\")","v":0},0,{"$f":"IF(FF$7=$F307,$H307,\"\")","v":0},0,{"$f":"IF(FH$7=$F307,$H307,\"\")","v":0},0,{"$f":"IF(FJ$7=$F307,$H307,\"\")","v":0},0,{"$f":"IF(FL$7=$F307,$H307,\"\")","v":0},0,0]
[300,null,null,null,null,null,null,null,true,0,0,"","","",{"$f":"IF(N$7=$F308,$H308,\"\")","v":""},"",{"$f":"IF(P$7=$F308,$H308,\"\")","v":""},"",{"$f":"IF(R$7=$F308,$H308,\"\")","v":""},"",{"$f":"IF(T$7=$F308,$H308,\"\")","v":""},"",{"$f":"IF(V$7=$F308,$H308,\"\")","v":""},"",{"$f":"IF(X$7=$F308,$H308,\"\")","v":""},"",{"$f":"IF(Z$7=$F308,$H308,\"\")","v":""},"",{"$f":"IF(AB$7=$F308,$H308,\"\")","v":""},"",{"$f":"IF(AD$7=$F308,$H308,\"\")","v":""},"",{"$f":"IF(AF$7=$F308,$H308,\"\")","v":""},"",{"$f":"IF(AH$7=$F308,$H308,\"\")","v":""},"",{"$f":"IF(AJ$7=$F308,$H308,\"\")","v":""},"",{"$f":"IF(AL$7=$F308,$H308,\"\")","v":""},"",{"$f":"IF(AN$7=$F308,$H308,\"\")","v":""},"",{"$f":"IF(AP$7=$F308,$H308,\"\")","v":""},"",{"$f":"IF(AR$7=$F308,$H308,\"\")","v":""},"",{"$f":"IF(AT$7=$F308,$H308,\"\")","v":""},"",{"$f":"IF(AV$7=$F308,$H308,\"\")","v":""},"",{"$f":"IF(AX$7=$F308,$H308,\"\")","v":""},"",{"$f":"IF(AZ$7=$F308,$H308,\"\")","v":""},"",{"$f":"IF(BB$7=$F308,$H308,\"\")","v":""},"",{"$f":"IF(BD$7=$F308,$H308,\"\")","v":""},"",{"$f":"IF(BF$7=$F308,$H308,\"\")","v":""},"",{"$f":"IF(BH$7=$F308,$H308,\"\")","v":""},"",{"$f":"IF(BJ$7=$F308,$H308,\"\")","v":""},"",{"$f":"IF(BL$7=$F308,$H308,\"\")","v":""},"",{"$f":"IF(BN$7=$F308,$H308,\"\")","v":""},"",{"$f":"IF(BP$7=$F308,$H308,\"\")","v":""},"",{"$f":"IF(BR$7=$F308,$H308,\"\")","v":""},"",{"$f":"IF(BT$7=$F308,$H308,\"\")","v":""},"",{"$f":"IF(BV$7=$F308,$H308,\"\")","v":""},"",{"$f":"IF(BX$7=$F308,$H308,\"\")","v":""},"",{"$f":"IF(BZ$7=$F308,$H308,\"\")","v":""},"",{"$f":"IF(CB$7=$F308,$H308,\"\")","v":""},"",{"$f":"IF(CD$7=$F308,$H308,\"\")","v":""},"",{"$f":"IF(CF$7=$F308,$H308,\"\")","v":""},"",{"$f":"IF(CH$7=$F308,$H308,\"\")","v":""},"",{"$f":"IF(CJ$7=$F308,$H308,\"\")","v":""},"",{"$f":"IF(CL$7=$F308,$H308,\"\")","v":""},"",{"$f":"IF(CN$7=$F308,$H308,\"\")","v":""},"",{"$f":"IF(CP$7=$F308,$H308,\"\")","v":""},"",{"$f":"IF(CR$7=$F308,$H308,\"\")","v":""},"",{"$f":"IF(CT$7=$F308,$H308,\"\")","v":""},"",{"$f":"IF(CV$7=$F308,$H308,\"\")","v":""},"",{"$f":"IF(CX$7=$F308,$H308,\"\")","v":""},"",{"$f":"IF(CZ$7=$F308,$H308,\"\")","v":""},"",{"$f":"IF(DB$7=$F308,$H308,\"\")","v":""},"",{"$f":"IF(DD$7=$F308,$H308,\"\")","v":""},"",{"$f":"IF(DF$7=$F308,$H308,\"\")","v":""},0,{"$f":"IF(DH$7=$F308,$H308,\"\")","v":0},0,{"$f":"IF(DJ$7=$F308,$H308,\"\")","v":0},0,{"$f":"IF(DL$7=$F308,$H308,\"\")","v":0},0,{"$f":"IF(DN$7=$F308,$H308,\"\")","v":0},0,{"$f":"IF(DP$7=$F308,$H308,\"\")","v":0},0,{"$f":"IF(DR$7=$F308,$H308,\"\")","v":0},0,{"$f":"IF(DT$7=$F308,$H308,\"\")","v":0},0,{"$f":"IF(DV$7=$F308,$H308,\"\")","v":0},0,{"$f":"IF(DX$7=$F308,$H308,\"\")","v":0},0,{"$f":"IF(DZ$7=$F308,$H308,\"\")","v":0},0,{"$f":"IF(EB$7=$F308,$H308,\"\")","v":0},0,{"$f":"IF(ED$7=$F308,$H308,\"\")","v":0},0,{"$f":"IF(EF$7=$F308,$H308,\"\")","v":0},0,{"$f":"IF(EH$7=$F308,$H308,\"\")","v":0},0,{"$f":"IF(EJ$7=$F308,$H308,\"\")","v":0},0,{"$f":"IF(EL$7=$F308,$H308,\"\")","v":0},0,{"$f":"IF(EN$7=$F308,$H308,\"\")","v":0},0,{"$f":"IF(EP$7=$F308,$H308,\"\")","v":0},0,{"$f":"IF(ER$7=$F308,$H308,\"\")","v":0},0,{"$f":"IF(ET$7=$F308,$H308,\"\")","v":0},0,{"$f":"IF(EV$7=$F308,$H308,\"\")","v":0},0,{"$f":"IF(EX$7=$F308,$H308,\"\")","v":0},0,{"$f":"IF(EZ$7=$F308,$H308,\"\")","v":0},0,{"$f":"IF(FB$7=$F308,$H308,\"\")","v":0},0,{"$f":"IF(FD$7=$F308,$H308,\"\")","v":0},0,{"$f":"IF(FF$7=$F308,$H308,\"\")","v":0},0,{"$f":"IF(FH$7=$F308,$H308,\"\")","v":0},0,{"$f":"IF(FJ$7=$F308,$H308,\"\")","v":0},0,{"$f":"IF(FL$7=$F308,$H308,\"\")","v":0},0,0]

{"sheet":"ميزان المراجعه","index":2,"n_rows":85,"n_cols":8,"rows_kept":85,"cut":false,"hidden":false,"merged":[[1,0,1,7],[3,2,3,3],[3,4,3,5],[3,6,3,7],[3,1,4,1],[3,0,4,0]]}
[]
["ميزان مراجعه شهر يناير 2017"]
[]
["م","اسم الحساب","رصيد اول المدة ",null,"الحركة الشهرية",null,"رصيد اخر المدة"]
[null,null,"مدين","دائن","مدين","دائن","مدين","دائن"]
[1,{"$f":"'دليل الحسابات'!B6","v":"الخزينة"},null,null,{"$f":"INDEX('اليومية الامريكية'!$L$2:$FO$4,3,MATCH($B6,'اليومية الامريكية'!$L$2:$FO$2,0))","v":0},{"$f":"INDEX('اليومية الامريكية'!$L$2:$FO$4,3,MATCH($B6,'اليومية الامريكية'!$L$2:$FO$2,0)+1)","v":0},{"$f":"IF(C6+E6-D6-F6>0,C6+E6-D6-F6,\"\")","v":""},{"$f":"IF(D6+F6-C6-E6>0,D6+F6-C6-E6,\"\")","v":""}]
[2,{"$f":"'دليل الحسابات'!B7","v":"البنك"},null,null,{"$f":"INDEX('اليومية الامريكية'!$L$2:$FO$4,3,MATCH($B7,'اليومية الامريكية'!$L$2:$FO$2,0))","v":0},{"$f":"INDEX('اليومية الامريكية'!$L$2:$FO$4,3,MATCH($B7,'اليومية الامريكية'!$L$2:$FO$2,0)+1)","v":0},{"$f":"IF(C7+E7-D7-F7>0,C7+E7-D7-F7,\"\")","v":""},{"$f":"IF(D7+F7-C7-E7>0,D7+F7-C7-E7,\"\")","v":""}]
[3,{"$f":"'دليل الحسابات'!B8","v":"العملاء"},null,null,{"$f":"INDEX('اليومية الامريكية'!$L$2:$FO$4,3,MATCH($B8,'اليومية الامريكية'!$L$2:$FO$2,0))","v":0},{"$f":"INDEX('اليومية الامريكية'!$L$2:$FO$4,3,MATCH($B8,'اليومية الامريكية'!$L$2:$FO$2,0)+1)","v":0},"",""]
[4,{"$f":"'دليل الحسابات'!B9","v":"الموردين"},null,null,{"$f":"INDEX('اليومية الامريكية'!$L$2:$FO$4,3,MATCH($B9,'اليومية الامريكية'!$L$2:$FO$2,0))","v":0},{"$f":"INDEX('اليومية الامريكية'!$L$2:$FO$4,3,MATCH($B9,'اليومية الامريكية'!$L$2:$FO$2,0)+1)","v":0},"",""]
[5,{"$f":"'دليل الحسابات'!B10","v":"المشتريات"},null,null,{"$f":"INDEX('اليومية الامريكية'!$L$2:$FO$4,3,MATCH($B10,'اليومية الامريكية'!$L$2:$FO$2,0))","v":0},{"$f":"INDEX('اليومية الامريكية'!$L$2:$FO$4,3,MATCH($B10,'اليومية الامريكية'!$L$2:$FO$2,0)+1)","v":0},"",""]
[6,{"$f":"'دليل الحسابات'!B11","v":"المبيعات"},null,null,{"$f":"INDEX('اليومية الامريكية'!$L$2:$FO$4,3,MATCH($B11,'اليومية الامريكية'!$L$2:$FO$2,0))","v":0},{"$f":"INDEX('اليومية الامريكية'!$L$2:$FO$4,3,MATCH($B11,'اليومية الامريكية'!$L$2:$FO$2,0)+1)","v":0},"",""]
[7,{"$f":"'دليل الحسابات'!B12","v":"مردودات المشتريات "},null,null,{"$f":"INDEX('اليومية الامريكية'!$L$2:$FO$4,3,MATCH($B12,'اليومية الامريكية'!$L$2:$FO$2,0))","v":0},{"$f":"INDEX('اليومية الامريكية'!$L$2:$FO$4,3,MATCH($B12,'اليومية الامريكية'!$L$2:$FO$2,0)+1)","v":0},"",""]
[8,{"$f":"'دليل الحسابات'!B13","v":"مردودات المبيعات"},null,null,{"$f":"INDEX('اليومية الامريكية'!$L$2:$FO$4,3,MATCH($B13,'اليومية الامريكية'!$L$2:$FO$2,0))","v":0},{"$f":"INDEX('اليومية الامريكية'!$L$2:$FO$4,3,MATCH($B13,'اليومية الامريكية'!$L$2:$FO$2,0)+1)","v":0},"",""]
[9,{"$f":"'دليل الحسابات'!B14","v":"خصم مسموح به"},null,null,{"$f":"INDEX('اليومية الامريكية'!$L$2:$FO$4,3,MATCH($B14,'اليومية الامريكية'!$L$2:$FO$2,0))","v":0},{"$f":"INDEX('اليومية الامريكية'!$L$2:$FO$4,3,MATCH($B14,'اليومية الامريكية'!$L$2:$FO$2,0)+1)","v":0},"",""]
[10,{"$f":"'دليل الحسابات'!B15","v":"خصم مكتسب"},null,null,{"$f":"INDEX('اليومية الامريكية'!$L$2:$FO$4,3,MATCH($B15,'اليومية الامريكية'!$L$2:$FO$2,0))","v":0},{"$f":"INDEX('اليومية الامريكية'!$L$2:$FO$4,3,MATCH($B15,'اليومية الامريكية'!$L$2:$FO$2,0)+1)","v":0},"",""]
[11,{"$f":"'دليل الحسابات'!B16","v":"جاري الشركاء"},null,null,{"$f":"INDEX('اليومية الامريكية'!$L$2:$FO$4,3,MATCH($B16,'اليومية الامريكية'!$L$2:$FO$2,0))","v":0},{"$f":"INDEX('اليومية الامريكية'!$L$2:$FO$4,3,MATCH($B16,'اليومية الامريكية'!$L$2:$FO$2,0)+1)","v":0},"",""]
[12,{"$f":"'دليل الحسابات'!B17","v":"مصروفات عمومية وادارية"},null,null,{"$f":"INDEX('اليومية الامريكية'!$L$2:$FO$4,3,MATCH($B17,'اليومية الامريكية'!$L$2:$FO$2,0))","v":0},{"$f":"INDEX('اليومية الامريكية'!$L$2:$FO$4,3,MATCH($B17,'اليومية الامريكية'!$L$2:$FO$2,0)+1)","v":0},"",""]
[13,{"$f":"'دليل الحسابات'!B18","v":"مخزون اول المدة"},null,null,{"$f":"INDEX('اليومية الامريكية'!$L$2:$FO$4,3,MATCH($B18,'اليومية الامريكية'!$L$2:$FO$2,0))","v":0},{"$f":"INDEX('اليومية الامريكية'!$L$2:$FO$4,3,MATCH($B18,'اليومية الامريكية'!$L$2:$FO$2,0)+1)","v":0},"",""]
[14,{"$f":"'دليل الحسابات'!B19","v":"اصول ثابتة"},null,null,{"$f":"INDEX('اليومية الامريكية'!$L$2:$FO$4,3,MATCH($B19,'اليومية الامريكية'!$L$2:$FO$2,0))","v":0},{"$f":"INDEX('اليومية الامريكية'!$L$2:$FO$4,3,MATCH($B19,'اليومية الامريكية'!$L$2:$FO$2,0)+1)","v":0},"",""]
[15,{"$f":"'دليل الحسابات'!B20","v":"الشيكات"},null,null,{"$f":"INDEX('اليومية الامريكية'!$L$2:$FO$4,3,MATCH($B20,'اليومية الامريكية'!$L$2:$FO$2,0))","v":0},{"$f":"INDEX('اليومية الامريكية'!$L$2:$FO$4,3,MATCH($B20,'اليومية الامريكية'!$L$2:$FO$2,0)+1)","v":0},"",""]
[16,{"$f":"'دليل الحسابات'!B21","v":"الشيكات المستحقة"},null,null,{"$f":"INDEX('اليومية الامريكية'!$L$2:$FO$4,3,MATCH($B21,'اليومية الامريكية'!$L$2:$FO$2,0))","v":0},{"$f":"INDEX('اليومية الامريكية'!$L$2:$FO$4,3,MATCH($B21,'اليومية الامريكية'!$L$2:$FO$2,0)+1)","v":0},"",""]
[17,{"$f":"'دليل الحسابات'!B22","v":"المدينون"},null,null,{"$f":"INDEX('اليومية الامريكية'!$L$2:$FO$4,3,MATCH($B22,'اليومية الامريكية'!$L$2:$FO$2,0))","v":0},{"$f":"INDEX('اليومية الامريكية'!$L$2:$FO$4,3,MATCH($B22,'اليومية الامريكية'!$L$2:$FO$2,0)+1)","v":0},"",""]
[18,{"$f":"'دليل الحسابات'!B23","v":"الدائنون"},null,null,{"$f":"INDEX('اليومية الامريكية'!$L$2:$FO$4,3,MATCH($B23,'اليومية الامريكية'!$L$2:$FO$2,0))","v":0},{"$f":"INDEX('اليومية الامريكية'!$L$2:$FO$4,3,MATCH($B23,'اليومية الامريكية'!$L$2:$FO$2,0)+1)","v":0},"",""]
[19,{"$f":"'دليل الحسابات'!B24","v":"حساب 19"},null,null,{"$f":"INDEX('اليومية الامريكية'!$L$2:$FO$4,3,MATCH($B24,'اليومية الامريكية'!$L$2:$FO$2,0))","v":0},{"$f":"INDEX('اليومية الامريكية'!$L$2:$FO$4,3,MATCH($B24,'اليومية الامريكية'!$L$2:$FO$2,0)+1)","v":0},"",""]
[20,{"$f":"'دليل الحسابات'!B25","v":"حساب 20"},null,null,{"$f":"INDEX('اليومية الامريكية'!$L$2:$FO$4,3,MATCH($B25,'اليومية الامريكية'!$L$2:$FO$2,0))","v":0},{"$f":"INDEX('اليومية الامريكية'!$L$2:$FO$4,3,MATCH($B25,'اليومية الامريكية'!$L$2:$FO$2,0)+1)","v":0},"",""]
[21,{"$f":"'دليل الحسابات'!B26","v":"حساب 21"},null,null,{"$f":"INDEX('اليومية الامريكية'!$L$2:$FO$4,3,MATCH($B26,'اليومية الامريكية'!$L$2:$FO$2,0))","v":0},{"$f":"INDEX('اليومية الامريكية'!$L$2:$FO$4,3,MATCH($B26,'اليومية الامريكية'!$L$2:$FO$2,0)+1)","v":0},"",""]
[22,{"$f":"'دليل الحسابات'!B27","v":"حساب 22"},null,null,{"$f":"INDEX('اليومية الامريكية'!$L$2:$FO$4,3,MATCH($B27,'اليومية الامريكية'!$L$2:$FO$2,0))","v":0},{"$f":"INDEX('اليومية الامريكية'!$L$2:$FO$4,3,MATCH($B27,'اليومية الامريكية'!$L$2:$FO$2,0)+1)","v":0},"",""]
[23,{"$f":"'دليل الحسابات'!B28","v":"حساب 23"},null,null,{"$f":"INDEX('اليومية الامريكية'!$L$2:$FO$4,3,MATCH($B28,'اليومية الامريكية'!$L$2:$FO$2,0))","v":0},{"$f":"INDEX('اليومية الامريكية'!$L$2:$FO$4,3,MATCH($B28,'اليومية الامريكية'!$L$2:$FO$2,0)+1)","v":0},"",""]
[24,{"$f":"'دليل الحسابات'!B29","v":"حساب 24"},null,null,{"$f":"INDEX('اليومية الامريكية'!$L$2:$FO$4,3,MATCH($B29,'اليومية الامريكية'!$L$2:$FO$2,0))","v":0},{"$f":"INDEX('اليومية الامريكية'!$L$2:$FO$4,3,MATCH($B29,'اليومية الامريكية'!$L$2:$FO$2,0)+1)","v":0},"",""]
[25,{"$f":"'دليل الحسابات'!B30","v":"حساب 25"},null,null,{"$f":"INDEX('اليومية الامريكية'!$L$2:$FO$4,3,MATCH($B30,'اليومية الامريكية'!$L$2:$FO$2,0))","v":0},{"$f":"INDEX('اليومية الامريكية'!$L$2:$FO$4,3,MATCH($B30,'اليومية الامريكية'!$L$2:$FO$2,0)+1)","v":0},"",""]
[26,{"$f":"'دليل الحسابات'!B31","v":"حساب 26"},null,null,{"$f":"INDEX('اليومية الامريكية'!$L$2:$FO$4,3,MATCH($B31,'اليومية الامريكية'!$L$2:$FO$2,0))","v":0},{"$f":"INDEX('اليومية الامريكية'!$L$2:$FO$4,3,MATCH($B31,'اليومية الامريكية'!$L$2:$FO$2,0)+1)","v":0},"",""]
[27,{"$f":"'دليل الحسابات'!B32","v":"حساب 27"},null,null,{"$f":"INDEX('اليومية الامريكية'!$L$2:$FO$4,3,MATCH($B32,'اليومية الامريكية'!$L$2:$FO$2,0))","v":0},{"$f":"INDEX('اليومية الامريكية'!$L$2:$FO$4,3,MATCH($B32,'اليومية الامريكية'!$L$2:$FO$2,0)+1)","v":0},"",""]
[28,{"$f":"'دليل الحسابات'!B33","v":"حساب 28"},null,null,{"$f":"INDEX('اليومية الامريكية'!$L$2:$FO$4,3,MATCH($B33,'اليومية الامريكية'!$L$2:$FO$2,0))","v":0},{"$f":"INDEX('اليومية الامريكية'!$L$2:$FO$4,3,MATCH($B33,'اليومية الامريكية'!$L$2:$FO$2,0)+1)","v":0},"",""]
[29,{"$f":"'دليل الحسابات'!B34","v":"حساب 29"},null,null,{"$f":"INDEX('اليومية الامريكية'!$L$2:$FO$4,3,MATCH($B34,'اليومية الامريكية'!$L$2:$FO$2,0))","v":0},{"$f":"INDEX('اليومية الامريكية'!$L$2:$FO$4,3,MATCH($B34,'اليومية الامريكية'!$L$2:$FO$2,0)+1)","v":0},"",""]
[30,{"$f":"'دليل الحسابات'!B35","v":"حساب 30"},null,null,{"$f":"INDEX('اليومية الامريكية'!$L$2:$FO$4,3,MATCH($B35,'اليومية الامريكية'!$L$2:$FO$2,0))","v":0},{"$f":"INDEX('اليومية الامريكية'!$L$2:$FO$4,3,MATCH($B35,'اليومية الامريكية'!$L$2:$FO$2,0)+1)","v":0},"",""]
[31,{"$f":"'دليل الحسابات'!B36","v":"حساب 31"},null,null,{"$f":"INDEX('اليومية الامريكية'!$L$2:$FO$4,3,MATCH($B36,'اليومية الامريكية'!$L$2:$FO$2,0))","v":0},{"$f":"INDEX('اليومية الامريكية'!$L$2:$FO$4,3,MATCH($B36,'اليومية الامريكية'!$L$2:$FO$2,0)+1)","v":0},"",""]
[32,{"$f":"'دليل الحسابات'!B37","v":"حساب 32"},null,null,{"$f":"INDEX('اليومية الامريكية'!$L$2:$FO$4,3,MATCH($B37,'اليومية الامريكية'!$L$2:$FO$2,0))","v":0},{"$f":"INDEX('اليومية الامريكية'!$L$2:$FO$4,3,MATCH($B37,'اليومية الامريكية'!$L$2:$FO$2,0)+1)","v":0},"",""]
[33,{"$f":"'دليل الحسابات'!B38","v":"حساب 33"},null,null,{"$f":"INDEX('اليومية الامريكية'!$L$2:$FO$4,3,MATCH($B38,'اليومية الامريكية'!$L$2:$FO$2,0))","v":0},{"$f":"INDEX('اليومية الامريكية'!$L$2:$FO$4,3,MATCH($B38,'اليومية الامريكية'!$L$2:$FO$2,0)+1)","v":0},"",""]
[34,{"$f":"'دليل الحسابات'!B39","v":"حساب 34"},null,null,{"$f":"INDEX('اليومية الامريكية'!$L$2:$FO$4,3,MATCH($B39,'اليومية الامريكية'!$L$2:$FO$2,0))","v":0},{"$f":"INDEX('اليومية الامريكية'!$L$2:$FO$4,3,MATCH($B39,'اليومية الامريكية'!$L$2:$FO$2,0)+1)","v":0},"",""]
[35,{"$f":"'دليل الحسابات'!B40","v":"حساب 35"},null,null,{"$f":"INDEX('اليومية الامريكية'!$L$2:$FO$4,3,MATCH($B40,'اليومية الامريكية'!$L$2:$FO$2,0))","v":0},{"$f":"INDEX('اليومية الامريكية'!$L$2:$FO$4,3,MATCH($B40,'اليومية الامريكية'!$L$2:$FO$2,0)+1)","v":0},"",""]
[36,{"$f":"'دليل الحسابات'!B41","v":"حساب 36"},null,null,{"$f":"INDEX('اليومية الامريكية'!$L$2:$FO$4,3,MATCH($B41,'اليومية الامريكية'!$L$2:$FO$2,0))","v":0},{"$f":"INDEX('اليومية الامريكية'!$L$2:$FO$4,3,MATCH($B41,'اليومية الامريكية'!$L$2:$FO$2,0)+1)","v":0},"",""]
[37,{"$f":"'دليل الحسابات'!B42","v":"حساب 37"},null,null,{"$f":"INDEX('اليومية الامريكية'!$L$2:$FO$4,3,MATCH($B42,'اليومية الامريكية'!$L$2:$FO$2,0))","v":0},{"$f":"INDEX('اليومية الامريكية'!$L$2:$FO$4,3,MATCH($B42,'اليومية الامريكية'!$L$2:$FO$2,0)+1)","v":0},"",""]
[38,{"$f":"'دليل الحسابات'!B43","v":"حساب 38"},null,null,{"$f":"INDEX('اليومية الامريكية'!$L$2:$FO$4,3,MATCH($B43,'اليومية الامريكية'!$L$2:$FO$2,0))","v":0},{"$f":"INDEX('اليومية الامريكية'!$L$2:$FO$4,3,MATCH($B43,'اليومية الامريكية'!$L$2:$FO$2,0)+1)","v":0},"",""]
[39,{"$f":"'دليل الحسابات'!B44","v":"حساب 39"},null,null,{"$f":"INDEX('اليومية الامريكية'!$L$2:$FO$4,3,MATCH($B44,'اليومية الامريكية'!$L$2:$FO$2,0))","v":0},{"$f":"INDEX('اليومية الامريكية'!$L$2:$FO$4,3,MATCH($B44,'اليومية الامريكية'!$L$2:$FO$2,0)+1)","v":0},"",""]
[40,{"$f":"'دليل الحسابات'!B45","v":"حساب 40"},null,null,{"$f":"INDEX('اليومية الامريكية'!$L$2:$FO$4,3,MATCH($B45,'اليومية الامريكية'!$L$2:$FO$2,0))","v":0},{"$f":"INDEX('اليومية الامريكية'!$L$2:$FO$4,3,MATCH($B45,'اليومية الامريكية'!$L$2:$FO$2,0)+1)","v":0},"",""]
[41,{"$f":"'دليل الحسابات'!B46","v":"حساب 41"},null,null,{"$f":"INDEX('اليومية الامريكية'!$L$2:$FO$4,3,MATCH($B46,'اليومية الامريكية'!$L$2:$FO$2,0))","v":0},{"$f":"INDEX('اليومية الامريكية'!$L$2:$FO$4,3,MATCH($B46,'اليومية الامريكية'!$L$2:$FO$2,0)+1)","v":0},"",""]
[42,{"$f":"'دليل الحسابات'!B47","v":"حساب 42"},null,null,{"$f":"INDEX('اليومية الامريكية'!$L$2:$FO$4,3,MATCH($B47,'اليومية الامريكية'!$L$2:$FO$2,0))","v":0},{"$f":"INDEX('اليومية الامريكية'!$L$2:$FO$4,3,MATCH($B47,'اليومية الامريكية'!$L$2:$FO$2,0)+1)","v":0},"",""]
[43,{"$f":"'دليل الحسابات'!B48","v":"حساب 43"},null,null,{"$f":"INDEX('اليومية الامريكية'!$L$2:$FO$4,3,MATCH($B48,'اليومية الامريكية'!$L$2:$FO$2,0))","v":0},{"$f":"INDEX('اليومية الامريكية'!$L$2:$FO$4,3,MATCH($B48,'اليومية الامريكية'!$L$2:$FO$2,0)+1)","v":0},"",""]
[44,{"$f":"'دليل الحسابات'!B49","v":"حساب 44"},null,null,{"$f":"INDEX('اليومية الامريكية'!$L$2:$FO$4,3,MATCH($B49,'اليومية الامريكية'!$L$2:$FO$2,0))","v":0},{"$f":"INDEX('اليومية الامريكية'!$L$2:$FO$4,3,MATCH($B49,'اليومية الامريكية'!$L$2:$FO$2,0)+1)","v":0},"",""]
[45,{"$f":"'دليل الحسابات'!B50","v":"حساب 45"},null,null,{"$f":"INDEX('اليومية الامريكية'!$L$2:$FO$4,3,MATCH($B50,'اليومية الامريكية'!$L$2:$FO$2,0))","v":0},{"$f":"INDEX('اليومية الامريكية'!$L$2:$FO$4,3,MATCH($B50,'اليومية الامريكية'!$L$2:$FO$2,0)+1)","v":0},"",""]
[46,{"$f":"'دليل الحسابات'!B51","v":"حساب 46"},null,null,{"$f":"INDEX('اليومية الامريكية'!$L$2:$FO$4,3,MATCH($B51,'اليومية الامريكية'!$L$2:$FO$2,0))","v":0},{"$f":"INDEX('اليومية الامريكية'!$L$2:$FO$4,3,MATCH($B51,'اليومية الامريكية'!$L$2:$FO$2,0)+1)","v":0},"",""]
[47,{"$f":"'دليل الحسابات'!B52","v":"حساب 47"},null,null,{"$f":"INDEX('اليومية الامريكية'!$L$2:$FO$4,3,MATCH($B52,'اليومية الامريكية'!$L$2:$FO$2,0))","v":0},{"$f":"INDEX('اليومية الامريكية'!$L$2:$FO$4,3,MATCH($B52,'اليومية الامريكية'!$L$2:$FO$2,0)+1)","v":0},"",""]
[48,{"$f":"'دليل الحسابات'!B53","v":"حساب 48"},null,null,{"$f":"INDEX('اليومية الامريكية'!$L$2:$FO$4,3,MATCH($B53,'اليومية الامريكية'!$L$2:$FO$2,0))","v":0},{"$f":"INDEX('اليومية الامريكية'!$L$2:$FO$4,3,MATCH($B53,'اليومية الامريكية'!$L$2:$FO$2,0)+1)","v":0},"",""]
[49,{"$f":"'دليل الحسابات'!B54","v":"حساب 49"},null,null,{"$f":"INDEX('اليومية الامريكية'!$L$2:$FO$4,3,MATCH($B54,'اليومية الامريكية'!$L$2:$FO$2,0))","v":0},{"$f":"INDEX('اليومية الامريكية'!$L$2:$FO$4,3,MATCH($B54,'اليومية الامريكية'!$L$2:$FO$2,0)+1)","v":0},"",""]
[50,{"$f":"'دليل الحسابات'!B55","v":"حساب 50"},null,null,{"$f":"INDEX('اليومية الامريكية'!$L$2:$FO$4,3,MATCH($B55,'اليومية الامريكية'!$L$2:$FO$2,0))","v":0},{"$f":"INDEX('اليومية الامريكية'!$L$2:$FO$4,3,MATCH($B55,'اليومية الامريكية'!$L$2:$FO$2,0)+1)","v":0},"",""]
[51,"حساب 51",null,null,{"$f":"INDEX('اليومية الامريكية'!$L$2:$FO$4,3,MATCH($B56,'اليومية الامريكية'!$L$2:$FO$2,0))","v":0},{"$f":"INDEX('اليومية الامريكية'!$L$2:$FO$4,3,MATCH($B56,'اليومية الامريكية'!$L$2:$FO$2,0)+1)","v":0},"",""]
[52,"حساب 52",null,null,{"$f":"INDEX('اليومية الامريكية'!$L$2:$FO$4,3,MATCH($B57,'اليومية الامريكية'!$L$2:$FO$2,0))","v":0},{"$f":"INDEX('اليومية الامريكية'!$L$2:$FO$4,3,MATCH($B57,'اليومية الامريكية'!$L$2:$FO$2,0)+1)","v":0},"",""]
[53,"حساب 53",null,null,{"$f":"INDEX('اليومية الامريكية'!$L$2:$FO$4,3,MATCH($B58,'اليومية الامريكية'!$L$2:$FO$2,0))","v":0},{"$f":"INDEX('اليومية الامريكية'!$L$2:$FO$4,3,MATCH($B58,'اليومية الامريكية'!$L$2:$FO$2,0)+1)","v":0},"",""]
[54,"حساب 54",null,null,{"$f":"INDEX('اليومية الامريكية'!$L$2:$FO$4,3,MATCH($B59,'اليومية الامريكية'!$L$2:$FO$2,0))","v":0},{"$f":"INDEX('اليومية الامريكية'!$L$2:$FO$4,3,MATCH($B59,'اليومية الامريكية'!$L$2:$FO$2,0)+1)","v":0},"",""]
[55,"حساب 55",null,null,{"$f":"INDEX('اليومية الامريكية'!$L$2:$FO$4,3,MATCH($B60,'اليومية الامريكية'!$L$2:$FO$2,0))","v":0},{"$f":"INDEX('اليومية الامريكية'!$L$2:$FO$4,3,MATCH($B60,'اليومية الامريكية'!$L$2:$FO$2,0)+1)","v":0},"",""]
[56,"حساب 56",null,null,{"$f":"INDEX('اليومية الامريكية'!$L$2:$FO$4,3,MATCH($B61,'اليومية الامريكية'!$L$2:$FO$2,0))","v":0},{"$f":"INDEX('اليومية الامريكية'!$L$2:$FO$4,3,MATCH($B61,'اليومية الامريكية'!$L$2:$FO$2,0)+1)","v":0},"",""]
[57,"حساب 57",null,null,{"$f":"INDEX('اليومية الامريكية'!$L$2:$FO$4,3,MATCH($B62,'اليومية الامريكية'!$L$2:$FO$2,0))","v":0},{"$f":"INDEX('اليومية الامريكية'!$L$2:$FO$4,3,MATCH($B62,'اليومية الامريكية'!$L$2:$FO$2,0)+1)","v":0},"",""]
[58,"حساب 58",null,null,{"$f":"INDEX('اليومية الامريكية'!$L$2:$FO$4,3,MATCH($B63,'اليومية الامريكية'!$L$2:$FO$2,0))","v":0},{"$f":"INDEX('اليومية الامريكية'!$L$2:$FO$4,3,MATCH($B63,'اليومية الامريكية'!$L$2:$FO$2,0)+1)","v":0},"",""]
[59,"حساب 59",null,null,{"$f":"INDEX('اليومية الامريكية'!$L$2:$FO$4,3,MATCH($B64,'اليومية الامريكية'!$L$2:$FO$2,0))","v":0},{"$f":"INDEX('اليومية الامريكية'!$L$2:$FO$4,3,MATCH($B64,'اليومية الامريكية'!$L$2:$FO$2,0)+1)","v":0},"",""]
[60,"حساب 60",null,null,{"$f":"INDEX('اليومية الامريكية'!$L$2:$FO$4,3,MATCH($B65,'اليومية الامريكية'!$L$2:$FO$2,0))","v":0},{"$f":"INDEX('اليومية الامريكية'!$L$2:$FO$4,3,MATCH($B65,'اليومية الامريكية'!$L$2:$FO$2,0)+1)","v":0},"",""]
[61,"حساب 61",null,null,{"$f":"INDEX('اليومية الامريكية'!$L$2:$FO$4,3,MATCH($B66,'اليومية الامريكية'!$L$2:$FO$2,0))","v":0},{"$f":"INDEX('اليومية الامريكية'!$L$2:$FO$4,3,MATCH($B66,'اليومية الامريكية'!$L$2:$FO$2,0)+1)","v":0},"",""]
[62,"حساب 62",null,null,{"$f":"INDEX('اليومية الامريكية'!$L$2:$FO$4,3,MATCH($B67,'اليومية الامريكية'!$L$2:$FO$2,0))","v":0},{"$f":"INDEX('اليومية الامريكية'!$L$2:$FO$4,3,MATCH($B67,'اليومية الامريكية'!$L$2:$FO$2,0)+1)","v":0},"",""]
[63,"حساب 63",null,null,{"$f":"INDEX('اليومية الامريكية'!$L$2:$FO$4,3,MATCH($B68,'اليومية الامريكية'!$L$2:$FO$2,0))","v":0},{"$f":"INDEX('اليومية الامريكية'!$L$2:$FO$4,3,MATCH($B68,'اليومية الامريكية'!$L$2:$FO$2,0)+1)","v":0},"",""]
[64,"حساب 64",null,null,{"$f":"INDEX('اليومية الامريكية'!$L$2:$FO$4,3,MATCH($B69,'اليومية الامريكية'!$L$2:$FO$2,0))","v":0},{"$f":"INDEX('اليومية الامريكية'!$L$2:$FO$4,3,MATCH($B69,'اليومية الامريكية'!$L$2:$FO$2,0)+1)","v":0},"",""]
[65,"حساب 65",null,null,{"$f":"INDEX('اليومية الامريكية'!$L$2:$FO$4,3,MATCH($B70,'اليومية الامريكية'!$L$2:$FO$2,0))","v":0},{"$f":"INDEX('اليومية الامريكية'!$L$2:$FO$4,3,MATCH($B70,'اليومية الامريكية'!$L$2:$FO$2,0)+1)","v":0},"",""]
[66,"حساب 66",null,null,{"$f":"INDEX('اليومية الامريكية'!$L$2:$FO$4,3,MATCH($B71,'اليومية الامريكية'!$L$2:$FO$2,0))","v":0},{"$f":"INDEX('اليومية الامريكية'!$L$2:$FO$4,3,MATCH($B71,'اليومية الامريكية'!$L$2:$FO$2,0)+1)","v":0},{"$f":"IF(C71+E71-D71-F71>0,C71+E71-D71-F71,\"\")","v":""},{"$f":"IF(D71+F71-C71-E71>0,D71+F71-C71-E71,\"\")","v":""}]
[67,"حساب 67",null,null,{"$f":"INDEX('اليومية الامريكية'!$L$2:$FO$4,3,MATCH($B72,'اليومية الامريكية'!$L$2:$FO$2,0))","v":0},{"$f":"INDEX('اليومية الامريكية'!$L$2:$FO$4,3,MATCH($B72,'اليومية الامريكية'!$L$2:$FO$2,0)+1)","v":0},"",""]
[68,"حساب 68",null,null,{"$f":"INDEX('اليومية الامريكية'!$L$2:$FO$4,3,MATCH($B73,'اليومية الامريكية'!$L$2:$FO$2,0))","v":0},{"$f":"INDEX('اليومية الامريكية'!$L$2:$FO$4,3,MATCH($B73,'اليومية الامريكية'!$L$2:$FO$2,0)+1)","v":0},"",""]
[69,"حساب 69",null,null,{"$f":"INDEX('اليومية الامريكية'!$L$2:$FO$4,3,MATCH($B74,'اليومية الامريكية'!$L$2:$FO$2,0))","v":0},{"$f":"INDEX('اليومية الامريكية'!$L$2:$FO$4,3,MATCH($B74,'اليومية الامريكية'!$L$2:$FO$2,0)+1)","v":0},"",""]
[70,"حساب 70",null,null,{"$f":"INDEX('اليومية الامريكية'!$L$2:$FO$4,3,MATCH($B75,'اليومية الامريكية'!$L$2:$FO$2,0))","v":0},{"$f":"INDEX('اليومية الامريكية'!$L$2:$FO$4,3,MATCH($B75,'اليومية الامريكية'!$L$2:$FO$2,0)+1)","v":0},"",""]
[71,"حساب 71",null,null,{"$f":"INDEX('اليومية الامريكية'!$L$2:$FO$4,3,MATCH($B76,'اليومية الامريكية'!$L$2:$FO$2,0))","v":0},{"$f":"INDEX('اليومية الامريكية'!$L$2:$FO$4,3,MATCH($B76,'اليومية الامريكية'!$L$2:$FO$2,0)+1)","v":0},"",""]
[72,"حساب 72",null,null,{"$f":"INDEX('اليومية الامريكية'!$L$2:$FO$4,3,MATCH($B77,'اليومية الامريكية'!$L$2:$FO$2,0))","v":0},{"$f":"INDEX('اليومية الامريكية'!$L$2:$FO$4,3,MATCH($B77,'اليومية الامريكية'!$L$2:$FO$2,0)+1)","v":0},"",""]
[73,"حساب 73",null,null,{"$f":"INDEX('اليومية الامريكية'!$L$2:$FO$4,3,MATCH($B78,'اليومية الامريكية'!$L$2:$FO$2,0))","v":0},{"$f":"INDEX('اليومية الامريكية'!$L$2:$FO$4,3,MATCH($B78,'اليومية الامريكية'!$L$2:$FO$2,0)+1)","v":0},"",""]
[74,"حساب 74",null,null,{"$f":"INDEX('اليومية الامريكية'!$L$2:$FO$4,3,MATCH($B79,'اليومية الامريكية'!$L$2:$FO$2,0))","v":0},{"$f":"INDEX('اليومية الامريكية'!$L$2:$FO$4,3,MATCH($B79,'اليومية الامريكية'!$L$2:$FO$2,0)+1)","v":0},"",""]
[75,"حساب 75",null,null,{"$f":"INDEX('اليومية الامريكية'!$L$2:$FO$4,3,MATCH($B80,'اليومية الامريكية'!$L$2:$FO$2,0))","v":0},{"$f":"INDEX('اليومية الامريكية'!$L$2:$FO$4,3,MATCH($B80,'اليومية الامريكية'!$L$2:$FO$2,0)+1)","v":0},"",""]
[76,"حساب 76",null,null,{"$f":"INDEX('اليومية الامريكية'!$L$2:$FO$4,3,MATCH($B81,'اليومية الامريكية'!$L$2:$FO$2,0))","v":0},{"$f":"INDEX('اليومية الامريكية'!$L$2:$FO$4,3,MATCH($B81,'اليومية الامريكية'!$L$2:$FO$2,0)+1)","v":0},"",""]
[77,"حساب 77",null,null,{"$f":"INDEX('اليومية الامريكية'!$L$2:$FO$4,3,MATCH($B82,'اليومية الامريكية'!$L$2:$FO$2,0))","v":0},{"$f":"INDEX('اليومية الامريكية'!$L$2:$FO$4,3,MATCH($B82,'اليومية الامريكية'!$L$2:$FO$2,0)+1)","v":0},"",""]
[78,"حساب 78",null,null,{"$f":"INDEX('اليومية الامريكية'!$L$2:$FO$4,3,MATCH($B83,'اليومية الامريكية'!$L$2:$FO$2,0))","v":0},{"$f":"INDEX('اليومية الامريكية'!$L$2:$FO$4,3,MATCH($B83,'اليومية الامريكية'!$L$2:$FO$2,0)+1)","v":0},"",""]
[79,"حساب 79",null,null,{"$f":"INDEX('اليومية الامريكية'!$L$2:$FO$4,3,MATCH($B84,'اليومية الامريكية'!$L$2:$FO$2,0))","v":0},{"$f":"INDEX('اليومية الامريكية'!$L$2:$FO$4,3,MATCH($B84,'اليومية الامريكية'!$L$2:$FO$2,0)+1)","v":0},"",""]
[80,"حساب 80",null,null,{"$f":"INDEX('اليومية الامريكية'!$L$2:$FO$4,3,MATCH($B85,'اليومية الامريكية'!$L$2:$FO$2,0))","v":0},{"$f":"INDEX('اليومية الامريكية'!$L$2:$FO$4,3,MATCH($B85,'اليومية الامريكية'!$L$2:$FO$2,0)+1)","v":0},"",""]