{"text_format":"1","workbook":"xlsx","n_sheets":5,"sheets":["محطات شهر3","قياس","برقية","استعلام","شهر3"],"not_rendered":{"charts":0,"images":0,"macros":1,"external_links":0,"defined_names":16,"comments":0,"pivot_tables":0},"unopened":[],"bounds":{"document_bytes":16777216,"sheet_cells":100000,"rows_first":2000,"rows_last":500,"rows_between":2000,"halvings":0,"cell_chars":16384,"cell_head_chars":4096},"cells_cut":0,"cells_raw":0,"read":"whole","date_system":"1900"}

{"sheet":"محطات شهر3","index":0,"n_rows":1145,"n_cols":14,"rows_kept":1145,"cut":false,"hidden":true,"merged":[]}
["ت","رقم السيارة","اسم السائق","المحطة","المنتوج","رقم المستند","التاريخ","رقم المستند الداخلي","استحقاق المحطة","الحساب",null,"اليوم","عدد النقلات المحطات","المبلغ"]
[1,67691,"حامد سليمان إبراهيم","الرمادي الجديدة","بنزين",{"$f":"INDEX(شهر3!$A$2:$A$17,MATCH((B2&\"*\"&G2&\"*\"&D2&\"*\"&E2),شهر3!$G$2:$G$17&\"*\"&شهر3!$F$2:$F$17&\"*\"&شهر3!$O$2:$O$17&\"*\"&شهر3!$E$2:$E$17,0))","v":{"$error":"#N/A"}},"2021-03-01",null,null,null,null,"2021-03-01",{"$f":"COUNTIF($G$2:$G$1162,L2)","v":2},{"$f":"SUMIF(G$2:$G$1187,L2,$I$2:$I$1187)","v":0}]
[2,64602,"زيد جمعة زيدان","الكرمة","بنزين",{"$f":"INDEX(شهر3!$A$2:$A$17,MATCH((B3&\"*\"&G3&\"*\"&D3&\"*\"&E3),شهر3!$G$2:$G$17&\"*\"&شهر3!$F$2:$F$17&\"*\"&شهر3!$O$2:$O$17&\"*\"&شهر3!$E$2:$E$17,0))","v":{"$error":"#N/A"}},"2021-03-01","صرف بصك شهر شباط",null,null,null,"2021-03-02",18,{"$f":"SUMIF(G$2:$G$1187,L3,$I$2:$I$1187)","v":0}]
[1,67691,"حامد سليمان إبراهيم","الرمادي الجديدة","بنزين",{"$f":"INDEX(شهر3!$A$2:$A$17,MATCH((B4&\"*\"&G4&\"*\"&D4&\"*\"&E4),شهر3!$G$2:$G$17&\"*\"&شهر3!$F$2:$F$17&\"*\"&شهر3!$O$2:$O$17&\"*\"&شهر3!$E$2:$E$17,0))","v":{"$error":"#N/A"}},"2021-03-03",null,null,null,null,"2021-03-03",26,{"$f":"SUMIF(G$2:$G$1187,L4,$I$2:$I$1187)","v":0}]
[16,67691,"حامد سليمان إبراهيم","الرمادي الجديدة","بنزين",{"$f":"INDEX(شهر3!$A$2:$A$17,MATCH((B5&\"*\"&G5&\"*\"&D5&\"*\"&E5),شهر3!$G$2:$G$17&\"*\"&شهر3!$F$2:$F$17&\"*\"&شهر3!$O$2:$O$17&\"*\"&شهر3!$E$2:$E$17,0))","v":{"$error":"#N/A"}},"2021-03-03",null,null,null,null,"2021-03-04",41,{"$f":"SUMIF(G$2:$G$1187,L5,$I$2:$I$1187)","v":0}]
[15,15051,"احمد إبراهيم حسان","بروانة","بنزين",{"$f":"INDEX(شهر3!$A$2:$A$17,MATCH((B6&\"*\"&G6&\"*\"&D6&\"*\"&E6),شهر3!$G$2:$G$17&\"*\"&شهر3!$F$2:$F$17&\"*\"&شهر3!$O$2:$O$17&\"*\"&شهر3!$E$2:$E$17,0))","v":{"$error":"#N/A"}},"2021-03-03","صرف بصك شهر شباط",null,null,null,"2021-03-06",18,{"$f":"SUMIF(G$2:$G$1187,L6,$I$2:$I$1187)","v":0}]
[14,60940,"احمد عويد فرحان","هيت الجديدة","بنزين",{"$f":"INDEX(شهر3!$A$2:$A$17,MATCH((B7&\"*\"&G7&\"*\"&D7&\"*\"&E7),شهر3!$G$2:$G$17&\"*\"&شهر3!$F$2:$F$17&\"*\"&شهر3!$O$2:$O$17&\"*\"&شهر3!$E$2:$E$17,0))","v":{"$error":"#N/A"}},"2021-03-03","صرف بصك شهر شباط",null,null,null,"2021-03-07",36,{"$f":"SUMIF(G$2:$G$1187,L7,$I$2:$I$1187)","v":0}]
[8,136833,"أسامة جمعة طراد","الرمادي السريع","بنزين",{"$f":"INDEX(شهر3!$A$2:$A$17,MATCH((B8&\"*\"&G8&\"*\"&D8&\"*\"&E8),شهر3!$G$2:$G$17&\"*\"&شهر3!$F$2:$F$17&\"*\"&شهر3!$O$2:$O$17&\"*\"&شهر3!$E$2:$E$17,0))","v":{"$error":"#N/A"}},"2021-03-03","صرف بصك شهر شباط",null,null,null,"2021-03-08",24,{"$f":"SUMIF(G$2:$G$1187,L8,$I$2:$I$1187)","v":0}]
[10,38949,"حسين علي عواد","الجبل","بنزين",{"$f":"INDEX(شهر3!$A$2:$A$17,MATCH((B9&\"*\"&G9&\"*\"&D9&\"*\"&E9),شهر3!$G$2:$G$17&\"*\"&شهر3!$F$2:$F$17&\"*\"&شهر3!$O$2:$O$17&\"*\"&شهر3!$E$2:$E$17,0))","v":{"$error":"#N/A"}},"2021-03-03","صرف بصك شهر شباط",null,null,null,"2021-03-09",46,{"$f":"SUMIF(G$2:$G$1187,L9,$I$2:$I$1187)","v":0}]
[2,39505,"حميد احمد عبدالله","الرمادي القديمة","بنزين",{"$f":"INDEX(شهر3!$A$2:$A$17,MATCH((B10&\"*\"&G10&\"*\"&D10&\"*\"&E10),شهر3!$G$2:$G$17&\"*\"&شهر3!$F$2:$F$17&\"*\"&شهر3!$O$2:$O$17&\"*\"&شهر3!$E$2:$E$17,0))","v":{"$error":"#N/A"}},"2021-03-03","تسديد نقص",null,null,null,"2021-03-10",31,{"$f":"SUMIF(G$2:$G$1187,L10,$I$2:$I$1187)","v":0}]
[17,39505,"حميد احمد عبدالله","الرمادي القديمة","بنزين",{"$f":"INDEX(شهر3!$A$2:$A$17,MATCH((B11&\"*\"&G11&\"*\"&D11&\"*\"&E11),شهر3!$G$2:$G$17&\"*\"&شهر3!$F$2:$F$17&\"*\"&شهر3!$O$2:$O$17&\"*\"&شهر3!$E$2:$E$17,0))","v":{"$error":"#N/A"}},"2021-03-03","تسديد نقص",null,null,null,"2021-03-11",17,{"$f":"SUMIF(G$2:$G$1187,L11,$I$2:$I$1187)","v":0}]
[9,559661,"حميد حسين علي","طليحة","بنزين",{"$f":"INDEX(شهر3!$A$2:$A$17,MATCH((B12&\"*\"&G12&\"*\"&D12&\"*\"&E12),شهر3!$G$2:$G$17&\"*\"&شهر3!$F$2:$F$17&\"*\"&شهر3!$O$2:$O$17&\"*\"&شهر3!$E$2:$E$17,0))","v":{"$error":"#N/A"}},"2021-03-03","صرف بصك شهر شباط",null,null,null,"2021-03-12",7,{"$f":"SUMIF(G$2:$G$1187,L12,$I$2:$I$1187)","v":0}]
[3,35184,"خلف عويد فرحان","عنه الجديدة","بنزين",{"$f":"INDEX(شهر3!$A$2:$A$17,MATCH((B13&\"*\"&G13&\"*\"&D13&\"*\"&E13),شهر3!$G$2:$G$17&\"*\"&شهر3!$F$2:$F$17&\"*\"&شهر3!$O$2:$O$17&\"*\"&شهر3!$E$2:$E$17,0))","v":{"$error":"#N/A"}},"2021-03-03","صرف بصك شهر شباط",null,null,null,"2021-03-13",4,{"$f":"SUMIF(G$2:$G$1187,L13,$I$2:$I$1187)","v":0}]
[4,64602,"زيد جمعة زيدان","الصقلاوية","بنزين",{"$f":"INDEX(شهر3!$A$2:$A$17,MATCH((B14&\"*\"&G14&\"*\"&D14&\"*\"&E14),شهر3!$G$2:$G$17&\"*\"&شهر3!$F$2:$F$17&\"*\"&شهر3!$O$2:$O$17&\"*\"&شهر3!$E$2:$E$17,0))","v":{"$error":"#N/A"}},"2021-03-03","صرف بصك شهر شباط",null,null,null,"2021-03-15",12,{"$f":"SUMIF(G$2:$G$1187,L14,$I$2:$I$1187)","v":0}]
[5,15139,"عزيز مجبل عويد","الحقلانية","بنزين",{"$f":"INDEX(شهر3!$A$2:$A$17,MATCH((B15&\"*\"&G15&\"*\"&D15&\"*\"&E15),شهر3!$G$2:$G$17&\"*\"&شهر3!$F$2:$F$17&\"*\"&شهر3!$O$2:$O$17&\"*\"&شهر3!$E$2:$E$17,0))","v":{"$error":"#N/A"}},"2021-03-03","صرف بصك شهر شباط",null,null,null,"2021-03-16",9,{"$f":"SUMIF(G$2:$G$1187,L15,$I$2:$I$1187)","v":0}]
[11,50674,"علي عويد فرحان","الجبل","بنزين",{"$f":"INDEX(شهر3!$A$2:$A$17,MATCH((B16&\"*\"&G16&\"*\"&D16&\"*\"&E16),شهر3!$G$2:$G$17&\"*\"&شهر3!$F$2:$F$17&\"*\"&شهر3!$O$2:$O$17&\"*\"&شهر3!$E$2:$E$17,0))","v":{"$error":"#N/A"}},"2021-03-03","صرف بصك شهر شباط",null,null,null,"2021-03-19",7,{"$f":"SUMIF(G$2:$G$1187,L16,$I$2:$I$1187)","v":0}]
[13,19188,"فلاح نوري زيدان","الفلوجة الجديدة","بنزين",{"$f":"INDEX(شهر3!$A$2:$A$17,MATCH((B17&\"*\"&G17&\"*\"&D17&\"*\"&E17),شهر3!$G$2:$G$17&\"*\"&شهر3!$F$2:$F$17&\"*\"&شهر3!$O$2:$O$17&\"*\"&شهر3!$E$2:$E$17,0))","v":{"$error":"#N/A"}},"2021-03-03","صرف بصك شهر شباط",null,null,null,"2021-03-20",9,{"$f":"SUMIF(G$2:$G$1187,L17,$I$2:$I$1187)","v":0}]
[7,48662,"قحطان عدنان عويد","راوة","بنزين",{"$f":"INDEX(شهر3!$A$2:$A$17,MATCH((B18&\"*\"&G18&\"*\"&D18&\"*\"&E18),شهر3!$G$2:$G$17&\"*\"&شهر3!$F$2:$F$17&\"*\"&شهر3!$O$2:$O$17&\"*\"&شهر3!$E$2:$E$17,0))","v":{"$error":"#N/A"}},"2021-03-03","صرف بصك شهر شباط",null,null,null,"2021-03-21",0,{"$f":"SUMIF(G$2:$G$1187,L18,$I$2:$I$1187)","v":0}]
[6,60568,"مجبل عويد فرحان","هيت الجديدة","بنزين",{"$f":"INDEX(شهر3!$A$2:$A$17,MATCH((B19&\"*\"&G19&\"*\"&D19&\"*\"&E19),شهر3!$G$2:$G$17&\"*\"&شهر3!$F$2:$F$17&\"*\"&شهر3!$O$2:$O$17&\"*\"&شهر3!$E$2:$E$17,0))","v":{"$error":"#N/A"}},"2021-03-03","صرف بصك شهر شباط",null,null,null,"2021-03-22",0,{"$f":"SUMIF(G$2:$G$1187,L19,$I$2:$I$1187)","v":0}]
[12,51383,"محمد علي بوال","الحبانية القديمة","بنزين",{"$f":"INDEX(شهر3!$A$2:$A$17,MATCH((B20&\"*\"&G20&\"*\"&D20&\"*\"&E20),شهر3!$G$2:$G$17&\"*\"&شهر3!$F$2:$F$17&\"*\"&شهر3!$O$2:$O$17&\"*\"&شهر3!$E$2:$E$17,0))","v":{"$error":"#N/A"}},"2021-03-03","صرف بصك شهر شباط",null,null,null,"2021-03-23",0,{"$f":"SUMIF(G$2:$G$1187,L20,$I$2:$I$1187)","v":0}]
[1,67691,"حامد سليمان إبراهيم","الرمادي الجديدة","بنزين",{"$f":"INDEX(شهر3!$A$2:$A$17,MATCH((B21&\"*\"&G21&\"*\"&D21&\"*\"&E21),شهر3!$G$2:$G$17&\"*\"&شهر3!$F$2:$F$17&\"*\"&شهر3!$O$2:$O$17&\"*\"&شهر3!$E$2:$E$17,0))","v":{"$error":"#N/A"}},"2021-03-04",null,null,null,null,"2021-03-24",0,{"$f":"SUMIF(G$2:$G$1187,L21,$I$2:$I$1187)","v":0}]
[9,67691,"حامد سليمان إبراهيم","الرمادي الجديدة","بنزين",{"$f":"INDEX(شهر3!$A$2:$A$17,MATCH((B22&\"*\"&G22&\"*\"&D22&\"*\"&E22),شهر3!$G$2:$G$17&\"*\"&شهر3!$F$2:$F$17&\"*\"&شهر3!$O$2:$O$17&\"*\"&شهر3!$E$2:$E$17,0))","v":{"$error":"#N/A"}},"2021-03-04",null,null,null,null,"2021-03-25",0,{"$f":"SUMIF(G$2:$G$1187,L22,$I$2:$I$1187)","v":0}]
[3,60568,"مجبل عويد فرحان","النخيب","بنزين",{"$f":"INDEX(شهر3!$A$2:$A$17,MATCH((B23&\"*\"&G23&\"*\"&D23&\"*\"&E23),شهر3!$G$2:$G$17&\"*\"&شهر3!$F$2:$F$17&\"*\"&شهر3!$O$2:$O$17&\"*\"&شهر3!$E$2:$E$17,0))","v":{"$error":"#N/A"}},"2021-03-04",null,null,null,null,"2021-03-26",0,{"$f":"SUMIF(G$2:$G$1187,L23,$I$2:$I$1187)","v":0}]
[4,22898,"احمد طلب عبد","القائم","بنزين",{"$f":"INDEX(شهر3!$A$2:$A$17,MATCH((B24&\"*\"&G24&\"*\"&D24&\"*\"&E24),شهر3!$G$2:$G$17&\"*\"&شهر3!$F$2:$F$17&\"*\"&شهر3!$O$2:$O$17&\"*\"&شهر3!$E$2:$E$17,0))","v":{"$error":"#N/A"}},"2021-03-04",null,null,null,null,"2021-03-27",0,{"$f":"SUMIF(G$2:$G$1187,L24,$I$2:$I$1187)","v":0}]
[5,559288,"خميس حمد حماد","هيت الجديدة","بنزين",{"$f":"INDEX(شهر3!$A$2:$A$17,MATCH((B25&\"*\"&G25&\"*\"&D25&\"*\"&E25),شهر3!$G$2:$G$17&\"*\"&شهر3!$F$2:$F$17&\"*\"&شهر3!$O$2:$O$17&\"*\"&شهر3!$E$2:$E$17,0))","v":{"$error":"#N/A"}},"2021-03-04",null,null,null,null,"2021-03-28",0,{"$f":"SUMIF(G$2:$G$1187,L25,$I$2:$I$1187)","v":0}]
[6,19188,"فلاح نوري زيدان","الفلوجة الجديدة","بنزين",{"$f":"INDEX(شهر3!$A$2:$A$17,MATCH((B26&\"*\"&G26&\"*\"&D26&\"*\"&E26),شهر3!$G$2:$G$17&\"*\"&شهر3!$F$2:$F$17&\"*\"&شهر3!$O$2:$O$17&\"*\"&شهر3!$E$2:$E$17,0))","v":{"$error":"#N/A"}},"2021-03-04",null,null,null,null,null,{"$f":"SUM(M2:M25)","v":307},{"$f":"SUM(N2:N25)","v":0}]
[7,15214,"محمد زيدان خلف","البساط الاخضر","بنزين",{"$f":"INDEX(شهر3!$A$2:$A$17,MATCH((B27&\"*\"&G27&\"*\"&D27&\"*\"&E27),شهر3!$G$2:$G$17&\"*\"&شهر3!$F$2:$F$17&\"*\"&شهر3!$O$2:$O$17&\"*\"&شهر3!$E$2:$E$17,0))","v":{"$error":"#N/A"}},"2021-03-04",null,null,null,null,null,null,{"$f":"#REF!","v":{"$error":"#REF!"}}]
[8,15051,"احمد إبراهيم حسان","الحقلانية","بنزين",{"$f":"INDEX(شهر3!$A$2:$A$17,MATCH((B28&\"*\"&G28&\"*\"&D28&\"*\"&E28),شهر3!$G$2:$G$17&\"*\"&شهر3!$F$2:$F$17&\"*\"&شهر3!$O$2:$O$17&\"*\"&شهر3!$E$2:$E$17,0))","v":{"$error":"#N/A"}},"2021-03-04",null,null,null,null,null,null,{"$f":"SUM(N26:N27)","v":{"$error":"#REF!"}}]
[2,39505,"حميد احمد عبدالله","الرمادي القديمة","بنزين",{"$f":"INDEX(شهر3!$A$2:$A$17,MATCH((B29&\"*\"&G29&\"*\"&D29&\"*\"&E29),شهر3!$G$2:$G$17&\"*\"&شهر3!$F$2:$F$17&\"*\"&شهر3!$O$2:$O$17&\"*\"&شهر3!$E$2:$E$17,0))","v":{"$error":"#N/A"}},"2021-03-04","تسديد نقص"]
[2,562749,"جمعة عويد فرحان","هيت الجديدة","بنزين",{"$f":"INDEX(شهر3!$A$2:$A$17,MATCH((B30&\"*\"&G30&\"*\"&D30&\"*\"&E30),شهر3!$G$2:$G$17&\"*\"&شهر3!$F$2:$F$17&\"*\"&شهر3!$O$2:$O$17&\"*\"&شهر3!$E$2:$E$17,0))","v":{"$error":"#N/A"}},"2021-03-05"]
[3,559661,"حميد حسين علي","الفرات","بنزين",{"$f":"INDEX(شهر3!$A$2:$A$17,MATCH((B31&\"*\"&G31&\"*\"&D31&\"*\"&E31),شهر3!$G$2:$G$17&\"*\"&شهر3!$F$2:$F$17&\"*\"&شهر3!$O$2:$O$17&\"*\"&شهر3!$E$2:$E$17,0))","v":{"$error":"#N/A"}},"2021-03-05"]
[5,15214,"محمد زيدان خلف","القائم","بنزين",{"$f":"INDEX(شهر3!$A$2:$A$17,MATCH((B32&\"*\"&G32&\"*\"&D32&\"*\"&E32),شهر3!$G$2:$G$17&\"*\"&شهر3!$F$2:$F$17&\"*\"&شهر3!$O$2:$O$17&\"*\"&شهر3!$E$2:$E$17,0))","v":{"$error":"#N/A"}},"2021-03-05",null,null,null,null,"مبلغ بوجرات المحطات",{"$f":"N28","v":{"$error":"#REF!"}}]
[6,197684,"حامد عواد فرحان","بروانة","بنزين",{"$f":"INDEX(شهر3!$A$2:$A$17,MATCH((B33&\"*\"&G33&\"*\"&D33&\"*\"&E33),شهر3!$G$2:$G$17&\"*\"&شهر3!$F$2:$F$17&\"*\"&شهر3!$O$2:$O$17&\"*\"&شهر3!$E$2:$E$17,0))","v":{"$error":"#N/A"}},"2021-03-05"]
[7,60940,"احمد عويد فرحان","الجبل","بنزين",{"$f":"INDEX(شهر3!$A$2:$A$17,MATCH((B34&\"*\"&G34&\"*\"&D34&\"*\"&E34),شهر3!$G$2:$G$17&\"*\"&شهر3!$F$2:$F$17&\"*\"&شهر3!$O$2:$O$17&\"*\"&شهر3!$E$2:$E$17,0))","v":{"$error":"#N/A"}},"2021-03-05"]
[8,15139,"عزيز مجبل عويد","الحقلانية","بنزين",{"$f":"INDEX(شهر3!$A$2:$A$17,MATCH((B35&\"*\"&G35&\"*\"&D35&\"*\"&E35),شهر3!$G$2:$G$17&\"*\"&شهر3!$F$2:$F$17&\"*\"&شهر3!$O$2:$O$17&\"*\"&شهر3!$E$2:$E$17,0))","v":{"$error":"#N/A"}},"2021-03-05"]
[4,39505,"حميد احمد عبدالله","الرمادي القديمة","بنزين",{"$f":"INDEX(شهر3!$A$2:$A$17,MATCH((B36&\"*\"&G36&\"*\"&D36&\"*\"&E36),شهر3!$G$2:$G$17&\"*\"&شهر3!$F$2:$F$17&\"*\"&شهر3!$O$2:$O$17&\"*\"&شهر3!$E$2:$E$17,0))","v":{"$error":"#N/A"}},"2021-03-05","تسديد نقص"]
[1,64602,"زيد جمعة زيدان","الكرمة","بنزين",{"$f":"INDEX(شهر3!$A$2:$A$17,MATCH((B37&\"*\"&G37&\"*\"&D37&\"*\"&E37),شهر3!$G$2:$G$17&\"*\"&شهر3!$F$2:$F$17&\"*\"&شهر3!$O$2:$O$17&\"*\"&شهر3!$E$2:$E$17,0))","v":{"$error":"#N/A"}},"2021-03-05"]
[1,67691,"حامد سليمان إبراهيم","الرمادي الجديدة","بنزين",{"$f":"INDEX(شهر3!$A$2:$A$17,MATCH((B38&\"*\"&G38&\"*\"&D38&\"*\"&E38),شهر3!$G$2:$G$17&\"*\"&شهر3!$F$2:$F$17&\"*\"&شهر3!$O$2:$O$17&\"*\"&شهر3!$E$2:$E$17,0))","v":{"$error":"#N/A"}},"2021-03-06"]
[2,15946,"أنور صعب حسين","الجبل","بنزين",{"$f":"INDEX(شهر3!$A$2:$A$17,MATCH((B39&\"*\"&G39&\"*\"&D39&\"*\"&E39),شهر3!$G$2:$G$17&\"*\"&شهر3!$F$2:$F$17&\"*\"&شهر3!$O$2:$O$17&\"*\"&شهر3!$E$2:$E$17,0))","v":{"$error":"#N/A"}},"2021-03-06"]
[1,64602,"زيد جمعة زيدان","الصقلاوية","بنزين",{"$f":"INDEX(شهر3!$A$2:$A$17,MATCH((B40&\"*\"&G40&\"*\"&D40&\"*\"&E40),شهر3!$G$2:$G$17&\"*\"&شهر3!$F$2:$F$17&\"*\"&شهر3!$O$2:$O$17&\"*\"&شهر3!$E$2:$E$17,0))","v":{"$error":"#N/A"}},"2021-03-07"]
[2,48662,"قحطان عدنان عويد","الحقلانية","بنزين",{"$f":"INDEX(شهر3!$A$2:$A$17,MATCH((B41&\"*\"&G41&\"*\"&D41&\"*\"&E41),شهر3!$G$2:$G$17&\"*\"&شهر3!$F$2:$F$17&\"*\"&شهر3!$O$2:$O$17&\"*\"&شهر3!$E$2:$E$17,0))","v":{"$error":"#N/A"}},"2021-03-07"]
[3,67691,"حامد سليمان إبراهيم","الرمادي الجديدة","بنزين",{"$f":"INDEX(شهر3!$A$2:$A$17,MATCH((B42&\"*\"&G42&\"*\"&D42&\"*\"&E42),شهر3!$G$2:$G$17&\"*\"&شهر3!$F$2:$F$17&\"*\"&شهر3!$O$2:$O$17&\"*\"&شهر3!$E$2:$E$17,0))","v":{"$error":"#N/A"}},"2021-03-07"]
[4,51383,"محمد علاوي بوال","الفلوجة الجديدة","بنزين",{"$f":"INDEX(شهر3!$A$2:$A$17,MATCH((B43&\"*\"&G43&\"*\"&D43&\"*\"&E43),شهر3!$G$2:$G$17&\"*\"&شهر3!$F$2:$F$17&\"*\"&شهر3!$O$2:$O$17&\"*\"&شهر3!$E$2:$E$17,0))","v":{"$error":"#N/A"}},"2021-03-07"]
[5,15051,"احمد إبراهيم حسان","عنه الجديدة","بنزين",{"$f":"INDEX(شهر3!$A$2:$A$17,MATCH((B44&\"*\"&G44&\"*\"&D44&\"*\"&E44),شهر3!$G$2:$G$17&\"*\"&شهر3!$F$2:$F$17&\"*\"&شهر3!$O$2:$O$17&\"*\"&شهر3!$E$2:$E$17,0))","v":{"$error":"#N/A"}},"2021-03-07"]
[6,559661,"حميد حسين علي","الحبانية القديمة","بنزين",{"$f":"INDEX(شهر3!$A$2:$A$17,MATCH((B45&\"*\"&G45&\"*\"&D45&\"*\"&E45),شهر3!$G$2:$G$17&\"*\"&شهر3!$F$2:$F$17&\"*\"&شهر3!$O$2:$O$17&\"*\"&شهر3!$E$2:$E$17,0))","v":{"$error":"#N/A"}},"2021-03-07"]
[7,19188,"فلاح نوري زيدان","الفلوجة الجديدة","بنزين",{"$f":"INDEX(شهر3!$A$2:$A$17,MATCH((B46&\"*\"&G46&\"*\"&D46&\"*\"&E46),شهر3!$G$2:$G$17&\"*\"&شهر3!$F$2:$F$17&\"*\"&شهر3!$O$2:$O$17&\"*\"&شهر3!$E$2:$E$17,0))","v":{"$error":"#N/A"}},"2021-03-07"]
[8,197684,"حامد عواد فرحان","الرمانة","بنزين",{"$f":"INDEX(شهر3!$A$2:$A$17,MATCH((B47&\"*\"&G47&\"*\"&D47&\"*\"&E47),شهر3!$G$2:$G$17&\"*\"&شهر3!$F$2:$F$17&\"*\"&شهر3!$O$2:$O$17&\"*\"&شهر3!$E$2:$E$17,0))","v":{"$error":"#N/A"}},"2021-03-07"]
[9,39505,"حميد احمد عبدالله","الرمادي القديمة","بنزين",{"$f":"INDEX(شهر3!$A$2:$A$17,MATCH((B48&\"*\"&G48&\"*\"&D48&\"*\"&E48),شهر3!$G$2:$G$17&\"*\"&شهر3!$F$2:$F$17&\"*\"&شهر3!$O$2:$O$17&\"*\"&شهر3!$E$2:$E$17,0))","v":{"$error":"#N/A"}},"2021-03-07","تسديد نقص"]
[2,67691,"حامد سليمان إبراهيم","الرمادي الجديدة","بنزين",{"$f":"INDEX(شهر3!$A$2:$A$17,MATCH((B49&\"*\"&G49&\"*\"&D49&\"*\"&E49),شهر3!$G$2:$G$17&\"*\"&شهر3!$F$2:$F$17&\"*\"&شهر3!$O$2:$O$17&\"*\"&شهر3!$E$2:$E$17,0))","v":{"$error":"#N/A"}},"2021-03-08"]
[3,22898,"احمد طلب عبد","القائم","بنزين",{"$f":"INDEX(شهر3!$A$2:$A$17,MATCH((B50&\"*\"&G50&\"*\"&D50&\"*\"&E50),شهر3!$G$2:$G$17&\"*\"&شهر3!$F$2:$F$17&\"*\"&شهر3!$O$2:$O$17&\"*\"&شهر3!$E$2:$E$17,0))","v":{"$error":"#N/A"}},"2021-03-08"]
[4,562749,"جمعة عويد فرحان","الكرمة","بنزين",{"$f":"INDEX(شهر3!$A$2:$A$17,MATCH((B51&\"*\"&G51&\"*\"&D51&\"*\"&E51),شهر3!$G$2:$G$17&\"*\"&شهر3!$F$2:$F$17&\"*\"&شهر3!$O$2:$O$17&\"*\"&شهر3!$E$2:$E$17,0))","v":{"$error":"#N/A"}},"2021-03-08"]
[1,64602,"زيد جمعة زيدان","الصقلاوية","بنزين",{"$f":"INDEX(شهر3!$A$2:$A$17,MATCH((B52&\"*\"&G52&\"*\"&D52&\"*\"&E52),شهر3!$G$2:$G$17&\"*\"&شهر3!$F$2:$F$17&\"*\"&شهر3!$O$2:$O$17&\"*\"&شهر3!$E$2:$E$17,0))","v":{"$error":"#N/A"}},"2021-03-08"]
[5,39505,"حميد احمد عبدالله","الرمادي القديمة","بنزين",{"$f":"INDEX(شهر3!$A$2:$A$17,MATCH((B53&\"*\"&G53&\"*\"&D53&\"*\"&E53),شهر3!$G$2:$G$17&\"*\"&شهر3!$F$2:$F$17&\"*\"&شهر3!$O$2:$O$17&\"*\"&شهر3!$E$2:$E$17,0))","v":{"$error":"#N/A"}},"2021-03-08","تسديد نقص"]
[12,67691,"حامد سليمان إبراهيم","الرمادي الجديدة","بنزين",{"$f":"INDEX(شهر3!$A$2:$A$17,MATCH((B54&\"*\"&G54&\"*\"&D54&\"*\"&E54),شهر3!$G$2:$G$17&\"*\"&شهر3!$F$2:$F$17&\"*\"&شهر3!$O$2:$O$17&\"*\"&شهر3!$E$2:$E$17,0))","v":{"$error":"#N/A"}},"2021-03-09"]
[16,67691,"حامد سليمان إبراهيم","الرمادي الجديدة","بنزين",{"$f":"INDEX(شهر3!$A$2:$A$17,MATCH((B55&\"*\"&G55&\"*\"&D55&\"*\"&E55),شهر3!$G$2:$G$17&\"*\"&شهر3!$F$2:$F$17&\"*\"&شهر3!$O$2:$O$17&\"*\"&شهر3!$E$2:$E$17,0))","v":{"$error":"#N/A"}},"2021-03-09"]
[11,60568,"مجبل عويد فرحان","النخيب","بنزين",{"$f":"INDEX(شهر3!$A$2:$A$17,MATCH((B56&\"*\"&G56&\"*\"&D56&\"*\"&E56),شهر3!$G$2:$G$17&\"*\"&شهر3!$F$2:$F$17&\"*\"&شهر3!$O$2:$O$17&\"*\"&شهر3!$E$2:$E$17,0))","v":{"$error":"#N/A"}},"2021-03-09"]
[10,48662,"قحطان عدنان عويد","عنه الجديدة","بنزين",{"$f":"INDEX(شهر3!$A$2:$A$17,MATCH((B57&\"*\"&G57&\"*\"&D57&\"*\"&E57),شهر3!$G$2:$G$17&\"*\"&شهر3!$F$2:$F$17&\"*\"&شهر3!$O$2:$O$17&\"*\"&شهر3!$E$2:$E$17,0))","v":{"$error":"#N/A"}},"2021-03-09"]
[9,562749,"جمعة عويد فرحان","الجبل","بنزين",{"$f":"INDEX(شهر3!$A$2:$A$17,MATCH((B58&\"*\"&G58&\"*\"&D58&\"*\"&E58),شهر3!$G$2:$G$17&\"*\"&شهر3!$F$2:$F$17&\"*\"&شهر3!$O$2:$O$17&\"*\"&شهر3!$E$2:$E$17,0))","v":{"$error":"#N/A"}},"2021-03-09"]
[8,22898,"احمد طلب عبد","القائم","بنزين",{"$f":"INDEX(شهر3!$A$2:$A$17,MATCH((B59&\"*\"&G59&\"*\"&D59&\"*\"&E59),شهر3!$G$2:$G$17&\"*\"&شهر3!$F$2:$F$17&\"*\"&شهر3!$O$2:$O$17&\"*\"&شهر3!$E$2:$E$17,0))","v":{"$error":"#N/A"}},"2021-03-09"]
[7,51383,"محمد علاوي بوال","الفلوجة الجديدة","بنزين",{"$f":"INDEX(شهر3!$A$2:$A$17,MATCH((B60&\"*\"&G60&\"*\"&D60&\"*\"&E60),شهر3!$G$2:$G$17&\"*\"&شهر3!$F$2:$F$17&\"*\"&شهر3!$O$2:$O$17&\"*\"&شهر3!$E$2:$E$17,0))","v":{"$error":"#N/A"}},"2021-03-09"]
[6,559288,"خميس حمد حماد","هيت الجديدة","بنزين",{"$f":"INDEX(شهر3!$A$2:$A$17,MATCH((B61&\"*\"&G61&\"*\"&D61&\"*\"&E61),شهر3!$G$2:$G$17&\"*\"&شهر3!$F$2:$F$17&\"*\"&شهر3!$O$2:$O$17&\"*\"&شهر3!$E$2:$E$17,0))","v":{"$error":"#N/A"}},"2021-03-09"]
[5,64602,"زيد جمعة زيدان","الصقلاوية","بنزين",{"$f":"INDEX(شهر3!$A$2:$A$17,MATCH((B62&\"*\"&G62&\"*\"&D62&\"*\"&E62),شهر3!$G$2:$G$17&\"*\"&شهر3!$F$2:$F$17&\"*\"&شهر3!$O$2:$O$17&\"*\"&شهر3!$E$2:$E$17,0))","v":{"$error":"#N/A"}},"2021-03-09"]
[4,15051,"احمد إبراهيم حسان","بروانة","بنزين",{"$f":"INDEX(شهر3!$A$2:$A$17,MATCH((B63&\"*\"&G63&\"*\"&D63&\"*\"&E63),شهر3!$G$2:$G$17&\"*\"&شهر3!$F$2:$F$17&\"*\"&شهر3!$O$2:$O$17&\"*\"&شهر3!$E$2:$E$17,0))","v":{"$error":"#N/A"}},"2021-03-09"]
[2,64214,"احمد مطر فرحان","الحقلانية","بنزين",{"$f":"INDEX(شهر3!$A$2:$A$17,MATCH((B64&\"*\"&G64&\"*\"&D64&\"*\"&E64),شهر3!$G$2:$G$17&\"*\"&شهر3!$F$2:$F$17&\"*\"&شهر3!$O$2:$O$17&\"*\"&شهر3!$E$2:$E$17,0))","v":{"$error":"#N/A"}},"2021-03-09"]
[1,197684,"حامد عواد فرحان","الرطبة","بنزين",{"$f":"INDEX(شهر3!$A$2:$A$17,MATCH((B65&\"*\"&G65&\"*\"&D65&\"*\"&E65),شهر3!$G$2:$G$17&\"*\"&شهر3!$F$2:$F$17&\"*\"&شهر3!$O$2:$O$17&\"*\"&شهر3!$E$2:$E$17,0))","v":{"$error":"#N/A"}},"2021-03-09"]
[13,60940,"احمد عويد فرحان","هيت الجديدة","بنزين",{"$f":"INDEX(شهر3!$A$2:$A$17,MATCH((B66&\"*\"&G66&\"*\"&D66&\"*\"&E66),شهر3!$G$2:$G$17&\"*\"&شهر3!$F$2:$F$17&\"*\"&شهر3!$O$2:$O$17&\"*\"&شهر3!$E$2:$E$17,0))","v":{"$error":"#N/A"}},"2021-03-09"]
[14,19188,"فلاح نوري زيدان","الفلوجة الجديدة","بنزين",{"$f":"INDEX(شهر3!$A$2:$A$17,MATCH((B67&\"*\"&G67&\"*\"&D67&\"*\"&E67),شهر3!$G$2:$G$17&\"*\"&شهر3!$F$2:$F$17&\"*\"&شهر3!$O$2:$O$17&\"*\"&شهر3!$E$2:$E$17,0))","v":{"$error":"#N/A"}},"2021-03-09"]
[15,77873,"وليد سامي حميد","الكرمة","بنزين",{"$f":"INDEX(شهر3!$A$2:$A$17,MATCH((B68&\"*\"&G68&\"*\"&D68&\"*\"&E68),شهر3!$G$2:$G$17&\"*\"&شهر3!$F$2:$F$17&\"*\"&شهر3!$O$2:$O$17&\"*\"&شهر3!$E$2:$E$17,0))","v":{"$error":"#N/A"}},"2021-03-09"]
[3,39505,"حميد احمد عبدالله","الرمادي القديمة","بنزين",{"$f":"INDEX(شهر3!$A$2:$A$17,MATCH((B69&\"*\"&G69&\"*\"&D69&\"*\"&E69),شهر3!$G$2:$G$17&\"*\"&شهر3!$F$2:$F$17&\"*\"&شهر3!$O$2:$O$17&\"*\"&شهر3!$E$2:$E$17,0))","v":{"$error":"#N/A"}},"2021-03-09","تسديد نقص"]
[1,67691,"حامد سليمان إبراهيم","الرمادي الجديدة","بنزين",{"$f":"INDEX(شهر3!$A$2:$A$17,MATCH((B70&\"*\"&G70&\"*\"&D70&\"*\"&E70),شهر3!$G$2:$G$17&\"*\"&شهر3!$F$2:$F$17&\"*\"&شهر3!$O$2:$O$17&\"*\"&شهر3!$E$2:$E$17,0))","v":{"$error":"#N/A"}},"2021-03-10"]
[8,67691,"حامد سليمان إبراهيم","الرمادي الجديدة","بنزين",{"$f":"INDEX(شهر3!$A$2:$A$17,MATCH((B71&\"*\"&G71&\"*\"&D71&\"*\"&E71),شهر3!$G$2:$G$17&\"*\"&شهر3!$F$2:$F$17&\"*\"&شهر3!$O$2:$O$17&\"*\"&شهر3!$E$2:$E$17,0))","v":{"$error":"#N/A"}},"2021-03-10"]
[2,64602,"زيد جمعة زيدان","الصقلاوية","بنزين",{"$f":"INDEX(شهر3!$A$2:$A$17,MATCH((B72&\"*\"&G72&\"*\"&D72&\"*\"&E72),شهر3!$G$2:$G$17&\"*\"&شهر3!$F$2:$F$17&\"*\"&شهر3!$O$2:$O$17&\"*\"&شهر3!$E$2:$E$17,0))","v":{"$error":"#N/A"}},"2021-03-10"]
[3,64214,"احمد مطر فرحان","عرعر","بنزين",{"$f":"INDEX(شهر3!$A$2:$A$17,MATCH((B73&\"*\"&G73&\"*\"&D73&\"*\"&E73),شهر3!$G$2:$G$17&\"*\"&شهر3!$F$2:$F$17&\"*\"&شهر3!$O$2:$O$17&\"*\"&شهر3!$E$2:$E$17,0))","v":{"$error":"#N/A"}},"2021-03-10"]
[4,50016,"وسام خلف حمود","النخيب","بنزين",{"$f":"INDEX(شهر3!$A$2:$A$17,MATCH((B74&\"*\"&G74&\"*\"&D74&\"*\"&E74),شهر3!$G$2:$G$17&\"*\"&شهر3!$F$2:$F$17&\"*\"&شهر3!$O$2:$O$17&\"*\"&شهر3!$E$2:$E$17,0))","v":{"$error":"#N/A"}},"2021-03-10"]
[5,197684,"حامد عواد فرحان","عرعر","بنزين",{"$f":"INDEX(شهر3!$A$2:$A$17,MATCH((B75&\"*\"&G75&\"*\"&D75&\"*\"&E75),شهر3!$G$2:$G$17&\"*\"&شهر3!$F$2:$F$17&\"*\"&شهر3!$O$2:$O$17&\"*\"&شهر3!$E$2:$E$17,0))","v":{"$error":"#N/A"}},"2021-03-10"]
[7,19188,"فلاح نوري زيدان","الحبانية القديمة","بنزين",{"$f":"INDEX(شهر3!$A$2:$A$17,MATCH((B76&\"*\"&G76&\"*\"&D76&\"*\"&E76),شهر3!$G$2:$G$17&\"*\"&شهر3!$F$2:$F$17&\"*\"&شهر3!$O$2:$O$17&\"*\"&شهر3!$E$2:$E$17,0))","v":{"$error":"#N/A"}},"2021-03-10"]
[9,559661,"حميد حسين علي","هيت الجديدة","بنزين",{"$f":"INDEX(شهر3!$A$2:$A$17,MATCH((B77&\"*\"&G77&\"*\"&D77&\"*\"&E77),شهر3!$G$2:$G$17&\"*\"&شهر3!$F$2:$F$17&\"*\"&شهر3!$O$2:$O$17&\"*\"&شهر3!$E$2:$E$17,0))","v":{"$error":"#N/A"}},"2021-03-10"]
[6,39505,"حميد احمد عبدالله","الرمادي القديمة","بنزين",{"$f":"INDEX(شهر3!$A$2:$A$17,MATCH((B78&\"*\"&G78&\"*\"&D78&\"*\"&E78),شهر3!$G$2:$G$17&\"*\"&شهر3!$F$2:$F$17&\"*\"&شهر3!$O$2:$O$17&\"*\"&شهر3!$E$2:$E$17,0))","v":{"$error":"#N/A"}},"2021-03-10","تسديد نقص"]
[1,557566,{"$f":"VLOOKUP(B79,برقية!$A$2:$B$458,2,FALSE)","v":"وائل نايف صالح"},"الصقلاوية","بنزين",{"$f":"INDEX(شهر3!$A$2:$A$17,MATCH((B79&\"*\"&G79&\"*\"&D79&\"*\"&E79),شهر3!$G$2:$G$17&\"*\"&شهر3!$F$2:$F$17&\"*\"&شهر3!$O$2:$O$17&\"*\"&شهر3!$E$2:$E$17,0))","v":{"$error":"#N/A"}},"2021-03-11"]
[2,21304,{"$f":"VLOOKUP(B80,برقية!$A$2:$B$458,2,FALSE)","v":"محمد ضاري زيدان"},"الكرمة","بنزين",{"$f":"INDEX(شهر3!$A$2:$A$17,MATCH((B80&\"*\"&G80&\"*\"&D80&\"*\"&E80),شهر3!$G$2:$G$17&\"*\"&شهر3!$F$2:$F$17&\"*\"&شهر3!$O$2:$O$17&\"*\"&شهر3!$E$2:$E$17,0))","v":{"$error":"#N/A"}},"2021-03-11"]
[3,97978,{"$f":"VLOOKUP(B81,برقية!$A$2:$B$458,2,FALSE)","v":"رعد حبيب عبدالله"},"الرمادي الجديدة","بنزين",{"$f":"INDEX(شهر3!$A$2:$A$17,MATCH((B81&\"*\"&G81&\"*\"&D81&\"*\"&E81),شهر3!$G$2:$G$17&\"*\"&شهر3!$F$2:$F$17&\"*\"&شهر3!$O$2:$O$17&\"*\"&شهر3!$E$2:$E$17,0))","v":{"$error":"#N/A"}},"2021-03-11"]
[4,15139,{"$f":"VLOOKUP(B82,برقية!$A$2:$B$458,2,FALSE)","v":"عزيز مجبل عويد"},"الحقلانية","بنزين",{"$f":"INDEX(شهر3!$A$2:$A$17,MATCH((B82&\"*\"&G82&\"*\"&D82&\"*\"&E82),شهر3!$G$2:$G$17&\"*\"&شهر3!$F$2:$F$17&\"*\"&شهر3!$O$2:$O$17&\"*\"&شهر3!$E$2:$E$17,0))","v":{"$error":"#N/A"}},"2021-03-11"]
[5,559288,{"$f":"VLOOKUP(B83,برقية!$A$2:$B$458,2,FALSE)","v":"خميس حمد حماد"},"كبيسة","بنزين",{"$f":"INDEX(شهر3!$A$2:$A$17,MATCH((B83&\"*\"&G83&\"*\"&D83&\"*\"&E83),شهر3!$G$2:$G$17&\"*\"&شهر3!$F$2:$F$17&\"*\"&شهر3!$O$2:$O$17&\"*\"&شهر3!$E$2:$E$17,0))","v":{"$error":"#N/A"}},"2021-03-11"]
[6,19188,{"$f":"VLOOKUP(B84,برقية!$A$2:$B$458,2,FALSE)","v":"فلاح نوري زيدان"},"الفلوجة الجديدة","بنزين",{"$f":"INDEX(شهر3!$A$2:$A$17,MATCH((B84&\"*\"&G84&\"*\"&D84&\"*\"&E84),شهر3!$G$2:$G$17&\"*\"&شهر3!$F$2:$F$17&\"*\"&شهر3!$O$2:$O$17&\"*\"&شهر3!$E$2:$E$17,0))","v":{"$error":"#N/A"}},"2021-03-11"]
[7,50334,{"$f":"VLOOKUP(B85,برقية!$A$2:$B$458,2,FALSE)","v":"مجيد عودة فرحان"},"راوة","بنزين",{"$f":"INDEX(شهر3!$A$2:$A$17,MATCH((B85&\"*\"&G85&\"*\"&D85&\"*\"&E85),شهر3!$G$2:$G$17&\"*\"&شهر3!$F$2:$F$17&\"*\"&شهر3!$O$2:$O$17&\"*\"&شهر3!$E$2:$E$17,0))","v":{"$error":"#N/A"}},"2021-03-11"]
[8,38949,{"$f":"VLOOKUP(B86,برقية!$A$2:$B$458,2,FALSE)","v":"حسين علي عواد"},"هيت الجديدة","بنزين",{"$f":"INDEX(شهر3!$A$2:$A$17,MATCH((B86&\"*\"&G86&\"*\"&D86&\"*\"&E86),شهر3!$G$2:$G$17&\"*\"&شهر3!$F$2:$F$17&\"*\"&شهر3!$O$2:$O$17&\"*\"&شهر3!$E$2:$E$17,0))","v":{"$error":"#N/A"}},"2021-03-11"]
[9,64590,{"$f":"VLOOKUP(B87,برقية!$A$2:$B$458,2,FALSE)","v":"حذيفة نامق حماد"},"بروانة","بنزين",{"$f":"INDEX(شهر3!$A$2:$A$17,MATCH((B87&\"*\"&G87&\"*\"&D87&\"*\"&E87),شهر3!$G$2:$G$17&\"*\"&شهر3!$F$2:$F$17&\"*\"&شهر3!$O$2:$O$17&\"*\"&شهر3!$E$2:$E$17,0))","v":{"$error":"#N/A"}},"2021-03-11"]
[10,39505,{"$f":"VLOOKUP(B88,برقية!$A$2:$B$458,2,FALSE)","v":"حميد احمد عبدالله"},"الرمادي القديمة","بنزين",{"$f":"INDEX(شهر3!$A$2:$A$17,MATCH((B88&\"*\"&G88&\"*\"&D88&\"*\"&E88),شهر3!$G$2:$G$17&\"*\"&شهر3!$F$2:$F$17&\"*\"&شهر3!$O$2:$O$17&\"*\"&شهر3!$E$2:$E$17,0))","v":{"$error":"#N/A"}},"2021-03-11"]
[11,37966,{"$f":"VLOOKUP(B89,برقية!$A$2:$B$458,2,FALSE)","v":"محمد عبيد عبدالله"},"الرمادي الجديدة","بنزين",{"$f":"INDEX(شهر3!$A$2:$A$17,MATCH((B89&\"*\"&G89&\"*\"&D89&\"*\"&E89),شهر3!$G$2:$G$17&\"*\"&شهر3!$F$2:$F$17&\"*\"&شهر3!$O$2:$O$17&\"*\"&شهر3!$E$2:$E$17,0))","v":{"$error":"#N/A"}},"2021-03-11"]
[12,48662,{"$f":"VLOOKUP(B90,برقية!$A$2:$B$458,2,FALSE)","v":"قحطان عدنان عويد"},"الجبل","بنزين",{"$f":"INDEX(شهر3!$A$2:$A$17,MATCH((B90&\"*\"&G90&\"*\"&D90&\"*\"&E90),شهر3!$G$2:$G$17&\"*\"&شهر3!$F$2:$F$17&\"*\"&شهر3!$O$2:$O$17&\"*\"&شهر3!$E$2:$E$17,0))","v":{"$error":"#N/A"}},"2021-03-11"]
[1,51383,{"$f":"VLOOKUP(B91,برقية!$A$2:$B$458,2,FALSE)","v":"محمد علاوي بوال"},"الرمادي السريع","بنزين",{"$f":"INDEX(شهر3!$A$2:$A$17,MATCH((B91&\"*\"&G91&\"*\"&D91&\"*\"&E91),شهر3!$G$2:$G$17&\"*\"&شهر3!$F$2:$F$17&\"*\"&شهر3!$O$2:$O$17&\"*\"&شهر3!$E$2:$E$17,0))","v":{"$error":"#N/A"}},"2021-03-12"]
[2,19188,{"$f":"VLOOKUP(B92,برقية!$A$2:$B$458,2,FALSE)","v":"فلاح نوري زيدان"},"الفلوجة الجديدة","بنزين",{"$f":"INDEX(شهر3!$A$2:$A$17,MATCH((B92&\"*\"&G92&\"*\"&D92&\"*\"&E92),شهر3!$G$2:$G$17&\"*\"&شهر3!$F$2:$F$17&\"*\"&شهر3!$O$2:$O$17&\"*\"&شهر3!$E$2:$E$17,0))","v":{"$error":"#N/A"}},"2021-03-12"]
[3,60568,{"$f":"VLOOKUP(B93,برقية!$A$2:$B$458,2,FALSE)","v":"مجبل عويد فرحان"},"الرمادي السريع","بنزين",{"$f":"INDEX(شهر3!$A$2:$A$17,MATCH((B93&\"*\"&G93&\"*\"&D93&\"*\"&E93),شهر3!$G$2:$G$17&\"*\"&شهر3!$F$2:$F$17&\"*\"&شهر3!$O$2:$O$17&\"*\"&شهر3!$E$2:$E$17,0))","v":{"$error":"#N/A"}},"2021-03-12"]
[4,86890,{"$f":"VLOOKUP(B94,برقية!$A$2:$B$458,2,FALSE)","v":"طه غركان بزل"},"الجبل","بنزين",{"$f":"INDEX(شهر3!$A$2:$A$17,MATCH((B94&\"*\"&G94&\"*\"&D94&\"*\"&E94),شهر3!$G$2:$G$17&\"*\"&شهر3!$F$2:$F$17&\"*\"&شهر3!$O$2:$O$17&\"*\"&شهر3!$E$2:$E$17,0))","v":{"$error":"#N/A"}},"2021-03-12"]
[5,197684,{"$f":"VLOOKUP(B95,برقية!$A$2:$B$458,2,FALSE)","v":"حامد عواد فرحان"},"هيت الجديدة","بنزين",{"$f":"INDEX(شهر3!$A$2:$A$17,MATCH((B95&\"*\"&G95&\"*\"&D95&\"*\"&E95),شهر3!$G$2:$G$17&\"*\"&شهر3!$F$2:$F$17&\"*\"&شهر3!$O$2:$O$17&\"*\"&شهر3!$E$2:$E$17,0))","v":{"$error":"#N/A"}},"2021-03-12"]
[6,39505,{"$f":"VLOOKUP(B96,برقية!$A$2:$B$458,2,FALSE)","v":"حميد احمد عبدالله"},"الرمادي القديمة","بنزين",{"$f":"INDEX(شهر3!$A$2:$A$17,MATCH((B96&\"*\"&G96&\"*\"&D96&\"*\"&E96),شهر3!$G$2:$G$17&\"*\"&شهر3!$F$2:$F$17&\"*\"&شهر3!$O$2:$O$17&\"*\"&شهر3!$E$2:$E$17,0))","v":{"$error":"#N/A"}},"2021-03-12"]
[7,17717,{"$f":"VLOOKUP(B97,برقية!$A$2:$B$458,2,FALSE)","v":"عمر طه مطر"},"البساط الاخضر","بنزين",{"$f":"INDEX(شهر3!$A$2:$A$17,MATCH((B97&\"*\"&G97&\"*\"&D97&\"*\"&E97),شهر3!$G$2:$G$17&\"*\"&شهر3!$F$2:$F$17&\"*\"&شهر3!$O$2:$O$17&\"*\"&شهر3!$E$2:$E$17,0))","v":{"$error":"#N/A"}},"2021-03-12"]
[1,559301,{"$f":"VLOOKUP(B98,برقية!$A$2:$B$458,2,FALSE)","v":"ايسر فواز زيدان"},"الحقلانية","بنزين",{"$f":"INDEX(شهر3!$A$2:$A$17,MATCH((B98&\"*\"&G98&\"*\"&D98&\"*\"&E98),شهر3!$G$2:$G$17&\"*\"&شهر3!$F$2:$F$17&\"*\"&شهر3!$O$2:$O$17&\"*\"&شهر3!$E$2:$E$17,0))","v":{"$error":"#N/A"}},"2021-03-13"]
[2,197684,{"$f":"VLOOKUP(B99,برقية!$A$2:$B$458,2,FALSE)","v":"حامد عواد فرحان"},"الرطبة","بنزين",{"$f":"INDEX(شهر3!$A$2:$A$17,MATCH((B99&\"*\"&G99&\"*\"&D99&\"*\"&E99),شهر3!$G$2:$G$17&\"*\"&شهر3!$F$2:$F$17&\"*\"&شهر3!$O$2:$O$17&\"*\"&شهر3!$E$2:$E$17,0))","v":{"$error":"#N/A"}},"2021-03-13"]
[3,192366,{"$f":"VLOOKUP(B100,برقية!$A$2:$B$458,2,FALSE)","v":"شهاب احمد زيدان"},"الفرات","بنزين",{"$f":"INDEX(شهر3!$A$2:$A$17,MATCH((B100&\"*\"&G100&\"*\"&D100&\"*\"&E100),شهر3!$G$2:$G$17&\"*\"&شهر3!$F$2:$F$17&\"*\"&شهر3!$O$2:$O$17&\"*\"&شهر3!$E$2:$E$17,0))","v":{"$error":"#N/A"}},"2021-03-13"]
[4,19188,{"$f":"VLOOKUP(B101,برقية!$A$2:$B$458,2,FALSE)","v":"فلاح نوري زيدان"},"الفلوجة الجديدة","بنزين",{"$f":"INDEX(شهر3!$A$2:$A$17,MATCH((B101&\"*\"&G101&\"*\"&D101&\"*\"&E101),شهر3!$G$2:$G$17&\"*\"&شهر3!$F$2:$F$17&\"*\"&شهر3!$O$2:$O$17&\"*\"&شهر3!$E$2:$E$17,0))","v":{"$error":"#N/A"}},"2021-03-13"]
[1,50333,{"$f":"VLOOKUP(B102,برقية!$A$2:$B$458,2,FALSE)","v":"احمد مصلح ذياب"},"القائم","بنزين",{"$f":"INDEX(شهر3!$A$2:$A$17,MATCH((B102&\"*\"&G102&\"*\"&D102&\"*\"&E102),شهر3!$G$2:$G$17&\"*\"&شهر3!$F$2:$F$17&\"*\"&شهر3!$O$2:$O$17&\"*\"&شهر3!$E$2:$E$17,0))","v":{"$error":"#N/A"}},"2021-03-14"]
[2,39505,{"$f":"VLOOKUP(B103,برقية!$A$2:$B$458,2,FALSE)","v":"حميد احمد عبدالله"},"الرمادي الجديدة","بنزين",{"$f":"INDEX(شهر3!$A$2:$A$17,MATCH((B103&\"*\"&G103&\"*\"&D103&\"*\"&E103),شهر3!$G$2:$G$17&\"*\"&شهر3!$F$2:$F$17&\"*\"&شهر3!$O$2:$O$17&\"*\"&شهر3!$E$2:$E$17,0))","v":{"$error":"#N/A"}},"2021-03-14"]
[1,39505,{"$f":"VLOOKUP(B104,برقية!$A$2:$B$458,2,FALSE)","v":"حميد احمد عبدالله"},"الرمادي القديمة","بنزين",{"$f":"INDEX(شهر3!$A$2:$A$17,MATCH((B104&\"*\"&G104&\"*\"&D104&\"*\"&E104),شهر3!$G$2:$G$17&\"*\"&شهر3!$F$2:$F$17&\"*\"&شهر3!$O$2:$O$17&\"*\"&شهر3!$E$2:$E$17,0))","v":{"$error":"#N/A"}},"2021-03-15"]
[2,21304,{"$f":"VLOOKUP(B105,برقية!$A$2:$B$458,2,FALSE)","v":"محمد ضاري زيدان"},"الكرمة","بنزين",{"$f":"INDEX(شهر3!$A$2:$A$17,MATCH((B105&\"*\"&G105&\"*\"&D105&\"*\"&E105),شهر3!$G$2:$G$17&\"*\"&شهر3!$F$2:$F$17&\"*\"&شهر3!$O$2:$O$17&\"*\"&شهر3!$E$2:$E$17,0))","v":{"$error":"#N/A"}},"2021-03-15"]
[3,557566,{"$f":"VLOOKUP(B106,برقية!$A$2:$B$458,2,FALSE)","v":"وائل نايف صالح"},"الصقلاوية","بنزين",{"$f":"INDEX(شهر3!$A$2:$A$17,MATCH((B106&\"*\"&G106&\"*\"&D106&\"*\"&E106),شهر3!$G$2:$G$17&\"*\"&شهر3!$F$2:$F$17&\"*\"&شهر3!$O$2:$O$17&\"*\"&شهر3!$E$2:$E$17,0))","v":{"$error":"#N/A"}},"2021-03-15"]
[4,50647,{"$f":"VLOOKUP(B107,برقية!$A$2:$B$458,2,FALSE)","v":"علي عويد فرحان"},"الحقلانية","بنزين",{"$f":"INDEX(شهر3!$A$2:$A$17,MATCH((B107&\"*\"&G107&\"*\"&D107&\"*\"&E107),شهر3!$G$2:$G$17&\"*\"&شهر3!$F$2:$F$17&\"*\"&شهر3!$O$2:$O$17&\"*\"&شهر3!$E$2:$E$17,0))","v":{"$error":"#N/A"}},"2021-03-15"]
[5,64590,{"$f":"VLOOKUP(B108,برقية!$A$2:$B$458,2,FALSE)","v":"حذيفة نامق حماد"},"عنه الجديدة","بنزين",{"$f":"INDEX(شهر3!$A$2:$A$17,MATCH((B108&\"*\"&G108&\"*\"&D108&\"*\"&E108),شهر3!$G$2:$G$17&\"*\"&شهر3!$F$2:$F$17&\"*\"&شهر3!$O$2:$O$17&\"*\"&شهر3!$E$2:$E$17,0))","v":{"$error":"#N/A"}},"2021-03-15"]
[6,15139,{"$f":"VLOOKUP(B109,برقية!$A$2:$B$458,2,FALSE)","v":"عزيز مجبل عويد"},"هيت الجديدة","بنزين",{"$f":"INDEX(شهر3!$A$2:$A$17,MATCH((B109&\"*\"&G109&\"*\"&D109&\"*\"&E109),شهر3!$G$2:$G$17&\"*\"&شهر3!$F$2:$F$17&\"*\"&شهر3!$O$2:$O$17&\"*\"&شهر3!$E$2:$E$17,0))","v":{"$error":"#N/A"}},"2021-03-15"]
[7,192366,{"$f":"VLOOKUP(B110,برقية!$A$2:$B$458,2,FALSE)","v":"شهاب احمد زيدان"},"الحبانية القديمة","بنزين",{"$f":"INDEX(شهر3!$A$2:$A$17,MATCH((B110&\"*\"&G110&\"*\"&D110&\"*\"&E110),شهر3!$G$2:$G$17&\"*\"&شهر3!$F$2:$F$17&\"*\"&شهر3!$O$2:$O$17&\"*\"&شهر3!$E$2:$E$17,0))","v":{"$error":"#N/A"}},"2021-03-15"]
[8,197684,{"$f":"VLOOKUP(B111,برقية!$A$2:$B$458,2,FALSE)","v":"حامد عواد فرحان"},"عنه الجديدة","بنزين",{"$f":"INDEX(شهر3!$A$2:$A$17,MATCH((B111&\"*\"&G111&\"*\"&D111&\"*\"&E111),شهر3!$G$2:$G$17&\"*\"&شهر3!$F$2:$F$17&\"*\"&شهر3!$O$2:$O$17&\"*\"&شهر3!$E$2:$E$17,0))","v":{"$error":"#N/A"}},"2021-03-15"]
[9,19188,{"$f":"VLOOKUP(B112,برقية!$A$2:$B$458,2,FALSE)","v":"فلاح نوري زيدان"},"الفلوجة الجديدة","بنزين",{"$f":"INDEX(شهر3!$A$2:$A$17,MATCH((B112&\"*\"&G112&\"*\"&D112&\"*\"&E112),شهر3!$G$2:$G$17&\"*\"&شهر3!$F$2:$F$17&\"*\"&شهر3!$O$2:$O$17&\"*\"&شهر3!$E$2:$E$17,0))","v":{"$error":"#N/A"}},"2021-03-15"]
[10,10321,{"$f":"VLOOKUP(B113,برقية!$A$2:$B$458,2,FALSE)","v":"حاتم محمود ناصر"},"الرمادي الجديدة","بنزين",{"$f":"INDEX(شهر3!$A$2:$A$17,MATCH((B113&\"*\"&G113&\"*\"&D113&\"*\"&E113),شهر3!$G$2:$G$17&\"*\"&شهر3!$F$2:$F$17&\"*\"&شهر3!$O$2:$O$17&\"*\"&شهر3!$E$2:$E$17,0))","v":{"$error":"#N/A"}},"2021-03-15"]
[11,93747,{"$f":"VLOOKUP(B114,برقية!$A$2:$B$458,2,FALSE)","v":"صالح خلف حمود"},"القائم","بنزين",{"$f":"INDEX(شهر3!$A$2:$A$17,MATCH((B114&\"*\"&G114&\"*\"&D114&\"*\"&E114),شهر3!$G$2:$G$17&\"*\"&شهر3!$F$2:$F$17&\"*\"&شهر3!$O$2:$O$17&\"*\"&شهر3!$E$2:$E$17,0))","v":{"$error":"#N/A"}},"2021-03-15"]
[12,48662,{"$f":"VLOOKUP(B115,برقية!$A$2:$B$458,2,FALSE)","v":"قحطان عدنان عويد"},"الرمادي الجديدة","بنزين",{"$f":"INDEX(شهر3!$A$2:$A$17,MATCH((B115&\"*\"&G115&\"*\"&D115&\"*\"&E115),شهر3!$G$2:$G$17&\"*\"&شهر3!$F$2:$F$17&\"*\"&شهر3!$O$2:$O$17&\"*\"&شهر3!$E$2:$E$17,0))","v":{"$error":"#N/A"}},"2021-03-15"]
[1,192366,{"$f":"VLOOKUP(B116,برقية!$A$2:$B$458,2,FALSE)","v":"شهاب احمد زيدان"},"الجبل","بنزين",{"$f":"INDEX(شهر3!$A$2:$A$17,MATCH((B116&\"*\"&G116&\"*\"&D116&\"*\"&E116),شهر3!$G$2:$G$17&\"*\"&شهر3!$F$2:$F$17&\"*\"&شهر3!$O$2:$O$17&\"*\"&شهر3!$E$2:$E$17,0))","v":{"$error":"#N/A"}},"2021-03-16"]
[2,559301,{"$f":"VLOOKUP(B117,برقية!$A$2:$B$458,2,FALSE)","v":"ايسر فواز زيدان"},"هيت الجديدة","بنزين",{"$f":"INDEX(شهر3!$A$2:$A$17,MATCH((B117&\"*\"&G117&\"*\"&D117&\"*\"&E117),شهر3!$G$2:$G$17&\"*\"&شهر3!$F$2:$F$17&\"*\"&شهر3!$O$2:$O$17&\"*\"&شهر3!$E$2:$E$17,0))","v":{"$error":"#N/A"}},"2021-03-16"]
[3,557566,{"$f":"VLOOKUP(B118,برقية!$A$2:$B$458,2,FALSE)","v":"وائل نايف صالح"},"الرمادي الجديدة","بنزين",{"$f":"INDEX(شهر3!$A$2:$A$17,MATCH((B118&\"*\"&G118&\"*\"&D118&\"*\"&E118),شهر3!$G$2:$G$17&\"*\"&شهر3!$F$2:$F$17&\"*\"&شهر3!$O$2:$O$17&\"*\"&شهر3!$E$2:$E$17,0))","v":{"$error":"#N/A"}},"2021-03-16"]
[4,559288,{"$f":"VLOOKUP(B119,برقية!$A$2:$B$458,2,FALSE)","v":"خميس حمد حماد"},"كبيسة","بنزين",{"$f":"INDEX(شهر3!$A$2:$A$17,MATCH((B119&\"*\"&G119&\"*\"&D119&\"*\"&E119),شهر3!$G$2:$G$17&\"*\"&شهر3!$F$2:$F$17&\"*\"&شهر3!$O$2:$O$17&\"*\"&شهر3!$E$2:$E$17,0))","v":{"$error":"#N/A"}},"2021-03-16"]
[5,197684,{"$f":"VLOOKUP(B120,برقية!$A$2:$B$458,2,FALSE)","v":"حامد عواد فرحان"},"الرطبة","بنزين",{"$f":"INDEX(شهر3!$A$2:$A$17,MATCH((B120&\"*\"&G120&\"*\"&D120&\"*\"&E120),شهر3!$G$2:$G$17&\"*\"&شهر3!$F$2:$F$17&\"*\"&شهر3!$O$2:$O$17&\"*\"&شهر3!$E$2:$E$17,0))","v":{"$error":"#N/A"}},"2021-03-16"]
[6,562749,{"$f":"VLOOKUP(B121,برقية!$A$2:$B$458,2,FALSE)","v":"جمعة عويد فرحان"},"الجبل","بنزين",{"$f":"INDEX(شهر3!$A$2:$A$17,MATCH((B121&\"*\"&G121&\"*\"&D121&\"*\"&E121),شهر3!$G$2:$G$17&\"*\"&شهر3!$F$2:$F$17&\"*\"&شهر3!$O$2:$O$17&\"*\"&شهر3!$E$2:$E$17,0))","v":{"$error":"#N/A"}},"2021-03-16"]
[7,77873,{"$f":"VLOOKUP(B122,برقية!$A$2:$B$458,2,FALSE)","v":"وليد سامي حميد"},"الرمادي الجديدة","بنزين",{"$f":"INDEX(شهر3!$A$2:$A$17,MATCH((B122&\"*\"&G122&\"*\"&D122&\"*\"&E122),شهر3!$G$2:$G$17&\"*\"&شهر3!$F$2:$F$17&\"*\"&شهر3!$O$2:$O$17&\"*\"&شهر3!$E$2:$E$17,0))","v":{"$error":"#N/A"}},"2021-03-16"]
[8,39505,{"$f":"VLOOKUP(B123,برقية!$A$2:$B$458,2,FALSE)","v":"حميد احمد عبدالله"},"الرمادي القديمة","بنزين",{"$f":"INDEX(شهر3!$A$2:$A$17,MATCH((B123&\"*\"&G123&\"*\"&D123&\"*\"&E123),شهر3!$G$2:$G$17&\"*\"&شهر3!$F$2:$F$17&\"*\"&شهر3!$O$2:$O$17&\"*\"&شهر3!$E$2:$E$17,0))","v":{"$error":"#N/A"}},"2021-03-16"]
[9,15051,{"$f":"VLOOKUP(B124,برقية!$A$2:$B$458,2,FALSE)","v":"احمد إبراهيم حسان"},"بروانة","بنزين",{"$f":"INDEX(شهر3!$A$2:$A$17,MATCH((B124&\"*\"&G124&\"*\"&D124&\"*\"&E124),شهر3!$G$2:$G$17&\"*\"&شهر3!$F$2:$F$17&\"*\"&شهر3!$O$2:$O$17&\"*\"&شهر3!$E$2:$E$17,0))","v":{"$error":"#N/A"}},"2021-03-16"]
[1,39505,"حميد احمد عبدالله","الرمادي القديمة","بنزين",{"$f":"INDEX(شهر3!$A$2:$A$17,MATCH((B125&\"*\"&G125&\"*\"&D125&\"*\"&E125),شهر3!$G$2:$G$17&\"*\"&شهر3!$F$2:$F$17&\"*\"&شهر3!$O$2:$O$17&\"*\"&شهر3!$E$2:$E$17,0))","v":{"$error":"#N/A"}},"2021-03-17"]
[2,192366,"شهاب احمد زيدان","الرمادي الجديدة","بنزين",{"$f":"INDEX(شهر3!$A$2:$A$17,MATCH((B126&\"*\"&G126&\"*\"&D126&\"*\"&E126),شهر3!$G$2:$G$17&\"*\"&شهر3!$F$2:$F$17&\"*\"&شهر3!$O$2:$O$17&\"*\"&شهر3!$E$2:$E$17,0))","v":{"$error":"#N/A"}},"2021-03-17"]
[3,21304,"محمد ضاري زيدان","الكرمة","بنزين",{"$f":"INDEX(شهر3!$A$2:$A$17,MATCH((B127&\"*\"&G127&\"*\"&D127&\"*\"&E127),شهر3!$G$2:$G$17&\"*\"&شهر3!$F$2:$F$17&\"*\"&شهر3!$O$2:$O$17&\"*\"&شهر3!$E$2:$E$17,0))","v":{"$error":"#N/A"}},"2021-03-17"]
[4,557566,"وائل نايف صالح","الفلوجة الجديدة","بنزين",{"$f":"INDEX(شهر3!$A$2:$A$17,MATCH((B128&\"*\"&G128&\"*\"&D128&\"*\"&E128),شهر3!$G$2:$G$17&\"*\"&شهر3!$F$2:$F$17&\"*\"&شهر3!$O$2:$O$17&\"*\"&شهر3!$E$2:$E$17,0))","v":{"$error":"#N/A"}},"2021-03-17"]
[5,559301,"ايسر فواز زيدان","الحقلانية","بنزين",{"$f":"INDEX(شهر3!$A$2:$A$17,MATCH((B129&\"*\"&G129&\"*\"&D129&\"*\"&E129),شهر3!$G$2:$G$17&\"*\"&شهر3!$F$2:$F$17&\"*\"&شهر3!$O$2:$O$17&\"*\"&شهر3!$E$2:$E$17,0))","v":{"$error":"#N/A"}},"2021-03-17"]
[6,19188,"فلاح نوري زيدان","الفلوجة الجديدة","بنزين",{"$f":"INDEX(شهر3!$A$2:$A$17,MATCH((B130&\"*\"&G130&\"*\"&D130&\"*\"&E130),شهر3!$G$2:$G$17&\"*\"&شهر3!$F$2:$F$17&\"*\"&شهر3!$O$2:$O$17&\"*\"&شهر3!$E$2:$E$17,0))","v":{"$error":"#N/A"}},"2021-03-17"]
[7,17717,"عمر طه مطر","راوة","بنزين",{"$f":"INDEX(شهر3!$A$2:$A$17,MATCH((B131&\"*\"&G131&\"*\"&D131&\"*\"&E131),شهر3!$G$2:$G$17&\"*\"&شهر3!$F$2:$F$17&\"*\"&شهر3!$O$2:$O$17&\"*\"&شهر3!$E$2:$E$17,0))","v":{"$error":"#N/A"}},"2021-03-17"]
[8,64802,"عمار طه مطر","الجبل","بنزين",{"$f":"INDEX(شهر3!$A$2:$A$17,MATCH((B132&\"*\"&G132&\"*\"&D132&\"*\"&E132),شهر3!$G$2:$G$17&\"*\"&شهر3!$F$2:$F$17&\"*\"&شهر3!$O$2:$O$17&\"*\"&شهر3!$E$2:$E$17,0))","v":{"$error":"#N/A"}},"2021-03-17"]
[9,10321,"حاتم محمود ناصر","الرمادي الجديدة","بنزين",{"$f":"INDEX(شهر3!$A$2:$A$17,MATCH((B133&\"*\"&G133&\"*\"&D133&\"*\"&E133),شهر3!$G$2:$G$17&\"*\"&شهر3!$F$2:$F$17&\"*\"&شهر3!$O$2:$O$17&\"*\"&شهر3!$E$2:$E$17,0))","v":{"$error":"#N/A"}},"2021-03-17"]
[10,192366,"شهاب احمد زيدان","هيت الجديدة","بنزين",{"$f":"INDEX(شهر3!$A$2:$A$17,MATCH((B134&\"*\"&G134&\"*\"&D134&\"*\"&E134),شهر3!$G$2:$G$17&\"*\"&شهر3!$F$2:$F$17&\"*\"&شهر3!$O$2:$O$17&\"*\"&شهر3!$E$2:$E$17,0))","v":{"$error":"#N/A"}},"2021-03-17"]
[11,39505,"حميد احمد عبدالله","الرمادي القديمة","بنزين",{"$f":"INDEX(شهر3!$A$2:$A$17,MATCH((B135&\"*\"&G135&\"*\"&D135&\"*\"&E135),شهر3!$G$2:$G$17&\"*\"&شهر3!$F$2:$F$17&\"*\"&شهر3!$O$2:$O$17&\"*\"&شهر3!$E$2:$E$17,0))","v":{"$error":"#N/A"}},"2021-03-17"]
[1,22087,"صفاء جمعة فرحان","الرمادي الجديدة","بنزين",{"$f":"INDEX(شهر3!$A$2:$A$17,MATCH((B136&\"*\"&G136&\"*\"&D136&\"*\"&E136),شهر3!$G$2:$G$17&\"*\"&شهر3!$F$2:$F$17&\"*\"&شهر3!$O$2:$O$17&\"*\"&شهر3!$E$2:$E$17,0))","v":{"$error":"#N/A"}},"2021-03-18"]
[2,50333,"احمد مصلح ذياب","الحقلانية","بنزين",{"$f":"INDEX(شهر3!$A$2:$A$17,MATCH((B137&\"*\"&G137&\"*\"&D137&\"*\"&E137),شهر3!$G$2:$G$17&\"*\"&شهر3!$F$2:$F$17&\"*\"&شهر3!$O$2:$O$17&\"*\"&شهر3!$E$2:$E$17,0))","v":{"$error":"#N/A"}},"2021-03-18"]
[3,19188,"فلاح نوري زيدان","الفلوجة الجديدة","بنزين",{"$f":"INDEX(شهر3!$A$2:$A$17,MATCH((B138&\"*\"&G138&\"*\"&D138&\"*\"&E138),شهر3!$G$2:$G$17&\"*\"&شهر3!$F$2:$F$17&\"*\"&شهر3!$O$2:$O$17&\"*\"&شهر3!$E$2:$E$17,0))","v":{"$error":"#N/A"}},"2021-03-18"]
[4,17717,"عمر طه مطر","القائم","بنزين",{"$f":"INDEX(شهر3!$A$2:$A$17,MATCH((B139&\"*\"&G139&\"*\"&D139&\"*\"&E139),شهر3!$G$2:$G$17&\"*\"&شهر3!$F$2:$F$17&\"*\"&شهر3!$O$2:$O$17&\"*\"&شهر3!$E$2:$E$17,0))","v":{"$error":"#N/A"}},"2021-03-18"]
[5,559288,"خميس حمد حماد","هيت الجديدة","بنزين",{"$f":"INDEX(شهر3!$A$2:$A$17,MATCH((B140&\"*\"&G140&\"*\"&D140&\"*\"&E140),شهر3!$G$2:$G$17&\"*\"&شهر3!$F$2:$F$17&\"*\"&شهر3!$O$2:$O$17&\"*\"&شهر3!$E$2:$E$17,0))","v":{"$error":"#N/A"}},"2021-03-18"]
[6,79096,"عماد دلف فاضل","الرطبة","بنزين",{"$f":"INDEX(شهر3!$A$2:$A$17,MATCH((B141&\"*\"&G141&\"*\"&D141&\"*\"&E141),شهر3!$G$2:$G$17&\"*\"&شهر3!$F$2:$F$17&\"*\"&شهر3!$O$2:$O$17&\"*\"&شهر3!$E$2:$E$17,0))","v":{"$error":"#N/A"}},"2021-03-18"]
[7,39505,"حميد احمد عبدالله","الرمادي القديمة","بنزين",{"$f":"INDEX(شهر3!$A$2:$A$17,MATCH((B142&\"*\"&G142&\"*\"&D142&\"*\"&E142),شهر3!$G$2:$G$17&\"*\"&شهر3!$F$2:$F$17&\"*\"&شهر3!$O$2:$O$17&\"*\"&شهر3!$E$2:$E$17,0))","v":{"$error":"#N/A"}},"2021-03-18"]
[8,192366,"شهاب احمد زيدان","الحبانية القديمة","بنزين",{"$f":"INDEX(شهر3!$A$2:$A$17,MATCH((B143&\"*\"&G143&\"*\"&D143&\"*\"&E143),شهر3!$G$2:$G$17&\"*\"&شهر3!$F$2:$F$17&\"*\"&شهر3!$O$2:$O$17&\"*\"&شهر3!$E$2:$E$17,0))","v":{"$error":"#N/A"}},"2021-03-18"]
[9,61798,"عدي صبار دلف","الكرمة","بنزين",{"$f":"INDEX(شهر3!$A$2:$A$17,MATCH((B144&\"*\"&G144&\"*\"&D144&\"*\"&E144),شهر3!$G$2:$G$17&\"*\"&شهر3!$F$2:$F$17&\"*\"&شهر3!$O$2:$O$17&\"*\"&شهر3!$E$2:$E$17,0))","v":{"$error":"#N/A"}},"2021-03-18"]
[10,22087,"صفاء جمعة فرحان","الصقلاوية","بنزين",{"$f":"INDEX(شهر3!$A$2:$A$17,MATCH((B145&\"*\"&G145&\"*\"&D145&\"*\"&E145),شهر3!$G$2:$G$17&\"*\"&شهر3!$F$2:$F$17&\"*\"&شهر3!$O$2:$O$17&\"*\"&شهر3!$E$2:$E$17,0))","v":{"$error":"#N/A"}},"2021-03-18"]
[11,119366,"عامر جمال عواد","الرمادي الجديدة","بنزين",{"$f":"INDEX(شهر3!$A$2:$A$17,MATCH((B146&\"*\"&G146&\"*\"&D146&\"*\"&E146),شهر3!$G$2:$G$17&\"*\"&شهر3!$F$2:$F$17&\"*\"&شهر3!$O$2:$O$17&\"*\"&شهر3!$E$2:$E$17,0))","v":{"$error":"#N/A"}},"2021-03-18"]
[1,50334,{"$f":"VLOOKUP(B147,برقية!$A$2:$B$458,2,FALSE)","v":"مجيد عودة فرحان"},"الكرمة","بنزين",{"$f":"INDEX(شهر3!$A$2:$A$17,MATCH((B147&\"*\"&G147&\"*\"&D147&\"*\"&E147),شهر3!$G$2:$G$17&\"*\"&شهر3!$F$2:$F$17&\"*\"&شهر3!$O$2:$O$17&\"*\"&شهر3!$E$2:$E$17,0))","v":{"$error":"#N/A"}},"2021-03-19"]
[2,557224,{"$f":"VLOOKUP(B148,برقية!$A$2:$B$458,2,FALSE)","v":"سمير يوسف حمود"},"طليحة","بنزين",{"$f":"INDEX(شهر3!$A$2:$A$17,MATCH((B148&\"*\"&G148&\"*\"&D148&\"*\"&E148),شهر3!$G$2:$G$17&\"*\"&شهر3!$F$2:$F$17&\"*\"&شهر3!$O$2:$O$17&\"*\"&شهر3!$E$2:$E$17,0))","v":{"$error":"#N/A"}},"2021-03-19"]
[3,50152,{"$f":"VLOOKUP(B149,برقية!$A$2:$B$458,2,FALSE)","v":"مجيد مطر فرحان"},"طليحة","بنزين",{"$f":"INDEX(شهر3!$A$2:$A$17,MATCH((B149&\"*\"&G149&\"*\"&D149&\"*\"&E149),شهر3!$G$2:$G$17&\"*\"&شهر3!$F$2:$F$17&\"*\"&شهر3!$O$2:$O$17&\"*\"&شهر3!$E$2:$E$17,0))","v":{"$error":"#N/A"}},"2021-03-19"]
[4,192292,{"$f":"VLOOKUP(B150,برقية!$A$2:$B$458,2,FALSE)","v":"سعدي زيدان خلف"},"الصقلاوية","بنزين",{"$f":"INDEX(شهر3!$A$2:$A$17,MATCH((B150&\"*\"&G150&\"*\"&D150&\"*\"&E150),شهر3!$G$2:$G$17&\"*\"&شهر3!$F$2:$F$17&\"*\"&شهر3!$O$2:$O$17&\"*\"&شهر3!$E$2:$E$17,0))","v":{"$error":"#N/A"}},"2021-03-19"]
[5,110181,{"$f":"VLOOKUP(B151,برقية!$A$2:$B$458,2,FALSE)","v":"ناظم فاضل عواد"},"بروانة","بنزين",{"$f":"INDEX(شهر3!$A$2:$A$17,MATCH((B151&\"*\"&G151&\"*\"&D151&\"*\"&E151),شهر3!$G$2:$G$17&\"*\"&شهر3!$F$2:$F$17&\"*\"&شهر3!$O$2:$O$17&\"*\"&شهر3!$E$2:$E$17,0))","v":{"$error":"#N/A"}},"2021-03-19"]
[6,197684,{"$f":"VLOOKUP(B152,برقية!$A$2:$B$458,2,FALSE)","v":"حامد عواد فرحان"},"هيت الجديدة","بنزين",{"$f":"INDEX(شهر3!$A$2:$A$17,MATCH((B152&\"*\"&G152&\"*\"&D152&\"*\"&E152),شهر3!$G$2:$G$17&\"*\"&شهر3!$F$2:$F$17&\"*\"&شهر3!$O$2:$O$17&\"*\"&شهر3!$E$2:$E$17,0))","v":{"$error":"#N/A"}},"2021-03-19"]
[7,39505,{"$f":"VLOOKUP(B153,برقية!$A$2:$B$458,2,FALSE)","v":"حميد احمد عبدالله"},"الرمادي الجديدة","بنزين",{"$f":"INDEX(شهر3!$A$2:$A$17,MATCH((B153&\"*\"&G153&\"*\"&D153&\"*\"&E153),شهر3!$G$2:$G$17&\"*\"&شهر3!$F$2:$F$17&\"*\"&شهر3!$O$2:$O$17&\"*\"&شهر3!$E$2:$E$17,0))","v":{"$error":"#N/A"}},"2021-03-19"]
[1,11724,{"$f":"VLOOKUP(B154,برقية!$A$2:$B$458,2,FALSE)","v":"هيثم خالد عبدالرزاق"},"البساط الاخضر","بنزين",{"$f":"INDEX(شهر3!$A$2:$A$17,MATCH((B154&\"*\"&G154&\"*\"&D154&\"*\"&E154),شهر3!$G$2:$G$17&\"*\"&شهر3!$F$2:$F$17&\"*\"&شهر3!$O$2:$O$17&\"*\"&شهر3!$E$2:$E$17,0))","v":{"$error":"#N/A"}},"2021-03-20"]
[2,60568,{"$f":"VLOOKUP(B155,برقية!$A$2:$B$458,2,FALSE)","v":"مجبل عويد فرحان"},"النخيب","بنزين",{"$f":"INDEX(شهر3!$A$2:$A$17,MATCH((B155&\"*\"&G155&\"*\"&D155&\"*\"&E155),شهر3!$G$2:$G$17&\"*\"&شهر3!$F$2:$F$17&\"*\"&شهر3!$O$2:$O$17&\"*\"&شهر3!$E$2:$E$17,0))","v":{"$error":"#N/A"}},"2021-03-20"]
[3,197684,{"$f":"VLOOKUP(B156,برقية!$A$2:$B$458,2,FALSE)","v":"حامد عواد فرحان"},"النخيب","بنزين",{"$f":"INDEX(شهر3!$A$2:$A$17,MATCH((B156&\"*\"&G156&\"*\"&D156&\"*\"&E156),شهر3!$G$2:$G$17&\"*\"&شهر3!$F$2:$F$17&\"*\"&شهر3!$O$2:$O$17&\"*\"&شهر3!$E$2:$E$17,0))","v":{"$error":"#N/A"}},"2021-03-20"]
[4,60929,{"$f":"VLOOKUP(B157,برقية!$A$2:$B$458,2,FALSE)","v":"محمد علي عواد"},"الحقلانية","بنزين",{"$f":"INDEX(شهر3!$A$2:$A$17,MATCH((B157&\"*\"&G157&\"*\"&D157&\"*\"&E157),شهر3!$G$2:$G$17&\"*\"&شهر3!$F$2:$F$17&\"*\"&شهر3!$O$2:$O$17&\"*\"&شهر3!$E$2:$E$17,0))","v":{"$error":"#N/A"}},"2021-03-20"]
[5,46211,{"$f":"VLOOKUP(B158,برقية!$A$2:$B$458,2,FALSE)","v":"ليث مرشد عبدالله"},"الرمادي السريع","بنزين",{"$f":"INDEX(شهر3!$A$2:$A$17,MATCH((B158&\"*\"&G158&\"*\"&D158&\"*\"&E158),شهر3!$G$2:$G$17&\"*\"&شهر3!$F$2:$F$17&\"*\"&شهر3!$O$2:$O$17&\"*\"&شهر3!$E$2:$E$17,0))","v":{"$error":"#N/A"}},"2021-03-20"]
[6,559288,{"$f":"VLOOKUP(B159,برقية!$A$2:$B$458,2,FALSE)","v":"خميس حمد حماد"},"الحبانية السياحية","بنزين",{"$f":"INDEX(شهر3!$A$2:$A$17,MATCH((B159&\"*\"&G159&\"*\"&D159&\"*\"&E159),شهر3!$G$2:$G$17&\"*\"&شهر3!$F$2:$F$17&\"*\"&شهر3!$O$2:$O$17&\"*\"&شهر3!$E$2:$E$17,0))","v":{"$error":"#N/A"}},"2021-03-20"]
[7,35951,{"$f":"VLOOKUP(B160,برقية!$A$2:$B$458,2,FALSE)","v":"اسعد علي عواد"},"الرمانة","بنزين",{"$f":"INDEX(شهر3!$A$2:$A$17,MATCH((B160&\"*\"&G160&\"*\"&D160&\"*\"&E160),شهر3!$G$2:$G$17&\"*\"&شهر3!$F$2:$F$17&\"*\"&شهر3!$O$2:$O$17&\"*\"&شهر3!$E$2:$E$17,0))","v":{"$error":"#N/A"}},"2021-03-20"]
[8,39505,{"$f":"VLOOKUP(B161,برقية!$A$2:$B$458,2,FALSE)","v":"حميد احمد عبدالله"},"الرمادي القديمة","بنزين",{"$f":"INDEX(شهر3!$A$2:$A$17,MATCH((B161&\"*\"&G161&\"*\"&D161&\"*\"&E161),شهر3!$G$2:$G$17&\"*\"&شهر3!$F$2:$F$17&\"*\"&شهر3!$O$2:$O$17&\"*\"&شهر3!$E$2:$E$17,0))","v":{"$error":"#N/A"}},"2021-03-20"]
[9,123837,{"$f":"VLOOKUP(B162,برقية!$A$2:$B$458,2,FALSE)","v":"سلام حسين عبد"},"الكرمة","بنزين",{"$f":"INDEX(شهر3!$A$2:$A$17,MATCH((B162&\"*\"&G162&\"*\"&D162&\"*\"&E162),شهر3!$G$2:$G$17&\"*\"&شهر3!$F$2:$F$17&\"*\"&شهر3!$O$2:$O$17&\"*\"&شهر3!$E$2:$E$17,0))","v":{"$error":"#N/A"}},"2021-03-20"]
[null,null,{"$f":"VLOOKUP(B163,برقية!$A$2:$B$458,2,FALSE)","v":{"$error":"#N/A"}},null,null,{"$f":"INDEX(شهر3!$A$2:$A$17,MATCH((B163&\"*\"&G163&\"*\"&D163&\"*\"&E163),شهر3!$G$2:$G$17&\"*\"&شهر3!$F$2:$F$17&\"*\"&شهر3!$O$2:$O$17&\"*\"&شهر3!$E$2:$E$17,0))","v":0}]
[null,null,{"$f":"VLOOKUP(B164,برقية!$A$2:$B$458,2,FALSE)","v":{"$error":"#N/A"}},null,null,{"$f":"INDEX(شهر3!$A$2:$A$17,MATCH((B164&\"*\"&G164&\"*\"&D164&\"*\"&E164),شهر3!$G$2:$G$17&\"*\"&شهر3!$F$2:$F$17&\"*\"&شهر3!$O$2:$O$17&\"*\"&شهر3!$E$2:$E$17,0))","v":0}]
[null,null,{"$f":"VLOOKUP(B165,برقية!$A$2:$B$458,2,FALSE)","v":{"$error":"#N/A"}},null,null,{"$f":"INDEX(شهر3!$A$2:$A$17,MATCH((B165&\"*\"&G165&\"*\"&D165&\"*\"&E165),شهر3!$G$2:$G$17&\"*\"&شهر3!$F$2:$F$17&\"*\"&شهر3!$O$2:$O$17&\"*\"&شهر3!$E$2:$E$17,0))","v":0}]
[null,null,{"$f":"VLOOKUP(B166,برقية!$A$2:$B$458,2,FALSE)","v":{"$error":"#N/A"}},null,null,{"$f":"INDEX(شهر3!$A$2:$A$17,MATCH((B166&\"*\"&G166&\"*\"&D166&\"*\"&E166),شهر3!$G$2:$G$17&\"*\"&شهر3!$F$2:$F$17&\"*\"&شهر3!$O$2:$O$17&\"*\"&شهر3!$E$2:$E$17,0))","v":0}]
[null,null,{"$f":"VLOOKUP(B167,برقية!$A$2:$B$458,2,FALSE)","v":{"$error":"#N/A"}},null,null,{"$f":"INDEX(شهر3!$A$2:$A$17,MATCH((B167&\"*\"&G167&\"*\"&D167&\"*\"&E167),شهر3!$G$2:$G$17&\"*\"&شهر3!$F$2:$F$17&\"*\"&شهر3!$O$2:$O$17&\"*\"&شهر3!$E$2:$E$17,0))","v":0}]
[null,null,{"$f":"VLOOKUP(B168,برقية!$A$2:$B$458,2,FALSE)","v":{"$error":"#N/A"}},null,null,{"$f":"INDEX(شهر3!$A$2:$A$17,MATCH((B168&\"*\"&G168&\"*\"&D168&\"*\"&E168),شهر3!$G$2:$G$17&\"*\"&شهر3!$F$2:$F$17&\"*\"&شهر3!$O$2:$O$17&\"*\"&شهر3!$E$2:$E$17,0))","v":0}]
[null,null,{"$f":"VLOOKUP(B169,برقية!$A$2:$B$458,2,FALSE)","v":{"$error":"#N/A"}},null,null,{"$f":"INDEX(شهر3!$A$2:$A$17,MATCH((B169&\"*\"&G169&\"*\"&D169&\"*\"&E169),شهر3!$G$2:$G$17&\"*\"&شهر3!$F$2:$F$17&\"*\"&شهر3!$O$2:$O$17&\"*\"&شهر3!$E$2:$E$17,0))","v":0}]
[null,null,{"$f":"VLOOKUP(B170,برقية!$A$2:$B$458,2,FALSE)","v":{"$error":"#N/A"}},null,null,{"$f":"INDEX(شهر3!$A$2:$A$17,MATCH((B170&\"*\"&G170&\"*\"&D170&\"*\"&E170),شهر3!$G$2:$G$17&\"*\"&شهر3!$F$2:$F$17&\"*\"&شهر3!$O$2:$O$17&\"*\"&شهر3!$E$2:$E$17,0))","v":0}]
[null,null,{"$f":"VLOOKUP(B171,برقية!$A$2:$B$458,2,FALSE)","v":{"$error":"#N/A"}},null,null,{"$f":"INDEX(شهر3!$A$2:$A$17,MATCH((B171&\"*\"&G171&\"*\"&D171&\"*\"&E171),شهر3!$G$2:$G$17&\"*\"&شهر3!$F$2:$F$17&\"*\"&شهر3!$O$2:$O$17&\"*\"&شهر3!$E$2:$E$17,0))","v":0}]
[null,null,{"$f":"VLOOKUP(B172,برقية!$A$2:$B$458,2,FALSE)","v":{"$error":"#N/A"}},null,null,{"$f":"INDEX(شهر3!$A$2:$A$17,MATCH((B172&\"*\"&G172&\"*\"&D172&\"*\"&E172),شهر3!$G$2:$G$17&\"*\"&شهر3!$F$2:$F$17&\"*\"&شهر3!$O$2:$O$17&\"*\"&شهر3!$E$2:$E$17,0))","v":0}]
[null,null,{"$f":"VLOOKUP(B173,برقية!$A$2:$B$458,2,FALSE)","v":{"$error":"#N/A"}},null,null,{"$f":"INDEX(شهر3!$A$2:$A$17,MATCH((B173&\"*\"&G173&\"*\"&D173&\"*\"&E173),شهر3!$G$2:$G$17&\"*\"&شهر3!$F$2:$F$17&\"*\"&شهر3!$O$2:$O$17&\"*\"&شهر3!$E$2:$E$17,0))","v":0}]
[null,null,{"$f":"VLOOKUP(B174,برقية!$A$2:$B$458,2,FALSE)","v":{"$error":"#N/A"}},null,null,{"$f":"INDEX(شهر3!$A$2:$A$17,MATCH((B174&\"*\"&G174&\"*\"&D174&\"*\"&E174),شهر3!$G$2:$G$17&\"*\"&شهر3!$F$2:$F$17&\"*\"&شهر3!$O$2:$O$17&\"*\"&شهر3!$E$2:$E$17,0))","v":0}]
[null,null,{"$f":"VLOOKUP(B175,برقية!$A$2:$B$458,2,FALSE)","v":{"$error":"#N/A"}},null,null,{"$f":"INDEX(شهر3!$A$2:$A$17,MATCH((B175&\"*\"&G175&\"*\"&D175&\"*\"&E175),شهر3!$G$2:$G$17&\"*\"&شهر3!$F$2:$F$17&\"*\"&شهر3!$O$2:$O$17&\"*\"&شهر3!$E$2:$E$17,0))","v":0}]
[null,null,{"$f":"VLOOKUP(B176,برقية!$A$2:$B$458,2,FALSE)","v":{"$error":"#N/A"}},null,null,{"$f":"INDEX(شهر3!$A$2:$A$17,MATCH((B176&\"*\"&G176&\"*\"&D176&\"*\"&E176),شهر3!$G$2:$G$17&\"*\"&شهر3!$F$2:$F$17&\"*\"&شهر3!$O$2:$O$17&\"*\"&شهر3!$E$2:$E$17,0))","v":0}]
[null,null,{"$f":"VLOOKUP(B177,برقية!$A$2:$B$458,2,FALSE)","v":{"$error":"#N/A"}},null,null,{"$f":"INDEX(شهر3!$A$2:$A$17,MATCH((B177&\"*\"&G177&\"*\"&D177&\"*\"&E177),شهر3!$G$2:$G$17&\"*\"&شهر3!$F$2:$F$17&\"*\"&شهر3!$O$2:$O$17&\"*\"&شهر3!$E$2:$E$17,0))","v":0}]
[null,null,{"$f":"VLOOKUP(B178,برقية!$A$2:$B$458,2,FALSE)","v":{"$error":"#N/A"}},null,null,{"$f":"INDEX(شهر3!$A$2:$A$17,MATCH((B178&\"*\"&G178&\"*\"&D178&\"*\"&E178),شهر3!$G$2:$G$17&\"*\"&شهر3!$F$2:$F$17&\"*\"&شهر3!$O$2:$O$17&\"*\"&شهر3!$E$2:$E$17,0))","v":0}]
[null,null,{"$f":"VLOOKUP(B179,برقية!$A$2:$B$458,2,FALSE)","v":{"$error":"#N/A"}},null,null,{"$f":"INDEX(شهر3!$A$2:$A$17,MATCH((B179&\"*\"&G179&\"*\"&D179&\"*\"&E179),شهر3!$G$2:$G$17&\"*\"&شهر3!$F$2:$F$17&\"*\"&شهر3!$O$2:$O$17&\"*\"&شهر3!$E$2:$E$17,0))","v":0}]
[null,null,{"$f":"VLOOKUP(B180,برقية!$A$2:$B$458,2,FALSE)","v":{"$error":"#N/A"}},null,null,{"$f":"INDEX(شهر3!$A$2:$A$17,MATCH((B180&\"*\"&G180&\"*\"&D180&\"*\"&E180),شهر3!$G$2:$G$17&\"*\"&شهر3!$F$2:$F$17&\"*\"&شهر3!$O$2:$O$17&\"*\"&شهر3!$E$2:$E$17,0))","v":0}]
[null,null,{"$f":"VLOOKUP(B181,برقية!$A$2:$B$458,2,FALSE)","v":{"$error":"#N/A"}},null,null,{"$f":"INDEX(شهر3!$A$2:$A$17,MATCH((B181&\"*\"&G181&\"*\"&D181&\"*\"&E181),شهر3!$G$2:$G$17&\"*\"&شهر3!$F$2:$F$17&\"*\"&شهر3!$O$2:$O$17&\"*\"&شهر3!$E$2:$E$17,0))","v":0}]
[null,null,{"$f":"VLOOKUP(B182,برقية!$A$2:$B$458,2,FALSE)","v":{"$error":"#N/A"}},null,null,{"$f":"INDEX(شهر3!$A$2:$A$17,MATCH((B182&\"*\"&G182&\"*\"&D182&\"*\"&E182),شهر3!$G$2:$G$17&\"*\"&شهر3!$F$2:$F$17&\"*\"&شهر3!$O$2:$O$17&\"*\"&شهر3!$E$2:$E$17,0))","v":0}]
[null,null,{"$f":"VLOOKUP(B183,برقية!$A$2:$B$458,2,FALSE)","v":{"$error":"#N/A"}},null,null,{"$f":"INDEX(شهر3!$A$2:$A$17,MATCH((B183&\"*\"&G183&\"*\"&D183&\"*\"&E183),شهر3!$G$2:$G$17&\"*\"&شهر3!$F$2:$F$17&\"*\"&شهر3!$O$2:$O$17&\"*\"&شهر3!$E$2:$E$17,0))","v":0}]
[null,null,{"$f":"VLOOKUP(B184,برقية!$A$2:$B$458,2,FALSE)","v":{"$error":"#N/A"}},null,null,{"$f":"INDEX(شهر3!$A$2:$A$17,MATCH((B184&\"*\"&G184&\"*\"&D184&\"*\"&E184),شهر3!$G$2:$G$17&\"*\"&شهر3!$F$2:$F$17&\"*\"&شهر3!$O$2:$O$17&\"*\"&شهر3!$E$2:$E$17,0))","v":0}]
[null,null,{"$f":"VLOOKUP(B185,برقية!$A$2:$B$458,2,FALSE)","v":{"$error":"#N/A"}},null,null,{"$f":"INDEX(شهر3!$A$2:$A$17,MATCH((B185&\"*\"&G185&\"*\"&D185&\"*\"&E185),شهر3!$G$2:$G$17&\"*\"&شهر3!$F$2:$F$17&\"*\"&شهر3!$O$2:$O$17&\"*\"&شهر3!$E$2:$E$17,0))","v":0}]
[null,null,{"$f":"VLOOKUP(B186,برقية!$A$2:$B$458,2,FALSE)","v":{"$error":"#N/A"}},null,null,{"$f":"INDEX(شهر3!$A$2:$A$17,MATCH((B186&\"*\"&G186&\"*\"&D186&\"*\"&E186),شهر3!$G$2:$G$17&\"*\"&شهر3!$F$2:$F$17&\"*\"&شهر3!$O$2:$O$17&\"*\"&شهر3!$E$2:$E$17,0))","v":0}]
[null,null,{"$f":"VLOOKUP(B187,برقية!$A$2:$B$458,2,FALSE)","v":{"$error":"#N/A"}},null,null,{"$f":"INDEX(شهر3!$A$2:$A$17,MATCH((B187&\"*\"&G187&\"*\"&D187&\"*\"&E187),شهر3!$G$2:$G$17&\"*\"&شهر3!$F$2:$F$17&\"*\"&شهر3!$O$2:$O$17&\"*\"&شهر3!$E$2:$E$17,0))","v":0}]
[null,null,{"$f":"VLOOKUP(B188,برقية!$A$2:$B$458,2,FALSE)","v":{"$error":"#N/A"}},null,null,{"$f":"INDEX(شهر3!$A$2:$A$17,MATCH((B188&\"*\"&G188&\"*\"&D188&\"*\"&E188),شهر3!$G$2:$G$17&\"*\"&شهر3!$F$2:$F$17&\"*\"&شهر3!$O$2:$O$17&\"*\"&شهر3!$E$2:$E$17,0))","v":0}]
[null,null,{"$f":"VLOOKUP(B189,برقية!$A$2:$B$458,2,FALSE)","v":{"$error":"#N/A"}},null,null,{"$f":"INDEX(شهر3!$A$2:$A$17,MATCH((B189&\"*\"&G189&\"*\"&D189&\"*\"&E189),شهر3!$G$2:$G$17&\"*\"&شهر3!$F$2:$F$17&\"*\"&شهر3!$O$2:$O$17&\"*\"&شهر3!$E$2:$E$17,0))","v":0}]
[null,null,{"$f":"VLOOKUP(B190,برقية!$A$2:$B$458,2,FALSE)","v":{"$error":"#N/A"}},null,null,{"$f":"INDEX(شهر3!$A$2:$A$17,MATCH((B190&\"*\"&G190&\"*\"&D190&\"*\"&E190),شهر3!$G$2:$G$17&\"*\"&شهر3!$F$2:$F$17&\"*\"&شهر3!$O$2:$O$17&\"*\"&شهر3!$E$2:$E$17,0))","v":0}]
[null,null,{"$f":"VLOOKUP(B191,برقية!$A$2:$B$458,2,FALSE)","v":{"$error":"#N/A"}},null,null,{"$f":"INDEX(شهر3!$A$2:$A$17,MATCH((B191&\"*\"&G191&\"*\"&D191&\"*\"&E191),شهر3!$G$2:$G$17&\"*\"&شهر3!$F$2:$F$17&\"*\"&شهر3!$O$2:$O$17&\"*\"&شهر3!$E$2:$E$17,0))","v":0}]
[null,null,{"$f":"VLOOKUP(B192,برقية!$A$2:$B$458,2,FALSE)","v":{"$error":"#N/A"}},null,null,{"$f":"INDEX(شهر3!$A$2:$A$17,MATCH((B192&\"*\"&G192&\"*\"&D192&\"*\"&E192),شهر3!$G$2:$G$17&\"*\"&شهر3!$F$2:$F$17&\"*\"&شهر3!$O$2:$O$17&\"*\"&شهر3!$E$2:$E$17,0))","v":0}]
[null,null,{"$f":"VLOOKUP(B193,برقية!$A$2:$B$458,2,FALSE)","v":{"$error":"#N/A"}},null,null,{"$f":"INDEX(شهر3!$A$2:$A$17,MATCH((B193&\"*\"&G193&\"*\"&D193&\"*\"&E193),شهر3!$G$2:$G$17&\"*\"&شهر3!$F$2:$F$17&\"*\"&شهر3!$O$2:$O$17&\"*\"&شهر3!$E$2:$E$17,0))","v":0}]
[null,null,{"$f":"VLOOKUP(B194,برقية!$A$2:$B$458,2,FALSE)","v":{"$error":"#N/A"}},null,null,{"$f":"INDEX(شهر3!$A$2:$A$17,MATCH((B194&\"*\"&G194&\"*\"&D194&\"*\"&E194),شهر3!$G$2:$G$17&\"*\"&شهر3!$F$2:$F$17&\"*\"&شهر3!$O$2:$O$17&\"*\"&شهر3!$E$2:$E$17,0))","v":0}]
[null,null,{"$f":"VLOOKUP(B195,برقية!$A$2:$B$458,2,FALSE)","v":{"$error":"#N/A"}},null,null,{"$f":"INDEX(شهر3!$A$2:$A$17,MATCH((B195&\"*\"&G195&\"*\"&D195&\"*\"&E195),شهر3!$G$2:$G$17&\"*\"&شهر3!$F$2:$F$17&\"*\"&شهر3!$O$2:$O$17&\"*\"&شهر3!$E$2:$E$17,0))","v":0}]
[null,null,{"$f":"VLOOKUP(B196,برقية!$A$2:$B$458,2,FALSE)","v":{"$error":"#N/A"}},null,null,{"$f":"INDEX(شهر3!$A$2:$A$17,MATCH((B196&\"*\"&G196&\"*\"&D196&\"*\"&E196),شهر3!$G$2:$G$17&\"*\"&شهر3!$F$2:$F$17&\"*\"&شهر3!$O$2:$O$17&\"*\"&شهر3!$E$2:$E$17,0))","v":0}]
[null,null,{"$f":"VLOOKUP(B197,برقية!$A$2:$B$458,2,FALSE)","v":{"$error":"#N/A"}},null,null,{"$f":"INDEX(شهر3!$A$2:$A$17,MATCH((B197&\"*\"&G197&\"*\"&D197&\"*\"&E197),شهر3!$G$2:$G$17&\"*\"&شهر3!$F$2:$F$17&\"*\"&شهر3!$O$2:$O$17&\"*\"&شهر3!$E$2:$E$17,0))","v":0}]
[null,null,{"$f":"VLOOKUP(B198,برقية!$A$2:$B$458,2,FALSE)","v":{"$error":"#N/A"}},null,null,{"$f":"INDEX(شهر3!$A$2:$A$17,MATCH((B198&\"*\"&G198&\"*\"&D198&\"*\"&E198),شهر3!$G$2:$G$17&\"*\"&شهر3!$F$2:$F$17&\"*\"&شهر3!$O$2:$O$17&\"*\"&شهر3!$E$2:$E$17,0))","v":0}]
[null,null,{"$f":"VLOOKUP(B199,برقية!$A$2:$B$458,2,FALSE)","v":{"$error":"#N/A"}},null,null,{"$f":"INDEX(شهر3!$A$2:$A$17,MATCH((B199&\"*\"&G199&\"*\"&D199&\"*\"&E199),شهر3!$G$2:$G$17&\"*\"&شهر3!$F$2:$F$17&\"*\"&شهر3!$O$2:$O$17&\"*\"&شهر3!$E$2:$E$17,0))","v":0}]
[null,null,{"$f":"VLOOKUP(B200,برقية!$A$2:$B$458,2,FALSE)","v":{"$error":"#N/A"}},null,null,{"$f":"INDEX(شهر3!$A$2:$A$17,MATCH((B200&\"*\"&G200&\"*\"&D200&\"*\"&E200),شهر3!$G$2:$G$17&\"*\"&شهر3!$F$2:$F$17&\"*\"&شهر3!$O$2:$O$17&\"*\"&شهر3!$E$2:$E$17,0))","v":0}]
[null,null,{"$f":"VLOOKUP(B201,برقية!$A$2:$B$458,2,FALSE)","v":{"$error":"#N/A"}},null,null,{"$f":"INDEX(شهر3!$A$2:$A$17,MATCH((B201&\"*\"&G201&\"*\"&D201&\"*\"&E201),شهر3!$G$2:$G$17&\"*\"&شهر3!$F$2:$F$17&\"*\"&شهر3!$O$2:$O$17&\"*\"&شهر3!$E$2:$E$17,0))","v":0}]
[null,null,{"$f":"VLOOKUP(B202,برقية!$A$2:$B$458,2,FALSE)","v":{"$error":"#N/A"}},null,null,{"$f":"INDEX(شهر3!$A$2:$A$17,MATCH((B202&\"*\"&G202&\"*\"&D202&\"*\"&E202),شهر3!$G$2:$G$17&\"*\"&شهر3!$F$2:$F$17&\"*\"&شهر3!$O$2:$O$17&\"*\"&شهر3!$E$2:$E$17,0))","v":0}]
[null,null,{"$f":"VLOOKUP(B203,برقية!$A$2:$B$458,2,FALSE)","v":{"$error":"#N/A"}},null,null,{"$f":"INDEX(شهر3!$A$2:$A$17,MATCH((B203&\"*\"&G203&\"*\"&D203&\"*\"&E203),شهر3!$G$2:$G$17&\"*\"&شهر3!$F$2:$F$17&\"*\"&شهر3!$O$2:$O$17&\"*\"&شهر3!$E$2:$E$17,0))","v":0}]
[null,null,{"$f":"VLOOKUP(B204,برقية!$A$2:$B$458,2,FALSE)","v":{"$error":"#N/A"}},null,null,{"$f":"INDEX(شهر3!$A$2:$A$17,MATCH((B204&\"*\"&G204&\"*\"&D204&\"*\"&E204),شهر3!$G$2:$G$17&\"*\"&شهر3!$F$2:$F$17&\"*\"&شهر3!$O$2:$O$17&\"*\"&شهر3!$E$2:$E$17,0))","v":0}]
[null,null,{"$f":"VLOOKUP(B205,برقية!$A$2:$B$458,2,FALSE)","v":{"$error":"#N/A"}},null,null,{"$f":"INDEX(شهر3!$A$2:$A$17,MATCH((B205&\"*\"&G205&\"*\"&D205&\"*\"&E205),شهر3!$G$2:$G$17&\"*\"&شهر3!$F$2:$F$17&\"*\"&شهر3!$O$2:$O$17&\"*\"&شهر3!$E$2:$E$17,0))","v":0}]
[null,null,{"$f":"VLOOKUP(B206,برقية!$A$2:$B$458,2,FALSE)","v":{"$error":"#N/A"}},null,null,{"$f":"INDEX(شهر3!$A$2:$A$17,MATCH((B206&\"*\"&G206&\"*\"&D206&\"*\"&E206),شهر3!$G$2:$G$17&\"*\"&شهر3!$F$2:$F$17&\"*\"&شهر3!$O$2:$O$17&\"*\"&شهر3!$E$2:$E$17,0))","v":0}]
[null,null,{"$f":"VLOOKUP(B207,برقية!$A$2:$B$458,2,FALSE)","v":{"$error":"#N/A"}},null,null,{"$f":"INDEX(شهر3!$A$2:$A$17,MATCH((B207&\"*\"&G207&\"*\"&D207&\"*\"&E207),شهر3!$G$2:$G$17&\"*\"&شهر3!$F$2:$F$17&\"*\"&شهر3!$O$2:$O$17&\"*\"&شهر3!$E$2:$E$17,0))","v":0}]
[null,null,{"$f":"VLOOKUP(B208,برقية!$A$2:$B$458,2,FALSE)","v":{"$error":"#N/A"}},null,null,{"$f":"INDEX(شهر3!$A$2:$A$17,MATCH((B208&\"*\"&G208&\"*\"&D208&\"*\"&E208),شهر3!$G$2:$G$17&\"*\"&شهر3!$F$2:$F$17&\"*\"&شهر3!$O$2:$O$17&\"*\"&شهر3!$E$2:$E$17,0))","v":0}]
[null,null,{"$f":"VLOOKUP(B209,برقية!$A$2:$B$458,2,FALSE)","v":{"$error":"#N/A"}},null,null,{"$f":"INDEX(شهر3!$A$2:$A$17,MATCH((B209&\"*\"&G209&\"*\"&D209&\"*\"&E209),شهر3!$G$2:$G$17&\"*\"&شهر3!$F$2:$F$17&\"*\"&شهر3!$O$2:$O$17&\"*\"&شهر3!$E$2:$E$17,0))","v":0}]
[null,null,{"$f":"VLOOKUP(B210,برقية!$A$2:$B$458,2,FALSE)","v":{"$error":"#N/A"}},null,null,{"$f":"INDEX(شهر3!$A$2:$A$17,MATCH((B210&\"*\"&G210&\"*\"&D210&\"*\"&E210),شهر3!$G$2:$G$17&\"*\"&شهر3!$F$2:$F$17&\"*\"&شهر3!$O$2:$O$17&\"*\"&شهر3!$E$2:$E$17,0))","v":0}]
[null,null,{"$f":"VLOOKUP(B211,برقية!$A$2:$B$458,2,FALSE)","v":{"$error":"#N/A"}},null,null,{"$f":"INDEX(شهر3!$A$2:$A$17,MATCH((B211&\"*\"&G211&\"*\"&D211&\"*\"&E211),شهر3!$G$2:$G$17&\"*\"&شهر3!$F$2:$F$17&\"*\"&شهر3!$O$2:$O$17&\"*\"&شهر3!$E$2:$E$17,0))","v":0}]
[null,null,{"$f":"VLOOKUP(B212,برقية!$A$2:$B$458,2,FALSE)","v":{"$error":"#N/A"}},null,null,{"$f":"INDEX(شهر3!$A$2:$A$17,MATCH((B212&\"*\"&G212&\"*\"&D212&\"*\"&E212),شهر3!$G$2:$G$17&\"*\"&شهر3!$F$2:$F$17&\"*\"&شهر3!$O$2:$O$17&\"*\"&شهر3!$E$2:$E$17,0))","v":0}]
[null,null,{"$f":"VLOOKUP(B213,برقية!$A$2:$B$458,2,FALSE)","v":{"$error":"#N/A"}},null,null,{"$f":"INDEX(شهر3!$A$2:$A$17,MATCH((B213&\"*\"&G213&\"*\"&D213&\"*\"&E213),شهر3!$G$2:$G$17&\"*\"&شهر3!$F$2:$F$17&\"*\"&شهر3!$O$2:$O$17&\"*\"&شهر3!$E$2:$E$17,0))","v":0}]
[null,null,{"$f":"VLOOKUP(B214,برقية!$A$2:$B$458,2,FALSE)","v":{"$error":"#N/A"}},null,null,{"$f":"INDEX(شهر3!$A$2:$A$17,MATCH((B214&\"*\"&G214&\"*\"&D214&\"*\"&E214),شهر3!$G$2:$G$17&\"*\"&شهر3!$F$2:$F$17&\"*\"&شهر3!$O$2:$O$17&\"*\"&شهر3!$E$2:$E$17,0))","v":0}]
[null,null,{"$f":"VLOOKUP(B215,برقية!$A$2:$B$458,2,FALSE)","v":{"$error":"#N/A"}},null,null,{"$f":"INDEX(شهر3!$A$2:$A$17,MATCH((B215&\"*\"&G215&\"*\"&D215&\"*\"&E215),شهر3!$G$2:$G$17&\"*\"&شهر3!$F$2:$F$17&\"*\"&شهر3!$O$2:$O$17&\"*\"&شهر3!$E$2:$E$17,0))","v":0}]
[null,null,{"$f":"VLOOKUP(B216,برقية!$A$2:$B$458,2,FALSE)","v":{"$error":"#N/A"}},null,null,{"$f":"INDEX(شهر3!$A$2:$A$17,MATCH((B216&\"*\"&G216&\"*\"&D216&\"*\"&E216),شهر3!$G$2:$G$17&\"*\"&شهر3!$F$2:$F$17&\"*\"&شهر3!$O$2:$O$17&\"*\"&شهر3!$E$2:$E$17,0))","v":0}]
[null,null,{"$f":"VLOOKUP(B217,برقية!$A$2:$B$458,2,FALSE)","v":{"$error":"#N/A"}},null,null,{"$f":"INDEX(شهر3!$A$2:$A$17,MATCH((B217&\"*\"&G217&\"*\"&D217&\"*\"&E217),شهر3!$G$2:$G$17&\"*\"&شهر3!$F$2:$F$17&\"*\"&شهر3!$O$2:$O$17&\"*\"&شهر3!$E$2:$E$17,0))","v":0}]
[null,null,{"$f":"VLOOKUP(B218,برقية!$A$2:$B$458,2,FALSE)","v":{"$error":"#N/A"}},null,null,{"$f":"INDEX(شهر3!$A$2:$A$17,MATCH((B218&\"*\"&G218&\"*\"&D218&\"*\"&E218),شهر3!$G$2:$G$17&\"*\"&شهر3!$F$2:$F$17&\"*\"&شهر3!$O$2:$O$17&\"*\"&شهر3!$E$2:$E$17,0))","v":0}]
[null,null,{"$f":"VLOOKUP(B219,برقية!$A$2:$B$458,2,FALSE)","v":{"$error":"#N/A"}},null,null,{"$f":"INDEX(شهر3!$A$2:$A$17,MATCH((B219&\"*\"&G219&\"*\"&D219&\"*\"&E219),شهر3!$G$2:$G$17&\"*\"&شهر3!$F$2:$F$17&\"*\"&شهر3!$O$2:$O$17&\"*\"&شهر3!$E$2:$E$17,0))","v":0}]
[null,null,{"$f":"VLOOKUP(B220,برقية!$A$2:$B$458,2,FALSE)","v":{"$error":"#N/A"}},null,null,{"$f":"INDEX(شهر3!$A$2:$A$17,MATCH((B220&\"*\"&G220&\"*\"&D220&\"*\"&E220),شهر3!$G$2:$G$17&\"*\"&شهر3!$F$2:$F$17&\"*\"&شهر3!$O$2:$O$17&\"*\"&شهر3!$E$2:$E$17,0))","v":0}]
[null,null,{"$f":"VLOOKUP(B221,برقية!$A$2:$B$458,2,FALSE)","v":{"$error":"#N/A"}},null,null,{"$f":"INDEX(شهر3!$A$2:$A$17,MATCH((B221&\"*\"&G221&\"*\"&D221&\"*\"&E221),شهر3!$G$2:$G$17&\"*\"&شهر3!$F$2:$F$17&\"*\"&شهر3!$O$2:$O$17&\"*\"&شهر3!$E$2:$E$17,0))","v":0}]
[null,null,{"$f":"VLOOKUP(B222,برقية!$A$2:$B$458,2,FALSE)","v":{"$error":"#N/A"}},null,null,{"$f":"INDEX(شهر3!$A$2:$A$17,MATCH((B222&\"*\"&G222&\"*\"&D222&\"*\"&E222),شهر3!$G$2:$G$17&\"*\"&شهر3!$F$2:$F$17&\"*\"&شهر3!$O$2:$O$17&\"*\"&شهر3!$E$2:$E$17,0))","v":0}]
[null,null,{"$f":"VLOOKUP(B223,برقية!$A$2:$B$458,2,FALSE)","v":{"$error":"#N/A"}},null,null,{"$f":"INDEX(شهر3!$A$2:$A$17,MATCH((B223&\"*\"&G223&\"*\"&D223&\"*\"&E223),شهر3!$G$2:$G$17&\"*\"&شهر3!$F$2:$F$17&\"*\"&شهر3!$O$2:$O$17&\"*\"&شهر3!$E$2:$E$17,0))","v":0}]
[null,null,{"$f":"VLOOKUP(B224,برقية!$A$2:$B$458,2,FALSE)","v":{"$error":"#N/A"}},null,null,{"$f":"INDEX(شهر3!$A$2:$A$17,MATCH((B224&\"*\"&G224&\"*\"&D224&\"*\"&E224),شهر3!$G$2:$G$17&\"*\"&شهر3!$F$2:$F$17&\"*\"&شهر3!$O$2:$O$17&\"*\"&شهر3!$E$2:$E$17,0))","v":0}]
[null,null,{"$f":"VLOOKUP(B225,برقية!$A$2:$B$458,2,FALSE)","v":{"$error":"#N/A"}},null,null,{"$f":"INDEX(شهر3!$A$2:$A$17,MATCH((B225&\"*\"&G225&\"*\"&D225&\"*\"&E225),شهر3!$G$2:$G$17&\"*\"&شهر3!$F$2:$F$17&\"*\"&شهر3!$O$2:$O$17&\"*\"&شهر3!$E$2:$E$17,0))","v":0}]
[null,null,{"$f":"VLOOKUP(B226,برقية!$A$2:$B$458,2,FALSE)","v":{"$error":"#N/A"}},null,null,{"$f":"INDEX(شهر3!$A$2:$A$17,MATCH((B226&\"*\"&G226&\"*\"&D226&\"*\"&E226),شهر3!$G$2:$G$17&\"*\"&شهر3!$F$2:$F$17&\"*\"&شهر3!$O$2:$O$17&\"*\"&شهر3!$E$2:$E$17,0))","v":0}]
[null,null,{"$f":"VLOOKUP(B227,برقية!$A$2:$B$458,2,FALSE)","v":{"$error":"#N/A"}},null,null,{"$f":"INDEX(شهر3!$A$2:$A$17,MATCH((B227&\"*\"&G227&\"*\"&D227&\"*\"&E227),شهر3!$G$2:$G$17&\"*\"&شهر3!$F$2:$F$17&\"*\"&شهر3!$O$2:$O$17&\"*\"&شهر3!$E$2:$E$17,0))","v":0}]
[null,null,{"$f":"VLOOKUP(B228,برقية!$A$2:$B$458,2,FALSE)","v":{"$error":"#N/A"}},null,null,{"$f":"INDEX(شهر3!$A$2:$A$17,MATCH((B228&\"*\"&G228&\"*\"&D228&\"*\"&E228),شهر3!$G$2:$G$17&\"*\"&شهر3!$F$2:$F$17&\"*\"&شهر3!$O$2:$O$17&\"*\"&شهر3!$E$2:$E$17,0))","v":0}]
[null,null,{"$f":"VLOOKUP(B229,برقية!$A$2:$B$458,2,FALSE)","v":{"$error":"#N/A"}},null,null,{"$f":"INDEX(شهر3!$A$2:$A$17,MATCH((B229&\"*\"&G229&\"*\"&D229&\"*\"&E229),شهر3!$G$2:$G$17&\"*\"&شهر3!$F$2:$F$17&\"*\"&شهر3!$O$2:$O$17&\"*\"&شهر3!$E$2:$E$17,0))","v":0}]
[null,null,{"$f":"VLOOKUP(B230,برقية!$A$2:$B$458,2,FALSE)","v":{"$error":"#N/A"}},null,null,{"$f":"INDEX(شهر3!$A$2:$A$17,MATCH((B230&\"*\"&G230&\"*\"&D230&\"*\"&E230),شهر3!$G$2:$G$17&\"*\"&شهر3!$F$2:$F$17&\"*\"&شهر3!$O$2:$O$17&\"*\"&شهر3!$E$2:$E$17,0))","v":0}]
[null,null,{"$f":"VLOOKUP(B231,برقية!$A$2:$B$458,2,FALSE)","v":{"$error":"#N/A"}},null,null,{"$f":"INDEX(شهر3!$A$2:$A$17,MATCH((B231&\"*\"&G231&\"*\"&D231&\"*\"&E231),شهر3!$G$2:$G$17&\"*\"&شهر3!$F$2:$F$17&\"*\"&شهر3!$O$2:$O$17&\"*\"&شهر3!$E$2:$E$17,0))","v":0}]
[null,null,{"$f":"VLOOKUP(B232,برقية!$A$2:$B$458,2,FALSE)","v":{"$error":"#N/A"}},null,null,{"$f":"INDEX(شهر3!$A$2:$A$17,MATCH((B232&\"*\"&G232&\"*\"&D232&\"*\"&E232),شهر3!$G$2:$G$17&\"*\"&شهر3!$F$2:$F$17&\"*\"&شهر3!$O$2:$O$17&\"*\"&شهر3!$E$2:$E$17,0))","v":0}]
[null,null,{"$f":"VLOOKUP(B233,برقية!$A$2:$B$458,2,FALSE)","v":{"$error":"#N/A"}},null,null,{"$f":"INDEX(شهر3!$A$2:$A$17,MATCH((B233&\"*\"&G233&\"*\"&D233&\"*\"&E233),شهر3!$G$2:$G$17&\"*\"&شهر3!$F$2:$F$17&\"*\"&شهر3!$O$2:$O$17&\"*\"&شهر3!$E$2:$E$17,0))","v":0}]
[null,null,{"$f":"VLOOKUP(B234,برقية!$A$2:$B$458,2,FALSE)","v":{"$error":"#N/A"}},null,null,{"$f":"INDEX(شهر3!$A$2:$A$17,MATCH((B234&\"*\"&G234&\"*\"&D234&\"*\"&E234),شهر3!$G$2:$G$17&\"*\"&شهر3!$F$2:$F$17&\"*\"&شهر3!$O$2:$O$17&\"*\"&شهر3!$E$2:$E$17,0))","v":0}]
[null,null,{"$f":"VLOOKUP(B235,برقية!$A$2:$B$458,2,FALSE)","v":{"$error":"#N/A"}},null,null,{"$f":"INDEX(شهر3!$A$2:$A$17,MATCH((B235&\"*\"&G235&\"*\"&D235&\"*\"&E235),شهر3!$G$2:$G$17&\"*\"&شهر3!$F$2:$F$17&\"*\"&شهر3!$O$2:$O$17&\"*\"&شهر3!$E$2:$E$17,0))","v":0}]
[null,null,{"$f":"VLOOKUP(B236,برقية!$A$2:$B$458,2,FALSE)","v":{"$error":"#N/A"}},null,null,{"$f":"INDEX(شهر3!$A$2:$A$17,MATCH((B236&\"*\"&G236&\"*\"&D236&\"*\"&E236),شهر3!$G$2:$G$17&\"*\"&شهر3!$F$2:$F$17&\"*\"&شهر3!$O$2:$O$17&\"*\"&شهر3!$E$2:$E$17,0))","v":0}]
[null,null,{"$f":"VLOOKUP(B237,برقية!$A$2:$B$458,2,FALSE)","v":{"$error":"#N/A"}},null,null,{"$f":"INDEX(شهر3!$A$2:$A$17,MATCH((B237&\"*\"&G237&\"*\"&D237&\"*\"&E237),شهر3!$G$2:$G$17&\"*\"&شهر3!$F$2:$F$17&\"*\"&شهر3!$O$2:$O$17&\"*\"&شهر3!$E$2:$E$17,0))","v":0}]
[null,null,{"$f":"VLOOKUP(B238,برقية!$A$2:$B$458,2,FALSE)","v":{"$error":"#N/A"}},null,null,{"$f":"INDEX(شهر3!$A$2:$A$17,MATCH((B238&\"*\"&G238&\"*\"&D238&\"*\"&E238),شهر3!$G$2:$G$17&\"*\"&شهر3!$F$2:$F$17&\"*\"&شهر3!$O$2:$O$17&\"*\"&شهر3!$E$2:$E$17,0))","v":0}]
[null,null,{"$f":"VLOOKUP(B239,برقية!$A$2:$B$458,2,FALSE)","v":{"$error":"#N/A"}},null,null,{"$f":"INDEX(شهر3!$A$2:$A$17,MATCH((B239&\"*\"&G239&\"*\"&D239&\"*\"&E239),شهر3!$G$2:$G$17&\"*\"&شهر3!$F$2:$F$17&\"*\"&شهر3!$O$2:$O$17&\"*\"&شهر3!$E$2:$E$17,0))","v":0}]
[null,null,{"$f":"VLOOKUP(B240,برقية!$A$2:$B$458,2,FALSE)","v":{"$error":"#N/A"}},null,null,{"$f":"INDEX(شهر3!$A$2:$A$17,MATCH((B240&\"*\"&G240&\"*\"&D240&\"*\"&E240),شهر3!$G$2:$G$17&\"*\"&شهر3!$F$2:$F$17&\"*\"&شهر3!$O$2:$O$17&\"*\"&شهر3!$E$2:$E$17,0))","v":0}]
[null,null,{"$f":"VLOOKUP(B241,برقية!$A$2:$B$458,2,FALSE)","v":{"$error":"#N/A"}},null,null,{"$f":"INDEX(شهر3!$A$2:$A$17,MATCH((B241&\"*\"&G241&\"*\"&D241&\"*\"&E241),شهر3!$G$2:$G$17&\"*\"&شهر3!$F$2:$F$17&\"*\"&شهر3!$O$2:$O$17&\"*\"&شهر3!$E$2:$E$17,0))","v":0}]
[null,null,{"$f":"VLOOKUP(B242,برقية!$A$2:$B$458,2,FALSE)","v":{"$error":"#N/A"}},null,null,{"$f":"INDEX(شهر3!$A$2:$A$17,MATCH((B242&\"*\"&G242&\"*\"&D242&\"*\"&E242),شهر3!$G$2:$G$17&\"*\"&شهر3!$F$2:$F$17&\"*\"&شهر3!$O$2:$O$17&\"*\"&شهر3!$E$2:$E$17,0))","v":0}]
[null,null,{"$f":"VLOOKUP(B243,برقية!$A$2:$B$458,2,FALSE)","v":{"$error":"#N/A"}},null,null,{"$f":"INDEX(شهر3!$A$2:$A$17,MATCH((B243&\"*\"&G243&\"*\"&D243&\"*\"&E243),شهر3!$G$2:$G$17&\"*\"&شهر3!$F$2:$F$17&\"*\"&شهر3!$O$2:$O$17&\"*\"&شهر3!$E$2:$E$17,0))","v":0}]
[null,null,{"$f":"VLOOKUP(B244,برقية!$A$2:$B$458,2,FALSE)","v":{"$error":"#N/A"}},null,null,{"$f":"INDEX(شهر3!$A$2:$A$17,MATCH((B244&\"*\"&G244&\"*\"&D244&\"*\"&E244),شهر3!$G$2:$G$17&\"*\"&شهر3!$F$2:$F$17&\"*\"&شهر3!$O$2:$O$17&\"*\"&شهر3!$E$2:$E$17,0))","v":0}]
[null,null,{"$f":"VLOOKUP(B245,برقية!$A$2:$B$458,2,FALSE)","v":{"$error":"#N/A"}},null,null,{"$f":"INDEX(شهر3!$A$2:$A$17,MATCH((B245&\"*\"&G245&\"*\"&D245&\"*\"&E245),شهر3!$G$2:$G$17&\"*\"&شهر3!$F$2:$F$17&\"*\"&شهر3!$O$2:$O$17&\"*\"&شهر3!$E$2:$E$17,0))","v":0}]
[null,null,{"$f":"VLOOKUP(B246,برقية!$A$2:$B$458,2,FALSE)","v":{"$error":"#N/A"}},null,null,{"$f":"INDEX(شهر3!$A$2:$A$17,MATCH((B246&\"*\"&G246&\"*\"&D246&\"*\"&E246),شهر3!$G$2:$G$17&\"*\"&شهر3!$F$2:$F$17&\"*\"&شهر3!$O$2:$O$17&\"*\"&شهر3!$E$2:$E$17,0))","v":0}]
[null,null,{"$f":"VLOOKUP(B247,برقية!$A$2:$B$458,2,FALSE)","v":{"$error":"#N/A"}},null,null,{"$f":"INDEX(شهر3!$A$2:$A$17,MATCH((B247&\"*\"&G247&\"*\"&D247&\"*\"&E247),شهر3!$G$2:$G$17&\"*\"&شهر3!$F$2:$F$17&\"*\"&شهر3!$O$2:$O$17&\"*\"&شهر3!$E$2:$E$17,0))","v":0}]
[null,null,{"$f":"VLOOKUP(B248,برقية!$A$2:$B$458,2,FALSE)","v":{"$error":"#N/A"}},null,null,{"$f":"INDEX(شهر3!$A$2:$A$17,MATCH((B248&\"*\"&G248&\"*\"&D248&\"*\"&E248),شهر3!$G$2:$G$17&\"*\"&شهر3!$F$2:$F$17&\"*\"&شهر3!$O$2:$O$17&\"*\"&شهر3!$E$2:$E$17,0))","v":0}]
[]
[]
[]
[]
[]
[]
[]
[]
[]
[]
[]
[]
[]
[]
[]
[]
[]
[]
[]
[]
[]
[]
[]
[]
[]
[]
[]
[]
[]
[]
[]
[]
[]
[]
[]
[1,15419,"صلاح نوري زيدان","الفلوجة الجديدة","كاز",{"$f":"INDEX(شهر3!#REF!,MATCH((B284&\"*\"&G284&\"*\"&D284&\"*\"&E284),شهر3!#REF!&\"*\"&شهر3!#REF!&\"*\"&شهر3!#REF!&\"*\"&شهر3!#REF!,0))","v":{"$error":"#REF!"}},"2021-03-02",{"$f":"INDEX(شهر3!#REF!,MATCH((B284&\"*\"&G284&\"*\"&D284&\"*\"&E284),شهر3!#REF!&\"*\"&شهر3!#REF!&\"*\"&شهر3!#REF!&\"*\"&شهر3!#REF!,0))","v":{"$error":"#REF!"}}]
[2,62236,"سعد هادي حمادي","الرمادي الجديدة","كاز",{"$f":"INDEX(شهر3!#REF!,MATCH((B285&\"*\"&G285&\"*\"&D285&\"*\"&E285),شهر3!#REF!&\"*\"&شهر3!#REF!&\"*\"&شهر3!#REF!&\"*\"&شهر3!#REF!,0))","v":{"$error":"#REF!"}},"2021-03-02",{"$f":"INDEX(شهر3!#REF!,MATCH((B285&\"*\"&G285&\"*\"&D285&\"*\"&E285),شهر3!#REF!&\"*\"&شهر3!#REF!&\"*\"&شهر3!#REF!&\"*\"&شهر3!#REF!,0))","v":{"$error":"#REF!"}}]
[3,62513,"خالد حميد سمير","الرمادي الجديدة","كاز",{"$f":"INDEX(شهر3!#REF!,MATCH((B286&\"*\"&G286&\"*\"&D286&\"*\"&E286),شهر3!#REF!&\"*\"&شهر3!#REF!&\"*\"&شهر3!#REF!&\"*\"&شهر3!#REF!,0))","v":{"$error":"#REF!"}},"2021-03-02",{"$f":"INDEX(شهر3!#REF!,MATCH((B286&\"*\"&G286&\"*\"&D286&\"*\"&E286),شهر3!#REF!&\"*\"&شهر3!#REF!&\"*\"&شهر3!#REF!&\"*\"&شهر3!#REF!,0))","v":{"$error":"#REF!"}}]
[1,18539,"فرحان حميد سمير","تاج القدس","كاز",{"$f":"INDEX(شهر3!#REF!,MATCH((B287&\"*\"&G287&\"*\"&D287&\"*\"&E287),شهر3!#REF!&\"*\"&شهر3!#REF!&\"*\"&شهر3!#REF!&\"*\"&شهر3!#REF!,0))","v":{"$error":"#REF!"}},"2021-03-03",{"$f":"INDEX(شهر3!#REF!,MATCH((B287&\"*\"&G287&\"*\"&D287&\"*\"&E287),شهر3!#REF!&\"*\"&شهر3!#REF!&\"*\"&شهر3!#REF!&\"*\"&شهر3!#REF!,0))","v":{"$error":"#REF!"}}]
[1,24902,"علي عجيمي احميد","الرطبة القديمة","كاز",{"$f":"INDEX(شهر3!#REF!,MATCH((B288&\"*\"&G288&\"*\"&D288&\"*\"&E288),شهر3!#REF!&\"*\"&شهر3!#REF!&\"*\"&شهر3!#REF!&\"*\"&شهر3!#REF!,0))","v":{"$error":"#REF!"}},"2021-03-03",{"$f":"INDEX(شهر3!#REF!,MATCH((B288&\"*\"&G288&\"*\"&D288&\"*\"&E288),شهر3!#REF!&\"*\"&شهر3!#REF!&\"*\"&شهر3!#REF!&\"*\"&شهر3!#REF!,0))","v":{"$error":"#REF!"}}]
[2,557881,"خلدون محمد نائل","الكرمة","كاز",{"$f":"INDEX(شهر3!#REF!,MATCH((B289&\"*\"&G289&\"*\"&D289&\"*\"&E289),شهر3!#REF!&\"*\"&شهر3!#REF!&\"*\"&شهر3!#REF!&\"*\"&شهر3!#REF!,0))","v":{"$error":"#REF!"}},"2021-03-03",{"$f":"INDEX(شهر3!#REF!,MATCH((B289&\"*\"&G289&\"*\"&D289&\"*\"&E289),شهر3!#REF!&\"*\"&شهر3!#REF!&\"*\"&شهر3!#REF!&\"*\"&شهر3!#REF!,0))","v":{"$error":"#REF!"}}]
[3,69156,"قيس احمد محمود","الكرمة","كاز",{"$f":"INDEX(شهر3!#REF!,MATCH((B290&\"*\"&G290&\"*\"&D290&\"*\"&E290),شهر3!#REF!&\"*\"&شهر3!#REF!&\"*\"&شهر3!#REF!&\"*\"&شهر3!#REF!,0))","v":{"$error":"#REF!"}},"2021-03-03",{"$f":"INDEX(شهر3!#REF!,MATCH((B290&\"*\"&G290&\"*\"&D290&\"*\"&E290),شهر3!#REF!&\"*\"&شهر3!#REF!&\"*\"&شهر3!#REF!&\"*\"&شهر3!#REF!,0))","v":{"$error":"#REF!"}}]
[4,10899,"جمعة جبر لاحج","القائم","كاز",{"$f":"INDEX(شهر3!#REF!,MATCH((B291&\"*\"&G291&\"*\"&D291&\"*\"&E291),شهر3!#REF!&\"*\"&شهر3!#REF!&\"*\"&شهر3!#REF!&\"*\"&شهر3!#REF!,0))","v":{"$error":"#REF!"}},"2021-03-03",{"$f":"INDEX(شهر3!#REF!,MATCH((B291&\"*\"&G291&\"*\"&D291&\"*\"&E291),شهر3!#REF!&\"*\"&شهر3!#REF!&\"*\"&شهر3!#REF!&\"*\"&شهر3!#REF!,0))","v":{"$error":"#REF!"}}]
[5,52576,"زيد ضاحي حسن","الصقلاوية","كاز",{"$f":"INDEX(شهر3!#REF!,MATCH((B292&\"*\"&G292&\"*\"&D292&\"*\"&E292),شهر3!#REF!&\"*\"&شهر3!#REF!&\"*\"&شهر3!#REF!&\"*\"&شهر3!#REF!,0))","v":{"$error":"#REF!"}},"2021-03-03",{"$f":"INDEX(شهر3!#REF!,MATCH((B292&\"*\"&G292&\"*\"&D292&\"*\"&E292),شهر3!#REF!&\"*\"&شهر3!#REF!&\"*\"&شهر3!#REF!&\"*\"&شهر3!#REF!,0))","v":{"$error":"#REF!"}}]
[6,63259,"قتيبة جبار دلف","الحقلانية","كاز",{"$f":"INDEX(شهر3!#REF!,MATCH((B293&\"*\"&G293&\"*\"&D293&\"*\"&E293),شهر3!#REF!&\"*\"&شهر3!#REF!&\"*\"&شهر3!#REF!&\"*\"&شهر3!#REF!,0))","v":{"$error":"#REF!"}},"2021-03-03",{"$f":"INDEX(شهر3!#REF!,MATCH((B293&\"*\"&G293&\"*\"&D293&\"*\"&E293),شهر3!#REF!&\"*\"&شهر3!#REF!&\"*\"&شهر3!#REF!&\"*\"&شهر3!#REF!,0))","v":{"$error":"#REF!"}}]
[7,51135,"ميسم جبار دلف","هيت الجديدة","كاز",{"$f":"INDEX(شهر3!#REF!,MATCH((B294&\"*\"&G294&\"*\"&D294&\"*\"&E294),شهر3!#REF!&\"*\"&شهر3!#REF!&\"*\"&شهر3!#REF!&\"*\"&شهر3!#REF!,0))","v":{"$error":"#REF!"}},"2021-03-03",{"$f":"INDEX(شهر3!#REF!,MATCH((B294&\"*\"&G294&\"*\"&D294&\"*\"&E294),شهر3!#REF!&\"*\"&شهر3!#REF!&\"*\"&شهر3!#REF!&\"*\"&شهر3!#REF!,0))","v":{"$error":"#REF!"}}]
[8,192134,"سيف جبار دلف","الرمادي الجديدة","كاز",{"$f":"INDEX(شهر3!#REF!,MATCH((B295&\"*\"&G295&\"*\"&D295&\"*\"&E295),شهر3!#REF!&\"*\"&شهر3!#REF!&\"*\"&شهر3!#REF!&\"*\"&شهر3!#REF!,0))","v":{"$error":"#REF!"}},"2021-03-03",{"$f":"INDEX(شهر3!#REF!,MATCH((B295&\"*\"&G295&\"*\"&D295&\"*\"&E295),شهر3!#REF!&\"*\"&شهر3!#REF!&\"*\"&شهر3!#REF!&\"*\"&شهر3!#REF!,0))","v":{"$error":"#REF!"}}]
[1,45304,"سعد إسماعيل محمد","النخيب","كاز",{"$f":"INDEX(شهر3!#REF!,MATCH((B296&\"*\"&G296&\"*\"&D296&\"*\"&E296),شهر3!#REF!&\"*\"&شهر3!#REF!&\"*\"&شهر3!#REF!&\"*\"&شهر3!#REF!,0))","v":{"$error":"#REF!"}},"2021-03-04",{"$f":"INDEX(شهر3!#REF!,MATCH((B296&\"*\"&G296&\"*\"&D296&\"*\"&E296),شهر3!#REF!&\"*\"&شهر3!#REF!&\"*\"&شهر3!#REF!&\"*\"&شهر3!#REF!,0))","v":{"$error":"#REF!"}}]
[2,127237,"حمزة علي ناصر","الرمادي الجديدة","كاز",{"$f":"INDEX(شهر3!#REF!,MATCH((B297&\"*\"&G297&\"*\"&D297&\"*\"&E297),شهر3!#REF!&\"*\"&شهر3!#REF!&\"*\"&شهر3!#REF!&\"*\"&شهر3!#REF!,0))","v":{"$error":"#REF!"}},"2021-03-04",{"$f":"INDEX(شهر3!#REF!,MATCH((B297&\"*\"&G297&\"*\"&D297&\"*\"&E297),شهر3!#REF!&\"*\"&شهر3!#REF!&\"*\"&شهر3!#REF!&\"*\"&شهر3!#REF!,0))","v":{"$error":"#REF!"}}]
[3,17717,"عمر طه مطر","راوة","كاز",{"$f":"INDEX(شهر3!#REF!,MATCH((B298&\"*\"&G298&\"*\"&D298&\"*\"&E298),شهر3!#REF!&\"*\"&شهر3!#REF!&\"*\"&شهر3!#REF!&\"*\"&شهر3!#REF!,0))","v":{"$error":"#REF!"}},"2021-03-04",{"$f":"INDEX(شهر3!#REF!,MATCH((B298&\"*\"&G298&\"*\"&D298&\"*\"&E298),شهر3!#REF!&\"*\"&شهر3!#REF!&\"*\"&شهر3!#REF!&\"*\"&شهر3!#REF!,0))","v":{"$error":"#REF!"}}]
[4,558808,"احمد ضاري زيدان","الصقلاوية","كاز",{"$f":"INDEX(شهر3!#REF!,MATCH((B299&\"*\"&G299&\"*\"&D299&\"*\"&E299),شهر3!#REF!&\"*\"&شهر3!#REF!&\"*\"&شهر3!#REF!&\"*\"&شهر3!#REF!,0))","v":{"$error":"#REF!"}},"2021-03-04",{"$f":"INDEX(شهر3!#REF!,MATCH((B299&\"*\"&G299&\"*\"&D299&\"*\"&E299),شهر3!#REF!&\"*\"&شهر3!#REF!&\"*\"&شهر3!#REF!&\"*\"&شهر3!#REF!,0))","v":{"$error":"#REF!"}}]
[5,73138,"حميد صالح زبن","الحقلانية","كاز",{"$f":"INDEX(شهر3!#REF!,MATCH((B300&\"*\"&G300&\"*\"&D300&\"*\"&E300),شهر3!#REF!&\"*\"&شهر3!#REF!&\"*\"&شهر3!#REF!&\"*\"&شهر3!#REF!,0))","v":{"$error":"#REF!"}},"2021-03-04",{"$f":"INDEX(شهر3!#REF!,MATCH((B300&\"*\"&G300&\"*\"&D300&\"*\"&E300),شهر3!#REF!&\"*\"&شهر3!#REF!&\"*\"&شهر3!#REF!&\"*\"&شهر3!#REF!,0))","v":{"$error":"#REF!"}}]
[6,21304,"محمد ضاري زيدان","الكرمة","كاز",{"$f":"INDEX(شهر3!#REF!,MATCH((B301&\"*\"&G301&\"*\"&D301&\"*\"&E301),شهر3!#REF!&\"*\"&شهر3!#REF!&\"*\"&شهر3!#REF!&\"*\"&شهر3!#REF!,0))","v":{"$error":"#REF!"}},"2021-03-04",{"$f":"INDEX(شهر3!#REF!,MATCH((B301&\"*\"&G301&\"*\"&D301&\"*\"&E301),شهر3!#REF!&\"*\"&شهر3!#REF!&\"*\"&شهر3!#REF!&\"*\"&شهر3!#REF!,0))","v":{"$error":"#REF!"}}]
[7,18275,"فيصل هايل حسين","الفلوجة الجديدة","كاز",{"$f":"INDEX(شهر3!#REF!,MATCH((B302&\"*\"&G302&\"*\"&D302&\"*\"&E302),شهر3!#REF!&\"*\"&شهر3!#REF!&\"*\"&شهر3!#REF!&\"*\"&شهر3!#REF!,0))","v":{"$error":"#REF!"}},"2021-03-04",{"$f":"INDEX(شهر3!#REF!,MATCH((B302&\"*\"&G302&\"*\"&D302&\"*\"&E302),شهر3!#REF!&\"*\"&شهر3!#REF!&\"*\"&شهر3!#REF!&\"*\"&شهر3!#REF!,0))","v":{"$error":"#REF!"}}]
[8,109036,"خالد علي جدوع","الفلوجة الجديدة","كاز",{"$f":"INDEX(شهر3!#REF!,MATCH((B303&\"*\"&G303&\"*\"&D303&\"*\"&E303),شهر3!#REF!&\"*\"&شهر3!#REF!&\"*\"&شهر3!#REF!&\"*\"&شهر3!#REF!,0))","v":{"$error":"#REF!"}},"2021-03-04",{"$f":"INDEX(شهر3!#REF!,MATCH((B303&\"*\"&G303&\"*\"&D303&\"*\"&E303),شهر3!#REF!&\"*\"&شهر3!#REF!&\"*\"&شهر3!#REF!&\"*\"&شهر3!#REF!,0))","v":{"$error":"#REF!"}}]
[9,62637,"نوري حميد مطيران","الكرمة","كاز",{"$f":"INDEX(شهر3!#REF!,MATCH((B304&\"*\"&G304&\"*\"&D304&\"*\"&E304),شهر3!#REF!&\"*\"&شهر3!#REF!&\"*\"&شهر3!#REF!&\"*\"&شهر3!#REF!,0))","v":{"$error":"#REF!"}},"2021-03-04",{"$f":"INDEX(شهر3!#REF!,MATCH((B304&\"*\"&G304&\"*\"&D304&\"*\"&E304),شهر3!#REF!&\"*\"&شهر3!#REF!&\"*\"&شهر3!#REF!&\"*\"&شهر3!#REF!,0))","v":{"$error":"#REF!"}}]
[10,77879,"سفيان سامي جاسم","الفلوجة الجديدة","كاز",{"$f":"INDEX(شهر3!#REF!,MATCH((B305&\"*\"&G305&\"*\"&D305&\"*\"&E305),شهر3!#REF!&\"*\"&شهر3!#REF!&\"*\"&شهر3!#REF!&\"*\"&شهر3!#REF!,0))","v":{"$error":"#REF!"}},"2021-03-04",{"$f":"INDEX(شهر3!#REF!,MATCH((B305&\"*\"&G305&\"*\"&D305&\"*\"&E305),شهر3!#REF!&\"*\"&شهر3!#REF!&\"*\"&شهر3!#REF!&\"*\"&شهر3!#REF!,0))","v":{"$error":"#REF!"}}]
[11,561959,"احمد كامل حسين","الفرات","كاز",{"$f":"INDEX(شهر3!#REF!,MATCH((B306&\"*\"&G306&\"*\"&D306&\"*\"&E306),شهر3!#REF!&\"*\"&شهر3!#REF!&\"*\"&شهر3!#REF!&\"*\"&شهر3!#REF!,0))","v":{"$error":"#REF!"}},"2021-03-04",{"$f":"INDEX(شهر3!#REF!,MATCH((B306&\"*\"&G306&\"*\"&D306&\"*\"&E306),شهر3!#REF!&\"*\"&شهر3!#REF!&\"*\"&شهر3!#REF!&\"*\"&شهر3!#REF!,0))","v":{"$error":"#REF!"}}]
[12,168371,"فراس كامل حسين","هيت الجديدة","كاز",{"$f":"INDEX(شهر3!#REF!,MATCH((B307&\"*\"&G307&\"*\"&D307&\"*\"&E307),شهر3!#REF!&\"*\"&شهر3!#REF!&\"*\"&شهر3!#REF!&\"*\"&شهر3!#REF!,0))","v":{"$error":"#REF!"}},"2021-03-04",{"$f":"INDEX(شهر3!#REF!,MATCH((B307&\"*\"&G307&\"*\"&D307&\"*\"&E307),شهر3!#REF!&\"*\"&شهر3!#REF!&\"*\"&شهر3!#REF!&\"*\"&شهر3!#REF!,0))","v":{"$error":"#REF!"}}]
[13,39809,"غازي طه مطر","الكرمة","كاز",{"$f":"INDEX(شهر3!#REF!,MATCH((B308&\"*\"&G308&\"*\"&D308&\"*\"&E308),شهر3!#REF!&\"*\"&شهر3!#REF!&\"*\"&شهر3!#REF!&\"*\"&شهر3!#REF!,0))","v":{"$error":"#REF!"}},"2021-03-04",{"$f":"INDEX(شهر3!#REF!,MATCH((B308&\"*\"&G308&\"*\"&D308&\"*\"&E308),شهر3!#REF!&\"*\"&شهر3!#REF!&\"*\"&شهر3!#REF!&\"*\"&شهر3!#REF!,0))","v":{"$error":"#REF!"}}]
[14,55930,"ايسر فواز زيدان","الرمادي السريع","كاز",{"$f":"INDEX(شهر3!#REF!,MATCH((B309&\"*\"&G309&\"*\"&D309&\"*\"&E309),شهر3!#REF!&\"*\"&شهر3!#REF!&\"*\"&شهر3!#REF!&\"*\"&شهر3!#REF!,0))","v":{"$error":"#REF!"}},"2021-03-04",{"$f":"INDEX(شهر3!#REF!,MATCH((B309&\"*\"&G309&\"*\"&D309&\"*\"&E309),شهر3!#REF!&\"*\"&شهر3!#REF!&\"*\"&شهر3!#REF!&\"*\"&شهر3!#REF!,0))","v":{"$error":"#REF!"}}]
[15,200262,"محمد عمار هلال","الرمادي السريع","كاز",{"$f":"INDEX(شهر3!#REF!,MATCH((B310&\"*\"&G310&\"*\"&D310&\"*\"&E310),شهر3!#REF!&\"*\"&شهر3!#REF!&\"*\"&شهر3!#REF!&\"*\"&شهر3!#REF!,0))","v":{"$error":"#REF!"}},"2021-03-04",{"$f":"INDEX(شهر3!#REF!,MATCH((B310&\"*\"&G310&\"*\"&D310&\"*\"&E310),شهر3!#REF!&\"*\"&شهر3!#REF!&\"*\"&شهر3!#REF!&\"*\"&شهر3!#REF!,0))","v":{"$error":"#REF!"}}]
[16,828,"حميد شاكر احميد","الرمادي السريع","كاز",{"$f":"INDEX(شهر3!#REF!,MATCH((B311&\"*\"&G311&\"*\"&D311&\"*\"&E311),شهر3!#REF!&\"*\"&شهر3!#REF!&\"*\"&شهر3!#REF!&\"*\"&شهر3!#REF!,0))","v":{"$error":"#REF!"}},"2021-03-04",{"$f":"INDEX(شهر3!#REF!,MATCH((B311&\"*\"&G311&\"*\"&D311&\"*\"&E311),شهر3!#REF!&\"*\"&شهر3!#REF!&\"*\"&شهر3!#REF!&\"*\"&شهر3!#REF!,0))","v":{"$error":"#REF!"}}]
[1,64805,"عمار طه مطر","الجبل","كاز",{"$f":"INDEX(شهر3!#REF!,MATCH((B312&\"*\"&G312&\"*\"&D312&\"*\"&E312),شهر3!#REF!&\"*\"&شهر3!#REF!&\"*\"&شهر3!#REF!&\"*\"&شهر3!#REF!,0))","v":{"$error":"#REF!"}},"2021-03-05",{"$f":"INDEX(شهر3!#REF!,MATCH((B312&\"*\"&G312&\"*\"&D312&\"*\"&E312),شهر3!#REF!&\"*\"&شهر3!#REF!&\"*\"&شهر3!#REF!&\"*\"&شهر3!#REF!,0))","v":{"$error":"#REF!"}}]
[2,46564,"مهند عامج حماد","الجبل","كاز",{"$f":"INDEX(شهر3!#REF!,MATCH((B313&\"*\"&G313&\"*\"&D313&\"*\"&E313),شهر3!#REF!&\"*\"&شهر3!#REF!&\"*\"&شهر3!#REF!&\"*\"&شهر3!#REF!,0))","v":{"$error":"#REF!"}},"2021-03-05",{"$f":"INDEX(شهر3!#REF!,MATCH((B313&\"*\"&G313&\"*\"&D313&\"*\"&E313),شهر3!#REF!&\"*\"&شهر3!#REF!&\"*\"&شهر3!#REF!&\"*\"&شهر3!#REF!,0))","v":{"$error":"#REF!"}}]
[3,51073,"مشتاق طالب دلف","الرمادي الجديدة","كاز",{"$f":"INDEX(شهر3!#REF!,MATCH((B314&\"*\"&G314&\"*\"&D314&\"*\"&E314),شهر3!#REF!&\"*\"&شهر3!#REF!&\"*\"&شهر3!#REF!&\"*\"&شهر3!#REF!,0))","v":{"$error":"#REF!"}},"2021-03-05",{"$f":"INDEX(شهر3!#REF!,MATCH((B314&\"*\"&G314&\"*\"&D314&\"*\"&E314),شهر3!#REF!&\"*\"&شهر3!#REF!&\"*\"&شهر3!#REF!&\"*\"&شهر3!#REF!,0))","v":{"$error":"#REF!"}}]
[4,60310,"محمد صالح ذياب","الرمادي الجديدة","كاز",{"$f":"INDEX(شهر3!#REF!,MATCH((B315&\"*\"&G315&\"*\"&D315&\"*\"&E315),شهر3!#REF!&\"*\"&شهر3!#REF!&\"*\"&شهر3!#REF!&\"*\"&شهر3!#REF!,0))","v":{"$error":"#REF!"}},"2021-03-05",{"$f":"INDEX(شهر3!#REF!,MATCH((B315&\"*\"&G315&\"*\"&D315&\"*\"&E315),شهر3!#REF!&\"*\"&شهر3!#REF!&\"*\"&شهر3!#REF!&\"*\"&شهر3!#REF!,0))","v":{"$error":"#REF!"}}]
[5,15983,"مصطفى احمد مطيران","الكرمة","كاز",{"$f":"INDEX(شهر3!#REF!,MATCH((B316&\"*\"&G316&\"*\"&D316&\"*\"&E316),شهر3!#REF!&\"*\"&شهر3!#REF!&\"*\"&شهر3!#REF!&\"*\"&شهر3!#REF!,0))","v":{"$error":"#REF!"}},"2021-03-05",{"$f":"INDEX(شهر3!#REF!,MATCH((B316&\"*\"&G316&\"*\"&D316&\"*\"&E316),شهر3!#REF!&\"*\"&شهر3!#REF!&\"*\"&شهر3!#REF!&\"*\"&شهر3!#REF!,0))","v":{"$error":"#REF!"}}]
[6,53091,"عمر عامج حماد","الكرمة","كاز",{"$f":"INDEX(شهر3!#REF!,MATCH((B317&\"*\"&G317&\"*\"&D317&\"*\"&E317),شهر3!#REF!&\"*\"&شهر3!#REF!&\"*\"&شهر3!#REF!&\"*\"&شهر3!#REF!,0))","v":{"$error":"#REF!"}},"2021-03-05",{"$f":"INDEX(شهر3!#REF!,MATCH((B317&\"*\"&G317&\"*\"&D317&\"*\"&E317),شهر3!#REF!&\"*\"&شهر3!#REF!&\"*\"&شهر3!#REF!&\"*\"&شهر3!#REF!,0))","v":{"$error":"#REF!"}}]
[7,93747,"صالح خلف حمود","الكرمة","كاز",{"$f":"INDEX(شهر3!#REF!,MATCH((B318&\"*\"&G318&\"*\"&D318&\"*\"&E318),شهر3!#REF!&\"*\"&شهر3!#REF!&\"*\"&شهر3!#REF!&\"*\"&شهر3!#REF!,0))","v":{"$error":"#REF!"}},"2021-03-05",{"$f":"INDEX(شهر3!#REF!,MATCH((B318&\"*\"&G318&\"*\"&D318&\"*\"&E318),شهر3!#REF!&\"*\"&شهر3!#REF!&\"*\"&شهر3!#REF!&\"*\"&شهر3!#REF!,0))","v":{"$error":"#REF!"}}]
[8,39059,"عمر احمد زيدان","الفرات","كاز",{"$f":"INDEX(شهر3!#REF!,MATCH((B319&\"*\"&G319&\"*\"&D319&\"*\"&E319),شهر3!#REF!&\"*\"&شهر3!#REF!&\"*\"&شهر3!#REF!&\"*\"&شهر3!#REF!,0))","v":{"$error":"#REF!"}},"2021-03-05",{"$f":"INDEX(شهر3!#REF!,MATCH((B319&\"*\"&G319&\"*\"&D319&\"*\"&E319),شهر3!#REF!&\"*\"&شهر3!#REF!&\"*\"&شهر3!#REF!&\"*\"&شهر3!#REF!,0))","v":{"$error":"#REF!"}}]
[9,86890,"طه غركان بزل","هيت الجديدة","كاز",{"$f":"INDEX(شهر3!#REF!,MATCH((B320&\"*\"&G320&\"*\"&D320&\"*\"&E320),شهر3!#REF!&\"*\"&شهر3!#REF!&\"*\"&شهر3!#REF!&\"*\"&شهر3!#REF!,0))","v":{"$error":"#REF!"}},"2021-03-05",{"$f":"INDEX(شهر3!#REF!,MATCH((B320&\"*\"&G320&\"*\"&D320&\"*\"&E320),شهر3!#REF!&\"*\"&شهر3!#REF!&\"*\"&شهر3!#REF!&\"*\"&شهر3!#REF!,0))","v":{"$error":"#REF!"}}]
[10,557566,"وائل نايف صالح","الحقلانية","كاز",{"$f":"INDEX(شهر3!#REF!,MATCH((B321&\"*\"&G321&\"*\"&D321&\"*\"&E321),شهر3!#REF!&\"*\"&شهر3!#REF!&\"*\"&شهر3!#REF!&\"*\"&شهر3!#REF!,0))","v":{"$error":"#REF!"}},"2021-03-05",{"$f":"INDEX(شهر3!#REF!,MATCH((B321&\"*\"&G321&\"*\"&D321&\"*\"&E321),شهر3!#REF!&\"*\"&شهر3!#REF!&\"*\"&شهر3!#REF!&\"*\"&شهر3!#REF!,0))","v":{"$error":"#REF!"}}]
[11,22087,"صفاء جمعة فرحان","الفلوجة الجديدة","كاز",{"$f":"INDEX(شهر3!#REF!,MATCH((B322&\"*\"&G322&\"*\"&D322&\"*\"&E322),شهر3!#REF!&\"*\"&شهر3!#REF!&\"*\"&شهر3!#REF!&\"*\"&شهر3!#REF!,0))","v":{"$error":"#REF!"}},"2021-03-05",{"$f":"INDEX(شهر3!#REF!,MATCH((B322&\"*\"&G322&\"*\"&D322&\"*\"&E322),شهر3!#REF!&\"*\"&شهر3!#REF!&\"*\"&شهر3!#REF!&\"*\"&شهر3!#REF!,0))","v":{"$error":"#REF!"}}]
[12,122127,"مشتاق طالب محمد","الفلوجة الجديدة","كاز",{"$f":"INDEX(شهر3!#REF!,MATCH((B323&\"*\"&G323&\"*\"&D323&\"*\"&E323),شهر3!#REF!&\"*\"&شهر3!#REF!&\"*\"&شهر3!#REF!&\"*\"&شهر3!#REF!,0))","v":{"$error":"#REF!"}},"2021-03-05",{"$f":"INDEX(شهر3!#REF!,MATCH((B323&\"*\"&G323&\"*\"&D323&\"*\"&E323),شهر3!#REF!&\"*\"&شهر3!#REF!&\"*\"&شهر3!#REF!&\"*\"&شهر3!#REF!,0))","v":{"$error":"#REF!"}}]
[1,18275,"فيصل هايل حسين","الكرمة","كاز",{"$f":"INDEX(شهر3!#REF!,MATCH((B324&\"*\"&G324&\"*\"&D324&\"*\"&E324),شهر3!#REF!&\"*\"&شهر3!#REF!&\"*\"&شهر3!#REF!&\"*\"&شهر3!#REF!,0))","v":{"$error":"#REF!"}},"2021-03-08",{"$f":"INDEX(شهر3!#REF!,MATCH((B324&\"*\"&G324&\"*\"&D324&\"*\"&E324),شهر3!#REF!&\"*\"&شهر3!#REF!&\"*\"&شهر3!#REF!&\"*\"&شهر3!#REF!,0))","v":{"$error":"#REF!"}}]
[2,21304,"محمد ضاري زيدان","الصقلاوية","كاز",{"$f":"INDEX(شهر3!#REF!,MATCH((B325&\"*\"&G325&\"*\"&D325&\"*\"&E325),شهر3!#REF!&\"*\"&شهر3!#REF!&\"*\"&شهر3!#REF!&\"*\"&شهر3!#REF!,0))","v":{"$error":"#REF!"}},"2021-03-08",{"$f":"INDEX(شهر3!#REF!,MATCH((B325&\"*\"&G325&\"*\"&D325&\"*\"&E325),شهر3!#REF!&\"*\"&شهر3!#REF!&\"*\"&شهر3!#REF!&\"*\"&شهر3!#REF!,0))","v":{"$error":"#REF!"}}]
[3,77879,"سفيان سامي جاسم","الكرمة","كاز",{"$f":"INDEX(شهر3!#REF!,MATCH((B326&\"*\"&G326&\"*\"&D326&\"*\"&E326),شهر3!#REF!&\"*\"&شهر3!#REF!&\"*\"&شهر3!#REF!&\"*\"&شهر3!#REF!,0))","v":{"$error":"#REF!"}},"2021-03-08",{"$f":"INDEX(شهر3!#REF!,MATCH((B326&\"*\"&G326&\"*\"&D326&\"*\"&E326),شهر3!#REF!&\"*\"&شهر3!#REF!&\"*\"&شهر3!#REF!&\"*\"&شهر3!#REF!,0))","v":{"$error":"#REF!"}}]
[4,558808,"احمد ضاري زيدان","الحبانية القديمة","كاز",{"$f":"INDEX(شهر3!#REF!,MATCH((B327&\"*\"&G327&\"*\"&D327&\"*\"&E327),شهر3!#REF!&\"*\"&شهر3!#REF!&\"*\"&شهر3!#REF!&\"*\"&شهر3!#REF!,0))","v":{"$error":"#REF!"}},"2021-03-08",{"$f":"INDEX(شهر3!#REF!,MATCH((B327&\"*\"&G327&\"*\"&D327&\"*\"&E327),شهر3!#REF!&\"*\"&شهر3!#REF!&\"*\"&شهر3!#REF!&\"*\"&شهر3!#REF!,0))","v":{"$error":"#REF!"}}]
[1,558808,"احمد ضاري زيدان","الرمادي السريع","كاز",{"$f":"INDEX(شهر3!#REF!,MATCH((B328&\"*\"&G328&\"*\"&D328&\"*\"&E328),شهر3!#REF!&\"*\"&شهر3!#REF!&\"*\"&شهر3!#REF!&\"*\"&شهر3!#REF!,0))","v":{"$error":"#REF!"}},"2021-03-07",{"$f":"INDEX(شهر3!#REF!,MATCH((B328&\"*\"&G328&\"*\"&D328&\"*\"&E328),شهر3!#REF!&\"*\"&شهر3!#REF!&\"*\"&شهر3!#REF!&\"*\"&شهر3!#REF!,0))","v":{"$error":"#REF!"}}]
[2,12536,"مصطفى جمعة زيدان","الرمادي الجديدة","كاز",{"$f":"INDEX(شهر3!#REF!,MATCH((B329&\"*\"&G329&\"*\"&D329&\"*\"&E329),شهر3!#REF!&\"*\"&شهر3!#REF!&\"*\"&شهر3!#REF!&\"*\"&شهر3!#REF!,0))","v":{"$error":"#REF!"}},"2021-03-07",{"$f":"INDEX(شهر3!#REF!,MATCH((B329&\"*\"&G329&\"*\"&D329&\"*\"&E329),شهر3!#REF!&\"*\"&شهر3!#REF!&\"*\"&شهر3!#REF!&\"*\"&شهر3!#REF!,0))","v":{"$error":"#REF!"}}]
[3,65568,"صدام محمد فريح","القائم","كاز",{"$f":"INDEX(شهر3!#REF!,MATCH((B330&\"*\"&G330&\"*\"&D330&\"*\"&E330),شهر3!#REF!&\"*\"&شهر3!#REF!&\"*\"&شهر3!#REF!&\"*\"&شهر3!#REF!,0))","v":{"$error":"#REF!"}},"2021-03-07",{"$f":"INDEX(شهر3!#REF!,MATCH((B330&\"*\"&G330&\"*\"&D330&\"*\"&E330),شهر3!#REF!&\"*\"&شهر3!#REF!&\"*\"&شهر3!#REF!&\"*\"&شهر3!#REF!,0))","v":{"$error":"#REF!"}}]
[4,55409,"مهند صادق محمد","الحبانية القديمة","كاز",{"$f":"INDEX(شهر3!#REF!,MATCH((B331&\"*\"&G331&\"*\"&D331&\"*\"&E331),شهر3!#REF!&\"*\"&شهر3!#REF!&\"*\"&شهر3!#REF!&\"*\"&شهر3!#REF!,0))","v":{"$error":"#REF!"}},"2021-03-07",{"$f":"INDEX(شهر3!#REF!,MATCH((B331&\"*\"&G331&\"*\"&D331&\"*\"&E331),شهر3!#REF!&\"*\"&شهر3!#REF!&\"*\"&شهر3!#REF!&\"*\"&شهر3!#REF!,0))","v":{"$error":"#REF!"}}]
[5,15419,"صلاح نوري زيدان","طليحة","كاز",{"$f":"INDEX(شهر3!#REF!,MATCH((B332&\"*\"&G332&\"*\"&D332&\"*\"&E332),شهر3!#REF!&\"*\"&شهر3!#REF!&\"*\"&شهر3!#REF!&\"*\"&شهر3!#REF!,0))","v":{"$error":"#REF!"}},"2021-03-07",{"$f":"INDEX(شهر3!#REF!,MATCH((B332&\"*\"&G332&\"*\"&D332&\"*\"&E332),شهر3!#REF!&\"*\"&شهر3!#REF!&\"*\"&شهر3!#REF!&\"*\"&شهر3!#REF!,0))","v":{"$error":"#REF!"}}]
[6,7727,"سرمد جمعة طراد","عنه الجديدة","كاز",{"$f":"INDEX(شهر3!#REF!,MATCH((B333&\"*\"&G333&\"*\"&D333&\"*\"&E333),شهر3!#REF!&\"*\"&شهر3!#REF!&\"*\"&شهر3!#REF!&\"*\"&شهر3!#REF!,0))","v":{"$error":"#REF!"}},"2021-03-07",{"$f":"INDEX(شهر3!#REF!,MATCH((B333&\"*\"&G333&\"*\"&D333&\"*\"&E333),شهر3!#REF!&\"*\"&شهر3!#REF!&\"*\"&شهر3!#REF!&\"*\"&شهر3!#REF!,0))","v":{"$error":"#REF!"}}]
[7,192366,"شهاب احمد زيدان","هيت الجديدة","كاز",{"$f":"INDEX(شهر3!#REF!,MATCH((B334&\"*\"&G334&\"*\"&D334&\"*\"&E334),شهر3!#REF!&\"*\"&شهر3!#REF!&\"*\"&شهر3!#REF!&\"*\"&شهر3!#REF!,0))","v":{"$error":"#REF!"}},"2021-03-07",{"$f":"INDEX(شهر3!#REF!,MATCH((B334&\"*\"&G334&\"*\"&D334&\"*\"&E334),شهر3!#REF!&\"*\"&شهر3!#REF!&\"*\"&شهر3!#REF!&\"*\"&شهر3!#REF!,0))","v":{"$error":"#REF!"}}]
[8,58809,"عمر راشد فيحان","الرمانة","كاز",{"$f":"INDEX(شهر3!#REF!,MATCH((B335&\"*\"&G335&\"*\"&D335&\"*\"&E335),شهر3!#REF!&\"*\"&شهر3!#REF!&\"*\"&شهر3!#REF!&\"*\"&شهر3!#REF!,0))","v":{"$error":"#REF!"}},"2021-03-07",{"$f":"INDEX(شهر3!#REF!,MATCH((B335&\"*\"&G335&\"*\"&D335&\"*\"&E335),شهر3!#REF!&\"*\"&شهر3!#REF!&\"*\"&شهر3!#REF!&\"*\"&شهر3!#REF!,0))","v":{"$error":"#REF!"}}]
[9,65977,"علي ماضي نواف","الفلوجة الجديدة","كاز",{"$f":"INDEX(شهر3!#REF!,MATCH((B336&\"*\"&G336&\"*\"&D336&\"*\"&E336),شهر3!#REF!&\"*\"&شهر3!#REF!&\"*\"&شهر3!#REF!&\"*\"&شهر3!#REF!,0))","v":{"$error":"#REF!"}},"2021-03-07",{"$f":"INDEX(شهر3!#REF!,MATCH((B336&\"*\"&G336&\"*\"&D336&\"*\"&E336),شهر3!#REF!&\"*\"&شهر3!#REF!&\"*\"&شهر3!#REF!&\"*\"&شهر3!#REF!,0))","v":{"$error":"#REF!"}}]
[10,67774,"احمد عماد مجيد","الفلوجة الجديدة","كاز",{"$f":"INDEX(شهر3!#REF!,MATCH((B337&\"*\"&G337&\"*\"&D337&\"*\"&E337),شهر3!#REF!&\"*\"&شهر3!#REF!&\"*\"&شهر3!#REF!&\"*\"&شهر3!#REF!,0))","v":{"$error":"#REF!"}},"2021-03-07",{"$f":"INDEX(شهر3!#REF!,MATCH((B337&\"*\"&G337&\"*\"&D337&\"*\"&E337),شهر3!#REF!&\"*\"&شهر3!#REF!&\"*\"&شهر3!#REF!&\"*\"&شهر3!#REF!,0))","v":{"$error":"#REF!"}}]
[11,50195,"محمود محمد فريح","البساط الاخضر","كاز",{"$f":"INDEX(شهر3!#REF!,MATCH((B338&\"*\"&G338&\"*\"&D338&\"*\"&E338),شهر3!#REF!&\"*\"&شهر3!#REF!&\"*\"&شهر3!#REF!&\"*\"&شهر3!#REF!,0))","v":{"$error":"#REF!"}},"2021-03-07",{"$f":"INDEX(شهر3!#REF!,MATCH((B338&\"*\"&G338&\"*\"&D338&\"*\"&E338),شهر3!#REF!&\"*\"&شهر3!#REF!&\"*\"&شهر3!#REF!&\"*\"&شهر3!#REF!,0))","v":{"$error":"#REF!"}}]
[12,192794,"أنور مجيد احميد","الحقلانية","كاز",{"$f":"INDEX(شهر3!#REF!,MATCH((B339&\"*\"&G339&\"*\"&D339&\"*\"&E339),شهر3!#REF!&\"*\"&شهر3!#REF!&\"*\"&شهر3!#REF!&\"*\"&شهر3!#REF!,0))","v":{"$error":"#REF!"}},"2021-03-07",{"$f":"INDEX(شهر3!#REF!,MATCH((B339&\"*\"&G339&\"*\"&D339&\"*\"&E339),شهر3!#REF!&\"*\"&شهر3!#REF!&\"*\"&شهر3!#REF!&\"*\"&شهر3!#REF!,0))","v":{"$error":"#REF!"}}]
[1,558808,"احمد ضاري زيدان","الحقلانية","كاز",{"$f":"INDEX(شهر3!#REF!,MATCH((B340&\"*\"&G340&\"*\"&D340&\"*\"&E340),شهر3!#REF!&\"*\"&شهر3!#REF!&\"*\"&شهر3!#REF!&\"*\"&شهر3!#REF!,0))","v":{"$error":"#REF!"}},"2021-03-09",{"$f":"INDEX(شهر3!#REF!,MATCH((B340&\"*\"&G340&\"*\"&D340&\"*\"&E340),شهر3!#REF!&\"*\"&شهر3!#REF!&\"*\"&شهر3!#REF!&\"*\"&شهر3!#REF!,0))","v":{"$error":"#REF!"}}]
[2,559768,"وليد مبارك بردان","الحبانية القديمة","كاز",{"$f":"INDEX(شهر3!#REF!,MATCH((B341&\"*\"&G341&\"*\"&D341&\"*\"&E341),شهر3!#REF!&\"*\"&شهر3!#REF!&\"*\"&شهر3!#REF!&\"*\"&شهر3!#REF!,0))","v":{"$error":"#REF!"}},"2021-03-09",{"$f":"INDEX(شهر3!#REF!,MATCH((B341&\"*\"&G341&\"*\"&D341&\"*\"&E341),شهر3!#REF!&\"*\"&شهر3!#REF!&\"*\"&شهر3!#REF!&\"*\"&شهر3!#REF!,0))","v":{"$error":"#REF!"}}]
[3,104816,"أنور طه مطر","النخيب","كاز",{"$f":"INDEX(شهر3!#REF!,MATCH((B342&\"*\"&G342&\"*\"&D342&\"*\"&E342),شهر3!#REF!&\"*\"&شهر3!#REF!&\"*\"&شهر3!#REF!&\"*\"&شهر3!#REF!,0))","v":{"$error":"#REF!"}},"2021-03-09",{"$f":"INDEX(شهر3!#REF!,MATCH((B342&\"*\"&G342&\"*\"&D342&\"*\"&E342),شهر3!#REF!&\"*\"&شهر3!#REF!&\"*\"&شهر3!#REF!&\"*\"&شهر3!#REF!,0))","v":{"$error":"#REF!"}}]
[4,15139,"عزيز مجبل عويد","النخيب","كاز",{"$f":"INDEX(شهر3!#REF!,MATCH((B343&\"*\"&G343&\"*\"&D343&\"*\"&E343),شهر3!#REF!&\"*\"&شهر3!#REF!&\"*\"&شهر3!#REF!&\"*\"&شهر3!#REF!,0))","v":{"$error":"#REF!"}},"2021-03-09",{"$f":"INDEX(شهر3!#REF!,MATCH((B343&\"*\"&G343&\"*\"&D343&\"*\"&E343),شهر3!#REF!&\"*\"&شهر3!#REF!&\"*\"&شهر3!#REF!&\"*\"&شهر3!#REF!,0))","v":{"$error":"#REF!"}}]
[5,19422,"مسعود محمد ذياب","هيت الجديدة","كاز",{"$f":"INDEX(شهر3!#REF!,MATCH((B344&\"*\"&G344&\"*\"&D344&\"*\"&E344),شهر3!#REF!&\"*\"&شهر3!#REF!&\"*\"&شهر3!#REF!&\"*\"&شهر3!#REF!,0))","v":{"$error":"#REF!"}},"2021-03-09",{"$f":"INDEX(شهر3!#REF!,MATCH((B344&\"*\"&G344&\"*\"&D344&\"*\"&E344),شهر3!#REF!&\"*\"&شهر3!#REF!&\"*\"&شهر3!#REF!&\"*\"&شهر3!#REF!,0))","v":{"$error":"#REF!"}}]
[6,64341,"عمر عامج ذياب","هيت الجديدة","كاز",{"$f":"INDEX(شهر3!#REF!,MATCH((B345&\"*\"&G345&\"*\"&D345&\"*\"&E345),شهر3!#REF!&\"*\"&شهر3!#REF!&\"*\"&شهر3!#REF!&\"*\"&شهر3!#REF!,0))","v":{"$error":"#REF!"}},"2021-03-09",{"$f":"INDEX(شهر3!#REF!,MATCH((B345&\"*\"&G345&\"*\"&D345&\"*\"&E345),شهر3!#REF!&\"*\"&شهر3!#REF!&\"*\"&شهر3!#REF!&\"*\"&شهر3!#REF!,0))","v":{"$error":"#REF!"}}]
[7,10899,"جمعة جبر لاحج","القائم","كاز",{"$f":"INDEX(شهر3!#REF!,MATCH((B346&\"*\"&G346&\"*\"&D346&\"*\"&E346),شهر3!#REF!&\"*\"&شهر3!#REF!&\"*\"&شهر3!#REF!&\"*\"&شهر3!#REF!,0))","v":{"$error":"#REF!"}},"2021-03-09",{"$f":"INDEX(شهر3!#REF!,MATCH((B346&\"*\"&G346&\"*\"&D346&\"*\"&E346),شهر3!#REF!&\"*\"&شهر3!#REF!&\"*\"&شهر3!#REF!&\"*\"&شهر3!#REF!,0))","v":{"$error":"#REF!"}}]
[8,50466,"جمال جبر لاحج","الجبل","كاز",{"$f":"INDEX(شهر3!#REF!,MATCH((B347&\"*\"&G347&\"*\"&D347&\"*\"&E347),شهر3!#REF!&\"*\"&شهر3!#REF!&\"*\"&شهر3!#REF!&\"*\"&شهر3!#REF!,0))","v":{"$error":"#REF!"}},"2021-03-09",{"$f":"INDEX(شهر3!#REF!,MATCH((B347&\"*\"&G347&\"*\"&D347&\"*\"&E347),شهر3!#REF!&\"*\"&شهر3!#REF!&\"*\"&شهر3!#REF!&\"*\"&شهر3!#REF!,0))","v":{"$error":"#REF!"}}]
[9,42431,"شهاب حمد حماد","الجبل","كاز",{"$f":"INDEX(شهر3!#REF!,MATCH((B348&\"*\"&G348&\"*\"&D348&\"*\"&E348),شهر3!#REF!&\"*\"&شهر3!#REF!&\"*\"&شهر3!#REF!&\"*\"&شهر3!#REF!,0))","v":{"$error":"#REF!"}},"2021-03-09",{"$f":"INDEX(شهر3!#REF!,MATCH((B348&\"*\"&G348&\"*\"&D348&\"*\"&E348),شهر3!#REF!&\"*\"&شهر3!#REF!&\"*\"&شهر3!#REF!&\"*\"&شهر3!#REF!,0))","v":{"$error":"#REF!"}}]
[10,109036,"خالد علي جدوع","الفلوجة الجديدة","كاز",{"$f":"INDEX(شهر3!#REF!,MATCH((B349&\"*\"&G349&\"*\"&D349&\"*\"&E349),شهر3!#REF!&\"*\"&شهر3!#REF!&\"*\"&شهر3!#REF!&\"*\"&شهر3!#REF!,0))","v":{"$error":"#REF!"}},"2021-03-09",{"$f":"INDEX(شهر3!#REF!,MATCH((B349&\"*\"&G349&\"*\"&D349&\"*\"&E349),شهر3!#REF!&\"*\"&شهر3!#REF!&\"*\"&شهر3!#REF!&\"*\"&شهر3!#REF!,0))","v":{"$error":"#REF!"}}]
[11,48074,"محمد صبار دلف","الفلوجة الجديدة","كاز",{"$f":"INDEX(شهر3!#REF!,MATCH((B350&\"*\"&G350&\"*\"&D350&\"*\"&E350),شهر3!#REF!&\"*\"&شهر3!#REF!&\"*\"&شهر3!#REF!&\"*\"&شهر3!#REF!,0))","v":{"$error":"#REF!"}},"2021-03-09",{"$f":"INDEX(شهر3!#REF!,MATCH((B350&\"*\"&G350&\"*\"&D350&\"*\"&E350),شهر3!#REF!&\"*\"&شهر3!#REF!&\"*\"&شهر3!#REF!&\"*\"&شهر3!#REF!,0))","v":{"$error":"#REF!"}}]
[12,192134,"سيف جبار دلف","الرمادي الجديدة","كاز",{"$f":"INDEX(شهر3!#REF!,MATCH((B351&\"*\"&G351&\"*\"&D351&\"*\"&E351),شهر3!#REF!&\"*\"&شهر3!#REF!&\"*\"&شهر3!#REF!&\"*\"&شهر3!#REF!,0))","v":{"$error":"#REF!"}},"2021-03-09",{"$f":"INDEX(شهر3!#REF!,MATCH((B351&\"*\"&G351&\"*\"&D351&\"*\"&E351),شهر3!#REF!&\"*\"&شهر3!#REF!&\"*\"&شهر3!#REF!&\"*\"&شهر3!#REF!,0))","v":{"$error":"#REF!"}}]
[13,61798,"عدي صبار دلف","الرمادي الجديدة","كاز",{"$f":"INDEX(شهر3!#REF!,MATCH((B352&\"*\"&G352&\"*\"&D352&\"*\"&E352),شهر3!#REF!&\"*\"&شهر3!#REF!&\"*\"&شهر3!#REF!&\"*\"&شهر3!#REF!,0))","v":{"$error":"#REF!"}},"2021-03-09",{"$f":"INDEX(شهر3!#REF!,MATCH((B352&\"*\"&G352&\"*\"&D352&\"*\"&E352),شهر3!#REF!&\"*\"&شهر3!#REF!&\"*\"&شهر3!#REF!&\"*\"&شهر3!#REF!,0))","v":{"$error":"#REF!"}}]
[14,45674,"مرشد فيحان عويد","الكرمة","كاز",{"$f":"INDEX(شهر3!#REF!,MATCH((B353&\"*\"&G353&\"*\"&D353&\"*\"&E353),شهر3!#REF!&\"*\"&شهر3!#REF!&\"*\"&شهر3!#REF!&\"*\"&شهر3!#REF!,0))","v":{"$error":"#REF!"}},"2021-03-09",{"$f":"INDEX(شهر3!#REF!,MATCH((B353&\"*\"&G353&\"*\"&D353&\"*\"&E353),شهر3!#REF!&\"*\"&شهر3!#REF!&\"*\"&شهر3!#REF!&\"*\"&شهر3!#REF!,0))","v":{"$error":"#REF!"}}]
[15,52576,"زيد ضاحي حسن","الكرمة","كاز",{"$f":"INDEX(شهر3!#REF!,MATCH((B354&\"*\"&G354&\"*\"&D354&\"*\"&E354),شهر3!#REF!&\"*\"&شهر3!#REF!&\"*\"&شهر3!#REF!&\"*\"&شهر3!#REF!,0))","v":{"$error":"#REF!"}},"2021-03-09",{"$f":"INDEX(شهر3!#REF!,MATCH((B354&\"*\"&G354&\"*\"&D354&\"*\"&E354),شهر3!#REF!&\"*\"&شهر3!#REF!&\"*\"&شهر3!#REF!&\"*\"&شهر3!#REF!,0))","v":{"$error":"#REF!"}}]
[16,157761,"محمد محمود عيد","الكرمة","كاز",{"$f":"INDEX(شهر3!#REF!,MATCH((B355&\"*\"&G355&\"*\"&D355&\"*\"&E355),شهر3!#REF!&\"*\"&شهر3!#REF!&\"*\"&شهر3!#REF!&\"*\"&شهر3!#REF!,0))","v":{"$error":"#REF!"}},"2021-03-09",{"$f":"INDEX(شهر3!#REF!,MATCH((B355&\"*\"&G355&\"*\"&D355&\"*\"&E355),شهر3!#REF!&\"*\"&شهر3!#REF!&\"*\"&شهر3!#REF!&\"*\"&شهر3!#REF!,0))","v":{"$error":"#REF!"}}]
[1,198715,"مصطفى عبد رشيد","م ت الرمادي","كاز",{"$f":"INDEX(شهر3!#REF!,MATCH((B356&\"*\"&G356&\"*\"&D356&\"*\"&E356),شهر3!#REF!&\"*\"&شهر3!#REF!&\"*\"&شهر3!#REF!&\"*\"&شهر3!#REF!,0))","v":{"$error":"#REF!"}},"2021-03-10",{"$f":"INDEX(شهر3!#REF!,MATCH((B356&\"*\"&G356&\"*\"&D356&\"*\"&E356),شهر3!#REF!&\"*\"&شهر3!#REF!&\"*\"&شهر3!#REF!&\"*\"&شهر3!#REF!,0))","v":{"$error":"#REF!"}}]
[2,21304,"محمد ضاري زيدان","الكرمة","كاز",{"$f":"INDEX(شهر3!#REF!,MATCH((B357&\"*\"&G357&\"*\"&D357&\"*\"&E357),شهر3!#REF!&\"*\"&شهر3!#REF!&\"*\"&شهر3!#REF!&\"*\"&شهر3!#REF!,0))","v":{"$error":"#REF!"}},"2021-03-10",{"$f":"INDEX(شهر3!#REF!,MATCH((B357&\"*\"&G357&\"*\"&D357&\"*\"&E357),شهر3!#REF!&\"*\"&شهر3!#REF!&\"*\"&شهر3!#REF!&\"*\"&شهر3!#REF!,0))","v":{"$error":"#REF!"}}]
[3,25706,"فلاح حسن محمد","الكرمة","كاز",{"$f":"INDEX(شهر3!#REF!,MATCH((B358&\"*\"&G358&\"*\"&D358&\"*\"&E358),شهر3!#REF!&\"*\"&شهر3!#REF!&\"*\"&شهر3!#REF!&\"*\"&شهر3!#REF!,0))","v":{"$error":"#REF!"}},"2021-03-10",{"$f":"INDEX(شهر3!#REF!,MATCH((B358&\"*\"&G358&\"*\"&D358&\"*\"&E358),شهر3!#REF!&\"*\"&شهر3!#REF!&\"*\"&شهر3!#REF!&\"*\"&شهر3!#REF!,0))","v":{"$error":"#REF!"}}]
[4,39059,"عمر احمد زيدان","الفرات","كاز",{"$f":"INDEX(شهر3!#REF!,MATCH((B359&\"*\"&G359&\"*\"&D359&\"*\"&E359),شهر3!#REF!&\"*\"&شهر3!#REF!&\"*\"&شهر3!#REF!&\"*\"&شهر3!#REF!,0))","v":{"$error":"#REF!"}},"2021-03-10",{"$f":"INDEX(شهر3!#REF!,MATCH((B359&\"*\"&G359&\"*\"&D359&\"*\"&E359),شهر3!#REF!&\"*\"&شهر3!#REF!&\"*\"&شهر3!#REF!&\"*\"&شهر3!#REF!,0))","v":{"$error":"#REF!"}}]
[5,62513,"خالد حميد سمير","الرمادي الجديدة","كاز",{"$f":"INDEX(شهر3!#REF!,MATCH((B360&\"*\"&G360&\"*\"&D360&\"*\"&E360),شهر3!#REF!&\"*\"&شهر3!#REF!&\"*\"&شهر3!#REF!&\"*\"&شهر3!#REF!,0))","v":{"$error":"#REF!"}},"2021-03-10",{"$f":"INDEX(شهر3!#REF!,MATCH((B360&\"*\"&G360&\"*\"&D360&\"*\"&E360),شهر3!#REF!&\"*\"&شهر3!#REF!&\"*\"&شهر3!#REF!&\"*\"&شهر3!#REF!,0))","v":{"$error":"#REF!"}}]
[6,18539,"فرحان حميد سمير","م ت الرمادي","كاز",{"$f":"INDEX(شهر3!#REF!,MATCH((B361&\"*\"&G361&\"*\"&D361&\"*\"&E361),شهر3!#REF!&\"*\"&شهر3!#REF!&\"*\"&شهر3!#REF!&\"*\"&شهر3!#REF!,0))","v":{"$error":"#REF!"}},"2021-03-10",{"$f":"INDEX(شهر3!#REF!,MATCH((B361&\"*\"&G361&\"*\"&D361&\"*\"&E361),شهر3!#REF!&\"*\"&شهر3!#REF!&\"*\"&شهر3!#REF!&\"*\"&شهر3!#REF!,0))","v":{"$error":"#REF!"}}]
[7,13440,"نبيل حسين علي","عنه الجديدة","كاز",{"$f":"INDEX(شهر3!#REF!,MATCH((B362&\"*\"&G362&\"*\"&D362&\"*\"&E362),شهر3!#REF!&\"*\"&شهر3!#REF!&\"*\"&شهر3!#REF!&\"*\"&شهر3!#REF!,0))","v":{"$error":"#REF!"}},"2021-03-10",{"$f":"INDEX(شهر3!#REF!,MATCH((B362&\"*\"&G362&\"*\"&D362&\"*\"&E362),شهر3!#REF!&\"*\"&شهر3!#REF!&\"*\"&شهر3!#REF!&\"*\"&شهر3!#REF!,0))","v":{"$error":"#REF!"}}]
[8,69156,"قيس احمد محمود","الرمادي الجديدة","كاز",{"$f":"INDEX(شهر3!#REF!,MATCH((B363&\"*\"&G363&\"*\"&D363&\"*\"&E363),شهر3!#REF!&\"*\"&شهر3!#REF!&\"*\"&شهر3!#REF!&\"*\"&شهر3!#REF!,0))","v":{"$error":"#REF!"}},"2021-03-10",{"$f":"INDEX(شهر3!#REF!,MATCH((B363&\"*\"&G363&\"*\"&D363&\"*\"&E363),شهر3!#REF!&\"*\"&شهر3!#REF!&\"*\"&شهر3!#REF!&\"*\"&شهر3!#REF!,0))","v":{"$error":"#REF!"}}]
[9,44084,"حامد ضاحي حسن","القائم","كاز",{"$f":"INDEX(شهر3!#REF!,MATCH((B364&\"*\"&G364&\"*\"&D364&\"*\"&E364),شهر3!#REF!&\"*\"&شهر3!#REF!&\"*\"&شهر3!#REF!&\"*\"&شهر3!#REF!,0))","v":{"$error":"#REF!"}},"2021-03-10",{"$f":"INDEX(شهر3!#REF!,MATCH((B364&\"*\"&G364&\"*\"&D364&\"*\"&E364),شهر3!#REF!&\"*\"&شهر3!#REF!&\"*\"&شهر3!#REF!&\"*\"&شهر3!#REF!,0))","v":{"$error":"#REF!"}}]
[10,38546,"باسم محمد عودة","عرعر","كاز",{"$f":"INDEX(شهر3!#REF!,MATCH((B365&\"*\"&G365&\"*\"&D365&\"*\"&E365),شهر3!#REF!&\"*\"&شهر3!#REF!&\"*\"&شهر3!#REF!&\"*\"&شهر3!#REF!,0))","v":{"$error":"#REF!"}},"2021-03-10",{"$f":"INDEX(شهر3!#REF!,MATCH((B365&\"*\"&G365&\"*\"&D365&\"*\"&E365),شهر3!#REF!&\"*\"&شهر3!#REF!&\"*\"&شهر3!#REF!&\"*\"&شهر3!#REF!,0))","v":{"$error":"#REF!"}}]
[11,65319,"ماهر فاضل عواد","عرعر","كاز",{"$f":"INDEX(شهر3!#REF!,MATCH((B366&\"*\"&G366&\"*\"&D366&\"*\"&E366),شهر3!#REF!&\"*\"&شهر3!#REF!&\"*\"&شهر3!#REF!&\"*\"&شهر3!#REF!,0))","v":{"$error":"#REF!"}},"2021-03-10",{"$f":"INDEX(شهر3!#REF!,MATCH((B366&\"*\"&G366&\"*\"&D366&\"*\"&E366),شهر3!#REF!&\"*\"&شهر3!#REF!&\"*\"&شهر3!#REF!&\"*\"&شهر3!#REF!,0))","v":{"$error":"#REF!"}}]
[12,558808,"احمد ضاري زيدان","الصقلاوية","كاز",{"$f":"INDEX(شهر3!#REF!,MATCH((B367&\"*\"&G367&\"*\"&D367&\"*\"&E367),شهر3!#REF!&\"*\"&شهر3!#REF!&\"*\"&شهر3!#REF!&\"*\"&شهر3!#REF!,0))","v":{"$error":"#REF!"}},"2021-03-10",{"$f":"INDEX(شهر3!#REF!,MATCH((B367&\"*\"&G367&\"*\"&D367&\"*\"&E367),شهر3!#REF!&\"*\"&شهر3!#REF!&\"*\"&شهر3!#REF!&\"*\"&شهر3!#REF!,0))","v":{"$error":"#REF!"}}]
[13,559301,"ايسر فواز زيدان","الرمادي السريع","كاز",{"$f":"INDEX(شهر3!#REF!,MATCH((B368&\"*\"&G368&\"*\"&D368&\"*\"&E368),شهر3!#REF!&\"*\"&شهر3!#REF!&\"*\"&شهر3!#REF!&\"*\"&شهر3!#REF!,0))","v":{"$error":"#REF!"}},"2021-03-10",{"$f":"INDEX(شهر3!#REF!,MATCH((B368&\"*\"&G368&\"*\"&D368&\"*\"&E368),شهر3!#REF!&\"*\"&شهر3!#REF!&\"*\"&شهر3!#REF!&\"*\"&شهر3!#REF!,0))","v":{"$error":"#REF!"}}]
[14,86890,"طه غركان بزل","الرمادي السريع","كاز",{"$f":"INDEX(شهر3!#REF!,MATCH((B369&\"*\"&G369&\"*\"&D369&\"*\"&E369),شهر3!#REF!&\"*\"&شهر3!#REF!&\"*\"&شهر3!#REF!&\"*\"&شهر3!#REF!,0))","v":{"$error":"#REF!"}},"2021-03-10",{"$f":"INDEX(شهر3!#REF!,MATCH((B369&\"*\"&G369&\"*\"&D369&\"*\"&E369),شهر3!#REF!&\"*\"&شهر3!#REF!&\"*\"&شهر3!#REF!&\"*\"&شهر3!#REF!,0))","v":{"$error":"#REF!"}}]
[15,557566,"وائل نايف صالح","الحبانية القديمة","كاز",{"$f":"INDEX(شهر3!#REF!,MATCH((B370&\"*\"&G370&\"*\"&D370&\"*\"&E370),شهر3!#REF!&\"*\"&شهر3!#REF!&\"*\"&شهر3!#REF!&\"*\"&شهر3!#REF!,0))","v":{"$error":"#REF!"}},"2021-03-10",{"$f":"INDEX(شهر3!#REF!,MATCH((B370&\"*\"&G370&\"*\"&D370&\"*\"&E370),شهر3!#REF!&\"*\"&شهر3!#REF!&\"*\"&شهر3!#REF!&\"*\"&شهر3!#REF!,0))","v":{"$error":"#REF!"}}]
[1,559288,"خميس حمد حماد","رماح الانبار","نفط",1746158,"2021-03-02",{"$f":"INDEX(شهر3!#REF!,MATCH((B371&\"*\"&G371&\"*\"&D371&\"*\"&E371),شهر3!#REF!&\"*\"&شهر3!#REF!&\"*\"&شهر3!#REF!&\"*\"&شهر3!#REF!,0))","v":{"$error":"#REF!"}}]
[2,17391,"سلام مزعل موذي","البركة","نفط",{"$f":"INDEX(شهر3!#REF!,MATCH((B372&\"*\"&G372&\"*\"&D372&\"*\"&E372),شهر3!#REF!&\"*\"&شهر3!#REF!&\"*\"&شهر3!#REF!&\"*\"&شهر3!#REF!,0))","v":{"$error":"#REF!"}},"2021-03-02",{"$f":"INDEX(شهر3!#REF!,MATCH((B372&\"*\"&G372&\"*\"&D372&\"*\"&E372),شهر3!#REF!&\"*\"&شهر3!#REF!&\"*\"&شهر3!#REF!&\"*\"&شهر3!#REF!,0))","v":{"$error":"#REF!"}}]
[3,61548,"شعيب ضاري زيدان","البنفسج","نفط",{"$f":"INDEX(شهر3!#REF!,MATCH((B373&\"*\"&G373&\"*\"&D373&\"*\"&E373),شهر3!#REF!&\"*\"&شهر3!#REF!&\"*\"&شهر3!#REF!&\"*\"&شهر3!#REF!,0))","v":{"$error":"#REF!"}},"2021-03-02",{"$f":"INDEX(شهر3!#REF!,MATCH((B373&\"*\"&G373&\"*\"&D373&\"*\"&E373),شهر3!#REF!&\"*\"&شهر3!#REF!&\"*\"&شهر3!#REF!&\"*\"&شهر3!#REF!,0))","v":{"$error":"#REF!"}}]
[4,559099,"زهير ضاري زيدان","س الغربية","نفط",{"$f":"INDEX(شهر3!#REF!,MATCH((B374&\"*\"&G374&\"*\"&D374&\"*\"&E374),شهر3!#REF!&\"*\"&شهر3!#REF!&\"*\"&شهر3!#REF!&\"*\"&شهر3!#REF!,0))","v":{"$error":"#REF!"}},"2021-03-02",{"$f":"INDEX(شهر3!#REF!,MATCH((B374&\"*\"&G374&\"*\"&D374&\"*\"&E374),شهر3!#REF!&\"*\"&شهر3!#REF!&\"*\"&شهر3!#REF!&\"*\"&شهر3!#REF!,0))","v":{"$error":"#REF!"}}]
[5,31588,"طالب محمد عويد","البيرق","نفط",{"$f":"INDEX(شهر3!#REF!,MATCH((B375&\"*\"&G375&\"*\"&D375&\"*\"&E375),شهر3!#REF!&\"*\"&شهر3!#REF!&\"*\"&شهر3!#REF!&\"*\"&شهر3!#REF!,0))","v":{"$error":"#REF!"}},"2021-03-02",{"$f":"INDEX(شهر3!#REF!,MATCH((B375&\"*\"&G375&\"*\"&D375&\"*\"&E375),شهر3!#REF!&\"*\"&شهر3!#REF!&\"*\"&شهر3!#REF!&\"*\"&شهر3!#REF!,0))","v":{"$error":"#REF!"}}]
[6,15214,"محمد زيدان خلف","البادية الغربية","نفط",{"$f":"INDEX(شهر3!#REF!,MATCH((B376&\"*\"&G376&\"*\"&D376&\"*\"&E376),شهر3!#REF!&\"*\"&شهر3!#REF!&\"*\"&شهر3!#REF!&\"*\"&شهر3!#REF!,0))","v":{"$error":"#REF!"}},"2021-03-02",{"$f":"INDEX(شهر3!#REF!,MATCH((B376&\"*\"&G376&\"*\"&D376&\"*\"&E376),شهر3!#REF!&\"*\"&شهر3!#REF!&\"*\"&شهر3!#REF!&\"*\"&شهر3!#REF!,0))","v":{"$error":"#REF!"}}]
[1,188881,"باسم رياح صبار","الرمادي الجديدة","نفط",{"$f":"INDEX(شهر3!#REF!,MATCH((B377&\"*\"&G377&\"*\"&D377&\"*\"&E377),شهر3!#REF!&\"*\"&شهر3!#REF!&\"*\"&شهر3!#REF!&\"*\"&شهر3!#REF!,0))","v":{"$error":"#REF!"}},"2021-03-02",{"$f":"INDEX(شهر3!#REF!,MATCH((B377&\"*\"&G377&\"*\"&D377&\"*\"&E377),شهر3!#REF!&\"*\"&شهر3!#REF!&\"*\"&شهر3!#REF!&\"*\"&شهر3!#REF!,0))","v":{"$error":"#REF!"}}]
[2,18760,"صفاء محمد فرحان","الكرمة","نفط",{"$f":"INDEX(شهر3!#REF!,MATCH((B378&\"*\"&G378&\"*\"&D378&\"*\"&E378),شهر3!#REF!&\"*\"&شهر3!#REF!&\"*\"&شهر3!#REF!&\"*\"&شهر3!#REF!,0))","v":{"$error":"#REF!"}},"2021-03-02",{"$f":"INDEX(شهر3!#REF!,MATCH((B378&\"*\"&G378&\"*\"&D378&\"*\"&E378),شهر3!#REF!&\"*\"&شهر3!#REF!&\"*\"&شهر3!#REF!&\"*\"&شهر3!#REF!,0))","v":{"$error":"#REF!"}}]
[3,559010,"إيهاب خلف عويد","الرمادي السريع","نفط",{"$f":"INDEX(شهر3!#REF!,MATCH((B379&\"*\"&G379&\"*\"&D379&\"*\"&E379),شهر3!#REF!&\"*\"&شهر3!#REF!&\"*\"&شهر3!#REF!&\"*\"&شهر3!#REF!,0))","v":{"$error":"#REF!"}},"2021-03-02",{"$f":"INDEX(شهر3!#REF!,MATCH((B379&\"*\"&G379&\"*\"&D379&\"*\"&E379),شهر3!#REF!&\"*\"&شهر3!#REF!&\"*\"&شهر3!#REF!&\"*\"&شهر3!#REF!,0))","v":{"$error":"#REF!"}}]
[4,558715,"جبار عباس خلف","الكرمة","نفط",{"$f":"INDEX(شهر3!#REF!,MATCH((B380&\"*\"&G380&\"*\"&D380&\"*\"&E380),شهر3!#REF!&\"*\"&شهر3!#REF!&\"*\"&شهر3!#REF!&\"*\"&شهر3!#REF!,0))","v":{"$error":"#REF!"}},"2021-03-02",{"$f":"INDEX(شهر3!#REF!,MATCH((B380&\"*\"&G380&\"*\"&D380&\"*\"&E380),شهر3!#REF!&\"*\"&شهر3!#REF!&\"*\"&شهر3!#REF!&\"*\"&شهر3!#REF!,0))","v":{"$error":"#REF!"}}]
[5,555918,"مروان سامي جاسم","م ت الفلوجة","نفط",{"$f":"INDEX(شهر3!#REF!,MATCH((B381&\"*\"&G381&\"*\"&D381&\"*\"&E381),شهر3!#REF!&\"*\"&شهر3!#REF!&\"*\"&شهر3!#REF!&\"*\"&شهر3!#REF!,0))","v":{"$error":"#REF!"}},"2021-03-02",{"$f":"INDEX(شهر3!#REF!,MATCH((B381&\"*\"&G381&\"*\"&D381&\"*\"&E381),شهر3!#REF!&\"*\"&شهر3!#REF!&\"*\"&شهر3!#REF!&\"*\"&شهر3!#REF!,0))","v":{"$error":"#REF!"}}]
[6,36929,"عدي حاتم علي","م ت الفلوجة","نفط",{"$f":"INDEX(شهر3!#REF!,MATCH((B382&\"*\"&G382&\"*\"&D382&\"*\"&E382),شهر3!#REF!&\"*\"&شهر3!#REF!&\"*\"&شهر3!#REF!&\"*\"&شهر3!#REF!,0))","v":{"$error":"#REF!"}},"2021-03-02",{"$f":"INDEX(شهر3!#REF!,MATCH((B382&\"*\"&G382&\"*\"&D382&\"*\"&E382),شهر3!#REF!&\"*\"&شهر3!#REF!&\"*\"&شهر3!#REF!&\"*\"&شهر3!#REF!,0))","v":{"$error":"#REF!"}}]
[7,51684,"علاء خالد محمد","الصقلاوية","نفط",{"$f":"INDEX(شهر3!#REF!,MATCH((B383&\"*\"&G383&\"*\"&D383&\"*\"&E383),شهر3!#REF!&\"*\"&شهر3!#REF!&\"*\"&شهر3!#REF!&\"*\"&شهر3!#REF!,0))","v":{"$error":"#REF!"}},"2021-03-02",{"$f":"INDEX(شهر3!#REF!,MATCH((B383&\"*\"&G383&\"*\"&D383&\"*\"&E383),شهر3!#REF!&\"*\"&شهر3!#REF!&\"*\"&شهر3!#REF!&\"*\"&شهر3!#REF!,0))","v":{"$error":"#REF!"}}]
[8,51377,"رباح صالح حماد","م ت الرمادي","نفط",{"$f":"INDEX(شهر3!#REF!,MATCH((B384&\"*\"&G384&\"*\"&D384&\"*\"&E384),شهر3!#REF!&\"*\"&شهر3!#REF!&\"*\"&شهر3!#REF!&\"*\"&شهر3!#REF!,0))","v":{"$error":"#REF!"}},"2021-03-02",{"$f":"INDEX(شهر3!#REF!,MATCH((B384&\"*\"&G384&\"*\"&D384&\"*\"&E384),شهر3!#REF!&\"*\"&شهر3!#REF!&\"*\"&شهر3!#REF!&\"*\"&شهر3!#REF!,0))","v":{"$error":"#REF!"}}]
[9,55127,"مهدي صالح حماد","م ت الرمادي","نفط",{"$f":"INDEX(شهر3!#REF!,MATCH((B385&\"*\"&G385&\"*\"&D385&\"*\"&E385),شهر3!#REF!&\"*\"&شهر3!#REF!&\"*\"&شهر3!#REF!&\"*\"&شهر3!#REF!,0))","v":{"$error":"#REF!"}},"2021-03-02",{"$f":"INDEX(شهر3!#REF!,MATCH((B385&\"*\"&G385&\"*\"&D385&\"*\"&E385),شهر3!#REF!&\"*\"&شهر3!#REF!&\"*\"&شهر3!#REF!&\"*\"&شهر3!#REF!,0))","v":{"$error":"#REF!"}}]
[1,32077,"سعيد سامي حميد","الكرمة","نفط",{"$f":"INDEX(شهر3!#REF!,MATCH((B386&\"*\"&G386&\"*\"&D386&\"*\"&E386),شهر3!#REF!&\"*\"&شهر3!#REF!&\"*\"&شهر3!#REF!&\"*\"&شهر3!#REF!,0))","v":{"$error":"#REF!"}},"2021-03-04",{"$f":"INDEX(شهر3!#REF!,MATCH((B386&\"*\"&G386&\"*\"&D386&\"*\"&E386),شهر3!#REF!&\"*\"&شهر3!#REF!&\"*\"&شهر3!#REF!&\"*\"&شهر3!#REF!,0))","v":{"$error":"#REF!"}}]
[2,22250,"وسام فياض إبراهيم","الرمادي الجديدة","نفط",{"$f":"INDEX(شهر3!#REF!,MATCH((B387&\"*\"&G387&\"*\"&D387&\"*\"&E387),شهر3!#REF!&\"*\"&شهر3!#REF!&\"*\"&شهر3!#REF!&\"*\"&شهر3!#REF!,0))","v":{"$error":"#REF!"}},"2021-03-04",{"$f":"INDEX(شهر3!#REF!,MATCH((B387&\"*\"&G387&\"*\"&D387&\"*\"&E387),شهر3!#REF!&\"*\"&شهر3!#REF!&\"*\"&شهر3!#REF!&\"*\"&شهر3!#REF!,0))","v":{"$error":"#REF!"}}]
[3,559147,"مهند عامر خالد","الصقلاوية","نفط",{"$f":"INDEX(شهر3!#REF!,MATCH((B388&\"*\"&G388&\"*\"&D388&\"*\"&E388),شهر3!#REF!&\"*\"&شهر3!#REF!&\"*\"&شهر3!#REF!&\"*\"&شهر3!#REF!,0))","v":{"$error":"#REF!"}},"2021-03-04",{"$f":"INDEX(شهر3!#REF!,MATCH((B388&\"*\"&G388&\"*\"&D388&\"*\"&E388),شهر3!#REF!&\"*\"&شهر3!#REF!&\"*\"&شهر3!#REF!&\"*\"&شهر3!#REF!,0))","v":{"$error":"#REF!"}}]
[4,58383,"حامد زيدان خلف","الرطبة القديمة","نفط",{"$f":"INDEX(شهر3!#REF!,MATCH((B389&\"*\"&G389&\"*\"&D389&\"*\"&E389),شهر3!#REF!&\"*\"&شهر3!#REF!&\"*\"&شهر3!#REF!&\"*\"&شهر3!#REF!,0))","v":{"$error":"#REF!"}},"2021-03-04",{"$f":"INDEX(شهر3!#REF!,MATCH((B389&\"*\"&G389&\"*\"&D389&\"*\"&E389),شهر3!#REF!&\"*\"&شهر3!#REF!&\"*\"&شهر3!#REF!&\"*\"&شهر3!#REF!,0))","v":{"$error":"#REF!"}}]
[5,134648,"حميد سمير محمد","م ت الرمادي","نفط",{"$f":"INDEX(شهر3!#REF!,MATCH((B390&\"*\"&G390&\"*\"&D390&\"*\"&E390),شهر3!#REF!&\"*\"&شهر3!#REF!&\"*\"&شهر3!#REF!&\"*\"&شهر3!#REF!,0))","v":{"$error":"#REF!"}},"2021-03-04",{"$f":"INDEX(شهر3!#REF!,MATCH((B390&\"*\"&G390&\"*\"&D390&\"*\"&E390),شهر3!#REF!&\"*\"&شهر3!#REF!&\"*\"&شهر3!#REF!&\"*\"&شهر3!#REF!,0))","v":{"$error":"#REF!"}}]
[6,55193,"علاء حسين عباس","م ت الفلوجة","نفط",{"$f":"INDEX(شهر3!#REF!,MATCH((B391&\"*\"&G391&\"*\"&D391&\"*\"&E391),شهر3!#REF!&\"*\"&شهر3!#REF!&\"*\"&شهر3!#REF!&\"*\"&شهر3!#REF!,0))","v":{"$error":"#REF!"}},"2021-03-04",{"$f":"INDEX(شهر3!#REF!,MATCH((B391&\"*\"&G391&\"*\"&D391&\"*\"&E391),شهر3!#REF!&\"*\"&شهر3!#REF!&\"*\"&شهر3!#REF!&\"*\"&شهر3!#REF!,0))","v":{"$error":"#REF!"}}]
[7,16489,"بشار هلال غايب","الرمادي السريع","نفط",{"$f":"INDEX(شهر3!#REF!,MATCH((B392&\"*\"&G392&\"*\"&D392&\"*\"&E392),شهر3!#REF!&\"*\"&شهر3!#REF!&\"*\"&شهر3!#REF!&\"*\"&شهر3!#REF!,0))","v":{"$error":"#REF!"}},"2021-03-04",{"$f":"INDEX(شهر3!#REF!,MATCH((B392&\"*\"&G392&\"*\"&D392&\"*\"&E392),شهر3!#REF!&\"*\"&شهر3!#REF!&\"*\"&شهر3!#REF!&\"*\"&شهر3!#REF!,0))","v":{"$error":"#REF!"}}]
[8,42344,"وطبان عدنان عويد","الحبانية القديمة","نفط",{"$f":"INDEX(شهر3!#REF!,MATCH((B393&\"*\"&G393&\"*\"&D393&\"*\"&E393),شهر3!#REF!&\"*\"&شهر3!#REF!&\"*\"&شهر3!#REF!&\"*\"&شهر3!#REF!,0))","v":{"$error":"#REF!"}},"2021-03-04",{"$f":"INDEX(شهر3!#REF!,MATCH((B393&\"*\"&G393&\"*\"&D393&\"*\"&E393),شهر3!#REF!&\"*\"&شهر3!#REF!&\"*\"&شهر3!#REF!&\"*\"&شهر3!#REF!,0))","v":{"$error":"#REF!"}}]
[9,561453,"عمر علي جدوع","م ت الفلوجة","نفط",{"$f":"INDEX(شهر3!#REF!,MATCH((B394&\"*\"&G394&\"*\"&D394&\"*\"&E394),شهر3!#REF!&\"*\"&شهر3!#REF!&\"*\"&شهر3!#REF!&\"*\"&شهر3!#REF!,0))","v":{"$error":"#REF!"}},"2021-03-04",{"$f":"INDEX(شهر3!#REF!,MATCH((B394&\"*\"&G394&\"*\"&D394&\"*\"&E394),شهر3!#REF!&\"*\"&شهر3!#REF!&\"*\"&شهر3!#REF!&\"*\"&شهر3!#REF!,0))","v":{"$error":"#REF!"}}]
[1,17391,"سلام مزعل موذي","التقى","نفط",{"$f":"INDEX(شهر3!#REF!,MATCH((B395&\"*\"&G395&\"*\"&D395&\"*\"&E395),شهر3!#REF!&\"*\"&شهر3!#REF!&\"*\"&شهر3!#REF!&\"*\"&شهر3!#REF!,0))","v":{"$error":"#REF!"}},"2021-03-04",{"$f":"INDEX(شهر3!#REF!,MATCH((B395&\"*\"&G395&\"*\"&D395&\"*\"&E395),شهر3!#REF!&\"*\"&شهر3!#REF!&\"*\"&شهر3!#REF!&\"*\"&شهر3!#REF!,0))","v":{"$error":"#REF!"}}]
[2,145268,"احمد شهاب حمد","عطارد","نفط",{"$f":"INDEX(شهر3!#REF!,MATCH((B396&\"*\"&G396&\"*\"&D396&\"*\"&E396),شهر3!#REF!&\"*\"&شهر3!#REF!&\"*\"&شهر3!#REF!&\"*\"&شهر3!#REF!,0))","v":{"$error":"#REF!"}},"2021-03-04",{"$f":"INDEX(شهر3!#REF!,MATCH((B396&\"*\"&G396&\"*\"&D396&\"*\"&E396),شهر3!#REF!&\"*\"&شهر3!#REF!&\"*\"&شهر3!#REF!&\"*\"&شهر3!#REF!,0))","v":{"$error":"#REF!"}}]
[3,61548,"شعيب ضاري زيدان","س ن المحيط","نفط",{"$f":"INDEX(شهر3!#REF!,MATCH((B397&\"*\"&G397&\"*\"&D397&\"*\"&E397),شهر3!#REF!&\"*\"&شهر3!#REF!&\"*\"&شهر3!#REF!&\"*\"&شهر3!#REF!,0))","v":{"$error":"#REF!"}},"2021-03-04",{"$f":"INDEX(شهر3!#REF!,MATCH((B397&\"*\"&G397&\"*\"&D397&\"*\"&E397),شهر3!#REF!&\"*\"&شهر3!#REF!&\"*\"&شهر3!#REF!&\"*\"&شهر3!#REF!,0))","v":{"$error":"#REF!"}}]
[4,52778,"هاني علي بوال","س ن النهوض","نفط",{"$f":"INDEX(شهر3!#REF!,MATCH((B398&\"*\"&G398&\"*\"&D398&\"*\"&E398),شهر3!#REF!&\"*\"&شهر3!#REF!&\"*\"&شهر3!#REF!&\"*\"&شهر3!#REF!,0))","v":{"$error":"#REF!"}},"2021-03-04",{"$f":"INDEX(شهر3!#REF!,MATCH((B398&\"*\"&G398&\"*\"&D398&\"*\"&E398),شهر3!#REF!&\"*\"&شهر3!#REF!&\"*\"&شهر3!#REF!&\"*\"&شهر3!#REF!,0))","v":{"$error":"#REF!"}}]
[5,71852,"قاسم محمد حسين","الاوائل","نفط",{"$f":"INDEX(شهر3!#REF!,MATCH((B399&\"*\"&G399&\"*\"&D399&\"*\"&E399),شهر3!#REF!&\"*\"&شهر3!#REF!&\"*\"&شهر3!#REF!&\"*\"&شهر3!#REF!,0))","v":{"$error":"#REF!"}},"2021-03-04",{"$f":"INDEX(شهر3!#REF!,MATCH((B399&\"*\"&G399&\"*\"&D399&\"*\"&E399),شهر3!#REF!&\"*\"&شهر3!#REF!&\"*\"&شهر3!#REF!&\"*\"&شهر3!#REF!,0))","v":{"$error":"#REF!"}}]
[6,560488,"عدي حسن عطيوي","الدمام","نفط",{"$f":"INDEX(شهر3!#REF!,MATCH((B400&\"*\"&G400&\"*\"&D400&\"*\"&E400),شهر3!#REF!&\"*\"&شهر3!#REF!&\"*\"&شهر3!#REF!&\"*\"&شهر3!#REF!,0))","v":{"$error":"#REF!"}},"2021-03-04",{"$f":"INDEX(شهر3!#REF!,MATCH((B400&\"*\"&G400&\"*\"&D400&\"*\"&E400),شهر3!#REF!&\"*\"&شهر3!#REF!&\"*\"&شهر3!#REF!&\"*\"&شهر3!#REF!,0))","v":{"$error":"#REF!"}}]
[1,192292,"سعدي زيدان خلف","النسور","نفط",{"$f":"INDEX(شهر3!#REF!,MATCH((B401&\"*\"&G401&\"*\"&D401&\"*\"&E401),شهر3!#REF!&\"*\"&شهر3!#REF!&\"*\"&شهر3!#REF!&\"*\"&شهر3!#REF!,0))","v":{"$error":"#REF!"}},"2021-03-04",{"$f":"INDEX(شهر3!#REF!,MATCH((B401&\"*\"&G401&\"*\"&D401&\"*\"&E401),شهر3!#REF!&\"*\"&شهر3!#REF!&\"*\"&شهر3!#REF!&\"*\"&شهر3!#REF!,0))","v":{"$error":"#REF!"}}]
[1,52213,"علاء حاتم محمد","م ت الفلوجة","نفط",{"$f":"INDEX(شهر3!#REF!,MATCH((B402&\"*\"&G402&\"*\"&D402&\"*\"&E402),شهر3!#REF!&\"*\"&شهر3!#REF!&\"*\"&شهر3!#REF!&\"*\"&شهر3!#REF!,0))","v":{"$error":"#REF!"}},"2021-03-05",{"$f":"INDEX(شهر3!#REF!,MATCH((B402&\"*\"&G402&\"*\"&D402&\"*\"&E402),شهر3!#REF!&\"*\"&شهر3!#REF!&\"*\"&شهر3!#REF!&\"*\"&شهر3!#REF!,0))","v":{"$error":"#REF!"}}]
[2,36929,"عدي حاتم علي","م ت الرمادي","نفط",{"$f":"INDEX(شهر3!#REF!,MATCH((B403&\"*\"&G403&\"*\"&D403&\"*\"&E403),شهر3!#REF!&\"*\"&شهر3!#REF!&\"*\"&شهر3!#REF!&\"*\"&شهر3!#REF!,0))","v":{"$error":"#REF!"}},"2021-03-05",{"$f":"INDEX(شهر3!#REF!,MATCH((B403&\"*\"&G403&\"*\"&D403&\"*\"&E403),شهر3!#REF!&\"*\"&شهر3!#REF!&\"*\"&شهر3!#REF!&\"*\"&شهر3!#REF!,0))","v":{"$error":"#REF!"}}]
[3,93455,"مهند حسين محمد","الرطبة القديمة","نفط",{"$f":"INDEX(شهر3!#REF!,MATCH((B404&\"*\"&G404&\"*\"&D404&\"*\"&E404),شهر3!#REF!&\"*\"&شهر3!#REF!&\"*\"&شهر3!#REF!&\"*\"&شهر3!#REF!,0))","v":{"$error":"#REF!"}},"2021-03-05",{"$f":"INDEX(شهر3!#REF!,MATCH((B404&\"*\"&G404&\"*\"&D404&\"*\"&E404),شهر3!#REF!&\"*\"&شهر3!#REF!&\"*\"&شهر3!#REF!&\"*\"&شهر3!#REF!,0))","v":{"$error":"#REF!"}}]
[4,75567,"عثمان عبد جاسم","الحقلانية","نفط",{"$f":"INDEX(شهر3!#REF!,MATCH((B405&\"*\"&G405&\"*\"&D405&\"*\"&E405),شهر3!#REF!&\"*\"&شهر3!#REF!&\"*\"&شهر3!#REF!&\"*\"&شهر3!#REF!,0))","v":{"$error":"#REF!"}},"2021-03-05",{"$f":"INDEX(شهر3!#REF!,MATCH((B405&\"*\"&G405&\"*\"&D405&\"*\"&E405),شهر3!#REF!&\"*\"&شهر3!#REF!&\"*\"&شهر3!#REF!&\"*\"&شهر3!#REF!,0))","v":{"$error":"#REF!"}}]
[5,51132,"علي صبار دلف","الرمادي السريع","نفط",{"$f":"INDEX(شهر3!#REF!,MATCH((B406&\"*\"&G406&\"*\"&D406&\"*\"&E406),شهر3!#REF!&\"*\"&شهر3!#REF!&\"*\"&شهر3!#REF!&\"*\"&شهر3!#REF!,0))","v":{"$error":"#REF!"}},"2021-03-05",{"$f":"INDEX(شهر3!#REF!,MATCH((B406&\"*\"&G406&\"*\"&D406&\"*\"&E406),شهر3!#REF!&\"*\"&شهر3!#REF!&\"*\"&شهر3!#REF!&\"*\"&شهر3!#REF!,0))","v":{"$error":"#REF!"}}]
[6,5181,"احمد محمد إبراهيم","الرمادي الجديدة","نفط",{"$f":"INDEX(شهر3!#REF!,MATCH((B407&\"*\"&G407&\"*\"&D407&\"*\"&E407),شهر3!#REF!&\"*\"&شهر3!#REF!&\"*\"&شهر3!#REF!&\"*\"&شهر3!#REF!,0))","v":{"$error":"#REF!"}},"2021-03-05",{"$f":"INDEX(شهر3!#REF!,MATCH((B407&\"*\"&G407&\"*\"&D407&\"*\"&E407),شهر3!#REF!&\"*\"&شهر3!#REF!&\"*\"&شهر3!#REF!&\"*\"&شهر3!#REF!,0))","v":{"$error":"#REF!"}}]
[7,61548,"شعيب ضاري زيدان","الكرمة","نفط",{"$f":"INDEX(شهر3!#REF!,MATCH((B408&\"*\"&G408&\"*\"&D408&\"*\"&E408),شهر3!#REF!&\"*\"&شهر3!#REF!&\"*\"&شهر3!#REF!&\"*\"&شهر3!#REF!,0))","v":{"$error":"#REF!"}},"2021-03-05",{"$f":"INDEX(شهر3!#REF!,MATCH((B408&\"*\"&G408&\"*\"&D408&\"*\"&E408),شهر3!#REF!&\"*\"&شهر3!#REF!&\"*\"&شهر3!#REF!&\"*\"&شهر3!#REF!,0))","v":{"$error":"#REF!"}}]
[8,72237,"محمد عارف مشرف","الحبانية القديمة","نفط",{"$f":"INDEX(شهر3!#REF!,MATCH((B409&\"*\"&G409&\"*\"&D409&\"*\"&E409),شهر3!#REF!&\"*\"&شهر3!#REF!&\"*\"&شهر3!#REF!&\"*\"&شهر3!#REF!,0))","v":{"$error":"#REF!"}},"2021-03-05",{"$f":"INDEX(شهر3!#REF!,MATCH((B409&\"*\"&G409&\"*\"&D409&\"*\"&E409),شهر3!#REF!&\"*\"&شهر3!#REF!&\"*\"&شهر3!#REF!&\"*\"&شهر3!#REF!,0))","v":{"$error":"#REF!"}}]
[1,555878,"مصطفى علي هاشم","الريم","نفط",{"$f":"INDEX(شهر3!#REF!,MATCH((B410&\"*\"&G410&\"*\"&D410&\"*\"&E410),شهر3!#REF!&\"*\"&شهر3!#REF!&\"*\"&شهر3!#REF!&\"*\"&شهر3!#REF!,0))","v":{"$error":"#REF!"}},"2021-03-05",{"$f":"INDEX(شهر3!#REF!,MATCH((B410&\"*\"&G410&\"*\"&D410&\"*\"&E410),شهر3!#REF!&\"*\"&شهر3!#REF!&\"*\"&شهر3!#REF!&\"*\"&شهر3!#REF!,0))","v":{"$error":"#REF!"}}]
[2,559099,"زهير ضاري زيدان","س خير البوادي","نفط",{"$f":"INDEX(شهر3!#REF!,MATCH((B411&\"*\"&G411&\"*\"&D411&\"*\"&E411),شهر3!#REF!&\"*\"&شهر3!#REF!&\"*\"&شهر3!#REF!&\"*\"&شهر3!#REF!,0))","v":{"$error":"#REF!"}},"2021-03-05",{"$f":"INDEX(شهر3!#REF!,MATCH((B411&\"*\"&G411&\"*\"&D411&\"*\"&E411),شهر3!#REF!&\"*\"&شهر3!#REF!&\"*\"&شهر3!#REF!&\"*\"&شهر3!#REF!,0))","v":{"$error":"#REF!"}}]
[3,17391,"سلام مزعل موذي","المانع","نفط",{"$f":"INDEX(شهر3!#REF!,MATCH((B412&\"*\"&G412&\"*\"&D412&\"*\"&E412),شهر3!#REF!&\"*\"&شهر3!#REF!&\"*\"&شهر3!#REF!&\"*\"&شهر3!#REF!,0))","v":{"$error":"#REF!"}},"2021-03-05",{"$f":"INDEX(شهر3!#REF!,MATCH((B412&\"*\"&G412&\"*\"&D412&\"*\"&E412),شهر3!#REF!&\"*\"&شهر3!#REF!&\"*\"&شهر3!#REF!&\"*\"&شهر3!#REF!,0))","v":{"$error":"#REF!"}}]
[4,38675,"سوان سامي جاسم","المرزوق","نفط",{"$f":"INDEX(شهر3!#REF!,MATCH((B413&\"*\"&G413&\"*\"&D413&\"*\"&E413),شهر3!#REF!&\"*\"&شهر3!#REF!&\"*\"&شهر3!#REF!&\"*\"&شهر3!#REF!,0))","v":{"$error":"#REF!"}},"2021-03-05",{"$f":"INDEX(شهر3!#REF!,MATCH((B413&\"*\"&G413&\"*\"&D413&\"*\"&E413),شهر3!#REF!&\"*\"&شهر3!#REF!&\"*\"&شهر3!#REF!&\"*\"&شهر3!#REF!,0))","v":{"$error":"#REF!"}}]
[5,15249,"طيف حاكم هادي","البيرق","نفط",{"$f":"INDEX(شهر3!#REF!,MATCH((B414&\"*\"&G414&\"*\"&D414&\"*\"&E414),شهر3!#REF!&\"*\"&شهر3!#REF!&\"*\"&شهر3!#REF!&\"*\"&شهر3!#REF!,0))","v":{"$error":"#REF!"}},"2021-03-05",{"$f":"INDEX(شهر3!#REF!,MATCH((B414&\"*\"&G414&\"*\"&D414&\"*\"&E414),شهر3!#REF!&\"*\"&شهر3!#REF!&\"*\"&شهر3!#REF!&\"*\"&شهر3!#REF!,0))","v":{"$error":"#REF!"}}]
[6,39185,"قحطان كامل عبيد","الراشد","نفط",{"$f":"INDEX(شهر3!#REF!,MATCH((B415&\"*\"&G415&\"*\"&D415&\"*\"&E415),شهر3!#REF!&\"*\"&شهر3!#REF!&\"*\"&شهر3!#REF!&\"*\"&شهر3!#REF!,0))","v":{"$error":"#REF!"}},"2021-03-05",{"$f":"INDEX(شهر3!#REF!,MATCH((B415&\"*\"&G415&\"*\"&D415&\"*\"&E415),شهر3!#REF!&\"*\"&شهر3!#REF!&\"*\"&شهر3!#REF!&\"*\"&شهر3!#REF!,0))","v":{"$error":"#REF!"}}]
[1,55017,"مثنى لطيف محمد","الرطبة القديمة","نفط",{"$f":"INDEX(شهر3!#REF!,MATCH((B416&\"*\"&G416&\"*\"&D416&\"*\"&E416),شهر3!#REF!&\"*\"&شهر3!#REF!&\"*\"&شهر3!#REF!&\"*\"&شهر3!#REF!,0))","v":{"$error":"#REF!"}},"2021-03-06",{"$f":"INDEX(شهر3!#REF!,MATCH((B416&\"*\"&G416&\"*\"&D416&\"*\"&E416),شهر3!#REF!&\"*\"&شهر3!#REF!&\"*\"&شهر3!#REF!&\"*\"&شهر3!#REF!,0))","v":{"$error":"#REF!"}}]
[2,555918,"مروان سامي جاسم","م ت الفلوجة","نفط",{"$f":"INDEX(شهر3!#REF!,MATCH((B417&\"*\"&G417&\"*\"&D417&\"*\"&E417),شهر3!#REF!&\"*\"&شهر3!#REF!&\"*\"&شهر3!#REF!&\"*\"&شهر3!#REF!,0))","v":{"$error":"#REF!"}},"2021-03-06",{"$f":"INDEX(شهر3!#REF!,MATCH((B417&\"*\"&G417&\"*\"&D417&\"*\"&E417),شهر3!#REF!&\"*\"&شهر3!#REF!&\"*\"&شهر3!#REF!&\"*\"&شهر3!#REF!,0))","v":{"$error":"#REF!"}}]
[3,562605,"عمر عبد رشيد","الحبانية القديمة","نفط",{"$f":"INDEX(شهر3!#REF!,MATCH((B418&\"*\"&G418&\"*\"&D418&\"*\"&E418),شهر3!#REF!&\"*\"&شهر3!#REF!&\"*\"&شهر3!#REF!&\"*\"&شهر3!#REF!,0))","v":{"$error":"#REF!"}},"2021-03-06",{"$f":"INDEX(شهر3!#REF!,MATCH((B418&\"*\"&G418&\"*\"&D418&\"*\"&E418),شهر3!#REF!&\"*\"&شهر3!#REF!&\"*\"&شهر3!#REF!&\"*\"&شهر3!#REF!,0))","v":{"$error":"#REF!"}}]
[4,72829,"حبيب عبدالله سناد","الصقلاوية","نفط",{"$f":"INDEX(شهر3!#REF!,MATCH((B419&\"*\"&G419&\"*\"&D419&\"*\"&E419),شهر3!#REF!&\"*\"&شهر3!#REF!&\"*\"&شهر3!#REF!&\"*\"&شهر3!#REF!,0))","v":{"$error":"#REF!"}},"2021-03-06",{"$f":"INDEX(شهر3!#REF!,MATCH((B419&\"*\"&G419&\"*\"&D419&\"*\"&E419),شهر3!#REF!&\"*\"&شهر3!#REF!&\"*\"&شهر3!#REF!&\"*\"&شهر3!#REF!,0))","v":{"$error":"#REF!"}}]
[5,48662,"قحطان عدنان عويد","م ت الرمادي","نفط",{"$f":"INDEX(شهر3!#REF!,MATCH((B420&\"*\"&G420&\"*\"&D420&\"*\"&E420),شهر3!#REF!&\"*\"&شهر3!#REF!&\"*\"&شهر3!#REF!&\"*\"&شهر3!#REF!,0))","v":{"$error":"#REF!"}},"2021-03-06",{"$f":"INDEX(شهر3!#REF!,MATCH((B420&\"*\"&G420&\"*\"&D420&\"*\"&E420),شهر3!#REF!&\"*\"&شهر3!#REF!&\"*\"&شهر3!#REF!&\"*\"&شهر3!#REF!,0))","v":{"$error":"#REF!"}}]
[6,123837,"سلام حسين عبد","الكرمة","نفط",{"$f":"INDEX(شهر3!#REF!,MATCH((B421&\"*\"&G421&\"*\"&D421&\"*\"&E421),شهر3!#REF!&\"*\"&شهر3!#REF!&\"*\"&شهر3!#REF!&\"*\"&شهر3!#REF!,0))","v":{"$error":"#REF!"}},"2021-03-06",{"$f":"INDEX(شهر3!#REF!,MATCH((B421&\"*\"&G421&\"*\"&D421&\"*\"&E421),شهر3!#REF!&\"*\"&شهر3!#REF!&\"*\"&شهر3!#REF!&\"*\"&شهر3!#REF!,0))","v":{"$error":"#REF!"}}]
[7,58522,"ايمن فواز زيدان","الرمادي السريع","نفط",{"$f":"INDEX(شهر3!#REF!,MATCH((B422&\"*\"&G422&\"*\"&D422&\"*\"&E422),شهر3!#REF!&\"*\"&شهر3!#REF!&\"*\"&شهر3!#REF!&\"*\"&شهر3!#REF!,0))","v":{"$error":"#REF!"}},"2021-03-06",{"$f":"INDEX(شهر3!#REF!,MATCH((B422&\"*\"&G422&\"*\"&D422&\"*\"&E422),شهر3!#REF!&\"*\"&شهر3!#REF!&\"*\"&شهر3!#REF!&\"*\"&شهر3!#REF!,0))","v":{"$error":"#REF!"}}]
[8,55127,"مهدي صالح حماد","الرمادي الجديدة","نفط",{"$f":"INDEX(شهر3!#REF!,MATCH((B423&\"*\"&G423&\"*\"&D423&\"*\"&E423),شهر3!#REF!&\"*\"&شهر3!#REF!&\"*\"&شهر3!#REF!&\"*\"&شهر3!#REF!,0))","v":{"$error":"#REF!"}},"2021-03-06",{"$f":"INDEX(شهر3!#REF!,MATCH((B423&\"*\"&G423&\"*\"&D423&\"*\"&E423),شهر3!#REF!&\"*\"&شهر3!#REF!&\"*\"&شهر3!#REF!&\"*\"&شهر3!#REF!,0))","v":{"$error":"#REF!"}}]
[1,559010,"إيهاب خلف عويد","الزاوية","نفط",{"$f":"INDEX(شهر3!#REF!,MATCH((B424&\"*\"&G424&\"*\"&D424&\"*\"&E424),شهر3!#REF!&\"*\"&شهر3!#REF!&\"*\"&شهر3!#REF!&\"*\"&شهر3!#REF!,0))","v":{"$error":"#REF!"}},"2021-03-06",{"$f":"INDEX(شهر3!#REF!,MATCH((B424&\"*\"&G424&\"*\"&D424&\"*\"&E424),شهر3!#REF!&\"*\"&شهر3!#REF!&\"*\"&شهر3!#REF!&\"*\"&شهر3!#REF!,0))","v":{"$error":"#REF!"}}]
[2,61548,"شعيب ضاري زيدان","التاج","نفط",{"$f":"INDEX(شهر3!#REF!,MATCH((B425&\"*\"&G425&\"*\"&D425&\"*\"&E425),شهر3!#REF!&\"*\"&شهر3!#REF!&\"*\"&شهر3!#REF!&\"*\"&شهر3!#REF!,0))","v":{"$error":"#REF!"}},"2021-03-06",{"$f":"INDEX(شهر3!#REF!,MATCH((B425&\"*\"&G425&\"*\"&D425&\"*\"&E425),شهر3!#REF!&\"*\"&شهر3!#REF!&\"*\"&شهر3!#REF!&\"*\"&شهر3!#REF!,0))","v":{"$error":"#REF!"}}]
[3,559099,"زهير ضاري زيدان","الورار","نفط",{"$f":"INDEX(شهر3!#REF!,MATCH((B426&\"*\"&G426&\"*\"&D426&\"*\"&E426),شهر3!#REF!&\"*\"&شهر3!#REF!&\"*\"&شهر3!#REF!&\"*\"&شهر3!#REF!,0))","v":{"$error":"#REF!"}},"2021-03-06",{"$f":"INDEX(شهر3!#REF!,MATCH((B426&\"*\"&G426&\"*\"&D426&\"*\"&E426),شهر3!#REF!&\"*\"&شهر3!#REF!&\"*\"&شهر3!#REF!&\"*\"&شهر3!#REF!,0))","v":{"$error":"#REF!"}}]
[4,17391,"سلام مزعل موذي","الفراجي","نفط",{"$f":"INDEX(شهر3!#REF!,MATCH((B427&\"*\"&G427&\"*\"&D427&\"*\"&E427),شهر3!#REF!&\"*\"&شهر3!#REF!&\"*\"&شهر3!#REF!&\"*\"&شهر3!#REF!,0))","v":{"$error":"#REF!"}},"2021-03-06",{"$f":"INDEX(شهر3!#REF!,MATCH((B427&\"*\"&G427&\"*\"&D427&\"*\"&E427),شهر3!#REF!&\"*\"&شهر3!#REF!&\"*\"&شهر3!#REF!&\"*\"&شهر3!#REF!,0))","v":{"$error":"#REF!"}}]
[5,37966,"محمد عبيد عبدالله","كيلو 18","نفط",{"$f":"INDEX(شهر3!#REF!,MATCH((B428&\"*\"&G428&\"*\"&D428&\"*\"&E428),شهر3!#REF!&\"*\"&شهر3!#REF!&\"*\"&شهر3!#REF!&\"*\"&شهر3!#REF!,0))","v":{"$error":"#REF!"}},"2021-03-06",{"$f":"INDEX(شهر3!#REF!,MATCH((B428&\"*\"&G428&\"*\"&D428&\"*\"&E428),شهر3!#REF!&\"*\"&شهر3!#REF!&\"*\"&شهر3!#REF!&\"*\"&شهر3!#REF!,0))","v":{"$error":"#REF!"}}]
[6,9028,"لؤي احمد عبدالله","البوفهد","نفط",{"$f":"INDEX(شهر3!#REF!,MATCH((B429&\"*\"&G429&\"*\"&D429&\"*\"&E429),شهر3!#REF!&\"*\"&شهر3!#REF!&\"*\"&شهر3!#REF!&\"*\"&شهر3!#REF!,0))","v":{"$error":"#REF!"}},"2021-03-06",{"$f":"INDEX(شهر3!#REF!,MATCH((B429&\"*\"&G429&\"*\"&D429&\"*\"&E429),شهر3!#REF!&\"*\"&شهر3!#REF!&\"*\"&شهر3!#REF!&\"*\"&شهر3!#REF!,0))","v":{"$error":"#REF!"}}]
[7,61011,"صبر مطر فرحان","الاتحاد","نفط",{"$f":"INDEX(شهر3!#REF!,MATCH((B430&\"*\"&G430&\"*\"&D430&\"*\"&E430),شهر3!#REF!&\"*\"&شهر3!#REF!&\"*\"&شهر3!#REF!&\"*\"&شهر3!#REF!,0))","v":{"$error":"#REF!"}},"2021-03-06",{"$f":"INDEX(شهر3!#REF!,MATCH((B430&\"*\"&G430&\"*\"&D430&\"*\"&E430),شهر3!#REF!&\"*\"&شهر3!#REF!&\"*\"&شهر3!#REF!&\"*\"&شهر3!#REF!,0))","v":{"$error":"#REF!"}}]
[8,193004,"منيف صعب حسين","ريف الجزيرة","نفط",{"$f":"INDEX(شهر3!#REF!,MATCH((B431&\"*\"&G431&\"*\"&D431&\"*\"&E431),شهر3!#REF!&\"*\"&شهر3!#REF!&\"*\"&شهر3!#REF!&\"*\"&شهر3!#REF!,0))","v":{"$error":"#REF!"}},"2021-03-06",{"$f":"INDEX(شهر3!#REF!,MATCH((B431&\"*\"&G431&\"*\"&D431&\"*\"&E431),شهر3!#REF!&\"*\"&شهر3!#REF!&\"*\"&شهر3!#REF!&\"*\"&شهر3!#REF!,0))","v":{"$error":"#REF!"}}]
[1,17391,"سلام مزعل موذي","س ن الغربية","نفط",{"$f":"INDEX(شهر3!#REF!,MATCH((B432&\"*\"&G432&\"*\"&D432&\"*\"&E432),شهر3!#REF!&\"*\"&شهر3!#REF!&\"*\"&شهر3!#REF!&\"*\"&شهر3!#REF!,0))","v":{"$error":"#REF!"}},"2021-03-08",{"$f":"INDEX(شهر3!#REF!,MATCH((B432&\"*\"&G432&\"*\"&D432&\"*\"&E432),شهر3!#REF!&\"*\"&شهر3!#REF!&\"*\"&شهر3!#REF!&\"*\"&شهر3!#REF!,0))","v":{"$error":"#REF!"}}]
[2,61548,"شعيب ضاري زيدان","عبدالله","نفط",{"$f":"INDEX(شهر3!#REF!,MATCH((B433&\"*\"&G433&\"*\"&D433&\"*\"&E433),شهر3!#REF!&\"*\"&شهر3!#REF!&\"*\"&شهر3!#REF!&\"*\"&شهر3!#REF!,0))","v":{"$error":"#REF!"}},"2021-03-08",{"$f":"INDEX(شهر3!#REF!,MATCH((B433&\"*\"&G433&\"*\"&D433&\"*\"&E433),شهر3!#REF!&\"*\"&شهر3!#REF!&\"*\"&شهر3!#REF!&\"*\"&شهر3!#REF!,0))","v":{"$error":"#REF!"}}]
[3,555918,"مروان سامي جاسم","ذراع دجلة","نفط",{"$f":"INDEX(شهر3!#REF!,MATCH((B434&\"*\"&G434&\"*\"&D434&\"*\"&E434),شهر3!#REF!&\"*\"&شهر3!#REF!&\"*\"&شهر3!#REF!&\"*\"&شهر3!#REF!,0))","v":{"$error":"#REF!"}},"2021-03-08",{"$f":"INDEX(شهر3!#REF!,MATCH((B434&\"*\"&G434&\"*\"&D434&\"*\"&E434),شهر3!#REF!&\"*\"&شهر3!#REF!&\"*\"&شهر3!#REF!&\"*\"&شهر3!#REF!,0))","v":{"$error":"#REF!"}}]
[4,36929,"عدي حاتم علي","الشاكر","نفط",{"$f":"INDEX(شهر3!#REF!,MATCH((B435&\"*\"&G435&\"*\"&D435&\"*\"&E435),شهر3!#REF!&\"*\"&شهر3!#REF!&\"*\"&شهر3!#REF!&\"*\"&شهر3!#REF!,0))","v":{"$error":"#REF!"}},"2021-03-08",{"$f":"INDEX(شهر3!#REF!,MATCH((B435&\"*\"&G435&\"*\"&D435&\"*\"&E435),شهر3!#REF!&\"*\"&شهر3!#REF!&\"*\"&شهر3!#REF!&\"*\"&شهر3!#REF!,0))","v":{"$error":"#REF!"}}]
[5,58383,"حامد زيدان خلف","المنتصر بالله","نفط",{"$f":"INDEX(شهر3!#REF!,MATCH((B436&\"*\"&G436&\"*\"&D436&\"*\"&E436),شهر3!#REF!&\"*\"&شهر3!#REF!&\"*\"&شهر3!#REF!&\"*\"&شهر3!#REF!,0))","v":{"$error":"#REF!"}},"2021-03-08",{"$f":"INDEX(شهر3!#REF!,MATCH((B436&\"*\"&G436&\"*\"&D436&\"*\"&E436),شهر3!#REF!&\"*\"&شهر3!#REF!&\"*\"&شهر3!#REF!&\"*\"&شهر3!#REF!,0))","v":{"$error":"#REF!"}}]
[6,37004,"عمر علي مسير","نور الحياة","نفط",{"$f":"INDEX(شهر3!#REF!,MATCH((B437&\"*\"&G437&\"*\"&D437&\"*\"&E437),شهر3!#REF!&\"*\"&شهر3!#REF!&\"*\"&شهر3!#REF!&\"*\"&شهر3!#REF!,0))","v":{"$error":"#REF!"}},"2021-03-08",{"$f":"INDEX(شهر3!#REF!,MATCH((B437&\"*\"&G437&\"*\"&D437&\"*\"&E437),شهر3!#REF!&\"*\"&شهر3!#REF!&\"*\"&شهر3!#REF!&\"*\"&شهر3!#REF!,0))","v":{"$error":"#REF!"}}]
[7,55023,"مثنى مبارك بردان","الوئام","نفط",{"$f":"INDEX(شهر3!#REF!,MATCH((B438&\"*\"&G438&\"*\"&D438&\"*\"&E438),شهر3!#REF!&\"*\"&شهر3!#REF!&\"*\"&شهر3!#REF!&\"*\"&شهر3!#REF!,0))","v":{"$error":"#REF!"}},"2021-03-08",{"$f":"INDEX(شهر3!#REF!,MATCH((B438&\"*\"&G438&\"*\"&D438&\"*\"&E438),شهر3!#REF!&\"*\"&شهر3!#REF!&\"*\"&شهر3!#REF!&\"*\"&شهر3!#REF!,0))","v":{"$error":"#REF!"}}]
[8,55193,"علاء حسين عباس","غصن الزيتون","نفط",{"$f":"INDEX(شهر3!#REF!,MATCH((B439&\"*\"&G439&\"*\"&D439&\"*\"&E439),شهر3!#REF!&\"*\"&شهر3!#REF!&\"*\"&شهر3!#REF!&\"*\"&شهر3!#REF!,0))","v":{"$error":"#REF!"}},"2021-03-08",{"$f":"INDEX(شهر3!#REF!,MATCH((B439&\"*\"&G439&\"*\"&D439&\"*\"&E439),شهر3!#REF!&\"*\"&شهر3!#REF!&\"*\"&شهر3!#REF!&\"*\"&شهر3!#REF!,0))","v":{"$error":"#REF!"}}]
[1,559099,"زهير ضاري زيدان","الكرمة","نفط",{"$f":"INDEX(شهر3!#REF!,MATCH((B440&\"*\"&G440&\"*\"&D440&\"*\"&E440),شهر3!#REF!&\"*\"&شهر3!#REF!&\"*\"&شهر3!#REF!&\"*\"&شهر3!#REF!,0))","v":{"$error":"#REF!"}},"2021-03-08",{"$f":"INDEX(شهر3!#REF!,MATCH((B440&\"*\"&G440&\"*\"&D440&\"*\"&E440),شهر3!#REF!&\"*\"&شهر3!#REF!&\"*\"&شهر3!#REF!&\"*\"&شهر3!#REF!,0))","v":{"$error":"#REF!"}}]
[2,555691,"عبدالحافظ خليل إبراهيم","الحبانية القديمة","نفط",{"$f":"INDEX(شهر3!#REF!,MATCH((B441&\"*\"&G441&\"*\"&D441&\"*\"&E441),شهر3!#REF!&\"*\"&شهر3!#REF!&\"*\"&شهر3!#REF!&\"*\"&شهر3!#REF!,0))","v":{"$error":"#REF!"}},"2021-03-08",{"$f":"INDEX(شهر3!#REF!,MATCH((B441&\"*\"&G441&\"*\"&D441&\"*\"&E441),شهر3!#REF!&\"*\"&شهر3!#REF!&\"*\"&شهر3!#REF!&\"*\"&شهر3!#REF!,0))","v":{"$error":"#REF!"}}]
[3,21988,"تحرير يوسف حمود","م ت الرمادي","نفط",{"$f":"INDEX(شهر3!#REF!,MATCH((B442&\"*\"&G442&\"*\"&D442&\"*\"&E442),شهر3!#REF!&\"*\"&شهر3!#REF!&\"*\"&شهر3!#REF!&\"*\"&شهر3!#REF!,0))","v":{"$error":"#REF!"}},"2021-03-08",{"$f":"INDEX(شهر3!#REF!,MATCH((B442&\"*\"&G442&\"*\"&D442&\"*\"&E442),شهر3!#REF!&\"*\"&شهر3!#REF!&\"*\"&شهر3!#REF!&\"*\"&شهر3!#REF!,0))","v":{"$error":"#REF!"}}]
[4,560488,"عدي حسن عطيوي","الصقلاوية","نفط",{"$f":"INDEX(شهر3!#REF!,MATCH((B443&\"*\"&G443&\"*\"&D443&\"*\"&E443),شهر3!#REF!&\"*\"&شهر3!#REF!&\"*\"&شهر3!#REF!&\"*\"&شهر3!#REF!,0))","v":{"$error":"#REF!"}},"2021-03-08",{"$f":"INDEX(شهر3!#REF!,MATCH((B443&\"*\"&G443&\"*\"&D443&\"*\"&E443),شهر3!#REF!&\"*\"&شهر3!#REF!&\"*\"&شهر3!#REF!&\"*\"&شهر3!#REF!,0))","v":{"$error":"#REF!"}}]
[5,80696,"وائل عارف مشرف","م ت الفلوجة","نفط",{"$f":"INDEX(شهر3!#REF!,MATCH((B444&\"*\"&G444&\"*\"&D444&\"*\"&E444),شهر3!#REF!&\"*\"&شهر3!#REF!&\"*\"&شهر3!#REF!&\"*\"&شهر3!#REF!,0))","v":{"$error":"#REF!"}},"2021-03-08",{"$f":"INDEX(شهر3!#REF!,MATCH((B444&\"*\"&G444&\"*\"&D444&\"*\"&E444),شهر3!#REF!&\"*\"&شهر3!#REF!&\"*\"&شهر3!#REF!&\"*\"&شهر3!#REF!,0))","v":{"$error":"#REF!"}}]
[6,559340,"مثنى حسن محمد","الرمادي السريع","نفط",{"$f":"INDEX(شهر3!#REF!,MATCH((B445&\"*\"&G445&\"*\"&D445&\"*\"&E445),شهر3!#REF!&\"*\"&شهر3!#REF!&\"*\"&شهر3!#REF!&\"*\"&شهر3!#REF!,0))","v":{"$error":"#REF!"}},"2021-03-08",{"$f":"INDEX(شهر3!#REF!,MATCH((B445&\"*\"&G445&\"*\"&D445&\"*\"&E445),شهر3!#REF!&\"*\"&شهر3!#REF!&\"*\"&شهر3!#REF!&\"*\"&شهر3!#REF!,0))","v":{"$error":"#REF!"}}]
[7,43169,"باسم فرحان احمد","الرمادي الجديدة","نفط",{"$f":"INDEX(شهر3!#REF!,MATCH((B446&\"*\"&G446&\"*\"&D446&\"*\"&E446),شهر3!#REF!&\"*\"&شهر3!#REF!&\"*\"&شهر3!#REF!&\"*\"&شهر3!#REF!,0))","v":{"$error":"#REF!"}},"2021-03-08",{"$f":"INDEX(شهر3!#REF!,MATCH((B446&\"*\"&G446&\"*\"&D446&\"*\"&E446),شهر3!#REF!&\"*\"&شهر3!#REF!&\"*\"&شهر3!#REF!&\"*\"&شهر3!#REF!,0))","v":{"$error":"#REF!"}}]
[1,559099,"زهير ضاري زيدان","دار السلام","نفط",{"$f":"INDEX(شهر3!#REF!,MATCH((B447&\"*\"&G447&\"*\"&D447&\"*\"&E447),شهر3!#REF!&\"*\"&شهر3!#REF!&\"*\"&شهر3!#REF!&\"*\"&شهر3!#REF!,0))","v":{"$error":"#REF!"}},"2021-03-07",{"$f":"INDEX(شهر3!#REF!,MATCH((B447&\"*\"&G447&\"*\"&D447&\"*\"&E447),شهر3!#REF!&\"*\"&شهر3!#REF!&\"*\"&شهر3!#REF!&\"*\"&شهر3!#REF!,0))","v":{"$error":"#REF!"}}]
[2,61548,"شعيب ضاري زيدان","س المحيط","نفط",{"$f":"INDEX(شهر3!#REF!,MATCH((B448&\"*\"&G448&\"*\"&D448&\"*\"&E448),شهر3!#REF!&\"*\"&شهر3!#REF!&\"*\"&شهر3!#REF!&\"*\"&شهر3!#REF!,0))","v":{"$error":"#REF!"}},"2021-03-07",{"$f":"INDEX(شهر3!#REF!,MATCH((B448&\"*\"&G448&\"*\"&D448&\"*\"&E448),شهر3!#REF!&\"*\"&شهر3!#REF!&\"*\"&شهر3!#REF!&\"*\"&شهر3!#REF!,0))","v":{"$error":"#REF!"}}]
[3,17391,"سلام مزعل موذي","مها البادية","نفط",{"$f":"INDEX(شهر3!#REF!,MATCH((B449&\"*\"&G449&\"*\"&D449&\"*\"&E449),شهر3!#REF!&\"*\"&شهر3!#REF!&\"*\"&شهر3!#REF!&\"*\"&شهر3!#REF!,0))","v":{"$error":"#REF!"}},"2021-03-07",{"$f":"INDEX(شهر3!#REF!,MATCH((B449&\"*\"&G449&\"*\"&D449&\"*\"&E449),شهر3!#REF!&\"*\"&شهر3!#REF!&\"*\"&شهر3!#REF!&\"*\"&شهر3!#REF!,0))","v":{"$error":"#REF!"}}]
[4,78675,"سلوان سامي جاسم","رحاب الفلوجة","نفط",{"$f":"INDEX(شهر3!#REF!,MATCH((B450&\"*\"&G450&\"*\"&D450&\"*\"&E450),شهر3!#REF!&\"*\"&شهر3!#REF!&\"*\"&شهر3!#REF!&\"*\"&شهر3!#REF!,0))","v":{"$error":"#REF!"}},"2021-03-07",{"$f":"INDEX(شهر3!#REF!,MATCH((B450&\"*\"&G450&\"*\"&D450&\"*\"&E450),شهر3!#REF!&\"*\"&شهر3!#REF!&\"*\"&شهر3!#REF!&\"*\"&شهر3!#REF!,0))","v":{"$error":"#REF!"}}]
[5,193455,"مهند حسن محمد","الصوفية","نفط",{"$f":"INDEX(شهر3!#REF!,MATCH((B451&\"*\"&G451&\"*\"&D451&\"*\"&E451),شهر3!#REF!&\"*\"&شهر3!#REF!&\"*\"&شهر3!#REF!&\"*\"&شهر3!#REF!,0))","v":{"$error":"#REF!"}},"2021-03-07",{"$f":"INDEX(شهر3!#REF!,MATCH((B451&\"*\"&G451&\"*\"&D451&\"*\"&E451),شهر3!#REF!&\"*\"&شهر3!#REF!&\"*\"&شهر3!#REF!&\"*\"&شهر3!#REF!,0))","v":{"$error":"#REF!"}}]
[6,104055,"أسامة نوري زيدان","التل الاخضر","نفط",{"$f":"INDEX(شهر3!#REF!,MATCH((B452&\"*\"&G452&\"*\"&D452&\"*\"&E452),شهر3!#REF!&\"*\"&شهر3!#REF!&\"*\"&شهر3!#REF!&\"*\"&شهر3!#REF!,0))","v":{"$error":"#REF!"}},"2021-03-07",{"$f":"INDEX(شهر3!#REF!,MATCH((B452&\"*\"&G452&\"*\"&D452&\"*\"&E452),شهر3!#REF!&\"*\"&شهر3!#REF!&\"*\"&شهر3!#REF!&\"*\"&شهر3!#REF!,0))","v":{"$error":"#REF!"}}]
[7,35951,"اسعد علي عواد","طولي الاولى","نفط",{"$f":"INDEX(شهر3!#REF!,MATCH((B453&\"*\"&G453&\"*\"&D453&\"*\"&E453),شهر3!#REF!&\"*\"&شهر3!#REF!&\"*\"&شهر3!#REF!&\"*\"&شهر3!#REF!,0))","v":{"$error":"#REF!"}},"2021-03-07",{"$f":"INDEX(شهر3!#REF!,MATCH((B453&\"*\"&G453&\"*\"&D453&\"*\"&E453),شهر3!#REF!&\"*\"&شهر3!#REF!&\"*\"&شهر3!#REF!&\"*\"&شهر3!#REF!,0))","v":{"$error":"#REF!"}}]
[8,198329,"سلام خضير عباس","اسوار المدينة","نفط",{"$f":"INDEX(شهر3!#REF!,MATCH((B454&\"*\"&G454&\"*\"&D454&\"*\"&E454),شهر3!#REF!&\"*\"&شهر3!#REF!&\"*\"&شهر3!#REF!&\"*\"&شهر3!#REF!,0))","v":{"$error":"#REF!"}},"2021-03-07",{"$f":"INDEX(شهر3!#REF!,MATCH((B454&\"*\"&G454&\"*\"&D454&\"*\"&E454),شهر3!#REF!&\"*\"&شهر3!#REF!&\"*\"&شهر3!#REF!&\"*\"&شهر3!#REF!,0))","v":{"$error":"#REF!"}}]
[9,37920,"ياسر احمد عبدالله","الخالدية","نفط",{"$f":"INDEX(شهر3!#REF!,MATCH((B455&\"*\"&G455&\"*\"&D455&\"*\"&E455),شهر3!#REF!&\"*\"&شهر3!#REF!&\"*\"&شهر3!#REF!&\"*\"&شهر3!#REF!,0))","v":{"$error":"#REF!"}},"2021-03-07",{"$f":"INDEX(شهر3!#REF!,MATCH((B455&\"*\"&G455&\"*\"&D455&\"*\"&E455),شهر3!#REF!&\"*\"&شهر3!#REF!&\"*\"&شهر3!#REF!&\"*\"&شهر3!#REF!,0))","v":{"$error":"#REF!"}}]
[10,64214,"احمد مطر فرحان","المختار","نفط",{"$f":"INDEX(شهر3!#REF!,MATCH((B456&\"*\"&G456&\"*\"&D456&\"*\"&E456),شهر3!#REF!&\"*\"&شهر3!#REF!&\"*\"&شهر3!#REF!&\"*\"&شهر3!#REF!,0))","v":{"$error":"#REF!"}},"2021-03-07",{"$f":"INDEX(شهر3!#REF!,MATCH((B456&\"*\"&G456&\"*\"&D456&\"*\"&E456),شهر3!#REF!&\"*\"&شهر3!#REF!&\"*\"&شهر3!#REF!&\"*\"&شهر3!#REF!,0))","v":{"$error":"#REF!"}}]
[1,559010,"إيهاب خلف عويد","الرمادي السريع","نفط",{"$f":"INDEX(شهر3!#REF!,MATCH((B457&\"*\"&G457&\"*\"&D457&\"*\"&E457),شهر3!#REF!&\"*\"&شهر3!#REF!&\"*\"&شهر3!#REF!&\"*\"&شهر3!#REF!,0))","v":{"$error":"#REF!"}},"2021-03-07",{"$f":"INDEX(شهر3!#REF!,MATCH((B457&\"*\"&G457&\"*\"&D457&\"*\"&E457),شهر3!#REF!&\"*\"&شهر3!#REF!&\"*\"&شهر3!#REF!&\"*\"&شهر3!#REF!,0))","v":{"$error":"#REF!"}}]
[2,188881,"باسم رياح صبار","الرمادي الجديدة","نفط",{"$f":"INDEX(شهر3!#REF!,MATCH((B458&\"*\"&G458&\"*\"&D458&\"*\"&E458),شهر3!#REF!&\"*\"&شهر3!#REF!&\"*\"&شهر3!#REF!&\"*\"&شهر3!#REF!,0))","v":{"$error":"#REF!"}},"2021-03-07",{"$f":"INDEX(شهر3!#REF!,MATCH((B458&\"*\"&G458&\"*\"&D458&\"*\"&E458),شهر3!#REF!&\"*\"&شهر3!#REF!&\"*\"&شهر3!#REF!&\"*\"&شهر3!#REF!,0))","v":{"$error":"#REF!"}}]
[3,37225,"طه كامل حسين","م ت الرمادي","نفط",{"$f":"INDEX(شهر3!#REF!,MATCH((B459&\"*\"&G459&\"*\"&D459&\"*\"&E459),شهر3!#REF!&\"*\"&شهر3!#REF!&\"*\"&شهر3!#REF!&\"*\"&شهر3!#REF!,0))","v":{"$error":"#REF!"}},"2021-03-07",{"$f":"INDEX(شهر3!#REF!,MATCH((B459&\"*\"&G459&\"*\"&D459&\"*\"&E459),شهر3!#REF!&\"*\"&شهر3!#REF!&\"*\"&شهر3!#REF!&\"*\"&شهر3!#REF!,0))","v":{"$error":"#REF!"}}]
[4,52165,"دخيل غركان بزل","م ت الفلوجة","نفط",{"$f":"INDEX(شهر3!#REF!,MATCH((B460&\"*\"&G460&\"*\"&D460&\"*\"&E460),شهر3!#REF!&\"*\"&شهر3!#REF!&\"*\"&شهر3!#REF!&\"*\"&شهر3!#REF!,0))","v":{"$error":"#REF!"}},"2021-03-07",{"$f":"INDEX(شهر3!#REF!,MATCH((B460&\"*\"&G460&\"*\"&D460&\"*\"&E460),شهر3!#REF!&\"*\"&شهر3!#REF!&\"*\"&شهر3!#REF!&\"*\"&شهر3!#REF!,0))","v":{"$error":"#REF!"}}]
[5,6110,"عبدالمجيد حميد عباس","م ت الفلوجة","نفط",{"$f":"INDEX(شهر3!#REF!,MATCH((B461&\"*\"&G461&\"*\"&D461&\"*\"&E461),شهر3!#REF!&\"*\"&شهر3!#REF!&\"*\"&شهر3!#REF!&\"*\"&شهر3!#REF!,0))","v":{"$error":"#REF!"}},"2021-03-07",{"$f":"INDEX(شهر3!#REF!,MATCH((B461&\"*\"&G461&\"*\"&D461&\"*\"&E461),شهر3!#REF!&\"*\"&شهر3!#REF!&\"*\"&شهر3!#REF!&\"*\"&شهر3!#REF!,0))","v":{"$error":"#REF!"}}]
[1,6123,"ياس مبروك محمد","الهدى الحديثة","نفط",{"$f":"INDEX(شهر3!#REF!,MATCH((B462&\"*\"&G462&\"*\"&D462&\"*\"&E462),شهر3!#REF!&\"*\"&شهر3!#REF!&\"*\"&شهر3!#REF!&\"*\"&شهر3!#REF!,0))","v":{"$error":"#REF!"}},"2021-03-09",{"$f":"INDEX(شهر3!#REF!,MATCH((B462&\"*\"&G462&\"*\"&D462&\"*\"&E462),شهر3!#REF!&\"*\"&شهر3!#REF!&\"*\"&شهر3!#REF!&\"*\"&شهر3!#REF!,0))","v":{"$error":"#REF!"}}]
[2,559099,"زهير ضاري زيدان","العلواني","نفط",{"$f":"INDEX(شهر3!#REF!,MATCH((B463&\"*\"&G463&\"*\"&D463&\"*\"&E463),شهر3!#REF!&\"*\"&شهر3!#REF!&\"*\"&شهر3!#REF!&\"*\"&شهر3!#REF!,0))","v":{"$error":"#REF!"}},"2021-03-09",{"$f":"INDEX(شهر3!#REF!,MATCH((B463&\"*\"&G463&\"*\"&D463&\"*\"&E463),شهر3!#REF!&\"*\"&شهر3!#REF!&\"*\"&شهر3!#REF!&\"*\"&شهر3!#REF!,0))","v":{"$error":"#REF!"}}]
[3,17391,"سلام مزعل موذي","الرتاج","نفط",{"$f":"INDEX(شهر3!#REF!,MATCH((B464&\"*\"&G464&\"*\"&D464&\"*\"&E464),شهر3!#REF!&\"*\"&شهر3!#REF!&\"*\"&شهر3!#REF!&\"*\"&شهر3!#REF!,0))","v":{"$error":"#REF!"}},"2021-03-09",{"$f":"INDEX(شهر3!#REF!,MATCH((B464&\"*\"&G464&\"*\"&D464&\"*\"&E464),شهر3!#REF!&\"*\"&شهر3!#REF!&\"*\"&شهر3!#REF!&\"*\"&شهر3!#REF!,0))","v":{"$error":"#REF!"}}]
[4,61548,"شعيب ضاري زيدان","الكوثر","نفط",{"$f":"INDEX(شهر3!#REF!,MATCH((B465&\"*\"&G465&\"*\"&D465&\"*\"&E465),شهر3!#REF!&\"*\"&شهر3!#REF!&\"*\"&شهر3!#REF!&\"*\"&شهر3!#REF!,0))","v":{"$error":"#REF!"}},"2021-03-09",{"$f":"INDEX(شهر3!#REF!,MATCH((B465&\"*\"&G465&\"*\"&D465&\"*\"&E465),شهر3!#REF!&\"*\"&شهر3!#REF!&\"*\"&شهر3!#REF!&\"*\"&شهر3!#REF!,0))","v":{"$error":"#REF!"}}]
[5,37575,"علاوي صالح حماد","جوهرة الفلوجة","نفط",{"$f":"INDEX(شهر3!#REF!,MATCH((B466&\"*\"&G466&\"*\"&D466&\"*\"&E466),شهر3!#REF!&\"*\"&شهر3!#REF!&\"*\"&شهر3!#REF!&\"*\"&شهر3!#REF!,0))","v":{"$error":"#REF!"}},"2021-03-09",{"$f":"INDEX(شهر3!#REF!,MATCH((B466&\"*\"&G466&\"*\"&D466&\"*\"&E466),شهر3!#REF!&\"*\"&شهر3!#REF!&\"*\"&شهر3!#REF!&\"*\"&شهر3!#REF!,0))","v":{"$error":"#REF!"}}]
[6,72237,"محمد عارف مشرف","العالمية","نفط",{"$f":"INDEX(شهر3!#REF!,MATCH((B467&\"*\"&G467&\"*\"&D467&\"*\"&E467),شهر3!#REF!&\"*\"&شهر3!#REF!&\"*\"&شهر3!#REF!&\"*\"&شهر3!#REF!,0))","v":{"$error":"#REF!"}},"2021-03-09",{"$f":"INDEX(شهر3!#REF!,MATCH((B467&\"*\"&G467&\"*\"&D467&\"*\"&E467),شهر3!#REF!&\"*\"&شهر3!#REF!&\"*\"&شهر3!#REF!&\"*\"&شهر3!#REF!,0))","v":{"$error":"#REF!"}}]
[7,562842,"جاسم محمد عباس","الصابرين","نفط",{"$f":"INDEX(شهر3!#REF!,MATCH((B468&\"*\"&G468&\"*\"&D468&\"*\"&E468),شهر3!#REF!&\"*\"&شهر3!#REF!&\"*\"&شهر3!#REF!&\"*\"&شهر3!#REF!,0))","v":{"$error":"#REF!"}},"2021-03-09",{"$f":"INDEX(شهر3!#REF!,MATCH((B468&\"*\"&G468&\"*\"&D468&\"*\"&E468),شهر3!#REF!&\"*\"&شهر3!#REF!&\"*\"&شهر3!#REF!&\"*\"&شهر3!#REF!,0))","v":{"$error":"#REF!"}}]
[8,47008,"عمر علي فياض","الكورنيش","نفط",{"$f":"INDEX(شهر3!#REF!,MATCH((B469&\"*\"&G469&\"*\"&D469&\"*\"&E469),شهر3!#REF!&\"*\"&شهر3!#REF!&\"*\"&شهر3!#REF!&\"*\"&شهر3!#REF!,0))","v":{"$error":"#REF!"}},"2021-03-09",{"$f":"INDEX(شهر3!#REF!,MATCH((B469&\"*\"&G469&\"*\"&D469&\"*\"&E469),شهر3!#REF!&\"*\"&شهر3!#REF!&\"*\"&شهر3!#REF!&\"*\"&شهر3!#REF!,0))","v":{"$error":"#REF!"}}]
[9,78675,"سلوان سامي جاسم","المرزوق","نفط",{"$f":"INDEX(شهر3!#REF!,MATCH((B470&\"*\"&G470&\"*\"&D470&\"*\"&E470),شهر3!#REF!&\"*\"&شهر3!#REF!&\"*\"&شهر3!#REF!&\"*\"&شهر3!#REF!,0))","v":{"$error":"#REF!"}},"2021-03-09",{"$f":"INDEX(شهر3!#REF!,MATCH((B470&\"*\"&G470&\"*\"&D470&\"*\"&E470),شهر3!#REF!&\"*\"&شهر3!#REF!&\"*\"&شهر3!#REF!&\"*\"&شهر3!#REF!,0))","v":{"$error":"#REF!"}}]
[10,559010,"إيهاب خلف عويد","جنة عدن","نفط",{"$f":"INDEX(شهر3!#REF!,MATCH((B471&\"*\"&G471&\"*\"&D471&\"*\"&E471),شهر3!#REF!&\"*\"&شهر3!#REF!&\"*\"&شهر3!#REF!&\"*\"&شهر3!#REF!,0))","v":{"$error":"#REF!"}},"2021-03-09",{"$f":"INDEX(شهر3!#REF!,MATCH((B471&\"*\"&G471&\"*\"&D471&\"*\"&E471),شهر3!#REF!&\"*\"&شهر3!#REF!&\"*\"&شهر3!#REF!&\"*\"&شهر3!#REF!,0))","v":{"$error":"#REF!"}}]
[11,188881,"باسم رياح صبار","البنفسج","نفط",{"$f":"INDEX(شهر3!#REF!,MATCH((B472&\"*\"&G472&\"*\"&D472&\"*\"&E472),شهر3!#REF!&\"*\"&شهر3!#REF!&\"*\"&شهر3!#REF!&\"*\"&شهر3!#REF!,0))","v":{"$error":"#REF!"}},"2021-03-09",{"$f":"INDEX(شهر3!#REF!,MATCH((B472&\"*\"&G472&\"*\"&D472&\"*\"&E472),شهر3!#REF!&\"*\"&شهر3!#REF!&\"*\"&شهر3!#REF!&\"*\"&شهر3!#REF!,0))","v":{"$error":"#REF!"}}]
[12,72038,"محمد حميد محمد","الحقلانية","نفط",{"$f":"INDEX(شهر3!#REF!,MATCH((B473&\"*\"&G473&\"*\"&D473&\"*\"&E473),شهر3!#REF!&\"*\"&شهر3!#REF!&\"*\"&شهر3!#REF!&\"*\"&شهر3!#REF!,0))","v":{"$error":"#REF!"}},"2021-03-09",{"$f":"INDEX(شهر3!#REF!,MATCH((B473&\"*\"&G473&\"*\"&D473&\"*\"&E473),شهر3!#REF!&\"*\"&شهر3!#REF!&\"*\"&شهر3!#REF!&\"*\"&شهر3!#REF!,0))","v":{"$error":"#REF!"}}]
[1,55517,"مثنى لطيف محمد","م ت الفلوجة","نفط",{"$f":"INDEX(شهر3!#REF!,MATCH((B474&\"*\"&G474&\"*\"&D474&\"*\"&E474),شهر3!#REF!&\"*\"&شهر3!#REF!&\"*\"&شهر3!#REF!&\"*\"&شهر3!#REF!,0))","v":{"$error":"#REF!"}},"2021-03-09",{"$f":"INDEX(شهر3!#REF!,MATCH((B474&\"*\"&G474&\"*\"&D474&\"*\"&E474),شهر3!#REF!&\"*\"&شهر3!#REF!&\"*\"&شهر3!#REF!&\"*\"&شهر3!#REF!,0))","v":{"$error":"#REF!"}}]
[2,193455,"مهند حسن محمد","الحبانية القديمة","نفط",{"$f":"INDEX(شهر3!#REF!,MATCH((B475&\"*\"&G475&\"*\"&D475&\"*\"&E475),شهر3!#REF!&\"*\"&شهر3!#REF!&\"*\"&شهر3!#REF!&\"*\"&شهر3!#REF!,0))","v":{"$error":"#REF!"}},"2021-03-09",{"$f":"INDEX(شهر3!#REF!,MATCH((B475&\"*\"&G475&\"*\"&D475&\"*\"&E475),شهر3!#REF!&\"*\"&شهر3!#REF!&\"*\"&شهر3!#REF!&\"*\"&شهر3!#REF!,0))","v":{"$error":"#REF!"}}]
[1,61548,"شعيب ضاري زيدان","الرمادي الجديدة","نفط",{"$f":"INDEX(شهر3!#REF!,MATCH((B476&\"*\"&G476&\"*\"&D476&\"*\"&E476),شهر3!#REF!&\"*\"&شهر3!#REF!&\"*\"&شهر3!#REF!&\"*\"&شهر3!#REF!,0))","v":{"$error":"#REF!"}},"2021-03-10",{"$f":"INDEX(شهر3!#REF!,MATCH((B476&\"*\"&G476&\"*\"&D476&\"*\"&E476),شهر3!#REF!&\"*\"&شهر3!#REF!&\"*\"&شهر3!#REF!&\"*\"&شهر3!#REF!,0))","v":{"$error":"#REF!"}}]
[2,559099,"زهير ضاري زيدان","الكرمة","نفط",{"$f":"INDEX(شهر3!#REF!,MATCH((B477&\"*\"&G477&\"*\"&D477&\"*\"&E477),شهر3!#REF!&\"*\"&شهر3!#REF!&\"*\"&شهر3!#REF!&\"*\"&شهر3!#REF!,0))","v":{"$error":"#REF!"}},"2021-03-10",{"$f":"INDEX(شهر3!#REF!,MATCH((B477&\"*\"&G477&\"*\"&D477&\"*\"&E477),شهر3!#REF!&\"*\"&شهر3!#REF!&\"*\"&شهر3!#REF!&\"*\"&شهر3!#REF!,0))","v":{"$error":"#REF!"}}]
[3,17391,"سلام مزعل موذي","م ت الفلوجة","نفط",{"$f":"INDEX(شهر3!#REF!,MATCH((B478&\"*\"&G478&\"*\"&D478&\"*\"&E478),شهر3!#REF!&\"*\"&شهر3!#REF!&\"*\"&شهر3!#REF!&\"*\"&شهر3!#REF!,0))","v":{"$error":"#REF!"}},"2021-03-10",{"$f":"INDEX(شهر3!#REF!,MATCH((B478&\"*\"&G478&\"*\"&D478&\"*\"&E478),شهر3!#REF!&\"*\"&شهر3!#REF!&\"*\"&شهر3!#REF!&\"*\"&شهر3!#REF!,0))","v":{"$error":"#REF!"}}]
[4,75567,"عثمان عبد جاسم","الصقلاوية","نفط",{"$f":"INDEX(شهر3!#REF!,MATCH((B479&\"*\"&G479&\"*\"&D479&\"*\"&E479),شهر3!#REF!&\"*\"&شهر3!#REF!&\"*\"&شهر3!#REF!&\"*\"&شهر3!#REF!,0))","v":{"$error":"#REF!"}},"2021-03-10",{"$f":"INDEX(شهر3!#REF!,MATCH((B479&\"*\"&G479&\"*\"&D479&\"*\"&E479),شهر3!#REF!&\"*\"&شهر3!#REF!&\"*\"&شهر3!#REF!&\"*\"&شهر3!#REF!,0))","v":{"$error":"#REF!"}}]
[5,72829,"حبيب عبدالله سناد","م ت الرمادي","نفط",{"$f":"INDEX(شهر3!#REF!,MATCH((B480&\"*\"&G480&\"*\"&D480&\"*\"&E480),شهر3!#REF!&\"*\"&شهر3!#REF!&\"*\"&شهر3!#REF!&\"*\"&شهر3!#REF!,0))","v":{"$error":"#REF!"}},"2021-03-10",{"$f":"INDEX(شهر3!#REF!,MATCH((B480&\"*\"&G480&\"*\"&D480&\"*\"&E480),شهر3!#REF!&\"*\"&شهر3!#REF!&\"*\"&شهر3!#REF!&\"*\"&شهر3!#REF!,0))","v":{"$error":"#REF!"}}]
[6,136833,"أسامة جمعة طراد","الرمادي السريع","نفط",{"$f":"INDEX(شهر3!#REF!,MATCH((B481&\"*\"&G481&\"*\"&D481&\"*\"&E481),شهر3!#REF!&\"*\"&شهر3!#REF!&\"*\"&شهر3!#REF!&\"*\"&شهر3!#REF!,0))","v":{"$error":"#REF!"}},"2021-03-10",{"$f":"INDEX(شهر3!#REF!,MATCH((B481&\"*\"&G481&\"*\"&D481&\"*\"&E481),شهر3!#REF!&\"*\"&شهر3!#REF!&\"*\"&شهر3!#REF!&\"*\"&شهر3!#REF!,0))","v":{"$error":"#REF!"}}]
[7,72237,"محمد عارف مشرف","م ت الفلوجة","نفط",{"$f":"INDEX(شهر3!#REF!,MATCH((B482&\"*\"&G482&\"*\"&D482&\"*\"&E482),شهر3!#REF!&\"*\"&شهر3!#REF!&\"*\"&شهر3!#REF!&\"*\"&شهر3!#REF!,0))","v":{"$error":"#REF!"}},"2021-03-10",{"$f":"INDEX(شهر3!#REF!,MATCH((B482&\"*\"&G482&\"*\"&D482&\"*\"&E482),شهر3!#REF!&\"*\"&شهر3!#REF!&\"*\"&شهر3!#REF!&\"*\"&شهر3!#REF!,0))","v":{"$error":"#REF!"}}]
[1,559099,{"$f":"VLOOKUP(B483,برقية!$A$2:$B$377,2,FALSE)","v":"زهير ضاري زيدان"},"المحيط","نفط",{"$f":"INDEX(شهر3!#REF!,MATCH((B483&\"*\"&G483&\"*\"&D483&\"*\"&E483),شهر3!#REF!&\"*\"&شهر3!#REF!&\"*\"&شهر3!#REF!&\"*\"&شهر3!#REF!,0))","v":{"$error":"#REF!"}},"2021-03-11",{"$f":"INDEX(شهر3!#REF!,MATCH((B483&\"*\"&G483&\"*\"&D483&\"*\"&E483),شهر3!#REF!&\"*\"&شهر3!#REF!&\"*\"&شهر3!#REF!&\"*\"&شهر3!#REF!,0))","v":{"$error":"#REF!"}}]
[2,61548,{"$f":"VLOOKUP(B484,برقية!$A$2:$B$377,2,FALSE)","v":"شعيب ضاري زيدان"},"الفلوجة الجديدة","نفط",{"$f":"INDEX(شهر3!#REF!,MATCH((B484&\"*\"&G484&\"*\"&D484&\"*\"&E484),شهر3!#REF!&\"*\"&شهر3!#REF!&\"*\"&شهر3!#REF!&\"*\"&شهر3!#REF!,0))","v":{"$error":"#REF!"}},"2021-03-11",{"$f":"INDEX(شهر3!#REF!,MATCH((B484&\"*\"&G484&\"*\"&D484&\"*\"&E484),شهر3!#REF!&\"*\"&شهر3!#REF!&\"*\"&شهر3!#REF!&\"*\"&شهر3!#REF!,0))","v":{"$error":"#REF!"}}]
[3,17391,{"$f":"VLOOKUP(B485,برقية!$A$2:$B$377,2,FALSE)","v":"سلام مزعل موذي"},"الفراجي","نفط",{"$f":"INDEX(شهر3!#REF!,MATCH((B485&\"*\"&G485&\"*\"&D485&\"*\"&E485),شهر3!#REF!&\"*\"&شهر3!#REF!&\"*\"&شهر3!#REF!&\"*\"&شهر3!#REF!,0))","v":{"$error":"#REF!"}},"2021-03-11",{"$f":"INDEX(شهر3!#REF!,MATCH((B485&\"*\"&G485&\"*\"&D485&\"*\"&E485),شهر3!#REF!&\"*\"&شهر3!#REF!&\"*\"&شهر3!#REF!&\"*\"&شهر3!#REF!,0))","v":{"$error":"#REF!"}}]
[4,10321,{"$f":"VLOOKUP(B486,برقية!$A$2:$B$377,2,FALSE)","v":"حاتم محمود ناصر"},"النهوض","نفط",{"$f":"INDEX(شهر3!#REF!,MATCH((B486&\"*\"&G486&\"*\"&D486&\"*\"&E486),شهر3!#REF!&\"*\"&شهر3!#REF!&\"*\"&شهر3!#REF!&\"*\"&شهر3!#REF!,0))","v":{"$error":"#REF!"}},"2021-03-11",{"$f":"INDEX(شهر3!#REF!,MATCH((B486&\"*\"&G486&\"*\"&D486&\"*\"&E486),شهر3!#REF!&\"*\"&شهر3!#REF!&\"*\"&شهر3!#REF!&\"*\"&شهر3!#REF!,0))","v":{"$error":"#REF!"}}]
[5,579,{"$f":"VLOOKUP(B487,برقية!$A$2:$B$377,2,FALSE)","v":"ماهر صعب حسين"},"جوهرة الفلوجة","نفط",{"$f":"INDEX(شهر3!#REF!,MATCH((B487&\"*\"&G487&\"*\"&D487&\"*\"&E487),شهر3!#REF!&\"*\"&شهر3!#REF!&\"*\"&شهر3!#REF!&\"*\"&شهر3!#REF!,0))","v":{"$error":"#REF!"}},"2021-03-11",{"$f":"INDEX(شهر3!#REF!,MATCH((B487&\"*\"&G487&\"*\"&D487&\"*\"&E487),شهر3!#REF!&\"*\"&شهر3!#REF!&\"*\"&شهر3!#REF!&\"*\"&شهر3!#REF!,0))","v":{"$error":"#REF!"}}]
[null,null,{"$f":"VLOOKUP(B488,برقية!$A$2:$B$377,2,FALSE)","v":{"$error":"#N/A"}},null,null,{"$f":"INDEX(شهر3!#REF!,MATCH((B488&\"*\"&G488&\"*\"&D488&\"*\"&E488),شهر3!#REF!&\"*\"&شهر3!#REF!&\"*\"&شهر3!#REF!&\"*\"&شهر3!#REF!,0))","v":{"$error":"#REF!"}},null,{"$f":"INDEX(شهر3!#REF!,MATCH((B488&\"*\"&G488&\"*\"&D488&\"*\"&E488),شهر3!#REF!&\"*\"&شهر3!#REF!&\"*\"&شهر3!#REF!&\"*\"&شهر3!#REF!,0))","v":{"$error":"#REF!"}}]
[null,null,{"$f":"VLOOKUP(B489,برقية!$A$2:$B$377,2,FALSE)","v":{"$error":"#N/A"}},null,null,{"$f":"INDEX(شهر3!#REF!,MATCH((B489&\"*\"&G489&\"*\"&D489&\"*\"&E489),شهر3!#REF!&\"*\"&شهر3!#REF!&\"*\"&شهر3!#REF!&\"*\"&شهر3!#REF!,0))","v":{"$error":"#REF!"}},null,{"$f":"INDEX(شهر3!#REF!,MATCH((B489&\"*\"&G489&\"*\"&D489&\"*\"&E489),شهر3!#REF!&\"*\"&شهر3!#REF!&\"*\"&شهر3!#REF!&\"*\"&شهر3!#REF!,0))","v":{"$error":"#REF!"}}]
[null,null,{"$f":"VLOOKUP(B490,برقية!$A$2:$B$377,2,FALSE)","v":{"$error":"#N/A"}},null,null,{"$f":"INDEX(شهر3!#REF!,MATCH((B490&\"*\"&G490&\"*\"&D490&\"*\"&E490),شهر3!#REF!&\"*\"&شهر3!#REF!&\"*\"&شهر3!#REF!&\"*\"&شهر3!#REF!,0))","v":{"$error":"#REF!"}},null,{"$f":"INDEX(شهر3!#REF!,MATCH((B490&\"*\"&G490&\"*\"&D490&\"*\"&E490),شهر3!#REF!&\"*\"&شهر3!#REF!&\"*\"&شهر3!#REF!&\"*\"&شهر3!#REF!,0))","v":{"$error":"#REF!"}}]
[null,null,{"$f":"VLOOKUP(B491,برقية!$A$2:$B$377,2,FALSE)","v":{"$error":"#N/A"}},null,null,{"$f":"INDEX(شهر3!#REF!,MATCH((B491&\"*\"&G491&\"*\"&D491&\"*\"&E491),شهر3!#REF!&\"*\"&شهر3!#REF!&\"*\"&شهر3!#REF!&\"*\"&شهر3!#REF!,0))","v":{"$error":"#REF!"}},null,{"$f":"INDEX(شهر3!#REF!,MATCH((B491&\"*\"&G491&\"*\"&D491&\"*\"&E491),شهر3!#REF!&\"*\"&شهر3!#REF!&\"*\"&شهر3!#REF!&\"*\"&شهر3!#REF!,0))","v":{"$error":"#REF!"}}]
[null,null,{"$f":"VLOOKUP(B492,برقية!$A$2:$B$377,2,FALSE)","v":{"$error":"#N/A"}},null,null,{"$f":"INDEX(شهر3!#REF!,MATCH((B492&\"*\"&G492&\"*\"&D492&\"*\"&E492),شهر3!#REF!&\"*\"&شهر3!#REF!&\"*\"&شهر3!#REF!&\"*\"&شهر3!#REF!,0))","v":{"$error":"#REF!"}},null,{"$f":"INDEX(شهر3!#REF!,MATCH((B492&\"*\"&G492&\"*\"&D492&\"*\"&E492),شهر3!#REF!&\"*\"&شهر3!#REF!&\"*\"&شهر3!#REF!&\"*\"&شهر3!#REF!,0))","v":{"$error":"#REF!"}}]
[null,null,{"$f":"VLOOKUP(B493,برقية!$A$2:$B$377,2,FALSE)","v":{"$error":"#N/A"}},null,null,{"$f":"INDEX(شهر3!#REF!,MATCH((B493&\"*\"&G493&\"*\"&D493&\"*\"&E493),شهر3!#REF!&\"*\"&شهر3!#REF!&\"*\"&شهر3!#REF!&\"*\"&شهر3!#REF!,0))","v":{"$error":"#REF!"}},null,{"$f":"INDEX(شهر3!#REF!,MATCH((B493&\"*\"&G493&\"*\"&D493&\"*\"&E493),شهر3!#REF!&\"*\"&شهر3!#REF!&\"*\"&شهر3!#REF!&\"*\"&شهر3!#REF!,0))","v":{"$error":"#REF!"}}]
[null,null,{"$f":"VLOOKUP(B494,برقية!$A$2:$B$377,2,FALSE)","v":{"$error":"#N/A"}},null,null,{"$f":"INDEX(شهر3!#REF!,MATCH((B494&\"*\"&G494&\"*\"&D494&\"*\"&E494),شهر3!#REF!&\"*\"&شهر3!#REF!&\"*\"&شهر3!#REF!&\"*\"&شهر3!#REF!,0))","v":{"$error":"#REF!"}},null,{"$f":"INDEX(شهر3!#REF!,MATCH((B494&\"*\"&G494&\"*\"&D494&\"*\"&E494),شهر3!#REF!&\"*\"&شهر3!#REF!&\"*\"&شهر3!#REF!&\"*\"&شهر3!#REF!,0))","v":{"$error":"#REF!"}}]
[null,null,{"$f":"VLOOKUP(B495,برقية!$A$2:$B$377,2,FALSE)","v":{"$error":"#N/A"}},null,null,{"$f":"INDEX(شهر3!#REF!,MATCH((B495&\"*\"&G495&\"*\"&D495&\"*\"&E495),شهر3!#REF!&\"*\"&شهر3!#REF!&\"*\"&شهر3!#REF!&\"*\"&شهر3!#REF!,0))","v":{"$error":"#REF!"}},null,{"$f":"INDEX(شهر3!#REF!,MATCH((B495&\"*\"&G495&\"*\"&D495&\"*\"&E495),شهر3!#REF!&\"*\"&شهر3!#REF!&\"*\"&شهر3!#REF!&\"*\"&شهر3!#REF!,0))","v":{"$error":"#REF!"}}]
[null,null,{"$f":"VLOOKUP(B496,برقية!$A$2:$B$377,2,FALSE)","v":{"$error":"#N/A"}},null,null,{"$f":"INDEX(شهر3!#REF!,MATCH((B496&\"*\"&G496&\"*\"&D496&\"*\"&E496),شهر3!#REF!&\"*\"&شهر3!#REF!&\"*\"&شهر3!#REF!&\"*\"&شهر3!#REF!,0))","v":{"$error":"#REF!"}},null,{"$f":"INDEX(شهر3!#REF!,MATCH((B496&\"*\"&G496&\"*\"&D496&\"*\"&E496),شهر3!#REF!&\"*\"&شهر3!#REF!&\"*\"&شهر3!#REF!&\"*\"&شهر3!#REF!,0))","v":{"$error":"#REF!"}}]
[null,null,{"$f":"VLOOKUP(B497,برقية!$A$2:$B$377,2,FALSE)","v":{"$error":"#N/A"}},null,null,{"$f":"INDEX(شهر3!#REF!,MATCH((B497&\"*\"&G497&\"*\"&D497&\"*\"&E497),شهر3!#REF!&\"*\"&شهر3!#REF!&\"*\"&شهر3!#REF!&\"*\"&شهر3!#REF!,0))","v":{"$error":"#REF!"}},null,{"$f":"INDEX(شهر3!#REF!,MATCH((B497&\"*\"&G497&\"*\"&D497&\"*\"&E497),شهر3!#REF!&\"*\"&شهر3!#REF!&\"*\"&شهر3!#REF!&\"*\"&شهر3!#REF!,0))","v":{"$error":"#REF!"}}]
[null,null,{"$f":"VLOOKUP(B498,برقية!$A$2:$B$377,2,FALSE)","v":{"$error":"#N/A"}},null,null,{"$f":"INDEX(شهر3!#REF!,MATCH((B498&\"*\"&G498&\"*\"&D498&\"*\"&E498),شهر3!#REF!&\"*\"&شهر3!#REF!&\"*\"&شهر3!#REF!&\"*\"&شهر3!#REF!,0))","v":{"$error":"#REF!"}},null,{"$f":"INDEX(شهر3!#REF!,MATCH((B498&\"*\"&G498&\"*\"&D498&\"*\"&E498),شهر3!#REF!&\"*\"&شهر3!#REF!&\"*\"&شهر3!#REF!&\"*\"&شهر3!#REF!,0))","v":{"$error":"#REF!"}}]
[null,null,{"$f":"VLOOKUP(B499,برقية!$A$2:$B$377,2,FALSE)","v":{"$error":"#N/A"}},null,null,{"$f":"INDEX(شهر3!#REF!,MATCH((B499&\"*\"&G499&\"*\"&D499&\"*\"&E499),شهر3!#REF!&\"*\"&شهر3!#REF!&\"*\"&شهر3!#REF!&\"*\"&شهر3!#REF!,0))","v":{"$error":"#REF!"}},null,{"$f":"INDEX(شهر3!#REF!,MATCH((B499&\"*\"&G499&\"*\"&D499&\"*\"&E499),شهر3!#REF!&\"*\"&شهر3!#REF!&\"*\"&شهر3!#REF!&\"*\"&شهر3!#REF!,0))","v":{"$error":"#REF!"}}]
[null,null,{"$f":"VLOOKUP(B500,برقية!$A$2:$B$377,2,FALSE)","v":{"$error":"#N/A"}},null,null,{"$f":"INDEX(شهر3!#REF!,MATCH((B500&\"*\"&G500&\"*\"&D500&\"*\"&E500),شهر3!#REF!&\"*\"&شهر3!#REF!&\"*\"&شهر3!#REF!&\"*\"&شهر3!#REF!,0))","v":{"$error":"#REF!"}},null,{"$f":"INDEX(شهر3!#REF!,MATCH((B500&\"*\"&G500&\"*\"&D500&\"*\"&E500),شهر3!#REF!&\"*\"&شهر3!#REF!&\"*\"&شهر3!#REF!&\"*\"&شهر3!#REF!,0))","v":{"$error":"#REF!"}}]
[null,null,{"$f":"VLOOKUP(B501,برقية!$A$2:$B$377,2,FALSE)","v":{"$error":"#N/A"}},null,null,{"$f":"INDEX(شهر3!#REF!,MATCH((B501&\"*\"&G501&\"*\"&D501&\"*\"&E501),شهر3!#REF!&\"*\"&شهر3!#REF!&\"*\"&شهر3!#REF!&\"*\"&شهر3!#REF!,0))","v":{"$error":"#REF!"}},null,{"$f":"INDEX(شهر3!#REF!,MATCH((B501&\"*\"&G501&\"*\"&D501&\"*\"&E501),شهر3!#REF!&\"*\"&شهر3!#REF!&\"*\"&شهر3!#REF!&\"*\"&شهر3!#REF!,0))","v":{"$error":"#REF!"}}]
[null,null,{"$f":"VLOOKUP(B502,برقية!$A$2:$B$377,2,FALSE)","v":{"$error":"#N/A"}},null,null,{"$f":"INDEX(شهر3!#REF!,MATCH((B502&\"*\"&G502&\"*\"&D502&\"*\"&E502),شهر3!#REF!&\"*\"&شهر3!#REF!&\"*\"&شهر3!#REF!&\"*\"&شهر3!#REF!,0))","v":{"$error":"#REF!"}},null,{"$f":"INDEX(شهر3!#REF!,MATCH((B502&\"*\"&G502&\"*\"&D502&\"*\"&E502),شهر3!#REF!&\"*\"&شهر3!#REF!&\"*\"&شهر3!#REF!&\"*\"&شهر3!#REF!,0))","v":{"$error":"#REF!"}}]
[null,null,{"$f":"VLOOKUP(B503,برقية!$A$2:$B$377,2,FALSE)","v":{"$error":"#N/A"}},null,null,{"$f":"INDEX(شهر3!#REF!,MATCH((B503&\"*\"&G503&\"*\"&D503&\"*\"&E503),شهر3!#REF!&\"*\"&شهر3!#REF!&\"*\"&شهر3!#REF!&\"*\"&شهر3!#REF!,0))","v":{"$error":"#REF!"}},null,{"$f":"INDEX(شهر3!#REF!,MATCH((B503&\"*\"&G503&\"*\"&D503&\"*\"&E503),شهر3!#REF!&\"*\"&شهر3!#REF!&\"*\"&شهر3!#REF!&\"*\"&شهر3!#REF!,0))","v":{"$error":"#REF!"}}]
[null,null,{"$f":"VLOOKUP(B504,برقية!$A$2:$B$377,2,FALSE)","v":{"$error":"#N/A"}},null,null,{"$f":"INDEX(شهر3!#REF!,MATCH((B504&\"*\"&G504&\"*\"&D504&\"*\"&E504),شهر3!#REF!&\"*\"&شهر3!#REF!&\"*\"&شهر3!#REF!&\"*\"&شهر3!#REF!,0))","v":{"$error":"#REF!"}},null,{"$f":"INDEX(شهر3!#REF!,MATCH((B504&\"*\"&G504&\"*\"&D504&\"*\"&E504),شهر3!#REF!&\"*\"&شهر3!#REF!&\"*\"&شهر3!#REF!&\"*\"&شهر3!#REF!,0))","v":{"$error":"#REF!"}}]
[null,null,{"$f":"VLOOKUP(B505,برقية!$A$2:$B$377,2,FALSE)","v":{"$error":"#N/A"}},null,null,{"$f":"INDEX(شهر3!#REF!,MATCH((B505&\"*\"&G505&\"*\"&D505&\"*\"&E505),شهر3!#REF!&\"*\"&شهر3!#REF!&\"*\"&شهر3!#REF!&\"*\"&شهر3!#REF!,0))","v":{"$error":"#REF!"}},null,{"$f":"INDEX(شهر3!#REF!,MATCH((B505&\"*\"&G505&\"*\"&D505&\"*\"&E505),شهر3!#REF!&\"*\"&شهر3!#REF!&\"*\"&شهر3!#REF!&\"*\"&شهر3!#REF!,0))","v":{"$error":"#REF!"}}]
[null,null,{"$f":"VLOOKUP(B506,برقية!$A$2:$B$377,2,FALSE)","v":{"$error":"#N/A"}},null,null,{"$f":"INDEX(شهر3!#REF!,MATCH((B506&\"*\"&G506&\"*\"&D506&\"*\"&E506),شهر3!#REF!&\"*\"&شهر3!#REF!&\"*\"&شهر3!#REF!&\"*\"&شهر3!#REF!,0))","v":{"$error":"#REF!"}},null,{"$f":"INDEX(شهر3!#REF!,MATCH((B506&\"*\"&G506&\"*\"&D506&\"*\"&E506),شهر3!#REF!&\"*\"&شهر3!#REF!&\"*\"&شهر3!#REF!&\"*\"&شهر3!#REF!,0))","v":{"$error":"#REF!"}}]
[null,null,{"$f":"VLOOKUP(B507,برقية!$A$2:$B$377,2,FALSE)","v":{"$error":"#N/A"}},null,null,{"$f":"INDEX(شهر3!#REF!,MATCH((B507&\"*\"&G507&\"*\"&D507&\"*\"&E507),شهر3!#REF!&\"*\"&شهر3!#REF!&\"*\"&شهر3!#REF!&\"*\"&شهر3!#REF!,0))","v":{"$error":"#REF!"}},null,{"$f":"INDEX(شهر3!#REF!,MATCH((B507&\"*\"&G507&\"*\"&D507&\"*\"&E507),شهر3!#REF!&\"*\"&شهر3!#REF!&\"*\"&شهر3!#REF!&\"*\"&شهر3!#REF!,0))","v":{"$error":"#REF!"}}]
[null,null,{"$f":"VLOOKUP(B508,برقية!$A$2:$B$377,2,FALSE)","v":{"$error":"#N/A"}},null,null,{"$f":"INDEX(شهر3!#REF!,MATCH((B508&\"*\"&G508&\"*\"&D508&\"*\"&E508),شهر3!#REF!&\"*\"&شهر3!#REF!&\"*\"&شهر3!#REF!&\"*\"&شهر3!#REF!,0))","v":{"$error":"#REF!"}},null,{"$f":"INDEX(شهر3!#REF!,MATCH((B508&\"*\"&G508&\"*\"&D508&\"*\"&E508),شهر3!#REF!&\"*\"&شهر3!#REF!&\"*\"&شهر3!#REF!&\"*\"&شهر3!#REF!,0))","v":{"$error":"#REF!"}}]
[null,null,{"$f":"VLOOKUP(B509,برقية!$A$2:$B$377,2,FALSE)","v":{"$error":"#N/A"}},null,null,{"$f":"INDEX(شهر3!#REF!,MATCH((B509&\"*\"&G509&\"*\"&D509&\"*\"&E509),شهر3!#REF!&\"*\"&شهر3!#REF!&\"*\"&شهر3!#REF!&\"*\"&شهر3!#REF!,0))","v":{"$error":"#REF!"}},null,{"$f":"INDEX(شهر3!#REF!,MATCH((B509&\"*\"&G509&\"*\"&D509&\"*\"&E509),شهر3!#REF!&\"*\"&شهر3!#REF!&\"*\"&شهر3!#REF!&\"*\"&شهر3!#REF!,0))","v":{"$error":"#REF!"}}]
[null,null,{"$f":"VLOOKUP(B510,برقية!$A$2:$B$377,2,FALSE)","v":{"$error":"#N/A"}},null,null,{"$f":"INDEX(شهر3!#REF!,MATCH((B510&\"*\"&G510&\"*\"&D510&\"*\"&E510),شهر3!#REF!&\"*\"&شهر3!#REF!&\"*\"&شهر3!#REF!&\"*\"&شهر3!#REF!,0))","v":{"$error":"#REF!"}},null,{"$f":"INDEX(شهر3!#REF!,MATCH((B510&\"*\"&G510&\"*\"&D510&\"*\"&E510),شهر3!#REF!&\"*\"&شهر3!#REF!&\"*\"&شهر3!#REF!&\"*\"&شهر3!#REF!,0))","v":{"$error":"#REF!"}}]
[null,null,{"$f":"VLOOKUP(B511,برقية!$A$2:$B$377,2,FALSE)","v":{"$error":"#N/A"}},null,null,{"$f":"INDEX(شهر3!#REF!,MATCH((B511&\"*\"&G511&\"*\"&D511&\"*\"&E511),شهر3!#REF!&\"*\"&شهر3!#REF!&\"*\"&شهر3!#REF!&\"*\"&شهر3!#REF!,0))","v":{"$error":"#REF!"}},null,{"$f":"INDEX(شهر3!#REF!,MATCH((B511&\"*\"&G511&\"*\"&D511&\"*\"&E511),شهر3!#REF!&\"*\"&شهر3!#REF!&\"*\"&شهر3!#REF!&\"*\"&شهر3!#REF!,0))","v":{"$error":"#REF!"}}]
[null,null,{"$f":"VLOOKUP(B512,برقية!$A$2:$B$377,2,FALSE)","v":{"$error":"#N/A"}},null,null,{"$f":"INDEX(شهر3!#REF!,MATCH((B512&\"*\"&G512&\"*\"&D512&\"*\"&E512),شهر3!#REF!&\"*\"&شهر3!#REF!&\"*\"&شهر3!#REF!&\"*\"&شهر3!#REF!,0))","v":{"$error":"#REF!"}},null,{"$f":"INDEX(شهر3!#REF!,MATCH((B512&\"*\"&G512&\"*\"&D512&\"*\"&E512),شهر3!#REF!&\"*\"&شهر3!#REF!&\"*\"&شهر3!#REF!&\"*\"&شهر3!#REF!,0))","v":{"$error":"#REF!"}}]
[null,null,{"$f":"VLOOKUP(B513,برقية!$A$2:$B$377,2,FALSE)","v":{"$error":"#N/A"}},null,null,{"$f":"INDEX(شهر3!#REF!,MATCH((B513&\"*\"&G513&\"*\"&D513&\"*\"&E513),شهر3!#REF!&\"*\"&شهر3!#REF!&\"*\"&شهر3!#REF!&\"*\"&شهر3!#REF!,0))","v":{"$error":"#REF!"}},null,{"$f":"INDEX(شهر3!#REF!,MATCH((B513&\"*\"&G513&\"*\"&D513&\"*\"&E513),شهر3!#REF!&\"*\"&شهر3!#REF!&\"*\"&شهر3!#REF!&\"*\"&شهر3!#REF!,0))","v":{"$error":"#REF!"}}]
[null,null,{"$f":"VLOOKUP(B514,برقية!$A$2:$B$377,2,FALSE)","v":{"$error":"#N/A"}},null,null,{"$f":"INDEX(شهر3!#REF!,MATCH((B514&\"*\"&G514&\"*\"&D514&\"*\"&E514),شهر3!#REF!&\"*\"&شهر3!#REF!&\"*\"&شهر3!#REF!&\"*\"&شهر3!#REF!,0))","v":{"$error":"#REF!"}},null,{"$f":"INDEX(شهر3!#REF!,MATCH((B514&\"*\"&G514&\"*\"&D514&\"*\"&E514),شهر3!#REF!&\"*\"&شهر3!#REF!&\"*\"&شهر3!#REF!&\"*\"&شهر3!#REF!,0))","v":{"$error":"#REF!"}}]
[null,null,{"$f":"VLOOKUP(B515,برقية!$A$2:$B$377,2,FALSE)","v":{"$error":"#N/A"}},null,null,{"$f":"INDEX(شهر3!#REF!,MATCH((B515&\"*\"&G515&\"*\"&D515&\"*\"&E515),شهر3!#REF!&\"*\"&شهر3!#REF!&\"*\"&شهر3!#REF!&\"*\"&شهر3!#REF!,0))","v":{"$error":"#REF!"}},null,{"$f":"INDEX(شهر3!#REF!,MATCH((B515&\"*\"&G515&\"*\"&D515&\"*\"&E515),شهر3!#REF!&\"*\"&شهر3!#REF!&\"*\"&شهر3!#REF!&\"*\"&شهر3!#REF!,0))","v":{"$error":"#REF!"}}]
[null,null,{"$f":"VLOOKUP(B516,برقية!$A$2:$B$377,2,FALSE)","v":{"$error":"#N/A"}},null,null,{"$f":"INDEX(شهر3!#REF!,MATCH((B516&\"*\"&G516&\"*\"&D516&\"*\"&E516),شهر3!#REF!&\"*\"&شهر3!#REF!&\"*\"&شهر3!#REF!&\"*\"&شهر3!#REF!,0))","v":{"$error":"#REF!"}},null,{"$f":"INDEX(شهر3!#REF!,MATCH((B516&\"*\"&G516&\"*\"&D516&\"*\"&E516),شهر3!#REF!&\"*\"&شهر3!#REF!&\"*\"&شهر3!#REF!&\"*\"&شهر3!#REF!,0))","v":{"$error":"#REF!"}}]
[null,null,{"$f":"VLOOKUP(B517,برقية!$A$2:$B$377,2,FALSE)","v":{"$error":"#N/A"}},null,null,{"$f":"INDEX(شهر3!#REF!,MATCH((B517&\"*\"&G517&\"*\"&D517&\"*\"&E517),شهر3!#REF!&\"*\"&شهر3!#REF!&\"*\"&شهر3!#REF!&\"*\"&شهر3!#REF!,0))","v":{"$error":"#REF!"}},null,{"$f":"INDEX(شهر3!#REF!,MATCH((B517&\"*\"&G517&\"*\"&D517&\"*\"&E517),شهر3!#REF!&\"*\"&شهر3!#REF!&\"*\"&شهر3!#REF!&\"*\"&شهر3!#REF!,0))","v":{"$error":"#REF!"}}]
[null,null,{"$f":"VLOOKUP(B518,برقية!$A$2:$B$377,2,FALSE)","v":{"$error":"#N/A"}},null,null,{"$f":"INDEX(شهر3!#REF!,MATCH((B518&\"*\"&G518&\"*\"&D518&\"*\"&E518),شهر3!#REF!&\"*\"&شهر3!#REF!&\"*\"&شهر3!#REF!&\"*\"&شهر3!#REF!,0))","v":{"$error":"#REF!"}},null,{"$f":"INDEX(شهر3!#REF!,MATCH((B518&\"*\"&G518&\"*\"&D518&\"*\"&E518),شهر3!#REF!&\"*\"&شهر3!#REF!&\"*\"&شهر3!#REF!&\"*\"&شهر3!#REF!,0))","v":{"$error":"#REF!"}}]
[null,null,{"$f":"VLOOKUP(B519,برقية!$A$2:$B$377,2,FALSE)","v":{"$error":"#N/A"}},null,null,{"$f":"INDEX(شهر3!#REF!,MATCH((B519&\"*\"&G519&\"*\"&D519&\"*\"&E519),شهر3!#REF!&\"*\"&شهر3!#REF!&\"*\"&شهر3!#REF!&\"*\"&شهر3!#REF!,0))","v":{"$error":"#REF!"}},null,{"$f":"INDEX(شهر3!#REF!,MATCH((B519&\"*\"&G519&\"*\"&D519&\"*\"&E519),شهر3!#REF!&\"*\"&شهر3!#REF!&\"*\"&شهر3!#REF!&\"*\"&شهر3!#REF!,0))","v":{"$error":"#REF!"}}]
[null,null,{"$f":"VLOOKUP(B520,برقية!$A$2:$B$377,2,FALSE)","v":{"$error":"#N/A"}},null,null,{"$f":"INDEX(شهر3!#REF!,MATCH((B520&\"*\"&G520&\"*\"&D520&\"*\"&E520),شهر3!#REF!&\"*\"&شهر3!#REF!&\"*\"&شهر3!#REF!&\"*\"&شهر3!#REF!,0))","v":{"$error":"#REF!"}},null,{"$f":"INDEX(شهر3!#REF!,MATCH((B520&\"*\"&G520&\"*\"&D520&\"*\"&E520),شهر3!#REF!&\"*\"&شهر3!#REF!&\"*\"&شهر3!#REF!&\"*\"&شهر3!#REF!,0))","v":{"$error":"#REF!"}}]
[null,null,{"$f":"VLOOKUP(B521,برقية!$A$2:$B$377,2,FALSE)","v":{"$error":"#N/A"}},null,null,{"$f":"INDEX(شهر3!#REF!,MATCH((B521&\"*\"&G521&\"*\"&D521&\"*\"&E521),شهر3!#REF!&\"*\"&شهر3!#REF!&\"*\"&شهر3!#REF!&\"*\"&شهر3!#REF!,0))","v":{"$error":"#REF!"}},null,{"$f":"INDEX(شهر3!#REF!,MATCH((B521&\"*\"&G521&\"*\"&D521&\"*\"&E521),شهر3!#REF!&\"*\"&شهر3!#REF!&\"*\"&شهر3!#REF!&\"*\"&شهر3!#REF!,0))","v":{"$error":"#REF!"}}]
[null,null,{"$f":"VLOOKUP(B522,برقية!$A$2:$B$377,2,FALSE)","v":{"$error":"#N/A"}},null,null,{"$f":"INDEX(شهر3!#REF!,MATCH((B522&\"*\"&G522&\"*\"&D522&\"*\"&E522),شهر3!#REF!&\"*\"&شهر3!#REF!&\"*\"&شهر3!#REF!&\"*\"&شهر3!#REF!,0))","v":{"$error":"#REF!"}},null,{"$f":"INDEX(شهر3!#REF!,MATCH((B522&\"*\"&G522&\"*\"&D522&\"*\"&E522),شهر3!#REF!&\"*\"&شهر3!#REF!&\"*\"&شهر3!#REF!&\"*\"&شهر3!#REF!,0))","v":{"$error":"#REF!"}}]
[null,null,{"$f":"VLOOKUP(B523,برقية!$A$2:$B$377,2,FALSE)","v":{"$error":"#N/A"}},null,null,{"$f":"INDEX(شهر3!#REF!,MATCH((B523&\"*\"&G523&\"*\"&D523&\"*\"&E523),شهر3!#REF!&\"*\"&شهر3!#REF!&\"*\"&شهر3!#REF!&\"*\"&شهر3!#REF!,0))","v":{"$error":"#REF!"}},null,{"$f":"INDEX(شهر3!#REF!,MATCH((B523&\"*\"&G523&\"*\"&D523&\"*\"&E523),شهر3!#REF!&\"*\"&شهر3!#REF!&\"*\"&شهر3!#REF!&\"*\"&شهر3!#REF!,0))","v":{"$error":"#REF!"}}]
[null,null,{"$f":"VLOOKUP(B524,برقية!$A$2:$B$377,2,FALSE)","v":{"$error":"#N/A"}},null,null,{"$f":"INDEX(شهر3!#REF!,MATCH((B524&\"*\"&G524&\"*\"&D524&\"*\"&E524),شهر3!#REF!&\"*\"&شهر3!#REF!&\"*\"&شهر3!#REF!&\"*\"&شهر3!#REF!,0))","v":{"$error":"#REF!"}},null,{"$f":"INDEX(شهر3!#REF!,MATCH((B524&\"*\"&G524&\"*\"&D524&\"*\"&E524),شهر3!#REF!&\"*\"&شهر3!#REF!&\"*\"&شهر3!#REF!&\"*\"&شهر3!#REF!,0))","v":{"$error":"#REF!"}}]
[null,null,{"$f":"VLOOKUP(B525,برقية!$A$2:$B$377,2,FALSE)","v":{"$error":"#N/A"}},null,null,{"$f":"INDEX(شهر3!#REF!,MATCH((B525&\"*\"&G525&\"*\"&D525&\"*\"&E525),شهر3!#REF!&\"*\"&شهر3!#REF!&\"*\"&شهر3!#REF!&\"*\"&شهر3!#REF!,0))","v":{"$error":"#REF!"}},null,{"$f":"INDEX(شهر3!#REF!,MATCH((B525&\"*\"&G525&\"*\"&D525&\"*\"&E525),شهر3!#REF!&\"*\"&شهر3!#REF!&\"*\"&شهر3!#REF!&\"*\"&شهر3!#REF!,0))","v":{"$error":"#REF!"}}]
[null,null,{"$f":"VLOOKUP(B526,برقية!$A$2:$B$377,2,FALSE)","v":{"$error":"#N/A"}},null,null,{"$f":"INDEX(شهر3!#REF!,MATCH((B526&\"*\"&G526&\"*\"&D526&\"*\"&E526),شهر3!#REF!&\"*\"&شهر3!#REF!&\"*\"&شهر3!#REF!&\"*\"&شهر3!#REF!,0))","v":{"$error":"#REF!"}},null,{"$f":"INDEX(شهر3!#REF!,MATCH((B526&\"*\"&G526&\"*\"&D526&\"*\"&E526),شهر3!#REF!&\"*\"&شهر3!#REF!&\"*\"&شهر3!#REF!&\"*\"&شهر3!#REF!,0))","v":{"$error":"#REF!"}}]
[null,null,{"$f":"VLOOKUP(B527,برقية!$A$2:$B$377,2,FALSE)","v":{"$error":"#N/A"}},null,null,{"$f":"INDEX(شهر3!#REF!,MATCH((B527&\"*\"&G527&\"*\"&D527&\"*\"&E527),شهر3!#REF!&\"*\"&شهر3!#REF!&\"*\"&شهر3!#REF!&\"*\"&شهر3!#REF!,0))","v":{"$error":"#REF!"}},null,{"$f":"INDEX(شهر3!#REF!,MATCH((B527&\"*\"&G527&\"*\"&D527&\"*\"&E527),شهر3!#REF!&\"*\"&شهر3!#REF!&\"*\"&شهر3!#REF!&\"*\"&شهر3!#REF!,0))","v":{"$error":"#REF!"}}]
[null,null,{"$f":"VLOOKUP(B528,برقية!$A$2:$B$377,2,FALSE)","v":{"$error":"#N/A"}},null,null,{"$f":"INDEX(شهر3!#REF!,MATCH((B528&\"*\"&G528&\"*\"&D528&\"*\"&E528),شهر3!#REF!&\"*\"&شهر3!#REF!&\"*\"&شهر3!#REF!&\"*\"&شهر3!#REF!,0))","v":{"$error":"#REF!"}},null,{"$f":"INDEX(شهر3!#REF!,MATCH((B528&\"*\"&G528&\"*\"&D528&\"*\"&E528),شهر3!#REF!&\"*\"&شهر3!#REF!&\"*\"&شهر3!#REF!&\"*\"&شهر3!#REF!,0))","v":{"$error":"#REF!"}}]
[null,null,{"$f":"VLOOKUP(B529,برقية!$A$2:$B$377,2,FALSE)","v":{"$error":"#N/A"}},null,null,{"$f":"INDEX(شهر3!#REF!,MATCH((B529&\"*\"&G529&\"*\"&D529&\"*\"&E529),شهر3!#REF!&\"*\"&شهر3!#REF!&\"*\"&شهر3!#REF!&\"*\"&شهر3!#REF!,0))","v":{"$error":"#REF!"}},null,{"$f":"INDEX(شهر3!#REF!,MATCH((B529&\"*\"&G529&\"*\"&D529&\"*\"&E529),شهر3!#REF!&\"*\"&شهر3!#REF!&\"*\"&شهر3!#REF!&\"*\"&شهر3!#REF!,0))","v":{"$error":"#REF!"}}]
[null,null,{"$f":"VLOOKUP(B530,برقية!$A$2:$B$377,2,FALSE)","v":{"$error":"#N/A"}},null,null,{"$f":"INDEX(شهر3!#REF!,MATCH((B530&\"*\"&G530&\"*\"&D530&\"*\"&E530),شهر3!#REF!&\"*\"&شهر3!#REF!&\"*\"&شهر3!#REF!&\"*\"&شهر3!#REF!,0))","v":{"$error":"#REF!"}},null,{"$f":"INDEX(شهر3!#REF!,MATCH((B530&\"*\"&G530&\"*\"&D530&\"*\"&E530),شهر3!#REF!&\"*\"&شهر3!#REF!&\"*\"&شهر3!#REF!&\"*\"&شهر3!#REF!,0))","v":{"$error":"#REF!"}}]
[null,null,{"$f":"VLOOKUP(B531,برقية!$A$2:$B$377,2,FALSE)","v":{"$error":"#N/A"}},null,null,{"$f":"INDEX(شهر3!#REF!,MATCH((B531&\"*\"&G531&\"*\"&D531&\"*\"&E531),شهر3!#REF!&\"*\"&شهر3!#REF!&\"*\"&شهر3!#REF!&\"*\"&شهر3!#REF!,0))","v":{"$error":"#REF!"}},null,{"$f":"INDEX(شهر3!#REF!,MATCH((B531&\"*\"&G531&\"*\"&D531&\"*\"&E531),شهر3!#REF!&\"*\"&شهر3!#REF!&\"*\"&شهر3!#REF!&\"*\"&شهر3!#REF!,0))","v":{"$error":"#REF!"}}]
[null,null,{"$f":"VLOOKUP(B532,برقية!$A$2:$B$377,2,FALSE)","v":{"$error":"#N/A"}},null,null,{"$f":"INDEX(شهر3!#REF!,MATCH((B532&\"*\"&G532&\"*\"&D532&\"*\"&E532),شهر3!#REF!&\"*\"&شهر3!#REF!&\"*\"&شهر3!#REF!&\"*\"&شهر3!#REF!,0))","v":{"$error":"#REF!"}},null,{"$f":"INDEX(شهر3!#REF!,MATCH((B532&\"*\"&G532&\"*\"&D532&\"*\"&E532),شهر3!#REF!&\"*\"&شهر3!#REF!&\"*\"&شهر3!#REF!&\"*\"&شهر3!#REF!,0))","v":{"$error":"#REF!"}}]
[null,null,{"$f":"VLOOKUP(B533,برقية!$A$2:$B$377,2,FALSE)","v":{"$error":"#N/A"}},null,null,{"$f":"INDEX(شهر3!#REF!,MATCH((B533&\"*\"&G533&\"*\"&D533&\"*\"&E533),شهر3!#REF!&\"*\"&شهر3!#REF!&\"*\"&شهر3!#REF!&\"*\"&شهر3!#REF!,0))","v":{"$error":"#REF!"}},null,{"$f":"INDEX(شهر3!#REF!,MATCH((B533&\"*\"&G533&\"*\"&D533&\"*\"&E533),شهر3!#REF!&\"*\"&شهر3!#REF!&\"*\"&شهر3!#REF!&\"*\"&شهر3!#REF!,0))","v":{"$error":"#REF!"}}]
[null,null,{"$f":"VLOOKUP(B534,برقية!$A$2:$B$377,2,FALSE)","v":{"$error":"#N/A"}},null,null,{"$f":"INDEX(شهر3!#REF!,MATCH((B534&\"*\"&G534&\"*\"&D534&\"*\"&E534),شهر3!#REF!&\"*\"&شهر3!#REF!&\"*\"&شهر3!#REF!&\"*\"&شهر3!#REF!,0))","v":{"$error":"#REF!"}},null,{"$f":"INDEX(شهر3!#REF!,MATCH((B534&\"*\"&G534&\"*\"&D534&\"*\"&E534),شهر3!#REF!&\"*\"&شهر3!#REF!&\"*\"&شهر3!#REF!&\"*\"&شهر3!#REF!,0))","v":{"$error":"#REF!"}}]
[null,null,{"$f":"VLOOKUP(B535,برقية!$A$2:$B$377,2,FALSE)","v":{"$error":"#N/A"}},null,null,{"$f":"INDEX(شهر3!#REF!,MATCH((B535&\"*\"&G535&\"*\"&D535&\"*\"&E535),شهر3!#REF!&\"*\"&شهر3!#REF!&\"*\"&شهر3!#REF!&\"*\"&شهر3!#REF!,0))","v":{"$error":"#REF!"}},null,{"$f":"INDEX(شهر3!#REF!,MATCH((B535&\"*\"&G535&\"*\"&D535&\"*\"&E535),شهر3!#REF!&\"*\"&شهر3!#REF!&\"*\"&شهر3!#REF!&\"*\"&شهر3!#REF!,0))","v":{"$error":"#REF!"}}]
[null,null,{"$f":"VLOOKUP(B536,برقية!$A$2:$B$377,2,FALSE)","v":{"$error":"#N/A"}},null,null,{"$f":"INDEX(شهر3!#REF!,MATCH((B536&\"*\"&G536&\"*\"&D536&\"*\"&E536),شهر3!#REF!&\"*\"&شهر3!#REF!&\"*\"&شهر3!#REF!&\"*\"&شهر3!#REF!,0))","v":{"$error":"#REF!"}},null,{"$f":"INDEX(شهر3!#REF!,MATCH((B536&\"*\"&G536&\"*\"&D536&\"*\"&E536),شهر3!#REF!&\"*\"&شهر3!#REF!&\"*\"&شهر3!#REF!&\"*\"&شهر3!#REF!,0))","v":{"$error":"#REF!"}}]
[null,null,{"$f":"VLOOKUP(B537,برقية!$A$2:$B$377,2,FALSE)","v":{"$error":"#N/A"}},null,null,{"$f":"INDEX(شهر3!#REF!,MATCH((B537&\"*\"&G537&\"*\"&D537&\"*\"&E537),شهر3!#REF!&\"*\"&شهر3!#REF!&\"*\"&شهر3!#REF!&\"*\"&شهر3!#REF!,0))","v":{"$error":"#REF!"}},null,{"$f":"INDEX(شهر3!#REF!,MATCH((B537&\"*\"&G537&\"*\"&D537&\"*\"&E537),شهر3!#REF!&\"*\"&شهر3!#REF!&\"*\"&شهر3!#REF!&\"*\"&شهر3!#REF!,0))","v":{"$error":"#REF!"}}]
[null,null,{"$f":"VLOOKUP(B538,برقية!$A$2:$B$377,2,FALSE)","v":{"$error":"#N/A"}},null,null,{"$f":"INDEX(شهر3!#REF!,MATCH((B538&\"*\"&G538&\"*\"&D538&\"*\"&E538),شهر3!#REF!&\"*\"&شهر3!#REF!&\"*\"&شهر3!#REF!&\"*\"&شهر3!#REF!,0))","v":{"$error":"#REF!"}},null,{"$f":"INDEX(شهر3!#REF!,MATCH((B538&\"*\"&G538&\"*\"&D538&\"*\"&E538),شهر3!#REF!&\"*\"&شهر3!#REF!&\"*\"&شهر3!#REF!&\"*\"&شهر3!#REF!,0))","v":{"$error":"#REF!"}}]
[null,null,{"$f":"VLOOKUP(B539,برقية!$A$2:$B$377,2,FALSE)","v":{"$error":"#N/A"}},null,null,{"$f":"INDEX(شهر3!#REF!,MATCH((B539&\"*\"&G539&\"*\"&D539&\"*\"&E539),شهر3!#REF!&\"*\"&شهر3!#REF!&\"*\"&شهر3!#REF!&\"*\"&شهر3!#REF!,0))","v":{"$error":"#REF!"}},null,{"$f":"INDEX(شهر3!#REF!,MATCH((B539&\"*\"&G539&\"*\"&D539&\"*\"&E539),شهر3!#REF!&\"*\"&شهر3!#REF!&\"*\"&شهر3!#REF!&\"*\"&شهر3!#REF!,0))","v":{"$error":"#REF!"}}]
[null,null,{"$f":"VLOOKUP(B540,برقية!$A$2:$B$377,2,FALSE)","v":{"$error":"#N/A"}},null,null,{"$f":"INDEX(شهر3!#REF!,MATCH((B540&\"*\"&G540&\"*\"&D540&\"*\"&E540),شهر3!#REF!&\"*\"&شهر3!#REF!&\"*\"&شهر3!#REF!&\"*\"&شهر3!#REF!,0))","v":{"$error":"#REF!"}},null,{"$f":"INDEX(شهر3!#REF!,MATCH((B540&\"*\"&G540&\"*\"&D540&\"*\"&E540),شهر3!#REF!&\"*\"&شهر3!#REF!&\"*\"&شهر3!#REF!&\"*\"&شهر3!#REF!,0))","v":{"$error":"#REF!"}}]
[null,null,{"$f":"VLOOKUP(B541,برقية!$A$2:$B$377,2,FALSE)","v":{"$error":"#N/A"}},null,null,{"$f":"INDEX(شهر3!#REF!,MATCH((B541&\"*\"&G541&\"*\"&D541&\"*\"&E541),شهر3!#REF!&\"*\"&شهر3!#REF!&\"*\"&شهر3!#REF!&\"*\"&شهر3!#REF!,0))","v":{"$error":"#REF!"}},null,{"$f":"INDEX(شهر3!#REF!,MATCH((B541&\"*\"&G541&\"*\"&D541&\"*\"&E541),شهر3!#REF!&\"*\"&شهر3!#REF!&\"*\"&شهر3!#REF!&\"*\"&شهر3!#REF!,0))","v":{"$error":"#REF!"}}]
[null,null,{"$f":"VLOOKUP(B542,برقية!$A$2:$B$377,2,FALSE)","v":{"$error":"#N/A"}},null,null,{"$f":"INDEX(شهر3!#REF!,MATCH((B542&\"*\"&G542&\"*\"&D542&\"*\"&E542),شهر3!#REF!&\"*\"&شهر3!#REF!&\"*\"&شهر3!#REF!&\"*\"&شهر3!#REF!,0))","v":{"$error":"#REF!"}},null,{"$f":"INDEX(شهر3!#REF!,MATCH((B542&\"*\"&G542&\"*\"&D542&\"*\"&E542),شهر3!#REF!&\"*\"&شهر3!#REF!&\"*\"&شهر3!#REF!&\"*\"&شهر3!#REF!,0))","v":{"$error":"#REF!"}}]
[null,null,{"$f":"VLOOKUP(B543,برقية!$A$2:$B$377,2,FALSE)","v":{"$error":"#N/A"}},null,null,{"$f":"INDEX(شهر3!#REF!,MATCH((B543&\"*\"&G543&\"*\"&D543&\"*\"&E543),شهر3!#REF!&\"*\"&شهر3!#REF!&\"*\"&شهر3!#REF!&\"*\"&شهر3!#REF!,0))","v":{"$error":"#REF!"}},null,{"$f":"INDEX(شهر3!#REF!,MATCH((B543&\"*\"&G543&\"*\"&D543&\"*\"&E543),شهر3!#REF!&\"*\"&شهر3!#REF!&\"*\"&شهر3!#REF!&\"*\"&شهر3!#REF!,0))","v":{"$error":"#REF!"}}]
[null,null,{"$f":"VLOOKUP(B544,برقية!$A$2:$B$377,2,FALSE)","v":{"$error":"#N/A"}},null,null,{"$f":"INDEX(شهر3!#REF!,MATCH((B544&\"*\"&G544&\"*\"&D544&\"*\"&E544),شهر3!#REF!&\"*\"&شهر3!#REF!&\"*\"&شهر3!#REF!&\"*\"&شهر3!#REF!,0))","v":{"$error":"#REF!"}},null,{"$f":"INDEX(شهر3!#REF!,MATCH((B544&\"*\"&G544&\"*\"&D544&\"*\"&E544),شهر3!#REF!&\"*\"&شهر3!#REF!&\"*\"&شهر3!#REF!&\"*\"&شهر3!#REF!,0))","v":{"$error":"#REF!"}}]
[null,null,{"$f":"VLOOKUP(B545,برقية!$A$2:$B$377,2,FALSE)","v":{"$error":"#N/A"}},null,null,{"$f":"INDEX(شهر3!#REF!,MATCH((B545&\"*\"&G545&\"*\"&D545&\"*\"&E545),شهر3!#REF!&\"*\"&شهر3!#REF!&\"*\"&شهر3!#REF!&\"*\"&شهر3!#REF!,0))","v":{"$error":"#REF!"}},null,{"$f":"INDEX(شهر3!#REF!,MATCH((B545&\"*\"&G545&\"*\"&D545&\"*\"&E545),شهر3!#REF!&\"*\"&شهر3!#REF!&\"*\"&شهر3!#REF!&\"*\"&شهر3!#REF!,0))","v":{"$error":"#REF!"}}]
[null,null,{"$f":"VLOOKUP(B546,برقية!$A$2:$B$377,2,FALSE)","v":{"$error":"#N/A"}},null,null,{"$f":"INDEX(شهر3!#REF!,MATCH((B546&\"*\"&G546&\"*\"&D546&\"*\"&E546),شهر3!#REF!&\"*\"&شهر3!#REF!&\"*\"&شهر3!#REF!&\"*\"&شهر3!#REF!,0))","v":{"$error":"#REF!"}},null,{"$f":"INDEX(شهر3!#REF!,MATCH((B546&\"*\"&G546&\"*\"&D546&\"*\"&E546),شهر3!#REF!&\"*\"&شهر3!#REF!&\"*\"&شهر3!#REF!&\"*\"&شهر3!#REF!,0))","v":{"$error":"#REF!"}}]
[null,null,{"$f":"VLOOKUP(B547,برقية!$A$2:$B$377,2,FALSE)","v":{"$error":"#N/A"}},null,null,{"$f":"INDEX(شهر3!#REF!,MATCH((B547&\"*\"&G547&\"*\"&D547&\"*\"&E547),شهر3!#REF!&\"*\"&شهر3!#REF!&\"*\"&شهر3!#REF!&\"*\"&شهر3!#REF!,0))","v":{"$error":"#REF!"}},null,{"$f":"INDEX(شهر3!#REF!,MATCH((B547&\"*\"&G547&\"*\"&D547&\"*\"&E547),شهر3!#REF!&\"*\"&شهر3!#REF!&\"*\"&شهر3!#REF!&\"*\"&شهر3!#REF!,0))","v":{"$error":"#REF!"}}]
[null,null,{"$f":"VLOOKUP(B548,برقية!$A$2:$B$377,2,FALSE)","v":{"$error":"#N/A"}},null,null,{"$f":"INDEX(شهر3!#REF!,MATCH((B548&\"*\"&G548&\"*\"&D548&\"*\"&E548),شهر3!#REF!&\"*\"&شهر3!#REF!&\"*\"&شهر3!#REF!&\"*\"&شهر3!#REF!,0))","v":{"$error":"#REF!"}},null,{"$f":"INDEX(شهر3!#REF!,MATCH((B548&\"*\"&G548&\"*\"&D548&\"*\"&E548),شهر3!#REF!&\"*\"&شهر3!#REF!&\"*\"&شهر3!#REF!&\"*\"&شهر3!#REF!,0))","v":{"$error":"#REF!"}}]
[null,null,{"$f":"VLOOKUP(B549,برقية!$A$2:$B$377,2,FALSE)","v":{"$error":"#N/A"}},null,null,{"$f":"INDEX(شهر3!#REF!,MATCH((B549&\"*\"&G549&\"*\"&D549&\"*\"&E549),شهر3!#REF!&\"*\"&شهر3!#REF!&\"*\"&شهر3!#REF!&\"*\"&شهر3!#REF!,0))","v":{"$error":"#REF!"}},null,{"$f":"INDEX(شهر3!#REF!,MATCH((B549&\"*\"&G549&\"*\"&D549&\"*\"&E549),شهر3!#REF!&\"*\"&شهر3!#REF!&\"*\"&شهر3!#REF!&\"*\"&شهر3!#REF!,0))","v":{"$error":"#REF!"}}]
[null,null,{"$f":"VLOOKUP(B550,برقية!$A$2:$B$377,2,FALSE)","v":{"$error":"#N/A"}},null,null,{"$f":"INDEX(شهر3!#REF!,MATCH((B550&\"*\"&G550&\"*\"&D550&\"*\"&E550),شهر3!#REF!&\"*\"&شهر3!#REF!&\"*\"&شهر3!#REF!&\"*\"&شهر3!#REF!,0))","v":{"$error":"#REF!"}},null,{"$f":"INDEX(شهر3!#REF!,MATCH((B550&\"*\"&G550&\"*\"&D550&\"*\"&E550),شهر3!#REF!&\"*\"&شهر3!#REF!&\"*\"&شهر3!#REF!&\"*\"&شهر3!#REF!,0))","v":{"$error":"#REF!"}}]
[null,null,{"$f":"VLOOKUP(B551,برقية!$A$2:$B$377,2,FALSE)","v":{"$error":"#N/A"}},null,null,{"$f":"INDEX(شهر3!#REF!,MATCH((B551&\"*\"&G551&\"*\"&D551&\"*\"&E551),شهر3!#REF!&\"*\"&شهر3!#REF!&\"*\"&شهر3!#REF!&\"*\"&شهر3!#REF!,0))","v":{"$error":"#REF!"}},null,{"$f":"INDEX(شهر3!#REF!,MATCH((B551&\"*\"&G551&\"*\"&D551&\"*\"&E551),شهر3!#REF!&\"*\"&شهر3!#REF!&\"*\"&شهر3!#REF!&\"*\"&شهر3!#REF!,0))","v":{"$error":"#REF!"}}]
[null,null,{"$f":"VLOOKUP(B552,برقية!$A$2:$B$377,2,FALSE)","v":{"$error":"#N/A"}},null,null,{"$f":"INDEX(شهر3!#REF!,MATCH((B552&\"*\"&G552&\"*\"&D552&\"*\"&E552),شهر3!#REF!&\"*\"&شهر3!#REF!&\"*\"&شهر3!#REF!&\"*\"&شهر3!#REF!,0))","v":{"$error":"#REF!"}},null,{"$f":"INDEX(شهر3!#REF!,MATCH((B552&\"*\"&G552&\"*\"&D552&\"*\"&E552),شهر3!#REF!&\"*\"&شهر3!#REF!&\"*\"&شهر3!#REF!&\"*\"&شهر3!#REF!,0))","v":{"$error":"#REF!"}}]
[null,null,{"$f":"VLOOKUP(B553,برقية!$A$2:$B$377,2,FALSE)","v":{"$error":"#N/A"}},null,null,{"$f":"INDEX(شهر3!#REF!,MATCH((B553&\"*\"&G553&\"*\"&D553&\"*\"&E553),شهر3!#REF!&\"*\"&شهر3!#REF!&\"*\"&شهر3!#REF!&\"*\"&شهر3!#REF!,0))","v":{"$error":"#REF!"}},null,{"$f":"INDEX(شهر3!#REF!,MATCH((B553&\"*\"&G553&\"*\"&D553&\"*\"&E553),شهر3!#REF!&\"*\"&شهر3!#REF!&\"*\"&شهر3!#REF!&\"*\"&شهر3!#REF!,0))","v":{"$error":"#REF!"}}]
[null,null,{"$f":"VLOOKUP(B554,برقية!$A$2:$B$377,2,FALSE)","v":{"$error":"#N/A"}},null,null,{"$f":"INDEX(شهر3!#REF!,MATCH((B554&\"*\"&G554&\"*\"&D554&\"*\"&E554),شهر3!#REF!&\"*\"&شهر3!#REF!&\"*\"&شهر3!#REF!&\"*\"&شهر3!#REF!,0))","v":{"$error":"#REF!"}},null,{"$f":"INDEX(شهر3!#REF!,MATCH((B554&\"*\"&G554&\"*\"&D554&\"*\"&E554),شهر3!#REF!&\"*\"&شهر3!#REF!&\"*\"&شهر3!#REF!&\"*\"&شهر3!#REF!,0))","v":{"$error":"#REF!"}}]
[null,null,{"$f":"VLOOKUP(B555,برقية!$A$2:$B$377,2,FALSE)","v":{"$error":"#N/A"}},null,null,{"$f":"INDEX(شهر3!#REF!,MATCH((B555&\"*\"&G555&\"*\"&D555&\"*\"&E555),شهر3!#REF!&\"*\"&شهر3!#REF!&\"*\"&شهر3!#REF!&\"*\"&شهر3!#REF!,0))","v":{"$error":"#REF!"}},null,{"$f":"INDEX(شهر3!#REF!,MATCH((B555&\"*\"&G555&\"*\"&D555&\"*\"&E555),شهر3!#REF!&\"*\"&شهر3!#REF!&\"*\"&شهر3!#REF!&\"*\"&شهر3!#REF!,0))","v":{"$error":"#REF!"}}]
[null,null,{"$f":"VLOOKUP(B556,برقية!$A$2:$B$377,2,FALSE)","v":{"$error":"#N/A"}},null,null,{"$f":"INDEX(شهر3!#REF!,MATCH((B556&\"*\"&G556&\"*\"&D556&\"*\"&E556),شهر3!#REF!&\"*\"&شهر3!#REF!&\"*\"&شهر3!#REF!&\"*\"&شهر3!#REF!,0))","v":{"$error":"#REF!"}},null,{"$f":"INDEX(شهر3!#REF!,MATCH((B556&\"*\"&G556&\"*\"&D556&\"*\"&E556),شهر3!#REF!&\"*\"&شهر3!#REF!&\"*\"&شهر3!#REF!&\"*\"&شهر3!#REF!,0))","v":{"$error":"#REF!"}}]
[null,null,{"$f":"VLOOKUP(B557,برقية!$A$2:$B$377,2,FALSE)","v":{"$error":"#N/A"}},null,null,{"$f":"INDEX(شهر3!#REF!,MATCH((B557&\"*\"&G557&\"*\"&D557&\"*\"&E557),شهر3!#REF!&\"*\"&شهر3!#REF!&\"*\"&شهر3!#REF!&\"*\"&شهر3!#REF!,0))","v":{"$error":"#REF!"}},null,{"$f":"INDEX(شهر3!#REF!,MATCH((B557&\"*\"&G557&\"*\"&D557&\"*\"&E557),شهر3!#REF!&\"*\"&شهر3!#REF!&\"*\"&شهر3!#REF!&\"*\"&شهر3!#REF!,0))","v":{"$error":"#REF!"}}]
[null,null,{"$f":"VLOOKUP(B558,برقية!$A$2:$B$377,2,FALSE)","v":{"$error":"#N/A"}},null,null,{"$f":"INDEX(شهر3!#REF!,MATCH((B558&\"*\"&G558&\"*\"&D558&\"*\"&E558),شهر3!#REF!&\"*\"&شهر3!#REF!&\"*\"&شهر3!#REF!&\"*\"&شهر3!#REF!,0))","v":{"$error":"#REF!"}},null,{"$f":"INDEX(شهر3!#REF!,MATCH((B558&\"*\"&G558&\"*\"&D558&\"*\"&E558),شهر3!#REF!&\"*\"&شهر3!#REF!&\"*\"&شهر3!#REF!&\"*\"&شهر3!#REF!,0))","v":{"$error":"#REF!"}}]
[null,null,{"$f":"VLOOKUP(B559,برقية!$A$2:$B$377,2,FALSE)","v":{"$error":"#N/A"}},null,null,{"$f":"INDEX(شهر3!#REF!,MATCH((B559&\"*\"&G559&\"*\"&D559&\"*\"&E559),شهر3!#REF!&\"*\"&شهر3!#REF!&\"*\"&شهر3!#REF!&\"*\"&شهر3!#REF!,0))","v":{"$error":"#REF!"}},null,{"$f":"INDEX(شهر3!#REF!,MATCH((B559&\"*\"&G559&\"*\"&D559&\"*\"&E559),شهر3!#REF!&\"*\"&شهر3!#REF!&\"*\"&شهر3!#REF!&\"*\"&شهر3!#REF!,0))","v":{"$error":"#REF!"}}]
[null,null,{"$f":"VLOOKUP(B560,برقية!$A$2:$B$377,2,FALSE)","v":{"$error":"#N/A"}},null,null,{"$f":"INDEX(شهر3!#REF!,MATCH((B560&\"*\"&G560&\"*\"&D560&\"*\"&E560),شهر3!#REF!&\"*\"&شهر3!#REF!&\"*\"&شهر3!#REF!&\"*\"&شهر3!#REF!,0))","v":{"$error":"#REF!"}},null,{"$f":"INDEX(شهر3!#REF!,MATCH((B560&\"*\"&G560&\"*\"&D560&\"*\"&E560),شهر3!#REF!&\"*\"&شهر3!#REF!&\"*\"&شهر3!#REF!&\"*\"&شهر3!#REF!,0))","v":{"$error":"#REF!"}}]
[null,null,{"$f":"VLOOKUP(B561,برقية!$A$2:$B$377,2,FALSE)","v":{"$error":"#N/A"}},null,null,{"$f":"INDEX(شهر3!#REF!,MATCH((B561&\"*\"&G561&\"*\"&D561&\"*\"&E561),شهر3!#REF!&\"*\"&شهر3!#REF!&\"*\"&شهر3!#REF!&\"*\"&شهر3!#REF!,0))","v":{"$error":"#REF!"}},null,{"$f":"INDEX(شهر3!#REF!,MATCH((B561&\"*\"&G561&\"*\"&D561&\"*\"&E561),شهر3!#REF!&\"*\"&شهر3!#REF!&\"*\"&شهر3!#REF!&\"*\"&شهر3!#REF!,0))","v":{"$error":"#REF!"}}]
[null,null,{"$f":"VLOOKUP(B562,برقية!$A$2:$B$377,2,FALSE)","v":{"$error":"#N/A"}},null,null,{"$f":"INDEX(شهر3!#REF!,MATCH((B562&\"*\"&G562&\"*\"&D562&\"*\"&E562),شهر3!#REF!&\"*\"&شهر3!#REF!&\"*\"&شهر3!#REF!&\"*\"&شهر3!#REF!,0))","v":{"$error":"#REF!"}},null,{"$f":"INDEX(شهر3!#REF!,MATCH((B562&\"*\"&G562&\"*\"&D562&\"*\"&E562),شهر3!#REF!&\"*\"&شهر3!#REF!&\"*\"&شهر3!#REF!&\"*\"&شهر3!#REF!,0))","v":{"$error":"#REF!"}}]
[null,null,{"$f":"VLOOKUP(B563,برقية!$A$2:$B$377,2,FALSE)","v":{"$error":"#N/A"}},null,null,{"$f":"INDEX(شهر3!#REF!,MATCH((B563&\"*\"&G563&\"*\"&D563&\"*\"&E563),شهر3!#REF!&\"*\"&شهر3!#REF!&\"*\"&شهر3!#REF!&\"*\"&شهر3!#REF!,0))","v":{"$error":"#REF!"}},null,{"$f":"INDEX(شهر3!#REF!,MATCH((B563&\"*\"&G563&\"*\"&D563&\"*\"&E563),شهر3!#REF!&\"*\"&شهر3!#REF!&\"*\"&شهر3!#REF!&\"*\"&شهر3!#REF!,0))","v":{"$error":"#REF!"}}]
[null,null,{"$f":"VLOOKUP(B564,برقية!$A$2:$B$377,2,FALSE)","v":{"$error":"#N/A"}},null,null,{"$f":"INDEX(شهر3!#REF!,MATCH((B564&\"*\"&G564&\"*\"&D564&\"*\"&E564),شهر3!#REF!&\"*\"&شهر3!#REF!&\"*\"&شهر3!#REF!&\"*\"&شهر3!#REF!,0))","v":{"$error":"#REF!"}},null,{"$f":"INDEX(شهر3!#REF!,MATCH((B564&\"*\"&G564&\"*\"&D564&\"*\"&E564),شهر3!#REF!&\"*\"&شهر3!#REF!&\"*\"&شهر3!#REF!&\"*\"&شهر3!#REF!,0))","v":{"$error":"#REF!"}}]
[null,null,{"$f":"VLOOKUP(B565,برقية!$A$2:$B$377,2,FALSE)","v":{"$error":"#N/A"}},null,null,{"$f":"INDEX(شهر3!#REF!,MATCH((B565&\"*\"&G565&\"*\"&D565&\"*\"&E565),شهر3!#REF!&\"*\"&شهر3!#REF!&\"*\"&شهر3!#REF!&\"*\"&شهر3!#REF!,0))","v":{"$error":"#REF!"}},null,{"$f":"INDEX(شهر3!#REF!,MATCH((B565&\"*\"&G565&\"*\"&D565&\"*\"&E565),شهر3!#REF!&\"*\"&شهر3!#REF!&\"*\"&شهر3!#REF!&\"*\"&شهر3!#REF!,0))","v":{"$error":"#REF!"}}]
[null,null,{"$f":"VLOOKUP(B566,برقية!$A$2:$B$377,2,FALSE)","v":{"$error":"#N/A"}},null,null,{"$f":"INDEX(شهر3!#REF!,MATCH((B566&\"*\"&G566&\"*\"&D566&\"*\"&E566),شهر3!#REF!&\"*\"&شهر3!#REF!&\"*\"&شهر3!#REF!&\"*\"&شهر3!#REF!,0))","v":{"$error":"#REF!"}},null,{"$f":"INDEX(شهر3!#REF!,MATCH((B566&\"*\"&G566&\"*\"&D566&\"*\"&E566),شهر3!#REF!&\"*\"&شهر3!#REF!&\"*\"&شهر3!#REF!&\"*\"&شهر3!#REF!,0))","v":{"$error":"#REF!"}}]
[null,null,{"$f":"VLOOKUP(B567,برقية!$A$2:$B$377,2,FALSE)","v":{"$error":"#N/A"}},null,null,{"$f":"INDEX(شهر3!#REF!,MATCH((B567&\"*\"&G567&\"*\"&D567&\"*\"&E567),شهر3!#REF!&\"*\"&شهر3!#REF!&\"*\"&شهر3!#REF!&\"*\"&شهر3!#REF!,0))","v":{"$error":"#REF!"}},null,{"$f":"INDEX(شهر3!#REF!,MATCH((B567&\"*\"&G567&\"*\"&D567&\"*\"&E567),شهر3!#REF!&\"*\"&شهر3!#REF!&\"*\"&شهر3!#REF!&\"*\"&شهر3!#REF!,0))","v":{"$error":"#REF!"}}]
[null,null,{"$f":"VLOOKUP(B568,برقية!$A$2:$B$377,2,FALSE)","v":{"$error":"#N/A"}},null,null,{"$f":"INDEX(شهر3!#REF!,MATCH((B568&\"*\"&G568&\"*\"&D568&\"*\"&E568),شهر3!#REF!&\"*\"&شهر3!#REF!&\"*\"&شهر3!#REF!&\"*\"&شهر3!#REF!,0))","v":{"$error":"#REF!"}},null,{"$f":"INDEX(شهر3!#REF!,MATCH((B568&\"*\"&G568&\"*\"&D568&\"*\"&E568),شهر3!#REF!&\"*\"&شهر3!#REF!&\"*\"&شهر3!#REF!&\"*\"&شهر3!#REF!,0))","v":{"$error":"#REF!"}}]
[null,null,{"$f":"VLOOKUP(B569,برقية!$A$2:$B$377,2,FALSE)","v":{"$error":"#N/A"}},null,null,{"$f":"INDEX(شهر3!#REF!,MATCH((B569&\"*\"&G569&\"*\"&D569&\"*\"&E569),شهر3!#REF!&\"*\"&شهر3!#REF!&\"*\"&شهر3!#REF!&\"*\"&شهر3!#REF!,0))","v":{"$error":"#REF!"}},null,{"$f":"INDEX(شهر3!#REF!,MATCH((B569&\"*\"&G569&\"*\"&D569&\"*\"&E569),شهر3!#REF!&\"*\"&شهر3!#REF!&\"*\"&شهر3!#REF!&\"*\"&شهر3!#REF!,0))","v":{"$error":"#REF!"}}]
[null,null,{"$f":"VLOOKUP(B570,برقية!$A$2:$B$377,2,FALSE)","v":{"$error":"#N/A"}},null,null,{"$f":"INDEX(شهر3!#REF!,MATCH((B570&\"*\"&G570&\"*\"&D570&\"*\"&E570),شهر3!#REF!&\"*\"&شهر3!#REF!&\"*\"&شهر3!#REF!&\"*\"&شهر3!#REF!,0))","v":{"$error":"#REF!"}},null,{"$f":"INDEX(شهر3!#REF!,MATCH((B570&\"*\"&G570&\"*\"&D570&\"*\"&E570),شهر3!#REF!&\"*\"&شهر3!#REF!&\"*\"&شهر3!#REF!&\"*\"&شهر3!#REF!,0))","v":{"$error":"#REF!"}}]
[null,null,{"$f":"VLOOKUP(B571,برقية!$A$2:$B$377,2,FALSE)","v":{"$error":"#N/A"}},null,null,{"$f":"INDEX(شهر3!#REF!,MATCH((B571&\"*\"&G571&\"*\"&D571&\"*\"&E571),شهر3!#REF!&\"*\"&شهر3!#REF!&\"*\"&شهر3!#REF!&\"*\"&شهر3!#REF!,0))","v":{"$error":"#REF!"}},null,{"$f":"INDEX(شهر3!#REF!,MATCH((B571&\"*\"&G571&\"*\"&D571&\"*\"&E571),شهر3!#REF!&\"*\"&شهر3!#REF!&\"*\"&شهر3!#REF!&\"*\"&شهر3!#REF!,0))","v":{"$error":"#REF!"}}]
[null,null,{"$f":"VLOOKUP(B572,برقية!$A$2:$B$377,2,FALSE)","v":{"$error":"#N/A"}},null,null,{"$f":"INDEX(شهر3!#REF!,MATCH((B572&\"*\"&G572&\"*\"&D572&\"*\"&E572),شهر3!#REF!&\"*\"&شهر3!#REF!&\"*\"&شهر3!#REF!&\"*\"&شهر3!#REF!,0))","v":{"$error":"#REF!"}},null,{"$f":"INDEX(شهر3!#REF!,MATCH((B572&\"*\"&G572&\"*\"&D572&\"*\"&E572),شهر3!#REF!&\"*\"&شهر3!#REF!&\"*\"&شهر3!#REF!&\"*\"&شهر3!#REF!,0))","v":{"$error":"#REF!"}}]
[null,null,{"$f":"VLOOKUP(B573,برقية!$A$2:$B$377,2,FALSE)","v":{"$error":"#N/A"}},null,null,{"$f":"INDEX(شهر3!#REF!,MATCH((B573&\"*\"&G573&\"*\"&D573&\"*\"&E573),شهر3!#REF!&\"*\"&شهر3!#REF!&\"*\"&شهر3!#REF!&\"*\"&شهر3!#REF!,0))","v":{"$error":"#REF!"}},null,{"$f":"INDEX(شهر3!#REF!,MATCH((B573&\"*\"&G573&\"*\"&D573&\"*\"&E573),شهر3!#REF!&\"*\"&شهر3!#REF!&\"*\"&شهر3!#REF!&\"*\"&شهر3!#REF!,0))","v":{"$error":"#REF!"}}]
[null,null,{"$f":"VLOOKUP(B574,برقية!$A$2:$B$377,2,FALSE)","v":{"$error":"#N/A"}},null,null,{"$f":"INDEX(شهر3!#REF!,MATCH((B574&\"*\"&G574&\"*\"&D574&\"*\"&E574),شهر3!#REF!&\"*\"&شهر3!#REF!&\"*\"&شهر3!#REF!&\"*\"&شهر3!#REF!,0))","v":{"$error":"#REF!"}},null,{"$f":"INDEX(شهر3!#REF!,MATCH((B574&\"*\"&G574&\"*\"&D574&\"*\"&E574),شهر3!#REF!&\"*\"&شهر3!#REF!&\"*\"&شهر3!#REF!&\"*\"&شهر3!#REF!,0))","v":{"$error":"#REF!"}}]
[null,null,{"$f":"VLOOKUP(B575,برقية!$A$2:$B$377,2,FALSE)","v":{"$error":"#N/A"}},null,null,{"$f":"INDEX(شهر3!#REF!,MATCH((B575&\"*\"&G575&\"*\"&D575&\"*\"&E575),شهر3!#REF!&\"*\"&شهر3!#REF!&\"*\"&شهر3!#REF!&\"*\"&شهر3!#REF!,0))","v":{"$error":"#REF!"}},null,{"$f":"INDEX(شهر3!#REF!,MATCH((B575&\"*\"&G575&\"*\"&D575&\"*\"&E575),شهر3!#REF!&\"*\"&شهر3!#REF!&\"*\"&شهر3!#REF!&\"*\"&شهر3!#REF!,0))","v":{"$error":"#REF!"}}]
[null,null,{"$f":"VLOOKUP(B576,برقية!$A$2:$B$377,2,FALSE)","v":{"$error":"#N/A"}},null,null,{"$f":"INDEX(شهر3!#REF!,MATCH((B576&\"*\"&G576&\"*\"&D576&\"*\"&E576),شهر3!#REF!&\"*\"&شهر3!#REF!&\"*\"&شهر3!#REF!&\"*\"&شهر3!#REF!,0))","v":{"$error":"#REF!"}},null,{"$f":"INDEX(شهر3!#REF!,MATCH((B576&\"*\"&G576&\"*\"&D576&\"*\"&E576),شهر3!#REF!&\"*\"&شهر3!#REF!&\"*\"&شهر3!#REF!&\"*\"&شهر3!#REF!,0))","v":{"$error":"#REF!"}}]
[null,null,{"$f":"VLOOKUP(B577,برقية!$A$2:$B$377,2,FALSE)","v":{"$error":"#N/A"}},null,null,{"$f":"INDEX(شهر3!#REF!,MATCH((B577&\"*\"&G577&\"*\"&D577&\"*\"&E577),شهر3!#REF!&\"*\"&شهر3!#REF!&\"*\"&شهر3!#REF!&\"*\"&شهر3!#REF!,0))","v":{"$error":"#REF!"}},null,{"$f":"INDEX(شهر3!#REF!,MATCH((B577&\"*\"&G577&\"*\"&D577&\"*\"&E577),شهر3!#REF!&\"*\"&شهر3!#REF!&\"*\"&شهر3!#REF!&\"*\"&شهر3!#REF!,0))","v":{"$error":"#REF!"}}]
[null,null,{"$f":"VLOOKUP(B578,برقية!$A$2:$B$377,2,FALSE)","v":{"$error":"#N/A"}},null,null,{"$f":"INDEX(شهر3!#REF!,MATCH((B578&\"*\"&G578&\"*\"&D578&\"*\"&E578),شهر3!#REF!&\"*\"&شهر3!#REF!&\"*\"&شهر3!#REF!&\"*\"&شهر3!#REF!,0))","v":{"$error":"#REF!"}},null,{"$f":"INDEX(شهر3!#REF!,MATCH((B578&\"*\"&G578&\"*\"&D578&\"*\"&E578),شهر3!#REF!&\"*\"&شهر3!#REF!&\"*\"&شهر3!#REF!&\"*\"&شهر3!#REF!,0))","v":{"$error":"#REF!"}}]
[null,null,{"$f":"VLOOKUP(B579,برقية!$A$2:$B$377,2,FALSE)","v":{"$error":"#N/A"}},null,null,{"$f":"INDEX(شهر3!#REF!,MATCH((B579&\"*\"&G579&\"*\"&D579&\"*\"&E579),شهر3!#REF!&\"*\"&شهر3!#REF!&\"*\"&شهر3!#REF!&\"*\"&شهر3!#REF!,0))","v":{"$error":"#REF!"}},null,{"$f":"INDEX(شهر3!#REF!,MATCH((B579&\"*\"&G579&\"*\"&D579&\"*\"&E579),شهر3!#REF!&\"*\"&شهر3!#REF!&\"*\"&شهر3!#REF!&\"*\"&شهر3!#REF!,0))","v":{"$error":"#REF!"}}]
[null,null,{"$f":"VLOOKUP(B580,برقية!$A$2:$B$377,2,FALSE)","v":{"$error":"#N/A"}},null,null,{"$f":"INDEX(شهر3!#REF!,MATCH((B580&\"*\"&G580&\"*\"&D580&\"*\"&E580),شهر3!#REF!&\"*\"&شهر3!#REF!&\"*\"&شهر3!#REF!&\"*\"&شهر3!#REF!,0))","v":{"$error":"#REF!"}},null,{"$f":"INDEX(شهر3!#REF!,MATCH((B580&\"*\"&G580&\"*\"&D580&\"*\"&E580),شهر3!#REF!&\"*\"&شهر3!#REF!&\"*\"&شهر3!#REF!&\"*\"&شهر3!#REF!,0))","v":{"$error":"#REF!"}}]
[null,null,{"$f":"VLOOKUP(B581,برقية!$A$2:$B$377,2,FALSE)","v":{"$error":"#N/A"}},null,null,{"$f":"INDEX(شهر3!#REF!,MATCH((B581&\"*\"&G581&\"*\"&D581&\"*\"&E581),شهر3!#REF!&\"*\"&شهر3!#REF!&\"*\"&شهر3!#REF!&\"*\"&شهر3!#REF!,0))","v":{"$error":"#REF!"}},null,{"$f":"INDEX(شهر3!#REF!,MATCH((B581&\"*\"&G581&\"*\"&D581&\"*\"&E581),شهر3!#REF!&\"*\"&شهر3!#REF!&\"*\"&شهر3!#REF!&\"*\"&شهر3!#REF!,0))","v":{"$error":"#REF!"}}]
[null,null,{"$f":"VLOOKUP(B582,برقية!$A$2:$B$377,2,FALSE)","v":{"$error":"#N/A"}},null,null,{"$f":"INDEX(شهر3!#REF!,MATCH((B582&\"*\"&G582&\"*\"&D582&\"*\"&E582),شهر3!#REF!&\"*\"&شهر3!#REF!&\"*\"&شهر3!#REF!&\"*\"&شهر3!#REF!,0))","v":{"$error":"#REF!"}},null,{"$f":"INDEX(شهر3!#REF!,MATCH((B582&\"*\"&G582&\"*\"&D582&\"*\"&E582),شهر3!#REF!&\"*\"&شهر3!#REF!&\"*\"&شهر3!#REF!&\"*\"&شهر3!#REF!,0))","v":{"$error":"#REF!"}}]
[null,null,{"$f":"VLOOKUP(B583,برقية!$A$2:$B$377,2,FALSE)","v":{"$error":"#N/A"}},null,null,{"$f":"INDEX(شهر3!#REF!,MATCH((B583&\"*\"&G583&\"*\"&D583&\"*\"&E583),شهر3!#REF!&\"*\"&شهر3!#REF!&\"*\"&شهر3!#REF!&\"*\"&شهر3!#REF!,0))","v":{"$error":"#REF!"}},null,{"$f":"INDEX(شهر3!#REF!,MATCH((B583&\"*\"&G583&\"*\"&D583&\"*\"&E583),شهر3!#REF!&\"*\"&شهر3!#REF!&\"*\"&شهر3!#REF!&\"*\"&شهر3!#REF!,0))","v":{"$error":"#REF!"}}]
[null,null,{"$f":"VLOOKUP(B584,برقية!$A$2:$B$377,2,FALSE)","v":{"$error":"#N/A"}},null,null,{"$f":"INDEX(شهر3!#REF!,MATCH((B584&\"*\"&G584&\"*\"&D584&\"*\"&E584),شهر3!#REF!&\"*\"&شهر3!#REF!&\"*\"&شهر3!#REF!&\"*\"&شهر3!#REF!,0))","v":{"$error":"#REF!"}},null,{"$f":"INDEX(شهر3!#REF!,MATCH((B584&\"*\"&G584&\"*\"&D584&\"*\"&E584),شهر3!#REF!&\"*\"&شهر3!#REF!&\"*\"&شهر3!#REF!&\"*\"&شهر3!#REF!,0))","v":{"$error":"#REF!"}}]
[null,null,{"$f":"VLOOKUP(B585,برقية!$A$2:$B$377,2,FALSE)","v":{"$error":"#N/A"}},null,null,{"$f":"INDEX(شهر3!#REF!,MATCH((B585&\"*\"&G585&\"*\"&D585&\"*\"&E585),شهر3!#REF!&\"*\"&شهر3!#REF!&\"*\"&شهر3!#REF!&\"*\"&شهر3!#REF!,0))","v":{"$error":"#REF!"}},null,{"$f":"INDEX(شهر3!#REF!,MATCH((B585&\"*\"&G585&\"*\"&D585&\"*\"&E585),شهر3!#REF!&\"*\"&شهر3!#REF!&\"*\"&شهر3!#REF!&\"*\"&شهر3!#REF!,0))","v":{"$error":"#REF!"}}]
[null,null,{"$f":"VLOOKUP(B586,برقية!$A$2:$B$377,2,FALSE)","v":{"$error":"#N/A"}},null,null,{"$f":"INDEX(شهر3!#REF!,MATCH((B586&\"*\"&G586&\"*\"&D586&\"*\"&E586),شهر3!#REF!&\"*\"&شهر3!#REF!&\"*\"&شهر3!#REF!&\"*\"&شهر3!#REF!,0))","v":{"$error":"#REF!"}},null,{"$f":"INDEX(شهر3!#REF!,MATCH((B586&\"*\"&G586&\"*\"&D586&\"*\"&E586),شهر3!#REF!&\"*\"&شهر3!#REF!&\"*\"&شهر3!#REF!&\"*\"&شهر3!#REF!,0))","v":{"$error":"#REF!"}}]
[null,null,{"$f":"VLOOKUP(B587,برقية!$A$2:$B$377,2,FALSE)","v":{"$error":"#N/A"}},null,null,{"$f":"INDEX(شهر3!#REF!,MATCH((B587&\"*\"&G587&\"*\"&D587&\"*\"&E587),شهر3!#REF!&\"*\"&شهر3!#REF!&\"*\"&شهر3!#REF!&\"*\"&شهر3!#REF!,0))","v":{"$error":"#REF!"}},null,{"$f":"INDEX(شهر3!#REF!,MATCH((B587&\"*\"&G587&\"*\"&D587&\"*\"&E587),شهر3!#REF!&\"*\"&شهر3!#REF!&\"*\"&شهر3!#REF!&\"*\"&شهر3!#REF!,0))","v":{"$error":"#REF!"}}]
[null,null,{"$f":"VLOOKUP(B588,برقية!$A$2:$B$377,2,FALSE)","v":{"$error":"#N/A"}},null,null,{"$f":"INDEX(شهر3!#REF!,MATCH((B588&\"*\"&G588&\"*\"&D588&\"*\"&E588),شهر3!#REF!&\"*\"&شهر3!#REF!&\"*\"&شهر3!#REF!&\"*\"&شهر3!#REF!,0))","v":{"$error":"#REF!"}},null,{"$f":"INDEX(شهر3!#REF!,MATCH((B588&\"*\"&G588&\"*\"&D588&\"*\"&E588),شهر3!#REF!&\"*\"&شهر3!#REF!&\"*\"&شهر3!#REF!&\"*\"&شهر3!#REF!,0))","v":{"$error":"#REF!"}}]
[null,null,{"$f":"VLOOKUP(B589,برقية!$A$2:$B$377,2,FALSE)","v":{"$error":"#N/A"}},null,null,{"$f":"INDEX(شهر3!#REF!,MATCH((B589&\"*\"&G589&\"*\"&D589&\"*\"&E589),شهر3!#REF!&\"*\"&شهر3!#REF!&\"*\"&شهر3!#REF!&\"*\"&شهر3!#REF!,0))","v":{"$error":"#REF!"}},null,{"$f":"INDEX(شهر3!#REF!,MATCH((B589&\"*\"&G589&\"*\"&D589&\"*\"&E589),شهر3!#REF!&\"*\"&شهر3!#REF!&\"*\"&شهر3!#REF!&\"*\"&شهر3!#REF!,0))","v":{"$error":"#REF!"}}]
[null,null,{"$f":"VLOOKUP(B590,برقية!$A$2:$B$377,2,FALSE)","v":{"$error":"#N/A"}},null,null,{"$f":"INDEX(شهر3!#REF!,MATCH((B590&\"*\"&G590&\"*\"&D590&\"*\"&E590),شهر3!#REF!&\"*\"&شهر3!#REF!&\"*\"&شهر3!#REF!&\"*\"&شهر3!#REF!,0))","v":{"$error":"#REF!"}},null,{"$f":"INDEX(شهر3!#REF!,MATCH((B590&\"*\"&G590&\"*\"&D590&\"*\"&E590),شهر3!#REF!&\"*\"&شهر3!#REF!&\"*\"&شهر3!#REF!&\"*\"&شهر3!#REF!,0))","v":{"$error":"#REF!"}}]
[null,null,{"$f":"VLOOKUP(B591,برقية!$A$2:$B$377,2,FALSE)","v":{"$error":"#N/A"}},null,null,{"$f":"INDEX(شهر3!#REF!,MATCH((B591&\"*\"&G591&\"*\"&D591&\"*\"&E591),شهر3!#REF!&\"*\"&شهر3!#REF!&\"*\"&شهر3!#REF!&\"*\"&شهر3!#REF!,0))","v":{"$error":"#REF!"}},null,{"$f":"INDEX(شهر3!#REF!,MATCH((B591&\"*\"&G591&\"*\"&D591&\"*\"&E591),شهر3!#REF!&\"*\"&شهر3!#REF!&\"*\"&شهر3!#REF!&\"*\"&شهر3!#REF!,0))","v":{"$error":"#REF!"}}]
[null,null,{"$f":"VLOOKUP(B592,برقية!$A$2:$B$377,2,FALSE)","v":{"$error":"#N/A"}},null,null,{"$f":"INDEX(شهر3!#REF!,MATCH((B592&\"*\"&G592&\"*\"&D592&\"*\"&E592),شهر3!#REF!&\"*\"&شهر3!#REF!&\"*\"&شهر3!#REF!&\"*\"&شهر3!#REF!,0))","v":{"$error":"#REF!"}},null,{"$f":"INDEX(شهر3!#REF!,MATCH((B592&\"*\"&G592&\"*\"&D592&\"*\"&E592),شهر3!#REF!&\"*\"&شهر3!#REF!&\"*\"&شهر3!#REF!&\"*\"&شهر3!#REF!,0))","v":{"$error":"#REF!"}}]
[null,null,{"$f":"VLOOKUP(B593,برقية!$A$2:$B$377,2,FALSE)","v":{"$error":"#N/A"}},null,null,{"$f":"INDEX(شهر3!#REF!,MATCH((B593&\"*\"&G593&\"*\"&D593&\"*\"&E593),شهر3!#REF!&\"*\"&شهر3!#REF!&\"*\"&شهر3!#REF!&\"*\"&شهر3!#REF!,0))","v":{"$error":"#REF!"}},null,{"$f":"INDEX(شهر3!#REF!,MATCH((B593&\"*\"&G593&\"*\"&D593&\"*\"&E593),شهر3!#REF!&\"*\"&شهر3!#REF!&\"*\"&شهر3!#REF!&\"*\"&شهر3!#REF!,0))","v":{"$error":"#REF!"}}]
[null,null,{"$f":"VLOOKUP(B594,برقية!$A$2:$B$377,2,FALSE)","v":{"$error":"#N/A"}},null,null,{"$f":"INDEX(شهر3!#REF!,MATCH((B594&\"*\"&G594&\"*\"&D594&\"*\"&E594),شهر3!#REF!&\"*\"&شهر3!#REF!&\"*\"&شهر3!#REF!&\"*\"&شهر3!#REF!,0))","v":{"$error":"#REF!"}},null,{"$f":"INDEX(شهر3!#REF!,MATCH((B594&\"*\"&G594&\"*\"&D594&\"*\"&E594),شهر3!#REF!&\"*\"&شهر3!#REF!&\"*\"&شهر3!#REF!&\"*\"&شهر3!#REF!,0))","v":{"$error":"#REF!"}}]
[null,null,{"$f":"VLOOKUP(B595,برقية!$A$2:$B$377,2,FALSE)","v":{"$error":"#N/A"}},null,null,{"$f":"INDEX(شهر3!#REF!,MATCH((B595&\"*\"&G595&\"*\"&D595&\"*\"&E595),شهر3!#REF!&\"*\"&شهر3!#REF!&\"*\"&شهر3!#REF!&\"*\"&شهر3!#REF!,0))","v":{"$error":"#REF!"}},null,{"$f":"INDEX(شهر3!#REF!,MATCH((B595&\"*\"&G595&\"*\"&D595&\"*\"&E595),شهر3!#REF!&\"*\"&شهر3!#REF!&\"*\"&شهر3!#REF!&\"*\"&شهر3!#REF!,0))","v":{"$error":"#REF!"}}]
[null,null,{"$f":"VLOOKUP(B596,برقية!$A$2:$B$377,2,FALSE)","v":{"$error":"#N/A"}},null,null,{"$f":"INDEX(شهر3!#REF!,MATCH((B596&\"*\"&G596&\"*\"&D596&\"*\"&E596),شهر3!#REF!&\"*\"&شهر3!#REF!&\"*\"&شهر3!#REF!&\"*\"&شهر3!#REF!,0))","v":{"$error":"#REF!"}},null,{"$f":"INDEX(شهر3!#REF!,MATCH((B596&\"*\"&G596&\"*\"&D596&\"*\"&E596),شهر3!#REF!&\"*\"&شهر3!#REF!&\"*\"&شهر3!#REF!&\"*\"&شهر3!#REF!,0))","v":{"$error":"#REF!"}}]
[null,null,{"$f":"VLOOKUP(B597,برقية!$A$2:$B$377,2,FALSE)","v":{"$error":"#N/A"}},null,null,{"$f":"INDEX(شهر3!#REF!,MATCH((B597&\"*\"&G597&\"*\"&D597&\"*\"&E597),شهر3!#REF!&\"*\"&شهر3!#REF!&\"*\"&شهر3!#REF!&\"*\"&شهر3!#REF!,0))","v":{"$error":"#REF!"}},null,{"$f":"INDEX(شهر3!#REF!,MATCH((B597&\"*\"&G597&\"*\"&D597&\"*\"&E597),شهر3!#REF!&\"*\"&شهر3!#REF!&\"*\"&شهر3!#REF!&\"*\"&شهر3!#REF!,0))","v":{"$error":"#REF!"}}]
[null,null,{"$f":"VLOOKUP(B598,برقية!$A$2:$B$377,2,FALSE)","v":{"$error":"#N/A"}},null,null,{"$f":"INDEX(شهر3!#REF!,MATCH((B598&\"*\"&G598&\"*\"&D598&\"*\"&E598),شهر3!#REF!&\"*\"&شهر3!#REF!&\"*\"&شهر3!#REF!&\"*\"&شهر3!#REF!,0))","v":{"$error":"#REF!"}},null,{"$f":"INDEX(شهر3!#REF!,MATCH((B598&\"*\"&G598&\"*\"&D598&\"*\"&E598),شهر3!#REF!&\"*\"&شهر3!#REF!&\"*\"&شهر3!#REF!&\"*\"&شهر3!#REF!,0))","v":{"$error":"#REF!"}}]
[null,null,{"$f":"VLOOKUP(B599,برقية!$A$2:$B$377,2,FALSE)","v":{"$error":"#N/A"}},null,null,{"$f":"INDEX(شهر3!#REF!,MATCH((B599&\"*\"&G599&\"*\"&D599&\"*\"&E599),شهر3!#REF!&\"*\"&شهر3!#REF!&\"*\"&شهر3!#REF!&\"*\"&شهر3!#REF!,0))","v":{"$error":"#REF!"}},null,{"$f":"INDEX(شهر3!#REF!,MATCH((B599&\"*\"&G599&\"*\"&D599&\"*\"&E599),شهر3!#REF!&\"*\"&شهر3!#REF!&\"*\"&شهر3!#REF!&\"*\"&شهر3!#REF!,0))","v":{"$error":"#REF!"}}]
[null,null,{"$f":"VLOOKUP(B600,برقية!$A$2:$B$377,2,FALSE)","v":{"$error":"#N/A"}},null,null,{"$f":"INDEX(شهر3!#REF!,MATCH((B600&\"*\"&G600&\"*\"&D600&\"*\"&E600),شهر3!#REF!&\"*\"&شهر3!#REF!&\"*\"&شهر3!#REF!&\"*\"&شهر3!#REF!,0))","v":{"$error":"#REF!"}},null,{"$f":"INDEX(شهر3!#REF!,MATCH((B600&\"*\"&G600&\"*\"&D600&\"*\"&E600),شهر3!#REF!&\"*\"&شهر3!#REF!&\"*\"&شهر3!#REF!&\"*\"&شهر3!#REF!,0))","v":{"$error":"#REF!"}}]
[null,null,{"$f":"VLOOKUP(B601,برقية!$A$2:$B$377,2,FALSE)","v":{"$error":"#N/A"}},null,null,{"$f":"INDEX(شهر3!#REF!,MATCH((B601&\"*\"&G601&\"*\"&D601&\"*\"&E601),شهر3!#REF!&\"*\"&شهر3!#REF!&\"*\"&شهر3!#REF!&\"*\"&شهر3!#REF!,0))","v":{"$error":"#REF!"}},null,{"$f":"INDEX(شهر3!#REF!,MATCH((B601&\"*\"&G601&\"*\"&D601&\"*\"&E601),شهر3!#REF!&\"*\"&شهر3!#REF!&\"*\"&شهر3!#REF!&\"*\"&شهر3!#REF!,0))","v":{"$error":"#REF!"}}]
[null,null,{"$f":"VLOOKUP(B602,برقية!$A$2:$B$377,2,FALSE)","v":{"$error":"#N/A"}},null,null,{"$f":"INDEX(شهر3!#REF!,MATCH((B602&\"*\"&G602&\"*\"&D602&\"*\"&E602),شهر3!#REF!&\"*\"&شهر3!#REF!&\"*\"&شهر3!#REF!&\"*\"&شهر3!#REF!,0))","v":{"$error":"#REF!"}},null,{"$f":"INDEX(شهر3!#REF!,MATCH((B602&\"*\"&G602&\"*\"&D602&\"*\"&E602),شهر3!#REF!&\"*\"&شهر3!#REF!&\"*\"&شهر3!#REF!&\"*\"&شهر3!#REF!,0))","v":{"$error":"#REF!"}}]
[null,null,{"$f":"VLOOKUP(B603,برقية!$A$2:$B$377,2,FALSE)","v":{"$error":"#N/A"}},null,null,{"$f":"INDEX(شهر3!#REF!,MATCH((B603&\"*\"&G603&\"*\"&D603&\"*\"&E603),شهر3!#REF!&\"*\"&شهر3!#REF!&\"*\"&شهر3!#REF!&\"*\"&شهر3!#REF!,0))","v":{"$error":"#REF!"}},null,{"$f":"INDEX(شهر3!#REF!,MATCH((B603&\"*\"&G603&\"*\"&D603&\"*\"&E603),شهر3!#REF!&\"*\"&شهر3!#REF!&\"*\"&شهر3!#REF!&\"*\"&شهر3!#REF!,0))","v":{"$error":"#REF!"}}]
[null,null,{"$f":"VLOOKUP(B604,برقية!$A$2:$B$377,2,FALSE)","v":{"$error":"#N/A"}},null,null,{"$f":"INDEX(شهر3!#REF!,MATCH((B604&\"*\"&G604&\"*\"&D604&\"*\"&E604),شهر3!#REF!&\"*\"&شهر3!#REF!&\"*\"&شهر3!#REF!&\"*\"&شهر3!#REF!,0))","v":{"$error":"#REF!"}},null,{"$f":"INDEX(شهر3!#REF!,MATCH((B604&\"*\"&G604&\"*\"&D604&\"*\"&E604),شهر3!#REF!&\"*\"&شهر3!#REF!&\"*\"&شهر3!#REF!&\"*\"&شهر3!#REF!,0))","v":{"$error":"#REF!"}}]
[null,null,{"$f":"VLOOKUP(B605,برقية!$A$2:$B$377,2,FALSE)","v":{"$error":"#N/A"}},null,null,{"$f":"INDEX(شهر3!#REF!,MATCH((B605&\"*\"&G605&\"*\"&D605&\"*\"&E605),شهر3!#REF!&\"*\"&شهر3!#REF!&\"*\"&شهر3!#REF!&\"*\"&شهر3!#REF!,0))","v":{"$error":"#REF!"}},null,{"$f":"INDEX(شهر3!#REF!,MATCH((B605&\"*\"&G605&\"*\"&D605&\"*\"&E605),شهر3!#REF!&\"*\"&شهر3!#REF!&\"*\"&شهر3!#REF!&\"*\"&شهر3!#REF!,0))","v":{"$error":"#REF!"}}]
[null,null,{"$f":"VLOOKUP(B606,برقية!$A$2:$B$377,2,FALSE)","v":{"$error":"#N/A"}},null,null,{"$f":"INDEX(شهر3!#REF!,MATCH((B606&\"*\"&G606&\"*\"&D606&\"*\"&E606),شهر3!#REF!&\"*\"&شهر3!#REF!&\"*\"&شهر3!#REF!&\"*\"&شهر3!#REF!,0))","v":{"$error":"#REF!"}},null,{"$f":"INDEX(شهر3!#REF!,MATCH((B606&\"*\"&G606&\"*\"&D606&\"*\"&E606),شهر3!#REF!&\"*\"&شهر3!#REF!&\"*\"&شهر3!#REF!&\"*\"&شهر3!#REF!,0))","v":{"$error":"#REF!"}}]
[null,null,{"$f":"VLOOKUP(B607,برقية!$A$2:$B$377,2,FALSE)","v":{"$error":"#N/A"}},null,null,{"$f":"INDEX(شهر3!#REF!,MATCH((B607&\"*\"&G607&\"*\"&D607&\"*\"&E607),شهر3!#REF!&\"*\"&شهر3!#REF!&\"*\"&شهر3!#REF!&\"*\"&شهر3!#REF!,0))","v":{"$error":"#REF!"}},null,{"$f":"INDEX(شهر3!#REF!,MATCH((B607&\"*\"&G607&\"*\"&D607&\"*\"&E607),شهر3!#REF!&\"*\"&شهر3!#REF!&\"*\"&شهر3!#REF!&\"*\"&شهر3!#REF!,0))","v":{"$error":"#REF!"}}]
[null,null,{"$f":"VLOOKUP(B608,برقية!$A$2:$B$377,2,FALSE)","v":{"$error":"#N/A"}},null,null,{"$f":"INDEX(شهر3!#REF!,MATCH((B608&\"*\"&G608&\"*\"&D608&\"*\"&E608),شهر3!#REF!&\"*\"&شهر3!#REF!&\"*\"&شهر3!#REF!&\"*\"&شهر3!#REF!,0))","v":{"$error":"#REF!"}},null,{"$f":"INDEX(شهر3!#REF!,MATCH((B608&\"*\"&G608&\"*\"&D608&\"*\"&E608),شهر3!#REF!&\"*\"&شهر3!#REF!&\"*\"&شهر3!#REF!&\"*\"&شهر3!#REF!,0))","v":{"$error":"#REF!"}}]
[null,null,{"$f":"VLOOKUP(B609,برقية!$A$2:$B$377,2,FALSE)","v":{"$error":"#N/A"}},null,null,{"$f":"INDEX(شهر3!#REF!,MATCH((B609&\"*\"&G609&\"*\"&D609&\"*\"&E609),شهر3!#REF!&\"*\"&شهر3!#REF!&\"*\"&شهر3!#REF!&\"*\"&شهر3!#REF!,0))","v":{"$error":"#REF!"}},null,{"$f":"INDEX(شهر3!#REF!,MATCH((B609&\"*\"&G609&\"*\"&D609&\"*\"&E609),شهر3!#REF!&\"*\"&شهر3!#REF!&\"*\"&شهر3!#REF!&\"*\"&شهر3!#REF!,0))","v":{"$error":"#REF!"}}]
[null,null,{"$f":"VLOOKUP(B610,برقية!$A$2:$B$377,2,FALSE)","v":{"$error":"#N/A"}},null,null,{"$f":"INDEX(شهر3!#REF!,MATCH((B610&\"*\"&G610&\"*\"&D610&\"*\"&E610),شهر3!#REF!&\"*\"&شهر3!#REF!&\"*\"&شهر3!#REF!&\"*\"&شهر3!#REF!,0))","v":{"$error":"#REF!"}},null,{"$f":"INDEX(شهر3!#REF!,MATCH((B610&\"*\"&G610&\"*\"&D610&\"*\"&E610),شهر3!#REF!&\"*\"&شهر3!#REF!&\"*\"&شهر3!#REF!&\"*\"&شهر3!#REF!,0))","v":{"$error":"#REF!"}}]
[null,null,{"$f":"VLOOKUP(B611,برقية!$A$2:$B$377,2,FALSE)","v":{"$error":"#N/A"}},null,null,{"$f":"INDEX(شهر3!#REF!,MATCH((B611&\"*\"&G611&\"*\"&D611&\"*\"&E611),شهر3!#REF!&\"*\"&شهر3!#REF!&\"*\"&شهر3!#REF!&\"*\"&شهر3!#REF!,0))","v":{"$error":"#REF!"}},null,{"$f":"INDEX(شهر3!#REF!,MATCH((B611&\"*\"&G611&\"*\"&D611&\"*\"&E611),شهر3!#REF!&\"*\"&شهر3!#REF!&\"*\"&شهر3!#REF!&\"*\"&شهر3!#REF!,0))","v":{"$error":"#REF!"}}]
[null,null,{"$f":"VLOOKUP(B612,برقية!$A$2:$B$377,2,FALSE)","v":{"$error":"#N/A"}},null,null,{"$f":"INDEX(شهر3!#REF!,MATCH((B612&\"*\"&G612&\"*\"&D612&\"*\"&E612),شهر3!#REF!&\"*\"&شهر3!#REF!&\"*\"&شهر3!#REF!&\"*\"&شهر3!#REF!,0))","v":{"$error":"#REF!"}},null,{"$f":"INDEX(شهر3!#REF!,MATCH((B612&\"*\"&G612&\"*\"&D612&\"*\"&E612),شهر3!#REF!&\"*\"&شهر3!#REF!&\"*\"&شهر3!#REF!&\"*\"&شهر3!#REF!,0))","v":{"$error":"#REF!"}}]
[null,null,{"$f":"VLOOKUP(B613,برقية!$A$2:$B$377,2,FALSE)","v":{"$error":"#N/A"}},null,null,{"$f":"INDEX(شهر3!#REF!,MATCH((B613&\"*\"&G613&\"*\"&D613&\"*\"&E613),شهر3!#REF!&\"*\"&شهر3!#REF!&\"*\"&شهر3!#REF!&\"*\"&شهر3!#REF!,0))","v":{"$error":"#REF!"}},null,{"$f":"INDEX(شهر3!#REF!,MATCH((B613&\"*\"&G613&\"*\"&D613&\"*\"&E613),شهر3!#REF!&\"*\"&شهر3!#REF!&\"*\"&شهر3!#REF!&\"*\"&شهر3!#REF!,0))","v":{"$error":"#REF!"}}]
[null,null,{"$f":"VLOOKUP(B614,برقية!$A$2:$B$377,2,FALSE)","v":{"$error":"#N/A"}},null,null,{"$f":"INDEX(شهر3!#REF!,MATCH((B614&\"*\"&G614&\"*\"&D614&\"*\"&E614),شهر3!#REF!&\"*\"&شهر3!#REF!&\"*\"&شهر3!#REF!&\"*\"&شهر3!#REF!,0))","v":{"$error":"#REF!"}},null,{"$f":"INDEX(شهر3!#REF!,MATCH((B614&\"*\"&G614&\"*\"&D614&\"*\"&E614),شهر3!#REF!&\"*\"&شهر3!#REF!&\"*\"&شهر3!#REF!&\"*\"&شهر3!#REF!,0))","v":{"$error":"#REF!"}}]
[null,null,{"$f":"VLOOKUP(B615,برقية!$A$2:$B$377,2,FALSE)","v":{"$error":"#N/A"}},null,null,{"$f":"INDEX(شهر3!#REF!,MATCH((B615&\"*\"&G615&\"*\"&D615&\"*\"&E615),شهر3!#REF!&\"*\"&شهر3!#REF!&\"*\"&شهر3!#REF!&\"*\"&شهر3!#REF!,0))","v":{"$error":"#REF!"}},null,{"$f":"INDEX(شهر3!#REF!,MATCH((B615&\"*\"&G615&\"*\"&D615&\"*\"&E615),شهر3!#REF!&\"*\"&شهر3!#REF!&\"*\"&شهر3!#REF!&\"*\"&شهر3!#REF!,0))","v":{"$error":"#REF!"}}]
[null,null,{"$f":"VLOOKUP(B616,برقية!$A$2:$B$377,2,FALSE)","v":{"$error":"#N/A"}},null,null,{"$f":"INDEX(شهر3!#REF!,MATCH((B616&\"*\"&G616&\"*\"&D616&\"*\"&E616),شهر3!#REF!&\"*\"&شهر3!#REF!&\"*\"&شهر3!#REF!&\"*\"&شهر3!#REF!,0))","v":{"$error":"#REF!"}},null,{"$f":"INDEX(شهر3!#REF!,MATCH((B616&\"*\"&G616&\"*\"&D616&\"*\"&E616),شهر3!#REF!&\"*\"&شهر3!#REF!&\"*\"&شهر3!#REF!&\"*\"&شهر3!#REF!,0))","v":{"$error":"#REF!"}}]
[null,null,{"$f":"VLOOKUP(B617,برقية!$A$2:$B$377,2,FALSE)","v":{"$error":"#N/A"}},null,null,{"$f":"INDEX(شهر3!#REF!,MATCH((B617&\"*\"&G617&\"*\"&D617&\"*\"&E617),شهر3!#REF!&\"*\"&شهر3!#REF!&\"*\"&شهر3!#REF!&\"*\"&شهر3!#REF!,0))","v":{"$error":"#REF!"}},null,{"$f":"INDEX(شهر3!#REF!,MATCH((B617&\"*\"&G617&\"*\"&D617&\"*\"&E617),شهر3!#REF!&\"*\"&شهر3!#REF!&\"*\"&شهر3!#REF!&\"*\"&شهر3!#REF!,0))","v":{"$error":"#REF!"}}]
[null,null,{"$f":"VLOOKUP(B618,برقية!$A$2:$B$377,2,FALSE)","v":{"$error":"#N/A"}},null,null,{"$f":"INDEX(شهر3!#REF!,MATCH((B618&\"*\"&G618&\"*\"&D618&\"*\"&E618),شهر3!#REF!&\"*\"&شهر3!#REF!&\"*\"&شهر3!#REF!&\"*\"&شهر3!#REF!,0))","v":{"$error":"#REF!"}},null,{"$f":"INDEX(شهر3!#REF!,MATCH((B618&\"*\"&G618&\"*\"&D618&\"*\"&E618),شهر3!#REF!&\"*\"&شهر3!#REF!&\"*\"&شهر3!#REF!&\"*\"&شهر3!#REF!,0))","v":{"$error":"#REF!"}}]
[null,null,{"$f":"VLOOKUP(B619,برقية!$A$2:$B$377,2,FALSE)","v":{"$error":"#N/A"}},null,null,{"$f":"INDEX(شهر3!#REF!,MATCH((B619&\"*\"&G619&\"*\"&D619&\"*\"&E619),شهر3!#REF!&\"*\"&شهر3!#REF!&\"*\"&شهر3!#REF!&\"*\"&شهر3!#REF!,0))","v":{"$error":"#REF!"}},null,{"$f":"INDEX(شهر3!#REF!,MATCH((B619&\"*\"&G619&\"*\"&D619&\"*\"&E619),شهر3!#REF!&\"*\"&شهر3!#REF!&\"*\"&شهر3!#REF!&\"*\"&شهر3!#REF!,0))","v":{"$error":"#REF!"}}]
[null,null,{"$f":"VLOOKUP(B620,برقية!$A$2:$B$377,2,FALSE)","v":{"$error":"#N/A"}},null,null,{"$f":"INDEX(شهر3!#REF!,MATCH((B620&\"*\"&G620&\"*\"&D620&\"*\"&E620),شهر3!#REF!&\"*\"&شهر3!#REF!&\"*\"&شهر3!#REF!&\"*\"&شهر3!#REF!,0))","v":{"$error":"#REF!"}},null,{"$f":"INDEX(شهر3!#REF!,MATCH((B620&\"*\"&G620&\"*\"&D620&\"*\"&E620),شهر3!#REF!&\"*\"&شهر3!#REF!&\"*\"&شهر3!#REF!&\"*\"&شهر3!#REF!,0))","v":{"$error":"#REF!"}}]
[null,null,{"$f":"VLOOKUP(B621,برقية!$A$2:$B$377,2,FALSE)","v":{"$error":"#N/A"}},null,null,{"$f":"INDEX(شهر3!#REF!,MATCH((B621&\"*\"&G621&\"*\"&D621&\"*\"&E621),شهر3!#REF!&\"*\"&شهر3!#REF!&\"*\"&شهر3!#REF!&\"*\"&شهر3!#REF!,0))","v":{"$error":"#REF!"}},null,{"$f":"INDEX(شهر3!#REF!,MATCH((B621&\"*\"&G621&\"*\"&D621&\"*\"&E621),شهر3!#REF!&\"*\"&شهر3!#REF!&\"*\"&شهر3!#REF!&\"*\"&شهر3!#REF!,0))","v":{"$error":"#REF!"}}]
[null,null,{"$f":"VLOOKUP(B622,برقية!$A$2:$B$377,2,FALSE)","v":{"$error":"#N/A"}},null,null,{"$f":"INDEX(شهر3!#REF!,MATCH((B622&\"*\"&G622&\"*\"&D622&\"*\"&E622),شهر3!#REF!&\"*\"&شهر3!#REF!&\"*\"&شهر3!#REF!&\"*\"&شهر3!#REF!,0))","v":{"$error":"#REF!"}},null,{"$f":"INDEX(شهر3!#REF!,MATCH((B622&\"*\"&G622&\"*\"&D622&\"*\"&E622),شهر3!#REF!&\"*\"&شهر3!#REF!&\"*\"&شهر3!#REF!&\"*\"&شهر3!#REF!,0))","v":{"$error":"#REF!"}}]
[null,null,{"$f":"VLOOKUP(B623,برقية!$A$2:$B$377,2,FALSE)","v":{"$error":"#N/A"}},null,null,{"$f":"INDEX(شهر3!#REF!,MATCH((B623&\"*\"&G623&\"*\"&D623&\"*\"&E623),شهر3!#REF!&\"*\"&شهر3!#REF!&\"*\"&شهر3!#REF!&\"*\"&شهر3!#REF!,0))","v":{"$error":"#REF!"}},null,{"$f":"INDEX(شهر3!#REF!,MATCH((B623&\"*\"&G623&\"*\"&D623&\"*\"&E623),شهر3!#REF!&\"*\"&شهر3!#REF!&\"*\"&شهر3!#REF!&\"*\"&شهر3!#REF!,0))","v":{"$error":"#REF!"}}]
[null,null,{"$f":"VLOOKUP(B624,برقية!$A$2:$B$377,2,FALSE)","v":{"$error":"#N/A"}},null,null,{"$f":"INDEX(شهر3!#REF!,MATCH((B624&\"*\"&G624&\"*\"&D624&\"*\"&E624),شهر3!#REF!&\"*\"&شهر3!#REF!&\"*\"&شهر3!#REF!&\"*\"&شهر3!#REF!,0))","v":{"$error":"#REF!"}},null,{"$f":"INDEX(شهر3!#REF!,MATCH((B624&\"*\"&G624&\"*\"&D624&\"*\"&E624),شهر3!#REF!&\"*\"&شهر3!#REF!&\"*\"&شهر3!#REF!&\"*\"&شهر3!#REF!,0))","v":{"$error":"#REF!"}}]
[null,null,{"$f":"VLOOKUP(B625,برقية!$A$2:$B$377,2,FALSE)","v":{"$error":"#N/A"}},null,null,{"$f":"INDEX(شهر3!#REF!,MATCH((B625&\"*\"&G625&\"*\"&D625&\"*\"&E625),شهر3!#REF!&\"*\"&شهر3!#REF!&\"*\"&شهر3!#REF!&\"*\"&شهر3!#REF!,0))","v":{"$error":"#REF!"}},null,{"$f":"INDEX(شهر3!#REF!,MATCH((B625&\"*\"&G625&\"*\"&D625&\"*\"&E625),شهر3!#REF!&\"*\"&شهر3!#REF!&\"*\"&شهر3!#REF!&\"*\"&شهر3!#REF!,0))","v":{"$error":"#REF!"}}]
[null,null,{"$f":"VLOOKUP(B626,برقية!$A$2:$B$377,2,FALSE)","v":{"$error":"#N/A"}},null,null,{"$f":"INDEX(شهر3!#REF!,MATCH((B626&\"*\"&G626&\"*\"&D626&\"*\"&E626),شهر3!#REF!&\"*\"&شهر3!#REF!&\"*\"&شهر3!#REF!&\"*\"&شهر3!#REF!,0))","v":{"$error":"#REF!"}},null,{"$f":"INDEX(شهر3!#REF!,MATCH((B626&\"*\"&G626&\"*\"&D626&\"*\"&E626),شهر3!#REF!&\"*\"&شهر3!#REF!&\"*\"&شهر3!#REF!&\"*\"&شهر3!#REF!,0))","v":{"$error":"#REF!"}}]
[null,null,{"$f":"VLOOKUP(B627,برقية!$A$2:$B$377,2,FALSE)","v":{"$error":"#N/A"}},null,null,{"$f":"INDEX(شهر3!#REF!,MATCH((B627&\"*\"&G627&\"*\"&D627&\"*\"&E627),شهر3!#REF!&\"*\"&شهر3!#REF!&\"*\"&شهر3!#REF!&\"*\"&شهر3!#REF!,0))","v":{"$error":"#REF!"}},null,{"$f":"INDEX(شهر3!#REF!,MATCH((B627&\"*\"&G627&\"*\"&D627&\"*\"&E627),شهر3!#REF!&\"*\"&شهر3!#REF!&\"*\"&شهر3!#REF!&\"*\"&شهر3!#REF!,0))","v":{"$error":"#REF!"}}]
[null,null,{"$f":"VLOOKUP(B628,برقية!$A$2:$B$377,2,FALSE)","v":{"$error":"#N/A"}},null,null,{"$f":"INDEX(شهر3!#REF!,MATCH((B628&\"*\"&G628&\"*\"&D628&\"*\"&E628),شهر3!#REF!&\"*\"&شهر3!#REF!&\"*\"&شهر3!#REF!&\"*\"&شهر3!#REF!,0))","v":{"$error":"#REF!"}},null,{"$f":"INDEX(شهر3!#REF!,MATCH((B628&\"*\"&G628&\"*\"&D628&\"*\"&E628),شهر3!#REF!&\"*\"&شهر3!#REF!&\"*\"&شهر3!#REF!&\"*\"&شهر3!#REF!,0))","v":{"$error":"#REF!"}}]
[null,null,{"$f":"VLOOKUP(B629,برقية!$A$2:$B$377,2,FALSE)","v":{"$error":"#N/A"}},null,null,{"$f":"INDEX(شهر3!#REF!,MATCH((B629&\"*\"&G629&\"*\"&D629&\"*\"&E629),شهر3!#REF!&\"*\"&شهر3!#REF!&\"*\"&شهر3!#REF!&\"*\"&شهر3!#REF!,0))","v":{"$error":"#REF!"}},null,{"$f":"INDEX(شهر3!#REF!,MATCH((B629&\"*\"&G629&\"*\"&D629&\"*\"&E629),شهر3!#REF!&\"*\"&شهر3!#REF!&\"*\"&شهر3!#REF!&\"*\"&شهر3!#REF!,0))","v":{"$error":"#REF!"}}]
[null,null,{"$f":"VLOOKUP(B630,برقية!$A$2:$B$377,2,FALSE)","v":{"$error":"#N/A"}},null,null,{"$f":"INDEX(شهر3!#REF!,MATCH((B630&\"*\"&G630&\"*\"&D630&\"*\"&E630),شهر3!#REF!&\"*\"&شهر3!#REF!&\"*\"&شهر3!#REF!&\"*\"&شهر3!#REF!,0))","v":{"$error":"#REF!"}},null,{"$f":"INDEX(شهر3!#REF!,MATCH((B630&\"*\"&G630&\"*\"&D630&\"*\"&E630),شهر3!#REF!&\"*\"&شهر3!#REF!&\"*\"&شهر3!#REF!&\"*\"&شهر3!#REF!,0))","v":{"$error":"#REF!"}}]
[null,null,{"$f":"VLOOKUP(B631,برقية!$A$2:$B$377,2,FALSE)","v":{"$error":"#N/A"}},null,null,{"$f":"INDEX(شهر3!#REF!,MATCH((B631&\"*\"&G631&\"*\"&D631&\"*\"&E631),شهر3!#REF!&\"*\"&شهر3!#REF!&\"*\"&شهر3!#REF!&\"*\"&شهر3!#REF!,0))","v":{"$error":"#REF!"}},null,{"$f":"INDEX(شهر3!#REF!,MATCH((B631&\"*\"&G631&\"*\"&D631&\"*\"&E631),شهر3!#REF!&\"*\"&شهر3!#REF!&\"*\"&شهر3!#REF!&\"*\"&شهر3!#REF!,0))","v":{"$error":"#REF!"}}]
[null,null,{"$f":"VLOOKUP(B632,برقية!$A$2:$B$377,2,FALSE)","v":{"$error":"#N/A"}},null,null,{"$f":"INDEX(شهر3!#REF!,MATCH((B632&\"*\"&G632&\"*\"&D632&\"*\"&E632),شهر3!#REF!&\"*\"&شهر3!#REF!&\"*\"&شهر3!#REF!&\"*\"&شهر3!#REF!,0))","v":{"$error":"#REF!"}},null,{"$f":"INDEX(شهر3!#REF!,MATCH((B632&\"*\"&G632&\"*\"&D632&\"*\"&E632),شهر3!#REF!&\"*\"&شهر3!#REF!&\"*\"&شهر3!#REF!&\"*\"&شهر3!#REF!,0))","v":{"$error":"#REF!"}}]
[null,null,{"$f":"VLOOKUP(B633,برقية!$A$2:$B$377,2,FALSE)","v":{"$error":"#N/A"}},null,null,{"$f":"INDEX(شهر3!#REF!,MATCH((B633&\"*\"&G633&\"*\"&D633&\"*\"&E633),شهر3!#REF!&\"*\"&شهر3!#REF!&\"*\"&شهر3!#REF!&\"*\"&شهر3!#REF!,0))","v":{"$error":"#REF!"}},null,{"$f":"INDEX(شهر3!#REF!,MATCH((B633&\"*\"&G633&\"*\"&D633&\"*\"&E633),شهر3!#REF!&\"*\"&شهر3!#REF!&\"*\"&شهر3!#REF!&\"*\"&شهر3!#REF!,0))","v":{"$error":"#REF!"}}]
[null,null,{"$f":"VLOOKUP(B634,برقية!$A$2:$B$377,2,FALSE)","v":{"$error":"#N/A"}},null,null,{"$f":"INDEX(شهر3!#REF!,MATCH((B634&\"*\"&G634&\"*\"&D634&\"*\"&E634),شهر3!#REF!&\"*\"&شهر3!#REF!&\"*\"&شهر3!#REF!&\"*\"&شهر3!#REF!,0))","v":{"$error":"#REF!"}},null,{"$f":"INDEX(شهر3!#REF!,MATCH((B634&\"*\"&G634&\"*\"&D634&\"*\"&E634),شهر3!#REF!&\"*\"&شهر3!#REF!&\"*\"&شهر3!#REF!&\"*\"&شهر3!#REF!,0))","v":{"$error":"#REF!"}}]
[null,null,{"$f":"VLOOKUP(B635,برقية!$A$2:$B$377,2,FALSE)","v":{"$error":"#N/A"}},null,null,{"$f":"INDEX(شهر3!#REF!,MATCH((B635&\"*\"&G635&\"*\"&D635&\"*\"&E635),شهر3!#REF!&\"*\"&شهر3!#REF!&\"*\"&شهر3!#REF!&\"*\"&شهر3!#REF!,0))","v":{"$error":"#REF!"}},null,{"$f":"INDEX(شهر3!#REF!,MATCH((B635&\"*\"&G635&\"*\"&D635&\"*\"&E635),شهر3!#REF!&\"*\"&شهر3!#REF!&\"*\"&شهر3!#REF!&\"*\"&شهر3!#REF!,0))","v":{"$error":"#REF!"}}]
[null,null,{"$f":"VLOOKUP(B636,برقية!$A$2:$B$377,2,FALSE)","v":{"$error":"#N/A"}},null,null,{"$f":"INDEX(شهر3!#REF!,MATCH((B636&\"*\"&G636&\"*\"&D636&\"*\"&E636),شهر3!#REF!&\"*\"&شهر3!#REF!&\"*\"&شهر3!#REF!&\"*\"&شهر3!#REF!,0))","v":{"$error":"#REF!"}},null,{"$f":"INDEX(شهر3!#REF!,MATCH((B636&\"*\"&G636&\"*\"&D636&\"*\"&E636),شهر3!#REF!&\"*\"&شهر3!#REF!&\"*\"&شهر3!#REF!&\"*\"&شهر3!#REF!,0))","v":{"$error":"#REF!"}}]
[null,null,{"$f":"VLOOKUP(B637,برقية!$A$2:$B$377,2,FALSE)","v":{"$error":"#N/A"}},null,null,{"$f":"INDEX(شهر3!#REF!,MATCH((B637&\"*\"&G637&\"*\"&D637&\"*\"&E637),شهر3!#REF!&\"*\"&شهر3!#REF!&\"*\"&شهر3!#REF!&\"*\"&شهر3!#REF!,0))","v":{"$error":"#REF!"}},null,{"$f":"INDEX(شهر3!#REF!,MATCH((B637&\"*\"&G637&\"*\"&D637&\"*\"&E637),شهر3!#REF!&\"*\"&شهر3!#REF!&\"*\"&شهر3!#REF!&\"*\"&شهر3!#REF!,0))","v":{"$error":"#REF!"}}]
[null,null,{"$f":"VLOOKUP(B638,برقية!$A$2:$B$377,2,FALSE)","v":{"$error":"#N/A"}},null,null,{"$f":"INDEX(شهر3!#REF!,MATCH((B638&\"*\"&G638&\"*\"&D638&\"*\"&E638),شهر3!#REF!&\"*\"&شهر3!#REF!&\"*\"&شهر3!#REF!&\"*\"&شهر3!#REF!,0))","v":{"$error":"#REF!"}},null,{"$f":"INDEX(شهر3!#REF!,MATCH((B638&\"*\"&G638&\"*\"&D638&\"*\"&E638),شهر3!#REF!&\"*\"&شهر3!#REF!&\"*\"&شهر3!#REF!&\"*\"&شهر3!#REF!,0))","v":{"$error":"#REF!"}}]
[null,null,{"$f":"VLOOKUP(B639,برقية!$A$2:$B$377,2,FALSE)","v":{"$error":"#N/A"}},null,null,{"$f":"INDEX(شهر3!#REF!,MATCH((B639&\"*\"&G639&\"*\"&D639&\"*\"&E639),شهر3!#REF!&\"*\"&شهر3!#REF!&\"*\"&شهر3!#REF!&\"*\"&شهر3!#REF!,0))","v":{"$error":"#REF!"}},null,{"$f":"INDEX(شهر3!#REF!,MATCH((B639&\"*\"&G639&\"*\"&D639&\"*\"&E639),شهر3!#REF!&\"*\"&شهر3!#REF!&\"*\"&شهر3!#REF!&\"*\"&شهر3!#REF!,0))","v":{"$error":"#REF!"}}]
[null,null,{"$f":"VLOOKUP(B640,برقية!$A$2:$B$377,2,FALSE)","v":{"$error":"#N/A"}},null,null,{"$f":"INDEX(شهر3!#REF!,MATCH((B640&\"*\"&G640&\"*\"&D640&\"*\"&E640),شهر3!#REF!&\"*\"&شهر3!#REF!&\"*\"&شهر3!#REF!&\"*\"&شهر3!#REF!,0))","v":{"$error":"#REF!"}},null,{"$f":"INDEX(شهر3!#REF!,MATCH((B640&\"*\"&G640&\"*\"&D640&\"*\"&E640),شهر3!#REF!&\"*\"&شهر3!#REF!&\"*\"&شهر3!#REF!&\"*\"&شهر3!#REF!,0))","v":{"$error":"#REF!"}}]
[null,null,{"$f":"VLOOKUP(B641,برقية!$A$2:$B$377,2,FALSE)","v":{"$error":"#N/A"}},null,null,{"$f":"INDEX(شهر3!#REF!,MATCH((B641&\"*\"&G641&\"*\"&D641&\"*\"&E641),شهر3!#REF!&\"*\"&شهر3!#REF!&\"*\"&شهر3!#REF!&\"*\"&شهر3!#REF!,0))","v":{"$error":"#REF!"}},null,{"$f":"INDEX(شهر3!#REF!,MATCH((B641&\"*\"&G641&\"*\"&D641&\"*\"&E641),شهر3!#REF!&\"*\"&شهر3!#REF!&\"*\"&شهر3!#REF!&\"*\"&شهر3!#REF!,0))","v":{"$error":"#REF!"}}]
[null,null,{"$f":"VLOOKUP(B642,برقية!$A$2:$B$377,2,FALSE)","v":{"$error":"#N/A"}},null,null,{"$f":"INDEX(شهر3!#REF!,MATCH((B642&\"*\"&G642&\"*\"&D642&\"*\"&E642),شهر3!#REF!&\"*\"&شهر3!#REF!&\"*\"&شهر3!#REF!&\"*\"&شهر3!#REF!,0))","v":{"$error":"#REF!"}},null,{"$f":"INDEX(شهر3!#REF!,MATCH((B642&\"*\"&G642&\"*\"&D642&\"*\"&E642),شهر3!#REF!&\"*\"&شهر3!#REF!&\"*\"&شهر3!#REF!&\"*\"&شهر3!#REF!,0))","v":{"$error":"#REF!"}}]
[null,null,{"$f":"VLOOKUP(B643,برقية!$A$2:$B$377,2,FALSE)","v":{"$error":"#N/A"}},null,null,{"$f":"INDEX(شهر3!#REF!,MATCH((B643&\"*\"&G643&\"*\"&D643&\"*\"&E643),شهر3!#REF!&\"*\"&شهر3!#REF!&\"*\"&شهر3!#REF!&\"*\"&شهر3!#REF!,0))","v":{"$error":"#REF!"}},null,{"$f":"INDEX(شهر3!#REF!,MATCH((B643&\"*\"&G643&\"*\"&D643&\"*\"&E643),شهر3!#REF!&\"*\"&شهر3!#REF!&\"*\"&شهر3!#REF!&\"*\"&شهر3!#REF!,0))","v":{"$error":"#REF!"}}]
[null,null,{"$f":"VLOOKUP(B644,برقية!$A$2:$B$377,2,FALSE)","v":{"$error":"#N/A"}},null,null,{"$f":"INDEX(شهر3!#REF!,MATCH((B644&\"*\"&G644&\"*\"&D644&\"*\"&E644),شهر3!#REF!&\"*\"&شهر3!#REF!&\"*\"&شهر3!#REF!&\"*\"&شهر3!#REF!,0))","v":{"$error":"#REF!"}},null,{"$f":"INDEX(شهر3!#REF!,MATCH((B644&\"*\"&G644&\"*\"&D644&\"*\"&E644),شهر3!#REF!&\"*\"&شهر3!#REF!&\"*\"&شهر3!#REF!&\"*\"&شهر3!#REF!,0))","v":{"$error":"#REF!"}}]
[null,null,{"$f":"VLOOKUP(B645,برقية!$A$2:$B$377,2,FALSE)","v":{"$error":"#N/A"}},null,null,{"$f":"INDEX(شهر3!#REF!,MATCH((B645&\"*\"&G645&\"*\"&D645&\"*\"&E645),شهر3!#REF!&\"*\"&شهر3!#REF!&\"*\"&شهر3!#REF!&\"*\"&شهر3!#REF!,0))","v":{"$error":"#REF!"}},null,{"$f":"INDEX(شهر3!#REF!,MATCH((B645&\"*\"&G645&\"*\"&D645&\"*\"&E645),شهر3!#REF!&\"*\"&شهر3!#REF!&\"*\"&شهر3!#REF!&\"*\"&شهر3!#REF!,0))","v":{"$error":"#REF!"}}]
[null,null,{"$f":"VLOOKUP(B646,برقية!$A$2:$B$377,2,FALSE)","v":{"$error":"#N/A"}},null,null,{"$f":"INDEX(شهر3!#REF!,MATCH((B646&\"*\"&G646&\"*\"&D646&\"*\"&E646),شهر3!#REF!&\"*\"&شهر3!#REF!&\"*\"&شهر3!#REF!&\"*\"&شهر3!#REF!,0))","v":{"$error":"#REF!"}},null,{"$f":"INDEX(شهر3!#REF!,MATCH((B646&\"*\"&G646&\"*\"&D646&\"*\"&E646),شهر3!#REF!&\"*\"&شهر3!#REF!&\"*\"&شهر3!#REF!&\"*\"&شهر3!#REF!,0))","v":{"$error":"#REF!"}}]
[null,null,{"$f":"VLOOKUP(B647,برقية!$A$2:$B$377,2,FALSE)","v":{"$error":"#N/A"}},null,null,{"$f":"INDEX(شهر3!#REF!,MATCH((B647&\"*\"&G647&\"*\"&D647&\"*\"&E647),شهر3!#REF!&\"*\"&شهر3!#REF!&\"*\"&شهر3!#REF!&\"*\"&شهر3!#REF!,0))","v":{"$error":"#REF!"}},null,{"$f":"INDEX(شهر3!#REF!,MATCH((B647&\"*\"&G647&\"*\"&D647&\"*\"&E647),شهر3!#REF!&\"*\"&شهر3!#REF!&\"*\"&شهر3!#REF!&\"*\"&شهر3!#REF!,0))","v":{"$error":"#REF!"}}]
[null,null,{"$f":"VLOOKUP(B648,برقية!$A$2:$B$377,2,FALSE)","v":{"$error":"#N/A"}},null,null,{"$f":"INDEX(شهر3!#REF!,MATCH((B648&\"*\"&G648&\"*\"&D648&\"*\"&E648),شهر3!#REF!&\"*\"&شهر3!#REF!&\"*\"&شهر3!#REF!&\"*\"&شهر3!#REF!,0))","v":{"$error":"#REF!"}},null,{"$f":"INDEX(شهر3!#REF!,MATCH((B648&\"*\"&G648&\"*\"&D648&\"*\"&E648),شهر3!#REF!&\"*\"&شهر3!#REF!&\"*\"&شهر3!#REF!&\"*\"&شهر3!#REF!,0))","v":{"$error":"#REF!"}}]
[null,null,{"$f":"VLOOKUP(B649,برقية!$A$2:$B$377,2,FALSE)","v":{"$error":"#N/A"}},null,null,{"$f":"INDEX(شهر3!#REF!,MATCH((B649&\"*\"&G649&\"*\"&D649&\"*\"&E649),شهر3!#REF!&\"*\"&شهر3!#REF!&\"*\"&شهر3!#REF!&\"*\"&شهر3!#REF!,0))","v":{"$error":"#REF!"}},null,{"$f":"INDEX(شهر3!#REF!,MATCH((B649&\"*\"&G649&\"*\"&D649&\"*\"&E649),شهر3!#REF!&\"*\"&شهر3!#REF!&\"*\"&شهر3!#REF!&\"*\"&شهر3!#REF!,0))","v":{"$error":"#REF!"}}]
[null,null,{"$f":"VLOOKUP(B650,برقية!$A$2:$B$377,2,FALSE)","v":{"$error":"#N/A"}},null,null,{"$f":"INDEX(شهر3!#REF!,MATCH((B650&\"*\"&G650&\"*\"&D650&\"*\"&E650),شهر3!#REF!&\"*\"&شهر3!#REF!&\"*\"&شهر3!#REF!&\"*\"&شهر3!#REF!,0))","v":{"$error":"#REF!"}},null,{"$f":"INDEX(شهر3!#REF!,MATCH((B650&\"*\"&G650&\"*\"&D650&\"*\"&E650),شهر3!#REF!&\"*\"&شهر3!#REF!&\"*\"&شهر3!#REF!&\"*\"&شهر3!#REF!,0))","v":{"$error":"#REF!"}}]
[null,null,{"$f":"VLOOKUP(B651,برقية!$A$2:$B$377,2,FALSE)","v":{"$error":"#N/A"}},null,null,{"$f":"INDEX(شهر3!#REF!,MATCH((B651&\"*\"&G651&\"*\"&D651&\"*\"&E651),شهر3!#REF!&\"*\"&شهر3!#REF!&\"*\"&شهر3!#REF!&\"*\"&شهر3!#REF!,0))","v":{"$error":"#REF!"}},null,{"$f":"INDEX(شهر3!#REF!,MATCH((B651&\"*\"&G651&\"*\"&D651&\"*\"&E651),شهر3!#REF!&\"*\"&شهر3!#REF!&\"*\"&شهر3!#REF!&\"*\"&شهر3!#REF!,0))","v":{"$error":"#REF!"}}]
[null,null,{"$f":"VLOOKUP(B652,برقية!$A$2:$B$377,2,FALSE)","v":{"$error":"#N/A"}},null,null,{"$f":"INDEX(شهر3!#REF!,MATCH((B652&\"*\"&G652&\"*\"&D652&\"*\"&E652),شهر3!#REF!&\"*\"&شهر3!#REF!&\"*\"&شهر3!#REF!&\"*\"&شهر3!#REF!,0))","v":{"$error":"#REF!"}},null,{"$f":"INDEX(شهر3!#REF!,MATCH((B652&\"*\"&G652&\"*\"&D652&\"*\"&E652),شهر3!#REF!&\"*\"&شهر3!#REF!&\"*\"&شهر3!#REF!&\"*\"&شهر3!#REF!,0))","v":{"$error":"#REF!"}}]
[null,null,{"$f":"VLOOKUP(B653,برقية!$A$2:$B$377,2,FALSE)","v":{"$error":"#N/A"}},null,null,{"$f":"INDEX(شهر3!#REF!,MATCH((B653&\"*\"&G653&\"*\"&D653&\"*\"&E653),شهر3!#REF!&\"*\"&شهر3!#REF!&\"*\"&شهر3!#REF!&\"*\"&شهر3!#REF!,0))","v":{"$error":"#REF!"}},null,{"$f":"INDEX(شهر3!#REF!,MATCH((B653&\"*\"&G653&\"*\"&D653&\"*\"&E653),شهر3!#REF!&\"*\"&شهر3!#REF!&\"*\"&شهر3!#REF!&\"*\"&شهر3!#REF!,0))","v":{"$error":"#REF!"}}]
[null,null,{"$f":"VLOOKUP(B654,برقية!$A$2:$B$377,2,FALSE)","v":{"$error":"#N/A"}},null,null,{"$f":"INDEX(شهر3!#REF!,MATCH((B654&\"*\"&G654&\"*\"&D654&\"*\"&E654),شهر3!#REF!&\"*\"&شهر3!#REF!&\"*\"&شهر3!#REF!&\"*\"&شهر3!#REF!,0))","v":{"$error":"#REF!"}},null,{"$f":"INDEX(شهر3!#REF!,MATCH((B654&\"*\"&G654&\"*\"&D654&\"*\"&E654),شهر3!#REF!&\"*\"&شهر3!#REF!&\"*\"&شهر3!#REF!&\"*\"&شهر3!#REF!,0))","v":{"$error":"#REF!"}}]
[null,null,{"$f":"VLOOKUP(B655,برقية!$A$2:$B$377,2,FALSE)","v":{"$error":"#N/A"}},null,null,{"$f":"INDEX(شهر3!#REF!,MATCH((B655&\"*\"&G655&\"*\"&D655&\"*\"&E655),شهر3!#REF!&\"*\"&شهر3!#REF!&\"*\"&شهر3!#REF!&\"*\"&شهر3!#REF!,0))","v":{"$error":"#REF!"}},null,{"$f":"INDEX(شهر3!#REF!,MATCH((B655&\"*\"&G655&\"*\"&D655&\"*\"&E655),شهر3!#REF!&\"*\"&شهر3!#REF!&\"*\"&شهر3!#REF!&\"*\"&شهر3!#REF!,0))","v":{"$error":"#REF!"}}]
[null,null,{"$f":"VLOOKUP(B656,برقية!$A$2:$B$377,2,FALSE)","v":{"$error":"#N/A"}},null,null,{"$f":"INDEX(شهر3!#REF!,MATCH((B656&\"*\"&G656&\"*\"&D656&\"*\"&E656),شهر3!#REF!&\"*\"&شهر3!#REF!&\"*\"&شهر3!#REF!&\"*\"&شهر3!#REF!,0))","v":{"$error":"#REF!"}},null,{"$f":"INDEX(شهر3!#REF!,MATCH((B656&\"*\"&G656&\"*\"&D656&\"*\"&E656),شهر3!#REF!&\"*\"&شهر3!#REF!&\"*\"&شهر3!#REF!&\"*\"&شهر3!#REF!,0))","v":{"$error":"#REF!"}}]
[null,null,{"$f":"VLOOKUP(B657,برقية!$A$2:$B$377,2,FALSE)","v":{"$error":"#N/A"}},null,null,{"$f":"INDEX(شهر3!#REF!,MATCH((B657&\"*\"&G657&\"*\"&D657&\"*\"&E657),شهر3!#REF!&\"*\"&شهر3!#REF!&\"*\"&شهر3!#REF!&\"*\"&شهر3!#REF!,0))","v":{"$error":"#REF!"}},null,{"$f":"INDEX(شهر3!#REF!,MATCH((B657&\"*\"&G657&\"*\"&D657&\"*\"&E657),شهر3!#REF!&\"*\"&شهر3!#REF!&\"*\"&شهر3!#REF!&\"*\"&شهر3!#REF!,0))","v":{"$error":"#REF!"}}]
[null,null,{"$f":"VLOOKUP(B658,برقية!$A$2:$B$377,2,FALSE)","v":{"$error":"#N/A"}},null,null,{"$f":"INDEX(شهر3!#REF!,MATCH((B658&\"*\"&G658&\"*\"&D658&\"*\"&E658),شهر3!#REF!&\"*\"&شهر3!#REF!&\"*\"&شهر3!#REF!&\"*\"&شهر3!#REF!,0))","v":{"$error":"#REF!"}},null,{"$f":"INDEX(شهر3!#REF!,MATCH((B658&\"*\"&G658&\"*\"&D658&\"*\"&E658),شهر3!#REF!&\"*\"&شهر3!#REF!&\"*\"&شهر3!#REF!&\"*\"&شهر3!#REF!,0))","v":{"$error":"#REF!"}}]
[null,null,{"$f":"VLOOKUP(B659,برقية!$A$2:$B$377,2,FALSE)","v":{"$error":"#N/A"}},null,null,{"$f":"INDEX(شهر3!#REF!,MATCH((B659&\"*\"&G659&\"*\"&D659&\"*\"&E659),شهر3!#REF!&\"*\"&شهر3!#REF!&\"*\"&شهر3!#REF!&\"*\"&شهر3!#REF!,0))","v":{"$error":"#REF!"}},null,{"$f":"INDEX(شهر3!#REF!,MATCH((B659&\"*\"&G659&\"*\"&D659&\"*\"&E659),شهر3!#REF!&\"*\"&شهر3!#REF!&\"*\"&شهر3!#REF!&\"*\"&شهر3!#REF!,0))","v":{"$error":"#REF!"}}]
[null,null,{"$f":"VLOOKUP(B660,برقية!$A$2:$B$377,2,FALSE)","v":{"$error":"#N/A"}},null,null,{"$f":"INDEX(شهر3!#REF!,MATCH((B660&\"*\"&G660&\"*\"&D660&\"*\"&E660),شهر3!#REF!&\"*\"&شهر3!#REF!&\"*\"&شهر3!#REF!&\"*\"&شهر3!#REF!,0))","v":{"$error":"#REF!"}},null,{"$f":"INDEX(شهر3!#REF!,MATCH((B660&\"*\"&G660&\"*\"&D660&\"*\"&E660),شهر3!#REF!&\"*\"&شهر3!#REF!&\"*\"&شهر3!#REF!&\"*\"&شهر3!#REF!,0))","v":{"$error":"#REF!"}}]
[null,null,{"$f":"VLOOKUP(B661,برقية!$A$2:$B$377,2,FALSE)","v":{"$error":"#N/A"}},null,null,{"$f":"INDEX(شهر3!#REF!,MATCH((B661&\"*\"&G661&\"*\"&D661&\"*\"&E661),شهر3!#REF!&\"*\"&شهر3!#REF!&\"*\"&شهر3!#REF!&\"*\"&شهر3!#REF!,0))","v":{"$error":"#REF!"}},null,{"$f":"INDEX(شهر3!#REF!,MATCH((B661&\"*\"&G661&\"*\"&D661&\"*\"&E661),شهر3!#REF!&\"*\"&شهر3!#REF!&\"*\"&شهر3!#REF!&\"*\"&شهر3!#REF!,0))","v":{"$error":"#REF!"}}]
[null,null,{"$f":"VLOOKUP(B662,برقية!$A$2:$B$377,2,FALSE)","v":{"$error":"#N/A"}},null,null,{"$f":"INDEX(شهر3!#REF!,MATCH((B662&\"*\"&G662&\"*\"&D662&\"*\"&E662),شهر3!#REF!&\"*\"&شهر3!#REF!&\"*\"&شهر3!#REF!&\"*\"&شهر3!#REF!,0))","v":{"$error":"#REF!"}},null,{"$f":"INDEX(شهر3!#REF!,MATCH((B662&\"*\"&G662&\"*\"&D662&\"*\"&E662),شهر3!#REF!&\"*\"&شهر3!#REF!&\"*\"&شهر3!#REF!&\"*\"&شهر3!#REF!,0))","v":{"$error":"#REF!"}}]
[null,null,{"$f":"VLOOKUP(B663,برقية!$A$2:$B$377,2,FALSE)","v":{"$error":"#N/A"}},null,null,{"$f":"INDEX(شهر3!#REF!,MATCH((B663&\"*\"&G663&\"*\"&D663&\"*\"&E663),شهر3!#REF!&\"*\"&شهر3!#REF!&\"*\"&شهر3!#REF!&\"*\"&شهر3!#REF!,0))","v":{"$error":"#REF!"}},null,{"$f":"INDEX(شهر3!#REF!,MATCH((B663&\"*\"&G663&\"*\"&D663&\"*\"&E663),شهر3!#REF!&\"*\"&شهر3!#REF!&\"*\"&شهر3!#REF!&\"*\"&شهر3!#REF!,0))","v":{"$error":"#REF!"}}]
[null,null,{"$f":"VLOOKUP(B664,برقية!$A$2:$B$377,2,FALSE)","v":{"$error":"#N/A"}},null,null,{"$f":"INDEX(شهر3!#REF!,MATCH((B664&\"*\"&G664&\"*\"&D664&\"*\"&E664),شهر3!#REF!&\"*\"&شهر3!#REF!&\"*\"&شهر3!#REF!&\"*\"&شهر3!#REF!,0))","v":{"$error":"#REF!"}},null,{"$f":"INDEX(شهر3!#REF!,MATCH((B664&\"*\"&G664&\"*\"&D664&\"*\"&E664),شهر3!#REF!&\"*\"&شهر3!#REF!&\"*\"&شهر3!#REF!&\"*\"&شهر3!#REF!,0))","v":{"$error":"#REF!"}}]
[null,null,{"$f":"VLOOKUP(B665,برقية!$A$2:$B$377,2,FALSE)","v":{"$error":"#N/A"}},null,null,{"$f":"INDEX(شهر3!#REF!,MATCH((B665&\"*\"&G665&\"*\"&D665&\"*\"&E665),شهر3!#REF!&\"*\"&شهر3!#REF!&\"*\"&شهر3!#REF!&\"*\"&شهر3!#REF!,0))","v":{"$error":"#REF!"}},null,{"$f":"INDEX(شهر3!#REF!,MATCH((B665&\"*\"&G665&\"*\"&D665&\"*\"&E665),شهر3!#REF!&\"*\"&شهر3!#REF!&\"*\"&شهر3!#REF!&\"*\"&شهر3!#REF!,0))","v":{"$error":"#REF!"}}]
[null,null,{"$f":"VLOOKUP(B666,برقية!$A$2:$B$377,2,FALSE)","v":{"$error":"#N/A"}},null,null,{"$f":"INDEX(شهر3!#REF!,MATCH((B666&\"*\"&G666&\"*\"&D666&\"*\"&E666),شهر3!#REF!&\"*\"&شهر3!#REF!&\"*\"&شهر3!#REF!&\"*\"&شهر3!#REF!,0))","v":{"$error":"#REF!"}},null,{"$f":"INDEX(شهر3!#REF!,MATCH((B666&\"*\"&G666&\"*\"&D666&\"*\"&E666),شهر3!#REF!&\"*\"&شهر3!#REF!&\"*\"&شهر3!#REF!&\"*\"&شهر3!#REF!,0))","v":{"$error":"#REF!"}}]
[null,null,{"$f":"VLOOKUP(B667,برقية!$A$2:$B$377,2,FALSE)","v":{"$error":"#N/A"}},null,null,{"$f":"INDEX(شهر3!#REF!,MATCH((B667&\"*\"&G667&\"*\"&D667&\"*\"&E667),شهر3!#REF!&\"*\"&شهر3!#REF!&\"*\"&شهر3!#REF!&\"*\"&شهر3!#REF!,0))","v":{"$error":"#REF!"}},null,{"$f":"INDEX(شهر3!#REF!,MATCH((B667&\"*\"&G667&\"*\"&D667&\"*\"&E667),شهر3!#REF!&\"*\"&شهر3!#REF!&\"*\"&شهر3!#REF!&\"*\"&شهر3!#REF!,0))","v":{"$error":"#REF!"}}]
[null,null,{"$f":"VLOOKUP(B668,برقية!$A$2:$B$377,2,FALSE)","v":{"$error":"#N/A"}},null,null,{"$f":"INDEX(شهر3!#REF!,MATCH((B668&\"*\"&G668&\"*\"&D668&\"*\"&E668),شهر3!#REF!&\"*\"&شهر3!#REF!&\"*\"&شهر3!#REF!&\"*\"&شهر3!#REF!,0))","v":{"$error":"#REF!"}},null,{"$f":"INDEX(شهر3!#REF!,MATCH((B668&\"*\"&G668&\"*\"&D668&\"*\"&E668),شهر3!#REF!&\"*\"&شهر3!#REF!&\"*\"&شهر3!#REF!&\"*\"&شهر3!#REF!,0))","v":{"$error":"#REF!"}}]
[null,null,{"$f":"VLOOKUP(B669,برقية!$A$2:$B$377,2,FALSE)","v":{"$error":"#N/A"}},null,null,{"$f":"INDEX(شهر3!#REF!,MATCH((B669&\"*\"&G669&\"*\"&D669&\"*\"&E669),شهر3!#REF!&\"*\"&شهر3!#REF!&\"*\"&شهر3!#REF!&\"*\"&شهر3!#REF!,0))","v":{"$error":"#REF!"}},null,{"$f":"INDEX(شهر3!#REF!,MATCH((B669&\"*\"&G669&\"*\"&D669&\"*\"&E669),شهر3!#REF!&\"*\"&شهر3!#REF!&\"*\"&شهر3!#REF!&\"*\"&شهر3!#REF!,0))","v":{"$error":"#REF!"}}]
[null,null,{"$f":"VLOOKUP(B670,برقية!$A$2:$B$377,2,FALSE)","v":{"$error":"#N/A"}},null,null,{"$f":"INDEX(شهر3!#REF!,MATCH((B670&\"*\"&G670&\"*\"&D670&\"*\"&E670),شهر3!#REF!&\"*\"&شهر3!#REF!&\"*\"&شهر3!#REF!&\"*\"&شهر3!#REF!,0))","v":{"$error":"#REF!"}},null,{"$f":"INDEX(شهر3!#REF!,MATCH((B670&\"*\"&G670&\"*\"&D670&\"*\"&E670),شهر3!#REF!&\"*\"&شهر3!#REF!&\"*\"&شهر3!#REF!&\"*\"&شهر3!#REF!,0))","v":{"$error":"#REF!"}}]
[null,null,{"$f":"VLOOKUP(B671,برقية!$A$2:$B$377,2,FALSE)","v":{"$error":"#N/A"}},null,null,{"$f":"INDEX(شهر3!#REF!,MATCH((B671&\"*\"&G671&\"*\"&D671&\"*\"&E671),شهر3!#REF!&\"*\"&شهر3!#REF!&\"*\"&شهر3!#REF!&\"*\"&شهر3!#REF!,0))","v":{"$error":"#REF!"}},null,{"$f":"INDEX(شهر3!#REF!,MATCH((B671&\"*\"&G671&\"*\"&D671&\"*\"&E671),شهر3!#REF!&\"*\"&شهر3!#REF!&\"*\"&شهر3!#REF!&\"*\"&شهر3!#REF!,0))","v":{"$error":"#REF!"}}]
[null,null,{"$f":"VLOOKUP(B672,برقية!$A$2:$B$377,2,FALSE)","v":{"$error":"#N/A"}},null,null,{"$f":"INDEX(شهر3!#REF!,MATCH((B672&\"*\"&G672&\"*\"&D672&\"*\"&E672),شهر3!#REF!&\"*\"&شهر3!#REF!&\"*\"&شهر3!#REF!&\"*\"&شهر3!#REF!,0))","v":{"$error":"#REF!"}},null,{"$f":"INDEX(شهر3!#REF!,MATCH((B672&\"*\"&G672&\"*\"&D672&\"*\"&E672),شهر3!#REF!&\"*\"&شهر3!#REF!&\"*\"&شهر3!#REF!&\"*\"&شهر3!#REF!,0))","v":{"$error":"#REF!"}}]
[null,null,{"$f":"VLOOKUP(B673,برقية!$A$2:$B$377,2,FALSE)","v":{"$error":"#N/A"}},null,null,{"$f":"INDEX(شهر3!#REF!,MATCH((B673&\"*\"&G673&\"*\"&D673&\"*\"&E673),شهر3!#REF!&\"*\"&شهر3!#REF!&\"*\"&شهر3!#REF!&\"*\"&شهر3!#REF!,0))","v":{"$error":"#REF!"}},null,{"$f":"INDEX(شهر3!#REF!,MATCH((B673&\"*\"&G673&\"*\"&D673&\"*\"&E673),شهر3!#REF!&\"*\"&شهر3!#REF!&\"*\"&شهر3!#REF!&\"*\"&شهر3!#REF!,0))","v":{"$error":"#REF!"}}]
[null,null,{"$f":"VLOOKUP(B674,برقية!$A$2:$B$377,2,FALSE)","v":{"$error":"#N/A"}},null,null,{"$f":"INDEX(شهر3!#REF!,MATCH((B674&\"*\"&G674&\"*\"&D674&\"*\"&E674),شهر3!#REF!&\"*\"&شهر3!#REF!&\"*\"&شهر3!#REF!&\"*\"&شهر3!#REF!,0))","v":{"$error":"#REF!"}},null,{"$f":"INDEX(شهر3!#REF!,MATCH((B674&\"*\"&G674&\"*\"&D674&\"*\"&E674),شهر3!#REF!&\"*\"&شهر3!#REF!&\"*\"&شهر3!#REF!&\"*\"&شهر3!#REF!,0))","v":{"$error":"#REF!"}}]
[null,null,{"$f":"VLOOKUP(B675,برقية!$A$2:$B$377,2,FALSE)","v":{"$error":"#N/A"}},null,null,{"$f":"INDEX(شهر3!#REF!,MATCH((B675&\"*\"&G675&\"*\"&D675&\"*\"&E675),شهر3!#REF!&\"*\"&شهر3!#REF!&\"*\"&شهر3!#REF!&\"*\"&شهر3!#REF!,0))","v":{"$error":"#REF!"}},null,{"$f":"INDEX(شهر3!#REF!,MATCH((B675&\"*\"&G675&\"*\"&D675&\"*\"&E675),شهر3!#REF!&\"*\"&شهر3!#REF!&\"*\"&شهر3!#REF!&\"*\"&شهر3!#REF!,0))","v":{"$error":"#REF!"}}]
[null,null,{"$f":"VLOOKUP(B676,برقية!$A$2:$B$377,2,FALSE)","v":{"$error":"#N/A"}},null,null,{"$f":"INDEX(شهر3!#REF!,MATCH((B676&\"*\"&G676&\"*\"&D676&\"*\"&E676),شهر3!#REF!&\"*\"&شهر3!#REF!&\"*\"&شهر3!#REF!&\"*\"&شهر3!#REF!,0))","v":{"$error":"#REF!"}},null,{"$f":"INDEX(شهر3!#REF!,MATCH((B676&\"*\"&G676&\"*\"&D676&\"*\"&E676),شهر3!#REF!&\"*\"&شهر3!#REF!&\"*\"&شهر3!#REF!&\"*\"&شهر3!#REF!,0))","v":{"$error":"#REF!"}}]
[null,null,{"$f":"VLOOKUP(B677,برقية!$A$2:$B$377,2,FALSE)","v":{"$error":"#N/A"}},null,null,{"$f":"INDEX(شهر3!#REF!,MATCH((B677&\"*\"&G677&\"*\"&D677&\"*\"&E677),شهر3!#REF!&\"*\"&شهر3!#REF!&\"*\"&شهر3!#REF!&\"*\"&شهر3!#REF!,0))","v":{"$error":"#REF!"}},null,{"$f":"INDEX(شهر3!#REF!,MATCH((B677&\"*\"&G677&\"*\"&D677&\"*\"&E677),شهر3!#REF!&\"*\"&شهر3!#REF!&\"*\"&شهر3!#REF!&\"*\"&شهر3!#REF!,0))","v":{"$error":"#REF!"}}]
[null,null,{"$f":"VLOOKUP(B678,برقية!$A$2:$B$377,2,FALSE)","v":{"$error":"#N/A"}},null,null,{"$f":"INDEX(شهر3!#REF!,MATCH((B678&\"*\"&G678&\"*\"&D678&\"*\"&E678),شهر3!#REF!&\"*\"&شهر3!#REF!&\"*\"&شهر3!#REF!&\"*\"&شهر3!#REF!,0))","v":{"$error":"#REF!"}},null,{"$f":"INDEX(شهر3!#REF!,MATCH((B678&\"*\"&G678&\"*\"&D678&\"*\"&E678),شهر3!#REF!&\"*\"&شهر3!#REF!&\"*\"&شهر3!#REF!&\"*\"&شهر3!#REF!,0))","v":{"$error":"#REF!"}}]
[null,null,{"$f":"VLOOKUP(B679,برقية!$A$2:$B$377,2,FALSE)","v":{"$error":"#N/A"}},null,null,{"$f":"INDEX(شهر3!#REF!,MATCH((B679&\"*\"&G679&\"*\"&D679&\"*\"&E679),شهر3!#REF!&\"*\"&شهر3!#REF!&\"*\"&شهر3!#REF!&\"*\"&شهر3!#REF!,0))","v":{"$error":"#REF!"}},null,{"$f":"INDEX(شهر3!#REF!,MATCH((B679&\"*\"&G679&\"*\"&D679&\"*\"&E679),شهر3!#REF!&\"*\"&شهر3!#REF!&\"*\"&شهر3!#REF!&\"*\"&شهر3!#REF!,0))","v":{"$error":"#REF!"}}]
[null,null,{"$f":"VLOOKUP(B680,برقية!$A$2:$B$377,2,FALSE)","v":{"$error":"#N/A"}},null,null,{"$f":"INDEX(شهر3!#REF!,MATCH((B680&\"*\"&G680&\"*\"&D680&\"*\"&E680),شهر3!#REF!&\"*\"&شهر3!#REF!&\"*\"&شهر3!#REF!&\"*\"&شهر3!#REF!,0))","v":{"$error":"#REF!"}},null,{"$f":"INDEX(شهر3!#REF!,MATCH((B680&\"*\"&G680&\"*\"&D680&\"*\"&E680),شهر3!#REF!&\"*\"&شهر3!#REF!&\"*\"&شهر3!#REF!&\"*\"&شهر3!#REF!,0))","v":{"$error":"#REF!"}}]
[null,null,{"$f":"VLOOKUP(B681,برقية!$A$2:$B$377,2,FALSE)","v":{"$error":"#N/A"}},null,null,{"$f":"INDEX(شهر3!#REF!,MATCH((B681&\"*\"&G681&\"*\"&D681&\"*\"&E681),شهر3!#REF!&\"*\"&شهر3!#REF!&\"*\"&شهر3!#REF!&\"*\"&شهر3!#REF!,0))","v":{"$error":"#REF!"}},null,{"$f":"INDEX(شهر3!#REF!,MATCH((B681&\"*\"&G681&\"*\"&D681&\"*\"&E681),شهر3!#REF!&\"*\"&شهر3!#REF!&\"*\"&شهر3!#REF!&\"*\"&شهر3!#REF!,0))","v":{"$error":"#REF!"}}]
[null,null,{"$f":"VLOOKUP(B682,برقية!$A$2:$B$377,2,FALSE)","v":{"$error":"#N/A"}},null,null,{"$f":"INDEX(شهر3!#REF!,MATCH((B682&\"*\"&G682&\"*\"&D682&\"*\"&E682),شهر3!#REF!&\"*\"&شهر3!#REF!&\"*\"&شهر3!#REF!&\"*\"&شهر3!#REF!,0))","v":{"$error":"#REF!"}},null,{"$f":"INDEX(شهر3!#REF!,MATCH((B682&\"*\"&G682&\"*\"&D682&\"*\"&E682),شهر3!#REF!&\"*\"&شهر3!#REF!&\"*\"&شهر3!#REF!&\"*\"&شهر3!#REF!,0))","v":{"$error":"#REF!"}}]
[null,null,{"$f":"VLOOKUP(B683,برقية!$A$2:$B$377,2,FALSE)","v":{"$error":"#N/A"}},null,null,{"$f":"INDEX(شهر3!#REF!,MATCH((B683&\"*\"&G683&\"*\"&D683&\"*\"&E683),شهر3!#REF!&\"*\"&شهر3!#REF!&\"*\"&شهر3!#REF!&\"*\"&شهر3!#REF!,0))","v":{"$error":"#REF!"}},null,{"$f":"INDEX(شهر3!#REF!,MATCH((B683&\"*\"&G683&\"*\"&D683&\"*\"&E683),شهر3!#REF!&\"*\"&شهر3!#REF!&\"*\"&شهر3!#REF!&\"*\"&شهر3!#REF!,0))","v":{"$error":"#REF!"}}]
[null,null,{"$f":"VLOOKUP(B684,برقية!$A$2:$B$377,2,FALSE)","v":{"$error":"#N/A"}},null,null,{"$f":"INDEX(شهر3!#REF!,MATCH((B684&\"*\"&G684&\"*\"&D684&\"*\"&E684),شهر3!#REF!&\"*\"&شهر3!#REF!&\"*\"&شهر3!#REF!&\"*\"&شهر3!#REF!,0))","v":{"$error":"#REF!"}},null,{"$f":"INDEX(شهر3!#REF!,MATCH((B684&\"*\"&G684&\"*\"&D684&\"*\"&E684),شهر3!#REF!&\"*\"&شهر3!#REF!&\"*\"&شهر3!#REF!&\"*\"&شهر3!#REF!,0))","v":{"$error":"#REF!"}}]
[null,null,{"$f":"VLOOKUP(B685,برقية!$A$2:$B$377,2,FALSE)","v":{"$error":"#N/A"}},null,null,{"$f":"INDEX(شهر3!#REF!,MATCH((B685&\"*\"&G685&\"*\"&D685&\"*\"&E685),شهر3!#REF!&\"*\"&شهر3!#REF!&\"*\"&شهر3!#REF!&\"*\"&شهر3!#REF!,0))","v":{"$error":"#REF!"}},null,{"$f":"INDEX(شهر3!#REF!,MATCH((B685&\"*\"&G685&\"*\"&D685&\"*\"&E685),شهر3!#REF!&\"*\"&شهر3!#REF!&\"*\"&شهر3!#REF!&\"*\"&شهر3!#REF!,0))","v":{"$error":"#REF!"}}]
[null,null,{"$f":"VLOOKUP(B686,برقية!$A$2:$B$377,2,FALSE)","v":{"$error":"#N/A"}},null,null,{"$f":"INDEX(شهر3!#REF!,MATCH((B686&\"*\"&G686&\"*\"&D686&\"*\"&E686),شهر3!#REF!&\"*\"&شهر3!#REF!&\"*\"&شهر3!#REF!&\"*\"&شهر3!#REF!,0))","v":{"$error":"#REF!"}},null,{"$f":"INDEX(شهر3!#REF!,MATCH((B686&\"*\"&G686&\"*\"&D686&\"*\"&E686),شهر3!#REF!&\"*\"&شهر3!#REF!&\"*\"&شهر3!#REF!&\"*\"&شهر3!#REF!,0))","v":{"$error":"#REF!"}}]
[null,null,{"$f":"VLOOKUP(B687,برقية!$A$2:$B$377,2,FALSE)","v":{"$error":"#N/A"}},null,null,{"$f":"INDEX(شهر3!#REF!,MATCH((B687&\"*\"&G687&\"*\"&D687&\"*\"&E687),شهر3!#REF!&\"*\"&شهر3!#REF!&\"*\"&شهر3!#REF!&\"*\"&شهر3!#REF!,0))","v":{"$error":"#REF!"}},null,{"$f":"INDEX(شهر3!#REF!,MATCH((B687&\"*\"&G687&\"*\"&D687&\"*\"&E687),شهر3!#REF!&\"*\"&شهر3!#REF!&\"*\"&شهر3!#REF!&\"*\"&شهر3!#REF!,0))","v":{"$error":"#REF!"}}]
[null,null,{"$f":"VLOOKUP(B688,برقية!$A$2:$B$377,2,FALSE)","v":{"$error":"#N/A"}},null,null,{"$f":"INDEX(شهر3!#REF!,MATCH((B688&\"*\"&G688&\"*\"&D688&\"*\"&E688),شهر3!#REF!&\"*\"&شهر3!#REF!&\"*\"&شهر3!#REF!&\"*\"&شهر3!#REF!,0))","v":{"$error":"#REF!"}},null,{"$f":"INDEX(شهر3!#REF!,MATCH((B688&\"*\"&G688&\"*\"&D688&\"*\"&E688),شهر3!#REF!&\"*\"&شهر3!#REF!&\"*\"&شهر3!#REF!&\"*\"&شهر3!#REF!,0))","v":{"$error":"#REF!"}}]
[null,null,{"$f":"VLOOKUP(B689,برقية!$A$2:$B$377,2,FALSE)","v":{"$error":"#N/A"}},null,null,{"$f":"INDEX(شهر3!#REF!,MATCH((B689&\"*\"&G689&\"*\"&D689&\"*\"&E689),شهر3!#REF!&\"*\"&شهر3!#REF!&\"*\"&شهر3!#REF!&\"*\"&شهر3!#REF!,0))","v":{"$error":"#REF!"}},null,{"$f":"INDEX(شهر3!#REF!,MATCH((B689&\"*\"&G689&\"*\"&D689&\"*\"&E689),شهر3!#REF!&\"*\"&شهر3!#REF!&\"*\"&شهر3!#REF!&\"*\"&شهر3!#REF!,0))","v":{"$error":"#REF!"}}]
[null,null,{"$f":"VLOOKUP(B690,برقية!$A$2:$B$377,2,FALSE)","v":{"$error":"#N/A"}},null,null,{"$f":"INDEX(شهر3!#REF!,MATCH((B690&\"*\"&G690&\"*\"&D690&\"*\"&E690),شهر3!#REF!&\"*\"&شهر3!#REF!&\"*\"&شهر3!#REF!&\"*\"&شهر3!#REF!,0))","v":{"$error":"#REF!"}},null,{"$f":"INDEX(شهر3!#REF!,MATCH((B690&\"*\"&G690&\"*\"&D690&\"*\"&E690),شهر3!#REF!&\"*\"&شهر3!#REF!&\"*\"&شهر3!#REF!&\"*\"&شهر3!#REF!,0))","v":{"$error":"#REF!"}}]
[null,null,{"$f":"VLOOKUP(B691,برقية!$A$2:$B$377,2,FALSE)","v":{"$error":"#N/A"}},null,null,{"$f":"INDEX(شهر3!#REF!,MATCH((B691&\"*\"&G691&\"*\"&D691&\"*\"&E691),شهر3!#REF!&\"*\"&شهر3!#REF!&\"*\"&شهر3!#REF!&\"*\"&شهر3!#REF!,0))","v":{"$error":"#REF!"}},null,{"$f":"INDEX(شهر3!#REF!,MATCH((B691&\"*\"&G691&\"*\"&D691&\"*\"&E691),شهر3!#REF!&\"*\"&شهر3!#REF!&\"*\"&شهر3!#REF!&\"*\"&شهر3!#REF!,0))","v":{"$error":"#REF!"}}]
[null,null,{"$f":"VLOOKUP(B692,برقية!$A$2:$B$377,2,FALSE)","v":{"$error":"#N/A"}},null,null,{"$f":"INDEX(شهر3!#REF!,MATCH((B692&\"*\"&G692&\"*\"&D692&\"*\"&E692),شهر3!#REF!&\"*\"&شهر3!#REF!&\"*\"&شهر3!#REF!&\"*\"&شهر3!#REF!,0))","v":{"$error":"#REF!"}},null,{"$f":"INDEX(شهر3!#REF!,MATCH((B692&\"*\"&G692&\"*\"&D692&\"*\"&E692),شهر3!#REF!&\"*\"&شهر3!#REF!&\"*\"&شهر3!#REF!&\"*\"&شهر3!#REF!,0))","v":{"$error":"#REF!"}}]
[null,null,{"$f":"VLOOKUP(B693,برقية!$A$2:$B$377,2,FALSE)","v":{"$error":"#N/A"}},null,null,{"$f":"INDEX(شهر3!#REF!,MATCH((B693&\"*\"&G693&\"*\"&D693&\"*\"&E693),شهر3!#REF!&\"*\"&شهر3!#REF!&\"*\"&شهر3!#REF!&\"*\"&شهر3!#REF!,0))","v":{"$error":"#REF!"}},null,{"$f":"INDEX(شهر3!#REF!,MATCH((B693&\"*\"&G693&\"*\"&D693&\"*\"&E693),شهر3!#REF!&\"*\"&شهر3!#REF!&\"*\"&شهر3!#REF!&\"*\"&شهر3!#REF!,0))","v":{"$error":"#REF!"}}]
[null,null,{"$f":"VLOOKUP(B694,برقية!$A$2:$B$377,2,FALSE)","v":{"$error":"#N/A"}},null,null,{"$f":"INDEX(شهر3!#REF!,MATCH((B694&\"*\"&G694&\"*\"&D694&\"*\"&E694),شهر3!#REF!&\"*\"&شهر3!#REF!&\"*\"&شهر3!#REF!&\"*\"&شهر3!#REF!,0))","v":{"$error":"#REF!"}},null,{"$f":"INDEX(شهر3!#REF!,MATCH((B694&\"*\"&G694&\"*\"&D694&\"*\"&E694),شهر3!#REF!&\"*\"&شهر3!#REF!&\"*\"&شهر3!#REF!&\"*\"&شهر3!#REF!,0))","v":{"$error":"#REF!"}}]
[null,null,{"$f":"VLOOKUP(B695,برقية!$A$2:$B$377,2,FALSE)","v":{"$error":"#N/A"}},null,null,{"$f":"INDEX(شهر3!#REF!,MATCH((B695&\"*\"&G695&\"*\"&D695&\"*\"&E695),شهر3!#REF!&\"*\"&شهر3!#REF!&\"*\"&شهر3!#REF!&\"*\"&شهر3!#REF!,0))","v":{"$error":"#REF!"}},null,{"$f":"INDEX(شهر3!#REF!,MATCH((B695&\"*\"&G695&\"*\"&D695&\"*\"&E695),شهر3!#REF!&\"*\"&شهر3!#REF!&\"*\"&شهر3!#REF!&\"*\"&شهر3!#REF!,0))","v":{"$error":"#REF!"}}]
[null,null,{"$f":"VLOOKUP(B696,برقية!$A$2:$B$377,2,FALSE)","v":{"$error":"#N/A"}},null,null,{"$f":"INDEX(شهر3!#REF!,MATCH((B696&\"*\"&G696&\"*\"&D696&\"*\"&E696),شهر3!#REF!&\"*\"&شهر3!#REF!&\"*\"&شهر3!#REF!&\"*\"&شهر3!#REF!,0))","v":{"$error":"#REF!"}},null,{"$f":"INDEX(شهر3!#REF!,MATCH((B696&\"*\"&G696&\"*\"&D696&\"*\"&E696),شهر3!#REF!&\"*\"&شهر3!#REF!&\"*\"&شهر3!#REF!&\"*\"&شهر3!#REF!,0))","v":{"$error":"#REF!"}}]
[null,null,{"$f":"VLOOKUP(B697,برقية!$A$2:$B$377,2,FALSE)","v":{"$error":"#N/A"}},null,null,{"$f":"INDEX(شهر3!#REF!,MATCH((B697&\"*\"&G697&\"*\"&D697&\"*\"&E697),شهر3!#REF!&\"*\"&شهر3!#REF!&\"*\"&شهر3!#REF!&\"*\"&شهر3!#REF!,0))","v":{"$error":"#REF!"}},null,{"$f":"INDEX(شهر3!#REF!,MATCH((B697&\"*\"&G697&\"*\"&D697&\"*\"&E697),شهر3!#REF!&\"*\"&شهر3!#REF!&\"*\"&شهر3!#REF!&\"*\"&شهر3!#REF!,0))","v":{"$error":"#REF!"}}]
[null,null,{"$f":"VLOOKUP(B698,برقية!$A$2:$B$377,2,FALSE)","v":{"$error":"#N/A"}},null,null,{"$f":"INDEX(شهر3!#REF!,MATCH((B698&\"*\"&G698&\"*\"&D698&\"*\"&E698),شهر3!#REF!&\"*\"&شهر3!#REF!&\"*\"&شهر3!#REF!&\"*\"&شهر3!#REF!,0))","v":{"$error":"#REF!"}},null,{"$f":"INDEX(شهر3!#REF!,MATCH((B698&\"*\"&G698&\"*\"&D698&\"*\"&E698),شهر3!#REF!&\"*\"&شهر3!#REF!&\"*\"&شهر3!#REF!&\"*\"&شهر3!#REF!,0))","v":{"$error":"#REF!"}}]
[null,null,{"$f":"VLOOKUP(B699,برقية!$A$2:$B$377,2,FALSE)","v":{"$error":"#N/A"}},null,null,{"$f":"INDEX(شهر3!#REF!,MATCH((B699&\"*\"&G699&\"*\"&D699&\"*\"&E699),شهر3!#REF!&\"*\"&شهر3!#REF!&\"*\"&شهر3!#REF!&\"*\"&شهر3!#REF!,0))","v":{"$error":"#REF!"}},null,{"$f":"INDEX(شهر3!#REF!,MATCH((B699&\"*\"&G699&\"*\"&D699&\"*\"&E699),شهر3!#REF!&\"*\"&شهر3!#REF!&\"*\"&شهر3!#REF!&\"*\"&شهر3!#REF!,0))","v":{"$error":"#REF!"}}]
[null,null,{"$f":"VLOOKUP(B700,برقية!$A$2:$B$377,2,FALSE)","v":{"$error":"#N/A"}},null,null,{"$f":"INDEX(شهر3!#REF!,MATCH((B700&\"*\"&G700&\"*\"&D700&\"*\"&E700),شهر3!#REF!&\"*\"&شهر3!#REF!&\"*\"&شهر3!#REF!&\"*\"&شهر3!#REF!,0))","v":{"$error":"#REF!"}},null,{"$f":"INDEX(شهر3!#REF!,MATCH((B700&\"*\"&G700&\"*\"&D700&\"*\"&E700),شهر3!#REF!&\"*\"&شهر3!#REF!&\"*\"&شهر3!#REF!&\"*\"&شهر3!#REF!,0))","v":{"$error":"#REF!"}}]
[null,null,{"$f":"VLOOKUP(B701,برقية!$A$2:$B$377,2,FALSE)","v":{"$error":"#N/A"}},null,null,{"$f":"INDEX(شهر3!#REF!,MATCH((B701&\"*\"&G701&\"*\"&D701&\"*\"&E701),شهر3!#REF!&\"*\"&شهر3!#REF!&\"*\"&شهر3!#REF!&\"*\"&شهر3!#REF!,0))","v":{"$error":"#REF!"}},null,{"$f":"INDEX(شهر3!#REF!,MATCH((B701&\"*\"&G701&\"*\"&D701&\"*\"&E701),شهر3!#REF!&\"*\"&شهر3!#REF!&\"*\"&شهر3!#REF!&\"*\"&شهر3!#REF!,0))","v":{"$error":"#REF!"}}]
[null,null,{"$f":"VLOOKUP(B702,برقية!$A$2:$B$377,2,FALSE)","v":{"$error":"#N/A"}},null,null,{"$f":"INDEX(شهر3!#REF!,MATCH((B702&\"*\"&G702&\"*\"&D702&\"*\"&E702),شهر3!#REF!&\"*\"&شهر3!#REF!&\"*\"&شهر3!#REF!&\"*\"&شهر3!#REF!,0))","v":{"$error":"#REF!"}},null,{"$f":"INDEX(شهر3!#REF!,MATCH((B702&\"*\"&G702&\"*\"&D702&\"*\"&E702),شهر3!#REF!&\"*\"&شهر3!#REF!&\"*\"&شهر3!#REF!&\"*\"&شهر3!#REF!,0))","v":{"$error":"#REF!"}}]
[null,null,{"$f":"VLOOKUP(B703,برقية!$A$2:$B$377,2,FALSE)","v":{"$error":"#N/A"}},null,null,{"$f":"INDEX(شهر3!#REF!,MATCH((B703&\"*\"&G703&\"*\"&D703&\"*\"&E703),شهر3!#REF!&\"*\"&شهر3!#REF!&\"*\"&شهر3!#REF!&\"*\"&شهر3!#REF!,0))","v":{"$error":"#REF!"}},null,{"$f":"INDEX(شهر3!#REF!,MATCH((B703&\"*\"&G703&\"*\"&D703&\"*\"&E703),شهر3!#REF!&\"*\"&شهر3!#REF!&\"*\"&شهر3!#REF!&\"*\"&شهر3!#REF!,0))","v":{"$error":"#REF!"}}]
[null,null,{"$f":"VLOOKUP(B704,برقية!$A$2:$B$377,2,FALSE)","v":{"$error":"#N/A"}},null,null,{"$f":"INDEX(شهر3!#REF!,MATCH((B704&\"*\"&G704&\"*\"&D704&\"*\"&E704),شهر3!#REF!&\"*\"&شهر3!#REF!&\"*\"&شهر3!#REF!&\"*\"&شهر3!#REF!,0))","v":{"$error":"#REF!"}},null,{"$f":"INDEX(شهر3!#REF!,MATCH((B704&\"*\"&G704&\"*\"&D704&\"*\"&E704),شهر3!#REF!&\"*\"&شهر3!#REF!&\"*\"&شهر3!#REF!&\"*\"&شهر3!#REF!,0))","v":{"$error":"#REF!"}}]
[null,null,{"$f":"VLOOKUP(B705,برقية!$A$2:$B$377,2,FALSE)","v":{"$error":"#N/A"}},null,null,{"$f":"INDEX(شهر3!#REF!,MATCH((B705&\"*\"&G705&\"*\"&D705&\"*\"&E705),شهر3!#REF!&\"*\"&شهر3!#REF!&\"*\"&شهر3!#REF!&\"*\"&شهر3!#REF!,0))","v":{"$error":"#REF!"}},null,{"$f":"INDEX(شهر3!#REF!,MATCH((B705&\"*\"&G705&\"*\"&D705&\"*\"&E705),شهر3!#REF!&\"*\"&شهر3!#REF!&\"*\"&شهر3!#REF!&\"*\"&شهر3!#REF!,0))","v":{"$error":"#REF!"}}]
[null,null,{"$f":"VLOOKUP(B706,برقية!$A$2:$B$377,2,FALSE)","v":{"$error":"#N/A"}},null,null,{"$f":"INDEX(شهر3!#REF!,MATCH((B706&\"*\"&G706&\"*\"&D706&\"*\"&E706),شهر3!#REF!&\"*\"&شهر3!#REF!&\"*\"&شهر3!#REF!&\"*\"&شهر3!#REF!,0))","v":{"$error":"#REF!"}},null,{"$f":"INDEX(شهر3!#REF!,MATCH((B706&\"*\"&G706&\"*\"&D706&\"*\"&E706),شهر3!#REF!&\"*\"&شهر3!#REF!&\"*\"&شهر3!#REF!&\"*\"&شهر3!#REF!,0))","v":{"$error":"#REF!"}}]
[null,null,{"$f":"VLOOKUP(B707,برقية!$A$2:$B$377,2,FALSE)","v":{"$error":"#N/A"}},null,null,{"$f":"INDEX(شهر3!#REF!,MATCH((B707&\"*\"&G707&\"*\"&D707&\"*\"&E707),شهر3!#REF!&\"*\"&شهر3!#REF!&\"*\"&شهر3!#REF!&\"*\"&شهر3!#REF!,0))","v":{"$error":"#REF!"}},null,{"$f":"INDEX(شهر3!#REF!,MATCH((B707&\"*\"&G707&\"*\"&D707&\"*\"&E707),شهر3!#REF!&\"*\"&شهر3!#REF!&\"*\"&شهر3!#REF!&\"*\"&شهر3!#REF!,0))","v":{"$error":"#REF!"}}]
[null,null,{"$f":"VLOOKUP(B708,برقية!$A$2:$B$377,2,FALSE)","v":{"$error":"#N/A"}},null,null,{"$f":"INDEX(شهر3!#REF!,MATCH((B708&\"*\"&G708&\"*\"&D708&\"*\"&E708),شهر3!#REF!&\"*\"&شهر3!#REF!&\"*\"&شهر3!#REF!&\"*\"&شهر3!#REF!,0))","v":{"$error":"#REF!"}},null,{"$f":"INDEX(شهر3!#REF!,MATCH((B708&\"*\"&G708&\"*\"&D708&\"*\"&E708),شهر3!#REF!&\"*\"&شهر3!#REF!&\"*\"&شهر3!#REF!&\"*\"&شهر3!#REF!,0))","v":{"$error":"#REF!"}}]
[null,null,{"$f":"VLOOKUP(B709,برقية!$A$2:$B$377,2,FALSE)","v":{"$error":"#N/A"}},null,null,{"$f":"INDEX(شهر3!#REF!,MATCH((B709&\"*\"&G709&\"*\"&D709&\"*\"&E709),شهر3!#REF!&\"*\"&شهر3!#REF!&\"*\"&شهر3!#REF!&\"*\"&شهر3!#REF!,0))","v":{"$error":"#REF!"}},null,{"$f":"INDEX(شهر3!#REF!,MATCH((B709&\"*\"&G709&\"*\"&D709&\"*\"&E709),شهر3!#REF!&\"*\"&شهر3!#REF!&\"*\"&شهر3!#REF!&\"*\"&شهر3!#REF!,0))","v":{"$error":"#REF!"}}]
[null,null,{"$f":"VLOOKUP(B710,برقية!$A$2:$B$377,2,FALSE)","v":{"$error":"#N/A"}},null,null,{"$f":"INDEX(شهر3!#REF!,MATCH((B710&\"*\"&G710&\"*\"&D710&\"*\"&E710),شهر3!#REF!&\"*\"&شهر3!#REF!&\"*\"&شهر3!#REF!&\"*\"&شهر3!#REF!,0))","v":{"$error":"#REF!"}},null,{"$f":"INDEX(شهر3!#REF!,MATCH((B710&\"*\"&G710&\"*\"&D710&\"*\"&E710),شهر3!#REF!&\"*\"&شهر3!#REF!&\"*\"&شهر3!#REF!&\"*\"&شهر3!#REF!,0))","v":{"$error":"#REF!"}}]
[null,null,{"$f":"VLOOKUP(B711,برقية!$A$2:$B$377,2,FALSE)","v":{"$error":"#N/A"}},null,null,{"$f":"INDEX(شهر3!#REF!,MATCH((B711&\"*\"&G711&\"*\"&D711&\"*\"&E711),شهر3!#REF!&\"*\"&شهر3!#REF!&\"*\"&شهر3!#REF!&\"*\"&شهر3!#REF!,0))","v":{"$error":"#REF!"}},null,{"$f":"INDEX(شهر3!#REF!,MATCH((B711&\"*\"&G711&\"*\"&D711&\"*\"&E711),شهر3!#REF!&\"*\"&شهر3!#REF!&\"*\"&شهر3!#REF!&\"*\"&شهر3!#REF!,0))","v":{"$error":"#REF!"}}]
[null,null,{"$f":"VLOOKUP(B712,برقية!$A$2:$B$377,2,FALSE)","v":{"$error":"#N/A"}},null,null,{"$f":"INDEX(شهر3!#REF!,MATCH((B712&\"*\"&G712&\"*\"&D712&\"*\"&E712),شهر3!#REF!&\"*\"&شهر3!#REF!&\"*\"&شهر3!#REF!&\"*\"&شهر3!#REF!,0))","v":{"$error":"#REF!"}},null,{"$f":"INDEX(شهر3!#REF!,MATCH((B712&\"*\"&G712&\"*\"&D712&\"*\"&E712),شهر3!#REF!&\"*\"&شهر3!#REF!&\"*\"&شهر3!#REF!&\"*\"&شهر3!#REF!,0))","v":{"$error":"#REF!"}}]
[null,null,{"$f":"VLOOKUP(B713,برقية!$A$2:$B$377,2,FALSE)","v":{"$error":"#N/A"}},null,null,{"$f":"INDEX(شهر3!#REF!,MATCH((B713&\"*\"&G713&\"*\"&D713&\"*\"&E713),شهر3!#REF!&\"*\"&شهر3!#REF!&\"*\"&شهر3!#REF!&\"*\"&شهر3!#REF!,0))","v":{"$error":"#REF!"}},null,{"$f":"INDEX(شهر3!#REF!,MATCH((B713&\"*\"&G713&\"*\"&D713&\"*\"&E713),شهر3!#REF!&\"*\"&شهر3!#REF!&\"*\"&شهر3!#REF!&\"*\"&شهر3!#REF!,0))","v":{"$error":"#REF!"}}]
[null,null,{"$f":"VLOOKUP(B714,برقية!$A$2:$B$377,2,FALSE)","v":{"$error":"#N/A"}},null,null,{"$f":"INDEX(شهر3!#REF!,MATCH((B714&\"*\"&G714&\"*\"&D714&\"*\"&E714),شهر3!#REF!&\"*\"&شهر3!#REF!&\"*\"&شهر3!#REF!&\"*\"&شهر3!#REF!,0))","v":{"$error":"#REF!"}},null,{"$f":"INDEX(شهر3!#REF!,MATCH((B714&\"*\"&G714&\"*\"&D714&\"*\"&E714),شهر3!#REF!&\"*\"&شهر3!#REF!&\"*\"&شهر3!#REF!&\"*\"&شهر3!#REF!,0))","v":{"$error":"#REF!"}}]
[null,null,{"$f":"VLOOKUP(B715,برقية!$A$2:$B$377,2,FALSE)","v":{"$error":"#N/A"}},null,null,{"$f":"INDEX(شهر3!#REF!,MATCH((B715&\"*\"&G715&\"*\"&D715&\"*\"&E715),شهر3!#REF!&\"*\"&شهر3!#REF!&\"*\"&شهر3!#REF!&\"*\"&شهر3!#REF!,0))","v":{"$error":"#REF!"}},null,{"$f":"INDEX(شهر3!#REF!,MATCH((B715&\"*\"&G715&\"*\"&D715&\"*\"&E715),شهر3!#REF!&\"*\"&شهر3!#REF!&\"*\"&شهر3!#REF!&\"*\"&شهر3!#REF!,0))","v":{"$error":"#REF!"}}]
[null,null,{"$f":"VLOOKUP(B716,برقية!$A$2:$B$377,2,FALSE)","v":{"$error":"#N/A"}},null,null,{"$f":"INDEX(شهر3!#REF!,MATCH((B716&\"*\"&G716&\"*\"&D716&\"*\"&E716),شهر3!#REF!&\"*\"&شهر3!#REF!&\"*\"&شهر3!#REF!&\"*\"&شهر3!#REF!,0))","v":{"$error":"#REF!"}},null,{"$f":"INDEX(شهر3!#REF!,MATCH((B716&\"*\"&G716&\"*\"&D716&\"*\"&E716),شهر3!#REF!&\"*\"&شهر3!#REF!&\"*\"&شهر3!#REF!&\"*\"&شهر3!#REF!,0))","v":{"$error":"#REF!"}}]
[null,null,{"$f":"VLOOKUP(B717,برقية!$A$2:$B$377,2,FALSE)","v":{"$error":"#N/A"}},null,null,{"$f":"INDEX(شهر3!#REF!,MATCH((B717&\"*\"&G717&\"*\"&D717&\"*\"&E717),شهر3!#REF!&\"*\"&شهر3!#REF!&\"*\"&شهر3!#REF!&\"*\"&شهر3!#REF!,0))","v":{"$error":"#REF!"}},null,{"$f":"INDEX(شهر3!#REF!,MATCH((B717&\"*\"&G717&\"*\"&D717&\"*\"&E717),شهر3!#REF!&\"*\"&شهر3!#REF!&\"*\"&شهر3!#REF!&\"*\"&شهر3!#REF!,0))","v":{"$error":"#REF!"}}]
[null,null,{"$f":"VLOOKUP(B718,برقية!$A$2:$B$377,2,FALSE)","v":{"$error":"#N/A"}},null,null,{"$f":"INDEX(شهر3!#REF!,MATCH((B718&\"*\"&G718&\"*\"&D718&\"*\"&E718),شهر3!#REF!&\"*\"&شهر3!#REF!&\"*\"&شهر3!#REF!&\"*\"&شهر3!#REF!,0))","v":{"$error":"#REF!"}},null,{"$f":"INDEX(شهر3!#REF!,MATCH((B718&\"*\"&G718&\"*\"&D718&\"*\"&E718),شهر3!#REF!&\"*\"&شهر3!#REF!&\"*\"&شهر3!#REF!&\"*\"&شهر3!#REF!,0))","v":{"$error":"#REF!"}}]
[null,null,{"$f":"VLOOKUP(B719,برقية!$A$2:$B$377,2,FALSE)","v":{"$error":"#N/A"}},null,null,{"$f":"INDEX(شهر3!#REF!,MATCH((B719&\"*\"&G719&\"*\"&D719&\"*\"&E719),شهر3!#REF!&\"*\"&شهر3!#REF!&\"*\"&شهر3!#REF!&\"*\"&شهر3!#REF!,0))","v":{"$error":"#REF!"}},null,{"$f":"INDEX(شهر3!#REF!,MATCH((B719&\"*\"&G719&\"*\"&D719&\"*\"&E719),شهر3!#REF!&\"*\"&شهر3!#REF!&\"*\"&شهر3!#REF!&\"*\"&شهر3!#REF!,0))","v":{"$error":"#REF!"}}]
[null,null,{"$f":"VLOOKUP(B720,برقية!$A$2:$B$377,2,FALSE)","v":{"$error":"#N/A"}},null,null,{"$f":"INDEX(شهر3!#REF!,MATCH((B720&\"*\"&G720&\"*\"&D720&\"*\"&E720),شهر3!#REF!&\"*\"&شهر3!#REF!&\"*\"&شهر3!#REF!&\"*\"&شهر3!#REF!,0))","v":{"$error":"#REF!"}},null,{"$f":"INDEX(شهر3!#REF!,MATCH((B720&\"*\"&G720&\"*\"&D720&\"*\"&E720),شهر3!#REF!&\"*\"&شهر3!#REF!&\"*\"&شهر3!#REF!&\"*\"&شهر3!#REF!,0))","v":{"$error":"#REF!"}}]
[null,null,{"$f":"VLOOKUP(B721,برقية!$A$2:$B$377,2,FALSE)","v":{"$error":"#N/A"}},null,null,{"$f":"INDEX(شهر3!#REF!,MATCH((B721&\"*\"&G721&\"*\"&D721&\"*\"&E721),شهر3!#REF!&\"*\"&شهر3!#REF!&\"*\"&شهر3!#REF!&\"*\"&شهر3!#REF!,0))","v":{"$error":"#REF!"}},null,{"$f":"INDEX(شهر3!#REF!,MATCH((B721&\"*\"&G721&\"*\"&D721&\"*\"&E721),شهر3!#REF!&\"*\"&شهر3!#REF!&\"*\"&شهر3!#REF!&\"*\"&شهر3!#REF!,0))","v":{"$error":"#REF!"}}]
[null,null,{"$f":"VLOOKUP(B722,برقية!$A$2:$B$377,2,FALSE)","v":{"$error":"#N/A"}},null,null,{"$f":"INDEX(شهر3!#REF!,MATCH((B722&\"*\"&G722&\"*\"&D722&\"*\"&E722),شهر3!#REF!&\"*\"&شهر3!#REF!&\"*\"&شهر3!#REF!&\"*\"&شهر3!#REF!,0))","v":{"$error":"#REF!"}},null,{"$f":"INDEX(شهر3!#REF!,MATCH((B722&\"*\"&G722&\"*\"&D722&\"*\"&E722),شهر3!#REF!&\"*\"&شهر3!#REF!&\"*\"&شهر3!#REF!&\"*\"&شهر3!#REF!,0))","v":{"$error":"#REF!"}}]
[null,null,{"$f":"VLOOKUP(B723,برقية!$A$2:$B$377,2,FALSE)","v":{"$error":"#N/A"}},null,null,{"$f":"INDEX(شهر3!#REF!,MATCH((B723&\"*\"&G723&\"*\"&D723&\"*\"&E723),شهر3!#REF!&\"*\"&شهر3!#REF!&\"*\"&شهر3!#REF!&\"*\"&شهر3!#REF!,0))","v":{"$error":"#REF!"}},null,{"$f":"INDEX(شهر3!#REF!,MATCH((B723&\"*\"&G723&\"*\"&D723&\"*\"&E723),شهر3!#REF!&\"*\"&شهر3!#REF!&\"*\"&شهر3!#REF!&\"*\"&شهر3!#REF!,0))","v":{"$error":"#REF!"}}]
[null,null,{"$f":"VLOOKUP(B724,برقية!$A$2:$B$377,2,FALSE)","v":{"$error":"#N/A"}},null,null,{"$f":"INDEX(شهر3!#REF!,MATCH((B724&\"*\"&G724&\"*\"&D724&\"*\"&E724),شهر3!#REF!&\"*\"&شهر3!#REF!&\"*\"&شهر3!#REF!&\"*\"&شهر3!#REF!,0))","v":{"$error":"#REF!"}},null,{"$f":"INDEX(شهر3!#REF!,MATCH((B724&\"*\"&G724&\"*\"&D724&\"*\"&E724),شهر3!#REF!&\"*\"&شهر3!#REF!&\"*\"&شهر3!#REF!&\"*\"&شهر3!#REF!,0))","v":{"$error":"#REF!"}}]
[null,null,{"$f":"VLOOKUP(B725,برقية!$A$2:$B$377,2,FALSE)","v":{"$error":"#N/A"}},null,null,{"$f":"INDEX(شهر3!#REF!,MATCH((B725&\"*\"&G725&\"*\"&D725&\"*\"&E725),شهر3!#REF!&\"*\"&شهر3!#REF!&\"*\"&شهر3!#REF!&\"*\"&شهر3!#REF!,0))","v":{"$error":"#REF!"}},null,{"$f":"INDEX(شهر3!#REF!,MATCH((B725&\"*\"&G725&\"*\"&D725&\"*\"&E725),شهر3!#REF!&\"*\"&شهر3!#REF!&\"*\"&شهر3!#REF!&\"*\"&شهر3!#REF!,0))","v":{"$error":"#REF!"}}]
[null,null,{"$f":"VLOOKUP(B726,برقية!$A$2:$B$377,2,FALSE)","v":{"$error":"#N/A"}},null,null,{"$f":"INDEX(شهر3!#REF!,MATCH((B726&\"*\"&G726&\"*\"&D726&\"*\"&E726),شهر3!#REF!&\"*\"&شهر3!#REF!&\"*\"&شهر3!#REF!&\"*\"&شهر3!#REF!,0))","v":{"$error":"#REF!"}},null,{"$f":"INDEX(شهر3!#REF!,MATCH((B726&\"*\"&G726&\"*\"&D726&\"*\"&E726),شهر3!#REF!&\"*\"&شهر3!#REF!&\"*\"&شهر3!#REF!&\"*\"&شهر3!#REF!,0))","v":{"$error":"#REF!"}}]
[null,null,{"$f":"VLOOKUP(B727,برقية!$A$2:$B$377,2,FALSE)","v":{"$error":"#N/A"}},null,null,{"$f":"INDEX(شهر3!#REF!,MATCH((B727&\"*\"&G727&\"*\"&D727&\"*\"&E727),شهر3!#REF!&\"*\"&شهر3!#REF!&\"*\"&شهر3!#REF!&\"*\"&شهر3!#REF!,0))","v":{"$error":"#REF!"}},null,{"$f":"INDEX(شهر3!#REF!,MATCH((B727&\"*\"&G727&\"*\"&D727&\"*\"&E727),شهر3!#REF!&\"*\"&شهر3!#REF!&\"*\"&شهر3!#REF!&\"*\"&شهر3!#REF!,0))","v":{"$error":"#REF!"}}]
[null,null,{"$f":"VLOOKUP(B728,برقية!$A$2:$B$377,2,FALSE)","v":{"$error":"#N/A"}},null,null,{"$f":"INDEX(شهر3!#REF!,MATCH((B728&\"*\"&G728&\"*\"&D728&\"*\"&E728),شهر3!#REF!&\"*\"&شهر3!#REF!&\"*\"&شهر3!#REF!&\"*\"&شهر3!#REF!,0))","v":{"$error":"#REF!"}},null,{"$f":"INDEX(شهر3!#REF!,MATCH((B728&\"*\"&G728&\"*\"&D728&\"*\"&E728),شهر3!#REF!&\"*\"&شهر3!#REF!&\"*\"&شهر3!#REF!&\"*\"&شهر3!#REF!,0))","v":{"$error":"#REF!"}}]
[null,null,{"$f":"VLOOKUP(B729,برقية!$A$2:$B$377,2,FALSE)","v":{"$error":"#N/A"}},null,null,{"$f":"INDEX(شهر3!#REF!,MATCH((B729&\"*\"&G729&\"*\"&D729&\"*\"&E729),شهر3!#REF!&\"*\"&شهر3!#REF!&\"*\"&شهر3!#REF!&\"*\"&شهر3!#REF!,0))","v":{"$error":"#REF!"}},null,{"$f":"INDEX(شهر3!#REF!,MATCH((B729&\"*\"&G729&\"*\"&D729&\"*\"&E729),شهر3!#REF!&\"*\"&شهر3!#REF!&\"*\"&شهر3!#REF!&\"*\"&شهر3!#REF!,0))","v":{"$error":"#REF!"}}]
[null,null,{"$f":"VLOOKUP(B730,برقية!$A$2:$B$377,2,FALSE)","v":{"$error":"#N/A"}},null,null,{"$f":"INDEX(شهر3!#REF!,MATCH((B730&\"*\"&G730&\"*\"&D730&\"*\"&E730),شهر3!#REF!&\"*\"&شهر3!#REF!&\"*\"&شهر3!#REF!&\"*\"&شهر3!#REF!,0))","v":{"$error":"#REF!"}},null,{"$f":"INDEX(شهر3!#REF!,MATCH((B730&\"*\"&G730&\"*\"&D730&\"*\"&E730),شهر3!#REF!&\"*\"&شهر3!#REF!&\"*\"&شهر3!#REF!&\"*\"&شهر3!#REF!,0))","v":{"$error":"#REF!"}}]
[null,null,{"$f":"VLOOKUP(B731,برقية!$A$2:$B$377,2,FALSE)","v":{"$error":"#N/A"}},null,null,{"$f":"INDEX(شهر3!#REF!,MATCH((B731&\"*\"&G731&\"*\"&D731&\"*\"&E731),شهر3!#REF!&\"*\"&شهر3!#REF!&\"*\"&شهر3!#REF!&\"*\"&شهر3!#REF!,0))","v":{"$error":"#REF!"}},null,{"$f":"INDEX(شهر3!#REF!,MATCH((B731&\"*\"&G731&\"*\"&D731&\"*\"&E731),شهر3!#REF!&\"*\"&شهر3!#REF!&\"*\"&شهر3!#REF!&\"*\"&شهر3!#REF!,0))","v":{"$error":"#REF!"}}]
[null,null,{"$f":"VLOOKUP(B732,برقية!$A$2:$B$377,2,FALSE)","v":{"$error":"#N/A"}},null,null,{"$f":"INDEX(شهر3!#REF!,MATCH((B732&\"*\"&G732&\"*\"&D732&\"*\"&E732),شهر3!#REF!&\"*\"&شهر3!#REF!&\"*\"&شهر3!#REF!&\"*\"&شهر3!#REF!,0))","v":{"$error":"#REF!"}},null,{"$f":"INDEX(شهر3!#REF!,MATCH((B732&\"*\"&G732&\"*\"&D732&\"*\"&E732),شهر3!#REF!&\"*\"&شهر3!#REF!&\"*\"&شهر3!#REF!&\"*\"&شهر3!#REF!,0))","v":{"$error":"#REF!"}}]
[null,null,{"$f":"VLOOKUP(B733,برقية!$A$2:$B$377,2,FALSE)","v":{"$error":"#N/A"}},null,null,{"$f":"INDEX(شهر3!#REF!,MATCH((B733&\"*\"&G733&\"*\"&D733&\"*\"&E733),شهر3!#REF!&\"*\"&شهر3!#REF!&\"*\"&شهر3!#REF!&\"*\"&شهر3!#REF!,0))","v":{"$error":"#REF!"}},null,{"$f":"INDEX(شهر3!#REF!,MATCH((B733&\"*\"&G733&\"*\"&D733&\"*\"&E733),شهر3!#REF!&\"*\"&شهر3!#REF!&\"*\"&شهر3!#REF!&\"*\"&شهر3!#REF!,0))","v":{"$error":"#REF!"}}]
[null,null,{"$f":"VLOOKUP(B734,برقية!$A$2:$B$377,2,FALSE)","v":{"$error":"#N/A"}},null,null,{"$f":"INDEX(شهر3!#REF!,MATCH((B734&\"*\"&G734&\"*\"&D734&\"*\"&E734),شهر3!#REF!&\"*\"&شهر3!#REF!&\"*\"&شهر3!#REF!&\"*\"&شهر3!#REF!,0))","v":{"$error":"#REF!"}},null,{"$f":"INDEX(شهر3!#REF!,MATCH((B734&\"*\"&G734&\"*\"&D734&\"*\"&E734),شهر3!#REF!&\"*\"&شهر3!#REF!&\"*\"&شهر3!#REF!&\"*\"&شهر3!#REF!,0))","v":{"$error":"#REF!"}}]
[null,null,{"$f":"VLOOKUP(B735,برقية!$A$2:$B$377,2,FALSE)","v":{"$error":"#N/A"}},null,null,{"$f":"INDEX(شهر3!#REF!,MATCH((B735&\"*\"&G735&\"*\"&D735&\"*\"&E735),شهر3!#REF!&\"*\"&شهر3!#REF!&\"*\"&شهر3!#REF!&\"*\"&شهر3!#REF!,0))","v":{"$error":"#REF!"}},null,{"$f":"INDEX(شهر3!#REF!,MATCH((B735&\"*\"&G735&\"*\"&D735&\"*\"&E735),شهر3!#REF!&\"*\"&شهر3!#REF!&\"*\"&شهر3!#REF!&\"*\"&شهر3!#REF!,0))","v":{"$error":"#REF!"}}]
[null,null,{"$f":"VLOOKUP(B736,برقية!$A$2:$B$377,2,FALSE)","v":{"$error":"#N/A"}},null,null,{"$f":"INDEX(شهر3!#REF!,MATCH((B736&\"*\"&G736&\"*\"&D736&\"*\"&E736),شهر3!#REF!&\"*\"&شهر3!#REF!&\"*\"&شهر3!#REF!&\"*\"&شهر3!#REF!,0))","v":{"$error":"#REF!"}},null,{"$f":"INDEX(شهر3!#REF!,MATCH((B736&\"*\"&G736&\"*\"&D736&\"*\"&E736),شهر3!#REF!&\"*\"&شهر3!#REF!&\"*\"&شهر3!#REF!&\"*\"&شهر3!#REF!,0))","v":{"$error":"#REF!"}}]
[null,null,{"$f":"VLOOKUP(B737,برقية!$A$2:$B$377,2,FALSE)","v":{"$error":"#N/A"}},null,null,{"$f":"INDEX(شهر3!#REF!,MATCH((B737&\"*\"&G737&\"*\"&D737&\"*\"&E737),شهر3!#REF!&\"*\"&شهر3!#REF!&\"*\"&شهر3!#REF!&\"*\"&شهر3!#REF!,0))","v":{"$error":"#REF!"}},null,{"$f":"INDEX(شهر3!#REF!,MATCH((B737&\"*\"&G737&\"*\"&D737&\"*\"&E737),شهر3!#REF!&\"*\"&شهر3!#REF!&\"*\"&شهر3!#REF!&\"*\"&شهر3!#REF!,0))","v":{"$error":"#REF!"}}]
[null,null,{"$f":"VLOOKUP(B738,برقية!$A$2:$B$377,2,FALSE)","v":{"$error":"#N/A"}},null,null,{"$f":"INDEX(شهر3!#REF!,MATCH((B738&\"*\"&G738&\"*\"&D738&\"*\"&E738),شهر3!#REF!&\"*\"&شهر3!#REF!&\"*\"&شهر3!#REF!&\"*\"&شهر3!#REF!,0))","v":{"$error":"#REF!"}},null,{"$f":"INDEX(شهر3!#REF!,MATCH((B738&\"*\"&G738&\"*\"&D738&\"*\"&E738),شهر3!#REF!&\"*\"&شهر3!#REF!&\"*\"&شهر3!#REF!&\"*\"&شهر3!#REF!,0))","v":{"$error":"#REF!"}}]
[null,null,{"$f":"VLOOKUP(B739,برقية!$A$2:$B$377,2,FALSE)","v":{"$error":"#N/A"}},null,null,{"$f":"INDEX(شهر3!#REF!,MATCH((B739&\"*\"&G739&\"*\"&D739&\"*\"&E739),شهر3!#REF!&\"*\"&شهر3!#REF!&\"*\"&شهر3!#REF!&\"*\"&شهر3!#REF!,0))","v":{"$error":"#REF!"}},null,{"$f":"INDEX(شهر3!#REF!,MATCH((B739&\"*\"&G739&\"*\"&D739&\"*\"&E739),شهر3!#REF!&\"*\"&شهر3!#REF!&\"*\"&شهر3!#REF!&\"*\"&شهر3!#REF!,0))","v":{"$error":"#REF!"}}]
[null,null,{"$f":"VLOOKUP(B740,برقية!$A$2:$B$377,2,FALSE)","v":{"$error":"#N/A"}},null,null,{"$f":"INDEX(شهر3!#REF!,MATCH((B740&\"*\"&G740&\"*\"&D740&\"*\"&E740),شهر3!#REF!&\"*\"&شهر3!#REF!&\"*\"&شهر3!#REF!&\"*\"&شهر3!#REF!,0))","v":{"$error":"#REF!"}},null,{"$f":"INDEX(شهر3!#REF!,MATCH((B740&\"*\"&G740&\"*\"&D740&\"*\"&E740),شهر3!#REF!&\"*\"&شهر3!#REF!&\"*\"&شهر3!#REF!&\"*\"&شهر3!#REF!,0))","v":{"$error":"#REF!"}}]
[null,null,{"$f":"VLOOKUP(B741,برقية!$A$2:$B$377,2,FALSE)","v":{"$error":"#N/A"}},null,null,{"$f":"INDEX(شهر3!#REF!,MATCH((B741&\"*\"&G741&\"*\"&D741&\"*\"&E741),شهر3!#REF!&\"*\"&شهر3!#REF!&\"*\"&شهر3!#REF!&\"*\"&شهر3!#REF!,0))","v":{"$error":"#REF!"}},null,{"$f":"INDEX(شهر3!#REF!,MATCH((B741&\"*\"&G741&\"*\"&D741&\"*\"&E741),شهر3!#REF!&\"*\"&شهر3!#REF!&\"*\"&شهر3!#REF!&\"*\"&شهر3!#REF!,0))","v":{"$error":"#REF!"}}]
[null,null,{"$f":"VLOOKUP(B742,برقية!$A$2:$B$377,2,FALSE)","v":{"$error":"#N/A"}},null,null,{"$f":"INDEX(شهر3!#REF!,MATCH((B742&\"*\"&G742&\"*\"&D742&\"*\"&E742),شهر3!#REF!&\"*\"&شهر3!#REF!&\"*\"&شهر3!#REF!&\"*\"&شهر3!#REF!,0))","v":{"$error":"#REF!"}},null,{"$f":"INDEX(شهر3!#REF!,MATCH((B742&\"*\"&G742&\"*\"&D742&\"*\"&E742),شهر3!#REF!&\"*\"&شهر3!#REF!&\"*\"&شهر3!#REF!&\"*\"&شهر3!#REF!,0))","v":{"$error":"#REF!"}}]
[null,null,{"$f":"VLOOKUP(B743,برقية!$A$2:$B$377,2,FALSE)","v":{"$error":"#N/A"}},null,null,{"$f":"INDEX(شهر3!#REF!,MATCH((B743&\"*\"&G743&\"*\"&D743&\"*\"&E743),شهر3!#REF!&\"*\"&شهر3!#REF!&\"*\"&شهر3!#REF!&\"*\"&شهر3!#REF!,0))","v":{"$error":"#REF!"}},null,{"$f":"INDEX(شهر3!#REF!,MATCH((B743&\"*\"&G743&\"*\"&D743&\"*\"&E743),شهر3!#REF!&\"*\"&شهر3!#REF!&\"*\"&شهر3!#REF!&\"*\"&شهر3!#REF!,0))","v":{"$error":"#REF!"}}]
[null,null,{"$f":"VLOOKUP(B744,برقية!$A$2:$B$377,2,FALSE)","v":{"$error":"#N/A"}},null,null,{"$f":"INDEX(شهر3!#REF!,MATCH((B744&\"*\"&G744&\"*\"&D744&\"*\"&E744),شهر3!#REF!&\"*\"&شهر3!#REF!&\"*\"&شهر3!#REF!&\"*\"&شهر3!#REF!,0))","v":{"$error":"#REF!"}},null,{"$f":"INDEX(شهر3!#REF!,MATCH((B744&\"*\"&G744&\"*\"&D744&\"*\"&E744),شهر3!#REF!&\"*\"&شهر3!#REF!&\"*\"&شهر3!#REF!&\"*\"&شهر3!#REF!,0))","v":{"$error":"#REF!"}}]
[null,null,{"$f":"VLOOKUP(B745,برقية!$A$2:$B$377,2,FALSE)","v":{"$error":"#N/A"}},null,null,{"$f":"INDEX(شهر3!#REF!,MATCH((B745&\"*\"&G745&\"*\"&D745&\"*\"&E745),شهر3!#REF!&\"*\"&شهر3!#REF!&\"*\"&شهر3!#REF!&\"*\"&شهر3!#REF!,0))","v":{"$error":"#REF!"}},null,{"$f":"INDEX(شهر3!#REF!,MATCH((B745&\"*\"&G745&\"*\"&D745&\"*\"&E745),شهر3!#REF!&\"*\"&شهر3!#REF!&\"*\"&شهر3!#REF!&\"*\"&شهر3!#REF!,0))","v":{"$error":"#REF!"}}]
[null,null,{"$f":"VLOOKUP(B746,برقية!$A$2:$B$377,2,FALSE)","v":{"$error":"#N/A"}},null,null,{"$f":"INDEX(شهر3!#REF!,MATCH((B746&\"*\"&G746&\"*\"&D746&\"*\"&E746),شهر3!#REF!&\"*\"&شهر3!#REF!&\"*\"&شهر3!#REF!&\"*\"&شهر3!#REF!,0))","v":{"$error":"#REF!"}},null,{"$f":"INDEX(شهر3!#REF!,MATCH((B746&\"*\"&G746&\"*\"&D746&\"*\"&E746),شهر3!#REF!&\"*\"&شهر3!#REF!&\"*\"&شهر3!#REF!&\"*\"&شهر3!#REF!,0))","v":{"$error":"#REF!"}}]
[null,null,{"$f":"VLOOKUP(B747,برقية!$A$2:$B$377,2,FALSE)","v":{"$error":"#N/A"}},null,null,{"$f":"INDEX(شهر3!#REF!,MATCH((B747&\"*\"&G747&\"*\"&D747&\"*\"&E747),شهر3!#REF!&\"*\"&شهر3!#REF!&\"*\"&شهر3!#REF!&\"*\"&شهر3!#REF!,0))","v":{"$error":"#REF!"}},null,{"$f":"INDEX(شهر3!#REF!,MATCH((B747&\"*\"&G747&\"*\"&D747&\"*\"&E747),شهر3!#REF!&\"*\"&شهر3!#REF!&\"*\"&شهر3!#REF!&\"*\"&شهر3!#REF!,0))","v":{"$error":"#REF!"}}]
[null,null,{"$f":"VLOOKUP(B748,برقية!$A$2:$B$377,2,FALSE)","v":{"$error":"#N/A"}},null,null,{"$f":"INDEX(شهر3!#REF!,MATCH((B748&\"*\"&G748&\"*\"&D748&\"*\"&E748),شهر3!#REF!&\"*\"&شهر3!#REF!&\"*\"&شهر3!#REF!&\"*\"&شهر3!#REF!,0))","v":{"$error":"#REF!"}},null,{"$f":"INDEX(شهر3!#REF!,MATCH((B748&\"*\"&G748&\"*\"&D748&\"*\"&E748),شهر3!#REF!&\"*\"&شهر3!#REF!&\"*\"&شهر3!#REF!&\"*\"&شهر3!#REF!,0))","v":{"$error":"#REF!"}}]
[null,null,{"$f":"VLOOKUP(B749,برقية!$A$2:$B$377,2,FALSE)","v":{"$error":"#N/A"}},null,null,{"$f":"INDEX(شهر3!#REF!,MATCH((B749&\"*\"&G749&\"*\"&D749&\"*\"&E749),شهر3!#REF!&\"*\"&شهر3!#REF!&\"*\"&شهر3!#REF!&\"*\"&شهر3!#REF!,0))","v":{"$error":"#REF!"}},null,{"$f":"INDEX(شهر3!#REF!,MATCH((B749&\"*\"&G749&\"*\"&D749&\"*\"&E749),شهر3!#REF!&\"*\"&شهر3!#REF!&\"*\"&شهر3!#REF!&\"*\"&شهر3!#REF!,0))","v":{"$error":"#REF!"}}]
[null,null,{"$f":"VLOOKUP(B750,برقية!$A$2:$B$377,2,FALSE)","v":{"$error":"#N/A"}},null,null,{"$f":"INDEX(شهر3!#REF!,MATCH((B750&\"*\"&G750&\"*\"&D750&\"*\"&E750),شهر3!#REF!&\"*\"&شهر3!#REF!&\"*\"&شهر3!#REF!&\"*\"&شهر3!#REF!,0))","v":{"$error":"#REF!"}},null,{"$f":"INDEX(شهر3!#REF!,MATCH((B750&\"*\"&G750&\"*\"&D750&\"*\"&E750),شهر3!#REF!&\"*\"&شهر3!#REF!&\"*\"&شهر3!#REF!&\"*\"&شهر3!#REF!,0))","v":{"$error":"#REF!"}}]
[null,null,{"$f":"VLOOKUP(B751,برقية!$A$2:$B$377,2,FALSE)","v":{"$error":"#N/A"}},null,null,{"$f":"INDEX(شهر3!#REF!,MATCH((B751&\"*\"&G751&\"*\"&D751&\"*\"&E751),شهر3!#REF!&\"*\"&شهر3!#REF!&\"*\"&شهر3!#REF!&\"*\"&شهر3!#REF!,0))","v":{"$error":"#REF!"}},null,{"$f":"INDEX(شهر3!#REF!,MATCH((B751&\"*\"&G751&\"*\"&D751&\"*\"&E751),شهر3!#REF!&\"*\"&شهر3!#REF!&\"*\"&شهر3!#REF!&\"*\"&شهر3!#REF!,0))","v":{"$error":"#REF!"}}]
[null,null,{"$f":"VLOOKUP(B752,برقية!$A$2:$B$377,2,FALSE)","v":{"$error":"#N/A"}},null,null,{"$f":"INDEX(شهر3!#REF!,MATCH((B752&\"*\"&G752&\"*\"&D752&\"*\"&E752),شهر3!#REF!&\"*\"&شهر3!#REF!&\"*\"&شهر3!#REF!&\"*\"&شهر3!#REF!,0))","v":{"$error":"#REF!"}},null,{"$f":"INDEX(شهر3!#REF!,MATCH((B752&\"*\"&G752&\"*\"&D752&\"*\"&E752),شهر3!#REF!&\"*\"&شهر3!#REF!&\"*\"&شهر3!#REF!&\"*\"&شهر3!#REF!,0))","v":{"$error":"#REF!"}}]
[null,null,{"$f":"VLOOKUP(B753,برقية!$A$2:$B$377,2,FALSE)","v":{"$error":"#N/A"}},null,null,{"$f":"INDEX(شهر3!#REF!,MATCH((B753&\"*\"&G753&\"*\"&D753&\"*\"&E753),شهر3!#REF!&\"*\"&شهر3!#REF!&\"*\"&شهر3!#REF!&\"*\"&شهر3!#REF!,0))","v":{"$error":"#REF!"}},null,{"$f":"INDEX(شهر3!#REF!,MATCH((B753&\"*\"&G753&\"*\"&D753&\"*\"&E753),شهر3!#REF!&\"*\"&شهر3!#REF!&\"*\"&شهر3!#REF!&\"*\"&شهر3!#REF!,0))","v":{"$error":"#REF!"}}]
[null,null,{"$f":"VLOOKUP(B754,برقية!$A$2:$B$377,2,FALSE)","v":{"$error":"#N/A"}},null,null,{"$f":"INDEX(شهر3!#REF!,MATCH((B754&\"*\"&G754&\"*\"&D754&\"*\"&E754),شهر3!#REF!&\"*\"&شهر3!#REF!&\"*\"&شهر3!#REF!&\"*\"&شهر3!#REF!,0))","v":{"$error":"#REF!"}},null,{"$f":"INDEX(شهر3!#REF!,MATCH((B754&\"*\"&G754&\"*\"&D754&\"*\"&E754),شهر3!#REF!&\"*\"&شهر3!#REF!&\"*\"&شهر3!#REF!&\"*\"&شهر3!#REF!,0))","v":{"$error":"#REF!"}}]
[null,null,{"$f":"VLOOKUP(B755,برقية!$A$2:$B$377,2,FALSE)","v":{"$error":"#N/A"}},null,null,{"$f":"INDEX(شهر3!#REF!,MATCH((B755&\"*\"&G755&\"*\"&D755&\"*\"&E755),شهر3!#REF!&\"*\"&شهر3!#REF!&\"*\"&شهر3!#REF!&\"*\"&شهر3!#REF!,0))","v":{"$error":"#REF!"}},null,{"$f":"INDEX(شهر3!#REF!,MATCH((B755&\"*\"&G755&\"*\"&D755&\"*\"&E755),شهر3!#REF!&\"*\"&شهر3!#REF!&\"*\"&شهر3!#REF!&\"*\"&شهر3!#REF!,0))","v":{"$error":"#REF!"}}]
[null,null,{"$f":"VLOOKUP(B756,برقية!$A$2:$B$377,2,FALSE)","v":{"$error":"#N/A"}},null,null,{"$f":"INDEX(شهر3!#REF!,MATCH((B756&\"*\"&G756&\"*\"&D756&\"*\"&E756),شهر3!#REF!&\"*\"&شهر3!#REF!&\"*\"&شهر3!#REF!&\"*\"&شهر3!#REF!,0))","v":{"$error":"#REF!"}},null,{"$f":"INDEX(شهر3!#REF!,MATCH((B756&\"*\"&G756&\"*\"&D756&\"*\"&E756),شهر3!#REF!&\"*\"&شهر3!#REF!&\"*\"&شهر3!#REF!&\"*\"&شهر3!#REF!,0))","v":{"$error":"#REF!"}}]
[null,null,{"$f":"VLOOKUP(B757,برقية!$A$2:$B$377,2,FALSE)","v":{"$error":"#N/A"}},null,null,{"$f":"INDEX(شهر3!#REF!,MATCH((B757&\"*\"&G757&\"*\"&D757&\"*\"&E757),شهر3!#REF!&\"*\"&شهر3!#REF!&\"*\"&شهر3!#REF!&\"*\"&شهر3!#REF!,0))","v":{"$error":"#REF!"}},null,{"$f":"INDEX(شهر3!#REF!,MATCH((B757&\"*\"&G757&\"*\"&D757&\"*\"&E757),شهر3!#REF!&\"*\"&شهر3!#REF!&\"*\"&شهر3!#REF!&\"*\"&شهر3!#REF!,0))","v":{"$error":"#REF!"}}]
[null,null,{"$f":"VLOOKUP(B758,برقية!$A$2:$B$377,2,FALSE)","v":{"$error":"#N/A"}},null,null,{"$f":"INDEX(شهر3!#REF!,MATCH((B758&\"*\"&G758&\"*\"&D758&\"*\"&E758),شهر3!#REF!&\"*\"&شهر3!#REF!&\"*\"&شهر3!#REF!&\"*\"&شهر3!#REF!,0))","v":{"$error":"#REF!"}},null,{"$f":"INDEX(شهر3!#REF!,MATCH((B758&\"*\"&G758&\"*\"&D758&\"*\"&E758),شهر3!#REF!&\"*\"&شهر3!#REF!&\"*\"&شهر3!#REF!&\"*\"&شهر3!#REF!,0))","v":{"$error":"#REF!"}}]
[null,null,{"$f":"VLOOKUP(B759,برقية!$A$2:$B$377,2,FALSE)","v":{"$error":"#N/A"}},null,null,{"$f":"INDEX(شهر3!#REF!,MATCH((B759&\"*\"&G759&\"*\"&D759&\"*\"&E759),شهر3!#REF!&\"*\"&شهر3!#REF!&\"*\"&شهر3!#REF!&\"*\"&شهر3!#REF!,0))","v":{"$error":"#REF!"}},null,{"$f":"INDEX(شهر3!#REF!,MATCH((B759&\"*\"&G759&\"*\"&D759&\"*\"&E759),شهر3!#REF!&\"*\"&شهر3!#REF!&\"*\"&شهر3!#REF!&\"*\"&شهر3!#REF!,0))","v":{"$error":"#REF!"}}]
[null,null,{"$f":"VLOOKUP(B760,برقية!$A$2:$B$377,2,FALSE)","v":{"$error":"#N/A"}},null,null,{"$f":"INDEX(شهر3!#REF!,MATCH((B760&\"*\"&G760&\"*\"&D760&\"*\"&E760),شهر3!#REF!&\"*\"&شهر3!#REF!&\"*\"&شهر3!#REF!&\"*\"&شهر3!#REF!,0))","v":{"$error":"#REF!"}},null,{"$f":"INDEX(شهر3!#REF!,MATCH((B760&\"*\"&G760&\"*\"&D760&\"*\"&E760),شهر3!#REF!&\"*\"&شهر3!#REF!&\"*\"&شهر3!#REF!&\"*\"&شهر3!#REF!,0))","v":{"$error":"#REF!"}}]
[null,null,{"$f":"VLOOKUP(B761,برقية!$A$2:$B$377,2,FALSE)","v":{"$error":"#N/A"}},null,null,{"$f":"INDEX(شهر3!#REF!,MATCH((B761&\"*\"&G761&\"*\"&D761&\"*\"&E761),شهر3!#REF!&\"*\"&شهر3!#REF!&\"*\"&شهر3!#REF!&\"*\"&شهر3!#REF!,0))","v":{"$error":"#REF!"}},null,{"$f":"INDEX(شهر3!#REF!,MATCH((B761&\"*\"&G761&\"*\"&D761&\"*\"&E761),شهر3!#REF!&\"*\"&شهر3!#REF!&\"*\"&شهر3!#REF!&\"*\"&شهر3!#REF!,0))","v":{"$error":"#REF!"}}]
[null,null,{"$f":"VLOOKUP(B762,برقية!$A$2:$B$377,2,FALSE)","v":{"$error":"#N/A"}},null,null,{"$f":"INDEX(شهر3!#REF!,MATCH((B762&\"*\"&G762&\"*\"&D762&\"*\"&E762),شهر3!#REF!&\"*\"&شهر3!#REF!&\"*\"&شهر3!#REF!&\"*\"&شهر3!#REF!,0))","v":{"$error":"#REF!"}},null,{"$f":"INDEX(شهر3!#REF!,MATCH((B762&\"*\"&G762&\"*\"&D762&\"*\"&E762),شهر3!#REF!&\"*\"&شهر3!#REF!&\"*\"&شهر3!#REF!&\"*\"&شهر3!#REF!,0))","v":{"$error":"#REF!"}}]
[null,null,{"$f":"VLOOKUP(B763,برقية!$A$2:$B$377,2,FALSE)","v":{"$error":"#N/A"}},null,null,{"$f":"INDEX(شهر3!#REF!,MATCH((B763&\"*\"&G763&\"*\"&D763&\"*\"&E763),شهر3!#REF!&\"*\"&شهر3!#REF!&\"*\"&شهر3!#REF!&\"*\"&شهر3!#REF!,0))","v":{"$error":"#REF!"}},null,{"$f":"INDEX(شهر3!#REF!,MATCH((B763&\"*\"&G763&\"*\"&D763&\"*\"&E763),شهر3!#REF!&\"*\"&شهر3!#REF!&\"*\"&شهر3!#REF!&\"*\"&شهر3!#REF!,0))","v":{"$error":"#REF!"}}]
[null,null,{"$f":"VLOOKUP(B764,برقية!$A$2:$B$377,2,FALSE)","v":{"$error":"#N/A"}},null,null,{"$f":"INDEX(شهر3!#REF!,MATCH((B764&\"*\"&G764&\"*\"&D764&\"*\"&E764),شهر3!#REF!&\"*\"&شهر3!#REF!&\"*\"&شهر3!#REF!&\"*\"&شهر3!#REF!,0))","v":{"$error":"#REF!"}},null,{"$f":"INDEX(شهر3!#REF!,MATCH((B764&\"*\"&G764&\"*\"&D764&\"*\"&E764),شهر3!#REF!&\"*\"&شهر3!#REF!&\"*\"&شهر3!#REF!&\"*\"&شهر3!#REF!,0))","v":{"$error":"#REF!"}}]
[null,null,{"$f":"VLOOKUP(B765,برقية!$A$2:$B$377,2,FALSE)","v":{"$error":"#N/A"}},null,null,{"$f":"INDEX(شهر3!#REF!,MATCH((B765&\"*\"&G765&\"*\"&D765&\"*\"&E765),شهر3!#REF!&\"*\"&شهر3!#REF!&\"*\"&شهر3!#REF!&\"*\"&شهر3!#REF!,0))","v":{"$error":"#REF!"}},null,{"$f":"INDEX(شهر3!#REF!,MATCH((B765&\"*\"&G765&\"*\"&D765&\"*\"&E765),شهر3!#REF!&\"*\"&شهر3!#REF!&\"*\"&شهر3!#REF!&\"*\"&شهر3!#REF!,0))","v":{"$error":"#REF!"}}]
[null,null,{"$f":"VLOOKUP(B766,برقية!$A$2:$B$377,2,FALSE)","v":{"$error":"#N/A"}},null,null,{"$f":"INDEX(شهر3!#REF!,MATCH((B766&\"*\"&G766&\"*\"&D766&\"*\"&E766),شهر3!#REF!&\"*\"&شهر3!#REF!&\"*\"&شهر3!#REF!&\"*\"&شهر3!#REF!,0))","v":{"$error":"#REF!"}},null,{"$f":"INDEX(شهر3!#REF!,MATCH((B766&\"*\"&G766&\"*\"&D766&\"*\"&E766),شهر3!#REF!&\"*\"&شهر3!#REF!&\"*\"&شهر3!#REF!&\"*\"&شهر3!#REF!,0))","v":{"$error":"#REF!"}}]
[null,null,{"$f":"VLOOKUP(B767,برقية!$A$2:$B$377,2,FALSE)","v":{"$error":"#N/A"}},null,null,{"$f":"INDEX(شهر3!#REF!,MATCH((B767&\"*\"&G767&\"*\"&D767&\"*\"&E767),شهر3!#REF!&\"*\"&شهر3!#REF!&\"*\"&شهر3!#REF!&\"*\"&شهر3!#REF!,0))","v":{"$error":"#REF!"}},null,{"$f":"INDEX(شهر3!#REF!,MATCH((B767&\"*\"&G767&\"*\"&D767&\"*\"&E767),شهر3!#REF!&\"*\"&شهر3!#REF!&\"*\"&شهر3!#REF!&\"*\"&شهر3!#REF!,0))","v":{"$error":"#REF!"}}]
[null,null,{"$f":"VLOOKUP(B768,برقية!$A$2:$B$377,2,FALSE)","v":{"$error":"#N/A"}},null,null,{"$f":"INDEX(شهر3!#REF!,MATCH((B768&\"*\"&G768&\"*\"&D768&\"*\"&E768),شهر3!#REF!&\"*\"&شهر3!#REF!&\"*\"&شهر3!#REF!&\"*\"&شهر3!#REF!,0))","v":{"$error":"#REF!"}},null,{"$f":"INDEX(شهر3!#REF!,MATCH((B768&\"*\"&G768&\"*\"&D768&\"*\"&E768),شهر3!#REF!&\"*\"&شهر3!#REF!&\"*\"&شهر3!#REF!&\"*\"&شهر3!#REF!,0))","v":{"$error":"#REF!"}}]
[null,null,{"$f":"VLOOKUP(B769,برقية!$A$2:$B$377,2,FALSE)","v":{"$error":"#N/A"}},null,null,{"$f":"INDEX(شهر3!#REF!,MATCH((B769&\"*\"&G769&\"*\"&D769&\"*\"&E769),شهر3!#REF!&\"*\"&شهر3!#REF!&\"*\"&شهر3!#REF!&\"*\"&شهر3!#REF!,0))","v":{"$error":"#REF!"}},null,{"$f":"INDEX(شهر3!#REF!,MATCH((B769&\"*\"&G769&\"*\"&D769&\"*\"&E769),شهر3!#REF!&\"*\"&شهر3!#REF!&\"*\"&شهر3!#REF!&\"*\"&شهر3!#REF!,0))","v":{"$error":"#REF!"}}]
[null,null,{"$f":"VLOOKUP(B770,برقية!$A$2:$B$377,2,FALSE)","v":{"$error":"#N/A"}},null,null,{"$f":"INDEX(شهر3!#REF!,MATCH((B770&\"*\"&G770&\"*\"&D770&\"*\"&E770),شهر3!#REF!&\"*\"&شهر3!#REF!&\"*\"&شهر3!#REF!&\"*\"&شهر3!#REF!,0))","v":{"$error":"#REF!"}},null,{"$f":"INDEX(شهر3!#REF!,MATCH((B770&\"*\"&G770&\"*\"&D770&\"*\"&E770),شهر3!#REF!&\"*\"&شهر3!#REF!&\"*\"&شهر3!#REF!&\"*\"&شهر3!#REF!,0))","v":{"$error":"#REF!"}}]
[null,null,{"$f":"VLOOKUP(B771,برقية!$A$2:$B$377,2,FALSE)","v":{"$error":"#N/A"}},null,null,{"$f":"INDEX(شهر3!#REF!,MATCH((B771&\"*\"&G771&\"*\"&D771&\"*\"&E771),شهر3!#REF!&\"*\"&شهر3!#REF!&\"*\"&شهر3!#REF!&\"*\"&شهر3!#REF!,0))","v":{"$error":"#REF!"}},null,{"$f":"INDEX(شهر3!#REF!,MATCH((B771&\"*\"&G771&\"*\"&D771&\"*\"&E771),شهر3!#REF!&\"*\"&شهر3!#REF!&\"*\"&شهر3!#REF!&\"*\"&شهر3!#REF!,0))","v":{"$error":"#REF!"}}]
[null,null,{"$f":"VLOOKUP(B772,برقية!$A$2:$B$377,2,FALSE)","v":{"$error":"#N/A"}},null,null,{"$f":"INDEX(شهر3!#REF!,MATCH((B772&\"*\"&G772&\"*\"&D772&\"*\"&E772),شهر3!#REF!&\"*\"&شهر3!#REF!&\"*\"&شهر3!#REF!&\"*\"&شهر3!#REF!,0))","v":{"$error":"#REF!"}},null,{"$f":"INDEX(شهر3!#REF!,MATCH((B772&\"*\"&G772&\"*\"&D772&\"*\"&E772),شهر3!#REF!&\"*\"&شهر3!#REF!&\"*\"&شهر3!#REF!&\"*\"&شهر3!#REF!,0))","v":{"$error":"#REF!"}}]
[null,null,{"$f":"VLOOKUP(B773,برقية!$A$2:$B$377,2,FALSE)","v":{"$error":"#N/A"}},null,null,{"$f":"INDEX(شهر3!#REF!,MATCH((B773&\"*\"&G773&\"*\"&D773&\"*\"&E773),شهر3!#REF!&\"*\"&شهر3!#REF!&\"*\"&شهر3!#REF!&\"*\"&شهر3!#REF!,0))","v":{"$error":"#REF!"}},null,{"$f":"INDEX(شهر3!#REF!,MATCH((B773&\"*\"&G773&\"*\"&D773&\"*\"&E773),شهر3!#REF!&\"*\"&شهر3!#REF!&\"*\"&شهر3!#REF!&\"*\"&شهر3!#REF!,0))","v":{"$error":"#REF!"}}]
[null,null,{"$f":"VLOOKUP(B774,برقية!$A$2:$B$377,2,FALSE)","v":{"$error":"#N/A"}},null,null,{"$f":"INDEX(شهر3!#REF!,MATCH((B774&\"*\"&G774&\"*\"&D774&\"*\"&E774),شهر3!#REF!&\"*\"&شهر3!#REF!&\"*\"&شهر3!#REF!&\"*\"&شهر3!#REF!,0))","v":{"$error":"#REF!"}},null,{"$f":"INDEX(شهر3!#REF!,MATCH((B774&\"*\"&G774&\"*\"&D774&\"*\"&E774),شهر3!#REF!&\"*\"&شهر3!#REF!&\"*\"&شهر3!#REF!&\"*\"&شهر3!#REF!,0))","v":{"$error":"#REF!"}}]
[null,null,{"$f":"VLOOKUP(B775,برقية!$A$2:$B$377,2,FALSE)","v":{"$error":"#N/A"}},null,null,{"$f":"INDEX(شهر3!#REF!,MATCH((B775&\"*\"&G775&\"*\"&D775&\"*\"&E775),شهر3!#REF!&\"*\"&شهر3!#REF!&\"*\"&شهر3!#REF!&\"*\"&شهر3!#REF!,0))","v":{"$error":"#REF!"}},null,{"$f":"INDEX(شهر3!#REF!,MATCH((B775&\"*\"&G775&\"*\"&D775&\"*\"&E775),شهر3!#REF!&\"*\"&شهر3!#REF!&\"*\"&شهر3!#REF!&\"*\"&شهر3!#REF!,0))","v":{"$error":"#REF!"}}]
[null,null,{"$f":"VLOOKUP(B776,برقية!$A$2:$B$377,2,FALSE)","v":{"$error":"#N/A"}},null,null,{"$f":"INDEX(شهر3!#REF!,MATCH((B776&\"*\"&G776&\"*\"&D776&\"*\"&E776),شهر3!#REF!&\"*\"&شهر3!#REF!&\"*\"&شهر3!#REF!&\"*\"&شهر3!#REF!,0))","v":{"$error":"#REF!"}},null,{"$f":"INDEX(شهر3!#REF!,MATCH((B776&\"*\"&G776&\"*\"&D776&\"*\"&E776),شهر3!#REF!&\"*\"&شهر3!#REF!&\"*\"&شهر3!#REF!&\"*\"&شهر3!#REF!,0))","v":{"$error":"#REF!"}}]
[null,null,{"$f":"VLOOKUP(B777,برقية!$A$2:$B$377,2,FALSE)","v":{"$error":"#N/A"}},null,null,{"$f":"INDEX(شهر3!#REF!,MATCH((B777&\"*\"&G777&\"*\"&D777&\"*\"&E777),شهر3!#REF!&\"*\"&شهر3!#REF!&\"*\"&شهر3!#REF!&\"*\"&شهر3!#REF!,0))","v":{"$error":"#REF!"}},null,{"$f":"INDEX(شهر3!#REF!,MATCH((B777&\"*\"&G777&\"*\"&D777&\"*\"&E777),شهر3!#REF!&\"*\"&شهر3!#REF!&\"*\"&شهر3!#REF!&\"*\"&شهر3!#REF!,0))","v":{"$error":"#REF!"}}]
[null,null,{"$f":"VLOOKUP(B778,برقية!$A$2:$B$377,2,FALSE)","v":{"$error":"#N/A"}},null,null,{"$f":"INDEX(شهر3!#REF!,MATCH((B778&\"*\"&G778&\"*\"&D778&\"*\"&E778),شهر3!#REF!&\"*\"&شهر3!#REF!&\"*\"&شهر3!#REF!&\"*\"&شهر3!#REF!,0))","v":{"$error":"#REF!"}},null,{"$f":"INDEX(شهر3!#REF!,MATCH((B778&\"*\"&G778&\"*\"&D778&\"*\"&E778),شهر3!#REF!&\"*\"&شهر3!#REF!&\"*\"&شهر3!#REF!&\"*\"&شهر3!#REF!,0))","v":{"$error":"#REF!"}}]
[null,null,{"$f":"VLOOKUP(B779,برقية!$A$2:$B$377,2,FALSE)","v":{"$error":"#N/A"}},null,null,{"$f":"INDEX(شهر3!#REF!,MATCH((B779&\"*\"&G779&\"*\"&D779&\"*\"&E779),شهر3!#REF!&\"*\"&شهر3!#REF!&\"*\"&شهر3!#REF!&\"*\"&شهر3!#REF!,0))","v":{"$error":"#REF!"}},null,{"$f":"INDEX(شهر3!#REF!,MATCH((B779&\"*\"&G779&\"*\"&D779&\"*\"&E779),شهر3!#REF!&\"*\"&شهر3!#REF!&\"*\"&شهر3!#REF!&\"*\"&شهر3!#REF!,0))","v":{"$error":"#REF!"}}]
[null,null,{"$f":"VLOOKUP(B780,برقية!$A$2:$B$377,2,FALSE)","v":{"$error":"#N/A"}},null,null,{"$f":"INDEX(شهر3!#REF!,MATCH((B780&\"*\"&G780&\"*\"&D780&\"*\"&E780),شهر3!#REF!&\"*\"&شهر3!#REF!&\"*\"&شهر3!#REF!&\"*\"&شهر3!#REF!,0))","v":{"$error":"#REF!"}},null,{"$f":"INDEX(شهر3!#REF!,MATCH((B780&\"*\"&G780&\"*\"&D780&\"*\"&E780),شهر3!#REF!&\"*\"&شهر3!#REF!&\"*\"&شهر3!#REF!&\"*\"&شهر3!#REF!,0))","v":{"$error":"#REF!"}}]
[null,null,{"$f":"VLOOKUP(B781,برقية!$A$2:$B$377,2,FALSE)","v":{"$error":"#N/A"}},null,null,{"$f":"INDEX(شهر3!#REF!,MATCH((B781&\"*\"&G781&\"*\"&D781&\"*\"&E781),شهر3!#REF!&\"*\"&شهر3!#REF!&\"*\"&شهر3!#REF!&\"*\"&شهر3!#REF!,0))","v":{"$error":"#REF!"}},null,{"$f":"INDEX(شهر3!#REF!,MATCH((B781&\"*\"&G781&\"*\"&D781&\"*\"&E781),شهر3!#REF!&\"*\"&شهر3!#REF!&\"*\"&شهر3!#REF!&\"*\"&شهر3!#REF!,0))","v":{"$error":"#REF!"}}]
[null,null,{"$f":"VLOOKUP(B782,برقية!$A$2:$B$377,2,FALSE)","v":{"$error":"#N/A"}},null,null,{"$f":"INDEX(شهر3!#REF!,MATCH((B782&\"*\"&G782&\"*\"&D782&\"*\"&E782),شهر3!#REF!&\"*\"&شهر3!#REF!&\"*\"&شهر3!#REF!&\"*\"&شهر3!#REF!,0))","v":{"$error":"#REF!"}},null,{"$f":"INDEX(شهر3!#REF!,MATCH((B782&\"*\"&G782&\"*\"&D782&\"*\"&E782),شهر3!#REF!&\"*\"&شهر3!#REF!&\"*\"&شهر3!#REF!&\"*\"&شهر3!#REF!,0))","v":{"$error":"#REF!"}}]
[null,null,{"$f":"VLOOKUP(B783,برقية!$A$2:$B$377,2,FALSE)","v":{"$error":"#N/A"}},null,null,{"$f":"INDEX(شهر3!#REF!,MATCH((B783&\"*\"&G783&\"*\"&D783&\"*\"&E783),شهر3!#REF!&\"*\"&شهر3!#REF!&\"*\"&شهر3!#REF!&\"*\"&شهر3!#REF!,0))","v":{"$error":"#REF!"}},null,{"$f":"INDEX(شهر3!#REF!,MATCH((B783&\"*\"&G783&\"*\"&D783&\"*\"&E783),شهر3!#REF!&\"*\"&شهر3!#REF!&\"*\"&شهر3!#REF!&\"*\"&شهر3!#REF!,0))","v":{"$error":"#REF!"}}]
[null,null,{"$f":"VLOOKUP(B784,برقية!$A$2:$B$377,2,FALSE)","v":{"$error":"#N/A"}},null,null,{"$f":"INDEX(شهر3!#REF!,MATCH((B784&\"*\"&G784&\"*\"&D784&\"*\"&E784),شهر3!#REF!&\"*\"&شهر3!#REF!&\"*\"&شهر3!#REF!&\"*\"&شهر3!#REF!,0))","v":{"$error":"#REF!"}},null,{"$f":"INDEX(شهر3!#REF!,MATCH((B784&\"*\"&G784&\"*\"&D784&\"*\"&E784),شهر3!#REF!&\"*\"&شهر3!#REF!&\"*\"&شهر3!#REF!&\"*\"&شهر3!#REF!,0))","v":{"$error":"#REF!"}}]
[null,null,{"$f":"VLOOKUP(B785,برقية!$A$2:$B$377,2,FALSE)","v":{"$error":"#N/A"}},null,null,{"$f":"INDEX(شهر3!#REF!,MATCH((B785&\"*\"&G785&\"*\"&D785&\"*\"&E785),شهر3!#REF!&\"*\"&شهر3!#REF!&\"*\"&شهر3!#REF!&\"*\"&شهر3!#REF!,0))","v":{"$error":"#REF!"}},null,{"$f":"INDEX(شهر3!#REF!,MATCH((B785&\"*\"&G785&\"*\"&D785&\"*\"&E785),شهر3!#REF!&\"*\"&شهر3!#REF!&\"*\"&شهر3!#REF!&\"*\"&شهر3!#REF!,0))","v":{"$error":"#REF!"}}]
[null,null,{"$f":"VLOOKUP(B786,برقية!$A$2:$B$377,2,FALSE)","v":{"$error":"#N/A"}},null,null,{"$f":"INDEX(شهر3!#REF!,MATCH((B786&\"*\"&G786&\"*\"&D786&\"*\"&E786),شهر3!#REF!&\"*\"&شهر3!#REF!&\"*\"&شهر3!#REF!&\"*\"&شهر3!#REF!,0))","v":{"$error":"#REF!"}},null,{"$f":"INDEX(شهر3!#REF!,MATCH((B786&\"*\"&G786&\"*\"&D786&\"*\"&E786),شهر3!#REF!&\"*\"&شهر3!#REF!&\"*\"&شهر3!#REF!&\"*\"&شهر3!#REF!,0))","v":{"$error":"#REF!"}}]
[null,null,{"$f":"VLOOKUP(B787,برقية!$A$2:$B$377,2,FALSE)","v":{"$error":"#N/A"}},null,null,{"$f":"INDEX(شهر3!#REF!,MATCH((B787&\"*\"&G787&\"*\"&D787&\"*\"&E787),شهر3!#REF!&\"*\"&شهر3!#REF!&\"*\"&شهر3!#REF!&\"*\"&شهر3!#REF!,0))","v":{"$error":"#REF!"}},null,{"$f":"INDEX(شهر3!#REF!,MATCH((B787&\"*\"&G787&\"*\"&D787&\"*\"&E787),شهر3!#REF!&\"*\"&شهر3!#REF!&\"*\"&شهر3!#REF!&\"*\"&شهر3!#REF!,0))","v":{"$error":"#REF!"}}]
[null,null,{"$f":"VLOOKUP(B788,برقية!$A$2:$B$377,2,FALSE)","v":{"$error":"#N/A"}},null,null,{"$f":"INDEX(شهر3!#REF!,MATCH((B788&\"*\"&G788&\"*\"&D788&\"*\"&E788),شهر3!#REF!&\"*\"&شهر3!#REF!&\"*\"&شهر3!#REF!&\"*\"&شهر3!#REF!,0))","v":{"$error":"#REF!"}},null,{"$f":"INDEX(شهر3!#REF!,MATCH((B788&\"*\"&G788&\"*\"&D788&\"*\"&E788),شهر3!#REF!&\"*\"&شهر3!#REF!&\"*\"&شهر3!#REF!&\"*\"&شهر3!#REF!,0))","v":{"$error":"#REF!"}}]
[null,null,{"$f":"VLOOKUP(B789,برقية!$A$2:$B$377,2,FALSE)","v":{"$error":"#N/A"}},null,null,{"$f":"INDEX(شهر3!#REF!,MATCH((B789&\"*\"&G789&\"*\"&D789&\"*\"&E789),شهر3!#REF!&\"*\"&شهر3!#REF!&\"*\"&شهر3!#REF!&\"*\"&شهر3!#REF!,0))","v":{"$error":"#REF!"}},null,{"$f":"INDEX(شهر3!#REF!,MATCH((B789&\"*\"&G789&\"*\"&D789&\"*\"&E789),شهر3!#REF!&\"*\"&شهر3!#REF!&\"*\"&شهر3!#REF!&\"*\"&شهر3!#REF!,0))","v":{"$error":"#REF!"}}]
[null,null,{"$f":"VLOOKUP(B790,برقية!$A$2:$B$377,2,FALSE)","v":{"$error":"#N/A"}},null,null,{"$f":"INDEX(شهر3!#REF!,MATCH((B790&\"*\"&G790&\"*\"&D790&\"*\"&E790),شهر3!#REF!&\"*\"&شهر3!#REF!&\"*\"&شهر3!#REF!&\"*\"&شهر3!#REF!,0))","v":{"$error":"#REF!"}},null,{"$f":"INDEX(شهر3!#REF!,MATCH((B790&\"*\"&G790&\"*\"&D790&\"*\"&E790),شهر3!#REF!&\"*\"&شهر3!#REF!&\"*\"&شهر3!#REF!&\"*\"&شهر3!#REF!,0))","v":{"$error":"#REF!"}}]
[null,null,{"$f":"VLOOKUP(B791,برقية!$A$2:$B$377,2,FALSE)","v":{"$error":"#N/A"}},null,null,{"$f":"INDEX(شهر3!#REF!,MATCH((B791&\"*\"&G791&\"*\"&D791&\"*\"&E791),شهر3!#REF!&\"*\"&شهر3!#REF!&\"*\"&شهر3!#REF!&\"*\"&شهر3!#REF!,0))","v":{"$error":"#REF!"}},null,{"$f":"INDEX(شهر3!#REF!,MATCH((B791&\"*\"&G791&\"*\"&D791&\"*\"&E791),شهر3!#REF!&\"*\"&شهر3!#REF!&\"*\"&شهر3!#REF!&\"*\"&شهر3!#REF!,0))","v":{"$error":"#REF!"}}]
[null,null,{"$f":"VLOOKUP(B792,برقية!$A$2:$B$377,2,FALSE)","v":{"$error":"#N/A"}},null,null,{"$f":"INDEX(شهر3!#REF!,MATCH((B792&\"*\"&G792&\"*\"&D792&\"*\"&E792),شهر3!#REF!&\"*\"&شهر3!#REF!&\"*\"&شهر3!#REF!&\"*\"&شهر3!#REF!,0))","v":{"$error":"#REF!"}},null,{"$f":"INDEX(شهر3!#REF!,MATCH((B792&\"*\"&G792&\"*\"&D792&\"*\"&E792),شهر3!#REF!&\"*\"&شهر3!#REF!&\"*\"&شهر3!#REF!&\"*\"&شهر3!#REF!,0))","v":{"$error":"#REF!"}}]
[null,null,{"$f":"VLOOKUP(B793,برقية!$A$2:$B$377,2,FALSE)","v":{"$error":"#N/A"}},null,null,{"$f":"INDEX(شهر3!#REF!,MATCH((B793&\"*\"&G793&\"*\"&D793&\"*\"&E793),شهر3!#REF!&\"*\"&شهر3!#REF!&\"*\"&شهر3!#REF!&\"*\"&شهر3!#REF!,0))","v":{"$error":"#REF!"}},null,{"$f":"INDEX(شهر3!#REF!,MATCH((B793&\"*\"&G793&\"*\"&D793&\"*\"&E793),شهر3!#REF!&\"*\"&شهر3!#REF!&\"*\"&شهر3!#REF!&\"*\"&شهر3!#REF!,0))","v":{"$error":"#REF!"}}]
[null,null,{"$f":"VLOOKUP(B794,برقية!$A$2:$B$377,2,FALSE)","v":{"$error":"#N/A"}},null,null,{"$f":"INDEX(شهر3!#REF!,MATCH((B794&\"*\"&G794&\"*\"&D794&\"*\"&E794),شهر3!#REF!&\"*\"&شهر3!#REF!&\"*\"&شهر3!#REF!&\"*\"&شهر3!#REF!,0))","v":{"$error":"#REF!"}},null,{"$f":"INDEX(شهر3!#REF!,MATCH((B794&\"*\"&G794&\"*\"&D794&\"*\"&E794),شهر3!#REF!&\"*\"&شهر3!#REF!&\"*\"&شهر3!#REF!&\"*\"&شهر3!#REF!,0))","v":{"$error":"#REF!"}}]
[null,null,{"$f":"VLOOKUP(B795,برقية!$A$2:$B$377,2,FALSE)","v":{"$error":"#N/A"}},null,null,{"$f":"INDEX(شهر3!#REF!,MATCH((B795&\"*\"&G795&\"*\"&D795&\"*\"&E795),شهر3!#REF!&\"*\"&شهر3!#REF!&\"*\"&شهر3!#REF!&\"*\"&شهر3!#REF!,0))","v":{"$error":"#REF!"}},null,{"$f":"INDEX(شهر3!#REF!,MATCH((B795&\"*\"&G795&\"*\"&D795&\"*\"&E795),شهر3!#REF!&\"*\"&شهر3!#REF!&\"*\"&شهر3!#REF!&\"*\"&شهر3!#REF!,0))","v":{"$error":"#REF!"}}]
[null,null,{"$f":"VLOOKUP(B796,برقية!$A$2:$B$377,2,FALSE)","v":{"$error":"#N/A"}},null,null,{"$f":"INDEX(شهر3!#REF!,MATCH((B796&\"*\"&G796&\"*\"&D796&\"*\"&E796),شهر3!#REF!&\"*\"&شهر3!#REF!&\"*\"&شهر3!#REF!&\"*\"&شهر3!#REF!,0))","v":{"$error":"#REF!"}},null,{"$f":"INDEX(شهر3!#REF!,MATCH((B796&\"*\"&G796&\"*\"&D796&\"*\"&E796),شهر3!#REF!&\"*\"&شهر3!#REF!&\"*\"&شهر3!#REF!&\"*\"&شهر3!#REF!,0))","v":{"$error":"#REF!"}}]
[null,null,{"$f":"VLOOKUP(B797,برقية!$A$2:$B$377,2,FALSE)","v":{"$error":"#N/A"}},null,null,{"$f":"INDEX(شهر3!#REF!,MATCH((B797&\"*\"&G797&\"*\"&D797&\"*\"&E797),شهر3!#REF!&\"*\"&شهر3!#REF!&\"*\"&شهر3!#REF!&\"*\"&شهر3!#REF!,0))","v":{"$error":"#REF!"}},null,{"$f":"INDEX(شهر3!#REF!,MATCH((B797&\"*\"&G797&\"*\"&D797&\"*\"&E797),شهر3!#REF!&\"*\"&شهر3!#REF!&\"*\"&شهر3!#REF!&\"*\"&شهر3!#REF!,0))","v":{"$error":"#REF!"}}]
[null,null,{"$f":"VLOOKUP(B798,برقية!$A$2:$B$377,2,FALSE)","v":{"$error":"#N/A"}},null,null,{"$f":"INDEX(شهر3!#REF!,MATCH((B798&\"*\"&G798&\"*\"&D798&\"*\"&E798),شهر3!#REF!&\"*\"&شهر3!#REF!&\"*\"&شهر3!#REF!&\"*\"&شهر3!#REF!,0))","v":{"$error":"#REF!"}},null,{"$f":"INDEX(شهر3!#REF!,MATCH((B798&\"*\"&G798&\"*\"&D798&\"*\"&E798),شهر3!#REF!&\"*\"&شهر3!#REF!&\"*\"&شهر3!#REF!&\"*\"&شهر3!#REF!,0))","v":{"$error":"#REF!"}}]
[null,null,{"$f":"VLOOKUP(B799,برقية!$A$2:$B$377,2,FALSE)","v":{"$error":"#N/A"}},null,null,{"$f":"INDEX(شهر3!#REF!,MATCH((B799&\"*\"&G799&\"*\"&D799&\"*\"&E799),شهر3!#REF!&\"*\"&شهر3!#REF!&\"*\"&شهر3!#REF!&\"*\"&شهر3!#REF!,0))","v":{"$error":"#REF!"}},null,{"$f":"INDEX(شهر3!#REF!,MATCH((B799&\"*\"&G799&\"*\"&D799&\"*\"&E799),شهر3!#REF!&\"*\"&شهر3!#REF!&\"*\"&شهر3!#REF!&\"*\"&شهر3!#REF!,0))","v":{"$error":"#REF!"}}]
[null,null,{"$f":"VLOOKUP(B800,برقية!$A$2:$B$377,2,FALSE)","v":{"$error":"#N/A"}},null,null,{"$f":"INDEX(شهر3!#REF!,MATCH((B800&\"*\"&G800&\"*\"&D800&\"*\"&E800),شهر3!#REF!&\"*\"&شهر3!#REF!&\"*\"&شهر3!#REF!&\"*\"&شهر3!#REF!,0))","v":{"$error":"#REF!"}},null,{"$f":"INDEX(شهر3!#REF!,MATCH((B800&\"*\"&G800&\"*\"&D800&\"*\"&E800),شهر3!#REF!&\"*\"&شهر3!#REF!&\"*\"&شهر3!#REF!&\"*\"&شهر3!#REF!,0))","v":{"$error":"#REF!"}}]
[null,null,{"$f":"VLOOKUP(B801,برقية!$A$2:$B$377,2,FALSE)","v":{"$error":"#N/A"}},null,null,{"$f":"INDEX(شهر3!#REF!,MATCH((B801&\"*\"&G801&\"*\"&D801&\"*\"&E801),شهر3!#REF!&\"*\"&شهر3!#REF!&\"*\"&شهر3!#REF!&\"*\"&شهر3!#REF!,0))","v":{"$error":"#REF!"}},null,{"$f":"INDEX(شهر3!#REF!,MATCH((B801&\"*\"&G801&\"*\"&D801&\"*\"&E801),شهر3!#REF!&\"*\"&شهر3!#REF!&\"*\"&شهر3!#REF!&\"*\"&شهر3!#REF!,0))","v":{"$error":"#REF!"}}]
[null,null,{"$f":"VLOOKUP(B802,برقية!$A$2:$B$377,2,FALSE)","v":{"$error":"#N/A"}},null,null,{"$f":"INDEX(شهر3!#REF!,MATCH((B802&\"*\"&G802&\"*\"&D802&\"*\"&E802),شهر3!#REF!&\"*\"&شهر3!#REF!&\"*\"&شهر3!#REF!&\"*\"&شهر3!#REF!,0))","v":{"$error":"#REF!"}},null,{"$f":"INDEX(شهر3!#REF!,MATCH((B802&\"*\"&G802&\"*\"&D802&\"*\"&E802),شهر3!#REF!&\"*\"&شهر3!#REF!&\"*\"&شهر3!#REF!&\"*\"&شهر3!#REF!,0))","v":{"$error":"#REF!"}}]
[null,null,{"$f":"VLOOKUP(B803,برقية!$A$2:$B$377,2,FALSE)","v":{"$error":"#N/A"}},null,null,{"$f":"INDEX(شهر3!#REF!,MATCH((B803&\"*\"&G803&\"*\"&D803&\"*\"&E803),شهر3!#REF!&\"*\"&شهر3!#REF!&\"*\"&شهر3!#REF!&\"*\"&شهر3!#REF!,0))","v":{"$error":"#REF!"}},null,{"$f":"INDEX(شهر3!#REF!,MATCH((B803&\"*\"&G803&\"*\"&D803&\"*\"&E803),شهر3!#REF!&\"*\"&شهر3!#REF!&\"*\"&شهر3!#REF!&\"*\"&شهر3!#REF!,0))","v":{"$error":"#REF!"}}]
[null,null,{"$f":"VLOOKUP(B804,برقية!$A$2:$B$377,2,FALSE)","v":{"$error":"#N/A"}},null,null,{"$f":"INDEX(شهر3!#REF!,MATCH((B804&\"*\"&G804&\"*\"&D804&\"*\"&E804),شهر3!#REF!&\"*\"&شهر3!#REF!&\"*\"&شهر3!#REF!&\"*\"&شهر3!#REF!,0))","v":{"$error":"#REF!"}},null,{"$f":"INDEX(شهر3!#REF!,MATCH((B804&\"*\"&G804&\"*\"&D804&\"*\"&E804),شهر3!#REF!&\"*\"&شهر3!#REF!&\"*\"&شهر3!#REF!&\"*\"&شهر3!#REF!,0))","v":{"$error":"#REF!"}}]
[null,null,{"$f":"VLOOKUP(B805,برقية!$A$2:$B$377,2,FALSE)","v":{"$error":"#N/A"}},null,null,{"$f":"INDEX(شهر3!#REF!,MATCH((B805&\"*\"&G805&\"*\"&D805&\"*\"&E805),شهر3!#REF!&\"*\"&شهر3!#REF!&\"*\"&شهر3!#REF!&\"*\"&شهر3!#REF!,0))","v":{"$error":"#REF!"}},null,{"$f":"INDEX(شهر3!#REF!,MATCH((B805&\"*\"&G805&\"*\"&D805&\"*\"&E805),شهر3!#REF!&\"*\"&شهر3!#REF!&\"*\"&شهر3!#REF!&\"*\"&شهر3!#REF!,0))","v":{"$error":"#REF!"}}]
[null,null,{"$f":"VLOOKUP(B806,برقية!$A$2:$B$377,2,FALSE)","v":{"$error":"#N/A"}},null,null,{"$f":"INDEX(شهر3!#REF!,MATCH((B806&\"*\"&G806&\"*\"&D806&\"*\"&E806),شهر3!#REF!&\"*\"&شهر3!#REF!&\"*\"&شهر3!#REF!&\"*\"&شهر3!#REF!,0))","v":{"$error":"#REF!"}},null,{"$f":"INDEX(شهر3!#REF!,MATCH((B806&\"*\"&G806&\"*\"&D806&\"*\"&E806),شهر3!#REF!&\"*\"&شهر3!#REF!&\"*\"&شهر3!#REF!&\"*\"&شهر3!#REF!,0))","v":{"$error":"#REF!"}}]
[null,null,{"$f":"VLOOKUP(B807,برقية!$A$2:$B$377,2,FALSE)","v":{"$error":"#N/A"}},null,null,{"$f":"INDEX(شهر3!#REF!,MATCH((B807&\"*\"&G807&\"*\"&D807&\"*\"&E807),شهر3!#REF!&\"*\"&شهر3!#REF!&\"*\"&شهر3!#REF!&\"*\"&شهر3!#REF!,0))","v":{"$error":"#REF!"}},null,{"$f":"INDEX(شهر3!#REF!,MATCH((B807&\"*\"&G807&\"*\"&D807&\"*\"&E807),شهر3!#REF!&\"*\"&شهر3!#REF!&\"*\"&شهر3!#REF!&\"*\"&شهر3!#REF!,0))","v":{"$error":"#REF!"}}]
[null,null,{"$f":"VLOOKUP(B808,برقية!$A$2:$B$377,2,FALSE)","v":{"$error":"#N/A"}},null,null,{"$f":"INDEX(شهر3!#REF!,MATCH((B808&\"*\"&G808&\"*\"&D808&\"*\"&E808),شهر3!#REF!&\"*\"&شهر3!#REF!&\"*\"&شهر3!#REF!&\"*\"&شهر3!#REF!,0))","v":{"$error":"#REF!"}},null,{"$f":"INDEX(شهر3!#REF!,MATCH((B808&\"*\"&G808&\"*\"&D808&\"*\"&E808),شهر3!#REF!&\"*\"&شهر3!#REF!&\"*\"&شهر3!#REF!&\"*\"&شهر3!#REF!,0))","v":{"$error":"#REF!"}}]
[null,null,{"$f":"VLOOKUP(B809,برقية!$A$2:$B$377,2,FALSE)","v":{"$error":"#N/A"}},null,null,{"$f":"INDEX(شهر3!#REF!,MATCH((B809&\"*\"&G809&\"*\"&D809&\"*\"&E809),شهر3!#REF!&\"*\"&شهر3!#REF!&\"*\"&شهر3!#REF!&\"*\"&شهر3!#REF!,0))","v":{"$error":"#REF!"}},null,{"$f":"INDEX(شهر3!#REF!,MATCH((B809&\"*\"&G809&\"*\"&D809&\"*\"&E809),شهر3!#REF!&\"*\"&شهر3!#REF!&\"*\"&شهر3!#REF!&\"*\"&شهر3!#REF!,0))","v":{"$error":"#REF!"}}]
[null,null,{"$f":"VLOOKUP(B810,برقية!$A$2:$B$377,2,FALSE)","v":{"$error":"#N/A"}},null,null,{"$f":"INDEX(شهر3!#REF!,MATCH((B810&\"*\"&G810&\"*\"&D810&\"*\"&E810),شهر3!#REF!&\"*\"&شهر3!#REF!&\"*\"&شهر3!#REF!&\"*\"&شهر3!#REF!,0))","v":{"$error":"#REF!"}},null,{"$f":"INDEX(شهر3!#REF!,MATCH((B810&\"*\"&G810&\"*\"&D810&\"*\"&E810),شهر3!#REF!&\"*\"&شهر3!#REF!&\"*\"&شهر3!#REF!&\"*\"&شهر3!#REF!,0))","v":{"$error":"#REF!"}}]
[null,null,{"$f":"VLOOKUP(B811,برقية!$A$2:$B$377,2,FALSE)","v":{"$error":"#N/A"}},null,null,{"$f":"INDEX(شهر3!#REF!,MATCH((B811&\"*\"&G811&\"*\"&D811&\"*\"&E811),شهر3!#REF!&\"*\"&شهر3!#REF!&\"*\"&شهر3!#REF!&\"*\"&شهر3!#REF!,0))","v":{"$error":"#REF!"}},null,{"$f":"INDEX(شهر3!#REF!,MATCH((B811&\"*\"&G811&\"*\"&D811&\"*\"&E811),شهر3!#REF!&\"*\"&شهر3!#REF!&\"*\"&شهر3!#REF!&\"*\"&شهر3!#REF!,0))","v":{"$error":"#REF!"}}]
[null,null,{"$f":"VLOOKUP(B812,برقية!$A$2:$B$377,2,FALSE)","v":{"$error":"#N/A"}},null,null,{"$f":"INDEX(شهر3!#REF!,MATCH((B812&\"*\"&G812&\"*\"&D812&\"*\"&E812),شهر3!#REF!&\"*\"&شهر3!#REF!&\"*\"&شهر3!#REF!&\"*\"&شهر3!#REF!,0))","v":{"$error":"#REF!"}},null,{"$f":"INDEX(شهر3!#REF!,MATCH((B812&\"*\"&G812&\"*\"&D812&\"*\"&E812),شهر3!#REF!&\"*\"&شهر3!#REF!&\"*\"&شهر3!#REF!&\"*\"&شهر3!#REF!,0))","v":{"$error":"#REF!"}}]
[null,null,{"$f":"VLOOKUP(B813,برقية!$A$2:$B$377,2,FALSE)","v":{"$error":"#N/A"}},null,null,{"$f":"INDEX(شهر3!#REF!,MATCH((B813&\"*\"&G813&\"*\"&D813&\"*\"&E813),شهر3!#REF!&\"*\"&شهر3!#REF!&\"*\"&شهر3!#REF!&\"*\"&شهر3!#REF!,0))","v":{"$error":"#REF!"}},null,{"$f":"INDEX(شهر3!#REF!,MATCH((B813&\"*\"&G813&\"*\"&D813&\"*\"&E813),شهر3!#REF!&\"*\"&شهر3!#REF!&\"*\"&شهر3!#REF!&\"*\"&شهر3!#REF!,0))","v":{"$error":"#REF!"}}]
[null,null,{"$f":"VLOOKUP(B814,برقية!$A$2:$B$377,2,FALSE)","v":{"$error":"#N/A"}},null,null,{"$f":"INDEX(شهر3!#REF!,MATCH((B814&\"*\"&G814&\"*\"&D814&\"*\"&E814),شهر3!#REF!&\"*\"&شهر3!#REF!&\"*\"&شهر3!#REF!&\"*\"&شهر3!#REF!,0))","v":{"$error":"#REF!"}},null,{"$f":"INDEX(شهر3!#REF!,MATCH((B814&\"*\"&G814&\"*\"&D814&\"*\"&E814),شهر3!#REF!&\"*\"&شهر3!#REF!&\"*\"&شهر3!#REF!&\"*\"&شهر3!#REF!,0))","v":{"$error":"#REF!"}}]
[null,null,{"$f":"VLOOKUP(B815,برقية!$A$2:$B$377,2,FALSE)","v":{"$error":"#N/A"}},null,null,{"$f":"INDEX(شهر3!#REF!,MATCH((B815&\"*\"&G815&\"*\"&D815&\"*\"&E815),شهر3!#REF!&\"*\"&شهر3!#REF!&\"*\"&شهر3!#REF!&\"*\"&شهر3!#REF!,0))","v":{"$error":"#REF!"}},null,{"$f":"INDEX(شهر3!#REF!,MATCH((B815&\"*\"&G815&\"*\"&D815&\"*\"&E815),شهر3!#REF!&\"*\"&شهر3!#REF!&\"*\"&شهر3!#REF!&\"*\"&شهر3!#REF!,0))","v":{"$error":"#REF!"}}]
[null,null,{"$f":"VLOOKUP(B816,برقية!$A$2:$B$377,2,FALSE)","v":{"$error":"#N/A"}},null,null,{"$f":"INDEX(شهر3!#REF!,MATCH((B816&\"*\"&G816&\"*\"&D816&\"*\"&E816),شهر3!#REF!&\"*\"&شهر3!#REF!&\"*\"&شهر3!#REF!&\"*\"&شهر3!#REF!,0))","v":{"$error":"#REF!"}},null,{"$f":"INDEX(شهر3!#REF!,MATCH((B816&\"*\"&G816&\"*\"&D816&\"*\"&E816),شهر3!#REF!&\"*\"&شهر3!#REF!&\"*\"&شهر3!#REF!&\"*\"&شهر3!#REF!,0))","v":{"$error":"#REF!"}}]
[null,null,{"$f":"VLOOKUP(B817,برقية!$A$2:$B$377,2,FALSE)","v":{"$error":"#N/A"}},null,null,{"$f":"INDEX(شهر3!#REF!,MATCH((B817&\"*\"&G817&\"*\"&D817&\"*\"&E817),شهر3!#REF!&\"*\"&شهر3!#REF!&\"*\"&شهر3!#REF!&\"*\"&شهر3!#REF!,0))","v":{"$error":"#REF!"}},null,{"$f":"INDEX(شهر3!#REF!,MATCH((B817&\"*\"&G817&\"*\"&D817&\"*\"&E817),شهر3!#REF!&\"*\"&شهر3!#REF!&\"*\"&شهر3!#REF!&\"*\"&شهر3!#REF!,0))","v":{"$error":"#REF!"}}]
[null,null,{"$f":"VLOOKUP(B818,برقية!$A$2:$B$377,2,FALSE)","v":{"$error":"#N/A"}},null,null,{"$f":"INDEX(شهر3!#REF!,MATCH((B818&\"*\"&G818&\"*\"&D818&\"*\"&E818),شهر3!#REF!&\"*\"&شهر3!#REF!&\"*\"&شهر3!#REF!&\"*\"&شهر3!#REF!,0))","v":{"$error":"#REF!"}},null,{"$f":"INDEX(شهر3!#REF!,MATCH((B818&\"*\"&G818&\"*\"&D818&\"*\"&E818),شهر3!#REF!&\"*\"&شهر3!#REF!&\"*\"&شهر3!#REF!&\"*\"&شهر3!#REF!,0))","v":{"$error":"#REF!"}}]
[null,null,{"$f":"VLOOKUP(B819,برقية!$A$2:$B$377,2,FALSE)","v":{"$error":"#N/A"}},null,null,{"$f":"INDEX(شهر3!#REF!,MATCH((B819&\"*\"&G819&\"*\"&D819&\"*\"&E819),شهر3!#REF!&\"*\"&شهر3!#REF!&\"*\"&شهر3!#REF!&\"*\"&شهر3!#REF!,0))","v":{"$error":"#REF!"}},null,{"$f":"INDEX(شهر3!#REF!,MATCH((B819&\"*\"&G819&\"*\"&D819&\"*\"&E819),شهر3!#REF!&\"*\"&شهر3!#REF!&\"*\"&شهر3!#REF!&\"*\"&شهر3!#REF!,0))","v":{"$error":"#REF!"}}]
[null,null,{"$f":"VLOOKUP(B820,برقية!$A$2:$B$377,2,FALSE)","v":{"$error":"#N/A"}},null,null,{"$f":"INDEX(شهر3!#REF!,MATCH((B820&\"*\"&G820&\"*\"&D820&\"*\"&E820),شهر3!#REF!&\"*\"&شهر3!#REF!&\"*\"&شهر3!#REF!&\"*\"&شهر3!#REF!,0))","v":{"$error":"#REF!"}},null,{"$f":"INDEX(شهر3!#REF!,MATCH((B820&\"*\"&G820&\"*\"&D820&\"*\"&E820),شهر3!#REF!&\"*\"&شهر3!#REF!&\"*\"&شهر3!#REF!&\"*\"&شهر3!#REF!,0))","v":{"$error":"#REF!"}}]
[null,null,{"$f":"VLOOKUP(B821,برقية!$A$2:$B$377,2,FALSE)","v":{"$error":"#N/A"}},null,null,{"$f":"INDEX(شهر3!#REF!,MATCH((B821&\"*\"&G821&\"*\"&D821&\"*\"&E821),شهر3!#REF!&\"*\"&شهر3!#REF!&\"*\"&شهر3!#REF!&\"*\"&شهر3!#REF!,0))","v":{"$error":"#REF!"}},null,{"$f":"INDEX(شهر3!#REF!,MATCH((B821&\"*\"&G821&\"*\"&D821&\"*\"&E821),شهر3!#REF!&\"*\"&شهر3!#REF!&\"*\"&شهر3!#REF!&\"*\"&شهر3!#REF!,0))","v":{"$error":"#REF!"}}]
[null,null,{"$f":"VLOOKUP(B822,برقية!$A$2:$B$377,2,FALSE)","v":{"$error":"#N/A"}},null,null,{"$f":"INDEX(شهر3!#REF!,MATCH((B822&\"*\"&G822&\"*\"&D822&\"*\"&E822),شهر3!#REF!&\"*\"&شهر3!#REF!&\"*\"&شهر3!#REF!&\"*\"&شهر3!#REF!,0))","v":{"$error":"#REF!"}},null,{"$f":"INDEX(شهر3!#REF!,MATCH((B822&\"*\"&G822&\"*\"&D822&\"*\"&E822),شهر3!#REF!&\"*\"&شهر3!#REF!&\"*\"&شهر3!#REF!&\"*\"&شهر3!#REF!,0))","v":{"$error":"#REF!"}}]
[null,null,{"$f":"VLOOKUP(B823,برقية!$A$2:$B$377,2,FALSE)","v":{"$error":"#N/A"}},null,null,{"$f":"INDEX(شهر3!#REF!,MATCH((B823&\"*\"&G823&\"*\"&D823&\"*\"&E823),شهر3!#REF!&\"*\"&شهر3!#REF!&\"*\"&شهر3!#REF!&\"*\"&شهر3!#REF!,0))","v":{"$error":"#REF!"}},null,{"$f":"INDEX(شهر3!#REF!,MATCH((B823&\"*\"&G823&\"*\"&D823&\"*\"&E823),شهر3!#REF!&\"*\"&شهر3!#REF!&\"*\"&شهر3!#REF!&\"*\"&شهر3!#REF!,0))","v":{"$error":"#REF!"}}]
[null,null,{"$f":"VLOOKUP(B824,برقية!$A$2:$B$377,2,FALSE)","v":{"$error":"#N/A"}},null,null,{"$f":"INDEX(شهر3!#REF!,MATCH((B824&\"*\"&G824&\"*\"&D824&\"*\"&E824),شهر3!#REF!&\"*\"&شهر3!#REF!&\"*\"&شهر3!#REF!&\"*\"&شهر3!#REF!,0))","v":{"$error":"#REF!"}},null,{"$f":"INDEX(شهر3!#REF!,MATCH((B824&\"*\"&G824&\"*\"&D824&\"*\"&E824),شهر3!#REF!&\"*\"&شهر3!#REF!&\"*\"&شهر3!#REF!&\"*\"&شهر3!#REF!,0))","v":{"$error":"#REF!"}}]
[null,null,{"$f":"VLOOKUP(B825,برقية!$A$2:$B$377,2,FALSE)","v":{"$error":"#N/A"}},null,null,{"$f":"INDEX(شهر3!#REF!,MATCH((B825&\"*\"&G825&\"*\"&D825&\"*\"&E825),شهر3!#REF!&\"*\"&شهر3!#REF!&\"*\"&شهر3!#REF!&\"*\"&شهر3!#REF!,0))","v":{"$error":"#REF!"}},null,{"$f":"INDEX(شهر3!#REF!,MATCH((B825&\"*\"&G825&\"*\"&D825&\"*\"&E825),شهر3!#REF!&\"*\"&شهر3!#REF!&\"*\"&شهر3!#REF!&\"*\"&شهر3!#REF!,0))","v":{"$error":"#REF!"}}]
[null,null,{"$f":"VLOOKUP(B826,برقية!$A$2:$B$377,2,FALSE)","v":{"$error":"#N/A"}},null,null,{"$f":"INDEX(شهر3!#REF!,MATCH((B826&\"*\"&G826&\"*\"&D826&\"*\"&E826),شهر3!#REF!&\"*\"&شهر3!#REF!&\"*\"&شهر3!#REF!&\"*\"&شهر3!#REF!,0))","v":{"$error":"#REF!"}},null,{"$f":"INDEX(شهر3!#REF!,MATCH((B826&\"*\"&G826&\"*\"&D826&\"*\"&E826),شهر3!#REF!&\"*\"&شهر3!#REF!&\"*\"&شهر3!#REF!&\"*\"&شهر3!#REF!,0))","v":{"$error":"#REF!"}}]
[null,null,{"$f":"VLOOKUP(B827,برقية!$A$2:$B$377,2,FALSE)","v":{"$error":"#N/A"}},null,null,{"$f":"INDEX(شهر3!#REF!,MATCH((B827&\"*\"&G827&\"*\"&D827&\"*\"&E827),شهر3!#REF!&\"*\"&شهر3!#REF!&\"*\"&شهر3!#REF!&\"*\"&شهر3!#REF!,0))","v":{"$error":"#REF!"}},null,{"$f":"INDEX(شهر3!#REF!,MATCH((B827&\"*\"&G827&\"*\"&D827&\"*\"&E827),شهر3!#REF!&\"*\"&شهر3!#REF!&\"*\"&شهر3!#REF!&\"*\"&شهر3!#REF!,0))","v":{"$error":"#REF!"}}]
[null,null,{"$f":"VLOOKUP(B828,برقية!$A$2:$B$377,2,FALSE)","v":{"$error":"#N/A"}},null,null,{"$f":"INDEX(شهر3!#REF!,MATCH((B828&\"*\"&G828&\"*\"&D828&\"*\"&E828),شهر3!#REF!&\"*\"&شهر3!#REF!&\"*\"&شهر3!#REF!&\"*\"&شهر3!#REF!,0))","v":{"$error":"#REF!"}},null,{"$f":"INDEX(شهر3!#REF!,MATCH((B828&\"*\"&G828&\"*\"&D828&\"*\"&E828),شهر3!#REF!&\"*\"&شهر3!#REF!&\"*\"&شهر3!#REF!&\"*\"&شهر3!#REF!,0))","v":{"$error":"#REF!"}}]
[null,null,{"$f":"VLOOKUP(B829,برقية!$A$2:$B$377,2,FALSE)","v":{"$error":"#N/A"}},null,null,{"$f":"INDEX(شهر3!#REF!,MATCH((B829&\"*\"&G829&\"*\"&D829&\"*\"&E829),شهر3!#REF!&\"*\"&شهر3!#REF!&\"*\"&شهر3!#REF!&\"*\"&شهر3!#REF!,0))","v":{"$error":"#REF!"}},null,{"$f":"INDEX(شهر3!#REF!,MATCH((B829&\"*\"&G829&\"*\"&D829&\"*\"&E829),شهر3!#REF!&\"*\"&شهر3!#REF!&\"*\"&شهر3!#REF!&\"*\"&شهر3!#REF!,0))","v":{"$error":"#REF!"}}]
[null,null,{"$f":"VLOOKUP(B830,برقية!$A$2:$B$377,2,FALSE)","v":{"$error":"#N/A"}},null,null,{"$f":"INDEX(شهر3!#REF!,MATCH((B830&\"*\"&G830&\"*\"&D830&\"*\"&E830),شهر3!#REF!&\"*\"&شهر3!#REF!&\"*\"&شهر3!#REF!&\"*\"&شهر3!#REF!,0))","v":{"$error":"#REF!"}},null,{"$f":"INDEX(شهر3!#REF!,MATCH((B830&\"*\"&G830&\"*\"&D830&\"*\"&E830),شهر3!#REF!&\"*\"&شهر3!#REF!&\"*\"&شهر3!#REF!&\"*\"&شهر3!#REF!,0))","v":{"$error":"#REF!"}}]
[null,null,{"$f":"VLOOKUP(B831,برقية!$A$2:$B$377,2,FALSE)","v":{"$error":"#N/A"}},null,null,{"$f":"INDEX(شهر3!#REF!,MATCH((B831&\"*\"&G831&\"*\"&D831&\"*\"&E831),شهر3!#REF!&\"*\"&شهر3!#REF!&\"*\"&شهر3!#REF!&\"*\"&شهر3!#REF!,0))","v":{"$error":"#REF!"}},null,{"$f":"INDEX(شهر3!#REF!,MATCH((B831&\"*\"&G831&\"*\"&D831&\"*\"&E831),شهر3!#REF!&\"*\"&شهر3!#REF!&\"*\"&شهر3!#REF!&\"*\"&شهر3!#REF!,0))","v":{"$error":"#REF!"}}]
[null,null,{"$f":"VLOOKUP(B832,برقية!$A$2:$B$377,2,FALSE)","v":{"$error":"#N/A"}},null,null,{"$f":"INDEX(شهر3!#REF!,MATCH((B832&\"*\"&G832&\"*\"&D832&\"*\"&E832),شهر3!#REF!&\"*\"&شهر3!#REF!&\"*\"&شهر3!#REF!&\"*\"&شهر3!#REF!,0))","v":{"$error":"#REF!"}},null,{"$f":"INDEX(شهر3!#REF!,MATCH((B832&\"*\"&G832&\"*\"&D832&\"*\"&E832),شهر3!#REF!&\"*\"&شهر3!#REF!&\"*\"&شهر3!#REF!&\"*\"&شهر3!#REF!,0))","v":{"$error":"#REF!"}}]
[null,null,{"$f":"VLOOKUP(B833,برقية!$A$2:$B$377,2,FALSE)","v":{"$error":"#N/A"}},null,null,{"$f":"INDEX(شهر3!#REF!,MATCH((B833&\"*\"&G833&\"*\"&D833&\"*\"&E833),شهر3!#REF!&\"*\"&شهر3!#REF!&\"*\"&شهر3!#REF!&\"*\"&شهر3!#REF!,0))","v":{"$error":"#REF!"}},null,{"$f":"INDEX(شهر3!#REF!,MATCH((B833&\"*\"&G833&\"*\"&D833&\"*\"&E833),شهر3!#REF!&\"*\"&شهر3!#REF!&\"*\"&شهر3!#REF!&\"*\"&شهر3!#REF!,0))","v":{"$error":"#REF!"}}]
[null,null,{"$f":"VLOOKUP(B834,برقية!$A$2:$B$377,2,FALSE)","v":{"$error":"#N/A"}},null,null,{"$f":"INDEX(شهر3!#REF!,MATCH((B834&\"*\"&G834&\"*\"&D834&\"*\"&E834),شهر3!#REF!&\"*\"&شهر3!#REF!&\"*\"&شهر3!#REF!&\"*\"&شهر3!#REF!,0))","v":{"$error":"#REF!"}},null,{"$f":"INDEX(شهر3!#REF!,MATCH((B834&\"*\"&G834&\"*\"&D834&\"*\"&E834),شهر3!#REF!&\"*\"&شهر3!#REF!&\"*\"&شهر3!#REF!&\"*\"&شهر3!#REF!,0))","v":{"$error":"#REF!"}}]
[null,null,{"$f":"VLOOKUP(B835,برقية!$A$2:$B$377,2,FALSE)","v":{"$error":"#N/A"}},null,null,{"$f":"INDEX(شهر3!#REF!,MATCH((B835&\"*\"&G835&\"*\"&D835&\"*\"&E835),شهر3!#REF!&\"*\"&شهر3!#REF!&\"*\"&شهر3!#REF!&\"*\"&شهر3!#REF!,0))","v":{"$error":"#REF!"}},null,{"$f":"INDEX(شهر3!#REF!,MATCH((B835&\"*\"&G835&\"*\"&D835&\"*\"&E835),شهر3!#REF!&\"*\"&شهر3!#REF!&\"*\"&شهر3!#REF!&\"*\"&شهر3!#REF!,0))","v":{"$error":"#REF!"}}]
[null,null,{"$f":"VLOOKUP(B836,برقية!$A$2:$B$377,2,FALSE)","v":{"$error":"#N/A"}},null,null,{"$f":"INDEX(شهر3!#REF!,MATCH((B836&\"*\"&G836&\"*\"&D836&\"*\"&E836),شهر3!#REF!&\"*\"&شهر3!#REF!&\"*\"&شهر3!#REF!&\"*\"&شهر3!#REF!,0))","v":{"$error":"#REF!"}},null,{"$f":"INDEX(شهر3!#REF!,MATCH((B836&\"*\"&G836&\"*\"&D836&\"*\"&E836),شهر3!#REF!&\"*\"&شهر3!#REF!&\"*\"&شهر3!#REF!&\"*\"&شهر3!#REF!,0))","v":{"$error":"#REF!"}}]
[null,null,{"$f":"VLOOKUP(B837,برقية!$A$2:$B$377,2,FALSE)","v":{"$error":"#N/A"}},null,null,{"$f":"INDEX(شهر3!#REF!,MATCH((B837&\"*\"&G837&\"*\"&D837&\"*\"&E837),شهر3!#REF!&\"*\"&شهر3!#REF!&\"*\"&شهر3!#REF!&\"*\"&شهر3!#REF!,0))","v":{"$error":"#REF!"}},null,{"$f":"INDEX(شهر3!#REF!,MATCH((B837&\"*\"&G837&\"*\"&D837&\"*\"&E837),شهر3!#REF!&\"*\"&شهر3!#REF!&\"*\"&شهر3!#REF!&\"*\"&شهر3!#REF!,0))","v":{"$error":"#REF!"}}]
[null,null,{"$f":"VLOOKUP(B838,برقية!$A$2:$B$377,2,FALSE)","v":{"$error":"#N/A"}},null,null,{"$f":"INDEX(شهر3!#REF!,MATCH((B838&\"*\"&G838&\"*\"&D838&\"*\"&E838),شهر3!#REF!&\"*\"&شهر3!#REF!&\"*\"&شهر3!#REF!&\"*\"&شهر3!#REF!,0))","v":{"$error":"#REF!"}},null,{"$f":"INDEX(شهر3!#REF!,MATCH((B838&\"*\"&G838&\"*\"&D838&\"*\"&E838),شهر3!#REF!&\"*\"&شهر3!#REF!&\"*\"&شهر3!#REF!&\"*\"&شهر3!#REF!,0))","v":{"$error":"#REF!"}}]
[null,null,{"$f":"VLOOKUP(B839,برقية!$A$2:$B$377,2,FALSE)","v":{"$error":"#N/A"}},null,null,{"$f":"INDEX(شهر3!#REF!,MATCH((B839&\"*\"&G839&\"*\"&D839&\"*\"&E839),شهر3!#REF!&\"*\"&شهر3!#REF!&\"*\"&شهر3!#REF!&\"*\"&شهر3!#REF!,0))","v":{"$error":"#REF!"}},null,{"$f":"INDEX(شهر3!#REF!,MATCH((B839&\"*\"&G839&\"*\"&D839&\"*\"&E839),شهر3!#REF!&\"*\"&شهر3!#REF!&\"*\"&شهر3!#REF!&\"*\"&شهر3!#REF!,0))","v":{"$error":"#REF!"}}]
[null,null,{"$f":"VLOOKUP(B840,برقية!$A$2:$B$377,2,FALSE)","v":{"$error":"#N/A"}},null,null,{"$f":"INDEX(شهر3!#REF!,MATCH((B840&\"*\"&G840&\"*\"&D840&\"*\"&E840),شهر3!#REF!&\"*\"&شهر3!#REF!&\"*\"&شهر3!#REF!&\"*\"&شهر3!#REF!,0))","v":{"$error":"#REF!"}},null,{"$f":"INDEX(شهر3!#REF!,MATCH((B840&\"*\"&G840&\"*\"&D840&\"*\"&E840),شهر3!#REF!&\"*\"&شهر3!#REF!&\"*\"&شهر3!#REF!&\"*\"&شهر3!#REF!,0))","v":{"$error":"#REF!"}}]
[null,null,{"$f":"VLOOKUP(B841,برقية!$A$2:$B$377,2,FALSE)","v":{"$error":"#N/A"}},null,null,{"$f":"INDEX(شهر3!#REF!,MATCH((B841&\"*\"&G841&\"*\"&D841&\"*\"&E841),شهر3!#REF!&\"*\"&شهر3!#REF!&\"*\"&شهر3!#REF!&\"*\"&شهر3!#REF!,0))","v":{"$error":"#REF!"}},null,{"$f":"INDEX(شهر3!#REF!,MATCH((B841&\"*\"&G841&\"*\"&D841&\"*\"&E841),شهر3!#REF!&\"*\"&شهر3!#REF!&\"*\"&شهر3!#REF!&\"*\"&شهر3!#REF!,0))","v":{"$error":"#REF!"}}]
[null,null,{"$f":"VLOOKUP(B842,برقية!$A$2:$B$377,2,FALSE)","v":{"$error":"#N/A"}},null,null,{"$f":"INDEX(شهر3!#REF!,MATCH((B842&\"*\"&G842&\"*\"&D842&\"*\"&E842),شهر3!#REF!&\"*\"&شهر3!#REF!&\"*\"&شهر3!#REF!&\"*\"&شهر3!#REF!,0))","v":{"$error":"#REF!"}},null,{"$f":"INDEX(شهر3!#REF!,MATCH((B842&\"*\"&G842&\"*\"&D842&\"*\"&E842),شهر3!#REF!&\"*\"&شهر3!#REF!&\"*\"&شهر3!#REF!&\"*\"&شهر3!#REF!,0))","v":{"$error":"#REF!"}}]
[null,null,{"$f":"VLOOKUP(B843,برقية!$A$2:$B$377,2,FALSE)","v":{"$error":"#N/A"}},null,null,{"$f":"INDEX(شهر3!#REF!,MATCH((B843&\"*\"&G843&\"*\"&D843&\"*\"&E843),شهر3!#REF!&\"*\"&شهر3!#REF!&\"*\"&شهر3!#REF!&\"*\"&شهر3!#REF!,0))","v":{"$error":"#REF!"}},null,{"$f":"INDEX(شهر3!#REF!,MATCH((B843&\"*\"&G843&\"*\"&D843&\"*\"&E843),شهر3!#REF!&\"*\"&شهر3!#REF!&\"*\"&شهر3!#REF!&\"*\"&شهر3!#REF!,0))","v":{"$error":"#REF!"}}]
[null,null,{"$f":"VLOOKUP(B844,برقية!$A$2:$B$377,2,FALSE)","v":{"$error":"#N/A"}},null,null,{"$f":"INDEX(شهر3!#REF!,MATCH((B844&\"*\"&G844&\"*\"&D844&\"*\"&E844),شهر3!#REF!&\"*\"&شهر3!#REF!&\"*\"&شهر3!#REF!&\"*\"&شهر3!#REF!,0))","v":{"$error":"#REF!"}},null,{"$f":"INDEX(شهر3!#REF!,MATCH((B844&\"*\"&G844&\"*\"&D844&\"*\"&E844),شهر3!#REF!&\"*\"&شهر3!#REF!&\"*\"&شهر3!#REF!&\"*\"&شهر3!#REF!,0))","v":{"$error":"#REF!"}}]
[null,null,{"$f":"VLOOKUP(B845,برقية!$A$2:$B$377,2,FALSE)","v":{"$error":"#N/A"}},null,null,{"$f":"INDEX(شهر3!#REF!,MATCH((B845&\"*\"&G845&\"*\"&D845&\"*\"&E845),شهر3!#REF!&\"*\"&شهر3!#REF!&\"*\"&شهر3!#REF!&\"*\"&شهر3!#REF!,0))","v":{"$error":"#REF!"}},null,{"$f":"INDEX(شهر3!#REF!,MATCH((B845&\"*\"&G845&\"*\"&D845&\"*\"&E845),شهر3!#REF!&\"*\"&شهر3!#REF!&\"*\"&شهر3!#REF!&\"*\"&شهر3!#REF!,0))","v":{"$error":"#REF!"}}]
[null,null,{"$f":"VLOOKUP(B846,برقية!$A$2:$B$377,2,FALSE)","v":{"$error":"#N/A"}},null,null,{"$f":"INDEX(شهر3!#REF!,MATCH((B846&\"*\"&G846&\"*\"&D846&\"*\"&E846),شهر3!#REF!&\"*\"&شهر3!#REF!&\"*\"&شهر3!#REF!&\"*\"&شهر3!#REF!,0))","v":{"$error":"#REF!"}},null,{"$f":"INDEX(شهر3!#REF!,MATCH((B846&\"*\"&G846&\"*\"&D846&\"*\"&E846),شهر3!#REF!&\"*\"&شهر3!#REF!&\"*\"&شهر3!#REF!&\"*\"&شهر3!#REF!,0))","v":{"$error":"#REF!"}}]
[null,null,{"$f":"VLOOKUP(B847,برقية!$A$2:$B$377,2,FALSE)","v":{"$error":"#N/A"}},null,null,{"$f":"INDEX(شهر3!#REF!,MATCH((B847&\"*\"&G847&\"*\"&D847&\"*\"&E847),شهر3!#REF!&\"*\"&شهر3!#REF!&\"*\"&شهر3!#REF!&\"*\"&شهر3!#REF!,0))","v":{"$error":"#REF!"}},null,{"$f":"INDEX(شهر3!#REF!,MATCH((B847&\"*\"&G847&\"*\"&D847&\"*\"&E847),شهر3!#REF!&\"*\"&شهر3!#REF!&\"*\"&شهر3!#REF!&\"*\"&شهر3!#REF!,0))","v":{"$error":"#REF!"}}]
[null,null,{"$f":"VLOOKUP(B848,برقية!$A$2:$B$377,2,FALSE)","v":{"$error":"#N/A"}},null,null,{"$f":"INDEX(شهر3!#REF!,MATCH((B848&\"*\"&G848&\"*\"&D848&\"*\"&E848),شهر3!#REF!&\"*\"&شهر3!#REF!&\"*\"&شهر3!#REF!&\"*\"&شهر3!#REF!,0))","v":{"$error":"#REF!"}},null,{"$f":"INDEX(شهر3!#REF!,MATCH((B848&\"*\"&G848&\"*\"&D848&\"*\"&E848),شهر3!#REF!&\"*\"&شهر3!#REF!&\"*\"&شهر3!#REF!&\"*\"&شهر3!#REF!,0))","v":{"$error":"#REF!"}}]
[null,null,{"$f":"VLOOKUP(B849,برقية!$A$2:$B$377,2,FALSE)","v":{"$error":"#N/A"}},null,null,{"$f":"INDEX(شهر3!#REF!,MATCH((B849&\"*\"&G849&\"*\"&D849&\"*\"&E849),شهر3!#REF!&\"*\"&شهر3!#REF!&\"*\"&شهر3!#REF!&\"*\"&شهر3!#REF!,0))","v":{"$error":"#REF!"}},null,{"$f":"INDEX(شهر3!#REF!,MATCH((B849&\"*\"&G849&\"*\"&D849&\"*\"&E849),شهر3!#REF!&\"*\"&شهر3!#REF!&\"*\"&شهر3!#REF!&\"*\"&شهر3!#REF!,0))","v":{"$error":"#REF!"}}]
[null,null,{"$f":"VLOOKUP(B850,برقية!$A$2:$B$377,2,FALSE)","v":{"$error":"#N/A"}},null,null,{"$f":"INDEX(شهر3!#REF!,MATCH((B850&\"*\"&G850&\"*\"&D850&\"*\"&E850),شهر3!#REF!&\"*\"&شهر3!#REF!&\"*\"&شهر3!#REF!&\"*\"&شهر3!#REF!,0))","v":{"$error":"#REF!"}},null,{"$f":"INDEX(شهر3!#REF!,MATCH((B850&\"*\"&G850&\"*\"&D850&\"*\"&E850),شهر3!#REF!&\"*\"&شهر3!#REF!&\"*\"&شهر3!#REF!&\"*\"&شهر3!#REF!,0))","v":{"$error":"#REF!"}}]
[null,null,{"$f":"VLOOKUP(B851,برقية!$A$2:$B$377,2,FALSE)","v":{"$error":"#N/A"}},null,null,{"$f":"INDEX(شهر3!#REF!,MATCH((B851&\"*\"&G851&\"*\"&D851&\"*\"&E851),شهر3!#REF!&\"*\"&شهر3!#REF!&\"*\"&شهر3!#REF!&\"*\"&شهر3!#REF!,0))","v":{"$error":"#REF!"}},null,{"$f":"INDEX(شهر3!#REF!,MATCH((B851&\"*\"&G851&\"*\"&D851&\"*\"&E851),شهر3!#REF!&\"*\"&شهر3!#REF!&\"*\"&شهر3!#REF!&\"*\"&شهر3!#REF!,0))","v":{"$error":"#REF!"}}]
[null,null,{"$f":"VLOOKUP(B852,برقية!$A$2:$B$377,2,FALSE)","v":{"$error":"#N/A"}},null,null,{"$f":"INDEX(شهر3!#REF!,MATCH((B852&\"*\"&G852&\"*\"&D852&\"*\"&E852),شهر3!#REF!&\"*\"&شهر3!#REF!&\"*\"&شهر3!#REF!&\"*\"&شهر3!#REF!,0))","v":{"$error":"#REF!"}},null,{"$f":"INDEX(شهر3!#REF!,MATCH((B852&\"*\"&G852&\"*\"&D852&\"*\"&E852),شهر3!#REF!&\"*\"&شهر3!#REF!&\"*\"&شهر3!#REF!&\"*\"&شهر3!#REF!,0))","v":{"$error":"#REF!"}}]
[null,null,{"$f":"VLOOKUP(B853,برقية!$A$2:$B$377,2,FALSE)","v":{"$error":"#N/A"}},null,null,{"$f":"INDEX(شهر3!#REF!,MATCH((B853&\"*\"&G853&\"*\"&D853&\"*\"&E853),شهر3!#REF!&\"*\"&شهر3!#REF!&\"*\"&شهر3!#REF!&\"*\"&شهر3!#REF!,0))","v":{"$error":"#REF!"}},null,{"$f":"INDEX(شهر3!#REF!,MATCH((B853&\"*\"&G853&\"*\"&D853&\"*\"&E853),شهر3!#REF!&\"*\"&شهر3!#REF!&\"*\"&شهر3!#REF!&\"*\"&شهر3!#REF!,0))","v":{"$error":"#REF!"}}]
[null,null,{"$f":"VLOOKUP(B854,برقية!$A$2:$B$377,2,FALSE)","v":{"$error":"#N/A"}},null,null,{"$f":"INDEX(شهر3!#REF!,MATCH((B854&\"*\"&G854&\"*\"&D854&\"*\"&E854),شهر3!#REF!&\"*\"&شهر3!#REF!&\"*\"&شهر3!#REF!&\"*\"&شهر3!#REF!,0))","v":{"$error":"#REF!"}},null,{"$f":"INDEX(شهر3!#REF!,MATCH((B854&\"*\"&G854&\"*\"&D854&\"*\"&E854),شهر3!#REF!&\"*\"&شهر3!#REF!&\"*\"&شهر3!#REF!&\"*\"&شهر3!#REF!,0))","v":{"$error":"#REF!"}}]
[null,null,{"$f":"VLOOKUP(B855,برقية!$A$2:$B$377,2,FALSE)","v":{"$error":"#N/A"}},null,null,{"$f":"INDEX(شهر3!#REF!,MATCH((B855&\"*\"&G855&\"*\"&D855&\"*\"&E855),شهر3!#REF!&\"*\"&شهر3!#REF!&\"*\"&شهر3!#REF!&\"*\"&شهر3!#REF!,0))","v":{"$error":"#REF!"}},null,{"$f":"INDEX(شهر3!#REF!,MATCH((B855&\"*\"&G855&\"*\"&D855&\"*\"&E855),شهر3!#REF!&\"*\"&شهر3!#REF!&\"*\"&شهر3!#REF!&\"*\"&شهر3!#REF!,0))","v":{"$error":"#REF!"}}]
[null,null,{"$f":"VLOOKUP(B856,برقية!$A$2:$B$377,2,FALSE)","v":{"$error":"#N/A"}},null,null,{"$f":"INDEX(شهر3!#REF!,MATCH((B856&\"*\"&G856&\"*\"&D856&\"*\"&E856),شهر3!#REF!&\"*\"&شهر3!#REF!&\"*\"&شهر3!#REF!&\"*\"&شهر3!#REF!,0))","v":{"$error":"#REF!"}},null,{"$f":"INDEX(شهر3!#REF!,MATCH((B856&\"*\"&G856&\"*\"&D856&\"*\"&E856),شهر3!#REF!&\"*\"&شهر3!#REF!&\"*\"&شهر3!#REF!&\"*\"&شهر3!#REF!,0))","v":{"$error":"#REF!"}}]
[null,null,{"$f":"VLOOKUP(B857,برقية!$A$2:$B$377,2,FALSE)","v":{"$error":"#N/A"}},null,null,{"$f":"INDEX(شهر3!#REF!,MATCH((B857&\"*\"&G857&\"*\"&D857&\"*\"&E857),شهر3!#REF!&\"*\"&شهر3!#REF!&\"*\"&شهر3!#REF!&\"*\"&شهر3!#REF!,0))","v":{"$error":"#REF!"}},null,{"$f":"INDEX(شهر3!#REF!,MATCH((B857&\"*\"&G857&\"*\"&D857&\"*\"&E857),شهر3!#REF!&\"*\"&شهر3!#REF!&\"*\"&شهر3!#REF!&\"*\"&شهر3!#REF!,0))","v":{"$error":"#REF!"}}]
[null,null,{"$f":"VLOOKUP(B858,برقية!$A$2:$B$377,2,FALSE)","v":{"$error":"#N/A"}},null,null,{"$f":"INDEX(شهر3!#REF!,MATCH((B858&\"*\"&G858&\"*\"&D858&\"*\"&E858),شهر3!#REF!&\"*\"&شهر3!#REF!&\"*\"&شهر3!#REF!&\"*\"&شهر3!#REF!,0))","v":{"$error":"#REF!"}},null,{"$f":"INDEX(شهر3!#REF!,MATCH((B858&\"*\"&G858&\"*\"&D858&\"*\"&E858),شهر3!#REF!&\"*\"&شهر3!#REF!&\"*\"&شهر3!#REF!&\"*\"&شهر3!#REF!,0))","v":{"$error":"#REF!"}}]
[null,null,{"$f":"VLOOKUP(B859,برقية!$A$2:$B$377,2,FALSE)","v":{"$error":"#N/A"}},null,null,{"$f":"INDEX(شهر3!#REF!,MATCH((B859&\"*\"&G859&\"*\"&D859&\"*\"&E859),شهر3!#REF!&\"*\"&شهر3!#REF!&\"*\"&شهر3!#REF!&\"*\"&شهر3!#REF!,0))","v":{"$error":"#REF!"}},null,{"$f":"INDEX(شهر3!#REF!,MATCH((B859&\"*\"&G859&\"*\"&D859&\"*\"&E859),شهر3!#REF!&\"*\"&شهر3!#REF!&\"*\"&شهر3!#REF!&\"*\"&شهر3!#REF!,0))","v":{"$error":"#REF!"}}]
[null,null,{"$f":"VLOOKUP(B860,برقية!$A$2:$B$377,2,FALSE)","v":{"$error":"#N/A"}},null,null,{"$f":"INDEX(شهر3!#REF!,MATCH((B860&\"*\"&G860&\"*\"&D860&\"*\"&E860),شهر3!#REF!&\"*\"&شهر3!#REF!&\"*\"&شهر3!#REF!&\"*\"&شهر3!#REF!,0))","v":{"$error":"#REF!"}},null,{"$f":"INDEX(شهر3!#REF!,MATCH((B860&\"*\"&G860&\"*\"&D860&\"*\"&E860),شهر3!#REF!&\"*\"&شهر3!#REF!&\"*\"&شهر3!#REF!&\"*\"&شهر3!#REF!,0))","v":{"$error":"#REF!"}}]
[null,null,{"$f":"VLOOKUP(B861,برقية!$A$2:$B$377,2,FALSE)","v":{"$error":"#N/A"}},null,null,{"$f":"INDEX(شهر3!#REF!,MATCH((B861&\"*\"&G861&\"*\"&D861&\"*\"&E861),شهر3!#REF!&\"*\"&شهر3!#REF!&\"*\"&شهر3!#REF!&\"*\"&شهر3!#REF!,0))","v":{"$error":"#REF!"}},null,{"$f":"INDEX(شهر3!#REF!,MATCH((B861&\"*\"&G861&\"*\"&D861&\"*\"&E861),شهر3!#REF!&\"*\"&شهر3!#REF!&\"*\"&شهر3!#REF!&\"*\"&شهر3!#REF!,0))","v":{"$error":"#REF!"}}]
[null,null,{"$f":"VLOOKUP(B862,برقية!$A$2:$B$377,2,FALSE)","v":{"$error":"#N/A"}},null,null,{"$f":"INDEX(شهر3!#REF!,MATCH((B862&\"*\"&G862&\"*\"&D862&\"*\"&E862),شهر3!#REF!&\"*\"&شهر3!#REF!&\"*\"&شهر3!#REF!&\"*\"&شهر3!#REF!,0))","v":{"$error":"#REF!"}},null,{"$f":"INDEX(شهر3!#REF!,MATCH((B862&\"*\"&G862&\"*\"&D862&\"*\"&E862),شهر3!#REF!&\"*\"&شهر3!#REF!&\"*\"&شهر3!#REF!&\"*\"&شهر3!#REF!,0))","v":{"$error":"#REF!"}}]
[null,null,{"$f":"VLOOKUP(B863,برقية!$A$2:$B$377,2,FALSE)","v":{"$error":"#N/A"}},null,null,{"$f":"INDEX(شهر3!#REF!,MATCH((B863&\"*\"&G863&\"*\"&D863&\"*\"&E863),شهر3!#REF!&\"*\"&شهر3!#REF!&\"*\"&شهر3!#REF!&\"*\"&شهر3!#REF!,0))","v":{"$error":"#REF!"}},null,{"$f":"INDEX(شهر3!#REF!,MATCH((B863&\"*\"&G863&\"*\"&D863&\"*\"&E863),شهر3!#REF!&\"*\"&شهر3!#REF!&\"*\"&شهر3!#REF!&\"*\"&شهر3!#REF!,0))","v":{"$error":"#REF!"}}]
[null,null,{"$f":"VLOOKUP(B864,برقية!$A$2:$B$377,2,FALSE)","v":{"$error":"#N/A"}},null,null,{"$f":"INDEX(شهر3!#REF!,MATCH((B864&\"*\"&G864&\"*\"&D864&\"*\"&E864),شهر3!#REF!&\"*\"&شهر3!#REF!&\"*\"&شهر3!#REF!&\"*\"&شهر3!#REF!,0))","v":{"$error":"#REF!"}},null,{"$f":"INDEX(شهر3!#REF!,MATCH((B864&\"*\"&G864&\"*\"&D864&\"*\"&E864),شهر3!#REF!&\"*\"&شهر3!#REF!&\"*\"&شهر3!#REF!&\"*\"&شهر3!#REF!,0))","v":{"$error":"#REF!"}}]
[null,null,{"$f":"VLOOKUP(B865,برقية!$A$2:$B$377,2,FALSE)","v":{"$error":"#N/A"}},null,null,{"$f":"INDEX(شهر3!#REF!,MATCH((B865&\"*\"&G865&\"*\"&D865&\"*\"&E865),شهر3!#REF!&\"*\"&شهر3!#REF!&\"*\"&شهر3!#REF!&\"*\"&شهر3!#REF!,0))","v":{"$error":"#REF!"}},null,{"$f":"INDEX(شهر3!#REF!,MATCH((B865&\"*\"&G865&\"*\"&D865&\"*\"&E865),شهر3!#REF!&\"*\"&شهر3!#REF!&\"*\"&شهر3!#REF!&\"*\"&شهر3!#REF!,0))","v":{"$error":"#REF!"}}]
[null,null,{"$f":"VLOOKUP(B866,برقية!$A$2:$B$377,2,FALSE)","v":{"$error":"#N/A"}},null,null,{"$f":"INDEX(شهر3!#REF!,MATCH((B866&\"*\"&G866&\"*\"&D866&\"*\"&E866),شهر3!#REF!&\"*\"&شهر3!#REF!&\"*\"&شهر3!#REF!&\"*\"&شهر3!#REF!,0))","v":{"$error":"#REF!"}},null,{"$f":"INDEX(شهر3!#REF!,MATCH((B866&\"*\"&G866&\"*\"&D866&\"*\"&E866),شهر3!#REF!&\"*\"&شهر3!#REF!&\"*\"&شهر3!#REF!&\"*\"&شهر3!#REF!,0))","v":{"$error":"#REF!"}}]
[null,null,{"$f":"VLOOKUP(B867,برقية!$A$2:$B$377,2,FALSE)","v":{"$error":"#N/A"}},null,null,{"$f":"INDEX(شهر3!#REF!,MATCH((B867&\"*\"&G867&\"*\"&D867&\"*\"&E867),شهر3!#REF!&\"*\"&شهر3!#REF!&\"*\"&شهر3!#REF!&\"*\"&شهر3!#REF!,0))","v":{"$error":"#REF!"}},null,{"$f":"INDEX(شهر3!#REF!,MATCH((B867&\"*\"&G867&\"*\"&D867&\"*\"&E867),شهر3!#REF!&\"*\"&شهر3!#REF!&\"*\"&شهر3!#REF!&\"*\"&شهر3!#REF!,0))","v":{"$error":"#REF!"}}]
[null,null,{"$f":"VLOOKUP(B868,برقية!$A$2:$B$377,2,FALSE)","v":{"$error":"#N/A"}},null,null,{"$f":"INDEX(شهر3!#REF!,MATCH((B868&\"*\"&G868&\"*\"&D868&\"*\"&E868),شهر3!#REF!&\"*\"&شهر3!#REF!&\"*\"&شهر3!#REF!&\"*\"&شهر3!#REF!,0))","v":{"$error":"#REF!"}},null,{"$f":"INDEX(شهر3!#REF!,MATCH((B868&\"*\"&G868&\"*\"&D868&\"*\"&E868),شهر3!#REF!&\"*\"&شهر3!#REF!&\"*\"&شهر3!#REF!&\"*\"&شهر3!#REF!,0))","v":{"$error":"#REF!"}}]
[null,null,{"$f":"VLOOKUP(B869,برقية!$A$2:$B$377,2,FALSE)","v":{"$error":"#N/A"}},null,null,{"$f":"INDEX(شهر3!#REF!,MATCH((B869&\"*\"&G869&\"*\"&D869&\"*\"&E869),شهر3!#REF!&\"*\"&شهر3!#REF!&\"*\"&شهر3!#REF!&\"*\"&شهر3!#REF!,0))","v":{"$error":"#REF!"}},null,{"$f":"INDEX(شهر3!#REF!,MATCH((B869&\"*\"&G869&\"*\"&D869&\"*\"&E869),شهر3!#REF!&\"*\"&شهر3!#REF!&\"*\"&شهر3!#REF!&\"*\"&شهر3!#REF!,0))","v":{"$error":"#REF!"}}]
[null,null,{"$f":"VLOOKUP(B870,برقية!$A$2:$B$377,2,FALSE)","v":{"$error":"#N/A"}},null,null,{"$f":"INDEX(شهر3!#REF!,MATCH((B870&\"*\"&G870&\"*\"&D870&\"*\"&E870),شهر3!#REF!&\"*\"&شهر3!#REF!&\"*\"&شهر3!#REF!&\"*\"&شهر3!#REF!,0))","v":{"$error":"#REF!"}},null,{"$f":"INDEX(شهر3!#REF!,MATCH((B870&\"*\"&G870&\"*\"&D870&\"*\"&E870),شهر3!#REF!&\"*\"&شهر3!#REF!&\"*\"&شهر3!#REF!&\"*\"&شهر3!#REF!,0))","v":{"$error":"#REF!"}}]
[null,null,{"$f":"VLOOKUP(B871,برقية!$A$2:$B$377,2,FALSE)","v":{"$error":"#N/A"}},null,null,{"$f":"INDEX(شهر3!#REF!,MATCH((B871&\"*\"&G871&\"*\"&D871&\"*\"&E871),شهر3!#REF!&\"*\"&شهر3!#REF!&\"*\"&شهر3!#REF!&\"*\"&شهر3!#REF!,0))","v":{"$error":"#REF!"}},null,{"$f":"INDEX(شهر3!#REF!,MATCH((B871&\"*\"&G871&\"*\"&D871&\"*\"&E871),شهر3!#REF!&\"*\"&شهر3!#REF!&\"*\"&شهر3!#REF!&\"*\"&شهر3!#REF!,0))","v":{"$error":"#REF!"}}]
[null,null,{"$f":"VLOOKUP(B872,برقية!$A$2:$B$377,2,FALSE)","v":{"$error":"#N/A"}},null,null,{"$f":"INDEX(شهر3!#REF!,MATCH((B872&\"*\"&G872&\"*\"&D872&\"*\"&E872),شهر3!#REF!&\"*\"&شهر3!#REF!&\"*\"&شهر3!#REF!&\"*\"&شهر3!#REF!,0))","v":{"$error":"#REF!"}},null,{"$f":"INDEX(شهر3!#REF!,MATCH((B872&\"*\"&G872&\"*\"&D872&\"*\"&E872),شهر3!#REF!&\"*\"&شهر3!#REF!&\"*\"&شهر3!#REF!&\"*\"&شهر3!#REF!,0))","v":{"$error":"#REF!"}}]
[null,null,{"$f":"VLOOKUP(B873,برقية!$A$2:$B$377,2,FALSE)","v":{"$error":"#N/A"}},null,null,{"$f":"INDEX(شهر3!#REF!,MATCH((B873&\"*\"&G873&\"*\"&D873&\"*\"&E873),شهر3!#REF!&\"*\"&شهر3!#REF!&\"*\"&شهر3!#REF!&\"*\"&شهر3!#REF!,0))","v":{"$error":"#REF!"}},null,{"$f":"INDEX(شهر3!#REF!,MATCH((B873&\"*\"&G873&\"*\"&D873&\"*\"&E873),شهر3!#REF!&\"*\"&شهر3!#REF!&\"*\"&شهر3!#REF!&\"*\"&شهر3!#REF!,0))","v":{"$error":"#REF!"}}]
[null,null,{"$f":"VLOOKUP(B874,برقية!$A$2:$B$377,2,FALSE)","v":{"$error":"#N/A"}},null,null,{"$f":"INDEX(شهر3!#REF!,MATCH((B874&\"*\"&G874&\"*\"&D874&\"*\"&E874),شهر3!#REF!&\"*\"&شهر3!#REF!&\"*\"&شهر3!#REF!&\"*\"&شهر3!#REF!,0))","v":{"$error":"#REF!"}},null,{"$f":"INDEX(شهر3!#REF!,MATCH((B874&\"*\"&G874&\"*\"&D874&\"*\"&E874),شهر3!#REF!&\"*\"&شهر3!#REF!&\"*\"&شهر3!#REF!&\"*\"&شهر3!#REF!,0))","v":{"$error":"#REF!"}}]
[null,null,{"$f":"VLOOKUP(B875,برقية!$A$2:$B$377,2,FALSE)","v":{"$error":"#N/A"}},null,null,{"$f":"INDEX(شهر3!#REF!,MATCH((B875&\"*\"&G875&\"*\"&D875&\"*\"&E875),شهر3!#REF!&\"*\"&شهر3!#REF!&\"*\"&شهر3!#REF!&\"*\"&شهر3!#REF!,0))","v":{"$error":"#REF!"}},null,{"$f":"INDEX(شهر3!#REF!,MATCH((B875&\"*\"&G875&\"*\"&D875&\"*\"&E875),شهر3!#REF!&\"*\"&شهر3!#REF!&\"*\"&شهر3!#REF!&\"*\"&شهر3!#REF!,0))","v":{"$error":"#REF!"}}]
[null,null,{"$f":"VLOOKUP(B876,برقية!$A$2:$B$377,2,FALSE)","v":{"$error":"#N/A"}},null,null,{"$f":"INDEX(شهر3!#REF!,MATCH((B876&\"*\"&G876&\"*\"&D876&\"*\"&E876),شهر3!#REF!&\"*\"&شهر3!#REF!&\"*\"&شهر3!#REF!&\"*\"&شهر3!#REF!,0))","v":{"$error":"#REF!"}},null,{"$f":"INDEX(شهر3!#REF!,MATCH((B876&\"*\"&G876&\"*\"&D876&\"*\"&E876),شهر3!#REF!&\"*\"&شهر3!#REF!&\"*\"&شهر3!#REF!&\"*\"&شهر3!#REF!,0))","v":{"$error":"#REF!"}}]
[null,null,{"$f":"VLOOKUP(B877,برقية!$A$2:$B$377,2,FALSE)","v":{"$error":"#N/A"}},null,null,{"$f":"INDEX(شهر3!#REF!,MATCH((B877&\"*\"&G877&\"*\"&D877&\"*\"&E877),شهر3!#REF!&\"*\"&شهر3!#REF!&\"*\"&شهر3!#REF!&\"*\"&شهر3!#REF!,0))","v":{"$error":"#REF!"}},null,{"$f":"INDEX(شهر3!#REF!,MATCH((B877&\"*\"&G877&\"*\"&D877&\"*\"&E877),شهر3!#REF!&\"*\"&شهر3!#REF!&\"*\"&شهر3!#REF!&\"*\"&شهر3!#REF!,0))","v":{"$error":"#REF!"}}]
[null,null,{"$f":"VLOOKUP(B878,برقية!$A$2:$B$377,2,FALSE)","v":{"$error":"#N/A"}},null,null,{"$f":"INDEX(شهر3!#REF!,MATCH((B878&\"*\"&G878&\"*\"&D878&\"*\"&E878),شهر3!#REF!&\"*\"&شهر3!#REF!&\"*\"&شهر3!#REF!&\"*\"&شهر3!#REF!,0))","v":{"$error":"#REF!"}},null,{"$f":"INDEX(شهر3!#REF!,MATCH((B878&\"*\"&G878&\"*\"&D878&\"*\"&E878),شهر3!#REF!&\"*\"&شهر3!#REF!&\"*\"&شهر3!#REF!&\"*\"&شهر3!#REF!,0))","v":{"$error":"#REF!"}}]
[null,null,{"$f":"VLOOKUP(B879,برقية!$A$2:$B$377,2,FALSE)","v":{"$error":"#N/A"}},null,null,{"$f":"INDEX(شهر3!#REF!,MATCH((B879&\"*\"&G879&\"*\"&D879&\"*\"&E879),شهر3!#REF!&\"*\"&شهر3!#REF!&\"*\"&شهر3!#REF!&\"*\"&شهر3!#REF!,0))","v":{"$error":"#REF!"}},null,{"$f":"INDEX(شهر3!#REF!,MATCH((B879&\"*\"&G879&\"*\"&D879&\"*\"&E879),شهر3!#REF!&\"*\"&شهر3!#REF!&\"*\"&شهر3!#REF!&\"*\"&شهر3!#REF!,0))","v":{"$error":"#REF!"}}]
[null,null,{"$f":"VLOOKUP(B880,برقية!$A$2:$B$377,2,FALSE)","v":{"$error":"#N/A"}},null,null,{"$f":"INDEX(شهر3!#REF!,MATCH((B880&\"*\"&G880&\"*\"&D880&\"*\"&E880),شهر3!#REF!&\"*\"&شهر3!#REF!&\"*\"&شهر3!#REF!&\"*\"&شهر3!#REF!,0))","v":{"$error":"#REF!"}},null,{"$f":"INDEX(شهر3!#REF!,MATCH((B880&\"*\"&G880&\"*\"&D880&\"*\"&E880),شهر3!#REF!&\"*\"&شهر3!#REF!&\"*\"&شهر3!#REF!&\"*\"&شهر3!#REF!,0))","v":{"$error":"#REF!"}}]
[null,null,{"$f":"VLOOKUP(B881,برقية!$A$2:$B$377,2,FALSE)","v":{"$error":"#N/A"}},null,null,{"$f":"INDEX(شهر3!#REF!,MATCH((B881&\"*\"&G881&\"*\"&D881&\"*\"&E881),شهر3!#REF!&\"*\"&شهر3!#REF!&\"*\"&شهر3!#REF!&\"*\"&شهر3!#REF!,0))","v":{"$error":"#REF!"}},null,{"$f":"INDEX(شهر3!#REF!,MATCH((B881&\"*\"&G881&\"*\"&D881&\"*\"&E881),شهر3!#REF!&\"*\"&شهر3!#REF!&\"*\"&شهر3!#REF!&\"*\"&شهر3!#REF!,0))","v":{"$error":"#REF!"}}]
[null,null,{"$f":"VLOOKUP(B882,برقية!$A$2:$B$377,2,FALSE)","v":{"$error":"#N/A"}},null,null,{"$f":"INDEX(شهر3!#REF!,MATCH((B882&\"*\"&G882&\"*\"&D882&\"*\"&E882),شهر3!#REF!&\"*\"&شهر3!#REF!&\"*\"&شهر3!#REF!&\"*\"&شهر3!#REF!,0))","v":{"$error":"#REF!"}},null,{"$f":"INDEX(شهر3!#REF!,MATCH((B882&\"*\"&G882&\"*\"&D882&\"*\"&E882),شهر3!#REF!&\"*\"&شهر3!#REF!&\"*\"&شهر3!#REF!&\"*\"&شهر3!#REF!,0))","v":{"$error":"#REF!"}}]
[null,null,{"$f":"VLOOKUP(B883,برقية!$A$2:$B$377,2,FALSE)","v":{"$error":"#N/A"}},null,null,{"$f":"INDEX(شهر3!#REF!,MATCH((B883&\"*\"&G883&\"*\"&D883&\"*\"&E883),شهر3!#REF!&\"*\"&شهر3!#REF!&\"*\"&شهر3!#REF!&\"*\"&شهر3!#REF!,0))","v":{"$error":"#REF!"}},null,{"$f":"INDEX(شهر3!#REF!,MATCH((B883&\"*\"&G883&\"*\"&D883&\"*\"&E883),شهر3!#REF!&\"*\"&شهر3!#REF!&\"*\"&شهر3!#REF!&\"*\"&شهر3!#REF!,0))","v":{"$error":"#REF!"}}]
[null,null,{"$f":"VLOOKUP(B884,برقية!$A$2:$B$377,2,FALSE)","v":{"$error":"#N/A"}},null,null,{"$f":"INDEX(شهر3!#REF!,MATCH((B884&\"*\"&G884&\"*\"&D884&\"*\"&E884),شهر3!#REF!&\"*\"&شهر3!#REF!&\"*\"&شهر3!#REF!&\"*\"&شهر3!#REF!,0))","v":{"$error":"#REF!"}},null,{"$f":"INDEX(شهر3!#REF!,MATCH((B884&\"*\"&G884&\"*\"&D884&\"*\"&E884),شهر3!#REF!&\"*\"&شهر3!#REF!&\"*\"&شهر3!#REF!&\"*\"&شهر3!#REF!,0))","v":{"$error":"#REF!"}}]
[null,null,{"$f":"VLOOKUP(B885,برقية!$A$2:$B$377,2,FALSE)","v":{"$error":"#N/A"}},null,null,{"$f":"INDEX(شهر3!#REF!,MATCH((B885&\"*\"&G885&\"*\"&D885&\"*\"&E885),شهر3!#REF!&\"*\"&شهر3!#REF!&\"*\"&شهر3!#REF!&\"*\"&شهر3!#REF!,0))","v":{"$error":"#REF!"}},null,{"$f":"INDEX(شهر3!#REF!,MATCH((B885&\"*\"&G885&\"*\"&D885&\"*\"&E885),شهر3!#REF!&\"*\"&شهر3!#REF!&\"*\"&شهر3!#REF!&\"*\"&شهر3!#REF!,0))","v":{"$error":"#REF!"}}]
[null,null,{"$f":"VLOOKUP(B886,برقية!$A$2:$B$377,2,FALSE)","v":{"$error":"#N/A"}},null,null,{"$f":"INDEX(شهر3!#REF!,MATCH((B886&\"*\"&G886&\"*\"&D886&\"*\"&E886),شهر3!#REF!&\"*\"&شهر3!#REF!&\"*\"&شهر3!#REF!&\"*\"&شهر3!#REF!,0))","v":{"$error":"#REF!"}},null,{"$f":"INDEX(شهر3!#REF!,MATCH((B886&\"*\"&G886&\"*\"&D886&\"*\"&E886),شهر3!#REF!&\"*\"&شهر3!#REF!&\"*\"&شهر3!#REF!&\"*\"&شهر3!#REF!,0))","v":{"$error":"#REF!"}}]
[null,null,{"$f":"VLOOKUP(B887,برقية!$A$2:$B$377,2,FALSE)","v":{"$error":"#N/A"}},null,null,{"$f":"INDEX(شهر3!#REF!,MATCH((B887&\"*\"&G887&\"*\"&D887&\"*\"&E887),شهر3!#REF!&\"*\"&شهر3!#REF!&\"*\"&شهر3!#REF!&\"*\"&شهر3!#REF!,0))","v":{"$error":"#REF!"}},null,{"$f":"INDEX(شهر3!#REF!,MATCH((B887&\"*\"&G887&\"*\"&D887&\"*\"&E887),شهر3!#REF!&\"*\"&شهر3!#REF!&\"*\"&شهر3!#REF!&\"*\"&شهر3!#REF!,0))","v":{"$error":"#REF!"}}]
[null,null,{"$f":"VLOOKUP(B888,برقية!$A$2:$B$377,2,FALSE)","v":{"$error":"#N/A"}},null,null,{"$f":"INDEX(شهر3!#REF!,MATCH((B888&\"*\"&G888&\"*\"&D888&\"*\"&E888),شهر3!#REF!&\"*\"&شهر3!#REF!&\"*\"&شهر3!#REF!&\"*\"&شهر3!#REF!,0))","v":{"$error":"#REF!"}},null,{"$f":"INDEX(شهر3!#REF!,MATCH((B888&\"*\"&G888&\"*\"&D888&\"*\"&E888),شهر3!#REF!&\"*\"&شهر3!#REF!&\"*\"&شهر3!#REF!&\"*\"&شهر3!#REF!,0))","v":{"$error":"#REF!"}}]
[null,null,{"$f":"VLOOKUP(B889,برقية!$A$2:$B$377,2,FALSE)","v":{"$error":"#N/A"}},null,null,{"$f":"INDEX(شهر3!#REF!,MATCH((B889&\"*\"&G889&\"*\"&D889&\"*\"&E889),شهر3!#REF!&\"*\"&شهر3!#REF!&\"*\"&شهر3!#REF!&\"*\"&شهر3!#REF!,0))","v":{"$error":"#REF!"}},null,{"$f":"INDEX(شهر3!#REF!,MATCH((B889&\"*\"&G889&\"*\"&D889&\"*\"&E889),شهر3!#REF!&\"*\"&شهر3!#REF!&\"*\"&شهر3!#REF!&\"*\"&شهر3!#REF!,0))","v":{"$error":"#REF!"}}]
[null,null,{"$f":"VLOOKUP(B890,برقية!$A$2:$B$377,2,FALSE)","v":{"$error":"#N/A"}},null,null,{"$f":"INDEX(شهر3!#REF!,MATCH((B890&\"*\"&G890&\"*\"&D890&\"*\"&E890),شهر3!#REF!&\"*\"&شهر3!#REF!&\"*\"&شهر3!#REF!&\"*\"&شهر3!#REF!,0))","v":{"$error":"#REF!"}},null,{"$f":"INDEX(شهر3!#REF!,MATCH((B890&\"*\"&G890&\"*\"&D890&\"*\"&E890),شهر3!#REF!&\"*\"&شهر3!#REF!&\"*\"&شهر3!#REF!&\"*\"&شهر3!#REF!,0))","v":{"$error":"#REF!"}}]
[null,null,{"$f":"VLOOKUP(B891,برقية!$A$2:$B$377,2,FALSE)","v":{"$error":"#N/A"}},null,null,{"$f":"INDEX(شهر3!#REF!,MATCH((B891&\"*\"&G891&\"*\"&D891&\"*\"&E891),شهر3!#REF!&\"*\"&شهر3!#REF!&\"*\"&شهر3!#REF!&\"*\"&شهر3!#REF!,0))","v":{"$error":"#REF!"}},null,{"$f":"INDEX(شهر3!#REF!,MATCH((B891&\"*\"&G891&\"*\"&D891&\"*\"&E891),شهر3!#REF!&\"*\"&شهر3!#REF!&\"*\"&شهر3!#REF!&\"*\"&شهر3!#REF!,0))","v":{"$error":"#REF!"}}]
[null,null,{"$f":"VLOOKUP(B892,برقية!$A$2:$B$377,2,FALSE)","v":{"$error":"#N/A"}},null,null,{"$f":"INDEX(شهر3!#REF!,MATCH((B892&\"*\"&G892&\"*\"&D892&\"*\"&E892),شهر3!#REF!&\"*\"&شهر3!#REF!&\"*\"&شهر3!#REF!&\"*\"&شهر3!#REF!,0))","v":{"$error":"#REF!"}},null,{"$f":"INDEX(شهر3!#REF!,MATCH((B892&\"*\"&G892&\"*\"&D892&\"*\"&E892),شهر3!#REF!&\"*\"&شهر3!#REF!&\"*\"&شهر3!#REF!&\"*\"&شهر3!#REF!,0))","v":{"$error":"#REF!"}}]
[null,null,{"$f":"VLOOKUP(B893,برقية!$A$2:$B$377,2,FALSE)","v":{"$error":"#N/A"}},null,null,{"$f":"INDEX(شهر3!#REF!,MATCH((B893&\"*\"&G893&\"*\"&D893&\"*\"&E893),شهر3!#REF!&\"*\"&شهر3!#REF!&\"*\"&شهر3!#REF!&\"*\"&شهر3!#REF!,0))","v":{"$error":"#REF!"}},null,{"$f":"INDEX(شهر3!#REF!,MATCH((B893&\"*\"&G893&\"*\"&D893&\"*\"&E893),شهر3!#REF!&\"*\"&شهر3!#REF!&\"*\"&شهر3!#REF!&\"*\"&شهر3!#REF!,0))","v":{"$error":"#REF!"}}]
[null,null,{"$f":"VLOOKUP(B894,برقية!$A$2:$B$377,2,FALSE)","v":{"$error":"#N/A"}},null,null,{"$f":"INDEX(شهر3!#REF!,MATCH((B894&\"*\"&G894&\"*\"&D894&\"*\"&E894),شهر3!#REF!&\"*\"&شهر3!#REF!&\"*\"&شهر3!#REF!&\"*\"&شهر3!#REF!,0))","v":{"$error":"#REF!"}},null,{"$f":"INDEX(شهر3!#REF!,MATCH((B894&\"*\"&G894&\"*\"&D894&\"*\"&E894),شهر3!#REF!&\"*\"&شهر3!#REF!&\"*\"&شهر3!#REF!&\"*\"&شهر3!#REF!,0))","v":{"$error":"#REF!"}}]
[null,null,{"$f":"VLOOKUP(B895,برقية!$A$2:$B$377,2,FALSE)","v":{"$error":"#N/A"}},null,null,{"$f":"INDEX(شهر3!#REF!,MATCH((B895&\"*\"&G895&\"*\"&D895&\"*\"&E895),شهر3!#REF!&\"*\"&شهر3!#REF!&\"*\"&شهر3!#REF!&\"*\"&شهر3!#REF!,0))","v":{"$error":"#REF!"}},null,{"$f":"INDEX(شهر3!#REF!,MATCH((B895&\"*\"&G895&\"*\"&D895&\"*\"&E895),شهر3!#REF!&\"*\"&شهر3!#REF!&\"*\"&شهر3!#REF!&\"*\"&شهر3!#REF!,0))","v":{"$error":"#REF!"}}]
[null,null,{"$f":"VLOOKUP(B896,برقية!$A$2:$B$377,2,FALSE)","v":{"$error":"#N/A"}},null,null,{"$f":"INDEX(شهر3!#REF!,MATCH((B896&\"*\"&G896&\"*\"&D896&\"*\"&E896),شهر3!#REF!&\"*\"&شهر3!#REF!&\"*\"&شهر3!#REF!&\"*\"&شهر3!#REF!,0))","v":{"$error":"#REF!"}},null,{"$f":"INDEX(شهر3!#REF!,MATCH((B896&\"*\"&G896&\"*\"&D896&\"*\"&E896),شهر3!#REF!&\"*\"&شهر3!#REF!&\"*\"&شهر3!#REF!&\"*\"&شهر3!#REF!,0))","v":{"$error":"#REF!"}}]
[null,null,{"$f":"VLOOKUP(B897,برقية!$A$2:$B$377,2,FALSE)","v":{"$error":"#N/A"}},null,null,{"$f":"INDEX(شهر3!#REF!,MATCH((B897&\"*\"&G897&\"*\"&D897&\"*\"&E897),شهر3!#REF!&\"*\"&شهر3!#REF!&\"*\"&شهر3!#REF!&\"*\"&شهر3!#REF!,0))","v":{"$error":"#REF!"}},null,{"$f":"INDEX(شهر3!#REF!,MATCH((B897&\"*\"&G897&\"*\"&D897&\"*\"&E897),شهر3!#REF!&\"*\"&شهر3!#REF!&\"*\"&شهر3!#REF!&\"*\"&شهر3!#REF!,0))","v":{"$error":"#REF!"}}]
[null,null,{"$f":"VLOOKUP(B898,برقية!$A$2:$B$377,2,FALSE)","v":{"$error":"#N/A"}},null,null,{"$f":"INDEX(شهر3!#REF!,MATCH((B898&\"*\"&G898&\"*\"&D898&\"*\"&E898),شهر3!#REF!&\"*\"&شهر3!#REF!&\"*\"&شهر3!#REF!&\"*\"&شهر3!#REF!,0))","v":{"$error":"#REF!"}},null,{"$f":"INDEX(شهر3!#REF!,MATCH((B898&\"*\"&G898&\"*\"&D898&\"*\"&E898),شهر3!#REF!&\"*\"&شهر3!#REF!&\"*\"&شهر3!#REF!&\"*\"&شهر3!#REF!,0))","v":{"$error":"#REF!"}}]
[null,null,{"$f":"VLOOKUP(B899,برقية!$A$2:$B$377,2,FALSE)","v":{"$error":"#N/A"}},null,null,{"$f":"INDEX(شهر3!#REF!,MATCH((B899&\"*\"&G899&\"*\"&D899&\"*\"&E899),شهر3!#REF!&\"*\"&شهر3!#REF!&\"*\"&شهر3!#REF!&\"*\"&شهر3!#REF!,0))","v":{"$error":"#REF!"}},null,{"$f":"INDEX(شهر3!#REF!,MATCH((B899&\"*\"&G899&\"*\"&D899&\"*\"&E899),شهر3!#REF!&\"*\"&شهر3!#REF!&\"*\"&شهر3!#REF!&\"*\"&شهر3!#REF!,0))","v":{"$error":"#REF!"}}]
[null,null,{"$f":"VLOOKUP(B900,برقية!$A$2:$B$377,2,FALSE)","v":{"$error":"#N/A"}},null,null,{"$f":"INDEX(شهر3!#REF!,MATCH((B900&\"*\"&G900&\"*\"&D900&\"*\"&E900),شهر3!#REF!&\"*\"&شهر3!#REF!&\"*\"&شهر3!#REF!&\"*\"&شهر3!#REF!,0))","v":{"$error":"#REF!"}},null,{"$f":"INDEX(شهر3!#REF!,MATCH((B900&\"*\"&G900&\"*\"&D900&\"*\"&E900),شهر3!#REF!&\"*\"&شهر3!#REF!&\"*\"&شهر3!#REF!&\"*\"&شهر3!#REF!,0))","v":{"$error":"#REF!"}}]
[null,null,{"$f":"VLOOKUP(B901,برقية!$A$2:$B$377,2,FALSE)","v":{"$error":"#N/A"}},null,null,{"$f":"INDEX(شهر3!#REF!,MATCH((B901&\"*\"&G901&\"*\"&D901&\"*\"&E901),شهر3!#REF!&\"*\"&شهر3!#REF!&\"*\"&شهر3!#REF!&\"*\"&شهر3!#REF!,0))","v":{"$error":"#REF!"}},null,{"$f":"INDEX(شهر3!#REF!,MATCH((B901&\"*\"&G901&\"*\"&D901&\"*\"&E901),شهر3!#REF!&\"*\"&شهر3!#REF!&\"*\"&شهر3!#REF!&\"*\"&شهر3!#REF!,0))","v":{"$error":"#REF!"}}]
[null,null,{"$f":"VLOOKUP(B902,برقية!$A$2:$B$377,2,FALSE)","v":{"$error":"#N/A"}},null,null,{"$f":"INDEX(شهر3!#REF!,MATCH((B902&\"*\"&G902&\"*\"&D902&\"*\"&E902),شهر3!#REF!&\"*\"&شهر3!#REF!&\"*\"&شهر3!#REF!&\"*\"&شهر3!#REF!,0))","v":{"$error":"#REF!"}},null,{"$f":"INDEX(شهر3!#REF!,MATCH((B902&\"*\"&G902&\"*\"&D902&\"*\"&E902),شهر3!#REF!&\"*\"&شهر3!#REF!&\"*\"&شهر3!#REF!&\"*\"&شهر3!#REF!,0))","v":{"$error":"#REF!"}}]
[null,null,{"$f":"VLOOKUP(B903,برقية!$A$2:$B$377,2,FALSE)","v":{"$error":"#N/A"}},null,null,{"$f":"INDEX(شهر3!#REF!,MATCH((B903&\"*\"&G903&\"*\"&D903&\"*\"&E903),شهر3!#REF!&\"*\"&شهر3!#REF!&\"*\"&شهر3!#REF!&\"*\"&شهر3!#REF!,0))","v":{"$error":"#REF!"}},null,{"$f":"INDEX(شهر3!#REF!,MATCH((B903&\"*\"&G903&\"*\"&D903&\"*\"&E903),شهر3!#REF!&\"*\"&شهر3!#REF!&\"*\"&شهر3!#REF!&\"*\"&شهر3!#REF!,0))","v":{"$error":"#REF!"}}]
[null,null,{"$f":"VLOOKUP(B904,برقية!$A$2:$B$377,2,FALSE)","v":{"$error":"#N/A"}},null,null,{"$f":"INDEX(شهر3!#REF!,MATCH((B904&\"*\"&G904&\"*\"&D904&\"*\"&E904),شهر3!#REF!&\"*\"&شهر3!#REF!&\"*\"&شهر3!#REF!&\"*\"&شهر3!#REF!,0))","v":{"$error":"#REF!"}},null,{"$f":"INDEX(شهر3!#REF!,MATCH((B904&\"*\"&G904&\"*\"&D904&\"*\"&E904),شهر3!#REF!&\"*\"&شهر3!#REF!&\"*\"&شهر3!#REF!&\"*\"&شهر3!#REF!,0))","v":{"$error":"#REF!"}}]
[null,null,{"$f":"VLOOKUP(B905,برقية!$A$2:$B$377,2,FALSE)","v":{"$error":"#N/A"}},null,null,{"$f":"INDEX(شهر3!#REF!,MATCH((B905&\"*\"&G905&\"*\"&D905&\"*\"&E905),شهر3!#REF!&\"*\"&شهر3!#REF!&\"*\"&شهر3!#REF!&\"*\"&شهر3!#REF!,0))","v":{"$error":"#REF!"}},null,{"$f":"INDEX(شهر3!#REF!,MATCH((B905&\"*\"&G905&\"*\"&D905&\"*\"&E905),شهر3!#REF!&\"*\"&شهر3!#REF!&\"*\"&شهر3!#REF!&\"*\"&شهر3!#REF!,0))","v":{"$error":"#REF!"}}]
[null,null,{"$f":"VLOOKUP(B906,برقية!$A$2:$B$377,2,FALSE)","v":{"$error":"#N/A"}},null,null,{"$f":"INDEX(شهر3!#REF!,MATCH((B906&\"*\"&G906&\"*\"&D906&\"*\"&E906),شهر3!#REF!&\"*\"&شهر3!#REF!&\"*\"&شهر3!#REF!&\"*\"&شهر3!#REF!,0))","v":{"$error":"#REF!"}},null,{"$f":"INDEX(شهر3!#REF!,MATCH((B906&\"*\"&G906&\"*\"&D906&\"*\"&E906),شهر3!#REF!&\"*\"&شهر3!#REF!&\"*\"&شهر3!#REF!&\"*\"&شهر3!#REF!,0))","v":{"$error":"#REF!"}}]
[null,null,{"$f":"VLOOKUP(B907,برقية!$A$2:$B$377,2,FALSE)","v":{"$error":"#N/A"}},null,null,{"$f":"INDEX(شهر3!#REF!,MATCH((B907&\"*\"&G907&\"*\"&D907&\"*\"&E907),شهر3!#REF!&\"*\"&شهر3!#REF!&\"*\"&شهر3!#REF!&\"*\"&شهر3!#REF!,0))","v":{"$error":"#REF!"}},null,{"$f":"INDEX(شهر3!#REF!,MATCH((B907&\"*\"&G907&\"*\"&D907&\"*\"&E907),شهر3!#REF!&\"*\"&شهر3!#REF!&\"*\"&شهر3!#REF!&\"*\"&شهر3!#REF!,0))","v":{"$error":"#REF!"}}]
[null,null,{"$f":"VLOOKUP(B908,برقية!$A$2:$B$377,2,FALSE)","v":{"$error":"#N/A"}},null,null,{"$f":"INDEX(شهر3!#REF!,MATCH((B908&\"*\"&G908&\"*\"&D908&\"*\"&E908),شهر3!#REF!&\"*\"&شهر3!#REF!&\"*\"&شهر3!#REF!&\"*\"&شهر3!#REF!,0))","v":{"$error":"#REF!"}},null,{"$f":"INDEX(شهر3!#REF!,MATCH((B908&\"*\"&G908&\"*\"&D908&\"*\"&E908),شهر3!#REF!&\"*\"&شهر3!#REF!&\"*\"&شهر3!#REF!&\"*\"&شهر3!#REF!,0))","v":{"$error":"#REF!"}}]
[null,null,{"$f":"VLOOKUP(B909,برقية!$A$2:$B$377,2,FALSE)","v":{"$error":"#N/A"}},null,null,{"$f":"INDEX(شهر3!#REF!,MATCH((B909&\"*\"&G909&\"*\"&D909&\"*\"&E909),شهر3!#REF!&\"*\"&شهر3!#REF!&\"*\"&شهر3!#REF!&\"*\"&شهر3!#REF!,0))","v":{"$error":"#REF!"}},null,{"$f":"INDEX(شهر3!#REF!,MATCH((B909&\"*\"&G909&\"*\"&D909&\"*\"&E909),شهر3!#REF!&\"*\"&شهر3!#REF!&\"*\"&شهر3!#REF!&\"*\"&شهر3!#REF!,0))","v":{"$error":"#REF!"}}]
[null,null,{"$f":"VLOOKUP(B910,برقية!$A$2:$B$377,2,FALSE)","v":{"$error":"#N/A"}},null,null,{"$f":"INDEX(شهر3!#REF!,MATCH((B910&\"*\"&G910&\"*\"&D910&\"*\"&E910),شهر3!#REF!&\"*\"&شهر3!#REF!&\"*\"&شهر3!#REF!&\"*\"&شهر3!#REF!,0))","v":{"$error":"#REF!"}},null,{"$f":"INDEX(شهر3!#REF!,MATCH((B910&\"*\"&G910&\"*\"&D910&\"*\"&E910),شهر3!#REF!&\"*\"&شهر3!#REF!&\"*\"&شهر3!#REF!&\"*\"&شهر3!#REF!,0))","v":{"$error":"#REF!"}}]
[null,null,{"$f":"VLOOKUP(B911,برقية!$A$2:$B$377,2,FALSE)","v":{"$error":"#N/A"}},null,null,{"$f":"INDEX(شهر3!#REF!,MATCH((B911&\"*\"&G911&\"*\"&D911&\"*\"&E911),شهر3!#REF!&\"*\"&شهر3!#REF!&\"*\"&شهر3!#REF!&\"*\"&شهر3!#REF!,0))","v":{"$error":"#REF!"}},null,{"$f":"INDEX(شهر3!#REF!,MATCH((B911&\"*\"&G911&\"*\"&D911&\"*\"&E911),شهر3!#REF!&\"*\"&شهر3!#REF!&\"*\"&شهر3!#REF!&\"*\"&شهر3!#REF!,0))","v":{"$error":"#REF!"}}]
[null,null,{"$f":"VLOOKUP(B912,برقية!$A$2:$B$377,2,FALSE)","v":{"$error":"#N/A"}},null,null,{"$f":"INDEX(شهر3!#REF!,MATCH((B912&\"*\"&G912&\"*\"&D912&\"*\"&E912),شهر3!#REF!&\"*\"&شهر3!#REF!&\"*\"&شهر3!#REF!&\"*\"&شهر3!#REF!,0))","v":{"$error":"#REF!"}},null,{"$f":"INDEX(شهر3!#REF!,MATCH((B912&\"*\"&G912&\"*\"&D912&\"*\"&E912),شهر3!#REF!&\"*\"&شهر3!#REF!&\"*\"&شهر3!#REF!&\"*\"&شهر3!#REF!,0))","v":{"$error":"#REF!"}}]
[null,null,{"$f":"VLOOKUP(B913,برقية!$A$2:$B$377,2,FALSE)","v":{"$error":"#N/A"}},null,null,{"$f":"INDEX(شهر3!#REF!,MATCH((B913&\"*\"&G913&\"*\"&D913&\"*\"&E913),شهر3!#REF!&\"*\"&شهر3!#REF!&\"*\"&شهر3!#REF!&\"*\"&شهر3!#REF!,0))","v":{"$error":"#REF!"}},null,{"$f":"INDEX(شهر3!#REF!,MATCH((B913&\"*\"&G913&\"*\"&D913&\"*\"&E913),شهر3!#REF!&\"*\"&شهر3!#REF!&\"*\"&شهر3!#REF!&\"*\"&شهر3!#REF!,0))","v":{"$error":"#REF!"}}]
[null,null,{"$f":"VLOOKUP(B914,برقية!$A$2:$B$377,2,FALSE)","v":{"$error":"#N/A"}},null,null,{"$f":"INDEX(شهر3!#REF!,MATCH((B914&\"*\"&G914&\"*\"&D914&\"*\"&E914),شهر3!#REF!&\"*\"&شهر3!#REF!&\"*\"&شهر3!#REF!&\"*\"&شهر3!#REF!,0))","v":{"$error":"#REF!"}},null,{"$f":"INDEX(شهر3!#REF!,MATCH((B914&\"*\"&G914&\"*\"&D914&\"*\"&E914),شهر3!#REF!&\"*\"&شهر3!#REF!&\"*\"&شهر3!#REF!&\"*\"&شهر3!#REF!,0))","v":{"$error":"#REF!"}}]
[null,null,{"$f":"VLOOKUP(B915,برقية!$A$2:$B$377,2,FALSE)","v":{"$error":"#N/A"}},null,null,{"$f":"INDEX(شهر3!#REF!,MATCH((B915&\"*\"&G915&\"*\"&D915&\"*\"&E915),شهر3!#REF!&\"*\"&شهر3!#REF!&\"*\"&شهر3!#REF!&\"*\"&شهر3!#REF!,0))","v":{"$error":"#REF!"}},null,{"$f":"INDEX(شهر3!#REF!,MATCH((B915&\"*\"&G915&\"*\"&D915&\"*\"&E915),شهر3!#REF!&\"*\"&شهر3!#REF!&\"*\"&شهر3!#REF!&\"*\"&شهر3!#REF!,0))","v":{"$error":"#REF!"}}]
[null,null,{"$f":"VLOOKUP(B916,برقية!$A$2:$B$377,2,FALSE)","v":{"$error":"#N/A"}},null,null,{"$f":"INDEX(شهر3!#REF!,MATCH((B916&\"*\"&G916&\"*\"&D916&\"*\"&E916),شهر3!#REF!&\"*\"&شهر3!#REF!&\"*\"&شهر3!#REF!&\"*\"&شهر3!#REF!,0))","v":{"$error":"#REF!"}},null,{"$f":"INDEX(شهر3!#REF!,MATCH((B916&\"*\"&G916&\"*\"&D916&\"*\"&E916),شهر3!#REF!&\"*\"&شهر3!#REF!&\"*\"&شهر3!#REF!&\"*\"&شهر3!#REF!,0))","v":{"$error":"#REF!"}}]
[null,null,{"$f":"VLOOKUP(B917,برقية!$A$2:$B$377,2,FALSE)","v":{"$error":"#N/A"}},null,null,{"$f":"INDEX(شهر3!#REF!,MATCH((B917&\"*\"&G917&\"*\"&D917&\"*\"&E917),شهر3!#REF!&\"*\"&شهر3!#REF!&\"*\"&شهر3!#REF!&\"*\"&شهر3!#REF!,0))","v":{"$error":"#REF!"}},null,{"$f":"INDEX(شهر3!#REF!,MATCH((B917&\"*\"&G917&\"*\"&D917&\"*\"&E917),شهر3!#REF!&\"*\"&شهر3!#REF!&\"*\"&شهر3!#REF!&\"*\"&شهر3!#REF!,0))","v":{"$error":"#REF!"}}]
[null,null,{"$f":"VLOOKUP(B918,برقية!$A$2:$B$377,2,FALSE)","v":{"$error":"#N/A"}},null,null,{"$f":"INDEX(شهر3!#REF!,MATCH((B918&\"*\"&G918&\"*\"&D918&\"*\"&E918),شهر3!#REF!&\"*\"&شهر3!#REF!&\"*\"&شهر3!#REF!&\"*\"&شهر3!#REF!,0))","v":{"$error":"#REF!"}},null,{"$f":"INDEX(شهر3!#REF!,MATCH((B918&\"*\"&G918&\"*\"&D918&\"*\"&E918),شهر3!#REF!&\"*\"&شهر3!#REF!&\"*\"&شهر3!#REF!&\"*\"&شهر3!#REF!,0))","v":{"$error":"#REF!"}}]
[null,null,{"$f":"VLOOKUP(B919,برقية!$A$2:$B$377,2,FALSE)","v":{"$error":"#N/A"}},null,null,{"$f":"INDEX(شهر3!#REF!,MATCH((B919&\"*\"&G919&\"*\"&D919&\"*\"&E919),شهر3!#REF!&\"*\"&شهر3!#REF!&\"*\"&شهر3!#REF!&\"*\"&شهر3!#REF!,0))","v":{"$error":"#REF!"}},null,{"$f":"INDEX(شهر3!#REF!,MATCH((B919&\"*\"&G919&\"*\"&D919&\"*\"&E919),شهر3!#REF!&\"*\"&شهر3!#REF!&\"*\"&شهر3!#REF!&\"*\"&شهر3!#REF!,0))","v":{"$error":"#REF!"}}]
[null,null,{"$f":"VLOOKUP(B920,برقية!$A$2:$B$377,2,FALSE)","v":{"$error":"#N/A"}},null,null,{"$f":"INDEX(شهر3!#REF!,MATCH((B920&\"*\"&G920&\"*\"&D920&\"*\"&E920),شهر3!#REF!&\"*\"&شهر3!#REF!&\"*\"&شهر3!#REF!&\"*\"&شهر3!#REF!,0))","v":{"$error":"#REF!"}},null,{"$f":"INDEX(شهر3!#REF!,MATCH((B920&\"*\"&G920&\"*\"&D920&\"*\"&E920),شهر3!#REF!&\"*\"&شهر3!#REF!&\"*\"&شهر3!#REF!&\"*\"&شهر3!#REF!,0))","v":{"$error":"#REF!"}}]
[null,null,{"$f":"VLOOKUP(B921,برقية!$A$2:$B$377,2,FALSE)","v":{"$error":"#N/A"}},null,null,{"$f":"INDEX(شهر3!#REF!,MATCH((B921&\"*\"&G921&\"*\"&D921&\"*\"&E921),شهر3!#REF!&\"*\"&شهر3!#REF!&\"*\"&شهر3!#REF!&\"*\"&شهر3!#REF!,0))","v":{"$error":"#REF!"}},null,{"$f":"INDEX(شهر3!#REF!,MATCH((B921&\"*\"&G921&\"*\"&D921&\"*\"&E921),شهر3!#REF!&\"*\"&شهر3!#REF!&\"*\"&شهر3!#REF!&\"*\"&شهر3!#REF!,0))","v":{"$error":"#REF!"}}]
[null,null,{"$f":"VLOOKUP(B922,برقية!$A$2:$B$377,2,FALSE)","v":{"$error":"#N/A"}},null,null,{"$f":"INDEX(شهر3!#REF!,MATCH((B922&\"*\"&G922&\"*\"&D922&\"*\"&E922),شهر3!#REF!&\"*\"&شهر3!#REF!&\"*\"&شهر3!#REF!&\"*\"&شهر3!#REF!,0))","v":{"$error":"#REF!"}},null,{"$f":"INDEX(شهر3!#REF!,MATCH((B922&\"*\"&G922&\"*\"&D922&\"*\"&E922),شهر3!#REF!&\"*\"&شهر3!#REF!&\"*\"&شهر3!#REF!&\"*\"&شهر3!#REF!,0))","v":{"$error":"#REF!"}}]
[null,null,{"$f":"VLOOKUP(B923,برقية!$A$2:$B$377,2,FALSE)","v":{"$error":"#N/A"}},null,null,{"$f":"INDEX(شهر3!#REF!,MATCH((B923&\"*\"&G923&\"*\"&D923&\"*\"&E923),شهر3!#REF!&\"*\"&شهر3!#REF!&\"*\"&شهر3!#REF!&\"*\"&شهر3!#REF!,0))","v":{"$error":"#REF!"}},null,{"$f":"INDEX(شهر3!#REF!,MATCH((B923&\"*\"&G923&\"*\"&D923&\"*\"&E923),شهر3!#REF!&\"*\"&شهر3!#REF!&\"*\"&شهر3!#REF!&\"*\"&شهر3!#REF!,0))","v":{"$error":"#REF!"}}]
[null,null,{"$f":"VLOOKUP(B924,برقية!$A$2:$B$377,2,FALSE)","v":{"$error":"#N/A"}},null,null,{"$f":"INDEX(شهر3!#REF!,MATCH((B924&\"*\"&G924&\"*\"&D924&\"*\"&E924),شهر3!#REF!&\"*\"&شهر3!#REF!&\"*\"&شهر3!#REF!&\"*\"&شهر3!#REF!,0))","v":{"$error":"#REF!"}},null,{"$f":"INDEX(شهر3!#REF!,MATCH((B924&\"*\"&G924&\"*\"&D924&\"*\"&E924),شهر3!#REF!&\"*\"&شهر3!#REF!&\"*\"&شهر3!#REF!&\"*\"&شهر3!#REF!,0))","v":{"$error":"#REF!"}}]
[null,null,{"$f":"VLOOKUP(B925,برقية!$A$2:$B$377,2,FALSE)","v":{"$error":"#N/A"}},null,null,{"$f":"INDEX(شهر3!#REF!,MATCH((B925&\"*\"&G925&\"*\"&D925&\"*\"&E925),شهر3!#REF!&\"*\"&شهر3!#REF!&\"*\"&شهر3!#REF!&\"*\"&شهر3!#REF!,0))","v":{"$error":"#REF!"}},null,{"$f":"INDEX(شهر3!#REF!,MATCH((B925&\"*\"&G925&\"*\"&D925&\"*\"&E925),شهر3!#REF!&\"*\"&شهر3!#REF!&\"*\"&شهر3!#REF!&\"*\"&شهر3!#REF!,0))","v":{"$error":"#REF!"}}]
[null,null,{"$f":"VLOOKUP(B926,برقية!$A$2:$B$377,2,FALSE)","v":{"$error":"#N/A"}},null,null,{"$f":"INDEX(شهر3!#REF!,MATCH((B926&\"*\"&G926&\"*\"&D926&\"*\"&E926),شهر3!#REF!&\"*\"&شهر3!#REF!&\"*\"&شهر3!#REF!&\"*\"&شهر3!#REF!,0))","v":{"$error":"#REF!"}},null,{"$f":"INDEX(شهر3!#REF!,MATCH((B926&\"*\"&G926&\"*\"&D926&\"*\"&E926),شهر3!#REF!&\"*\"&شهر3!#REF!&\"*\"&شهر3!#REF!&\"*\"&شهر3!#REF!,0))","v":{"$error":"#REF!"}}]
[null,null,{"$f":"VLOOKUP(B927,برقية!$A$2:$B$377,2,FALSE)","v":{"$error":"#N/A"}},null,null,{"$f":"INDEX(شهر3!#REF!,MATCH((B927&\"*\"&G927&\"*\"&D927&\"*\"&E927),شهر3!#REF!&\"*\"&شهر3!#REF!&\"*\"&شهر3!#REF!&\"*\"&شهر3!#REF!,0))","v":{"$error":"#REF!"}},null,{"$f":"INDEX(شهر3!#REF!,MATCH((B927&\"*\"&G927&\"*\"&D927&\"*\"&E927),شهر3!#REF!&\"*\"&شهر3!#REF!&\"*\"&شهر3!#REF!&\"*\"&شهر3!#REF!,0))","v":{"$error":"#REF!"}}]
[null,null,{"$f":"VLOOKUP(B928,برقية!$A$2:$B$377,2,FALSE)","v":{"$error":"#N/A"}},null,null,{"$f":"INDEX(شهر3!#REF!,MATCH((B928&\"*\"&G928&\"*\"&D928&\"*\"&E928),شهر3!#REF!&\"*\"&شهر3!#REF!&\"*\"&شهر3!#REF!&\"*\"&شهر3!#REF!,0))","v":{"$error":"#REF!"}},null,{"$f":"INDEX(شهر3!#REF!,MATCH((B928&\"*\"&G928&\"*\"&D928&\"*\"&E928),شهر3!#REF!&\"*\"&شهر3!#REF!&\"*\"&شهر3!#REF!&\"*\"&شهر3!#REF!,0))","v":{"$error":"#REF!"}}]
[null,null,{"$f":"VLOOKUP(B929,برقية!$A$2:$B$377,2,FALSE)","v":{"$error":"#N/A"}},null,null,{"$f":"INDEX(شهر3!#REF!,MATCH((B929&\"*\"&G929&\"*\"&D929&\"*\"&E929),شهر3!#REF!&\"*\"&شهر3!#REF!&\"*\"&شهر3!#REF!&\"*\"&شهر3!#REF!,0))","v":{"$error":"#REF!"}},null,{"$f":"INDEX(شهر3!#REF!,MATCH((B929&\"*\"&G929&\"*\"&D929&\"*\"&E929),شهر3!#REF!&\"*\"&شهر3!#REF!&\"*\"&شهر3!#REF!&\"*\"&شهر3!#REF!,0))","v":{"$error":"#REF!"}}]
[null,null,{"$f":"VLOOKUP(B930,برقية!$A$2:$B$377,2,FALSE)","v":{"$error":"#N/A"}},null,null,{"$f":"INDEX(شهر3!#REF!,MATCH((B930&\"*\"&G930&\"*\"&D930&\"*\"&E930),شهر3!#REF!&\"*\"&شهر3!#REF!&\"*\"&شهر3!#REF!&\"*\"&شهر3!#REF!,0))","v":{"$error":"#REF!"}},null,{"$f":"INDEX(شهر3!#REF!,MATCH((B930&\"*\"&G930&\"*\"&D930&\"*\"&E930),شهر3!#REF!&\"*\"&شهر3!#REF!&\"*\"&شهر3!#REF!&\"*\"&شهر3!#REF!,0))","v":{"$error":"#REF!"}}]
[null,null,{"$f":"VLOOKUP(B931,برقية!$A$2:$B$377,2,FALSE)","v":{"$error":"#N/A"}},null,null,{"$f":"INDEX(شهر3!#REF!,MATCH((B931&\"*\"&G931&\"*\"&D931&\"*\"&E931),شهر3!#REF!&\"*\"&شهر3!#REF!&\"*\"&شهر3!#REF!&\"*\"&شهر3!#REF!,0))","v":{"$error":"#REF!"}},null,{"$f":"INDEX(شهر3!#REF!,MATCH((B931&\"*\"&G931&\"*\"&D931&\"*\"&E931),شهر3!#REF!&\"*\"&شهر3!#REF!&\"*\"&شهر3!#REF!&\"*\"&شهر3!#REF!,0))","v":{"$error":"#REF!"}}]
[null,null,{"$f":"VLOOKUP(B932,برقية!$A$2:$B$377,2,FALSE)","v":{"$error":"#N/A"}},null,null,{"$f":"INDEX(شهر3!#REF!,MATCH((B932&\"*\"&G932&\"*\"&D932&\"*\"&E932),شهر3!#REF!&\"*\"&شهر3!#REF!&\"*\"&شهر3!#REF!&\"*\"&شهر3!#REF!,0))","v":{"$error":"#REF!"}},null,{"$f":"INDEX(شهر3!#REF!,MATCH((B932&\"*\"&G932&\"*\"&D932&\"*\"&E932),شهر3!#REF!&\"*\"&شهر3!#REF!&\"*\"&شهر3!#REF!&\"*\"&شهر3!#REF!,0))","v":{"$error":"#REF!"}}]
[null,null,{"$f":"VLOOKUP(B933,برقية!$A$2:$B$377,2,FALSE)","v":{"$error":"#N/A"}},null,null,{"$f":"INDEX(شهر3!#REF!,MATCH((B933&\"*\"&G933&\"*\"&D933&\"*\"&E933),شهر3!#REF!&\"*\"&شهر3!#REF!&\"*\"&شهر3!#REF!&\"*\"&شهر3!#REF!,0))","v":{"$error":"#REF!"}},null,{"$f":"INDEX(شهر3!#REF!,MATCH((B933&\"*\"&G933&\"*\"&D933&\"*\"&E933),شهر3!#REF!&\"*\"&شهر3!#REF!&\"*\"&شهر3!#REF!&\"*\"&شهر3!#REF!,0))","v":{"$error":"#REF!"}}]
[null,null,{"$f":"VLOOKUP(B934,برقية!$A$2:$B$377,2,FALSE)","v":{"$error":"#N/A"}},null,null,{"$f":"INDEX(شهر3!#REF!,MATCH((B934&\"*\"&G934&\"*\"&D934&\"*\"&E934),شهر3!#REF!&\"*\"&شهر3!#REF!&\"*\"&شهر3!#REF!&\"*\"&شهر3!#REF!,0))","v":{"$error":"#REF!"}},null,{"$f":"INDEX(شهر3!#REF!,MATCH((B934&\"*\"&G934&\"*\"&D934&\"*\"&E934),شهر3!#REF!&\"*\"&شهر3!#REF!&\"*\"&شهر3!#REF!&\"*\"&شهر3!#REF!,0))","v":{"$error":"#REF!"}}]
[null,null,{"$f":"VLOOKUP(B935,برقية!$A$2:$B$377,2,FALSE)","v":{"$error":"#N/A"}},null,null,{"$f":"INDEX(شهر3!#REF!,MATCH((B935&\"*\"&G935&\"*\"&D935&\"*\"&E935),شهر3!#REF!&\"*\"&شهر3!#REF!&\"*\"&شهر3!#REF!&\"*\"&شهر3!#REF!,0))","v":{"$error":"#REF!"}},null,{"$f":"INDEX(شهر3!#REF!,MATCH((B935&\"*\"&G935&\"*\"&D935&\"*\"&E935),شهر3!#REF!&\"*\"&شهر3!#REF!&\"*\"&شهر3!#REF!&\"*\"&شهر3!#REF!,0))","v":{"$error":"#REF!"}}]
[null,null,{"$f":"VLOOKUP(B936,برقية!$A$2:$B$377,2,FALSE)","v":{"$error":"#N/A"}},null,null,{"$f":"INDEX(شهر3!#REF!,MATCH((B936&\"*\"&G936&\"*\"&D936&\"*\"&E936),شهر3!#REF!&\"*\"&شهر3!#REF!&\"*\"&شهر3!#REF!&\"*\"&شهر3!#REF!,0))","v":{"$error":"#REF!"}},null,{"$f":"INDEX(شهر3!#REF!,MATCH((B936&\"*\"&G936&\"*\"&D936&\"*\"&E936),شهر3!#REF!&\"*\"&شهر3!#REF!&\"*\"&شهر3!#REF!&\"*\"&شهر3!#REF!,0))","v":{"$error":"#REF!"}}]
[null,null,{"$f":"VLOOKUP(B937,برقية!$A$2:$B$377,2,FALSE)","v":{"$error":"#N/A"}},null,null,{"$f":"INDEX(شهر3!#REF!,MATCH((B937&\"*\"&G937&\"*\"&D937&\"*\"&E937),شهر3!#REF!&\"*\"&شهر3!#REF!&\"*\"&شهر3!#REF!&\"*\"&شهر3!#REF!,0))","v":{"$error":"#REF!"}},null,{"$f":"INDEX(شهر3!#REF!,MATCH((B937&\"*\"&G937&\"*\"&D937&\"*\"&E937),شهر3!#REF!&\"*\"&شهر3!#REF!&\"*\"&شهر3!#REF!&\"*\"&شهر3!#REF!,0))","v":{"$error":"#REF!"}}]
[null,null,{"$f":"VLOOKUP(B938,برقية!$A$2:$B$377,2,FALSE)","v":{"$error":"#N/A"}},null,null,{"$f":"INDEX(شهر3!#REF!,MATCH((B938&\"*\"&G938&\"*\"&D938&\"*\"&E938),شهر3!#REF!&\"*\"&شهر3!#REF!&\"*\"&شهر3!#REF!&\"*\"&شهر3!#REF!,0))","v":{"$error":"#REF!"}},null,{"$f":"INDEX(شهر3!#REF!,MATCH((B938&\"*\"&G938&\"*\"&D938&\"*\"&E938),شهر3!#REF!&\"*\"&شهر3!#REF!&\"*\"&شهر3!#REF!&\"*\"&شهر3!#REF!,0))","v":{"$error":"#REF!"}}]
[null,null,{"$f":"VLOOKUP(B939,برقية!$A$2:$B$377,2,FALSE)","v":{"$error":"#N/A"}},null,null,{"$f":"INDEX(شهر3!#REF!,MATCH((B939&\"*\"&G939&\"*\"&D939&\"*\"&E939),شهر3!#REF!&\"*\"&شهر3!#REF!&\"*\"&شهر3!#REF!&\"*\"&شهر3!#REF!,0))","v":{"$error":"#REF!"}},null,{"$f":"INDEX(شهر3!#REF!,MATCH((B939&\"*\"&G939&\"*\"&D939&\"*\"&E939),شهر3!#REF!&\"*\"&شهر3!#REF!&\"*\"&شهر3!#REF!&\"*\"&شهر3!#REF!,0))","v":{"$error":"#REF!"}}]
[null,null,{"$f":"VLOOKUP(B940,برقية!$A$2:$B$377,2,FALSE)","v":{"$error":"#N/A"}},null,null,{"$f":"INDEX(شهر3!#REF!,MATCH((B940&\"*\"&G940&\"*\"&D940&\"*\"&E940),شهر3!#REF!&\"*\"&شهر3!#REF!&\"*\"&شهر3!#REF!&\"*\"&شهر3!#REF!,0))","v":{"$error":"#REF!"}},null,{"$f":"INDEX(شهر3!#REF!,MATCH((B940&\"*\"&G940&\"*\"&D940&\"*\"&E940),شهر3!#REF!&\"*\"&شهر3!#REF!&\"*\"&شهر3!#REF!&\"*\"&شهر3!#REF!,0))","v":{"$error":"#REF!"}}]
[null,null,{"$f":"VLOOKUP(B941,برقية!$A$2:$B$377,2,FALSE)","v":{"$error":"#N/A"}},null,null,{"$f":"INDEX(شهر3!#REF!,MATCH((B941&\"*\"&G941&\"*\"&D941&\"*\"&E941),شهر3!#REF!&\"*\"&شهر3!#REF!&\"*\"&شهر3!#REF!&\"*\"&شهر3!#REF!,0))","v":{"$error":"#REF!"}},null,{"$f":"INDEX(شهر3!#REF!,MATCH((B941&\"*\"&G941&\"*\"&D941&\"*\"&E941),شهر3!#REF!&\"*\"&شهر3!#REF!&\"*\"&شهر3!#REF!&\"*\"&شهر3!#REF!,0))","v":{"$error":"#REF!"}}]
[null,null,{"$f":"VLOOKUP(B942,برقية!$A$2:$B$377,2,FALSE)","v":{"$error":"#N/A"}},null,null,{"$f":"INDEX(شهر3!#REF!,MATCH((B942&\"*\"&G942&\"*\"&D942&\"*\"&E942),شهر3!#REF!&\"*\"&شهر3!#REF!&\"*\"&شهر3!#REF!&\"*\"&شهر3!#REF!,0))","v":{"$error":"#REF!"}},null,{"$f":"INDEX(شهر3!#REF!,MATCH((B942&\"*\"&G942&\"*\"&D942&\"*\"&E942),شهر3!#REF!&\"*\"&شهر3!#REF!&\"*\"&شهر3!#REF!&\"*\"&شهر3!#REF!,0))","v":{"$error":"#REF!"}}]
[null,null,{"$f":"VLOOKUP(B943,برقية!$A$2:$B$377,2,FALSE)","v":{"$error":"#N/A"}},null,null,{"$f":"INDEX(شهر3!#REF!,MATCH((B943&\"*\"&G943&\"*\"&D943&\"*\"&E943),شهر3!#REF!&\"*\"&شهر3!#REF!&\"*\"&شهر3!#REF!&\"*\"&شهر3!#REF!,0))","v":{"$error":"#REF!"}},null,{"$f":"INDEX(شهر3!#REF!,MATCH((B943&\"*\"&G943&\"*\"&D943&\"*\"&E943),شهر3!#REF!&\"*\"&شهر3!#REF!&\"*\"&شهر3!#REF!&\"*\"&شهر3!#REF!,0))","v":{"$error":"#REF!"}}]
[null,null,{"$f":"VLOOKUP(B944,برقية!$A$2:$B$377,2,FALSE)","v":{"$error":"#N/A"}},null,null,{"$f":"INDEX(شهر3!#REF!,MATCH((B944&\"*\"&G944&\"*\"&D944&\"*\"&E944),شهر3!#REF!&\"*\"&شهر3!#REF!&\"*\"&شهر3!#REF!&\"*\"&شهر3!#REF!,0))","v":{"$error":"#REF!"}},null,{"$f":"INDEX(شهر3!#REF!,MATCH((B944&\"*\"&G944&\"*\"&D944&\"*\"&E944),شهر3!#REF!&\"*\"&شهر3!#REF!&\"*\"&شهر3!#REF!&\"*\"&شهر3!#REF!,0))","v":{"$error":"#REF!"}}]
[null,null,{"$f":"VLOOKUP(B945,برقية!$A$2:$B$377,2,FALSE)","v":{"$error":"#N/A"}},null,null,{"$f":"INDEX(شهر3!#REF!,MATCH((B945&\"*\"&G945&\"*\"&D945&\"*\"&E945),شهر3!#REF!&\"*\"&شهر3!#REF!&\"*\"&شهر3!#REF!&\"*\"&شهر3!#REF!,0))","v":{"$error":"#REF!"}},null,{"$f":"INDEX(شهر3!#REF!,MATCH((B945&\"*\"&G945&\"*\"&D945&\"*\"&E945),شهر3!#REF!&\"*\"&شهر3!#REF!&\"*\"&شهر3!#REF!&\"*\"&شهر3!#REF!,0))","v":{"$error":"#REF!"}}]
[null,null,{"$f":"VLOOKUP(B946,برقية!$A$2:$B$377,2,FALSE)","v":{"$error":"#N/A"}},null,null,{"$f":"INDEX(شهر3!#REF!,MATCH((B946&\"*\"&G946&\"*\"&D946&\"*\"&E946),شهر3!#REF!&\"*\"&شهر3!#REF!&\"*\"&شهر3!#REF!&\"*\"&شهر3!#REF!,0))","v":{"$error":"#REF!"}},null,{"$f":"INDEX(شهر3!#REF!,MATCH((B946&\"*\"&G946&\"*\"&D946&\"*\"&E946),شهر3!#REF!&\"*\"&شهر3!#REF!&\"*\"&شهر3!#REF!&\"*\"&شهر3!#REF!,0))","v":{"$error":"#REF!"}}]
[null,null,{"$f":"VLOOKUP(B947,برقية!$A$2:$B$377,2,FALSE)","v":{"$error":"#N/A"}},null,null,{"$f":"INDEX(شهر3!#REF!,MATCH((B947&\"*\"&G947&\"*\"&D947&\"*\"&E947),شهر3!#REF!&\"*\"&شهر3!#REF!&\"*\"&شهر3!#REF!&\"*\"&شهر3!#REF!,0))","v":{"$error":"#REF!"}},null,{"$f":"INDEX(شهر3!#REF!,MATCH((B947&\"*\"&G947&\"*\"&D947&\"*\"&E947),شهر3!#REF!&\"*\"&شهر3!#REF!&\"*\"&شهر3!#REF!&\"*\"&شهر3!#REF!,0))","v":{"$error":"#REF!"}}]
[null,null,{"$f":"VLOOKUP(B948,برقية!$A$2:$B$377,2,FALSE)","v":{"$error":"#N/A"}},null,null,{"$f":"INDEX(شهر3!#REF!,MATCH((B948&\"*\"&G948&\"*\"&D948&\"*\"&E948),شهر3!#REF!&\"*\"&شهر3!#REF!&\"*\"&شهر3!#REF!&\"*\"&شهر3!#REF!,0))","v":{"$error":"#REF!"}},null,{"$f":"INDEX(شهر3!#REF!,MATCH((B948&\"*\"&G948&\"*\"&D948&\"*\"&E948),شهر3!#REF!&\"*\"&شهر3!#REF!&\"*\"&شهر3!#REF!&\"*\"&شهر3!#REF!,0))","v":{"$error":"#REF!"}}]
[null,null,{"$f":"VLOOKUP(B949,برقية!$A$2:$B$377,2,FALSE)","v":{"$error":"#N/A"}},null,null,{"$f":"INDEX(شهر3!#REF!,MATCH((B949&\"*\"&G949&\"*\"&D949&\"*\"&E949),شهر3!#REF!&\"*\"&شهر3!#REF!&\"*\"&شهر3!#REF!&\"*\"&شهر3!#REF!,0))","v":{"$error":"#REF!"}},null,{"$f":"INDEX(شهر3!#REF!,MATCH((B949&\"*\"&G949&\"*\"&D949&\"*\"&E949),شهر3!#REF!&\"*\"&شهر3!#REF!&\"*\"&شهر3!#REF!&\"*\"&شهر3!#REF!,0))","v":{"$error":"#REF!"}}]
[null,null,{"$f":"VLOOKUP(B950,برقية!$A$2:$B$377,2,FALSE)","v":{"$error":"#N/A"}},null,null,{"$f":"INDEX(شهر3!#REF!,MATCH((B950&\"*\"&G950&\"*\"&D950&\"*\"&E950),شهر3!#REF!&\"*\"&شهر3!#REF!&\"*\"&شهر3!#REF!&\"*\"&شهر3!#REF!,0))","v":{"$error":"#REF!"}},null,{"$f":"INDEX(شهر3!#REF!,MATCH((B950&\"*\"&G950&\"*\"&D950&\"*\"&E950),شهر3!#REF!&\"*\"&شهر3!#REF!&\"*\"&شهر3!#REF!&\"*\"&شهر3!#REF!,0))","v":{"$error":"#REF!"}}]
[null,null,{"$f":"VLOOKUP(B951,برقية!$A$2:$B$377,2,FALSE)","v":{"$error":"#N/A"}},null,null,{"$f":"INDEX(شهر3!#REF!,MATCH((B951&\"*\"&G951&\"*\"&D951&\"*\"&E951),شهر3!#REF!&\"*\"&شهر3!#REF!&\"*\"&شهر3!#REF!&\"*\"&شهر3!#REF!,0))","v":{"$error":"#REF!"}},null,{"$f":"INDEX(شهر3!#REF!,MATCH((B951&\"*\"&G951&\"*\"&D951&\"*\"&E951),شهر3!#REF!&\"*\"&شهر3!#REF!&\"*\"&شهر3!#REF!&\"*\"&شهر3!#REF!,0))","v":{"$error":"#REF!"}}]
[null,null,{"$f":"VLOOKUP(B952,برقية!$A$2:$B$377,2,FALSE)","v":{"$error":"#N/A"}},null,null,{"$f":"INDEX(شهر3!#REF!,MATCH((B952&\"*\"&G952&\"*\"&D952&\"*\"&E952),شهر3!#REF!&\"*\"&شهر3!#REF!&\"*\"&شهر3!#REF!&\"*\"&شهر3!#REF!,0))","v":{"$error":"#REF!"}},null,{"$f":"INDEX(شهر3!#REF!,MATCH((B952&\"*\"&G952&\"*\"&D952&\"*\"&E952),شهر3!#REF!&\"*\"&شهر3!#REF!&\"*\"&شهر3!#REF!&\"*\"&شهر3!#REF!,0))","v":{"$error":"#REF!"}}]
[null,null,{"$f":"VLOOKUP(B953,برقية!$A$2:$B$377,2,FALSE)","v":{"$error":"#N/A"}},null,null,{"$f":"INDEX(شهر3!#REF!,MATCH((B953&\"*\"&G953&\"*\"&D953&\"*\"&E953),شهر3!#REF!&\"*\"&شهر3!#REF!&\"*\"&شهر3!#REF!&\"*\"&شهر3!#REF!,0))","v":{"$error":"#REF!"}},null,{"$f":"INDEX(شهر3!#REF!,MATCH((B953&\"*\"&G953&\"*\"&D953&\"*\"&E953),شهر3!#REF!&\"*\"&شهر3!#REF!&\"*\"&شهر3!#REF!&\"*\"&شهر3!#REF!,0))","v":{"$error":"#REF!"}}]
[null,null,{"$f":"VLOOKUP(B954,برقية!$A$2:$B$377,2,FALSE)","v":{"$error":"#N/A"}},null,null,{"$f":"INDEX(شهر3!#REF!,MATCH((B954&\"*\"&G954&\"*\"&D954&\"*\"&E954),شهر3!#REF!&\"*\"&شهر3!#REF!&\"*\"&شهر3!#REF!&\"*\"&شهر3!#REF!,0))","v":{"$error":"#REF!"}},null,{"$f":"INDEX(شهر3!#REF!,MATCH((B954&\"*\"&G954&\"*\"&D954&\"*\"&E954),شهر3!#REF!&\"*\"&شهر3!#REF!&\"*\"&شهر3!#REF!&\"*\"&شهر3!#REF!,0))","v":{"$error":"#REF!"}}]
[null,null,{"$f":"VLOOKUP(B955,برقية!$A$2:$B$377,2,FALSE)","v":{"$error":"#N/A"}},null,null,{"$f":"INDEX(شهر3!#REF!,MATCH((B955&\"*\"&G955&\"*\"&D955&\"*\"&E955),شهر3!#REF!&\"*\"&شهر3!#REF!&\"*\"&شهر3!#REF!&\"*\"&شهر3!#REF!,0))","v":{"$error":"#REF!"}},null,{"$f":"INDEX(شهر3!#REF!,MATCH((B955&\"*\"&G955&\"*\"&D955&\"*\"&E955),شهر3!#REF!&\"*\"&شهر3!#REF!&\"*\"&شهر3!#REF!&\"*\"&شهر3!#REF!,0))","v":{"$error":"#REF!"}}]
[null,null,{"$f":"VLOOKUP(B956,برقية!$A$2:$B$377,2,FALSE)","v":{"$error":"#N/A"}},null,null,{"$f":"INDEX(شهر3!#REF!,MATCH((B956&\"*\"&G956&\"*\"&D956&\"*\"&E956),شهر3!#REF!&\"*\"&شهر3!#REF!&\"*\"&شهر3!#REF!&\"*\"&شهر3!#REF!,0))","v":{"$error":"#REF!"}},null,{"$f":"INDEX(شهر3!#REF!,MATCH((B956&\"*\"&G956&\"*\"&D956&\"*\"&E956),شهر3!#REF!&\"*\"&شهر3!#REF!&\"*\"&شهر3!#REF!&\"*\"&شهر3!#REF!,0))","v":{"$error":"#REF!"}}]
[null,null,{"$f":"VLOOKUP(B957,برقية!$A$2:$B$377,2,FALSE)","v":{"$error":"#N/A"}},null,null,{"$f":"INDEX(شهر3!#REF!,MATCH((B957&\"*\"&G957&\"*\"&D957&\"*\"&E957),شهر3!#REF!&\"*\"&شهر3!#REF!&\"*\"&شهر3!#REF!&\"*\"&شهر3!#REF!,0))","v":{"$error":"#REF!"}},null,{"$f":"INDEX(شهر3!#REF!,MATCH((B957&\"*\"&G957&\"*\"&D957&\"*\"&E957),شهر3!#REF!&\"*\"&شهر3!#REF!&\"*\"&شهر3!#REF!&\"*\"&شهر3!#REF!,0))","v":{"$error":"#REF!"}}]
[null,null,{"$f":"VLOOKUP(B958,برقية!$A$2:$B$377,2,FALSE)","v":{"$error":"#N/A"}},null,null,{"$f":"INDEX(شهر3!#REF!,MATCH((B958&\"*\"&G958&\"*\"&D958&\"*\"&E958),شهر3!#REF!&\"*\"&شهر3!#REF!&\"*\"&شهر3!#REF!&\"*\"&شهر3!#REF!,0))","v":{"$error":"#REF!"}},null,{"$f":"INDEX(شهر3!#REF!,MATCH((B958&\"*\"&G958&\"*\"&D958&\"*\"&E958),شهر3!#REF!&\"*\"&شهر3!#REF!&\"*\"&شهر3!#REF!&\"*\"&شهر3!#REF!,0))","v":{"$error":"#REF!"}}]
[null,null,{"$f":"VLOOKUP(B959,برقية!$A$2:$B$377,2,FALSE)","v":{"$error":"#N/A"}},null,null,{"$f":"INDEX(شهر3!#REF!,MATCH((B959&\"*\"&G959&\"*\"&D959&\"*\"&E959),شهر3!#REF!&\"*\"&شهر3!#REF!&\"*\"&شهر3!#REF!&\"*\"&شهر3!#REF!,0))","v":{"$error":"#REF!"}},null,{"$f":"INDEX(شهر3!#REF!,MATCH((B959&\"*\"&G959&\"*\"&D959&\"*\"&E959),شهر3!#REF!&\"*\"&شهر3!#REF!&\"*\"&شهر3!#REF!&\"*\"&شهر3!#REF!,0))","v":{"$error":"#REF!"}}]
[null,null,{"$f":"VLOOKUP(B960,برقية!$A$2:$B$377,2,FALSE)","v":{"$error":"#N/A"}},null,null,{"$f":"INDEX(شهر3!#REF!,MATCH((B960&\"*\"&G960&\"*\"&D960&\"*\"&E960),شهر3!#REF!&\"*\"&شهر3!#REF!&\"*\"&شهر3!#REF!&\"*\"&شهر3!#REF!,0))","v":{"$error":"#REF!"}},null,{"$f":"INDEX(شهر3!#REF!,MATCH((B960&\"*\"&G960&\"*\"&D960&\"*\"&E960),شهر3!#REF!&\"*\"&شهر3!#REF!&\"*\"&شهر3!#REF!&\"*\"&شهر3!#REF!,0))","v":{"$error":"#REF!"}}]
[null,null,{"$f":"VLOOKUP(B961,برقية!$A$2:$B$377,2,FALSE)","v":{"$error":"#N/A"}},null,null,{"$f":"INDEX(شهر3!#REF!,MATCH((B961&\"*\"&G961&\"*\"&D961&\"*\"&E961),شهر3!#REF!&\"*\"&شهر3!#REF!&\"*\"&شهر3!#REF!&\"*\"&شهر3!#REF!,0))","v":{"$error":"#REF!"}},null,{"$f":"INDEX(شهر3!#REF!,MATCH((B961&\"*\"&G961&\"*\"&D961&\"*\"&E961),شهر3!#REF!&\"*\"&شهر3!#REF!&\"*\"&شهر3!#REF!&\"*\"&شهر3!#REF!,0))","v":{"$error":"#REF!"}}]
[null,null,{"$f":"VLOOKUP(B962,برقية!$A$2:$B$377,2,FALSE)","v":{"$error":"#N/A"}},null,null,{"$f":"INDEX(شهر3!#REF!,MATCH((B962&\"*\"&G962&\"*\"&D962&\"*\"&E962),شهر3!#REF!&\"*\"&شهر3!#REF!&\"*\"&شهر3!#REF!&\"*\"&شهر3!#REF!,0))","v":{"$error":"#REF!"}},null,{"$f":"INDEX(شهر3!#REF!,MATCH((B962&\"*\"&G962&\"*\"&D962&\"*\"&E962),شهر3!#REF!&\"*\"&شهر3!#REF!&\"*\"&شهر3!#REF!&\"*\"&شهر3!#REF!,0))","v":{"$error":"#REF!"}}]
[null,null,{"$f":"VLOOKUP(B963,برقية!$A$2:$B$377,2,FALSE)","v":{"$error":"#N/A"}},null,null,{"$f":"INDEX(شهر3!#REF!,MATCH((B963&\"*\"&G963&\"*\"&D963&\"*\"&E963),شهر3!#REF!&\"*\"&شهر3!#REF!&\"*\"&شهر3!#REF!&\"*\"&شهر3!#REF!,0))","v":{"$error":"#REF!"}},null,{"$f":"INDEX(شهر3!#REF!,MATCH((B963&\"*\"&G963&\"*\"&D963&\"*\"&E963),شهر3!#REF!&\"*\"&شهر3!#REF!&\"*\"&شهر3!#REF!&\"*\"&شهر3!#REF!,0))","v":{"$error":"#REF!"}}]
[null,null,{"$f":"VLOOKUP(B964,برقية!$A$2:$B$377,2,FALSE)","v":{"$error":"#N/A"}},null,null,{"$f":"INDEX(شهر3!#REF!,MATCH((B964&\"*\"&G964&\"*\"&D964&\"*\"&E964),شهر3!#REF!&\"*\"&شهر3!#REF!&\"*\"&شهر3!#REF!&\"*\"&شهر3!#REF!,0))","v":{"$error":"#REF!"}},null,{"$f":"INDEX(شهر3!#REF!,MATCH((B964&\"*\"&G964&\"*\"&D964&\"*\"&E964),شهر3!#REF!&\"*\"&شهر3!#REF!&\"*\"&شهر3!#REF!&\"*\"&شهر3!#REF!,0))","v":{"$error":"#REF!"}}]
[null,null,{"$f":"VLOOKUP(B965,برقية!$A$2:$B$377,2,FALSE)","v":{"$error":"#N/A"}},null,null,{"$f":"INDEX(شهر3!#REF!,MATCH((B965&\"*\"&G965&\"*\"&D965&\"*\"&E965),شهر3!#REF!&\"*\"&شهر3!#REF!&\"*\"&شهر3!#REF!&\"*\"&شهر3!#REF!,0))","v":{"$error":"#REF!"}},null,{"$f":"INDEX(شهر3!#REF!,MATCH((B965&\"*\"&G965&\"*\"&D965&\"*\"&E965),شهر3!#REF!&\"*\"&شهر3!#REF!&\"*\"&شهر3!#REF!&\"*\"&شهر3!#REF!,0))","v":{"$error":"#REF!"}}]
[null,null,{"$f":"VLOOKUP(B966,برقية!$A$2:$B$377,2,FALSE)","v":{"$error":"#N/A"}},null,null,{"$f":"INDEX(شهر3!#REF!,MATCH((B966&\"*\"&G966&\"*\"&D966&\"*\"&E966),شهر3!#REF!&\"*\"&شهر3!#REF!&\"*\"&شهر3!#REF!&\"*\"&شهر3!#REF!,0))","v":{"$error":"#REF!"}},null,{"$f":"INDEX(شهر3!#REF!,MATCH((B966&\"*\"&G966&\"*\"&D966&\"*\"&E966),شهر3!#REF!&\"*\"&شهر3!#REF!&\"*\"&شهر3!#REF!&\"*\"&شهر3!#REF!,0))","v":{"$error":"#REF!"}}]
[null,null,{"$f":"VLOOKUP(B967,برقية!$A$2:$B$377,2,FALSE)","v":{"$error":"#N/A"}},null,null,{"$f":"INDEX(شهر3!#REF!,MATCH((B967&\"*\"&G967&\"*\"&D967&\"*\"&E967),شهر3!#REF!&\"*\"&شهر3!#REF!&\"*\"&شهر3!#REF!&\"*\"&شهر3!#REF!,0))","v":{"$error":"#REF!"}},null,{"$f":"INDEX(شهر3!#REF!,MATCH((B967&\"*\"&G967&\"*\"&D967&\"*\"&E967),شهر3!#REF!&\"*\"&شهر3!#REF!&\"*\"&شهر3!#REF!&\"*\"&شهر3!#REF!,0))","v":{"$error":"#REF!"}}]
[null,null,{"$f":"VLOOKUP(B968,برقية!$A$2:$B$377,2,FALSE)","v":{"$error":"#N/A"}},null,null,{"$f":"INDEX(شهر3!#REF!,MATCH((B968&\"*\"&G968&\"*\"&D968&\"*\"&E968),شهر3!#REF!&\"*\"&شهر3!#REF!&\"*\"&شهر3!#REF!&\"*\"&شهر3!#REF!,0))","v":{"$error":"#REF!"}},null,{"$f":"INDEX(شهر3!#REF!,MATCH((B968&\"*\"&G968&\"*\"&D968&\"*\"&E968),شهر3!#REF!&\"*\"&شهر3!#REF!&\"*\"&شهر3!#REF!&\"*\"&شهر3!#REF!,0))","v":{"$error":"#REF!"}}]
[null,null,{"$f":"VLOOKUP(B969,برقية!$A$2:$B$377,2,FALSE)","v":{"$error":"#N/A"}},null,null,{"$f":"INDEX(شهر3!#REF!,MATCH((B969&\"*\"&G969&\"*\"&D969&\"*\"&E969),شهر3!#REF!&\"*\"&شهر3!#REF!&\"*\"&شهر3!#REF!&\"*\"&شهر3!#REF!,0))","v":{"$error":"#REF!"}},null,{"$f":"INDEX(شهر3!#REF!,MATCH((B969&\"*\"&G969&\"*\"&D969&\"*\"&E969),شهر3!#REF!&\"*\"&شهر3!#REF!&\"*\"&شهر3!#REF!&\"*\"&شهر3!#REF!,0))","v":{"$error":"#REF!"}}]
[null,null,{"$f":"VLOOKUP(B970,برقية!$A$2:$B$377,2,FALSE)","v":{"$error":"#N/A"}},null,null,{"$f":"INDEX(شهر3!#REF!,MATCH((B970&\"*\"&G970&\"*\"&D970&\"*\"&E970),شهر3!#REF!&\"*\"&شهر3!#REF!&\"*\"&شهر3!#REF!&\"*\"&شهر3!#REF!,0))","v":{"$error":"#REF!"}},null,{"$f":"INDEX(شهر3!#REF!,MATCH((B970&\"*\"&G970&\"*\"&D970&\"*\"&E970),شهر3!#REF!&\"*\"&شهر3!#REF!&\"*\"&شهر3!#REF!&\"*\"&شهر3!#REF!,0))","v":{"$error":"#REF!"}}]
[null,null,{"$f":"VLOOKUP(B971,برقية!$A$2:$B$377,2,FALSE)","v":{"$error":"#N/A"}},null,null,{"$f":"INDEX(شهر3!#REF!,MATCH((B971&\"*\"&G971&\"*\"&D971&\"*\"&E971),شهر3!#REF!&\"*\"&شهر3!#REF!&\"*\"&شهر3!#REF!&\"*\"&شهر3!#REF!,0))","v":{"$error":"#REF!"}},null,{"$f":"INDEX(شهر3!#REF!,MATCH((B971&\"*\"&G971&\"*\"&D971&\"*\"&E971),شهر3!#REF!&\"*\"&شهر3!#REF!&\"*\"&شهر3!#REF!&\"*\"&شهر3!#REF!,0))","v":{"$error":"#REF!"}}]
[null,null,{"$f":"VLOOKUP(B972,برقية!$A$2:$B$377,2,FALSE)","v":{"$error":"#N/A"}},null,null,{"$f":"INDEX(شهر3!#REF!,MATCH((B972&\"*\"&G972&\"*\"&D972&\"*\"&E972),شهر3!#REF!&\"*\"&شهر3!#REF!&\"*\"&شهر3!#REF!&\"*\"&شهر3!#REF!,0))","v":{"$error":"#REF!"}},null,{"$f":"INDEX(شهر3!#REF!,MATCH((B972&\"*\"&G972&\"*\"&D972&\"*\"&E972),شهر3!#REF!&\"*\"&شهر3!#REF!&\"*\"&شهر3!#REF!&\"*\"&شهر3!#REF!,0))","v":{"$error":"#REF!"}}]
[null,null,{"$f":"VLOOKUP(B973,برقية!$A$2:$B$377,2,FALSE)","v":{"$error":"#N/A"}},null,null,{"$f":"INDEX(شهر3!#REF!,MATCH((B973&\"*\"&G973&\"*\"&D973&\"*\"&E973),شهر3!#REF!&\"*\"&شهر3!#REF!&\"*\"&شهر3!#REF!&\"*\"&شهر3!#REF!,0))","v":{"$error":"#REF!"}},null,{"$f":"INDEX(شهر3!#REF!,MATCH((B973&\"*\"&G973&\"*\"&D973&\"*\"&E973),شهر3!#REF!&\"*\"&شهر3!#REF!&\"*\"&شهر3!#REF!&\"*\"&شهر3!#REF!,0))","v":{"$error":"#REF!"}}]
[null,null,{"$f":"VLOOKUP(B974,برقية!$A$2:$B$377,2,FALSE)","v":{"$error":"#N/A"}},null,null,{"$f":"INDEX(شهر3!#REF!,MATCH((B974&\"*\"&G974&\"*\"&D974&\"*\"&E974),شهر3!#REF!&\"*\"&شهر3!#REF!&\"*\"&شهر3!#REF!&\"*\"&شهر3!#REF!,0))","v":{"$error":"#REF!"}},null,{"$f":"INDEX(شهر3!#REF!,MATCH((B974&\"*\"&G974&\"*\"&D974&\"*\"&E974),شهر3!#REF!&\"*\"&شهر3!#REF!&\"*\"&شهر3!#REF!&\"*\"&شهر3!#REF!,0))","v":{"$error":"#REF!"}}]
[null,null,{"$f":"VLOOKUP(B975,برقية!$A$2:$B$377,2,FALSE)","v":{"$error":"#N/A"}},null,null,{"$f":"INDEX(شهر3!#REF!,MATCH((B975&\"*\"&G975&\"*\"&D975&\"*\"&E975),شهر3!#REF!&\"*\"&شهر3!#REF!&\"*\"&شهر3!#REF!&\"*\"&شهر3!#REF!,0))","v":{"$error":"#REF!"}},null,{"$f":"INDEX(شهر3!#REF!,MATCH((B975&\"*\"&G975&\"*\"&D975&\"*\"&E975),شهر3!#REF!&\"*\"&شهر3!#REF!&\"*\"&شهر3!#REF!&\"*\"&شهر3!#REF!,0))","v":{"$error":"#REF!"}}]
[null,null,{"$f":"VLOOKUP(B976,برقية!$A$2:$B$377,2,FALSE)","v":{"$error":"#N/A"}},null,null,{"$f":"INDEX(شهر3!#REF!,MATCH((B976&\"*\"&G976&\"*\"&D976&\"*\"&E976),شهر3!#REF!&\"*\"&شهر3!#REF!&\"*\"&شهر3!#REF!&\"*\"&شهر3!#REF!,0))","v":{"$error":"#REF!"}},null,{"$f":"INDEX(شهر3!#REF!,MATCH((B976&\"*\"&G976&\"*\"&D976&\"*\"&E976),شهر3!#REF!&\"*\"&شهر3!#REF!&\"*\"&شهر3!#REF!&\"*\"&شهر3!#REF!,0))","v":{"$error":"#REF!"}}]
[null,null,{"$f":"VLOOKUP(B977,برقية!$A$2:$B$377,2,FALSE)","v":{"$error":"#N/A"}},null,null,{"$f":"INDEX(شهر3!#REF!,MATCH((B977&\"*\"&G977&\"*\"&D977&\"*\"&E977),شهر3!#REF!&\"*\"&شهر3!#REF!&\"*\"&شهر3!#REF!&\"*\"&شهر3!#REF!,0))","v":{"$error":"#REF!"}},null,{"$f":"INDEX(شهر3!#REF!,MATCH((B977&\"*\"&G977&\"*\"&D977&\"*\"&E977),شهر3!#REF!&\"*\"&شهر3!#REF!&\"*\"&شهر3!#REF!&\"*\"&شهر3!#REF!,0))","v":{"$error":"#REF!"}}]
[null,null,{"$f":"VLOOKUP(B978,برقية!$A$2:$B$377,2,FALSE)","v":{"$error":"#N/A"}},null,null,{"$f":"INDEX(شهر3!#REF!,MATCH((B978&\"*\"&G978&\"*\"&D978&\"*\"&E978),شهر3!#REF!&\"*\"&شهر3!#REF!&\"*\"&شهر3!#REF!&\"*\"&شهر3!#REF!,0))","v":{"$error":"#REF!"}},null,{"$f":"INDEX(شهر3!#REF!,MATCH((B978&\"*\"&G978&\"*\"&D978&\"*\"&E978),شهر3!#REF!&\"*\"&شهر3!#REF!&\"*\"&شهر3!#REF!&\"*\"&شهر3!#REF!,0))","v":{"$error":"#REF!"}}]
[null,null,{"$f":"VLOOKUP(B979,برقية!$A$2:$B$377,2,FALSE)","v":{"$error":"#N/A"}},null,null,{"$f":"INDEX(شهر3!#REF!,MATCH((B979&\"*\"&G979&\"*\"&D979&\"*\"&E979),شهر3!#REF!&\"*\"&شهر3!#REF!&\"*\"&شهر3!#REF!&\"*\"&شهر3!#REF!,0))","v":{"$error":"#REF!"}},null,{"$f":"INDEX(شهر3!#REF!,MATCH((B979&\"*\"&G979&\"*\"&D979&\"*\"&E979),شهر3!#REF!&\"*\"&شهر3!#REF!&\"*\"&شهر3!#REF!&\"*\"&شهر3!#REF!,0))","v":{"$error":"#REF!"}}]
[null,null,{"$f":"VLOOKUP(B980,برقية!$A$2:$B$377,2,FALSE)","v":{"$error":"#N/A"}},null,null,{"$f":"INDEX(شهر3!#REF!,MATCH((B980&\"*\"&G980&\"*\"&D980&\"*\"&E980),شهر3!#REF!&\"*\"&شهر3!#REF!&\"*\"&شهر3!#REF!&\"*\"&شهر3!#REF!,0))","v":{"$error":"#REF!"}},null,{"$f":"INDEX(شهر3!#REF!,MATCH((B980&\"*\"&G980&\"*\"&D980&\"*\"&E980),شهر3!#REF!&\"*\"&شهر3!#REF!&\"*\"&شهر3!#REF!&\"*\"&شهر3!#REF!,0))","v":{"$error":"#REF!"}}]
[null,null,{"$f":"VLOOKUP(B981,برقية!$A$2:$B$377,2,FALSE)","v":{"$error":"#N/A"}},null,null,{"$f":"INDEX(شهر3!#REF!,MATCH((B981&\"*\"&G981&\"*\"&D981&\"*\"&E981),شهر3!#REF!&\"*\"&شهر3!#REF!&\"*\"&شهر3!#REF!&\"*\"&شهر3!#REF!,0))","v":{"$error":"#REF!"}},null,{"$f":"INDEX(شهر3!#REF!,MATCH((B981&\"*\"&G981&\"*\"&D981&\"*\"&E981),شهر3!#REF!&\"*\"&شهر3!#REF!&\"*\"&شهر3!#REF!&\"*\"&شهر3!#REF!,0))","v":{"$error":"#REF!"}}]
[null,null,{"$f":"VLOOKUP(B982,برقية!$A$2:$B$377,2,FALSE)","v":{"$error":"#N/A"}},null,null,{"$f":"INDEX(شهر3!#REF!,MATCH((B982&\"*\"&G982&\"*\"&D982&\"*\"&E982),شهر3!#REF!&\"*\"&شهر3!#REF!&\"*\"&شهر3!#REF!&\"*\"&شهر3!#REF!,0))","v":{"$error":"#REF!"}},null,{"$f":"INDEX(شهر3!#REF!,MATCH((B982&\"*\"&G982&\"*\"&D982&\"*\"&E982),شهر3!#REF!&\"*\"&شهر3!#REF!&\"*\"&شهر3!#REF!&\"*\"&شهر3!#REF!,0))","v":{"$error":"#REF!"}}]
[null,null,{"$f":"VLOOKUP(B983,برقية!$A$2:$B$377,2,FALSE)","v":{"$error":"#N/A"}},null,null,{"$f":"INDEX(شهر3!#REF!,MATCH((B983&\"*\"&G983&\"*\"&D983&\"*\"&E983),شهر3!#REF!&\"*\"&شهر3!#REF!&\"*\"&شهر3!#REF!&\"*\"&شهر3!#REF!,0))","v":{"$error":"#REF!"}},null,{"$f":"INDEX(شهر3!#REF!,MATCH((B983&\"*\"&G983&\"*\"&D983&\"*\"&E983),شهر3!#REF!&\"*\"&شهر3!#REF!&\"*\"&شهر3!#REF!&\"*\"&شهر3!#REF!,0))","v":{"$error":"#REF!"}}]
[null,null,{"$f":"VLOOKUP(B984,برقية!$A$2:$B$377,2,FALSE)","v":{"$error":"#N/A"}},null,null,{"$f":"INDEX(شهر3!#REF!,MATCH((B984&\"*\"&G984&\"*\"&D984&\"*\"&E984),شهر3!#REF!&\"*\"&شهر3!#REF!&\"*\"&شهر3!#REF!&\"*\"&شهر3!#REF!,0))","v":{"$error":"#REF!"}},null,{"$f":"INDEX(شهر3!#REF!,MATCH((B984&\"*\"&G984&\"*\"&D984&\"*\"&E984),شهر3!#REF!&\"*\"&شهر3!#REF!&\"*\"&شهر3!#REF!&\"*\"&شهر3!#REF!,0))","v":{"$error":"#REF!"}}]
[null,null,{"$f":"VLOOKUP(B985,برقية!$A$2:$B$377,2,FALSE)","v":{"$error":"#N/A"}},null,null,{"$f":"INDEX(شهر3!#REF!,MATCH((B985&\"*\"&G985&\"*\"&D985&\"*\"&E985),شهر3!#REF!&\"*\"&شهر3!#REF!&\"*\"&شهر3!#REF!&\"*\"&شهر3!#REF!,0))","v":{"$error":"#REF!"}},null,{"$f":"INDEX(شهر3!#REF!,MATCH((B985&\"*\"&G985&\"*\"&D985&\"*\"&E985),شهر3!#REF!&\"*\"&شهر3!#REF!&\"*\"&شهر3!#REF!&\"*\"&شهر3!#REF!,0))","v":{"$error":"#REF!"}}]
[null,null,{"$f":"VLOOKUP(B986,برقية!$A$2:$B$377,2,FALSE)","v":{"$error":"#N/A"}},null,null,{"$f":"INDEX(شهر3!#REF!,MATCH((B986&\"*\"&G986&\"*\"&D986&\"*\"&E986),شهر3!#REF!&\"*\"&شهر3!#REF!&\"*\"&شهر3!#REF!&\"*\"&شهر3!#REF!,0))","v":{"$error":"#REF!"}},null,{"$f":"INDEX(شهر3!#REF!,MATCH((B986&\"*\"&G986&\"*\"&D986&\"*\"&E986),شهر3!#REF!&\"*\"&شهر3!#REF!&\"*\"&شهر3!#REF!&\"*\"&شهر3!#REF!,0))","v":{"$error":"#REF!"}}]
[null,null,{"$f":"VLOOKUP(B987,برقية!$A$2:$B$377,2,FALSE)","v":{"$error":"#N/A"}},null,null,{"$f":"INDEX(شهر3!#REF!,MATCH((B987&\"*\"&G987&\"*\"&D987&\"*\"&E987),شهر3!#REF!&\"*\"&شهر3!#REF!&\"*\"&شهر3!#REF!&\"*\"&شهر3!#REF!,0))","v":{"$error":"#REF!"}},null,{"$f":"INDEX(شهر3!#REF!,MATCH((B987&\"*\"&G987&\"*\"&D987&\"*\"&E987),شهر3!#REF!&\"*\"&شهر3!#REF!&\"*\"&شهر3!#REF!&\"*\"&شهر3!#REF!,0))","v":{"$error":"#REF!"}}]
[null,null,{"$f":"VLOOKUP(B988,برقية!$A$2:$B$377,2,FALSE)","v":{"$error":"#N/A"}},null,null,{"$f":"INDEX(شهر3!#REF!,MATCH((B988&\"*\"&G988&\"*\"&D988&\"*\"&E988),شهر3!#REF!&\"*\"&شهر3!#REF!&\"*\"&شهر3!#REF!&\"*\"&شهر3!#REF!,0))","v":{"$error":"#REF!"}},null,{"$f":"INDEX(شهر3!#REF!,MATCH((B988&\"*\"&G988&\"*\"&D988&\"*\"&E988),شهر3!#REF!&\"*\"&شهر3!#REF!&\"*\"&شهر3!#REF!&\"*\"&شهر3!#REF!,0))","v":{"$error":"#REF!"}}]
[null,null,{"$f":"VLOOKUP(B989,برقية!$A$2:$B$377,2,FALSE)","v":{"$error":"#N/A"}},null,null,{"$f":"INDEX(شهر3!#REF!,MATCH((B989&\"*\"&G989&\"*\"&D989&\"*\"&E989),شهر3!#REF!&\"*\"&شهر3!#REF!&\"*\"&شهر3!#REF!&\"*\"&شهر3!#REF!,0))","v":{"$error":"#REF!"}},null,{"$f":"INDEX(شهر3!#REF!,MATCH((B989&\"*\"&G989&\"*\"&D989&\"*\"&E989),شهر3!#REF!&\"*\"&شهر3!#REF!&\"*\"&شهر3!#REF!&\"*\"&شهر3!#REF!,0))","v":{"$error":"#REF!"}}]
[null,null,{"$f":"VLOOKUP(B990,برقية!$A$2:$B$377,2,FALSE)","v":{"$error":"#N/A"}},null,null,{"$f":"INDEX(شهر3!#REF!,MATCH((B990&\"*\"&G990&\"*\"&D990&\"*\"&E990),شهر3!#REF!&\"*\"&شهر3!#REF!&\"*\"&شهر3!#REF!&\"*\"&شهر3!#REF!,0))","v":{"$error":"#REF!"}},null,{"$f":"INDEX(شهر3!#REF!,MATCH((B990&\"*\"&G990&\"*\"&D990&\"*\"&E990),شهر3!#REF!&\"*\"&شهر3!#REF!&\"*\"&شهر3!#REF!&\"*\"&شهر3!#REF!,0))","v":{"$error":"#REF!"}}]
[null,null,{"$f":"VLOOKUP(B991,برقية!$A$2:$B$377,2,FALSE)","v":{"$error":"#N/A"}},null,null,{"$f":"INDEX(شهر3!#REF!,MATCH((B991&\"*\"&G991&\"*\"&D991&\"*\"&E991),شهر3!#REF!&\"*\"&شهر3!#REF!&\"*\"&شهر3!#REF!&\"*\"&شهر3!#REF!,0))","v":{"$error":"#REF!"}},null,{"$f":"INDEX(شهر3!#REF!,MATCH((B991&\"*\"&G991&\"*\"&D991&\"*\"&E991),شهر3!#REF!&\"*\"&شهر3!#REF!&\"*\"&شهر3!#REF!&\"*\"&شهر3!#REF!,0))","v":{"$error":"#REF!"}}]
[null,null,{"$f":"VLOOKUP(B992,برقية!$A$2:$B$377,2,FALSE)","v":{"$error":"#N/A"}},null,null,{"$f":"INDEX(شهر3!#REF!,MATCH((B992&\"*\"&G992&\"*\"&D992&\"*\"&E992),شهر3!#REF!&\"*\"&شهر3!#REF!&\"*\"&شهر3!#REF!&\"*\"&شهر3!#REF!,0))","v":{"$error":"#REF!"}},null,{"$f":"INDEX(شهر3!#REF!,MATCH((B992&\"*\"&G992&\"*\"&D992&\"*\"&E992),شهر3!#REF!&\"*\"&شهر3!#REF!&\"*\"&شهر3!#REF!&\"*\"&شهر3!#REF!,0))","v":{"$error":"#REF!"}}]
[null,null,{"$f":"VLOOKUP(B993,برقية!$A$2:$B$377,2,FALSE)","v":{"$error":"#N/A"}},null,null,{"$f":"INDEX(شهر3!#REF!,MATCH((B993&\"*\"&G993&\"*\"&D993&\"*\"&E993),شهر3!#REF!&\"*\"&شهر3!#REF!&\"*\"&شهر3!#REF!&\"*\"&شهر3!#REF!,0))","v":{"$error":"#REF!"}},null,{"$f":"INDEX(شهر3!#REF!,MATCH((B993&\"*\"&G993&\"*\"&D993&\"*\"&E993),شهر3!#REF!&\"*\"&شهر3!#REF!&\"*\"&شهر3!#REF!&\"*\"&شهر3!#REF!,0))","v":{"$error":"#REF!"}}]
[null,null,{"$f":"VLOOKUP(B994,برقية!$A$2:$B$377,2,FALSE)","v":{"$error":"#N/A"}},null,null,{"$f":"INDEX(شهر3!#REF!,MATCH((B994&\"*\"&G994&\"*\"&D994&\"*\"&E994),شهر3!#REF!&\"*\"&شهر3!#REF!&\"*\"&شهر3!#REF!&\"*\"&شهر3!#REF!,0))","v":{"$error":"#REF!"}},null,{"$f":"INDEX(شهر3!#REF!,MATCH((B994&\"*\"&G994&\"*\"&D994&\"*\"&E994),شهر3!#REF!&\"*\"&شهر3!#REF!&\"*\"&شهر3!#REF!&\"*\"&شهر3!#REF!,0))","v":{"$error":"#REF!"}}]
[null,null,{"$f":"VLOOKUP(B995,برقية!$A$2:$B$377,2,FALSE)","v":{"$error":"#N/A"}},null,null,{"$f":"INDEX(شهر3!#REF!,MATCH((B995&\"*\"&G995&\"*\"&D995&\"*\"&E995),شهر3!#REF!&\"*\"&شهر3!#REF!&\"*\"&شهر3!#REF!&\"*\"&شهر3!#REF!,0))","v":{"$error":"#REF!"}},null,{"$f":"INDEX(شهر3!#REF!,MATCH((B995&\"*\"&G995&\"*\"&D995&\"*\"&E995),شهر3!#REF!&\"*\"&شهر3!#REF!&\"*\"&شهر3!#REF!&\"*\"&شهر3!#REF!,0))","v":{"$error":"#REF!"}}]
[null,null,{"$f":"VLOOKUP(B996,برقية!$A$2:$B$377,2,FALSE)","v":{"$error":"#N/A"}},null,null,{"$f":"INDEX(شهر3!#REF!,MATCH((B996&\"*\"&G996&\"*\"&D996&\"*\"&E996),شهر3!#REF!&\"*\"&شهر3!#REF!&\"*\"&شهر3!#REF!&\"*\"&شهر3!#REF!,0))","v":{"$error":"#REF!"}},null,{"$f":"INDEX(شهر3!#REF!,MATCH((B996&\"*\"&G996&\"*\"&D996&\"*\"&E996),شهر3!#REF!&\"*\"&شهر3!#REF!&\"*\"&شهر3!#REF!&\"*\"&شهر3!#REF!,0))","v":{"$error":"#REF!"}}]
[null,null,{"$f":"VLOOKUP(B997,برقية!$A$2:$B$377,2,FALSE)","v":{"$error":"#N/A"}},null,null,{"$f":"INDEX(شهر3!#REF!,MATCH((B997&\"*\"&G997&\"*\"&D997&\"*\"&E997),شهر3!#REF!&\"*\"&شهر3!#REF!&\"*\"&شهر3!#REF!&\"*\"&شهر3!#REF!,0))","v":{"$error":"#REF!"}},null,{"$f":"INDEX(شهر3!#REF!,MATCH((B997&\"*\"&G997&\"*\"&D997&\"*\"&E997),شهر3!#REF!&\"*\"&شهر3!#REF!&\"*\"&شهر3!#REF!&\"*\"&شهر3!#REF!,0))","v":{"$error":"#REF!"}}]
[null,null,{"$f":"VLOOKUP(B998,برقية!$A$2:$B$377,2,FALSE)","v":{"$error":"#N/A"}},null,null,{"$f":"INDEX(شهر3!#REF!,MATCH((B998&\"*\"&G998&\"*\"&D998&\"*\"&E998),شهر3!#REF!&\"*\"&شهر3!#REF!&\"*\"&شهر3!#REF!&\"*\"&شهر3!#REF!,0))","v":{"$error":"#REF!"}},null,{"$f":"INDEX(شهر3!#REF!,MATCH((B998&\"*\"&G998&\"*\"&D998&\"*\"&E998),شهر3!#REF!&\"*\"&شهر3!#REF!&\"*\"&شهر3!#REF!&\"*\"&شهر3!#REF!,0))","v":{"$error":"#REF!"}}]
[null,null,{"$f":"VLOOKUP(B999,برقية!$A$2:$B$377,2,FALSE)","v":{"$error":"#N/A"}},null,null,{"$f":"INDEX(شهر3!#REF!,MATCH((B999&\"*\"&G999&\"*\"&D999&\"*\"&E999),شهر3!#REF!&\"*\"&شهر3!#REF!&\"*\"&شهر3!#REF!&\"*\"&شهر3!#REF!,0))","v":{"$error":"#REF!"}},null,{"$f":"INDEX(شهر3!#REF!,MATCH((B999&\"*\"&G999&\"*\"&D999&\"*\"&E999),شهر3!#REF!&\"*\"&شهر3!#REF!&\"*\"&شهر3!#REF!&\"*\"&شهر3!#REF!,0))","v":{"$error":"#REF!"}}]
[null,null,{"$f":"VLOOKUP(B1000,برقية!$A$2:$B$377,2,FALSE)","v":{"$error":"#N/A"}},null,null,{"$f":"INDEX(شهر3!#REF!,MATCH((B1000&\"*\"&G1000&\"*\"&D1000&\"*\"&E1000),شهر3!#REF!&\"*\"&شهر3!#REF!&\"*\"&شهر3!#REF!&\"*\"&شهر3!#REF!,0))","v":{"$error":"#REF!"}},null,{"$f":"INDEX(شهر3!#REF!,MATCH((B1000&\"*\"&G1000&\"*\"&D1000&\"*\"&E1000),شهر3!#REF!&\"*\"&شهر3!#REF!&\"*\"&شهر3!#REF!&\"*\"&شهر3!#REF!,0))","v":{"$error":"#REF!"}}]
[null,null,{"$f":"VLOOKUP(B1001,برقية!$A$2:$B$377,2,FALSE)","v":{"$error":"#N/A"}},null,null,{"$f":"INDEX(شهر3!#REF!,MATCH((B1001&\"*\"&G1001&\"*\"&D1001&\"*\"&E1001),شهر3!#REF!&\"*\"&شهر3!#REF!&\"*\"&شهر3!#REF!&\"*\"&شهر3!#REF!,0))","v":{"$error":"#REF!"}},null,{"$f":"INDEX(شهر3!#REF!,MATCH((B1001&\"*\"&G1001&\"*\"&D1001&\"*\"&E1001),شهر3!#REF!&\"*\"&شهر3!#REF!&\"*\"&شهر3!#REF!&\"*\"&شهر3!#REF!,0))","v":{"$error":"#REF!"}}]
[null,null,{"$f":"VLOOKUP(B1002,برقية!$A$2:$B$377,2,FALSE)","v":{"$error":"#N/A"}},null,null,{"$f":"INDEX(شهر3!#REF!,MATCH((B1002&\"*\"&G1002&\"*\"&D1002&\"*\"&E1002),شهر3!#REF!&\"*\"&شهر3!#REF!&\"*\"&شهر3!#REF!&\"*\"&شهر3!#REF!,0))","v":{"$error":"#REF!"}},null,{"$f":"INDEX(شهر3!#REF!,MATCH((B1002&\"*\"&G1002&\"*\"&D1002&\"*\"&E1002),شهر3!#REF!&\"*\"&شهر3!#REF!&\"*\"&شهر3!#REF!&\"*\"&شهر3!#REF!,0))","v":{"$error":"#REF!"}}]
[null,null,{"$f":"VLOOKUP(B1003,برقية!$A$2:$B$377,2,FALSE)","v":{"$error":"#N/A"}},null,null,{"$f":"INDEX(شهر3!#REF!,MATCH((B1003&\"*\"&G1003&\"*\"&D1003&\"*\"&E1003),شهر3!#REF!&\"*\"&شهر3!#REF!&\"*\"&شهر3!#REF!&\"*\"&شهر3!#REF!,0))","v":{"$error":"#REF!"}},null,{"$f":"INDEX(شهر3!#REF!,MATCH((B1003&\"*\"&G1003&\"*\"&D1003&\"*\"&E1003),شهر3!#REF!&\"*\"&شهر3!#REF!&\"*\"&شهر3!#REF!&\"*\"&شهر3!#REF!,0))","v":{"$error":"#REF!"}}]
[null,null,{"$f":"VLOOKUP(B1004,برقية!$A$2:$B$377,2,FALSE)","v":{"$error":"#N/A"}},null,null,{"$f":"INDEX(شهر3!#REF!,MATCH((B1004&\"*\"&G1004&\"*\"&D1004&\"*\"&E1004),شهر3!#REF!&\"*\"&شهر3!#REF!&\"*\"&شهر3!#REF!&\"*\"&شهر3!#REF!,0))","v":{"$error":"#REF!"}},null,{"$f":"INDEX(شهر3!#REF!,MATCH((B1004&\"*\"&G1004&\"*\"&D1004&\"*\"&E1004),شهر3!#REF!&\"*\"&شهر3!#REF!&\"*\"&شهر3!#REF!&\"*\"&شهر3!#REF!,0))","v":{"$error":"#REF!"}}]
[null,null,{"$f":"VLOOKUP(B1005,برقية!$A$2:$B$377,2,FALSE)","v":{"$error":"#N/A"}},null,null,{"$f":"INDEX(شهر3!#REF!,MATCH((B1005&\"*\"&G1005&\"*\"&D1005&\"*\"&E1005),شهر3!#REF!&\"*\"&شهر3!#REF!&\"*\"&شهر3!#REF!&\"*\"&شهر3!#REF!,0))","v":{"$error":"#REF!"}},null,{"$f":"INDEX(شهر3!#REF!,MATCH((B1005&\"*\"&G1005&\"*\"&D1005&\"*\"&E1005),شهر3!#REF!&\"*\"&شهر3!#REF!&\"*\"&شهر3!#REF!&\"*\"&شهر3!#REF!,0))","v":{"$error":"#REF!"}}]
[null,null,{"$f":"VLOOKUP(B1006,برقية!$A$2:$B$377,2,FALSE)","v":{"$error":"#N/A"}},null,null,{"$f":"INDEX(شهر3!#REF!,MATCH((B1006&\"*\"&G1006&\"*\"&D1006&\"*\"&E1006),شهر3!#REF!&\"*\"&شهر3!#REF!&\"*\"&شهر3!#REF!&\"*\"&شهر3!#REF!,0))","v":{"$error":"#REF!"}},null,{"$f":"INDEX(شهر3!#REF!,MATCH((B1006&\"*\"&G1006&\"*\"&D1006&\"*\"&E1006),شهر3!#REF!&\"*\"&شهر3!#REF!&\"*\"&شهر3!#REF!&\"*\"&شهر3!#REF!,0))","v":{"$error":"#REF!"}}]
[null,null,{"$f":"VLOOKUP(B1007,برقية!$A$2:$B$377,2,FALSE)","v":{"$error":"#N/A"}},null,null,{"$f":"INDEX(شهر3!#REF!,MATCH((B1007&\"*\"&G1007&\"*\"&D1007&\"*\"&E1007),شهر3!#REF!&\"*\"&شهر3!#REF!&\"*\"&شهر3!#REF!&\"*\"&شهر3!#REF!,0))","v":{"$error":"#REF!"}},null,{"$f":"INDEX(شهر3!#REF!,MATCH((B1007&\"*\"&G1007&\"*\"&D1007&\"*\"&E1007),شهر3!#REF!&\"*\"&شهر3!#REF!&\"*\"&شهر3!#REF!&\"*\"&شهر3!#REF!,0))","v":{"$error":"#REF!"}}]
[null,null,{"$f":"VLOOKUP(B1008,برقية!$A$2:$B$377,2,FALSE)","v":{"$error":"#N/A"}},null,null,{"$f":"INDEX(شهر3!#REF!,MATCH((B1008&\"*\"&G1008&\"*\"&D1008&\"*\"&E1008),شهر3!#REF!&\"*\"&شهر3!#REF!&\"*\"&شهر3!#REF!&\"*\"&شهر3!#REF!,0))","v":{"$error":"#REF!"}},null,{"$f":"INDEX(شهر3!#REF!,MATCH((B1008&\"*\"&G1008&\"*\"&D1008&\"*\"&E1008),شهر3!#REF!&\"*\"&شهر3!#REF!&\"*\"&شهر3!#REF!&\"*\"&شهر3!#REF!,0))","v":{"$error":"#REF!"}}]
[null,null,{"$f":"VLOOKUP(B1009,برقية!$A$2:$B$377,2,FALSE)","v":{"$error":"#N/A"}},null,null,{"$f":"INDEX(شهر3!#REF!,MATCH((B1009&\"*\"&G1009&\"*\"&D1009&\"*\"&E1009),شهر3!#REF!&\"*\"&شهر3!#REF!&\"*\"&شهر3!#REF!&\"*\"&شهر3!#REF!,0))","v":{"$error":"#REF!"}},null,{"$f":"INDEX(شهر3!#REF!,MATCH((B1009&\"*\"&G1009&\"*\"&D1009&\"*\"&E1009),شهر3!#REF!&\"*\"&شهر3!#REF!&\"*\"&شهر3!#REF!&\"*\"&شهر3!#REF!,0))","v":{"$error":"#REF!"}}]
[null,null,{"$f":"VLOOKUP(B1010,برقية!$A$2:$B$377,2,FALSE)","v":{"$error":"#N/A"}},null,null,{"$f":"INDEX(شهر3!#REF!,MATCH((B1010&\"*\"&G1010&\"*\"&D1010&\"*\"&E1010),شهر3!#REF!&\"*\"&شهر3!#REF!&\"*\"&شهر3!#REF!&\"*\"&شهر3!#REF!,0))","v":{"$error":"#REF!"}},null,{"$f":"INDEX(شهر3!#REF!,MATCH((B1010&\"*\"&G1010&\"*\"&D1010&\"*\"&E1010),شهر3!#REF!&\"*\"&شهر3!#REF!&\"*\"&شهر3!#REF!&\"*\"&شهر3!#REF!,0))","v":{"$error":"#REF!"}}]
[null,null,{"$f":"VLOOKUP(B1011,برقية!$A$2:$B$377,2,FALSE)","v":{"$error":"#N/A"}},null,null,{"$f":"INDEX(شهر3!#REF!,MATCH((B1011&\"*\"&G1011&\"*\"&D1011&\"*\"&E1011),شهر3!#REF!&\"*\"&شهر3!#REF!&\"*\"&شهر3!#REF!&\"*\"&شهر3!#REF!,0))","v":{"$error":"#REF!"}},null,{"$f":"INDEX(شهر3!#REF!,MATCH((B1011&\"*\"&G1011&\"*\"&D1011&\"*\"&E1011),شهر3!#REF!&\"*\"&شهر3!#REF!&\"*\"&شهر3!#REF!&\"*\"&شهر3!#REF!,0))","v":{"$error":"#REF!"}}]
[null,null,{"$f":"VLOOKUP(B1012,برقية!$A$2:$B$377,2,FALSE)","v":{"$error":"#N/A"}},null,null,{"$f":"INDEX(شهر3!#REF!,MATCH((B1012&\"*\"&G1012&\"*\"&D1012&\"*\"&E1012),شهر3!#REF!&\"*\"&شهر3!#REF!&\"*\"&شهر3!#REF!&\"*\"&شهر3!#REF!,0))","v":{"$error":"#REF!"}},null,{"$f":"INDEX(شهر3!#REF!,MATCH((B1012&\"*\"&G1012&\"*\"&D1012&\"*\"&E1012),شهر3!#REF!&\"*\"&شهر3!#REF!&\"*\"&شهر3!#REF!&\"*\"&شهر3!#REF!,0))","v":{"$error":"#REF!"}}]
[null,null,{"$f":"VLOOKUP(B1013,برقية!$A$2:$B$377,2,FALSE)","v":{"$error":"#N/A"}},null,null,{"$f":"INDEX(شهر3!#REF!,MATCH((B1013&\"*\"&G1013&\"*\"&D1013&\"*\"&E1013),شهر3!#REF!&\"*\"&شهر3!#REF!&\"*\"&شهر3!#REF!&\"*\"&شهر3!#REF!,0))","v":{"$error":"#REF!"}},null,{"$f":"INDEX(شهر3!#REF!,MATCH((B1013&\"*\"&G1013&\"*\"&D1013&\"*\"&E1013),شهر3!#REF!&\"*\"&شهر3!#REF!&\"*\"&شهر3!#REF!&\"*\"&شهر3!#REF!,0))","v":{"$error":"#REF!"}}]
[null,null,{"$f":"VLOOKUP(B1014,برقية!$A$2:$B$377,2,FALSE)","v":{"$error":"#N/A"}},null,null,{"$f":"INDEX(شهر3!#REF!,MATCH((B1014&\"*\"&G1014&\"*\"&D1014&\"*\"&E1014),شهر3!#REF!&\"*\"&شهر3!#REF!&\"*\"&شهر3!#REF!&\"*\"&شهر3!#REF!,0))","v":{"$error":"#REF!"}},null,{"$f":"INDEX(شهر3!#REF!,MATCH((B1014&\"*\"&G1014&\"*\"&D1014&\"*\"&E1014),شهر3!#REF!&\"*\"&شهر3!#REF!&\"*\"&شهر3!#REF!&\"*\"&شهر3!#REF!,0))","v":{"$error":"#REF!"}}]
[null,null,{"$f":"VLOOKUP(B1015,برقية!$A$2:$B$377,2,FALSE)","v":{"$error":"#N/A"}},null,null,{"$f":"INDEX(شهر3!#REF!,MATCH((B1015&\"*\"&G1015&\"*\"&D1015&\"*\"&E1015),شهر3!#REF!&\"*\"&شهر3!#REF!&\"*\"&شهر3!#REF!&\"*\"&شهر3!#REF!,0))","v":{"$error":"#REF!"}},null,{"$f":"INDEX(شهر3!#REF!,MATCH((B1015&\"*\"&G1015&\"*\"&D1015&\"*\"&E1015),شهر3!#REF!&\"*\"&شهر3!#REF!&\"*\"&شهر3!#REF!&\"*\"&شهر3!#REF!,0))","v":{"$error":"#REF!"}}]
[null,null,{"$f":"VLOOKUP(B1016,برقية!$A$2:$B$377,2,FALSE)","v":{"$error":"#N/A"}},null,null,{"$f":"INDEX(شهر3!#REF!,MATCH((B1016&\"*\"&G1016&\"*\"&D1016&\"*\"&E1016),شهر3!#REF!&\"*\"&شهر3!#REF!&\"*\"&شهر3!#REF!&\"*\"&شهر3!#REF!,0))","v":{"$error":"#REF!"}},null,{"$f":"INDEX(شهر3!#REF!,MATCH((B1016&\"*\"&G1016&\"*\"&D1016&\"*\"&E1016),شهر3!#REF!&\"*\"&شهر3!#REF!&\"*\"&شهر3!#REF!&\"*\"&شهر3!#REF!,0))","v":{"$error":"#REF!"}}]
[null,null,{"$f":"VLOOKUP(B1017,برقية!$A$2:$B$377,2,FALSE)","v":{"$error":"#N/A"}},null,null,{"$f":"INDEX(شهر3!#REF!,MATCH((B1017&\"*\"&G1017&\"*\"&D1017&\"*\"&E1017),شهر3!#REF!&\"*\"&شهر3!#REF!&\"*\"&شهر3!#REF!&\"*\"&شهر3!#REF!,0))","v":{"$error":"#REF!"}},null,{"$f":"INDEX(شهر3!#REF!,MATCH((B1017&\"*\"&G1017&\"*\"&D1017&\"*\"&E1017),شهر3!#REF!&\"*\"&شهر3!#REF!&\"*\"&شهر3!#REF!&\"*\"&شهر3!#REF!,0))","v":{"$error":"#REF!"}}]
[null,null,{"$f":"VLOOKUP(B1018,برقية!$A$2:$B$377,2,FALSE)","v":{"$error":"#N/A"}},null,null,{"$f":"INDEX(شهر3!#REF!,MATCH((B1018&\"*\"&G1018&\"*\"&D1018&\"*\"&E1018),شهر3!#REF!&\"*\"&شهر3!#REF!&\"*\"&شهر3!#REF!&\"*\"&شهر3!#REF!,0))","v":{"$error":"#REF!"}},null,{"$f":"INDEX(شهر3!#REF!,MATCH((B1018&\"*\"&G1018&\"*\"&D1018&\"*\"&E1018),شهر3!#REF!&\"*\"&شهر3!#REF!&\"*\"&شهر3!#REF!&\"*\"&شهر3!#REF!,0))","v":{"$error":"#REF!"}}]
[null,null,{"$f":"VLOOKUP(B1019,برقية!$A$2:$B$377,2,FALSE)","v":{"$error":"#N/A"}},null,null,{"$f":"INDEX(شهر3!#REF!,MATCH((B1019&\"*\"&G1019&\"*\"&D1019&\"*\"&E1019),شهر3!#REF!&\"*\"&شهر3!#REF!&\"*\"&شهر3!#REF!&\"*\"&شهر3!#REF!,0))","v":{"$error":"#REF!"}},null,{"$f":"INDEX(شهر3!#REF!,MATCH((B1019&\"*\"&G1019&\"*\"&D1019&\"*\"&E1019),شهر3!#REF!&\"*\"&شهر3!#REF!&\"*\"&شهر3!#REF!&\"*\"&شهر3!#REF!,0))","v":{"$error":"#REF!"}}]
[null,null,{"$f":"VLOOKUP(B1020,برقية!$A$2:$B$377,2,FALSE)","v":{"$error":"#N/A"}},null,null,{"$f":"INDEX(شهر3!#REF!,MATCH((B1020&\"*\"&G1020&\"*\"&D1020&\"*\"&E1020),شهر3!#REF!&\"*\"&شهر3!#REF!&\"*\"&شهر3!#REF!&\"*\"&شهر3!#REF!,0))","v":{"$error":"#REF!"}},null,{"$f":"INDEX(شهر3!#REF!,MATCH((B1020&\"*\"&G1020&\"*\"&D1020&\"*\"&E1020),شهر3!#REF!&\"*\"&شهر3!#REF!&\"*\"&شهر3!#REF!&\"*\"&شهر3!#REF!,0))","v":{"$error":"#REF!"}}]
[null,null,{"$f":"VLOOKUP(B1021,برقية!$A$2:$B$377,2,FALSE)","v":{"$error":"#N/A"}},null,null,{"$f":"INDEX(شهر3!#REF!,MATCH((B1021&\"*\"&G1021&\"*\"&D1021&\"*\"&E1021),شهر3!#REF!&\"*\"&شهر3!#REF!&\"*\"&شهر3!#REF!&\"*\"&شهر3!#REF!,0))","v":{"$error":"#REF!"}},null,{"$f":"INDEX(شهر3!#REF!,MATCH((B1021&\"*\"&G1021&\"*\"&D1021&\"*\"&E1021),شهر3!#REF!&\"*\"&شهر3!#REF!&\"*\"&شهر3!#REF!&\"*\"&شهر3!#REF!,0))","v":{"$error":"#REF!"}}]
[null,null,{"$f":"VLOOKUP(B1022,برقية!$A$2:$B$377,2,FALSE)","v":{"$error":"#N/A"}},null,null,{"$f":"INDEX(شهر3!#REF!,MATCH((B1022&\"*\"&G1022&\"*\"&D1022&\"*\"&E1022),شهر3!#REF!&\"*\"&شهر3!#REF!&\"*\"&شهر3!#REF!&\"*\"&شهر3!#REF!,0))","v":{"$error":"#REF!"}},null,{"$f":"INDEX(شهر3!#REF!,MATCH((B1022&\"*\"&G1022&\"*\"&D1022&\"*\"&E1022),شهر3!#REF!&\"*\"&شهر3!#REF!&\"*\"&شهر3!#REF!&\"*\"&شهر3!#REF!,0))","v":{"$error":"#REF!"}}]
[null,null,{"$f":"VLOOKUP(B1023,برقية!$A$2:$B$377,2,FALSE)","v":{"$error":"#N/A"}},null,null,{"$f":"INDEX(شهر3!#REF!,MATCH((B1023&\"*\"&G1023&\"*\"&D1023&\"*\"&E1023),شهر3!#REF!&\"*\"&شهر3!#REF!&\"*\"&شهر3!#REF!&\"*\"&شهر3!#REF!,0))","v":{"$error":"#REF!"}},null,{"$f":"INDEX(شهر3!#REF!,MATCH((B1023&\"*\"&G1023&\"*\"&D1023&\"*\"&E1023),شهر3!#REF!&\"*\"&شهر3!#REF!&\"*\"&شهر3!#REF!&\"*\"&شهر3!#REF!,0))","v":{"$error":"#REF!"}}]
[null,null,{"$f":"VLOOKUP(B1024,برقية!$A$2:$B$377,2,FALSE)","v":{"$error":"#N/A"}},null,null,{"$f":"INDEX(شهر3!#REF!,MATCH((B1024&\"*\"&G1024&\"*\"&D1024&\"*\"&E1024),شهر3!#REF!&\"*\"&شهر3!#REF!&\"*\"&شهر3!#REF!&\"*\"&شهر3!#REF!,0))","v":{"$error":"#REF!"}},null,{"$f":"INDEX(شهر3!#REF!,MATCH((B1024&\"*\"&G1024&\"*\"&D1024&\"*\"&E1024),شهر3!#REF!&\"*\"&شهر3!#REF!&\"*\"&شهر3!#REF!&\"*\"&شهر3!#REF!,0))","v":{"$error":"#REF!"}}]
[null,null,{"$f":"VLOOKUP(B1025,برقية!$A$2:$B$377,2,FALSE)","v":{"$error":"#N/A"}},null,null,{"$f":"INDEX(شهر3!#REF!,MATCH((B1025&\"*\"&G1025&\"*\"&D1025&\"*\"&E1025),شهر3!#REF!&\"*\"&شهر3!#REF!&\"*\"&شهر3!#REF!&\"*\"&شهر3!#REF!,0))","v":{"$error":"#REF!"}},null,{"$f":"INDEX(شهر3!#REF!,MATCH((B1025&\"*\"&G1025&\"*\"&D1025&\"*\"&E1025),شهر3!#REF!&\"*\"&شهر3!#REF!&\"*\"&شهر3!#REF!&\"*\"&شهر3!#REF!,0))","v":{"$error":"#REF!"}}]
[null,null,{"$f":"VLOOKUP(B1026,برقية!$A$2:$B$377,2,FALSE)","v":{"$error":"#N/A"}},null,null,{"$f":"INDEX(شهر3!#REF!,MATCH((B1026&\"*\"&G1026&\"*\"&D1026&\"*\"&E1026),شهر3!#REF!&\"*\"&شهر3!#REF!&\"*\"&شهر3!#REF!&\"*\"&شهر3!#REF!,0))","v":{"$error":"#REF!"}},null,{"$f":"INDEX(شهر3!#REF!,MATCH((B1026&\"*\"&G1026&\"*\"&D1026&\"*\"&E1026),شهر3!#REF!&\"*\"&شهر3!#REF!&\"*\"&شهر3!#REF!&\"*\"&شهر3!#REF!,0))","v":{"$error":"#REF!"}}]
[null,null,{"$f":"VLOOKUP(B1027,برقية!$A$2:$B$377,2,FALSE)","v":{"$error":"#N/A"}},null,null,{"$f":"INDEX(شهر3!#REF!,MATCH((B1027&\"*\"&G1027&\"*\"&D1027&\"*\"&E1027),شهر3!#REF!&\"*\"&شهر3!#REF!&\"*\"&شهر3!#REF!&\"*\"&شهر3!#REF!,0))","v":{"$error":"#REF!"}},null,{"$f":"INDEX(شهر3!#REF!,MATCH((B1027&\"*\"&G1027&\"*\"&D1027&\"*\"&E1027),شهر3!#REF!&\"*\"&شهر3!#REF!&\"*\"&شهر3!#REF!&\"*\"&شهر3!#REF!,0))","v":{"$error":"#REF!"}}]
[null,null,{"$f":"VLOOKUP(B1028,برقية!$A$2:$B$377,2,FALSE)","v":{"$error":"#N/A"}},null,null,{"$f":"INDEX(شهر3!#REF!,MATCH((B1028&\"*\"&G1028&\"*\"&D1028&\"*\"&E1028),شهر3!#REF!&\"*\"&شهر3!#REF!&\"*\"&شهر3!#REF!&\"*\"&شهر3!#REF!,0))","v":{"$error":"#REF!"}},null,{"$f":"INDEX(شهر3!#REF!,MATCH((B1028&\"*\"&G1028&\"*\"&D1028&\"*\"&E1028),شهر3!#REF!&\"*\"&شهر3!#REF!&\"*\"&شهر3!#REF!&\"*\"&شهر3!#REF!,0))","v":{"$error":"#REF!"}}]
[null,null,{"$f":"VLOOKUP(B1029,برقية!$A$2:$B$377,2,FALSE)","v":{"$error":"#N/A"}},null,null,{"$f":"INDEX(شهر3!#REF!,MATCH((B1029&\"*\"&G1029&\"*\"&D1029&\"*\"&E1029),شهر3!#REF!&\"*\"&شهر3!#REF!&\"*\"&شهر3!#REF!&\"*\"&شهر3!#REF!,0))","v":{"$error":"#REF!"}},null,{"$f":"INDEX(شهر3!#REF!,MATCH((B1029&\"*\"&G1029&\"*\"&D1029&\"*\"&E1029),شهر3!#REF!&\"*\"&شهر3!#REF!&\"*\"&شهر3!#REF!&\"*\"&شهر3!#REF!,0))","v":{"$error":"#REF!"}}]
[null,null,{"$f":"VLOOKUP(B1030,برقية!$A$2:$B$377,2,FALSE)","v":{"$error":"#N/A"}},null,null,{"$f":"INDEX(شهر3!#REF!,MATCH((B1030&\"*\"&G1030&\"*\"&D1030&\"*\"&E1030),شهر3!#REF!&\"*\"&شهر3!#REF!&\"*\"&شهر3!#REF!&\"*\"&شهر3!#REF!,0))","v":{"$error":"#REF!"}},null,{"$f":"INDEX(شهر3!#REF!,MATCH((B1030&\"*\"&G1030&\"*\"&D1030&\"*\"&E1030),شهر3!#REF!&\"*\"&شهر3!#REF!&\"*\"&شهر3!#REF!&\"*\"&شهر3!#REF!,0))","v":{"$error":"#REF!"}}]
[null,null,{"$f":"VLOOKUP(B1031,برقية!$A$2:$B$377,2,FALSE)","v":{"$error":"#N/A"}},null,null,{"$f":"INDEX(شهر3!#REF!,MATCH((B1031&\"*\"&G1031&\"*\"&D1031&\"*\"&E1031),شهر3!#REF!&\"*\"&شهر3!#REF!&\"*\"&شهر3!#REF!&\"*\"&شهر3!#REF!,0))","v":{"$error":"#REF!"}},null,{"$f":"INDEX(شهر3!#REF!,MATCH((B1031&\"*\"&G1031&\"*\"&D1031&\"*\"&E1031),شهر3!#REF!&\"*\"&شهر3!#REF!&\"*\"&شهر3!#REF!&\"*\"&شهر3!#REF!,0))","v":{"$error":"#REF!"}}]
[null,null,{"$f":"VLOOKUP(B1032,برقية!$A$2:$B$377,2,FALSE)","v":{"$error":"#N/A"}},null,null,{"$f":"INDEX(شهر3!#REF!,MATCH((B1032&\"*\"&G1032&\"*\"&D1032&\"*\"&E1032),شهر3!#REF!&\"*\"&شهر3!#REF!&\"*\"&شهر3!#REF!&\"*\"&شهر3!#REF!,0))","v":{"$error":"#REF!"}},null,{"$f":"INDEX(شهر3!#REF!,MATCH((B1032&\"*\"&G1032&\"*\"&D1032&\"*\"&E1032),شهر3!#REF!&\"*\"&شهر3!#REF!&\"*\"&شهر3!#REF!&\"*\"&شهر3!#REF!,0))","v":{"$error":"#REF!"}}]
[null,null,{"$f":"VLOOKUP(B1033,برقية!$A$2:$B$377,2,FALSE)","v":{"$error":"#N/A"}},null,null,{"$f":"INDEX(شهر3!#REF!,MATCH((B1033&\"*\"&G1033&\"*\"&D1033&\"*\"&E1033),شهر3!#REF!&\"*\"&شهر3!#REF!&\"*\"&شهر3!#REF!&\"*\"&شهر3!#REF!,0))","v":{"$error":"#REF!"}},null,{"$f":"INDEX(شهر3!#REF!,MATCH((B1033&\"*\"&G1033&\"*\"&D1033&\"*\"&E1033),شهر3!#REF!&\"*\"&شهر3!#REF!&\"*\"&شهر3!#REF!&\"*\"&شهر3!#REF!,0))","v":{"$error":"#REF!"}}]
[null,null,{"$f":"VLOOKUP(B1034,برقية!$A$2:$B$377,2,FALSE)","v":{"$error":"#N/A"}},null,null,{"$f":"INDEX(شهر3!#REF!,MATCH((B1034&\"*\"&G1034&\"*\"&D1034&\"*\"&E1034),شهر3!#REF!&\"*\"&شهر3!#REF!&\"*\"&شهر3!#REF!&\"*\"&شهر3!#REF!,0))","v":{"$error":"#REF!"}},null,{"$f":"INDEX(شهر3!#REF!,MATCH((B1034&\"*\"&G1034&\"*\"&D1034&\"*\"&E1034),شهر3!#REF!&\"*\"&شهر3!#REF!&\"*\"&شهر3!#REF!&\"*\"&شهر3!#REF!,0))","v":{"$error":"#REF!"}}]
[null,null,{"$f":"VLOOKUP(B1035,برقية!$A$2:$B$377,2,FALSE)","v":{"$error":"#N/A"}},null,null,{"$f":"INDEX(شهر3!#REF!,MATCH((B1035&\"*\"&G1035&\"*\"&D1035&\"*\"&E1035),شهر3!#REF!&\"*\"&شهر3!#REF!&\"*\"&شهر3!#REF!&\"*\"&شهر3!#REF!,0))","v":{"$error":"#REF!"}},null,{"$f":"INDEX(شهر3!#REF!,MATCH((B1035&\"*\"&G1035&\"*\"&D1035&\"*\"&E1035),شهر3!#REF!&\"*\"&شهر3!#REF!&\"*\"&شهر3!#REF!&\"*\"&شهر3!#REF!,0))","v":{"$error":"#REF!"}}]
[null,null,{"$f":"VLOOKUP(B1036,برقية!$A$2:$B$377,2,FALSE)","v":{"$error":"#N/A"}},null,null,{"$f":"INDEX(شهر3!#REF!,MATCH((B1036&\"*\"&G1036&\"*\"&D1036&\"*\"&E1036),شهر3!#REF!&\"*\"&شهر3!#REF!&\"*\"&شهر3!#REF!&\"*\"&شهر3!#REF!,0))","v":{"$error":"#REF!"}},null,{"$f":"INDEX(شهر3!#REF!,MATCH((B1036&\"*\"&G1036&\"*\"&D1036&\"*\"&E1036),شهر3!#REF!&\"*\"&شهر3!#REF!&\"*\"&شهر3!#REF!&\"*\"&شهر3!#REF!,0))","v":{"$error":"#REF!"}}]
[null,null,{"$f":"VLOOKUP(B1037,برقية!$A$2:$B$377,2,FALSE)","v":{"$error":"#N/A"}},null,null,{"$f":"INDEX(شهر3!#REF!,MATCH((B1037&\"*\"&G1037&\"*\"&D1037&\"*\"&E1037),شهر3!#REF!&\"*\"&شهر3!#REF!&\"*\"&شهر3!#REF!&\"*\"&شهر3!#REF!,0))","v":{"$error":"#REF!"}},null,{"$f":"INDEX(شهر3!#REF!,MATCH((B1037&\"*\"&G1037&\"*\"&D1037&\"*\"&E1037),شهر3!#REF!&\"*\"&شهر3!#REF!&\"*\"&شهر3!#REF!&\"*\"&شهر3!#REF!,0))","v":{"$error":"#REF!"}}]
[null,null,{"$f":"VLOOKUP(B1038,برقية!$A$2:$B$377,2,FALSE)","v":{"$error":"#N/A"}},null,null,{"$f":"INDEX(شهر3!#REF!,MATCH((B1038&\"*\"&G1038&\"*\"&D1038&\"*\"&E1038),شهر3!#REF!&\"*\"&شهر3!#REF!&\"*\"&شهر3!#REF!&\"*\"&شهر3!#REF!,0))","v":{"$error":"#REF!"}},null,{"$f":"INDEX(شهر3!#REF!,MATCH((B1038&\"*\"&G1038&\"*\"&D1038&\"*\"&E1038),شهر3!#REF!&\"*\"&شهر3!#REF!&\"*\"&شهر3!#REF!&\"*\"&شهر3!#REF!,0))","v":{"$error":"#REF!"}}]
[null,null,{"$f":"VLOOKUP(B1039,برقية!$A$2:$B$377,2,FALSE)","v":{"$error":"#N/A"}},null,null,{"$f":"INDEX(شهر3!#REF!,MATCH((B1039&\"*\"&G1039&\"*\"&D1039&\"*\"&E1039),شهر3!#REF!&\"*\"&شهر3!#REF!&\"*\"&شهر3!#REF!&\"*\"&شهر3!#REF!,0))","v":{"$error":"#REF!"}},null,{"$f":"INDEX(شهر3!#REF!,MATCH((B1039&\"*\"&G1039&\"*\"&D1039&\"*\"&E1039),شهر3!#REF!&\"*\"&شهر3!#REF!&\"*\"&شهر3!#REF!&\"*\"&شهر3!#REF!,0))","v":{"$error":"#REF!"}}]
[null,null,{"$f":"VLOOKUP(B1040,برقية!$A$2:$B$377,2,FALSE)","v":{"$error":"#N/A"}},null,null,{"$f":"INDEX(شهر3!#REF!,MATCH((B1040&\"*\"&G1040&\"*\"&D1040&\"*\"&E1040),شهر3!#REF!&\"*\"&شهر3!#REF!&\"*\"&شهر3!#REF!&\"*\"&شهر3!#REF!,0))","v":{"$error":"#REF!"}},null,{"$f":"INDEX(شهر3!#REF!,MATCH((B1040&\"*\"&G1040&\"*\"&D1040&\"*\"&E1040),شهر3!#REF!&\"*\"&شهر3!#REF!&\"*\"&شهر3!#REF!&\"*\"&شهر3!#REF!,0))","v":{"$error":"#REF!"}}]
[null,null,{"$f":"VLOOKUP(B1041,برقية!$A$2:$B$377,2,FALSE)","v":{"$error":"#N/A"}},null,null,{"$f":"INDEX(شهر3!#REF!,MATCH((B1041&\"*\"&G1041&\"*\"&D1041&\"*\"&E1041),شهر3!#REF!&\"*\"&شهر3!#REF!&\"*\"&شهر3!#REF!&\"*\"&شهر3!#REF!,0))","v":{"$error":"#REF!"}},null,{"$f":"INDEX(شهر3!#REF!,MATCH((B1041&\"*\"&G1041&\"*\"&D1041&\"*\"&E1041),شهر3!#REF!&\"*\"&شهر3!#REF!&\"*\"&شهر3!#REF!&\"*\"&شهر3!#REF!,0))","v":{"$error":"#REF!"}}]
[null,null,{"$f":"VLOOKUP(B1042,برقية!$A$2:$B$377,2,FALSE)","v":{"$error":"#N/A"}},null,null,{"$f":"INDEX(شهر3!#REF!,MATCH((B1042&\"*\"&G1042&\"*\"&D1042&\"*\"&E1042),شهر3!#REF!&\"*\"&شهر3!#REF!&\"*\"&شهر3!#REF!&\"*\"&شهر3!#REF!,0))","v":{"$error":"#REF!"}},null,{"$f":"INDEX(شهر3!#REF!,MATCH((B1042&\"*\"&G1042&\"*\"&D1042&\"*\"&E1042),شهر3!#REF!&\"*\"&شهر3!#REF!&\"*\"&شهر3!#REF!&\"*\"&شهر3!#REF!,0))","v":{"$error":"#REF!"}}]
[null,null,{"$f":"VLOOKUP(B1043,برقية!$A$2:$B$377,2,FALSE)","v":{"$error":"#N/A"}},null,null,{"$f":"INDEX(شهر3!#REF!,MATCH((B1043&\"*\"&G1043&\"*\"&D1043&\"*\"&E1043),شهر3!#REF!&\"*\"&شهر3!#REF!&\"*\"&شهر3!#REF!&\"*\"&شهر3!#REF!,0))","v":{"$error":"#REF!"}},null,{"$f":"INDEX(شهر3!#REF!,MATCH((B1043&\"*\"&G1043&\"*\"&D1043&\"*\"&E1043),شهر3!#REF!&\"*\"&شهر3!#REF!&\"*\"&شهر3!#REF!&\"*\"&شهر3!#REF!,0))","v":{"$error":"#REF!"}}]
[null,null,{"$f":"VLOOKUP(B1044,برقية!$A$2:$B$377,2,FALSE)","v":{"$error":"#N/A"}},null,null,{"$f":"INDEX(شهر3!#REF!,MATCH((B1044&\"*\"&G1044&\"*\"&D1044&\"*\"&E1044),شهر3!#REF!&\"*\"&شهر3!#REF!&\"*\"&شهر3!#REF!&\"*\"&شهر3!#REF!,0))","v":{"$error":"#REF!"}},null,{"$f":"INDEX(شهر3!#REF!,MATCH((B1044&\"*\"&G1044&\"*\"&D1044&\"*\"&E1044),شهر3!#REF!&\"*\"&شهر3!#REF!&\"*\"&شهر3!#REF!&\"*\"&شهر3!#REF!,0))","v":{"$error":"#REF!"}}]
[null,null,{"$f":"VLOOKUP(B1045,برقية!$A$2:$B$377,2,FALSE)","v":{"$error":"#N/A"}},null,null,{"$f":"INDEX(شهر3!#REF!,MATCH((B1045&\"*\"&G1045&\"*\"&D1045&\"*\"&E1045),شهر3!#REF!&\"*\"&شهر3!#REF!&\"*\"&شهر3!#REF!&\"*\"&شهر3!#REF!,0))","v":{"$error":"#REF!"}},null,{"$f":"INDEX(شهر3!#REF!,MATCH((B1045&\"*\"&G1045&\"*\"&D1045&\"*\"&E1045),شهر3!#REF!&\"*\"&شهر3!#REF!&\"*\"&شهر3!#REF!&\"*\"&شهر3!#REF!,0))","v":{"$error":"#REF!"}}]
[null,null,{"$f":"VLOOKUP(B1046,برقية!$A$2:$B$377,2,FALSE)","v":{"$error":"#N/A"}},null,null,{"$f":"INDEX(شهر3!#REF!,MATCH((B1046&\"*\"&G1046&\"*\"&D1046&\"*\"&E1046),شهر3!#REF!&\"*\"&شهر3!#REF!&\"*\"&شهر3!#REF!&\"*\"&شهر3!#REF!,0))","v":{"$error":"#REF!"}},null,{"$f":"INDEX(شهر3!#REF!,MATCH((B1046&\"*\"&G1046&\"*\"&D1046&\"*\"&E1046),شهر3!#REF!&\"*\"&شهر3!#REF!&\"*\"&شهر3!#REF!&\"*\"&شهر3!#REF!,0))","v":{"$error":"#REF!"}}]
[null,null,{"$f":"VLOOKUP(B1047,برقية!$A$2:$B$377,2,FALSE)","v":{"$error":"#N/A"}},null,null,{"$f":"INDEX(شهر3!#REF!,MATCH((B1047&\"*\"&G1047&\"*\"&D1047&\"*\"&E1047),شهر3!#REF!&\"*\"&شهر3!#REF!&\"*\"&شهر3!#REF!&\"*\"&شهر3!#REF!,0))","v":{"$error":"#REF!"}},null,{"$f":"INDEX(شهر3!#REF!,MATCH((B1047&\"*\"&G1047&\"*\"&D1047&\"*\"&E1047),شهر3!#REF!&\"*\"&شهر3!#REF!&\"*\"&شهر3!#REF!&\"*\"&شهر3!#REF!,0))","v":{"$error":"#REF!"}}]
[null,null,{"$f":"VLOOKUP(B1048,برقية!$A$2:$B$377,2,FALSE)","v":{"$error":"#N/A"}},null,null,{"$f":"INDEX(شهر3!#REF!,MATCH((B1048&\"*\"&G1048&\"*\"&D1048&\"*\"&E1048),شهر3!#REF!&\"*\"&شهر3!#REF!&\"*\"&شهر3!#REF!&\"*\"&شهر3!#REF!,0))","v":{"$error":"#REF!"}},null,{"$f":"INDEX(شهر3!#REF!,MATCH((B1048&\"*\"&G1048&\"*\"&D1048&\"*\"&E1048),شهر3!#REF!&\"*\"&شهر3!#REF!&\"*\"&شهر3!#REF!&\"*\"&شهر3!#REF!,0))","v":{"$error":"#REF!"}}]
[null,null,{"$f":"VLOOKUP(B1049,برقية!$A$2:$B$377,2,FALSE)","v":{"$error":"#N/A"}},null,null,{"$f":"INDEX(شهر3!#REF!,MATCH((B1049&\"*\"&G1049&\"*\"&D1049&\"*\"&E1049),شهر3!#REF!&\"*\"&شهر3!#REF!&\"*\"&شهر3!#REF!&\"*\"&شهر3!#REF!,0))","v":{"$error":"#REF!"}},null,{"$f":"INDEX(شهر3!#REF!,MATCH((B1049&\"*\"&G1049&\"*\"&D1049&\"*\"&E1049),شهر3!#REF!&\"*\"&شهر3!#REF!&\"*\"&شهر3!#REF!&\"*\"&شهر3!#REF!,0))","v":{"$error":"#REF!"}}]
[null,null,{"$f":"VLOOKUP(B1050,برقية!$A$2:$B$377,2,FALSE)","v":{"$error":"#N/A"}},null,null,{"$f":"INDEX(شهر3!#REF!,MATCH((B1050&\"*\"&G1050&\"*\"&D1050&\"*\"&E1050),شهر3!#REF!&\"*\"&شهر3!#REF!&\"*\"&شهر3!#REF!&\"*\"&شهر3!#REF!,0))","v":{"$error":"#REF!"}},null,{"$f":"INDEX(شهر3!#REF!,MATCH((B1050&\"*\"&G1050&\"*\"&D1050&\"*\"&E1050),شهر3!#REF!&\"*\"&شهر3!#REF!&\"*\"&شهر3!#REF!&\"*\"&شهر3!#REF!,0))","v":{"$error":"#REF!"}}]
[null,null,{"$f":"VLOOKUP(B1051,برقية!$A$2:$B$377,2,FALSE)","v":{"$error":"#N/A"}},null,null,{"$f":"INDEX(شهر3!#REF!,MATCH((B1051&\"*\"&G1051&\"*\"&D1051&\"*\"&E1051),شهر3!#REF!&\"*\"&شهر3!#REF!&\"*\"&شهر3!#REF!&\"*\"&شهر3!#REF!,0))","v":{"$error":"#REF!"}},null,{"$f":"INDEX(شهر3!#REF!,MATCH((B1051&\"*\"&G1051&\"*\"&D1051&\"*\"&E1051),شهر3!#REF!&\"*\"&شهر3!#REF!&\"*\"&شهر3!#REF!&\"*\"&شهر3!#REF!,0))","v":{"$error":"#REF!"}}]
[null,null,{"$f":"VLOOKUP(B1052,برقية!$A$2:$B$377,2,FALSE)","v":{"$error":"#N/A"}},null,null,{"$f":"INDEX(شهر3!#REF!,MATCH((B1052&\"*\"&G1052&\"*\"&D1052&\"*\"&E1052),شهر3!#REF!&\"*\"&شهر3!#REF!&\"*\"&شهر3!#REF!&\"*\"&شهر3!#REF!,0))","v":{"$error":"#REF!"}},null,{"$f":"INDEX(شهر3!#REF!,MATCH((B1052&\"*\"&G1052&\"*\"&D1052&\"*\"&E1052),شهر3!#REF!&\"*\"&شهر3!#REF!&\"*\"&شهر3!#REF!&\"*\"&شهر3!#REF!,0))","v":{"$error":"#REF!"}}]
[null,null,{"$f":"VLOOKUP(B1053,برقية!$A$2:$B$377,2,FALSE)","v":{"$error":"#N/A"}},null,null,{"$f":"INDEX(شهر3!#REF!,MATCH((B1053&\"*\"&G1053&\"*\"&D1053&\"*\"&E1053),شهر3!#REF!&\"*\"&شهر3!#REF!&\"*\"&شهر3!#REF!&\"*\"&شهر3!#REF!,0))","v":{"$error":"#REF!"}},null,{"$f":"INDEX(شهر3!#REF!,MATCH((B1053&\"*\"&G1053&\"*\"&D1053&\"*\"&E1053),شهر3!#REF!&\"*\"&شهر3!#REF!&\"*\"&شهر3!#REF!&\"*\"&شهر3!#REF!,0))","v":{"$error":"#REF!"}}]
[null,null,{"$f":"VLOOKUP(B1054,برقية!$A$2:$B$377,2,FALSE)","v":{"$error":"#N/A"}},null,null,{"$f":"INDEX(شهر3!#REF!,MATCH((B1054&\"*\"&G1054&\"*\"&D1054&\"*\"&E1054),شهر3!#REF!&\"*\"&شهر3!#REF!&\"*\"&شهر3!#REF!&\"*\"&شهر3!#REF!,0))","v":{"$error":"#REF!"}},null,{"$f":"INDEX(شهر3!#REF!,MATCH((B1054&\"*\"&G1054&\"*\"&D1054&\"*\"&E1054),شهر3!#REF!&\"*\"&شهر3!#REF!&\"*\"&شهر3!#REF!&\"*\"&شهر3!#REF!,0))","v":{"$error":"#REF!"}}]
[null,null,{"$f":"VLOOKUP(B1055,برقية!$A$2:$B$377,2,FALSE)","v":{"$error":"#N/A"}},null,null,{"$f":"INDEX(شهر3!#REF!,MATCH((B1055&\"*\"&G1055&\"*\"&D1055&\"*\"&E1055),شهر3!#REF!&\"*\"&شهر3!#REF!&\"*\"&شهر3!#REF!&\"*\"&شهر3!#REF!,0))","v":{"$error":"#REF!"}},null,{"$f":"INDEX(شهر3!#REF!,MATCH((B1055&\"*\"&G1055&\"*\"&D1055&\"*\"&E1055),شهر3!#REF!&\"*\"&شهر3!#REF!&\"*\"&شهر3!#REF!&\"*\"&شهر3!#REF!,0))","v":{"$error":"#REF!"}}]
[null,null,{"$f":"VLOOKUP(B1056,برقية!$A$2:$B$377,2,FALSE)","v":{"$error":"#N/A"}},null,null,{"$f":"INDEX(شهر3!#REF!,MATCH((B1056&\"*\"&G1056&\"*\"&D1056&\"*\"&E1056),شهر3!#REF!&\"*\"&شهر3!#REF!&\"*\"&شهر3!#REF!&\"*\"&شهر3!#REF!,0))","v":{"$error":"#REF!"}},null,{"$f":"INDEX(شهر3!#REF!,MATCH((B1056&\"*\"&G1056&\"*\"&D1056&\"*\"&E1056),شهر3!#REF!&\"*\"&شهر3!#REF!&\"*\"&شهر3!#REF!&\"*\"&شهر3!#REF!,0))","v":{"$error":"#REF!"}}]
[null,null,{"$f":"VLOOKUP(B1057,برقية!$A$2:$B$377,2,FALSE)","v":{"$error":"#N/A"}},null,null,{"$f":"INDEX(شهر3!#REF!,MATCH((B1057&\"*\"&G1057&\"*\"&D1057&\"*\"&E1057),شهر3!#REF!&\"*\"&شهر3!#REF!&\"*\"&شهر3!#REF!&\"*\"&شهر3!#REF!,0))","v":{"$error":"#REF!"}},null,{"$f":"INDEX(شهر3!#REF!,MATCH((B1057&\"*\"&G1057&\"*\"&D1057&\"*\"&E1057),شهر3!#REF!&\"*\"&شهر3!#REF!&\"*\"&شهر3!#REF!&\"*\"&شهر3!#REF!,0))","v":{"$error":"#REF!"}}]
[null,null,{"$f":"VLOOKUP(B1058,برقية!$A$2:$B$377,2,FALSE)","v":{"$error":"#N/A"}},null,null,{"$f":"INDEX(شهر3!#REF!,MATCH((B1058&\"*\"&G1058&\"*\"&D1058&\"*\"&E1058),شهر3!#REF!&\"*\"&شهر3!#REF!&\"*\"&شهر3!#REF!&\"*\"&شهر3!#REF!,0))","v":{"$error":"#REF!"}},null,{"$f":"INDEX(شهر3!#REF!,MATCH((B1058&\"*\"&G1058&\"*\"&D1058&\"*\"&E1058),شهر3!#REF!&\"*\"&شهر3!#REF!&\"*\"&شهر3!#REF!&\"*\"&شهر3!#REF!,0))","v":{"$error":"#REF!"}}]
[null,null,{"$f":"VLOOKUP(B1059,برقية!$A$2:$B$377,2,FALSE)","v":{"$error":"#N/A"}},null,null,{"$f":"INDEX(شهر3!#REF!,MATCH((B1059&\"*\"&G1059&\"*\"&D1059&\"*\"&E1059),شهر3!#REF!&\"*\"&شهر3!#REF!&\"*\"&شهر3!#REF!&\"*\"&شهر3!#REF!,0))","v":{"$error":"#REF!"}},null,{"$f":"INDEX(شهر3!#REF!,MATCH((B1059&\"*\"&G1059&\"*\"&D1059&\"*\"&E1059),شهر3!#REF!&\"*\"&شهر3!#REF!&\"*\"&شهر3!#REF!&\"*\"&شهر3!#REF!,0))","v":{"$error":"#REF!"}}]
[null,null,{"$f":"VLOOKUP(B1060,برقية!$A$2:$B$377,2,FALSE)","v":{"$error":"#N/A"}},null,null,{"$f":"INDEX(شهر3!#REF!,MATCH((B1060&\"*\"&G1060&\"*\"&D1060&\"*\"&E1060),شهر3!#REF!&\"*\"&شهر3!#REF!&\"*\"&شهر3!#REF!&\"*\"&شهر3!#REF!,0))","v":{"$error":"#REF!"}},null,{"$f":"INDEX(شهر3!#REF!,MATCH((B1060&\"*\"&G1060&\"*\"&D1060&\"*\"&E1060),شهر3!#REF!&\"*\"&شهر3!#REF!&\"*\"&شهر3!#REF!&\"*\"&شهر3!#REF!,0))","v":{"$error":"#REF!"}}]
[null,null,{"$f":"VLOOKUP(B1061,برقية!$A$2:$B$377,2,FALSE)","v":{"$error":"#N/A"}},null,null,{"$f":"INDEX(شهر3!#REF!,MATCH((B1061&\"*\"&G1061&\"*\"&D1061&\"*\"&E1061),شهر3!#REF!&\"*\"&شهر3!#REF!&\"*\"&شهر3!#REF!&\"*\"&شهر3!#REF!,0))","v":{"$error":"#REF!"}},null,{"$f":"INDEX(شهر3!#REF!,MATCH((B1061&\"*\"&G1061&\"*\"&D1061&\"*\"&E1061),شهر3!#REF!&\"*\"&شهر3!#REF!&\"*\"&شهر3!#REF!&\"*\"&شهر3!#REF!,0))","v":{"$error":"#REF!"}}]
[null,null,{"$f":"VLOOKUP(B1062,برقية!$A$2:$B$377,2,FALSE)","v":{"$error":"#N/A"}},null,null,{"$f":"INDEX(شهر3!#REF!,MATCH((B1062&\"*\"&G1062&\"*\"&D1062&\"*\"&E1062),شهر3!#REF!&\"*\"&شهر3!#REF!&\"*\"&شهر3!#REF!&\"*\"&شهر3!#REF!,0))","v":{"$error":"#REF!"}},null,{"$f":"INDEX(شهر3!#REF!,MATCH((B1062&\"*\"&G1062&\"*\"&D1062&\"*\"&E1062),شهر3!#REF!&\"*\"&شهر3!#REF!&\"*\"&شهر3!#REF!&\"*\"&شهر3!#REF!,0))","v":{"$error":"#REF!"}}]
[null,null,{"$f":"VLOOKUP(B1063,برقية!$A$2:$B$377,2,FALSE)","v":{"$error":"#N/A"}},null,null,{"$f":"INDEX(شهر3!#REF!,MATCH((B1063&\"*\"&G1063&\"*\"&D1063&\"*\"&E1063),شهر3!#REF!&\"*\"&شهر3!#REF!&\"*\"&شهر3!#REF!&\"*\"&شهر3!#REF!,0))","v":{"$error":"#REF!"}},null,{"$f":"INDEX(شهر3!#REF!,MATCH((B1063&\"*\"&G1063&\"*\"&D1063&\"*\"&E1063),شهر3!#REF!&\"*\"&شهر3!#REF!&\"*\"&شهر3!#REF!&\"*\"&شهر3!#REF!,0))","v":{"$error":"#REF!"}}]
[null,null,{"$f":"VLOOKUP(B1064,برقية!$A$2:$B$377,2,FALSE)","v":{"$error":"#N/A"}},null,null,{"$f":"INDEX(شهر3!#REF!,MATCH((B1064&\"*\"&G1064&\"*\"&D1064&\"*\"&E1064),شهر3!#REF!&\"*\"&شهر3!#REF!&\"*\"&شهر3!#REF!&\"*\"&شهر3!#REF!,0))","v":{"$error":"#REF!"}},null,{"$f":"INDEX(شهر3!#REF!,MATCH((B1064&\"*\"&G1064&\"*\"&D1064&\"*\"&E1064),شهر3!#REF!&\"*\"&شهر3!#REF!&\"*\"&شهر3!#REF!&\"*\"&شهر3!#REF!,0))","v":{"$error":"#REF!"}}]
[null,null,{"$f":"VLOOKUP(B1065,برقية!$A$2:$B$377,2,FALSE)","v":{"$error":"#N/A"}},null,null,{"$f":"INDEX(شهر3!#REF!,MATCH((B1065&\"*\"&G1065&\"*\"&D1065&\"*\"&E1065),شهر3!#REF!&\"*\"&شهر3!#REF!&\"*\"&شهر3!#REF!&\"*\"&شهر3!#REF!,0))","v":{"$error":"#REF!"}},null,{"$f":"INDEX(شهر3!#REF!,MATCH((B1065&\"*\"&G1065&\"*\"&D1065&\"*\"&E1065),شهر3!#REF!&\"*\"&شهر3!#REF!&\"*\"&شهر3!#REF!&\"*\"&شهر3!#REF!,0))","v":{"$error":"#REF!"}}]
[null,null,{"$f":"VLOOKUP(B1066,برقية!$A$2:$B$377,2,FALSE)","v":{"$error":"#N/A"}},null,null,{"$f":"INDEX(شهر3!#REF!,MATCH((B1066&\"*\"&G1066&\"*\"&D1066&\"*\"&E1066),شهر3!#REF!&\"*\"&شهر3!#REF!&\"*\"&شهر3!#REF!&\"*\"&شهر3!#REF!,0))","v":{"$error":"#REF!"}},null,{"$f":"INDEX(شهر3!#REF!,MATCH((B1066&\"*\"&G1066&\"*\"&D1066&\"*\"&E1066),شهر3!#REF!&\"*\"&شهر3!#REF!&\"*\"&شهر3!#REF!&\"*\"&شهر3!#REF!,0))","v":{"$error":"#REF!"}}]
[null,null,{"$f":"VLOOKUP(B1067,برقية!$A$2:$B$377,2,FALSE)","v":{"$error":"#N/A"}},null,null,{"$f":"INDEX(شهر3!#REF!,MATCH((B1067&\"*\"&G1067&\"*\"&D1067&\"*\"&E1067),شهر3!#REF!&\"*\"&شهر3!#REF!&\"*\"&شهر3!#REF!&\"*\"&شهر3!#REF!,0))","v":{"$error":"#REF!"}},null,{"$f":"INDEX(شهر3!#REF!,MATCH((B1067&\"*\"&G1067&\"*\"&D1067&\"*\"&E1067),شهر3!#REF!&\"*\"&شهر3!#REF!&\"*\"&شهر3!#REF!&\"*\"&شهر3!#REF!,0))","v":{"$error":"#REF!"}}]
[null,null,{"$f":"VLOOKUP(B1068,برقية!$A$2:$B$377,2,FALSE)","v":{"$error":"#N/A"}},null,null,{"$f":"INDEX(شهر3!#REF!,MATCH((B1068&\"*\"&G1068&\"*\"&D1068&\"*\"&E1068),شهر3!#REF!&\"*\"&شهر3!#REF!&\"*\"&شهر3!#REF!&\"*\"&شهر3!#REF!,0))","v":{"$error":"#REF!"}},null,{"$f":"INDEX(شهر3!#REF!,MATCH((B1068&\"*\"&G1068&\"*\"&D1068&\"*\"&E1068),شهر3!#REF!&\"*\"&شهر3!#REF!&\"*\"&شهر3!#REF!&\"*\"&شهر3!#REF!,0))","v":{"$error":"#REF!"}}]
[null,null,{"$f":"VLOOKUP(B1069,برقية!$A$2:$B$377,2,FALSE)","v":{"$error":"#N/A"}},null,null,{"$f":"INDEX(شهر3!#REF!,MATCH((B1069&\"*\"&G1069&\"*\"&D1069&\"*\"&E1069),شهر3!#REF!&\"*\"&شهر3!#REF!&\"*\"&شهر3!#REF!&\"*\"&شهر3!#REF!,0))","v":{"$error":"#REF!"}},null,{"$f":"INDEX(شهر3!#REF!,MATCH((B1069&\"*\"&G1069&\"*\"&D1069&\"*\"&E1069),شهر3!#REF!&\"*\"&شهر3!#REF!&\"*\"&شهر3!#REF!&\"*\"&شهر3!#REF!,0))","v":{"$error":"#REF!"}}]
[null,null,{"$f":"VLOOKUP(B1070,برقية!$A$2:$B$377,2,FALSE)","v":{"$error":"#N/A"}},null,null,{"$f":"INDEX(شهر3!#REF!,MATCH((B1070&\"*\"&G1070&\"*\"&D1070&\"*\"&E1070),شهر3!#REF!&\"*\"&شهر3!#REF!&\"*\"&شهر3!#REF!&\"*\"&شهر3!#REF!,0))","v":{"$error":"#REF!"}},null,{"$f":"INDEX(شهر3!#REF!,MATCH((B1070&\"*\"&G1070&\"*\"&D1070&\"*\"&E1070),شهر3!#REF!&\"*\"&شهر3!#REF!&\"*\"&شهر3!#REF!&\"*\"&شهر3!#REF!,0))","v":{"$error":"#REF!"}}]
[null,null,{"$f":"VLOOKUP(B1071,برقية!$A$2:$B$377,2,FALSE)","v":{"$error":"#N/A"}},null,null,{"$f":"INDEX(شهر3!#REF!,MATCH((B1071&\"*\"&G1071&\"*\"&D1071&\"*\"&E1071),شهر3!#REF!&\"*\"&شهر3!#REF!&\"*\"&شهر3!#REF!&\"*\"&شهر3!#REF!,0))","v":{"$error":"#REF!"}},null,{"$f":"INDEX(شهر3!#REF!,MATCH((B1071&\"*\"&G1071&\"*\"&D1071&\"*\"&E1071),شهر3!#REF!&\"*\"&شهر3!#REF!&\"*\"&شهر3!#REF!&\"*\"&شهر3!#REF!,0))","v":{"$error":"#REF!"}}]
[null,null,{"$f":"VLOOKUP(B1072,برقية!$A$2:$B$377,2,FALSE)","v":{"$error":"#N/A"}},null,null,{"$f":"INDEX(شهر3!#REF!,MATCH((B1072&\"*\"&G1072&\"*\"&D1072&\"*\"&E1072),شهر3!#REF!&\"*\"&شهر3!#REF!&\"*\"&شهر3!#REF!&\"*\"&شهر3!#REF!,0))","v":{"$error":"#REF!"}},null,{"$f":"INDEX(شهر3!#REF!,MATCH((B1072&\"*\"&G1072&\"*\"&D1072&\"*\"&E1072),شهر3!#REF!&\"*\"&شهر3!#REF!&\"*\"&شهر3!#REF!&\"*\"&شهر3!#REF!,0))","v":{"$error":"#REF!"}}]
[null,null,{"$f":"VLOOKUP(B1073,برقية!$A$2:$B$377,2,FALSE)","v":{"$error":"#N/A"}},null,null,{"$f":"INDEX(شهر3!#REF!,MATCH((B1073&\"*\"&G1073&\"*\"&D1073&\"*\"&E1073),شهر3!#REF!&\"*\"&شهر3!#REF!&\"*\"&شهر3!#REF!&\"*\"&شهر3!#REF!,0))","v":{"$error":"#REF!"}},null,{"$f":"INDEX(شهر3!#REF!,MATCH((B1073&\"*\"&G1073&\"*\"&D1073&\"*\"&E1073),شهر3!#REF!&\"*\"&شهر3!#REF!&\"*\"&شهر3!#REF!&\"*\"&شهر3!#REF!,0))","v":{"$error":"#REF!"}}]
[null,null,{"$f":"VLOOKUP(B1074,برقية!$A$2:$B$377,2,FALSE)","v":{"$error":"#N/A"}},null,null,{"$f":"INDEX(شهر3!#REF!,MATCH((B1074&\"*\"&G1074&\"*\"&D1074&\"*\"&E1074),شهر3!#REF!&\"*\"&شهر3!#REF!&\"*\"&شهر3!#REF!&\"*\"&شهر3!#REF!,0))","v":{"$error":"#REF!"}},null,{"$f":"INDEX(شهر3!#REF!,MATCH((B1074&\"*\"&G1074&\"*\"&D1074&\"*\"&E1074),شهر3!#REF!&\"*\"&شهر3!#REF!&\"*\"&شهر3!#REF!&\"*\"&شهر3!#REF!,0))","v":{"$error":"#REF!"}}]
[null,null,{"$f":"VLOOKUP(B1075,برقية!$A$2:$B$377,2,FALSE)","v":{"$error":"#N/A"}},null,null,{"$f":"INDEX(شهر3!#REF!,MATCH((B1075&\"*\"&G1075&\"*\"&D1075&\"*\"&E1075),شهر3!#REF!&\"*\"&شهر3!#REF!&\"*\"&شهر3!#REF!&\"*\"&شهر3!#REF!,0))","v":{"$error":"#REF!"}},null,{"$f":"INDEX(شهر3!#REF!,MATCH((B1075&\"*\"&G1075&\"*\"&D1075&\"*\"&E1075),شهر3!#REF!&\"*\"&شهر3!#REF!&\"*\"&شهر3!#REF!&\"*\"&شهر3!#REF!,0))","v":{"$error":"#REF!"}}]
[null,null,{"$f":"VLOOKUP(B1076,برقية!$A$2:$B$377,2,FALSE)","v":{"$error":"#N/A"}},null,null,{"$f":"INDEX(شهر3!#REF!,MATCH((B1076&\"*\"&G1076&\"*\"&D1076&\"*\"&E1076),شهر3!#REF!&\"*\"&شهر3!#REF!&\"*\"&شهر3!#REF!&\"*\"&شهر3!#REF!,0))","v":{"$error":"#REF!"}},null,{"$f":"INDEX(شهر3!#REF!,MATCH((B1076&\"*\"&G1076&\"*\"&D1076&\"*\"&E1076),شهر3!#REF!&\"*\"&شهر3!#REF!&\"*\"&شهر3!#REF!&\"*\"&شهر3!#REF!,0))","v":{"$error":"#REF!"}}]
[null,null,{"$f":"VLOOKUP(B1077,برقية!$A$2:$B$377,2,FALSE)","v":{"$error":"#N/A"}},null,null,{"$f":"INDEX(شهر3!#REF!,MATCH((B1077&\"*\"&G1077&\"*\"&D1077&\"*\"&E1077),شهر3!#REF!&\"*\"&شهر3!#REF!&\"*\"&شهر3!#REF!&\"*\"&شهر3!#REF!,0))","v":{"$error":"#REF!"}},null,{"$f":"INDEX(شهر3!#REF!,MATCH((B1077&\"*\"&G1077&\"*\"&D1077&\"*\"&E1077),شهر3!#REF!&\"*\"&شهر3!#REF!&\"*\"&شهر3!#REF!&\"*\"&شهر3!#REF!,0))","v":{"$error":"#REF!"}}]
[null,null,{"$f":"VLOOKUP(B1078,برقية!$A$2:$B$377,2,FALSE)","v":{"$error":"#N/A"}},null,null,{"$f":"INDEX(شهر3!#REF!,MATCH((B1078&\"*\"&G1078&\"*\"&D1078&\"*\"&E1078),شهر3!#REF!&\"*\"&شهر3!#REF!&\"*\"&شهر3!#REF!&\"*\"&شهر3!#REF!,0))","v":{"$error":"#REF!"}},null,{"$f":"INDEX(شهر3!#REF!,MATCH((B1078&\"*\"&G1078&\"*\"&D1078&\"*\"&E1078),شهر3!#REF!&\"*\"&شهر3!#REF!&\"*\"&شهر3!#REF!&\"*\"&شهر3!#REF!,0))","v":{"$error":"#REF!"}}]
[null,null,{"$f":"VLOOKUP(B1079,برقية!$A$2:$B$377,2,FALSE)","v":{"$error":"#N/A"}},null,null,{"$f":"INDEX(شهر3!#REF!,MATCH((B1079&\"*\"&G1079&\"*\"&D1079&\"*\"&E1079),شهر3!#REF!&\"*\"&شهر3!#REF!&\"*\"&شهر3!#REF!&\"*\"&شهر3!#REF!,0))","v":{"$error":"#REF!"}},null,{"$f":"INDEX(شهر3!#REF!,MATCH((B1079&\"*\"&G1079&\"*\"&D1079&\"*\"&E1079),شهر3!#REF!&\"*\"&شهر3!#REF!&\"*\"&شهر3!#REF!&\"*\"&شهر3!#REF!,0))","v":{"$error":"#REF!"}}]
[null,null,{"$f":"VLOOKUP(B1080,برقية!$A$2:$B$377,2,FALSE)","v":{"$error":"#N/A"}},null,null,{"$f":"INDEX(شهر3!#REF!,MATCH((B1080&\"*\"&G1080&\"*\"&D1080&\"*\"&E1080),شهر3!#REF!&\"*\"&شهر3!#REF!&\"*\"&شهر3!#REF!&\"*\"&شهر3!#REF!,0))","v":{"$error":"#REF!"}},null,{"$f":"INDEX(شهر3!#REF!,MATCH((B1080&\"*\"&G1080&\"*\"&D1080&\"*\"&E1080),شهر3!#REF!&\"*\"&شهر3!#REF!&\"*\"&شهر3!#REF!&\"*\"&شهر3!#REF!,0))","v":{"$error":"#REF!"}}]
[null,null,{"$f":"VLOOKUP(B1081,برقية!$A$2:$B$377,2,FALSE)","v":{"$error":"#N/A"}},null,null,{"$f":"INDEX(شهر3!#REF!,MATCH((B1081&\"*\"&G1081&\"*\"&D1081&\"*\"&E1081),شهر3!#REF!&\"*\"&شهر3!#REF!&\"*\"&شهر3!#REF!&\"*\"&شهر3!#REF!,0))","v":{"$error":"#REF!"}},null,{"$f":"INDEX(شهر3!#REF!,MATCH((B1081&\"*\"&G1081&\"*\"&D1081&\"*\"&E1081),شهر3!#REF!&\"*\"&شهر3!#REF!&\"*\"&شهر3!#REF!&\"*\"&شهر3!#REF!,0))","v":{"$error":"#REF!"}}]
[null,null,{"$f":"VLOOKUP(B1082,برقية!$A$2:$B$377,2,FALSE)","v":{"$error":"#N/A"}},null,null,{"$f":"INDEX(شهر3!#REF!,MATCH((B1082&\"*\"&G1082&\"*\"&D1082&\"*\"&E1082),شهر3!#REF!&\"*\"&شهر3!#REF!&\"*\"&شهر3!#REF!&\"*\"&شهر3!#REF!,0))","v":{"$error":"#REF!"}},null,{"$f":"INDEX(شهر3!#REF!,MATCH((B1082&\"*\"&G1082&\"*\"&D1082&\"*\"&E1082),شهر3!#REF!&\"*\"&شهر3!#REF!&\"*\"&شهر3!#REF!&\"*\"&شهر3!#REF!,0))","v":{"$error":"#REF!"}}]
[null,null,{"$f":"VLOOKUP(B1083,برقية!$A$2:$B$377,2,FALSE)","v":{"$error":"#N/A"}},null,null,{"$f":"INDEX(شهر3!#REF!,MATCH((B1083&\"*\"&G1083&\"*\"&D1083&\"*\"&E1083),شهر3!#REF!&\"*\"&شهر3!#REF!&\"*\"&شهر3!#REF!&\"*\"&شهر3!#REF!,0))","v":{"$error":"#REF!"}},null,{"$f":"INDEX(شهر3!#REF!,MATCH((B1083&\"*\"&G1083&\"*\"&D1083&\"*\"&E1083),شهر3!#REF!&\"*\"&شهر3!#REF!&\"*\"&شهر3!#REF!&\"*\"&شهر3!#REF!,0))","v":{"$error":"#REF!"}}]
[null,null,{"$f":"VLOOKUP(B1084,برقية!$A$2:$B$377,2,FALSE)","v":{"$error":"#N/A"}},null,null,{"$f":"INDEX(شهر3!#REF!,MATCH((B1084&\"*\"&G1084&\"*\"&D1084&\"*\"&E1084),شهر3!#REF!&\"*\"&شهر3!#REF!&\"*\"&شهر3!#REF!&\"*\"&شهر3!#REF!,0))","v":{"$error":"#REF!"}},null,{"$f":"INDEX(شهر3!#REF!,MATCH((B1084&\"*\"&G1084&\"*\"&D1084&\"*\"&E1084),شهر3!#REF!&\"*\"&شهر3!#REF!&\"*\"&شهر3!#REF!&\"*\"&شهر3!#REF!,0))","v":{"$error":"#REF!"}}]
[null,null,{"$f":"VLOOKUP(B1085,برقية!$A$2:$B$377,2,FALSE)","v":{"$error":"#N/A"}},null,null,{"$f":"INDEX(شهر3!#REF!,MATCH((B1085&\"*\"&G1085&\"*\"&D1085&\"*\"&E1085),شهر3!#REF!&\"*\"&شهر3!#REF!&\"*\"&شهر3!#REF!&\"*\"&شهر3!#REF!,0))","v":{"$error":"#REF!"}},null,{"$f":"INDEX(شهر3!#REF!,MATCH((B1085&\"*\"&G1085&\"*\"&D1085&\"*\"&E1085),شهر3!#REF!&\"*\"&شهر3!#REF!&\"*\"&شهر3!#REF!&\"*\"&شهر3!#REF!,0))","v":{"$error":"#REF!"}}]
[null,null,{"$f":"VLOOKUP(B1086,برقية!$A$2:$B$377,2,FALSE)","v":{"$error":"#N/A"}},null,null,{"$f":"INDEX(شهر3!#REF!,MATCH((B1086&\"*\"&G1086&\"*\"&D1086&\"*\"&E1086),شهر3!#REF!&\"*\"&شهر3!#REF!&\"*\"&شهر3!#REF!&\"*\"&شهر3!#REF!,0))","v":{"$error":"#REF!"}},null,{"$f":"INDEX(شهر3!#REF!,MATCH((B1086&\"*\"&G1086&\"*\"&D1086&\"*\"&E1086),شهر3!#REF!&\"*\"&شهر3!#REF!&\"*\"&شهر3!#REF!&\"*\"&شهر3!#REF!,0))","v":{"$error":"#REF!"}}]
[null,null,{"$f":"VLOOKUP(B1087,برقية!$A$2:$B$377,2,FALSE)","v":{"$error":"#N/A"}},null,null,{"$f":"INDEX(شهر3!#REF!,MATCH((B1087&\"*\"&G1087&\"*\"&D1087&\"*\"&E1087),شهر3!#REF!&\"*\"&شهر3!#REF!&\"*\"&شهر3!#REF!&\"*\"&شهر3!#REF!,0))","v":{"$error":"#REF!"}},null,{"$f":"INDEX(شهر3!#REF!,MATCH((B1087&\"*\"&G1087&\"*\"&D1087&\"*\"&E1087),شهر3!#REF!&\"*\"&شهر3!#REF!&\"*\"&شهر3!#REF!&\"*\"&شهر3!#REF!,0))","v":{"$error":"#REF!"}}]
[null,null,{"$f":"VLOOKUP(B1088,برقية!$A$2:$B$377,2,FALSE)","v":{"$error":"#N/A"}},null,null,{"$f":"INDEX(شهر3!#REF!,MATCH((B1088&\"*\"&G1088&\"*\"&D1088&\"*\"&E1088),شهر3!#REF!&\"*\"&شهر3!#REF!&\"*\"&شهر3!#REF!&\"*\"&شهر3!#REF!,0))","v":{"$error":"#REF!"}},null,{"$f":"INDEX(شهر3!#REF!,MATCH((B1088&\"*\"&G1088&\"*\"&D1088&\"*\"&E1088),شهر3!#REF!&\"*\"&شهر3!#REF!&\"*\"&شهر3!#REF!&\"*\"&شهر3!#REF!,0))","v":{"$error":"#REF!"}}]
[null,null,{"$f":"VLOOKUP(B1089,برقية!$A$2:$B$377,2,FALSE)","v":{"$error":"#N/A"}},null,null,{"$f":"INDEX(شهر3!#REF!,MATCH((B1089&\"*\"&G1089&\"*\"&D1089&\"*\"&E1089),شهر3!#REF!&\"*\"&شهر3!#REF!&\"*\"&شهر3!#REF!&\"*\"&شهر3!#REF!,0))","v":{"$error":"#REF!"}},null,{"$f":"INDEX(شهر3!#REF!,MATCH((B1089&\"*\"&G1089&\"*\"&D1089&\"*\"&E1089),شهر3!#REF!&\"*\"&شهر3!#REF!&\"*\"&شهر3!#REF!&\"*\"&شهر3!#REF!,0))","v":{"$error":"#REF!"}}]
[null,null,{"$f":"VLOOKUP(B1090,برقية!$A$2:$B$377,2,FALSE)","v":{"$error":"#N/A"}},null,null,{"$f":"INDEX(شهر3!#REF!,MATCH((B1090&\"*\"&G1090&\"*\"&D1090&\"*\"&E1090),شهر3!#REF!&\"*\"&شهر3!#REF!&\"*\"&شهر3!#REF!&\"*\"&شهر3!#REF!,0))","v":{"$error":"#REF!"}},null,{"$f":"INDEX(شهر3!#REF!,MATCH((B1090&\"*\"&G1090&\"*\"&D1090&\"*\"&E1090),شهر3!#REF!&\"*\"&شهر3!#REF!&\"*\"&شهر3!#REF!&\"*\"&شهر3!#REF!,0))","v":{"$error":"#REF!"}}]
[null,null,{"$f":"VLOOKUP(B1091,برقية!$A$2:$B$377,2,FALSE)","v":{"$error":"#N/A"}},null,null,{"$f":"INDEX(شهر3!#REF!,MATCH((B1091&\"*\"&G1091&\"*\"&D1091&\"*\"&E1091),شهر3!#REF!&\"*\"&شهر3!#REF!&\"*\"&شهر3!#REF!&\"*\"&شهر3!#REF!,0))","v":{"$error":"#REF!"}},null,{"$f":"INDEX(شهر3!#REF!,MATCH((B1091&\"*\"&G1091&\"*\"&D1091&\"*\"&E1091),شهر3!#REF!&\"*\"&شهر3!#REF!&\"*\"&شهر3!#REF!&\"*\"&شهر3!#REF!,0))","v":{"$error":"#REF!"}}]
[null,null,{"$f":"VLOOKUP(B1092,برقية!$A$2:$B$377,2,FALSE)","v":{"$error":"#N/A"}},null,null,{"$f":"INDEX(شهر3!#REF!,MATCH((B1092&\"*\"&G1092&\"*\"&D1092&\"*\"&E1092),شهر3!#REF!&\"*\"&شهر3!#REF!&\"*\"&شهر3!#REF!&\"*\"&شهر3!#REF!,0))","v":{"$error":"#REF!"}},null,{"$f":"INDEX(شهر3!#REF!,MATCH((B1092&\"*\"&G1092&\"*\"&D1092&\"*\"&E1092),شهر3!#REF!&\"*\"&شهر3!#REF!&\"*\"&شهر3!#REF!&\"*\"&شهر3!#REF!,0))","v":{"$error":"#REF!"}}]
[null,null,{"$f":"VLOOKUP(B1093,برقية!$A$2:$B$377,2,FALSE)","v":{"$error":"#N/A"}},null,null,{"$f":"INDEX(شهر3!#REF!,MATCH((B1093&\"*\"&G1093&\"*\"&D1093&\"*\"&E1093),شهر3!#REF!&\"*\"&شهر3!#REF!&\"*\"&شهر3!#REF!&\"*\"&شهر3!#REF!,0))","v":{"$error":"#REF!"}},null,{"$f":"INDEX(شهر3!#REF!,MATCH((B1093&\"*\"&G1093&\"*\"&D1093&\"*\"&E1093),شهر3!#REF!&\"*\"&شهر3!#REF!&\"*\"&شهر3!#REF!&\"*\"&شهر3!#REF!,0))","v":{"$error":"#REF!"}}]
[null,null,{"$f":"VLOOKUP(B1094,برقية!$A$2:$B$377,2,FALSE)","v":{"$error":"#N/A"}},null,null,{"$f":"INDEX(شهر3!#REF!,MATCH((B1094&\"*\"&G1094&\"*\"&D1094&\"*\"&E1094),شهر3!#REF!&\"*\"&شهر3!#REF!&\"*\"&شهر3!#REF!&\"*\"&شهر3!#REF!,0))","v":{"$error":"#REF!"}},null,{"$f":"INDEX(شهر3!#REF!,MATCH((B1094&\"*\"&G1094&\"*\"&D1094&\"*\"&E1094),شهر3!#REF!&\"*\"&شهر3!#REF!&\"*\"&شهر3!#REF!&\"*\"&شهر3!#REF!,0))","v":{"$error":"#REF!"}}]
[null,null,{"$f":"VLOOKUP(B1095,برقية!$A$2:$B$377,2,FALSE)","v":{"$error":"#N/A"}},null,null,{"$f":"INDEX(شهر3!#REF!,MATCH((B1095&\"*\"&G1095&\"*\"&D1095&\"*\"&E1095),شهر3!#REF!&\"*\"&شهر3!#REF!&\"*\"&شهر3!#REF!&\"*\"&شهر3!#REF!,0))","v":{"$error":"#REF!"}},null,{"$f":"INDEX(شهر3!#REF!,MATCH((B1095&\"*\"&G1095&\"*\"&D1095&\"*\"&E1095),شهر3!#REF!&\"*\"&شهر3!#REF!&\"*\"&شهر3!#REF!&\"*\"&شهر3!#REF!,0))","v":{"$error":"#REF!"}}]
[null,null,{"$f":"VLOOKUP(B1096,برقية!$A$2:$B$377,2,FALSE)","v":{"$error":"#N/A"}},null,null,{"$f":"INDEX(شهر3!#REF!,MATCH((B1096&\"*\"&G1096&\"*\"&D1096&\"*\"&E1096),شهر3!#REF!&\"*\"&شهر3!#REF!&\"*\"&شهر3!#REF!&\"*\"&شهر3!#REF!,0))","v":{"$error":"#REF!"}},null,{"$f":"INDEX(شهر3!#REF!,MATCH((B1096&\"*\"&G1096&\"*\"&D1096&\"*\"&E1096),شهر3!#REF!&\"*\"&شهر3!#REF!&\"*\"&شهر3!#REF!&\"*\"&شهر3!#REF!,0))","v":{"$error":"#REF!"}}]
[null,null,{"$f":"VLOOKUP(B1097,برقية!$A$2:$B$377,2,FALSE)","v":{"$error":"#N/A"}},null,null,{"$f":"INDEX(شهر3!#REF!,MATCH((B1097&\"*\"&G1097&\"*\"&D1097&\"*\"&E1097),شهر3!#REF!&\"*\"&شهر3!#REF!&\"*\"&شهر3!#REF!&\"*\"&شهر3!#REF!,0))","v":{"$error":"#REF!"}},null,{"$f":"INDEX(شهر3!#REF!,MATCH((B1097&\"*\"&G1097&\"*\"&D1097&\"*\"&E1097),شهر3!#REF!&\"*\"&شهر3!#REF!&\"*\"&شهر3!#REF!&\"*\"&شهر3!#REF!,0))","v":{"$error":"#REF!"}}]
[null,null,{"$f":"VLOOKUP(B1098,برقية!$A$2:$B$377,2,FALSE)","v":{"$error":"#N/A"}},null,null,{"$f":"INDEX(شهر3!#REF!,MATCH((B1098&\"*\"&G1098&\"*\"&D1098&\"*\"&E1098),شهر3!#REF!&\"*\"&شهر3!#REF!&\"*\"&شهر3!#REF!&\"*\"&شهر3!#REF!,0))","v":{"$error":"#REF!"}},null,{"$f":"INDEX(شهر3!#REF!,MATCH((B1098&\"*\"&G1098&\"*\"&D1098&\"*\"&E1098),شهر3!#REF!&\"*\"&شهر3!#REF!&\"*\"&شهر3!#REF!&\"*\"&شهر3!#REF!,0))","v":{"$error":"#REF!"}}]
[null,null,{"$f":"VLOOKUP(B1099,برقية!$A$2:$B$377,2,FALSE)","v":{"$error":"#N/A"}},null,null,{"$f":"INDEX(شهر3!#REF!,MATCH((B1099&\"*\"&G1099&\"*\"&D1099&\"*\"&E1099),شهر3!#REF!&\"*\"&شهر3!#REF!&\"*\"&شهر3!#REF!&\"*\"&شهر3!#REF!,0))","v":{"$error":"#REF!"}},null,{"$f":"INDEX(شهر3!#REF!,MATCH((B1099&\"*\"&G1099&\"*\"&D1099&\"*\"&E1099),شهر3!#REF!&\"*\"&شهر3!#REF!&\"*\"&شهر3!#REF!&\"*\"&شهر3!#REF!,0))","v":{"$error":"#REF!"}}]
[null,null,{"$f":"VLOOKUP(B1100,برقية!$A$2:$B$377,2,FALSE)","v":{"$error":"#N/A"}},null,null,{"$f":"INDEX(شهر3!#REF!,MATCH((B1100&\"*\"&G1100&\"*\"&D1100&\"*\"&E1100),شهر3!#REF!&\"*\"&شهر3!#REF!&\"*\"&شهر3!#REF!&\"*\"&شهر3!#REF!,0))","v":{"$error":"#REF!"}},null,{"$f":"INDEX(شهر3!#REF!,MATCH((B1100&\"*\"&G1100&\"*\"&D1100&\"*\"&E1100),شهر3!#REF!&\"*\"&شهر3!#REF!&\"*\"&شهر3!#REF!&\"*\"&شهر3!#REF!,0))","v":{"$error":"#REF!"}}]
[null,null,{"$f":"VLOOKUP(B1101,برقية!$A$2:$B$377,2,FALSE)","v":{"$error":"#N/A"}},null,null,{"$f":"INDEX(شهر3!#REF!,MATCH((B1101&\"*\"&G1101&\"*\"&D1101&\"*\"&E1101),شهر3!#REF!&\"*\"&شهر3!#REF!&\"*\"&شهر3!#REF!&\"*\"&شهر3!#REF!,0))","v":{"$error":"#REF!"}},null,{"$f":"INDEX(شهر3!#REF!,MATCH((B1101&\"*\"&G1101&\"*\"&D1101&\"*\"&E1101),شهر3!#REF!&\"*\"&شهر3!#REF!&\"*\"&شهر3!#REF!&\"*\"&شهر3!#REF!,0))","v":{"$error":"#REF!"}}]
[null,null,{"$f":"VLOOKUP(B1102,برقية!$A$2:$B$377,2,FALSE)","v":{"$error":"#N/A"}},null,null,{"$f":"INDEX(شهر3!#REF!,MATCH((B1102&\"*\"&G1102&\"*\"&D1102&\"*\"&E1102),شهر3!#REF!&\"*\"&شهر3!#REF!&\"*\"&شهر3!#REF!&\"*\"&شهر3!#REF!,0))","v":{"$error":"#REF!"}},null,{"$f":"INDEX(شهر3!#REF!,MATCH((B1102&\"*\"&G1102&\"*\"&D1102&\"*\"&E1102),شهر3!#REF!&\"*\"&شهر3!#REF!&\"*\"&شهر3!#REF!&\"*\"&شهر3!#REF!,0))","v":{"$error":"#REF!"}}]
[null,null,{"$f":"VLOOKUP(B1103,برقية!$A$2:$B$377,2,FALSE)","v":{"$error":"#N/A"}},null,null,{"$f":"INDEX(شهر3!#REF!,MATCH((B1103&\"*\"&G1103&\"*\"&D1103&\"*\"&E1103),شهر3!#REF!&\"*\"&شهر3!#REF!&\"*\"&شهر3!#REF!&\"*\"&شهر3!#REF!,0))","v":{"$error":"#REF!"}},null,{"$f":"INDEX(شهر3!#REF!,MATCH((B1103&\"*\"&G1103&\"*\"&D1103&\"*\"&E1103),شهر3!#REF!&\"*\"&شهر3!#REF!&\"*\"&شهر3!#REF!&\"*\"&شهر3!#REF!,0))","v":{"$error":"#REF!"}}]
[null,null,{"$f":"VLOOKUP(B1104,برقية!$A$2:$B$377,2,FALSE)","v":{"$error":"#N/A"}},null,null,{"$f":"INDEX(شهر3!#REF!,MATCH((B1104&\"*\"&G1104&\"*\"&D1104&\"*\"&E1104),شهر3!#REF!&\"*\"&شهر3!#REF!&\"*\"&شهر3!#REF!&\"*\"&شهر3!#REF!,0))","v":{"$error":"#REF!"}},null,{"$f":"INDEX(شهر3!#REF!,MATCH((B1104&\"*\"&G1104&\"*\"&D1104&\"*\"&E1104),شهر3!#REF!&\"*\"&شهر3!#REF!&\"*\"&شهر3!#REF!&\"*\"&شهر3!#REF!,0))","v":{"$error":"#REF!"}}]
[null,null,{"$f":"VLOOKUP(B1105,برقية!$A$2:$B$377,2,FALSE)","v":{"$error":"#N/A"}},null,null,{"$f":"INDEX(شهر3!#REF!,MATCH((B1105&\"*\"&G1105&\"*\"&D1105&\"*\"&E1105),شهر3!#REF!&\"*\"&شهر3!#REF!&\"*\"&شهر3!#REF!&\"*\"&شهر3!#REF!,0))","v":{"$error":"#REF!"}},null,{"$f":"INDEX(شهر3!#REF!,MATCH((B1105&\"*\"&G1105&\"*\"&D1105&\"*\"&E1105),شهر3!#REF!&\"*\"&شهر3!#REF!&\"*\"&شهر3!#REF!&\"*\"&شهر3!#REF!,0))","v":{"$error":"#REF!"}}]
[null,null,{"$f":"VLOOKUP(B1106,برقية!$A$2:$B$377,2,FALSE)","v":{"$error":"#N/A"}},null,null,{"$f":"INDEX(شهر3!#REF!,MATCH((B1106&\"*\"&G1106&\"*\"&D1106&\"*\"&E1106),شهر3!#REF!&\"*\"&شهر3!#REF!&\"*\"&شهر3!#REF!&\"*\"&شهر3!#REF!,0))","v":{"$error":"#REF!"}},null,{"$f":"INDEX(شهر3!#REF!,MATCH((B1106&\"*\"&G1106&\"*\"&D1106&\"*\"&E1106),شهر3!#REF!&\"*\"&شهر3!#REF!&\"*\"&شهر3!#REF!&\"*\"&شهر3!#REF!,0))","v":{"$error":"#REF!"}}]
[null,null,{"$f":"VLOOKUP(B1107,برقية!$A$2:$B$377,2,FALSE)","v":{"$error":"#N/A"}},null,null,{"$f":"INDEX(شهر3!#REF!,MATCH((B1107&\"*\"&G1107&\"*\"&D1107&\"*\"&E1107),شهر3!#REF!&\"*\"&شهر3!#REF!&\"*\"&شهر3!#REF!&\"*\"&شهر3!#REF!,0))","v":{"$error":"#REF!"}},null,{"$f":"INDEX(شهر3!#REF!,MATCH((B1107&\"*\"&G1107&\"*\"&D1107&\"*\"&E1107),شهر3!#REF!&\"*\"&شهر3!#REF!&\"*\"&شهر3!#REF!&\"*\"&شهر3!#REF!,0))","v":{"$error":"#REF!"}}]
[null,null,{"$f":"VLOOKUP(B1108,برقية!$A$2:$B$377,2,FALSE)","v":{"$error":"#N/A"}},null,null,{"$f":"INDEX(شهر3!#REF!,MATCH((B1108&\"*\"&G1108&\"*\"&D1108&\"*\"&E1108),شهر3!#REF!&\"*\"&شهر3!#REF!&\"*\"&شهر3!#REF!&\"*\"&شهر3!#REF!,0))","v":{"$error":"#REF!"}},null,{"$f":"INDEX(شهر3!#REF!,MATCH((B1108&\"*\"&G1108&\"*\"&D1108&\"*\"&E1108),شهر3!#REF!&\"*\"&شهر3!#REF!&\"*\"&شهر3!#REF!&\"*\"&شهر3!#REF!,0))","v":{"$error":"#REF!"}}]
[null,null,{"$f":"VLOOKUP(B1109,برقية!$A$2:$B$377,2,FALSE)","v":{"$error":"#N/A"}},null,null,{"$f":"INDEX(شهر3!#REF!,MATCH((B1109&\"*\"&G1109&\"*\"&D1109&\"*\"&E1109),شهر3!#REF!&\"*\"&شهر3!#REF!&\"*\"&شهر3!#REF!&\"*\"&شهر3!#REF!,0))","v":{"$error":"#REF!"}},null,{"$f":"INDEX(شهر3!#REF!,MATCH((B1109&\"*\"&G1109&\"*\"&D1109&\"*\"&E1109),شهر3!#REF!&\"*\"&شهر3!#REF!&\"*\"&شهر3!#REF!&\"*\"&شهر3!#REF!,0))","v":{"$error":"#REF!"}}]
[null,null,{"$f":"VLOOKUP(B1110,برقية!$A$2:$B$377,2,FALSE)","v":{"$error":"#N/A"}},null,null,{"$f":"INDEX(شهر3!#REF!,MATCH((B1110&\"*\"&G1110&\"*\"&D1110&\"*\"&E1110),شهر3!#REF!&\"*\"&شهر3!#REF!&\"*\"&شهر3!#REF!&\"*\"&شهر3!#REF!,0))","v":{"$error":"#REF!"}},null,{"$f":"INDEX(شهر3!#REF!,MATCH((B1110&\"*\"&G1110&\"*\"&D1110&\"*\"&E1110),شهر3!#REF!&\"*\"&شهر3!#REF!&\"*\"&شهر3!#REF!&\"*\"&شهر3!#REF!,0))","v":{"$error":"#REF!"}}]
[null,null,{"$f":"VLOOKUP(B1111,برقية!$A$2:$B$377,2,FALSE)","v":{"$error":"#N/A"}},null,null,{"$f":"INDEX(شهر3!#REF!,MATCH((B1111&\"*\"&G1111&\"*\"&D1111&\"*\"&E1111),شهر3!#REF!&\"*\"&شهر3!#REF!&\"*\"&شهر3!#REF!&\"*\"&شهر3!#REF!,0))","v":{"$error":"#REF!"}},null,{"$f":"INDEX(شهر3!#REF!,MATCH((B1111&\"*\"&G1111&\"*\"&D1111&\"*\"&E1111),شهر3!#REF!&\"*\"&شهر3!#REF!&\"*\"&شهر3!#REF!&\"*\"&شهر3!#REF!,0))","v":{"$error":"#REF!"}}]
[null,null,{"$f":"VLOOKUP(B1112,برقية!$A$2:$B$377,2,FALSE)","v":{"$error":"#N/A"}},null,null,{"$f":"INDEX(شهر3!#REF!,MATCH((B1112&\"*\"&G1112&\"*\"&D1112&\"*\"&E1112),شهر3!#REF!&\"*\"&شهر3!#REF!&\"*\"&شهر3!#REF!&\"*\"&شهر3!#REF!,0))","v":{"$error":"#REF!"}},null,{"$f":"INDEX(شهر3!#REF!,MATCH((B1112&\"*\"&G1112&\"*\"&D1112&\"*\"&E1112),شهر3!#REF!&\"*\"&شهر3!#REF!&\"*\"&شهر3!#REF!&\"*\"&شهر3!#REF!,0))","v":{"$error":"#REF!"}}]
[null,null,{"$f":"VLOOKUP(B1113,برقية!$A$2:$B$377,2,FALSE)","v":{"$error":"#N/A"}},null,null,{"$f":"INDEX(شهر3!#REF!,MATCH((B1113&\"*\"&G1113&\"*\"&D1113&\"*\"&E1113),شهر3!#REF!&\"*\"&شهر3!#REF!&\"*\"&شهر3!#REF!&\"*\"&شهر3!#REF!,0))","v":{"$error":"#REF!"}},null,{"$f":"INDEX(شهر3!#REF!,MATCH((B1113&\"*\"&G1113&\"*\"&D1113&\"*\"&E1113),شهر3!#REF!&\"*\"&شهر3!#REF!&\"*\"&شهر3!#REF!&\"*\"&شهر3!#REF!,0))","v":{"$error":"#REF!"}}]
[null,null,{"$f":"VLOOKUP(B1114,برقية!$A$2:$B$377,2,FALSE)","v":{"$error":"#N/A"}},null,null,{"$f":"INDEX(شهر3!#REF!,MATCH((B1114&\"*\"&G1114&\"*\"&D1114&\"*\"&E1114),شهر3!#REF!&\"*\"&شهر3!#REF!&\"*\"&شهر3!#REF!&\"*\"&شهر3!#REF!,0))","v":{"$error":"#REF!"}},null,{"$f":"INDEX(شهر3!#REF!,MATCH((B1114&\"*\"&G1114&\"*\"&D1114&\"*\"&E1114),شهر3!#REF!&\"*\"&شهر3!#REF!&\"*\"&شهر3!#REF!&\"*\"&شهر3!#REF!,0))","v":{"$error":"#REF!"}}]
[null,null,{"$f":"VLOOKUP(B1115,برقية!$A$2:$B$377,2,FALSE)","v":{"$error":"#N/A"}},null,null,{"$f":"INDEX(شهر3!#REF!,MATCH((B1115&\"*\"&G1115&\"*\"&D1115&\"*\"&E1115),شهر3!#REF!&\"*\"&شهر3!#REF!&\"*\"&شهر3!#REF!&\"*\"&شهر3!#REF!,0))","v":{"$error":"#REF!"}},null,{"$f":"INDEX(شهر3!#REF!,MATCH((B1115&\"*\"&G1115&\"*\"&D1115&\"*\"&E1115),شهر3!#REF!&\"*\"&شهر3!#REF!&\"*\"&شهر3!#REF!&\"*\"&شهر3!#REF!,0))","v":{"$error":"#REF!"}}]
[null,null,{"$f":"VLOOKUP(B1116,برقية!$A$2:$B$377,2,FALSE)","v":{"$error":"#N/A"}},null,null,{"$f":"INDEX(شهر3!#REF!,MATCH((B1116&\"*\"&G1116&\"*\"&D1116&\"*\"&E1116),شهر3!#REF!&\"*\"&شهر3!#REF!&\"*\"&شهر3!#REF!&\"*\"&شهر3!#REF!,0))","v":{"$error":"#REF!"}},null,{"$f":"INDEX(شهر3!#REF!,MATCH((B1116&\"*\"&G1116&\"*\"&D1116&\"*\"&E1116),شهر3!#REF!&\"*\"&شهر3!#REF!&\"*\"&شهر3!#REF!&\"*\"&شهر3!#REF!,0))","v":{"$error":"#REF!"}}]
[null,null,{"$f":"VLOOKUP(B1117,برقية!$A$2:$B$377,2,FALSE)","v":{"$error":"#N/A"}},null,null,{"$f":"INDEX(شهر3!#REF!,MATCH((B1117&\"*\"&G1117&\"*\"&D1117&\"*\"&E1117),شهر3!#REF!&\"*\"&شهر3!#REF!&\"*\"&شهر3!#REF!&\"*\"&شهر3!#REF!,0))","v":{"$error":"#REF!"}},null,{"$f":"INDEX(شهر3!#REF!,MATCH((B1117&\"*\"&G1117&\"*\"&D1117&\"*\"&E1117),شهر3!#REF!&\"*\"&شهر3!#REF!&\"*\"&شهر3!#REF!&\"*\"&شهر3!#REF!,0))","v":{"$error":"#REF!"}}]
[null,null,{"$f":"VLOOKUP(B1118,برقية!$A$2:$B$377,2,FALSE)","v":{"$error":"#N/A"}},null,null,{"$f":"INDEX(شهر3!#REF!,MATCH((B1118&\"*\"&G1118&\"*\"&D1118&\"*\"&E1118),شهر3!#REF!&\"*\"&شهر3!#REF!&\"*\"&شهر3!#REF!&\"*\"&شهر3!#REF!,0))","v":{"$error":"#REF!"}},null,{"$f":"INDEX(شهر3!#REF!,MATCH((B1118&\"*\"&G1118&\"*\"&D1118&\"*\"&E1118),شهر3!#REF!&\"*\"&شهر3!#REF!&\"*\"&شهر3!#REF!&\"*\"&شهر3!#REF!,0))","v":{"$error":"#REF!"}}]
[null,null,{"$f":"VLOOKUP(B1119,برقية!$A$2:$B$377,2,FALSE)","v":{"$error":"#N/A"}},null,null,{"$f":"INDEX(شهر3!#REF!,MATCH((B1119&\"*\"&G1119&\"*\"&D1119&\"*\"&E1119),شهر3!#REF!&\"*\"&شهر3!#REF!&\"*\"&شهر3!#REF!&\"*\"&شهر3!#REF!,0))","v":{"$error":"#REF!"}},null,{"$f":"INDEX(شهر3!#REF!,MATCH((B1119&\"*\"&G1119&\"*\"&D1119&\"*\"&E1119),شهر3!#REF!&\"*\"&شهر3!#REF!&\"*\"&شهر3!#REF!&\"*\"&شهر3!#REF!,0))","v":{"$error":"#REF!"}}]
[null,null,{"$f":"VLOOKUP(B1120,برقية!$A$2:$B$377,2,FALSE)","v":{"$error":"#N/A"}},null,null,{"$f":"INDEX(شهر3!#REF!,MATCH((B1120&\"*\"&G1120&\"*\"&D1120&\"*\"&E1120),شهر3!#REF!&\"*\"&شهر3!#REF!&\"*\"&شهر3!#REF!&\"*\"&شهر3!#REF!,0))","v":{"$error":"#REF!"}},null,{"$f":"INDEX(شهر3!#REF!,MATCH((B1120&\"*\"&G1120&\"*\"&D1120&\"*\"&E1120),شهر3!#REF!&\"*\"&شهر3!#REF!&\"*\"&شهر3!#REF!&\"*\"&شهر3!#REF!,0))","v":{"$error":"#REF!"}}]
[null,null,{"$f":"VLOOKUP(B1121,برقية!$A$2:$B$377,2,FALSE)","v":{"$error":"#N/A"}},null,null,{"$f":"INDEX(شهر3!#REF!,MATCH((B1121&\"*\"&G1121&\"*\"&D1121&\"*\"&E1121),شهر3!#REF!&\"*\"&شهر3!#REF!&\"*\"&شهر3!#REF!&\"*\"&شهر3!#REF!,0))","v":{"$error":"#REF!"}},null,{"$f":"INDEX(شهر3!#REF!,MATCH((B1121&\"*\"&G1121&\"*\"&D1121&\"*\"&E1121),شهر3!#REF!&\"*\"&شهر3!#REF!&\"*\"&شهر3!#REF!&\"*\"&شهر3!#REF!,0))","v":{"$error":"#REF!"}}]
[null,null,{"$f":"VLOOKUP(B1122,برقية!$A$2:$B$377,2,FALSE)","v":{"$error":"#N/A"}},null,null,{"$f":"INDEX(شهر3!#REF!,MATCH((B1122&\"*\"&G1122&\"*\"&D1122&\"*\"&E1122),شهر3!#REF!&\"*\"&شهر3!#REF!&\"*\"&شهر3!#REF!&\"*\"&شهر3!#REF!,0))","v":{"$error":"#REF!"}},null,{"$f":"INDEX(شهر3!#REF!,MATCH((B1122&\"*\"&G1122&\"*\"&D1122&\"*\"&E1122),شهر3!#REF!&\"*\"&شهر3!#REF!&\"*\"&شهر3!#REF!&\"*\"&شهر3!#REF!,0))","v":{"$error":"#REF!"}}]
[null,null,{"$f":"VLOOKUP(B1123,برقية!$A$2:$B$377,2,FALSE)","v":{"$error":"#N/A"}},null,null,{"$f":"INDEX(شهر3!#REF!,MATCH((B1123&\"*\"&G1123&\"*\"&D1123&\"*\"&E1123),شهر3!#REF!&\"*\"&شهر3!#REF!&\"*\"&شهر3!#REF!&\"*\"&شهر3!#REF!,0))","v":{"$error":"#REF!"}},null,{"$f":"INDEX(شهر3!#REF!,MATCH((B1123&\"*\"&G1123&\"*\"&D1123&\"*\"&E1123),شهر3!#REF!&\"*\"&شهر3!#REF!&\"*\"&شهر3!#REF!&\"*\"&شهر3!#REF!,0))","v":{"$error":"#REF!"}}]
[null,null,{"$f":"VLOOKUP(B1124,برقية!$A$2:$B$377,2,FALSE)","v":{"$error":"#N/A"}},null,null,{"$f":"INDEX(شهر3!#REF!,MATCH((B1124&\"*\"&G1124&\"*\"&D1124&\"*\"&E1124),شهر3!#REF!&\"*\"&شهر3!#REF!&\"*\"&شهر3!#REF!&\"*\"&شهر3!#REF!,0))","v":{"$error":"#REF!"}},null,{"$f":"INDEX(شهر3!#REF!,MATCH((B1124&\"*\"&G1124&\"*\"&D1124&\"*\"&E1124),شهر3!#REF!&\"*\"&شهر3!#REF!&\"*\"&شهر3!#REF!&\"*\"&شهر3!#REF!,0))","v":{"$error":"#REF!"}}]
[null,null,{"$f":"VLOOKUP(B1125,برقية!$A$2:$B$377,2,FALSE)","v":{"$error":"#N/A"}},null,null,{"$f":"INDEX(شهر3!#REF!,MATCH((B1125&\"*\"&G1125&\"*\"&D1125&\"*\"&E1125),شهر3!#REF!&\"*\"&شهر3!#REF!&\"*\"&شهر3!#REF!&\"*\"&شهر3!#REF!,0))","v":{"$error":"#REF!"}},null,{"$f":"INDEX(شهر3!#REF!,MATCH((B1125&\"*\"&G1125&\"*\"&D1125&\"*\"&E1125),شهر3!#REF!&\"*\"&شهر3!#REF!&\"*\"&شهر3!#REF!&\"*\"&شهر3!#REF!,0))","v":{"$error":"#REF!"}}]
[null,null,{"$f":"VLOOKUP(B1126,برقية!$A$2:$B$377,2,FALSE)","v":{"$error":"#N/A"}},null,null,{"$f":"INDEX(شهر3!#REF!,MATCH((B1126&\"*\"&G1126&\"*\"&D1126&\"*\"&E1126),شهر3!#REF!&\"*\"&شهر3!#REF!&\"*\"&شهر3!#REF!&\"*\"&شهر3!#REF!,0))","v":{"$error":"#REF!"}},null,{"$f":"INDEX(شهر3!#REF!,MATCH((B1126&\"*\"&G1126&\"*\"&D1126&\"*\"&E1126),شهر3!#REF!&\"*\"&شهر3!#REF!&\"*\"&شهر3!#REF!&\"*\"&شهر3!#REF!,0))","v":{"$error":"#REF!"}}]
[null,null,{"$f":"VLOOKUP(B1127,برقية!$A$2:$B$377,2,FALSE)","v":{"$error":"#N/A"}},null,null,{"$f":"INDEX(شهر3!#REF!,MATCH((B1127&\"*\"&G1127&\"*\"&D1127&\"*\"&E1127),شهر3!#REF!&\"*\"&شهر3!#REF!&\"*\"&شهر3!#REF!&\"*\"&شهر3!#REF!,0))","v":{"$error":"#REF!"}},null,{"$f":"INDEX(شهر3!#REF!,MATCH((B1127&\"*\"&G1127&\"*\"&D1127&\"*\"&E1127),شهر3!#REF!&\"*\"&شهر3!#REF!&\"*\"&شهر3!#REF!&\"*\"&شهر3!#REF!,0))","v":{"$error":"#REF!"}}]
[null,null,{"$f":"VLOOKUP(B1128,برقية!$A$2:$B$377,2,FALSE)","v":{"$error":"#N/A"}},null,null,{"$f":"INDEX(شهر3!#REF!,MATCH((B1128&\"*\"&G1128&\"*\"&D1128&\"*\"&E1128),شهر3!#REF!&\"*\"&شهر3!#REF!&\"*\"&شهر3!#REF!&\"*\"&شهر3!#REF!,0))","v":{"$error":"#REF!"}},null,{"$f":"INDEX(شهر3!#REF!,MATCH((B1128&\"*\"&G1128&\"*\"&D1128&\"*\"&E1128),شهر3!#REF!&\"*\"&شهر3!#REF!&\"*\"&شهر3!#REF!&\"*\"&شهر3!#REF!,0))","v":{"$error":"#REF!"}}]
[null,null,{"$f":"VLOOKUP(B1129,برقية!$A$2:$B$377,2,FALSE)","v":{"$error":"#N/A"}},null,null,{"$f":"INDEX(شهر3!#REF!,MATCH((B1129&\"*\"&G1129&\"*\"&D1129&\"*\"&E1129),شهر3!#REF!&\"*\"&شهر3!#REF!&\"*\"&شهر3!#REF!&\"*\"&شهر3!#REF!,0))","v":{"$error":"#REF!"}},null,{"$f":"INDEX(شهر3!#REF!,MATCH((B1129&\"*\"&G1129&\"*\"&D1129&\"*\"&E1129),شهر3!#REF!&\"*\"&شهر3!#REF!&\"*\"&شهر3!#REF!&\"*\"&شهر3!#REF!,0))","v":{"$error":"#REF!"}}]
[null,null,{"$f":"VLOOKUP(B1130,برقية!$A$2:$B$377,2,FALSE)","v":{"$error":"#N/A"}},null,null,{"$f":"INDEX(شهر3!#REF!,MATCH((B1130&\"*\"&G1130&\"*\"&D1130&\"*\"&E1130),شهر3!#REF!&\"*\"&شهر3!#REF!&\"*\"&شهر3!#REF!&\"*\"&شهر3!#REF!,0))","v":{"$error":"#REF!"}},null,{"$f":"INDEX(شهر3!#REF!,MATCH((B1130&\"*\"&G1130&\"*\"&D1130&\"*\"&E1130),شهر3!#REF!&\"*\"&شهر3!#REF!&\"*\"&شهر3!#REF!&\"*\"&شهر3!#REF!,0))","v":{"$error":"#REF!"}}]
[null,null,{"$f":"VLOOKUP(B1131,برقية!$A$2:$B$377,2,FALSE)","v":{"$error":"#N/A"}},null,null,{"$f":"INDEX(شهر3!#REF!,MATCH((B1131&\"*\"&G1131&\"*\"&D1131&\"*\"&E1131),شهر3!#REF!&\"*\"&شهر3!#REF!&\"*\"&شهر3!#REF!&\"*\"&شهر3!#REF!,0))","v":{"$error":"#REF!"}},null,{"$f":"INDEX(شهر3!#REF!,MATCH((B1131&\"*\"&G1131&\"*\"&D1131&\"*\"&E1131),شهر3!#REF!&\"*\"&شهر3!#REF!&\"*\"&شهر3!#REF!&\"*\"&شهر3!#REF!,0))","v":{"$error":"#REF!"}}]
[null,null,{"$f":"VLOOKUP(B1132,برقية!$A$2:$B$377,2,FALSE)","v":{"$error":"#N/A"}},null,null,{"$f":"INDEX(شهر3!#REF!,MATCH((B1132&\"*\"&G1132&\"*\"&D1132&\"*\"&E1132),شهر3!#REF!&\"*\"&شهر3!#REF!&\"*\"&شهر3!#REF!&\"*\"&شهر3!#REF!,0))","v":{"$error":"#REF!"}},null,{"$f":"INDEX(شهر3!#REF!,MATCH((B1132&\"*\"&G1132&\"*\"&D1132&\"*\"&E1132),شهر3!#REF!&\"*\"&شهر3!#REF!&\"*\"&شهر3!#REF!&\"*\"&شهر3!#REF!,0))","v":{"$error":"#REF!"}}]
[null,null,{"$f":"VLOOKUP(B1133,برقية!$A$2:$B$377,2,FALSE)","v":{"$error":"#N/A"}},null,null,{"$f":"INDEX(شهر3!#REF!,MATCH((B1133&\"*\"&G1133&\"*\"&D1133&\"*\"&E1133),شهر3!#REF!&\"*\"&شهر3!#REF!&\"*\"&شهر3!#REF!&\"*\"&شهر3!#REF!,0))","v":{"$error":"#REF!"}},null,{"$f":"INDEX(شهر3!#REF!,MATCH((B1133&\"*\"&G1133&\"*\"&D1133&\"*\"&E1133),شهر3!#REF!&\"*\"&شهر3!#REF!&\"*\"&شهر3!#REF!&\"*\"&شهر3!#REF!,0))","v":{"$error":"#REF!"}}]
[null,null,{"$f":"VLOOKUP(B1134,برقية!$A$2:$B$377,2,FALSE)","v":{"$error":"#N/A"}},null,null,{"$f":"INDEX(شهر3!#REF!,MATCH((B1134&\"*\"&G1134&\"*\"&D1134&\"*\"&E1134),شهر3!#REF!&\"*\"&شهر3!#REF!&\"*\"&شهر3!#REF!&\"*\"&شهر3!#REF!,0))","v":{"$error":"#REF!"}},null,{"$f":"INDEX(شهر3!#REF!,MATCH((B1134&\"*\"&G1134&\"*\"&D1134&\"*\"&E1134),شهر3!#REF!&\"*\"&شهر3!#REF!&\"*\"&شهر3!#REF!&\"*\"&شهر3!#REF!,0))","v":{"$error":"#REF!"}}]
[null,null,{"$f":"VLOOKUP(B1135,برقية!$A$2:$B$377,2,FALSE)","v":{"$error":"#N/A"}},null,null,{"$f":"INDEX(شهر3!#REF!,MATCH((B1135&\"*\"&G1135&\"*\"&D1135&\"*\"&E1135),شهر3!#REF!&\"*\"&شهر3!#REF!&\"*\"&شهر3!#REF!&\"*\"&شهر3!#REF!,0))","v":{"$error":"#REF!"}},null,{"$f":"INDEX(شهر3!#REF!,MATCH((B1135&\"*\"&G1135&\"*\"&D1135&\"*\"&E1135),شهر3!#REF!&\"*\"&شهر3!#REF!&\"*\"&شهر3!#REF!&\"*\"&شهر3!#REF!,0))","v":{"$error":"#REF!"}}]
[null,null,{"$f":"VLOOKUP(B1136,برقية!$A$2:$B$377,2,FALSE)","v":{"$error":"#N/A"}},null,null,{"$f":"INDEX(شهر3!#REF!,MATCH((B1136&\"*\"&G1136&\"*\"&D1136&\"*\"&E1136),شهر3!#REF!&\"*\"&شهر3!#REF!&\"*\"&شهر3!#REF!&\"*\"&شهر3!#REF!,0))","v":{"$error":"#REF!"}},null,{"$f":"INDEX(شهر3!#REF!,MATCH((B1136&\"*\"&G1136&\"*\"&D1136&\"*\"&E1136),شهر3!#REF!&\"*\"&شهر3!#REF!&\"*\"&شهر3!#REF!&\"*\"&شهر3!#REF!,0))","v":{"$error":"#REF!"}}]
[null,null,{"$f":"VLOOKUP(B1137,برقية!$A$2:$B$377,2,FALSE)","v":{"$error":"#N/A"}},null,null,{"$f":"INDEX(شهر3!#REF!,MATCH((B1137&\"*\"&G1137&\"*\"&D1137&\"*\"&E1137),شهر3!#REF!&\"*\"&شهر3!#REF!&\"*\"&شهر3!#REF!&\"*\"&شهر3!#REF!,0))","v":{"$error":"#REF!"}},null,{"$f":"INDEX(شهر3!#REF!,MATCH((B1137&\"*\"&G1137&\"*\"&D1137&\"*\"&E1137),شهر3!#REF!&\"*\"&شهر3!#REF!&\"*\"&شهر3!#REF!&\"*\"&شهر3!#REF!,0))","v":{"$error":"#REF!"}}]
[null,null,{"$f":"VLOOKUP(B1138,برقية!$A$2:$B$377,2,FALSE)","v":{"$error":"#N/A"}},null,null,{"$f":"INDEX(شهر3!#REF!,MATCH((B1138&\"*\"&G1138&\"*\"&D1138&\"*\"&E1138),شهر3!#REF!&\"*\"&شهر3!#REF!&\"*\"&شهر3!#REF!&\"*\"&شهر3!#REF!,0))","v":{"$error":"#REF!"}},null,{"$f":"INDEX(شهر3!#REF!,MATCH((B1138&\"*\"&G1138&\"*\"&D1138&\"*\"&E1138),شهر3!#REF!&\"*\"&شهر3!#REF!&\"*\"&شهر3!#REF!&\"*\"&شهر3!#REF!,0))","v":{"$error":"#REF!"}}]
[null,null,{"$f":"VLOOKUP(B1139,برقية!$A$2:$B$377,2,FALSE)","v":{"$error":"#N/A"}},null,null,{"$f":"INDEX(شهر3!#REF!,MATCH((B1139&\"*\"&G1139&\"*\"&D1139&\"*\"&E1139),شهر3!#REF!&\"*\"&شهر3!#REF!&\"*\"&شهر3!#REF!&\"*\"&شهر3!#REF!,0))","v":{"$error":"#REF!"}},null,{"$f":"INDEX(شهر3!#REF!,MATCH((B1139&\"*\"&G1139&\"*\"&D1139&\"*\"&E1139),شهر3!#REF!&\"*\"&شهر3!#REF!&\"*\"&شهر3!#REF!&\"*\"&شهر3!#REF!,0))","v":{"$error":"#REF!"}}]
[null,null,{"$f":"VLOOKUP(B1140,برقية!$A$2:$B$377,2,FALSE)","v":{"$error":"#N/A"}},null,null,{"$f":"INDEX(شهر3!#REF!,MATCH((B1140&\"*\"&G1140&\"*\"&D1140&\"*\"&E1140),شهر3!#REF!&\"*\"&شهر3!#REF!&\"*\"&شهر3!#REF!&\"*\"&شهر3!#REF!,0))","v":{"$error":"#REF!"}},null,{"$f":"INDEX(شهر3!#REF!,MATCH((B1140&\"*\"&G1140&\"*\"&D1140&\"*\"&E1140),شهر3!#REF!&\"*\"&شهر3!#REF!&\"*\"&شهر3!#REF!&\"*\"&شهر3!#REF!,0))","v":{"$error":"#REF!"}}]
[null,null,{"$f":"VLOOKUP(B1141,برقية!$A$2:$B$377,2,FALSE)","v":{"$error":"#N/A"}},null,null,{"$f":"INDEX(شهر3!#REF!,MATCH((B1141&\"*\"&G1141&\"*\"&D1141&\"*\"&E1141),شهر3!#REF!&\"*\"&شهر3!#REF!&\"*\"&شهر3!#REF!&\"*\"&شهر3!#REF!,0))","v":{"$error":"#REF!"}},null,{"$f":"INDEX(شهر3!#REF!,MATCH((B1141&\"*\"&G1141&\"*\"&D1141&\"*\"&E1141),شهر3!#REF!&\"*\"&شهر3!#REF!&\"*\"&شهر3!#REF!&\"*\"&شهر3!#REF!,0))","v":{"$error":"#REF!"}}]
[null,null,{"$f":"VLOOKUP(B1142,برقية!$A$2:$B$377,2,FALSE)","v":{"$error":"#N/A"}},null,null,{"$f":"INDEX(شهر3!#REF!,MATCH((B1142&\"*\"&G1142&\"*\"&D1142&\"*\"&E1142),شهر3!#REF!&\"*\"&شهر3!#REF!&\"*\"&شهر3!#REF!&\"*\"&شهر3!#REF!,0))","v":{"$error":"#REF!"}},null,{"$f":"INDEX(شهر3!#REF!,MATCH((B1142&\"*\"&G1142&\"*\"&D1142&\"*\"&E1142),شهر3!#REF!&\"*\"&شهر3!#REF!&\"*\"&شهر3!#REF!&\"*\"&شهر3!#REF!,0))","v":{"$error":"#REF!"}}]
[null,null,{"$f":"VLOOKUP(B1143,برقية!$A$2:$B$377,2,FALSE)","v":{"$error":"#N/A"}},null,null,{"$f":"INDEX(شهر3!#REF!,MATCH((B1143&\"*\"&G1143&\"*\"&D1143&\"*\"&E1143),شهر3!#REF!&\"*\"&شهر3!#REF!&\"*\"&شهر3!#REF!&\"*\"&شهر3!#REF!,0))","v":{"$error":"#REF!"}},null,{"$f":"INDEX(شهر3!#REF!,MATCH((B1143&\"*\"&G1143&\"*\"&D1143&\"*\"&E1143),شهر3!#REF!&\"*\"&شهر3!#REF!&\"*\"&شهر3!#REF!&\"*\"&شهر3!#REF!,0))","v":{"$error":"#REF!"}}]
[null,null,{"$f":"VLOOKUP(B1144,برقية!$A$2:$B$377,2,FALSE)","v":{"$error":"#N/A"}},null,null,{"$f":"INDEX(شهر3!#REF!,MATCH((B1144&\"*\"&G1144&\"*\"&D1144&\"*\"&E1144),شهر3!#REF!&\"*\"&شهر3!#REF!&\"*\"&شهر3!#REF!&\"*\"&شهر3!#REF!,0))","v":{"$error":"#REF!"}},null,{"$f":"INDEX(شهر3!#REF!,MATCH((B1144&\"*\"&G1144&\"*\"&D1144&\"*\"&E1144),شهر3!#REF!&\"*\"&شهر3!#REF!&\"*\"&شهر3!#REF!&\"*\"&شهر3!#REF!,0))","v":{"$error":"#REF!"}}]
[null,null,{"$f":"VLOOKUP(B1145,برقية!$A$2:$B$377,2,FALSE)","v":{"$error":"#N/A"}},null,null,{"$f":"INDEX(شهر3!#REF!,MATCH((B1145&\"*\"&G1145&\"*\"&D1145&\"*\"&E1145),شهر3!#REF!&\"*\"&شهر3!#REF!&\"*\"&شهر3!#REF!&\"*\"&شهر3!#REF!,0))","v":{"$error":"#REF!"}},null,{"$f":"INDEX(شهر3!#REF!,MATCH((B1145&\"*\"&G1145&\"*\"&D1145&\"*\"&E1145),شهر3!#REF!&\"*\"&شهر3!#REF!&\"*\"&شهر3!#REF!&\"*\"&شهر3!#REF!,0))","v":{"$error":"#REF!"}}]

{"sheet":"قياس","index":1,"n_rows":182,"n_cols":9,"rows_kept":182,"cut":false,"hidden":true,"merged":[]}
["الجهة المستفيدة","المسافة","المحطة",null,null,"الجهة المستفيدة","المسافة",null,"المحطة"]
["ابن الهيثم",147,"اهلي",null,null,"ابن الهيثم",147,null,"اهلي"]
["اسوار القائم",282,"اهلي",null,null,"اسوار القائم",282,null,"اهلي"]
["اسوار المدينة",7,"اهلي",null,null,"القائم",282,null,"اهلي"]
["الارادة والتحدي",405,"اهلي",null,null,"اسوار المدينة",7,null,"اهلي"]
["الاوسمة",86,"اهلي",null,null,"الارادة والتحدي",405,null,"اهلي"]
["الأرض الخضراء",30,"اهلي",null,null,"الاوسمة",86,null,"اهلي"]
["الأوائل",12,"اهلي",null,null,"الأرض الخضراء",30,null,"اهلي"]
["البادية الغربية",5,"اهلي",null,null,"البادية الغربية",5,null,"اهلي"]
["البركة",31,"اهلي",null,null,"البركة",31,null,"اهلي"]
["البساط الأخضر",279,"حكومي",null,null,null,null,null,"اهلي"]
["البغدادي",110,"حكومي",null,null,"البغدادية",85,null,"اهلي"]
["البغدادية",85,"اهلي",null,null,"البغدادية",110,null,"اهلي"]
["البنفسج",5,"اهلي",null,null,"البنفسج",5,null,"اهلي"]
["البيرق",26,"اهلي",null,null,"البيرق",26,null,"اهلي"]
["التاج",53,"اهلي",null,null,"التاج",53,null,"اهلي"]
["التصدي",398,"اهلي",null,null,"التقى",55,null,"اهلي"]
["التقى",55,"اهلي",null,null,"التل الأخضر",17,null,"اهلي"]
["التل الأخضر",17,"اهلي",null,null,"التنف العراقي",464,null,"اهلي"]
["التنف",446,"حكومي",null,null,"الثرثار",62,null,"اهلي"]
["التنف العراقي",464,"اهلي",null,null,"الجبل",100,null,"اهلي"]
["الثرثار",62,"اهلي",null,null,"الجزيرة العربية",372,null,"اهلي"]
["الجبل",110,"حكومي",null,null,"الحازم",270,null,"اهلي"]
["الجزيرة العربية",372,"اهلي",null,null,"الحبانية السياحية",95,null,"اهلي"]
[null,null,null,null,null,"الحبانية",95,null,"اهلي"]
["الحازم",270,"اهلي",null,null,"الحبانية القديمة",55,null,"اهلي"]
["الحبانية",55,"حكومي",null,null,"الحقلانية",145,null,"اهلي"]
["الحبانية السياحية",95,"حكومي",null,null,"الخالدية",28,null,"اهلي"]
["الحبانية القديمة",55,"حكومي",null,null,"الخزرجي",53,null,"اهلي"]
["الحق",12,"اهلي",null,null,"الخليل",283,null,"اهلي"]
["الحقلانية",145,"حكومي",null,null,"الدليم",15,null,"اهلي"]
["الخالدية",28,"اهلي",null,null,"الدمام",33,null,"اهلي"]
["الخزرجي",53,"اهلي",null,null,"الدوحة",67,null,"اهلي"]
["الخليل",283,"اهلي",null,null,"الراشد",24,null,"اهلي"]
["الدليم",15,"اهلي",null,null,"الراية البيضاء",38,null,"اهلي"]
["الدمام",33,"اهلي",null,null,"الرتاج",75,null,"اهلي"]
["الدوحة",67,"اهلي",null,null,"الرطبة",305,null,"اهلي"]
["الراشد",24,"اهلي",null,null,"الرطبة الجديدة",306,null,"اهلي"]
["الراية البيضاء",38,"اهلي",null,null,"الرمادي الجديدة",32,null,"اهلي"]
["الرتاج",75,"اهلي",null,null,"الرمادي السريع",55,null,"اهلي"]
["الرطبة",305,"حكومي",null,null,"الرمادي القديمة",28,null,"اهلي"]
["الرطبة الجديدة",306,"حكومي",null,null,"الريم",29,null,"اهلي"]
["الرطبة القديمة",305,"حكومي",null,null,"الزاوية",30,null,"اهلي"]
["الرمادي الجديدة",32,"حكومي",null,null,"الزهير",310,null,"اهلي"]
["الرمادي السريع",55,"حكومي",null,null,"السعد",63,null,"اهلي"]
["الرمادي القديمة",28,"حكومي",null,null,"الشاكر",73,null,"اهلي"]
["الرمانة",294,"حكومي",null,null,"الشجرة الطيبة",85,null,"اهلي"]
["الريم",29,"اهلي",null,null,"الصابرين",8,null,"اهلي"]
["الزاوية",30,"اهلي",null,null,"الصحراء الغربية",29,null,"اهلي"]
["الزهير",310,"اهلي",null,null,"الصقلاوية",106,null,"اهلي"]
["السعد",63,"اهلي",null,null,"الطارق",305,null,"اهلي"]
["الشاكر",73,"اهلي",null,null,"الطبعات",353,null,"اهلي"]
["الشجرة الطيبة",85,"اهلي",null,null,"العابر",347,null,"اهلي"]
["الصابرين",8,"اهلي",null,null,"العالمية",53,null,"اهلي"]
["الصحراء الغربية",29,"اهلي",null,null,"العايد",366,null,"اهلي"]
["الصقلاوية",106,"حكومي",null,null,"العبيدي",279,null,"اهلي"]
["الطارق",305,"اهلي",null,null,"العراق الجديد",54,null,"اهلي"]
["الطبعات",353,"اهلي",null,null,"العلواني",90,null,"اهلي"]
["العابر",347,"اهلي",null,null,"الغزال",63,null,"اهلي"]
["العالمية",53,"اهلي",null,null,"الغوطة",238,null,"اهلي"]
["العايد",366,"اهلي",null,null,"الفارس العربي",71,null,"اهلي"]
["العبيدي",279,"حكومي",null,null,"الفتح المبين",50,null,"اهلي"]
["العراق الجديد",54,"اهلي",null,null,"الفتيان",281,null,"اهلي"]
["العلواني",90,"اهلي",null,null,"الفردوس",55,null,"اهلي"]
["العيساوي",57,"اهلي",null,null,"الفلوجة الجديدة",108,null,"اهلي"]
["الغزال",63,"اهلي",null,null,"الفيافي",18,null,"اهلي"]
["الغوطة",238,"اهلي",null,null,"القاسم",278,null,"اهلي"]
["الفارس العربي",71,"اهلي",null,null,"القمم",82,null,"اهلي"]
["الفتح المبين",50,"اهلي",null,null,"الكرام",65,null,"اهلي"]
["الفتيان",281,"اهلي",null,null,"الكرمة",137,null,"اهلي"]
["الفرات",52,"حكومي",null,null,"الكشاشي",90,null,"اهلي"]
["الفردوس",55,"اهلي",null,null,"الكوثر",22,null,"اهلي"]
["الفلوجة الجديدة",108,"حكومي",null,null,"الكورنيش",17,null,"اهلي"]
["الفيافي",18,"اهلي",null,null,"المانع",25,null,"اهلي"]
["القاسم",278,"اهلي",null,null,"المحمدي",50,null,"اهلي"]
["القائم",294,"حكومي",null,null,"المحمديات",75,null,"اهلي"]
["القمم",82,"اهلي",null,null,"المرزوق",87,null,"اهلي"]
["الكرام",65,"اهلي",null,null,"المسرة",12,null,"اهلي"]
["الكرمة",137,"حكومي",null,null,"المعالي",344,null,"اهلي"]
["الكشاشي",90,"اهلي",null,null,"المنتصر بالله",4,null,"اهلي"]
["الكوثر",22,"اهلي",null,null,"الميلاد",5,null,"اهلي"]
["الكورنيش",17,"اهلي",null,null,"النافع",14,null,"اهلي"]
["المانع",25,"اهلي",null,null,"النخيب",300,null,"اهلي"]
["المحمدي",50,"اهلي",null,null,"الندى",60,null,"اهلي"]
["المحمديات",75,"حكومي",null,null,"النزار",343,null,"اهلي"]
["المحيط",55,"اهلي",null,null,"النسور",271,null,"اهلي"]
["المرزوق",87,"اهلي",null,null,"النهوض",16,null,"اهلي"]
["المسرة",12,"اهلي",null,null,"الهدى الحديثة",16,null,"اهلي"]
["المعالي",344,"اهلي",null,null,"الهضاب",50,null,"اهلي"]
["المنتصر بالله",4,"اهلي",null,null,"الهيف",191,null,"اهلي"]
["الميلاد",5,"اهلي",null,null,"الواحة",353,null,"اهلي"]
["النافع",14,"اهلي",null,null,"الورار",8,null,"اهلي"]
["النخيب",320,"حكومي",null,null,"الوس",131,null,"اهلي"]
["الندى",60,"اهلي",null,null,"الوليد",345,null,"اهلي"]
["النزار",343,"اهلي",null,null,"الوئام",32,null,"اهلي"]
["النسور",271,"اهلي",null,null,"انوار الجزيرة",88,null,"اهلي"]
["النهوض",16,"اهلي",null,null,"انوار حديثة",149,null,"اهلي"]
["الهدى الحديثة",16,"اهلي",null,null,"أعالي الفرات",482,null,"اهلي"]
["الهضاب",50,"اهلي",null,null,"الفرات",482,null,"اهلي"]
["الهيف",191,"اهلي",null,null,"بركة الرحمن",46,null,"اهلي"]
["الواحة",353,"اهلي",null,null,"بروانة",135,null,"اهلي"]
["الورار",8,"اهلي",null,null,"تاج القدس",42,null,"اهلي"]
["الوس",131,"اهلي",null,null,"تقاطع الرطبة",293,null,"اهلي"]
["الوليد",345,"حكومي",null,null,"تل اسود",38,null,"اهلي"]
["الوئام",32,"اهلي",null,null,"تي وان",294,null,"اهلي"]
["انوار الجزيرة",88,"اهلي",null,null,"جباب الغربية",247,null,"اهلي"]
["انوار حديثة",149,"اهلي",null,null,"جنة عدن",75,null,"اهلي"]
["أعالي الفرات",482,"اهلي",null,null,"خير البوادي",53,null,"اهلي"]
["بركة الرحمن",46,"اهلي",null,null,"دار السلام",85,null,"اهلي"]
["بروانة",185,"حكومي",null,null,"ذراع دجلة",83,null,"اهلي"]
["تاج الجزيرة",12,"اهلي",null,null,"راوة",221,null,"اهلي"]
["تاج القدس",42,"اهلي",null,null,"ريف الجزيرة",19,null,"اهلي"]
["تقاطع الرطبة",292,"حكومي",null,null,"ساحة زيت غاز التصدي",398,null,"اهلي"]
["تقاطع الرطبه",292,"حكومي",null,null,"ساحة غاز الغربية",55,null,"اهلي"]
["تل اسود",38,"اهلي",null,null,"ساحة غاز المحيط",55,null,"اهلي"]
["تي وان",394,"حكومي",null,null,"ساحة غاز ونفط العيساوي",57,null,"اهلي"]
["جباب الغربية",247,"اهلي",null,null,"ساحة غاز ونفط الفلوجة",55,null,"اهلي"]
["جبل النور",45,"اهلي",null,null,"ساحة نفط هيت",66,null,"اهلي"]
["جنة عدن",75,"اهلي",null,null,"سر من رأى",31,null,"اهلي"]
["خير البوادي",53,"اهلي",null,null,"سما الانبار",25,null,"اهلي"]
["دار السلام",85,"اهلي",null,null,"سيف الانبار",150,null,"اهلي"]
["ذراع دجلة",83,"اهلي",null,null,"شرق الرطبة",242,null,"اهلي"]
["راوة",221,"حكومي",null,null,"ضفاف الفرات",279,null,"اهلي"]
["ريف الجزيرة",19,"اهلي",null,null,"طريبيل",437,null,"اهلي"]
["س الغربية",55,"اهلي",null,null,"طليحة",194,null,"اهلي"]
["سر من رأى",31,"اهلي",null,null,"طولي الأولى",12,null,"اهلي"]
["سما الانبار",25,"اهلي",null,null,"عبدالحكيم",67,null,"اهلي"]
["سيف الانبار",150,"اهلي",null,null,"عبدالله",54,null,"اهلي"]
["شرق الرطبة",242,"حكومي",null,null,"عطارد",70,null,"اهلي"]
["ضفاف الفرات",279,"اهلي",null,null,"علوش",273,null,"اهلي"]
["طريبيل",437,"حكومي",null,null,"عنه الجديدة",203,null,"اهلي"]
["طليحة",164,"حكومي",null,null,"عنه الجديده",203,null,"اهلي"]
["طولي الأولى",12,"اهلي",null,null,"عنه القديمة",213,null,"اهلي"]
["عبدالحكيم",67,"اهلي",null,null,"عين منين",373,null,"اهلي"]
["عبدالله",54,"اهلي",null,null,"غرب الرطبة",351,null,"اهلي"]
["عطارد",70,"اهلي",null,null,"غصن الزيتون",18,null,"اهلي"]
["علوش",273,"اهلي",null,null,"كبيسة",85,null,"اهلي"]
["عنه الجديدة",203,"حكومي",null,null,"كبيسة",323,null,"اهلي"]
["عنه القديمة",213,"حكومي",null,null,"كيلو 18",17,null,"اهلي"]
["عين منين",373,"اهلي",null,null,"م القائم",294,null,"اهلي"]
["غرب الرطبة",356,"حكومي",null,null,"مستودع حديثة",139,null,"اهلي"]
["غصن الزيتون",18,"اهلي",null,null,"مشروع 1030",66,null,"اهلي"]
["كبيسة",85,"حكومي",null,null,"مشروع الفلوجة",113,null,"اهلي"]
["كيلو 18",17,"اهلي",null,null,"مفرق حديثة",136,null,"اهلي"]
["م القائم",294,"اهلي",null,null,"مها البادية",170,null,"اهلي"]
["م ت الرطبة",305,"حكومي",null,null,"نور الحياة",25,null,"اهلي"]
["م ت الرمادي",24,"حكومي",null,null,"هيت الجديدة",60,null,"اهلي"]
["م ت الفلوجة",113,"حكومي",null,null,"وحدة العراق",61,null,"اهلي"]
["مستودع حديثة",139,"حكومي",null,null,"تاج الجزيرة",12,"من عندي","اهلي"]
["مشروع 1030",66,"اهلي",null,null,"الحق",12,"من عندي","اهلي"]
["مشروع الفلوجة",113,"اهلي",null,null,"الأوائل",12,"من عندي","اهلي"]
["مشروع1030",66,"حكومي",null,null,"جبل النور",45,"من عندي","اهلي"]
["مفرق حديثة",136,"اهلي",null,null,null,null,null,"اهلي"]
["مها البادية",170,"اهلي",null,null,null,null,null,"اهلي"]
["نفط الفلوجة",55,"اهلي",null,null,null,null,null,"اهلي"]
["نور الحياة",25,"اهلي",null,null,null,null,null,"اهلي"]
["هيت",66,"حكومي",null,null,null,null,null,"اهلي"]
["هيت الجديدة",60,"حكومي",null,null,null,null,null,"اهلي"]
["هيت الجديده",60,"حكومي",null,null,null,null,null,"اهلي"]
["وحدة العراق",61,"اهلي"]
["الاتحاد",38,"اهلي"]
[]
[]
[]
[]
[]
[]
[]
[]
[]
[]
[]
[]
[]
[]
[]
[]
[]
[]
[]
[]
[null,null,"اهلي"]

{"sheet":"برقية","index":2,"n_rows":1066,"n_cols":3,"rows_kept":1066,"cut":false,"hidden":true,"merged":[]}
["رقم السيارة","اسم السائق الرباعي واللقب","الاسم"]
[140319,"ياسين احمد علي",{"$f":"IF(B2=\"\",\"\",LEFT(SUBSTITUTE(B2,\" \",\"*\",3),FIND(\"*\",SUBSTITUTE(B2,\" \",\"*\",3))-1))","v":{"$error":"#VALUE!"}}]
[15249,"طيف حاكم هادي",{"$error":"#VALUE!"}]
[52865,"دخيل غركان بزل",{"$error":"#VALUE!"}]
[31331,"سعد فياض إبراهيم",{"$error":"#VALUE!"}]
[22250,"وسام فياض إبراهيم",{"$error":"#VALUE!"}]
[58522,"ايمن فواز زيدان",{"$error":"#VALUE!"}]
[31588,"طالب محمد عويد",{"$error":"#VALUE!"}]
[555918,"مروان سامي جاسم",{"$error":"#VALUE!"}]
[555691,"عبدالحافظ خليل إبراهيم",{"$error":"#VALUE!"}]
[17391,"سلام مزعل موذي",{"$error":"#VALUE!"}]
[31300,"حسان حسين محمد",{"$error":"#VALUE!"}]
[80325,"باسم حسن كصاد",{"$error":"#VALUE!"}]
[103570,"احمد محمد جاسم",{"$error":"#VALUE!"}]
[555678,"جاسم احمد جاسم",{"$error":"#VALUE!"}]
[555885,"حسين علي هاشم",{"$error":"#VALUE!"}]
[555878,"مصطفى علي هاشم",{"$error":"#VALUE!"}]
[188881,"باسم رياح صبار",{"$error":"#VALUE!"}]
[38515,"علي عبدالله سند",{"$error":"#VALUE!"}]
[555609,"عدنان علي هاشم",{"$error":"#VALUE!"}]
[64602,"زيد جمعة زيدان",{"$error":"#VALUE!"}]
[52778,"هاني علي بوال",{"$error":"#VALUE!"}]
[104055,"أسامة نوري زيدان",{"$error":"#VALUE!"}]
[16489,"بشار هلال غايب",{"$error":"#VALUE!"}]
[38230,"صالح حسن محمد",{"$error":"#VALUE!"}]
[559340,"مثنى حسن محمد",{"$error":"#VALUE!"}]
[22870,"علاء حسين محمد",{"$error":"#VALUE!"}]
[29686,"سمير خميس محمد",{"$error":"#VALUE!"}]
[93455,"مهند حسين محمد",{"$error":"#VALUE!"}]
[71852,"قاسم محمد حسين",{"$error":"#VALUE!"}]
[67691,"حامد سليمان إبراهيم",{"$error":"#VALUE!"}]
[145268,"احمد شهاب حمد",{"$error":"#VALUE!"}]
[558715,"جبار عباس خلف",{"$error":"#VALUE!"}]
[558940,"يوسف عباس خلف",{"$error":"#VALUE!"}]
[72829,"حبيب عبدالله سناد",{"$error":"#VALUE!"}]
[36929,"عدي حاتم علي",{"$error":"#VALUE!"}]
[55193,"علاء حسين عباس",{"$error":"#VALUE!"}]
[29498,"حميد محمود دخيل",{"$error":"#VALUE!"}]
[39418,"جمعة حمد حماد",{"$error":"#VALUE!"}]
[193134,"ماهر جمعة حمد",{"$error":"#VALUE!"}]
[6013,"محمد خميس حمد",{"$error":"#VALUE!"}]
[65345,"فائز وهيب تركي",{"$error":"#VALUE!"}]
[81986,"مجيد محمود دخيل",{"$error":"#VALUE!"}]
[24243,"سلمان سليم شلال",{"$error":"#VALUE!"}]
[54399,"فهد سعيد محمود",{"$error":"#VALUE!"}]
[136833,"أسامة جمعة طراد",{"$error":"#VALUE!"}]
[555196,"عثمان مبارك بردان",{"$error":"#VALUE!"}]
[55017,"مثنى لطيف محمد",{"$error":"#VALUE!"}]
[108755,"مثنى لطيف محمد",{"$error":"#VALUE!"}]
[36945,"احمد عبيد عبدالله",{"$error":"#VALUE!"}]
[31115,"حسين علي شهاب",{"$error":"#VALUE!"}]
[36946,"محمود عبيد عبدالله",{"$error":"#VALUE!"}]
[37920,"ياسر احمد عبدالله",{"$error":"#VALUE!"}]
[34999,"مخلف عويد فرحان",{"$error":"#VALUE!"}]
[2748,"جبير محمد زغير",{"$error":"#VALUE!"}]
[14090,"محمد سمير كردي",{"$error":"#VALUE!"}]
[143560,"علي حميد سمير",{"$error":"#VALUE!"}]
[5203,"صباح صالح حماد",{"$error":"#VALUE!"}]
[37575,"علاوي صالح حماد",{"$error":"#VALUE!"}]
[5181,"احمد محمد إبراهيم",{"$error":"#VALUE!"}]
[18760,"صفاء محمد فرحان",{"$error":"#VALUE!"}]
[120688,"محمد محمود عبدالله",{"$error":"#VALUE!"}]
[557298,"معتز محمد فرحان",{"$error":"#VALUE!"}]
[192676,"قصي فاكر احميد",{"$error":"#VALUE!"}]
[7469,"تحسين محمد زغير",{"$error":"#VALUE!"}]
[557983,"مصطفى تحسين محمد",{"$f":"IF(B66=\"\",\"\",LEFT(SUBSTITUTE(B66,\" \",\"*\",3),FIND(\"*\",SUBSTITUTE(B66,\" \",\"*\",3))-1))","v":{"$error":"#VALUE!"}}]
[51684,"علاء خالد محمد",{"$error":"#VALUE!"}]
[32077,"سعيد سامي حميد",{"$error":"#VALUE!"}]
[43169,"باسم فرحان احمد",{"$error":"#VALUE!"}]
[47137,"علي ناصر عبود",{"$error":"#VALUE!"}]
[557576,"علي سليمان إبراهيم",{"$error":"#VALUE!"}]
[579,"ماهر صعب حسين",{"$error":"#VALUE!"}]
[52015,"خلف حمود احمد",{"$error":"#VALUE!"}]
[50016,"وسام خلف حمود",{"$error":"#VALUE!"}]
[61528,"محمد مصلح ذياب",{"$error":"#VALUE!"}]
[21988,"تحرير يوسف حمود",{"$error":"#VALUE!"}]
[23465,"سعد إسماعيل صبار",{"$error":"#VALUE!"}]
[131386,"سعدي خلف عايد",{"$error":"#VALUE!"}]
[54398,"وحيد صبار فياض",{"$error":"#VALUE!"}]
[15997,"علي حسين فيحان",{"$error":"#VALUE!"}]
[40451,"احمد صبار فياض",{"$error":"#VALUE!"}]
[562605,"عمر عبد رشيد",{"$error":"#VALUE!"}]
[36606,"صلاح جواد كاظم",{"$error":"#VALUE!"}]
[33402,"عماد محمد زويد",{"$error":"#VALUE!"}]
[37225,"طه كامل حسين",{"$error":"#VALUE!"}]
[2319,"محمود شاكر عطية",{"$error":"#VALUE!"}]
[37808,"ذاكر محمود عبدالله",{"$error":"#VALUE!"}]
[38395,"سرمد كامل دحام",{"$error":"#VALUE!"}]
[36875,"شاكر محمود عبدالله",{"$error":"#VALUE!"}]
[37810,"احمد محمود عبدالله",{"$error":"#VALUE!"}]
[14216,"سعد حمد حسن",{"$error":"#VALUE!"}]
[60974,"طالب دلف فاضل",{"$error":"#VALUE!"}]
[50366,"قاسم محمد عودة",{"$error":"#VALUE!"}]
[52978,"سعيد دلف فاضل",{"$error":"#VALUE!"}]
[6110,"عبدالمجيد حميد عباس",{"$error":"#VALUE!"}]
[555952,"نوري عامج حماد",{"$error":"#VALUE!"}]
[58256,"عامر محمد حمد",{"$error":"#VALUE!"}]
[51132,"علي صبار دلف",{"$error":"#VALUE!"}]
[118179,"عدنان كامل عبيد",{"$error":"#VALUE!"}]
[39185,"قحطان كامل عبيد",{"$error":"#VALUE!"}]
[103570,"احمد محمد جاسم",{"$error":"#VALUE!"}]
[555678,"جاسم احمد جاسم",{"$error":"#VALUE!"}]
[53081,"محمود فرحان محمد",{"$error":"#VALUE!"}]
[555885,"حيدر خميس كاظم",{"$error":"#VALUE!"}]
[15051,"احمد إبراهيم حسان",{"$error":"#VALUE!"}]
[559984,"احمد جياد حسين",{"$error":"#VALUE!"}]
[558808,"احمد ضاري زيدان",{"$error":"#VALUE!"}]
[22898,"احمد طلب عبد",{"$error":"#VALUE!"}]
[26753,"احمد عبدالسلام حماد",{"$error":"#VALUE!"}]
[67774,"احمد عماد مجيد",{"$error":"#VALUE!"}]
[60940,"احمد عويد فرحان",{"$error":"#VALUE!"}]
[561959,"احمد كامل حسين",{"$error":"#VALUE!"}]
[50333,"احمد مصلح ذياب",{"$error":"#VALUE!"}]
[64214,"احمد مطر فرحان",{"$error":"#VALUE!"}]
[38020,"ازهر خليفة ذياب",{"$error":"#VALUE!"}]
[35951,"اسعد علي عواد",{"$error":"#VALUE!"}]
[559301,"ايسر فواز زيدان",{"$error":"#VALUE!"}]
[41250,"أسامة محمد راشد",{"$error":"#VALUE!"}]
[104816,"أنور طه مطر",{"$error":"#VALUE!"}]
[51990,"أنور عامج حماد",{"$error":"#VALUE!"}]
[192794,"أنور مجيد احميد",{"$error":"#VALUE!"}]
[1331,"بارق جبل عبود",{"$error":"#VALUE!"}]
[44270,"باسم رياح صبار",{"$error":"#VALUE!"}]
[5369,"باسم محمد عبد",{"$error":"#VALUE!"}]
[38546,"باسم محمد عودة",{"$error":"#VALUE!"}]
[562842,"جاسم محمد عباس",{"$error":"#VALUE!"}]
[65560,"جبير مطر فرحان",{"$error":"#VALUE!"}]
[50466,"جمال جبر لاحج",{"$error":"#VALUE!"}]
[64404,"جمعة عبد حمود",{"$error":"#VALUE!"}]
[32117,"جمعة عويد فرحان",{"$error":"#VALUE!"}]
[50124,"جمعة محمد عباس",{"$error":"#VALUE!"}]
[10321,"حاتم محمود ناصر",{"$f":"IF(B132=\"\",\"\",LEFT(SUBSTITUTE(B132,\" \",\"*\",3),FIND(\"*\",SUBSTITUTE(B132,\" \",\"*\",3))-1))","v":{"$error":"#VALUE!"}}]
[558634,"حارث اكرم زبن",{"$error":"#VALUE!"}]
[562993,"حامد احمد عبدالله",{"$error":"#VALUE!"}]
[197684,"حامد عواد فرحان",{"$error":"#VALUE!"}]
[197684,"حامد عواد فرحان",{"$error":"#VALUE!"}]
[64590,"حذيفة نامق حماد",{"$error":"#VALUE!"}]
[11286,"حسن مانع عبود",{"$error":"#VALUE!"}]
[52550,"حسين علي بوال",{"$error":"#VALUE!"}]
[38949,"حسين علي عواد",{"$error":"#VALUE!"}]
[559661,"حميد حسين علي",{"$error":"#VALUE!"}]
[142701,"حقي إسماعيل رجه",{"$error":"#VALUE!"}]
[39505,"حميد احمد عبدالله",{"$error":"#VALUE!"}]
[828,"حميد شاكر احميد",{"$error":"#VALUE!"}]
[73138,"حميد صالح زبن",{"$error":"#VALUE!"}]
[52459,"حميد عباس حمادي",{"$error":"#VALUE!"}]
[11200,"حميد عويد سيف",{"$error":"#VALUE!"}]
[558478,"خالد جمال نعيم",{"$error":"#VALUE!"}]
[62513,"خالد حميد سمير",{"$error":"#VALUE!"}]
[15256,"خالد محمد حسان",{"$error":"#VALUE!"}]
[65941,"خالد مشرف طه",{"$error":"#VALUE!"}]
[62673,"خالد مطرود حسين",{"$error":"#VALUE!"}]
[557881,"خلدون محمد نائل",{"$error":"#VALUE!"}]
[35184,"خلف عويد فرحان",{"$error":"#VALUE!"}]
[559288,"خميس حمد حماد",{"$error":"#VALUE!"}]
[559796,"خميس عيادة حسين",{"$error":"#VALUE!"}]
[65805,"رامي زيدان خليف",{"$error":"#VALUE!"}]
[24859,"رامي علي بوال",{"$error":"#VALUE!"}]
[51377,"رباح صالح حماد",{"$error":"#VALUE!"}]
[560388,"رسول ماهر زبن",{"$error":"#VALUE!"}]
[48585,"رعد محمد مصلح",{"$error":"#VALUE!"}]
[16799,"رمضان علي مضعن",{"$error":"#VALUE!"}]
[33264,"رياض عامج حماد",{"$error":"#VALUE!"}]
[15582,"رياض عباس حسين",{"$error":"#VALUE!"}]
[559099,"زهير ضاري زيدان",{"$error":"#VALUE!"}]
[61478,"احمد شديد مطلك",{"$error":"#VALUE!"}]
[558699,"زياد طارق كسار",{"$error":"#VALUE!"}]
[52576,"زيد ضاحي حسن",{"$error":"#VALUE!"}]
[52811,"ستار مصلح ذياب",{"$error":"#VALUE!"}]
[556069,"سعد احميد غايب",{"$error":"#VALUE!"}]
[45304,"سعد إسماعيل محمد",{"$error":"#VALUE!"}]
[64796,"سعد عويد سيف",{"$error":"#VALUE!"}]
[62236,"سعد هادي حمادي",{"$error":"#VALUE!"}]
[44617,"سعدون عواد فرحان",{"$error":"#VALUE!"}]
[559010,"إيهاب خلف عويد",{"$error":"#VALUE!"}]
[192292,"سعدي زيدان خلف",{"$error":"#VALUE!"}]
[58383,"حامد زيدان خلف",{"$error":"#VALUE!"}]
[29904,"سعيد رسول محمود",{"$error":"#VALUE!"}]
[77879,"سفيان سامي جاسم",{"$error":"#VALUE!"}]
[109036,"خالد علي جدوع",{"$error":"#VALUE!"}]
[123837,"سلام حسين عبد",{"$error":"#VALUE!"}]
[198329,"سلام خضير عباس",{"$error":"#VALUE!"}]
[22385,"سلوان سامي جاسم",{"$error":"#VALUE!"}]
[78675,"سلوان سامي جاسم",{"$error":"#VALUE!"}]
[40555,"سمير جميل نايف",{"$error":"#VALUE!"}]
[145234,"ياسين حميد عناد",{"$error":"#VALUE!"}]
[557224,"سمير يوسف حمود",{"$error":"#VALUE!"}]
[192134,"سيف جبار دلف",{"$error":"#VALUE!"}]
[39038,"مهند حسين محمد",{"$error":"#VALUE!"}]
[50522,"شاكر جبر لاحج",{"$error":"#VALUE!"}]
[561304,"شاكر محمود عبيد",{"$error":"#VALUE!"}]
[61548,"شعيب ضاري زيدان",{"$error":"#VALUE!"}]
[192366,"شهاب احمد زيدان",{"$error":"#VALUE!"}]
[42431,"شهاب حمد حماد",{"$error":"#VALUE!"}]
[93747,"صالح خلف حمود",{"$error":"#VALUE!"}]
[57062,"صباح محمد عبد",{"$f":"IF(B196=\"\",\"\",LEFT(SUBSTITUTE(B196,\" \",\"*\",3),FIND(\"*\",SUBSTITUTE(B196,\" \",\"*\",3))-1))","v":{"$error":"#VALUE!"}}]
[61011,"صبر مطر فرحان",{"$error":"#VALUE!"}]
[65568,"صدام محمد فريح",{"$error":"#VALUE!"}]
[22087,"صفاء جمعة فرحان",{"$error":"#VALUE!"}]
[36606,"صلاح جواد كاظم",{"$error":"#VALUE!"}]
[15362,"صلاح محمد عبد",{"$error":"#VALUE!"}]
[51669,"صلاح ناجي هادي",{"$error":"#VALUE!"}]
[15419,"صلاح نوري زيدان",{"$error":"#VALUE!"}]
[123689,"ضياء فرحان دحام",{"$error":"#VALUE!"}]
[86890,"طه غركان بزل",{"$error":"#VALUE!"}]
[37263,"عباس فاضل عواد",{"$error":"#VALUE!"}]
[54461,"عباس قتيبة عزيز",{"$error":"#VALUE!"}]
[53060,"عبد إبراهيم حسان",{"$error":"#VALUE!"}]
[558265,"عبدالرحمن خميس مهدي",{"$error":"#VALUE!"}]
[75567,"عثمان عبد جاسم",{"$error":"#VALUE!"}]
[51960,"عثمان همام تركي",{"$error":"#VALUE!"}]
[560488,"عدي حسن عطيوي",{"$error":"#VALUE!"}]
[61798,"عدي صبار دلف",{"$error":"#VALUE!"}]
[15139,"عزيز مجبل عويد",{"$error":"#VALUE!"}]
[52213,"علاء حاتم محمد",{"$error":"#VALUE!"}]
[39478,"علاء حماد شديد",{"$error":"#VALUE!"}]
[51319,"علي احمد عبد",{"$error":"#VALUE!"}]
[105371,"علي احمد عودة",{"$error":"#VALUE!"}]
[51809,"علي احميد عواد",{"$error":"#VALUE!"}]
[1741,"علي إسماعيل كريم",{"$error":"#VALUE!"}]
[4212,"علي حسين حمد",{"$error":"#VALUE!"}]
[4404,"علي حسين منفي",{"$error":"#VALUE!"}]
[24902,"علي عجيمي احميد",{"$error":"#VALUE!"}]
[50647,"علي عويد فرحان",{"$error":"#VALUE!"}]
[65977,"علي ماضي نواف",{"$error":"#VALUE!"}]
[90487,"علي محمود ناصر",{"$error":"#VALUE!"}]
[79096,"عماد دلف فاضل",{"$error":"#VALUE!"}]
[57068,"عماد صالح شلال",{"$error":"#VALUE!"}]
[65773,"عماد كامل محمد",{"$error":"#VALUE!"}]
[64805,"عمار طه مطر",{"$error":"#VALUE!"}]
[192526,"عمار هلال غايب",{"$error":"#VALUE!"}]
[39059,"عمر احمد زيدان",{"$error":"#VALUE!"}]
[65791,"سعد جاسم محمد",{"$error":"#VALUE!"}]
[65626,"عمر احمد عواد",{"$error":"#VALUE!"}]
[62570,"عمر احمد مخلف",{"$error":"#VALUE!"}]
[5593,"عمر اكرم زبن",{"$error":"#VALUE!"}]
[15906,"حبيب عبدالله سناد",{"$error":"#VALUE!"}]
[26031,"عمر جميل نايف",{"$error":"#VALUE!"}]
[559521,"عمر خالد حميد",{"$error":"#VALUE!"}]
[58809,"عمر راشد فيحان",{"$error":"#VALUE!"}]
[141070,"عمر رياض عبود",{"$error":"#VALUE!"}]
[100256,"عمر صباح مطر",{"$error":"#VALUE!"}]
[53091,"عمر عامج حماد",{"$error":"#VALUE!"}]
[64341,"عمر عامج ذياب",{"$error":"#VALUE!"}]
[561453,"عمر علي جدوع",{"$error":"#VALUE!"}]
[47008,"عمر علي فياض",{"$error":"#VALUE!"}]
[37004,"عمر علي مسير",{"$error":"#VALUE!"}]
[51728,"عمر محمد جياد",{"$error":"#VALUE!"}]
[39809,"غازي طه مطر",{"$error":"#VALUE!"}]
[24568,"فراس خلف محمد",{"$error":"#VALUE!"}]
[168371,"فراس كامل حسين",{"$error":"#VALUE!"}]
[149393,"فراس مبروك محمد",{"$error":"#VALUE!"}]
[11775,"عبدالله عبد محمد",{"$error":"#VALUE!"}]
[556168,"صالح جبر لاحج",{"$error":"#VALUE!"}]
[25706,"فلاح حسن محمد",{"$error":"#VALUE!"}]
[19188,"فلاح نوري زيدان",{"$error":"#VALUE!"}]
[47754,"فهد علي مسير",{"$error":"#VALUE!"}]
[63916,"ياسين عودة فرحان",{"$error":"#VALUE!"}]
[51074,"فؤاد دلف فاضل",{"$error":"#VALUE!"}]
[39143,"فؤاد سامي جلوي",{"$f":"IF(B260=\"\",\"\",LEFT(SUBSTITUTE(B260,\" \",\"*\",3),FIND(\"*\",SUBSTITUTE(B260,\" \",\"*\",3))-1))","v":{"$error":"#VALUE!"}}]
[54729,"فيصل طه مطر",{"$error":"#VALUE!"}]
[63259,"قتيبة جبار دلف",{"$error":"#VALUE!"}]
[555129,"قحطان عجيمي احميد",{"$error":"#VALUE!"}]
[48662,"قحطان عدنان عويد",{"$error":"#VALUE!"}]
[8252,"جاسم خلف محمد",{"$error":"#VALUE!"}]
[69156,"قيس احمد محمود",{"$error":"#VALUE!"}]
[197480,"قيصر محمد خضير",{"$error":"#VALUE!"}]
[119843,"كامل عبيد عبطان",{"$error":"#VALUE!"}]
[64011,"كامل مانع عبود",{"$error":"#VALUE!"}]
[41123,"كريم فرج محمد",{"$error":"#VALUE!"}]
[9028,"لؤي احمد عبدالله",{"$error":"#VALUE!"}]
[555298,"ليث شاكر احميد",{"$error":"#VALUE!"}]
[46211,"ليث مرشد عبدالله",{"$error":"#VALUE!"}]
[37026,"ماجد عبود نجم",{"$error":"#VALUE!"}]
[192904,"خميس أحميد غايب",{"$error":"#VALUE!"}]
[65319,"ماهر فاضل عواد",{"$error":"#VALUE!"}]
[11985,"مثنى غازي خلف",{"$error":"#VALUE!"}]
[60568,"مجبل عويد فرحان",{"$error":"#VALUE!"}]
[200262,"محمد عمار هلال",{"$error":"#VALUE!"}]
[50334,"مجيد عودة فرحان",{"$error":"#VALUE!"}]
[128292,"محمد براك عبيد",{"$error":"#VALUE!"}]
[18539,"فرحان حميد سمير",{"$error":"#VALUE!"}]
[72038,"محمد حميد محمد",{"$error":"#VALUE!"}]
[15214,"محمد زيدان خلف",{"$error":"#VALUE!"}]
[60310,"محمد صالح ذياب",{"$error":"#VALUE!"}]
[48074,"محمد صبار دلف",{"$error":"#VALUE!"}]
[63437,"محمد ضاري ذياب",{"$error":"#VALUE!"}]
[21304,"محمد ضاري زيدان",{"$error":"#VALUE!"}]
[72237,"محمد عارف مشرف",{"$error":"#VALUE!"}]
[37966,"محمد عبيد عبدالله",{"$error":"#VALUE!"}]
[51383,"محمد علاوي بوال",{"$error":"#VALUE!"}]
[38681,"محمد عويد فرحان",{"$error":"#VALUE!"}]
[1054,"محمد فرحان سليمان",{"$error":"#VALUE!"}]
[33256,"محمد كاظم رشيد",{"$error":"#VALUE!"}]
[157761,"محمد محمود عيد",{"$error":"#VALUE!"}]
[50195,"محمود محمد فريح",{"$error":"#VALUE!"}]
[52726,"مخلف عويد فرحان",{"$error":"#VALUE!"}]
[45674,"مرشد فيحان عويد",{"$error":"#VALUE!"}]
[19422,"مسعود محمد ذياب",{"$error":"#VALUE!"}]
[51073,"مشتاق طالب دلف",{"$error":"#VALUE!"}]
[122127,"مشتاق طالب محمد",{"$error":"#VALUE!"}]
[61875,"فيصل هايل حسين",{"$error":"#VALUE!"}]
[12536,"مصطفى جمعة زيدان",{"$error":"#VALUE!"}]
[198715,"مصطفى عبد رشيد",{"$error":"#VALUE!"}]
[559347,"مصطفى ياسين فهد",{"$error":"#VALUE!"}]
[8092,"معتز محمد فرحان",{"$error":"#VALUE!"}]
[43723,"منذر حمود جاسم",{"$error":"#VALUE!"}]
[35941,"منير رياح صبار",{"$error":"#VALUE!"}]
[193004,"منيف صعب حسين",{"$error":"#VALUE!"}]
[55127,"مهدي صالح حماد",{"$error":"#VALUE!"}]
[54512,"مهدي صالح علي",{"$error":"#VALUE!"}]
[55409,"مهند صادق محمد",{"$error":"#VALUE!"}]
[124161,"مهند صادق محمد",{"$error":"#VALUE!"}]
[46564,"مهند عامج حماد",{"$error":"#VALUE!"}]
[60445,"مهند مزيون مطر",{"$error":"#VALUE!"}]
[51135,"ميسم جبار دلف",{"$error":"#VALUE!"}]
[110181,"ناظم فاضل عواد",{"$error":"#VALUE!"}]
[4885,"نائل عارف مشرف",{"$error":"#VALUE!"}]
[69743,"نبهان عباس محمد",{"$error":"#VALUE!"}]
[36724,"نبيل إبراهيم ربيع",{"$error":"#VALUE!"}]
[557318,"نوار قتيبة عزيز",{"$error":"#VALUE!"}]
[14523,"هيثم احمد عبد",{"$error":"#VALUE!"}]
[11724,"هيثم خالد عبدالرزاق",{"$error":"#VALUE!"}]
[78218,"هيثم محمد دحام",{"$f":"IF(B324=\"\",\"\",LEFT(SUBSTITUTE(B324,\" \",\"*\",3),FIND(\"*\",SUBSTITUTE(B324,\" \",\"*\",3))-1))","v":{"$error":"#VALUE!"}}]
[80696,"وائل عارف مشرف",{"$error":"#VALUE!"}]
[557566,"وائل نايف صالح",{"$error":"#VALUE!"}]
[67836,"وسام محمد راشد",{"$error":"#VALUE!"}]
[42344,"وطبان عدنان عويد",{"$error":"#VALUE!"}]
[52253,"وليد خالد داود",{"$error":"#VALUE!"}]
[77873,"وليد سامي حميد",{"$error":"#VALUE!"}]
[559768,"وليد مبارك بردان",{"$error":"#VALUE!"}]
[73788,"وميض شاكر زبن",{"$error":"#VALUE!"}]
[6123,"ياس مبروك محمد",{"$error":"#VALUE!"}]
[43471,"ياسين حميد عناد",{"$error":"#VALUE!"}]
[558109,"ياسين حميد عناد",{"$error":"#VALUE!"}]
[71779,"حامد حسان طهمان",{"$error":"#VALUE!"}]
[18275,"فيصل هايل حسين",{"$error":"#VALUE!"}]
[9147,"مزاحم احمد طراد",{"$error":"#VALUE!"}]
[559147,"مهند عامر خالد",{"$error":"#VALUE!"}]
[558402,"حاتم صعب حسين",{"$error":"#VALUE!"}]
[193800,"محمد صفر اسود",{"$error":"#VALUE!"}]
[134648,"حميد سمير محمد",{"$error":"#VALUE!"}]
[127237,"حمزة علي ناصر",{"$error":"#VALUE!"}]
[97978,"رعد حبيب عبدالله",{"$error":"#VALUE!"}]
[66237,"علي سامي حميد",{"$error":"#VALUE!"}]
[62637,"نوري حميد مطيران",{"$error":"#VALUE!"}]
[58840,"لؤي عارف مشرف",{"$error":"#VALUE!"}]
[55023,"مثنى مبارك بردان",{"$error":"#VALUE!"}]
[51880,"مروان زيدان خليف",{"$error":"#VALUE!"}]
[49991,"صابر جمعة حمد",{"$error":"#VALUE!"}]
[44084,"حامد ضاحي حسن",{"$error":"#VALUE!"}]
[39154,"مهند حامد عودة",{"$error":"#VALUE!"}]
[36776,"ليث هيثم نجم",{"$error":"#VALUE!"}]
[34761,"طالب غزاي عفتان",{"$error":"#VALUE!"}]
[26020,"احمد جياد حسين",{"$error":"#VALUE!"}]
[15983,"مصطفى احمد مطيران",{"$error":"#VALUE!"}]
[13674,"حميد عودة فرحان",{"$error":"#VALUE!"}]
[10899,"جمعة جبر لاحج",{"$error":"#VALUE!"}]
[10415,"محمد إبراهيم حسان",{"$error":"#VALUE!"}]
[10415,"محمد إبراهيم حسان",{"$error":"#VALUE!"}]
[9025,"خلدون إبراهيم مطيران",{"$error":"#VALUE!"}]
[8037,"ثامر احمد منصور",{"$error":"#VALUE!"}]
[7727,"سرمد جمعة طراد",{"$error":"#VALUE!"}]
[60929,"محمد علي عواد",{"$error":"#VALUE!"}]
[557610,"هاني علي بوال",{"$error":"#VALUE!"}]
[13440,"نبيل حسين علي",{"$error":"#VALUE!"}]
[50152,"مجيد مطر فرحان",{"$error":"#VALUE!"}]
[46023,"مصطفى مطر فرحان",{"$error":"#VALUE!"}]
[562749,"جمعة عويد فرحان",{"$error":"#VALUE!"}]
[119366,"عامر جمال عواد",{"$error":"#VALUE!"}]
[17717,"عمر طه مطر",{"$error":"#VALUE!"}]
[15946,"أنور صعب حسين",{"$error":"#VALUE!"}]
[778,"احمد عبدالله فاضل",{"$error":"#VALUE!"}]
[61039,"علي حسين حمد",{"$error":"#VALUE!"}]
[31061,"قحطان علي عذاب",{"$error":"#VALUE!"}]
[147054,"محمد ضاري عبدالله",{"$error":"#VALUE!"}]
[38330,"صالح حسن محمد",{"$error":"#VALUE!"}]
[557298,"معتز محمد فرحان",{"$error":"#VALUE!"}]
[192676,"قصي فاكر احميد",{"$error":"#VALUE!"}]
[" 7469","تحسين محمد زغير",{"$error":"#VALUE!"}]
[557983,"مصطفى تحسين محمد",{"$f":"IF(B381=\"\",\"\",LEFT(SUBSTITUTE(B381,\" \",\"*\",3),FIND(\"*\",SUBSTITUTE(B381,\" \",\"*\",3))-1))","v":{"$error":"#VALUE!"}}]
[" 51684","علاء خالد محمد",{"$error":"#VALUE!"}]
[32077,"سعيد سامي حميد",{"$error":"#VALUE!"}]
[43169,"باسم فرحان احمد",{"$error":"#VALUE!"}]
[557576,"علي سليمان إبراهيم",{"$error":"#VALUE!"}]
[50016,"وسام خلف حمود",{"$error":"#VALUE!"}]
[61528,"محمد مصلح ذياب",{"$error":"#VALUE!"}]
[" 21988","تحرير يوسف حمود",{"$error":"#VALUE!"}]
[23465,"سعد إسماعيل صبار",{"$error":"#VALUE!"}]
[" 131386","سعدي خلف عايد",{"$error":"#VALUE!"}]
[40451,"احمد صبار فياض",{"$error":"#VALUE!"}]
[562605,"عمر عبد رشيد",{"$error":"#VALUE!"}]
[37225,"طه كامل حسين",{"$error":"#VALUE!"}]
[" 37808","ذاكر محمود عبدالله",{"$error":"#VALUE!"}]
[38395,"سرمد كامل دحام",{"$error":"#VALUE!"}]
[14216,"سعد حمد حسن",{"$error":"#VALUE!"}]
[52978,"سعيد دلف فاضل",{"$error":"#VALUE!"}]
[6110,"عبدالمجيد حميد عباس",{"$error":"#VALUE!"}]
[51132,"علي صبار دلف",{"$error":"#VALUE!"}]
[118179,"عدنان كامل عبيد",{"$error":"#VALUE!"}]
[39185,"قحطان كامل عبيد",{"$error":"#VALUE!"}]
[53081,"محمود فرحان محمد",{"$error":"#VALUE!"}]
[15249,"طيف حاكم هادي",{"$error":"#VALUE!"}]
[52865,"دخيل غركان بزل",{"$error":"#VALUE!"}]
[" 31331","سعد فياض إبراهيم",{"$error":"#VALUE!"}]
[22250,"وسام فياض إبراهيم",{"$error":"#VALUE!"}]
[58522,"ايمن فواز زيدان",{"$error":"#VALUE!"}]
[" 31588","طالب محمد عويد",{"$error":"#VALUE!"}]
[555918,"مروان سامي جاسم",{"$error":"#VALUE!"}]
[" 555691","عبدالحافظ خليل إبراهيم",{"$error":"#VALUE!"}]
[" 17391","سلام مزعل موذي",{"$error":"#VALUE!"}]
[" 31300","حسان حسين محمد",{"$error":"#VALUE!"}]
[" 80325","باسم حسن كصاد",{"$error":"#VALUE!"}]
[188881,"باسم رياح صبار",{"$error":"#VALUE!"}]
[" 64602","زيد جمعة زيدان",{"$error":"#VALUE!"}]
[52778,"هاني علي بوال",{"$error":"#VALUE!"}]
[104055,"أسامة نوري زيدان",{"$error":"#VALUE!"}]
[16489,"بشار هلال غايب",{"$error":"#VALUE!"}]
[38230,"صالح حسن محمد",{"$error":"#VALUE!"}]
[559340,"مثنى حسن محمد",{"$error":"#VALUE!"}]
[29686,"سمير خميس محمد",{"$error":"#VALUE!"}]
[93455,"مهند حسين محمد",{"$error":"#VALUE!"}]
[558715,"مصطفى اسعد جاسم",{"$error":"#VALUE!"}]
[72829,"حبيب عبدالله سناد",{"$error":"#VALUE!"}]
[36929,"عدي حاتم علي",{"$error":"#VALUE!"}]
[" 39418","جمعة حمد حماد",{"$error":"#VALUE!"}]
[193134,"ماهر جمعة حمد",{"$error":"#VALUE!"}]
[" 6013","محمد خميس حمد",{"$error":"#VALUE!"}]
[65345,"فائز وهيب تركي",{"$error":"#VALUE!"}]
[81986,"مجيد محمود دخيل",{"$error":"#VALUE!"}]
[24243,"سلمان سليم شلال",{"$error":"#VALUE!"}]
[54399,"فهد سعيد محمود",{"$error":"#VALUE!"}]
[" 136833","أسامة جمعة طراد",{"$error":"#VALUE!"}]
[555196,"عثمان مبارك بردان",{"$error":"#VALUE!"}]
[55017,"مثنى لطيف محمد",{"$error":"#VALUE!"}]
[108755,"مثنى لطيف محمد",{"$error":"#VALUE!"}]
[" 36945","احمد عبيد عبدالله",{"$error":"#VALUE!"}]
[" 31115","حسين علي شهاب",{"$error":"#VALUE!"}]
[37920,"ياسر احمد عبدالله",{"$error":"#VALUE!"}]
[34999,"مخلف عويد فرحان",{"$error":"#VALUE!"}]
[" 14090","محمد سمير كردي",{"$error":"#VALUE!"}]
[5203,"صباح صالح حماد",{"$error":"#VALUE!"}]
[" 37575","علاوي صالح حماد",{"$error":"#VALUE!"}]
[18760,"صفاء محمد فرحان",{"$error":"#VALUE!"}]
[32210,"احمد ملحم ضمير",{"$f":"IF(B445=\"\",\"\",LEFT(SUBSTITUTE(B445,\" \",\"*\",3),FIND(\"*\",SUBSTITUTE(B445,\" \",\"*\",3))-1))","v":{"$error":"#VALUE!"}}]
[15738,"عبدالله عبد محمد",{"$error":"#VALUE!"}]
[558765,"احمد حمد عبد",{"$error":"#VALUE!"}]
[559891,"ايسر محمد خضير",{"$error":"#VALUE!"}]
[" 119596","رحمان كامل عبيد",{"$error":"#VALUE!"}]
[102319,"حارث اكرم زبن",{"$error":"#VALUE!"}]
[64603,"زيد جمعة زيدان",{"$error":"#VALUE!"}]
[67131,"يونس صباح خلف",{"$error":"#VALUE!"}]
[61547,"صلاح مبارك بردان",{"$error":"#VALUE!"}]
[557576,"علي سليمان إبراهيم",{"$error":"#VALUE!"}]
[15542,"نيسان حرب فاضل",{"$error":"#VALUE!"}]
[61651,"مصطفى خميس محمد",{"$error":"#VALUE!"}]
[" 55031","عثمان عجاج وهيب",{"$error":"#VALUE!"}]
[37910,"ماهر عودة علي",{"$error":"#VALUE!"}]
[" 55127","ستار جبر لاحج",{"$error":"#VALUE!"}]
[" 39590","امير اسماعيل غزاي",{"$error":"#VALUE!"}]
[" 54514","وحيد إبراهيم مطيران",{"$error":"#VALUE!"}]
[555048,"محمد نوري عودة",{"$error":"#VALUE!"}]
[" 37810","احمد محمود عبدالله",{"$error":"#VALUE!"}]
[9196,"نهاد عواد فهد",{"$error":"#VALUE!"}]
[556932,"حماد شهاب حمد",{"$error":"#VALUE!"}]
[69219,"وسام زيدان خليف",{"$error":"#VALUE!"}]
[" 61324","عمر حقي محمد",{"$error":"#VALUE!"}]
[" 52015","خلف حمود احمد",{"$error":"#VALUE!"}]
[64076,"خضر طه محمد",{"$error":"#VALUE!"}]
[52818,"سفيان شاكر محمود",{"$error":"#VALUE!"}]
[23768,"علاء صادق محمد",{"$error":"#VALUE!"}]
[65529,"سفيان شاكر محمود",{"$error":"#VALUE!"}]
[" 50185","لؤي محيسن محمد",{"$error":"#VALUE!"}]
[37317,"مالك جبير رشيد",{"$error":"#VALUE!"}]
[" 54398","وحيد صبار فياض",{"$error":"#VALUE!"}]
[87812,"سمير دهام نايل",{"$error":"#VALUE!"}]
[34999,"معتز محمد فرحان",{"$error":"#VALUE!"}]
[33402,"عماد محمد زويد",{"$error":"#VALUE!"}]
[50366,"قاسم محمد عودة",{"$error":"#VALUE!"}]
[" 36875","شاكر محمود عبدالله",{"$error":"#VALUE!"}]
[22870,"حسان حسين محمد",{"$error":"#VALUE!"}]
[560247,"رياض ناهض عبد",{"$error":"#VALUE!"}]
[null,"",""]
[null,"",""]
[null,"",""]
[null,"",""]
[null,"",""]
[null,"",""]
[null,"",""]
[null,"",""]
[null,"",""]
[null,"",""]
[null,"",""]
[null,"",""]
[null,"",""]
[null,"",""]
[null,"",""]
[null,"",""]
[null,"",""]
[null,"",""]
[null,"",""]
[null,"",""]
[null,"",""]
[null,"",""]
[null,"",""]
[null,"",""]
[null,"",""]
[null,"",""]
[null,"",{"$f":"IF(B509=\"\",\"\",LEFT(SUBSTITUTE(B509,\" \",\"*\",3),FIND(\"*\",SUBSTITUTE(B509,\" \",\"*\",3))-1))","v":""}]
[null,"",""]
[null,"",""]
[null,"",""]
[null,"",""]
[null,"",""]
[null,"",""]
[null,"",""]
[null,"",""]
[null,"",""]
[null,"",""]
[null,"",""]
[null,"",""]
[null,"",""]
[null,"",""]
[null,"",""]
[null,"",""]
[null,"",""]
[null,"",""]
[null,"",""]
[null,"",""]
[null,"",""]
[null,"",""]
[null,"",""]
[null,"",""]
[null,"",""]
[null,"",""]
[null,"",""]
[null,"",""]
[null,"",""]
[null,"",""]
[null,"",""]
[null,"",""]
[null,"",""]
[null,"",""]
[null,"",""]
[null,"",""]
[null,"",""]
[null,"",""]
[null,"",""]
[null,"",""]
[null,"",""]
[null,"",""]
[null,"",""]
[null,"",""]
[null,"",""]
[null,"",""]
[null,"",""]
[null,"",""]
[null,"",""]
[null,"",""]
[null,"",""]
[null,"",""]
[null,"",""]
[null,"",""]
[null,"",""]
[null,"",""]
[null,"",""]
[null,"",""]
[null,"",""]
[null,"",""]
[null,"",""]
[null,"",""]
[null,"",""]
[null,"",{"$f":"IF(B573=\"\",\"\",LEFT(SUBSTITUTE(B573,\" \",\"*\",3),FIND(\"*\",SUBSTITUTE(B573,\" \",\"*\",3))-1))","v":""}]
[null,"",""]
[null,"",""]
[null,"",""]
[null,"",""]
[null,"",""]
[null,"",""]
[null,"",""]
[null,"",""]
[null,"",""]
[null,"",""]
[null,"",""]
[null,"",""]
[null,"",""]
[null,"",""]
[null,"",""]
[null,"",""]
[null,"",""]
[null,"",""]
[null,"",""]
[null,"",""]
[null,"",""]
[null,"",""]
[null,"",""]
[null,"",""]
[null,"",""]
[null,"",""]
[null,"",""]
[null,"",""]
[null,"",""]
[null,"",""]
[null,"",""]
[null,"",""]
[null,"",""]
[null,"",""]
[null,"",""]
[null,"",""]
[null,"",""]
[null,"",""]
[null,"",""]
[null,"",""]
[null,"",""]
[null,"",""]
[null,"",""]
[null,"",""]
[null,"",""]
[null,"",""]
[null,"",""]
[null,"",""]
[null,"",""]
[null,"",""]
[null,"",""]
[null,"",""]
[null,"",""]
[null,"",""]
[null,"",""]
[null,"",""]
[null,"",""]
[null,"",""]
[null,"",""]
[null,"",""]
[null,"",""]
[null,"",""]
[null,"",""]
[null,"",{"$f":"IF(B637=\"\",\"\",LEFT(SUBSTITUTE(B637,\" \",\"*\",3),FIND(\"*\",SUBSTITUTE(B637,\" \",\"*\",3))-1))","v":""}]
[null,"",""]
[null,"",""]
[null,"",""]
[null,"",""]
[null,"",""]
[null,"",""]
[null,"",""]
[null,"",""]
[null,"",""]
[null,"",""]
[null,"",""]
[null,"",""]
[null,"",""]
[null,"",""]
[null,"",""]
[null,"",""]
[null,"",""]
[null,"",""]
[null,"",""]
[null,"",""]
[null,"",""]
[null,"",""]
[null,"",""]
[null,"",""]
[null,"",""]
[null,"",""]
[null,"",""]
[null,"",""]
[null,"",""]
[null,"",""]
[null,"",""]
[null,"",""]
[null,"",""]
[null,"",""]
[null,"",""]
[null,"",""]
[null,"",""]
[null,"",""]
[null,"",""]
[null,"",""]
[null,"",""]
[null,"",""]
[null,"",""]
[null,"",""]
[null,"",""]
[null,"",""]
[null,"",""]
[null,"",""]
[null,"",""]
[null,"",""]
[null,"",""]
[null,"",""]
[null,"",""]
[null,"",""]
[null,"",""]
[null,"",""]
[null,"",""]
[null,"",""]
[null,"",""]
[null,"",""]
[null,"",""]
[null,"",""]
[null,"",""]
[null,"",{"$f":"IF(B701=\"\",\"\",LEFT(SUBSTITUTE(B701,\" \",\"*\",3),FIND(\"*\",SUBSTITUTE(B701,\" \",\"*\",3))-1))","v":""}]
[null,"",""]
[null,"",""]
[null,"",""]
[null,"",""]
[null,"",""]
[null,"",""]
[null,"",""]
[null,"",""]
[null,"",""]
[null,"",""]
[null,"",""]
[null,"",""]
[null,"",""]
[null,"",""]
[null,"",""]
[null,"",""]
[null,"",""]
[null,"",""]
[null,"",""]
[null,"",""]
[null,"",""]
[null,"",""]
[null,"",""]
[null,"",""]
[null,"",""]
[null,"",""]
[null,"",""]
[null,"",""]
[null,"",""]
[null,"",""]
[null,"",""]
[null,"",""]
[null,"",""]
[null,"",""]
[null,"",""]
[null,"",""]
[null,"",""]
[null,"",""]
[null,"",""]
[null,"",""]
[null,"",""]
[null,"",""]
[null,"",""]
[null,"",""]
[null,"",""]
[null,"",""]
[null,"",""]
[null,"",""]
[null,"",""]
[null,"",""]
[null,"",""]
[null,"",""]
[null,"",""]
[null,"",""]
[null,"",""]
[null,"",""]
[null,"",""]
[null,"",""]
[null,"",""]
[null,"",""]
[null,"",""]
[null,"",""]
[null,"",""]
[null,"",{"$f":"IF(B765=\"\",\"\",LEFT(SUBSTITUTE(B765,\" \",\"*\",3),FIND(\"*\",SUBSTITUTE(B765,\" \",\"*\",3))-1))","v":""}]
[null,"",""]
[null,"",""]
[null,"",""]
[null,"",""]
[null,"",""]
[null,"",""]
[null,"",""]
[null,"",""]
[null,"",""]
[null,"",""]
[null,"",""]
[null,"",""]
[null,"",""]
[null,"",""]
[null,"",""]
[null,"",""]
[null,"",""]
[null,"",""]
[null,"",""]
[null,"",""]
[null,"",""]
[null,"",""]
[null,"",""]
[null,"",""]
[null,"",""]
[null,"",""]
[null,"",""]
[null,"",""]
[null,"",""]
[null,"",""]
[null,"",""]
[null,"",""]
[null,"",""]
[null,"",""]
[null,"",""]
[null,"",""]
[null,"",""]
[null,"",""]
[null,"",""]
[null,"",""]
[null,"",""]
[null,"",""]
[null,"",""]
[null,"",""]
[null,"",""]
[null,"",""]
[null,"",""]
[null,"",""]
[null,"",""]
[null,"",""]
[null,"",""]
[null,"",""]
[null,"",""]
[null,"",""]
[null,"",""]
[null,"",""]
[null,"",""]
[null,"",""]
[null,"",""]
[null,"",""]
[null,"",""]
[null,"",""]
[null,"",""]
[null,"",{"$f":"IF(B829=\"\",\"\",LEFT(SUBSTITUTE(B829,\" \",\"*\",3),FIND(\"*\",SUBSTITUTE(B829,\" \",\"*\",3))-1))","v":""}]
[null,"",""]
[null,"",""]
[null,"",""]
[null,"",""]
[null,"",""]
[null,"",""]
[null,"",""]
[null,"",""]
[null,"",""]
[null,"",""]
[null,"",""]
[null,"",""]
[null,"",""]
[null,"",""]
[null,"",""]
[null,"",""]
[null,"",""]
[null,"",""]
[null,"",""]
[null,"",""]
[null,"",""]
[null,"",""]
[null,"",""]
[null,"",""]
[null,"",""]
[null,"",""]
[null,"",""]
[null,"",""]
[null,"",""]
[null,"",""]
[null,"",""]
[null,"",""]
[null,"",""]
[null,"",""]
[null,"",""]
[null,"",""]
[null,"",""]
[null,"",""]
[null,"",""]
[null,"",""]
[null,"",""]
[null,"",""]
[null,"",""]
[null,"",""]
[null,"",""]
[null,"",""]
[null,"",""]
[null,"",""]
[null,"",""]
[null,"",""]
[null,"",""]
[null,"",""]
[null,"",""]
[null,"",""]
[null,"",""]
[null,"",""]
[null,"",""]
[null,"",""]
[null,"",""]
[null,"",""]
[null,"",""]
[null,"",""]
[null,"",""]
[null,"",{"$f":"IF(B893=\"\",\"\",LEFT(SUBSTITUTE(B893,\" \",\"*\",3),FIND(\"*\",SUBSTITUTE(B893,\" \",\"*\",3))-1))","v":""}]
[null,"",""]
[null,"",""]
[null,"",""]
[null,"",""]
[null,"",""]
[null,"",""]
[null,"",""]
[null,"",""]
[null,"",""]
[null,"",""]
[null,"",""]
[null,"",""]
[null,"",""]
[null,"",""]
[null,"",""]
[null,"",""]
[null,"",""]
[null,"",""]
[null,"",""]
[null,"",""]
[null,"",""]
[null,"",""]
[null,"",""]
[null,"",""]
[null,"",""]
[null,"",""]
[null,"",""]
[null,"",""]
[null,"",""]
[null,"",""]
[null,"",""]
[null,"",""]
[null,"",""]
[null,"",""]
[null,"",""]
[null,"",""]
[null,"",""]
[null,"",""]
[null,"",""]
[null,"",""]
[null,"",""]
[null,"",""]
[null,"",""]
[null,"",""]
[null,"",""]
[null,"",""]
[null,"",""]
[null,"",""]
[null,"",""]
[null,"",""]
[null,"",""]
[null,"",""]
[null,"",""]
[null,"",""]
[null,"",""]
[null,"",""]
[null,"",""]
[null,"",""]
[null,"",""]
[null,"",""]
[null,"",""]
[null,"",""]
[null,"",""]
[null,"",{"$f":"IF(B957=\"\",\"\",LEFT(SUBSTITUTE(B957,\" \",\"*\",3),FIND(\"*\",SUBSTITUTE(B957,\" \",\"*\",3))-1))","v":""}]
[null,"",""]
[null,"",""]
[null,"",""]
[null,"",""]
[null,"",""]
[null,"",""]
[null,"",""]
[null,"",""]
[null,"",""]
[null,"",""]
[null,"",""]
[null,"",""]
[null,"",""]
[null,"",""]
[null,"",""]
[null,"",""]
[null,"",""]
[null,"",""]
[null,"",""]
[null,"",""]
[null,"",""]
[null,"",""]
[null,"",""]
[null,"",""]
[null,"",""]
[null,"",""]
[null,"",""]
[null,"",""]
[null,"",""]
[null,"",""]
[null,"",""]
[null,"",""]
[null,"",""]
[null,"",""]
[null,"",""]
[null,"",""]
[null,"",""]
[null,"",""]
[null,"",""]
[null,"",""]
[null,"",""]
[null,"",""]
[null,"",""]
[null,"",""]
[null,"",""]
[null,"",""]
[null,"",""]
[null,"",""]
[null,"",""]
[null,"",""]
[null,"",""]
[null,"",""]
[null,"",""]
[null,"",""]
[null,"",""]
[null,"",""]
[null,"",""]
[null,"",""]
[null,"",""]
[null,"",""]
[null,"",""]
[null,"",""]
[null,"",""]
[null,"",{"$f":"IF(B1021=\"\",\"\",LEFT(SUBSTITUTE(B1021,\" \",\"*\",3),FIND(\"*\",SUBSTITUTE(B1021,\" \",\"*\",3))-1))","v":""}]
[null,"",""]
[null,"",""]
[null,"",""]
[null,"",""]
[null,"",""]
[null,"",""]
[null,"",""]
[null,"",""]
[null,"",""]
[null,"",""]
[null,"",""]
[null,"",""]
[null,"",""]
[null,"",""]
[null,"",""]
[null,"",""]
[null,"",""]
[null,"",""]
[null,"",""]
[null,"",""]
[null,"",""]
[null,"",""]
[null,"",""]
[null,"",""]
[null,"",""]
[null,"",""]
[null,"",""]
[null,"",""]
[null,"",""]
[null,"",""]
[null,"",""]
[null,"",""]
[null,"",""]
[null,"",""]
[null,"",""]
[null,"",""]
[null,"",""]
[null,"",""]
[null,"",""]
[null,"",""]
[null,"",""]
[null,"",""]
[null,"",""]
[null,"",""]
[null,"",""]

{"sheet":"استعلام","index":3,"n_rows":13,"n_cols":17,"rows_kept":13,"cut":false,"hidden":false,"merged":[[6,2,6,5],[2,6,3,6],[4,0,5,0],[4,3,4,4],[5,2,5,5],[6,11,6,14],[2,15,3,15],[2,16,3,16],[4,9,5,9],[4,12,4,13],[5,11,5,14]]}
["تاريخ التوزيع","تاريخ التوزيع","رقم السيارة"]
[{"$f":"\">=\"&A4","v":">=44348"},{"$f":"\"<=\"&B4","v":"<=44348"},{"$f":"C4","v":7901}]
["تاريخ التوزيع","تاريخ التوزيع","رقم السيارة",null,null,null,"الاستحقاق",{"$f":"SUM(C9:C16)","v":1200000},null,"تاريخ التوزيع","تاريخ التوزيع","رقم السيارة",null,null,null,"الاستحقاق",{"$f":"H3","v":1200000}]
["2021-06-01","2021-06-01",7901,null,null,null,null,null,21304,{"$f":"A4","v":"2021-06-01"},{"$f":"B4","v":"2021-06-01"},{"$f":"C4","v":7901}]
[null,null,"يصرف  للسيد",{"$f":"VLOOKUP(C4,شهر3!$G$2:$H$17,2,FALSE)","v":"صلاح"},null,"مبلغ وقدره","مبلغ النقص",{"$f":"SUM(E9:E16)","v":0},null,null,null,"يصرف  للسيد",{"$f":"D5","v":"صلاح"},null,"مبلغ وقدره","مبلغ النقص",{"$f":"H5","v":0}]
[null,null,{"$f":"IF(H6=\"\",\"\",numtotxt(H6,\"دينار\",\"فلس\"))","v":"  مليون ومائتان ألف دينار"},null,null,null,"صافي الاستحقاق",{"$f":"H3-H5","v":1200000},null,null,null,{"$f":"C6","v":"  مليون ومائتان ألف دينار"},null,null,null,"صافي الاستحقاق",{"$f":"Q3-Q5","v":1200000}]
[null,null,"عن أستحقاقه عن أجور النقل وكما مبين ادناه",null,null,null,null,null,null,null,null,"عن أستحقاقه عن أجور النقل وكما مبين ادناه"]
["رقم المستند","التاريخ","الاستحقاق","النقص","مبلغ النقص","المحطة","استحقاق المحطة","صافي الاستحقاق",null,"رقم المستند","التاريخ","الاستحقاق","النقص","مبلغ النقص","المحطة","استحقاق المحطة","صافي الاستحقاق"]
[555405,"2021-06-06",400000,0,0,"مستودع",0,400000,null,{"$f":"A9","v":555405},"2021-06-06",400000,0,0,"مستودع",0,400000]
[555414,"2021-06-07",400000,0,0,"مستودع",0,400000,null,555414,"2021-06-07",400000,0,0,"مستودع",0,400000]
[555415,"2021-06-08",400000,0,0,"مستودع",0,400000,null,555415,"2021-06-08",400000,0,0,"مستودع",0,400000]
[null,null,null,null,null,null,null,null,null,0,"00:00:00",0,0,0,0,0,0]
[null,null,null,null,null,null,null,null,null,0,"00:00:00",0,0,0,0,0,0]

{"sheet":"شهر3","index":4,"n_rows":5,"n_cols":18,"rows_kept":5,"cut":false,"hidden":false,"merged":[]}
["رقم المستند","عام/خاص","الداخلي","المحور","المنتوج","التاريخ","رقم السيارة","اسم السائق","الاستحقاق","المندوبية","المكتبية","النقص","مبلغ النقص","الاستحقاق","المحطة","استحقاق المحطة","صافي الاستحقاق","تاريخ التوزيع"]
[]
[555405,"عام",null,"خاص","كاز","2021-06-06",7901,"صلاح",400000,0,0,0,0,400000,"مستودع",0,400000,"2021-06-01"]
[555414,"عام",null,"خاص","كاز","2021-06-07",7901,"صلاح",400000,0,0,0,0,400000,"مستودع",0,400000,"2021-06-01"]
[555415,"عام",null,"خاص","كاز","2021-06-08",7901,"صلاح",400000,0,0,0,0,400000,"مستودع",0,400000,"2021-06-01"]