{"text_format":"1","workbook":"xlsx","n_sheets":3,"sheets":["اساس 2016 مرتب ","الارقام القياسية 2016","نسب التأثير - المعاملات"],"not_rendered":{"charts":0,"images":0,"macros":1,"external_links":0,"defined_names":0,"comments":0,"pivot_tables":0},"unopened":[],"bounds":{"document_bytes":16777216,"sheet_cells":100000,"rows_first":2000,"rows_last":500,"rows_between":2000,"halvings":0,"cell_chars":16384,"cell_head_chars":4096},"cells_cut":0,"cells_raw":0,"read":"whole","date_system":"1900"}

{"sheet":"اساس 2016 مرتب ","index":0,"n_rows":48,"n_cols":13,"rows_kept":48,"cut":false,"hidden":false,"merged":[[2,1,3,1],[2,2,2,3]]}
[null,null,null,null,null,null,0]
[]
[null,"تاريخ الفتح الفني","تاريخ المستخلص",null,null,null,null,null,null,null,null,null,"]["]
[null,null,"من","الى","فترة المستحلص"]
[null,"2018-08-01","2019-10-01","2020-01-01",{"$f":"DATEDIF(C5,D5,\"m\")+1","v":4}]
[]
[]
[]
[]
[{"$f":"EDATE(C$5,ROW()/10-1)","v":"2019-10-01"},"رقم البند","البند","سعر فتح","سعر مستخلص","نسبة التأثير","كمية","سعر","عدد الأيام","الأيام الكلية","الإجمالي"]
[null,1,"سولار",{"$f":"VLOOKUP($B$5,'الارقام القياسية 2016'!$A$2:$I$73,2,0)","v":266.2},{"$f":"VLOOKUP(A10,'الارقام القياسية 2016'!$A$2:$I$73,2,0)","v":315.5},{"$f":"VLOOKUP($B11,'نسب التأثير - المعاملات'!$A$4:$I$29,2,0)","v":0.2},null,null,null,null,{"$f":"(D11*E11)/D11*F11*G11*H11*I11/J11","v":{"$error":"#DIV/0!"}}]
[null,1,"اسمنت بورتلاند",{"$f":"VLOOKUP($B$5,'الارقام القياسية 2016'!$A$2:$I$73,3,0)","v":132.1},{"$f":"VLOOKUP(A10,'الارقام القياسية 2016'!$A$2:$I$73,3,0)","v":137.6},{"$f":"VLOOKUP($B12,'نسب التأثير - المعاملات'!$A$4:$I$29,3,0)","v":0},null,null,null,null,{"$f":"(D12*E12)/D12*F12*G12*H12*I12/J12","v":{"$error":"#DIV/0!"}}]
[null,1,"حديد",{"$f":"VLOOKUP($B$5,'الارقام القياسية 2016'!$A$2:$I$73,4,0)","v":284.7},{"$f":"VLOOKUP(A10,'الارقام القياسية 2016'!$A$2:$I$73,4,0)","v":247.7},{"$f":"VLOOKUP($B13,'نسب التأثير - المعاملات'!$A$4:$I$29,4,0)","v":0},null,null,null,null,{"$error":"#DIV/0!"}]
[null,1,"اسفلت",{"$f":"VLOOKUP($B$5,'الارقام القياسية 2016'!$A$2:$I$73,5,0)","v":311},{"$f":"VLOOKUP(A10,'الارقام القياسية 2016'!$A$2:$I$73,5,0)","v":311},{"$f":"VLOOKUP($B14,'نسب التأثير - المعاملات'!$A$4:$I$29,5,0)","v":0},null,null,null,null,{"$error":"#DIV/0!"}]
[null,1,"قطاعات معدنية",{"$f":"VLOOKUP($B$5,'الارقام القياسية 2016'!$A$2:$I$73,6,0)","v":261.3},{"$f":"VLOOKUP(A10,'الارقام القياسية 2016'!$A$2:$I$73,6,0)","v":230.6},{"$f":"VLOOKUP($B15,'نسب التأثير - المعاملات'!$A$4:$I$29,6,0)","v":0},null,null,null,null,{"$error":"#DIV/0!"}]
[null,1,"غلاف معدني",{"$f":"VLOOKUP($B$5,'الارقام القياسية 2016'!$A$2:$I$73,7,0)","v":284},{"$f":"VLOOKUP(A10,'الارقام القياسية 2016'!$A$2:$I$73,7,0)","v":234.4},{"$f":"VLOOKUP($B16,'نسب التأثير - المعاملات'!$A$4:$I$29,7,0)","v":0},null,null,null,null,{"$error":"#DIV/0!"}]
[null,1,"زوايا وكمرات",{"$f":"VLOOKUP($B$5,'الارقام القياسية 2016'!$A$2:$I$73,8,0)","v":271.39999999999998},{"$f":"VLOOKUP(A10,'الارقام القياسية 2016'!$A$2:$I$73,8,0)","v":276.89999999999998},{"$f":"VLOOKUP($B17,'نسب التأثير - المعاملات'!$A$4:$I$29,8,0)","v":0},null,null,null,null,{"$error":"#DIV/0!"}]
[null,1,"مواسير صلب",{"$f":"VLOOKUP($B$5,'الارقام القياسية 2016'!$A$2:$I$73,9,0)","v":0},{"$f":"VLOOKUP(A10,'الارقام القياسية 2016'!$A$2:$I$73,9,0)","v":0},{"$f":"VLOOKUP($B18,'نسب التأثير - المعاملات'!$A$4:$I$29,9,0)","v":0},null,null,null,null,{"$error":"#DIV/0!"}]
[]
[{"$f":"EDATE(C$5,ROW()/10-1)","v":"2019-11-01"},"رقم البند","البند","سعر فتح","سعر مستخلص","نسبة التأثير","كمية","سعر","عدد الأيام","الأيام الكلية","الإجمالي"]
[null,1,"سولار",{"$f":"VLOOKUP($B$5,'الارقام القياسية 2016'!$A$2:$I$73,2,0)","v":266.2},{"$f":"VLOOKUP(A20,'الارقام القياسية 2016'!$A$2:$I$73,2,0)","v":315.5},{"$f":"VLOOKUP($B21,'نسب التأثير - المعاملات'!$A$4:$I$29,2,0)","v":0.2},null,null,null,null,{"$f":"(D21*E21)/D21*F21*G21*H21*I21/J21","v":{"$error":"#DIV/0!"}}]
[null,1,"اسمنت بورتلاند",{"$f":"VLOOKUP($B$5,'الارقام القياسية 2016'!$A$2:$I$73,3,0)","v":132.1},{"$f":"VLOOKUP(A20,'الارقام القياسية 2016'!$A$2:$I$73,3,0)","v":137.6},{"$f":"VLOOKUP($B22,'نسب التأثير - المعاملات'!$A$4:$I$29,3,0)","v":0},null,null,null,null,{"$f":"(D22*E22)/D22*F22*G22*H22*I22/J22","v":{"$error":"#DIV/0!"}}]
[null,1,"حديد",{"$f":"VLOOKUP($B$5,'الارقام القياسية 2016'!$A$2:$I$73,4,0)","v":284.7},{"$f":"VLOOKUP(A20,'الارقام القياسية 2016'!$A$2:$I$73,4,0)","v":235.7},{"$f":"VLOOKUP($B23,'نسب التأثير - المعاملات'!$A$4:$I$29,4,0)","v":0},null,null,null,null,{"$error":"#DIV/0!"}]
[null,1,"اسفلت",{"$f":"VLOOKUP($B$5,'الارقام القياسية 2016'!$A$2:$I$73,5,0)","v":311},{"$f":"VLOOKUP(A20,'الارقام القياسية 2016'!$A$2:$I$73,5,0)","v":311},{"$f":"VLOOKUP($B24,'نسب التأثير - المعاملات'!$A$4:$I$29,5,0)","v":0},null,null,null,null,{"$error":"#DIV/0!"}]
[null,1,"قطاعات معدنية",{"$f":"VLOOKUP($B$5,'الارقام القياسية 2016'!$A$2:$I$73,6,0)","v":261.3},{"$f":"VLOOKUP(A20,'الارقام القياسية 2016'!$A$2:$I$73,6,0)","v":228.4},{"$f":"VLOOKUP($B25,'نسب التأثير - المعاملات'!$A$4:$I$29,6,0)","v":0},null,null,null,null,{"$error":"#DIV/0!"}]
[null,1,"غلاف معدني",{"$f":"VLOOKUP($B$5,'الارقام القياسية 2016'!$A$2:$I$73,7,0)","v":284},{"$f":"VLOOKUP(A20,'الارقام القياسية 2016'!$A$2:$I$73,7,0)","v":226.1},{"$f":"VLOOKUP($B26,'نسب التأثير - المعاملات'!$A$4:$I$29,7,0)","v":0},null,null,null,null,{"$error":"#DIV/0!"}]
[null,1,"زوايا وكمرات",{"$f":"VLOOKUP($B$5,'الارقام القياسية 2016'!$A$2:$I$73,8,0)","v":271.39999999999998},{"$f":"VLOOKUP(A20,'الارقام القياسية 2016'!$A$2:$I$73,8,0)","v":263.2},{"$f":"VLOOKUP($B27,'نسب التأثير - المعاملات'!$A$4:$I$29,8,0)","v":0},null,null,null,null,{"$error":"#DIV/0!"}]
[null,1,"مواسير صلب",{"$f":"VLOOKUP($B$5,'الارقام القياسية 2016'!$A$2:$I$73,9,0)","v":0},{"$f":"VLOOKUP(A20,'الارقام القياسية 2016'!$A$2:$I$73,9,0)","v":0},{"$f":"VLOOKUP($B28,'نسب التأثير - المعاملات'!$A$4:$I$29,9,0)","v":0},null,null,null,null,{"$error":"#DIV/0!"}]
[]
[{"$f":"EDATE(C$5,ROW()/10-1)","v":"2019-12-01"},"رقم البند","البند","سعر فتح","سعر مستخلص","نسبة التأثير","كمية","سعر","عدد الأيام","الأيام الكلية","الإجمالي"]
[null,1,"سولار",{"$f":"VLOOKUP($B$5,'الارقام القياسية 2016'!$A$2:$I$73,2,0)","v":266.2},{"$f":"VLOOKUP(A30,'الارقام القياسية 2016'!$A$2:$I$73,2,0)","v":315.5},{"$f":"VLOOKUP($B31,'نسب التأثير - المعاملات'!$A$4:$I$29,2,0)","v":0.2},null,null,null,null,{"$f":"(D31*E31)/D31*F31*G31*H31*I31/J31","v":{"$error":"#DIV/0!"}}]
[null,1,"اسمنت بورتلاند",{"$f":"VLOOKUP($B$5,'الارقام القياسية 2016'!$A$2:$I$73,3,0)","v":132.1},{"$f":"VLOOKUP(A30,'الارقام القياسية 2016'!$A$2:$I$73,3,0)","v":137.6},{"$f":"VLOOKUP($B32,'نسب التأثير - المعاملات'!$A$4:$I$29,3,0)","v":0},null,null,null,null,{"$f":"(D32*E32)/D32*F32*G32*H32*I32/J32","v":{"$error":"#DIV/0!"}}]
[null,1,"حديد",{"$f":"VLOOKUP($B$5,'الارقام القياسية 2016'!$A$2:$I$73,4,0)","v":284.7},{"$f":"VLOOKUP(A30,'الارقام القياسية 2016'!$A$2:$I$73,4,0)","v":240.2},{"$f":"VLOOKUP($B33,'نسب التأثير - المعاملات'!$A$4:$I$29,4,0)","v":0},null,null,null,null,{"$error":"#DIV/0!"}]
[null,1,"اسفلت",{"$f":"VLOOKUP($B$5,'الارقام القياسية 2016'!$A$2:$I$73,5,0)","v":311},{"$f":"VLOOKUP(A30,'الارقام القياسية 2016'!$A$2:$I$73,5,0)","v":311},{"$f":"VLOOKUP($B34,'نسب التأثير - المعاملات'!$A$4:$I$29,5,0)","v":0},null,null,null,null,{"$error":"#DIV/0!"}]
[null,1,"قطاعات معدنية",{"$f":"VLOOKUP($B$5,'الارقام القياسية 2016'!$A$2:$I$73,6,0)","v":261.3},{"$f":"VLOOKUP(A30,'الارقام القياسية 2016'!$A$2:$I$73,6,0)","v":226.7},{"$f":"VLOOKUP($B35,'نسب التأثير - المعاملات'!$A$4:$I$29,6,0)","v":0},null,null,null,null,{"$error":"#DIV/0!"}]
[null,1,"غلاف معدني",{"$f":"VLOOKUP($B$5,'الارقام القياسية 2016'!$A$2:$I$73,7,0)","v":284},{"$f":"VLOOKUP(A30,'الارقام القياسية 2016'!$A$2:$I$73,7,0)","v":224.6},{"$f":"VLOOKUP($B36,'نسب التأثير - المعاملات'!$A$4:$I$29,7,0)","v":0},null,null,null,null,{"$error":"#DIV/0!"}]
[null,1,"زوايا وكمرات",{"$f":"VLOOKUP($B$5,'الارقام القياسية 2016'!$A$2:$I$73,8,0)","v":271.39999999999998},{"$f":"VLOOKUP(A30,'الارقام القياسية 2016'!$A$2:$I$73,8,0)","v":276.89999999999998},{"$f":"VLOOKUP($B37,'نسب التأثير - المعاملات'!$A$4:$I$29,8,0)","v":0},null,null,null,null,{"$error":"#DIV/0!"}]
[null,1,"مواسير صلب",{"$f":"VLOOKUP($B$5,'الارقام القياسية 2016'!$A$2:$I$73,9,0)","v":0},{"$f":"VLOOKUP(A30,'الارقام القياسية 2016'!$A$2:$I$73,9,0)","v":0},{"$f":"VLOOKUP($B38,'نسب التأثير - المعاملات'!$A$4:$I$29,9,0)","v":0},null,null,null,null,{"$error":"#DIV/0!"}]
[]
[{"$f":"EDATE(C$5,ROW()/10-1)","v":"2020-01-01"},"رقم البند","البند","سعر فتح","سعر مستخلص","نسبة التأثير","كمية","سعر","عدد الأيام","الأيام الكلية","الإجمالي"]
[null,1,"سولار",{"$f":"VLOOKUP($B$5,'الارقام القياسية 2016'!$A$2:$I$73,2,0)","v":266.2},{"$f":"VLOOKUP(A40,'الارقام القياسية 2016'!$A$2:$I$73,2,0)","v":315.5},{"$f":"VLOOKUP($B41,'نسب التأثير - المعاملات'!$A$4:$I$29,2,0)","v":0.2},null,null,null,null,{"$f":"(D41*E41)/D41*F41*G41*H41*I41/J41","v":{"$error":"#DIV/0!"}}]
[null,1,"اسمنت بورتلاند",{"$f":"VLOOKUP($B$5,'الارقام القياسية 2016'!$A$2:$I$73,3,0)","v":132.1},{"$f":"VLOOKUP(A40,'الارقام القياسية 2016'!$A$2:$I$73,3,0)","v":137.9},{"$f":"VLOOKUP($B42,'نسب التأثير - المعاملات'!$A$4:$I$29,3,0)","v":0},null,null,null,null,{"$f":"(D42*E42)/D42*F42*G42*H42*I42/J42","v":{"$error":"#DIV/0!"}}]
[null,1,"حديد",{"$f":"VLOOKUP($B$5,'الارقام القياسية 2016'!$A$2:$I$73,4,0)","v":284.7},{"$f":"VLOOKUP(A40,'الارقام القياسية 2016'!$A$2:$I$73,4,0)","v":240.2},{"$f":"VLOOKUP($B43,'نسب التأثير - المعاملات'!$A$4:$I$29,4,0)","v":0},null,null,null,null,{"$error":"#DIV/0!"}]
[null,1,"اسفلت",{"$f":"VLOOKUP($B$5,'الارقام القياسية 2016'!$A$2:$I$73,5,0)","v":311},{"$f":"VLOOKUP(A40,'الارقام القياسية 2016'!$A$2:$I$73,5,0)","v":289.8},{"$f":"VLOOKUP($B44,'نسب التأثير - المعاملات'!$A$4:$I$29,5,0)","v":0},null,null,null,null,{"$error":"#DIV/0!"}]
[null,1,"قطاعات معدنية",{"$f":"VLOOKUP($B$5,'الارقام القياسية 2016'!$A$2:$I$73,6,0)","v":261.3},{"$f":"VLOOKUP(A40,'الارقام القياسية 2016'!$A$2:$I$73,6,0)","v":225.8},{"$f":"VLOOKUP($B45,'نسب التأثير - المعاملات'!$A$4:$I$29,6,0)","v":0},null,null,null,null,{"$error":"#DIV/0!"}]
[null,1,"غلاف معدني",{"$f":"VLOOKUP($B$5,'الارقام القياسية 2016'!$A$2:$I$73,7,0)","v":284},{"$f":"VLOOKUP(A40,'الارقام القياسية 2016'!$A$2:$I$73,7,0)","v":263.2},{"$f":"VLOOKUP($B46,'نسب التأثير - المعاملات'!$A$4:$I$29,7,0)","v":0},null,null,null,null,{"$error":"#DIV/0!"}]
[null,1,"زوايا وكمرات",{"$f":"VLOOKUP($B$5,'الارقام القياسية 2016'!$A$2:$I$73,8,0)","v":271.39999999999998},{"$f":"VLOOKUP(A40,'الارقام القياسية 2016'!$A$2:$I$73,8,0)","v":260.8},{"$f":"VLOOKUP($B47,'نسب التأثير - المعاملات'!$A$4:$I$29,8,0)","v":0},null,null,null,null,{"$error":"#DIV/0!"}]
[null,1,"مواسير صلب",{"$f":"VLOOKUP($B$5,'الارقام القياسية 2016'!$A$2:$I$73,9,0)","v":0},{"$f":"VLOOKUP(A40,'الارقام القياسية 2016'!$A$2:$I$73,9,0)","v":0},{"$f":"VLOOKUP($B48,'نسب التأثير - المعاملات'!$A$4:$I$29,9,0)","v":0},null,null,null,null,{"$error":"#DIV/0!"}]

{"sheet":"الارقام القياسية 2016","index":1,"n_rows":73,"n_cols":9,"rows_kept":73,"cut":false,"hidden":false,"merged":[]}
["البند / الشهر","سولار","اسمنت بورتلاند","حديد","اسفلت","قطاعات معدنية","غلاف معدني","زوايا وكمرات","مواسير صلب ملحومة"]
["2016-01-01"]
["2016-02-01"]
["2016-03-01"]
["2016-04-01"]
["2016-05-01"]
["2016-06-01"]
["2016-07-01"]
["2016-08-01"]
["2016-09-01"]
["2016-10-01"]
["2016-11-01"]
["2016-12-01"]
["2017-01-01"]
["2017-02-01"]
["2017-03-01"]
["2017-04-01"]
["2017-05-01"]
["2017-06-01"]
["2017-07-01"]
["2017-08-01",187.1,123.2,259.10000000000002,231.5,238.9,260.5,238.2]
["2017-09-01",187.1,125,267.60000000000002,231.5,239,263,240.7]
["2017-10-01",187.1,117.5,272.10000000000002,284.89999999999998,245.9,267.3,254.1]
["2017-11-01",187.1,138.5,272.10000000000002,284.89999999999998,245.9,267.3,254.1]
["2017-12-01",187.1,144.1,272.10000000000002,284.89999999999998,245.9,267.3,252.9]
["2018-01-01",187.1,144.1,272.10000000000002,284.89999999999998,248.9,267.3,252.9]
["2018-02-01",187.1,144.1,272.10000000000002,284.89999999999998,248.9,267.3,252.9]
["2018-03-01",187.1,175.4,290.7,284.89999999999998,255.6,275.10000000000002,260.7]
["2018-04-01",187.1,144.6,284.7,311,261.3,284,271.39999999999998]
["2018-05-01",187.1,137.9,284.7,311,261.3,284,271.39999999999998]
["2018-06-01",266.2,142.5,284.7,311,261.3,284,271.39999999999998]
["2018-07-01",266.2,143,284.7,311,261.3,284,271.39999999999998]
["2018-08-01",266.2,132.1,284.7,311,261.3,284,271.39999999999998]
["2018-09-01",266.2,132.1,284.7,311,261.3,284,271.39999999999998]
["2018-10-01",266.2,134.69999999999999,277.2,311,261.3,284,271.39999999999998]
["2018-11-01",266.2,134.69999999999999,277.2,311,261.3,284,271.39999999999998]
["2018-12-01",266.2,131.9,263.7,311,256.60000000000002,284,271.39999999999998]
["2019-01-01",266.2,131.9,263.7,311,250.6,278.2,271.60000000000002]
["2019-02-01",266.2,131.9,263.7,311,249.2,274.5,271.60000000000002]
["2019-03-01",266.2,131.9,263.7,311,249.2,274.5,271.60000000000002]
["2019-04-01",266.2,131.9,263.7,311,249.2,274.5,271.60000000000002]
["2019-05-01",266.2,131.9,267.7,311,249.2,272.3,271.60000000000002]
["2019-06-01",266.2,131.9,270.2,311,249.2,272.3,271.60000000000002]
["2019-07-01",319.60000000000002,137.80000000000001,270.2,311,246.6,263,271.60000000000002]
["2019-08-01",319.60000000000002,137.6,270.2,311,243.1,246.3,271.60000000000002]
["2019-09-01",319.60000000000002,137.6,270.2,311,233.5,238.5,276.89999999999998]
["2019-10-01",315.5,137.6,247.7,311,230.6,234.4,276.89999999999998]
["2019-11-01",315.5,137.6,235.7,311,228.4,226.1,263.2]
["2019-12-01",315.5,137.6,240.2,311,226.7,224.6,276.89999999999998]
["2020-01-01",315.5,137.9,240.2,289.8,225.8,263.2,260.8]
["2020-02-01",315.5,137.9,229.5,289.8,225.8,220.9,260.8,260.8]
["2020-03-01",315.5,137.9,232.1,289.8,225.8,220.9,260.8,260.8]
["2020-04-01",311.3,137.9,232.1,274,225.8,220.9,260.8,260.8]
["2020-05-01",311.3,137.9,232.1,274,225.8,220.9,260.8,260.8]
["2020-06-01",311.3,137.9,232.1,274,214.5,214.5,260.8,260.8]
["2020-07-01",311.3,148.19999999999999,232.1,274,207.4,211.3,260.8,260.8]
["2020-08-01",311.3,148.19999999999999,221.6,274,205.9,208,260.8,260.8]
["2020-09-01",311.3,148.19999999999999,221.6,274,205.6,208,260.8,260.8]
["2020-10-01",311.3,148.19999999999999,229.6,274,204,208,260.8,260.8]
["2020-11-01",311.3,148.19999999999999,229.6,274,204,208,260.8,260.8]
["2020-12-01",311.3,148.19999999999999,287.60000000000002,274,224.5,201.3,260.8,260.8]
["2021-01-01",311.3,148.19999999999999,310.3,274,234.2,298.60000000000002,301.5,260.8]
["2021-02-01",311.3,148.4,310.3,303.10000000000002,245.5,298.60000000000002,301.5,260.8]
["2021-03-01",311.3,150.6,310.3,303.10000000000002,243.9,290,291,260.8]
["2021-04-01",315.39999999999998,152.69999999999999,310.3,358.4,251.7,338.5,318,274.89999999999998]
["2021-05-01",315.39999999999998,152.69999999999999,313.7,358.4,251.7,420.3,419.5,274.89999999999998]
["2021-06-01"]
["2021-07-01"]
["2021-08-01"]
["2021-09-01"]
["2021-10-01"]
["2021-11-01"]
["2021-12-01"]

{"sheet":"نسب التأثير - المعاملات","index":2,"n_rows":29,"n_cols":13,"rows_kept":29,"cut":false,"hidden":false,"merged":[]}
[]
[]
["رقم البند","سولار","اسمنت بورتلاند","حديد","اسفلت","قطاعات معدنية","غلاف معدني","زوايا وكمرات","مواسير صلب"]
[1,0.2,null,null,null,null,null,null,null,null,"رقم البند","نسب التأثير"]
[2,0.2,null,null,null,null,null,null,null,null,14,{"$f":"VLOOKUP($K$5,'نسب التأثير - المعاملات'!$A$4:$I$28,2,0)","v":0.1},"سولار"]
[3,0.2,null,null,null,null,null,null,null,null,null,{"$f":"VLOOKUP($K$5,'نسب التأثير - المعاملات'!$A$4:$I$28,3,0)","v":0.25},"اسمنت بورتلاند"]
[4,0.2,null,null,null,null,null,null,null,null,null,{"$f":"VLOOKUP($K$5,'نسب التأثير - المعاملات'!$A$4:$I$28,4,0)","v":0},"حديد"]
[5,0.2,null,null,null,null,null,null,null,null,null,{"$f":"VLOOKUP($K$5,'نسب التأثير - المعاملات'!$A$4:$I$28,5,0)","v":0},"اسفلت"]
[6,0.2,null,null,null,null,null,null,null,null,null,{"$f":"VLOOKUP($K$5,'نسب التأثير - المعاملات'!$A$4:$I$28,6,0)","v":0},"قطاعات معدنية"]
[7,0.1,null,null,0.75,null,null,null,null,null,null,{"$f":"VLOOKUP($K$5,'نسب التأثير - المعاملات'!$A$4:$I$28,7,0)","v":0},"غلاف معدني"]
[8,0.15,null,null,0.5,null,null,null,null,null,null,{"$f":"VLOOKUP($K$5,'نسب التأثير - المعاملات'!$A$4:$I$28,8,0)","v":0},"زوايا وكمرات"]
[9,0.15,null,null,0.65,null,null,null,null,null,null,{"$f":"VLOOKUP($K$5,'نسب التأثير - المعاملات'!$A$4:$I$28,9,0)","v":0},"مواسير صلب"]
[10,0.15,null,null,0.5]
[11,0.15,null,null,0.5]
[12,0.15,0.35]
[13,0.15]
[14,0.1,0.25]
[15,0.1,0.25]
[16,0.1,0.2,0.35]
[17,0.15,0.3,0.1]
[18,0.15,0.3,0.1]
[19,0.1,0.35]
[20]
[21]
[22]
[23]
[24]
[25]
[26]