{"text_format":"1","workbook":"xlsx","n_sheets":8,"sheets":["data","list garde","tab garde","tabprof","gradeeta","gradeeta (2)","جدول الامتحان 3","جدول الامتحان 1 2"],"not_rendered":{"charts":0,"images":2,"macros":1,"external_links":1,"defined_names":6,"comments":0,"pivot_tables":0},"unopened":[],"bounds":{"document_bytes":16777216,"sheet_cells":100000,"rows_first":2000,"rows_last":500,"rows_between":2000,"halvings":0,"cell_chars":16384,"cell_head_chars":4096},"cells_cut":0,"cells_raw":0,"read":"whole","date_system":"1900"}

{"sheet":"data","index":0,"n_rows":98,"n_cols":10,"rows_kept":98,"cut":false,"hidden":false,"merged":[[36,9,43,9],[0,5,0,6],[4,9,11,9],[12,9,19,9],[20,9,27,9],[28,9,35,9]]}
[null,"فى حالة  مادتين فى نفس الفترة اكتب المادتين معا  مثلا فيزياء+عربية",null,null,null,"ادخل تاريخ بداية الامتحان",null,"2021-11-28","العنوان","جدول حراسة اختبارات الفصل الثاني"]
[null,null,null,null,null,null,null,null,"السنة الدراسية","2012/2011"]
[null,"مواد الامتحان",null,null,null,null,null,"مواد الامتحان"]
[null,"المادة","الفترة","التاريخ",null,null,null,"المادة","الفترة","التاريخ"]
[1,"عربية","الصباحية1",{"$f":"$H$1","v":"2021-11-28"},null,null,1,"عربية","10-08",{"$f":"$H$1","v":"2021-11-28"}]
[2,null,"الصباحية2",{"$f":"$H$1","v":"2021-11-28"},null,null,2,null,"11-08"]
[3,"انجليزية","المسائية","2021-11-28",null,null,3,"انجليزية","12-10"]
[4,"رياضيات","الصباحية1",{"$f":"$H$1+1","v":"2021-11-29"},null,null,4,"رياضيات","12-08"]
[5,null,"الصباحية2",{"$f":"$H$1+1","v":"2021-11-29"},null,null,5,null,"15-13"]
[6,"تاريخ","المسائية","2021-11-29",null,null,6,"تاريخ","16-13"]
[7,"علوم","الصباحية1",{"$f":"$H$1+2","v":"2021-11-30"},null,null,7,"علوم","17-15"]
[8,null,"الصباحية2",{"$f":"$H$1+2","v":"2021-11-30"},null,null,8,null,"17-13"]
[9,"فرنسية","المسائية","2021-11-30",null,null,9,"فرنسية","10-08",{"$f":"$H$1+1","v":"2021-11-29"}]
[10,"ع اسلامية","الصباحية1",{"$f":"$H$1+3","v":"2021-12-01"},null,null,10,"ع اسلامية","11-08"]
[11,"قانون","الصباحية2",{"$f":"$H$1+3","v":"2021-12-01"},null,null,11,"قانون","12-10"]
[12,null,"المسائية","2021-12-01",null,null,12,null,"12-08"]
[13,"فيزياء","الصباحية1",{"$f":"$H$1+4","v":"2021-12-02"},null,null,13,"فيزياء","15-13"]
[14,null,"الصباحية2",{"$f":"$H$1+4","v":"2021-12-02"},null,null,14,null,"16-13"]
[15,"فلسفة","المسائية","2021-12-02",null,null,15,"فلسفة","17-15"]
[{"$f":"IF(B20=\"\",\"\",A19+1)","v":""},null,null,null,null,null,16,null,"17-13"]
["المادة",null,"الرقم","لقب و اسم الاستاذ","الاطار","المادة",17,"فلسفة","10-08",{"$f":"$H$1+2","v":"2021-11-30"}]
["رياضيات",null,1,"استاذ1","ا.ت.ث","رياضيات",18,null,"11-08"]
["فيزياء",null,2,"استاذ2","ا.ت.ث","رياضيات",19,"فلسفة","12-10"]
["ع. طبيعية",null,3,"استاذ3","ا.ت.ث","رياضيات",20,null,"12-08"]
["لغة عربية",null,4,"استاذ4","ا.ت.ث","رياضيات",21,"فلسفة","15-13"]
["ع.اسلامية",null,5,"استاذ5","ا.ت.ث","رياضيات",22,null,"16-13"]
["فلسفة",null,6,"استاذ6","ا.ت.ث","فيزياء",23,"فلسفة","17-15"]
["فرنسية",null,7,"استاذ7","ا.ت.ث","فيزياء",24,null,"17-13"]
["انجليزية",null,8,"استاذ8","ا.ت.ث","فيزياء",25,"فلسفة","10-08",{"$f":"$H$1+3","v":"2021-12-01"}]
["تاريخ",null,9,"استاذ9","ا.ت.ث","فيزياء",26,null,"11-08"]
["ت.بدنية",null,10,"استاذ10","ا.ت.ث","ع. طبيعية",27,"فلسفة","12-10"]
["تكنولوجيا",null,11,"استاذ11","ا.ت.ث","ع. طبيعية",28,null,"12-08"]
["كهرباء",null,12,"استاذ12","ا.ت.ث","ع. طبيعية",29,"فلسفة","15-13"]
["هـ.مدنية",null,13,"استاذ13","ا.ت.ث","ع. طبيعية",30,null,"16-13"]
["هـ.ميكانيكية",null,14,"استاذ14","ا.ت.ث","لغة عربية",31,"فلسفة","17-15"]
["هـ.طرائق",null,15,"استاذ15","ا.ت.ث","لغة عربية",32,null,"17-13"]
["ا.الى",null,16,"استاذ16","ا.ت.ث","لغة عربية",33,"فلسفة","10-08",{"$f":"$H$1+4","v":"2021-12-02"}]
["اقتصاد",null,17,"استاذ17","ا.ت.ث","لغة عربية",34,null,"11-08"]
[null,null,18,"استاذ18","ا.ت.ث","ع.اسلامية",35,"فلسفة","12-10"]
[null,null,19,"استاذ19","ا.ت.ث","ع.اسلامية",36,null,"12-08"]
[null,null,20,"استاذ20","ا.ت.ث","تاريخ",37,"فلسفة","15-13"]
[null,null,21,"استاذ21","ا.ت.ث","تاريخ",38,null,"16-13"]
[null,null,22,"استاذ22","ا.ت.ث","تاريخ",39,"فلسفة","17-15"]
[null,null,23,"استاذ23","ا.ت.ث","انجليزية",40,null,"17-13"]
[null,null,24,"استاذ24","ا.ت.ث","انجليزية"]
[null,null,25,"استاذ25","ا.ت.ث","انجليزية"]
[null,null,26,"استاذ26","ا.ت.ث","فرنسية"]
[null,null,27,"استاذ27","ا.ت.ث","فرنسية"]
[null,null,28,"استاذ28","ا.ت.ث","فرنسية"]
[null,null,29,"استاذ29","ا.ت.ث","فلسفة"]
[null,null,30,"استاذ30","ا.ت.ث","فلسفة"]
[null,null,31,"استاذ31","ا.ت.ث","هـ.مدنية"]
[null,null,32,"استاذ32","ا.ت.ث","كهرباء"]
[null,null,33,"استاذ33","ا.ت.ث","ا.الى"]
[null,null,34,"استاذ34","ا.ت.ث","اقتصاد"]
[null,null,35,"استاذ35","ا.ت.ث","ت.بدنية"]
[null,null,36,"استاذ36","ا.ت.ث","ت.بدنية"]
[null,null,37,"استاذ37"]
[null,null,38,"استاذ38"]
[null,null,39,"استاذ39"]
[null,null,40,"استاذ40"]
[null,null,41,"استاذ41"]
[null,null,42,"استاذ42"]
[null,null,43,"استاذ43"]
[null,null,44,"استاذ44"]
[null,null,45,"استاذ45"]
[null,null,46,"استاذ46"]
[null,null,47,"استاذ47"]
[null,null,48,"استاذ48"]
[null,null,49,"استاذ49"]
[null,null,50,"استاذ50"]
[null,null,51,"استاذ51"]
[null,null,52,"استاذ52"]
[null,null,53,"استاذ53"]
[null,null,54,"استاذ54"]
[null,null,55,"استاذ55"]
[null,null,56,"استاذ56"]
[null,null,57,"فارغ"]
[null,null,58,"فارغ"]
[null,null,59,"فارغ"]
[null,null,60,"فارغ"]
[null,null,61,"فارغ"]
[null,null,62,"فارغ"]
[null,null,63,"فارغ"]
[null,null,64,"فارغ"]
[null,null,65,"فارغ"]
[null,null,66,"فارغ"]
[null,null,67,"فارغ"]
[null,null,68,"فارغ"]
[null,null,69,"فارغ"]
[null,null,70,"فارغ"]
[null,null,71,"فارغ"]
[null,null,72,"فارغ"]
[null,null,73,"فارغ"]
[null,null,74,"فارغ"]
[null,null,75,"فارغ"]
[null,null,76,"فارغ"]
[null,null,77,"فارغ"]

{"sheet":"list garde","index":1,"n_rows":81,"n_cols":36,"rows_kept":81,"cut":false,"hidden":false,"merged":[[0,18,0,23],[0,24,0,29],[0,30,0,35],[0,6,0,11],[0,12,0,17]]}
[null,"حدد بلون مغاير الخانات التى لا تريد اللاستاذ يحرس بها",null,null,null,null,{"$f":"data!D5","v":"2021-11-28"},null,null,null,null,null,{"$f":"$G$1+1","v":"2021-11-29"},null,null,null,null,null,{"$f":"$M$1+1","v":"2021-11-30"},null,null,null,null,null,{"$f":"$S$1+1","v":"2021-12-01"},null,null,null,null,null,{"$f":"$Y$1+1","v":"2021-12-02"}]
[null,"ادخل رقم القاعة امام اسم الاستاذ",null,null,null,null,1,2,3,4,5,6,7,8,9,10,11,12,13,14,15,16,17,18,19,20,21,22,23,24,25,26,27,28,29,30]
["الرقم","اللقب و الاسم","الاطار","المادة","عدد القاعات","مجموع ساعات","10-08","11-08","12-10","12-08","16-14","17-14","10-08","11-08","12-10","12-08","16-14","17-14","10-08","11-08","12-10","12-08","16-14","17-14","10-08","11-08","12-10","12-08","16-14","17-14","10-08","11-08","12-10","12-08","16-14","17-14"]
[1,{"$f":"IF(data!D22=\"فارغ\",\"\",data!D22)","v":"استاذ1"},{"$f":"IF(B4=\"\",\"\",data!E22)","v":"ا.ت.ث"},{"$f":"IF(B4=\"\",\"\",data!F22)","v":"رياضيات"},{"$f":"COUNT(G4:AJ4)","v":1},{"$f":"SUMIFS($G$81:$AJ$81,G4:AJ4,\">0\")","v":3},null,null,null,null,null,null,null,null,null,null,null,null,null,14]
[2,{"$f":"IF(data!D23=\"فارغ\",\"\",data!D23)","v":"استاذ2"},{"$f":"IF(B5=\"\",\"\",data!E23)","v":"ا.ت.ث"},{"$f":"IF(B5=\"\",\"\",data!F23)","v":"رياضيات"},{"$f":"COUNT(G5:AJ5)","v":1},3,null,1]
[3,{"$f":"IF(data!D24=\"فارغ\",\"\",data!D24)","v":"استاذ3"},{"$f":"IF(B6=\"\",\"\",data!E24)","v":"ا.ت.ث"},{"$f":"IF(B6=\"\",\"\",data!F24)","v":"رياضيات"},{"$f":"COUNT(G6:AJ6)","v":1},2,14]
[4,{"$f":"IF(data!D25=\"فارغ\",\"\",data!D25)","v":"استاذ4"},{"$f":"IF(B7=\"\",\"\",data!E25)","v":"ا.ت.ث"},{"$f":"IF(B7=\"\",\"\",data!F25)","v":"رياضيات"},1,2,15]
[5,{"$f":"IF(data!D26=\"فارغ\",\"\",data!D26)","v":"استاذ5"},{"$f":"IF(B8=\"\",\"\",data!E26)","v":"ا.ت.ث"},{"$f":"IF(B8=\"\",\"\",data!F26)","v":"رياضيات"},1,2,null,null,null,null,10]
[6,{"$f":"IF(data!D27=\"فارغ\",\"\",data!D27)","v":"استاذ6"},{"$f":"IF(B9=\"\",\"\",data!E27)","v":"ا.ت.ث"},{"$f":"IF(B9=\"\",\"\",data!F27)","v":"فيزياء"},1,2,null,null,null,null,11]
[7,{"$f":"IF(data!D28=\"فارغ\",\"\",data!D28)","v":"استاذ7"},{"$f":"IF(B10=\"\",\"\",data!E28)","v":"ا.ت.ث"},{"$f":"IF(B10=\"\",\"\",data!F28)","v":"فيزياء"},1,2,null,null,null,null,12]
[8,{"$f":"IF(data!D29=\"فارغ\",\"\",data!D29)","v":"استاذ8"},{"$f":"IF(B11=\"\",\"\",data!E29)","v":"ا.ت.ث"},{"$f":"IF(B11=\"\",\"\",data!F29)","v":"فيزياء"},1,2,null,null,null,null,13]
[9,{"$f":"IF(data!D30=\"فارغ\",\"\",data!D30)","v":"استاذ9"},{"$f":"IF(B12=\"\",\"\",data!E30)","v":"ا.ت.ث"},{"$f":"IF(B12=\"\",\"\",data!F30)","v":"فيزياء"},1,2,null,null,null,null,null,null,17]
[10,{"$f":"IF(data!D31=\"فارغ\",\"\",data!D31)","v":"استاذ10"},{"$f":"IF(B13=\"\",\"\",data!E31)","v":"ا.ت.ث"},{"$f":"IF(B13=\"\",\"\",data!F31)","v":"ع. طبيعية"},1,3,null,null,null,null,null,null,null,10]
[11,{"$f":"IF(data!D32=\"فارغ\",\"\",data!D32)","v":"استاذ11"},{"$f":"IF(B14=\"\",\"\",data!E32)","v":"ا.ت.ث"},{"$f":"IF(B14=\"\",\"\",data!F32)","v":"ع. طبيعية"},1,3,null,null,null,null,null,null,null,11]
[12,{"$f":"IF(data!D33=\"فارغ\",\"\",data!D33)","v":"استاذ12"},{"$f":"IF(B15=\"\",\"\",data!E33)","v":"ا.ت.ث"},{"$f":"IF(B15=\"\",\"\",data!F33)","v":"ع. طبيعية"},1,3,null,null,null,null,null,null,null,12]
[13,{"$f":"IF(data!D34=\"فارغ\",\"\",data!D34)","v":"استاذ13"},{"$f":"IF(B16=\"\",\"\",data!E34)","v":"ا.ت.ث"},{"$f":"IF(B16=\"\",\"\",data!F34)","v":"ع. طبيعية"},1,4,null,null,null,null,null,null,null,null,null,16]
[14,{"$f":"IF(data!D35=\"فارغ\",\"\",data!D35)","v":"استاذ14"},{"$f":"IF(B17=\"\",\"\",data!E35)","v":"ا.ت.ث"},{"$f":"IF(B17=\"\",\"\",data!F35)","v":"لغة عربية"},1,3,null,null,null,null,null,null,null,null,null,null,null,10]
[15,{"$f":"IF(data!D36=\"فارغ\",\"\",data!D36)","v":"استاذ15"},{"$f":"IF(B18=\"\",\"\",data!E36)","v":"ا.ت.ث"},{"$f":"IF(B18=\"\",\"\",data!F36)","v":"لغة عربية"},1,3,null,null,null,null,null,null,null,null,null,null,null,11]
[16,{"$f":"IF(data!D37=\"فارغ\",\"\",data!D37)","v":"استاذ16"},{"$f":"IF(B19=\"\",\"\",data!E37)","v":"ا.ت.ث"},{"$f":"IF(B19=\"\",\"\",data!F37)","v":"لغة عربية"},1,2,2]
[17,{"$f":"IF(data!D38=\"فارغ\",\"\",data!D38)","v":"استاذ17"},{"$f":"IF(B20=\"\",\"\",data!E38)","v":"ا.ت.ث"},{"$f":"IF(B20=\"\",\"\",data!F38)","v":"لغة عربية"},1,4,null,null,null,null,null,null,null,null,null,null,null,null,null,null,null,13]
[18,{"$f":"IF(data!D39=\"فارغ\",\"\",data!D39)","v":"استاذ18"},{"$f":"IF(B21=\"\",\"\",data!E39)","v":"ا.ت.ث"},{"$f":"IF(B21=\"\",\"\",data!F39)","v":"ع.اسلامية"},1,4,null,null,null,null,null,null,null,null,null,null,null,null,null,null,null,12]
[19,{"$f":"IF(data!D40=\"فارغ\",\"\",data!D40)","v":"استاذ19"},{"$f":"IF(B22=\"\",\"\",data!E40)","v":"ا.ت.ث"},{"$f":"IF(B22=\"\",\"\",data!F40)","v":"ع.اسلامية"},1,4,null,null,null,null,null,null,null,null,null,null,null,null,null,null,null,10]
[20,{"$f":"IF(data!D41=\"فارغ\",\"\",data!D41)","v":"استاذ20"},{"$f":"IF(B23=\"\",\"\",data!E41)","v":"ا.ت.ث"},{"$f":"IF(B23=\"\",\"\",data!F41)","v":"تاريخ"},1,4,null,null,null,null,null,null,null,null,null,null,null,null,null,null,null,11]
[21,{"$f":"IF(data!D42=\"فارغ\",\"\",data!D42)","v":"استاذ21"},{"$f":"IF(B24=\"\",\"\",data!E42)","v":"ا.ت.ث"},{"$f":"IF(B24=\"\",\"\",data!F42)","v":"تاريخ"},2,4,null,null,null,null,null,null,null,null,null,null,null,null,null,null,null,null,null,null,10,null,12]
[22,{"$f":"IF(data!D43=\"فارغ\",\"\",data!D43)","v":"استاذ22"},{"$f":"IF(B25=\"\",\"\",data!E43)","v":"ا.ت.ث"},{"$f":"IF(B25=\"\",\"\",data!F43)","v":"تاريخ"},1,2,null,null,null,null,null,null,null,null,null,null,null,null,null,null,null,null,null,null,11]
[23,{"$f":"IF(data!D44=\"فارغ\",\"\",data!D44)","v":"استاذ23"},{"$f":"IF(B26=\"\",\"\",data!E44)","v":"ا.ت.ث"},{"$f":"IF(B26=\"\",\"\",data!F44)","v":"انجليزية"},1,2,null,null,null,null,null,null,null,null,null,null,null,null,null,null,null,null,null,null,12]
[24,{"$f":"IF(data!D45=\"فارغ\",\"\",data!D45)","v":"استاذ24"},{"$f":"IF(B27=\"\",\"\",data!E45)","v":"ا.ت.ث"},{"$f":"IF(B27=\"\",\"\",data!F45)","v":"انجليزية"},1,2,null,null,null,null,null,null,null,null,null,null,null,null,null,null,null,null,null,null,13]
[25,{"$f":"IF(data!D46=\"فارغ\",\"\",data!D46)","v":"استاذ25"},{"$f":"IF(B28=\"\",\"\",data!E46)","v":"ا.ت.ث"},{"$f":"IF(B28=\"\",\"\",data!F46)","v":"انجليزية"},1,2,null,null,null,null,null,null,null,null,null,null,null,null,null,null,null,null,null,null,null,null,null,null,10]
[26,{"$f":"IF(data!D47=\"فارغ\",\"\",data!D47)","v":"استاذ26"},{"$f":"IF(B29=\"\",\"\",data!E47)","v":"ا.ت.ث"},{"$f":"IF(B29=\"\",\"\",data!F47)","v":"فرنسية"},1,2,null,null,null,null,null,null,null,null,null,null,null,null,null,null,null,null,null,null,null,null,null,null,11]
[27,{"$f":"IF(data!D48=\"فارغ\",\"\",data!D48)","v":"استاذ27"},{"$f":"IF(B30=\"\",\"\",data!E48)","v":"ا.ت.ث"},{"$f":"IF(B30=\"\",\"\",data!F48)","v":"فرنسية"},1,2,null,null,null,null,null,null,null,null,null,null,null,null,null,null,null,null,null,null,null,null,null,null,12]
[28,{"$f":"IF(data!D49=\"فارغ\",\"\",data!D49)","v":"استاذ28"},{"$f":"IF(B31=\"\",\"\",data!E49)","v":"ا.ت.ث"},{"$f":"IF(B31=\"\",\"\",data!F49)","v":"فرنسية"},1,2,null,null,null,null,null,null,null,null,null,null,null,null,null,null,null,null,null,null,null,null,null,null,13]
[29,{"$f":"IF(data!D50=\"فارغ\",\"\",data!D50)","v":"استاذ29"},{"$f":"IF(B32=\"\",\"\",data!E50)","v":"ا.ت.ث"},{"$f":"IF(B32=\"\",\"\",data!F50)","v":"فلسفة"},1,3,null,null,null,null,null,null,null,null,null,null,null,null,null,null,null,null,null,null,null,null,null,null,null,null,null,12]
[30,{"$f":"IF(data!D51=\"فارغ\",\"\",data!D51)","v":"استاذ30"},{"$f":"IF(B33=\"\",\"\",data!E51)","v":"ا.ت.ث"},{"$f":"IF(B33=\"\",\"\",data!F51)","v":"فلسفة"},1,3,null,null,null,null,null,null,null,null,null,null,null,null,null,null,null,null,null,null,null,null,null,null,null,null,null,10]
[31,{"$f":"IF(data!D52=\"فارغ\",\"\",data!D52)","v":"استاذ31"},{"$f":"IF(B34=\"\",\"\",data!E52)","v":"ا.ت.ث"},{"$f":"IF(B34=\"\",\"\",data!F52)","v":"هـ.مدنية"},1,3,null,null,null,null,null,null,null,null,null,null,null,null,null,null,null,null,null,null,null,null,null,null,null,null,null,11]
[32,{"$f":"IF(data!D53=\"فارغ\",\"\",data!D53)","v":"استاذ32"},{"$f":"IF(B35=\"\",\"\",data!E53)","v":"ا.ت.ث"},{"$f":"IF(B35=\"\",\"\",data!F53)","v":"كهرباء"},1,3,null,null,null,null,null,null,null,null,null,null,null,null,null,null,null,null,null,null,null,null,null,null,null,null,null,null,null,null,null,12]
[33,{"$f":"IF(data!D54=\"فارغ\",\"\",data!D54)","v":"استاذ33"},{"$f":"IF(B36=\"\",\"\",data!E54)","v":"ا.ت.ث"},{"$f":"IF(B36=\"\",\"\",data!F54)","v":"ا.الى"},1,{"$f":"SUMIFS($G$81:$AJ$81,G36:AJ36,\">0\")","v":3},null,null,null,null,null,null,null,null,null,null,null,null,null,null,null,null,null,null,null,null,null,null,null,null,null,null,null,null,null,10]
[34,{"$f":"IF(data!D55=\"فارغ\",\"\",data!D55)","v":"استاذ34"},{"$f":"IF(B37=\"\",\"\",data!E55)","v":"ا.ت.ث"},{"$f":"IF(B37=\"\",\"\",data!F55)","v":"اقتصاد"},1,3,null,null,null,null,null,null,null,null,null,null,null,null,null,null,null,null,null,null,null,null,null,null,null,null,null,null,null,null,null,11]
[35,{"$f":"IF(data!D56=\"فارغ\",\"\",data!D56)","v":"استاذ35"},{"$f":"IF(B38=\"\",\"\",data!E56)","v":"ا.ت.ث"},{"$f":"IF(B38=\"\",\"\",data!F56)","v":"ت.بدنية"},0,0]
[36,{"$f":"IF(data!D57=\"فارغ\",\"\",data!D57)","v":"استاذ36"},{"$f":"IF(B39=\"\",\"\",data!E57)","v":"ا.ت.ث"},{"$f":"IF(B39=\"\",\"\",data!F57)","v":"ت.بدنية"},0,0]
[37,{"$f":"IF(data!D58=\"فارغ\",\"\",data!D58)","v":"استاذ37"},{"$f":"IF(B40=\"\",\"\",data!E58)","v":0},{"$f":"IF(B40=\"\",\"\",data!F58)","v":0},0,0]
[38,{"$f":"IF(data!D59=\"فارغ\",\"\",data!D59)","v":"استاذ38"},{"$f":"IF(B41=\"\",\"\",data!E59)","v":0},{"$f":"IF(B41=\"\",\"\",data!F59)","v":0},0,0]
[39,{"$f":"IF(data!D60=\"فارغ\",\"\",data!D60)","v":"استاذ39"},{"$f":"IF(B42=\"\",\"\",data!E60)","v":0},{"$f":"IF(B42=\"\",\"\",data!F60)","v":0},0,0]
[40,{"$f":"IF(data!D61=\"فارغ\",\"\",data!D61)","v":"استاذ40"},{"$f":"IF(B43=\"\",\"\",data!E61)","v":0},{"$f":"IF(B43=\"\",\"\",data!F61)","v":0},0,0]
[41,{"$f":"IF(data!D62=\"فارغ\",\"\",data!D62)","v":"استاذ41"},{"$f":"IF(B44=\"\",\"\",data!E62)","v":0},{"$f":"IF(B44=\"\",\"\",data!F62)","v":0},0,0]
[42,{"$f":"IF(data!D63=\"فارغ\",\"\",data!D63)","v":"استاذ42"},{"$f":"IF(B45=\"\",\"\",data!E63)","v":0},{"$f":"IF(B45=\"\",\"\",data!F63)","v":0},0,0]
[43,{"$f":"IF(data!D64=\"فارغ\",\"\",data!D64)","v":"استاذ43"},{"$f":"IF(B46=\"\",\"\",data!E64)","v":0},{"$f":"IF(B46=\"\",\"\",data!F64)","v":0},0,0]
[44,{"$f":"IF(data!D65=\"فارغ\",\"\",data!D65)","v":"استاذ44"},{"$f":"IF(B47=\"\",\"\",data!E65)","v":0},{"$f":"IF(B47=\"\",\"\",data!F65)","v":0},0,0]
[45,{"$f":"IF(data!D66=\"فارغ\",\"\",data!D66)","v":"استاذ45"},{"$f":"IF(B48=\"\",\"\",data!E66)","v":0},{"$f":"IF(B48=\"\",\"\",data!F66)","v":0},0,0]
[46,{"$f":"IF(data!D67=\"فارغ\",\"\",data!D67)","v":"استاذ46"},{"$f":"IF(B49=\"\",\"\",data!E67)","v":0},{"$f":"IF(B49=\"\",\"\",data!F67)","v":0},0,0]
[47,{"$f":"IF(data!D68=\"فارغ\",\"\",data!D68)","v":"استاذ47"},{"$f":"IF(B50=\"\",\"\",data!E68)","v":0},{"$f":"IF(B50=\"\",\"\",data!F68)","v":0},0,0]
[48,{"$f":"IF(data!D69=\"فارغ\",\"\",data!D69)","v":"استاذ48"},{"$f":"IF(B51=\"\",\"\",data!E69)","v":0},{"$f":"IF(B51=\"\",\"\",data!F69)","v":0},0,0]
[49,{"$f":"IF(data!D70=\"فارغ\",\"\",data!D70)","v":"استاذ49"},{"$f":"IF(B52=\"\",\"\",data!E70)","v":0},{"$f":"IF(B52=\"\",\"\",data!F70)","v":0},0,0]
[50,{"$f":"IF(data!D71=\"فارغ\",\"\",data!D71)","v":"استاذ50"},{"$f":"IF(B53=\"\",\"\",data!E71)","v":0},{"$f":"IF(B53=\"\",\"\",data!F71)","v":0},0,0]
[51,{"$f":"IF(data!D72=\"فارغ\",\"\",data!D72)","v":"استاذ51"},{"$f":"IF(B54=\"\",\"\",data!E72)","v":0},{"$f":"IF(B54=\"\",\"\",data!F72)","v":0},0,0]
[52,{"$f":"IF(data!D73=\"فارغ\",\"\",data!D73)","v":"استاذ52"},{"$f":"IF(B55=\"\",\"\",data!E73)","v":0},{"$f":"IF(B55=\"\",\"\",data!F73)","v":0},0,0]
[53,{"$f":"IF(data!D74=\"فارغ\",\"\",data!D74)","v":"استاذ53"},{"$f":"IF(B56=\"\",\"\",data!E74)","v":0},{"$f":"IF(B56=\"\",\"\",data!F74)","v":0},0,0]
[54,{"$f":"IF(data!D75=\"فارغ\",\"\",data!D75)","v":"استاذ54"},{"$f":"IF(B57=\"\",\"\",data!E75)","v":0},{"$f":"IF(B57=\"\",\"\",data!F75)","v":0},0,0]
[55,{"$f":"IF(data!D76=\"فارغ\",\"\",data!D76)","v":"استاذ55"},{"$f":"IF(B58=\"\",\"\",data!E76)","v":0},{"$f":"IF(B58=\"\",\"\",data!F76)","v":0},0,0]
[56,{"$f":"IF(data!D77=\"فارغ\",\"\",data!D77)","v":"استاذ56"},{"$f":"IF(B59=\"\",\"\",data!E77)","v":0},{"$f":"IF(B59=\"\",\"\",data!F77)","v":0},0,0]
[57,{"$f":"IF(data!D78=\"فارغ\",\"\",data!D78)","v":""},{"$f":"IF(B60=\"\",\"\",data!E78)","v":""},{"$f":"IF(B60=\"\",\"\",data!F78)","v":""},0,0]
[58,{"$f":"IF(data!D79=\"فارغ\",\"\",data!D79)","v":""},{"$f":"IF(B61=\"\",\"\",data!E79)","v":""},{"$f":"IF(B61=\"\",\"\",data!F79)","v":""},0,0]
[59,{"$f":"IF(data!D80=\"فارغ\",\"\",data!D80)","v":""},{"$f":"IF(B62=\"\",\"\",data!E80)","v":""},{"$f":"IF(B62=\"\",\"\",data!F80)","v":""},0,0]
[60,{"$f":"IF(data!D81=\"فارغ\",\"\",data!D81)","v":""},{"$f":"IF(B63=\"\",\"\",data!E81)","v":""},{"$f":"IF(B63=\"\",\"\",data!F81)","v":""},0,0]
[61,{"$f":"IF(data!D82=\"فارغ\",\"\",data!D82)","v":""},{"$f":"IF(B64=\"\",\"\",data!E82)","v":""},{"$f":"IF(B64=\"\",\"\",data!F82)","v":""},0,0]
[62,{"$f":"IF(data!D83=\"فارغ\",\"\",data!D83)","v":""},{"$f":"IF(B65=\"\",\"\",data!E83)","v":""},{"$f":"IF(B65=\"\",\"\",data!F83)","v":""},0,0]
[63,{"$f":"IF(data!D84=\"فارغ\",\"\",data!D84)","v":""},{"$f":"IF(B66=\"\",\"\",data!E84)","v":""},{"$f":"IF(B66=\"\",\"\",data!F84)","v":""},0,0]
[64,{"$f":"IF(data!D85=\"فارغ\",\"\",data!D85)","v":""},{"$f":"IF(B67=\"\",\"\",data!E85)","v":""},{"$f":"IF(B67=\"\",\"\",data!F85)","v":""},0,0]
[65,{"$f":"IF(data!D86=\"فارغ\",\"\",data!D86)","v":""},{"$f":"IF(B68=\"\",\"\",data!E86)","v":""},{"$f":"IF(B68=\"\",\"\",data!F86)","v":""},0,{"$f":"SUMIFS($G$81:$AJ$81,G68:AJ68,\">0\")","v":0}]
[66,{"$f":"IF(data!D87=\"فارغ\",\"\",data!D87)","v":""},{"$f":"IF(B69=\"\",\"\",data!E87)","v":""},{"$f":"IF(B69=\"\",\"\",data!F87)","v":""},{"$f":"COUNT(G69:AJ69)","v":0},0]
[67,{"$f":"IF(data!D88=\"فارغ\",\"\",data!D88)","v":""},{"$f":"IF(B70=\"\",\"\",data!E88)","v":""},{"$f":"IF(B70=\"\",\"\",data!F88)","v":""},0,0]
[68,{"$f":"IF(data!D89=\"فارغ\",\"\",data!D89)","v":""},{"$f":"IF(B71=\"\",\"\",data!E89)","v":""},{"$f":"IF(B71=\"\",\"\",data!F89)","v":""},0,0]
[69,{"$f":"IF(data!D90=\"فارغ\",\"\",data!D90)","v":""},{"$f":"IF(B72=\"\",\"\",data!E90)","v":""},{"$f":"IF(B72=\"\",\"\",data!F90)","v":""},0,0]
[70,{"$f":"IF(data!D91=\"فارغ\",\"\",data!D91)","v":""},{"$f":"IF(B73=\"\",\"\",data!E91)","v":""},{"$f":"IF(B73=\"\",\"\",data!F91)","v":""},0,0]
[71,{"$f":"IF(data!D92=\"فارغ\",\"\",data!D92)","v":""},{"$f":"IF(B74=\"\",\"\",data!E92)","v":""},{"$f":"IF(B74=\"\",\"\",data!F92)","v":""},0,0]
[72,{"$f":"IF(data!D93=\"فارغ\",\"\",data!D93)","v":""},{"$f":"IF(B75=\"\",\"\",data!E93)","v":""},{"$f":"IF(B75=\"\",\"\",data!F93)","v":""},0,0]
[73,{"$f":"IF(data!D94=\"فارغ\",\"\",data!D94)","v":""},{"$f":"IF(B76=\"\",\"\",data!E94)","v":""},{"$f":"IF(B76=\"\",\"\",data!F94)","v":""},0,0]
[74,{"$f":"IF(data!D95=\"فارغ\",\"\",data!D95)","v":""},{"$f":"IF(B77=\"\",\"\",data!E95)","v":""},{"$f":"IF(B77=\"\",\"\",data!F95)","v":""},0,0]
[75,{"$f":"IF(data!D96=\"فارغ\",\"\",data!D96)","v":""},{"$f":"IF(B78=\"\",\"\",data!E96)","v":""},{"$f":"IF(B78=\"\",\"\",data!F96)","v":""},0,0]
[76,{"$f":"IF(data!D97=\"فارغ\",\"\",data!D97)","v":""},{"$f":"IF(B79=\"\",\"\",data!E97)","v":""},{"$f":"IF(B79=\"\",\"\",data!F97)","v":""},0,0]
[77,{"$f":"IF(data!D98=\"فارغ\",\"\",data!D98)","v":""},{"$f":"IF(B80=\"\",\"\",data!E98)","v":""},{"$f":"IF(B80=\"\",\"\",data!F98)","v":""},0,0]
[null,null,null,null,30,null,2,3,2,4,2,3,2,3,2,4,2,3,2,3,2,4,2,3,2,3,2,4,2,3,2,3,2,4,2,3]

{"sheet":"tab garde","index":2,"n_rows":18,"n_cols":11,"rows_kept":18,"cut":false,"hidden":false,"merged":[[0,6,0,10],[13,2,13,3],[7,1,7,2],[8,1,8,2],[9,1,9,2],[10,1,10,2],[12,2,12,3]]}
[null,null,null,null,null,null,"عدد الساعات"]
[null,null,null,null,"الشعبة","عدد القاعات",{"$f":"gradeeta!A6","v":"2021-11-28"},{"$f":"G2+1","v":"2021-11-29"},{"$f":"H2+1","v":"2021-11-30"},{"$f":"I2+1","v":"2021-12-01"},{"$f":"J2+1","v":"2021-12-02"}]
[null,null,null,null,"جذع مشترك اداب",2,4,2,4,2,2]
[null,null,null,null,"جذع مشترك علوم",4,4,2,4,2]
[null,null,null,null,"الثانية علوم تجريبية",3,2,4,2,4,2]
[null,null,null,null,"الثانية رياضيات",1,2,4,2,4,2]
[null,null,null,null,"الثانية تقنى رياضي",2,2,4,2,4,2]
[null,"عدد الحراس الاجمالى",null,{"$f":"COUNTIF(data!D22:D98,\"<>فارغ\")","v":56},"الثانية لغات",1,2,4,2,4,2]
[null,"عدد قاعات الاختبار",null,{"$f":"F18","v":24},"الثانية اداب وفلسفة",3,2,4,2,4,2]
[null,"مجموع ساعات الامتحان فى كل القاعات",null,{"$f":"$G$18+$H$18+$I$18+$J$18+$K$18","v":388},"الثانية تسيير و اقتصاد",1,2,4,2,4,2]
[null,"عدد ساعات العمل للحراس",null,{"$f":"D10/D8","v":6.9285714285714288},"الثالثة علوم تجريبية",2,4,5,6,6,3]
[null,null,null,null,"الثالثة رياضيات",1,4,6,4,6,4]
[null,null,{"$f":"\"يعمل \"& D8- MOD(D10,D8) &\" استـــاذ  \"& INT(D10/D8) &\"  ساعات\"","v":"يعمل 4 استـــاذ  6  ساعات"},null,"الثالثة تقنى رياضي",1,4,6,6,6,4]
[null,null,{"$f":"\"يعمل \"& MOD(D10,D8) &\" استـــاذ  \"& INT(D10/D8)+1 &\"  ساعات\"","v":"يعمل 52 استـــاذ  7  ساعات"},null,"الثالثة لغات",1,5,5,6,3,3]
[null,null,null,null,"الثالثة اداب وفلسفة",1,6,4,6,4]
[null,null,null,null,"الثالثة تسيير و اقتصاد",1,4,5,null,6,3]
[]
[null,null,null,null,"المجموع",{"$f":"SUM(F3:F17)","v":24},{"$f":"G3*$F$3+G4*$F$4+G5*$F$5+G6*$F$6+G7*$F$7+G8*$F$8+G9*$F$9+G10*$F$10+G11*$F$11+G12*$F$12+G13*$F$13+G14*$F$14+G15*$F$15+G16*$F$16","v":77},{"$f":"H3*$F$3+H4*$F$4+H5*$F$5+H6*$F$6+H7*$F$7+H8*$F$8+H9*$F$9+H10*$F$10+H11*$F$11+H12*$F$12+H13*$F$13+H14*$F$14+H15*$F$15+H16*$F$16","v":92},{"$f":"I3*$F$3+I4*$F$4+I5*$F$5+I6*$F$6+I7*$F$7+I8*$F$8+I9*$F$9+I10*$F$10+I11*$F$11+I12*$F$12+I13*$F$13+I14*$F$14+I15*$F$15+I16*$F$16","v":80},93,46]

{"sheet":"tabprof","index":3,"n_rows":40,"n_cols":12,"rows_kept":40,"cut":false,"hidden":false,"merged":[[1,10,2,10],[1,11,2,11],[28,1,28,2],[28,6,28,7],[29,1,29,2],[29,6,29,7],[27,1,27,7],[64,3,64,4],[1,1,1,7],[2,1,2,7],[6,1,6,2],[6,6,6,7],[7,1,7,2],[7,6,7,7],[5,1,5,7],[23,1,23,7],[24,1,24,7],[55,1,55,4],[55,6,55,7],[56,1,56,2],[56,6,56,7],[57,1,57,2],[57,6,57,7],[51,1,51,4],[51,6,51,7],[52,1,52,4],[52,6,52,7],[54,2,54,3]]}
[]
[null,"الجمهورية الجزائرية الديمقراطية الشعبية",null,null,null,null,null,null,null,null,1,{"$f":"$K$2+1","v":2}]
[null,"وزارة التربية الوطنية"]
[null,"مديرية التربية بادرار",null,null,null,null,"السنة الدراسية:",{"$f":"data!J2","v":"2012/2011"}]
[null,"ثانوية "]
[null,{"$f":"data!J1","v":"جدول حراسة اختبارات الفصل الثاني"}]
[null,{"$f":"\"الاستاذ: \"&VLOOKUP($K$2,servproftot,2,FALSE)","v":"الاستاذ: استاذ1"}]
[null,{"$f":"\"المادة: \"&VLOOKUP($K$2,servproftot,4,FALSE)","v":"المادة: رياضيات"}]
[null,"                   التوقيت  التاريخ","10-08","11-08","12-10","12-08","16-14","17-14"]
[null,{"$f":"data!$D$5","v":"2021-11-28"},{"$f":"IF(VLOOKUP($K$2,servproftot,(ROW()-10)*6+COLUMN()+4,FALSE)<>0, \"ق\"& VLOOKUP($K$2,servproftot,(ROW()-10)*6+COLUMN()+4,FALSE),\"\")","v":""},{"$f":"IF(VLOOKUP($K$2,servproftot,(ROW()-10)*6+COLUMN()+4,FALSE)<>0, \"ق\"& VLOOKUP($K$2,servproftot,(ROW()-10)*6+COLUMN()+4,FALSE),\"\")","v":""},{"$f":"IF(VLOOKUP($K$2,servproftot,(ROW()-10)*6+COLUMN()+4,FALSE)<>0, \"ق\"& VLOOKUP($K$2,servproftot,(ROW()-10)*6+COLUMN()+4,FALSE),\"\")","v":""},{"$f":"IF(VLOOKUP($K$2,servproftot,(ROW()-10)*6+COLUMN()+4,FALSE)<>0, \"ق\"& VLOOKUP($K$2,servproftot,(ROW()-10)*6+COLUMN()+4,FALSE),\"\")","v":""},{"$f":"IF(VLOOKUP($K$2,servproftot,(ROW()-10)*6+COLUMN()+4,FALSE)<>0, \"ق\"& VLOOKUP($K$2,servproftot,(ROW()-10)*6+COLUMN()+4,FALSE),\"\")","v":""},{"$f":"IF(VLOOKUP($K$2,servproftot,(ROW()-10)*6+COLUMN()+4,FALSE)<>0, \"ق\"& VLOOKUP($K$2,servproftot,(ROW()-10)*6+COLUMN()+4,FALSE),\"\")","v":""}]
[null,{"$f":"data!$D$5+1","v":"2021-11-29"},{"$f":"IF(VLOOKUP($K$2,servproftot,(ROW()-10)*6+COLUMN()+4,FALSE)<>0, \"ق\"& VLOOKUP($K$2,servproftot,(ROW()-10)*6+COLUMN()+4,FALSE),\"\")","v":""},{"$f":"IF(VLOOKUP($K$2,servproftot,(ROW()-10)*6+COLUMN()+4,FALSE)<>0, \"ق\"& VLOOKUP($K$2,servproftot,(ROW()-10)*6+COLUMN()+4,FALSE),\"\")","v":""},{"$f":"IF(VLOOKUP($K$2,servproftot,(ROW()-10)*6+COLUMN()+4,FALSE)<>0, \"ق\"& VLOOKUP($K$2,servproftot,(ROW()-10)*6+COLUMN()+4,FALSE),\"\")","v":""},{"$f":"IF(VLOOKUP($K$2,servproftot,(ROW()-10)*6+COLUMN()+4,FALSE)<>0, \"ق\"& VLOOKUP($K$2,servproftot,(ROW()-10)*6+COLUMN()+4,FALSE),\"\")","v":""},{"$f":"IF(VLOOKUP($K$2,servproftot,(ROW()-10)*6+COLUMN()+4,FALSE)<>0, \"ق\"& VLOOKUP($K$2,servproftot,(ROW()-10)*6+COLUMN()+4,FALSE),\"\")","v":""},{"$f":"IF(VLOOKUP($K$2,servproftot,(ROW()-10)*6+COLUMN()+4,FALSE)<>0, \"ق\"& VLOOKUP($K$2,servproftot,(ROW()-10)*6+COLUMN()+4,FALSE),\"\")","v":""}]
[null,{"$f":"data!$D$5+2","v":"2021-11-30"},{"$f":"IF(VLOOKUP($K$2,servproftot,(ROW()-10)*6+COLUMN()+4,FALSE)<>0, \"ق\"& VLOOKUP($K$2,servproftot,(ROW()-10)*6+COLUMN()+4,FALSE),\"\")","v":""},{"$f":"IF(VLOOKUP($K$2,servproftot,(ROW()-10)*6+COLUMN()+4,FALSE)<>0, \"ق\"& VLOOKUP($K$2,servproftot,(ROW()-10)*6+COLUMN()+4,FALSE),\"\")","v":"ق14"},{"$f":"IF(VLOOKUP($K$2,servproftot,(ROW()-10)*6+COLUMN()+4,FALSE)<>0, \"ق\"& VLOOKUP($K$2,servproftot,(ROW()-10)*6+COLUMN()+4,FALSE),\"\")","v":""},{"$f":"IF(VLOOKUP($K$2,servproftot,(ROW()-10)*6+COLUMN()+4,FALSE)<>0, \"ق\"& VLOOKUP($K$2,servproftot,(ROW()-10)*6+COLUMN()+4,FALSE),\"\")","v":""},{"$f":"IF(VLOOKUP($K$2,servproftot,(ROW()-10)*6+COLUMN()+4,FALSE)<>0, \"ق\"& VLOOKUP($K$2,servproftot,(ROW()-10)*6+COLUMN()+4,FALSE),\"\")","v":""},{"$f":"IF(VLOOKUP($K$2,servproftot,(ROW()-10)*6+COLUMN()+4,FALSE)<>0, \"ق\"& VLOOKUP($K$2,servproftot,(ROW()-10)*6+COLUMN()+4,FALSE),\"\")","v":""}]
[null,{"$f":"data!$D$5+3","v":"2021-12-01"},{"$f":"IF(VLOOKUP($K$2,servproftot,(ROW()-10)*6+COLUMN()+4,FALSE)<>0, \"ق\"& VLOOKUP($K$2,servproftot,(ROW()-10)*6+COLUMN()+4,FALSE),\"\")","v":""},{"$f":"IF(VLOOKUP($K$2,servproftot,(ROW()-10)*6+COLUMN()+4,FALSE)<>0, \"ق\"& VLOOKUP($K$2,servproftot,(ROW()-10)*6+COLUMN()+4,FALSE),\"\")","v":""},{"$f":"IF(VLOOKUP($K$2,servproftot,(ROW()-10)*6+COLUMN()+4,FALSE)<>0, \"ق\"& VLOOKUP($K$2,servproftot,(ROW()-10)*6+COLUMN()+4,FALSE),\"\")","v":""},{"$f":"IF(VLOOKUP($K$2,servproftot,(ROW()-10)*6+COLUMN()+4,FALSE)<>0, \"ق\"& VLOOKUP($K$2,servproftot,(ROW()-10)*6+COLUMN()+4,FALSE),\"\")","v":""},{"$f":"IF(VLOOKUP($K$2,servproftot,(ROW()-10)*6+COLUMN()+4,FALSE)<>0, \"ق\"& VLOOKUP($K$2,servproftot,(ROW()-10)*6+COLUMN()+4,FALSE),\"\")","v":""},{"$f":"IF(VLOOKUP($K$2,servproftot,(ROW()-10)*6+COLUMN()+4,FALSE)<>0, \"ق\"& VLOOKUP($K$2,servproftot,(ROW()-10)*6+COLUMN()+4,FALSE),\"\")","v":""}]
[null,{"$f":"data!$D$5+4","v":"2021-12-02"},{"$f":"IF(VLOOKUP($K$2,servproftot,(ROW()-10)*6+COLUMN()+4,FALSE)<>0, \"ق\"& VLOOKUP($K$2,servproftot,(ROW()-10)*6+COLUMN()+4,FALSE),\"\")","v":""},{"$f":"IF(VLOOKUP($K$2,servproftot,(ROW()-10)*6+COLUMN()+4,FALSE)<>0, \"ق\"& VLOOKUP($K$2,servproftot,(ROW()-10)*6+COLUMN()+4,FALSE),\"\")","v":""},{"$f":"IF(VLOOKUP($K$2,servproftot,(ROW()-10)*6+COLUMN()+4,FALSE)<>0, \"ق\"& VLOOKUP($K$2,servproftot,(ROW()-10)*6+COLUMN()+4,FALSE),\"\")","v":""},{"$f":"IF(VLOOKUP($K$2,servproftot,(ROW()-10)*6+COLUMN()+4,FALSE)<>0, \"ق\"& VLOOKUP($K$2,servproftot,(ROW()-10)*6+COLUMN()+4,FALSE),\"\")","v":""},{"$f":"IF(VLOOKUP($K$2,servproftot,(ROW()-10)*6+COLUMN()+4,FALSE)<>0, \"ق\"& VLOOKUP($K$2,servproftot,(ROW()-10)*6+COLUMN()+4,FALSE),\"\")","v":""},{"$f":"IF(VLOOKUP($K$2,servproftot,(ROW()-10)*6+COLUMN()+4,FALSE)<>0, \"ق\"& VLOOKUP($K$2,servproftot,(ROW()-10)*6+COLUMN()+4,FALSE),\"\")","v":""}]
[]
[null,null,null,null,null,null,"........... فى ",{"$f":"TODAY()","v":"2021-10-30"}]
[]
[null,null,null,null,null,null,null,"الناظــر"]
[]
[]
[]
[]
[]
[null,"الجمهورية الجزائرية الديمقراطية الشعبية"]
[null,"وزارة التربية الوطنية"]
[null,"مديرية التربية بادرار",null,null,null,null,"السنة الدراسية:",{"$f":"H4","v":"2012/2011"}]
[null,"ثانوية "]
[null,{"$f":"B6","v":"جدول حراسة اختبارات الفصل الثاني"}]
[null,{"$f":"\"الاستاذ: \"&VLOOKUP($L$2,servproftot,2,FALSE)","v":"الاستاذ: استاذ2"}]
[null,{"$f":"\"المادة: \"&VLOOKUP($L$2,servproftot,4,FALSE)","v":"المادة: رياضيات"}]
[null,"                  التوقيت التاريخ","10-08","11-08","12-10","12-08","16-14","17-14"]
[null,{"$f":"data!$D$5","v":"2021-11-28"},{"$f":"IF(VLOOKUP($L$2,servproftot,(ROW()-32)*6+COLUMN()+4,FALSE)<>0, \"ق\"& VLOOKUP($L$2,servproftot,(ROW()-32)*6+COLUMN()+4,FALSE),\"\")","v":""},{"$f":"IF(VLOOKUP($L$2,servproftot,(ROW()-32)*6+COLUMN()+4,FALSE)<>0, \"ق\"& VLOOKUP($L$2,servproftot,(ROW()-32)*6+COLUMN()+4,FALSE),\"\")","v":"ق1"},{"$f":"IF(VLOOKUP($L$2,servproftot,(ROW()-32)*6+COLUMN()+4,FALSE)<>0, \"ق\"& VLOOKUP($L$2,servproftot,(ROW()-32)*6+COLUMN()+4,FALSE),\"\")","v":""},{"$f":"IF(VLOOKUP($L$2,servproftot,(ROW()-32)*6+COLUMN()+4,FALSE)<>0, \"ق\"& VLOOKUP($L$2,servproftot,(ROW()-32)*6+COLUMN()+4,FALSE),\"\")","v":""},{"$f":"IF(VLOOKUP($L$2,servproftot,(ROW()-32)*6+COLUMN()+4,FALSE)<>0, \"ق\"& VLOOKUP($L$2,servproftot,(ROW()-32)*6+COLUMN()+4,FALSE),\"\")","v":""},{"$f":"IF(VLOOKUP($L$2,servproftot,(ROW()-32)*6+COLUMN()+4,FALSE)<>0, \"ق\"& VLOOKUP($L$2,servproftot,(ROW()-32)*6+COLUMN()+4,FALSE),\"\")","v":""}]
[null,{"$f":"data!$D$5+1","v":"2021-11-29"},{"$f":"IF(VLOOKUP($L$2,servproftot,(ROW()-32)*6+COLUMN()+4,FALSE)<>0, \"ق\"& VLOOKUP($L$2,servproftot,(ROW()-32)*6+COLUMN()+4,FALSE),\"\")","v":""},{"$f":"IF(VLOOKUP($L$2,servproftot,(ROW()-32)*6+COLUMN()+4,FALSE)<>0, \"ق\"& VLOOKUP($L$2,servproftot,(ROW()-32)*6+COLUMN()+4,FALSE),\"\")","v":""},{"$f":"IF(VLOOKUP($L$2,servproftot,(ROW()-32)*6+COLUMN()+4,FALSE)<>0, \"ق\"& VLOOKUP($L$2,servproftot,(ROW()-32)*6+COLUMN()+4,FALSE),\"\")","v":""},{"$f":"IF(VLOOKUP($L$2,servproftot,(ROW()-32)*6+COLUMN()+4,FALSE)<>0, \"ق\"& VLOOKUP($L$2,servproftot,(ROW()-32)*6+COLUMN()+4,FALSE),\"\")","v":""},{"$f":"IF(VLOOKUP($L$2,servproftot,(ROW()-32)*6+COLUMN()+4,FALSE)<>0, \"ق\"& VLOOKUP($L$2,servproftot,(ROW()-32)*6+COLUMN()+4,FALSE),\"\")","v":""},{"$f":"IF(VLOOKUP($L$2,servproftot,(ROW()-32)*6+COLUMN()+4,FALSE)<>0, \"ق\"& VLOOKUP($L$2,servproftot,(ROW()-32)*6+COLUMN()+4,FALSE),\"\")","v":""}]
[null,{"$f":"data!$D$5+2","v":"2021-11-30"},{"$f":"IF(VLOOKUP($L$2,servproftot,(ROW()-32)*6+COLUMN()+4,FALSE)<>0, \"ق\"& VLOOKUP($L$2,servproftot,(ROW()-32)*6+COLUMN()+4,FALSE),\"\")","v":""},{"$f":"IF(VLOOKUP($L$2,servproftot,(ROW()-32)*6+COLUMN()+4,FALSE)<>0, \"ق\"& VLOOKUP($L$2,servproftot,(ROW()-32)*6+COLUMN()+4,FALSE),\"\")","v":""},{"$f":"IF(VLOOKUP($L$2,servproftot,(ROW()-32)*6+COLUMN()+4,FALSE)<>0, \"ق\"& VLOOKUP($L$2,servproftot,(ROW()-32)*6+COLUMN()+4,FALSE),\"\")","v":""},{"$f":"IF(VLOOKUP($L$2,servproftot,(ROW()-32)*6+COLUMN()+4,FALSE)<>0, \"ق\"& VLOOKUP($L$2,servproftot,(ROW()-32)*6+COLUMN()+4,FALSE),\"\")","v":""},{"$f":"IF(VLOOKUP($L$2,servproftot,(ROW()-32)*6+COLUMN()+4,FALSE)<>0, \"ق\"& VLOOKUP($L$2,servproftot,(ROW()-32)*6+COLUMN()+4,FALSE),\"\")","v":""},{"$f":"IF(VLOOKUP($L$2,servproftot,(ROW()-32)*6+COLUMN()+4,FALSE)<>0, \"ق\"& VLOOKUP($L$2,servproftot,(ROW()-32)*6+COLUMN()+4,FALSE),\"\")","v":""}]
[null,{"$f":"data!$D$5+3","v":"2021-12-01"},{"$f":"IF(VLOOKUP($L$2,servproftot,(ROW()-32)*6+COLUMN()+4,FALSE)<>0, \"ق\"& VLOOKUP($L$2,servproftot,(ROW()-32)*6+COLUMN()+4,FALSE),\"\")","v":""},{"$f":"IF(VLOOKUP($L$2,servproftot,(ROW()-32)*6+COLUMN()+4,FALSE)<>0, \"ق\"& VLOOKUP($L$2,servproftot,(ROW()-32)*6+COLUMN()+4,FALSE),\"\")","v":""},{"$f":"IF(VLOOKUP($L$2,servproftot,(ROW()-32)*6+COLUMN()+4,FALSE)<>0, \"ق\"& VLOOKUP($L$2,servproftot,(ROW()-32)*6+COLUMN()+4,FALSE),\"\")","v":""},{"$f":"IF(VLOOKUP($L$2,servproftot,(ROW()-32)*6+COLUMN()+4,FALSE)<>0, \"ق\"& VLOOKUP($L$2,servproftot,(ROW()-32)*6+COLUMN()+4,FALSE),\"\")","v":""},{"$f":"IF(VLOOKUP($L$2,servproftot,(ROW()-32)*6+COLUMN()+4,FALSE)<>0, \"ق\"& VLOOKUP($L$2,servproftot,(ROW()-32)*6+COLUMN()+4,FALSE),\"\")","v":""},{"$f":"IF(VLOOKUP($L$2,servproftot,(ROW()-32)*6+COLUMN()+4,FALSE)<>0, \"ق\"& VLOOKUP($L$2,servproftot,(ROW()-32)*6+COLUMN()+4,FALSE),\"\")","v":""}]
[null,{"$f":"data!$D$5+4","v":"2021-12-02"},{"$f":"IF(VLOOKUP($L$2,servproftot,(ROW()-32)*6+COLUMN()+4,FALSE)<>0, \"ق\"& VLOOKUP($L$2,servproftot,(ROW()-32)*6+COLUMN()+4,FALSE),\"\")","v":""},{"$f":"IF(VLOOKUP($L$2,servproftot,(ROW()-32)*6+COLUMN()+4,FALSE)<>0, \"ق\"& VLOOKUP($L$2,servproftot,(ROW()-32)*6+COLUMN()+4,FALSE),\"\")","v":""},{"$f":"IF(VLOOKUP($L$2,servproftot,(ROW()-32)*6+COLUMN()+4,FALSE)<>0, \"ق\"& VLOOKUP($L$2,servproftot,(ROW()-32)*6+COLUMN()+4,FALSE),\"\")","v":""},{"$f":"IF(VLOOKUP($L$2,servproftot,(ROW()-32)*6+COLUMN()+4,FALSE)<>0, \"ق\"& VLOOKUP($L$2,servproftot,(ROW()-32)*6+COLUMN()+4,FALSE),\"\")","v":""},{"$f":"IF(VLOOKUP($L$2,servproftot,(ROW()-32)*6+COLUMN()+4,FALSE)<>0, \"ق\"& VLOOKUP($L$2,servproftot,(ROW()-32)*6+COLUMN()+4,FALSE),\"\")","v":""},{"$f":"IF(VLOOKUP($L$2,servproftot,(ROW()-32)*6+COLUMN()+4,FALSE)<>0, \"ق\"& VLOOKUP($L$2,servproftot,(ROW()-32)*6+COLUMN()+4,FALSE),\"\")","v":""}]
[]
[null,null,null,null,null,null,"................... فى ",{"$f":"TODAY()","v":"2021-10-30"}]
[]
[null,null,null,null,null,null,null,"النـــاظر"]

{"sheet":"gradeeta","index":4,"n_rows":50,"n_cols":38,"rows_kept":50,"cut":false,"hidden":false,"merged":[[0,29,0,35],[1,29,1,35],[0,11,0,18],[1,11,1,18],[0,20,0,27],[1,20,1,27],[0,0,0,9],[1,0,1,9],[37,0,44,0],[3,0,3,9],[5,0,12,0],[13,0,20,0],[21,0,28,0],[29,0,36,0]]}
["الجمهورية الجزائرية الديمقراطية الشعبية"]
["وزارة التربية الوطنية"]
["مديرية التربية بادرار",null,null,null,null,null,"السنة الدراسية",{"$f":"data!$J$2","v":"2012/2011"},null,null,null,null,null,null,null,"السنة الدراسية",{"$f":"data!$J$2","v":"2012/2011"},null,null,null,null,null,null,null,"السنة الدراسية",{"$f":"data!$J$2","v":"2012/2011"},null,null,null,null,null,null,null,"السنة الدراسية",{"$f":"data!$J$2","v":"2012/2011"}]
[{"$f":"data!J1","v":"جدول حراسة اختبارات الفصل الثاني"}]
[null,"القاعة",1,2,3,4,5,6,7,8,9,10,11,12,13,14,15,16,17,18,19,20,21,22,23,24,25,26,27,28,29,30,31,32,33,34,35,36]
[{"$f":"data!$D$5","v":"2021-11-28"},"10-08",null,null,null,null,null,null,null,null,null,null,null,null,null,"استاذ3","استاذ4"]
[null,"11-08"]
[null,"12-10"]
[null,"12-08"]
[null,"15-13",null,null,null,null,null,null,null,null,null,"استاذ5","استاذ6","استاذ7","استاذ8"]
[null,"16-13"]
[null,"17-15",null,null,null,null,null,null,null,null,null,null,null,null,null,null,null,null,"استاذ9"]
[null,"17-13",null,null,null,null,null,null,null,null,null,"استاذ10","استاذ11","استاذ12"]
[{"$f":"data!$D$5+1","v":"2021-11-29"},"10-08"]
[null,"11-08",null,null,null,null,null,null,null,null,null,null,null,null,null,null,null,"استاذ13"]
[null,"12-10"]
[null,"12-08",null,null,null,null,null,null,null,null,null,"استاذ14","استاذ15"]
[null,"15-13"]
[null,"16-13"]
[null,"17-15"]
[null,"17-13",null,null,null,null,null,null,null,null,null,"استاذ19","استاذ20","استاذ18","استاذ17"]
[{"$f":"data!$D$5+2","v":"2021-11-30"},"10-08"]
[null,"11-08"]
[null,"12-10",null,null,null,null,null,null,null,null,null,"استاذ21","استاذ22","استاذ23","استاذ24"]
[null,"12-08"]
[null,"15-13",null,null,null,null,null,null,null,null,null,null,null,"استاذ21"]
[null,"16-13"]
[null,"17-15",null,null,null,null,null,null,null,null,null,"استاذ25","استاذ26","استاذ27","استاذ28"]
[null,"17-13"]
[{"$f":"data!$D$5+3","v":"2021-12-01"},"10-08"]
[null,"11-08",null,null,null,null,null,null,null,null,null,"استاذ30","استاذ31","استاذ29"]
[null,"12-10"]
[null,"12-08"]
[null,"15-13"]
[null,"16-13",null,null,null,null,null,null,null,null,null,"استاذ33","استاذ34","استاذ32"]
[null,"17-15"]
[null,"17-13"]
[{"$f":"data!$D$5+4","v":"2021-12-02"},"10-08"]
[null,"11-08"]
[null,"12-10"]
[null,"12-08"]
[null,"15-13"]
[null,"16-13"]
[null,"17-15"]
[null,"17-13"]
[null,null,"","","","","","","","","","","","","","","","","","","","","","","","","",""]
[null,null,"","","","","","","","","","","","","","","","","","","","","","","","","",""]
[null,null,"","","","","","","","","","","","","","","","","","","","","","","","","",""]
[null,null,"","","","","","","","","","","","","","","","","","","","","","","","","",""]
[null,null,"","","","","","","","","","","","","","","","","","","","","","","","","",""]

{"sheet":"gradeeta (2)","index":5,"n_rows":50,"n_cols":48,"rows_kept":50,"cut":false,"hidden":false,"merged":[[13,22,20,22],[37,0,44,0],[37,11,44,11],[37,22,44,22],[37,33,44,33],[21,0,28,0],[21,11,28,11],[21,22,28,22],[21,33,28,33],[29,0,36,0],[29,11,36,11],[29,22,36,22],[29,33,36,33],[13,33,20,33],[13,0,20,0],[13,11,20,11],[0,0,0,9],[0,11,0,20],[0,22,0,31],[0,33,0,41],[1,0,1,9],[1,11,1,20],[1,22,1,31],[1,33,1,41],[3,0,3,9],[5,0,12,0],[5,11,12,11],[5,22,12,22],[5,33,12,33]]}
["الجمهورية الجزائرية الديمقراطية الشعبية",null,null,null,null,null,null,null,null,null,null,"الجمهورية الجزائرية الديمقراطية الشعبية",null,null,null,null,null,null,null,null,null,null,"الجمهورية الجزائرية الديمقراطية الشعبية",null,null,null,null,null,null,null,null,null,null,"الجمهورية الجزائرية الديمقراطية الشعبية"]
["وزارة التربية الوطنية",null,null,null,null,null,null,null,null,null,null,"وزارة التربية الوطنية",null,null,null,null,null,null,null,null,null,null,"وزارة التربية الوطنية",null,null,null,null,null,null,null,null,null,null,"وزارة التربية الوطنية"]
["مديرية التربية بادرار",null,null,null,null,null,"السنة الدراسية",{"$f":"data!$J$2","v":"2012/2011"},null,null,null,"مديرية التربية بادرار",null,null,null,null,null,"السنة الدراسية",{"$f":"data!$J$2","v":"2012/2011"},null,null,null,"مديرية التربية بادرار",null,null,null,null,null,"السنة الدراسية",{"$f":"data!$J$2","v":"2012/2011"},null,null,null,"مديرية التربية بادرار",null,null,null,null,null,"السنة الدراسية",{"$f":"data!$J$2","v":"2012/2011"}]
[{"$f":"data!J1","v":"جدول حراسة اختبارات الفصل الثاني"}]
[null,"القاعة",1,2,3,4,5,6,7,8,9,null,"القاعة",10,11,12,13,14,15,16,17,18,null,"القاعة",19,20,21,22,23,24,25,26,27,null,"القاعة",28,29,30,31,32,33,34,35,36]
[{"$f":"data!$D$5","v":"2021-11-28"},"10-08",null,null,null,null,null,null,null,null,null,"","10-08",null,null,null,null,null,null,null,null,null,"","10-08",null,null,null,null,null,null,null,null,null,"","10-08",null,null,null,null,null,null,null,null,null,"","","",""]
[null,"11-08",null,null,null,null,null,null,null,null,null,null,"11-08",null,null,null,null,null,null,null,null,null,null,"11-08",null,null,null,null,null,null,null,null,null,null,"11-08",null,null,null,null,null,null,null,null,null,"","","",""]
[null,"12-10",null,null,null,null,null,null,null,null,null,null,"12-10",null,null,null,null,null,null,null,null,null,null,"12-10",null,null,null,null,null,null,null,null,null,null,"12-10",null,null,null,null,null,null,null,null,null,"","","",""]
[null,"12-08",null,null,null,null,null,null,null,null,null,null,"12-08",null,null,null,null,null,null,null,null,null,null,"12-08",null,null,null,null,null,null,null,null,null,null,"12-08",null,null,null,null,null,null,null,null,null,"","","",""]
[null,"15-13",null,null,null,null,null,null,null,null,null,null,"15-13",null,null,null,null,null,null,null,null,null,null,"15-13",null,null,null,null,null,null,null,null,null,null,"15-13",null,null,null,null,null,null,null,null,null,"","","",""]
[null,"16-13",null,null,null,null,null,null,null,null,null,null,"16-13",null,null,null,null,null,null,null,null,null,null,"16-13",null,null,null,null,null,null,null,null,null,null,"16-13",null,null,null,null,null,null,null,null,null,"","","",""]
[null,"17-15",null,null,null,null,null,null,null,null,null,null,"17-15",null,null,null,null,null,null,null,null,null,null,"17-15",null,null,null,null,null,null,null,null,null,null,"17-15",null,null,null,null,null,null,null,null,null,"","","",""]
[null,"17-13",null,null,null,null,null,null,null,null,null,null,"17-13",null,null,null,null,null,null,null,null,null,null,"17-13",null,null,null,null,null,null,null,null,null,null,"17-13",null,null,null,null,null,null,null,null,null,"","","",""]
[{"$f":"data!$D$5+1","v":"2021-11-29"},"10-08",null,null,null,null,null,null,null,null,null,"","10-08",null,null,null,null,null,null,null,null,null,"","10-08",null,null,null,null,null,null,null,null,null,"","10-08",null,null,null,null,null,null,null,null,null,"","","",""]
[null,"11-08",null,null,null,null,null,null,null,null,null,null,"11-08",null,null,null,null,null,null,null,null,null,null,"11-08",null,null,null,null,null,null,null,null,null,null,"11-08",null,null,null,null,null,null,null,null,null,"","","",""]
[null,"12-10",null,null,null,null,null,null,null,null,null,null,"12-10",null,null,null,null,null,null,null,null,null,null,"12-10",null,null,null,null,null,null,null,null,null,null,"12-10",null,null,null,null,null,null,null,null,null,"","","",""]
[null,"12-08",null,null,null,null,null,null,null,null,null,null,"12-08",null,null,null,null,null,null,null,null,null,null,"12-08",null,null,null,null,null,null,null,null,null,null,"12-08",null,null,null,null,null,null,null,null,null,"","","",""]
[null,"15-13",null,null,null,null,null,null,null,null,null,null,"15-13",null,null,null,null,null,null,null,null,null,null,"15-13",null,null,null,null,null,null,null,null,null,null,"15-13",null,null,null,null,null,null,null,null,null,"","","",""]
[null,"16-13",null,null,null,null,null,null,null,null,null,null,"16-13",null,null,null,null,null,null,null,null,null,null,"16-13",null,null,null,null,null,null,null,null,null,null,"16-13",null,null,null,null,null,null,null,null,null,"","","",""]
[null,"17-15",null,null,null,null,null,null,null,null,null,null,"17-15",null,null,null,null,null,null,null,null,null,null,"17-15",null,null,null,null,null,null,null,null,null,null,"17-15",null,null,null,null,null,null,null,null,null,"","","",""]
[null,"17-13",null,null,null,null,null,null,null,null,null,null,"17-13",null,null,null,null,null,null,null,null,null,null,"17-13",null,null,null,null,null,null,null,null,null,null,"17-13",null,null,null,null,null,null,null,null,null,"","","",""]
[{"$f":"data!$D$5+2","v":"2021-11-30"},"10-08",null,null,null,null,null,null,null,null,null,"","10-08",null,null,null,null,null,null,null,null,null,"","10-08",null,null,null,null,null,null,null,null,null,"","10-08",null,null,null,null,null,null,null,null,null,"","","",""]
[null,"11-08",null,null,null,null,null,null,null,null,null,null,"11-08",null,null,null,null,null,null,null,null,null,null,"11-08",null,null,null,null,null,null,null,null,null,null,"11-08",null,null,null,null,null,null,null,null,null,"","","",""]
[null,"12-10",null,null,null,null,null,null,null,null,null,null,"12-10",null,null,null,null,null,null,null,null,null,null,"12-10",null,null,null,null,null,null,null,null,null,null,"12-10",null,null,null,null,null,null,null,null,null,"","","",""]
[null,"12-08",null,null,null,null,null,null,null,null,null,null,"12-08",null,null,null,null,null,null,null,null,null,null,"12-08",null,null,null,null,null,null,null,null,null,null,"12-08",null,null,null,null,null,null,null,null,null,"","","",""]
[null,"15-13",null,null,null,null,null,null,null,null,null,null,"15-13",null,null,null,null,null,null,null,null,null,null,"15-13",null,null,null,null,null,null,null,null,null,null,"15-13",null,null,null,null,null,null,null,null,null,"","","",""]
[null,"16-13",null,null,null,null,null,null,null,null,null,null,"16-13",null,null,null,null,null,null,null,null,null,null,"16-13",null,null,null,null,null,null,null,null,null,null,"16-13",null,null,null,null,null,null,null,null,null,"","","",""]
[null,"17-15",null,null,null,null,null,null,null,null,null,null,"17-15",null,null,null,null,null,null,null,null,null,null,"17-15",null,null,null,null,null,null,null,null,null,null,"17-15",null,null,null,null,null,null,null,null,null,"","","",""]
[null,"17-13",null,null,null,null,null,null,null,null,null,null,"17-13",null,null,null,null,null,null,null,null,null,null,"17-13",null,null,null,null,null,null,null,null,null,null,"17-13",null,null,null,null,null,null,null,null,null,"","","",""]
[{"$f":"data!$D$5+3","v":"2021-12-01"},"10-08",null,null,null,null,null,null,null,null,null,"","10-08",null,null,null,null,null,null,null,null,null,"","10-08",null,null,null,null,null,null,null,null,null,"","10-08",null,null,null,null,null,null,null,null,null,"","","",""]
[null,"11-08",null,null,null,null,null,null,null,null,null,null,"11-08",null,null,null,null,null,null,null,null,null,null,"11-08",null,null,null,null,null,null,null,null,null,null,"11-08",null,null,null,null,null,null,null,null,null,"","","",""]
[null,"12-10",null,null,null,null,null,null,null,null,null,null,"12-10",null,null,null,null,null,null,null,null,null,null,"12-10",null,null,null,null,null,null,null,null,null,null,"12-10",null,null,null,null,null,null,null,null,null,"","","",""]
[null,"12-08",null,null,null,null,null,null,null,null,null,null,"12-08",null,null,null,null,null,null,null,null,null,null,"12-08",null,null,null,null,null,null,null,null,null,null,"12-08",null,null,null,null,null,null,null,null,null,"","","",""]
[null,"15-13",null,null,null,null,null,null,null,null,null,null,"15-13",null,null,null,null,null,null,null,null,null,null,"15-13",null,null,null,null,null,null,null,null,null,null,"15-13",null,null,null,null,null,null,null,null,null,"","","",""]
[null,"16-13",null,null,null,null,null,null,null,null,null,null,"16-13",null,null,null,null,null,null,null,null,null,null,"16-13",null,null,null,null,null,null,null,null,null,null,"16-13",null,null,null,null,null,null,null,null,null,"","","",""]
[null,"17-15",null,null,null,null,null,null,null,null,null,null,"17-15",null,null,null,null,null,null,null,null,null,null,"17-15",null,null,null,null,null,null,null,null,null,null,"17-15",null,null,null,null,null,null,null,null,null,"","","",""]
[null,"17-13",null,null,null,null,null,null,null,null,null,null,"17-13",null,null,null,null,null,null,null,null,null,null,"17-13",null,null,null,null,null,null,null,null,null,null,"17-13",null,null,null,null,null,null,null,null,null,"","","",""]
[{"$f":"data!$D$5+4","v":"2021-12-02"},"10-08",null,null,null,null,null,null,null,null,null,"","10-08",null,null,null,null,null,null,null,null,null,"","10-08",null,null,null,null,null,null,null,null,null,"","10-08",null,null,null,null,null,null,null,null,null,"","","",""]
[null,"11-08",null,null,null,null,null,null,null,null,null,null,"11-08",null,null,null,null,null,null,null,null,null,null,"11-08",null,null,null,null,null,null,null,null,null,null,"11-08",null,null,null,null,null,null,null,null,null,"","","",""]
[null,"12-10",null,null,null,null,null,null,null,null,null,null,"12-10",null,null,null,null,null,null,null,null,null,null,"12-10",null,null,null,null,null,null,null,null,null,null,"12-10",null,null,null,null,null,null,null,null,null,"","","",""]
[null,"12-08",null,null,null,null,null,null,null,null,null,null,"12-08",null,null,null,null,null,null,null,null,null,null,"12-08",null,null,null,null,null,null,null,null,null,null,"12-08",null,null,null,null,null,null,null,null,null,"","","",""]
[null,"15-13",null,null,null,null,null,null,null,null,null,null,"15-13",null,null,null,null,null,null,null,null,null,null,"15-13",null,null,null,null,null,null,null,null,null,null,"15-13",null,null,null,null,null,null,null,null,null,"","","",""]
[null,"16-13",null,null,null,null,null,null,null,null,null,null,"16-13",null,null,null,null,null,null,null,null,null,null,"16-13",null,null,null,null,null,null,null,null,null,null,"16-13",null,null,null,null,null,null,null,null,null,"","","",""]
[null,"17-15",null,null,null,null,null,null,null,null,null,null,"17-15",null,null,null,null,null,null,null,null,null,null,"17-15",null,null,null,null,null,null,null,null,null,null,"17-15",null,null,null,null,null,null,null,null,null,"","","",""]
[null,"17-13",null,null,null,null,null,null,null,null,null,null,"17-13",null,null,null,null,null,null,null,null,null,null,"17-13",null,null,null,null,null,null,null,null,null,null,"17-13",null,null,null,null,null,null,null,null,null,"","","",""]
[null,null,"","","","","","","","","","","","","","","","","","","","","","","","","","","","","","",null,"",null,null,null,null,null,null,null,null,null,null,"","","",""]
[null,null,"","","","","","","","","","","","","","","","","","","","","","","","","","","","","",""]
[null,null,"","","","","","","","","","","","","","","","","","","","","","","","","","","","","",""]
[null,null,"","","","","","","","","","","","","","","","","","","","","","","","","","","","","",""]
[null,null,"","","","","","","","","","","","","","","","","","","","","","","","","","","","","",""]

{"sheet":"جدول الامتحان 3","index":6,"n_rows":29,"n_cols":8,"rows_kept":29,"cut":false,"hidden":false,"merged":[[24,0,26,0],[5,0,6,0],[5,1,6,1],[5,2,6,2],[5,7,6,7],[4,0,4,7],[0,0,0,7],[1,0,1,7],[7,0,10,0],[21,0,23,0],[11,0,15,0],[5,5,6,5],[5,3,6,3],[5,4,6,4],[5,6,6,6],[16,0,20,0]]}
["                                                                                                الجمهورية الجزائرية الدمقراطية الشعبية"]
["                                           وزارة التربية الوطنية "]
["مديرية التربية لولاية تسمسيلت                        "]
["ثانوية   "]
["جدول سير إختبارات  الفصل الثاني للسنة الثالثة ثانوي"]
["اليوم","التوقيت","03 آداب وفـلـــــــــــسفة","03 لغات اجنبية","03 علوم تجريبية","03 رياضيات","03 تقني رياضي","03 تسيـــير وإقتــصـــــاد"]
[]
[{"$f":"data!J5","v":"2021-11-28"},"10-08",null,null,"اللغة العربية  وادابها","اللغة العربية  وادابها","اللغة العربية  وادابها","اللغة العربية  وادابها"]
[null,"11-08",null,"اللغة العربية  وادابها"]
[null,"12-08","اللغة العربية  وادابها"]
[null,"16-14","العلوم الإسلامية","العلوم الإسلامية","العلوم الإسلامية","العلوم الإسلامية","العلوم الإسلامية","العلوم الإسلامية"]
[{"$f":"data!J13","v":"2021-11-29"},"10-08","الرياضيات","الرياضيات"]
[null,"11-08",null,null,"الرياضيات",null,null,"الرياضيات"]
[null,"12-08",null,null,null,"الرياضيات","الرياضيات"]
[null,"16-14","اللغة الإنجليزية",null,"اللغة الإنجليزية","اللغة الإنجليزية","اللغة الإنجليزية","اللغة الإنجليزية"]
[null,"17-14",null,"اللغة الإنجليزية"]
[{"$f":"data!J21","v":"2021-11-30"},"10-08",null,null,null,"العلوم الطبيعية"]
[null,"11-08"]
[null,"12-08","الفلسفة",null,"العلوم الطبيعية",null,"تكنولوجيا","التسيير المحاسبي والمالي"]
[null,"16-14","اللغة الفرنسية","الفلسفة","اللغة الفرنسية","اللغة الفرنسية","اللغة الفرنسية","اللغة الفرنسية"]
[null,"17-14",null,"اللغة الفرنسية"]
[{"$f":"data!J29","v":"2021-12-01"},"11-08",null,"التاريخ والجغرافيا","التاريخ والجغرافيا","التاريخ والجغرافيا","التاريخ والجغرافيا","التاريخ والجغرافيا"]
[null,"12-08","التاريخ والجغرافيا"]
[null,"16-14"]
[{"$f":"data!J37","v":"2021-12-02"},"11-08",null,"لغة اجنبية ثالثة","العلوم الفيزيائية",null,null,"الإقتصاد  والمناجمنت"]
[null,"12-08",null,null,null,"العلوم الفيزيائية","العلوم الفيزيائية"]
[null,"17-14",null,null,"الفلسفة","الفلسفة","الفلسفة","الفلسفة"]
[]
[null,null,null,null,null,null,null,"تيمقطن في : 16-02-2012"]

{"sheet":"جدول الامتحان 1 2","index":7,"n_rows":29,"n_cols":9,"rows_kept":29,"cut":false,"hidden":false,"merged":[[0,0,0,8],[7,0,10,0],[11,0,14,0],[18,0,21,0],[27,6,27,7],[15,0,17,0],[22,0,25,0],[5,0,6,0],[5,1,6,1],[5,2,6,2],[5,3,6,3],[5,4,6,4],[4,0,4,8],[1,0,1,8]]}
["                                                                                                الجمهورية الجزائرية الدمقراطية الشعبية"]
["                                           وزارة التربية الوطنية "]
["مديرية التربية لولاية ادرار                          ",null,null,null,null,null,null," الموسم الدراسي:2011/2012"]
["ثانوية "]
["جدول سير إختبارات  الفصل الثاني للسنة الاولى و الثانية ثانوي"]
["اليوم","التوقيت","1 ج م اداب","1 ج م علوم","       2ع تجريبية +      2 رياضيات","2تقني رياضي","2تسيير واقتصاد","2اداب وفلسفة","2لغات"]
[]
[{"$f":"data!J5","v":"2021-11-28"},"10-08",null,null,"رياضيات","رياضيات","التسيير م و المحاسبى","فلسفة","المانية"]
[null,"12-10",null,null,"علوم اسلامية","علوم اسلامية","علوم اسلامية","علوم اسلامية","علوم اسلامية"]
[null,"15-13","علوم طبيعية","فيزياء"]
[null,"17-15","علوم اسلامية","علوم اسلامية"]
[{"$f":"data!J13","v":"2021-11-29"},"10-08",null,null,"فيزياء","فيزياء","تاريخ وجغرافيا","تاريخ وجغرافيا","تاريخ وجغرافيا"]
[null,"12-10",null,null,"لغة انجليزية","لغة انجليزية","لغة انجليزية","لغة انجليزية","لغة انجليزية"]
[null,"15-13","لغة عربية","لغة عربية"]
[null,"17-15","لغة فرنسية","لغة فرنسية"]
[{"$f":"data!J21","v":"2021-11-30"},"10-08",null,null,null,null,"لغة فرنسية","لغة فرنسية"]
[null,"09-08","اعلام الي","اعلام الي"]
[null,"10-09","تكنولوجيا"]
[{"$f":"data!J29","v":"2021-12-01"},"10-08","تاريخ وجغرافيا","رياضيات"]
[null,"12-10","رياضيات","تاريخ وجغرافيا"]
[null,"15-13",null,null,"علوم طبيعية","هـ.كه       هـ.طر","اقتصاد ومناجمنت","رياضيات","رياضيات"]
[null,"17-15",null,null,"لغة عربية","لغة عربية","لغة عربية","لغة عربية","لغة عربية"]
[{"$f":"data!J37","v":"2021-12-02"},"10-08","فيزياء","علوم طبيعية"]
[null,"12-10","لغة انجليزية","لغة انجليزية"]
[null,"15-13",null,null,"تاريخ وجغرافيا","تاريخ وجغرافيا","رياضيات","فيزياء","لغة فرنسية"]
[null,"17-15",null,null,"لغة فرنسية","لغة فرنسية","قانون","علوم طبيعية"]
[]
[null,null,null,null,null,null,"تيمقطن في : 16-02-2012"]
[null,null,null,null,null,null,null,"المدير"]