{"text_format":"1","workbook":"xlsx","n_sheets":3,"sheets":["شباط","جداول","Control"],"not_rendered":{"charts":0,"images":4,"macros":1,"external_links":0,"defined_names":9,"comments":0,"pivot_tables":0},"unopened":[],"bounds":{"document_bytes":16777216,"sheet_cells":100000,"rows_first":2000,"rows_last":500,"rows_between":2000,"halvings":0,"cell_chars":16384,"cell_head_chars":4096},"cells_cut":0,"cells_raw":0,"read":"whole","date_system":"1900"}

{"sheet":"شباط","index":0,"n_rows":3775,"n_cols":23,"rows_kept":3775,"cut":false,"hidden":false,"merged":[[0,2,0,4],[0,5,0,7],[0,18,0,19],[0,12,0,14]]}
[null,null,"اليوزرفورم الأول",null,null,null,null,null,null,null,null,null,"اليوزرفورم الثاني",null,null,null,"عدد الزبائن",{"$f":"COUNT(A4:A3775)","v":14},{"$f":"SUM(V4:V3775)","v":1740000},null,null,null,"✓"]
[null,null,""]
["الرقم","الإسم","هاتف","رقم الزبون","التاريخ "," كود","المنطقة","الشارع","البناية","الطابق","K","L","M","N","O","السعر","Q","R","S","المبلغ المدفوع","تاريخ الدفعة","المبلغ المطلوب","مدفوع / غير"]
[2,"ابراهيم السعدي",null,3144,null,"107","بيروت","العام",null,null,null,5,null,null,{"$f":"SUM(M4-N4)","v":0},{"$f":"IF(L4=0,0,IF(L4<=5.5,150000,IF(L4<=10.5,230000,IF(L4<=15.5,300000,IF(L4<=20.5,350000,IF(L4<=25.5,400000,IF(L4<=30.5,450000,IF(L4<=35.5,500000,IF(L4<=40.5,550000,IF(L4<=45.5,600000,IF(L4<=50.5,650000,IF(L4<=55.5,700000,IF(L4<=60.5,750000)))))))))))))","v":150000},{"$f":"SUM(K4*150000/2.5)","v":0},{"$f":"SUM(O4*4000)","v":0},null,150000,"2021-02-02",{"$f":"SUM(P4:S4)-T4","v":0},{"$f":"IF(V4<=0,\"مدفوع\",\"غير مدفوع\")","v":"مدفوع"}]
[5,"ابراهيم ضاهر",null,3146,null,"107","بيروت","العام",null,null,null,3,null,null,0,{"$f":"IF(L5=0,0,IF(L5<=5.5,150000,IF(L5<=10.5,230000,IF(L5<=15.5,300000,IF(L5<=20.5,350000,IF(L5<=25.5,400000,IF(L5<=30.5,450000,IF(L5<=35.5,500000,IF(L5<=40.5,550000,IF(L5<=45.5,600000,IF(L5<=50.5,650000,IF(L5<=55.5,700000,IF(L5<=60.5,750000)))))))))))))","v":150000},0,0,null,null,null,150000,"غير مدفوع"]
[6,"ابراهيم  الاحمد",null,3177,null,"112","صيدا","دوحة عرمون",null,null,null,5,null,null,0,150000,0,0,null,150000,"15/06/20211",0,"مدفوع"]
[7,"ابراهيم  طبارة",null,5497,null,"112","النبطية","الرئيسي",null,null,null,6,null,null,0,230000,0,0,null,null,null,230000,"غير مدفوع"]
[8,"ابراهيم صعب",null,9814,null,"102","بيروت","العام",null,null,null,2.5,null,null,0,150000,0,0,null,null,null,150000,"غير مدفوع"]
[9,"ابو علي عقاب  ",null,3186,null,"114","بيروت","فرحات"," حاج حسن",null,null,10,null,null,0,230000,0,0,null,null,null,230000,"غير مدفوع"]
[10,"احمد الاحمر",null,10211,null,"104","بيروت","فرحات","سنتر",null,null,5,null,null,0,150000,0,0,null,150000,"2021-06-24",0,"مدفوع"]
[11,"احمد الحمصي",null,10797,null,"118","بيروت","فرحات",null,null,null,5,null,null,0,150000,0,0,null,null,null,150000,"غير مدفوع"]
[12,"احمد الصالح ",null,5239,null,"108","البقاع","زحلة","صعب 2",null,null,3,null,null,0,150000,0,0,null,null,null,150000,"غير مدفوع"]
[13,"احمد تنير",null,10801,null,"118","البقاع","زحلة","العميد",null,null,5,null,null,0,150000,0,0,null,null,null,150000,"غير مدفوع"]
[14,"احمد جعفر",null,10196,null,"132","بيروت","فرحات","نعمة عيد",null,null,5,null,null,0,150000,0,0,null,null,null,150000,"غير مدفوع"]
[15,"احمد  عيتاني",null,11038,null,"107","بيروت","فرحات",null,null,null,5,null,null,0,150000,0,0,null,null,null,150000,"غير مدفوع"]
[16,"احمد حسن ",null,3599,null,"122","بيروت","فرحات",null,null,null,5,null,null,0,150000,0,0,null,150000,"2021-04-14",0,"مدفوع"]
[17,"احمد  طعمة",null,3163,null,"109","بيروت","فرحات","صعب 3",null,null,6,null,null,0,230000,0,0,null,null,null,230000,"غير مدفوع"]
[null,null,null,null,null,null,null,null,null,null,null,null,null,null,{"$f":"SUM(M18-N18)","v":0},{"$f":"IF(L18=0,0,IF(L18<=5.5,150000,IF(L18<=10.5,230000,IF(L18<=15.5,300000,IF(L18<=20.5,350000,IF(L18<=25.5,400000,IF(L18<=30.5,450000,IF(L18<=35.5,500000,IF(L18<=40.5,550000,IF(L18<=45.5,600000,IF(L18<=50.5,650000,IF(L18<=55.5,700000,IF(L18<=60.5,750000)))))))))))))","v":0},{"$f":"SUM(K18*150000/2.5)","v":0},{"$f":"SUM(O18*4000)","v":0},null,null,null,{"$f":"SUM(P18:S18)-T18","v":0},{"$f":"IF(V18<=0,\"مدفوع\",\"غير مدفوع\")","v":"مدفوع"}]
[null,null,null,null,null,null,null,null,null,null,null,null,null,null,0,0,0,0,null,null,null,0,"مدفوع"]
[null,null,null,null,null,null,null,null,null,null,null,null,null,null,0,0,0,0,null,null,null,0,"مدفوع"]
[null,null,null,null,null,null,null,null,null,null,null,null,null,null,0,0,0,0,null,null,null,0,"مدفوع"]
[null,null,null,null,null,null,null,null,null,null,null,null,null,null,0,0,0,0,null,null,null,0,"مدفوع"]
[null,null,null,null,null,null,null,null,null,null,null,null,null,null,0,0,0,0,null,null,null,0,"مدفوع"]
[null,null,null,null,null,null,null,null,null,null,null,null,null,null,0,0,0,0,null,null,null,0,"مدفوع"]
[null,null,null,null,null,null,null,null,null,null,null,null,null,null,0,0,0,0,null,null,null,0,"مدفوع"]
[null,null,null,null,null,null,null,null,null,null,null,null,null,null,0,0,0,0,null,null,null,0,"مدفوع"]
[null,null,null,null,null,null,null,null,null,null,null,null,null,null,0,0,0,0,null,null,null,0,"مدفوع"]
[null,null,null,null,null,null,null,null,null,null,null,null,null,null,0,0,0,0,null,null,null,0,"مدفوع"]
[null,null,null,null,null,null,null,null,null,null,null,null,null,null,0,0,0,0,null,null,null,0,"مدفوع"]
[null,null,null,null,null,null,null,null,null,null,null,null,null,null,0,0,0,0,null,null,null,0,"مدفوع"]
[null,null,null,null,null,null,null,null,null,null,null,null,null,null,0,0,0,0,null,null,null,0,"مدفوع"]
[null,null,null,null,null,null,null,null,null,null,null,null,null,null,0,0,0,0,null,null,null,0,"مدفوع"]
[null,null,null,null,null,null,null,null,null,null,null,null,null,null,0,0,0,0,null,null,null,0,"مدفوع"]
[null,null,null,null,null,null,null,null,null,null,null,null,null,null,0,0,0,0,null,null,null,0,"مدفوع"]
[null,null,null,null,null,null,null,null,null,null,null,null,null,null,{"$f":"SUM(M35-N35)","v":0},0,{"$f":"SUM(K35*150000/2.5)","v":0},{"$f":"SUM(O35*4000)","v":0},null,null,null,{"$f":"SUM(P35:S35)-T35","v":0},{"$f":"IF(V35<=0,\"مدفوع\",\"غير مدفوع\")","v":"مدفوع"}]
[null,null,null,null,null,null,null,null,null,null,null,null,null,null,0,0,0,0,null,null,null,0,"مدفوع"]
[null,null,null,null,null,null,null,null,null,null,null,null,null,null,0,{"$f":"IF(L37=0,0,IF(L37<=5.5,150000,IF(L37<=10.5,230000,IF(L37<=15.5,300000,IF(L37<=20.5,350000,IF(L37<=25.5,400000,IF(L37<=30.5,450000,IF(L37<=35.5,500000,IF(L37<=40.5,550000,IF(L37<=45.5,600000,IF(L37<=50.5,650000,IF(L37<=55.5,700000,IF(L37<=60.5,750000)))))))))))))","v":0},0,0,null,null,null,0,"مدفوع"]
[null,null,null,null,null,null,null,null,null,null,null,null,null,null,0,0,0,0,null,null,null,0,"مدفوع"]
[null,null,null,null,null,null,null,null,null,null,null,null,null,null,0,0,0,0,null,null,null,0,"مدفوع"]
[null,null,null,null,null,null,null,null,null,null,null,null,null,null,0,0,0,0,null,null,null,0,"مدفوع"]
[null,null,null,null,null,null,null,null,null,null,null,null,null,null,0,0,0,0,null,null,null,0,"مدفوع"]
[null,null,null,null,null,null,null,null,null,null,null,null,null,null,0,0,0,0,null,null,null,0,"مدفوع"]
[null,null,null,null,null,null,null,null,null,null,null,null,null,null,0,0,0,0,null,null,null,0,"مدفوع"]
[null,null,null,null,null,null,null,null,null,null,null,null,null,null,0,0,0,0,null,null,null,0,"مدفوع"]
[null,null,null,null,null,null,null,null,null,null,null,null,null,null,0,0,0,0,null,null,null,0,"مدفوع"]
[null,null,null,null,null,null,null,null,null,null,null,null,null,null,0,0,0,0,null,null,null,0,"مدفوع"]
[null,null,null,null,null,null,null,null,null,null,null,null,null,null,0,0,0,0,null,null,null,0,"مدفوع"]
[null,null,null,null,null,null,null,null,null,null,null,null,null,null,0,0,0,0,null,null,null,0,"مدفوع"]
[null,null,null,null,null,null,null,null,null,null,null,null,null,null,0,0,0,0,null,null,null,0,"مدفوع"]
[null,null,null,null,null,null,null,null,null,null,null,null,null,null,0,0,0,0,null,null,null,0,"مدفوع"]
[null,null,null,null,null,null,null,null,null,null,null,null,null,null,0,0,0,0,null,null,null,0,"مدفوع"]
[null,null,null,null,null,null,null,null,null,null,null,null,null,null,0,0,0,0,null,null,null,0,"مدفوع"]
[null,null,null,null,null,null,null,null,null,null,null,null,null,null,0,0,0,0,null,null,null,0,"مدفوع"]
[null,null,null,null,null,null,null,null,null,null,null,null,null,null,0,0,0,0,null,null,null,0,"مدفوع"]
[null,null,null,null,null,null,null,null,null,null,null,null,null,null,0,0,0,0,null,null,null,0,"مدفوع"]
[null,null,null,null,null,null,null,null,null,null,null,null,null,null,0,0,0,0,null,null,null,0,"مدفوع"]
[null,null,null,null,null,null,null,null,null,null,null,null,null,null,0,0,0,0,null,null,null,0,"مدفوع"]
[null,null,null,null,null,null,null,null,null,null,null,null,null,null,0,0,0,0,null,null,null,0,"مدفوع"]
[null,null,null,null,null,null,null,null,null,null,null,null,null,null,0,0,0,0,null,null,null,0,"مدفوع"]
[null,null,null,null,null,null,null,null,null,null,null,null,null,null,0,0,0,0,null,null,null,0,"مدفوع"]
[null,null,null,null,null,null,null,null,null,null,null,null,null,null,0,0,0,0,null,null,null,0,"مدفوع"]
[null,null,null,null,null,null,null,null,null,null,null,null,null,null,0,0,0,0,null,null,null,0,"مدفوع"]
[null,null,null,null,null,null,null,null,null,null,null,null,null,null,0,0,0,0,null,null,null,0,"مدفوع"]
[null,null,null,null,null,null,null,null,null,null,null,null,null,null,0,0,0,0,null,null,null,0,"مدفوع"]
[null,null,null,null,null,null,null,null,null,null,null,null,null,null,0,0,0,0,null,null,null,0,"مدفوع"]
[null,null,null,null,null,null,null,null,null,null,null,null,null,null,0,0,0,0,null,null,null,0,"مدفوع"]
[null,null,null,null,null,null,null,null,null,null,null,null,null,null,0,0,0,0,null,null,null,0,"مدفوع"]
[null,null,null,null,null,null,null,null,null,null,null,null,null,null,0,0,0,0,null,null,null,0,"مدفوع"]
[null,null,null,null,null,null,null,null,null,null,null,null,null,null,0,0,0,0,null,null,null,0,"مدفوع"]
[null,null,null,null,null,null,null,null,null,null,null,null,null,null,0,0,0,0,null,null,null,0,"مدفوع"]
[null,null,null,null,null,null,null,null,null,null,null,null,null,null,0,0,0,0,null,null,null,0,"مدفوع"]
[null,null,null,null,null,null,null,null,null,null,null,null,null,null,0,0,0,0,null,null,null,0,"مدفوع"]
[null,null,null,null,null,null,null,null,null,null,null,null,null,null,0,0,0,0,null,null,null,0,"مدفوع"]
[null,null,null,null,null,null,null,null,null,null,null,null,null,null,0,0,0,0,null,null,null,0,"مدفوع"]
[null,null,null,null,null,null,null,null,null,null,null,null,null,null,0,0,0,0,null,null,null,0,"مدفوع"]
[null,null,null,null,null,null,null,null,null,null,null,null,null,null,0,0,0,0,null,null,null,0,"مدفوع"]
[null,null,null,null,null,null,null,null,null,null,null,null,null,null,0,0,0,0,null,null,null,0,"مدفوع"]
[null,null,null,null,null,null,null,null,null,null,null,null,null,null,0,0,0,0,null,null,null,0,"مدفوع"]
[null,null,null,null,null,null,null,null,null,null,null,null,null,null,0,0,0,0,null,null,null,0,"مدفوع"]
[null,null,null,null,null,null,null,null,null,null,null,null,null,null,0,0,0,0,null,null,null,0,"مدفوع"]
[null,null,null,null,null,null,null,null,null,null,null,null,null,null,0,0,0,0,null,null,null,0,"مدفوع"]
[null,null,null,null,null,null,null,null,null,null,null,null,null,null,0,0,0,0,null,null,null,0,"مدفوع"]
[null,null,null,null,null,null,null,null,null,null,null,null,null,null,0,0,0,0,null,null,null,0,"مدفوع"]
[null,null,null,null,null,null,null,null,null,null,null,null,null,null,0,0,0,0,null,null,null,0,"مدفوع"]
[null,null,null,null,null,null,null,null,null,null,null,null,null,null,0,0,0,0,null,null,null,0,"مدفوع"]
[null,null,null,null,null,null,null,null,null,null,null,null,null,null,0,0,0,0,null,null,null,0,"مدفوع"]
[null,null,null,null,null,null,null,null,null,null,null,null,null,null,0,0,0,0,null,null,null,0,"مدفوع"]
[null,null,null,null,null,null,null,null,null,null,null,null,null,null,0,0,0,0,null,null,null,0,"مدفوع"]
[null,null,null,null,null,null,null,null,null,null,null,null,null,null,0,0,0,0,null,null,null,0,"مدفوع"]
[null,null,null,null,null,null,null,null,null,null,null,null,null,null,0,0,0,0,null,null,null,0,"مدفوع"]
[null,null,null,null,null,null,null,null,null,null,null,null,null,null,0,0,0,0,null,null,null,0,"مدفوع"]
[null,null,null,null,null,null,null,null,null,null,null,null,null,null,0,0,0,0,null,null,null,0,"مدفوع"]
[null,null,null,null,null,null,null,null,null,null,null,null,null,null,0,0,0,0,null,null,null,0,"مدفوع"]
[null,null,null,null,null,null,null,null,null,null,null,null,null,null,0,0,0,0,null,null,null,0,"مدفوع"]
[null,null,null,null,null,null,null,null,null,null,null,null,null,null,0,0,0,0,null,null,null,0,"مدفوع"]
[null,null,null,null,null,null,null,null,null,null,null,null,null,null,0,0,0,0,null,null,null,0,"مدفوع"]
[null,null,null,null,null,null,null,null,null,null,null,null,null,null,0,0,0,0,null,null,null,0,"مدفوع"]
[null,null,null,null,null,null,null,null,null,null,null,null,null,null,0,0,0,0,null,null,null,0,"مدفوع"]
[null,null,null,null,null,null,null,null,null,null,null,null,null,null,{"$f":"SUM(M99-N99)","v":0},0,{"$f":"SUM(K99*150000/2.5)","v":0},{"$f":"SUM(O99*4000)","v":0},null,null,null,{"$f":"SUM(P99:S99)-T99","v":0},{"$f":"IF(V99<=0,\"مدفوع\",\"غير مدفوع\")","v":"مدفوع"}]
[null,null,null,null,null,null,null,null,null,null,null,null,null,null,0,0,0,0,null,null,null,0,"مدفوع"]
[null,null,null,null,null,null,null,null,null,null,null,null,null,null,0,{"$f":"IF(L101=0,0,IF(L101<=5.5,150000,IF(L101<=10.5,230000,IF(L101<=15.5,300000,IF(L101<=20.5,350000,IF(L101<=25.5,400000,IF(L101<=30.5,450000,IF(L101<=35.5,500000,IF(L101<=40.5,550000,IF(L101<=45.5,600000,IF(L101<=50.5,650000,IF(L101<=55.5,700000,IF(L101<=60.5,750000)))))))))))))","v":0},0,0,null,null,null,0,"مدفوع"]
[null,null,null,null,null,null,null,null,null,null,null,null,null,null,0,0,0,0,null,null,null,0,"مدفوع"]
[null,null,null,null,null,null,null,null,null,null,null,null,null,null,0,0,0,0,null,null,null,0,"مدفوع"]
[null,null,null,null,null,null,null,null,null,null,null,null,null,null,0,0,0,0,null,null,null,0,"مدفوع"]
[null,null,null,null,null,null,null,null,null,null,null,null,null,null,0,0,0,0,null,null,null,0,"مدفوع"]
[null,null,null,null,null,null,null,null,null,null,null,null,null,null,0,0,0,0,null,null,null,0,"مدفوع"]
[null,null,null,null,null,null,null,null,null,null,null,null,null,null,0,0,0,0,null,null,null,0,"مدفوع"]
[null,null,null,null,null,null,null,null,null,null,null,null,null,null,0,0,0,0,null,null,null,0,"مدفوع"]
[null,null,null,null,null,null,null,null,null,null,null,null,null,null,0,0,0,0,null,null,null,0,"مدفوع"]
[null,null,null,null,null,null,null,null,null,null,null,null,null,null,0,0,0,0,null,null,null,0,"مدفوع"]
[null,null,null,null,null,null,null,null,null,null,null,null,null,null,0,0,0,0,null,null,null,0,"مدفوع"]
[null,null,null,null,null,null,null,null,null,null,null,null,null,null,0,0,0,0,null,null,null,0,"مدفوع"]
[null,null,null,null,null,null,null,null,null,null,null,null,null,null,0,0,0,0,null,null,null,0,"مدفوع"]
[null,null,null,null,null,null,null,null,null,null,null,null,null,null,0,0,0,0,null,null,null,0,"مدفوع"]
[null,null,null,null,null,null,null,null,null,null,null,null,null,null,0,0,0,0,null,null,null,0,"مدفوع"]
[null,null,null,null,null,null,null,null,null,null,null,null,null,null,0,0,0,0,null,null,null,0,"مدفوع"]
[null,null,null,null,null,null,null,null,null,null,null,null,null,null,0,0,0,0,null,null,null,0,"مدفوع"]
[null,null,null,null,null,null,null,null,null,null,null,null,null,null,0,0,0,0,null,null,null,0,"مدفوع"]
[null,null,null,null,null,null,null,null,null,null,null,null,null,null,0,0,0,0,null,null,null,0,"مدفوع"]
[null,null,null,null,null,null,null,null,null,null,null,null,null,null,0,0,0,0,null,null,null,0,"مدفوع"]
[null,null,null,null,null,null,null,null,null,null,null,null,null,null,0,0,0,0,null,null,null,0,"مدفوع"]
[null,null,null,null,null,null,null,null,null,null,null,null,null,null,0,0,0,0,null,null,null,0,"مدفوع"]
[null,null,null,null,null,null,null,null,null,null,null,null,null,null,0,0,0,0,null,null,null,0,"مدفوع"]
[null,null,null,null,null,null,null,null,null,null,null,null,null,null,0,0,0,0,null,null,null,0,"مدفوع"]
[null,null,null,null,null,null,null,null,null,null,null,null,null,null,0,0,0,0,null,null,null,0,"مدفوع"]
[null,null,null,null,null,null,null,null,null,null,null,null,null,null,0,0,0,0,null,null,null,0,"مدفوع"]
[null,null,null,null,null,null,null,null,null,null,null,null,null,null,0,0,0,0,null,null,null,0,"مدفوع"]
[null,null,null,null,null,null,null,null,null,null,null,null,null,null,0,0,0,0,null,null,null,0,"مدفوع"]
[null,null,null,null,null,null,null,null,null,null,null,null,null,null,0,0,0,0,null,null,null,0,"مدفوع"]
[null,null,null,null,null,null,null,null,null,null,null,null,null,null,0,0,0,0,null,null,null,0,"مدفوع"]
[null,null,null,null,null,null,null,null,null,null,null,null,null,null,0,0,0,0,null,null,null,0,"مدفوع"]
[null,null,null,null,null,null,null,null,null,null,null,null,null,null,0,0,0,0,null,null,null,0,"مدفوع"]
[null,null,null,null,null,null,null,null,null,null,null,null,null,null,0,0,0,0,null,null,null,0,"مدفوع"]
[null,null,null,null,null,null,null,null,null,null,null,null,null,null,0,0,0,0,null,null,null,0,"مدفوع"]
[null,null,null,null,null,null,null,null,null,null,null,null,null,null,0,0,0,0,null,null,null,0,"مدفوع"]
[null,null,null,null,null,null,null,null,null,null,null,null,null,null,0,0,0,0,null,null,null,0,"مدفوع"]
[null,null,null,null,null,null,null,null,null,null,null,null,null,null,0,0,0,0,null,null,null,0,"مدفوع"]
[null,null,null,null,null,null,null,null,null,null,null,null,null,null,0,0,0,0,null,null,null,0,"مدفوع"]
[null,null,null,null,null,null,null,null,null,null,null,null,null,null,0,0,0,0,null,null,null,0,"مدفوع"]
[null,null,null,null,null,null,null,null,null,null,null,null,null,null,0,0,0,0,null,null,null,0,"مدفوع"]
[null,null,null,null,null,null,null,null,null,null,null,null,null,null,0,0,0,0,null,null,null,0,"مدفوع"]
[null,null,null,null,null,null,null,null,null,null,null,null,null,null,0,0,0,0,null,null,null,0,"مدفوع"]
[null,null,null,null,null,null,null,null,null,null,null,null,null,null,0,0,0,0,null,null,null,0,"مدفوع"]
[null,null,null,null,null,null,null,null,null,null,null,null,null,null,0,0,0,0,null,null,null,0,"مدفوع"]
[null,null,null,null,null,null,null,null,null,null,null,null,null,null,0,0,0,0,null,null,null,0,"مدفوع"]
[null,null,null,null,null,null,null,null,null,null,null,null,null,null,0,0,0,0,null,null,null,0,"مدفوع"]
[null,null,null,null,null,null,null,null,null,null,null,null,null,null,0,0,0,0,null,null,null,0,"مدفوع"]
[null,null,null,null,null,null,null,null,null,null,null,null,null,null,0,0,0,0,null,null,null,0,"مدفوع"]
[null,null,null,null,null,null,null,null,null,null,null,null,null,null,0,0,0,0,null,null,null,0,"مدفوع"]
[null,null,null,null,null,null,null,null,null,null,null,null,null,null,0,0,0,0,null,null,null,0,"مدفوع"]
[null,null,null,null,null,null,null,null,null,null,null,null,null,null,0,0,0,0,null,null,null,0,"مدفوع"]
[null,null,null,null,null,null,null,null,null,null,null,null,null,null,0,0,0,0,null,null,null,0,"مدفوع"]
[null,null,null,null,null,null,null,null,null,null,null,null,null,null,0,0,0,0,null,null,null,0,"مدفوع"]
[null,null,null,null,null,null,null,null,null,null,null,null,null,null,0,0,0,0,null,null,null,0,"مدفوع"]
[null,null,null,null,null,null,null,null,null,null,null,null,null,null,0,0,0,0,null,null,null,0,"مدفوع"]
[null,null,null,null,null,null,null,null,null,null,null,null,null,null,0,0,0,0,null,null,null,0,"مدفوع"]
[null,null,null,null,null,null,null,null,null,null,null,null,null,null,0,0,0,0,null,null,null,0,"مدفوع"]
[null,null,null,null,null,null,null,null,null,null,null,null,null,null,0,0,0,0,null,null,null,0,"مدفوع"]
[null,null,null,null,null,null,null,null,null,null,null,null,null,null,0,0,0,0,null,null,null,0,"مدفوع"]
[null,null,null,null,null,null,null,null,null,null,null,null,null,null,0,0,0,0,null,null,null,0,"مدفوع"]
[null,null,null,null,null,null,null,null,null,null,null,null,null,null,0,0,0,0,null,null,null,0,"مدفوع"]
[null,null,null,null,null,null,null,null,null,null,null,null,null,null,0,0,0,0,null,null,null,0,"مدفوع"]
[null,null,null,null,null,null,null,null,null,null,null,null,null,null,{"$f":"SUM(M163-N163)","v":0},0,{"$f":"SUM(K163*150000/2.5)","v":0},{"$f":"SUM(O163*4000)","v":0},null,null,null,{"$f":"SUM(P163:S163)-T163","v":0},{"$f":"IF(V163<=0,\"مدفوع\",\"غير مدفوع\")","v":"مدفوع"}]
[null,null,null,null,null,null,null,null,null,null,null,null,null,null,0,0,0,0,null,null,null,0,"مدفوع"]
[null,null,null,null,null,null,null,null,null,null,null,null,null,null,0,{"$f":"IF(L165=0,0,IF(L165<=5.5,150000,IF(L165<=10.5,230000,IF(L165<=15.5,300000,IF(L165<=20.5,350000,IF(L165<=25.5,400000,IF(L165<=30.5,450000,IF(L165<=35.5,500000,IF(L165<=40.5,550000,IF(L165<=45.5,600000,IF(L165<=50.5,650000,IF(L165<=55.5,700000,IF(L165<=60.5,750000)))))))))))))","v":0},0,0,null,null,null,0,"مدفوع"]
[null,null,null,null,null,null,null,null,null,null,null,null,null,null,0,0,0,0,null,null,null,0,"مدفوع"]
[null,null,null,null,null,null,null,null,null,null,null,null,null,null,0,0,0,0,null,null,null,0,"مدفوع"]
[null,null,null,null,null,null,null,null,null,null,null,null,null,null,0,0,0,0,null,null,null,0,"مدفوع"]
[null,null,null,null,null,null,null,null,null,null,null,null,null,null,0,0,0,0,null,null,null,0,"مدفوع"]
[null,null,null,null,null,null,null,null,null,null,null,null,null,null,0,0,0,0,null,null,null,0,"مدفوع"]
[null,null,null,null,null,null,null,null,null,null,null,null,null,null,0,0,0,0,null,null,null,0,"مدفوع"]
[null,null,null,null,null,null,null,null,null,null,null,null,null,null,0,0,0,0,null,null,null,0,"مدفوع"]
[null,null,null,null,null,null,null,null,null,null,null,null,null,null,0,0,0,0,null,null,null,0,"مدفوع"]
[null,null,null,null,null,null,null,null,null,null,null,null,null,null,0,0,0,0,null,null,null,0,"مدفوع"]
[null,null,null,null,null,null,null,null,null,null,null,null,null,null,0,0,0,0,null,null,null,0,"مدفوع"]
[null,null,null,null,null,null,null,null,null,null,null,null,null,null,0,0,0,0,null,null,null,0,"مدفوع"]
[null,null,null,null,null,null,null,null,null,null,null,null,null,null,0,0,0,0,null,null,null,0,"مدفوع"]
[null,null,null,null,null,null,null,null,null,null,null,null,null,null,0,0,0,0,null,null,null,0,"مدفوع"]
[null,null,null,null,null,null,null,null,null,null,null,null,null,null,0,0,0,0,null,null,null,0,"مدفوع"]
[null,null,null,null,null,null,null,null,null,null,null,null,null,null,0,0,0,0,null,null,null,0,"مدفوع"]
[null,null,null,null,null,null,null,null,null,null,null,null,null,null,0,0,0,0,null,null,null,0,"مدفوع"]
[null,null,null,null,null,null,null,null,null,null,null,null,null,null,0,0,0,0,null,null,null,0,"مدفوع"]
[null,null,null,null,null,null,null,null,null,null,null,null,null,null,0,0,0,0,null,null,null,0,"مدفوع"]
[null,null,null,null,null,null,null,null,null,null,null,null,null,null,0,0,0,0,null,null,null,0,"مدفوع"]
[null,null,null,null,null,null,null,null,null,null,null,null,null,null,0,0,0,0,null,null,null,0,"مدفوع"]
[null,null,null,null,null,null,null,null,null,null,null,null,null,null,0,0,0,0,null,null,null,0,"مدفوع"]
[null,null,null,null,null,null,null,null,null,null,null,null,null,null,0,0,0,0,null,null,null,0,"مدفوع"]
[null,null,null,null,null,null,null,null,null,null,null,null,null,null,0,0,0,0,null,null,null,0,"مدفوع"]
[null,null,null,null,null,null,null,null,null,null,null,null,null,null,0,0,0,0,null,null,null,0,"مدفوع"]
[null,null,null,null,null,null,null,null,null,null,null,null,null,null,0,0,0,0,null,null,null,0,"مدفوع"]
[null,null,null,null,null,null,null,null,null,null,null,null,null,null,0,0,0,0,null,null,null,0,"مدفوع"]
[null,null,null,null,null,null,null,null,null,null,null,null,null,null,0,0,0,0,null,null,null,0,"مدفوع"]
[null,null,null,null,null,null,null,null,null,null,null,null,null,null,0,0,0,0,null,null,null,0,"مدفوع"]
[null,null,null,null,null,null,null,null,null,null,null,null,null,null,0,0,0,0,null,null,null,0,"مدفوع"]
[null,null,null,null,null,null,null,null,null,null,null,null,null,null,0,0,0,0,null,null,null,0,"مدفوع"]
[null,null,null,null,null,null,null,null,null,null,null,null,null,null,0,0,0,0,null,null,null,0,"مدفوع"]
[null,null,null,null,null,null,null,null,null,null,null,null,null,null,0,0,0,0,null,null,null,0,"مدفوع"]
[null,null,null,null,null,null,null,null,null,null,null,null,null,null,0,0,0,0,null,null,null,0,"مدفوع"]
[null,null,null,null,null,null,null,null,null,null,null,null,null,null,0,0,0,0,null,null,null,0,"مدفوع"]
[null,null,null,null,null,null,null,null,null,null,null,null,null,null,0,0,0,0,null,null,null,0,"مدفوع"]
[null,null,null,null,null,null,null,null,null,null,null,null,null,null,0,0,0,0,null,null,null,0,"مدفوع"]
[null,null,null,null,null,null,null,null,null,null,null,null,null,null,0,0,0,0,null,null,null,0,"مدفوع"]
[null,null,null,null,null,null,null,null,null,null,null,null,null,null,0,0,0,0,null,null,null,0,"مدفوع"]
[null,null,null,null,null,null,null,null,null,null,null,null,null,null,0,0,0,0,null,null,null,0,"مدفوع"]
[null,null,null,null,null,null,null,null,null,null,null,null,null,null,0,0,0,0,null,null,null,0,"مدفوع"]
[null,null,null,null,null,null,null,null,null,null,null,null,null,null,0,0,0,0,null,null,null,0,"مدفوع"]
[null,null,null,null,null,null,null,null,null,null,null,null,null,null,0,0,0,0,null,null,null,0,"مدفوع"]
[null,null,null,null,null,null,null,null,null,null,null,null,null,null,0,0,0,0,null,null,null,0,"مدفوع"]
[null,null,null,null,null,null,null,null,null,null,null,null,null,null,0,0,0,0,null,null,null,0,"مدفوع"]
[null,null,null,null,null,null,null,null,null,null,null,null,null,null,0,0,0,0,null,null,null,0,"مدفوع"]
[null,null,null,null,null,null,null,null,null,null,null,null,null,null,0,0,0,0,null,null,null,0,"مدفوع"]
[null,null,null,null,null,null,null,null,null,null,null,null,null,null,0,0,0,0,null,null,null,0,"مدفوع"]
[null,null,null,null,null,null,null,null,null,null,null,null,null,null,0,0,0,0,null,null,null,0,"مدفوع"]
[null,null,null,null,null,null,null,null,null,null,null,null,null,null,0,0,0,0,null,null,null,0,"مدفوع"]
[null,null,null,null,null,null,null,null,null,null,null,null,null,null,0,0,0,0,null,null,null,0,"مدفوع"]
[null,null,null,null,null,null,null,null,null,null,null,null,null,null,0,0,0,0,null,null,null,0,"مدفوع"]
[null,null,null,null,null,null,null,null,null,null,null,null,null,null,0,0,0,0,null,null,null,0,"مدفوع"]
[null,null,null,null,null,null,null,null,null,null,null,null,null,null,0,0,0,0,null,null,null,0,"مدفوع"]
[null,null,null,null,null,null,null,null,null,null,null,null,null,null,0,0,0,0,null,null,null,0,"مدفوع"]
[null,null,null,null,null,null,null,null,null,null,null,null,null,null,0,0,0,0,null,null,null,0,"مدفوع"]
[null,null,null,null,null,null,null,null,null,null,null,null,null,null,0,0,0,0,null,null,null,0,"مدفوع"]
[null,null,null,null,null,null,null,null,null,null,null,null,null,null,0,0,0,0,null,null,null,0,"مدفوع"]
[null,null,null,null,null,null,null,null,null,null,null,null,null,null,0,0,0,0,null,null,null,0,"مدفوع"]
[null,null,null,null,null,null,null,null,null,null,null,null,null,null,0,0,0,0,null,null,null,0,"مدفوع"]
[null,null,null,null,null,null,null,null,null,null,null,null,null,null,0,0,0,0,null,null,null,0,"مدفوع"]
[null,null,null,null,null,null,null,null,null,null,null,null,null,null,0,0,0,0,null,null,null,0,"مدفوع"]
[null,null,null,null,null,null,null,null,null,null,null,null,null,null,{"$f":"SUM(M227-N227)","v":0},0,{"$f":"SUM(K227*150000/2.5)","v":0},{"$f":"SUM(O227*4000)","v":0},null,null,null,{"$f":"SUM(P227:S227)-T227","v":0},{"$f":"IF(V227<=0,\"مدفوع\",\"غير مدفوع\")","v":"مدفوع"}]
[null,null,null,null,null,null,null,null,null,null,null,null,null,null,0,0,0,0,null,null,null,0,"مدفوع"]
[null,null,null,null,null,null,null,null,null,null,null,null,null,null,0,{"$f":"IF(L229=0,0,IF(L229<=5.5,150000,IF(L229<=10.5,230000,IF(L229<=15.5,300000,IF(L229<=20.5,350000,IF(L229<=25.5,400000,IF(L229<=30.5,450000,IF(L229<=35.5,500000,IF(L229<=40.5,550000,IF(L229<=45.5,600000,IF(L229<=50.5,650000,IF(L229<=55.5,700000,IF(L229<=60.5,750000)))))))))))))","v":0},0,0,null,null,null,0,"مدفوع"]
[null,null,null,null,null,null,null,null,null,null,null,null,null,null,0,0,0,0,null,null,null,0,"مدفوع"]
[null,null,null,null,null,null,null,null,null,null,null,null,null,null,0,0,0,0,null,null,null,0,"مدفوع"]
[null,null,null,null,null,null,null,null,null,null,null,null,null,null,0,0,0,0,null,null,null,0,"مدفوع"]
[null,null,null,null,null,null,null,null,null,null,null,null,null,null,0,0,0,0,null,null,null,0,"مدفوع"]
[null,null,null,null,null,null,null,null,null,null,null,null,null,null,0,0,0,0,null,null,null,0,"مدفوع"]
[null,null,null,null,null,null,null,null,null,null,null,null,null,null,0,0,0,0,null,null,null,0,"مدفوع"]
[null,null,null,null,null,null,null,null,null,null,null,null,null,null,0,0,0,0,null,null,null,0,"مدفوع"]
[null,null,null,null,null,null,null,null,null,null,null,null,null,null,0,0,0,0,null,null,null,0,"مدفوع"]
[null,null,null,null,null,null,null,null,null,null,null,null,null,null,0,0,0,0,null,null,null,0,"مدفوع"]
[null,null,null,null,null,null,null,null,null,null,null,null,null,null,0,0,0,0,null,null,null,0,"مدفوع"]
[null,null,null,null,null,null,null,null,null,null,null,null,null,null,0,0,0,0,null,null,null,0,"مدفوع"]
[null,null,null,null,null,null,null,null,null,null,null,null,null,null,0,0,0,0,null,null,null,0,"مدفوع"]
[null,null,null,null,null,null,null,null,null,null,null,null,null,null,0,0,0,0,null,null,null,0,"مدفوع"]
[null,null,null,null,null,null,null,null,null,null,null,null,null,null,0,0,0,0,null,null,null,0,"مدفوع"]
[null,null,null,null,null,null,null,null,null,null,null,null,null,null,0,0,0,0,null,null,null,0,"مدفوع"]
[null,null,null,null,null,null,null,null,null,null,null,null,null,null,0,0,0,0,null,null,null,0,"مدفوع"]
[null,null,null,null,null,null,null,null,null,null,null,null,null,null,0,0,0,0,null,null,null,0,"مدفوع"]
[null,null,null,null,null,null,null,null,null,null,null,null,null,null,0,0,0,0,null,null,null,0,"مدفوع"]
[null,null,null,null,null,null,null,null,null,null,null,null,null,null,0,0,0,0,null,null,null,0,"مدفوع"]
[null,null,null,null,null,null,null,null,null,null,null,null,null,null,0,0,0,0,null,null,null,0,"مدفوع"]
[null,null,null,null,null,null,null,null,null,null,null,null,null,null,0,0,0,0,null,null,null,0,"مدفوع"]
[null,null,null,null,null,null,null,null,null,null,null,null,null,null,0,0,0,0,null,null,null,0,"مدفوع"]
[null,null,null,null,null,null,null,null,null,null,null,null,null,null,0,0,0,0,null,null,null,0,"مدفوع"]
[null,null,null,null,null,null,null,null,null,null,null,null,null,null,0,0,0,0,null,null,null,0,"مدفوع"]
[null,null,null,null,null,null,null,null,null,null,null,null,null,null,0,0,0,0,null,null,null,0,"مدفوع"]
[null,null,null,null,null,null,null,null,null,null,null,null,null,null,0,0,0,0,null,null,null,0,"مدفوع"]
[null,null,null,null,null,null,null,null,null,null,null,null,null,null,0,0,0,0,null,null,null,0,"مدفوع"]
[null,null,null,null,null,null,null,null,null,null,null,null,null,null,0,0,0,0,null,null,null,0,"مدفوع"]
[null,null,null,null,null,null,null,null,null,null,null,null,null,null,0,0,0,0,null,null,null,0,"مدفوع"]
[null,null,null,null,null,null,null,null,null,null,null,null,null,null,0,0,0,0,null,null,null,0,"مدفوع"]
[null,null,null,null,null,null,null,null,null,null,null,null,null,null,0,0,0,0,null,null,null,0,"مدفوع"]
[null,null,null,null,null,null,null,null,null,null,null,null,null,null,0,0,0,0,null,null,null,0,"مدفوع"]
[null,null,null,null,null,null,null,null,null,null,null,null,null,null,0,0,0,0,null,null,null,0,"مدفوع"]
[null,null,null,null,null,null,null,null,null,null,null,null,null,null,0,0,0,0,null,null,null,0,"مدفوع"]
[null,null,null,null,null,null,null,null,null,null,null,null,null,null,0,0,0,0,null,null,null,0,"مدفوع"]
[null,null,null,null,null,null,null,null,null,null,null,null,null,null,0,0,0,0,null,null,null,0,"مدفوع"]
[null,null,null,null,null,null,null,null,null,null,null,null,null,null,0,0,0,0,null,null,null,0,"مدفوع"]
[null,null,null,null,null,null,null,null,null,null,null,null,null,null,0,0,0,0,null,null,null,0,"مدفوع"]
[null,null,null,null,null,null,null,null,null,null,null,null,null,null,0,0,0,0,null,null,null,0,"مدفوع"]
[null,null,null,null,null,null,null,null,null,null,null,null,null,null,0,0,0,0,null,null,null,0,"مدفوع"]
[null,null,null,null,null,null,null,null,null,null,null,null,null,null,0,0,0,0,null,null,null,0,"مدفوع"]
[null,null,null,null,null,null,null,null,null,null,null,null,null,null,0,0,0,0,null,null,null,0,"مدفوع"]
[null,null,null,null,null,null,null,null,null,null,null,null,null,null,0,0,0,0,null,null,null,0,"مدفوع"]
[null,null,null,null,null,null,null,null,null,null,null,null,null,null,0,0,0,0,null,null,null,0,"مدفوع"]
[null,null,null,null,null,null,null,null,null,null,null,null,null,null,0,0,0,0,null,null,null,0,"مدفوع"]
[null,null,null,null,null,null,null,null,null,null,null,null,null,null,0,0,0,0,null,null,null,0,"مدفوع"]
[null,null,null,null,null,null,null,null,null,null,null,null,null,null,0,0,0,0,null,null,null,0,"مدفوع"]
[null,null,null,null,null,null,null,null,null,null,null,null,null,null,0,0,0,0,null,null,null,0,"مدفوع"]
[null,null,null,null,null,null,null,null,null,null,null,null,null,null,0,0,0,0,null,null,null,0,"مدفوع"]
[null,null,null,null,null,null,null,null,null,null,null,null,null,null,0,0,0,0,null,null,null,0,"مدفوع"]
[null,null,null,null,null,null,null,null,null,null,null,null,null,null,0,0,0,0,null,null,null,0,"مدفوع"]
[null,null,null,null,null,null,null,null,null,null,null,null,null,null,0,0,0,0,null,null,null,0,"مدفوع"]
[null,null,null,null,null,null,null,null,null,null,null,null,null,null,0,0,0,0,null,null,null,0,"مدفوع"]
[null,null,null,null,null,null,null,null,null,null,null,null,null,null,0,0,0,0,null,null,null,0,"مدفوع"]
[null,null,null,null,null,null,null,null,null,null,null,null,null,null,0,0,0,0,null,null,null,0,"مدفوع"]
[null,null,null,null,null,null,null,null,null,null,null,null,null,null,0,0,0,0,null,null,null,0,"مدفوع"]
[null,null,null,null,null,null,null,null,null,null,null,null,null,null,0,0,0,0,null,null,null,0,"مدفوع"]
[null,null,null,null,null,null,null,null,null,null,null,null,null,null,0,0,0,0,null,null,null,0,"مدفوع"]
[null,null,null,null,null,null,null,null,null,null,null,null,null,null,0,0,0,0,null,null,null,0,"مدفوع"]
[null,null,null,null,null,null,null,null,null,null,null,null,null,null,0,0,0,0,null,null,null,0,"مدفوع"]
[null,null,null,null,null,null,null,null,null,null,null,null,null,null,0,0,0,0,null,null,null,0,"مدفوع"]
[null,null,null,null,null,null,null,null,null,null,null,null,null,null,{"$f":"SUM(M291-N291)","v":0},0,{"$f":"SUM(K291*150000/2.5)","v":0},{"$f":"SUM(O291*4000)","v":0},null,null,null,{"$f":"SUM(P291:S291)-T291","v":0},{"$f":"IF(V291<=0,\"مدفوع\",\"غير مدفوع\")","v":"مدفوع"}]
[null,null,null,null,null,null,null,null,null,null,null,null,null,null,0,0,0,0,null,null,null,0,"مدفوع"]
[null,null,null,null,null,null,null,null,null,null,null,null,null,null,0,{"$f":"IF(L293=0,0,IF(L293<=5.5,150000,IF(L293<=10.5,230000,IF(L293<=15.5,300000,IF(L293<=20.5,350000,IF(L293<=25.5,400000,IF(L293<=30.5,450000,IF(L293<=35.5,500000,IF(L293<=40.5,550000,IF(L293<=45.5,600000,IF(L293<=50.5,650000,IF(L293<=55.5,700000,IF(L293<=60.5,750000)))))))))))))","v":0},0,0,null,null,null,0,"مدفوع"]
[null,null,null,null,null,null,null,null,null,null,null,null,null,null,0,0,0,0,null,null,null,0,"مدفوع"]
[null,null,null,null,null,null,null,null,null,null,null,null,null,null,0,0,0,0,null,null,null,0,"مدفوع"]
[null,null,null,null,null,null,null,null,null,null,null,null,null,null,0,0,0,0,null,null,null,0,"مدفوع"]
[null,null,null,null,null,null,null,null,null,null,null,null,null,null,0,0,0,0,null,null,null,0,"مدفوع"]
[null,null,null,null,null,null,null,null,null,null,null,null,null,null,0,0,0,0,null,null,null,0,"مدفوع"]
[null,null,null,null,null,null,null,null,null,null,null,null,null,null,0,0,0,0,null,null,null,0,"مدفوع"]
[null,null,null,null,null,null,null,null,null,null,null,null,null,null,0,0,0,0,null,null,null,0,"مدفوع"]
[null,null,null,null,null,null,null,null,null,null,null,null,null,null,0,0,0,0,null,null,null,0,"مدفوع"]
[null,null,null,null,null,null,null,null,null,null,null,null,null,null,0,0,0,0,null,null,null,0,"مدفوع"]
[null,null,null,null,null,null,null,null,null,null,null,null,null,null,0,0,0,0,null,null,null,0,"مدفوع"]
[null,null,null,null,null,null,null,null,null,null,null,null,null,null,0,0,0,0,null,null,null,0,"مدفوع"]
[null,null,null,null,null,null,null,null,null,null,null,null,null,null,0,0,0,0,null,null,null,0,"مدفوع"]
[null,null,null,null,null,null,null,null,null,null,null,null,null,null,0,0,0,0,null,null,null,0,"مدفوع"]
[null,null,null,null,null,null,null,null,null,null,null,null,null,null,0,0,0,0,null,null,null,0,"مدفوع"]
[null,null,null,null,null,null,null,null,null,null,null,null,null,null,0,0,0,0,null,null,null,0,"مدفوع"]
[null,null,null,null,null,null,null,null,null,null,null,null,null,null,0,0,0,0,null,null,null,0,"مدفوع"]
[null,null,null,null,null,null,null,null,null,null,null,null,null,null,0,0,0,0,null,null,null,0,"مدفوع"]
[null,null,null,null,null,null,null,null,null,null,null,null,null,null,0,0,0,0,null,null,null,0,"مدفوع"]
[null,null,null,null,null,null,null,null,null,null,null,null,null,null,0,0,0,0,null,null,null,0,"مدفوع"]
[null,null,null,null,null,null,null,null,null,null,null,null,null,null,0,0,0,0,null,null,null,0,"مدفوع"]
[null,null,null,null,null,null,null,null,null,null,null,null,null,null,0,0,0,0,null,null,null,0,"مدفوع"]
[null,null,null,null,null,null,null,null,null,null,null,null,null,null,0,0,0,0,null,null,null,0,"مدفوع"]
[null,null,null,null,null,null,null,null,null,null,null,null,null,null,0,0,0,0,null,null,null,0,"مدفوع"]
[null,null,null,null,null,null,null,null,null,null,null,null,null,null,0,0,0,0,null,null,null,0,"مدفوع"]
[null,null,null,null,null,null,null,null,null,null,null,null,null,null,0,0,0,0,null,null,null,0,"مدفوع"]
[null,null,null,null,null,null,null,null,null,null,null,null,null,null,0,0,0,0,null,null,null,0,"مدفوع"]
[null,null,null,null,null,null,null,null,null,null,null,null,null,null,0,0,0,0,null,null,null,0,"مدفوع"]
[null,null,null,null,null,null,null,null,null,null,null,null,null,null,0,0,0,0,null,null,null,0,"مدفوع"]
[null,null,null,null,null,null,null,null,null,null,null,null,null,null,0,0,0,0,null,null,null,0,"مدفوع"]
[null,null,null,null,null,null,null,null,null,null,null,null,null,null,0,0,0,0,null,null,null,0,"مدفوع"]
[null,null,null,null,null,null,null,null,null,null,null,null,null,null,0,0,0,0,null,null,null,0,"مدفوع"]
[null,null,null,null,null,null,null,null,null,null,null,null,null,null,0,0,0,0,null,null,null,0,"مدفوع"]
[null,null,null,null,null,null,null,null,null,null,null,null,null,null,0,0,0,0,null,null,null,0,"مدفوع"]
[null,null,null,null,null,null,null,null,null,null,null,null,null,null,0,0,0,0,null,null,null,0,"مدفوع"]
[null,null,null,null,null,null,null,null,null,null,null,null,null,null,0,0,0,0,null,null,null,0,"مدفوع"]
[null,null,null,null,null,null,null,null,null,null,null,null,null,null,0,0,0,0,null,null,null,0,"مدفوع"]
[null,null,null,null,null,null,null,null,null,null,null,null,null,null,0,0,0,0,null,null,null,0,"مدفوع"]
[null,null,null,null,null,null,null,null,null,null,null,null,null,null,0,0,0,0,null,null,null,0,"مدفوع"]
[null,null,null,null,null,null,null,null,null,null,null,null,null,null,0,0,0,0,null,null,null,0,"مدفوع"]
[null,null,null,null,null,null,null,null,null,null,null,null,null,null,0,0,0,0,null,null,null,0,"مدفوع"]
[null,null,null,null,null,null,null,null,null,null,null,null,null,null,0,0,0,0,null,null,null,0,"مدفوع"]
[null,null,null,null,null,null,null,null,null,null,null,null,null,null,0,0,0,0,null,null,null,0,"مدفوع"]
[null,null,null,null,null,null,null,null,null,null,null,null,null,null,0,0,0,0,null,null,null,0,"مدفوع"]
[null,null,null,null,null,null,null,null,null,null,null,null,null,null,0,0,0,0,null,null,null,0,"مدفوع"]
[null,null,null,null,null,null,null,null,null,null,null,null,null,null,0,0,0,0,null,null,null,0,"مدفوع"]
[null,null,null,null,null,null,null,null,null,null,null,null,null,null,0,0,0,0,null,null,null,0,"مدفوع"]
[null,null,null,null,null,null,null,null,null,null,null,null,null,null,0,0,0,0,null,null,null,0,"مدفوع"]
[null,null,null,null,null,null,null,null,null,null,null,null,null,null,0,0,0,0,null,null,null,0,"مدفوع"]
[null,null,null,null,null,null,null,null,null,null,null,null,null,null,0,0,0,0,null,null,null,0,"مدفوع"]
[null,null,null,null,null,null,null,null,null,null,null,null,null,null,0,0,0,0,null,null,null,0,"مدفوع"]
[null,null,null,null,null,null,null,null,null,null,null,null,null,null,0,0,0,0,null,null,null,0,"مدفوع"]
[null,null,null,null,null,null,null,null,null,null,null,null,null,null,0,0,0,0,null,null,null,0,"مدفوع"]
[null,null,null,null,null,null,null,null,null,null,null,null,null,null,0,0,0,0,null,null,null,0,"مدفوع"]
[null,null,null,null,null,null,null,null,null,null,null,null,null,null,0,0,0,0,null,null,null,0,"مدفوع"]
[null,null,null,null,null,null,null,null,null,null,null,null,null,null,0,0,0,0,null,null,null,0,"مدفوع"]
[null,null,null,null,null,null,null,null,null,null,null,null,null,null,0,0,0,0,null,null,null,0,"مدفوع"]
[null,null,null,null,null,null,null,null,null,null,null,null,null,null,0,0,0,0,null,null,null,0,"مدفوع"]
[null,null,null,null,null,null,null,null,null,null,null,null,null,null,0,0,0,0,null,null,null,0,"مدفوع"]
[null,null,null,null,null,null,null,null,null,null,null,null,null,null,0,0,0,0,null,null,null,0,"مدفوع"]
[null,null,null,null,null,null,null,null,null,null,null,null,null,null,0,0,0,0,null,null,null,0,"مدفوع"]
[null,null,null,null,null,null,null,null,null,null,null,null,null,null,0,0,0,0,null,null,null,0,"مدفوع"]
[null,null,null,null,null,null,null,null,null,null,null,null,null,null,{"$f":"SUM(M355-N355)","v":0},0,{"$f":"SUM(K355*150000/2.5)","v":0},{"$f":"SUM(O355*4000)","v":0},null,null,null,{"$f":"SUM(P355:S355)-T355","v":0},{"$f":"IF(V355<=0,\"مدفوع\",\"غير مدفوع\")","v":"مدفوع"}]
[null,null,null,null,null,null,null,null,null,null,null,null,null,null,0,0,0,0,null,null,null,0,"مدفوع"]
[null,null,null,null,null,null,null,null,null,null,null,null,null,null,0,{"$f":"IF(L357=0,0,IF(L357<=5.5,150000,IF(L357<=10.5,230000,IF(L357<=15.5,300000,IF(L357<=20.5,350000,IF(L357<=25.5,400000,IF(L357<=30.5,450000,IF(L357<=35.5,500000,IF(L357<=40.5,550000,IF(L357<=45.5,600000,IF(L357<=50.5,650000,IF(L357<=55.5,700000,IF(L357<=60.5,750000)))))))))))))","v":0},0,0,null,null,null,0,"مدفوع"]
[null,null,null,null,null,null,null,null,null,null,null,null,null,null,0,0,0,0,null,null,null,0,"مدفوع"]
[null,null,null,null,null,null,null,null,null,null,null,null,null,null,0,0,0,0,null,null,null,0,"مدفوع"]
[null,null,null,null,null,null,null,null,null,null,null,null,null,null,0,0,0,0,null,null,null,0,"مدفوع"]
[null,null,null,null,null,null,null,null,null,null,null,null,null,null,0,0,0,0,null,null,null,0,"مدفوع"]
[null,null,null,null,null,null,null,null,null,null,null,null,null,null,0,0,0,0,null,null,null,0,"مدفوع"]
[null,null,null,null,null,null,null,null,null,null,null,null,null,null,0,0,0,0,null,null,null,0,"مدفوع"]
[null,null,null,null,null,null,null,null,null,null,null,null,null,null,0,0,0,0,null,null,null,0,"مدفوع"]
[null,null,null,null,null,null,null,null,null,null,null,null,null,null,0,0,0,0,null,null,null,0,"مدفوع"]
[null,null,null,null,null,null,null,null,null,null,null,null,null,null,0,0,0,0,null,null,null,0,"مدفوع"]
[null,null,null,null,null,null,null,null,null,null,null,null,null,null,0,0,0,0,null,null,null,0,"مدفوع"]
[null,null,null,null,null,null,null,null,null,null,null,null,null,null,0,0,0,0,null,null,null,0,"مدفوع"]
[null,null,null,null,null,null,null,null,null,null,null,null,null,null,0,0,0,0,null,null,null,0,"مدفوع"]
[null,null,null,null,null,null,null,null,null,null,null,null,null,null,0,0,0,0,null,null,null,0,"مدفوع"]
[null,null,null,null,null,null,null,null,null,null,null,null,null,null,0,0,0,0,null,null,null,0,"مدفوع"]
[null,null,null,null,null,null,null,null,null,null,null,null,null,null,0,0,0,0,null,null,null,0,"مدفوع"]
[null,null,null,null,null,null,null,null,null,null,null,null,null,null,0,0,0,0,null,null,null,0,"مدفوع"]
[null,null,null,null,null,null,null,null,null,null,null,null,null,null,0,0,0,0,null,null,null,0,"مدفوع"]
[null,null,null,null,null,null,null,null,null,null,null,null,null,null,0,0,0,0,null,null,null,0,"مدفوع"]
[null,null,null,null,null,null,null,null,null,null,null,null,null,null,0,0,0,0,null,null,null,0,"مدفوع"]
[null,null,null,null,null,null,null,null,null,null,null,null,null,null,0,0,0,0,null,null,null,0,"مدفوع"]
[null,null,null,null,null,null,null,null,null,null,null,null,null,null,0,0,0,0,null,null,null,0,"مدفوع"]
[null,null,null,null,null,null,null,null,null,null,null,null,null,null,0,0,0,0,null,null,null,0,"مدفوع"]
[null,null,null,null,null,null,null,null,null,null,null,null,null,null,0,0,0,0,null,null,null,0,"مدفوع"]
[null,null,null,null,null,null,null,null,null,null,null,null,null,null,0,0,0,0,null,null,null,0,"مدفوع"]
[null,null,null,null,null,null,null,null,null,null,null,null,null,null,0,0,0,0,null,null,null,0,"مدفوع"]
[null,null,null,null,null,null,null,null,null,null,null,null,null,null,0,0,0,0,null,null,null,0,"مدفوع"]
[null,null,null,null,null,null,null,null,null,null,null,null,null,null,0,0,0,0,null,null,null,0,"مدفوع"]
[null,null,null,null,null,null,null,null,null,null,null,null,null,null,0,0,0,0,null,null,null,0,"مدفوع"]
[null,null,null,null,null,null,null,null,null,null,null,null,null,null,0,0,0,0,null,null,null,0,"مدفوع"]
[null,null,null,null,null,null,null,null,null,null,null,null,null,null,0,0,0,0,null,null,null,0,"مدفوع"]
[null,null,null,null,null,null,null,null,null,null,null,null,null,null,0,0,0,0,null,null,null,0,"مدفوع"]
[null,null,null,null,null,null,null,null,null,null,null,null,null,null,0,0,0,0,null,null,null,0,"مدفوع"]
[null,null,null,null,null,null,null,null,null,null,null,null,null,null,0,0,0,0,null,null,null,0,"مدفوع"]
[null,null,null,null,null,null,null,null,null,null,null,null,null,null,0,0,0,0,null,null,null,0,"مدفوع"]
[null,null,null,null,null,null,null,null,null,null,null,null,null,null,0,0,0,0,null,null,null,0,"مدفوع"]
[null,null,null,null,null,null,null,null,null,null,null,null,null,null,0,0,0,0,null,null,null,0,"مدفوع"]
[null,null,null,null,null,null,null,null,null,null,null,null,null,null,0,0,0,0,null,null,null,0,"مدفوع"]
[null,null,null,null,null,null,null,null,null,null,null,null,null,null,0,0,0,0,null,null,null,0,"مدفوع"]
[null,null,null,null,null,null,null,null,null,null,null,null,null,null,0,0,0,0,null,null,null,0,"مدفوع"]
[null,null,null,null,null,null,null,null,null,null,null,null,null,null,0,0,0,0,null,null,null,0,"مدفوع"]
[null,null,null,null,null,null,null,null,null,null,null,null,null,null,0,0,0,0,null,null,null,0,"مدفوع"]
[null,null,null,null,null,null,null,null,null,null,null,null,null,null,0,0,0,0,null,null,null,0,"مدفوع"]
[null,null,null,null,null,null,null,null,null,null,null,null,null,null,0,0,0,0,null,null,null,0,"مدفوع"]
[null,null,null,null,null,null,null,null,null,null,null,null,null,null,0,0,0,0,null,null,null,0,"مدفوع"]
[null,null,null,null,null,null,null,null,null,null,null,null,null,null,0,0,0,0,null,null,null,0,"مدفوع"]
[null,null,null,null,null,null,null,null,null,null,null,null,null,null,0,0,0,0,null,null,null,0,"مدفوع"]
[null,null,null,null,null,null,null,null,null,null,null,null,null,null,0,0,0,0,null,null,null,0,"مدفوع"]
[null,null,null,null,null,null,null,null,null,null,null,null,null,null,0,0,0,0,null,null,null,0,"مدفوع"]
[null,null,null,null,null,null,null,null,null,null,null,null,null,null,0,0,0,0,null,null,null,0,"مدفوع"]
[null,null,null,null,null,null,null,null,null,null,null,null,null,null,0,0,0,0,null,null,null,0,"مدفوع"]
[null,null,null,null,null,null,null,null,null,null,null,null,null,null,0,0,0,0,null,null,null,0,"مدفوع"]
[null,null,null,null,null,null,null,null,null,null,null,null,null,null,0,0,0,0,null,null,null,0,"مدفوع"]
[null,null,null,null,null,null,null,null,null,null,null,null,null,null,0,0,0,0,null,null,null,0,"مدفوع"]
[null,null,null,null,null,null,null,null,null,null,null,null,null,null,0,0,0,0,null,null,null,0,"مدفوع"]
[null,null,null,null,null,null,null,null,null,null,null,null,null,null,0,0,0,0,null,null,null,0,"مدفوع"]
[null,null,null,null,null,null,null,null,null,null,null,null,null,null,0,0,0,0,null,null,null,0,"مدفوع"]
[null,null,null,null,null,null,null,null,null,null,null,null,null,null,0,0,0,0,null,null,null,0,"مدفوع"]
[null,null,null,null,null,null,null,null,null,null,null,null,null,null,0,0,0,0,null,null,null,0,"مدفوع"]
[null,null,null,null,null,null,null,null,null,null,null,null,null,null,0,0,0,0,null,null,null,0,"مدفوع"]
[null,null,null,null,null,null,null,null,null,null,null,null,null,null,0,0,0,0,null,null,null,0,"مدفوع"]
[null,null,null,null,null,null,null,null,null,null,null,null,null,null,0,0,0,0,null,null,null,0,"مدفوع"]
[null,null,null,null,null,null,null,null,null,null,null,null,null,null,{"$f":"SUM(M419-N419)","v":0},0,{"$f":"SUM(K419*150000/2.5)","v":0},{"$f":"SUM(O419*4000)","v":0},null,null,null,{"$f":"SUM(P419:S419)-T419","v":0},{"$f":"IF(V419<=0,\"مدفوع\",\"غير مدفوع\")","v":"مدفوع"}]
[null,null,null,null,null,null,null,null,null,null,null,null,null,null,0,0,0,0,null,null,null,0,"مدفوع"]
[null,null,null,null,null,null,null,null,null,null,null,null,null,null,0,{"$f":"IF(L421=0,0,IF(L421<=5.5,150000,IF(L421<=10.5,230000,IF(L421<=15.5,300000,IF(L421<=20.5,350000,IF(L421<=25.5,400000,IF(L421<=30.5,450000,IF(L421<=35.5,500000,IF(L421<=40.5,550000,IF(L421<=45.5,600000,IF(L421<=50.5,650000,IF(L421<=55.5,700000,IF(L421<=60.5,750000)))))))))))))","v":0},0,0,null,null,null,0,"مدفوع"]
[null,null,null,null,null,null,null,null,null,null,null,null,null,null,0,0,0,0,null,null,null,0,"مدفوع"]
[null,null,null,null,null,null,null,null,null,null,null,null,null,null,0,0,0,0,null,null,null,0,"مدفوع"]
[null,null,null,null,null,null,null,null,null,null,null,null,null,null,0,0,0,0,null,null,null,0,"مدفوع"]
[null,null,null,null,null,null,null,null,null,null,null,null,null,null,0,0,0,0,null,null,null,0,"مدفوع"]
[null,null,null,null,null,null,null,null,null,null,null,null,null,null,0,0,0,0,null,null,null,0,"مدفوع"]
[null,null,null,null,null,null,null,null,null,null,null,null,null,null,0,0,0,0,null,null,null,0,"مدفوع"]
[null,null,null,null,null,null,null,null,null,null,null,null,null,null,0,0,0,0,null,null,null,0,"مدفوع"]
[null,null,null,null,null,null,null,null,null,null,null,null,null,null,0,0,0,0,null,null,null,0,"مدفوع"]
[null,null,null,null,null,null,null,null,null,null,null,null,null,null,0,0,0,0,null,null,null,0,"مدفوع"]
[null,null,null,null,null,null,null,null,null,null,null,null,null,null,0,0,0,0,null,null,null,0,"مدفوع"]
[null,null,null,null,null,null,null,null,null,null,null,null,null,null,0,0,0,0,null,null,null,0,"مدفوع"]
[null,null,null,null,null,null,null,null,null,null,null,null,null,null,0,0,0,0,null,null,null,0,"مدفوع"]
[null,null,null,null,null,null,null,null,null,null,null,null,null,null,0,0,0,0,null,null,null,0,"مدفوع"]
[null,null,null,null,null,null,null,null,null,null,null,null,null,null,0,0,0,0,null,null,null,0,"مدفوع"]
[null,null,null,null,null,null,null,null,null,null,null,null,null,null,0,0,0,0,null,null,null,0,"مدفوع"]
[null,null,null,null,null,null,null,null,null,null,null,null,null,null,0,0,0,0,null,null,null,0,"مدفوع"]
[null,null,null,null,null,null,null,null,null,null,null,null,null,null,0,0,0,0,null,null,null,0,"مدفوع"]
[null,null,null,null,null,null,null,null,null,null,null,null,null,null,0,0,0,0,null,null,null,0,"مدفوع"]
[null,null,null,null,null,null,null,null,null,null,null,null,null,null,0,0,0,0,null,null,null,0,"مدفوع"]
[null,null,null,null,null,null,null,null,null,null,null,null,null,null,0,0,0,0,null,null,null,0,"مدفوع"]
[null,null,null,null,null,null,null,null,null,null,null,null,null,null,0,0,0,0,null,null,null,0,"مدفوع"]
[null,null,null,null,null,null,null,null,null,null,null,null,null,null,0,0,0,0,null,null,null,0,"مدفوع"]
[null,null,null,null,null,null,null,null,null,null,null,null,null,null,0,0,0,0,null,null,null,0,"مدفوع"]
[null,null,null,null,null,null,null,null,null,null,null,null,null,null,0,0,0,0,null,null,null,0,"مدفوع"]
[null,null,null,null,null,null,null,null,null,null,null,null,null,null,0,0,0,0,null,null,null,0,"مدفوع"]
[null,null,null,null,null,null,null,null,null,null,null,null,null,null,0,0,0,0,null,null,null,0,"مدفوع"]
[null,null,null,null,null,null,null,null,null,null,null,null,null,null,0,0,0,0,null,null,null,0,"مدفوع"]
[null,null,null,null,null,null,null,null,null,null,null,null,null,null,0,0,0,0,null,null,null,0,"مدفوع"]
[null,null,null,null,null,null,null,null,null,null,null,null,null,null,0,0,0,0,null,null,null,0,"مدفوع"]
[null,null,null,null,null,null,null,null,null,null,null,null,null,null,0,0,0,0,null,null,null,0,"مدفوع"]
[null,null,null,null,null,null,null,null,null,null,null,null,null,null,0,0,0,0,null,null,null,0,"مدفوع"]
[null,null,null,null,null,null,null,null,null,null,null,null,null,null,0,0,0,0,null,null,null,0,"مدفوع"]
[null,null,null,null,null,null,null,null,null,null,null,null,null,null,0,0,0,0,null,null,null,0,"مدفوع"]
[null,null,null,null,null,null,null,null,null,null,null,null,null,null,0,0,0,0,null,null,null,0,"مدفوع"]
[null,null,null,null,null,null,null,null,null,null,null,null,null,null,0,0,0,0,null,null,null,0,"مدفوع"]
[null,null,null,null,null,null,null,null,null,null,null,null,null,null,0,0,0,0,null,null,null,0,"مدفوع"]
[null,null,null,null,null,null,null,null,null,null,null,null,null,null,0,0,0,0,null,null,null,0,"مدفوع"]
[null,null,null,null,null,null,null,null,null,null,null,null,null,null,0,0,0,0,null,null,null,0,"مدفوع"]
[null,null,null,null,null,null,null,null,null,null,null,null,null,null,0,0,0,0,null,null,null,0,"مدفوع"]
[null,null,null,null,null,null,null,null,null,null,null,null,null,null,0,0,0,0,null,null,null,0,"مدفوع"]
[null,null,null,null,null,null,null,null,null,null,null,null,null,null,0,0,0,0,null,null,null,0,"مدفوع"]
[null,null,null,null,null,null,null,null,null,null,null,null,null,null,0,0,0,0,null,null,null,0,"مدفوع"]
[null,null,null,null,null,null,null,null,null,null,null,null,null,null,0,0,0,0,null,null,null,0,"مدفوع"]
[null,null,null,null,null,null,null,null,null,null,null,null,null,null,0,0,0,0,null,null,null,0,"مدفوع"]
[null,null,null,null,null,null,null,null,null,null,null,null,null,null,0,0,0,0,null,null,null,0,"مدفوع"]
[null,null,null,null,null,null,null,null,null,null,null,null,null,null,0,0,0,0,null,null,null,0,"مدفوع"]
[null,null,null,null,null,null,null,null,null,null,null,null,null,null,0,0,0,0,null,null,null,0,"مدفوع"]
[null,null,null,null,null,null,null,null,null,null,null,null,null,null,0,0,0,0,null,null,null,0,"مدفوع"]
[null,null,null,null,null,null,null,null,null,null,null,null,null,null,0,0,0,0,null,null,null,0,"مدفوع"]
[null,null,null,null,null,null,null,null,null,null,null,null,null,null,0,0,0,0,null,null,null,0,"مدفوع"]
[null,null,null,null,null,null,null,null,null,null,null,null,null,null,0,0,0,0,null,null,null,0,"مدفوع"]
[null,null,null,null,null,null,null,null,null,null,null,null,null,null,0,0,0,0,null,null,null,0,"مدفوع"]
[null,null,null,null,null,null,null,null,null,null,null,null,null,null,0,0,0,0,null,null,null,0,"مدفوع"]
[null,null,null,null,null,null,null,null,null,null,null,null,null,null,0,0,0,0,null,null,null,0,"مدفوع"]
[null,null,null,null,null,null,null,null,null,null,null,null,null,null,0,0,0,0,null,null,null,0,"مدفوع"]
[null,null,null,null,null,null,null,null,null,null,null,null,null,null,0,0,0,0,null,null,null,0,"مدفوع"]
[null,null,null,null,null,null,null,null,null,null,null,null,null,null,0,0,0,0,null,null,null,0,"مدفوع"]
[null,null,null,null,null,null,null,null,null,null,null,null,null,null,0,0,0,0,null,null,null,0,"مدفوع"]
[null,null,null,null,null,null,null,null,null,null,null,null,null,null,0,0,0,0,null,null,null,0,"مدفوع"]
[null,null,null,null,null,null,null,null,null,null,null,null,null,null,0,0,0,0,null,null,null,0,"مدفوع"]
[null,null,null,null,null,null,null,null,null,null,null,null,null,null,0,0,0,0,null,null,null,0,"مدفوع"]
[null,null,null,null,null,null,null,null,null,null,null,null,null,null,{"$f":"SUM(M483-N483)","v":0},0,{"$f":"SUM(K483*150000/2.5)","v":0},{"$f":"SUM(O483*4000)","v":0},null,null,null,{"$f":"SUM(P483:S483)-T483","v":0},{"$f":"IF(V483<=0,\"مدفوع\",\"غير مدفوع\")","v":"مدفوع"}]
[null,null,null,null,null,null,null,null,null,null,null,null,null,null,0,0,0,0,null,null,null,0,"مدفوع"]
[null,null,null,null,null,null,null,null,null,null,null,null,null,null,0,{"$f":"IF(L485=0,0,IF(L485<=5.5,150000,IF(L485<=10.5,230000,IF(L485<=15.5,300000,IF(L485<=20.5,350000,IF(L485<=25.5,400000,IF(L485<=30.5,450000,IF(L485<=35.5,500000,IF(L485<=40.5,550000,IF(L485<=45.5,600000,IF(L485<=50.5,650000,IF(L485<=55.5,700000,IF(L485<=60.5,750000)))))))))))))","v":0},0,0,null,null,null,0,"مدفوع"]
[null,null,null,null,null,null,null,null,null,null,null,null,null,null,0,0,0,0,null,null,null,0,"مدفوع"]
[null,null,null,null,null,null,null,null,null,null,null,null,null,null,0,0,0,0,null,null,null,0,"مدفوع"]
[null,null,null,null,null,null,null,null,null,null,null,null,null,null,0,0,0,0,null,null,null,0,"مدفوع"]
[null,null,null,null,null,null,null,null,null,null,null,null,null,null,0,0,0,0,null,null,null,0,"مدفوع"]
[null,null,null,null,null,null,null,null,null,null,null,null,null,null,0,0,0,0,null,null,null,0,"مدفوع"]
[null,null,null,null,null,null,null,null,null,null,null,null,null,null,0,0,0,0,null,null,null,0,"مدفوع"]
[null,null,null,null,null,null,null,null,null,null,null,null,null,null,0,0,0,0,null,null,null,0,"مدفوع"]
[null,null,null,null,null,null,null,null,null,null,null,null,null,null,0,0,0,0,null,null,null,0,"مدفوع"]
[null,null,null,null,null,null,null,null,null,null,null,null,null,null,0,0,0,0,null,null,null,0,"مدفوع"]
[null,null,null,null,null,null,null,null,null,null,null,null,null,null,0,0,0,0,null,null,null,0,"مدفوع"]
[null,null,null,null,null,null,null,null,null,null,null,null,null,null,0,0,0,0,null,null,null,0,"مدفوع"]
[null,null,null,null,null,null,null,null,null,null,null,null,null,null,0,0,0,0,null,null,null,0,"مدفوع"]
[null,null,null,null,null,null,null,null,null,null,null,null,null,null,0,0,0,0,null,null,null,0,"مدفوع"]
[null,null,null,null,null,null,null,null,null,null,null,null,null,null,0,0,0,0,null,null,null,0,"مدفوع"]
[null,null,null,null,null,null,null,null,null,null,null,null,null,null,0,0,0,0,null,null,null,0,"مدفوع"]
[null,null,null,null,null,null,null,null,null,null,null,null,null,null,0,0,0,0,null,null,null,0,"مدفوع"]
[null,null,null,null,null,null,null,null,null,null,null,null,null,null,0,0,0,0,null,null,null,0,"مدفوع"]
[null,null,null,null,null,null,null,null,null,null,null,null,null,null,0,0,0,0,null,null,null,0,"مدفوع"]
[null,null,null,null,null,null,null,null,null,null,null,null,null,null,0,0,0,0,null,null,null,0,"مدفوع"]
[null,null,null,null,null,null,null,null,null,null,null,null,null,null,0,0,0,0,null,null,null,0,"مدفوع"]
[null,null,null,null,null,null,null,null,null,null,null,null,null,null,0,0,0,0,null,null,null,0,"مدفوع"]
[null,null,null,null,null,null,null,null,null,null,null,null,null,null,0,0,0,0,null,null,null,0,"مدفوع"]
[null,null,null,null,null,null,null,null,null,null,null,null,null,null,0,0,0,0,null,null,null,0,"مدفوع"]
[null,null,null,null,null,null,null,null,null,null,null,null,null,null,0,0,0,0,null,null,null,0,"مدفوع"]
[null,null,null,null,null,null,null,null,null,null,null,null,null,null,0,0,0,0,null,null,null,0,"مدفوع"]
[null,null,null,null,null,null,null,null,null,null,null,null,null,null,0,0,0,0,null,null,null,0,"مدفوع"]
[null,null,null,null,null,null,null,null,null,null,null,null,null,null,0,0,0,0,null,null,null,0,"مدفوع"]
[null,null,null,null,null,null,null,null,null,null,null,null,null,null,0,0,0,0,null,null,null,0,"مدفوع"]
[null,null,null,null,null,null,null,null,null,null,null,null,null,null,0,0,0,0,null,null,null,0,"مدفوع"]
[null,null,null,null,null,null,null,null,null,null,null,null,null,null,0,0,0,0,null,null,null,0,"مدفوع"]
[null,null,null,null,null,null,null,null,null,null,null,null,null,null,0,0,0,0,null,null,null,0,"مدفوع"]
[null,null,null,null,null,null,null,null,null,null,null,null,null,null,0,0,0,0,null,null,null,0,"مدفوع"]
[null,null,null,null,null,null,null,null,null,null,null,null,null,null,0,0,0,0,null,null,null,0,"مدفوع"]
[null,null,null,null,null,null,null,null,null,null,null,null,null,null,0,0,0,0,null,null,null,0,"مدفوع"]
[null,null,null,null,null,null,null,null,null,null,null,null,null,null,0,0,0,0,null,null,null,0,"مدفوع"]
[null,null,null,null,null,null,null,null,null,null,null,null,null,null,0,0,0,0,null,null,null,0,"مدفوع"]
[null,null,null,null,null,null,null,null,null,null,null,null,null,null,0,0,0,0,null,null,null,0,"مدفوع"]
[null,null,null,null,null,null,null,null,null,null,null,null,null,null,0,0,0,0,null,null,null,0,"مدفوع"]
[null,null,null,null,null,null,null,null,null,null,null,null,null,null,0,0,0,0,null,null,null,0,"مدفوع"]
[null,null,null,null,null,null,null,null,null,null,null,null,null,null,0,0,0,0,null,null,null,0,"مدفوع"]
[null,null,null,null,null,null,null,null,null,null,null,null,null,null,0,0,0,0,null,null,null,0,"مدفوع"]
[null,null,null,null,null,null,null,null,null,null,null,null,null,null,0,0,0,0,null,null,null,0,"مدفوع"]
[null,null,null,null,null,null,null,null,null,null,null,null,null,null,0,0,0,0,null,null,null,0,"مدفوع"]
[null,null,null,null,null,null,null,null,null,null,null,null,null,null,0,0,0,0,null,null,null,0,"مدفوع"]
[null,null,null,null,null,null,null,null,null,null,null,null,null,null,0,0,0,0,null,null,null,0,"مدفوع"]
[null,null,null,null,null,null,null,null,null,null,null,null,null,null,0,0,0,0,null,null,null,0,"مدفوع"]
[null,null,null,null,null,null,null,null,null,null,null,null,null,null,0,0,0,0,null,null,null,0,"مدفوع"]
[null,null,null,null,null,null,null,null,null,null,null,null,null,null,0,0,0,0,null,null,null,0,"مدفوع"]
[null,null,null,null,null,null,null,null,null,null,null,null,null,null,0,0,0,0,null,null,null,0,"مدفوع"]
[null,null,null,null,null,null,null,null,null,null,null,null,null,null,0,0,0,0,null,null,null,0,"مدفوع"]
[null,null,null,null,null,null,null,null,null,null,null,null,null,null,0,0,0,0,null,null,null,0,"مدفوع"]
[null,null,null,null,null,null,null,null,null,null,null,null,null,null,0,0,0,0,null,null,null,0,"مدفوع"]
[null,null,null,null,null,null,null,null,null,null,null,null,null,null,0,0,0,0,null,null,null,0,"مدفوع"]
[null,null,null,null,null,null,null,null,null,null,null,null,null,null,0,0,0,0,null,null,null,0,"مدفوع"]
[null,null,null,null,null,null,null,null,null,null,null,null,null,null,0,0,0,0,null,null,null,0,"مدفوع"]
[null,null,null,null,null,null,null,null,null,null,null,null,null,null,0,0,0,0,null,null,null,0,"مدفوع"]
[null,null,null,null,null,null,null,null,null,null,null,null,null,null,0,0,0,0,null,null,null,0,"مدفوع"]
[null,null,null,null,null,null,null,null,null,null,null,null,null,null,0,0,0,0,null,null,null,0,"مدفوع"]
[null,null,null,null,null,null,null,null,null,null,null,null,null,null,0,0,0,0,null,null,null,0,"مدفوع"]
[null,null,null,null,null,null,null,null,null,null,null,null,null,null,0,0,0,0,null,null,null,0,"مدفوع"]
[null,null,null,null,null,null,null,null,null,null,null,null,null,null,0,0,0,0,null,null,null,0,"مدفوع"]
[null,null,null,null,null,null,null,null,null,null,null,null,null,null,{"$f":"SUM(M547-N547)","v":0},0,{"$f":"SUM(K547*150000/2.5)","v":0},{"$f":"SUM(O547*4000)","v":0},null,null,null,{"$f":"SUM(P547:S547)-T547","v":0},{"$f":"IF(V547<=0,\"مدفوع\",\"غير مدفوع\")","v":"مدفوع"}]
[null,null,null,null,null,null,null,null,null,null,null,null,null,null,0,0,0,0,null,null,null,0,"مدفوع"]
[null,null,null,null,null,null,null,null,null,null,null,null,null,null,0,{"$f":"IF(L549=0,0,IF(L549<=5.5,150000,IF(L549<=10.5,230000,IF(L549<=15.5,300000,IF(L549<=20.5,350000,IF(L549<=25.5,400000,IF(L549<=30.5,450000,IF(L549<=35.5,500000,IF(L549<=40.5,550000,IF(L549<=45.5,600000,IF(L549<=50.5,650000,IF(L549<=55.5,700000,IF(L549<=60.5,750000)))))))))))))","v":0},0,0,null,null,null,0,"مدفوع"]
[null,null,null,null,null,null,null,null,null,null,null,null,null,null,0,0,0,0,null,null,null,0,"مدفوع"]
[null,null,null,null,null,null,null,null,null,null,null,null,null,null,0,0,0,0,null,null,null,0,"مدفوع"]
[null,null,null,null,null,null,null,null,null,null,null,null,null,null,0,0,0,0,null,null,null,0,"مدفوع"]
[null,null,null,null,null,null,null,null,null,null,null,null,null,null,0,0,0,0,null,null,null,0,"مدفوع"]
[null,null,null,null,null,null,null,null,null,null,null,null,null,null,0,0,0,0,null,null,null,0,"مدفوع"]
[null,null,null,null,null,null,null,null,null,null,null,null,null,null,0,0,0,0,null,null,null,0,"مدفوع"]
[null,null,null,null,null,null,null,null,null,null,null,null,null,null,0,0,0,0,null,null,null,0,"مدفوع"]
[null,null,null,null,null,null,null,null,null,null,null,null,null,null,0,0,0,0,null,null,null,0,"مدفوع"]
[null,null,null,null,null,null,null,null,null,null,null,null,null,null,0,0,0,0,null,null,null,0,"مدفوع"]
[null,null,null,null,null,null,null,null,null,null,null,null,null,null,0,0,0,0,null,null,null,0,"مدفوع"]
[null,null,null,null,null,null,null,null,null,null,null,null,null,null,0,0,0,0,null,null,null,0,"مدفوع"]
[null,null,null,null,null,null,null,null,null,null,null,null,null,null,0,0,0,0,null,null,null,0,"مدفوع"]
[null,null,null,null,null,null,null,null,null,null,null,null,null,null,0,0,0,0,null,null,null,0,"مدفوع"]
[null,null,null,null,null,null,null,null,null,null,null,null,null,null,0,0,0,0,null,null,null,0,"مدفوع"]
[null,null,null,null,null,null,null,null,null,null,null,null,null,null,0,0,0,0,null,null,null,0,"مدفوع"]
[null,null,null,null,null,null,null,null,null,null,null,null,null,null,0,0,0,0,null,null,null,0,"مدفوع"]
[null,null,null,null,null,null,null,null,null,null,null,null,null,null,0,0,0,0,null,null,null,0,"مدفوع"]
[null,null,null,null,null,null,null,null,null,null,null,null,null,null,0,0,0,0,null,null,null,0,"مدفوع"]
[null,null,null,null,null,null,null,null,null,null,null,null,null,null,0,0,0,0,null,null,null,0,"مدفوع"]
[null,null,null,null,null,null,null,null,null,null,null,null,null,null,0,0,0,0,null,null,null,0,"مدفوع"]
[null,null,null,null,null,null,null,null,null,null,null,null,null,null,0,0,0,0,null,null,null,0,"مدفوع"]
[null,null,null,null,null,null,null,null,null,null,null,null,null,null,0,0,0,0,null,null,null,0,"مدفوع"]
[null,null,null,null,null,null,null,null,null,null,null,null,null,null,0,0,0,0,null,null,null,0,"مدفوع"]
[null,null,null,null,null,null,null,null,null,null,null,null,null,null,0,0,0,0,null,null,null,0,"مدفوع"]
[null,null,null,null,null,null,null,null,null,null,null,null,null,null,0,0,0,0,null,null,null,0,"مدفوع"]
[null,null,null,null,null,null,null,null,null,null,null,null,null,null,0,0,0,0,null,null,null,0,"مدفوع"]
[null,null,null,null,null,null,null,null,null,null,null,null,null,null,0,0,0,0,null,null,null,0,"مدفوع"]
[null,null,null,null,null,null,null,null,null,null,null,null,null,null,0,0,0,0,null,null,null,0,"مدفوع"]
[null,null,null,null,null,null,null,null,null,null,null,null,null,null,0,0,0,0,null,null,null,0,"مدفوع"]
[null,null,null,null,null,null,null,null,null,null,null,null,null,null,0,0,0,0,null,null,null,0,"مدفوع"]
[null,null,null,null,null,null,null,null,null,null,null,null,null,null,0,0,0,0,null,null,null,0,"مدفوع"]
[null,null,null,null,null,null,null,null,null,null,null,null,null,null,0,0,0,0,null,null,null,0,"مدفوع"]
[null,null,null,null,null,null,null,null,null,null,null,null,null,null,0,0,0,0,null,null,null,0,"مدفوع"]
[null,null,null,null,null,null,null,null,null,null,null,null,null,null,0,0,0,0,null,null,null,0,"مدفوع"]
[null,null,null,null,null,null,null,null,null,null,null,null,null,null,0,0,0,0,null,null,null,0,"مدفوع"]
[null,null,null,null,null,null,null,null,null,null,null,null,null,null,0,0,0,0,null,null,null,0,"مدفوع"]
[null,null,null,null,null,null,null,null,null,null,null,null,null,null,0,0,0,0,null,null,null,0,"مدفوع"]
[null,null,null,null,null,null,null,null,null,null,null,null,null,null,0,0,0,0,null,null,null,0,"مدفوع"]
[null,null,null,null,null,null,null,null,null,null,null,null,null,null,0,0,0,0,null,null,null,0,"مدفوع"]
[null,null,null,null,null,null,null,null,null,null,null,null,null,null,0,0,0,0,null,null,null,0,"مدفوع"]
[null,null,null,null,null,null,null,null,null,null,null,null,null,null,0,0,0,0,null,null,null,0,"مدفوع"]
[null,null,null,null,null,null,null,null,null,null,null,null,null,null,0,0,0,0,null,null,null,0,"مدفوع"]
[null,null,null,null,null,null,null,null,null,null,null,null,null,null,0,0,0,0,null,null,null,0,"مدفوع"]
[null,null,null,null,null,null,null,null,null,null,null,null,null,null,0,0,0,0,null,null,null,0,"مدفوع"]
[null,null,null,null,null,null,null,null,null,null,null,null,null,null,0,0,0,0,null,null,null,0,"مدفوع"]
[null,null,null,null,null,null,null,null,null,null,null,null,null,null,0,0,0,0,null,null,null,0,"مدفوع"]
[null,null,null,null,null,null,null,null,null,null,null,null,null,null,0,0,0,0,null,null,null,0,"مدفوع"]
[null,null,null,null,null,null,null,null,null,null,null,null,null,null,0,0,0,0,null,null,null,0,"مدفوع"]
[null,null,null,null,null,null,null,null,null,null,null,null,null,null,0,0,0,0,null,null,null,0,"مدفوع"]
[null,null,null,null,null,null,null,null,null,null,null,null,null,null,0,0,0,0,null,null,null,0,"مدفوع"]
[null,null,null,null,null,null,null,null,null,null,null,null,null,null,0,0,0,0,null,null,null,0,"مدفوع"]
[null,null,null,null,null,null,null,null,null,null,null,null,null,null,0,0,0,0,null,null,null,0,"مدفوع"]
[null,null,null,null,null,null,null,null,null,null,null,null,null,null,0,0,0,0,null,null,null,0,"مدفوع"]
[null,null,null,null,null,null,null,null,null,null,null,null,null,null,0,0,0,0,null,null,null,0,"مدفوع"]
[null,null,null,null,null,null,null,null,null,null,null,null,null,null,0,0,0,0,null,null,null,0,"مدفوع"]
[null,null,null,null,null,null,null,null,null,null,null,null,null,null,0,0,0,0,null,null,null,0,"مدفوع"]
[null,null,null,null,null,null,null,null,null,null,null,null,null,null,0,0,0,0,null,null,null,0,"مدفوع"]
[null,null,null,null,null,null,null,null,null,null,null,null,null,null,0,0,0,0,null,null,null,0,"مدفوع"]
[null,null,null,null,null,null,null,null,null,null,null,null,null,null,0,0,0,0,null,null,null,0,"مدفوع"]
[null,null,null,null,null,null,null,null,null,null,null,null,null,null,0,0,0,0,null,null,null,0,"مدفوع"]
[null,null,null,null,null,null,null,null,null,null,null,null,null,null,0,0,0,0,null,null,null,0,"مدفوع"]
[null,null,null,null,null,null,null,null,null,null,null,null,null,null,{"$f":"SUM(M611-N611)","v":0},0,{"$f":"SUM(K611*150000/2.5)","v":0},{"$f":"SUM(O611*4000)","v":0},null,null,null,{"$f":"SUM(P611:S611)-T611","v":0},{"$f":"IF(V611<=0,\"مدفوع\",\"غير مدفوع\")","v":"مدفوع"}]
[null,null,null,null,null,null,null,null,null,null,null,null,null,null,0,0,0,0,null,null,null,0,"مدفوع"]
[null,null,null,null,null,null,null,null,null,null,null,null,null,null,0,{"$f":"IF(L613=0,0,IF(L613<=5.5,150000,IF(L613<=10.5,230000,IF(L613<=15.5,300000,IF(L613<=20.5,350000,IF(L613<=25.5,400000,IF(L613<=30.5,450000,IF(L613<=35.5,500000,IF(L613<=40.5,550000,IF(L613<=45.5,600000,IF(L613<=50.5,650000,IF(L613<=55.5,700000,IF(L613<=60.5,750000)))))))))))))","v":0},0,0,null,null,null,0,"مدفوع"]
[null,null,null,null,null,null,null,null,null,null,null,null,null,null,0,0,0,0,null,null,null,0,"مدفوع"]
[null,null,null,null,null,null,null,null,null,null,null,null,null,null,0,0,0,0,null,null,null,0,"مدفوع"]
[null,null,null,null,null,null,null,null,null,null,null,null,null,null,0,0,0,0,null,null,null,0,"مدفوع"]
[null,null,null,null,null,null,null,null,null,null,null,null,null,null,0,0,0,0,null,null,null,0,"مدفوع"]
[null,null,null,null,null,null,null,null,null,null,null,null,null,null,0,0,0,0,null,null,null,0,"مدفوع"]
[null,null,null,null,null,null,null,null,null,null,null,null,null,null,0,0,0,0,null,null,null,0,"مدفوع"]
[null,null,null,null,null,null,null,null,null,null,null,null,null,null,0,0,0,0,null,null,null,0,"مدفوع"]
[null,null,null,null,null,null,null,null,null,null,null,null,null,null,0,0,0,0,null,null,null,0,"مدفوع"]
[null,null,null,null,null,null,null,null,null,null,null,null,null,null,0,0,0,0,null,null,null,0,"مدفوع"]
[null,null,null,null,null,null,null,null,null,null,null,null,null,null,0,0,0,0,null,null,null,0,"مدفوع"]
[null,null,null,null,null,null,null,null,null,null,null,null,null,null,0,0,0,0,null,null,null,0,"مدفوع"]
[null,null,null,null,null,null,null,null,null,null,null,null,null,null,0,0,0,0,null,null,null,0,"مدفوع"]
[null,null,null,null,null,null,null,null,null,null,null,null,null,null,0,0,0,0,null,null,null,0,"مدفوع"]
[null,null,null,null,null,null,null,null,null,null,null,null,null,null,0,0,0,0,null,null,null,0,"مدفوع"]
[null,null,null,null,null,null,null,null,null,null,null,null,null,null,0,0,0,0,null,null,null,0,"مدفوع"]
[null,null,null,null,null,null,null,null,null,null,null,null,null,null,0,0,0,0,null,null,null,0,"مدفوع"]
[null,null,null,null,null,null,null,null,null,null,null,null,null,null,0,0,0,0,null,null,null,0,"مدفوع"]
[null,null,null,null,null,null,null,null,null,null,null,null,null,null,0,0,0,0,null,null,null,0,"مدفوع"]
[null,null,null,null,null,null,null,null,null,null,null,null,null,null,0,0,0,0,null,null,null,0,"مدفوع"]
[null,null,null,null,null,null,null,null,null,null,null,null,null,null,0,0,0,0,null,null,null,0,"مدفوع"]
[null,null,null,null,null,null,null,null,null,null,null,null,null,null,0,0,0,0,null,null,null,0,"مدفوع"]
[null,null,null,null,null,null,null,null,null,null,null,null,null,null,0,0,0,0,null,null,null,0,"مدفوع"]
[null,null,null,null,null,null,null,null,null,null,null,null,null,null,0,0,0,0,null,null,null,0,"مدفوع"]
[null,null,null,null,null,null,null,null,null,null,null,null,null,null,0,0,0,0,null,null,null,0,"مدفوع"]
[null,null,null,null,null,null,null,null,null,null,null,null,null,null,0,0,0,0,null,null,null,0,"مدفوع"]
[null,null,null,null,null,null,null,null,null,null,null,null,null,null,0,0,0,0,null,null,null,0,"مدفوع"]
[null,null,null,null,null,null,null,null,null,null,null,null,null,null,0,0,0,0,null,null,null,0,"مدفوع"]
[null,null,null,null,null,null,null,null,null,null,null,null,null,null,0,0,0,0,null,null,null,0,"مدفوع"]
[null,null,null,null,null,null,null,null,null,null,null,null,null,null,0,0,0,0,null,null,null,0,"مدفوع"]
[null,null,null,null,null,null,null,null,null,null,null,null,null,null,0,0,0,0,null,null,null,0,"مدفوع"]
[null,null,null,null,null,null,null,null,null,null,null,null,null,null,0,0,0,0,null,null,null,0,"مدفوع"]
[null,null,null,null,null,null,null,null,null,null,null,null,null,null,0,0,0,0,null,null,null,0,"مدفوع"]
[null,null,null,null,null,null,null,null,null,null,null,null,null,null,0,0,0,0,null,null,null,0,"مدفوع"]
[null,null,null,null,null,null,null,null,null,null,null,null,null,null,0,0,0,0,null,null,null,0,"مدفوع"]
[null,null,null,null,null,null,null,null,null,null,null,null,null,null,0,0,0,0,null,null,null,0,"مدفوع"]
[null,null,null,null,null,null,null,null,null,null,null,null,null,null,0,0,0,0,null,null,null,0,"مدفوع"]
[null,null,null,null,null,null,null,null,null,null,null,null,null,null,0,0,0,0,null,null,null,0,"مدفوع"]
[null,null,null,null,null,null,null,null,null,null,null,null,null,null,0,0,0,0,null,null,null,0,"مدفوع"]
[null,null,null,null,null,null,null,null,null,null,null,null,null,null,0,0,0,0,null,null,null,0,"مدفوع"]
[null,null,null,null,null,null,null,null,null,null,null,null,null,null,0,0,0,0,null,null,null,0,"مدفوع"]
[null,null,null,null,null,null,null,null,null,null,null,null,null,null,0,0,0,0,null,null,null,0,"مدفوع"]
[null,null,null,null,null,null,null,null,null,null,null,null,null,null,0,0,0,0,null,null,null,0,"مدفوع"]
[null,null,null,null,null,null,null,null,null,null,null,null,null,null,0,0,0,0,null,null,null,0,"مدفوع"]
[null,null,null,null,null,null,null,null,null,null,null,null,null,null,0,0,0,0,null,null,null,0,"مدفوع"]
[null,null,null,null,null,null,null,null,null,null,null,null,null,null,0,0,0,0,null,null,null,0,"مدفوع"]
[null,null,null,null,null,null,null,null,null,null,null,null,null,null,0,0,0,0,null,null,null,0,"مدفوع"]
[null,null,null,null,null,null,null,null,null,null,null,null,null,null,0,0,0,0,null,null,null,0,"مدفوع"]
[null,null,null,null,null,null,null,null,null,null,null,null,null,null,0,0,0,0,null,null,null,0,"مدفوع"]
[null,null,null,null,null,null,null,null,null,null,null,null,null,null,0,0,0,0,null,null,null,0,"مدفوع"]
[null,null,null,null,null,null,null,null,null,null,null,null,null,null,0,0,0,0,null,null,null,0,"مدفوع"]
[null,null,null,null,null,null,null,null,null,null,null,null,null,null,0,0,0,0,null,null,null,0,"مدفوع"]
[null,null,null,null,null,null,null,null,null,null,null,null,null,null,0,0,0,0,null,null,null,0,"مدفوع"]
[null,null,null,null,null,null,null,null,null,null,null,null,null,null,0,0,0,0,null,null,null,0,"مدفوع"]
[null,null,null,null,null,null,null,null,null,null,null,null,null,null,0,0,0,0,null,null,null,0,"مدفوع"]
[null,null,null,null,null,null,null,null,null,null,null,null,null,null,0,0,0,0,null,null,null,0,"مدفوع"]
[null,null,null,null,null,null,null,null,null,null,null,null,null,null,0,0,0,0,null,null,null,0,"مدفوع"]
[null,null,null,null,null,null,null,null,null,null,null,null,null,null,0,0,0,0,null,null,null,0,"مدفوع"]
[null,null,null,null,null,null,null,null,null,null,null,null,null,null,0,0,0,0,null,null,null,0,"مدفوع"]
[null,null,null,null,null,null,null,null,null,null,null,null,null,null,0,0,0,0,null,null,null,0,"مدفوع"]
[null,null,null,null,null,null,null,null,null,null,null,null,null,null,0,0,0,0,null,null,null,0,"مدفوع"]
[null,null,null,null,null,null,null,null,null,null,null,null,null,null,0,0,0,0,null,null,null,0,"مدفوع"]
[null,null,null,null,null,null,null,null,null,null,null,null,null,null,{"$f":"SUM(M675-N675)","v":0},0,{"$f":"SUM(K675*150000/2.5)","v":0},{"$f":"SUM(O675*4000)","v":0},null,null,null,{"$f":"SUM(P675:S675)-T675","v":0},{"$f":"IF(V675<=0,\"مدفوع\",\"غير مدفوع\")","v":"مدفوع"}]
[null,null,null,null,null,null,null,null,null,null,null,null,null,null,0,0,0,0,null,null,null,0,"مدفوع"]
[null,null,null,null,null,null,null,null,null,null,null,null,null,null,0,{"$f":"IF(L677=0,0,IF(L677<=5.5,150000,IF(L677<=10.5,230000,IF(L677<=15.5,300000,IF(L677<=20.5,350000,IF(L677<=25.5,400000,IF(L677<=30.5,450000,IF(L677<=35.5,500000,IF(L677<=40.5,550000,IF(L677<=45.5,600000,IF(L677<=50.5,650000,IF(L677<=55.5,700000,IF(L677<=60.5,750000)))))))))))))","v":0},0,0,null,null,null,0,"مدفوع"]
[null,null,null,null,null,null,null,null,null,null,null,null,null,null,0,0,0,0,null,null,null,0,"مدفوع"]
[null,null,null,null,null,null,null,null,null,null,null,null,null,null,0,0,0,0,null,null,null,0,"مدفوع"]
[null,null,null,null,null,null,null,null,null,null,null,null,null,null,0,0,0,0,null,null,null,0,"مدفوع"]
[null,null,null,null,null,null,null,null,null,null,null,null,null,null,0,0,0,0,null,null,null,0,"مدفوع"]
[null,null,null,null,null,null,null,null,null,null,null,null,null,null,0,0,0,0,null,null,null,0,"مدفوع"]
[null,null,null,null,null,null,null,null,null,null,null,null,null,null,0,0,0,0,null,null,null,0,"مدفوع"]
[null,null,null,null,null,null,null,null,null,null,null,null,null,null,0,0,0,0,null,null,null,0,"مدفوع"]
[null,null,null,null,null,null,null,null,null,null,null,null,null,null,0,0,0,0,null,null,null,0,"مدفوع"]
[null,null,null,null,null,null,null,null,null,null,null,null,null,null,0,0,0,0,null,null,null,0,"مدفوع"]
[null,null,null,null,null,null,null,null,null,null,null,null,null,null,0,0,0,0,null,null,null,0,"مدفوع"]
[null,null,null,null,null,null,null,null,null,null,null,null,null,null,0,0,0,0,null,null,null,0,"مدفوع"]
[null,null,null,null,null,null,null,null,null,null,null,null,null,null,0,0,0,0,null,null,null,0,"مدفوع"]
[null,null,null,null,null,null,null,null,null,null,null,null,null,null,0,0,0,0,null,null,null,0,"مدفوع"]
[null,null,null,null,null,null,null,null,null,null,null,null,null,null,0,0,0,0,null,null,null,0,"مدفوع"]
[null,null,null,null,null,null,null,null,null,null,null,null,null,null,0,0,0,0,null,null,null,0,"مدفوع"]
[null,null,null,null,null,null,null,null,null,null,null,null,null,null,0,0,0,0,null,null,null,0,"مدفوع"]
[null,null,null,null,null,null,null,null,null,null,null,null,null,null,0,0,0,0,null,null,null,0,"مدفوع"]
[null,null,null,null,null,null,null,null,null,null,null,null,null,null,0,0,0,0,null,null,null,0,"مدفوع"]
[null,null,null,null,null,null,null,null,null,null,null,null,null,null,0,0,0,0,null,null,null,0,"مدفوع"]
[null,null,null,null,null,null,null,null,null,null,null,null,null,null,0,0,0,0,null,null,null,0,"مدفوع"]
[null,null,null,null,null,null,null,null,null,null,null,null,null,null,0,0,0,0,null,null,null,0,"مدفوع"]
[null,null,null,null,null,null,null,null,null,null,null,null,null,null,0,0,0,0,null,null,null,0,"مدفوع"]
[null,null,null,null,null,null,null,null,null,null,null,null,null,null,0,0,0,0,null,null,null,0,"مدفوع"]
[null,null,null,null,null,null,null,null,null,null,null,null,null,null,0,0,0,0,null,null,null,0,"مدفوع"]
[null,null,null,null,null,null,null,null,null,null,null,null,null,null,0,0,0,0,null,null,null,0,"مدفوع"]
[null,null,null,null,null,null,null,null,null,null,null,null,null,null,0,0,0,0,null,null,null,0,"مدفوع"]
[null,null,null,null,null,null,null,null,null,null,null,null,null,null,0,0,0,0,null,null,null,0,"مدفوع"]
[null,null,null,null,null,null,null,null,null,null,null,null,null,null,0,0,0,0,null,null,null,0,"مدفوع"]
[null,null,null,null,null,null,null,null,null,null,null,null,null,null,0,0,0,0,null,null,null,0,"مدفوع"]
[null,null,null,null,null,null,null,null,null,null,null,null,null,null,0,0,0,0,null,null,null,0,"مدفوع"]
[null,null,null,null,null,null,null,null,null,null,null,null,null,null,0,0,0,0,null,null,null,0,"مدفوع"]
[null,null,null,null,null,null,null,null,null,null,null,null,null,null,0,0,0,0,null,null,null,0,"مدفوع"]
[null,null,null,null,null,null,null,null,null,null,null,null,null,null,0,0,0,0,null,null,null,0,"مدفوع"]
[null,null,null,null,null,null,null,null,null,null,null,null,null,null,0,0,0,0,null,null,null,0,"مدفوع"]
[null,null,null,null,null,null,null,null,null,null,null,null,null,null,0,0,0,0,null,null,null,0,"مدفوع"]
[null,null,null,null,null,null,null,null,null,null,null,null,null,null,0,0,0,0,null,null,null,0,"مدفوع"]
[null,null,null,null,null,null,null,null,null,null,null,null,null,null,0,0,0,0,null,null,null,0,"مدفوع"]
[null,null,null,null,null,null,null,null,null,null,null,null,null,null,0,0,0,0,null,null,null,0,"مدفوع"]
[null,null,null,null,null,null,null,null,null,null,null,null,null,null,0,0,0,0,null,null,null,0,"مدفوع"]
[null,null,null,null,null,null,null,null,null,null,null,null,null,null,0,0,0,0,null,null,null,0,"مدفوع"]
[null,null,null,null,null,null,null,null,null,null,null,null,null,null,0,0,0,0,null,null,null,0,"مدفوع"]
[null,null,null,null,null,null,null,null,null,null,null,null,null,null,0,0,0,0,null,null,null,0,"مدفوع"]
[null,null,null,null,null,null,null,null,null,null,null,null,null,null,0,0,0,0,null,null,null,0,"مدفوع"]
[null,null,null,null,null,null,null,null,null,null,null,null,null,null,0,0,0,0,null,null,null,0,"مدفوع"]
[null,null,null,null,null,null,null,null,null,null,null,null,null,null,0,0,0,0,null,null,null,0,"مدفوع"]
[null,null,null,null,null,null,null,null,null,null,null,null,null,null,0,0,0,0,null,null,null,0,"مدفوع"]
[null,null,null,null,null,null,null,null,null,null,null,null,null,null,0,0,0,0,null,null,null,0,"مدفوع"]
[null,null,null,null,null,null,null,null,null,null,null,null,null,null,0,0,0,0,null,null,null,0,"مدفوع"]
[null,null,null,null,null,null,null,null,null,null,null,null,null,null,0,0,0,0,null,null,null,0,"مدفوع"]
[null,null,null,null,null,null,null,null,null,null,null,null,null,null,0,0,0,0,null,null,null,0,"مدفوع"]
[null,null,null,null,null,null,null,null,null,null,null,null,null,null,0,0,0,0,null,null,null,0,"مدفوع"]
[null,null,null,null,null,null,null,null,null,null,null,null,null,null,0,0,0,0,null,null,null,0,"مدفوع"]
[null,null,null,null,null,null,null,null,null,null,null,null,null,null,0,0,0,0,null,null,null,0,"مدفوع"]
[null,null,null,null,null,null,null,null,null,null,null,null,null,null,0,0,0,0,null,null,null,0,"مدفوع"]
[null,null,null,null,null,null,null,null,null,null,null,null,null,null,0,0,0,0,null,null,null,0,"مدفوع"]
[null,null,null,null,null,null,null,null,null,null,null,null,null,null,0,0,0,0,null,null,null,0,"مدفوع"]
[null,null,null,null,null,null,null,null,null,null,null,null,null,null,0,0,0,0,null,null,null,0,"مدفوع"]
[null,null,null,null,null,null,null,null,null,null,null,null,null,null,0,0,0,0,null,null,null,0,"مدفوع"]
[null,null,null,null,null,null,null,null,null,null,null,null,null,null,0,0,0,0,null,null,null,0,"مدفوع"]
[null,null,null,null,null,null,null,null,null,null,null,null,null,null,0,0,0,0,null,null,null,0,"مدفوع"]
[null,null,null,null,null,null,null,null,null,null,null,null,null,null,0,0,0,0,null,null,null,0,"مدفوع"]
[null,null,null,null,null,null,null,null,null,null,null,null,null,null,{"$f":"SUM(M739-N739)","v":0},0,{"$f":"SUM(K739*150000/2.5)","v":0},{"$f":"SUM(O739*4000)","v":0},null,null,null,{"$f":"SUM(P739:S739)-T739","v":0},{"$f":"IF(V739<=0,\"مدفوع\",\"غير مدفوع\")","v":"مدفوع"}]
[null,null,null,null,null,null,null,null,null,null,null,null,null,null,0,0,0,0,null,null,null,0,"مدفوع"]
[null,null,null,null,null,null,null,null,null,null,null,null,null,null,0,{"$f":"IF(L741=0,0,IF(L741<=5.5,150000,IF(L741<=10.5,230000,IF(L741<=15.5,300000,IF(L741<=20.5,350000,IF(L741<=25.5,400000,IF(L741<=30.5,450000,IF(L741<=35.5,500000,IF(L741<=40.5,550000,IF(L741<=45.5,600000,IF(L741<=50.5,650000,IF(L741<=55.5,700000,IF(L741<=60.5,750000)))))))))))))","v":0},0,0,null,null,null,0,"مدفوع"]
[null,null,null,null,null,null,null,null,null,null,null,null,null,null,0,0,0,0,null,null,null,0,"مدفوع"]
[null,null,null,null,null,null,null,null,null,null,null,null,null,null,0,0,0,0,null,null,null,0,"مدفوع"]
[null,null,null,null,null,null,null,null,null,null,null,null,null,null,0,0,0,0,null,null,null,0,"مدفوع"]
[null,null,null,null,null,null,null,null,null,null,null,null,null,null,0,0,0,0,null,null,null,0,"مدفوع"]
[null,null,null,null,null,null,null,null,null,null,null,null,null,null,0,0,0,0,null,null,null,0,"مدفوع"]
[null,null,null,null,null,null,null,null,null,null,null,null,null,null,0,0,0,0,null,null,null,0,"مدفوع"]
[null,null,null,null,null,null,null,null,null,null,null,null,null,null,0,0,0,0,null,null,null,0,"مدفوع"]
[null,null,null,null,null,null,null,null,null,null,null,null,null,null,0,0,0,0,null,null,null,0,"مدفوع"]
[null,null,null,null,null,null,null,null,null,null,null,null,null,null,0,0,0,0,null,null,null,0,"مدفوع"]
[null,null,null,null,null,null,null,null,null,null,null,null,null,null,0,0,0,0,null,null,null,0,"مدفوع"]
[null,null,null,null,null,null,null,null,null,null,null,null,null,null,0,0,0,0,null,null,null,0,"مدفوع"]
[null,null,null,null,null,null,null,null,null,null,null,null,null,null,0,0,0,0,null,null,null,0,"مدفوع"]
[null,null,null,null,null,null,null,null,null,null,null,null,null,null,0,0,0,0,null,null,null,0,"مدفوع"]
[null,null,null,null,null,null,null,null,null,null,null,null,null,null,0,0,0,0,null,null,null,0,"مدفوع"]
[null,null,null,null,null,null,null,null,null,null,null,null,null,null,0,0,0,0,null,null,null,0,"مدفوع"]
[null,null,null,null,null,null,null,null,null,null,null,null,null,null,0,0,0,0,null,null,null,0,"مدفوع"]
[null,null,null,null,null,null,null,null,null,null,null,null,null,null,0,0,0,0,null,null,null,0,"مدفوع"]
[null,null,null,null,null,null,null,null,null,null,null,null,null,null,0,0,0,0,null,null,null,0,"مدفوع"]
[null,null,null,null,null,null,null,null,null,null,null,null,null,null,0,0,0,0,null,null,null,0,"مدفوع"]
[null,null,null,null,null,null,null,null,null,null,null,null,null,null,0,0,0,0,null,null,null,0,"مدفوع"]
[null,null,null,null,null,null,null,null,null,null,null,null,null,null,0,0,0,0,null,null,null,0,"مدفوع"]
[null,null,null,null,null,null,null,null,null,null,null,null,null,null,0,0,0,0,null,null,null,0,"مدفوع"]
[null,null,null,null,null,null,null,null,null,null,null,null,null,null,0,0,0,0,null,null,null,0,"مدفوع"]
[null,null,null,null,null,null,null,null,null,null,null,null,null,null,0,0,0,0,null,null,null,0,"مدفوع"]
[null,null,null,null,null,null,null,null,null,null,null,null,null,null,0,0,0,0,null,null,null,0,"مدفوع"]
[null,null,null,null,null,null,null,null,null,null,null,null,null,null,0,0,0,0,null,null,null,0,"مدفوع"]
[null,null,null,null,null,null,null,null,null,null,null,null,null,null,0,0,0,0,null,null,null,0,"مدفوع"]
[null,null,null,null,null,null,null,null,null,null,null,null,null,null,0,0,0,0,null,null,null,0,"مدفوع"]
[null,null,null,null,null,null,null,null,null,null,null,null,null,null,0,0,0,0,null,null,null,0,"مدفوع"]
[null,null,null,null,null,null,null,null,null,null,null,null,null,null,0,0,0,0,null,null,null,0,"مدفوع"]
[null,null,null,null,null,null,null,null,null,null,null,null,null,null,0,0,0,0,null,null,null,0,"مدفوع"]
[null,null,null,null,null,null,null,null,null,null,null,null,null,null,0,0,0,0,null,null,null,0,"مدفوع"]
[null,null,null,null,null,null,null,null,null,null,null,null,null,null,0,0,0,0,null,null,null,0,"مدفوع"]
[null,null,null,null,null,null,null,null,null,null,null,null,null,null,0,0,0,0,null,null,null,0,"مدفوع"]
[null,null,null,null,null,null,null,null,null,null,null,null,null,null,0,0,0,0,null,null,null,0,"مدفوع"]
[null,null,null,null,null,null,null,null,null,null,null,null,null,null,0,0,0,0,null,null,null,0,"مدفوع"]
[null,null,null,null,null,null,null,null,null,null,null,null,null,null,0,0,0,0,null,null,null,0,"مدفوع"]
[null,null,null,null,null,null,null,null,null,null,null,null,null,null,0,0,0,0,null,null,null,0,"مدفوع"]
[null,null,null,null,null,null,null,null,null,null,null,null,null,null,0,0,0,0,null,null,null,0,"مدفوع"]
[null,null,null,null,null,null,null,null,null,null,null,null,null,null,0,0,0,0,null,null,null,0,"مدفوع"]
[null,null,null,null,null,null,null,null,null,null,null,null,null,null,0,0,0,0,null,null,null,0,"مدفوع"]
[null,null,null,null,null,null,null,null,null,null,null,null,null,null,0,0,0,0,null,null,null,0,"مدفوع"]
[null,null,null,null,null,null,null,null,null,null,null,null,null,null,0,0,0,0,null,null,null,0,"مدفوع"]
[null,null,null,null,null,null,null,null,null,null,null,null,null,null,0,0,0,0,null,null,null,0,"مدفوع"]
[null,null,null,null,null,null,null,null,null,null,null,null,null,null,0,0,0,0,null,null,null,0,"مدفوع"]
[null,null,null,null,null,null,null,null,null,null,null,null,null,null,0,0,0,0,null,null,null,0,"مدفوع"]
[null,null,null,null,null,null,null,null,null,null,null,null,null,null,0,0,0,0,null,null,null,0,"مدفوع"]
[null,null,null,null,null,null,null,null,null,null,null,null,null,null,0,0,0,0,null,null,null,0,"مدفوع"]
[null,null,null,null,null,null,null,null,null,null,null,null,null,null,0,0,0,0,null,null,null,0,"مدفوع"]
[null,null,null,null,null,null,null,null,null,null,null,null,null,null,0,0,0,0,null,null,null,0,"مدفوع"]
[null,null,null,null,null,null,null,null,null,null,null,null,null,null,0,0,0,0,null,null,null,0,"مدفوع"]
[null,null,null,null,null,null,null,null,null,null,null,null,null,null,0,0,0,0,null,null,null,0,"مدفوع"]
[null,null,null,null,null,null,null,null,null,null,null,null,null,null,0,0,0,0,null,null,null,0,"مدفوع"]
[null,null,null,null,null,null,null,null,null,null,null,null,null,null,0,0,0,0,null,null,null,0,"مدفوع"]
[null,null,null,null,null,null,null,null,null,null,null,null,null,null,0,0,0,0,null,null,null,0,"مدفوع"]
[null,null,null,null,null,null,null,null,null,null,null,null,null,null,0,0,0,0,null,null,null,0,"مدفوع"]
[null,null,null,null,null,null,null,null,null,null,null,null,null,null,0,0,0,0,null,null,null,0,"مدفوع"]
[null,null,null,null,null,null,null,null,null,null,null,null,null,null,0,0,0,0,null,null,null,0,"مدفوع"]
[null,null,null,null,null,null,null,null,null,null,null,null,null,null,0,0,0,0,null,null,null,0,"مدفوع"]
[null,null,null,null,null,null,null,null,null,null,null,null,null,null,0,0,0,0,null,null,null,0,"مدفوع"]
[null,null,null,null,null,null,null,null,null,null,null,null,null,null,0,0,0,0,null,null,null,0,"مدفوع"]
[null,null,null,null,null,null,null,null,null,null,null,null,null,null,{"$f":"SUM(M803-N803)","v":0},0,{"$f":"SUM(K803*150000/2.5)","v":0},{"$f":"SUM(O803*4000)","v":0},null,null,null,{"$f":"SUM(P803:S803)-T803","v":0},{"$f":"IF(V803<=0,\"مدفوع\",\"غير مدفوع\")","v":"مدفوع"}]
[null,null,null,null,null,null,null,null,null,null,null,null,null,null,0,0,0,0,null,null,null,0,"مدفوع"]
[null,null,null,null,null,null,null,null,null,null,null,null,null,null,0,{"$f":"IF(L805=0,0,IF(L805<=5.5,150000,IF(L805<=10.5,230000,IF(L805<=15.5,300000,IF(L805<=20.5,350000,IF(L805<=25.5,400000,IF(L805<=30.5,450000,IF(L805<=35.5,500000,IF(L805<=40.5,550000,IF(L805<=45.5,600000,IF(L805<=50.5,650000,IF(L805<=55.5,700000,IF(L805<=60.5,750000)))))))))))))","v":0},0,0,null,null,null,0,"مدفوع"]
[null,null,null,null,null,null,null,null,null,null,null,null,null,null,0,0,0,0,null,null,null,0,"مدفوع"]
[null,null,null,null,null,null,null,null,null,null,null,null,null,null,0,0,0,0,null,null,null,0,"مدفوع"]
[null,null,null,null,null,null,null,null,null,null,null,null,null,null,0,0,0,0,null,null,null,0,"مدفوع"]
[null,null,null,null,null,null,null,null,null,null,null,null,null,null,0,0,0,0,null,null,null,0,"مدفوع"]
[null,null,null,null,null,null,null,null,null,null,null,null,null,null,0,0,0,0,null,null,null,0,"مدفوع"]
[null,null,null,null,null,null,null,null,null,null,null,null,null,null,0,0,0,0,null,null,null,0,"مدفوع"]
[null,null,null,null,null,null,null,null,null,null,null,null,null,null,0,0,0,0,null,null,null,0,"مدفوع"]
[null,null,null,null,null,null,null,null,null,null,null,null,null,null,0,0,0,0,null,null,null,0,"مدفوع"]
[null,null,null,null,null,null,null,null,null,null,null,null,null,null,0,0,0,0,null,null,null,0,"مدفوع"]
[null,null,null,null,null,null,null,null,null,null,null,null,null,null,0,0,0,0,null,null,null,0,"مدفوع"]
[null,null,null,null,null,null,null,null,null,null,null,null,null,null,0,0,0,0,null,null,null,0,"مدفوع"]
[null,null,null,null,null,null,null,null,null,null,null,null,null,null,0,0,0,0,null,null,null,0,"مدفوع"]
[null,null,null,null,null,null,null,null,null,null,null,null,null,null,0,0,0,0,null,null,null,0,"مدفوع"]
[null,null,null,null,null,null,null,null,null,null,null,null,null,null,0,0,0,0,null,null,null,0,"مدفوع"]
[null,null,null,null,null,null,null,null,null,null,null,null,null,null,0,0,0,0,null,null,null,0,"مدفوع"]
[null,null,null,null,null,null,null,null,null,null,null,null,null,null,0,0,0,0,null,null,null,0,"مدفوع"]
[null,null,null,null,null,null,null,null,null,null,null,null,null,null,0,0,0,0,null,null,null,0,"مدفوع"]
[null,null,null,null,null,null,null,null,null,null,null,null,null,null,0,0,0,0,null,null,null,0,"مدفوع"]
[null,null,null,null,null,null,null,null,null,null,null,null,null,null,0,0,0,0,null,null,null,0,"مدفوع"]
[null,null,null,null,null,null,null,null,null,null,null,null,null,null,0,0,0,0,null,null,null,0,"مدفوع"]
[null,null,null,null,null,null,null,null,null,null,null,null,null,null,0,0,0,0,null,null,null,0,"مدفوع"]
[null,null,null,null,null,null,null,null,null,null,null,null,null,null,0,0,0,0,null,null,null,0,"مدفوع"]
[null,null,null,null,null,null,null,null,null,null,null,null,null,null,0,0,0,0,null,null,null,0,"مدفوع"]
[null,null,null,null,null,null,null,null,null,null,null,null,null,null,0,0,0,0,null,null,null,0,"مدفوع"]
[null,null,null,null,null,null,null,null,null,null,null,null,null,null,0,0,0,0,null,null,null,0,"مدفوع"]
[null,null,null,null,null,null,null,null,null,null,null,null,null,null,0,0,0,0,null,null,null,0,"مدفوع"]
[null,null,null,null,null,null,null,null,null,null,null,null,null,null,0,0,0,0,null,null,null,0,"مدفوع"]
[null,null,null,null,null,null,null,null,null,null,null,null,null,null,0,0,0,0,null,null,null,0,"مدفوع"]
[null,null,null,null,null,null,null,null,null,null,null,null,null,null,0,0,0,0,null,null,null,0,"مدفوع"]
[null,null,null,null,null,null,null,null,null,null,null,null,null,null,0,0,0,0,null,null,null,0,"مدفوع"]
[null,null,null,null,null,null,null,null,null,null,null,null,null,null,0,0,0,0,null,null,null,0,"مدفوع"]
[null,null,null,null,null,null,null,null,null,null,null,null,null,null,0,0,0,0,null,null,null,0,"مدفوع"]
[null,null,null,null,null,null,null,null,null,null,null,null,null,null,0,0,0,0,null,null,null,0,"مدفوع"]
[null,null,null,null,null,null,null,null,null,null,null,null,null,null,0,0,0,0,null,null,null,0,"مدفوع"]
[null,null,null,null,null,null,null,null,null,null,null,null,null,null,0,0,0,0,null,null,null,0,"مدفوع"]
[null,null,null,null,null,null,null,null,null,null,null,null,null,null,0,0,0,0,null,null,null,0,"مدفوع"]
[null,null,null,null,null,null,null,null,null,null,null,null,null,null,0,0,0,0,null,null,null,0,"مدفوع"]
[null,null,null,null,null,null,null,null,null,null,null,null,null,null,0,0,0,0,null,null,null,0,"مدفوع"]
[null,null,null,null,null,null,null,null,null,null,null,null,null,null,0,0,0,0,null,null,null,0,"مدفوع"]
[null,null,null,null,null,null,null,null,null,null,null,null,null,null,0,0,0,0,null,null,null,0,"مدفوع"]
[null,null,null,null,null,null,null,null,null,null,null,null,null,null,0,0,0,0,null,null,null,0,"مدفوع"]
[null,null,null,null,null,null,null,null,null,null,null,null,null,null,0,0,0,0,null,null,null,0,"مدفوع"]
[null,null,null,null,null,null,null,null,null,null,null,null,null,null,0,0,0,0,null,null,null,0,"مدفوع"]
[null,null,null,null,null,null,null,null,null,null,null,null,null,null,0,0,0,0,null,null,null,0,"مدفوع"]
[null,null,null,null,null,null,null,null,null,null,null,null,null,null,0,0,0,0,null,null,null,0,"مدفوع"]
[null,null,null,null,null,null,null,null,null,null,null,null,null,null,0,0,0,0,null,null,null,0,"مدفوع"]
[null,null,null,null,null,null,null,null,null,null,null,null,null,null,0,0,0,0,null,null,null,0,"مدفوع"]
[null,null,null,null,null,null,null,null,null,null,null,null,null,null,0,0,0,0,null,null,null,0,"مدفوع"]
[null,null,null,null,null,null,null,null,null,null,null,null,null,null,0,0,0,0,null,null,null,0,"مدفوع"]
[null,null,null,null,null,null,null,null,null,null,null,null,null,null,0,0,0,0,null,null,null,0,"مدفوع"]
[null,null,null,null,null,null,null,null,null,null,null,null,null,null,0,0,0,0,null,null,null,0,"مدفوع"]
[null,null,null,null,null,null,null,null,null,null,null,null,null,null,0,0,0,0,null,null,null,0,"مدفوع"]
[null,null,null,null,null,null,null,null,null,null,null,null,null,null,0,0,0,0,null,null,null,0,"مدفوع"]
[null,null,null,null,null,null,null,null,null,null,null,null,null,null,0,0,0,0,null,null,null,0,"مدفوع"]
[null,null,null,null,null,null,null,null,null,null,null,null,null,null,0,0,0,0,null,null,null,0,"مدفوع"]
[null,null,null,null,null,null,null,null,null,null,null,null,null,null,0,0,0,0,null,null,null,0,"مدفوع"]
[null,null,null,null,null,null,null,null,null,null,null,null,null,null,0,0,0,0,null,null,null,0,"مدفوع"]
[null,null,null,null,null,null,null,null,null,null,null,null,null,null,0,0,0,0,null,null,null,0,"مدفوع"]
[null,null,null,null,null,null,null,null,null,null,null,null,null,null,0,0,0,0,null,null,null,0,"مدفوع"]
[null,null,null,null,null,null,null,null,null,null,null,null,null,null,0,0,0,0,null,null,null,0,"مدفوع"]
[null,null,null,null,null,null,null,null,null,null,null,null,null,null,0,0,0,0,null,null,null,0,"مدفوع"]
[null,null,null,null,null,null,null,null,null,null,null,null,null,null,{"$f":"SUM(M867-N867)","v":0},0,{"$f":"SUM(K867*150000/2.5)","v":0},{"$f":"SUM(O867*4000)","v":0},null,null,null,{"$f":"SUM(P867:S867)-T867","v":0},{"$f":"IF(V867<=0,\"مدفوع\",\"غير مدفوع\")","v":"مدفوع"}]
[null,null,null,null,null,null,null,null,null,null,null,null,null,null,0,0,0,0,null,null,null,0,"مدفوع"]
[null,null,null,null,null,null,null,null,null,null,null,null,null,null,0,{"$f":"IF(L869=0,0,IF(L869<=5.5,150000,IF(L869<=10.5,230000,IF(L869<=15.5,300000,IF(L869<=20.5,350000,IF(L869<=25.5,400000,IF(L869<=30.5,450000,IF(L869<=35.5,500000,IF(L869<=40.5,550000,IF(L869<=45.5,600000,IF(L869<=50.5,650000,IF(L869<=55.5,700000,IF(L869<=60.5,750000)))))))))))))","v":0},0,0,null,null,null,0,"مدفوع"]
[null,null,null,null,null,null,null,null,null,null,null,null,null,null,0,0,0,0,null,null,null,0,"مدفوع"]
[null,null,null,null,null,null,null,null,null,null,null,null,null,null,0,0,0,0,null,null,null,0,"مدفوع"]
[null,null,null,null,null,null,null,null,null,null,null,null,null,null,0,0,0,0,null,null,null,0,"مدفوع"]
[null,null,null,null,null,null,null,null,null,null,null,null,null,null,0,0,0,0,null,null,null,0,"مدفوع"]
[null,null,null,null,null,null,null,null,null,null,null,null,null,null,0,0,0,0,null,null,null,0,"مدفوع"]
[null,null,null,null,null,null,null,null,null,null,null,null,null,null,0,0,0,0,null,null,null,0,"مدفوع"]
[null,null,null,null,null,null,null,null,null,null,null,null,null,null,0,0,0,0,null,null,null,0,"مدفوع"]
[null,null,null,null,null,null,null,null,null,null,null,null,null,null,0,0,0,0,null,null,null,0,"مدفوع"]
[null,null,null,null,null,null,null,null,null,null,null,null,null,null,0,0,0,0,null,null,null,0,"مدفوع"]
[null,null,null,null,null,null,null,null,null,null,null,null,null,null,0,0,0,0,null,null,null,0,"مدفوع"]
[null,null,null,null,null,null,null,null,null,null,null,null,null,null,0,0,0,0,null,null,null,0,"مدفوع"]
[null,null,null,null,null,null,null,null,null,null,null,null,null,null,0,0,0,0,null,null,null,0,"مدفوع"]
[null,null,null,null,null,null,null,null,null,null,null,null,null,null,0,0,0,0,null,null,null,0,"مدفوع"]
[null,null,null,null,null,null,null,null,null,null,null,null,null,null,0,0,0,0,null,null,null,0,"مدفوع"]
[null,null,null,null,null,null,null,null,null,null,null,null,null,null,0,0,0,0,null,null,null,0,"مدفوع"]
[null,null,null,null,null,null,null,null,null,null,null,null,null,null,0,0,0,0,null,null,null,0,"مدفوع"]
[null,null,null,null,null,null,null,null,null,null,null,null,null,null,0,0,0,0,null,null,null,0,"مدفوع"]
[null,null,null,null,null,null,null,null,null,null,null,null,null,null,0,0,0,0,null,null,null,0,"مدفوع"]
[null,null,null,null,null,null,null,null,null,null,null,null,null,null,0,0,0,0,null,null,null,0,"مدفوع"]
[null,null,null,null,null,null,null,null,null,null,null,null,null,null,0,0,0,0,null,null,null,0,"مدفوع"]
[null,null,null,null,null,null,null,null,null,null,null,null,null,null,0,0,0,0,null,null,null,0,"مدفوع"]
[null,null,null,null,null,null,null,null,null,null,null,null,null,null,0,0,0,0,null,null,null,0,"مدفوع"]
[null,null,null,null,null,null,null,null,null,null,null,null,null,null,0,0,0,0,null,null,null,0,"مدفوع"]
[null,null,null,null,null,null,null,null,null,null,null,null,null,null,0,0,0,0,null,null,null,0,"مدفوع"]
[null,null,null,null,null,null,null,null,null,null,null,null,null,null,0,0,0,0,null,null,null,0,"مدفوع"]
[null,null,null,null,null,null,null,null,null,null,null,null,null,null,0,0,0,0,null,null,null,0,"مدفوع"]
[null,null,null,null,null,null,null,null,null,null,null,null,null,null,0,0,0,0,null,null,null,0,"مدفوع"]
[null,null,null,null,null,null,null,null,null,null,null,null,null,null,0,0,0,0,null,null,null,0,"مدفوع"]
[null,null,null,null,null,null,null,null,null,null,null,null,null,null,0,0,0,0,null,null,null,0,"مدفوع"]
[null,null,null,null,null,null,null,null,null,null,null,null,null,null,0,0,0,0,null,null,null,0,"مدفوع"]
[null,null,null,null,null,null,null,null,null,null,null,null,null,null,0,0,0,0,null,null,null,0,"مدفوع"]
[null,null,null,null,null,null,null,null,null,null,null,null,null,null,0,0,0,0,null,null,null,0,"مدفوع"]
[null,null,null,null,null,null,null,null,null,null,null,null,null,null,0,0,0,0,null,null,null,0,"مدفوع"]
[null,null,null,null,null,null,null,null,null,null,null,null,null,null,0,0,0,0,null,null,null,0,"مدفوع"]
[null,null,null,null,null,null,null,null,null,null,null,null,null,null,0,0,0,0,null,null,null,0,"مدفوع"]
[null,null,null,null,null,null,null,null,null,null,null,null,null,null,0,0,0,0,null,null,null,0,"مدفوع"]
[null,null,null,null,null,null,null,null,null,null,null,null,null,null,0,0,0,0,null,null,null,0,"مدفوع"]
[null,null,null,null,null,null,null,null,null,null,null,null,null,null,0,0,0,0,null,null,null,0,"مدفوع"]
[null,null,null,null,null,null,null,null,null,null,null,null,null,null,0,0,0,0,null,null,null,0,"مدفوع"]
[null,null,null,null,null,null,null,null,null,null,null,null,null,null,0,0,0,0,null,null,null,0,"مدفوع"]
[null,null,null,null,null,null,null,null,null,null,null,null,null,null,0,0,0,0,null,null,null,0,"مدفوع"]
[null,null,null,null,null,null,null,null,null,null,null,null,null,null,0,0,0,0,null,null,null,0,"مدفوع"]
[null,null,null,null,null,null,null,null,null,null,null,null,null,null,0,0,0,0,null,null,null,0,"مدفوع"]
[null,null,null,null,null,null,null,null,null,null,null,null,null,null,0,0,0,0,null,null,null,0,"مدفوع"]
[null,null,null,null,null,null,null,null,null,null,null,null,null,null,0,0,0,0,null,null,null,0,"مدفوع"]
[null,null,null,null,null,null,null,null,null,null,null,null,null,null,0,0,0,0,null,null,null,0,"مدفوع"]
[null,null,null,null,null,null,null,null,null,null,null,null,null,null,0,0,0,0,null,null,null,0,"مدفوع"]
[null,null,null,null,null,null,null,null,null,null,null,null,null,null,0,0,0,0,null,null,null,0,"مدفوع"]
[null,null,null,null,null,null,null,null,null,null,null,null,null,null,0,0,0,0,null,null,null,0,"مدفوع"]
[null,null,null,null,null,null,null,null,null,null,null,null,null,null,0,0,0,0,null,null,null,0,"مدفوع"]
[null,null,null,null,null,null,null,null,null,null,null,null,null,null,0,0,0,0,null,null,null,0,"مدفوع"]
[null,null,null,null,null,null,null,null,null,null,null,null,null,null,0,0,0,0,null,null,null,0,"مدفوع"]
[null,null,null,null,null,null,null,null,null,null,null,null,null,null,0,0,0,0,null,null,null,0,"مدفوع"]
[null,null,null,null,null,null,null,null,null,null,null,null,null,null,0,0,0,0,null,null,null,0,"مدفوع"]
[null,null,null,null,null,null,null,null,null,null,null,null,null,null,0,0,0,0,null,null,null,0,"مدفوع"]
[null,null,null,null,null,null,null,null,null,null,null,null,null,null,0,0,0,0,null,null,null,0,"مدفوع"]
[null,null,null,null,null,null,null,null,null,null,null,null,null,null,0,0,0,0,null,null,null,0,"مدفوع"]
[null,null,null,null,null,null,null,null,null,null,null,null,null,null,0,0,0,0,null,null,null,0,"مدفوع"]
[null,null,null,null,null,null,null,null,null,null,null,null,null,null,0,0,0,0,null,null,null,0,"مدفوع"]
[null,null,null,null,null,null,null,null,null,null,null,null,null,null,0,0,0,0,null,null,null,0,"مدفوع"]
[null,null,null,null,null,null,null,null,null,null,null,null,null,null,0,0,0,0,null,null,null,0,"مدفوع"]
[null,null,null,null,null,null,null,null,null,null,null,null,null,null,{"$f":"SUM(M931-N931)","v":0},0,{"$f":"SUM(K931*150000/2.5)","v":0},{"$f":"SUM(O931*4000)","v":0},null,null,null,{"$f":"SUM(P931:S931)-T931","v":0},{"$f":"IF(V931<=0,\"مدفوع\",\"غير مدفوع\")","v":"مدفوع"}]
[null,null,null,null,null,null,null,null,null,null,null,null,null,null,0,0,0,0,null,null,null,0,"مدفوع"]
[null,null,null,null,null,null,null,null,null,null,null,null,null,null,0,{"$f":"IF(L933=0,0,IF(L933<=5.5,150000,IF(L933<=10.5,230000,IF(L933<=15.5,300000,IF(L933<=20.5,350000,IF(L933<=25.5,400000,IF(L933<=30.5,450000,IF(L933<=35.5,500000,IF(L933<=40.5,550000,IF(L933<=45.5,600000,IF(L933<=50.5,650000,IF(L933<=55.5,700000,IF(L933<=60.5,750000)))))))))))))","v":0},0,0,null,null,null,0,"مدفوع"]
[null,null,null,null,null,null,null,null,null,null,null,null,null,null,0,0,0,0,null,null,null,0,"مدفوع"]
[null,null,null,null,null,null,null,null,null,null,null,null,null,null,0,0,0,0,null,null,null,0,"مدفوع"]
[null,null,null,null,null,null,null,null,null,null,null,null,null,null,0,0,0,0,null,null,null,0,"مدفوع"]
[null,null,null,null,null,null,null,null,null,null,null,null,null,null,0,0,0,0,null,null,null,0,"مدفوع"]
[null,null,null,null,null,null,null,null,null,null,null,null,null,null,0,0,0,0,null,null,null,0,"مدفوع"]
[null,null,null,null,null,null,null,null,null,null,null,null,null,null,0,0,0,0,null,null,null,0,"مدفوع"]
[null,null,null,null,null,null,null,null,null,null,null,null,null,null,0,0,0,0,null,null,null,0,"مدفوع"]
[null,null,null,null,null,null,null,null,null,null,null,null,null,null,0,0,0,0,null,null,null,0,"مدفوع"]
[null,null,null,null,null,null,null,null,null,null,null,null,null,null,0,0,0,0,null,null,null,0,"مدفوع"]
[null,null,null,null,null,null,null,null,null,null,null,null,null,null,0,0,0,0,null,null,null,0,"مدفوع"]
[null,null,null,null,null,null,null,null,null,null,null,null,null,null,0,0,0,0,null,null,null,0,"مدفوع"]
[null,null,null,null,null,null,null,null,null,null,null,null,null,null,0,0,0,0,null,null,null,0,"مدفوع"]
[null,null,null,null,null,null,null,null,null,null,null,null,null,null,0,0,0,0,null,null,null,0,"مدفوع"]
[null,null,null,null,null,null,null,null,null,null,null,null,null,null,0,0,0,0,null,null,null,0,"مدفوع"]
[null,null,null,null,null,null,null,null,null,null,null,null,null,null,0,0,0,0,null,null,null,0,"مدفوع"]
[null,null,null,null,null,null,null,null,null,null,null,null,null,null,0,0,0,0,null,null,null,0,"مدفوع"]
[null,null,null,null,null,null,null,null,null,null,null,null,null,null,0,0,0,0,null,null,null,0,"مدفوع"]
[null,null,null,null,null,null,null,null,null,null,null,null,null,null,0,0,0,0,null,null,null,0,"مدفوع"]
[null,null,null,null,null,null,null,null,null,null,null,null,null,null,0,0,0,0,null,null,null,0,"مدفوع"]
[null,null,null,null,null,null,null,null,null,null,null,null,null,null,0,0,0,0,null,null,null,0,"مدفوع"]
[null,null,null,null,null,null,null,null,null,null,null,null,null,null,0,0,0,0,null,null,null,0,"مدفوع"]
[null,null,null,null,null,null,null,null,null,null,null,null,null,null,0,0,0,0,null,null,null,0,"مدفوع"]
[null,null,null,null,null,null,null,null,null,null,null,null,null,null,0,0,0,0,null,null,null,0,"مدفوع"]
[null,null,null,null,null,null,null,null,null,null,null,null,null,null,0,0,0,0,null,null,null,0,"مدفوع"]
[null,null,null,null,null,null,null,null,null,null,null,null,null,null,0,0,0,0,null,null,null,0,"مدفوع"]
[null,null,null,null,null,null,null,null,null,null,null,null,null,null,0,0,0,0,null,null,null,0,"مدفوع"]
[null,null,null,null,null,null,null,null,null,null,null,null,null,null,0,0,0,0,null,null,null,0,"مدفوع"]
[null,null,null,null,null,null,null,null,null,null,null,null,null,null,0,0,0,0,null,null,null,0,"مدفوع"]
[null,null,null,null,null,null,null,null,null,null,null,null,null,null,0,0,0,0,null,null,null,0,"مدفوع"]
[null,null,null,null,null,null,null,null,null,null,null,null,null,null,0,0,0,0,null,null,null,0,"مدفوع"]
[null,null,null,null,null,null,null,null,null,null,null,null,null,null,0,0,0,0,null,null,null,0,"مدفوع"]
[null,null,null,null,null,null,null,null,null,null,null,null,null,null,0,0,0,0,null,null,null,0,"مدفوع"]
[null,null,null,null,null,null,null,null,null,null,null,null,null,null,0,0,0,0,null,null,null,0,"مدفوع"]
[null,null,null,null,null,null,null,null,null,null,null,null,null,null,0,0,0,0,null,null,null,0,"مدفوع"]
[null,null,null,null,null,null,null,null,null,null,null,null,null,null,0,0,0,0,null,null,null,0,"مدفوع"]
[null,null,null,null,null,null,null,null,null,null,null,null,null,null,0,0,0,0,null,null,null,0,"مدفوع"]
[null,null,null,null,null,null,null,null,null,null,null,null,null,null,0,0,0,0,null,null,null,0,"مدفوع"]
[null,null,null,null,null,null,null,null,null,null,null,null,null,null,0,0,0,0,null,null,null,0,"مدفوع"]
[null,null,null,null,null,null,null,null,null,null,null,null,null,null,0,0,0,0,null,null,null,0,"مدفوع"]
[null,null,null,null,null,null,null,null,null,null,null,null,null,null,0,0,0,0,null,null,null,0,"مدفوع"]
[null,null,null,null,null,null,null,null,null,null,null,null,null,null,0,0,0,0,null,null,null,0,"مدفوع"]
[null,null,null,null,null,null,null,null,null,null,null,null,null,null,0,0,0,0,null,null,null,0,"مدفوع"]
[null,null,null,null,null,null,null,null,null,null,null,null,null,null,0,0,0,0,null,null,null,0,"مدفوع"]
[null,null,null,null,null,null,null,null,null,null,null,null,null,null,0,0,0,0,null,null,null,0,"مدفوع"]
[null,null,null,null,null,null,null,null,null,null,null,null,null,null,0,0,0,0,null,null,null,0,"مدفوع"]
[null,null,null,null,null,null,null,null,null,null,null,null,null,null,0,0,0,0,null,null,null,0,"مدفوع"]
[null,null,null,null,null,null,null,null,null,null,null,null,null,null,0,0,0,0,null,null,null,0,"مدفوع"]
[null,null,null,null,null,null,null,null,null,null,null,null,null,null,0,0,0,0,null,null,null,0,"مدفوع"]
[null,null,null,null,null,null,null,null,null,null,null,null,null,null,0,0,0,0,null,null,null,0,"مدفوع"]
[null,null,null,null,null,null,null,null,null,null,null,null,null,null,0,0,0,0,null,null,null,0,"مدفوع"]
[null,null,null,null,null,null,null,null,null,null,null,null,null,null,0,0,0,0,null,null,null,0,"مدفوع"]
[null,null,null,null,null,null,null,null,null,null,null,null,null,null,0,0,0,0,null,null,null,0,"مدفوع"]
[null,null,null,null,null,null,null,null,null,null,null,null,null,null,0,0,0,0,null,null,null,0,"مدفوع"]
[null,null,null,null,null,null,null,null,null,null,null,null,null,null,0,0,0,0,null,null,null,0,"مدفوع"]
[null,null,null,null,null,null,null,null,null,null,null,null,null,null,0,0,0,0,null,null,null,0,"مدفوع"]
[null,null,null,null,null,null,null,null,null,null,null,null,null,null,0,0,0,0,null,null,null,0,"مدفوع"]
[null,null,null,null,null,null,null,null,null,null,null,null,null,null,0,0,0,0,null,null,null,0,"مدفوع"]
[null,null,null,null,null,null,null,null,null,null,null,null,null,null,0,0,0,0,null,null,null,0,"مدفوع"]
[null,null,null,null,null,null,null,null,null,null,null,null,null,null,0,0,0,0,null,null,null,0,"مدفوع"]
[null,null,null,null,null,null,null,null,null,null,null,null,null,null,0,0,0,0,null,null,null,0,"مدفوع"]
[null,null,null,null,null,null,null,null,null,null,null,null,null,null,0,0,0,0,null,null,null,0,"مدفوع"]
[null,null,null,null,null,null,null,null,null,null,null,null,null,null,{"$f":"SUM(M995-N995)","v":0},0,{"$f":"SUM(K995*150000/2.5)","v":0},{"$f":"SUM(O995*4000)","v":0},null,null,null,{"$f":"SUM(P995:S995)-T995","v":0},{"$f":"IF(V995<=0,\"مدفوع\",\"غير مدفوع\")","v":"مدفوع"}]
[null,null,null,null,null,null,null,null,null,null,null,null,null,null,0,0,0,0,null,null,null,0,"مدفوع"]
[null,null,null,null,null,null,null,null,null,null,null,null,null,null,0,{"$f":"IF(L997=0,0,IF(L997<=5.5,150000,IF(L997<=10.5,230000,IF(L997<=15.5,300000,IF(L997<=20.5,350000,IF(L997<=25.5,400000,IF(L997<=30.5,450000,IF(L997<=35.5,500000,IF(L997<=40.5,550000,IF(L997<=45.5,600000,IF(L997<=50.5,650000,IF(L997<=55.5,700000,IF(L997<=60.5,750000)))))))))))))","v":0},0,0,null,null,null,0,"مدفوع"]
[null,null,null,null,null,null,null,null,null,null,null,null,null,null,0,0,0,0,null,null,null,0,"مدفوع"]
[null,null,null,null,null,null,null,null,null,null,null,null,null,null,0,0,0,0,null,null,null,0,"مدفوع"]
[null,null,null,null,null,null,null,null,null,null,null,null,null,null,0,0,0,0,null,null,null,0,"مدفوع"]
[null,null,null,null,null,null,null,null,null,null,null,null,null,null,0,0,0,0,null,null,null,0,"مدفوع"]
[null,null,null,null,null,null,null,null,null,null,null,null,null,null,0,0,0,0,null,null,null,0,"مدفوع"]
[null,null,null,null,null,null,null,null,null,null,null,null,null,null,0,0,0,0,null,null,null,0,"مدفوع"]
[null,null,null,null,null,null,null,null,null,null,null,null,null,null,0,0,0,0,null,null,null,0,"مدفوع"]
[null,null,null,null,null,null,null,null,null,null,null,null,null,null,0,0,0,0,null,null,null,0,"مدفوع"]
[null,null,null,null,null,null,null,null,null,null,null,null,null,null,0,0,0,0,null,null,null,0,"مدفوع"]
[null,null,null,null,null,null,null,null,null,null,null,null,null,null,0,0,0,0,null,null,null,0,"مدفوع"]
[null,null,null,null,null,null,null,null,null,null,null,null,null,null,0,0,0,0,null,null,null,0,"مدفوع"]
[null,null,null,null,null,null,null,null,null,null,null,null,null,null,0,0,0,0,null,null,null,0,"مدفوع"]
[null,null,null,null,null,null,null,null,null,null,null,null,null,null,0,0,0,0,null,null,null,0,"مدفوع"]
[null,null,null,null,null,null,null,null,null,null,null,null,null,null,0,0,0,0,null,null,null,0,"مدفوع"]
[null,null,null,null,null,null,null,null,null,null,null,null,null,null,0,0,0,0,null,null,null,0,"مدفوع"]
[null,null,null,null,null,null,null,null,null,null,null,null,null,null,0,0,0,0,null,null,null,0,"مدفوع"]
[null,null,null,null,null,null,null,null,null,null,null,null,null,null,0,0,0,0,null,null,null,0,"مدفوع"]
[null,null,null,null,null,null,null,null,null,null,null,null,null,null,0,0,0,0,null,null,null,0,"مدفوع"]
[null,null,null,null,null,null,null,null,null,null,null,null,null,null,0,0,0,0,null,null,null,0,"مدفوع"]
[null,null,null,null,null,null,null,null,null,null,null,null,null,null,0,0,0,0,null,null,null,0,"مدفوع"]
[null,null,null,null,null,null,null,null,null,null,null,null,null,null,0,0,0,0,null,null,null,0,"مدفوع"]
[null,null,null,null,null,null,null,null,null,null,null,null,null,null,0,0,0,0,null,null,null,0,"مدفوع"]
[null,null,null,null,null,null,null,null,null,null,null,null,null,null,0,0,0,0,null,null,null,0,"مدفوع"]
[null,null,null,null,null,null,null,null,null,null,null,null,null,null,0,0,0,0,null,null,null,0,"مدفوع"]
[null,null,null,null,null,null,null,null,null,null,null,null,null,null,0,0,0,0,null,null,null,0,"مدفوع"]
[null,null,null,null,null,null,null,null,null,null,null,null,null,null,0,0,0,0,null,null,null,0,"مدفوع"]
[null,null,null,null,null,null,null,null,null,null,null,null,null,null,0,0,0,0,null,null,null,0,"مدفوع"]
[null,null,null,null,null,null,null,null,null,null,null,null,null,null,0,0,0,0,null,null,null,0,"مدفوع"]
[null,null,null,null,null,null,null,null,null,null,null,null,null,null,0,0,0,0,null,null,null,0,"مدفوع"]
[null,null,null,null,null,null,null,null,null,null,null,null,null,null,0,0,0,0,null,null,null,0,"مدفوع"]
[null,null,null,null,null,null,null,null,null,null,null,null,null,null,0,0,0,0,null,null,null,0,"مدفوع"]
[null,null,null,null,null,null,null,null,null,null,null,null,null,null,0,0,0,0,null,null,null,0,"مدفوع"]
[null,null,null,null,null,null,null,null,null,null,null,null,null,null,0,0,0,0,null,null,null,0,"مدفوع"]
[null,null,null,null,null,null,null,null,null,null,null,null,null,null,0,0,0,0,null,null,null,0,"مدفوع"]
[null,null,null,null,null,null,null,null,null,null,null,null,null,null,0,0,0,0,null,null,null,0,"مدفوع"]
[null,null,null,null,null,null,null,null,null,null,null,null,null,null,0,0,0,0,null,null,null,0,"مدفوع"]
[null,null,null,null,null,null,null,null,null,null,null,null,null,null,0,0,0,0,null,null,null,0,"مدفوع"]
[null,null,null,null,null,null,null,null,null,null,null,null,null,null,0,0,0,0,null,null,null,0,"مدفوع"]
[null,null,null,null,null,null,null,null,null,null,null,null,null,null,0,0,0,0,null,null,null,0,"مدفوع"]
[null,null,null,null,null,null,null,null,null,null,null,null,null,null,0,0,0,0,null,null,null,0,"مدفوع"]
[null,null,null,null,null,null,null,null,null,null,null,null,null,null,0,0,0,0,null,null,null,0,"مدفوع"]
[null,null,null,null,null,null,null,null,null,null,null,null,null,null,0,0,0,0,null,null,null,0,"مدفوع"]
[null,null,null,null,null,null,null,null,null,null,null,null,null,null,0,0,0,0,null,null,null,0,"مدفوع"]
[null,null,null,null,null,null,null,null,null,null,null,null,null,null,0,0,0,0,null,null,null,0,"مدفوع"]
[null,null,null,null,null,null,null,null,null,null,null,null,null,null,0,0,0,0,null,null,null,0,"مدفوع"]
[null,null,null,null,null,null,null,null,null,null,null,null,null,null,0,0,0,0,null,null,null,0,"مدفوع"]
[null,null,null,null,null,null,null,null,null,null,null,null,null,null,0,0,0,0,null,null,null,0,"مدفوع"]
[null,null,null,null,null,null,null,null,null,null,null,null,null,null,0,0,0,0,null,null,null,0,"مدفوع"]
[null,null,null,null,null,null,null,null,null,null,null,null,null,null,0,0,0,0,null,null,null,0,"مدفوع"]
[null,null,null,null,null,null,null,null,null,null,null,null,null,null,0,0,0,0,null,null,null,0,"مدفوع"]
[null,null,null,null,null,null,null,null,null,null,null,null,null,null,0,0,0,0,null,null,null,0,"مدفوع"]
[null,null,null,null,null,null,null,null,null,null,null,null,null,null,0,0,0,0,null,null,null,0,"مدفوع"]
[null,null,null,null,null,null,null,null,null,null,null,null,null,null,0,0,0,0,null,null,null,0,"مدفوع"]
[null,null,null,null,null,null,null,null,null,null,null,null,null,null,0,0,0,0,null,null,null,0,"مدفوع"]
[null,null,null,null,null,null,null,null,null,null,null,null,null,null,0,0,0,0,null,null,null,0,"مدفوع"]
[null,null,null,null,null,null,null,null,null,null,null,null,null,null,0,0,0,0,null,null,null,0,"مدفوع"]
[null,null,null,null,null,null,null,null,null,null,null,null,null,null,0,0,0,0,null,null,null,0,"مدفوع"]
[null,null,null,null,null,null,null,null,null,null,null,null,null,null,0,0,0,0,null,null,null,0,"مدفوع"]
[null,null,null,null,null,null,null,null,null,null,null,null,null,null,0,0,0,0,null,null,null,0,"مدفوع"]
[null,null,null,null,null,null,null,null,null,null,null,null,null,null,0,0,0,0,null,null,null,0,"مدفوع"]
[null,null,null,null,null,null,null,null,null,null,null,null,null,null,0,0,0,0,null,null,null,0,"مدفوع"]
[null,null,null,null,null,null,null,null,null,null,null,null,null,null,{"$f":"SUM(M1059-N1059)","v":0},0,{"$f":"SUM(K1059*150000/2.5)","v":0},{"$f":"SUM(O1059*4000)","v":0},null,null,null,{"$f":"SUM(P1059:S1059)-T1059","v":0},{"$f":"IF(V1059<=0,\"مدفوع\",\"غير مدفوع\")","v":"مدفوع"}]
[null,null,null,null,null,null,null,null,null,null,null,null,null,null,0,0,0,0,null,null,null,0,"مدفوع"]
[null,null,null,null,null,null,null,null,null,null,null,null,null,null,0,{"$f":"IF(L1061=0,0,IF(L1061<=5.5,150000,IF(L1061<=10.5,230000,IF(L1061<=15.5,300000,IF(L1061<=20.5,350000,IF(L1061<=25.5,400000,IF(L1061<=30.5,450000,IF(L1061<=35.5,500000,IF(L1061<=40.5,550000,IF(L1061<=45.5,600000,IF(L1061<=50.5,650000,IF(L1061<=55.5,700000,IF(L1061<=60.5,750000)))))))))))))","v":0},0,0,null,null,null,0,"مدفوع"]
[null,null,null,null,null,null,null,null,null,null,null,null,null,null,0,0,0,0,null,null,null,0,"مدفوع"]
[null,null,null,null,null,null,null,null,null,null,null,null,null,null,0,0,0,0,null,null,null,0,"مدفوع"]
[null,null,null,null,null,null,null,null,null,null,null,null,null,null,0,0,0,0,null,null,null,0,"مدفوع"]
[null,null,null,null,null,null,null,null,null,null,null,null,null,null,0,0,0,0,null,null,null,0,"مدفوع"]
[null,null,null,null,null,null,null,null,null,null,null,null,null,null,0,0,0,0,null,null,null,0,"مدفوع"]
[null,null,null,null,null,null,null,null,null,null,null,null,null,null,0,0,0,0,null,null,null,0,"مدفوع"]
[null,null,null,null,null,null,null,null,null,null,null,null,null,null,0,0,0,0,null,null,null,0,"مدفوع"]
[null,null,null,null,null,null,null,null,null,null,null,null,null,null,0,0,0,0,null,null,null,0,"مدفوع"]
[null,null,null,null,null,null,null,null,null,null,null,null,null,null,0,0,0,0,null,null,null,0,"مدفوع"]
[null,null,null,null,null,null,null,null,null,null,null,null,null,null,0,0,0,0,null,null,null,0,"مدفوع"]
[null,null,null,null,null,null,null,null,null,null,null,null,null,null,0,0,0,0,null,null,null,0,"مدفوع"]
[null,null,null,null,null,null,null,null,null,null,null,null,null,null,0,0,0,0,null,null,null,0,"مدفوع"]
[null,null,null,null,null,null,null,null,null,null,null,null,null,null,0,0,0,0,null,null,null,0,"مدفوع"]
[null,null,null,null,null,null,null,null,null,null,null,null,null,null,0,0,0,0,null,null,null,0,"مدفوع"]
[null,null,null,null,null,null,null,null,null,null,null,null,null,null,0,0,0,0,null,null,null,0,"مدفوع"]
[null,null,null,null,null,null,null,null,null,null,null,null,null,null,0,0,0,0,null,null,null,0,"مدفوع"]
[null,null,null,null,null,null,null,null,null,null,null,null,null,null,0,0,0,0,null,null,null,0,"مدفوع"]
[null,null,null,null,null,null,null,null,null,null,null,null,null,null,0,0,0,0,null,null,null,0,"مدفوع"]
[null,null,null,null,null,null,null,null,null,null,null,null,null,null,0,0,0,0,null,null,null,0,"مدفوع"]
[null,null,null,null,null,null,null,null,null,null,null,null,null,null,0,0,0,0,null,null,null,0,"مدفوع"]
[null,null,null,null,null,null,null,null,null,null,null,null,null,null,0,0,0,0,null,null,null,0,"مدفوع"]
[null,null,null,null,null,null,null,null,null,null,null,null,null,null,0,0,0,0,null,null,null,0,"مدفوع"]
[null,null,null,null,null,null,null,null,null,null,null,null,null,null,0,0,0,0,null,null,null,0,"مدفوع"]
[null,null,null,null,null,null,null,null,null,null,null,null,null,null,0,0,0,0,null,null,null,0,"مدفوع"]
[null,null,null,null,null,null,null,null,null,null,null,null,null,null,0,0,0,0,null,null,null,0,"مدفوع"]
[null,null,null,null,null,null,null,null,null,null,null,null,null,null,0,0,0,0,null,null,null,0,"مدفوع"]
[null,null,null,null,null,null,null,null,null,null,null,null,null,null,0,0,0,0,null,null,null,0,"مدفوع"]
[null,null,null,null,null,null,null,null,null,null,null,null,null,null,0,0,0,0,null,null,null,0,"مدفوع"]
[null,null,null,null,null,null,null,null,null,null,null,null,null,null,0,0,0,0,null,null,null,0,"مدفوع"]
[null,null,null,null,null,null,null,null,null,null,null,null,null,null,0,0,0,0,null,null,null,0,"مدفوع"]
[null,null,null,null,null,null,null,null,null,null,null,null,null,null,0,0,0,0,null,null,null,0,"مدفوع"]
[null,null,null,null,null,null,null,null,null,null,null,null,null,null,0,0,0,0,null,null,null,0,"مدفوع"]
[null,null,null,null,null,null,null,null,null,null,null,null,null,null,0,0,0,0,null,null,null,0,"مدفوع"]
[null,null,null,null,null,null,null,null,null,null,null,null,null,null,0,0,0,0,null,null,null,0,"مدفوع"]
[null,null,null,null,null,null,null,null,null,null,null,null,null,null,0,0,0,0,null,null,null,0,"مدفوع"]
[null,null,null,null,null,null,null,null,null,null,null,null,null,null,0,0,0,0,null,null,null,0,"مدفوع"]
[null,null,null,null,null,null,null,null,null,null,null,null,null,null,0,0,0,0,null,null,null,0,"مدفوع"]
[null,null,null,null,null,null,null,null,null,null,null,null,null,null,0,0,0,0,null,null,null,0,"مدفوع"]
[null,null,null,null,null,null,null,null,null,null,null,null,null,null,0,0,0,0,null,null,null,0,"مدفوع"]
[null,null,null,null,null,null,null,null,null,null,null,null,null,null,0,0,0,0,null,null,null,0,"مدفوع"]
[null,null,null,null,null,null,null,null,null,null,null,null,null,null,0,0,0,0,null,null,null,0,"مدفوع"]
[null,null,null,null,null,null,null,null,null,null,null,null,null,null,0,0,0,0,null,null,null,0,"مدفوع"]
[null,null,null,null,null,null,null,null,null,null,null,null,null,null,0,0,0,0,null,null,null,0,"مدفوع"]
[null,null,null,null,null,null,null,null,null,null,null,null,null,null,0,0,0,0,null,null,null,0,"مدفوع"]
[null,null,null,null,null,null,null,null,null,null,null,null,null,null,0,0,0,0,null,null,null,0,"مدفوع"]
[null,null,null,null,null,null,null,null,null,null,null,null,null,null,0,0,0,0,null,null,null,0,"مدفوع"]
[null,null,null,null,null,null,null,null,null,null,null,null,null,null,0,0,0,0,null,null,null,0,"مدفوع"]
[null,null,null,null,null,null,null,null,null,null,null,null,null,null,0,0,0,0,null,null,null,0,"مدفوع"]
[null,null,null,null,null,null,null,null,null,null,null,null,null,null,0,0,0,0,null,null,null,0,"مدفوع"]
[null,null,null,null,null,null,null,null,null,null,null,null,null,null,0,0,0,0,null,null,null,0,"مدفوع"]
[null,null,null,null,null,null,null,null,null,null,null,null,null,null,0,0,0,0,null,null,null,0,"مدفوع"]
[null,null,null,null,null,null,null,null,null,null,null,null,null,null,0,0,0,0,null,null,null,0,"مدفوع"]
[null,null,null,null,null,null,null,null,null,null,null,null,null,null,0,0,0,0,null,null,null,0,"مدفوع"]
[null,null,null,null,null,null,null,null,null,null,null,null,null,null,0,0,0,0,null,null,null,0,"مدفوع"]
[null,null,null,null,null,null,null,null,null,null,null,null,null,null,0,0,0,0,null,null,null,0,"مدفوع"]
[null,null,null,null,null,null,null,null,null,null,null,null,null,null,0,0,0,0,null,null,null,0,"مدفوع"]
[null,null,null,null,null,null,null,null,null,null,null,null,null,null,0,0,0,0,null,null,null,0,"مدفوع"]
[null,null,null,null,null,null,null,null,null,null,null,null,null,null,0,0,0,0,null,null,null,0,"مدفوع"]
[null,null,null,null,null,null,null,null,null,null,null,null,null,null,0,0,0,0,null,null,null,0,"مدفوع"]
[null,null,null,null,null,null,null,null,null,null,null,null,null,null,0,0,0,0,null,null,null,0,"مدفوع"]
[null,null,null,null,null,null,null,null,null,null,null,null,null,null,0,0,0,0,null,null,null,0,"مدفوع"]
[null,null,null,null,null,null,null,null,null,null,null,null,null,null,{"$f":"SUM(M1123-N1123)","v":0},0,{"$f":"SUM(K1123*150000/2.5)","v":0},{"$f":"SUM(O1123*4000)","v":0},null,null,null,{"$f":"SUM(P1123:S1123)-T1123","v":0},{"$f":"IF(V1123<=0,\"مدفوع\",\"غير مدفوع\")","v":"مدفوع"}]
[null,null,null,null,null,null,null,null,null,null,null,null,null,null,0,0,0,0,null,null,null,0,"مدفوع"]
[null,null,null,null,null,null,null,null,null,null,null,null,null,null,0,{"$f":"IF(L1125=0,0,IF(L1125<=5.5,150000,IF(L1125<=10.5,230000,IF(L1125<=15.5,300000,IF(L1125<=20.5,350000,IF(L1125<=25.5,400000,IF(L1125<=30.5,450000,IF(L1125<=35.5,500000,IF(L1125<=40.5,550000,IF(L1125<=45.5,600000,IF(L1125<=50.5,650000,IF(L1125<=55.5,700000,IF(L1125<=60.5,750000)))))))))))))","v":0},0,0,null,null,null,0,"مدفوع"]
[null,null,null,null,null,null,null,null,null,null,null,null,null,null,0,0,0,0,null,null,null,0,"مدفوع"]
[null,null,null,null,null,null,null,null,null,null,null,null,null,null,0,0,0,0,null,null,null,0,"مدفوع"]
[null,null,null,null,null,null,null,null,null,null,null,null,null,null,0,0,0,0,null,null,null,0,"مدفوع"]
[null,null,null,null,null,null,null,null,null,null,null,null,null,null,0,0,0,0,null,null,null,0,"مدفوع"]
[null,null,null,null,null,null,null,null,null,null,null,null,null,null,0,0,0,0,null,null,null,0,"مدفوع"]
[null,null,null,null,null,null,null,null,null,null,null,null,null,null,0,0,0,0,null,null,null,0,"مدفوع"]
[null,null,null,null,null,null,null,null,null,null,null,null,null,null,0,0,0,0,null,null,null,0,"مدفوع"]
[null,null,null,null,null,null,null,null,null,null,null,null,null,null,0,0,0,0,null,null,null,0,"مدفوع"]
[null,null,null,null,null,null,null,null,null,null,null,null,null,null,0,0,0,0,null,null,null,0,"مدفوع"]
[null,null,null,null,null,null,null,null,null,null,null,null,null,null,0,0,0,0,null,null,null,0,"مدفوع"]
[null,null,null,null,null,null,null,null,null,null,null,null,null,null,0,0,0,0,null,null,null,0,"مدفوع"]
[null,null,null,null,null,null,null,null,null,null,null,null,null,null,0,0,0,0,null,null,null,0,"مدفوع"]
[null,null,null,null,null,null,null,null,null,null,null,null,null,null,0,0,0,0,null,null,null,0,"مدفوع"]
[null,null,null,null,null,null,null,null,null,null,null,null,null,null,0,0,0,0,null,null,null,0,"مدفوع"]
[null,null,null,null,null,null,null,null,null,null,null,null,null,null,0,0,0,0,null,null,null,0,"مدفوع"]
[null,null,null,null,null,null,null,null,null,null,null,null,null,null,0,0,0,0,null,null,null,0,"مدفوع"]
[null,null,null,null,null,null,null,null,null,null,null,null,null,null,0,0,0,0,null,null,null,0,"مدفوع"]
[null,null,null,null,null,null,null,null,null,null,null,null,null,null,0,0,0,0,null,null,null,0,"مدفوع"]
[null,null,null,null,null,null,null,null,null,null,null,null,null,null,0,0,0,0,null,null,null,0,"مدفوع"]
[null,null,null,null,null,null,null,null,null,null,null,null,null,null,0,0,0,0,null,null,null,0,"مدفوع"]
[null,null,null,null,null,null,null,null,null,null,null,null,null,null,0,0,0,0,null,null,null,0,"مدفوع"]
[null,null,null,null,null,null,null,null,null,null,null,null,null,null,0,0,0,0,null,null,null,0,"مدفوع"]
[null,null,null,null,null,null,null,null,null,null,null,null,null,null,0,0,0,0,null,null,null,0,"مدفوع"]
[null,null,null,null,null,null,null,null,null,null,null,null,null,null,0,0,0,0,null,null,null,0,"مدفوع"]
[null,null,null,null,null,null,null,null,null,null,null,null,null,null,0,0,0,0,null,null,null,0,"مدفوع"]
[null,null,null,null,null,null,null,null,null,null,null,null,null,null,0,0,0,0,null,null,null,0,"مدفوع"]
[null,null,null,null,null,null,null,null,null,null,null,null,null,null,0,0,0,0,null,null,null,0,"مدفوع"]
[null,null,null,null,null,null,null,null,null,null,null,null,null,null,0,0,0,0,null,null,null,0,"مدفوع"]
[null,null,null,null,null,null,null,null,null,null,null,null,null,null,0,0,0,0,null,null,null,0,"مدفوع"]
[null,null,null,null,null,null,null,null,null,null,null,null,null,null,0,0,0,0,null,null,null,0,"مدفوع"]
[null,null,null,null,null,null,null,null,null,null,null,null,null,null,0,0,0,0,null,null,null,0,"مدفوع"]
[null,null,null,null,null,null,null,null,null,null,null,null,null,null,0,0,0,0,null,null,null,0,"مدفوع"]
[null,null,null,null,null,null,null,null,null,null,null,null,null,null,0,0,0,0,null,null,null,0,"مدفوع"]
[null,null,null,null,null,null,null,null,null,null,null,null,null,null,0,0,0,0,null,null,null,0,"مدفوع"]
[null,null,null,null,null,null,null,null,null,null,null,null,null,null,0,0,0,0,null,null,null,0,"مدفوع"]
[null,null,null,null,null,null,null,null,null,null,null,null,null,null,0,0,0,0,null,null,null,0,"مدفوع"]
[null,null,null,null,null,null,null,null,null,null,null,null,null,null,0,0,0,0,null,null,null,0,"مدفوع"]
[null,null,null,null,null,null,null,null,null,null,null,null,null,null,0,0,0,0,null,null,null,0,"مدفوع"]
[null,null,null,null,null,null,null,null,null,null,null,null,null,null,0,0,0,0,null,null,null,0,"مدفوع"]
[null,null,null,null,null,null,null,null,null,null,null,null,null,null,0,0,0,0,null,null,null,0,"مدفوع"]
[null,null,null,null,null,null,null,null,null,null,null,null,null,null,0,0,0,0,null,null,null,0,"مدفوع"]
[null,null,null,null,null,null,null,null,null,null,null,null,null,null,0,0,0,0,null,null,null,0,"مدفوع"]
[null,null,null,null,null,null,null,null,null,null,null,null,null,null,0,0,0,0,null,null,null,0,"مدفوع"]
[null,null,null,null,null,null,null,null,null,null,null,null,null,null,0,0,0,0,null,null,null,0,"مدفوع"]
[null,null,null,null,null,null,null,null,null,null,null,null,null,null,0,0,0,0,null,null,null,0,"مدفوع"]
[null,null,null,null,null,null,null,null,null,null,null,null,null,null,0,0,0,0,null,null,null,0,"مدفوع"]
[null,null,null,null,null,null,null,null,null,null,null,null,null,null,0,0,0,0,null,null,null,0,"مدفوع"]
[null,null,null,null,null,null,null,null,null,null,null,null,null,null,0,0,0,0,null,null,null,0,"مدفوع"]
[null,null,null,null,null,null,null,null,null,null,null,null,null,null,0,0,0,0,null,null,null,0,"مدفوع"]
[null,null,null,null,null,null,null,null,null,null,null,null,null,null,0,0,0,0,null,null,null,0,"مدفوع"]
[null,null,null,null,null,null,null,null,null,null,null,null,null,null,0,0,0,0,null,null,null,0,"مدفوع"]
[null,null,null,null,null,null,null,null,null,null,null,null,null,null,0,0,0,0,null,null,null,0,"مدفوع"]
[null,null,null,null,null,null,null,null,null,null,null,null,null,null,0,0,0,0,null,null,null,0,"مدفوع"]
[null,null,null,null,null,null,null,null,null,null,null,null,null,null,0,0,0,0,null,null,null,0,"مدفوع"]
[null,null,null,null,null,null,null,null,null,null,null,null,null,null,0,0,0,0,null,null,null,0,"مدفوع"]
[null,null,null,null,null,null,null,null,null,null,null,null,null,null,0,0,0,0,null,null,null,0,"مدفوع"]
[null,null,null,null,null,null,null,null,null,null,null,null,null,null,0,0,0,0,null,null,null,0,"مدفوع"]
[null,null,null,null,null,null,null,null,null,null,null,null,null,null,0,0,0,0,null,null,null,0,"مدفوع"]
[null,null,null,null,null,null,null,null,null,null,null,null,null,null,0,0,0,0,null,null,null,0,"مدفوع"]
[null,null,null,null,null,null,null,null,null,null,null,null,null,null,0,0,0,0,null,null,null,0,"مدفوع"]
[null,null,null,null,null,null,null,null,null,null,null,null,null,null,0,0,0,0,null,null,null,0,"مدفوع"]
[null,null,null,null,null,null,null,null,null,null,null,null,null,null,{"$f":"SUM(M1187-N1187)","v":0},0,{"$f":"SUM(K1187*150000/2.5)","v":0},{"$f":"SUM(O1187*4000)","v":0},null,null,null,{"$f":"SUM(P1187:S1187)-T1187","v":0},{"$f":"IF(V1187<=0,\"مدفوع\",\"غير مدفوع\")","v":"مدفوع"}]
[null,null,null,null,null,null,null,null,null,null,null,null,null,null,0,0,0,0,null,null,null,0,"مدفوع"]
[null,null,null,null,null,null,null,null,null,null,null,null,null,null,0,{"$f":"IF(L1189=0,0,IF(L1189<=5.5,150000,IF(L1189<=10.5,230000,IF(L1189<=15.5,300000,IF(L1189<=20.5,350000,IF(L1189<=25.5,400000,IF(L1189<=30.5,450000,IF(L1189<=35.5,500000,IF(L1189<=40.5,550000,IF(L1189<=45.5,600000,IF(L1189<=50.5,650000,IF(L1189<=55.5,700000,IF(L1189<=60.5,750000)))))))))))))","v":0},0,0,null,null,null,0,"مدفوع"]
[null,null,null,null,null,null,null,null,null,null,null,null,null,null,0,0,0,0,null,null,null,0,"مدفوع"]
[null,null,null,null,null,null,null,null,null,null,null,null,null,null,0,0,0,0,null,null,null,0,"مدفوع"]
[null,null,null,null,null,null,null,null,null,null,null,null,null,null,0,0,0,0,null,null,null,0,"مدفوع"]
[null,null,null,null,null,null,null,null,null,null,null,null,null,null,0,0,0,0,null,null,null,0,"مدفوع"]
[null,null,null,null,null,null,null,null,null,null,null,null,null,null,0,0,0,0,null,null,null,0,"مدفوع"]
[null,null,null,null,null,null,null,null,null,null,null,null,null,null,0,0,0,0,null,null,null,0,"مدفوع"]
[null,null,null,null,null,null,null,null,null,null,null,null,null,null,0,0,0,0,null,null,null,0,"مدفوع"]
[null,null,null,null,null,null,null,null,null,null,null,null,null,null,0,0,0,0,null,null,null,0,"مدفوع"]
[null,null,null,null,null,null,null,null,null,null,null,null,null,null,0,0,0,0,null,null,null,0,"مدفوع"]
[null,null,null,null,null,null,null,null,null,null,null,null,null,null,0,0,0,0,null,null,null,0,"مدفوع"]
[null,null,null,null,null,null,null,null,null,null,null,null,null,null,0,0,0,0,null,null,null,0,"مدفوع"]
[null,null,null,null,null,null,null,null,null,null,null,null,null,null,0,0,0,0,null,null,null,0,"مدفوع"]
[null,null,null,null,null,null,null,null,null,null,null,null,null,null,0,0,0,0,null,null,null,0,"مدفوع"]
[null,null,null,null,null,null,null,null,null,null,null,null,null,null,0,0,0,0,null,null,null,0,"مدفوع"]
[null,null,null,null,null,null,null,null,null,null,null,null,null,null,0,0,0,0,null,null,null,0,"مدفوع"]
[null,null,null,null,null,null,null,null,null,null,null,null,null,null,0,0,0,0,null,null,null,0,"مدفوع"]
[null,null,null,null,null,null,null,null,null,null,null,null,null,null,0,0,0,0,null,null,null,0,"مدفوع"]
[null,null,null,null,null,null,null,null,null,null,null,null,null,null,0,0,0,0,null,null,null,0,"مدفوع"]
[null,null,null,null,null,null,null,null,null,null,null,null,null,null,0,0,0,0,null,null,null,0,"مدفوع"]
[null,null,null,null,null,null,null,null,null,null,null,null,null,null,0,0,0,0,null,null,null,0,"مدفوع"]
[null,null,null,null,null,null,null,null,null,null,null,null,null,null,0,0,0,0,null,null,null,0,"مدفوع"]
[null,null,null,null,null,null,null,null,null,null,null,null,null,null,0,0,0,0,null,null,null,0,"مدفوع"]
[null,null,null,null,null,null,null,null,null,null,null,null,null,null,0,0,0,0,null,null,null,0,"مدفوع"]
[null,null,null,null,null,null,null,null,null,null,null,null,null,null,0,0,0,0,null,null,null,0,"مدفوع"]
[null,null,null,null,null,null,null,null,null,null,null,null,null,null,0,0,0,0,null,null,null,0,"مدفوع"]
[null,null,null,null,null,null,null,null,null,null,null,null,null,null,0,0,0,0,null,null,null,0,"مدفوع"]
[null,null,null,null,null,null,null,null,null,null,null,null,null,null,0,0,0,0,null,null,null,0,"مدفوع"]
[null,null,null,null,null,null,null,null,null,null,null,null,null,null,0,0,0,0,null,null,null,0,"مدفوع"]
[null,null,null,null,null,null,null,null,null,null,null,null,null,null,0,0,0,0,null,null,null,0,"مدفوع"]
[null,null,null,null,null,null,null,null,null,null,null,null,null,null,0,0,0,0,null,null,null,0,"مدفوع"]
[null,null,null,null,null,null,null,null,null,null,null,null,null,null,0,0,0,0,null,null,null,0,"مدفوع"]
[null,null,null,null,null,null,null,null,null,null,null,null,null,null,0,0,0,0,null,null,null,0,"مدفوع"]
[null,null,null,null,null,null,null,null,null,null,null,null,null,null,0,0,0,0,null,null,null,0,"مدفوع"]
[null,null,null,null,null,null,null,null,null,null,null,null,null,null,0,0,0,0,null,null,null,0,"مدفوع"]
[null,null,null,null,null,null,null,null,null,null,null,null,null,null,0,0,0,0,null,null,null,0,"مدفوع"]
[null,null,null,null,null,null,null,null,null,null,null,null,null,null,0,0,0,0,null,null,null,0,"مدفوع"]
[null,null,null,null,null,null,null,null,null,null,null,null,null,null,0,0,0,0,null,null,null,0,"مدفوع"]
[null,null,null,null,null,null,null,null,null,null,null,null,null,null,0,0,0,0,null,null,null,0,"مدفوع"]
[null,null,null,null,null,null,null,null,null,null,null,null,null,null,0,0,0,0,null,null,null,0,"مدفوع"]
[null,null,null,null,null,null,null,null,null,null,null,null,null,null,0,0,0,0,null,null,null,0,"مدفوع"]
[null,null,null,null,null,null,null,null,null,null,null,null,null,null,0,0,0,0,null,null,null,0,"مدفوع"]
[null,null,null,null,null,null,null,null,null,null,null,null,null,null,0,0,0,0,null,null,null,0,"مدفوع"]
[null,null,null,null,null,null,null,null,null,null,null,null,null,null,0,0,0,0,null,null,null,0,"مدفوع"]
[null,null,null,null,null,null,null,null,null,null,null,null,null,null,0,0,0,0,null,null,null,0,"مدفوع"]
[null,null,null,null,null,null,null,null,null,null,null,null,null,null,0,0,0,0,null,null,null,0,"مدفوع"]
[null,null,null,null,null,null,null,null,null,null,null,null,null,null,0,0,0,0,null,null,null,0,"مدفوع"]
[null,null,null,null,null,null,null,null,null,null,null,null,null,null,0,0,0,0,null,null,null,0,"مدفوع"]
[null,null,null,null,null,null,null,null,null,null,null,null,null,null,0,0,0,0,null,null,null,0,"مدفوع"]
[null,null,null,null,null,null,null,null,null,null,null,null,null,null,0,0,0,0,null,null,null,0,"مدفوع"]
[null,null,null,null,null,null,null,null,null,null,null,null,null,null,0,0,0,0,null,null,null,0,"مدفوع"]
[null,null,null,null,null,null,null,null,null,null,null,null,null,null,0,0,0,0,null,null,null,0,"مدفوع"]
[null,null,null,null,null,null,null,null,null,null,null,null,null,null,0,0,0,0,null,null,null,0,"مدفوع"]
[null,null,null,null,null,null,null,null,null,null,null,null,null,null,0,0,0,0,null,null,null,0,"مدفوع"]
[null,null,null,null,null,null,null,null,null,null,null,null,null,null,0,0,0,0,null,null,null,0,"مدفوع"]
[null,null,null,null,null,null,null,null,null,null,null,null,null,null,0,0,0,0,null,null,null,0,"مدفوع"]
[null,null,null,null,null,null,null,null,null,null,null,null,null,null,0,0,0,0,null,null,null,0,"مدفوع"]
[null,null,null,null,null,null,null,null,null,null,null,null,null,null,0,0,0,0,null,null,null,0,"مدفوع"]
[null,null,null,null,null,null,null,null,null,null,null,null,null,null,0,0,0,0,null,null,null,0,"مدفوع"]
[null,null,null,null,null,null,null,null,null,null,null,null,null,null,0,0,0,0,null,null,null,0,"مدفوع"]
[null,null,null,null,null,null,null,null,null,null,null,null,null,null,0,0,0,0,null,null,null,0,"مدفوع"]
[null,null,null,null,null,null,null,null,null,null,null,null,null,null,0,0,0,0,null,null,null,0,"مدفوع"]
[null,null,null,null,null,null,null,null,null,null,null,null,null,null,{"$f":"SUM(M1251-N1251)","v":0},0,{"$f":"SUM(K1251*150000/2.5)","v":0},{"$f":"SUM(O1251*4000)","v":0},null,null,null,{"$f":"SUM(P1251:S1251)-T1251","v":0},{"$f":"IF(V1251<=0,\"مدفوع\",\"غير مدفوع\")","v":"مدفوع"}]
[null,null,null,null,null,null,null,null,null,null,null,null,null,null,0,0,0,0,null,null,null,0,"مدفوع"]
[null,null,null,null,null,null,null,null,null,null,null,null,null,null,0,{"$f":"IF(L1253=0,0,IF(L1253<=5.5,150000,IF(L1253<=10.5,230000,IF(L1253<=15.5,300000,IF(L1253<=20.5,350000,IF(L1253<=25.5,400000,IF(L1253<=30.5,450000,IF(L1253<=35.5,500000,IF(L1253<=40.5,550000,IF(L1253<=45.5,600000,IF(L1253<=50.5,650000,IF(L1253<=55.5,700000,IF(L1253<=60.5,750000)))))))))))))","v":0},0,0,null,null,null,0,"مدفوع"]
[null,null,null,null,null,null,null,null,null,null,null,null,null,null,0,0,0,0,null,null,null,0,"مدفوع"]
[null,null,null,null,null,null,null,null,null,null,null,null,null,null,0,0,0,0,null,null,null,0,"مدفوع"]
[null,null,null,null,null,null,null,null,null,null,null,null,null,null,0,0,0,0,null,null,null,0,"مدفوع"]
[null,null,null,null,null,null,null,null,null,null,null,null,null,null,0,0,0,0,null,null,null,0,"مدفوع"]
[null,null,null,null,null,null,null,null,null,null,null,null,null,null,0,0,0,0,null,null,null,0,"مدفوع"]
[null,null,null,null,null,null,null,null,null,null,null,null,null,null,0,0,0,0,null,null,null,0,"مدفوع"]
[null,null,null,null,null,null,null,null,null,null,null,null,null,null,0,0,0,0,null,null,null,0,"مدفوع"]
[null,null,null,null,null,null,null,null,null,null,null,null,null,null,0,0,0,0,null,null,null,0,"مدفوع"]
[null,null,null,null,null,null,null,null,null,null,null,null,null,null,0,0,0,0,null,null,null,0,"مدفوع"]
[null,null,null,null,null,null,null,null,null,null,null,null,null,null,0,0,0,0,null,null,null,0,"مدفوع"]
[null,null,null,null,null,null,null,null,null,null,null,null,null,null,0,0,0,0,null,null,null,0,"مدفوع"]
[null,null,null,null,null,null,null,null,null,null,null,null,null,null,0,0,0,0,null,null,null,0,"مدفوع"]
[null,null,null,null,null,null,null,null,null,null,null,null,null,null,0,0,0,0,null,null,null,0,"مدفوع"]
[null,null,null,null,null,null,null,null,null,null,null,null,null,null,0,0,0,0,null,null,null,0,"مدفوع"]
[null,null,null,null,null,null,null,null,null,null,null,null,null,null,0,0,0,0,null,null,null,0,"مدفوع"]
[null,null,null,null,null,null,null,null,null,null,null,null,null,null,0,0,0,0,null,null,null,0,"مدفوع"]
[null,null,null,null,null,null,null,null,null,null,null,null,null,null,0,0,0,0,null,null,null,0,"مدفوع"]
[null,null,null,null,null,null,null,null,null,null,null,null,null,null,0,0,0,0,null,null,null,0,"مدفوع"]
[null,null,null,null,null,null,null,null,null,null,null,null,null,null,0,0,0,0,null,null,null,0,"مدفوع"]
[null,null,null,null,null,null,null,null,null,null,null,null,null,null,0,0,0,0,null,null,null,0,"مدفوع"]
[null,null,null,null,null,null,null,null,null,null,null,null,null,null,0,0,0,0,null,null,null,0,"مدفوع"]
[null,null,null,null,null,null,null,null,null,null,null,null,null,null,0,0,0,0,null,null,null,0,"مدفوع"]
[null,null,null,null,null,null,null,null,null,null,null,null,null,null,0,0,0,0,null,null,null,0,"مدفوع"]
[null,null,null,null,null,null,null,null,null,null,null,null,null,null,0,0,0,0,null,null,null,0,"مدفوع"]
[null,null,null,null,null,null,null,null,null,null,null,null,null,null,0,0,0,0,null,null,null,0,"مدفوع"]
[null,null,null,null,null,null,null,null,null,null,null,null,null,null,0,0,0,0,null,null,null,0,"مدفوع"]
[null,null,null,null,null,null,null,null,null,null,null,null,null,null,0,0,0,0,null,null,null,0,"مدفوع"]
[null,null,null,null,null,null,null,null,null,null,null,null,null,null,0,0,0,0,null,null,null,0,"مدفوع"]
[null,null,null,null,null,null,null,null,null,null,null,null,null,null,0,0,0,0,null,null,null,0,"مدفوع"]
[null,null,null,null,null,null,null,null,null,null,null,null,null,null,0,0,0,0,null,null,null,0,"مدفوع"]
[null,null,null,null,null,null,null,null,null,null,null,null,null,null,0,0,0,0,null,null,null,0,"مدفوع"]
[null,null,null,null,null,null,null,null,null,null,null,null,null,null,0,0,0,0,null,null,null,0,"مدفوع"]
[null,null,null,null,null,null,null,null,null,null,null,null,null,null,0,0,0,0,null,null,null,0,"مدفوع"]
[null,null,null,null,null,null,null,null,null,null,null,null,null,null,0,0,0,0,null,null,null,0,"مدفوع"]
[null,null,null,null,null,null,null,null,null,null,null,null,null,null,0,0,0,0,null,null,null,0,"مدفوع"]
[null,null,null,null,null,null,null,null,null,null,null,null,null,null,0,0,0,0,null,null,null,0,"مدفوع"]
[null,null,null,null,null,null,null,null,null,null,null,null,null,null,0,0,0,0,null,null,null,0,"مدفوع"]
[null,null,null,null,null,null,null,null,null,null,null,null,null,null,0,0,0,0,null,null,null,0,"مدفوع"]
[null,null,null,null,null,null,null,null,null,null,null,null,null,null,0,0,0,0,null,null,null,0,"مدفوع"]
[null,null,null,null,null,null,null,null,null,null,null,null,null,null,0,0,0,0,null,null,null,0,"مدفوع"]
[null,null,null,null,null,null,null,null,null,null,null,null,null,null,0,0,0,0,null,null,null,0,"مدفوع"]
[null,null,null,null,null,null,null,null,null,null,null,null,null,null,0,0,0,0,null,null,null,0,"مدفوع"]
[null,null,null,null,null,null,null,null,null,null,null,null,null,null,0,0,0,0,null,null,null,0,"مدفوع"]
[null,null,null,null,null,null,null,null,null,null,null,null,null,null,0,0,0,0,null,null,null,0,"مدفوع"]
[null,null,null,null,null,null,null,null,null,null,null,null,null,null,0,0,0,0,null,null,null,0,"مدفوع"]
[null,null,null,null,null,null,null,null,null,null,null,null,null,null,0,0,0,0,null,null,null,0,"مدفوع"]
[null,null,null,null,null,null,null,null,null,null,null,null,null,null,0,0,0,0,null,null,null,0,"مدفوع"]
[null,null,null,null,null,null,null,null,null,null,null,null,null,null,0,0,0,0,null,null,null,0,"مدفوع"]
[null,null,null,null,null,null,null,null,null,null,null,null,null,null,0,0,0,0,null,null,null,0,"مدفوع"]
[null,null,null,null,null,null,null,null,null,null,null,null,null,null,0,0,0,0,null,null,null,0,"مدفوع"]
[null,null,null,null,null,null,null,null,null,null,null,null,null,null,0,0,0,0,null,null,null,0,"مدفوع"]
[null,null,null,null,null,null,null,null,null,null,null,null,null,null,0,0,0,0,null,null,null,0,"مدفوع"]
[null,null,null,null,null,null,null,null,null,null,null,null,null,null,0,0,0,0,null,null,null,0,"مدفوع"]
[null,null,null,null,null,null,null,null,null,null,null,null,null,null,0,0,0,0,null,null,null,0,"مدفوع"]
[null,null,null,null,null,null,null,null,null,null,null,null,null,null,0,0,0,0,null,null,null,0,"مدفوع"]
[null,null,null,null,null,null,null,null,null,null,null,null,null,null,0,0,0,0,null,null,null,0,"مدفوع"]
[null,null,null,null,null,null,null,null,null,null,null,null,null,null,0,0,0,0,null,null,null,0,"مدفوع"]
[null,null,null,null,null,null,null,null,null,null,null,null,null,null,0,0,0,0,null,null,null,0,"مدفوع"]
[null,null,null,null,null,null,null,null,null,null,null,null,null,null,0,0,0,0,null,null,null,0,"مدفوع"]
[null,null,null,null,null,null,null,null,null,null,null,null,null,null,0,0,0,0,null,null,null,0,"مدفوع"]
[null,null,null,null,null,null,null,null,null,null,null,null,null,null,0,0,0,0,null,null,null,0,"مدفوع"]
[null,null,null,null,null,null,null,null,null,null,null,null,null,null,{"$f":"SUM(M1315-N1315)","v":0},0,{"$f":"SUM(K1315*150000/2.5)","v":0},{"$f":"SUM(O1315*4000)","v":0},null,null,null,{"$f":"SUM(P1315:S1315)-T1315","v":0},{"$f":"IF(V1315<=0,\"مدفوع\",\"غير مدفوع\")","v":"مدفوع"}]
[null,null,null,null,null,null,null,null,null,null,null,null,null,null,0,0,0,0,null,null,null,0,"مدفوع"]
[null,null,null,null,null,null,null,null,null,null,null,null,null,null,0,{"$f":"IF(L1317=0,0,IF(L1317<=5.5,150000,IF(L1317<=10.5,230000,IF(L1317<=15.5,300000,IF(L1317<=20.5,350000,IF(L1317<=25.5,400000,IF(L1317<=30.5,450000,IF(L1317<=35.5,500000,IF(L1317<=40.5,550000,IF(L1317<=45.5,600000,IF(L1317<=50.5,650000,IF(L1317<=55.5,700000,IF(L1317<=60.5,750000)))))))))))))","v":0},0,0,null,null,null,0,"مدفوع"]
[null,null,null,null,null,null,null,null,null,null,null,null,null,null,0,0,0,0,null,null,null,0,"مدفوع"]
[null,null,null,null,null,null,null,null,null,null,null,null,null,null,0,0,0,0,null,null,null,0,"مدفوع"]
[null,null,null,null,null,null,null,null,null,null,null,null,null,null,0,0,0,0,null,null,null,0,"مدفوع"]
[null,null,null,null,null,null,null,null,null,null,null,null,null,null,0,0,0,0,null,null,null,0,"مدفوع"]
[null,null,null,null,null,null,null,null,null,null,null,null,null,null,0,0,0,0,null,null,null,0,"مدفوع"]
[null,null,null,null,null,null,null,null,null,null,null,null,null,null,0,0,0,0,null,null,null,0,"مدفوع"]
[null,null,null,null,null,null,null,null,null,null,null,null,null,null,0,0,0,0,null,null,null,0,"مدفوع"]
[null,null,null,null,null,null,null,null,null,null,null,null,null,null,0,0,0,0,null,null,null,0,"مدفوع"]
[null,null,null,null,null,null,null,null,null,null,null,null,null,null,0,0,0,0,null,null,null,0,"مدفوع"]
[null,null,null,null,null,null,null,null,null,null,null,null,null,null,0,0,0,0,null,null,null,0,"مدفوع"]
[null,null,null,null,null,null,null,null,null,null,null,null,null,null,0,0,0,0,null,null,null,0,"مدفوع"]
[null,null,null,null,null,null,null,null,null,null,null,null,null,null,0,0,0,0,null,null,null,0,"مدفوع"]
[null,null,null,null,null,null,null,null,null,null,null,null,null,null,0,0,0,0,null,null,null,0,"مدفوع"]
[null,null,null,null,null,null,null,null,null,null,null,null,null,null,0,0,0,0,null,null,null,0,"مدفوع"]
[null,null,null,null,null,null,null,null,null,null,null,null,null,null,0,0,0,0,null,null,null,0,"مدفوع"]
[null,null,null,null,null,null,null,null,null,null,null,null,null,null,0,0,0,0,null,null,null,0,"مدفوع"]
[null,null,null,null,null,null,null,null,null,null,null,null,null,null,0,0,0,0,null,null,null,0,"مدفوع"]
[null,null,null,null,null,null,null,null,null,null,null,null,null,null,0,0,0,0,null,null,null,0,"مدفوع"]
[null,null,null,null,null,null,null,null,null,null,null,null,null,null,0,0,0,0,null,null,null,0,"مدفوع"]
[null,null,null,null,null,null,null,null,null,null,null,null,null,null,0,0,0,0,null,null,null,0,"مدفوع"]
[null,null,null,null,null,null,null,null,null,null,null,null,null,null,0,0,0,0,null,null,null,0,"مدفوع"]
[null,null,null,null,null,null,null,null,null,null,null,null,null,null,0,0,0,0,null,null,null,0,"مدفوع"]
[null,null,null,null,null,null,null,null,null,null,null,null,null,null,0,0,0,0,null,null,null,0,"مدفوع"]
[null,null,null,null,null,null,null,null,null,null,null,null,null,null,0,0,0,0,null,null,null,0,"مدفوع"]
[null,null,null,null,null,null,null,null,null,null,null,null,null,null,0,0,0,0,null,null,null,0,"مدفوع"]
[null,null,null,null,null,null,null,null,null,null,null,null,null,null,0,0,0,0,null,null,null,0,"مدفوع"]
[null,null,null,null,null,null,null,null,null,null,null,null,null,null,0,0,0,0,null,null,null,0,"مدفوع"]
[null,null,null,null,null,null,null,null,null,null,null,null,null,null,0,0,0,0,null,null,null,0,"مدفوع"]
[null,null,null,null,null,null,null,null,null,null,null,null,null,null,0,0,0,0,null,null,null,0,"مدفوع"]
[null,null,null,null,null,null,null,null,null,null,null,null,null,null,0,0,0,0,null,null,null,0,"مدفوع"]
[null,null,null,null,null,null,null,null,null,null,null,null,null,null,0,0,0,0,null,null,null,0,"مدفوع"]
[null,null,null,null,null,null,null,null,null,null,null,null,null,null,0,0,0,0,null,null,null,0,"مدفوع"]
[null,null,null,null,null,null,null,null,null,null,null,null,null,null,0,0,0,0,null,null,null,0,"مدفوع"]
[null,null,null,null,null,null,null,null,null,null,null,null,null,null,0,0,0,0,null,null,null,0,"مدفوع"]
[null,null,null,null,null,null,null,null,null,null,null,null,null,null,0,0,0,0,null,null,null,0,"مدفوع"]
[null,null,null,null,null,null,null,null,null,null,null,null,null,null,0,0,0,0,null,null,null,0,"مدفوع"]
[null,null,null,null,null,null,null,null,null,null,null,null,null,null,0,0,0,0,null,null,null,0,"مدفوع"]
[null,null,null,null,null,null,null,null,null,null,null,null,null,null,0,0,0,0,null,null,null,0,"مدفوع"]
[null,null,null,null,null,null,null,null,null,null,null,null,null,null,0,0,0,0,null,null,null,0,"مدفوع"]
[null,null,null,null,null,null,null,null,null,null,null,null,null,null,0,0,0,0,null,null,null,0,"مدفوع"]
[null,null,null,null,null,null,null,null,null,null,null,null,null,null,0,0,0,0,null,null,null,0,"مدفوع"]
[null,null,null,null,null,null,null,null,null,null,null,null,null,null,0,0,0,0,null,null,null,0,"مدفوع"]
[null,null,null,null,null,null,null,null,null,null,null,null,null,null,0,0,0,0,null,null,null,0,"مدفوع"]
[null,null,null,null,null,null,null,null,null,null,null,null,null,null,0,0,0,0,null,null,null,0,"مدفوع"]
[null,null,null,null,null,null,null,null,null,null,null,null,null,null,0,0,0,0,null,null,null,0,"مدفوع"]
[null,null,null,null,null,null,null,null,null,null,null,null,null,null,0,0,0,0,null,null,null,0,"مدفوع"]
[null,null,null,null,null,null,null,null,null,null,null,null,null,null,0,0,0,0,null,null,null,0,"مدفوع"]
[null,null,null,null,null,null,null,null,null,null,null,null,null,null,0,0,0,0,null,null,null,0,"مدفوع"]
[null,null,null,null,null,null,null,null,null,null,null,null,null,null,0,0,0,0,null,null,null,0,"مدفوع"]
[null,null,null,null,null,null,null,null,null,null,null,null,null,null,0,0,0,0,null,null,null,0,"مدفوع"]
[null,null,null,null,null,null,null,null,null,null,null,null,null,null,0,0,0,0,null,null,null,0,"مدفوع"]
[null,null,null,null,null,null,null,null,null,null,null,null,null,null,0,0,0,0,null,null,null,0,"مدفوع"]
[null,null,null,null,null,null,null,null,null,null,null,null,null,null,0,0,0,0,null,null,null,0,"مدفوع"]
[null,null,null,null,null,null,null,null,null,null,null,null,null,null,0,0,0,0,null,null,null,0,"مدفوع"]
[null,null,null,null,null,null,null,null,null,null,null,null,null,null,0,0,0,0,null,null,null,0,"مدفوع"]
[null,null,null,null,null,null,null,null,null,null,null,null,null,null,0,0,0,0,null,null,null,0,"مدفوع"]
[null,null,null,null,null,null,null,null,null,null,null,null,null,null,0,0,0,0,null,null,null,0,"مدفوع"]
[null,null,null,null,null,null,null,null,null,null,null,null,null,null,0,0,0,0,null,null,null,0,"مدفوع"]
[null,null,null,null,null,null,null,null,null,null,null,null,null,null,0,0,0,0,null,null,null,0,"مدفوع"]
[null,null,null,null,null,null,null,null,null,null,null,null,null,null,0,0,0,0,null,null,null,0,"مدفوع"]
[null,null,null,null,null,null,null,null,null,null,null,null,null,null,0,0,0,0,null,null,null,0,"مدفوع"]
[null,null,null,null,null,null,null,null,null,null,null,null,null,null,{"$f":"SUM(M1379-N1379)","v":0},0,{"$f":"SUM(K1379*150000/2.5)","v":0},{"$f":"SUM(O1379*4000)","v":0},null,null,null,{"$f":"SUM(P1379:S1379)-T1379","v":0},{"$f":"IF(V1379<=0,\"مدفوع\",\"غير مدفوع\")","v":"مدفوع"}]
[null,null,null,null,null,null,null,null,null,null,null,null,null,null,0,0,0,0,null,null,null,0,"مدفوع"]
[null,null,null,null,null,null,null,null,null,null,null,null,null,null,0,{"$f":"IF(L1381=0,0,IF(L1381<=5.5,150000,IF(L1381<=10.5,230000,IF(L1381<=15.5,300000,IF(L1381<=20.5,350000,IF(L1381<=25.5,400000,IF(L1381<=30.5,450000,IF(L1381<=35.5,500000,IF(L1381<=40.5,550000,IF(L1381<=45.5,600000,IF(L1381<=50.5,650000,IF(L1381<=55.5,700000,IF(L1381<=60.5,750000)))))))))))))","v":0},0,0,null,null,null,0,"مدفوع"]
[null,null,null,null,null,null,null,null,null,null,null,null,null,null,0,0,0,0,null,null,null,0,"مدفوع"]
[null,null,null,null,null,null,null,null,null,null,null,null,null,null,0,0,0,0,null,null,null,0,"مدفوع"]
[null,null,null,null,null,null,null,null,null,null,null,null,null,null,0,0,0,0,null,null,null,0,"مدفوع"]
[null,null,null,null,null,null,null,null,null,null,null,null,null,null,0,0,0,0,null,null,null,0,"مدفوع"]
[null,null,null,null,null,null,null,null,null,null,null,null,null,null,0,0,0,0,null,null,null,0,"مدفوع"]
[null,null,null,null,null,null,null,null,null,null,null,null,null,null,0,0,0,0,null,null,null,0,"مدفوع"]
[null,null,null,null,null,null,null,null,null,null,null,null,null,null,0,0,0,0,null,null,null,0,"مدفوع"]
[null,null,null,null,null,null,null,null,null,null,null,null,null,null,0,0,0,0,null,null,null,0,"مدفوع"]
[null,null,null,null,null,null,null,null,null,null,null,null,null,null,0,0,0,0,null,null,null,0,"مدفوع"]
[null,null,null,null,null,null,null,null,null,null,null,null,null,null,0,0,0,0,null,null,null,0,"مدفوع"]
[null,null,null,null,null,null,null,null,null,null,null,null,null,null,0,0,0,0,null,null,null,0,"مدفوع"]
[null,null,null,null,null,null,null,null,null,null,null,null,null,null,0,0,0,0,null,null,null,0,"مدفوع"]
[null,null,null,null,null,null,null,null,null,null,null,null,null,null,0,0,0,0,null,null,null,0,"مدفوع"]
[null,null,null,null,null,null,null,null,null,null,null,null,null,null,0,0,0,0,null,null,null,0,"مدفوع"]
[null,null,null,null,null,null,null,null,null,null,null,null,null,null,0,0,0,0,null,null,null,0,"مدفوع"]
[null,null,null,null,null,null,null,null,null,null,null,null,null,null,0,0,0,0,null,null,null,0,"مدفوع"]
[null,null,null,null,null,null,null,null,null,null,null,null,null,null,0,0,0,0,null,null,null,0,"مدفوع"]
[null,null,null,null,null,null,null,null,null,null,null,null,null,null,0,0,0,0,null,null,null,0,"مدفوع"]
[null,null,null,null,null,null,null,null,null,null,null,null,null,null,0,0,0,0,null,null,null,0,"مدفوع"]
[null,null,null,null,null,null,null,null,null,null,null,null,null,null,0,0,0,0,null,null,null,0,"مدفوع"]
[null,null,null,null,null,null,null,null,null,null,null,null,null,null,0,0,0,0,null,null,null,0,"مدفوع"]
[null,null,null,null,null,null,null,null,null,null,null,null,null,null,0,0,0,0,null,null,null,0,"مدفوع"]
[null,null,null,null,null,null,null,null,null,null,null,null,null,null,0,0,0,0,null,null,null,0,"مدفوع"]
[null,null,null,null,null,null,null,null,null,null,null,null,null,null,0,0,0,0,null,null,null,0,"مدفوع"]
[null,null,null,null,null,null,null,null,null,null,null,null,null,null,0,0,0,0,null,null,null,0,"مدفوع"]
[null,null,null,null,null,null,null,null,null,null,null,null,null,null,0,0,0,0,null,null,null,0,"مدفوع"]
[null,null,null,null,null,null,null,null,null,null,null,null,null,null,0,0,0,0,null,null,null,0,"مدفوع"]
[null,null,null,null,null,null,null,null,null,null,null,null,null,null,0,0,0,0,null,null,null,0,"مدفوع"]
[null,null,null,null,null,null,null,null,null,null,null,null,null,null,0,0,0,0,null,null,null,0,"مدفوع"]
[null,null,null,null,null,null,null,null,null,null,null,null,null,null,0,0,0,0,null,null,null,0,"مدفوع"]
[null,null,null,null,null,null,null,null,null,null,null,null,null,null,0,0,0,0,null,null,null,0,"مدفوع"]
[null,null,null,null,null,null,null,null,null,null,null,null,null,null,0,0,0,0,null,null,null,0,"مدفوع"]
[null,null,null,null,null,null,null,null,null,null,null,null,null,null,0,0,0,0,null,null,null,0,"مدفوع"]
[null,null,null,null,null,null,null,null,null,null,null,null,null,null,0,0,0,0,null,null,null,0,"مدفوع"]
[null,null,null,null,null,null,null,null,null,null,null,null,null,null,0,0,0,0,null,null,null,0,"مدفوع"]
[null,null,null,null,null,null,null,null,null,null,null,null,null,null,0,0,0,0,null,null,null,0,"مدفوع"]
[null,null,null,null,null,null,null,null,null,null,null,null,null,null,0,0,0,0,null,null,null,0,"مدفوع"]
[null,null,null,null,null,null,null,null,null,null,null,null,null,null,0,0,0,0,null,null,null,0,"مدفوع"]
[null,null,null,null,null,null,null,null,null,null,null,null,null,null,0,0,0,0,null,null,null,0,"مدفوع"]
[null,null,null,null,null,null,null,null,null,null,null,null,null,null,0,0,0,0,null,null,null,0,"مدفوع"]
[null,null,null,null,null,null,null,null,null,null,null,null,null,null,0,0,0,0,null,null,null,0,"مدفوع"]
[null,null,null,null,null,null,null,null,null,null,null,null,null,null,0,0,0,0,null,null,null,0,"مدفوع"]
[null,null,null,null,null,null,null,null,null,null,null,null,null,null,0,0,0,0,null,null,null,0,"مدفوع"]
[null,null,null,null,null,null,null,null,null,null,null,null,null,null,0,0,0,0,null,null,null,0,"مدفوع"]
[null,null,null,null,null,null,null,null,null,null,null,null,null,null,0,0,0,0,null,null,null,0,"مدفوع"]
[null,null,null,null,null,null,null,null,null,null,null,null,null,null,0,0,0,0,null,null,null,0,"مدفوع"]
[null,null,null,null,null,null,null,null,null,null,null,null,null,null,0,0,0,0,null,null,null,0,"مدفوع"]
[null,null,null,null,null,null,null,null,null,null,null,null,null,null,0,0,0,0,null,null,null,0,"مدفوع"]
[null,null,null,null,null,null,null,null,null,null,null,null,null,null,0,0,0,0,null,null,null,0,"مدفوع"]
[null,null,null,null,null,null,null,null,null,null,null,null,null,null,0,0,0,0,null,null,null,0,"مدفوع"]
[null,null,null,null,null,null,null,null,null,null,null,null,null,null,0,0,0,0,null,null,null,0,"مدفوع"]
[null,null,null,null,null,null,null,null,null,null,null,null,null,null,0,0,0,0,null,null,null,0,"مدفوع"]
[null,null,null,null,null,null,null,null,null,null,null,null,null,null,0,0,0,0,null,null,null,0,"مدفوع"]
[null,null,null,null,null,null,null,null,null,null,null,null,null,null,0,0,0,0,null,null,null,0,"مدفوع"]
[null,null,null,null,null,null,null,null,null,null,null,null,null,null,0,0,0,0,null,null,null,0,"مدفوع"]
[null,null,null,null,null,null,null,null,null,null,null,null,null,null,0,0,0,0,null,null,null,0,"مدفوع"]
[null,null,null,null,null,null,null,null,null,null,null,null,null,null,0,0,0,0,null,null,null,0,"مدفوع"]
[null,null,null,null,null,null,null,null,null,null,null,null,null,null,0,0,0,0,null,null,null,0,"مدفوع"]
[null,null,null,null,null,null,null,null,null,null,null,null,null,null,0,0,0,0,null,null,null,0,"مدفوع"]
[null,null,null,null,null,null,null,null,null,null,null,null,null,null,0,0,0,0,null,null,null,0,"مدفوع"]
[null,null,null,null,null,null,null,null,null,null,null,null,null,null,0,0,0,0,null,null,null,0,"مدفوع"]
[null,null,null,null,null,null,null,null,null,null,null,null,null,null,{"$f":"SUM(M1443-N1443)","v":0},0,{"$f":"SUM(K1443*150000/2.5)","v":0},{"$f":"SUM(O1443*4000)","v":0},null,null,null,{"$f":"SUM(P1443:S1443)-T1443","v":0},{"$f":"IF(V1443<=0,\"مدفوع\",\"غير مدفوع\")","v":"مدفوع"}]
[null,null,null,null,null,null,null,null,null,null,null,null,null,null,0,0,0,0,null,null,null,0,"مدفوع"]
[null,null,null,null,null,null,null,null,null,null,null,null,null,null,0,{"$f":"IF(L1445=0,0,IF(L1445<=5.5,150000,IF(L1445<=10.5,230000,IF(L1445<=15.5,300000,IF(L1445<=20.5,350000,IF(L1445<=25.5,400000,IF(L1445<=30.5,450000,IF(L1445<=35.5,500000,IF(L1445<=40.5,550000,IF(L1445<=45.5,600000,IF(L1445<=50.5,650000,IF(L1445<=55.5,700000,IF(L1445<=60.5,750000)))))))))))))","v":0},0,0,null,null,null,0,"مدفوع"]
[null,null,null,null,null,null,null,null,null,null,null,null,null,null,0,0,0,0,null,null,null,0,"مدفوع"]
[null,null,null,null,null,null,null,null,null,null,null,null,null,null,0,0,0,0,null,null,null,0,"مدفوع"]
[null,null,null,null,null,null,null,null,null,null,null,null,null,null,0,0,0,0,null,null,null,0,"مدفوع"]
[null,null,null,null,null,null,null,null,null,null,null,null,null,null,0,0,0,0,null,null,null,0,"مدفوع"]
[null,null,null,null,null,null,null,null,null,null,null,null,null,null,0,0,0,0,null,null,null,0,"مدفوع"]
[null,null,null,null,null,null,null,null,null,null,null,null,null,null,0,0,0,0,null,null,null,0,"مدفوع"]
[null,null,null,null,null,null,null,null,null,null,null,null,null,null,0,0,0,0,null,null,null,0,"مدفوع"]
[null,null,null,null,null,null,null,null,null,null,null,null,null,null,0,0,0,0,null,null,null,0,"مدفوع"]
[null,null,null,null,null,null,null,null,null,null,null,null,null,null,0,0,0,0,null,null,null,0,"مدفوع"]
[null,null,null,null,null,null,null,null,null,null,null,null,null,null,0,0,0,0,null,null,null,0,"مدفوع"]
[null,null,null,null,null,null,null,null,null,null,null,null,null,null,0,0,0,0,null,null,null,0,"مدفوع"]
[null,null,null,null,null,null,null,null,null,null,null,null,null,null,0,0,0,0,null,null,null,0,"مدفوع"]
[null,null,null,null,null,null,null,null,null,null,null,null,null,null,0,0,0,0,null,null,null,0,"مدفوع"]
[null,null,null,null,null,null,null,null,null,null,null,null,null,null,0,0,0,0,null,null,null,0,"مدفوع"]
[null,null,null,null,null,null,null,null,null,null,null,null,null,null,0,0,0,0,null,null,null,0,"مدفوع"]
[null,null,null,null,null,null,null,null,null,null,null,null,null,null,0,0,0,0,null,null,null,0,"مدفوع"]
[null,null,null,null,null,null,null,null,null,null,null,null,null,null,0,0,0,0,null,null,null,0,"مدفوع"]
[null,null,null,null,null,null,null,null,null,null,null,null,null,null,0,0,0,0,null,null,null,0,"مدفوع"]
[null,null,null,null,null,null,null,null,null,null,null,null,null,null,0,0,0,0,null,null,null,0,"مدفوع"]
[null,null,null,null,null,null,null,null,null,null,null,null,null,null,0,0,0,0,null,null,null,0,"مدفوع"]
[null,null,null,null,null,null,null,null,null,null,null,null,null,null,0,0,0,0,null,null,null,0,"مدفوع"]
[null,null,null,null,null,null,null,null,null,null,null,null,null,null,0,0,0,0,null,null,null,0,"مدفوع"]
[null,null,null,null,null,null,null,null,null,null,null,null,null,null,0,0,0,0,null,null,null,0,"مدفوع"]
[null,null,null,null,null,null,null,null,null,null,null,null,null,null,0,0,0,0,null,null,null,0,"مدفوع"]
[null,null,null,null,null,null,null,null,null,null,null,null,null,null,0,0,0,0,null,null,null,0,"مدفوع"]
[null,null,null,null,null,null,null,null,null,null,null,null,null,null,0,0,0,0,null,null,null,0,"مدفوع"]
[null,null,null,null,null,null,null,null,null,null,null,null,null,null,0,0,0,0,null,null,null,0,"مدفوع"]
[null,null,null,null,null,null,null,null,null,null,null,null,null,null,0,0,0,0,null,null,null,0,"مدفوع"]
[null,null,null,null,null,null,null,null,null,null,null,null,null,null,0,0,0,0,null,null,null,0,"مدفوع"]
[null,null,null,null,null,null,null,null,null,null,null,null,null,null,0,0,0,0,null,null,null,0,"مدفوع"]
[null,null,null,null,null,null,null,null,null,null,null,null,null,null,0,0,0,0,null,null,null,0,"مدفوع"]
[null,null,null,null,null,null,null,null,null,null,null,null,null,null,0,0,0,0,null,null,null,0,"مدفوع"]
[null,null,null,null,null,null,null,null,null,null,null,null,null,null,0,0,0,0,null,null,null,0,"مدفوع"]
[null,null,null,null,null,null,null,null,null,null,null,null,null,null,0,0,0,0,null,null,null,0,"مدفوع"]
[null,null,null,null,null,null,null,null,null,null,null,null,null,null,0,0,0,0,null,null,null,0,"مدفوع"]
[null,null,null,null,null,null,null,null,null,null,null,null,null,null,0,0,0,0,null,null,null,0,"مدفوع"]
[null,null,null,null,null,null,null,null,null,null,null,null,null,null,0,0,0,0,null,null,null,0,"مدفوع"]
[null,null,null,null,null,null,null,null,null,null,null,null,null,null,0,0,0,0,null,null,null,0,"مدفوع"]
[null,null,null,null,null,null,null,null,null,null,null,null,null,null,0,0,0,0,null,null,null,0,"مدفوع"]
[null,null,null,null,null,null,null,null,null,null,null,null,null,null,0,0,0,0,null,null,null,0,"مدفوع"]
[null,null,null,null,null,null,null,null,null,null,null,null,null,null,0,0,0,0,null,null,null,0,"مدفوع"]
[null,null,null,null,null,null,null,null,null,null,null,null,null,null,0,0,0,0,null,null,null,0,"مدفوع"]
[null,null,null,null,null,null,null,null,null,null,null,null,null,null,0,0,0,0,null,null,null,0,"مدفوع"]
[null,null,null,null,null,null,null,null,null,null,null,null,null,null,0,0,0,0,null,null,null,0,"مدفوع"]
[null,null,null,null,null,null,null,null,null,null,null,null,null,null,0,0,0,0,null,null,null,0,"مدفوع"]
[null,null,null,null,null,null,null,null,null,null,null,null,null,null,0,0,0,0,null,null,null,0,"مدفوع"]
[null,null,null,null,null,null,null,null,null,null,null,null,null,null,0,0,0,0,null,null,null,0,"مدفوع"]
[null,null,null,null,null,null,null,null,null,null,null,null,null,null,0,0,0,0,null,null,null,0,"مدفوع"]
[null,null,null,null,null,null,null,null,null,null,null,null,null,null,0,0,0,0,null,null,null,0,"مدفوع"]
[null,null,null,null,null,null,null,null,null,null,null,null,null,null,0,0,0,0,null,null,null,0,"مدفوع"]
[null,null,null,null,null,null,null,null,null,null,null,null,null,null,0,0,0,0,null,null,null,0,"مدفوع"]
[null,null,null,null,null,null,null,null,null,null,null,null,null,null,0,0,0,0,null,null,null,0,"مدفوع"]
[null,null,null,null,null,null,null,null,null,null,null,null,null,null,0,0,0,0,null,null,null,0,"مدفوع"]
[null,null,null,null,null,null,null,null,null,null,null,null,null,null,0,0,0,0,null,null,null,0,"مدفوع"]
[null,null,null,null,null,null,null,null,null,null,null,null,null,null,0,0,0,0,null,null,null,0,"مدفوع"]
[null,null,null,null,null,null,null,null,null,null,null,null,null,null,0,0,0,0,null,null,null,0,"مدفوع"]
[null,null,null,null,null,null,null,null,null,null,null,null,null,null,0,0,0,0,null,null,null,0,"مدفوع"]
[null,null,null,null,null,null,null,null,null,null,null,null,null,null,0,0,0,0,null,null,null,0,"مدفوع"]
[null,null,null,null,null,null,null,null,null,null,null,null,null,null,0,0,0,0,null,null,null,0,"مدفوع"]
[null,null,null,null,null,null,null,null,null,null,null,null,null,null,0,0,0,0,null,null,null,0,"مدفوع"]
[null,null,null,null,null,null,null,null,null,null,null,null,null,null,0,0,0,0,null,null,null,0,"مدفوع"]
[null,null,null,null,null,null,null,null,null,null,null,null,null,null,{"$f":"SUM(M1507-N1507)","v":0},0,{"$f":"SUM(K1507*150000/2.5)","v":0},{"$f":"SUM(O1507*4000)","v":0},null,null,null,{"$f":"SUM(P1507:S1507)-T1507","v":0},{"$f":"IF(V1507<=0,\"مدفوع\",\"غير مدفوع\")","v":"مدفوع"}]
[null,null,null,null,null,null,null,null,null,null,null,null,null,null,0,0,0,0,null,null,null,0,"مدفوع"]
[null,null,null,null,null,null,null,null,null,null,null,null,null,null,0,{"$f":"IF(L1509=0,0,IF(L1509<=5.5,150000,IF(L1509<=10.5,230000,IF(L1509<=15.5,300000,IF(L1509<=20.5,350000,IF(L1509<=25.5,400000,IF(L1509<=30.5,450000,IF(L1509<=35.5,500000,IF(L1509<=40.5,550000,IF(L1509<=45.5,600000,IF(L1509<=50.5,650000,IF(L1509<=55.5,700000,IF(L1509<=60.5,750000)))))))))))))","v":0},0,0,null,null,null,0,"مدفوع"]
[null,null,null,null,null,null,null,null,null,null,null,null,null,null,0,0,0,0,null,null,null,0,"مدفوع"]
[null,null,null,null,null,null,null,null,null,null,null,null,null,null,0,0,0,0,null,null,null,0,"مدفوع"]
[null,null,null,null,null,null,null,null,null,null,null,null,null,null,0,0,0,0,null,null,null,0,"مدفوع"]
[null,null,null,null,null,null,null,null,null,null,null,null,null,null,0,0,0,0,null,null,null,0,"مدفوع"]
[null,null,null,null,null,null,null,null,null,null,null,null,null,null,0,0,0,0,null,null,null,0,"مدفوع"]
[null,null,null,null,null,null,null,null,null,null,null,null,null,null,0,0,0,0,null,null,null,0,"مدفوع"]
[null,null,null,null,null,null,null,null,null,null,null,null,null,null,0,0,0,0,null,null,null,0,"مدفوع"]
[null,null,null,null,null,null,null,null,null,null,null,null,null,null,0,0,0,0,null,null,null,0,"مدفوع"]
[null,null,null,null,null,null,null,null,null,null,null,null,null,null,0,0,0,0,null,null,null,0,"مدفوع"]
[null,null,null,null,null,null,null,null,null,null,null,null,null,null,0,0,0,0,null,null,null,0,"مدفوع"]
[null,null,null,null,null,null,null,null,null,null,null,null,null,null,0,0,0,0,null,null,null,0,"مدفوع"]
[null,null,null,null,null,null,null,null,null,null,null,null,null,null,0,0,0,0,null,null,null,0,"مدفوع"]
[null,null,null,null,null,null,null,null,null,null,null,null,null,null,0,0,0,0,null,null,null,0,"مدفوع"]
[null,null,null,null,null,null,null,null,null,null,null,null,null,null,0,0,0,0,null,null,null,0,"مدفوع"]
[null,null,null,null,null,null,null,null,null,null,null,null,null,null,0,0,0,0,null,null,null,0,"مدفوع"]
[null,null,null,null,null,null,null,null,null,null,null,null,null,null,0,0,0,0,null,null,null,0,"مدفوع"]
[null,null,null,null,null,null,null,null,null,null,null,null,null,null,0,0,0,0,null,null,null,0,"مدفوع"]
[null,null,null,null,null,null,null,null,null,null,null,null,null,null,0,0,0,0,null,null,null,0,"مدفوع"]
[null,null,null,null,null,null,null,null,null,null,null,null,null,null,0,0,0,0,null,null,null,0,"مدفوع"]
[null,null,null,null,null,null,null,null,null,null,null,null,null,null,0,0,0,0,null,null,null,0,"مدفوع"]
[null,null,null,null,null,null,null,null,null,null,null,null,null,null,0,0,0,0,null,null,null,0,"مدفوع"]
[null,null,null,null,null,null,null,null,null,null,null,null,null,null,0,0,0,0,null,null,null,0,"مدفوع"]
[null,null,null,null,null,null,null,null,null,null,null,null,null,null,0,0,0,0,null,null,null,0,"مدفوع"]
[null,null,null,null,null,null,null,null,null,null,null,null,null,null,0,0,0,0,null,null,null,0,"مدفوع"]
[null,null,null,null,null,null,null,null,null,null,null,null,null,null,0,0,0,0,null,null,null,0,"مدفوع"]
[null,null,null,null,null,null,null,null,null,null,null,null,null,null,0,0,0,0,null,null,null,0,"مدفوع"]
[null,null,null,null,null,null,null,null,null,null,null,null,null,null,0,0,0,0,null,null,null,0,"مدفوع"]
[null,null,null,null,null,null,null,null,null,null,null,null,null,null,0,0,0,0,null,null,null,0,"مدفوع"]
[null,null,null,null,null,null,null,null,null,null,null,null,null,null,0,0,0,0,null,null,null,0,"مدفوع"]
[null,null,null,null,null,null,null,null,null,null,null,null,null,null,0,0,0,0,null,null,null,0,"مدفوع"]
[null,null,null,null,null,null,null,null,null,null,null,null,null,null,0,0,0,0,null,null,null,0,"مدفوع"]
[null,null,null,null,null,null,null,null,null,null,null,null,null,null,0,0,0,0,null,null,null,0,"مدفوع"]
[null,null,null,null,null,null,null,null,null,null,null,null,null,null,0,0,0,0,null,null,null,0,"مدفوع"]
[null,null,null,null,null,null,null,null,null,null,null,null,null,null,0,0,0,0,null,null,null,0,"مدفوع"]
[null,null,null,null,null,null,null,null,null,null,null,null,null,null,0,0,0,0,null,null,null,0,"مدفوع"]
[null,null,null,null,null,null,null,null,null,null,null,null,null,null,0,0,0,0,null,null,null,0,"مدفوع"]
[null,null,null,null,null,null,null,null,null,null,null,null,null,null,0,0,0,0,null,null,null,0,"مدفوع"]
[null,null,null,null,null,null,null,null,null,null,null,null,null,null,0,0,0,0,null,null,null,0,"مدفوع"]
[null,null,null,null,null,null,null,null,null,null,null,null,null,null,0,0,0,0,null,null,null,0,"مدفوع"]
[null,null,null,null,null,null,null,null,null,null,null,null,null,null,0,0,0,0,null,null,null,0,"مدفوع"]
[null,null,null,null,null,null,null,null,null,null,null,null,null,null,0,0,0,0,null,null,null,0,"مدفوع"]
[null,null,null,null,null,null,null,null,null,null,null,null,null,null,0,0,0,0,null,null,null,0,"مدفوع"]
[null,null,null,null,null,null,null,null,null,null,null,null,null,null,0,0,0,0,null,null,null,0,"مدفوع"]
[null,null,null,null,null,null,null,null,null,null,null,null,null,null,0,0,0,0,null,null,null,0,"مدفوع"]
[null,null,null,null,null,null,null,null,null,null,null,null,null,null,0,0,0,0,null,null,null,0,"مدفوع"]
[null,null,null,null,null,null,null,null,null,null,null,null,null,null,0,0,0,0,null,null,null,0,"مدفوع"]
[null,null,null,null,null,null,null,null,null,null,null,null,null,null,0,0,0,0,null,null,null,0,"مدفوع"]
[null,null,null,null,null,null,null,null,null,null,null,null,null,null,0,0,0,0,null,null,null,0,"مدفوع"]
[null,null,null,null,null,null,null,null,null,null,null,null,null,null,0,0,0,0,null,null,null,0,"مدفوع"]
[null,null,null,null,null,null,null,null,null,null,null,null,null,null,0,0,0,0,null,null,null,0,"مدفوع"]
[null,null,null,null,null,null,null,null,null,null,null,null,null,null,0,0,0,0,null,null,null,0,"مدفوع"]
[null,null,null,null,null,null,null,null,null,null,null,null,null,null,0,0,0,0,null,null,null,0,"مدفوع"]
[null,null,null,null,null,null,null,null,null,null,null,null,null,null,0,0,0,0,null,null,null,0,"مدفوع"]
[null,null,null,null,null,null,null,null,null,null,null,null,null,null,0,0,0,0,null,null,null,0,"مدفوع"]
[null,null,null,null,null,null,null,null,null,null,null,null,null,null,0,0,0,0,null,null,null,0,"مدفوع"]
[null,null,null,null,null,null,null,null,null,null,null,null,null,null,0,0,0,0,null,null,null,0,"مدفوع"]
[null,null,null,null,null,null,null,null,null,null,null,null,null,null,0,0,0,0,null,null,null,0,"مدفوع"]
[null,null,null,null,null,null,null,null,null,null,null,null,null,null,0,0,0,0,null,null,null,0,"مدفوع"]
[null,null,null,null,null,null,null,null,null,null,null,null,null,null,0,0,0,0,null,null,null,0,"مدفوع"]
[null,null,null,null,null,null,null,null,null,null,null,null,null,null,0,0,0,0,null,null,null,0,"مدفوع"]
[null,null,null,null,null,null,null,null,null,null,null,null,null,null,0,0,0,0,null,null,null,0,"مدفوع"]
[null,null,null,null,null,null,null,null,null,null,null,null,null,null,{"$f":"SUM(M1571-N1571)","v":0},0,{"$f":"SUM(K1571*150000/2.5)","v":0},{"$f":"SUM(O1571*4000)","v":0},null,null,null,{"$f":"SUM(P1571:S1571)-T1571","v":0},{"$f":"IF(V1571<=0,\"مدفوع\",\"غير مدفوع\")","v":"مدفوع"}]
[null,null,null,null,null,null,null,null,null,null,null,null,null,null,0,0,0,0,null,null,null,0,"مدفوع"]
[null,null,null,null,null,null,null,null,null,null,null,null,null,null,0,{"$f":"IF(L1573=0,0,IF(L1573<=5.5,150000,IF(L1573<=10.5,230000,IF(L1573<=15.5,300000,IF(L1573<=20.5,350000,IF(L1573<=25.5,400000,IF(L1573<=30.5,450000,IF(L1573<=35.5,500000,IF(L1573<=40.5,550000,IF(L1573<=45.5,600000,IF(L1573<=50.5,650000,IF(L1573<=55.5,700000,IF(L1573<=60.5,750000)))))))))))))","v":0},0,0,null,null,null,0,"مدفوع"]
[null,null,null,null,null,null,null,null,null,null,null,null,null,null,0,0,0,0,null,null,null,0,"مدفوع"]
[null,null,null,null,null,null,null,null,null,null,null,null,null,null,0,0,0,0,null,null,null,0,"مدفوع"]
[null,null,null,null,null,null,null,null,null,null,null,null,null,null,0,0,0,0,null,null,null,0,"مدفوع"]
[null,null,null,null,null,null,null,null,null,null,null,null,null,null,0,0,0,0,null,null,null,0,"مدفوع"]
[null,null,null,null,null,null,null,null,null,null,null,null,null,null,0,0,0,0,null,null,null,0,"مدفوع"]
[null,null,null,null,null,null,null,null,null,null,null,null,null,null,0,0,0,0,null,null,null,0,"مدفوع"]
[null,null,null,null,null,null,null,null,null,null,null,null,null,null,0,0,0,0,null,null,null,0,"مدفوع"]
[null,null,null,null,null,null,null,null,null,null,null,null,null,null,0,0,0,0,null,null,null,0,"مدفوع"]
[null,null,null,null,null,null,null,null,null,null,null,null,null,null,0,0,0,0,null,null,null,0,"مدفوع"]
[null,null,null,null,null,null,null,null,null,null,null,null,null,null,0,0,0,0,null,null,null,0,"مدفوع"]
[null,null,null,null,null,null,null,null,null,null,null,null,null,null,0,0,0,0,null,null,null,0,"مدفوع"]
[null,null,null,null,null,null,null,null,null,null,null,null,null,null,0,0,0,0,null,null,null,0,"مدفوع"]
[null,null,null,null,null,null,null,null,null,null,null,null,null,null,0,0,0,0,null,null,null,0,"مدفوع"]
[null,null,null,null,null,null,null,null,null,null,null,null,null,null,0,0,0,0,null,null,null,0,"مدفوع"]
[null,null,null,null,null,null,null,null,null,null,null,null,null,null,0,0,0,0,null,null,null,0,"مدفوع"]
[null,null,null,null,null,null,null,null,null,null,null,null,null,null,0,0,0,0,null,null,null,0,"مدفوع"]
[null,null,null,null,null,null,null,null,null,null,null,null,null,null,0,0,0,0,null,null,null,0,"مدفوع"]
[null,null,null,null,null,null,null,null,null,null,null,null,null,null,0,0,0,0,null,null,null,0,"مدفوع"]
[null,null,null,null,null,null,null,null,null,null,null,null,null,null,0,0,0,0,null,null,null,0,"مدفوع"]
[null,null,null,null,null,null,null,null,null,null,null,null,null,null,0,0,0,0,null,null,null,0,"مدفوع"]
[null,null,null,null,null,null,null,null,null,null,null,null,null,null,0,0,0,0,null,null,null,0,"مدفوع"]
[null,null,null,null,null,null,null,null,null,null,null,null,null,null,0,0,0,0,null,null,null,0,"مدفوع"]
[null,null,null,null,null,null,null,null,null,null,null,null,null,null,0,0,0,0,null,null,null,0,"مدفوع"]
[null,null,null,null,null,null,null,null,null,null,null,null,null,null,0,0,0,0,null,null,null,0,"مدفوع"]
[null,null,null,null,null,null,null,null,null,null,null,null,null,null,0,0,0,0,null,null,null,0,"مدفوع"]
[null,null,null,null,null,null,null,null,null,null,null,null,null,null,0,0,0,0,null,null,null,0,"مدفوع"]
[null,null,null,null,null,null,null,null,null,null,null,null,null,null,0,0,0,0,null,null,null,0,"مدفوع"]
[null,null,null,null,null,null,null,null,null,null,null,null,null,null,0,0,0,0,null,null,null,0,"مدفوع"]
[null,null,null,null,null,null,null,null,null,null,null,null,null,null,0,0,0,0,null,null,null,0,"مدفوع"]
[null,null,null,null,null,null,null,null,null,null,null,null,null,null,0,0,0,0,null,null,null,0,"مدفوع"]
[null,null,null,null,null,null,null,null,null,null,null,null,null,null,0,0,0,0,null,null,null,0,"مدفوع"]
[null,null,null,null,null,null,null,null,null,null,null,null,null,null,0,0,0,0,null,null,null,0,"مدفوع"]
[null,null,null,null,null,null,null,null,null,null,null,null,null,null,0,0,0,0,null,null,null,0,"مدفوع"]
[null,null,null,null,null,null,null,null,null,null,null,null,null,null,0,0,0,0,null,null,null,0,"مدفوع"]
[null,null,null,null,null,null,null,null,null,null,null,null,null,null,0,0,0,0,null,null,null,0,"مدفوع"]
[null,null,null,null,null,null,null,null,null,null,null,null,null,null,0,0,0,0,null,null,null,0,"مدفوع"]
[null,null,null,null,null,null,null,null,null,null,null,null,null,null,0,0,0,0,null,null,null,0,"مدفوع"]
[null,null,null,null,null,null,null,null,null,null,null,null,null,null,0,0,0,0,null,null,null,0,"مدفوع"]
[null,null,null,null,null,null,null,null,null,null,null,null,null,null,0,0,0,0,null,null,null,0,"مدفوع"]
[null,null,null,null,null,null,null,null,null,null,null,null,null,null,0,0,0,0,null,null,null,0,"مدفوع"]
[null,null,null,null,null,null,null,null,null,null,null,null,null,null,0,0,0,0,null,null,null,0,"مدفوع"]
[null,null,null,null,null,null,null,null,null,null,null,null,null,null,0,0,0,0,null,null,null,0,"مدفوع"]
[null,null,null,null,null,null,null,null,null,null,null,null,null,null,0,0,0,0,null,null,null,0,"مدفوع"]
[null,null,null,null,null,null,null,null,null,null,null,null,null,null,0,0,0,0,null,null,null,0,"مدفوع"]
[null,null,null,null,null,null,null,null,null,null,null,null,null,null,0,0,0,0,null,null,null,0,"مدفوع"]
[null,null,null,null,null,null,null,null,null,null,null,null,null,null,0,0,0,0,null,null,null,0,"مدفوع"]
[null,null,null,null,null,null,null,null,null,null,null,null,null,null,0,0,0,0,null,null,null,0,"مدفوع"]
[null,null,null,null,null,null,null,null,null,null,null,null,null,null,0,0,0,0,null,null,null,0,"مدفوع"]
[null,null,null,null,null,null,null,null,null,null,null,null,null,null,0,0,0,0,null,null,null,0,"مدفوع"]
[null,null,null,null,null,null,null,null,null,null,null,null,null,null,0,0,0,0,null,null,null,0,"مدفوع"]
[null,null,null,null,null,null,null,null,null,null,null,null,null,null,0,0,0,0,null,null,null,0,"مدفوع"]
[null,null,null,null,null,null,null,null,null,null,null,null,null,null,0,0,0,0,null,null,null,0,"مدفوع"]
[null,null,null,null,null,null,null,null,null,null,null,null,null,null,0,0,0,0,null,null,null,0,"مدفوع"]
[null,null,null,null,null,null,null,null,null,null,null,null,null,null,0,0,0,0,null,null,null,0,"مدفوع"]
[null,null,null,null,null,null,null,null,null,null,null,null,null,null,0,0,0,0,null,null,null,0,"مدفوع"]
[null,null,null,null,null,null,null,null,null,null,null,null,null,null,0,0,0,0,null,null,null,0,"مدفوع"]
[null,null,null,null,null,null,null,null,null,null,null,null,null,null,0,0,0,0,null,null,null,0,"مدفوع"]
[null,null,null,null,null,null,null,null,null,null,null,null,null,null,0,0,0,0,null,null,null,0,"مدفوع"]
[null,null,null,null,null,null,null,null,null,null,null,null,null,null,0,0,0,0,null,null,null,0,"مدفوع"]
[null,null,null,null,null,null,null,null,null,null,null,null,null,null,0,0,0,0,null,null,null,0,"مدفوع"]
[null,null,null,null,null,null,null,null,null,null,null,null,null,null,0,0,0,0,null,null,null,0,"مدفوع"]
[null,null,null,null,null,null,null,null,null,null,null,null,null,null,{"$f":"SUM(M1635-N1635)","v":0},0,{"$f":"SUM(K1635*150000/2.5)","v":0},{"$f":"SUM(O1635*4000)","v":0},null,null,null,{"$f":"SUM(P1635:S1635)-T1635","v":0},{"$f":"IF(V1635<=0,\"مدفوع\",\"غير مدفوع\")","v":"مدفوع"}]
[null,null,null,null,null,null,null,null,null,null,null,null,null,null,0,0,0,0,null,null,null,0,"مدفوع"]
[null,null,null,null,null,null,null,null,null,null,null,null,null,null,0,{"$f":"IF(L1637=0,0,IF(L1637<=5.5,150000,IF(L1637<=10.5,230000,IF(L1637<=15.5,300000,IF(L1637<=20.5,350000,IF(L1637<=25.5,400000,IF(L1637<=30.5,450000,IF(L1637<=35.5,500000,IF(L1637<=40.5,550000,IF(L1637<=45.5,600000,IF(L1637<=50.5,650000,IF(L1637<=55.5,700000,IF(L1637<=60.5,750000)))))))))))))","v":0},0,0,null,null,null,0,"مدفوع"]
[null,null,null,null,null,null,null,null,null,null,null,null,null,null,0,0,0,0,null,null,null,0,"مدفوع"]
[null,null,null,null,null,null,null,null,null,null,null,null,null,null,0,0,0,0,null,null,null,0,"مدفوع"]
[null,null,null,null,null,null,null,null,null,null,null,null,null,null,0,0,0,0,null,null,null,0,"مدفوع"]
[null,null,null,null,null,null,null,null,null,null,null,null,null,null,0,0,0,0,null,null,null,0,"مدفوع"]
[null,null,null,null,null,null,null,null,null,null,null,null,null,null,0,0,0,0,null,null,null,0,"مدفوع"]
[null,null,null,null,null,null,null,null,null,null,null,null,null,null,0,0,0,0,null,null,null,0,"مدفوع"]
[null,null,null,null,null,null,null,null,null,null,null,null,null,null,0,0,0,0,null,null,null,0,"مدفوع"]
[null,null,null,null,null,null,null,null,null,null,null,null,null,null,0,0,0,0,null,null,null,0,"مدفوع"]
[null,null,null,null,null,null,null,null,null,null,null,null,null,null,0,0,0,0,null,null,null,0,"مدفوع"]
[null,null,null,null,null,null,null,null,null,null,null,null,null,null,0,0,0,0,null,null,null,0,"مدفوع"]
[null,null,null,null,null,null,null,null,null,null,null,null,null,null,0,0,0,0,null,null,null,0,"مدفوع"]
[null,null,null,null,null,null,null,null,null,null,null,null,null,null,0,0,0,0,null,null,null,0,"مدفوع"]
[null,null,null,null,null,null,null,null,null,null,null,null,null,null,0,0,0,0,null,null,null,0,"مدفوع"]
[null,null,null,null,null,null,null,null,null,null,null,null,null,null,0,0,0,0,null,null,null,0,"مدفوع"]
[null,null,null,null,null,null,null,null,null,null,null,null,null,null,0,0,0,0,null,null,null,0,"مدفوع"]
[null,null,null,null,null,null,null,null,null,null,null,null,null,null,0,0,0,0,null,null,null,0,"مدفوع"]
[null,null,null,null,null,null,null,null,null,null,null,null,null,null,0,0,0,0,null,null,null,0,"مدفوع"]
[null,null,null,null,null,null,null,null,null,null,null,null,null,null,0,0,0,0,null,null,null,0,"مدفوع"]
[null,null,null,null,null,null,null,null,null,null,null,null,null,null,0,0,0,0,null,null,null,0,"مدفوع"]
[null,null,null,null,null,null,null,null,null,null,null,null,null,null,0,0,0,0,null,null,null,0,"مدفوع"]
[null,null,null,null,null,null,null,null,null,null,null,null,null,null,0,0,0,0,null,null,null,0,"مدفوع"]
[null,null,null,null,null,null,null,null,null,null,null,null,null,null,0,0,0,0,null,null,null,0,"مدفوع"]
[null,null,null,null,null,null,null,null,null,null,null,null,null,null,0,0,0,0,null,null,null,0,"مدفوع"]
[null,null,null,null,null,null,null,null,null,null,null,null,null,null,0,0,0,0,null,null,null,0,"مدفوع"]
[null,null,null,null,null,null,null,null,null,null,null,null,null,null,0,0,0,0,null,null,null,0,"مدفوع"]
[null,null,null,null,null,null,null,null,null,null,null,null,null,null,0,0,0,0,null,null,null,0,"مدفوع"]
[null,null,null,null,null,null,null,null,null,null,null,null,null,null,0,0,0,0,null,null,null,0,"مدفوع"]
[null,null,null,null,null,null,null,null,null,null,null,null,null,null,0,0,0,0,null,null,null,0,"مدفوع"]
[null,null,null,null,null,null,null,null,null,null,null,null,null,null,0,0,0,0,null,null,null,0,"مدفوع"]
[null,null,null,null,null,null,null,null,null,null,null,null,null,null,0,0,0,0,null,null,null,0,"مدفوع"]
[null,null,null,null,null,null,null,null,null,null,null,null,null,null,0,0,0,0,null,null,null,0,"مدفوع"]
[null,null,null,null,null,null,null,null,null,null,null,null,null,null,0,0,0,0,null,null,null,0,"مدفوع"]
[null,null,null,null,null,null,null,null,null,null,null,null,null,null,0,0,0,0,null,null,null,0,"مدفوع"]
[null,null,null,null,null,null,null,null,null,null,null,null,null,null,0,0,0,0,null,null,null,0,"مدفوع"]
[null,null,null,null,null,null,null,null,null,null,null,null,null,null,0,0,0,0,null,null,null,0,"مدفوع"]
[null,null,null,null,null,null,null,null,null,null,null,null,null,null,0,0,0,0,null,null,null,0,"مدفوع"]
[null,null,null,null,null,null,null,null,null,null,null,null,null,null,0,0,0,0,null,null,null,0,"مدفوع"]
[null,null,null,null,null,null,null,null,null,null,null,null,null,null,0,0,0,0,null,null,null,0,"مدفوع"]
[null,null,null,null,null,null,null,null,null,null,null,null,null,null,0,0,0,0,null,null,null,0,"مدفوع"]
[null,null,null,null,null,null,null,null,null,null,null,null,null,null,0,0,0,0,null,null,null,0,"مدفوع"]
[null,null,null,null,null,null,null,null,null,null,null,null,null,null,0,0,0,0,null,null,null,0,"مدفوع"]
[null,null,null,null,null,null,null,null,null,null,null,null,null,null,0,0,0,0,null,null,null,0,"مدفوع"]
[null,null,null,null,null,null,null,null,null,null,null,null,null,null,0,0,0,0,null,null,null,0,"مدفوع"]
[null,null,null,null,null,null,null,null,null,null,null,null,null,null,0,0,0,0,null,null,null,0,"مدفوع"]
[null,null,null,null,null,null,null,null,null,null,null,null,null,null,0,0,0,0,null,null,null,0,"مدفوع"]
[null,null,null,null,null,null,null,null,null,null,null,null,null,null,0,0,0,0,null,null,null,0,"مدفوع"]
[null,null,null,null,null,null,null,null,null,null,null,null,null,null,0,0,0,0,null,null,null,0,"مدفوع"]
[null,null,null,null,null,null,null,null,null,null,null,null,null,null,0,0,0,0,null,null,null,0,"مدفوع"]
[null,null,null,null,null,null,null,null,null,null,null,null,null,null,0,0,0,0,null,null,null,0,"مدفوع"]
[null,null,null,null,null,null,null,null,null,null,null,null,null,null,0,0,0,0,null,null,null,0,"مدفوع"]
[null,null,null,null,null,null,null,null,null,null,null,null,null,null,0,0,0,0,null,null,null,0,"مدفوع"]
[null,null,null,null,null,null,null,null,null,null,null,null,null,null,0,0,0,0,null,null,null,0,"مدفوع"]
[null,null,null,null,null,null,null,null,null,null,null,null,null,null,0,0,0,0,null,null,null,0,"مدفوع"]
[null,null,null,null,null,null,null,null,null,null,null,null,null,null,0,0,0,0,null,null,null,0,"مدفوع"]
[null,null,null,null,null,null,null,null,null,null,null,null,null,null,0,0,0,0,null,null,null,0,"مدفوع"]
[null,null,null,null,null,null,null,null,null,null,null,null,null,null,0,0,0,0,null,null,null,0,"مدفوع"]
[null,null,null,null,null,null,null,null,null,null,null,null,null,null,0,0,0,0,null,null,null,0,"مدفوع"]
[null,null,null,null,null,null,null,null,null,null,null,null,null,null,0,0,0,0,null,null,null,0,"مدفوع"]
[null,null,null,null,null,null,null,null,null,null,null,null,null,null,0,0,0,0,null,null,null,0,"مدفوع"]
[null,null,null,null,null,null,null,null,null,null,null,null,null,null,0,0,0,0,null,null,null,0,"مدفوع"]
[null,null,null,null,null,null,null,null,null,null,null,null,null,null,0,0,0,0,null,null,null,0,"مدفوع"]
[null,null,null,null,null,null,null,null,null,null,null,null,null,null,{"$f":"SUM(M1699-N1699)","v":0},0,{"$f":"SUM(K1699*150000/2.5)","v":0},{"$f":"SUM(O1699*4000)","v":0},null,null,null,{"$f":"SUM(P1699:S1699)-T1699","v":0},{"$f":"IF(V1699<=0,\"مدفوع\",\"غير مدفوع\")","v":"مدفوع"}]
[null,null,null,null,null,null,null,null,null,null,null,null,null,null,0,0,0,0,null,null,null,0,"مدفوع"]
[null,null,null,null,null,null,null,null,null,null,null,null,null,null,0,{"$f":"IF(L1701=0,0,IF(L1701<=5.5,150000,IF(L1701<=10.5,230000,IF(L1701<=15.5,300000,IF(L1701<=20.5,350000,IF(L1701<=25.5,400000,IF(L1701<=30.5,450000,IF(L1701<=35.5,500000,IF(L1701<=40.5,550000,IF(L1701<=45.5,600000,IF(L1701<=50.5,650000,IF(L1701<=55.5,700000,IF(L1701<=60.5,750000)))))))))))))","v":0},0,0,null,null,null,0,"مدفوع"]
[null,null,null,null,null,null,null,null,null,null,null,null,null,null,0,0,0,0,null,null,null,0,"مدفوع"]
[null,null,null,null,null,null,null,null,null,null,null,null,null,null,0,0,0,0,null,null,null,0,"مدفوع"]
[null,null,null,null,null,null,null,null,null,null,null,null,null,null,0,0,0,0,null,null,null,0,"مدفوع"]
[null,null,null,null,null,null,null,null,null,null,null,null,null,null,0,0,0,0,null,null,null,0,"مدفوع"]
[null,null,null,null,null,null,null,null,null,null,null,null,null,null,0,0,0,0,null,null,null,0,"مدفوع"]
[null,null,null,null,null,null,null,null,null,null,null,null,null,null,0,0,0,0,null,null,null,0,"مدفوع"]
[null,null,null,null,null,null,null,null,null,null,null,null,null,null,0,0,0,0,null,null,null,0,"مدفوع"]
[null,null,null,null,null,null,null,null,null,null,null,null,null,null,0,0,0,0,null,null,null,0,"مدفوع"]
[null,null,null,null,null,null,null,null,null,null,null,null,null,null,0,0,0,0,null,null,null,0,"مدفوع"]
[null,null,null,null,null,null,null,null,null,null,null,null,null,null,0,0,0,0,null,null,null,0,"مدفوع"]
[null,null,null,null,null,null,null,null,null,null,null,null,null,null,0,0,0,0,null,null,null,0,"مدفوع"]
[null,null,null,null,null,null,null,null,null,null,null,null,null,null,0,0,0,0,null,null,null,0,"مدفوع"]
[null,null,null,null,null,null,null,null,null,null,null,null,null,null,0,0,0,0,null,null,null,0,"مدفوع"]
[null,null,null,null,null,null,null,null,null,null,null,null,null,null,0,0,0,0,null,null,null,0,"مدفوع"]
[null,null,null,null,null,null,null,null,null,null,null,null,null,null,0,0,0,0,null,null,null,0,"مدفوع"]
[null,null,null,null,null,null,null,null,null,null,null,null,null,null,0,0,0,0,null,null,null,0,"مدفوع"]
[null,null,null,null,null,null,null,null,null,null,null,null,null,null,0,0,0,0,null,null,null,0,"مدفوع"]
[null,null,null,null,null,null,null,null,null,null,null,null,null,null,0,0,0,0,null,null,null,0,"مدفوع"]
[null,null,null,null,null,null,null,null,null,null,null,null,null,null,0,0,0,0,null,null,null,0,"مدفوع"]
[null,null,null,null,null,null,null,null,null,null,null,null,null,null,0,0,0,0,null,null,null,0,"مدفوع"]
[null,null,null,null,null,null,null,null,null,null,null,null,null,null,0,0,0,0,null,null,null,0,"مدفوع"]
[null,null,null,null,null,null,null,null,null,null,null,null,null,null,0,0,0,0,null,null,null,0,"مدفوع"]
[null,null,null,null,null,null,null,null,null,null,null,null,null,null,0,0,0,0,null,null,null,0,"مدفوع"]
[null,null,null,null,null,null,null,null,null,null,null,null,null,null,0,0,0,0,null,null,null,0,"مدفوع"]
[null,null,null,null,null,null,null,null,null,null,null,null,null,null,0,0,0,0,null,null,null,0,"مدفوع"]
[null,null,null,null,null,null,null,null,null,null,null,null,null,null,0,0,0,0,null,null,null,0,"مدفوع"]
[null,null,null,null,null,null,null,null,null,null,null,null,null,null,0,0,0,0,null,null,null,0,"مدفوع"]
[null,null,null,null,null,null,null,null,null,null,null,null,null,null,0,0,0,0,null,null,null,0,"مدفوع"]
[null,null,null,null,null,null,null,null,null,null,null,null,null,null,0,0,0,0,null,null,null,0,"مدفوع"]
[null,null,null,null,null,null,null,null,null,null,null,null,null,null,0,0,0,0,null,null,null,0,"مدفوع"]
[null,null,null,null,null,null,null,null,null,null,null,null,null,null,0,0,0,0,null,null,null,0,"مدفوع"]
[null,null,null,null,null,null,null,null,null,null,null,null,null,null,0,0,0,0,null,null,null,0,"مدفوع"]
[null,null,null,null,null,null,null,null,null,null,null,null,null,null,0,0,0,0,null,null,null,0,"مدفوع"]
[null,null,null,null,null,null,null,null,null,null,null,null,null,null,0,0,0,0,null,null,null,0,"مدفوع"]
[null,null,null,null,null,null,null,null,null,null,null,null,null,null,0,0,0,0,null,null,null,0,"مدفوع"]
[null,null,null,null,null,null,null,null,null,null,null,null,null,null,0,0,0,0,null,null,null,0,"مدفوع"]
[null,null,null,null,null,null,null,null,null,null,null,null,null,null,0,0,0,0,null,null,null,0,"مدفوع"]
[null,null,null,null,null,null,null,null,null,null,null,null,null,null,0,0,0,0,null,null,null,0,"مدفوع"]
[null,null,null,null,null,null,null,null,null,null,null,null,null,null,0,0,0,0,null,null,null,0,"مدفوع"]
[null,null,null,null,null,null,null,null,null,null,null,null,null,null,0,0,0,0,null,null,null,0,"مدفوع"]
[null,null,null,null,null,null,null,null,null,null,null,null,null,null,0,0,0,0,null,null,null,0,"مدفوع"]
[null,null,null,null,null,null,null,null,null,null,null,null,null,null,0,0,0,0,null,null,null,0,"مدفوع"]
[null,null,null,null,null,null,null,null,null,null,null,null,null,null,0,0,0,0,null,null,null,0,"مدفوع"]
[null,null,null,null,null,null,null,null,null,null,null,null,null,null,0,0,0,0,null,null,null,0,"مدفوع"]
[null,null,null,null,null,null,null,null,null,null,null,null,null,null,0,0,0,0,null,null,null,0,"مدفوع"]
[null,null,null,null,null,null,null,null,null,null,null,null,null,null,0,0,0,0,null,null,null,0,"مدفوع"]
[null,null,null,null,null,null,null,null,null,null,null,null,null,null,0,0,0,0,null,null,null,0,"مدفوع"]
[null,null,null,null,null,null,null,null,null,null,null,null,null,null,0,0,0,0,null,null,null,0,"مدفوع"]
[null,null,null,null,null,null,null,null,null,null,null,null,null,null,0,0,0,0,null,null,null,0,"مدفوع"]
[null,null,null,null,null,null,null,null,null,null,null,null,null,null,0,0,0,0,null,null,null,0,"مدفوع"]
[null,null,null,null,null,null,null,null,null,null,null,null,null,null,0,0,0,0,null,null,null,0,"مدفوع"]
[null,null,null,null,null,null,null,null,null,null,null,null,null,null,0,0,0,0,null,null,null,0,"مدفوع"]
[null,null,null,null,null,null,null,null,null,null,null,null,null,null,0,0,0,0,null,null,null,0,"مدفوع"]
[null,null,null,null,null,null,null,null,null,null,null,null,null,null,0,0,0,0,null,null,null,0,"مدفوع"]
[null,null,null,null,null,null,null,null,null,null,null,null,null,null,0,0,0,0,null,null,null,0,"مدفوع"]
[null,null,null,null,null,null,null,null,null,null,null,null,null,null,0,0,0,0,null,null,null,0,"مدفوع"]
[null,null,null,null,null,null,null,null,null,null,null,null,null,null,0,0,0,0,null,null,null,0,"مدفوع"]
[null,null,null,null,null,null,null,null,null,null,null,null,null,null,0,0,0,0,null,null,null,0,"مدفوع"]
[null,null,null,null,null,null,null,null,null,null,null,null,null,null,0,0,0,0,null,null,null,0,"مدفوع"]
[null,null,null,null,null,null,null,null,null,null,null,null,null,null,0,0,0,0,null,null,null,0,"مدفوع"]
[null,null,null,null,null,null,null,null,null,null,null,null,null,null,0,0,0,0,null,null,null,0,"مدفوع"]
[null,null,null,null,null,null,null,null,null,null,null,null,null,null,{"$f":"SUM(M1763-N1763)","v":0},0,{"$f":"SUM(K1763*150000/2.5)","v":0},{"$f":"SUM(O1763*4000)","v":0},null,null,null,{"$f":"SUM(P1763:S1763)-T1763","v":0},{"$f":"IF(V1763<=0,\"مدفوع\",\"غير مدفوع\")","v":"مدفوع"}]
[null,null,null,null,null,null,null,null,null,null,null,null,null,null,0,0,0,0,null,null,null,0,"مدفوع"]
[null,null,null,null,null,null,null,null,null,null,null,null,null,null,0,{"$f":"IF(L1765=0,0,IF(L1765<=5.5,150000,IF(L1765<=10.5,230000,IF(L1765<=15.5,300000,IF(L1765<=20.5,350000,IF(L1765<=25.5,400000,IF(L1765<=30.5,450000,IF(L1765<=35.5,500000,IF(L1765<=40.5,550000,IF(L1765<=45.5,600000,IF(L1765<=50.5,650000,IF(L1765<=55.5,700000,IF(L1765<=60.5,750000)))))))))))))","v":0},0,0,null,null,null,0,"مدفوع"]
[null,null,null,null,null,null,null,null,null,null,null,null,null,null,0,0,0,0,null,null,null,0,"مدفوع"]
[null,null,null,null,null,null,null,null,null,null,null,null,null,null,0,0,0,0,null,null,null,0,"مدفوع"]
[null,null,null,null,null,null,null,null,null,null,null,null,null,null,0,0,0,0,null,null,null,0,"مدفوع"]
[null,null,null,null,null,null,null,null,null,null,null,null,null,null,0,0,0,0,null,null,null,0,"مدفوع"]
[null,null,null,null,null,null,null,null,null,null,null,null,null,null,0,0,0,0,null,null,null,0,"مدفوع"]
[null,null,null,null,null,null,null,null,null,null,null,null,null,null,0,0,0,0,null,null,null,0,"مدفوع"]
[null,null,null,null,null,null,null,null,null,null,null,null,null,null,0,0,0,0,null,null,null,0,"مدفوع"]
[null,null,null,null,null,null,null,null,null,null,null,null,null,null,0,0,0,0,null,null,null,0,"مدفوع"]
[null,null,null,null,null,null,null,null,null,null,null,null,null,null,0,0,0,0,null,null,null,0,"مدفوع"]
[null,null,null,null,null,null,null,null,null,null,null,null,null,null,0,0,0,0,null,null,null,0,"مدفوع"]
[null,null,null,null,null,null,null,null,null,null,null,null,null,null,0,0,0,0,null,null,null,0,"مدفوع"]
[null,null,null,null,null,null,null,null,null,null,null,null,null,null,0,0,0,0,null,null,null,0,"مدفوع"]
[null,null,null,null,null,null,null,null,null,null,null,null,null,null,0,0,0,0,null,null,null,0,"مدفوع"]
[null,null,null,null,null,null,null,null,null,null,null,null,null,null,0,0,0,0,null,null,null,0,"مدفوع"]
[null,null,null,null,null,null,null,null,null,null,null,null,null,null,0,0,0,0,null,null,null,0,"مدفوع"]
[null,null,null,null,null,null,null,null,null,null,null,null,null,null,0,0,0,0,null,null,null,0,"مدفوع"]
[null,null,null,null,null,null,null,null,null,null,null,null,null,null,0,0,0,0,null,null,null,0,"مدفوع"]
[null,null,null,null,null,null,null,null,null,null,null,null,null,null,0,0,0,0,null,null,null,0,"مدفوع"]
[null,null,null,null,null,null,null,null,null,null,null,null,null,null,0,0,0,0,null,null,null,0,"مدفوع"]
[null,null,null,null,null,null,null,null,null,null,null,null,null,null,0,0,0,0,null,null,null,0,"مدفوع"]
[null,null,null,null,null,null,null,null,null,null,null,null,null,null,0,0,0,0,null,null,null,0,"مدفوع"]
[null,null,null,null,null,null,null,null,null,null,null,null,null,null,0,0,0,0,null,null,null,0,"مدفوع"]
[null,null,null,null,null,null,null,null,null,null,null,null,null,null,0,0,0,0,null,null,null,0,"مدفوع"]
[null,null,null,null,null,null,null,null,null,null,null,null,null,null,0,0,0,0,null,null,null,0,"مدفوع"]
[null,null,null,null,null,null,null,null,null,null,null,null,null,null,0,0,0,0,null,null,null,0,"مدفوع"]
[null,null,null,null,null,null,null,null,null,null,null,null,null,null,0,0,0,0,null,null,null,0,"مدفوع"]
[null,null,null,null,null,null,null,null,null,null,null,null,null,null,0,0,0,0,null,null,null,0,"مدفوع"]
[null,null,null,null,null,null,null,null,null,null,null,null,null,null,0,0,0,0,null,null,null,0,"مدفوع"]
[null,null,null,null,null,null,null,null,null,null,null,null,null,null,0,0,0,0,null,null,null,0,"مدفوع"]
[null,null,null,null,null,null,null,null,null,null,null,null,null,null,0,0,0,0,null,null,null,0,"مدفوع"]
[null,null,null,null,null,null,null,null,null,null,null,null,null,null,0,0,0,0,null,null,null,0,"مدفوع"]
[null,null,null,null,null,null,null,null,null,null,null,null,null,null,0,0,0,0,null,null,null,0,"مدفوع"]
[null,null,null,null,null,null,null,null,null,null,null,null,null,null,0,0,0,0,null,null,null,0,"مدفوع"]
[null,null,null,null,null,null,null,null,null,null,null,null,null,null,0,0,0,0,null,null,null,0,"مدفوع"]
[null,null,null,null,null,null,null,null,null,null,null,null,null,null,0,0,0,0,null,null,null,0,"مدفوع"]
[null,null,null,null,null,null,null,null,null,null,null,null,null,null,0,0,0,0,null,null,null,0,"مدفوع"]
[null,null,null,null,null,null,null,null,null,null,null,null,null,null,0,0,0,0,null,null,null,0,"مدفوع"]
[null,null,null,null,null,null,null,null,null,null,null,null,null,null,0,0,0,0,null,null,null,0,"مدفوع"]
[null,null,null,null,null,null,null,null,null,null,null,null,null,null,0,0,0,0,null,null,null,0,"مدفوع"]
[null,null,null,null,null,null,null,null,null,null,null,null,null,null,0,0,0,0,null,null,null,0,"مدفوع"]
[null,null,null,null,null,null,null,null,null,null,null,null,null,null,0,0,0,0,null,null,null,0,"مدفوع"]
[null,null,null,null,null,null,null,null,null,null,null,null,null,null,0,0,0,0,null,null,null,0,"مدفوع"]
[null,null,null,null,null,null,null,null,null,null,null,null,null,null,0,0,0,0,null,null,null,0,"مدفوع"]
[null,null,null,null,null,null,null,null,null,null,null,null,null,null,0,0,0,0,null,null,null,0,"مدفوع"]
[null,null,null,null,null,null,null,null,null,null,null,null,null,null,0,0,0,0,null,null,null,0,"مدفوع"]
[null,null,null,null,null,null,null,null,null,null,null,null,null,null,0,0,0,0,null,null,null,0,"مدفوع"]
[null,null,null,null,null,null,null,null,null,null,null,null,null,null,0,0,0,0,null,null,null,0,"مدفوع"]
[null,null,null,null,null,null,null,null,null,null,null,null,null,null,0,0,0,0,null,null,null,0,"مدفوع"]
[null,null,null,null,null,null,null,null,null,null,null,null,null,null,0,0,0,0,null,null,null,0,"مدفوع"]
[null,null,null,null,null,null,null,null,null,null,null,null,null,null,0,0,0,0,null,null,null,0,"مدفوع"]
[null,null,null,null,null,null,null,null,null,null,null,null,null,null,0,0,0,0,null,null,null,0,"مدفوع"]
[null,null,null,null,null,null,null,null,null,null,null,null,null,null,0,0,0,0,null,null,null,0,"مدفوع"]
[null,null,null,null,null,null,null,null,null,null,null,null,null,null,0,0,0,0,null,null,null,0,"مدفوع"]
[null,null,null,null,null,null,null,null,null,null,null,null,null,null,0,0,0,0,null,null,null,0,"مدفوع"]
[null,null,null,null,null,null,null,null,null,null,null,null,null,null,0,0,0,0,null,null,null,0,"مدفوع"]
[null,null,null,null,null,null,null,null,null,null,null,null,null,null,0,0,0,0,null,null,null,0,"مدفوع"]
[null,null,null,null,null,null,null,null,null,null,null,null,null,null,0,0,0,0,null,null,null,0,"مدفوع"]
[null,null,null,null,null,null,null,null,null,null,null,null,null,null,0,0,0,0,null,null,null,0,"مدفوع"]
[null,null,null,null,null,null,null,null,null,null,null,null,null,null,0,0,0,0,null,null,null,0,"مدفوع"]
[null,null,null,null,null,null,null,null,null,null,null,null,null,null,0,0,0,0,null,null,null,0,"مدفوع"]
[null,null,null,null,null,null,null,null,null,null,null,null,null,null,0,0,0,0,null,null,null,0,"مدفوع"]
[null,null,null,null,null,null,null,null,null,null,null,null,null,null,{"$f":"SUM(M1827-N1827)","v":0},0,{"$f":"SUM(K1827*150000/2.5)","v":0},{"$f":"SUM(O1827*4000)","v":0},null,null,null,{"$f":"SUM(P1827:S1827)-T1827","v":0},{"$f":"IF(V1827<=0,\"مدفوع\",\"غير مدفوع\")","v":"مدفوع"}]
[null,null,null,null,null,null,null,null,null,null,null,null,null,null,0,0,0,0,null,null,null,0,"مدفوع"]
[null,null,null,null,null,null,null,null,null,null,null,null,null,null,0,{"$f":"IF(L1829=0,0,IF(L1829<=5.5,150000,IF(L1829<=10.5,230000,IF(L1829<=15.5,300000,IF(L1829<=20.5,350000,IF(L1829<=25.5,400000,IF(L1829<=30.5,450000,IF(L1829<=35.5,500000,IF(L1829<=40.5,550000,IF(L1829<=45.5,600000,IF(L1829<=50.5,650000,IF(L1829<=55.5,700000,IF(L1829<=60.5,750000)))))))))))))","v":0},0,0,null,null,null,0,"مدفوع"]
[null,null,null,null,null,null,null,null,null,null,null,null,null,null,0,0,0,0,null,null,null,0,"مدفوع"]
[null,null,null,null,null,null,null,null,null,null,null,null,null,null,0,0,0,0,null,null,null,0,"مدفوع"]
[null,null,null,null,null,null,null,null,null,null,null,null,null,null,0,0,0,0,null,null,null,0,"مدفوع"]
[null,null,null,null,null,null,null,null,null,null,null,null,null,null,0,0,0,0,null,null,null,0,"مدفوع"]
[null,null,null,null,null,null,null,null,null,null,null,null,null,null,0,0,0,0,null,null,null,0,"مدفوع"]
[null,null,null,null,null,null,null,null,null,null,null,null,null,null,0,0,0,0,null,null,null,0,"مدفوع"]
[null,null,null,null,null,null,null,null,null,null,null,null,null,null,0,0,0,0,null,null,null,0,"مدفوع"]
[null,null,null,null,null,null,null,null,null,null,null,null,null,null,0,0,0,0,null,null,null,0,"مدفوع"]
[null,null,null,null,null,null,null,null,null,null,null,null,null,null,0,0,0,0,null,null,null,0,"مدفوع"]
[null,null,null,null,null,null,null,null,null,null,null,null,null,null,0,0,0,0,null,null,null,0,"مدفوع"]
[null,null,null,null,null,null,null,null,null,null,null,null,null,null,0,0,0,0,null,null,null,0,"مدفوع"]
[null,null,null,null,null,null,null,null,null,null,null,null,null,null,0,0,0,0,null,null,null,0,"مدفوع"]
[null,null,null,null,null,null,null,null,null,null,null,null,null,null,0,0,0,0,null,null,null,0,"مدفوع"]
[null,null,null,null,null,null,null,null,null,null,null,null,null,null,0,0,0,0,null,null,null,0,"مدفوع"]
[null,null,null,null,null,null,null,null,null,null,null,null,null,null,0,0,0,0,null,null,null,0,"مدفوع"]
[null,null,null,null,null,null,null,null,null,null,null,null,null,null,0,0,0,0,null,null,null,0,"مدفوع"]
[null,null,null,null,null,null,null,null,null,null,null,null,null,null,0,0,0,0,null,null,null,0,"مدفوع"]
[null,null,null,null,null,null,null,null,null,null,null,null,null,null,0,0,0,0,null,null,null,0,"مدفوع"]
[null,null,null,null,null,null,null,null,null,null,null,null,null,null,0,0,0,0,null,null,null,0,"مدفوع"]
[null,null,null,null,null,null,null,null,null,null,null,null,null,null,0,0,0,0,null,null,null,0,"مدفوع"]
[null,null,null,null,null,null,null,null,null,null,null,null,null,null,0,0,0,0,null,null,null,0,"مدفوع"]
[null,null,null,null,null,null,null,null,null,null,null,null,null,null,0,0,0,0,null,null,null,0,"مدفوع"]
[null,null,null,null,null,null,null,null,null,null,null,null,null,null,0,0,0,0,null,null,null,0,"مدفوع"]
[null,null,null,null,null,null,null,null,null,null,null,null,null,null,0,0,0,0,null,null,null,0,"مدفوع"]
[null,null,null,null,null,null,null,null,null,null,null,null,null,null,0,0,0,0,null,null,null,0,"مدفوع"]
[null,null,null,null,null,null,null,null,null,null,null,null,null,null,0,0,0,0,null,null,null,0,"مدفوع"]
[null,null,null,null,null,null,null,null,null,null,null,null,null,null,0,0,0,0,null,null,null,0,"مدفوع"]
[null,null,null,null,null,null,null,null,null,null,null,null,null,null,0,0,0,0,null,null,null,0,"مدفوع"]
[null,null,null,null,null,null,null,null,null,null,null,null,null,null,0,0,0,0,null,null,null,0,"مدفوع"]
[null,null,null,null,null,null,null,null,null,null,null,null,null,null,0,0,0,0,null,null,null,0,"مدفوع"]
[null,null,null,null,null,null,null,null,null,null,null,null,null,null,0,0,0,0,null,null,null,0,"مدفوع"]
[null,null,null,null,null,null,null,null,null,null,null,null,null,null,0,0,0,0,null,null,null,0,"مدفوع"]
[null,null,null,null,null,null,null,null,null,null,null,null,null,null,0,0,0,0,null,null,null,0,"مدفوع"]
[null,null,null,null,null,null,null,null,null,null,null,null,null,null,0,0,0,0,null,null,null,0,"مدفوع"]
[null,null,null,null,null,null,null,null,null,null,null,null,null,null,0,0,0,0,null,null,null,0,"مدفوع"]
[null,null,null,null,null,null,null,null,null,null,null,null,null,null,0,0,0,0,null,null,null,0,"مدفوع"]
[null,null,null,null,null,null,null,null,null,null,null,null,null,null,0,0,0,0,null,null,null,0,"مدفوع"]
[null,null,null,null,null,null,null,null,null,null,null,null,null,null,0,0,0,0,null,null,null,0,"مدفوع"]
[null,null,null,null,null,null,null,null,null,null,null,null,null,null,0,0,0,0,null,null,null,0,"مدفوع"]
[null,null,null,null,null,null,null,null,null,null,null,null,null,null,0,0,0,0,null,null,null,0,"مدفوع"]
[null,null,null,null,null,null,null,null,null,null,null,null,null,null,0,0,0,0,null,null,null,0,"مدفوع"]
[null,null,null,null,null,null,null,null,null,null,null,null,null,null,0,0,0,0,null,null,null,0,"مدفوع"]
[null,null,null,null,null,null,null,null,null,null,null,null,null,null,0,0,0,0,null,null,null,0,"مدفوع"]
[null,null,null,null,null,null,null,null,null,null,null,null,null,null,0,0,0,0,null,null,null,0,"مدفوع"]
[null,null,null,null,null,null,null,null,null,null,null,null,null,null,0,0,0,0,null,null,null,0,"مدفوع"]
[null,null,null,null,null,null,null,null,null,null,null,null,null,null,0,0,0,0,null,null,null,0,"مدفوع"]
[null,null,null,null,null,null,null,null,null,null,null,null,null,null,0,0,0,0,null,null,null,0,"مدفوع"]
[null,null,null,null,null,null,null,null,null,null,null,null,null,null,0,0,0,0,null,null,null,0,"مدفوع"]
[null,null,null,null,null,null,null,null,null,null,null,null,null,null,0,0,0,0,null,null,null,0,"مدفوع"]
[null,null,null,null,null,null,null,null,null,null,null,null,null,null,0,0,0,0,null,null,null,0,"مدفوع"]
[null,null,null,null,null,null,null,null,null,null,null,null,null,null,0,0,0,0,null,null,null,0,"مدفوع"]
[null,null,null,null,null,null,null,null,null,null,null,null,null,null,0,0,0,0,null,null,null,0,"مدفوع"]
[null,null,null,null,null,null,null,null,null,null,null,null,null,null,0,0,0,0,null,null,null,0,"مدفوع"]
[null,null,null,null,null,null,null,null,null,null,null,null,null,null,0,0,0,0,null,null,null,0,"مدفوع"]
[null,null,null,null,null,null,null,null,null,null,null,null,null,null,0,0,0,0,null,null,null,0,"مدفوع"]
[null,null,null,null,null,null,null,null,null,null,null,null,null,null,0,0,0,0,null,null,null,0,"مدفوع"]
[null,null,null,null,null,null,null,null,null,null,null,null,null,null,0,0,0,0,null,null,null,0,"مدفوع"]
[null,null,null,null,null,null,null,null,null,null,null,null,null,null,0,0,0,0,null,null,null,0,"مدفوع"]
[null,null,null,null,null,null,null,null,null,null,null,null,null,null,0,0,0,0,null,null,null,0,"مدفوع"]
[null,null,null,null,null,null,null,null,null,null,null,null,null,null,0,0,0,0,null,null,null,0,"مدفوع"]
[null,null,null,null,null,null,null,null,null,null,null,null,null,null,0,0,0,0,null,null,null,0,"مدفوع"]
[null,null,null,null,null,null,null,null,null,null,null,null,null,null,{"$f":"SUM(M1891-N1891)","v":0},0,{"$f":"SUM(K1891*150000/2.5)","v":0},{"$f":"SUM(O1891*4000)","v":0},null,null,null,{"$f":"SUM(P1891:S1891)-T1891","v":0},{"$f":"IF(V1891<=0,\"مدفوع\",\"غير مدفوع\")","v":"مدفوع"}]
[null,null,null,null,null,null,null,null,null,null,null,null,null,null,0,0,0,0,null,null,null,0,"مدفوع"]
[null,null,null,null,null,null,null,null,null,null,null,null,null,null,0,{"$f":"IF(L1893=0,0,IF(L1893<=5.5,150000,IF(L1893<=10.5,230000,IF(L1893<=15.5,300000,IF(L1893<=20.5,350000,IF(L1893<=25.5,400000,IF(L1893<=30.5,450000,IF(L1893<=35.5,500000,IF(L1893<=40.5,550000,IF(L1893<=45.5,600000,IF(L1893<=50.5,650000,IF(L1893<=55.5,700000,IF(L1893<=60.5,750000)))))))))))))","v":0},0,0,null,null,null,0,"مدفوع"]
[null,null,null,null,null,null,null,null,null,null,null,null,null,null,0,0,0,0,null,null,null,0,"مدفوع"]
[null,null,null,null,null,null,null,null,null,null,null,null,null,null,0,0,0,0,null,null,null,0,"مدفوع"]
[null,null,null,null,null,null,null,null,null,null,null,null,null,null,0,0,0,0,null,null,null,0,"مدفوع"]
[null,null,null,null,null,null,null,null,null,null,null,null,null,null,0,0,0,0,null,null,null,0,"مدفوع"]
[null,null,null,null,null,null,null,null,null,null,null,null,null,null,0,0,0,0,null,null,null,0,"مدفوع"]
[null,null,null,null,null,null,null,null,null,null,null,null,null,null,0,0,0,0,null,null,null,0,"مدفوع"]
[null,null,null,null,null,null,null,null,null,null,null,null,null,null,0,0,0,0,null,null,null,0,"مدفوع"]
[null,null,null,null,null,null,null,null,null,null,null,null,null,null,0,0,0,0,null,null,null,0,"مدفوع"]
[null,null,null,null,null,null,null,null,null,null,null,null,null,null,0,0,0,0,null,null,null,0,"مدفوع"]
[null,null,null,null,null,null,null,null,null,null,null,null,null,null,0,0,0,0,null,null,null,0,"مدفوع"]
[null,null,null,null,null,null,null,null,null,null,null,null,null,null,0,0,0,0,null,null,null,0,"مدفوع"]
[null,null,null,null,null,null,null,null,null,null,null,null,null,null,0,0,0,0,null,null,null,0,"مدفوع"]
[null,null,null,null,null,null,null,null,null,null,null,null,null,null,0,0,0,0,null,null,null,0,"مدفوع"]
[null,null,null,null,null,null,null,null,null,null,null,null,null,null,0,0,0,0,null,null,null,0,"مدفوع"]
[null,null,null,null,null,null,null,null,null,null,null,null,null,null,0,0,0,0,null,null,null,0,"مدفوع"]
[null,null,null,null,null,null,null,null,null,null,null,null,null,null,0,0,0,0,null,null,null,0,"مدفوع"]
[null,null,null,null,null,null,null,null,null,null,null,null,null,null,0,0,0,0,null,null,null,0,"مدفوع"]
[null,null,null,null,null,null,null,null,null,null,null,null,null,null,0,0,0,0,null,null,null,0,"مدفوع"]
[null,null,null,null,null,null,null,null,null,null,null,null,null,null,0,0,0,0,null,null,null,0,"مدفوع"]
[null,null,null,null,null,null,null,null,null,null,null,null,null,null,0,0,0,0,null,null,null,0,"مدفوع"]
[null,null,null,null,null,null,null,null,null,null,null,null,null,null,0,0,0,0,null,null,null,0,"مدفوع"]
[null,null,null,null,null,null,null,null,null,null,null,null,null,null,0,0,0,0,null,null,null,0,"مدفوع"]
[null,null,null,null,null,null,null,null,null,null,null,null,null,null,0,0,0,0,null,null,null,0,"مدفوع"]
[null,null,null,null,null,null,null,null,null,null,null,null,null,null,0,0,0,0,null,null,null,0,"مدفوع"]
[null,null,null,null,null,null,null,null,null,null,null,null,null,null,0,0,0,0,null,null,null,0,"مدفوع"]
[null,null,null,null,null,null,null,null,null,null,null,null,null,null,0,0,0,0,null,null,null,0,"مدفوع"]
[null,null,null,null,null,null,null,null,null,null,null,null,null,null,0,0,0,0,null,null,null,0,"مدفوع"]
[null,null,null,null,null,null,null,null,null,null,null,null,null,null,0,0,0,0,null,null,null,0,"مدفوع"]
[null,null,null,null,null,null,null,null,null,null,null,null,null,null,0,0,0,0,null,null,null,0,"مدفوع"]
[null,null,null,null,null,null,null,null,null,null,null,null,null,null,0,0,0,0,null,null,null,0,"مدفوع"]
[null,null,null,null,null,null,null,null,null,null,null,null,null,null,0,0,0,0,null,null,null,0,"مدفوع"]
[null,null,null,null,null,null,null,null,null,null,null,null,null,null,0,0,0,0,null,null,null,0,"مدفوع"]
[null,null,null,null,null,null,null,null,null,null,null,null,null,null,0,0,0,0,null,null,null,0,"مدفوع"]
[null,null,null,null,null,null,null,null,null,null,null,null,null,null,0,0,0,0,null,null,null,0,"مدفوع"]
[null,null,null,null,null,null,null,null,null,null,null,null,null,null,0,0,0,0,null,null,null,0,"مدفوع"]
[null,null,null,null,null,null,null,null,null,null,null,null,null,null,0,0,0,0,null,null,null,0,"مدفوع"]
[null,null,null,null,null,null,null,null,null,null,null,null,null,null,0,0,0,0,null,null,null,0,"مدفوع"]
[null,null,null,null,null,null,null,null,null,null,null,null,null,null,0,0,0,0,null,null,null,0,"مدفوع"]
[null,null,null,null,null,null,null,null,null,null,null,null,null,null,0,0,0,0,null,null,null,0,"مدفوع"]
[null,null,null,null,null,null,null,null,null,null,null,null,null,null,0,0,0,0,null,null,null,0,"مدفوع"]
[null,null,null,null,null,null,null,null,null,null,null,null,null,null,0,0,0,0,null,null,null,0,"مدفوع"]
[null,null,null,null,null,null,null,null,null,null,null,null,null,null,0,0,0,0,null,null,null,0,"مدفوع"]
[null,null,null,null,null,null,null,null,null,null,null,null,null,null,0,0,0,0,null,null,null,0,"مدفوع"]
[null,null,null,null,null,null,null,null,null,null,null,null,null,null,0,0,0,0,null,null,null,0,"مدفوع"]
[null,null,null,null,null,null,null,null,null,null,null,null,null,null,0,0,0,0,null,null,null,0,"مدفوع"]
[null,null,null,null,null,null,null,null,null,null,null,null,null,null,0,0,0,0,null,null,null,0,"مدفوع"]
[null,null,null,null,null,null,null,null,null,null,null,null,null,null,0,0,0,0,null,null,null,0,"مدفوع"]
[null,null,null,null,null,null,null,null,null,null,null,null,null,null,0,0,0,0,null,null,null,0,"مدفوع"]
[null,null,null,null,null,null,null,null,null,null,null,null,null,null,0,0,0,0,null,null,null,0,"مدفوع"]
[null,null,null,null,null,null,null,null,null,null,null,null,null,null,0,0,0,0,null,null,null,0,"مدفوع"]
[null,null,null,null,null,null,null,null,null,null,null,null,null,null,0,0,0,0,null,null,null,0,"مدفوع"]
[null,null,null,null,null,null,null,null,null,null,null,null,null,null,0,0,0,0,null,null,null,0,"مدفوع"]
[null,null,null,null,null,null,null,null,null,null,null,null,null,null,0,0,0,0,null,null,null,0,"مدفوع"]
[null,null,null,null,null,null,null,null,null,null,null,null,null,null,0,0,0,0,null,null,null,0,"مدفوع"]
[null,null,null,null,null,null,null,null,null,null,null,null,null,null,0,0,0,0,null,null,null,0,"مدفوع"]
[null,null,null,null,null,null,null,null,null,null,null,null,null,null,0,0,0,0,null,null,null,0,"مدفوع"]
[null,null,null,null,null,null,null,null,null,null,null,null,null,null,0,0,0,0,null,null,null,0,"مدفوع"]
[null,null,null,null,null,null,null,null,null,null,null,null,null,null,0,0,0,0,null,null,null,0,"مدفوع"]
[null,null,null,null,null,null,null,null,null,null,null,null,null,null,0,0,0,0,null,null,null,0,"مدفوع"]
[null,null,null,null,null,null,null,null,null,null,null,null,null,null,0,0,0,0,null,null,null,0,"مدفوع"]
[null,null,null,null,null,null,null,null,null,null,null,null,null,null,0,0,0,0,null,null,null,0,"مدفوع"]
[null,null,null,null,null,null,null,null,null,null,null,null,null,null,{"$f":"SUM(M1955-N1955)","v":0},0,{"$f":"SUM(K1955*150000/2.5)","v":0},{"$f":"SUM(O1955*4000)","v":0},null,null,null,{"$f":"SUM(P1955:S1955)-T1955","v":0},{"$f":"IF(V1955<=0,\"مدفوع\",\"غير مدفوع\")","v":"مدفوع"}]
[null,null,null,null,null,null,null,null,null,null,null,null,null,null,0,0,0,0,null,null,null,0,"مدفوع"]
[null,null,null,null,null,null,null,null,null,null,null,null,null,null,0,{"$f":"IF(L1957=0,0,IF(L1957<=5.5,150000,IF(L1957<=10.5,230000,IF(L1957<=15.5,300000,IF(L1957<=20.5,350000,IF(L1957<=25.5,400000,IF(L1957<=30.5,450000,IF(L1957<=35.5,500000,IF(L1957<=40.5,550000,IF(L1957<=45.5,600000,IF(L1957<=50.5,650000,IF(L1957<=55.5,700000,IF(L1957<=60.5,750000)))))))))))))","v":0},0,0,null,null,null,0,"مدفوع"]
[null,null,null,null,null,null,null,null,null,null,null,null,null,null,0,0,0,0,null,null,null,0,"مدفوع"]
[null,null,null,null,null,null,null,null,null,null,null,null,null,null,0,0,0,0,null,null,null,0,"مدفوع"]
[null,null,null,null,null,null,null,null,null,null,null,null,null,null,0,0,0,0,null,null,null,0,"مدفوع"]
[null,null,null,null,null,null,null,null,null,null,null,null,null,null,0,0,0,0,null,null,null,0,"مدفوع"]
[null,null,null,null,null,null,null,null,null,null,null,null,null,null,0,0,0,0,null,null,null,0,"مدفوع"]
[null,null,null,null,null,null,null,null,null,null,null,null,null,null,0,0,0,0,null,null,null,0,"مدفوع"]
[null,null,null,null,null,null,null,null,null,null,null,null,null,null,0,0,0,0,null,null,null,0,"مدفوع"]
[null,null,null,null,null,null,null,null,null,null,null,null,null,null,0,0,0,0,null,null,null,0,"مدفوع"]
[null,null,null,null,null,null,null,null,null,null,null,null,null,null,0,0,0,0,null,null,null,0,"مدفوع"]
[null,null,null,null,null,null,null,null,null,null,null,null,null,null,0,0,0,0,null,null,null,0,"مدفوع"]
[null,null,null,null,null,null,null,null,null,null,null,null,null,null,0,0,0,0,null,null,null,0,"مدفوع"]
[null,null,null,null,null,null,null,null,null,null,null,null,null,null,0,0,0,0,null,null,null,0,"مدفوع"]
[null,null,null,null,null,null,null,null,null,null,null,null,null,null,0,0,0,0,null,null,null,0,"مدفوع"]
[null,null,null,null,null,null,null,null,null,null,null,null,null,null,0,0,0,0,null,null,null,0,"مدفوع"]
[null,null,null,null,null,null,null,null,null,null,null,null,null,null,0,0,0,0,null,null,null,0,"مدفوع"]
[null,null,null,null,null,null,null,null,null,null,null,null,null,null,0,0,0,0,null,null,null,0,"مدفوع"]
[null,null,null,null,null,null,null,null,null,null,null,null,null,null,0,0,0,0,null,null,null,0,"مدفوع"]
[null,null,null,null,null,null,null,null,null,null,null,null,null,null,0,0,0,0,null,null,null,0,"مدفوع"]
[null,null,null,null,null,null,null,null,null,null,null,null,null,null,0,0,0,0,null,null,null,0,"مدفوع"]
[null,null,null,null,null,null,null,null,null,null,null,null,null,null,0,0,0,0,null,null,null,0,"مدفوع"]
[null,null,null,null,null,null,null,null,null,null,null,null,null,null,0,0,0,0,null,null,null,0,"مدفوع"]
[null,null,null,null,null,null,null,null,null,null,null,null,null,null,0,0,0,0,null,null,null,0,"مدفوع"]
[null,null,null,null,null,null,null,null,null,null,null,null,null,null,0,0,0,0,null,null,null,0,"مدفوع"]
[null,null,null,null,null,null,null,null,null,null,null,null,null,null,0,0,0,0,null,null,null,0,"مدفوع"]
[null,null,null,null,null,null,null,null,null,null,null,null,null,null,0,0,0,0,null,null,null,0,"مدفوع"]
[null,null,null,null,null,null,null,null,null,null,null,null,null,null,0,0,0,0,null,null,null,0,"مدفوع"]
[null,null,null,null,null,null,null,null,null,null,null,null,null,null,0,0,0,0,null,null,null,0,"مدفوع"]
[null,null,null,null,null,null,null,null,null,null,null,null,null,null,0,0,0,0,null,null,null,0,"مدفوع"]
[null,null,null,null,null,null,null,null,null,null,null,null,null,null,0,0,0,0,null,null,null,0,"مدفوع"]
[null,null,null,null,null,null,null,null,null,null,null,null,null,null,0,0,0,0,null,null,null,0,"مدفوع"]
[null,null,null,null,null,null,null,null,null,null,null,null,null,null,0,0,0,0,null,null,null,0,"مدفوع"]
[null,null,null,null,null,null,null,null,null,null,null,null,null,null,0,0,0,0,null,null,null,0,"مدفوع"]
[null,null,null,null,null,null,null,null,null,null,null,null,null,null,0,0,0,0,null,null,null,0,"مدفوع"]
[null,null,null,null,null,null,null,null,null,null,null,null,null,null,0,0,0,0,null,null,null,0,"مدفوع"]
[null,null,null,null,null,null,null,null,null,null,null,null,null,null,0,0,0,0,null,null,null,0,"مدفوع"]
[null,null,null,null,null,null,null,null,null,null,null,null,null,null,0,0,0,0,null,null,null,0,"مدفوع"]
[null,null,null,null,null,null,null,null,null,null,null,null,null,null,0,0,0,0,null,null,null,0,"مدفوع"]
[null,null,null,null,null,null,null,null,null,null,null,null,null,null,0,0,0,0,null,null,null,0,"مدفوع"]
[null,null,null,null,null,null,null,null,null,null,null,null,null,null,0,0,0,0,null,null,null,0,"مدفوع"]
[null,null,null,null,null,null,null,null,null,null,null,null,null,null,0,0,0,0,null,null,null,0,"مدفوع"]
[null,null,null,null,null,null,null,null,null,null,null,null,null,null,0,0,0,0,null,null,null,0,"مدفوع"]
[null,null,null,null,null,null,null,null,null,null,null,null,null,null,0,0,0,0,null,null,null,0,"مدفوع"]
[null,null,null,null,null,null,null,null,null,null,null,null,null,null,0,0,0,0,null,null,null,0,"مدفوع"]
[null,null,null,null,null,null,null,null,null,null,null,null,null,null,0,0,0,0,null,null,null,0,"مدفوع"]
[null,null,null,null,null,null,null,null,null,null,null,null,null,null,0,0,0,0,null,null,null,0,"مدفوع"]
[null,null,null,null,null,null,null,null,null,null,null,null,null,null,0,0,0,0,null,null,null,0,"مدفوع"]
[null,null,null,null,null,null,null,null,null,null,null,null,null,null,0,0,0,0,null,null,null,0,"مدفوع"]
[null,null,null,null,null,null,null,null,null,null,null,null,null,null,0,0,0,0,null,null,null,0,"مدفوع"]
[null,null,null,null,null,null,null,null,null,null,null,null,null,null,0,0,0,0,null,null,null,0,"مدفوع"]
[null,null,null,null,null,null,null,null,null,null,null,null,null,null,0,0,0,0,null,null,null,0,"مدفوع"]
[null,null,null,null,null,null,null,null,null,null,null,null,null,null,0,0,0,0,null,null,null,0,"مدفوع"]
[null,null,null,null,null,null,null,null,null,null,null,null,null,null,0,0,0,0,null,null,null,0,"مدفوع"]
[null,null,null,null,null,null,null,null,null,null,null,null,null,null,0,0,0,0,null,null,null,0,"مدفوع"]
[null,null,null,null,null,null,null,null,null,null,null,null,null,null,0,0,0,0,null,null,null,0,"مدفوع"]
[null,null,null,null,null,null,null,null,null,null,null,null,null,null,0,0,0,0,null,null,null,0,"مدفوع"]
[null,null,null,null,null,null,null,null,null,null,null,null,null,null,0,0,0,0,null,null,null,0,"مدفوع"]
[null,null,null,null,null,null,null,null,null,null,null,null,null,null,0,0,0,0,null,null,null,0,"مدفوع"]
[null,null,null,null,null,null,null,null,null,null,null,null,null,null,0,0,0,0,null,null,null,0,"مدفوع"]
[null,null,null,null,null,null,null,null,null,null,null,null,null,null,0,0,0,0,null,null,null,0,"مدفوع"]
[null,null,null,null,null,null,null,null,null,null,null,null,null,null,0,0,0,0,null,null,null,0,"مدفوع"]
[null,null,null,null,null,null,null,null,null,null,null,null,null,null,0,0,0,0,null,null,null,0,"مدفوع"]
[null,null,null,null,null,null,null,null,null,null,null,null,null,null,{"$f":"SUM(M2019-N2019)","v":0},0,{"$f":"SUM(K2019*150000/2.5)","v":0},{"$f":"SUM(O2019*4000)","v":0},null,null,null,{"$f":"SUM(P2019:S2019)-T2019","v":0},{"$f":"IF(V2019<=0,\"مدفوع\",\"غير مدفوع\")","v":"مدفوع"}]
[null,null,null,null,null,null,null,null,null,null,null,null,null,null,0,0,0,0,null,null,null,0,"مدفوع"]
[null,null,null,null,null,null,null,null,null,null,null,null,null,null,0,{"$f":"IF(L2021=0,0,IF(L2021<=5.5,150000,IF(L2021<=10.5,230000,IF(L2021<=15.5,300000,IF(L2021<=20.5,350000,IF(L2021<=25.5,400000,IF(L2021<=30.5,450000,IF(L2021<=35.5,500000,IF(L2021<=40.5,550000,IF(L2021<=45.5,600000,IF(L2021<=50.5,650000,IF(L2021<=55.5,700000,IF(L2021<=60.5,750000)))))))))))))","v":0},0,0,null,null,null,0,"مدفوع"]
[null,null,null,null,null,null,null,null,null,null,null,null,null,null,0,0,0,0,null,null,null,0,"مدفوع"]
[null,null,null,null,null,null,null,null,null,null,null,null,null,null,0,0,0,0,null,null,null,0,"مدفوع"]
[null,null,null,null,null,null,null,null,null,null,null,null,null,null,0,0,0,0,null,null,null,0,"مدفوع"]
[null,null,null,null,null,null,null,null,null,null,null,null,null,null,0,0,0,0,null,null,null,0,"مدفوع"]
[null,null,null,null,null,null,null,null,null,null,null,null,null,null,0,0,0,0,null,null,null,0,"مدفوع"]
[null,null,null,null,null,null,null,null,null,null,null,null,null,null,0,0,0,0,null,null,null,0,"مدفوع"]
[null,null,null,null,null,null,null,null,null,null,null,null,null,null,0,0,0,0,null,null,null,0,"مدفوع"]
[null,null,null,null,null,null,null,null,null,null,null,null,null,null,0,0,0,0,null,null,null,0,"مدفوع"]
[null,null,null,null,null,null,null,null,null,null,null,null,null,null,0,0,0,0,null,null,null,0,"مدفوع"]
[null,null,null,null,null,null,null,null,null,null,null,null,null,null,0,0,0,0,null,null,null,0,"مدفوع"]
[null,null,null,null,null,null,null,null,null,null,null,null,null,null,0,0,0,0,null,null,null,0,"مدفوع"]
[null,null,null,null,null,null,null,null,null,null,null,null,null,null,0,0,0,0,null,null,null,0,"مدفوع"]
[null,null,null,null,null,null,null,null,null,null,null,null,null,null,0,0,0,0,null,null,null,0,"مدفوع"]
[null,null,null,null,null,null,null,null,null,null,null,null,null,null,0,0,0,0,null,null,null,0,"مدفوع"]
[null,null,null,null,null,null,null,null,null,null,null,null,null,null,0,0,0,0,null,null,null,0,"مدفوع"]
[null,null,null,null,null,null,null,null,null,null,null,null,null,null,0,0,0,0,null,null,null,0,"مدفوع"]
[null,null,null,null,null,null,null,null,null,null,null,null,null,null,0,0,0,0,null,null,null,0,"مدفوع"]
[null,null,null,null,null,null,null,null,null,null,null,null,null,null,0,0,0,0,null,null,null,0,"مدفوع"]
[null,null,null,null,null,null,null,null,null,null,null,null,null,null,0,0,0,0,null,null,null,0,"مدفوع"]
[null,null,null,null,null,null,null,null,null,null,null,null,null,null,0,0,0,0,null,null,null,0,"مدفوع"]
[null,null,null,null,null,null,null,null,null,null,null,null,null,null,0,0,0,0,null,null,null,0,"مدفوع"]
[null,null,null,null,null,null,null,null,null,null,null,null,null,null,0,0,0,0,null,null,null,0,"مدفوع"]
[null,null,null,null,null,null,null,null,null,null,null,null,null,null,0,0,0,0,null,null,null,0,"مدفوع"]
[null,null,null,null,null,null,null,null,null,null,null,null,null,null,0,0,0,0,null,null,null,0,"مدفوع"]
[null,null,null,null,null,null,null,null,null,null,null,null,null,null,0,0,0,0,null,null,null,0,"مدفوع"]
[null,null,null,null,null,null,null,null,null,null,null,null,null,null,0,0,0,0,null,null,null,0,"مدفوع"]
[null,null,null,null,null,null,null,null,null,null,null,null,null,null,0,0,0,0,null,null,null,0,"مدفوع"]
[null,null,null,null,null,null,null,null,null,null,null,null,null,null,0,0,0,0,null,null,null,0,"مدفوع"]
[null,null,null,null,null,null,null,null,null,null,null,null,null,null,0,0,0,0,null,null,null,0,"مدفوع"]
[null,null,null,null,null,null,null,null,null,null,null,null,null,null,0,0,0,0,null,null,null,0,"مدفوع"]
[null,null,null,null,null,null,null,null,null,null,null,null,null,null,0,0,0,0,null,null,null,0,"مدفوع"]
[null,null,null,null,null,null,null,null,null,null,null,null,null,null,0,0,0,0,null,null,null,0,"مدفوع"]
[null,null,null,null,null,null,null,null,null,null,null,null,null,null,0,0,0,0,null,null,null,0,"مدفوع"]
[null,null,null,null,null,null,null,null,null,null,null,null,null,null,0,0,0,0,null,null,null,0,"مدفوع"]
[null,null,null,null,null,null,null,null,null,null,null,null,null,null,0,0,0,0,null,null,null,0,"مدفوع"]
[null,null,null,null,null,null,null,null,null,null,null,null,null,null,0,0,0,0,null,null,null,0,"مدفوع"]
[null,null,null,null,null,null,null,null,null,null,null,null,null,null,0,0,0,0,null,null,null,0,"مدفوع"]
[null,null,null,null,null,null,null,null,null,null,null,null,null,null,0,0,0,0,null,null,null,0,"مدفوع"]
[null,null,null,null,null,null,null,null,null,null,null,null,null,null,0,0,0,0,null,null,null,0,"مدفوع"]
[null,null,null,null,null,null,null,null,null,null,null,null,null,null,0,0,0,0,null,null,null,0,"مدفوع"]
[null,null,null,null,null,null,null,null,null,null,null,null,null,null,0,0,0,0,null,null,null,0,"مدفوع"]
[null,null,null,null,null,null,null,null,null,null,null,null,null,null,0,0,0,0,null,null,null,0,"مدفوع"]
[null,null,null,null,null,null,null,null,null,null,null,null,null,null,0,0,0,0,null,null,null,0,"مدفوع"]
[null,null,null,null,null,null,null,null,null,null,null,null,null,null,0,0,0,0,null,null,null,0,"مدفوع"]
[null,null,null,null,null,null,null,null,null,null,null,null,null,null,0,0,0,0,null,null,null,0,"مدفوع"]
[null,null,null,null,null,null,null,null,null,null,null,null,null,null,0,0,0,0,null,null,null,0,"مدفوع"]
[null,null,null,null,null,null,null,null,null,null,null,null,null,null,0,0,0,0,null,null,null,0,"مدفوع"]
[null,null,null,null,null,null,null,null,null,null,null,null,null,null,0,0,0,0,null,null,null,0,"مدفوع"]
[null,null,null,null,null,null,null,null,null,null,null,null,null,null,0,0,0,0,null,null,null,0,"مدفوع"]
[null,null,null,null,null,null,null,null,null,null,null,null,null,null,0,0,0,0,null,null,null,0,"مدفوع"]
[null,null,null,null,null,null,null,null,null,null,null,null,null,null,0,0,0,0,null,null,null,0,"مدفوع"]
[null,null,null,null,null,null,null,null,null,null,null,null,null,null,0,0,0,0,null,null,null,0,"مدفوع"]
[null,null,null,null,null,null,null,null,null,null,null,null,null,null,0,0,0,0,null,null,null,0,"مدفوع"]
[null,null,null,null,null,null,null,null,null,null,null,null,null,null,0,0,0,0,null,null,null,0,"مدفوع"]
[null,null,null,null,null,null,null,null,null,null,null,null,null,null,0,0,0,0,null,null,null,0,"مدفوع"]
[null,null,null,null,null,null,null,null,null,null,null,null,null,null,0,0,0,0,null,null,null,0,"مدفوع"]
[null,null,null,null,null,null,null,null,null,null,null,null,null,null,0,0,0,0,null,null,null,0,"مدفوع"]
[null,null,null,null,null,null,null,null,null,null,null,null,null,null,0,0,0,0,null,null,null,0,"مدفوع"]
[null,null,null,null,null,null,null,null,null,null,null,null,null,null,0,0,0,0,null,null,null,0,"مدفوع"]
[null,null,null,null,null,null,null,null,null,null,null,null,null,null,0,0,0,0,null,null,null,0,"مدفوع"]
[null,null,null,null,null,null,null,null,null,null,null,null,null,null,0,0,0,0,null,null,null,0,"مدفوع"]
[null,null,null,null,null,null,null,null,null,null,null,null,null,null,{"$f":"SUM(M2083-N2083)","v":0},0,{"$f":"SUM(K2083*150000/2.5)","v":0},{"$f":"SUM(O2083*4000)","v":0},null,null,null,{"$f":"SUM(P2083:S2083)-T2083","v":0},{"$f":"IF(V2083<=0,\"مدفوع\",\"غير مدفوع\")","v":"مدفوع"}]
[null,null,null,null,null,null,null,null,null,null,null,null,null,null,0,0,0,0,null,null,null,0,"مدفوع"]
[null,null,null,null,null,null,null,null,null,null,null,null,null,null,0,{"$f":"IF(L2085=0,0,IF(L2085<=5.5,150000,IF(L2085<=10.5,230000,IF(L2085<=15.5,300000,IF(L2085<=20.5,350000,IF(L2085<=25.5,400000,IF(L2085<=30.5,450000,IF(L2085<=35.5,500000,IF(L2085<=40.5,550000,IF(L2085<=45.5,600000,IF(L2085<=50.5,650000,IF(L2085<=55.5,700000,IF(L2085<=60.5,750000)))))))))))))","v":0},0,0,null,null,null,0,"مدفوع"]
[null,null,null,null,null,null,null,null,null,null,null,null,null,null,0,0,0,0,null,null,null,0,"مدفوع"]
[null,null,null,null,null,null,null,null,null,null,null,null,null,null,0,0,0,0,null,null,null,0,"مدفوع"]
[null,null,null,null,null,null,null,null,null,null,null,null,null,null,0,0,0,0,null,null,null,0,"مدفوع"]
[null,null,null,null,null,null,null,null,null,null,null,null,null,null,0,0,0,0,null,null,null,0,"مدفوع"]
[null,null,null,null,null,null,null,null,null,null,null,null,null,null,0,0,0,0,null,null,null,0,"مدفوع"]
[null,null,null,null,null,null,null,null,null,null,null,null,null,null,0,0,0,0,null,null,null,0,"مدفوع"]
[null,null,null,null,null,null,null,null,null,null,null,null,null,null,0,0,0,0,null,null,null,0,"مدفوع"]
[null,null,null,null,null,null,null,null,null,null,null,null,null,null,0,0,0,0,null,null,null,0,"مدفوع"]
[null,null,null,null,null,null,null,null,null,null,null,null,null,null,0,0,0,0,null,null,null,0,"مدفوع"]
[null,null,null,null,null,null,null,null,null,null,null,null,null,null,0,0,0,0,null,null,null,0,"مدفوع"]
[null,null,null,null,null,null,null,null,null,null,null,null,null,null,0,0,0,0,null,null,null,0,"مدفوع"]
[null,null,null,null,null,null,null,null,null,null,null,null,null,null,0,0,0,0,null,null,null,0,"مدفوع"]
[null,null,null,null,null,null,null,null,null,null,null,null,null,null,0,0,0,0,null,null,null,0,"مدفوع"]
[null,null,null,null,null,null,null,null,null,null,null,null,null,null,0,0,0,0,null,null,null,0,"مدفوع"]
[null,null,null,null,null,null,null,null,null,null,null,null,null,null,0,0,0,0,null,null,null,0,"مدفوع"]
[null,null,null,null,null,null,null,null,null,null,null,null,null,null,0,0,0,0,null,null,null,0,"مدفوع"]
[null,null,null,null,null,null,null,null,null,null,null,null,null,null,0,0,0,0,null,null,null,0,"مدفوع"]
[null,null,null,null,null,null,null,null,null,null,null,null,null,null,0,0,0,0,null,null,null,0,"مدفوع"]
[null,null,null,null,null,null,null,null,null,null,null,null,null,null,0,0,0,0,null,null,null,0,"مدفوع"]
[null,null,null,null,null,null,null,null,null,null,null,null,null,null,0,0,0,0,null,null,null,0,"مدفوع"]
[null,null,null,null,null,null,null,null,null,null,null,null,null,null,0,0,0,0,null,null,null,0,"مدفوع"]
[null,null,null,null,null,null,null,null,null,null,null,null,null,null,0,0,0,0,null,null,null,0,"مدفوع"]
[null,null,null,null,null,null,null,null,null,null,null,null,null,null,0,0,0,0,null,null,null,0,"مدفوع"]
[null,null,null,null,null,null,null,null,null,null,null,null,null,null,0,0,0,0,null,null,null,0,"مدفوع"]
[null,null,null,null,null,null,null,null,null,null,null,null,null,null,0,0,0,0,null,null,null,0,"مدفوع"]
[null,null,null,null,null,null,null,null,null,null,null,null,null,null,0,0,0,0,null,null,null,0,"مدفوع"]
[null,null,null,null,null,null,null,null,null,null,null,null,null,null,0,0,0,0,null,null,null,0,"مدفوع"]
[null,null,null,null,null,null,null,null,null,null,null,null,null,null,0,0,0,0,null,null,null,0,"مدفوع"]
[null,null,null,null,null,null,null,null,null,null,null,null,null,null,0,0,0,0,null,null,null,0,"مدفوع"]
[null,null,null,null,null,null,null,null,null,null,null,null,null,null,0,0,0,0,null,null,null,0,"مدفوع"]
[null,null,null,null,null,null,null,null,null,null,null,null,null,null,0,0,0,0,null,null,null,0,"مدفوع"]
[null,null,null,null,null,null,null,null,null,null,null,null,null,null,0,0,0,0,null,null,null,0,"مدفوع"]
[null,null,null,null,null,null,null,null,null,null,null,null,null,null,0,0,0,0,null,null,null,0,"مدفوع"]
[null,null,null,null,null,null,null,null,null,null,null,null,null,null,0,0,0,0,null,null,null,0,"مدفوع"]
[null,null,null,null,null,null,null,null,null,null,null,null,null,null,0,0,0,0,null,null,null,0,"مدفوع"]
[null,null,null,null,null,null,null,null,null,null,null,null,null,null,0,0,0,0,null,null,null,0,"مدفوع"]
[null,null,null,null,null,null,null,null,null,null,null,null,null,null,0,0,0,0,null,null,null,0,"مدفوع"]
[null,null,null,null,null,null,null,null,null,null,null,null,null,null,0,0,0,0,null,null,null,0,"مدفوع"]
[null,null,null,null,null,null,null,null,null,null,null,null,null,null,0,0,0,0,null,null,null,0,"مدفوع"]
[null,null,null,null,null,null,null,null,null,null,null,null,null,null,0,0,0,0,null,null,null,0,"مدفوع"]
[null,null,null,null,null,null,null,null,null,null,null,null,null,null,0,0,0,0,null,null,null,0,"مدفوع"]
[null,null,null,null,null,null,null,null,null,null,null,null,null,null,0,0,0,0,null,null,null,0,"مدفوع"]
[null,null,null,null,null,null,null,null,null,null,null,null,null,null,0,0,0,0,null,null,null,0,"مدفوع"]
[null,null,null,null,null,null,null,null,null,null,null,null,null,null,0,0,0,0,null,null,null,0,"مدفوع"]
[null,null,null,null,null,null,null,null,null,null,null,null,null,null,0,0,0,0,null,null,null,0,"مدفوع"]
[null,null,null,null,null,null,null,null,null,null,null,null,null,null,0,0,0,0,null,null,null,0,"مدفوع"]
[null,null,null,null,null,null,null,null,null,null,null,null,null,null,0,0,0,0,null,null,null,0,"مدفوع"]
[null,null,null,null,null,null,null,null,null,null,null,null,null,null,0,0,0,0,null,null,null,0,"مدفوع"]
[null,null,null,null,null,null,null,null,null,null,null,null,null,null,0,0,0,0,null,null,null,0,"مدفوع"]
[null,null,null,null,null,null,null,null,null,null,null,null,null,null,0,0,0,0,null,null,null,0,"مدفوع"]
[null,null,null,null,null,null,null,null,null,null,null,null,null,null,0,0,0,0,null,null,null,0,"مدفوع"]
[null,null,null,null,null,null,null,null,null,null,null,null,null,null,0,0,0,0,null,null,null,0,"مدفوع"]
[null,null,null,null,null,null,null,null,null,null,null,null,null,null,0,0,0,0,null,null,null,0,"مدفوع"]
[null,null,null,null,null,null,null,null,null,null,null,null,null,null,0,0,0,0,null,null,null,0,"مدفوع"]
[null,null,null,null,null,null,null,null,null,null,null,null,null,null,0,0,0,0,null,null,null,0,"مدفوع"]
[null,null,null,null,null,null,null,null,null,null,null,null,null,null,0,0,0,0,null,null,null,0,"مدفوع"]
[null,null,null,null,null,null,null,null,null,null,null,null,null,null,0,0,0,0,null,null,null,0,"مدفوع"]
[null,null,null,null,null,null,null,null,null,null,null,null,null,null,0,0,0,0,null,null,null,0,"مدفوع"]
[null,null,null,null,null,null,null,null,null,null,null,null,null,null,0,0,0,0,null,null,null,0,"مدفوع"]
[null,null,null,null,null,null,null,null,null,null,null,null,null,null,0,0,0,0,null,null,null,0,"مدفوع"]
[null,null,null,null,null,null,null,null,null,null,null,null,null,null,0,0,0,0,null,null,null,0,"مدفوع"]
[null,null,null,null,null,null,null,null,null,null,null,null,null,null,{"$f":"SUM(M2147-N2147)","v":0},0,{"$f":"SUM(K2147*150000/2.5)","v":0},{"$f":"SUM(O2147*4000)","v":0},null,null,null,{"$f":"SUM(P2147:S2147)-T2147","v":0},{"$f":"IF(V2147<=0,\"مدفوع\",\"غير مدفوع\")","v":"مدفوع"}]
[null,null,null,null,null,null,null,null,null,null,null,null,null,null,0,0,0,0,null,null,null,0,"مدفوع"]
[null,null,null,null,null,null,null,null,null,null,null,null,null,null,0,{"$f":"IF(L2149=0,0,IF(L2149<=5.5,150000,IF(L2149<=10.5,230000,IF(L2149<=15.5,300000,IF(L2149<=20.5,350000,IF(L2149<=25.5,400000,IF(L2149<=30.5,450000,IF(L2149<=35.5,500000,IF(L2149<=40.5,550000,IF(L2149<=45.5,600000,IF(L2149<=50.5,650000,IF(L2149<=55.5,700000,IF(L2149<=60.5,750000)))))))))))))","v":0},0,0,null,null,null,0,"مدفوع"]
[null,null,null,null,null,null,null,null,null,null,null,null,null,null,0,0,0,0,null,null,null,0,"مدفوع"]
[null,null,null,null,null,null,null,null,null,null,null,null,null,null,0,0,0,0,null,null,null,0,"مدفوع"]
[null,null,null,null,null,null,null,null,null,null,null,null,null,null,0,0,0,0,null,null,null,0,"مدفوع"]
[null,null,null,null,null,null,null,null,null,null,null,null,null,null,0,0,0,0,null,null,null,0,"مدفوع"]
[null,null,null,null,null,null,null,null,null,null,null,null,null,null,0,0,0,0,null,null,null,0,"مدفوع"]
[null,null,null,null,null,null,null,null,null,null,null,null,null,null,0,0,0,0,null,null,null,0,"مدفوع"]
[null,null,null,null,null,null,null,null,null,null,null,null,null,null,0,0,0,0,null,null,null,0,"مدفوع"]
[null,null,null,null,null,null,null,null,null,null,null,null,null,null,0,0,0,0,null,null,null,0,"مدفوع"]
[null,null,null,null,null,null,null,null,null,null,null,null,null,null,0,0,0,0,null,null,null,0,"مدفوع"]
[null,null,null,null,null,null,null,null,null,null,null,null,null,null,0,0,0,0,null,null,null,0,"مدفوع"]
[null,null,null,null,null,null,null,null,null,null,null,null,null,null,0,0,0,0,null,null,null,0,"مدفوع"]
[null,null,null,null,null,null,null,null,null,null,null,null,null,null,0,0,0,0,null,null,null,0,"مدفوع"]
[null,null,null,null,null,null,null,null,null,null,null,null,null,null,0,0,0,0,null,null,null,0,"مدفوع"]
[null,null,null,null,null,null,null,null,null,null,null,null,null,null,0,0,0,0,null,null,null,0,"مدفوع"]
[null,null,null,null,null,null,null,null,null,null,null,null,null,null,0,0,0,0,null,null,null,0,"مدفوع"]
[null,null,null,null,null,null,null,null,null,null,null,null,null,null,0,0,0,0,null,null,null,0,"مدفوع"]
[null,null,null,null,null,null,null,null,null,null,null,null,null,null,0,0,0,0,null,null,null,0,"مدفوع"]
[null,null,null,null,null,null,null,null,null,null,null,null,null,null,0,0,0,0,null,null,null,0,"مدفوع"]
[null,null,null,null,null,null,null,null,null,null,null,null,null,null,0,0,0,0,null,null,null,0,"مدفوع"]
[null,null,null,null,null,null,null,null,null,null,null,null,null,null,0,0,0,0,null,null,null,0,"مدفوع"]
[null,null,null,null,null,null,null,null,null,null,null,null,null,null,0,0,0,0,null,null,null,0,"مدفوع"]
[null,null,null,null,null,null,null,null,null,null,null,null,null,null,0,0,0,0,null,null,null,0,"مدفوع"]
[null,null,null,null,null,null,null,null,null,null,null,null,null,null,0,0,0,0,null,null,null,0,"مدفوع"]
[null,null,null,null,null,null,null,null,null,null,null,null,null,null,0,0,0,0,null,null,null,0,"مدفوع"]
[null,null,null,null,null,null,null,null,null,null,null,null,null,null,0,0,0,0,null,null,null,0,"مدفوع"]
[null,null,null,null,null,null,null,null,null,null,null,null,null,null,0,0,0,0,null,null,null,0,"مدفوع"]
[null,null,null,null,null,null,null,null,null,null,null,null,null,null,0,0,0,0,null,null,null,0,"مدفوع"]
[null,null,null,null,null,null,null,null,null,null,null,null,null,null,0,0,0,0,null,null,null,0,"مدفوع"]
[null,null,null,null,null,null,null,null,null,null,null,null,null,null,0,0,0,0,null,null,null,0,"مدفوع"]
[null,null,null,null,null,null,null,null,null,null,null,null,null,null,0,0,0,0,null,null,null,0,"مدفوع"]
[null,null,null,null,null,null,null,null,null,null,null,null,null,null,0,0,0,0,null,null,null,0,"مدفوع"]
[null,null,null,null,null,null,null,null,null,null,null,null,null,null,0,0,0,0,null,null,null,0,"مدفوع"]
[null,null,null,null,null,null,null,null,null,null,null,null,null,null,0,0,0,0,null,null,null,0,"مدفوع"]
[null,null,null,null,null,null,null,null,null,null,null,null,null,null,0,0,0,0,null,null,null,0,"مدفوع"]
[null,null,null,null,null,null,null,null,null,null,null,null,null,null,0,0,0,0,null,null,null,0,"مدفوع"]
[null,null,null,null,null,null,null,null,null,null,null,null,null,null,0,0,0,0,null,null,null,0,"مدفوع"]
[null,null,null,null,null,null,null,null,null,null,null,null,null,null,0,0,0,0,null,null,null,0,"مدفوع"]
[null,null,null,null,null,null,null,null,null,null,null,null,null,null,0,0,0,0,null,null,null,0,"مدفوع"]
[null,null,null,null,null,null,null,null,null,null,null,null,null,null,0,0,0,0,null,null,null,0,"مدفوع"]
[null,null,null,null,null,null,null,null,null,null,null,null,null,null,0,0,0,0,null,null,null,0,"مدفوع"]
[null,null,null,null,null,null,null,null,null,null,null,null,null,null,0,0,0,0,null,null,null,0,"مدفوع"]
[null,null,null,null,null,null,null,null,null,null,null,null,null,null,0,0,0,0,null,null,null,0,"مدفوع"]
[null,null,null,null,null,null,null,null,null,null,null,null,null,null,0,0,0,0,null,null,null,0,"مدفوع"]
[null,null,null,null,null,null,null,null,null,null,null,null,null,null,0,0,0,0,null,null,null,0,"مدفوع"]
[null,null,null,null,null,null,null,null,null,null,null,null,null,null,0,0,0,0,null,null,null,0,"مدفوع"]
[null,null,null,null,null,null,null,null,null,null,null,null,null,null,0,0,0,0,null,null,null,0,"مدفوع"]
[null,null,null,null,null,null,null,null,null,null,null,null,null,null,0,0,0,0,null,null,null,0,"مدفوع"]
[null,null,null,null,null,null,null,null,null,null,null,null,null,null,0,0,0,0,null,null,null,0,"مدفوع"]
[null,null,null,null,null,null,null,null,null,null,null,null,null,null,0,0,0,0,null,null,null,0,"مدفوع"]
[null,null,null,null,null,null,null,null,null,null,null,null,null,null,0,0,0,0,null,null,null,0,"مدفوع"]
[null,null,null,null,null,null,null,null,null,null,null,null,null,null,0,0,0,0,null,null,null,0,"مدفوع"]
[null,null,null,null,null,null,null,null,null,null,null,null,null,null,0,0,0,0,null,null,null,0,"مدفوع"]
[null,null,null,null,null,null,null,null,null,null,null,null,null,null,0,0,0,0,null,null,null,0,"مدفوع"]
[null,null,null,null,null,null,null,null,null,null,null,null,null,null,0,0,0,0,null,null,null,0,"مدفوع"]
[null,null,null,null,null,null,null,null,null,null,null,null,null,null,0,0,0,0,null,null,null,0,"مدفوع"]
[null,null,null,null,null,null,null,null,null,null,null,null,null,null,0,0,0,0,null,null,null,0,"مدفوع"]
[null,null,null,null,null,null,null,null,null,null,null,null,null,null,0,0,0,0,null,null,null,0,"مدفوع"]
[null,null,null,null,null,null,null,null,null,null,null,null,null,null,0,0,0,0,null,null,null,0,"مدفوع"]
[null,null,null,null,null,null,null,null,null,null,null,null,null,null,0,0,0,0,null,null,null,0,"مدفوع"]
[null,null,null,null,null,null,null,null,null,null,null,null,null,null,0,0,0,0,null,null,null,0,"مدفوع"]
[null,null,null,null,null,null,null,null,null,null,null,null,null,null,0,0,0,0,null,null,null,0,"مدفوع"]
[null,null,null,null,null,null,null,null,null,null,null,null,null,null,{"$f":"SUM(M2211-N2211)","v":0},0,{"$f":"SUM(K2211*150000/2.5)","v":0},{"$f":"SUM(O2211*4000)","v":0},null,null,null,{"$f":"SUM(P2211:S2211)-T2211","v":0},{"$f":"IF(V2211<=0,\"مدفوع\",\"غير مدفوع\")","v":"مدفوع"}]
[null,null,null,null,null,null,null,null,null,null,null,null,null,null,0,0,0,0,null,null,null,0,"مدفوع"]
[null,null,null,null,null,null,null,null,null,null,null,null,null,null,0,{"$f":"IF(L2213=0,0,IF(L2213<=5.5,150000,IF(L2213<=10.5,230000,IF(L2213<=15.5,300000,IF(L2213<=20.5,350000,IF(L2213<=25.5,400000,IF(L2213<=30.5,450000,IF(L2213<=35.5,500000,IF(L2213<=40.5,550000,IF(L2213<=45.5,600000,IF(L2213<=50.5,650000,IF(L2213<=55.5,700000,IF(L2213<=60.5,750000)))))))))))))","v":0},0,0,null,null,null,0,"مدفوع"]
[null,null,null,null,null,null,null,null,null,null,null,null,null,null,0,0,0,0,null,null,null,0,"مدفوع"]
[null,null,null,null,null,null,null,null,null,null,null,null,null,null,0,0,0,0,null,null,null,0,"مدفوع"]
[null,null,null,null,null,null,null,null,null,null,null,null,null,null,0,0,0,0,null,null,null,0,"مدفوع"]
[null,null,null,null,null,null,null,null,null,null,null,null,null,null,0,0,0,0,null,null,null,0,"مدفوع"]
[null,null,null,null,null,null,null,null,null,null,null,null,null,null,0,0,0,0,null,null,null,0,"مدفوع"]
[null,null,null,null,null,null,null,null,null,null,null,null,null,null,0,0,0,0,null,null,null,0,"مدفوع"]
[null,null,null,null,null,null,null,null,null,null,null,null,null,null,0,0,0,0,null,null,null,0,"مدفوع"]
[null,null,null,null,null,null,null,null,null,null,null,null,null,null,0,0,0,0,null,null,null,0,"مدفوع"]
[null,null,null,null,null,null,null,null,null,null,null,null,null,null,0,0,0,0,null,null,null,0,"مدفوع"]
[null,null,null,null,null,null,null,null,null,null,null,null,null,null,0,0,0,0,null,null,null,0,"مدفوع"]
[null,null,null,null,null,null,null,null,null,null,null,null,null,null,0,0,0,0,null,null,null,0,"مدفوع"]
[null,null,null,null,null,null,null,null,null,null,null,null,null,null,0,0,0,0,null,null,null,0,"مدفوع"]
[null,null,null,null,null,null,null,null,null,null,null,null,null,null,0,0,0,0,null,null,null,0,"مدفوع"]
[null,null,null,null,null,null,null,null,null,null,null,null,null,null,0,0,0,0,null,null,null,0,"مدفوع"]
[null,null,null,null,null,null,null,null,null,null,null,null,null,null,0,0,0,0,null,null,null,0,"مدفوع"]
[null,null,null,null,null,null,null,null,null,null,null,null,null,null,0,0,0,0,null,null,null,0,"مدفوع"]
[null,null,null,null,null,null,null,null,null,null,null,null,null,null,0,0,0,0,null,null,null,0,"مدفوع"]
[null,null,null,null,null,null,null,null,null,null,null,null,null,null,0,0,0,0,null,null,null,0,"مدفوع"]
[null,null,null,null,null,null,null,null,null,null,null,null,null,null,0,0,0,0,null,null,null,0,"مدفوع"]
[null,null,null,null,null,null,null,null,null,null,null,null,null,null,0,0,0,0,null,null,null,0,"مدفوع"]
[null,null,null,null,null,null,null,null,null,null,null,null,null,null,0,0,0,0,null,null,null,0,"مدفوع"]
[null,null,null,null,null,null,null,null,null,null,null,null,null,null,0,0,0,0,null,null,null,0,"مدفوع"]
[null,null,null,null,null,null,null,null,null,null,null,null,null,null,0,0,0,0,null,null,null,0,"مدفوع"]
[null,null,null,null,null,null,null,null,null,null,null,null,null,null,0,0,0,0,null,null,null,0,"مدفوع"]
[null,null,null,null,null,null,null,null,null,null,null,null,null,null,0,0,0,0,null,null,null,0,"مدفوع"]
[null,null,null,null,null,null,null,null,null,null,null,null,null,null,0,0,0,0,null,null,null,0,"مدفوع"]
[null,null,null,null,null,null,null,null,null,null,null,null,null,null,0,0,0,0,null,null,null,0,"مدفوع"]
[null,null,null,null,null,null,null,null,null,null,null,null,null,null,0,0,0,0,null,null,null,0,"مدفوع"]
[null,null,null,null,null,null,null,null,null,null,null,null,null,null,0,0,0,0,null,null,null,0,"مدفوع"]
[null,null,null,null,null,null,null,null,null,null,null,null,null,null,0,0,0,0,null,null,null,0,"مدفوع"]
[null,null,null,null,null,null,null,null,null,null,null,null,null,null,0,0,0,0,null,null,null,0,"مدفوع"]
[null,null,null,null,null,null,null,null,null,null,null,null,null,null,0,0,0,0,null,null,null,0,"مدفوع"]
[null,null,null,null,null,null,null,null,null,null,null,null,null,null,0,0,0,0,null,null,null,0,"مدفوع"]
[null,null,null,null,null,null,null,null,null,null,null,null,null,null,0,0,0,0,null,null,null,0,"مدفوع"]
[null,null,null,null,null,null,null,null,null,null,null,null,null,null,0,0,0,0,null,null,null,0,"مدفوع"]
[null,null,null,null,null,null,null,null,null,null,null,null,null,null,0,0,0,0,null,null,null,0,"مدفوع"]
[null,null,null,null,null,null,null,null,null,null,null,null,null,null,0,0,0,0,null,null,null,0,"مدفوع"]
[null,null,null,null,null,null,null,null,null,null,null,null,null,null,0,0,0,0,null,null,null,0,"مدفوع"]
[null,null,null,null,null,null,null,null,null,null,null,null,null,null,0,0,0,0,null,null,null,0,"مدفوع"]
[null,null,null,null,null,null,null,null,null,null,null,null,null,null,0,0,0,0,null,null,null,0,"مدفوع"]
[null,null,null,null,null,null,null,null,null,null,null,null,null,null,0,0,0,0,null,null,null,0,"مدفوع"]
[null,null,null,null,null,null,null,null,null,null,null,null,null,null,0,0,0,0,null,null,null,0,"مدفوع"]
[null,null,null,null,null,null,null,null,null,null,null,null,null,null,0,0,0,0,null,null,null,0,"مدفوع"]
[null,null,null,null,null,null,null,null,null,null,null,null,null,null,0,0,0,0,null,null,null,0,"مدفوع"]
[null,null,null,null,null,null,null,null,null,null,null,null,null,null,0,0,0,0,null,null,null,0,"مدفوع"]
[null,null,null,null,null,null,null,null,null,null,null,null,null,null,0,0,0,0,null,null,null,0,"مدفوع"]
[null,null,null,null,null,null,null,null,null,null,null,null,null,null,0,0,0,0,null,null,null,0,"مدفوع"]
[null,null,null,null,null,null,null,null,null,null,null,null,null,null,0,0,0,0,null,null,null,0,"مدفوع"]
[null,null,null,null,null,null,null,null,null,null,null,null,null,null,0,0,0,0,null,null,null,0,"مدفوع"]
[null,null,null,null,null,null,null,null,null,null,null,null,null,null,0,0,0,0,null,null,null,0,"مدفوع"]
[null,null,null,null,null,null,null,null,null,null,null,null,null,null,0,0,0,0,null,null,null,0,"مدفوع"]
[null,null,null,null,null,null,null,null,null,null,null,null,null,null,0,0,0,0,null,null,null,0,"مدفوع"]
[null,null,null,null,null,null,null,null,null,null,null,null,null,null,0,0,0,0,null,null,null,0,"مدفوع"]
[null,null,null,null,null,null,null,null,null,null,null,null,null,null,0,0,0,0,null,null,null,0,"مدفوع"]
[null,null,null,null,null,null,null,null,null,null,null,null,null,null,0,0,0,0,null,null,null,0,"مدفوع"]
[null,null,null,null,null,null,null,null,null,null,null,null,null,null,0,0,0,0,null,null,null,0,"مدفوع"]
[null,null,null,null,null,null,null,null,null,null,null,null,null,null,0,0,0,0,null,null,null,0,"مدفوع"]
[null,null,null,null,null,null,null,null,null,null,null,null,null,null,0,0,0,0,null,null,null,0,"مدفوع"]
[null,null,null,null,null,null,null,null,null,null,null,null,null,null,0,0,0,0,null,null,null,0,"مدفوع"]
[null,null,null,null,null,null,null,null,null,null,null,null,null,null,0,0,0,0,null,null,null,0,"مدفوع"]
[null,null,null,null,null,null,null,null,null,null,null,null,null,null,0,0,0,0,null,null,null,0,"مدفوع"]
[null,null,null,null,null,null,null,null,null,null,null,null,null,null,{"$f":"SUM(M2275-N2275)","v":0},0,{"$f":"SUM(K2275*150000/2.5)","v":0},{"$f":"SUM(O2275*4000)","v":0},null,null,null,{"$f":"SUM(P2275:S2275)-T2275","v":0},{"$f":"IF(V2275<=0,\"مدفوع\",\"غير مدفوع\")","v":"مدفوع"}]
[null,null,null,null,null,null,null,null,null,null,null,null,null,null,0,0,0,0,null,null,null,0,"مدفوع"]
[null,null,null,null,null,null,null,null,null,null,null,null,null,null,0,{"$f":"IF(L2277=0,0,IF(L2277<=5.5,150000,IF(L2277<=10.5,230000,IF(L2277<=15.5,300000,IF(L2277<=20.5,350000,IF(L2277<=25.5,400000,IF(L2277<=30.5,450000,IF(L2277<=35.5,500000,IF(L2277<=40.5,550000,IF(L2277<=45.5,600000,IF(L2277<=50.5,650000,IF(L2277<=55.5,700000,IF(L2277<=60.5,750000)))))))))))))","v":0},0,0,null,null,null,0,"مدفوع"]
[null,null,null,null,null,null,null,null,null,null,null,null,null,null,0,0,0,0,null,null,null,0,"مدفوع"]
[null,null,null,null,null,null,null,null,null,null,null,null,null,null,0,0,0,0,null,null,null,0,"مدفوع"]
[null,null,null,null,null,null,null,null,null,null,null,null,null,null,0,0,0,0,null,null,null,0,"مدفوع"]
[null,null,null,null,null,null,null,null,null,null,null,null,null,null,0,0,0,0,null,null,null,0,"مدفوع"]
[null,null,null,null,null,null,null,null,null,null,null,null,null,null,0,0,0,0,null,null,null,0,"مدفوع"]
[null,null,null,null,null,null,null,null,null,null,null,null,null,null,0,0,0,0,null,null,null,0,"مدفوع"]
[null,null,null,null,null,null,null,null,null,null,null,null,null,null,0,0,0,0,null,null,null,0,"مدفوع"]
[null,null,null,null,null,null,null,null,null,null,null,null,null,null,0,0,0,0,null,null,null,0,"مدفوع"]
[null,null,null,null,null,null,null,null,null,null,null,null,null,null,0,0,0,0,null,null,null,0,"مدفوع"]
[null,null,null,null,null,null,null,null,null,null,null,null,null,null,0,0,0,0,null,null,null,0,"مدفوع"]
[null,null,null,null,null,null,null,null,null,null,null,null,null,null,0,0,0,0,null,null,null,0,"مدفوع"]
[null,null,null,null,null,null,null,null,null,null,null,null,null,null,0,0,0,0,null,null,null,0,"مدفوع"]
[null,null,null,null,null,null,null,null,null,null,null,null,null,null,0,0,0,0,null,null,null,0,"مدفوع"]
[null,null,null,null,null,null,null,null,null,null,null,null,null,null,0,0,0,0,null,null,null,0,"مدفوع"]
[null,null,null,null,null,null,null,null,null,null,null,null,null,null,0,0,0,0,null,null,null,0,"مدفوع"]
[null,null,null,null,null,null,null,null,null,null,null,null,null,null,0,0,0,0,null,null,null,0,"مدفوع"]
[null,null,null,null,null,null,null,null,null,null,null,null,null,null,0,0,0,0,null,null,null,0,"مدفوع"]
[null,null,null,null,null,null,null,null,null,null,null,null,null,null,0,0,0,0,null,null,null,0,"مدفوع"]
[null,null,null,null,null,null,null,null,null,null,null,null,null,null,0,0,0,0,null,null,null,0,"مدفوع"]
[null,null,null,null,null,null,null,null,null,null,null,null,null,null,0,0,0,0,null,null,null,0,"مدفوع"]
[null,null,null,null,null,null,null,null,null,null,null,null,null,null,0,0,0,0,null,null,null,0,"مدفوع"]
[null,null,null,null,null,null,null,null,null,null,null,null,null,null,0,0,0,0,null,null,null,0,"مدفوع"]
[null,null,null,null,null,null,null,null,null,null,null,null,null,null,0,0,0,0,null,null,null,0,"مدفوع"]
[null,null,null,null,null,null,null,null,null,null,null,null,null,null,0,0,0,0,null,null,null,0,"مدفوع"]
[null,null,null,null,null,null,null,null,null,null,null,null,null,null,0,0,0,0,null,null,null,0,"مدفوع"]
[null,null,null,null,null,null,null,null,null,null,null,null,null,null,0,0,0,0,null,null,null,0,"مدفوع"]
[null,null,null,null,null,null,null,null,null,null,null,null,null,null,0,0,0,0,null,null,null,0,"مدفوع"]
[null,null,null,null,null,null,null,null,null,null,null,null,null,null,0,0,0,0,null,null,null,0,"مدفوع"]
[null,null,null,null,null,null,null,null,null,null,null,null,null,null,0,0,0,0,null,null,null,0,"مدفوع"]
[null,null,null,null,null,null,null,null,null,null,null,null,null,null,0,0,0,0,null,null,null,0,"مدفوع"]
[null,null,null,null,null,null,null,null,null,null,null,null,null,null,0,0,0,0,null,null,null,0,"مدفوع"]
[null,null,null,null,null,null,null,null,null,null,null,null,null,null,0,0,0,0,null,null,null,0,"مدفوع"]
[null,null,null,null,null,null,null,null,null,null,null,null,null,null,0,0,0,0,null,null,null,0,"مدفوع"]
[null,null,null,null,null,null,null,null,null,null,null,null,null,null,0,0,0,0,null,null,null,0,"مدفوع"]
[null,null,null,null,null,null,null,null,null,null,null,null,null,null,0,0,0,0,null,null,null,0,"مدفوع"]
[null,null,null,null,null,null,null,null,null,null,null,null,null,null,0,0,0,0,null,null,null,0,"مدفوع"]
[null,null,null,null,null,null,null,null,null,null,null,null,null,null,0,0,0,0,null,null,null,0,"مدفوع"]
[null,null,null,null,null,null,null,null,null,null,null,null,null,null,0,0,0,0,null,null,null,0,"مدفوع"]
[null,null,null,null,null,null,null,null,null,null,null,null,null,null,0,0,0,0,null,null,null,0,"مدفوع"]
[null,null,null,null,null,null,null,null,null,null,null,null,null,null,0,0,0,0,null,null,null,0,"مدفوع"]
[null,null,null,null,null,null,null,null,null,null,null,null,null,null,0,0,0,0,null,null,null,0,"مدفوع"]
[null,null,null,null,null,null,null,null,null,null,null,null,null,null,0,0,0,0,null,null,null,0,"مدفوع"]
[null,null,null,null,null,null,null,null,null,null,null,null,null,null,0,0,0,0,null,null,null,0,"مدفوع"]
[null,null,null,null,null,null,null,null,null,null,null,null,null,null,0,0,0,0,null,null,null,0,"مدفوع"]
[null,null,null,null,null,null,null,null,null,null,null,null,null,null,0,0,0,0,null,null,null,0,"مدفوع"]
[null,null,null,null,null,null,null,null,null,null,null,null,null,null,0,0,0,0,null,null,null,0,"مدفوع"]
[null,null,null,null,null,null,null,null,null,null,null,null,null,null,0,0,0,0,null,null,null,0,"مدفوع"]
[null,null,null,null,null,null,null,null,null,null,null,null,null,null,0,0,0,0,null,null,null,0,"مدفوع"]
[null,null,null,null,null,null,null,null,null,null,null,null,null,null,0,0,0,0,null,null,null,0,"مدفوع"]
[null,null,null,null,null,null,null,null,null,null,null,null,null,null,0,0,0,0,null,null,null,0,"مدفوع"]
[null,null,null,null,null,null,null,null,null,null,null,null,null,null,0,0,0,0,null,null,null,0,"مدفوع"]
[null,null,null,null,null,null,null,null,null,null,null,null,null,null,0,0,0,0,null,null,null,0,"مدفوع"]
[null,null,null,null,null,null,null,null,null,null,null,null,null,null,0,0,0,0,null,null,null,0,"مدفوع"]
[null,null,null,null,null,null,null,null,null,null,null,null,null,null,0,0,0,0,null,null,null,0,"مدفوع"]
[null,null,null,null,null,null,null,null,null,null,null,null,null,null,0,0,0,0,null,null,null,0,"مدفوع"]
[null,null,null,null,null,null,null,null,null,null,null,null,null,null,0,0,0,0,null,null,null,0,"مدفوع"]
[null,null,null,null,null,null,null,null,null,null,null,null,null,null,0,0,0,0,null,null,null,0,"مدفوع"]
[null,null,null,null,null,null,null,null,null,null,null,null,null,null,0,0,0,0,null,null,null,0,"مدفوع"]
[null,null,null,null,null,null,null,null,null,null,null,null,null,null,0,0,0,0,null,null,null,0,"مدفوع"]
[null,null,null,null,null,null,null,null,null,null,null,null,null,null,0,0,0,0,null,null,null,0,"مدفوع"]
[null,null,null,null,null,null,null,null,null,null,null,null,null,null,0,0,0,0,null,null,null,0,"مدفوع"]
[null,null,null,null,null,null,null,null,null,null,null,null,null,null,{"$f":"SUM(M2339-N2339)","v":0},0,{"$f":"SUM(K2339*150000/2.5)","v":0},{"$f":"SUM(O2339*4000)","v":0},null,null,null,{"$f":"SUM(P2339:S2339)-T2339","v":0},{"$f":"IF(V2339<=0,\"مدفوع\",\"غير مدفوع\")","v":"مدفوع"}]
[null,null,null,null,null,null,null,null,null,null,null,null,null,null,0,0,0,0,null,null,null,0,"مدفوع"]
[null,null,null,null,null,null,null,null,null,null,null,null,null,null,0,{"$f":"IF(L2341=0,0,IF(L2341<=5.5,150000,IF(L2341<=10.5,230000,IF(L2341<=15.5,300000,IF(L2341<=20.5,350000,IF(L2341<=25.5,400000,IF(L2341<=30.5,450000,IF(L2341<=35.5,500000,IF(L2341<=40.5,550000,IF(L2341<=45.5,600000,IF(L2341<=50.5,650000,IF(L2341<=55.5,700000,IF(L2341<=60.5,750000)))))))))))))","v":0},0,0,null,null,null,0,"مدفوع"]
[null,null,null,null,null,null,null,null,null,null,null,null,null,null,0,0,0,0,null,null,null,0,"مدفوع"]
[null,null,null,null,null,null,null,null,null,null,null,null,null,null,0,0,0,0,null,null,null,0,"مدفوع"]
[null,null,null,null,null,null,null,null,null,null,null,null,null,null,0,0,0,0,null,null,null,0,"مدفوع"]
[null,null,null,null,null,null,null,null,null,null,null,null,null,null,0,0,0,0,null,null,null,0,"مدفوع"]
[null,null,null,null,null,null,null,null,null,null,null,null,null,null,0,0,0,0,null,null,null,0,"مدفوع"]
[null,null,null,null,null,null,null,null,null,null,null,null,null,null,0,0,0,0,null,null,null,0,"مدفوع"]
[null,null,null,null,null,null,null,null,null,null,null,null,null,null,0,0,0,0,null,null,null,0,"مدفوع"]
[null,null,null,null,null,null,null,null,null,null,null,null,null,null,0,0,0,0,null,null,null,0,"مدفوع"]
[null,null,null,null,null,null,null,null,null,null,null,null,null,null,0,0,0,0,null,null,null,0,"مدفوع"]
[null,null,null,null,null,null,null,null,null,null,null,null,null,null,0,0,0,0,null,null,null,0,"مدفوع"]
[null,null,null,null,null,null,null,null,null,null,null,null,null,null,0,0,0,0,null,null,null,0,"مدفوع"]
[null,null,null,null,null,null,null,null,null,null,null,null,null,null,0,0,0,0,null,null,null,0,"مدفوع"]
[null,null,null,null,null,null,null,null,null,null,null,null,null,null,0,0,0,0,null,null,null,0,"مدفوع"]
[null,null,null,null,null,null,null,null,null,null,null,null,null,null,0,0,0,0,null,null,null,0,"مدفوع"]
[null,null,null,null,null,null,null,null,null,null,null,null,null,null,0,0,0,0,null,null,null,0,"مدفوع"]
[null,null,null,null,null,null,null,null,null,null,null,null,null,null,0,0,0,0,null,null,null,0,"مدفوع"]
[null,null,null,null,null,null,null,null,null,null,null,null,null,null,0,0,0,0,null,null,null,0,"مدفوع"]
[null,null,null,null,null,null,null,null,null,null,null,null,null,null,0,0,0,0,null,null,null,0,"مدفوع"]
[null,null,null,null,null,null,null,null,null,null,null,null,null,null,0,0,0,0,null,null,null,0,"مدفوع"]
[null,null,null,null,null,null,null,null,null,null,null,null,null,null,0,0,0,0,null,null,null,0,"مدفوع"]
[null,null,null,null,null,null,null,null,null,null,null,null,null,null,0,0,0,0,null,null,null,0,"مدفوع"]
[null,null,null,null,null,null,null,null,null,null,null,null,null,null,0,0,0,0,null,null,null,0,"مدفوع"]
[null,null,null,null,null,null,null,null,null,null,null,null,null,null,0,0,0,0,null,null,null,0,"مدفوع"]
[null,null,null,null,null,null,null,null,null,null,null,null,null,null,0,0,0,0,null,null,null,0,"مدفوع"]
[null,null,null,null,null,null,null,null,null,null,null,null,null,null,0,0,0,0,null,null,null,0,"مدفوع"]
[null,null,null,null,null,null,null,null,null,null,null,null,null,null,0,0,0,0,null,null,null,0,"مدفوع"]
[null,null,null,null,null,null,null,null,null,null,null,null,null,null,0,0,0,0,null,null,null,0,"مدفوع"]
[null,null,null,null,null,null,null,null,null,null,null,null,null,null,0,0,0,0,null,null,null,0,"مدفوع"]
[null,null,null,null,null,null,null,null,null,null,null,null,null,null,0,0,0,0,null,null,null,0,"مدفوع"]
[null,null,null,null,null,null,null,null,null,null,null,null,null,null,0,0,0,0,null,null,null,0,"مدفوع"]
[null,null,null,null,null,null,null,null,null,null,null,null,null,null,0,0,0,0,null,null,null,0,"مدفوع"]
[null,null,null,null,null,null,null,null,null,null,null,null,null,null,0,0,0,0,null,null,null,0,"مدفوع"]
[null,null,null,null,null,null,null,null,null,null,null,null,null,null,0,0,0,0,null,null,null,0,"مدفوع"]
[null,null,null,null,null,null,null,null,null,null,null,null,null,null,0,0,0,0,null,null,null,0,"مدفوع"]
[null,null,null,null,null,null,null,null,null,null,null,null,null,null,0,0,0,0,null,null,null,0,"مدفوع"]
[null,null,null,null,null,null,null,null,null,null,null,null,null,null,0,0,0,0,null,null,null,0,"مدفوع"]
[null,null,null,null,null,null,null,null,null,null,null,null,null,null,0,0,0,0,null,null,null,0,"مدفوع"]
[null,null,null,null,null,null,null,null,null,null,null,null,null,null,0,0,0,0,null,null,null,0,"مدفوع"]
[null,null,null,null,null,null,null,null,null,null,null,null,null,null,0,0,0,0,null,null,null,0,"مدفوع"]
[null,null,null,null,null,null,null,null,null,null,null,null,null,null,0,0,0,0,null,null,null,0,"مدفوع"]
[null,null,null,null,null,null,null,null,null,null,null,null,null,null,0,0,0,0,null,null,null,0,"مدفوع"]
[null,null,null,null,null,null,null,null,null,null,null,null,null,null,0,0,0,0,null,null,null,0,"مدفوع"]
[null,null,null,null,null,null,null,null,null,null,null,null,null,null,0,0,0,0,null,null,null,0,"مدفوع"]
[null,null,null,null,null,null,null,null,null,null,null,null,null,null,0,0,0,0,null,null,null,0,"مدفوع"]
[null,null,null,null,null,null,null,null,null,null,null,null,null,null,0,0,0,0,null,null,null,0,"مدفوع"]
[null,null,null,null,null,null,null,null,null,null,null,null,null,null,0,0,0,0,null,null,null,0,"مدفوع"]
[null,null,null,null,null,null,null,null,null,null,null,null,null,null,0,0,0,0,null,null,null,0,"مدفوع"]
[null,null,null,null,null,null,null,null,null,null,null,null,null,null,0,0,0,0,null,null,null,0,"مدفوع"]
[null,null,null,null,null,null,null,null,null,null,null,null,null,null,0,0,0,0,null,null,null,0,"مدفوع"]
[null,null,null,null,null,null,null,null,null,null,null,null,null,null,0,0,0,0,null,null,null,0,"مدفوع"]
[null,null,null,null,null,null,null,null,null,null,null,null,null,null,0,0,0,0,null,null,null,0,"مدفوع"]
[null,null,null,null,null,null,null,null,null,null,null,null,null,null,0,0,0,0,null,null,null,0,"مدفوع"]
[null,null,null,null,null,null,null,null,null,null,null,null,null,null,0,0,0,0,null,null,null,0,"مدفوع"]
[null,null,null,null,null,null,null,null,null,null,null,null,null,null,0,0,0,0,null,null,null,0,"مدفوع"]
[null,null,null,null,null,null,null,null,null,null,null,null,null,null,0,0,0,0,null,null,null,0,"مدفوع"]
[null,null,null,null,null,null,null,null,null,null,null,null,null,null,0,0,0,0,null,null,null,0,"مدفوع"]
[null,null,null,null,null,null,null,null,null,null,null,null,null,null,0,0,0,0,null,null,null,0,"مدفوع"]
[null,null,null,null,null,null,null,null,null,null,null,null,null,null,0,0,0,0,null,null,null,0,"مدفوع"]
[null,null,null,null,null,null,null,null,null,null,null,null,null,null,0,0,0,0,null,null,null,0,"مدفوع"]
[null,null,null,null,null,null,null,null,null,null,null,null,null,null,0,0,0,0,null,null,null,0,"مدفوع"]
[null,null,null,null,null,null,null,null,null,null,null,null,null,null,0,0,0,0,null,null,null,0,"مدفوع"]
[null,null,null,null,null,null,null,null,null,null,null,null,null,null,{"$f":"SUM(M2403-N2403)","v":0},0,{"$f":"SUM(K2403*150000/2.5)","v":0},{"$f":"SUM(O2403*4000)","v":0},null,null,null,{"$f":"SUM(P2403:S2403)-T2403","v":0},{"$f":"IF(V2403<=0,\"مدفوع\",\"غير مدفوع\")","v":"مدفوع"}]
[null,null,null,null,null,null,null,null,null,null,null,null,null,null,0,0,0,0,null,null,null,0,"مدفوع"]
[null,null,null,null,null,null,null,null,null,null,null,null,null,null,0,{"$f":"IF(L2405=0,0,IF(L2405<=5.5,150000,IF(L2405<=10.5,230000,IF(L2405<=15.5,300000,IF(L2405<=20.5,350000,IF(L2405<=25.5,400000,IF(L2405<=30.5,450000,IF(L2405<=35.5,500000,IF(L2405<=40.5,550000,IF(L2405<=45.5,600000,IF(L2405<=50.5,650000,IF(L2405<=55.5,700000,IF(L2405<=60.5,750000)))))))))))))","v":0},0,0,null,null,null,0,"مدفوع"]
[null,null,null,null,null,null,null,null,null,null,null,null,null,null,0,0,0,0,null,null,null,0,"مدفوع"]
[null,null,null,null,null,null,null,null,null,null,null,null,null,null,0,0,0,0,null,null,null,0,"مدفوع"]
[null,null,null,null,null,null,null,null,null,null,null,null,null,null,0,0,0,0,null,null,null,0,"مدفوع"]
[null,null,null,null,null,null,null,null,null,null,null,null,null,null,0,0,0,0,null,null,null,0,"مدفوع"]
[null,null,null,null,null,null,null,null,null,null,null,null,null,null,0,0,0,0,null,null,null,0,"مدفوع"]
[null,null,null,null,null,null,null,null,null,null,null,null,null,null,0,0,0,0,null,null,null,0,"مدفوع"]
[null,null,null,null,null,null,null,null,null,null,null,null,null,null,0,0,0,0,null,null,null,0,"مدفوع"]
[null,null,null,null,null,null,null,null,null,null,null,null,null,null,0,0,0,0,null,null,null,0,"مدفوع"]
[null,null,null,null,null,null,null,null,null,null,null,null,null,null,0,0,0,0,null,null,null,0,"مدفوع"]
[null,null,null,null,null,null,null,null,null,null,null,null,null,null,0,0,0,0,null,null,null,0,"مدفوع"]
[null,null,null,null,null,null,null,null,null,null,null,null,null,null,0,0,0,0,null,null,null,0,"مدفوع"]
[null,null,null,null,null,null,null,null,null,null,null,null,null,null,0,0,0,0,null,null,null,0,"مدفوع"]
[null,null,null,null,null,null,null,null,null,null,null,null,null,null,0,0,0,0,null,null,null,0,"مدفوع"]
[null,null,null,null,null,null,null,null,null,null,null,null,null,null,0,0,0,0,null,null,null,0,"مدفوع"]
[null,null,null,null,null,null,null,null,null,null,null,null,null,null,0,0,0,0,null,null,null,0,"مدفوع"]
[null,null,null,null,null,null,null,null,null,null,null,null,null,null,0,0,0,0,null,null,null,0,"مدفوع"]
[null,null,null,null,null,null,null,null,null,null,null,null,null,null,0,0,0,0,null,null,null,0,"مدفوع"]
[null,null,null,null,null,null,null,null,null,null,null,null,null,null,0,0,0,0,null,null,null,0,"مدفوع"]
[null,null,null,null,null,null,null,null,null,null,null,null,null,null,0,0,0,0,null,null,null,0,"مدفوع"]
[null,null,null,null,null,null,null,null,null,null,null,null,null,null,0,0,0,0,null,null,null,0,"مدفوع"]
[null,null,null,null,null,null,null,null,null,null,null,null,null,null,0,0,0,0,null,null,null,0,"مدفوع"]
[null,null,null,null,null,null,null,null,null,null,null,null,null,null,0,0,0,0,null,null,null,0,"مدفوع"]
[null,null,null,null,null,null,null,null,null,null,null,null,null,null,0,0,0,0,null,null,null,0,"مدفوع"]
[null,null,null,null,null,null,null,null,null,null,null,null,null,null,0,0,0,0,null,null,null,0,"مدفوع"]
[null,null,null,null,null,null,null,null,null,null,null,null,null,null,0,0,0,0,null,null,null,0,"مدفوع"]
[null,null,null,null,null,null,null,null,null,null,null,null,null,null,0,0,0,0,null,null,null,0,"مدفوع"]
[null,null,null,null,null,null,null,null,null,null,null,null,null,null,0,0,0,0,null,null,null,0,"مدفوع"]
[null,null,null,null,null,null,null,null,null,null,null,null,null,null,0,0,0,0,null,null,null,0,"مدفوع"]
[null,null,null,null,null,null,null,null,null,null,null,null,null,null,0,0,0,0,null,null,null,0,"مدفوع"]
[null,null,null,null,null,null,null,null,null,null,null,null,null,null,0,0,0,0,null,null,null,0,"مدفوع"]
[null,null,null,null,null,null,null,null,null,null,null,null,null,null,0,0,0,0,null,null,null,0,"مدفوع"]
[null,null,null,null,null,null,null,null,null,null,null,null,null,null,0,0,0,0,null,null,null,0,"مدفوع"]
[null,null,null,null,null,null,null,null,null,null,null,null,null,null,0,0,0,0,null,null,null,0,"مدفوع"]
[null,null,null,null,null,null,null,null,null,null,null,null,null,null,0,0,0,0,null,null,null,0,"مدفوع"]
[null,null,null,null,null,null,null,null,null,null,null,null,null,null,0,0,0,0,null,null,null,0,"مدفوع"]
[null,null,null,null,null,null,null,null,null,null,null,null,null,null,0,0,0,0,null,null,null,0,"مدفوع"]
[null,null,null,null,null,null,null,null,null,null,null,null,null,null,0,0,0,0,null,null,null,0,"مدفوع"]
[null,null,null,null,null,null,null,null,null,null,null,null,null,null,0,0,0,0,null,null,null,0,"مدفوع"]
[null,null,null,null,null,null,null,null,null,null,null,null,null,null,0,0,0,0,null,null,null,0,"مدفوع"]
[null,null,null,null,null,null,null,null,null,null,null,null,null,null,0,0,0,0,null,null,null,0,"مدفوع"]
[null,null,null,null,null,null,null,null,null,null,null,null,null,null,0,0,0,0,null,null,null,0,"مدفوع"]
[null,null,null,null,null,null,null,null,null,null,null,null,null,null,0,0,0,0,null,null,null,0,"مدفوع"]
[null,null,null,null,null,null,null,null,null,null,null,null,null,null,0,0,0,0,null,null,null,0,"مدفوع"]
[null,null,null,null,null,null,null,null,null,null,null,null,null,null,0,0,0,0,null,null,null,0,"مدفوع"]
[null,null,null,null,null,null,null,null,null,null,null,null,null,null,0,0,0,0,null,null,null,0,"مدفوع"]
[null,null,null,null,null,null,null,null,null,null,null,null,null,null,0,0,0,0,null,null,null,0,"مدفوع"]
[null,null,null,null,null,null,null,null,null,null,null,null,null,null,0,0,0,0,null,null,null,0,"مدفوع"]
[null,null,null,null,null,null,null,null,null,null,null,null,null,null,0,0,0,0,null,null,null,0,"مدفوع"]
[null,null,null,null,null,null,null,null,null,null,null,null,null,null,0,0,0,0,null,null,null,0,"مدفوع"]
[null,null,null,null,null,null,null,null,null,null,null,null,null,null,0,0,0,0,null,null,null,0,"مدفوع"]
[null,null,null,null,null,null,null,null,null,null,null,null,null,null,0,0,0,0,null,null,null,0,"مدفوع"]
[null,null,null,null,null,null,null,null,null,null,null,null,null,null,0,0,0,0,null,null,null,0,"مدفوع"]
[null,null,null,null,null,null,null,null,null,null,null,null,null,null,0,0,0,0,null,null,null,0,"مدفوع"]
[null,null,null,null,null,null,null,null,null,null,null,null,null,null,0,0,0,0,null,null,null,0,"مدفوع"]
[null,null,null,null,null,null,null,null,null,null,null,null,null,null,0,0,0,0,null,null,null,0,"مدفوع"]
[null,null,null,null,null,null,null,null,null,null,null,null,null,null,0,0,0,0,null,null,null,0,"مدفوع"]
[null,null,null,null,null,null,null,null,null,null,null,null,null,null,0,0,0,0,null,null,null,0,"مدفوع"]
[null,null,null,null,null,null,null,null,null,null,null,null,null,null,0,0,0,0,null,null,null,0,"مدفوع"]
[null,null,null,null,null,null,null,null,null,null,null,null,null,null,0,0,0,0,null,null,null,0,"مدفوع"]
[null,null,null,null,null,null,null,null,null,null,null,null,null,null,0,0,0,0,null,null,null,0,"مدفوع"]
[null,null,null,null,null,null,null,null,null,null,null,null,null,null,0,0,0,0,null,null,null,0,"مدفوع"]
[null,null,null,null,null,null,null,null,null,null,null,null,null,null,{"$f":"SUM(M2467-N2467)","v":0},0,{"$f":"SUM(K2467*150000/2.5)","v":0},{"$f":"SUM(O2467*4000)","v":0},null,null,null,{"$f":"SUM(P2467:S2467)-T2467","v":0},{"$f":"IF(V2467<=0,\"مدفوع\",\"غير مدفوع\")","v":"مدفوع"}]
[null,null,null,null,null,null,null,null,null,null,null,null,null,null,0,0,0,0,null,null,null,0,"مدفوع"]
[null,null,null,null,null,null,null,null,null,null,null,null,null,null,0,{"$f":"IF(L2469=0,0,IF(L2469<=5.5,150000,IF(L2469<=10.5,230000,IF(L2469<=15.5,300000,IF(L2469<=20.5,350000,IF(L2469<=25.5,400000,IF(L2469<=30.5,450000,IF(L2469<=35.5,500000,IF(L2469<=40.5,550000,IF(L2469<=45.5,600000,IF(L2469<=50.5,650000,IF(L2469<=55.5,700000,IF(L2469<=60.5,750000)))))))))))))","v":0},0,0,null,null,null,0,"مدفوع"]
[null,null,null,null,null,null,null,null,null,null,null,null,null,null,0,0,0,0,null,null,null,0,"مدفوع"]
[null,null,null,null,null,null,null,null,null,null,null,null,null,null,0,0,0,0,null,null,null,0,"مدفوع"]
[null,null,null,null,null,null,null,null,null,null,null,null,null,null,0,0,0,0,null,null,null,0,"مدفوع"]
[null,null,null,null,null,null,null,null,null,null,null,null,null,null,0,0,0,0,null,null,null,0,"مدفوع"]
[null,null,null,null,null,null,null,null,null,null,null,null,null,null,0,0,0,0,null,null,null,0,"مدفوع"]
[null,null,null,null,null,null,null,null,null,null,null,null,null,null,0,0,0,0,null,null,null,0,"مدفوع"]
[null,null,null,null,null,null,null,null,null,null,null,null,null,null,0,0,0,0,null,null,null,0,"مدفوع"]
[null,null,null,null,null,null,null,null,null,null,null,null,null,null,0,0,0,0,null,null,null,0,"مدفوع"]
[null,null,null,null,null,null,null,null,null,null,null,null,null,null,0,0,0,0,null,null,null,0,"مدفوع"]
[null,null,null,null,null,null,null,null,null,null,null,null,null,null,0,0,0,0,null,null,null,0,"مدفوع"]
[null,null,null,null,null,null,null,null,null,null,null,null,null,null,0,0,0,0,null,null,null,0,"مدفوع"]
[null,null,null,null,null,null,null,null,null,null,null,null,null,null,0,0,0,0,null,null,null,0,"مدفوع"]
[null,null,null,null,null,null,null,null,null,null,null,null,null,null,0,0,0,0,null,null,null,0,"مدفوع"]
[null,null,null,null,null,null,null,null,null,null,null,null,null,null,0,0,0,0,null,null,null,0,"مدفوع"]
[null,null,null,null,null,null,null,null,null,null,null,null,null,null,0,0,0,0,null,null,null,0,"مدفوع"]
[null,null,null,null,null,null,null,null,null,null,null,null,null,null,0,0,0,0,null,null,null,0,"مدفوع"]
[null,null,null,null,null,null,null,null,null,null,null,null,null,null,0,0,0,0,null,null,null,0,"مدفوع"]
[null,null,null,null,null,null,null,null,null,null,null,null,null,null,0,0,0,0,null,null,null,0,"مدفوع"]
[null,null,null,null,null,null,null,null,null,null,null,null,null,null,0,0,0,0,null,null,null,0,"مدفوع"]
[null,null,null,null,null,null,null,null,null,null,null,null,null,null,0,0,0,0,null,null,null,0,"مدفوع"]
[null,null,null,null,null,null,null,null,null,null,null,null,null,null,0,0,0,0,null,null,null,0,"مدفوع"]
[null,null,null,null,null,null,null,null,null,null,null,null,null,null,0,0,0,0,null,null,null,0,"مدفوع"]
[null,null,null,null,null,null,null,null,null,null,null,null,null,null,0,0,0,0,null,null,null,0,"مدفوع"]
[null,null,null,null,null,null,null,null,null,null,null,null,null,null,0,0,0,0,null,null,null,0,"مدفوع"]
[null,null,null,null,null,null,null,null,null,null,null,null,null,null,0,0,0,0,null,null,null,0,"مدفوع"]
[null,null,null,null,null,null,null,null,null,null,null,null,null,null,0,0,0,0,null,null,null,0,"مدفوع"]
[null,null,null,null,null,null,null,null,null,null,null,null,null,null,0,0,0,0,null,null,null,0,"مدفوع"]
[null,null,null,null,null,null,null,null,null,null,null,null,null,null,0,0,0,0,null,null,null,0,"مدفوع"]
[null,null,null,null,null,null,null,null,null,null,null,null,null,null,0,0,0,0,null,null,null,0,"مدفوع"]
[null,null,null,null,null,null,null,null,null,null,null,null,null,null,0,0,0,0,null,null,null,0,"مدفوع"]
[null,null,null,null,null,null,null,null,null,null,null,null,null,null,0,0,0,0,null,null,null,0,"مدفوع"]
[null,null,null,null,null,null,null,null,null,null,null,null,null,null,0,0,0,0,null,null,null,0,"مدفوع"]
[null,null,null,null,null,null,null,null,null,null,null,null,null,null,0,0,0,0,null,null,null,0,"مدفوع"]
[null,null,null,null,null,null,null,null,null,null,null,null,null,null,0,0,0,0,null,null,null,0,"مدفوع"]
[null,null,null,null,null,null,null,null,null,null,null,null,null,null,0,0,0,0,null,null,null,0,"مدفوع"]
[null,null,null,null,null,null,null,null,null,null,null,null,null,null,0,0,0,0,null,null,null,0,"مدفوع"]
[null,null,null,null,null,null,null,null,null,null,null,null,null,null,0,0,0,0,null,null,null,0,"مدفوع"]
[null,null,null,null,null,null,null,null,null,null,null,null,null,null,0,0,0,0,null,null,null,0,"مدفوع"]
[null,null,null,null,null,null,null,null,null,null,null,null,null,null,0,0,0,0,null,null,null,0,"مدفوع"]
[null,null,null,null,null,null,null,null,null,null,null,null,null,null,0,0,0,0,null,null,null,0,"مدفوع"]
[null,null,null,null,null,null,null,null,null,null,null,null,null,null,0,0,0,0,null,null,null,0,"مدفوع"]
[null,null,null,null,null,null,null,null,null,null,null,null,null,null,0,0,0,0,null,null,null,0,"مدفوع"]
[null,null,null,null,null,null,null,null,null,null,null,null,null,null,0,0,0,0,null,null,null,0,"مدفوع"]
[null,null,null,null,null,null,null,null,null,null,null,null,null,null,0,0,0,0,null,null,null,0,"مدفوع"]
[null,null,null,null,null,null,null,null,null,null,null,null,null,null,0,0,0,0,null,null,null,0,"مدفوع"]
[null,null,null,null,null,null,null,null,null,null,null,null,null,null,0,0,0,0,null,null,null,0,"مدفوع"]
[null,null,null,null,null,null,null,null,null,null,null,null,null,null,0,0,0,0,null,null,null,0,"مدفوع"]
[null,null,null,null,null,null,null,null,null,null,null,null,null,null,0,0,0,0,null,null,null,0,"مدفوع"]
[null,null,null,null,null,null,null,null,null,null,null,null,null,null,0,0,0,0,null,null,null,0,"مدفوع"]
[null,null,null,null,null,null,null,null,null,null,null,null,null,null,0,0,0,0,null,null,null,0,"مدفوع"]
[null,null,null,null,null,null,null,null,null,null,null,null,null,null,0,0,0,0,null,null,null,0,"مدفوع"]
[null,null,null,null,null,null,null,null,null,null,null,null,null,null,0,0,0,0,null,null,null,0,"مدفوع"]
[null,null,null,null,null,null,null,null,null,null,null,null,null,null,0,0,0,0,null,null,null,0,"مدفوع"]
[null,null,null,null,null,null,null,null,null,null,null,null,null,null,0,0,0,0,null,null,null,0,"مدفوع"]
[null,null,null,null,null,null,null,null,null,null,null,null,null,null,0,0,0,0,null,null,null,0,"مدفوع"]
[null,null,null,null,null,null,null,null,null,null,null,null,null,null,0,0,0,0,null,null,null,0,"مدفوع"]
[null,null,null,null,null,null,null,null,null,null,null,null,null,null,0,0,0,0,null,null,null,0,"مدفوع"]
[null,null,null,null,null,null,null,null,null,null,null,null,null,null,0,0,0,0,null,null,null,0,"مدفوع"]
[null,null,null,null,null,null,null,null,null,null,null,null,null,null,0,0,0,0,null,null,null,0,"مدفوع"]
[null,null,null,null,null,null,null,null,null,null,null,null,null,null,0,0,0,0,null,null,null,0,"مدفوع"]
[null,null,null,null,null,null,null,null,null,null,null,null,null,null,0,0,0,0,null,null,null,0,"مدفوع"]
[null,null,null,null,null,null,null,null,null,null,null,null,null,null,{"$f":"SUM(M2531-N2531)","v":0},0,{"$f":"SUM(K2531*150000/2.5)","v":0},{"$f":"SUM(O2531*4000)","v":0},null,null,null,{"$f":"SUM(P2531:S2531)-T2531","v":0},{"$f":"IF(V2531<=0,\"مدفوع\",\"غير مدفوع\")","v":"مدفوع"}]
[null,null,null,null,null,null,null,null,null,null,null,null,null,null,0,0,0,0,null,null,null,0,"مدفوع"]
[null,null,null,null,null,null,null,null,null,null,null,null,null,null,0,{"$f":"IF(L2533=0,0,IF(L2533<=5.5,150000,IF(L2533<=10.5,230000,IF(L2533<=15.5,300000,IF(L2533<=20.5,350000,IF(L2533<=25.5,400000,IF(L2533<=30.5,450000,IF(L2533<=35.5,500000,IF(L2533<=40.5,550000,IF(L2533<=45.5,600000,IF(L2533<=50.5,650000,IF(L2533<=55.5,700000,IF(L2533<=60.5,750000)))))))))))))","v":0},0,0,null,null,null,0,"مدفوع"]
[null,null,null,null,null,null,null,null,null,null,null,null,null,null,0,0,0,0,null,null,null,0,"مدفوع"]
[null,null,null,null,null,null,null,null,null,null,null,null,null,null,0,0,0,0,null,null,null,0,"مدفوع"]
[null,null,null,null,null,null,null,null,null,null,null,null,null,null,0,0,0,0,null,null,null,0,"مدفوع"]
[null,null,null,null,null,null,null,null,null,null,null,null,null,null,0,0,0,0,null,null,null,0,"مدفوع"]
[null,null,null,null,null,null,null,null,null,null,null,null,null,null,0,0,0,0,null,null,null,0,"مدفوع"]
[null,null,null,null,null,null,null,null,null,null,null,null,null,null,0,0,0,0,null,null,null,0,"مدفوع"]
[null,null,null,null,null,null,null,null,null,null,null,null,null,null,0,0,0,0,null,null,null,0,"مدفوع"]
[null,null,null,null,null,null,null,null,null,null,null,null,null,null,0,0,0,0,null,null,null,0,"مدفوع"]
[null,null,null,null,null,null,null,null,null,null,null,null,null,null,0,0,0,0,null,null,null,0,"مدفوع"]
[null,null,null,null,null,null,null,null,null,null,null,null,null,null,0,0,0,0,null,null,null,0,"مدفوع"]
[null,null,null,null,null,null,null,null,null,null,null,null,null,null,0,0,0,0,null,null,null,0,"مدفوع"]
[null,null,null,null,null,null,null,null,null,null,null,null,null,null,0,0,0,0,null,null,null,0,"مدفوع"]
[null,null,null,null,null,null,null,null,null,null,null,null,null,null,0,0,0,0,null,null,null,0,"مدفوع"]
[null,null,null,null,null,null,null,null,null,null,null,null,null,null,0,0,0,0,null,null,null,0,"مدفوع"]
[null,null,null,null,null,null,null,null,null,null,null,null,null,null,0,0,0,0,null,null,null,0,"مدفوع"]
[null,null,null,null,null,null,null,null,null,null,null,null,null,null,0,0,0,0,null,null,null,0,"مدفوع"]
[null,null,null,null,null,null,null,null,null,null,null,null,null,null,0,0,0,0,null,null,null,0,"مدفوع"]
[null,null,null,null,null,null,null,null,null,null,null,null,null,null,0,0,0,0,null,null,null,0,"مدفوع"]
[null,null,null,null,null,null,null,null,null,null,null,null,null,null,0,0,0,0,null,null,null,0,"مدفوع"]
[null,null,null,null,null,null,null,null,null,null,null,null,null,null,0,0,0,0,null,null,null,0,"مدفوع"]
[null,null,null,null,null,null,null,null,null,null,null,null,null,null,0,0,0,0,null,null,null,0,"مدفوع"]
[null,null,null,null,null,null,null,null,null,null,null,null,null,null,0,0,0,0,null,null,null,0,"مدفوع"]
[null,null,null,null,null,null,null,null,null,null,null,null,null,null,0,0,0,0,null,null,null,0,"مدفوع"]
[null,null,null,null,null,null,null,null,null,null,null,null,null,null,0,0,0,0,null,null,null,0,"مدفوع"]
[null,null,null,null,null,null,null,null,null,null,null,null,null,null,0,0,0,0,null,null,null,0,"مدفوع"]
[null,null,null,null,null,null,null,null,null,null,null,null,null,null,0,0,0,0,null,null,null,0,"مدفوع"]
[null,null,null,null,null,null,null,null,null,null,null,null,null,null,0,0,0,0,null,null,null,0,"مدفوع"]
[null,null,null,null,null,null,null,null,null,null,null,null,null,null,0,0,0,0,null,null,null,0,"مدفوع"]
[null,null,null,null,null,null,null,null,null,null,null,null,null,null,0,0,0,0,null,null,null,0,"مدفوع"]
[null,null,null,null,null,null,null,null,null,null,null,null,null,null,0,0,0,0,null,null,null,0,"مدفوع"]
[null,null,null,null,null,null,null,null,null,null,null,null,null,null,0,0,0,0,null,null,null,0,"مدفوع"]
[null,null,null,null,null,null,null,null,null,null,null,null,null,null,0,0,0,0,null,null,null,0,"مدفوع"]
[null,null,null,null,null,null,null,null,null,null,null,null,null,null,0,0,0,0,null,null,null,0,"مدفوع"]
[null,null,null,null,null,null,null,null,null,null,null,null,null,null,0,0,0,0,null,null,null,0,"مدفوع"]
[null,null,null,null,null,null,null,null,null,null,null,null,null,null,0,0,0,0,null,null,null,0,"مدفوع"]
[null,null,null,null,null,null,null,null,null,null,null,null,null,null,0,0,0,0,null,null,null,0,"مدفوع"]
[null,null,null,null,null,null,null,null,null,null,null,null,null,null,0,0,0,0,null,null,null,0,"مدفوع"]
[null,null,null,null,null,null,null,null,null,null,null,null,null,null,0,0,0,0,null,null,null,0,"مدفوع"]
[null,null,null,null,null,null,null,null,null,null,null,null,null,null,0,0,0,0,null,null,null,0,"مدفوع"]
[null,null,null,null,null,null,null,null,null,null,null,null,null,null,0,0,0,0,null,null,null,0,"مدفوع"]
[null,null,null,null,null,null,null,null,null,null,null,null,null,null,0,0,0,0,null,null,null,0,"مدفوع"]
[null,null,null,null,null,null,null,null,null,null,null,null,null,null,0,0,0,0,null,null,null,0,"مدفوع"]
[null,null,null,null,null,null,null,null,null,null,null,null,null,null,0,0,0,0,null,null,null,0,"مدفوع"]
[null,null,null,null,null,null,null,null,null,null,null,null,null,null,0,0,0,0,null,null,null,0,"مدفوع"]
[null,null,null,null,null,null,null,null,null,null,null,null,null,null,0,0,0,0,null,null,null,0,"مدفوع"]
[null,null,null,null,null,null,null,null,null,null,null,null,null,null,0,0,0,0,null,null,null,0,"مدفوع"]
[null,null,null,null,null,null,null,null,null,null,null,null,null,null,0,0,0,0,null,null,null,0,"مدفوع"]
[null,null,null,null,null,null,null,null,null,null,null,null,null,null,0,0,0,0,null,null,null,0,"مدفوع"]
[null,null,null,null,null,null,null,null,null,null,null,null,null,null,0,0,0,0,null,null,null,0,"مدفوع"]
[null,null,null,null,null,null,null,null,null,null,null,null,null,null,0,0,0,0,null,null,null,0,"مدفوع"]
[null,null,null,null,null,null,null,null,null,null,null,null,null,null,0,0,0,0,null,null,null,0,"مدفوع"]
[null,null,null,null,null,null,null,null,null,null,null,null,null,null,0,0,0,0,null,null,null,0,"مدفوع"]
[null,null,null,null,null,null,null,null,null,null,null,null,null,null,0,0,0,0,null,null,null,0,"مدفوع"]
[null,null,null,null,null,null,null,null,null,null,null,null,null,null,0,0,0,0,null,null,null,0,"مدفوع"]
[null,null,null,null,null,null,null,null,null,null,null,null,null,null,0,0,0,0,null,null,null,0,"مدفوع"]
[null,null,null,null,null,null,null,null,null,null,null,null,null,null,0,0,0,0,null,null,null,0,"مدفوع"]
[null,null,null,null,null,null,null,null,null,null,null,null,null,null,0,0,0,0,null,null,null,0,"مدفوع"]
[null,null,null,null,null,null,null,null,null,null,null,null,null,null,0,0,0,0,null,null,null,0,"مدفوع"]
[null,null,null,null,null,null,null,null,null,null,null,null,null,null,0,0,0,0,null,null,null,0,"مدفوع"]
[null,null,null,null,null,null,null,null,null,null,null,null,null,null,0,0,0,0,null,null,null,0,"مدفوع"]
[null,null,null,null,null,null,null,null,null,null,null,null,null,null,0,0,0,0,null,null,null,0,"مدفوع"]
[null,null,null,null,null,null,null,null,null,null,null,null,null,null,{"$f":"SUM(M2595-N2595)","v":0},0,{"$f":"SUM(K2595*150000/2.5)","v":0},{"$f":"SUM(O2595*4000)","v":0},null,null,null,{"$f":"SUM(P2595:S2595)-T2595","v":0},{"$f":"IF(V2595<=0,\"مدفوع\",\"غير مدفوع\")","v":"مدفوع"}]
[null,null,null,null,null,null,null,null,null,null,null,null,null,null,0,0,0,0,null,null,null,0,"مدفوع"]
[null,null,null,null,null,null,null,null,null,null,null,null,null,null,0,{"$f":"IF(L2597=0,0,IF(L2597<=5.5,150000,IF(L2597<=10.5,230000,IF(L2597<=15.5,300000,IF(L2597<=20.5,350000,IF(L2597<=25.5,400000,IF(L2597<=30.5,450000,IF(L2597<=35.5,500000,IF(L2597<=40.5,550000,IF(L2597<=45.5,600000,IF(L2597<=50.5,650000,IF(L2597<=55.5,700000,IF(L2597<=60.5,750000)))))))))))))","v":0},0,0,null,null,null,0,"مدفوع"]
[null,null,null,null,null,null,null,null,null,null,null,null,null,null,0,0,0,0,null,null,null,0,"مدفوع"]
[null,null,null,null,null,null,null,null,null,null,null,null,null,null,0,0,0,0,null,null,null,0,"مدفوع"]
[null,null,null,null,null,null,null,null,null,null,null,null,null,null,0,0,0,0,null,null,null,0,"مدفوع"]
[null,null,null,null,null,null,null,null,null,null,null,null,null,null,0,0,0,0,null,null,null,0,"مدفوع"]
[null,null,null,null,null,null,null,null,null,null,null,null,null,null,0,0,0,0,null,null,null,0,"مدفوع"]
[null,null,null,null,null,null,null,null,null,null,null,null,null,null,0,0,0,0,null,null,null,0,"مدفوع"]
[null,null,null,null,null,null,null,null,null,null,null,null,null,null,0,0,0,0,null,null,null,0,"مدفوع"]
[null,null,null,null,null,null,null,null,null,null,null,null,null,null,0,0,0,0,null,null,null,0,"مدفوع"]
[null,null,null,null,null,null,null,null,null,null,null,null,null,null,0,0,0,0,null,null,null,0,"مدفوع"]
[null,null,null,null,null,null,null,null,null,null,null,null,null,null,0,0,0,0,null,null,null,0,"مدفوع"]
[null,null,null,null,null,null,null,null,null,null,null,null,null,null,0,0,0,0,null,null,null,0,"مدفوع"]
[null,null,null,null,null,null,null,null,null,null,null,null,null,null,0,0,0,0,null,null,null,0,"مدفوع"]
[null,null,null,null,null,null,null,null,null,null,null,null,null,null,0,0,0,0,null,null,null,0,"مدفوع"]
[null,null,null,null,null,null,null,null,null,null,null,null,null,null,0,0,0,0,null,null,null,0,"مدفوع"]
[null,null,null,null,null,null,null,null,null,null,null,null,null,null,0,0,0,0,null,null,null,0,"مدفوع"]
[null,null,null,null,null,null,null,null,null,null,null,null,null,null,0,0,0,0,null,null,null,0,"مدفوع"]
[null,null,null,null,null,null,null,null,null,null,null,null,null,null,0,0,0,0,null,null,null,0,"مدفوع"]
[null,null,null,null,null,null,null,null,null,null,null,null,null,null,0,0,0,0,null,null,null,0,"مدفوع"]
[null,null,null,null,null,null,null,null,null,null,null,null,null,null,0,0,0,0,null,null,null,0,"مدفوع"]
[null,null,null,null,null,null,null,null,null,null,null,null,null,null,0,0,0,0,null,null,null,0,"مدفوع"]
[null,null,null,null,null,null,null,null,null,null,null,null,null,null,0,0,0,0,null,null,null,0,"مدفوع"]
[null,null,null,null,null,null,null,null,null,null,null,null,null,null,0,0,0,0,null,null,null,0,"مدفوع"]
[null,null,null,null,null,null,null,null,null,null,null,null,null,null,0,0,0,0,null,null,null,0,"مدفوع"]
[null,null,null,null,null,null,null,null,null,null,null,null,null,null,0,0,0,0,null,null,null,0,"مدفوع"]
[null,null,null,null,null,null,null,null,null,null,null,null,null,null,0,0,0,0,null,null,null,0,"مدفوع"]
[null,null,null,null,null,null,null,null,null,null,null,null,null,null,0,0,0,0,null,null,null,0,"مدفوع"]
[null,null,null,null,null,null,null,null,null,null,null,null,null,null,0,0,0,0,null,null,null,0,"مدفوع"]
[null,null,null,null,null,null,null,null,null,null,null,null,null,null,0,0,0,0,null,null,null,0,"مدفوع"]
[null,null,null,null,null,null,null,null,null,null,null,null,null,null,0,0,0,0,null,null,null,0,"مدفوع"]
[null,null,null,null,null,null,null,null,null,null,null,null,null,null,0,0,0,0,null,null,null,0,"مدفوع"]
[null,null,null,null,null,null,null,null,null,null,null,null,null,null,0,0,0,0,null,null,null,0,"مدفوع"]
[null,null,null,null,null,null,null,null,null,null,null,null,null,null,0,0,0,0,null,null,null,0,"مدفوع"]
[null,null,null,null,null,null,null,null,null,null,null,null,null,null,0,0,0,0,null,null,null,0,"مدفوع"]
[null,null,null,null,null,null,null,null,null,null,null,null,null,null,0,0,0,0,null,null,null,0,"مدفوع"]
[null,null,null,null,null,null,null,null,null,null,null,null,null,null,0,0,0,0,null,null,null,0,"مدفوع"]
[null,null,null,null,null,null,null,null,null,null,null,null,null,null,0,0,0,0,null,null,null,0,"مدفوع"]
[null,null,null,null,null,null,null,null,null,null,null,null,null,null,0,0,0,0,null,null,null,0,"مدفوع"]
[null,null,null,null,null,null,null,null,null,null,null,null,null,null,0,0,0,0,null,null,null,0,"مدفوع"]
[null,null,null,null,null,null,null,null,null,null,null,null,null,null,0,0,0,0,null,null,null,0,"مدفوع"]
[null,null,null,null,null,null,null,null,null,null,null,null,null,null,0,0,0,0,null,null,null,0,"مدفوع"]
[null,null,null,null,null,null,null,null,null,null,null,null,null,null,0,0,0,0,null,null,null,0,"مدفوع"]
[null,null,null,null,null,null,null,null,null,null,null,null,null,null,0,0,0,0,null,null,null,0,"مدفوع"]
[null,null,null,null,null,null,null,null,null,null,null,null,null,null,0,0,0,0,null,null,null,0,"مدفوع"]
[null,null,null,null,null,null,null,null,null,null,null,null,null,null,0,0,0,0,null,null,null,0,"مدفوع"]
[null,null,null,null,null,null,null,null,null,null,null,null,null,null,0,0,0,0,null,null,null,0,"مدفوع"]
[null,null,null,null,null,null,null,null,null,null,null,null,null,null,0,0,0,0,null,null,null,0,"مدفوع"]
[null,null,null,null,null,null,null,null,null,null,null,null,null,null,0,0,0,0,null,null,null,0,"مدفوع"]
[null,null,null,null,null,null,null,null,null,null,null,null,null,null,0,0,0,0,null,null,null,0,"مدفوع"]
[null,null,null,null,null,null,null,null,null,null,null,null,null,null,0,0,0,0,null,null,null,0,"مدفوع"]
[null,null,null,null,null,null,null,null,null,null,null,null,null,null,0,0,0,0,null,null,null,0,"مدفوع"]
[null,null,null,null,null,null,null,null,null,null,null,null,null,null,0,0,0,0,null,null,null,0,"مدفوع"]
[null,null,null,null,null,null,null,null,null,null,null,null,null,null,0,0,0,0,null,null,null,0,"مدفوع"]
[null,null,null,null,null,null,null,null,null,null,null,null,null,null,0,0,0,0,null,null,null,0,"مدفوع"]
[null,null,null,null,null,null,null,null,null,null,null,null,null,null,0,0,0,0,null,null,null,0,"مدفوع"]
[null,null,null,null,null,null,null,null,null,null,null,null,null,null,0,0,0,0,null,null,null,0,"مدفوع"]
[null,null,null,null,null,null,null,null,null,null,null,null,null,null,0,0,0,0,null,null,null,0,"مدفوع"]
[null,null,null,null,null,null,null,null,null,null,null,null,null,null,0,0,0,0,null,null,null,0,"مدفوع"]
[null,null,null,null,null,null,null,null,null,null,null,null,null,null,0,0,0,0,null,null,null,0,"مدفوع"]
[null,null,null,null,null,null,null,null,null,null,null,null,null,null,0,0,0,0,null,null,null,0,"مدفوع"]
[null,null,null,null,null,null,null,null,null,null,null,null,null,null,0,0,0,0,null,null,null,0,"مدفوع"]
[null,null,null,null,null,null,null,null,null,null,null,null,null,null,0,0,0,0,null,null,null,0,"مدفوع"]
[null,null,null,null,null,null,null,null,null,null,null,null,null,null,{"$f":"SUM(M2659-N2659)","v":0},0,{"$f":"SUM(K2659*150000/2.5)","v":0},{"$f":"SUM(O2659*4000)","v":0},null,null,null,{"$f":"SUM(P2659:S2659)-T2659","v":0},{"$f":"IF(V2659<=0,\"مدفوع\",\"غير مدفوع\")","v":"مدفوع"}]
[null,null,null,null,null,null,null,null,null,null,null,null,null,null,0,0,0,0,null,null,null,0,"مدفوع"]
[null,null,null,null,null,null,null,null,null,null,null,null,null,null,0,{"$f":"IF(L2661=0,0,IF(L2661<=5.5,150000,IF(L2661<=10.5,230000,IF(L2661<=15.5,300000,IF(L2661<=20.5,350000,IF(L2661<=25.5,400000,IF(L2661<=30.5,450000,IF(L2661<=35.5,500000,IF(L2661<=40.5,550000,IF(L2661<=45.5,600000,IF(L2661<=50.5,650000,IF(L2661<=55.5,700000,IF(L2661<=60.5,750000)))))))))))))","v":0},0,0,null,null,null,0,"مدفوع"]
[null,null,null,null,null,null,null,null,null,null,null,null,null,null,0,0,0,0,null,null,null,0,"مدفوع"]
[null,null,null,null,null,null,null,null,null,null,null,null,null,null,0,0,0,0,null,null,null,0,"مدفوع"]
[null,null,null,null,null,null,null,null,null,null,null,null,null,null,0,0,0,0,null,null,null,0,"مدفوع"]
[null,null,null,null,null,null,null,null,null,null,null,null,null,null,0,0,0,0,null,null,null,0,"مدفوع"]
[null,null,null,null,null,null,null,null,null,null,null,null,null,null,0,0,0,0,null,null,null,0,"مدفوع"]
[null,null,null,null,null,null,null,null,null,null,null,null,null,null,0,0,0,0,null,null,null,0,"مدفوع"]
[null,null,null,null,null,null,null,null,null,null,null,null,null,null,0,0,0,0,null,null,null,0,"مدفوع"]
[null,null,null,null,null,null,null,null,null,null,null,null,null,null,0,0,0,0,null,null,null,0,"مدفوع"]
[null,null,null,null,null,null,null,null,null,null,null,null,null,null,0,0,0,0,null,null,null,0,"مدفوع"]
[null,null,null,null,null,null,null,null,null,null,null,null,null,null,0,0,0,0,null,null,null,0,"مدفوع"]
[null,null,null,null,null,null,null,null,null,null,null,null,null,null,0,0,0,0,null,null,null,0,"مدفوع"]
[null,null,null,null,null,null,null,null,null,null,null,null,null,null,0,0,0,0,null,null,null,0,"مدفوع"]
[null,null,null,null,null,null,null,null,null,null,null,null,null,null,0,0,0,0,null,null,null,0,"مدفوع"]
[null,null,null,null,null,null,null,null,null,null,null,null,null,null,0,0,0,0,null,null,null,0,"مدفوع"]
[null,null,null,null,null,null,null,null,null,null,null,null,null,null,0,0,0,0,null,null,null,0,"مدفوع"]
[null,null,null,null,null,null,null,null,null,null,null,null,null,null,0,0,0,0,null,null,null,0,"مدفوع"]
[null,null,null,null,null,null,null,null,null,null,null,null,null,null,0,0,0,0,null,null,null,0,"مدفوع"]
[null,null,null,null,null,null,null,null,null,null,null,null,null,null,0,0,0,0,null,null,null,0,"مدفوع"]
[null,null,null,null,null,null,null,null,null,null,null,null,null,null,0,0,0,0,null,null,null,0,"مدفوع"]
[null,null,null,null,null,null,null,null,null,null,null,null,null,null,0,0,0,0,null,null,null,0,"مدفوع"]
[null,null,null,null,null,null,null,null,null,null,null,null,null,null,0,0,0,0,null,null,null,0,"مدفوع"]
[null,null,null,null,null,null,null,null,null,null,null,null,null,null,0,0,0,0,null,null,null,0,"مدفوع"]
[null,null,null,null,null,null,null,null,null,null,null,null,null,null,0,0,0,0,null,null,null,0,"مدفوع"]
[null,null,null,null,null,null,null,null,null,null,null,null,null,null,0,0,0,0,null,null,null,0,"مدفوع"]
[null,null,null,null,null,null,null,null,null,null,null,null,null,null,0,0,0,0,null,null,null,0,"مدفوع"]
[null,null,null,null,null,null,null,null,null,null,null,null,null,null,0,0,0,0,null,null,null,0,"مدفوع"]
[null,null,null,null,null,null,null,null,null,null,null,null,null,null,0,0,0,0,null,null,null,0,"مدفوع"]
[null,null,null,null,null,null,null,null,null,null,null,null,null,null,0,0,0,0,null,null,null,0,"مدفوع"]
[null,null,null,null,null,null,null,null,null,null,null,null,null,null,0,0,0,0,null,null,null,0,"مدفوع"]
[null,null,null,null,null,null,null,null,null,null,null,null,null,null,0,0,0,0,null,null,null,0,"مدفوع"]
[null,null,null,null,null,null,null,null,null,null,null,null,null,null,0,0,0,0,null,null,null,0,"مدفوع"]
[null,null,null,null,null,null,null,null,null,null,null,null,null,null,0,0,0,0,null,null,null,0,"مدفوع"]
[null,null,null,null,null,null,null,null,null,null,null,null,null,null,0,0,0,0,null,null,null,0,"مدفوع"]
[null,null,null,null,null,null,null,null,null,null,null,null,null,null,0,0,0,0,null,null,null,0,"مدفوع"]
[null,null,null,null,null,null,null,null,null,null,null,null,null,null,0,0,0,0,null,null,null,0,"مدفوع"]
[null,null,null,null,null,null,null,null,null,null,null,null,null,null,0,0,0,0,null,null,null,0,"مدفوع"]
[null,null,null,null,null,null,null,null,null,null,null,null,null,null,0,0,0,0,null,null,null,0,"مدفوع"]
[null,null,null,null,null,null,null,null,null,null,null,null,null,null,0,0,0,0,null,null,null,0,"مدفوع"]
[null,null,null,null,null,null,null,null,null,null,null,null,null,null,0,0,0,0,null,null,null,0,"مدفوع"]
[null,null,null,null,null,null,null,null,null,null,null,null,null,null,0,0,0,0,null,null,null,0,"مدفوع"]
[null,null,null,null,null,null,null,null,null,null,null,null,null,null,0,0,0,0,null,null,null,0,"مدفوع"]
[null,null,null,null,null,null,null,null,null,null,null,null,null,null,0,0,0,0,null,null,null,0,"مدفوع"]
[null,null,null,null,null,null,null,null,null,null,null,null,null,null,0,0,0,0,null,null,null,0,"مدفوع"]
[null,null,null,null,null,null,null,null,null,null,null,null,null,null,0,0,0,0,null,null,null,0,"مدفوع"]
[null,null,null,null,null,null,null,null,null,null,null,null,null,null,0,0,0,0,null,null,null,0,"مدفوع"]
[null,null,null,null,null,null,null,null,null,null,null,null,null,null,0,0,0,0,null,null,null,0,"مدفوع"]
[null,null,null,null,null,null,null,null,null,null,null,null,null,null,0,0,0,0,null,null,null,0,"مدفوع"]
[null,null,null,null,null,null,null,null,null,null,null,null,null,null,0,0,0,0,null,null,null,0,"مدفوع"]
[null,null,null,null,null,null,null,null,null,null,null,null,null,null,0,0,0,0,null,null,null,0,"مدفوع"]
[null,null,null,null,null,null,null,null,null,null,null,null,null,null,0,0,0,0,null,null,null,0,"مدفوع"]
[null,null,null,null,null,null,null,null,null,null,null,null,null,null,0,0,0,0,null,null,null,0,"مدفوع"]
[null,null,null,null,null,null,null,null,null,null,null,null,null,null,0,0,0,0,null,null,null,0,"مدفوع"]
[null,null,null,null,null,null,null,null,null,null,null,null,null,null,0,0,0,0,null,null,null,0,"مدفوع"]
[null,null,null,null,null,null,null,null,null,null,null,null,null,null,0,0,0,0,null,null,null,0,"مدفوع"]
[null,null,null,null,null,null,null,null,null,null,null,null,null,null,0,0,0,0,null,null,null,0,"مدفوع"]
[null,null,null,null,null,null,null,null,null,null,null,null,null,null,0,0,0,0,null,null,null,0,"مدفوع"]
[null,null,null,null,null,null,null,null,null,null,null,null,null,null,0,0,0,0,null,null,null,0,"مدفوع"]
[null,null,null,null,null,null,null,null,null,null,null,null,null,null,0,0,0,0,null,null,null,0,"مدفوع"]
[null,null,null,null,null,null,null,null,null,null,null,null,null,null,0,0,0,0,null,null,null,0,"مدفوع"]
[null,null,null,null,null,null,null,null,null,null,null,null,null,null,0,0,0,0,null,null,null,0,"مدفوع"]
[null,null,null,null,null,null,null,null,null,null,null,null,null,null,0,0,0,0,null,null,null,0,"مدفوع"]
[null,null,null,null,null,null,null,null,null,null,null,null,null,null,{"$f":"SUM(M2723-N2723)","v":0},0,{"$f":"SUM(K2723*150000/2.5)","v":0},{"$f":"SUM(O2723*4000)","v":0},null,null,null,{"$f":"SUM(P2723:S2723)-T2723","v":0},{"$f":"IF(V2723<=0,\"مدفوع\",\"غير مدفوع\")","v":"مدفوع"}]
[null,null,null,null,null,null,null,null,null,null,null,null,null,null,0,0,0,0,null,null,null,0,"مدفوع"]
[null,null,null,null,null,null,null,null,null,null,null,null,null,null,0,{"$f":"IF(L2725=0,0,IF(L2725<=5.5,150000,IF(L2725<=10.5,230000,IF(L2725<=15.5,300000,IF(L2725<=20.5,350000,IF(L2725<=25.5,400000,IF(L2725<=30.5,450000,IF(L2725<=35.5,500000,IF(L2725<=40.5,550000,IF(L2725<=45.5,600000,IF(L2725<=50.5,650000,IF(L2725<=55.5,700000,IF(L2725<=60.5,750000)))))))))))))","v":0},0,0,null,null,null,0,"مدفوع"]
[null,null,null,null,null,null,null,null,null,null,null,null,null,null,0,0,0,0,null,null,null,0,"مدفوع"]
[null,null,null,null,null,null,null,null,null,null,null,null,null,null,0,0,0,0,null,null,null,0,"مدفوع"]
[null,null,null,null,null,null,null,null,null,null,null,null,null,null,0,0,0,0,null,null,null,0,"مدفوع"]
[null,null,null,null,null,null,null,null,null,null,null,null,null,null,0,0,0,0,null,null,null,0,"مدفوع"]
[null,null,null,null,null,null,null,null,null,null,null,null,null,null,0,0,0,0,null,null,null,0,"مدفوع"]
[null,null,null,null,null,null,null,null,null,null,null,null,null,null,0,0,0,0,null,null,null,0,"مدفوع"]
[null,null,null,null,null,null,null,null,null,null,null,null,null,null,0,0,0,0,null,null,null,0,"مدفوع"]
[null,null,null,null,null,null,null,null,null,null,null,null,null,null,0,0,0,0,null,null,null,0,"مدفوع"]
[null,null,null,null,null,null,null,null,null,null,null,null,null,null,0,0,0,0,null,null,null,0,"مدفوع"]
[null,null,null,null,null,null,null,null,null,null,null,null,null,null,0,0,0,0,null,null,null,0,"مدفوع"]
[null,null,null,null,null,null,null,null,null,null,null,null,null,null,0,0,0,0,null,null,null,0,"مدفوع"]
[null,null,null,null,null,null,null,null,null,null,null,null,null,null,0,0,0,0,null,null,null,0,"مدفوع"]
[null,null,null,null,null,null,null,null,null,null,null,null,null,null,0,0,0,0,null,null,null,0,"مدفوع"]
[null,null,null,null,null,null,null,null,null,null,null,null,null,null,0,0,0,0,null,null,null,0,"مدفوع"]
[null,null,null,null,null,null,null,null,null,null,null,null,null,null,0,0,0,0,null,null,null,0,"مدفوع"]
[null,null,null,null,null,null,null,null,null,null,null,null,null,null,0,0,0,0,null,null,null,0,"مدفوع"]
[null,null,null,null,null,null,null,null,null,null,null,null,null,null,0,0,0,0,null,null,null,0,"مدفوع"]
[null,null,null,null,null,null,null,null,null,null,null,null,null,null,0,0,0,0,null,null,null,0,"مدفوع"]
[null,null,null,null,null,null,null,null,null,null,null,null,null,null,0,0,0,0,null,null,null,0,"مدفوع"]
[null,null,null,null,null,null,null,null,null,null,null,null,null,null,0,0,0,0,null,null,null,0,"مدفوع"]
[null,null,null,null,null,null,null,null,null,null,null,null,null,null,0,0,0,0,null,null,null,0,"مدفوع"]
[null,null,null,null,null,null,null,null,null,null,null,null,null,null,0,0,0,0,null,null,null,0,"مدفوع"]
[null,null,null,null,null,null,null,null,null,null,null,null,null,null,0,0,0,0,null,null,null,0,"مدفوع"]
[null,null,null,null,null,null,null,null,null,null,null,null,null,null,0,0,0,0,null,null,null,0,"مدفوع"]
[null,null,null,null,null,null,null,null,null,null,null,null,null,null,0,0,0,0,null,null,null,0,"مدفوع"]
[null,null,null,null,null,null,null,null,null,null,null,null,null,null,0,0,0,0,null,null,null,0,"مدفوع"]
[null,null,null,null,null,null,null,null,null,null,null,null,null,null,0,0,0,0,null,null,null,0,"مدفوع"]
[null,null,null,null,null,null,null,null,null,null,null,null,null,null,0,0,0,0,null,null,null,0,"مدفوع"]
[null,null,null,null,null,null,null,null,null,null,null,null,null,null,0,0,0,0,null,null,null,0,"مدفوع"]
[null,null,null,null,null,null,null,null,null,null,null,null,null,null,0,0,0,0,null,null,null,0,"مدفوع"]
[null,null,null,null,null,null,null,null,null,null,null,null,null,null,0,0,0,0,null,null,null,0,"مدفوع"]
[null,null,null,null,null,null,null,null,null,null,null,null,null,null,0,0,0,0,null,null,null,0,"مدفوع"]
[null,null,null,null,null,null,null,null,null,null,null,null,null,null,0,0,0,0,null,null,null,0,"مدفوع"]
[null,null,null,null,null,null,null,null,null,null,null,null,null,null,0,0,0,0,null,null,null,0,"مدفوع"]
[null,null,null,null,null,null,null,null,null,null,null,null,null,null,0,0,0,0,null,null,null,0,"مدفوع"]
[null,null,null,null,null,null,null,null,null,null,null,null,null,null,0,0,0,0,null,null,null,0,"مدفوع"]
[null,null,null,null,null,null,null,null,null,null,null,null,null,null,0,0,0,0,null,null,null,0,"مدفوع"]
[null,null,null,null,null,null,null,null,null,null,null,null,null,null,0,0,0,0,null,null,null,0,"مدفوع"]
[null,null,null,null,null,null,null,null,null,null,null,null,null,null,0,0,0,0,null,null,null,0,"مدفوع"]
[null,null,null,null,null,null,null,null,null,null,null,null,null,null,0,0,0,0,null,null,null,0,"مدفوع"]
[null,null,null,null,null,null,null,null,null,null,null,null,null,null,0,0,0,0,null,null,null,0,"مدفوع"]
[null,null,null,null,null,null,null,null,null,null,null,null,null,null,0,0,0,0,null,null,null,0,"مدفوع"]
[null,null,null,null,null,null,null,null,null,null,null,null,null,null,0,0,0,0,null,null,null,0,"مدفوع"]
[null,null,null,null,null,null,null,null,null,null,null,null,null,null,0,0,0,0,null,null,null,0,"مدفوع"]
[null,null,null,null,null,null,null,null,null,null,null,null,null,null,0,0,0,0,null,null,null,0,"مدفوع"]
[null,null,null,null,null,null,null,null,null,null,null,null,null,null,0,0,0,0,null,null,null,0,"مدفوع"]
[null,null,null,null,null,null,null,null,null,null,null,null,null,null,0,0,0,0,null,null,null,0,"مدفوع"]
[null,null,null,null,null,null,null,null,null,null,null,null,null,null,0,0,0,0,null,null,null,0,"مدفوع"]
[null,null,null,null,null,null,null,null,null,null,null,null,null,null,0,0,0,0,null,null,null,0,"مدفوع"]
[null,null,null,null,null,null,null,null,null,null,null,null,null,null,0,0,0,0,null,null,null,0,"مدفوع"]
[null,null,null,null,null,null,null,null,null,null,null,null,null,null,0,0,0,0,null,null,null,0,"مدفوع"]
[null,null,null,null,null,null,null,null,null,null,null,null,null,null,0,0,0,0,null,null,null,0,"مدفوع"]
[null,null,null,null,null,null,null,null,null,null,null,null,null,null,0,0,0,0,null,null,null,0,"مدفوع"]
[null,null,null,null,null,null,null,null,null,null,null,null,null,null,0,0,0,0,null,null,null,0,"مدفوع"]
[null,null,null,null,null,null,null,null,null,null,null,null,null,null,0,0,0,0,null,null,null,0,"مدفوع"]
[null,null,null,null,null,null,null,null,null,null,null,null,null,null,0,0,0,0,null,null,null,0,"مدفوع"]
[null,null,null,null,null,null,null,null,null,null,null,null,null,null,0,0,0,0,null,null,null,0,"مدفوع"]
[null,null,null,null,null,null,null,null,null,null,null,null,null,null,0,0,0,0,null,null,null,0,"مدفوع"]
[null,null,null,null,null,null,null,null,null,null,null,null,null,null,0,0,0,0,null,null,null,0,"مدفوع"]
[null,null,null,null,null,null,null,null,null,null,null,null,null,null,0,0,0,0,null,null,null,0,"مدفوع"]
[null,null,null,null,null,null,null,null,null,null,null,null,null,null,0,0,0,0,null,null,null,0,"مدفوع"]
[null,null,null,null,null,null,null,null,null,null,null,null,null,null,{"$f":"SUM(M2787-N2787)","v":0},0,{"$f":"SUM(K2787*150000/2.5)","v":0},{"$f":"SUM(O2787*4000)","v":0},null,null,null,{"$f":"SUM(P2787:S2787)-T2787","v":0},{"$f":"IF(V2787<=0,\"مدفوع\",\"غير مدفوع\")","v":"مدفوع"}]
[null,null,null,null,null,null,null,null,null,null,null,null,null,null,0,0,0,0,null,null,null,0,"مدفوع"]
[null,null,null,null,null,null,null,null,null,null,null,null,null,null,0,{"$f":"IF(L2789=0,0,IF(L2789<=5.5,150000,IF(L2789<=10.5,230000,IF(L2789<=15.5,300000,IF(L2789<=20.5,350000,IF(L2789<=25.5,400000,IF(L2789<=30.5,450000,IF(L2789<=35.5,500000,IF(L2789<=40.5,550000,IF(L2789<=45.5,600000,IF(L2789<=50.5,650000,IF(L2789<=55.5,700000,IF(L2789<=60.5,750000)))))))))))))","v":0},0,0,null,null,null,0,"مدفوع"]
[null,null,null,null,null,null,null,null,null,null,null,null,null,null,0,0,0,0,null,null,null,0,"مدفوع"]
[null,null,null,null,null,null,null,null,null,null,null,null,null,null,0,0,0,0,null,null,null,0,"مدفوع"]
[null,null,null,null,null,null,null,null,null,null,null,null,null,null,0,0,0,0,null,null,null,0,"مدفوع"]
[null,null,null,null,null,null,null,null,null,null,null,null,null,null,0,0,0,0,null,null,null,0,"مدفوع"]
[null,null,null,null,null,null,null,null,null,null,null,null,null,null,0,0,0,0,null,null,null,0,"مدفوع"]
[null,null,null,null,null,null,null,null,null,null,null,null,null,null,0,0,0,0,null,null,null,0,"مدفوع"]
[null,null,null,null,null,null,null,null,null,null,null,null,null,null,0,0,0,0,null,null,null,0,"مدفوع"]
[null,null,null,null,null,null,null,null,null,null,null,null,null,null,0,0,0,0,null,null,null,0,"مدفوع"]
[null,null,null,null,null,null,null,null,null,null,null,null,null,null,0,0,0,0,null,null,null,0,"مدفوع"]
[null,null,null,null,null,null,null,null,null,null,null,null,null,null,0,0,0,0,null,null,null,0,"مدفوع"]
[null,null,null,null,null,null,null,null,null,null,null,null,null,null,0,0,0,0,null,null,null,0,"مدفوع"]
[null,null,null,null,null,null,null,null,null,null,null,null,null,null,0,0,0,0,null,null,null,0,"مدفوع"]
[null,null,null,null,null,null,null,null,null,null,null,null,null,null,0,0,0,0,null,null,null,0,"مدفوع"]
[null,null,null,null,null,null,null,null,null,null,null,null,null,null,0,0,0,0,null,null,null,0,"مدفوع"]
[null,null,null,null,null,null,null,null,null,null,null,null,null,null,0,0,0,0,null,null,null,0,"مدفوع"]
[null,null,null,null,null,null,null,null,null,null,null,null,null,null,0,0,0,0,null,null,null,0,"مدفوع"]
[null,null,null,null,null,null,null,null,null,null,null,null,null,null,0,0,0,0,null,null,null,0,"مدفوع"]
[null,null,null,null,null,null,null,null,null,null,null,null,null,null,0,0,0,0,null,null,null,0,"مدفوع"]
[null,null,null,null,null,null,null,null,null,null,null,null,null,null,0,0,0,0,null,null,null,0,"مدفوع"]
[null,null,null,null,null,null,null,null,null,null,null,null,null,null,0,0,0,0,null,null,null,0,"مدفوع"]
[null,null,null,null,null,null,null,null,null,null,null,null,null,null,0,0,0,0,null,null,null,0,"مدفوع"]
[null,null,null,null,null,null,null,null,null,null,null,null,null,null,0,0,0,0,null,null,null,0,"مدفوع"]
[null,null,null,null,null,null,null,null,null,null,null,null,null,null,0,0,0,0,null,null,null,0,"مدفوع"]
[null,null,null,null,null,null,null,null,null,null,null,null,null,null,0,0,0,0,null,null,null,0,"مدفوع"]
[null,null,null,null,null,null,null,null,null,null,null,null,null,null,0,0,0,0,null,null,null,0,"مدفوع"]
[null,null,null,null,null,null,null,null,null,null,null,null,null,null,0,0,0,0,null,null,null,0,"مدفوع"]
[null,null,null,null,null,null,null,null,null,null,null,null,null,null,0,0,0,0,null,null,null,0,"مدفوع"]
[null,null,null,null,null,null,null,null,null,null,null,null,null,null,0,0,0,0,null,null,null,0,"مدفوع"]
[null,null,null,null,null,null,null,null,null,null,null,null,null,null,0,0,0,0,null,null,null,0,"مدفوع"]
[null,null,null,null,null,null,null,null,null,null,null,null,null,null,0,0,0,0,null,null,null,0,"مدفوع"]
[null,null,null,null,null,null,null,null,null,null,null,null,null,null,0,0,0,0,null,null,null,0,"مدفوع"]
[null,null,null,null,null,null,null,null,null,null,null,null,null,null,0,0,0,0,null,null,null,0,"مدفوع"]
[null,null,null,null,null,null,null,null,null,null,null,null,null,null,0,0,0,0,null,null,null,0,"مدفوع"]
[null,null,null,null,null,null,null,null,null,null,null,null,null,null,0,0,0,0,null,null,null,0,"مدفوع"]
[null,null,null,null,null,null,null,null,null,null,null,null,null,null,0,0,0,0,null,null,null,0,"مدفوع"]
[null,null,null,null,null,null,null,null,null,null,null,null,null,null,0,0,0,0,null,null,null,0,"مدفوع"]
[null,null,null,null,null,null,null,null,null,null,null,null,null,null,0,0,0,0,null,null,null,0,"مدفوع"]
[null,null,null,null,null,null,null,null,null,null,null,null,null,null,0,0,0,0,null,null,null,0,"مدفوع"]
[null,null,null,null,null,null,null,null,null,null,null,null,null,null,0,0,0,0,null,null,null,0,"مدفوع"]
[null,null,null,null,null,null,null,null,null,null,null,null,null,null,0,0,0,0,null,null,null,0,"مدفوع"]
[null,null,null,null,null,null,null,null,null,null,null,null,null,null,0,0,0,0,null,null,null,0,"مدفوع"]
[null,null,null,null,null,null,null,null,null,null,null,null,null,null,0,0,0,0,null,null,null,0,"مدفوع"]
[null,null,null,null,null,null,null,null,null,null,null,null,null,null,0,0,0,0,null,null,null,0,"مدفوع"]
[null,null,null,null,null,null,null,null,null,null,null,null,null,null,0,0,0,0,null,null,null,0,"مدفوع"]
[null,null,null,null,null,null,null,null,null,null,null,null,null,null,0,0,0,0,null,null,null,0,"مدفوع"]
[null,null,null,null,null,null,null,null,null,null,null,null,null,null,0,0,0,0,null,null,null,0,"مدفوع"]
[null,null,null,null,null,null,null,null,null,null,null,null,null,null,0,0,0,0,null,null,null,0,"مدفوع"]
[null,null,null,null,null,null,null,null,null,null,null,null,null,null,0,0,0,0,null,null,null,0,"مدفوع"]
[null,null,null,null,null,null,null,null,null,null,null,null,null,null,0,0,0,0,null,null,null,0,"مدفوع"]
[null,null,null,null,null,null,null,null,null,null,null,null,null,null,0,0,0,0,null,null,null,0,"مدفوع"]
[null,null,null,null,null,null,null,null,null,null,null,null,null,null,0,0,0,0,null,null,null,0,"مدفوع"]
[null,null,null,null,null,null,null,null,null,null,null,null,null,null,0,0,0,0,null,null,null,0,"مدفوع"]
[null,null,null,null,null,null,null,null,null,null,null,null,null,null,0,0,0,0,null,null,null,0,"مدفوع"]
[null,null,null,null,null,null,null,null,null,null,null,null,null,null,0,0,0,0,null,null,null,0,"مدفوع"]
[null,null,null,null,null,null,null,null,null,null,null,null,null,null,0,0,0,0,null,null,null,0,"مدفوع"]
[null,null,null,null,null,null,null,null,null,null,null,null,null,null,0,0,0,0,null,null,null,0,"مدفوع"]
[null,null,null,null,null,null,null,null,null,null,null,null,null,null,0,0,0,0,null,null,null,0,"مدفوع"]
[null,null,null,null,null,null,null,null,null,null,null,null,null,null,0,0,0,0,null,null,null,0,"مدفوع"]
[null,null,null,null,null,null,null,null,null,null,null,null,null,null,0,0,0,0,null,null,null,0,"مدفوع"]
[null,null,null,null,null,null,null,null,null,null,null,null,null,null,0,0,0,0,null,null,null,0,"مدفوع"]
[null,null,null,null,null,null,null,null,null,null,null,null,null,null,0,0,0,0,null,null,null,0,"مدفوع"]
[null,null,null,null,null,null,null,null,null,null,null,null,null,null,{"$f":"SUM(M2851-N2851)","v":0},0,{"$f":"SUM(K2851*150000/2.5)","v":0},{"$f":"SUM(O2851*4000)","v":0},null,null,null,{"$f":"SUM(P2851:S2851)-T2851","v":0},{"$f":"IF(V2851<=0,\"مدفوع\",\"غير مدفوع\")","v":"مدفوع"}]
[null,null,null,null,null,null,null,null,null,null,null,null,null,null,0,0,0,0,null,null,null,0,"مدفوع"]
[null,null,null,null,null,null,null,null,null,null,null,null,null,null,0,{"$f":"IF(L2853=0,0,IF(L2853<=5.5,150000,IF(L2853<=10.5,230000,IF(L2853<=15.5,300000,IF(L2853<=20.5,350000,IF(L2853<=25.5,400000,IF(L2853<=30.5,450000,IF(L2853<=35.5,500000,IF(L2853<=40.5,550000,IF(L2853<=45.5,600000,IF(L2853<=50.5,650000,IF(L2853<=55.5,700000,IF(L2853<=60.5,750000)))))))))))))","v":0},0,0,null,null,null,0,"مدفوع"]
[null,null,null,null,null,null,null,null,null,null,null,null,null,null,0,0,0,0,null,null,null,0,"مدفوع"]
[null,null,null,null,null,null,null,null,null,null,null,null,null,null,0,0,0,0,null,null,null,0,"مدفوع"]
[null,null,null,null,null,null,null,null,null,null,null,null,null,null,0,0,0,0,null,null,null,0,"مدفوع"]
[null,null,null,null,null,null,null,null,null,null,null,null,null,null,0,0,0,0,null,null,null,0,"مدفوع"]
[null,null,null,null,null,null,null,null,null,null,null,null,null,null,0,0,0,0,null,null,null,0,"مدفوع"]
[null,null,null,null,null,null,null,null,null,null,null,null,null,null,0,0,0,0,null,null,null,0,"مدفوع"]
[null,null,null,null,null,null,null,null,null,null,null,null,null,null,0,0,0,0,null,null,null,0,"مدفوع"]
[null,null,null,null,null,null,null,null,null,null,null,null,null,null,0,0,0,0,null,null,null,0,"مدفوع"]
[null,null,null,null,null,null,null,null,null,null,null,null,null,null,0,0,0,0,null,null,null,0,"مدفوع"]
[null,null,null,null,null,null,null,null,null,null,null,null,null,null,0,0,0,0,null,null,null,0,"مدفوع"]
[null,null,null,null,null,null,null,null,null,null,null,null,null,null,0,0,0,0,null,null,null,0,"مدفوع"]
[null,null,null,null,null,null,null,null,null,null,null,null,null,null,0,0,0,0,null,null,null,0,"مدفوع"]
[null,null,null,null,null,null,null,null,null,null,null,null,null,null,0,0,0,0,null,null,null,0,"مدفوع"]
[null,null,null,null,null,null,null,null,null,null,null,null,null,null,0,0,0,0,null,null,null,0,"مدفوع"]
[null,null,null,null,null,null,null,null,null,null,null,null,null,null,0,0,0,0,null,null,null,0,"مدفوع"]
[null,null,null,null,null,null,null,null,null,null,null,null,null,null,0,0,0,0,null,null,null,0,"مدفوع"]
[null,null,null,null,null,null,null,null,null,null,null,null,null,null,0,0,0,0,null,null,null,0,"مدفوع"]
[null,null,null,null,null,null,null,null,null,null,null,null,null,null,0,0,0,0,null,null,null,0,"مدفوع"]
[null,null,null,null,null,null,null,null,null,null,null,null,null,null,0,0,0,0,null,null,null,0,"مدفوع"]
[null,null,null,null,null,null,null,null,null,null,null,null,null,null,0,0,0,0,null,null,null,0,"مدفوع"]
[null,null,null,null,null,null,null,null,null,null,null,null,null,null,0,0,0,0,null,null,null,0,"مدفوع"]
[null,null,null,null,null,null,null,null,null,null,null,null,null,null,0,0,0,0,null,null,null,0,"مدفوع"]
[null,null,null,null,null,null,null,null,null,null,null,null,null,null,0,0,0,0,null,null,null,0,"مدفوع"]
[null,null,null,null,null,null,null,null,null,null,null,null,null,null,0,0,0,0,null,null,null,0,"مدفوع"]
[null,null,null,null,null,null,null,null,null,null,null,null,null,null,0,0,0,0,null,null,null,0,"مدفوع"]
[null,null,null,null,null,null,null,null,null,null,null,null,null,null,0,0,0,0,null,null,null,0,"مدفوع"]
[null,null,null,null,null,null,null,null,null,null,null,null,null,null,0,0,0,0,null,null,null,0,"مدفوع"]
[null,null,null,null,null,null,null,null,null,null,null,null,null,null,0,0,0,0,null,null,null,0,"مدفوع"]
[null,null,null,null,null,null,null,null,null,null,null,null,null,null,0,0,0,0,null,null,null,0,"مدفوع"]
[null,null,null,null,null,null,null,null,null,null,null,null,null,null,0,0,0,0,null,null,null,0,"مدفوع"]
[null,null,null,null,null,null,null,null,null,null,null,null,null,null,0,0,0,0,null,null,null,0,"مدفوع"]
[null,null,null,null,null,null,null,null,null,null,null,null,null,null,0,0,0,0,null,null,null,0,"مدفوع"]
[null,null,null,null,null,null,null,null,null,null,null,null,null,null,0,0,0,0,null,null,null,0,"مدفوع"]
[null,null,null,null,null,null,null,null,null,null,null,null,null,null,0,0,0,0,null,null,null,0,"مدفوع"]
[null,null,null,null,null,null,null,null,null,null,null,null,null,null,0,0,0,0,null,null,null,0,"مدفوع"]
[null,null,null,null,null,null,null,null,null,null,null,null,null,null,0,0,0,0,null,null,null,0,"مدفوع"]
[null,null,null,null,null,null,null,null,null,null,null,null,null,null,0,0,0,0,null,null,null,0,"مدفوع"]
[null,null,null,null,null,null,null,null,null,null,null,null,null,null,0,0,0,0,null,null,null,0,"مدفوع"]
[null,null,null,null,null,null,null,null,null,null,null,null,null,null,0,0,0,0,null,null,null,0,"مدفوع"]
[null,null,null,null,null,null,null,null,null,null,null,null,null,null,0,0,0,0,null,null,null,0,"مدفوع"]
[null,null,null,null,null,null,null,null,null,null,null,null,null,null,0,0,0,0,null,null,null,0,"مدفوع"]
[null,null,null,null,null,null,null,null,null,null,null,null,null,null,0,0,0,0,null,null,null,0,"مدفوع"]
[null,null,null,null,null,null,null,null,null,null,null,null,null,null,0,0,0,0,null,null,null,0,"مدفوع"]
[null,null,null,null,null,null,null,null,null,null,null,null,null,null,0,0,0,0,null,null,null,0,"مدفوع"]
[null,null,null,null,null,null,null,null,null,null,null,null,null,null,0,0,0,0,null,null,null,0,"مدفوع"]
[null,null,null,null,null,null,null,null,null,null,null,null,null,null,0,0,0,0,null,null,null,0,"مدفوع"]
[null,null,null,null,null,null,null,null,null,null,null,null,null,null,0,0,0,0,null,null,null,0,"مدفوع"]
[null,null,null,null,null,null,null,null,null,null,null,null,null,null,0,0,0,0,null,null,null,0,"مدفوع"]
[null,null,null,null,null,null,null,null,null,null,null,null,null,null,0,0,0,0,null,null,null,0,"مدفوع"]
[null,null,null,null,null,null,null,null,null,null,null,null,null,null,0,0,0,0,null,null,null,0,"مدفوع"]
[null,null,null,null,null,null,null,null,null,null,null,null,null,null,0,0,0,0,null,null,null,0,"مدفوع"]
[null,null,null,null,null,null,null,null,null,null,null,null,null,null,0,0,0,0,null,null,null,0,"مدفوع"]
[null,null,null,null,null,null,null,null,null,null,null,null,null,null,0,0,0,0,null,null,null,0,"مدفوع"]
[null,null,null,null,null,null,null,null,null,null,null,null,null,null,0,0,0,0,null,null,null,0,"مدفوع"]
[null,null,null,null,null,null,null,null,null,null,null,null,null,null,0,0,0,0,null,null,null,0,"مدفوع"]
[null,null,null,null,null,null,null,null,null,null,null,null,null,null,0,0,0,0,null,null,null,0,"مدفوع"]
[null,null,null,null,null,null,null,null,null,null,null,null,null,null,0,0,0,0,null,null,null,0,"مدفوع"]
[null,null,null,null,null,null,null,null,null,null,null,null,null,null,0,0,0,0,null,null,null,0,"مدفوع"]
[null,null,null,null,null,null,null,null,null,null,null,null,null,null,0,0,0,0,null,null,null,0,"مدفوع"]
[null,null,null,null,null,null,null,null,null,null,null,null,null,null,0,0,0,0,null,null,null,0,"مدفوع"]
[null,null,null,null,null,null,null,null,null,null,null,null,null,null,0,0,0,0,null,null,null,0,"مدفوع"]
[null,null,null,null,null,null,null,null,null,null,null,null,null,null,{"$f":"SUM(M2915-N2915)","v":0},0,{"$f":"SUM(K2915*150000/2.5)","v":0},{"$f":"SUM(O2915*4000)","v":0},null,null,null,{"$f":"SUM(P2915:S2915)-T2915","v":0},{"$f":"IF(V2915<=0,\"مدفوع\",\"غير مدفوع\")","v":"مدفوع"}]
[null,null,null,null,null,null,null,null,null,null,null,null,null,null,0,0,0,0,null,null,null,0,"مدفوع"]
[null,null,null,null,null,null,null,null,null,null,null,null,null,null,0,{"$f":"IF(L2917=0,0,IF(L2917<=5.5,150000,IF(L2917<=10.5,230000,IF(L2917<=15.5,300000,IF(L2917<=20.5,350000,IF(L2917<=25.5,400000,IF(L2917<=30.5,450000,IF(L2917<=35.5,500000,IF(L2917<=40.5,550000,IF(L2917<=45.5,600000,IF(L2917<=50.5,650000,IF(L2917<=55.5,700000,IF(L2917<=60.5,750000)))))))))))))","v":0},0,0,null,null,null,0,"مدفوع"]
[null,null,null,null,null,null,null,null,null,null,null,null,null,null,0,0,0,0,null,null,null,0,"مدفوع"]
[null,null,null,null,null,null,null,null,null,null,null,null,null,null,0,0,0,0,null,null,null,0,"مدفوع"]
[null,null,null,null,null,null,null,null,null,null,null,null,null,null,0,0,0,0,null,null,null,0,"مدفوع"]
[null,null,null,null,null,null,null,null,null,null,null,null,null,null,0,0,0,0,null,null,null,0,"مدفوع"]
[null,null,null,null,null,null,null,null,null,null,null,null,null,null,0,0,0,0,null,null,null,0,"مدفوع"]
[null,null,null,null,null,null,null,null,null,null,null,null,null,null,0,0,0,0,null,null,null,0,"مدفوع"]
[null,null,null,null,null,null,null,null,null,null,null,null,null,null,0,0,0,0,null,null,null,0,"مدفوع"]
[null,null,null,null,null,null,null,null,null,null,null,null,null,null,0,0,0,0,null,null,null,0,"مدفوع"]
[null,null,null,null,null,null,null,null,null,null,null,null,null,null,0,0,0,0,null,null,null,0,"مدفوع"]
[null,null,null,null,null,null,null,null,null,null,null,null,null,null,0,0,0,0,null,null,null,0,"مدفوع"]
[null,null,null,null,null,null,null,null,null,null,null,null,null,null,0,0,0,0,null,null,null,0,"مدفوع"]
[null,null,null,null,null,null,null,null,null,null,null,null,null,null,0,0,0,0,null,null,null,0,"مدفوع"]
[null,null,null,null,null,null,null,null,null,null,null,null,null,null,0,0,0,0,null,null,null,0,"مدفوع"]
[null,null,null,null,null,null,null,null,null,null,null,null,null,null,0,0,0,0,null,null,null,0,"مدفوع"]
[null,null,null,null,null,null,null,null,null,null,null,null,null,null,0,0,0,0,null,null,null,0,"مدفوع"]
[null,null,null,null,null,null,null,null,null,null,null,null,null,null,0,0,0,0,null,null,null,0,"مدفوع"]
[null,null,null,null,null,null,null,null,null,null,null,null,null,null,0,0,0,0,null,null,null,0,"مدفوع"]
[null,null,null,null,null,null,null,null,null,null,null,null,null,null,0,0,0,0,null,null,null,0,"مدفوع"]
[null,null,null,null,null,null,null,null,null,null,null,null,null,null,0,0,0,0,null,null,null,0,"مدفوع"]
[null,null,null,null,null,null,null,null,null,null,null,null,null,null,0,0,0,0,null,null,null,0,"مدفوع"]
[null,null,null,null,null,null,null,null,null,null,null,null,null,null,0,0,0,0,null,null,null,0,"مدفوع"]
[null,null,null,null,null,null,null,null,null,null,null,null,null,null,0,0,0,0,null,null,null,0,"مدفوع"]
[null,null,null,null,null,null,null,null,null,null,null,null,null,null,0,0,0,0,null,null,null,0,"مدفوع"]
[null,null,null,null,null,null,null,null,null,null,null,null,null,null,0,0,0,0,null,null,null,0,"مدفوع"]
[null,null,null,null,null,null,null,null,null,null,null,null,null,null,0,0,0,0,null,null,null,0,"مدفوع"]
[null,null,null,null,null,null,null,null,null,null,null,null,null,null,0,0,0,0,null,null,null,0,"مدفوع"]
[null,null,null,null,null,null,null,null,null,null,null,null,null,null,0,0,0,0,null,null,null,0,"مدفوع"]
[null,null,null,null,null,null,null,null,null,null,null,null,null,null,0,0,0,0,null,null,null,0,"مدفوع"]
[null,null,null,null,null,null,null,null,null,null,null,null,null,null,0,0,0,0,null,null,null,0,"مدفوع"]
[null,null,null,null,null,null,null,null,null,null,null,null,null,null,0,0,0,0,null,null,null,0,"مدفوع"]
[null,null,null,null,null,null,null,null,null,null,null,null,null,null,0,0,0,0,null,null,null,0,"مدفوع"]
[null,null,null,null,null,null,null,null,null,null,null,null,null,null,0,0,0,0,null,null,null,0,"مدفوع"]
[null,null,null,null,null,null,null,null,null,null,null,null,null,null,0,0,0,0,null,null,null,0,"مدفوع"]
[null,null,null,null,null,null,null,null,null,null,null,null,null,null,0,0,0,0,null,null,null,0,"مدفوع"]
[null,null,null,null,null,null,null,null,null,null,null,null,null,null,0,0,0,0,null,null,null,0,"مدفوع"]
[null,null,null,null,null,null,null,null,null,null,null,null,null,null,0,0,0,0,null,null,null,0,"مدفوع"]
[null,null,null,null,null,null,null,null,null,null,null,null,null,null,0,0,0,0,null,null,null,0,"مدفوع"]
[null,null,null,null,null,null,null,null,null,null,null,null,null,null,0,0,0,0,null,null,null,0,"مدفوع"]
[null,null,null,null,null,null,null,null,null,null,null,null,null,null,0,0,0,0,null,null,null,0,"مدفوع"]
[null,null,null,null,null,null,null,null,null,null,null,null,null,null,0,0,0,0,null,null,null,0,"مدفوع"]
[null,null,null,null,null,null,null,null,null,null,null,null,null,null,0,0,0,0,null,null,null,0,"مدفوع"]
[null,null,null,null,null,null,null,null,null,null,null,null,null,null,0,0,0,0,null,null,null,0,"مدفوع"]
[null,null,null,null,null,null,null,null,null,null,null,null,null,null,0,0,0,0,null,null,null,0,"مدفوع"]
[null,null,null,null,null,null,null,null,null,null,null,null,null,null,0,0,0,0,null,null,null,0,"مدفوع"]
[null,null,null,null,null,null,null,null,null,null,null,null,null,null,0,0,0,0,null,null,null,0,"مدفوع"]
[null,null,null,null,null,null,null,null,null,null,null,null,null,null,0,0,0,0,null,null,null,0,"مدفوع"]
[null,null,null,null,null,null,null,null,null,null,null,null,null,null,0,0,0,0,null,null,null,0,"مدفوع"]
[null,null,null,null,null,null,null,null,null,null,null,null,null,null,0,0,0,0,null,null,null,0,"مدفوع"]
[null,null,null,null,null,null,null,null,null,null,null,null,null,null,0,0,0,0,null,null,null,0,"مدفوع"]
[null,null,null,null,null,null,null,null,null,null,null,null,null,null,0,0,0,0,null,null,null,0,"مدفوع"]
[null,null,null,null,null,null,null,null,null,null,null,null,null,null,0,0,0,0,null,null,null,0,"مدفوع"]
[null,null,null,null,null,null,null,null,null,null,null,null,null,null,0,0,0,0,null,null,null,0,"مدفوع"]
[null,null,null,null,null,null,null,null,null,null,null,null,null,null,0,0,0,0,null,null,null,0,"مدفوع"]
[null,null,null,null,null,null,null,null,null,null,null,null,null,null,0,0,0,0,null,null,null,0,"مدفوع"]
[null,null,null,null,null,null,null,null,null,null,null,null,null,null,0,0,0,0,null,null,null,0,"مدفوع"]
[null,null,null,null,null,null,null,null,null,null,null,null,null,null,0,0,0,0,null,null,null,0,"مدفوع"]
[null,null,null,null,null,null,null,null,null,null,null,null,null,null,0,0,0,0,null,null,null,0,"مدفوع"]
[null,null,null,null,null,null,null,null,null,null,null,null,null,null,0,0,0,0,null,null,null,0,"مدفوع"]
[null,null,null,null,null,null,null,null,null,null,null,null,null,null,0,0,0,0,null,null,null,0,"مدفوع"]
[null,null,null,null,null,null,null,null,null,null,null,null,null,null,0,0,0,0,null,null,null,0,"مدفوع"]
[null,null,null,null,null,null,null,null,null,null,null,null,null,null,0,0,0,0,null,null,null,0,"مدفوع"]
[null,null,null,null,null,null,null,null,null,null,null,null,null,null,{"$f":"SUM(M2979-N2979)","v":0},0,{"$f":"SUM(K2979*150000/2.5)","v":0},{"$f":"SUM(O2979*4000)","v":0},null,null,null,{"$f":"SUM(P2979:S2979)-T2979","v":0},{"$f":"IF(V2979<=0,\"مدفوع\",\"غير مدفوع\")","v":"مدفوع"}]
[null,null,null,null,null,null,null,null,null,null,null,null,null,null,0,0,0,0,null,null,null,0,"مدفوع"]
[null,null,null,null,null,null,null,null,null,null,null,null,null,null,0,{"$f":"IF(L2981=0,0,IF(L2981<=5.5,150000,IF(L2981<=10.5,230000,IF(L2981<=15.5,300000,IF(L2981<=20.5,350000,IF(L2981<=25.5,400000,IF(L2981<=30.5,450000,IF(L2981<=35.5,500000,IF(L2981<=40.5,550000,IF(L2981<=45.5,600000,IF(L2981<=50.5,650000,IF(L2981<=55.5,700000,IF(L2981<=60.5,750000)))))))))))))","v":0},0,0,null,null,null,0,"مدفوع"]
[null,null,null,null,null,null,null,null,null,null,null,null,null,null,0,0,0,0,null,null,null,0,"مدفوع"]
[null,null,null,null,null,null,null,null,null,null,null,null,null,null,0,0,0,0,null,null,null,0,"مدفوع"]
[null,null,null,null,null,null,null,null,null,null,null,null,null,null,0,0,0,0,null,null,null,0,"مدفوع"]
[null,null,null,null,null,null,null,null,null,null,null,null,null,null,0,0,0,0,null,null,null,0,"مدفوع"]
[null,null,null,null,null,null,null,null,null,null,null,null,null,null,0,0,0,0,null,null,null,0,"مدفوع"]
[null,null,null,null,null,null,null,null,null,null,null,null,null,null,0,0,0,0,null,null,null,0,"مدفوع"]
[null,null,null,null,null,null,null,null,null,null,null,null,null,null,0,0,0,0,null,null,null,0,"مدفوع"]
[null,null,null,null,null,null,null,null,null,null,null,null,null,null,0,0,0,0,null,null,null,0,"مدفوع"]
[null,null,null,null,null,null,null,null,null,null,null,null,null,null,0,0,0,0,null,null,null,0,"مدفوع"]
[null,null,null,null,null,null,null,null,null,null,null,null,null,null,0,0,0,0,null,null,null,0,"مدفوع"]
[null,null,null,null,null,null,null,null,null,null,null,null,null,null,0,0,0,0,null,null,null,0,"مدفوع"]
[null,null,null,null,null,null,null,null,null,null,null,null,null,null,0,0,0,0,null,null,null,0,"مدفوع"]
[null,null,null,null,null,null,null,null,null,null,null,null,null,null,0,0,0,0,null,null,null,0,"مدفوع"]
[null,null,null,null,null,null,null,null,null,null,null,null,null,null,0,0,0,0,null,null,null,0,"مدفوع"]
[null,null,null,null,null,null,null,null,null,null,null,null,null,null,0,0,0,0,null,null,null,0,"مدفوع"]
[null,null,null,null,null,null,null,null,null,null,null,null,null,null,0,0,0,0,null,null,null,0,"مدفوع"]
[null,null,null,null,null,null,null,null,null,null,null,null,null,null,0,0,0,0,null,null,null,0,"مدفوع"]
[null,null,null,null,null,null,null,null,null,null,null,null,null,null,0,0,0,0,null,null,null,0,"مدفوع"]
[null,null,null,null,null,null,null,null,null,null,null,null,null,null,0,0,0,0,null,null,null,0,"مدفوع"]
[null,null,null,null,null,null,null,null,null,null,null,null,null,null,0,0,0,0,null,null,null,0,"مدفوع"]
[null,null,null,null,null,null,null,null,null,null,null,null,null,null,0,0,0,0,null,null,null,0,"مدفوع"]
[null,null,null,null,null,null,null,null,null,null,null,null,null,null,0,0,0,0,null,null,null,0,"مدفوع"]
[null,null,null,null,null,null,null,null,null,null,null,null,null,null,0,0,0,0,null,null,null,0,"مدفوع"]
[null,null,null,null,null,null,null,null,null,null,null,null,null,null,0,0,0,0,null,null,null,0,"مدفوع"]
[null,null,null,null,null,null,null,null,null,null,null,null,null,null,0,0,0,0,null,null,null,0,"مدفوع"]
[null,null,null,null,null,null,null,null,null,null,null,null,null,null,0,0,0,0,null,null,null,0,"مدفوع"]
[null,null,null,null,null,null,null,null,null,null,null,null,null,null,0,0,0,0,null,null,null,0,"مدفوع"]
[null,null,null,null,null,null,null,null,null,null,null,null,null,null,0,0,0,0,null,null,null,0,"مدفوع"]
[null,null,null,null,null,null,null,null,null,null,null,null,null,null,0,0,0,0,null,null,null,0,"مدفوع"]
[null,null,null,null,null,null,null,null,null,null,null,null,null,null,0,0,0,0,null,null,null,0,"مدفوع"]
[null,null,null,null,null,null,null,null,null,null,null,null,null,null,0,0,0,0,null,null,null,0,"مدفوع"]
[null,null,null,null,null,null,null,null,null,null,null,null,null,null,0,0,0,0,null,null,null,0,"مدفوع"]
[null,null,null,null,null,null,null,null,null,null,null,null,null,null,0,0,0,0,null,null,null,0,"مدفوع"]
[null,null,null,null,null,null,null,null,null,null,null,null,null,null,0,0,0,0,null,null,null,0,"مدفوع"]
[null,null,null,null,null,null,null,null,null,null,null,null,null,null,0,0,0,0,null,null,null,0,"مدفوع"]
[null,null,null,null,null,null,null,null,null,null,null,null,null,null,0,0,0,0,null,null,null,0,"مدفوع"]
[null,null,null,null,null,null,null,null,null,null,null,null,null,null,0,0,0,0,null,null,null,0,"مدفوع"]
[null,null,null,null,null,null,null,null,null,null,null,null,null,null,0,0,0,0,null,null,null,0,"مدفوع"]
[null,null,null,null,null,null,null,null,null,null,null,null,null,null,0,0,0,0,null,null,null,0,"مدفوع"]
[null,null,null,null,null,null,null,null,null,null,null,null,null,null,0,0,0,0,null,null,null,0,"مدفوع"]
[null,null,null,null,null,null,null,null,null,null,null,null,null,null,0,0,0,0,null,null,null,0,"مدفوع"]
[null,null,null,null,null,null,null,null,null,null,null,null,null,null,0,0,0,0,null,null,null,0,"مدفوع"]
[null,null,null,null,null,null,null,null,null,null,null,null,null,null,0,0,0,0,null,null,null,0,"مدفوع"]
[null,null,null,null,null,null,null,null,null,null,null,null,null,null,0,0,0,0,null,null,null,0,"مدفوع"]
[null,null,null,null,null,null,null,null,null,null,null,null,null,null,0,0,0,0,null,null,null,0,"مدفوع"]
[null,null,null,null,null,null,null,null,null,null,null,null,null,null,0,0,0,0,null,null,null,0,"مدفوع"]
[null,null,null,null,null,null,null,null,null,null,null,null,null,null,0,0,0,0,null,null,null,0,"مدفوع"]
[null,null,null,null,null,null,null,null,null,null,null,null,null,null,0,0,0,0,null,null,null,0,"مدفوع"]
[null,null,null,null,null,null,null,null,null,null,null,null,null,null,0,0,0,0,null,null,null,0,"مدفوع"]
[null,null,null,null,null,null,null,null,null,null,null,null,null,null,0,0,0,0,null,null,null,0,"مدفوع"]
[null,null,null,null,null,null,null,null,null,null,null,null,null,null,0,0,0,0,null,null,null,0,"مدفوع"]
[null,null,null,null,null,null,null,null,null,null,null,null,null,null,0,0,0,0,null,null,null,0,"مدفوع"]
[null,null,null,null,null,null,null,null,null,null,null,null,null,null,0,0,0,0,null,null,null,0,"مدفوع"]
[null,null,null,null,null,null,null,null,null,null,null,null,null,null,0,0,0,0,null,null,null,0,"مدفوع"]
[null,null,null,null,null,null,null,null,null,null,null,null,null,null,0,0,0,0,null,null,null,0,"مدفوع"]
[null,null,null,null,null,null,null,null,null,null,null,null,null,null,0,0,0,0,null,null,null,0,"مدفوع"]
[null,null,null,null,null,null,null,null,null,null,null,null,null,null,0,0,0,0,null,null,null,0,"مدفوع"]
[null,null,null,null,null,null,null,null,null,null,null,null,null,null,0,0,0,0,null,null,null,0,"مدفوع"]
[null,null,null,null,null,null,null,null,null,null,null,null,null,null,0,0,0,0,null,null,null,0,"مدفوع"]
[null,null,null,null,null,null,null,null,null,null,null,null,null,null,0,0,0,0,null,null,null,0,"مدفوع"]
[null,null,null,null,null,null,null,null,null,null,null,null,null,null,0,0,0,0,null,null,null,0,"مدفوع"]
[null,null,null,null,null,null,null,null,null,null,null,null,null,null,{"$f":"SUM(M3043-N3043)","v":0},0,{"$f":"SUM(K3043*150000/2.5)","v":0},{"$f":"SUM(O3043*4000)","v":0},null,null,null,{"$f":"SUM(P3043:S3043)-T3043","v":0},{"$f":"IF(V3043<=0,\"مدفوع\",\"غير مدفوع\")","v":"مدفوع"}]
[null,null,null,null,null,null,null,null,null,null,null,null,null,null,0,0,0,0,null,null,null,0,"مدفوع"]
[null,null,null,null,null,null,null,null,null,null,null,null,null,null,0,{"$f":"IF(L3045=0,0,IF(L3045<=5.5,150000,IF(L3045<=10.5,230000,IF(L3045<=15.5,300000,IF(L3045<=20.5,350000,IF(L3045<=25.5,400000,IF(L3045<=30.5,450000,IF(L3045<=35.5,500000,IF(L3045<=40.5,550000,IF(L3045<=45.5,600000,IF(L3045<=50.5,650000,IF(L3045<=55.5,700000,IF(L3045<=60.5,750000)))))))))))))","v":0},0,0,null,null,null,0,"مدفوع"]
[null,null,null,null,null,null,null,null,null,null,null,null,null,null,0,0,0,0,null,null,null,0,"مدفوع"]
[null,null,null,null,null,null,null,null,null,null,null,null,null,null,0,0,0,0,null,null,null,0,"مدفوع"]
[null,null,null,null,null,null,null,null,null,null,null,null,null,null,0,0,0,0,null,null,null,0,"مدفوع"]
[null,null,null,null,null,null,null,null,null,null,null,null,null,null,0,0,0,0,null,null,null,0,"مدفوع"]
[null,null,null,null,null,null,null,null,null,null,null,null,null,null,0,0,0,0,null,null,null,0,"مدفوع"]
[null,null,null,null,null,null,null,null,null,null,null,null,null,null,0,0,0,0,null,null,null,0,"مدفوع"]
[null,null,null,null,null,null,null,null,null,null,null,null,null,null,0,0,0,0,null,null,null,0,"مدفوع"]
[null,null,null,null,null,null,null,null,null,null,null,null,null,null,0,0,0,0,null,null,null,0,"مدفوع"]
[null,null,null,null,null,null,null,null,null,null,null,null,null,null,0,0,0,0,null,null,null,0,"مدفوع"]
[null,null,null,null,null,null,null,null,null,null,null,null,null,null,0,0,0,0,null,null,null,0,"مدفوع"]
[null,null,null,null,null,null,null,null,null,null,null,null,null,null,0,0,0,0,null,null,null,0,"مدفوع"]
[null,null,null,null,null,null,null,null,null,null,null,null,null,null,0,0,0,0,null,null,null,0,"مدفوع"]
[null,null,null,null,null,null,null,null,null,null,null,null,null,null,0,0,0,0,null,null,null,0,"مدفوع"]
[null,null,null,null,null,null,null,null,null,null,null,null,null,null,0,0,0,0,null,null,null,0,"مدفوع"]
[null,null,null,null,null,null,null,null,null,null,null,null,null,null,0,0,0,0,null,null,null,0,"مدفوع"]
[null,null,null,null,null,null,null,null,null,null,null,null,null,null,0,0,0,0,null,null,null,0,"مدفوع"]
[null,null,null,null,null,null,null,null,null,null,null,null,null,null,0,0,0,0,null,null,null,0,"مدفوع"]
[null,null,null,null,null,null,null,null,null,null,null,null,null,null,0,0,0,0,null,null,null,0,"مدفوع"]
[null,null,null,null,null,null,null,null,null,null,null,null,null,null,0,0,0,0,null,null,null,0,"مدفوع"]
[null,null,null,null,null,null,null,null,null,null,null,null,null,null,0,0,0,0,null,null,null,0,"مدفوع"]
[null,null,null,null,null,null,null,null,null,null,null,null,null,null,0,0,0,0,null,null,null,0,"مدفوع"]
[null,null,null,null,null,null,null,null,null,null,null,null,null,null,0,0,0,0,null,null,null,0,"مدفوع"]
[null,null,null,null,null,null,null,null,null,null,null,null,null,null,0,0,0,0,null,null,null,0,"مدفوع"]
[null,null,null,null,null,null,null,null,null,null,null,null,null,null,0,0,0,0,null,null,null,0,"مدفوع"]
[null,null,null,null,null,null,null,null,null,null,null,null,null,null,0,0,0,0,null,null,null,0,"مدفوع"]
[null,null,null,null,null,null,null,null,null,null,null,null,null,null,0,0,0,0,null,null,null,0,"مدفوع"]
[null,null,null,null,null,null,null,null,null,null,null,null,null,null,0,0,0,0,null,null,null,0,"مدفوع"]
[null,null,null,null,null,null,null,null,null,null,null,null,null,null,0,0,0,0,null,null,null,0,"مدفوع"]
[null,null,null,null,null,null,null,null,null,null,null,null,null,null,0,0,0,0,null,null,null,0,"مدفوع"]
[null,null,null,null,null,null,null,null,null,null,null,null,null,null,0,0,0,0,null,null,null,0,"مدفوع"]
[null,null,null,null,null,null,null,null,null,null,null,null,null,null,0,0,0,0,null,null,null,0,"مدفوع"]
[null,null,null,null,null,null,null,null,null,null,null,null,null,null,0,0,0,0,null,null,null,0,"مدفوع"]
[null,null,null,null,null,null,null,null,null,null,null,null,null,null,0,0,0,0,null,null,null,0,"مدفوع"]
[null,null,null,null,null,null,null,null,null,null,null,null,null,null,0,0,0,0,null,null,null,0,"مدفوع"]
[null,null,null,null,null,null,null,null,null,null,null,null,null,null,0,0,0,0,null,null,null,0,"مدفوع"]
[null,null,null,null,null,null,null,null,null,null,null,null,null,null,0,0,0,0,null,null,null,0,"مدفوع"]
[null,null,null,null,null,null,null,null,null,null,null,null,null,null,0,0,0,0,null,null,null,0,"مدفوع"]
[null,null,null,null,null,null,null,null,null,null,null,null,null,null,0,0,0,0,null,null,null,0,"مدفوع"]
[null,null,null,null,null,null,null,null,null,null,null,null,null,null,0,0,0,0,null,null,null,0,"مدفوع"]
[null,null,null,null,null,null,null,null,null,null,null,null,null,null,0,0,0,0,null,null,null,0,"مدفوع"]
[null,null,null,null,null,null,null,null,null,null,null,null,null,null,0,0,0,0,null,null,null,0,"مدفوع"]
[null,null,null,null,null,null,null,null,null,null,null,null,null,null,0,0,0,0,null,null,null,0,"مدفوع"]
[null,null,null,null,null,null,null,null,null,null,null,null,null,null,0,0,0,0,null,null,null,0,"مدفوع"]
[null,null,null,null,null,null,null,null,null,null,null,null,null,null,0,0,0,0,null,null,null,0,"مدفوع"]
[null,null,null,null,null,null,null,null,null,null,null,null,null,null,0,0,0,0,null,null,null,0,"مدفوع"]
[null,null,null,null,null,null,null,null,null,null,null,null,null,null,0,0,0,0,null,null,null,0,"مدفوع"]
[null,null,null,null,null,null,null,null,null,null,null,null,null,null,0,0,0,0,null,null,null,0,"مدفوع"]
[null,null,null,null,null,null,null,null,null,null,null,null,null,null,0,0,0,0,null,null,null,0,"مدفوع"]
[null,null,null,null,null,null,null,null,null,null,null,null,null,null,0,0,0,0,null,null,null,0,"مدفوع"]
[null,null,null,null,null,null,null,null,null,null,null,null,null,null,0,0,0,0,null,null,null,0,"مدفوع"]
[null,null,null,null,null,null,null,null,null,null,null,null,null,null,0,0,0,0,null,null,null,0,"مدفوع"]
[null,null,null,null,null,null,null,null,null,null,null,null,null,null,0,0,0,0,null,null,null,0,"مدفوع"]
[null,null,null,null,null,null,null,null,null,null,null,null,null,null,0,0,0,0,null,null,null,0,"مدفوع"]
[null,null,null,null,null,null,null,null,null,null,null,null,null,null,0,0,0,0,null,null,null,0,"مدفوع"]
[null,null,null,null,null,null,null,null,null,null,null,null,null,null,0,0,0,0,null,null,null,0,"مدفوع"]
[null,null,null,null,null,null,null,null,null,null,null,null,null,null,0,0,0,0,null,null,null,0,"مدفوع"]
[null,null,null,null,null,null,null,null,null,null,null,null,null,null,0,0,0,0,null,null,null,0,"مدفوع"]
[null,null,null,null,null,null,null,null,null,null,null,null,null,null,0,0,0,0,null,null,null,0,"مدفوع"]
[null,null,null,null,null,null,null,null,null,null,null,null,null,null,0,0,0,0,null,null,null,0,"مدفوع"]
[null,null,null,null,null,null,null,null,null,null,null,null,null,null,0,0,0,0,null,null,null,0,"مدفوع"]
[null,null,null,null,null,null,null,null,null,null,null,null,null,null,0,0,0,0,null,null,null,0,"مدفوع"]
[null,null,null,null,null,null,null,null,null,null,null,null,null,null,{"$f":"SUM(M3107-N3107)","v":0},0,{"$f":"SUM(K3107*150000/2.5)","v":0},{"$f":"SUM(O3107*4000)","v":0},null,null,null,{"$f":"SUM(P3107:S3107)-T3107","v":0},{"$f":"IF(V3107<=0,\"مدفوع\",\"غير مدفوع\")","v":"مدفوع"}]
[null,null,null,null,null,null,null,null,null,null,null,null,null,null,0,0,0,0,null,null,null,0,"مدفوع"]
[null,null,null,null,null,null,null,null,null,null,null,null,null,null,0,{"$f":"IF(L3109=0,0,IF(L3109<=5.5,150000,IF(L3109<=10.5,230000,IF(L3109<=15.5,300000,IF(L3109<=20.5,350000,IF(L3109<=25.5,400000,IF(L3109<=30.5,450000,IF(L3109<=35.5,500000,IF(L3109<=40.5,550000,IF(L3109<=45.5,600000,IF(L3109<=50.5,650000,IF(L3109<=55.5,700000,IF(L3109<=60.5,750000)))))))))))))","v":0},0,0,null,null,null,0,"مدفوع"]
[null,null,null,null,null,null,null,null,null,null,null,null,null,null,0,0,0,0,null,null,null,0,"مدفوع"]
[null,null,null,null,null,null,null,null,null,null,null,null,null,null,0,0,0,0,null,null,null,0,"مدفوع"]
[null,null,null,null,null,null,null,null,null,null,null,null,null,null,0,0,0,0,null,null,null,0,"مدفوع"]
[null,null,null,null,null,null,null,null,null,null,null,null,null,null,0,0,0,0,null,null,null,0,"مدفوع"]
[null,null,null,null,null,null,null,null,null,null,null,null,null,null,0,0,0,0,null,null,null,0,"مدفوع"]
[null,null,null,null,null,null,null,null,null,null,null,null,null,null,0,0,0,0,null,null,null,0,"مدفوع"]
[null,null,null,null,null,null,null,null,null,null,null,null,null,null,0,0,0,0,null,null,null,0,"مدفوع"]
[null,null,null,null,null,null,null,null,null,null,null,null,null,null,0,0,0,0,null,null,null,0,"مدفوع"]
[null,null,null,null,null,null,null,null,null,null,null,null,null,null,0,0,0,0,null,null,null,0,"مدفوع"]
[null,null,null,null,null,null,null,null,null,null,null,null,null,null,0,0,0,0,null,null,null,0,"مدفوع"]
[null,null,null,null,null,null,null,null,null,null,null,null,null,null,0,0,0,0,null,null,null,0,"مدفوع"]
[null,null,null,null,null,null,null,null,null,null,null,null,null,null,0,0,0,0,null,null,null,0,"مدفوع"]
[null,null,null,null,null,null,null,null,null,null,null,null,null,null,0,0,0,0,null,null,null,0,"مدفوع"]
[null,null,null,null,null,null,null,null,null,null,null,null,null,null,0,0,0,0,null,null,null,0,"مدفوع"]
[null,null,null,null,null,null,null,null,null,null,null,null,null,null,0,0,0,0,null,null,null,0,"مدفوع"]
[null,null,null,null,null,null,null,null,null,null,null,null,null,null,0,0,0,0,null,null,null,0,"مدفوع"]
[null,null,null,null,null,null,null,null,null,null,null,null,null,null,0,0,0,0,null,null,null,0,"مدفوع"]
[null,null,null,null,null,null,null,null,null,null,null,null,null,null,0,0,0,0,null,null,null,0,"مدفوع"]
[null,null,null,null,null,null,null,null,null,null,null,null,null,null,0,0,0,0,null,null,null,0,"مدفوع"]
[null,null,null,null,null,null,null,null,null,null,null,null,null,null,0,0,0,0,null,null,null,0,"مدفوع"]
[null,null,null,null,null,null,null,null,null,null,null,null,null,null,0,0,0,0,null,null,null,0,"مدفوع"]
[null,null,null,null,null,null,null,null,null,null,null,null,null,null,0,0,0,0,null,null,null,0,"مدفوع"]
[null,null,null,null,null,null,null,null,null,null,null,null,null,null,0,0,0,0,null,null,null,0,"مدفوع"]
[null,null,null,null,null,null,null,null,null,null,null,null,null,null,0,0,0,0,null,null,null,0,"مدفوع"]
[null,null,null,null,null,null,null,null,null,null,null,null,null,null,0,0,0,0,null,null,null,0,"مدفوع"]
[null,null,null,null,null,null,null,null,null,null,null,null,null,null,0,0,0,0,null,null,null,0,"مدفوع"]
[null,null,null,null,null,null,null,null,null,null,null,null,null,null,0,0,0,0,null,null,null,0,"مدفوع"]
[null,null,null,null,null,null,null,null,null,null,null,null,null,null,0,0,0,0,null,null,null,0,"مدفوع"]
[null,null,null,null,null,null,null,null,null,null,null,null,null,null,0,0,0,0,null,null,null,0,"مدفوع"]
[null,null,null,null,null,null,null,null,null,null,null,null,null,null,0,0,0,0,null,null,null,0,"مدفوع"]
[null,null,null,null,null,null,null,null,null,null,null,null,null,null,0,0,0,0,null,null,null,0,"مدفوع"]
[null,null,null,null,null,null,null,null,null,null,null,null,null,null,0,0,0,0,null,null,null,0,"مدفوع"]
[null,null,null,null,null,null,null,null,null,null,null,null,null,null,0,0,0,0,null,null,null,0,"مدفوع"]
[null,null,null,null,null,null,null,null,null,null,null,null,null,null,0,0,0,0,null,null,null,0,"مدفوع"]
[null,null,null,null,null,null,null,null,null,null,null,null,null,null,0,0,0,0,null,null,null,0,"مدفوع"]
[null,null,null,null,null,null,null,null,null,null,null,null,null,null,0,0,0,0,null,null,null,0,"مدفوع"]
[null,null,null,null,null,null,null,null,null,null,null,null,null,null,0,0,0,0,null,null,null,0,"مدفوع"]
[null,null,null,null,null,null,null,null,null,null,null,null,null,null,0,0,0,0,null,null,null,0,"مدفوع"]
[null,null,null,null,null,null,null,null,null,null,null,null,null,null,0,0,0,0,null,null,null,0,"مدفوع"]
[null,null,null,null,null,null,null,null,null,null,null,null,null,null,0,0,0,0,null,null,null,0,"مدفوع"]
[null,null,null,null,null,null,null,null,null,null,null,null,null,null,0,0,0,0,null,null,null,0,"مدفوع"]
[null,null,null,null,null,null,null,null,null,null,null,null,null,null,0,0,0,0,null,null,null,0,"مدفوع"]
[null,null,null,null,null,null,null,null,null,null,null,null,null,null,0,0,0,0,null,null,null,0,"مدفوع"]
[null,null,null,null,null,null,null,null,null,null,null,null,null,null,0,0,0,0,null,null,null,0,"مدفوع"]
[null,null,null,null,null,null,null,null,null,null,null,null,null,null,0,0,0,0,null,null,null,0,"مدفوع"]
[null,null,null,null,null,null,null,null,null,null,null,null,null,null,0,0,0,0,null,null,null,0,"مدفوع"]
[null,null,null,null,null,null,null,null,null,null,null,null,null,null,0,0,0,0,null,null,null,0,"مدفوع"]
[null,null,null,null,null,null,null,null,null,null,null,null,null,null,0,0,0,0,null,null,null,0,"مدفوع"]
[null,null,null,null,null,null,null,null,null,null,null,null,null,null,0,0,0,0,null,null,null,0,"مدفوع"]
[null,null,null,null,null,null,null,null,null,null,null,null,null,null,0,0,0,0,null,null,null,0,"مدفوع"]
[null,null,null,null,null,null,null,null,null,null,null,null,null,null,0,0,0,0,null,null,null,0,"مدفوع"]
[null,null,null,null,null,null,null,null,null,null,null,null,null,null,0,0,0,0,null,null,null,0,"مدفوع"]
[null,null,null,null,null,null,null,null,null,null,null,null,null,null,0,0,0,0,null,null,null,0,"مدفوع"]
[null,null,null,null,null,null,null,null,null,null,null,null,null,null,0,0,0,0,null,null,null,0,"مدفوع"]
[null,null,null,null,null,null,null,null,null,null,null,null,null,null,0,0,0,0,null,null,null,0,"مدفوع"]
[null,null,null,null,null,null,null,null,null,null,null,null,null,null,0,0,0,0,null,null,null,0,"مدفوع"]
[null,null,null,null,null,null,null,null,null,null,null,null,null,null,0,0,0,0,null,null,null,0,"مدفوع"]
[null,null,null,null,null,null,null,null,null,null,null,null,null,null,0,0,0,0,null,null,null,0,"مدفوع"]
[null,null,null,null,null,null,null,null,null,null,null,null,null,null,0,0,0,0,null,null,null,0,"مدفوع"]
[null,null,null,null,null,null,null,null,null,null,null,null,null,null,0,0,0,0,null,null,null,0,"مدفوع"]
[null,null,null,null,null,null,null,null,null,null,null,null,null,null,0,0,0,0,null,null,null,0,"مدفوع"]
[null,null,null,null,null,null,null,null,null,null,null,null,null,null,{"$f":"SUM(M3171-N3171)","v":0},0,{"$f":"SUM(K3171*150000/2.5)","v":0},{"$f":"SUM(O3171*4000)","v":0},null,null,null,{"$f":"SUM(P3171:S3171)-T3171","v":0},{"$f":"IF(V3171<=0,\"مدفوع\",\"غير مدفوع\")","v":"مدفوع"}]
[null,null,null,null,null,null,null,null,null,null,null,null,null,null,0,0,0,0,null,null,null,0,"مدفوع"]
[null,null,null,null,null,null,null,null,null,null,null,null,null,null,0,{"$f":"IF(L3173=0,0,IF(L3173<=5.5,150000,IF(L3173<=10.5,230000,IF(L3173<=15.5,300000,IF(L3173<=20.5,350000,IF(L3173<=25.5,400000,IF(L3173<=30.5,450000,IF(L3173<=35.5,500000,IF(L3173<=40.5,550000,IF(L3173<=45.5,600000,IF(L3173<=50.5,650000,IF(L3173<=55.5,700000,IF(L3173<=60.5,750000)))))))))))))","v":0},0,0,null,null,null,0,"مدفوع"]
[null,null,null,null,null,null,null,null,null,null,null,null,null,null,0,0,0,0,null,null,null,0,"مدفوع"]
[null,null,null,null,null,null,null,null,null,null,null,null,null,null,0,0,0,0,null,null,null,0,"مدفوع"]
[null,null,null,null,null,null,null,null,null,null,null,null,null,null,0,0,0,0,null,null,null,0,"مدفوع"]
[null,null,null,null,null,null,null,null,null,null,null,null,null,null,0,0,0,0,null,null,null,0,"مدفوع"]
[null,null,null,null,null,null,null,null,null,null,null,null,null,null,0,0,0,0,null,null,null,0,"مدفوع"]
[null,null,null,null,null,null,null,null,null,null,null,null,null,null,0,0,0,0,null,null,null,0,"مدفوع"]
[null,null,null,null,null,null,null,null,null,null,null,null,null,null,0,0,0,0,null,null,null,0,"مدفوع"]
[null,null,null,null,null,null,null,null,null,null,null,null,null,null,0,0,0,0,null,null,null,0,"مدفوع"]
[null,null,null,null,null,null,null,null,null,null,null,null,null,null,0,0,0,0,null,null,null,0,"مدفوع"]
[null,null,null,null,null,null,null,null,null,null,null,null,null,null,0,0,0,0,null,null,null,0,"مدفوع"]
[null,null,null,null,null,null,null,null,null,null,null,null,null,null,0,0,0,0,null,null,null,0,"مدفوع"]
[null,null,null,null,null,null,null,null,null,null,null,null,null,null,0,0,0,0,null,null,null,0,"مدفوع"]
[null,null,null,null,null,null,null,null,null,null,null,null,null,null,0,0,0,0,null,null,null,0,"مدفوع"]
[null,null,null,null,null,null,null,null,null,null,null,null,null,null,0,0,0,0,null,null,null,0,"مدفوع"]
[null,null,null,null,null,null,null,null,null,null,null,null,null,null,0,0,0,0,null,null,null,0,"مدفوع"]
[null,null,null,null,null,null,null,null,null,null,null,null,null,null,0,0,0,0,null,null,null,0,"مدفوع"]
[null,null,null,null,null,null,null,null,null,null,null,null,null,null,0,0,0,0,null,null,null,0,"مدفوع"]
[null,null,null,null,null,null,null,null,null,null,null,null,null,null,0,0,0,0,null,null,null,0,"مدفوع"]
[null,null,null,null,null,null,null,null,null,null,null,null,null,null,0,0,0,0,null,null,null,0,"مدفوع"]
[null,null,null,null,null,null,null,null,null,null,null,null,null,null,0,0,0,0,null,null,null,0,"مدفوع"]
[null,null,null,null,null,null,null,null,null,null,null,null,null,null,0,0,0,0,null,null,null,0,"مدفوع"]
[null,null,null,null,null,null,null,null,null,null,null,null,null,null,0,0,0,0,null,null,null,0,"مدفوع"]
[null,null,null,null,null,null,null,null,null,null,null,null,null,null,0,0,0,0,null,null,null,0,"مدفوع"]
[null,null,null,null,null,null,null,null,null,null,null,null,null,null,0,0,0,0,null,null,null,0,"مدفوع"]
[null,null,null,null,null,null,null,null,null,null,null,null,null,null,0,0,0,0,null,null,null,0,"مدفوع"]
[null,null,null,null,null,null,null,null,null,null,null,null,null,null,0,0,0,0,null,null,null,0,"مدفوع"]
[null,null,null,null,null,null,null,null,null,null,null,null,null,null,0,0,0,0,null,null,null,0,"مدفوع"]
[null,null,null,null,null,null,null,null,null,null,null,null,null,null,0,0,0,0,null,null,null,0,"مدفوع"]
[null,null,null,null,null,null,null,null,null,null,null,null,null,null,0,0,0,0,null,null,null,0,"مدفوع"]
[null,null,null,null,null,null,null,null,null,null,null,null,null,null,0,0,0,0,null,null,null,0,"مدفوع"]
[null,null,null,null,null,null,null,null,null,null,null,null,null,null,0,0,0,0,null,null,null,0,"مدفوع"]
[null,null,null,null,null,null,null,null,null,null,null,null,null,null,0,0,0,0,null,null,null,0,"مدفوع"]
[null,null,null,null,null,null,null,null,null,null,null,null,null,null,0,0,0,0,null,null,null,0,"مدفوع"]
[null,null,null,null,null,null,null,null,null,null,null,null,null,null,0,0,0,0,null,null,null,0,"مدفوع"]
[null,null,null,null,null,null,null,null,null,null,null,null,null,null,0,0,0,0,null,null,null,0,"مدفوع"]
[null,null,null,null,null,null,null,null,null,null,null,null,null,null,0,0,0,0,null,null,null,0,"مدفوع"]
[null,null,null,null,null,null,null,null,null,null,null,null,null,null,0,0,0,0,null,null,null,0,"مدفوع"]
[null,null,null,null,null,null,null,null,null,null,null,null,null,null,0,0,0,0,null,null,null,0,"مدفوع"]
[null,null,null,null,null,null,null,null,null,null,null,null,null,null,0,0,0,0,null,null,null,0,"مدفوع"]
[null,null,null,null,null,null,null,null,null,null,null,null,null,null,0,0,0,0,null,null,null,0,"مدفوع"]
[null,null,null,null,null,null,null,null,null,null,null,null,null,null,0,0,0,0,null,null,null,0,"مدفوع"]
[null,null,null,null,null,null,null,null,null,null,null,null,null,null,0,0,0,0,null,null,null,0,"مدفوع"]
[null,null,null,null,null,null,null,null,null,null,null,null,null,null,0,0,0,0,null,null,null,0,"مدفوع"]
[null,null,null,null,null,null,null,null,null,null,null,null,null,null,0,0,0,0,null,null,null,0,"مدفوع"]
[null,null,null,null,null,null,null,null,null,null,null,null,null,null,0,0,0,0,null,null,null,0,"مدفوع"]
[null,null,null,null,null,null,null,null,null,null,null,null,null,null,0,0,0,0,null,null,null,0,"مدفوع"]
[null,null,null,null,null,null,null,null,null,null,null,null,null,null,0,0,0,0,null,null,null,0,"مدفوع"]
[null,null,null,null,null,null,null,null,null,null,null,null,null,null,0,0,0,0,null,null,null,0,"مدفوع"]
[null,null,null,null,null,null,null,null,null,null,null,null,null,null,0,0,0,0,null,null,null,0,"مدفوع"]
[null,null,null,null,null,null,null,null,null,null,null,null,null,null,0,0,0,0,null,null,null,0,"مدفوع"]
[null,null,null,null,null,null,null,null,null,null,null,null,null,null,0,0,0,0,null,null,null,0,"مدفوع"]
[null,null,null,null,null,null,null,null,null,null,null,null,null,null,0,0,0,0,null,null,null,0,"مدفوع"]
[null,null,null,null,null,null,null,null,null,null,null,null,null,null,0,0,0,0,null,null,null,0,"مدفوع"]
[null,null,null,null,null,null,null,null,null,null,null,null,null,null,0,0,0,0,null,null,null,0,"مدفوع"]
[null,null,null,null,null,null,null,null,null,null,null,null,null,null,0,0,0,0,null,null,null,0,"مدفوع"]
[null,null,null,null,null,null,null,null,null,null,null,null,null,null,0,0,0,0,null,null,null,0,"مدفوع"]
[null,null,null,null,null,null,null,null,null,null,null,null,null,null,0,0,0,0,null,null,null,0,"مدفوع"]
[null,null,null,null,null,null,null,null,null,null,null,null,null,null,0,0,0,0,null,null,null,0,"مدفوع"]
[null,null,null,null,null,null,null,null,null,null,null,null,null,null,0,0,0,0,null,null,null,0,"مدفوع"]
[null,null,null,null,null,null,null,null,null,null,null,null,null,null,0,0,0,0,null,null,null,0,"مدفوع"]
[null,null,null,null,null,null,null,null,null,null,null,null,null,null,0,0,0,0,null,null,null,0,"مدفوع"]
[null,null,null,null,null,null,null,null,null,null,null,null,null,null,{"$f":"SUM(M3235-N3235)","v":0},0,{"$f":"SUM(K3235*150000/2.5)","v":0},{"$f":"SUM(O3235*4000)","v":0},null,null,null,{"$f":"SUM(P3235:S3235)-T3235","v":0},{"$f":"IF(V3235<=0,\"مدفوع\",\"غير مدفوع\")","v":"مدفوع"}]
[null,null,null,null,null,null,null,null,null,null,null,null,null,null,0,0,0,0,null,null,null,0,"مدفوع"]
[null,null,null,null,null,null,null,null,null,null,null,null,null,null,0,{"$f":"IF(L3237=0,0,IF(L3237<=5.5,150000,IF(L3237<=10.5,230000,IF(L3237<=15.5,300000,IF(L3237<=20.5,350000,IF(L3237<=25.5,400000,IF(L3237<=30.5,450000,IF(L3237<=35.5,500000,IF(L3237<=40.5,550000,IF(L3237<=45.5,600000,IF(L3237<=50.5,650000,IF(L3237<=55.5,700000,IF(L3237<=60.5,750000)))))))))))))","v":0},0,0,null,null,null,0,"مدفوع"]
[null,null,null,null,null,null,null,null,null,null,null,null,null,null,0,0,0,0,null,null,null,0,"مدفوع"]
[null,null,null,null,null,null,null,null,null,null,null,null,null,null,0,0,0,0,null,null,null,0,"مدفوع"]
[null,null,null,null,null,null,null,null,null,null,null,null,null,null,0,0,0,0,null,null,null,0,"مدفوع"]
[null,null,null,null,null,null,null,null,null,null,null,null,null,null,0,0,0,0,null,null,null,0,"مدفوع"]
[null,null,null,null,null,null,null,null,null,null,null,null,null,null,0,0,0,0,null,null,null,0,"مدفوع"]
[null,null,null,null,null,null,null,null,null,null,null,null,null,null,0,0,0,0,null,null,null,0,"مدفوع"]
[null,null,null,null,null,null,null,null,null,null,null,null,null,null,0,0,0,0,null,null,null,0,"مدفوع"]
[null,null,null,null,null,null,null,null,null,null,null,null,null,null,0,0,0,0,null,null,null,0,"مدفوع"]
[null,null,null,null,null,null,null,null,null,null,null,null,null,null,0,0,0,0,null,null,null,0,"مدفوع"]
[null,null,null,null,null,null,null,null,null,null,null,null,null,null,0,0,0,0,null,null,null,0,"مدفوع"]
[null,null,null,null,null,null,null,null,null,null,null,null,null,null,0,0,0,0,null,null,null,0,"مدفوع"]
[null,null,null,null,null,null,null,null,null,null,null,null,null,null,0,0,0,0,null,null,null,0,"مدفوع"]
[null,null,null,null,null,null,null,null,null,null,null,null,null,null,0,0,0,0,null,null,null,0,"مدفوع"]
[null,null,null,null,null,null,null,null,null,null,null,null,null,null,0,0,0,0,null,null,null,0,"مدفوع"]
[null,null,null,null,null,null,null,null,null,null,null,null,null,null,0,0,0,0,null,null,null,0,"مدفوع"]
[null,null,null,null,null,null,null,null,null,null,null,null,null,null,0,0,0,0,null,null,null,0,"مدفوع"]
[null,null,null,null,null,null,null,null,null,null,null,null,null,null,0,0,0,0,null,null,null,0,"مدفوع"]
[null,null,null,null,null,null,null,null,null,null,null,null,null,null,0,0,0,0,null,null,null,0,"مدفوع"]
[null,null,null,null,null,null,null,null,null,null,null,null,null,null,0,0,0,0,null,null,null,0,"مدفوع"]
[null,null,null,null,null,null,null,null,null,null,null,null,null,null,0,0,0,0,null,null,null,0,"مدفوع"]
[null,null,null,null,null,null,null,null,null,null,null,null,null,null,0,0,0,0,null,null,null,0,"مدفوع"]
[null,null,null,null,null,null,null,null,null,null,null,null,null,null,0,0,0,0,null,null,null,0,"مدفوع"]
[null,null,null,null,null,null,null,null,null,null,null,null,null,null,0,0,0,0,null,null,null,0,"مدفوع"]
[null,null,null,null,null,null,null,null,null,null,null,null,null,null,0,0,0,0,null,null,null,0,"مدفوع"]
[null,null,null,null,null,null,null,null,null,null,null,null,null,null,0,0,0,0,null,null,null,0,"مدفوع"]
[null,null,null,null,null,null,null,null,null,null,null,null,null,null,0,0,0,0,null,null,null,0,"مدفوع"]
[null,null,null,null,null,null,null,null,null,null,null,null,null,null,0,0,0,0,null,null,null,0,"مدفوع"]
[null,null,null,null,null,null,null,null,null,null,null,null,null,null,0,0,0,0,null,null,null,0,"مدفوع"]
[null,null,null,null,null,null,null,null,null,null,null,null,null,null,0,0,0,0,null,null,null,0,"مدفوع"]
[null,null,null,null,null,null,null,null,null,null,null,null,null,null,0,0,0,0,null,null,null,0,"مدفوع"]
[null,null,null,null,null,null,null,null,null,null,null,null,null,null,0,0,0,0,null,null,null,0,"مدفوع"]
[null,null,null,null,null,null,null,null,null,null,null,null,null,null,0,0,0,0,null,null,null,0,"مدفوع"]
[null,null,null,null,null,null,null,null,null,null,null,null,null,null,0,0,0,0,null,null,null,0,"مدفوع"]
[null,null,null,null,null,null,null,null,null,null,null,null,null,null,0,0,0,0,null,null,null,0,"مدفوع"]
[null,null,null,null,null,null,null,null,null,null,null,null,null,null,0,0,0,0,null,null,null,0,"مدفوع"]
[null,null,null,null,null,null,null,null,null,null,null,null,null,null,0,0,0,0,null,null,null,0,"مدفوع"]
[null,null,null,null,null,null,null,null,null,null,null,null,null,null,0,0,0,0,null,null,null,0,"مدفوع"]
[null,null,null,null,null,null,null,null,null,null,null,null,null,null,0,0,0,0,null,null,null,0,"مدفوع"]
[null,null,null,null,null,null,null,null,null,null,null,null,null,null,0,0,0,0,null,null,null,0,"مدفوع"]
[null,null,null,null,null,null,null,null,null,null,null,null,null,null,0,0,0,0,null,null,null,0,"مدفوع"]
[null,null,null,null,null,null,null,null,null,null,null,null,null,null,0,0,0,0,null,null,null,0,"مدفوع"]
[null,null,null,null,null,null,null,null,null,null,null,null,null,null,0,0,0,0,null,null,null,0,"مدفوع"]
[null,null,null,null,null,null,null,null,null,null,null,null,null,null,0,0,0,0,null,null,null,0,"مدفوع"]
[null,null,null,null,null,null,null,null,null,null,null,null,null,null,0,0,0,0,null,null,null,0,"مدفوع"]
[null,null,null,null,null,null,null,null,null,null,null,null,null,null,0,0,0,0,null,null,null,0,"مدفوع"]
[null,null,null,null,null,null,null,null,null,null,null,null,null,null,0,0,0,0,null,null,null,0,"مدفوع"]
[null,null,null,null,null,null,null,null,null,null,null,null,null,null,0,0,0,0,null,null,null,0,"مدفوع"]
[null,null,null,null,null,null,null,null,null,null,null,null,null,null,0,0,0,0,null,null,null,0,"مدفوع"]
[null,null,null,null,null,null,null,null,null,null,null,null,null,null,0,0,0,0,null,null,null,0,"مدفوع"]
[null,null,null,null,null,null,null,null,null,null,null,null,null,null,0,0,0,0,null,null,null,0,"مدفوع"]
[null,null,null,null,null,null,null,null,null,null,null,null,null,null,0,0,0,0,null,null,null,0,"مدفوع"]
[null,null,null,null,null,null,null,null,null,null,null,null,null,null,0,0,0,0,null,null,null,0,"مدفوع"]
[null,null,null,null,null,null,null,null,null,null,null,null,null,null,0,0,0,0,null,null,null,0,"مدفوع"]
[null,null,null,null,null,null,null,null,null,null,null,null,null,null,0,0,0,0,null,null,null,0,"مدفوع"]
[null,null,null,null,null,null,null,null,null,null,null,null,null,null,0,0,0,0,null,null,null,0,"مدفوع"]
[null,null,null,null,null,null,null,null,null,null,null,null,null,null,0,0,0,0,null,null,null,0,"مدفوع"]
[null,null,null,null,null,null,null,null,null,null,null,null,null,null,0,0,0,0,null,null,null,0,"مدفوع"]
[null,null,null,null,null,null,null,null,null,null,null,null,null,null,0,0,0,0,null,null,null,0,"مدفوع"]
[null,null,null,null,null,null,null,null,null,null,null,null,null,null,0,0,0,0,null,null,null,0,"مدفوع"]
[null,null,null,null,null,null,null,null,null,null,null,null,null,null,0,0,0,0,null,null,null,0,"مدفوع"]
[null,null,null,null,null,null,null,null,null,null,null,null,null,null,0,0,0,0,null,null,null,0,"مدفوع"]
[null,null,null,null,null,null,null,null,null,null,null,null,null,null,{"$f":"SUM(M3299-N3299)","v":0},0,{"$f":"SUM(K3299*150000/2.5)","v":0},{"$f":"SUM(O3299*4000)","v":0},null,null,null,{"$f":"SUM(P3299:S3299)-T3299","v":0},{"$f":"IF(V3299<=0,\"مدفوع\",\"غير مدفوع\")","v":"مدفوع"}]
[null,null,null,null,null,null,null,null,null,null,null,null,null,null,0,0,0,0,null,null,null,0,"مدفوع"]
[null,null,null,null,null,null,null,null,null,null,null,null,null,null,0,{"$f":"IF(L3301=0,0,IF(L3301<=5.5,150000,IF(L3301<=10.5,230000,IF(L3301<=15.5,300000,IF(L3301<=20.5,350000,IF(L3301<=25.5,400000,IF(L3301<=30.5,450000,IF(L3301<=35.5,500000,IF(L3301<=40.5,550000,IF(L3301<=45.5,600000,IF(L3301<=50.5,650000,IF(L3301<=55.5,700000,IF(L3301<=60.5,750000)))))))))))))","v":0},0,0,null,null,null,0,"مدفوع"]
[null,null,null,null,null,null,null,null,null,null,null,null,null,null,0,0,0,0,null,null,null,0,"مدفوع"]
[null,null,null,null,null,null,null,null,null,null,null,null,null,null,0,0,0,0,null,null,null,0,"مدفوع"]
[null,null,null,null,null,null,null,null,null,null,null,null,null,null,0,0,0,0,null,null,null,0,"مدفوع"]
[null,null,null,null,null,null,null,null,null,null,null,null,null,null,0,0,0,0,null,null,null,0,"مدفوع"]
[null,null,null,null,null,null,null,null,null,null,null,null,null,null,0,0,0,0,null,null,null,0,"مدفوع"]
[null,null,null,null,null,null,null,null,null,null,null,null,null,null,0,0,0,0,null,null,null,0,"مدفوع"]
[null,null,null,null,null,null,null,null,null,null,null,null,null,null,0,0,0,0,null,null,null,0,"مدفوع"]
[null,null,null,null,null,null,null,null,null,null,null,null,null,null,0,0,0,0,null,null,null,0,"مدفوع"]
[null,null,null,null,null,null,null,null,null,null,null,null,null,null,0,0,0,0,null,null,null,0,"مدفوع"]
[null,null,null,null,null,null,null,null,null,null,null,null,null,null,0,0,0,0,null,null,null,0,"مدفوع"]
[null,null,null,null,null,null,null,null,null,null,null,null,null,null,0,0,0,0,null,null,null,0,"مدفوع"]
[null,null,null,null,null,null,null,null,null,null,null,null,null,null,0,0,0,0,null,null,null,0,"مدفوع"]
[null,null,null,null,null,null,null,null,null,null,null,null,null,null,0,0,0,0,null,null,null,0,"مدفوع"]
[null,null,null,null,null,null,null,null,null,null,null,null,null,null,0,0,0,0,null,null,null,0,"مدفوع"]
[null,null,null,null,null,null,null,null,null,null,null,null,null,null,0,0,0,0,null,null,null,0,"مدفوع"]
[null,null,null,null,null,null,null,null,null,null,null,null,null,null,0,0,0,0,null,null,null,0,"مدفوع"]
[null,null,null,null,null,null,null,null,null,null,null,null,null,null,0,0,0,0,null,null,null,0,"مدفوع"]
[null,null,null,null,null,null,null,null,null,null,null,null,null,null,0,0,0,0,null,null,null,0,"مدفوع"]
[null,null,null,null,null,null,null,null,null,null,null,null,null,null,0,0,0,0,null,null,null,0,"مدفوع"]
[null,null,null,null,null,null,null,null,null,null,null,null,null,null,0,0,0,0,null,null,null,0,"مدفوع"]
[null,null,null,null,null,null,null,null,null,null,null,null,null,null,0,0,0,0,null,null,null,0,"مدفوع"]
[null,null,null,null,null,null,null,null,null,null,null,null,null,null,0,0,0,0,null,null,null,0,"مدفوع"]
[null,null,null,null,null,null,null,null,null,null,null,null,null,null,0,0,0,0,null,null,null,0,"مدفوع"]
[null,null,null,null,null,null,null,null,null,null,null,null,null,null,0,0,0,0,null,null,null,0,"مدفوع"]
[null,null,null,null,null,null,null,null,null,null,null,null,null,null,0,0,0,0,null,null,null,0,"مدفوع"]
[null,null,null,null,null,null,null,null,null,null,null,null,null,null,0,0,0,0,null,null,null,0,"مدفوع"]
[null,null,null,null,null,null,null,null,null,null,null,null,null,null,0,0,0,0,null,null,null,0,"مدفوع"]
[null,null,null,null,null,null,null,null,null,null,null,null,null,null,0,0,0,0,null,null,null,0,"مدفوع"]
[null,null,null,null,null,null,null,null,null,null,null,null,null,null,0,0,0,0,null,null,null,0,"مدفوع"]
[null,null,null,null,null,null,null,null,null,null,null,null,null,null,0,0,0,0,null,null,null,0,"مدفوع"]
[null,null,null,null,null,null,null,null,null,null,null,null,null,null,0,0,0,0,null,null,null,0,"مدفوع"]
[null,null,null,null,null,null,null,null,null,null,null,null,null,null,0,0,0,0,null,null,null,0,"مدفوع"]
[null,null,null,null,null,null,null,null,null,null,null,null,null,null,0,0,0,0,null,null,null,0,"مدفوع"]
[null,null,null,null,null,null,null,null,null,null,null,null,null,null,0,0,0,0,null,null,null,0,"مدفوع"]
[null,null,null,null,null,null,null,null,null,null,null,null,null,null,0,0,0,0,null,null,null,0,"مدفوع"]
[null,null,null,null,null,null,null,null,null,null,null,null,null,null,0,0,0,0,null,null,null,0,"مدفوع"]
[null,null,null,null,null,null,null,null,null,null,null,null,null,null,0,0,0,0,null,null,null,0,"مدفوع"]
[null,null,null,null,null,null,null,null,null,null,null,null,null,null,0,0,0,0,null,null,null,0,"مدفوع"]
[null,null,null,null,null,null,null,null,null,null,null,null,null,null,0,0,0,0,null,null,null,0,"مدفوع"]
[null,null,null,null,null,null,null,null,null,null,null,null,null,null,0,0,0,0,null,null,null,0,"مدفوع"]
[null,null,null,null,null,null,null,null,null,null,null,null,null,null,0,0,0,0,null,null,null,0,"مدفوع"]
[null,null,null,null,null,null,null,null,null,null,null,null,null,null,0,0,0,0,null,null,null,0,"مدفوع"]
[null,null,null,null,null,null,null,null,null,null,null,null,null,null,0,0,0,0,null,null,null,0,"مدفوع"]
[null,null,null,null,null,null,null,null,null,null,null,null,null,null,0,0,0,0,null,null,null,0,"مدفوع"]
[null,null,null,null,null,null,null,null,null,null,null,null,null,null,0,0,0,0,null,null,null,0,"مدفوع"]
[null,null,null,null,null,null,null,null,null,null,null,null,null,null,0,0,0,0,null,null,null,0,"مدفوع"]
[null,null,null,null,null,null,null,null,null,null,null,null,null,null,0,0,0,0,null,null,null,0,"مدفوع"]
[null,null,null,null,null,null,null,null,null,null,null,null,null,null,0,0,0,0,null,null,null,0,"مدفوع"]
[null,null,null,null,null,null,null,null,null,null,null,null,null,null,0,0,0,0,null,null,null,0,"مدفوع"]
[null,null,null,null,null,null,null,null,null,null,null,null,null,null,0,0,0,0,null,null,null,0,"مدفوع"]
[null,null,null,null,null,null,null,null,null,null,null,null,null,null,0,0,0,0,null,null,null,0,"مدفوع"]
[null,null,null,null,null,null,null,null,null,null,null,null,null,null,0,0,0,0,null,null,null,0,"مدفوع"]
[null,null,null,null,null,null,null,null,null,null,null,null,null,null,0,0,0,0,null,null,null,0,"مدفوع"]
[null,null,null,null,null,null,null,null,null,null,null,null,null,null,0,0,0,0,null,null,null,0,"مدفوع"]
[null,null,null,null,null,null,null,null,null,null,null,null,null,null,0,0,0,0,null,null,null,0,"مدفوع"]
[null,null,null,null,null,null,null,null,null,null,null,null,null,null,0,0,0,0,null,null,null,0,"مدفوع"]
[null,null,null,null,null,null,null,null,null,null,null,null,null,null,0,0,0,0,null,null,null,0,"مدفوع"]
[null,null,null,null,null,null,null,null,null,null,null,null,null,null,0,0,0,0,null,null,null,0,"مدفوع"]
[null,null,null,null,null,null,null,null,null,null,null,null,null,null,0,0,0,0,null,null,null,0,"مدفوع"]
[null,null,null,null,null,null,null,null,null,null,null,null,null,null,0,0,0,0,null,null,null,0,"مدفوع"]
[null,null,null,null,null,null,null,null,null,null,null,null,null,null,0,0,0,0,null,null,null,0,"مدفوع"]
[null,null,null,null,null,null,null,null,null,null,null,null,null,null,{"$f":"SUM(M3363-N3363)","v":0},0,{"$f":"SUM(K3363*150000/2.5)","v":0},{"$f":"SUM(O3363*4000)","v":0},null,null,null,{"$f":"SUM(P3363:S3363)-T3363","v":0},{"$f":"IF(V3363<=0,\"مدفوع\",\"غير مدفوع\")","v":"مدفوع"}]
[null,null,null,null,null,null,null,null,null,null,null,null,null,null,0,0,0,0,null,null,null,0,"مدفوع"]
[null,null,null,null,null,null,null,null,null,null,null,null,null,null,0,{"$f":"IF(L3365=0,0,IF(L3365<=5.5,150000,IF(L3365<=10.5,230000,IF(L3365<=15.5,300000,IF(L3365<=20.5,350000,IF(L3365<=25.5,400000,IF(L3365<=30.5,450000,IF(L3365<=35.5,500000,IF(L3365<=40.5,550000,IF(L3365<=45.5,600000,IF(L3365<=50.5,650000,IF(L3365<=55.5,700000,IF(L3365<=60.5,750000)))))))))))))","v":0},0,0,null,null,null,0,"مدفوع"]
[null,null,null,null,null,null,null,null,null,null,null,null,null,null,0,0,0,0,null,null,null,0,"مدفوع"]
[null,null,null,null,null,null,null,null,null,null,null,null,null,null,0,0,0,0,null,null,null,0,"مدفوع"]
[null,null,null,null,null,null,null,null,null,null,null,null,null,null,0,0,0,0,null,null,null,0,"مدفوع"]
[null,null,null,null,null,null,null,null,null,null,null,null,null,null,0,0,0,0,null,null,null,0,"مدفوع"]
[null,null,null,null,null,null,null,null,null,null,null,null,null,null,0,0,0,0,null,null,null,0,"مدفوع"]
[null,null,null,null,null,null,null,null,null,null,null,null,null,null,0,0,0,0,null,null,null,0,"مدفوع"]
[null,null,null,null,null,null,null,null,null,null,null,null,null,null,0,0,0,0,null,null,null,0,"مدفوع"]
[null,null,null,null,null,null,null,null,null,null,null,null,null,null,0,0,0,0,null,null,null,0,"مدفوع"]
[null,null,null,null,null,null,null,null,null,null,null,null,null,null,0,0,0,0,null,null,null,0,"مدفوع"]
[null,null,null,null,null,null,null,null,null,null,null,null,null,null,0,0,0,0,null,null,null,0,"مدفوع"]
[null,null,null,null,null,null,null,null,null,null,null,null,null,null,0,0,0,0,null,null,null,0,"مدفوع"]
[null,null,null,null,null,null,null,null,null,null,null,null,null,null,0,0,0,0,null,null,null,0,"مدفوع"]
[null,null,null,null,null,null,null,null,null,null,null,null,null,null,0,0,0,0,null,null,null,0,"مدفوع"]
[null,null,null,null,null,null,null,null,null,null,null,null,null,null,0,0,0,0,null,null,null,0,"مدفوع"]
[null,null,null,null,null,null,null,null,null,null,null,null,null,null,0,0,0,0,null,null,null,0,"مدفوع"]
[null,null,null,null,null,null,null,null,null,null,null,null,null,null,0,0,0,0,null,null,null,0,"مدفوع"]
[null,null,null,null,null,null,null,null,null,null,null,null,null,null,0,0,0,0,null,null,null,0,"مدفوع"]
[null,null,null,null,null,null,null,null,null,null,null,null,null,null,0,0,0,0,null,null,null,0,"مدفوع"]
[null,null,null,null,null,null,null,null,null,null,null,null,null,null,0,0,0,0,null,null,null,0,"مدفوع"]
[null,null,null,null,null,null,null,null,null,null,null,null,null,null,0,0,0,0,null,null,null,0,"مدفوع"]
[null,null,null,null,null,null,null,null,null,null,null,null,null,null,0,0,0,0,null,null,null,0,"مدفوع"]
[null,null,null,null,null,null,null,null,null,null,null,null,null,null,0,0,0,0,null,null,null,0,"مدفوع"]
[null,null,null,null,null,null,null,null,null,null,null,null,null,null,0,0,0,0,null,null,null,0,"مدفوع"]
[null,null,null,null,null,null,null,null,null,null,null,null,null,null,0,0,0,0,null,null,null,0,"مدفوع"]
[null,null,null,null,null,null,null,null,null,null,null,null,null,null,0,0,0,0,null,null,null,0,"مدفوع"]
[null,null,null,null,null,null,null,null,null,null,null,null,null,null,0,0,0,0,null,null,null,0,"مدفوع"]
[null,null,null,null,null,null,null,null,null,null,null,null,null,null,0,0,0,0,null,null,null,0,"مدفوع"]
[null,null,null,null,null,null,null,null,null,null,null,null,null,null,0,0,0,0,null,null,null,0,"مدفوع"]
[null,null,null,null,null,null,null,null,null,null,null,null,null,null,0,0,0,0,null,null,null,0,"مدفوع"]
[null,null,null,null,null,null,null,null,null,null,null,null,null,null,0,0,0,0,null,null,null,0,"مدفوع"]
[null,null,null,null,null,null,null,null,null,null,null,null,null,null,0,0,0,0,null,null,null,0,"مدفوع"]
[null,null,null,null,null,null,null,null,null,null,null,null,null,null,0,0,0,0,null,null,null,0,"مدفوع"]
[null,null,null,null,null,null,null,null,null,null,null,null,null,null,0,0,0,0,null,null,null,0,"مدفوع"]
[null,null,null,null,null,null,null,null,null,null,null,null,null,null,0,0,0,0,null,null,null,0,"مدفوع"]
[null,null,null,null,null,null,null,null,null,null,null,null,null,null,0,0,0,0,null,null,null,0,"مدفوع"]
[null,null,null,null,null,null,null,null,null,null,null,null,null,null,0,0,0,0,null,null,null,0,"مدفوع"]
[null,null,null,null,null,null,null,null,null,null,null,null,null,null,0,0,0,0,null,null,null,0,"مدفوع"]
[null,null,null,null,null,null,null,null,null,null,null,null,null,null,0,0,0,0,null,null,null,0,"مدفوع"]
[null,null,null,null,null,null,null,null,null,null,null,null,null,null,0,0,0,0,null,null,null,0,"مدفوع"]
[null,null,null,null,null,null,null,null,null,null,null,null,null,null,0,0,0,0,null,null,null,0,"مدفوع"]
[null,null,null,null,null,null,null,null,null,null,null,null,null,null,0,0,0,0,null,null,null,0,"مدفوع"]
[null,null,null,null,null,null,null,null,null,null,null,null,null,null,0,0,0,0,null,null,null,0,"مدفوع"]
[null,null,null,null,null,null,null,null,null,null,null,null,null,null,0,0,0,0,null,null,null,0,"مدفوع"]
[null,null,null,null,null,null,null,null,null,null,null,null,null,null,0,0,0,0,null,null,null,0,"مدفوع"]
[null,null,null,null,null,null,null,null,null,null,null,null,null,null,0,0,0,0,null,null,null,0,"مدفوع"]
[null,null,null,null,null,null,null,null,null,null,null,null,null,null,0,0,0,0,null,null,null,0,"مدفوع"]
[null,null,null,null,null,null,null,null,null,null,null,null,null,null,0,0,0,0,null,null,null,0,"مدفوع"]
[null,null,null,null,null,null,null,null,null,null,null,null,null,null,0,0,0,0,null,null,null,0,"مدفوع"]
[null,null,null,null,null,null,null,null,null,null,null,null,null,null,0,0,0,0,null,null,null,0,"مدفوع"]
[null,null,null,null,null,null,null,null,null,null,null,null,null,null,0,0,0,0,null,null,null,0,"مدفوع"]
[null,null,null,null,null,null,null,null,null,null,null,null,null,null,0,0,0,0,null,null,null,0,"مدفوع"]
[null,null,null,null,null,null,null,null,null,null,null,null,null,null,0,0,0,0,null,null,null,0,"مدفوع"]
[null,null,null,null,null,null,null,null,null,null,null,null,null,null,0,0,0,0,null,null,null,0,"مدفوع"]
[null,null,null,null,null,null,null,null,null,null,null,null,null,null,0,0,0,0,null,null,null,0,"مدفوع"]
[null,null,null,null,null,null,null,null,null,null,null,null,null,null,0,0,0,0,null,null,null,0,"مدفوع"]
[null,null,null,null,null,null,null,null,null,null,null,null,null,null,0,0,0,0,null,null,null,0,"مدفوع"]
[null,null,null,null,null,null,null,null,null,null,null,null,null,null,0,0,0,0,null,null,null,0,"مدفوع"]
[null,null,null,null,null,null,null,null,null,null,null,null,null,null,0,0,0,0,null,null,null,0,"مدفوع"]
[null,null,null,null,null,null,null,null,null,null,null,null,null,null,0,0,0,0,null,null,null,0,"مدفوع"]
[null,null,null,null,null,null,null,null,null,null,null,null,null,null,0,0,0,0,null,null,null,0,"مدفوع"]
[null,null,null,null,null,null,null,null,null,null,null,null,null,null,0,0,0,0,null,null,null,0,"مدفوع"]
[null,null,null,null,null,null,null,null,null,null,null,null,null,null,{"$f":"SUM(M3427-N3427)","v":0},0,{"$f":"SUM(K3427*150000/2.5)","v":0},{"$f":"SUM(O3427*4000)","v":0},null,null,null,{"$f":"SUM(P3427:S3427)-T3427","v":0},{"$f":"IF(V3427<=0,\"مدفوع\",\"غير مدفوع\")","v":"مدفوع"}]
[null,null,null,null,null,null,null,null,null,null,null,null,null,null,0,0,0,0,null,null,null,0,"مدفوع"]
[null,null,null,null,null,null,null,null,null,null,null,null,null,null,0,{"$f":"IF(L3429=0,0,IF(L3429<=5.5,150000,IF(L3429<=10.5,230000,IF(L3429<=15.5,300000,IF(L3429<=20.5,350000,IF(L3429<=25.5,400000,IF(L3429<=30.5,450000,IF(L3429<=35.5,500000,IF(L3429<=40.5,550000,IF(L3429<=45.5,600000,IF(L3429<=50.5,650000,IF(L3429<=55.5,700000,IF(L3429<=60.5,750000)))))))))))))","v":0},0,0,null,null,null,0,"مدفوع"]
[null,null,null,null,null,null,null,null,null,null,null,null,null,null,0,0,0,0,null,null,null,0,"مدفوع"]
[null,null,null,null,null,null,null,null,null,null,null,null,null,null,0,0,0,0,null,null,null,0,"مدفوع"]
[null,null,null,null,null,null,null,null,null,null,null,null,null,null,0,0,0,0,null,null,null,0,"مدفوع"]
[null,null,null,null,null,null,null,null,null,null,null,null,null,null,0,0,0,0,null,null,null,0,"مدفوع"]
[null,null,null,null,null,null,null,null,null,null,null,null,null,null,0,0,0,0,null,null,null,0,"مدفوع"]
[null,null,null,null,null,null,null,null,null,null,null,null,null,null,0,0,0,0,null,null,null,0,"مدفوع"]
[null,null,null,null,null,null,null,null,null,null,null,null,null,null,0,0,0,0,null,null,null,0,"مدفوع"]
[null,null,null,null,null,null,null,null,null,null,null,null,null,null,0,0,0,0,null,null,null,0,"مدفوع"]
[null,null,null,null,null,null,null,null,null,null,null,null,null,null,0,0,0,0,null,null,null,0,"مدفوع"]
[null,null,null,null,null,null,null,null,null,null,null,null,null,null,0,0,0,0,null,null,null,0,"مدفوع"]
[null,null,null,null,null,null,null,null,null,null,null,null,null,null,0,0,0,0,null,null,null,0,"مدفوع"]
[null,null,null,null,null,null,null,null,null,null,null,null,null,null,0,0,0,0,null,null,null,0,"مدفوع"]
[null,null,null,null,null,null,null,null,null,null,null,null,null,null,0,0,0,0,null,null,null,0,"مدفوع"]
[null,null,null,null,null,null,null,null,null,null,null,null,null,null,0,0,0,0,null,null,null,0,"مدفوع"]
[null,null,null,null,null,null,null,null,null,null,null,null,null,null,0,0,0,0,null,null,null,0,"مدفوع"]
[null,null,null,null,null,null,null,null,null,null,null,null,null,null,0,0,0,0,null,null,null,0,"مدفوع"]
[null,null,null,null,null,null,null,null,null,null,null,null,null,null,0,0,0,0,null,null,null,0,"مدفوع"]
[null,null,null,null,null,null,null,null,null,null,null,null,null,null,0,0,0,0,null,null,null,0,"مدفوع"]
[null,null,null,null,null,null,null,null,null,null,null,null,null,null,0,0,0,0,null,null,null,0,"مدفوع"]
[null,null,null,null,null,null,null,null,null,null,null,null,null,null,0,0,0,0,null,null,null,0,"مدفوع"]
[null,null,null,null,null,null,null,null,null,null,null,null,null,null,0,0,0,0,null,null,null,0,"مدفوع"]
[null,null,null,null,null,null,null,null,null,null,null,null,null,null,0,0,0,0,null,null,null,0,"مدفوع"]
[null,null,null,null,null,null,null,null,null,null,null,null,null,null,0,0,0,0,null,null,null,0,"مدفوع"]
[null,null,null,null,null,null,null,null,null,null,null,null,null,null,0,0,0,0,null,null,null,0,"مدفوع"]
[null,null,null,null,null,null,null,null,null,null,null,null,null,null,0,0,0,0,null,null,null,0,"مدفوع"]
[null,null,null,null,null,null,null,null,null,null,null,null,null,null,0,0,0,0,null,null,null,0,"مدفوع"]
[null,null,null,null,null,null,null,null,null,null,null,null,null,null,0,0,0,0,null,null,null,0,"مدفوع"]
[null,null,null,null,null,null,null,null,null,null,null,null,null,null,0,0,0,0,null,null,null,0,"مدفوع"]
[null,null,null,null,null,null,null,null,null,null,null,null,null,null,0,0,0,0,null,null,null,0,"مدفوع"]
[null,null,null,null,null,null,null,null,null,null,null,null,null,null,0,0,0,0,null,null,null,0,"مدفوع"]
[null,null,null,null,null,null,null,null,null,null,null,null,null,null,0,0,0,0,null,null,null,0,"مدفوع"]
[null,null,null,null,null,null,null,null,null,null,null,null,null,null,0,0,0,0,null,null,null,0,"مدفوع"]
[null,null,null,null,null,null,null,null,null,null,null,null,null,null,0,0,0,0,null,null,null,0,"مدفوع"]
[null,null,null,null,null,null,null,null,null,null,null,null,null,null,0,0,0,0,null,null,null,0,"مدفوع"]
[null,null,null,null,null,null,null,null,null,null,null,null,null,null,0,0,0,0,null,null,null,0,"مدفوع"]
[null,null,null,null,null,null,null,null,null,null,null,null,null,null,0,0,0,0,null,null,null,0,"مدفوع"]
[null,null,null,null,null,null,null,null,null,null,null,null,null,null,0,0,0,0,null,null,null,0,"مدفوع"]
[null,null,null,null,null,null,null,null,null,null,null,null,null,null,0,0,0,0,null,null,null,0,"مدفوع"]
[null,null,null,null,null,null,null,null,null,null,null,null,null,null,0,0,0,0,null,null,null,0,"مدفوع"]
[null,null,null,null,null,null,null,null,null,null,null,null,null,null,0,0,0,0,null,null,null,0,"مدفوع"]
[null,null,null,null,null,null,null,null,null,null,null,null,null,null,0,0,0,0,null,null,null,0,"مدفوع"]
[null,null,null,null,null,null,null,null,null,null,null,null,null,null,0,0,0,0,null,null,null,0,"مدفوع"]
[null,null,null,null,null,null,null,null,null,null,null,null,null,null,0,0,0,0,null,null,null,0,"مدفوع"]
[null,null,null,null,null,null,null,null,null,null,null,null,null,null,0,0,0,0,null,null,null,0,"مدفوع"]
[null,null,null,null,null,null,null,null,null,null,null,null,null,null,0,0,0,0,null,null,null,0,"مدفوع"]
[null,null,null,null,null,null,null,null,null,null,null,null,null,null,0,0,0,0,null,null,null,0,"مدفوع"]
[null,null,null,null,null,null,null,null,null,null,null,null,null,null,0,0,0,0,null,null,null,0,"مدفوع"]
[null,null,null,null,null,null,null,null,null,null,null,null,null,null,0,0,0,0,null,null,null,0,"مدفوع"]
[null,null,null,null,null,null,null,null,null,null,null,null,null,null,0,0,0,0,null,null,null,0,"مدفوع"]
[null,null,null,null,null,null,null,null,null,null,null,null,null,null,0,0,0,0,null,null,null,0,"مدفوع"]
[null,null,null,null,null,null,null,null,null,null,null,null,null,null,0,0,0,0,null,null,null,0,"مدفوع"]
[null,null,null,null,null,null,null,null,null,null,null,null,null,null,0,0,0,0,null,null,null,0,"مدفوع"]
[null,null,null,null,null,null,null,null,null,null,null,null,null,null,0,0,0,0,null,null,null,0,"مدفوع"]
[null,null,null,null,null,null,null,null,null,null,null,null,null,null,0,0,0,0,null,null,null,0,"مدفوع"]
[null,null,null,null,null,null,null,null,null,null,null,null,null,null,0,0,0,0,null,null,null,0,"مدفوع"]
[null,null,null,null,null,null,null,null,null,null,null,null,null,null,0,0,0,0,null,null,null,0,"مدفوع"]
[null,null,null,null,null,null,null,null,null,null,null,null,null,null,0,0,0,0,null,null,null,0,"مدفوع"]
[null,null,null,null,null,null,null,null,null,null,null,null,null,null,0,0,0,0,null,null,null,0,"مدفوع"]
[null,null,null,null,null,null,null,null,null,null,null,null,null,null,0,0,0,0,null,null,null,0,"مدفوع"]
[null,null,null,null,null,null,null,null,null,null,null,null,null,null,0,0,0,0,null,null,null,0,"مدفوع"]
[null,null,null,null,null,null,null,null,null,null,null,null,null,null,0,0,0,0,null,null,null,0,"مدفوع"]
[null,null,null,null,null,null,null,null,null,null,null,null,null,null,{"$f":"SUM(M3491-N3491)","v":0},0,{"$f":"SUM(K3491*150000/2.5)","v":0},{"$f":"SUM(O3491*4000)","v":0},null,null,null,{"$f":"SUM(P3491:S3491)-T3491","v":0},{"$f":"IF(V3491<=0,\"مدفوع\",\"غير مدفوع\")","v":"مدفوع"}]
[null,null,null,null,null,null,null,null,null,null,null,null,null,null,0,0,0,0,null,null,null,0,"مدفوع"]
[null,null,null,null,null,null,null,null,null,null,null,null,null,null,0,{"$f":"IF(L3493=0,0,IF(L3493<=5.5,150000,IF(L3493<=10.5,230000,IF(L3493<=15.5,300000,IF(L3493<=20.5,350000,IF(L3493<=25.5,400000,IF(L3493<=30.5,450000,IF(L3493<=35.5,500000,IF(L3493<=40.5,550000,IF(L3493<=45.5,600000,IF(L3493<=50.5,650000,IF(L3493<=55.5,700000,IF(L3493<=60.5,750000)))))))))))))","v":0},0,0,null,null,null,0,"مدفوع"]
[null,null,null,null,null,null,null,null,null,null,null,null,null,null,0,0,0,0,null,null,null,0,"مدفوع"]
[null,null,null,null,null,null,null,null,null,null,null,null,null,null,0,0,0,0,null,null,null,0,"مدفوع"]
[null,null,null,null,null,null,null,null,null,null,null,null,null,null,0,0,0,0,null,null,null,0,"مدفوع"]
[null,null,null,null,null,null,null,null,null,null,null,null,null,null,0,0,0,0,null,null,null,0,"مدفوع"]
[null,null,null,null,null,null,null,null,null,null,null,null,null,null,0,0,0,0,null,null,null,0,"مدفوع"]
[null,null,null,null,null,null,null,null,null,null,null,null,null,null,0,0,0,0,null,null,null,0,"مدفوع"]
[null,null,null,null,null,null,null,null,null,null,null,null,null,null,0,0,0,0,null,null,null,0,"مدفوع"]
[null,null,null,null,null,null,null,null,null,null,null,null,null,null,0,0,0,0,null,null,null,0,"مدفوع"]
[null,null,null,null,null,null,null,null,null,null,null,null,null,null,0,0,0,0,null,null,null,0,"مدفوع"]
[null,null,null,null,null,null,null,null,null,null,null,null,null,null,0,0,0,0,null,null,null,0,"مدفوع"]
[null,null,null,null,null,null,null,null,null,null,null,null,null,null,0,0,0,0,null,null,null,0,"مدفوع"]
[null,null,null,null,null,null,null,null,null,null,null,null,null,null,0,0,0,0,null,null,null,0,"مدفوع"]
[null,null,null,null,null,null,null,null,null,null,null,null,null,null,0,0,0,0,null,null,null,0,"مدفوع"]
[null,null,null,null,null,null,null,null,null,null,null,null,null,null,0,0,0,0,null,null,null,0,"مدفوع"]
[null,null,null,null,null,null,null,null,null,null,null,null,null,null,0,0,0,0,null,null,null,0,"مدفوع"]
[null,null,null,null,null,null,null,null,null,null,null,null,null,null,0,0,0,0,null,null,null,0,"مدفوع"]
[null,null,null,null,null,null,null,null,null,null,null,null,null,null,0,0,0,0,null,null,null,0,"مدفوع"]
[null,null,null,null,null,null,null,null,null,null,null,null,null,null,0,0,0,0,null,null,null,0,"مدفوع"]
[null,null,null,null,null,null,null,null,null,null,null,null,null,null,0,0,0,0,null,null,null,0,"مدفوع"]
[null,null,null,null,null,null,null,null,null,null,null,null,null,null,0,0,0,0,null,null,null,0,"مدفوع"]
[null,null,null,null,null,null,null,null,null,null,null,null,null,null,0,0,0,0,null,null,null,0,"مدفوع"]
[null,null,null,null,null,null,null,null,null,null,null,null,null,null,0,0,0,0,null,null,null,0,"مدفوع"]
[null,null,null,null,null,null,null,null,null,null,null,null,null,null,0,0,0,0,null,null,null,0,"مدفوع"]
[null,null,null,null,null,null,null,null,null,null,null,null,null,null,0,0,0,0,null,null,null,0,"مدفوع"]
[null,null,null,null,null,null,null,null,null,null,null,null,null,null,0,0,0,0,null,null,null,0,"مدفوع"]
[null,null,null,null,null,null,null,null,null,null,null,null,null,null,0,0,0,0,null,null,null,0,"مدفوع"]
[null,null,null,null,null,null,null,null,null,null,null,null,null,null,0,0,0,0,null,null,null,0,"مدفوع"]
[null,null,null,null,null,null,null,null,null,null,null,null,null,null,0,0,0,0,null,null,null,0,"مدفوع"]
[null,null,null,null,null,null,null,null,null,null,null,null,null,null,0,0,0,0,null,null,null,0,"مدفوع"]
[null,null,null,null,null,null,null,null,null,null,null,null,null,null,0,0,0,0,null,null,null,0,"مدفوع"]
[null,null,null,null,null,null,null,null,null,null,null,null,null,null,0,0,0,0,null,null,null,0,"مدفوع"]
[null,null,null,null,null,null,null,null,null,null,null,null,null,null,0,0,0,0,null,null,null,0,"مدفوع"]
[null,null,null,null,null,null,null,null,null,null,null,null,null,null,0,0,0,0,null,null,null,0,"مدفوع"]
[null,null,null,null,null,null,null,null,null,null,null,null,null,null,0,0,0,0,null,null,null,0,"مدفوع"]
[null,null,null,null,null,null,null,null,null,null,null,null,null,null,0,0,0,0,null,null,null,0,"مدفوع"]
[null,null,null,null,null,null,null,null,null,null,null,null,null,null,0,0,0,0,null,null,null,0,"مدفوع"]
[null,null,null,null,null,null,null,null,null,null,null,null,null,null,0,0,0,0,null,null,null,0,"مدفوع"]
[null,null,null,null,null,null,null,null,null,null,null,null,null,null,0,0,0,0,null,null,null,0,"مدفوع"]
[null,null,null,null,null,null,null,null,null,null,null,null,null,null,0,0,0,0,null,null,null,0,"مدفوع"]
[null,null,null,null,null,null,null,null,null,null,null,null,null,null,0,0,0,0,null,null,null,0,"مدفوع"]
[null,null,null,null,null,null,null,null,null,null,null,null,null,null,0,0,0,0,null,null,null,0,"مدفوع"]
[null,null,null,null,null,null,null,null,null,null,null,null,null,null,0,0,0,0,null,null,null,0,"مدفوع"]
[null,null,null,null,null,null,null,null,null,null,null,null,null,null,0,0,0,0,null,null,null,0,"مدفوع"]
[null,null,null,null,null,null,null,null,null,null,null,null,null,null,0,0,0,0,null,null,null,0,"مدفوع"]
[null,null,null,null,null,null,null,null,null,null,null,null,null,null,0,0,0,0,null,null,null,0,"مدفوع"]
[null,null,null,null,null,null,null,null,null,null,null,null,null,null,0,0,0,0,null,null,null,0,"مدفوع"]
[null,null,null,null,null,null,null,null,null,null,null,null,null,null,0,0,0,0,null,null,null,0,"مدفوع"]
[null,null,null,null,null,null,null,null,null,null,null,null,null,null,0,0,0,0,null,null,null,0,"مدفوع"]
[null,null,null,null,null,null,null,null,null,null,null,null,null,null,0,0,0,0,null,null,null,0,"مدفوع"]
[null,null,null,null,null,null,null,null,null,null,null,null,null,null,0,0,0,0,null,null,null,0,"مدفوع"]
[null,null,null,null,null,null,null,null,null,null,null,null,null,null,0,0,0,0,null,null,null,0,"مدفوع"]
[null,null,null,null,null,null,null,null,null,null,null,null,null,null,0,0,0,0,null,null,null,0,"مدفوع"]
[null,null,null,null,null,null,null,null,null,null,null,null,null,null,0,0,0,0,null,null,null,0,"مدفوع"]
[null,null,null,null,null,null,null,null,null,null,null,null,null,null,0,0,0,0,null,null,null,0,"مدفوع"]
[null,null,null,null,null,null,null,null,null,null,null,null,null,null,0,0,0,0,null,null,null,0,"مدفوع"]
[null,null,null,null,null,null,null,null,null,null,null,null,null,null,0,0,0,0,null,null,null,0,"مدفوع"]
[null,null,null,null,null,null,null,null,null,null,null,null,null,null,0,0,0,0,null,null,null,0,"مدفوع"]
[null,null,null,null,null,null,null,null,null,null,null,null,null,null,0,0,0,0,null,null,null,0,"مدفوع"]
[null,null,null,null,null,null,null,null,null,null,null,null,null,null,0,0,0,0,null,null,null,0,"مدفوع"]
[null,null,null,null,null,null,null,null,null,null,null,null,null,null,0,0,0,0,null,null,null,0,"مدفوع"]
[null,null,null,null,null,null,null,null,null,null,null,null,null,null,0,0,0,0,null,null,null,0,"مدفوع"]
[null,null,null,null,null,null,null,null,null,null,null,null,null,null,{"$f":"SUM(M3555-N3555)","v":0},0,{"$f":"SUM(K3555*150000/2.5)","v":0},{"$f":"SUM(O3555*4000)","v":0},null,null,null,{"$f":"SUM(P3555:S3555)-T3555","v":0},{"$f":"IF(V3555<=0,\"مدفوع\",\"غير مدفوع\")","v":"مدفوع"}]
[null,null,null,null,null,null,null,null,null,null,null,null,null,null,0,0,0,0,null,null,null,0,"مدفوع"]
[null,null,null,null,null,null,null,null,null,null,null,null,null,null,0,{"$f":"IF(L3557=0,0,IF(L3557<=5.5,150000,IF(L3557<=10.5,230000,IF(L3557<=15.5,300000,IF(L3557<=20.5,350000,IF(L3557<=25.5,400000,IF(L3557<=30.5,450000,IF(L3557<=35.5,500000,IF(L3557<=40.5,550000,IF(L3557<=45.5,600000,IF(L3557<=50.5,650000,IF(L3557<=55.5,700000,IF(L3557<=60.5,750000)))))))))))))","v":0},0,0,null,null,null,0,"مدفوع"]
[null,null,null,null,null,null,null,null,null,null,null,null,null,null,0,0,0,0,null,null,null,0,"مدفوع"]
[null,null,null,null,null,null,null,null,null,null,null,null,null,null,0,0,0,0,null,null,null,0,"مدفوع"]
[null,null,null,null,null,null,null,null,null,null,null,null,null,null,0,0,0,0,null,null,null,0,"مدفوع"]
[null,null,null,null,null,null,null,null,null,null,null,null,null,null,0,0,0,0,null,null,null,0,"مدفوع"]
[null,null,null,null,null,null,null,null,null,null,null,null,null,null,0,0,0,0,null,null,null,0,"مدفوع"]
[null,null,null,null,null,null,null,null,null,null,null,null,null,null,0,0,0,0,null,null,null,0,"مدفوع"]
[null,null,null,null,null,null,null,null,null,null,null,null,null,null,0,0,0,0,null,null,null,0,"مدفوع"]
[null,null,null,null,null,null,null,null,null,null,null,null,null,null,0,0,0,0,null,null,null,0,"مدفوع"]
[null,null,null,null,null,null,null,null,null,null,null,null,null,null,0,0,0,0,null,null,null,0,"مدفوع"]
[null,null,null,null,null,null,null,null,null,null,null,null,null,null,0,0,0,0,null,null,null,0,"مدفوع"]
[null,null,null,null,null,null,null,null,null,null,null,null,null,null,0,0,0,0,null,null,null,0,"مدفوع"]
[null,null,null,null,null,null,null,null,null,null,null,null,null,null,0,0,0,0,null,null,null,0,"مدفوع"]
[null,null,null,null,null,null,null,null,null,null,null,null,null,null,0,0,0,0,null,null,null,0,"مدفوع"]
[null,null,null,null,null,null,null,null,null,null,null,null,null,null,0,0,0,0,null,null,null,0,"مدفوع"]
[null,null,null,null,null,null,null,null,null,null,null,null,null,null,0,0,0,0,null,null,null,0,"مدفوع"]
[null,null,null,null,null,null,null,null,null,null,null,null,null,null,0,0,0,0,null,null,null,0,"مدفوع"]
[null,null,null,null,null,null,null,null,null,null,null,null,null,null,0,0,0,0,null,null,null,0,"مدفوع"]
[null,null,null,null,null,null,null,null,null,null,null,null,null,null,0,0,0,0,null,null,null,0,"مدفوع"]
[null,null,null,null,null,null,null,null,null,null,null,null,null,null,0,0,0,0,null,null,null,0,"مدفوع"]
[null,null,null,null,null,null,null,null,null,null,null,null,null,null,0,0,0,0,null,null,null,0,"مدفوع"]
[null,null,null,null,null,null,null,null,null,null,null,null,null,null,0,0,0,0,null,null,null,0,"مدفوع"]
[null,null,null,null,null,null,null,null,null,null,null,null,null,null,0,0,0,0,null,null,null,0,"مدفوع"]
[null,null,null,null,null,null,null,null,null,null,null,null,null,null,0,0,0,0,null,null,null,0,"مدفوع"]
[null,null,null,null,null,null,null,null,null,null,null,null,null,null,0,0,0,0,null,null,null,0,"مدفوع"]
[null,null,null,null,null,null,null,null,null,null,null,null,null,null,0,0,0,0,null,null,null,0,"مدفوع"]
[null,null,null,null,null,null,null,null,null,null,null,null,null,null,0,0,0,0,null,null,null,0,"مدفوع"]
[null,null,null,null,null,null,null,null,null,null,null,null,null,null,0,0,0,0,null,null,null,0,"مدفوع"]
[null,null,null,null,null,null,null,null,null,null,null,null,null,null,0,0,0,0,null,null,null,0,"مدفوع"]
[null,null,null,null,null,null,null,null,null,null,null,null,null,null,0,0,0,0,null,null,null,0,"مدفوع"]
[null,null,null,null,null,null,null,null,null,null,null,null,null,null,0,0,0,0,null,null,null,0,"مدفوع"]
[null,null,null,null,null,null,null,null,null,null,null,null,null,null,0,0,0,0,null,null,null,0,"مدفوع"]
[null,null,null,null,null,null,null,null,null,null,null,null,null,null,0,0,0,0,null,null,null,0,"مدفوع"]
[null,null,null,null,null,null,null,null,null,null,null,null,null,null,0,0,0,0,null,null,null,0,"مدفوع"]
[null,null,null,null,null,null,null,null,null,null,null,null,null,null,0,0,0,0,null,null,null,0,"مدفوع"]
[null,null,null,null,null,null,null,null,null,null,null,null,null,null,0,0,0,0,null,null,null,0,"مدفوع"]
[null,null,null,null,null,null,null,null,null,null,null,null,null,null,0,0,0,0,null,null,null,0,"مدفوع"]
[null,null,null,null,null,null,null,null,null,null,null,null,null,null,0,0,0,0,null,null,null,0,"مدفوع"]
[null,null,null,null,null,null,null,null,null,null,null,null,null,null,0,0,0,0,null,null,null,0,"مدفوع"]
[null,null,null,null,null,null,null,null,null,null,null,null,null,null,0,0,0,0,null,null,null,0,"مدفوع"]
[null,null,null,null,null,null,null,null,null,null,null,null,null,null,0,0,0,0,null,null,null,0,"مدفوع"]
[null,null,null,null,null,null,null,null,null,null,null,null,null,null,0,0,0,0,null,null,null,0,"مدفوع"]
[null,null,null,null,null,null,null,null,null,null,null,null,null,null,0,0,0,0,null,null,null,0,"مدفوع"]
[null,null,null,null,null,null,null,null,null,null,null,null,null,null,0,0,0,0,null,null,null,0,"مدفوع"]
[null,null,null,null,null,null,null,null,null,null,null,null,null,null,0,0,0,0,null,null,null,0,"مدفوع"]
[null,null,null,null,null,null,null,null,null,null,null,null,null,null,0,0,0,0,null,null,null,0,"مدفوع"]
[null,null,null,null,null,null,null,null,null,null,null,null,null,null,0,0,0,0,null,null,null,0,"مدفوع"]
[null,null,null,null,null,null,null,null,null,null,null,null,null,null,0,0,0,0,null,null,null,0,"مدفوع"]
[null,null,null,null,null,null,null,null,null,null,null,null,null,null,0,0,0,0,null,null,null,0,"مدفوع"]
[null,null,null,null,null,null,null,null,null,null,null,null,null,null,0,0,0,0,null,null,null,0,"مدفوع"]
[null,null,null,null,null,null,null,null,null,null,null,null,null,null,0,0,0,0,null,null,null,0,"مدفوع"]
[null,null,null,null,null,null,null,null,null,null,null,null,null,null,0,0,0,0,null,null,null,0,"مدفوع"]
[null,null,null,null,null,null,null,null,null,null,null,null,null,null,0,0,0,0,null,null,null,0,"مدفوع"]
[null,null,null,null,null,null,null,null,null,null,null,null,null,null,0,0,0,0,null,null,null,0,"مدفوع"]
[null,null,null,null,null,null,null,null,null,null,null,null,null,null,0,0,0,0,null,null,null,0,"مدفوع"]
[null,null,null,null,null,null,null,null,null,null,null,null,null,null,0,0,0,0,null,null,null,0,"مدفوع"]
[null,null,null,null,null,null,null,null,null,null,null,null,null,null,0,0,0,0,null,null,null,0,"مدفوع"]
[null,null,null,null,null,null,null,null,null,null,null,null,null,null,0,0,0,0,null,null,null,0,"مدفوع"]
[null,null,null,null,null,null,null,null,null,null,null,null,null,null,0,0,0,0,null,null,null,0,"مدفوع"]
[null,null,null,null,null,null,null,null,null,null,null,null,null,null,0,0,0,0,null,null,null,0,"مدفوع"]
[null,null,null,null,null,null,null,null,null,null,null,null,null,null,0,0,0,0,null,null,null,0,"مدفوع"]
[null,null,null,null,null,null,null,null,null,null,null,null,null,null,0,0,0,0,null,null,null,0,"مدفوع"]
[null,null,null,null,null,null,null,null,null,null,null,null,null,null,{"$f":"SUM(M3619-N3619)","v":0},0,{"$f":"SUM(K3619*150000/2.5)","v":0},{"$f":"SUM(O3619*4000)","v":0},null,null,null,{"$f":"SUM(P3619:S3619)-T3619","v":0},{"$f":"IF(V3619<=0,\"مدفوع\",\"غير مدفوع\")","v":"مدفوع"}]
[null,null,null,null,null,null,null,null,null,null,null,null,null,null,0,0,0,0,null,null,null,0,"مدفوع"]
[null,null,null,null,null,null,null,null,null,null,null,null,null,null,0,{"$f":"IF(L3621=0,0,IF(L3621<=5.5,150000,IF(L3621<=10.5,230000,IF(L3621<=15.5,300000,IF(L3621<=20.5,350000,IF(L3621<=25.5,400000,IF(L3621<=30.5,450000,IF(L3621<=35.5,500000,IF(L3621<=40.5,550000,IF(L3621<=45.5,600000,IF(L3621<=50.5,650000,IF(L3621<=55.5,700000,IF(L3621<=60.5,750000)))))))))))))","v":0},0,0,null,null,null,0,"مدفوع"]
[null,null,null,null,null,null,null,null,null,null,null,null,null,null,0,0,0,0,null,null,null,0,"مدفوع"]
[null,null,null,null,null,null,null,null,null,null,null,null,null,null,0,0,0,0,null,null,null,0,"مدفوع"]
[null,null,null,null,null,null,null,null,null,null,null,null,null,null,0,0,0,0,null,null,null,0,"مدفوع"]
[null,null,null,null,null,null,null,null,null,null,null,null,null,null,0,0,0,0,null,null,null,0,"مدفوع"]
[null,null,null,null,null,null,null,null,null,null,null,null,null,null,0,0,0,0,null,null,null,0,"مدفوع"]
[null,null,null,null,null,null,null,null,null,null,null,null,null,null,0,0,0,0,null,null,null,0,"مدفوع"]
[null,null,null,null,null,null,null,null,null,null,null,null,null,null,0,0,0,0,null,null,null,0,"مدفوع"]
[null,null,null,null,null,null,null,null,null,null,null,null,null,null,0,0,0,0,null,null,null,0,"مدفوع"]
[null,null,null,null,null,null,null,null,null,null,null,null,null,null,0,0,0,0,null,null,null,0,"مدفوع"]
[null,null,null,null,null,null,null,null,null,null,null,null,null,null,0,0,0,0,null,null,null,0,"مدفوع"]
[null,null,null,null,null,null,null,null,null,null,null,null,null,null,0,0,0,0,null,null,null,0,"مدفوع"]
[null,null,null,null,null,null,null,null,null,null,null,null,null,null,0,0,0,0,null,null,null,0,"مدفوع"]
[null,null,null,null,null,null,null,null,null,null,null,null,null,null,0,0,0,0,null,null,null,0,"مدفوع"]
[null,null,null,null,null,null,null,null,null,null,null,null,null,null,0,0,0,0,null,null,null,0,"مدفوع"]
[null,null,null,null,null,null,null,null,null,null,null,null,null,null,0,0,0,0,null,null,null,0,"مدفوع"]
[null,null,null,null,null,null,null,null,null,null,null,null,null,null,0,0,0,0,null,null,null,0,"مدفوع"]
[null,null,null,null,null,null,null,null,null,null,null,null,null,null,0,0,0,0,null,null,null,0,"مدفوع"]
[null,null,null,null,null,null,null,null,null,null,null,null,null,null,0,0,0,0,null,null,null,0,"مدفوع"]
[null,null,null,null,null,null,null,null,null,null,null,null,null,null,0,0,0,0,null,null,null,0,"مدفوع"]
[null,null,null,null,null,null,null,null,null,null,null,null,null,null,0,0,0,0,null,null,null,0,"مدفوع"]
[null,null,null,null,null,null,null,null,null,null,null,null,null,null,0,0,0,0,null,null,null,0,"مدفوع"]
[null,null,null,null,null,null,null,null,null,null,null,null,null,null,0,0,0,0,null,null,null,0,"مدفوع"]
[null,null,null,null,null,null,null,null,null,null,null,null,null,null,0,0,0,0,null,null,null,0,"مدفوع"]
[null,null,null,null,null,null,null,null,null,null,null,null,null,null,0,0,0,0,null,null,null,0,"مدفوع"]
[null,null,null,null,null,null,null,null,null,null,null,null,null,null,0,0,0,0,null,null,null,0,"مدفوع"]
[null,null,null,null,null,null,null,null,null,null,null,null,null,null,0,0,0,0,null,null,null,0,"مدفوع"]
[null,null,null,null,null,null,null,null,null,null,null,null,null,null,0,0,0,0,null,null,null,0,"مدفوع"]
[null,null,null,null,null,null,null,null,null,null,null,null,null,null,0,0,0,0,null,null,null,0,"مدفوع"]
[null,null,null,null,null,null,null,null,null,null,null,null,null,null,0,0,0,0,null,null,null,0,"مدفوع"]
[null,null,null,null,null,null,null,null,null,null,null,null,null,null,0,0,0,0,null,null,null,0,"مدفوع"]
[null,null,null,null,null,null,null,null,null,null,null,null,null,null,0,0,0,0,null,null,null,0,"مدفوع"]
[null,null,null,null,null,null,null,null,null,null,null,null,null,null,0,0,0,0,null,null,null,0,"مدفوع"]
[null,null,null,null,null,null,null,null,null,null,null,null,null,null,0,0,0,0,null,null,null,0,"مدفوع"]
[null,null,null,null,null,null,null,null,null,null,null,null,null,null,0,0,0,0,null,null,null,0,"مدفوع"]
[null,null,null,null,null,null,null,null,null,null,null,null,null,null,0,0,0,0,null,null,null,0,"مدفوع"]
[null,null,null,null,null,null,null,null,null,null,null,null,null,null,0,0,0,0,null,null,null,0,"مدفوع"]
[null,null,null,null,null,null,null,null,null,null,null,null,null,null,0,0,0,0,null,null,null,0,"مدفوع"]
[null,null,null,null,null,null,null,null,null,null,null,null,null,null,0,0,0,0,null,null,null,0,"مدفوع"]
[null,null,null,null,null,null,null,null,null,null,null,null,null,null,0,0,0,0,null,null,null,0,"مدفوع"]
[null,null,null,null,null,null,null,null,null,null,null,null,null,null,0,0,0,0,null,null,null,0,"مدفوع"]
[null,null,null,null,null,null,null,null,null,null,null,null,null,null,0,0,0,0,null,null,null,0,"مدفوع"]
[null,null,null,null,null,null,null,null,null,null,null,null,null,null,0,0,0,0,null,null,null,0,"مدفوع"]
[null,null,null,null,null,null,null,null,null,null,null,null,null,null,0,0,0,0,null,null,null,0,"مدفوع"]
[null,null,null,null,null,null,null,null,null,null,null,null,null,null,0,0,0,0,null,null,null,0,"مدفوع"]
[null,null,null,null,null,null,null,null,null,null,null,null,null,null,0,0,0,0,null,null,null,0,"مدفوع"]
[null,null,null,null,null,null,null,null,null,null,null,null,null,null,0,0,0,0,null,null,null,0,"مدفوع"]
[null,null,null,null,null,null,null,null,null,null,null,null,null,null,0,0,0,0,null,null,null,0,"مدفوع"]
[null,null,null,null,null,null,null,null,null,null,null,null,null,null,0,0,0,0,null,null,null,0,"مدفوع"]
[null,null,null,null,null,null,null,null,null,null,null,null,null,null,0,0,0,0,null,null,null,0,"مدفوع"]
[null,null,null,null,null,null,null,null,null,null,null,null,null,null,0,0,0,0,null,null,null,0,"مدفوع"]
[null,null,null,null,null,null,null,null,null,null,null,null,null,null,0,0,0,0,null,null,null,0,"مدفوع"]
[null,null,null,null,null,null,null,null,null,null,null,null,null,null,0,0,0,0,null,null,null,0,"مدفوع"]
[null,null,null,null,null,null,null,null,null,null,null,null,null,null,0,0,0,0,null,null,null,0,"مدفوع"]
[null,null,null,null,null,null,null,null,null,null,null,null,null,null,0,0,0,0,null,null,null,0,"مدفوع"]
[null,null,null,null,null,null,null,null,null,null,null,null,null,null,0,0,0,0,null,null,null,0,"مدفوع"]
[null,null,null,null,null,null,null,null,null,null,null,null,null,null,0,0,0,0,null,null,null,0,"مدفوع"]
[null,null,null,null,null,null,null,null,null,null,null,null,null,null,0,0,0,0,null,null,null,0,"مدفوع"]
[null,null,null,null,null,null,null,null,null,null,null,null,null,null,0,0,0,0,null,null,null,0,"مدفوع"]
[null,null,null,null,null,null,null,null,null,null,null,null,null,null,0,0,0,0,null,null,null,0,"مدفوع"]
[null,null,null,null,null,null,null,null,null,null,null,null,null,null,0,0,0,0,null,null,null,0,"مدفوع"]
[null,null,null,null,null,null,null,null,null,null,null,null,null,null,0,0,0,0,null,null,null,0,"مدفوع"]
[null,null,null,null,null,null,null,null,null,null,null,null,null,null,{"$f":"SUM(M3683-N3683)","v":0},0,{"$f":"SUM(K3683*150000/2.5)","v":0},{"$f":"SUM(O3683*4000)","v":0},null,null,null,{"$f":"SUM(P3683:S3683)-T3683","v":0},{"$f":"IF(V3683<=0,\"مدفوع\",\"غير مدفوع\")","v":"مدفوع"}]
[null,null,null,null,null,null,null,null,null,null,null,null,null,null,0,0,0,0,null,null,null,0,"مدفوع"]
[null,null,null,null,null,null,null,null,null,null,null,null,null,null,0,{"$f":"IF(L3685=0,0,IF(L3685<=5.5,150000,IF(L3685<=10.5,230000,IF(L3685<=15.5,300000,IF(L3685<=20.5,350000,IF(L3685<=25.5,400000,IF(L3685<=30.5,450000,IF(L3685<=35.5,500000,IF(L3685<=40.5,550000,IF(L3685<=45.5,600000,IF(L3685<=50.5,650000,IF(L3685<=55.5,700000,IF(L3685<=60.5,750000)))))))))))))","v":0},0,0,null,null,null,0,"مدفوع"]
[null,null,null,null,null,null,null,null,null,null,null,null,null,null,0,0,0,0,null,null,null,0,"مدفوع"]
[null,null,null,null,null,null,null,null,null,null,null,null,null,null,0,0,0,0,null,null,null,0,"مدفوع"]
[null,null,null,null,null,null,null,null,null,null,null,null,null,null,0,0,0,0,null,null,null,0,"مدفوع"]
[null,null,null,null,null,null,null,null,null,null,null,null,null,null,0,0,0,0,null,null,null,0,"مدفوع"]
[null,null,null,null,null,null,null,null,null,null,null,null,null,null,0,0,0,0,null,null,null,0,"مدفوع"]
[null,null,null,null,null,null,null,null,null,null,null,null,null,null,0,0,0,0,null,null,null,0,"مدفوع"]
[null,null,null,null,null,null,null,null,null,null,null,null,null,null,0,0,0,0,null,null,null,0,"مدفوع"]
[null,null,null,null,null,null,null,null,null,null,null,null,null,null,0,0,0,0,null,null,null,0,"مدفوع"]
[null,null,null,null,null,null,null,null,null,null,null,null,null,null,0,0,0,0,null,null,null,0,"مدفوع"]
[null,null,null,null,null,null,null,null,null,null,null,null,null,null,0,0,0,0,null,null,null,0,"مدفوع"]
[null,null,null,null,null,null,null,null,null,null,null,null,null,null,0,0,0,0,null,null,null,0,"مدفوع"]
[null,null,null,null,null,null,null,null,null,null,null,null,null,null,0,0,0,0,null,null,null,0,"مدفوع"]
[null,null,null,null,null,null,null,null,null,null,null,null,null,null,0,0,0,0,null,null,null,0,"مدفوع"]
[null,null,null,null,null,null,null,null,null,null,null,null,null,null,0,0,0,0,null,null,null,0,"مدفوع"]
[null,null,null,null,null,null,null,null,null,null,null,null,null,null,0,0,0,0,null,null,null,0,"مدفوع"]
[null,null,null,null,null,null,null,null,null,null,null,null,null,null,0,0,0,0,null,null,null,0,"مدفوع"]
[null,null,null,null,null,null,null,null,null,null,null,null,null,null,0,0,0,0,null,null,null,0,"مدفوع"]
[null,null,null,null,null,null,null,null,null,null,null,null,null,null,0,0,0,0,null,null,null,0,"مدفوع"]
[null,null,null,null,null,null,null,null,null,null,null,null,null,null,0,0,0,0,null,null,null,0,"مدفوع"]
[null,null,null,null,null,null,null,null,null,null,null,null,null,null,0,0,0,0,null,null,null,0,"مدفوع"]
[null,null,null,null,null,null,null,null,null,null,null,null,null,null,0,0,0,0,null,null,null,0,"مدفوع"]
[null,null,null,null,null,null,null,null,null,null,null,null,null,null,0,0,0,0,null,null,null,0,"مدفوع"]
[null,null,null,null,null,null,null,null,null,null,null,null,null,null,0,0,0,0,null,null,null,0,"مدفوع"]
[null,null,null,null,null,null,null,null,null,null,null,null,null,null,0,0,0,0,null,null,null,0,"مدفوع"]
[null,null,null,null,null,null,null,null,null,null,null,null,null,null,0,0,0,0,null,null,null,0,"مدفوع"]
[null,null,null,null,null,null,null,null,null,null,null,null,null,null,0,0,0,0,null,null,null,0,"مدفوع"]
[null,null,null,null,null,null,null,null,null,null,null,null,null,null,0,0,0,0,null,null,null,0,"مدفوع"]
[null,null,null,null,null,null,null,null,null,null,null,null,null,null,0,0,0,0,null,null,null,0,"مدفوع"]
[null,null,null,null,null,null,null,null,null,null,null,null,null,null,0,0,0,0,null,null,null,0,"مدفوع"]
[null,null,null,null,null,null,null,null,null,null,null,null,null,null,0,0,0,0,null,null,null,0,"مدفوع"]
[null,null,null,null,null,null,null,null,null,null,null,null,null,null,0,0,0,0,null,null,null,0,"مدفوع"]
[null,null,null,null,null,null,null,null,null,null,null,null,null,null,0,0,0,0,null,null,null,0,"مدفوع"]
[null,null,null,null,null,null,null,null,null,null,null,null,null,null,0,0,0,0,null,null,null,0,"مدفوع"]
[null,null,null,null,null,null,null,null,null,null,null,null,null,null,0,0,0,0,null,null,null,0,"مدفوع"]
[null,null,null,null,null,null,null,null,null,null,null,null,null,null,0,0,0,0,null,null,null,0,"مدفوع"]
[null,null,null,null,null,null,null,null,null,null,null,null,null,null,0,0,0,0,null,null,null,0,"مدفوع"]
[null,null,null,null,null,null,null,null,null,null,null,null,null,null,0,0,0,0,null,null,null,0,"مدفوع"]
[null,null,null,null,null,null,null,null,null,null,null,null,null,null,0,0,0,0,null,null,null,0,"مدفوع"]
[null,null,null,null,null,null,null,null,null,null,null,null,null,null,0,0,0,0,null,null,null,0,"مدفوع"]
[null,null,null,null,null,null,null,null,null,null,null,null,null,null,0,0,0,0,null,null,null,0,"مدفوع"]
[null,null,null,null,null,null,null,null,null,null,null,null,null,null,0,0,0,0,null,null,null,0,"مدفوع"]
[null,null,null,null,null,null,null,null,null,null,null,null,null,null,0,0,0,0,null,null,null,0,"مدفوع"]
[null,null,null,null,null,null,null,null,null,null,null,null,null,null,0,0,0,0,null,null,null,0,"مدفوع"]
[null,null,null,null,null,null,null,null,null,null,null,null,null,null,0,0,0,0,null,null,null,0,"مدفوع"]
[null,null,null,null,null,null,null,null,null,null,null,null,null,null,0,0,0,0,null,null,null,0,"مدفوع"]
[null,null,null,null,null,null,null,null,null,null,null,null,null,null,0,0,0,0,null,null,null,0,"مدفوع"]
[null,null,null,null,null,null,null,null,null,null,null,null,null,null,0,0,0,0,null,null,null,0,"مدفوع"]
[null,null,null,null,null,null,null,null,null,null,null,null,null,null,0,0,0,0,null,null,null,0,"مدفوع"]
[null,null,null,null,null,null,null,null,null,null,null,null,null,null,0,0,0,0,null,null,null,0,"مدفوع"]
[null,null,null,null,null,null,null,null,null,null,null,null,null,null,0,0,0,0,null,null,null,0,"مدفوع"]
[null,null,null,null,null,null,null,null,null,null,null,null,null,null,0,0,0,0,null,null,null,0,"مدفوع"]
[null,null,null,null,null,null,null,null,null,null,null,null,null,null,0,0,0,0,null,null,null,0,"مدفوع"]
[null,null,null,null,null,null,null,null,null,null,null,null,null,null,0,0,0,0,null,null,null,0,"مدفوع"]
[null,null,null,null,null,null,null,null,null,null,null,null,null,null,0,0,0,0,null,null,null,0,"مدفوع"]
[null,null,null,null,null,null,null,null,null,null,null,null,null,null,0,0,0,0,null,null,null,0,"مدفوع"]
[null,null,null,null,null,null,null,null,null,null,null,null,null,null,0,0,0,0,null,null,null,0,"مدفوع"]
[null,null,null,null,null,null,null,null,null,null,null,null,null,null,0,0,0,0,null,null,null,0,"مدفوع"]
[null,null,null,null,null,null,null,null,null,null,null,null,null,null,0,0,0,0,null,null,null,0,"مدفوع"]
[null,null,null,null,null,null,null,null,null,null,null,null,null,null,0,0,0,0,null,null,null,0,"مدفوع"]
[null,null,null,null,null,null,null,null,null,null,null,null,null,null,0,0,0,0,null,null,null,0,"مدفوع"]
[null,null,null,null,null,null,null,null,null,null,null,null,null,null,0,0,0,0,null,null,null,0,"مدفوع"]
[null,null,null,null,null,null,null,null,null,null,null,null,null,null,{"$f":"SUM(M3747-N3747)","v":0},0,{"$f":"SUM(K3747*150000/2.5)","v":0},{"$f":"SUM(O3747*4000)","v":0},null,null,null,{"$f":"SUM(P3747:S3747)-T3747","v":0},{"$f":"IF(V3747<=0,\"مدفوع\",\"غير مدفوع\")","v":"مدفوع"}]
[null,null,null,null,null,null,null,null,null,null,null,null,null,null,0,0,0,0,null,null,null,0,"مدفوع"]
[null,null,null,null,null,null,null,null,null,null,null,null,null,null,0,{"$f":"IF(L3749=0,0,IF(L3749<=5.5,150000,IF(L3749<=10.5,230000,IF(L3749<=15.5,300000,IF(L3749<=20.5,350000,IF(L3749<=25.5,400000,IF(L3749<=30.5,450000,IF(L3749<=35.5,500000,IF(L3749<=40.5,550000,IF(L3749<=45.5,600000,IF(L3749<=50.5,650000,IF(L3749<=55.5,700000,IF(L3749<=60.5,750000)))))))))))))","v":0},0,0,null,null,null,0,"مدفوع"]
[null,null,null,null,null,null,null,null,null,null,null,null,null,null,0,0,0,0,null,null,null,0,"مدفوع"]
[null,null,null,null,null,null,null,null,null,null,null,null,null,null,0,0,0,0,null,null,null,0,"مدفوع"]
[null,null,null,null,null,null,null,null,null,null,null,null,null,null,0,0,0,0,null,null,null,0,"مدفوع"]
[null,null,null,null,null,null,null,null,null,null,null,null,null,null,0,0,0,0,null,null,null,0,"مدفوع"]
[null,null,null,null,null,null,null,null,null,null,null,null,null,null,0,0,0,0,null,null,null,0,"مدفوع"]
[null,null,null,null,null,null,null,null,null,null,null,null,null,null,0,0,0,0,null,null,null,0,"مدفوع"]
[null,null,null,null,null,null,null,null,null,null,null,null,null,null,0,0,0,0,null,null,null,0,"مدفوع"]
[null,null,null,null,null,null,null,null,null,null,null,null,null,null,0,0,0,0,null,null,null,0,"مدفوع"]
[null,null,null,null,null,null,null,null,null,null,null,null,null,null,0,0,0,0,null,null,null,0,"مدفوع"]
[null,null,null,null,null,null,null,null,null,null,null,null,null,null,0,0,0,0,null,null,null,0,"مدفوع"]
[null,null,null,null,null,null,null,null,null,null,null,null,null,null,0,0,0,0,null,null,null,0,"مدفوع"]
[null,null,null,null,null,null,null,null,null,null,null,null,null,null,0,0,0,0,null,null,null,0,"مدفوع"]
[null,null,null,null,null,null,null,null,null,null,null,null,null,null,0,0,0,0,null,null,null,0,"مدفوع"]
[null,null,null,null,null,null,null,null,null,null,null,null,null,null,0,0,0,0,null,null,null,0,"مدفوع"]
[null,null,null,null,null,null,null,null,null,null,null,null,null,null,0,0,0,0,null,null,null,0,"مدفوع"]
[null,null,null,null,null,null,null,null,null,null,null,null,null,null,0,0,0,0,null,null,null,0,"مدفوع"]
[null,null,null,null,null,null,null,null,null,null,null,null,null,null,0,0,0,0,null,null,null,0,"مدفوع"]
[null,null,null,null,null,null,null,null,null,null,null,null,null,null,0,0,0,0,null,null,null,0,"مدفوع"]
[null,null,null,null,null,null,null,null,null,null,null,null,null,null,0,0,0,0,null,null,null,0,"مدفوع"]
[null,null,null,null,null,null,null,null,null,null,null,null,null,null,0,0,0,0,null,null,null,0,"مدفوع"]
[null,null,null,null,null,null,null,null,null,null,null,null,null,null,0,0,0,0,null,null,null,0,"مدفوع"]
[null,null,null,null,null,null,null,null,null,null,null,null,null,null,0,0,0,0,null,null,null,0,"مدفوع"]
[null,null,null,null,null,null,null,null,null,null,null,null,null,null,0,0,0,0,null,null,null,0,"مدفوع"]
[null,null,null,null,null,null,null,null,null,null,null,null,null,null,0,0,0,0,null,null,null,0,"مدفوع"]
[null,null,null,null,null,null,null,null,null,null,null,null,null,null,0,0,0,0,null,null,null,0,"مدفوع"]
[null,null,null,null,null,null,null,null,null,null,null,null,null,null,0,0,0,0,null,null,null,0,"مدفوع"]

{"sheet":"جداول","index":1,"n_rows":4003,"n_cols":23,"rows_kept":4003,"cut":false,"hidden":false,"merged":[[0,0,2,0],[0,4,2,4],[2,22,3,22],[1,20,1,22],[2,20,3,21],[1,11,1,12],[2,11,3,12],[1,7,1,8],[2,7,2,8],[3,7,3,8],[2,10,3,10],[2,14,3,14],[2,17,3,17],[2,16,3,16]]}
["اليوزرفورم الأول",null,null,null,"اليوزرفورم الثاني"]
[null,null,"",null,null,"جدول جباية عن شهر",null,"شباط",null,null,"رقم العلبة","المبلغ الإجمالي",null,null,"عدد المشتركين",null,"إجمالي أمبير الديجنتير","إجمالي أمبير العداد",null,null,"المبلغ الإجمالي للمنطقة"]
[null,null,"",null,null,"إجمالي المبلغ  بالليرة اللبنانية",null,{"$f":"SUM(V7:V3999)","v":1740000},null,null,107,{"$f":"SUMIFS(V7:V3999,F7:F3999,K3)","v":300000},null,null,{"$f":"MAX(A7:A4000)","v":17},null,{"$f":"SUM(K7:K3999)","v":0},{"$f":"SUM(L7:L3999)","v":70.5},null,null,{"$f":"SUMIFS(V7:V3999,G7:G3999,W3)","v":0},null,"بشامون"]
[]
[]
["الرقم","الإسم","هاتف","رقم الزبون","التاريخ "," كود","المنطقة","الشارع","البناية","الطابق","K","L","M","N","O","السعر","Q","R","S","المبلغ المدفوع","تاريخ الدفعة","المبلغ المطلوب","مدفوع / غير"]
[{"$f":"INDIRECT($H$2&\"!A4\")","v":2},{"$f":"INDIRECT($H$2&\"!b4\")","v":"ابراهيم السعدي"},{"$f":"INDIRECT($H$2&\"!C4\")","v":0},{"$f":"INDIRECT($H$2&\"!D4\")","v":3144},{"$f":"INDIRECT($H$2&\"!E4\")","v":0},{"$f":"INDIRECT($H$2&\"!F4\")","v":"107"},{"$f":"INDIRECT($H$2&\"!G4\")","v":"بيروت"},{"$f":"INDIRECT($H$2&\"!H4\")","v":"العام"},{"$f":"INDIRECT($H$2&\"!I4\")","v":0},{"$f":"INDIRECT($H$2&\"!J4\")","v":0},{"$f":"INDIRECT($H$2&\"!K4\")","v":0},{"$f":"INDIRECT($H$2&\"!L4\")","v":5},{"$f":"INDIRECT($H$2&\"!M4\")","v":0},{"$f":"INDIRECT($H$2&\"!N4\")","v":0},{"$f":"INDIRECT($H$2&\"!O4\")","v":0},{"$f":"INDIRECT($H$2&\"!P4\")","v":150000},{"$f":"INDIRECT($H$2&\"!Q4\")","v":0},{"$f":"INDIRECT($H$2&\"!R4\")","v":0},{"$f":"INDIRECT($H$2&\"!S4\")","v":0},{"$f":"INDIRECT($H$2&\"!T4\")","v":150000},{"$f":"INDIRECT($H$2&\"!U4\")","v":"2021-02-02"},{"$f":"INDIRECT($H$2&\"!V4\")","v":0},{"$f":"IF(V7<=0,\"مدفوع\",\"غير مدفوع\")","v":"مدفوع"}]
[{"$f":"INDIRECT(H2&\"!A5\")","v":5},{"$f":"INDIRECT($H$2&\"!b5\")","v":"ابراهيم ضاهر"},{"$f":"INDIRECT($H$2&\"!C5\")","v":0},{"$f":"INDIRECT($H$2&\"!D5\")","v":3146},{"$f":"INDIRECT($H$2&\"!E5\")","v":0},{"$f":"INDIRECT($H$2&\"!F5\")","v":"107"},{"$f":"INDIRECT($H$2&\"!G5\")","v":"بيروت"},{"$f":"INDIRECT($H$2&\"!H5\")","v":"العام"},{"$f":"INDIRECT($H$2&\"!I5\")","v":0},{"$f":"INDIRECT($H$2&\"!J5\")","v":0},{"$f":"INDIRECT($H$2&\"!K5\")","v":0},{"$f":"INDIRECT($H$2&\"!L5\")","v":3},{"$f":"INDIRECT($H$2&\"!M5\")","v":0},{"$f":"INDIRECT($H$2&\"!N5\")","v":0},{"$f":"INDIRECT($H$2&\"!O5\")","v":0},{"$f":"INDIRECT($H$2&\"!P5\")","v":150000},{"$f":"INDIRECT($H$2&\"!Q5\")","v":0},{"$f":"INDIRECT($H$2&\"!R5\")","v":0},{"$f":"INDIRECT($H$2&\"!S5\")","v":0},{"$f":"INDIRECT($H$2&\"!T4\")","v":150000},{"$f":"INDIRECT($H$2&\"!U5\")","v":"00:00:00"},{"$f":"INDIRECT($H$2&\"!V5\")","v":150000},{"$f":"IF(V8<=0,\"مدفوع\",\"غير مدفوع\")","v":"غير مدفوع"}]
[{"$f":"INDIRECT($H$2&\"!A6\")","v":6},{"$f":"INDIRECT($H$2&\"!b6\")","v":"ابراهيم  الاحمد"},{"$f":"INDIRECT($H$2&\"!C6\")","v":0},{"$f":"INDIRECT($H$2&\"!D6\")","v":3177},{"$f":"INDIRECT($H$2&\"!E6\")","v":0},{"$f":"INDIRECT($H$2&\"!F6\")","v":"112"},{"$f":"INDIRECT($H$2&\"!G6\")","v":"صيدا"},{"$f":"INDIRECT($H$2&\"!H6\")","v":"دوحة عرمون"},{"$f":"INDIRECT($H$2&\"!I6\")","v":0},{"$f":"INDIRECT($H$2&\"!J6\")","v":0},{"$f":"INDIRECT($H$2&\"!K6\")","v":0},{"$f":"INDIRECT($H$2&\"!L6\")","v":5},{"$f":"INDIRECT($H$2&\"!M6\")","v":0},{"$f":"INDIRECT($H$2&\"!N6\")","v":0},{"$f":"INDIRECT($H$2&\"!O6\")","v":0},{"$f":"INDIRECT($H$2&\"!P6\")","v":150000},{"$f":"INDIRECT($H$2&\"!Q6\")","v":0},{"$f":"INDIRECT($H$2&\"!R6\")","v":0},{"$f":"INDIRECT($H$2&\"!S6\")","v":0},{"$f":"INDIRECT($H$2&\"!T6\")","v":150000},{"$f":"INDIRECT($H$2&\"!U6\")","v":"15/06/20211"},{"$f":"INDIRECT($H$2&\"!V6\")","v":0},"مدفوع"]
[{"$f":"INDIRECT($H$2&\"!A7\")","v":7},{"$f":"INDIRECT($H$2&\"!b7\")","v":"ابراهيم  طبارة"},{"$f":"INDIRECT($H$2&\"!C7\")","v":0},{"$f":"INDIRECT($H$2&\"!D7\")","v":5497},{"$f":"INDIRECT($H$2&\"!E7\")","v":0},{"$f":"INDIRECT($H$2&\"!F7\")","v":"112"},{"$f":"INDIRECT($H$2&\"!G7\")","v":"النبطية"},{"$f":"INDIRECT($H$2&\"!H7\")","v":"الرئيسي"},{"$f":"INDIRECT($H$2&\"!I7\")","v":0},{"$f":"INDIRECT($H$2&\"!J7\")","v":0},{"$f":"INDIRECT($H$2&\"!K7\")","v":0},{"$f":"INDIRECT($H$2&\"!L7\")","v":6},{"$f":"INDIRECT($H$2&\"!M7\")","v":0},{"$f":"INDIRECT($H$2&\"!N7\")","v":0},{"$f":"INDIRECT($H$2&\"!O7\")","v":0},{"$f":"INDIRECT($H$2&\"!P7\")","v":230000},{"$f":"INDIRECT($H$2&\"!Q7\")","v":0},{"$f":"INDIRECT($H$2&\"!R7\")","v":0},{"$f":"INDIRECT($H$2&\"!S7\")","v":0},{"$f":"INDIRECT($H$2&\"!T7\")","v":0},{"$f":"INDIRECT($H$2&\"!U7\")","v":"00:00:00"},{"$f":"INDIRECT($H$2&\"!V7\")","v":230000},"غير مدفوع"]
[{"$f":"INDIRECT($H$2&\"!A8\")","v":8},{"$f":"INDIRECT($H$2&\"!b8\")","v":"ابراهيم صعب"},{"$f":"INDIRECT($H$2&\"!C8\")","v":0},{"$f":"INDIRECT($H$2&\"!D8\")","v":9814},{"$f":"INDIRECT($H$2&\"!E8\")","v":0},{"$f":"INDIRECT($H$2&\"!F8\")","v":"102"},{"$f":"INDIRECT($H$2&\"!G8\")","v":"بيروت"},{"$f":"INDIRECT($H$2&\"!H8\")","v":"العام"},{"$f":"INDIRECT($H$2&\"!I8\")","v":0},{"$f":"INDIRECT($H$2&\"!J8\")","v":0},{"$f":"INDIRECT($H$2&\"!K8\")","v":0},{"$f":"INDIRECT($H$2&\"!L8\")","v":2.5},{"$f":"INDIRECT($H$2&\"!M8\")","v":0},{"$f":"INDIRECT($H$2&\"!N8\")","v":0},{"$f":"INDIRECT($H$2&\"!O8\")","v":0},{"$f":"INDIRECT($H$2&\"!P8\")","v":150000},{"$f":"INDIRECT($H$2&\"!Q8\")","v":0},{"$f":"INDIRECT($H$2&\"!R8\")","v":0},{"$f":"INDIRECT($H$2&\"!S8\")","v":0},{"$f":"INDIRECT($H$2&\"!T8\")","v":0},{"$f":"INDIRECT($H$2&\"!U8\")","v":"00:00:00"},{"$f":"INDIRECT($H$2&\"!V8\")","v":150000},"غير مدفوع"]
[{"$f":"INDIRECT($H$2&\"!A9\")","v":9},{"$f":"INDIRECT($H$2&\"!b9\")","v":"ابو علي عقاب  "},{"$f":"INDIRECT($H$2&\"!C9\")","v":0},{"$f":"INDIRECT($H$2&\"!D9\")","v":3186},{"$f":"INDIRECT($H$2&\"!E9\")","v":0},{"$f":"INDIRECT($H$2&\"!F9\")","v":"114"},{"$f":"INDIRECT($H$2&\"!G9\")","v":"بيروت"},{"$f":"INDIRECT($H$2&\"!H9\")","v":"فرحات"},{"$f":"INDIRECT($H$2&\"!I9\")","v":" حاج حسن"},{"$f":"INDIRECT($H$2&\"!J9\")","v":0},{"$f":"INDIRECT($H$2&\"!K9\")","v":0},{"$f":"INDIRECT($H$2&\"!L9\")","v":10},{"$f":"INDIRECT($H$2&\"!M9\")","v":0},{"$f":"INDIRECT($H$2&\"!N9\")","v":0},{"$f":"INDIRECT($H$2&\"!O9\")","v":0},{"$f":"INDIRECT($H$2&\"!P9\")","v":230000},{"$f":"INDIRECT($H$2&\"!Q9\")","v":0},{"$f":"INDIRECT($H$2&\"!R9\")","v":0},{"$f":"INDIRECT($H$2&\"!S9\")","v":0},{"$f":"INDIRECT($H$2&\"!T9\")","v":0},{"$f":"INDIRECT($H$2&\"!U9\")","v":"00:00:00"},{"$f":"INDIRECT($H$2&\"!V9\")","v":230000},"غير مدفوع"]
[{"$f":"INDIRECT($H$2&\"!A10\")","v":10},{"$f":"INDIRECT($H$2&\"!b10\")","v":"احمد الاحمر"},{"$f":"INDIRECT($H$2&\"!C10\")","v":0},{"$f":"INDIRECT($H$2&\"!D10\")","v":10211},{"$f":"INDIRECT($H$2&\"!E10\")","v":0},{"$f":"INDIRECT($H$2&\"!F10\")","v":"104"},{"$f":"INDIRECT($H$2&\"!G10\")","v":"بيروت"},{"$f":"INDIRECT($H$2&\"!H10\")","v":"فرحات"},{"$f":"INDIRECT($H$2&\"!I10\")","v":"سنتر"},{"$f":"INDIRECT($H$2&\"!J10\")","v":0},{"$f":"INDIRECT($H$2&\"!K10\")","v":0},{"$f":"INDIRECT($H$2&\"!L10\")","v":5},{"$f":"INDIRECT($H$2&\"!M10\")","v":0},{"$f":"INDIRECT($H$2&\"!N10\")","v":0},{"$f":"INDIRECT($H$2&\"!O10\")","v":0},{"$f":"INDIRECT($H$2&\"!P10\")","v":150000},{"$f":"INDIRECT($H$2&\"!Q10\")","v":0},{"$f":"INDIRECT($H$2&\"!R10\")","v":0},{"$f":"INDIRECT($H$2&\"!S10\")","v":0},{"$f":"INDIRECT($H$2&\"!T10\")","v":150000},{"$f":"INDIRECT($H$2&\"!U10\")","v":"2021-06-24"},{"$f":"INDIRECT($H$2&\"!V10\")","v":0},"مدفوع"]
[{"$f":"INDIRECT($H$2&\"!A11\")","v":11},{"$f":"INDIRECT($H$2&\"!b11\")","v":"احمد الحمصي"},{"$f":"INDIRECT($H$2&\"!C11\")","v":0},{"$f":"INDIRECT($H$2&\"!D11\")","v":10797},{"$f":"INDIRECT($H$2&\"!E11\")","v":0},{"$f":"INDIRECT($H$2&\"!F11\")","v":"118"},{"$f":"INDIRECT($H$2&\"!G11\")","v":"بيروت"},{"$f":"INDIRECT($H$2&\"!H11\")","v":"فرحات"},{"$f":"INDIRECT($H$2&\"!I11\")","v":0},{"$f":"INDIRECT($H$2&\"!J11\")","v":0},{"$f":"INDIRECT($H$2&\"!K11\")","v":0},{"$f":"INDIRECT($H$2&\"!L11\")","v":5},{"$f":"INDIRECT($H$2&\"!M11\")","v":0},{"$f":"INDIRECT($H$2&\"!N11\")","v":0},{"$f":"INDIRECT($H$2&\"!O11\")","v":0},{"$f":"INDIRECT($H$2&\"!P11\")","v":150000},{"$f":"INDIRECT($H$2&\"!Q11\")","v":0},{"$f":"INDIRECT($H$2&\"!R11\")","v":0},{"$f":"INDIRECT($H$2&\"!S11\")","v":0},{"$f":"INDIRECT($H$2&\"!T11\")","v":0},{"$f":"INDIRECT($H$2&\"!U11\")","v":"00:00:00"},{"$f":"INDIRECT($H$2&\"!V11\")","v":150000},"غير مدفوع"]
[{"$f":"INDIRECT($H$2&\"!A12\")","v":12},{"$f":"INDIRECT($H$2&\"!b12\")","v":"احمد الصالح "},{"$f":"INDIRECT($H$2&\"!C12\")","v":0},{"$f":"INDIRECT($H$2&\"!D12\")","v":5239},{"$f":"INDIRECT($H$2&\"!E12\")","v":0},{"$f":"INDIRECT($H$2&\"!F12\")","v":"108"},{"$f":"INDIRECT($H$2&\"!G12\")","v":"البقاع"},{"$f":"INDIRECT($H$2&\"!H12\")","v":"زحلة"},{"$f":"INDIRECT($H$2&\"!I12\")","v":"صعب 2"},{"$f":"INDIRECT($H$2&\"!J12\")","v":0},{"$f":"INDIRECT($H$2&\"!K12\")","v":0},{"$f":"INDIRECT($H$2&\"!L12\")","v":3},{"$f":"INDIRECT($H$2&\"!M12\")","v":0},{"$f":"INDIRECT($H$2&\"!N12\")","v":0},{"$f":"INDIRECT($H$2&\"!O12\")","v":0},{"$f":"INDIRECT($H$2&\"!P12\")","v":150000},{"$f":"INDIRECT($H$2&\"!Q12\")","v":0},{"$f":"INDIRECT($H$2&\"!R12\")","v":0},{"$f":"INDIRECT($H$2&\"!S12\")","v":0},{"$f":"INDIRECT($H$2&\"!T12\")","v":0},{"$f":"INDIRECT($H$2&\"!U12\")","v":"00:00:00"},{"$f":"INDIRECT($H$2&\"!V12\")","v":150000},"غير مدفوع"]
[{"$f":"INDIRECT($H$2&\"!A13\")","v":13},{"$f":"INDIRECT($H$2&\"!b13\")","v":"احمد تنير"},{"$f":"INDIRECT($H$2&\"!C13\")","v":0},{"$f":"INDIRECT($H$2&\"!D13\")","v":10801},{"$f":"INDIRECT($H$2&\"!E13\")","v":0},{"$f":"INDIRECT($H$2&\"!F13\")","v":"118"},{"$f":"INDIRECT($H$2&\"!G13\")","v":"البقاع"},{"$f":"INDIRECT($H$2&\"!H13\")","v":"زحلة"},{"$f":"INDIRECT($H$2&\"!I13\")","v":"العميد"},{"$f":"INDIRECT($H$2&\"!J13\")","v":0},{"$f":"INDIRECT($H$2&\"!K13\")","v":0},{"$f":"INDIRECT($H$2&\"!L13\")","v":5},{"$f":"INDIRECT($H$2&\"!M13\")","v":0},{"$f":"INDIRECT($H$2&\"!N13\")","v":0},{"$f":"INDIRECT($H$2&\"!O13\")","v":0},{"$f":"INDIRECT($H$2&\"!P13\")","v":150000},{"$f":"INDIRECT($H$2&\"!Q13\")","v":0},{"$f":"INDIRECT($H$2&\"!R13\")","v":0},{"$f":"INDIRECT($H$2&\"!S13\")","v":0},{"$f":"INDIRECT($H$2&\"!T13\")","v":0},{"$f":"INDIRECT($H$2&\"!U13\")","v":"00:00:00"},{"$f":"INDIRECT($H$2&\"!V13\")","v":150000},"غير مدفوع"]
[{"$f":"INDIRECT($H$2&\"!A14\")","v":14},{"$f":"INDIRECT($H$2&\"!b14\")","v":"احمد جعفر"},{"$f":"INDIRECT($H$2&\"!C14\")","v":0},{"$f":"INDIRECT($H$2&\"!D14\")","v":10196},{"$f":"INDIRECT($H$2&\"!E14\")","v":0},{"$f":"INDIRECT($H$2&\"!F14\")","v":"132"},{"$f":"INDIRECT($H$2&\"!G14\")","v":"بيروت"},{"$f":"INDIRECT($H$2&\"!H14\")","v":"فرحات"},{"$f":"INDIRECT($H$2&\"!I14\")","v":"نعمة عيد"},{"$f":"INDIRECT($H$2&\"!J14\")","v":0},{"$f":"INDIRECT($H$2&\"!K14\")","v":0},{"$f":"INDIRECT($H$2&\"!L14\")","v":5},{"$f":"INDIRECT($H$2&\"!M14\")","v":0},{"$f":"INDIRECT($H$2&\"!N14\")","v":0},{"$f":"INDIRECT($H$2&\"!O14\")","v":0},{"$f":"INDIRECT($H$2&\"!P14\")","v":150000},{"$f":"INDIRECT($H$2&\"!Q14\")","v":0},{"$f":"INDIRECT($H$2&\"!R14\")","v":0},{"$f":"INDIRECT($H$2&\"!S14\")","v":0},{"$f":"INDIRECT($H$2&\"!T14\")","v":0},{"$f":"INDIRECT($H$2&\"!U14\")","v":"00:00:00"},{"$f":"INDIRECT($H$2&\"!V14\")","v":150000},"غير مدفوع"]
[{"$f":"INDIRECT($H$2&\"!A15\")","v":15},{"$f":"INDIRECT($H$2&\"!b15\")","v":"احمد  عيتاني"},{"$f":"INDIRECT($H$2&\"!C15\")","v":0},{"$f":"INDIRECT($H$2&\"!D15\")","v":11038},{"$f":"INDIRECT($H$2&\"!E15\")","v":0},{"$f":"INDIRECT($H$2&\"!F15\")","v":"107"},{"$f":"INDIRECT($H$2&\"!G15\")","v":"بيروت"},{"$f":"INDIRECT($H$2&\"!H15\")","v":"فرحات"},{"$f":"INDIRECT($H$2&\"!I15\")","v":0},{"$f":"INDIRECT($H$2&\"!J15\")","v":0},{"$f":"INDIRECT($H$2&\"!K15\")","v":0},{"$f":"INDIRECT($H$2&\"!L15\")","v":5},{"$f":"INDIRECT($H$2&\"!M15\")","v":0},{"$f":"INDIRECT($H$2&\"!N15\")","v":0},{"$f":"INDIRECT($H$2&\"!O15\")","v":0},{"$f":"INDIRECT($H$2&\"!P15\")","v":150000},{"$f":"INDIRECT($H$2&\"!Q15\")","v":0},{"$f":"INDIRECT($H$2&\"!R15\")","v":0},{"$f":"INDIRECT($H$2&\"!S15\")","v":0},{"$f":"INDIRECT($H$2&\"!T15\")","v":0},{"$f":"INDIRECT($H$2&\"!U15\")","v":"00:00:00"},{"$f":"INDIRECT($H$2&\"!V15\")","v":150000},"غير مدفوع"]
[{"$f":"INDIRECT($H$2&\"!A16\")","v":16},{"$f":"INDIRECT($H$2&\"!b16\")","v":"احمد حسن "},{"$f":"INDIRECT($H$2&\"!C16\")","v":0},{"$f":"INDIRECT($H$2&\"!D16\")","v":3599},{"$f":"INDIRECT($H$2&\"!E16\")","v":0},{"$f":"INDIRECT($H$2&\"!F16\")","v":"122"},{"$f":"INDIRECT($H$2&\"!G16\")","v":"بيروت"},{"$f":"INDIRECT($H$2&\"!H16\")","v":"فرحات"},{"$f":"INDIRECT($H$2&\"!I16\")","v":0},{"$f":"INDIRECT($H$2&\"!J16\")","v":0},{"$f":"INDIRECT($H$2&\"!K16\")","v":0},{"$f":"INDIRECT($H$2&\"!L16\")","v":5},{"$f":"INDIRECT($H$2&\"!M16\")","v":0},{"$f":"INDIRECT($H$2&\"!N16\")","v":0},{"$f":"INDIRECT($H$2&\"!O16\")","v":0},{"$f":"INDIRECT($H$2&\"!P16\")","v":150000},{"$f":"INDIRECT($H$2&\"!Q16\")","v":0},{"$f":"INDIRECT($H$2&\"!R16\")","v":0},{"$f":"INDIRECT($H$2&\"!S16\")","v":0},{"$f":"INDIRECT($H$2&\"!T16\")","v":150000},{"$f":"INDIRECT($H$2&\"!U16\")","v":"2021-04-14"},{"$f":"INDIRECT($H$2&\"!V16\")","v":0},"مدفوع"]
[{"$f":"INDIRECT($H$2&\"!A17\")","v":17},{"$f":"INDIRECT($H$2&\"!b17\")","v":"احمد  طعمة"},{"$f":"INDIRECT($H$2&\"!C17\")","v":0},{"$f":"INDIRECT($H$2&\"!D17\")","v":3163},{"$f":"INDIRECT($H$2&\"!E17\")","v":0},{"$f":"INDIRECT($H$2&\"!F17\")","v":"109"},{"$f":"INDIRECT($H$2&\"!G17\")","v":"بيروت"},{"$f":"INDIRECT($H$2&\"!H17\")","v":"فرحات"},{"$f":"INDIRECT($H$2&\"!I17\")","v":"صعب 3"},{"$f":"INDIRECT($H$2&\"!J17\")","v":0},{"$f":"INDIRECT($H$2&\"!K17\")","v":0},{"$f":"INDIRECT($H$2&\"!L17\")","v":6},{"$f":"INDIRECT($H$2&\"!M17\")","v":0},{"$f":"INDIRECT($H$2&\"!N17\")","v":0},{"$f":"INDIRECT($H$2&\"!O17\")","v":0},{"$f":"INDIRECT($H$2&\"!P17\")","v":230000},{"$f":"INDIRECT($H$2&\"!Q17\")","v":0},{"$f":"INDIRECT($H$2&\"!R17\")","v":0},{"$f":"INDIRECT($H$2&\"!S17\")","v":0},{"$f":"INDIRECT($H$2&\"!T17\")","v":0},{"$f":"INDIRECT($H$2&\"!U17\")","v":"00:00:00"},{"$f":"INDIRECT($H$2&\"!V17\")","v":230000},"غير مدفوع"]
[{"$f":"INDIRECT($H$2&\"!A18\")","v":0},{"$f":"INDIRECT($H$2&\"!b18\")","v":0},{"$f":"INDIRECT($H$2&\"!C18\")","v":0},{"$f":"INDIRECT($H$2&\"!D18\")","v":0},{"$f":"INDIRECT($H$2&\"!E18\")","v":0},{"$f":"INDIRECT($H$2&\"!F18\")","v":0},{"$f":"INDIRECT($H$2&\"!G18\")","v":0},{"$f":"INDIRECT($H$2&\"!H18\")","v":0},{"$f":"INDIRECT($H$2&\"!I18\")","v":0},{"$f":"INDIRECT($H$2&\"!J18\")","v":0},{"$f":"INDIRECT($H$2&\"!K18\")","v":0},{"$f":"INDIRECT($H$2&\"!L18\")","v":0},{"$f":"INDIRECT($H$2&\"!M18\")","v":0},{"$f":"INDIRECT($H$2&\"!N18\")","v":0},{"$f":"INDIRECT($H$2&\"!O18\")","v":0},{"$f":"INDIRECT($H$2&\"!P18\")","v":0},{"$f":"INDIRECT($H$2&\"!Q18\")","v":0},{"$f":"INDIRECT($H$2&\"!R18\")","v":0},{"$f":"INDIRECT($H$2&\"!S18\")","v":0},{"$f":"INDIRECT($H$2&\"!T18\")","v":0},{"$f":"INDIRECT($H$2&\"!U18\")","v":"00:00:00"},{"$f":"INDIRECT($H$2&\"!V18\")","v":0},"مدفوع"]
[{"$f":"INDIRECT($H$2&\"!A19\")","v":0},{"$f":"INDIRECT($H$2&\"!b19\")","v":0},{"$f":"INDIRECT($H$2&\"!C19\")","v":0},{"$f":"INDIRECT($H$2&\"!D19\")","v":0},{"$f":"INDIRECT($H$2&\"!E19\")","v":0},{"$f":"INDIRECT($H$2&\"!F19\")","v":0},{"$f":"INDIRECT($H$2&\"!G19\")","v":0},{"$f":"INDIRECT($H$2&\"!H19\")","v":0},{"$f":"INDIRECT($H$2&\"!I19\")","v":0},{"$f":"INDIRECT($H$2&\"!J19\")","v":0},{"$f":"INDIRECT($H$2&\"!K19\")","v":0},{"$f":"INDIRECT($H$2&\"!L19\")","v":0},{"$f":"INDIRECT($H$2&\"!M19\")","v":0},{"$f":"INDIRECT($H$2&\"!N19\")","v":0},{"$f":"INDIRECT($H$2&\"!O19\")","v":0},{"$f":"INDIRECT($H$2&\"!P19\")","v":0},{"$f":"INDIRECT($H$2&\"!Q19\")","v":0},{"$f":"INDIRECT($H$2&\"!R19\")","v":0},{"$f":"INDIRECT($H$2&\"!S19\")","v":0},{"$f":"INDIRECT($H$2&\"!T19\")","v":0},{"$f":"INDIRECT($H$2&\"!U19\")","v":"00:00:00"},{"$f":"INDIRECT($H$2&\"!V19\")","v":0},"مدفوع"]
[{"$f":"INDIRECT($H$2&\"!A20\")","v":0},{"$f":"INDIRECT($H$2&\"!b20\")","v":0},{"$f":"INDIRECT($H$2&\"!C20\")","v":0},{"$f":"INDIRECT($H$2&\"!D20\")","v":0},{"$f":"INDIRECT($H$2&\"!E20\")","v":0},{"$f":"INDIRECT($H$2&\"!F20\")","v":0},{"$f":"INDIRECT($H$2&\"!G20\")","v":0},{"$f":"INDIRECT($H$2&\"!H20\")","v":0},{"$f":"INDIRECT($H$2&\"!I20\")","v":0},{"$f":"INDIRECT($H$2&\"!J20\")","v":0},{"$f":"INDIRECT($H$2&\"!K20\")","v":0},{"$f":"INDIRECT($H$2&\"!L20\")","v":0},{"$f":"INDIRECT($H$2&\"!M20\")","v":0},{"$f":"INDIRECT($H$2&\"!N20\")","v":0},{"$f":"INDIRECT($H$2&\"!O20\")","v":0},{"$f":"INDIRECT($H$2&\"!P20\")","v":0},{"$f":"INDIRECT($H$2&\"!Q20\")","v":0},{"$f":"INDIRECT($H$2&\"!R20\")","v":0},{"$f":"INDIRECT($H$2&\"!S20\")","v":0},{"$f":"INDIRECT($H$2&\"!T20\")","v":0},{"$f":"INDIRECT($H$2&\"!U20\")","v":"00:00:00"},{"$f":"INDIRECT($H$2&\"!V20\")","v":0},"مدفوع"]
[{"$f":"INDIRECT($H$2&\"!A21\")","v":0},{"$f":"INDIRECT($H$2&\"!b21\")","v":0},{"$f":"INDIRECT($H$2&\"!C21\")","v":0},{"$f":"INDIRECT($H$2&\"!D21\")","v":0},{"$f":"INDIRECT($H$2&\"!E21\")","v":0},{"$f":"INDIRECT($H$2&\"!F21\")","v":0},{"$f":"INDIRECT($H$2&\"!G21\")","v":0},{"$f":"INDIRECT($H$2&\"!H21\")","v":0},{"$f":"INDIRECT($H$2&\"!I21\")","v":0},{"$f":"INDIRECT($H$2&\"!J21\")","v":0},{"$f":"INDIRECT($H$2&\"!K21\")","v":0},{"$f":"INDIRECT($H$2&\"!L21\")","v":0},{"$f":"INDIRECT($H$2&\"!M21\")","v":0},{"$f":"INDIRECT($H$2&\"!N21\")","v":0},{"$f":"INDIRECT($H$2&\"!O21\")","v":0},{"$f":"INDIRECT($H$2&\"!P21\")","v":0},{"$f":"INDIRECT($H$2&\"!Q21\")","v":0},{"$f":"INDIRECT($H$2&\"!R21\")","v":0},{"$f":"INDIRECT($H$2&\"!S21\")","v":0},{"$f":"INDIRECT($H$2&\"!T21\")","v":0},{"$f":"INDIRECT($H$2&\"!U21\")","v":"00:00:00"},{"$f":"INDIRECT($H$2&\"!V21\")","v":0},"مدفوع"]
[{"$f":"INDIRECT($H$2&\"!A22\")","v":0},{"$f":"INDIRECT($H$2&\"!b22\")","v":0},{"$f":"INDIRECT($H$2&\"!C22\")","v":0},{"$f":"INDIRECT($H$2&\"!D22\")","v":0},{"$f":"INDIRECT($H$2&\"!E22\")","v":0},{"$f":"INDIRECT($H$2&\"!F22\")","v":0},{"$f":"INDIRECT($H$2&\"!G22\")","v":0},{"$f":"INDIRECT($H$2&\"!H22\")","v":0},{"$f":"INDIRECT($H$2&\"!I22\")","v":0},{"$f":"INDIRECT($H$2&\"!J22\")","v":0},{"$f":"INDIRECT($H$2&\"!K22\")","v":0},{"$f":"INDIRECT($H$2&\"!L22\")","v":0},{"$f":"INDIRECT($H$2&\"!M22\")","v":0},{"$f":"INDIRECT($H$2&\"!N22\")","v":0},{"$f":"INDIRECT($H$2&\"!O22\")","v":0},{"$f":"INDIRECT($H$2&\"!P22\")","v":0},{"$f":"INDIRECT($H$2&\"!Q22\")","v":0},{"$f":"INDIRECT($H$2&\"!R22\")","v":0},{"$f":"INDIRECT($H$2&\"!S22\")","v":0},{"$f":"INDIRECT($H$2&\"!T22\")","v":0},{"$f":"INDIRECT($H$2&\"!U22\")","v":"00:00:00"},{"$f":"INDIRECT($H$2&\"!V22\")","v":0},"مدفوع"]
[{"$f":"INDIRECT($H$2&\"!A23\")","v":0},{"$f":"INDIRECT($H$2&\"!b23\")","v":0},{"$f":"INDIRECT($H$2&\"!C23\")","v":0},{"$f":"INDIRECT($H$2&\"!D23\")","v":0},{"$f":"INDIRECT($H$2&\"!E23\")","v":0},{"$f":"INDIRECT($H$2&\"!F23\")","v":0},{"$f":"INDIRECT($H$2&\"!G23\")","v":0},{"$f":"INDIRECT($H$2&\"!H23\")","v":0},{"$f":"INDIRECT($H$2&\"!I23\")","v":0},{"$f":"INDIRECT($H$2&\"!J23\")","v":0},{"$f":"INDIRECT($H$2&\"!K23\")","v":0},{"$f":"INDIRECT($H$2&\"!L23\")","v":0},{"$f":"INDIRECT($H$2&\"!M23\")","v":0},{"$f":"INDIRECT($H$2&\"!N23\")","v":0},{"$f":"INDIRECT($H$2&\"!O23\")","v":0},{"$f":"INDIRECT($H$2&\"!P23\")","v":0},{"$f":"INDIRECT($H$2&\"!Q23\")","v":0},{"$f":"INDIRECT($H$2&\"!R23\")","v":0},{"$f":"INDIRECT($H$2&\"!S23\")","v":0},{"$f":"INDIRECT($H$2&\"!T23\")","v":0},{"$f":"INDIRECT($H$2&\"!U23\")","v":"00:00:00"},{"$f":"INDIRECT($H$2&\"!V23\")","v":0},"مدفوع"]
[{"$f":"INDIRECT($H$2&\"!A24\")","v":0},{"$f":"INDIRECT($H$2&\"!b24\")","v":0},{"$f":"INDIRECT($H$2&\"!C24\")","v":0},{"$f":"INDIRECT($H$2&\"!D24\")","v":0},{"$f":"INDIRECT($H$2&\"!E24\")","v":0},{"$f":"INDIRECT($H$2&\"!F24\")","v":0},{"$f":"INDIRECT($H$2&\"!G24\")","v":0},{"$f":"INDIRECT($H$2&\"!H24\")","v":0},{"$f":"INDIRECT($H$2&\"!I24\")","v":0},{"$f":"INDIRECT($H$2&\"!J24\")","v":0},{"$f":"INDIRECT($H$2&\"!K24\")","v":0},{"$f":"INDIRECT($H$2&\"!L24\")","v":0},{"$f":"INDIRECT($H$2&\"!M24\")","v":0},{"$f":"INDIRECT($H$2&\"!N24\")","v":0},{"$f":"INDIRECT($H$2&\"!O24\")","v":0},{"$f":"INDIRECT($H$2&\"!P24\")","v":0},{"$f":"INDIRECT($H$2&\"!Q24\")","v":0},{"$f":"INDIRECT($H$2&\"!R24\")","v":0},{"$f":"INDIRECT($H$2&\"!S24\")","v":0},{"$f":"INDIRECT($H$2&\"!T24\")","v":0},{"$f":"INDIRECT($H$2&\"!U24\")","v":"00:00:00"},{"$f":"INDIRECT($H$2&\"!V24\")","v":0},"مدفوع"]
[{"$f":"INDIRECT($H$2&\"!A25\")","v":0},{"$f":"INDIRECT($H$2&\"!b25\")","v":0},{"$f":"INDIRECT($H$2&\"!C25\")","v":0},{"$f":"INDIRECT($H$2&\"!D25\")","v":0},{"$f":"INDIRECT($H$2&\"!E25\")","v":0},{"$f":"INDIRECT($H$2&\"!F25\")","v":0},{"$f":"INDIRECT($H$2&\"!G25\")","v":0},{"$f":"INDIRECT($H$2&\"!H25\")","v":0},{"$f":"INDIRECT($H$2&\"!I25\")","v":0},{"$f":"INDIRECT($H$2&\"!J25\")","v":0},{"$f":"INDIRECT($H$2&\"!K25\")","v":0},{"$f":"INDIRECT($H$2&\"!L25\")","v":0},{"$f":"INDIRECT($H$2&\"!M25\")","v":0},{"$f":"INDIRECT($H$2&\"!N25\")","v":0},{"$f":"INDIRECT($H$2&\"!O25\")","v":0},{"$f":"INDIRECT($H$2&\"!P25\")","v":0},{"$f":"INDIRECT($H$2&\"!Q25\")","v":0},{"$f":"INDIRECT($H$2&\"!R25\")","v":0},{"$f":"INDIRECT($H$2&\"!S25\")","v":0},{"$f":"INDIRECT($H$2&\"!T25\")","v":0},{"$f":"INDIRECT($H$2&\"!U25\")","v":"00:00:00"},{"$f":"INDIRECT($H$2&\"!V25\")","v":0},"مدفوع"]
[{"$f":"INDIRECT($H$2&\"!A26\")","v":0},{"$f":"INDIRECT($H$2&\"!b26\")","v":0},{"$f":"INDIRECT($H$2&\"!C26\")","v":0},{"$f":"INDIRECT($H$2&\"!D26\")","v":0},{"$f":"INDIRECT($H$2&\"!E26\")","v":0},{"$f":"INDIRECT($H$2&\"!F26\")","v":0},{"$f":"INDIRECT($H$2&\"!G26\")","v":0},{"$f":"INDIRECT($H$2&\"!H26\")","v":0},{"$f":"INDIRECT($H$2&\"!I26\")","v":0},{"$f":"INDIRECT($H$2&\"!J26\")","v":0},{"$f":"INDIRECT($H$2&\"!K26\")","v":0},{"$f":"INDIRECT($H$2&\"!L26\")","v":0},{"$f":"INDIRECT($H$2&\"!M26\")","v":0},{"$f":"INDIRECT($H$2&\"!N26\")","v":0},{"$f":"INDIRECT($H$2&\"!O26\")","v":0},{"$f":"INDIRECT($H$2&\"!P26\")","v":0},{"$f":"INDIRECT($H$2&\"!Q26\")","v":0},{"$f":"INDIRECT($H$2&\"!R26\")","v":0},{"$f":"INDIRECT($H$2&\"!S26\")","v":0},{"$f":"INDIRECT($H$2&\"!T26\")","v":0},{"$f":"INDIRECT($H$2&\"!U26\")","v":"00:00:00"},{"$f":"INDIRECT($H$2&\"!V26\")","v":0},"مدفوع"]
[{"$f":"INDIRECT($H$2&\"!A27\")","v":0},{"$f":"INDIRECT($H$2&\"!b27\")","v":0},{"$f":"INDIRECT($H$2&\"!C27\")","v":0},{"$f":"INDIRECT($H$2&\"!D27\")","v":0},{"$f":"INDIRECT($H$2&\"!E27\")","v":0},{"$f":"INDIRECT($H$2&\"!F27\")","v":0},{"$f":"INDIRECT($H$2&\"!G27\")","v":0},{"$f":"INDIRECT($H$2&\"!H27\")","v":0},{"$f":"INDIRECT($H$2&\"!I27\")","v":0},{"$f":"INDIRECT($H$2&\"!J27\")","v":0},{"$f":"INDIRECT($H$2&\"!K27\")","v":0},{"$f":"INDIRECT($H$2&\"!L27\")","v":0},{"$f":"INDIRECT($H$2&\"!M27\")","v":0},{"$f":"INDIRECT($H$2&\"!N27\")","v":0},{"$f":"INDIRECT($H$2&\"!O27\")","v":0},{"$f":"INDIRECT($H$2&\"!P27\")","v":0},{"$f":"INDIRECT($H$2&\"!Q27\")","v":0},{"$f":"INDIRECT($H$2&\"!R27\")","v":0},{"$f":"INDIRECT($H$2&\"!S27\")","v":0},{"$f":"INDIRECT($H$2&\"!T27\")","v":0},{"$f":"INDIRECT($H$2&\"!U27\")","v":"00:00:00"},{"$f":"INDIRECT($H$2&\"!V27\")","v":0},"مدفوع"]
[{"$f":"INDIRECT($H$2&\"!A28\")","v":0},{"$f":"INDIRECT($H$2&\"!b28\")","v":0},{"$f":"INDIRECT($H$2&\"!C28\")","v":0},{"$f":"INDIRECT($H$2&\"!D28\")","v":0},{"$f":"INDIRECT($H$2&\"!E28\")","v":0},{"$f":"INDIRECT($H$2&\"!F28\")","v":0},{"$f":"INDIRECT($H$2&\"!G28\")","v":0},{"$f":"INDIRECT($H$2&\"!H28\")","v":0},{"$f":"INDIRECT($H$2&\"!I28\")","v":0},{"$f":"INDIRECT($H$2&\"!J28\")","v":0},{"$f":"INDIRECT($H$2&\"!K28\")","v":0},{"$f":"INDIRECT($H$2&\"!L28\")","v":0},{"$f":"INDIRECT($H$2&\"!M28\")","v":0},{"$f":"INDIRECT($H$2&\"!N28\")","v":0},{"$f":"INDIRECT($H$2&\"!O28\")","v":0},{"$f":"INDIRECT($H$2&\"!P28\")","v":0},{"$f":"INDIRECT($H$2&\"!Q28\")","v":0},{"$f":"INDIRECT($H$2&\"!R28\")","v":0},{"$f":"INDIRECT($H$2&\"!S28\")","v":0},{"$f":"INDIRECT($H$2&\"!T28\")","v":0},{"$f":"INDIRECT($H$2&\"!U28\")","v":"00:00:00"},{"$f":"INDIRECT($H$2&\"!V28\")","v":0},"مدفوع"]
[{"$f":"INDIRECT($H$2&\"!A29\")","v":0},{"$f":"INDIRECT($H$2&\"!b29\")","v":0},{"$f":"INDIRECT($H$2&\"!C29\")","v":0},{"$f":"INDIRECT($H$2&\"!D29\")","v":0},{"$f":"INDIRECT($H$2&\"!E29\")","v":0},{"$f":"INDIRECT($H$2&\"!F29\")","v":0},{"$f":"INDIRECT($H$2&\"!G29\")","v":0},{"$f":"INDIRECT($H$2&\"!H29\")","v":0},{"$f":"INDIRECT($H$2&\"!I29\")","v":0},{"$f":"INDIRECT($H$2&\"!J29\")","v":0},{"$f":"INDIRECT($H$2&\"!K29\")","v":0},{"$f":"INDIRECT($H$2&\"!L29\")","v":0},{"$f":"INDIRECT($H$2&\"!M29\")","v":0},{"$f":"INDIRECT($H$2&\"!N29\")","v":0},{"$f":"INDIRECT($H$2&\"!O29\")","v":0},{"$f":"INDIRECT($H$2&\"!P29\")","v":0},{"$f":"INDIRECT($H$2&\"!Q29\")","v":0},{"$f":"INDIRECT($H$2&\"!R29\")","v":0},{"$f":"INDIRECT($H$2&\"!S29\")","v":0},{"$f":"INDIRECT($H$2&\"!T29\")","v":0},{"$f":"INDIRECT($H$2&\"!U29\")","v":"00:00:00"},{"$f":"INDIRECT($H$2&\"!V29\")","v":0},"مدفوع"]
[{"$f":"INDIRECT($H$2&\"!A30\")","v":0},{"$f":"INDIRECT($H$2&\"!b30\")","v":0},{"$f":"INDIRECT($H$2&\"!C30\")","v":0},{"$f":"INDIRECT($H$2&\"!D30\")","v":0},{"$f":"INDIRECT($H$2&\"!E30\")","v":0},{"$f":"INDIRECT($H$2&\"!F30\")","v":0},{"$f":"INDIRECT($H$2&\"!G30\")","v":0},{"$f":"INDIRECT($H$2&\"!H30\")","v":0},{"$f":"INDIRECT($H$2&\"!I30\")","v":0},{"$f":"INDIRECT($H$2&\"!J30\")","v":0},{"$f":"INDIRECT($H$2&\"!K30\")","v":0},{"$f":"INDIRECT($H$2&\"!L30\")","v":0},{"$f":"INDIRECT($H$2&\"!M30\")","v":0},{"$f":"INDIRECT($H$2&\"!N30\")","v":0},{"$f":"INDIRECT($H$2&\"!O30\")","v":0},{"$f":"INDIRECT($H$2&\"!P30\")","v":0},{"$f":"INDIRECT($H$2&\"!Q30\")","v":0},{"$f":"INDIRECT($H$2&\"!R30\")","v":0},{"$f":"INDIRECT($H$2&\"!S30\")","v":0},{"$f":"INDIRECT($H$2&\"!T30\")","v":0},{"$f":"INDIRECT($H$2&\"!U30\")","v":"00:00:00"},{"$f":"INDIRECT($H$2&\"!V30\")","v":0},"مدفوع"]
[{"$f":"INDIRECT($H$2&\"!A31\")","v":0},{"$f":"INDIRECT($H$2&\"!b31\")","v":0},{"$f":"INDIRECT($H$2&\"!C31\")","v":0},{"$f":"INDIRECT($H$2&\"!D31\")","v":0},{"$f":"INDIRECT($H$2&\"!E31\")","v":0},{"$f":"INDIRECT($H$2&\"!F31\")","v":0},{"$f":"INDIRECT($H$2&\"!G31\")","v":0},{"$f":"INDIRECT($H$2&\"!H31\")","v":0},{"$f":"INDIRECT($H$2&\"!I31\")","v":0},{"$f":"INDIRECT($H$2&\"!J31\")","v":0},{"$f":"INDIRECT($H$2&\"!K31\")","v":0},{"$f":"INDIRECT($H$2&\"!L31\")","v":0},{"$f":"INDIRECT($H$2&\"!M31\")","v":0},{"$f":"INDIRECT($H$2&\"!N31\")","v":0},{"$f":"INDIRECT($H$2&\"!O31\")","v":0},{"$f":"INDIRECT($H$2&\"!P31\")","v":0},{"$f":"INDIRECT($H$2&\"!Q31\")","v":0},{"$f":"INDIRECT($H$2&\"!R31\")","v":0},{"$f":"INDIRECT($H$2&\"!S31\")","v":0},{"$f":"INDIRECT($H$2&\"!T31\")","v":0},{"$f":"INDIRECT($H$2&\"!U31\")","v":"00:00:00"},{"$f":"INDIRECT($H$2&\"!V31\")","v":0},"مدفوع"]
[{"$f":"INDIRECT($H$2&\"!A32\")","v":0},{"$f":"INDIRECT($H$2&\"!b32\")","v":0},{"$f":"INDIRECT($H$2&\"!C32\")","v":0},{"$f":"INDIRECT($H$2&\"!D32\")","v":0},{"$f":"INDIRECT($H$2&\"!E32\")","v":0},{"$f":"INDIRECT($H$2&\"!F32\")","v":0},{"$f":"INDIRECT($H$2&\"!G32\")","v":0},{"$f":"INDIRECT($H$2&\"!H32\")","v":0},{"$f":"INDIRECT($H$2&\"!I32\")","v":0},{"$f":"INDIRECT($H$2&\"!J32\")","v":0},{"$f":"INDIRECT($H$2&\"!K32\")","v":0},{"$f":"INDIRECT($H$2&\"!L32\")","v":0},{"$f":"INDIRECT($H$2&\"!M32\")","v":0},{"$f":"INDIRECT($H$2&\"!N32\")","v":0},{"$f":"INDIRECT($H$2&\"!O32\")","v":0},{"$f":"INDIRECT($H$2&\"!P32\")","v":0},{"$f":"INDIRECT($H$2&\"!Q32\")","v":0},{"$f":"INDIRECT($H$2&\"!R32\")","v":0},{"$f":"INDIRECT($H$2&\"!S32\")","v":0},{"$f":"INDIRECT($H$2&\"!T32\")","v":0},{"$f":"INDIRECT($H$2&\"!U32\")","v":"00:00:00"},{"$f":"INDIRECT($H$2&\"!V32\")","v":0},"مدفوع"]
[{"$f":"INDIRECT($H$2&\"!A33\")","v":0},{"$f":"INDIRECT($H$2&\"!b33\")","v":0},{"$f":"INDIRECT($H$2&\"!C33\")","v":0},{"$f":"INDIRECT($H$2&\"!D33\")","v":0},{"$f":"INDIRECT($H$2&\"!E33\")","v":0},{"$f":"INDIRECT($H$2&\"!F33\")","v":0},{"$f":"INDIRECT($H$2&\"!G33\")","v":0},{"$f":"INDIRECT($H$2&\"!H33\")","v":0},{"$f":"INDIRECT($H$2&\"!I33\")","v":0},{"$f":"INDIRECT($H$2&\"!J33\")","v":0},{"$f":"INDIRECT($H$2&\"!K33\")","v":0},{"$f":"INDIRECT($H$2&\"!L33\")","v":0},{"$f":"INDIRECT($H$2&\"!M33\")","v":0},{"$f":"INDIRECT($H$2&\"!N33\")","v":0},{"$f":"INDIRECT($H$2&\"!O33\")","v":0},{"$f":"INDIRECT($H$2&\"!P33\")","v":0},{"$f":"INDIRECT($H$2&\"!Q33\")","v":0},{"$f":"INDIRECT($H$2&\"!R33\")","v":0},{"$f":"INDIRECT($H$2&\"!S33\")","v":0},{"$f":"INDIRECT($H$2&\"!T33\")","v":0},{"$f":"INDIRECT($H$2&\"!U33\")","v":"00:00:00"},{"$f":"INDIRECT($H$2&\"!V33\")","v":0},"مدفوع"]
[{"$f":"INDIRECT($H$2&\"!A34\")","v":0},{"$f":"INDIRECT($H$2&\"!b34\")","v":0},{"$f":"INDIRECT($H$2&\"!C34\")","v":0},{"$f":"INDIRECT($H$2&\"!D34\")","v":0},{"$f":"INDIRECT($H$2&\"!E34\")","v":0},{"$f":"INDIRECT($H$2&\"!F34\")","v":0},{"$f":"INDIRECT($H$2&\"!G34\")","v":0},{"$f":"INDIRECT($H$2&\"!H34\")","v":0},{"$f":"INDIRECT($H$2&\"!I34\")","v":0},{"$f":"INDIRECT($H$2&\"!J34\")","v":0},{"$f":"INDIRECT($H$2&\"!K34\")","v":0},{"$f":"INDIRECT($H$2&\"!L34\")","v":0},{"$f":"INDIRECT($H$2&\"!M34\")","v":0},{"$f":"INDIRECT($H$2&\"!N34\")","v":0},{"$f":"INDIRECT($H$2&\"!O34\")","v":0},{"$f":"INDIRECT($H$2&\"!P34\")","v":0},{"$f":"INDIRECT($H$2&\"!Q34\")","v":0},{"$f":"INDIRECT($H$2&\"!R34\")","v":0},{"$f":"INDIRECT($H$2&\"!S34\")","v":0},{"$f":"INDIRECT($H$2&\"!T34\")","v":0},{"$f":"INDIRECT($H$2&\"!U34\")","v":"00:00:00"},{"$f":"INDIRECT($H$2&\"!V34\")","v":0},"مدفوع"]
[{"$f":"INDIRECT($H$2&\"!A35\")","v":0},{"$f":"INDIRECT($H$2&\"!b35\")","v":0},{"$f":"INDIRECT($H$2&\"!C35\")","v":0},{"$f":"INDIRECT($H$2&\"!D35\")","v":0},{"$f":"INDIRECT($H$2&\"!E35\")","v":0},{"$f":"INDIRECT($H$2&\"!F35\")","v":0},{"$f":"INDIRECT($H$2&\"!G35\")","v":0},{"$f":"INDIRECT($H$2&\"!H35\")","v":0},{"$f":"INDIRECT($H$2&\"!I35\")","v":0},{"$f":"INDIRECT($H$2&\"!J35\")","v":0},{"$f":"INDIRECT($H$2&\"!K35\")","v":0},{"$f":"INDIRECT($H$2&\"!L35\")","v":0},{"$f":"INDIRECT($H$2&\"!M35\")","v":0},{"$f":"INDIRECT($H$2&\"!N35\")","v":0},{"$f":"INDIRECT($H$2&\"!O35\")","v":0},{"$f":"INDIRECT($H$2&\"!P35\")","v":0},{"$f":"INDIRECT($H$2&\"!Q35\")","v":0},{"$f":"INDIRECT($H$2&\"!R35\")","v":0},{"$f":"INDIRECT($H$2&\"!S35\")","v":0},{"$f":"INDIRECT($H$2&\"!T35\")","v":0},{"$f":"INDIRECT($H$2&\"!U35\")","v":"00:00:00"},{"$f":"INDIRECT($H$2&\"!V35\")","v":0},"مدفوع"]
[{"$f":"INDIRECT($H$2&\"!A36\")","v":0},{"$f":"INDIRECT($H$2&\"!b36\")","v":0},{"$f":"INDIRECT($H$2&\"!C36\")","v":0},{"$f":"INDIRECT($H$2&\"!D36\")","v":0},{"$f":"INDIRECT($H$2&\"!E36\")","v":0},{"$f":"INDIRECT($H$2&\"!F36\")","v":0},{"$f":"INDIRECT($H$2&\"!G36\")","v":0},{"$f":"INDIRECT($H$2&\"!H36\")","v":0},{"$f":"INDIRECT($H$2&\"!I36\")","v":0},{"$f":"INDIRECT($H$2&\"!J36\")","v":0},{"$f":"INDIRECT($H$2&\"!K36\")","v":0},{"$f":"INDIRECT($H$2&\"!L36\")","v":0},{"$f":"INDIRECT($H$2&\"!M36\")","v":0},{"$f":"INDIRECT($H$2&\"!N36\")","v":0},{"$f":"INDIRECT($H$2&\"!O36\")","v":0},{"$f":"INDIRECT($H$2&\"!P36\")","v":0},{"$f":"INDIRECT($H$2&\"!Q36\")","v":0},{"$f":"INDIRECT($H$2&\"!R36\")","v":0},{"$f":"INDIRECT($H$2&\"!S36\")","v":0},{"$f":"INDIRECT($H$2&\"!T36\")","v":0},{"$f":"INDIRECT($H$2&\"!U36\")","v":"00:00:00"},{"$f":"INDIRECT($H$2&\"!V36\")","v":0},"مدفوع"]
[{"$f":"INDIRECT($H$2&\"!A37\")","v":0},{"$f":"INDIRECT($H$2&\"!b37\")","v":0},{"$f":"INDIRECT($H$2&\"!C37\")","v":0},{"$f":"INDIRECT($H$2&\"!D37\")","v":0},{"$f":"INDIRECT($H$2&\"!E37\")","v":0},{"$f":"INDIRECT($H$2&\"!F37\")","v":0},{"$f":"INDIRECT($H$2&\"!G37\")","v":0},{"$f":"INDIRECT($H$2&\"!H37\")","v":0},{"$f":"INDIRECT($H$2&\"!I37\")","v":0},{"$f":"INDIRECT($H$2&\"!J37\")","v":0},{"$f":"INDIRECT($H$2&\"!K37\")","v":0},{"$f":"INDIRECT($H$2&\"!L37\")","v":0},{"$f":"INDIRECT($H$2&\"!M37\")","v":0},{"$f":"INDIRECT($H$2&\"!N37\")","v":0},{"$f":"INDIRECT($H$2&\"!O37\")","v":0},{"$f":"INDIRECT($H$2&\"!P37\")","v":0},{"$f":"INDIRECT($H$2&\"!Q37\")","v":0},{"$f":"INDIRECT($H$2&\"!R37\")","v":0},{"$f":"INDIRECT($H$2&\"!S37\")","v":0},{"$f":"INDIRECT($H$2&\"!T37\")","v":0},{"$f":"INDIRECT($H$2&\"!U37\")","v":"00:00:00"},{"$f":"INDIRECT($H$2&\"!V37\")","v":0},"مدفوع"]
[{"$f":"INDIRECT($H$2&\"!A38\")","v":0},{"$f":"INDIRECT($H$2&\"!b38\")","v":0},{"$f":"INDIRECT($H$2&\"!C38\")","v":0},{"$f":"INDIRECT($H$2&\"!D38\")","v":0},{"$f":"INDIRECT($H$2&\"!E38\")","v":0},{"$f":"INDIRECT($H$2&\"!F38\")","v":0},{"$f":"INDIRECT($H$2&\"!G38\")","v":0},{"$f":"INDIRECT($H$2&\"!H38\")","v":0},{"$f":"INDIRECT($H$2&\"!I38\")","v":0},{"$f":"INDIRECT($H$2&\"!J38\")","v":0},{"$f":"INDIRECT($H$2&\"!K38\")","v":0},{"$f":"INDIRECT($H$2&\"!L38\")","v":0},{"$f":"INDIRECT($H$2&\"!M38\")","v":0},{"$f":"INDIRECT($H$2&\"!N38\")","v":0},{"$f":"INDIRECT($H$2&\"!O38\")","v":0},{"$f":"INDIRECT($H$2&\"!P38\")","v":0},{"$f":"INDIRECT($H$2&\"!Q38\")","v":0},{"$f":"INDIRECT($H$2&\"!R38\")","v":0},{"$f":"INDIRECT($H$2&\"!S38\")","v":0},{"$f":"INDIRECT($H$2&\"!T38\")","v":0},{"$f":"INDIRECT($H$2&\"!U38\")","v":"00:00:00"},{"$f":"INDIRECT($H$2&\"!V38\")","v":0},"مدفوع"]
[{"$f":"INDIRECT($H$2&\"!A39\")","v":0},{"$f":"INDIRECT($H$2&\"!b39\")","v":0},{"$f":"INDIRECT($H$2&\"!C39\")","v":0},{"$f":"INDIRECT($H$2&\"!D39\")","v":0},{"$f":"INDIRECT($H$2&\"!E39\")","v":0},{"$f":"INDIRECT($H$2&\"!F39\")","v":0},{"$f":"INDIRECT($H$2&\"!G39\")","v":0},{"$f":"INDIRECT($H$2&\"!H39\")","v":0},{"$f":"INDIRECT($H$2&\"!I39\")","v":0},{"$f":"INDIRECT($H$2&\"!J39\")","v":0},{"$f":"INDIRECT($H$2&\"!K39\")","v":0},{"$f":"INDIRECT($H$2&\"!L39\")","v":0},{"$f":"INDIRECT($H$2&\"!M39\")","v":0},{"$f":"INDIRECT($H$2&\"!N39\")","v":0},{"$f":"INDIRECT($H$2&\"!O39\")","v":0},{"$f":"INDIRECT($H$2&\"!P39\")","v":0},{"$f":"INDIRECT($H$2&\"!Q39\")","v":0},{"$f":"INDIRECT($H$2&\"!R39\")","v":0},{"$f":"INDIRECT($H$2&\"!S39\")","v":0},{"$f":"INDIRECT($H$2&\"!T39\")","v":0},{"$f":"INDIRECT($H$2&\"!U39\")","v":"00:00:00"},{"$f":"INDIRECT($H$2&\"!V39\")","v":0},"مدفوع"]
[{"$f":"INDIRECT($H$2&\"!A40\")","v":0},{"$f":"INDIRECT($H$2&\"!b40\")","v":0},{"$f":"INDIRECT($H$2&\"!C40\")","v":0},{"$f":"INDIRECT($H$2&\"!D40\")","v":0},{"$f":"INDIRECT($H$2&\"!E40\")","v":0},{"$f":"INDIRECT($H$2&\"!F40\")","v":0},{"$f":"INDIRECT($H$2&\"!G40\")","v":0},{"$f":"INDIRECT($H$2&\"!H40\")","v":0},{"$f":"INDIRECT($H$2&\"!I40\")","v":0},{"$f":"INDIRECT($H$2&\"!J40\")","v":0},{"$f":"INDIRECT($H$2&\"!K40\")","v":0},{"$f":"INDIRECT($H$2&\"!L40\")","v":0},{"$f":"INDIRECT($H$2&\"!M40\")","v":0},{"$f":"INDIRECT($H$2&\"!N40\")","v":0},{"$f":"INDIRECT($H$2&\"!O40\")","v":0},{"$f":"INDIRECT($H$2&\"!P40\")","v":0},{"$f":"INDIRECT($H$2&\"!Q40\")","v":0},{"$f":"INDIRECT($H$2&\"!R40\")","v":0},{"$f":"INDIRECT($H$2&\"!S40\")","v":0},{"$f":"INDIRECT($H$2&\"!T40\")","v":0},{"$f":"INDIRECT($H$2&\"!U40\")","v":"00:00:00"},{"$f":"INDIRECT($H$2&\"!V40\")","v":0},"مدفوع"]
[{"$f":"INDIRECT($H$2&\"!A41\")","v":0},{"$f":"INDIRECT($H$2&\"!b41\")","v":0},{"$f":"INDIRECT($H$2&\"!C41\")","v":0},{"$f":"INDIRECT($H$2&\"!D41\")","v":0},{"$f":"INDIRECT($H$2&\"!E41\")","v":0},{"$f":"INDIRECT($H$2&\"!F41\")","v":0},{"$f":"INDIRECT($H$2&\"!G41\")","v":0},{"$f":"INDIRECT($H$2&\"!H41\")","v":0},{"$f":"INDIRECT($H$2&\"!I41\")","v":0},{"$f":"INDIRECT($H$2&\"!J41\")","v":0},{"$f":"INDIRECT($H$2&\"!K41\")","v":0},{"$f":"INDIRECT($H$2&\"!L41\")","v":0},{"$f":"INDIRECT($H$2&\"!M41\")","v":0},{"$f":"INDIRECT($H$2&\"!N41\")","v":0},{"$f":"INDIRECT($H$2&\"!O41\")","v":0},{"$f":"INDIRECT($H$2&\"!P41\")","v":0},{"$f":"INDIRECT($H$2&\"!Q41\")","v":0},{"$f":"INDIRECT($H$2&\"!R41\")","v":0},{"$f":"INDIRECT($H$2&\"!S41\")","v":0},{"$f":"INDIRECT($H$2&\"!T41\")","v":0},{"$f":"INDIRECT($H$2&\"!U41\")","v":"00:00:00"},{"$f":"INDIRECT($H$2&\"!V41\")","v":0},"مدفوع"]
[{"$f":"INDIRECT($H$2&\"!A42\")","v":0},{"$f":"INDIRECT($H$2&\"!b42\")","v":0},{"$f":"INDIRECT($H$2&\"!C42\")","v":0},{"$f":"INDIRECT($H$2&\"!D42\")","v":0},{"$f":"INDIRECT($H$2&\"!E42\")","v":0},{"$f":"INDIRECT($H$2&\"!F42\")","v":0},{"$f":"INDIRECT($H$2&\"!G42\")","v":0},{"$f":"INDIRECT($H$2&\"!H42\")","v":0},{"$f":"INDIRECT($H$2&\"!I42\")","v":0},{"$f":"INDIRECT($H$2&\"!J42\")","v":0},{"$f":"INDIRECT($H$2&\"!K42\")","v":0},{"$f":"INDIRECT($H$2&\"!L42\")","v":0},{"$f":"INDIRECT($H$2&\"!M42\")","v":0},{"$f":"INDIRECT($H$2&\"!N42\")","v":0},{"$f":"INDIRECT($H$2&\"!O42\")","v":0},{"$f":"INDIRECT($H$2&\"!P42\")","v":0},{"$f":"INDIRECT($H$2&\"!Q42\")","v":0},{"$f":"INDIRECT($H$2&\"!R42\")","v":0},{"$f":"INDIRECT($H$2&\"!S42\")","v":0},{"$f":"INDIRECT($H$2&\"!T42\")","v":0},{"$f":"INDIRECT($H$2&\"!U42\")","v":"00:00:00"},{"$f":"INDIRECT($H$2&\"!V42\")","v":0},"مدفوع"]
[{"$f":"INDIRECT($H$2&\"!A43\")","v":0},{"$f":"INDIRECT($H$2&\"!b43\")","v":0},{"$f":"INDIRECT($H$2&\"!C43\")","v":0},{"$f":"INDIRECT($H$2&\"!D43\")","v":0},{"$f":"INDIRECT($H$2&\"!E43\")","v":0},{"$f":"INDIRECT($H$2&\"!F43\")","v":0},{"$f":"INDIRECT($H$2&\"!G43\")","v":0},{"$f":"INDIRECT($H$2&\"!H43\")","v":0},{"$f":"INDIRECT($H$2&\"!I43\")","v":0},{"$f":"INDIRECT($H$2&\"!J43\")","v":0},{"$f":"INDIRECT($H$2&\"!K43\")","v":0},{"$f":"INDIRECT($H$2&\"!L43\")","v":0},{"$f":"INDIRECT($H$2&\"!M43\")","v":0},{"$f":"INDIRECT($H$2&\"!N43\")","v":0},{"$f":"INDIRECT($H$2&\"!O43\")","v":0},{"$f":"INDIRECT($H$2&\"!P43\")","v":0},{"$f":"INDIRECT($H$2&\"!Q43\")","v":0},{"$f":"INDIRECT($H$2&\"!R43\")","v":0},{"$f":"INDIRECT($H$2&\"!S43\")","v":0},{"$f":"INDIRECT($H$2&\"!T43\")","v":0},{"$f":"INDIRECT($H$2&\"!U43\")","v":"00:00:00"},{"$f":"INDIRECT($H$2&\"!V43\")","v":0},"مدفوع"]
[{"$f":"INDIRECT($H$2&\"!A44\")","v":0},{"$f":"INDIRECT($H$2&\"!b44\")","v":0},{"$f":"INDIRECT($H$2&\"!C44\")","v":0},{"$f":"INDIRECT($H$2&\"!D44\")","v":0},{"$f":"INDIRECT($H$2&\"!E44\")","v":0},{"$f":"INDIRECT($H$2&\"!F44\")","v":0},{"$f":"INDIRECT($H$2&\"!G44\")","v":0},{"$f":"INDIRECT($H$2&\"!H44\")","v":0},{"$f":"INDIRECT($H$2&\"!I44\")","v":0},{"$f":"INDIRECT($H$2&\"!J44\")","v":0},{"$f":"INDIRECT($H$2&\"!K44\")","v":0},{"$f":"INDIRECT($H$2&\"!L44\")","v":0},{"$f":"INDIRECT($H$2&\"!M44\")","v":0},{"$f":"INDIRECT($H$2&\"!N44\")","v":0},{"$f":"INDIRECT($H$2&\"!O44\")","v":0},{"$f":"INDIRECT($H$2&\"!P44\")","v":0},{"$f":"INDIRECT($H$2&\"!Q44\")","v":0},{"$f":"INDIRECT($H$2&\"!R44\")","v":0},{"$f":"INDIRECT($H$2&\"!S44\")","v":0},{"$f":"INDIRECT($H$2&\"!T44\")","v":0},{"$f":"INDIRECT($H$2&\"!U44\")","v":"00:00:00"},{"$f":"INDIRECT($H$2&\"!V44\")","v":0},"مدفوع"]
[{"$f":"INDIRECT($H$2&\"!A45\")","v":0},{"$f":"INDIRECT($H$2&\"!b45\")","v":0},{"$f":"INDIRECT($H$2&\"!C45\")","v":0},{"$f":"INDIRECT($H$2&\"!D45\")","v":0},{"$f":"INDIRECT($H$2&\"!E45\")","v":0},{"$f":"INDIRECT($H$2&\"!F45\")","v":0},{"$f":"INDIRECT($H$2&\"!G45\")","v":0},{"$f":"INDIRECT($H$2&\"!H45\")","v":0},{"$f":"INDIRECT($H$2&\"!I45\")","v":0},{"$f":"INDIRECT($H$2&\"!J45\")","v":0},{"$f":"INDIRECT($H$2&\"!K45\")","v":0},{"$f":"INDIRECT($H$2&\"!L45\")","v":0},{"$f":"INDIRECT($H$2&\"!M45\")","v":0},{"$f":"INDIRECT($H$2&\"!N45\")","v":0},{"$f":"INDIRECT($H$2&\"!O45\")","v":0},{"$f":"INDIRECT($H$2&\"!P45\")","v":0},{"$f":"INDIRECT($H$2&\"!Q45\")","v":0},{"$f":"INDIRECT($H$2&\"!R45\")","v":0},{"$f":"INDIRECT($H$2&\"!S45\")","v":0},{"$f":"INDIRECT($H$2&\"!T45\")","v":0},{"$f":"INDIRECT($H$2&\"!U45\")","v":"00:00:00"},{"$f":"INDIRECT($H$2&\"!V45\")","v":0},"مدفوع"]
[{"$f":"INDIRECT($H$2&\"!A46\")","v":0},{"$f":"INDIRECT($H$2&\"!b46\")","v":0},{"$f":"INDIRECT($H$2&\"!C46\")","v":0},{"$f":"INDIRECT($H$2&\"!D46\")","v":0},{"$f":"INDIRECT($H$2&\"!E46\")","v":0},{"$f":"INDIRECT($H$2&\"!F46\")","v":0},{"$f":"INDIRECT($H$2&\"!G46\")","v":0},{"$f":"INDIRECT($H$2&\"!H46\")","v":0},{"$f":"INDIRECT($H$2&\"!I46\")","v":0},{"$f":"INDIRECT($H$2&\"!J46\")","v":0},{"$f":"INDIRECT($H$2&\"!K46\")","v":0},{"$f":"INDIRECT($H$2&\"!L46\")","v":0},{"$f":"INDIRECT($H$2&\"!M46\")","v":0},{"$f":"INDIRECT($H$2&\"!N46\")","v":0},{"$f":"INDIRECT($H$2&\"!O46\")","v":0},{"$f":"INDIRECT($H$2&\"!P46\")","v":0},{"$f":"INDIRECT($H$2&\"!Q46\")","v":0},{"$f":"INDIRECT($H$2&\"!R46\")","v":0},{"$f":"INDIRECT($H$2&\"!S46\")","v":0},{"$f":"INDIRECT($H$2&\"!T46\")","v":0},{"$f":"INDIRECT($H$2&\"!U46\")","v":"00:00:00"},{"$f":"INDIRECT($H$2&\"!V46\")","v":0},"مدفوع"]
[{"$f":"INDIRECT($H$2&\"!A47\")","v":0},{"$f":"INDIRECT($H$2&\"!b47\")","v":0},{"$f":"INDIRECT($H$2&\"!C47\")","v":0},{"$f":"INDIRECT($H$2&\"!D47\")","v":0},{"$f":"INDIRECT($H$2&\"!E47\")","v":0},{"$f":"INDIRECT($H$2&\"!F47\")","v":0},{"$f":"INDIRECT($H$2&\"!G47\")","v":0},{"$f":"INDIRECT($H$2&\"!H47\")","v":0},{"$f":"INDIRECT($H$2&\"!I47\")","v":0},{"$f":"INDIRECT($H$2&\"!J47\")","v":0},{"$f":"INDIRECT($H$2&\"!K47\")","v":0},{"$f":"INDIRECT($H$2&\"!L47\")","v":0},{"$f":"INDIRECT($H$2&\"!M47\")","v":0},{"$f":"INDIRECT($H$2&\"!N47\")","v":0},{"$f":"INDIRECT($H$2&\"!O47\")","v":0},{"$f":"INDIRECT($H$2&\"!P47\")","v":0},{"$f":"INDIRECT($H$2&\"!Q47\")","v":0},{"$f":"INDIRECT($H$2&\"!R47\")","v":0},{"$f":"INDIRECT($H$2&\"!S47\")","v":0},{"$f":"INDIRECT($H$2&\"!T47\")","v":0},{"$f":"INDIRECT($H$2&\"!U47\")","v":"00:00:00"},{"$f":"INDIRECT($H$2&\"!V47\")","v":0},"مدفوع"]
[{"$f":"INDIRECT($H$2&\"!A48\")","v":0},{"$f":"INDIRECT($H$2&\"!b48\")","v":0},{"$f":"INDIRECT($H$2&\"!C48\")","v":0},{"$f":"INDIRECT($H$2&\"!D48\")","v":0},{"$f":"INDIRECT($H$2&\"!E48\")","v":0},{"$f":"INDIRECT($H$2&\"!F48\")","v":0},{"$f":"INDIRECT($H$2&\"!G48\")","v":0},{"$f":"INDIRECT($H$2&\"!H48\")","v":0},{"$f":"INDIRECT($H$2&\"!I48\")","v":0},{"$f":"INDIRECT($H$2&\"!J48\")","v":0},{"$f":"INDIRECT($H$2&\"!K48\")","v":0},{"$f":"INDIRECT($H$2&\"!L48\")","v":0},{"$f":"INDIRECT($H$2&\"!M48\")","v":0},{"$f":"INDIRECT($H$2&\"!N48\")","v":0},{"$f":"INDIRECT($H$2&\"!O48\")","v":0},{"$f":"INDIRECT($H$2&\"!P48\")","v":0},{"$f":"INDIRECT($H$2&\"!Q48\")","v":0},{"$f":"INDIRECT($H$2&\"!R48\")","v":0},{"$f":"INDIRECT($H$2&\"!S48\")","v":0},{"$f":"INDIRECT($H$2&\"!T48\")","v":0},{"$f":"INDIRECT($H$2&\"!U48\")","v":"00:00:00"},{"$f":"INDIRECT($H$2&\"!V48\")","v":0},"مدفوع"]
[{"$f":"INDIRECT($H$2&\"!A49\")","v":0},{"$f":"INDIRECT($H$2&\"!b49\")","v":0},{"$f":"INDIRECT($H$2&\"!C49\")","v":0},{"$f":"INDIRECT($H$2&\"!D49\")","v":0},{"$f":"INDIRECT($H$2&\"!E49\")","v":0},{"$f":"INDIRECT($H$2&\"!F49\")","v":0},{"$f":"INDIRECT($H$2&\"!G49\")","v":0},{"$f":"INDIRECT($H$2&\"!H49\")","v":0},{"$f":"INDIRECT($H$2&\"!I49\")","v":0},{"$f":"INDIRECT($H$2&\"!J49\")","v":0},{"$f":"INDIRECT($H$2&\"!K49\")","v":0},{"$f":"INDIRECT($H$2&\"!L49\")","v":0},{"$f":"INDIRECT($H$2&\"!M49\")","v":0},{"$f":"INDIRECT($H$2&\"!N49\")","v":0},{"$f":"INDIRECT($H$2&\"!O49\")","v":0},{"$f":"INDIRECT($H$2&\"!P49\")","v":0},{"$f":"INDIRECT($H$2&\"!Q49\")","v":0},{"$f":"INDIRECT($H$2&\"!R49\")","v":0},{"$f":"INDIRECT($H$2&\"!S49\")","v":0},{"$f":"INDIRECT($H$2&\"!T49\")","v":0},{"$f":"INDIRECT($H$2&\"!U49\")","v":"00:00:00"},{"$f":"INDIRECT($H$2&\"!V49\")","v":0},"مدفوع"]
[{"$f":"INDIRECT($H$2&\"!A50\")","v":0},{"$f":"INDIRECT($H$2&\"!b50\")","v":0},{"$f":"INDIRECT($H$2&\"!C50\")","v":0},{"$f":"INDIRECT($H$2&\"!D50\")","v":0},{"$f":"INDIRECT($H$2&\"!E50\")","v":0},{"$f":"INDIRECT($H$2&\"!F50\")","v":0},{"$f":"INDIRECT($H$2&\"!G50\")","v":0},{"$f":"INDIRECT($H$2&\"!H50\")","v":0},{"$f":"INDIRECT($H$2&\"!I50\")","v":0},{"$f":"INDIRECT($H$2&\"!J50\")","v":0},{"$f":"INDIRECT($H$2&\"!K50\")","v":0},{"$f":"INDIRECT($H$2&\"!L50\")","v":0},{"$f":"INDIRECT($H$2&\"!M50\")","v":0},{"$f":"INDIRECT($H$2&\"!N50\")","v":0},{"$f":"INDIRECT($H$2&\"!O50\")","v":0},{"$f":"INDIRECT($H$2&\"!P50\")","v":0},{"$f":"INDIRECT($H$2&\"!Q50\")","v":0},{"$f":"INDIRECT($H$2&\"!R50\")","v":0},{"$f":"INDIRECT($H$2&\"!S50\")","v":0},{"$f":"INDIRECT($H$2&\"!T50\")","v":0},{"$f":"INDIRECT($H$2&\"!U50\")","v":"00:00:00"},{"$f":"INDIRECT($H$2&\"!V50\")","v":0},"مدفوع"]
[{"$f":"INDIRECT($H$2&\"!A51\")","v":0},{"$f":"INDIRECT($H$2&\"!b51\")","v":0},{"$f":"INDIRECT($H$2&\"!C51\")","v":0},{"$f":"INDIRECT($H$2&\"!D51\")","v":0},{"$f":"INDIRECT($H$2&\"!E51\")","v":0},{"$f":"INDIRECT($H$2&\"!F51\")","v":0},{"$f":"INDIRECT($H$2&\"!G51\")","v":0},{"$f":"INDIRECT($H$2&\"!H51\")","v":0},{"$f":"INDIRECT($H$2&\"!I51\")","v":0},{"$f":"INDIRECT($H$2&\"!J51\")","v":0},{"$f":"INDIRECT($H$2&\"!K51\")","v":0},{"$f":"INDIRECT($H$2&\"!L51\")","v":0},{"$f":"INDIRECT($H$2&\"!M51\")","v":0},{"$f":"INDIRECT($H$2&\"!N51\")","v":0},{"$f":"INDIRECT($H$2&\"!O51\")","v":0},{"$f":"INDIRECT($H$2&\"!P51\")","v":0},{"$f":"INDIRECT($H$2&\"!Q51\")","v":0},{"$f":"INDIRECT($H$2&\"!R51\")","v":0},{"$f":"INDIRECT($H$2&\"!S51\")","v":0},{"$f":"INDIRECT($H$2&\"!T51\")","v":0},{"$f":"INDIRECT($H$2&\"!U51\")","v":"00:00:00"},{"$f":"INDIRECT($H$2&\"!V51\")","v":0},"مدفوع"]
[{"$f":"INDIRECT($H$2&\"!A52\")","v":0},{"$f":"INDIRECT($H$2&\"!b52\")","v":0},{"$f":"INDIRECT($H$2&\"!C52\")","v":0},{"$f":"INDIRECT($H$2&\"!D52\")","v":0},{"$f":"INDIRECT($H$2&\"!E52\")","v":0},{"$f":"INDIRECT($H$2&\"!F52\")","v":0},{"$f":"INDIRECT($H$2&\"!G52\")","v":0},{"$f":"INDIRECT($H$2&\"!H52\")","v":0},{"$f":"INDIRECT($H$2&\"!I52\")","v":0},{"$f":"INDIRECT($H$2&\"!J52\")","v":0},{"$f":"INDIRECT($H$2&\"!K52\")","v":0},{"$f":"INDIRECT($H$2&\"!L52\")","v":0},{"$f":"INDIRECT($H$2&\"!M52\")","v":0},{"$f":"INDIRECT($H$2&\"!N52\")","v":0},{"$f":"INDIRECT($H$2&\"!O52\")","v":0},{"$f":"INDIRECT($H$2&\"!P52\")","v":0},{"$f":"INDIRECT($H$2&\"!Q52\")","v":0},{"$f":"INDIRECT($H$2&\"!R52\")","v":0},{"$f":"INDIRECT($H$2&\"!S52\")","v":0},{"$f":"INDIRECT($H$2&\"!T52\")","v":0},{"$f":"INDIRECT($H$2&\"!U52\")","v":"00:00:00"},{"$f":"INDIRECT($H$2&\"!V52\")","v":0},"مدفوع"]
[{"$f":"INDIRECT($H$2&\"!A53\")","v":0},{"$f":"INDIRECT($H$2&\"!b53\")","v":0},{"$f":"INDIRECT($H$2&\"!C53\")","v":0},{"$f":"INDIRECT($H$2&\"!D53\")","v":0},{"$f":"INDIRECT($H$2&\"!E53\")","v":0},{"$f":"INDIRECT($H$2&\"!F53\")","v":0},{"$f":"INDIRECT($H$2&\"!G53\")","v":0},{"$f":"INDIRECT($H$2&\"!H53\")","v":0},{"$f":"INDIRECT($H$2&\"!I53\")","v":0},{"$f":"INDIRECT($H$2&\"!J53\")","v":0},{"$f":"INDIRECT($H$2&\"!K53\")","v":0},{"$f":"INDIRECT($H$2&\"!L53\")","v":0},{"$f":"INDIRECT($H$2&\"!M53\")","v":0},{"$f":"INDIRECT($H$2&\"!N53\")","v":0},{"$f":"INDIRECT($H$2&\"!O53\")","v":0},{"$f":"INDIRECT($H$2&\"!P53\")","v":0},{"$f":"INDIRECT($H$2&\"!Q53\")","v":0},{"$f":"INDIRECT($H$2&\"!R53\")","v":0},{"$f":"INDIRECT($H$2&\"!S53\")","v":0},{"$f":"INDIRECT($H$2&\"!T53\")","v":0},{"$f":"INDIRECT($H$2&\"!U53\")","v":"00:00:00"},{"$f":"INDIRECT($H$2&\"!V53\")","v":0},"مدفوع"]
[{"$f":"INDIRECT($H$2&\"!A54\")","v":0},{"$f":"INDIRECT($H$2&\"!b54\")","v":0},{"$f":"INDIRECT($H$2&\"!C54\")","v":0},{"$f":"INDIRECT($H$2&\"!D54\")","v":0},{"$f":"INDIRECT($H$2&\"!E54\")","v":0},{"$f":"INDIRECT($H$2&\"!F54\")","v":0},{"$f":"INDIRECT($H$2&\"!G54\")","v":0},{"$f":"INDIRECT($H$2&\"!H54\")","v":0},{"$f":"INDIRECT($H$2&\"!I54\")","v":0},{"$f":"INDIRECT($H$2&\"!J54\")","v":0},{"$f":"INDIRECT($H$2&\"!K54\")","v":0},{"$f":"INDIRECT($H$2&\"!L54\")","v":0},{"$f":"INDIRECT($H$2&\"!M54\")","v":0},{"$f":"INDIRECT($H$2&\"!N54\")","v":0},{"$f":"INDIRECT($H$2&\"!O54\")","v":0},{"$f":"INDIRECT($H$2&\"!P54\")","v":0},{"$f":"INDIRECT($H$2&\"!Q54\")","v":0},{"$f":"INDIRECT($H$2&\"!R54\")","v":0},{"$f":"INDIRECT($H$2&\"!S54\")","v":0},{"$f":"INDIRECT($H$2&\"!T54\")","v":0},{"$f":"INDIRECT($H$2&\"!U54\")","v":"00:00:00"},{"$f":"INDIRECT($H$2&\"!V54\")","v":0},"مدفوع"]
[{"$f":"INDIRECT($H$2&\"!A55\")","v":0},{"$f":"INDIRECT($H$2&\"!b55\")","v":0},{"$f":"INDIRECT($H$2&\"!C55\")","v":0},{"$f":"INDIRECT($H$2&\"!D55\")","v":0},{"$f":"INDIRECT($H$2&\"!E55\")","v":0},{"$f":"INDIRECT($H$2&\"!F55\")","v":0},{"$f":"INDIRECT($H$2&\"!G55\")","v":0},{"$f":"INDIRECT($H$2&\"!H55\")","v":0},{"$f":"INDIRECT($H$2&\"!I55\")","v":0},{"$f":"INDIRECT($H$2&\"!J55\")","v":0},{"$f":"INDIRECT($H$2&\"!K55\")","v":0},{"$f":"INDIRECT($H$2&\"!L55\")","v":0},{"$f":"INDIRECT($H$2&\"!M55\")","v":0},{"$f":"INDIRECT($H$2&\"!N55\")","v":0},{"$f":"INDIRECT($H$2&\"!O55\")","v":0},{"$f":"INDIRECT($H$2&\"!P55\")","v":0},{"$f":"INDIRECT($H$2&\"!Q55\")","v":0},{"$f":"INDIRECT($H$2&\"!R55\")","v":0},{"$f":"INDIRECT($H$2&\"!S55\")","v":0},{"$f":"INDIRECT($H$2&\"!T55\")","v":0},{"$f":"INDIRECT($H$2&\"!U55\")","v":"00:00:00"},{"$f":"INDIRECT($H$2&\"!V55\")","v":0},"مدفوع"]
[{"$f":"INDIRECT($H$2&\"!A56\")","v":0},{"$f":"INDIRECT($H$2&\"!b56\")","v":0},{"$f":"INDIRECT($H$2&\"!C56\")","v":0},{"$f":"INDIRECT($H$2&\"!D56\")","v":0},{"$f":"INDIRECT($H$2&\"!E56\")","v":0},{"$f":"INDIRECT($H$2&\"!F56\")","v":0},{"$f":"INDIRECT($H$2&\"!G56\")","v":0},{"$f":"INDIRECT($H$2&\"!H56\")","v":0},{"$f":"INDIRECT($H$2&\"!I56\")","v":0},{"$f":"INDIRECT($H$2&\"!J56\")","v":0},{"$f":"INDIRECT($H$2&\"!K56\")","v":0},{"$f":"INDIRECT($H$2&\"!L56\")","v":0},{"$f":"INDIRECT($H$2&\"!M56\")","v":0},{"$f":"INDIRECT($H$2&\"!N56\")","v":0},{"$f":"INDIRECT($H$2&\"!O56\")","v":0},{"$f":"INDIRECT($H$2&\"!P56\")","v":0},{"$f":"INDIRECT($H$2&\"!Q56\")","v":0},{"$f":"INDIRECT($H$2&\"!R56\")","v":0},{"$f":"INDIRECT($H$2&\"!S56\")","v":0},{"$f":"INDIRECT($H$2&\"!T56\")","v":0},{"$f":"INDIRECT($H$2&\"!U56\")","v":"00:00:00"},{"$f":"INDIRECT($H$2&\"!V56\")","v":0},"مدفوع"]
[{"$f":"INDIRECT($H$2&\"!A57\")","v":0},{"$f":"INDIRECT($H$2&\"!b57\")","v":0},{"$f":"INDIRECT($H$2&\"!C57\")","v":0},{"$f":"INDIRECT($H$2&\"!D57\")","v":0},{"$f":"INDIRECT($H$2&\"!E57\")","v":0},{"$f":"INDIRECT($H$2&\"!F57\")","v":0},{"$f":"INDIRECT($H$2&\"!G57\")","v":0},{"$f":"INDIRECT($H$2&\"!H57\")","v":0},{"$f":"INDIRECT($H$2&\"!I57\")","v":0},{"$f":"INDIRECT($H$2&\"!J57\")","v":0},{"$f":"INDIRECT($H$2&\"!K57\")","v":0},{"$f":"INDIRECT($H$2&\"!L57\")","v":0},{"$f":"INDIRECT($H$2&\"!M57\")","v":0},{"$f":"INDIRECT($H$2&\"!N57\")","v":0},{"$f":"INDIRECT($H$2&\"!O57\")","v":0},{"$f":"INDIRECT($H$2&\"!P57\")","v":0},{"$f":"INDIRECT($H$2&\"!Q57\")","v":0},{"$f":"INDIRECT($H$2&\"!R57\")","v":0},{"$f":"INDIRECT($H$2&\"!S57\")","v":0},{"$f":"INDIRECT($H$2&\"!T57\")","v":0},{"$f":"INDIRECT($H$2&\"!U57\")","v":"00:00:00"},{"$f":"INDIRECT($H$2&\"!V57\")","v":0},"مدفوع"]
[{"$f":"INDIRECT($H$2&\"!A58\")","v":0},{"$f":"INDIRECT($H$2&\"!b58\")","v":0},{"$f":"INDIRECT($H$2&\"!C58\")","v":0},{"$f":"INDIRECT($H$2&\"!D58\")","v":0},{"$f":"INDIRECT($H$2&\"!E58\")","v":0},{"$f":"INDIRECT($H$2&\"!F58\")","v":0},{"$f":"INDIRECT($H$2&\"!G58\")","v":0},{"$f":"INDIRECT($H$2&\"!H58\")","v":0},{"$f":"INDIRECT($H$2&\"!I58\")","v":0},{"$f":"INDIRECT($H$2&\"!J58\")","v":0},{"$f":"INDIRECT($H$2&\"!K58\")","v":0},{"$f":"INDIRECT($H$2&\"!L58\")","v":0},{"$f":"INDIRECT($H$2&\"!M58\")","v":0},{"$f":"INDIRECT($H$2&\"!N58\")","v":0},{"$f":"INDIRECT($H$2&\"!O58\")","v":0},{"$f":"INDIRECT($H$2&\"!P58\")","v":0},{"$f":"INDIRECT($H$2&\"!Q58\")","v":0},{"$f":"INDIRECT($H$2&\"!R58\")","v":0},{"$f":"INDIRECT($H$2&\"!S58\")","v":0},{"$f":"INDIRECT($H$2&\"!T58\")","v":0},{"$f":"INDIRECT($H$2&\"!U58\")","v":"00:00:00"},{"$f":"INDIRECT($H$2&\"!V58\")","v":0},"مدفوع"]
[{"$f":"INDIRECT($H$2&\"!A59\")","v":0},{"$f":"INDIRECT($H$2&\"!b59\")","v":0},{"$f":"INDIRECT($H$2&\"!C59\")","v":0},{"$f":"INDIRECT($H$2&\"!D59\")","v":0},{"$f":"INDIRECT($H$2&\"!E59\")","v":0},{"$f":"INDIRECT($H$2&\"!F59\")","v":0},{"$f":"INDIRECT($H$2&\"!G59\")","v":0},{"$f":"INDIRECT($H$2&\"!H59\")","v":0},{"$f":"INDIRECT($H$2&\"!I59\")","v":0},{"$f":"INDIRECT($H$2&\"!J59\")","v":0},{"$f":"INDIRECT($H$2&\"!K59\")","v":0},{"$f":"INDIRECT($H$2&\"!L59\")","v":0},{"$f":"INDIRECT($H$2&\"!M59\")","v":0},{"$f":"INDIRECT($H$2&\"!N59\")","v":0},{"$f":"INDIRECT($H$2&\"!O59\")","v":0},{"$f":"INDIRECT($H$2&\"!P59\")","v":0},{"$f":"INDIRECT($H$2&\"!Q59\")","v":0},{"$f":"INDIRECT($H$2&\"!R59\")","v":0},{"$f":"INDIRECT($H$2&\"!S59\")","v":0},{"$f":"INDIRECT($H$2&\"!T59\")","v":0},{"$f":"INDIRECT($H$2&\"!U59\")","v":"00:00:00"},{"$f":"INDIRECT($H$2&\"!V59\")","v":0},"مدفوع"]
[{"$f":"INDIRECT($H$2&\"!A60\")","v":0},{"$f":"INDIRECT($H$2&\"!b60\")","v":0},{"$f":"INDIRECT($H$2&\"!C60\")","v":0},{"$f":"INDIRECT($H$2&\"!D60\")","v":0},{"$f":"INDIRECT($H$2&\"!E60\")","v":0},{"$f":"INDIRECT($H$2&\"!F60\")","v":0},{"$f":"INDIRECT($H$2&\"!G60\")","v":0},{"$f":"INDIRECT($H$2&\"!H60\")","v":0},{"$f":"INDIRECT($H$2&\"!I60\")","v":0},{"$f":"INDIRECT($H$2&\"!J60\")","v":0},{"$f":"INDIRECT($H$2&\"!K60\")","v":0},{"$f":"INDIRECT($H$2&\"!L60\")","v":0},{"$f":"INDIRECT($H$2&\"!M60\")","v":0},{"$f":"INDIRECT($H$2&\"!N60\")","v":0},{"$f":"INDIRECT($H$2&\"!O60\")","v":0},{"$f":"INDIRECT($H$2&\"!P60\")","v":0},{"$f":"INDIRECT($H$2&\"!Q60\")","v":0},{"$f":"INDIRECT($H$2&\"!R60\")","v":0},{"$f":"INDIRECT($H$2&\"!S60\")","v":0},{"$f":"INDIRECT($H$2&\"!T60\")","v":0},{"$f":"INDIRECT($H$2&\"!U60\")","v":"00:00:00"},{"$f":"INDIRECT($H$2&\"!V60\")","v":0},"مدفوع"]
[{"$f":"INDIRECT($H$2&\"!A61\")","v":0},{"$f":"INDIRECT($H$2&\"!b61\")","v":0},{"$f":"INDIRECT($H$2&\"!C61\")","v":0},{"$f":"INDIRECT($H$2&\"!D61\")","v":0},{"$f":"INDIRECT($H$2&\"!E61\")","v":0},{"$f":"INDIRECT($H$2&\"!F61\")","v":0},{"$f":"INDIRECT($H$2&\"!G61\")","v":0},{"$f":"INDIRECT($H$2&\"!H61\")","v":0},{"$f":"INDIRECT($H$2&\"!I61\")","v":0},{"$f":"INDIRECT($H$2&\"!J61\")","v":0},{"$f":"INDIRECT($H$2&\"!K61\")","v":0},{"$f":"INDIRECT($H$2&\"!L61\")","v":0},{"$f":"INDIRECT($H$2&\"!M61\")","v":0},{"$f":"INDIRECT($H$2&\"!N61\")","v":0},{"$f":"INDIRECT($H$2&\"!O61\")","v":0},{"$f":"INDIRECT($H$2&\"!P61\")","v":0},{"$f":"INDIRECT($H$2&\"!Q61\")","v":0},{"$f":"INDIRECT($H$2&\"!R61\")","v":0},{"$f":"INDIRECT($H$2&\"!S61\")","v":0},{"$f":"INDIRECT($H$2&\"!T61\")","v":0},{"$f":"INDIRECT($H$2&\"!U61\")","v":"00:00:00"},{"$f":"INDIRECT($H$2&\"!V61\")","v":0},"مدفوع"]
[{"$f":"INDIRECT($H$2&\"!A62\")","v":0},{"$f":"INDIRECT($H$2&\"!b62\")","v":0},{"$f":"INDIRECT($H$2&\"!C62\")","v":0},{"$f":"INDIRECT($H$2&\"!D62\")","v":0},{"$f":"INDIRECT($H$2&\"!E62\")","v":0},{"$f":"INDIRECT($H$2&\"!F62\")","v":0},{"$f":"INDIRECT($H$2&\"!G62\")","v":0},{"$f":"INDIRECT($H$2&\"!H62\")","v":0},{"$f":"INDIRECT($H$2&\"!I62\")","v":0},{"$f":"INDIRECT($H$2&\"!J62\")","v":0},{"$f":"INDIRECT($H$2&\"!K62\")","v":0},{"$f":"INDIRECT($H$2&\"!L62\")","v":0},{"$f":"INDIRECT($H$2&\"!M62\")","v":0},{"$f":"INDIRECT($H$2&\"!N62\")","v":0},{"$f":"INDIRECT($H$2&\"!O62\")","v":0},{"$f":"INDIRECT($H$2&\"!P62\")","v":0},{"$f":"INDIRECT($H$2&\"!Q62\")","v":0},{"$f":"INDIRECT($H$2&\"!R62\")","v":0},{"$f":"INDIRECT($H$2&\"!S62\")","v":0},{"$f":"INDIRECT($H$2&\"!T62\")","v":0},{"$f":"INDIRECT($H$2&\"!U62\")","v":"00:00:00"},{"$f":"INDIRECT($H$2&\"!V62\")","v":0},"مدفوع"]
[{"$f":"INDIRECT($H$2&\"!A63\")","v":0},{"$f":"INDIRECT($H$2&\"!b63\")","v":0},{"$f":"INDIRECT($H$2&\"!C63\")","v":0},{"$f":"INDIRECT($H$2&\"!D63\")","v":0},{"$f":"INDIRECT($H$2&\"!E63\")","v":0},{"$f":"INDIRECT($H$2&\"!F63\")","v":0},{"$f":"INDIRECT($H$2&\"!G63\")","v":0},{"$f":"INDIRECT($H$2&\"!H63\")","v":0},{"$f":"INDIRECT($H$2&\"!I63\")","v":0},{"$f":"INDIRECT($H$2&\"!J63\")","v":0},{"$f":"INDIRECT($H$2&\"!K63\")","v":0},{"$f":"INDIRECT($H$2&\"!L63\")","v":0},{"$f":"INDIRECT($H$2&\"!M63\")","v":0},{"$f":"INDIRECT($H$2&\"!N63\")","v":0},{"$f":"INDIRECT($H$2&\"!O63\")","v":0},{"$f":"INDIRECT($H$2&\"!P63\")","v":0},{"$f":"INDIRECT($H$2&\"!Q63\")","v":0},{"$f":"INDIRECT($H$2&\"!R63\")","v":0},{"$f":"INDIRECT($H$2&\"!S63\")","v":0},{"$f":"INDIRECT($H$2&\"!T63\")","v":0},{"$f":"INDIRECT($H$2&\"!U63\")","v":"00:00:00"},{"$f":"INDIRECT($H$2&\"!V63\")","v":0},"مدفوع"]
[{"$f":"INDIRECT($H$2&\"!A64\")","v":0},{"$f":"INDIRECT($H$2&\"!b64\")","v":0},{"$f":"INDIRECT($H$2&\"!C64\")","v":0},{"$f":"INDIRECT($H$2&\"!D64\")","v":0},{"$f":"INDIRECT($H$2&\"!E64\")","v":0},{"$f":"INDIRECT($H$2&\"!F64\")","v":0},{"$f":"INDIRECT($H$2&\"!G64\")","v":0},{"$f":"INDIRECT($H$2&\"!H64\")","v":0},{"$f":"INDIRECT($H$2&\"!I64\")","v":0},{"$f":"INDIRECT($H$2&\"!J64\")","v":0},{"$f":"INDIRECT($H$2&\"!K64\")","v":0},{"$f":"INDIRECT($H$2&\"!L64\")","v":0},{"$f":"INDIRECT($H$2&\"!M64\")","v":0},{"$f":"INDIRECT($H$2&\"!N64\")","v":0},{"$f":"INDIRECT($H$2&\"!O64\")","v":0},{"$f":"INDIRECT($H$2&\"!P64\")","v":0},{"$f":"INDIRECT($H$2&\"!Q64\")","v":0},{"$f":"INDIRECT($H$2&\"!R64\")","v":0},{"$f":"INDIRECT($H$2&\"!S64\")","v":0},{"$f":"INDIRECT($H$2&\"!T64\")","v":0},{"$f":"INDIRECT($H$2&\"!U64\")","v":"00:00:00"},{"$f":"INDIRECT($H$2&\"!V64\")","v":0},"مدفوع"]
[{"$f":"INDIRECT($H$2&\"!A65\")","v":0},{"$f":"INDIRECT($H$2&\"!b65\")","v":0},{"$f":"INDIRECT($H$2&\"!C65\")","v":0},{"$f":"INDIRECT($H$2&\"!D65\")","v":0},{"$f":"INDIRECT($H$2&\"!E65\")","v":0},{"$f":"INDIRECT($H$2&\"!F65\")","v":0},{"$f":"INDIRECT($H$2&\"!G65\")","v":0},{"$f":"INDIRECT($H$2&\"!H65\")","v":0},{"$f":"INDIRECT($H$2&\"!I65\")","v":0},{"$f":"INDIRECT($H$2&\"!J65\")","v":0},{"$f":"INDIRECT($H$2&\"!K65\")","v":0},{"$f":"INDIRECT($H$2&\"!L65\")","v":0},{"$f":"INDIRECT($H$2&\"!M65\")","v":0},{"$f":"INDIRECT($H$2&\"!N65\")","v":0},{"$f":"INDIRECT($H$2&\"!O65\")","v":0},{"$f":"INDIRECT($H$2&\"!P65\")","v":0},{"$f":"INDIRECT($H$2&\"!Q65\")","v":0},{"$f":"INDIRECT($H$2&\"!R65\")","v":0},{"$f":"INDIRECT($H$2&\"!S65\")","v":0},{"$f":"INDIRECT($H$2&\"!T65\")","v":0},{"$f":"INDIRECT($H$2&\"!U65\")","v":"00:00:00"},{"$f":"INDIRECT($H$2&\"!V65\")","v":0},"مدفوع"]
[{"$f":"INDIRECT($H$2&\"!A66\")","v":0},{"$f":"INDIRECT($H$2&\"!b66\")","v":0},{"$f":"INDIRECT($H$2&\"!C66\")","v":0},{"$f":"INDIRECT($H$2&\"!D66\")","v":0},{"$f":"INDIRECT($H$2&\"!E66\")","v":0},{"$f":"INDIRECT($H$2&\"!F66\")","v":0},{"$f":"INDIRECT($H$2&\"!G66\")","v":0},{"$f":"INDIRECT($H$2&\"!H66\")","v":0},{"$f":"INDIRECT($H$2&\"!I66\")","v":0},{"$f":"INDIRECT($H$2&\"!J66\")","v":0},{"$f":"INDIRECT($H$2&\"!K66\")","v":0},{"$f":"INDIRECT($H$2&\"!L66\")","v":0},{"$f":"INDIRECT($H$2&\"!M66\")","v":0},{"$f":"INDIRECT($H$2&\"!N66\")","v":0},{"$f":"INDIRECT($H$2&\"!O66\")","v":0},{"$f":"INDIRECT($H$2&\"!P66\")","v":0},{"$f":"INDIRECT($H$2&\"!Q66\")","v":0},{"$f":"INDIRECT($H$2&\"!R66\")","v":0},{"$f":"INDIRECT($H$2&\"!S66\")","v":0},{"$f":"INDIRECT($H$2&\"!T66\")","v":0},{"$f":"INDIRECT($H$2&\"!U66\")","v":"00:00:00"},{"$f":"INDIRECT($H$2&\"!V66\")","v":0},"مدفوع"]
[{"$f":"INDIRECT($H$2&\"!A67\")","v":0},{"$f":"INDIRECT($H$2&\"!b67\")","v":0},{"$f":"INDIRECT($H$2&\"!C67\")","v":0},{"$f":"INDIRECT($H$2&\"!D67\")","v":0},{"$f":"INDIRECT($H$2&\"!E67\")","v":0},{"$f":"INDIRECT($H$2&\"!F67\")","v":0},{"$f":"INDIRECT($H$2&\"!G67\")","v":0},{"$f":"INDIRECT($H$2&\"!H67\")","v":0},{"$f":"INDIRECT($H$2&\"!I67\")","v":0},{"$f":"INDIRECT($H$2&\"!J67\")","v":0},{"$f":"INDIRECT($H$2&\"!K67\")","v":0},{"$f":"INDIRECT($H$2&\"!L67\")","v":0},{"$f":"INDIRECT($H$2&\"!M67\")","v":0},{"$f":"INDIRECT($H$2&\"!N67\")","v":0},{"$f":"INDIRECT($H$2&\"!O67\")","v":0},{"$f":"INDIRECT($H$2&\"!P67\")","v":0},{"$f":"INDIRECT($H$2&\"!Q67\")","v":0},{"$f":"INDIRECT($H$2&\"!R67\")","v":0},{"$f":"INDIRECT($H$2&\"!S67\")","v":0},{"$f":"INDIRECT($H$2&\"!T67\")","v":0},{"$f":"INDIRECT($H$2&\"!U67\")","v":"00:00:00"},{"$f":"INDIRECT($H$2&\"!V67\")","v":0},"مدفوع"]
[{"$f":"INDIRECT($H$2&\"!A68\")","v":0},{"$f":"INDIRECT($H$2&\"!b68\")","v":0},{"$f":"INDIRECT($H$2&\"!C68\")","v":0},{"$f":"INDIRECT($H$2&\"!D68\")","v":0},{"$f":"INDIRECT($H$2&\"!E68\")","v":0},{"$f":"INDIRECT($H$2&\"!F68\")","v":0},{"$f":"INDIRECT($H$2&\"!G68\")","v":0},{"$f":"INDIRECT($H$2&\"!H68\")","v":0},{"$f":"INDIRECT($H$2&\"!I68\")","v":0},{"$f":"INDIRECT($H$2&\"!J68\")","v":0},{"$f":"INDIRECT($H$2&\"!K68\")","v":0},{"$f":"INDIRECT($H$2&\"!L68\")","v":0},{"$f":"INDIRECT($H$2&\"!M68\")","v":0},{"$f":"INDIRECT($H$2&\"!N68\")","v":0},{"$f":"INDIRECT($H$2&\"!O68\")","v":0},{"$f":"INDIRECT($H$2&\"!P68\")","v":0},{"$f":"INDIRECT($H$2&\"!Q68\")","v":0},{"$f":"INDIRECT($H$2&\"!R68\")","v":0},{"$f":"INDIRECT($H$2&\"!S68\")","v":0},{"$f":"INDIRECT($H$2&\"!T68\")","v":0},{"$f":"INDIRECT($H$2&\"!U68\")","v":"00:00:00"},{"$f":"INDIRECT($H$2&\"!V68\")","v":0},"مدفوع"]
[{"$f":"INDIRECT($H$2&\"!A69\")","v":0},{"$f":"INDIRECT($H$2&\"!b69\")","v":0},{"$f":"INDIRECT($H$2&\"!C69\")","v":0},{"$f":"INDIRECT($H$2&\"!D69\")","v":0},{"$f":"INDIRECT($H$2&\"!E69\")","v":0},{"$f":"INDIRECT($H$2&\"!F69\")","v":0},{"$f":"INDIRECT($H$2&\"!G69\")","v":0},{"$f":"INDIRECT($H$2&\"!H69\")","v":0},{"$f":"INDIRECT($H$2&\"!I69\")","v":0},{"$f":"INDIRECT($H$2&\"!J69\")","v":0},{"$f":"INDIRECT($H$2&\"!K69\")","v":0},{"$f":"INDIRECT($H$2&\"!L69\")","v":0},{"$f":"INDIRECT($H$2&\"!M69\")","v":0},{"$f":"INDIRECT($H$2&\"!N69\")","v":0},{"$f":"INDIRECT($H$2&\"!O69\")","v":0},{"$f":"INDIRECT($H$2&\"!P69\")","v":0},{"$f":"INDIRECT($H$2&\"!Q69\")","v":0},{"$f":"INDIRECT($H$2&\"!R69\")","v":0},{"$f":"INDIRECT($H$2&\"!S69\")","v":0},{"$f":"INDIRECT($H$2&\"!T69\")","v":0},{"$f":"INDIRECT($H$2&\"!U69\")","v":"00:00:00"},{"$f":"INDIRECT($H$2&\"!V69\")","v":0},{"$f":"IF(V72<=0,\"مدفوع\",\"غير مدفوع\")","v":"مدفوع"}]
[{"$f":"INDIRECT($H$2&\"!A70\")","v":0},{"$f":"INDIRECT($H$2&\"!b70\")","v":0},{"$f":"INDIRECT($H$2&\"!C70\")","v":0},{"$f":"INDIRECT($H$2&\"!D70\")","v":0},{"$f":"INDIRECT($H$2&\"!E70\")","v":0},{"$f":"INDIRECT($H$2&\"!F70\")","v":0},{"$f":"INDIRECT($H$2&\"!G70\")","v":0},{"$f":"INDIRECT($H$2&\"!H70\")","v":0},{"$f":"INDIRECT($H$2&\"!I70\")","v":0},{"$f":"INDIRECT($H$2&\"!J70\")","v":0},{"$f":"INDIRECT($H$2&\"!K70\")","v":0},{"$f":"INDIRECT($H$2&\"!L70\")","v":0},{"$f":"INDIRECT($H$2&\"!M70\")","v":0},{"$f":"INDIRECT($H$2&\"!N70\")","v":0},{"$f":"INDIRECT($H$2&\"!O70\")","v":0},{"$f":"INDIRECT($H$2&\"!P70\")","v":0},{"$f":"INDIRECT($H$2&\"!Q70\")","v":0},{"$f":"INDIRECT($H$2&\"!R70\")","v":0},{"$f":"INDIRECT($H$2&\"!S70\")","v":0},{"$f":"INDIRECT($H$2&\"!T70\")","v":0},{"$f":"INDIRECT($H$2&\"!U70\")","v":"00:00:00"},{"$f":"INDIRECT($H$2&\"!V70\")","v":0},"مدفوع"]
[{"$f":"INDIRECT($H$2&\"!A71\")","v":0},{"$f":"INDIRECT($H$2&\"!b71\")","v":0},{"$f":"INDIRECT($H$2&\"!C71\")","v":0},{"$f":"INDIRECT($H$2&\"!D71\")","v":0},{"$f":"INDIRECT($H$2&\"!E71\")","v":0},{"$f":"INDIRECT($H$2&\"!F71\")","v":0},{"$f":"INDIRECT($H$2&\"!G71\")","v":0},{"$f":"INDIRECT($H$2&\"!H71\")","v":0},{"$f":"INDIRECT($H$2&\"!I71\")","v":0},{"$f":"INDIRECT($H$2&\"!J71\")","v":0},{"$f":"INDIRECT($H$2&\"!K71\")","v":0},{"$f":"INDIRECT($H$2&\"!L71\")","v":0},{"$f":"INDIRECT($H$2&\"!M71\")","v":0},{"$f":"INDIRECT($H$2&\"!N71\")","v":0},{"$f":"INDIRECT($H$2&\"!O71\")","v":0},{"$f":"INDIRECT($H$2&\"!P71\")","v":0},{"$f":"INDIRECT($H$2&\"!Q71\")","v":0},{"$f":"INDIRECT($H$2&\"!R71\")","v":0},{"$f":"INDIRECT($H$2&\"!S71\")","v":0},{"$f":"INDIRECT($H$2&\"!T71\")","v":0},{"$f":"INDIRECT($H$2&\"!U71\")","v":"00:00:00"},{"$f":"INDIRECT($H$2&\"!V71\")","v":0},"مدفوع"]
[{"$f":"INDIRECT($H$2&\"!A72\")","v":0},{"$f":"INDIRECT($H$2&\"!b72\")","v":0},{"$f":"INDIRECT($H$2&\"!C72\")","v":0},{"$f":"INDIRECT($H$2&\"!D72\")","v":0},{"$f":"INDIRECT($H$2&\"!E72\")","v":0},{"$f":"INDIRECT($H$2&\"!F72\")","v":0},{"$f":"INDIRECT($H$2&\"!G72\")","v":0},{"$f":"INDIRECT($H$2&\"!H72\")","v":0},{"$f":"INDIRECT($H$2&\"!I72\")","v":0},{"$f":"INDIRECT($H$2&\"!J72\")","v":0},{"$f":"INDIRECT($H$2&\"!K72\")","v":0},{"$f":"INDIRECT($H$2&\"!L72\")","v":0},{"$f":"INDIRECT($H$2&\"!M72\")","v":0},{"$f":"INDIRECT($H$2&\"!N72\")","v":0},{"$f":"INDIRECT($H$2&\"!O72\")","v":0},{"$f":"INDIRECT($H$2&\"!P72\")","v":0},{"$f":"INDIRECT($H$2&\"!Q72\")","v":0},{"$f":"INDIRECT($H$2&\"!R72\")","v":0},{"$f":"INDIRECT($H$2&\"!S72\")","v":0},{"$f":"INDIRECT($H$2&\"!T72\")","v":0},{"$f":"INDIRECT($H$2&\"!U72\")","v":"00:00:00"},{"$f":"INDIRECT($H$2&\"!V72\")","v":0},"مدفوع"]
[{"$f":"INDIRECT($H$2&\"!A73\")","v":0},{"$f":"INDIRECT($H$2&\"!b73\")","v":0},{"$f":"INDIRECT($H$2&\"!C73\")","v":0},{"$f":"INDIRECT($H$2&\"!D73\")","v":0},{"$f":"INDIRECT($H$2&\"!E73\")","v":0},{"$f":"INDIRECT($H$2&\"!F73\")","v":0},{"$f":"INDIRECT($H$2&\"!G73\")","v":0},{"$f":"INDIRECT($H$2&\"!H73\")","v":0},{"$f":"INDIRECT($H$2&\"!I73\")","v":0},{"$f":"INDIRECT($H$2&\"!J73\")","v":0},{"$f":"INDIRECT($H$2&\"!K73\")","v":0},{"$f":"INDIRECT($H$2&\"!L73\")","v":0},{"$f":"INDIRECT($H$2&\"!M73\")","v":0},{"$f":"INDIRECT($H$2&\"!N73\")","v":0},{"$f":"INDIRECT($H$2&\"!O73\")","v":0},{"$f":"INDIRECT($H$2&\"!P73\")","v":0},{"$f":"INDIRECT($H$2&\"!Q73\")","v":0},{"$f":"INDIRECT($H$2&\"!R73\")","v":0},{"$f":"INDIRECT($H$2&\"!S73\")","v":0},{"$f":"INDIRECT($H$2&\"!T73\")","v":0},{"$f":"INDIRECT($H$2&\"!U73\")","v":"00:00:00"},{"$f":"INDIRECT($H$2&\"!V73\")","v":0},"مدفوع"]
[{"$f":"INDIRECT($H$2&\"!A74\")","v":0},{"$f":"INDIRECT($H$2&\"!b74\")","v":0},{"$f":"INDIRECT($H$2&\"!C74\")","v":0},{"$f":"INDIRECT($H$2&\"!D74\")","v":0},{"$f":"INDIRECT($H$2&\"!E74\")","v":0},{"$f":"INDIRECT($H$2&\"!F74\")","v":0},{"$f":"INDIRECT($H$2&\"!G74\")","v":0},{"$f":"INDIRECT($H$2&\"!H74\")","v":0},{"$f":"INDIRECT($H$2&\"!I74\")","v":0},{"$f":"INDIRECT($H$2&\"!J74\")","v":0},{"$f":"INDIRECT($H$2&\"!K74\")","v":0},{"$f":"INDIRECT($H$2&\"!L74\")","v":0},{"$f":"INDIRECT($H$2&\"!M74\")","v":0},{"$f":"INDIRECT($H$2&\"!N74\")","v":0},{"$f":"INDIRECT($H$2&\"!O74\")","v":0},{"$f":"INDIRECT($H$2&\"!P74\")","v":0},{"$f":"INDIRECT($H$2&\"!Q74\")","v":0},{"$f":"INDIRECT($H$2&\"!R74\")","v":0},{"$f":"INDIRECT($H$2&\"!S74\")","v":0},{"$f":"INDIRECT($H$2&\"!T74\")","v":0},{"$f":"INDIRECT($H$2&\"!U74\")","v":"00:00:00"},{"$f":"INDIRECT($H$2&\"!V74\")","v":0},"مدفوع"]
[{"$f":"INDIRECT($H$2&\"!A75\")","v":0},{"$f":"INDIRECT($H$2&\"!b75\")","v":0},{"$f":"INDIRECT($H$2&\"!C75\")","v":0},{"$f":"INDIRECT($H$2&\"!D75\")","v":0},{"$f":"INDIRECT($H$2&\"!E75\")","v":0},{"$f":"INDIRECT($H$2&\"!F75\")","v":0},{"$f":"INDIRECT($H$2&\"!G75\")","v":0},{"$f":"INDIRECT($H$2&\"!H75\")","v":0},{"$f":"INDIRECT($H$2&\"!I75\")","v":0},{"$f":"INDIRECT($H$2&\"!J75\")","v":0},{"$f":"INDIRECT($H$2&\"!K75\")","v":0},{"$f":"INDIRECT($H$2&\"!L75\")","v":0},{"$f":"INDIRECT($H$2&\"!M75\")","v":0},{"$f":"INDIRECT($H$2&\"!N75\")","v":0},{"$f":"INDIRECT($H$2&\"!O75\")","v":0},{"$f":"INDIRECT($H$2&\"!P75\")","v":0},{"$f":"INDIRECT($H$2&\"!Q75\")","v":0},{"$f":"INDIRECT($H$2&\"!R75\")","v":0},{"$f":"INDIRECT($H$2&\"!S75\")","v":0},{"$f":"INDIRECT($H$2&\"!T75\")","v":0},{"$f":"INDIRECT($H$2&\"!U75\")","v":"00:00:00"},{"$f":"INDIRECT($H$2&\"!V75\")","v":0},"مدفوع"]
[{"$f":"INDIRECT($H$2&\"!A76\")","v":0},{"$f":"INDIRECT($H$2&\"!b76\")","v":0},{"$f":"INDIRECT($H$2&\"!C76\")","v":0},{"$f":"INDIRECT($H$2&\"!D76\")","v":0},{"$f":"INDIRECT($H$2&\"!E76\")","v":0},{"$f":"INDIRECT($H$2&\"!F76\")","v":0},{"$f":"INDIRECT($H$2&\"!G76\")","v":0},{"$f":"INDIRECT($H$2&\"!H76\")","v":0},{"$f":"INDIRECT($H$2&\"!I76\")","v":0},{"$f":"INDIRECT($H$2&\"!J76\")","v":0},{"$f":"INDIRECT($H$2&\"!K76\")","v":0},{"$f":"INDIRECT($H$2&\"!L76\")","v":0},{"$f":"INDIRECT($H$2&\"!M76\")","v":0},{"$f":"INDIRECT($H$2&\"!N76\")","v":0},{"$f":"INDIRECT($H$2&\"!O76\")","v":0},{"$f":"INDIRECT($H$2&\"!P76\")","v":0},{"$f":"INDIRECT($H$2&\"!Q76\")","v":0},{"$f":"INDIRECT($H$2&\"!R76\")","v":0},{"$f":"INDIRECT($H$2&\"!S76\")","v":0},{"$f":"INDIRECT($H$2&\"!T76\")","v":0},{"$f":"INDIRECT($H$2&\"!U76\")","v":"00:00:00"},{"$f":"INDIRECT($H$2&\"!V76\")","v":0},"مدفوع"]
[{"$f":"INDIRECT($H$2&\"!A77\")","v":0},{"$f":"INDIRECT($H$2&\"!b77\")","v":0},{"$f":"INDIRECT($H$2&\"!C77\")","v":0},{"$f":"INDIRECT($H$2&\"!D77\")","v":0},{"$f":"INDIRECT($H$2&\"!E77\")","v":0},{"$f":"INDIRECT($H$2&\"!F77\")","v":0},{"$f":"INDIRECT($H$2&\"!G77\")","v":0},{"$f":"INDIRECT($H$2&\"!H77\")","v":0},{"$f":"INDIRECT($H$2&\"!I77\")","v":0},{"$f":"INDIRECT($H$2&\"!J77\")","v":0},{"$f":"INDIRECT($H$2&\"!K77\")","v":0},{"$f":"INDIRECT($H$2&\"!L77\")","v":0},{"$f":"INDIRECT($H$2&\"!M77\")","v":0},{"$f":"INDIRECT($H$2&\"!N77\")","v":0},{"$f":"INDIRECT($H$2&\"!O77\")","v":0},{"$f":"INDIRECT($H$2&\"!P77\")","v":0},{"$f":"INDIRECT($H$2&\"!Q77\")","v":0},{"$f":"INDIRECT($H$2&\"!R77\")","v":0},{"$f":"INDIRECT($H$2&\"!S77\")","v":0},{"$f":"INDIRECT($H$2&\"!T77\")","v":0},{"$f":"INDIRECT($H$2&\"!U77\")","v":"00:00:00"},{"$f":"INDIRECT($H$2&\"!V77\")","v":0},"مدفوع"]
[{"$f":"INDIRECT($H$2&\"!A78\")","v":0},{"$f":"INDIRECT($H$2&\"!b78\")","v":0},{"$f":"INDIRECT($H$2&\"!C78\")","v":0},{"$f":"INDIRECT($H$2&\"!D78\")","v":0},{"$f":"INDIRECT($H$2&\"!E78\")","v":0},{"$f":"INDIRECT($H$2&\"!F78\")","v":0},{"$f":"INDIRECT($H$2&\"!G78\")","v":0},{"$f":"INDIRECT($H$2&\"!H78\")","v":0},{"$f":"INDIRECT($H$2&\"!I78\")","v":0},{"$f":"INDIRECT($H$2&\"!J78\")","v":0},{"$f":"INDIRECT($H$2&\"!K78\")","v":0},{"$f":"INDIRECT($H$2&\"!L78\")","v":0},{"$f":"INDIRECT($H$2&\"!M78\")","v":0},{"$f":"INDIRECT($H$2&\"!N78\")","v":0},{"$f":"INDIRECT($H$2&\"!O78\")","v":0},{"$f":"INDIRECT($H$2&\"!P78\")","v":0},{"$f":"INDIRECT($H$2&\"!Q78\")","v":0},{"$f":"INDIRECT($H$2&\"!R78\")","v":0},{"$f":"INDIRECT($H$2&\"!S78\")","v":0},{"$f":"INDIRECT($H$2&\"!T78\")","v":0},{"$f":"INDIRECT($H$2&\"!U78\")","v":"00:00:00"},{"$f":"INDIRECT($H$2&\"!V78\")","v":0},"مدفوع"]
[{"$f":"INDIRECT($H$2&\"!A79\")","v":0},{"$f":"INDIRECT($H$2&\"!b79\")","v":0},{"$f":"INDIRECT($H$2&\"!C79\")","v":0},{"$f":"INDIRECT($H$2&\"!D79\")","v":0},{"$f":"INDIRECT($H$2&\"!E79\")","v":0},{"$f":"INDIRECT($H$2&\"!F79\")","v":0},{"$f":"INDIRECT($H$2&\"!G79\")","v":0},{"$f":"INDIRECT($H$2&\"!H79\")","v":0},{"$f":"INDIRECT($H$2&\"!I79\")","v":0},{"$f":"INDIRECT($H$2&\"!J79\")","v":0},{"$f":"INDIRECT($H$2&\"!K79\")","v":0},{"$f":"INDIRECT($H$2&\"!L79\")","v":0},{"$f":"INDIRECT($H$2&\"!M79\")","v":0},{"$f":"INDIRECT($H$2&\"!N79\")","v":0},{"$f":"INDIRECT($H$2&\"!O79\")","v":0},{"$f":"INDIRECT($H$2&\"!P79\")","v":0},{"$f":"INDIRECT($H$2&\"!Q79\")","v":0},{"$f":"INDIRECT($H$2&\"!R79\")","v":0},{"$f":"INDIRECT($H$2&\"!S79\")","v":0},{"$f":"INDIRECT($H$2&\"!T79\")","v":0},{"$f":"INDIRECT($H$2&\"!U79\")","v":"00:00:00"},{"$f":"INDIRECT($H$2&\"!V79\")","v":0},"مدفوع"]
[{"$f":"INDIRECT($H$2&\"!A80\")","v":0},{"$f":"INDIRECT($H$2&\"!b80\")","v":0},{"$f":"INDIRECT($H$2&\"!C80\")","v":0},{"$f":"INDIRECT($H$2&\"!D80\")","v":0},{"$f":"INDIRECT($H$2&\"!E80\")","v":0},{"$f":"INDIRECT($H$2&\"!F80\")","v":0},{"$f":"INDIRECT($H$2&\"!G80\")","v":0},{"$f":"INDIRECT($H$2&\"!H80\")","v":0},{"$f":"INDIRECT($H$2&\"!I80\")","v":0},{"$f":"INDIRECT($H$2&\"!J80\")","v":0},{"$f":"INDIRECT($H$2&\"!K80\")","v":0},{"$f":"INDIRECT($H$2&\"!L80\")","v":0},{"$f":"INDIRECT($H$2&\"!M80\")","v":0},{"$f":"INDIRECT($H$2&\"!N80\")","v":0},{"$f":"INDIRECT($H$2&\"!O80\")","v":0},{"$f":"INDIRECT($H$2&\"!P80\")","v":0},{"$f":"INDIRECT($H$2&\"!Q80\")","v":0},{"$f":"INDIRECT($H$2&\"!R80\")","v":0},{"$f":"INDIRECT($H$2&\"!S80\")","v":0},{"$f":"INDIRECT($H$2&\"!T80\")","v":0},{"$f":"INDIRECT($H$2&\"!U80\")","v":"00:00:00"},{"$f":"INDIRECT($H$2&\"!V80\")","v":0},"مدفوع"]
[{"$f":"INDIRECT($H$2&\"!A81\")","v":0},{"$f":"INDIRECT($H$2&\"!b81\")","v":0},{"$f":"INDIRECT($H$2&\"!C81\")","v":0},{"$f":"INDIRECT($H$2&\"!D81\")","v":0},{"$f":"INDIRECT($H$2&\"!E81\")","v":0},{"$f":"INDIRECT($H$2&\"!F81\")","v":0},{"$f":"INDIRECT($H$2&\"!G81\")","v":0},{"$f":"INDIRECT($H$2&\"!H81\")","v":0},{"$f":"INDIRECT($H$2&\"!I81\")","v":0},{"$f":"INDIRECT($H$2&\"!J81\")","v":0},{"$f":"INDIRECT($H$2&\"!K81\")","v":0},{"$f":"INDIRECT($H$2&\"!L81\")","v":0},{"$f":"INDIRECT($H$2&\"!M81\")","v":0},{"$f":"INDIRECT($H$2&\"!N81\")","v":0},{"$f":"INDIRECT($H$2&\"!O81\")","v":0},{"$f":"INDIRECT($H$2&\"!P81\")","v":0},{"$f":"INDIRECT($H$2&\"!Q81\")","v":0},{"$f":"INDIRECT($H$2&\"!R81\")","v":0},{"$f":"INDIRECT($H$2&\"!S81\")","v":0},{"$f":"INDIRECT($H$2&\"!T81\")","v":0},{"$f":"INDIRECT($H$2&\"!U81\")","v":"00:00:00"},{"$f":"INDIRECT($H$2&\"!V81\")","v":0},"مدفوع"]
[{"$f":"INDIRECT($H$2&\"!A82\")","v":0},{"$f":"INDIRECT($H$2&\"!b82\")","v":0},{"$f":"INDIRECT($H$2&\"!C82\")","v":0},{"$f":"INDIRECT($H$2&\"!D82\")","v":0},{"$f":"INDIRECT($H$2&\"!E82\")","v":0},{"$f":"INDIRECT($H$2&\"!F82\")","v":0},{"$f":"INDIRECT($H$2&\"!G82\")","v":0},{"$f":"INDIRECT($H$2&\"!H82\")","v":0},{"$f":"INDIRECT($H$2&\"!I82\")","v":0},{"$f":"INDIRECT($H$2&\"!J82\")","v":0},{"$f":"INDIRECT($H$2&\"!K82\")","v":0},{"$f":"INDIRECT($H$2&\"!L82\")","v":0},{"$f":"INDIRECT($H$2&\"!M82\")","v":0},{"$f":"INDIRECT($H$2&\"!N82\")","v":0},{"$f":"INDIRECT($H$2&\"!O82\")","v":0},{"$f":"INDIRECT($H$2&\"!P82\")","v":0},{"$f":"INDIRECT($H$2&\"!Q82\")","v":0},{"$f":"INDIRECT($H$2&\"!R82\")","v":0},{"$f":"INDIRECT($H$2&\"!S82\")","v":0},{"$f":"INDIRECT($H$2&\"!T82\")","v":0},{"$f":"INDIRECT($H$2&\"!U82\")","v":"00:00:00"},{"$f":"INDIRECT($H$2&\"!V82\")","v":0},"مدفوع"]
[{"$f":"INDIRECT($H$2&\"!A83\")","v":0},{"$f":"INDIRECT($H$2&\"!b83\")","v":0},{"$f":"INDIRECT($H$2&\"!C83\")","v":0},{"$f":"INDIRECT($H$2&\"!D83\")","v":0},{"$f":"INDIRECT($H$2&\"!E83\")","v":0},{"$f":"INDIRECT($H$2&\"!F83\")","v":0},{"$f":"INDIRECT($H$2&\"!G83\")","v":0},{"$f":"INDIRECT($H$2&\"!H83\")","v":0},{"$f":"INDIRECT($H$2&\"!I83\")","v":0},{"$f":"INDIRECT($H$2&\"!J83\")","v":0},{"$f":"INDIRECT($H$2&\"!K83\")","v":0},{"$f":"INDIRECT($H$2&\"!L83\")","v":0},{"$f":"INDIRECT($H$2&\"!M83\")","v":0},{"$f":"INDIRECT($H$2&\"!N83\")","v":0},{"$f":"INDIRECT($H$2&\"!O83\")","v":0},{"$f":"INDIRECT($H$2&\"!P83\")","v":0},{"$f":"INDIRECT($H$2&\"!Q83\")","v":0},{"$f":"INDIRECT($H$2&\"!R83\")","v":0},{"$f":"INDIRECT($H$2&\"!S83\")","v":0},{"$f":"INDIRECT($H$2&\"!T83\")","v":0},{"$f":"INDIRECT($H$2&\"!U83\")","v":"00:00:00"},{"$f":"INDIRECT($H$2&\"!V83\")","v":0},"مدفوع"]
[{"$f":"INDIRECT($H$2&\"!A84\")","v":0},{"$f":"INDIRECT($H$2&\"!b84\")","v":0},{"$f":"INDIRECT($H$2&\"!C84\")","v":0},{"$f":"INDIRECT($H$2&\"!D84\")","v":0},{"$f":"INDIRECT($H$2&\"!E84\")","v":0},{"$f":"INDIRECT($H$2&\"!F84\")","v":0},{"$f":"INDIRECT($H$2&\"!G84\")","v":0},{"$f":"INDIRECT($H$2&\"!H84\")","v":0},{"$f":"INDIRECT($H$2&\"!I84\")","v":0},{"$f":"INDIRECT($H$2&\"!J84\")","v":0},{"$f":"INDIRECT($H$2&\"!K84\")","v":0},{"$f":"INDIRECT($H$2&\"!L84\")","v":0},{"$f":"INDIRECT($H$2&\"!M84\")","v":0},{"$f":"INDIRECT($H$2&\"!N84\")","v":0},{"$f":"INDIRECT($H$2&\"!O84\")","v":0},{"$f":"INDIRECT($H$2&\"!P84\")","v":0},{"$f":"INDIRECT($H$2&\"!Q84\")","v":0},{"$f":"INDIRECT($H$2&\"!R84\")","v":0},{"$f":"INDIRECT($H$2&\"!S84\")","v":0},{"$f":"INDIRECT($H$2&\"!T84\")","v":0},{"$f":"INDIRECT($H$2&\"!U84\")","v":"00:00:00"},{"$f":"INDIRECT($H$2&\"!V84\")","v":0},"مدفوع"]
[{"$f":"INDIRECT($H$2&\"!A85\")","v":0},{"$f":"INDIRECT($H$2&\"!b85\")","v":0},{"$f":"INDIRECT($H$2&\"!C85\")","v":0},{"$f":"INDIRECT($H$2&\"!D85\")","v":0},{"$f":"INDIRECT($H$2&\"!E85\")","v":0},{"$f":"INDIRECT($H$2&\"!F85\")","v":0},{"$f":"INDIRECT($H$2&\"!G85\")","v":0},{"$f":"INDIRECT($H$2&\"!H85\")","v":0},{"$f":"INDIRECT($H$2&\"!I85\")","v":0},{"$f":"INDIRECT($H$2&\"!J85\")","v":0},{"$f":"INDIRECT($H$2&\"!K85\")","v":0},{"$f":"INDIRECT($H$2&\"!L85\")","v":0},{"$f":"INDIRECT($H$2&\"!M85\")","v":0},{"$f":"INDIRECT($H$2&\"!N85\")","v":0},{"$f":"INDIRECT($H$2&\"!O85\")","v":0},{"$f":"INDIRECT($H$2&\"!P85\")","v":0},{"$f":"INDIRECT($H$2&\"!Q85\")","v":0},{"$f":"INDIRECT($H$2&\"!R85\")","v":0},{"$f":"INDIRECT($H$2&\"!S85\")","v":0},{"$f":"INDIRECT($H$2&\"!T85\")","v":0},{"$f":"INDIRECT($H$2&\"!U85\")","v":"00:00:00"},{"$f":"INDIRECT($H$2&\"!V85\")","v":0},"مدفوع"]
[{"$f":"INDIRECT($H$2&\"!A86\")","v":0},{"$f":"INDIRECT($H$2&\"!b86\")","v":0},{"$f":"INDIRECT($H$2&\"!C86\")","v":0},{"$f":"INDIRECT($H$2&\"!D86\")","v":0},{"$f":"INDIRECT($H$2&\"!E86\")","v":0},{"$f":"INDIRECT($H$2&\"!F86\")","v":0},{"$f":"INDIRECT($H$2&\"!G86\")","v":0},{"$f":"INDIRECT($H$2&\"!H86\")","v":0},{"$f":"INDIRECT($H$2&\"!I86\")","v":0},{"$f":"INDIRECT($H$2&\"!J86\")","v":0},{"$f":"INDIRECT($H$2&\"!K86\")","v":0},{"$f":"INDIRECT($H$2&\"!L86\")","v":0},{"$f":"INDIRECT($H$2&\"!M86\")","v":0},{"$f":"INDIRECT($H$2&\"!N86\")","v":0},{"$f":"INDIRECT($H$2&\"!O86\")","v":0},{"$f":"INDIRECT($H$2&\"!P86\")","v":0},{"$f":"INDIRECT($H$2&\"!Q86\")","v":0},{"$f":"INDIRECT($H$2&\"!R86\")","v":0},{"$f":"INDIRECT($H$2&\"!S86\")","v":0},{"$f":"INDIRECT($H$2&\"!T86\")","v":0},{"$f":"INDIRECT($H$2&\"!U86\")","v":"00:00:00"},{"$f":"INDIRECT($H$2&\"!V86\")","v":0},"مدفوع"]
[{"$f":"INDIRECT($H$2&\"!A87\")","v":0},{"$f":"INDIRECT($H$2&\"!b87\")","v":0},{"$f":"INDIRECT($H$2&\"!C87\")","v":0},{"$f":"INDIRECT($H$2&\"!D87\")","v":0},{"$f":"INDIRECT($H$2&\"!E87\")","v":0},{"$f":"INDIRECT($H$2&\"!F87\")","v":0},{"$f":"INDIRECT($H$2&\"!G87\")","v":0},{"$f":"INDIRECT($H$2&\"!H87\")","v":0},{"$f":"INDIRECT($H$2&\"!I87\")","v":0},{"$f":"INDIRECT($H$2&\"!J87\")","v":0},{"$f":"INDIRECT($H$2&\"!K87\")","v":0},{"$f":"INDIRECT($H$2&\"!L87\")","v":0},{"$f":"INDIRECT($H$2&\"!M87\")","v":0},{"$f":"INDIRECT($H$2&\"!N87\")","v":0},{"$f":"INDIRECT($H$2&\"!O87\")","v":0},{"$f":"INDIRECT($H$2&\"!P87\")","v":0},{"$f":"INDIRECT($H$2&\"!Q87\")","v":0},{"$f":"INDIRECT($H$2&\"!R87\")","v":0},{"$f":"INDIRECT($H$2&\"!S87\")","v":0},{"$f":"INDIRECT($H$2&\"!T87\")","v":0},{"$f":"INDIRECT($H$2&\"!U87\")","v":"00:00:00"},{"$f":"INDIRECT($H$2&\"!V87\")","v":0},"مدفوع"]
[{"$f":"INDIRECT($H$2&\"!A88\")","v":0},{"$f":"INDIRECT($H$2&\"!b88\")","v":0},{"$f":"INDIRECT($H$2&\"!C88\")","v":0},{"$f":"INDIRECT($H$2&\"!D88\")","v":0},{"$f":"INDIRECT($H$2&\"!E88\")","v":0},{"$f":"INDIRECT($H$2&\"!F88\")","v":0},{"$f":"INDIRECT($H$2&\"!G88\")","v":0},{"$f":"INDIRECT($H$2&\"!H88\")","v":0},{"$f":"INDIRECT($H$2&\"!I88\")","v":0},{"$f":"INDIRECT($H$2&\"!J88\")","v":0},{"$f":"INDIRECT($H$2&\"!K88\")","v":0},{"$f":"INDIRECT($H$2&\"!L88\")","v":0},{"$f":"INDIRECT($H$2&\"!M88\")","v":0},{"$f":"INDIRECT($H$2&\"!N88\")","v":0},{"$f":"INDIRECT($H$2&\"!O88\")","v":0},{"$f":"INDIRECT($H$2&\"!P88\")","v":0},{"$f":"INDIRECT($H$2&\"!Q88\")","v":0},{"$f":"INDIRECT($H$2&\"!R88\")","v":0},{"$f":"INDIRECT($H$2&\"!S88\")","v":0},{"$f":"INDIRECT($H$2&\"!T88\")","v":0},{"$f":"INDIRECT($H$2&\"!U88\")","v":"00:00:00"},{"$f":"INDIRECT($H$2&\"!V88\")","v":0},"مدفوع"]
[{"$f":"INDIRECT($H$2&\"!A89\")","v":0},{"$f":"INDIRECT($H$2&\"!b89\")","v":0},{"$f":"INDIRECT($H$2&\"!C89\")","v":0},{"$f":"INDIRECT($H$2&\"!D89\")","v":0},{"$f":"INDIRECT($H$2&\"!E89\")","v":0},{"$f":"INDIRECT($H$2&\"!F89\")","v":0},{"$f":"INDIRECT($H$2&\"!G89\")","v":0},{"$f":"INDIRECT($H$2&\"!H89\")","v":0},{"$f":"INDIRECT($H$2&\"!I89\")","v":0},{"$f":"INDIRECT($H$2&\"!J89\")","v":0},{"$f":"INDIRECT($H$2&\"!K89\")","v":0},{"$f":"INDIRECT($H$2&\"!L89\")","v":0},{"$f":"INDIRECT($H$2&\"!M89\")","v":0},{"$f":"INDIRECT($H$2&\"!N89\")","v":0},{"$f":"INDIRECT($H$2&\"!O89\")","v":0},{"$f":"INDIRECT($H$2&\"!P89\")","v":0},{"$f":"INDIRECT($H$2&\"!Q89\")","v":0},{"$f":"INDIRECT($H$2&\"!R89\")","v":0},{"$f":"INDIRECT($H$2&\"!S89\")","v":0},{"$f":"INDIRECT($H$2&\"!T89\")","v":0},{"$f":"INDIRECT($H$2&\"!U89\")","v":"00:00:00"},{"$f":"INDIRECT($H$2&\"!V89\")","v":0},"مدفوع"]
[{"$f":"INDIRECT($H$2&\"!A90\")","v":0},{"$f":"INDIRECT($H$2&\"!b90\")","v":0},{"$f":"INDIRECT($H$2&\"!C90\")","v":0},{"$f":"INDIRECT($H$2&\"!D90\")","v":0},{"$f":"INDIRECT($H$2&\"!E90\")","v":0},{"$f":"INDIRECT($H$2&\"!F90\")","v":0},{"$f":"INDIRECT($H$2&\"!G90\")","v":0},{"$f":"INDIRECT($H$2&\"!H90\")","v":0},{"$f":"INDIRECT($H$2&\"!I90\")","v":0},{"$f":"INDIRECT($H$2&\"!J90\")","v":0},{"$f":"INDIRECT($H$2&\"!K90\")","v":0},{"$f":"INDIRECT($H$2&\"!L90\")","v":0},{"$f":"INDIRECT($H$2&\"!M90\")","v":0},{"$f":"INDIRECT($H$2&\"!N90\")","v":0},{"$f":"INDIRECT($H$2&\"!O90\")","v":0},{"$f":"INDIRECT($H$2&\"!P90\")","v":0},{"$f":"INDIRECT($H$2&\"!Q90\")","v":0},{"$f":"INDIRECT($H$2&\"!R90\")","v":0},{"$f":"INDIRECT($H$2&\"!S90\")","v":0},{"$f":"INDIRECT($H$2&\"!T90\")","v":0},{"$f":"INDIRECT($H$2&\"!U90\")","v":"00:00:00"},{"$f":"INDIRECT($H$2&\"!V90\")","v":0},"مدفوع"]
[{"$f":"INDIRECT($H$2&\"!A91\")","v":0},{"$f":"INDIRECT($H$2&\"!b91\")","v":0},{"$f":"INDIRECT($H$2&\"!C91\")","v":0},{"$f":"INDIRECT($H$2&\"!D91\")","v":0},{"$f":"INDIRECT($H$2&\"!E91\")","v":0},{"$f":"INDIRECT($H$2&\"!F91\")","v":0},{"$f":"INDIRECT($H$2&\"!G91\")","v":0},{"$f":"INDIRECT($H$2&\"!H91\")","v":0},{"$f":"INDIRECT($H$2&\"!I91\")","v":0},{"$f":"INDIRECT($H$2&\"!J91\")","v":0},{"$f":"INDIRECT($H$2&\"!K91\")","v":0},{"$f":"INDIRECT($H$2&\"!L91\")","v":0},{"$f":"INDIRECT($H$2&\"!M91\")","v":0},{"$f":"INDIRECT($H$2&\"!N91\")","v":0},{"$f":"INDIRECT($H$2&\"!O91\")","v":0},{"$f":"INDIRECT($H$2&\"!P91\")","v":0},{"$f":"INDIRECT($H$2&\"!Q91\")","v":0},{"$f":"INDIRECT($H$2&\"!R91\")","v":0},{"$f":"INDIRECT($H$2&\"!S91\")","v":0},{"$f":"INDIRECT($H$2&\"!T91\")","v":0},{"$f":"INDIRECT($H$2&\"!U91\")","v":"00:00:00"},{"$f":"INDIRECT($H$2&\"!V91\")","v":0},"مدفوع"]
[{"$f":"INDIRECT($H$2&\"!A92\")","v":0},{"$f":"INDIRECT($H$2&\"!b92\")","v":0},{"$f":"INDIRECT($H$2&\"!C92\")","v":0},{"$f":"INDIRECT($H$2&\"!D92\")","v":0},{"$f":"INDIRECT($H$2&\"!E92\")","v":0},{"$f":"INDIRECT($H$2&\"!F92\")","v":0},{"$f":"INDIRECT($H$2&\"!G92\")","v":0},{"$f":"INDIRECT($H$2&\"!H92\")","v":0},{"$f":"INDIRECT($H$2&\"!I92\")","v":0},{"$f":"INDIRECT($H$2&\"!J92\")","v":0},{"$f":"INDIRECT($H$2&\"!K92\")","v":0},{"$f":"INDIRECT($H$2&\"!L92\")","v":0},{"$f":"INDIRECT($H$2&\"!M92\")","v":0},{"$f":"INDIRECT($H$2&\"!N92\")","v":0},{"$f":"INDIRECT($H$2&\"!O92\")","v":0},{"$f":"INDIRECT($H$2&\"!P92\")","v":0},{"$f":"INDIRECT($H$2&\"!Q92\")","v":0},{"$f":"INDIRECT($H$2&\"!R92\")","v":0},{"$f":"INDIRECT($H$2&\"!S92\")","v":0},{"$f":"INDIRECT($H$2&\"!T92\")","v":0},{"$f":"INDIRECT($H$2&\"!U92\")","v":"00:00:00"},{"$f":"INDIRECT($H$2&\"!V92\")","v":0},"مدفوع"]
[{"$f":"INDIRECT($H$2&\"!A93\")","v":0},{"$f":"INDIRECT($H$2&\"!b93\")","v":0},{"$f":"INDIRECT($H$2&\"!C93\")","v":0},{"$f":"INDIRECT($H$2&\"!D93\")","v":0},{"$f":"INDIRECT($H$2&\"!E93\")","v":0},{"$f":"INDIRECT($H$2&\"!F93\")","v":0},{"$f":"INDIRECT($H$2&\"!G93\")","v":0},{"$f":"INDIRECT($H$2&\"!H93\")","v":0},{"$f":"INDIRECT($H$2&\"!I93\")","v":0},{"$f":"INDIRECT($H$2&\"!J93\")","v":0},{"$f":"INDIRECT($H$2&\"!K93\")","v":0},{"$f":"INDIRECT($H$2&\"!L93\")","v":0},{"$f":"INDIRECT($H$2&\"!M93\")","v":0},{"$f":"INDIRECT($H$2&\"!N93\")","v":0},{"$f":"INDIRECT($H$2&\"!O93\")","v":0},{"$f":"INDIRECT($H$2&\"!P93\")","v":0},{"$f":"INDIRECT($H$2&\"!Q93\")","v":0},{"$f":"INDIRECT($H$2&\"!R93\")","v":0},{"$f":"INDIRECT($H$2&\"!S93\")","v":0},{"$f":"INDIRECT($H$2&\"!T93\")","v":0},{"$f":"INDIRECT($H$2&\"!U93\")","v":"00:00:00"},{"$f":"INDIRECT($H$2&\"!V93\")","v":0},"مدفوع"]
[{"$f":"INDIRECT($H$2&\"!A94\")","v":0},{"$f":"INDIRECT($H$2&\"!b94\")","v":0},{"$f":"INDIRECT($H$2&\"!C94\")","v":0},{"$f":"INDIRECT($H$2&\"!D94\")","v":0},{"$f":"INDIRECT($H$2&\"!E94\")","v":0},{"$f":"INDIRECT($H$2&\"!F94\")","v":0},{"$f":"INDIRECT($H$2&\"!G94\")","v":0},{"$f":"INDIRECT($H$2&\"!H94\")","v":0},{"$f":"INDIRECT($H$2&\"!I94\")","v":0},{"$f":"INDIRECT($H$2&\"!J94\")","v":0},{"$f":"INDIRECT($H$2&\"!K94\")","v":0},{"$f":"INDIRECT($H$2&\"!L94\")","v":0},{"$f":"INDIRECT($H$2&\"!M94\")","v":0},{"$f":"INDIRECT($H$2&\"!N94\")","v":0},{"$f":"INDIRECT($H$2&\"!O94\")","v":0},{"$f":"INDIRECT($H$2&\"!P94\")","v":0},{"$f":"INDIRECT($H$2&\"!Q94\")","v":0},{"$f":"INDIRECT($H$2&\"!R94\")","v":0},{"$f":"INDIRECT($H$2&\"!S94\")","v":0},{"$f":"INDIRECT($H$2&\"!T94\")","v":0},{"$f":"INDIRECT($H$2&\"!U94\")","v":"00:00:00"},{"$f":"INDIRECT($H$2&\"!V94\")","v":0},"مدفوع"]
[{"$f":"INDIRECT($H$2&\"!A95\")","v":0},{"$f":"INDIRECT($H$2&\"!b95\")","v":0},{"$f":"INDIRECT($H$2&\"!C95\")","v":0},{"$f":"INDIRECT($H$2&\"!D95\")","v":0},{"$f":"INDIRECT($H$2&\"!E95\")","v":0},{"$f":"INDIRECT($H$2&\"!F95\")","v":0},{"$f":"INDIRECT($H$2&\"!G95\")","v":0},{"$f":"INDIRECT($H$2&\"!H95\")","v":0},{"$f":"INDIRECT($H$2&\"!I95\")","v":0},{"$f":"INDIRECT($H$2&\"!J95\")","v":0},{"$f":"INDIRECT($H$2&\"!K95\")","v":0},{"$f":"INDIRECT($H$2&\"!L95\")","v":0},{"$f":"INDIRECT($H$2&\"!M95\")","v":0},{"$f":"INDIRECT($H$2&\"!N95\")","v":0},{"$f":"INDIRECT($H$2&\"!O95\")","v":0},{"$f":"INDIRECT($H$2&\"!P95\")","v":0},{"$f":"INDIRECT($H$2&\"!Q95\")","v":0},{"$f":"INDIRECT($H$2&\"!R95\")","v":0},{"$f":"INDIRECT($H$2&\"!S95\")","v":0},{"$f":"INDIRECT($H$2&\"!T95\")","v":0},{"$f":"INDIRECT($H$2&\"!U95\")","v":"00:00:00"},{"$f":"INDIRECT($H$2&\"!V95\")","v":0},"مدفوع"]
[{"$f":"INDIRECT($H$2&\"!A96\")","v":0},{"$f":"INDIRECT($H$2&\"!b96\")","v":0},{"$f":"INDIRECT($H$2&\"!C96\")","v":0},{"$f":"INDIRECT($H$2&\"!D96\")","v":0},{"$f":"INDIRECT($H$2&\"!E96\")","v":0},{"$f":"INDIRECT($H$2&\"!F96\")","v":0},{"$f":"INDIRECT($H$2&\"!G96\")","v":0},{"$f":"INDIRECT($H$2&\"!H96\")","v":0},{"$f":"INDIRECT($H$2&\"!I96\")","v":0},{"$f":"INDIRECT($H$2&\"!J96\")","v":0},{"$f":"INDIRECT($H$2&\"!K96\")","v":0},{"$f":"INDIRECT($H$2&\"!L96\")","v":0},{"$f":"INDIRECT($H$2&\"!M96\")","v":0},{"$f":"INDIRECT($H$2&\"!N96\")","v":0},{"$f":"INDIRECT($H$2&\"!O96\")","v":0},{"$f":"INDIRECT($H$2&\"!P96\")","v":0},{"$f":"INDIRECT($H$2&\"!Q96\")","v":0},{"$f":"INDIRECT($H$2&\"!R96\")","v":0},{"$f":"INDIRECT($H$2&\"!S96\")","v":0},{"$f":"INDIRECT($H$2&\"!T96\")","v":0},{"$f":"INDIRECT($H$2&\"!U96\")","v":"00:00:00"},{"$f":"INDIRECT($H$2&\"!V96\")","v":0},"مدفوع"]
[{"$f":"INDIRECT($H$2&\"!A97\")","v":0},{"$f":"INDIRECT($H$2&\"!b97\")","v":0},{"$f":"INDIRECT($H$2&\"!C97\")","v":0},{"$f":"INDIRECT($H$2&\"!D97\")","v":0},{"$f":"INDIRECT($H$2&\"!E97\")","v":0},{"$f":"INDIRECT($H$2&\"!F97\")","v":0},{"$f":"INDIRECT($H$2&\"!G97\")","v":0},{"$f":"INDIRECT($H$2&\"!H97\")","v":0},{"$f":"INDIRECT($H$2&\"!I97\")","v":0},{"$f":"INDIRECT($H$2&\"!J97\")","v":0},{"$f":"INDIRECT($H$2&\"!K97\")","v":0},{"$f":"INDIRECT($H$2&\"!L97\")","v":0},{"$f":"INDIRECT($H$2&\"!M97\")","v":0},{"$f":"INDIRECT($H$2&\"!N97\")","v":0},{"$f":"INDIRECT($H$2&\"!O97\")","v":0},{"$f":"INDIRECT($H$2&\"!P97\")","v":0},{"$f":"INDIRECT($H$2&\"!Q97\")","v":0},{"$f":"INDIRECT($H$2&\"!R97\")","v":0},{"$f":"INDIRECT($H$2&\"!S97\")","v":0},{"$f":"INDIRECT($H$2&\"!T97\")","v":0},{"$f":"INDIRECT($H$2&\"!U97\")","v":"00:00:00"},{"$f":"INDIRECT($H$2&\"!V97\")","v":0},"مدفوع"]
[{"$f":"INDIRECT($H$2&\"!A98\")","v":0},{"$f":"INDIRECT($H$2&\"!b98\")","v":0},{"$f":"INDIRECT($H$2&\"!C98\")","v":0},{"$f":"INDIRECT($H$2&\"!D98\")","v":0},{"$f":"INDIRECT($H$2&\"!E98\")","v":0},{"$f":"INDIRECT($H$2&\"!F98\")","v":0},{"$f":"INDIRECT($H$2&\"!G98\")","v":0},{"$f":"INDIRECT($H$2&\"!H98\")","v":0},{"$f":"INDIRECT($H$2&\"!I98\")","v":0},{"$f":"INDIRECT($H$2&\"!J98\")","v":0},{"$f":"INDIRECT($H$2&\"!K98\")","v":0},{"$f":"INDIRECT($H$2&\"!L98\")","v":0},{"$f":"INDIRECT($H$2&\"!M98\")","v":0},{"$f":"INDIRECT($H$2&\"!N98\")","v":0},{"$f":"INDIRECT($H$2&\"!O98\")","v":0},{"$f":"INDIRECT($H$2&\"!P98\")","v":0},{"$f":"INDIRECT($H$2&\"!Q98\")","v":0},{"$f":"INDIRECT($H$2&\"!R98\")","v":0},{"$f":"INDIRECT($H$2&\"!S98\")","v":0},{"$f":"INDIRECT($H$2&\"!T98\")","v":0},{"$f":"INDIRECT($H$2&\"!U98\")","v":"00:00:00"},{"$f":"INDIRECT($H$2&\"!V98\")","v":0},"مدفوع"]
[{"$f":"INDIRECT($H$2&\"!A99\")","v":0},{"$f":"INDIRECT($H$2&\"!b99\")","v":0},{"$f":"INDIRECT($H$2&\"!C99\")","v":0},{"$f":"INDIRECT($H$2&\"!D99\")","v":0},{"$f":"INDIRECT($H$2&\"!E99\")","v":0},{"$f":"INDIRECT($H$2&\"!F99\")","v":0},{"$f":"INDIRECT($H$2&\"!G99\")","v":0},{"$f":"INDIRECT($H$2&\"!H99\")","v":0},{"$f":"INDIRECT($H$2&\"!I99\")","v":0},{"$f":"INDIRECT($H$2&\"!J99\")","v":0},{"$f":"INDIRECT($H$2&\"!K99\")","v":0},{"$f":"INDIRECT($H$2&\"!L99\")","v":0},{"$f":"INDIRECT($H$2&\"!M99\")","v":0},{"$f":"INDIRECT($H$2&\"!N99\")","v":0},{"$f":"INDIRECT($H$2&\"!O99\")","v":0},{"$f":"INDIRECT($H$2&\"!P99\")","v":0},{"$f":"INDIRECT($H$2&\"!Q99\")","v":0},{"$f":"INDIRECT($H$2&\"!R99\")","v":0},{"$f":"INDIRECT($H$2&\"!S99\")","v":0},{"$f":"INDIRECT($H$2&\"!T99\")","v":0},{"$f":"INDIRECT($H$2&\"!U99\")","v":"00:00:00"},{"$f":"INDIRECT($H$2&\"!V99\")","v":0},"مدفوع"]
[{"$f":"INDIRECT($H$2&\"!A100\")","v":0},{"$f":"INDIRECT($H$2&\"!b100\")","v":0},{"$f":"INDIRECT($H$2&\"!C100\")","v":0},{"$f":"INDIRECT($H$2&\"!D100\")","v":0},{"$f":"INDIRECT($H$2&\"!E100\")","v":0},{"$f":"INDIRECT($H$2&\"!F100\")","v":0},{"$f":"INDIRECT($H$2&\"!G100\")","v":0},{"$f":"INDIRECT($H$2&\"!H100\")","v":0},{"$f":"INDIRECT($H$2&\"!I100\")","v":0},{"$f":"INDIRECT($H$2&\"!J100\")","v":0},{"$f":"INDIRECT($H$2&\"!K100\")","v":0},{"$f":"INDIRECT($H$2&\"!L100\")","v":0},{"$f":"INDIRECT($H$2&\"!M100\")","v":0},{"$f":"INDIRECT($H$2&\"!N100\")","v":0},{"$f":"INDIRECT($H$2&\"!O100\")","v":0},{"$f":"INDIRECT($H$2&\"!P100\")","v":0},{"$f":"INDIRECT($H$2&\"!Q100\")","v":0},{"$f":"INDIRECT($H$2&\"!R100\")","v":0},{"$f":"INDIRECT($H$2&\"!S100\")","v":0},{"$f":"INDIRECT($H$2&\"!T100\")","v":0},{"$f":"INDIRECT($H$2&\"!U100\")","v":"00:00:00"},{"$f":"INDIRECT($H$2&\"!V100\")","v":0},"مدفوع"]
[{"$f":"INDIRECT($H$2&\"!A101\")","v":0},{"$f":"INDIRECT($H$2&\"!b101\")","v":0},{"$f":"INDIRECT($H$2&\"!C101\")","v":0},{"$f":"INDIRECT($H$2&\"!D101\")","v":0},{"$f":"INDIRECT($H$2&\"!E101\")","v":0},{"$f":"INDIRECT($H$2&\"!F101\")","v":0},{"$f":"INDIRECT($H$2&\"!G101\")","v":0},{"$f":"INDIRECT($H$2&\"!H101\")","v":0},{"$f":"INDIRECT($H$2&\"!I101\")","v":0},{"$f":"INDIRECT($H$2&\"!J101\")","v":0},{"$f":"INDIRECT($H$2&\"!K101\")","v":0},{"$f":"INDIRECT($H$2&\"!L101\")","v":0},{"$f":"INDIRECT($H$2&\"!M101\")","v":0},{"$f":"INDIRECT($H$2&\"!N101\")","v":0},{"$f":"INDIRECT($H$2&\"!O101\")","v":0},{"$f":"INDIRECT($H$2&\"!P101\")","v":0},{"$f":"INDIRECT($H$2&\"!Q101\")","v":0},{"$f":"INDIRECT($H$2&\"!R101\")","v":0},{"$f":"INDIRECT($H$2&\"!S101\")","v":0},{"$f":"INDIRECT($H$2&\"!T101\")","v":0},{"$f":"INDIRECT($H$2&\"!U101\")","v":"00:00:00"},{"$f":"INDIRECT($H$2&\"!V101\")","v":0},"مدفوع"]
[{"$f":"INDIRECT($H$2&\"!A102\")","v":0},{"$f":"INDIRECT($H$2&\"!b102\")","v":0},{"$f":"INDIRECT($H$2&\"!C102\")","v":0},{"$f":"INDIRECT($H$2&\"!D102\")","v":0},{"$f":"INDIRECT($H$2&\"!E102\")","v":0},{"$f":"INDIRECT($H$2&\"!F102\")","v":0},{"$f":"INDIRECT($H$2&\"!G102\")","v":0},{"$f":"INDIRECT($H$2&\"!H102\")","v":0},{"$f":"INDIRECT($H$2&\"!I102\")","v":0},{"$f":"INDIRECT($H$2&\"!J102\")","v":0},{"$f":"INDIRECT($H$2&\"!K102\")","v":0},{"$f":"INDIRECT($H$2&\"!L102\")","v":0},{"$f":"INDIRECT($H$2&\"!M102\")","v":0},{"$f":"INDIRECT($H$2&\"!N102\")","v":0},{"$f":"INDIRECT($H$2&\"!O102\")","v":0},{"$f":"INDIRECT($H$2&\"!P102\")","v":0},{"$f":"INDIRECT($H$2&\"!Q102\")","v":0},{"$f":"INDIRECT($H$2&\"!R102\")","v":0},{"$f":"INDIRECT($H$2&\"!S102\")","v":0},{"$f":"INDIRECT($H$2&\"!T102\")","v":0},{"$f":"INDIRECT($H$2&\"!U102\")","v":"00:00:00"},{"$f":"INDIRECT($H$2&\"!V102\")","v":0},"مدفوع"]
[{"$f":"INDIRECT($H$2&\"!A103\")","v":0},{"$f":"INDIRECT($H$2&\"!b103\")","v":0},{"$f":"INDIRECT($H$2&\"!C103\")","v":0},{"$f":"INDIRECT($H$2&\"!D103\")","v":0},{"$f":"INDIRECT($H$2&\"!E103\")","v":0},{"$f":"INDIRECT($H$2&\"!F103\")","v":0},{"$f":"INDIRECT($H$2&\"!G103\")","v":0},{"$f":"INDIRECT($H$2&\"!H103\")","v":0},{"$f":"INDIRECT($H$2&\"!I103\")","v":0},{"$f":"INDIRECT($H$2&\"!J103\")","v":0},{"$f":"INDIRECT($H$2&\"!K103\")","v":0},{"$f":"INDIRECT($H$2&\"!L103\")","v":0},{"$f":"INDIRECT($H$2&\"!M103\")","v":0},{"$f":"INDIRECT($H$2&\"!N103\")","v":0},{"$f":"INDIRECT($H$2&\"!O103\")","v":0},{"$f":"INDIRECT($H$2&\"!P103\")","v":0},{"$f":"INDIRECT($H$2&\"!Q103\")","v":0},{"$f":"INDIRECT($H$2&\"!R103\")","v":0},{"$f":"INDIRECT($H$2&\"!S103\")","v":0},{"$f":"INDIRECT($H$2&\"!T103\")","v":0},{"$f":"INDIRECT($H$2&\"!U103\")","v":"00:00:00"},{"$f":"INDIRECT($H$2&\"!V103\")","v":0},"مدفوع"]
[{"$f":"INDIRECT($H$2&\"!A104\")","v":0},{"$f":"INDIRECT($H$2&\"!b104\")","v":0},{"$f":"INDIRECT($H$2&\"!C104\")","v":0},{"$f":"INDIRECT($H$2&\"!D104\")","v":0},{"$f":"INDIRECT($H$2&\"!E104\")","v":0},{"$f":"INDIRECT($H$2&\"!F104\")","v":0},{"$f":"INDIRECT($H$2&\"!G104\")","v":0},{"$f":"INDIRECT($H$2&\"!H104\")","v":0},{"$f":"INDIRECT($H$2&\"!I104\")","v":0},{"$f":"INDIRECT($H$2&\"!J104\")","v":0},{"$f":"INDIRECT($H$2&\"!K104\")","v":0},{"$f":"INDIRECT($H$2&\"!L104\")","v":0},{"$f":"INDIRECT($H$2&\"!M104\")","v":0},{"$f":"INDIRECT($H$2&\"!N104\")","v":0},{"$f":"INDIRECT($H$2&\"!O104\")","v":0},{"$f":"INDIRECT($H$2&\"!P104\")","v":0},{"$f":"INDIRECT($H$2&\"!Q104\")","v":0},{"$f":"INDIRECT($H$2&\"!R104\")","v":0},{"$f":"INDIRECT($H$2&\"!S104\")","v":0},{"$f":"INDIRECT($H$2&\"!T104\")","v":0},{"$f":"INDIRECT($H$2&\"!U104\")","v":"00:00:00"},{"$f":"INDIRECT($H$2&\"!V104\")","v":0},"مدفوع"]
[{"$f":"INDIRECT($H$2&\"!A105\")","v":0},{"$f":"INDIRECT($H$2&\"!b105\")","v":0},{"$f":"INDIRECT($H$2&\"!C105\")","v":0},{"$f":"INDIRECT($H$2&\"!D105\")","v":0},{"$f":"INDIRECT($H$2&\"!E105\")","v":0},{"$f":"INDIRECT($H$2&\"!F105\")","v":0},{"$f":"INDIRECT($H$2&\"!G105\")","v":0},{"$f":"INDIRECT($H$2&\"!H105\")","v":0},{"$f":"INDIRECT($H$2&\"!I105\")","v":0},{"$f":"INDIRECT($H$2&\"!J105\")","v":0},{"$f":"INDIRECT($H$2&\"!K105\")","v":0},{"$f":"INDIRECT($H$2&\"!L105\")","v":0},{"$f":"INDIRECT($H$2&\"!M105\")","v":0},{"$f":"INDIRECT($H$2&\"!N105\")","v":0},{"$f":"INDIRECT($H$2&\"!O105\")","v":0},{"$f":"INDIRECT($H$2&\"!P105\")","v":0},{"$f":"INDIRECT($H$2&\"!Q105\")","v":0},{"$f":"INDIRECT($H$2&\"!R105\")","v":0},{"$f":"INDIRECT($H$2&\"!S105\")","v":0},{"$f":"INDIRECT($H$2&\"!T105\")","v":0},{"$f":"INDIRECT($H$2&\"!U105\")","v":"00:00:00"},{"$f":"INDIRECT($H$2&\"!V105\")","v":0},"مدفوع"]
[{"$f":"INDIRECT($H$2&\"!A106\")","v":0},{"$f":"INDIRECT($H$2&\"!b106\")","v":0},{"$f":"INDIRECT($H$2&\"!C106\")","v":0},{"$f":"INDIRECT($H$2&\"!D106\")","v":0},{"$f":"INDIRECT($H$2&\"!E106\")","v":0},{"$f":"INDIRECT($H$2&\"!F106\")","v":0},{"$f":"INDIRECT($H$2&\"!G106\")","v":0},{"$f":"INDIRECT($H$2&\"!H106\")","v":0},{"$f":"INDIRECT($H$2&\"!I106\")","v":0},{"$f":"INDIRECT($H$2&\"!J106\")","v":0},{"$f":"INDIRECT($H$2&\"!K106\")","v":0},{"$f":"INDIRECT($H$2&\"!L106\")","v":0},{"$f":"INDIRECT($H$2&\"!M106\")","v":0},{"$f":"INDIRECT($H$2&\"!N106\")","v":0},{"$f":"INDIRECT($H$2&\"!O106\")","v":0},{"$f":"INDIRECT($H$2&\"!P106\")","v":0},{"$f":"INDIRECT($H$2&\"!Q106\")","v":0},{"$f":"INDIRECT($H$2&\"!R106\")","v":0},{"$f":"INDIRECT($H$2&\"!S106\")","v":0},{"$f":"INDIRECT($H$2&\"!T106\")","v":0},{"$f":"INDIRECT($H$2&\"!U106\")","v":"00:00:00"},{"$f":"INDIRECT($H$2&\"!V106\")","v":0},"مدفوع"]
[{"$f":"INDIRECT($H$2&\"!A107\")","v":0},{"$f":"INDIRECT($H$2&\"!b107\")","v":0},{"$f":"INDIRECT($H$2&\"!C107\")","v":0},{"$f":"INDIRECT($H$2&\"!D107\")","v":0},{"$f":"INDIRECT($H$2&\"!E107\")","v":0},{"$f":"INDIRECT($H$2&\"!F107\")","v":0},{"$f":"INDIRECT($H$2&\"!G107\")","v":0},{"$f":"INDIRECT($H$2&\"!H107\")","v":0},{"$f":"INDIRECT($H$2&\"!I107\")","v":0},{"$f":"INDIRECT($H$2&\"!J107\")","v":0},{"$f":"INDIRECT($H$2&\"!K107\")","v":0},{"$f":"INDIRECT($H$2&\"!L107\")","v":0},{"$f":"INDIRECT($H$2&\"!M107\")","v":0},{"$f":"INDIRECT($H$2&\"!N107\")","v":0},{"$f":"INDIRECT($H$2&\"!O107\")","v":0},{"$f":"INDIRECT($H$2&\"!P107\")","v":0},{"$f":"INDIRECT($H$2&\"!Q107\")","v":0},{"$f":"INDIRECT($H$2&\"!R107\")","v":0},{"$f":"INDIRECT($H$2&\"!S107\")","v":0},{"$f":"INDIRECT($H$2&\"!T107\")","v":0},{"$f":"INDIRECT($H$2&\"!U107\")","v":"00:00:00"},{"$f":"INDIRECT($H$2&\"!V107\")","v":0},"مدفوع"]
[{"$f":"INDIRECT($H$2&\"!A108\")","v":0},{"$f":"INDIRECT($H$2&\"!b108\")","v":0},{"$f":"INDIRECT($H$2&\"!C108\")","v":0},{"$f":"INDIRECT($H$2&\"!D108\")","v":0},{"$f":"INDIRECT($H$2&\"!E108\")","v":0},{"$f":"INDIRECT($H$2&\"!F108\")","v":0},{"$f":"INDIRECT($H$2&\"!G108\")","v":0},{"$f":"INDIRECT($H$2&\"!H108\")","v":0},{"$f":"INDIRECT($H$2&\"!I108\")","v":0},{"$f":"INDIRECT($H$2&\"!J108\")","v":0},{"$f":"INDIRECT($H$2&\"!K108\")","v":0},{"$f":"INDIRECT($H$2&\"!L108\")","v":0},{"$f":"INDIRECT($H$2&\"!M108\")","v":0},{"$f":"INDIRECT($H$2&\"!N108\")","v":0},{"$f":"INDIRECT($H$2&\"!O108\")","v":0},{"$f":"INDIRECT($H$2&\"!P108\")","v":0},{"$f":"INDIRECT($H$2&\"!Q108\")","v":0},{"$f":"INDIRECT($H$2&\"!R108\")","v":0},{"$f":"INDIRECT($H$2&\"!S108\")","v":0},{"$f":"INDIRECT($H$2&\"!T108\")","v":0},{"$f":"INDIRECT($H$2&\"!U108\")","v":"00:00:00"},{"$f":"INDIRECT($H$2&\"!V108\")","v":0},"مدفوع"]
[{"$f":"INDIRECT($H$2&\"!A109\")","v":0},{"$f":"INDIRECT($H$2&\"!b109\")","v":0},{"$f":"INDIRECT($H$2&\"!C109\")","v":0},{"$f":"INDIRECT($H$2&\"!D109\")","v":0},{"$f":"INDIRECT($H$2&\"!E109\")","v":0},{"$f":"INDIRECT($H$2&\"!F109\")","v":0},{"$f":"INDIRECT($H$2&\"!G109\")","v":0},{"$f":"INDIRECT($H$2&\"!H109\")","v":0},{"$f":"INDIRECT($H$2&\"!I109\")","v":0},{"$f":"INDIRECT($H$2&\"!J109\")","v":0},{"$f":"INDIRECT($H$2&\"!K109\")","v":0},{"$f":"INDIRECT($H$2&\"!L109\")","v":0},{"$f":"INDIRECT($H$2&\"!M109\")","v":0},{"$f":"INDIRECT($H$2&\"!N109\")","v":0},{"$f":"INDIRECT($H$2&\"!O109\")","v":0},{"$f":"INDIRECT($H$2&\"!P109\")","v":0},{"$f":"INDIRECT($H$2&\"!Q109\")","v":0},{"$f":"INDIRECT($H$2&\"!R109\")","v":0},{"$f":"INDIRECT($H$2&\"!S109\")","v":0},{"$f":"INDIRECT($H$2&\"!T109\")","v":0},{"$f":"INDIRECT($H$2&\"!U109\")","v":"00:00:00"},{"$f":"INDIRECT($H$2&\"!V109\")","v":0},"مدفوع"]
[{"$f":"INDIRECT($H$2&\"!A110\")","v":0},{"$f":"INDIRECT($H$2&\"!b110\")","v":0},{"$f":"INDIRECT($H$2&\"!C110\")","v":0},{"$f":"INDIRECT($H$2&\"!D110\")","v":0},{"$f":"INDIRECT($H$2&\"!E110\")","v":0},{"$f":"INDIRECT($H$2&\"!F110\")","v":0},{"$f":"INDIRECT($H$2&\"!G110\")","v":0},{"$f":"INDIRECT($H$2&\"!H110\")","v":0},{"$f":"INDIRECT($H$2&\"!I110\")","v":0},{"$f":"INDIRECT($H$2&\"!J110\")","v":0},{"$f":"INDIRECT($H$2&\"!K110\")","v":0},{"$f":"INDIRECT($H$2&\"!L110\")","v":0},{"$f":"INDIRECT($H$2&\"!M110\")","v":0},{"$f":"INDIRECT($H$2&\"!N110\")","v":0},{"$f":"INDIRECT($H$2&\"!O110\")","v":0},{"$f":"INDIRECT($H$2&\"!P110\")","v":0},{"$f":"INDIRECT($H$2&\"!Q110\")","v":0},{"$f":"INDIRECT($H$2&\"!R110\")","v":0},{"$f":"INDIRECT($H$2&\"!S110\")","v":0},{"$f":"INDIRECT($H$2&\"!T110\")","v":0},{"$f":"INDIRECT($H$2&\"!U110\")","v":"00:00:00"},{"$f":"INDIRECT($H$2&\"!V110\")","v":0},"مدفوع"]
[{"$f":"INDIRECT($H$2&\"!A111\")","v":0},{"$f":"INDIRECT($H$2&\"!b111\")","v":0},{"$f":"INDIRECT($H$2&\"!C111\")","v":0},{"$f":"INDIRECT($H$2&\"!D111\")","v":0},{"$f":"INDIRECT($H$2&\"!E111\")","v":0},{"$f":"INDIRECT($H$2&\"!F111\")","v":0},{"$f":"INDIRECT($H$2&\"!G111\")","v":0},{"$f":"INDIRECT($H$2&\"!H111\")","v":0},{"$f":"INDIRECT($H$2&\"!I111\")","v":0},{"$f":"INDIRECT($H$2&\"!J111\")","v":0},{"$f":"INDIRECT($H$2&\"!K111\")","v":0},{"$f":"INDIRECT($H$2&\"!L111\")","v":0},{"$f":"INDIRECT($H$2&\"!M111\")","v":0},{"$f":"INDIRECT($H$2&\"!N111\")","v":0},{"$f":"INDIRECT($H$2&\"!O111\")","v":0},{"$f":"INDIRECT($H$2&\"!P111\")","v":0},{"$f":"INDIRECT($H$2&\"!Q111\")","v":0},{"$f":"INDIRECT($H$2&\"!R111\")","v":0},{"$f":"INDIRECT($H$2&\"!S111\")","v":0},{"$f":"INDIRECT($H$2&\"!T111\")","v":0},{"$f":"INDIRECT($H$2&\"!U111\")","v":"00:00:00"},{"$f":"INDIRECT($H$2&\"!V111\")","v":0},"مدفوع"]
[{"$f":"INDIRECT($H$2&\"!A112\")","v":0},{"$f":"INDIRECT($H$2&\"!b112\")","v":0},{"$f":"INDIRECT($H$2&\"!C112\")","v":0},{"$f":"INDIRECT($H$2&\"!D112\")","v":0},{"$f":"INDIRECT($H$2&\"!E112\")","v":0},{"$f":"INDIRECT($H$2&\"!F112\")","v":0},{"$f":"INDIRECT($H$2&\"!G112\")","v":0},{"$f":"INDIRECT($H$2&\"!H112\")","v":0},{"$f":"INDIRECT($H$2&\"!I112\")","v":0},{"$f":"INDIRECT($H$2&\"!J112\")","v":0},{"$f":"INDIRECT($H$2&\"!K112\")","v":0},{"$f":"INDIRECT($H$2&\"!L112\")","v":0},{"$f":"INDIRECT($H$2&\"!M112\")","v":0},{"$f":"INDIRECT($H$2&\"!N112\")","v":0},{"$f":"INDIRECT($H$2&\"!O112\")","v":0},{"$f":"INDIRECT($H$2&\"!P112\")","v":0},{"$f":"INDIRECT($H$2&\"!Q112\")","v":0},{"$f":"INDIRECT($H$2&\"!R112\")","v":0},{"$f":"INDIRECT($H$2&\"!S112\")","v":0},{"$f":"INDIRECT($H$2&\"!T112\")","v":0},{"$f":"INDIRECT($H$2&\"!U112\")","v":"00:00:00"},{"$f":"INDIRECT($H$2&\"!V112\")","v":0},"مدفوع"]
[{"$f":"INDIRECT($H$2&\"!A113\")","v":0},{"$f":"INDIRECT($H$2&\"!b113\")","v":0},{"$f":"INDIRECT($H$2&\"!C113\")","v":0},{"$f":"INDIRECT($H$2&\"!D113\")","v":0},{"$f":"INDIRECT($H$2&\"!E113\")","v":0},{"$f":"INDIRECT($H$2&\"!F113\")","v":0},{"$f":"INDIRECT($H$2&\"!G113\")","v":0},{"$f":"INDIRECT($H$2&\"!H113\")","v":0},{"$f":"INDIRECT($H$2&\"!I113\")","v":0},{"$f":"INDIRECT($H$2&\"!J113\")","v":0},{"$f":"INDIRECT($H$2&\"!K113\")","v":0},{"$f":"INDIRECT($H$2&\"!L113\")","v":0},{"$f":"INDIRECT($H$2&\"!M113\")","v":0},{"$f":"INDIRECT($H$2&\"!N113\")","v":0},{"$f":"INDIRECT($H$2&\"!O113\")","v":0},{"$f":"INDIRECT($H$2&\"!P113\")","v":0},{"$f":"INDIRECT($H$2&\"!Q113\")","v":0},{"$f":"INDIRECT($H$2&\"!R113\")","v":0},{"$f":"INDIRECT($H$2&\"!S113\")","v":0},{"$f":"INDIRECT($H$2&\"!T113\")","v":0},{"$f":"INDIRECT($H$2&\"!U113\")","v":"00:00:00"},{"$f":"INDIRECT($H$2&\"!V113\")","v":0},"مدفوع"]
[{"$f":"INDIRECT($H$2&\"!A114\")","v":0},{"$f":"INDIRECT($H$2&\"!b114\")","v":0},{"$f":"INDIRECT($H$2&\"!C114\")","v":0},{"$f":"INDIRECT($H$2&\"!D114\")","v":0},{"$f":"INDIRECT($H$2&\"!E114\")","v":0},{"$f":"INDIRECT($H$2&\"!F114\")","v":0},{"$f":"INDIRECT($H$2&\"!G114\")","v":0},{"$f":"INDIRECT($H$2&\"!H114\")","v":0},{"$f":"INDIRECT($H$2&\"!I114\")","v":0},{"$f":"INDIRECT($H$2&\"!J114\")","v":0},{"$f":"INDIRECT($H$2&\"!K114\")","v":0},{"$f":"INDIRECT($H$2&\"!L114\")","v":0},{"$f":"INDIRECT($H$2&\"!M114\")","v":0},{"$f":"INDIRECT($H$2&\"!N114\")","v":0},{"$f":"INDIRECT($H$2&\"!O114\")","v":0},{"$f":"INDIRECT($H$2&\"!P114\")","v":0},{"$f":"INDIRECT($H$2&\"!Q114\")","v":0},{"$f":"INDIRECT($H$2&\"!R114\")","v":0},{"$f":"INDIRECT($H$2&\"!S114\")","v":0},{"$f":"INDIRECT($H$2&\"!T114\")","v":0},{"$f":"INDIRECT($H$2&\"!U114\")","v":"00:00:00"},{"$f":"INDIRECT($H$2&\"!V114\")","v":0},"مدفوع"]
[{"$f":"INDIRECT($H$2&\"!A115\")","v":0},{"$f":"INDIRECT($H$2&\"!b115\")","v":0},{"$f":"INDIRECT($H$2&\"!C115\")","v":0},{"$f":"INDIRECT($H$2&\"!D115\")","v":0},{"$f":"INDIRECT($H$2&\"!E115\")","v":0},{"$f":"INDIRECT($H$2&\"!F115\")","v":0},{"$f":"INDIRECT($H$2&\"!G115\")","v":0},{"$f":"INDIRECT($H$2&\"!H115\")","v":0},{"$f":"INDIRECT($H$2&\"!I115\")","v":0},{"$f":"INDIRECT($H$2&\"!J115\")","v":0},{"$f":"INDIRECT($H$2&\"!K115\")","v":0},{"$f":"INDIRECT($H$2&\"!L115\")","v":0},{"$f":"INDIRECT($H$2&\"!M115\")","v":0},{"$f":"INDIRECT($H$2&\"!N115\")","v":0},{"$f":"INDIRECT($H$2&\"!O115\")","v":0},{"$f":"INDIRECT($H$2&\"!P115\")","v":0},{"$f":"INDIRECT($H$2&\"!Q115\")","v":0},{"$f":"INDIRECT($H$2&\"!R115\")","v":0},{"$f":"INDIRECT($H$2&\"!S115\")","v":0},{"$f":"INDIRECT($H$2&\"!T115\")","v":0},{"$f":"INDIRECT($H$2&\"!U115\")","v":"00:00:00"},{"$f":"INDIRECT($H$2&\"!V115\")","v":0},"مدفوع"]
[{"$f":"INDIRECT($H$2&\"!A116\")","v":0},{"$f":"INDIRECT($H$2&\"!b116\")","v":0},{"$f":"INDIRECT($H$2&\"!C116\")","v":0},{"$f":"INDIRECT($H$2&\"!D116\")","v":0},{"$f":"INDIRECT($H$2&\"!E116\")","v":0},{"$f":"INDIRECT($H$2&\"!F116\")","v":0},{"$f":"INDIRECT($H$2&\"!G116\")","v":0},{"$f":"INDIRECT($H$2&\"!H116\")","v":0},{"$f":"INDIRECT($H$2&\"!I116\")","v":0},{"$f":"INDIRECT($H$2&\"!J116\")","v":0},{"$f":"INDIRECT($H$2&\"!K116\")","v":0},{"$f":"INDIRECT($H$2&\"!L116\")","v":0},{"$f":"INDIRECT($H$2&\"!M116\")","v":0},{"$f":"INDIRECT($H$2&\"!N116\")","v":0},{"$f":"INDIRECT($H$2&\"!O116\")","v":0},{"$f":"INDIRECT($H$2&\"!P116\")","v":0},{"$f":"INDIRECT($H$2&\"!Q116\")","v":0},{"$f":"INDIRECT($H$2&\"!R116\")","v":0},{"$f":"INDIRECT($H$2&\"!S116\")","v":0},{"$f":"INDIRECT($H$2&\"!T116\")","v":0},{"$f":"INDIRECT($H$2&\"!U116\")","v":"00:00:00"},{"$f":"INDIRECT($H$2&\"!V116\")","v":0},"مدفوع"]
[{"$f":"INDIRECT($H$2&\"!A117\")","v":0},{"$f":"INDIRECT($H$2&\"!b117\")","v":0},{"$f":"INDIRECT($H$2&\"!C117\")","v":0},{"$f":"INDIRECT($H$2&\"!D117\")","v":0},{"$f":"INDIRECT($H$2&\"!E117\")","v":0},{"$f":"INDIRECT($H$2&\"!F117\")","v":0},{"$f":"INDIRECT($H$2&\"!G117\")","v":0},{"$f":"INDIRECT($H$2&\"!H117\")","v":0},{"$f":"INDIRECT($H$2&\"!I117\")","v":0},{"$f":"INDIRECT($H$2&\"!J117\")","v":0},{"$f":"INDIRECT($H$2&\"!K117\")","v":0},{"$f":"INDIRECT($H$2&\"!L117\")","v":0},{"$f":"INDIRECT($H$2&\"!M117\")","v":0},{"$f":"INDIRECT($H$2&\"!N117\")","v":0},{"$f":"INDIRECT($H$2&\"!O117\")","v":0},{"$f":"INDIRECT($H$2&\"!P117\")","v":0},{"$f":"INDIRECT($H$2&\"!Q117\")","v":0},{"$f":"INDIRECT($H$2&\"!R117\")","v":0},{"$f":"INDIRECT($H$2&\"!S117\")","v":0},{"$f":"INDIRECT($H$2&\"!T117\")","v":0},{"$f":"INDIRECT($H$2&\"!U117\")","v":"00:00:00"},{"$f":"INDIRECT($H$2&\"!V117\")","v":0},"مدفوع"]
[{"$f":"INDIRECT($H$2&\"!A118\")","v":0},{"$f":"INDIRECT($H$2&\"!b118\")","v":0},{"$f":"INDIRECT($H$2&\"!C118\")","v":0},{"$f":"INDIRECT($H$2&\"!D118\")","v":0},{"$f":"INDIRECT($H$2&\"!E118\")","v":0},{"$f":"INDIRECT($H$2&\"!F118\")","v":0},{"$f":"INDIRECT($H$2&\"!G118\")","v":0},{"$f":"INDIRECT($H$2&\"!H118\")","v":0},{"$f":"INDIRECT($H$2&\"!I118\")","v":0},{"$f":"INDIRECT($H$2&\"!J118\")","v":0},{"$f":"INDIRECT($H$2&\"!K118\")","v":0},{"$f":"INDIRECT($H$2&\"!L118\")","v":0},{"$f":"INDIRECT($H$2&\"!M118\")","v":0},{"$f":"INDIRECT($H$2&\"!N118\")","v":0},{"$f":"INDIRECT($H$2&\"!O118\")","v":0},{"$f":"INDIRECT($H$2&\"!P118\")","v":0},{"$f":"INDIRECT($H$2&\"!Q118\")","v":0},{"$f":"INDIRECT($H$2&\"!R118\")","v":0},{"$f":"INDIRECT($H$2&\"!S118\")","v":0},{"$f":"INDIRECT($H$2&\"!T118\")","v":0},{"$f":"INDIRECT($H$2&\"!U118\")","v":"00:00:00"},{"$f":"INDIRECT($H$2&\"!V118\")","v":0},"مدفوع"]
[{"$f":"INDIRECT($H$2&\"!A119\")","v":0},{"$f":"INDIRECT($H$2&\"!b119\")","v":0},{"$f":"INDIRECT($H$2&\"!C119\")","v":0},{"$f":"INDIRECT($H$2&\"!D119\")","v":0},{"$f":"INDIRECT($H$2&\"!E119\")","v":0},{"$f":"INDIRECT($H$2&\"!F119\")","v":0},{"$f":"INDIRECT($H$2&\"!G119\")","v":0},{"$f":"INDIRECT($H$2&\"!H119\")","v":0},{"$f":"INDIRECT($H$2&\"!I119\")","v":0},{"$f":"INDIRECT($H$2&\"!J119\")","v":0},{"$f":"INDIRECT($H$2&\"!K119\")","v":0},{"$f":"INDIRECT($H$2&\"!L119\")","v":0},{"$f":"INDIRECT($H$2&\"!M119\")","v":0},{"$f":"INDIRECT($H$2&\"!N119\")","v":0},{"$f":"INDIRECT($H$2&\"!O119\")","v":0},{"$f":"INDIRECT($H$2&\"!P119\")","v":0},{"$f":"INDIRECT($H$2&\"!Q119\")","v":0},{"$f":"INDIRECT($H$2&\"!R119\")","v":0},{"$f":"INDIRECT($H$2&\"!S119\")","v":0},{"$f":"INDIRECT($H$2&\"!T119\")","v":0},{"$f":"INDIRECT($H$2&\"!U119\")","v":"00:00:00"},{"$f":"INDIRECT($H$2&\"!V119\")","v":0},"مدفوع"]
[{"$f":"INDIRECT($H$2&\"!A120\")","v":0},{"$f":"INDIRECT($H$2&\"!b120\")","v":0},{"$f":"INDIRECT($H$2&\"!C120\")","v":0},{"$f":"INDIRECT($H$2&\"!D120\")","v":0},{"$f":"INDIRECT($H$2&\"!E120\")","v":0},{"$f":"INDIRECT($H$2&\"!F120\")","v":0},{"$f":"INDIRECT($H$2&\"!G120\")","v":0},{"$f":"INDIRECT($H$2&\"!H120\")","v":0},{"$f":"INDIRECT($H$2&\"!I120\")","v":0},{"$f":"INDIRECT($H$2&\"!J120\")","v":0},{"$f":"INDIRECT($H$2&\"!K120\")","v":0},{"$f":"INDIRECT($H$2&\"!L120\")","v":0},{"$f":"INDIRECT($H$2&\"!M120\")","v":0},{"$f":"INDIRECT($H$2&\"!N120\")","v":0},{"$f":"INDIRECT($H$2&\"!O120\")","v":0},{"$f":"INDIRECT($H$2&\"!P120\")","v":0},{"$f":"INDIRECT($H$2&\"!Q120\")","v":0},{"$f":"INDIRECT($H$2&\"!R120\")","v":0},{"$f":"INDIRECT($H$2&\"!S120\")","v":0},{"$f":"INDIRECT($H$2&\"!T120\")","v":0},{"$f":"INDIRECT($H$2&\"!U120\")","v":"00:00:00"},{"$f":"INDIRECT($H$2&\"!V120\")","v":0},"مدفوع"]
[{"$f":"INDIRECT($H$2&\"!A121\")","v":0},{"$f":"INDIRECT($H$2&\"!b121\")","v":0},{"$f":"INDIRECT($H$2&\"!C121\")","v":0},{"$f":"INDIRECT($H$2&\"!D121\")","v":0},{"$f":"INDIRECT($H$2&\"!E121\")","v":0},{"$f":"INDIRECT($H$2&\"!F121\")","v":0},{"$f":"INDIRECT($H$2&\"!G121\")","v":0},{"$f":"INDIRECT($H$2&\"!H121\")","v":0},{"$f":"INDIRECT($H$2&\"!I121\")","v":0},{"$f":"INDIRECT($H$2&\"!J121\")","v":0},{"$f":"INDIRECT($H$2&\"!K121\")","v":0},{"$f":"INDIRECT($H$2&\"!L121\")","v":0},{"$f":"INDIRECT($H$2&\"!M121\")","v":0},{"$f":"INDIRECT($H$2&\"!N121\")","v":0},{"$f":"INDIRECT($H$2&\"!O121\")","v":0},{"$f":"INDIRECT($H$2&\"!P121\")","v":0},{"$f":"INDIRECT($H$2&\"!Q121\")","v":0},{"$f":"INDIRECT($H$2&\"!R121\")","v":0},{"$f":"INDIRECT($H$2&\"!S121\")","v":0},{"$f":"INDIRECT($H$2&\"!T121\")","v":0},{"$f":"INDIRECT($H$2&\"!U121\")","v":"00:00:00"},{"$f":"INDIRECT($H$2&\"!V121\")","v":0},"مدفوع"]
[{"$f":"INDIRECT($H$2&\"!A122\")","v":0},{"$f":"INDIRECT($H$2&\"!b122\")","v":0},{"$f":"INDIRECT($H$2&\"!C122\")","v":0},{"$f":"INDIRECT($H$2&\"!D122\")","v":0},{"$f":"INDIRECT($H$2&\"!E122\")","v":0},{"$f":"INDIRECT($H$2&\"!F122\")","v":0},{"$f":"INDIRECT($H$2&\"!G122\")","v":0},{"$f":"INDIRECT($H$2&\"!H122\")","v":0},{"$f":"INDIRECT($H$2&\"!I122\")","v":0},{"$f":"INDIRECT($H$2&\"!J122\")","v":0},{"$f":"INDIRECT($H$2&\"!K122\")","v":0},{"$f":"INDIRECT($H$2&\"!L122\")","v":0},{"$f":"INDIRECT($H$2&\"!M122\")","v":0},{"$f":"INDIRECT($H$2&\"!N122\")","v":0},{"$f":"INDIRECT($H$2&\"!O122\")","v":0},{"$f":"INDIRECT($H$2&\"!P122\")","v":0},{"$f":"INDIRECT($H$2&\"!Q122\")","v":0},{"$f":"INDIRECT($H$2&\"!R122\")","v":0},{"$f":"INDIRECT($H$2&\"!S122\")","v":0},{"$f":"INDIRECT($H$2&\"!T122\")","v":0},{"$f":"INDIRECT($H$2&\"!U122\")","v":"00:00:00"},{"$f":"INDIRECT($H$2&\"!V122\")","v":0},"مدفوع"]
[{"$f":"INDIRECT($H$2&\"!A123\")","v":0},{"$f":"INDIRECT($H$2&\"!b123\")","v":0},{"$f":"INDIRECT($H$2&\"!C123\")","v":0},{"$f":"INDIRECT($H$2&\"!D123\")","v":0},{"$f":"INDIRECT($H$2&\"!E123\")","v":0},{"$f":"INDIRECT($H$2&\"!F123\")","v":0},{"$f":"INDIRECT($H$2&\"!G123\")","v":0},{"$f":"INDIRECT($H$2&\"!H123\")","v":0},{"$f":"INDIRECT($H$2&\"!I123\")","v":0},{"$f":"INDIRECT($H$2&\"!J123\")","v":0},{"$f":"INDIRECT($H$2&\"!K123\")","v":0},{"$f":"INDIRECT($H$2&\"!L123\")","v":0},{"$f":"INDIRECT($H$2&\"!M123\")","v":0},{"$f":"INDIRECT($H$2&\"!N123\")","v":0},{"$f":"INDIRECT($H$2&\"!O123\")","v":0},{"$f":"INDIRECT($H$2&\"!P123\")","v":0},{"$f":"INDIRECT($H$2&\"!Q123\")","v":0},{"$f":"INDIRECT($H$2&\"!R123\")","v":0},{"$f":"INDIRECT($H$2&\"!S123\")","v":0},{"$f":"INDIRECT($H$2&\"!T123\")","v":0},{"$f":"INDIRECT($H$2&\"!U123\")","v":"00:00:00"},{"$f":"INDIRECT($H$2&\"!V123\")","v":0},"مدفوع"]
[{"$f":"INDIRECT($H$2&\"!A124\")","v":0},{"$f":"INDIRECT($H$2&\"!b124\")","v":0},{"$f":"INDIRECT($H$2&\"!C124\")","v":0},{"$f":"INDIRECT($H$2&\"!D124\")","v":0},{"$f":"INDIRECT($H$2&\"!E124\")","v":0},{"$f":"INDIRECT($H$2&\"!F124\")","v":0},{"$f":"INDIRECT($H$2&\"!G124\")","v":0},{"$f":"INDIRECT($H$2&\"!H124\")","v":0},{"$f":"INDIRECT($H$2&\"!I124\")","v":0},{"$f":"INDIRECT($H$2&\"!J124\")","v":0},{"$f":"INDIRECT($H$2&\"!K124\")","v":0},{"$f":"INDIRECT($H$2&\"!L124\")","v":0},{"$f":"INDIRECT($H$2&\"!M124\")","v":0},{"$f":"INDIRECT($H$2&\"!N124\")","v":0},{"$f":"INDIRECT($H$2&\"!O124\")","v":0},{"$f":"INDIRECT($H$2&\"!P124\")","v":0},{"$f":"INDIRECT($H$2&\"!Q124\")","v":0},{"$f":"INDIRECT($H$2&\"!R124\")","v":0},{"$f":"INDIRECT($H$2&\"!S124\")","v":0},{"$f":"INDIRECT($H$2&\"!T124\")","v":0},{"$f":"INDIRECT($H$2&\"!U124\")","v":"00:00:00"},{"$f":"INDIRECT($H$2&\"!V124\")","v":0},"مدفوع"]
[{"$f":"INDIRECT($H$2&\"!A125\")","v":0},{"$f":"INDIRECT($H$2&\"!b125\")","v":0},{"$f":"INDIRECT($H$2&\"!C125\")","v":0},{"$f":"INDIRECT($H$2&\"!D125\")","v":0},{"$f":"INDIRECT($H$2&\"!E125\")","v":0},{"$f":"INDIRECT($H$2&\"!F125\")","v":0},{"$f":"INDIRECT($H$2&\"!G125\")","v":0},{"$f":"INDIRECT($H$2&\"!H125\")","v":0},{"$f":"INDIRECT($H$2&\"!I125\")","v":0},{"$f":"INDIRECT($H$2&\"!J125\")","v":0},{"$f":"INDIRECT($H$2&\"!K125\")","v":0},{"$f":"INDIRECT($H$2&\"!L125\")","v":0},{"$f":"INDIRECT($H$2&\"!M125\")","v":0},{"$f":"INDIRECT($H$2&\"!N125\")","v":0},{"$f":"INDIRECT($H$2&\"!O125\")","v":0},{"$f":"INDIRECT($H$2&\"!P125\")","v":0},{"$f":"INDIRECT($H$2&\"!Q125\")","v":0},{"$f":"INDIRECT($H$2&\"!R125\")","v":0},{"$f":"INDIRECT($H$2&\"!S125\")","v":0},{"$f":"INDIRECT($H$2&\"!T125\")","v":0},{"$f":"INDIRECT($H$2&\"!U125\")","v":"00:00:00"},{"$f":"INDIRECT($H$2&\"!V125\")","v":0},"مدفوع"]
[{"$f":"INDIRECT($H$2&\"!A126\")","v":0},{"$f":"INDIRECT($H$2&\"!b126\")","v":0},{"$f":"INDIRECT($H$2&\"!C126\")","v":0},{"$f":"INDIRECT($H$2&\"!D126\")","v":0},{"$f":"INDIRECT($H$2&\"!E126\")","v":0},{"$f":"INDIRECT($H$2&\"!F126\")","v":0},{"$f":"INDIRECT($H$2&\"!G126\")","v":0},{"$f":"INDIRECT($H$2&\"!H126\")","v":0},{"$f":"INDIRECT($H$2&\"!I126\")","v":0},{"$f":"INDIRECT($H$2&\"!J126\")","v":0},{"$f":"INDIRECT($H$2&\"!K126\")","v":0},{"$f":"INDIRECT($H$2&\"!L126\")","v":0},{"$f":"INDIRECT($H$2&\"!M126\")","v":0},{"$f":"INDIRECT($H$2&\"!N126\")","v":0},{"$f":"INDIRECT($H$2&\"!O126\")","v":0},{"$f":"INDIRECT($H$2&\"!P126\")","v":0},{"$f":"INDIRECT($H$2&\"!Q126\")","v":0},{"$f":"INDIRECT($H$2&\"!R126\")","v":0},{"$f":"INDIRECT($H$2&\"!S126\")","v":0},{"$f":"INDIRECT($H$2&\"!T126\")","v":0},{"$f":"INDIRECT($H$2&\"!U126\")","v":"00:00:00"},{"$f":"INDIRECT($H$2&\"!V126\")","v":0},"مدفوع"]
[{"$f":"INDIRECT($H$2&\"!A127\")","v":0},{"$f":"INDIRECT($H$2&\"!b127\")","v":0},{"$f":"INDIRECT($H$2&\"!C127\")","v":0},{"$f":"INDIRECT($H$2&\"!D127\")","v":0},{"$f":"INDIRECT($H$2&\"!E127\")","v":0},{"$f":"INDIRECT($H$2&\"!F127\")","v":0},{"$f":"INDIRECT($H$2&\"!G127\")","v":0},{"$f":"INDIRECT($H$2&\"!H127\")","v":0},{"$f":"INDIRECT($H$2&\"!I127\")","v":0},{"$f":"INDIRECT($H$2&\"!J127\")","v":0},{"$f":"INDIRECT($H$2&\"!K127\")","v":0},{"$f":"INDIRECT($H$2&\"!L127\")","v":0},{"$f":"INDIRECT($H$2&\"!M127\")","v":0},{"$f":"INDIRECT($H$2&\"!N127\")","v":0},{"$f":"INDIRECT($H$2&\"!O127\")","v":0},{"$f":"INDIRECT($H$2&\"!P127\")","v":0},{"$f":"INDIRECT($H$2&\"!Q127\")","v":0},{"$f":"INDIRECT($H$2&\"!R127\")","v":0},{"$f":"INDIRECT($H$2&\"!S127\")","v":0},{"$f":"INDIRECT($H$2&\"!T127\")","v":0},{"$f":"INDIRECT($H$2&\"!U127\")","v":"00:00:00"},{"$f":"INDIRECT($H$2&\"!V127\")","v":0},"مدفوع"]
[{"$f":"INDIRECT($H$2&\"!A128\")","v":0},{"$f":"INDIRECT($H$2&\"!b128\")","v":0},{"$f":"INDIRECT($H$2&\"!C128\")","v":0},{"$f":"INDIRECT($H$2&\"!D128\")","v":0},{"$f":"INDIRECT($H$2&\"!E128\")","v":0},{"$f":"INDIRECT($H$2&\"!F128\")","v":0},{"$f":"INDIRECT($H$2&\"!G128\")","v":0},{"$f":"INDIRECT($H$2&\"!H128\")","v":0},{"$f":"INDIRECT($H$2&\"!I128\")","v":0},{"$f":"INDIRECT($H$2&\"!J128\")","v":0},{"$f":"INDIRECT($H$2&\"!K128\")","v":0},{"$f":"INDIRECT($H$2&\"!L128\")","v":0},{"$f":"INDIRECT($H$2&\"!M128\")","v":0},{"$f":"INDIRECT($H$2&\"!N128\")","v":0},{"$f":"INDIRECT($H$2&\"!O128\")","v":0},{"$f":"INDIRECT($H$2&\"!P128\")","v":0},{"$f":"INDIRECT($H$2&\"!Q128\")","v":0},{"$f":"INDIRECT($H$2&\"!R128\")","v":0},{"$f":"INDIRECT($H$2&\"!S128\")","v":0},{"$f":"INDIRECT($H$2&\"!T128\")","v":0},{"$f":"INDIRECT($H$2&\"!U128\")","v":"00:00:00"},{"$f":"INDIRECT($H$2&\"!V128\")","v":0},"مدفوع"]
[{"$f":"INDIRECT($H$2&\"!A129\")","v":0},{"$f":"INDIRECT($H$2&\"!b129\")","v":0},{"$f":"INDIRECT($H$2&\"!C129\")","v":0},{"$f":"INDIRECT($H$2&\"!D129\")","v":0},{"$f":"INDIRECT($H$2&\"!E129\")","v":0},{"$f":"INDIRECT($H$2&\"!F129\")","v":0},{"$f":"INDIRECT($H$2&\"!G129\")","v":0},{"$f":"INDIRECT($H$2&\"!H129\")","v":0},{"$f":"INDIRECT($H$2&\"!I129\")","v":0},{"$f":"INDIRECT($H$2&\"!J129\")","v":0},{"$f":"INDIRECT($H$2&\"!K129\")","v":0},{"$f":"INDIRECT($H$2&\"!L129\")","v":0},{"$f":"INDIRECT($H$2&\"!M129\")","v":0},{"$f":"INDIRECT($H$2&\"!N129\")","v":0},{"$f":"INDIRECT($H$2&\"!O129\")","v":0},{"$f":"INDIRECT($H$2&\"!P129\")","v":0},{"$f":"INDIRECT($H$2&\"!Q129\")","v":0},{"$f":"INDIRECT($H$2&\"!R129\")","v":0},{"$f":"INDIRECT($H$2&\"!S129\")","v":0},{"$f":"INDIRECT($H$2&\"!T129\")","v":0},{"$f":"INDIRECT($H$2&\"!U129\")","v":"00:00:00"},{"$f":"INDIRECT($H$2&\"!V129\")","v":0},"مدفوع"]
[{"$f":"INDIRECT($H$2&\"!A130\")","v":0},{"$f":"INDIRECT($H$2&\"!b130\")","v":0},{"$f":"INDIRECT($H$2&\"!C130\")","v":0},{"$f":"INDIRECT($H$2&\"!D130\")","v":0},{"$f":"INDIRECT($H$2&\"!E130\")","v":0},{"$f":"INDIRECT($H$2&\"!F130\")","v":0},{"$f":"INDIRECT($H$2&\"!G130\")","v":0},{"$f":"INDIRECT($H$2&\"!H130\")","v":0},{"$f":"INDIRECT($H$2&\"!I130\")","v":0},{"$f":"INDIRECT($H$2&\"!J130\")","v":0},{"$f":"INDIRECT($H$2&\"!K130\")","v":0},{"$f":"INDIRECT($H$2&\"!L130\")","v":0},{"$f":"INDIRECT($H$2&\"!M130\")","v":0},{"$f":"INDIRECT($H$2&\"!N130\")","v":0},{"$f":"INDIRECT($H$2&\"!O130\")","v":0},{"$f":"INDIRECT($H$2&\"!P130\")","v":0},{"$f":"INDIRECT($H$2&\"!Q130\")","v":0},{"$f":"INDIRECT($H$2&\"!R130\")","v":0},{"$f":"INDIRECT($H$2&\"!S130\")","v":0},{"$f":"INDIRECT($H$2&\"!T130\")","v":0},{"$f":"INDIRECT($H$2&\"!U130\")","v":"00:00:00"},{"$f":"INDIRECT($H$2&\"!V130\")","v":0},"مدفوع"]
[{"$f":"INDIRECT($H$2&\"!A131\")","v":0},{"$f":"INDIRECT($H$2&\"!b131\")","v":0},{"$f":"INDIRECT($H$2&\"!C131\")","v":0},{"$f":"INDIRECT($H$2&\"!D131\")","v":0},{"$f":"INDIRECT($H$2&\"!E131\")","v":0},{"$f":"INDIRECT($H$2&\"!F131\")","v":0},{"$f":"INDIRECT($H$2&\"!G131\")","v":0},{"$f":"INDIRECT($H$2&\"!H131\")","v":0},{"$f":"INDIRECT($H$2&\"!I131\")","v":0},{"$f":"INDIRECT($H$2&\"!J131\")","v":0},{"$f":"INDIRECT($H$2&\"!K131\")","v":0},{"$f":"INDIRECT($H$2&\"!L131\")","v":0},{"$f":"INDIRECT($H$2&\"!M131\")","v":0},{"$f":"INDIRECT($H$2&\"!N131\")","v":0},{"$f":"INDIRECT($H$2&\"!O131\")","v":0},{"$f":"INDIRECT($H$2&\"!P131\")","v":0},{"$f":"INDIRECT($H$2&\"!Q131\")","v":0},{"$f":"INDIRECT($H$2&\"!R131\")","v":0},{"$f":"INDIRECT($H$2&\"!S131\")","v":0},{"$f":"INDIRECT($H$2&\"!T131\")","v":0},{"$f":"INDIRECT($H$2&\"!U131\")","v":"00:00:00"},{"$f":"INDIRECT($H$2&\"!V131\")","v":0},"مدفوع"]
[{"$f":"INDIRECT($H$2&\"!A132\")","v":0},{"$f":"INDIRECT($H$2&\"!b132\")","v":0},{"$f":"INDIRECT($H$2&\"!C132\")","v":0},{"$f":"INDIRECT($H$2&\"!D132\")","v":0},{"$f":"INDIRECT($H$2&\"!E132\")","v":0},{"$f":"INDIRECT($H$2&\"!F132\")","v":0},{"$f":"INDIRECT($H$2&\"!G132\")","v":0},{"$f":"INDIRECT($H$2&\"!H132\")","v":0},{"$f":"INDIRECT($H$2&\"!I132\")","v":0},{"$f":"INDIRECT($H$2&\"!J132\")","v":0},{"$f":"INDIRECT($H$2&\"!K132\")","v":0},{"$f":"INDIRECT($H$2&\"!L132\")","v":0},{"$f":"INDIRECT($H$2&\"!M132\")","v":0},{"$f":"INDIRECT($H$2&\"!N132\")","v":0},{"$f":"INDIRECT($H$2&\"!O132\")","v":0},{"$f":"INDIRECT($H$2&\"!P132\")","v":0},{"$f":"INDIRECT($H$2&\"!Q132\")","v":0},{"$f":"INDIRECT($H$2&\"!R132\")","v":0},{"$f":"INDIRECT($H$2&\"!S132\")","v":0},{"$f":"INDIRECT($H$2&\"!T132\")","v":0},{"$f":"INDIRECT($H$2&\"!U132\")","v":"00:00:00"},{"$f":"INDIRECT($H$2&\"!V132\")","v":0},"مدفوع"]
[{"$f":"INDIRECT($H$2&\"!A133\")","v":0},{"$f":"INDIRECT($H$2&\"!b133\")","v":0},{"$f":"INDIRECT($H$2&\"!C133\")","v":0},{"$f":"INDIRECT($H$2&\"!D133\")","v":0},{"$f":"INDIRECT($H$2&\"!E133\")","v":0},{"$f":"INDIRECT($H$2&\"!F133\")","v":0},{"$f":"INDIRECT($H$2&\"!G133\")","v":0},{"$f":"INDIRECT($H$2&\"!H133\")","v":0},{"$f":"INDIRECT($H$2&\"!I133\")","v":0},{"$f":"INDIRECT($H$2&\"!J133\")","v":0},{"$f":"INDIRECT($H$2&\"!K133\")","v":0},{"$f":"INDIRECT($H$2&\"!L133\")","v":0},{"$f":"INDIRECT($H$2&\"!M133\")","v":0},{"$f":"INDIRECT($H$2&\"!N133\")","v":0},{"$f":"INDIRECT($H$2&\"!O133\")","v":0},{"$f":"INDIRECT($H$2&\"!P133\")","v":0},{"$f":"INDIRECT($H$2&\"!Q133\")","v":0},{"$f":"INDIRECT($H$2&\"!R133\")","v":0},{"$f":"INDIRECT($H$2&\"!S133\")","v":0},{"$f":"INDIRECT($H$2&\"!T133\")","v":0},{"$f":"INDIRECT($H$2&\"!U133\")","v":"00:00:00"},{"$f":"INDIRECT($H$2&\"!V133\")","v":0},{"$f":"IF(V136<=0,\"مدفوع\",\"غير مدفوع\")","v":"مدفوع"}]
[{"$f":"INDIRECT($H$2&\"!A134\")","v":0},{"$f":"INDIRECT($H$2&\"!b134\")","v":0},{"$f":"INDIRECT($H$2&\"!C134\")","v":0},{"$f":"INDIRECT($H$2&\"!D134\")","v":0},{"$f":"INDIRECT($H$2&\"!E134\")","v":0},{"$f":"INDIRECT($H$2&\"!F134\")","v":0},{"$f":"INDIRECT($H$2&\"!G134\")","v":0},{"$f":"INDIRECT($H$2&\"!H134\")","v":0},{"$f":"INDIRECT($H$2&\"!I134\")","v":0},{"$f":"INDIRECT($H$2&\"!J134\")","v":0},{"$f":"INDIRECT($H$2&\"!K134\")","v":0},{"$f":"INDIRECT($H$2&\"!L134\")","v":0},{"$f":"INDIRECT($H$2&\"!M134\")","v":0},{"$f":"INDIRECT($H$2&\"!N134\")","v":0},{"$f":"INDIRECT($H$2&\"!O134\")","v":0},{"$f":"INDIRECT($H$2&\"!P134\")","v":0},{"$f":"INDIRECT($H$2&\"!Q134\")","v":0},{"$f":"INDIRECT($H$2&\"!R134\")","v":0},{"$f":"INDIRECT($H$2&\"!S134\")","v":0},{"$f":"INDIRECT($H$2&\"!T134\")","v":0},{"$f":"INDIRECT($H$2&\"!U134\")","v":"00:00:00"},{"$f":"INDIRECT($H$2&\"!V134\")","v":0},"مدفوع"]
[{"$f":"INDIRECT($H$2&\"!A135\")","v":0},{"$f":"INDIRECT($H$2&\"!b135\")","v":0},{"$f":"INDIRECT($H$2&\"!C135\")","v":0},{"$f":"INDIRECT($H$2&\"!D135\")","v":0},{"$f":"INDIRECT($H$2&\"!E135\")","v":0},{"$f":"INDIRECT($H$2&\"!F135\")","v":0},{"$f":"INDIRECT($H$2&\"!G135\")","v":0},{"$f":"INDIRECT($H$2&\"!H135\")","v":0},{"$f":"INDIRECT($H$2&\"!I135\")","v":0},{"$f":"INDIRECT($H$2&\"!J135\")","v":0},{"$f":"INDIRECT($H$2&\"!K135\")","v":0},{"$f":"INDIRECT($H$2&\"!L135\")","v":0},{"$f":"INDIRECT($H$2&\"!M135\")","v":0},{"$f":"INDIRECT($H$2&\"!N135\")","v":0},{"$f":"INDIRECT($H$2&\"!O135\")","v":0},{"$f":"INDIRECT($H$2&\"!P135\")","v":0},{"$f":"INDIRECT($H$2&\"!Q135\")","v":0},{"$f":"INDIRECT($H$2&\"!R135\")","v":0},{"$f":"INDIRECT($H$2&\"!S135\")","v":0},{"$f":"INDIRECT($H$2&\"!T135\")","v":0},{"$f":"INDIRECT($H$2&\"!U135\")","v":"00:00:00"},{"$f":"INDIRECT($H$2&\"!V135\")","v":0},"مدفوع"]
[{"$f":"INDIRECT($H$2&\"!A136\")","v":0},{"$f":"INDIRECT($H$2&\"!b136\")","v":0},{"$f":"INDIRECT($H$2&\"!C136\")","v":0},{"$f":"INDIRECT($H$2&\"!D136\")","v":0},{"$f":"INDIRECT($H$2&\"!E136\")","v":0},{"$f":"INDIRECT($H$2&\"!F136\")","v":0},{"$f":"INDIRECT($H$2&\"!G136\")","v":0},{"$f":"INDIRECT($H$2&\"!H136\")","v":0},{"$f":"INDIRECT($H$2&\"!I136\")","v":0},{"$f":"INDIRECT($H$2&\"!J136\")","v":0},{"$f":"INDIRECT($H$2&\"!K136\")","v":0},{"$f":"INDIRECT($H$2&\"!L136\")","v":0},{"$f":"INDIRECT($H$2&\"!M136\")","v":0},{"$f":"INDIRECT($H$2&\"!N136\")","v":0},{"$f":"INDIRECT($H$2&\"!O136\")","v":0},{"$f":"INDIRECT($H$2&\"!P136\")","v":0},{"$f":"INDIRECT($H$2&\"!Q136\")","v":0},{"$f":"INDIRECT($H$2&\"!R136\")","v":0},{"$f":"INDIRECT($H$2&\"!S136\")","v":0},{"$f":"INDIRECT($H$2&\"!T136\")","v":0},{"$f":"INDIRECT($H$2&\"!U136\")","v":"00:00:00"},{"$f":"INDIRECT($H$2&\"!V136\")","v":0},"مدفوع"]
[{"$f":"INDIRECT($H$2&\"!A137\")","v":0},{"$f":"INDIRECT($H$2&\"!b137\")","v":0},{"$f":"INDIRECT($H$2&\"!C137\")","v":0},{"$f":"INDIRECT($H$2&\"!D137\")","v":0},{"$f":"INDIRECT($H$2&\"!E137\")","v":0},{"$f":"INDIRECT($H$2&\"!F137\")","v":0},{"$f":"INDIRECT($H$2&\"!G137\")","v":0},{"$f":"INDIRECT($H$2&\"!H137\")","v":0},{"$f":"INDIRECT($H$2&\"!I137\")","v":0},{"$f":"INDIRECT($H$2&\"!J137\")","v":0},{"$f":"INDIRECT($H$2&\"!K137\")","v":0},{"$f":"INDIRECT($H$2&\"!L137\")","v":0},{"$f":"INDIRECT($H$2&\"!M137\")","v":0},{"$f":"INDIRECT($H$2&\"!N137\")","v":0},{"$f":"INDIRECT($H$2&\"!O137\")","v":0},{"$f":"INDIRECT($H$2&\"!P137\")","v":0},{"$f":"INDIRECT($H$2&\"!Q137\")","v":0},{"$f":"INDIRECT($H$2&\"!R137\")","v":0},{"$f":"INDIRECT($H$2&\"!S137\")","v":0},{"$f":"INDIRECT($H$2&\"!T137\")","v":0},{"$f":"INDIRECT($H$2&\"!U137\")","v":"00:00:00"},{"$f":"INDIRECT($H$2&\"!V137\")","v":0},"مدفوع"]
[{"$f":"INDIRECT($H$2&\"!A138\")","v":0},{"$f":"INDIRECT($H$2&\"!b138\")","v":0},{"$f":"INDIRECT($H$2&\"!C138\")","v":0},{"$f":"INDIRECT($H$2&\"!D138\")","v":0},{"$f":"INDIRECT($H$2&\"!E138\")","v":0},{"$f":"INDIRECT($H$2&\"!F138\")","v":0},{"$f":"INDIRECT($H$2&\"!G138\")","v":0},{"$f":"INDIRECT($H$2&\"!H138\")","v":0},{"$f":"INDIRECT($H$2&\"!I138\")","v":0},{"$f":"INDIRECT($H$2&\"!J138\")","v":0},{"$f":"INDIRECT($H$2&\"!K138\")","v":0},{"$f":"INDIRECT($H$2&\"!L138\")","v":0},{"$f":"INDIRECT($H$2&\"!M138\")","v":0},{"$f":"INDIRECT($H$2&\"!N138\")","v":0},{"$f":"INDIRECT($H$2&\"!O138\")","v":0},{"$f":"INDIRECT($H$2&\"!P138\")","v":0},{"$f":"INDIRECT($H$2&\"!Q138\")","v":0},{"$f":"INDIRECT($H$2&\"!R138\")","v":0},{"$f":"INDIRECT($H$2&\"!S138\")","v":0},{"$f":"INDIRECT($H$2&\"!T138\")","v":0},{"$f":"INDIRECT($H$2&\"!U138\")","v":"00:00:00"},{"$f":"INDIRECT($H$2&\"!V138\")","v":0},"مدفوع"]
[{"$f":"INDIRECT($H$2&\"!A139\")","v":0},{"$f":"INDIRECT($H$2&\"!b139\")","v":0},{"$f":"INDIRECT($H$2&\"!C139\")","v":0},{"$f":"INDIRECT($H$2&\"!D139\")","v":0},{"$f":"INDIRECT($H$2&\"!E139\")","v":0},{"$f":"INDIRECT($H$2&\"!F139\")","v":0},{"$f":"INDIRECT($H$2&\"!G139\")","v":0},{"$f":"INDIRECT($H$2&\"!H139\")","v":0},{"$f":"INDIRECT($H$2&\"!I139\")","v":0},{"$f":"INDIRECT($H$2&\"!J139\")","v":0},{"$f":"INDIRECT($H$2&\"!K139\")","v":0},{"$f":"INDIRECT($H$2&\"!L139\")","v":0},{"$f":"INDIRECT($H$2&\"!M139\")","v":0},{"$f":"INDIRECT($H$2&\"!N139\")","v":0},{"$f":"INDIRECT($H$2&\"!O139\")","v":0},{"$f":"INDIRECT($H$2&\"!P139\")","v":0},{"$f":"INDIRECT($H$2&\"!Q139\")","v":0},{"$f":"INDIRECT($H$2&\"!R139\")","v":0},{"$f":"INDIRECT($H$2&\"!S139\")","v":0},{"$f":"INDIRECT($H$2&\"!T139\")","v":0},{"$f":"INDIRECT($H$2&\"!U139\")","v":"00:00:00"},{"$f":"INDIRECT($H$2&\"!V139\")","v":0},"مدفوع"]
[{"$f":"INDIRECT($H$2&\"!A140\")","v":0},{"$f":"INDIRECT($H$2&\"!b140\")","v":0},{"$f":"INDIRECT($H$2&\"!C140\")","v":0},{"$f":"INDIRECT($H$2&\"!D140\")","v":0},{"$f":"INDIRECT($H$2&\"!E140\")","v":0},{"$f":"INDIRECT($H$2&\"!F140\")","v":0},{"$f":"INDIRECT($H$2&\"!G140\")","v":0},{"$f":"INDIRECT($H$2&\"!H140\")","v":0},{"$f":"INDIRECT($H$2&\"!I140\")","v":0},{"$f":"INDIRECT($H$2&\"!J140\")","v":0},{"$f":"INDIRECT($H$2&\"!K140\")","v":0},{"$f":"INDIRECT($H$2&\"!L140\")","v":0},{"$f":"INDIRECT($H$2&\"!M140\")","v":0},{"$f":"INDIRECT($H$2&\"!N140\")","v":0},{"$f":"INDIRECT($H$2&\"!O140\")","v":0},{"$f":"INDIRECT($H$2&\"!P140\")","v":0},{"$f":"INDIRECT($H$2&\"!Q140\")","v":0},{"$f":"INDIRECT($H$2&\"!R140\")","v":0},{"$f":"INDIRECT($H$2&\"!S140\")","v":0},{"$f":"INDIRECT($H$2&\"!T140\")","v":0},{"$f":"INDIRECT($H$2&\"!U140\")","v":"00:00:00"},{"$f":"INDIRECT($H$2&\"!V140\")","v":0},"مدفوع"]
[{"$f":"INDIRECT($H$2&\"!A141\")","v":0},{"$f":"INDIRECT($H$2&\"!b141\")","v":0},{"$f":"INDIRECT($H$2&\"!C141\")","v":0},{"$f":"INDIRECT($H$2&\"!D141\")","v":0},{"$f":"INDIRECT($H$2&\"!E141\")","v":0},{"$f":"INDIRECT($H$2&\"!F141\")","v":0},{"$f":"INDIRECT($H$2&\"!G141\")","v":0},{"$f":"INDIRECT($H$2&\"!H141\")","v":0},{"$f":"INDIRECT($H$2&\"!I141\")","v":0},{"$f":"INDIRECT($H$2&\"!J141\")","v":0},{"$f":"INDIRECT($H$2&\"!K141\")","v":0},{"$f":"INDIRECT($H$2&\"!L141\")","v":0},{"$f":"INDIRECT($H$2&\"!M141\")","v":0},{"$f":"INDIRECT($H$2&\"!N141\")","v":0},{"$f":"INDIRECT($H$2&\"!O141\")","v":0},{"$f":"INDIRECT($H$2&\"!P141\")","v":0},{"$f":"INDIRECT($H$2&\"!Q141\")","v":0},{"$f":"INDIRECT($H$2&\"!R141\")","v":0},{"$f":"INDIRECT($H$2&\"!S141\")","v":0},{"$f":"INDIRECT($H$2&\"!T141\")","v":0},{"$f":"INDIRECT($H$2&\"!U141\")","v":"00:00:00"},{"$f":"INDIRECT($H$2&\"!V141\")","v":0},"مدفوع"]
[{"$f":"INDIRECT($H$2&\"!A142\")","v":0},{"$f":"INDIRECT($H$2&\"!b142\")","v":0},{"$f":"INDIRECT($H$2&\"!C142\")","v":0},{"$f":"INDIRECT($H$2&\"!D142\")","v":0},{"$f":"INDIRECT($H$2&\"!E142\")","v":0},{"$f":"INDIRECT($H$2&\"!F142\")","v":0},{"$f":"INDIRECT($H$2&\"!G142\")","v":0},{"$f":"INDIRECT($H$2&\"!H142\")","v":0},{"$f":"INDIRECT($H$2&\"!I142\")","v":0},{"$f":"INDIRECT($H$2&\"!J142\")","v":0},{"$f":"INDIRECT($H$2&\"!K142\")","v":0},{"$f":"INDIRECT($H$2&\"!L142\")","v":0},{"$f":"INDIRECT($H$2&\"!M142\")","v":0},{"$f":"INDIRECT($H$2&\"!N142\")","v":0},{"$f":"INDIRECT($H$2&\"!O142\")","v":0},{"$f":"INDIRECT($H$2&\"!P142\")","v":0},{"$f":"INDIRECT($H$2&\"!Q142\")","v":0},{"$f":"INDIRECT($H$2&\"!R142\")","v":0},{"$f":"INDIRECT($H$2&\"!S142\")","v":0},{"$f":"INDIRECT($H$2&\"!T142\")","v":0},{"$f":"INDIRECT($H$2&\"!U142\")","v":"00:00:00"},{"$f":"INDIRECT($H$2&\"!V142\")","v":0},"مدفوع"]
[{"$f":"INDIRECT($H$2&\"!A143\")","v":0},{"$f":"INDIRECT($H$2&\"!b143\")","v":0},{"$f":"INDIRECT($H$2&\"!C143\")","v":0},{"$f":"INDIRECT($H$2&\"!D143\")","v":0},{"$f":"INDIRECT($H$2&\"!E143\")","v":0},{"$f":"INDIRECT($H$2&\"!F143\")","v":0},{"$f":"INDIRECT($H$2&\"!G143\")","v":0},{"$f":"INDIRECT($H$2&\"!H143\")","v":0},{"$f":"INDIRECT($H$2&\"!I143\")","v":0},{"$f":"INDIRECT($H$2&\"!J143\")","v":0},{"$f":"INDIRECT($H$2&\"!K143\")","v":0},{"$f":"INDIRECT($H$2&\"!L143\")","v":0},{"$f":"INDIRECT($H$2&\"!M143\")","v":0},{"$f":"INDIRECT($H$2&\"!N143\")","v":0},{"$f":"INDIRECT($H$2&\"!O143\")","v":0},{"$f":"INDIRECT($H$2&\"!P143\")","v":0},{"$f":"INDIRECT($H$2&\"!Q143\")","v":0},{"$f":"INDIRECT($H$2&\"!R143\")","v":0},{"$f":"INDIRECT($H$2&\"!S143\")","v":0},{"$f":"INDIRECT($H$2&\"!T143\")","v":0},{"$f":"INDIRECT($H$2&\"!U143\")","v":"00:00:00"},{"$f":"INDIRECT($H$2&\"!V143\")","v":0},"مدفوع"]
[{"$f":"INDIRECT($H$2&\"!A144\")","v":0},{"$f":"INDIRECT($H$2&\"!b144\")","v":0},{"$f":"INDIRECT($H$2&\"!C144\")","v":0},{"$f":"INDIRECT($H$2&\"!D144\")","v":0},{"$f":"INDIRECT($H$2&\"!E144\")","v":0},{"$f":"INDIRECT($H$2&\"!F144\")","v":0},{"$f":"INDIRECT($H$2&\"!G144\")","v":0},{"$f":"INDIRECT($H$2&\"!H144\")","v":0},{"$f":"INDIRECT($H$2&\"!I144\")","v":0},{"$f":"INDIRECT($H$2&\"!J144\")","v":0},{"$f":"INDIRECT($H$2&\"!K144\")","v":0},{"$f":"INDIRECT($H$2&\"!L144\")","v":0},{"$f":"INDIRECT($H$2&\"!M144\")","v":0},{"$f":"INDIRECT($H$2&\"!N144\")","v":0},{"$f":"INDIRECT($H$2&\"!O144\")","v":0},{"$f":"INDIRECT($H$2&\"!P144\")","v":0},{"$f":"INDIRECT($H$2&\"!Q144\")","v":0},{"$f":"INDIRECT($H$2&\"!R144\")","v":0},{"$f":"INDIRECT($H$2&\"!S144\")","v":0},{"$f":"INDIRECT($H$2&\"!T144\")","v":0},{"$f":"INDIRECT($H$2&\"!U144\")","v":"00:00:00"},{"$f":"INDIRECT($H$2&\"!V144\")","v":0},"مدفوع"]
[{"$f":"INDIRECT($H$2&\"!A145\")","v":0},{"$f":"INDIRECT($H$2&\"!b145\")","v":0},{"$f":"INDIRECT($H$2&\"!C145\")","v":0},{"$f":"INDIRECT($H$2&\"!D145\")","v":0},{"$f":"INDIRECT($H$2&\"!E145\")","v":0},{"$f":"INDIRECT($H$2&\"!F145\")","v":0},{"$f":"INDIRECT($H$2&\"!G145\")","v":0},{"$f":"INDIRECT($H$2&\"!H145\")","v":0},{"$f":"INDIRECT($H$2&\"!I145\")","v":0},{"$f":"INDIRECT($H$2&\"!J145\")","v":0},{"$f":"INDIRECT($H$2&\"!K145\")","v":0},{"$f":"INDIRECT($H$2&\"!L145\")","v":0},{"$f":"INDIRECT($H$2&\"!M145\")","v":0},{"$f":"INDIRECT($H$2&\"!N145\")","v":0},{"$f":"INDIRECT($H$2&\"!O145\")","v":0},{"$f":"INDIRECT($H$2&\"!P145\")","v":0},{"$f":"INDIRECT($H$2&\"!Q145\")","v":0},{"$f":"INDIRECT($H$2&\"!R145\")","v":0},{"$f":"INDIRECT($H$2&\"!S145\")","v":0},{"$f":"INDIRECT($H$2&\"!T145\")","v":0},{"$f":"INDIRECT($H$2&\"!U145\")","v":"00:00:00"},{"$f":"INDIRECT($H$2&\"!V145\")","v":0},"مدفوع"]
[{"$f":"INDIRECT($H$2&\"!A146\")","v":0},{"$f":"INDIRECT($H$2&\"!b146\")","v":0},{"$f":"INDIRECT($H$2&\"!C146\")","v":0},{"$f":"INDIRECT($H$2&\"!D146\")","v":0},{"$f":"INDIRECT($H$2&\"!E146\")","v":0},{"$f":"INDIRECT($H$2&\"!F146\")","v":0},{"$f":"INDIRECT($H$2&\"!G146\")","v":0},{"$f":"INDIRECT($H$2&\"!H146\")","v":0},{"$f":"INDIRECT($H$2&\"!I146\")","v":0},{"$f":"INDIRECT($H$2&\"!J146\")","v":0},{"$f":"INDIRECT($H$2&\"!K146\")","v":0},{"$f":"INDIRECT($H$2&\"!L146\")","v":0},{"$f":"INDIRECT($H$2&\"!M146\")","v":0},{"$f":"INDIRECT($H$2&\"!N146\")","v":0},{"$f":"INDIRECT($H$2&\"!O146\")","v":0},{"$f":"INDIRECT($H$2&\"!P146\")","v":0},{"$f":"INDIRECT($H$2&\"!Q146\")","v":0},{"$f":"INDIRECT($H$2&\"!R146\")","v":0},{"$f":"INDIRECT($H$2&\"!S146\")","v":0},{"$f":"INDIRECT($H$2&\"!T146\")","v":0},{"$f":"INDIRECT($H$2&\"!U146\")","v":"00:00:00"},{"$f":"INDIRECT($H$2&\"!V146\")","v":0},"مدفوع"]
[{"$f":"INDIRECT($H$2&\"!A147\")","v":0},{"$f":"INDIRECT($H$2&\"!b147\")","v":0},{"$f":"INDIRECT($H$2&\"!C147\")","v":0},{"$f":"INDIRECT($H$2&\"!D147\")","v":0},{"$f":"INDIRECT($H$2&\"!E147\")","v":0},{"$f":"INDIRECT($H$2&\"!F147\")","v":0},{"$f":"INDIRECT($H$2&\"!G147\")","v":0},{"$f":"INDIRECT($H$2&\"!H147\")","v":0},{"$f":"INDIRECT($H$2&\"!I147\")","v":0},{"$f":"INDIRECT($H$2&\"!J147\")","v":0},{"$f":"INDIRECT($H$2&\"!K147\")","v":0},{"$f":"INDIRECT($H$2&\"!L147\")","v":0},{"$f":"INDIRECT($H$2&\"!M147\")","v":0},{"$f":"INDIRECT($H$2&\"!N147\")","v":0},{"$f":"INDIRECT($H$2&\"!O147\")","v":0},{"$f":"INDIRECT($H$2&\"!P147\")","v":0},{"$f":"INDIRECT($H$2&\"!Q147\")","v":0},{"$f":"INDIRECT($H$2&\"!R147\")","v":0},{"$f":"INDIRECT($H$2&\"!S147\")","v":0},{"$f":"INDIRECT($H$2&\"!T147\")","v":0},{"$f":"INDIRECT($H$2&\"!U147\")","v":"00:00:00"},{"$f":"INDIRECT($H$2&\"!V147\")","v":0},"مدفوع"]
[{"$f":"INDIRECT($H$2&\"!A148\")","v":0},{"$f":"INDIRECT($H$2&\"!b148\")","v":0},{"$f":"INDIRECT($H$2&\"!C148\")","v":0},{"$f":"INDIRECT($H$2&\"!D148\")","v":0},{"$f":"INDIRECT($H$2&\"!E148\")","v":0},{"$f":"INDIRECT($H$2&\"!F148\")","v":0},{"$f":"INDIRECT($H$2&\"!G148\")","v":0},{"$f":"INDIRECT($H$2&\"!H148\")","v":0},{"$f":"INDIRECT($H$2&\"!I148\")","v":0},{"$f":"INDIRECT($H$2&\"!J148\")","v":0},{"$f":"INDIRECT($H$2&\"!K148\")","v":0},{"$f":"INDIRECT($H$2&\"!L148\")","v":0},{"$f":"INDIRECT($H$2&\"!M148\")","v":0},{"$f":"INDIRECT($H$2&\"!N148\")","v":0},{"$f":"INDIRECT($H$2&\"!O148\")","v":0},{"$f":"INDIRECT($H$2&\"!P148\")","v":0},{"$f":"INDIRECT($H$2&\"!Q148\")","v":0},{"$f":"INDIRECT($H$2&\"!R148\")","v":0},{"$f":"INDIRECT($H$2&\"!S148\")","v":0},{"$f":"INDIRECT($H$2&\"!T148\")","v":0},{"$f":"INDIRECT($H$2&\"!U148\")","v":"00:00:00"},{"$f":"INDIRECT($H$2&\"!V148\")","v":0},"مدفوع"]
[{"$f":"INDIRECT($H$2&\"!A149\")","v":0},{"$f":"INDIRECT($H$2&\"!b149\")","v":0},{"$f":"INDIRECT($H$2&\"!C149\")","v":0},{"$f":"INDIRECT($H$2&\"!D149\")","v":0},{"$f":"INDIRECT($H$2&\"!E149\")","v":0},{"$f":"INDIRECT($H$2&\"!F149\")","v":0},{"$f":"INDIRECT($H$2&\"!G149\")","v":0},{"$f":"INDIRECT($H$2&\"!H149\")","v":0},{"$f":"INDIRECT($H$2&\"!I149\")","v":0},{"$f":"INDIRECT($H$2&\"!J149\")","v":0},{"$f":"INDIRECT($H$2&\"!K149\")","v":0},{"$f":"INDIRECT($H$2&\"!L149\")","v":0},{"$f":"INDIRECT($H$2&\"!M149\")","v":0},{"$f":"INDIRECT($H$2&\"!N149\")","v":0},{"$f":"INDIRECT($H$2&\"!O149\")","v":0},{"$f":"INDIRECT($H$2&\"!P149\")","v":0},{"$f":"INDIRECT($H$2&\"!Q149\")","v":0},{"$f":"INDIRECT($H$2&\"!R149\")","v":0},{"$f":"INDIRECT($H$2&\"!S149\")","v":0},{"$f":"INDIRECT($H$2&\"!T149\")","v":0},{"$f":"INDIRECT($H$2&\"!U149\")","v":"00:00:00"},{"$f":"INDIRECT($H$2&\"!V149\")","v":0},"مدفوع"]
[{"$f":"INDIRECT($H$2&\"!A150\")","v":0},{"$f":"INDIRECT($H$2&\"!b150\")","v":0},{"$f":"INDIRECT($H$2&\"!C150\")","v":0},{"$f":"INDIRECT($H$2&\"!D150\")","v":0},{"$f":"INDIRECT($H$2&\"!E150\")","v":0},{"$f":"INDIRECT($H$2&\"!F150\")","v":0},{"$f":"INDIRECT($H$2&\"!G150\")","v":0},{"$f":"INDIRECT($H$2&\"!H150\")","v":0},{"$f":"INDIRECT($H$2&\"!I150\")","v":0},{"$f":"INDIRECT($H$2&\"!J150\")","v":0},{"$f":"INDIRECT($H$2&\"!K150\")","v":0},{"$f":"INDIRECT($H$2&\"!L150\")","v":0},{"$f":"INDIRECT($H$2&\"!M150\")","v":0},{"$f":"INDIRECT($H$2&\"!N150\")","v":0},{"$f":"INDIRECT($H$2&\"!O150\")","v":0},{"$f":"INDIRECT($H$2&\"!P150\")","v":0},{"$f":"INDIRECT($H$2&\"!Q150\")","v":0},{"$f":"INDIRECT($H$2&\"!R150\")","v":0},{"$f":"INDIRECT($H$2&\"!S150\")","v":0},{"$f":"INDIRECT($H$2&\"!T150\")","v":0},{"$f":"INDIRECT($H$2&\"!U150\")","v":"00:00:00"},{"$f":"INDIRECT($H$2&\"!V150\")","v":0},"مدفوع"]
[{"$f":"INDIRECT($H$2&\"!A151\")","v":0},{"$f":"INDIRECT($H$2&\"!b151\")","v":0},{"$f":"INDIRECT($H$2&\"!C151\")","v":0},{"$f":"INDIRECT($H$2&\"!D151\")","v":0},{"$f":"INDIRECT($H$2&\"!E151\")","v":0},{"$f":"INDIRECT($H$2&\"!F151\")","v":0},{"$f":"INDIRECT($H$2&\"!G151\")","v":0},{"$f":"INDIRECT($H$2&\"!H151\")","v":0},{"$f":"INDIRECT($H$2&\"!I151\")","v":0},{"$f":"INDIRECT($H$2&\"!J151\")","v":0},{"$f":"INDIRECT($H$2&\"!K151\")","v":0},{"$f":"INDIRECT($H$2&\"!L151\")","v":0},{"$f":"INDIRECT($H$2&\"!M151\")","v":0},{"$f":"INDIRECT($H$2&\"!N151\")","v":0},{"$f":"INDIRECT($H$2&\"!O151\")","v":0},{"$f":"INDIRECT($H$2&\"!P151\")","v":0},{"$f":"INDIRECT($H$2&\"!Q151\")","v":0},{"$f":"INDIRECT($H$2&\"!R151\")","v":0},{"$f":"INDIRECT($H$2&\"!S151\")","v":0},{"$f":"INDIRECT($H$2&\"!T151\")","v":0},{"$f":"INDIRECT($H$2&\"!U151\")","v":"00:00:00"},{"$f":"INDIRECT($H$2&\"!V151\")","v":0},"مدفوع"]
[{"$f":"INDIRECT($H$2&\"!A152\")","v":0},{"$f":"INDIRECT($H$2&\"!b152\")","v":0},{"$f":"INDIRECT($H$2&\"!C152\")","v":0},{"$f":"INDIRECT($H$2&\"!D152\")","v":0},{"$f":"INDIRECT($H$2&\"!E152\")","v":0},{"$f":"INDIRECT($H$2&\"!F152\")","v":0},{"$f":"INDIRECT($H$2&\"!G152\")","v":0},{"$f":"INDIRECT($H$2&\"!H152\")","v":0},{"$f":"INDIRECT($H$2&\"!I152\")","v":0},{"$f":"INDIRECT($H$2&\"!J152\")","v":0},{"$f":"INDIRECT($H$2&\"!K152\")","v":0},{"$f":"INDIRECT($H$2&\"!L152\")","v":0},{"$f":"INDIRECT($H$2&\"!M152\")","v":0},{"$f":"INDIRECT($H$2&\"!N152\")","v":0},{"$f":"INDIRECT($H$2&\"!O152\")","v":0},{"$f":"INDIRECT($H$2&\"!P152\")","v":0},{"$f":"INDIRECT($H$2&\"!Q152\")","v":0},{"$f":"INDIRECT($H$2&\"!R152\")","v":0},{"$f":"INDIRECT($H$2&\"!S152\")","v":0},{"$f":"INDIRECT($H$2&\"!T152\")","v":0},{"$f":"INDIRECT($H$2&\"!U152\")","v":"00:00:00"},{"$f":"INDIRECT($H$2&\"!V152\")","v":0},"مدفوع"]
[{"$f":"INDIRECT($H$2&\"!A153\")","v":0},{"$f":"INDIRECT($H$2&\"!b153\")","v":0},{"$f":"INDIRECT($H$2&\"!C153\")","v":0},{"$f":"INDIRECT($H$2&\"!D153\")","v":0},{"$f":"INDIRECT($H$2&\"!E153\")","v":0},{"$f":"INDIRECT($H$2&\"!F153\")","v":0},{"$f":"INDIRECT($H$2&\"!G153\")","v":0},{"$f":"INDIRECT($H$2&\"!H153\")","v":0},{"$f":"INDIRECT($H$2&\"!I153\")","v":0},{"$f":"INDIRECT($H$2&\"!J153\")","v":0},{"$f":"INDIRECT($H$2&\"!K153\")","v":0},{"$f":"INDIRECT($H$2&\"!L153\")","v":0},{"$f":"INDIRECT($H$2&\"!M153\")","v":0},{"$f":"INDIRECT($H$2&\"!N153\")","v":0},{"$f":"INDIRECT($H$2&\"!O153\")","v":0},{"$f":"INDIRECT($H$2&\"!P153\")","v":0},{"$f":"INDIRECT($H$2&\"!Q153\")","v":0},{"$f":"INDIRECT($H$2&\"!R153\")","v":0},{"$f":"INDIRECT($H$2&\"!S153\")","v":0},{"$f":"INDIRECT($H$2&\"!T153\")","v":0},{"$f":"INDIRECT($H$2&\"!U153\")","v":"00:00:00"},{"$f":"INDIRECT($H$2&\"!V153\")","v":0},"مدفوع"]
[{"$f":"INDIRECT($H$2&\"!A154\")","v":0},{"$f":"INDIRECT($H$2&\"!b154\")","v":0},{"$f":"INDIRECT($H$2&\"!C154\")","v":0},{"$f":"INDIRECT($H$2&\"!D154\")","v":0},{"$f":"INDIRECT($H$2&\"!E154\")","v":0},{"$f":"INDIRECT($H$2&\"!F154\")","v":0},{"$f":"INDIRECT($H$2&\"!G154\")","v":0},{"$f":"INDIRECT($H$2&\"!H154\")","v":0},{"$f":"INDIRECT($H$2&\"!I154\")","v":0},{"$f":"INDIRECT($H$2&\"!J154\")","v":0},{"$f":"INDIRECT($H$2&\"!K154\")","v":0},{"$f":"INDIRECT($H$2&\"!L154\")","v":0},{"$f":"INDIRECT($H$2&\"!M154\")","v":0},{"$f":"INDIRECT($H$2&\"!N154\")","v":0},{"$f":"INDIRECT($H$2&\"!O154\")","v":0},{"$f":"INDIRECT($H$2&\"!P154\")","v":0},{"$f":"INDIRECT($H$2&\"!Q154\")","v":0},{"$f":"INDIRECT($H$2&\"!R154\")","v":0},{"$f":"INDIRECT($H$2&\"!S154\")","v":0},{"$f":"INDIRECT($H$2&\"!T154\")","v":0},{"$f":"INDIRECT($H$2&\"!U154\")","v":"00:00:00"},{"$f":"INDIRECT($H$2&\"!V154\")","v":0},"مدفوع"]
[{"$f":"INDIRECT($H$2&\"!A155\")","v":0},{"$f":"INDIRECT($H$2&\"!b155\")","v":0},{"$f":"INDIRECT($H$2&\"!C155\")","v":0},{"$f":"INDIRECT($H$2&\"!D155\")","v":0},{"$f":"INDIRECT($H$2&\"!E155\")","v":0},{"$f":"INDIRECT($H$2&\"!F155\")","v":0},{"$f":"INDIRECT($H$2&\"!G155\")","v":0},{"$f":"INDIRECT($H$2&\"!H155\")","v":0},{"$f":"INDIRECT($H$2&\"!I155\")","v":0},{"$f":"INDIRECT($H$2&\"!J155\")","v":0},{"$f":"INDIRECT($H$2&\"!K155\")","v":0},{"$f":"INDIRECT($H$2&\"!L155\")","v":0},{"$f":"INDIRECT($H$2&\"!M155\")","v":0},{"$f":"INDIRECT($H$2&\"!N155\")","v":0},{"$f":"INDIRECT($H$2&\"!O155\")","v":0},{"$f":"INDIRECT($H$2&\"!P155\")","v":0},{"$f":"INDIRECT($H$2&\"!Q155\")","v":0},{"$f":"INDIRECT($H$2&\"!R155\")","v":0},{"$f":"INDIRECT($H$2&\"!S155\")","v":0},{"$f":"INDIRECT($H$2&\"!T155\")","v":0},{"$f":"INDIRECT($H$2&\"!U155\")","v":"00:00:00"},{"$f":"INDIRECT($H$2&\"!V155\")","v":0},"مدفوع"]
[{"$f":"INDIRECT($H$2&\"!A156\")","v":0},{"$f":"INDIRECT($H$2&\"!b156\")","v":0},{"$f":"INDIRECT($H$2&\"!C156\")","v":0},{"$f":"INDIRECT($H$2&\"!D156\")","v":0},{"$f":"INDIRECT($H$2&\"!E156\")","v":0},{"$f":"INDIRECT($H$2&\"!F156\")","v":0},{"$f":"INDIRECT($H$2&\"!G156\")","v":0},{"$f":"INDIRECT($H$2&\"!H156\")","v":0},{"$f":"INDIRECT($H$2&\"!I156\")","v":0},{"$f":"INDIRECT($H$2&\"!J156\")","v":0},{"$f":"INDIRECT($H$2&\"!K156\")","v":0},{"$f":"INDIRECT($H$2&\"!L156\")","v":0},{"$f":"INDIRECT($H$2&\"!M156\")","v":0},{"$f":"INDIRECT($H$2&\"!N156\")","v":0},{"$f":"INDIRECT($H$2&\"!O156\")","v":0},{"$f":"INDIRECT($H$2&\"!P156\")","v":0},{"$f":"INDIRECT($H$2&\"!Q156\")","v":0},{"$f":"INDIRECT($H$2&\"!R156\")","v":0},{"$f":"INDIRECT($H$2&\"!S156\")","v":0},{"$f":"INDIRECT($H$2&\"!T156\")","v":0},{"$f":"INDIRECT($H$2&\"!U156\")","v":"00:00:00"},{"$f":"INDIRECT($H$2&\"!V156\")","v":0},"مدفوع"]
[{"$f":"INDIRECT($H$2&\"!A157\")","v":0},{"$f":"INDIRECT($H$2&\"!b157\")","v":0},{"$f":"INDIRECT($H$2&\"!C157\")","v":0},{"$f":"INDIRECT($H$2&\"!D157\")","v":0},{"$f":"INDIRECT($H$2&\"!E157\")","v":0},{"$f":"INDIRECT($H$2&\"!F157\")","v":0},{"$f":"INDIRECT($H$2&\"!G157\")","v":0},{"$f":"INDIRECT($H$2&\"!H157\")","v":0},{"$f":"INDIRECT($H$2&\"!I157\")","v":0},{"$f":"INDIRECT($H$2&\"!J157\")","v":0},{"$f":"INDIRECT($H$2&\"!K157\")","v":0},{"$f":"INDIRECT($H$2&\"!L157\")","v":0},{"$f":"INDIRECT($H$2&\"!M157\")","v":0},{"$f":"INDIRECT($H$2&\"!N157\")","v":0},{"$f":"INDIRECT($H$2&\"!O157\")","v":0},{"$f":"INDIRECT($H$2&\"!P157\")","v":0},{"$f":"INDIRECT($H$2&\"!Q157\")","v":0},{"$f":"INDIRECT($H$2&\"!R157\")","v":0},{"$f":"INDIRECT($H$2&\"!S157\")","v":0},{"$f":"INDIRECT($H$2&\"!T157\")","v":0},{"$f":"INDIRECT($H$2&\"!U157\")","v":"00:00:00"},{"$f":"INDIRECT($H$2&\"!V157\")","v":0},"مدفوع"]
[{"$f":"INDIRECT($H$2&\"!A158\")","v":0},{"$f":"INDIRECT($H$2&\"!b158\")","v":0},{"$f":"INDIRECT($H$2&\"!C158\")","v":0},{"$f":"INDIRECT($H$2&\"!D158\")","v":0},{"$f":"INDIRECT($H$2&\"!E158\")","v":0},{"$f":"INDIRECT($H$2&\"!F158\")","v":0},{"$f":"INDIRECT($H$2&\"!G158\")","v":0},{"$f":"INDIRECT($H$2&\"!H158\")","v":0},{"$f":"INDIRECT($H$2&\"!I158\")","v":0},{"$f":"INDIRECT($H$2&\"!J158\")","v":0},{"$f":"INDIRECT($H$2&\"!K158\")","v":0},{"$f":"INDIRECT($H$2&\"!L158\")","v":0},{"$f":"INDIRECT($H$2&\"!M158\")","v":0},{"$f":"INDIRECT($H$2&\"!N158\")","v":0},{"$f":"INDIRECT($H$2&\"!O158\")","v":0},{"$f":"INDIRECT($H$2&\"!P158\")","v":0},{"$f":"INDIRECT($H$2&\"!Q158\")","v":0},{"$f":"INDIRECT($H$2&\"!R158\")","v":0},{"$f":"INDIRECT($H$2&\"!S158\")","v":0},{"$f":"INDIRECT($H$2&\"!T158\")","v":0},{"$f":"INDIRECT($H$2&\"!U158\")","v":"00:00:00"},{"$f":"INDIRECT($H$2&\"!V158\")","v":0},"مدفوع"]
[{"$f":"INDIRECT($H$2&\"!A159\")","v":0},{"$f":"INDIRECT($H$2&\"!b159\")","v":0},{"$f":"INDIRECT($H$2&\"!C159\")","v":0},{"$f":"INDIRECT($H$2&\"!D159\")","v":0},{"$f":"INDIRECT($H$2&\"!E159\")","v":0},{"$f":"INDIRECT($H$2&\"!F159\")","v":0},{"$f":"INDIRECT($H$2&\"!G159\")","v":0},{"$f":"INDIRECT($H$2&\"!H159\")","v":0},{"$f":"INDIRECT($H$2&\"!I159\")","v":0},{"$f":"INDIRECT($H$2&\"!J159\")","v":0},{"$f":"INDIRECT($H$2&\"!K159\")","v":0},{"$f":"INDIRECT($H$2&\"!L159\")","v":0},{"$f":"INDIRECT($H$2&\"!M159\")","v":0},{"$f":"INDIRECT($H$2&\"!N159\")","v":0},{"$f":"INDIRECT($H$2&\"!O159\")","v":0},{"$f":"INDIRECT($H$2&\"!P159\")","v":0},{"$f":"INDIRECT($H$2&\"!Q159\")","v":0},{"$f":"INDIRECT($H$2&\"!R159\")","v":0},{"$f":"INDIRECT($H$2&\"!S159\")","v":0},{"$f":"INDIRECT($H$2&\"!T159\")","v":0},{"$f":"INDIRECT($H$2&\"!U159\")","v":"00:00:00"},{"$f":"INDIRECT($H$2&\"!V159\")","v":0},"مدفوع"]
[{"$f":"INDIRECT($H$2&\"!A160\")","v":0},{"$f":"INDIRECT($H$2&\"!b160\")","v":0},{"$f":"INDIRECT($H$2&\"!C160\")","v":0},{"$f":"INDIRECT($H$2&\"!D160\")","v":0},{"$f":"INDIRECT($H$2&\"!E160\")","v":0},{"$f":"INDIRECT($H$2&\"!F160\")","v":0},{"$f":"INDIRECT($H$2&\"!G160\")","v":0},{"$f":"INDIRECT($H$2&\"!H160\")","v":0},{"$f":"INDIRECT($H$2&\"!I160\")","v":0},{"$f":"INDIRECT($H$2&\"!J160\")","v":0},{"$f":"INDIRECT($H$2&\"!K160\")","v":0},{"$f":"INDIRECT($H$2&\"!L160\")","v":0},{"$f":"INDIRECT($H$2&\"!M160\")","v":0},{"$f":"INDIRECT($H$2&\"!N160\")","v":0},{"$f":"INDIRECT($H$2&\"!O160\")","v":0},{"$f":"INDIRECT($H$2&\"!P160\")","v":0},{"$f":"INDIRECT($H$2&\"!Q160\")","v":0},{"$f":"INDIRECT($H$2&\"!R160\")","v":0},{"$f":"INDIRECT($H$2&\"!S160\")","v":0},{"$f":"INDIRECT($H$2&\"!T160\")","v":0},{"$f":"INDIRECT($H$2&\"!U160\")","v":"00:00:00"},{"$f":"INDIRECT($H$2&\"!V160\")","v":0},"مدفوع"]
[{"$f":"INDIRECT($H$2&\"!A161\")","v":0},{"$f":"INDIRECT($H$2&\"!b161\")","v":0},{"$f":"INDIRECT($H$2&\"!C161\")","v":0},{"$f":"INDIRECT($H$2&\"!D161\")","v":0},{"$f":"INDIRECT($H$2&\"!E161\")","v":0},{"$f":"INDIRECT($H$2&\"!F161\")","v":0},{"$f":"INDIRECT($H$2&\"!G161\")","v":0},{"$f":"INDIRECT($H$2&\"!H161\")","v":0},{"$f":"INDIRECT($H$2&\"!I161\")","v":0},{"$f":"INDIRECT($H$2&\"!J161\")","v":0},{"$f":"INDIRECT($H$2&\"!K161\")","v":0},{"$f":"INDIRECT($H$2&\"!L161\")","v":0},{"$f":"INDIRECT($H$2&\"!M161\")","v":0},{"$f":"INDIRECT($H$2&\"!N161\")","v":0},{"$f":"INDIRECT($H$2&\"!O161\")","v":0},{"$f":"INDIRECT($H$2&\"!P161\")","v":0},{"$f":"INDIRECT($H$2&\"!Q161\")","v":0},{"$f":"INDIRECT($H$2&\"!R161\")","v":0},{"$f":"INDIRECT($H$2&\"!S161\")","v":0},{"$f":"INDIRECT($H$2&\"!T161\")","v":0},{"$f":"INDIRECT($H$2&\"!U161\")","v":"00:00:00"},{"$f":"INDIRECT($H$2&\"!V161\")","v":0},"مدفوع"]
[{"$f":"INDIRECT($H$2&\"!A162\")","v":0},{"$f":"INDIRECT($H$2&\"!b162\")","v":0},{"$f":"INDIRECT($H$2&\"!C162\")","v":0},{"$f":"INDIRECT($H$2&\"!D162\")","v":0},{"$f":"INDIRECT($H$2&\"!E162\")","v":0},{"$f":"INDIRECT($H$2&\"!F162\")","v":0},{"$f":"INDIRECT($H$2&\"!G162\")","v":0},{"$f":"INDIRECT($H$2&\"!H162\")","v":0},{"$f":"INDIRECT($H$2&\"!I162\")","v":0},{"$f":"INDIRECT($H$2&\"!J162\")","v":0},{"$f":"INDIRECT($H$2&\"!K162\")","v":0},{"$f":"INDIRECT($H$2&\"!L162\")","v":0},{"$f":"INDIRECT($H$2&\"!M162\")","v":0},{"$f":"INDIRECT($H$2&\"!N162\")","v":0},{"$f":"INDIRECT($H$2&\"!O162\")","v":0},{"$f":"INDIRECT($H$2&\"!P162\")","v":0},{"$f":"INDIRECT($H$2&\"!Q162\")","v":0},{"$f":"INDIRECT($H$2&\"!R162\")","v":0},{"$f":"INDIRECT($H$2&\"!S162\")","v":0},{"$f":"INDIRECT($H$2&\"!T162\")","v":0},{"$f":"INDIRECT($H$2&\"!U162\")","v":"00:00:00"},{"$f":"INDIRECT($H$2&\"!V162\")","v":0},"مدفوع"]
[{"$f":"INDIRECT($H$2&\"!A163\")","v":0},{"$f":"INDIRECT($H$2&\"!b163\")","v":0},{"$f":"INDIRECT($H$2&\"!C163\")","v":0},{"$f":"INDIRECT($H$2&\"!D163\")","v":0},{"$f":"INDIRECT($H$2&\"!E163\")","v":0},{"$f":"INDIRECT($H$2&\"!F163\")","v":0},{"$f":"INDIRECT($H$2&\"!G163\")","v":0},{"$f":"INDIRECT($H$2&\"!H163\")","v":0},{"$f":"INDIRECT($H$2&\"!I163\")","v":0},{"$f":"INDIRECT($H$2&\"!J163\")","v":0},{"$f":"INDIRECT($H$2&\"!K163\")","v":0},{"$f":"INDIRECT($H$2&\"!L163\")","v":0},{"$f":"INDIRECT($H$2&\"!M163\")","v":0},{"$f":"INDIRECT($H$2&\"!N163\")","v":0},{"$f":"INDIRECT($H$2&\"!O163\")","v":0},{"$f":"INDIRECT($H$2&\"!P163\")","v":0},{"$f":"INDIRECT($H$2&\"!Q163\")","v":0},{"$f":"INDIRECT($H$2&\"!R163\")","v":0},{"$f":"INDIRECT($H$2&\"!S163\")","v":0},{"$f":"INDIRECT($H$2&\"!T163\")","v":0},{"$f":"INDIRECT($H$2&\"!U163\")","v":"00:00:00"},{"$f":"INDIRECT($H$2&\"!V163\")","v":0},"مدفوع"]
[{"$f":"INDIRECT($H$2&\"!A164\")","v":0},{"$f":"INDIRECT($H$2&\"!b164\")","v":0},{"$f":"INDIRECT($H$2&\"!C164\")","v":0},{"$f":"INDIRECT($H$2&\"!D164\")","v":0},{"$f":"INDIRECT($H$2&\"!E164\")","v":0},{"$f":"INDIRECT($H$2&\"!F164\")","v":0},{"$f":"INDIRECT($H$2&\"!G164\")","v":0},{"$f":"INDIRECT($H$2&\"!H164\")","v":0},{"$f":"INDIRECT($H$2&\"!I164\")","v":0},{"$f":"INDIRECT($H$2&\"!J164\")","v":0},{"$f":"INDIRECT($H$2&\"!K164\")","v":0},{"$f":"INDIRECT($H$2&\"!L164\")","v":0},{"$f":"INDIRECT($H$2&\"!M164\")","v":0},{"$f":"INDIRECT($H$2&\"!N164\")","v":0},{"$f":"INDIRECT($H$2&\"!O164\")","v":0},{"$f":"INDIRECT($H$2&\"!P164\")","v":0},{"$f":"INDIRECT($H$2&\"!Q164\")","v":0},{"$f":"INDIRECT($H$2&\"!R164\")","v":0},{"$f":"INDIRECT($H$2&\"!S164\")","v":0},{"$f":"INDIRECT($H$2&\"!T164\")","v":0},{"$f":"INDIRECT($H$2&\"!U164\")","v":"00:00:00"},{"$f":"INDIRECT($H$2&\"!V164\")","v":0},"مدفوع"]
[{"$f":"INDIRECT($H$2&\"!A165\")","v":0},{"$f":"INDIRECT($H$2&\"!b165\")","v":0},{"$f":"INDIRECT($H$2&\"!C165\")","v":0},{"$f":"INDIRECT($H$2&\"!D165\")","v":0},{"$f":"INDIRECT($H$2&\"!E165\")","v":0},{"$f":"INDIRECT($H$2&\"!F165\")","v":0},{"$f":"INDIRECT($H$2&\"!G165\")","v":0},{"$f":"INDIRECT($H$2&\"!H165\")","v":0},{"$f":"INDIRECT($H$2&\"!I165\")","v":0},{"$f":"INDIRECT($H$2&\"!J165\")","v":0},{"$f":"INDIRECT($H$2&\"!K165\")","v":0},{"$f":"INDIRECT($H$2&\"!L165\")","v":0},{"$f":"INDIRECT($H$2&\"!M165\")","v":0},{"$f":"INDIRECT($H$2&\"!N165\")","v":0},{"$f":"INDIRECT($H$2&\"!O165\")","v":0},{"$f":"INDIRECT($H$2&\"!P165\")","v":0},{"$f":"INDIRECT($H$2&\"!Q165\")","v":0},{"$f":"INDIRECT($H$2&\"!R165\")","v":0},{"$f":"INDIRECT($H$2&\"!S165\")","v":0},{"$f":"INDIRECT($H$2&\"!T165\")","v":0},{"$f":"INDIRECT($H$2&\"!U165\")","v":"00:00:00"},{"$f":"INDIRECT($H$2&\"!V165\")","v":0},"مدفوع"]
[{"$f":"INDIRECT($H$2&\"!A166\")","v":0},{"$f":"INDIRECT($H$2&\"!b166\")","v":0},{"$f":"INDIRECT($H$2&\"!C166\")","v":0},{"$f":"INDIRECT($H$2&\"!D166\")","v":0},{"$f":"INDIRECT($H$2&\"!E166\")","v":0},{"$f":"INDIRECT($H$2&\"!F166\")","v":0},{"$f":"INDIRECT($H$2&\"!G166\")","v":0},{"$f":"INDIRECT($H$2&\"!H166\")","v":0},{"$f":"INDIRECT($H$2&\"!I166\")","v":0},{"$f":"INDIRECT($H$2&\"!J166\")","v":0},{"$f":"INDIRECT($H$2&\"!K166\")","v":0},{"$f":"INDIRECT($H$2&\"!L166\")","v":0},{"$f":"INDIRECT($H$2&\"!M166\")","v":0},{"$f":"INDIRECT($H$2&\"!N166\")","v":0},{"$f":"INDIRECT($H$2&\"!O166\")","v":0},{"$f":"INDIRECT($H$2&\"!P166\")","v":0},{"$f":"INDIRECT($H$2&\"!Q166\")","v":0},{"$f":"INDIRECT($H$2&\"!R166\")","v":0},{"$f":"INDIRECT($H$2&\"!S166\")","v":0},{"$f":"INDIRECT($H$2&\"!T166\")","v":0},{"$f":"INDIRECT($H$2&\"!U166\")","v":"00:00:00"},{"$f":"INDIRECT($H$2&\"!V166\")","v":0},"مدفوع"]
[{"$f":"INDIRECT($H$2&\"!A167\")","v":0},{"$f":"INDIRECT($H$2&\"!b167\")","v":0},{"$f":"INDIRECT($H$2&\"!C167\")","v":0},{"$f":"INDIRECT($H$2&\"!D167\")","v":0},{"$f":"INDIRECT($H$2&\"!E167\")","v":0},{"$f":"INDIRECT($H$2&\"!F167\")","v":0},{"$f":"INDIRECT($H$2&\"!G167\")","v":0},{"$f":"INDIRECT($H$2&\"!H167\")","v":0},{"$f":"INDIRECT($H$2&\"!I167\")","v":0},{"$f":"INDIRECT($H$2&\"!J167\")","v":0},{"$f":"INDIRECT($H$2&\"!K167\")","v":0},{"$f":"INDIRECT($H$2&\"!L167\")","v":0},{"$f":"INDIRECT($H$2&\"!M167\")","v":0},{"$f":"INDIRECT($H$2&\"!N167\")","v":0},{"$f":"INDIRECT($H$2&\"!O167\")","v":0},{"$f":"INDIRECT($H$2&\"!P167\")","v":0},{"$f":"INDIRECT($H$2&\"!Q167\")","v":0},{"$f":"INDIRECT($H$2&\"!R167\")","v":0},{"$f":"INDIRECT($H$2&\"!S167\")","v":0},{"$f":"INDIRECT($H$2&\"!T167\")","v":0},{"$f":"INDIRECT($H$2&\"!U167\")","v":"00:00:00"},{"$f":"INDIRECT($H$2&\"!V167\")","v":0},"مدفوع"]
[{"$f":"INDIRECT($H$2&\"!A168\")","v":0},{"$f":"INDIRECT($H$2&\"!b168\")","v":0},{"$f":"INDIRECT($H$2&\"!C168\")","v":0},{"$f":"INDIRECT($H$2&\"!D168\")","v":0},{"$f":"INDIRECT($H$2&\"!E168\")","v":0},{"$f":"INDIRECT($H$2&\"!F168\")","v":0},{"$f":"INDIRECT($H$2&\"!G168\")","v":0},{"$f":"INDIRECT($H$2&\"!H168\")","v":0},{"$f":"INDIRECT($H$2&\"!I168\")","v":0},{"$f":"INDIRECT($H$2&\"!J168\")","v":0},{"$f":"INDIRECT($H$2&\"!K168\")","v":0},{"$f":"INDIRECT($H$2&\"!L168\")","v":0},{"$f":"INDIRECT($H$2&\"!M168\")","v":0},{"$f":"INDIRECT($H$2&\"!N168\")","v":0},{"$f":"INDIRECT($H$2&\"!O168\")","v":0},{"$f":"INDIRECT($H$2&\"!P168\")","v":0},{"$f":"INDIRECT($H$2&\"!Q168\")","v":0},{"$f":"INDIRECT($H$2&\"!R168\")","v":0},{"$f":"INDIRECT($H$2&\"!S168\")","v":0},{"$f":"INDIRECT($H$2&\"!T168\")","v":0},{"$f":"INDIRECT($H$2&\"!U168\")","v":"00:00:00"},{"$f":"INDIRECT($H$2&\"!V168\")","v":0},"مدفوع"]
[{"$f":"INDIRECT($H$2&\"!A169\")","v":0},{"$f":"INDIRECT($H$2&\"!b169\")","v":0},{"$f":"INDIRECT($H$2&\"!C169\")","v":0},{"$f":"INDIRECT($H$2&\"!D169\")","v":0},{"$f":"INDIRECT($H$2&\"!E169\")","v":0},{"$f":"INDIRECT($H$2&\"!F169\")","v":0},{"$f":"INDIRECT($H$2&\"!G169\")","v":0},{"$f":"INDIRECT($H$2&\"!H169\")","v":0},{"$f":"INDIRECT($H$2&\"!I169\")","v":0},{"$f":"INDIRECT($H$2&\"!J169\")","v":0},{"$f":"INDIRECT($H$2&\"!K169\")","v":0},{"$f":"INDIRECT($H$2&\"!L169\")","v":0},{"$f":"INDIRECT($H$2&\"!M169\")","v":0},{"$f":"INDIRECT($H$2&\"!N169\")","v":0},{"$f":"INDIRECT($H$2&\"!O169\")","v":0},{"$f":"INDIRECT($H$2&\"!P169\")","v":0},{"$f":"INDIRECT($H$2&\"!Q169\")","v":0},{"$f":"INDIRECT($H$2&\"!R169\")","v":0},{"$f":"INDIRECT($H$2&\"!S169\")","v":0},{"$f":"INDIRECT($H$2&\"!T169\")","v":0},{"$f":"INDIRECT($H$2&\"!U169\")","v":"00:00:00"},{"$f":"INDIRECT($H$2&\"!V169\")","v":0},"مدفوع"]
[{"$f":"INDIRECT($H$2&\"!A170\")","v":0},{"$f":"INDIRECT($H$2&\"!b170\")","v":0},{"$f":"INDIRECT($H$2&\"!C170\")","v":0},{"$f":"INDIRECT($H$2&\"!D170\")","v":0},{"$f":"INDIRECT($H$2&\"!E170\")","v":0},{"$f":"INDIRECT($H$2&\"!F170\")","v":0},{"$f":"INDIRECT($H$2&\"!G170\")","v":0},{"$f":"INDIRECT($H$2&\"!H170\")","v":0},{"$f":"INDIRECT($H$2&\"!I170\")","v":0},{"$f":"INDIRECT($H$2&\"!J170\")","v":0},{"$f":"INDIRECT($H$2&\"!K170\")","v":0},{"$f":"INDIRECT($H$2&\"!L170\")","v":0},{"$f":"INDIRECT($H$2&\"!M170\")","v":0},{"$f":"INDIRECT($H$2&\"!N170\")","v":0},{"$f":"INDIRECT($H$2&\"!O170\")","v":0},{"$f":"INDIRECT($H$2&\"!P170\")","v":0},{"$f":"INDIRECT($H$2&\"!Q170\")","v":0},{"$f":"INDIRECT($H$2&\"!R170\")","v":0},{"$f":"INDIRECT($H$2&\"!S170\")","v":0},{"$f":"INDIRECT($H$2&\"!T170\")","v":0},{"$f":"INDIRECT($H$2&\"!U170\")","v":"00:00:00"},{"$f":"INDIRECT($H$2&\"!V170\")","v":0},"مدفوع"]
[{"$f":"INDIRECT($H$2&\"!A171\")","v":0},{"$f":"INDIRECT($H$2&\"!b171\")","v":0},{"$f":"INDIRECT($H$2&\"!C171\")","v":0},{"$f":"INDIRECT($H$2&\"!D171\")","v":0},{"$f":"INDIRECT($H$2&\"!E171\")","v":0},{"$f":"INDIRECT($H$2&\"!F171\")","v":0},{"$f":"INDIRECT($H$2&\"!G171\")","v":0},{"$f":"INDIRECT($H$2&\"!H171\")","v":0},{"$f":"INDIRECT($H$2&\"!I171\")","v":0},{"$f":"INDIRECT($H$2&\"!J171\")","v":0},{"$f":"INDIRECT($H$2&\"!K171\")","v":0},{"$f":"INDIRECT($H$2&\"!L171\")","v":0},{"$f":"INDIRECT($H$2&\"!M171\")","v":0},{"$f":"INDIRECT($H$2&\"!N171\")","v":0},{"$f":"INDIRECT($H$2&\"!O171\")","v":0},{"$f":"INDIRECT($H$2&\"!P171\")","v":0},{"$f":"INDIRECT($H$2&\"!Q171\")","v":0},{"$f":"INDIRECT($H$2&\"!R171\")","v":0},{"$f":"INDIRECT($H$2&\"!S171\")","v":0},{"$f":"INDIRECT($H$2&\"!T171\")","v":0},{"$f":"INDIRECT($H$2&\"!U171\")","v":"00:00:00"},{"$f":"INDIRECT($H$2&\"!V171\")","v":0},"مدفوع"]
[{"$f":"INDIRECT($H$2&\"!A172\")","v":0},{"$f":"INDIRECT($H$2&\"!b172\")","v":0},{"$f":"INDIRECT($H$2&\"!C172\")","v":0},{"$f":"INDIRECT($H$2&\"!D172\")","v":0},{"$f":"INDIRECT($H$2&\"!E172\")","v":0},{"$f":"INDIRECT($H$2&\"!F172\")","v":0},{"$f":"INDIRECT($H$2&\"!G172\")","v":0},{"$f":"INDIRECT($H$2&\"!H172\")","v":0},{"$f":"INDIRECT($H$2&\"!I172\")","v":0},{"$f":"INDIRECT($H$2&\"!J172\")","v":0},{"$f":"INDIRECT($H$2&\"!K172\")","v":0},{"$f":"INDIRECT($H$2&\"!L172\")","v":0},{"$f":"INDIRECT($H$2&\"!M172\")","v":0},{"$f":"INDIRECT($H$2&\"!N172\")","v":0},{"$f":"INDIRECT($H$2&\"!O172\")","v":0},{"$f":"INDIRECT($H$2&\"!P172\")","v":0},{"$f":"INDIRECT($H$2&\"!Q172\")","v":0},{"$f":"INDIRECT($H$2&\"!R172\")","v":0},{"$f":"INDIRECT($H$2&\"!S172\")","v":0},{"$f":"INDIRECT($H$2&\"!T172\")","v":0},{"$f":"INDIRECT($H$2&\"!U172\")","v":"00:00:00"},{"$f":"INDIRECT($H$2&\"!V172\")","v":0},"مدفوع"]
[{"$f":"INDIRECT($H$2&\"!A173\")","v":0},{"$f":"INDIRECT($H$2&\"!b173\")","v":0},{"$f":"INDIRECT($H$2&\"!C173\")","v":0},{"$f":"INDIRECT($H$2&\"!D173\")","v":0},{"$f":"INDIRECT($H$2&\"!E173\")","v":0},{"$f":"INDIRECT($H$2&\"!F173\")","v":0},{"$f":"INDIRECT($H$2&\"!G173\")","v":0},{"$f":"INDIRECT($H$2&\"!H173\")","v":0},{"$f":"INDIRECT($H$2&\"!I173\")","v":0},{"$f":"INDIRECT($H$2&\"!J173\")","v":0},{"$f":"INDIRECT($H$2&\"!K173\")","v":0},{"$f":"INDIRECT($H$2&\"!L173\")","v":0},{"$f":"INDIRECT($H$2&\"!M173\")","v":0},{"$f":"INDIRECT($H$2&\"!N173\")","v":0},{"$f":"INDIRECT($H$2&\"!O173\")","v":0},{"$f":"INDIRECT($H$2&\"!P173\")","v":0},{"$f":"INDIRECT($H$2&\"!Q173\")","v":0},{"$f":"INDIRECT($H$2&\"!R173\")","v":0},{"$f":"INDIRECT($H$2&\"!S173\")","v":0},{"$f":"INDIRECT($H$2&\"!T173\")","v":0},{"$f":"INDIRECT($H$2&\"!U173\")","v":"00:00:00"},{"$f":"INDIRECT($H$2&\"!V173\")","v":0},"مدفوع"]
[{"$f":"INDIRECT($H$2&\"!A174\")","v":0},{"$f":"INDIRECT($H$2&\"!b174\")","v":0},{"$f":"INDIRECT($H$2&\"!C174\")","v":0},{"$f":"INDIRECT($H$2&\"!D174\")","v":0},{"$f":"INDIRECT($H$2&\"!E174\")","v":0},{"$f":"INDIRECT($H$2&\"!F174\")","v":0},{"$f":"INDIRECT($H$2&\"!G174\")","v":0},{"$f":"INDIRECT($H$2&\"!H174\")","v":0},{"$f":"INDIRECT($H$2&\"!I174\")","v":0},{"$f":"INDIRECT($H$2&\"!J174\")","v":0},{"$f":"INDIRECT($H$2&\"!K174\")","v":0},{"$f":"INDIRECT($H$2&\"!L174\")","v":0},{"$f":"INDIRECT($H$2&\"!M174\")","v":0},{"$f":"INDIRECT($H$2&\"!N174\")","v":0},{"$f":"INDIRECT($H$2&\"!O174\")","v":0},{"$f":"INDIRECT($H$2&\"!P174\")","v":0},{"$f":"INDIRECT($H$2&\"!Q174\")","v":0},{"$f":"INDIRECT($H$2&\"!R174\")","v":0},{"$f":"INDIRECT($H$2&\"!S174\")","v":0},{"$f":"INDIRECT($H$2&\"!T174\")","v":0},{"$f":"INDIRECT($H$2&\"!U174\")","v":"00:00:00"},{"$f":"INDIRECT($H$2&\"!V174\")","v":0},"مدفوع"]
[{"$f":"INDIRECT($H$2&\"!A175\")","v":0},{"$f":"INDIRECT($H$2&\"!b175\")","v":0},{"$f":"INDIRECT($H$2&\"!C175\")","v":0},{"$f":"INDIRECT($H$2&\"!D175\")","v":0},{"$f":"INDIRECT($H$2&\"!E175\")","v":0},{"$f":"INDIRECT($H$2&\"!F175\")","v":0},{"$f":"INDIRECT($H$2&\"!G175\")","v":0},{"$f":"INDIRECT($H$2&\"!H175\")","v":0},{"$f":"INDIRECT($H$2&\"!I175\")","v":0},{"$f":"INDIRECT($H$2&\"!J175\")","v":0},{"$f":"INDIRECT($H$2&\"!K175\")","v":0},{"$f":"INDIRECT($H$2&\"!L175\")","v":0},{"$f":"INDIRECT($H$2&\"!M175\")","v":0},{"$f":"INDIRECT($H$2&\"!N175\")","v":0},{"$f":"INDIRECT($H$2&\"!O175\")","v":0},{"$f":"INDIRECT($H$2&\"!P175\")","v":0},{"$f":"INDIRECT($H$2&\"!Q175\")","v":0},{"$f":"INDIRECT($H$2&\"!R175\")","v":0},{"$f":"INDIRECT($H$2&\"!S175\")","v":0},{"$f":"INDIRECT($H$2&\"!T175\")","v":0},{"$f":"INDIRECT($H$2&\"!U175\")","v":"00:00:00"},{"$f":"INDIRECT($H$2&\"!V175\")","v":0},"مدفوع"]
[{"$f":"INDIRECT($H$2&\"!A176\")","v":0},{"$f":"INDIRECT($H$2&\"!b176\")","v":0},{"$f":"INDIRECT($H$2&\"!C176\")","v":0},{"$f":"INDIRECT($H$2&\"!D176\")","v":0},{"$f":"INDIRECT($H$2&\"!E176\")","v":0},{"$f":"INDIRECT($H$2&\"!F176\")","v":0},{"$f":"INDIRECT($H$2&\"!G176\")","v":0},{"$f":"INDIRECT($H$2&\"!H176\")","v":0},{"$f":"INDIRECT($H$2&\"!I176\")","v":0},{"$f":"INDIRECT($H$2&\"!J176\")","v":0},{"$f":"INDIRECT($H$2&\"!K176\")","v":0},{"$f":"INDIRECT($H$2&\"!L176\")","v":0},{"$f":"INDIRECT($H$2&\"!M176\")","v":0},{"$f":"INDIRECT($H$2&\"!N176\")","v":0},{"$f":"INDIRECT($H$2&\"!O176\")","v":0},{"$f":"INDIRECT($H$2&\"!P176\")","v":0},{"$f":"INDIRECT($H$2&\"!Q176\")","v":0},{"$f":"INDIRECT($H$2&\"!R176\")","v":0},{"$f":"INDIRECT($H$2&\"!S176\")","v":0},{"$f":"INDIRECT($H$2&\"!T176\")","v":0},{"$f":"INDIRECT($H$2&\"!U176\")","v":"00:00:00"},{"$f":"INDIRECT($H$2&\"!V176\")","v":0},"مدفوع"]
[{"$f":"INDIRECT($H$2&\"!A177\")","v":0},{"$f":"INDIRECT($H$2&\"!b177\")","v":0},{"$f":"INDIRECT($H$2&\"!C177\")","v":0},{"$f":"INDIRECT($H$2&\"!D177\")","v":0},{"$f":"INDIRECT($H$2&\"!E177\")","v":0},{"$f":"INDIRECT($H$2&\"!F177\")","v":0},{"$f":"INDIRECT($H$2&\"!G177\")","v":0},{"$f":"INDIRECT($H$2&\"!H177\")","v":0},{"$f":"INDIRECT($H$2&\"!I177\")","v":0},{"$f":"INDIRECT($H$2&\"!J177\")","v":0},{"$f":"INDIRECT($H$2&\"!K177\")","v":0},{"$f":"INDIRECT($H$2&\"!L177\")","v":0},{"$f":"INDIRECT($H$2&\"!M177\")","v":0},{"$f":"INDIRECT($H$2&\"!N177\")","v":0},{"$f":"INDIRECT($H$2&\"!O177\")","v":0},{"$f":"INDIRECT($H$2&\"!P177\")","v":0},{"$f":"INDIRECT($H$2&\"!Q177\")","v":0},{"$f":"INDIRECT($H$2&\"!R177\")","v":0},{"$f":"INDIRECT($H$2&\"!S177\")","v":0},{"$f":"INDIRECT($H$2&\"!T177\")","v":0},{"$f":"INDIRECT($H$2&\"!U177\")","v":"00:00:00"},{"$f":"INDIRECT($H$2&\"!V177\")","v":0},"مدفوع"]
[{"$f":"INDIRECT($H$2&\"!A178\")","v":0},{"$f":"INDIRECT($H$2&\"!b178\")","v":0},{"$f":"INDIRECT($H$2&\"!C178\")","v":0},{"$f":"INDIRECT($H$2&\"!D178\")","v":0},{"$f":"INDIRECT($H$2&\"!E178\")","v":0},{"$f":"INDIRECT($H$2&\"!F178\")","v":0},{"$f":"INDIRECT($H$2&\"!G178\")","v":0},{"$f":"INDIRECT($H$2&\"!H178\")","v":0},{"$f":"INDIRECT($H$2&\"!I178\")","v":0},{"$f":"INDIRECT($H$2&\"!J178\")","v":0},{"$f":"INDIRECT($H$2&\"!K178\")","v":0},{"$f":"INDIRECT($H$2&\"!L178\")","v":0},{"$f":"INDIRECT($H$2&\"!M178\")","v":0},{"$f":"INDIRECT($H$2&\"!N178\")","v":0},{"$f":"INDIRECT($H$2&\"!O178\")","v":0},{"$f":"INDIRECT($H$2&\"!P178\")","v":0},{"$f":"INDIRECT($H$2&\"!Q178\")","v":0},{"$f":"INDIRECT($H$2&\"!R178\")","v":0},{"$f":"INDIRECT($H$2&\"!S178\")","v":0},{"$f":"INDIRECT($H$2&\"!T178\")","v":0},{"$f":"INDIRECT($H$2&\"!U178\")","v":"00:00:00"},{"$f":"INDIRECT($H$2&\"!V178\")","v":0},"مدفوع"]
[{"$f":"INDIRECT($H$2&\"!A179\")","v":0},{"$f":"INDIRECT($H$2&\"!b179\")","v":0},{"$f":"INDIRECT($H$2&\"!C179\")","v":0},{"$f":"INDIRECT($H$2&\"!D179\")","v":0},{"$f":"INDIRECT($H$2&\"!E179\")","v":0},{"$f":"INDIRECT($H$2&\"!F179\")","v":0},{"$f":"INDIRECT($H$2&\"!G179\")","v":0},{"$f":"INDIRECT($H$2&\"!H179\")","v":0},{"$f":"INDIRECT($H$2&\"!I179\")","v":0},{"$f":"INDIRECT($H$2&\"!J179\")","v":0},{"$f":"INDIRECT($H$2&\"!K179\")","v":0},{"$f":"INDIRECT($H$2&\"!L179\")","v":0},{"$f":"INDIRECT($H$2&\"!M179\")","v":0},{"$f":"INDIRECT($H$2&\"!N179\")","v":0},{"$f":"INDIRECT($H$2&\"!O179\")","v":0},{"$f":"INDIRECT($H$2&\"!P179\")","v":0},{"$f":"INDIRECT($H$2&\"!Q179\")","v":0},{"$f":"INDIRECT($H$2&\"!R179\")","v":0},{"$f":"INDIRECT($H$2&\"!S179\")","v":0},{"$f":"INDIRECT($H$2&\"!T179\")","v":0},{"$f":"INDIRECT($H$2&\"!U179\")","v":"00:00:00"},{"$f":"INDIRECT($H$2&\"!V179\")","v":0},"مدفوع"]
[{"$f":"INDIRECT($H$2&\"!A180\")","v":0},{"$f":"INDIRECT($H$2&\"!b180\")","v":0},{"$f":"INDIRECT($H$2&\"!C180\")","v":0},{"$f":"INDIRECT($H$2&\"!D180\")","v":0},{"$f":"INDIRECT($H$2&\"!E180\")","v":0},{"$f":"INDIRECT($H$2&\"!F180\")","v":0},{"$f":"INDIRECT($H$2&\"!G180\")","v":0},{"$f":"INDIRECT($H$2&\"!H180\")","v":0},{"$f":"INDIRECT($H$2&\"!I180\")","v":0},{"$f":"INDIRECT($H$2&\"!J180\")","v":0},{"$f":"INDIRECT($H$2&\"!K180\")","v":0},{"$f":"INDIRECT($H$2&\"!L180\")","v":0},{"$f":"INDIRECT($H$2&\"!M180\")","v":0},{"$f":"INDIRECT($H$2&\"!N180\")","v":0},{"$f":"INDIRECT($H$2&\"!O180\")","v":0},{"$f":"INDIRECT($H$2&\"!P180\")","v":0},{"$f":"INDIRECT($H$2&\"!Q180\")","v":0},{"$f":"INDIRECT($H$2&\"!R180\")","v":0},{"$f":"INDIRECT($H$2&\"!S180\")","v":0},{"$f":"INDIRECT($H$2&\"!T180\")","v":0},{"$f":"INDIRECT($H$2&\"!U180\")","v":"00:00:00"},{"$f":"INDIRECT($H$2&\"!V180\")","v":0},"مدفوع"]
[{"$f":"INDIRECT($H$2&\"!A181\")","v":0},{"$f":"INDIRECT($H$2&\"!b181\")","v":0},{"$f":"INDIRECT($H$2&\"!C181\")","v":0},{"$f":"INDIRECT($H$2&\"!D181\")","v":0},{"$f":"INDIRECT($H$2&\"!E181\")","v":0},{"$f":"INDIRECT($H$2&\"!F181\")","v":0},{"$f":"INDIRECT($H$2&\"!G181\")","v":0},{"$f":"INDIRECT($H$2&\"!H181\")","v":0},{"$f":"INDIRECT($H$2&\"!I181\")","v":0},{"$f":"INDIRECT($H$2&\"!J181\")","v":0},{"$f":"INDIRECT($H$2&\"!K181\")","v":0},{"$f":"INDIRECT($H$2&\"!L181\")","v":0},{"$f":"INDIRECT($H$2&\"!M181\")","v":0},{"$f":"INDIRECT($H$2&\"!N181\")","v":0},{"$f":"INDIRECT($H$2&\"!O181\")","v":0},{"$f":"INDIRECT($H$2&\"!P181\")","v":0},{"$f":"INDIRECT($H$2&\"!Q181\")","v":0},{"$f":"INDIRECT($H$2&\"!R181\")","v":0},{"$f":"INDIRECT($H$2&\"!S181\")","v":0},{"$f":"INDIRECT($H$2&\"!T181\")","v":0},{"$f":"INDIRECT($H$2&\"!U181\")","v":"00:00:00"},{"$f":"INDIRECT($H$2&\"!V181\")","v":0},"مدفوع"]
[{"$f":"INDIRECT($H$2&\"!A182\")","v":0},{"$f":"INDIRECT($H$2&\"!b182\")","v":0},{"$f":"INDIRECT($H$2&\"!C182\")","v":0},{"$f":"INDIRECT($H$2&\"!D182\")","v":0},{"$f":"INDIRECT($H$2&\"!E182\")","v":0},{"$f":"INDIRECT($H$2&\"!F182\")","v":0},{"$f":"INDIRECT($H$2&\"!G182\")","v":0},{"$f":"INDIRECT($H$2&\"!H182\")","v":0},{"$f":"INDIRECT($H$2&\"!I182\")","v":0},{"$f":"INDIRECT($H$2&\"!J182\")","v":0},{"$f":"INDIRECT($H$2&\"!K182\")","v":0},{"$f":"INDIRECT($H$2&\"!L182\")","v":0},{"$f":"INDIRECT($H$2&\"!M182\")","v":0},{"$f":"INDIRECT($H$2&\"!N182\")","v":0},{"$f":"INDIRECT($H$2&\"!O182\")","v":0},{"$f":"INDIRECT($H$2&\"!P182\")","v":0},{"$f":"INDIRECT($H$2&\"!Q182\")","v":0},{"$f":"INDIRECT($H$2&\"!R182\")","v":0},{"$f":"INDIRECT($H$2&\"!S182\")","v":0},{"$f":"INDIRECT($H$2&\"!T182\")","v":0},{"$f":"INDIRECT($H$2&\"!U182\")","v":"00:00:00"},{"$f":"INDIRECT($H$2&\"!V182\")","v":0},"مدفوع"]
[{"$f":"INDIRECT($H$2&\"!A183\")","v":0},{"$f":"INDIRECT($H$2&\"!b183\")","v":0},{"$f":"INDIRECT($H$2&\"!C183\")","v":0},{"$f":"INDIRECT($H$2&\"!D183\")","v":0},{"$f":"INDIRECT($H$2&\"!E183\")","v":0},{"$f":"INDIRECT($H$2&\"!F183\")","v":0},{"$f":"INDIRECT($H$2&\"!G183\")","v":0},{"$f":"INDIRECT($H$2&\"!H183\")","v":0},{"$f":"INDIRECT($H$2&\"!I183\")","v":0},{"$f":"INDIRECT($H$2&\"!J183\")","v":0},{"$f":"INDIRECT($H$2&\"!K183\")","v":0},{"$f":"INDIRECT($H$2&\"!L183\")","v":0},{"$f":"INDIRECT($H$2&\"!M183\")","v":0},{"$f":"INDIRECT($H$2&\"!N183\")","v":0},{"$f":"INDIRECT($H$2&\"!O183\")","v":0},{"$f":"INDIRECT($H$2&\"!P183\")","v":0},{"$f":"INDIRECT($H$2&\"!Q183\")","v":0},{"$f":"INDIRECT($H$2&\"!R183\")","v":0},{"$f":"INDIRECT($H$2&\"!S183\")","v":0},{"$f":"INDIRECT($H$2&\"!T183\")","v":0},{"$f":"INDIRECT($H$2&\"!U183\")","v":"00:00:00"},{"$f":"INDIRECT($H$2&\"!V183\")","v":0},"مدفوع"]
[{"$f":"INDIRECT($H$2&\"!A184\")","v":0},{"$f":"INDIRECT($H$2&\"!b184\")","v":0},{"$f":"INDIRECT($H$2&\"!C184\")","v":0},{"$f":"INDIRECT($H$2&\"!D184\")","v":0},{"$f":"INDIRECT($H$2&\"!E184\")","v":0},{"$f":"INDIRECT($H$2&\"!F184\")","v":0},{"$f":"INDIRECT($H$2&\"!G184\")","v":0},{"$f":"INDIRECT($H$2&\"!H184\")","v":0},{"$f":"INDIRECT($H$2&\"!I184\")","v":0},{"$f":"INDIRECT($H$2&\"!J184\")","v":0},{"$f":"INDIRECT($H$2&\"!K184\")","v":0},{"$f":"INDIRECT($H$2&\"!L184\")","v":0},{"$f":"INDIRECT($H$2&\"!M184\")","v":0},{"$f":"INDIRECT($H$2&\"!N184\")","v":0},{"$f":"INDIRECT($H$2&\"!O184\")","v":0},{"$f":"INDIRECT($H$2&\"!P184\")","v":0},{"$f":"INDIRECT($H$2&\"!Q184\")","v":0},{"$f":"INDIRECT($H$2&\"!R184\")","v":0},{"$f":"INDIRECT($H$2&\"!S184\")","v":0},{"$f":"INDIRECT($H$2&\"!T184\")","v":0},{"$f":"INDIRECT($H$2&\"!U184\")","v":"00:00:00"},{"$f":"INDIRECT($H$2&\"!V184\")","v":0},"مدفوع"]
[{"$f":"INDIRECT($H$2&\"!A185\")","v":0},{"$f":"INDIRECT($H$2&\"!b185\")","v":0},{"$f":"INDIRECT($H$2&\"!C185\")","v":0},{"$f":"INDIRECT($H$2&\"!D185\")","v":0},{"$f":"INDIRECT($H$2&\"!E185\")","v":0},{"$f":"INDIRECT($H$2&\"!F185\")","v":0},{"$f":"INDIRECT($H$2&\"!G185\")","v":0},{"$f":"INDIRECT($H$2&\"!H185\")","v":0},{"$f":"INDIRECT($H$2&\"!I185\")","v":0},{"$f":"INDIRECT($H$2&\"!J185\")","v":0},{"$f":"INDIRECT($H$2&\"!K185\")","v":0},{"$f":"INDIRECT($H$2&\"!L185\")","v":0},{"$f":"INDIRECT($H$2&\"!M185\")","v":0},{"$f":"INDIRECT($H$2&\"!N185\")","v":0},{"$f":"INDIRECT($H$2&\"!O185\")","v":0},{"$f":"INDIRECT($H$2&\"!P185\")","v":0},{"$f":"INDIRECT($H$2&\"!Q185\")","v":0},{"$f":"INDIRECT($H$2&\"!R185\")","v":0},{"$f":"INDIRECT($H$2&\"!S185\")","v":0},{"$f":"INDIRECT($H$2&\"!T185\")","v":0},{"$f":"INDIRECT($H$2&\"!U185\")","v":"00:00:00"},{"$f":"INDIRECT($H$2&\"!V185\")","v":0},"مدفوع"]
[{"$f":"INDIRECT($H$2&\"!A186\")","v":0},{"$f":"INDIRECT($H$2&\"!b186\")","v":0},{"$f":"INDIRECT($H$2&\"!C186\")","v":0},{"$f":"INDIRECT($H$2&\"!D186\")","v":0},{"$f":"INDIRECT($H$2&\"!E186\")","v":0},{"$f":"INDIRECT($H$2&\"!F186\")","v":0},{"$f":"INDIRECT($H$2&\"!G186\")","v":0},{"$f":"INDIRECT($H$2&\"!H186\")","v":0},{"$f":"INDIRECT($H$2&\"!I186\")","v":0},{"$f":"INDIRECT($H$2&\"!J186\")","v":0},{"$f":"INDIRECT($H$2&\"!K186\")","v":0},{"$f":"INDIRECT($H$2&\"!L186\")","v":0},{"$f":"INDIRECT($H$2&\"!M186\")","v":0},{"$f":"INDIRECT($H$2&\"!N186\")","v":0},{"$f":"INDIRECT($H$2&\"!O186\")","v":0},{"$f":"INDIRECT($H$2&\"!P186\")","v":0},{"$f":"INDIRECT($H$2&\"!Q186\")","v":0},{"$f":"INDIRECT($H$2&\"!R186\")","v":0},{"$f":"INDIRECT($H$2&\"!S186\")","v":0},{"$f":"INDIRECT($H$2&\"!T186\")","v":0},{"$f":"INDIRECT($H$2&\"!U186\")","v":"00:00:00"},{"$f":"INDIRECT($H$2&\"!V186\")","v":0},"مدفوع"]
[{"$f":"INDIRECT($H$2&\"!A187\")","v":0},{"$f":"INDIRECT($H$2&\"!b187\")","v":0},{"$f":"INDIRECT($H$2&\"!C187\")","v":0},{"$f":"INDIRECT($H$2&\"!D187\")","v":0},{"$f":"INDIRECT($H$2&\"!E187\")","v":0},{"$f":"INDIRECT($H$2&\"!F187\")","v":0},{"$f":"INDIRECT($H$2&\"!G187\")","v":0},{"$f":"INDIRECT($H$2&\"!H187\")","v":0},{"$f":"INDIRECT($H$2&\"!I187\")","v":0},{"$f":"INDIRECT($H$2&\"!J187\")","v":0},{"$f":"INDIRECT($H$2&\"!K187\")","v":0},{"$f":"INDIRECT($H$2&\"!L187\")","v":0},{"$f":"INDIRECT($H$2&\"!M187\")","v":0},{"$f":"INDIRECT($H$2&\"!N187\")","v":0},{"$f":"INDIRECT($H$2&\"!O187\")","v":0},{"$f":"INDIRECT($H$2&\"!P187\")","v":0},{"$f":"INDIRECT($H$2&\"!Q187\")","v":0},{"$f":"INDIRECT($H$2&\"!R187\")","v":0},{"$f":"INDIRECT($H$2&\"!S187\")","v":0},{"$f":"INDIRECT($H$2&\"!T187\")","v":0},{"$f":"INDIRECT($H$2&\"!U187\")","v":"00:00:00"},{"$f":"INDIRECT($H$2&\"!V187\")","v":0},"مدفوع"]
[{"$f":"INDIRECT($H$2&\"!A188\")","v":0},{"$f":"INDIRECT($H$2&\"!b188\")","v":0},{"$f":"INDIRECT($H$2&\"!C188\")","v":0},{"$f":"INDIRECT($H$2&\"!D188\")","v":0},{"$f":"INDIRECT($H$2&\"!E188\")","v":0},{"$f":"INDIRECT($H$2&\"!F188\")","v":0},{"$f":"INDIRECT($H$2&\"!G188\")","v":0},{"$f":"INDIRECT($H$2&\"!H188\")","v":0},{"$f":"INDIRECT($H$2&\"!I188\")","v":0},{"$f":"INDIRECT($H$2&\"!J188\")","v":0},{"$f":"INDIRECT($H$2&\"!K188\")","v":0},{"$f":"INDIRECT($H$2&\"!L188\")","v":0},{"$f":"INDIRECT($H$2&\"!M188\")","v":0},{"$f":"INDIRECT($H$2&\"!N188\")","v":0},{"$f":"INDIRECT($H$2&\"!O188\")","v":0},{"$f":"INDIRECT($H$2&\"!P188\")","v":0},{"$f":"INDIRECT($H$2&\"!Q188\")","v":0},{"$f":"INDIRECT($H$2&\"!R188\")","v":0},{"$f":"INDIRECT($H$2&\"!S188\")","v":0},{"$f":"INDIRECT($H$2&\"!T188\")","v":0},{"$f":"INDIRECT($H$2&\"!U188\")","v":"00:00:00"},{"$f":"INDIRECT($H$2&\"!V188\")","v":0},"مدفوع"]
[{"$f":"INDIRECT($H$2&\"!A189\")","v":0},{"$f":"INDIRECT($H$2&\"!b189\")","v":0},{"$f":"INDIRECT($H$2&\"!C189\")","v":0},{"$f":"INDIRECT($H$2&\"!D189\")","v":0},{"$f":"INDIRECT($H$2&\"!E189\")","v":0},{"$f":"INDIRECT($H$2&\"!F189\")","v":0},{"$f":"INDIRECT($H$2&\"!G189\")","v":0},{"$f":"INDIRECT($H$2&\"!H189\")","v":0},{"$f":"INDIRECT($H$2&\"!I189\")","v":0},{"$f":"INDIRECT($H$2&\"!J189\")","v":0},{"$f":"INDIRECT($H$2&\"!K189\")","v":0},{"$f":"INDIRECT($H$2&\"!L189\")","v":0},{"$f":"INDIRECT($H$2&\"!M189\")","v":0},{"$f":"INDIRECT($H$2&\"!N189\")","v":0},{"$f":"INDIRECT($H$2&\"!O189\")","v":0},{"$f":"INDIRECT($H$2&\"!P189\")","v":0},{"$f":"INDIRECT($H$2&\"!Q189\")","v":0},{"$f":"INDIRECT($H$2&\"!R189\")","v":0},{"$f":"INDIRECT($H$2&\"!S189\")","v":0},{"$f":"INDIRECT($H$2&\"!T189\")","v":0},{"$f":"INDIRECT($H$2&\"!U189\")","v":"00:00:00"},{"$f":"INDIRECT($H$2&\"!V189\")","v":0},"مدفوع"]
[{"$f":"INDIRECT($H$2&\"!A190\")","v":0},{"$f":"INDIRECT($H$2&\"!b190\")","v":0},{"$f":"INDIRECT($H$2&\"!C190\")","v":0},{"$f":"INDIRECT($H$2&\"!D190\")","v":0},{"$f":"INDIRECT($H$2&\"!E190\")","v":0},{"$f":"INDIRECT($H$2&\"!F190\")","v":0},{"$f":"INDIRECT($H$2&\"!G190\")","v":0},{"$f":"INDIRECT($H$2&\"!H190\")","v":0},{"$f":"INDIRECT($H$2&\"!I190\")","v":0},{"$f":"INDIRECT($H$2&\"!J190\")","v":0},{"$f":"INDIRECT($H$2&\"!K190\")","v":0},{"$f":"INDIRECT($H$2&\"!L190\")","v":0},{"$f":"INDIRECT($H$2&\"!M190\")","v":0},{"$f":"INDIRECT($H$2&\"!N190\")","v":0},{"$f":"INDIRECT($H$2&\"!O190\")","v":0},{"$f":"INDIRECT($H$2&\"!P190\")","v":0},{"$f":"INDIRECT($H$2&\"!Q190\")","v":0},{"$f":"INDIRECT($H$2&\"!R190\")","v":0},{"$f":"INDIRECT($H$2&\"!S190\")","v":0},{"$f":"INDIRECT($H$2&\"!T190\")","v":0},{"$f":"INDIRECT($H$2&\"!U190\")","v":"00:00:00"},{"$f":"INDIRECT($H$2&\"!V190\")","v":0},"مدفوع"]
[{"$f":"INDIRECT($H$2&\"!A191\")","v":0},{"$f":"INDIRECT($H$2&\"!b191\")","v":0},{"$f":"INDIRECT($H$2&\"!C191\")","v":0},{"$f":"INDIRECT($H$2&\"!D191\")","v":0},{"$f":"INDIRECT($H$2&\"!E191\")","v":0},{"$f":"INDIRECT($H$2&\"!F191\")","v":0},{"$f":"INDIRECT($H$2&\"!G191\")","v":0},{"$f":"INDIRECT($H$2&\"!H191\")","v":0},{"$f":"INDIRECT($H$2&\"!I191\")","v":0},{"$f":"INDIRECT($H$2&\"!J191\")","v":0},{"$f":"INDIRECT($H$2&\"!K191\")","v":0},{"$f":"INDIRECT($H$2&\"!L191\")","v":0},{"$f":"INDIRECT($H$2&\"!M191\")","v":0},{"$f":"INDIRECT($H$2&\"!N191\")","v":0},{"$f":"INDIRECT($H$2&\"!O191\")","v":0},{"$f":"INDIRECT($H$2&\"!P191\")","v":0},{"$f":"INDIRECT($H$2&\"!Q191\")","v":0},{"$f":"INDIRECT($H$2&\"!R191\")","v":0},{"$f":"INDIRECT($H$2&\"!S191\")","v":0},{"$f":"INDIRECT($H$2&\"!T191\")","v":0},{"$f":"INDIRECT($H$2&\"!U191\")","v":"00:00:00"},{"$f":"INDIRECT($H$2&\"!V191\")","v":0},"مدفوع"]
[{"$f":"INDIRECT($H$2&\"!A192\")","v":0},{"$f":"INDIRECT($H$2&\"!b192\")","v":0},{"$f":"INDIRECT($H$2&\"!C192\")","v":0},{"$f":"INDIRECT($H$2&\"!D192\")","v":0},{"$f":"INDIRECT($H$2&\"!E192\")","v":0},{"$f":"INDIRECT($H$2&\"!F192\")","v":0},{"$f":"INDIRECT($H$2&\"!G192\")","v":0},{"$f":"INDIRECT($H$2&\"!H192\")","v":0},{"$f":"INDIRECT($H$2&\"!I192\")","v":0},{"$f":"INDIRECT($H$2&\"!J192\")","v":0},{"$f":"INDIRECT($H$2&\"!K192\")","v":0},{"$f":"INDIRECT($H$2&\"!L192\")","v":0},{"$f":"INDIRECT($H$2&\"!M192\")","v":0},{"$f":"INDIRECT($H$2&\"!N192\")","v":0},{"$f":"INDIRECT($H$2&\"!O192\")","v":0},{"$f":"INDIRECT($H$2&\"!P192\")","v":0},{"$f":"INDIRECT($H$2&\"!Q192\")","v":0},{"$f":"INDIRECT($H$2&\"!R192\")","v":0},{"$f":"INDIRECT($H$2&\"!S192\")","v":0},{"$f":"INDIRECT($H$2&\"!T192\")","v":0},{"$f":"INDIRECT($H$2&\"!U192\")","v":"00:00:00"},{"$f":"INDIRECT($H$2&\"!V192\")","v":0},"مدفوع"]
[{"$f":"INDIRECT($H$2&\"!A193\")","v":0},{"$f":"INDIRECT($H$2&\"!b193\")","v":0},{"$f":"INDIRECT($H$2&\"!C193\")","v":0},{"$f":"INDIRECT($H$2&\"!D193\")","v":0},{"$f":"INDIRECT($H$2&\"!E193\")","v":0},{"$f":"INDIRECT($H$2&\"!F193\")","v":0},{"$f":"INDIRECT($H$2&\"!G193\")","v":0},{"$f":"INDIRECT($H$2&\"!H193\")","v":0},{"$f":"INDIRECT($H$2&\"!I193\")","v":0},{"$f":"INDIRECT($H$2&\"!J193\")","v":0},{"$f":"INDIRECT($H$2&\"!K193\")","v":0},{"$f":"INDIRECT($H$2&\"!L193\")","v":0},{"$f":"INDIRECT($H$2&\"!M193\")","v":0},{"$f":"INDIRECT($H$2&\"!N193\")","v":0},{"$f":"INDIRECT($H$2&\"!O193\")","v":0},{"$f":"INDIRECT($H$2&\"!P193\")","v":0},{"$f":"INDIRECT($H$2&\"!Q193\")","v":0},{"$f":"INDIRECT($H$2&\"!R193\")","v":0},{"$f":"INDIRECT($H$2&\"!S193\")","v":0},{"$f":"INDIRECT($H$2&\"!T193\")","v":0},{"$f":"INDIRECT($H$2&\"!U193\")","v":"00:00:00"},{"$f":"INDIRECT($H$2&\"!V193\")","v":0},"مدفوع"]
[{"$f":"INDIRECT($H$2&\"!A194\")","v":0},{"$f":"INDIRECT($H$2&\"!b194\")","v":0},{"$f":"INDIRECT($H$2&\"!C194\")","v":0},{"$f":"INDIRECT($H$2&\"!D194\")","v":0},{"$f":"INDIRECT($H$2&\"!E194\")","v":0},{"$f":"INDIRECT($H$2&\"!F194\")","v":0},{"$f":"INDIRECT($H$2&\"!G194\")","v":0},{"$f":"INDIRECT($H$2&\"!H194\")","v":0},{"$f":"INDIRECT($H$2&\"!I194\")","v":0},{"$f":"INDIRECT($H$2&\"!J194\")","v":0},{"$f":"INDIRECT($H$2&\"!K194\")","v":0},{"$f":"INDIRECT($H$2&\"!L194\")","v":0},{"$f":"INDIRECT($H$2&\"!M194\")","v":0},{"$f":"INDIRECT($H$2&\"!N194\")","v":0},{"$f":"INDIRECT($H$2&\"!O194\")","v":0},{"$f":"INDIRECT($H$2&\"!P194\")","v":0},{"$f":"INDIRECT($H$2&\"!Q194\")","v":0},{"$f":"INDIRECT($H$2&\"!R194\")","v":0},{"$f":"INDIRECT($H$2&\"!S194\")","v":0},{"$f":"INDIRECT($H$2&\"!T194\")","v":0},{"$f":"INDIRECT($H$2&\"!U194\")","v":"00:00:00"},{"$f":"INDIRECT($H$2&\"!V194\")","v":0},"مدفوع"]
[{"$f":"INDIRECT($H$2&\"!A195\")","v":0},{"$f":"INDIRECT($H$2&\"!b195\")","v":0},{"$f":"INDIRECT($H$2&\"!C195\")","v":0},{"$f":"INDIRECT($H$2&\"!D195\")","v":0},{"$f":"INDIRECT($H$2&\"!E195\")","v":0},{"$f":"INDIRECT($H$2&\"!F195\")","v":0},{"$f":"INDIRECT($H$2&\"!G195\")","v":0},{"$f":"INDIRECT($H$2&\"!H195\")","v":0},{"$f":"INDIRECT($H$2&\"!I195\")","v":0},{"$f":"INDIRECT($H$2&\"!J195\")","v":0},{"$f":"INDIRECT($H$2&\"!K195\")","v":0},{"$f":"INDIRECT($H$2&\"!L195\")","v":0},{"$f":"INDIRECT($H$2&\"!M195\")","v":0},{"$f":"INDIRECT($H$2&\"!N195\")","v":0},{"$f":"INDIRECT($H$2&\"!O195\")","v":0},{"$f":"INDIRECT($H$2&\"!P195\")","v":0},{"$f":"INDIRECT($H$2&\"!Q195\")","v":0},{"$f":"INDIRECT($H$2&\"!R195\")","v":0},{"$f":"INDIRECT($H$2&\"!S195\")","v":0},{"$f":"INDIRECT($H$2&\"!T195\")","v":0},{"$f":"INDIRECT($H$2&\"!U195\")","v":"00:00:00"},{"$f":"INDIRECT($H$2&\"!V195\")","v":0},"مدفوع"]
[{"$f":"INDIRECT($H$2&\"!A196\")","v":0},{"$f":"INDIRECT($H$2&\"!b196\")","v":0},{"$f":"INDIRECT($H$2&\"!C196\")","v":0},{"$f":"INDIRECT($H$2&\"!D196\")","v":0},{"$f":"INDIRECT($H$2&\"!E196\")","v":0},{"$f":"INDIRECT($H$2&\"!F196\")","v":0},{"$f":"INDIRECT($H$2&\"!G196\")","v":0},{"$f":"INDIRECT($H$2&\"!H196\")","v":0},{"$f":"INDIRECT($H$2&\"!I196\")","v":0},{"$f":"INDIRECT($H$2&\"!J196\")","v":0},{"$f":"INDIRECT($H$2&\"!K196\")","v":0},{"$f":"INDIRECT($H$2&\"!L196\")","v":0},{"$f":"INDIRECT($H$2&\"!M196\")","v":0},{"$f":"INDIRECT($H$2&\"!N196\")","v":0},{"$f":"INDIRECT($H$2&\"!O196\")","v":0},{"$f":"INDIRECT($H$2&\"!P196\")","v":0},{"$f":"INDIRECT($H$2&\"!Q196\")","v":0},{"$f":"INDIRECT($H$2&\"!R196\")","v":0},{"$f":"INDIRECT($H$2&\"!S196\")","v":0},{"$f":"INDIRECT($H$2&\"!T196\")","v":0},{"$f":"INDIRECT($H$2&\"!U196\")","v":"00:00:00"},{"$f":"INDIRECT($H$2&\"!V196\")","v":0},"مدفوع"]
[{"$f":"INDIRECT($H$2&\"!A197\")","v":0},{"$f":"INDIRECT($H$2&\"!b197\")","v":0},{"$f":"INDIRECT($H$2&\"!C197\")","v":0},{"$f":"INDIRECT($H$2&\"!D197\")","v":0},{"$f":"INDIRECT($H$2&\"!E197\")","v":0},{"$f":"INDIRECT($H$2&\"!F197\")","v":0},{"$f":"INDIRECT($H$2&\"!G197\")","v":0},{"$f":"INDIRECT($H$2&\"!H197\")","v":0},{"$f":"INDIRECT($H$2&\"!I197\")","v":0},{"$f":"INDIRECT($H$2&\"!J197\")","v":0},{"$f":"INDIRECT($H$2&\"!K197\")","v":0},{"$f":"INDIRECT($H$2&\"!L197\")","v":0},{"$f":"INDIRECT($H$2&\"!M197\")","v":0},{"$f":"INDIRECT($H$2&\"!N197\")","v":0},{"$f":"INDIRECT($H$2&\"!O197\")","v":0},{"$f":"INDIRECT($H$2&\"!P197\")","v":0},{"$f":"INDIRECT($H$2&\"!Q197\")","v":0},{"$f":"INDIRECT($H$2&\"!R197\")","v":0},{"$f":"INDIRECT($H$2&\"!S197\")","v":0},{"$f":"INDIRECT($H$2&\"!T197\")","v":0},{"$f":"INDIRECT($H$2&\"!U197\")","v":"00:00:00"},{"$f":"INDIRECT($H$2&\"!V197\")","v":0},{"$f":"IF(V200<=0,\"مدفوع\",\"غير مدفوع\")","v":"مدفوع"}]
[{"$f":"INDIRECT($H$2&\"!A198\")","v":0},{"$f":"INDIRECT($H$2&\"!b198\")","v":0},{"$f":"INDIRECT($H$2&\"!C198\")","v":0},{"$f":"INDIRECT($H$2&\"!D198\")","v":0},{"$f":"INDIRECT($H$2&\"!E198\")","v":0},{"$f":"INDIRECT($H$2&\"!F198\")","v":0},{"$f":"INDIRECT($H$2&\"!G198\")","v":0},{"$f":"INDIRECT($H$2&\"!H198\")","v":0},{"$f":"INDIRECT($H$2&\"!I198\")","v":0},{"$f":"INDIRECT($H$2&\"!J198\")","v":0},{"$f":"INDIRECT($H$2&\"!K198\")","v":0},{"$f":"INDIRECT($H$2&\"!L198\")","v":0},{"$f":"INDIRECT($H$2&\"!M198\")","v":0},{"$f":"INDIRECT($H$2&\"!N198\")","v":0},{"$f":"INDIRECT($H$2&\"!O198\")","v":0},{"$f":"INDIRECT($H$2&\"!P198\")","v":0},{"$f":"INDIRECT($H$2&\"!Q198\")","v":0},{"$f":"INDIRECT($H$2&\"!R198\")","v":0},{"$f":"INDIRECT($H$2&\"!S198\")","v":0},{"$f":"INDIRECT($H$2&\"!T198\")","v":0},{"$f":"INDIRECT($H$2&\"!U198\")","v":"00:00:00"},{"$f":"INDIRECT($H$2&\"!V198\")","v":0},"مدفوع"]
[{"$f":"INDIRECT($H$2&\"!A199\")","v":0},{"$f":"INDIRECT($H$2&\"!b199\")","v":0},{"$f":"INDIRECT($H$2&\"!C199\")","v":0},{"$f":"INDIRECT($H$2&\"!D199\")","v":0},{"$f":"INDIRECT($H$2&\"!E199\")","v":0},{"$f":"INDIRECT($H$2&\"!F199\")","v":0},{"$f":"INDIRECT($H$2&\"!G199\")","v":0},{"$f":"INDIRECT($H$2&\"!H199\")","v":0},{"$f":"INDIRECT($H$2&\"!I199\")","v":0},{"$f":"INDIRECT($H$2&\"!J199\")","v":0},{"$f":"INDIRECT($H$2&\"!K199\")","v":0},{"$f":"INDIRECT($H$2&\"!L199\")","v":0},{"$f":"INDIRECT($H$2&\"!M199\")","v":0},{"$f":"INDIRECT($H$2&\"!N199\")","v":0},{"$f":"INDIRECT($H$2&\"!O199\")","v":0},{"$f":"INDIRECT($H$2&\"!P199\")","v":0},{"$f":"INDIRECT($H$2&\"!Q199\")","v":0},{"$f":"INDIRECT($H$2&\"!R199\")","v":0},{"$f":"INDIRECT($H$2&\"!S199\")","v":0},{"$f":"INDIRECT($H$2&\"!T199\")","v":0},{"$f":"INDIRECT($H$2&\"!U199\")","v":"00:00:00"},{"$f":"INDIRECT($H$2&\"!V199\")","v":0},"مدفوع"]
[{"$f":"INDIRECT($H$2&\"!A200\")","v":0},{"$f":"INDIRECT($H$2&\"!b200\")","v":0},{"$f":"INDIRECT($H$2&\"!C200\")","v":0},{"$f":"INDIRECT($H$2&\"!D200\")","v":0},{"$f":"INDIRECT($H$2&\"!E200\")","v":0},{"$f":"INDIRECT($H$2&\"!F200\")","v":0},{"$f":"INDIRECT($H$2&\"!G200\")","v":0},{"$f":"INDIRECT($H$2&\"!H200\")","v":0},{"$f":"INDIRECT($H$2&\"!I200\")","v":0},{"$f":"INDIRECT($H$2&\"!J200\")","v":0},{"$f":"INDIRECT($H$2&\"!K200\")","v":0},{"$f":"INDIRECT($H$2&\"!L200\")","v":0},{"$f":"INDIRECT($H$2&\"!M200\")","v":0},{"$f":"INDIRECT($H$2&\"!N200\")","v":0},{"$f":"INDIRECT($H$2&\"!O200\")","v":0},{"$f":"INDIRECT($H$2&\"!P200\")","v":0},{"$f":"INDIRECT($H$2&\"!Q200\")","v":0},{"$f":"INDIRECT($H$2&\"!R200\")","v":0},{"$f":"INDIRECT($H$2&\"!S200\")","v":0},{"$f":"INDIRECT($H$2&\"!T200\")","v":0},{"$f":"INDIRECT($H$2&\"!U200\")","v":"00:00:00"},{"$f":"INDIRECT($H$2&\"!V200\")","v":0},"مدفوع"]
[{"$f":"INDIRECT($H$2&\"!A201\")","v":0},{"$f":"INDIRECT($H$2&\"!b201\")","v":0},{"$f":"INDIRECT($H$2&\"!C201\")","v":0},{"$f":"INDIRECT($H$2&\"!D201\")","v":0},{"$f":"INDIRECT($H$2&\"!E201\")","v":0},{"$f":"INDIRECT($H$2&\"!F201\")","v":0},{"$f":"INDIRECT($H$2&\"!G201\")","v":0},{"$f":"INDIRECT($H$2&\"!H201\")","v":0},{"$f":"INDIRECT($H$2&\"!I201\")","v":0},{"$f":"INDIRECT($H$2&\"!J201\")","v":0},{"$f":"INDIRECT($H$2&\"!K201\")","v":0},{"$f":"INDIRECT($H$2&\"!L201\")","v":0},{"$f":"INDIRECT($H$2&\"!M201\")","v":0},{"$f":"INDIRECT($H$2&\"!N201\")","v":0},{"$f":"INDIRECT($H$2&\"!O201\")","v":0},{"$f":"INDIRECT($H$2&\"!P201\")","v":0},{"$f":"INDIRECT($H$2&\"!Q201\")","v":0},{"$f":"INDIRECT($H$2&\"!R201\")","v":0},{"$f":"INDIRECT($H$2&\"!S201\")","v":0},{"$f":"INDIRECT($H$2&\"!T201\")","v":0},{"$f":"INDIRECT($H$2&\"!U201\")","v":"00:00:00"},{"$f":"INDIRECT($H$2&\"!V201\")","v":0},"مدفوع"]
[{"$f":"INDIRECT($H$2&\"!A202\")","v":0},{"$f":"INDIRECT($H$2&\"!b202\")","v":0},{"$f":"INDIRECT($H$2&\"!C202\")","v":0},{"$f":"INDIRECT($H$2&\"!D202\")","v":0},{"$f":"INDIRECT($H$2&\"!E202\")","v":0},{"$f":"INDIRECT($H$2&\"!F202\")","v":0},{"$f":"INDIRECT($H$2&\"!G202\")","v":0},{"$f":"INDIRECT($H$2&\"!H202\")","v":0},{"$f":"INDIRECT($H$2&\"!I202\")","v":0},{"$f":"INDIRECT($H$2&\"!J202\")","v":0},{"$f":"INDIRECT($H$2&\"!K202\")","v":0},{"$f":"INDIRECT($H$2&\"!L202\")","v":0},{"$f":"INDIRECT($H$2&\"!M202\")","v":0},{"$f":"INDIRECT($H$2&\"!N202\")","v":0},{"$f":"INDIRECT($H$2&\"!O202\")","v":0},{"$f":"INDIRECT($H$2&\"!P202\")","v":0},{"$f":"INDIRECT($H$2&\"!Q202\")","v":0},{"$f":"INDIRECT($H$2&\"!R202\")","v":0},{"$f":"INDIRECT($H$2&\"!S202\")","v":0},{"$f":"INDIRECT($H$2&\"!T202\")","v":0},{"$f":"INDIRECT($H$2&\"!U202\")","v":"00:00:00"},{"$f":"INDIRECT($H$2&\"!V202\")","v":0},"مدفوع"]
[{"$f":"INDIRECT($H$2&\"!A203\")","v":0},{"$f":"INDIRECT($H$2&\"!b203\")","v":0},{"$f":"INDIRECT($H$2&\"!C203\")","v":0},{"$f":"INDIRECT($H$2&\"!D203\")","v":0},{"$f":"INDIRECT($H$2&\"!E203\")","v":0},{"$f":"INDIRECT($H$2&\"!F203\")","v":0},{"$f":"INDIRECT($H$2&\"!G203\")","v":0},{"$f":"INDIRECT($H$2&\"!H203\")","v":0},{"$f":"INDIRECT($H$2&\"!I203\")","v":0},{"$f":"INDIRECT($H$2&\"!J203\")","v":0},{"$f":"INDIRECT($H$2&\"!K203\")","v":0},{"$f":"INDIRECT($H$2&\"!L203\")","v":0},{"$f":"INDIRECT($H$2&\"!M203\")","v":0},{"$f":"INDIRECT($H$2&\"!N203\")","v":0},{"$f":"INDIRECT($H$2&\"!O203\")","v":0},{"$f":"INDIRECT($H$2&\"!P203\")","v":0},{"$f":"INDIRECT($H$2&\"!Q203\")","v":0},{"$f":"INDIRECT($H$2&\"!R203\")","v":0},{"$f":"INDIRECT($H$2&\"!S203\")","v":0},{"$f":"INDIRECT($H$2&\"!T203\")","v":0},{"$f":"INDIRECT($H$2&\"!U203\")","v":"00:00:00"},{"$f":"INDIRECT($H$2&\"!V203\")","v":0},"مدفوع"]
[{"$f":"INDIRECT($H$2&\"!A204\")","v":0},{"$f":"INDIRECT($H$2&\"!b204\")","v":0},{"$f":"INDIRECT($H$2&\"!C204\")","v":0},{"$f":"INDIRECT($H$2&\"!D204\")","v":0},{"$f":"INDIRECT($H$2&\"!E204\")","v":0},{"$f":"INDIRECT($H$2&\"!F204\")","v":0},{"$f":"INDIRECT($H$2&\"!G204\")","v":0},{"$f":"INDIRECT($H$2&\"!H204\")","v":0},{"$f":"INDIRECT($H$2&\"!I204\")","v":0},{"$f":"INDIRECT($H$2&\"!J204\")","v":0},{"$f":"INDIRECT($H$2&\"!K204\")","v":0},{"$f":"INDIRECT($H$2&\"!L204\")","v":0},{"$f":"INDIRECT($H$2&\"!M204\")","v":0},{"$f":"INDIRECT($H$2&\"!N204\")","v":0},{"$f":"INDIRECT($H$2&\"!O204\")","v":0},{"$f":"INDIRECT($H$2&\"!P204\")","v":0},{"$f":"INDIRECT($H$2&\"!Q204\")","v":0},{"$f":"INDIRECT($H$2&\"!R204\")","v":0},{"$f":"INDIRECT($H$2&\"!S204\")","v":0},{"$f":"INDIRECT($H$2&\"!T204\")","v":0},{"$f":"INDIRECT($H$2&\"!U204\")","v":"00:00:00"},{"$f":"INDIRECT($H$2&\"!V204\")","v":0},"مدفوع"]
[{"$f":"INDIRECT($H$2&\"!A205\")","v":0},{"$f":"INDIRECT($H$2&\"!b205\")","v":0},{"$f":"INDIRECT($H$2&\"!C205\")","v":0},{"$f":"INDIRECT($H$2&\"!D205\")","v":0},{"$f":"INDIRECT($H$2&\"!E205\")","v":0},{"$f":"INDIRECT($H$2&\"!F205\")","v":0},{"$f":"INDIRECT($H$2&\"!G205\")","v":0},{"$f":"INDIRECT($H$2&\"!H205\")","v":0},{"$f":"INDIRECT($H$2&\"!I205\")","v":0},{"$f":"INDIRECT($H$2&\"!J205\")","v":0},{"$f":"INDIRECT($H$2&\"!K205\")","v":0},{"$f":"INDIRECT($H$2&\"!L205\")","v":0},{"$f":"INDIRECT($H$2&\"!M205\")","v":0},{"$f":"INDIRECT($H$2&\"!N205\")","v":0},{"$f":"INDIRECT($H$2&\"!O205\")","v":0},{"$f":"INDIRECT($H$2&\"!P205\")","v":0},{"$f":"INDIRECT($H$2&\"!Q205\")","v":0},{"$f":"INDIRECT($H$2&\"!R205\")","v":0},{"$f":"INDIRECT($H$2&\"!S205\")","v":0},{"$f":"INDIRECT($H$2&\"!T205\")","v":0},{"$f":"INDIRECT($H$2&\"!U205\")","v":"00:00:00"},{"$f":"INDIRECT($H$2&\"!V205\")","v":0},"مدفوع"]
[{"$f":"INDIRECT($H$2&\"!A206\")","v":0},{"$f":"INDIRECT($H$2&\"!b206\")","v":0},{"$f":"INDIRECT($H$2&\"!C206\")","v":0},{"$f":"INDIRECT($H$2&\"!D206\")","v":0},{"$f":"INDIRECT($H$2&\"!E206\")","v":0},{"$f":"INDIRECT($H$2&\"!F206\")","v":0},{"$f":"INDIRECT($H$2&\"!G206\")","v":0},{"$f":"INDIRECT($H$2&\"!H206\")","v":0},{"$f":"INDIRECT($H$2&\"!I206\")","v":0},{"$f":"INDIRECT($H$2&\"!J206\")","v":0},{"$f":"INDIRECT($H$2&\"!K206\")","v":0},{"$f":"INDIRECT($H$2&\"!L206\")","v":0},{"$f":"INDIRECT($H$2&\"!M206\")","v":0},{"$f":"INDIRECT($H$2&\"!N206\")","v":0},{"$f":"INDIRECT($H$2&\"!O206\")","v":0},{"$f":"INDIRECT($H$2&\"!P206\")","v":0},{"$f":"INDIRECT($H$2&\"!Q206\")","v":0},{"$f":"INDIRECT($H$2&\"!R206\")","v":0},{"$f":"INDIRECT($H$2&\"!S206\")","v":0},{"$f":"INDIRECT($H$2&\"!T206\")","v":0},{"$f":"INDIRECT($H$2&\"!U206\")","v":"00:00:00"},{"$f":"INDIRECT($H$2&\"!V206\")","v":0},"مدفوع"]
[{"$f":"INDIRECT($H$2&\"!A207\")","v":0},{"$f":"INDIRECT($H$2&\"!b207\")","v":0},{"$f":"INDIRECT($H$2&\"!C207\")","v":0},{"$f":"INDIRECT($H$2&\"!D207\")","v":0},{"$f":"INDIRECT($H$2&\"!E207\")","v":0},{"$f":"INDIRECT($H$2&\"!F207\")","v":0},{"$f":"INDIRECT($H$2&\"!G207\")","v":0},{"$f":"INDIRECT($H$2&\"!H207\")","v":0},{"$f":"INDIRECT($H$2&\"!I207\")","v":0},{"$f":"INDIRECT($H$2&\"!J207\")","v":0},{"$f":"INDIRECT($H$2&\"!K207\")","v":0},{"$f":"INDIRECT($H$2&\"!L207\")","v":0},{"$f":"INDIRECT($H$2&\"!M207\")","v":0},{"$f":"INDIRECT($H$2&\"!N207\")","v":0},{"$f":"INDIRECT($H$2&\"!O207\")","v":0},{"$f":"INDIRECT($H$2&\"!P207\")","v":0},{"$f":"INDIRECT($H$2&\"!Q207\")","v":0},{"$f":"INDIRECT($H$2&\"!R207\")","v":0},{"$f":"INDIRECT($H$2&\"!S207\")","v":0},{"$f":"INDIRECT($H$2&\"!T207\")","v":0},{"$f":"INDIRECT($H$2&\"!U207\")","v":"00:00:00"},{"$f":"INDIRECT($H$2&\"!V207\")","v":0},"مدفوع"]
[{"$f":"INDIRECT($H$2&\"!A208\")","v":0},{"$f":"INDIRECT($H$2&\"!b208\")","v":0},{"$f":"INDIRECT($H$2&\"!C208\")","v":0},{"$f":"INDIRECT($H$2&\"!D208\")","v":0},{"$f":"INDIRECT($H$2&\"!E208\")","v":0},{"$f":"INDIRECT($H$2&\"!F208\")","v":0},{"$f":"INDIRECT($H$2&\"!G208\")","v":0},{"$f":"INDIRECT($H$2&\"!H208\")","v":0},{"$f":"INDIRECT($H$2&\"!I208\")","v":0},{"$f":"INDIRECT($H$2&\"!J208\")","v":0},{"$f":"INDIRECT($H$2&\"!K208\")","v":0},{"$f":"INDIRECT($H$2&\"!L208\")","v":0},{"$f":"INDIRECT($H$2&\"!M208\")","v":0},{"$f":"INDIRECT($H$2&\"!N208\")","v":0},{"$f":"INDIRECT($H$2&\"!O208\")","v":0},{"$f":"INDIRECT($H$2&\"!P208\")","v":0},{"$f":"INDIRECT($H$2&\"!Q208\")","v":0},{"$f":"INDIRECT($H$2&\"!R208\")","v":0},{"$f":"INDIRECT($H$2&\"!S208\")","v":0},{"$f":"INDIRECT($H$2&\"!T208\")","v":0},{"$f":"INDIRECT($H$2&\"!U208\")","v":"00:00:00"},{"$f":"INDIRECT($H$2&\"!V208\")","v":0},"مدفوع"]
[{"$f":"INDIRECT($H$2&\"!A209\")","v":0},{"$f":"INDIRECT($H$2&\"!b209\")","v":0},{"$f":"INDIRECT($H$2&\"!C209\")","v":0},{"$f":"INDIRECT($H$2&\"!D209\")","v":0},{"$f":"INDIRECT($H$2&\"!E209\")","v":0},{"$f":"INDIRECT($H$2&\"!F209\")","v":0},{"$f":"INDIRECT($H$2&\"!G209\")","v":0},{"$f":"INDIRECT($H$2&\"!H209\")","v":0},{"$f":"INDIRECT($H$2&\"!I209\")","v":0},{"$f":"INDIRECT($H$2&\"!J209\")","v":0},{"$f":"INDIRECT($H$2&\"!K209\")","v":0},{"$f":"INDIRECT($H$2&\"!L209\")","v":0},{"$f":"INDIRECT($H$2&\"!M209\")","v":0},{"$f":"INDIRECT($H$2&\"!N209\")","v":0},{"$f":"INDIRECT($H$2&\"!O209\")","v":0},{"$f":"INDIRECT($H$2&\"!P209\")","v":0},{"$f":"INDIRECT($H$2&\"!Q209\")","v":0},{"$f":"INDIRECT($H$2&\"!R209\")","v":0},{"$f":"INDIRECT($H$2&\"!S209\")","v":0},{"$f":"INDIRECT($H$2&\"!T209\")","v":0},{"$f":"INDIRECT($H$2&\"!U209\")","v":"00:00:00"},{"$f":"INDIRECT($H$2&\"!V209\")","v":0},"مدفوع"]
[{"$f":"INDIRECT($H$2&\"!A210\")","v":0},{"$f":"INDIRECT($H$2&\"!b210\")","v":0},{"$f":"INDIRECT($H$2&\"!C210\")","v":0},{"$f":"INDIRECT($H$2&\"!D210\")","v":0},{"$f":"INDIRECT($H$2&\"!E210\")","v":0},{"$f":"INDIRECT($H$2&\"!F210\")","v":0},{"$f":"INDIRECT($H$2&\"!G210\")","v":0},{"$f":"INDIRECT($H$2&\"!H210\")","v":0},{"$f":"INDIRECT($H$2&\"!I210\")","v":0},{"$f":"INDIRECT($H$2&\"!J210\")","v":0},{"$f":"INDIRECT($H$2&\"!K210\")","v":0},{"$f":"INDIRECT($H$2&\"!L210\")","v":0},{"$f":"INDIRECT($H$2&\"!M210\")","v":0},{"$f":"INDIRECT($H$2&\"!N210\")","v":0},{"$f":"INDIRECT($H$2&\"!O210\")","v":0},{"$f":"INDIRECT($H$2&\"!P210\")","v":0},{"$f":"INDIRECT($H$2&\"!Q210\")","v":0},{"$f":"INDIRECT($H$2&\"!R210\")","v":0},{"$f":"INDIRECT($H$2&\"!S210\")","v":0},{"$f":"INDIRECT($H$2&\"!T210\")","v":0},{"$f":"INDIRECT($H$2&\"!U210\")","v":"00:00:00"},{"$f":"INDIRECT($H$2&\"!V210\")","v":0},"مدفوع"]
[{"$f":"INDIRECT($H$2&\"!A211\")","v":0},{"$f":"INDIRECT($H$2&\"!b211\")","v":0},{"$f":"INDIRECT($H$2&\"!C211\")","v":0},{"$f":"INDIRECT($H$2&\"!D211\")","v":0},{"$f":"INDIRECT($H$2&\"!E211\")","v":0},{"$f":"INDIRECT($H$2&\"!F211\")","v":0},{"$f":"INDIRECT($H$2&\"!G211\")","v":0},{"$f":"INDIRECT($H$2&\"!H211\")","v":0},{"$f":"INDIRECT($H$2&\"!I211\")","v":0},{"$f":"INDIRECT($H$2&\"!J211\")","v":0},{"$f":"INDIRECT($H$2&\"!K211\")","v":0},{"$f":"INDIRECT($H$2&\"!L211\")","v":0},{"$f":"INDIRECT($H$2&\"!M211\")","v":0},{"$f":"INDIRECT($H$2&\"!N211\")","v":0},{"$f":"INDIRECT($H$2&\"!O211\")","v":0},{"$f":"INDIRECT($H$2&\"!P211\")","v":0},{"$f":"INDIRECT($H$2&\"!Q211\")","v":0},{"$f":"INDIRECT($H$2&\"!R211\")","v":0},{"$f":"INDIRECT($H$2&\"!S211\")","v":0},{"$f":"INDIRECT($H$2&\"!T211\")","v":0},{"$f":"INDIRECT($H$2&\"!U211\")","v":"00:00:00"},{"$f":"INDIRECT($H$2&\"!V211\")","v":0},"مدفوع"]
[{"$f":"INDIRECT($H$2&\"!A212\")","v":0},{"$f":"INDIRECT($H$2&\"!b212\")","v":0},{"$f":"INDIRECT($H$2&\"!C212\")","v":0},{"$f":"INDIRECT($H$2&\"!D212\")","v":0},{"$f":"INDIRECT($H$2&\"!E212\")","v":0},{"$f":"INDIRECT($H$2&\"!F212\")","v":0},{"$f":"INDIRECT($H$2&\"!G212\")","v":0},{"$f":"INDIRECT($H$2&\"!H212\")","v":0},{"$f":"INDIRECT($H$2&\"!I212\")","v":0},{"$f":"INDIRECT($H$2&\"!J212\")","v":0},{"$f":"INDIRECT($H$2&\"!K212\")","v":0},{"$f":"INDIRECT($H$2&\"!L212\")","v":0},{"$f":"INDIRECT($H$2&\"!M212\")","v":0},{"$f":"INDIRECT($H$2&\"!N212\")","v":0},{"$f":"INDIRECT($H$2&\"!O212\")","v":0},{"$f":"INDIRECT($H$2&\"!P212\")","v":0},{"$f":"INDIRECT($H$2&\"!Q212\")","v":0},{"$f":"INDIRECT($H$2&\"!R212\")","v":0},{"$f":"INDIRECT($H$2&\"!S212\")","v":0},{"$f":"INDIRECT($H$2&\"!T212\")","v":0},{"$f":"INDIRECT($H$2&\"!U212\")","v":"00:00:00"},{"$f":"INDIRECT($H$2&\"!V212\")","v":0},"مدفوع"]
[{"$f":"INDIRECT($H$2&\"!A213\")","v":0},{"$f":"INDIRECT($H$2&\"!b213\")","v":0},{"$f":"INDIRECT($H$2&\"!C213\")","v":0},{"$f":"INDIRECT($H$2&\"!D213\")","v":0},{"$f":"INDIRECT($H$2&\"!E213\")","v":0},{"$f":"INDIRECT($H$2&\"!F213\")","v":0},{"$f":"INDIRECT($H$2&\"!G213\")","v":0},{"$f":"INDIRECT($H$2&\"!H213\")","v":0},{"$f":"INDIRECT($H$2&\"!I213\")","v":0},{"$f":"INDIRECT($H$2&\"!J213\")","v":0},{"$f":"INDIRECT($H$2&\"!K213\")","v":0},{"$f":"INDIRECT($H$2&\"!L213\")","v":0},{"$f":"INDIRECT($H$2&\"!M213\")","v":0},{"$f":"INDIRECT($H$2&\"!N213\")","v":0},{"$f":"INDIRECT($H$2&\"!O213\")","v":0},{"$f":"INDIRECT($H$2&\"!P213\")","v":0},{"$f":"INDIRECT($H$2&\"!Q213\")","v":0},{"$f":"INDIRECT($H$2&\"!R213\")","v":0},{"$f":"INDIRECT($H$2&\"!S213\")","v":0},{"$f":"INDIRECT($H$2&\"!T213\")","v":0},{"$f":"INDIRECT($H$2&\"!U213\")","v":"00:00:00"},{"$f":"INDIRECT($H$2&\"!V213\")","v":0},"مدفوع"]
[{"$f":"INDIRECT($H$2&\"!A214\")","v":0},{"$f":"INDIRECT($H$2&\"!b214\")","v":0},{"$f":"INDIRECT($H$2&\"!C214\")","v":0},{"$f":"INDIRECT($H$2&\"!D214\")","v":0},{"$f":"INDIRECT($H$2&\"!E214\")","v":0},{"$f":"INDIRECT($H$2&\"!F214\")","v":0},{"$f":"INDIRECT($H$2&\"!G214\")","v":0},{"$f":"INDIRECT($H$2&\"!H214\")","v":0},{"$f":"INDIRECT($H$2&\"!I214\")","v":0},{"$f":"INDIRECT($H$2&\"!J214\")","v":0},{"$f":"INDIRECT($H$2&\"!K214\")","v":0},{"$f":"INDIRECT($H$2&\"!L214\")","v":0},{"$f":"INDIRECT($H$2&\"!M214\")","v":0},{"$f":"INDIRECT($H$2&\"!N214\")","v":0},{"$f":"INDIRECT($H$2&\"!O214\")","v":0},{"$f":"INDIRECT($H$2&\"!P214\")","v":0},{"$f":"INDIRECT($H$2&\"!Q214\")","v":0},{"$f":"INDIRECT($H$2&\"!R214\")","v":0},{"$f":"INDIRECT($H$2&\"!S214\")","v":0},{"$f":"INDIRECT($H$2&\"!T214\")","v":0},{"$f":"INDIRECT($H$2&\"!U214\")","v":"00:00:00"},{"$f":"INDIRECT($H$2&\"!V214\")","v":0},"مدفوع"]
[{"$f":"INDIRECT($H$2&\"!A215\")","v":0},{"$f":"INDIRECT($H$2&\"!b215\")","v":0},{"$f":"INDIRECT($H$2&\"!C215\")","v":0},{"$f":"INDIRECT($H$2&\"!D215\")","v":0},{"$f":"INDIRECT($H$2&\"!E215\")","v":0},{"$f":"INDIRECT($H$2&\"!F215\")","v":0},{"$f":"INDIRECT($H$2&\"!G215\")","v":0},{"$f":"INDIRECT($H$2&\"!H215\")","v":0},{"$f":"INDIRECT($H$2&\"!I215\")","v":0},{"$f":"INDIRECT($H$2&\"!J215\")","v":0},{"$f":"INDIRECT($H$2&\"!K215\")","v":0},{"$f":"INDIRECT($H$2&\"!L215\")","v":0},{"$f":"INDIRECT($H$2&\"!M215\")","v":0},{"$f":"INDIRECT($H$2&\"!N215\")","v":0},{"$f":"INDIRECT($H$2&\"!O215\")","v":0},{"$f":"INDIRECT($H$2&\"!P215\")","v":0},{"$f":"INDIRECT($H$2&\"!Q215\")","v":0},{"$f":"INDIRECT($H$2&\"!R215\")","v":0},{"$f":"INDIRECT($H$2&\"!S215\")","v":0},{"$f":"INDIRECT($H$2&\"!T215\")","v":0},{"$f":"INDIRECT($H$2&\"!U215\")","v":"00:00:00"},{"$f":"INDIRECT($H$2&\"!V215\")","v":0},"مدفوع"]
[{"$f":"INDIRECT($H$2&\"!A216\")","v":0},{"$f":"INDIRECT($H$2&\"!b216\")","v":0},{"$f":"INDIRECT($H$2&\"!C216\")","v":0},{"$f":"INDIRECT($H$2&\"!D216\")","v":0},{"$f":"INDIRECT($H$2&\"!E216\")","v":0},{"$f":"INDIRECT($H$2&\"!F216\")","v":0},{"$f":"INDIRECT($H$2&\"!G216\")","v":0},{"$f":"INDIRECT($H$2&\"!H216\")","v":0},{"$f":"INDIRECT($H$2&\"!I216\")","v":0},{"$f":"INDIRECT($H$2&\"!J216\")","v":0},{"$f":"INDIRECT($H$2&\"!K216\")","v":0},{"$f":"INDIRECT($H$2&\"!L216\")","v":0},{"$f":"INDIRECT($H$2&\"!M216\")","v":0},{"$f":"INDIRECT($H$2&\"!N216\")","v":0},{"$f":"INDIRECT($H$2&\"!O216\")","v":0},{"$f":"INDIRECT($H$2&\"!P216\")","v":0},{"$f":"INDIRECT($H$2&\"!Q216\")","v":0},{"$f":"INDIRECT($H$2&\"!R216\")","v":0},{"$f":"INDIRECT($H$2&\"!S216\")","v":0},{"$f":"INDIRECT($H$2&\"!T216\")","v":0},{"$f":"INDIRECT($H$2&\"!U216\")","v":"00:00:00"},{"$f":"INDIRECT($H$2&\"!V216\")","v":0},"مدفوع"]
[{"$f":"INDIRECT($H$2&\"!A217\")","v":0},{"$f":"INDIRECT($H$2&\"!b217\")","v":0},{"$f":"INDIRECT($H$2&\"!C217\")","v":0},{"$f":"INDIRECT($H$2&\"!D217\")","v":0},{"$f":"INDIRECT($H$2&\"!E217\")","v":0},{"$f":"INDIRECT($H$2&\"!F217\")","v":0},{"$f":"INDIRECT($H$2&\"!G217\")","v":0},{"$f":"INDIRECT($H$2&\"!H217\")","v":0},{"$f":"INDIRECT($H$2&\"!I217\")","v":0},{"$f":"INDIRECT($H$2&\"!J217\")","v":0},{"$f":"INDIRECT($H$2&\"!K217\")","v":0},{"$f":"INDIRECT($H$2&\"!L217\")","v":0},{"$f":"INDIRECT($H$2&\"!M217\")","v":0},{"$f":"INDIRECT($H$2&\"!N217\")","v":0},{"$f":"INDIRECT($H$2&\"!O217\")","v":0},{"$f":"INDIRECT($H$2&\"!P217\")","v":0},{"$f":"INDIRECT($H$2&\"!Q217\")","v":0},{"$f":"INDIRECT($H$2&\"!R217\")","v":0},{"$f":"INDIRECT($H$2&\"!S217\")","v":0},{"$f":"INDIRECT($H$2&\"!T217\")","v":0},{"$f":"INDIRECT($H$2&\"!U217\")","v":"00:00:00"},{"$f":"INDIRECT($H$2&\"!V217\")","v":0},"مدفوع"]
[{"$f":"INDIRECT($H$2&\"!A218\")","v":0},{"$f":"INDIRECT($H$2&\"!b218\")","v":0},{"$f":"INDIRECT($H$2&\"!C218\")","v":0},{"$f":"INDIRECT($H$2&\"!D218\")","v":0},{"$f":"INDIRECT($H$2&\"!E218\")","v":0},{"$f":"INDIRECT($H$2&\"!F218\")","v":0},{"$f":"INDIRECT($H$2&\"!G218\")","v":0},{"$f":"INDIRECT($H$2&\"!H218\")","v":0},{"$f":"INDIRECT($H$2&\"!I218\")","v":0},{"$f":"INDIRECT($H$2&\"!J218\")","v":0},{"$f":"INDIRECT($H$2&\"!K218\")","v":0},{"$f":"INDIRECT($H$2&\"!L218\")","v":0},{"$f":"INDIRECT($H$2&\"!M218\")","v":0},{"$f":"INDIRECT($H$2&\"!N218\")","v":0},{"$f":"INDIRECT($H$2&\"!O218\")","v":0},{"$f":"INDIRECT($H$2&\"!P218\")","v":0},{"$f":"INDIRECT($H$2&\"!Q218\")","v":0},{"$f":"INDIRECT($H$2&\"!R218\")","v":0},{"$f":"INDIRECT($H$2&\"!S218\")","v":0},{"$f":"INDIRECT($H$2&\"!T218\")","v":0},{"$f":"INDIRECT($H$2&\"!U218\")","v":"00:00:00"},{"$f":"INDIRECT($H$2&\"!V218\")","v":0},"مدفوع"]
[{"$f":"INDIRECT($H$2&\"!A219\")","v":0},{"$f":"INDIRECT($H$2&\"!b219\")","v":0},{"$f":"INDIRECT($H$2&\"!C219\")","v":0},{"$f":"INDIRECT($H$2&\"!D219\")","v":0},{"$f":"INDIRECT($H$2&\"!E219\")","v":0},{"$f":"INDIRECT($H$2&\"!F219\")","v":0},{"$f":"INDIRECT($H$2&\"!G219\")","v":0},{"$f":"INDIRECT($H$2&\"!H219\")","v":0},{"$f":"INDIRECT($H$2&\"!I219\")","v":0},{"$f":"INDIRECT($H$2&\"!J219\")","v":0},{"$f":"INDIRECT($H$2&\"!K219\")","v":0},{"$f":"INDIRECT($H$2&\"!L219\")","v":0},{"$f":"INDIRECT($H$2&\"!M219\")","v":0},{"$f":"INDIRECT($H$2&\"!N219\")","v":0},{"$f":"INDIRECT($H$2&\"!O219\")","v":0},{"$f":"INDIRECT($H$2&\"!P219\")","v":0},{"$f":"INDIRECT($H$2&\"!Q219\")","v":0},{"$f":"INDIRECT($H$2&\"!R219\")","v":0},{"$f":"INDIRECT($H$2&\"!S219\")","v":0},{"$f":"INDIRECT($H$2&\"!T219\")","v":0},{"$f":"INDIRECT($H$2&\"!U219\")","v":"00:00:00"},{"$f":"INDIRECT($H$2&\"!V219\")","v":0},"مدفوع"]
[{"$f":"INDIRECT($H$2&\"!A220\")","v":0},{"$f":"INDIRECT($H$2&\"!b220\")","v":0},{"$f":"INDIRECT($H$2&\"!C220\")","v":0},{"$f":"INDIRECT($H$2&\"!D220\")","v":0},{"$f":"INDIRECT($H$2&\"!E220\")","v":0},{"$f":"INDIRECT($H$2&\"!F220\")","v":0},{"$f":"INDIRECT($H$2&\"!G220\")","v":0},{"$f":"INDIRECT($H$2&\"!H220\")","v":0},{"$f":"INDIRECT($H$2&\"!I220\")","v":0},{"$f":"INDIRECT($H$2&\"!J220\")","v":0},{"$f":"INDIRECT($H$2&\"!K220\")","v":0},{"$f":"INDIRECT($H$2&\"!L220\")","v":0},{"$f":"INDIRECT($H$2&\"!M220\")","v":0},{"$f":"INDIRECT($H$2&\"!N220\")","v":0},{"$f":"INDIRECT($H$2&\"!O220\")","v":0},{"$f":"INDIRECT($H$2&\"!P220\")","v":0},{"$f":"INDIRECT($H$2&\"!Q220\")","v":0},{"$f":"INDIRECT($H$2&\"!R220\")","v":0},{"$f":"INDIRECT($H$2&\"!S220\")","v":0},{"$f":"INDIRECT($H$2&\"!T220\")","v":0},{"$f":"INDIRECT($H$2&\"!U220\")","v":"00:00:00"},{"$f":"INDIRECT($H$2&\"!V220\")","v":0},"مدفوع"]
[{"$f":"INDIRECT($H$2&\"!A221\")","v":0},{"$f":"INDIRECT($H$2&\"!b221\")","v":0},{"$f":"INDIRECT($H$2&\"!C221\")","v":0},{"$f":"INDIRECT($H$2&\"!D221\")","v":0},{"$f":"INDIRECT($H$2&\"!E221\")","v":0},{"$f":"INDIRECT($H$2&\"!F221\")","v":0},{"$f":"INDIRECT($H$2&\"!G221\")","v":0},{"$f":"INDIRECT($H$2&\"!H221\")","v":0},{"$f":"INDIRECT($H$2&\"!I221\")","v":0},{"$f":"INDIRECT($H$2&\"!J221\")","v":0},{"$f":"INDIRECT($H$2&\"!K221\")","v":0},{"$f":"INDIRECT($H$2&\"!L221\")","v":0},{"$f":"INDIRECT($H$2&\"!M221\")","v":0},{"$f":"INDIRECT($H$2&\"!N221\")","v":0},{"$f":"INDIRECT($H$2&\"!O221\")","v":0},{"$f":"INDIRECT($H$2&\"!P221\")","v":0},{"$f":"INDIRECT($H$2&\"!Q221\")","v":0},{"$f":"INDIRECT($H$2&\"!R221\")","v":0},{"$f":"INDIRECT($H$2&\"!S221\")","v":0},{"$f":"INDIRECT($H$2&\"!T221\")","v":0},{"$f":"INDIRECT($H$2&\"!U221\")","v":"00:00:00"},{"$f":"INDIRECT($H$2&\"!V221\")","v":0},"مدفوع"]
[{"$f":"INDIRECT($H$2&\"!A222\")","v":0},{"$f":"INDIRECT($H$2&\"!b222\")","v":0},{"$f":"INDIRECT($H$2&\"!C222\")","v":0},{"$f":"INDIRECT($H$2&\"!D222\")","v":0},{"$f":"INDIRECT($H$2&\"!E222\")","v":0},{"$f":"INDIRECT($H$2&\"!F222\")","v":0},{"$f":"INDIRECT($H$2&\"!G222\")","v":0},{"$f":"INDIRECT($H$2&\"!H222\")","v":0},{"$f":"INDIRECT($H$2&\"!I222\")","v":0},{"$f":"INDIRECT($H$2&\"!J222\")","v":0},{"$f":"INDIRECT($H$2&\"!K222\")","v":0},{"$f":"INDIRECT($H$2&\"!L222\")","v":0},{"$f":"INDIRECT($H$2&\"!M222\")","v":0},{"$f":"INDIRECT($H$2&\"!N222\")","v":0},{"$f":"INDIRECT($H$2&\"!O222\")","v":0},{"$f":"INDIRECT($H$2&\"!P222\")","v":0},{"$f":"INDIRECT($H$2&\"!Q222\")","v":0},{"$f":"INDIRECT($H$2&\"!R222\")","v":0},{"$f":"INDIRECT($H$2&\"!S222\")","v":0},{"$f":"INDIRECT($H$2&\"!T222\")","v":0},{"$f":"INDIRECT($H$2&\"!U222\")","v":"00:00:00"},{"$f":"INDIRECT($H$2&\"!V222\")","v":0},"مدفوع"]
[{"$f":"INDIRECT($H$2&\"!A223\")","v":0},{"$f":"INDIRECT($H$2&\"!b223\")","v":0},{"$f":"INDIRECT($H$2&\"!C223\")","v":0},{"$f":"INDIRECT($H$2&\"!D223\")","v":0},{"$f":"INDIRECT($H$2&\"!E223\")","v":0},{"$f":"INDIRECT($H$2&\"!F223\")","v":0},{"$f":"INDIRECT($H$2&\"!G223\")","v":0},{"$f":"INDIRECT($H$2&\"!H223\")","v":0},{"$f":"INDIRECT($H$2&\"!I223\")","v":0},{"$f":"INDIRECT($H$2&\"!J223\")","v":0},{"$f":"INDIRECT($H$2&\"!K223\")","v":0},{"$f":"INDIRECT($H$2&\"!L223\")","v":0},{"$f":"INDIRECT($H$2&\"!M223\")","v":0},{"$f":"INDIRECT($H$2&\"!N223\")","v":0},{"$f":"INDIRECT($H$2&\"!O223\")","v":0},{"$f":"INDIRECT($H$2&\"!P223\")","v":0},{"$f":"INDIRECT($H$2&\"!Q223\")","v":0},{"$f":"INDIRECT($H$2&\"!R223\")","v":0},{"$f":"INDIRECT($H$2&\"!S223\")","v":0},{"$f":"INDIRECT($H$2&\"!T223\")","v":0},{"$f":"INDIRECT($H$2&\"!U223\")","v":"00:00:00"},{"$f":"INDIRECT($H$2&\"!V223\")","v":0},"مدفوع"]
[{"$f":"INDIRECT($H$2&\"!A224\")","v":0},{"$f":"INDIRECT($H$2&\"!b224\")","v":0},{"$f":"INDIRECT($H$2&\"!C224\")","v":0},{"$f":"INDIRECT($H$2&\"!D224\")","v":0},{"$f":"INDIRECT($H$2&\"!E224\")","v":0},{"$f":"INDIRECT($H$2&\"!F224\")","v":0},{"$f":"INDIRECT($H$2&\"!G224\")","v":0},{"$f":"INDIRECT($H$2&\"!H224\")","v":0},{"$f":"INDIRECT($H$2&\"!I224\")","v":0},{"$f":"INDIRECT($H$2&\"!J224\")","v":0},{"$f":"INDIRECT($H$2&\"!K224\")","v":0},{"$f":"INDIRECT($H$2&\"!L224\")","v":0},{"$f":"INDIRECT($H$2&\"!M224\")","v":0},{"$f":"INDIRECT($H$2&\"!N224\")","v":0},{"$f":"INDIRECT($H$2&\"!O224\")","v":0},{"$f":"INDIRECT($H$2&\"!P224\")","v":0},{"$f":"INDIRECT($H$2&\"!Q224\")","v":0},{"$f":"INDIRECT($H$2&\"!R224\")","v":0},{"$f":"INDIRECT($H$2&\"!S224\")","v":0},{"$f":"INDIRECT($H$2&\"!T224\")","v":0},{"$f":"INDIRECT($H$2&\"!U224\")","v":"00:00:00"},{"$f":"INDIRECT($H$2&\"!V224\")","v":0},"مدفوع"]
[{"$f":"INDIRECT($H$2&\"!A225\")","v":0},{"$f":"INDIRECT($H$2&\"!b225\")","v":0},{"$f":"INDIRECT($H$2&\"!C225\")","v":0},{"$f":"INDIRECT($H$2&\"!D225\")","v":0},{"$f":"INDIRECT($H$2&\"!E225\")","v":0},{"$f":"INDIRECT($H$2&\"!F225\")","v":0},{"$f":"INDIRECT($H$2&\"!G225\")","v":0},{"$f":"INDIRECT($H$2&\"!H225\")","v":0},{"$f":"INDIRECT($H$2&\"!I225\")","v":0},{"$f":"INDIRECT($H$2&\"!J225\")","v":0},{"$f":"INDIRECT($H$2&\"!K225\")","v":0},{"$f":"INDIRECT($H$2&\"!L225\")","v":0},{"$f":"INDIRECT($H$2&\"!M225\")","v":0},{"$f":"INDIRECT($H$2&\"!N225\")","v":0},{"$f":"INDIRECT($H$2&\"!O225\")","v":0},{"$f":"INDIRECT($H$2&\"!P225\")","v":0},{"$f":"INDIRECT($H$2&\"!Q225\")","v":0},{"$f":"INDIRECT($H$2&\"!R225\")","v":0},{"$f":"INDIRECT($H$2&\"!S225\")","v":0},{"$f":"INDIRECT($H$2&\"!T225\")","v":0},{"$f":"INDIRECT($H$2&\"!U225\")","v":"00:00:00"},{"$f":"INDIRECT($H$2&\"!V225\")","v":0},"مدفوع"]
[{"$f":"INDIRECT($H$2&\"!A226\")","v":0},{"$f":"INDIRECT($H$2&\"!b226\")","v":0},{"$f":"INDIRECT($H$2&\"!C226\")","v":0},{"$f":"INDIRECT($H$2&\"!D226\")","v":0},{"$f":"INDIRECT($H$2&\"!E226\")","v":0},{"$f":"INDIRECT($H$2&\"!F226\")","v":0},{"$f":"INDIRECT($H$2&\"!G226\")","v":0},{"$f":"INDIRECT($H$2&\"!H226\")","v":0},{"$f":"INDIRECT($H$2&\"!I226\")","v":0},{"$f":"INDIRECT($H$2&\"!J226\")","v":0},{"$f":"INDIRECT($H$2&\"!K226\")","v":0},{"$f":"INDIRECT($H$2&\"!L226\")","v":0},{"$f":"INDIRECT($H$2&\"!M226\")","v":0},{"$f":"INDIRECT($H$2&\"!N226\")","v":0},{"$f":"INDIRECT($H$2&\"!O226\")","v":0},{"$f":"INDIRECT($H$2&\"!P226\")","v":0},{"$f":"INDIRECT($H$2&\"!Q226\")","v":0},{"$f":"INDIRECT($H$2&\"!R226\")","v":0},{"$f":"INDIRECT($H$2&\"!S226\")","v":0},{"$f":"INDIRECT($H$2&\"!T226\")","v":0},{"$f":"INDIRECT($H$2&\"!U226\")","v":"00:00:00"},{"$f":"INDIRECT($H$2&\"!V226\")","v":0},"مدفوع"]
[{"$f":"INDIRECT($H$2&\"!A227\")","v":0},{"$f":"INDIRECT($H$2&\"!b227\")","v":0},{"$f":"INDIRECT($H$2&\"!C227\")","v":0},{"$f":"INDIRECT($H$2&\"!D227\")","v":0},{"$f":"INDIRECT($H$2&\"!E227\")","v":0},{"$f":"INDIRECT($H$2&\"!F227\")","v":0},{"$f":"INDIRECT($H$2&\"!G227\")","v":0},{"$f":"INDIRECT($H$2&\"!H227\")","v":0},{"$f":"INDIRECT($H$2&\"!I227\")","v":0},{"$f":"INDIRECT($H$2&\"!J227\")","v":0},{"$f":"INDIRECT($H$2&\"!K227\")","v":0},{"$f":"INDIRECT($H$2&\"!L227\")","v":0},{"$f":"INDIRECT($H$2&\"!M227\")","v":0},{"$f":"INDIRECT($H$2&\"!N227\")","v":0},{"$f":"INDIRECT($H$2&\"!O227\")","v":0},{"$f":"INDIRECT($H$2&\"!P227\")","v":0},{"$f":"INDIRECT($H$2&\"!Q227\")","v":0},{"$f":"INDIRECT($H$2&\"!R227\")","v":0},{"$f":"INDIRECT($H$2&\"!S227\")","v":0},{"$f":"INDIRECT($H$2&\"!T227\")","v":0},{"$f":"INDIRECT($H$2&\"!U227\")","v":"00:00:00"},{"$f":"INDIRECT($H$2&\"!V227\")","v":0},"مدفوع"]
[{"$f":"INDIRECT($H$2&\"!A228\")","v":0},{"$f":"INDIRECT($H$2&\"!b228\")","v":0},{"$f":"INDIRECT($H$2&\"!C228\")","v":0},{"$f":"INDIRECT($H$2&\"!D228\")","v":0},{"$f":"INDIRECT($H$2&\"!E228\")","v":0},{"$f":"INDIRECT($H$2&\"!F228\")","v":0},{"$f":"INDIRECT($H$2&\"!G228\")","v":0},{"$f":"INDIRECT($H$2&\"!H228\")","v":0},{"$f":"INDIRECT($H$2&\"!I228\")","v":0},{"$f":"INDIRECT($H$2&\"!J228\")","v":0},{"$f":"INDIRECT($H$2&\"!K228\")","v":0},{"$f":"INDIRECT($H$2&\"!L228\")","v":0},{"$f":"INDIRECT($H$2&\"!M228\")","v":0},{"$f":"INDIRECT($H$2&\"!N228\")","v":0},{"$f":"INDIRECT($H$2&\"!O228\")","v":0},{"$f":"INDIRECT($H$2&\"!P228\")","v":0},{"$f":"INDIRECT($H$2&\"!Q228\")","v":0},{"$f":"INDIRECT($H$2&\"!R228\")","v":0},{"$f":"INDIRECT($H$2&\"!S228\")","v":0},{"$f":"INDIRECT($H$2&\"!T228\")","v":0},{"$f":"INDIRECT($H$2&\"!U228\")","v":"00:00:00"},{"$f":"INDIRECT($H$2&\"!V228\")","v":0},"مدفوع"]
[{"$f":"INDIRECT($H$2&\"!A229\")","v":0},{"$f":"INDIRECT($H$2&\"!b229\")","v":0},{"$f":"INDIRECT($H$2&\"!C229\")","v":0},{"$f":"INDIRECT($H$2&\"!D229\")","v":0},{"$f":"INDIRECT($H$2&\"!E229\")","v":0},{"$f":"INDIRECT($H$2&\"!F229\")","v":0},{"$f":"INDIRECT($H$2&\"!G229\")","v":0},{"$f":"INDIRECT($H$2&\"!H229\")","v":0},{"$f":"INDIRECT($H$2&\"!I229\")","v":0},{"$f":"INDIRECT($H$2&\"!J229\")","v":0},{"$f":"INDIRECT($H$2&\"!K229\")","v":0},{"$f":"INDIRECT($H$2&\"!L229\")","v":0},{"$f":"INDIRECT($H$2&\"!M229\")","v":0},{"$f":"INDIRECT($H$2&\"!N229\")","v":0},{"$f":"INDIRECT($H$2&\"!O229\")","v":0},{"$f":"INDIRECT($H$2&\"!P229\")","v":0},{"$f":"INDIRECT($H$2&\"!Q229\")","v":0},{"$f":"INDIRECT($H$2&\"!R229\")","v":0},{"$f":"INDIRECT($H$2&\"!S229\")","v":0},{"$f":"INDIRECT($H$2&\"!T229\")","v":0},{"$f":"INDIRECT($H$2&\"!U229\")","v":"00:00:00"},{"$f":"INDIRECT($H$2&\"!V229\")","v":0},"مدفوع"]
[{"$f":"INDIRECT($H$2&\"!A230\")","v":0},{"$f":"INDIRECT($H$2&\"!b230\")","v":0},{"$f":"INDIRECT($H$2&\"!C230\")","v":0},{"$f":"INDIRECT($H$2&\"!D230\")","v":0},{"$f":"INDIRECT($H$2&\"!E230\")","v":0},{"$f":"INDIRECT($H$2&\"!F230\")","v":0},{"$f":"INDIRECT($H$2&\"!G230\")","v":0},{"$f":"INDIRECT($H$2&\"!H230\")","v":0},{"$f":"INDIRECT($H$2&\"!I230\")","v":0},{"$f":"INDIRECT($H$2&\"!J230\")","v":0},{"$f":"INDIRECT($H$2&\"!K230\")","v":0},{"$f":"INDIRECT($H$2&\"!L230\")","v":0},{"$f":"INDIRECT($H$2&\"!M230\")","v":0},{"$f":"INDIRECT($H$2&\"!N230\")","v":0},{"$f":"INDIRECT($H$2&\"!O230\")","v":0},{"$f":"INDIRECT($H$2&\"!P230\")","v":0},{"$f":"INDIRECT($H$2&\"!Q230\")","v":0},{"$f":"INDIRECT($H$2&\"!R230\")","v":0},{"$f":"INDIRECT($H$2&\"!S230\")","v":0},{"$f":"INDIRECT($H$2&\"!T230\")","v":0},{"$f":"INDIRECT($H$2&\"!U230\")","v":"00:00:00"},{"$f":"INDIRECT($H$2&\"!V230\")","v":0},"مدفوع"]
[{"$f":"INDIRECT($H$2&\"!A231\")","v":0},{"$f":"INDIRECT($H$2&\"!b231\")","v":0},{"$f":"INDIRECT($H$2&\"!C231\")","v":0},{"$f":"INDIRECT($H$2&\"!D231\")","v":0},{"$f":"INDIRECT($H$2&\"!E231\")","v":0},{"$f":"INDIRECT($H$2&\"!F231\")","v":0},{"$f":"INDIRECT($H$2&\"!G231\")","v":0},{"$f":"INDIRECT($H$2&\"!H231\")","v":0},{"$f":"INDIRECT($H$2&\"!I231\")","v":0},{"$f":"INDIRECT($H$2&\"!J231\")","v":0},{"$f":"INDIRECT($H$2&\"!K231\")","v":0},{"$f":"INDIRECT($H$2&\"!L231\")","v":0},{"$f":"INDIRECT($H$2&\"!M231\")","v":0},{"$f":"INDIRECT($H$2&\"!N231\")","v":0},{"$f":"INDIRECT($H$2&\"!O231\")","v":0},{"$f":"INDIRECT($H$2&\"!P231\")","v":0},{"$f":"INDIRECT($H$2&\"!Q231\")","v":0},{"$f":"INDIRECT($H$2&\"!R231\")","v":0},{"$f":"INDIRECT($H$2&\"!S231\")","v":0},{"$f":"INDIRECT($H$2&\"!T231\")","v":0},{"$f":"INDIRECT($H$2&\"!U231\")","v":"00:00:00"},{"$f":"INDIRECT($H$2&\"!V231\")","v":0},"مدفوع"]
[{"$f":"INDIRECT($H$2&\"!A232\")","v":0},{"$f":"INDIRECT($H$2&\"!b232\")","v":0},{"$f":"INDIRECT($H$2&\"!C232\")","v":0},{"$f":"INDIRECT($H$2&\"!D232\")","v":0},{"$f":"INDIRECT($H$2&\"!E232\")","v":0},{"$f":"INDIRECT($H$2&\"!F232\")","v":0},{"$f":"INDIRECT($H$2&\"!G232\")","v":0},{"$f":"INDIRECT($H$2&\"!H232\")","v":0},{"$f":"INDIRECT($H$2&\"!I232\")","v":0},{"$f":"INDIRECT($H$2&\"!J232\")","v":0},{"$f":"INDIRECT($H$2&\"!K232\")","v":0},{"$f":"INDIRECT($H$2&\"!L232\")","v":0},{"$f":"INDIRECT($H$2&\"!M232\")","v":0},{"$f":"INDIRECT($H$2&\"!N232\")","v":0},{"$f":"INDIRECT($H$2&\"!O232\")","v":0},{"$f":"INDIRECT($H$2&\"!P232\")","v":0},{"$f":"INDIRECT($H$2&\"!Q232\")","v":0},{"$f":"INDIRECT($H$2&\"!R232\")","v":0},{"$f":"INDIRECT($H$2&\"!S232\")","v":0},{"$f":"INDIRECT($H$2&\"!T232\")","v":0},{"$f":"INDIRECT($H$2&\"!U232\")","v":"00:00:00"},{"$f":"INDIRECT($H$2&\"!V232\")","v":0},"مدفوع"]
[{"$f":"INDIRECT($H$2&\"!A233\")","v":0},{"$f":"INDIRECT($H$2&\"!b233\")","v":0},{"$f":"INDIRECT($H$2&\"!C233\")","v":0},{"$f":"INDIRECT($H$2&\"!D233\")","v":0},{"$f":"INDIRECT($H$2&\"!E233\")","v":0},{"$f":"INDIRECT($H$2&\"!F233\")","v":0},{"$f":"INDIRECT($H$2&\"!G233\")","v":0},{"$f":"INDIRECT($H$2&\"!H233\")","v":0},{"$f":"INDIRECT($H$2&\"!I233\")","v":0},{"$f":"INDIRECT($H$2&\"!J233\")","v":0},{"$f":"INDIRECT($H$2&\"!K233\")","v":0},{"$f":"INDIRECT($H$2&\"!L233\")","v":0},{"$f":"INDIRECT($H$2&\"!M233\")","v":0},{"$f":"INDIRECT($H$2&\"!N233\")","v":0},{"$f":"INDIRECT($H$2&\"!O233\")","v":0},{"$f":"INDIRECT($H$2&\"!P233\")","v":0},{"$f":"INDIRECT($H$2&\"!Q233\")","v":0},{"$f":"INDIRECT($H$2&\"!R233\")","v":0},{"$f":"INDIRECT($H$2&\"!S233\")","v":0},{"$f":"INDIRECT($H$2&\"!T233\")","v":0},{"$f":"INDIRECT($H$2&\"!U233\")","v":"00:00:00"},{"$f":"INDIRECT($H$2&\"!V233\")","v":0},"مدفوع"]
[{"$f":"INDIRECT($H$2&\"!A234\")","v":0},{"$f":"INDIRECT($H$2&\"!b234\")","v":0},{"$f":"INDIRECT($H$2&\"!C234\")","v":0},{"$f":"INDIRECT($H$2&\"!D234\")","v":0},{"$f":"INDIRECT($H$2&\"!E234\")","v":0},{"$f":"INDIRECT($H$2&\"!F234\")","v":0},{"$f":"INDIRECT($H$2&\"!G234\")","v":0},{"$f":"INDIRECT($H$2&\"!H234\")","v":0},{"$f":"INDIRECT($H$2&\"!I234\")","v":0},{"$f":"INDIRECT($H$2&\"!J234\")","v":0},{"$f":"INDIRECT($H$2&\"!K234\")","v":0},{"$f":"INDIRECT($H$2&\"!L234\")","v":0},{"$f":"INDIRECT($H$2&\"!M234\")","v":0},{"$f":"INDIRECT($H$2&\"!N234\")","v":0},{"$f":"INDIRECT($H$2&\"!O234\")","v":0},{"$f":"INDIRECT($H$2&\"!P234\")","v":0},{"$f":"INDIRECT($H$2&\"!Q234\")","v":0},{"$f":"INDIRECT($H$2&\"!R234\")","v":0},{"$f":"INDIRECT($H$2&\"!S234\")","v":0},{"$f":"INDIRECT($H$2&\"!T234\")","v":0},{"$f":"INDIRECT($H$2&\"!U234\")","v":"00:00:00"},{"$f":"INDIRECT($H$2&\"!V234\")","v":0},"مدفوع"]
[{"$f":"INDIRECT($H$2&\"!A235\")","v":0},{"$f":"INDIRECT($H$2&\"!b235\")","v":0},{"$f":"INDIRECT($H$2&\"!C235\")","v":0},{"$f":"INDIRECT($H$2&\"!D235\")","v":0},{"$f":"INDIRECT($H$2&\"!E235\")","v":0},{"$f":"INDIRECT($H$2&\"!F235\")","v":0},{"$f":"INDIRECT($H$2&\"!G235\")","v":0},{"$f":"INDIRECT($H$2&\"!H235\")","v":0},{"$f":"INDIRECT($H$2&\"!I235\")","v":0},{"$f":"INDIRECT($H$2&\"!J235\")","v":0},{"$f":"INDIRECT($H$2&\"!K235\")","v":0},{"$f":"INDIRECT($H$2&\"!L235\")","v":0},{"$f":"INDIRECT($H$2&\"!M235\")","v":0},{"$f":"INDIRECT($H$2&\"!N235\")","v":0},{"$f":"INDIRECT($H$2&\"!O235\")","v":0},{"$f":"INDIRECT($H$2&\"!P235\")","v":0},{"$f":"INDIRECT($H$2&\"!Q235\")","v":0},{"$f":"INDIRECT($H$2&\"!R235\")","v":0},{"$f":"INDIRECT($H$2&\"!S235\")","v":0},{"$f":"INDIRECT($H$2&\"!T235\")","v":0},{"$f":"INDIRECT($H$2&\"!U235\")","v":"00:00:00"},{"$f":"INDIRECT($H$2&\"!V235\")","v":0},"مدفوع"]
[{"$f":"INDIRECT($H$2&\"!A236\")","v":0},{"$f":"INDIRECT($H$2&\"!b236\")","v":0},{"$f":"INDIRECT($H$2&\"!C236\")","v":0},{"$f":"INDIRECT($H$2&\"!D236\")","v":0},{"$f":"INDIRECT($H$2&\"!E236\")","v":0},{"$f":"INDIRECT($H$2&\"!F236\")","v":0},{"$f":"INDIRECT($H$2&\"!G236\")","v":0},{"$f":"INDIRECT($H$2&\"!H236\")","v":0},{"$f":"INDIRECT($H$2&\"!I236\")","v":0},{"$f":"INDIRECT($H$2&\"!J236\")","v":0},{"$f":"INDIRECT($H$2&\"!K236\")","v":0},{"$f":"INDIRECT($H$2&\"!L236\")","v":0},{"$f":"INDIRECT($H$2&\"!M236\")","v":0},{"$f":"INDIRECT($H$2&\"!N236\")","v":0},{"$f":"INDIRECT($H$2&\"!O236\")","v":0},{"$f":"INDIRECT($H$2&\"!P236\")","v":0},{"$f":"INDIRECT($H$2&\"!Q236\")","v":0},{"$f":"INDIRECT($H$2&\"!R236\")","v":0},{"$f":"INDIRECT($H$2&\"!S236\")","v":0},{"$f":"INDIRECT($H$2&\"!T236\")","v":0},{"$f":"INDIRECT($H$2&\"!U236\")","v":"00:00:00"},{"$f":"INDIRECT($H$2&\"!V236\")","v":0},"مدفوع"]
[{"$f":"INDIRECT($H$2&\"!A237\")","v":0},{"$f":"INDIRECT($H$2&\"!b237\")","v":0},{"$f":"INDIRECT($H$2&\"!C237\")","v":0},{"$f":"INDIRECT($H$2&\"!D237\")","v":0},{"$f":"INDIRECT($H$2&\"!E237\")","v":0},{"$f":"INDIRECT($H$2&\"!F237\")","v":0},{"$f":"INDIRECT($H$2&\"!G237\")","v":0},{"$f":"INDIRECT($H$2&\"!H237\")","v":0},{"$f":"INDIRECT($H$2&\"!I237\")","v":0},{"$f":"INDIRECT($H$2&\"!J237\")","v":0},{"$f":"INDIRECT($H$2&\"!K237\")","v":0},{"$f":"INDIRECT($H$2&\"!L237\")","v":0},{"$f":"INDIRECT($H$2&\"!M237\")","v":0},{"$f":"INDIRECT($H$2&\"!N237\")","v":0},{"$f":"INDIRECT($H$2&\"!O237\")","v":0},{"$f":"INDIRECT($H$2&\"!P237\")","v":0},{"$f":"INDIRECT($H$2&\"!Q237\")","v":0},{"$f":"INDIRECT($H$2&\"!R237\")","v":0},{"$f":"INDIRECT($H$2&\"!S237\")","v":0},{"$f":"INDIRECT($H$2&\"!T237\")","v":0},{"$f":"INDIRECT($H$2&\"!U237\")","v":"00:00:00"},{"$f":"INDIRECT($H$2&\"!V237\")","v":0},"مدفوع"]
[{"$f":"INDIRECT($H$2&\"!A238\")","v":0},{"$f":"INDIRECT($H$2&\"!b238\")","v":0},{"$f":"INDIRECT($H$2&\"!C238\")","v":0},{"$f":"INDIRECT($H$2&\"!D238\")","v":0},{"$f":"INDIRECT($H$2&\"!E238\")","v":0},{"$f":"INDIRECT($H$2&\"!F238\")","v":0},{"$f":"INDIRECT($H$2&\"!G238\")","v":0},{"$f":"INDIRECT($H$2&\"!H238\")","v":0},{"$f":"INDIRECT($H$2&\"!I238\")","v":0},{"$f":"INDIRECT($H$2&\"!J238\")","v":0},{"$f":"INDIRECT($H$2&\"!K238\")","v":0},{"$f":"INDIRECT($H$2&\"!L238\")","v":0},{"$f":"INDIRECT($H$2&\"!M238\")","v":0},{"$f":"INDIRECT($H$2&\"!N238\")","v":0},{"$f":"INDIRECT($H$2&\"!O238\")","v":0},{"$f":"INDIRECT($H$2&\"!P238\")","v":0},{"$f":"INDIRECT($H$2&\"!Q238\")","v":0},{"$f":"INDIRECT($H$2&\"!R238\")","v":0},{"$f":"INDIRECT($H$2&\"!S238\")","v":0},{"$f":"INDIRECT($H$2&\"!T238\")","v":0},{"$f":"INDIRECT($H$2&\"!U238\")","v":"00:00:00"},{"$f":"INDIRECT($H$2&\"!V238\")","v":0},"مدفوع"]
[{"$f":"INDIRECT($H$2&\"!A239\")","v":0},{"$f":"INDIRECT($H$2&\"!b239\")","v":0},{"$f":"INDIRECT($H$2&\"!C239\")","v":0},{"$f":"INDIRECT($H$2&\"!D239\")","v":0},{"$f":"INDIRECT($H$2&\"!E239\")","v":0},{"$f":"INDIRECT($H$2&\"!F239\")","v":0},{"$f":"INDIRECT($H$2&\"!G239\")","v":0},{"$f":"INDIRECT($H$2&\"!H239\")","v":0},{"$f":"INDIRECT($H$2&\"!I239\")","v":0},{"$f":"INDIRECT($H$2&\"!J239\")","v":0},{"$f":"INDIRECT($H$2&\"!K239\")","v":0},{"$f":"INDIRECT($H$2&\"!L239\")","v":0},{"$f":"INDIRECT($H$2&\"!M239\")","v":0},{"$f":"INDIRECT($H$2&\"!N239\")","v":0},{"$f":"INDIRECT($H$2&\"!O239\")","v":0},{"$f":"INDIRECT($H$2&\"!P239\")","v":0},{"$f":"INDIRECT($H$2&\"!Q239\")","v":0},{"$f":"INDIRECT($H$2&\"!R239\")","v":0},{"$f":"INDIRECT($H$2&\"!S239\")","v":0},{"$f":"INDIRECT($H$2&\"!T239\")","v":0},{"$f":"INDIRECT($H$2&\"!U239\")","v":"00:00:00"},{"$f":"INDIRECT($H$2&\"!V239\")","v":0},"مدفوع"]
[{"$f":"INDIRECT($H$2&\"!A240\")","v":0},{"$f":"INDIRECT($H$2&\"!b240\")","v":0},{"$f":"INDIRECT($H$2&\"!C240\")","v":0},{"$f":"INDIRECT($H$2&\"!D240\")","v":0},{"$f":"INDIRECT($H$2&\"!E240\")","v":0},{"$f":"INDIRECT($H$2&\"!F240\")","v":0},{"$f":"INDIRECT($H$2&\"!G240\")","v":0},{"$f":"INDIRECT($H$2&\"!H240\")","v":0},{"$f":"INDIRECT($H$2&\"!I240\")","v":0},{"$f":"INDIRECT($H$2&\"!J240\")","v":0},{"$f":"INDIRECT($H$2&\"!K240\")","v":0},{"$f":"INDIRECT($H$2&\"!L240\")","v":0},{"$f":"INDIRECT($H$2&\"!M240\")","v":0},{"$f":"INDIRECT($H$2&\"!N240\")","v":0},{"$f":"INDIRECT($H$2&\"!O240\")","v":0},{"$f":"INDIRECT($H$2&\"!P240\")","v":0},{"$f":"INDIRECT($H$2&\"!Q240\")","v":0},{"$f":"INDIRECT($H$2&\"!R240\")","v":0},{"$f":"INDIRECT($H$2&\"!S240\")","v":0},{"$f":"INDIRECT($H$2&\"!T240\")","v":0},{"$f":"INDIRECT($H$2&\"!U240\")","v":"00:00:00"},{"$f":"INDIRECT($H$2&\"!V240\")","v":0},"مدفوع"]
[{"$f":"INDIRECT($H$2&\"!A241\")","v":0},{"$f":"INDIRECT($H$2&\"!b241\")","v":0},{"$f":"INDIRECT($H$2&\"!C241\")","v":0},{"$f":"INDIRECT($H$2&\"!D241\")","v":0},{"$f":"INDIRECT($H$2&\"!E241\")","v":0},{"$f":"INDIRECT($H$2&\"!F241\")","v":0},{"$f":"INDIRECT($H$2&\"!G241\")","v":0},{"$f":"INDIRECT($H$2&\"!H241\")","v":0},{"$f":"INDIRECT($H$2&\"!I241\")","v":0},{"$f":"INDIRECT($H$2&\"!J241\")","v":0},{"$f":"INDIRECT($H$2&\"!K241\")","v":0},{"$f":"INDIRECT($H$2&\"!L241\")","v":0},{"$f":"INDIRECT($H$2&\"!M241\")","v":0},{"$f":"INDIRECT($H$2&\"!N241\")","v":0},{"$f":"INDIRECT($H$2&\"!O241\")","v":0},{"$f":"INDIRECT($H$2&\"!P241\")","v":0},{"$f":"INDIRECT($H$2&\"!Q241\")","v":0},{"$f":"INDIRECT($H$2&\"!R241\")","v":0},{"$f":"INDIRECT($H$2&\"!S241\")","v":0},{"$f":"INDIRECT($H$2&\"!T241\")","v":0},{"$f":"INDIRECT($H$2&\"!U241\")","v":"00:00:00"},{"$f":"INDIRECT($H$2&\"!V241\")","v":0},"مدفوع"]
[{"$f":"INDIRECT($H$2&\"!A242\")","v":0},{"$f":"INDIRECT($H$2&\"!b242\")","v":0},{"$f":"INDIRECT($H$2&\"!C242\")","v":0},{"$f":"INDIRECT($H$2&\"!D242\")","v":0},{"$f":"INDIRECT($H$2&\"!E242\")","v":0},{"$f":"INDIRECT($H$2&\"!F242\")","v":0},{"$f":"INDIRECT($H$2&\"!G242\")","v":0},{"$f":"INDIRECT($H$2&\"!H242\")","v":0},{"$f":"INDIRECT($H$2&\"!I242\")","v":0},{"$f":"INDIRECT($H$2&\"!J242\")","v":0},{"$f":"INDIRECT($H$2&\"!K242\")","v":0},{"$f":"INDIRECT($H$2&\"!L242\")","v":0},{"$f":"INDIRECT($H$2&\"!M242\")","v":0},{"$f":"INDIRECT($H$2&\"!N242\")","v":0},{"$f":"INDIRECT($H$2&\"!O242\")","v":0},{"$f":"INDIRECT($H$2&\"!P242\")","v":0},{"$f":"INDIRECT($H$2&\"!Q242\")","v":0},{"$f":"INDIRECT($H$2&\"!R242\")","v":0},{"$f":"INDIRECT($H$2&\"!S242\")","v":0},{"$f":"INDIRECT($H$2&\"!T242\")","v":0},{"$f":"INDIRECT($H$2&\"!U242\")","v":"00:00:00"},{"$f":"INDIRECT($H$2&\"!V242\")","v":0},"مدفوع"]
[{"$f":"INDIRECT($H$2&\"!A243\")","v":0},{"$f":"INDIRECT($H$2&\"!b243\")","v":0},{"$f":"INDIRECT($H$2&\"!C243\")","v":0},{"$f":"INDIRECT($H$2&\"!D243\")","v":0},{"$f":"INDIRECT($H$2&\"!E243\")","v":0},{"$f":"INDIRECT($H$2&\"!F243\")","v":0},{"$f":"INDIRECT($H$2&\"!G243\")","v":0},{"$f":"INDIRECT($H$2&\"!H243\")","v":0},{"$f":"INDIRECT($H$2&\"!I243\")","v":0},{"$f":"INDIRECT($H$2&\"!J243\")","v":0},{"$f":"INDIRECT($H$2&\"!K243\")","v":0},{"$f":"INDIRECT($H$2&\"!L243\")","v":0},{"$f":"INDIRECT($H$2&\"!M243\")","v":0},{"$f":"INDIRECT($H$2&\"!N243\")","v":0},{"$f":"INDIRECT($H$2&\"!O243\")","v":0},{"$f":"INDIRECT($H$2&\"!P243\")","v":0},{"$f":"INDIRECT($H$2&\"!Q243\")","v":0},{"$f":"INDIRECT($H$2&\"!R243\")","v":0},{"$f":"INDIRECT($H$2&\"!S243\")","v":0},{"$f":"INDIRECT($H$2&\"!T243\")","v":0},{"$f":"INDIRECT($H$2&\"!U243\")","v":"00:00:00"},{"$f":"INDIRECT($H$2&\"!V243\")","v":0},"مدفوع"]
[{"$f":"INDIRECT($H$2&\"!A244\")","v":0},{"$f":"INDIRECT($H$2&\"!b244\")","v":0},{"$f":"INDIRECT($H$2&\"!C244\")","v":0},{"$f":"INDIRECT($H$2&\"!D244\")","v":0},{"$f":"INDIRECT($H$2&\"!E244\")","v":0},{"$f":"INDIRECT($H$2&\"!F244\")","v":0},{"$f":"INDIRECT($H$2&\"!G244\")","v":0},{"$f":"INDIRECT($H$2&\"!H244\")","v":0},{"$f":"INDIRECT($H$2&\"!I244\")","v":0},{"$f":"INDIRECT($H$2&\"!J244\")","v":0},{"$f":"INDIRECT($H$2&\"!K244\")","v":0},{"$f":"INDIRECT($H$2&\"!L244\")","v":0},{"$f":"INDIRECT($H$2&\"!M244\")","v":0},{"$f":"INDIRECT($H$2&\"!N244\")","v":0},{"$f":"INDIRECT($H$2&\"!O244\")","v":0},{"$f":"INDIRECT($H$2&\"!P244\")","v":0},{"$f":"INDIRECT($H$2&\"!Q244\")","v":0},{"$f":"INDIRECT($H$2&\"!R244\")","v":0},{"$f":"INDIRECT($H$2&\"!S244\")","v":0},{"$f":"INDIRECT($H$2&\"!T244\")","v":0},{"$f":"INDIRECT($H$2&\"!U244\")","v":"00:00:00"},{"$f":"INDIRECT($H$2&\"!V244\")","v":0},"مدفوع"]
[{"$f":"INDIRECT($H$2&\"!A245\")","v":0},{"$f":"INDIRECT($H$2&\"!b245\")","v":0},{"$f":"INDIRECT($H$2&\"!C245\")","v":0},{"$f":"INDIRECT($H$2&\"!D245\")","v":0},{"$f":"INDIRECT($H$2&\"!E245\")","v":0},{"$f":"INDIRECT($H$2&\"!F245\")","v":0},{"$f":"INDIRECT($H$2&\"!G245\")","v":0},{"$f":"INDIRECT($H$2&\"!H245\")","v":0},{"$f":"INDIRECT($H$2&\"!I245\")","v":0},{"$f":"INDIRECT($H$2&\"!J245\")","v":0},{"$f":"INDIRECT($H$2&\"!K245\")","v":0},{"$f":"INDIRECT($H$2&\"!L245\")","v":0},{"$f":"INDIRECT($H$2&\"!M245\")","v":0},{"$f":"INDIRECT($H$2&\"!N245\")","v":0},{"$f":"INDIRECT($H$2&\"!O245\")","v":0},{"$f":"INDIRECT($H$2&\"!P245\")","v":0},{"$f":"INDIRECT($H$2&\"!Q245\")","v":0},{"$f":"INDIRECT($H$2&\"!R245\")","v":0},{"$f":"INDIRECT($H$2&\"!S245\")","v":0},{"$f":"INDIRECT($H$2&\"!T245\")","v":0},{"$f":"INDIRECT($H$2&\"!U245\")","v":"00:00:00"},{"$f":"INDIRECT($H$2&\"!V245\")","v":0},"مدفوع"]
[{"$f":"INDIRECT($H$2&\"!A246\")","v":0},{"$f":"INDIRECT($H$2&\"!b246\")","v":0},{"$f":"INDIRECT($H$2&\"!C246\")","v":0},{"$f":"INDIRECT($H$2&\"!D246\")","v":0},{"$f":"INDIRECT($H$2&\"!E246\")","v":0},{"$f":"INDIRECT($H$2&\"!F246\")","v":0},{"$f":"INDIRECT($H$2&\"!G246\")","v":0},{"$f":"INDIRECT($H$2&\"!H246\")","v":0},{"$f":"INDIRECT($H$2&\"!I246\")","v":0},{"$f":"INDIRECT($H$2&\"!J246\")","v":0},{"$f":"INDIRECT($H$2&\"!K246\")","v":0},{"$f":"INDIRECT($H$2&\"!L246\")","v":0},{"$f":"INDIRECT($H$2&\"!M246\")","v":0},{"$f":"INDIRECT($H$2&\"!N246\")","v":0},{"$f":"INDIRECT($H$2&\"!O246\")","v":0},{"$f":"INDIRECT($H$2&\"!P246\")","v":0},{"$f":"INDIRECT($H$2&\"!Q246\")","v":0},{"$f":"INDIRECT($H$2&\"!R246\")","v":0},{"$f":"INDIRECT($H$2&\"!S246\")","v":0},{"$f":"INDIRECT($H$2&\"!T246\")","v":0},{"$f":"INDIRECT($H$2&\"!U246\")","v":"00:00:00"},{"$f":"INDIRECT($H$2&\"!V246\")","v":0},"مدفوع"]
[{"$f":"INDIRECT($H$2&\"!A247\")","v":0},{"$f":"INDIRECT($H$2&\"!b247\")","v":0},{"$f":"INDIRECT($H$2&\"!C247\")","v":0},{"$f":"INDIRECT($H$2&\"!D247\")","v":0},{"$f":"INDIRECT($H$2&\"!E247\")","v":0},{"$f":"INDIRECT($H$2&\"!F247\")","v":0},{"$f":"INDIRECT($H$2&\"!G247\")","v":0},{"$f":"INDIRECT($H$2&\"!H247\")","v":0},{"$f":"INDIRECT($H$2&\"!I247\")","v":0},{"$f":"INDIRECT($H$2&\"!J247\")","v":0},{"$f":"INDIRECT($H$2&\"!K247\")","v":0},{"$f":"INDIRECT($H$2&\"!L247\")","v":0},{"$f":"INDIRECT($H$2&\"!M247\")","v":0},{"$f":"INDIRECT($H$2&\"!N247\")","v":0},{"$f":"INDIRECT($H$2&\"!O247\")","v":0},{"$f":"INDIRECT($H$2&\"!P247\")","v":0},{"$f":"INDIRECT($H$2&\"!Q247\")","v":0},{"$f":"INDIRECT($H$2&\"!R247\")","v":0},{"$f":"INDIRECT($H$2&\"!S247\")","v":0},{"$f":"INDIRECT($H$2&\"!T247\")","v":0},{"$f":"INDIRECT($H$2&\"!U247\")","v":"00:00:00"},{"$f":"INDIRECT($H$2&\"!V247\")","v":0},"مدفوع"]
[{"$f":"INDIRECT($H$2&\"!A248\")","v":0},{"$f":"INDIRECT($H$2&\"!b248\")","v":0},{"$f":"INDIRECT($H$2&\"!C248\")","v":0},{"$f":"INDIRECT($H$2&\"!D248\")","v":0},{"$f":"INDIRECT($H$2&\"!E248\")","v":0},{"$f":"INDIRECT($H$2&\"!F248\")","v":0},{"$f":"INDIRECT($H$2&\"!G248\")","v":0},{"$f":"INDIRECT($H$2&\"!H248\")","v":0},{"$f":"INDIRECT($H$2&\"!I248\")","v":0},{"$f":"INDIRECT($H$2&\"!J248\")","v":0},{"$f":"INDIRECT($H$2&\"!K248\")","v":0},{"$f":"INDIRECT($H$2&\"!L248\")","v":0},{"$f":"INDIRECT($H$2&\"!M248\")","v":0},{"$f":"INDIRECT($H$2&\"!N248\")","v":0},{"$f":"INDIRECT($H$2&\"!O248\")","v":0},{"$f":"INDIRECT($H$2&\"!P248\")","v":0},{"$f":"INDIRECT($H$2&\"!Q248\")","v":0},{"$f":"INDIRECT($H$2&\"!R248\")","v":0},{"$f":"INDIRECT($H$2&\"!S248\")","v":0},{"$f":"INDIRECT($H$2&\"!T248\")","v":0},{"$f":"INDIRECT($H$2&\"!U248\")","v":"00:00:00"},{"$f":"INDIRECT($H$2&\"!V248\")","v":0},"مدفوع"]
[{"$f":"INDIRECT($H$2&\"!A249\")","v":0},{"$f":"INDIRECT($H$2&\"!b249\")","v":0},{"$f":"INDIRECT($H$2&\"!C249\")","v":0},{"$f":"INDIRECT($H$2&\"!D249\")","v":0},{"$f":"INDIRECT($H$2&\"!E249\")","v":0},{"$f":"INDIRECT($H$2&\"!F249\")","v":0},{"$f":"INDIRECT($H$2&\"!G249\")","v":0},{"$f":"INDIRECT($H$2&\"!H249\")","v":0},{"$f":"INDIRECT($H$2&\"!I249\")","v":0},{"$f":"INDIRECT($H$2&\"!J249\")","v":0},{"$f":"INDIRECT($H$2&\"!K249\")","v":0},{"$f":"INDIRECT($H$2&\"!L249\")","v":0},{"$f":"INDIRECT($H$2&\"!M249\")","v":0},{"$f":"INDIRECT($H$2&\"!N249\")","v":0},{"$f":"INDIRECT($H$2&\"!O249\")","v":0},{"$f":"INDIRECT($H$2&\"!P249\")","v":0},{"$f":"INDIRECT($H$2&\"!Q249\")","v":0},{"$f":"INDIRECT($H$2&\"!R249\")","v":0},{"$f":"INDIRECT($H$2&\"!S249\")","v":0},{"$f":"INDIRECT($H$2&\"!T249\")","v":0},{"$f":"INDIRECT($H$2&\"!U249\")","v":"00:00:00"},{"$f":"INDIRECT($H$2&\"!V249\")","v":0},"مدفوع"]
[{"$f":"INDIRECT($H$2&\"!A250\")","v":0},{"$f":"INDIRECT($H$2&\"!b250\")","v":0},{"$f":"INDIRECT($H$2&\"!C250\")","v":0},{"$f":"INDIRECT($H$2&\"!D250\")","v":0},{"$f":"INDIRECT($H$2&\"!E250\")","v":0},{"$f":"INDIRECT($H$2&\"!F250\")","v":0},{"$f":"INDIRECT($H$2&\"!G250\")","v":0},{"$f":"INDIRECT($H$2&\"!H250\")","v":0},{"$f":"INDIRECT($H$2&\"!I250\")","v":0},{"$f":"INDIRECT($H$2&\"!J250\")","v":0},{"$f":"INDIRECT($H$2&\"!K250\")","v":0},{"$f":"INDIRECT($H$2&\"!L250\")","v":0},{"$f":"INDIRECT($H$2&\"!M250\")","v":0},{"$f":"INDIRECT($H$2&\"!N250\")","v":0},{"$f":"INDIRECT($H$2&\"!O250\")","v":0},{"$f":"INDIRECT($H$2&\"!P250\")","v":0},{"$f":"INDIRECT($H$2&\"!Q250\")","v":0},{"$f":"INDIRECT($H$2&\"!R250\")","v":0},{"$f":"INDIRECT($H$2&\"!S250\")","v":0},{"$f":"INDIRECT($H$2&\"!T250\")","v":0},{"$f":"INDIRECT($H$2&\"!U250\")","v":"00:00:00"},{"$f":"INDIRECT($H$2&\"!V250\")","v":0},"مدفوع"]
[null,null,null,null,null,null,null,null,null,null,null,null,null,null,null,null,null,null,null,null,null,null,"مدفوع"]
[null,null,null,null,null,null,null,null,null,null,null,null,null,null,null,null,null,null,null,null,null,null,"مدفوع"]
[null,null,null,null,null,null,null,null,null,null,null,null,null,null,null,null,null,null,null,null,null,null,"مدفوع"]
[null,null,null,null,null,null,null,null,null,null,null,null,null,null,null,null,null,null,null,null,null,null,"مدفوع"]
[null,null,null,null,null,null,null,null,null,null,null,null,null,null,null,null,null,null,null,null,null,null,"مدفوع"]
[null,null,null,null,null,null,null,null,null,null,null,null,null,null,null,null,null,null,null,null,null,null,"مدفوع"]
[null,null,null,null,null,null,null,null,null,null,null,null,null,null,null,null,null,null,null,null,null,null,"مدفوع"]
[null,null,null,null,null,null,null,null,null,null,null,null,null,null,null,null,null,null,null,null,null,null,"مدفوع"]
[null,null,null,null,null,null,null,null,null,null,null,null,null,null,null,null,null,null,null,null,null,null,"مدفوع"]
[null,null,null,null,null,null,null,null,null,null,null,null,null,null,null,null,null,null,null,null,null,null,"مدفوع"]
[null,null,null,null,null,null,null,null,null,null,null,null,null,null,null,null,null,null,null,null,null,null,{"$f":"IF(V264<=0,\"مدفوع\",\"غير مدفوع\")","v":"مدفوع"}]
[null,null,null,null,null,null,null,null,null,null,null,null,null,null,null,null,null,null,null,null,null,null,"مدفوع"]
[null,null,null,null,null,null,null,null,null,null,null,null,null,null,null,null,null,null,null,null,null,null,"مدفوع"]
[null,null,null,null,null,null,null,null,null,null,null,null,null,null,null,null,null,null,null,null,null,null,"مدفوع"]
[null,null,null,null,null,null,null,null,null,null,null,null,null,null,null,null,null,null,null,null,null,null,"مدفوع"]
[null,null,null,null,null,null,null,null,null,null,null,null,null,null,null,null,null,null,null,null,null,null,"مدفوع"]
[null,null,null,null,null,null,null,null,null,null,null,null,null,null,null,null,null,null,null,null,null,null,"مدفوع"]
[null,null,null,null,null,null,null,null,null,null,null,null,null,null,null,null,null,null,null,null,null,null,"مدفوع"]
[null,null,null,null,null,null,null,null,null,null,null,null,null,null,null,null,null,null,null,null,null,null,"مدفوع"]
[null,null,null,null,null,null,null,null,null,null,null,null,null,null,null,null,null,null,null,null,null,null,"مدفوع"]
[null,null,null,null,null,null,null,null,null,null,null,null,null,null,null,null,null,null,null,null,null,null,"مدفوع"]
[null,null,null,null,null,null,null,null,null,null,null,null,null,null,null,null,null,null,null,null,null,null,"مدفوع"]
[null,null,null,null,null,null,null,null,null,null,null,null,null,null,null,null,null,null,null,null,null,null,"مدفوع"]
[null,null,null,null,null,null,null,null,null,null,null,null,null,null,null,null,null,null,null,null,null,null,"مدفوع"]
[null,null,null,null,null,null,null,null,null,null,null,null,null,null,null,null,null,null,null,null,null,null,"مدفوع"]
[null,null,null,null,null,null,null,null,null,null,null,null,null,null,null,null,null,null,null,null,null,null,"مدفوع"]
[null,null,null,null,null,null,null,null,null,null,null,null,null,null,null,null,null,null,null,null,null,null,"مدفوع"]
[null,null,null,null,null,null,null,null,null,null,null,null,null,null,null,null,null,null,null,null,null,null,"مدفوع"]
[null,null,null,null,null,null,null,null,null,null,null,null,null,null,null,null,null,null,null,null,null,null,"مدفوع"]
[null,null,null,null,null,null,null,null,null,null,null,null,null,null,null,null,null,null,null,null,null,null,"مدفوع"]
[null,null,null,null,null,null,null,null,null,null,null,null,null,null,null,null,null,null,null,null,null,null,"مدفوع"]
[null,null,null,null,null,null,null,null,null,null,null,null,null,null,null,null,null,null,null,null,null,null,"مدفوع"]
[null,null,null,null,null,null,null,null,null,null,null,null,null,null,null,null,null,null,null,null,null,null,"مدفوع"]
[null,null,null,null,null,null,null,null,null,null,null,null,null,null,null,null,null,null,null,null,null,null,"مدفوع"]
[null,null,null,null,null,null,null,null,null,null,null,null,null,null,null,null,null,null,null,null,null,null,"مدفوع"]
[null,null,null,null,null,null,null,null,null,null,null,null,null,null,null,null,null,null,null,null,null,null,"مدفوع"]
[null,null,null,null,null,null,null,null,null,null,null,null,null,null,null,null,null,null,null,null,null,null,"مدفوع"]
[null,null,null,null,null,null,null,null,null,null,null,null,null,null,null,null,null,null,null,null,null,null,"مدفوع"]
[null,null,null,null,null,null,null,null,null,null,null,null,null,null,null,null,null,null,null,null,null,null,"مدفوع"]
[null,null,null,null,null,null,null,null,null,null,null,null,null,null,null,null,null,null,null,null,null,null,"مدفوع"]
[null,null,null,null,null,null,null,null,null,null,null,null,null,null,null,null,null,null,null,null,null,null,"مدفوع"]
[null,null,null,null,null,null,null,null,null,null,null,null,null,null,null,null,null,null,null,null,null,null,"مدفوع"]
[null,null,null,null,null,null,null,null,null,null,null,null,null,null,null,null,null,null,null,null,null,null,"مدفوع"]
[null,null,null,null,null,null,null,null,null,null,null,null,null,null,null,null,null,null,null,null,null,null,"مدفوع"]
[null,null,null,null,null,null,null,null,null,null,null,null,null,null,null,null,null,null,null,null,null,null,"مدفوع"]
[null,null,null,null,null,null,null,null,null,null,null,null,null,null,null,null,null,null,null,null,null,null,"مدفوع"]
[null,null,null,null,null,null,null,null,null,null,null,null,null,null,null,null,null,null,null,null,null,null,"مدفوع"]
[null,null,null,null,null,null,null,null,null,null,null,null,null,null,null,null,null,null,null,null,null,null,"مدفوع"]
[null,null,null,null,null,null,null,null,null,null,null,null,null,null,null,null,null,null,null,null,null,null,"مدفوع"]
[null,null,null,null,null,null,null,null,null,null,null,null,null,null,null,null,null,null,null,null,null,null,"مدفوع"]
[null,null,null,null,null,null,null,null,null,null,null,null,null,null,null,null,null,null,null,null,null,null,"مدفوع"]
[null,null,null,null,null,null,null,null,null,null,null,null,null,null,null,null,null,null,null,null,null,null,"مدفوع"]
[null,null,null,null,null,null,null,null,null,null,null,null,null,null,null,null,null,null,null,null,null,null,"مدفوع"]
[null,null,null,null,null,null,null,null,null,null,null,null,null,null,null,null,null,null,null,null,null,null,"مدفوع"]
[null,null,null,null,null,null,null,null,null,null,null,null,null,null,null,null,null,null,null,null,null,null,"مدفوع"]
[null,null,null,null,null,null,null,null,null,null,null,null,null,null,null,null,null,null,null,null,null,null,"مدفوع"]
[null,null,null,null,null,null,null,null,null,null,null,null,null,null,null,null,null,null,null,null,null,null,"مدفوع"]
[null,null,null,null,null,null,null,null,null,null,null,null,null,null,null,null,null,null,null,null,null,null,"مدفوع"]
[null,null,null,null,null,null,null,null,null,null,null,null,null,null,null,null,null,null,null,null,null,null,"مدفوع"]
[null,null,null,null,null,null,null,null,null,null,null,null,null,null,null,null,null,null,null,null,null,null,"مدفوع"]
[null,null,null,null,null,null,null,null,null,null,null,null,null,null,null,null,null,null,null,null,null,null,"مدفوع"]
[null,null,null,null,null,null,null,null,null,null,null,null,null,null,null,null,null,null,null,null,null,null,"مدفوع"]
[null,null,null,null,null,null,null,null,null,null,null,null,null,null,null,null,null,null,null,null,null,null,"مدفوع"]
[null,null,null,null,null,null,null,null,null,null,null,null,null,null,null,null,null,null,null,null,null,null,"مدفوع"]
[null,null,null,null,null,null,null,null,null,null,null,null,null,null,null,null,null,null,null,null,null,null,"مدفوع"]
[null,null,null,null,null,null,null,null,null,null,null,null,null,null,null,null,null,null,null,null,null,null,"مدفوع"]
[null,null,null,null,null,null,null,null,null,null,null,null,null,null,null,null,null,null,null,null,null,null,"مدفوع"]
[null,null,null,null,null,null,null,null,null,null,null,null,null,null,null,null,null,null,null,null,null,null,"مدفوع"]
[null,null,null,null,null,null,null,null,null,null,null,null,null,null,null,null,null,null,null,null,null,null,"مدفوع"]
[null,null,null,null,null,null,null,null,null,null,null,null,null,null,null,null,null,null,null,null,null,null,"مدفوع"]
[null,null,null,null,null,null,null,null,null,null,null,null,null,null,null,null,null,null,null,null,null,null,"مدفوع"]
[null,null,null,null,null,null,null,null,null,null,null,null,null,null,null,null,null,null,null,null,null,null,"مدفوع"]
[null,null,null,null,null,null,null,null,null,null,null,null,null,null,null,null,null,null,null,null,null,null,"مدفوع"]
[null,null,null,null,null,null,null,null,null,null,null,null,null,null,null,null,null,null,null,null,null,null,"مدفوع"]
[null,null,null,null,null,null,null,null,null,null,null,null,null,null,null,null,null,null,null,null,null,null,{"$f":"IF(V328<=0,\"مدفوع\",\"غير مدفوع\")","v":"مدفوع"}]
[null,null,null,null,null,null,null,null,null,null,null,null,null,null,null,null,null,null,null,null,null,null,"مدفوع"]
[null,null,null,null,null,null,null,null,null,null,null,null,null,null,null,null,null,null,null,null,null,null,"مدفوع"]
[null,null,null,null,null,null,null,null,null,null,null,null,null,null,null,null,null,null,null,null,null,null,"مدفوع"]
[null,null,null,null,null,null,null,null,null,null,null,null,null,null,null,null,null,null,null,null,null,null,"مدفوع"]
[null,null,null,null,null,null,null,null,null,null,null,null,null,null,null,null,null,null,null,null,null,null,"مدفوع"]
[null,null,null,null,null,null,null,null,null,null,null,null,null,null,null,null,null,null,null,null,null,null,"مدفوع"]
[null,null,null,null,null,null,null,null,null,null,null,null,null,null,null,null,null,null,null,null,null,null,"مدفوع"]
[null,null,null,null,null,null,null,null,null,null,null,null,null,null,null,null,null,null,null,null,null,null,"مدفوع"]
[null,null,null,null,null,null,null,null,null,null,null,null,null,null,null,null,null,null,null,null,null,null,"مدفوع"]
[null,null,null,null,null,null,null,null,null,null,null,null,null,null,null,null,null,null,null,null,null,null,"مدفوع"]
[null,null,null,null,null,null,null,null,null,null,null,null,null,null,null,null,null,null,null,null,null,null,"مدفوع"]
[null,null,null,null,null,null,null,null,null,null,null,null,null,null,null,null,null,null,null,null,null,null,"مدفوع"]
[null,null,null,null,null,null,null,null,null,null,null,null,null,null,null,null,null,null,null,null,null,null,"مدفوع"]
[null,null,null,null,null,null,null,null,null,null,null,null,null,null,null,null,null,null,null,null,null,null,"مدفوع"]
[null,null,null,null,null,null,null,null,null,null,null,null,null,null,null,null,null,null,null,null,null,null,"مدفوع"]
[null,null,null,null,null,null,null,null,null,null,null,null,null,null,null,null,null,null,null,null,null,null,"مدفوع"]
[null,null,null,null,null,null,null,null,null,null,null,null,null,null,null,null,null,null,null,null,null,null,"مدفوع"]
[null,null,null,null,null,null,null,null,null,null,null,null,null,null,null,null,null,null,null,null,null,null,"مدفوع"]
[null,null,null,null,null,null,null,null,null,null,null,null,null,null,null,null,null,null,null,null,null,null,"مدفوع"]
[null,null,null,null,null,null,null,null,null,null,null,null,null,null,null,null,null,null,null,null,null,null,"مدفوع"]
[null,null,null,null,null,null,null,null,null,null,null,null,null,null,null,null,null,null,null,null,null,null,"مدفوع"]
[null,null,null,null,null,null,null,null,null,null,null,null,null,null,null,null,null,null,null,null,null,null,"مدفوع"]
[null,null,null,null,null,null,null,null,null,null,null,null,null,null,null,null,null,null,null,null,null,null,"مدفوع"]
[null,null,null,null,null,null,null,null,null,null,null,null,null,null,null,null,null,null,null,null,null,null,"مدفوع"]
[null,null,null,null,null,null,null,null,null,null,null,null,null,null,null,null,null,null,null,null,null,null,"مدفوع"]
[null,null,null,null,null,null,null,null,null,null,null,null,null,null,null,null,null,null,null,null,null,null,"مدفوع"]
[null,null,null,null,null,null,null,null,null,null,null,null,null,null,null,null,null,null,null,null,null,null,"مدفوع"]
[null,null,null,null,null,null,null,null,null,null,null,null,null,null,null,null,null,null,null,null,null,null,"مدفوع"]
[null,null,null,null,null,null,null,null,null,null,null,null,null,null,null,null,null,null,null,null,null,null,"مدفوع"]
[null,null,null,null,null,null,null,null,null,null,null,null,null,null,null,null,null,null,null,null,null,null,"مدفوع"]
[null,null,null,null,null,null,null,null,null,null,null,null,null,null,null,null,null,null,null,null,null,null,"مدفوع"]
[null,null,null,null,null,null,null,null,null,null,null,null,null,null,null,null,null,null,null,null,null,null,"مدفوع"]
[null,null,null,null,null,null,null,null,null,null,null,null,null,null,null,null,null,null,null,null,null,null,"مدفوع"]
[null,null,null,null,null,null,null,null,null,null,null,null,null,null,null,null,null,null,null,null,null,null,"مدفوع"]
[null,null,null,null,null,null,null,null,null,null,null,null,null,null,null,null,null,null,null,null,null,null,"مدفوع"]
[null,null,null,null,null,null,null,null,null,null,null,null,null,null,null,null,null,null,null,null,null,null,"مدفوع"]
[null,null,null,null,null,null,null,null,null,null,null,null,null,null,null,null,null,null,null,null,null,null,"مدفوع"]
[null,null,null,null,null,null,null,null,null,null,null,null,null,null,null,null,null,null,null,null,null,null,"مدفوع"]
[null,null,null,null,null,null,null,null,null,null,null,null,null,null,null,null,null,null,null,null,null,null,"مدفوع"]
[null,null,null,null,null,null,null,null,null,null,null,null,null,null,null,null,null,null,null,null,null,null,"مدفوع"]
[null,null,null,null,null,null,null,null,null,null,null,null,null,null,null,null,null,null,null,null,null,null,"مدفوع"]
[null,null,null,null,null,null,null,null,null,null,null,null,null,null,null,null,null,null,null,null,null,null,"مدفوع"]
[null,null,null,null,null,null,null,null,null,null,null,null,null,null,null,null,null,null,null,null,null,null,"مدفوع"]
[null,null,null,null,null,null,null,null,null,null,null,null,null,null,null,null,null,null,null,null,null,null,"مدفوع"]
[null,null,null,null,null,null,null,null,null,null,null,null,null,null,null,null,null,null,null,null,null,null,"مدفوع"]
[null,null,null,null,null,null,null,null,null,null,null,null,null,null,null,null,null,null,null,null,null,null,"مدفوع"]
[null,null,null,null,null,null,null,null,null,null,null,null,null,null,null,null,null,null,null,null,null,null,"مدفوع"]
[null,null,null,null,null,null,null,null,null,null,null,null,null,null,null,null,null,null,null,null,null,null,"مدفوع"]
[null,null,null,null,null,null,null,null,null,null,null,null,null,null,null,null,null,null,null,null,null,null,"مدفوع"]
[null,null,null,null,null,null,null,null,null,null,null,null,null,null,null,null,null,null,null,null,null,null,"مدفوع"]
[null,null,null,null,null,null,null,null,null,null,null,null,null,null,null,null,null,null,null,null,null,null,"مدفوع"]
[null,null,null,null,null,null,null,null,null,null,null,null,null,null,null,null,null,null,null,null,null,null,"مدفوع"]
[null,null,null,null,null,null,null,null,null,null,null,null,null,null,null,null,null,null,null,null,null,null,"مدفوع"]
[null,null,null,null,null,null,null,null,null,null,null,null,null,null,null,null,null,null,null,null,null,null,"مدفوع"]
[null,null,null,null,null,null,null,null,null,null,null,null,null,null,null,null,null,null,null,null,null,null,"مدفوع"]
[null,null,null,null,null,null,null,null,null,null,null,null,null,null,null,null,null,null,null,null,null,null,"مدفوع"]
[null,null,null,null,null,null,null,null,null,null,null,null,null,null,null,null,null,null,null,null,null,null,"مدفوع"]
[null,null,null,null,null,null,null,null,null,null,null,null,null,null,null,null,null,null,null,null,null,null,"مدفوع"]
[null,null,null,null,null,null,null,null,null,null,null,null,null,null,null,null,null,null,null,null,null,null,"مدفوع"]
[null,null,null,null,null,null,null,null,null,null,null,null,null,null,null,null,null,null,null,null,null,null,"مدفوع"]
[null,null,null,null,null,null,null,null,null,null,null,null,null,null,null,null,null,null,null,null,null,null,"مدفوع"]
[null,null,null,null,null,null,null,null,null,null,null,null,null,null,null,null,null,null,null,null,null,null,"مدفوع"]
[null,null,null,null,null,null,null,null,null,null,null,null,null,null,null,null,null,null,null,null,null,null,"مدفوع"]
[null,null,null,null,null,null,null,null,null,null,null,null,null,null,null,null,null,null,null,null,null,null,{"$f":"IF(V392<=0,\"مدفوع\",\"غير مدفوع\")","v":"مدفوع"}]
[null,null,null,null,null,null,null,null,null,null,null,null,null,null,null,null,null,null,null,null,null,null,"مدفوع"]
[null,null,null,null,null,null,null,null,null,null,null,null,null,null,null,null,null,null,null,null,null,null,"مدفوع"]
[null,null,null,null,null,null,null,null,null,null,null,null,null,null,null,null,null,null,null,null,null,null,"مدفوع"]
[null,null,null,null,null,null,null,null,null,null,null,null,null,null,null,null,null,null,null,null,null,null,"مدفوع"]
[null,null,null,null,null,null,null,null,null,null,null,null,null,null,null,null,null,null,null,null,null,null,"مدفوع"]
[null,null,null,null,null,null,null,null,null,null,null,null,null,null,null,null,null,null,null,null,null,null,"مدفوع"]
[null,null,null,null,null,null,null,null,null,null,null,null,null,null,null,null,null,null,null,null,null,null,"مدفوع"]
[null,null,null,null,null,null,null,null,null,null,null,null,null,null,null,null,null,null,null,null,null,null,"مدفوع"]
[null,null,null,null,null,null,null,null,null,null,null,null,null,null,null,null,null,null,null,null,null,null,"مدفوع"]
[null,null,null,null,null,null,null,null,null,null,null,null,null,null,null,null,null,null,null,null,null,null,"مدفوع"]
[null,null,null,null,null,null,null,null,null,null,null,null,null,null,null,null,null,null,null,null,null,null,"مدفوع"]
[null,null,null,null,null,null,null,null,null,null,null,null,null,null,null,null,null,null,null,null,null,null,"مدفوع"]
[null,null,null,null,null,null,null,null,null,null,null,null,null,null,null,null,null,null,null,null,null,null,"مدفوع"]
[null,null,null,null,null,null,null,null,null,null,null,null,null,null,null,null,null,null,null,null,null,null,"مدفوع"]
[null,null,null,null,null,null,null,null,null,null,null,null,null,null,null,null,null,null,null,null,null,null,"مدفوع"]
[null,null,null,null,null,null,null,null,null,null,null,null,null,null,null,null,null,null,null,null,null,null,"مدفوع"]
[null,null,null,null,null,null,null,null,null,null,null,null,null,null,null,null,null,null,null,null,null,null,"مدفوع"]
[null,null,null,null,null,null,null,null,null,null,null,null,null,null,null,null,null,null,null,null,null,null,"مدفوع"]
[null,null,null,null,null,null,null,null,null,null,null,null,null,null,null,null,null,null,null,null,null,null,"مدفوع"]
[null,null,null,null,null,null,null,null,null,null,null,null,null,null,null,null,null,null,null,null,null,null,"مدفوع"]
[null,null,null,null,null,null,null,null,null,null,null,null,null,null,null,null,null,null,null,null,null,null,"مدفوع"]
[null,null,null,null,null,null,null,null,null,null,null,null,null,null,null,null,null,null,null,null,null,null,"مدفوع"]
[null,null,null,null,null,null,null,null,null,null,null,null,null,null,null,null,null,null,null,null,null,null,"مدفوع"]
[null,null,null,null,null,null,null,null,null,null,null,null,null,null,null,null,null,null,null,null,null,null,"مدفوع"]
[null,null,null,null,null,null,null,null,null,null,null,null,null,null,null,null,null,null,null,null,null,null,"مدفوع"]
[null,null,null,null,null,null,null,null,null,null,null,null,null,null,null,null,null,null,null,null,null,null,"مدفوع"]
[null,null,null,null,null,null,null,null,null,null,null,null,null,null,null,null,null,null,null,null,null,null,"مدفوع"]
[null,null,null,null,null,null,null,null,null,null,null,null,null,null,null,null,null,null,null,null,null,null,"مدفوع"]
[null,null,null,null,null,null,null,null,null,null,null,null,null,null,null,null,null,null,null,null,null,null,"مدفوع"]
[null,null,null,null,null,null,null,null,null,null,null,null,null,null,null,null,null,null,null,null,null,null,"مدفوع"]
[null,null,null,null,null,null,null,null,null,null,null,null,null,null,null,null,null,null,null,null,null,null,"مدفوع"]
[null,null,null,null,null,null,null,null,null,null,null,null,null,null,null,null,null,null,null,null,null,null,"مدفوع"]
[null,null,null,null,null,null,null,null,null,null,null,null,null,null,null,null,null,null,null,null,null,null,"مدفوع"]
[null,null,null,null,null,null,null,null,null,null,null,null,null,null,null,null,null,null,null,null,null,null,"مدفوع"]
[null,null,null,null,null,null,null,null,null,null,null,null,null,null,null,null,null,null,null,null,null,null,"مدفوع"]
[null,null,null,null,null,null,null,null,null,null,null,null,null,null,null,null,null,null,null,null,null,null,"مدفوع"]
[null,null,null,null,null,null,null,null,null,null,null,null,null,null,null,null,null,null,null,null,null,null,"مدفوع"]
[null,null,null,null,null,null,null,null,null,null,null,null,null,null,null,null,null,null,null,null,null,null,"مدفوع"]
[null,null,null,null,null,null,null,null,null,null,null,null,null,null,null,null,null,null,null,null,null,null,"مدفوع"]
[null,null,null,null,null,null,null,null,null,null,null,null,null,null,null,null,null,null,null,null,null,null,"مدفوع"]
[null,null,null,null,null,null,null,null,null,null,null,null,null,null,null,null,null,null,null,null,null,null,"مدفوع"]
[null,null,null,null,null,null,null,null,null,null,null,null,null,null,null,null,null,null,null,null,null,null,"مدفوع"]
[null,null,null,null,null,null,null,null,null,null,null,null,null,null,null,null,null,null,null,null,null,null,"مدفوع"]
[null,null,null,null,null,null,null,null,null,null,null,null,null,null,null,null,null,null,null,null,null,null,"مدفوع"]
[null,null,null,null,null,null,null,null,null,null,null,null,null,null,null,null,null,null,null,null,null,null,"مدفوع"]
[null,null,null,null,null,null,null,null,null,null,null,null,null,null,null,null,null,null,null,null,null,null,"مدفوع"]
[null,null,null,null,null,null,null,null,null,null,null,null,null,null,null,null,null,null,null,null,null,null,"مدفوع"]
[null,null,null,null,null,null,null,null,null,null,null,null,null,null,null,null,null,null,null,null,null,null,"مدفوع"]
[null,null,null,null,null,null,null,null,null,null,null,null,null,null,null,null,null,null,null,null,null,null,"مدفوع"]
[null,null,null,null,null,null,null,null,null,null,null,null,null,null,null,null,null,null,null,null,null,null,"مدفوع"]
[null,null,null,null,null,null,null,null,null,null,null,null,null,null,null,null,null,null,null,null,null,null,"مدفوع"]
[null,null,null,null,null,null,null,null,null,null,null,null,null,null,null,null,null,null,null,null,null,null,"مدفوع"]
[null,null,null,null,null,null,null,null,null,null,null,null,null,null,null,null,null,null,null,null,null,null,"مدفوع"]
[null,null,null,null,null,null,null,null,null,null,null,null,null,null,null,null,null,null,null,null,null,null,"مدفوع"]
[null,null,null,null,null,null,null,null,null,null,null,null,null,null,null,null,null,null,null,null,null,null,"مدفوع"]
[null,null,null,null,null,null,null,null,null,null,null,null,null,null,null,null,null,null,null,null,null,null,"مدفوع"]
[null,null,null,null,null,null,null,null,null,null,null,null,null,null,null,null,null,null,null,null,null,null,"مدفوع"]
[null,null,null,null,null,null,null,null,null,null,null,null,null,null,null,null,null,null,null,null,null,null,"مدفوع"]
[null,null,null,null,null,null,null,null,null,null,null,null,null,null,null,null,null,null,null,null,null,null,"مدفوع"]
[null,null,null,null,null,null,null,null,null,null,null,null,null,null,null,null,null,null,null,null,null,null,"مدفوع"]
[null,null,null,null,null,null,null,null,null,null,null,null,null,null,null,null,null,null,null,null,null,null,"مدفوع"]
[null,null,null,null,null,null,null,null,null,null,null,null,null,null,null,null,null,null,null,null,null,null,"مدفوع"]
[null,null,null,null,null,null,null,null,null,null,null,null,null,null,null,null,null,null,null,null,null,null,"مدفوع"]
[null,null,null,null,null,null,null,null,null,null,null,null,null,null,null,null,null,null,null,null,null,null,{"$f":"IF(V456<=0,\"مدفوع\",\"غير مدفوع\")","v":"مدفوع"}]
[null,null,null,null,null,null,null,null,null,null,null,null,null,null,null,null,null,null,null,null,null,null,"مدفوع"]
[null,null,null,null,null,null,null,null,null,null,null,null,null,null,null,null,null,null,null,null,null,null,"مدفوع"]
[null,null,null,null,null,null,null,null,null,null,null,null,null,null,null,null,null,null,null,null,null,null,"مدفوع"]
[null,null,null,null,null,null,null,null,null,null,null,null,null,null,null,null,null,null,null,null,null,null,"مدفوع"]
[null,null,null,null,null,null,null,null,null,null,null,null,null,null,null,null,null,null,null,null,null,null,"مدفوع"]
[null,null,null,null,null,null,null,null,null,null,null,null,null,null,null,null,null,null,null,null,null,null,"مدفوع"]
[null,null,null,null,null,null,null,null,null,null,null,null,null,null,null,null,null,null,null,null,null,null,"مدفوع"]
[null,null,null,null,null,null,null,null,null,null,null,null,null,null,null,null,null,null,null,null,null,null,"مدفوع"]
[null,null,null,null,null,null,null,null,null,null,null,null,null,null,null,null,null,null,null,null,null,null,"مدفوع"]
[null,null,null,null,null,null,null,null,null,null,null,null,null,null,null,null,null,null,null,null,null,null,"مدفوع"]
[null,null,null,null,null,null,null,null,null,null,null,null,null,null,null,null,null,null,null,null,null,null,"مدفوع"]
[null,null,null,null,null,null,null,null,null,null,null,null,null,null,null,null,null,null,null,null,null,null,"مدفوع"]
[null,null,null,null,null,null,null,null,null,null,null,null,null,null,null,null,null,null,null,null,null,null,"مدفوع"]
[null,null,null,null,null,null,null,null,null,null,null,null,null,null,null,null,null,null,null,null,null,null,"مدفوع"]
[null,null,null,null,null,null,null,null,null,null,null,null,null,null,null,null,null,null,null,null,null,null,"مدفوع"]
[null,null,null,null,null,null,null,null,null,null,null,null,null,null,null,null,null,null,null,null,null,null,"مدفوع"]
[null,null,null,null,null,null,null,null,null,null,null,null,null,null,null,null,null,null,null,null,null,null,"مدفوع"]
[null,null,null,null,null,null,null,null,null,null,null,null,null,null,null,null,null,null,null,null,null,null,"مدفوع"]
[null,null,null,null,null,null,null,null,null,null,null,null,null,null,null,null,null,null,null,null,null,null,"مدفوع"]
[null,null,null,null,null,null,null,null,null,null,null,null,null,null,null,null,null,null,null,null,null,null,"مدفوع"]
[null,null,null,null,null,null,null,null,null,null,null,null,null,null,null,null,null,null,null,null,null,null,"مدفوع"]
[null,null,null,null,null,null,null,null,null,null,null,null,null,null,null,null,null,null,null,null,null,null,"مدفوع"]
[null,null,null,null,null,null,null,null,null,null,null,null,null,null,null,null,null,null,null,null,null,null,"مدفوع"]
[null,null,null,null,null,null,null,null,null,null,null,null,null,null,null,null,null,null,null,null,null,null,"مدفوع"]
[null,null,null,null,null,null,null,null,null,null,null,null,null,null,null,null,null,null,null,null,null,null,"مدفوع"]
[null,null,null,null,null,null,null,null,null,null,null,null,null,null,null,null,null,null,null,null,null,null,"مدفوع"]
[null,null,null,null,null,null,null,null,null,null,null,null,null,null,null,null,null,null,null,null,null,null,"مدفوع"]
[null,null,null,null,null,null,null,null,null,null,null,null,null,null,null,null,null,null,null,null,null,null,"مدفوع"]
[null,null,null,null,null,null,null,null,null,null,null,null,null,null,null,null,null,null,null,null,null,null,"مدفوع"]
[null,null,null,null,null,null,null,null,null,null,null,null,null,null,null,null,null,null,null,null,null,null,"مدفوع"]
[null,null,null,null,null,null,null,null,null,null,null,null,null,null,null,null,null,null,null,null,null,null,"مدفوع"]
[null,null,null,null,null,null,null,null,null,null,null,null,null,null,null,null,null,null,null,null,null,null,"مدفوع"]
[null,null,null,null,null,null,null,null,null,null,null,null,null,null,null,null,null,null,null,null,null,null,"مدفوع"]
[null,null,null,null,null,null,null,null,null,null,null,null,null,null,null,null,null,null,null,null,null,null,"مدفوع"]
[null,null,null,null,null,null,null,null,null,null,null,null,null,null,null,null,null,null,null,null,null,null,"مدفوع"]
[null,null,null,null,null,null,null,null,null,null,null,null,null,null,null,null,null,null,null,null,null,null,"مدفوع"]
[null,null,null,null,null,null,null,null,null,null,null,null,null,null,null,null,null,null,null,null,null,null,"مدفوع"]
[null,null,null,null,null,null,null,null,null,null,null,null,null,null,null,null,null,null,null,null,null,null,"مدفوع"]
[null,null,null,null,null,null,null,null,null,null,null,null,null,null,null,null,null,null,null,null,null,null,"مدفوع"]
[null,null,null,null,null,null,null,null,null,null,null,null,null,null,null,null,null,null,null,null,null,null,"مدفوع"]
[null,null,null,null,null,null,null,null,null,null,null,null,null,null,null,null,null,null,null,null,null,null,"مدفوع"]
[null,null,null,null,null,null,null,null,null,null,null,null,null,null,null,null,null,null,null,null,null,null,"مدفوع"]
[null,null,null,null,null,null,null,null,null,null,null,null,null,null,null,null,null,null,null,null,null,null,"مدفوع"]
[null,null,null,null,null,null,null,null,null,null,null,null,null,null,null,null,null,null,null,null,null,null,"مدفوع"]
[null,null,null,null,null,null,null,null,null,null,null,null,null,null,null,null,null,null,null,null,null,null,"مدفوع"]
[null,null,null,null,null,null,null,null,null,null,null,null,null,null,null,null,null,null,null,null,null,null,"مدفوع"]
[null,null,null,null,null,null,null,null,null,null,null,null,null,null,null,null,null,null,null,null,null,null,"مدفوع"]
[null,null,null,null,null,null,null,null,null,null,null,null,null,null,null,null,null,null,null,null,null,null,"مدفوع"]
[null,null,null,null,null,null,null,null,null,null,null,null,null,null,null,null,null,null,null,null,null,null,"مدفوع"]
[null,null,null,null,null,null,null,null,null,null,null,null,null,null,null,null,null,null,null,null,null,null,"مدفوع"]
[null,null,null,null,null,null,null,null,null,null,null,null,null,null,null,null,null,null,null,null,null,null,"مدفوع"]
[null,null,null,null,null,null,null,null,null,null,null,null,null,null,null,null,null,null,null,null,null,null,"مدفوع"]
[null,null,null,null,null,null,null,null,null,null,null,null,null,null,null,null,null,null,null,null,null,null,"مدفوع"]
[null,null,null,null,null,null,null,null,null,null,null,null,null,null,null,null,null,null,null,null,null,null,"مدفوع"]
[null,null,null,null,null,null,null,null,null,null,null,null,null,null,null,null,null,null,null,null,null,null,"مدفوع"]
[null,null,null,null,null,null,null,null,null,null,null,null,null,null,null,null,null,null,null,null,null,null,"مدفوع"]
[null,null,null,null,null,null,null,null,null,null,null,null,null,null,null,null,null,null,null,null,null,null,"مدفوع"]
[null,null,null,null,null,null,null,null,null,null,null,null,null,null,null,null,null,null,null,null,null,null,"مدفوع"]
[null,null,null,null,null,null,null,null,null,null,null,null,null,null,null,null,null,null,null,null,null,null,"مدفوع"]
[null,null,null,null,null,null,null,null,null,null,null,null,null,null,null,null,null,null,null,null,null,null,"مدفوع"]
[null,null,null,null,null,null,null,null,null,null,null,null,null,null,null,null,null,null,null,null,null,null,"مدفوع"]
[null,null,null,null,null,null,null,null,null,null,null,null,null,null,null,null,null,null,null,null,null,null,"مدفوع"]
[null,null,null,null,null,null,null,null,null,null,null,null,null,null,null,null,null,null,null,null,null,null,"مدفوع"]
[null,null,null,null,null,null,null,null,null,null,null,null,null,null,null,null,null,null,null,null,null,null,{"$f":"IF(V520<=0,\"مدفوع\",\"غير مدفوع\")","v":"مدفوع"}]
[null,null,null,null,null,null,null,null,null,null,null,null,null,null,null,null,null,null,null,null,null,null,"مدفوع"]
[null,null,null,null,null,null,null,null,null,null,null,null,null,null,null,null,null,null,null,null,null,null,"مدفوع"]
[null,null,null,null,null,null,null,null,null,null,null,null,null,null,null,null,null,null,null,null,null,null,"مدفوع"]
[null,null,null,null,null,null,null,null,null,null,null,null,null,null,null,null,null,null,null,null,null,null,"مدفوع"]
[null,null,null,null,null,null,null,null,null,null,null,null,null,null,null,null,null,null,null,null,null,null,"مدفوع"]
[null,null,null,null,null,null,null,null,null,null,null,null,null,null,null,null,null,null,null,null,null,null,"مدفوع"]
[null,null,null,null,null,null,null,null,null,null,null,null,null,null,null,null,null,null,null,null,null,null,"مدفوع"]
[null,null,null,null,null,null,null,null,null,null,null,null,null,null,null,null,null,null,null,null,null,null,"مدفوع"]
[null,null,null,null,null,null,null,null,null,null,null,null,null,null,null,null,null,null,null,null,null,null,"مدفوع"]
[null,null,null,null,null,null,null,null,null,null,null,null,null,null,null,null,null,null,null,null,null,null,"مدفوع"]
[null,null,null,null,null,null,null,null,null,null,null,null,null,null,null,null,null,null,null,null,null,null,"مدفوع"]
[null,null,null,null,null,null,null,null,null,null,null,null,null,null,null,null,null,null,null,null,null,null,"مدفوع"]
[null,null,null,null,null,null,null,null,null,null,null,null,null,null,null,null,null,null,null,null,null,null,"مدفوع"]
[null,null,null,null,null,null,null,null,null,null,null,null,null,null,null,null,null,null,null,null,null,null,"مدفوع"]
[null,null,null,null,null,null,null,null,null,null,null,null,null,null,null,null,null,null,null,null,null,null,"مدفوع"]
[null,null,null,null,null,null,null,null,null,null,null,null,null,null,null,null,null,null,null,null,null,null,"مدفوع"]
[null,null,null,null,null,null,null,null,null,null,null,null,null,null,null,null,null,null,null,null,null,null,"مدفوع"]
[null,null,null,null,null,null,null,null,null,null,null,null,null,null,null,null,null,null,null,null,null,null,"مدفوع"]
[null,null,null,null,null,null,null,null,null,null,null,null,null,null,null,null,null,null,null,null,null,null,"مدفوع"]
[null,null,null,null,null,null,null,null,null,null,null,null,null,null,null,null,null,null,null,null,null,null,"مدفوع"]
[null,null,null,null,null,null,null,null,null,null,null,null,null,null,null,null,null,null,null,null,null,null,"مدفوع"]
[null,null,null,null,null,null,null,null,null,null,null,null,null,null,null,null,null,null,null,null,null,null,"مدفوع"]
[null,null,null,null,null,null,null,null,null,null,null,null,null,null,null,null,null,null,null,null,null,null,"مدفوع"]
[null,null,null,null,null,null,null,null,null,null,null,null,null,null,null,null,null,null,null,null,null,null,"مدفوع"]
[null,null,null,null,null,null,null,null,null,null,null,null,null,null,null,null,null,null,null,null,null,null,"مدفوع"]
[null,null,null,null,null,null,null,null,null,null,null,null,null,null,null,null,null,null,null,null,null,null,"مدفوع"]
[null,null,null,null,null,null,null,null,null,null,null,null,null,null,null,null,null,null,null,null,null,null,"مدفوع"]
[null,null,null,null,null,null,null,null,null,null,null,null,null,null,null,null,null,null,null,null,null,null,"مدفوع"]
[null,null,null,null,null,null,null,null,null,null,null,null,null,null,null,null,null,null,null,null,null,null,"مدفوع"]
[null,null,null,null,null,null,null,null,null,null,null,null,null,null,null,null,null,null,null,null,null,null,"مدفوع"]
[null,null,null,null,null,null,null,null,null,null,null,null,null,null,null,null,null,null,null,null,null,null,"مدفوع"]
[null,null,null,null,null,null,null,null,null,null,null,null,null,null,null,null,null,null,null,null,null,null,"مدفوع"]
[null,null,null,null,null,null,null,null,null,null,null,null,null,null,null,null,null,null,null,null,null,null,"مدفوع"]
[null,null,null,null,null,null,null,null,null,null,null,null,null,null,null,null,null,null,null,null,null,null,"مدفوع"]
[null,null,null,null,null,null,null,null,null,null,null,null,null,null,null,null,null,null,null,null,null,null,"مدفوع"]
[null,null,null,null,null,null,null,null,null,null,null,null,null,null,null,null,null,null,null,null,null,null,"مدفوع"]
[null,null,null,null,null,null,null,null,null,null,null,null,null,null,null,null,null,null,null,null,null,null,"مدفوع"]
[null,null,null,null,null,null,null,null,null,null,null,null,null,null,null,null,null,null,null,null,null,null,"مدفوع"]
[null,null,null,null,null,null,null,null,null,null,null,null,null,null,null,null,null,null,null,null,null,null,"مدفوع"]
[null,null,null,null,null,null,null,null,null,null,null,null,null,null,null,null,null,null,null,null,null,null,"مدفوع"]
[null,null,null,null,null,null,null,null,null,null,null,null,null,null,null,null,null,null,null,null,null,null,"مدفوع"]
[null,null,null,null,null,null,null,null,null,null,null,null,null,null,null,null,null,null,null,null,null,null,"مدفوع"]
[null,null,null,null,null,null,null,null,null,null,null,null,null,null,null,null,null,null,null,null,null,null,"مدفوع"]
[null,null,null,null,null,null,null,null,null,null,null,null,null,null,null,null,null,null,null,null,null,null,"مدفوع"]
[null,null,null,null,null,null,null,null,null,null,null,null,null,null,null,null,null,null,null,null,null,null,"مدفوع"]
[null,null,null,null,null,null,null,null,null,null,null,null,null,null,null,null,null,null,null,null,null,null,"مدفوع"]
[null,null,null,null,null,null,null,null,null,null,null,null,null,null,null,null,null,null,null,null,null,null,"مدفوع"]
[null,null,null,null,null,null,null,null,null,null,null,null,null,null,null,null,null,null,null,null,null,null,"مدفوع"]
[null,null,null,null,null,null,null,null,null,null,null,null,null,null,null,null,null,null,null,null,null,null,"مدفوع"]
[null,null,null,null,null,null,null,null,null,null,null,null,null,null,null,null,null,null,null,null,null,null,"مدفوع"]
[null,null,null,null,null,null,null,null,null,null,null,null,null,null,null,null,null,null,null,null,null,null,"مدفوع"]
[null,null,null,null,null,null,null,null,null,null,null,null,null,null,null,null,null,null,null,null,null,null,"مدفوع"]
[null,null,null,null,null,null,null,null,null,null,null,null,null,null,null,null,null,null,null,null,null,null,"مدفوع"]
[null,null,null,null,null,null,null,null,null,null,null,null,null,null,null,null,null,null,null,null,null,null,"مدفوع"]
[null,null,null,null,null,null,null,null,null,null,null,null,null,null,null,null,null,null,null,null,null,null,"مدفوع"]
[null,null,null,null,null,null,null,null,null,null,null,null,null,null,null,null,null,null,null,null,null,null,"مدفوع"]
[null,null,null,null,null,null,null,null,null,null,null,null,null,null,null,null,null,null,null,null,null,null,"مدفوع"]
[null,null,null,null,null,null,null,null,null,null,null,null,null,null,null,null,null,null,null,null,null,null,"مدفوع"]
[null,null,null,null,null,null,null,null,null,null,null,null,null,null,null,null,null,null,null,null,null,null,"مدفوع"]
[null,null,null,null,null,null,null,null,null,null,null,null,null,null,null,null,null,null,null,null,null,null,"مدفوع"]
[null,null,null,null,null,null,null,null,null,null,null,null,null,null,null,null,null,null,null,null,null,null,"مدفوع"]
[null,null,null,null,null,null,null,null,null,null,null,null,null,null,null,null,null,null,null,null,null,null,"مدفوع"]
[null,null,null,null,null,null,null,null,null,null,null,null,null,null,null,null,null,null,null,null,null,null,"مدفوع"]
[null,null,null,null,null,null,null,null,null,null,null,null,null,null,null,null,null,null,null,null,null,null,{"$f":"IF(V584<=0,\"مدفوع\",\"غير مدفوع\")","v":"مدفوع"}]
[null,null,null,null,null,null,null,null,null,null,null,null,null,null,null,null,null,null,null,null,null,null,"مدفوع"]
[null,null,null,null,null,null,null,null,null,null,null,null,null,null,null,null,null,null,null,null,null,null,"مدفوع"]
[null,null,null,null,null,null,null,null,null,null,null,null,null,null,null,null,null,null,null,null,null,null,"مدفوع"]
[null,null,null,null,null,null,null,null,null,null,null,null,null,null,null,null,null,null,null,null,null,null,"مدفوع"]
[null,null,null,null,null,null,null,null,null,null,null,null,null,null,null,null,null,null,null,null,null,null,"مدفوع"]
[null,null,null,null,null,null,null,null,null,null,null,null,null,null,null,null,null,null,null,null,null,null,"مدفوع"]
[null,null,null,null,null,null,null,null,null,null,null,null,null,null,null,null,null,null,null,null,null,null,"مدفوع"]
[null,null,null,null,null,null,null,null,null,null,null,null,null,null,null,null,null,null,null,null,null,null,"مدفوع"]
[null,null,null,null,null,null,null,null,null,null,null,null,null,null,null,null,null,null,null,null,null,null,"مدفوع"]
[null,null,null,null,null,null,null,null,null,null,null,null,null,null,null,null,null,null,null,null,null,null,"مدفوع"]
[null,null,null,null,null,null,null,null,null,null,null,null,null,null,null,null,null,null,null,null,null,null,"مدفوع"]
[null,null,null,null,null,null,null,null,null,null,null,null,null,null,null,null,null,null,null,null,null,null,"مدفوع"]
[null,null,null,null,null,null,null,null,null,null,null,null,null,null,null,null,null,null,null,null,null,null,"مدفوع"]
[null,null,null,null,null,null,null,null,null,null,null,null,null,null,null,null,null,null,null,null,null,null,"مدفوع"]
[null,null,null,null,null,null,null,null,null,null,null,null,null,null,null,null,null,null,null,null,null,null,"مدفوع"]
[null,null,null,null,null,null,null,null,null,null,null,null,null,null,null,null,null,null,null,null,null,null,"مدفوع"]
[null,null,null,null,null,null,null,null,null,null,null,null,null,null,null,null,null,null,null,null,null,null,"مدفوع"]
[null,null,null,null,null,null,null,null,null,null,null,null,null,null,null,null,null,null,null,null,null,null,"مدفوع"]
[null,null,null,null,null,null,null,null,null,null,null,null,null,null,null,null,null,null,null,null,null,null,"مدفوع"]
[null,null,null,null,null,null,null,null,null,null,null,null,null,null,null,null,null,null,null,null,null,null,"مدفوع"]
[null,null,null,null,null,null,null,null,null,null,null,null,null,null,null,null,null,null,null,null,null,null,"مدفوع"]
[null,null,null,null,null,null,null,null,null,null,null,null,null,null,null,null,null,null,null,null,null,null,"مدفوع"]
[null,null,null,null,null,null,null,null,null,null,null,null,null,null,null,null,null,null,null,null,null,null,"مدفوع"]
[null,null,null,null,null,null,null,null,null,null,null,null,null,null,null,null,null,null,null,null,null,null,"مدفوع"]
[null,null,null,null,null,null,null,null,null,null,null,null,null,null,null,null,null,null,null,null,null,null,"مدفوع"]
[null,null,null,null,null,null,null,null,null,null,null,null,null,null,null,null,null,null,null,null,null,null,"مدفوع"]
[null,null,null,null,null,null,null,null,null,null,null,null,null,null,null,null,null,null,null,null,null,null,"مدفوع"]
[null,null,null,null,null,null,null,null,null,null,null,null,null,null,null,null,null,null,null,null,null,null,"مدفوع"]
[null,null,null,null,null,null,null,null,null,null,null,null,null,null,null,null,null,null,null,null,null,null,"مدفوع"]
[null,null,null,null,null,null,null,null,null,null,null,null,null,null,null,null,null,null,null,null,null,null,"مدفوع"]
[null,null,null,null,null,null,null,null,null,null,null,null,null,null,null,null,null,null,null,null,null,null,"مدفوع"]
[null,null,null,null,null,null,null,null,null,null,null,null,null,null,null,null,null,null,null,null,null,null,"مدفوع"]
[null,null,null,null,null,null,null,null,null,null,null,null,null,null,null,null,null,null,null,null,null,null,"مدفوع"]
[null,null,null,null,null,null,null,null,null,null,null,null,null,null,null,null,null,null,null,null,null,null,"مدفوع"]
[null,null,null,null,null,null,null,null,null,null,null,null,null,null,null,null,null,null,null,null,null,null,"مدفوع"]
[null,null,null,null,null,null,null,null,null,null,null,null,null,null,null,null,null,null,null,null,null,null,"مدفوع"]
[null,null,null,null,null,null,null,null,null,null,null,null,null,null,null,null,null,null,null,null,null,null,"مدفوع"]
[null,null,null,null,null,null,null,null,null,null,null,null,null,null,null,null,null,null,null,null,null,null,"مدفوع"]
[null,null,null,null,null,null,null,null,null,null,null,null,null,null,null,null,null,null,null,null,null,null,"مدفوع"]
[null,null,null,null,null,null,null,null,null,null,null,null,null,null,null,null,null,null,null,null,null,null,"مدفوع"]
[null,null,null,null,null,null,null,null,null,null,null,null,null,null,null,null,null,null,null,null,null,null,"مدفوع"]
[null,null,null,null,null,null,null,null,null,null,null,null,null,null,null,null,null,null,null,null,null,null,"مدفوع"]
[null,null,null,null,null,null,null,null,null,null,null,null,null,null,null,null,null,null,null,null,null,null,"مدفوع"]
[null,null,null,null,null,null,null,null,null,null,null,null,null,null,null,null,null,null,null,null,null,null,"مدفوع"]
[null,null,null,null,null,null,null,null,null,null,null,null,null,null,null,null,null,null,null,null,null,null,"مدفوع"]
[null,null,null,null,null,null,null,null,null,null,null,null,null,null,null,null,null,null,null,null,null,null,"مدفوع"]
[null,null,null,null,null,null,null,null,null,null,null,null,null,null,null,null,null,null,null,null,null,null,"مدفوع"]
[null,null,null,null,null,null,null,null,null,null,null,null,null,null,null,null,null,null,null,null,null,null,"مدفوع"]
[null,null,null,null,null,null,null,null,null,null,null,null,null,null,null,null,null,null,null,null,null,null,"مدفوع"]
[null,null,null,null,null,null,null,null,null,null,null,null,null,null,null,null,null,null,null,null,null,null,"مدفوع"]
[null,null,null,null,null,null,null,null,null,null,null,null,null,null,null,null,null,null,null,null,null,null,"مدفوع"]
[null,null,null,null,null,null,null,null,null,null,null,null,null,null,null,null,null,null,null,null,null,null,"مدفوع"]
[null,null,null,null,null,null,null,null,null,null,null,null,null,null,null,null,null,null,null,null,null,null,"مدفوع"]
[null,null,null,null,null,null,null,null,null,null,null,null,null,null,null,null,null,null,null,null,null,null,"مدفوع"]
[null,null,null,null,null,null,null,null,null,null,null,null,null,null,null,null,null,null,null,null,null,null,"مدفوع"]
[null,null,null,null,null,null,null,null,null,null,null,null,null,null,null,null,null,null,null,null,null,null,"مدفوع"]
[null,null,null,null,null,null,null,null,null,null,null,null,null,null,null,null,null,null,null,null,null,null,"مدفوع"]
[null,null,null,null,null,null,null,null,null,null,null,null,null,null,null,null,null,null,null,null,null,null,"مدفوع"]
[null,null,null,null,null,null,null,null,null,null,null,null,null,null,null,null,null,null,null,null,null,null,"مدفوع"]
[null,null,null,null,null,null,null,null,null,null,null,null,null,null,null,null,null,null,null,null,null,null,"مدفوع"]
[null,null,null,null,null,null,null,null,null,null,null,null,null,null,null,null,null,null,null,null,null,null,"مدفوع"]
[null,null,null,null,null,null,null,null,null,null,null,null,null,null,null,null,null,null,null,null,null,null,"مدفوع"]
[null,null,null,null,null,null,null,null,null,null,null,null,null,null,null,null,null,null,null,null,null,null,"مدفوع"]
[null,null,null,null,null,null,null,null,null,null,null,null,null,null,null,null,null,null,null,null,null,null,{"$f":"IF(V648<=0,\"مدفوع\",\"غير مدفوع\")","v":"مدفوع"}]
[null,null,null,null,null,null,null,null,null,null,null,null,null,null,null,null,null,null,null,null,null,null,"مدفوع"]
[null,null,null,null,null,null,null,null,null,null,null,null,null,null,null,null,null,null,null,null,null,null,"مدفوع"]
[null,null,null,null,null,null,null,null,null,null,null,null,null,null,null,null,null,null,null,null,null,null,"مدفوع"]
[null,null,null,null,null,null,null,null,null,null,null,null,null,null,null,null,null,null,null,null,null,null,"مدفوع"]
[null,null,null,null,null,null,null,null,null,null,null,null,null,null,null,null,null,null,null,null,null,null,"مدفوع"]
[null,null,null,null,null,null,null,null,null,null,null,null,null,null,null,null,null,null,null,null,null,null,"مدفوع"]
[null,null,null,null,null,null,null,null,null,null,null,null,null,null,null,null,null,null,null,null,null,null,"مدفوع"]
[null,null,null,null,null,null,null,null,null,null,null,null,null,null,null,null,null,null,null,null,null,null,"مدفوع"]
[null,null,null,null,null,null,null,null,null,null,null,null,null,null,null,null,null,null,null,null,null,null,"مدفوع"]
[null,null,null,null,null,null,null,null,null,null,null,null,null,null,null,null,null,null,null,null,null,null,"مدفوع"]
[null,null,null,null,null,null,null,null,null,null,null,null,null,null,null,null,null,null,null,null,null,null,"مدفوع"]
[null,null,null,null,null,null,null,null,null,null,null,null,null,null,null,null,null,null,null,null,null,null,"مدفوع"]
[null,null,null,null,null,null,null,null,null,null,null,null,null,null,null,null,null,null,null,null,null,null,"مدفوع"]
[null,null,null,null,null,null,null,null,null,null,null,null,null,null,null,null,null,null,null,null,null,null,"مدفوع"]
[null,null,null,null,null,null,null,null,null,null,null,null,null,null,null,null,null,null,null,null,null,null,"مدفوع"]
[null,null,null,null,null,null,null,null,null,null,null,null,null,null,null,null,null,null,null,null,null,null,"مدفوع"]
[null,null,null,null,null,null,null,null,null,null,null,null,null,null,null,null,null,null,null,null,null,null,"مدفوع"]
[null,null,null,null,null,null,null,null,null,null,null,null,null,null,null,null,null,null,null,null,null,null,"مدفوع"]
[null,null,null,null,null,null,null,null,null,null,null,null,null,null,null,null,null,null,null,null,null,null,"مدفوع"]
[null,null,null,null,null,null,null,null,null,null,null,null,null,null,null,null,null,null,null,null,null,null,"مدفوع"]
[null,null,null,null,null,null,null,null,null,null,null,null,null,null,null,null,null,null,null,null,null,null,"مدفوع"]
[null,null,null,null,null,null,null,null,null,null,null,null,null,null,null,null,null,null,null,null,null,null,"مدفوع"]
[null,null,null,null,null,null,null,null,null,null,null,null,null,null,null,null,null,null,null,null,null,null,"مدفوع"]
[null,null,null,null,null,null,null,null,null,null,null,null,null,null,null,null,null,null,null,null,null,null,"مدفوع"]
[null,null,null,null,null,null,null,null,null,null,null,null,null,null,null,null,null,null,null,null,null,null,"مدفوع"]
[null,null,null,null,null,null,null,null,null,null,null,null,null,null,null,null,null,null,null,null,null,null,"مدفوع"]
[null,null,null,null,null,null,null,null,null,null,null,null,null,null,null,null,null,null,null,null,null,null,"مدفوع"]
[null,null,null,null,null,null,null,null,null,null,null,null,null,null,null,null,null,null,null,null,null,null,"مدفوع"]
[null,null,null,null,null,null,null,null,null,null,null,null,null,null,null,null,null,null,null,null,null,null,"مدفوع"]
[null,null,null,null,null,null,null,null,null,null,null,null,null,null,null,null,null,null,null,null,null,null,"مدفوع"]
[null,null,null,null,null,null,null,null,null,null,null,null,null,null,null,null,null,null,null,null,null,null,"مدفوع"]
[null,null,null,null,null,null,null,null,null,null,null,null,null,null,null,null,null,null,null,null,null,null,"مدفوع"]
[null,null,null,null,null,null,null,null,null,null,null,null,null,null,null,null,null,null,null,null,null,null,"مدفوع"]
[null,null,null,null,null,null,null,null,null,null,null,null,null,null,null,null,null,null,null,null,null,null,"مدفوع"]
[null,null,null,null,null,null,null,null,null,null,null,null,null,null,null,null,null,null,null,null,null,null,"مدفوع"]
[null,null,null,null,null,null,null,null,null,null,null,null,null,null,null,null,null,null,null,null,null,null,"مدفوع"]
[null,null,null,null,null,null,null,null,null,null,null,null,null,null,null,null,null,null,null,null,null,null,"مدفوع"]
[null,null,null,null,null,null,null,null,null,null,null,null,null,null,null,null,null,null,null,null,null,null,"مدفوع"]
[null,null,null,null,null,null,null,null,null,null,null,null,null,null,null,null,null,null,null,null,null,null,"مدفوع"]
[null,null,null,null,null,null,null,null,null,null,null,null,null,null,null,null,null,null,null,null,null,null,"مدفوع"]
[null,null,null,null,null,null,null,null,null,null,null,null,null,null,null,null,null,null,null,null,null,null,"مدفوع"]
[null,null,null,null,null,null,null,null,null,null,null,null,null,null,null,null,null,null,null,null,null,null,"مدفوع"]
[null,null,null,null,null,null,null,null,null,null,null,null,null,null,null,null,null,null,null,null,null,null,"مدفوع"]
[null,null,null,null,null,null,null,null,null,null,null,null,null,null,null,null,null,null,null,null,null,null,"مدفوع"]
[null,null,null,null,null,null,null,null,null,null,null,null,null,null,null,null,null,null,null,null,null,null,"مدفوع"]
[null,null,null,null,null,null,null,null,null,null,null,null,null,null,null,null,null,null,null,null,null,null,"مدفوع"]
[null,null,null,null,null,null,null,null,null,null,null,null,null,null,null,null,null,null,null,null,null,null,"مدفوع"]
[null,null,null,null,null,null,null,null,null,null,null,null,null,null,null,null,null,null,null,null,null,null,"مدفوع"]
[null,null,null,null,null,null,null,null,null,null,null,null,null,null,null,null,null,null,null,null,null,null,"مدفوع"]
[null,null,null,null,null,null,null,null,null,null,null,null,null,null,null,null,null,null,null,null,null,null,"مدفوع"]
[null,null,null,null,null,null,null,null,null,null,null,null,null,null,null,null,null,null,null,null,null,null,"مدفوع"]
[null,null,null,null,null,null,null,null,null,null,null,null,null,null,null,null,null,null,null,null,null,null,"مدفوع"]
[null,null,null,null,null,null,null,null,null,null,null,null,null,null,null,null,null,null,null,null,null,null,"مدفوع"]
[null,null,null,null,null,null,null,null,null,null,null,null,null,null,null,null,null,null,null,null,null,null,"مدفوع"]
[null,null,null,null,null,null,null,null,null,null,null,null,null,null,null,null,null,null,null,null,null,null,"مدفوع"]
[null,null,null,null,null,null,null,null,null,null,null,null,null,null,null,null,null,null,null,null,null,null,"مدفوع"]
[null,null,null,null,null,null,null,null,null,null,null,null,null,null,null,null,null,null,null,null,null,null,"مدفوع"]
[null,null,null,null,null,null,null,null,null,null,null,null,null,null,null,null,null,null,null,null,null,null,"مدفوع"]
[null,null,null,null,null,null,null,null,null,null,null,null,null,null,null,null,null,null,null,null,null,null,"مدفوع"]
[null,null,null,null,null,null,null,null,null,null,null,null,null,null,null,null,null,null,null,null,null,null,"مدفوع"]
[null,null,null,null,null,null,null,null,null,null,null,null,null,null,null,null,null,null,null,null,null,null,"مدفوع"]
[null,null,null,null,null,null,null,null,null,null,null,null,null,null,null,null,null,null,null,null,null,null,"مدفوع"]
[null,null,null,null,null,null,null,null,null,null,null,null,null,null,null,null,null,null,null,null,null,null,"مدفوع"]
[null,null,null,null,null,null,null,null,null,null,null,null,null,null,null,null,null,null,null,null,null,null,{"$f":"IF(V712<=0,\"مدفوع\",\"غير مدفوع\")","v":"مدفوع"}]
[null,null,null,null,null,null,null,null,null,null,null,null,null,null,null,null,null,null,null,null,null,null,"مدفوع"]
[null,null,null,null,null,null,null,null,null,null,null,null,null,null,null,null,null,null,null,null,null,null,"مدفوع"]
[null,null,null,null,null,null,null,null,null,null,null,null,null,null,null,null,null,null,null,null,null,null,"مدفوع"]
[null,null,null,null,null,null,null,null,null,null,null,null,null,null,null,null,null,null,null,null,null,null,"مدفوع"]
[null,null,null,null,null,null,null,null,null,null,null,null,null,null,null,null,null,null,null,null,null,null,"مدفوع"]
[null,null,null,null,null,null,null,null,null,null,null,null,null,null,null,null,null,null,null,null,null,null,"مدفوع"]
[null,null,null,null,null,null,null,null,null,null,null,null,null,null,null,null,null,null,null,null,null,null,"مدفوع"]
[null,null,null,null,null,null,null,null,null,null,null,null,null,null,null,null,null,null,null,null,null,null,"مدفوع"]
[null,null,null,null,null,null,null,null,null,null,null,null,null,null,null,null,null,null,null,null,null,null,"مدفوع"]
[null,null,null,null,null,null,null,null,null,null,null,null,null,null,null,null,null,null,null,null,null,null,"مدفوع"]
[null,null,null,null,null,null,null,null,null,null,null,null,null,null,null,null,null,null,null,null,null,null,"مدفوع"]
[null,null,null,null,null,null,null,null,null,null,null,null,null,null,null,null,null,null,null,null,null,null,"مدفوع"]
[null,null,null,null,null,null,null,null,null,null,null,null,null,null,null,null,null,null,null,null,null,null,"مدفوع"]
[null,null,null,null,null,null,null,null,null,null,null,null,null,null,null,null,null,null,null,null,null,null,"مدفوع"]
[null,null,null,null,null,null,null,null,null,null,null,null,null,null,null,null,null,null,null,null,null,null,"مدفوع"]
[null,null,null,null,null,null,null,null,null,null,null,null,null,null,null,null,null,null,null,null,null,null,"مدفوع"]
[null,null,null,null,null,null,null,null,null,null,null,null,null,null,null,null,null,null,null,null,null,null,"مدفوع"]
[null,null,null,null,null,null,null,null,null,null,null,null,null,null,null,null,null,null,null,null,null,null,"مدفوع"]
[null,null,null,null,null,null,null,null,null,null,null,null,null,null,null,null,null,null,null,null,null,null,"مدفوع"]
[null,null,null,null,null,null,null,null,null,null,null,null,null,null,null,null,null,null,null,null,null,null,"مدفوع"]
[null,null,null,null,null,null,null,null,null,null,null,null,null,null,null,null,null,null,null,null,null,null,"مدفوع"]
[null,null,null,null,null,null,null,null,null,null,null,null,null,null,null,null,null,null,null,null,null,null,"مدفوع"]
[null,null,null,null,null,null,null,null,null,null,null,null,null,null,null,null,null,null,null,null,null,null,"مدفوع"]
[null,null,null,null,null,null,null,null,null,null,null,null,null,null,null,null,null,null,null,null,null,null,"مدفوع"]
[null,null,null,null,null,null,null,null,null,null,null,null,null,null,null,null,null,null,null,null,null,null,"مدفوع"]
[null,null,null,null,null,null,null,null,null,null,null,null,null,null,null,null,null,null,null,null,null,null,"مدفوع"]
[null,null,null,null,null,null,null,null,null,null,null,null,null,null,null,null,null,null,null,null,null,null,"مدفوع"]
[null,null,null,null,null,null,null,null,null,null,null,null,null,null,null,null,null,null,null,null,null,null,"مدفوع"]
[null,null,null,null,null,null,null,null,null,null,null,null,null,null,null,null,null,null,null,null,null,null,"مدفوع"]
[null,null,null,null,null,null,null,null,null,null,null,null,null,null,null,null,null,null,null,null,null,null,"مدفوع"]
[null,null,null,null,null,null,null,null,null,null,null,null,null,null,null,null,null,null,null,null,null,null,"مدفوع"]
[null,null,null,null,null,null,null,null,null,null,null,null,null,null,null,null,null,null,null,null,null,null,"مدفوع"]
[null,null,null,null,null,null,null,null,null,null,null,null,null,null,null,null,null,null,null,null,null,null,"مدفوع"]
[null,null,null,null,null,null,null,null,null,null,null,null,null,null,null,null,null,null,null,null,null,null,"مدفوع"]
[null,null,null,null,null,null,null,null,null,null,null,null,null,null,null,null,null,null,null,null,null,null,"مدفوع"]
[null,null,null,null,null,null,null,null,null,null,null,null,null,null,null,null,null,null,null,null,null,null,"مدفوع"]
[null,null,null,null,null,null,null,null,null,null,null,null,null,null,null,null,null,null,null,null,null,null,"مدفوع"]
[null,null,null,null,null,null,null,null,null,null,null,null,null,null,null,null,null,null,null,null,null,null,"مدفوع"]
[null,null,null,null,null,null,null,null,null,null,null,null,null,null,null,null,null,null,null,null,null,null,"مدفوع"]
[null,null,null,null,null,null,null,null,null,null,null,null,null,null,null,null,null,null,null,null,null,null,"مدفوع"]
[null,null,null,null,null,null,null,null,null,null,null,null,null,null,null,null,null,null,null,null,null,null,"مدفوع"]
[null,null,null,null,null,null,null,null,null,null,null,null,null,null,null,null,null,null,null,null,null,null,"مدفوع"]
[null,null,null,null,null,null,null,null,null,null,null,null,null,null,null,null,null,null,null,null,null,null,"مدفوع"]
[null,null,null,null,null,null,null,null,null,null,null,null,null,null,null,null,null,null,null,null,null,null,"مدفوع"]
[null,null,null,null,null,null,null,null,null,null,null,null,null,null,null,null,null,null,null,null,null,null,"مدفوع"]
[null,null,null,null,null,null,null,null,null,null,null,null,null,null,null,null,null,null,null,null,null,null,"مدفوع"]
[null,null,null,null,null,null,null,null,null,null,null,null,null,null,null,null,null,null,null,null,null,null,"مدفوع"]
[null,null,null,null,null,null,null,null,null,null,null,null,null,null,null,null,null,null,null,null,null,null,"مدفوع"]
[null,null,null,null,null,null,null,null,null,null,null,null,null,null,null,null,null,null,null,null,null,null,"مدفوع"]
[null,null,null,null,null,null,null,null,null,null,null,null,null,null,null,null,null,null,null,null,null,null,"مدفوع"]
[null,null,null,null,null,null,null,null,null,null,null,null,null,null,null,null,null,null,null,null,null,null,"مدفوع"]
[null,null,null,null,null,null,null,null,null,null,null,null,null,null,null,null,null,null,null,null,null,null,"مدفوع"]
[null,null,null,null,null,null,null,null,null,null,null,null,null,null,null,null,null,null,null,null,null,null,"مدفوع"]
[null,null,null,null,null,null,null,null,null,null,null,null,null,null,null,null,null,null,null,null,null,null,"مدفوع"]
[null,null,null,null,null,null,null,null,null,null,null,null,null,null,null,null,null,null,null,null,null,null,"مدفوع"]
[null,null,null,null,null,null,null,null,null,null,null,null,null,null,null,null,null,null,null,null,null,null,"مدفوع"]
[null,null,null,null,null,null,null,null,null,null,null,null,null,null,null,null,null,null,null,null,null,null,"مدفوع"]
[null,null,null,null,null,null,null,null,null,null,null,null,null,null,null,null,null,null,null,null,null,null,"مدفوع"]
[null,null,null,null,null,null,null,null,null,null,null,null,null,null,null,null,null,null,null,null,null,null,"مدفوع"]
[null,null,null,null,null,null,null,null,null,null,null,null,null,null,null,null,null,null,null,null,null,null,"مدفوع"]
[null,null,null,null,null,null,null,null,null,null,null,null,null,null,null,null,null,null,null,null,null,null,"مدفوع"]
[null,null,null,null,null,null,null,null,null,null,null,null,null,null,null,null,null,null,null,null,null,null,"مدفوع"]
[null,null,null,null,null,null,null,null,null,null,null,null,null,null,null,null,null,null,null,null,null,null,"مدفوع"]
[null,null,null,null,null,null,null,null,null,null,null,null,null,null,null,null,null,null,null,null,null,null,{"$f":"IF(V776<=0,\"مدفوع\",\"غير مدفوع\")","v":"مدفوع"}]
[null,null,null,null,null,null,null,null,null,null,null,null,null,null,null,null,null,null,null,null,null,null,"مدفوع"]
[null,null,null,null,null,null,null,null,null,null,null,null,null,null,null,null,null,null,null,null,null,null,"مدفوع"]
[null,null,null,null,null,null,null,null,null,null,null,null,null,null,null,null,null,null,null,null,null,null,"مدفوع"]
[null,null,null,null,null,null,null,null,null,null,null,null,null,null,null,null,null,null,null,null,null,null,"مدفوع"]
[null,null,null,null,null,null,null,null,null,null,null,null,null,null,null,null,null,null,null,null,null,null,"مدفوع"]
[null,null,null,null,null,null,null,null,null,null,null,null,null,null,null,null,null,null,null,null,null,null,"مدفوع"]
[null,null,null,null,null,null,null,null,null,null,null,null,null,null,null,null,null,null,null,null,null,null,"مدفوع"]
[null,null,null,null,null,null,null,null,null,null,null,null,null,null,null,null,null,null,null,null,null,null,"مدفوع"]
[null,null,null,null,null,null,null,null,null,null,null,null,null,null,null,null,null,null,null,null,null,null,"مدفوع"]
[null,null,null,null,null,null,null,null,null,null,null,null,null,null,null,null,null,null,null,null,null,null,"مدفوع"]
[null,null,null,null,null,null,null,null,null,null,null,null,null,null,null,null,null,null,null,null,null,null,"مدفوع"]
[null,null,null,null,null,null,null,null,null,null,null,null,null,null,null,null,null,null,null,null,null,null,"مدفوع"]
[null,null,null,null,null,null,null,null,null,null,null,null,null,null,null,null,null,null,null,null,null,null,"مدفوع"]
[null,null,null,null,null,null,null,null,null,null,null,null,null,null,null,null,null,null,null,null,null,null,"مدفوع"]
[null,null,null,null,null,null,null,null,null,null,null,null,null,null,null,null,null,null,null,null,null,null,"مدفوع"]
[null,null,null,null,null,null,null,null,null,null,null,null,null,null,null,null,null,null,null,null,null,null,"مدفوع"]
[null,null,null,null,null,null,null,null,null,null,null,null,null,null,null,null,null,null,null,null,null,null,"مدفوع"]
[null,null,null,null,null,null,null,null,null,null,null,null,null,null,null,null,null,null,null,null,null,null,"مدفوع"]
[null,null,null,null,null,null,null,null,null,null,null,null,null,null,null,null,null,null,null,null,null,null,"مدفوع"]
[null,null,null,null,null,null,null,null,null,null,null,null,null,null,null,null,null,null,null,null,null,null,"مدفوع"]
[null,null,null,null,null,null,null,null,null,null,null,null,null,null,null,null,null,null,null,null,null,null,"مدفوع"]
[null,null,null,null,null,null,null,null,null,null,null,null,null,null,null,null,null,null,null,null,null,null,"مدفوع"]
[null,null,null,null,null,null,null,null,null,null,null,null,null,null,null,null,null,null,null,null,null,null,"مدفوع"]
[null,null,null,null,null,null,null,null,null,null,null,null,null,null,null,null,null,null,null,null,null,null,"مدفوع"]
[null,null,null,null,null,null,null,null,null,null,null,null,null,null,null,null,null,null,null,null,null,null,"مدفوع"]
[null,null,null,null,null,null,null,null,null,null,null,null,null,null,null,null,null,null,null,null,null,null,"مدفوع"]
[null,null,null,null,null,null,null,null,null,null,null,null,null,null,null,null,null,null,null,null,null,null,"مدفوع"]
[null,null,null,null,null,null,null,null,null,null,null,null,null,null,null,null,null,null,null,null,null,null,"مدفوع"]
[null,null,null,null,null,null,null,null,null,null,null,null,null,null,null,null,null,null,null,null,null,null,"مدفوع"]
[null,null,null,null,null,null,null,null,null,null,null,null,null,null,null,null,null,null,null,null,null,null,"مدفوع"]
[null,null,null,null,null,null,null,null,null,null,null,null,null,null,null,null,null,null,null,null,null,null,"مدفوع"]
[null,null,null,null,null,null,null,null,null,null,null,null,null,null,null,null,null,null,null,null,null,null,"مدفوع"]
[null,null,null,null,null,null,null,null,null,null,null,null,null,null,null,null,null,null,null,null,null,null,"مدفوع"]
[null,null,null,null,null,null,null,null,null,null,null,null,null,null,null,null,null,null,null,null,null,null,"مدفوع"]
[null,null,null,null,null,null,null,null,null,null,null,null,null,null,null,null,null,null,null,null,null,null,"مدفوع"]
[null,null,null,null,null,null,null,null,null,null,null,null,null,null,null,null,null,null,null,null,null,null,"مدفوع"]
[null,null,null,null,null,null,null,null,null,null,null,null,null,null,null,null,null,null,null,null,null,null,"مدفوع"]
[null,null,null,null,null,null,null,null,null,null,null,null,null,null,null,null,null,null,null,null,null,null,"مدفوع"]
[null,null,null,null,null,null,null,null,null,null,null,null,null,null,null,null,null,null,null,null,null,null,"مدفوع"]
[null,null,null,null,null,null,null,null,null,null,null,null,null,null,null,null,null,null,null,null,null,null,"مدفوع"]
[null,null,null,null,null,null,null,null,null,null,null,null,null,null,null,null,null,null,null,null,null,null,"مدفوع"]
[null,null,null,null,null,null,null,null,null,null,null,null,null,null,null,null,null,null,null,null,null,null,"مدفوع"]
[null,null,null,null,null,null,null,null,null,null,null,null,null,null,null,null,null,null,null,null,null,null,"مدفوع"]
[null,null,null,null,null,null,null,null,null,null,null,null,null,null,null,null,null,null,null,null,null,null,"مدفوع"]
[null,null,null,null,null,null,null,null,null,null,null,null,null,null,null,null,null,null,null,null,null,null,"مدفوع"]
[null,null,null,null,null,null,null,null,null,null,null,null,null,null,null,null,null,null,null,null,null,null,"مدفوع"]
[null,null,null,null,null,null,null,null,null,null,null,null,null,null,null,null,null,null,null,null,null,null,"مدفوع"]
[null,null,null,null,null,null,null,null,null,null,null,null,null,null,null,null,null,null,null,null,null,null,"مدفوع"]
[null,null,null,null,null,null,null,null,null,null,null,null,null,null,null,null,null,null,null,null,null,null,"مدفوع"]
[null,null,null,null,null,null,null,null,null,null,null,null,null,null,null,null,null,null,null,null,null,null,"مدفوع"]
[null,null,null,null,null,null,null,null,null,null,null,null,null,null,null,null,null,null,null,null,null,null,"مدفوع"]
[null,null,null,null,null,null,null,null,null,null,null,null,null,null,null,null,null,null,null,null,null,null,"مدفوع"]
[null,null,null,null,null,null,null,null,null,null,null,null,null,null,null,null,null,null,null,null,null,null,"مدفوع"]
[null,null,null,null,null,null,null,null,null,null,null,null,null,null,null,null,null,null,null,null,null,null,"مدفوع"]
[null,null,null,null,null,null,null,null,null,null,null,null,null,null,null,null,null,null,null,null,null,null,"مدفوع"]
[null,null,null,null,null,null,null,null,null,null,null,null,null,null,null,null,null,null,null,null,null,null,"مدفوع"]
[null,null,null,null,null,null,null,null,null,null,null,null,null,null,null,null,null,null,null,null,null,null,"مدفوع"]
[null,null,null,null,null,null,null,null,null,null,null,null,null,null,null,null,null,null,null,null,null,null,"مدفوع"]
[null,null,null,null,null,null,null,null,null,null,null,null,null,null,null,null,null,null,null,null,null,null,"مدفوع"]
[null,null,null,null,null,null,null,null,null,null,null,null,null,null,null,null,null,null,null,null,null,null,"مدفوع"]
[null,null,null,null,null,null,null,null,null,null,null,null,null,null,null,null,null,null,null,null,null,null,"مدفوع"]
[null,null,null,null,null,null,null,null,null,null,null,null,null,null,null,null,null,null,null,null,null,null,"مدفوع"]
[null,null,null,null,null,null,null,null,null,null,null,null,null,null,null,null,null,null,null,null,null,null,"مدفوع"]
[null,null,null,null,null,null,null,null,null,null,null,null,null,null,null,null,null,null,null,null,null,null,{"$f":"IF(V840<=0,\"مدفوع\",\"غير مدفوع\")","v":"مدفوع"}]
[null,null,null,null,null,null,null,null,null,null,null,null,null,null,null,null,null,null,null,null,null,null,"مدفوع"]
[null,null,null,null,null,null,null,null,null,null,null,null,null,null,null,null,null,null,null,null,null,null,"مدفوع"]
[null,null,null,null,null,null,null,null,null,null,null,null,null,null,null,null,null,null,null,null,null,null,"مدفوع"]
[null,null,null,null,null,null,null,null,null,null,null,null,null,null,null,null,null,null,null,null,null,null,"مدفوع"]
[null,null,null,null,null,null,null,null,null,null,null,null,null,null,null,null,null,null,null,null,null,null,"مدفوع"]
[null,null,null,null,null,null,null,null,null,null,null,null,null,null,null,null,null,null,null,null,null,null,"مدفوع"]
[null,null,null,null,null,null,null,null,null,null,null,null,null,null,null,null,null,null,null,null,null,null,"مدفوع"]
[null,null,null,null,null,null,null,null,null,null,null,null,null,null,null,null,null,null,null,null,null,null,"مدفوع"]
[null,null,null,null,null,null,null,null,null,null,null,null,null,null,null,null,null,null,null,null,null,null,"مدفوع"]
[null,null,null,null,null,null,null,null,null,null,null,null,null,null,null,null,null,null,null,null,null,null,"مدفوع"]
[null,null,null,null,null,null,null,null,null,null,null,null,null,null,null,null,null,null,null,null,null,null,"مدفوع"]
[null,null,null,null,null,null,null,null,null,null,null,null,null,null,null,null,null,null,null,null,null,null,"مدفوع"]
[null,null,null,null,null,null,null,null,null,null,null,null,null,null,null,null,null,null,null,null,null,null,"مدفوع"]
[null,null,null,null,null,null,null,null,null,null,null,null,null,null,null,null,null,null,null,null,null,null,"مدفوع"]
[null,null,null,null,null,null,null,null,null,null,null,null,null,null,null,null,null,null,null,null,null,null,"مدفوع"]
[null,null,null,null,null,null,null,null,null,null,null,null,null,null,null,null,null,null,null,null,null,null,"مدفوع"]
[null,null,null,null,null,null,null,null,null,null,null,null,null,null,null,null,null,null,null,null,null,null,"مدفوع"]
[null,null,null,null,null,null,null,null,null,null,null,null,null,null,null,null,null,null,null,null,null,null,"مدفوع"]
[null,null,null,null,null,null,null,null,null,null,null,null,null,null,null,null,null,null,null,null,null,null,"مدفوع"]
[null,null,null,null,null,null,null,null,null,null,null,null,null,null,null,null,null,null,null,null,null,null,"مدفوع"]
[null,null,null,null,null,null,null,null,null,null,null,null,null,null,null,null,null,null,null,null,null,null,"مدفوع"]
[null,null,null,null,null,null,null,null,null,null,null,null,null,null,null,null,null,null,null,null,null,null,"مدفوع"]
[null,null,null,null,null,null,null,null,null,null,null,null,null,null,null,null,null,null,null,null,null,null,"مدفوع"]
[null,null,null,null,null,null,null,null,null,null,null,null,null,null,null,null,null,null,null,null,null,null,"مدفوع"]
[null,null,null,null,null,null,null,null,null,null,null,null,null,null,null,null,null,null,null,null,null,null,"مدفوع"]
[null,null,null,null,null,null,null,null,null,null,null,null,null,null,null,null,null,null,null,null,null,null,"مدفوع"]
[null,null,null,null,null,null,null,null,null,null,null,null,null,null,null,null,null,null,null,null,null,null,"مدفوع"]
[null,null,null,null,null,null,null,null,null,null,null,null,null,null,null,null,null,null,null,null,null,null,"مدفوع"]
[null,null,null,null,null,null,null,null,null,null,null,null,null,null,null,null,null,null,null,null,null,null,"مدفوع"]
[null,null,null,null,null,null,null,null,null,null,null,null,null,null,null,null,null,null,null,null,null,null,"مدفوع"]
[null,null,null,null,null,null,null,null,null,null,null,null,null,null,null,null,null,null,null,null,null,null,"مدفوع"]
[null,null,null,null,null,null,null,null,null,null,null,null,null,null,null,null,null,null,null,null,null,null,"مدفوع"]
[null,null,null,null,null,null,null,null,null,null,null,null,null,null,null,null,null,null,null,null,null,null,"مدفوع"]
[null,null,null,null,null,null,null,null,null,null,null,null,null,null,null,null,null,null,null,null,null,null,"مدفوع"]
[null,null,null,null,null,null,null,null,null,null,null,null,null,null,null,null,null,null,null,null,null,null,"مدفوع"]
[null,null,null,null,null,null,null,null,null,null,null,null,null,null,null,null,null,null,null,null,null,null,"مدفوع"]
[null,null,null,null,null,null,null,null,null,null,null,null,null,null,null,null,null,null,null,null,null,null,"مدفوع"]
[null,null,null,null,null,null,null,null,null,null,null,null,null,null,null,null,null,null,null,null,null,null,"مدفوع"]
[null,null,null,null,null,null,null,null,null,null,null,null,null,null,null,null,null,null,null,null,null,null,"مدفوع"]
[null,null,null,null,null,null,null,null,null,null,null,null,null,null,null,null,null,null,null,null,null,null,"مدفوع"]
[null,null,null,null,null,null,null,null,null,null,null,null,null,null,null,null,null,null,null,null,null,null,"مدفوع"]
[null,null,null,null,null,null,null,null,null,null,null,null,null,null,null,null,null,null,null,null,null,null,"مدفوع"]
[null,null,null,null,null,null,null,null,null,null,null,null,null,null,null,null,null,null,null,null,null,null,"مدفوع"]
[null,null,null,null,null,null,null,null,null,null,null,null,null,null,null,null,null,null,null,null,null,null,"مدفوع"]
[null,null,null,null,null,null,null,null,null,null,null,null,null,null,null,null,null,null,null,null,null,null,"مدفوع"]
[null,null,null,null,null,null,null,null,null,null,null,null,null,null,null,null,null,null,null,null,null,null,"مدفوع"]
[null,null,null,null,null,null,null,null,null,null,null,null,null,null,null,null,null,null,null,null,null,null,"مدفوع"]
[null,null,null,null,null,null,null,null,null,null,null,null,null,null,null,null,null,null,null,null,null,null,"مدفوع"]
[null,null,null,null,null,null,null,null,null,null,null,null,null,null,null,null,null,null,null,null,null,null,"مدفوع"]
[null,null,null,null,null,null,null,null,null,null,null,null,null,null,null,null,null,null,null,null,null,null,"مدفوع"]
[null,null,null,null,null,null,null,null,null,null,null,null,null,null,null,null,null,null,null,null,null,null,"مدفوع"]
[null,null,null,null,null,null,null,null,null,null,null,null,null,null,null,null,null,null,null,null,null,null,"مدفوع"]
[null,null,null,null,null,null,null,null,null,null,null,null,null,null,null,null,null,null,null,null,null,null,"مدفوع"]
[null,null,null,null,null,null,null,null,null,null,null,null,null,null,null,null,null,null,null,null,null,null,"مدفوع"]
[null,null,null,null,null,null,null,null,null,null,null,null,null,null,null,null,null,null,null,null,null,null,"مدفوع"]
[null,null,null,null,null,null,null,null,null,null,null,null,null,null,null,null,null,null,null,null,null,null,"مدفوع"]
[null,null,null,null,null,null,null,null,null,null,null,null,null,null,null,null,null,null,null,null,null,null,"مدفوع"]
[null,null,null,null,null,null,null,null,null,null,null,null,null,null,null,null,null,null,null,null,null,null,"مدفوع"]
[null,null,null,null,null,null,null,null,null,null,null,null,null,null,null,null,null,null,null,null,null,null,"مدفوع"]
[null,null,null,null,null,null,null,null,null,null,null,null,null,null,null,null,null,null,null,null,null,null,"مدفوع"]
[null,null,null,null,null,null,null,null,null,null,null,null,null,null,null,null,null,null,null,null,null,null,"مدفوع"]
[null,null,null,null,null,null,null,null,null,null,null,null,null,null,null,null,null,null,null,null,null,null,"مدفوع"]
[null,null,null,null,null,null,null,null,null,null,null,null,null,null,null,null,null,null,null,null,null,null,"مدفوع"]
[null,null,null,null,null,null,null,null,null,null,null,null,null,null,null,null,null,null,null,null,null,null,{"$f":"IF(V904<=0,\"مدفوع\",\"غير مدفوع\")","v":"مدفوع"}]
[null,null,null,null,null,null,null,null,null,null,null,null,null,null,null,null,null,null,null,null,null,null,"مدفوع"]
[null,null,null,null,null,null,null,null,null,null,null,null,null,null,null,null,null,null,null,null,null,null,"مدفوع"]
[null,null,null,null,null,null,null,null,null,null,null,null,null,null,null,null,null,null,null,null,null,null,"مدفوع"]
[null,null,null,null,null,null,null,null,null,null,null,null,null,null,null,null,null,null,null,null,null,null,"مدفوع"]
[null,null,null,null,null,null,null,null,null,null,null,null,null,null,null,null,null,null,null,null,null,null,"مدفوع"]
[null,null,null,null,null,null,null,null,null,null,null,null,null,null,null,null,null,null,null,null,null,null,"مدفوع"]
[null,null,null,null,null,null,null,null,null,null,null,null,null,null,null,null,null,null,null,null,null,null,"مدفوع"]
[null,null,null,null,null,null,null,null,null,null,null,null,null,null,null,null,null,null,null,null,null,null,"مدفوع"]
[null,null,null,null,null,null,null,null,null,null,null,null,null,null,null,null,null,null,null,null,null,null,"مدفوع"]
[null,null,null,null,null,null,null,null,null,null,null,null,null,null,null,null,null,null,null,null,null,null,"مدفوع"]
[null,null,null,null,null,null,null,null,null,null,null,null,null,null,null,null,null,null,null,null,null,null,"مدفوع"]
[null,null,null,null,null,null,null,null,null,null,null,null,null,null,null,null,null,null,null,null,null,null,"مدفوع"]
[null,null,null,null,null,null,null,null,null,null,null,null,null,null,null,null,null,null,null,null,null,null,"مدفوع"]
[null,null,null,null,null,null,null,null,null,null,null,null,null,null,null,null,null,null,null,null,null,null,"مدفوع"]
[null,null,null,null,null,null,null,null,null,null,null,null,null,null,null,null,null,null,null,null,null,null,"مدفوع"]
[null,null,null,null,null,null,null,null,null,null,null,null,null,null,null,null,null,null,null,null,null,null,"مدفوع"]
[null,null,null,null,null,null,null,null,null,null,null,null,null,null,null,null,null,null,null,null,null,null,"مدفوع"]
[null,null,null,null,null,null,null,null,null,null,null,null,null,null,null,null,null,null,null,null,null,null,"مدفوع"]
[null,null,null,null,null,null,null,null,null,null,null,null,null,null,null,null,null,null,null,null,null,null,"مدفوع"]
[null,null,null,null,null,null,null,null,null,null,null,null,null,null,null,null,null,null,null,null,null,null,"مدفوع"]
[null,null,null,null,null,null,null,null,null,null,null,null,null,null,null,null,null,null,null,null,null,null,"مدفوع"]
[null,null,null,null,null,null,null,null,null,null,null,null,null,null,null,null,null,null,null,null,null,null,"مدفوع"]
[null,null,null,null,null,null,null,null,null,null,null,null,null,null,null,null,null,null,null,null,null,null,"مدفوع"]
[null,null,null,null,null,null,null,null,null,null,null,null,null,null,null,null,null,null,null,null,null,null,"مدفوع"]
[null,null,null,null,null,null,null,null,null,null,null,null,null,null,null,null,null,null,null,null,null,null,"مدفوع"]
[null,null,null,null,null,null,null,null,null,null,null,null,null,null,null,null,null,null,null,null,null,null,"مدفوع"]
[null,null,null,null,null,null,null,null,null,null,null,null,null,null,null,null,null,null,null,null,null,null,"مدفوع"]
[null,null,null,null,null,null,null,null,null,null,null,null,null,null,null,null,null,null,null,null,null,null,"مدفوع"]
[null,null,null,null,null,null,null,null,null,null,null,null,null,null,null,null,null,null,null,null,null,null,"مدفوع"]
[null,null,null,null,null,null,null,null,null,null,null,null,null,null,null,null,null,null,null,null,null,null,"مدفوع"]
[null,null,null,null,null,null,null,null,null,null,null,null,null,null,null,null,null,null,null,null,null,null,"مدفوع"]
[null,null,null,null,null,null,null,null,null,null,null,null,null,null,null,null,null,null,null,null,null,null,"مدفوع"]
[null,null,null,null,null,null,null,null,null,null,null,null,null,null,null,null,null,null,null,null,null,null,"مدفوع"]
[null,null,null,null,null,null,null,null,null,null,null,null,null,null,null,null,null,null,null,null,null,null,"مدفوع"]
[null,null,null,null,null,null,null,null,null,null,null,null,null,null,null,null,null,null,null,null,null,null,"مدفوع"]
[null,null,null,null,null,null,null,null,null,null,null,null,null,null,null,null,null,null,null,null,null,null,"مدفوع"]
[null,null,null,null,null,null,null,null,null,null,null,null,null,null,null,null,null,null,null,null,null,null,"مدفوع"]
[null,null,null,null,null,null,null,null,null,null,null,null,null,null,null,null,null,null,null,null,null,null,"مدفوع"]
[null,null,null,null,null,null,null,null,null,null,null,null,null,null,null,null,null,null,null,null,null,null,"مدفوع"]
[null,null,null,null,null,null,null,null,null,null,null,null,null,null,null,null,null,null,null,null,null,null,"مدفوع"]
[null,null,null,null,null,null,null,null,null,null,null,null,null,null,null,null,null,null,null,null,null,null,"مدفوع"]
[null,null,null,null,null,null,null,null,null,null,null,null,null,null,null,null,null,null,null,null,null,null,"مدفوع"]
[null,null,null,null,null,null,null,null,null,null,null,null,null,null,null,null,null,null,null,null,null,null,"مدفوع"]
[null,null,null,null,null,null,null,null,null,null,null,null,null,null,null,null,null,null,null,null,null,null,"مدفوع"]
[null,null,null,null,null,null,null,null,null,null,null,null,null,null,null,null,null,null,null,null,null,null,"مدفوع"]
[null,null,null,null,null,null,null,null,null,null,null,null,null,null,null,null,null,null,null,null,null,null,"مدفوع"]
[null,null,null,null,null,null,null,null,null,null,null,null,null,null,null,null,null,null,null,null,null,null,"مدفوع"]
[null,null,null,null,null,null,null,null,null,null,null,null,null,null,null,null,null,null,null,null,null,null,"مدفوع"]
[null,null,null,null,null,null,null,null,null,null,null,null,null,null,null,null,null,null,null,null,null,null,"مدفوع"]
[null,null,null,null,null,null,null,null,null,null,null,null,null,null,null,null,null,null,null,null,null,null,"مدفوع"]
[null,null,null,null,null,null,null,null,null,null,null,null,null,null,null,null,null,null,null,null,null,null,"مدفوع"]
[null,null,null,null,null,null,null,null,null,null,null,null,null,null,null,null,null,null,null,null,null,null,"مدفوع"]
[null,null,null,null,null,null,null,null,null,null,null,null,null,null,null,null,null,null,null,null,null,null,"مدفوع"]
[null,null,null,null,null,null,null,null,null,null,null,null,null,null,null,null,null,null,null,null,null,null,"مدفوع"]
[null,null,null,null,null,null,null,null,null,null,null,null,null,null,null,null,null,null,null,null,null,null,"مدفوع"]
[null,null,null,null,null,null,null,null,null,null,null,null,null,null,null,null,null,null,null,null,null,null,"مدفوع"]
[null,null,null,null,null,null,null,null,null,null,null,null,null,null,null,null,null,null,null,null,null,null,"مدفوع"]
[null,null,null,null,null,null,null,null,null,null,null,null,null,null,null,null,null,null,null,null,null,null,"مدفوع"]
[null,null,null,null,null,null,null,null,null,null,null,null,null,null,null,null,null,null,null,null,null,null,"مدفوع"]
[null,null,null,null,null,null,null,null,null,null,null,null,null,null,null,null,null,null,null,null,null,null,"مدفوع"]
[null,null,null,null,null,null,null,null,null,null,null,null,null,null,null,null,null,null,null,null,null,null,"مدفوع"]
[null,null,null,null,null,null,null,null,null,null,null,null,null,null,null,null,null,null,null,null,null,null,"مدفوع"]
[null,null,null,null,null,null,null,null,null,null,null,null,null,null,null,null,null,null,null,null,null,null,"مدفوع"]
[null,null,null,null,null,null,null,null,null,null,null,null,null,null,null,null,null,null,null,null,null,null,{"$f":"IF(V968<=0,\"مدفوع\",\"غير مدفوع\")","v":"مدفوع"}]
[null,null,null,null,null,null,null,null,null,null,null,null,null,null,null,null,null,null,null,null,null,null,"مدفوع"]
[null,null,null,null,null,null,null,null,null,null,null,null,null,null,null,null,null,null,null,null,null,null,"مدفوع"]
[null,null,null,null,null,null,null,null,null,null,null,null,null,null,null,null,null,null,null,null,null,null,"مدفوع"]
[null,null,null,null,null,null,null,null,null,null,null,null,null,null,null,null,null,null,null,null,null,null,"مدفوع"]
[null,null,null,null,null,null,null,null,null,null,null,null,null,null,null,null,null,null,null,null,null,null,"مدفوع"]
[null,null,null,null,null,null,null,null,null,null,null,null,null,null,null,null,null,null,null,null,null,null,"مدفوع"]
[null,null,null,null,null,null,null,null,null,null,null,null,null,null,null,null,null,null,null,null,null,null,"مدفوع"]
[null,null,null,null,null,null,null,null,null,null,null,null,null,null,null,null,null,null,null,null,null,null,"مدفوع"]
[null,null,null,null,null,null,null,null,null,null,null,null,null,null,null,null,null,null,null,null,null,null,"مدفوع"]
[null,null,null,null,null,null,null,null,null,null,null,null,null,null,null,null,null,null,null,null,null,null,"مدفوع"]
[null,null,null,null,null,null,null,null,null,null,null,null,null,null,null,null,null,null,null,null,null,null,"مدفوع"]
[null,null,null,null,null,null,null,null,null,null,null,null,null,null,null,null,null,null,null,null,null,null,"مدفوع"]
[null,null,null,null,null,null,null,null,null,null,null,null,null,null,null,null,null,null,null,null,null,null,"مدفوع"]
[null,null,null,null,null,null,null,null,null,null,null,null,null,null,null,null,null,null,null,null,null,null,"مدفوع"]
[null,null,null,null,null,null,null,null,null,null,null,null,null,null,null,null,null,null,null,null,null,null,"مدفوع"]
[null,null,null,null,null,null,null,null,null,null,null,null,null,null,null,null,null,null,null,null,null,null,"مدفوع"]
[null,null,null,null,null,null,null,null,null,null,null,null,null,null,null,null,null,null,null,null,null,null,"مدفوع"]
[null,null,null,null,null,null,null,null,null,null,null,null,null,null,null,null,null,null,null,null,null,null,"مدفوع"]
[null,null,null,null,null,null,null,null,null,null,null,null,null,null,null,null,null,null,null,null,null,null,"مدفوع"]
[null,null,null,null,null,null,null,null,null,null,null,null,null,null,null,null,null,null,null,null,null,null,"مدفوع"]
[null,null,null,null,null,null,null,null,null,null,null,null,null,null,null,null,null,null,null,null,null,null,"مدفوع"]
[null,null,null,null,null,null,null,null,null,null,null,null,null,null,null,null,null,null,null,null,null,null,"مدفوع"]
[null,null,null,null,null,null,null,null,null,null,null,null,null,null,null,null,null,null,null,null,null,null,"مدفوع"]
[null,null,null,null,null,null,null,null,null,null,null,null,null,null,null,null,null,null,null,null,null,null,"مدفوع"]
[null,null,null,null,null,null,null,null,null,null,null,null,null,null,null,null,null,null,null,null,null,null,"مدفوع"]
[null,null,null,null,null,null,null,null,null,null,null,null,null,null,null,null,null,null,null,null,null,null,"مدفوع"]
[null,null,null,null,null,null,null,null,null,null,null,null,null,null,null,null,null,null,null,null,null,null,"مدفوع"]
[null,null,null,null,null,null,null,null,null,null,null,null,null,null,null,null,null,null,null,null,null,null,"مدفوع"]
[null,null,null,null,null,null,null,null,null,null,null,null,null,null,null,null,null,null,null,null,null,null,"مدفوع"]
[null,null,null,null,null,null,null,null,null,null,null,null,null,null,null,null,null,null,null,null,null,null,"مدفوع"]
[null,null,null,null,null,null,null,null,null,null,null,null,null,null,null,null,null,null,null,null,null,null,"مدفوع"]
[null,null,null,null,null,null,null,null,null,null,null,null,null,null,null,null,null,null,null,null,null,null,"مدفوع"]
[null,null,null,null,null,null,null,null,null,null,null,null,null,null,null,null,null,null,null,null,null,null,"مدفوع"]
[null,null,null,null,null,null,null,null,null,null,null,null,null,null,null,null,null,null,null,null,null,null,"مدفوع"]
[null,null,null,null,null,null,null,null,null,null,null,null,null,null,null,null,null,null,null,null,null,null,"مدفوع"]
[null,null,null,null,null,null,null,null,null,null,null,null,null,null,null,null,null,null,null,null,null,null,"مدفوع"]
[null,null,null,null,null,null,null,null,null,null,null,null,null,null,null,null,null,null,null,null,null,null,"مدفوع"]
[null,null,null,null,null,null,null,null,null,null,null,null,null,null,null,null,null,null,null,null,null,null,"مدفوع"]
[null,null,null,null,null,null,null,null,null,null,null,null,null,null,null,null,null,null,null,null,null,null,"مدفوع"]
[null,null,null,null,null,null,null,null,null,null,null,null,null,null,null,null,null,null,null,null,null,null,"مدفوع"]
[null,null,null,null,null,null,null,null,null,null,null,null,null,null,null,null,null,null,null,null,null,null,"مدفوع"]
[null,null,null,null,null,null,null,null,null,null,null,null,null,null,null,null,null,null,null,null,null,null,"مدفوع"]
[null,null,null,null,null,null,null,null,null,null,null,null,null,null,null,null,null,null,null,null,null,null,"مدفوع"]
[null,null,null,null,null,null,null,null,null,null,null,null,null,null,null,null,null,null,null,null,null,null,"مدفوع"]
[null,null,null,null,null,null,null,null,null,null,null,null,null,null,null,null,null,null,null,null,null,null,"مدفوع"]
[null,null,null,null,null,null,null,null,null,null,null,null,null,null,null,null,null,null,null,null,null,null,"مدفوع"]
[null,null,null,null,null,null,null,null,null,null,null,null,null,null,null,null,null,null,null,null,null,null,"مدفوع"]
[null,null,null,null,null,null,null,null,null,null,null,null,null,null,null,null,null,null,null,null,null,null,"مدفوع"]
[null,null,null,null,null,null,null,null,null,null,null,null,null,null,null,null,null,null,null,null,null,null,"مدفوع"]
[null,null,null,null,null,null,null,null,null,null,null,null,null,null,null,null,null,null,null,null,null,null,"مدفوع"]
[null,null,null,null,null,null,null,null,null,null,null,null,null,null,null,null,null,null,null,null,null,null,"مدفوع"]
[null,null,null,null,null,null,null,null,null,null,null,null,null,null,null,null,null,null,null,null,null,null,"مدفوع"]
[null,null,null,null,null,null,null,null,null,null,null,null,null,null,null,null,null,null,null,null,null,null,"مدفوع"]
[null,null,null,null,null,null,null,null,null,null,null,null,null,null,null,null,null,null,null,null,null,null,"مدفوع"]
[null,null,null,null,null,null,null,null,null,null,null,null,null,null,null,null,null,null,null,null,null,null,"مدفوع"]
[null,null,null,null,null,null,null,null,null,null,null,null,null,null,null,null,null,null,null,null,null,null,"مدفوع"]
[null,null,null,null,null,null,null,null,null,null,null,null,null,null,null,null,null,null,null,null,null,null,"مدفوع"]
[null,null,null,null,null,null,null,null,null,null,null,null,null,null,null,null,null,null,null,null,null,null,"مدفوع"]
[null,null,null,null,null,null,null,null,null,null,null,null,null,null,null,null,null,null,null,null,null,null,"مدفوع"]
[null,null,null,null,null,null,null,null,null,null,null,null,null,null,null,null,null,null,null,null,null,null,"مدفوع"]
[null,null,null,null,null,null,null,null,null,null,null,null,null,null,null,null,null,null,null,null,null,null,"مدفوع"]
[null,null,null,null,null,null,null,null,null,null,null,null,null,null,null,null,null,null,null,null,null,null,"مدفوع"]
[null,null,null,null,null,null,null,null,null,null,null,null,null,null,null,null,null,null,null,null,null,null,"مدفوع"]
[null,null,null,null,null,null,null,null,null,null,null,null,null,null,null,null,null,null,null,null,null,null,{"$f":"IF(V1032<=0,\"مدفوع\",\"غير مدفوع\")","v":"مدفوع"}]
[null,null,null,null,null,null,null,null,null,null,null,null,null,null,null,null,null,null,null,null,null,null,"مدفوع"]
[null,null,null,null,null,null,null,null,null,null,null,null,null,null,null,null,null,null,null,null,null,null,"مدفوع"]
[null,null,null,null,null,null,null,null,null,null,null,null,null,null,null,null,null,null,null,null,null,null,"مدفوع"]
[null,null,null,null,null,null,null,null,null,null,null,null,null,null,null,null,null,null,null,null,null,null,"مدفوع"]
[null,null,null,null,null,null,null,null,null,null,null,null,null,null,null,null,null,null,null,null,null,null,"مدفوع"]
[null,null,null,null,null,null,null,null,null,null,null,null,null,null,null,null,null,null,null,null,null,null,"مدفوع"]
[null,null,null,null,null,null,null,null,null,null,null,null,null,null,null,null,null,null,null,null,null,null,"مدفوع"]
[null,null,null,null,null,null,null,null,null,null,null,null,null,null,null,null,null,null,null,null,null,null,"مدفوع"]
[null,null,null,null,null,null,null,null,null,null,null,null,null,null,null,null,null,null,null,null,null,null,"مدفوع"]
[null,null,null,null,null,null,null,null,null,null,null,null,null,null,null,null,null,null,null,null,null,null,"مدفوع"]
[null,null,null,null,null,null,null,null,null,null,null,null,null,null,null,null,null,null,null,null,null,null,"مدفوع"]
[null,null,null,null,null,null,null,null,null,null,null,null,null,null,null,null,null,null,null,null,null,null,"مدفوع"]
[null,null,null,null,null,null,null,null,null,null,null,null,null,null,null,null,null,null,null,null,null,null,"مدفوع"]
[null,null,null,null,null,null,null,null,null,null,null,null,null,null,null,null,null,null,null,null,null,null,"مدفوع"]
[null,null,null,null,null,null,null,null,null,null,null,null,null,null,null,null,null,null,null,null,null,null,"مدفوع"]
[null,null,null,null,null,null,null,null,null,null,null,null,null,null,null,null,null,null,null,null,null,null,"مدفوع"]
[null,null,null,null,null,null,null,null,null,null,null,null,null,null,null,null,null,null,null,null,null,null,"مدفوع"]
[null,null,null,null,null,null,null,null,null,null,null,null,null,null,null,null,null,null,null,null,null,null,"مدفوع"]
[null,null,null,null,null,null,null,null,null,null,null,null,null,null,null,null,null,null,null,null,null,null,"مدفوع"]
[null,null,null,null,null,null,null,null,null,null,null,null,null,null,null,null,null,null,null,null,null,null,"مدفوع"]
[null,null,null,null,null,null,null,null,null,null,null,null,null,null,null,null,null,null,null,null,null,null,"مدفوع"]
[null,null,null,null,null,null,null,null,null,null,null,null,null,null,null,null,null,null,null,null,null,null,"مدفوع"]
[null,null,null,null,null,null,null,null,null,null,null,null,null,null,null,null,null,null,null,null,null,null,"مدفوع"]
[null,null,null,null,null,null,null,null,null,null,null,null,null,null,null,null,null,null,null,null,null,null,"مدفوع"]
[null,null,null,null,null,null,null,null,null,null,null,null,null,null,null,null,null,null,null,null,null,null,"مدفوع"]
[null,null,null,null,null,null,null,null,null,null,null,null,null,null,null,null,null,null,null,null,null,null,"مدفوع"]
[null,null,null,null,null,null,null,null,null,null,null,null,null,null,null,null,null,null,null,null,null,null,"مدفوع"]
[null,null,null,null,null,null,null,null,null,null,null,null,null,null,null,null,null,null,null,null,null,null,"مدفوع"]
[null,null,null,null,null,null,null,null,null,null,null,null,null,null,null,null,null,null,null,null,null,null,"مدفوع"]
[null,null,null,null,null,null,null,null,null,null,null,null,null,null,null,null,null,null,null,null,null,null,"مدفوع"]
[null,null,null,null,null,null,null,null,null,null,null,null,null,null,null,null,null,null,null,null,null,null,"مدفوع"]
[null,null,null,null,null,null,null,null,null,null,null,null,null,null,null,null,null,null,null,null,null,null,"مدفوع"]
[null,null,null,null,null,null,null,null,null,null,null,null,null,null,null,null,null,null,null,null,null,null,"مدفوع"]
[null,null,null,null,null,null,null,null,null,null,null,null,null,null,null,null,null,null,null,null,null,null,"مدفوع"]
[null,null,null,null,null,null,null,null,null,null,null,null,null,null,null,null,null,null,null,null,null,null,"مدفوع"]
[null,null,null,null,null,null,null,null,null,null,null,null,null,null,null,null,null,null,null,null,null,null,"مدفوع"]
[null,null,null,null,null,null,null,null,null,null,null,null,null,null,null,null,null,null,null,null,null,null,"مدفوع"]
[null,null,null,null,null,null,null,null,null,null,null,null,null,null,null,null,null,null,null,null,null,null,"مدفوع"]
[null,null,null,null,null,null,null,null,null,null,null,null,null,null,null,null,null,null,null,null,null,null,"مدفوع"]
[null,null,null,null,null,null,null,null,null,null,null,null,null,null,null,null,null,null,null,null,null,null,"مدفوع"]
[null,null,null,null,null,null,null,null,null,null,null,null,null,null,null,null,null,null,null,null,null,null,"مدفوع"]
[null,null,null,null,null,null,null,null,null,null,null,null,null,null,null,null,null,null,null,null,null,null,"مدفوع"]
[null,null,null,null,null,null,null,null,null,null,null,null,null,null,null,null,null,null,null,null,null,null,"مدفوع"]
[null,null,null,null,null,null,null,null,null,null,null,null,null,null,null,null,null,null,null,null,null,null,"مدفوع"]
[null,null,null,null,null,null,null,null,null,null,null,null,null,null,null,null,null,null,null,null,null,null,"مدفوع"]
[null,null,null,null,null,null,null,null,null,null,null,null,null,null,null,null,null,null,null,null,null,null,"مدفوع"]
[null,null,null,null,null,null,null,null,null,null,null,null,null,null,null,null,null,null,null,null,null,null,"مدفوع"]
[null,null,null,null,null,null,null,null,null,null,null,null,null,null,null,null,null,null,null,null,null,null,"مدفوع"]
[null,null,null,null,null,null,null,null,null,null,null,null,null,null,null,null,null,null,null,null,null,null,"مدفوع"]
[null,null,null,null,null,null,null,null,null,null,null,null,null,null,null,null,null,null,null,null,null,null,"مدفوع"]
[null,null,null,null,null,null,null,null,null,null,null,null,null,null,null,null,null,null,null,null,null,null,"مدفوع"]
[null,null,null,null,null,null,null,null,null,null,null,null,null,null,null,null,null,null,null,null,null,null,"مدفوع"]
[null,null,null,null,null,null,null,null,null,null,null,null,null,null,null,null,null,null,null,null,null,null,"مدفوع"]
[null,null,null,null,null,null,null,null,null,null,null,null,null,null,null,null,null,null,null,null,null,null,"مدفوع"]
[null,null,null,null,null,null,null,null,null,null,null,null,null,null,null,null,null,null,null,null,null,null,"مدفوع"]
[null,null,null,null,null,null,null,null,null,null,null,null,null,null,null,null,null,null,null,null,null,null,"مدفوع"]
[null,null,null,null,null,null,null,null,null,null,null,null,null,null,null,null,null,null,null,null,null,null,"مدفوع"]
[null,null,null,null,null,null,null,null,null,null,null,null,null,null,null,null,null,null,null,null,null,null,"مدفوع"]
[null,null,null,null,null,null,null,null,null,null,null,null,null,null,null,null,null,null,null,null,null,null,"مدفوع"]
[null,null,null,null,null,null,null,null,null,null,null,null,null,null,null,null,null,null,null,null,null,null,"مدفوع"]
[null,null,null,null,null,null,null,null,null,null,null,null,null,null,null,null,null,null,null,null,null,null,"مدفوع"]
[null,null,null,null,null,null,null,null,null,null,null,null,null,null,null,null,null,null,null,null,null,null,"مدفوع"]
[null,null,null,null,null,null,null,null,null,null,null,null,null,null,null,null,null,null,null,null,null,null,"مدفوع"]
[null,null,null,null,null,null,null,null,null,null,null,null,null,null,null,null,null,null,null,null,null,null,{"$f":"IF(V1096<=0,\"مدفوع\",\"غير مدفوع\")","v":"مدفوع"}]
[null,null,null,null,null,null,null,null,null,null,null,null,null,null,null,null,null,null,null,null,null,null,"مدفوع"]
[null,null,null,null,null,null,null,null,null,null,null,null,null,null,null,null,null,null,null,null,null,null,"مدفوع"]
[null,null,null,null,null,null,null,null,null,null,null,null,null,null,null,null,null,null,null,null,null,null,"مدفوع"]
[null,null,null,null,null,null,null,null,null,null,null,null,null,null,null,null,null,null,null,null,null,null,"مدفوع"]
[null,null,null,null,null,null,null,null,null,null,null,null,null,null,null,null,null,null,null,null,null,null,"مدفوع"]
[null,null,null,null,null,null,null,null,null,null,null,null,null,null,null,null,null,null,null,null,null,null,"مدفوع"]
[null,null,null,null,null,null,null,null,null,null,null,null,null,null,null,null,null,null,null,null,null,null,"مدفوع"]
[null,null,null,null,null,null,null,null,null,null,null,null,null,null,null,null,null,null,null,null,null,null,"مدفوع"]
[null,null,null,null,null,null,null,null,null,null,null,null,null,null,null,null,null,null,null,null,null,null,"مدفوع"]
[null,null,null,null,null,null,null,null,null,null,null,null,null,null,null,null,null,null,null,null,null,null,"مدفوع"]
[null,null,null,null,null,null,null,null,null,null,null,null,null,null,null,null,null,null,null,null,null,null,"مدفوع"]
[null,null,null,null,null,null,null,null,null,null,null,null,null,null,null,null,null,null,null,null,null,null,"مدفوع"]
[null,null,null,null,null,null,null,null,null,null,null,null,null,null,null,null,null,null,null,null,null,null,"مدفوع"]
[null,null,null,null,null,null,null,null,null,null,null,null,null,null,null,null,null,null,null,null,null,null,"مدفوع"]
[null,null,null,null,null,null,null,null,null,null,null,null,null,null,null,null,null,null,null,null,null,null,"مدفوع"]
[null,null,null,null,null,null,null,null,null,null,null,null,null,null,null,null,null,null,null,null,null,null,"مدفوع"]
[null,null,null,null,null,null,null,null,null,null,null,null,null,null,null,null,null,null,null,null,null,null,"مدفوع"]
[null,null,null,null,null,null,null,null,null,null,null,null,null,null,null,null,null,null,null,null,null,null,"مدفوع"]
[null,null,null,null,null,null,null,null,null,null,null,null,null,null,null,null,null,null,null,null,null,null,"مدفوع"]
[null,null,null,null,null,null,null,null,null,null,null,null,null,null,null,null,null,null,null,null,null,null,"مدفوع"]
[null,null,null,null,null,null,null,null,null,null,null,null,null,null,null,null,null,null,null,null,null,null,"مدفوع"]
[null,null,null,null,null,null,null,null,null,null,null,null,null,null,null,null,null,null,null,null,null,null,"مدفوع"]
[null,null,null,null,null,null,null,null,null,null,null,null,null,null,null,null,null,null,null,null,null,null,"مدفوع"]
[null,null,null,null,null,null,null,null,null,null,null,null,null,null,null,null,null,null,null,null,null,null,"مدفوع"]
[null,null,null,null,null,null,null,null,null,null,null,null,null,null,null,null,null,null,null,null,null,null,"مدفوع"]
[null,null,null,null,null,null,null,null,null,null,null,null,null,null,null,null,null,null,null,null,null,null,"مدفوع"]
[null,null,null,null,null,null,null,null,null,null,null,null,null,null,null,null,null,null,null,null,null,null,"مدفوع"]
[null,null,null,null,null,null,null,null,null,null,null,null,null,null,null,null,null,null,null,null,null,null,"مدفوع"]
[null,null,null,null,null,null,null,null,null,null,null,null,null,null,null,null,null,null,null,null,null,null,"مدفوع"]
[null,null,null,null,null,null,null,null,null,null,null,null,null,null,null,null,null,null,null,null,null,null,"مدفوع"]
[null,null,null,null,null,null,null,null,null,null,null,null,null,null,null,null,null,null,null,null,null,null,"مدفوع"]
[null,null,null,null,null,null,null,null,null,null,null,null,null,null,null,null,null,null,null,null,null,null,"مدفوع"]
[null,null,null,null,null,null,null,null,null,null,null,null,null,null,null,null,null,null,null,null,null,null,"مدفوع"]
[null,null,null,null,null,null,null,null,null,null,null,null,null,null,null,null,null,null,null,null,null,null,"مدفوع"]
[null,null,null,null,null,null,null,null,null,null,null,null,null,null,null,null,null,null,null,null,null,null,"مدفوع"]
[null,null,null,null,null,null,null,null,null,null,null,null,null,null,null,null,null,null,null,null,null,null,"مدفوع"]
[null,null,null,null,null,null,null,null,null,null,null,null,null,null,null,null,null,null,null,null,null,null,"مدفوع"]
[null,null,null,null,null,null,null,null,null,null,null,null,null,null,null,null,null,null,null,null,null,null,"مدفوع"]
[null,null,null,null,null,null,null,null,null,null,null,null,null,null,null,null,null,null,null,null,null,null,"مدفوع"]
[null,null,null,null,null,null,null,null,null,null,null,null,null,null,null,null,null,null,null,null,null,null,"مدفوع"]
[null,null,null,null,null,null,null,null,null,null,null,null,null,null,null,null,null,null,null,null,null,null,"مدفوع"]
[null,null,null,null,null,null,null,null,null,null,null,null,null,null,null,null,null,null,null,null,null,null,"مدفوع"]
[null,null,null,null,null,null,null,null,null,null,null,null,null,null,null,null,null,null,null,null,null,null,"مدفوع"]
[null,null,null,null,null,null,null,null,null,null,null,null,null,null,null,null,null,null,null,null,null,null,"مدفوع"]
[null,null,null,null,null,null,null,null,null,null,null,null,null,null,null,null,null,null,null,null,null,null,"مدفوع"]
[null,null,null,null,null,null,null,null,null,null,null,null,null,null,null,null,null,null,null,null,null,null,"مدفوع"]
[null,null,null,null,null,null,null,null,null,null,null,null,null,null,null,null,null,null,null,null,null,null,"مدفوع"]
[null,null,null,null,null,null,null,null,null,null,null,null,null,null,null,null,null,null,null,null,null,null,"مدفوع"]
[null,null,null,null,null,null,null,null,null,null,null,null,null,null,null,null,null,null,null,null,null,null,"مدفوع"]
[null,null,null,null,null,null,null,null,null,null,null,null,null,null,null,null,null,null,null,null,null,null,"مدفوع"]
[null,null,null,null,null,null,null,null,null,null,null,null,null,null,null,null,null,null,null,null,null,null,"مدفوع"]
[null,null,null,null,null,null,null,null,null,null,null,null,null,null,null,null,null,null,null,null,null,null,"مدفوع"]
[null,null,null,null,null,null,null,null,null,null,null,null,null,null,null,null,null,null,null,null,null,null,"مدفوع"]
[null,null,null,null,null,null,null,null,null,null,null,null,null,null,null,null,null,null,null,null,null,null,"مدفوع"]
[null,null,null,null,null,null,null,null,null,null,null,null,null,null,null,null,null,null,null,null,null,null,"مدفوع"]
[null,null,null,null,null,null,null,null,null,null,null,null,null,null,null,null,null,null,null,null,null,null,"مدفوع"]
[null,null,null,null,null,null,null,null,null,null,null,null,null,null,null,null,null,null,null,null,null,null,"مدفوع"]
[null,null,null,null,null,null,null,null,null,null,null,null,null,null,null,null,null,null,null,null,null,null,"مدفوع"]
[null,null,null,null,null,null,null,null,null,null,null,null,null,null,null,null,null,null,null,null,null,null,"مدفوع"]
[null,null,null,null,null,null,null,null,null,null,null,null,null,null,null,null,null,null,null,null,null,null,"مدفوع"]
[null,null,null,null,null,null,null,null,null,null,null,null,null,null,null,null,null,null,null,null,null,null,"مدفوع"]
[null,null,null,null,null,null,null,null,null,null,null,null,null,null,null,null,null,null,null,null,null,null,"مدفوع"]
[null,null,null,null,null,null,null,null,null,null,null,null,null,null,null,null,null,null,null,null,null,null,"مدفوع"]
[null,null,null,null,null,null,null,null,null,null,null,null,null,null,null,null,null,null,null,null,null,null,{"$f":"IF(V1160<=0,\"مدفوع\",\"غير مدفوع\")","v":"مدفوع"}]
[null,null,null,null,null,null,null,null,null,null,null,null,null,null,null,null,null,null,null,null,null,null,"مدفوع"]
[null,null,null,null,null,null,null,null,null,null,null,null,null,null,null,null,null,null,null,null,null,null,"مدفوع"]
[null,null,null,null,null,null,null,null,null,null,null,null,null,null,null,null,null,null,null,null,null,null,"مدفوع"]
[null,null,null,null,null,null,null,null,null,null,null,null,null,null,null,null,null,null,null,null,null,null,"مدفوع"]
[null,null,null,null,null,null,null,null,null,null,null,null,null,null,null,null,null,null,null,null,null,null,"مدفوع"]
[null,null,null,null,null,null,null,null,null,null,null,null,null,null,null,null,null,null,null,null,null,null,"مدفوع"]
[null,null,null,null,null,null,null,null,null,null,null,null,null,null,null,null,null,null,null,null,null,null,"مدفوع"]
[null,null,null,null,null,null,null,null,null,null,null,null,null,null,null,null,null,null,null,null,null,null,"مدفوع"]
[null,null,null,null,null,null,null,null,null,null,null,null,null,null,null,null,null,null,null,null,null,null,"مدفوع"]
[null,null,null,null,null,null,null,null,null,null,null,null,null,null,null,null,null,null,null,null,null,null,"مدفوع"]
[null,null,null,null,null,null,null,null,null,null,null,null,null,null,null,null,null,null,null,null,null,null,"مدفوع"]
[null,null,null,null,null,null,null,null,null,null,null,null,null,null,null,null,null,null,null,null,null,null,"مدفوع"]
[null,null,null,null,null,null,null,null,null,null,null,null,null,null,null,null,null,null,null,null,null,null,"مدفوع"]
[null,null,null,null,null,null,null,null,null,null,null,null,null,null,null,null,null,null,null,null,null,null,"مدفوع"]
[null,null,null,null,null,null,null,null,null,null,null,null,null,null,null,null,null,null,null,null,null,null,"مدفوع"]
[null,null,null,null,null,null,null,null,null,null,null,null,null,null,null,null,null,null,null,null,null,null,"مدفوع"]
[null,null,null,null,null,null,null,null,null,null,null,null,null,null,null,null,null,null,null,null,null,null,"مدفوع"]
[null,null,null,null,null,null,null,null,null,null,null,null,null,null,null,null,null,null,null,null,null,null,"مدفوع"]
[null,null,null,null,null,null,null,null,null,null,null,null,null,null,null,null,null,null,null,null,null,null,"مدفوع"]
[null,null,null,null,null,null,null,null,null,null,null,null,null,null,null,null,null,null,null,null,null,null,"مدفوع"]
[null,null,null,null,null,null,null,null,null,null,null,null,null,null,null,null,null,null,null,null,null,null,"مدفوع"]
[null,null,null,null,null,null,null,null,null,null,null,null,null,null,null,null,null,null,null,null,null,null,"مدفوع"]
[null,null,null,null,null,null,null,null,null,null,null,null,null,null,null,null,null,null,null,null,null,null,"مدفوع"]
[null,null,null,null,null,null,null,null,null,null,null,null,null,null,null,null,null,null,null,null,null,null,"مدفوع"]
[null,null,null,null,null,null,null,null,null,null,null,null,null,null,null,null,null,null,null,null,null,null,"مدفوع"]
[null,null,null,null,null,null,null,null,null,null,null,null,null,null,null,null,null,null,null,null,null,null,"مدفوع"]
[null,null,null,null,null,null,null,null,null,null,null,null,null,null,null,null,null,null,null,null,null,null,"مدفوع"]
[null,null,null,null,null,null,null,null,null,null,null,null,null,null,null,null,null,null,null,null,null,null,"مدفوع"]
[null,null,null,null,null,null,null,null,null,null,null,null,null,null,null,null,null,null,null,null,null,null,"مدفوع"]
[null,null,null,null,null,null,null,null,null,null,null,null,null,null,null,null,null,null,null,null,null,null,"مدفوع"]
[null,null,null,null,null,null,null,null,null,null,null,null,null,null,null,null,null,null,null,null,null,null,"مدفوع"]
[null,null,null,null,null,null,null,null,null,null,null,null,null,null,null,null,null,null,null,null,null,null,"مدفوع"]
[null,null,null,null,null,null,null,null,null,null,null,null,null,null,null,null,null,null,null,null,null,null,"مدفوع"]
[null,null,null,null,null,null,null,null,null,null,null,null,null,null,null,null,null,null,null,null,null,null,"مدفوع"]
[null,null,null,null,null,null,null,null,null,null,null,null,null,null,null,null,null,null,null,null,null,null,"مدفوع"]
[null,null,null,null,null,null,null,null,null,null,null,null,null,null,null,null,null,null,null,null,null,null,"مدفوع"]
[null,null,null,null,null,null,null,null,null,null,null,null,null,null,null,null,null,null,null,null,null,null,"مدفوع"]
[null,null,null,null,null,null,null,null,null,null,null,null,null,null,null,null,null,null,null,null,null,null,"مدفوع"]
[null,null,null,null,null,null,null,null,null,null,null,null,null,null,null,null,null,null,null,null,null,null,"مدفوع"]
[null,null,null,null,null,null,null,null,null,null,null,null,null,null,null,null,null,null,null,null,null,null,"مدفوع"]
[null,null,null,null,null,null,null,null,null,null,null,null,null,null,null,null,null,null,null,null,null,null,"مدفوع"]
[null,null,null,null,null,null,null,null,null,null,null,null,null,null,null,null,null,null,null,null,null,null,"مدفوع"]
[null,null,null,null,null,null,null,null,null,null,null,null,null,null,null,null,null,null,null,null,null,null,"مدفوع"]
[null,null,null,null,null,null,null,null,null,null,null,null,null,null,null,null,null,null,null,null,null,null,"مدفوع"]
[null,null,null,null,null,null,null,null,null,null,null,null,null,null,null,null,null,null,null,null,null,null,"مدفوع"]
[null,null,null,null,null,null,null,null,null,null,null,null,null,null,null,null,null,null,null,null,null,null,"مدفوع"]
[null,null,null,null,null,null,null,null,null,null,null,null,null,null,null,null,null,null,null,null,null,null,"مدفوع"]
[null,null,null,null,null,null,null,null,null,null,null,null,null,null,null,null,null,null,null,null,null,null,"مدفوع"]
[null,null,null,null,null,null,null,null,null,null,null,null,null,null,null,null,null,null,null,null,null,null,"مدفوع"]
[null,null,null,null,null,null,null,null,null,null,null,null,null,null,null,null,null,null,null,null,null,null,"مدفوع"]
[null,null,null,null,null,null,null,null,null,null,null,null,null,null,null,null,null,null,null,null,null,null,"مدفوع"]
[null,null,null,null,null,null,null,null,null,null,null,null,null,null,null,null,null,null,null,null,null,null,"مدفوع"]
[null,null,null,null,null,null,null,null,null,null,null,null,null,null,null,null,null,null,null,null,null,null,"مدفوع"]
[null,null,null,null,null,null,null,null,null,null,null,null,null,null,null,null,null,null,null,null,null,null,"مدفوع"]
[null,null,null,null,null,null,null,null,null,null,null,null,null,null,null,null,null,null,null,null,null,null,"مدفوع"]
[null,null,null,null,null,null,null,null,null,null,null,null,null,null,null,null,null,null,null,null,null,null,"مدفوع"]
[null,null,null,null,null,null,null,null,null,null,null,null,null,null,null,null,null,null,null,null,null,null,"مدفوع"]
[null,null,null,null,null,null,null,null,null,null,null,null,null,null,null,null,null,null,null,null,null,null,"مدفوع"]
[null,null,null,null,null,null,null,null,null,null,null,null,null,null,null,null,null,null,null,null,null,null,"مدفوع"]
[null,null,null,null,null,null,null,null,null,null,null,null,null,null,null,null,null,null,null,null,null,null,"مدفوع"]
[null,null,null,null,null,null,null,null,null,null,null,null,null,null,null,null,null,null,null,null,null,null,"مدفوع"]
[null,null,null,null,null,null,null,null,null,null,null,null,null,null,null,null,null,null,null,null,null,null,"مدفوع"]
[null,null,null,null,null,null,null,null,null,null,null,null,null,null,null,null,null,null,null,null,null,null,"مدفوع"]
[null,null,null,null,null,null,null,null,null,null,null,null,null,null,null,null,null,null,null,null,null,null,{"$f":"IF(V1224<=0,\"مدفوع\",\"غير مدفوع\")","v":"مدفوع"}]
[null,null,null,null,null,null,null,null,null,null,null,null,null,null,null,null,null,null,null,null,null,null,"مدفوع"]
[null,null,null,null,null,null,null,null,null,null,null,null,null,null,null,null,null,null,null,null,null,null,"مدفوع"]
[null,null,null,null,null,null,null,null,null,null,null,null,null,null,null,null,null,null,null,null,null,null,"مدفوع"]
[null,null,null,null,null,null,null,null,null,null,null,null,null,null,null,null,null,null,null,null,null,null,"مدفوع"]
[null,null,null,null,null,null,null,null,null,null,null,null,null,null,null,null,null,null,null,null,null,null,"مدفوع"]
[null,null,null,null,null,null,null,null,null,null,null,null,null,null,null,null,null,null,null,null,null,null,"مدفوع"]
[null,null,null,null,null,null,null,null,null,null,null,null,null,null,null,null,null,null,null,null,null,null,"مدفوع"]
[null,null,null,null,null,null,null,null,null,null,null,null,null,null,null,null,null,null,null,null,null,null,"مدفوع"]
[null,null,null,null,null,null,null,null,null,null,null,null,null,null,null,null,null,null,null,null,null,null,"مدفوع"]
[null,null,null,null,null,null,null,null,null,null,null,null,null,null,null,null,null,null,null,null,null,null,"مدفوع"]
[null,null,null,null,null,null,null,null,null,null,null,null,null,null,null,null,null,null,null,null,null,null,"مدفوع"]
[null,null,null,null,null,null,null,null,null,null,null,null,null,null,null,null,null,null,null,null,null,null,"مدفوع"]
[null,null,null,null,null,null,null,null,null,null,null,null,null,null,null,null,null,null,null,null,null,null,"مدفوع"]
[null,null,null,null,null,null,null,null,null,null,null,null,null,null,null,null,null,null,null,null,null,null,"مدفوع"]
[null,null,null,null,null,null,null,null,null,null,null,null,null,null,null,null,null,null,null,null,null,null,"مدفوع"]
[null,null,null,null,null,null,null,null,null,null,null,null,null,null,null,null,null,null,null,null,null,null,"مدفوع"]
[null,null,null,null,null,null,null,null,null,null,null,null,null,null,null,null,null,null,null,null,null,null,"مدفوع"]
[null,null,null,null,null,null,null,null,null,null,null,null,null,null,null,null,null,null,null,null,null,null,"مدفوع"]
[null,null,null,null,null,null,null,null,null,null,null,null,null,null,null,null,null,null,null,null,null,null,"مدفوع"]
[null,null,null,null,null,null,null,null,null,null,null,null,null,null,null,null,null,null,null,null,null,null,"مدفوع"]
[null,null,null,null,null,null,null,null,null,null,null,null,null,null,null,null,null,null,null,null,null,null,"مدفوع"]
[null,null,null,null,null,null,null,null,null,null,null,null,null,null,null,null,null,null,null,null,null,null,"مدفوع"]
[null,null,null,null,null,null,null,null,null,null,null,null,null,null,null,null,null,null,null,null,null,null,"مدفوع"]
[null,null,null,null,null,null,null,null,null,null,null,null,null,null,null,null,null,null,null,null,null,null,"مدفوع"]
[null,null,null,null,null,null,null,null,null,null,null,null,null,null,null,null,null,null,null,null,null,null,"مدفوع"]
[null,null,null,null,null,null,null,null,null,null,null,null,null,null,null,null,null,null,null,null,null,null,"مدفوع"]
[null,null,null,null,null,null,null,null,null,null,null,null,null,null,null,null,null,null,null,null,null,null,"مدفوع"]
[null,null,null,null,null,null,null,null,null,null,null,null,null,null,null,null,null,null,null,null,null,null,"مدفوع"]
[null,null,null,null,null,null,null,null,null,null,null,null,null,null,null,null,null,null,null,null,null,null,"مدفوع"]
[null,null,null,null,null,null,null,null,null,null,null,null,null,null,null,null,null,null,null,null,null,null,"مدفوع"]
[null,null,null,null,null,null,null,null,null,null,null,null,null,null,null,null,null,null,null,null,null,null,"مدفوع"]
[null,null,null,null,null,null,null,null,null,null,null,null,null,null,null,null,null,null,null,null,null,null,"مدفوع"]
[null,null,null,null,null,null,null,null,null,null,null,null,null,null,null,null,null,null,null,null,null,null,"مدفوع"]
[null,null,null,null,null,null,null,null,null,null,null,null,null,null,null,null,null,null,null,null,null,null,"مدفوع"]
[null,null,null,null,null,null,null,null,null,null,null,null,null,null,null,null,null,null,null,null,null,null,"مدفوع"]
[null,null,null,null,null,null,null,null,null,null,null,null,null,null,null,null,null,null,null,null,null,null,"مدفوع"]
[null,null,null,null,null,null,null,null,null,null,null,null,null,null,null,null,null,null,null,null,null,null,"مدفوع"]
[null,null,null,null,null,null,null,null,null,null,null,null,null,null,null,null,null,null,null,null,null,null,"مدفوع"]
[null,null,null,null,null,null,null,null,null,null,null,null,null,null,null,null,null,null,null,null,null,null,"مدفوع"]
[null,null,null,null,null,null,null,null,null,null,null,null,null,null,null,null,null,null,null,null,null,null,"مدفوع"]
[null,null,null,null,null,null,null,null,null,null,null,null,null,null,null,null,null,null,null,null,null,null,"مدفوع"]
[null,null,null,null,null,null,null,null,null,null,null,null,null,null,null,null,null,null,null,null,null,null,"مدفوع"]
[null,null,null,null,null,null,null,null,null,null,null,null,null,null,null,null,null,null,null,null,null,null,"مدفوع"]
[null,null,null,null,null,null,null,null,null,null,null,null,null,null,null,null,null,null,null,null,null,null,"مدفوع"]
[null,null,null,null,null,null,null,null,null,null,null,null,null,null,null,null,null,null,null,null,null,null,"مدفوع"]
[null,null,null,null,null,null,null,null,null,null,null,null,null,null,null,null,null,null,null,null,null,null,"مدفوع"]
[null,null,null,null,null,null,null,null,null,null,null,null,null,null,null,null,null,null,null,null,null,null,"مدفوع"]
[null,null,null,null,null,null,null,null,null,null,null,null,null,null,null,null,null,null,null,null,null,null,"مدفوع"]
[null,null,null,null,null,null,null,null,null,null,null,null,null,null,null,null,null,null,null,null,null,null,"مدفوع"]
[null,null,null,null,null,null,null,null,null,null,null,null,null,null,null,null,null,null,null,null,null,null,"مدفوع"]
[null,null,null,null,null,null,null,null,null,null,null,null,null,null,null,null,null,null,null,null,null,null,"مدفوع"]
[null,null,null,null,null,null,null,null,null,null,null,null,null,null,null,null,null,null,null,null,null,null,"مدفوع"]
[null,null,null,null,null,null,null,null,null,null,null,null,null,null,null,null,null,null,null,null,null,null,"مدفوع"]
[null,null,null,null,null,null,null,null,null,null,null,null,null,null,null,null,null,null,null,null,null,null,"مدفوع"]
[null,null,null,null,null,null,null,null,null,null,null,null,null,null,null,null,null,null,null,null,null,null,"مدفوع"]
[null,null,null,null,null,null,null,null,null,null,null,null,null,null,null,null,null,null,null,null,null,null,"مدفوع"]
[null,null,null,null,null,null,null,null,null,null,null,null,null,null,null,null,null,null,null,null,null,null,"مدفوع"]
[null,null,null,null,null,null,null,null,null,null,null,null,null,null,null,null,null,null,null,null,null,null,"مدفوع"]
[null,null,null,null,null,null,null,null,null,null,null,null,null,null,null,null,null,null,null,null,null,null,"مدفوع"]
[null,null,null,null,null,null,null,null,null,null,null,null,null,null,null,null,null,null,null,null,null,null,"مدفوع"]
[null,null,null,null,null,null,null,null,null,null,null,null,null,null,null,null,null,null,null,null,null,null,"مدفوع"]
[null,null,null,null,null,null,null,null,null,null,null,null,null,null,null,null,null,null,null,null,null,null,"مدفوع"]
[null,null,null,null,null,null,null,null,null,null,null,null,null,null,null,null,null,null,null,null,null,null,"مدفوع"]
[null,null,null,null,null,null,null,null,null,null,null,null,null,null,null,null,null,null,null,null,null,null,{"$f":"IF(V1288<=0,\"مدفوع\",\"غير مدفوع\")","v":"مدفوع"}]
[null,null,null,null,null,null,null,null,null,null,null,null,null,null,null,null,null,null,null,null,null,null,"مدفوع"]
[null,null,null,null,null,null,null,null,null,null,null,null,null,null,null,null,null,null,null,null,null,null,"مدفوع"]
[null,null,null,null,null,null,null,null,null,null,null,null,null,null,null,null,null,null,null,null,null,null,"مدفوع"]
[null,null,null,null,null,null,null,null,null,null,null,null,null,null,null,null,null,null,null,null,null,null,"مدفوع"]
[null,null,null,null,null,null,null,null,null,null,null,null,null,null,null,null,null,null,null,null,null,null,"مدفوع"]
[null,null,null,null,null,null,null,null,null,null,null,null,null,null,null,null,null,null,null,null,null,null,"مدفوع"]
[null,null,null,null,null,null,null,null,null,null,null,null,null,null,null,null,null,null,null,null,null,null,"مدفوع"]
[null,null,null,null,null,null,null,null,null,null,null,null,null,null,null,null,null,null,null,null,null,null,"مدفوع"]
[null,null,null,null,null,null,null,null,null,null,null,null,null,null,null,null,null,null,null,null,null,null,"مدفوع"]
[null,null,null,null,null,null,null,null,null,null,null,null,null,null,null,null,null,null,null,null,null,null,"مدفوع"]
[null,null,null,null,null,null,null,null,null,null,null,null,null,null,null,null,null,null,null,null,null,null,"مدفوع"]
[null,null,null,null,null,null,null,null,null,null,null,null,null,null,null,null,null,null,null,null,null,null,"مدفوع"]
[null,null,null,null,null,null,null,null,null,null,null,null,null,null,null,null,null,null,null,null,null,null,"مدفوع"]
[null,null,null,null,null,null,null,null,null,null,null,null,null,null,null,null,null,null,null,null,null,null,"مدفوع"]
[null,null,null,null,null,null,null,null,null,null,null,null,null,null,null,null,null,null,null,null,null,null,"مدفوع"]
[null,null,null,null,null,null,null,null,null,null,null,null,null,null,null,null,null,null,null,null,null,null,"مدفوع"]
[null,null,null,null,null,null,null,null,null,null,null,null,null,null,null,null,null,null,null,null,null,null,"مدفوع"]
[null,null,null,null,null,null,null,null,null,null,null,null,null,null,null,null,null,null,null,null,null,null,"مدفوع"]
[null,null,null,null,null,null,null,null,null,null,null,null,null,null,null,null,null,null,null,null,null,null,"مدفوع"]
[null,null,null,null,null,null,null,null,null,null,null,null,null,null,null,null,null,null,null,null,null,null,"مدفوع"]
[null,null,null,null,null,null,null,null,null,null,null,null,null,null,null,null,null,null,null,null,null,null,"مدفوع"]
[null,null,null,null,null,null,null,null,null,null,null,null,null,null,null,null,null,null,null,null,null,null,"مدفوع"]
[null,null,null,null,null,null,null,null,null,null,null,null,null,null,null,null,null,null,null,null,null,null,"مدفوع"]
[null,null,null,null,null,null,null,null,null,null,null,null,null,null,null,null,null,null,null,null,null,null,"مدفوع"]
[null,null,null,null,null,null,null,null,null,null,null,null,null,null,null,null,null,null,null,null,null,null,"مدفوع"]
[null,null,null,null,null,null,null,null,null,null,null,null,null,null,null,null,null,null,null,null,null,null,"مدفوع"]
[null,null,null,null,null,null,null,null,null,null,null,null,null,null,null,null,null,null,null,null,null,null,"مدفوع"]
[null,null,null,null,null,null,null,null,null,null,null,null,null,null,null,null,null,null,null,null,null,null,"مدفوع"]
[null,null,null,null,null,null,null,null,null,null,null,null,null,null,null,null,null,null,null,null,null,null,"مدفوع"]
[null,null,null,null,null,null,null,null,null,null,null,null,null,null,null,null,null,null,null,null,null,null,"مدفوع"]
[null,null,null,null,null,null,null,null,null,null,null,null,null,null,null,null,null,null,null,null,null,null,"مدفوع"]
[null,null,null,null,null,null,null,null,null,null,null,null,null,null,null,null,null,null,null,null,null,null,"مدفوع"]
[null,null,null,null,null,null,null,null,null,null,null,null,null,null,null,null,null,null,null,null,null,null,"مدفوع"]
[null,null,null,null,null,null,null,null,null,null,null,null,null,null,null,null,null,null,null,null,null,null,"مدفوع"]
[null,null,null,null,null,null,null,null,null,null,null,null,null,null,null,null,null,null,null,null,null,null,"مدفوع"]
[null,null,null,null,null,null,null,null,null,null,null,null,null,null,null,null,null,null,null,null,null,null,"مدفوع"]
[null,null,null,null,null,null,null,null,null,null,null,null,null,null,null,null,null,null,null,null,null,null,"مدفوع"]
[null,null,null,null,null,null,null,null,null,null,null,null,null,null,null,null,null,null,null,null,null,null,"مدفوع"]
[null,null,null,null,null,null,null,null,null,null,null,null,null,null,null,null,null,null,null,null,null,null,"مدفوع"]
[null,null,null,null,null,null,null,null,null,null,null,null,null,null,null,null,null,null,null,null,null,null,"مدفوع"]
[null,null,null,null,null,null,null,null,null,null,null,null,null,null,null,null,null,null,null,null,null,null,"مدفوع"]
[null,null,null,null,null,null,null,null,null,null,null,null,null,null,null,null,null,null,null,null,null,null,"مدفوع"]
[null,null,null,null,null,null,null,null,null,null,null,null,null,null,null,null,null,null,null,null,null,null,"مدفوع"]
[null,null,null,null,null,null,null,null,null,null,null,null,null,null,null,null,null,null,null,null,null,null,"مدفوع"]
[null,null,null,null,null,null,null,null,null,null,null,null,null,null,null,null,null,null,null,null,null,null,"مدفوع"]
[null,null,null,null,null,null,null,null,null,null,null,null,null,null,null,null,null,null,null,null,null,null,"مدفوع"]
[null,null,null,null,null,null,null,null,null,null,null,null,null,null,null,null,null,null,null,null,null,null,"مدفوع"]
[null,null,null,null,null,null,null,null,null,null,null,null,null,null,null,null,null,null,null,null,null,null,"مدفوع"]
[null,null,null,null,null,null,null,null,null,null,null,null,null,null,null,null,null,null,null,null,null,null,"مدفوع"]
[null,null,null,null,null,null,null,null,null,null,null,null,null,null,null,null,null,null,null,null,null,null,"مدفوع"]
[null,null,null,null,null,null,null,null,null,null,null,null,null,null,null,null,null,null,null,null,null,null,"مدفوع"]
[null,null,null,null,null,null,null,null,null,null,null,null,null,null,null,null,null,null,null,null,null,null,"مدفوع"]
[null,null,null,null,null,null,null,null,null,null,null,null,null,null,null,null,null,null,null,null,null,null,"مدفوع"]
[null,null,null,null,null,null,null,null,null,null,null,null,null,null,null,null,null,null,null,null,null,null,"مدفوع"]
[null,null,null,null,null,null,null,null,null,null,null,null,null,null,null,null,null,null,null,null,null,null,"مدفوع"]
[null,null,null,null,null,null,null,null,null,null,null,null,null,null,null,null,null,null,null,null,null,null,"مدفوع"]
[null,null,null,null,null,null,null,null,null,null,null,null,null,null,null,null,null,null,null,null,null,null,"مدفوع"]
[null,null,null,null,null,null,null,null,null,null,null,null,null,null,null,null,null,null,null,null,null,null,"مدفوع"]
[null,null,null,null,null,null,null,null,null,null,null,null,null,null,null,null,null,null,null,null,null,null,"مدفوع"]
[null,null,null,null,null,null,null,null,null,null,null,null,null,null,null,null,null,null,null,null,null,null,"مدفوع"]
[null,null,null,null,null,null,null,null,null,null,null,null,null,null,null,null,null,null,null,null,null,null,"مدفوع"]
[null,null,null,null,null,null,null,null,null,null,null,null,null,null,null,null,null,null,null,null,null,null,"مدفوع"]
[null,null,null,null,null,null,null,null,null,null,null,null,null,null,null,null,null,null,null,null,null,null,"مدفوع"]
[null,null,null,null,null,null,null,null,null,null,null,null,null,null,null,null,null,null,null,null,null,null,{"$f":"IF(V1352<=0,\"مدفوع\",\"غير مدفوع\")","v":"مدفوع"}]
[null,null,null,null,null,null,null,null,null,null,null,null,null,null,null,null,null,null,null,null,null,null,"مدفوع"]
[null,null,null,null,null,null,null,null,null,null,null,null,null,null,null,null,null,null,null,null,null,null,"مدفوع"]
[null,null,null,null,null,null,null,null,null,null,null,null,null,null,null,null,null,null,null,null,null,null,"مدفوع"]
[null,null,null,null,null,null,null,null,null,null,null,null,null,null,null,null,null,null,null,null,null,null,"مدفوع"]
[null,null,null,null,null,null,null,null,null,null,null,null,null,null,null,null,null,null,null,null,null,null,"مدفوع"]
[null,null,null,null,null,null,null,null,null,null,null,null,null,null,null,null,null,null,null,null,null,null,"مدفوع"]
[null,null,null,null,null,null,null,null,null,null,null,null,null,null,null,null,null,null,null,null,null,null,"مدفوع"]
[null,null,null,null,null,null,null,null,null,null,null,null,null,null,null,null,null,null,null,null,null,null,"مدفوع"]
[null,null,null,null,null,null,null,null,null,null,null,null,null,null,null,null,null,null,null,null,null,null,"مدفوع"]
[null,null,null,null,null,null,null,null,null,null,null,null,null,null,null,null,null,null,null,null,null,null,"مدفوع"]
[null,null,null,null,null,null,null,null,null,null,null,null,null,null,null,null,null,null,null,null,null,null,"مدفوع"]
[null,null,null,null,null,null,null,null,null,null,null,null,null,null,null,null,null,null,null,null,null,null,"مدفوع"]
[null,null,null,null,null,null,null,null,null,null,null,null,null,null,null,null,null,null,null,null,null,null,"مدفوع"]
[null,null,null,null,null,null,null,null,null,null,null,null,null,null,null,null,null,null,null,null,null,null,"مدفوع"]
[null,null,null,null,null,null,null,null,null,null,null,null,null,null,null,null,null,null,null,null,null,null,"مدفوع"]
[null,null,null,null,null,null,null,null,null,null,null,null,null,null,null,null,null,null,null,null,null,null,"مدفوع"]
[null,null,null,null,null,null,null,null,null,null,null,null,null,null,null,null,null,null,null,null,null,null,"مدفوع"]
[null,null,null,null,null,null,null,null,null,null,null,null,null,null,null,null,null,null,null,null,null,null,"مدفوع"]
[null,null,null,null,null,null,null,null,null,null,null,null,null,null,null,null,null,null,null,null,null,null,"مدفوع"]
[null,null,null,null,null,null,null,null,null,null,null,null,null,null,null,null,null,null,null,null,null,null,"مدفوع"]
[null,null,null,null,null,null,null,null,null,null,null,null,null,null,null,null,null,null,null,null,null,null,"مدفوع"]
[null,null,null,null,null,null,null,null,null,null,null,null,null,null,null,null,null,null,null,null,null,null,"مدفوع"]
[null,null,null,null,null,null,null,null,null,null,null,null,null,null,null,null,null,null,null,null,null,null,"مدفوع"]
[null,null,null,null,null,null,null,null,null,null,null,null,null,null,null,null,null,null,null,null,null,null,"مدفوع"]
[null,null,null,null,null,null,null,null,null,null,null,null,null,null,null,null,null,null,null,null,null,null,"مدفوع"]
[null,null,null,null,null,null,null,null,null,null,null,null,null,null,null,null,null,null,null,null,null,null,"مدفوع"]
[null,null,null,null,null,null,null,null,null,null,null,null,null,null,null,null,null,null,null,null,null,null,"مدفوع"]
[null,null,null,null,null,null,null,null,null,null,null,null,null,null,null,null,null,null,null,null,null,null,"مدفوع"]
[null,null,null,null,null,null,null,null,null,null,null,null,null,null,null,null,null,null,null,null,null,null,"مدفوع"]
[null,null,null,null,null,null,null,null,null,null,null,null,null,null,null,null,null,null,null,null,null,null,"مدفوع"]
[null,null,null,null,null,null,null,null,null,null,null,null,null,null,null,null,null,null,null,null,null,null,"مدفوع"]
[null,null,null,null,null,null,null,null,null,null,null,null,null,null,null,null,null,null,null,null,null,null,"مدفوع"]
[null,null,null,null,null,null,null,null,null,null,null,null,null,null,null,null,null,null,null,null,null,null,"مدفوع"]
[null,null,null,null,null,null,null,null,null,null,null,null,null,null,null,null,null,null,null,null,null,null,"مدفوع"]
[null,null,null,null,null,null,null,null,null,null,null,null,null,null,null,null,null,null,null,null,null,null,"مدفوع"]
[null,null,null,null,null,null,null,null,null,null,null,null,null,null,null,null,null,null,null,null,null,null,"مدفوع"]
[null,null,null,null,null,null,null,null,null,null,null,null,null,null,null,null,null,null,null,null,null,null,"مدفوع"]
[null,null,null,null,null,null,null,null,null,null,null,null,null,null,null,null,null,null,null,null,null,null,"مدفوع"]
[null,null,null,null,null,null,null,null,null,null,null,null,null,null,null,null,null,null,null,null,null,null,"مدفوع"]
[null,null,null,null,null,null,null,null,null,null,null,null,null,null,null,null,null,null,null,null,null,null,"مدفوع"]
[null,null,null,null,null,null,null,null,null,null,null,null,null,null,null,null,null,null,null,null,null,null,"مدفوع"]
[null,null,null,null,null,null,null,null,null,null,null,null,null,null,null,null,null,null,null,null,null,null,"مدفوع"]
[null,null,null,null,null,null,null,null,null,null,null,null,null,null,null,null,null,null,null,null,null,null,"مدفوع"]
[null,null,null,null,null,null,null,null,null,null,null,null,null,null,null,null,null,null,null,null,null,null,"مدفوع"]
[null,null,null,null,null,null,null,null,null,null,null,null,null,null,null,null,null,null,null,null,null,null,"مدفوع"]
[null,null,null,null,null,null,null,null,null,null,null,null,null,null,null,null,null,null,null,null,null,null,"مدفوع"]
[null,null,null,null,null,null,null,null,null,null,null,null,null,null,null,null,null,null,null,null,null,null,"مدفوع"]
[null,null,null,null,null,null,null,null,null,null,null,null,null,null,null,null,null,null,null,null,null,null,"مدفوع"]
[null,null,null,null,null,null,null,null,null,null,null,null,null,null,null,null,null,null,null,null,null,null,"مدفوع"]
[null,null,null,null,null,null,null,null,null,null,null,null,null,null,null,null,null,null,null,null,null,null,"مدفوع"]
[null,null,null,null,null,null,null,null,null,null,null,null,null,null,null,null,null,null,null,null,null,null,"مدفوع"]
[null,null,null,null,null,null,null,null,null,null,null,null,null,null,null,null,null,null,null,null,null,null,"مدفوع"]
[null,null,null,null,null,null,null,null,null,null,null,null,null,null,null,null,null,null,null,null,null,null,"مدفوع"]
[null,null,null,null,null,null,null,null,null,null,null,null,null,null,null,null,null,null,null,null,null,null,"مدفوع"]
[null,null,null,null,null,null,null,null,null,null,null,null,null,null,null,null,null,null,null,null,null,null,"مدفوع"]
[null,null,null,null,null,null,null,null,null,null,null,null,null,null,null,null,null,null,null,null,null,null,"مدفوع"]
[null,null,null,null,null,null,null,null,null,null,null,null,null,null,null,null,null,null,null,null,null,null,"مدفوع"]
[null,null,null,null,null,null,null,null,null,null,null,null,null,null,null,null,null,null,null,null,null,null,"مدفوع"]
[null,null,null,null,null,null,null,null,null,null,null,null,null,null,null,null,null,null,null,null,null,null,"مدفوع"]
[null,null,null,null,null,null,null,null,null,null,null,null,null,null,null,null,null,null,null,null,null,null,"مدفوع"]
[null,null,null,null,null,null,null,null,null,null,null,null,null,null,null,null,null,null,null,null,null,null,"مدفوع"]
[null,null,null,null,null,null,null,null,null,null,null,null,null,null,null,null,null,null,null,null,null,null,"مدفوع"]
[null,null,null,null,null,null,null,null,null,null,null,null,null,null,null,null,null,null,null,null,null,null,"مدفوع"]
[null,null,null,null,null,null,null,null,null,null,null,null,null,null,null,null,null,null,null,null,null,null,{"$f":"IF(V1416<=0,\"مدفوع\",\"غير مدفوع\")","v":"مدفوع"}]
[null,null,null,null,null,null,null,null,null,null,null,null,null,null,null,null,null,null,null,null,null,null,"مدفوع"]
[null,null,null,null,null,null,null,null,null,null,null,null,null,null,null,null,null,null,null,null,null,null,"مدفوع"]
[null,null,null,null,null,null,null,null,null,null,null,null,null,null,null,null,null,null,null,null,null,null,"مدفوع"]
[null,null,null,null,null,null,null,null,null,null,null,null,null,null,null,null,null,null,null,null,null,null,"مدفوع"]
[null,null,null,null,null,null,null,null,null,null,null,null,null,null,null,null,null,null,null,null,null,null,"مدفوع"]
[null,null,null,null,null,null,null,null,null,null,null,null,null,null,null,null,null,null,null,null,null,null,"مدفوع"]
[null,null,null,null,null,null,null,null,null,null,null,null,null,null,null,null,null,null,null,null,null,null,"مدفوع"]
[null,null,null,null,null,null,null,null,null,null,null,null,null,null,null,null,null,null,null,null,null,null,"مدفوع"]
[null,null,null,null,null,null,null,null,null,null,null,null,null,null,null,null,null,null,null,null,null,null,"مدفوع"]
[null,null,null,null,null,null,null,null,null,null,null,null,null,null,null,null,null,null,null,null,null,null,"مدفوع"]
[null,null,null,null,null,null,null,null,null,null,null,null,null,null,null,null,null,null,null,null,null,null,"مدفوع"]
[null,null,null,null,null,null,null,null,null,null,null,null,null,null,null,null,null,null,null,null,null,null,"مدفوع"]
[null,null,null,null,null,null,null,null,null,null,null,null,null,null,null,null,null,null,null,null,null,null,"مدفوع"]
[null,null,null,null,null,null,null,null,null,null,null,null,null,null,null,null,null,null,null,null,null,null,"مدفوع"]
[null,null,null,null,null,null,null,null,null,null,null,null,null,null,null,null,null,null,null,null,null,null,"مدفوع"]
[null,null,null,null,null,null,null,null,null,null,null,null,null,null,null,null,null,null,null,null,null,null,"مدفوع"]
[null,null,null,null,null,null,null,null,null,null,null,null,null,null,null,null,null,null,null,null,null,null,"مدفوع"]
[null,null,null,null,null,null,null,null,null,null,null,null,null,null,null,null,null,null,null,null,null,null,"مدفوع"]
[null,null,null,null,null,null,null,null,null,null,null,null,null,null,null,null,null,null,null,null,null,null,"مدفوع"]
[null,null,null,null,null,null,null,null,null,null,null,null,null,null,null,null,null,null,null,null,null,null,"مدفوع"]
[null,null,null,null,null,null,null,null,null,null,null,null,null,null,null,null,null,null,null,null,null,null,"مدفوع"]
[null,null,null,null,null,null,null,null,null,null,null,null,null,null,null,null,null,null,null,null,null,null,"مدفوع"]
[null,null,null,null,null,null,null,null,null,null,null,null,null,null,null,null,null,null,null,null,null,null,"مدفوع"]
[null,null,null,null,null,null,null,null,null,null,null,null,null,null,null,null,null,null,null,null,null,null,"مدفوع"]
[null,null,null,null,null,null,null,null,null,null,null,null,null,null,null,null,null,null,null,null,null,null,"مدفوع"]
[null,null,null,null,null,null,null,null,null,null,null,null,null,null,null,null,null,null,null,null,null,null,"مدفوع"]
[null,null,null,null,null,null,null,null,null,null,null,null,null,null,null,null,null,null,null,null,null,null,"مدفوع"]
[null,null,null,null,null,null,null,null,null,null,null,null,null,null,null,null,null,null,null,null,null,null,"مدفوع"]
[null,null,null,null,null,null,null,null,null,null,null,null,null,null,null,null,null,null,null,null,null,null,"مدفوع"]
[null,null,null,null,null,null,null,null,null,null,null,null,null,null,null,null,null,null,null,null,null,null,"مدفوع"]
[null,null,null,null,null,null,null,null,null,null,null,null,null,null,null,null,null,null,null,null,null,null,"مدفوع"]
[null,null,null,null,null,null,null,null,null,null,null,null,null,null,null,null,null,null,null,null,null,null,"مدفوع"]
[null,null,null,null,null,null,null,null,null,null,null,null,null,null,null,null,null,null,null,null,null,null,"مدفوع"]
[null,null,null,null,null,null,null,null,null,null,null,null,null,null,null,null,null,null,null,null,null,null,"مدفوع"]
[null,null,null,null,null,null,null,null,null,null,null,null,null,null,null,null,null,null,null,null,null,null,"مدفوع"]
[null,null,null,null,null,null,null,null,null,null,null,null,null,null,null,null,null,null,null,null,null,null,"مدفوع"]
[null,null,null,null,null,null,null,null,null,null,null,null,null,null,null,null,null,null,null,null,null,null,"مدفوع"]
[null,null,null,null,null,null,null,null,null,null,null,null,null,null,null,null,null,null,null,null,null,null,"مدفوع"]
[null,null,null,null,null,null,null,null,null,null,null,null,null,null,null,null,null,null,null,null,null,null,"مدفوع"]
[null,null,null,null,null,null,null,null,null,null,null,null,null,null,null,null,null,null,null,null,null,null,"مدفوع"]
[null,null,null,null,null,null,null,null,null,null,null,null,null,null,null,null,null,null,null,null,null,null,"مدفوع"]
[null,null,null,null,null,null,null,null,null,null,null,null,null,null,null,null,null,null,null,null,null,null,"مدفوع"]
[null,null,null,null,null,null,null,null,null,null,null,null,null,null,null,null,null,null,null,null,null,null,"مدفوع"]
[null,null,null,null,null,null,null,null,null,null,null,null,null,null,null,null,null,null,null,null,null,null,"مدفوع"]
[null,null,null,null,null,null,null,null,null,null,null,null,null,null,null,null,null,null,null,null,null,null,"مدفوع"]
[null,null,null,null,null,null,null,null,null,null,null,null,null,null,null,null,null,null,null,null,null,null,"مدفوع"]
[null,null,null,null,null,null,null,null,null,null,null,null,null,null,null,null,null,null,null,null,null,null,"مدفوع"]
[null,null,null,null,null,null,null,null,null,null,null,null,null,null,null,null,null,null,null,null,null,null,"مدفوع"]
[null,null,null,null,null,null,null,null,null,null,null,null,null,null,null,null,null,null,null,null,null,null,"مدفوع"]
[null,null,null,null,null,null,null,null,null,null,null,null,null,null,null,null,null,null,null,null,null,null,"مدفوع"]
[null,null,null,null,null,null,null,null,null,null,null,null,null,null,null,null,null,null,null,null,null,null,"مدفوع"]
[null,null,null,null,null,null,null,null,null,null,null,null,null,null,null,null,null,null,null,null,null,null,"مدفوع"]
[null,null,null,null,null,null,null,null,null,null,null,null,null,null,null,null,null,null,null,null,null,null,"مدفوع"]
[null,null,null,null,null,null,null,null,null,null,null,null,null,null,null,null,null,null,null,null,null,null,"مدفوع"]
[null,null,null,null,null,null,null,null,null,null,null,null,null,null,null,null,null,null,null,null,null,null,"مدفوع"]
[null,null,null,null,null,null,null,null,null,null,null,null,null,null,null,null,null,null,null,null,null,null,"مدفوع"]
[null,null,null,null,null,null,null,null,null,null,null,null,null,null,null,null,null,null,null,null,null,null,"مدفوع"]
[null,null,null,null,null,null,null,null,null,null,null,null,null,null,null,null,null,null,null,null,null,null,"مدفوع"]
[null,null,null,null,null,null,null,null,null,null,null,null,null,null,null,null,null,null,null,null,null,null,"مدفوع"]
[null,null,null,null,null,null,null,null,null,null,null,null,null,null,null,null,null,null,null,null,null,null,"مدفوع"]
[null,null,null,null,null,null,null,null,null,null,null,null,null,null,null,null,null,null,null,null,null,null,"مدفوع"]
[null,null,null,null,null,null,null,null,null,null,null,null,null,null,null,null,null,null,null,null,null,null,"مدفوع"]
[null,null,null,null,null,null,null,null,null,null,null,null,null,null,null,null,null,null,null,null,null,null,"مدفوع"]
[null,null,null,null,null,null,null,null,null,null,null,null,null,null,null,null,null,null,null,null,null,null,{"$f":"IF(V1480<=0,\"مدفوع\",\"غير مدفوع\")","v":"مدفوع"}]
[null,null,null,null,null,null,null,null,null,null,null,null,null,null,null,null,null,null,null,null,null,null,"مدفوع"]
[null,null,null,null,null,null,null,null,null,null,null,null,null,null,null,null,null,null,null,null,null,null,"مدفوع"]
[null,null,null,null,null,null,null,null,null,null,null,null,null,null,null,null,null,null,null,null,null,null,"مدفوع"]
[null,null,null,null,null,null,null,null,null,null,null,null,null,null,null,null,null,null,null,null,null,null,"مدفوع"]
[null,null,null,null,null,null,null,null,null,null,null,null,null,null,null,null,null,null,null,null,null,null,"مدفوع"]
[null,null,null,null,null,null,null,null,null,null,null,null,null,null,null,null,null,null,null,null,null,null,"مدفوع"]
[null,null,null,null,null,null,null,null,null,null,null,null,null,null,null,null,null,null,null,null,null,null,"مدفوع"]
[null,null,null,null,null,null,null,null,null,null,null,null,null,null,null,null,null,null,null,null,null,null,"مدفوع"]
[null,null,null,null,null,null,null,null,null,null,null,null,null,null,null,null,null,null,null,null,null,null,"مدفوع"]
[null,null,null,null,null,null,null,null,null,null,null,null,null,null,null,null,null,null,null,null,null,null,"مدفوع"]
[null,null,null,null,null,null,null,null,null,null,null,null,null,null,null,null,null,null,null,null,null,null,"مدفوع"]
[null,null,null,null,null,null,null,null,null,null,null,null,null,null,null,null,null,null,null,null,null,null,"مدفوع"]
[null,null,null,null,null,null,null,null,null,null,null,null,null,null,null,null,null,null,null,null,null,null,"مدفوع"]
[null,null,null,null,null,null,null,null,null,null,null,null,null,null,null,null,null,null,null,null,null,null,"مدفوع"]
[null,null,null,null,null,null,null,null,null,null,null,null,null,null,null,null,null,null,null,null,null,null,"مدفوع"]
[null,null,null,null,null,null,null,null,null,null,null,null,null,null,null,null,null,null,null,null,null,null,"مدفوع"]
[null,null,null,null,null,null,null,null,null,null,null,null,null,null,null,null,null,null,null,null,null,null,"مدفوع"]
[null,null,null,null,null,null,null,null,null,null,null,null,null,null,null,null,null,null,null,null,null,null,"مدفوع"]
[null,null,null,null,null,null,null,null,null,null,null,null,null,null,null,null,null,null,null,null,null,null,"مدفوع"]
[null,null,null,null,null,null,null,null,null,null,null,null,null,null,null,null,null,null,null,null,null,null,"مدفوع"]
[null,null,null,null,null,null,null,null,null,null,null,null,null,null,null,null,null,null,null,null,null,null,"مدفوع"]
[null,null,null,null,null,null,null,null,null,null,null,null,null,null,null,null,null,null,null,null,null,null,"مدفوع"]
[null,null,null,null,null,null,null,null,null,null,null,null,null,null,null,null,null,null,null,null,null,null,"مدفوع"]
[null,null,null,null,null,null,null,null,null,null,null,null,null,null,null,null,null,null,null,null,null,null,"مدفوع"]
[null,null,null,null,null,null,null,null,null,null,null,null,null,null,null,null,null,null,null,null,null,null,"مدفوع"]
[null,null,null,null,null,null,null,null,null,null,null,null,null,null,null,null,null,null,null,null,null,null,"مدفوع"]
[null,null,null,null,null,null,null,null,null,null,null,null,null,null,null,null,null,null,null,null,null,null,"مدفوع"]
[null,null,null,null,null,null,null,null,null,null,null,null,null,null,null,null,null,null,null,null,null,null,"مدفوع"]
[null,null,null,null,null,null,null,null,null,null,null,null,null,null,null,null,null,null,null,null,null,null,"مدفوع"]
[null,null,null,null,null,null,null,null,null,null,null,null,null,null,null,null,null,null,null,null,null,null,"مدفوع"]
[null,null,null,null,null,null,null,null,null,null,null,null,null,null,null,null,null,null,null,null,null,null,"مدفوع"]
[null,null,null,null,null,null,null,null,null,null,null,null,null,null,null,null,null,null,null,null,null,null,"مدفوع"]
[null,null,null,null,null,null,null,null,null,null,null,null,null,null,null,null,null,null,null,null,null,null,"مدفوع"]
[null,null,null,null,null,null,null,null,null,null,null,null,null,null,null,null,null,null,null,null,null,null,"مدفوع"]
[null,null,null,null,null,null,null,null,null,null,null,null,null,null,null,null,null,null,null,null,null,null,"مدفوع"]
[null,null,null,null,null,null,null,null,null,null,null,null,null,null,null,null,null,null,null,null,null,null,"مدفوع"]
[null,null,null,null,null,null,null,null,null,null,null,null,null,null,null,null,null,null,null,null,null,null,"مدفوع"]
[null,null,null,null,null,null,null,null,null,null,null,null,null,null,null,null,null,null,null,null,null,null,"مدفوع"]
[null,null,null,null,null,null,null,null,null,null,null,null,null,null,null,null,null,null,null,null,null,null,"مدفوع"]
[null,null,null,null,null,null,null,null,null,null,null,null,null,null,null,null,null,null,null,null,null,null,"مدفوع"]
[null,null,null,null,null,null,null,null,null,null,null,null,null,null,null,null,null,null,null,null,null,null,"مدفوع"]
[null,null,null,null,null,null,null,null,null,null,null,null,null,null,null,null,null,null,null,null,null,null,"مدفوع"]
[null,null,null,null,null,null,null,null,null,null,null,null,null,null,null,null,null,null,null,null,null,null,"مدفوع"]
[null,null,null,null,null,null,null,null,null,null,null,null,null,null,null,null,null,null,null,null,null,null,"مدفوع"]
[null,null,null,null,null,null,null,null,null,null,null,null,null,null,null,null,null,null,null,null,null,null,"مدفوع"]
[null,null,null,null,null,null,null,null,null,null,null,null,null,null,null,null,null,null,null,null,null,null,"مدفوع"]
[null,null,null,null,null,null,null,null,null,null,null,null,null,null,null,null,null,null,null,null,null,null,"مدفوع"]
[null,null,null,null,null,null,null,null,null,null,null,null,null,null,null,null,null,null,null,null,null,null,"مدفوع"]
[null,null,null,null,null,null,null,null,null,null,null,null,null,null,null,null,null,null,null,null,null,null,"مدفوع"]
[null,null,null,null,null,null,null,null,null,null,null,null,null,null,null,null,null,null,null,null,null,null,"مدفوع"]
[null,null,null,null,null,null,null,null,null,null,null,null,null,null,null,null,null,null,null,null,null,null,"مدفوع"]
[null,null,null,null,null,null,null,null,null,null,null,null,null,null,null,null,null,null,null,null,null,null,"مدفوع"]
[null,null,null,null,null,null,null,null,null,null,null,null,null,null,null,null,null,null,null,null,null,null,"مدفوع"]
[null,null,null,null,null,null,null,null,null,null,null,null,null,null,null,null,null,null,null,null,null,null,"مدفوع"]
[null,null,null,null,null,null,null,null,null,null,null,null,null,null,null,null,null,null,null,null,null,null,"مدفوع"]
[null,null,null,null,null,null,null,null,null,null,null,null,null,null,null,null,null,null,null,null,null,null,"مدفوع"]
[null,null,null,null,null,null,null,null,null,null,null,null,null,null,null,null,null,null,null,null,null,null,"مدفوع"]
[null,null,null,null,null,null,null,null,null,null,null,null,null,null,null,null,null,null,null,null,null,null,"مدفوع"]
[null,null,null,null,null,null,null,null,null,null,null,null,null,null,null,null,null,null,null,null,null,null,"مدفوع"]
[null,null,null,null,null,null,null,null,null,null,null,null,null,null,null,null,null,null,null,null,null,null,"مدفوع"]
[null,null,null,null,null,null,null,null,null,null,null,null,null,null,null,null,null,null,null,null,null,null,"مدفوع"]
[null,null,null,null,null,null,null,null,null,null,null,null,null,null,null,null,null,null,null,null,null,null,"مدفوع"]
[null,null,null,null,null,null,null,null,null,null,null,null,null,null,null,null,null,null,null,null,null,null,"مدفوع"]
[null,null,null,null,null,null,null,null,null,null,null,null,null,null,null,null,null,null,null,null,null,null,{"$f":"IF(V1544<=0,\"مدفوع\",\"غير مدفوع\")","v":"مدفوع"}]
[null,null,null,null,null,null,null,null,null,null,null,null,null,null,null,null,null,null,null,null,null,null,"مدفوع"]
[null,null,null,null,null,null,null,null,null,null,null,null,null,null,null,null,null,null,null,null,null,null,"مدفوع"]
[null,null,null,null,null,null,null,null,null,null,null,null,null,null,null,null,null,null,null,null,null,null,"مدفوع"]
[null,null,null,null,null,null,null,null,null,null,null,null,null,null,null,null,null,null,null,null,null,null,"مدفوع"]
[null,null,null,null,null,null,null,null,null,null,null,null,null,null,null,null,null,null,null,null,null,null,"مدفوع"]
[null,null,null,null,null,null,null,null,null,null,null,null,null,null,null,null,null,null,null,null,null,null,"مدفوع"]
[null,null,null,null,null,null,null,null,null,null,null,null,null,null,null,null,null,null,null,null,null,null,"مدفوع"]
[null,null,null,null,null,null,null,null,null,null,null,null,null,null,null,null,null,null,null,null,null,null,"مدفوع"]
[null,null,null,null,null,null,null,null,null,null,null,null,null,null,null,null,null,null,null,null,null,null,"مدفوع"]
[null,null,null,null,null,null,null,null,null,null,null,null,null,null,null,null,null,null,null,null,null,null,"مدفوع"]
[null,null,null,null,null,null,null,null,null,null,null,null,null,null,null,null,null,null,null,null,null,null,"مدفوع"]
[null,null,null,null,null,null,null,null,null,null,null,null,null,null,null,null,null,null,null,null,null,null,"مدفوع"]
[null,null,null,null,null,null,null,null,null,null,null,null,null,null,null,null,null,null,null,null,null,null,"مدفوع"]
[null,null,null,null,null,null,null,null,null,null,null,null,null,null,null,null,null,null,null,null,null,null,"مدفوع"]
[null,null,null,null,null,null,null,null,null,null,null,null,null,null,null,null,null,null,null,null,null,null,"مدفوع"]
[null,null,null,null,null,null,null,null,null,null,null,null,null,null,null,null,null,null,null,null,null,null,"مدفوع"]
[null,null,null,null,null,null,null,null,null,null,null,null,null,null,null,null,null,null,null,null,null,null,"مدفوع"]
[null,null,null,null,null,null,null,null,null,null,null,null,null,null,null,null,null,null,null,null,null,null,"مدفوع"]
[null,null,null,null,null,null,null,null,null,null,null,null,null,null,null,null,null,null,null,null,null,null,"مدفوع"]
[null,null,null,null,null,null,null,null,null,null,null,null,null,null,null,null,null,null,null,null,null,null,"مدفوع"]
[null,null,null,null,null,null,null,null,null,null,null,null,null,null,null,null,null,null,null,null,null,null,"مدفوع"]
[null,null,null,null,null,null,null,null,null,null,null,null,null,null,null,null,null,null,null,null,null,null,"مدفوع"]
[null,null,null,null,null,null,null,null,null,null,null,null,null,null,null,null,null,null,null,null,null,null,"مدفوع"]
[null,null,null,null,null,null,null,null,null,null,null,null,null,null,null,null,null,null,null,null,null,null,"مدفوع"]
[null,null,null,null,null,null,null,null,null,null,null,null,null,null,null,null,null,null,null,null,null,null,"مدفوع"]
[null,null,null,null,null,null,null,null,null,null,null,null,null,null,null,null,null,null,null,null,null,null,"مدفوع"]
[null,null,null,null,null,null,null,null,null,null,null,null,null,null,null,null,null,null,null,null,null,null,"مدفوع"]
[null,null,null,null,null,null,null,null,null,null,null,null,null,null,null,null,null,null,null,null,null,null,"مدفوع"]
[null,null,null,null,null,null,null,null,null,null,null,null,null,null,null,null,null,null,null,null,null,null,"مدفوع"]
[null,null,null,null,null,null,null,null,null,null,null,null,null,null,null,null,null,null,null,null,null,null,"مدفوع"]
[null,null,null,null,null,null,null,null,null,null,null,null,null,null,null,null,null,null,null,null,null,null,"مدفوع"]
[null,null,null,null,null,null,null,null,null,null,null,null,null,null,null,null,null,null,null,null,null,null,"مدفوع"]
[null,null,null,null,null,null,null,null,null,null,null,null,null,null,null,null,null,null,null,null,null,null,"مدفوع"]
[null,null,null,null,null,null,null,null,null,null,null,null,null,null,null,null,null,null,null,null,null,null,"مدفوع"]
[null,null,null,null,null,null,null,null,null,null,null,null,null,null,null,null,null,null,null,null,null,null,"مدفوع"]
[null,null,null,null,null,null,null,null,null,null,null,null,null,null,null,null,null,null,null,null,null,null,"مدفوع"]
[null,null,null,null,null,null,null,null,null,null,null,null,null,null,null,null,null,null,null,null,null,null,"مدفوع"]
[null,null,null,null,null,null,null,null,null,null,null,null,null,null,null,null,null,null,null,null,null,null,"مدفوع"]
[null,null,null,null,null,null,null,null,null,null,null,null,null,null,null,null,null,null,null,null,null,null,"مدفوع"]
[null,null,null,null,null,null,null,null,null,null,null,null,null,null,null,null,null,null,null,null,null,null,"مدفوع"]
[null,null,null,null,null,null,null,null,null,null,null,null,null,null,null,null,null,null,null,null,null,null,"مدفوع"]
[null,null,null,null,null,null,null,null,null,null,null,null,null,null,null,null,null,null,null,null,null,null,"مدفوع"]
[null,null,null,null,null,null,null,null,null,null,null,null,null,null,null,null,null,null,null,null,null,null,"مدفوع"]
[null,null,null,null,null,null,null,null,null,null,null,null,null,null,null,null,null,null,null,null,null,null,"مدفوع"]
[null,null,null,null,null,null,null,null,null,null,null,null,null,null,null,null,null,null,null,null,null,null,"مدفوع"]
[null,null,null,null,null,null,null,null,null,null,null,null,null,null,null,null,null,null,null,null,null,null,"مدفوع"]
[null,null,null,null,null,null,null,null,null,null,null,null,null,null,null,null,null,null,null,null,null,null,"مدفوع"]
[null,null,null,null,null,null,null,null,null,null,null,null,null,null,null,null,null,null,null,null,null,null,"مدفوع"]
[null,null,null,null,null,null,null,null,null,null,null,null,null,null,null,null,null,null,null,null,null,null,"مدفوع"]
[null,null,null,null,null,null,null,null,null,null,null,null,null,null,null,null,null,null,null,null,null,null,"مدفوع"]
[null,null,null,null,null,null,null,null,null,null,null,null,null,null,null,null,null,null,null,null,null,null,"مدفوع"]
[null,null,null,null,null,null,null,null,null,null,null,null,null,null,null,null,null,null,null,null,null,null,"مدفوع"]
[null,null,null,null,null,null,null,null,null,null,null,null,null,null,null,null,null,null,null,null,null,null,"مدفوع"]
[null,null,null,null,null,null,null,null,null,null,null,null,null,null,null,null,null,null,null,null,null,null,"مدفوع"]
[null,null,null,null,null,null,null,null,null,null,null,null,null,null,null,null,null,null,null,null,null,null,"مدفوع"]
[null,null,null,null,null,null,null,null,null,null,null,null,null,null,null,null,null,null,null,null,null,null,"مدفوع"]
[null,null,null,null,null,null,null,null,null,null,null,null,null,null,null,null,null,null,null,null,null,null,"مدفوع"]
[null,null,null,null,null,null,null,null,null,null,null,null,null,null,null,null,null,null,null,null,null,null,"مدفوع"]
[null,null,null,null,null,null,null,null,null,null,null,null,null,null,null,null,null,null,null,null,null,null,"مدفوع"]
[null,null,null,null,null,null,null,null,null,null,null,null,null,null,null,null,null,null,null,null,null,null,"مدفوع"]
[null,null,null,null,null,null,null,null,null,null,null,null,null,null,null,null,null,null,null,null,null,null,"مدفوع"]
[null,null,null,null,null,null,null,null,null,null,null,null,null,null,null,null,null,null,null,null,null,null,"مدفوع"]
[null,null,null,null,null,null,null,null,null,null,null,null,null,null,null,null,null,null,null,null,null,null,"مدفوع"]
[null,null,null,null,null,null,null,null,null,null,null,null,null,null,null,null,null,null,null,null,null,null,{"$f":"IF(V1608<=0,\"مدفوع\",\"غير مدفوع\")","v":"مدفوع"}]
[null,null,null,null,null,null,null,null,null,null,null,null,null,null,null,null,null,null,null,null,null,null,"مدفوع"]
[null,null,null,null,null,null,null,null,null,null,null,null,null,null,null,null,null,null,null,null,null,null,"مدفوع"]
[null,null,null,null,null,null,null,null,null,null,null,null,null,null,null,null,null,null,null,null,null,null,"مدفوع"]
[null,null,null,null,null,null,null,null,null,null,null,null,null,null,null,null,null,null,null,null,null,null,"مدفوع"]
[null,null,null,null,null,null,null,null,null,null,null,null,null,null,null,null,null,null,null,null,null,null,"مدفوع"]
[null,null,null,null,null,null,null,null,null,null,null,null,null,null,null,null,null,null,null,null,null,null,"مدفوع"]
[null,null,null,null,null,null,null,null,null,null,null,null,null,null,null,null,null,null,null,null,null,null,"مدفوع"]
[null,null,null,null,null,null,null,null,null,null,null,null,null,null,null,null,null,null,null,null,null,null,"مدفوع"]
[null,null,null,null,null,null,null,null,null,null,null,null,null,null,null,null,null,null,null,null,null,null,"مدفوع"]
[null,null,null,null,null,null,null,null,null,null,null,null,null,null,null,null,null,null,null,null,null,null,"مدفوع"]
[null,null,null,null,null,null,null,null,null,null,null,null,null,null,null,null,null,null,null,null,null,null,"مدفوع"]
[null,null,null,null,null,null,null,null,null,null,null,null,null,null,null,null,null,null,null,null,null,null,"مدفوع"]
[null,null,null,null,null,null,null,null,null,null,null,null,null,null,null,null,null,null,null,null,null,null,"مدفوع"]
[null,null,null,null,null,null,null,null,null,null,null,null,null,null,null,null,null,null,null,null,null,null,"مدفوع"]
[null,null,null,null,null,null,null,null,null,null,null,null,null,null,null,null,null,null,null,null,null,null,"مدفوع"]
[null,null,null,null,null,null,null,null,null,null,null,null,null,null,null,null,null,null,null,null,null,null,"مدفوع"]
[null,null,null,null,null,null,null,null,null,null,null,null,null,null,null,null,null,null,null,null,null,null,"مدفوع"]
[null,null,null,null,null,null,null,null,null,null,null,null,null,null,null,null,null,null,null,null,null,null,"مدفوع"]
[null,null,null,null,null,null,null,null,null,null,null,null,null,null,null,null,null,null,null,null,null,null,"مدفوع"]
[null,null,null,null,null,null,null,null,null,null,null,null,null,null,null,null,null,null,null,null,null,null,"مدفوع"]
[null,null,null,null,null,null,null,null,null,null,null,null,null,null,null,null,null,null,null,null,null,null,"مدفوع"]
[null,null,null,null,null,null,null,null,null,null,null,null,null,null,null,null,null,null,null,null,null,null,"مدفوع"]
[null,null,null,null,null,null,null,null,null,null,null,null,null,null,null,null,null,null,null,null,null,null,"مدفوع"]
[null,null,null,null,null,null,null,null,null,null,null,null,null,null,null,null,null,null,null,null,null,null,"مدفوع"]
[null,null,null,null,null,null,null,null,null,null,null,null,null,null,null,null,null,null,null,null,null,null,"مدفوع"]
[null,null,null,null,null,null,null,null,null,null,null,null,null,null,null,null,null,null,null,null,null,null,"مدفوع"]
[null,null,null,null,null,null,null,null,null,null,null,null,null,null,null,null,null,null,null,null,null,null,"مدفوع"]
[null,null,null,null,null,null,null,null,null,null,null,null,null,null,null,null,null,null,null,null,null,null,"مدفوع"]
[null,null,null,null,null,null,null,null,null,null,null,null,null,null,null,null,null,null,null,null,null,null,"مدفوع"]
[null,null,null,null,null,null,null,null,null,null,null,null,null,null,null,null,null,null,null,null,null,null,"مدفوع"]
[null,null,null,null,null,null,null,null,null,null,null,null,null,null,null,null,null,null,null,null,null,null,"مدفوع"]
[null,null,null,null,null,null,null,null,null,null,null,null,null,null,null,null,null,null,null,null,null,null,"مدفوع"]
[null,null,null,null,null,null,null,null,null,null,null,null,null,null,null,null,null,null,null,null,null,null,"مدفوع"]
[null,null,null,null,null,null,null,null,null,null,null,null,null,null,null,null,null,null,null,null,null,null,"مدفوع"]
[null,null,null,null,null,null,null,null,null,null,null,null,null,null,null,null,null,null,null,null,null,null,"مدفوع"]
[null,null,null,null,null,null,null,null,null,null,null,null,null,null,null,null,null,null,null,null,null,null,"مدفوع"]
[null,null,null,null,null,null,null,null,null,null,null,null,null,null,null,null,null,null,null,null,null,null,"مدفوع"]
[null,null,null,null,null,null,null,null,null,null,null,null,null,null,null,null,null,null,null,null,null,null,"مدفوع"]
[null,null,null,null,null,null,null,null,null,null,null,null,null,null,null,null,null,null,null,null,null,null,"مدفوع"]
[null,null,null,null,null,null,null,null,null,null,null,null,null,null,null,null,null,null,null,null,null,null,"مدفوع"]
[null,null,null,null,null,null,null,null,null,null,null,null,null,null,null,null,null,null,null,null,null,null,"مدفوع"]
[null,null,null,null,null,null,null,null,null,null,null,null,null,null,null,null,null,null,null,null,null,null,"مدفوع"]
[null,null,null,null,null,null,null,null,null,null,null,null,null,null,null,null,null,null,null,null,null,null,"مدفوع"]
[null,null,null,null,null,null,null,null,null,null,null,null,null,null,null,null,null,null,null,null,null,null,"مدفوع"]
[null,null,null,null,null,null,null,null,null,null,null,null,null,null,null,null,null,null,null,null,null,null,"مدفوع"]
[null,null,null,null,null,null,null,null,null,null,null,null,null,null,null,null,null,null,null,null,null,null,"مدفوع"]
[null,null,null,null,null,null,null,null,null,null,null,null,null,null,null,null,null,null,null,null,null,null,"مدفوع"]
[null,null,null,null,null,null,null,null,null,null,null,null,null,null,null,null,null,null,null,null,null,null,"مدفوع"]
[null,null,null,null,null,null,null,null,null,null,null,null,null,null,null,null,null,null,null,null,null,null,"مدفوع"]
[null,null,null,null,null,null,null,null,null,null,null,null,null,null,null,null,null,null,null,null,null,null,"مدفوع"]
[null,null,null,null,null,null,null,null,null,null,null,null,null,null,null,null,null,null,null,null,null,null,"مدفوع"]
[null,null,null,null,null,null,null,null,null,null,null,null,null,null,null,null,null,null,null,null,null,null,"مدفوع"]
[null,null,null,null,null,null,null,null,null,null,null,null,null,null,null,null,null,null,null,null,null,null,"مدفوع"]
[null,null,null,null,null,null,null,null,null,null,null,null,null,null,null,null,null,null,null,null,null,null,"مدفوع"]
[null,null,null,null,null,null,null,null,null,null,null,null,null,null,null,null,null,null,null,null,null,null,"مدفوع"]
[null,null,null,null,null,null,null,null,null,null,null,null,null,null,null,null,null,null,null,null,null,null,"مدفوع"]
[null,null,null,null,null,null,null,null,null,null,null,null,null,null,null,null,null,null,null,null,null,null,"مدفوع"]
[null,null,null,null,null,null,null,null,null,null,null,null,null,null,null,null,null,null,null,null,null,null,"مدفوع"]
[null,null,null,null,null,null,null,null,null,null,null,null,null,null,null,null,null,null,null,null,null,null,"مدفوع"]
[null,null,null,null,null,null,null,null,null,null,null,null,null,null,null,null,null,null,null,null,null,null,"مدفوع"]
[null,null,null,null,null,null,null,null,null,null,null,null,null,null,null,null,null,null,null,null,null,null,"مدفوع"]
[null,null,null,null,null,null,null,null,null,null,null,null,null,null,null,null,null,null,null,null,null,null,"مدفوع"]
[null,null,null,null,null,null,null,null,null,null,null,null,null,null,null,null,null,null,null,null,null,null,"مدفوع"]
[null,null,null,null,null,null,null,null,null,null,null,null,null,null,null,null,null,null,null,null,null,null,{"$f":"IF(V1672<=0,\"مدفوع\",\"غير مدفوع\")","v":"مدفوع"}]
[null,null,null,null,null,null,null,null,null,null,null,null,null,null,null,null,null,null,null,null,null,null,"مدفوع"]
[null,null,null,null,null,null,null,null,null,null,null,null,null,null,null,null,null,null,null,null,null,null,"مدفوع"]
[null,null,null,null,null,null,null,null,null,null,null,null,null,null,null,null,null,null,null,null,null,null,"مدفوع"]
[null,null,null,null,null,null,null,null,null,null,null,null,null,null,null,null,null,null,null,null,null,null,"مدفوع"]
[null,null,null,null,null,null,null,null,null,null,null,null,null,null,null,null,null,null,null,null,null,null,"مدفوع"]
[null,null,null,null,null,null,null,null,null,null,null,null,null,null,null,null,null,null,null,null,null,null,"مدفوع"]
[null,null,null,null,null,null,null,null,null,null,null,null,null,null,null,null,null,null,null,null,null,null,"مدفوع"]
[null,null,null,null,null,null,null,null,null,null,null,null,null,null,null,null,null,null,null,null,null,null,"مدفوع"]
[null,null,null,null,null,null,null,null,null,null,null,null,null,null,null,null,null,null,null,null,null,null,"مدفوع"]
[null,null,null,null,null,null,null,null,null,null,null,null,null,null,null,null,null,null,null,null,null,null,"مدفوع"]
[null,null,null,null,null,null,null,null,null,null,null,null,null,null,null,null,null,null,null,null,null,null,"مدفوع"]
[null,null,null,null,null,null,null,null,null,null,null,null,null,null,null,null,null,null,null,null,null,null,"مدفوع"]
[null,null,null,null,null,null,null,null,null,null,null,null,null,null,null,null,null,null,null,null,null,null,"مدفوع"]
[null,null,null,null,null,null,null,null,null,null,null,null,null,null,null,null,null,null,null,null,null,null,"مدفوع"]
[null,null,null,null,null,null,null,null,null,null,null,null,null,null,null,null,null,null,null,null,null,null,"مدفوع"]
[null,null,null,null,null,null,null,null,null,null,null,null,null,null,null,null,null,null,null,null,null,null,"مدفوع"]
[null,null,null,null,null,null,null,null,null,null,null,null,null,null,null,null,null,null,null,null,null,null,"مدفوع"]
[null,null,null,null,null,null,null,null,null,null,null,null,null,null,null,null,null,null,null,null,null,null,"مدفوع"]
[null,null,null,null,null,null,null,null,null,null,null,null,null,null,null,null,null,null,null,null,null,null,"مدفوع"]
[null,null,null,null,null,null,null,null,null,null,null,null,null,null,null,null,null,null,null,null,null,null,"مدفوع"]
[null,null,null,null,null,null,null,null,null,null,null,null,null,null,null,null,null,null,null,null,null,null,"مدفوع"]
[null,null,null,null,null,null,null,null,null,null,null,null,null,null,null,null,null,null,null,null,null,null,"مدفوع"]
[null,null,null,null,null,null,null,null,null,null,null,null,null,null,null,null,null,null,null,null,null,null,"مدفوع"]
[null,null,null,null,null,null,null,null,null,null,null,null,null,null,null,null,null,null,null,null,null,null,"مدفوع"]
[null,null,null,null,null,null,null,null,null,null,null,null,null,null,null,null,null,null,null,null,null,null,"مدفوع"]
[null,null,null,null,null,null,null,null,null,null,null,null,null,null,null,null,null,null,null,null,null,null,"مدفوع"]
[null,null,null,null,null,null,null,null,null,null,null,null,null,null,null,null,null,null,null,null,null,null,"مدفوع"]
[null,null,null,null,null,null,null,null,null,null,null,null,null,null,null,null,null,null,null,null,null,null,"مدفوع"]
[null,null,null,null,null,null,null,null,null,null,null,null,null,null,null,null,null,null,null,null,null,null,"مدفوع"]
[null,null,null,null,null,null,null,null,null,null,null,null,null,null,null,null,null,null,null,null,null,null,"مدفوع"]
[null,null,null,null,null,null,null,null,null,null,null,null,null,null,null,null,null,null,null,null,null,null,"مدفوع"]
[null,null,null,null,null,null,null,null,null,null,null,null,null,null,null,null,null,null,null,null,null,null,"مدفوع"]
[null,null,null,null,null,null,null,null,null,null,null,null,null,null,null,null,null,null,null,null,null,null,"مدفوع"]
[null,null,null,null,null,null,null,null,null,null,null,null,null,null,null,null,null,null,null,null,null,null,"مدفوع"]
[null,null,null,null,null,null,null,null,null,null,null,null,null,null,null,null,null,null,null,null,null,null,"مدفوع"]
[null,null,null,null,null,null,null,null,null,null,null,null,null,null,null,null,null,null,null,null,null,null,"مدفوع"]
[null,null,null,null,null,null,null,null,null,null,null,null,null,null,null,null,null,null,null,null,null,null,"مدفوع"]
[null,null,null,null,null,null,null,null,null,null,null,null,null,null,null,null,null,null,null,null,null,null,"مدفوع"]
[null,null,null,null,null,null,null,null,null,null,null,null,null,null,null,null,null,null,null,null,null,null,"مدفوع"]
[null,null,null,null,null,null,null,null,null,null,null,null,null,null,null,null,null,null,null,null,null,null,"مدفوع"]
[null,null,null,null,null,null,null,null,null,null,null,null,null,null,null,null,null,null,null,null,null,null,"مدفوع"]
[null,null,null,null,null,null,null,null,null,null,null,null,null,null,null,null,null,null,null,null,null,null,"مدفوع"]
[null,null,null,null,null,null,null,null,null,null,null,null,null,null,null,null,null,null,null,null,null,null,"مدفوع"]
[null,null,null,null,null,null,null,null,null,null,null,null,null,null,null,null,null,null,null,null,null,null,"مدفوع"]
[null,null,null,null,null,null,null,null,null,null,null,null,null,null,null,null,null,null,null,null,null,null,"مدفوع"]
[null,null,null,null,null,null,null,null,null,null,null,null,null,null,null,null,null,null,null,null,null,null,"مدفوع"]
[null,null,null,null,null,null,null,null,null,null,null,null,null,null,null,null,null,null,null,null,null,null,"مدفوع"]
[null,null,null,null,null,null,null,null,null,null,null,null,null,null,null,null,null,null,null,null,null,null,"مدفوع"]
[null,null,null,null,null,null,null,null,null,null,null,null,null,null,null,null,null,null,null,null,null,null,"مدفوع"]
[null,null,null,null,null,null,null,null,null,null,null,null,null,null,null,null,null,null,null,null,null,null,"مدفوع"]
[null,null,null,null,null,null,null,null,null,null,null,null,null,null,null,null,null,null,null,null,null,null,"مدفوع"]
[null,null,null,null,null,null,null,null,null,null,null,null,null,null,null,null,null,null,null,null,null,null,"مدفوع"]
[null,null,null,null,null,null,null,null,null,null,null,null,null,null,null,null,null,null,null,null,null,null,"مدفوع"]
[null,null,null,null,null,null,null,null,null,null,null,null,null,null,null,null,null,null,null,null,null,null,"مدفوع"]
[null,null,null,null,null,null,null,null,null,null,null,null,null,null,null,null,null,null,null,null,null,null,"مدفوع"]
[null,null,null,null,null,null,null,null,null,null,null,null,null,null,null,null,null,null,null,null,null,null,"مدفوع"]
[null,null,null,null,null,null,null,null,null,null,null,null,null,null,null,null,null,null,null,null,null,null,"مدفوع"]
[null,null,null,null,null,null,null,null,null,null,null,null,null,null,null,null,null,null,null,null,null,null,"مدفوع"]
[null,null,null,null,null,null,null,null,null,null,null,null,null,null,null,null,null,null,null,null,null,null,"مدفوع"]
[null,null,null,null,null,null,null,null,null,null,null,null,null,null,null,null,null,null,null,null,null,null,"مدفوع"]
[null,null,null,null,null,null,null,null,null,null,null,null,null,null,null,null,null,null,null,null,null,null,"مدفوع"]
[null,null,null,null,null,null,null,null,null,null,null,null,null,null,null,null,null,null,null,null,null,null,"مدفوع"]
[null,null,null,null,null,null,null,null,null,null,null,null,null,null,null,null,null,null,null,null,null,null,"مدفوع"]
[null,null,null,null,null,null,null,null,null,null,null,null,null,null,null,null,null,null,null,null,null,null,{"$f":"IF(V1736<=0,\"مدفوع\",\"غير مدفوع\")","v":"مدفوع"}]
[null,null,null,null,null,null,null,null,null,null,null,null,null,null,null,null,null,null,null,null,null,null,"مدفوع"]
[null,null,null,null,null,null,null,null,null,null,null,null,null,null,null,null,null,null,null,null,null,null,"مدفوع"]
[null,null,null,null,null,null,null,null,null,null,null,null,null,null,null,null,null,null,null,null,null,null,"مدفوع"]
[null,null,null,null,null,null,null,null,null,null,null,null,null,null,null,null,null,null,null,null,null,null,"مدفوع"]
[null,null,null,null,null,null,null,null,null,null,null,null,null,null,null,null,null,null,null,null,null,null,"مدفوع"]
[null,null,null,null,null,null,null,null,null,null,null,null,null,null,null,null,null,null,null,null,null,null,"مدفوع"]
[null,null,null,null,null,null,null,null,null,null,null,null,null,null,null,null,null,null,null,null,null,null,"مدفوع"]
[null,null,null,null,null,null,null,null,null,null,null,null,null,null,null,null,null,null,null,null,null,null,"مدفوع"]
[null,null,null,null,null,null,null,null,null,null,null,null,null,null,null,null,null,null,null,null,null,null,"مدفوع"]
[null,null,null,null,null,null,null,null,null,null,null,null,null,null,null,null,null,null,null,null,null,null,"مدفوع"]
[null,null,null,null,null,null,null,null,null,null,null,null,null,null,null,null,null,null,null,null,null,null,"مدفوع"]
[null,null,null,null,null,null,null,null,null,null,null,null,null,null,null,null,null,null,null,null,null,null,"مدفوع"]
[null,null,null,null,null,null,null,null,null,null,null,null,null,null,null,null,null,null,null,null,null,null,"مدفوع"]
[null,null,null,null,null,null,null,null,null,null,null,null,null,null,null,null,null,null,null,null,null,null,"مدفوع"]
[null,null,null,null,null,null,null,null,null,null,null,null,null,null,null,null,null,null,null,null,null,null,"مدفوع"]
[null,null,null,null,null,null,null,null,null,null,null,null,null,null,null,null,null,null,null,null,null,null,"مدفوع"]
[null,null,null,null,null,null,null,null,null,null,null,null,null,null,null,null,null,null,null,null,null,null,"مدفوع"]
[null,null,null,null,null,null,null,null,null,null,null,null,null,null,null,null,null,null,null,null,null,null,"مدفوع"]
[null,null,null,null,null,null,null,null,null,null,null,null,null,null,null,null,null,null,null,null,null,null,"مدفوع"]
[null,null,null,null,null,null,null,null,null,null,null,null,null,null,null,null,null,null,null,null,null,null,"مدفوع"]
[null,null,null,null,null,null,null,null,null,null,null,null,null,null,null,null,null,null,null,null,null,null,"مدفوع"]
[null,null,null,null,null,null,null,null,null,null,null,null,null,null,null,null,null,null,null,null,null,null,"مدفوع"]
[null,null,null,null,null,null,null,null,null,null,null,null,null,null,null,null,null,null,null,null,null,null,"مدفوع"]
[null,null,null,null,null,null,null,null,null,null,null,null,null,null,null,null,null,null,null,null,null,null,"مدفوع"]
[null,null,null,null,null,null,null,null,null,null,null,null,null,null,null,null,null,null,null,null,null,null,"مدفوع"]
[null,null,null,null,null,null,null,null,null,null,null,null,null,null,null,null,null,null,null,null,null,null,"مدفوع"]
[null,null,null,null,null,null,null,null,null,null,null,null,null,null,null,null,null,null,null,null,null,null,"مدفوع"]
[null,null,null,null,null,null,null,null,null,null,null,null,null,null,null,null,null,null,null,null,null,null,"مدفوع"]
[null,null,null,null,null,null,null,null,null,null,null,null,null,null,null,null,null,null,null,null,null,null,"مدفوع"]
[null,null,null,null,null,null,null,null,null,null,null,null,null,null,null,null,null,null,null,null,null,null,"مدفوع"]
[null,null,null,null,null,null,null,null,null,null,null,null,null,null,null,null,null,null,null,null,null,null,"مدفوع"]
[null,null,null,null,null,null,null,null,null,null,null,null,null,null,null,null,null,null,null,null,null,null,"مدفوع"]
[null,null,null,null,null,null,null,null,null,null,null,null,null,null,null,null,null,null,null,null,null,null,"مدفوع"]
[null,null,null,null,null,null,null,null,null,null,null,null,null,null,null,null,null,null,null,null,null,null,"مدفوع"]
[null,null,null,null,null,null,null,null,null,null,null,null,null,null,null,null,null,null,null,null,null,null,"مدفوع"]
[null,null,null,null,null,null,null,null,null,null,null,null,null,null,null,null,null,null,null,null,null,null,"مدفوع"]
[null,null,null,null,null,null,null,null,null,null,null,null,null,null,null,null,null,null,null,null,null,null,"مدفوع"]
[null,null,null,null,null,null,null,null,null,null,null,null,null,null,null,null,null,null,null,null,null,null,"مدفوع"]
[null,null,null,null,null,null,null,null,null,null,null,null,null,null,null,null,null,null,null,null,null,null,"مدفوع"]
[null,null,null,null,null,null,null,null,null,null,null,null,null,null,null,null,null,null,null,null,null,null,"مدفوع"]
[null,null,null,null,null,null,null,null,null,null,null,null,null,null,null,null,null,null,null,null,null,null,"مدفوع"]
[null,null,null,null,null,null,null,null,null,null,null,null,null,null,null,null,null,null,null,null,null,null,"مدفوع"]
[null,null,null,null,null,null,null,null,null,null,null,null,null,null,null,null,null,null,null,null,null,null,"مدفوع"]
[null,null,null,null,null,null,null,null,null,null,null,null,null,null,null,null,null,null,null,null,null,null,"مدفوع"]
[null,null,null,null,null,null,null,null,null,null,null,null,null,null,null,null,null,null,null,null,null,null,"مدفوع"]
[null,null,null,null,null,null,null,null,null,null,null,null,null,null,null,null,null,null,null,null,null,null,"مدفوع"]
[null,null,null,null,null,null,null,null,null,null,null,null,null,null,null,null,null,null,null,null,null,null,"مدفوع"]
[null,null,null,null,null,null,null,null,null,null,null,null,null,null,null,null,null,null,null,null,null,null,"مدفوع"]
[null,null,null,null,null,null,null,null,null,null,null,null,null,null,null,null,null,null,null,null,null,null,"مدفوع"]
[null,null,null,null,null,null,null,null,null,null,null,null,null,null,null,null,null,null,null,null,null,null,"مدفوع"]
[null,null,null,null,null,null,null,null,null,null,null,null,null,null,null,null,null,null,null,null,null,null,"مدفوع"]
[null,null,null,null,null,null,null,null,null,null,null,null,null,null,null,null,null,null,null,null,null,null,"مدفوع"]
[null,null,null,null,null,null,null,null,null,null,null,null,null,null,null,null,null,null,null,null,null,null,"مدفوع"]
[null,null,null,null,null,null,null,null,null,null,null,null,null,null,null,null,null,null,null,null,null,null,"مدفوع"]
[null,null,null,null,null,null,null,null,null,null,null,null,null,null,null,null,null,null,null,null,null,null,"مدفوع"]
[null,null,null,null,null,null,null,null,null,null,null,null,null,null,null,null,null,null,null,null,null,null,"مدفوع"]
[null,null,null,null,null,null,null,null,null,null,null,null,null,null,null,null,null,null,null,null,null,null,"مدفوع"]
[null,null,null,null,null,null,null,null,null,null,null,null,null,null,null,null,null,null,null,null,null,null,"مدفوع"]
[null,null,null,null,null,null,null,null,null,null,null,null,null,null,null,null,null,null,null,null,null,null,"مدفوع"]
[null,null,null,null,null,null,null,null,null,null,null,null,null,null,null,null,null,null,null,null,null,null,"مدفوع"]
[null,null,null,null,null,null,null,null,null,null,null,null,null,null,null,null,null,null,null,null,null,null,"مدفوع"]
[null,null,null,null,null,null,null,null,null,null,null,null,null,null,null,null,null,null,null,null,null,null,"مدفوع"]
[null,null,null,null,null,null,null,null,null,null,null,null,null,null,null,null,null,null,null,null,null,null,"مدفوع"]
[null,null,null,null,null,null,null,null,null,null,null,null,null,null,null,null,null,null,null,null,null,null,{"$f":"IF(V1800<=0,\"مدفوع\",\"غير مدفوع\")","v":"مدفوع"}]
[null,null,null,null,null,null,null,null,null,null,null,null,null,null,null,null,null,null,null,null,null,null,"مدفوع"]
[null,null,null,null,null,null,null,null,null,null,null,null,null,null,null,null,null,null,null,null,null,null,"مدفوع"]
[null,null,null,null,null,null,null,null,null,null,null,null,null,null,null,null,null,null,null,null,null,null,"مدفوع"]
[null,null,null,null,null,null,null,null,null,null,null,null,null,null,null,null,null,null,null,null,null,null,"مدفوع"]
[null,null,null,null,null,null,null,null,null,null,null,null,null,null,null,null,null,null,null,null,null,null,"مدفوع"]
[null,null,null,null,null,null,null,null,null,null,null,null,null,null,null,null,null,null,null,null,null,null,"مدفوع"]
[null,null,null,null,null,null,null,null,null,null,null,null,null,null,null,null,null,null,null,null,null,null,"مدفوع"]
[null,null,null,null,null,null,null,null,null,null,null,null,null,null,null,null,null,null,null,null,null,null,"مدفوع"]
[null,null,null,null,null,null,null,null,null,null,null,null,null,null,null,null,null,null,null,null,null,null,"مدفوع"]
[null,null,null,null,null,null,null,null,null,null,null,null,null,null,null,null,null,null,null,null,null,null,"مدفوع"]
[null,null,null,null,null,null,null,null,null,null,null,null,null,null,null,null,null,null,null,null,null,null,"مدفوع"]
[null,null,null,null,null,null,null,null,null,null,null,null,null,null,null,null,null,null,null,null,null,null,"مدفوع"]
[null,null,null,null,null,null,null,null,null,null,null,null,null,null,null,null,null,null,null,null,null,null,"مدفوع"]
[null,null,null,null,null,null,null,null,null,null,null,null,null,null,null,null,null,null,null,null,null,null,"مدفوع"]
[null,null,null,null,null,null,null,null,null,null,null,null,null,null,null,null,null,null,null,null,null,null,"مدفوع"]
[null,null,null,null,null,null,null,null,null,null,null,null,null,null,null,null,null,null,null,null,null,null,"مدفوع"]
[null,null,null,null,null,null,null,null,null,null,null,null,null,null,null,null,null,null,null,null,null,null,"مدفوع"]
[null,null,null,null,null,null,null,null,null,null,null,null,null,null,null,null,null,null,null,null,null,null,"مدفوع"]
[null,null,null,null,null,null,null,null,null,null,null,null,null,null,null,null,null,null,null,null,null,null,"مدفوع"]
[null,null,null,null,null,null,null,null,null,null,null,null,null,null,null,null,null,null,null,null,null,null,"مدفوع"]
[null,null,null,null,null,null,null,null,null,null,null,null,null,null,null,null,null,null,null,null,null,null,"مدفوع"]
[null,null,null,null,null,null,null,null,null,null,null,null,null,null,null,null,null,null,null,null,null,null,"مدفوع"]
[null,null,null,null,null,null,null,null,null,null,null,null,null,null,null,null,null,null,null,null,null,null,"مدفوع"]
[null,null,null,null,null,null,null,null,null,null,null,null,null,null,null,null,null,null,null,null,null,null,"مدفوع"]
[null,null,null,null,null,null,null,null,null,null,null,null,null,null,null,null,null,null,null,null,null,null,"مدفوع"]
[null,null,null,null,null,null,null,null,null,null,null,null,null,null,null,null,null,null,null,null,null,null,"مدفوع"]
[null,null,null,null,null,null,null,null,null,null,null,null,null,null,null,null,null,null,null,null,null,null,"مدفوع"]
[null,null,null,null,null,null,null,null,null,null,null,null,null,null,null,null,null,null,null,null,null,null,"مدفوع"]
[null,null,null,null,null,null,null,null,null,null,null,null,null,null,null,null,null,null,null,null,null,null,"مدفوع"]
[null,null,null,null,null,null,null,null,null,null,null,null,null,null,null,null,null,null,null,null,null,null,"مدفوع"]
[null,null,null,null,null,null,null,null,null,null,null,null,null,null,null,null,null,null,null,null,null,null,"مدفوع"]
[null,null,null,null,null,null,null,null,null,null,null,null,null,null,null,null,null,null,null,null,null,null,"مدفوع"]
[null,null,null,null,null,null,null,null,null,null,null,null,null,null,null,null,null,null,null,null,null,null,"مدفوع"]
[null,null,null,null,null,null,null,null,null,null,null,null,null,null,null,null,null,null,null,null,null,null,"مدفوع"]
[null,null,null,null,null,null,null,null,null,null,null,null,null,null,null,null,null,null,null,null,null,null,"مدفوع"]
[null,null,null,null,null,null,null,null,null,null,null,null,null,null,null,null,null,null,null,null,null,null,"مدفوع"]
[null,null,null,null,null,null,null,null,null,null,null,null,null,null,null,null,null,null,null,null,null,null,"مدفوع"]
[null,null,null,null,null,null,null,null,null,null,null,null,null,null,null,null,null,null,null,null,null,null,"مدفوع"]
[null,null,null,null,null,null,null,null,null,null,null,null,null,null,null,null,null,null,null,null,null,null,"مدفوع"]
[null,null,null,null,null,null,null,null,null,null,null,null,null,null,null,null,null,null,null,null,null,null,"مدفوع"]
[null,null,null,null,null,null,null,null,null,null,null,null,null,null,null,null,null,null,null,null,null,null,"مدفوع"]
[null,null,null,null,null,null,null,null,null,null,null,null,null,null,null,null,null,null,null,null,null,null,"مدفوع"]
[null,null,null,null,null,null,null,null,null,null,null,null,null,null,null,null,null,null,null,null,null,null,"مدفوع"]
[null,null,null,null,null,null,null,null,null,null,null,null,null,null,null,null,null,null,null,null,null,null,"مدفوع"]
[null,null,null,null,null,null,null,null,null,null,null,null,null,null,null,null,null,null,null,null,null,null,"مدفوع"]
[null,null,null,null,null,null,null,null,null,null,null,null,null,null,null,null,null,null,null,null,null,null,"مدفوع"]
[null,null,null,null,null,null,null,null,null,null,null,null,null,null,null,null,null,null,null,null,null,null,"مدفوع"]
[null,null,null,null,null,null,null,null,null,null,null,null,null,null,null,null,null,null,null,null,null,null,"مدفوع"]
[null,null,null,null,null,null,null,null,null,null,null,null,null,null,null,null,null,null,null,null,null,null,"مدفوع"]
[null,null,null,null,null,null,null,null,null,null,null,null,null,null,null,null,null,null,null,null,null,null,"مدفوع"]
[null,null,null,null,null,null,null,null,null,null,null,null,null,null,null,null,null,null,null,null,null,null,"مدفوع"]
[null,null,null,null,null,null,null,null,null,null,null,null,null,null,null,null,null,null,null,null,null,null,"مدفوع"]
[null,null,null,null,null,null,null,null,null,null,null,null,null,null,null,null,null,null,null,null,null,null,"مدفوع"]
[null,null,null,null,null,null,null,null,null,null,null,null,null,null,null,null,null,null,null,null,null,null,"مدفوع"]
[null,null,null,null,null,null,null,null,null,null,null,null,null,null,null,null,null,null,null,null,null,null,"مدفوع"]
[null,null,null,null,null,null,null,null,null,null,null,null,null,null,null,null,null,null,null,null,null,null,"مدفوع"]
[null,null,null,null,null,null,null,null,null,null,null,null,null,null,null,null,null,null,null,null,null,null,"مدفوع"]
[null,null,null,null,null,null,null,null,null,null,null,null,null,null,null,null,null,null,null,null,null,null,"مدفوع"]
[null,null,null,null,null,null,null,null,null,null,null,null,null,null,null,null,null,null,null,null,null,null,"مدفوع"]
[null,null,null,null,null,null,null,null,null,null,null,null,null,null,null,null,null,null,null,null,null,null,"مدفوع"]
[null,null,null,null,null,null,null,null,null,null,null,null,null,null,null,null,null,null,null,null,null,null,"مدفوع"]
[null,null,null,null,null,null,null,null,null,null,null,null,null,null,null,null,null,null,null,null,null,null,"مدفوع"]
[null,null,null,null,null,null,null,null,null,null,null,null,null,null,null,null,null,null,null,null,null,null,"مدفوع"]
[null,null,null,null,null,null,null,null,null,null,null,null,null,null,null,null,null,null,null,null,null,null,{"$f":"IF(V1864<=0,\"مدفوع\",\"غير مدفوع\")","v":"مدفوع"}]
[null,null,null,null,null,null,null,null,null,null,null,null,null,null,null,null,null,null,null,null,null,null,"مدفوع"]
[null,null,null,null,null,null,null,null,null,null,null,null,null,null,null,null,null,null,null,null,null,null,"مدفوع"]
[null,null,null,null,null,null,null,null,null,null,null,null,null,null,null,null,null,null,null,null,null,null,"مدفوع"]
[null,null,null,null,null,null,null,null,null,null,null,null,null,null,null,null,null,null,null,null,null,null,"مدفوع"]
[null,null,null,null,null,null,null,null,null,null,null,null,null,null,null,null,null,null,null,null,null,null,"مدفوع"]
[null,null,null,null,null,null,null,null,null,null,null,null,null,null,null,null,null,null,null,null,null,null,"مدفوع"]
[null,null,null,null,null,null,null,null,null,null,null,null,null,null,null,null,null,null,null,null,null,null,"مدفوع"]
[null,null,null,null,null,null,null,null,null,null,null,null,null,null,null,null,null,null,null,null,null,null,"مدفوع"]
[null,null,null,null,null,null,null,null,null,null,null,null,null,null,null,null,null,null,null,null,null,null,"مدفوع"]
[null,null,null,null,null,null,null,null,null,null,null,null,null,null,null,null,null,null,null,null,null,null,"مدفوع"]
[null,null,null,null,null,null,null,null,null,null,null,null,null,null,null,null,null,null,null,null,null,null,"مدفوع"]
[null,null,null,null,null,null,null,null,null,null,null,null,null,null,null,null,null,null,null,null,null,null,"مدفوع"]
[null,null,null,null,null,null,null,null,null,null,null,null,null,null,null,null,null,null,null,null,null,null,"مدفوع"]
[null,null,null,null,null,null,null,null,null,null,null,null,null,null,null,null,null,null,null,null,null,null,"مدفوع"]
[null,null,null,null,null,null,null,null,null,null,null,null,null,null,null,null,null,null,null,null,null,null,"مدفوع"]
[null,null,null,null,null,null,null,null,null,null,null,null,null,null,null,null,null,null,null,null,null,null,"مدفوع"]
[null,null,null,null,null,null,null,null,null,null,null,null,null,null,null,null,null,null,null,null,null,null,"مدفوع"]
[null,null,null,null,null,null,null,null,null,null,null,null,null,null,null,null,null,null,null,null,null,null,"مدفوع"]
[null,null,null,null,null,null,null,null,null,null,null,null,null,null,null,null,null,null,null,null,null,null,"مدفوع"]
[null,null,null,null,null,null,null,null,null,null,null,null,null,null,null,null,null,null,null,null,null,null,"مدفوع"]
[null,null,null,null,null,null,null,null,null,null,null,null,null,null,null,null,null,null,null,null,null,null,"مدفوع"]
[null,null,null,null,null,null,null,null,null,null,null,null,null,null,null,null,null,null,null,null,null,null,"مدفوع"]
[null,null,null,null,null,null,null,null,null,null,null,null,null,null,null,null,null,null,null,null,null,null,"مدفوع"]
[null,null,null,null,null,null,null,null,null,null,null,null,null,null,null,null,null,null,null,null,null,null,"مدفوع"]
[null,null,null,null,null,null,null,null,null,null,null,null,null,null,null,null,null,null,null,null,null,null,"مدفوع"]
[null,null,null,null,null,null,null,null,null,null,null,null,null,null,null,null,null,null,null,null,null,null,"مدفوع"]
[null,null,null,null,null,null,null,null,null,null,null,null,null,null,null,null,null,null,null,null,null,null,"مدفوع"]
[null,null,null,null,null,null,null,null,null,null,null,null,null,null,null,null,null,null,null,null,null,null,"مدفوع"]
[null,null,null,null,null,null,null,null,null,null,null,null,null,null,null,null,null,null,null,null,null,null,"مدفوع"]
[null,null,null,null,null,null,null,null,null,null,null,null,null,null,null,null,null,null,null,null,null,null,"مدفوع"]
[null,null,null,null,null,null,null,null,null,null,null,null,null,null,null,null,null,null,null,null,null,null,"مدفوع"]
[null,null,null,null,null,null,null,null,null,null,null,null,null,null,null,null,null,null,null,null,null,null,"مدفوع"]
[null,null,null,null,null,null,null,null,null,null,null,null,null,null,null,null,null,null,null,null,null,null,"مدفوع"]
[null,null,null,null,null,null,null,null,null,null,null,null,null,null,null,null,null,null,null,null,null,null,"مدفوع"]
[null,null,null,null,null,null,null,null,null,null,null,null,null,null,null,null,null,null,null,null,null,null,"مدفوع"]
[null,null,null,null,null,null,null,null,null,null,null,null,null,null,null,null,null,null,null,null,null,null,"مدفوع"]
[null,null,null,null,null,null,null,null,null,null,null,null,null,null,null,null,null,null,null,null,null,null,"مدفوع"]
[null,null,null,null,null,null,null,null,null,null,null,null,null,null,null,null,null,null,null,null,null,null,"مدفوع"]
[null,null,null,null,null,null,null,null,null,null,null,null,null,null,null,null,null,null,null,null,null,null,"مدفوع"]
[null,null,null,null,null,null,null,null,null,null,null,null,null,null,null,null,null,null,null,null,null,null,"مدفوع"]
[null,null,null,null,null,null,null,null,null,null,null,null,null,null,null,null,null,null,null,null,null,null,"مدفوع"]
[null,null,null,null,null,null,null,null,null,null,null,null,null,null,null,null,null,null,null,null,null,null,"مدفوع"]
[null,null,null,null,null,null,null,null,null,null,null,null,null,null,null,null,null,null,null,null,null,null,"مدفوع"]
[null,null,null,null,null,null,null,null,null,null,null,null,null,null,null,null,null,null,null,null,null,null,"مدفوع"]
[null,null,null,null,null,null,null,null,null,null,null,null,null,null,null,null,null,null,null,null,null,null,"مدفوع"]
[null,null,null,null,null,null,null,null,null,null,null,null,null,null,null,null,null,null,null,null,null,null,"مدفوع"]
[null,null,null,null,null,null,null,null,null,null,null,null,null,null,null,null,null,null,null,null,null,null,"مدفوع"]
[null,null,null,null,null,null,null,null,null,null,null,null,null,null,null,null,null,null,null,null,null,null,"مدفوع"]
[null,null,null,null,null,null,null,null,null,null,null,null,null,null,null,null,null,null,null,null,null,null,"مدفوع"]
[null,null,null,null,null,null,null,null,null,null,null,null,null,null,null,null,null,null,null,null,null,null,"مدفوع"]
[null,null,null,null,null,null,null,null,null,null,null,null,null,null,null,null,null,null,null,null,null,null,"مدفوع"]
[null,null,null,null,null,null,null,null,null,null,null,null,null,null,null,null,null,null,null,null,null,null,"مدفوع"]
[null,null,null,null,null,null,null,null,null,null,null,null,null,null,null,null,null,null,null,null,null,null,"مدفوع"]
[null,null,null,null,null,null,null,null,null,null,null,null,null,null,null,null,null,null,null,null,null,null,"مدفوع"]
[null,null,null,null,null,null,null,null,null,null,null,null,null,null,null,null,null,null,null,null,null,null,"مدفوع"]
[null,null,null,null,null,null,null,null,null,null,null,null,null,null,null,null,null,null,null,null,null,null,"مدفوع"]
[null,null,null,null,null,null,null,null,null,null,null,null,null,null,null,null,null,null,null,null,null,null,"مدفوع"]
[null,null,null,null,null,null,null,null,null,null,null,null,null,null,null,null,null,null,null,null,null,null,"مدفوع"]
[null,null,null,null,null,null,null,null,null,null,null,null,null,null,null,null,null,null,null,null,null,null,"مدفوع"]
[null,null,null,null,null,null,null,null,null,null,null,null,null,null,null,null,null,null,null,null,null,null,"مدفوع"]
[null,null,null,null,null,null,null,null,null,null,null,null,null,null,null,null,null,null,null,null,null,null,"مدفوع"]
[null,null,null,null,null,null,null,null,null,null,null,null,null,null,null,null,null,null,null,null,null,null,"مدفوع"]
[null,null,null,null,null,null,null,null,null,null,null,null,null,null,null,null,null,null,null,null,null,null,"مدفوع"]
[null,null,null,null,null,null,null,null,null,null,null,null,null,null,null,null,null,null,null,null,null,null,{"$f":"IF(V1928<=0,\"مدفوع\",\"غير مدفوع\")","v":"مدفوع"}]
[null,null,null,null,null,null,null,null,null,null,null,null,null,null,null,null,null,null,null,null,null,null,"مدفوع"]
[null,null,null,null,null,null,null,null,null,null,null,null,null,null,null,null,null,null,null,null,null,null,"مدفوع"]
[null,null,null,null,null,null,null,null,null,null,null,null,null,null,null,null,null,null,null,null,null,null,"مدفوع"]
[null,null,null,null,null,null,null,null,null,null,null,null,null,null,null,null,null,null,null,null,null,null,"مدفوع"]
[null,null,null,null,null,null,null,null,null,null,null,null,null,null,null,null,null,null,null,null,null,null,"مدفوع"]
[null,null,null,null,null,null,null,null,null,null,null,null,null,null,null,null,null,null,null,null,null,null,"مدفوع"]
[null,null,null,null,null,null,null,null,null,null,null,null,null,null,null,null,null,null,null,null,null,null,"مدفوع"]
[null,null,null,null,null,null,null,null,null,null,null,null,null,null,null,null,null,null,null,null,null,null,"مدفوع"]
[null,null,null,null,null,null,null,null,null,null,null,null,null,null,null,null,null,null,null,null,null,null,"مدفوع"]
[null,null,null,null,null,null,null,null,null,null,null,null,null,null,null,null,null,null,null,null,null,null,"مدفوع"]
[null,null,null,null,null,null,null,null,null,null,null,null,null,null,null,null,null,null,null,null,null,null,"مدفوع"]
[null,null,null,null,null,null,null,null,null,null,null,null,null,null,null,null,null,null,null,null,null,null,"مدفوع"]
[null,null,null,null,null,null,null,null,null,null,null,null,null,null,null,null,null,null,null,null,null,null,"مدفوع"]
[null,null,null,null,null,null,null,null,null,null,null,null,null,null,null,null,null,null,null,null,null,null,"مدفوع"]
[null,null,null,null,null,null,null,null,null,null,null,null,null,null,null,null,null,null,null,null,null,null,"مدفوع"]
[null,null,null,null,null,null,null,null,null,null,null,null,null,null,null,null,null,null,null,null,null,null,"مدفوع"]
[null,null,null,null,null,null,null,null,null,null,null,null,null,null,null,null,null,null,null,null,null,null,"مدفوع"]
[null,null,null,null,null,null,null,null,null,null,null,null,null,null,null,null,null,null,null,null,null,null,"مدفوع"]
[null,null,null,null,null,null,null,null,null,null,null,null,null,null,null,null,null,null,null,null,null,null,"مدفوع"]
[null,null,null,null,null,null,null,null,null,null,null,null,null,null,null,null,null,null,null,null,null,null,"مدفوع"]
[null,null,null,null,null,null,null,null,null,null,null,null,null,null,null,null,null,null,null,null,null,null,"مدفوع"]
[null,null,null,null,null,null,null,null,null,null,null,null,null,null,null,null,null,null,null,null,null,null,"مدفوع"]
[null,null,null,null,null,null,null,null,null,null,null,null,null,null,null,null,null,null,null,null,null,null,"مدفوع"]
[null,null,null,null,null,null,null,null,null,null,null,null,null,null,null,null,null,null,null,null,null,null,"مدفوع"]
[null,null,null,null,null,null,null,null,null,null,null,null,null,null,null,null,null,null,null,null,null,null,"مدفوع"]
[null,null,null,null,null,null,null,null,null,null,null,null,null,null,null,null,null,null,null,null,null,null,"مدفوع"]
[null,null,null,null,null,null,null,null,null,null,null,null,null,null,null,null,null,null,null,null,null,null,"مدفوع"]
[null,null,null,null,null,null,null,null,null,null,null,null,null,null,null,null,null,null,null,null,null,null,"مدفوع"]
[null,null,null,null,null,null,null,null,null,null,null,null,null,null,null,null,null,null,null,null,null,null,"مدفوع"]
[null,null,null,null,null,null,null,null,null,null,null,null,null,null,null,null,null,null,null,null,null,null,"مدفوع"]
[null,null,null,null,null,null,null,null,null,null,null,null,null,null,null,null,null,null,null,null,null,null,"مدفوع"]
[null,null,null,null,null,null,null,null,null,null,null,null,null,null,null,null,null,null,null,null,null,null,"مدفوع"]
[null,null,null,null,null,null,null,null,null,null,null,null,null,null,null,null,null,null,null,null,null,null,"مدفوع"]
[null,null,null,null,null,null,null,null,null,null,null,null,null,null,null,null,null,null,null,null,null,null,"مدفوع"]
[null,null,null,null,null,null,null,null,null,null,null,null,null,null,null,null,null,null,null,null,null,null,"مدفوع"]
[null,null,null,null,null,null,null,null,null,null,null,null,null,null,null,null,null,null,null,null,null,null,"مدفوع"]
[null,null,null,null,null,null,null,null,null,null,null,null,null,null,null,null,null,null,null,null,null,null,"مدفوع"]
[null,null,null,null,null,null,null,null,null,null,null,null,null,null,null,null,null,null,null,null,null,null,"مدفوع"]
[null,null,null,null,null,null,null,null,null,null,null,null,null,null,null,null,null,null,null,null,null,null,"مدفوع"]
[null,null,null,null,null,null,null,null,null,null,null,null,null,null,null,null,null,null,null,null,null,null,"مدفوع"]
[null,null,null,null,null,null,null,null,null,null,null,null,null,null,null,null,null,null,null,null,null,null,"مدفوع"]
[null,null,null,null,null,null,null,null,null,null,null,null,null,null,null,null,null,null,null,null,null,null,"مدفوع"]
[null,null,null,null,null,null,null,null,null,null,null,null,null,null,null,null,null,null,null,null,null,null,"مدفوع"]
[null,null,null,null,null,null,null,null,null,null,null,null,null,null,null,null,null,null,null,null,null,null,"مدفوع"]
[null,null,null,null,null,null,null,null,null,null,null,null,null,null,null,null,null,null,null,null,null,null,"مدفوع"]
[null,null,null,null,null,null,null,null,null,null,null,null,null,null,null,null,null,null,null,null,null,null,"مدفوع"]
[null,null,null,null,null,null,null,null,null,null,null,null,null,null,null,null,null,null,null,null,null,null,"مدفوع"]
[null,null,null,null,null,null,null,null,null,null,null,null,null,null,null,null,null,null,null,null,null,null,"مدفوع"]
[null,null,null,null,null,null,null,null,null,null,null,null,null,null,null,null,null,null,null,null,null,null,"مدفوع"]
[null,null,null,null,null,null,null,null,null,null,null,null,null,null,null,null,null,null,null,null,null,null,"مدفوع"]
[null,null,null,null,null,null,null,null,null,null,null,null,null,null,null,null,null,null,null,null,null,null,"مدفوع"]
[null,null,null,null,null,null,null,null,null,null,null,null,null,null,null,null,null,null,null,null,null,null,"مدفوع"]
[null,null,null,null,null,null,null,null,null,null,null,null,null,null,null,null,null,null,null,null,null,null,"مدفوع"]
[null,null,null,null,null,null,null,null,null,null,null,null,null,null,null,null,null,null,null,null,null,null,"مدفوع"]
[null,null,null,null,null,null,null,null,null,null,null,null,null,null,null,null,null,null,null,null,null,null,"مدفوع"]
[null,null,null,null,null,null,null,null,null,null,null,null,null,null,null,null,null,null,null,null,null,null,"مدفوع"]
[null,null,null,null,null,null,null,null,null,null,null,null,null,null,null,null,null,null,null,null,null,null,"مدفوع"]
[null,null,null,null,null,null,null,null,null,null,null,null,null,null,null,null,null,null,null,null,null,null,"مدفوع"]
[null,null,null,null,null,null,null,null,null,null,null,null,null,null,null,null,null,null,null,null,null,null,"مدفوع"]
[null,null,null,null,null,null,null,null,null,null,null,null,null,null,null,null,null,null,null,null,null,null,"مدفوع"]
[null,null,null,null,null,null,null,null,null,null,null,null,null,null,null,null,null,null,null,null,null,null,"مدفوع"]
[null,null,null,null,null,null,null,null,null,null,null,null,null,null,null,null,null,null,null,null,null,null,"مدفوع"]
[null,null,null,null,null,null,null,null,null,null,null,null,null,null,null,null,null,null,null,null,null,null,"مدفوع"]
[null,null,null,null,null,null,null,null,null,null,null,null,null,null,null,null,null,null,null,null,null,null,{"$f":"IF(V1992<=0,\"مدفوع\",\"غير مدفوع\")","v":"مدفوع"}]
[null,null,null,null,null,null,null,null,null,null,null,null,null,null,null,null,null,null,null,null,null,null,"مدفوع"]
[null,null,null,null,null,null,null,null,null,null,null,null,null,null,null,null,null,null,null,null,null,null,"مدفوع"]
[null,null,null,null,null,null,null,null,null,null,null,null,null,null,null,null,null,null,null,null,null,null,"مدفوع"]
[null,null,null,null,null,null,null,null,null,null,null,null,null,null,null,null,null,null,null,null,null,null,"مدفوع"]
[null,null,null,null,null,null,null,null,null,null,null,null,null,null,null,null,null,null,null,null,null,null,"مدفوع"]
[null,null,null,null,null,null,null,null,null,null,null,null,null,null,null,null,null,null,null,null,null,null,"مدفوع"]
[null,null,null,null,null,null,null,null,null,null,null,null,null,null,null,null,null,null,null,null,null,null,"مدفوع"]
[null,null,null,null,null,null,null,null,null,null,null,null,null,null,null,null,null,null,null,null,null,null,"مدفوع"]
[null,null,null,null,null,null,null,null,null,null,null,null,null,null,null,null,null,null,null,null,null,null,"مدفوع"]
[null,null,null,null,null,null,null,null,null,null,null,null,null,null,null,null,null,null,null,null,null,null,"مدفوع"]
[null,null,null,null,null,null,null,null,null,null,null,null,null,null,null,null,null,null,null,null,null,null,"مدفوع"]
[null,null,null,null,null,null,null,null,null,null,null,null,null,null,null,null,null,null,null,null,null,null,"مدفوع"]
[null,null,null,null,null,null,null,null,null,null,null,null,null,null,null,null,null,null,null,null,null,null,"مدفوع"]
[null,null,null,null,null,null,null,null,null,null,null,null,null,null,null,null,null,null,null,null,null,null,"مدفوع"]
[null,null,null,null,null,null,null,null,null,null,null,null,null,null,null,null,null,null,null,null,null,null,"مدفوع"]
[null,null,null,null,null,null,null,null,null,null,null,null,null,null,null,null,null,null,null,null,null,null,"مدفوع"]
[null,null,null,null,null,null,null,null,null,null,null,null,null,null,null,null,null,null,null,null,null,null,"مدفوع"]
[null,null,null,null,null,null,null,null,null,null,null,null,null,null,null,null,null,null,null,null,null,null,"مدفوع"]
[null,null,null,null,null,null,null,null,null,null,null,null,null,null,null,null,null,null,null,null,null,null,"مدفوع"]
[null,null,null,null,null,null,null,null,null,null,null,null,null,null,null,null,null,null,null,null,null,null,"مدفوع"]
[null,null,null,null,null,null,null,null,null,null,null,null,null,null,null,null,null,null,null,null,null,null,"مدفوع"]
[null,null,null,null,null,null,null,null,null,null,null,null,null,null,null,null,null,null,null,null,null,null,"مدفوع"]
[null,null,null,null,null,null,null,null,null,null,null,null,null,null,null,null,null,null,null,null,null,null,"مدفوع"]
[null,null,null,null,null,null,null,null,null,null,null,null,null,null,null,null,null,null,null,null,null,null,"مدفوع"]
[null,null,null,null,null,null,null,null,null,null,null,null,null,null,null,null,null,null,null,null,null,null,"مدفوع"]
[null,null,null,null,null,null,null,null,null,null,null,null,null,null,null,null,null,null,null,null,null,null,"مدفوع"]
[null,null,null,null,null,null,null,null,null,null,null,null,null,null,null,null,null,null,null,null,null,null,"مدفوع"]
[null,null,null,null,null,null,null,null,null,null,null,null,null,null,null,null,null,null,null,null,null,null,"مدفوع"]
[null,null,null,null,null,null,null,null,null,null,null,null,null,null,null,null,null,null,null,null,null,null,"مدفوع"]
[null,null,null,null,null,null,null,null,null,null,null,null,null,null,null,null,null,null,null,null,null,null,"مدفوع"]
[null,null,null,null,null,null,null,null,null,null,null,null,null,null,null,null,null,null,null,null,null,null,"مدفوع"]
[null,null,null,null,null,null,null,null,null,null,null,null,null,null,null,null,null,null,null,null,null,null,"مدفوع"]
[null,null,null,null,null,null,null,null,null,null,null,null,null,null,null,null,null,null,null,null,null,null,"مدفوع"]
[null,null,null,null,null,null,null,null,null,null,null,null,null,null,null,null,null,null,null,null,null,null,"مدفوع"]
[null,null,null,null,null,null,null,null,null,null,null,null,null,null,null,null,null,null,null,null,null,null,"مدفوع"]
[null,null,null,null,null,null,null,null,null,null,null,null,null,null,null,null,null,null,null,null,null,null,"مدفوع"]
[null,null,null,null,null,null,null,null,null,null,null,null,null,null,null,null,null,null,null,null,null,null,"مدفوع"]
[null,null,null,null,null,null,null,null,null,null,null,null,null,null,null,null,null,null,null,null,null,null,"مدفوع"]
[null,null,null,null,null,null,null,null,null,null,null,null,null,null,null,null,null,null,null,null,null,null,"مدفوع"]
[null,null,null,null,null,null,null,null,null,null,null,null,null,null,null,null,null,null,null,null,null,null,"مدفوع"]
[null,null,null,null,null,null,null,null,null,null,null,null,null,null,null,null,null,null,null,null,null,null,"مدفوع"]
[null,null,null,null,null,null,null,null,null,null,null,null,null,null,null,null,null,null,null,null,null,null,"مدفوع"]
[null,null,null,null,null,null,null,null,null,null,null,null,null,null,null,null,null,null,null,null,null,null,"مدفوع"]
[null,null,null,null,null,null,null,null,null,null,null,null,null,null,null,null,null,null,null,null,null,null,"مدفوع"]
[null,null,null,null,null,null,null,null,null,null,null,null,null,null,null,null,null,null,null,null,null,null,"مدفوع"]
[null,null,null,null,null,null,null,null,null,null,null,null,null,null,null,null,null,null,null,null,null,null,"مدفوع"]
[null,null,null,null,null,null,null,null,null,null,null,null,null,null,null,null,null,null,null,null,null,null,"مدفوع"]
[null,null,null,null,null,null,null,null,null,null,null,null,null,null,null,null,null,null,null,null,null,null,"مدفوع"]
[null,null,null,null,null,null,null,null,null,null,null,null,null,null,null,null,null,null,null,null,null,null,"مدفوع"]
[null,null,null,null,null,null,null,null,null,null,null,null,null,null,null,null,null,null,null,null,null,null,"مدفوع"]
[null,null,null,null,null,null,null,null,null,null,null,null,null,null,null,null,null,null,null,null,null,null,"مدفوع"]
[null,null,null,null,null,null,null,null,null,null,null,null,null,null,null,null,null,null,null,null,null,null,"مدفوع"]
[null,null,null,null,null,null,null,null,null,null,null,null,null,null,null,null,null,null,null,null,null,null,"مدفوع"]
[null,null,null,null,null,null,null,null,null,null,null,null,null,null,null,null,null,null,null,null,null,null,"مدفوع"]
[null,null,null,null,null,null,null,null,null,null,null,null,null,null,null,null,null,null,null,null,null,null,"مدفوع"]
[null,null,null,null,null,null,null,null,null,null,null,null,null,null,null,null,null,null,null,null,null,null,"مدفوع"]
[null,null,null,null,null,null,null,null,null,null,null,null,null,null,null,null,null,null,null,null,null,null,"مدفوع"]
[null,null,null,null,null,null,null,null,null,null,null,null,null,null,null,null,null,null,null,null,null,null,"مدفوع"]
[null,null,null,null,null,null,null,null,null,null,null,null,null,null,null,null,null,null,null,null,null,null,"مدفوع"]
[null,null,null,null,null,null,null,null,null,null,null,null,null,null,null,null,null,null,null,null,null,null,"مدفوع"]
[null,null,null,null,null,null,null,null,null,null,null,null,null,null,null,null,null,null,null,null,null,null,"مدفوع"]
[null,null,null,null,null,null,null,null,null,null,null,null,null,null,null,null,null,null,null,null,null,null,"مدفوع"]
[null,null,null,null,null,null,null,null,null,null,null,null,null,null,null,null,null,null,null,null,null,null,"مدفوع"]
[null,null,null,null,null,null,null,null,null,null,null,null,null,null,null,null,null,null,null,null,null,null,{"$f":"IF(V2056<=0,\"مدفوع\",\"غير مدفوع\")","v":"مدفوع"}]
[null,null,null,null,null,null,null,null,null,null,null,null,null,null,null,null,null,null,null,null,null,null,"مدفوع"]
[null,null,null,null,null,null,null,null,null,null,null,null,null,null,null,null,null,null,null,null,null,null,"مدفوع"]
[null,null,null,null,null,null,null,null,null,null,null,null,null,null,null,null,null,null,null,null,null,null,"مدفوع"]
[null,null,null,null,null,null,null,null,null,null,null,null,null,null,null,null,null,null,null,null,null,null,"مدفوع"]
[null,null,null,null,null,null,null,null,null,null,null,null,null,null,null,null,null,null,null,null,null,null,"مدفوع"]
[null,null,null,null,null,null,null,null,null,null,null,null,null,null,null,null,null,null,null,null,null,null,"مدفوع"]
[null,null,null,null,null,null,null,null,null,null,null,null,null,null,null,null,null,null,null,null,null,null,"مدفوع"]
[null,null,null,null,null,null,null,null,null,null,null,null,null,null,null,null,null,null,null,null,null,null,"مدفوع"]
[null,null,null,null,null,null,null,null,null,null,null,null,null,null,null,null,null,null,null,null,null,null,"مدفوع"]
[null,null,null,null,null,null,null,null,null,null,null,null,null,null,null,null,null,null,null,null,null,null,"مدفوع"]
[null,null,null,null,null,null,null,null,null,null,null,null,null,null,null,null,null,null,null,null,null,null,"مدفوع"]
[null,null,null,null,null,null,null,null,null,null,null,null,null,null,null,null,null,null,null,null,null,null,"مدفوع"]
[null,null,null,null,null,null,null,null,null,null,null,null,null,null,null,null,null,null,null,null,null,null,"مدفوع"]
[null,null,null,null,null,null,null,null,null,null,null,null,null,null,null,null,null,null,null,null,null,null,"مدفوع"]
[null,null,null,null,null,null,null,null,null,null,null,null,null,null,null,null,null,null,null,null,null,null,"مدفوع"]
[null,null,null,null,null,null,null,null,null,null,null,null,null,null,null,null,null,null,null,null,null,null,"مدفوع"]
[null,null,null,null,null,null,null,null,null,null,null,null,null,null,null,null,null,null,null,null,null,null,"مدفوع"]
[null,null,null,null,null,null,null,null,null,null,null,null,null,null,null,null,null,null,null,null,null,null,"مدفوع"]
[null,null,null,null,null,null,null,null,null,null,null,null,null,null,null,null,null,null,null,null,null,null,"مدفوع"]
[null,null,null,null,null,null,null,null,null,null,null,null,null,null,null,null,null,null,null,null,null,null,"مدفوع"]
[null,null,null,null,null,null,null,null,null,null,null,null,null,null,null,null,null,null,null,null,null,null,"مدفوع"]
[null,null,null,null,null,null,null,null,null,null,null,null,null,null,null,null,null,null,null,null,null,null,"مدفوع"]
[null,null,null,null,null,null,null,null,null,null,null,null,null,null,null,null,null,null,null,null,null,null,"مدفوع"]
[null,null,null,null,null,null,null,null,null,null,null,null,null,null,null,null,null,null,null,null,null,null,"مدفوع"]
[null,null,null,null,null,null,null,null,null,null,null,null,null,null,null,null,null,null,null,null,null,null,"مدفوع"]
[null,null,null,null,null,null,null,null,null,null,null,null,null,null,null,null,null,null,null,null,null,null,"مدفوع"]
[null,null,null,null,null,null,null,null,null,null,null,null,null,null,null,null,null,null,null,null,null,null,"مدفوع"]
[null,null,null,null,null,null,null,null,null,null,null,null,null,null,null,null,null,null,null,null,null,null,"مدفوع"]
[null,null,null,null,null,null,null,null,null,null,null,null,null,null,null,null,null,null,null,null,null,null,"مدفوع"]
[null,null,null,null,null,null,null,null,null,null,null,null,null,null,null,null,null,null,null,null,null,null,"مدفوع"]
[null,null,null,null,null,null,null,null,null,null,null,null,null,null,null,null,null,null,null,null,null,null,"مدفوع"]
[null,null,null,null,null,null,null,null,null,null,null,null,null,null,null,null,null,null,null,null,null,null,"مدفوع"]
[null,null,null,null,null,null,null,null,null,null,null,null,null,null,null,null,null,null,null,null,null,null,"مدفوع"]
[null,null,null,null,null,null,null,null,null,null,null,null,null,null,null,null,null,null,null,null,null,null,"مدفوع"]
[null,null,null,null,null,null,null,null,null,null,null,null,null,null,null,null,null,null,null,null,null,null,"مدفوع"]
[null,null,null,null,null,null,null,null,null,null,null,null,null,null,null,null,null,null,null,null,null,null,"مدفوع"]
[null,null,null,null,null,null,null,null,null,null,null,null,null,null,null,null,null,null,null,null,null,null,"مدفوع"]
[null,null,null,null,null,null,null,null,null,null,null,null,null,null,null,null,null,null,null,null,null,null,"مدفوع"]
[null,null,null,null,null,null,null,null,null,null,null,null,null,null,null,null,null,null,null,null,null,null,"مدفوع"]
[null,null,null,null,null,null,null,null,null,null,null,null,null,null,null,null,null,null,null,null,null,null,"مدفوع"]
[null,null,null,null,null,null,null,null,null,null,null,null,null,null,null,null,null,null,null,null,null,null,"مدفوع"]
[null,null,null,null,null,null,null,null,null,null,null,null,null,null,null,null,null,null,null,null,null,null,"مدفوع"]
[null,null,null,null,null,null,null,null,null,null,null,null,null,null,null,null,null,null,null,null,null,null,"مدفوع"]
[null,null,null,null,null,null,null,null,null,null,null,null,null,null,null,null,null,null,null,null,null,null,"مدفوع"]
[null,null,null,null,null,null,null,null,null,null,null,null,null,null,null,null,null,null,null,null,null,null,"مدفوع"]
[null,null,null,null,null,null,null,null,null,null,null,null,null,null,null,null,null,null,null,null,null,null,"مدفوع"]
[null,null,null,null,null,null,null,null,null,null,null,null,null,null,null,null,null,null,null,null,null,null,"مدفوع"]
[null,null,null,null,null,null,null,null,null,null,null,null,null,null,null,null,null,null,null,null,null,null,"مدفوع"]
[null,null,null,null,null,null,null,null,null,null,null,null,null,null,null,null,null,null,null,null,null,null,"مدفوع"]
[null,null,null,null,null,null,null,null,null,null,null,null,null,null,null,null,null,null,null,null,null,null,"مدفوع"]
[null,null,null,null,null,null,null,null,null,null,null,null,null,null,null,null,null,null,null,null,null,null,"مدفوع"]
[null,null,null,null,null,null,null,null,null,null,null,null,null,null,null,null,null,null,null,null,null,null,"مدفوع"]
[null,null,null,null,null,null,null,null,null,null,null,null,null,null,null,null,null,null,null,null,null,null,"مدفوع"]
[null,null,null,null,null,null,null,null,null,null,null,null,null,null,null,null,null,null,null,null,null,null,"مدفوع"]
[null,null,null,null,null,null,null,null,null,null,null,null,null,null,null,null,null,null,null,null,null,null,"مدفوع"]
[null,null,null,null,null,null,null,null,null,null,null,null,null,null,null,null,null,null,null,null,null,null,"مدفوع"]
[null,null,null,null,null,null,null,null,null,null,null,null,null,null,null,null,null,null,null,null,null,null,"مدفوع"]
[null,null,null,null,null,null,null,null,null,null,null,null,null,null,null,null,null,null,null,null,null,null,"مدفوع"]
[null,null,null,null,null,null,null,null,null,null,null,null,null,null,null,null,null,null,null,null,null,null,"مدفوع"]
[null,null,null,null,null,null,null,null,null,null,null,null,null,null,null,null,null,null,null,null,null,null,"مدفوع"]
[null,null,null,null,null,null,null,null,null,null,null,null,null,null,null,null,null,null,null,null,null,null,"مدفوع"]
[null,null,null,null,null,null,null,null,null,null,null,null,null,null,null,null,null,null,null,null,null,null,"مدفوع"]
[null,null,null,null,null,null,null,null,null,null,null,null,null,null,null,null,null,null,null,null,null,null,"مدفوع"]
[null,null,null,null,null,null,null,null,null,null,null,null,null,null,null,null,null,null,null,null,null,null,{"$f":"IF(V2120<=0,\"مدفوع\",\"غير مدفوع\")","v":"مدفوع"}]
[null,null,null,null,null,null,null,null,null,null,null,null,null,null,null,null,null,null,null,null,null,null,"مدفوع"]
[null,null,null,null,null,null,null,null,null,null,null,null,null,null,null,null,null,null,null,null,null,null,"مدفوع"]
[null,null,null,null,null,null,null,null,null,null,null,null,null,null,null,null,null,null,null,null,null,null,"مدفوع"]
[null,null,null,null,null,null,null,null,null,null,null,null,null,null,null,null,null,null,null,null,null,null,"مدفوع"]
[null,null,null,null,null,null,null,null,null,null,null,null,null,null,null,null,null,null,null,null,null,null,"مدفوع"]
[null,null,null,null,null,null,null,null,null,null,null,null,null,null,null,null,null,null,null,null,null,null,"مدفوع"]
[null,null,null,null,null,null,null,null,null,null,null,null,null,null,null,null,null,null,null,null,null,null,"مدفوع"]
[null,null,null,null,null,null,null,null,null,null,null,null,null,null,null,null,null,null,null,null,null,null,"مدفوع"]
[null,null,null,null,null,null,null,null,null,null,null,null,null,null,null,null,null,null,null,null,null,null,"مدفوع"]
[null,null,null,null,null,null,null,null,null,null,null,null,null,null,null,null,null,null,null,null,null,null,"مدفوع"]
[null,null,null,null,null,null,null,null,null,null,null,null,null,null,null,null,null,null,null,null,null,null,"مدفوع"]
[null,null,null,null,null,null,null,null,null,null,null,null,null,null,null,null,null,null,null,null,null,null,"مدفوع"]
[null,null,null,null,null,null,null,null,null,null,null,null,null,null,null,null,null,null,null,null,null,null,"مدفوع"]
[null,null,null,null,null,null,null,null,null,null,null,null,null,null,null,null,null,null,null,null,null,null,"مدفوع"]
[null,null,null,null,null,null,null,null,null,null,null,null,null,null,null,null,null,null,null,null,null,null,"مدفوع"]
[null,null,null,null,null,null,null,null,null,null,null,null,null,null,null,null,null,null,null,null,null,null,"مدفوع"]
[null,null,null,null,null,null,null,null,null,null,null,null,null,null,null,null,null,null,null,null,null,null,"مدفوع"]
[null,null,null,null,null,null,null,null,null,null,null,null,null,null,null,null,null,null,null,null,null,null,"مدفوع"]
[null,null,null,null,null,null,null,null,null,null,null,null,null,null,null,null,null,null,null,null,null,null,"مدفوع"]
[null,null,null,null,null,null,null,null,null,null,null,null,null,null,null,null,null,null,null,null,null,null,"مدفوع"]
[null,null,null,null,null,null,null,null,null,null,null,null,null,null,null,null,null,null,null,null,null,null,"مدفوع"]
[null,null,null,null,null,null,null,null,null,null,null,null,null,null,null,null,null,null,null,null,null,null,"مدفوع"]
[null,null,null,null,null,null,null,null,null,null,null,null,null,null,null,null,null,null,null,null,null,null,"مدفوع"]
[null,null,null,null,null,null,null,null,null,null,null,null,null,null,null,null,null,null,null,null,null,null,"مدفوع"]
[null,null,null,null,null,null,null,null,null,null,null,null,null,null,null,null,null,null,null,null,null,null,"مدفوع"]
[null,null,null,null,null,null,null,null,null,null,null,null,null,null,null,null,null,null,null,null,null,null,"مدفوع"]
[null,null,null,null,null,null,null,null,null,null,null,null,null,null,null,null,null,null,null,null,null,null,"مدفوع"]
[null,null,null,null,null,null,null,null,null,null,null,null,null,null,null,null,null,null,null,null,null,null,"مدفوع"]
[null,null,null,null,null,null,null,null,null,null,null,null,null,null,null,null,null,null,null,null,null,null,"مدفوع"]
[null,null,null,null,null,null,null,null,null,null,null,null,null,null,null,null,null,null,null,null,null,null,"مدفوع"]
[null,null,null,null,null,null,null,null,null,null,null,null,null,null,null,null,null,null,null,null,null,null,"مدفوع"]
[null,null,null,null,null,null,null,null,null,null,null,null,null,null,null,null,null,null,null,null,null,null,"مدفوع"]
[null,null,null,null,null,null,null,null,null,null,null,null,null,null,null,null,null,null,null,null,null,null,"مدفوع"]
[null,null,null,null,null,null,null,null,null,null,null,null,null,null,null,null,null,null,null,null,null,null,"مدفوع"]
[null,null,null,null,null,null,null,null,null,null,null,null,null,null,null,null,null,null,null,null,null,null,"مدفوع"]
[null,null,null,null,null,null,null,null,null,null,null,null,null,null,null,null,null,null,null,null,null,null,"مدفوع"]
[null,null,null,null,null,null,null,null,null,null,null,null,null,null,null,null,null,null,null,null,null,null,"مدفوع"]
[null,null,null,null,null,null,null,null,null,null,null,null,null,null,null,null,null,null,null,null,null,null,"مدفوع"]
[null,null,null,null,null,null,null,null,null,null,null,null,null,null,null,null,null,null,null,null,null,null,"مدفوع"]
[null,null,null,null,null,null,null,null,null,null,null,null,null,null,null,null,null,null,null,null,null,null,"مدفوع"]
[null,null,null,null,null,null,null,null,null,null,null,null,null,null,null,null,null,null,null,null,null,null,"مدفوع"]
[null,null,null,null,null,null,null,null,null,null,null,null,null,null,null,null,null,null,null,null,null,null,"مدفوع"]
[null,null,null,null,null,null,null,null,null,null,null,null,null,null,null,null,null,null,null,null,null,null,"مدفوع"]
[null,null,null,null,null,null,null,null,null,null,null,null,null,null,null,null,null,null,null,null,null,null,"مدفوع"]
[null,null,null,null,null,null,null,null,null,null,null,null,null,null,null,null,null,null,null,null,null,null,"مدفوع"]
[null,null,null,null,null,null,null,null,null,null,null,null,null,null,null,null,null,null,null,null,null,null,"مدفوع"]
[null,null,null,null,null,null,null,null,null,null,null,null,null,null,null,null,null,null,null,null,null,null,"مدفوع"]
[null,null,null,null,null,null,null,null,null,null,null,null,null,null,null,null,null,null,null,null,null,null,"مدفوع"]
[null,null,null,null,null,null,null,null,null,null,null,null,null,null,null,null,null,null,null,null,null,null,"مدفوع"]
[null,null,null,null,null,null,null,null,null,null,null,null,null,null,null,null,null,null,null,null,null,null,"مدفوع"]
[null,null,null,null,null,null,null,null,null,null,null,null,null,null,null,null,null,null,null,null,null,null,"مدفوع"]
[null,null,null,null,null,null,null,null,null,null,null,null,null,null,null,null,null,null,null,null,null,null,"مدفوع"]
[null,null,null,null,null,null,null,null,null,null,null,null,null,null,null,null,null,null,null,null,null,null,"مدفوع"]
[null,null,null,null,null,null,null,null,null,null,null,null,null,null,null,null,null,null,null,null,null,null,"مدفوع"]
[null,null,null,null,null,null,null,null,null,null,null,null,null,null,null,null,null,null,null,null,null,null,"مدفوع"]
[null,null,null,null,null,null,null,null,null,null,null,null,null,null,null,null,null,null,null,null,null,null,"مدفوع"]
[null,null,null,null,null,null,null,null,null,null,null,null,null,null,null,null,null,null,null,null,null,null,"مدفوع"]
[null,null,null,null,null,null,null,null,null,null,null,null,null,null,null,null,null,null,null,null,null,null,"مدفوع"]
[null,null,null,null,null,null,null,null,null,null,null,null,null,null,null,null,null,null,null,null,null,null,"مدفوع"]
[null,null,null,null,null,null,null,null,null,null,null,null,null,null,null,null,null,null,null,null,null,null,"مدفوع"]
[null,null,null,null,null,null,null,null,null,null,null,null,null,null,null,null,null,null,null,null,null,null,"مدفوع"]
[null,null,null,null,null,null,null,null,null,null,null,null,null,null,null,null,null,null,null,null,null,null,"مدفوع"]
[null,null,null,null,null,null,null,null,null,null,null,null,null,null,null,null,null,null,null,null,null,null,"مدفوع"]
[null,null,null,null,null,null,null,null,null,null,null,null,null,null,null,null,null,null,null,null,null,null,{"$f":"IF(V2184<=0,\"مدفوع\",\"غير مدفوع\")","v":"مدفوع"}]
[null,null,null,null,null,null,null,null,null,null,null,null,null,null,null,null,null,null,null,null,null,null,"مدفوع"]
[null,null,null,null,null,null,null,null,null,null,null,null,null,null,null,null,null,null,null,null,null,null,"مدفوع"]
[null,null,null,null,null,null,null,null,null,null,null,null,null,null,null,null,null,null,null,null,null,null,"مدفوع"]
[null,null,null,null,null,null,null,null,null,null,null,null,null,null,null,null,null,null,null,null,null,null,"مدفوع"]
[null,null,null,null,null,null,null,null,null,null,null,null,null,null,null,null,null,null,null,null,null,null,"مدفوع"]
[null,null,null,null,null,null,null,null,null,null,null,null,null,null,null,null,null,null,null,null,null,null,"مدفوع"]
[null,null,null,null,null,null,null,null,null,null,null,null,null,null,null,null,null,null,null,null,null,null,"مدفوع"]
[null,null,null,null,null,null,null,null,null,null,null,null,null,null,null,null,null,null,null,null,null,null,"مدفوع"]
[null,null,null,null,null,null,null,null,null,null,null,null,null,null,null,null,null,null,null,null,null,null,"مدفوع"]
[null,null,null,null,null,null,null,null,null,null,null,null,null,null,null,null,null,null,null,null,null,null,"مدفوع"]
[null,null,null,null,null,null,null,null,null,null,null,null,null,null,null,null,null,null,null,null,null,null,"مدفوع"]
[null,null,null,null,null,null,null,null,null,null,null,null,null,null,null,null,null,null,null,null,null,null,"مدفوع"]
[null,null,null,null,null,null,null,null,null,null,null,null,null,null,null,null,null,null,null,null,null,null,"مدفوع"]
[null,null,null,null,null,null,null,null,null,null,null,null,null,null,null,null,null,null,null,null,null,null,"مدفوع"]
[null,null,null,null,null,null,null,null,null,null,null,null,null,null,null,null,null,null,null,null,null,null,"مدفوع"]
[null,null,null,null,null,null,null,null,null,null,null,null,null,null,null,null,null,null,null,null,null,null,"مدفوع"]
[null,null,null,null,null,null,null,null,null,null,null,null,null,null,null,null,null,null,null,null,null,null,"مدفوع"]
[null,null,null,null,null,null,null,null,null,null,null,null,null,null,null,null,null,null,null,null,null,null,"مدفوع"]
[null,null,null,null,null,null,null,null,null,null,null,null,null,null,null,null,null,null,null,null,null,null,"مدفوع"]
[null,null,null,null,null,null,null,null,null,null,null,null,null,null,null,null,null,null,null,null,null,null,"مدفوع"]
[null,null,null,null,null,null,null,null,null,null,null,null,null,null,null,null,null,null,null,null,null,null,"مدفوع"]
[null,null,null,null,null,null,null,null,null,null,null,null,null,null,null,null,null,null,null,null,null,null,"مدفوع"]
[null,null,null,null,null,null,null,null,null,null,null,null,null,null,null,null,null,null,null,null,null,null,"مدفوع"]
[null,null,null,null,null,null,null,null,null,null,null,null,null,null,null,null,null,null,null,null,null,null,"مدفوع"]
[null,null,null,null,null,null,null,null,null,null,null,null,null,null,null,null,null,null,null,null,null,null,"مدفوع"]
[null,null,null,null,null,null,null,null,null,null,null,null,null,null,null,null,null,null,null,null,null,null,"مدفوع"]
[null,null,null,null,null,null,null,null,null,null,null,null,null,null,null,null,null,null,null,null,null,null,"مدفوع"]
[null,null,null,null,null,null,null,null,null,null,null,null,null,null,null,null,null,null,null,null,null,null,"مدفوع"]
[null,null,null,null,null,null,null,null,null,null,null,null,null,null,null,null,null,null,null,null,null,null,"مدفوع"]
[null,null,null,null,null,null,null,null,null,null,null,null,null,null,null,null,null,null,null,null,null,null,"مدفوع"]
[null,null,null,null,null,null,null,null,null,null,null,null,null,null,null,null,null,null,null,null,null,null,"مدفوع"]
[null,null,null,null,null,null,null,null,null,null,null,null,null,null,null,null,null,null,null,null,null,null,"مدفوع"]
[null,null,null,null,null,null,null,null,null,null,null,null,null,null,null,null,null,null,null,null,null,null,"مدفوع"]
[null,null,null,null,null,null,null,null,null,null,null,null,null,null,null,null,null,null,null,null,null,null,"مدفوع"]
[null,null,null,null,null,null,null,null,null,null,null,null,null,null,null,null,null,null,null,null,null,null,"مدفوع"]
[null,null,null,null,null,null,null,null,null,null,null,null,null,null,null,null,null,null,null,null,null,null,"مدفوع"]
[null,null,null,null,null,null,null,null,null,null,null,null,null,null,null,null,null,null,null,null,null,null,"مدفوع"]
[null,null,null,null,null,null,null,null,null,null,null,null,null,null,null,null,null,null,null,null,null,null,"مدفوع"]
[null,null,null,null,null,null,null,null,null,null,null,null,null,null,null,null,null,null,null,null,null,null,"مدفوع"]
[null,null,null,null,null,null,null,null,null,null,null,null,null,null,null,null,null,null,null,null,null,null,"مدفوع"]
[null,null,null,null,null,null,null,null,null,null,null,null,null,null,null,null,null,null,null,null,null,null,"مدفوع"]
[null,null,null,null,null,null,null,null,null,null,null,null,null,null,null,null,null,null,null,null,null,null,"مدفوع"]
[null,null,null,null,null,null,null,null,null,null,null,null,null,null,null,null,null,null,null,null,null,null,"مدفوع"]
[null,null,null,null,null,null,null,null,null,null,null,null,null,null,null,null,null,null,null,null,null,null,"مدفوع"]
[null,null,null,null,null,null,null,null,null,null,null,null,null,null,null,null,null,null,null,null,null,null,"مدفوع"]
[null,null,null,null,null,null,null,null,null,null,null,null,null,null,null,null,null,null,null,null,null,null,"مدفوع"]
[null,null,null,null,null,null,null,null,null,null,null,null,null,null,null,null,null,null,null,null,null,null,"مدفوع"]
[null,null,null,null,null,null,null,null,null,null,null,null,null,null,null,null,null,null,null,null,null,null,"مدفوع"]
[null,null,null,null,null,null,null,null,null,null,null,null,null,null,null,null,null,null,null,null,null,null,"مدفوع"]
[null,null,null,null,null,null,null,null,null,null,null,null,null,null,null,null,null,null,null,null,null,null,"مدفوع"]
[null,null,null,null,null,null,null,null,null,null,null,null,null,null,null,null,null,null,null,null,null,null,"مدفوع"]
[null,null,null,null,null,null,null,null,null,null,null,null,null,null,null,null,null,null,null,null,null,null,"مدفوع"]
[null,null,null,null,null,null,null,null,null,null,null,null,null,null,null,null,null,null,null,null,null,null,"مدفوع"]
[null,null,null,null,null,null,null,null,null,null,null,null,null,null,null,null,null,null,null,null,null,null,"مدفوع"]
[null,null,null,null,null,null,null,null,null,null,null,null,null,null,null,null,null,null,null,null,null,null,"مدفوع"]
[null,null,null,null,null,null,null,null,null,null,null,null,null,null,null,null,null,null,null,null,null,null,"مدفوع"]
[null,null,null,null,null,null,null,null,null,null,null,null,null,null,null,null,null,null,null,null,null,null,"مدفوع"]
[null,null,null,null,null,null,null,null,null,null,null,null,null,null,null,null,null,null,null,null,null,null,"مدفوع"]
[null,null,null,null,null,null,null,null,null,null,null,null,null,null,null,null,null,null,null,null,null,null,"مدفوع"]
[null,null,null,null,null,null,null,null,null,null,null,null,null,null,null,null,null,null,null,null,null,null,"مدفوع"]
[null,null,null,null,null,null,null,null,null,null,null,null,null,null,null,null,null,null,null,null,null,null,"مدفوع"]
[null,null,null,null,null,null,null,null,null,null,null,null,null,null,null,null,null,null,null,null,null,null,"مدفوع"]
[null,null,null,null,null,null,null,null,null,null,null,null,null,null,null,null,null,null,null,null,null,null,"مدفوع"]
[null,null,null,null,null,null,null,null,null,null,null,null,null,null,null,null,null,null,null,null,null,null,{"$f":"IF(V2248<=0,\"مدفوع\",\"غير مدفوع\")","v":"مدفوع"}]
[null,null,null,null,null,null,null,null,null,null,null,null,null,null,null,null,null,null,null,null,null,null,"مدفوع"]
[null,null,null,null,null,null,null,null,null,null,null,null,null,null,null,null,null,null,null,null,null,null,"مدفوع"]
[null,null,null,null,null,null,null,null,null,null,null,null,null,null,null,null,null,null,null,null,null,null,"مدفوع"]
[null,null,null,null,null,null,null,null,null,null,null,null,null,null,null,null,null,null,null,null,null,null,"مدفوع"]
[null,null,null,null,null,null,null,null,null,null,null,null,null,null,null,null,null,null,null,null,null,null,"مدفوع"]
[null,null,null,null,null,null,null,null,null,null,null,null,null,null,null,null,null,null,null,null,null,null,"مدفوع"]
[null,null,null,null,null,null,null,null,null,null,null,null,null,null,null,null,null,null,null,null,null,null,"مدفوع"]
[null,null,null,null,null,null,null,null,null,null,null,null,null,null,null,null,null,null,null,null,null,null,"مدفوع"]
[null,null,null,null,null,null,null,null,null,null,null,null,null,null,null,null,null,null,null,null,null,null,"مدفوع"]
[null,null,null,null,null,null,null,null,null,null,null,null,null,null,null,null,null,null,null,null,null,null,"مدفوع"]
[null,null,null,null,null,null,null,null,null,null,null,null,null,null,null,null,null,null,null,null,null,null,"مدفوع"]
[null,null,null,null,null,null,null,null,null,null,null,null,null,null,null,null,null,null,null,null,null,null,"مدفوع"]
[null,null,null,null,null,null,null,null,null,null,null,null,null,null,null,null,null,null,null,null,null,null,"مدفوع"]
[null,null,null,null,null,null,null,null,null,null,null,null,null,null,null,null,null,null,null,null,null,null,"مدفوع"]
[null,null,null,null,null,null,null,null,null,null,null,null,null,null,null,null,null,null,null,null,null,null,"مدفوع"]
[null,null,null,null,null,null,null,null,null,null,null,null,null,null,null,null,null,null,null,null,null,null,"مدفوع"]
[null,null,null,null,null,null,null,null,null,null,null,null,null,null,null,null,null,null,null,null,null,null,"مدفوع"]
[null,null,null,null,null,null,null,null,null,null,null,null,null,null,null,null,null,null,null,null,null,null,"مدفوع"]
[null,null,null,null,null,null,null,null,null,null,null,null,null,null,null,null,null,null,null,null,null,null,"مدفوع"]
[null,null,null,null,null,null,null,null,null,null,null,null,null,null,null,null,null,null,null,null,null,null,"مدفوع"]
[null,null,null,null,null,null,null,null,null,null,null,null,null,null,null,null,null,null,null,null,null,null,"مدفوع"]
[null,null,null,null,null,null,null,null,null,null,null,null,null,null,null,null,null,null,null,null,null,null,"مدفوع"]
[null,null,null,null,null,null,null,null,null,null,null,null,null,null,null,null,null,null,null,null,null,null,"مدفوع"]
[null,null,null,null,null,null,null,null,null,null,null,null,null,null,null,null,null,null,null,null,null,null,"مدفوع"]
[null,null,null,null,null,null,null,null,null,null,null,null,null,null,null,null,null,null,null,null,null,null,"مدفوع"]
[null,null,null,null,null,null,null,null,null,null,null,null,null,null,null,null,null,null,null,null,null,null,"مدفوع"]
[null,null,null,null,null,null,null,null,null,null,null,null,null,null,null,null,null,null,null,null,null,null,"مدفوع"]
[null,null,null,null,null,null,null,null,null,null,null,null,null,null,null,null,null,null,null,null,null,null,"مدفوع"]
[null,null,null,null,null,null,null,null,null,null,null,null,null,null,null,null,null,null,null,null,null,null,"مدفوع"]
[null,null,null,null,null,null,null,null,null,null,null,null,null,null,null,null,null,null,null,null,null,null,"مدفوع"]
[null,null,null,null,null,null,null,null,null,null,null,null,null,null,null,null,null,null,null,null,null,null,"مدفوع"]
[null,null,null,null,null,null,null,null,null,null,null,null,null,null,null,null,null,null,null,null,null,null,"مدفوع"]
[null,null,null,null,null,null,null,null,null,null,null,null,null,null,null,null,null,null,null,null,null,null,"مدفوع"]
[null,null,null,null,null,null,null,null,null,null,null,null,null,null,null,null,null,null,null,null,null,null,"مدفوع"]
[null,null,null,null,null,null,null,null,null,null,null,null,null,null,null,null,null,null,null,null,null,null,"مدفوع"]
[null,null,null,null,null,null,null,null,null,null,null,null,null,null,null,null,null,null,null,null,null,null,"مدفوع"]
[null,null,null,null,null,null,null,null,null,null,null,null,null,null,null,null,null,null,null,null,null,null,"مدفوع"]
[null,null,null,null,null,null,null,null,null,null,null,null,null,null,null,null,null,null,null,null,null,null,"مدفوع"]
[null,null,null,null,null,null,null,null,null,null,null,null,null,null,null,null,null,null,null,null,null,null,"مدفوع"]
[null,null,null,null,null,null,null,null,null,null,null,null,null,null,null,null,null,null,null,null,null,null,"مدفوع"]
[null,null,null,null,null,null,null,null,null,null,null,null,null,null,null,null,null,null,null,null,null,null,"مدفوع"]
[null,null,null,null,null,null,null,null,null,null,null,null,null,null,null,null,null,null,null,null,null,null,"مدفوع"]
[null,null,null,null,null,null,null,null,null,null,null,null,null,null,null,null,null,null,null,null,null,null,"مدفوع"]
[null,null,null,null,null,null,null,null,null,null,null,null,null,null,null,null,null,null,null,null,null,null,"مدفوع"]
[null,null,null,null,null,null,null,null,null,null,null,null,null,null,null,null,null,null,null,null,null,null,"مدفوع"]
[null,null,null,null,null,null,null,null,null,null,null,null,null,null,null,null,null,null,null,null,null,null,"مدفوع"]
[null,null,null,null,null,null,null,null,null,null,null,null,null,null,null,null,null,null,null,null,null,null,"مدفوع"]
[null,null,null,null,null,null,null,null,null,null,null,null,null,null,null,null,null,null,null,null,null,null,"مدفوع"]
[null,null,null,null,null,null,null,null,null,null,null,null,null,null,null,null,null,null,null,null,null,null,"مدفوع"]
[null,null,null,null,null,null,null,null,null,null,null,null,null,null,null,null,null,null,null,null,null,null,"مدفوع"]
[null,null,null,null,null,null,null,null,null,null,null,null,null,null,null,null,null,null,null,null,null,null,"مدفوع"]
[null,null,null,null,null,null,null,null,null,null,null,null,null,null,null,null,null,null,null,null,null,null,"مدفوع"]
[null,null,null,null,null,null,null,null,null,null,null,null,null,null,null,null,null,null,null,null,null,null,"مدفوع"]
[null,null,null,null,null,null,null,null,null,null,null,null,null,null,null,null,null,null,null,null,null,null,"مدفوع"]
[null,null,null,null,null,null,null,null,null,null,null,null,null,null,null,null,null,null,null,null,null,null,"مدفوع"]
[null,null,null,null,null,null,null,null,null,null,null,null,null,null,null,null,null,null,null,null,null,null,"مدفوع"]
[null,null,null,null,null,null,null,null,null,null,null,null,null,null,null,null,null,null,null,null,null,null,"مدفوع"]
[null,null,null,null,null,null,null,null,null,null,null,null,null,null,null,null,null,null,null,null,null,null,"مدفوع"]
[null,null,null,null,null,null,null,null,null,null,null,null,null,null,null,null,null,null,null,null,null,null,"مدفوع"]
[null,null,null,null,null,null,null,null,null,null,null,null,null,null,null,null,null,null,null,null,null,null,"مدفوع"]
[null,null,null,null,null,null,null,null,null,null,null,null,null,null,null,null,null,null,null,null,null,null,"مدفوع"]
[null,null,null,null,null,null,null,null,null,null,null,null,null,null,null,null,null,null,null,null,null,null,"مدفوع"]
[null,null,null,null,null,null,null,null,null,null,null,null,null,null,null,null,null,null,null,null,null,null,"مدفوع"]
[null,null,null,null,null,null,null,null,null,null,null,null,null,null,null,null,null,null,null,null,null,null,{"$f":"IF(V2312<=0,\"مدفوع\",\"غير مدفوع\")","v":"مدفوع"}]
[null,null,null,null,null,null,null,null,null,null,null,null,null,null,null,null,null,null,null,null,null,null,"مدفوع"]
[null,null,null,null,null,null,null,null,null,null,null,null,null,null,null,null,null,null,null,null,null,null,"مدفوع"]
[null,null,null,null,null,null,null,null,null,null,null,null,null,null,null,null,null,null,null,null,null,null,"مدفوع"]
[null,null,null,null,null,null,null,null,null,null,null,null,null,null,null,null,null,null,null,null,null,null,"مدفوع"]
[null,null,null,null,null,null,null,null,null,null,null,null,null,null,null,null,null,null,null,null,null,null,"مدفوع"]
[null,null,null,null,null,null,null,null,null,null,null,null,null,null,null,null,null,null,null,null,null,null,"مدفوع"]
[null,null,null,null,null,null,null,null,null,null,null,null,null,null,null,null,null,null,null,null,null,null,"مدفوع"]
[null,null,null,null,null,null,null,null,null,null,null,null,null,null,null,null,null,null,null,null,null,null,"مدفوع"]
[null,null,null,null,null,null,null,null,null,null,null,null,null,null,null,null,null,null,null,null,null,null,"مدفوع"]
[null,null,null,null,null,null,null,null,null,null,null,null,null,null,null,null,null,null,null,null,null,null,"مدفوع"]
[null,null,null,null,null,null,null,null,null,null,null,null,null,null,null,null,null,null,null,null,null,null,"مدفوع"]
[null,null,null,null,null,null,null,null,null,null,null,null,null,null,null,null,null,null,null,null,null,null,"مدفوع"]
[null,null,null,null,null,null,null,null,null,null,null,null,null,null,null,null,null,null,null,null,null,null,"مدفوع"]
[null,null,null,null,null,null,null,null,null,null,null,null,null,null,null,null,null,null,null,null,null,null,"مدفوع"]
[null,null,null,null,null,null,null,null,null,null,null,null,null,null,null,null,null,null,null,null,null,null,"مدفوع"]
[null,null,null,null,null,null,null,null,null,null,null,null,null,null,null,null,null,null,null,null,null,null,"مدفوع"]
[null,null,null,null,null,null,null,null,null,null,null,null,null,null,null,null,null,null,null,null,null,null,"مدفوع"]
[null,null,null,null,null,null,null,null,null,null,null,null,null,null,null,null,null,null,null,null,null,null,"مدفوع"]
[null,null,null,null,null,null,null,null,null,null,null,null,null,null,null,null,null,null,null,null,null,null,"مدفوع"]
[null,null,null,null,null,null,null,null,null,null,null,null,null,null,null,null,null,null,null,null,null,null,"مدفوع"]
[null,null,null,null,null,null,null,null,null,null,null,null,null,null,null,null,null,null,null,null,null,null,"مدفوع"]
[null,null,null,null,null,null,null,null,null,null,null,null,null,null,null,null,null,null,null,null,null,null,"مدفوع"]
[null,null,null,null,null,null,null,null,null,null,null,null,null,null,null,null,null,null,null,null,null,null,"مدفوع"]
[null,null,null,null,null,null,null,null,null,null,null,null,null,null,null,null,null,null,null,null,null,null,"مدفوع"]
[null,null,null,null,null,null,null,null,null,null,null,null,null,null,null,null,null,null,null,null,null,null,"مدفوع"]
[null,null,null,null,null,null,null,null,null,null,null,null,null,null,null,null,null,null,null,null,null,null,"مدفوع"]
[null,null,null,null,null,null,null,null,null,null,null,null,null,null,null,null,null,null,null,null,null,null,"مدفوع"]
[null,null,null,null,null,null,null,null,null,null,null,null,null,null,null,null,null,null,null,null,null,null,"مدفوع"]
[null,null,null,null,null,null,null,null,null,null,null,null,null,null,null,null,null,null,null,null,null,null,"مدفوع"]
[null,null,null,null,null,null,null,null,null,null,null,null,null,null,null,null,null,null,null,null,null,null,"مدفوع"]
[null,null,null,null,null,null,null,null,null,null,null,null,null,null,null,null,null,null,null,null,null,null,"مدفوع"]
[null,null,null,null,null,null,null,null,null,null,null,null,null,null,null,null,null,null,null,null,null,null,"مدفوع"]
[null,null,null,null,null,null,null,null,null,null,null,null,null,null,null,null,null,null,null,null,null,null,"مدفوع"]
[null,null,null,null,null,null,null,null,null,null,null,null,null,null,null,null,null,null,null,null,null,null,"مدفوع"]
[null,null,null,null,null,null,null,null,null,null,null,null,null,null,null,null,null,null,null,null,null,null,"مدفوع"]
[null,null,null,null,null,null,null,null,null,null,null,null,null,null,null,null,null,null,null,null,null,null,"مدفوع"]
[null,null,null,null,null,null,null,null,null,null,null,null,null,null,null,null,null,null,null,null,null,null,"مدفوع"]
[null,null,null,null,null,null,null,null,null,null,null,null,null,null,null,null,null,null,null,null,null,null,"مدفوع"]
[null,null,null,null,null,null,null,null,null,null,null,null,null,null,null,null,null,null,null,null,null,null,"مدفوع"]
[null,null,null,null,null,null,null,null,null,null,null,null,null,null,null,null,null,null,null,null,null,null,"مدفوع"]
[null,null,null,null,null,null,null,null,null,null,null,null,null,null,null,null,null,null,null,null,null,null,"مدفوع"]
[null,null,null,null,null,null,null,null,null,null,null,null,null,null,null,null,null,null,null,null,null,null,"مدفوع"]
[null,null,null,null,null,null,null,null,null,null,null,null,null,null,null,null,null,null,null,null,null,null,"مدفوع"]
[null,null,null,null,null,null,null,null,null,null,null,null,null,null,null,null,null,null,null,null,null,null,"مدفوع"]
[null,null,null,null,null,null,null,null,null,null,null,null,null,null,null,null,null,null,null,null,null,null,"مدفوع"]
[null,null,null,null,null,null,null,null,null,null,null,null,null,null,null,null,null,null,null,null,null,null,"مدفوع"]
[null,null,null,null,null,null,null,null,null,null,null,null,null,null,null,null,null,null,null,null,null,null,"مدفوع"]
[null,null,null,null,null,null,null,null,null,null,null,null,null,null,null,null,null,null,null,null,null,null,"مدفوع"]
[null,null,null,null,null,null,null,null,null,null,null,null,null,null,null,null,null,null,null,null,null,null,"مدفوع"]
[null,null,null,null,null,null,null,null,null,null,null,null,null,null,null,null,null,null,null,null,null,null,"مدفوع"]
[null,null,null,null,null,null,null,null,null,null,null,null,null,null,null,null,null,null,null,null,null,null,"مدفوع"]
[null,null,null,null,null,null,null,null,null,null,null,null,null,null,null,null,null,null,null,null,null,null,"مدفوع"]
[null,null,null,null,null,null,null,null,null,null,null,null,null,null,null,null,null,null,null,null,null,null,"مدفوع"]
[null,null,null,null,null,null,null,null,null,null,null,null,null,null,null,null,null,null,null,null,null,null,"مدفوع"]
[null,null,null,null,null,null,null,null,null,null,null,null,null,null,null,null,null,null,null,null,null,null,"مدفوع"]
[null,null,null,null,null,null,null,null,null,null,null,null,null,null,null,null,null,null,null,null,null,null,"مدفوع"]
[null,null,null,null,null,null,null,null,null,null,null,null,null,null,null,null,null,null,null,null,null,null,"مدفوع"]
[null,null,null,null,null,null,null,null,null,null,null,null,null,null,null,null,null,null,null,null,null,null,"مدفوع"]
[null,null,null,null,null,null,null,null,null,null,null,null,null,null,null,null,null,null,null,null,null,null,"مدفوع"]
[null,null,null,null,null,null,null,null,null,null,null,null,null,null,null,null,null,null,null,null,null,null,"مدفوع"]
[null,null,null,null,null,null,null,null,null,null,null,null,null,null,null,null,null,null,null,null,null,null,"مدفوع"]
[null,null,null,null,null,null,null,null,null,null,null,null,null,null,null,null,null,null,null,null,null,null,"مدفوع"]
[null,null,null,null,null,null,null,null,null,null,null,null,null,null,null,null,null,null,null,null,null,null,"مدفوع"]
[null,null,null,null,null,null,null,null,null,null,null,null,null,null,null,null,null,null,null,null,null,null,{"$f":"IF(V2376<=0,\"مدفوع\",\"غير مدفوع\")","v":"مدفوع"}]
[null,null,null,null,null,null,null,null,null,null,null,null,null,null,null,null,null,null,null,null,null,null,"مدفوع"]
[null,null,null,null,null,null,null,null,null,null,null,null,null,null,null,null,null,null,null,null,null,null,"مدفوع"]
[null,null,null,null,null,null,null,null,null,null,null,null,null,null,null,null,null,null,null,null,null,null,"مدفوع"]
[null,null,null,null,null,null,null,null,null,null,null,null,null,null,null,null,null,null,null,null,null,null,"مدفوع"]
[null,null,null,null,null,null,null,null,null,null,null,null,null,null,null,null,null,null,null,null,null,null,"مدفوع"]
[null,null,null,null,null,null,null,null,null,null,null,null,null,null,null,null,null,null,null,null,null,null,"مدفوع"]
[null,null,null,null,null,null,null,null,null,null,null,null,null,null,null,null,null,null,null,null,null,null,"مدفوع"]
[null,null,null,null,null,null,null,null,null,null,null,null,null,null,null,null,null,null,null,null,null,null,"مدفوع"]
[null,null,null,null,null,null,null,null,null,null,null,null,null,null,null,null,null,null,null,null,null,null,"مدفوع"]
[null,null,null,null,null,null,null,null,null,null,null,null,null,null,null,null,null,null,null,null,null,null,"مدفوع"]
[null,null,null,null,null,null,null,null,null,null,null,null,null,null,null,null,null,null,null,null,null,null,"مدفوع"]
[null,null,null,null,null,null,null,null,null,null,null,null,null,null,null,null,null,null,null,null,null,null,"مدفوع"]
[null,null,null,null,null,null,null,null,null,null,null,null,null,null,null,null,null,null,null,null,null,null,"مدفوع"]
[null,null,null,null,null,null,null,null,null,null,null,null,null,null,null,null,null,null,null,null,null,null,"مدفوع"]
[null,null,null,null,null,null,null,null,null,null,null,null,null,null,null,null,null,null,null,null,null,null,"مدفوع"]
[null,null,null,null,null,null,null,null,null,null,null,null,null,null,null,null,null,null,null,null,null,null,"مدفوع"]
[null,null,null,null,null,null,null,null,null,null,null,null,null,null,null,null,null,null,null,null,null,null,"مدفوع"]
[null,null,null,null,null,null,null,null,null,null,null,null,null,null,null,null,null,null,null,null,null,null,"مدفوع"]
[null,null,null,null,null,null,null,null,null,null,null,null,null,null,null,null,null,null,null,null,null,null,"مدفوع"]
[null,null,null,null,null,null,null,null,null,null,null,null,null,null,null,null,null,null,null,null,null,null,"مدفوع"]
[null,null,null,null,null,null,null,null,null,null,null,null,null,null,null,null,null,null,null,null,null,null,"مدفوع"]
[null,null,null,null,null,null,null,null,null,null,null,null,null,null,null,null,null,null,null,null,null,null,"مدفوع"]
[null,null,null,null,null,null,null,null,null,null,null,null,null,null,null,null,null,null,null,null,null,null,"مدفوع"]
[null,null,null,null,null,null,null,null,null,null,null,null,null,null,null,null,null,null,null,null,null,null,"مدفوع"]
[null,null,null,null,null,null,null,null,null,null,null,null,null,null,null,null,null,null,null,null,null,null,"مدفوع"]
[null,null,null,null,null,null,null,null,null,null,null,null,null,null,null,null,null,null,null,null,null,null,"مدفوع"]
[null,null,null,null,null,null,null,null,null,null,null,null,null,null,null,null,null,null,null,null,null,null,"مدفوع"]
[null,null,null,null,null,null,null,null,null,null,null,null,null,null,null,null,null,null,null,null,null,null,"مدفوع"]
[null,null,null,null,null,null,null,null,null,null,null,null,null,null,null,null,null,null,null,null,null,null,"مدفوع"]
[null,null,null,null,null,null,null,null,null,null,null,null,null,null,null,null,null,null,null,null,null,null,"مدفوع"]
[null,null,null,null,null,null,null,null,null,null,null,null,null,null,null,null,null,null,null,null,null,null,"مدفوع"]
[null,null,null,null,null,null,null,null,null,null,null,null,null,null,null,null,null,null,null,null,null,null,"مدفوع"]
[null,null,null,null,null,null,null,null,null,null,null,null,null,null,null,null,null,null,null,null,null,null,"مدفوع"]
[null,null,null,null,null,null,null,null,null,null,null,null,null,null,null,null,null,null,null,null,null,null,"مدفوع"]
[null,null,null,null,null,null,null,null,null,null,null,null,null,null,null,null,null,null,null,null,null,null,"مدفوع"]
[null,null,null,null,null,null,null,null,null,null,null,null,null,null,null,null,null,null,null,null,null,null,"مدفوع"]
[null,null,null,null,null,null,null,null,null,null,null,null,null,null,null,null,null,null,null,null,null,null,"مدفوع"]
[null,null,null,null,null,null,null,null,null,null,null,null,null,null,null,null,null,null,null,null,null,null,"مدفوع"]
[null,null,null,null,null,null,null,null,null,null,null,null,null,null,null,null,null,null,null,null,null,null,"مدفوع"]
[null,null,null,null,null,null,null,null,null,null,null,null,null,null,null,null,null,null,null,null,null,null,"مدفوع"]
[null,null,null,null,null,null,null,null,null,null,null,null,null,null,null,null,null,null,null,null,null,null,"مدفوع"]
[null,null,null,null,null,null,null,null,null,null,null,null,null,null,null,null,null,null,null,null,null,null,"مدفوع"]
[null,null,null,null,null,null,null,null,null,null,null,null,null,null,null,null,null,null,null,null,null,null,"مدفوع"]
[null,null,null,null,null,null,null,null,null,null,null,null,null,null,null,null,null,null,null,null,null,null,"مدفوع"]
[null,null,null,null,null,null,null,null,null,null,null,null,null,null,null,null,null,null,null,null,null,null,"مدفوع"]
[null,null,null,null,null,null,null,null,null,null,null,null,null,null,null,null,null,null,null,null,null,null,"مدفوع"]
[null,null,null,null,null,null,null,null,null,null,null,null,null,null,null,null,null,null,null,null,null,null,"مدفوع"]
[null,null,null,null,null,null,null,null,null,null,null,null,null,null,null,null,null,null,null,null,null,null,"مدفوع"]
[null,null,null,null,null,null,null,null,null,null,null,null,null,null,null,null,null,null,null,null,null,null,"مدفوع"]
[null,null,null,null,null,null,null,null,null,null,null,null,null,null,null,null,null,null,null,null,null,null,"مدفوع"]
[null,null,null,null,null,null,null,null,null,null,null,null,null,null,null,null,null,null,null,null,null,null,"مدفوع"]
[null,null,null,null,null,null,null,null,null,null,null,null,null,null,null,null,null,null,null,null,null,null,"مدفوع"]
[null,null,null,null,null,null,null,null,null,null,null,null,null,null,null,null,null,null,null,null,null,null,"مدفوع"]
[null,null,null,null,null,null,null,null,null,null,null,null,null,null,null,null,null,null,null,null,null,null,"مدفوع"]
[null,null,null,null,null,null,null,null,null,null,null,null,null,null,null,null,null,null,null,null,null,null,"مدفوع"]
[null,null,null,null,null,null,null,null,null,null,null,null,null,null,null,null,null,null,null,null,null,null,"مدفوع"]
[null,null,null,null,null,null,null,null,null,null,null,null,null,null,null,null,null,null,null,null,null,null,"مدفوع"]
[null,null,null,null,null,null,null,null,null,null,null,null,null,null,null,null,null,null,null,null,null,null,"مدفوع"]
[null,null,null,null,null,null,null,null,null,null,null,null,null,null,null,null,null,null,null,null,null,null,"مدفوع"]
[null,null,null,null,null,null,null,null,null,null,null,null,null,null,null,null,null,null,null,null,null,null,"مدفوع"]
[null,null,null,null,null,null,null,null,null,null,null,null,null,null,null,null,null,null,null,null,null,null,"مدفوع"]
[null,null,null,null,null,null,null,null,null,null,null,null,null,null,null,null,null,null,null,null,null,null,"مدفوع"]
[null,null,null,null,null,null,null,null,null,null,null,null,null,null,null,null,null,null,null,null,null,null,"مدفوع"]
[null,null,null,null,null,null,null,null,null,null,null,null,null,null,null,null,null,null,null,null,null,null,{"$f":"IF(V2440<=0,\"مدفوع\",\"غير مدفوع\")","v":"مدفوع"}]
[null,null,null,null,null,null,null,null,null,null,null,null,null,null,null,null,null,null,null,null,null,null,"مدفوع"]
[null,null,null,null,null,null,null,null,null,null,null,null,null,null,null,null,null,null,null,null,null,null,"مدفوع"]
[null,null,null,null,null,null,null,null,null,null,null,null,null,null,null,null,null,null,null,null,null,null,"مدفوع"]
[null,null,null,null,null,null,null,null,null,null,null,null,null,null,null,null,null,null,null,null,null,null,"مدفوع"]
[null,null,null,null,null,null,null,null,null,null,null,null,null,null,null,null,null,null,null,null,null,null,"مدفوع"]
[null,null,null,null,null,null,null,null,null,null,null,null,null,null,null,null,null,null,null,null,null,null,"مدفوع"]
[null,null,null,null,null,null,null,null,null,null,null,null,null,null,null,null,null,null,null,null,null,null,"مدفوع"]
[null,null,null,null,null,null,null,null,null,null,null,null,null,null,null,null,null,null,null,null,null,null,"مدفوع"]
[null,null,null,null,null,null,null,null,null,null,null,null,null,null,null,null,null,null,null,null,null,null,"مدفوع"]
[null,null,null,null,null,null,null,null,null,null,null,null,null,null,null,null,null,null,null,null,null,null,"مدفوع"]
[null,null,null,null,null,null,null,null,null,null,null,null,null,null,null,null,null,null,null,null,null,null,"مدفوع"]
[null,null,null,null,null,null,null,null,null,null,null,null,null,null,null,null,null,null,null,null,null,null,"مدفوع"]
[null,null,null,null,null,null,null,null,null,null,null,null,null,null,null,null,null,null,null,null,null,null,"مدفوع"]
[null,null,null,null,null,null,null,null,null,null,null,null,null,null,null,null,null,null,null,null,null,null,"مدفوع"]
[null,null,null,null,null,null,null,null,null,null,null,null,null,null,null,null,null,null,null,null,null,null,"مدفوع"]
[null,null,null,null,null,null,null,null,null,null,null,null,null,null,null,null,null,null,null,null,null,null,"مدفوع"]
[null,null,null,null,null,null,null,null,null,null,null,null,null,null,null,null,null,null,null,null,null,null,"مدفوع"]
[null,null,null,null,null,null,null,null,null,null,null,null,null,null,null,null,null,null,null,null,null,null,"مدفوع"]
[null,null,null,null,null,null,null,null,null,null,null,null,null,null,null,null,null,null,null,null,null,null,"مدفوع"]
[null,null,null,null,null,null,null,null,null,null,null,null,null,null,null,null,null,null,null,null,null,null,"مدفوع"]
[null,null,null,null,null,null,null,null,null,null,null,null,null,null,null,null,null,null,null,null,null,null,"مدفوع"]
[null,null,null,null,null,null,null,null,null,null,null,null,null,null,null,null,null,null,null,null,null,null,"مدفوع"]
[null,null,null,null,null,null,null,null,null,null,null,null,null,null,null,null,null,null,null,null,null,null,"مدفوع"]
[null,null,null,null,null,null,null,null,null,null,null,null,null,null,null,null,null,null,null,null,null,null,"مدفوع"]
[null,null,null,null,null,null,null,null,null,null,null,null,null,null,null,null,null,null,null,null,null,null,"مدفوع"]
[null,null,null,null,null,null,null,null,null,null,null,null,null,null,null,null,null,null,null,null,null,null,"مدفوع"]
[null,null,null,null,null,null,null,null,null,null,null,null,null,null,null,null,null,null,null,null,null,null,"مدفوع"]
[null,null,null,null,null,null,null,null,null,null,null,null,null,null,null,null,null,null,null,null,null,null,"مدفوع"]
[null,null,null,null,null,null,null,null,null,null,null,null,null,null,null,null,null,null,null,null,null,null,"مدفوع"]
[null,null,null,null,null,null,null,null,null,null,null,null,null,null,null,null,null,null,null,null,null,null,"مدفوع"]
[null,null,null,null,null,null,null,null,null,null,null,null,null,null,null,null,null,null,null,null,null,null,"مدفوع"]
[null,null,null,null,null,null,null,null,null,null,null,null,null,null,null,null,null,null,null,null,null,null,"مدفوع"]
[null,null,null,null,null,null,null,null,null,null,null,null,null,null,null,null,null,null,null,null,null,null,"مدفوع"]
[null,null,null,null,null,null,null,null,null,null,null,null,null,null,null,null,null,null,null,null,null,null,"مدفوع"]
[null,null,null,null,null,null,null,null,null,null,null,null,null,null,null,null,null,null,null,null,null,null,"مدفوع"]
[null,null,null,null,null,null,null,null,null,null,null,null,null,null,null,null,null,null,null,null,null,null,"مدفوع"]
[null,null,null,null,null,null,null,null,null,null,null,null,null,null,null,null,null,null,null,null,null,null,"مدفوع"]
[null,null,null,null,null,null,null,null,null,null,null,null,null,null,null,null,null,null,null,null,null,null,"مدفوع"]
[null,null,null,null,null,null,null,null,null,null,null,null,null,null,null,null,null,null,null,null,null,null,"مدفوع"]
[null,null,null,null,null,null,null,null,null,null,null,null,null,null,null,null,null,null,null,null,null,null,"مدفوع"]
[null,null,null,null,null,null,null,null,null,null,null,null,null,null,null,null,null,null,null,null,null,null,"مدفوع"]
[null,null,null,null,null,null,null,null,null,null,null,null,null,null,null,null,null,null,null,null,null,null,"مدفوع"]
[null,null,null,null,null,null,null,null,null,null,null,null,null,null,null,null,null,null,null,null,null,null,"مدفوع"]
[null,null,null,null,null,null,null,null,null,null,null,null,null,null,null,null,null,null,null,null,null,null,"مدفوع"]
[null,null,null,null,null,null,null,null,null,null,null,null,null,null,null,null,null,null,null,null,null,null,"مدفوع"]
[null,null,null,null,null,null,null,null,null,null,null,null,null,null,null,null,null,null,null,null,null,null,"مدفوع"]
[null,null,null,null,null,null,null,null,null,null,null,null,null,null,null,null,null,null,null,null,null,null,"مدفوع"]
[null,null,null,null,null,null,null,null,null,null,null,null,null,null,null,null,null,null,null,null,null,null,"مدفوع"]
[null,null,null,null,null,null,null,null,null,null,null,null,null,null,null,null,null,null,null,null,null,null,"مدفوع"]
[null,null,null,null,null,null,null,null,null,null,null,null,null,null,null,null,null,null,null,null,null,null,"مدفوع"]
[null,null,null,null,null,null,null,null,null,null,null,null,null,null,null,null,null,null,null,null,null,null,"مدفوع"]
[null,null,null,null,null,null,null,null,null,null,null,null,null,null,null,null,null,null,null,null,null,null,"مدفوع"]
[null,null,null,null,null,null,null,null,null,null,null,null,null,null,null,null,null,null,null,null,null,null,"مدفوع"]
[null,null,null,null,null,null,null,null,null,null,null,null,null,null,null,null,null,null,null,null,null,null,"مدفوع"]
[null,null,null,null,null,null,null,null,null,null,null,null,null,null,null,null,null,null,null,null,null,null,"مدفوع"]
[null,null,null,null,null,null,null,null,null,null,null,null,null,null,null,null,null,null,null,null,null,null,"مدفوع"]
[null,null,null,null,null,null,null,null,null,null,null,null,null,null,null,null,null,null,null,null,null,null,"مدفوع"]
[null,null,null,null,null,null,null,null,null,null,null,null,null,null,null,null,null,null,null,null,null,null,"مدفوع"]
[null,null,null,null,null,null,null,null,null,null,null,null,null,null,null,null,null,null,null,null,null,null,"مدفوع"]
[null,null,null,null,null,null,null,null,null,null,null,null,null,null,null,null,null,null,null,null,null,null,"مدفوع"]
[null,null,null,null,null,null,null,null,null,null,null,null,null,null,null,null,null,null,null,null,null,null,"مدفوع"]
[null,null,null,null,null,null,null,null,null,null,null,null,null,null,null,null,null,null,null,null,null,null,"مدفوع"]
[null,null,null,null,null,null,null,null,null,null,null,null,null,null,null,null,null,null,null,null,null,null,"مدفوع"]
[null,null,null,null,null,null,null,null,null,null,null,null,null,null,null,null,null,null,null,null,null,null,{"$f":"IF(V2504<=0,\"مدفوع\",\"غير مدفوع\")","v":"مدفوع"}]
[null,null,null,null,null,null,null,null,null,null,null,null,null,null,null,null,null,null,null,null,null,null,"مدفوع"]
[null,null,null,null,null,null,null,null,null,null,null,null,null,null,null,null,null,null,null,null,null,null,"مدفوع"]
[null,null,null,null,null,null,null,null,null,null,null,null,null,null,null,null,null,null,null,null,null,null,"مدفوع"]
[null,null,null,null,null,null,null,null,null,null,null,null,null,null,null,null,null,null,null,null,null,null,"مدفوع"]
[null,null,null,null,null,null,null,null,null,null,null,null,null,null,null,null,null,null,null,null,null,null,"مدفوع"]
[null,null,null,null,null,null,null,null,null,null,null,null,null,null,null,null,null,null,null,null,null,null,"مدفوع"]
[null,null,null,null,null,null,null,null,null,null,null,null,null,null,null,null,null,null,null,null,null,null,"مدفوع"]
[null,null,null,null,null,null,null,null,null,null,null,null,null,null,null,null,null,null,null,null,null,null,"مدفوع"]
[null,null,null,null,null,null,null,null,null,null,null,null,null,null,null,null,null,null,null,null,null,null,"مدفوع"]
[null,null,null,null,null,null,null,null,null,null,null,null,null,null,null,null,null,null,null,null,null,null,"مدفوع"]
[null,null,null,null,null,null,null,null,null,null,null,null,null,null,null,null,null,null,null,null,null,null,"مدفوع"]
[null,null,null,null,null,null,null,null,null,null,null,null,null,null,null,null,null,null,null,null,null,null,"مدفوع"]
[null,null,null,null,null,null,null,null,null,null,null,null,null,null,null,null,null,null,null,null,null,null,"مدفوع"]
[null,null,null,null,null,null,null,null,null,null,null,null,null,null,null,null,null,null,null,null,null,null,"مدفوع"]
[null,null,null,null,null,null,null,null,null,null,null,null,null,null,null,null,null,null,null,null,null,null,"مدفوع"]
[null,null,null,null,null,null,null,null,null,null,null,null,null,null,null,null,null,null,null,null,null,null,"مدفوع"]
[null,null,null,null,null,null,null,null,null,null,null,null,null,null,null,null,null,null,null,null,null,null,"مدفوع"]
[null,null,null,null,null,null,null,null,null,null,null,null,null,null,null,null,null,null,null,null,null,null,"مدفوع"]
[null,null,null,null,null,null,null,null,null,null,null,null,null,null,null,null,null,null,null,null,null,null,"مدفوع"]
[null,null,null,null,null,null,null,null,null,null,null,null,null,null,null,null,null,null,null,null,null,null,"مدفوع"]
[null,null,null,null,null,null,null,null,null,null,null,null,null,null,null,null,null,null,null,null,null,null,"مدفوع"]
[null,null,null,null,null,null,null,null,null,null,null,null,null,null,null,null,null,null,null,null,null,null,"مدفوع"]
[null,null,null,null,null,null,null,null,null,null,null,null,null,null,null,null,null,null,null,null,null,null,"مدفوع"]
[null,null,null,null,null,null,null,null,null,null,null,null,null,null,null,null,null,null,null,null,null,null,"مدفوع"]
[null,null,null,null,null,null,null,null,null,null,null,null,null,null,null,null,null,null,null,null,null,null,"مدفوع"]
[null,null,null,null,null,null,null,null,null,null,null,null,null,null,null,null,null,null,null,null,null,null,"مدفوع"]
[null,null,null,null,null,null,null,null,null,null,null,null,null,null,null,null,null,null,null,null,null,null,"مدفوع"]
[null,null,null,null,null,null,null,null,null,null,null,null,null,null,null,null,null,null,null,null,null,null,"مدفوع"]
[null,null,null,null,null,null,null,null,null,null,null,null,null,null,null,null,null,null,null,null,null,null,"مدفوع"]
[null,null,null,null,null,null,null,null,null,null,null,null,null,null,null,null,null,null,null,null,null,null,"مدفوع"]
[null,null,null,null,null,null,null,null,null,null,null,null,null,null,null,null,null,null,null,null,null,null,"مدفوع"]
[null,null,null,null,null,null,null,null,null,null,null,null,null,null,null,null,null,null,null,null,null,null,"مدفوع"]
[null,null,null,null,null,null,null,null,null,null,null,null,null,null,null,null,null,null,null,null,null,null,"مدفوع"]
[null,null,null,null,null,null,null,null,null,null,null,null,null,null,null,null,null,null,null,null,null,null,"مدفوع"]
[null,null,null,null,null,null,null,null,null,null,null,null,null,null,null,null,null,null,null,null,null,null,"مدفوع"]
[null,null,null,null,null,null,null,null,null,null,null,null,null,null,null,null,null,null,null,null,null,null,"مدفوع"]
[null,null,null,null,null,null,null,null,null,null,null,null,null,null,null,null,null,null,null,null,null,null,"مدفوع"]
[null,null,null,null,null,null,null,null,null,null,null,null,null,null,null,null,null,null,null,null,null,null,"مدفوع"]
[null,null,null,null,null,null,null,null,null,null,null,null,null,null,null,null,null,null,null,null,null,null,"مدفوع"]
[null,null,null,null,null,null,null,null,null,null,null,null,null,null,null,null,null,null,null,null,null,null,"مدفوع"]
[null,null,null,null,null,null,null,null,null,null,null,null,null,null,null,null,null,null,null,null,null,null,"مدفوع"]
[null,null,null,null,null,null,null,null,null,null,null,null,null,null,null,null,null,null,null,null,null,null,"مدفوع"]
[null,null,null,null,null,null,null,null,null,null,null,null,null,null,null,null,null,null,null,null,null,null,"مدفوع"]
[null,null,null,null,null,null,null,null,null,null,null,null,null,null,null,null,null,null,null,null,null,null,"مدفوع"]
[null,null,null,null,null,null,null,null,null,null,null,null,null,null,null,null,null,null,null,null,null,null,"مدفوع"]
[null,null,null,null,null,null,null,null,null,null,null,null,null,null,null,null,null,null,null,null,null,null,"مدفوع"]
[null,null,null,null,null,null,null,null,null,null,null,null,null,null,null,null,null,null,null,null,null,null,"مدفوع"]
[null,null,null,null,null,null,null,null,null,null,null,null,null,null,null,null,null,null,null,null,null,null,"مدفوع"]
[null,null,null,null,null,null,null,null,null,null,null,null,null,null,null,null,null,null,null,null,null,null,"مدفوع"]
[null,null,null,null,null,null,null,null,null,null,null,null,null,null,null,null,null,null,null,null,null,null,"مدفوع"]
[null,null,null,null,null,null,null,null,null,null,null,null,null,null,null,null,null,null,null,null,null,null,"مدفوع"]
[null,null,null,null,null,null,null,null,null,null,null,null,null,null,null,null,null,null,null,null,null,null,"مدفوع"]
[null,null,null,null,null,null,null,null,null,null,null,null,null,null,null,null,null,null,null,null,null,null,"مدفوع"]
[null,null,null,null,null,null,null,null,null,null,null,null,null,null,null,null,null,null,null,null,null,null,"مدفوع"]
[null,null,null,null,null,null,null,null,null,null,null,null,null,null,null,null,null,null,null,null,null,null,"مدفوع"]
[null,null,null,null,null,null,null,null,null,null,null,null,null,null,null,null,null,null,null,null,null,null,"مدفوع"]
[null,null,null,null,null,null,null,null,null,null,null,null,null,null,null,null,null,null,null,null,null,null,"مدفوع"]
[null,null,null,null,null,null,null,null,null,null,null,null,null,null,null,null,null,null,null,null,null,null,"مدفوع"]
[null,null,null,null,null,null,null,null,null,null,null,null,null,null,null,null,null,null,null,null,null,null,"مدفوع"]
[null,null,null,null,null,null,null,null,null,null,null,null,null,null,null,null,null,null,null,null,null,null,"مدفوع"]
[null,null,null,null,null,null,null,null,null,null,null,null,null,null,null,null,null,null,null,null,null,null,"مدفوع"]
[null,null,null,null,null,null,null,null,null,null,null,null,null,null,null,null,null,null,null,null,null,null,"مدفوع"]
[null,null,null,null,null,null,null,null,null,null,null,null,null,null,null,null,null,null,null,null,null,null,"مدفوع"]
[null,null,null,null,null,null,null,null,null,null,null,null,null,null,null,null,null,null,null,null,null,null,{"$f":"IF(V2568<=0,\"مدفوع\",\"غير مدفوع\")","v":"مدفوع"}]
[null,null,null,null,null,null,null,null,null,null,null,null,null,null,null,null,null,null,null,null,null,null,"مدفوع"]
[null,null,null,null,null,null,null,null,null,null,null,null,null,null,null,null,null,null,null,null,null,null,"مدفوع"]
[null,null,null,null,null,null,null,null,null,null,null,null,null,null,null,null,null,null,null,null,null,null,"مدفوع"]
[null,null,null,null,null,null,null,null,null,null,null,null,null,null,null,null,null,null,null,null,null,null,"مدفوع"]
[null,null,null,null,null,null,null,null,null,null,null,null,null,null,null,null,null,null,null,null,null,null,"مدفوع"]
[null,null,null,null,null,null,null,null,null,null,null,null,null,null,null,null,null,null,null,null,null,null,"مدفوع"]
[null,null,null,null,null,null,null,null,null,null,null,null,null,null,null,null,null,null,null,null,null,null,"مدفوع"]
[null,null,null,null,null,null,null,null,null,null,null,null,null,null,null,null,null,null,null,null,null,null,"مدفوع"]
[null,null,null,null,null,null,null,null,null,null,null,null,null,null,null,null,null,null,null,null,null,null,"مدفوع"]
[null,null,null,null,null,null,null,null,null,null,null,null,null,null,null,null,null,null,null,null,null,null,"مدفوع"]
[null,null,null,null,null,null,null,null,null,null,null,null,null,null,null,null,null,null,null,null,null,null,"مدفوع"]
[null,null,null,null,null,null,null,null,null,null,null,null,null,null,null,null,null,null,null,null,null,null,"مدفوع"]
[null,null,null,null,null,null,null,null,null,null,null,null,null,null,null,null,null,null,null,null,null,null,"مدفوع"]
[null,null,null,null,null,null,null,null,null,null,null,null,null,null,null,null,null,null,null,null,null,null,"مدفوع"]
[null,null,null,null,null,null,null,null,null,null,null,null,null,null,null,null,null,null,null,null,null,null,"مدفوع"]
[null,null,null,null,null,null,null,null,null,null,null,null,null,null,null,null,null,null,null,null,null,null,"مدفوع"]
[null,null,null,null,null,null,null,null,null,null,null,null,null,null,null,null,null,null,null,null,null,null,"مدفوع"]
[null,null,null,null,null,null,null,null,null,null,null,null,null,null,null,null,null,null,null,null,null,null,"مدفوع"]
[null,null,null,null,null,null,null,null,null,null,null,null,null,null,null,null,null,null,null,null,null,null,"مدفوع"]
[null,null,null,null,null,null,null,null,null,null,null,null,null,null,null,null,null,null,null,null,null,null,"مدفوع"]
[null,null,null,null,null,null,null,null,null,null,null,null,null,null,null,null,null,null,null,null,null,null,"مدفوع"]
[null,null,null,null,null,null,null,null,null,null,null,null,null,null,null,null,null,null,null,null,null,null,"مدفوع"]
[null,null,null,null,null,null,null,null,null,null,null,null,null,null,null,null,null,null,null,null,null,null,"مدفوع"]
[null,null,null,null,null,null,null,null,null,null,null,null,null,null,null,null,null,null,null,null,null,null,"مدفوع"]
[null,null,null,null,null,null,null,null,null,null,null,null,null,null,null,null,null,null,null,null,null,null,"مدفوع"]
[null,null,null,null,null,null,null,null,null,null,null,null,null,null,null,null,null,null,null,null,null,null,"مدفوع"]
[null,null,null,null,null,null,null,null,null,null,null,null,null,null,null,null,null,null,null,null,null,null,"مدفوع"]
[null,null,null,null,null,null,null,null,null,null,null,null,null,null,null,null,null,null,null,null,null,null,"مدفوع"]
[null,null,null,null,null,null,null,null,null,null,null,null,null,null,null,null,null,null,null,null,null,null,"مدفوع"]
[null,null,null,null,null,null,null,null,null,null,null,null,null,null,null,null,null,null,null,null,null,null,"مدفوع"]
[null,null,null,null,null,null,null,null,null,null,null,null,null,null,null,null,null,null,null,null,null,null,"مدفوع"]
[null,null,null,null,null,null,null,null,null,null,null,null,null,null,null,null,null,null,null,null,null,null,"مدفوع"]
[null,null,null,null,null,null,null,null,null,null,null,null,null,null,null,null,null,null,null,null,null,null,"مدفوع"]
[null,null,null,null,null,null,null,null,null,null,null,null,null,null,null,null,null,null,null,null,null,null,"مدفوع"]
[null,null,null,null,null,null,null,null,null,null,null,null,null,null,null,null,null,null,null,null,null,null,"مدفوع"]
[null,null,null,null,null,null,null,null,null,null,null,null,null,null,null,null,null,null,null,null,null,null,"مدفوع"]
[null,null,null,null,null,null,null,null,null,null,null,null,null,null,null,null,null,null,null,null,null,null,"مدفوع"]
[null,null,null,null,null,null,null,null,null,null,null,null,null,null,null,null,null,null,null,null,null,null,"مدفوع"]
[null,null,null,null,null,null,null,null,null,null,null,null,null,null,null,null,null,null,null,null,null,null,"مدفوع"]
[null,null,null,null,null,null,null,null,null,null,null,null,null,null,null,null,null,null,null,null,null,null,"مدفوع"]
[null,null,null,null,null,null,null,null,null,null,null,null,null,null,null,null,null,null,null,null,null,null,"مدفوع"]
[null,null,null,null,null,null,null,null,null,null,null,null,null,null,null,null,null,null,null,null,null,null,"مدفوع"]
[null,null,null,null,null,null,null,null,null,null,null,null,null,null,null,null,null,null,null,null,null,null,"مدفوع"]
[null,null,null,null,null,null,null,null,null,null,null,null,null,null,null,null,null,null,null,null,null,null,"مدفوع"]
[null,null,null,null,null,null,null,null,null,null,null,null,null,null,null,null,null,null,null,null,null,null,"مدفوع"]
[null,null,null,null,null,null,null,null,null,null,null,null,null,null,null,null,null,null,null,null,null,null,"مدفوع"]
[null,null,null,null,null,null,null,null,null,null,null,null,null,null,null,null,null,null,null,null,null,null,"مدفوع"]
[null,null,null,null,null,null,null,null,null,null,null,null,null,null,null,null,null,null,null,null,null,null,"مدفوع"]
[null,null,null,null,null,null,null,null,null,null,null,null,null,null,null,null,null,null,null,null,null,null,"مدفوع"]
[null,null,null,null,null,null,null,null,null,null,null,null,null,null,null,null,null,null,null,null,null,null,"مدفوع"]
[null,null,null,null,null,null,null,null,null,null,null,null,null,null,null,null,null,null,null,null,null,null,"مدفوع"]
[null,null,null,null,null,null,null,null,null,null,null,null,null,null,null,null,null,null,null,null,null,null,"مدفوع"]
[null,null,null,null,null,null,null,null,null,null,null,null,null,null,null,null,null,null,null,null,null,null,"مدفوع"]
[null,null,null,null,null,null,null,null,null,null,null,null,null,null,null,null,null,null,null,null,null,null,"مدفوع"]
[null,null,null,null,null,null,null,null,null,null,null,null,null,null,null,null,null,null,null,null,null,null,"مدفوع"]
[null,null,null,null,null,null,null,null,null,null,null,null,null,null,null,null,null,null,null,null,null,null,"مدفوع"]
[null,null,null,null,null,null,null,null,null,null,null,null,null,null,null,null,null,null,null,null,null,null,"مدفوع"]
[null,null,null,null,null,null,null,null,null,null,null,null,null,null,null,null,null,null,null,null,null,null,"مدفوع"]
[null,null,null,null,null,null,null,null,null,null,null,null,null,null,null,null,null,null,null,null,null,null,"مدفوع"]
[null,null,null,null,null,null,null,null,null,null,null,null,null,null,null,null,null,null,null,null,null,null,"مدفوع"]
[null,null,null,null,null,null,null,null,null,null,null,null,null,null,null,null,null,null,null,null,null,null,"مدفوع"]
[null,null,null,null,null,null,null,null,null,null,null,null,null,null,null,null,null,null,null,null,null,null,"مدفوع"]
[null,null,null,null,null,null,null,null,null,null,null,null,null,null,null,null,null,null,null,null,null,null,"مدفوع"]
[null,null,null,null,null,null,null,null,null,null,null,null,null,null,null,null,null,null,null,null,null,null,{"$f":"IF(V2632<=0,\"مدفوع\",\"غير مدفوع\")","v":"مدفوع"}]
[null,null,null,null,null,null,null,null,null,null,null,null,null,null,null,null,null,null,null,null,null,null,"مدفوع"]
[null,null,null,null,null,null,null,null,null,null,null,null,null,null,null,null,null,null,null,null,null,null,"مدفوع"]
[null,null,null,null,null,null,null,null,null,null,null,null,null,null,null,null,null,null,null,null,null,null,"مدفوع"]
[null,null,null,null,null,null,null,null,null,null,null,null,null,null,null,null,null,null,null,null,null,null,"مدفوع"]
[null,null,null,null,null,null,null,null,null,null,null,null,null,null,null,null,null,null,null,null,null,null,"مدفوع"]
[null,null,null,null,null,null,null,null,null,null,null,null,null,null,null,null,null,null,null,null,null,null,"مدفوع"]
[null,null,null,null,null,null,null,null,null,null,null,null,null,null,null,null,null,null,null,null,null,null,"مدفوع"]
[null,null,null,null,null,null,null,null,null,null,null,null,null,null,null,null,null,null,null,null,null,null,"مدفوع"]
[null,null,null,null,null,null,null,null,null,null,null,null,null,null,null,null,null,null,null,null,null,null,"مدفوع"]
[null,null,null,null,null,null,null,null,null,null,null,null,null,null,null,null,null,null,null,null,null,null,"مدفوع"]
[null,null,null,null,null,null,null,null,null,null,null,null,null,null,null,null,null,null,null,null,null,null,"مدفوع"]
[null,null,null,null,null,null,null,null,null,null,null,null,null,null,null,null,null,null,null,null,null,null,"مدفوع"]
[null,null,null,null,null,null,null,null,null,null,null,null,null,null,null,null,null,null,null,null,null,null,"مدفوع"]
[null,null,null,null,null,null,null,null,null,null,null,null,null,null,null,null,null,null,null,null,null,null,"مدفوع"]
[null,null,null,null,null,null,null,null,null,null,null,null,null,null,null,null,null,null,null,null,null,null,"مدفوع"]
[null,null,null,null,null,null,null,null,null,null,null,null,null,null,null,null,null,null,null,null,null,null,"مدفوع"]
[null,null,null,null,null,null,null,null,null,null,null,null,null,null,null,null,null,null,null,null,null,null,"مدفوع"]
[null,null,null,null,null,null,null,null,null,null,null,null,null,null,null,null,null,null,null,null,null,null,"مدفوع"]
[null,null,null,null,null,null,null,null,null,null,null,null,null,null,null,null,null,null,null,null,null,null,"مدفوع"]
[null,null,null,null,null,null,null,null,null,null,null,null,null,null,null,null,null,null,null,null,null,null,"مدفوع"]
[null,null,null,null,null,null,null,null,null,null,null,null,null,null,null,null,null,null,null,null,null,null,"مدفوع"]
[null,null,null,null,null,null,null,null,null,null,null,null,null,null,null,null,null,null,null,null,null,null,"مدفوع"]
[null,null,null,null,null,null,null,null,null,null,null,null,null,null,null,null,null,null,null,null,null,null,"مدفوع"]
[null,null,null,null,null,null,null,null,null,null,null,null,null,null,null,null,null,null,null,null,null,null,"مدفوع"]
[null,null,null,null,null,null,null,null,null,null,null,null,null,null,null,null,null,null,null,null,null,null,"مدفوع"]
[null,null,null,null,null,null,null,null,null,null,null,null,null,null,null,null,null,null,null,null,null,null,"مدفوع"]
[null,null,null,null,null,null,null,null,null,null,null,null,null,null,null,null,null,null,null,null,null,null,"مدفوع"]
[null,null,null,null,null,null,null,null,null,null,null,null,null,null,null,null,null,null,null,null,null,null,"مدفوع"]
[null,null,null,null,null,null,null,null,null,null,null,null,null,null,null,null,null,null,null,null,null,null,"مدفوع"]
[null,null,null,null,null,null,null,null,null,null,null,null,null,null,null,null,null,null,null,null,null,null,"مدفوع"]
[null,null,null,null,null,null,null,null,null,null,null,null,null,null,null,null,null,null,null,null,null,null,"مدفوع"]
[null,null,null,null,null,null,null,null,null,null,null,null,null,null,null,null,null,null,null,null,null,null,"مدفوع"]
[null,null,null,null,null,null,null,null,null,null,null,null,null,null,null,null,null,null,null,null,null,null,"مدفوع"]
[null,null,null,null,null,null,null,null,null,null,null,null,null,null,null,null,null,null,null,null,null,null,"مدفوع"]
[null,null,null,null,null,null,null,null,null,null,null,null,null,null,null,null,null,null,null,null,null,null,"مدفوع"]
[null,null,null,null,null,null,null,null,null,null,null,null,null,null,null,null,null,null,null,null,null,null,"مدفوع"]
[null,null,null,null,null,null,null,null,null,null,null,null,null,null,null,null,null,null,null,null,null,null,"مدفوع"]
[null,null,null,null,null,null,null,null,null,null,null,null,null,null,null,null,null,null,null,null,null,null,"مدفوع"]
[null,null,null,null,null,null,null,null,null,null,null,null,null,null,null,null,null,null,null,null,null,null,"مدفوع"]
[null,null,null,null,null,null,null,null,null,null,null,null,null,null,null,null,null,null,null,null,null,null,"مدفوع"]
[null,null,null,null,null,null,null,null,null,null,null,null,null,null,null,null,null,null,null,null,null,null,"مدفوع"]
[null,null,null,null,null,null,null,null,null,null,null,null,null,null,null,null,null,null,null,null,null,null,"مدفوع"]
[null,null,null,null,null,null,null,null,null,null,null,null,null,null,null,null,null,null,null,null,null,null,"مدفوع"]
[null,null,null,null,null,null,null,null,null,null,null,null,null,null,null,null,null,null,null,null,null,null,"مدفوع"]
[null,null,null,null,null,null,null,null,null,null,null,null,null,null,null,null,null,null,null,null,null,null,"مدفوع"]
[null,null,null,null,null,null,null,null,null,null,null,null,null,null,null,null,null,null,null,null,null,null,"مدفوع"]
[null,null,null,null,null,null,null,null,null,null,null,null,null,null,null,null,null,null,null,null,null,null,"مدفوع"]
[null,null,null,null,null,null,null,null,null,null,null,null,null,null,null,null,null,null,null,null,null,null,"مدفوع"]
[null,null,null,null,null,null,null,null,null,null,null,null,null,null,null,null,null,null,null,null,null,null,"مدفوع"]
[null,null,null,null,null,null,null,null,null,null,null,null,null,null,null,null,null,null,null,null,null,null,"مدفوع"]
[null,null,null,null,null,null,null,null,null,null,null,null,null,null,null,null,null,null,null,null,null,null,"مدفوع"]
[null,null,null,null,null,null,null,null,null,null,null,null,null,null,null,null,null,null,null,null,null,null,"مدفوع"]
[null,null,null,null,null,null,null,null,null,null,null,null,null,null,null,null,null,null,null,null,null,null,"مدفوع"]
[null,null,null,null,null,null,null,null,null,null,null,null,null,null,null,null,null,null,null,null,null,null,"مدفوع"]
[null,null,null,null,null,null,null,null,null,null,null,null,null,null,null,null,null,null,null,null,null,null,"مدفوع"]
[null,null,null,null,null,null,null,null,null,null,null,null,null,null,null,null,null,null,null,null,null,null,"مدفوع"]
[null,null,null,null,null,null,null,null,null,null,null,null,null,null,null,null,null,null,null,null,null,null,"مدفوع"]
[null,null,null,null,null,null,null,null,null,null,null,null,null,null,null,null,null,null,null,null,null,null,"مدفوع"]
[null,null,null,null,null,null,null,null,null,null,null,null,null,null,null,null,null,null,null,null,null,null,"مدفوع"]
[null,null,null,null,null,null,null,null,null,null,null,null,null,null,null,null,null,null,null,null,null,null,"مدفوع"]
[null,null,null,null,null,null,null,null,null,null,null,null,null,null,null,null,null,null,null,null,null,null,"مدفوع"]
[null,null,null,null,null,null,null,null,null,null,null,null,null,null,null,null,null,null,null,null,null,null,"مدفوع"]
[null,null,null,null,null,null,null,null,null,null,null,null,null,null,null,null,null,null,null,null,null,null,"مدفوع"]
[null,null,null,null,null,null,null,null,null,null,null,null,null,null,null,null,null,null,null,null,null,null,{"$f":"IF(V2696<=0,\"مدفوع\",\"غير مدفوع\")","v":"مدفوع"}]
[null,null,null,null,null,null,null,null,null,null,null,null,null,null,null,null,null,null,null,null,null,null,"مدفوع"]
[null,null,null,null,null,null,null,null,null,null,null,null,null,null,null,null,null,null,null,null,null,null,"مدفوع"]
[null,null,null,null,null,null,null,null,null,null,null,null,null,null,null,null,null,null,null,null,null,null,"مدفوع"]
[null,null,null,null,null,null,null,null,null,null,null,null,null,null,null,null,null,null,null,null,null,null,"مدفوع"]
[null,null,null,null,null,null,null,null,null,null,null,null,null,null,null,null,null,null,null,null,null,null,"مدفوع"]
[null,null,null,null,null,null,null,null,null,null,null,null,null,null,null,null,null,null,null,null,null,null,"مدفوع"]
[null,null,null,null,null,null,null,null,null,null,null,null,null,null,null,null,null,null,null,null,null,null,"مدفوع"]
[null,null,null,null,null,null,null,null,null,null,null,null,null,null,null,null,null,null,null,null,null,null,"مدفوع"]
[null,null,null,null,null,null,null,null,null,null,null,null,null,null,null,null,null,null,null,null,null,null,"مدفوع"]
[null,null,null,null,null,null,null,null,null,null,null,null,null,null,null,null,null,null,null,null,null,null,"مدفوع"]
[null,null,null,null,null,null,null,null,null,null,null,null,null,null,null,null,null,null,null,null,null,null,"مدفوع"]
[null,null,null,null,null,null,null,null,null,null,null,null,null,null,null,null,null,null,null,null,null,null,"مدفوع"]
[null,null,null,null,null,null,null,null,null,null,null,null,null,null,null,null,null,null,null,null,null,null,"مدفوع"]
[null,null,null,null,null,null,null,null,null,null,null,null,null,null,null,null,null,null,null,null,null,null,"مدفوع"]
[null,null,null,null,null,null,null,null,null,null,null,null,null,null,null,null,null,null,null,null,null,null,"مدفوع"]
[null,null,null,null,null,null,null,null,null,null,null,null,null,null,null,null,null,null,null,null,null,null,"مدفوع"]
[null,null,null,null,null,null,null,null,null,null,null,null,null,null,null,null,null,null,null,null,null,null,"مدفوع"]
[null,null,null,null,null,null,null,null,null,null,null,null,null,null,null,null,null,null,null,null,null,null,"مدفوع"]
[null,null,null,null,null,null,null,null,null,null,null,null,null,null,null,null,null,null,null,null,null,null,"مدفوع"]
[null,null,null,null,null,null,null,null,null,null,null,null,null,null,null,null,null,null,null,null,null,null,"مدفوع"]
[null,null,null,null,null,null,null,null,null,null,null,null,null,null,null,null,null,null,null,null,null,null,"مدفوع"]
[null,null,null,null,null,null,null,null,null,null,null,null,null,null,null,null,null,null,null,null,null,null,"مدفوع"]
[null,null,null,null,null,null,null,null,null,null,null,null,null,null,null,null,null,null,null,null,null,null,"مدفوع"]
[null,null,null,null,null,null,null,null,null,null,null,null,null,null,null,null,null,null,null,null,null,null,"مدفوع"]
[null,null,null,null,null,null,null,null,null,null,null,null,null,null,null,null,null,null,null,null,null,null,"مدفوع"]
[null,null,null,null,null,null,null,null,null,null,null,null,null,null,null,null,null,null,null,null,null,null,"مدفوع"]
[null,null,null,null,null,null,null,null,null,null,null,null,null,null,null,null,null,null,null,null,null,null,"مدفوع"]
[null,null,null,null,null,null,null,null,null,null,null,null,null,null,null,null,null,null,null,null,null,null,"مدفوع"]
[null,null,null,null,null,null,null,null,null,null,null,null,null,null,null,null,null,null,null,null,null,null,"مدفوع"]
[null,null,null,null,null,null,null,null,null,null,null,null,null,null,null,null,null,null,null,null,null,null,"مدفوع"]
[null,null,null,null,null,null,null,null,null,null,null,null,null,null,null,null,null,null,null,null,null,null,"مدفوع"]
[null,null,null,null,null,null,null,null,null,null,null,null,null,null,null,null,null,null,null,null,null,null,"مدفوع"]
[null,null,null,null,null,null,null,null,null,null,null,null,null,null,null,null,null,null,null,null,null,null,"مدفوع"]
[null,null,null,null,null,null,null,null,null,null,null,null,null,null,null,null,null,null,null,null,null,null,"مدفوع"]
[null,null,null,null,null,null,null,null,null,null,null,null,null,null,null,null,null,null,null,null,null,null,"مدفوع"]
[null,null,null,null,null,null,null,null,null,null,null,null,null,null,null,null,null,null,null,null,null,null,"مدفوع"]
[null,null,null,null,null,null,null,null,null,null,null,null,null,null,null,null,null,null,null,null,null,null,"مدفوع"]
[null,null,null,null,null,null,null,null,null,null,null,null,null,null,null,null,null,null,null,null,null,null,"مدفوع"]
[null,null,null,null,null,null,null,null,null,null,null,null,null,null,null,null,null,null,null,null,null,null,"مدفوع"]
[null,null,null,null,null,null,null,null,null,null,null,null,null,null,null,null,null,null,null,null,null,null,"مدفوع"]
[null,null,null,null,null,null,null,null,null,null,null,null,null,null,null,null,null,null,null,null,null,null,"مدفوع"]
[null,null,null,null,null,null,null,null,null,null,null,null,null,null,null,null,null,null,null,null,null,null,"مدفوع"]
[null,null,null,null,null,null,null,null,null,null,null,null,null,null,null,null,null,null,null,null,null,null,"مدفوع"]
[null,null,null,null,null,null,null,null,null,null,null,null,null,null,null,null,null,null,null,null,null,null,"مدفوع"]
[null,null,null,null,null,null,null,null,null,null,null,null,null,null,null,null,null,null,null,null,null,null,"مدفوع"]
[null,null,null,null,null,null,null,null,null,null,null,null,null,null,null,null,null,null,null,null,null,null,"مدفوع"]
[null,null,null,null,null,null,null,null,null,null,null,null,null,null,null,null,null,null,null,null,null,null,"مدفوع"]
[null,null,null,null,null,null,null,null,null,null,null,null,null,null,null,null,null,null,null,null,null,null,"مدفوع"]
[null,null,null,null,null,null,null,null,null,null,null,null,null,null,null,null,null,null,null,null,null,null,"مدفوع"]
[null,null,null,null,null,null,null,null,null,null,null,null,null,null,null,null,null,null,null,null,null,null,"مدفوع"]
[null,null,null,null,null,null,null,null,null,null,null,null,null,null,null,null,null,null,null,null,null,null,"مدفوع"]
[null,null,null,null,null,null,null,null,null,null,null,null,null,null,null,null,null,null,null,null,null,null,"مدفوع"]
[null,null,null,null,null,null,null,null,null,null,null,null,null,null,null,null,null,null,null,null,null,null,"مدفوع"]
[null,null,null,null,null,null,null,null,null,null,null,null,null,null,null,null,null,null,null,null,null,null,"مدفوع"]
[null,null,null,null,null,null,null,null,null,null,null,null,null,null,null,null,null,null,null,null,null,null,"مدفوع"]
[null,null,null,null,null,null,null,null,null,null,null,null,null,null,null,null,null,null,null,null,null,null,"مدفوع"]
[null,null,null,null,null,null,null,null,null,null,null,null,null,null,null,null,null,null,null,null,null,null,"مدفوع"]
[null,null,null,null,null,null,null,null,null,null,null,null,null,null,null,null,null,null,null,null,null,null,"مدفوع"]
[null,null,null,null,null,null,null,null,null,null,null,null,null,null,null,null,null,null,null,null,null,null,"مدفوع"]
[null,null,null,null,null,null,null,null,null,null,null,null,null,null,null,null,null,null,null,null,null,null,"مدفوع"]
[null,null,null,null,null,null,null,null,null,null,null,null,null,null,null,null,null,null,null,null,null,null,"مدفوع"]
[null,null,null,null,null,null,null,null,null,null,null,null,null,null,null,null,null,null,null,null,null,null,"مدفوع"]
[null,null,null,null,null,null,null,null,null,null,null,null,null,null,null,null,null,null,null,null,null,null,"مدفوع"]
[null,null,null,null,null,null,null,null,null,null,null,null,null,null,null,null,null,null,null,null,null,null,{"$f":"IF(V2760<=0,\"مدفوع\",\"غير مدفوع\")","v":"مدفوع"}]
[null,null,null,null,null,null,null,null,null,null,null,null,null,null,null,null,null,null,null,null,null,null,"مدفوع"]
[null,null,null,null,null,null,null,null,null,null,null,null,null,null,null,null,null,null,null,null,null,null,"مدفوع"]
[null,null,null,null,null,null,null,null,null,null,null,null,null,null,null,null,null,null,null,null,null,null,"مدفوع"]
[null,null,null,null,null,null,null,null,null,null,null,null,null,null,null,null,null,null,null,null,null,null,"مدفوع"]
[null,null,null,null,null,null,null,null,null,null,null,null,null,null,null,null,null,null,null,null,null,null,"مدفوع"]
[null,null,null,null,null,null,null,null,null,null,null,null,null,null,null,null,null,null,null,null,null,null,"مدفوع"]
[null,null,null,null,null,null,null,null,null,null,null,null,null,null,null,null,null,null,null,null,null,null,"مدفوع"]
[null,null,null,null,null,null,null,null,null,null,null,null,null,null,null,null,null,null,null,null,null,null,"مدفوع"]
[null,null,null,null,null,null,null,null,null,null,null,null,null,null,null,null,null,null,null,null,null,null,"مدفوع"]
[null,null,null,null,null,null,null,null,null,null,null,null,null,null,null,null,null,null,null,null,null,null,"مدفوع"]
[null,null,null,null,null,null,null,null,null,null,null,null,null,null,null,null,null,null,null,null,null,null,"مدفوع"]
[null,null,null,null,null,null,null,null,null,null,null,null,null,null,null,null,null,null,null,null,null,null,"مدفوع"]
[null,null,null,null,null,null,null,null,null,null,null,null,null,null,null,null,null,null,null,null,null,null,"مدفوع"]
[null,null,null,null,null,null,null,null,null,null,null,null,null,null,null,null,null,null,null,null,null,null,"مدفوع"]
[null,null,null,null,null,null,null,null,null,null,null,null,null,null,null,null,null,null,null,null,null,null,"مدفوع"]
[null,null,null,null,null,null,null,null,null,null,null,null,null,null,null,null,null,null,null,null,null,null,"مدفوع"]
[null,null,null,null,null,null,null,null,null,null,null,null,null,null,null,null,null,null,null,null,null,null,"مدفوع"]
[null,null,null,null,null,null,null,null,null,null,null,null,null,null,null,null,null,null,null,null,null,null,"مدفوع"]
[null,null,null,null,null,null,null,null,null,null,null,null,null,null,null,null,null,null,null,null,null,null,"مدفوع"]
[null,null,null,null,null,null,null,null,null,null,null,null,null,null,null,null,null,null,null,null,null,null,"مدفوع"]
[null,null,null,null,null,null,null,null,null,null,null,null,null,null,null,null,null,null,null,null,null,null,"مدفوع"]
[null,null,null,null,null,null,null,null,null,null,null,null,null,null,null,null,null,null,null,null,null,null,"مدفوع"]
[null,null,null,null,null,null,null,null,null,null,null,null,null,null,null,null,null,null,null,null,null,null,"مدفوع"]
[null,null,null,null,null,null,null,null,null,null,null,null,null,null,null,null,null,null,null,null,null,null,"مدفوع"]
[null,null,null,null,null,null,null,null,null,null,null,null,null,null,null,null,null,null,null,null,null,null,"مدفوع"]
[null,null,null,null,null,null,null,null,null,null,null,null,null,null,null,null,null,null,null,null,null,null,"مدفوع"]
[null,null,null,null,null,null,null,null,null,null,null,null,null,null,null,null,null,null,null,null,null,null,"مدفوع"]
[null,null,null,null,null,null,null,null,null,null,null,null,null,null,null,null,null,null,null,null,null,null,"مدفوع"]
[null,null,null,null,null,null,null,null,null,null,null,null,null,null,null,null,null,null,null,null,null,null,"مدفوع"]
[null,null,null,null,null,null,null,null,null,null,null,null,null,null,null,null,null,null,null,null,null,null,"مدفوع"]
[null,null,null,null,null,null,null,null,null,null,null,null,null,null,null,null,null,null,null,null,null,null,"مدفوع"]
[null,null,null,null,null,null,null,null,null,null,null,null,null,null,null,null,null,null,null,null,null,null,"مدفوع"]
[null,null,null,null,null,null,null,null,null,null,null,null,null,null,null,null,null,null,null,null,null,null,"مدفوع"]
[null,null,null,null,null,null,null,null,null,null,null,null,null,null,null,null,null,null,null,null,null,null,"مدفوع"]
[null,null,null,null,null,null,null,null,null,null,null,null,null,null,null,null,null,null,null,null,null,null,"مدفوع"]
[null,null,null,null,null,null,null,null,null,null,null,null,null,null,null,null,null,null,null,null,null,null,"مدفوع"]
[null,null,null,null,null,null,null,null,null,null,null,null,null,null,null,null,null,null,null,null,null,null,"مدفوع"]
[null,null,null,null,null,null,null,null,null,null,null,null,null,null,null,null,null,null,null,null,null,null,"مدفوع"]
[null,null,null,null,null,null,null,null,null,null,null,null,null,null,null,null,null,null,null,null,null,null,"مدفوع"]
[null,null,null,null,null,null,null,null,null,null,null,null,null,null,null,null,null,null,null,null,null,null,"مدفوع"]
[null,null,null,null,null,null,null,null,null,null,null,null,null,null,null,null,null,null,null,null,null,null,"مدفوع"]
[null,null,null,null,null,null,null,null,null,null,null,null,null,null,null,null,null,null,null,null,null,null,"مدفوع"]
[null,null,null,null,null,null,null,null,null,null,null,null,null,null,null,null,null,null,null,null,null,null,"مدفوع"]
[null,null,null,null,null,null,null,null,null,null,null,null,null,null,null,null,null,null,null,null,null,null,"مدفوع"]
[null,null,null,null,null,null,null,null,null,null,null,null,null,null,null,null,null,null,null,null,null,null,"مدفوع"]
[null,null,null,null,null,null,null,null,null,null,null,null,null,null,null,null,null,null,null,null,null,null,"مدفوع"]
[null,null,null,null,null,null,null,null,null,null,null,null,null,null,null,null,null,null,null,null,null,null,"مدفوع"]
[null,null,null,null,null,null,null,null,null,null,null,null,null,null,null,null,null,null,null,null,null,null,"مدفوع"]
[null,null,null,null,null,null,null,null,null,null,null,null,null,null,null,null,null,null,null,null,null,null,"مدفوع"]
[null,null,null,null,null,null,null,null,null,null,null,null,null,null,null,null,null,null,null,null,null,null,"مدفوع"]
[null,null,null,null,null,null,null,null,null,null,null,null,null,null,null,null,null,null,null,null,null,null,"مدفوع"]
[null,null,null,null,null,null,null,null,null,null,null,null,null,null,null,null,null,null,null,null,null,null,"مدفوع"]
[null,null,null,null,null,null,null,null,null,null,null,null,null,null,null,null,null,null,null,null,null,null,"مدفوع"]
[null,null,null,null,null,null,null,null,null,null,null,null,null,null,null,null,null,null,null,null,null,null,"مدفوع"]
[null,null,null,null,null,null,null,null,null,null,null,null,null,null,null,null,null,null,null,null,null,null,"مدفوع"]
[null,null,null,null,null,null,null,null,null,null,null,null,null,null,null,null,null,null,null,null,null,null,"مدفوع"]
[null,null,null,null,null,null,null,null,null,null,null,null,null,null,null,null,null,null,null,null,null,null,"مدفوع"]
[null,null,null,null,null,null,null,null,null,null,null,null,null,null,null,null,null,null,null,null,null,null,"مدفوع"]
[null,null,null,null,null,null,null,null,null,null,null,null,null,null,null,null,null,null,null,null,null,null,"مدفوع"]
[null,null,null,null,null,null,null,null,null,null,null,null,null,null,null,null,null,null,null,null,null,null,"مدفوع"]
[null,null,null,null,null,null,null,null,null,null,null,null,null,null,null,null,null,null,null,null,null,null,"مدفوع"]
[null,null,null,null,null,null,null,null,null,null,null,null,null,null,null,null,null,null,null,null,null,null,"مدفوع"]
[null,null,null,null,null,null,null,null,null,null,null,null,null,null,null,null,null,null,null,null,null,null,"مدفوع"]
[null,null,null,null,null,null,null,null,null,null,null,null,null,null,null,null,null,null,null,null,null,null,{"$f":"IF(V2824<=0,\"مدفوع\",\"غير مدفوع\")","v":"مدفوع"}]
[null,null,null,null,null,null,null,null,null,null,null,null,null,null,null,null,null,null,null,null,null,null,"مدفوع"]
[null,null,null,null,null,null,null,null,null,null,null,null,null,null,null,null,null,null,null,null,null,null,"مدفوع"]
[null,null,null,null,null,null,null,null,null,null,null,null,null,null,null,null,null,null,null,null,null,null,"مدفوع"]
[null,null,null,null,null,null,null,null,null,null,null,null,null,null,null,null,null,null,null,null,null,null,"مدفوع"]
[null,null,null,null,null,null,null,null,null,null,null,null,null,null,null,null,null,null,null,null,null,null,"مدفوع"]
[null,null,null,null,null,null,null,null,null,null,null,null,null,null,null,null,null,null,null,null,null,null,"مدفوع"]
[null,null,null,null,null,null,null,null,null,null,null,null,null,null,null,null,null,null,null,null,null,null,"مدفوع"]
[null,null,null,null,null,null,null,null,null,null,null,null,null,null,null,null,null,null,null,null,null,null,"مدفوع"]
[null,null,null,null,null,null,null,null,null,null,null,null,null,null,null,null,null,null,null,null,null,null,"مدفوع"]
[null,null,null,null,null,null,null,null,null,null,null,null,null,null,null,null,null,null,null,null,null,null,"مدفوع"]
[null,null,null,null,null,null,null,null,null,null,null,null,null,null,null,null,null,null,null,null,null,null,"مدفوع"]
[null,null,null,null,null,null,null,null,null,null,null,null,null,null,null,null,null,null,null,null,null,null,"مدفوع"]
[null,null,null,null,null,null,null,null,null,null,null,null,null,null,null,null,null,null,null,null,null,null,"مدفوع"]
[null,null,null,null,null,null,null,null,null,null,null,null,null,null,null,null,null,null,null,null,null,null,"مدفوع"]
[null,null,null,null,null,null,null,null,null,null,null,null,null,null,null,null,null,null,null,null,null,null,"مدفوع"]
[null,null,null,null,null,null,null,null,null,null,null,null,null,null,null,null,null,null,null,null,null,null,"مدفوع"]
[null,null,null,null,null,null,null,null,null,null,null,null,null,null,null,null,null,null,null,null,null,null,"مدفوع"]
[null,null,null,null,null,null,null,null,null,null,null,null,null,null,null,null,null,null,null,null,null,null,"مدفوع"]
[null,null,null,null,null,null,null,null,null,null,null,null,null,null,null,null,null,null,null,null,null,null,"مدفوع"]
[null,null,null,null,null,null,null,null,null,null,null,null,null,null,null,null,null,null,null,null,null,null,"مدفوع"]
[null,null,null,null,null,null,null,null,null,null,null,null,null,null,null,null,null,null,null,null,null,null,"مدفوع"]
[null,null,null,null,null,null,null,null,null,null,null,null,null,null,null,null,null,null,null,null,null,null,"مدفوع"]
[null,null,null,null,null,null,null,null,null,null,null,null,null,null,null,null,null,null,null,null,null,null,"مدفوع"]
[null,null,null,null,null,null,null,null,null,null,null,null,null,null,null,null,null,null,null,null,null,null,"مدفوع"]
[null,null,null,null,null,null,null,null,null,null,null,null,null,null,null,null,null,null,null,null,null,null,"مدفوع"]
[null,null,null,null,null,null,null,null,null,null,null,null,null,null,null,null,null,null,null,null,null,null,"مدفوع"]
[null,null,null,null,null,null,null,null,null,null,null,null,null,null,null,null,null,null,null,null,null,null,"مدفوع"]
[null,null,null,null,null,null,null,null,null,null,null,null,null,null,null,null,null,null,null,null,null,null,"مدفوع"]
[null,null,null,null,null,null,null,null,null,null,null,null,null,null,null,null,null,null,null,null,null,null,"مدفوع"]
[null,null,null,null,null,null,null,null,null,null,null,null,null,null,null,null,null,null,null,null,null,null,"مدفوع"]
[null,null,null,null,null,null,null,null,null,null,null,null,null,null,null,null,null,null,null,null,null,null,"مدفوع"]
[null,null,null,null,null,null,null,null,null,null,null,null,null,null,null,null,null,null,null,null,null,null,"مدفوع"]
[null,null,null,null,null,null,null,null,null,null,null,null,null,null,null,null,null,null,null,null,null,null,"مدفوع"]
[null,null,null,null,null,null,null,null,null,null,null,null,null,null,null,null,null,null,null,null,null,null,"مدفوع"]
[null,null,null,null,null,null,null,null,null,null,null,null,null,null,null,null,null,null,null,null,null,null,"مدفوع"]
[null,null,null,null,null,null,null,null,null,null,null,null,null,null,null,null,null,null,null,null,null,null,"مدفوع"]
[null,null,null,null,null,null,null,null,null,null,null,null,null,null,null,null,null,null,null,null,null,null,"مدفوع"]
[null,null,null,null,null,null,null,null,null,null,null,null,null,null,null,null,null,null,null,null,null,null,"مدفوع"]
[null,null,null,null,null,null,null,null,null,null,null,null,null,null,null,null,null,null,null,null,null,null,"مدفوع"]
[null,null,null,null,null,null,null,null,null,null,null,null,null,null,null,null,null,null,null,null,null,null,"مدفوع"]
[null,null,null,null,null,null,null,null,null,null,null,null,null,null,null,null,null,null,null,null,null,null,"مدفوع"]
[null,null,null,null,null,null,null,null,null,null,null,null,null,null,null,null,null,null,null,null,null,null,"مدفوع"]
[null,null,null,null,null,null,null,null,null,null,null,null,null,null,null,null,null,null,null,null,null,null,"مدفوع"]
[null,null,null,null,null,null,null,null,null,null,null,null,null,null,null,null,null,null,null,null,null,null,"مدفوع"]
[null,null,null,null,null,null,null,null,null,null,null,null,null,null,null,null,null,null,null,null,null,null,"مدفوع"]
[null,null,null,null,null,null,null,null,null,null,null,null,null,null,null,null,null,null,null,null,null,null,"مدفوع"]
[null,null,null,null,null,null,null,null,null,null,null,null,null,null,null,null,null,null,null,null,null,null,"مدفوع"]
[null,null,null,null,null,null,null,null,null,null,null,null,null,null,null,null,null,null,null,null,null,null,"مدفوع"]
[null,null,null,null,null,null,null,null,null,null,null,null,null,null,null,null,null,null,null,null,null,null,"مدفوع"]
[null,null,null,null,null,null,null,null,null,null,null,null,null,null,null,null,null,null,null,null,null,null,"مدفوع"]
[null,null,null,null,null,null,null,null,null,null,null,null,null,null,null,null,null,null,null,null,null,null,"مدفوع"]
[null,null,null,null,null,null,null,null,null,null,null,null,null,null,null,null,null,null,null,null,null,null,"مدفوع"]
[null,null,null,null,null,null,null,null,null,null,null,null,null,null,null,null,null,null,null,null,null,null,"مدفوع"]
[null,null,null,null,null,null,null,null,null,null,null,null,null,null,null,null,null,null,null,null,null,null,"مدفوع"]
[null,null,null,null,null,null,null,null,null,null,null,null,null,null,null,null,null,null,null,null,null,null,"مدفوع"]
[null,null,null,null,null,null,null,null,null,null,null,null,null,null,null,null,null,null,null,null,null,null,"مدفوع"]
[null,null,null,null,null,null,null,null,null,null,null,null,null,null,null,null,null,null,null,null,null,null,"مدفوع"]
[null,null,null,null,null,null,null,null,null,null,null,null,null,null,null,null,null,null,null,null,null,null,"مدفوع"]
[null,null,null,null,null,null,null,null,null,null,null,null,null,null,null,null,null,null,null,null,null,null,"مدفوع"]
[null,null,null,null,null,null,null,null,null,null,null,null,null,null,null,null,null,null,null,null,null,null,"مدفوع"]
[null,null,null,null,null,null,null,null,null,null,null,null,null,null,null,null,null,null,null,null,null,null,"مدفوع"]
[null,null,null,null,null,null,null,null,null,null,null,null,null,null,null,null,null,null,null,null,null,null,"مدفوع"]
[null,null,null,null,null,null,null,null,null,null,null,null,null,null,null,null,null,null,null,null,null,null,"مدفوع"]
[null,null,null,null,null,null,null,null,null,null,null,null,null,null,null,null,null,null,null,null,null,null,{"$f":"IF(V2888<=0,\"مدفوع\",\"غير مدفوع\")","v":"مدفوع"}]
[null,null,null,null,null,null,null,null,null,null,null,null,null,null,null,null,null,null,null,null,null,null,"مدفوع"]
[null,null,null,null,null,null,null,null,null,null,null,null,null,null,null,null,null,null,null,null,null,null,"مدفوع"]
[null,null,null,null,null,null,null,null,null,null,null,null,null,null,null,null,null,null,null,null,null,null,"مدفوع"]
[null,null,null,null,null,null,null,null,null,null,null,null,null,null,null,null,null,null,null,null,null,null,"مدفوع"]
[null,null,null,null,null,null,null,null,null,null,null,null,null,null,null,null,null,null,null,null,null,null,"مدفوع"]
[null,null,null,null,null,null,null,null,null,null,null,null,null,null,null,null,null,null,null,null,null,null,"مدفوع"]
[null,null,null,null,null,null,null,null,null,null,null,null,null,null,null,null,null,null,null,null,null,null,"مدفوع"]
[null,null,null,null,null,null,null,null,null,null,null,null,null,null,null,null,null,null,null,null,null,null,"مدفوع"]
[null,null,null,null,null,null,null,null,null,null,null,null,null,null,null,null,null,null,null,null,null,null,"مدفوع"]
[null,null,null,null,null,null,null,null,null,null,null,null,null,null,null,null,null,null,null,null,null,null,"مدفوع"]
[null,null,null,null,null,null,null,null,null,null,null,null,null,null,null,null,null,null,null,null,null,null,"مدفوع"]
[null,null,null,null,null,null,null,null,null,null,null,null,null,null,null,null,null,null,null,null,null,null,"مدفوع"]
[null,null,null,null,null,null,null,null,null,null,null,null,null,null,null,null,null,null,null,null,null,null,"مدفوع"]
[null,null,null,null,null,null,null,null,null,null,null,null,null,null,null,null,null,null,null,null,null,null,"مدفوع"]
[null,null,null,null,null,null,null,null,null,null,null,null,null,null,null,null,null,null,null,null,null,null,"مدفوع"]
[null,null,null,null,null,null,null,null,null,null,null,null,null,null,null,null,null,null,null,null,null,null,"مدفوع"]
[null,null,null,null,null,null,null,null,null,null,null,null,null,null,null,null,null,null,null,null,null,null,"مدفوع"]
[null,null,null,null,null,null,null,null,null,null,null,null,null,null,null,null,null,null,null,null,null,null,"مدفوع"]
[null,null,null,null,null,null,null,null,null,null,null,null,null,null,null,null,null,null,null,null,null,null,"مدفوع"]
[null,null,null,null,null,null,null,null,null,null,null,null,null,null,null,null,null,null,null,null,null,null,"مدفوع"]
[null,null,null,null,null,null,null,null,null,null,null,null,null,null,null,null,null,null,null,null,null,null,"مدفوع"]
[null,null,null,null,null,null,null,null,null,null,null,null,null,null,null,null,null,null,null,null,null,null,"مدفوع"]
[null,null,null,null,null,null,null,null,null,null,null,null,null,null,null,null,null,null,null,null,null,null,"مدفوع"]
[null,null,null,null,null,null,null,null,null,null,null,null,null,null,null,null,null,null,null,null,null,null,"مدفوع"]
[null,null,null,null,null,null,null,null,null,null,null,null,null,null,null,null,null,null,null,null,null,null,"مدفوع"]
[null,null,null,null,null,null,null,null,null,null,null,null,null,null,null,null,null,null,null,null,null,null,"مدفوع"]
[null,null,null,null,null,null,null,null,null,null,null,null,null,null,null,null,null,null,null,null,null,null,"مدفوع"]
[null,null,null,null,null,null,null,null,null,null,null,null,null,null,null,null,null,null,null,null,null,null,"مدفوع"]
[null,null,null,null,null,null,null,null,null,null,null,null,null,null,null,null,null,null,null,null,null,null,"مدفوع"]
[null,null,null,null,null,null,null,null,null,null,null,null,null,null,null,null,null,null,null,null,null,null,"مدفوع"]
[null,null,null,null,null,null,null,null,null,null,null,null,null,null,null,null,null,null,null,null,null,null,"مدفوع"]
[null,null,null,null,null,null,null,null,null,null,null,null,null,null,null,null,null,null,null,null,null,null,"مدفوع"]
[null,null,null,null,null,null,null,null,null,null,null,null,null,null,null,null,null,null,null,null,null,null,"مدفوع"]
[null,null,null,null,null,null,null,null,null,null,null,null,null,null,null,null,null,null,null,null,null,null,"مدفوع"]
[null,null,null,null,null,null,null,null,null,null,null,null,null,null,null,null,null,null,null,null,null,null,"مدفوع"]
[null,null,null,null,null,null,null,null,null,null,null,null,null,null,null,null,null,null,null,null,null,null,"مدفوع"]
[null,null,null,null,null,null,null,null,null,null,null,null,null,null,null,null,null,null,null,null,null,null,"مدفوع"]
[null,null,null,null,null,null,null,null,null,null,null,null,null,null,null,null,null,null,null,null,null,null,"مدفوع"]
[null,null,null,null,null,null,null,null,null,null,null,null,null,null,null,null,null,null,null,null,null,null,"مدفوع"]
[null,null,null,null,null,null,null,null,null,null,null,null,null,null,null,null,null,null,null,null,null,null,"مدفوع"]
[null,null,null,null,null,null,null,null,null,null,null,null,null,null,null,null,null,null,null,null,null,null,"مدفوع"]
[null,null,null,null,null,null,null,null,null,null,null,null,null,null,null,null,null,null,null,null,null,null,"مدفوع"]
[null,null,null,null,null,null,null,null,null,null,null,null,null,null,null,null,null,null,null,null,null,null,"مدفوع"]
[null,null,null,null,null,null,null,null,null,null,null,null,null,null,null,null,null,null,null,null,null,null,"مدفوع"]
[null,null,null,null,null,null,null,null,null,null,null,null,null,null,null,null,null,null,null,null,null,null,"مدفوع"]
[null,null,null,null,null,null,null,null,null,null,null,null,null,null,null,null,null,null,null,null,null,null,"مدفوع"]
[null,null,null,null,null,null,null,null,null,null,null,null,null,null,null,null,null,null,null,null,null,null,"مدفوع"]
[null,null,null,null,null,null,null,null,null,null,null,null,null,null,null,null,null,null,null,null,null,null,"مدفوع"]
[null,null,null,null,null,null,null,null,null,null,null,null,null,null,null,null,null,null,null,null,null,null,"مدفوع"]
[null,null,null,null,null,null,null,null,null,null,null,null,null,null,null,null,null,null,null,null,null,null,"مدفوع"]
[null,null,null,null,null,null,null,null,null,null,null,null,null,null,null,null,null,null,null,null,null,null,"مدفوع"]
[null,null,null,null,null,null,null,null,null,null,null,null,null,null,null,null,null,null,null,null,null,null,"مدفوع"]
[null,null,null,null,null,null,null,null,null,null,null,null,null,null,null,null,null,null,null,null,null,null,"مدفوع"]
[null,null,null,null,null,null,null,null,null,null,null,null,null,null,null,null,null,null,null,null,null,null,"مدفوع"]
[null,null,null,null,null,null,null,null,null,null,null,null,null,null,null,null,null,null,null,null,null,null,"مدفوع"]
[null,null,null,null,null,null,null,null,null,null,null,null,null,null,null,null,null,null,null,null,null,null,"مدفوع"]
[null,null,null,null,null,null,null,null,null,null,null,null,null,null,null,null,null,null,null,null,null,null,"مدفوع"]
[null,null,null,null,null,null,null,null,null,null,null,null,null,null,null,null,null,null,null,null,null,null,"مدفوع"]
[null,null,null,null,null,null,null,null,null,null,null,null,null,null,null,null,null,null,null,null,null,null,"مدفوع"]
[null,null,null,null,null,null,null,null,null,null,null,null,null,null,null,null,null,null,null,null,null,null,"مدفوع"]
[null,null,null,null,null,null,null,null,null,null,null,null,null,null,null,null,null,null,null,null,null,null,"مدفوع"]
[null,null,null,null,null,null,null,null,null,null,null,null,null,null,null,null,null,null,null,null,null,null,"مدفوع"]
[null,null,null,null,null,null,null,null,null,null,null,null,null,null,null,null,null,null,null,null,null,null,"مدفوع"]
[null,null,null,null,null,null,null,null,null,null,null,null,null,null,null,null,null,null,null,null,null,null,{"$f":"IF(V2952<=0,\"مدفوع\",\"غير مدفوع\")","v":"مدفوع"}]
[null,null,null,null,null,null,null,null,null,null,null,null,null,null,null,null,null,null,null,null,null,null,"مدفوع"]
[null,null,null,null,null,null,null,null,null,null,null,null,null,null,null,null,null,null,null,null,null,null,"مدفوع"]
[null,null,null,null,null,null,null,null,null,null,null,null,null,null,null,null,null,null,null,null,null,null,"مدفوع"]
[null,null,null,null,null,null,null,null,null,null,null,null,null,null,null,null,null,null,null,null,null,null,"مدفوع"]
[null,null,null,null,null,null,null,null,null,null,null,null,null,null,null,null,null,null,null,null,null,null,"مدفوع"]
[null,null,null,null,null,null,null,null,null,null,null,null,null,null,null,null,null,null,null,null,null,null,"مدفوع"]
[null,null,null,null,null,null,null,null,null,null,null,null,null,null,null,null,null,null,null,null,null,null,"مدفوع"]
[null,null,null,null,null,null,null,null,null,null,null,null,null,null,null,null,null,null,null,null,null,null,"مدفوع"]
[null,null,null,null,null,null,null,null,null,null,null,null,null,null,null,null,null,null,null,null,null,null,"مدفوع"]
[null,null,null,null,null,null,null,null,null,null,null,null,null,null,null,null,null,null,null,null,null,null,"مدفوع"]
[null,null,null,null,null,null,null,null,null,null,null,null,null,null,null,null,null,null,null,null,null,null,"مدفوع"]
[null,null,null,null,null,null,null,null,null,null,null,null,null,null,null,null,null,null,null,null,null,null,"مدفوع"]
[null,null,null,null,null,null,null,null,null,null,null,null,null,null,null,null,null,null,null,null,null,null,"مدفوع"]
[null,null,null,null,null,null,null,null,null,null,null,null,null,null,null,null,null,null,null,null,null,null,"مدفوع"]
[null,null,null,null,null,null,null,null,null,null,null,null,null,null,null,null,null,null,null,null,null,null,"مدفوع"]
[null,null,null,null,null,null,null,null,null,null,null,null,null,null,null,null,null,null,null,null,null,null,"مدفوع"]
[null,null,null,null,null,null,null,null,null,null,null,null,null,null,null,null,null,null,null,null,null,null,"مدفوع"]
[null,null,null,null,null,null,null,null,null,null,null,null,null,null,null,null,null,null,null,null,null,null,"مدفوع"]
[null,null,null,null,null,null,null,null,null,null,null,null,null,null,null,null,null,null,null,null,null,null,"مدفوع"]
[null,null,null,null,null,null,null,null,null,null,null,null,null,null,null,null,null,null,null,null,null,null,"مدفوع"]
[null,null,null,null,null,null,null,null,null,null,null,null,null,null,null,null,null,null,null,null,null,null,"مدفوع"]
[null,null,null,null,null,null,null,null,null,null,null,null,null,null,null,null,null,null,null,null,null,null,"مدفوع"]
[null,null,null,null,null,null,null,null,null,null,null,null,null,null,null,null,null,null,null,null,null,null,"مدفوع"]
[null,null,null,null,null,null,null,null,null,null,null,null,null,null,null,null,null,null,null,null,null,null,"مدفوع"]
[null,null,null,null,null,null,null,null,null,null,null,null,null,null,null,null,null,null,null,null,null,null,"مدفوع"]
[null,null,null,null,null,null,null,null,null,null,null,null,null,null,null,null,null,null,null,null,null,null,"مدفوع"]
[null,null,null,null,null,null,null,null,null,null,null,null,null,null,null,null,null,null,null,null,null,null,"مدفوع"]
[null,null,null,null,null,null,null,null,null,null,null,null,null,null,null,null,null,null,null,null,null,null,"مدفوع"]
[null,null,null,null,null,null,null,null,null,null,null,null,null,null,null,null,null,null,null,null,null,null,"مدفوع"]
[null,null,null,null,null,null,null,null,null,null,null,null,null,null,null,null,null,null,null,null,null,null,"مدفوع"]
[null,null,null,null,null,null,null,null,null,null,null,null,null,null,null,null,null,null,null,null,null,null,"مدفوع"]
[null,null,null,null,null,null,null,null,null,null,null,null,null,null,null,null,null,null,null,null,null,null,"مدفوع"]
[null,null,null,null,null,null,null,null,null,null,null,null,null,null,null,null,null,null,null,null,null,null,"مدفوع"]
[null,null,null,null,null,null,null,null,null,null,null,null,null,null,null,null,null,null,null,null,null,null,"مدفوع"]
[null,null,null,null,null,null,null,null,null,null,null,null,null,null,null,null,null,null,null,null,null,null,"مدفوع"]
[null,null,null,null,null,null,null,null,null,null,null,null,null,null,null,null,null,null,null,null,null,null,"مدفوع"]
[null,null,null,null,null,null,null,null,null,null,null,null,null,null,null,null,null,null,null,null,null,null,"مدفوع"]
[null,null,null,null,null,null,null,null,null,null,null,null,null,null,null,null,null,null,null,null,null,null,"مدفوع"]
[null,null,null,null,null,null,null,null,null,null,null,null,null,null,null,null,null,null,null,null,null,null,"مدفوع"]
[null,null,null,null,null,null,null,null,null,null,null,null,null,null,null,null,null,null,null,null,null,null,"مدفوع"]
[null,null,null,null,null,null,null,null,null,null,null,null,null,null,null,null,null,null,null,null,null,null,"مدفوع"]
[null,null,null,null,null,null,null,null,null,null,null,null,null,null,null,null,null,null,null,null,null,null,"مدفوع"]
[null,null,null,null,null,null,null,null,null,null,null,null,null,null,null,null,null,null,null,null,null,null,"مدفوع"]
[null,null,null,null,null,null,null,null,null,null,null,null,null,null,null,null,null,null,null,null,null,null,"مدفوع"]
[null,null,null,null,null,null,null,null,null,null,null,null,null,null,null,null,null,null,null,null,null,null,"مدفوع"]
[null,null,null,null,null,null,null,null,null,null,null,null,null,null,null,null,null,null,null,null,null,null,"مدفوع"]
[null,null,null,null,null,null,null,null,null,null,null,null,null,null,null,null,null,null,null,null,null,null,"مدفوع"]
[null,null,null,null,null,null,null,null,null,null,null,null,null,null,null,null,null,null,null,null,null,null,"مدفوع"]
[null,null,null,null,null,null,null,null,null,null,null,null,null,null,null,null,null,null,null,null,null,null,"مدفوع"]
[null,null,null,null,null,null,null,null,null,null,null,null,null,null,null,null,null,null,null,null,null,null,"مدفوع"]
[null,null,null,null,null,null,null,null,null,null,null,null,null,null,null,null,null,null,null,null,null,null,"مدفوع"]
[null,null,null,null,null,null,null,null,null,null,null,null,null,null,null,null,null,null,null,null,null,null,"مدفوع"]
[null,null,null,null,null,null,null,null,null,null,null,null,null,null,null,null,null,null,null,null,null,null,"مدفوع"]
[null,null,null,null,null,null,null,null,null,null,null,null,null,null,null,null,null,null,null,null,null,null,"مدفوع"]
[null,null,null,null,null,null,null,null,null,null,null,null,null,null,null,null,null,null,null,null,null,null,"مدفوع"]
[null,null,null,null,null,null,null,null,null,null,null,null,null,null,null,null,null,null,null,null,null,null,"مدفوع"]
[null,null,null,null,null,null,null,null,null,null,null,null,null,null,null,null,null,null,null,null,null,null,"مدفوع"]
[null,null,null,null,null,null,null,null,null,null,null,null,null,null,null,null,null,null,null,null,null,null,"مدفوع"]
[null,null,null,null,null,null,null,null,null,null,null,null,null,null,null,null,null,null,null,null,null,null,"مدفوع"]
[null,null,null,null,null,null,null,null,null,null,null,null,null,null,null,null,null,null,null,null,null,null,"مدفوع"]
[null,null,null,null,null,null,null,null,null,null,null,null,null,null,null,null,null,null,null,null,null,null,"مدفوع"]
[null,null,null,null,null,null,null,null,null,null,null,null,null,null,null,null,null,null,null,null,null,null,"مدفوع"]
[null,null,null,null,null,null,null,null,null,null,null,null,null,null,null,null,null,null,null,null,null,null,"مدفوع"]
[null,null,null,null,null,null,null,null,null,null,null,null,null,null,null,null,null,null,null,null,null,null,{"$f":"IF(V3016<=0,\"مدفوع\",\"غير مدفوع\")","v":"مدفوع"}]
[null,null,null,null,null,null,null,null,null,null,null,null,null,null,null,null,null,null,null,null,null,null,"مدفوع"]
[null,null,null,null,null,null,null,null,null,null,null,null,null,null,null,null,null,null,null,null,null,null,"مدفوع"]
[null,null,null,null,null,null,null,null,null,null,null,null,null,null,null,null,null,null,null,null,null,null,"مدفوع"]
[null,null,null,null,null,null,null,null,null,null,null,null,null,null,null,null,null,null,null,null,null,null,"مدفوع"]
[null,null,null,null,null,null,null,null,null,null,null,null,null,null,null,null,null,null,null,null,null,null,"مدفوع"]
[null,null,null,null,null,null,null,null,null,null,null,null,null,null,null,null,null,null,null,null,null,null,"مدفوع"]
[null,null,null,null,null,null,null,null,null,null,null,null,null,null,null,null,null,null,null,null,null,null,"مدفوع"]
[null,null,null,null,null,null,null,null,null,null,null,null,null,null,null,null,null,null,null,null,null,null,"مدفوع"]
[null,null,null,null,null,null,null,null,null,null,null,null,null,null,null,null,null,null,null,null,null,null,"مدفوع"]
[null,null,null,null,null,null,null,null,null,null,null,null,null,null,null,null,null,null,null,null,null,null,"مدفوع"]
[null,null,null,null,null,null,null,null,null,null,null,null,null,null,null,null,null,null,null,null,null,null,"مدفوع"]
[null,null,null,null,null,null,null,null,null,null,null,null,null,null,null,null,null,null,null,null,null,null,"مدفوع"]
[null,null,null,null,null,null,null,null,null,null,null,null,null,null,null,null,null,null,null,null,null,null,"مدفوع"]
[null,null,null,null,null,null,null,null,null,null,null,null,null,null,null,null,null,null,null,null,null,null,"مدفوع"]
[null,null,null,null,null,null,null,null,null,null,null,null,null,null,null,null,null,null,null,null,null,null,"مدفوع"]
[null,null,null,null,null,null,null,null,null,null,null,null,null,null,null,null,null,null,null,null,null,null,"مدفوع"]
[null,null,null,null,null,null,null,null,null,null,null,null,null,null,null,null,null,null,null,null,null,null,"مدفوع"]
[null,null,null,null,null,null,null,null,null,null,null,null,null,null,null,null,null,null,null,null,null,null,"مدفوع"]
[null,null,null,null,null,null,null,null,null,null,null,null,null,null,null,null,null,null,null,null,null,null,"مدفوع"]
[null,null,null,null,null,null,null,null,null,null,null,null,null,null,null,null,null,null,null,null,null,null,"مدفوع"]
[null,null,null,null,null,null,null,null,null,null,null,null,null,null,null,null,null,null,null,null,null,null,"مدفوع"]
[null,null,null,null,null,null,null,null,null,null,null,null,null,null,null,null,null,null,null,null,null,null,"مدفوع"]
[null,null,null,null,null,null,null,null,null,null,null,null,null,null,null,null,null,null,null,null,null,null,"مدفوع"]
[null,null,null,null,null,null,null,null,null,null,null,null,null,null,null,null,null,null,null,null,null,null,"مدفوع"]
[null,null,null,null,null,null,null,null,null,null,null,null,null,null,null,null,null,null,null,null,null,null,"مدفوع"]
[null,null,null,null,null,null,null,null,null,null,null,null,null,null,null,null,null,null,null,null,null,null,"مدفوع"]
[null,null,null,null,null,null,null,null,null,null,null,null,null,null,null,null,null,null,null,null,null,null,"مدفوع"]
[null,null,null,null,null,null,null,null,null,null,null,null,null,null,null,null,null,null,null,null,null,null,"مدفوع"]
[null,null,null,null,null,null,null,null,null,null,null,null,null,null,null,null,null,null,null,null,null,null,"مدفوع"]
[null,null,null,null,null,null,null,null,null,null,null,null,null,null,null,null,null,null,null,null,null,null,"مدفوع"]
[null,null,null,null,null,null,null,null,null,null,null,null,null,null,null,null,null,null,null,null,null,null,"مدفوع"]
[null,null,null,null,null,null,null,null,null,null,null,null,null,null,null,null,null,null,null,null,null,null,"مدفوع"]
[null,null,null,null,null,null,null,null,null,null,null,null,null,null,null,null,null,null,null,null,null,null,"مدفوع"]
[null,null,null,null,null,null,null,null,null,null,null,null,null,null,null,null,null,null,null,null,null,null,"مدفوع"]
[null,null,null,null,null,null,null,null,null,null,null,null,null,null,null,null,null,null,null,null,null,null,"مدفوع"]
[null,null,null,null,null,null,null,null,null,null,null,null,null,null,null,null,null,null,null,null,null,null,"مدفوع"]
[null,null,null,null,null,null,null,null,null,null,null,null,null,null,null,null,null,null,null,null,null,null,"مدفوع"]
[null,null,null,null,null,null,null,null,null,null,null,null,null,null,null,null,null,null,null,null,null,null,"مدفوع"]
[null,null,null,null,null,null,null,null,null,null,null,null,null,null,null,null,null,null,null,null,null,null,"مدفوع"]
[null,null,null,null,null,null,null,null,null,null,null,null,null,null,null,null,null,null,null,null,null,null,"مدفوع"]
[null,null,null,null,null,null,null,null,null,null,null,null,null,null,null,null,null,null,null,null,null,null,"مدفوع"]
[null,null,null,null,null,null,null,null,null,null,null,null,null,null,null,null,null,null,null,null,null,null,"مدفوع"]
[null,null,null,null,null,null,null,null,null,null,null,null,null,null,null,null,null,null,null,null,null,null,"مدفوع"]
[null,null,null,null,null,null,null,null,null,null,null,null,null,null,null,null,null,null,null,null,null,null,"مدفوع"]
[null,null,null,null,null,null,null,null,null,null,null,null,null,null,null,null,null,null,null,null,null,null,"مدفوع"]
[null,null,null,null,null,null,null,null,null,null,null,null,null,null,null,null,null,null,null,null,null,null,"مدفوع"]
[null,null,null,null,null,null,null,null,null,null,null,null,null,null,null,null,null,null,null,null,null,null,"مدفوع"]
[null,null,null,null,null,null,null,null,null,null,null,null,null,null,null,null,null,null,null,null,null,null,"مدفوع"]
[null,null,null,null,null,null,null,null,null,null,null,null,null,null,null,null,null,null,null,null,null,null,"مدفوع"]
[null,null,null,null,null,null,null,null,null,null,null,null,null,null,null,null,null,null,null,null,null,null,"مدفوع"]
[null,null,null,null,null,null,null,null,null,null,null,null,null,null,null,null,null,null,null,null,null,null,"مدفوع"]
[null,null,null,null,null,null,null,null,null,null,null,null,null,null,null,null,null,null,null,null,null,null,"مدفوع"]
[null,null,null,null,null,null,null,null,null,null,null,null,null,null,null,null,null,null,null,null,null,null,"مدفوع"]
[null,null,null,null,null,null,null,null,null,null,null,null,null,null,null,null,null,null,null,null,null,null,"مدفوع"]
[null,null,null,null,null,null,null,null,null,null,null,null,null,null,null,null,null,null,null,null,null,null,"مدفوع"]
[null,null,null,null,null,null,null,null,null,null,null,null,null,null,null,null,null,null,null,null,null,null,"مدفوع"]
[null,null,null,null,null,null,null,null,null,null,null,null,null,null,null,null,null,null,null,null,null,null,"مدفوع"]
[null,null,null,null,null,null,null,null,null,null,null,null,null,null,null,null,null,null,null,null,null,null,"مدفوع"]
[null,null,null,null,null,null,null,null,null,null,null,null,null,null,null,null,null,null,null,null,null,null,"مدفوع"]
[null,null,null,null,null,null,null,null,null,null,null,null,null,null,null,null,null,null,null,null,null,null,"مدفوع"]
[null,null,null,null,null,null,null,null,null,null,null,null,null,null,null,null,null,null,null,null,null,null,"مدفوع"]
[null,null,null,null,null,null,null,null,null,null,null,null,null,null,null,null,null,null,null,null,null,null,"مدفوع"]
[null,null,null,null,null,null,null,null,null,null,null,null,null,null,null,null,null,null,null,null,null,null,"مدفوع"]
[null,null,null,null,null,null,null,null,null,null,null,null,null,null,null,null,null,null,null,null,null,null,{"$f":"IF(V3080<=0,\"مدفوع\",\"غير مدفوع\")","v":"مدفوع"}]
[null,null,null,null,null,null,null,null,null,null,null,null,null,null,null,null,null,null,null,null,null,null,"مدفوع"]
[null,null,null,null,null,null,null,null,null,null,null,null,null,null,null,null,null,null,null,null,null,null,"مدفوع"]
[null,null,null,null,null,null,null,null,null,null,null,null,null,null,null,null,null,null,null,null,null,null,"مدفوع"]
[null,null,null,null,null,null,null,null,null,null,null,null,null,null,null,null,null,null,null,null,null,null,"مدفوع"]
[null,null,null,null,null,null,null,null,null,null,null,null,null,null,null,null,null,null,null,null,null,null,"مدفوع"]
[null,null,null,null,null,null,null,null,null,null,null,null,null,null,null,null,null,null,null,null,null,null,"مدفوع"]
[null,null,null,null,null,null,null,null,null,null,null,null,null,null,null,null,null,null,null,null,null,null,"مدفوع"]
[null,null,null,null,null,null,null,null,null,null,null,null,null,null,null,null,null,null,null,null,null,null,"مدفوع"]
[null,null,null,null,null,null,null,null,null,null,null,null,null,null,null,null,null,null,null,null,null,null,"مدفوع"]
[null,null,null,null,null,null,null,null,null,null,null,null,null,null,null,null,null,null,null,null,null,null,"مدفوع"]
[null,null,null,null,null,null,null,null,null,null,null,null,null,null,null,null,null,null,null,null,null,null,"مدفوع"]
[null,null,null,null,null,null,null,null,null,null,null,null,null,null,null,null,null,null,null,null,null,null,"مدفوع"]
[null,null,null,null,null,null,null,null,null,null,null,null,null,null,null,null,null,null,null,null,null,null,"مدفوع"]
[null,null,null,null,null,null,null,null,null,null,null,null,null,null,null,null,null,null,null,null,null,null,"مدفوع"]
[null,null,null,null,null,null,null,null,null,null,null,null,null,null,null,null,null,null,null,null,null,null,"مدفوع"]
[null,null,null,null,null,null,null,null,null,null,null,null,null,null,null,null,null,null,null,null,null,null,"مدفوع"]
[null,null,null,null,null,null,null,null,null,null,null,null,null,null,null,null,null,null,null,null,null,null,"مدفوع"]
[null,null,null,null,null,null,null,null,null,null,null,null,null,null,null,null,null,null,null,null,null,null,"مدفوع"]
[null,null,null,null,null,null,null,null,null,null,null,null,null,null,null,null,null,null,null,null,null,null,"مدفوع"]
[null,null,null,null,null,null,null,null,null,null,null,null,null,null,null,null,null,null,null,null,null,null,"مدفوع"]
[null,null,null,null,null,null,null,null,null,null,null,null,null,null,null,null,null,null,null,null,null,null,"مدفوع"]
[null,null,null,null,null,null,null,null,null,null,null,null,null,null,null,null,null,null,null,null,null,null,"مدفوع"]
[null,null,null,null,null,null,null,null,null,null,null,null,null,null,null,null,null,null,null,null,null,null,"مدفوع"]
[null,null,null,null,null,null,null,null,null,null,null,null,null,null,null,null,null,null,null,null,null,null,"مدفوع"]
[null,null,null,null,null,null,null,null,null,null,null,null,null,null,null,null,null,null,null,null,null,null,"مدفوع"]
[null,null,null,null,null,null,null,null,null,null,null,null,null,null,null,null,null,null,null,null,null,null,"مدفوع"]
[null,null,null,null,null,null,null,null,null,null,null,null,null,null,null,null,null,null,null,null,null,null,"مدفوع"]
[null,null,null,null,null,null,null,null,null,null,null,null,null,null,null,null,null,null,null,null,null,null,"مدفوع"]
[null,null,null,null,null,null,null,null,null,null,null,null,null,null,null,null,null,null,null,null,null,null,"مدفوع"]
[null,null,null,null,null,null,null,null,null,null,null,null,null,null,null,null,null,null,null,null,null,null,"مدفوع"]
[null,null,null,null,null,null,null,null,null,null,null,null,null,null,null,null,null,null,null,null,null,null,"مدفوع"]
[null,null,null,null,null,null,null,null,null,null,null,null,null,null,null,null,null,null,null,null,null,null,"مدفوع"]
[null,null,null,null,null,null,null,null,null,null,null,null,null,null,null,null,null,null,null,null,null,null,"مدفوع"]
[null,null,null,null,null,null,null,null,null,null,null,null,null,null,null,null,null,null,null,null,null,null,"مدفوع"]
[null,null,null,null,null,null,null,null,null,null,null,null,null,null,null,null,null,null,null,null,null,null,"مدفوع"]
[null,null,null,null,null,null,null,null,null,null,null,null,null,null,null,null,null,null,null,null,null,null,"مدفوع"]
[null,null,null,null,null,null,null,null,null,null,null,null,null,null,null,null,null,null,null,null,null,null,"مدفوع"]
[null,null,null,null,null,null,null,null,null,null,null,null,null,null,null,null,null,null,null,null,null,null,"مدفوع"]
[null,null,null,null,null,null,null,null,null,null,null,null,null,null,null,null,null,null,null,null,null,null,"مدفوع"]
[null,null,null,null,null,null,null,null,null,null,null,null,null,null,null,null,null,null,null,null,null,null,"مدفوع"]
[null,null,null,null,null,null,null,null,null,null,null,null,null,null,null,null,null,null,null,null,null,null,"مدفوع"]
[null,null,null,null,null,null,null,null,null,null,null,null,null,null,null,null,null,null,null,null,null,null,"مدفوع"]
[null,null,null,null,null,null,null,null,null,null,null,null,null,null,null,null,null,null,null,null,null,null,"مدفوع"]
[null,null,null,null,null,null,null,null,null,null,null,null,null,null,null,null,null,null,null,null,null,null,"مدفوع"]
[null,null,null,null,null,null,null,null,null,null,null,null,null,null,null,null,null,null,null,null,null,null,"مدفوع"]
[null,null,null,null,null,null,null,null,null,null,null,null,null,null,null,null,null,null,null,null,null,null,"مدفوع"]
[null,null,null,null,null,null,null,null,null,null,null,null,null,null,null,null,null,null,null,null,null,null,"مدفوع"]
[null,null,null,null,null,null,null,null,null,null,null,null,null,null,null,null,null,null,null,null,null,null,"مدفوع"]
[null,null,null,null,null,null,null,null,null,null,null,null,null,null,null,null,null,null,null,null,null,null,"مدفوع"]
[null,null,null,null,null,null,null,null,null,null,null,null,null,null,null,null,null,null,null,null,null,null,"مدفوع"]
[null,null,null,null,null,null,null,null,null,null,null,null,null,null,null,null,null,null,null,null,null,null,"مدفوع"]
[null,null,null,null,null,null,null,null,null,null,null,null,null,null,null,null,null,null,null,null,null,null,"مدفوع"]
[null,null,null,null,null,null,null,null,null,null,null,null,null,null,null,null,null,null,null,null,null,null,"مدفوع"]
[null,null,null,null,null,null,null,null,null,null,null,null,null,null,null,null,null,null,null,null,null,null,"مدفوع"]
[null,null,null,null,null,null,null,null,null,null,null,null,null,null,null,null,null,null,null,null,null,null,"مدفوع"]
[null,null,null,null,null,null,null,null,null,null,null,null,null,null,null,null,null,null,null,null,null,null,"مدفوع"]
[null,null,null,null,null,null,null,null,null,null,null,null,null,null,null,null,null,null,null,null,null,null,"مدفوع"]
[null,null,null,null,null,null,null,null,null,null,null,null,null,null,null,null,null,null,null,null,null,null,"مدفوع"]
[null,null,null,null,null,null,null,null,null,null,null,null,null,null,null,null,null,null,null,null,null,null,"مدفوع"]
[null,null,null,null,null,null,null,null,null,null,null,null,null,null,null,null,null,null,null,null,null,null,"مدفوع"]
[null,null,null,null,null,null,null,null,null,null,null,null,null,null,null,null,null,null,null,null,null,null,"مدفوع"]
[null,null,null,null,null,null,null,null,null,null,null,null,null,null,null,null,null,null,null,null,null,null,"مدفوع"]
[null,null,null,null,null,null,null,null,null,null,null,null,null,null,null,null,null,null,null,null,null,null,"مدفوع"]
[null,null,null,null,null,null,null,null,null,null,null,null,null,null,null,null,null,null,null,null,null,null,{"$f":"IF(V3144<=0,\"مدفوع\",\"غير مدفوع\")","v":"مدفوع"}]
[null,null,null,null,null,null,null,null,null,null,null,null,null,null,null,null,null,null,null,null,null,null,"مدفوع"]
[null,null,null,null,null,null,null,null,null,null,null,null,null,null,null,null,null,null,null,null,null,null,"مدفوع"]
[null,null,null,null,null,null,null,null,null,null,null,null,null,null,null,null,null,null,null,null,null,null,"مدفوع"]
[null,null,null,null,null,null,null,null,null,null,null,null,null,null,null,null,null,null,null,null,null,null,"مدفوع"]
[null,null,null,null,null,null,null,null,null,null,null,null,null,null,null,null,null,null,null,null,null,null,"مدفوع"]
[null,null,null,null,null,null,null,null,null,null,null,null,null,null,null,null,null,null,null,null,null,null,"مدفوع"]
[null,null,null,null,null,null,null,null,null,null,null,null,null,null,null,null,null,null,null,null,null,null,"مدفوع"]
[null,null,null,null,null,null,null,null,null,null,null,null,null,null,null,null,null,null,null,null,null,null,"مدفوع"]
[null,null,null,null,null,null,null,null,null,null,null,null,null,null,null,null,null,null,null,null,null,null,"مدفوع"]
[null,null,null,null,null,null,null,null,null,null,null,null,null,null,null,null,null,null,null,null,null,null,"مدفوع"]
[null,null,null,null,null,null,null,null,null,null,null,null,null,null,null,null,null,null,null,null,null,null,"مدفوع"]
[null,null,null,null,null,null,null,null,null,null,null,null,null,null,null,null,null,null,null,null,null,null,"مدفوع"]
[null,null,null,null,null,null,null,null,null,null,null,null,null,null,null,null,null,null,null,null,null,null,"مدفوع"]
[null,null,null,null,null,null,null,null,null,null,null,null,null,null,null,null,null,null,null,null,null,null,"مدفوع"]
[null,null,null,null,null,null,null,null,null,null,null,null,null,null,null,null,null,null,null,null,null,null,"مدفوع"]
[null,null,null,null,null,null,null,null,null,null,null,null,null,null,null,null,null,null,null,null,null,null,"مدفوع"]
[null,null,null,null,null,null,null,null,null,null,null,null,null,null,null,null,null,null,null,null,null,null,"مدفوع"]
[null,null,null,null,null,null,null,null,null,null,null,null,null,null,null,null,null,null,null,null,null,null,"مدفوع"]
[null,null,null,null,null,null,null,null,null,null,null,null,null,null,null,null,null,null,null,null,null,null,"مدفوع"]
[null,null,null,null,null,null,null,null,null,null,null,null,null,null,null,null,null,null,null,null,null,null,"مدفوع"]
[null,null,null,null,null,null,null,null,null,null,null,null,null,null,null,null,null,null,null,null,null,null,"مدفوع"]
[null,null,null,null,null,null,null,null,null,null,null,null,null,null,null,null,null,null,null,null,null,null,"مدفوع"]
[null,null,null,null,null,null,null,null,null,null,null,null,null,null,null,null,null,null,null,null,null,null,"مدفوع"]
[null,null,null,null,null,null,null,null,null,null,null,null,null,null,null,null,null,null,null,null,null,null,"مدفوع"]
[null,null,null,null,null,null,null,null,null,null,null,null,null,null,null,null,null,null,null,null,null,null,"مدفوع"]
[null,null,null,null,null,null,null,null,null,null,null,null,null,null,null,null,null,null,null,null,null,null,"مدفوع"]
[null,null,null,null,null,null,null,null,null,null,null,null,null,null,null,null,null,null,null,null,null,null,"مدفوع"]
[null,null,null,null,null,null,null,null,null,null,null,null,null,null,null,null,null,null,null,null,null,null,"مدفوع"]
[null,null,null,null,null,null,null,null,null,null,null,null,null,null,null,null,null,null,null,null,null,null,"مدفوع"]
[null,null,null,null,null,null,null,null,null,null,null,null,null,null,null,null,null,null,null,null,null,null,"مدفوع"]
[null,null,null,null,null,null,null,null,null,null,null,null,null,null,null,null,null,null,null,null,null,null,"مدفوع"]
[null,null,null,null,null,null,null,null,null,null,null,null,null,null,null,null,null,null,null,null,null,null,"مدفوع"]
[null,null,null,null,null,null,null,null,null,null,null,null,null,null,null,null,null,null,null,null,null,null,"مدفوع"]
[null,null,null,null,null,null,null,null,null,null,null,null,null,null,null,null,null,null,null,null,null,null,"مدفوع"]
[null,null,null,null,null,null,null,null,null,null,null,null,null,null,null,null,null,null,null,null,null,null,"مدفوع"]
[null,null,null,null,null,null,null,null,null,null,null,null,null,null,null,null,null,null,null,null,null,null,"مدفوع"]
[null,null,null,null,null,null,null,null,null,null,null,null,null,null,null,null,null,null,null,null,null,null,"مدفوع"]
[null,null,null,null,null,null,null,null,null,null,null,null,null,null,null,null,null,null,null,null,null,null,"مدفوع"]
[null,null,null,null,null,null,null,null,null,null,null,null,null,null,null,null,null,null,null,null,null,null,"مدفوع"]
[null,null,null,null,null,null,null,null,null,null,null,null,null,null,null,null,null,null,null,null,null,null,"مدفوع"]
[null,null,null,null,null,null,null,null,null,null,null,null,null,null,null,null,null,null,null,null,null,null,"مدفوع"]
[null,null,null,null,null,null,null,null,null,null,null,null,null,null,null,null,null,null,null,null,null,null,"مدفوع"]
[null,null,null,null,null,null,null,null,null,null,null,null,null,null,null,null,null,null,null,null,null,null,"مدفوع"]
[null,null,null,null,null,null,null,null,null,null,null,null,null,null,null,null,null,null,null,null,null,null,"مدفوع"]
[null,null,null,null,null,null,null,null,null,null,null,null,null,null,null,null,null,null,null,null,null,null,"مدفوع"]
[null,null,null,null,null,null,null,null,null,null,null,null,null,null,null,null,null,null,null,null,null,null,"مدفوع"]
[null,null,null,null,null,null,null,null,null,null,null,null,null,null,null,null,null,null,null,null,null,null,"مدفوع"]
[null,null,null,null,null,null,null,null,null,null,null,null,null,null,null,null,null,null,null,null,null,null,"مدفوع"]
[null,null,null,null,null,null,null,null,null,null,null,null,null,null,null,null,null,null,null,null,null,null,"مدفوع"]
[null,null,null,null,null,null,null,null,null,null,null,null,null,null,null,null,null,null,null,null,null,null,"مدفوع"]
[null,null,null,null,null,null,null,null,null,null,null,null,null,null,null,null,null,null,null,null,null,null,"مدفوع"]
[null,null,null,null,null,null,null,null,null,null,null,null,null,null,null,null,null,null,null,null,null,null,"مدفوع"]
[null,null,null,null,null,null,null,null,null,null,null,null,null,null,null,null,null,null,null,null,null,null,"مدفوع"]
[null,null,null,null,null,null,null,null,null,null,null,null,null,null,null,null,null,null,null,null,null,null,"مدفوع"]
[null,null,null,null,null,null,null,null,null,null,null,null,null,null,null,null,null,null,null,null,null,null,"مدفوع"]
[null,null,null,null,null,null,null,null,null,null,null,null,null,null,null,null,null,null,null,null,null,null,"مدفوع"]
[null,null,null,null,null,null,null,null,null,null,null,null,null,null,null,null,null,null,null,null,null,null,"مدفوع"]
[null,null,null,null,null,null,null,null,null,null,null,null,null,null,null,null,null,null,null,null,null,null,"مدفوع"]
[null,null,null,null,null,null,null,null,null,null,null,null,null,null,null,null,null,null,null,null,null,null,"مدفوع"]
[null,null,null,null,null,null,null,null,null,null,null,null,null,null,null,null,null,null,null,null,null,null,"مدفوع"]
[null,null,null,null,null,null,null,null,null,null,null,null,null,null,null,null,null,null,null,null,null,null,"مدفوع"]
[null,null,null,null,null,null,null,null,null,null,null,null,null,null,null,null,null,null,null,null,null,null,"مدفوع"]
[null,null,null,null,null,null,null,null,null,null,null,null,null,null,null,null,null,null,null,null,null,null,"مدفوع"]
[null,null,null,null,null,null,null,null,null,null,null,null,null,null,null,null,null,null,null,null,null,null,{"$f":"IF(V3208<=0,\"مدفوع\",\"غير مدفوع\")","v":"مدفوع"}]
[null,null,null,null,null,null,null,null,null,null,null,null,null,null,null,null,null,null,null,null,null,null,"مدفوع"]
[null,null,null,null,null,null,null,null,null,null,null,null,null,null,null,null,null,null,null,null,null,null,"مدفوع"]
[null,null,null,null,null,null,null,null,null,null,null,null,null,null,null,null,null,null,null,null,null,null,"مدفوع"]
[null,null,null,null,null,null,null,null,null,null,null,null,null,null,null,null,null,null,null,null,null,null,"مدفوع"]
[null,null,null,null,null,null,null,null,null,null,null,null,null,null,null,null,null,null,null,null,null,null,"مدفوع"]
[null,null,null,null,null,null,null,null,null,null,null,null,null,null,null,null,null,null,null,null,null,null,"مدفوع"]
[null,null,null,null,null,null,null,null,null,null,null,null,null,null,null,null,null,null,null,null,null,null,"مدفوع"]
[null,null,null,null,null,null,null,null,null,null,null,null,null,null,null,null,null,null,null,null,null,null,"مدفوع"]
[null,null,null,null,null,null,null,null,null,null,null,null,null,null,null,null,null,null,null,null,null,null,"مدفوع"]
[null,null,null,null,null,null,null,null,null,null,null,null,null,null,null,null,null,null,null,null,null,null,"مدفوع"]
[null,null,null,null,null,null,null,null,null,null,null,null,null,null,null,null,null,null,null,null,null,null,"مدفوع"]
[null,null,null,null,null,null,null,null,null,null,null,null,null,null,null,null,null,null,null,null,null,null,"مدفوع"]
[null,null,null,null,null,null,null,null,null,null,null,null,null,null,null,null,null,null,null,null,null,null,"مدفوع"]
[null,null,null,null,null,null,null,null,null,null,null,null,null,null,null,null,null,null,null,null,null,null,"مدفوع"]
[null,null,null,null,null,null,null,null,null,null,null,null,null,null,null,null,null,null,null,null,null,null,"مدفوع"]
[null,null,null,null,null,null,null,null,null,null,null,null,null,null,null,null,null,null,null,null,null,null,"مدفوع"]
[null,null,null,null,null,null,null,null,null,null,null,null,null,null,null,null,null,null,null,null,null,null,"مدفوع"]
[null,null,null,null,null,null,null,null,null,null,null,null,null,null,null,null,null,null,null,null,null,null,"مدفوع"]
[null,null,null,null,null,null,null,null,null,null,null,null,null,null,null,null,null,null,null,null,null,null,"مدفوع"]
[null,null,null,null,null,null,null,null,null,null,null,null,null,null,null,null,null,null,null,null,null,null,"مدفوع"]
[null,null,null,null,null,null,null,null,null,null,null,null,null,null,null,null,null,null,null,null,null,null,"مدفوع"]
[null,null,null,null,null,null,null,null,null,null,null,null,null,null,null,null,null,null,null,null,null,null,"مدفوع"]
[null,null,null,null,null,null,null,null,null,null,null,null,null,null,null,null,null,null,null,null,null,null,"مدفوع"]
[null,null,null,null,null,null,null,null,null,null,null,null,null,null,null,null,null,null,null,null,null,null,"مدفوع"]
[null,null,null,null,null,null,null,null,null,null,null,null,null,null,null,null,null,null,null,null,null,null,"مدفوع"]
[null,null,null,null,null,null,null,null,null,null,null,null,null,null,null,null,null,null,null,null,null,null,"مدفوع"]
[null,null,null,null,null,null,null,null,null,null,null,null,null,null,null,null,null,null,null,null,null,null,"مدفوع"]
[null,null,null,null,null,null,null,null,null,null,null,null,null,null,null,null,null,null,null,null,null,null,"مدفوع"]
[null,null,null,null,null,null,null,null,null,null,null,null,null,null,null,null,null,null,null,null,null,null,"مدفوع"]
[null,null,null,null,null,null,null,null,null,null,null,null,null,null,null,null,null,null,null,null,null,null,"مدفوع"]
[null,null,null,null,null,null,null,null,null,null,null,null,null,null,null,null,null,null,null,null,null,null,"مدفوع"]
[null,null,null,null,null,null,null,null,null,null,null,null,null,null,null,null,null,null,null,null,null,null,"مدفوع"]
[null,null,null,null,null,null,null,null,null,null,null,null,null,null,null,null,null,null,null,null,null,null,"مدفوع"]
[null,null,null,null,null,null,null,null,null,null,null,null,null,null,null,null,null,null,null,null,null,null,"مدفوع"]
[null,null,null,null,null,null,null,null,null,null,null,null,null,null,null,null,null,null,null,null,null,null,"مدفوع"]
[null,null,null,null,null,null,null,null,null,null,null,null,null,null,null,null,null,null,null,null,null,null,"مدفوع"]
[null,null,null,null,null,null,null,null,null,null,null,null,null,null,null,null,null,null,null,null,null,null,"مدفوع"]
[null,null,null,null,null,null,null,null,null,null,null,null,null,null,null,null,null,null,null,null,null,null,"مدفوع"]
[null,null,null,null,null,null,null,null,null,null,null,null,null,null,null,null,null,null,null,null,null,null,"مدفوع"]
[null,null,null,null,null,null,null,null,null,null,null,null,null,null,null,null,null,null,null,null,null,null,"مدفوع"]
[null,null,null,null,null,null,null,null,null,null,null,null,null,null,null,null,null,null,null,null,null,null,"مدفوع"]
[null,null,null,null,null,null,null,null,null,null,null,null,null,null,null,null,null,null,null,null,null,null,"مدفوع"]
[null,null,null,null,null,null,null,null,null,null,null,null,null,null,null,null,null,null,null,null,null,null,"مدفوع"]
[null,null,null,null,null,null,null,null,null,null,null,null,null,null,null,null,null,null,null,null,null,null,"مدفوع"]
[null,null,null,null,null,null,null,null,null,null,null,null,null,null,null,null,null,null,null,null,null,null,"مدفوع"]
[null,null,null,null,null,null,null,null,null,null,null,null,null,null,null,null,null,null,null,null,null,null,"مدفوع"]
[null,null,null,null,null,null,null,null,null,null,null,null,null,null,null,null,null,null,null,null,null,null,"مدفوع"]
[null,null,null,null,null,null,null,null,null,null,null,null,null,null,null,null,null,null,null,null,null,null,"مدفوع"]
[null,null,null,null,null,null,null,null,null,null,null,null,null,null,null,null,null,null,null,null,null,null,"مدفوع"]
[null,null,null,null,null,null,null,null,null,null,null,null,null,null,null,null,null,null,null,null,null,null,"مدفوع"]
[null,null,null,null,null,null,null,null,null,null,null,null,null,null,null,null,null,null,null,null,null,null,"مدفوع"]
[null,null,null,null,null,null,null,null,null,null,null,null,null,null,null,null,null,null,null,null,null,null,"مدفوع"]
[null,null,null,null,null,null,null,null,null,null,null,null,null,null,null,null,null,null,null,null,null,null,"مدفوع"]
[null,null,null,null,null,null,null,null,null,null,null,null,null,null,null,null,null,null,null,null,null,null,"مدفوع"]
[null,null,null,null,null,null,null,null,null,null,null,null,null,null,null,null,null,null,null,null,null,null,"مدفوع"]
[null,null,null,null,null,null,null,null,null,null,null,null,null,null,null,null,null,null,null,null,null,null,"مدفوع"]
[null,null,null,null,null,null,null,null,null,null,null,null,null,null,null,null,null,null,null,null,null,null,"مدفوع"]
[null,null,null,null,null,null,null,null,null,null,null,null,null,null,null,null,null,null,null,null,null,null,"مدفوع"]
[null,null,null,null,null,null,null,null,null,null,null,null,null,null,null,null,null,null,null,null,null,null,"مدفوع"]
[null,null,null,null,null,null,null,null,null,null,null,null,null,null,null,null,null,null,null,null,null,null,"مدفوع"]
[null,null,null,null,null,null,null,null,null,null,null,null,null,null,null,null,null,null,null,null,null,null,"مدفوع"]
[null,null,null,null,null,null,null,null,null,null,null,null,null,null,null,null,null,null,null,null,null,null,"مدفوع"]
[null,null,null,null,null,null,null,null,null,null,null,null,null,null,null,null,null,null,null,null,null,null,"مدفوع"]
[null,null,null,null,null,null,null,null,null,null,null,null,null,null,null,null,null,null,null,null,null,null,{"$f":"IF(V3272<=0,\"مدفوع\",\"غير مدفوع\")","v":"مدفوع"}]
[null,null,null,null,null,null,null,null,null,null,null,null,null,null,null,null,null,null,null,null,null,null,"مدفوع"]
[null,null,null,null,null,null,null,null,null,null,null,null,null,null,null,null,null,null,null,null,null,null,"مدفوع"]
[null,null,null,null,null,null,null,null,null,null,null,null,null,null,null,null,null,null,null,null,null,null,"مدفوع"]
[null,null,null,null,null,null,null,null,null,null,null,null,null,null,null,null,null,null,null,null,null,null,"مدفوع"]
[null,null,null,null,null,null,null,null,null,null,null,null,null,null,null,null,null,null,null,null,null,null,"مدفوع"]
[null,null,null,null,null,null,null,null,null,null,null,null,null,null,null,null,null,null,null,null,null,null,"مدفوع"]
[null,null,null,null,null,null,null,null,null,null,null,null,null,null,null,null,null,null,null,null,null,null,"مدفوع"]
[null,null,null,null,null,null,null,null,null,null,null,null,null,null,null,null,null,null,null,null,null,null,"مدفوع"]
[null,null,null,null,null,null,null,null,null,null,null,null,null,null,null,null,null,null,null,null,null,null,"مدفوع"]
[null,null,null,null,null,null,null,null,null,null,null,null,null,null,null,null,null,null,null,null,null,null,"مدفوع"]
[null,null,null,null,null,null,null,null,null,null,null,null,null,null,null,null,null,null,null,null,null,null,"مدفوع"]
[null,null,null,null,null,null,null,null,null,null,null,null,null,null,null,null,null,null,null,null,null,null,"مدفوع"]
[null,null,null,null,null,null,null,null,null,null,null,null,null,null,null,null,null,null,null,null,null,null,"مدفوع"]
[null,null,null,null,null,null,null,null,null,null,null,null,null,null,null,null,null,null,null,null,null,null,"مدفوع"]
[null,null,null,null,null,null,null,null,null,null,null,null,null,null,null,null,null,null,null,null,null,null,"مدفوع"]
[null,null,null,null,null,null,null,null,null,null,null,null,null,null,null,null,null,null,null,null,null,null,"مدفوع"]
[null,null,null,null,null,null,null,null,null,null,null,null,null,null,null,null,null,null,null,null,null,null,"مدفوع"]
[null,null,null,null,null,null,null,null,null,null,null,null,null,null,null,null,null,null,null,null,null,null,"مدفوع"]
[null,null,null,null,null,null,null,null,null,null,null,null,null,null,null,null,null,null,null,null,null,null,"مدفوع"]
[null,null,null,null,null,null,null,null,null,null,null,null,null,null,null,null,null,null,null,null,null,null,"مدفوع"]
[null,null,null,null,null,null,null,null,null,null,null,null,null,null,null,null,null,null,null,null,null,null,"مدفوع"]
[null,null,null,null,null,null,null,null,null,null,null,null,null,null,null,null,null,null,null,null,null,null,"مدفوع"]
[null,null,null,null,null,null,null,null,null,null,null,null,null,null,null,null,null,null,null,null,null,null,"مدفوع"]
[null,null,null,null,null,null,null,null,null,null,null,null,null,null,null,null,null,null,null,null,null,null,"مدفوع"]
[null,null,null,null,null,null,null,null,null,null,null,null,null,null,null,null,null,null,null,null,null,null,"مدفوع"]
[null,null,null,null,null,null,null,null,null,null,null,null,null,null,null,null,null,null,null,null,null,null,"مدفوع"]
[null,null,null,null,null,null,null,null,null,null,null,null,null,null,null,null,null,null,null,null,null,null,"مدفوع"]
[null,null,null,null,null,null,null,null,null,null,null,null,null,null,null,null,null,null,null,null,null,null,"مدفوع"]
[null,null,null,null,null,null,null,null,null,null,null,null,null,null,null,null,null,null,null,null,null,null,"مدفوع"]
[null,null,null,null,null,null,null,null,null,null,null,null,null,null,null,null,null,null,null,null,null,null,"مدفوع"]
[null,null,null,null,null,null,null,null,null,null,null,null,null,null,null,null,null,null,null,null,null,null,"مدفوع"]
[null,null,null,null,null,null,null,null,null,null,null,null,null,null,null,null,null,null,null,null,null,null,"مدفوع"]
[null,null,null,null,null,null,null,null,null,null,null,null,null,null,null,null,null,null,null,null,null,null,"مدفوع"]
[null,null,null,null,null,null,null,null,null,null,null,null,null,null,null,null,null,null,null,null,null,null,"مدفوع"]
[null,null,null,null,null,null,null,null,null,null,null,null,null,null,null,null,null,null,null,null,null,null,"مدفوع"]
[null,null,null,null,null,null,null,null,null,null,null,null,null,null,null,null,null,null,null,null,null,null,"مدفوع"]
[null,null,null,null,null,null,null,null,null,null,null,null,null,null,null,null,null,null,null,null,null,null,"مدفوع"]
[null,null,null,null,null,null,null,null,null,null,null,null,null,null,null,null,null,null,null,null,null,null,"مدفوع"]
[null,null,null,null,null,null,null,null,null,null,null,null,null,null,null,null,null,null,null,null,null,null,"مدفوع"]
[null,null,null,null,null,null,null,null,null,null,null,null,null,null,null,null,null,null,null,null,null,null,"مدفوع"]
[null,null,null,null,null,null,null,null,null,null,null,null,null,null,null,null,null,null,null,null,null,null,"مدفوع"]
[null,null,null,null,null,null,null,null,null,null,null,null,null,null,null,null,null,null,null,null,null,null,"مدفوع"]
[null,null,null,null,null,null,null,null,null,null,null,null,null,null,null,null,null,null,null,null,null,null,"مدفوع"]
[null,null,null,null,null,null,null,null,null,null,null,null,null,null,null,null,null,null,null,null,null,null,"مدفوع"]
[null,null,null,null,null,null,null,null,null,null,null,null,null,null,null,null,null,null,null,null,null,null,"مدفوع"]
[null,null,null,null,null,null,null,null,null,null,null,null,null,null,null,null,null,null,null,null,null,null,"مدفوع"]
[null,null,null,null,null,null,null,null,null,null,null,null,null,null,null,null,null,null,null,null,null,null,"مدفوع"]
[null,null,null,null,null,null,null,null,null,null,null,null,null,null,null,null,null,null,null,null,null,null,"مدفوع"]
[null,null,null,null,null,null,null,null,null,null,null,null,null,null,null,null,null,null,null,null,null,null,"مدفوع"]
[null,null,null,null,null,null,null,null,null,null,null,null,null,null,null,null,null,null,null,null,null,null,"مدفوع"]
[null,null,null,null,null,null,null,null,null,null,null,null,null,null,null,null,null,null,null,null,null,null,"مدفوع"]
[null,null,null,null,null,null,null,null,null,null,null,null,null,null,null,null,null,null,null,null,null,null,"مدفوع"]
[null,null,null,null,null,null,null,null,null,null,null,null,null,null,null,null,null,null,null,null,null,null,"مدفوع"]
[null,null,null,null,null,null,null,null,null,null,null,null,null,null,null,null,null,null,null,null,null,null,"مدفوع"]
[null,null,null,null,null,null,null,null,null,null,null,null,null,null,null,null,null,null,null,null,null,null,"مدفوع"]
[null,null,null,null,null,null,null,null,null,null,null,null,null,null,null,null,null,null,null,null,null,null,"مدفوع"]
[null,null,null,null,null,null,null,null,null,null,null,null,null,null,null,null,null,null,null,null,null,null,"مدفوع"]
[null,null,null,null,null,null,null,null,null,null,null,null,null,null,null,null,null,null,null,null,null,null,"مدفوع"]
[null,null,null,null,null,null,null,null,null,null,null,null,null,null,null,null,null,null,null,null,null,null,"مدفوع"]
[null,null,null,null,null,null,null,null,null,null,null,null,null,null,null,null,null,null,null,null,null,null,"مدفوع"]
[null,null,null,null,null,null,null,null,null,null,null,null,null,null,null,null,null,null,null,null,null,null,"مدفوع"]
[null,null,null,null,null,null,null,null,null,null,null,null,null,null,null,null,null,null,null,null,null,null,"مدفوع"]
[null,null,null,null,null,null,null,null,null,null,null,null,null,null,null,null,null,null,null,null,null,null,"مدفوع"]
[null,null,null,null,null,null,null,null,null,null,null,null,null,null,null,null,null,null,null,null,null,null,{"$f":"IF(V3336<=0,\"مدفوع\",\"غير مدفوع\")","v":"مدفوع"}]
[null,null,null,null,null,null,null,null,null,null,null,null,null,null,null,null,null,null,null,null,null,null,"مدفوع"]
[null,null,null,null,null,null,null,null,null,null,null,null,null,null,null,null,null,null,null,null,null,null,"مدفوع"]
[null,null,null,null,null,null,null,null,null,null,null,null,null,null,null,null,null,null,null,null,null,null,"مدفوع"]
[null,null,null,null,null,null,null,null,null,null,null,null,null,null,null,null,null,null,null,null,null,null,"مدفوع"]
[null,null,null,null,null,null,null,null,null,null,null,null,null,null,null,null,null,null,null,null,null,null,"مدفوع"]
[null,null,null,null,null,null,null,null,null,null,null,null,null,null,null,null,null,null,null,null,null,null,"مدفوع"]
[null,null,null,null,null,null,null,null,null,null,null,null,null,null,null,null,null,null,null,null,null,null,"مدفوع"]
[null,null,null,null,null,null,null,null,null,null,null,null,null,null,null,null,null,null,null,null,null,null,"مدفوع"]
[null,null,null,null,null,null,null,null,null,null,null,null,null,null,null,null,null,null,null,null,null,null,"مدفوع"]
[null,null,null,null,null,null,null,null,null,null,null,null,null,null,null,null,null,null,null,null,null,null,"مدفوع"]
[null,null,null,null,null,null,null,null,null,null,null,null,null,null,null,null,null,null,null,null,null,null,"مدفوع"]
[null,null,null,null,null,null,null,null,null,null,null,null,null,null,null,null,null,null,null,null,null,null,"مدفوع"]
[null,null,null,null,null,null,null,null,null,null,null,null,null,null,null,null,null,null,null,null,null,null,"مدفوع"]
[null,null,null,null,null,null,null,null,null,null,null,null,null,null,null,null,null,null,null,null,null,null,"مدفوع"]
[null,null,null,null,null,null,null,null,null,null,null,null,null,null,null,null,null,null,null,null,null,null,"مدفوع"]
[null,null,null,null,null,null,null,null,null,null,null,null,null,null,null,null,null,null,null,null,null,null,"مدفوع"]
[null,null,null,null,null,null,null,null,null,null,null,null,null,null,null,null,null,null,null,null,null,null,"مدفوع"]
[null,null,null,null,null,null,null,null,null,null,null,null,null,null,null,null,null,null,null,null,null,null,"مدفوع"]
[null,null,null,null,null,null,null,null,null,null,null,null,null,null,null,null,null,null,null,null,null,null,"مدفوع"]
[null,null,null,null,null,null,null,null,null,null,null,null,null,null,null,null,null,null,null,null,null,null,"مدفوع"]
[null,null,null,null,null,null,null,null,null,null,null,null,null,null,null,null,null,null,null,null,null,null,"مدفوع"]
[null,null,null,null,null,null,null,null,null,null,null,null,null,null,null,null,null,null,null,null,null,null,"مدفوع"]
[null,null,null,null,null,null,null,null,null,null,null,null,null,null,null,null,null,null,null,null,null,null,"مدفوع"]
[null,null,null,null,null,null,null,null,null,null,null,null,null,null,null,null,null,null,null,null,null,null,"مدفوع"]
[null,null,null,null,null,null,null,null,null,null,null,null,null,null,null,null,null,null,null,null,null,null,"مدفوع"]
[null,null,null,null,null,null,null,null,null,null,null,null,null,null,null,null,null,null,null,null,null,null,"مدفوع"]
[null,null,null,null,null,null,null,null,null,null,null,null,null,null,null,null,null,null,null,null,null,null,"مدفوع"]
[null,null,null,null,null,null,null,null,null,null,null,null,null,null,null,null,null,null,null,null,null,null,"مدفوع"]
[null,null,null,null,null,null,null,null,null,null,null,null,null,null,null,null,null,null,null,null,null,null,"مدفوع"]
[null,null,null,null,null,null,null,null,null,null,null,null,null,null,null,null,null,null,null,null,null,null,"مدفوع"]
[null,null,null,null,null,null,null,null,null,null,null,null,null,null,null,null,null,null,null,null,null,null,"مدفوع"]
[null,null,null,null,null,null,null,null,null,null,null,null,null,null,null,null,null,null,null,null,null,null,"مدفوع"]
[null,null,null,null,null,null,null,null,null,null,null,null,null,null,null,null,null,null,null,null,null,null,"مدفوع"]
[null,null,null,null,null,null,null,null,null,null,null,null,null,null,null,null,null,null,null,null,null,null,"مدفوع"]
[null,null,null,null,null,null,null,null,null,null,null,null,null,null,null,null,null,null,null,null,null,null,"مدفوع"]
[null,null,null,null,null,null,null,null,null,null,null,null,null,null,null,null,null,null,null,null,null,null,"مدفوع"]
[null,null,null,null,null,null,null,null,null,null,null,null,null,null,null,null,null,null,null,null,null,null,"مدفوع"]
[null,null,null,null,null,null,null,null,null,null,null,null,null,null,null,null,null,null,null,null,null,null,"مدفوع"]
[null,null,null,null,null,null,null,null,null,null,null,null,null,null,null,null,null,null,null,null,null,null,"مدفوع"]
[null,null,null,null,null,null,null,null,null,null,null,null,null,null,null,null,null,null,null,null,null,null,"مدفوع"]
[null,null,null,null,null,null,null,null,null,null,null,null,null,null,null,null,null,null,null,null,null,null,"مدفوع"]
[null,null,null,null,null,null,null,null,null,null,null,null,null,null,null,null,null,null,null,null,null,null,"مدفوع"]
[null,null,null,null,null,null,null,null,null,null,null,null,null,null,null,null,null,null,null,null,null,null,"مدفوع"]
[null,null,null,null,null,null,null,null,null,null,null,null,null,null,null,null,null,null,null,null,null,null,"مدفوع"]
[null,null,null,null,null,null,null,null,null,null,null,null,null,null,null,null,null,null,null,null,null,null,"مدفوع"]
[null,null,null,null,null,null,null,null,null,null,null,null,null,null,null,null,null,null,null,null,null,null,"مدفوع"]
[null,null,null,null,null,null,null,null,null,null,null,null,null,null,null,null,null,null,null,null,null,null,"مدفوع"]
[null,null,null,null,null,null,null,null,null,null,null,null,null,null,null,null,null,null,null,null,null,null,"مدفوع"]
[null,null,null,null,null,null,null,null,null,null,null,null,null,null,null,null,null,null,null,null,null,null,"مدفوع"]
[null,null,null,null,null,null,null,null,null,null,null,null,null,null,null,null,null,null,null,null,null,null,"مدفوع"]
[null,null,null,null,null,null,null,null,null,null,null,null,null,null,null,null,null,null,null,null,null,null,"مدفوع"]
[null,null,null,null,null,null,null,null,null,null,null,null,null,null,null,null,null,null,null,null,null,null,"مدفوع"]
[null,null,null,null,null,null,null,null,null,null,null,null,null,null,null,null,null,null,null,null,null,null,"مدفوع"]
[null,null,null,null,null,null,null,null,null,null,null,null,null,null,null,null,null,null,null,null,null,null,"مدفوع"]
[null,null,null,null,null,null,null,null,null,null,null,null,null,null,null,null,null,null,null,null,null,null,"مدفوع"]
[null,null,null,null,null,null,null,null,null,null,null,null,null,null,null,null,null,null,null,null,null,null,"مدفوع"]
[null,null,null,null,null,null,null,null,null,null,null,null,null,null,null,null,null,null,null,null,null,null,"مدفوع"]
[null,null,null,null,null,null,null,null,null,null,null,null,null,null,null,null,null,null,null,null,null,null,"مدفوع"]
[null,null,null,null,null,null,null,null,null,null,null,null,null,null,null,null,null,null,null,null,null,null,"مدفوع"]
[null,null,null,null,null,null,null,null,null,null,null,null,null,null,null,null,null,null,null,null,null,null,"مدفوع"]
[null,null,null,null,null,null,null,null,null,null,null,null,null,null,null,null,null,null,null,null,null,null,"مدفوع"]
[null,null,null,null,null,null,null,null,null,null,null,null,null,null,null,null,null,null,null,null,null,null,"مدفوع"]
[null,null,null,null,null,null,null,null,null,null,null,null,null,null,null,null,null,null,null,null,null,null,"مدفوع"]
[null,null,null,null,null,null,null,null,null,null,null,null,null,null,null,null,null,null,null,null,null,null,{"$f":"IF(V3400<=0,\"مدفوع\",\"غير مدفوع\")","v":"مدفوع"}]
[null,null,null,null,null,null,null,null,null,null,null,null,null,null,null,null,null,null,null,null,null,null,"مدفوع"]
[null,null,null,null,null,null,null,null,null,null,null,null,null,null,null,null,null,null,null,null,null,null,"مدفوع"]
[null,null,null,null,null,null,null,null,null,null,null,null,null,null,null,null,null,null,null,null,null,null,"مدفوع"]
[null,null,null,null,null,null,null,null,null,null,null,null,null,null,null,null,null,null,null,null,null,null,"مدفوع"]
[null,null,null,null,null,null,null,null,null,null,null,null,null,null,null,null,null,null,null,null,null,null,"مدفوع"]
[null,null,null,null,null,null,null,null,null,null,null,null,null,null,null,null,null,null,null,null,null,null,"مدفوع"]
[null,null,null,null,null,null,null,null,null,null,null,null,null,null,null,null,null,null,null,null,null,null,"مدفوع"]
[null,null,null,null,null,null,null,null,null,null,null,null,null,null,null,null,null,null,null,null,null,null,"مدفوع"]
[null,null,null,null,null,null,null,null,null,null,null,null,null,null,null,null,null,null,null,null,null,null,"مدفوع"]
[null,null,null,null,null,null,null,null,null,null,null,null,null,null,null,null,null,null,null,null,null,null,"مدفوع"]
[null,null,null,null,null,null,null,null,null,null,null,null,null,null,null,null,null,null,null,null,null,null,"مدفوع"]
[null,null,null,null,null,null,null,null,null,null,null,null,null,null,null,null,null,null,null,null,null,null,"مدفوع"]
[null,null,null,null,null,null,null,null,null,null,null,null,null,null,null,null,null,null,null,null,null,null,"مدفوع"]
[null,null,null,null,null,null,null,null,null,null,null,null,null,null,null,null,null,null,null,null,null,null,"مدفوع"]
[null,null,null,null,null,null,null,null,null,null,null,null,null,null,null,null,null,null,null,null,null,null,"مدفوع"]
[null,null,null,null,null,null,null,null,null,null,null,null,null,null,null,null,null,null,null,null,null,null,"مدفوع"]
[null,null,null,null,null,null,null,null,null,null,null,null,null,null,null,null,null,null,null,null,null,null,"مدفوع"]
[null,null,null,null,null,null,null,null,null,null,null,null,null,null,null,null,null,null,null,null,null,null,"مدفوع"]
[null,null,null,null,null,null,null,null,null,null,null,null,null,null,null,null,null,null,null,null,null,null,"مدفوع"]
[null,null,null,null,null,null,null,null,null,null,null,null,null,null,null,null,null,null,null,null,null,null,"مدفوع"]
[null,null,null,null,null,null,null,null,null,null,null,null,null,null,null,null,null,null,null,null,null,null,"مدفوع"]
[null,null,null,null,null,null,null,null,null,null,null,null,null,null,null,null,null,null,null,null,null,null,"مدفوع"]
[null,null,null,null,null,null,null,null,null,null,null,null,null,null,null,null,null,null,null,null,null,null,"مدفوع"]
[null,null,null,null,null,null,null,null,null,null,null,null,null,null,null,null,null,null,null,null,null,null,"مدفوع"]
[null,null,null,null,null,null,null,null,null,null,null,null,null,null,null,null,null,null,null,null,null,null,"مدفوع"]
[null,null,null,null,null,null,null,null,null,null,null,null,null,null,null,null,null,null,null,null,null,null,"مدفوع"]
[null,null,null,null,null,null,null,null,null,null,null,null,null,null,null,null,null,null,null,null,null,null,"مدفوع"]
[null,null,null,null,null,null,null,null,null,null,null,null,null,null,null,null,null,null,null,null,null,null,"مدفوع"]
[null,null,null,null,null,null,null,null,null,null,null,null,null,null,null,null,null,null,null,null,null,null,"مدفوع"]
[null,null,null,null,null,null,null,null,null,null,null,null,null,null,null,null,null,null,null,null,null,null,"مدفوع"]
[null,null,null,null,null,null,null,null,null,null,null,null,null,null,null,null,null,null,null,null,null,null,"مدفوع"]
[null,null,null,null,null,null,null,null,null,null,null,null,null,null,null,null,null,null,null,null,null,null,"مدفوع"]
[null,null,null,null,null,null,null,null,null,null,null,null,null,null,null,null,null,null,null,null,null,null,"مدفوع"]
[null,null,null,null,null,null,null,null,null,null,null,null,null,null,null,null,null,null,null,null,null,null,"مدفوع"]
[null,null,null,null,null,null,null,null,null,null,null,null,null,null,null,null,null,null,null,null,null,null,"مدفوع"]
[null,null,null,null,null,null,null,null,null,null,null,null,null,null,null,null,null,null,null,null,null,null,"مدفوع"]
[null,null,null,null,null,null,null,null,null,null,null,null,null,null,null,null,null,null,null,null,null,null,"مدفوع"]
[null,null,null,null,null,null,null,null,null,null,null,null,null,null,null,null,null,null,null,null,null,null,"مدفوع"]
[null,null,null,null,null,null,null,null,null,null,null,null,null,null,null,null,null,null,null,null,null,null,"مدفوع"]
[null,null,null,null,null,null,null,null,null,null,null,null,null,null,null,null,null,null,null,null,null,null,"مدفوع"]
[null,null,null,null,null,null,null,null,null,null,null,null,null,null,null,null,null,null,null,null,null,null,"مدفوع"]
[null,null,null,null,null,null,null,null,null,null,null,null,null,null,null,null,null,null,null,null,null,null,"مدفوع"]
[null,null,null,null,null,null,null,null,null,null,null,null,null,null,null,null,null,null,null,null,null,null,"مدفوع"]
[null,null,null,null,null,null,null,null,null,null,null,null,null,null,null,null,null,null,null,null,null,null,"مدفوع"]
[null,null,null,null,null,null,null,null,null,null,null,null,null,null,null,null,null,null,null,null,null,null,"مدفوع"]
[null,null,null,null,null,null,null,null,null,null,null,null,null,null,null,null,null,null,null,null,null,null,"مدفوع"]
[null,null,null,null,null,null,null,null,null,null,null,null,null,null,null,null,null,null,null,null,null,null,"مدفوع"]
[null,null,null,null,null,null,null,null,null,null,null,null,null,null,null,null,null,null,null,null,null,null,"مدفوع"]
[null,null,null,null,null,null,null,null,null,null,null,null,null,null,null,null,null,null,null,null,null,null,"مدفوع"]
[null,null,null,null,null,null,null,null,null,null,null,null,null,null,null,null,null,null,null,null,null,null,"مدفوع"]
[null,null,null,null,null,null,null,null,null,null,null,null,null,null,null,null,null,null,null,null,null,null,"مدفوع"]
[null,null,null,null,null,null,null,null,null,null,null,null,null,null,null,null,null,null,null,null,null,null,"مدفوع"]
[null,null,null,null,null,null,null,null,null,null,null,null,null,null,null,null,null,null,null,null,null,null,"مدفوع"]
[null,null,null,null,null,null,null,null,null,null,null,null,null,null,null,null,null,null,null,null,null,null,"مدفوع"]
[null,null,null,null,null,null,null,null,null,null,null,null,null,null,null,null,null,null,null,null,null,null,"مدفوع"]
[null,null,null,null,null,null,null,null,null,null,null,null,null,null,null,null,null,null,null,null,null,null,"مدفوع"]
[null,null,null,null,null,null,null,null,null,null,null,null,null,null,null,null,null,null,null,null,null,null,"مدفوع"]
[null,null,null,null,null,null,null,null,null,null,null,null,null,null,null,null,null,null,null,null,null,null,"مدفوع"]
[null,null,null,null,null,null,null,null,null,null,null,null,null,null,null,null,null,null,null,null,null,null,"مدفوع"]
[null,null,null,null,null,null,null,null,null,null,null,null,null,null,null,null,null,null,null,null,null,null,"مدفوع"]
[null,null,null,null,null,null,null,null,null,null,null,null,null,null,null,null,null,null,null,null,null,null,"مدفوع"]
[null,null,null,null,null,null,null,null,null,null,null,null,null,null,null,null,null,null,null,null,null,null,"مدفوع"]
[null,null,null,null,null,null,null,null,null,null,null,null,null,null,null,null,null,null,null,null,null,null,"مدفوع"]
[null,null,null,null,null,null,null,null,null,null,null,null,null,null,null,null,null,null,null,null,null,null,{"$f":"IF(V3464<=0,\"مدفوع\",\"غير مدفوع\")","v":"مدفوع"}]
[null,null,null,null,null,null,null,null,null,null,null,null,null,null,null,null,null,null,null,null,null,null,"مدفوع"]
[null,null,null,null,null,null,null,null,null,null,null,null,null,null,null,null,null,null,null,null,null,null,"مدفوع"]
[null,null,null,null,null,null,null,null,null,null,null,null,null,null,null,null,null,null,null,null,null,null,"مدفوع"]
[null,null,null,null,null,null,null,null,null,null,null,null,null,null,null,null,null,null,null,null,null,null,"مدفوع"]
[null,null,null,null,null,null,null,null,null,null,null,null,null,null,null,null,null,null,null,null,null,null,"مدفوع"]
[null,null,null,null,null,null,null,null,null,null,null,null,null,null,null,null,null,null,null,null,null,null,"مدفوع"]
[null,null,null,null,null,null,null,null,null,null,null,null,null,null,null,null,null,null,null,null,null,null,"مدفوع"]
[null,null,null,null,null,null,null,null,null,null,null,null,null,null,null,null,null,null,null,null,null,null,"مدفوع"]
[null,null,null,null,null,null,null,null,null,null,null,null,null,null,null,null,null,null,null,null,null,null,"مدفوع"]
[null,null,null,null,null,null,null,null,null,null,null,null,null,null,null,null,null,null,null,null,null,null,"مدفوع"]
[null,null,null,null,null,null,null,null,null,null,null,null,null,null,null,null,null,null,null,null,null,null,"مدفوع"]
[null,null,null,null,null,null,null,null,null,null,null,null,null,null,null,null,null,null,null,null,null,null,"مدفوع"]
[null,null,null,null,null,null,null,null,null,null,null,null,null,null,null,null,null,null,null,null,null,null,"مدفوع"]
[null,null,null,null,null,null,null,null,null,null,null,null,null,null,null,null,null,null,null,null,null,null,"مدفوع"]
[null,null,null,null,null,null,null,null,null,null,null,null,null,null,null,null,null,null,null,null,null,null,"مدفوع"]
[null,null,null,null,null,null,null,null,null,null,null,null,null,null,null,null,null,null,null,null,null,null,"مدفوع"]
[null,null,null,null,null,null,null,null,null,null,null,null,null,null,null,null,null,null,null,null,null,null,"مدفوع"]
[null,null,null,null,null,null,null,null,null,null,null,null,null,null,null,null,null,null,null,null,null,null,"مدفوع"]
[null,null,null,null,null,null,null,null,null,null,null,null,null,null,null,null,null,null,null,null,null,null,"مدفوع"]
[null,null,null,null,null,null,null,null,null,null,null,null,null,null,null,null,null,null,null,null,null,null,"مدفوع"]
[null,null,null,null,null,null,null,null,null,null,null,null,null,null,null,null,null,null,null,null,null,null,"مدفوع"]
[null,null,null,null,null,null,null,null,null,null,null,null,null,null,null,null,null,null,null,null,null,null,"مدفوع"]
[null,null,null,null,null,null,null,null,null,null,null,null,null,null,null,null,null,null,null,null,null,null,"مدفوع"]
[null,null,null,null,null,null,null,null,null,null,null,null,null,null,null,null,null,null,null,null,null,null,"مدفوع"]
[null,null,null,null,null,null,null,null,null,null,null,null,null,null,null,null,null,null,null,null,null,null,"مدفوع"]
[null,null,null,null,null,null,null,null,null,null,null,null,null,null,null,null,null,null,null,null,null,null,"مدفوع"]
[null,null,null,null,null,null,null,null,null,null,null,null,null,null,null,null,null,null,null,null,null,null,"مدفوع"]
[null,null,null,null,null,null,null,null,null,null,null,null,null,null,null,null,null,null,null,null,null,null,"مدفوع"]
[null,null,null,null,null,null,null,null,null,null,null,null,null,null,null,null,null,null,null,null,null,null,"مدفوع"]
[null,null,null,null,null,null,null,null,null,null,null,null,null,null,null,null,null,null,null,null,null,null,"مدفوع"]
[null,null,null,null,null,null,null,null,null,null,null,null,null,null,null,null,null,null,null,null,null,null,"مدفوع"]
[null,null,null,null,null,null,null,null,null,null,null,null,null,null,null,null,null,null,null,null,null,null,"مدفوع"]
[null,null,null,null,null,null,null,null,null,null,null,null,null,null,null,null,null,null,null,null,null,null,"مدفوع"]
[null,null,null,null,null,null,null,null,null,null,null,null,null,null,null,null,null,null,null,null,null,null,"مدفوع"]
[null,null,null,null,null,null,null,null,null,null,null,null,null,null,null,null,null,null,null,null,null,null,"مدفوع"]
[null,null,null,null,null,null,null,null,null,null,null,null,null,null,null,null,null,null,null,null,null,null,"مدفوع"]
[null,null,null,null,null,null,null,null,null,null,null,null,null,null,null,null,null,null,null,null,null,null,"مدفوع"]
[null,null,null,null,null,null,null,null,null,null,null,null,null,null,null,null,null,null,null,null,null,null,"مدفوع"]
[null,null,null,null,null,null,null,null,null,null,null,null,null,null,null,null,null,null,null,null,null,null,"مدفوع"]
[null,null,null,null,null,null,null,null,null,null,null,null,null,null,null,null,null,null,null,null,null,null,"مدفوع"]
[null,null,null,null,null,null,null,null,null,null,null,null,null,null,null,null,null,null,null,null,null,null,"مدفوع"]
[null,null,null,null,null,null,null,null,null,null,null,null,null,null,null,null,null,null,null,null,null,null,"مدفوع"]
[null,null,null,null,null,null,null,null,null,null,null,null,null,null,null,null,null,null,null,null,null,null,"مدفوع"]
[null,null,null,null,null,null,null,null,null,null,null,null,null,null,null,null,null,null,null,null,null,null,"مدفوع"]
[null,null,null,null,null,null,null,null,null,null,null,null,null,null,null,null,null,null,null,null,null,null,"مدفوع"]
[null,null,null,null,null,null,null,null,null,null,null,null,null,null,null,null,null,null,null,null,null,null,"مدفوع"]
[null,null,null,null,null,null,null,null,null,null,null,null,null,null,null,null,null,null,null,null,null,null,"مدفوع"]
[null,null,null,null,null,null,null,null,null,null,null,null,null,null,null,null,null,null,null,null,null,null,"مدفوع"]
[null,null,null,null,null,null,null,null,null,null,null,null,null,null,null,null,null,null,null,null,null,null,"مدفوع"]
[null,null,null,null,null,null,null,null,null,null,null,null,null,null,null,null,null,null,null,null,null,null,"مدفوع"]
[null,null,null,null,null,null,null,null,null,null,null,null,null,null,null,null,null,null,null,null,null,null,"مدفوع"]
[null,null,null,null,null,null,null,null,null,null,null,null,null,null,null,null,null,null,null,null,null,null,"مدفوع"]
[null,null,null,null,null,null,null,null,null,null,null,null,null,null,null,null,null,null,null,null,null,null,"مدفوع"]
[null,null,null,null,null,null,null,null,null,null,null,null,null,null,null,null,null,null,null,null,null,null,"مدفوع"]
[null,null,null,null,null,null,null,null,null,null,null,null,null,null,null,null,null,null,null,null,null,null,"مدفوع"]
[null,null,null,null,null,null,null,null,null,null,null,null,null,null,null,null,null,null,null,null,null,null,"مدفوع"]
[null,null,null,null,null,null,null,null,null,null,null,null,null,null,null,null,null,null,null,null,null,null,"مدفوع"]
[null,null,null,null,null,null,null,null,null,null,null,null,null,null,null,null,null,null,null,null,null,null,"مدفوع"]
[null,null,null,null,null,null,null,null,null,null,null,null,null,null,null,null,null,null,null,null,null,null,"مدفوع"]
[null,null,null,null,null,null,null,null,null,null,null,null,null,null,null,null,null,null,null,null,null,null,"مدفوع"]
[null,null,null,null,null,null,null,null,null,null,null,null,null,null,null,null,null,null,null,null,null,null,"مدفوع"]
[null,null,null,null,null,null,null,null,null,null,null,null,null,null,null,null,null,null,null,null,null,null,"مدفوع"]
[null,null,null,null,null,null,null,null,null,null,null,null,null,null,null,null,null,null,null,null,null,null,"مدفوع"]
[null,null,null,null,null,null,null,null,null,null,null,null,null,null,null,null,null,null,null,null,null,null,{"$f":"IF(V3528<=0,\"مدفوع\",\"غير مدفوع\")","v":"مدفوع"}]
[null,null,null,null,null,null,null,null,null,null,null,null,null,null,null,null,null,null,null,null,null,null,"مدفوع"]
[null,null,null,null,null,null,null,null,null,null,null,null,null,null,null,null,null,null,null,null,null,null,"مدفوع"]
[null,null,null,null,null,null,null,null,null,null,null,null,null,null,null,null,null,null,null,null,null,null,"مدفوع"]
[null,null,null,null,null,null,null,null,null,null,null,null,null,null,null,null,null,null,null,null,null,null,"مدفوع"]
[null,null,null,null,null,null,null,null,null,null,null,null,null,null,null,null,null,null,null,null,null,null,"مدفوع"]
[null,null,null,null,null,null,null,null,null,null,null,null,null,null,null,null,null,null,null,null,null,null,"مدفوع"]
[null,null,null,null,null,null,null,null,null,null,null,null,null,null,null,null,null,null,null,null,null,null,"مدفوع"]
[null,null,null,null,null,null,null,null,null,null,null,null,null,null,null,null,null,null,null,null,null,null,"مدفوع"]
[null,null,null,null,null,null,null,null,null,null,null,null,null,null,null,null,null,null,null,null,null,null,"مدفوع"]
[null,null,null,null,null,null,null,null,null,null,null,null,null,null,null,null,null,null,null,null,null,null,"مدفوع"]
[null,null,null,null,null,null,null,null,null,null,null,null,null,null,null,null,null,null,null,null,null,null,"مدفوع"]
[null,null,null,null,null,null,null,null,null,null,null,null,null,null,null,null,null,null,null,null,null,null,"مدفوع"]
[null,null,null,null,null,null,null,null,null,null,null,null,null,null,null,null,null,null,null,null,null,null,"مدفوع"]
[null,null,null,null,null,null,null,null,null,null,null,null,null,null,null,null,null,null,null,null,null,null,"مدفوع"]
[null,null,null,null,null,null,null,null,null,null,null,null,null,null,null,null,null,null,null,null,null,null,"مدفوع"]
[null,null,null,null,null,null,null,null,null,null,null,null,null,null,null,null,null,null,null,null,null,null,"مدفوع"]
[null,null,null,null,null,null,null,null,null,null,null,null,null,null,null,null,null,null,null,null,null,null,"مدفوع"]
[null,null,null,null,null,null,null,null,null,null,null,null,null,null,null,null,null,null,null,null,null,null,"مدفوع"]
[null,null,null,null,null,null,null,null,null,null,null,null,null,null,null,null,null,null,null,null,null,null,"مدفوع"]
[null,null,null,null,null,null,null,null,null,null,null,null,null,null,null,null,null,null,null,null,null,null,"مدفوع"]
[null,null,null,null,null,null,null,null,null,null,null,null,null,null,null,null,null,null,null,null,null,null,"مدفوع"]
[null,null,null,null,null,null,null,null,null,null,null,null,null,null,null,null,null,null,null,null,null,null,"مدفوع"]
[null,null,null,null,null,null,null,null,null,null,null,null,null,null,null,null,null,null,null,null,null,null,"مدفوع"]
[null,null,null,null,null,null,null,null,null,null,null,null,null,null,null,null,null,null,null,null,null,null,"مدفوع"]
[null,null,null,null,null,null,null,null,null,null,null,null,null,null,null,null,null,null,null,null,null,null,"مدفوع"]
[null,null,null,null,null,null,null,null,null,null,null,null,null,null,null,null,null,null,null,null,null,null,"مدفوع"]
[null,null,null,null,null,null,null,null,null,null,null,null,null,null,null,null,null,null,null,null,null,null,"مدفوع"]
[null,null,null,null,null,null,null,null,null,null,null,null,null,null,null,null,null,null,null,null,null,null,"مدفوع"]
[null,null,null,null,null,null,null,null,null,null,null,null,null,null,null,null,null,null,null,null,null,null,"مدفوع"]
[null,null,null,null,null,null,null,null,null,null,null,null,null,null,null,null,null,null,null,null,null,null,"مدفوع"]
[null,null,null,null,null,null,null,null,null,null,null,null,null,null,null,null,null,null,null,null,null,null,"مدفوع"]
[null,null,null,null,null,null,null,null,null,null,null,null,null,null,null,null,null,null,null,null,null,null,"مدفوع"]
[null,null,null,null,null,null,null,null,null,null,null,null,null,null,null,null,null,null,null,null,null,null,"مدفوع"]
[null,null,null,null,null,null,null,null,null,null,null,null,null,null,null,null,null,null,null,null,null,null,"مدفوع"]
[null,null,null,null,null,null,null,null,null,null,null,null,null,null,null,null,null,null,null,null,null,null,"مدفوع"]
[null,null,null,null,null,null,null,null,null,null,null,null,null,null,null,null,null,null,null,null,null,null,"مدفوع"]
[null,null,null,null,null,null,null,null,null,null,null,null,null,null,null,null,null,null,null,null,null,null,"مدفوع"]
[null,null,null,null,null,null,null,null,null,null,null,null,null,null,null,null,null,null,null,null,null,null,"مدفوع"]
[null,null,null,null,null,null,null,null,null,null,null,null,null,null,null,null,null,null,null,null,null,null,"مدفوع"]
[null,null,null,null,null,null,null,null,null,null,null,null,null,null,null,null,null,null,null,null,null,null,"مدفوع"]
[null,null,null,null,null,null,null,null,null,null,null,null,null,null,null,null,null,null,null,null,null,null,"مدفوع"]
[null,null,null,null,null,null,null,null,null,null,null,null,null,null,null,null,null,null,null,null,null,null,"مدفوع"]
[null,null,null,null,null,null,null,null,null,null,null,null,null,null,null,null,null,null,null,null,null,null,"مدفوع"]
[null,null,null,null,null,null,null,null,null,null,null,null,null,null,null,null,null,null,null,null,null,null,"مدفوع"]
[null,null,null,null,null,null,null,null,null,null,null,null,null,null,null,null,null,null,null,null,null,null,"مدفوع"]
[null,null,null,null,null,null,null,null,null,null,null,null,null,null,null,null,null,null,null,null,null,null,"مدفوع"]
[null,null,null,null,null,null,null,null,null,null,null,null,null,null,null,null,null,null,null,null,null,null,"مدفوع"]
[null,null,null,null,null,null,null,null,null,null,null,null,null,null,null,null,null,null,null,null,null,null,"مدفوع"]
[null,null,null,null,null,null,null,null,null,null,null,null,null,null,null,null,null,null,null,null,null,null,"مدفوع"]
[null,null,null,null,null,null,null,null,null,null,null,null,null,null,null,null,null,null,null,null,null,null,"مدفوع"]
[null,null,null,null,null,null,null,null,null,null,null,null,null,null,null,null,null,null,null,null,null,null,"مدفوع"]
[null,null,null,null,null,null,null,null,null,null,null,null,null,null,null,null,null,null,null,null,null,null,"مدفوع"]
[null,null,null,null,null,null,null,null,null,null,null,null,null,null,null,null,null,null,null,null,null,null,"مدفوع"]
[null,null,null,null,null,null,null,null,null,null,null,null,null,null,null,null,null,null,null,null,null,null,"مدفوع"]
[null,null,null,null,null,null,null,null,null,null,null,null,null,null,null,null,null,null,null,null,null,null,"مدفوع"]
[null,null,null,null,null,null,null,null,null,null,null,null,null,null,null,null,null,null,null,null,null,null,"مدفوع"]
[null,null,null,null,null,null,null,null,null,null,null,null,null,null,null,null,null,null,null,null,null,null,"مدفوع"]
[null,null,null,null,null,null,null,null,null,null,null,null,null,null,null,null,null,null,null,null,null,null,"مدفوع"]
[null,null,null,null,null,null,null,null,null,null,null,null,null,null,null,null,null,null,null,null,null,null,"مدفوع"]
[null,null,null,null,null,null,null,null,null,null,null,null,null,null,null,null,null,null,null,null,null,null,"مدفوع"]
[null,null,null,null,null,null,null,null,null,null,null,null,null,null,null,null,null,null,null,null,null,null,"مدفوع"]
[null,null,null,null,null,null,null,null,null,null,null,null,null,null,null,null,null,null,null,null,null,null,"مدفوع"]
[null,null,null,null,null,null,null,null,null,null,null,null,null,null,null,null,null,null,null,null,null,null,"مدفوع"]
[null,null,null,null,null,null,null,null,null,null,null,null,null,null,null,null,null,null,null,null,null,null,{"$f":"IF(V3592<=0,\"مدفوع\",\"غير مدفوع\")","v":"مدفوع"}]
[null,null,null,null,null,null,null,null,null,null,null,null,null,null,null,null,null,null,null,null,null,null,"مدفوع"]
[null,null,null,null,null,null,null,null,null,null,null,null,null,null,null,null,null,null,null,null,null,null,"مدفوع"]
[null,null,null,null,null,null,null,null,null,null,null,null,null,null,null,null,null,null,null,null,null,null,"مدفوع"]
[null,null,null,null,null,null,null,null,null,null,null,null,null,null,null,null,null,null,null,null,null,null,"مدفوع"]
[null,null,null,null,null,null,null,null,null,null,null,null,null,null,null,null,null,null,null,null,null,null,"مدفوع"]
[null,null,null,null,null,null,null,null,null,null,null,null,null,null,null,null,null,null,null,null,null,null,"مدفوع"]
[null,null,null,null,null,null,null,null,null,null,null,null,null,null,null,null,null,null,null,null,null,null,"مدفوع"]
[null,null,null,null,null,null,null,null,null,null,null,null,null,null,null,null,null,null,null,null,null,null,"مدفوع"]
[null,null,null,null,null,null,null,null,null,null,null,null,null,null,null,null,null,null,null,null,null,null,"مدفوع"]
[null,null,null,null,null,null,null,null,null,null,null,null,null,null,null,null,null,null,null,null,null,null,"مدفوع"]
[null,null,null,null,null,null,null,null,null,null,null,null,null,null,null,null,null,null,null,null,null,null,"مدفوع"]
[null,null,null,null,null,null,null,null,null,null,null,null,null,null,null,null,null,null,null,null,null,null,"مدفوع"]
[null,null,null,null,null,null,null,null,null,null,null,null,null,null,null,null,null,null,null,null,null,null,"مدفوع"]
[null,null,null,null,null,null,null,null,null,null,null,null,null,null,null,null,null,null,null,null,null,null,"مدفوع"]
[null,null,null,null,null,null,null,null,null,null,null,null,null,null,null,null,null,null,null,null,null,null,"مدفوع"]
[null,null,null,null,null,null,null,null,null,null,null,null,null,null,null,null,null,null,null,null,null,null,"مدفوع"]
[null,null,null,null,null,null,null,null,null,null,null,null,null,null,null,null,null,null,null,null,null,null,"مدفوع"]
[null,null,null,null,null,null,null,null,null,null,null,null,null,null,null,null,null,null,null,null,null,null,"مدفوع"]
[null,null,null,null,null,null,null,null,null,null,null,null,null,null,null,null,null,null,null,null,null,null,"مدفوع"]
[null,null,null,null,null,null,null,null,null,null,null,null,null,null,null,null,null,null,null,null,null,null,"مدفوع"]
[null,null,null,null,null,null,null,null,null,null,null,null,null,null,null,null,null,null,null,null,null,null,"مدفوع"]
[null,null,null,null,null,null,null,null,null,null,null,null,null,null,null,null,null,null,null,null,null,null,"مدفوع"]
[null,null,null,null,null,null,null,null,null,null,null,null,null,null,null,null,null,null,null,null,null,null,"مدفوع"]
[null,null,null,null,null,null,null,null,null,null,null,null,null,null,null,null,null,null,null,null,null,null,"مدفوع"]
[null,null,null,null,null,null,null,null,null,null,null,null,null,null,null,null,null,null,null,null,null,null,"مدفوع"]
[null,null,null,null,null,null,null,null,null,null,null,null,null,null,null,null,null,null,null,null,null,null,"مدفوع"]
[null,null,null,null,null,null,null,null,null,null,null,null,null,null,null,null,null,null,null,null,null,null,"مدفوع"]
[null,null,null,null,null,null,null,null,null,null,null,null,null,null,null,null,null,null,null,null,null,null,"مدفوع"]
[null,null,null,null,null,null,null,null,null,null,null,null,null,null,null,null,null,null,null,null,null,null,"مدفوع"]
[null,null,null,null,null,null,null,null,null,null,null,null,null,null,null,null,null,null,null,null,null,null,"مدفوع"]
[null,null,null,null,null,null,null,null,null,null,null,null,null,null,null,null,null,null,null,null,null,null,"مدفوع"]
[null,null,null,null,null,null,null,null,null,null,null,null,null,null,null,null,null,null,null,null,null,null,"مدفوع"]
[null,null,null,null,null,null,null,null,null,null,null,null,null,null,null,null,null,null,null,null,null,null,"مدفوع"]
[null,null,null,null,null,null,null,null,null,null,null,null,null,null,null,null,null,null,null,null,null,null,"مدفوع"]
[null,null,null,null,null,null,null,null,null,null,null,null,null,null,null,null,null,null,null,null,null,null,"مدفوع"]
[null,null,null,null,null,null,null,null,null,null,null,null,null,null,null,null,null,null,null,null,null,null,"مدفوع"]
[null,null,null,null,null,null,null,null,null,null,null,null,null,null,null,null,null,null,null,null,null,null,"مدفوع"]
[null,null,null,null,null,null,null,null,null,null,null,null,null,null,null,null,null,null,null,null,null,null,"مدفوع"]
[null,null,null,null,null,null,null,null,null,null,null,null,null,null,null,null,null,null,null,null,null,null,"مدفوع"]
[null,null,null,null,null,null,null,null,null,null,null,null,null,null,null,null,null,null,null,null,null,null,"مدفوع"]
[null,null,null,null,null,null,null,null,null,null,null,null,null,null,null,null,null,null,null,null,null,null,"مدفوع"]
[null,null,null,null,null,null,null,null,null,null,null,null,null,null,null,null,null,null,null,null,null,null,"مدفوع"]
[null,null,null,null,null,null,null,null,null,null,null,null,null,null,null,null,null,null,null,null,null,null,"مدفوع"]
[null,null,null,null,null,null,null,null,null,null,null,null,null,null,null,null,null,null,null,null,null,null,"مدفوع"]
[null,null,null,null,null,null,null,null,null,null,null,null,null,null,null,null,null,null,null,null,null,null,"مدفوع"]
[null,null,null,null,null,null,null,null,null,null,null,null,null,null,null,null,null,null,null,null,null,null,"مدفوع"]
[null,null,null,null,null,null,null,null,null,null,null,null,null,null,null,null,null,null,null,null,null,null,"مدفوع"]
[null,null,null,null,null,null,null,null,null,null,null,null,null,null,null,null,null,null,null,null,null,null,"مدفوع"]
[null,null,null,null,null,null,null,null,null,null,null,null,null,null,null,null,null,null,null,null,null,null,"مدفوع"]
[null,null,null,null,null,null,null,null,null,null,null,null,null,null,null,null,null,null,null,null,null,null,"مدفوع"]
[null,null,null,null,null,null,null,null,null,null,null,null,null,null,null,null,null,null,null,null,null,null,"مدفوع"]
[null,null,null,null,null,null,null,null,null,null,null,null,null,null,null,null,null,null,null,null,null,null,"مدفوع"]
[null,null,null,null,null,null,null,null,null,null,null,null,null,null,null,null,null,null,null,null,null,null,"مدفوع"]
[null,null,null,null,null,null,null,null,null,null,null,null,null,null,null,null,null,null,null,null,null,null,"مدفوع"]
[null,null,null,null,null,null,null,null,null,null,null,null,null,null,null,null,null,null,null,null,null,null,"مدفوع"]
[null,null,null,null,null,null,null,null,null,null,null,null,null,null,null,null,null,null,null,null,null,null,"مدفوع"]
[null,null,null,null,null,null,null,null,null,null,null,null,null,null,null,null,null,null,null,null,null,null,"مدفوع"]
[null,null,null,null,null,null,null,null,null,null,null,null,null,null,null,null,null,null,null,null,null,null,"مدفوع"]
[null,null,null,null,null,null,null,null,null,null,null,null,null,null,null,null,null,null,null,null,null,null,"مدفوع"]
[null,null,null,null,null,null,null,null,null,null,null,null,null,null,null,null,null,null,null,null,null,null,"مدفوع"]
[null,null,null,null,null,null,null,null,null,null,null,null,null,null,null,null,null,null,null,null,null,null,"مدفوع"]
[null,null,null,null,null,null,null,null,null,null,null,null,null,null,null,null,null,null,null,null,null,null,"مدفوع"]
[null,null,null,null,null,null,null,null,null,null,null,null,null,null,null,null,null,null,null,null,null,null,"مدفوع"]
[null,null,null,null,null,null,null,null,null,null,null,null,null,null,null,null,null,null,null,null,null,null,{"$f":"IF(V3656<=0,\"مدفوع\",\"غير مدفوع\")","v":"مدفوع"}]
[null,null,null,null,null,null,null,null,null,null,null,null,null,null,null,null,null,null,null,null,null,null,"مدفوع"]
[null,null,null,null,null,null,null,null,null,null,null,null,null,null,null,null,null,null,null,null,null,null,"مدفوع"]
[null,null,null,null,null,null,null,null,null,null,null,null,null,null,null,null,null,null,null,null,null,null,"مدفوع"]
[null,null,null,null,null,null,null,null,null,null,null,null,null,null,null,null,null,null,null,null,null,null,"مدفوع"]
[null,null,null,null,null,null,null,null,null,null,null,null,null,null,null,null,null,null,null,null,null,null,"مدفوع"]
[null,null,null,null,null,null,null,null,null,null,null,null,null,null,null,null,null,null,null,null,null,null,"مدفوع"]
[null,null,null,null,null,null,null,null,null,null,null,null,null,null,null,null,null,null,null,null,null,null,"مدفوع"]
[null,null,null,null,null,null,null,null,null,null,null,null,null,null,null,null,null,null,null,null,null,null,"مدفوع"]
[null,null,null,null,null,null,null,null,null,null,null,null,null,null,null,null,null,null,null,null,null,null,"مدفوع"]
[null,null,null,null,null,null,null,null,null,null,null,null,null,null,null,null,null,null,null,null,null,null,"مدفوع"]
[null,null,null,null,null,null,null,null,null,null,null,null,null,null,null,null,null,null,null,null,null,null,"مدفوع"]
[null,null,null,null,null,null,null,null,null,null,null,null,null,null,null,null,null,null,null,null,null,null,"مدفوع"]
[null,null,null,null,null,null,null,null,null,null,null,null,null,null,null,null,null,null,null,null,null,null,"مدفوع"]
[null,null,null,null,null,null,null,null,null,null,null,null,null,null,null,null,null,null,null,null,null,null,"مدفوع"]
[null,null,null,null,null,null,null,null,null,null,null,null,null,null,null,null,null,null,null,null,null,null,"مدفوع"]
[null,null,null,null,null,null,null,null,null,null,null,null,null,null,null,null,null,null,null,null,null,null,"مدفوع"]
[null,null,null,null,null,null,null,null,null,null,null,null,null,null,null,null,null,null,null,null,null,null,"مدفوع"]
[null,null,null,null,null,null,null,null,null,null,null,null,null,null,null,null,null,null,null,null,null,null,"مدفوع"]
[null,null,null,null,null,null,null,null,null,null,null,null,null,null,null,null,null,null,null,null,null,null,"مدفوع"]
[null,null,null,null,null,null,null,null,null,null,null,null,null,null,null,null,null,null,null,null,null,null,"مدفوع"]
[null,null,null,null,null,null,null,null,null,null,null,null,null,null,null,null,null,null,null,null,null,null,"مدفوع"]
[null,null,null,null,null,null,null,null,null,null,null,null,null,null,null,null,null,null,null,null,null,null,"مدفوع"]
[null,null,null,null,null,null,null,null,null,null,null,null,null,null,null,null,null,null,null,null,null,null,"مدفوع"]
[null,null,null,null,null,null,null,null,null,null,null,null,null,null,null,null,null,null,null,null,null,null,"مدفوع"]
[null,null,null,null,null,null,null,null,null,null,null,null,null,null,null,null,null,null,null,null,null,null,"مدفوع"]
[null,null,null,null,null,null,null,null,null,null,null,null,null,null,null,null,null,null,null,null,null,null,"مدفوع"]
[null,null,null,null,null,null,null,null,null,null,null,null,null,null,null,null,null,null,null,null,null,null,"مدفوع"]
[null,null,null,null,null,null,null,null,null,null,null,null,null,null,null,null,null,null,null,null,null,null,"مدفوع"]
[null,null,null,null,null,null,null,null,null,null,null,null,null,null,null,null,null,null,null,null,null,null,"مدفوع"]
[null,null,null,null,null,null,null,null,null,null,null,null,null,null,null,null,null,null,null,null,null,null,"مدفوع"]
[null,null,null,null,null,null,null,null,null,null,null,null,null,null,null,null,null,null,null,null,null,null,"مدفوع"]
[null,null,null,null,null,null,null,null,null,null,null,null,null,null,null,null,null,null,null,null,null,null,"مدفوع"]
[null,null,null,null,null,null,null,null,null,null,null,null,null,null,null,null,null,null,null,null,null,null,"مدفوع"]
[null,null,null,null,null,null,null,null,null,null,null,null,null,null,null,null,null,null,null,null,null,null,"مدفوع"]
[null,null,null,null,null,null,null,null,null,null,null,null,null,null,null,null,null,null,null,null,null,null,"مدفوع"]
[null,null,null,null,null,null,null,null,null,null,null,null,null,null,null,null,null,null,null,null,null,null,"مدفوع"]
[null,null,null,null,null,null,null,null,null,null,null,null,null,null,null,null,null,null,null,null,null,null,"مدفوع"]
[null,null,null,null,null,null,null,null,null,null,null,null,null,null,null,null,null,null,null,null,null,null,"مدفوع"]
[null,null,null,null,null,null,null,null,null,null,null,null,null,null,null,null,null,null,null,null,null,null,"مدفوع"]
[null,null,null,null,null,null,null,null,null,null,null,null,null,null,null,null,null,null,null,null,null,null,"مدفوع"]
[null,null,null,null,null,null,null,null,null,null,null,null,null,null,null,null,null,null,null,null,null,null,"مدفوع"]
[null,null,null,null,null,null,null,null,null,null,null,null,null,null,null,null,null,null,null,null,null,null,"مدفوع"]
[null,null,null,null,null,null,null,null,null,null,null,null,null,null,null,null,null,null,null,null,null,null,"مدفوع"]
[null,null,null,null,null,null,null,null,null,null,null,null,null,null,null,null,null,null,null,null,null,null,"مدفوع"]
[null,null,null,null,null,null,null,null,null,null,null,null,null,null,null,null,null,null,null,null,null,null,"مدفوع"]
[null,null,null,null,null,null,null,null,null,null,null,null,null,null,null,null,null,null,null,null,null,null,"مدفوع"]
[null,null,null,null,null,null,null,null,null,null,null,null,null,null,null,null,null,null,null,null,null,null,"مدفوع"]
[null,null,null,null,null,null,null,null,null,null,null,null,null,null,null,null,null,null,null,null,null,null,"مدفوع"]
[null,null,null,null,null,null,null,null,null,null,null,null,null,null,null,null,null,null,null,null,null,null,"مدفوع"]
[null,null,null,null,null,null,null,null,null,null,null,null,null,null,null,null,null,null,null,null,null,null,"مدفوع"]
[null,null,null,null,null,null,null,null,null,null,null,null,null,null,null,null,null,null,null,null,null,null,"مدفوع"]
[null,null,null,null,null,null,null,null,null,null,null,null,null,null,null,null,null,null,null,null,null,null,"مدفوع"]
[null,null,null,null,null,null,null,null,null,null,null,null,null,null,null,null,null,null,null,null,null,null,"مدفوع"]
[null,null,null,null,null,null,null,null,null,null,null,null,null,null,null,null,null,null,null,null,null,null,"مدفوع"]
[null,null,null,null,null,null,null,null,null,null,null,null,null,null,null,null,null,null,null,null,null,null,"مدفوع"]
[null,null,null,null,null,null,null,null,null,null,null,null,null,null,null,null,null,null,null,null,null,null,"مدفوع"]
[null,null,null,null,null,null,null,null,null,null,null,null,null,null,null,null,null,null,null,null,null,null,"مدفوع"]
[null,null,null,null,null,null,null,null,null,null,null,null,null,null,null,null,null,null,null,null,null,null,"مدفوع"]
[null,null,null,null,null,null,null,null,null,null,null,null,null,null,null,null,null,null,null,null,null,null,"مدفوع"]
[null,null,null,null,null,null,null,null,null,null,null,null,null,null,null,null,null,null,null,null,null,null,"مدفوع"]
[null,null,null,null,null,null,null,null,null,null,null,null,null,null,null,null,null,null,null,null,null,null,"مدفوع"]
[null,null,null,null,null,null,null,null,null,null,null,null,null,null,null,null,null,null,null,null,null,null,"مدفوع"]
[null,null,null,null,null,null,null,null,null,null,null,null,null,null,null,null,null,null,null,null,null,null,"مدفوع"]
[null,null,null,null,null,null,null,null,null,null,null,null,null,null,null,null,null,null,null,null,null,null,{"$f":"IF(V3720<=0,\"مدفوع\",\"غير مدفوع\")","v":"مدفوع"}]
[null,null,null,null,null,null,null,null,null,null,null,null,null,null,null,null,null,null,null,null,null,null,"مدفوع"]
[null,null,null,null,null,null,null,null,null,null,null,null,null,null,null,null,null,null,null,null,null,null,"مدفوع"]
[null,null,null,null,null,null,null,null,null,null,null,null,null,null,null,null,null,null,null,null,null,null,"مدفوع"]
[null,null,null,null,null,null,null,null,null,null,null,null,null,null,null,null,null,null,null,null,null,null,"مدفوع"]
[null,null,null,null,null,null,null,null,null,null,null,null,null,null,null,null,null,null,null,null,null,null,"مدفوع"]
[null,null,null,null,null,null,null,null,null,null,null,null,null,null,null,null,null,null,null,null,null,null,"مدفوع"]
[null,null,null,null,null,null,null,null,null,null,null,null,null,null,null,null,null,null,null,null,null,null,"مدفوع"]
[null,null,null,null,null,null,null,null,null,null,null,null,null,null,null,null,null,null,null,null,null,null,"مدفوع"]
[null,null,null,null,null,null,null,null,null,null,null,null,null,null,null,null,null,null,null,null,null,null,"مدفوع"]
[null,null,null,null,null,null,null,null,null,null,null,null,null,null,null,null,null,null,null,null,null,null,"مدفوع"]
[null,null,null,null,null,null,null,null,null,null,null,null,null,null,null,null,null,null,null,null,null,null,"مدفوع"]
[null,null,null,null,null,null,null,null,null,null,null,null,null,null,null,null,null,null,null,null,null,null,"مدفوع"]
[null,null,null,null,null,null,null,null,null,null,null,null,null,null,null,null,null,null,null,null,null,null,"مدفوع"]
[null,null,null,null,null,null,null,null,null,null,null,null,null,null,null,null,null,null,null,null,null,null,"مدفوع"]
[null,null,null,null,null,null,null,null,null,null,null,null,null,null,null,null,null,null,null,null,null,null,"مدفوع"]
[null,null,null,null,null,null,null,null,null,null,null,null,null,null,null,null,null,null,null,null,null,null,"مدفوع"]
[null,null,null,null,null,null,null,null,null,null,null,null,null,null,null,null,null,null,null,null,null,null,"مدفوع"]
[null,null,null,null,null,null,null,null,null,null,null,null,null,null,null,null,null,null,null,null,null,null,"مدفوع"]
[null,null,null,null,null,null,null,null,null,null,null,null,null,null,null,null,null,null,null,null,null,null,"مدفوع"]
[null,null,null,null,null,null,null,null,null,null,null,null,null,null,null,null,null,null,null,null,null,null,"مدفوع"]
[null,null,null,null,null,null,null,null,null,null,null,null,null,null,null,null,null,null,null,null,null,null,"مدفوع"]
[null,null,null,null,null,null,null,null,null,null,null,null,null,null,null,null,null,null,null,null,null,null,"مدفوع"]
[null,null,null,null,null,null,null,null,null,null,null,null,null,null,null,null,null,null,null,null,null,null,"مدفوع"]
[null,null,null,null,null,null,null,null,null,null,null,null,null,null,null,null,null,null,null,null,null,null,"مدفوع"]
[null,null,null,null,null,null,null,null,null,null,null,null,null,null,null,null,null,null,null,null,null,null,"مدفوع"]
[null,null,null,null,null,null,null,null,null,null,null,null,null,null,null,null,null,null,null,null,null,null,"مدفوع"]
[null,null,null,null,null,null,null,null,null,null,null,null,null,null,null,null,null,null,null,null,null,null,"مدفوع"]
[null,null,null,null,null,null,null,null,null,null,null,null,null,null,null,null,null,null,null,null,null,null,"مدفوع"]
[null,null,null,null,null,null,null,null,null,null,null,null,null,null,null,null,null,null,null,null,null,null,"مدفوع"]
[null,null,null,null,null,null,null,null,null,null,null,null,null,null,null,null,null,null,null,null,null,null,"مدفوع"]
[null,null,null,null,null,null,null,null,null,null,null,null,null,null,null,null,null,null,null,null,null,null,"مدفوع"]
[null,null,null,null,null,null,null,null,null,null,null,null,null,null,null,null,null,null,null,null,null,null,"مدفوع"]
[null,null,null,null,null,null,null,null,null,null,null,null,null,null,null,null,null,null,null,null,null,null,"مدفوع"]
[null,null,null,null,null,null,null,null,null,null,null,null,null,null,null,null,null,null,null,null,null,null,"مدفوع"]
[null,null,null,null,null,null,null,null,null,null,null,null,null,null,null,null,null,null,null,null,null,null,"مدفوع"]
[null,null,null,null,null,null,null,null,null,null,null,null,null,null,null,null,null,null,null,null,null,null,"مدفوع"]
[null,null,null,null,null,null,null,null,null,null,null,null,null,null,null,null,null,null,null,null,null,null,"مدفوع"]
[null,null,null,null,null,null,null,null,null,null,null,null,null,null,null,null,null,null,null,null,null,null,"مدفوع"]
[null,null,null,null,null,null,null,null,null,null,null,null,null,null,null,null,null,null,null,null,null,null,"مدفوع"]
[null,null,null,null,null,null,null,null,null,null,null,null,null,null,null,null,null,null,null,null,null,null,"مدفوع"]
[null,null,null,null,null,null,null,null,null,null,null,null,null,null,null,null,null,null,null,null,null,null,"مدفوع"]
[null,null,null,null,null,null,null,null,null,null,null,null,null,null,null,null,null,null,null,null,null,null,"مدفوع"]
[null,null,null,null,null,null,null,null,null,null,null,null,null,null,null,null,null,null,null,null,null,null,"مدفوع"]
[null,null,null,null,null,null,null,null,null,null,null,null,null,null,null,null,null,null,null,null,null,null,"مدفوع"]
[null,null,null,null,null,null,null,null,null,null,null,null,null,null,null,null,null,null,null,null,null,null,"مدفوع"]
[null,null,null,null,null,null,null,null,null,null,null,null,null,null,null,null,null,null,null,null,null,null,"مدفوع"]
[null,null,null,null,null,null,null,null,null,null,null,null,null,null,null,null,null,null,null,null,null,null,"مدفوع"]
[null,null,null,null,null,null,null,null,null,null,null,null,null,null,null,null,null,null,null,null,null,null,"مدفوع"]
[null,null,null,null,null,null,null,null,null,null,null,null,null,null,null,null,null,null,null,null,null,null,"مدفوع"]
[null,null,null,null,null,null,null,null,null,null,null,null,null,null,null,null,null,null,null,null,null,null,"مدفوع"]
[null,null,null,null,null,null,null,null,null,null,null,null,null,null,null,null,null,null,null,null,null,null,"مدفوع"]
[null,null,null,null,null,null,null,null,null,null,null,null,null,null,null,null,null,null,null,null,null,null,"مدفوع"]
[null,null,null,null,null,null,null,null,null,null,null,null,null,null,null,null,null,null,null,null,null,null,"مدفوع"]
[null,null,null,null,null,null,null,null,null,null,null,null,null,null,null,null,null,null,null,null,null,null,"مدفوع"]
[null,null,null,null,null,null,null,null,null,null,null,null,null,null,null,null,null,null,null,null,null,null,"مدفوع"]
[null,null,null,null,null,null,null,null,null,null,null,null,null,null,null,null,null,null,null,null,null,null,"مدفوع"]
[null,null,null,null,null,null,null,null,null,null,null,null,null,null,null,null,null,null,null,null,null,null,"مدفوع"]
[null,null,null,null,null,null,null,null,null,null,null,null,null,null,null,null,null,null,null,null,null,null,"مدفوع"]
[null,null,null,null,null,null,null,null,null,null,null,null,null,null,null,null,null,null,null,null,null,null,"مدفوع"]
[null,null,null,null,null,null,null,null,null,null,null,null,null,null,null,null,null,null,null,null,null,null,"مدفوع"]
[null,null,null,null,null,null,null,null,null,null,null,null,null,null,null,null,null,null,null,null,null,null,"مدفوع"]
[null,null,null,null,null,null,null,null,null,null,null,null,null,null,null,null,null,null,null,null,null,null,"مدفوع"]
[null,null,null,null,null,null,null,null,null,null,null,null,null,null,null,null,null,null,null,null,null,null,"مدفوع"]
[null,null,null,null,null,null,null,null,null,null,null,null,null,null,null,null,null,null,null,null,null,null,{"$f":"IF(V3784<=0,\"مدفوع\",\"غير مدفوع\")","v":"مدفوع"}]
[null,null,null,null,null,null,null,null,null,null,null,null,null,null,null,null,null,null,null,null,null,null,"مدفوع"]
[null,null,null,null,null,null,null,null,null,null,null,null,null,null,null,null,null,null,null,null,null,null,"مدفوع"]
[null,null,null,null,null,null,null,null,null,null,null,null,null,null,null,null,null,null,null,null,null,null,"مدفوع"]
[null,null,null,null,null,null,null,null,null,null,null,null,null,null,null,null,null,null,null,null,null,null,"مدفوع"]
[null,null,null,null,null,null,null,null,null,null,null,null,null,null,null,null,null,null,null,null,null,null,"مدفوع"]
[null,null,null,null,null,null,null,null,null,null,null,null,null,null,null,null,null,null,null,null,null,null,"مدفوع"]
[null,null,null,null,null,null,null,null,null,null,null,null,null,null,null,null,null,null,null,null,null,null,"مدفوع"]
[null,null,null,null,null,null,null,null,null,null,null,null,null,null,null,null,null,null,null,null,null,null,"مدفوع"]
[null,null,null,null,null,null,null,null,null,null,null,null,null,null,null,null,null,null,null,null,null,null,"مدفوع"]
[null,null,null,null,null,null,null,null,null,null,null,null,null,null,null,null,null,null,null,null,null,null,"مدفوع"]
[null,null,null,null,null,null,null,null,null,null,null,null,null,null,null,null,null,null,null,null,null,null,"مدفوع"]
[null,null,null,null,null,null,null,null,null,null,null,null,null,null,null,null,null,null,null,null,null,null,"مدفوع"]
[null,null,null,null,null,null,null,null,null,null,null,null,null,null,null,null,null,null,null,null,null,null,"مدفوع"]
[null,null,null,null,null,null,null,null,null,null,null,null,null,null,null,null,null,null,null,null,null,null,"مدفوع"]
[null,null,null,null,null,null,null,null,null,null,null,null,null,null,null,null,null,null,null,null,null,null,"مدفوع"]
[null,null,null,null,null,null,null,null,null,null,null,null,null,null,null,null,null,null,null,null,null,null,"مدفوع"]
[null,null,null,null,null,null,null,null,null,null,null,null,null,null,null,null,null,null,null,null,null,null,"مدفوع"]
[null,null,null,null,null,null,null,null,null,null,null,null,null,null,null,null,null,null,null,null,null,null,"مدفوع"]
[null,null,null,null,null,null,null,null,null,null,null,null,null,null,null,null,null,null,null,null,null,null,"مدفوع"]
[null,null,null,null,null,null,null,null,null,null,null,null,null,null,null,null,null,null,null,null,null,null,"مدفوع"]
[null,null,null,null,null,null,null,null,null,null,null,null,null,null,null,null,null,null,null,null,null,null,"مدفوع"]
[null,null,null,null,null,null,null,null,null,null,null,null,null,null,null,null,null,null,null,null,null,null,"مدفوع"]
[null,null,null,null,null,null,null,null,null,null,null,null,null,null,null,null,null,null,null,null,null,null,"مدفوع"]
[null,null,null,null,null,null,null,null,null,null,null,null,null,null,null,null,null,null,null,null,null,null,"مدفوع"]
[null,null,null,null,null,null,null,null,null,null,null,null,null,null,null,null,null,null,null,null,null,null,"مدفوع"]
[null,null,null,null,null,null,null,null,null,null,null,null,null,null,null,null,null,null,null,null,null,null,"مدفوع"]
[null,null,null,null,null,null,null,null,null,null,null,null,null,null,null,null,null,null,null,null,null,null,"مدفوع"]
[null,null,null,null,null,null,null,null,null,null,null,null,null,null,null,null,null,null,null,null,null,null,"مدفوع"]
[null,null,null,null,null,null,null,null,null,null,null,null,null,null,null,null,null,null,null,null,null,null,"مدفوع"]
[null,null,null,null,null,null,null,null,null,null,null,null,null,null,null,null,null,null,null,null,null,null,"مدفوع"]
[null,null,null,null,null,null,null,null,null,null,null,null,null,null,null,null,null,null,null,null,null,null,"مدفوع"]
[null,null,null,null,null,null,null,null,null,null,null,null,null,null,null,null,null,null,null,null,null,null,"مدفوع"]
[null,null,null,null,null,null,null,null,null,null,null,null,null,null,null,null,null,null,null,null,null,null,"مدفوع"]
[null,null,null,null,null,null,null,null,null,null,null,null,null,null,null,null,null,null,null,null,null,null,"مدفوع"]
[null,null,null,null,null,null,null,null,null,null,null,null,null,null,null,null,null,null,null,null,null,null,"مدفوع"]
[null,null,null,null,null,null,null,null,null,null,null,null,null,null,null,null,null,null,null,null,null,null,"مدفوع"]
[null,null,null,null,null,null,null,null,null,null,null,null,null,null,null,null,null,null,null,null,null,null,"مدفوع"]
[null,null,null,null,null,null,null,null,null,null,null,null,null,null,null,null,null,null,null,null,null,null,"مدفوع"]
[null,null,null,null,null,null,null,null,null,null,null,null,null,null,null,null,null,null,null,null,null,null,"مدفوع"]
[null,null,null,null,null,null,null,null,null,null,null,null,null,null,null,null,null,null,null,null,null,null,"مدفوع"]
[null,null,null,null,null,null,null,null,null,null,null,null,null,null,null,null,null,null,null,null,null,null,"مدفوع"]
[null,null,null,null,null,null,null,null,null,null,null,null,null,null,null,null,null,null,null,null,null,null,"مدفوع"]
[null,null,null,null,null,null,null,null,null,null,null,null,null,null,null,null,null,null,null,null,null,null,"مدفوع"]
[null,null,null,null,null,null,null,null,null,null,null,null,null,null,null,null,null,null,null,null,null,null,"مدفوع"]
[null,null,null,null,null,null,null,null,null,null,null,null,null,null,null,null,null,null,null,null,null,null,"مدفوع"]
[null,null,null,null,null,null,null,null,null,null,null,null,null,null,null,null,null,null,null,null,null,null,"مدفوع"]
[null,null,null,null,null,null,null,null,null,null,null,null,null,null,null,null,null,null,null,null,null,null,"مدفوع"]
[null,null,null,null,null,null,null,null,null,null,null,null,null,null,null,null,null,null,null,null,null,null,"مدفوع"]
[null,null,null,null,null,null,null,null,null,null,null,null,null,null,null,null,null,null,null,null,null,null,"مدفوع"]
[null,null,null,null,null,null,null,null,null,null,null,null,null,null,null,null,null,null,null,null,null,null,"مدفوع"]
[null,null,null,null,null,null,null,null,null,null,null,null,null,null,null,null,null,null,null,null,null,null,"مدفوع"]
[null,null,null,null,null,null,null,null,null,null,null,null,null,null,null,null,null,null,null,null,null,null,"مدفوع"]
[null,null,null,null,null,null,null,null,null,null,null,null,null,null,null,null,null,null,null,null,null,null,"مدفوع"]
[null,null,null,null,null,null,null,null,null,null,null,null,null,null,null,null,null,null,null,null,null,null,"مدفوع"]
[null,null,null,null,null,null,null,null,null,null,null,null,null,null,null,null,null,null,null,null,null,null,"مدفوع"]
[null,null,null,null,null,null,null,null,null,null,null,null,null,null,null,null,null,null,null,null,null,null,"مدفوع"]
[null,null,null,null,null,null,null,null,null,null,null,null,null,null,null,null,null,null,null,null,null,null,"مدفوع"]
[null,null,null,null,null,null,null,null,null,null,null,null,null,null,null,null,null,null,null,null,null,null,"مدفوع"]
[null,null,null,null,null,null,null,null,null,null,null,null,null,null,null,null,null,null,null,null,null,null,"مدفوع"]
[null,null,null,null,null,null,null,null,null,null,null,null,null,null,null,null,null,null,null,null,null,null,"مدفوع"]
[null,null,null,null,null,null,null,null,null,null,null,null,null,null,null,null,null,null,null,null,null,null,"مدفوع"]
[null,null,null,null,null,null,null,null,null,null,null,null,null,null,null,null,null,null,null,null,null,null,"مدفوع"]
[null,null,null,null,null,null,null,null,null,null,null,null,null,null,null,null,null,null,null,null,null,null,"مدفوع"]
[null,null,null,null,null,null,null,null,null,null,null,null,null,null,null,null,null,null,null,null,null,null,{"$f":"IF(V3848<=0,\"مدفوع\",\"غير مدفوع\")","v":"مدفوع"}]
[null,null,null,null,null,null,null,null,null,null,null,null,null,null,null,null,null,null,null,null,null,null,"مدفوع"]
[null,null,null,null,null,null,null,null,null,null,null,null,null,null,null,null,null,null,null,null,null,null,"مدفوع"]
[null,null,null,null,null,null,null,null,null,null,null,null,null,null,null,null,null,null,null,null,null,null,"مدفوع"]
[null,null,null,null,null,null,null,null,null,null,null,null,null,null,null,null,null,null,null,null,null,null,"مدفوع"]
[null,null,null,null,null,null,null,null,null,null,null,null,null,null,null,null,null,null,null,null,null,null,"مدفوع"]
[null,null,null,null,null,null,null,null,null,null,null,null,null,null,null,null,null,null,null,null,null,null,"مدفوع"]
[null,null,null,null,null,null,null,null,null,null,null,null,null,null,null,null,null,null,null,null,null,null,"مدفوع"]
[null,null,null,null,null,null,null,null,null,null,null,null,null,null,null,null,null,null,null,null,null,null,"مدفوع"]
[null,null,null,null,null,null,null,null,null,null,null,null,null,null,null,null,null,null,null,null,null,null,"مدفوع"]
[null,null,null,null,null,null,null,null,null,null,null,null,null,null,null,null,null,null,null,null,null,null,"مدفوع"]
[null,null,null,null,null,null,null,null,null,null,null,null,null,null,null,null,null,null,null,null,null,null,"مدفوع"]
[null,null,null,null,null,null,null,null,null,null,null,null,null,null,null,null,null,null,null,null,null,null,"مدفوع"]
[null,null,null,null,null,null,null,null,null,null,null,null,null,null,null,null,null,null,null,null,null,null,"مدفوع"]
[null,null,null,null,null,null,null,null,null,null,null,null,null,null,null,null,null,null,null,null,null,null,"مدفوع"]
[null,null,null,null,null,null,null,null,null,null,null,null,null,null,null,null,null,null,null,null,null,null,"مدفوع"]
[null,null,null,null,null,null,null,null,null,null,null,null,null,null,null,null,null,null,null,null,null,null,"مدفوع"]
[null,null,null,null,null,null,null,null,null,null,null,null,null,null,null,null,null,null,null,null,null,null,"مدفوع"]
[null,null,null,null,null,null,null,null,null,null,null,null,null,null,null,null,null,null,null,null,null,null,"مدفوع"]
[null,null,null,null,null,null,null,null,null,null,null,null,null,null,null,null,null,null,null,null,null,null,"مدفوع"]
[null,null,null,null,null,null,null,null,null,null,null,null,null,null,null,null,null,null,null,null,null,null,"مدفوع"]
[null,null,null,null,null,null,null,null,null,null,null,null,null,null,null,null,null,null,null,null,null,null,"مدفوع"]
[null,null,null,null,null,null,null,null,null,null,null,null,null,null,null,null,null,null,null,null,null,null,"مدفوع"]
[null,null,null,null,null,null,null,null,null,null,null,null,null,null,null,null,null,null,null,null,null,null,"مدفوع"]
[null,null,null,null,null,null,null,null,null,null,null,null,null,null,null,null,null,null,null,null,null,null,"مدفوع"]
[null,null,null,null,null,null,null,null,null,null,null,null,null,null,null,null,null,null,null,null,null,null,"مدفوع"]
[null,null,null,null,null,null,null,null,null,null,null,null,null,null,null,null,null,null,null,null,null,null,"مدفوع"]
[null,null,null,null,null,null,null,null,null,null,null,null,null,null,null,null,null,null,null,null,null,null,"مدفوع"]
[null,null,null,null,null,null,null,null,null,null,null,null,null,null,null,null,null,null,null,null,null,null,"مدفوع"]
[null,null,null,null,null,null,null,null,null,null,null,null,null,null,null,null,null,null,null,null,null,null,"مدفوع"]
[null,null,null,null,null,null,null,null,null,null,null,null,null,null,null,null,null,null,null,null,null,null,"مدفوع"]
[null,null,null,null,null,null,null,null,null,null,null,null,null,null,null,null,null,null,null,null,null,null,"مدفوع"]
[null,null,null,null,null,null,null,null,null,null,null,null,null,null,null,null,null,null,null,null,null,null,"مدفوع"]
[null,null,null,null,null,null,null,null,null,null,null,null,null,null,null,null,null,null,null,null,null,null,"مدفوع"]
[null,null,null,null,null,null,null,null,null,null,null,null,null,null,null,null,null,null,null,null,null,null,"مدفوع"]
[null,null,null,null,null,null,null,null,null,null,null,null,null,null,null,null,null,null,null,null,null,null,"مدفوع"]
[null,null,null,null,null,null,null,null,null,null,null,null,null,null,null,null,null,null,null,null,null,null,"مدفوع"]
[null,null,null,null,null,null,null,null,null,null,null,null,null,null,null,null,null,null,null,null,null,null,"مدفوع"]
[null,null,null,null,null,null,null,null,null,null,null,null,null,null,null,null,null,null,null,null,null,null,"مدفوع"]
[null,null,null,null,null,null,null,null,null,null,null,null,null,null,null,null,null,null,null,null,null,null,"مدفوع"]
[null,null,null,null,null,null,null,null,null,null,null,null,null,null,null,null,null,null,null,null,null,null,"مدفوع"]
[null,null,null,null,null,null,null,null,null,null,null,null,null,null,null,null,null,null,null,null,null,null,"مدفوع"]
[null,null,null,null,null,null,null,null,null,null,null,null,null,null,null,null,null,null,null,null,null,null,"مدفوع"]
[null,null,null,null,null,null,null,null,null,null,null,null,null,null,null,null,null,null,null,null,null,null,"مدفوع"]
[null,null,null,null,null,null,null,null,null,null,null,null,null,null,null,null,null,null,null,null,null,null,"مدفوع"]
[null,null,null,null,null,null,null,null,null,null,null,null,null,null,null,null,null,null,null,null,null,null,"مدفوع"]
[null,null,null,null,null,null,null,null,null,null,null,null,null,null,null,null,null,null,null,null,null,null,"مدفوع"]
[null,null,null,null,null,null,null,null,null,null,null,null,null,null,null,null,null,null,null,null,null,null,"مدفوع"]
[null,null,null,null,null,null,null,null,null,null,null,null,null,null,null,null,null,null,null,null,null,null,"مدفوع"]
[null,null,null,null,null,null,null,null,null,null,null,null,null,null,null,null,null,null,null,null,null,null,"مدفوع"]
[null,null,null,null,null,null,null,null,null,null,null,null,null,null,null,null,null,null,null,null,null,null,"مدفوع"]
[null,null,null,null,null,null,null,null,null,null,null,null,null,null,null,null,null,null,null,null,null,null,"مدفوع"]
[null,null,null,null,null,null,null,null,null,null,null,null,null,null,null,null,null,null,null,null,null,null,"مدفوع"]
[null,null,null,null,null,null,null,null,null,null,null,null,null,null,null,null,null,null,null,null,null,null,"مدفوع"]
[null,null,null,null,null,null,null,null,null,null,null,null,null,null,null,null,null,null,null,null,null,null,"مدفوع"]
[null,null,null,null,null,null,null,null,null,null,null,null,null,null,null,null,null,null,null,null,null,null,"مدفوع"]
[null,null,null,null,null,null,null,null,null,null,null,null,null,null,null,null,null,null,null,null,null,null,"مدفوع"]
[null,null,null,null,null,null,null,null,null,null,null,null,null,null,null,null,null,null,null,null,null,null,"مدفوع"]
[null,null,null,null,null,null,null,null,null,null,null,null,null,null,null,null,null,null,null,null,null,null,"مدفوع"]
[null,null,null,null,null,null,null,null,null,null,null,null,null,null,null,null,null,null,null,null,null,null,"مدفوع"]
[null,null,null,null,null,null,null,null,null,null,null,null,null,null,null,null,null,null,null,null,null,null,"مدفوع"]
[null,null,null,null,null,null,null,null,null,null,null,null,null,null,null,null,null,null,null,null,null,null,"مدفوع"]
[null,null,null,null,null,null,null,null,null,null,null,null,null,null,null,null,null,null,null,null,null,null,"مدفوع"]
[null,null,null,null,null,null,null,null,null,null,null,null,null,null,null,null,null,null,null,null,null,null,"مدفوع"]
[null,null,null,null,null,null,null,null,null,null,null,null,null,null,null,null,null,null,null,null,null,null,{"$f":"IF(V3912<=0,\"مدفوع\",\"غير مدفوع\")","v":"مدفوع"}]
[null,null,null,null,null,null,null,null,null,null,null,null,null,null,null,null,null,null,null,null,null,null,"مدفوع"]
[null,null,null,null,null,null,null,null,null,null,null,null,null,null,null,null,null,null,null,null,null,null,"مدفوع"]
[null,null,null,null,null,null,null,null,null,null,null,null,null,null,null,null,null,null,null,null,null,null,"مدفوع"]
[null,null,null,null,null,null,null,null,null,null,null,null,null,null,null,null,null,null,null,null,null,null,"مدفوع"]
[null,null,null,null,null,null,null,null,null,null,null,null,null,null,null,null,null,null,null,null,null,null,"مدفوع"]
[null,null,null,null,null,null,null,null,null,null,null,null,null,null,null,null,null,null,null,null,null,null,"مدفوع"]
[null,null,null,null,null,null,null,null,null,null,null,null,null,null,null,null,null,null,null,null,null,null,"مدفوع"]
[null,null,null,null,null,null,null,null,null,null,null,null,null,null,null,null,null,null,null,null,null,null,"مدفوع"]
[null,null,null,null,null,null,null,null,null,null,null,null,null,null,null,null,null,null,null,null,null,null,"مدفوع"]
[null,null,null,null,null,null,null,null,null,null,null,null,null,null,null,null,null,null,null,null,null,null,"مدفوع"]
[null,null,null,null,null,null,null,null,null,null,null,null,null,null,null,null,null,null,null,null,null,null,"مدفوع"]
[null,null,null,null,null,null,null,null,null,null,null,null,null,null,null,null,null,null,null,null,null,null,"مدفوع"]
[null,null,null,null,null,null,null,null,null,null,null,null,null,null,null,null,null,null,null,null,null,null,"مدفوع"]
[null,null,null,null,null,null,null,null,null,null,null,null,null,null,null,null,null,null,null,null,null,null,"مدفوع"]
[null,null,null,null,null,null,null,null,null,null,null,null,null,null,null,null,null,null,null,null,null,null,"مدفوع"]
[null,null,null,null,null,null,null,null,null,null,null,null,null,null,null,null,null,null,null,null,null,null,"مدفوع"]
[null,null,null,null,null,null,null,null,null,null,null,null,null,null,null,null,null,null,null,null,null,null,"مدفوع"]
[null,null,null,null,null,null,null,null,null,null,null,null,null,null,null,null,null,null,null,null,null,null,"مدفوع"]
[null,null,null,null,null,null,null,null,null,null,null,null,null,null,null,null,null,null,null,null,null,null,"مدفوع"]
[null,null,null,null,null,null,null,null,null,null,null,null,null,null,null,null,null,null,null,null,null,null,"مدفوع"]
[null,null,null,null,null,null,null,null,null,null,null,null,null,null,null,null,null,null,null,null,null,null,"مدفوع"]
[null,null,null,null,null,null,null,null,null,null,null,null,null,null,null,null,null,null,null,null,null,null,"مدفوع"]
[null,null,null,null,null,null,null,null,null,null,null,null,null,null,null,null,null,null,null,null,null,null,"مدفوع"]
[null,null,null,null,null,null,null,null,null,null,null,null,null,null,null,null,null,null,null,null,null,null,"مدفوع"]
[null,null,null,null,null,null,null,null,null,null,null,null,null,null,null,null,null,null,null,null,null,null,"مدفوع"]
[null,null,null,null,null,null,null,null,null,null,null,null,null,null,null,null,null,null,null,null,null,null,"مدفوع"]
[null,null,null,null,null,null,null,null,null,null,null,null,null,null,null,null,null,null,null,null,null,null,"مدفوع"]
[null,null,null,null,null,null,null,null,null,null,null,null,null,null,null,null,null,null,null,null,null,null,"مدفوع"]
[null,null,null,null,null,null,null,null,null,null,null,null,null,null,null,null,null,null,null,null,null,null,"مدفوع"]
[null,null,null,null,null,null,null,null,null,null,null,null,null,null,null,null,null,null,null,null,null,null,"مدفوع"]
[null,null,null,null,null,null,null,null,null,null,null,null,null,null,null,null,null,null,null,null,null,null,"مدفوع"]
[null,null,null,null,null,null,null,null,null,null,null,null,null,null,null,null,null,null,null,null,null,null,"مدفوع"]
[null,null,null,null,null,null,null,null,null,null,null,null,null,null,null,null,null,null,null,null,null,null,"مدفوع"]
[null,null,null,null,null,null,null,null,null,null,null,null,null,null,null,null,null,null,null,null,null,null,"مدفوع"]
[null,null,null,null,null,null,null,null,null,null,null,null,null,null,null,null,null,null,null,null,null,null,"مدفوع"]
[null,null,null,null,null,null,null,null,null,null,null,null,null,null,null,null,null,null,null,null,null,null,"مدفوع"]
[null,null,null,null,null,null,null,null,null,null,null,null,null,null,null,null,null,null,null,null,null,null,"مدفوع"]
[null,null,null,null,null,null,null,null,null,null,null,null,null,null,null,null,null,null,null,null,null,null,"مدفوع"]
[null,null,null,null,null,null,null,null,null,null,null,null,null,null,null,null,null,null,null,null,null,null,"مدفوع"]
[null,null,null,null,null,null,null,null,null,null,null,null,null,null,null,null,null,null,null,null,null,null,"مدفوع"]
[null,null,null,null,null,null,null,null,null,null,null,null,null,null,null,null,null,null,null,null,null,null,"مدفوع"]
[null,null,null,null,null,null,null,null,null,null,null,null,null,null,null,null,null,null,null,null,null,null,"مدفوع"]
[null,null,null,null,null,null,null,null,null,null,null,null,null,null,null,null,null,null,null,null,null,null,"مدفوع"]
[null,null,null,null,null,null,null,null,null,null,null,null,null,null,null,null,null,null,null,null,null,null,"مدفوع"]
[null,null,null,null,null,null,null,null,null,null,null,null,null,null,null,null,null,null,null,null,null,null,"مدفوع"]
[null,null,null,null,null,null,null,null,null,null,null,null,null,null,null,null,null,null,null,null,null,null,"مدفوع"]
[null,null,null,null,null,null,null,null,null,null,null,null,null,null,null,null,null,null,null,null,null,null,"مدفوع"]
[null,null,null,null,null,null,null,null,null,null,null,null,null,null,null,null,null,null,null,null,null,null,"مدفوع"]
[null,null,null,null,null,null,null,null,null,null,null,null,null,null,null,null,null,null,null,null,null,null,"مدفوع"]
[null,null,null,null,null,null,null,null,null,null,null,null,null,null,null,null,null,null,null,null,null,null,"مدفوع"]
[null,null,null,null,null,null,null,null,null,null,null,null,null,null,null,null,null,null,null,null,null,null,"مدفوع"]
[null,null,null,null,null,null,null,null,null,null,null,null,null,null,null,null,null,null,null,null,null,null,"مدفوع"]
[null,null,null,null,null,null,null,null,null,null,null,null,null,null,null,null,null,null,null,null,null,null,"مدفوع"]
[null,null,null,null,null,null,null,null,null,null,null,null,null,null,null,null,null,null,null,null,null,null,"مدفوع"]
[null,null,null,null,null,null,null,null,null,null,null,null,null,null,null,null,null,null,null,null,null,null,"مدفوع"]
[null,null,null,null,null,null,null,null,null,null,null,null,null,null,null,null,null,null,null,null,null,null,"مدفوع"]
[null,null,null,null,null,null,null,null,null,null,null,null,null,null,null,null,null,null,null,null,null,null,"مدفوع"]
[null,null,null,null,null,null,null,null,null,null,null,null,null,null,null,null,null,null,null,null,null,null,"مدفوع"]
[null,null,null,null,null,null,null,null,null,null,null,null,null,null,null,null,null,null,null,null,null,null,"مدفوع"]
[null,null,null,null,null,null,null,null,null,null,null,null,null,null,null,null,null,null,null,null,null,null,"مدفوع"]
[null,null,null,null,null,null,null,null,null,null,null,null,null,null,null,null,null,null,null,null,null,null,"مدفوع"]
[null,null,null,null,null,null,null,null,null,null,null,null,null,null,null,null,null,null,null,null,null,null,"مدفوع"]
[null,null,null,null,null,null,null,null,null,null,null,null,null,null,null,null,null,null,null,null,null,null,"مدفوع"]
[null,null,null,null,null,null,null,null,null,null,null,null,null,null,null,null,null,null,null,null,null,null,{"$f":"IF(V3976<=0,\"مدفوع\",\"غير مدفوع\")","v":"مدفوع"}]
[null,null,null,null,null,null,null,null,null,null,null,null,null,null,null,null,null,null,null,null,null,null,"مدفوع"]
[null,null,null,null,null,null,null,null,null,null,null,null,null,null,null,null,null,null,null,null,null,null,"مدفوع"]
[null,null,null,null,null,null,null,null,null,null,null,null,null,null,null,null,null,null,null,null,null,null,"مدفوع"]
[null,null,null,null,null,null,null,null,null,null,null,null,null,null,null,null,null,null,null,null,null,null,"مدفوع"]
[null,null,null,null,null,null,null,null,null,null,null,null,null,null,null,null,null,null,null,null,null,null,"مدفوع"]
[null,null,null,null,null,null,null,null,null,null,null,null,null,null,null,null,null,null,null,null,null,null,"مدفوع"]
[null,null,null,null,null,null,null,null,null,null,null,null,null,null,null,null,null,null,null,null,null,null,"مدفوع"]
[null,null,null,null,null,null,null,null,null,null,null,null,null,null,null,null,null,null,null,null,null,null,"مدفوع"]
[null,null,null,null,null,null,null,null,null,null,null,null,null,null,null,null,null,null,null,null,null,null,"مدفوع"]
[null,null,null,null,null,null,null,null,null,null,null,null,null,null,null,null,null,null,null,null,null,null,"مدفوع"]
[null,null,null,null,null,null,null,null,null,null,null,null,null,null,null,null,null,null,null,null,null,null,"مدفوع"]
[null,null,null,null,null,null,null,null,null,null,null,null,null,null,null,null,null,null,null,null,null,null,"مدفوع"]
[null,null,null,null,null,null,null,null,null,null,null,null,null,null,null,null,null,null,null,null,null,null,"مدفوع"]
[null,null,null,null,null,null,null,null,null,null,null,null,null,null,null,null,null,null,null,null,null,null,"مدفوع"]
[null,null,null,null,null,null,null,null,null,null,null,null,null,null,null,null,null,null,null,null,null,null,"مدفوع"]
[null,null,null,null,null,null,null,null,null,null,null,null,null,null,null,null,null,null,null,null,null,null,"مدفوع"]
[null,null,null,null,null,null,null,null,null,null,null,null,null,null,null,null,null,null,null,null,null,null,"مدفوع"]
[null,null,null,null,null,null,null,null,null,null,null,null,null,null,null,null,null,null,null,null,null,null,"مدفوع"]
[null,null,null,null,null,null,null,null,null,null,null,null,null,null,null,null,null,null,null,null,null,null,"مدفوع"]
[null,null,null,null,null,null,null,null,null,null,null,null,null,null,null,null,null,null,null,null,null,null,"مدفوع"]
[null,null,null,null,null,null,null,null,null,null,null,null,null,null,null,null,null,null,null,null,null,null,"مدفوع"]
[null,null,null,null,null,null,null,null,null,null,null,null,null,null,null,null,null,null,null,null,null,null,"مدفوع"]
[null,null,null,null,null,null,null,null,null,null,null,null,null,null,null,null,null,null,null,null,null,null,"مدفوع"]
[null,null,null,null,null,null,null,null,null,null,null,null,null,null,null,null,null,null,null,null,null,null,"مدفوع"]
[null,null,null,null,null,null,null,null,null,null,null,null,null,null,null,null,null,null,null,null,null,null,"مدفوع"]
[null,null,null,null,null,null,null,null,null,null,null,null,null,null,null,null,null,null,null,null,null,null,"مدفوع"]
[null,null,null,null,null,null,null,null,null,null,null,null,null,null,null,null,null,null,null,null,null,null,"مدفوع"]

{"sheet":"Control","index":2,"n_rows":41,"n_cols":14,"rows_kept":41,"cut":false,"hidden":false,"merged":[[0,2,0,3]]}
[null,null,"العملة",null,null,"الشهر",null,"لا غير",null,"المناطق",null,null,"M","السعر"]
[null,null,"ليرة لبنانية","قرشاً",null,null,null,"لا غير",null,"بيروت"]
[null,null,"ليرة لبنانية","قرشاً",null," كانون الثاني ",null,"لا غير",null,"صيدا",null,null,2.5]
[null,null,"ليرة لبنانية","قرشاً",null," شباط ",null,"لا غير",null,"صور",null,null,3]
[null,null,"ليرة لبنانية","قرشاً",null," آذار  ",null,"لا غير",null,"النبطية",null,null,4]
[null,null,"ليرة لبنانية","قرشاً",null," نيسان  ",null,"لا غير",null,"طرايلس",null,null,5]
[null,null,"ليرة لبنانية","قرشاً",null," أيار  ",null,"لا غير",null,"البقاع",null,null,6]
[null,null,"ليرة لبنانية","قرشاً",null," حزيران  ",null,"لا غير",null,null,null,null,7]
[null,null,"ليرة لبنانية","قرشاً",null," تموز  ",null,"لا غير",null,null,null,null,8]
[null,null,"ليرة لبنانية","قرشاً",null," آب  ",null,"لا غير",null,null,null,null,9]
[null,null,"ليرة لبنانية","قرشاً",null," أيلول  ",null,"لا غير",null,null,null,null,10]
[null,null,"ليرة لبنانية","قرشاً",null," تشرين الأول  ",null,"لا غير",null,null,null,null,15]
[null,null,"ليرة لبنانية","قرشاً",null," تشرين الثاني ",null,"لا غير",null,null,null,null,20]
[null,null,"ليرة لبنانية","قرشاً",null," كانون الأول  ",null,"لا غير",null,null,null,null,25]
[null,null,"ليرة لبنانية","قرشاً",null,null,null,"لا غير",null,null,null,null,30]
[null,null,"ليرة لبنانية","قرشاً",null,"مدفوع او غير مدفوع",null,"لا غير",null,null,null,null,35]
[null,null,"ليرة لبنانية","قرشاً",null,null,null,"لا غير",null,null,null,null,40]
[null,null,"ليرة لبنانية","قرشاً",null,"✓",null,"لا غير",null,null,null,null,45]
[null,null,"ليرة لبنانية","قرشاً",null,null,null,"لا غير",null,null,null,null,50]
[null,null,"ليرة لبنانية","قرشاً",null,"✕ ",null,"لا غير",null,null,null,null,55]
[null,null,"ليرة لبنانية","قرشاً",null,null,null,"لا غير",null,null,null,null,60]
[null,null,"ليرة لبنانية","قرشاً",null,null,null,"لا غير",null,null,null,null,65]
[null,null,"ليرة لبنانية","قرشاً",null,null,null,"لا غير",null,null,null,null,70]
[null,null,"ليرة لبنانية","قرشاً",null,null,null,"لا غير",null,null,null,null,75]
[null,null,"ليرة لبنانية","قرشاً",null,null,null,"لا غير",null,null,null,null,80]
[null,null,"ليرة لبنانية","قرشاً",null,null,null,"لا غير",null,null,null,null,85]
[null,null,"ليرة لبنانية","قرشاً",null,null,null,"لا غير",null,null,null,null,90]
[null,null,"ليرة لبنانية","قرشاً",null,null,null,"لا غير",null,null,null,null,95]
[null,null,"ليرة لبنانية","قرشاً",null,null,null,"لا غير",null,null,null,null,100]
[null,null,"ليرة لبنانية","قرشاً",null,null,null,"لا غير",null,null,null,null,105]
[null,null,"ليرة لبنانية","قرشاً",null,null,null,"لا غير",null,null,null,null,110]
[null,null,"ليرة لبنانية","قرشاً",null,null,null,"لا غير",null,null,null,null,115]
[null,null,"ليرة لبنانية","قرشاً",null,null,null,"لا غير",null,null,null,null,120]
[null,null,"ليرة لبنانية","قرشاً",null,null,null,"لا غير",null,null,null,null,125]
[null,null,"ليرة لبنانية","قرشاً",null,null,null,"لا غير",null,null,null,null,130]
[null,null,"ليرة لبنانية","قرشاً",null,null,null,"لا غير",null,null,null,null,135]
[null,null,"ليرة لبنانية","قرشاً",null,null,null,"لا غير",null,null,null,null,140]
[null,null,"ليرة لبنانية","قرشاً",null,null,null,"لا غير",null,null,null,null,145]
[null,null,"ليرة لبنانية","قرشاً",null,null,null,"لا غير",null,null,null,null,150]
[null,null,"ليرة لبنانية","قرشاً",null,null,null,"لا غير",null,null,null,null,175]
[null,null,null,null,null,null,null,null,null,null,null,null,200]