Workbook
Name ميسره: #REF!
Name ناشونال: #REF!

Sheet الرئيسية
B2: الشركات
B7: عام | C7: R | D7: R | E7: دراي ميكس | G7: بيور | H7: R | I7: R | J7: يوتن
B8: أورينت | C8: R | D8: R | E8: الايطاليه | G8: بريمو كات | H8: R | I8: R | J8: فيرا
B9: ناشونال | C9: R | D9: R | E9: نصار سلك ممدد | G9: MCI | H9: R | I9: R | J9: فايلوت
B10: إيجل | C10: R | D10: R | E10: إيرلاك | G10: سايبس | H10: R | I10: R | J10: السويديه
B11: إسكيب | C11: R | D11: R | E11: سافيتو | G11: يونايتد | H11: R | I11: R | J11: العالميه
B12: الألمانية GLC | C12: R | D12: R | E12: نصار مسمار | G12: ميسره | H12: R | I12: R | J12: السلاب
B13: ميدو | C13: R | D13: R | E13: الالمانيه للزق | G13: بلال مسمار | H13: R | I13: R | J13: مصنع غراء حمص النجمه
B14: الدلتا | C14: R | D14: R | E14: البناء الحديث | G14: بروستول | H14: R | I14: R | J14: المصريه
B15: المهندس | C15: R | D15: R | E15: باكين | G15: كابسي | H15: R | I15: R | J15: سيلدور
B16: المصريه الايطاليه | C16: R | D16: R | E16: بنتا | G16: ماليزي | H16: R | I16: R | J16: سكاي

Sheet all
A1: الباركود | B1: اسم الصنف | C1: الشركة | D1: سعر البيع | E1: الرئيسية | F1: i-com | G1: D-com | H1: L-com | I1: D-item | J1: c-com | K1: p-com | L1: D-i-item | M1: L-i-item | N1: C-i-item | O1: Co-i-item | P1: P-i-item
A2: =[1]All!E7 -> 3140 | B2: =[1]All!F7 -> قلب كالون كمبيوتر إيطالي | C2: =[1]All!G7 -> عام | D2: =[1]All!H7 -> 65 | F2: =IFERROR(INDEX(all[اسم الصنف],MATCH(SMALL($I$2:$I$3995,ROWS($F$2:F2)),$I$2:$I$3995,0)),"") -> جالون لاكيه اورينتو ستايل اصفر دوبل اورينت | G2: =IFERROR(IF(SEARCH(بحث!$L$4,all[الشركة])>0,ROW(G2),""),"") | H2: =IFERROR(INDEX(all[الشركة],MATCH(SMALL($G$2:$G$3995,ROWS($H$2:H2)),$G$2:$G$3995,0)),"") -> أورينت | I2: =IFERROR(IF(SEARCH(بحث!$L$4,all[الشركة])>0,ROW(G2),""),"") | J2: =IFERROR(INDEX(all[الباركود],MATCH(SMALL($I$2:$I$3995,ROWS($J$2:J2)),$I$2:$I$3995,0)),"") -> 1471 | K2: =IFERROR(INDEX(all[سعر البيع],MATCH(SMALL($I$2:$I$3995,ROWS($K$2:K2)),$I$2:$I$3995,0)),"") -> 174.9102 | L2: =IFERROR(IF(SEARCH(بحث!$D$4,all[اسم الصنف])>0,ROW(L2),""),"") -> 2 | M2: =IFERROR(INDEX(all[اسم الصنف],MATCH(SMALL($L$2:$L$3995,ROWS($M$2:M2)),$L$2:$L$3995,0)),"") -> قلب كالون كمبيوتر إيطالي | N2: =IFERROR(INDEX(all[الباركود],MATCH(SMALL($L$2:$L$3995,ROWS($N$2:N2)),$L$2:$L$3995,0)),"") -> 3140 | O2: =IFERROR(INDEX(all[الشركة],MATCH(SMALL($L$2:$L$3995,ROWS($O$2:O2)),$L$2:$L$3995,0)),"") -> عام | P2: =IFERROR(INDEX(all[سعر البيع],MATCH(SMALL($L$2:$L$3995,ROWS($P$2:P2)),$L$2:$L$3995,0)),"") -> 65
A3: =[1]All!E8 -> 3141 | B3: =[1]All!F8 -> كرتونه مصلب ورنيش يوريثان لامع 1:2 | C3: =[1]All!G8 -> المهندس | D3: =[1]All!H8 -> 292.94 | F3: =IFERROR(INDEX(all[اسم الصنف],MATCH(SMALL($I$2:$I$3995,ROWS($F$2:F3)),$I$2:$I$3995,0)),"") -> بستله سيلر مائي اورينت سوبرسيل123 | G3: =IFERROR(IF(SEARCH(بحث!$L$4,all[الشركة])>0,ROW(G3),""),"") | H3: =IFERROR(INDEX(all[الشركة],MATCH(SMALL($G$2:$G$3995,ROWS($H$2:H3)),$G$2:$G$3995,0)),"") -> أورينت | I3: =IFERROR(IF(SEARCH(بحث!$L$4,all[الشركة])>0,ROW(G3),""),"") | J3: =IFERROR(INDEX(all[الباركود],MATCH(SMALL($I$2:$I$3995,ROWS($J$2:J3)),$I$2:$I$3995,0)),"") -> 1563 | K3: =IFERROR(INDEX(all[سعر البيع],MATCH(SMALL($I$2:$I$3995,ROWS($K$2:K3)),$I$2:$I$3995,0)),"") -> 137.94 | L3: =IFERROR(IF(SEARCH(بحث!$D$4,all[اسم الصنف])>0,ROW(L3),""),"") | M3: =IFERROR(INDEX(all[اسم الصنف],MATCH(SMALL($L$2:$L$3995,ROWS($M$2:M3)),$L$2:$L$3995,0)),"") | N3: =IFERROR(INDEX(all[الباركود],MATCH(SMALL($L$2:$L$3995,ROWS($N$2:N3)),$L$2:$L$3995,0)),"") | O3: =IFERROR(INDEX(all[الشركة],MATCH(SMALL($L$2:$L$3995,ROWS($O$2:O3)),$L$2:$L$3995,0)),"") | P3: =IFERROR(INDEX(all[سعر البيع],MATCH(SMALL($L$2:$L$3995,ROWS($P$2:P3)),$L$2:$L$3995,0)),"")
A4: =[1]All!E9 -> 3142 | B4: =[1]All!F9 -> قاعده اسكوتشه 9بوصه توتال | C4: =[1]All!G9 -> عام | D4: =[1]All!H9 -> 250 | F4: =IFERROR(INDEX(all[اسم الصنف],MATCH(SMALL($I$2:$I$3995,ROWS($F$2:F4)),$I$2:$I$3995,0)),"") -> بستله سيلر مائي اورينت ستايل121 | G4: =IFERROR(IF(SEARCH(بحث!$L$4,all[الشركة])>0,ROW(G4),""),"") | H4: =IFERROR(INDEX(all[الشركة],MATCH(SMALL($G$2:$G$3995,ROWS($H$2:H4)),$G$2:$G$3995,0)),"") -> أورينت | I4: =IFERROR(IF(SEARCH(بحث!$L$4,all[الشركة])>0,ROW(G4),""),"") | J4: =IFERROR(INDEX(all[الباركود],MATCH(SMALL($I$2:$I$3995,ROWS($J$2:J4)),$I$2:$I$3995,0)),"") -> 1564 | K4: =IFERROR(INDEX(all[سعر البيع],MATCH(SMALL($I$2:$I$3995,ROWS($K$2:K4)),$I$2:$I$3995,0)),"") -> 95.931 | L4: =IFERROR(IF(SEARCH(بحث!$D$4,all[اسم الصنف])>0,ROW(L4),""),"") | M4: =IFERROR(INDEX(all[اسم الصنف],MATCH(SMALL($L$2:$L$3995,ROWS($M$2:M4)),$L$2:$L$3995,0)),"") | N4: =IFERROR(INDEX(all[الباركود],MATCH(SMALL($L$2:$L$3995,ROWS($N$2:N4)),$L$2:$L$3995,0)),"") | O4: =IFERROR(INDEX(all[الشركة],MATCH(SMALL($L$2:$L$3995,ROWS($O$2:O4)),$L$2:$L$3995,0)),"") | P4: =IFERROR(INDEX(all[سعر البيع],MATCH(SMALL($L$2:$L$3995,ROWS($P$2:P4)),$L$2:$L$3995,0)),"")
A5: =[1]All!E10 -> 5614 | B5: =[1]All!F10 -> كرتونه مصلب سيلر يوريثان 1/2 كيلو | C5: =[1]All!G10 -> المهندس | D5: =[1]All!H10 -> 200.79 | F5: =IFERROR(INDEX(all[اسم الصنف],MATCH(SMALL($I$2:$I$3995,ROWS($F$2:F5)),$I$2:$I$3995,0)),"") -> جالون سيلر مائي اورينت ستايل121 | G5: =IFERROR(IF(SEARCH(بحث!$L$4,all[الشركة])>0,ROW(G5),""),"") | H5: =IFERROR(INDEX(all[الشركة],MATCH(SMALL($G$2:$G$3995,ROWS($H$2:H5)),$G$2:$G$3995,0)),"") -> أورينت | I5: =IFERROR(IF(SEARCH(بحث!$L$4,all[الشركة])>0,ROW(G5),""),"") | J5: =IFERROR(INDEX(all[الباركود],MATCH(SMALL($I$2:$I$3995,ROWS($J$2:J5)),$I$2:$I$3995,0)),"") -> 1566 | K5: =IFERROR(INDEX(all[سعر البيع],MATCH(SMALL($I$2:$I$3995,ROWS($K$2:K5)),$I$2:$I$3995,0)),"") -> 36.6966 | L5: =IFERROR(IF(SEARCH(بحث!$D$4,all[اسم الصنف])>0,ROW(L5),""),"") | M5: =IFERROR(INDEX(all[اسم الصنف],MATCH(SMALL($L$2:$L$3995,ROWS($M$2:M5)),$L$2:$L$3995,0)),"") | N5: =IFERROR(INDEX(all[الباركود],MATCH(SMALL($L$2:$L$3995,ROWS($N$2:N5)),$L$2:$L$3995,0)),"") | O5: =IFERROR(INDEX(all[الشركة],MATCH(SMALL($L$2:$L$3995,ROWS($O$2:O5)),$L$2:$L$3995,0)),"") | P5: =IFERROR(INDEX(all[سعر البيع],MATCH(SMALL($L$2:$L$3995,ROWS($P$2:P5)),$L$2:$L$3995,0)),"")
A6: =[1]All!E11 -> 5615 | B6: =[1]All!F11 -> كرتونه نفض العالميه 6 زجاجه | C6: =[1]All!G11 -> العالميه | D6: =[1]All!H11 -> 60 | F6: =IFERROR(INDEX(all[اسم الصنف],MATCH(SMALL($I$2:$I$3995,ROWS($F$2:F6)),$I$2:$I$3995,0)),"") -> كرتونه برايمر اورينت احمر ×1/2 | G6: =IFERROR(IF(SEARCH(بحث!$L$4,all[الشركة])>0,ROW(G6),""),"") | H6: =IFERROR(INDEX(all[الشركة],MATCH(SMALL($G$2:$G$3995,ROWS($H$2:H6)),$G$2:$G$3995,0)),"") -> أورينت | I6: =IFERROR(IF(SEARCH(بحث!$L$4,all[الشركة])>0,ROW(G6),""),"") | J6: =IFERROR(INDEX(all[الباركود],MATCH(SMALL($I$2:$I$3995,ROWS($J$2:J6)),$I$2:$I$3995,0)),"") -> 1635 | K6: =IFERROR(INDEX(all[سعر البيع],MATCH(SMALL($I$2:$I$3995,ROWS($K$2:K6)),$I$2:$I$3995,0)),"") -> 257.7312 | L6: =IFERROR(IF(SEARCH(بحث!$D$4,all[اسم الصنف])>0,ROW(L6),""),"") | M6: =IFERROR(INDEX(all[اسم الصنف],MATCH(SMALL($L$2:$L$3995,ROWS($M$2:M6)),$L$2:$L$3995,0)),"") | N6: =IFERROR(INDEX(all[الباركود],MATCH(SMALL($L$2:$L$3995,ROWS($N$2:N6)),$L$2:$L$3995,0)),"") | O6: =IFERROR(INDEX(all[الشركة],MATCH(SMALL($L$2:$L$3995,ROWS($O$2:O6)),$L$2:$L$3995,0)),"") | P6: =IFERROR(INDEX(all[سعر البيع],MATCH(SMALL($L$2:$L$3995,ROWS($P$2:P6)),$L$2:$L$3995,0)),"")
A7: =[1]All!E12 -> 5616 | B7: =[1]All!F12 -> كرتونه نفض رومي شفاف 4 زجاجه العالميه | C7: =[1]All!G12 -> العالميه | D7: =[1]All!H12 -> 175 | F7: =IFERROR(INDEX(all[اسم الصنف],MATCH(SMALL($I$2:$I$3995,ROWS($F$2:F7)),$I$2:$I$3995,0)),"") -> بستله برايمر اورينت ستايل405 20ك احمر | G7: =IFERROR(IF(SEARCH(بحث!$L$4,all[الشركة])>0,ROW(G7),""),"") | H7: =IFERROR(INDEX(all[الشركة],MATCH(SMALL($G$2:$G$3995,ROWS($H$2:H7)),$G$2:$G$3995,0)),"") -> أورينت | I7: =IFERROR(IF(SEARCH(بحث!$L$4,all[الشركة])>0,ROW(G7),""),"") | J7: =IFERROR(INDEX(all[الباركود],MATCH(SMALL($I$2:$I$3995,ROWS($J$2:J7)),$I$2:$I$3995,0)),"") -> 1640 | K7: =IFERROR(INDEX(all[سعر البيع],MATCH(SMALL($I$2:$I$3995,ROWS($K$2:K7)),$I$2:$I$3995,0)),"") -> 540.9756 | L7: =IFERROR(IF(SEARCH(بحث!$D$4,all[اسم الصنف])>0,ROW(L7),""),"") | M7: =IFERROR(INDEX(all[اسم الصنف],MATCH(SMALL($L$2:$L$3995,ROWS($M$2:M7)),$L$2:$L$3995,0)),"") | N7: =IFERROR(INDEX(all[الباركود],MATCH(SMALL($L$2:$L$3995,ROWS($N$2:N7)),$L$2:$L$3995,0)),"") | O7: =IFERROR(INDEX(all[الشركة],MATCH(SMALL($L$2:$L$3995,ROWS($O$2:O7)),$L$2:$L$3995,0)),"") | P7: =IFERROR(INDEX(all[سعر البيع],MATCH(SMALL($L$2:$L$3995,ROWS($P$2:P7)),$L$2:$L$3995,0)),"")
A8: =[1]All!E13 -> 744 | B8: =[1]All!F13 -> كرتونه ديكورا لاكيه لامع اسكيب *ك اخضر 211 | C8: =[1]All!G13 -> إسكيب | D8: =[1]All!H13 -> 201.78 | F8: =IFERROR(INDEX(all[اسم الصنف],MATCH(SMALL($I$2:$I$3995,ROWS($F$2:F8)),$I$2:$I$3995,0)),"") -> بستله برايمر اورينت ستايل405 20ك رصاصي | G8: =IFERROR(IF(SEARCH(بحث!$L$4,all[الشركة])>0,ROW(G8),""),"") | H8: =IFERROR(INDEX(all[الشركة],MATCH(SMALL($G$2:$G$3995,ROWS($H$2:H8)),$G$2:$G$3995,0)),"") -> أورينت | I8: =IFERROR(IF(SEARCH(بحث!$L$4,all[الشركة])>0,ROW(G8),""),"") | J8: =IFERROR(INDEX(all[الباركود],MATCH(SMALL($I$2:$I$3995,ROWS($J$2:J8)),$I$2:$I$3995,0)),"") -> 1641 | K8: =IFERROR(INDEX(all[سعر البيع],MATCH(SMALL($I$2:$I$3995,ROWS($K$2:K8)),$I$2:$I$3995,0)),"") -> 450.9756 | L8: =IFERROR(IF(SEARCH(بحث!$D$4,all[اسم الصنف])>0,ROW(L8),""),"") | M8: =IFERROR(INDEX(all[اسم الصنف],MATCH(SMALL($L$2:$L$3995,ROWS($M$2:M8)),$L$2:$L$3995,0)),"") | N8: =IFERROR(INDEX(all[الباركود],MATCH(SMALL($L$2:$L$3995,ROWS($N$2:N8)),$L$2:$L$3995,0)),"") | O8: =IFERROR(INDEX(all[الشركة],MATCH(SMALL($L$2:$L$3995,ROWS($O$2:O8)),$L$2:$L$3995,0)),"") | P8: =IFERROR(INDEX(all[سعر البيع],MATCH(SMALL($L$2:$L$3995,ROWS($P$2:P8)),$L$2:$L$3995,0)),"")
A9: =[1]All!E14 -> 751 | B9: =[1]All!F14 -> كرتونه ديكورا لاكيه لامع اسكيب *ك ازرق 112 | C9: =[1]All!G14 -> إسكيب | D9: =[1]All!H14 -> 201.78 | F9: =IFERROR(INDEX(all[اسم الصنف],MATCH(SMALL($I$2:$I$3995,ROWS($F$2:F9)),$I$2:$I$3995,0)),"") -> جالون برايمر اورينت ستايل405 احمر | G9: =IFERROR(IF(SEARCH(بحث!$L$4,all[الشركة])>0,ROW(G9),""),"") | H9: =IFERROR(INDEX(all[الشركة],MATCH(SMALL($G$2:$G$3995,ROWS($H$2:H9)),$G$2:$G$3995,0)),"") -> أورينت | I9: =IFERROR(IF(SEARCH(بحث!$L$4,all[الشركة])>0,ROW(G9),""),"") | J9: =IFERROR(INDEX(all[الباركود],MATCH(SMALL($I$2:$I$3995,ROWS($J$2:J9)),$I$2:$I$3995,0)),"") -> 1643 | K9: =IFERROR(INDEX(all[سعر البيع],MATCH(SMALL($I$2:$I$3995,ROWS($K$2:K9)),$I$2:$I$3995,0)),"") -> 81.3276 | L9: =IFERROR(IF(SEARCH(بحث!$D$4,all[اسم الصنف])>0,ROW(L9),""),"") | M9: =IFERROR(INDEX(all[اسم الصنف],MATCH(SMALL($L$2:$L$3995,ROWS($M$2:M9)),$L$2:$L$3995,0)),"") | N9: =IFERROR(INDEX(all[الباركود],MATCH(SMALL($L$2:$L$3995,ROWS($N$2:N9)),$L$2:$L$3995,0)),"") | O9: =IFERROR(INDEX(all[الشركة],MATCH(SMALL($L$2:$L$3995,ROWS($O$2:O9)),$L$2:$L$3995,0)),"") | P9: =IFERROR(INDEX(all[سعر البيع],MATCH(SMALL($L$2:$L$3995,ROWS($P$2:P9)),$L$2:$L$3995,0)),"")
A10: =[1]All!E15 -> 765 | B10: =[1]All!F15 -> كرتونه ديكورا لاكيه لامع اسكيب *1/2 اسود 801 | C10: =[1]All!G15 -> إسكيب | D10: =[1]All!H15 -> 129.96 | F10: =IFERROR(INDEX(all[اسم الصنف],MATCH(SMALL($I$2:$I$3995,ROWS($F$2:F10)),$I$2:$I$3995,0)),"") -> جالون برايمر اورينت ستايل405 رصاصي | G10: =IFERROR(IF(SEARCH(بحث!$L$4,all[الشركة])>0,ROW(G10),""),"") | H10: =IFERROR(INDEX(all[الشركة],MATCH(SMALL($G$2:$G$3995,ROWS($H$2:H10)),$G$2:$G$3995,0)),"") -> أورينت | I10: =IFERROR(IF(SEARCH(بحث!$L$4,all[الشركة])>0,ROW(G10),""),"") | J10: =IFERROR(INDEX(all[الباركود],MATCH(SMALL($I$2:$I$3995,ROWS($J$2:J10)),$I$2:$I$3995,0)),"") -> 1644 | K10: =IFERROR(INDEX(all[سعر البيع],MATCH(SMALL($I$2:$I$3995,ROWS($K$2:K10)),$I$2:$I$3995,0)),"") -> 81.3276 | L10: =IFERROR(IF(SEARCH(بحث!$D$4,all[اسم الصنف])>0,ROW(L10),""),"") | M10: =IFERROR(INDEX(all[اسم الصنف],MATCH(SMALL($L$2:$L$3995,ROWS($M$2:M10)),$L$2:$L$3995,0)),"") | N10: =IFERROR(INDEX(all[الباركود],MATCH(SMALL($L$2:$L$3995,ROWS($N$2:N10)),$L$2:$L$3995,0)),"") | O10: =IFERROR(INDEX(all[الشركة],MATCH(SMALL($L$2:$L$3995,ROWS($O$2:O10)),$L$2:$L$3995,0)),"") | P10: =IFERROR(INDEX(all[سعر البيع],MATCH(SMALL($L$2:$L$3995,ROWS($P$2:P10)),$L$2:$L$3995,0)),"")
A11: =[1]All!E16 -> 775 | B11: =[1]All!F16 -> كرتونه ديكورا لاكيه لامع اسكيب *1/2 ازرق 112 | C11: =[1]All!G16 -> إسكيب | D11: =[1]All!H16 -> 129.96 | F11: =IFERROR(INDEX(all[اسم الصنف],MATCH(SMALL($I$2:$I$3995,ROWS($F$2:F11)),$I$2:$I$3995,0)),"") -> كرتونه برايمر اورينت405 *ك احمر | G11: =IFERROR(IF(SEARCH(بحث!$L$4,all[الشركة])>0,ROW(G11),""),"") | H11: =IFERROR(INDEX(all[الشركة],MATCH(SMALL($G$2:$G$3995,ROWS($H$2:H11)),$G$2:$G$3995,0)),"") -> أورينت | I11: =IFERROR(IF(SEARCH(بحث!$L$4,all[الشركة])>0,ROW(G11),""),"") | J11: =IFERROR(INDEX(all[الباركود],MATCH(SMALL($I$2:$I$3995,ROWS($J$2:J11)),$I$2:$I$3995,0)),"") -> 1646 | K11: =IFERROR(INDEX(all[سعر البيع],MATCH(SMALL($I$2:$I$3995,ROWS($K$2:K11)),$I$2:$I$3995,0)),"") -> 157.0464 | L11: =IFERROR(IF(SEARCH(بحث!$D$4,all[اسم الصنف])>0,ROW(L11),""),"") | M11: =IFERROR(INDEX(all[اسم الصنف],MATCH(SMALL($L$2:$L$3995,ROWS($M$2:M11)),$L$2:$L$3995,0)),"") | N11: =IFERROR(INDEX(all[الباركود],MATCH(SMALL($L$2:$L$3995,ROWS($N$2:N11)),$L$2:$L$3995,0)),"") | O11: =IFERROR(INDEX(all[الشركة],MATCH(SMALL($L$2:$L$3995,ROWS($O$2:O11)),$L$2:$L$3995,0)),"") | P11: =IFERROR(INDEX(all[سعر البيع],MATCH(SMALL($L$2:$L$3995,ROWS($P$2:P11)),$L$2:$L$3995,0)),"")
A12: =[1]All!E17 -> 3150 | B12: =[1]All!F17 -> جالون ديكورا لاكيه لامع اسكيب دوبل 518 | C12: =[1]All!G17 -> إسكيب | D12: =[1]All!H17 -> 171 | F12: =IFERROR(INDEX(all[اسم الصنف],MATCH(SMALL($I$2:$I$3995,ROWS($F$2:F12)),$I$2:$I$3995,0)),"") | G12: =IFERROR(IF(SEARCH(بحث!$L$4,all[الشركة])>0,ROW(G12),""),"") | H12: =IFERROR(INDEX(all[الشركة],MATCH(SMALL($G$2:$G$3995,ROWS($H$2:H12)),$G$2:$G$3995,0)),"") | I12: =IFERROR(IF(SEARCH(بحث!$L$4,all[الشركة])>0,ROW(G12),""),"") | J12: =IFERROR(INDEX(all[الباركود],MATCH(SMALL($I$2:$I$3995,ROWS($J$2:J12)),$I$2:$I$3995,0)),"") | K12: =IFERROR(INDEX(all[سعر البيع],MATCH(SMALL($I$2:$I$3995,ROWS($K$2:K12)),$I$2:$I$3995,0)),"") | L12: =IFERROR(IF(SEARCH(بحث!$D$4,all[اسم الصنف])>0,ROW(L12),""),"") | M12: =IFERROR(INDEX(all[اسم الصنف],MATCH(SMALL($L$2:$L$3995,ROWS($M$2:M12)),$L$2:$L$3995,0)),"") | N12: =IFERROR(INDEX(all[الباركود],MATCH(SMALL($L$2:$L$3995,ROWS($N$2:N12)),$L$2:$L$3995,0)),"") | O12: =IFERROR(INDEX(all[الشركة],MATCH(SMALL($L$2:$L$3995,ROWS($O$2:O12)),$L$2:$L$3995,0)),"") | P12: =IFERROR(INDEX(all[سعر البيع],MATCH(SMALL($L$2:$L$3995,ROWS($P$2:P12)),$L$2:$L$3995,0)),"")
A13: =[1]All!E18 -> 5622 | B13: =[1]All!F18 -> جالون اكريكوت لامع دوبل اسود 801 اسكيب | C13: =[1]All!G18 -> إسكيب | D13: =[1]All!H18 -> 237.12 | F13: =IFERROR(INDEX(all[اسم الصنف],MATCH(SMALL($I$2:$I$3995,ROWS($F$2:F13)),$I$2:$I$3995,0)),"") | G13: =IFERROR(IF(SEARCH(بحث!$L$4,all[الشركة])>0,ROW(G13),""),"") | H13: =IFERROR(INDEX(all[الشركة],MATCH(SMALL($G$2:$G$3995,ROWS($H$2:H13)),$G$2:$G$3995,0)),"") | I13: =IFERROR(IF(SEARCH(بحث!$L$4,all[الشركة])>0,ROW(G13),""),"") | J13: =IFERROR(INDEX(all[الباركود],MATCH(SMALL($I$2:$I$3995,ROWS($J$2:J13)),$I$2:$I$3995,0)),"") | K13: =IFERROR(INDEX(all[سعر البيع],MATCH(SMALL($I$2:$I$3995,ROWS($K$2:K13)),$I$2:$I$3995,0)),"") | L13: =IFERROR(IF(SEARCH(بحث!$D$4,all[اسم الصنف])>0,ROW(L13),""),"") | M13: =IFERROR(INDEX(all[اسم الصنف],MATCH(SMALL($L$2:$L$3995,ROWS($M$2:M13)),$L$2:$L$3995,0)),"") | N13: =IFERROR(INDEX(all[الباركود],MATCH(SMALL($L$2:$L$3995,ROWS($N$2:N13)),$L$2:$L$3995,0)),"") | O13: =IFERROR(INDEX(all[الشركة],MATCH(SMALL($L$2:$L$3995,ROWS($O$2:O13)),$L$2:$L$3995,0)),"") | P13: =IFERROR(INDEX(all[سعر البيع],MATCH(SMALL($L$2:$L$3995,ROWS($P$2:P13)),$L$2:$L$3995,0)),"")
F14: =IFERROR(INDEX(all[اسم الصنف],MATCH(SMALL($I$2:$I$3995,ROWS($F$2:F14)),$I$2:$I$3995,0)),"") | G14: =IFERROR(IF(SEARCH(بحث!$L$4,all[الشركة])>0,ROW(G14),""),"") | H14: =IFERROR(INDEX(all[الشركة],MATCH(SMALL($G$2:$G$3995,ROWS($H$2:H14)),$G$2:$G$3995,0)),"") | I14: =IFERROR(IF(SEARCH(بحث!$L$4,all[الشركة])>0,ROW(G14),""),"") | J14: =IFERROR(INDEX(all[الباركود],MATCH(SMALL($I$2:$I$3995,ROWS($J$2:J14)),$I$2:$I$3995,0)),"") | K14: =IFERROR(INDEX(all[سعر البيع],MATCH(SMALL($I$2:$I$3995,ROWS($K$2:K14)),$I$2:$I$3995,0)),"") | L14: =IFERROR(IF(SEARCH(بحث!$D$4,all[اسم الصنف])>0,ROW(L14),""),"") | M14: =IFERROR(INDEX(all[اسم الصنف],MATCH(SMALL($L$2:$L$3995,ROWS($M$2:M14)),$L$2:$L$3995,0)),"") | N14: =IFERROR(INDEX(all[الباركود],MATCH(SMALL($L$2:$L$3995,ROWS($N$2:N14)),$L$2:$L$3995,0)),"") | O14: =IFERROR(INDEX(all[الشركة],MATCH(SMALL($L$2:$L$3995,ROWS($O$2:O14)),$L$2:$L$3995,0)),"") | P14: =IFERROR(INDEX(all[سعر البيع],MATCH(SMALL($L$2:$L$3995,ROWS($P$2:P14)),$L$2:$L$3995,0)),"")
F15: =IFERROR(INDEX(all[اسم الصنف],MATCH(SMALL($I$2:$I$3995,ROWS($F$2:F15)),$I$2:$I$3995,0)),"") | G15: =IFERROR(IF(SEARCH(بحث!$L$4,all[الشركة])>0,ROW(G15),""),"") | H15: =IFERROR(INDEX(all[الشركة],MATCH(SMALL($G$2:$G$3995,ROWS($H$2:H15)),$G$2:$G$3995,0)),"") | I15: =IFERROR(IF(SEARCH(بحث!$L$4,all[الشركة])>0,ROW(G15),""),"") | J15: =IFERROR(INDEX(all[الباركود],MATCH(SMALL($I$2:$I$3995,ROWS($J$2:J15)),$I$2:$I$3995,0)),"") | K15: =IFERROR(INDEX(all[سعر البيع],MATCH(SMALL($I$2:$I$3995,ROWS($K$2:K15)),$I$2:$I$3995,0)),"") | L15: =IFERROR(IF(SEARCH(بحث!$D$4,all[اسم الصنف])>0,ROW(L15),""),"") | M15: =IFERROR(INDEX(all[اسم الصنف],MATCH(SMALL($L$2:$L$3995,ROWS($M$2:M15)),$L$2:$L$3995,0)),"") | N15: =IFERROR(INDEX(all[الباركود],MATCH(SMALL($L$2:$L$3995,ROWS($N$2:N15)),$L$2:$L$3995,0)),"") | O15: =IFERROR(INDEX(all[الشركة],MATCH(SMALL($L$2:$L$3995,ROWS($O$2:O15)),$L$2:$L$3995,0)),"") | P15: =IFERROR(INDEX(all[سعر البيع],MATCH(SMALL($L$2:$L$3995,ROWS($P$2:P15)),$L$2:$L$3995,0)),"")
A16: =[1]All!E21 -> 1008 | B16: =[1]All!F21 -> جالون سيلر بوريثان المهندس 4ك | C16: =[1]All!G21 -> المهندس | D16: =[1]All!H21 -> 433.8325 | F16: =IFERROR(INDEX(all[اسم الصنف],MATCH(SMALL($I$2:$I$3995,ROWS($F$2:F16)),$I$2:$I$3995,0)),"") | G16: =IFERROR(IF(SEARCH(بحث!$L$4,all[الشركة])>0,ROW(G16),""),"") | H16: =IFERROR(INDEX(all[الشركة],MATCH(SMALL($G$2:$G$3995,ROWS($H$2:H16)),$G$2:$G$3995,0)),"") | I16: =IFERROR(IF(SEARCH(بحث!$L$4,all[الشركة])>0,ROW(G16),""),"") | J16: =IFERROR(INDEX(all[الباركود],MATCH(SMALL($I$2:$I$3995,ROWS($J$2:J16)),$I$2:$I$3995,0)),"") | K16: =IFERROR(INDEX(all[سعر البيع],MATCH(SMALL($I$2:$I$3995,ROWS($K$2:K16)),$I$2:$I$3995,0)),"") | L16: =IFERROR(IF(SEARCH(بحث!$D$4,all[اسم الصنف])>0,ROW(L16),""),"") | M16: =IFERROR(INDEX(all[اسم الصنف],MATCH(SMALL($L$2:$L$3995,ROWS($M$2:M16)),$L$2:$L$3995,0)),"") | N16: =IFERROR(INDEX(all[الباركود],MATCH(SMALL($L$2:$L$3995,ROWS($N$2:N16)),$L$2:$L$3995,0)),"") | O16: =IFERROR(INDEX(all[الشركة],MATCH(SMALL($L$2:$L$3995,ROWS($O$2:O16)),$L$2:$L$3995,0)),"") | P16: =IFERROR(INDEX(all[سعر البيع],MATCH(SMALL($L$2:$L$3995,ROWS($P$2:P16)),$L$2:$L$3995,0)),"")
F17: =IFERROR(INDEX(all[اسم الصنف],MATCH(SMALL($I$2:$I$3995,ROWS($F$2:F17)),$I$2:$I$3995,0)),"") | G17: =IFERROR(IF(SEARCH(بحث!$L$4,all[الشركة])>0,ROW(G17),""),"") | H17: =IFERROR(INDEX(all[الشركة],MATCH(SMALL($G$2:$G$3995,ROWS($H$2:H17)),$G$2:$G$3995,0)),"") | I17: =IFERROR(IF(SEARCH(بحث!$L$4,all[الشركة])>0,ROW(G17),""),"") | J17: =IFERROR(INDEX(all[الباركود],MATCH(SMALL($I$2:$I$3995,ROWS($J$2:J17)),$I$2:$I$3995,0)),"") | K17: =IFERROR(INDEX(all[سعر البيع],MATCH(SMALL($I$2:$I$3995,ROWS($K$2:K17)),$I$2:$I$3995,0)),"") | L17: =IFERROR(IF(SEARCH(بحث!$D$4,all[اسم الصنف])>0,ROW(L17),""),"") | M17: =IFERROR(INDEX(all[اسم الصنف],MATCH(SMALL($L$2:$L$3995,ROWS($M$2:M17)),$L$2:$L$3995,0)),"") | N17: =IFERROR(INDEX(all[الباركود],MATCH(SMALL($L$2:$L$3995,ROWS($N$2:N17)),$L$2:$L$3995,0)),"") | O17: =IFERROR(INDEX(all[الشركة],MATCH(SMALL($L$2:$L$3995,ROWS($O$2:O17)),$L$2:$L$3995,0)),"") | P17: =IFERROR(INDEX(all[سعر البيع],MATCH(SMALL($L$2:$L$3995,ROWS($P$2:P17)),$L$2:$L$3995,0)),"")
F18: =IFERROR(INDEX(all[اسم الصنف],MATCH(SMALL($I$2:$I$3995,ROWS($F$2:F18)),$I$2:$I$3995,0)),"") | G18: =IFERROR(IF(SEARCH(بحث!$L$4,all[الشركة])>0,ROW(G18),""),"") | H18: =IFERROR(INDEX(all[الشركة],MATCH(SMALL($G$2:$G$3995,ROWS($H$2:H18)),$G$2:$G$3995,0)),"") | I18: =IFERROR(IF(SEARCH(بحث!$L$4,all[الشركة])>0,ROW(G18),""),"") | J18: =IFERROR(INDEX(all[الباركود],MATCH(SMALL($I$2:$I$3995,ROWS($J$2:J18)),$I$2:$I$3995,0)),"") | K18: =IFERROR(INDEX(all[سعر البيع],MATCH(SMALL($I$2:$I$3995,ROWS($K$2:K18)),$I$2:$I$3995,0)),"") | L18: =IFERROR(IF(SEARCH(بحث!$D$4,all[اسم الصنف])>0,ROW(L18),""),"") | M18: =IFERROR(INDEX(all[اسم الصنف],MATCH(SMALL($L$2:$L$3995,ROWS($M$2:M18)),$L$2:$L$3995,0)),"") | N18: =IFERROR(INDEX(all[الباركود],MATCH(SMALL($L$2:$L$3995,ROWS($N$2:N18)),$L$2:$L$3995,0)),"") | O18: =IFERROR(INDEX(all[الشركة],MATCH(SMALL($L$2:$L$3995,ROWS($O$2:O18)),$L$2:$L$3995,0)),"") | P18: =IFERROR(INDEX(all[سعر البيع],MATCH(SMALL($L$2:$L$3995,ROWS($P$2:P18)),$L$2:$L$3995,0)),"")
A19: =[1]All!E24 -> 1014 | B19: =[1]All!F24 -> كيلو صنفره كوره الاقتصادي المصريه 180 | C19: =[1]All!G24 -> المصريه الايطاليه | D19: =[1]All!H24 -> 90 | F19: =IFERROR(INDEX(all[اسم الصنف],MATCH(SMALL($I$2:$I$3995,ROWS($F$2:F19)),$I$2:$I$3995,0)),"") | G19: =IFERROR(IF(SEARCH(بحث!$L$4,all[الشركة])>0,ROW(G19),""),"") | H19: =IFERROR(INDEX(all[الشركة],MATCH(SMALL($G$2:$G$3995,ROWS($H$2:H19)),$G$2:$G$3995,0)),"") | I19: =IFERROR(IF(SEARCH(بحث!$L$4,all[الشركة])>0,ROW(G19),""),"") | J19: =IFERROR(INDEX(all[الباركود],MATCH(SMALL($I$2:$I$3995,ROWS($J$2:J19)),$I$2:$I$3995,0)),"") | K19: =IFERROR(INDEX(all[سعر البيع],MATCH(SMALL($I$2:$I$3995,ROWS($K$2:K19)),$I$2:$I$3995,0)),"") | L19: =IFERROR(IF(SEARCH(بحث!$D$4,all[اسم الصنف])>0,ROW(L19),""),"") | M19: =IFERROR(INDEX(all[اسم الصنف],MATCH(SMALL($L$2:$L$3995,ROWS($M$2:M19)),$L$2:$L$3995,0)),"") | N19: =IFERROR(INDEX(all[الباركود],MATCH(SMALL($L$2:$L$3995,ROWS($N$2:N19)),$L$2:$L$3995,0)),"") | O19: =IFERROR(INDEX(all[الشركة],MATCH(SMALL($L$2:$L$3995,ROWS($O$2:O19)),$L$2:$L$3995,0)),"") | P19: =IFERROR(INDEX(all[سعر البيع],MATCH(SMALL($L$2:$L$3995,ROWS($P$2:P19)),$L$2:$L$3995,0)),"")
A20: =[1]All!E25 -> 1015 | B20: =[1]All!F25 -> كيلو صنفره كوره الاقتصادي المصريه 220 | C20: =[1]All!G25 -> المصريه الايطاليه | D20: =[1]All!H25 -> 98 | F20: =IFERROR(INDEX(all[اسم الصنف],MATCH(SMALL($I$2:$I$3995,ROWS($F$2:F20)),$I$2:$I$3995,0)),"") | G20: =IFERROR(IF(SEARCH(بحث!$L$4,all[الشركة])>0,ROW(G20),""),"") | H20: =IFERROR(INDEX(all[الشركة],MATCH(SMALL($G$2:$G$3995,ROWS($H$2:H20)),$G$2:$G$3995,0)),"") | I20: =IFERROR(IF(SEARCH(بحث!$L$4,all[الشركة])>0,ROW(G20),""),"") | J20: =IFERROR(INDEX(all[الباركود],MATCH(SMALL($I$2:$I$3995,ROWS($J$2:J20)),$I$2:$I$3995,0)),"") | K20: =IFERROR(INDEX(all[سعر البيع],MATCH(SMALL($I$2:$I$3995,ROWS($K$2:K20)),$I$2:$I$3995,0)),"") | L20: =IFERROR(IF(SEARCH(بحث!$D$4,all[اسم الصنف])>0,ROW(L20),""),"") | M20: =IFERROR(INDEX(all[اسم الصنف],MATCH(SMALL($L$2:$L$3995,ROWS($M$2:M20)),$L$2:$L$3995,0)),"") | N20: =IFERROR(INDEX(all[الباركود],MATCH(SMALL($L$2:$L$3995,ROWS($N$2:N20)),$L$2:$L$3995,0)),"") | O20: =IFERROR(INDEX(all[الشركة],MATCH(SMALL($L$2:$L$3995,ROWS($O$2:O20)),$L$2:$L$3995,0)),"") | P20: =IFERROR(INDEX(all[سعر البيع],MATCH(SMALL($L$2:$L$3995,ROWS($P$2:P20)),$L$2:$L$3995,0)),"")
A21: =[1]All!E26 -> 1016 | B21: =[1]All!F26 -> كيلو فرن كابسي اسود ساده | C21: =[1]All!G26 -> كابسي | D21: =[1]All!H26 -> 189.567 | F21: =IFERROR(INDEX(all[اسم الصنف],MATCH(SMALL($I$2:$I$3995,ROWS($F$2:F21)),$I$2:$I$3995,0)),"") | G21: =IFERROR(IF(SEARCH(بحث!$L$4,all[الشركة])>0,ROW(G21),""),"") | H21: =IFERROR(INDEX(all[الشركة],MATCH(SMALL($G$2:$G$3995,ROWS($H$2:H21)),$G$2:$G$3995,0)),"") | I21: =IFERROR(IF(SEARCH(بحث!$L$4,all[الشركة])>0,ROW(G21),""),"") | J21: =IFERROR(INDEX(all[الباركود],MATCH(SMALL($I$2:$I$3995,ROWS($J$2:J21)),$I$2:$I$3995,0)),"") | K21: =IFERROR(INDEX(all[سعر البيع],MATCH(SMALL($I$2:$I$3995,ROWS($K$2:K21)),$I$2:$I$3995,0)),"") | L21: =IFERROR(IF(SEARCH(بحث!$D$4,all[اسم الصنف])>0,ROW(L21),""),"") | M21: =IFERROR(INDEX(all[اسم الصنف],MATCH(SMALL($L$2:$L$3995,ROWS($M$2:M21)),$L$2:$L$3995,0)),"") | N21: =IFERROR(INDEX(all[الباركود],MATCH(SMALL($L$2:$L$3995,ROWS($N$2:N21)),$L$2:$L$3995,0)),"") | O21: =IFERROR(INDEX(all[الشركة],MATCH(SMALL($L$2:$L$3995,ROWS($O$2:O21)),$L$2:$L$3995,0)),"") | P21: =IFERROR(INDEX(all[سعر البيع],MATCH(SMALL($L$2:$L$3995,ROWS($P$2:P21)),$L$2:$L$3995,0)),"")
A22: =[1]All!E27 -> 1019 | B22: =[1]All!F27 -> كيلو برستول عيار فضي | C22: =[1]All!G27 -> بروستول | D22: =[1]All!H27 -> 126 | F22: =IFERROR(INDEX(all[اسم الصنف],MATCH(SMALL($I$2:$I$3995,ROWS($F$2:F22)),$I$2:$I$3995,0)),"") | G22: =IFERROR(IF(SEARCH(بحث!$L$4,all[الشركة])>0,ROW(G22),""),"") | H22: =IFERROR(INDEX(all[الشركة],MATCH(SMALL($G$2:$G$3995,ROWS($H$2:H22)),$G$2:$G$3995,0)),"") | I22: =IFERROR(IF(SEARCH(بحث!$L$4,all[الشركة])>0,ROW(G22),""),"") | J22: =IFERROR(INDEX(all[الباركود],MATCH(SMALL($I$2:$I$3995,ROWS($J$2:J22)),$I$2:$I$3995,0)),"") | K22: =IFERROR(INDEX(all[سعر البيع],MATCH(SMALL($I$2:$I$3995,ROWS($K$2:K22)),$I$2:$I$3995,0)),"") | L22: =IFERROR(IF(SEARCH(بحث!$D$4,all[اسم الصنف])>0,ROW(L22),""),"") | M22: =IFERROR(INDEX(all[اسم الصنف],MATCH(SMALL($L$2:$L$3995,ROWS($M$2:M22)),$L$2:$L$3995,0)),"") | N22: =IFERROR(INDEX(all[الباركود],MATCH(SMALL($L$2:$L$3995,ROWS($N$2:N22)),$L$2:$L$3995,0)),"") | O22: =IFERROR(INDEX(all[الشركة],MATCH(SMALL($L$2:$L$3995,ROWS($O$2:O22)),$L$2:$L$3995,0)),"") | P22: =IFERROR(INDEX(all[سعر البيع],MATCH(SMALL($L$2:$L$3995,ROWS($P$2:P22)),$L$2:$L$3995,0)),"")
A23: =[1]All!E28 -> 1022 | B23: =[1]All!F28 -> كيلو برستول عيار دهبي | C23: =[1]All!G28 -> بروستول | D23: =[1]All!H28 -> 126 | F23: =IFERROR(INDEX(all[اسم الصنف],MATCH(SMALL($I$2:$I$3995,ROWS($F$2:F23)),$I$2:$I$3995,0)),"") | G23: =IFERROR(IF(SEARCH(بحث!$L$4,all[الشركة])>0,ROW(G23),""),"") | H23: =IFERROR(INDEX(all[الشركة],MATCH(SMALL($G$2:$G$3995,ROWS($H$2:H23)),$G$2:$G$3995,0)),"") | I23: =IFERROR(IF(SEARCH(بحث!$L$4,all[الشركة])>0,ROW(G23),""),"") | J23: =IFERROR(INDEX(all[الباركود],MATCH(SMALL($I$2:$I$3995,ROWS($J$2:J23)),$I$2:$I$3995,0)),"") | K23: =IFERROR(INDEX(all[سعر البيع],MATCH(SMALL($I$2:$I$3995,ROWS($K$2:K23)),$I$2:$I$3995,0)),"") | L23: =IFERROR(IF(SEARCH(بحث!$D$4,all[اسم الصنف])>0,ROW(L23),""),"") | M23: =IFERROR(INDEX(all[اسم الصنف],MATCH(SMALL($L$2:$L$3995,ROWS($M$2:M23)),$L$2:$L$3995,0)),"") | N23: =IFERROR(INDEX(all[الباركود],MATCH(SMALL($L$2:$L$3995,ROWS($N$2:N23)),$L$2:$L$3995,0)),"") | O23: =IFERROR(INDEX(all[الشركة],MATCH(SMALL($L$2:$L$3995,ROWS($O$2:O23)),$L$2:$L$3995,0)),"") | P23: =IFERROR(INDEX(all[سعر البيع],MATCH(SMALL($L$2:$L$3995,ROWS($P$2:P23)),$L$2:$L$3995,0)),"")
F24: =IFERROR(INDEX(all[اسم الصنف],MATCH(SMALL($I$2:$I$3995,ROWS($F$2:F24)),$I$2:$I$3995,0)),"") | G24: =IFERROR(IF(SEARCH(بحث!$L$4,all[الشركة])>0,ROW(G24),""),"") | H24: =IFERROR(INDEX(all[الشركة],MATCH(SMALL($G$2:$G$3995,ROWS($H$2:H24)),$G$2:$G$3995,0)),"") | I24: =IFERROR(IF(SEARCH(بحث!$L$4,all[الشركة])>0,ROW(G24),""),"") | J24: =IFERROR(INDEX(all[الباركود],MATCH(SMALL($I$2:$I$3995,ROWS($J$2:J24)),$I$2:$I$3995,0)),"") | K24: =IFERROR(INDEX(all[سعر البيع],MATCH(SMALL($I$2:$I$3995,ROWS($K$2:K24)),$I$2:$I$3995,0)),"") | L24: =IFERROR(IF(SEARCH(بحث!$D$4,all[اسم الصنف])>0,ROW(L24),""),"") | M24: =IFERROR(INDEX(all[اسم الصنف],MATCH(SMALL($L$2:$L$3995,ROWS($M$2:M24)),$L$2:$L$3995,0)),"") | N24: =IFERROR(INDEX(all[الباركود],MATCH(SMALL($L$2:$L$3995,ROWS($N$2:N24)),$L$2:$L$3995,0)),"") | O24: =IFERROR(INDEX(all[الشركة],MATCH(SMALL($L$2:$L$3995,ROWS($O$2:O24)),$L$2:$L$3995,0)),"") | P24: =IFERROR(INDEX(all[سعر البيع],MATCH(SMALL($L$2:$L$3995,ROWS($P$2:P24)),$L$2:$L$3995,0)),"")
F25: =IFERROR(INDEX(all[اسم الصنف],MATCH(SMALL($I$2:$I$3995,ROWS($F$2:F25)),$I$2:$I$3995,0)),"") | G25: =IFERROR(IF(SEARCH(بحث!$L$4,all[الشركة])>0,ROW(G25),""),"") | H25: =IFERROR(INDEX(all[الشركة],MATCH(SMALL($G$2:$G$3995,ROWS($H$2:H25)),$G$2:$G$3995,0)),"") | I25: =IFERROR(IF(SEARCH(بحث!$L$4,all[الشركة])>0,ROW(G25),""),"") | J25: =IFERROR(INDEX(all[الباركود],MATCH(SMALL($I$2:$I$3995,ROWS($J$2:J25)),$I$2:$I$3995,0)),"") | K25: =IFERROR(INDEX(all[سعر البيع],MATCH(SMALL($I$2:$I$3995,ROWS($K$2:K25)),$I$2:$I$3995,0)),"") | L25: =IFERROR(IF(SEARCH(بحث!$D$4,all[اسم الصنف])>0,ROW(L25),""),"") | M25: =IFERROR(INDEX(all[اسم الصنف],MATCH(SMALL($L$2:$L$3995,ROWS($M$2:M25)),$L$2:$L$3995,0)),"") | N25: =IFERROR(INDEX(all[الباركود],MATCH(SMALL($L$2:$L$3995,ROWS($N$2:N25)),$L$2:$L$3995,0)),"") | O25: =IFERROR(INDEX(all[الشركة],MATCH(SMALL($L$2:$L$3995,ROWS($O$2:O25)),$L$2:$L$3995,0)),"") | P25: =IFERROR(INDEX(all[سعر البيع],MATCH(SMALL($L$2:$L$3995,ROWS($P$2:P25)),$L$2:$L$3995,0)),"")
F26: =IFERROR(INDEX(all[اسم الصنف],MATCH(SMALL($I$2:$I$3995,ROWS($F$2:F26)),$I$2:$I$3995,0)),"") | G26: =IFERROR(IF(SEARCH(بحث!$L$4,all[الشركة])>0,ROW(G26),""),"") | H26: =IFERROR(INDEX(all[الشركة],MATCH(SMALL($G$2:$G$3995,ROWS($H$2:H26)),$G$2:$G$3995,0)),"") | I26: =IFERROR(IF(SEARCH(بحث!$L$4,all[الشركة])>0,ROW(G26),""),"") | J26: =IFERROR(INDEX(all[الباركود],MATCH(SMALL($I$2:$I$3995,ROWS($J$2:J26)),$I$2:$I$3995,0)),"") | K26: =IFERROR(INDEX(all[سعر البيع],MATCH(SMALL($I$2:$I$3995,ROWS($K$2:K26)),$I$2:$I$3995,0)),"") | L26: =IFERROR(IF(SEARCH(بحث!$D$4,all[اسم الصنف])>0,ROW(L26),""),"") | M26: =IFERROR(INDEX(all[اسم الصنف],MATCH(SMALL($L$2:$L$3995,ROWS($M$2:M26)),$L$2:$L$3995,0)),"") | N26: =IFERROR(INDEX(all[الباركود],MATCH(SMALL($L$2:$L$3995,ROWS($N$2:N26)),$L$2:$L$3995,0)),"") | O26: =IFERROR(INDEX(all[الشركة],MATCH(SMALL($L$2:$L$3995,ROWS($O$2:O26)),$L$2:$L$3995,0)),"") | P26: =IFERROR(INDEX(all[سعر البيع],MATCH(SMALL($L$2:$L$3995,ROWS($P$2:P26)),$L$2:$L$3995,0)),"")
F27: =IFERROR(INDEX(all[اسم الصنف],MATCH(SMALL($I$2:$I$3995,ROWS($F$2:F27)),$I$2:$I$3995,0)),"") | G27: =IFERROR(IF(SEARCH(بحث!$L$4,all[الشركة])>0,ROW(G27),""),"") | H27: =IFERROR(INDEX(all[الشركة],MATCH(SMALL($G$2:$G$3995,ROWS($H$2:H27)),$G$2:$G$3995,0)),"") | I27: =IFERROR(IF(SEARCH(بحث!$L$4,all[الشركة])>0,ROW(G27),""),"") | J27: =IFERROR(INDEX(all[الباركود],MATCH(SMALL($I$2:$I$3995,ROWS($J$2:J27)),$I$2:$I$3995,0)),"") | K27: =IFERROR(INDEX(all[سعر البيع],MATCH(SMALL($I$2:$I$3995,ROWS($K$2:K27)),$I$2:$I$3995,0)),"") | L27: =IFERROR(IF(SEARCH(بحث!$D$4,all[اسم الصنف])>0,ROW(L27),""),"") | M27: =IFERROR(INDEX(all[اسم الصنف],MATCH(SMALL($L$2:$L$3995,ROWS($M$2:M27)),$L$2:$L$3995,0)),"") | N27: =IFERROR(INDEX(all[الباركود],MATCH(SMALL($L$2:$L$3995,ROWS($N$2:N27)),$L$2:$L$3995,0)),"") | O27: =IFERROR(INDEX(all[الشركة],MATCH(SMALL($L$2:$L$3995,ROWS($O$2:O27)),$L$2:$L$3995,0)),"") | P27: =IFERROR(INDEX(all[سعر البيع],MATCH(SMALL($L$2:$L$3995,ROWS($P$2:P27)),$L$2:$L$3995,0)),"")
F28: =IFERROR(INDEX(all[اسم الصنف],MATCH(SMALL($I$2:$I$3995,ROWS($F$2:F28)),$I$2:$I$3995,0)),"") | G28: =IFERROR(IF(SEARCH(بحث!$L$4,all[الشركة])>0,ROW(G28),""),"") | H28: =IFERROR(INDEX(all[الشركة],MATCH(SMALL($G$2:$G$3995,ROWS($H$2:H28)),$G$2:$G$3995,0)),"") | I28: =IFERROR(IF(SEARCH(بحث!$L$4,all[الشركة])>0,ROW(G28),""),"") | J28: =IFERROR(INDEX(all[الباركود],MATCH(SMALL($I$2:$I$3995,ROWS($J$2:J28)),$I$2:$I$3995,0)),"") | K28: =IFERROR(INDEX(all[سعر البيع],MATCH(SMALL($I$2:$I$3995,ROWS($K$2:K28)),$I$2:$I$3995,0)),"") | L28: =IFERROR(IF(SEARCH(بحث!$D$4,all[اسم الصنف])>0,ROW(L28),""),"") | M28: =IFERROR(INDEX(all[اسم الصنف],MATCH(SMALL($L$2:$L$3995,ROWS($M$2:M28)),$L$2:$L$3995,0)),"") | N28: =IFERROR(INDEX(all[الباركود],MATCH(SMALL($L$2:$L$3995,ROWS($N$2:N28)),$L$2:$L$3995,0)),"") | O28: =IFERROR(INDEX(all[الشركة],MATCH(SMALL($L$2:$L$3995,ROWS($O$2:O28)),$L$2:$L$3995,0)),"") | P28: =IFERROR(INDEX(all[سعر البيع],MATCH(SMALL($L$2:$L$3995,ROWS($P$2:P28)),$L$2:$L$3995,0)),"")
F29: =IFERROR(INDEX(all[اسم الصنف],MATCH(SMALL($I$2:$I$3995,ROWS($F$2:F29)),$I$2:$I$3995,0)),"") | G29: =IFERROR(IF(SEARCH(بحث!$L$4,all[الشركة])>0,ROW(G29),""),"") | H29: =IFERROR(INDEX(all[الشركة],MATCH(SMALL($G$2:$G$3995,ROWS($H$2:H29)),$G$2:$G$3995,0)),"") | I29: =IFERROR(IF(SEARCH(بحث!$L$4,all[الشركة])>0,ROW(G29),""),"") | J29: =IFERROR(INDEX(all[الباركود],MATCH(SMALL($I$2:$I$3995,ROWS($J$2:J29)),$I$2:$I$3995,0)),"") | K29: =IFERROR(INDEX(all[سعر البيع],MATCH(SMALL($I$2:$I$3995,ROWS($K$2:K29)),$I$2:$I$3995,0)),"") | L29: =IFERROR(IF(SEARCH(بحث!$D$4,all[اسم الصنف])>0,ROW(L29),""),"") | M29: =IFERROR(INDEX(all[اسم الصنف],MATCH(SMALL($L$2:$L$3995,ROWS($M$2:M29)),$L$2:$L$3995,0)),"") | N29: =IFERROR(INDEX(all[الباركود],MATCH(SMALL($L$2:$L$3995,ROWS($N$2:N29)),$L$2:$L$3995,0)),"") | O29: =IFERROR(INDEX(all[الشركة],MATCH(SMALL($L$2:$L$3995,ROWS($O$2:O29)),$L$2:$L$3995,0)),"") | P29: =IFERROR(INDEX(all[سعر البيع],MATCH(SMALL($L$2:$L$3995,ROWS($P$2:P29)),$L$2:$L$3995,0)),"")
F30: =IFERROR(INDEX(all[اسم الصنف],MATCH(SMALL($I$2:$I$3995,ROWS($F$2:F30)),$I$2:$I$3995,0)),"") | G30: =IFERROR(IF(SEARCH(بحث!$L$4,all[الشركة])>0,ROW(G30),""),"") | H30: =IFERROR(INDEX(all[الشركة],MATCH(SMALL($G$2:$G$3995,ROWS($H$2:H30)),$G$2:$G$3995,0)),"") | I30: =IFERROR(IF(SEARCH(بحث!$L$4,all[الشركة])>0,ROW(G30),""),"") | J30: =IFERROR(INDEX(all[الباركود],MATCH(SMALL($I$2:$I$3995,ROWS($J$2:J30)),$I$2:$I$3995,0)),"") | K30: =IFERROR(INDEX(all[سعر البيع],MATCH(SMALL($I$2:$I$3995,ROWS($K$2:K30)),$I$2:$I$3995,0)),"") | L30: =IFERROR(IF(SEARCH(بحث!$D$4,all[اسم الصنف])>0,ROW(L30),""),"") | M30: =IFERROR(INDEX(all[اسم الصنف],MATCH(SMALL($L$2:$L$3995,ROWS($M$2:M30)),$L$2:$L$3995,0)),"") | N30: =IFERROR(INDEX(all[الباركود],MATCH(SMALL($L$2:$L$3995,ROWS($N$2:N30)),$L$2:$L$3995,0)),"") | O30: =IFERROR(INDEX(all[الشركة],MATCH(SMALL($L$2:$L$3995,ROWS($O$2:O30)),$L$2:$L$3995,0)),"") | P30: =IFERROR(INDEX(all[سعر البيع],MATCH(SMALL($L$2:$L$3995,ROWS($P$2:P30)),$L$2:$L$3995,0)),"")
A31: =[1]All!E36 -> 1043 | B31: =[1]All!F36 -> كيلو مجموعه المهندس لامع 1:1 | C31: =[1]All!G36 -> المهندس | D31: =[1]All!H36 -> 140.48833 | F31: =IFERROR(INDEX(all[اسم الصنف],MATCH(SMALL($I$2:$I$3995,ROWS($F$2:F31)),$I$2:$I$3995,0)),"") | G31: =IFERROR(IF(SEARCH(بحث!$L$4,all[الشركة])>0,ROW(G31),""),"") | H31: =IFERROR(INDEX(all[الشركة],MATCH(SMALL($G$2:$G$3995,ROWS($H$2:H31)),$G$2:$G$3995,0)),"") | I31: =IFERROR(IF(SEARCH(بحث!$L$4,all[الشركة])>0,ROW(G31),""),"") | J31: =IFERROR(INDEX(all[الباركود],MATCH(SMALL($I$2:$I$3995,ROWS($J$2:J31)),$I$2:$I$3995,0)),"") | K31: =IFERROR(INDEX(all[سعر البيع],MATCH(SMALL($I$2:$I$3995,ROWS($K$2:K31)),$I$2:$I$3995,0)),"") | L31: =IFERROR(IF(SEARCH(بحث!$D$4,all[اسم الصنف])>0,ROW(L31),""),"") | M31: =IFERROR(INDEX(all[اسم الصنف],MATCH(SMALL($L$2:$L$3995,ROWS($M$2:M31)),$L$2:$L$3995,0)),"") | N31: =IFERROR(INDEX(all[الباركود],MATCH(SMALL($L$2:$L$3995,ROWS($N$2:N31)),$L$2:$L$3995,0)),"") | O31: =IFERROR(INDEX(all[الشركة],MATCH(SMALL($L$2:$L$3995,ROWS($O$2:O31)),$L$2:$L$3995,0)),"") | P31: =IFERROR(INDEX(all[سعر البيع],MATCH(SMALL($L$2:$L$3995,ROWS($P$2:P31)),$L$2:$L$3995,0)),"")
F32: =IFERROR(INDEX(all[اسم الصنف],MATCH(SMALL($I$2:$I$3995,ROWS($F$2:F32)),$I$2:$I$3995,0)),"") | G32: =IFERROR(IF(SEARCH(بحث!$L$4,all[الشركة])>0,ROW(G32),""),"") | H32: =IFERROR(INDEX(all[الشركة],MATCH(SMALL($G$2:$G$3995,ROWS($H$2:H32)),$G$2:$G$3995,0)),"") | I32: =IFERROR(IF(SEARCH(بحث!$L$4,all[الشركة])>0,ROW(G32),""),"") | J32: =IFERROR(INDEX(all[الباركود],MATCH(SMALL($I$2:$I$3995,ROWS($J$2:J32)),$I$2:$I$3995,0)),"") | K32: =IFERROR(INDEX(all[سعر البيع],MATCH(SMALL($I$2:$I$3995,ROWS($K$2:K32)),$I$2:$I$3995,0)),"") | L32: =IFERROR(IF(SEARCH(بحث!$D$4,all[اسم الصنف])>0,ROW(L32),""),"") | M32: =IFERROR(INDEX(all[اسم الصنف],MATCH(SMALL($L$2:$L$3995,ROWS($M$2:M32)),$L$2:$L$3995,0)),"") | N32: =IFERROR(INDEX(all[الباركود],MATCH(SMALL($L$2:$L$3995,ROWS($N$2:N32)),$L$2:$L$3995,0)),"") | O32: =IFERROR(INDEX(all[الشركة],MATCH(SMALL($L$2:$L$3995,ROWS($O$2:O32)),$L$2:$L$3995,0)),"") | P32: =IFERROR(INDEX(all[سعر البيع],MATCH(SMALL($L$2:$L$3995,ROWS($P$2:P32)),$L$2:$L$3995,0)),"")
A33: =[1]All!E38 -> 1045 | B33: =[1]All!F38 -> كيلو مجموعه المهندس لامع 1:2 | C33: =[1]All!G38 -> المهندس | D33: =[1]All!H38 -> 110.74167 | F33: =IFERROR(INDEX(all[اسم الصنف],MATCH(SMALL($I$2:$I$3995,ROWS($F$2:F33)),$I$2:$I$3995,0)),"") | G33: =IFERROR(IF(SEARCH(بحث!$L$4,all[الشركة])>0,ROW(G33),""),"") | H33: =IFERROR(INDEX(all[الشركة],MATCH(SMALL($G$2:$G$3995,ROWS($H$2:H33)),$G$2:$G$3995,0)),"") | I33: =IFERROR(IF(SEARCH(بحث!$L$4,all[الشركة])>0,ROW(G33),""),"") | J33: =IFERROR(INDEX(all[الباركود],MATCH(SMALL($I$2:$I$3995,ROWS($J$2:J33)),$I$2:$I$3995,0)),"") | K33: =IFERROR(INDEX(all[سعر البيع],MATCH(SMALL($I$2:$I$3995,ROWS($K$2:K33)),$I$2:$I$3995,0)),"") | L33: =IFERROR(IF(SEARCH(بحث!$D$4,all[اسم الصنف])>0,ROW(L33),""),"") | M33: =IFERROR(INDEX(all[اسم الصنف],MATCH(SMALL($L$2:$L$3995,ROWS($M$2:M33)),$L$2:$L$3995,0)),"") | N33: =IFERROR(INDEX(all[الباركود],MATCH(SMALL($L$2:$L$3995,ROWS($N$2:N33)),$L$2:$L$3995,0)),"") | O33: =IFERROR(INDEX(all[الشركة],MATCH(SMALL($L$2:$L$3995,ROWS($O$2:O33)),$L$2:$L$3995,0)),"") | P33: =IFERROR(INDEX(all[سعر البيع],MATCH(SMALL($L$2:$L$3995,ROWS($P$2:P33)),$L$2:$L$3995,0)),"")
F34: =IFERROR(INDEX(all[اسم الصنف],MATCH(SMALL($I$2:$I$3995,ROWS($F$2:F34)),$I$2:$I$3995,0)),"") | G34: =IFERROR(IF(SEARCH(بحث!$L$4,all[الشركة])>0,ROW(G34),""),"") | H34: =IFERROR(INDEX(all[الشركة],MATCH(SMALL($G$2:$G$3995,ROWS($H$2:H34)),$G$2:$G$3995,0)),"") | I34: =IFERROR(IF(SEARCH(بحث!$L$4,all[الشركة])>0,ROW(G34),""),"") | J34: =IFERROR(INDEX(all[الباركود],MATCH(SMALL($I$2:$I$3995,ROWS($J$2:J34)),$I$2:$I$3995,0)),"") | K34: =IFERROR(INDEX(all[سعر البيع],MATCH(SMALL($I$2:$I$3995,ROWS($K$2:K34)),$I$2:$I$3995,0)),"") | L34: =IFERROR(IF(SEARCH(بحث!$D$4,all[اسم الصنف])>0,ROW(L34),""),"") | M34: =IFERROR(INDEX(all[اسم الصنف],MATCH(SMALL($L$2:$L$3995,ROWS($M$2:M34)),$L$2:$L$3995,0)),"") | N34: =IFERROR(INDEX(all[الباركود],MATCH(SMALL($L$2:$L$3995,ROWS($N$2:N34)),$L$2:$L$3995,0)),"") | O34: =IFERROR(INDEX(all[الشركة],MATCH(SMALL($L$2:$L$3995,ROWS($O$2:O34)),$L$2:$L$3995,0)),"") | P34: =IFERROR(INDEX(all[سعر البيع],MATCH(SMALL($L$2:$L$3995,ROWS($P$2:P34)),$L$2:$L$3995,0)),"")
A35: =[1]All!E40 -> 1047 | B35: =[1]All!F40 -> جالون مجموعه المهندس لامع 1:2 | C35: =[1]All!G40 -> المهندس | D35: =[1]All!H40 -> 445.9575 | F35: =IFERROR(INDEX(all[اسم الصنف],MATCH(SMALL($I$2:$I$3995,ROWS($F$2:F35)),$I$2:$I$3995,0)),"") | G35: =IFERROR(IF(SEARCH(بحث!$L$4,all[الشركة])>0,ROW(G35),""),"") | H35: =IFERROR(INDEX(all[الشركة],MATCH(SMALL($G$2:$G$3995,ROWS($H$2:H35)),$G$2:$G$3995,0)),"") | I35: =IFERROR(IF(SEARCH(بحث!$L$4,all[الشركة])>0,ROW(G35),""),"") | J35: =IFERROR(INDEX(all[الباركود],MATCH(SMALL($I$2:$I$3995,ROWS($J$2:J35)),$I$2:$I$3995,0)),"") | K35: =IFERROR(INDEX(all[سعر البيع],MATCH(SMALL($I$2:$I$3995,ROWS($K$2:K35)),$I$2:$I$3995,0)),"") | L35: =IFERROR(IF(SEARCH(بحث!$D$4,all[اسم الصنف])>0,ROW(L35),""),"") | M35: =IFERROR(INDEX(all[اسم الصنف],MATCH(SMALL($L$2:$L$3995,ROWS($M$2:M35)),$L$2:$L$3995,0)),"") | N35: =IFERROR(INDEX(all[الباركود],MATCH(SMALL($L$2:$L$3995,ROWS($N$2:N35)),$L$2:$L$3995,0)),"") | O35: =IFERROR(INDEX(all[الشركة],MATCH(SMALL($L$2:$L$3995,ROWS($O$2:O35)),$L$2:$L$3995,0)),"") | P35: =IFERROR(INDEX(all[سعر البيع],MATCH(SMALL($L$2:$L$3995,ROWS($P$2:P35)),$L$2:$L$3995,0)),"")
A36: =[1]All!E41 -> 1055 | B36: =[1]All!F41 -> كيلو مجموعه المهندس مط زيرو | C36: =[1]All!G41 -> المهندس | D36: =[1]All!H41 -> 109.125 | F36: =IFERROR(INDEX(all[اسم الصنف],MATCH(SMALL($I$2:$I$3995,ROWS($F$2:F36)),$I$2:$I$3995,0)),"") | G36: =IFERROR(IF(SEARCH(بحث!$L$4,all[الشركة])>0,ROW(G36),""),"") | H36: =IFERROR(INDEX(all[الشركة],MATCH(SMALL($G$2:$G$3995,ROWS($H$2:H36)),$G$2:$G$3995,0)),"") | I36: =IFERROR(IF(SEARCH(بحث!$L$4,all[الشركة])>0,ROW(G36),""),"") | J36: =IFERROR(INDEX(all[الباركود],MATCH(SMALL($I$2:$I$3995,ROWS($J$2:J36)),$I$2:$I$3995,0)),"") | K36: =IFERROR(INDEX(all[سعر البيع],MATCH(SMALL($I$2:$I$3995,ROWS($K$2:K36)),$I$2:$I$3995,0)),"") | L36: =IFERROR(IF(SEARCH(بحث!$D$4,all[اسم الصنف])>0,ROW(L36),""),"") | M36: =IFERROR(INDEX(all[اسم الصنف],MATCH(SMALL($L$2:$L$3995,ROWS($M$2:M36)),$L$2:$L$3995,0)),"") | N36: =IFERROR(INDEX(all[الباركود],MATCH(SMALL($L$2:$L$3995,ROWS($N$2:N36)),$L$2:$L$3995,0)),"") | O36: =IFERROR(INDEX(all[الشركة],MATCH(SMALL($L$2:$L$3995,ROWS($O$2:O36)),$L$2:$L$3995,0)),"") | P36: =IFERROR(INDEX(all[سعر البيع],MATCH(SMALL($L$2:$L$3995,ROWS($P$2:P36)),$L$2:$L$3995,0)),"")
F37: =IFERROR(INDEX(all[اسم الصنف],MATCH(SMALL($I$2:$I$3995,ROWS($F$2:F37)),$I$2:$I$3995,0)),"") | G37: =IFERROR(IF(SEARCH(بحث!$L$4,all[الشركة])>0,ROW(G37),""),"") | H37: =IFERROR(INDEX(all[الشركة],MATCH(SMALL($G$2:$G$3995,ROWS($H$2:H37)),$G$2:$G$3995,0)),"") | I37: =IFERROR(IF(SEARCH(بحث!$L$4,all[الشركة])>0,ROW(G37),""),"") | J37: =IFERROR(INDEX(all[الباركود],MATCH(SMALL($I$2:$I$3995,ROWS($J$2:J37)),$I$2:$I$3995,0)),"") | K37: =IFERROR(INDEX(all[سعر البيع],MATCH(SMALL($I$2:$I$3995,ROWS($K$2:K37)),$I$2:$I$3995,0)),"") | L37: =IFERROR(IF(SEARCH(بحث!$D$4,all[اسم الصنف])>0,ROW(L37),""),"") | M37: =IFERROR(INDEX(all[اسم الصنف],MATCH(SMALL($L$2:$L$3995,ROWS($M$2:M37)),$L$2:$L$3995,0)),"") | N37: =IFERROR(INDEX(all[الباركود],MATCH(SMALL($L$2:$L$3995,ROWS($N$2:N37)),$L$2:$L$3995,0)),"") | O37: =IFERROR(INDEX(all[الشركة],MATCH(SMALL($L$2:$L$3995,ROWS($O$2:O37)),$L$2:$L$3995,0)),"") | P37: =IFERROR(INDEX(all[سعر البيع],MATCH(SMALL($L$2:$L$3995,ROWS($P$2:P37)),$L$2:$L$3995,0)),"")
F38: =IFERROR(INDEX(all[اسم الصنف],MATCH(SMALL($I$2:$I$3995,ROWS($F$2:F38)),$I$2:$I$3995,0)),"") | G38: =IFERROR(IF(SEARCH(بحث!$L$4,all[الشركة])>0,ROW(G38),""),"") | H38: =IFERROR(INDEX(all[الشركة],MATCH(SMALL($G$2:$G$3995,ROWS($H$2:H38)),$G$2:$G$3995,0)),"") | I38: =IFERROR(IF(SEARCH(بحث!$L$4,all[الشركة])>0,ROW(G38),""),"") | J38: =IFERROR(INDEX(all[الباركود],MATCH(SMALL($I$2:$I$3995,ROWS($J$2:J38)),$I$2:$I$3995,0)),"") | K38: =IFERROR(INDEX(all[سعر البيع],MATCH(SMALL($I$2:$I$3995,ROWS($K$2:K38)),$I$2:$I$3995,0)),"") | L38: =IFERROR(IF(SEARCH(بحث!$D$4,all[اسم الصنف])>0,ROW(L38),""),"") | M38: =IFERROR(INDEX(all[اسم الصنف],MATCH(SMALL($L$2:$L$3995,ROWS($M$2:M38)),$L$2:$L$3995,0)),"") | N38: =IFERROR(INDEX(all[الباركود],MATCH(SMALL($L$2:$L$3995,ROWS($N$2:N38)),$L$2:$L$3995,0)),"") | O38: =IFERROR(INDEX(all[الشركة],MATCH(SMALL($L$2:$L$3995,ROWS($O$2:O38)),$L$2:$L$3995,0)),"") | P38: =IFERROR(INDEX(all[سعر البيع],MATCH(SMALL($L$2:$L$3995,ROWS($P$2:P38)),$L$2:$L$3995,0)),"")
F39: =IFERROR(INDEX(all[اسم الصنف],MATCH(SMALL($I$2:$I$3995,ROWS($F$2:F39)),$I$2:$I$3995,0)),"") | G39: =IFERROR(IF(SEARCH(بحث!$L$4,all[الشركة])>0,ROW(G39),""),"") | H39: =IFERROR(INDEX(all[الشركة],MATCH(SMALL($G$2:$G$3995,ROWS($H$2:H39)),$G$2:$G$3995,0)),"") | I39: =IFERROR(IF(SEARCH(بحث!$L$4,all[الشركة])>0,ROW(G39),""),"") | J39: =IFERROR(INDEX(all[الباركود],MATCH(SMALL($I$2:$I$3995,ROWS($J$2:J39)),$I$2:$I$3995,0)),"") | K39: =IFERROR(INDEX(all[سعر البيع],MATCH(SMALL($I$2:$I$3995,ROWS($K$2:K39)),$I$2:$I$3995,0)),"") | L39: =IFERROR(IF(SEARCH(بحث!$D$4,all[اسم الصنف])>0,ROW(L39),""),"") | M39: =IFERROR(INDEX(all[اسم الصنف],MATCH(SMALL($L$2:$L$3995,ROWS($M$2:M39)),$L$2:$L$3995,0)),"") | N39: =IFERROR(INDEX(all[الباركود],MATCH(SMALL($L$2:$L$3995,ROWS($N$2:N39)),$L$2:$L$3995,0)),"") | O39: =IFERROR(INDEX(all[الشركة],MATCH(SMALL($L$2:$L$3995,ROWS($O$2:O39)),$L$2:$L$3995,0)),"") | P39: =IFERROR(INDEX(all[سعر البيع],MATCH(SMALL($L$2:$L$3995,ROWS($P$2:P39)),$L$2:$L$3995,0)),"")
F40: =IFERROR(INDEX(all[اسم الصنف],MATCH(SMALL($I$2:$I$3995,ROWS($F$2:F40)),$I$2:$I$3995,0)),"") | G40: =IFERROR(IF(SEARCH(بحث!$L$4,all[الشركة])>0,ROW(G40),""),"") | H40: =IFERROR(INDEX(all[الشركة],MATCH(SMALL($G$2:$G$3995,ROWS($H$2:H40)),$G$2:$G$3995,0)),"") | I40: =IFERROR(IF(SEARCH(بحث!$L$4,all[الشركة])>0,ROW(G40),""),"") | J40: =IFERROR(INDEX(all[الباركود],MATCH(SMALL($I$2:$I$3995,ROWS($J$2:J40)),$I$2:$I$3995,0)),"") | K40: =IFERROR(INDEX(all[سعر البيع],MATCH(SMALL($I$2:$I$3995,ROWS($K$2:K40)),$I$2:$I$3995,0)),"") | L40: =IFERROR(IF(SEARCH(بحث!$D$4,all[اسم الصنف])>0,ROW(L40),""),"") | M40: =IFERROR(INDEX(all[اسم الصنف],MATCH(SMALL($L$2:$L$3995,ROWS($M$2:M40)),$L$2:$L$3995,0)),"") | N40: =IFERROR(INDEX(all[الباركود],MATCH(SMALL($L$2:$L$3995,ROWS($N$2:N40)),$L$2:$L$3995,0)),"") | O40: =IFERROR(INDEX(all[الشركة],MATCH(SMALL($L$2:$L$3995,ROWS($O$2:O40)),$L$2:$L$3995,0)),"") | P40: =IFERROR(INDEX(all[سعر البيع],MATCH(SMALL($L$2:$L$3995,ROWS($P$2:P40)),$L$2:$L$3995,0)),"")
...

Sheet بحث
AB1: الصنف
C3: البحث عن طريق الصنف | K3: البحث عن طريق الشركة | Q3: عام
C4: الصنف | D4: قلب كالون كمبيوتر إيطالي | K4: الشركة | L4: أورينت | Q4: أورينت | R4: الشركة
K5: الصنف | L5: بستله سيلر مائي اورينت ستايل121 | Q5: ناشونال | R5: الباركود | S5: اسم الصنف | T5: الشركة | U5: سعر البيع
Q6: إيجل | R6: =VLOOKUP($L$5,all!$F:$K,5,FALSE) -> 1564 | S6: =VLOOKUP($L$5,all!$F:$K,1,FALSE) -> بستله سيلر مائي اورينت ستايل121 | T6: =VLOOKUP($L$5,all!$F:$K,3,FALSE) -> أورينت | U6: =VLOOKUP($L$5,all!$F:$K,6,FALSE) -> 95.931
Q7: إسكيب
Q8: الألمانية GLC | R8: الباركود | S8: اسم الصنف | T8: الشركة | U8: سعر البيع
C9: ناتج البحث بالصنف | K9: ناتج البحث بالشركة | Q9: ميدو | R9: =VLOOKUP($D$4,all!$M:$P,2,FALSE) -> 3140 | S9: =VLOOKUP($D$4,all!$M:$P,1,FALSE) -> قلب كالون كمبيوتر إيطالي | T9: =VLOOKUP($D$4,all!$M:$P,3,FALSE) -> عام | U9: =VLOOKUP($D$4,all!$M:$P,4,FALSE) -> 65
C10: اسم الصنف | D10: =R9 -> 3140 | K10: اسم الصنف | L10: =R6 -> 1564 | Q10: الدلتا
C11: الكود | D11: =S9 -> قلب كالون كمبيوتر إيطالي | K11: الكود | L11: =S6 -> بستله سيلر مائي اورينت ستايل121 | Q11: المهندس
C12: الشركة | D12: =T9 -> عام | K12: الشركة | L12: =T6 -> أورينت | Q12: المصريه الايطاليه
C13: سعر البيع | D13: =U9 -> 65 | K13: سعر البيع | L13: =U6 -> 95.931 | Q13: دراي ميكس
Q14: الايطاليه
Q15: نصار سلك ممدد
Q16: إيرلاك
Q17: سافيتو
Q18: نصار مسمار
Q19: الالمانيه للزق
Q20: البناء الحديث
Q21: باكين
Q22: بنتا
Q23: بيور
Q24: بريمو كات
Q25: MCI
... Q42: سكاي

Sheet 25.04.2022
A1: الكود | B1: الباركود | C1: اسم الصنف | D1: الشركة | E1: الوحدة | F1: سعر البيع | G1: الحد الادنى | H1: ملاحظات | I1: النوع | J1: سعر الجملة | K1: الحد الاقصى | L1: الكمية | M1: سعر الشراء | N1: اسم المخزن | O1: المقاس | P1: اللون | Q1: نصف الجملة | R1: سعر جمله 1 | S1: سعر جمله 2 | T1: أقصى نسبة خصم | U1: أقصى كمية بيع | V1: الكود المخزني | W1: نسبة الضريبة
A2: 1 | B2: 4 | C2: بستله بلاستيك 3030 14ك المانيه | D2: الألمانية GLC | E2: بستله | F2: 200 | G2: 0 | I2: بلاستيك | J2: 200 | K2: 0 | L2: 3 | M2: 176.95 | N2: المخزن الرئيسي | O2: عام | P2: عام | Q2: 0 | R2: 0 | S2: 0 | T2: 0 | U2: 0 | V2: 4 | W2: 0
A3: 2 | B3: 7 | C3: جالون كابسي مط ابيض دوبل | D3: كابسي | E3: جالون | F3: 183.83 | G3: 0 | I3: بلاستيك | J3: 180.23 | K3: 0 | L3: 0 | M3: 175.27 | N3: المخزن الرئيسي | O3: عام | P3: عام | Q3: 0 | R3: 0 | S3: 0 | T3: 0 | U3: 0 | V3: 7 | W3: 0
A4: 3 | B4: 16 | C4: كرتونه كابسي مط ابيض*ك | D4: كابسي | E4: كرتونه | F4: 222.36 | G4: 0 | I4: لاكيه | J4: 218 | K4: 0 | L4: 0 | M4: 212 | N4: المخزن الرئيسي | O4: كيلو | P4: عام | Q4: 0 | R4: 0 | S4: 0 | T4: 0 | U4: 0 | V4: 16 | W4: 0
A5: 4 | B5: 17 | C5: جالون كابسي مط ابيض 4ك | D5: كابسي | E5: جالون | F5: 106.3146 | G5: 0 | I5: لاكيه | J5: 104.23 | K5: 0 | L5: 0 | M5: 101.36 | N5: المخزن الرئيسي | O5: جالون | P5: عام | Q5: 0 | R5: 0 | S5: 0 | T5: 0 | U5: 0 | V5: 17 | W5: 0
A6: 5 | B6: 22 | C6: بستله غراء جلو ايجل *18ك | D6: إيجل | E6: بستله | F6: 625 | G6: 0 | I6: غراء | J6: 625 | K6: 0 | L6: 90 | M6: 433.47 | N6: المخزن الرئيسي | O6: 18ك | P6: عام | Q6: 0 | R6: 0 | S6: 0 | T6: 0 | U6: 0 | V6: 22 | W6: 0
A7: 6 | B7: 24 | C7: بستله بلاستيك سوبر ايجل فلات 9لتر 007 | D7: إيجل | E7: بستله | F7: 365 | G7: 0 | I7: بلاستيك | J7: 365 | K7: 0 | L7: 0 | M7: 270.86 | N7: المخزن الرئيسي | O7: 9ك | P7: عام | Q7: 0 | R7: 0 | S7: 0 | T7: 0 | U7: 0 | V7: 24 | W7: 0
A8: 8 | B8: 38 | C8: جالون كابسي لامع 3ك احمر 659 | D8: كابسي | E8: جالون | F8: 120.9312 | G8: 0 | I8: لاكيه | J8: 118.56 | K8: 0 | L8: 0 | M8: 115.3 | N8: المخزن الرئيسي | O8: 3ك | P8: احمر | Q8: 0 | R8: 0 | S8: 0 | T8: 0 | U8: 0 | V8: 38 | W8: 0
A9: 9 | B9: 41 | C9: جالون كابسي لامع 3ك ازرق 471 | D9: كابسي | E9: جالون | F9: 120.9312 | G9: 0 | I9: لاكيه | J9: 118.56 | K9: 0 | L9: 0 | M9: 115.3 | N9: المخزن الرئيسي | O9: 3ك | P9: ازرق | Q9: 0 | R9: 0 | S9: 0 | T9: 0 | U9: 0 | V9: 41 | W9: 0
A10: 10 | B10: 43 | C10: جالون كابسي لامع 3ك اخضر 760 | D10: كابسي | E10: جالون | F10: 120.93 | G10: 0 | I10: لاكيه | J10: 118.56 | K10: 0 | L10: 0 | M10: 115.3 | N10: المخزن الرئيسي | O10: 3ك | P10: اخضر | Q10: 0 | R10: 0 | S10: 0 | T10: 0 | U10: 0 | V10: 43 | W10: 0
A11: 11 | B11: 44 | C11: كرتونه كابسي لامع *ك موف447 | D11: كابسي | E11: كرتونه | F11: 254.5512 | G11: 0 | I11: لاكيه | J11: 249.56 | K11: 0 | L11: 0 | M11: 242.69 | N11: المخزن الرئيسي | O11: ×ك | P11: موف447 | Q11: 0 | R11: 0 | S11: 0 | T11: 0 | U11: 0 | V11: 44 | W11: 0
A12: 12 | B12: 48 | C12: شربون صيني 5بوصه | D12: عام | E12: عام | F12: 9 | G12: 0 | I12: عام | J12: 9 | K12: 0 | L12: 0 | M12: 7 | N12: المخزن الرئيسي | O12: عام | P12: عام | Q12: 0 | R12: 0 | S12: 0 | T12: 0 | U12: 0 | V12: 48 | W12: 0
A13: 13 | B13: 50 | C13: كرتونه كابسي لامع *ك بني671 | D13: كابسي | E13: كرتونه | F13: 254.5512 | G13: 0 | I13: لاكيه | J13: 249.56 | K13: 0 | L13: 0 | M13: 242.69 | N13: المخزن الرئيسي | O13: ×ك | P13: بني671 | Q13: 0 | R13: 0 | S13: 0 | T13: 0 | U13: 0 | V13: 50 | W13: 0
... A29: 29 | B29: 158 | C29: كيلو مائي استارت شمواه | D29: عام | E29: عام | F29: 170 | G29: 0 | I29: عام | J29: 170 | K29: 0 | L29: 0 | M29: 75 | N29: المخزن الرئيسي | O29: عام | P29: عام | Q29: 0 | R29: 0 | S29: 0 | T29: 0 | U29: 0 | V29: 158 | W29: 0
A30: 30 | B30: 172 | C30: كرتونه لصق رخام المهندس *ك | D30: المهندس | E30: كرتونه | F30: 444.26 | G30: 0 | I30: معجون | J30: 0 | K30: 0 | L30: 4 | M30: 435.1 | N30: المخزن الرئيسي | O30: 44563 | P30: عام | Q30: 0 | R30: 0 | S30: 0 | T30: 0 | U30: 0 | V30: 172 | W30: 0
A31: 31 | B31: 173 | C31: روله الندي 23سم | D31: عام | E31: عام | F31: 15 | G31: 0 | I31: عام | J31: 15 | K31: 0 | L31: 20 | M31: 13 | N31: المخزن الرئيسي | O31: عام | P31: عام | Q31: 0 | R31: 0 | S31: 0 | T31: 0 | U31: 0 | V31: 173 | W31: 0
A32: 32 | B32: 178 | C32: بستله لاكيه اورينتو ستايل 20ك اورينت ازرق | D32: أورينت | E32: بستله | F32: 754.03 | G32: 0 | I32: لاكيه | J32: 754.03 | K32: 0 | L32: 1 | M32: 731.41 | N32: المخزن الرئيسي | O32: عام | P32: ازرق | Q32: 0 | R32: 0 | S32: 0 | T32: 0 | U32: 0 | V32: 178 | W32: 0
A33: 33 | B33: 183 | C33: جالون كابسي لاتيكو لامع 3ك احمر | D33: كابسي | E33: جالون | F33: 92.6466 | G33: 0 | I33: لاكيه | J33: 90.83 | K33: 0 | L33: 1 | M33: 88.33 | N33: المخزن الرئيسي | O33: 3ك | P33: احمر | Q33: 0 | R33: 0 | S33: 0 | T33: 0 | U33: 0 | V33: 183 | W33: 0
A34: 34 | B34: 195 | C34: جالون لاصق رخام لاتيكو كابسي | D34: كابسي | E34: جالون | F34: 276.4914 | G34: 0 | I34: معجون | J34: 271.07 | K34: 0 | L34: 0 | M34: 263.61 | N34: المخزن الرئيسي | O34: جالون | P34: عام | Q34: 0 | R34: 0 | S34: 0 | T34: 0 | U34: 0 | V34: 195 | W34: 0
A35: 35 | B35: 196 | C35: كرتونه لاصق رخام لاتيكو كابسي *ك | D35: كابسي | E35: كرتونه | F35: 435.948 | G35: 0 | I35: معجون | J35: 427.4 | K35: 0 | L35: 0 | M35: 415.64 | N35: المخزن الرئيسي | O35: كيلو | P35: عام | Q35: 0 | R35: 0 | S35: 0 | T35: 0 | U35: 0 | V35: 196 | W35: 0
A36: 36 | B36: 197 | C36: كرتونه لاصق رخام لاتيكو كابسي *1/2 | D36: كابسي | E36: كرتونه | F36: 421.3212 | G36: 0 | I36: معجون | J36: 413.06 | K36: 0 | L36: 0 | M36: 401.69 | N36: المخزن الرئيسي | O36: ×1/2 | P36: عام | Q36: 0 | R36: 0 | S36: 0 | T36: 0 | U36: 0 | V36: 197 | W36: 0
A37: 37 | B37: 201 | C37: بستله بوليستر لاتيكو كابسي 23ك 6800 | D37: كابسي | E37: بستله | F37: 1600.4004 | G37: 0 | I37: عام | J37: 1569.02 | K37: 0 | L37: 0 | M37: 1525.84 | N37: المخزن الرئيسي | O37: بستله | P37: عام | Q37: 0 | R37: 0 | S37: 0 | T37: 0 | U37: 0 | V37: 201 | W37: 0
A38: 38 | B38: 229 | C38: جالون بطانه دوكو لاتيكو كابسي ابيض | D38: كابسي | E38: جالون | F38: 142.8816 | G38: 0 | I38: دوكو | J38: 140.08 | K38: 0 | L38: 0 | M38: 136.22 | N38: المخزن الرئيسي | O38: جالون | P38: عام | Q38: 0 | R38: 0 | S38: 0 | T38: 0 | U38: 0 | V38: 229 | W38: 0
A39: 39 | B39: 231 | C39: جالون لاكيه كريتال لامع اسود صغير اورينت | D39: أورينت | E39: جالون | F39: 121.58 | G39: 0 | I39: لاكيه | J39: 121.58 | K39: 0 | L39: 9 | M39: 117.93 | N39: المخزن الرئيسي | O39: صغير | P39: اسود | Q39: 0 | R39: 0 | S39: 0 | T39: 0 | U39: 0 | V39: 231 | W39: 0
A40: 40 | B40: 245 | C40: جالون ورنيش مائي كابسي 752 | D40: كابسي | E40: جالون | F40: 69.2478 | G40: 0 | I40: ورنيش | J40: 67.89 | K40: 0 | L40: 0 | M40: 66.02 | N40: المخزن الرئيسي | O40: جالون | P40: عام | Q40: 0 | R40: 0 | S40: 0 | T40: 0 | U40: 0 | V40: 245 | W40: 0
A41: 41 | B41: 246 | C41: بستله ورنيش مائي كابسي 752 | D41: كابسي | E41: بستله | F41: 234.0696 | G41: 0 | I41: ورنيش | J41: 229.48 | K41: 0 | L41: 0 | M41: 223.16 | N41: المخزن الرئيسي | O41: بستله | P41: عام | Q41: 0 | R41: 0 | S41: 0 | T41: 0 | U41: 0 | V41: 246 | W41: 0
A42: 42 | B42: 247 | C42: بستله سيلر مائي كابسي 751 | D42: كابسي | E42: بستله | F42: 133.62 | G42: 0 | I42: سيلر | J42: 131 | K42: 0 | L42: 10 | M42: 127.39 | N42: المخزن الرئيسي | O42: بستله | P42: عام | Q42: 0 | R42: 0 | S42: 0 | T42: 0 | U42: 0 | V42: 247 | W42: 0
... A44: 44 | B44: 250 | C44: بستله معجون بتي 750 كابسي 15ك | D44: كابسي | E44: بستله | F44: 115.6272 | G44: 0 | I44: معجون | J44: 113.36 | K44: 0 | L44: 0 | M44: 111.28 | N44: المخزن الرئيسي | O44: بستله | P44: عام | Q44: 0 | R44: 0 | S44: 0 | T44: 0 | U44: 0 | V44: 250 | W44: 0
A45: 45 | B45: 260 | C45: صبغه كابسي *لتر 04 | D45: كابسي | E45: لتر | F45: 146.778 | G45: 0 | I45: صبغه | J45: 143.9 | K45: 0 | L45: 0 | M45: 139.94 | N45: المخزن الرئيسي | O45: 44569 | P45: 4 | Q45: 0 | R45: 0 | S45: 0 | T45: 0 | U45: 0 | V45: 260 | W45: 0
A46: 46 | B46: 262 | C46: صبغه كابسي *لتر 07 | D46: كابسي | E46: لتر | F46: 146.778 | G46: 0 | I46: صبغه | J46: 143.9 | K46: 0 | L46: 2 | M46: 139.94 | N46: المخزن الرئيسي | O46: 44569 | P46: 7 | Q46: 0 | R46: 0 | S46: 0 | T46: 0 | U46: 0 | V46: 262 | W46: 0
A47: 47 | B47: 263 | C47: صبغه كابسي *لتر 011 | D47: كابسي | E47: لتر | F47: 146.778 | G47: 0 | I47: صبغه | J47: 143.9 | K47: 0 | L47: 0 | M47: 139.94 | N47: المخزن الرئيسي | O47: 44569 | P47: 11 | Q47: 0 | R47: 0 | S47: 0 | T47: 0 | U47: 0 | V47: 263 | W47: 0
A48: 48 | B48: 265 | C48: صبغه كابسي *لتر 058 | D48: كابسي | E48: لتر | F48: 146.778 | G48: 0 | I48: صبغه | J48: 143.9 | K48: 0 | L48: 0 | M48: 139.94 | N48: المخزن الرئيسي | O48: 44569 | P48: 58 | Q48: 0 | R48: 0 | S48: 0 | T48: 0 | U48: 0 | V48: 265 | W48: 0
A49: 49 | B49: 266 | C49: صبغه كابسي *لتر 09 | D49: كابسي | E49: لتر | F49: 146.778 | G49: 0 | I49: صبغه | J49: 143.9 | K49: 0 | L49: 0 | M49: 139.94 | N49: المخزن الرئيسي | O49: 44569 | P49: 9 | Q49: 0 | R49: 0 | S49: 0 | T49: 0 | U49: 0 | V49: 266 | W49: 0
A50: 50 | B50: 267 | C50: كرتونه صبغه كابسي *1/4 04 | D50: كابسي | E50: 1/4ك | F50: 532.5012 | G50: 0 | I50: صبغه | J50: 522.06 | K50: 0 | L50: 0 | M50: 507.69 | N50: المخزن الرئيسي | O50: ×1/4 | P50: 4 | Q50: 0 | R50: 0 | S50: 0 | T50: 0 | U50: 0 | V50: 267 | W50: 0
A51: 51 | B51: 269 | C51: كرتونه صبغه كابسي *1/4 07 | D51: كابسي | E51: 1/4ك | F51: 532.5012 | G51: 0 | I51: صبغه | J51: 522.06 | K51: 0 | L51: 0 | M51: 507.69 | N51: المخزن الرئيسي | O51: ×1/4 | P51: 7 | Q51: 0 | R51: 0 | S51: 0 | T51: 0 | U51: 0 | V51: 269 | W51: 0
A52: 52 | B52: 270 | C52: كرتونه صبغه كابسي *1/4 011 | D52: كابسي | E52: 1/4ك | F52: 532.5012 | G52: 0 | I52: صبغه | J52: 522.06 | K52: 0 | L52: 0 | M52: 507.69 | N52: المخزن الرئيسي | O52: ×1/4 | P52: 11 | Q52: 0 | R52: 0 | S52: 0 | T52: 0 | U52: 0 | V52: 270 | W52: 0
A53: 53 | B53: 272 | C53: كرتونه صبغه كابسي *1/4 058 | D53: كابسي | E53: 1/4ك | F53: 532.5012 | G53: 0 | I53: صبغه | J53: 522.06 | K53: 0 | L53: 0 | M53: 507.69 | N53: المخزن الرئيسي | O53: ×1/4 | P53: 58 | Q53: 0 | R53: 0 | S53: 0 | T53: 0 | U53: 0 | V53: 272 | W53: 0
A54: 54 | B54: 273 | C54: كرتونه صبغه كابسي *1/4 09 | D54: كابسي | E54: 1/4ك | F54: 532.5012 | G54: 0 | I54: صبغه | J54: 522.06 | K54: 0 | L54: 0 | M54: 507.69 | N54: المخزن الرئيسي | O54: ×1/4 | P54: 9 | Q54: 0 | R54: 0 | S54: 0 | T54: 0 | U54: 0 | V54: 273 | W54: 0
A55: 55 | B55: 277 | C55: جالون دوكو قنطره كابسي اسود 200 | D55: كابسي | E55: جالون | F55: 261.375 | G55: 0 | I55: دوكو | J55: 256.25 | K55: 0 | L55: 0 | M55: 249.2 | N55: المخزن الرئيسي | O55: جالون | P55: عام | Q55: 0 | R55: 0 | S55: 0 | T55: 0 | U55: 0 | V55: 277 | W55: 0
A56: 56 | B56: 278 | C56: جالون دوكو قنطره كابسي ورنيش | D56: كابسي | E56: جالون | F56: 249.1758 | G56: 0 | I56: دوكو | J56: 244.29 | K56: 0 | L56: 0 | M56: 237.57 | N56: المخزن الرئيسي | O56: جالون | P56: عام | Q56: 0 | R56: 0 | S56: 0 | T56: 0 | U56: 0 | V56: 278 | W56: 0
...
