Workbook
Name ميسره: #REF!
Name ناشونال: #REF!

Sheet الرئيسية
B2: الشركات
B7: عام | C7: R | D7: R | E7: دراي ميكس | G7: بيور | H7: R | I7: R | J7: يوتن
B8: أورينت | C8: R | D8: R | E8: الايطاليه | G8: بريمو كات | H8: R | I8: R | J8: فيرا
B9: ناشونال | C9: R | D9: R | E9: نصار سلك ممدد | G9: MCI | H9: R | I9: R | J9: فايلوت
B10: إيجل | C10: R | D10: R | E10: إيرلاك | G10: سايبس | H10: R | I10: R | J10: السويديه
B11: إسكيب | C11: R | D11: R | E11: سافيتو | G11: يونايتد | H11: R | I11: R | J11: العالميه
B12: الألمانية GLC | C12: R | D12: R | E12: نصار مسمار | G12: ميسره | H12: R | I12: R | J12: السلاب
B13: ميدو | C13: R | D13: R | E13: الالمانيه للزق | G13: بلال مسمار | H13: R | I13: R | J13: مصنع غراء حمص النجمه
B14: الدلتا | C14: R | D14: R | E14: البناء الحديث | G14: بروستول | H14: R | I14: R | J14: المصريه
B15: المهندس | C15: R | D15: R | E15: باكين | G15: كابسي | H15: R | I15: R | J15: سيلدور
B16: المصريه الايطاليه | C16: R | D16: R | E16: بنتا | G16: ماليزي | H16: R | I16: R | J16: سكاي

Sheet all
A1: الباركود | B1: اسم الصنف | C1: الشركة | D1: سعر البيع | E1: الرئيسية | F1: i-com | G1: D-com | H1: L-com | I1: D-item | J1: c-com | K1: p-com | L1: D-i-item | M1: L-i-item | N1: C-i-item | O1: Co-i-item | P1: P-i-item
A2: =[1]All!E7 -> 3140 | B2: =[1]All!F7 -> قلب كالون كمبيوتر إيطالي | C2: =[1]All!G7 -> عام | D2: =[1]All!H7 -> 65 | F2: =IFERROR(INDEX(all[اسم الصنف],MATCH(SMALL($I$2:$I$3995,ROWS($F$2:F2)),$I$2:$I$3995,0)),"") -> جالون لاكيه اورينتو ستايل اصفر دوبل اورينت | G2: =IFERROR(IF(SEARCH(بحث!$L$4,all[الشركة])>0,ROW(G2),""),"") | H2: =IFERROR(INDEX(all[الشركة],MATCH(SMALL($G$2:$G$3995,ROWS($H$2:H2)),$G$2:$G$3995,0)),"") -> أورينت | I2: =IFERROR(IF(SEARCH(بحث!$L$4,all[الشركة])>0,ROW(G2),""),"") | J2: =IFERROR(INDEX(all[الباركود],MATCH(SMALL($I$2:$I$3995,ROWS($J$2:J2)),$I$2:$I$3995,0)),"") -> 1471 | K2: =IFERROR(INDEX(all[سعر البيع],MATCH(SMALL($I$2:$I$3995,ROWS($K$2:K2)),$I$2:$I$3995,0)),"") -> 174.9102 | L2: =IFERROR(IF(SEARCH(بحث!$D$4,all[اسم الصنف])>0,ROW(L2),""),"") -> 2 | M2: =IFERROR(INDEX(all[اسم الصنف],MATCH(SMALL($L$2:$L$3995,ROWS($M$2:M2)),$L$2:$L$3995,0)),"") -> قلب كالون كمبيوتر إيطالي | N2: =IFERROR(INDEX(all[الباركود],MATCH(SMALL($L$2:$L$3995,ROWS($N$2:N2)),$L$2:$L$3995,0)),"") -> 3140 | O2: =IFERROR(INDEX(all[الشركة],MATCH(SMALL($L$2:$L$3995,ROWS($O$2:O2)),$L$2:$L$3995,0)),"") -> عام | P2: =IFERROR(INDEX(all[سعر البيع],MATCH(SMALL($L$2:$L$3995,ROWS($P$2:P2)),$L$2:$L$3995,0)),"") -> 65
A3: =[1]All!E8 -> 3141 | B3: =[1]All!F8 -> كرتونه مصلب ورنيش يوريثان لامع 1:2 | C3: =[1]All!G8 -> المهندس | D3: =[1]All!H8 -> 292.94 | F3: =IFERROR(INDEX(all[اسم الصنف],MATCH(SMALL($I$2:$I$3995,ROWS($F$2:F3)),$I$2:$I$3995,0)),"") -> بستله سيلر مائي اورينت سوبرسيل123 | G3: =IFERROR(IF(SEARCH(بحث!$L$4,all[الشركة])>0,ROW(G3),""),"") | H3: =IFERROR(INDEX(all[الشركة],MATCH(SMALL($G$2:$G$3995,ROWS($H$2:H3)),$G$2:$G$3995,0)),"") -> أورينت | I3: =IFERROR(IF(SEARCH(بحث!$L$4,all[الشركة])>0,ROW(G3),""),"") | J3: =IFERROR(INDEX(all[الباركود],MATCH(SMALL($I$2:$I$3995,ROWS($J$2:J3)),$I$2:$I$3995,0)),"") -> 1563 | K3: =IFERROR(INDEX(all[سعر البيع],MATCH(SMALL($I$2:$I$3995,ROWS($K$2:K3)),$I$2:$I$3995,0)),"") -> 137.94 | L3: =IFERROR(IF(SEARCH(بحث!$D$4,all[اسم الصنف])>0,ROW(L3),""),"") | M3: =IFERROR(INDEX(all[اسم الصنف],MATCH(SMALL($L$2:$L$3995,ROWS($M$2:M3)),$L$2:$L$3995,0)),"") | N3: =IFERROR(INDEX(all[الباركود],MATCH(SMALL($L$2:$L$3995,ROWS($N$2:N3)),$L$2:$L$3995,0)),"") | O3: =IFERROR(INDEX(all[الشركة],MATCH(SMALL($L$2:$L$3995,ROWS($O$2:O3)),$L$2:$L$3995,0)),"") | P3: =IFERROR(INDEX(all[سعر البيع],MATCH(SMALL($L$2:$L$3995,ROWS($P$2:P3)),$L$2:$L$3995,0)),"")
A4: =[1]All!E9 -> 3142 | B4: =[1]All!F9 -> قاعده اسكوتشه 9بوصه توتال | C4: =[1]All!G9 -> عام | D4: =[1]All!H9 -> 250 | F4: =IFERROR(INDEX(all[اسم الصنف],MATCH(SMALL($I$2:$I$3995,ROWS($F$2:F4)),$I$2:$I$3995,0)),"") -> بستله سيلر مائي اورينت ستايل121 | G4: =IFERROR(IF(SEARCH(بحث!$L$4,all[الشركة])>0,ROW(G4),""),"") | H4: =IFERROR(INDEX(all[الشركة],MATCH(SMALL($G$2:$G$3995,ROWS($H$2:H4)),$G$2:$G$3995,0)),"") -> أورينت | I4: =IFERROR(IF(SEARCH(بحث!$L$4,all[الشركة])>0,ROW(G4),""),"") | J4: =IFERROR(INDEX(all[الباركود],MATCH(SMALL($I$2:$I$3995,ROWS($J$2:J4)),$I$2:$I$3995,0)),"") -> 1564 | K4: =IFERROR(INDEX(all[سعر البيع],MATCH(SMALL($I$2:$I$3995,ROWS($K$2:K4)),$I$2:$I$3995,0)),"") -> 95.931 | L4: =IFERROR(IF(SEARCH(بحث!$D$4,all[اسم الصنف])>0,ROW(L4),""),"") | M4: =IFERROR(INDEX(all[اسم الصنف],MATCH(SMALL($L$2:$L$3995,ROWS($M$2:M4)),$L$2:$L$3995,0)),"") | N4: =IFERROR(INDEX(all[الباركود],MATCH(SMALL($L$2:$L$3995,ROWS($N$2:N4)),$L$2:$L$3995,0)),"") | O4: =IFERROR(INDEX(all[الشركة],MATCH(SMALL($L$2:$L$3995,ROWS($O$2:O4)),$L$2:$L$3995,0)),"") | P4: =IFERROR(INDEX(all[سعر البيع],MATCH(SMALL($L$2:$L$3995,ROWS($P$2:P4)),$L$2:$L$3995,0)),"")
A5: =[1]All!E10 -> 5614 | B5: =[1]All!F10 -> كرتونه مصلب سيلر يوريثان 1/2 كيلو | C5: =[1]All!G10 -> المهندس | D5: =[1]All!H10 -> 200.79 | F5: =IFERROR(INDEX(all[اسم الصنف],MATCH(SMALL($I$2:$I$3995,ROWS($F$2:F5)),$I$2:$I$3995,0)),"") -> جالون سيلر مائي اورينت ستايل121 | G5: =IFERROR(IF(SEARCH(بحث!$L$4,all[الشركة])>0,ROW(G5),""),"") | H5: =IFERROR(INDEX(all[الشركة],MATCH(SMALL($G$2:$G$3995,ROWS($H$2:H5)),$G$2:$G$3995,0)),"") -> أورينت | I5: =IFERROR(IF(SEARCH(بحث!$L$4,all[الشركة])>0,ROW(G5),""),"") | J5: =IFERROR(INDEX(all[الباركود],MATCH(SMALL($I$2:$I$3995,ROWS($J$2:J5)),$I$2:$I$3995,0)),"") -> 1566 | K5: =IFERROR(INDEX(all[سعر البيع],MATCH(SMALL($I$2:$I$3995,ROWS($K$2:K5)),$I$2:$I$3995,0)),"") -> 36.6966 | L5: =IFERROR(IF(SEARCH(بحث!$D$4,all[اسم الصنف])>0,ROW(L5),""),"") | M5: =IFERROR(INDEX(all[اسم الصنف],MATCH(SMALL($L$2:$L$3995,ROWS($M$2:M5)),$L$2:$L$3995,0)),"") | N5: =IFERROR(INDEX(all[الباركود],MATCH(SMALL($L$2:$L$3995,ROWS($N$2:N5)),$L$2:$L$3995,0)),"") | O5: =IFERROR(INDEX(all[الشركة],MATCH(SMALL($L$2:$L$3995,ROWS($O$2:O5)),$L$2:$L$3995,0)),"") | P5: =IFERROR(INDEX(all[سعر البيع],MATCH(SMALL($L$2:$L$3995,ROWS($P$2:P5)),$L$2:$L$3995,0)),"")
A6: =[1]All!E11 -> 5615 | B6: =[1]All!F11 -> كرتونه نفض العالميه 6 زجاجه | C6: =[1]All!G11 -> العالميه | D6: =[1]All!H11 -> 60 | F6: =IFERROR(INDEX(all[اسم الصنف],MATCH(SMALL($I$2:$I$3995,ROWS($F$2:F6)),$I$2:$I$3995,0)),"") -> كرتونه برايمر اورينت احمر ×1/2 | G6: =IFERROR(IF(SEARCH(بحث!$L$4,all[الشركة])>0,ROW(G6),""),"") | H6: =IFERROR(INDEX(all[الشركة],MATCH(SMALL($G$2:$G$3995,ROWS($H$2:H6)),$G$2:$G$3995,0)),"") -> أورينت | I6: =IFERROR(IF(SEARCH(بحث!$L$4,all[الشركة])>0,ROW(G6),""),"") | J6: =IFERROR(INDEX(all[الباركود],MATCH(SMALL($I$2:$I$3995,ROWS($J$2:J6)),$I$2:$I$3995,0)),"") -> 1635 | K6: =IFERROR(INDEX(all[سعر البيع],MATCH(SMALL($I$2:$I$3995,ROWS($K$2:K6)),$I$2:$I$3995,0)),"") -> 257.7312 | L6: =IFERROR(IF(SEARCH(بحث!$D$4,all[اسم الصنف])>0,ROW(L6),""),"") | M6: =IFERROR(INDEX(all[اسم الصنف],MATCH(SMALL($L$2:$L$3995,ROWS($M$2:M6)),$L$2:$L$3995,0)),"") | N6: =IFERROR(INDEX(all[الباركود],MATCH(SMALL($L$2:$L$3995,ROWS($N$2:N6)),$L$2:$L$3995,0)),"") | O6: =IFERROR(INDEX(all[الشركة],MATCH(SMALL($L$2:$L$3995,ROWS($O$2:O6)),$L$2:$L$3995,0)),"") | P6: =IFERROR(INDEX(all[سعر البيع],MATCH(SMALL($L$2:$L$3995,ROWS($P$2:P6)),$L$2:$L$3995,0)),"")
A7: =[1]All!E12 -> 5616 | B7: =[1]All!F12 -> كرتونه نفض رومي شفاف 4 زجاجه العالميه | C7: =[1]All!G12 -> العالميه | D7: =[1]All!H12 -> 175 | F7: =IFERROR(INDEX(all[اسم الصنف],MATCH(SMALL($I$2:$I$3995,ROWS($F$2:F7)),$I$2:$I$3995,0)),"") -> بستله برايمر اورينت ستايل405 20ك احمر | G7: =IFERROR(IF(SEARCH(بحث!$L$4,all[الشركة])>0,ROW(G7),""),"") | H7: =IFERROR(INDEX(all[الشركة],MATCH(SMALL($G$2:$G$3995,ROWS($H$2:H7)),$G$2:$G$3995,0)),"") -> أورينت | I7: =IFERROR(IF(SEARCH(بحث!$L$4,all[الشركة])>0,ROW(G7),""),"") | J7: =IFERROR(INDEX(all[الباركود],MATCH(SMALL($I$2:$I$3995,ROWS($J$2:J7)),$I$2:$I$3995,0)),"") -> 1640 | K7: =IFERROR(INDEX(all[سعر البيع],MATCH(SMALL($I$2:$I$3995,ROWS($K$2:K7)),$I$2:$I$3995,0)),"") -> 540.9756 | L7: =IFERROR(IF(SEARCH(بحث!$D$4,all[اسم الصنف])>0,ROW(L7),""),"") | M7: =IFERROR(INDEX(all[اسم الصنف],MATCH(SMALL($L$2:$L$3995,ROWS($M$2:M7)),$L$2:$L$3995,0)),"") | N7: =IFERROR(INDEX(all[الباركود],MATCH(SMALL($L$2:$L$3995,ROWS($N$2:N7)),$L$2:$L$3995,0)),"") | O7: =IFERROR(INDEX(all[الشركة],MATCH(SMALL($L$2:$L$3995,ROWS($O$2:O7)),$L$2:$L$3995,0)),"") | P7: =IFERROR(INDEX(all[سعر البيع],MATCH(SMALL($L$2:$L$3995,ROWS($P$2:P7)),$L$2:$L$3995,0)),"")
A8: =[1]All!E13 -> 744 | B8: =[1]All!F13 -> كرتونه ديكورا لاكيه لامع اسكيب *ك اخضر 211 | C8: =[1]All!G13 -> إسكيب | D8: =[1]All!H13 -> 201.78 | F8: =IFERROR(INDEX(all[اسم الصنف],MATCH(SMALL($I$2:$I$3995,ROWS($F$2:F8)),$I$2:$I$3995,0)),"") -> بستله برايمر اورينت ستايل405 20ك رصاصي | G8: =IFERROR(IF(SEARCH(بحث!$L$4,all[الشركة])>0,ROW(G8),""),"") | H8: =IFERROR(INDEX(all[الشركة],MATCH(SMALL($G$2:$G$3995,ROWS($H$2:H8)),$G$2:$G$3995,0)),"") -> أورينت | I8: =IFERROR(IF(SEARCH(بحث!$L$4,all[الشركة])>0,ROW(G8),""),"") | J8: =IFERROR(INDEX(all[الباركود],MATCH(SMALL($I$2:$I$3995,ROWS($J$2:J8)),$I$2:$I$3995,0)),"") -> 1641 | K8: =IFERROR(INDEX(all[سعر البيع],MATCH(SMALL($I$2:$I$3995,ROWS($K$2:K8)),$I$2:$I$3995,0)),"") -> 450.9756 | L8: =IFERROR(IF(SEARCH(بحث!$D$4,all[اسم الصنف])>0,ROW(L8),""),"") | M8: =IFERROR(INDEX(all[اسم الصنف],MATCH(SMALL($L$2:$L$3995,ROWS($M$2:M8)),$L$2:$L$3995,0)),"") | N8: =IFERROR(INDEX(all[الباركود],MATCH(SMALL($L$2:$L$3995,ROWS($N$2:N8)),$L$2:$L$3995,0)),"") | O8: =IFERROR(INDEX(all[الشركة],MATCH(SMALL($L$2:$L$3995,ROWS($O$2:O8)),$L$2:$L$3995,0)),"") | P8: =IFERROR(INDEX(all[سعر البيع],MATCH(SMALL($L$2:$L$3995,ROWS($P$2:P8)),$L$2:$L$3995,0)),"")
A9: =[1]All!E14 -> 751 | B9: =[1]All!F14 -> كرتونه ديكورا لاكيه لامع اسكيب *ك ازرق 112 | C9: =[1]All!G14 -> إسكيب | D9: =[1]All!H14 -> 201.78 | F9: =IFERROR(INDEX(all[اسم الصنف],MATCH(SMALL($I$2:$I$3995,ROWS($F$2:F9)),$I$2:$I$3995,0)),"") -> جالون برايمر اورينت ستايل405 احمر | G9: =IFERROR(IF(SEARCH(بحث!$L$4,all[الشركة])>0,ROW(G9),""),"") | H9: =IFERROR(INDEX(all[الشركة],MATCH(SMALL($G$2:$G$3995,ROWS($H$2:H9)),$G$2:$G$3995,0)),"") -> أورينت | I9: =IFERROR(IF(SEARCH(بحث!$L$4,all[الشركة])>0,ROW(G9),""),"") | J9: =IFERROR(INDEX(all[الباركود],MATCH(SMALL($I$2:$I$3995,ROWS($J$2:J9)),$I$2:$I$3995,0)),"") -> 1643 | K9: =IFERROR(INDEX(all[سعر البيع],MATCH(SMALL($I$2:$I$3995,ROWS($K$2:K9)),$I$2:$I$3995,0)),"") -> 81.3276 | L9: =IFERROR(IF(SEARCH(بحث!$D$4,all[اسم الصنف])>0,ROW(L9),""),"") | M9: =IFERROR(INDEX(all[اسم الصنف],MATCH(SMALL($L$2:$L$3995,ROWS($M$2:M9)),$L$2:$L$3995,0)),"") | N9: =IFERROR(INDEX(all[الباركود],MATCH(SMALL($L$2:$L$3995,ROWS($N$2:N9)),$L$2:$L$3995,0)),"") | O9: =IFERROR(INDEX(all[الشركة],MATCH(SMALL($L$2:$L$3995,ROWS($O$2:O9)),$L$2:$L$3995,0)),"") | P9: =IFERROR(INDEX(all[سعر البيع],MATCH(SMALL($L$2:$L$3995,ROWS($P$2:P9)),$L$2:$L$3995,0)),"")
A10: =[1]All!E15 -> 765 | B10: =[1]All!F15 -> كرتونه ديكورا لاكيه لامع اسكيب *1/2 اسود 801 | C10: =[1]All!G15 -> إسكيب | D10: =[1]All!H15 -> 129.96 | F10: =IFERROR(INDEX(all[اسم الصنف],MATCH(SMALL($I$2:$I$3995,ROWS($F$2:F10)),$I$2:$I$3995,0)),"") -> جالون برايمر اورينت ستايل405 رصاصي | G10: =IFERROR(IF(SEARCH(بحث!$L$4,all[الشركة])>0,ROW(G10),""),"") | H10: =IFERROR(INDEX(all[الشركة],MATCH(SMALL($G$2:$G$3995,ROWS($H$2:H10)),$G$2:$G$3995,0)),"") -> أورينت | I10: =IFERROR(IF(SEARCH(بحث!$L$4,all[الشركة])>0,ROW(G10),""),"") | J10: =IFERROR(INDEX(all[الباركود],MATCH(SMALL($I$2:$I$3995,ROWS($J$2:J10)),$I$2:$I$3995,0)),"") -> 1644 | K10: =IFERROR(INDEX(all[سعر البيع],MATCH(SMALL($I$2:$I$3995,ROWS($K$2:K10)),$I$2:$I$3995,0)),"") -> 81.3276 | L10: =IFERROR(IF(SEARCH(بحث!$D$4,all[اسم الصنف])>0,ROW(L10),""),"") | M10: =IFERROR(INDEX(all[اسم الصنف],MATCH(SMALL($L$2:$L$3995,ROWS($M$2:M10)),$L$2:$L$3995,0)),"") | N10: =IFERROR(INDEX(all[الباركود],MATCH(SMALL($L$2:$L$3995,ROWS($N$2:N10)),$L$2:$L$3995,0)),"") | O10: =IFERROR(INDEX(all[الشركة],MATCH(SMALL($L$2:$L$3995,ROWS($O$2:O10)),$L$2:$L$3995,0)),"") | P10: =IFERROR(INDEX(all[سعر البيع],MATCH(SMALL($L$2:$L$3995,ROWS($P$2:P10)),$L$2:$L$3995,0)),"")
A11: =[1]All!E16 -> 775 | B11: =[1]All!F16 -> كرتونه ديكورا لاكيه لامع اسكيب *1/2 ازرق 112 | C11: =[1]All!G16 -> إسكيب | D11: =[1]All!H16 -> 129.96 | F11: =IFERROR(INDEX(all[اسم الصنف],MATCH(SMALL($I$2:$I$3995,ROWS($F$2:F11)),$I$2:$I$3995,0)),"") -> كرتونه برايمر اورينت405 *ك احمر | G11: =IFERROR(IF(SEARCH(بحث!$L$4,all[الشركة])>0,ROW(G11),""),"") | H11: =IFERROR(INDEX(all[الشركة],MATCH(SMALL($G$2:$G$3995,ROWS($H$2:H11)),$G$2:$G$3995,0)),"") -> أورينت | I11: =IFERROR(IF(SEARCH(بحث!$L$4,all[الشركة])>0,ROW(G11),""),"") | J11: =IFERROR(INDEX(all[الباركود],MATCH(SMALL($I$2:$I$3995,ROWS($J$2:J11)),$I$2:$I$3995,0)),"") -> 1646 | K11: =IFERROR(INDEX(all[سعر البيع],MATCH(SMALL($I$2:$I$3995,ROWS($K$2:K11)),$I$2:$I$3995,0)),"") -> 157.0464 | L11: =IFERROR(IF(SEARCH(بحث!$D$4,all[اسم الصنف])>0,ROW(L11),""),"") | M11: =IFERROR(INDEX(all[اسم الصنف],MATCH(SMALL($L$2:$L$3995,ROWS($M$2:M11)),$L$2:$L$3995,0)),"") | N11: =IFERROR(INDEX(all[الباركود],MATCH(SMALL($L$2:$L$3995,ROWS($N$2:N11)),$L$2:$L$3995,0)),"") | O11: =IFERROR(INDEX(all[الشركة],MATCH(SMALL($L$2:$L$3995,ROWS($O$2:O11)),$L$2:$L$3995,0)),"") | P11: =IFERROR(INDEX(all[سعر البيع],MATCH(SMALL($L$2:$L$3995,ROWS($P$2:P11)),$L$2:$L$3995,0)),"")
A12: =[1]All!E17 -> 3150 | B12: =[1]All!F17 -> جالون ديكورا لاكيه لامع اسكيب دوبل 518 | C12: =[1]All!G17 -> إسكيب | D12: =[1]All!H17 -> 171 | F12: =IFERROR(INDEX(all[اسم الصنف],MATCH(SMALL($I$2:$I$3995,ROWS($F$2:F12)),$I$2:$I$3995,0)),"") | G12: =IFERROR(IF(SEARCH(بحث!$L$4,all[الشركة])>0,ROW(G12),""),"") | H12: =IFERROR(INDEX(all[الشركة],MATCH(SMALL($G$2:$G$3995,ROWS($H$2:H12)),$G$2:$G$3995,0)),"") | I12: =IFERROR(IF(SEARCH(بحث!$L$4,all[الشركة])>0,ROW(G12),""),"") | J12: =IFERROR(INDEX(all[الباركود],MATCH(SMALL($I$2:$I$3995,ROWS($J$2:J12)),$I$2:$I$3995,0)),"") | K12: =IFERROR(INDEX(all[سعر البيع],MATCH(SMALL($I$2:$I$3995,ROWS($K$2:K12)),$I$2:$I$3995,0)),"") | L12: =IFERROR(IF(SEARCH(بحث!$D$4,all[اسم الصنف])>0,ROW(L12),""),"") | M12: =IFERROR(INDEX(all[اسم الصنف],MATCH(SMALL($L$2:$L$3995,ROWS($M$2:M12)),$L$2:$L$3995,0)),"") | N12: =IFERROR(INDEX(all[الباركود],MATCH(SMALL($L$2:$L$3995,ROWS($N$2:N12)),$L$2:$L$3995,0)),"") | O12: =IFERROR(INDEX(all[الشركة],MATCH(SMALL($L$2:$L$3995,ROWS($O$2:O12)),$L$2:$L$3995,0)),"") | P12: =IFERROR(INDEX(all[سعر البيع],MATCH(SMALL($L$2:$L$3995,ROWS($P$2:P12)),$L$2:$L$3995,0)),"")
A13: =[1]All!E18 -> 5622 | B13: =[1]All!F18 -> جالون اكريكوت لامع دوبل اسود 801 اسكيب | C13: =[1]All!G18 -> إسكيب | D13: =[1]All!H18 -> 237.12 | F13: =IFERROR(INDEX(all[اسم الصنف],MATCH(SMALL($I$2:$I$3995,ROWS($F$2:F13)),$I$2:$I$3995,0)),"") | G13: =IFERROR(IF(SEARCH(بحث!$L$4,all[الشركة])>0,ROW(G13),""),"") | H13: =IFERROR(INDEX(all[الشركة],MATCH(SMALL($G$2:$G$3995,ROWS($H$2:H13)),$G$2:$G$3995,0)),"") | I13: =IFERROR(IF(SEARCH(بحث!$L$4,all[الشركة])>0,ROW(G13),""),"") | J13: =IFERROR(INDEX(all[الباركود],MATCH(SMALL($I$2:$I$3995,ROWS($J$2:J13)),$I$2:$I$3995,0)),"") | K13: =IFERROR(INDEX(all[سعر البيع],MATCH(SMALL($I$2:$I$3995,ROWS($K$2:K13)),$I$2:$I$3995,0)),"") | L13: =IFERROR(IF(SEARCH(بحث!$D$4,all[اسم الصنف])>0,ROW(L13),""),"") | M13: =IFERROR(INDEX(all[اسم الصنف],MATCH(SMALL($L$2:$L$3995,ROWS($M$2:M13)),$L$2:$L$3995,0)),"") | N13: =IFERROR(INDEX(all[الباركود],MATCH(SMALL($L$2:$L$3995,ROWS($N$2:N13)),$L$2:$L$3995,0)),"") | O13: =IFERROR(INDEX(all[الشركة],MATCH(SMALL($L$2:$L$3995,ROWS($O$2:O13)),$L$2:$L$3995,0)),"") | P13: =IFERROR(INDEX(all[سعر البيع],MATCH(SMALL($L$2:$L$3995,ROWS($P$2:P13)),$L$2:$L$3995,0)),"")
F14: =IFERROR(INDEX(all[اسم الصنف],MATCH(SMALL($I$2:$I$3995,ROWS($F$2:F14)),$I$2:$I$3995,0)),"") | G14: =IFERROR(IF(SEARCH(بحث!$L$4,all[الشركة])>0,ROW(G14),""),"") | H14: =IFERROR(INDEX(all[الشركة],MATCH(SMALL($G$2:$G$3995,ROWS($H$2:H14)),$G$2:$G$3995,0)),"") | I14: =IFERROR(IF(SEARCH(بحث!$L$4,all[الشركة])>0,ROW(G14),""),"") | J14: =IFERROR(INDEX(all[الباركود],MATCH(SMALL($I$2:$I$3995,ROWS($J$2:J14)),$I$2:$I$3995,0)),"") | K14: =IFERROR(INDEX(all[سعر البيع],MATCH(SMALL($I$2:$I$3995,ROWS($K$2:K14)),$I$2:$I$3995,0)),"") | L14: =IFERROR(IF(SEARCH(بحث!$D$4,all[اسم الصنف])>0,ROW(L14),""),"") | M14: =IFERROR(INDEX(all[اسم الصنف],MATCH(SMALL($L$2:$L$3995,ROWS($M$2:M14)),$L$2:$L$3995,0)),"") | N14: =IFERROR(INDEX(all[الباركود],MATCH(SMALL($L$2:$L$3995,ROWS($N$2:N14)),$L$2:$L$3995,0)),"") | O14: =IFERROR(INDEX(all[الشركة],MATCH(SMALL($L$2:$L$3995,ROWS($O$2:O14)),$L$2:$L$3995,0)),"") | P14: =IFERROR(INDEX(all[سعر البيع],MATCH(SMALL($L$2:$L$3995,ROWS($P$2:P14)),$L$2:$L$3995,0)),"")
F15: =IFERROR(INDEX(all[اسم الصنف],MATCH(SMALL($I$2:$I$3995,ROWS($F$2:F15)),$I$2:$I$3995,0)),"") | G15: =IFERROR(IF(SEARCH(بحث!$L$4,all[الشركة])>0,ROW(G15),""),"") | H15: =IFERROR(INDEX(all[الشركة],MATCH(SMALL($G$2:$G$3995,ROWS($H$2:H15)),$G$2:$G$3995,0)),"") | I15: =IFERROR(IF(SEARCH(بحث!$L$4,all[الشركة])>0,ROW(G15),""),"") | J15: =IFERROR(INDEX(all[الباركود],MATCH(SMALL($I$2:$I$3995,ROWS($J$2:J15)),$I$2:$I$3995,0)),"") | K15: =IFERROR(INDEX(all[سعر البيع],MATCH(SMALL($I$2:$I$3995,ROWS($K$2:K15)),$I$2:$I$3995,0)),"") | L15: =IFERROR(IF(SEARCH(بحث!$D$4,all[اسم الصنف])>0,ROW(L15),""),"") | M15: =IFERROR(INDEX(all[اسم الصنف],MATCH(SMALL($L$2:$L$3995,ROWS($M$2:M15)),$L$2:$L$3995,0)),"") | N15: =IFERROR(INDEX(all[الباركود],MATCH(SMALL($L$2:$L$3995,ROWS($N$2:N15)),$L$2:$L$3995,0)),"") | O15: =IFERROR(INDEX(all[الشركة],MATCH(SMALL($L$2:$L$3995,ROWS($O$2:O15)),$L$2:$L$3995,0)),"") | P15: =IFERROR(INDEX(all[سعر البيع],MATCH(SMALL($L$2:$L$3995,ROWS($P$2:P15)),$L$2:$L$3995,0)),"")
A16: =[1]All!E21 -> 1008 | B16: =[1]All!F21 -> جالون سيلر بوريثان المهندس 4ك | C16: =[1]All!G21 -> المهندس | D16: =[1]All!H21 -> 433.8325 | F16: =IFERROR(INDEX(all[اسم الصنف],MATCH(SMALL($I$2:$I$3995,ROWS($F$2:F16)),$I$2:$I$3995,0)),"") | G16: =IFERROR(IF(SEARCH(بحث!$L$4,all[الشركة])>0,ROW(G16),""),"") | H16: =IFERROR(INDEX(all[الشركة],MATCH(SMALL($G$2:$G$3995,ROWS($H$2:H16)),$G$2:$G$3995,0)),"") | I16: =IFERROR(IF(SEARCH(بحث!$L$4,all[الشركة])>0,ROW(G16),""),"") | J16: =IFERROR(INDEX(all[الباركود],MATCH(SMALL($I$2:$I$3995,ROWS($J$2:J16)),$I$2:$I$3995,0)),"") | K16: =IFERROR(INDEX(all[سعر البيع],MATCH(SMALL($I$2:$I$3995,ROWS($K$2:K16)),$I$2:$I$3995,0)),"") | L16: =IFERROR(IF(SEARCH(بحث!$D$4,all[اسم الصنف])>0,ROW(L16),""),"") | M16: =IFERROR(INDEX(all[اسم الصنف],MATCH(SMALL($L$2:$L$3995,ROWS($M$2:M16)),$L$2:$L$3995,0)),"") | N16: =IFERROR(INDEX(all[الباركود],MATCH(SMALL($L$2:$L$3995,ROWS($N$2:N16)),$L$2:$L$3995,0)),"") | O16: =IFERROR(INDEX(all[الشركة],MATCH(SMALL($L$2:$L$3995,ROWS($O$2:O16)),$L$2:$L$3995,0)),"") | P16: =IFERROR(INDEX(all[سعر البيع],MATCH(SMALL($L$2:$L$3995,ROWS($P$2:P16)),$L$2:$L$3995,0)),"")
F17: =IFERROR(INDEX(all[اسم الصنف],MATCH(SMALL($I$2:$I$3995,ROWS($F$2:F17)),$I$2:$I$3995,0)),"") | G17: =IFERROR(IF(SEARCH(بحث!$L$4,all[الشركة])>0,ROW(G17),""),"") | H17: =IFERROR(INDEX(all[الشركة],MATCH(SMALL($G$2:$G$3995,ROWS($H$2:H17)),$G$2:$G$3995,0)),"") | I17: =IFERROR(IF(SEARCH(بحث!$L$4,all[الشركة])>0,ROW(G17),""),"") | J17: =IFERROR(INDEX(all[الباركود],MATCH(SMALL($I$2:$I$3995,ROWS($J$2:J17)),$I$2:$I$3995,0)),"") | K17: =IFERROR(INDEX(all[سعر البيع],MATCH(SMALL($I$2:$I$3995,ROWS($K$2:K17)),$I$2:$I$3995,0)),"") | L17: =IFERROR(IF(SEARCH(بحث!$D$4,all[اسم الصنف])>0,ROW(L17),""),"") | M17: =IFERROR(INDEX(all[اسم الصنف],MATCH(SMALL($L$2:$L$3995,ROWS($M$2:M17)),$L$2:$L$3995,0)),"") | N17: =IFERROR(INDEX(all[الباركود],MATCH(SMALL($L$2:$L$3995,ROWS($N$2:N17)),$L$2:$L$3995,0)),"") | O17: =IFERROR(INDEX(all[الشركة],MATCH(SMALL($L$2:$L$3995,ROWS($O$2:O17)),$L$2:$L$3995,0)),"") | P17: =IFERROR(INDEX(all[سعر البيع],MATCH(SMALL($L$2:$L$3995,ROWS($P$2:P17)),$L$2:$L$3995,0)),"")
F18: =IFERROR(INDEX(all[اسم الصنف],MATCH(SMALL($I$2:$I$3995,ROWS($F$2:F18)),$I$2:$I$3995,0)),"") | G18: =IFERROR(IF(SEARCH(بحث!$L$4,all[الشركة])>0,ROW(G18),""),"") | H18: =IFERROR(INDEX(all[الشركة],MATCH(SMALL($G$2:$G$3995,ROWS($H$2:H18)),$G$2:$G$3995,0)),"") | I18: =IFERROR(IF(SEARCH(بحث!$L$4,all[الشركة])>0,ROW(G18),""),"") | J18: =IFERROR(INDEX(all[الباركود],MATCH(SMALL($I$2:$I$3995,ROWS($J$2:J18)),$I$2:$I$3995,0)),"") | K18: =IFERROR(INDEX(all[سعر البيع],MATCH(SMALL($I$2:$I$3995,ROWS($K$2:K18)),$I$2:$I$3995,0)),"") | L18: =IFERROR(IF(SEARCH(بحث!$D$4,all[اسم الصنف])>0,ROW(L18),""),"") | M18: =IFERROR(INDEX(all[اسم الصنف],MATCH(SMALL($L$2:$L$3995,ROWS($M$2:M18)),$L$2:$L$3995,0)),"") | N18: =IFERROR(INDEX(all[الباركود],MATCH(SMALL($L$2:$L$3995,ROWS($N$2:N18)),$L$2:$L$3995,0)),"") | O18: =IFERROR(INDEX(all[الشركة],MATCH(SMALL($L$2:$L$3995,ROWS($O$2:O18)),$L$2:$L$3995,0)),"") | P18: =IFERROR(INDEX(all[سعر البيع],MATCH(SMALL($L$2:$L$3995,ROWS($P$2:P18)),$L$2:$L$3995,0)),"")
A19: =[1]All!E24 -> 1014 | B19: =[1]All!F24 -> كيلو صنفره كوره الاقتصادي المصريه 180 | C19: =[1]All!G24 -> المصريه الايطاليه | D19: =[1]All!H24 -> 90 | F19: =IFERROR(INDEX(all[اسم الصنف],MATCH(SMALL($I$2:$I$3995,ROWS($F$2:F19)),$I$2:$I$3995,0)),"") | G19: =IFERROR(IF(SEARCH(بحث!$L$4,all[الشركة])>0,ROW(G19),""),"") | H19: =IFERROR(INDEX(all[الشركة],MATCH(SMALL($G$2:$G$3995,ROWS($H$2:H19)),$G$2:$G$3995,0)),"") | I19: =IFERROR(IF(SEARCH(بحث!$L$4,all[الشركة])>0,ROW(G19),""),"") | J19: =IFERROR(INDEX(all[الباركود],MATCH(SMALL($I$2:$I$3995,ROWS($J$2:J19)),$I$2:$I$3995,0)),"") | K19: =IFERROR(INDEX(all[سعر البيع],MATCH(SMALL($I$2:$I$3995,ROWS($K$2:K19)),$I$2:$I$3995,0)),"") | L19: =IFERROR(IF(SEARCH(بحث!$D$4,all[اسم الصنف])>0,ROW(L19),""),"") | M19: =IFERROR(INDEX(all[اسم الصنف],MATCH(SMALL($L$2:$L$3995,ROWS($M$2:M19)),$L$2:$L$3995,0)),"") | N19: =IFERROR(INDEX(all[الباركود],MATCH(SMALL($L$2:$L$3995,ROWS($N$2:N19)),$L$2:$L$3995,0)),"") | O19: =IFERROR(INDEX(all[الشركة],MATCH(SMALL($L$2:$L$3995,ROWS($O$2:O19)),$L$2:$L$3995,0)),"") | P19: =IFERROR(INDEX(all[سعر البيع],MATCH(SMALL($L$2:$L$3995,ROWS($P$2:P19)),$L$2:$L$3995,0)),"")
A20: =[1]All!E25 -> 1015 | B20: =[1]All!F25 -> كيلو صنفره كوره الاقتصادي المصريه 220 | C20: =[1]All!G25 -> المصريه الايطاليه | D20: =[1]All!H25 -> 98 | F20: =IFERROR(INDEX(all[اسم الصنف],MATCH(SMALL($I$2:$I$3995,ROWS($F$2:F20)),$I$2:$I$3995,0)),"") | G20: =IFERROR(IF(SEARCH(بحث!$L$4,all[الشركة])>0,ROW(G20),""),"") | H20: =IFERROR(INDEX(all[الشركة],MATCH(SMALL($G$2:$G$3995,ROWS($H$2:H20)),$G$2:$G$3995,0)),"") | I20: =IFERROR(IF(SEARCH(بحث!$L$4,all[الشركة])>0,ROW(G20),""),"") | J20: =IFERROR(INDEX(all[الباركود],MATCH(SMALL($I$2:$I$3995,ROWS($J$2:J20)),$I$2:$I$3995,0)),"") | K20: =IFERROR(INDEX(all[سعر البيع],MATCH(SMALL($I$2:$I$3995,ROWS($K$2:K20)),$I$2:$I$3995,0)),"") | L20: =IFERROR(IF(SEARCH(بحث!$D$4,all[اسم الصنف])>0,ROW(L20),""),"") | M20: =IFERROR(INDEX(all[اسم الصنف],MATCH(SMALL($L$2:$L$3995,ROWS($M$2:M20)),$L$2:$L$3995,0)),"") | N20: =IFERROR(INDEX(all[الباركود],MATCH(SMALL($L$2:$L$3995,ROWS($N$2:N20)),$L$2:$L$3995,0)),"") | O20: =IFERROR(INDEX(all[الشركة],MATCH(SMALL($L$2:$L$3995,ROWS($O$2:O20)),$L$2:$L$3995,0)),"") | P20: =IFERROR(INDEX(all[سعر البيع],MATCH(SMALL($L$2:$L$3995,ROWS($P$2:P20)),$L$2:$L$3995,0)),"")
A21: =[1]All!E26 -> 1016 | B21: =[1]All!F26 -> كيلو فرن كابسي اسود ساده | C21: =[1]All!G26 -> كابسي | D21: =[1]All!H26 -> 189.567 | F21: =IFERROR(INDEX(all[اسم الصنف],MATCH(SMALL($I$2:$I$3995,ROWS($F$2:F21)),$I$2:$I$3995,0)),"") | G21: =IFERROR(IF(SEARCH(بحث!$L$4,all[الشركة])>0,ROW(G21),""),"") | H21: =IFERROR(INDEX(all[الشركة],MATCH(SMALL($G$2:$G$3995,ROWS($H$2:H21)),$G$2:$G$3995,0)),"") | I21: =IFERROR(IF(SEARCH(بحث!$L$4,all[الشركة])>0,ROW(G21),""),"") | J21: =IFERROR(INDEX(all[الباركود],MATCH(SMALL($I$2:$I$3995,ROWS($J$2:J21)),$I$2:$I$3995,0)),"") | K21: =IFERROR(INDEX(all[سعر البيع],MATCH(SMALL($I$2:$I$3995,ROWS($K$2:K21)),$I$2:$I$3995,0)),"") | L21: =IFERROR(IF(SEARCH(بحث!$D$4,all[اسم الصنف])>0,ROW(L21),""),"") | M21: =IFERROR(INDEX(all[اسم الصنف],MATCH(SMALL($L$2:$L$3995,ROWS($M$2:M21)),$L$2:$L$3995,0)),"") | N21: =IFERROR(INDEX(all[الباركود],MATCH(SMALL($L$2:$L$3995,ROWS($N$2:N21)),$L$2:$L$3995,0)),"") | O21: =IFERROR(INDEX(all[الشركة],MATCH(SMALL($L$2:$L$3995,ROWS($O$2:O21)),$L$2:$L$3995,0)),"") | P21: =IFERROR(INDEX(all[سعر البيع],MATCH(SMALL($L$2:$L$3995,ROWS($P$2:P21)),$L$2:$L$3995,0)),"")
A22: =[1]All!E27 -> 1019 | B22: =[1]All!F27 -> كيلو برستول عيار فضي | C22: =[1]All!G27 -> بروستول | D22: =[1]All!H27 -> 126 | F22: =IFERROR(INDEX(all[اسم الصنف],MATCH(SMALL($I$2:$I$3995,ROWS($F$2:F22)),$I$2:$I$3995,0)),"") | G22: =IFERROR(IF(SEARCH(بحث!$L$4,all[الشركة])>0,ROW(G22),""),"") | H22: =IFERROR(INDEX(all[الشركة],MATCH(SMALL($G$2:$G$3995,ROWS($H$2:H22)),$G$2:$G$3995,0)),"") | I22: =IFERROR(IF(SEARCH(بحث!$L$4,all[الشركة])>0,ROW(G22),""),"") | J22: =IFERROR(INDEX(all[الباركود],MATCH(SMALL($I$2:$I$3995,ROWS($J$2:J22)),$I$2:$I$3995,0)),"") | K22: =IFERROR(INDEX(all[سعر البيع],MATCH(SMALL($I$2:$I$3995,ROWS($K$2:K22)),$I$2:$I$3995,0)),"") | L22: =IFERROR(IF(SEARCH(بحث!$D$4,all[اسم الصنف])>0,ROW(L22),""),"") | M22: =IFERROR(INDEX(all[اسم الصنف],MATCH(SMALL($L$2:$L$3995,ROWS($M$2:M22)),$L$2:$L$3995,0)),"") | N22: =IFERROR(INDEX(all[الباركود],MATCH(SMALL($L$2:$L$3995,ROWS($N$2:N22)),$L$2:$L$3995,0)),"") | O22: =IFERROR(INDEX(all[الشركة],MATCH(SMALL($L$2:$L$3995,ROWS($O$2:O22)),$L$2:$L$3995,0)),"") | P22: =IFERROR(INDEX(all[سعر البيع],MATCH(SMALL($L$2:$L$3995,ROWS($P$2:P22)),$L$2:$L$3995,0)),"")
A23: =[1]All!E28 -> 1022 | B23: =[1]All!F28 -> كيلو برستول عيار دهبي | C23: =[1]All!G28 -> بروستول | D23: =[1]All!H28 -> 126 | F23: =IFERROR(INDEX(all[اسم الصنف],MATCH(SMALL($I$2:$I$3995,ROWS($F$2:F23)),$I$2:$I$3995,0)),"") | G23: =IFERROR(IF(SEARCH(بحث!$L$4,all[الشركة])>0,ROW(G23),""),"") | H23: =IFERROR(INDEX(all[الشركة],MATCH(SMALL($G$2:$G$3995,ROWS($H$2:H23)),$G$2:$G$3995,0)),"") | I23: =IFERROR(IF(SEARCH(بحث!$L$4,all[الشركة])>0,ROW(G23),""),"") | J23: =IFERROR(INDEX(all[الباركود],MATCH(SMALL($I$2:$I$3995,ROWS($J$2:J23)),$I$2:$I$3995,0)),"") | K23: =IFERROR(INDEX(all[سعر البيع],MATCH(SMALL($I$2:$I$3995,ROWS($K$2:K23)),$I$2:$I$3995,0)),"") | L23: =IFERROR(IF(SEARCH(بحث!$D$4,all[اسم الصنف])>0,ROW(L23),""),"") | M23: =IFERROR(INDEX(all[اسم الصنف],MATCH(SMALL($L$2:$L$3995,ROWS($M$2:M23)),$L$2:$L$3995,0)),"") | N23: =IFERROR(INDEX(all[الباركود],MATCH(SMALL($L$2:$L$3995,ROWS($N$2:N23)),$L$2:$L$3995,0)),"") | O23: =IFERROR(INDEX(all[الشركة],MATCH(SMALL($L$2:$L$3995,ROWS($O$2:O23)),$L$2:$L$3995,0)),"") | P23: =IFERROR(INDEX(all[سعر البيع],MATCH(SMALL($L$2:$L$3995,ROWS($P$2:P23)),$L$2:$L$3995,0)),"")
F24: =IFERROR(INDEX(all[اسم الصنف],MATCH(SMALL($I$2:$I$3995,ROWS($F$2:F24)),$I$2:$I$3995,0)),"") | G24: =IFERROR(IF(SEARCH(بحث!$L$4,all[الشركة])>0,ROW(G24),""),"") | H24: =IFERROR(INDEX(all[الشركة],MATCH(SMALL($G$2:$G$3995,ROWS($H$2:H24)),$G$2:$G$3995,0)),"") | I24: =IFERROR(IF(SEARCH(بحث!$L$4,all[الشركة])>0,ROW(G24),""),"") | J24: =IFERROR(INDEX(all[الباركود],MATCH(SMALL($I$2:$I$3995,ROWS($J$2:J24)),$I$2:$I$3995,0)),"") | K24: =IFERROR(INDEX(all[سعر البيع],MATCH(SMALL($I$2:$I$3995,ROWS($K$2:K24)),$I$2:$I$3995,0)),"") | L24: =IFERROR(IF(SEARCH(بحث!$D$4,all[اسم الصنف])>0,ROW(L24),""),"") | M24: =IFERROR(INDEX(all[اسم الصنف],MATCH(SMALL($L$2:$L$3995,ROWS($M$2:M24)),$L$2:$L$3995,0)),"") | N24: =IFERROR(INDEX(all[الباركود],MATCH(SMALL($L$2:$L$3995,ROWS($N$2:N24)),$L$2:$L$3995,0)),"") | O24: =IFERROR(INDEX(all[الشركة],MATCH(SMALL($L$2:$L$3995,ROWS($O$2:O24)),$L$2:$L$3995,0)),"") | P24: =IFERROR(INDEX(all[سعر البيع],MATCH(SMALL($L$2:$L$3995,ROWS($P$2:P24)),$L$2:$L$3995,0)),"")
F25: =IFERROR(INDEX(all[اسم الصنف],MATCH(SMALL($I$2:$I$3995,ROWS($F$2:F25)),$I$2:$I$3995,0)),"") | G25: =IFERROR(IF(SEARCH(بحث!$L$4,all[الشركة])>0,ROW(G25),""),"") | H25: =IFERROR(INDEX(all[الشركة],MATCH(SMALL($G$2:$G$3995,ROWS($H$2:H25)),$G$2:$G$3995,0)),"") | I25: =IFERROR(IF(SEARCH(بحث!$L$4,all[الشركة])>0,ROW(G25),""),"") | J25: =IFERROR(INDEX(all[الباركود],MATCH(SMALL($I$2:$I$3995,ROWS($J$2:J25)),$I$2:$I$3995,0)),"") | K25: =IFERROR(INDEX(all[سعر البيع],MATCH(SMALL($I$2:$I$3995,ROWS($K$2:K25)),$I$2:$I$3995,0)),"") | L25: =IFERROR(IF(SEARCH(بحث!$D$4,all[اسم الصنف])>0,ROW(L25),""),"") | M25: =IFERROR(INDEX(all[اسم الصنف],MATCH(SMALL($L$2:$L$3995,ROWS($M$2:M25)),$L$2:$L$3995,0)),"") | N25: =IFERROR(INDEX(all[الباركود],MATCH(SMALL($L$2:$L$3995,ROWS($N$2:N25)),$L$2:$L$3995,0)),"") | O25: =IFERROR(INDEX(all[الشركة],MATCH(SMALL($L$2:$L$3995,ROWS($O$2:O25)),$L$2:$L$3995,0)),"") | P25: =IFERROR(INDEX(all[سعر البيع],MATCH(SMALL($L$2:$L$3995,ROWS($P$2:P25)),$L$2:$L$3995,0)),"")
F26: =IFERROR(INDEX(all[اسم الصنف],MATCH(SMALL($I$2:$I$3995,ROWS($F$2:F26)),$I$2:$I$3995,0)),"") | G26: =IFERROR(IF(SEARCH(بحث!$L$4,all[الشركة])>0,ROW(G26),""),"") | H26: =IFERROR(INDEX(all[الشركة],MATCH(SMALL($G$2:$G$3995,ROWS($H$2:H26)),$G$2:$G$3995,0)),"") | I26: =IFERROR(IF(SEARCH(بحث!$L$4,all[الشركة])>0,ROW(G26),""),"") | J26: =IFERROR(INDEX(all[الباركود],MATCH(SMALL($I$2:$I$3995,ROWS($J$2:J26)),$I$2:$I$3995,0)),"") | K26: =IFERROR(INDEX(all[سعر البيع],MATCH(SMALL($I$2:$I$3995,ROWS($K$2:K26)),$I$2:$I$3995,0)),"") | L26: =IFERROR(IF(SEARCH(بحث!$D$4,all[اسم الصنف])>0,ROW(L26),""),"") | M26: =IFERROR(INDEX(all[اسم الصنف],MATCH(SMALL($L$2:$L$3995,ROWS($M$2:M26)),$L$2:$L$3995,0)),"") | N26: =IFERROR(INDEX(all[الباركود],MATCH(SMALL($L$2:$L$3995,ROWS($N$2:N26)),$L$2:$L$3995,0)),"") | O26: =IFERROR(INDEX(all[الشركة],MATCH(SMALL($L$2:$L$3995,ROWS($O$2:O26)),$L$2:$L$3995,0)),"") | P26: =IFERROR(INDEX(all[سعر البيع],MATCH(SMALL($L$2:$L$3995,ROWS($P$2:P26)),$L$2:$L$3995,0)),"")
F27: =IFERROR(INDEX(all[اسم الصنف],MATCH(SMALL($I$2:$I$3995,ROWS($F$2:F27)),$I$2:$I$3995,0)),"") | G27: =IFERROR(IF(SEARCH(بحث!$L$4,all[الشركة])>0,ROW(G27),""),"") | H27: =IFERROR(INDEX(all[الشركة],MATCH(SMALL($G$2:$G$3995,ROWS($H$2:H27)),$G$2:$G$3995,0)),"") | I27: =IFERROR(IF(SEARCH(بحث!$L$4,all[الشركة])>0,ROW(G27),""),"") | J27: =IFERROR(INDEX(all[الباركود],MATCH(SMALL($I$2:$I$3995,ROWS($J$2:J27)),$I$2:$I$3995,0)),"") | K27: =IFERROR(INDEX(all[سعر البيع],MATCH(SMALL($I$2:$I$3995,ROWS($K$2:K27)),$I$2:$I$3995,0)),"") | L27: =IFERROR(IF(SEARCH(بحث!$D$4,all[اسم الصنف])>0,ROW(L27),""),"") | M27: =IFERROR(INDEX(all[اسم الصنف],MATCH(SMALL($L$2:$L$3995,ROWS($M$2:M27)),$L$2:$L$3995,0)),"") | N27: =IFERROR(INDEX(all[الباركود],MATCH(SMALL($L$2:$L$3995,ROWS($N$2:N27)),$L$2:$L$3995,0)),"") | O27: =IFERROR(INDEX(all[الشركة],MATCH(SMALL($L$2:$L$3995,ROWS($O$2:O27)),$L$2:$L$3995,0)),"") | P27: =IFERROR(INDEX(all[سعر البيع],MATCH(SMALL($L$2:$L$3995,ROWS($P$2:P27)),$L$2:$L$3995,0)),"")
F28: =IFERROR(INDEX(all[اسم الصنف],MATCH(SMALL($I$2:$I$3995,ROWS($F$2:F28)),$I$2:$I$3995,0)),"") | G28: =IFERROR(IF(SEARCH(بحث!$L$4,all[الشركة])>0,ROW(G28),""),"") | H28: =IFERROR(INDEX(all[الشركة],MATCH(SMALL($G$2:$G$3995,ROWS($H$2:H28)),$G$2:$G$3995,0)),"") | I28: =IFERROR(IF(SEARCH(بحث!$L$4,all[الشركة])>0,ROW(G28),""),"") | J28: =IFERROR(INDEX(all[الباركود],MATCH(SMALL($I$2:$I$3995,ROWS($J$2:J28)),$I$2:$I$3995,0)),"") | K28: =IFERROR(INDEX(all[سعر البيع],MATCH(SMALL($I$2:$I$3995,ROWS($K$2:K28)),$I$2:$I$3995,0)),"") | L28: =IFERROR(IF(SEARCH(بحث!$D$4,all[اسم الصنف])>0,ROW(L28),""),"") | M28: =IFERROR(INDEX(all[اسم الصنف],MATCH(SMALL($L$2:$L$3995,ROWS($M$2:M28)),$L$2:$L$3995,0)),"") | N28: =IFERROR(INDEX(all[الباركود],MATCH(SMALL($L$2:$L$3995,ROWS($N$2:N28)),$L$2:$L$3995,0)),"") | O28: =IFERROR(INDEX(all[الشركة],MATCH(SMALL($L$2:$L$3995,ROWS($O$2:O28)),$L$2:$L$3995,0)),"") | P28: =IFERROR(INDEX(all[سعر البيع],MATCH(SMALL($L$2:$L$3995,ROWS($P$2:P28)),$L$2:$L$3995,0)),"")
F29: =IFERROR(INDEX(all[اسم الصنف],MATCH(SMALL($I$2:$I$3995,ROWS($F$2:F29)),$I$2:$I$3995,0)),"") | G29: =IFERROR(IF(SEARCH(بحث!$L$4,all[الشركة])>0,ROW(G29),""),"") | H29: =IFERROR(INDEX(all[الشركة],MATCH(SMALL($G$2:$G$3995,ROWS($H$2:H29)),$G$2:$G$3995,0)),"") | I29: =IFERROR(IF(SEARCH(بحث!$L$4,all[الشركة])>0,ROW(G29),""),"") | J29: =IFERROR(INDEX(all[الباركود],MATCH(SMALL($I$2:$I$3995,ROWS($J$2:J29)),$I$2:$I$3995,0)),"") | K29: =IFERROR(INDEX(all[سعر البيع],MATCH(SMALL($I$2:$I$3995,ROWS($K$2:K29)),$I$2:$I$3995,0)),"") | L29: =IFERROR(IF(SEARCH(بحث!$D$4,all[اسم الصنف])>0,ROW(L29),""),"") | M29: =IFERROR(INDEX(all[اسم الصنف],MATCH(SMALL($L$2:$L$3995,ROWS($M$2:M29)),$L$2:$L$3995,0)),"") | N29: =IFERROR(INDEX(all[الباركود],MATCH(SMALL($L$2:$L$3995,ROWS($N$2:N29)),$L$2:$L$3995,0)),"") | O29: =IFERROR(INDEX(all[الشركة],MATCH(SMALL($L$2:$L$3995,ROWS($O$2:O29)),$L$2:$L$3995,0)),"") | P29: =IFERROR(INDEX(all[سعر البيع],MATCH(SMALL($L$2:$L$3995,ROWS($P$2:P29)),$L$2:$L$3995,0)),"")
F30: =IFERROR(INDEX(all[اسم الصنف],MATCH(SMALL($I$2:$I$3995,ROWS($F$2:F30)),$I$2:$I$3995,0)),"") | G30: =IFERROR(IF(SEARCH(بحث!$L$4,all[الشركة])>0,ROW(G30),""),"") | H30: =IFERROR(INDEX(all[الشركة],MATCH(SMALL($G$2:$G$3995,ROWS($H$2:H30)),$G$2:$G$3995,0)),"") | I30: =IFERROR(IF(SEARCH(بحث!$L$4,all[الشركة])>0,ROW(G30),""),"") | J30: =IFERROR(INDEX(all[الباركود],MATCH(SMALL($I$2:$I$3995,ROWS($J$2:J30)),$I$2:$I$3995,0)),"") | K30: =IFERROR(INDEX(all[سعر البيع],MATCH(SMALL($I$2:$I$3995,ROWS($K$2:K30)),$I$2:$I$3995,0)),"") | L30: =IFERROR(IF(SEARCH(بحث!$D$4,all[اسم الصنف])>0,ROW(L30),""),"") | M30: =IFERROR(INDEX(all[اسم الصنف],MATCH(SMALL($L$2:$L$3995,ROWS($M$2:M30)),$L$2:$L$3995,0)),"") | N30: =IFERROR(INDEX(all[الباركود],MATCH(SMALL($L$2:$L$3995,ROWS($N$2:N30)),$L$2:$L$3995,0)),"") | O30: =IFERROR(INDEX(all[الشركة],MATCH(SMALL($L$2:$L$3995,ROWS($O$2:O30)),$L$2:$L$3995,0)),"") | P30: =IFERROR(INDEX(all[سعر البيع],MATCH(SMALL($L$2:$L$3995,ROWS($P$2:P30)),$L$2:$L$3995,0)),"")
A31: =[1]All!E36 -> 1043 | B31: =[1]All!F36 -> كيلو مجموعه المهندس لامع 1:1 | C31: =[1]All!G36 -> المهندس | D31: =[1]All!H36 -> 140.48833 | F31: =IFERROR(INDEX(all[اسم الصنف],MATCH(SMALL($I$2:$I$3995,ROWS($F$2:F31)),$I$2:$I$3995,0)),"") | G31: =IFERROR(IF(SEARCH(بحث!$L$4,all[الشركة])>0,ROW(G31),""),"") | H31: =IFERROR(INDEX(all[الشركة],MATCH(SMALL($G$2:$G$3995,ROWS($H$2:H31)),$G$2:$G$3995,0)),"") | I31: =IFERROR(IF(SEARCH(بحث!$L$4,all[الشركة])>0,ROW(G31),""),"") | J31: =IFERROR(INDEX(all[الباركود],MATCH(SMALL($I$2:$I$3995,ROWS($J$2:J31)),$I$2:$I$3995,0)),"") | K31: =IFERROR(INDEX(all[سعر البيع],MATCH(SMALL($I$2:$I$3995,ROWS($K$2:K31)),$I$2:$I$3995,0)),"") | L31: =IFERROR(IF(SEARCH(بحث!$D$4,all[اسم الصنف])>0,ROW(L31),""),"") | M31: =IFERROR(INDEX(all[اسم الصنف],MATCH(SMALL($L$2:$L$3995,ROWS($M$2:M31)),$L$2:$L$3995,0)),"") | N31: =IFERROR(INDEX(all[الباركود],MATCH(SMALL($L$2:$L$3995,ROWS($N$2:N31)),$L$2:$L$3995,0)),"") | O31: =IFERROR(INDEX(all[الشركة],MATCH(SMALL($L$2:$L$3995,ROWS($O$2:O31)),$L$2:$L$3995,0)),"") | P31: =IFERROR(INDEX(all[سعر البيع],MATCH(SMALL($L$2:$L$3995,ROWS($P$2:P31)),$L$2:$L$3995,0)),"")
F32: =IFERROR(INDEX(all[اسم الصنف],MATCH(SMALL($I$2:$I$3995,ROWS($F$2:F32)),$I$2:$I$3995,0)),"") | G32: =IFERROR(IF(SEARCH(بحث!$L$4,all[الشركة])>0,ROW(G32),""),"") | H32: =IFERROR(INDEX(all[الشركة],MATCH(SMALL($G$2:$G$3995,ROWS($H$2:H32)),$G$2:$G$3995,0)),"") | I32: =IFERROR(IF(SEARCH(بحث!$L$4,all[الشركة])>0,ROW(G32),""),"") | J32: =IFERROR(INDEX(all[الباركود],MATCH(SMALL($I$2:$I$3995,ROWS($J$2:J32)),$I$2:$I$3995,0)),"") | K32: =IFERROR(INDEX(all[سعر البيع],MATCH(SMALL($I$2:$I$3995,ROWS($K$2:K32)),$I$2:$I$3995,0)),"") | L32: =IFERROR(IF(SEARCH(بحث!$D$4,all[اسم الصنف])>0,ROW(L32),""),"") | M32: =IFERROR(INDEX(all[اسم الصنف],MATCH(SMALL($L$2:$L$3995,ROWS($M$2:M32)),$L$2:$L$3995,0)),"") | N32: =IFERROR(INDEX(all[الباركود],MATCH(SMALL($L$2:$L$3995,ROWS($N$2:N32)),$L$2:$L$3995,0)),"") | O32: =IFERROR(INDEX(all[الشركة],MATCH(SMALL($L$2:$L$3995,ROWS($O$2:O32)),$L$2:$L$3995,0)),"") | P32: =IFERROR(INDEX(all[سعر البيع],MATCH(SMALL($L$2:$L$3995,ROWS($P$2:P32)),$L$2:$L$3995,0)),"")
A33: =[1]All!E38 -> 1045 | B33: =[1]All!F38 -> كيلو مجموعه المهندس لامع 1:2 | C33: =[1]All!G38 -> المهندس | D33: =[1]All!H38 -> 110.74167 | F33: =IFERROR(INDEX(all[اسم الصنف],MATCH(SMALL($I$2:$I$3995,ROWS($F$2:F33)),$I$2:$I$3995,0)),"") | G33: =IFERROR(IF(SEARCH(بحث!$L$4,all[الشركة])>0,ROW(G33),""),"") | H33: =IFERROR(INDEX(all[الشركة],MATCH(SMALL($G$2:$G$3995,ROWS($H$2:H33)),$G$2:$G$3995,0)),"") | I33: =IFERROR(IF(SEARCH(بحث!$L$4,all[الشركة])>0,ROW(G33),""),"") | J33: =IFERROR(INDEX(all[الباركود],MATCH(SMALL($I$2:$I$3995,ROWS($J$2:J33)),$I$2:$I$3995,0)),"") | K33: =IFERROR(INDEX(all[سعر البيع],MATCH(SMALL($I$2:$I$3995,ROWS($K$2:K33)),$I$2:$I$3995,0)),"") | L33: =IFERROR(IF(SEARCH(بحث!$D$4,all[اسم الصنف])>0,ROW(L33),""),"") | M33: =IFERROR(INDEX(all[اسم الصنف],MATCH(SMALL($L$2:$L$3995,ROWS($M$2:M33)),$L$2:$L$3995,0)),"") | N33: =IFERROR(INDEX(all[الباركود],MATCH(SMALL($L$2:$L$3995,ROWS($N$2:N33)),$L$2:$L$3995,0)),"") | O33: =IFERROR(INDEX(all[الشركة],MATCH(SMALL($L$2:$L$3995,ROWS($O$2:O33)),$L$2:$L$3995,0)),"") | P33: =IFERROR(INDEX(all[سعر البيع],MATCH(SMALL($L$2:$L$3995,ROWS($P$2:P33)),$L$2:$L$3995,0)),"")
F34: =IFERROR(INDEX(all[اسم الصنف],MATCH(SMALL($I$2:$I$3995,ROWS($F$2:F34)),$I$2:$I$3995,0)),"") | G34: =IFERROR(IF(SEARCH(بحث!$L$4,all[الشركة])>0,ROW(G34),""),"") | H34: =IFERROR(INDEX(all[الشركة],MATCH(SMALL($G$2:$G$3995,ROWS($H$2:H34)),$G$2:$G$3995,0)),"") | I34: =IFERROR(IF(SEARCH(بحث!$L$4,all[الشركة])>0,ROW(G34),""),"") | J34: =IFERROR(INDEX(all[الباركود],MATCH(SMALL($I$2:$I$3995,ROWS($J$2:J34)),$I$2:$I$3995,0)),"") | K34: =IFERROR(INDEX(all[سعر البيع],MATCH(SMALL($I$2:$I$3995,ROWS($K$2:K34)),$I$2:$I$3995,0)),"") | L34: =IFERROR(IF(SEARCH(بحث!$D$4,all[اسم الصنف])>0,ROW(L34),""),"") | M34: =IFERROR(INDEX(all[اسم الصنف],MATCH(SMALL($L$2:$L$3995,ROWS($M$2:M34)),$L$2:$L$3995,0)),"") | N34: =IFERROR(INDEX(all[الباركود],MATCH(SMALL($L$2:$L$3995,ROWS($N$2:N34)),$L$2:$L$3995,0)),"") | O34: =IFERROR(INDEX(all[الشركة],MATCH(SMALL($L$2:$L$3995,ROWS($O$2:O34)),$L$2:$L$3995,0)),"") | P34: =IFERROR(INDEX(all[سعر البيع],MATCH(SMALL($L$2:$L$3995,ROWS($P$2:P34)),$L$2:$L$3995,0)),"")
A35: =[1]All!E40 -> 1047 | B35: =[1]All!F40 -> جالون مجموعه المهندس لامع 1:2 | C35: =[1]All!G40 -> المهندس | D35: =[1]All!H40 -> 445.9575 | F35: =IFERROR(INDEX(all[اسم الصنف],MATCH(SMALL($I$2:$I$3995,ROWS($F$2:F35)),$I$2:$I$3995,0)),"") | G35: =IFERROR(IF(SEARCH(بحث!$L$4,all[الشركة])>0,ROW(G35),""),"") | H35: =IFERROR(INDEX(all[الشركة],MATCH(SMALL($G$2:$G$3995,ROWS($H$2:H35)),$G$2:$G$3995,0)),"") | I35: =IFERROR(IF(SEARCH(بحث!$L$4,all[الشركة])>0,ROW(G35),""),"") | J35: =IFERROR(INDEX(all[الباركود],MATCH(SMALL($I$2:$I$3995,ROWS($J$2:J35)),$I$2:$I$3995,0)),"") | K35: =IFERROR(INDEX(all[سعر البيع],MATCH(SMALL($I$2:$I$3995,ROWS($K$2:K35)),$I$2:$I$3995,0)),"") | L35: =IFERROR(IF(SEARCH(بحث!$D$4,all[اسم الصنف])>0,ROW(L35),""),"") | M35: =IFERROR(INDEX(all[اسم الصنف],MATCH(SMALL($L$2:$L$3995,ROWS($M$2:M35)),$L$2:$L$3995,0)),"") | N35: =IFERROR(INDEX(all[الباركود],MATCH(SMALL($L$2:$L$3995,ROWS($N$2:N35)),$L$2:$L$3995,0)),"") | O35: =IFERROR(INDEX(all[الشركة],MATCH(SMALL($L$2:$L$3995,ROWS($O$2:O35)),$L$2:$L$3995,0)),"") | P35: =IFERROR(INDEX(all[سعر البيع],MATCH(SMALL($L$2:$L$3995,ROWS($P$2:P35)),$L$2:$L$3995,0)),"")
A36: =[1]All!E41 -> 1055 | B36: =[1]All!F41 -> كيلو مجموعه المهندس مط زيرو | C36: =[1]All!G41 -> المهندس | D36: =[1]All!H41 -> 109.125 | F36: =IFERROR(INDEX(all[اسم الصنف],MATCH(SMALL($I$2:$I$3995,ROWS($F$2:F36)),$I$2:$I$3995,0)),"") | G36: =IFERROR(IF(SEARCH(بحث!$L$4,all[الشركة])>0,ROW(G36),""),"") | H36: =IFERROR(INDEX(all[الشركة],MATCH(SMALL($G$2:$G$3995,ROWS($H$2:H36)),$G$2:$G$3995,0)),"") | I36: =IFERROR(IF(SEARCH(بحث!$L$4,all[الشركة])>0,ROW(G36),""),"") | J36: =IFERROR(INDEX(all[الباركود],MATCH(SMALL($I$2:$I$3995,ROWS($J$2:J36)),$I$2:$I$3995,0)),"") | K36: =IFERROR(INDEX(all[سعر البيع],MATCH(SMALL($I$2:$I$3995,ROWS($K$2:K36)),$I$2:$I$3995,0)),"") | L36: =IFERROR(IF(SEARCH(بحث!$D$4,all[اسم الصنف])>0,ROW(L36),""),"") | M36: =IFERROR(INDEX(all[اسم الصنف],MATCH(SMALL($L$2:$L$3995,ROWS($M$2:M36)),$L$2:$L$3995,0)),"") | N36: =IFERROR(INDEX(all[الباركود],MATCH(SMALL($L$2:$L$3995,ROWS($N$2:N36)),$L$2:$L$3995,0)),"") | O36: =IFERROR(INDEX(all[الشركة],MATCH(SMALL($L$2:$L$3995,ROWS($O$2:O36)),$L$2:$L$3995,0)),"") | P36: =IFERROR(INDEX(all[سعر البيع],MATCH(SMALL($L$2:$L$3995,ROWS($P$2:P36)),$L$2:$L$3995,0)),"")
F37: =IFERROR(INDEX(all[اسم الصنف],MATCH(SMALL($I$2:$I$3995,ROWS($F$2:F37)),$I$2:$I$3995,0)),"") | G37: =IFERROR(IF(SEARCH(بحث!$L$4,all[الشركة])>0,ROW(G37),""),"") | H37: =IFERROR(INDEX(all[الشركة],MATCH(SMALL($G$2:$G$3995,ROWS($H$2:H37)),$G$2:$G$3995,0)),"") | I37: =IFERROR(IF(SEARCH(بحث!$L$4,all[الشركة])>0,ROW(G37),""),"") | J37: =IFERROR(INDEX(all[الباركود],MATCH(SMALL($I$2:$I$3995,ROWS($J$2:J37)),$I$2:$I$3995,0)),"") | K37: =IFERROR(INDEX(all[سعر البيع],MATCH(SMALL($I$2:$I$3995,ROWS($K$2:K37)),$I$2:$I$3995,0)),"") | L37: =IFERROR(IF(SEARCH(بحث!$D$4,all[اسم الصنف])>0,ROW(L37),""),"") | M37: =IFERROR(INDEX(all[اسم الصنف],MATCH(SMALL($L$2:$L$3995,ROWS($M$2:M37)),$L$2:$L$3995,0)),"") | N37: =IFERROR(INDEX(all[الباركود],MATCH(SMALL($L$2:$L$3995,ROWS($N$2:N37)),$L$2:$L$3995,0)),"") | O37: =IFERROR(INDEX(all[الشركة],MATCH(SMALL($L$2:$L$3995,ROWS($O$2:O37)),$L$2:$L$3995,0)),"") | P37: =IFERROR(INDEX(all[سعر البيع],MATCH(SMALL($L$2:$L$3995,ROWS($P$2:P37)),$L$2:$L$3995,0)),"")
F38: =IFERROR(INDEX(all[اسم الصنف],MATCH(SMALL($I$2:$I$3995,ROWS($F$2:F38)),$I$2:$I$3995,0)),"") | G38: =IFERROR(IF(SEARCH(بحث!$L$4,all[الشركة])>0,ROW(G38),""),"") | H38: =IFERROR(INDEX(all[الشركة],MATCH(SMALL($G$2:$G$3995,ROWS($H$2:H38)),$G$2:$G$3995,0)),"") | I38: =IFERROR(IF(SEARCH(بحث!$L$4,all[الشركة])>0,ROW(G38),""),"") | J38: =IFERROR(INDEX(all[الباركود],MATCH(SMALL($I$2:$I$3995,ROWS($J$2:J38)),$I$2:$I$3995,0)),"") | K38: =IFERROR(INDEX(all[سعر البيع],MATCH(SMALL($I$2:$I$3995,ROWS($K$2:K38)),$I$2:$I$3995,0)),"") | L38: =IFERROR(IF(SEARCH(بحث!$D$4,all[اسم الصنف])>0,ROW(L38),""),"") | M38: =IFERROR(INDEX(all[اسم الصنف],MATCH(SMALL($L$2:$L$3995,ROWS($M$2:M38)),$L$2:$L$3995,0)),"") | N38: =IFERROR(INDEX(all[الباركود],MATCH(SMALL($L$2:$L$3995,ROWS($N$2:N38)),$L$2:$L$3995,0)),"") | O38: =IFERROR(INDEX(all[الشركة],MATCH(SMALL($L$2:$L$3995,ROWS($O$2:O38)),$L$2:$L$3995,0)),"") | P38: =IFERROR(INDEX(all[سعر البيع],MATCH(SMALL($L$2:$L$3995,ROWS($P$2:P38)),$L$2:$L$3995,0)),"")
F39: =IFERROR(INDEX(all[اسم الصنف],MATCH(SMALL($I$2:$I$3995,ROWS($F$2:F39)),$I$2:$I$3995,0)),"") | G39: =IFERROR(IF(SEARCH(بحث!$L$4,all[الشركة])>0,ROW(G39),""),"") | H39: =IFERROR(INDEX(all[الشركة],MATCH(SMALL($G$2:$G$3995,ROWS($H$2:H39)),$G$2:$G$3995,0)),"") | I39: =IFERROR(IF(SEARCH(بحث!$L$4,all[الشركة])>0,ROW(G39),""),"") | J39: =IFERROR(INDEX(all[الباركود],MATCH(SMALL($I$2:$I$3995,ROWS($J$2:J39)),$I$2:$I$3995,0)),"") | K39: =IFERROR(INDEX(all[سعر البيع],MATCH(SMALL($I$2:$I$3995,ROWS($K$2:K39)),$I$2:$I$3995,0)),"") | L39: =IFERROR(IF(SEARCH(بحث!$D$4,all[اسم الصنف])>0,ROW(L39),""),"") | M39: =IFERROR(INDEX(all[اسم الصنف],MATCH(SMALL($L$2:$L$3995,ROWS($M$2:M39)),$L$2:$L$3995,0)),"") | N39: =IFERROR(INDEX(all[الباركود],MATCH(SMALL($L$2:$L$3995,ROWS($N$2:N39)),$L$2:$L$3995,0)),"") | O39: =IFERROR(INDEX(all[الشركة],MATCH(SMALL($L$2:$L$3995,ROWS($O$2:O39)),$L$2:$L$3995,0)),"") | P39: =IFERROR(INDEX(all[سعر البيع],MATCH(SMALL($L$2:$L$3995,ROWS($P$2:P39)),$L$2:$L$3995,0)),"")
F40: =IFERROR(INDEX(all[اسم الصنف],MATCH(SMALL($I$2:$I$3995,ROWS($F$2:F40)),$I$2:$I$3995,0)),"") | G40: =IFERROR(IF(SEARCH(بحث!$L$4,all[الشركة])>0,ROW(G40),""),"") | H40: =IFERROR(INDEX(all[الشركة],MATCH(SMALL($G$2:$G$3995,ROWS($H$2:H40)),$G$2:$G$3995,0)),"") | I40: =IFERROR(IF(SEARCH(بحث!$L$4,all[الشركة])>0,ROW(G40),""),"") | J40: =IFERROR(INDEX(all[الباركود],MATCH(SMALL($I$2:$I$3995,ROWS($J$2:J40)),$I$2:$I$3995,0)),"") | K40: =IFERROR(INDEX(all[سعر البيع],MATCH(SMALL($I$2:$I$3995,ROWS($K$2:K40)),$I$2:$I$3995,0)),"") | L40: =IFERROR(IF(SEARCH(بحث!$D$4,all[اسم الصنف])>0,ROW(L40),""),"") | M40: =IFERROR(INDEX(all[اسم الصنف],MATCH(SMALL($L$2:$L$3995,ROWS($M$2:M40)),$L$2:$L$3995,0)),"") | N40: =IFERROR(INDEX(all[الباركود],MATCH(SMALL($L$2:$L$3995,ROWS($N$2:N40)),$L$2:$L$3995,0)),"") | O40: =IFERROR(INDEX(all[الشركة],MATCH(SMALL($L$2:$L$3995,ROWS($O$2:O40)),$L$2:$L$3995,0)),"") | P40: =IFERROR(INDEX(all[سعر البيع],MATCH(SMALL($L$2:$L$3995,ROWS($P$2:P40)),$L$2:$L$3995,0)),"")
F41: =IFERROR(INDEX(all[اسم الصنف],MATCH(SMALL($I$2:$I$3995,ROWS($F$2:F41)),$I$2:$I$3995,0)),"") | G41: =IFERROR(IF(SEARCH(بحث!$L$4,all[الشركة])>0,ROW(G41),""),"") | H41: =IFERROR(INDEX(all[الشركة],MATCH(SMALL($G$2:$G$3995,ROWS($H$2:H41)),$G$2:$G$3995,0)),"") | I41: =IFERROR(IF(SEARCH(بحث!$L$4,all[الشركة])>0,ROW(G41),""),"") | J41: =IFERROR(INDEX(all[الباركود],MATCH(SMALL($I$2:$I$3995,ROWS($J$2:J41)),$I$2:$I$3995,0)),"") | K41: =IFERROR(INDEX(all[سعر البيع],MATCH(SMALL($I$2:$I$3995,ROWS($K$2:K41)),$I$2:$I$3995,0)),"") | L41: =IFERROR(IF(SEARCH(بحث!$D$4,all[اسم الصنف])>0,ROW(L41),""),"") | M41: =IFERROR(INDEX(all[اسم الصنف],MATCH(SMALL($L$2:$L$3995,ROWS($M$2:M41)),$L$2:$L$3995,0)),"") | N41: =IFERROR(INDEX(all[الباركود],MATCH(SMALL($L$2:$L$3995,ROWS($N$2:N41)),$L$2:$L$3995,0)),"") | O41: =IFERROR(INDEX(all[الشركة],MATCH(SMALL($L$2:$L$3995,ROWS($O$2:O41)),$L$2:$L$3995,0)),"") | P41: =IFERROR(INDEX(all[سعر البيع],MATCH(SMALL($L$2:$L$3995,ROWS($P$2:P41)),$L$2:$L$3995,0)),"")
F42: =IFERROR(INDEX(all[اسم الصنف],MATCH(SMALL($I$2:$I$3995,ROWS($F$2:F42)),$I$2:$I$3995,0)),"") | G42: =IFERROR(IF(SEARCH(بحث!$L$4,all[الشركة])>0,ROW(G42),""),"") | H42: =IFERROR(INDEX(all[الشركة],MATCH(SMALL($G$2:$G$3995,ROWS($H$2:H42)),$G$2:$G$3995,0)),"") | I42: =IFERROR(IF(SEARCH(بحث!$L$4,all[الشركة])>0,ROW(G42),""),"") | J42: =IFERROR(INDEX(all[الباركود],MATCH(SMALL($I$2:$I$3995,ROWS($J$2:J42)),$I$2:$I$3995,0)),"") | K42: =IFERROR(INDEX(all[سعر البيع],MATCH(SMALL($I$2:$I$3995,ROWS($K$2:K42)),$I$2:$I$3995,0)),"") | L42: =IFERROR(IF(SEARCH(بحث!$D$4,all[اسم الصنف])>0,ROW(L42),""),"") | M42: =IFERROR(INDEX(all[اسم الصنف],MATCH(SMALL($L$2:$L$3995,ROWS($M$2:M42)),$L$2:$L$3995,0)),"") | N42: =IFERROR(INDEX(all[الباركود],MATCH(SMALL($L$2:$L$3995,ROWS($N$2:N42)),$L$2:$L$3995,0)),"") | O42: =IFERROR(INDEX(all[الشركة],MATCH(SMALL($L$2:$L$3995,ROWS($O$2:O42)),$L$2:$L$3995,0)),"") | P42: =IFERROR(INDEX(all[سعر البيع],MATCH(SMALL($L$2:$L$3995,ROWS($P$2:P42)),$L$2:$L$3995,0)),"")
F43: =IFERROR(INDEX(all[اسم الصنف],MATCH(SMALL($I$2:$I$3995,ROWS($F$2:F43)),$I$2:$I$3995,0)),"") | G43: =IFERROR(IF(SEARCH(بحث!$L$4,all[الشركة])>0,ROW(G43),""),"") | H43: =IFERROR(INDEX(all[الشركة],MATCH(SMALL($G$2:$G$3995,ROWS($H$2:H43)),$G$2:$G$3995,0)),"") | I43: =IFERROR(IF(SEARCH(بحث!$L$4,all[الشركة])>0,ROW(G43),""),"") | J43: =IFERROR(INDEX(all[الباركود],MATCH(SMALL($I$2:$I$3995,ROWS($J$2:J43)),$I$2:$I$3995,0)),"") | K43: =IFERROR(INDEX(all[سعر البيع],MATCH(SMALL($I$2:$I$3995,ROWS($K$2:K43)),$I$2:$I$3995,0)),"") | L43: =IFERROR(IF(SEARCH(بحث!$D$4,all[اسم الصنف])>0,ROW(L43),""),"") | M43: =IFERROR(INDEX(all[اسم الصنف],MATCH(SMALL($L$2:$L$3995,ROWS($M$2:M43)),$L$2:$L$3995,0)),"") | N43: =IFERROR(INDEX(all[الباركود],MATCH(SMALL($L$2:$L$3995,ROWS($N$2:N43)),$L$2:$L$3995,0)),"") | O43: =IFERROR(INDEX(all[الشركة],MATCH(SMALL($L$2:$L$3995,ROWS($O$2:O43)),$L$2:$L$3995,0)),"") | P43: =IFERROR(INDEX(all[سعر البيع],MATCH(SMALL($L$2:$L$3995,ROWS($P$2:P43)),$L$2:$L$3995,0)),"")
F44: =IFERROR(INDEX(all[اسم الصنف],MATCH(SMALL($I$2:$I$3995,ROWS($F$2:F44)),$I$2:$I$3995,0)),"") | G44: =IFERROR(IF(SEARCH(بحث!$L$4,all[الشركة])>0,ROW(G44),""),"") | H44: =IFERROR(INDEX(all[الشركة],MATCH(SMALL($G$2:$G$3995,ROWS($H$2:H44)),$G$2:$G$3995,0)),"") | I44: =IFERROR(IF(SEARCH(بحث!$L$4,all[الشركة])>0,ROW(G44),""),"") | J44: =IFERROR(INDEX(all[الباركود],MATCH(SMALL($I$2:$I$3995,ROWS($J$2:J44)),$I$2:$I$3995,0)),"") | K44: =IFERROR(INDEX(all[سعر البيع],MATCH(SMALL($I$2:$I$3995,ROWS($K$2:K44)),$I$2:$I$3995,0)),"") | L44: =IFERROR(IF(SEARCH(بحث!$D$4,all[اسم الصنف])>0,ROW(L44),""),"") | M44: =IFERROR(INDEX(all[اسم الصنف],MATCH(SMALL($L$2:$L$3995,ROWS($M$2:M44)),$L$2:$L$3995,0)),"") | N44: =IFERROR(INDEX(all[الباركود],MATCH(SMALL($L$2:$L$3995,ROWS($N$2:N44)),$L$2:$L$3995,0)),"") | O44: =IFERROR(INDEX(all[الشركة],MATCH(SMALL($L$2:$L$3995,ROWS($O$2:O44)),$L$2:$L$3995,0)),"") | P44: =IFERROR(INDEX(all[سعر البيع],MATCH(SMALL($L$2:$L$3995,ROWS($P$2:P44)),$L$2:$L$3995,0)),"")
F45: =IFERROR(INDEX(all[اسم الصنف],MATCH(SMALL($I$2:$I$3995,ROWS($F$2:F45)),$I$2:$I$3995,0)),"") | G45: =IFERROR(IF(SEARCH(بحث!$L$4,all[الشركة])>0,ROW(G45),""),"") | H45: =IFERROR(INDEX(all[الشركة],MATCH(SMALL($G$2:$G$3995,ROWS($H$2:H45)),$G$2:$G$3995,0)),"") | I45: =IFERROR(IF(SEARCH(بحث!$L$4,all[الشركة])>0,ROW(G45),""),"") | J45: =IFERROR(INDEX(all[الباركود],MATCH(SMALL($I$2:$I$3995,ROWS($J$2:J45)),$I$2:$I$3995,0)),"") | K45: =IFERROR(INDEX(all[سعر البيع],MATCH(SMALL($I$2:$I$3995,ROWS($K$2:K45)),$I$2:$I$3995,0)),"") | L45: =IFERROR(IF(SEARCH(بحث!$D$4,all[اسم الصنف])>0,ROW(L45),""),"") | M45: =IFERROR(INDEX(all[اسم الصنف],MATCH(SMALL($L$2:$L$3995,ROWS($M$2:M45)),$L$2:$L$3995,0)),"") | N45: =IFERROR(INDEX(all[الباركود],MATCH(SMALL($L$2:$L$3995,ROWS($N$2:N45)),$L$2:$L$3995,0)),"") | O45: =IFERROR(INDEX(all[الشركة],MATCH(SMALL($L$2:$L$3995,ROWS($O$2:O45)),$L$2:$L$3995,0)),"") | P45: =IFERROR(INDEX(all[سعر البيع],MATCH(SMALL($L$2:$L$3995,ROWS($P$2:P45)),$L$2:$L$3995,0)),"")
F46: =IFERROR(INDEX(all[اسم الصنف],MATCH(SMALL($I$2:$I$3995,ROWS($F$2:F46)),$I$2:$I$3995,0)),"") | G46: =IFERROR(IF(SEARCH(بحث!$L$4,all[الشركة])>0,ROW(G46),""),"") | H46: =IFERROR(INDEX(all[الشركة],MATCH(SMALL($G$2:$G$3995,ROWS($H$2:H46)),$G$2:$G$3995,0)),"") | I46: =IFERROR(IF(SEARCH(بحث!$L$4,all[الشركة])>0,ROW(G46),""),"") | J46: =IFERROR(INDEX(all[الباركود],MATCH(SMALL($I$2:$I$3995,ROWS($J$2:J46)),$I$2:$I$3995,0)),"") | K46: =IFERROR(INDEX(all[سعر البيع],MATCH(SMALL($I$2:$I$3995,ROWS($K$2:K46)),$I$2:$I$3995,0)),"") | L46: =IFERROR(IF(SEARCH(بحث!$D$4,all[اسم الصنف])>0,ROW(L46),""),"") | M46: =IFERROR(INDEX(all[اسم الصنف],MATCH(SMALL($L$2:$L$3995,ROWS($M$2:M46)),$L$2:$L$3995,0)),"") | N46: =IFERROR(INDEX(all[الباركود],MATCH(SMALL($L$2:$L$3995,ROWS($N$2:N46)),$L$2:$L$3995,0)),"") | O46: =IFERROR(INDEX(all[الشركة],MATCH(SMALL($L$2:$L$3995,ROWS($O$2:O46)),$L$2:$L$3995,0)),"") | P46: =IFERROR(INDEX(all[سعر البيع],MATCH(SMALL($L$2:$L$3995,ROWS($P$2:P46)),$L$2:$L$3995,0)),"")
A47: =[1]All!E52 -> 1069 | B47: =[1]All!F52 -> مقص قاطع ستيل | C47: =[1]All!G52 -> عام | D47: =[1]All!H52 -> 65 | F47: =IFERROR(INDEX(all[اسم الصنف],MATCH(SMALL($I$2:$I$3995,ROWS($F$2:F47)),$I$2:$I$3995,0)),"") | G47: =IFERROR(IF(SEARCH(بحث!$L$4,all[الشركة])>0,ROW(G47),""),"") | H47: =IFERROR(INDEX(all[الشركة],MATCH(SMALL($G$2:$G$3995,ROWS($H$2:H47)),$G$2:$G$3995,0)),"") | I47: =IFERROR(IF(SEARCH(بحث!$L$4,all[الشركة])>0,ROW(G47),""),"") | J47: =IFERROR(INDEX(all[الباركود],MATCH(SMALL($I$2:$I$3995,ROWS($J$2:J47)),$I$2:$I$3995,0)),"") | K47: =IFERROR(INDEX(all[سعر البيع],MATCH(SMALL($I$2:$I$3995,ROWS($K$2:K47)),$I$2:$I$3995,0)),"") | L47: =IFERROR(IF(SEARCH(بحث!$D$4,all[اسم الصنف])>0,ROW(L47),""),"") | M47: =IFERROR(INDEX(all[اسم الصنف],MATCH(SMALL($L$2:$L$3995,ROWS($M$2:M47)),$L$2:$L$3995,0)),"") | N47: =IFERROR(INDEX(all[الباركود],MATCH(SMALL($L$2:$L$3995,ROWS($N$2:N47)),$L$2:$L$3995,0)),"") | O47: =IFERROR(INDEX(all[الشركة],MATCH(SMALL($L$2:$L$3995,ROWS($O$2:O47)),$L$2:$L$3995,0)),"") | P47: =IFERROR(INDEX(all[سعر البيع],MATCH(SMALL($L$2:$L$3995,ROWS($P$2:P47)),$L$2:$L$3995,0)),"")
F48: =IFERROR(INDEX(all[اسم الصنف],MATCH(SMALL($I$2:$I$3995,ROWS($F$2:F48)),$I$2:$I$3995,0)),"") | G48: =IFERROR(IF(SEARCH(بحث!$L$4,all[الشركة])>0,ROW(G48),""),"") | H48: =IFERROR(INDEX(all[الشركة],MATCH(SMALL($G$2:$G$3995,ROWS($H$2:H48)),$G$2:$G$3995,0)),"") | I48: =IFERROR(IF(SEARCH(بحث!$L$4,all[الشركة])>0,ROW(G48),""),"") | J48: =IFERROR(INDEX(all[الباركود],MATCH(SMALL($I$2:$I$3995,ROWS($J$2:J48)),$I$2:$I$3995,0)),"") | K48: =IFERROR(INDEX(all[سعر البيع],MATCH(SMALL($I$2:$I$3995,ROWS($K$2:K48)),$I$2:$I$3995,0)),"") | L48: =IFERROR(IF(SEARCH(بحث!$D$4,all[اسم الصنف])>0,ROW(L48),""),"") | M48: =IFERROR(INDEX(all[اسم الصنف],MATCH(SMALL($L$2:$L$3995,ROWS($M$2:M48)),$L$2:$L$3995,0)),"") | N48: =IFERROR(INDEX(all[الباركود],MATCH(SMALL($L$2:$L$3995,ROWS($N$2:N48)),$L$2:$L$3995,0)),"") | O48: =IFERROR(INDEX(all[الشركة],MATCH(SMALL($L$2:$L$3995,ROWS($O$2:O48)),$L$2:$L$3995,0)),"") | P48: =IFERROR(INDEX(all[سعر البيع],MATCH(SMALL($L$2:$L$3995,ROWS($P$2:P48)),$L$2:$L$3995,0)),"")
F49: =IFERROR(INDEX(all[اسم الصنف],MATCH(SMALL($I$2:$I$3995,ROWS($F$2:F49)),$I$2:$I$3995,0)),"") | G49: =IFERROR(IF(SEARCH(بحث!$L$4,all[الشركة])>0,ROW(G49),""),"") | H49: =IFERROR(INDEX(all[الشركة],MATCH(SMALL($G$2:$G$3995,ROWS($H$2:H49)),$G$2:$G$3995,0)),"") | I49: =IFERROR(IF(SEARCH(بحث!$L$4,all[الشركة])>0,ROW(G49),""),"") | J49: =IFERROR(INDEX(all[الباركود],MATCH(SMALL($I$2:$I$3995,ROWS($J$2:J49)),$I$2:$I$3995,0)),"") | K49: =IFERROR(INDEX(all[سعر البيع],MATCH(SMALL($I$2:$I$3995,ROWS($K$2:K49)),$I$2:$I$3995,0)),"") | L49: =IFERROR(IF(SEARCH(بحث!$D$4,all[اسم الصنف])>0,ROW(L49),""),"") | M49: =IFERROR(INDEX(all[اسم الصنف],MATCH(SMALL($L$2:$L$3995,ROWS($M$2:M49)),$L$2:$L$3995,0)),"") | N49: =IFERROR(INDEX(all[الباركود],MATCH(SMALL($L$2:$L$3995,ROWS($N$2:N49)),$L$2:$L$3995,0)),"") | O49: =IFERROR(INDEX(all[الشركة],MATCH(SMALL($L$2:$L$3995,ROWS($O$2:O49)),$L$2:$L$3995,0)),"") | P49: =IFERROR(INDEX(all[سعر البيع],MATCH(SMALL($L$2:$L$3995,ROWS($P$2:P49)),$L$2:$L$3995,0)),"")
F50: =IFERROR(INDEX(all[اسم الصنف],MATCH(SMALL($I$2:$I$3995,ROWS($F$2:F50)),$I$2:$I$3995,0)),"") | G50: =IFERROR(IF(SEARCH(بحث!$L$4,all[الشركة])>0,ROW(G50),""),"") | H50: =IFERROR(INDEX(all[الشركة],MATCH(SMALL($G$2:$G$3995,ROWS($H$2:H50)),$G$2:$G$3995,0)),"") | I50: =IFERROR(IF(SEARCH(بحث!$L$4,all[الشركة])>0,ROW(G50),""),"") | J50: =IFERROR(INDEX(all[الباركود],MATCH(SMALL($I$2:$I$3995,ROWS($J$2:J50)),$I$2:$I$3995,0)),"") | K50: =IFERROR(INDEX(all[سعر البيع],MATCH(SMALL($I$2:$I$3995,ROWS($K$2:K50)),$I$2:$I$3995,0)),"") | L50: =IFERROR(IF(SEARCH(بحث!$D$4,all[اسم الصنف])>0,ROW(L50),""),"") | M50: =IFERROR(INDEX(all[اسم الصنف],MATCH(SMALL($L$2:$L$3995,ROWS($M$2:M50)),$L$2:$L$3995,0)),"") | N50: =IFERROR(INDEX(all[الباركود],MATCH(SMALL($L$2:$L$3995,ROWS($N$2:N50)),$L$2:$L$3995,0)),"") | O50: =IFERROR(INDEX(all[الشركة],MATCH(SMALL($L$2:$L$3995,ROWS($O$2:O50)),$L$2:$L$3995,0)),"") | P50: =IFERROR(INDEX(all[سعر البيع],MATCH(SMALL($L$2:$L$3995,ROWS($P$2:P50)),$L$2:$L$3995,0)),"")
F51: =IFERROR(INDEX(all[اسم الصنف],MATCH(SMALL($I$2:$I$3995,ROWS($F$2:F51)),$I$2:$I$3995,0)),"") | G51: =IFERROR(IF(SEARCH(بحث!$L$4,all[الشركة])>0,ROW(G51),""),"") | H51: =IFERROR(INDEX(all[الشركة],MATCH(SMALL($G$2:$G$3995,ROWS($H$2:H51)),$G$2:$G$3995,0)),"") | I51: =IFERROR(IF(SEARCH(بحث!$L$4,all[الشركة])>0,ROW(G51),""),"") | J51: =IFERROR(INDEX(all[الباركود],MATCH(SMALL($I$2:$I$3995,ROWS($J$2:J51)),$I$2:$I$3995,0)),"") | K51: =IFERROR(INDEX(all[سعر البيع],MATCH(SMALL($I$2:$I$3995,ROWS($K$2:K51)),$I$2:$I$3995,0)),"") | L51: =IFERROR(IF(SEARCH(بحث!$D$4,all[اسم الصنف])>0,ROW(L51),""),"") | M51: =IFERROR(INDEX(all[اسم الصنف],MATCH(SMALL($L$2:$L$3995,ROWS($M$2:M51)),$L$2:$L$3995,0)),"") | N51: =IFERROR(INDEX(all[الباركود],MATCH(SMALL($L$2:$L$3995,ROWS($N$2:N51)),$L$2:$L$3995,0)),"") | O51: =IFERROR(INDEX(all[الشركة],MATCH(SMALL($L$2:$L$3995,ROWS($O$2:O51)),$L$2:$L$3995,0)),"") | P51: =IFERROR(INDEX(all[سعر البيع],MATCH(SMALL($L$2:$L$3995,ROWS($P$2:P51)),$L$2:$L$3995,0)),"")
F52: =IFERROR(INDEX(all[اسم الصنف],MATCH(SMALL($I$2:$I$3995,ROWS($F$2:F52)),$I$2:$I$3995,0)),"") | G52: =IFERROR(IF(SEARCH(بحث!$L$4,all[الشركة])>0,ROW(G52),""),"") | H52: =IFERROR(INDEX(all[الشركة],MATCH(SMALL($G$2:$G$3995,ROWS($H$2:H52)),$G$2:$G$3995,0)),"") | I52: =IFERROR(IF(SEARCH(بحث!$L$4,all[الشركة])>0,ROW(G52),""),"") | J52: =IFERROR(INDEX(all[الباركود],MATCH(SMALL($I$2:$I$3995,ROWS($J$2:J52)),$I$2:$I$3995,0)),"") | K52: =IFERROR(INDEX(all[سعر البيع],MATCH(SMALL($I$2:$I$3995,ROWS($K$2:K52)),$I$2:$I$3995,0)),"") | L52: =IFERROR(IF(SEARCH(بحث!$D$4,all[اسم الصنف])>0,ROW(L52),""),"") | M52: =IFERROR(INDEX(all[اسم الصنف],MATCH(SMALL($L$2:$L$3995,ROWS($M$2:M52)),$L$2:$L$3995,0)),"") | N52: =IFERROR(INDEX(all[الباركود],MATCH(SMALL($L$2:$L$3995,ROWS($N$2:N52)),$L$2:$L$3995,0)),"") | O52: =IFERROR(INDEX(all[الشركة],MATCH(SMALL($L$2:$L$3995,ROWS($O$2:O52)),$L$2:$L$3995,0)),"") | P52: =IFERROR(INDEX(all[سعر البيع],MATCH(SMALL($L$2:$L$3995,ROWS($P$2:P52)),$L$2:$L$3995,0)),"")
F53: =IFERROR(INDEX(all[اسم الصنف],MATCH(SMALL($I$2:$I$3995,ROWS($F$2:F53)),$I$2:$I$3995,0)),"") | G53: =IFERROR(IF(SEARCH(بحث!$L$4,all[الشركة])>0,ROW(G53),""),"") | H53: =IFERROR(INDEX(all[الشركة],MATCH(SMALL($G$2:$G$3995,ROWS($H$2:H53)),$G$2:$G$3995,0)),"") | I53: =IFERROR(IF(SEARCH(بحث!$L$4,all[الشركة])>0,ROW(G53),""),"") | J53: =IFERROR(INDEX(all[الباركود],MATCH(SMALL($I$2:$I$3995,ROWS($J$2:J53)),$I$2:$I$3995,0)),"") | K53: =IFERROR(INDEX(all[سعر البيع],MATCH(SMALL($I$2:$I$3995,ROWS($K$2:K53)),$I$2:$I$3995,0)),"") | L53: =IFERROR(IF(SEARCH(بحث!$D$4,all[اسم الصنف])>0,ROW(L53),""),"") | M53: =IFERROR(INDEX(all[اسم الصنف],MATCH(SMALL($L$2:$L$3995,ROWS($M$2:M53)),$L$2:$L$3995,0)),"") | N53: =IFERROR(INDEX(all[الباركود],MATCH(SMALL($L$2:$L$3995,ROWS($N$2:N53)),$L$2:$L$3995,0)),"") | O53: =IFERROR(INDEX(all[الشركة],MATCH(SMALL($L$2:$L$3995,ROWS($O$2:O53)),$L$2:$L$3995,0)),"") | P53: =IFERROR(INDEX(all[سعر البيع],MATCH(SMALL($L$2:$L$3995,ROWS($P$2:P53)),$L$2:$L$3995,0)),"")
F54: =IFERROR(INDEX(all[اسم الصنف],MATCH(SMALL($I$2:$I$3995,ROWS($F$2:F54)),$I$2:$I$3995,0)),"") | G54: =IFERROR(IF(SEARCH(بحث!$L$4,all[الشركة])>0,ROW(G54),""),"") | H54: =IFERROR(INDEX(all[الشركة],MATCH(SMALL($G$2:$G$3995,ROWS($H$2:H54)),$G$2:$G$3995,0)),"") | I54: =IFERROR(IF(SEARCH(بحث!$L$4,all[الشركة])>0,ROW(G54),""),"") | J54: =IFERROR(INDEX(all[الباركود],MATCH(SMALL($I$2:$I$3995,ROWS($J$2:J54)),$I$2:$I$3995,0)),"") | K54: =IFERROR(INDEX(all[سعر البيع],MATCH(SMALL($I$2:$I$3995,ROWS($K$2:K54)),$I$2:$I$3995,0)),"") | L54: =IFERROR(IF(SEARCH(بحث!$D$4,all[اسم الصنف])>0,ROW(L54),""),"") | M54: =IFERROR(INDEX(all[اسم الصنف],MATCH(SMALL($L$2:$L$3995,ROWS($M$2:M54)),$L$2:$L$3995,0)),"") | N54: =IFERROR(INDEX(all[الباركود],MATCH(SMALL($L$2:$L$3995,ROWS($N$2:N54)),$L$2:$L$3995,0)),"") | O54: =IFERROR(INDEX(all[الشركة],MATCH(SMALL($L$2:$L$3995,ROWS($O$2:O54)),$L$2:$L$3995,0)),"") | P54: =IFERROR(INDEX(all[سعر البيع],MATCH(SMALL($L$2:$L$3995,ROWS($P$2:P54)),$L$2:$L$3995,0)),"")
F55: =IFERROR(INDEX(all[اسم الصنف],MATCH(SMALL($I$2:$I$3995,ROWS($F$2:F55)),$I$2:$I$3995,0)),"") | G55: =IFERROR(IF(SEARCH(بحث!$L$4,all[الشركة])>0,ROW(G55),""),"") | H55: =IFERROR(INDEX(all[الشركة],MATCH(SMALL($G$2:$G$3995,ROWS($H$2:H55)),$G$2:$G$3995,0)),"") | I55: =IFERROR(IF(SEARCH(بحث!$L$4,all[الشركة])>0,ROW(G55),""),"") | J55: =IFERROR(INDEX(all[الباركود],MATCH(SMALL($I$2:$I$3995,ROWS($J$2:J55)),$I$2:$I$3995,0)),"") | K55: =IFERROR(INDEX(all[سعر البيع],MATCH(SMALL($I$2:$I$3995,ROWS($K$2:K55)),$I$2:$I$3995,0)),"") | L55: =IFERROR(IF(SEARCH(بحث!$D$4,all[اسم الصنف])>0,ROW(L55),""),"") | M55: =IFERROR(INDEX(all[اسم الصنف],MATCH(SMALL($L$2:$L$3995,ROWS($M$2:M55)),$L$2:$L$3995,0)),"") | N55: =IFERROR(INDEX(all[الباركود],MATCH(SMALL($L$2:$L$3995,ROWS($N$2:N55)),$L$2:$L$3995,0)),"") | O55: =IFERROR(INDEX(all[الشركة],MATCH(SMALL($L$2:$L$3995,ROWS($O$2:O55)),$L$2:$L$3995,0)),"") | P55: =IFERROR(INDEX(all[سعر البيع],MATCH(SMALL($L$2:$L$3995,ROWS($P$2:P55)),$L$2:$L$3995,0)),"")
F56: =IFERROR(INDEX(all[اسم الصنف],MATCH(SMALL($I$2:$I$3995,ROWS($F$2:F56)),$I$2:$I$3995,0)),"") | G56: =IFERROR(IF(SEARCH(بحث!$L$4,all[الشركة])>0,ROW(G56),""),"") | H56: =IFERROR(INDEX(all[الشركة],MATCH(SMALL($G$2:$G$3995,ROWS($H$2:H56)),$G$2:$G$3995,0)),"") | I56: =IFERROR(IF(SEARCH(بحث!$L$4,all[الشركة])>0,ROW(G56),""),"") | J56: =IFERROR(INDEX(all[الباركود],MATCH(SMALL($I$2:$I$3995,ROWS($J$2:J56)),$I$2:$I$3995,0)),"") | K56: =IFERROR(INDEX(all[سعر البيع],MATCH(SMALL($I$2:$I$3995,ROWS($K$2:K56)),$I$2:$I$3995,0)),"") | L56: =IFERROR(IF(SEARCH(بحث!$D$4,all[اسم الصنف])>0,ROW(L56),""),"") | M56: =IFERROR(INDEX(all[اسم الصنف],MATCH(SMALL($L$2:$L$3995,ROWS($M$2:M56)),$L$2:$L$3995,0)),"") | N56: =IFERROR(INDEX(all[الباركود],MATCH(SMALL($L$2:$L$3995,ROWS($N$2:N56)),$L$2:$L$3995,0)),"") | O56: =IFERROR(INDEX(all[الشركة],MATCH(SMALL($L$2:$L$3995,ROWS($O$2:O56)),$L$2:$L$3995,0)),"") | P56: =IFERROR(INDEX(all[سعر البيع],MATCH(SMALL($L$2:$L$3995,ROWS($P$2:P56)),$L$2:$L$3995,0)),"")
F57: =IFERROR(INDEX(all[اسم الصنف],MATCH(SMALL($I$2:$I$3995,ROWS($F$2:F57)),$I$2:$I$3995,0)),"") | G57: =IFERROR(IF(SEARCH(بحث!$L$4,all[الشركة])>0,ROW(G57),""),"") | H57: =IFERROR(INDEX(all[الشركة],MATCH(SMALL($G$2:$G$3995,ROWS($H$2:H57)),$G$2:$G$3995,0)),"") | I57: =IFERROR(IF(SEARCH(بحث!$L$4,all[الشركة])>0,ROW(G57),""),"") | J57: =IFERROR(INDEX(all[الباركود],MATCH(SMALL($I$2:$I$3995,ROWS($J$2:J57)),$I$2:$I$3995,0)),"") | K57: =IFERROR(INDEX(all[سعر البيع],MATCH(SMALL($I$2:$I$3995,ROWS($K$2:K57)),$I$2:$I$3995,0)),"") | L57: =IFERROR(IF(SEARCH(بحث!$D$4,all[اسم الصنف])>0,ROW(L57),""),"") | M57: =IFERROR(INDEX(all[اسم الصنف],MATCH(SMALL($L$2:$L$3995,ROWS($M$2:M57)),$L$2:$L$3995,0)),"") | N57: =IFERROR(INDEX(all[الباركود],MATCH(SMALL($L$2:$L$3995,ROWS($N$2:N57)),$L$2:$L$3995,0)),"") | O57: =IFERROR(INDEX(all[الشركة],MATCH(SMALL($L$2:$L$3995,ROWS($O$2:O57)),$L$2:$L$3995,0)),"") | P57: =IFERROR(INDEX(all[سعر البيع],MATCH(SMALL($L$2:$L$3995,ROWS($P$2:P57)),$L$2:$L$3995,0)),"")
F58: =IFERROR(INDEX(all[اسم الصنف],MATCH(SMALL($I$2:$I$3995,ROWS($F$2:F58)),$I$2:$I$3995,0)),"") | G58: =IFERROR(IF(SEARCH(بحث!$L$4,all[الشركة])>0,ROW(G58),""),"") | H58: =IFERROR(INDEX(all[الشركة],MATCH(SMALL($G$2:$G$3995,ROWS($H$2:H58)),$G$2:$G$3995,0)),"") | I58: =IFERROR(IF(SEARCH(بحث!$L$4,all[الشركة])>0,ROW(G58),""),"") | J58: =IFERROR(INDEX(all[الباركود],MATCH(SMALL($I$2:$I$3995,ROWS($J$2:J58)),$I$2:$I$3995,0)),"") | K58: =IFERROR(INDEX(all[سعر البيع],MATCH(SMALL($I$2:$I$3995,ROWS($K$2:K58)),$I$2:$I$3995,0)),"") | L58: =IFERROR(IF(SEARCH(بحث!$D$4,all[اسم الصنف])>0,ROW(L58),""),"") | M58: =IFERROR(INDEX(all[اسم الصنف],MATCH(SMALL($L$2:$L$3995,ROWS($M$2:M58)),$L$2:$L$3995,0)),"") | N58: =IFERROR(INDEX(all[الباركود],MATCH(SMALL($L$2:$L$3995,ROWS($N$2:N58)),$L$2:$L$3995,0)),"") | O58: =IFERROR(INDEX(all[الشركة],MATCH(SMALL($L$2:$L$3995,ROWS($O$2:O58)),$L$2:$L$3995,0)),"") | P58: =IFERROR(INDEX(all[سعر البيع],MATCH(SMALL($L$2:$L$3995,ROWS($P$2:P58)),$L$2:$L$3995,0)),"")
F59: =IFERROR(INDEX(all[اسم الصنف],MATCH(SMALL($I$2:$I$3995,ROWS($F$2:F59)),$I$2:$I$3995,0)),"") | G59: =IFERROR(IF(SEARCH(بحث!$L$4,all[الشركة])>0,ROW(G59),""),"") | H59: =IFERROR(INDEX(all[الشركة],MATCH(SMALL($G$2:$G$3995,ROWS($H$2:H59)),$G$2:$G$3995,0)),"") | I59: =IFERROR(IF(SEARCH(بحث!$L$4,all[الشركة])>0,ROW(G59),""),"") | J59: =IFERROR(INDEX(all[الباركود],MATCH(SMALL($I$2:$I$3995,ROWS($J$2:J59)),$I$2:$I$3995,0)),"") | K59: =IFERROR(INDEX(all[سعر البيع],MATCH(SMALL($I$2:$I$3995,ROWS($K$2:K59)),$I$2:$I$3995,0)),"") | L59: =IFERROR(IF(SEARCH(بحث!$D$4,all[اسم الصنف])>0,ROW(L59),""),"") | M59: =IFERROR(INDEX(all[اسم الصنف],MATCH(SMALL($L$2:$L$3995,ROWS($M$2:M59)),$L$2:$L$3995,0)),"") | N59: =IFERROR(INDEX(all[الباركود],MATCH(SMALL($L$2:$L$3995,ROWS($N$2:N59)),$L$2:$L$3995,0)),"") | O59: =IFERROR(INDEX(all[الشركة],MATCH(SMALL($L$2:$L$3995,ROWS($O$2:O59)),$L$2:$L$3995,0)),"") | P59: =IFERROR(INDEX(all[سعر البيع],MATCH(SMALL($L$2:$L$3995,ROWS($P$2:P59)),$L$2:$L$3995,0)),"")
... F77: =IFERROR(INDEX(all[اسم الصنف],MATCH(SMALL($I$2:$I$3995,ROWS($F$2:F77)),$I$2:$I$3995,0)),"") | G77: =IFERROR(IF(SEARCH(بحث!$L$4,all[الشركة])>0,ROW(G77),""),"") | H77: =IFERROR(INDEX(all[الشركة],MATCH(SMALL($G$2:$G$3995,ROWS($H$2:H77)),$G$2:$G$3995,0)),"") | I77: =IFERROR(IF(SEARCH(بحث!$L$4,all[الشركة])>0,ROW(G77),""),"") | J77: =IFERROR(INDEX(all[الباركود],MATCH(SMALL($I$2:$I$3995,ROWS($J$2:J77)),$I$2:$I$3995,0)),"") | K77: =IFERROR(INDEX(all[سعر البيع],MATCH(SMALL($I$2:$I$3995,ROWS($K$2:K77)),$I$2:$I$3995,0)),"") | L77: =IFERROR(IF(SEARCH(بحث!$D$4,all[اسم الصنف])>0,ROW(L77),""),"") | M77: =IFERROR(INDEX(all[اسم الصنف],MATCH(SMALL($L$2:$L$3995,ROWS($M$2:M77)),$L$2:$L$3995,0)),"") | N77: =IFERROR(INDEX(all[الباركود],MATCH(SMALL($L$2:$L$3995,ROWS($N$2:N77)),$L$2:$L$3995,0)),"") | O77: =IFERROR(INDEX(all[الشركة],MATCH(SMALL($L$2:$L$3995,ROWS($O$2:O77)),$L$2:$L$3995,0)),"") | P77: =IFERROR(INDEX(all[سعر البيع],MATCH(SMALL($L$2:$L$3995,ROWS($P$2:P77)),$L$2:$L$3995,0)),"")
A78: =[1]All!E83 -> 1114 | B78: =[1]All!F83 -> كيلو برستول ميتالك نيكل | C78: =[1]All!G83 -> بروستول | D78: =[1]All!H83 -> 91 | F78: =IFERROR(INDEX(all[اسم الصنف],MATCH(SMALL($I$2:$I$3995,ROWS($F$2:F78)),$I$2:$I$3995,0)),"") | G78: =IFERROR(IF(SEARCH(بحث!$L$4,all[الشركة])>0,ROW(G78),""),"") | H78: =IFERROR(INDEX(all[الشركة],MATCH(SMALL($G$2:$G$3995,ROWS($H$2:H78)),$G$2:$G$3995,0)),"") | I78: =IFERROR(IF(SEARCH(بحث!$L$4,all[الشركة])>0,ROW(G78),""),"") | J78: =IFERROR(INDEX(all[الباركود],MATCH(SMALL($I$2:$I$3995,ROWS($J$2:J78)),$I$2:$I$3995,0)),"") | K78: =IFERROR(INDEX(all[سعر البيع],MATCH(SMALL($I$2:$I$3995,ROWS($K$2:K78)),$I$2:$I$3995,0)),"") | L78: =IFERROR(IF(SEARCH(بحث!$D$4,all[اسم الصنف])>0,ROW(L78),""),"") | M78: =IFERROR(INDEX(all[اسم الصنف],MATCH(SMALL($L$2:$L$3995,ROWS($M$2:M78)),$L$2:$L$3995,0)),"") | N78: =IFERROR(INDEX(all[الباركود],MATCH(SMALL($L$2:$L$3995,ROWS($N$2:N78)),$L$2:$L$3995,0)),"") | O78: =IFERROR(INDEX(all[الشركة],MATCH(SMALL($L$2:$L$3995,ROWS($O$2:O78)),$L$2:$L$3995,0)),"") | P78: =IFERROR(INDEX(all[سعر البيع],MATCH(SMALL($L$2:$L$3995,ROWS($P$2:P78)),$L$2:$L$3995,0)),"")
F79: =IFERROR(INDEX(all[اسم الصنف],MATCH(SMALL($I$2:$I$3995,ROWS($F$2:F79)),$I$2:$I$3995,0)),"") | G79: =IFERROR(IF(SEARCH(بحث!$L$4,all[الشركة])>0,ROW(G79),""),"") | H79: =IFERROR(INDEX(all[الشركة],MATCH(SMALL($G$2:$G$3995,ROWS($H$2:H79)),$G$2:$G$3995,0)),"") | I79: =IFERROR(IF(SEARCH(بحث!$L$4,all[الشركة])>0,ROW(G79),""),"") | J79: =IFERROR(INDEX(all[الباركود],MATCH(SMALL($I$2:$I$3995,ROWS($J$2:J79)),$I$2:$I$3995,0)),"") | K79: =IFERROR(INDEX(all[سعر البيع],MATCH(SMALL($I$2:$I$3995,ROWS($K$2:K79)),$I$2:$I$3995,0)),"") | L79: =IFERROR(IF(SEARCH(بحث!$D$4,all[اسم الصنف])>0,ROW(L79),""),"") | M79: =IFERROR(INDEX(all[اسم الصنف],MATCH(SMALL($L$2:$L$3995,ROWS($M$2:M79)),$L$2:$L$3995,0)),"") | N79: =IFERROR(INDEX(all[الباركود],MATCH(SMALL($L$2:$L$3995,ROWS($N$2:N79)),$L$2:$L$3995,0)),"") | O79: =IFERROR(INDEX(all[الشركة],MATCH(SMALL($L$2:$L$3995,ROWS($O$2:O79)),$L$2:$L$3995,0)),"") | P79: =IFERROR(INDEX(all[سعر البيع],MATCH(SMALL($L$2:$L$3995,ROWS($P$2:P79)),$L$2:$L$3995,0)),"")
F80: =IFERROR(INDEX(all[اسم الصنف],MATCH(SMALL($I$2:$I$3995,ROWS($F$2:F80)),$I$2:$I$3995,0)),"") | G80: =IFERROR(IF(SEARCH(بحث!$L$4,all[الشركة])>0,ROW(G80),""),"") | H80: =IFERROR(INDEX(all[الشركة],MATCH(SMALL($G$2:$G$3995,ROWS($H$2:H80)),$G$2:$G$3995,0)),"") | I80: =IFERROR(IF(SEARCH(بحث!$L$4,all[الشركة])>0,ROW(G80),""),"") | J80: =IFERROR(INDEX(all[الباركود],MATCH(SMALL($I$2:$I$3995,ROWS($J$2:J80)),$I$2:$I$3995,0)),"") | K80: =IFERROR(INDEX(all[سعر البيع],MATCH(SMALL($I$2:$I$3995,ROWS($K$2:K80)),$I$2:$I$3995,0)),"") | L80: =IFERROR(IF(SEARCH(بحث!$D$4,all[اسم الصنف])>0,ROW(L80),""),"") | M80: =IFERROR(INDEX(all[اسم الصنف],MATCH(SMALL($L$2:$L$3995,ROWS($M$2:M80)),$L$2:$L$3995,0)),"") | N80: =IFERROR(INDEX(all[الباركود],MATCH(SMALL($L$2:$L$3995,ROWS($N$2:N80)),$L$2:$L$3995,0)),"") | O80: =IFERROR(INDEX(all[الشركة],MATCH(SMALL($L$2:$L$3995,ROWS($O$2:O80)),$L$2:$L$3995,0)),"") | P80: =IFERROR(INDEX(all[سعر البيع],MATCH(SMALL($L$2:$L$3995,ROWS($P$2:P80)),$L$2:$L$3995,0)),"")
F81: =IFERROR(INDEX(all[اسم الصنف],MATCH(SMALL($I$2:$I$3995,ROWS($F$2:F81)),$I$2:$I$3995,0)),"") | G81: =IFERROR(IF(SEARCH(بحث!$L$4,all[الشركة])>0,ROW(G81),""),"") | H81: =IFERROR(INDEX(all[الشركة],MATCH(SMALL($G$2:$G$3995,ROWS($H$2:H81)),$G$2:$G$3995,0)),"") | I81: =IFERROR(IF(SEARCH(بحث!$L$4,all[الشركة])>0,ROW(G81),""),"") | J81: =IFERROR(INDEX(all[الباركود],MATCH(SMALL($I$2:$I$3995,ROWS($J$2:J81)),$I$2:$I$3995,0)),"") | K81: =IFERROR(INDEX(all[سعر البيع],MATCH(SMALL($I$2:$I$3995,ROWS($K$2:K81)),$I$2:$I$3995,0)),"") | L81: =IFERROR(IF(SEARCH(بحث!$D$4,all[اسم الصنف])>0,ROW(L81),""),"") | M81: =IFERROR(INDEX(all[اسم الصنف],MATCH(SMALL($L$2:$L$3995,ROWS($M$2:M81)),$L$2:$L$3995,0)),"") | N81: =IFERROR(INDEX(all[الباركود],MATCH(SMALL($L$2:$L$3995,ROWS($N$2:N81)),$L$2:$L$3995,0)),"") | O81: =IFERROR(INDEX(all[الشركة],MATCH(SMALL($L$2:$L$3995,ROWS($O$2:O81)),$L$2:$L$3995,0)),"") | P81: =IFERROR(INDEX(all[سعر البيع],MATCH(SMALL($L$2:$L$3995,ROWS($P$2:P81)),$L$2:$L$3995,0)),"")
F82: =IFERROR(INDEX(all[اسم الصنف],MATCH(SMALL($I$2:$I$3995,ROWS($F$2:F82)),$I$2:$I$3995,0)),"") | G82: =IFERROR(IF(SEARCH(بحث!$L$4,all[الشركة])>0,ROW(G82),""),"") | H82: =IFERROR(INDEX(all[الشركة],MATCH(SMALL($G$2:$G$3995,ROWS($H$2:H82)),$G$2:$G$3995,0)),"") | I82: =IFERROR(IF(SEARCH(بحث!$L$4,all[الشركة])>0,ROW(G82),""),"") | J82: =IFERROR(INDEX(all[الباركود],MATCH(SMALL($I$2:$I$3995,ROWS($J$2:J82)),$I$2:$I$3995,0)),"") | K82: =IFERROR(INDEX(all[سعر البيع],MATCH(SMALL($I$2:$I$3995,ROWS($K$2:K82)),$I$2:$I$3995,0)),"") | L82: =IFERROR(IF(SEARCH(بحث!$D$4,all[اسم الصنف])>0,ROW(L82),""),"") | M82: =IFERROR(INDEX(all[اسم الصنف],MATCH(SMALL($L$2:$L$3995,ROWS($M$2:M82)),$L$2:$L$3995,0)),"") | N82: =IFERROR(INDEX(all[الباركود],MATCH(SMALL($L$2:$L$3995,ROWS($N$2:N82)),$L$2:$L$3995,0)),"") | O82: =IFERROR(INDEX(all[الشركة],MATCH(SMALL($L$2:$L$3995,ROWS($O$2:O82)),$L$2:$L$3995,0)),"") | P82: =IFERROR(INDEX(all[سعر البيع],MATCH(SMALL($L$2:$L$3995,ROWS($P$2:P82)),$L$2:$L$3995,0)),"")
F83: =IFERROR(INDEX(all[اسم الصنف],MATCH(SMALL($I$2:$I$3995,ROWS($F$2:F83)),$I$2:$I$3995,0)),"") | G83: =IFERROR(IF(SEARCH(بحث!$L$4,all[الشركة])>0,ROW(G83),""),"") | H83: =IFERROR(INDEX(all[الشركة],MATCH(SMALL($G$2:$G$3995,ROWS($H$2:H83)),$G$2:$G$3995,0)),"") | I83: =IFERROR(IF(SEARCH(بحث!$L$4,all[الشركة])>0,ROW(G83),""),"") | J83: =IFERROR(INDEX(all[الباركود],MATCH(SMALL($I$2:$I$3995,ROWS($J$2:J83)),$I$2:$I$3995,0)),"") | K83: =IFERROR(INDEX(all[سعر البيع],MATCH(SMALL($I$2:$I$3995,ROWS($K$2:K83)),$I$2:$I$3995,0)),"") | L83: =IFERROR(IF(SEARCH(بحث!$D$4,all[اسم الصنف])>0,ROW(L83),""),"") | M83: =IFERROR(INDEX(all[اسم الصنف],MATCH(SMALL($L$2:$L$3995,ROWS($M$2:M83)),$L$2:$L$3995,0)),"") | N83: =IFERROR(INDEX(all[الباركود],MATCH(SMALL($L$2:$L$3995,ROWS($N$2:N83)),$L$2:$L$3995,0)),"") | O83: =IFERROR(INDEX(all[الشركة],MATCH(SMALL($L$2:$L$3995,ROWS($O$2:O83)),$L$2:$L$3995,0)),"") | P83: =IFERROR(INDEX(all[سعر البيع],MATCH(SMALL($L$2:$L$3995,ROWS($P$2:P83)),$L$2:$L$3995,0)),"")
F84: =IFERROR(INDEX(all[اسم الصنف],MATCH(SMALL($I$2:$I$3995,ROWS($F$2:F84)),$I$2:$I$3995,0)),"") | G84: =IFERROR(IF(SEARCH(بحث!$L$4,all[الشركة])>0,ROW(G84),""),"") | H84: =IFERROR(INDEX(all[الشركة],MATCH(SMALL($G$2:$G$3995,ROWS($H$2:H84)),$G$2:$G$3995,0)),"") | I84: =IFERROR(IF(SEARCH(بحث!$L$4,all[الشركة])>0,ROW(G84),""),"") | J84: =IFERROR(INDEX(all[الباركود],MATCH(SMALL($I$2:$I$3995,ROWS($J$2:J84)),$I$2:$I$3995,0)),"") | K84: =IFERROR(INDEX(all[سعر البيع],MATCH(SMALL($I$2:$I$3995,ROWS($K$2:K84)),$I$2:$I$3995,0)),"") | L84: =IFERROR(IF(SEARCH(بحث!$D$4,all[اسم الصنف])>0,ROW(L84),""),"") | M84: =IFERROR(INDEX(all[اسم الصنف],MATCH(SMALL($L$2:$L$3995,ROWS($M$2:M84)),$L$2:$L$3995,0)),"") | N84: =IFERROR(INDEX(all[الباركود],MATCH(SMALL($L$2:$L$3995,ROWS($N$2:N84)),$L$2:$L$3995,0)),"") | O84: =IFERROR(INDEX(all[الشركة],MATCH(SMALL($L$2:$L$3995,ROWS($O$2:O84)),$L$2:$L$3995,0)),"") | P84: =IFERROR(INDEX(all[سعر البيع],MATCH(SMALL($L$2:$L$3995,ROWS($P$2:P84)),$L$2:$L$3995,0)),"")
A85: =[1]All!E90 -> 1126 | B85: =[1]All!F90 -> 1/2كيلو برستول ميتالك نيكل | C85: =[1]All!G90 -> بروستول | D85: =[1]All!H90 -> 46.2 | F85: =IFERROR(INDEX(all[اسم الصنف],MATCH(SMALL($I$2:$I$3995,ROWS($F$2:F85)),$I$2:$I$3995,0)),"") | G85: =IFERROR(IF(SEARCH(بحث!$L$4,all[الشركة])>0,ROW(G85),""),"") | H85: =IFERROR(INDEX(all[الشركة],MATCH(SMALL($G$2:$G$3995,ROWS($H$2:H85)),$G$2:$G$3995,0)),"") | I85: =IFERROR(IF(SEARCH(بحث!$L$4,all[الشركة])>0,ROW(G85),""),"") | J85: =IFERROR(INDEX(all[الباركود],MATCH(SMALL($I$2:$I$3995,ROWS($J$2:J85)),$I$2:$I$3995,0)),"") | K85: =IFERROR(INDEX(all[سعر البيع],MATCH(SMALL($I$2:$I$3995,ROWS($K$2:K85)),$I$2:$I$3995,0)),"") | L85: =IFERROR(IF(SEARCH(بحث!$D$4,all[اسم الصنف])>0,ROW(L85),""),"") | M85: =IFERROR(INDEX(all[اسم الصنف],MATCH(SMALL($L$2:$L$3995,ROWS($M$2:M85)),$L$2:$L$3995,0)),"") | N85: =IFERROR(INDEX(all[الباركود],MATCH(SMALL($L$2:$L$3995,ROWS($N$2:N85)),$L$2:$L$3995,0)),"") | O85: =IFERROR(INDEX(all[الشركة],MATCH(SMALL($L$2:$L$3995,ROWS($O$2:O85)),$L$2:$L$3995,0)),"") | P85: =IFERROR(INDEX(all[سعر البيع],MATCH(SMALL($L$2:$L$3995,ROWS($P$2:P85)),$L$2:$L$3995,0)),"")
F86: =IFERROR(INDEX(all[اسم الصنف],MATCH(SMALL($I$2:$I$3995,ROWS($F$2:F86)),$I$2:$I$3995,0)),"") | G86: =IFERROR(IF(SEARCH(بحث!$L$4,all[الشركة])>0,ROW(G86),""),"") | H86: =IFERROR(INDEX(all[الشركة],MATCH(SMALL($G$2:$G$3995,ROWS($H$2:H86)),$G$2:$G$3995,0)),"") | I86: =IFERROR(IF(SEARCH(بحث!$L$4,all[الشركة])>0,ROW(G86),""),"") | J86: =IFERROR(INDEX(all[الباركود],MATCH(SMALL($I$2:$I$3995,ROWS($J$2:J86)),$I$2:$I$3995,0)),"") | K86: =IFERROR(INDEX(all[سعر البيع],MATCH(SMALL($I$2:$I$3995,ROWS($K$2:K86)),$I$2:$I$3995,0)),"") | L86: =IFERROR(IF(SEARCH(بحث!$D$4,all[اسم الصنف])>0,ROW(L86),""),"") | M86: =IFERROR(INDEX(all[اسم الصنف],MATCH(SMALL($L$2:$L$3995,ROWS($M$2:M86)),$L$2:$L$3995,0)),"") | N86: =IFERROR(INDEX(all[الباركود],MATCH(SMALL($L$2:$L$3995,ROWS($N$2:N86)),$L$2:$L$3995,0)),"") | O86: =IFERROR(INDEX(all[الشركة],MATCH(SMALL($L$2:$L$3995,ROWS($O$2:O86)),$L$2:$L$3995,0)),"") | P86: =IFERROR(INDEX(all[سعر البيع],MATCH(SMALL($L$2:$L$3995,ROWS($P$2:P86)),$L$2:$L$3995,0)),"")
F87: =IFERROR(INDEX(all[اسم الصنف],MATCH(SMALL($I$2:$I$3995,ROWS($F$2:F87)),$I$2:$I$3995,0)),"") | G87: =IFERROR(IF(SEARCH(بحث!$L$4,all[الشركة])>0,ROW(G87),""),"") | H87: =IFERROR(INDEX(all[الشركة],MATCH(SMALL($G$2:$G$3995,ROWS($H$2:H87)),$G$2:$G$3995,0)),"") | I87: =IFERROR(IF(SEARCH(بحث!$L$4,all[الشركة])>0,ROW(G87),""),"") | J87: =IFERROR(INDEX(all[الباركود],MATCH(SMALL($I$2:$I$3995,ROWS($J$2:J87)),$I$2:$I$3995,0)),"") | K87: =IFERROR(INDEX(all[سعر البيع],MATCH(SMALL($I$2:$I$3995,ROWS($K$2:K87)),$I$2:$I$3995,0)),"") | L87: =IFERROR(IF(SEARCH(بحث!$D$4,all[اسم الصنف])>0,ROW(L87),""),"") | M87: =IFERROR(INDEX(all[اسم الصنف],MATCH(SMALL($L$2:$L$3995,ROWS($M$2:M87)),$L$2:$L$3995,0)),"") | N87: =IFERROR(INDEX(all[الباركود],MATCH(SMALL($L$2:$L$3995,ROWS($N$2:N87)),$L$2:$L$3995,0)),"") | O87: =IFERROR(INDEX(all[الشركة],MATCH(SMALL($L$2:$L$3995,ROWS($O$2:O87)),$L$2:$L$3995,0)),"") | P87: =IFERROR(INDEX(all[سعر البيع],MATCH(SMALL($L$2:$L$3995,ROWS($P$2:P87)),$L$2:$L$3995,0)),"")
F88: =IFERROR(INDEX(all[اسم الصنف],MATCH(SMALL($I$2:$I$3995,ROWS($F$2:F88)),$I$2:$I$3995,0)),"") | G88: =IFERROR(IF(SEARCH(بحث!$L$4,all[الشركة])>0,ROW(G88),""),"") | H88: =IFERROR(INDEX(all[الشركة],MATCH(SMALL($G$2:$G$3995,ROWS($H$2:H88)),$G$2:$G$3995,0)),"") | I88: =IFERROR(IF(SEARCH(بحث!$L$4,all[الشركة])>0,ROW(G88),""),"") | J88: =IFERROR(INDEX(all[الباركود],MATCH(SMALL($I$2:$I$3995,ROWS($J$2:J88)),$I$2:$I$3995,0)),"") | K88: =IFERROR(INDEX(all[سعر البيع],MATCH(SMALL($I$2:$I$3995,ROWS($K$2:K88)),$I$2:$I$3995,0)),"") | L88: =IFERROR(IF(SEARCH(بحث!$D$4,all[اسم الصنف])>0,ROW(L88),""),"") | M88: =IFERROR(INDEX(all[اسم الصنف],MATCH(SMALL($L$2:$L$3995,ROWS($M$2:M88)),$L$2:$L$3995,0)),"") | N88: =IFERROR(INDEX(all[الباركود],MATCH(SMALL($L$2:$L$3995,ROWS($N$2:N88)),$L$2:$L$3995,0)),"") | O88: =IFERROR(INDEX(all[الشركة],MATCH(SMALL($L$2:$L$3995,ROWS($O$2:O88)),$L$2:$L$3995,0)),"") | P88: =IFERROR(INDEX(all[سعر البيع],MATCH(SMALL($L$2:$L$3995,ROWS($P$2:P88)),$L$2:$L$3995,0)),"")
F89: =IFERROR(INDEX(all[اسم الصنف],MATCH(SMALL($I$2:$I$3995,ROWS($F$2:F89)),$I$2:$I$3995,0)),"") | G89: =IFERROR(IF(SEARCH(بحث!$L$4,all[الشركة])>0,ROW(G89),""),"") | H89: =IFERROR(INDEX(all[الشركة],MATCH(SMALL($G$2:$G$3995,ROWS($H$2:H89)),$G$2:$G$3995,0)),"") | I89: =IFERROR(IF(SEARCH(بحث!$L$4,all[الشركة])>0,ROW(G89),""),"") | J89: =IFERROR(INDEX(all[الباركود],MATCH(SMALL($I$2:$I$3995,ROWS($J$2:J89)),$I$2:$I$3995,0)),"") | K89: =IFERROR(INDEX(all[سعر البيع],MATCH(SMALL($I$2:$I$3995,ROWS($K$2:K89)),$I$2:$I$3995,0)),"") | L89: =IFERROR(IF(SEARCH(بحث!$D$4,all[اسم الصنف])>0,ROW(L89),""),"") | M89: =IFERROR(INDEX(all[اسم الصنف],MATCH(SMALL($L$2:$L$3995,ROWS($M$2:M89)),$L$2:$L$3995,0)),"") | N89: =IFERROR(INDEX(all[الباركود],MATCH(SMALL($L$2:$L$3995,ROWS($N$2:N89)),$L$2:$L$3995,0)),"") | O89: =IFERROR(INDEX(all[الشركة],MATCH(SMALL($L$2:$L$3995,ROWS($O$2:O89)),$L$2:$L$3995,0)),"") | P89: =IFERROR(INDEX(all[سعر البيع],MATCH(SMALL($L$2:$L$3995,ROWS($P$2:P89)),$L$2:$L$3995,0)),"")
F90: =IFERROR(INDEX(all[اسم الصنف],MATCH(SMALL($I$2:$I$3995,ROWS($F$2:F90)),$I$2:$I$3995,0)),"") | G90: =IFERROR(IF(SEARCH(بحث!$L$4,all[الشركة])>0,ROW(G90),""),"") | H90: =IFERROR(INDEX(all[الشركة],MATCH(SMALL($G$2:$G$3995,ROWS($H$2:H90)),$G$2:$G$3995,0)),"") | I90: =IFERROR(IF(SEARCH(بحث!$L$4,all[الشركة])>0,ROW(G90),""),"") | J90: =IFERROR(INDEX(all[الباركود],MATCH(SMALL($I$2:$I$3995,ROWS($J$2:J90)),$I$2:$I$3995,0)),"") | K90: =IFERROR(INDEX(all[سعر البيع],MATCH(SMALL($I$2:$I$3995,ROWS($K$2:K90)),$I$2:$I$3995,0)),"") | L90: =IFERROR(IF(SEARCH(بحث!$D$4,all[اسم الصنف])>0,ROW(L90),""),"") | M90: =IFERROR(INDEX(all[اسم الصنف],MATCH(SMALL($L$2:$L$3995,ROWS($M$2:M90)),$L$2:$L$3995,0)),"") | N90: =IFERROR(INDEX(all[الباركود],MATCH(SMALL($L$2:$L$3995,ROWS($N$2:N90)),$L$2:$L$3995,0)),"") | O90: =IFERROR(INDEX(all[الشركة],MATCH(SMALL($L$2:$L$3995,ROWS($O$2:O90)),$L$2:$L$3995,0)),"") | P90: =IFERROR(INDEX(all[سعر البيع],MATCH(SMALL($L$2:$L$3995,ROWS($P$2:P90)),$L$2:$L$3995,0)),"")
F91: =IFERROR(INDEX(all[اسم الصنف],MATCH(SMALL($I$2:$I$3995,ROWS($F$2:F91)),$I$2:$I$3995,0)),"") | G91: =IFERROR(IF(SEARCH(بحث!$L$4,all[الشركة])>0,ROW(G91),""),"") | H91: =IFERROR(INDEX(all[الشركة],MATCH(SMALL($G$2:$G$3995,ROWS($H$2:H91)),$G$2:$G$3995,0)),"") | I91: =IFERROR(IF(SEARCH(بحث!$L$4,all[الشركة])>0,ROW(G91),""),"") | J91: =IFERROR(INDEX(all[الباركود],MATCH(SMALL($I$2:$I$3995,ROWS($J$2:J91)),$I$2:$I$3995,0)),"") | K91: =IFERROR(INDEX(all[سعر البيع],MATCH(SMALL($I$2:$I$3995,ROWS($K$2:K91)),$I$2:$I$3995,0)),"") | L91: =IFERROR(IF(SEARCH(بحث!$D$4,all[اسم الصنف])>0,ROW(L91),""),"") | M91: =IFERROR(INDEX(all[اسم الصنف],MATCH(SMALL($L$2:$L$3995,ROWS($M$2:M91)),$L$2:$L$3995,0)),"") | N91: =IFERROR(INDEX(all[الباركود],MATCH(SMALL($L$2:$L$3995,ROWS($N$2:N91)),$L$2:$L$3995,0)),"") | O91: =IFERROR(INDEX(all[الشركة],MATCH(SMALL($L$2:$L$3995,ROWS($O$2:O91)),$L$2:$L$3995,0)),"") | P91: =IFERROR(INDEX(all[سعر البيع],MATCH(SMALL($L$2:$L$3995,ROWS($P$2:P91)),$L$2:$L$3995,0)),"")
F92: =IFERROR(INDEX(all[اسم الصنف],MATCH(SMALL($I$2:$I$3995,ROWS($F$2:F92)),$I$2:$I$3995,0)),"") | G92: =IFERROR(IF(SEARCH(بحث!$L$4,all[الشركة])>0,ROW(G92),""),"") | H92: =IFERROR(INDEX(all[الشركة],MATCH(SMALL($G$2:$G$3995,ROWS($H$2:H92)),$G$2:$G$3995,0)),"") | I92: =IFERROR(IF(SEARCH(بحث!$L$4,all[الشركة])>0,ROW(G92),""),"") | J92: =IFERROR(INDEX(all[الباركود],MATCH(SMALL($I$2:$I$3995,ROWS($J$2:J92)),$I$2:$I$3995,0)),"") | K92: =IFERROR(INDEX(all[سعر البيع],MATCH(SMALL($I$2:$I$3995,ROWS($K$2:K92)),$I$2:$I$3995,0)),"") | L92: =IFERROR(IF(SEARCH(بحث!$D$4,all[اسم الصنف])>0,ROW(L92),""),"") | M92: =IFERROR(INDEX(all[اسم الصنف],MATCH(SMALL($L$2:$L$3995,ROWS($M$2:M92)),$L$2:$L$3995,0)),"") | N92: =IFERROR(INDEX(all[الباركود],MATCH(SMALL($L$2:$L$3995,ROWS($N$2:N92)),$L$2:$L$3995,0)),"") | O92: =IFERROR(INDEX(all[الشركة],MATCH(SMALL($L$2:$L$3995,ROWS($O$2:O92)),$L$2:$L$3995,0)),"") | P92: =IFERROR(INDEX(all[سعر البيع],MATCH(SMALL($L$2:$L$3995,ROWS($P$2:P92)),$L$2:$L$3995,0)),"")
F93: =IFERROR(INDEX(all[اسم الصنف],MATCH(SMALL($I$2:$I$3995,ROWS($F$2:F93)),$I$2:$I$3995,0)),"") | G93: =IFERROR(IF(SEARCH(بحث!$L$4,all[الشركة])>0,ROW(G93),""),"") | H93: =IFERROR(INDEX(all[الشركة],MATCH(SMALL($G$2:$G$3995,ROWS($H$2:H93)),$G$2:$G$3995,0)),"") | I93: =IFERROR(IF(SEARCH(بحث!$L$4,all[الشركة])>0,ROW(G93),""),"") | J93: =IFERROR(INDEX(all[الباركود],MATCH(SMALL($I$2:$I$3995,ROWS($J$2:J93)),$I$2:$I$3995,0)),"") | K93: =IFERROR(INDEX(all[سعر البيع],MATCH(SMALL($I$2:$I$3995,ROWS($K$2:K93)),$I$2:$I$3995,0)),"") | L93: =IFERROR(IF(SEARCH(بحث!$D$4,all[اسم الصنف])>0,ROW(L93),""),"") | M93: =IFERROR(INDEX(all[اسم الصنف],MATCH(SMALL($L$2:$L$3995,ROWS($M$2:M93)),$L$2:$L$3995,0)),"") | N93: =IFERROR(INDEX(all[الباركود],MATCH(SMALL($L$2:$L$3995,ROWS($N$2:N93)),$L$2:$L$3995,0)),"") | O93: =IFERROR(INDEX(all[الشركة],MATCH(SMALL($L$2:$L$3995,ROWS($O$2:O93)),$L$2:$L$3995,0)),"") | P93: =IFERROR(INDEX(all[سعر البيع],MATCH(SMALL($L$2:$L$3995,ROWS($P$2:P93)),$L$2:$L$3995,0)),"")
F94: =IFERROR(INDEX(all[اسم الصنف],MATCH(SMALL($I$2:$I$3995,ROWS($F$2:F94)),$I$2:$I$3995,0)),"") | G94: =IFERROR(IF(SEARCH(بحث!$L$4,all[الشركة])>0,ROW(G94),""),"") | H94: =IFERROR(INDEX(all[الشركة],MATCH(SMALL($G$2:$G$3995,ROWS($H$2:H94)),$G$2:$G$3995,0)),"") | I94: =IFERROR(IF(SEARCH(بحث!$L$4,all[الشركة])>0,ROW(G94),""),"") | J94: =IFERROR(INDEX(all[الباركود],MATCH(SMALL($I$2:$I$3995,ROWS($J$2:J94)),$I$2:$I$3995,0)),"") | K94: =IFERROR(INDEX(all[سعر البيع],MATCH(SMALL($I$2:$I$3995,ROWS($K$2:K94)),$I$2:$I$3995,0)),"") | L94: =IFERROR(IF(SEARCH(بحث!$D$4,all[اسم الصنف])>0,ROW(L94),""),"") | M94: =IFERROR(INDEX(all[اسم الصنف],MATCH(SMALL($L$2:$L$3995,ROWS($M$2:M94)),$L$2:$L$3995,0)),"") | N94: =IFERROR(INDEX(all[الباركود],MATCH(SMALL($L$2:$L$3995,ROWS($N$2:N94)),$L$2:$L$3995,0)),"") | O94: =IFERROR(INDEX(all[الشركة],MATCH(SMALL($L$2:$L$3995,ROWS($O$2:O94)),$L$2:$L$3995,0)),"") | P94: =IFERROR(INDEX(all[سعر البيع],MATCH(SMALL($L$2:$L$3995,ROWS($P$2:P94)),$L$2:$L$3995,0)),"")
A95: =[1]All!E100 -> 1171 | B95: =[1]All!F100 -> متر ورق | C95: =[1]All!G100 -> عام | D95: =[1]All!H100 -> 35 | F95: =IFERROR(INDEX(all[اسم الصنف],MATCH(SMALL($I$2:$I$3995,ROWS($F$2:F95)),$I$2:$I$3995,0)),"") | G95: =IFERROR(IF(SEARCH(بحث!$L$4,all[الشركة])>0,ROW(G95),""),"") | H95: =IFERROR(INDEX(all[الشركة],MATCH(SMALL($G$2:$G$3995,ROWS($H$2:H95)),$G$2:$G$3995,0)),"") | I95: =IFERROR(IF(SEARCH(بحث!$L$4,all[الشركة])>0,ROW(G95),""),"") | J95: =IFERROR(INDEX(all[الباركود],MATCH(SMALL($I$2:$I$3995,ROWS($J$2:J95)),$I$2:$I$3995,0)),"") | K95: =IFERROR(INDEX(all[سعر البيع],MATCH(SMALL($I$2:$I$3995,ROWS($K$2:K95)),$I$2:$I$3995,0)),"") | L95: =IFERROR(IF(SEARCH(بحث!$D$4,all[اسم الصنف])>0,ROW(L95),""),"") | M95: =IFERROR(INDEX(all[اسم الصنف],MATCH(SMALL($L$2:$L$3995,ROWS($M$2:M95)),$L$2:$L$3995,0)),"") | N95: =IFERROR(INDEX(all[الباركود],MATCH(SMALL($L$2:$L$3995,ROWS($N$2:N95)),$L$2:$L$3995,0)),"") | O95: =IFERROR(INDEX(all[الشركة],MATCH(SMALL($L$2:$L$3995,ROWS($O$2:O95)),$L$2:$L$3995,0)),"") | P95: =IFERROR(INDEX(all[سعر البيع],MATCH(SMALL($L$2:$L$3995,ROWS($P$2:P95)),$L$2:$L$3995,0)),"")
F96: =IFERROR(INDEX(all[اسم الصنف],MATCH(SMALL($I$2:$I$3995,ROWS($F$2:F96)),$I$2:$I$3995,0)),"") | G96: =IFERROR(IF(SEARCH(بحث!$L$4,all[الشركة])>0,ROW(G96),""),"") | H96: =IFERROR(INDEX(all[الشركة],MATCH(SMALL($G$2:$G$3995,ROWS($H$2:H96)),$G$2:$G$3995,0)),"") | I96: =IFERROR(IF(SEARCH(بحث!$L$4,all[الشركة])>0,ROW(G96),""),"") | J96: =IFERROR(INDEX(all[الباركود],MATCH(SMALL($I$2:$I$3995,ROWS($J$2:J96)),$I$2:$I$3995,0)),"") | K96: =IFERROR(INDEX(all[سعر البيع],MATCH(SMALL($I$2:$I$3995,ROWS($K$2:K96)),$I$2:$I$3995,0)),"") | L96: =IFERROR(IF(SEARCH(بحث!$D$4,all[اسم الصنف])>0,ROW(L96),""),"") | M96: =IFERROR(INDEX(all[اسم الصنف],MATCH(SMALL($L$2:$L$3995,ROWS($M$2:M96)),$L$2:$L$3995,0)),"") | N96: =IFERROR(INDEX(all[الباركود],MATCH(SMALL($L$2:$L$3995,ROWS($N$2:N96)),$L$2:$L$3995,0)),"") | O96: =IFERROR(INDEX(all[الشركة],MATCH(SMALL($L$2:$L$3995,ROWS($O$2:O96)),$L$2:$L$3995,0)),"") | P96: =IFERROR(INDEX(all[سعر البيع],MATCH(SMALL($L$2:$L$3995,ROWS($P$2:P96)),$L$2:$L$3995,0)),"")
F97: =IFERROR(INDEX(all[اسم الصنف],MATCH(SMALL($I$2:$I$3995,ROWS($F$2:F97)),$I$2:$I$3995,0)),"") | G97: =IFERROR(IF(SEARCH(بحث!$L$4,all[الشركة])>0,ROW(G97),""),"") | H97: =IFERROR(INDEX(all[الشركة],MATCH(SMALL($G$2:$G$3995,ROWS($H$2:H97)),$G$2:$G$3995,0)),"") | I97: =IFERROR(IF(SEARCH(بحث!$L$4,all[الشركة])>0,ROW(G97),""),"") | J97: =IFERROR(INDEX(all[الباركود],MATCH(SMALL($I$2:$I$3995,ROWS($J$2:J97)),$I$2:$I$3995,0)),"") | K97: =IFERROR(INDEX(all[سعر البيع],MATCH(SMALL($I$2:$I$3995,ROWS($K$2:K97)),$I$2:$I$3995,0)),"") | L97: =IFERROR(IF(SEARCH(بحث!$D$4,all[اسم الصنف])>0,ROW(L97),""),"") | M97: =IFERROR(INDEX(all[اسم الصنف],MATCH(SMALL($L$2:$L$3995,ROWS($M$2:M97)),$L$2:$L$3995,0)),"") | N97: =IFERROR(INDEX(all[الباركود],MATCH(SMALL($L$2:$L$3995,ROWS($N$2:N97)),$L$2:$L$3995,0)),"") | O97: =IFERROR(INDEX(all[الشركة],MATCH(SMALL($L$2:$L$3995,ROWS($O$2:O97)),$L$2:$L$3995,0)),"") | P97: =IFERROR(INDEX(all[سعر البيع],MATCH(SMALL($L$2:$L$3995,ROWS($P$2:P97)),$L$2:$L$3995,0)),"")
F98: =IFERROR(INDEX(all[اسم الصنف],MATCH(SMALL($I$2:$I$3995,ROWS($F$2:F98)),$I$2:$I$3995,0)),"") | G98: =IFERROR(IF(SEARCH(بحث!$L$4,all[الشركة])>0,ROW(G98),""),"") | H98: =IFERROR(INDEX(all[الشركة],MATCH(SMALL($G$2:$G$3995,ROWS($H$2:H98)),$G$2:$G$3995,0)),"") | I98: =IFERROR(IF(SEARCH(بحث!$L$4,all[الشركة])>0,ROW(G98),""),"") | J98: =IFERROR(INDEX(all[الباركود],MATCH(SMALL($I$2:$I$3995,ROWS($J$2:J98)),$I$2:$I$3995,0)),"") | K98: =IFERROR(INDEX(all[سعر البيع],MATCH(SMALL($I$2:$I$3995,ROWS($K$2:K98)),$I$2:$I$3995,0)),"") | L98: =IFERROR(IF(SEARCH(بحث!$D$4,all[اسم الصنف])>0,ROW(L98),""),"") | M98: =IFERROR(INDEX(all[اسم الصنف],MATCH(SMALL($L$2:$L$3995,ROWS($M$2:M98)),$L$2:$L$3995,0)),"") | N98: =IFERROR(INDEX(all[الباركود],MATCH(SMALL($L$2:$L$3995,ROWS($N$2:N98)),$L$2:$L$3995,0)),"") | O98: =IFERROR(INDEX(all[الشركة],MATCH(SMALL($L$2:$L$3995,ROWS($O$2:O98)),$L$2:$L$3995,0)),"") | P98: =IFERROR(INDEX(all[سعر البيع],MATCH(SMALL($L$2:$L$3995,ROWS($P$2:P98)),$L$2:$L$3995,0)),"")
F99: =IFERROR(INDEX(all[اسم الصنف],MATCH(SMALL($I$2:$I$3995,ROWS($F$2:F99)),$I$2:$I$3995,0)),"") | G99: =IFERROR(IF(SEARCH(بحث!$L$4,all[الشركة])>0,ROW(G99),""),"") | H99: =IFERROR(INDEX(all[الشركة],MATCH(SMALL($G$2:$G$3995,ROWS($H$2:H99)),$G$2:$G$3995,0)),"") | I99: =IFERROR(IF(SEARCH(بحث!$L$4,all[الشركة])>0,ROW(G99),""),"") | J99: =IFERROR(INDEX(all[الباركود],MATCH(SMALL($I$2:$I$3995,ROWS($J$2:J99)),$I$2:$I$3995,0)),"") | K99: =IFERROR(INDEX(all[سعر البيع],MATCH(SMALL($I$2:$I$3995,ROWS($K$2:K99)),$I$2:$I$3995,0)),"") | L99: =IFERROR(IF(SEARCH(بحث!$D$4,all[اسم الصنف])>0,ROW(L99),""),"") | M99: =IFERROR(INDEX(all[اسم الصنف],MATCH(SMALL($L$2:$L$3995,ROWS($M$2:M99)),$L$2:$L$3995,0)),"") | N99: =IFERROR(INDEX(all[الباركود],MATCH(SMALL($L$2:$L$3995,ROWS($N$2:N99)),$L$2:$L$3995,0)),"") | O99: =IFERROR(INDEX(all[الشركة],MATCH(SMALL($L$2:$L$3995,ROWS($O$2:O99)),$L$2:$L$3995,0)),"") | P99: =IFERROR(INDEX(all[سعر البيع],MATCH(SMALL($L$2:$L$3995,ROWS($P$2:P99)),$L$2:$L$3995,0)),"")
F100: =IFERROR(INDEX(all[اسم الصنف],MATCH(SMALL($I$2:$I$3995,ROWS($F$2:F100)),$I$2:$I$3995,0)),"") | G100: =IFERROR(IF(SEARCH(بحث!$L$4,all[الشركة])>0,ROW(G100),""),"") | H100: =IFERROR(INDEX(all[الشركة],MATCH(SMALL($G$2:$G$3995,ROWS($H$2:H100)),$G$2:$G$3995,0)),"") | I100: =IFERROR(IF(SEARCH(بحث!$L$4,all[الشركة])>0,ROW(G100),""),"") | J100: =IFERROR(INDEX(all[الباركود],MATCH(SMALL($I$2:$I$3995,ROWS($J$2:J100)),$I$2:$I$3995,0)),"") | K100: =IFERROR(INDEX(all[سعر البيع],MATCH(SMALL($I$2:$I$3995,ROWS($K$2:K100)),$I$2:$I$3995,0)),"") | L100: =IFERROR(IF(SEARCH(بحث!$D$4,all[اسم الصنف])>0,ROW(L100),""),"") | M100: =IFERROR(INDEX(all[اسم الصنف],MATCH(SMALL($L$2:$L$3995,ROWS($M$2:M100)),$L$2:$L$3995,0)),"") | N100: =IFERROR(INDEX(all[الباركود],MATCH(SMALL($L$2:$L$3995,ROWS($N$2:N100)),$L$2:$L$3995,0)),"") | O100: =IFERROR(INDEX(all[الشركة],MATCH(SMALL($L$2:$L$3995,ROWS($O$2:O100)),$L$2:$L$3995,0)),"") | P100: =IFERROR(INDEX(all[سعر البيع],MATCH(SMALL($L$2:$L$3995,ROWS($P$2:P100)),$L$2:$L$3995,0)),"")
F101: =IFERROR(INDEX(all[اسم الصنف],MATCH(SMALL($I$2:$I$3995,ROWS($F$2:F101)),$I$2:$I$3995,0)),"") | G101: =IFERROR(IF(SEARCH(بحث!$L$4,all[الشركة])>0,ROW(G101),""),"") | H101: =IFERROR(INDEX(all[الشركة],MATCH(SMALL($G$2:$G$3995,ROWS($H$2:H101)),$G$2:$G$3995,0)),"") | I101: =IFERROR(IF(SEARCH(بحث!$L$4,all[الشركة])>0,ROW(G101),""),"") | J101: =IFERROR(INDEX(all[الباركود],MATCH(SMALL($I$2:$I$3995,ROWS($J$2:J101)),$I$2:$I$3995,0)),"") | K101: =IFERROR(INDEX(all[سعر البيع],MATCH(SMALL($I$2:$I$3995,ROWS($K$2:K101)),$I$2:$I$3995,0)),"") | L101: =IFERROR(IF(SEARCH(بحث!$D$4,all[اسم الصنف])>0,ROW(L101),""),"") | M101: =IFERROR(INDEX(all[اسم الصنف],MATCH(SMALL($L$2:$L$3995,ROWS($M$2:M101)),$L$2:$L$3995,0)),"") | N101: =IFERROR(INDEX(all[الباركود],MATCH(SMALL($L$2:$L$3995,ROWS($N$2:N101)),$L$2:$L$3995,0)),"") | O101: =IFERROR(INDEX(all[الشركة],MATCH(SMALL($L$2:$L$3995,ROWS($O$2:O101)),$L$2:$L$3995,0)),"") | P101: =IFERROR(INDEX(all[سعر البيع],MATCH(SMALL($L$2:$L$3995,ROWS($P$2:P101)),$L$2:$L$3995,0)),"")
F102: =IFERROR(INDEX(all[اسم الصنف],MATCH(SMALL($I$2:$I$3995,ROWS($F$2:F102)),$I$2:$I$3995,0)),"") | G102: =IFERROR(IF(SEARCH(بحث!$L$4,all[الشركة])>0,ROW(G102),""),"") | H102: =IFERROR(INDEX(all[الشركة],MATCH(SMALL($G$2:$G$3995,ROWS($H$2:H102)),$G$2:$G$3995,0)),"") | I102: =IFERROR(IF(SEARCH(بحث!$L$4,all[الشركة])>0,ROW(G102),""),"") | J102: =IFERROR(INDEX(all[الباركود],MATCH(SMALL($I$2:$I$3995,ROWS($J$2:J102)),$I$2:$I$3995,0)),"") | K102: =IFERROR(INDEX(all[سعر البيع],MATCH(SMALL($I$2:$I$3995,ROWS($K$2:K102)),$I$2:$I$3995,0)),"") | L102: =IFERROR(IF(SEARCH(بحث!$D$4,all[اسم الصنف])>0,ROW(L102),""),"") | M102: =IFERROR(INDEX(all[اسم الصنف],MATCH(SMALL($L$2:$L$3995,ROWS($M$2:M102)),$L$2:$L$3995,0)),"") | N102: =IFERROR(INDEX(all[الباركود],MATCH(SMALL($L$2:$L$3995,ROWS($N$2:N102)),$L$2:$L$3995,0)),"") | O102: =IFERROR(INDEX(all[الشركة],MATCH(SMALL($L$2:$L$3995,ROWS($O$2:O102)),$L$2:$L$3995,0)),"") | P102: =IFERROR(INDEX(all[سعر البيع],MATCH(SMALL($L$2:$L$3995,ROWS($P$2:P102)),$L$2:$L$3995,0)),"")
F103: =IFERROR(INDEX(all[اسم الصنف],MATCH(SMALL($I$2:$I$3995,ROWS($F$2:F103)),$I$2:$I$3995,0)),"") | G103: =IFERROR(IF(SEARCH(بحث!$L$4,all[الشركة])>0,ROW(G103),""),"") | H103: =IFERROR(INDEX(all[الشركة],MATCH(SMALL($G$2:$G$3995,ROWS($H$2:H103)),$G$2:$G$3995,0)),"") | I103: =IFERROR(IF(SEARCH(بحث!$L$4,all[الشركة])>0,ROW(G103),""),"") | J103: =IFERROR(INDEX(all[الباركود],MATCH(SMALL($I$2:$I$3995,ROWS($J$2:J103)),$I$2:$I$3995,0)),"") | K103: =IFERROR(INDEX(all[سعر البيع],MATCH(SMALL($I$2:$I$3995,ROWS($K$2:K103)),$I$2:$I$3995,0)),"") | L103: =IFERROR(IF(SEARCH(بحث!$D$4,all[اسم الصنف])>0,ROW(L103),""),"") | M103: =IFERROR(INDEX(all[اسم الصنف],MATCH(SMALL($L$2:$L$3995,ROWS($M$2:M103)),$L$2:$L$3995,0)),"") | N103: =IFERROR(INDEX(all[الباركود],MATCH(SMALL($L$2:$L$3995,ROWS($N$2:N103)),$L$2:$L$3995,0)),"") | O103: =IFERROR(INDEX(all[الشركة],MATCH(SMALL($L$2:$L$3995,ROWS($O$2:O103)),$L$2:$L$3995,0)),"") | P103: =IFERROR(INDEX(all[سعر البيع],MATCH(SMALL($L$2:$L$3995,ROWS($P$2:P103)),$L$2:$L$3995,0)),"")
F104: =IFERROR(INDEX(all[اسم الصنف],MATCH(SMALL($I$2:$I$3995,ROWS($F$2:F104)),$I$2:$I$3995,0)),"") | G104: =IFERROR(IF(SEARCH(بحث!$L$4,all[الشركة])>0,ROW(G104),""),"") | H104: =IFERROR(INDEX(all[الشركة],MATCH(SMALL($G$2:$G$3995,ROWS($H$2:H104)),$G$2:$G$3995,0)),"") | I104: =IFERROR(IF(SEARCH(بحث!$L$4,all[الشركة])>0,ROW(G104),""),"") | J104: =IFERROR(INDEX(all[الباركود],MATCH(SMALL($I$2:$I$3995,ROWS($J$2:J104)),$I$2:$I$3995,0)),"") | K104: =IFERROR(INDEX(all[سعر البيع],MATCH(SMALL($I$2:$I$3995,ROWS($K$2:K104)),$I$2:$I$3995,0)),"") | L104: =IFERROR(IF(SEARCH(بحث!$D$4,all[اسم الصنف])>0,ROW(L104),""),"") | M104: =IFERROR(INDEX(all[اسم الصنف],MATCH(SMALL($L$2:$L$3995,ROWS($M$2:M104)),$L$2:$L$3995,0)),"") | N104: =IFERROR(INDEX(all[الباركود],MATCH(SMALL($L$2:$L$3995,ROWS($N$2:N104)),$L$2:$L$3995,0)),"") | O104: =IFERROR(INDEX(all[الشركة],MATCH(SMALL($L$2:$L$3995,ROWS($O$2:O104)),$L$2:$L$3995,0)),"") | P104: =IFERROR(INDEX(all[سعر البيع],MATCH(SMALL($L$2:$L$3995,ROWS($P$2:P104)),$L$2:$L$3995,0)),"")
F105: =IFERROR(INDEX(all[اسم الصنف],MATCH(SMALL($I$2:$I$3995,ROWS($F$2:F105)),$I$2:$I$3995,0)),"") | G105: =IFERROR(IF(SEARCH(بحث!$L$4,all[الشركة])>0,ROW(G105),""),"") | H105: =IFERROR(INDEX(all[الشركة],MATCH(SMALL($G$2:$G$3995,ROWS($H$2:H105)),$G$2:$G$3995,0)),"") | I105: =IFERROR(IF(SEARCH(بحث!$L$4,all[الشركة])>0,ROW(G105),""),"") | J105: =IFERROR(INDEX(all[الباركود],MATCH(SMALL($I$2:$I$3995,ROWS($J$2:J105)),$I$2:$I$3995,0)),"") | K105: =IFERROR(INDEX(all[سعر البيع],MATCH(SMALL($I$2:$I$3995,ROWS($K$2:K105)),$I$2:$I$3995,0)),"") | L105: =IFERROR(IF(SEARCH(بحث!$D$4,all[اسم الصنف])>0,ROW(L105),""),"") | M105: =IFERROR(INDEX(all[اسم الصنف],MATCH(SMALL($L$2:$L$3995,ROWS($M$2:M105)),$L$2:$L$3995,0)),"") | N105: =IFERROR(INDEX(all[الباركود],MATCH(SMALL($L$2:$L$3995,ROWS($N$2:N105)),$L$2:$L$3995,0)),"") | O105: =IFERROR(INDEX(all[الشركة],MATCH(SMALL($L$2:$L$3995,ROWS($O$2:O105)),$L$2:$L$3995,0)),"") | P105: =IFERROR(INDEX(all[سعر البيع],MATCH(SMALL($L$2:$L$3995,ROWS($P$2:P105)),$L$2:$L$3995,0)),"")
F106: =IFERROR(INDEX(all[اسم الصنف],MATCH(SMALL($I$2:$I$3995,ROWS($F$2:F106)),$I$2:$I$3995,0)),"") | G106: =IFERROR(IF(SEARCH(بحث!$L$4,all[الشركة])>0,ROW(G106),""),"") | H106: =IFERROR(INDEX(all[الشركة],MATCH(SMALL($G$2:$G$3995,ROWS($H$2:H106)),$G$2:$G$3995,0)),"") | I106: =IFERROR(IF(SEARCH(بحث!$L$4,all[الشركة])>0,ROW(G106),""),"") | J106: =IFERROR(INDEX(all[الباركود],MATCH(SMALL($I$2:$I$3995,ROWS($J$2:J106)),$I$2:$I$3995,0)),"") | K106: =IFERROR(INDEX(all[سعر البيع],MATCH(SMALL($I$2:$I$3995,ROWS($K$2:K106)),$I$2:$I$3995,0)),"") | L106: =IFERROR(IF(SEARCH(بحث!$D$4,all[اسم الصنف])>0,ROW(L106),""),"") | M106: =IFERROR(INDEX(all[اسم الصنف],MATCH(SMALL($L$2:$L$3995,ROWS($M$2:M106)),$L$2:$L$3995,0)),"") | N106: =IFERROR(INDEX(all[الباركود],MATCH(SMALL($L$2:$L$3995,ROWS($N$2:N106)),$L$2:$L$3995,0)),"") | O106: =IFERROR(INDEX(all[الشركة],MATCH(SMALL($L$2:$L$3995,ROWS($O$2:O106)),$L$2:$L$3995,0)),"") | P106: =IFERROR(INDEX(all[سعر البيع],MATCH(SMALL($L$2:$L$3995,ROWS($P$2:P106)),$L$2:$L$3995,0)),"")
F107: =IFERROR(INDEX(all[اسم الصنف],MATCH(SMALL($I$2:$I$3995,ROWS($F$2:F107)),$I$2:$I$3995,0)),"") | G107: =IFERROR(IF(SEARCH(بحث!$L$4,all[الشركة])>0,ROW(G107),""),"") | H107: =IFERROR(INDEX(all[الشركة],MATCH(SMALL($G$2:$G$3995,ROWS($H$2:H107)),$G$2:$G$3995,0)),"") | I107: =IFERROR(IF(SEARCH(بحث!$L$4,all[الشركة])>0,ROW(G107),""),"") | J107: =IFERROR(INDEX(all[الباركود],MATCH(SMALL($I$2:$I$3995,ROWS($J$2:J107)),$I$2:$I$3995,0)),"") | K107: =IFERROR(INDEX(all[سعر البيع],MATCH(SMALL($I$2:$I$3995,ROWS($K$2:K107)),$I$2:$I$3995,0)),"") | L107: =IFERROR(IF(SEARCH(بحث!$D$4,all[اسم الصنف])>0,ROW(L107),""),"") | M107: =IFERROR(INDEX(all[اسم الصنف],MATCH(SMALL($L$2:$L$3995,ROWS($M$2:M107)),$L$2:$L$3995,0)),"") | N107: =IFERROR(INDEX(all[الباركود],MATCH(SMALL($L$2:$L$3995,ROWS($N$2:N107)),$L$2:$L$3995,0)),"") | O107: =IFERROR(INDEX(all[الشركة],MATCH(SMALL($L$2:$L$3995,ROWS($O$2:O107)),$L$2:$L$3995,0)),"") | P107: =IFERROR(INDEX(all[سعر البيع],MATCH(SMALL($L$2:$L$3995,ROWS($P$2:P107)),$L$2:$L$3995,0)),"")
... F124: =IFERROR(INDEX(all[اسم الصنف],MATCH(SMALL($I$2:$I$3995,ROWS($F$2:F124)),$I$2:$I$3995,0)),"") | G124: =IFERROR(IF(SEARCH(بحث!$L$4,all[الشركة])>0,ROW(G124),""),"") | H124: =IFERROR(INDEX(all[الشركة],MATCH(SMALL($G$2:$G$3995,ROWS($H$2:H124)),$G$2:$G$3995,0)),"") | I124: =IFERROR(IF(SEARCH(بحث!$L$4,all[الشركة])>0,ROW(G124),""),"") | J124: =IFERROR(INDEX(all[الباركود],MATCH(SMALL($I$2:$I$3995,ROWS($J$2:J124)),$I$2:$I$3995,0)),"") | K124: =IFERROR(INDEX(all[سعر البيع],MATCH(SMALL($I$2:$I$3995,ROWS($K$2:K124)),$I$2:$I$3995,0)),"") | L124: =IFERROR(IF(SEARCH(بحث!$D$4,all[اسم الصنف])>0,ROW(L124),""),"") | M124: =IFERROR(INDEX(all[اسم الصنف],MATCH(SMALL($L$2:$L$3995,ROWS($M$2:M124)),$L$2:$L$3995,0)),"") | N124: =IFERROR(INDEX(all[الباركود],MATCH(SMALL($L$2:$L$3995,ROWS($N$2:N124)),$L$2:$L$3995,0)),"") | O124: =IFERROR(INDEX(all[الشركة],MATCH(SMALL($L$2:$L$3995,ROWS($O$2:O124)),$L$2:$L$3995,0)),"") | P124: =IFERROR(INDEX(all[سعر البيع],MATCH(SMALL($L$2:$L$3995,ROWS($P$2:P124)),$L$2:$L$3995,0)),"")
A125: =[1]All!E130 -> 1224 | B125: =[1]All!F130 -> شيكاره دراي ميكس 9069 | C125: =[1]All!G130 -> تكويد | D125: =[1]All!H130 -> 115 | F125: =IFERROR(INDEX(all[اسم الصنف],MATCH(SMALL($I$2:$I$3995,ROWS($F$2:F125)),$I$2:$I$3995,0)),"") | G125: =IFERROR(IF(SEARCH(بحث!$L$4,all[الشركة])>0,ROW(G125),""),"") | H125: =IFERROR(INDEX(all[الشركة],MATCH(SMALL($G$2:$G$3995,ROWS($H$2:H125)),$G$2:$G$3995,0)),"") | I125: =IFERROR(IF(SEARCH(بحث!$L$4,all[الشركة])>0,ROW(G125),""),"") | J125: =IFERROR(INDEX(all[الباركود],MATCH(SMALL($I$2:$I$3995,ROWS($J$2:J125)),$I$2:$I$3995,0)),"") | K125: =IFERROR(INDEX(all[سعر البيع],MATCH(SMALL($I$2:$I$3995,ROWS($K$2:K125)),$I$2:$I$3995,0)),"") | L125: =IFERROR(IF(SEARCH(بحث!$D$4,all[اسم الصنف])>0,ROW(L125),""),"") | M125: =IFERROR(INDEX(all[اسم الصنف],MATCH(SMALL($L$2:$L$3995,ROWS($M$2:M125)),$L$2:$L$3995,0)),"") | N125: =IFERROR(INDEX(all[الباركود],MATCH(SMALL($L$2:$L$3995,ROWS($N$2:N125)),$L$2:$L$3995,0)),"") | O125: =IFERROR(INDEX(all[الشركة],MATCH(SMALL($L$2:$L$3995,ROWS($O$2:O125)),$L$2:$L$3995,0)),"") | P125: =IFERROR(INDEX(all[سعر البيع],MATCH(SMALL($L$2:$L$3995,ROWS($P$2:P125)),$L$2:$L$3995,0)),"")
F126: =IFERROR(INDEX(all[اسم الصنف],MATCH(SMALL($I$2:$I$3995,ROWS($F$2:F126)),$I$2:$I$3995,0)),"") | G126: =IFERROR(IF(SEARCH(بحث!$L$4,all[الشركة])>0,ROW(G126),""),"") | H126: =IFERROR(INDEX(all[الشركة],MATCH(SMALL($G$2:$G$3995,ROWS($H$2:H126)),$G$2:$G$3995,0)),"") | I126: =IFERROR(IF(SEARCH(بحث!$L$4,all[الشركة])>0,ROW(G126),""),"") | J126: =IFERROR(INDEX(all[الباركود],MATCH(SMALL($I$2:$I$3995,ROWS($J$2:J126)),$I$2:$I$3995,0)),"") | K126: =IFERROR(INDEX(all[سعر البيع],MATCH(SMALL($I$2:$I$3995,ROWS($K$2:K126)),$I$2:$I$3995,0)),"") | L126: =IFERROR(IF(SEARCH(بحث!$D$4,all[اسم الصنف])>0,ROW(L126),""),"") | M126: =IFERROR(INDEX(all[اسم الصنف],MATCH(SMALL($L$2:$L$3995,ROWS($M$2:M126)),$L$2:$L$3995,0)),"") | N126: =IFERROR(INDEX(all[الباركود],MATCH(SMALL($L$2:$L$3995,ROWS($N$2:N126)),$L$2:$L$3995,0)),"") | O126: =IFERROR(INDEX(all[الشركة],MATCH(SMALL($L$2:$L$3995,ROWS($O$2:O126)),$L$2:$L$3995,0)),"") | P126: =IFERROR(INDEX(all[سعر البيع],MATCH(SMALL($L$2:$L$3995,ROWS($P$2:P126)),$L$2:$L$3995,0)),"")
F127: =IFERROR(INDEX(all[اسم الصنف],MATCH(SMALL($I$2:$I$3995,ROWS($F$2:F127)),$I$2:$I$3995,0)),"") | G127: =IFERROR(IF(SEARCH(بحث!$L$4,all[الشركة])>0,ROW(G127),""),"") | H127: =IFERROR(INDEX(all[الشركة],MATCH(SMALL($G$2:$G$3995,ROWS($H$2:H127)),$G$2:$G$3995,0)),"") | I127: =IFERROR(IF(SEARCH(بحث!$L$4,all[الشركة])>0,ROW(G127),""),"") | J127: =IFERROR(INDEX(all[الباركود],MATCH(SMALL($I$2:$I$3995,ROWS($J$2:J127)),$I$2:$I$3995,0)),"") | K127: =IFERROR(INDEX(all[سعر البيع],MATCH(SMALL($I$2:$I$3995,ROWS($K$2:K127)),$I$2:$I$3995,0)),"") | L127: =IFERROR(IF(SEARCH(بحث!$D$4,all[اسم الصنف])>0,ROW(L127),""),"") | M127: =IFERROR(INDEX(all[اسم الصنف],MATCH(SMALL($L$2:$L$3995,ROWS($M$2:M127)),$L$2:$L$3995,0)),"") | N127: =IFERROR(INDEX(all[الباركود],MATCH(SMALL($L$2:$L$3995,ROWS($N$2:N127)),$L$2:$L$3995,0)),"") | O127: =IFERROR(INDEX(all[الشركة],MATCH(SMALL($L$2:$L$3995,ROWS($O$2:O127)),$L$2:$L$3995,0)),"") | P127: =IFERROR(INDEX(all[سعر البيع],MATCH(SMALL($L$2:$L$3995,ROWS($P$2:P127)),$L$2:$L$3995,0)),"")
A128: =[1]All!E133 -> 1233 | B128: =[1]All!F133 -> كيلو ماركوبولو لارما | C128: =[1]All!G133 -> بروستول | D128: =[1]All!H133 -> 65 | F128: =IFERROR(INDEX(all[اسم الصنف],MATCH(SMALL($I$2:$I$3995,ROWS($F$2:F128)),$I$2:$I$3995,0)),"") | G128: =IFERROR(IF(SEARCH(بحث!$L$4,all[الشركة])>0,ROW(G128),""),"") | H128: =IFERROR(INDEX(all[الشركة],MATCH(SMALL($G$2:$G$3995,ROWS($H$2:H128)),$G$2:$G$3995,0)),"") | I128: =IFERROR(IF(SEARCH(بحث!$L$4,all[الشركة])>0,ROW(G128),""),"") | J128: =IFERROR(INDEX(all[الباركود],MATCH(SMALL($I$2:$I$3995,ROWS($J$2:J128)),$I$2:$I$3995,0)),"") | K128: =IFERROR(INDEX(all[سعر البيع],MATCH(SMALL($I$2:$I$3995,ROWS($K$2:K128)),$I$2:$I$3995,0)),"") | L128: =IFERROR(IF(SEARCH(بحث!$D$4,all[اسم الصنف])>0,ROW(L128),""),"") | M128: =IFERROR(INDEX(all[اسم الصنف],MATCH(SMALL($L$2:$L$3995,ROWS($M$2:M128)),$L$2:$L$3995,0)),"") | N128: =IFERROR(INDEX(all[الباركود],MATCH(SMALL($L$2:$L$3995,ROWS($N$2:N128)),$L$2:$L$3995,0)),"") | O128: =IFERROR(INDEX(all[الشركة],MATCH(SMALL($L$2:$L$3995,ROWS($O$2:O128)),$L$2:$L$3995,0)),"") | P128: =IFERROR(INDEX(all[سعر البيع],MATCH(SMALL($L$2:$L$3995,ROWS($P$2:P128)),$L$2:$L$3995,0)),"")
A129: =[1]All!E134 -> 1234 | B129: =[1]All!F134 -> كيلو برستول كلاسيكو بني ليزر | C129: =[1]All!G134 -> بروستول | D129: =[1]All!H134 -> 126 | F129: =IFERROR(INDEX(all[اسم الصنف],MATCH(SMALL($I$2:$I$3995,ROWS($F$2:F129)),$I$2:$I$3995,0)),"") | G129: =IFERROR(IF(SEARCH(بحث!$L$4,all[الشركة])>0,ROW(G129),""),"") | H129: =IFERROR(INDEX(all[الشركة],MATCH(SMALL($G$2:$G$3995,ROWS($H$2:H129)),$G$2:$G$3995,0)),"") | I129: =IFERROR(IF(SEARCH(بحث!$L$4,all[الشركة])>0,ROW(G129),""),"") | J129: =IFERROR(INDEX(all[الباركود],MATCH(SMALL($I$2:$I$3995,ROWS($J$2:J129)),$I$2:$I$3995,0)),"") | K129: =IFERROR(INDEX(all[سعر البيع],MATCH(SMALL($I$2:$I$3995,ROWS($K$2:K129)),$I$2:$I$3995,0)),"") | L129: =IFERROR(IF(SEARCH(بحث!$D$4,all[اسم الصنف])>0,ROW(L129),""),"") | M129: =IFERROR(INDEX(all[اسم الصنف],MATCH(SMALL($L$2:$L$3995,ROWS($M$2:M129)),$L$2:$L$3995,0)),"") | N129: =IFERROR(INDEX(all[الباركود],MATCH(SMALL($L$2:$L$3995,ROWS($N$2:N129)),$L$2:$L$3995,0)),"") | O129: =IFERROR(INDEX(all[الشركة],MATCH(SMALL($L$2:$L$3995,ROWS($O$2:O129)),$L$2:$L$3995,0)),"") | P129: =IFERROR(INDEX(all[سعر البيع],MATCH(SMALL($L$2:$L$3995,ROWS($P$2:P129)),$L$2:$L$3995,0)),"")
A130: =[1]All!E135 -> 1235 | B130: =[1]All!F135 -> كيلو برستول كلاسيكو اسود ليزر | C130: =[1]All!G135 -> بروستول | D130: =[1]All!H135 -> 126 | F130: =IFERROR(INDEX(all[اسم الصنف],MATCH(SMALL($I$2:$I$3995,ROWS($F$2:F130)),$I$2:$I$3995,0)),"") | G130: =IFERROR(IF(SEARCH(بحث!$L$4,all[الشركة])>0,ROW(G130),""),"") | H130: =IFERROR(INDEX(all[الشركة],MATCH(SMALL($G$2:$G$3995,ROWS($H$2:H130)),$G$2:$G$3995,0)),"") | I130: =IFERROR(IF(SEARCH(بحث!$L$4,all[الشركة])>0,ROW(G130),""),"") | J130: =IFERROR(INDEX(all[الباركود],MATCH(SMALL($I$2:$I$3995,ROWS($J$2:J130)),$I$2:$I$3995,0)),"") | K130: =IFERROR(INDEX(all[سعر البيع],MATCH(SMALL($I$2:$I$3995,ROWS($K$2:K130)),$I$2:$I$3995,0)),"") | L130: =IFERROR(IF(SEARCH(بحث!$D$4,all[اسم الصنف])>0,ROW(L130),""),"") | M130: =IFERROR(INDEX(all[اسم الصنف],MATCH(SMALL($L$2:$L$3995,ROWS($M$2:M130)),$L$2:$L$3995,0)),"") | N130: =IFERROR(INDEX(all[الباركود],MATCH(SMALL($L$2:$L$3995,ROWS($N$2:N130)),$L$2:$L$3995,0)),"") | O130: =IFERROR(INDEX(all[الشركة],MATCH(SMALL($L$2:$L$3995,ROWS($O$2:O130)),$L$2:$L$3995,0)),"") | P130: =IFERROR(INDEX(all[سعر البيع],MATCH(SMALL($L$2:$L$3995,ROWS($P$2:P130)),$L$2:$L$3995,0)),"")
A131: =[1]All!E136 -> 1237 | B131: =[1]All!F136 -> كيلو برستول بلاس دهبي | C131: =[1]All!G136 -> بروستول | D131: =[1]All!H136 -> 161 | F131: =IFERROR(INDEX(all[اسم الصنف],MATCH(SMALL($I$2:$I$3995,ROWS($F$2:F131)),$I$2:$I$3995,0)),"") | G131: =IFERROR(IF(SEARCH(بحث!$L$4,all[الشركة])>0,ROW(G131),""),"") | H131: =IFERROR(INDEX(all[الشركة],MATCH(SMALL($G$2:$G$3995,ROWS($H$2:H131)),$G$2:$G$3995,0)),"") | I131: =IFERROR(IF(SEARCH(بحث!$L$4,all[الشركة])>0,ROW(G131),""),"") | J131: =IFERROR(INDEX(all[الباركود],MATCH(SMALL($I$2:$I$3995,ROWS($J$2:J131)),$I$2:$I$3995,0)),"") | K131: =IFERROR(INDEX(all[سعر البيع],MATCH(SMALL($I$2:$I$3995,ROWS($K$2:K131)),$I$2:$I$3995,0)),"") | L131: =IFERROR(IF(SEARCH(بحث!$D$4,all[اسم الصنف])>0,ROW(L131),""),"") | M131: =IFERROR(INDEX(all[اسم الصنف],MATCH(SMALL($L$2:$L$3995,ROWS($M$2:M131)),$L$2:$L$3995,0)),"") | N131: =IFERROR(INDEX(all[الباركود],MATCH(SMALL($L$2:$L$3995,ROWS($N$2:N131)),$L$2:$L$3995,0)),"") | O131: =IFERROR(INDEX(all[الشركة],MATCH(SMALL($L$2:$L$3995,ROWS($O$2:O131)),$L$2:$L$3995,0)),"") | P131: =IFERROR(INDEX(all[سعر البيع],MATCH(SMALL($L$2:$L$3995,ROWS($P$2:P131)),$L$2:$L$3995,0)),"")
A132: =[1]All!E137 -> 1239 | B132: =[1]All!F137 -> علبه دهبي 101 السويديه ×1/8 | C132: =[1]All!G137 -> السويديه | D132: =[1]All!H137 -> 37.62 | F132: =IFERROR(INDEX(all[اسم الصنف],MATCH(SMALL($I$2:$I$3995,ROWS($F$2:F132)),$I$2:$I$3995,0)),"") | G132: =IFERROR(IF(SEARCH(بحث!$L$4,all[الشركة])>0,ROW(G132),""),"") | H132: =IFERROR(INDEX(all[الشركة],MATCH(SMALL($G$2:$G$3995,ROWS($H$2:H132)),$G$2:$G$3995,0)),"") | I132: =IFERROR(IF(SEARCH(بحث!$L$4,all[الشركة])>0,ROW(G132),""),"") | J132: =IFERROR(INDEX(all[الباركود],MATCH(SMALL($I$2:$I$3995,ROWS($J$2:J132)),$I$2:$I$3995,0)),"") | K132: =IFERROR(INDEX(all[سعر البيع],MATCH(SMALL($I$2:$I$3995,ROWS($K$2:K132)),$I$2:$I$3995,0)),"") | L132: =IFERROR(IF(SEARCH(بحث!$D$4,all[اسم الصنف])>0,ROW(L132),""),"") | M132: =IFERROR(INDEX(all[اسم الصنف],MATCH(SMALL($L$2:$L$3995,ROWS($M$2:M132)),$L$2:$L$3995,0)),"") | N132: =IFERROR(INDEX(all[الباركود],MATCH(SMALL($L$2:$L$3995,ROWS($N$2:N132)),$L$2:$L$3995,0)),"") | O132: =IFERROR(INDEX(all[الشركة],MATCH(SMALL($L$2:$L$3995,ROWS($O$2:O132)),$L$2:$L$3995,0)),"") | P132: =IFERROR(INDEX(all[سعر البيع],MATCH(SMALL($L$2:$L$3995,ROWS($P$2:P132)),$L$2:$L$3995,0)),"")
A133: =[1]All!E138 -> 1240 | B133: =[1]All!F138 -> علبه دهبي 101 السويديه 50جرام | C133: =[1]All!G138 -> السويديه | D133: =[1]All!H138 -> 23.89 | F133: =IFERROR(INDEX(all[اسم الصنف],MATCH(SMALL($I$2:$I$3995,ROWS($F$2:F133)),$I$2:$I$3995,0)),"") | G133: =IFERROR(IF(SEARCH(بحث!$L$4,all[الشركة])>0,ROW(G133),""),"") | H133: =IFERROR(INDEX(all[الشركة],MATCH(SMALL($G$2:$G$3995,ROWS($H$2:H133)),$G$2:$G$3995,0)),"") | I133: =IFERROR(IF(SEARCH(بحث!$L$4,all[الشركة])>0,ROW(G133),""),"") | J133: =IFERROR(INDEX(all[الباركود],MATCH(SMALL($I$2:$I$3995,ROWS($J$2:J133)),$I$2:$I$3995,0)),"") | K133: =IFERROR(INDEX(all[سعر البيع],MATCH(SMALL($I$2:$I$3995,ROWS($K$2:K133)),$I$2:$I$3995,0)),"") | L133: =IFERROR(IF(SEARCH(بحث!$D$4,all[اسم الصنف])>0,ROW(L133),""),"") | M133: =IFERROR(INDEX(all[اسم الصنف],MATCH(SMALL($L$2:$L$3995,ROWS($M$2:M133)),$L$2:$L$3995,0)),"") | N133: =IFERROR(INDEX(all[الباركود],MATCH(SMALL($L$2:$L$3995,ROWS($N$2:N133)),$L$2:$L$3995,0)),"") | O133: =IFERROR(INDEX(all[الشركة],MATCH(SMALL($L$2:$L$3995,ROWS($O$2:O133)),$L$2:$L$3995,0)),"") | P133: =IFERROR(INDEX(all[سعر البيع],MATCH(SMALL($L$2:$L$3995,ROWS($P$2:P133)),$L$2:$L$3995,0)),"")
...

Sheet بحث
AB1: الصنف
C3: البحث عن طريق الصنف | K3: البحث عن طريق الشركة | Q3: عام
C4: الصنف | D4: قلب كالون كمبيوتر إيطالي | K4: الشركة | L4: أورينت | Q4: أورينت | R4: الشركة
K5: الصنف | L5: بستله سيلر مائي اورينت ستايل121 | Q5: ناشونال | R5: الباركود | S5: اسم الصنف | T5: الشركة | U5: سعر البيع
Q6: إيجل | R6: =VLOOKUP($L$5,all!$F:$K,5,FALSE) -> 1564 | S6: =VLOOKUP($L$5,all!$F:$K,1,FALSE) -> بستله سيلر مائي اورينت ستايل121 | T6: =VLOOKUP($L$5,all!$F:$K,3,FALSE) -> أورينت | U6: =VLOOKUP($L$5,all!$F:$K,6,FALSE) -> 95.931
Q7: إسكيب
Q8: الألمانية GLC | R8: الباركود | S8: اسم الصنف | T8: الشركة | U8: سعر البيع
C9: ناتج البحث بالصنف | K9: ناتج البحث بالشركة | Q9: ميدو | R9: =VLOOKUP($D$4,all!$M:$P,2,FALSE) -> 3140 | S9: =VLOOKUP($D$4,all!$M:$P,1,FALSE) -> قلب كالون كمبيوتر إيطالي | T9: =VLOOKUP($D$4,all!$M:$P,3,FALSE) -> عام | U9: =VLOOKUP($D$4,all!$M:$P,4,FALSE) -> 65
C10: اسم الصنف | D10: =R9 -> 3140 | K10: اسم الصنف | L10: =R6 -> 1564 | Q10: الدلتا
C11: الكود | D11: =S9 -> قلب كالون كمبيوتر إيطالي | K11: الكود | L11: =S6 -> بستله سيلر مائي اورينت ستايل121 | Q11: المهندس
C12: الشركة | D12: =T9 -> عام | K12: الشركة | L12: =T6 -> أورينت | Q12: المصريه الايطاليه
C13: سعر البيع | D13: =U9 -> 65 | K13: سعر البيع | L13: =U6 -> 95.931 | Q13: دراي ميكس
Q14: الايطاليه
Q15: نصار سلك ممدد
Q16: إيرلاك
Q17: سافيتو
Q18: نصار مسمار
Q19: الالمانيه للزق
Q20: البناء الحديث
Q21: باكين
Q22: بنتا
Q23: بيور
Q24: بريمو كات
Q25: MCI
... Q42: سكاي

Sheet 25.04.2022
A1: الكود | B1: الباركود | C1: اسم الصنف | D1: الشركة | E1: الوحدة | F1: سعر البيع | G1: الحد الادنى | H1: ملاحظات | I1: النوع | J1: سعر الجملة | K1: الحد الاقصى | L1: الكمية | M1: سعر الشراء | N1: اسم المخزن | O1: المقاس | P1: اللون | Q1: نصف الجملة | R1: سعر جمله 1 | S1: سعر جمله 2 | T1: أقصى نسبة خصم | U1: أقصى كمية بيع | V1: الكود المخزني | W1: نسبة الضريبة
A2: 1 | B2: 4 | C2: بستله بلاستيك 3030 14ك المانيه | D2: الألمانية GLC | E2: بستله | F2: 200 | G2: 0 | I2: بلاستيك | J2: 200 | K2: 0 | L2: 3 | M2: 176.95 | N2: المخزن الرئيسي | O2: عام | P2: عام | Q2: 0 | R2: 0 | S2: 0 | T2: 0 | U2: 0 | V2: 4 | W2: 0
A3: 2 | B3: 7 | C3: جالون كابسي مط ابيض دوبل | D3: كابسي | E3: جالون | F3: 183.83 | G3: 0 | I3: بلاستيك | J3: 180.23 | K3: 0 | L3: 0 | M3: 175.27 | N3: المخزن الرئيسي | O3: عام | P3: عام | Q3: 0 | R3: 0 | S3: 0 | T3: 0 | U3: 0 | V3: 7 | W3: 0
A4: 3 | B4: 16 | C4: كرتونه كابسي مط ابيض*ك | D4: كابسي | E4: كرتونه | F4: 222.36 | G4: 0 | I4: لاكيه | J4: 218 | K4: 0 | L4: 0 | M4: 212 | N4: المخزن الرئيسي | O4: كيلو | P4: عام | Q4: 0 | R4: 0 | S4: 0 | T4: 0 | U4: 0 | V4: 16 | W4: 0
A5: 4 | B5: 17 | C5: جالون كابسي مط ابيض 4ك | D5: كابسي | E5: جالون | F5: 106.3146 | G5: 0 | I5: لاكيه | J5: 104.23 | K5: 0 | L5: 0 | M5: 101.36 | N5: المخزن الرئيسي | O5: جالون | P5: عام | Q5: 0 | R5: 0 | S5: 0 | T5: 0 | U5: 0 | V5: 17 | W5: 0
A6: 5 | B6: 22 | C6: بستله غراء جلو ايجل *18ك | D6: إيجل | E6: بستله | F6: 625 | G6: 0 | I6: غراء | J6: 625 | K6: 0 | L6: 90 | M6: 433.47 | N6: المخزن الرئيسي | O6: 18ك | P6: عام | Q6: 0 | R6: 0 | S6: 0 | T6: 0 | U6: 0 | V6: 22 | W6: 0
A7: 6 | B7: 24 | C7: بستله بلاستيك سوبر ايجل فلات 9لتر 007 | D7: إيجل | E7: بستله | F7: 365 | G7: 0 | I7: بلاستيك | J7: 365 | K7: 0 | L7: 0 | M7: 270.86 | N7: المخزن الرئيسي | O7: 9ك | P7: عام | Q7: 0 | R7: 0 | S7: 0 | T7: 0 | U7: 0 | V7: 24 | W7: 0
A8: 8 | B8: 38 | C8: جالون كابسي لامع 3ك احمر 659 | D8: كابسي | E8: جالون | F8: 120.9312 | G8: 0 | I8: لاكيه | J8: 118.56 | K8: 0 | L8: 0 | M8: 115.3 | N8: المخزن الرئيسي | O8: 3ك | P8: احمر | Q8: 0 | R8: 0 | S8: 0 | T8: 0 | U8: 0 | V8: 38 | W8: 0
A9: 9 | B9: 41 | C9: جالون كابسي لامع 3ك ازرق 471 | D9: كابسي | E9: جالون | F9: 120.9312 | G9: 0 | I9: لاكيه | J9: 118.56 | K9: 0 | L9: 0 | M9: 115.3 | N9: المخزن الرئيسي | O9: 3ك | P9: ازرق | Q9: 0 | R9: 0 | S9: 0 | T9: 0 | U9: 0 | V9: 41 | W9: 0
A10: 10 | B10: 43 | C10: جالون كابسي لامع 3ك اخضر 760 | D10: كابسي | E10: جالون | F10: 120.93 | G10: 0 | I10: لاكيه | J10: 118.56 | K10: 0 | L10: 0 | M10: 115.3 | N10: المخزن الرئيسي | O10: 3ك | P10: اخضر | Q10: 0 | R10: 0 | S10: 0 | T10: 0 | U10: 0 | V10: 43 | W10: 0
A11: 11 | B11: 44 | C11: كرتونه كابسي لامع *ك موف447 | D11: كابسي | E11: كرتونه | F11: 254.5512 | G11: 0 | I11: لاكيه | J11: 249.56 | K11: 0 | L11: 0 | M11: 242.69 | N11: المخزن الرئيسي | O11: ×ك | P11: موف447 | Q11: 0 | R11: 0 | S11: 0 | T11: 0 | U11: 0 | V11: 44 | W11: 0
A12: 12 | B12: 48 | C12: شربون صيني 5بوصه | D12: عام | E12: عام | F12: 9 | G12: 0 | I12: عام | J12: 9 | K12: 0 | L12: 0 | M12: 7 | N12: المخزن الرئيسي | O12: عام | P12: عام | Q12: 0 | R12: 0 | S12: 0 | T12: 0 | U12: 0 | V12: 48 | W12: 0
A13: 13 | B13: 50 | C13: كرتونه كابسي لامع *ك بني671 | D13: كابسي | E13: كرتونه | F13: 254.5512 | G13: 0 | I13: لاكيه | J13: 249.56 | K13: 0 | L13: 0 | M13: 242.69 | N13: المخزن الرئيسي | O13: ×ك | P13: بني671 | Q13: 0 | R13: 0 | S13: 0 | T13: 0 | U13: 0 | V13: 50 | W13: 0
... A29: 29 | B29: 158 | C29: كيلو مائي استارت شمواه | D29: عام | E29: عام | F29: 170 | G29: 0 | I29: عام | J29: 170 | K29: 0 | L29: 0 | M29: 75 | N29: المخزن الرئيسي | O29: عام | P29: عام | Q29: 0 | R29: 0 | S29: 0 | T29: 0 | U29: 0 | V29: 158 | W29: 0
A30: 30 | B30: 172 | C30: كرتونه لصق رخام المهندس *ك | D30: المهندس | E30: كرتونه | F30: 444.26 | G30: 0 | I30: معجون | J30: 0 | K30: 0 | L30: 4 | M30: 435.1 | N30: المخزن الرئيسي | O30: 44563 | P30: عام | Q30: 0 | R30: 0 | S30: 0 | T30: 0 | U30: 0 | V30: 172 | W30: 0
A31: 31 | B31: 173 | C31: روله الندي 23سم | D31: عام | E31: عام | F31: 15 | G31: 0 | I31: عام | J31: 15 | K31: 0 | L31: 20 | M31: 13 | N31: المخزن الرئيسي | O31: عام | P31: عام | Q31: 0 | R31: 0 | S31: 0 | T31: 0 | U31: 0 | V31: 173 | W31: 0
A32: 32 | B32: 178 | C32: بستله لاكيه اورينتو ستايل 20ك اورينت ازرق | D32: أورينت | E32: بستله | F32: 754.03 | G32: 0 | I32: لاكيه | J32: 754.03 | K32: 0 | L32: 1 | M32: 731.41 | N32: المخزن الرئيسي | O32: عام | P32: ازرق | Q32: 0 | R32: 0 | S32: 0 | T32: 0 | U32: 0 | V32: 178 | W32: 0
A33: 33 | B33: 183 | C33: جالون كابسي لاتيكو لامع 3ك احمر | D33: كابسي | E33: جالون | F33: 92.6466 | G33: 0 | I33: لاكيه | J33: 90.83 | K33: 0 | L33: 1 | M33: 88.33 | N33: المخزن الرئيسي | O33: 3ك | P33: احمر | Q33: 0 | R33: 0 | S33: 0 | T33: 0 | U33: 0 | V33: 183 | W33: 0
A34: 34 | B34: 195 | C34: جالون لاصق رخام لاتيكو كابسي | D34: كابسي | E34: جالون | F34: 276.4914 | G34: 0 | I34: معجون | J34: 271.07 | K34: 0 | L34: 0 | M34: 263.61 | N34: المخزن الرئيسي | O34: جالون | P34: عام | Q34: 0 | R34: 0 | S34: 0 | T34: 0 | U34: 0 | V34: 195 | W34: 0
A35: 35 | B35: 196 | C35: كرتونه لاصق رخام لاتيكو كابسي *ك | D35: كابسي | E35: كرتونه | F35: 435.948 | G35: 0 | I35: معجون | J35: 427.4 | K35: 0 | L35: 0 | M35: 415.64 | N35: المخزن الرئيسي | O35: كيلو | P35: عام | Q35: 0 | R35: 0 | S35: 0 | T35: 0 | U35: 0 | V35: 196 | W35: 0
A36: 36 | B36: 197 | C36: كرتونه لاصق رخام لاتيكو كابسي *1/2 | D36: كابسي | E36: كرتونه | F36: 421.3212 | G36: 0 | I36: معجون | J36: 413.06 | K36: 0 | L36: 0 | M36: 401.69 | N36: المخزن الرئيسي | O36: ×1/2 | P36: عام | Q36: 0 | R36: 0 | S36: 0 | T36: 0 | U36: 0 | V36: 197 | W36: 0
A37: 37 | B37: 201 | C37: بستله بوليستر لاتيكو كابسي 23ك 6800 | D37: كابسي | E37: بستله | F37: 1600.4004 | G37: 0 | I37: عام | J37: 1569.02 | K37: 0 | L37: 0 | M37: 1525.84 | N37: المخزن الرئيسي | O37: بستله | P37: عام | Q37: 0 | R37: 0 | S37: 0 | T37: 0 | U37: 0 | V37: 201 | W37: 0
A38: 38 | B38: 229 | C38: جالون بطانه دوكو لاتيكو كابسي ابيض | D38: كابسي | E38: جالون | F38: 142.8816 | G38: 0 | I38: دوكو | J38: 140.08 | K38: 0 | L38: 0 | M38: 136.22 | N38: المخزن الرئيسي | O38: جالون | P38: عام | Q38: 0 | R38: 0 | S38: 0 | T38: 0 | U38: 0 | V38: 229 | W38: 0
A39: 39 | B39: 231 | C39: جالون لاكيه كريتال لامع اسود صغير اورينت | D39: أورينت | E39: جالون | F39: 121.58 | G39: 0 | I39: لاكيه | J39: 121.58 | K39: 0 | L39: 9 | M39: 117.93 | N39: المخزن الرئيسي | O39: صغير | P39: اسود | Q39: 0 | R39: 0 | S39: 0 | T39: 0 | U39: 0 | V39: 231 | W39: 0
A40: 40 | B40: 245 | C40: جالون ورنيش مائي كابسي 752 | D40: كابسي | E40: جالون | F40: 69.2478 | G40: 0 | I40: ورنيش | J40: 67.89 | K40: 0 | L40: 0 | M40: 66.02 | N40: المخزن الرئيسي | O40: جالون | P40: عام | Q40: 0 | R40: 0 | S40: 0 | T40: 0 | U40: 0 | V40: 245 | W40: 0
A41: 41 | B41: 246 | C41: بستله ورنيش مائي كابسي 752 | D41: كابسي | E41: بستله | F41: 234.0696 | G41: 0 | I41: ورنيش | J41: 229.48 | K41: 0 | L41: 0 | M41: 223.16 | N41: المخزن الرئيسي | O41: بستله | P41: عام | Q41: 0 | R41: 0 | S41: 0 | T41: 0 | U41: 0 | V41: 246 | W41: 0
A42: 42 | B42: 247 | C42: بستله سيلر مائي كابسي 751 | D42: كابسي | E42: بستله | F42: 133.62 | G42: 0 | I42: سيلر | J42: 131 | K42: 0 | L42: 10 | M42: 127.39 | N42: المخزن الرئيسي | O42: بستله | P42: عام | Q42: 0 | R42: 0 | S42: 0 | T42: 0 | U42: 0 | V42: 247 | W42: 0
... A44: 44 | B44: 250 | C44: بستله معجون بتي 750 كابسي 15ك | D44: كابسي | E44: بستله | F44: 115.6272 | G44: 0 | I44: معجون | J44: 113.36 | K44: 0 | L44: 0 | M44: 111.28 | N44: المخزن الرئيسي | O44: بستله | P44: عام | Q44: 0 | R44: 0 | S44: 0 | T44: 0 | U44: 0 | V44: 250 | W44: 0
A45: 45 | B45: 260 | C45: صبغه كابسي *لتر 04 | D45: كابسي | E45: لتر | F45: 146.778 | G45: 0 | I45: صبغه | J45: 143.9 | K45: 0 | L45: 0 | M45: 139.94 | N45: المخزن الرئيسي | O45: 44569 | P45: 4 | Q45: 0 | R45: 0 | S45: 0 | T45: 0 | U45: 0 | V45: 260 | W45: 0
A46: 46 | B46: 262 | C46: صبغه كابسي *لتر 07 | D46: كابسي | E46: لتر | F46: 146.778 | G46: 0 | I46: صبغه | J46: 143.9 | K46: 0 | L46: 2 | M46: 139.94 | N46: المخزن الرئيسي | O46: 44569 | P46: 7 | Q46: 0 | R46: 0 | S46: 0 | T46: 0 | U46: 0 | V46: 262 | W46: 0
A47: 47 | B47: 263 | C47: صبغه كابسي *لتر 011 | D47: كابسي | E47: لتر | F47: 146.778 | G47: 0 | I47: صبغه | J47: 143.9 | K47: 0 | L47: 0 | M47: 139.94 | N47: المخزن الرئيسي | O47: 44569 | P47: 11 | Q47: 0 | R47: 0 | S47: 0 | T47: 0 | U47: 0 | V47: 263 | W47: 0
A48: 48 | B48: 265 | C48: صبغه كابسي *لتر 058 | D48: كابسي | E48: لتر | F48: 146.778 | G48: 0 | I48: صبغه | J48: 143.9 | K48: 0 | L48: 0 | M48: 139.94 | N48: المخزن الرئيسي | O48: 44569 | P48: 58 | Q48: 0 | R48: 0 | S48: 0 | T48: 0 | U48: 0 | V48: 265 | W48: 0
A49: 49 | B49: 266 | C49: صبغه كابسي *لتر 09 | D49: كابسي | E49: لتر | F49: 146.778 | G49: 0 | I49: صبغه | J49: 143.9 | K49: 0 | L49: 0 | M49: 139.94 | N49: المخزن الرئيسي | O49: 44569 | P49: 9 | Q49: 0 | R49: 0 | S49: 0 | T49: 0 | U49: 0 | V49: 266 | W49: 0
A50: 50 | B50: 267 | C50: كرتونه صبغه كابسي *1/4 04 | D50: كابسي | E50: 1/4ك | F50: 532.5012 | G50: 0 | I50: صبغه | J50: 522.06 | K50: 0 | L50: 0 | M50: 507.69 | N50: المخزن الرئيسي | O50: ×1/4 | P50: 4 | Q50: 0 | R50: 0 | S50: 0 | T50: 0 | U50: 0 | V50: 267 | W50: 0
A51: 51 | B51: 269 | C51: كرتونه صبغه كابسي *1/4 07 | D51: كابسي | E51: 1/4ك | F51: 532.5012 | G51: 0 | I51: صبغه | J51: 522.06 | K51: 0 | L51: 0 | M51: 507.69 | N51: المخزن الرئيسي | O51: ×1/4 | P51: 7 | Q51: 0 | R51: 0 | S51: 0 | T51: 0 | U51: 0 | V51: 269 | W51: 0
A52: 52 | B52: 270 | C52: كرتونه صبغه كابسي *1/4 011 | D52: كابسي | E52: 1/4ك | F52: 532.5012 | G52: 0 | I52: صبغه | J52: 522.06 | K52: 0 | L52: 0 | M52: 507.69 | N52: المخزن الرئيسي | O52: ×1/4 | P52: 11 | Q52: 0 | R52: 0 | S52: 0 | T52: 0 | U52: 0 | V52: 270 | W52: 0
A53: 53 | B53: 272 | C53: كرتونه صبغه كابسي *1/4 058 | D53: كابسي | E53: 1/4ك | F53: 532.5012 | G53: 0 | I53: صبغه | J53: 522.06 | K53: 0 | L53: 0 | M53: 507.69 | N53: المخزن الرئيسي | O53: ×1/4 | P53: 58 | Q53: 0 | R53: 0 | S53: 0 | T53: 0 | U53: 0 | V53: 272 | W53: 0
A54: 54 | B54: 273 | C54: كرتونه صبغه كابسي *1/4 09 | D54: كابسي | E54: 1/4ك | F54: 532.5012 | G54: 0 | I54: صبغه | J54: 522.06 | K54: 0 | L54: 0 | M54: 507.69 | N54: المخزن الرئيسي | O54: ×1/4 | P54: 9 | Q54: 0 | R54: 0 | S54: 0 | T54: 0 | U54: 0 | V54: 273 | W54: 0
A55: 55 | B55: 277 | C55: جالون دوكو قنطره كابسي اسود 200 | D55: كابسي | E55: جالون | F55: 261.375 | G55: 0 | I55: دوكو | J55: 256.25 | K55: 0 | L55: 0 | M55: 249.2 | N55: المخزن الرئيسي | O55: جالون | P55: عام | Q55: 0 | R55: 0 | S55: 0 | T55: 0 | U55: 0 | V55: 277 | W55: 0
A56: 56 | B56: 278 | C56: جالون دوكو قنطره كابسي ورنيش | D56: كابسي | E56: جالون | F56: 249.1758 | G56: 0 | I56: دوكو | J56: 244.29 | K56: 0 | L56: 0 | M56: 237.57 | N56: المخزن الرئيسي | O56: جالون | P56: عام | Q56: 0 | R56: 0 | S56: 0 | T56: 0 | U56: 0 | V56: 278 | W56: 0
A57: 57 | B57: 279 | C57: جالون دوكو قنطره فضي كابسي | D57: كابسي | E57: جالون | F57: 249.1758 | G57: 0 | I57: دوكو | J57: 244.29 | K57: 0 | L57: 0 | M57: 237.57 | N57: المخزن الرئيسي | O57: جالون | P57: عام | Q57: 0 | R57: 0 | S57: 0 | T57: 0 | U57: 0 | V57: 279 | W57: 0
A58: 59 | B58: 284 | C58: كرتونه المانيه لامع *ك احمر 715 | D58: الألمانية GLC | E58: كرتونه | F58: 246.66 | G58: 0 | I58: لاكيه | J58: 0 | K58: 0 | L58: 0 | M58: 218.28 | N58: المخزن الرئيسي | O58: ×ك | P58: احمر 715 | Q58: 0 | R58: 0 | S58: 0 | T58: 0 | U58: 0 | V58: 284 | W58: 0
A59: 60 | B59: 285 | C59: كرتونه المانيه لامع *ك مارون955 | D59: الألمانية GLC | E59: كرتونه | F59: 246.66 | G59: 0 | I59: لاكيه | J59: 0 | K59: 0 | L59: 0 | M59: 230.77 | N59: المخزن الرئيسي | O59: ×ك | P59: مارون955 | Q59: 0 | R59: 0 | S59: 0 | T59: 0 | U59: 0 | V59: 285 | W59: 0
A60: 61 | B60: 286 | C60: كرتونه المانيه لامع ترسينا *ك 791 | D60: الألمانية GLC | E60: كرتونه | F60: 246.66 | G60: 0 | I60: لاكيه | J60: 0 | K60: 0 | L60: 0 | M60: 218.28 | N60: المخزن الرئيسي | O60: ×ك | P60: جملي791 | Q60: 0 | R60: 0 | S60: 0 | T60: 0 | U60: 0 | V60: 286 | W60: 0
A61: 62 | B61: 287 | C61: كرتونه المانيه لامع *ك سيمون فاتح 716 | D61: الألمانية GLC | E61: كرتونه | F61: 246.66 | G61: 0 | I61: لاكيه | J61: 0 | K61: 0 | L61: 2 | M61: 230.77 | N61: المخزن الرئيسي | O61: ×ك | P61: سيمون فاتح 716 | Q61: 0 | R61: 0 | S61: 0 | T61: 0 | U61: 0 | V61: 287 | W61: 0
A62: 63 | B62: 289 | C62: كرتونه المانيه لامع *ك اصفر 757 | D62: الألمانية GLC | E62: كرتونه | F62: 246.66 | G62: 0 | I62: لاكيه | J62: 0 | K62: 0 | L62: 0 | M62: 218.28 | N62: المخزن الرئيسي | O62: ×ك | P62: اصفر 757 | Q62: 0 | R62: 0 | S62: 0 | T62: 0 | U62: 0 | V62: 289 | W62: 0
A63: 64 | B63: 290 | C63: كرتونه المانيه لامع *ك اصفر داكن729 | D63: الألمانية GLC | E63: كرتونه | F63: 246.66 | G63: 0 | I63: لاكيه | J63: 0 | K63: 0 | L63: 0 | M63: 230.77 | N63: المخزن الرئيسي | O63: ×ك | P63: اصفر داكن729 | Q63: 0 | R63: 0 | S63: 0 | T63: 0 | U63: 0 | V63: 290 | W63: 0
A64: 65 | B64: 292 | C64: كرتونه المانيه لامع *ك بني705 | D64: الألمانية GLC | E64: كرتونه | F64: 246.66 | G64: 0 | I64: لاكيه | J64: 0 | K64: 0 | L64: 0 | M64: 218.28 | N64: المخزن الرئيسي | O64: ×ك | P64: بني705 | Q64: 0 | R64: 0 | S64: 0 | T64: 0 | U64: 0 | V64: 292 | W64: 0
A65: 66 | B65: 293 | C65: كرتونه المانيه لامع *ك سيمون 717 | D65: الألمانية GLC | E65: كرتونه | F65: 246.66 | G65: 0 | I65: لاكيه | J65: 0 | K65: 0 | L65: 2 | M65: 230.77 | N65: المخزن الرئيسي | O65: ×ك | P65: سيمون 717 | Q65: 0 | R65: 0 | S65: 0 | T65: 0 | U65: 0 | V65: 293 | W65: 0
A66: 67 | B66: 295 | C66: كرتونه المانيه لامع *ك بيج فاتح701 | D66: الألمانية GLC | E66: كرتونه | F66: 246.66 | G66: 0 | I66: لاكيه | J66: 0 | K66: 0 | L66: 0 | M66: 230.77 | N66: المخزن الرئيسي | O66: ×ك | P66: بيج فاتح701 | Q66: 0 | R66: 0 | S66: 0 | T66: 0 | U66: 0 | V66: 295 | W66: 0
... A105: 106 | B105: 367 | C105: كرتونه ورنيش نترو كابسي 2001 ×ك | D105: كابسي | E105: كرتونه | F105: 339.38 | G105: 0 | I105: ورنيش | J105: 332.73 | K105: 0 | L105: 0 | M105: 323.58 | N105: المخزن الرئيسي | O105: كيلو | P105: عام | Q105: 0 | R105: 0 | S105: 0 | T105: 0 | U105: 0 | V105: 367 | W105: 0
A106: 107 | B106: 369 | C106: 1/2 لتر تنر فرن ناشونال 204 | D106: ناشونال | E106: 1/2 لتر | F106: 31.46 | G106: 0 | I106: تنر | J106: 31.46 | K106: 0 | L106: 0 | M106: 29.532 | N106: المخزن الرئيسي | O106: 1/2 لتر | P106: 204 | Q106: 0 | R106: 0 | S106: 0 | T106: 0 | U106: 0 | V106: 369 | W106: 0
A107: 108 | B107: 381 | C107: جالون بوليستر 700 كابسي 3ك | D107: كابسي | E107: جالون | F107: 234.5592 | G107: 0 | I107: بوليستر | J107: 229.96 | K107: 0 | L107: 22 | M107: 223.63 | N107: المخزن الرئيسي | O107: جالون | P107: عام | Q107: 0 | R107: 0 | S107: 0 | T107: 0 | U107: 0 | V107: 381 | W107: 0
A108: 109 | B108: 382 | C108: جالون بوليستر 700 كابسي 4ك | D108: كابسي | E108: جالون | F108: 307.7034 | G108: 0 | I108: بوليستر | J108: 301.67 | K108: 0 | L108: 0 | M108: 293.37 | N108: المخزن الرئيسي | O108: جالون | P108: عام | Q108: 0 | R108: 0 | S108: 0 | T108: 0 | U108: 0 | V108: 382 | W108: 0
A109: 110 | B109: 383 | C109: بستله بوليستر 700 كابسي 9ك | D109: كابسي | E109: بستله | F109: 651.474 | G109: 0 | I109: بوليستر | J109: 638.7 | K109: 0 | L109: 93 | M109: 621.12 | N109: المخزن الرئيسي | O109: بستله | P109: عام | Q109: 0 | R109: 0 | S109: 0 | T109: 0 | U109: 0 | V109: 383 | W109: 0
A110: 111 | B110: 384 | C110: بستله بوليستر 700 كابسي 14ك | D110: كابسي | E110: بستله | F110: 1028.9046 | G110: 0 | I110: بوليستر | J110: 1008.73 | K110: 0 | L110: 0 | M110: 980.97 | N110: المخزن الرئيسي | O110: بستله | P110: عام | Q110: 0 | R110: 0 | S110: 0 | T110: 0 | U110: 0 | V110: 384 | W110: 0
A111: 112 | B111: 385 | C111: بستله بوليستر 700 كابسي 23ك | D111: كابسي | E111: بستله | F111: 1692.078 | G111: 0 | I111: بوليستر | J111: 1658.9 | K111: 0 | L111: 0 | M111: 1613.25 | N111: المخزن الرئيسي | O111: بستله | P111: عام | Q111: 0 | R111: 0 | S111: 0 | T111: 0 | U111: 0 | V111: 385 | W111: 0
A112: 113 | B112: 386 | C112: برميل بوليستر 700 كابسي 200ك | D112: كابسي | E112: برميل | F112: 12629.66 | G112: 0 | I112: بوليستر | J112: 12382.02 | K112: 0 | L112: 0 | M112: 12041.23 | N112: المخزن الرئيسي | O112: برميل | P112: عام | Q112: 0 | R112: 0 | S112: 0 | T112: 0 | U112: 0 | V112: 386 | W112: 0
A113: 114 | B113: 387 | C113: بستله بوليستر 700 كابسي ابيض 8.5ك | D113: كابسي | E113: بستله | F113: 509.082 | G113: 0 | I113: بوليستر | J113: 499.1 | K113: 0 | L113: 0 | M113: 485.36 | N113: المخزن الرئيسي | O113: بستله | P113: عام | Q113: 0 | R113: 0 | S113: 0 | T113: 0 | U113: 0 | V113: 387 | W113: 0
A114: 115 | B114: 388 | C114: بستله بوليستر 700 كابسي ابيض 23ك | D114: كابسي | E114: بستله | F114: 1306.8546 | G114: 0 | I114: بوليستر | J114: 1281.23 | K114: 0 | L114: 0 | M114: 1245.97 | N114: المخزن الرئيسي | O114: بستله | P114: عام | Q114: 0 | R114: 0 | S114: 0 | T114: 0 | U114: 0 | V114: 388 | W114: 0
A115: 116 | B115: 389 | C115: جالون بوليستر 700 كابسي ابيض 3.2ك | D115: كابسي | E115: جالون | F115: 199.4508 | G115: 0 | I115: بوليستر | J115: 195.54 | K115: 0 | L115: 16 | M115: 190.15 | N115: المخزن الرئيسي | O115: جالون | P115: عام | Q115: 0 | R115: 0 | S115: 0 | T115: 0 | U115: 0 | V115: 389 | W115: 0
A116: 117 | B116: 390 | C116: كرتونه دوكو نترو كابسي *ك احمر 120 | D116: كابسي | E116: كرتونه | F116: 396.3516 | G116: 0 | I116: دوكو | J116: 388.58 | K116: 0 | L116: 0 | M116: 381.32 | N116: المخزن الرئيسي | O116: ×ك | P116: احمر 120 | Q116: 0 | R116: 0 | S116: 0 | T116: 0 | U116: 0 | V116: 390 | W116: 0
A117: 118 | B117: 391 | C117: كرتونه دوكو نترو كابسي *ك 1344 | D117: كابسي | E117: كرتونه | F117: 396.3516 | G117: 0 | I117: دوكو | J117: 388.58 | K117: 0 | L117: 0 | M117: 381.32 | N117: المخزن الرئيسي | O117: ×ك | P117: 1344 | Q117: 0 | R117: 0 | S117: 0 | T117: 0 | U117: 0 | V117: 391 | W117: 0
A118: 119 | B118: 392 | C118: كرتونه دوكو نترو كابسي *ك نبيتي 1406 | D118: كابسي | E118: كرتونه | F118: 396.3516 | G118: 0 | I118: دوكو | J118: 388.58 | K118: 0 | L118: 0 | M118: 381.32 | N118: المخزن الرئيسي | O118: ×ك | P118: نبيتي 1406 | Q118: 0 | R118: 0 | S118: 0 | T118: 0 | U118: 0 | V118: 392 | W118: 0
A119: 120 | B119: 394 | C119: كرتونه دوكو نترو كابسي *ك ترسينا 208 | D119: كابسي | E119: كرتونه | F119: 396.3516 | G119: 0 | I119: دوكو | J119: 388.58 | K119: 0 | L119: 0 | M119: 381.32 | N119: المخزن الرئيسي | O119: ×ك | P119: ترسينا 208 | Q119: 0 | R119: 0 | S119: 0 | T119: 0 | U119: 0 | V119: 394 | W119: 0
A120: 121 | B120: 395 | C120: كرتونه دوكو نترو كابسي *ك اصفر 273 | D120: كابسي | E120: كرتونه | F120: 396.3516 | G120: 0 | I120: دوكو | J120: 388.58 | K120: 0 | L120: 0 | M120: 381.32 | N120: المخزن الرئيسي | O120: ×ك | P120: اصفر 273 | Q120: 0 | R120: 0 | S120: 0 | T120: 0 | U120: 0 | V120: 395 | W120: 0
A121: 122 | B121: 397 | C121: كرتونه دوكو نترو فضي كابسي 620 ×ك | D121: كابسي | E121: كرتونه | F121: 396.3516 | G121: 0 | I121: دوكو | J121: 388.58 | K121: 0 | L121: 0 | M121: 381.32 | N121: المخزن الرئيسي | O121: ×ك | P121: فضي 620 | Q121: 0 | R121: 0 | S121: 0 | T121: 0 | U121: 0 | V121: 397 | W121: 0
A122: 123 | B122: 399 | C122: كرتونه دوكو نترو كابسي *ك ابيض 7001 | D122: كابسي | E122: كرتونه | F122: 393.4854 | G122: 0 | I122: دوكو | J122: 385.77 | K122: 0 | L122: 0 | M122: 378.56 | N122: المخزن الرئيسي | O122: ×ك | P122: ابيض 7001 | Q122: 0 | R122: 0 | S122: 0 | T122: 0 | U122: 0 | V122: 399 | W122: 0
A123: 124 | B123: 400 | C123: كرتونه دوكو توشكي كابسي *ك احمر 120 | D123: كابسي | E123: كرتونه | F123: 422.1984 | G123: 0 | I123: دوكو | J123: 413.92 | K123: 0 | L123: 0 | M123: 406.18 | N123: المخزن الرئيسي | O123: ×ك | P123: احمر 120 | Q123: 0 | R123: 0 | S123: 0 | T123: 0 | U123: 0 | V123: 400 | W123: 0
A124: 125 | B124: 411 | C124: كرتونه دوكو نترو كابسي *ك اخضر | D124: كابسي | E124: كرتونه | F124: 396.3516 | G124: 0 | I124: دوكو | J124: 388.58 | K124: 0 | L124: 0 | M124: 381.32 | N124: المخزن الرئيسي | O124: ×ك | P124: عام | Q124: 0 | R124: 0 | S124: 0 | T124: 0 | U124: 0 | V124: 411 | W124: 0
A125: 126 | B125: 412 | C125: كرتونه دوكو نترو كابسي *ك ازرق | D125: كابسي | E125: كرتونه | F125: 396.3516 | G125: 0 | I125: دوكو | J125: 388.58 | K125: 0 | L125: 0 | M125: 381.32 | N125: المخزن الرئيسي | O125: ×ك | P125: عام | Q125: 0 | R125: 0 | S125: 0 | T125: 0 | U125: 0 | V125: 412 | W125: 0
A126: 127 | B126: 413 | C126: كرتونه دوكو نترو كابسي *ك اسود مط | D126: كابسي | E126: كرتونه | F126: 499.7388 | G126: 0 | I126: دوكو | J126: 489.94 | K126: 0 | L126: 0 | M126: 480.78 | N126: المخزن الرئيسي | O126: ×ك | P126: عام | Q126: 0 | R126: 0 | S126: 0 | T126: 0 | U126: 0 | V126: 413 | W126: 0
A127: 128 | B127: 415 | C127: كرتونه دوكو توشكي كابسي *ك مارون | D127: كابسي | E127: كرتونه | F127: 608.8788 | G127: 0 | I127: دوكو | J127: 596.94 | K127: 0 | L127: 0 | M127: 585.78 | N127: المخزن الرئيسي | O127: ×ك | P127: عام | Q127: 0 | R127: 0 | S127: 0 | T127: 0 | U127: 0 | V127: 415 | W127: 0
A128: 129 | B128: 416 | C128: كرتونه دوكو توشكي كابسي *ك ازرق فيوليت | D128: كابسي | E128: كرتونه | F128: 608.8788 | G128: 0 | I128: دوكو | J128: 596.94 | K128: 0 | L128: 0 | M128: 585.78 | N128: المخزن الرئيسي | O128: ×ك | P128: عام | Q128: 0 | R128: 0 | S128: 0 | T128: 0 | U128: 0 | V128: 416 | W128: 0
A129: 130 | B129: 417 | C129: كرتونه دوكو توشكي كابسي *ك اسود مط | D129: كابسي | E129: كرتونه | F129: 491.13 | G129: 0 | I129: دوكو | J129: 481.5 | K129: 0 | L129: 0 | M129: 472.5 | N129: المخزن الرئيسي | O129: ×ك | P129: عام | Q129: 0 | R129: 0 | S129: 0 | T129: 0 | U129: 0 | V129: 417 | W129: 0
... A136: 137 | B136: 434 | C136: جالون لاكيه استارت لامع المانيه 2.5ك اسود | D136: الألمانية GLC | E136: جالون | F136: 77.518 | G136: 0 | I136: لاكيه | J136: 77.518 | K136: 0 | L136: 0 | M136: 72.52 | N136: المخزن الرئيسي | O136: 2.5ك | P136: اسود | Q136: 0 | R136: 0 | S136: 0 | T136: 0 | U136: 0 | V136: 434 | W136: 0
A137: 138 | B137: 436 | C137: كيلو فرن كابسي ساده 641 | D137: كابسي | E137: كيلو | F137: 189.567 | G137: 0 | I137: فرن | J137: 185.85 | K137: 0 | L137: 0 | M137: 182.37 | N137: المخزن الرئيسي | O137: كيلو | P137: 641 | Q137: 0 | R137: 0 | S137: 0 | T137: 0 | U137: 0 | V137: 436 | W137: 0
A138: 139 | B138: 446 | C138: رول فنيل | D138: عام | E138: عام | F138: 45 | G138: 0 | I138: عام | J138: 0 | K138: 0 | L138: 0 | M138: 40 | N138: المخزن الرئيسي | O138: عام | P138: عام | Q138: 0 | R138: 0 | S138: 0 | T138: 0 | U138: 0 | V138: 446 | W138: 0
A139: 140 | B139: 466 | C139: جالون لاكيه المانيه نص لامع 500 | D139: الألمانية GLC | E139: جالون | F139: 163.32 | G139: 0 | I139: لاكيه | J139: 0 | K139: 0 | L139: 4 | M139: 152.79 | N139: المخزن الرئيسي | O139: جالون | P139: عام | Q139: 0 | R139: 0 | S139: 0 | T139: 0 | U139: 0 | V139: 466 | W139: 0
A140: 141 | B140: 470 | C140: جالون ورنيش زجاجي لامع المانيه | D140: الألمانية GLC | E140: جالون | F140: 173 | G140: 0 | I140: ورنيش | J140: 0 | K140: 0 | L140: 116 | M140: 153.1 | N140: المخزن الرئيسي | O140: عام | P140: عام | Q140: 0 | R140: 0 | S140: 0 | T140: 0 | U140: 0 | V140: 470 | W140: 0
A141: 142 | B141: 471 | C141: كرتونه ورنيش زجاجي لامع المانيه | D141: الألمانية GLC | E141: كرتونه | F141: 360.97 | G141: 0 | I141: ورنيش | J141: 0 | K141: 0 | L141: 23 | M141: 319.44 | N141: المخزن الرئيسي | O141: عام | P141: عام | Q141: 0 | R141: 0 | S141: 0 | T141: 0 | U141: 0 | V141: 471 | W141: 0
A142: 143 | B142: 472 | C142: كرتونه ورنيش زجاجي لامع المانيه ×1/2 | D142: الألمانية GLC | E142: كرتونه | F142: 221.43 | G142: 0 | I142: ورنيش | J142: 0 | K142: 0 | L142: 0 | M142: 195.96 | N142: المخزن الرئيسي | O142: ×1/2 | P142: عام | Q142: 0 | R142: 0 | S142: 0 | T142: 0 | U142: 0 | V142: 472 | W142: 0
A143: 144 | B143: 473 | C143: جالون ورنيش زجاجي مط المانيه | D143: الألمانية GLC | E143: جالون | F143: 164.81 | G143: 0 | I143: ورنيش | J143: 0 | K143: 0 | L143: 33 | M143: 154.18 | N143: المخزن الرئيسي | O143: عام | P143: عام | Q143: 0 | R143: 0 | S143: 0 | T143: 0 | U143: 0 | V143: 473 | W143: 0
A144: 145 | B144: 474 | C144: كرتونه ورنيش زجاجي مط المانيه | D144: الألمانية GLC | E144: كرتونه | F144: 305.1 | G144: 0 | I144: ورنيش | J144: 0 | K144: 0 | L144: 0 | M144: 285.697 | N144: المخزن الرئيسي | O144: عام | P144: عام | Q144: 0 | R144: 0 | S144: 0 | T144: 0 | U144: 0 | V144: 474 | W144: 0
A145: 146 | B145: 475 | C145: جالون ورنيش ستاندر المانيه دوبل | D145: الألمانية GLC | E145: جالون | F145: 199.15 | G145: 0 | I145: ورنيش | J145: 0 | K145: 0 | L145: 0 | M145: 176.24 | N145: المخزن الرئيسي | O145: دوبل | P145: عام | Q145: 0 | R145: 0 | S145: 0 | T145: 0 | U145: 0 | V145: 475 | W145: 0
A146: 147 | B146: 476 | C146: جالون ورنيش ستاندر المانيه صغير | D146: الألمانية GLC | E146: جالون | F146: 141.72 | G146: 0 | I146: ورنيش | J146: 0 | K146: 0 | L146: 75 | M146: 125.42 | N146: المخزن الرئيسي | O146: عام | P146: عام | Q146: 0 | R146: 0 | S146: 0 | T146: 0 | U146: 0 | V146: 476 | W146: 0
A147: 148 | B147: 477 | C147: كرتونه ورنيش ستاندر المانيه ×ك | D147: الألمانية GLC | E147: كرتونه | F147: 252.35 | G147: 0 | I147: ورنيش | J147: 0 | K147: 0 | L147: 19 | M147: 223.32 | N147: المخزن الرئيسي | O147: عام | P147: عام | Q147: 0 | R147: 0 | S147: 0 | T147: 0 | U147: 0 | V147: 477 | W147: 0
A148: 149 | B148: 478 | C148: كرتونه ورنيش ستاندر المانيه ×1/2 | D148: الألمانية GLC | E148: كرتونه | F148: 150.58 | G148: 0 | I148: ورنيش | J148: 0 | K148: 0 | L148: 0 | M148: 133.26 | N148: المخزن الرئيسي | O148: عام | P148: عام | Q148: 0 | R148: 0 | S148: 0 | T148: 0 | U148: 0 | V148: 478 | W148: 0
A149: 150 | B149: 479 | C149: بستله ورنيش مائي بيور المانيه | D149: الألمانية GLC | E149: بستله | F149: 270.07 | G149: 0 | I149: ورنيش | J149: 270.07 | K149: 0 | L149: 5 | M149: 239 | N149: المخزن الرئيسي | O149: بستله | P149: عام | Q149: 0 | R149: 0 | S149: 0 | T149: 0 | U149: 0 | V149: 479 | W149: 0
... A238: 239 | B238: 621 | C238: كرتونه مط داي تون المانيه *ك نبيتي | D238: الألمانية GLC | E238: كرتونه | F238: 159.13 | G238: 0 | I238: لاكيه | J238: 0 | K238: 0 | L238: 7 | M238: 158.84 | N238: المخزن الرئيسي | O238: ×ك | P238: نبيتي | Q238: 0 | R238: 0 | S238: 0 | T238: 0 | U238: 0 | V238: 621 | W238: 0
A239: 240 | B239: 622 | C239: 1/2 كيلو معجون شروخ السوديه | D239: السويديه | E239: 1/2ك | F239: 31.51 | G239: 0 | I239: معجون | J239: 31.51 | K239: 0 | L239: 48 | M239: 30.25 | N239: المخزن الرئيسي | O239: 44563 | P239: عام | Q239: 0 | R239: 0 | S239: 0 | T239: 0 | U239: 0 | V239: 622 | W239: 0
A240: 241 | B240: 623 | C240: يد روله كشري معدل السوديه | D240: السويديه | E240: عام | F240: 3 | G240: 0 | I240: روله | J240: 3 | K240: 0 | L240: 13 | M240: 2.65 | N240: المخزن الرئيسي | O240: عام | P240: عام | Q240: 0 | R240: 0 | S240: 0 | T240: 0 | U240: 0 | V240: 623 | W240: 0
A241: 242 | B241: 626 | C241: جالون برايمر المانيه احمر | D241: الألمانية GLC | E241: جالون | F241: 130.74 | G241: 0 | I241: عام | J241: 0 | K241: 0 | L241: 54 | M241: 110.2 | N241: المخزن الرئيسي | O241: عام | P241: عام | Q241: 0 | R241: 0 | S241: 0 | T241: 0 | U241: 0 | V241: 626 | W241: 0
A242: 243 | B242: 627 | C242: جالون برايمر المانيه رصاصي | D242: الألمانية GLC | E242: جالون | F242: 130.74 | G242: 0 | I242: عام | J242: 0 | K242: 0 | L242: 24 | M242: 110.2 | N242: المخزن الرئيسي | O242: عام | P242: عام | Q242: 0 | R242: 0 | S242: 0 | T242: 0 | U242: 0 | V242: 627 | W242: 0
A243: 244 | B243: 628 | C243: جالون برايمر المانيه اسود | D243: الألمانية GLC | E243: جالون | F243: 130.74 | G243: 0 | I243: عام | J243: 0 | K243: 0 | L243: 8 | M243: 122.32 | N243: المخزن الرئيسي | O243: عام | P243: عام | Q243: 0 | R243: 0 | S243: 0 | T243: 0 | U243: 0 | V243: 628 | W243: 0
A244: 245 | B244: 630 | C244: لتر تنر فرن كابسي 600 | D244: كابسي | E244: لتر | F244: 58.88 | G244: 0 | I244: تنر | J244: 57.73 | K244: 0 | L244: 0 | M244: 56.65 | N244: المخزن الرئيسي | O244: 44569 | P244: عام | Q244: 0 | R244: 0 | S244: 0 | T244: 0 | U244: 0 | V244: 630 | W244: 0
A245: 246 | B245: 632 | C245: فرخ صنفره لصق 5 بوصه 60 | D245: عام | E245: عام | F245: 1.55 | G245: 0 | I245: عام | J245: 0 | K245: 0 | L245: 400 | M245: 1 | N245: المخزن الرئيسي | O245: عام | P245: عام | Q245: 0 | R245: 0 | S245: 0 | T245: 0 | U245: 0 | V245: 632 | W245: 0
A246: 247 | B246: 633 | C246: جالون تنر فرن كابسي 600 | D246: كابسي | E246: جالون | F246: 278.1234 | G246: 0 | I246: تنر | J246: 272.67 | K246: 0 | L246: 0 | M246: 267.57 | N246: المخزن الرئيسي | O246: جالون | P246: عام | Q246: 0 | R246: 0 | S246: 0 | T246: 0 | U246: 0 | V246: 633 | W246: 0
A247: 248 | B247: 634 | C247: 1/2 تنر فرن كابسي 600 | D247: كابسي | E247: كرتونه | F247: 35.4246 | G247: 0 | I247: تنر | J247: 34.73 | K247: 0 | L247: 0 | M247: 34.08 | N247: المخزن الرئيسي | O247: ×1/2 | P247: عام | Q247: 0 | R247: 0 | S247: 0 | T247: 0 | U247: 0 | V247: 634 | W247: 0
A248: 249 | B248: 635 | C248: كرتونه برايمر المانيه احمر | D248: الألمانية GLC | E248: كرتونه | F248: 206.45 | G248: 0 | I248: عام | J248: 0 | K248: 0 | L248: 11 | M248: 174 | N248: المخزن الرئيسي | O248: عام | P248: عام | Q248: 0 | R248: 0 | S248: 0 | T248: 0 | U248: 0 | V248: 635 | W248: 0
...
