{"text_format":"1","workbook":"xlsx","n_sheets":5,"sheets":["المدخلات","الفاتورة","Sheet1","01090895467","01090895624"],"not_rendered":{"charts":0,"images":0,"macros":1,"external_links":0,"defined_names":4,"comments":0,"pivot_tables":0},"unopened":[],"bounds":{"document_bytes":16777216,"sheet_cells":100000,"rows_first":2000,"rows_last":500,"rows_between":2000,"halvings":0,"cell_chars":16384,"cell_head_chars":4096},"cells_cut":0,"cells_raw":0,"read":"whole","date_system":"1900"}

{"sheet":"المدخلات","index":0,"n_rows":108,"n_cols":28,"rows_kept":108,"cut":false,"hidden":false,"merged":[[6,7,12,12],[20,0,20,4]]}
[null,null,null,null,null,null,null,null,null,null,null,null,null,null,null,null,null,null,null,null,null,null,null,null,null,null,"الصنف","السعر"]
[null,"اسم العميل/","محمود عبد الفتاح",null,null,null,null,null,null,null,null,null,null,null,null,null,null,null,null,null,null,null,null,null,null,null,"همر",120]
[null,"رقم الموبايل/","01090895624",null,null,null,null,null,null,null,null,null,null,null,null,null,null,null,null,null,null,null,null,null,null,null,"جلد مقلوب",130]
[null,"التاريخ/",{"$f":"TODAY()","v":"2022-09-08"},null,null,null,null,null,null,null,null,null,null,null,null,null,null,null,null,null,null,null,null,null,null,null,"قطيفة",138]
["م","الصنف","سعر المتر","عدد المتر","الخصم","الاجمالي",null,null,null,null,null,null,null,null,null,null,null,null,null,null,null,null,null,"م","سعر المتر","الاجمالي","ذهبي",150]
[{"$f":"IF(B6>0,X6,\"\")","v":1},"ذهبي",{"$f":"IF(B6>0,Y6,\"\")","v":150},20,50,{"$f":"IF(B6>0,Z6,\"\")","v":2950},null,null,null,null,null,null,null,null,null,null,null,null,null,null,null,null,null,1,{"$f":"VLOOKUP(B6,$AA$2:$AB$5,2,0)","v":150},{"$f":"C6*D6-E6","v":2950}]
[{"$f":"IF(B7>0,X7,\"\")","v":2},"جلد مقلوب",{"$f":"IF(B7>0,Y7,\"\")","v":130},10,20,{"$f":"IF(B7>0,Z7,\"\")","v":1280},null,"افتكر اطبع الفاتورة وحط مسح البيانات للزبون اللي بعده",null,null,null,null,null,null,null,null,null,null,null,null,null,null,null,2,{"$f":"VLOOKUP(B7,$AA$2:$AB$5,2,0)","v":130},{"$f":"C7*D7-E7","v":1280}]
[3,"قطيفة",{"$f":"IF(B8>0,Y8,\"\")","v":138},30,100,{"$f":"IF(B8>0,Z8,\"\")","v":4040},null,null,null,null,null,null,null,null,null,null,null,null,null,null,null,null,null,3,138,4040]
[4,"ذهبي",150,50,200,7300,null,null,null,null,null,null,null,null,null,null,null,null,null,null,null,null,null,4,150,7300]
[5,null,"",null,null,"",null,null,null,null,null,null,null,null,null,null,null,null,null,null,null,null,null,5,{"$error":"#N/A"},{"$error":"#VALUE!"}]
[6,null,"",null,null,"",null,null,null,null,null,null,null,null,null,null,null,null,null,null,null,null,null,6,{"$f":"VLOOKUP(B11,$AA$2:$AB$5,2,0)","v":{"$error":"#N/A"}},{"$f":"C11*D11-E11","v":{"$error":"#VALUE!"}}]
[7,null,"",null,null,"",null,null,null,null,null,null,null,null,null,null,null,null,null,null,null,null,null,7,{"$error":"#N/A"},{"$error":"#VALUE!"}]
[8,null,"",null,null,"",null,null,null,null,null,null,null,null,null,null,null,null,null,null,null,null,null,8,{"$error":"#N/A"},{"$error":"#VALUE!"}]
[9,null,"",null,null,"",null,null,null,null,null,null,null,null,null,null,null,null,null,null,null,null,null,9,{"$error":"#N/A"},{"$error":"#VALUE!"}]
[10,null,"",null,null,"",null,null,null,null,null,null,null,null,null,null,null,null,null,null,null,null,null,10,{"$error":"#N/A"},{"$error":"#VALUE!"}]
[11,null,"",null,null,null,null,null,null,null,null,null,null,null,null,null,null,null,null,null,null,null,null,null,{"$error":"#N/A"},{"$error":"#VALUE!"}]
[12,null,"",null,null,null,null,null,null,null,null,null,null,null,null,null,null,null,null,null,null,null,null,null,{"$error":"#N/A"},{"$error":"#VALUE!"}]
[13,null,"",null,null,null,null,null,null,null,null,null,null,null,null,null,null,null,null,null,null,null,null,null,{"$error":"#N/A"},{"$error":"#VALUE!"}]
[14,null,"",null,null,null,null,null,null,null,null,null,null,null,null,null,null,null,null,null,null,null,null,null,{"$error":"#N/A"},{"$error":"#VALUE!"}]
[15,null,null,null,null,null,null,null,null,null,null,null,null,null,null,null,null,null,null,null,null,null,null,null,{"$error":"#N/A"},0]
["الاجمالي",null,null,null,null,{"$f":"SUM(F6:F15)","v":15570},null,null,null,null,null,null,null,null,null,null,null,null,null,null,null,null,null,11,{"$error":"#N/A"},0]
[null,null,null,null,null,null,null,null,null,null,null,null,null,null,null,null,null,null,null,null,null,null,null,12,{"$error":"#N/A"},0]
[null,null,null,null,null,null,null,null,null,null,null,null,null,null,null,null,null,null,null,null,null,null,null,13,{"$error":"#N/A"},0]
[null,null,null,null,null,null,null,null,null,null,null,null,null,null,null,null,null,null,null,null,null,null,null,14,{"$error":"#N/A"},0]
[null,null,null,null,null,null,null,null,null,null,null,null,null,null,null,null,null,null,null,null,null,null,null,15,{"$error":"#N/A"},0]
[null,null,null,null,null,null,null,null,null,null,null,null,null,null,null,null,null,null,null,null,null,null,null,16,{"$error":"#N/A"},0]
[null,null,null,null,null,null,null,null,null,null,null,null,null,null,null,null,null,null,null,null,null,null,null,17,{"$error":"#N/A"},0]
[null,null,null,null,null,null,null,null,null,null,null,null,null,null,null,null,null,null,null,null,null,null,null,18,{"$error":"#N/A"},0]
[null,null,null,null,null,null,null,null,null,null,null,null,null,null,null,null,null,null,null,null,null,null,null,19,{"$error":"#N/A"},0]
[null,null,null,null,null,null,null,null,null,null,null,null,null,null,null,null,null,null,null,null,null,null,null,20,{"$error":"#N/A"},0]
[null,null,null,null,null,null,null,null,null,null,null,null,null,null,null,null,null,null,null,null,null,null,null,21,{"$error":"#N/A"},0]
[null,null,null,null,null,null,null,null,null,null,null,null,null,null,null,null,null,null,null,null,null,null,null,22,{"$error":"#N/A"},0]
[null,null,null,null,null,null,null,null,null,null,null,null,null,null,null,null,null,null,null,null,null,null,null,23,{"$error":"#N/A"},0]
[null,null,null,null,null,null,null,null,null,null,null,null,null,null,null,null,null,null,null,null,null,null,null,24,{"$error":"#N/A"},0]
[null,null,null,null,null,null,null,null,null,null,null,null,null,null,null,null,null,null,null,null,null,null,null,25,{"$error":"#N/A"},0]
[null,null,null,null,null,null,null,null,null,null,null,null,null,null,null,null,null,null,null,null,null,null,null,26,{"$error":"#N/A"},0]
[null,null,null,null,null,null,null,null,null,null,null,null,null,null,null,null,null,null,null,null,null,null,null,27,{"$error":"#N/A"},0]
[null,null,null,null,null,null,null,null,null,null,null,null,null,null,null,null,null,null,null,null,null,null,null,28,{"$f":"VLOOKUP(B38,$AA$2:$AB$4,2,0)","v":{"$error":"#N/A"}},0]
[null,null,null,null,null,null,null,null,null,null,null,null,null,null,null,null,null,null,null,null,null,null,null,29,{"$error":"#N/A"},0]
[null,null,null,null,null,null,null,null,null,null,null,null,null,null,null,null,null,null,null,null,null,null,null,30,{"$error":"#N/A"},0]
[null,null,null,null,null,null,null,null,null,null,null,null,null,null,null,null,null,null,null,null,null,null,null,31,{"$error":"#N/A"},0]
[null,null,null,null,null,null,null,null,null,null,null,null,null,null,null,null,null,null,null,null,null,null,null,32,{"$error":"#N/A"},0]
[null,null,null,null,null,null,null,null,null,null,null,null,null,null,null,null,null,null,null,null,null,null,null,33,{"$error":"#N/A"},0]
[null,null,null,null,null,null,null,null,null,null,null,null,null,null,null,null,null,null,null,null,null,null,null,34,{"$error":"#N/A"},0]
[null,null,null,null,null,null,null,null,null,null,null,null,null,null,null,null,null,null,null,null,null,null,null,35,{"$error":"#N/A"},0]
[null,null,null,null,null,null,null,null,null,null,null,null,null,null,null,null,null,null,null,null,null,null,null,36,{"$error":"#N/A"},0]
[null,null,null,null,null,null,null,null,null,null,null,null,null,null,null,null,null,null,null,null,null,null,null,37,{"$error":"#N/A"},0]
[null,null,null,null,null,null,null,null,null,null,null,null,null,null,null,null,null,null,null,null,null,null,null,38,{"$error":"#N/A"},0]
[null,null,null,null,null,null,null,null,null,null,null,null,null,null,null,null,null,null,null,null,null,null,null,39,{"$error":"#N/A"},0]
[null,null,null,null,null,null,null,null,null,null,null,null,null,null,null,null,null,null,null,null,null,null,null,40,{"$error":"#N/A"},0]
[null,null,null,null,null,null,null,null,null,null,null,null,null,null,null,null,null,null,null,null,null,null,null,41,{"$error":"#N/A"},0]
[null,null,null,null,null,null,null,null,null,null,null,null,null,null,null,null,null,null,null,null,null,null,null,42,{"$error":"#N/A"},0]
[null,null,null,null,null,null,null,null,null,null,null,null,null,null,null,null,null,null,null,null,null,null,null,43,{"$error":"#N/A"},0]
[null,null,null,null,null,null,null,null,null,null,null,null,null,null,null,null,null,null,null,null,null,null,null,44,{"$error":"#N/A"},0]
[null,null,null,null,null,null,null,null,null,null,null,null,null,null,null,null,null,null,null,null,null,null,null,45,{"$error":"#N/A"},0]
[null,null,null,null,null,null,null,null,null,null,null,null,null,null,null,null,null,null,null,null,null,null,null,46,{"$error":"#N/A"},0]
[null,null,null,null,null,null,null,null,null,null,null,null,null,null,null,null,null,null,null,null,null,null,null,47,{"$error":"#N/A"},0]
[null,null,null,null,null,null,null,null,null,null,null,null,null,null,null,null,null,null,null,null,null,null,null,48,{"$error":"#N/A"},0]
[null,null,null,null,null,null,null,null,null,null,null,null,null,null,null,null,null,null,null,null,null,null,null,49,{"$error":"#N/A"},0]
[null,null,null,null,null,null,null,null,null,null,null,null,null,null,null,null,null,null,null,null,null,null,null,50,{"$error":"#N/A"},0]
[null,null,null,null,null,null,null,null,null,null,null,null,null,null,null,null,null,null,null,null,null,null,null,51,{"$error":"#N/A"},0]
[null,null,null,null,null,null,null,null,null,null,null,null,null,null,null,null,null,null,null,null,null,null,null,52,{"$error":"#N/A"},0]
[null,null,null,null,null,null,null,null,null,null,null,null,null,null,null,null,null,null,null,null,null,null,null,53,{"$error":"#N/A"},0]
[null,null,null,null,null,null,null,null,null,null,null,null,null,null,null,null,null,null,null,null,null,null,null,54,{"$error":"#N/A"},0]
[null,null,null,null,null,null,null,null,null,null,null,null,null,null,null,null,null,null,null,null,null,null,null,55,{"$error":"#N/A"},0]
[null,null,null,null,null,null,null,null,null,null,null,null,null,null,null,null,null,null,null,null,null,null,null,56,{"$error":"#N/A"},0]
[null,null,null,null,null,null,null,null,null,null,null,null,null,null,null,null,null,null,null,null,null,null,null,57,{"$error":"#N/A"},0]
[null,null,null,null,null,null,null,null,null,null,null,null,null,null,null,null,null,null,null,null,null,null,null,58,{"$error":"#N/A"},0]
[null,null,null,null,null,null,null,null,null,null,null,null,null,null,null,null,null,null,null,null,null,null,null,59,{"$error":"#N/A"},0]
[null,null,null,null,null,null,null,null,null,null,null,null,null,null,null,null,null,null,null,null,null,null,null,60,{"$error":"#N/A"},0]
[null,null,null,null,null,null,null,null,null,null,null,null,null,null,null,null,null,null,null,null,null,null,null,61,{"$error":"#N/A"},0]
[null,null,null,null,null,null,null,null,null,null,null,null,null,null,null,null,null,null,null,null,null,null,null,62,{"$error":"#N/A"},0]
[null,null,null,null,null,null,null,null,null,null,null,null,null,null,null,null,null,null,null,null,null,null,null,63,{"$error":"#N/A"},0]
[null,null,null,null,null,null,null,null,null,null,null,null,null,null,null,null,null,null,null,null,null,null,null,64,{"$error":"#N/A"},0]
[null,null,null,null,null,null,null,null,null,null,null,null,null,null,null,null,null,null,null,null,null,null,null,65,{"$error":"#N/A"},0]
[null,null,null,null,null,null,null,null,null,null,null,null,null,null,null,null,null,null,null,null,null,null,null,66,{"$f":"VLOOKUP(B76,$AA$2:$AB$4,2,0)","v":{"$error":"#N/A"}},{"$f":"C76*D76-E76","v":0}]
[null,null,null,null,null,null,null,null,null,null,null,null,null,null,null,null,null,null,null,null,null,null,null,67,{"$error":"#N/A"},0]
[null,null,null,null,null,null,null,null,null,null,null,null,null,null,null,null,null,null,null,null,null,null,null,68,{"$error":"#N/A"},0]
[null,null,null,null,null,null,null,null,null,null,null,null,null,null,null,null,null,null,null,null,null,null,null,69,{"$error":"#N/A"},0]
[null,null,null,null,null,null,null,null,null,null,null,null,null,null,null,null,null,null,null,null,null,null,null,70,{"$error":"#N/A"},0]
[null,null,null,null,null,null,null,null,null,null,null,null,null,null,null,null,null,null,null,null,null,null,null,71,{"$error":"#N/A"},0]
[null,null,null,null,null,null,null,null,null,null,null,null,null,null,null,null,null,null,null,null,null,null,null,72,{"$error":"#N/A"},0]
[null,null,null,null,null,null,null,null,null,null,null,null,null,null,null,null,null,null,null,null,null,null,null,73,{"$error":"#N/A"},0]
[null,null,null,null,null,null,null,null,null,null,null,null,null,null,null,null,null,null,null,null,null,null,null,74,{"$error":"#N/A"},0]
[null,null,null,null,null,null,null,null,null,null,null,null,null,null,null,null,null,null,null,null,null,null,null,75,{"$error":"#N/A"},0]
[null,null,null,null,null,null,null,null,null,null,null,null,null,null,null,null,null,null,null,null,null,null,null,76,{"$error":"#N/A"},0]
[null,null,null,null,null,null,null,null,null,null,null,null,null,null,null,null,null,null,null,null,null,null,null,77,{"$error":"#N/A"},0]
[null,null,null,null,null,null,null,null,null,null,null,null,null,null,null,null,null,null,null,null,null,null,null,78,{"$error":"#N/A"},0]
[null,null,null,null,null,null,null,null,null,null,null,null,null,null,null,null,null,null,null,null,null,null,null,79,{"$error":"#N/A"},0]
[null,null,null,null,null,null,null,null,null,null,null,null,null,null,null,null,null,null,null,null,null,null,null,80,{"$error":"#N/A"},0]
[null,null,null,null,null,null,null,null,null,null,null,null,null,null,null,null,null,null,null,null,null,null,null,81,{"$error":"#N/A"},0]
[null,null,null,null,null,null,null,null,null,null,null,null,null,null,null,null,null,null,null,null,null,null,null,82,{"$error":"#N/A"},0]
[null,null,null,null,null,null,null,null,null,null,null,null,null,null,null,null,null,null,null,null,null,null,null,83,{"$error":"#N/A"},0]
[null,null,null,null,null,null,null,null,null,null,null,null,null,null,null,null,null,null,null,null,null,null,null,84,{"$error":"#N/A"},0]
[null,null,null,null,null,null,null,null,null,null,null,null,null,null,null,null,null,null,null,null,null,null,null,85,{"$error":"#N/A"},0]
[null,null,null,null,null,null,null,null,null,null,null,null,null,null,null,null,null,null,null,null,null,null,null,86,{"$error":"#N/A"},0]
[null,null,null,null,null,null,null,null,null,null,null,null,null,null,null,null,null,null,null,null,null,null,null,87,{"$error":"#N/A"},0]
[null,null,null,null,null,null,null,null,null,null,null,null,null,null,null,null,null,null,null,null,null,null,null,88,{"$error":"#N/A"},0]
[null,null,null,null,null,null,null,null,null,null,null,null,null,null,null,null,null,null,null,null,null,null,null,89,{"$error":"#N/A"},0]
[null,null,null,null,null,null,null,null,null,null,null,null,null,null,null,null,null,null,null,null,null,null,null,90,{"$error":"#N/A"},0]
[null,null,null,null,null,null,null,null,null,null,null,null,null,null,null,null,null,null,null,null,null,null,null,91,{"$error":"#N/A"},0]
[null,null,null,null,null,null,null,null,null,null,null,null,null,null,null,null,null,null,null,null,null,null,null,92,{"$error":"#N/A"},0]
[null,null,null,null,null,null,null,null,null,null,null,null,null,null,null,null,null,null,null,null,null,null,null,93,{"$error":"#N/A"},0]
[null,null,null,null,null,null,null,null,null,null,null,null,null,null,null,null,null,null,null,null,null,null,null,94,{"$error":"#N/A"},0]
[null,null,null,null,null,null,null,null,null,null,null,null,null,null,null,null,null,null,null,null,null,null,null,95,{"$error":"#N/A"},0]
[null,null,null,null,null,null,null,null,null,null,null,null,null,null,null,null,null,null,null,null,null,null,null,96,{"$error":"#N/A"},0]
[null,null,null,null,null,null,null,null,null,null,null,null,null,null,null,null,null,null,null,null,null,null,null,97,{"$error":"#N/A"},0]
[null,null,null,null,null,null,null,null,null,null,null,null,null,null,null,null,null,null,null,null,null,null,null,98,{"$error":"#N/A"},0]

{"sheet":"الفاتورة","index":1,"n_rows":24,"n_cols":28,"rows_kept":24,"cut":false,"hidden":false,"merged":[[23,0,23,4],[0,0,0,5],[2,0,2,1],[3,0,3,1],[4,0,4,1],[21,0,21,4],[22,0,22,4]]}
["محلات اقمشة النادي",null,null,null,null,null,null,null,null,null,null,null,null,null,null,null,null,null,null,null,null,null,null,null,null,null,"الصنف","السعر"]
[null,null,null,null,null,null,null,null,null,null,null,null,null,null,null,null,null,null,null,null,null,null,null,null,null,null,"همر",120]
["فاتورة شراء للعميل /",null,null,null,null,null,null,null,null,null,null,null,null,null,null,null,null,null,null,null,null,null,null,null,null,null,"جلد مقلوب",130]
["رقم الموبايل/",null,null,null,null,null,null,null,null,null,null,null,null,null,null,null,null,null,null,null,null,null,null,null,null,null,"قطيفة",138]
["التاريخ/",null,null,null,null,null,null,null,null,null,null,null,null,null,null,null,null,null,null,null,null,null,null,"م","سعر المتر","الاجمالي"]
["م","الصنف","سعر المتر","عدد الامتار","الخصم","الاجمالي",null,null,null,null,null,null,null,null,null,null,null,null,null,null,null,null,null,1,{"$f":"VLOOKUP(B6,$AA$2:$AB$4,2,0)","v":{"$error":"#N/A"}},{"$f":"C6*D6-E6","v":{"$error":"#VALUE!"}}]
[{"$f":"IF(B7>0,X7,\"\")","v":1},{"$f":"IF(المدخلات!B6>0,المدخلات!B6,\"\")","v":"ذهبي"},{"$f":"IF(المدخلات!C6>0,المدخلات!C6,\"\")","v":150},{"$f":"IF(المدخلات!D6>0,المدخلات!D6,\"\")","v":20},{"$f":"IF(المدخلات!E6>0,المدخلات!E6,\"\")","v":50},{"$f":"IF(المدخلات!F6>0,المدخلات!F6,\"\")","v":2950},null,null,null,null,null,null,null,null,null,null,null,null,null,null,null,null,null,1,{"$f":"VLOOKUP(B7,$AA$2:$AB$4,2,0)","v":{"$error":"#N/A"}},{"$f":"C7*D7-E7","v":2950}]
[2,{"$f":"IF(المدخلات!B7>0,المدخلات!B7,\"\")","v":"جلد مقلوب"},{"$f":"IF(المدخلات!C7>0,المدخلات!C7,\"\")","v":130},{"$f":"IF(المدخلات!D7>0,المدخلات!D7,\"\")","v":10},{"$f":"IF(المدخلات!E7>0,المدخلات!E7,\"\")","v":20},{"$f":"IF(المدخلات!F7>0,المدخلات!F7,\"\")","v":1280}]
[3,{"$f":"IF(المدخلات!B8>0,المدخلات!B8,\"\")","v":"قطيفة"},{"$f":"IF(المدخلات!C8>0,المدخلات!C8,\"\")","v":138},{"$f":"IF(المدخلات!D8>0,المدخلات!D8,\"\")","v":30},{"$f":"IF(المدخلات!E8>0,المدخلات!E8,\"\")","v":100},{"$f":"IF(المدخلات!F8>0,المدخلات!F8,\"\")","v":4040}]
[4,{"$f":"IF(المدخلات!B9>0,المدخلات!B9,\"\")","v":"ذهبي"},{"$f":"IF(المدخلات!C9>0,المدخلات!C9,\"\")","v":150},{"$f":"IF(المدخلات!D9>0,المدخلات!D9,\"\")","v":50},{"$f":"IF(المدخلات!E9>0,المدخلات!E9,\"\")","v":200},{"$f":"IF(المدخلات!F9>0,المدخلات!F9,\"\")","v":7300}]
[5,{"$f":"IF(المدخلات!B10>0,المدخلات!B10,\"\")","v":""},{"$f":"IF(المدخلات!C10>0,المدخلات!C10,\"\")","v":""},{"$f":"IF(المدخلات!D10>0,المدخلات!D10,\"\")","v":""},{"$f":"IF(المدخلات!E10>0,المدخلات!E10,\"\")","v":""},{"$f":"IF(المدخلات!F10>0,المدخلات!F10,\"\")","v":""}]
[6,{"$f":"IF(المدخلات!B11>0,المدخلات!B11,\"\")","v":""},{"$f":"IF(المدخلات!C11>0,المدخلات!C11,\"\")","v":""},{"$f":"IF(المدخلات!D11>0,المدخلات!D11,\"\")","v":""},{"$f":"IF(المدخلات!E11>0,المدخلات!E11,\"\")","v":""},{"$f":"IF(المدخلات!F11>0,المدخلات!F11,\"\")","v":""}]
[7,{"$f":"IF(المدخلات!B12>0,المدخلات!B12,\"\")","v":""},{"$f":"IF(المدخلات!C12>0,المدخلات!C12,\"\")","v":""},{"$f":"IF(المدخلات!D12>0,المدخلات!D12,\"\")","v":""},{"$f":"IF(المدخلات!E12>0,المدخلات!E12,\"\")","v":""},{"$f":"IF(المدخلات!F12>0,المدخلات!F12,\"\")","v":""}]
[8,{"$f":"IF(المدخلات!B13>0,المدخلات!B13,\"\")","v":""},{"$f":"IF(المدخلات!C13>0,المدخلات!C13,\"\")","v":""},{"$f":"IF(المدخلات!D13>0,المدخلات!D13,\"\")","v":""},{"$f":"IF(المدخلات!E13>0,المدخلات!E13,\"\")","v":""},{"$f":"IF(المدخلات!F13>0,المدخلات!F13,\"\")","v":""}]
[9,{"$f":"IF(المدخلات!B14>0,المدخلات!B14,\"\")","v":""},{"$f":"IF(المدخلات!C14>0,المدخلات!C14,\"\")","v":""},{"$f":"IF(المدخلات!D14>0,المدخلات!D14,\"\")","v":""},{"$f":"IF(المدخلات!E14>0,المدخلات!E14,\"\")","v":""},{"$f":"IF(المدخلات!F14>0,المدخلات!F14,\"\")","v":""}]
[10,{"$f":"IF(المدخلات!B15>0,المدخلات!B15,\"\")","v":""},{"$f":"IF(المدخلات!C15>0,المدخلات!C15,\"\")","v":""},{"$f":"IF(المدخلات!D15>0,المدخلات!D15,\"\")","v":""},{"$f":"IF(المدخلات!E15>0,المدخلات!E15,\"\")","v":""},{"$f":"IF(المدخلات!F15>0,المدخلات!F15,\"\")","v":""}]
[11,{"$f":"IF(المدخلات!B16>0,المدخلات!B16,\"\")","v":""},{"$f":"IF(المدخلات!C16>0,المدخلات!C16,\"\")","v":""},{"$f":"IF(المدخلات!D16>0,المدخلات!D16,\"\")","v":""},{"$f":"IF(المدخلات!E16>0,المدخلات!E16,\"\")","v":""},{"$f":"IF(المدخلات!F16>0,المدخلات!F16,\"\")","v":""}]
[12,{"$f":"IF(المدخلات!B17>0,المدخلات!B17,\"\")","v":""},{"$f":"IF(المدخلات!C17>0,المدخلات!C17,\"\")","v":""},{"$f":"IF(المدخلات!D17>0,المدخلات!D17,\"\")","v":""},{"$f":"IF(المدخلات!E17>0,المدخلات!E17,\"\")","v":""},{"$f":"IF(المدخلات!F17>0,المدخلات!F17,\"\")","v":""}]
[13,{"$f":"IF(المدخلات!B18>0,المدخلات!B18,\"\")","v":""},{"$f":"IF(المدخلات!C18>0,المدخلات!C18,\"\")","v":""},{"$f":"IF(المدخلات!D18>0,المدخلات!D18,\"\")","v":""},{"$f":"IF(المدخلات!E18>0,المدخلات!E18,\"\")","v":""},{"$f":"IF(المدخلات!F18>0,المدخلات!F18,\"\")","v":""}]
[14,{"$f":"IF(المدخلات!B19>0,المدخلات!B19,\"\")","v":""},{"$f":"IF(المدخلات!C19>0,المدخلات!C19,\"\")","v":""},{"$f":"IF(المدخلات!D19>0,المدخلات!D19,\"\")","v":""},{"$f":"IF(المدخلات!E19>0,المدخلات!E19,\"\")","v":""},{"$f":"IF(المدخلات!F19>0,المدخلات!F19,\"\")","v":""}]
[15,{"$f":"IF(المدخلات!B20>0,المدخلات!B20,\"\")","v":""},{"$f":"IF(المدخلات!C20>0,المدخلات!C20,\"\")","v":""},{"$f":"IF(المدخلات!D20>0,المدخلات!D20,\"\")","v":""},{"$f":"IF(المدخلات!E20>0,المدخلات!E20,\"\")","v":""},{"$f":"IF(المدخلات!F20>0,المدخلات!F20,\"\")","v":""}]
["الاجمــــــــــالـــــــــــــــــــــي",null,null,null,null,{"$f":"SUM(F7:F16)+SUM(E7:E16)","v":15940}]
["الخصــــــــــــــــــــــــــــــــــم",null,null,null,null,{"$f":"SUM(E7:E16)","v":370}]
["الاجمالي بعد الخصــــــــــــــــم",null,null,null,null,{"$f":"F22-F23","v":15570}]

{"sheet":"Sheet1","index":2,"n_rows":387,"n_cols":7,"rows_kept":387,"cut":false,"hidden":false,"merged":[]}
[]
[null,"اسم العميل /",{"$f":"المدخلات!C2","v":"محمود عبد الفتاح"}]
[null,"رقم الهاتف /",{"$f":"المدخلات!C3","v":"01090895624"}]
[null,"التاريخ /",{"$f":"المدخلات!C4","v":"2022-09-08"}]
[]
[]
["م","الصنف","سعر المتر","عدد المتر","الخصم","الاجمالي","التاريخ"]
[1,{"$f":"IF(المدخلات!B6>0,المدخلات!B6,\"\")","v":"ذهبي"},{"$f":"IF(المدخلات!C6>0,المدخلات!C6,\"\")","v":150},{"$f":"IF(المدخلات!D6>0,المدخلات!D6,\"\")","v":20},{"$f":"IF(المدخلات!E6>0,المدخلات!E6,\"\")","v":50},{"$f":"IF(المدخلات!F6>0,المدخلات!F6,\"\")","v":2950},{"$f":"IF(المدخلات!B6>0,المدخلات!$C$4,\"\")","v":"2022-09-08"}]
[2,{"$f":"IF(المدخلات!B7>0,المدخلات!B7,\"\")","v":"جلد مقلوب"},{"$f":"IF(المدخلات!C7>0,المدخلات!C7,\"\")","v":130},{"$f":"IF(المدخلات!D7>0,المدخلات!D7,\"\")","v":10},{"$f":"IF(المدخلات!E7>0,المدخلات!E7,\"\")","v":20},{"$f":"IF(المدخلات!F7>0,المدخلات!F7,\"\")","v":1280},{"$f":"IF(المدخلات!B7>0,المدخلات!$C$4,\"\")","v":"2022-09-08"}]
[3,{"$f":"IF(المدخلات!B8>0,المدخلات!B8,\"\")","v":"قطيفة"},{"$f":"IF(المدخلات!C8>0,المدخلات!C8,\"\")","v":138},{"$f":"IF(المدخلات!D8>0,المدخلات!D8,\"\")","v":30},{"$f":"IF(المدخلات!E8>0,المدخلات!E8,\"\")","v":100},{"$f":"IF(المدخلات!F8>0,المدخلات!F8,\"\")","v":4040},{"$f":"IF(المدخلات!B8>0,المدخلات!$C$4,\"\")","v":"2022-09-08"}]
[4,{"$f":"IF(المدخلات!B9>0,المدخلات!B9,\"\")","v":"ذهبي"},{"$f":"IF(المدخلات!C9>0,المدخلات!C9,\"\")","v":150},{"$f":"IF(المدخلات!D9>0,المدخلات!D9,\"\")","v":50},{"$f":"IF(المدخلات!E9>0,المدخلات!E9,\"\")","v":200},{"$f":"IF(المدخلات!F9>0,المدخلات!F9,\"\")","v":7300},{"$f":"IF(المدخلات!B9>0,المدخلات!$C$4,\"\")","v":"2022-09-08"}]
[5,{"$f":"IF(المدخلات!B10>0,المدخلات!B10,\"\")","v":""},{"$f":"IF(المدخلات!C10>0,المدخلات!C10,\"\")","v":""},{"$f":"IF(المدخلات!D10>0,المدخلات!D10,\"\")","v":""},{"$f":"IF(المدخلات!E10>0,المدخلات!E10,\"\")","v":""},{"$f":"IF(المدخلات!F10>0,المدخلات!F10,\"\")","v":""},{"$f":"IF(المدخلات!B10>0,المدخلات!$C$4,\"\")","v":""}]
[6,{"$f":"IF(المدخلات!B11>0,المدخلات!B11,\"\")","v":""},{"$f":"IF(المدخلات!C11>0,المدخلات!C11,\"\")","v":""},{"$f":"IF(المدخلات!D11>0,المدخلات!D11,\"\")","v":""},{"$f":"IF(المدخلات!E11>0,المدخلات!E11,\"\")","v":""},{"$f":"IF(المدخلات!F11>0,المدخلات!F11,\"\")","v":""},{"$f":"IF(المدخلات!B11>0,المدخلات!$C$4,\"\")","v":""}]
[7,{"$f":"IF(المدخلات!B12>0,المدخلات!B12,\"\")","v":""},{"$f":"IF(المدخلات!C12>0,المدخلات!C12,\"\")","v":""},{"$f":"IF(المدخلات!D12>0,المدخلات!D12,\"\")","v":""},{"$f":"IF(المدخلات!E12>0,المدخلات!E12,\"\")","v":""},{"$f":"IF(المدخلات!F12>0,المدخلات!F12,\"\")","v":""},{"$f":"IF(المدخلات!B12>0,المدخلات!$C$4,\"\")","v":""}]
[8,{"$f":"IF(المدخلات!B13>0,المدخلات!B13,\"\")","v":""},{"$f":"IF(المدخلات!C13>0,المدخلات!C13,\"\")","v":""},{"$f":"IF(المدخلات!D13>0,المدخلات!D13,\"\")","v":""},{"$f":"IF(المدخلات!E13>0,المدخلات!E13,\"\")","v":""},{"$f":"IF(المدخلات!F13>0,المدخلات!F13,\"\")","v":""},{"$f":"IF(المدخلات!B13>0,المدخلات!$C$4,\"\")","v":""}]
[9,{"$f":"IF(المدخلات!B14>0,المدخلات!B14,\"\")","v":""},{"$f":"IF(المدخلات!C14>0,المدخلات!C14,\"\")","v":""},{"$f":"IF(المدخلات!D14>0,المدخلات!D14,\"\")","v":""},{"$f":"IF(المدخلات!E14>0,المدخلات!E14,\"\")","v":""},{"$f":"IF(المدخلات!F14>0,المدخلات!F14,\"\")","v":""},{"$f":"IF(المدخلات!B14>0,المدخلات!$C$4,\"\")","v":""}]
[10,{"$f":"IF(المدخلات!B15>0,المدخلات!B15,\"\")","v":""},{"$f":"IF(المدخلات!C15>0,المدخلات!C15,\"\")","v":""},{"$f":"IF(المدخلات!D15>0,المدخلات!D15,\"\")","v":""},{"$f":"IF(المدخلات!E15>0,المدخلات!E15,\"\")","v":""},{"$f":"IF(المدخلات!F15>0,المدخلات!F15,\"\")","v":""},{"$f":"IF(المدخلات!B15>0,المدخلات!$C$4,\"\")","v":""}]
[11,{"$f":"IF(المدخلات!B16>0,المدخلات!B16,\"\")","v":""},{"$f":"IF(المدخلات!C16>0,المدخلات!C16,\"\")","v":""},{"$f":"IF(المدخلات!D16>0,المدخلات!D16,\"\")","v":""},{"$f":"IF(المدخلات!E16>0,المدخلات!E16,\"\")","v":""},{"$f":"IF(المدخلات!F16>0,المدخلات!F16,\"\")","v":""},{"$f":"IF(المدخلات!B16>0,المدخلات!$C$4,\"\")","v":""}]
[12,{"$f":"IF(المدخلات!B17>0,المدخلات!B17,\"\")","v":""},{"$f":"IF(المدخلات!C17>0,المدخلات!C17,\"\")","v":""},{"$f":"IF(المدخلات!D17>0,المدخلات!D17,\"\")","v":""},{"$f":"IF(المدخلات!E17>0,المدخلات!E17,\"\")","v":""},{"$f":"IF(المدخلات!F17>0,المدخلات!F17,\"\")","v":""},{"$f":"IF(المدخلات!B17>0,المدخلات!$C$4,\"\")","v":""}]
[13,{"$f":"IF(المدخلات!B18>0,المدخلات!B18,\"\")","v":""},{"$f":"IF(المدخلات!C18>0,المدخلات!C18,\"\")","v":""},{"$f":"IF(المدخلات!D18>0,المدخلات!D18,\"\")","v":""},{"$f":"IF(المدخلات!E18>0,المدخلات!E18,\"\")","v":""},{"$f":"IF(المدخلات!F18>0,المدخلات!F18,\"\")","v":""},{"$f":"IF(المدخلات!B18>0,المدخلات!$C$4,\"\")","v":""}]
[14,{"$f":"IF(المدخلات!B19>0,المدخلات!B19,\"\")","v":""},{"$f":"IF(المدخلات!C19>0,المدخلات!C19,\"\")","v":""},{"$f":"IF(المدخلات!D19>0,المدخلات!D19,\"\")","v":""},{"$f":"IF(المدخلات!E19>0,المدخلات!E19,\"\")","v":""},{"$f":"IF(المدخلات!F19>0,المدخلات!F19,\"\")","v":""},{"$f":"IF(المدخلات!B19>0,المدخلات!$C$4,\"\")","v":""}]
[15,{"$f":"IF(المدخلات!B20>0,المدخلات!B20,\"\")","v":""},{"$f":"IF(المدخلات!C20>0,المدخلات!C20,\"\")","v":""},{"$f":"IF(المدخلات!D20>0,المدخلات!D20,\"\")","v":""},{"$f":"IF(المدخلات!E20>0,المدخلات!E20,\"\")","v":""},{"$f":"IF(المدخلات!F20>0,المدخلات!F20,\"\")","v":""},{"$f":"IF(المدخلات!B20>0,المدخلات!$C$4,\"\")","v":""}]
[16,{"$f":"IF(المدخلات!B21>0,المدخلات!B21,\"\")","v":""},{"$f":"IF(المدخلات!C21>0,المدخلات!C21,\"\")","v":""},{"$f":"IF(المدخلات!D21>0,المدخلات!D21,\"\")","v":""},{"$f":"IF(المدخلات!E21>0,المدخلات!E21,\"\")","v":""},null,{"$f":"IF(المدخلات!B21>0,المدخلات!$C$4,\"\")","v":""}]
[17,{"$f":"IF(المدخلات!B22>0,المدخلات!B22,\"\")","v":""},{"$f":"IF(المدخلات!C22>0,المدخلات!C22,\"\")","v":""},{"$f":"IF(المدخلات!D22>0,المدخلات!D22,\"\")","v":""},{"$f":"IF(المدخلات!E22>0,المدخلات!E22,\"\")","v":""},{"$f":"IF(المدخلات!F22>0,المدخلات!F22,\"\")","v":""},{"$f":"IF(المدخلات!B22>0,المدخلات!$C$4,\"\")","v":""}]
[18,{"$f":"IF(المدخلات!B23>0,المدخلات!B23,\"\")","v":""},{"$f":"IF(المدخلات!C23>0,المدخلات!C23,\"\")","v":""},{"$f":"IF(المدخلات!D23>0,المدخلات!D23,\"\")","v":""},{"$f":"IF(المدخلات!E23>0,المدخلات!E23,\"\")","v":""},{"$f":"IF(المدخلات!F23>0,المدخلات!F23,\"\")","v":""},{"$f":"IF(المدخلات!B23>0,المدخلات!$C$4,\"\")","v":""}]
[19,{"$f":"IF(المدخلات!B24>0,المدخلات!B24,\"\")","v":""},{"$f":"IF(المدخلات!C24>0,المدخلات!C24,\"\")","v":""},{"$f":"IF(المدخلات!D24>0,المدخلات!D24,\"\")","v":""},{"$f":"IF(المدخلات!E24>0,المدخلات!E24,\"\")","v":""},{"$f":"IF(المدخلات!F24>0,المدخلات!F24,\"\")","v":""},{"$f":"IF(المدخلات!B24>0,المدخلات!$C$4,\"\")","v":""}]
[20,{"$f":"IF(المدخلات!B25>0,المدخلات!B25,\"\")","v":""},{"$f":"IF(المدخلات!C25>0,المدخلات!C25,\"\")","v":""},{"$f":"IF(المدخلات!D25>0,المدخلات!D25,\"\")","v":""},{"$f":"IF(المدخلات!E25>0,المدخلات!E25,\"\")","v":""},{"$f":"IF(المدخلات!F25>0,المدخلات!F25,\"\")","v":""},{"$f":"IF(المدخلات!B25>0,المدخلات!$C$4,\"\")","v":""}]
[21,{"$f":"IF(المدخلات!B26>0,المدخلات!B26,\"\")","v":""},{"$f":"IF(المدخلات!C26>0,المدخلات!C26,\"\")","v":""},{"$f":"IF(المدخلات!D26>0,المدخلات!D26,\"\")","v":""},{"$f":"IF(المدخلات!E26>0,المدخلات!E26,\"\")","v":""},{"$f":"IF(المدخلات!F26>0,المدخلات!F26,\"\")","v":""},{"$f":"IF(المدخلات!B26>0,المدخلات!$C$4,\"\")","v":""}]
[22,{"$f":"IF(المدخلات!B27>0,المدخلات!B27,\"\")","v":""},{"$f":"IF(المدخلات!C27>0,المدخلات!C27,\"\")","v":""},{"$f":"IF(المدخلات!D27>0,المدخلات!D27,\"\")","v":""},{"$f":"IF(المدخلات!E27>0,المدخلات!E27,\"\")","v":""},{"$f":"IF(المدخلات!F27>0,المدخلات!F27,\"\")","v":""},{"$f":"IF(المدخلات!B27>0,المدخلات!$C$4,\"\")","v":""}]
[23,{"$f":"IF(المدخلات!B28>0,المدخلات!B28,\"\")","v":""},{"$f":"IF(المدخلات!C28>0,المدخلات!C28,\"\")","v":""},{"$f":"IF(المدخلات!D28>0,المدخلات!D28,\"\")","v":""},{"$f":"IF(المدخلات!E28>0,المدخلات!E28,\"\")","v":""},{"$f":"IF(المدخلات!F28>0,المدخلات!F28,\"\")","v":""},{"$f":"IF(المدخلات!B28>0,المدخلات!$C$4,\"\")","v":""}]
[24,{"$f":"IF(المدخلات!B29>0,المدخلات!B29,\"\")","v":""},{"$f":"IF(المدخلات!C29>0,المدخلات!C29,\"\")","v":""},{"$f":"IF(المدخلات!D29>0,المدخلات!D29,\"\")","v":""},{"$f":"IF(المدخلات!E29>0,المدخلات!E29,\"\")","v":""},{"$f":"IF(المدخلات!F29>0,المدخلات!F29,\"\")","v":""},{"$f":"IF(المدخلات!B29>0,المدخلات!$C$4,\"\")","v":""}]
[25,{"$f":"IF(المدخلات!B30>0,المدخلات!B30,\"\")","v":""},{"$f":"IF(المدخلات!C30>0,المدخلات!C30,\"\")","v":""},{"$f":"IF(المدخلات!D30>0,المدخلات!D30,\"\")","v":""},{"$f":"IF(المدخلات!E30>0,المدخلات!E30,\"\")","v":""},{"$f":"IF(المدخلات!F30>0,المدخلات!F30,\"\")","v":""},{"$f":"IF(المدخلات!B30>0,المدخلات!$C$4,\"\")","v":""}]
[26,{"$f":"IF(المدخلات!B31>0,المدخلات!B31,\"\")","v":""},{"$f":"IF(المدخلات!C31>0,المدخلات!C31,\"\")","v":""},{"$f":"IF(المدخلات!D31>0,المدخلات!D31,\"\")","v":""},{"$f":"IF(المدخلات!E31>0,المدخلات!E31,\"\")","v":""},{"$f":"IF(المدخلات!F31>0,المدخلات!F31,\"\")","v":""},{"$f":"IF(المدخلات!B31>0,المدخلات!$C$4,\"\")","v":""}]
[27,{"$f":"IF(المدخلات!B32>0,المدخلات!B32,\"\")","v":""},{"$f":"IF(المدخلات!C32>0,المدخلات!C32,\"\")","v":""},{"$f":"IF(المدخلات!D32>0,المدخلات!D32,\"\")","v":""},{"$f":"IF(المدخلات!E32>0,المدخلات!E32,\"\")","v":""},{"$f":"IF(المدخلات!F32>0,المدخلات!F32,\"\")","v":""},{"$f":"IF(المدخلات!B32>0,المدخلات!$C$4,\"\")","v":""}]
[28,{"$f":"IF(المدخلات!B33>0,المدخلات!B33,\"\")","v":""},{"$f":"IF(المدخلات!C33>0,المدخلات!C33,\"\")","v":""},{"$f":"IF(المدخلات!D33>0,المدخلات!D33,\"\")","v":""},{"$f":"IF(المدخلات!E33>0,المدخلات!E33,\"\")","v":""},{"$f":"IF(المدخلات!F33>0,المدخلات!F33,\"\")","v":""},{"$f":"IF(المدخلات!B33>0,المدخلات!$C$4,\"\")","v":""}]
[29,{"$f":"IF(المدخلات!B34>0,المدخلات!B34,\"\")","v":""},{"$f":"IF(المدخلات!C34>0,المدخلات!C34,\"\")","v":""},{"$f":"IF(المدخلات!D34>0,المدخلات!D34,\"\")","v":""},{"$f":"IF(المدخلات!E34>0,المدخلات!E34,\"\")","v":""},{"$f":"IF(المدخلات!F34>0,المدخلات!F34,\"\")","v":""},{"$f":"IF(المدخلات!B34>0,المدخلات!$C$4,\"\")","v":""}]
[30,{"$f":"IF(المدخلات!B35>0,المدخلات!B35,\"\")","v":""},{"$f":"IF(المدخلات!C35>0,المدخلات!C35,\"\")","v":""},{"$f":"IF(المدخلات!D35>0,المدخلات!D35,\"\")","v":""},{"$f":"IF(المدخلات!E35>0,المدخلات!E35,\"\")","v":""},{"$f":"IF(المدخلات!F35>0,المدخلات!F35,\"\")","v":""},{"$f":"IF(المدخلات!B35>0,المدخلات!$C$4,\"\")","v":""}]
[31,{"$f":"IF(المدخلات!B36>0,المدخلات!B36,\"\")","v":""},{"$f":"IF(المدخلات!C36>0,المدخلات!C36,\"\")","v":""},{"$f":"IF(المدخلات!D36>0,المدخلات!D36,\"\")","v":""},{"$f":"IF(المدخلات!E36>0,المدخلات!E36,\"\")","v":""},{"$f":"IF(المدخلات!F36>0,المدخلات!F36,\"\")","v":""},{"$f":"IF(المدخلات!B36>0,المدخلات!$C$4,\"\")","v":""}]
[32,{"$f":"IF(المدخلات!B37>0,المدخلات!B37,\"\")","v":""},{"$f":"IF(المدخلات!C37>0,المدخلات!C37,\"\")","v":""},{"$f":"IF(المدخلات!D37>0,المدخلات!D37,\"\")","v":""},{"$f":"IF(المدخلات!E37>0,المدخلات!E37,\"\")","v":""},{"$f":"IF(المدخلات!F37>0,المدخلات!F37,\"\")","v":""},{"$f":"IF(المدخلات!B37>0,المدخلات!$C$4,\"\")","v":""}]
[33,{"$f":"IF(المدخلات!B38>0,المدخلات!B38,\"\")","v":""},{"$f":"IF(المدخلات!C38>0,المدخلات!C38,\"\")","v":""},{"$f":"IF(المدخلات!D38>0,المدخلات!D38,\"\")","v":""},{"$f":"IF(المدخلات!E38>0,المدخلات!E38,\"\")","v":""},{"$f":"IF(المدخلات!F38>0,المدخلات!F38,\"\")","v":""},{"$f":"IF(المدخلات!B38>0,المدخلات!$C$4,\"\")","v":""}]
[34,{"$f":"IF(المدخلات!B39>0,المدخلات!B39,\"\")","v":""},{"$f":"IF(المدخلات!C39>0,المدخلات!C39,\"\")","v":""},{"$f":"IF(المدخلات!D39>0,المدخلات!D39,\"\")","v":""},{"$f":"IF(المدخلات!E39>0,المدخلات!E39,\"\")","v":""},{"$f":"IF(المدخلات!F39>0,المدخلات!F39,\"\")","v":""},{"$f":"IF(المدخلات!B39>0,المدخلات!$C$4,\"\")","v":""}]
[35,{"$f":"IF(المدخلات!B40>0,المدخلات!B40,\"\")","v":""},{"$f":"IF(المدخلات!C40>0,المدخلات!C40,\"\")","v":""},{"$f":"IF(المدخلات!D40>0,المدخلات!D40,\"\")","v":""},{"$f":"IF(المدخلات!E40>0,المدخلات!E40,\"\")","v":""},{"$f":"IF(المدخلات!F40>0,المدخلات!F40,\"\")","v":""},{"$f":"IF(المدخلات!B40>0,المدخلات!$C$4,\"\")","v":""}]
[36,{"$f":"IF(المدخلات!B41>0,المدخلات!B41,\"\")","v":""},{"$f":"IF(المدخلات!C41>0,المدخلات!C41,\"\")","v":""},{"$f":"IF(المدخلات!D41>0,المدخلات!D41,\"\")","v":""},{"$f":"IF(المدخلات!E41>0,المدخلات!E41,\"\")","v":""},{"$f":"IF(المدخلات!F41>0,المدخلات!F41,\"\")","v":""},{"$f":"IF(المدخلات!B41>0,المدخلات!$C$4,\"\")","v":""}]
[37,{"$f":"IF(المدخلات!B42>0,المدخلات!B42,\"\")","v":""},{"$f":"IF(المدخلات!C42>0,المدخلات!C42,\"\")","v":""},{"$f":"IF(المدخلات!D42>0,المدخلات!D42,\"\")","v":""},{"$f":"IF(المدخلات!E42>0,المدخلات!E42,\"\")","v":""},{"$f":"IF(المدخلات!F42>0,المدخلات!F42,\"\")","v":""},{"$f":"IF(المدخلات!B42>0,المدخلات!$C$4,\"\")","v":""}]
[38,{"$f":"IF(المدخلات!B43>0,المدخلات!B43,\"\")","v":""},{"$f":"IF(المدخلات!C43>0,المدخلات!C43,\"\")","v":""},{"$f":"IF(المدخلات!D43>0,المدخلات!D43,\"\")","v":""},{"$f":"IF(المدخلات!E43>0,المدخلات!E43,\"\")","v":""},{"$f":"IF(المدخلات!F43>0,المدخلات!F43,\"\")","v":""},{"$f":"IF(المدخلات!B43>0,المدخلات!$C$4,\"\")","v":""}]
[39,{"$f":"IF(المدخلات!B44>0,المدخلات!B44,\"\")","v":""},{"$f":"IF(المدخلات!C44>0,المدخلات!C44,\"\")","v":""},{"$f":"IF(المدخلات!D44>0,المدخلات!D44,\"\")","v":""},{"$f":"IF(المدخلات!E44>0,المدخلات!E44,\"\")","v":""},{"$f":"IF(المدخلات!F44>0,المدخلات!F44,\"\")","v":""},{"$f":"IF(المدخلات!B44>0,المدخلات!$C$4,\"\")","v":""}]
[40,{"$f":"IF(المدخلات!B45>0,المدخلات!B45,\"\")","v":""},{"$f":"IF(المدخلات!C45>0,المدخلات!C45,\"\")","v":""},{"$f":"IF(المدخلات!D45>0,المدخلات!D45,\"\")","v":""},{"$f":"IF(المدخلات!E45>0,المدخلات!E45,\"\")","v":""},{"$f":"IF(المدخلات!F45>0,المدخلات!F45,\"\")","v":""},{"$f":"IF(المدخلات!B45>0,المدخلات!$C$4,\"\")","v":""}]
[41,{"$f":"IF(المدخلات!B46>0,المدخلات!B46,\"\")","v":""},{"$f":"IF(المدخلات!C46>0,المدخلات!C46,\"\")","v":""},{"$f":"IF(المدخلات!D46>0,المدخلات!D46,\"\")","v":""},{"$f":"IF(المدخلات!E46>0,المدخلات!E46,\"\")","v":""},{"$f":"IF(المدخلات!F46>0,المدخلات!F46,\"\")","v":""},{"$f":"IF(المدخلات!B46>0,المدخلات!$C$4,\"\")","v":""}]
[42,{"$f":"IF(المدخلات!B47>0,المدخلات!B47,\"\")","v":""},{"$f":"IF(المدخلات!C47>0,المدخلات!C47,\"\")","v":""},{"$f":"IF(المدخلات!D47>0,المدخلات!D47,\"\")","v":""},{"$f":"IF(المدخلات!E47>0,المدخلات!E47,\"\")","v":""},{"$f":"IF(المدخلات!F47>0,المدخلات!F47,\"\")","v":""},{"$f":"IF(المدخلات!B47>0,المدخلات!$C$4,\"\")","v":""}]
[43,{"$f":"IF(المدخلات!B48>0,المدخلات!B48,\"\")","v":""},{"$f":"IF(المدخلات!C48>0,المدخلات!C48,\"\")","v":""},{"$f":"IF(المدخلات!D48>0,المدخلات!D48,\"\")","v":""},{"$f":"IF(المدخلات!E48>0,المدخلات!E48,\"\")","v":""},{"$f":"IF(المدخلات!F48>0,المدخلات!F48,\"\")","v":""},{"$f":"IF(المدخلات!B48>0,المدخلات!$C$4,\"\")","v":""}]
[44,{"$f":"IF(المدخلات!B49>0,المدخلات!B49,\"\")","v":""},{"$f":"IF(المدخلات!C49>0,المدخلات!C49,\"\")","v":""},{"$f":"IF(المدخلات!D49>0,المدخلات!D49,\"\")","v":""},{"$f":"IF(المدخلات!E49>0,المدخلات!E49,\"\")","v":""},{"$f":"IF(المدخلات!F49>0,المدخلات!F49,\"\")","v":""},{"$f":"IF(المدخلات!B49>0,المدخلات!$C$4,\"\")","v":""}]
[45,{"$f":"IF(المدخلات!B50>0,المدخلات!B50,\"\")","v":""},{"$f":"IF(المدخلات!C50>0,المدخلات!C50,\"\")","v":""},{"$f":"IF(المدخلات!D50>0,المدخلات!D50,\"\")","v":""},{"$f":"IF(المدخلات!E50>0,المدخلات!E50,\"\")","v":""},{"$f":"IF(المدخلات!F50>0,المدخلات!F50,\"\")","v":""},{"$f":"IF(المدخلات!B50>0,المدخلات!$C$4,\"\")","v":""}]
[46,{"$f":"IF(المدخلات!B51>0,المدخلات!B51,\"\")","v":""},{"$f":"IF(المدخلات!C51>0,المدخلات!C51,\"\")","v":""},{"$f":"IF(المدخلات!D51>0,المدخلات!D51,\"\")","v":""},{"$f":"IF(المدخلات!E51>0,المدخلات!E51,\"\")","v":""},{"$f":"IF(المدخلات!F51>0,المدخلات!F51,\"\")","v":""},{"$f":"IF(المدخلات!B51>0,المدخلات!$C$4,\"\")","v":""}]
[47,{"$f":"IF(المدخلات!B52>0,المدخلات!B52,\"\")","v":""},{"$f":"IF(المدخلات!C52>0,المدخلات!C52,\"\")","v":""},{"$f":"IF(المدخلات!D52>0,المدخلات!D52,\"\")","v":""},{"$f":"IF(المدخلات!E52>0,المدخلات!E52,\"\")","v":""},{"$f":"IF(المدخلات!F52>0,المدخلات!F52,\"\")","v":""},{"$f":"IF(المدخلات!B52>0,المدخلات!$C$4,\"\")","v":""}]
[48,{"$f":"IF(المدخلات!B53>0,المدخلات!B53,\"\")","v":""},{"$f":"IF(المدخلات!C53>0,المدخلات!C53,\"\")","v":""},{"$f":"IF(المدخلات!D53>0,المدخلات!D53,\"\")","v":""},{"$f":"IF(المدخلات!E53>0,المدخلات!E53,\"\")","v":""},{"$f":"IF(المدخلات!F53>0,المدخلات!F53,\"\")","v":""},{"$f":"IF(المدخلات!B53>0,المدخلات!$C$4,\"\")","v":""}]
[49,{"$f":"IF(المدخلات!B54>0,المدخلات!B54,\"\")","v":""},{"$f":"IF(المدخلات!C54>0,المدخلات!C54,\"\")","v":""},{"$f":"IF(المدخلات!D54>0,المدخلات!D54,\"\")","v":""},{"$f":"IF(المدخلات!E54>0,المدخلات!E54,\"\")","v":""},{"$f":"IF(المدخلات!F54>0,المدخلات!F54,\"\")","v":""},{"$f":"IF(المدخلات!B54>0,المدخلات!$C$4,\"\")","v":""}]
[50,{"$f":"IF(المدخلات!B55>0,المدخلات!B55,\"\")","v":""},{"$f":"IF(المدخلات!C55>0,المدخلات!C55,\"\")","v":""},{"$f":"IF(المدخلات!D55>0,المدخلات!D55,\"\")","v":""},{"$f":"IF(المدخلات!E55>0,المدخلات!E55,\"\")","v":""},{"$f":"IF(المدخلات!F55>0,المدخلات!F55,\"\")","v":""},{"$f":"IF(المدخلات!B55>0,المدخلات!$C$4,\"\")","v":""}]
[51,{"$f":"IF(المدخلات!B56>0,المدخلات!B56,\"\")","v":""},{"$f":"IF(المدخلات!C56>0,المدخلات!C56,\"\")","v":""},{"$f":"IF(المدخلات!D56>0,المدخلات!D56,\"\")","v":""},{"$f":"IF(المدخلات!E56>0,المدخلات!E56,\"\")","v":""},{"$f":"IF(المدخلات!F56>0,المدخلات!F56,\"\")","v":""},{"$f":"IF(المدخلات!B56>0,المدخلات!$C$4,\"\")","v":""}]
[52,{"$f":"IF(المدخلات!B57>0,المدخلات!B57,\"\")","v":""},{"$f":"IF(المدخلات!C57>0,المدخلات!C57,\"\")","v":""},{"$f":"IF(المدخلات!D57>0,المدخلات!D57,\"\")","v":""},{"$f":"IF(المدخلات!E57>0,المدخلات!E57,\"\")","v":""},{"$f":"IF(المدخلات!F57>0,المدخلات!F57,\"\")","v":""},{"$f":"IF(المدخلات!B57>0,المدخلات!$C$4,\"\")","v":""}]
[53,{"$f":"IF(المدخلات!B58>0,المدخلات!B58,\"\")","v":""},{"$f":"IF(المدخلات!C58>0,المدخلات!C58,\"\")","v":""},{"$f":"IF(المدخلات!D58>0,المدخلات!D58,\"\")","v":""},{"$f":"IF(المدخلات!E58>0,المدخلات!E58,\"\")","v":""},{"$f":"IF(المدخلات!F58>0,المدخلات!F58,\"\")","v":""},{"$f":"IF(المدخلات!B58>0,المدخلات!$C$4,\"\")","v":""}]
[54,{"$f":"IF(المدخلات!B59>0,المدخلات!B59,\"\")","v":""},{"$f":"IF(المدخلات!C59>0,المدخلات!C59,\"\")","v":""},{"$f":"IF(المدخلات!D59>0,المدخلات!D59,\"\")","v":""},{"$f":"IF(المدخلات!E59>0,المدخلات!E59,\"\")","v":""},{"$f":"IF(المدخلات!F59>0,المدخلات!F59,\"\")","v":""},{"$f":"IF(المدخلات!B59>0,المدخلات!$C$4,\"\")","v":""}]
[55,{"$f":"IF(المدخلات!B60>0,المدخلات!B60,\"\")","v":""},{"$f":"IF(المدخلات!C60>0,المدخلات!C60,\"\")","v":""},{"$f":"IF(المدخلات!D60>0,المدخلات!D60,\"\")","v":""},{"$f":"IF(المدخلات!E60>0,المدخلات!E60,\"\")","v":""},{"$f":"IF(المدخلات!F60>0,المدخلات!F60,\"\")","v":""},{"$f":"IF(المدخلات!B60>0,المدخلات!$C$4,\"\")","v":""}]
[56,{"$f":"IF(المدخلات!B61>0,المدخلات!B61,\"\")","v":""},{"$f":"IF(المدخلات!C61>0,المدخلات!C61,\"\")","v":""},{"$f":"IF(المدخلات!D61>0,المدخلات!D61,\"\")","v":""},{"$f":"IF(المدخلات!E61>0,المدخلات!E61,\"\")","v":""},{"$f":"IF(المدخلات!F61>0,المدخلات!F61,\"\")","v":""},{"$f":"IF(المدخلات!B61>0,المدخلات!$C$4,\"\")","v":""}]
[57,{"$f":"IF(المدخلات!B62>0,المدخلات!B62,\"\")","v":""},{"$f":"IF(المدخلات!C62>0,المدخلات!C62,\"\")","v":""},{"$f":"IF(المدخلات!D62>0,المدخلات!D62,\"\")","v":""},{"$f":"IF(المدخلات!E62>0,المدخلات!E62,\"\")","v":""},{"$f":"IF(المدخلات!F62>0,المدخلات!F62,\"\")","v":""},{"$f":"IF(المدخلات!B62>0,المدخلات!$C$4,\"\")","v":""}]
[58,{"$f":"IF(المدخلات!B63>0,المدخلات!B63,\"\")","v":""},{"$f":"IF(المدخلات!C63>0,المدخلات!C63,\"\")","v":""},{"$f":"IF(المدخلات!D63>0,المدخلات!D63,\"\")","v":""},{"$f":"IF(المدخلات!E63>0,المدخلات!E63,\"\")","v":""},{"$f":"IF(المدخلات!F63>0,المدخلات!F63,\"\")","v":""},{"$f":"IF(المدخلات!B63>0,المدخلات!$C$4,\"\")","v":""}]
[59,{"$f":"IF(المدخلات!B64>0,المدخلات!B64,\"\")","v":""},{"$f":"IF(المدخلات!C64>0,المدخلات!C64,\"\")","v":""},{"$f":"IF(المدخلات!D64>0,المدخلات!D64,\"\")","v":""},{"$f":"IF(المدخلات!E64>0,المدخلات!E64,\"\")","v":""},{"$f":"IF(المدخلات!F64>0,المدخلات!F64,\"\")","v":""},{"$f":"IF(المدخلات!B64>0,المدخلات!$C$4,\"\")","v":""}]
[60,{"$f":"IF(المدخلات!B65>0,المدخلات!B65,\"\")","v":""},{"$f":"IF(المدخلات!C65>0,المدخلات!C65,\"\")","v":""},{"$f":"IF(المدخلات!D65>0,المدخلات!D65,\"\")","v":""},{"$f":"IF(المدخلات!E65>0,المدخلات!E65,\"\")","v":""},{"$f":"IF(المدخلات!F65>0,المدخلات!F65,\"\")","v":""},{"$f":"IF(المدخلات!B65>0,المدخلات!$C$4,\"\")","v":""}]
[61,{"$f":"IF(المدخلات!B66>0,المدخلات!B66,\"\")","v":""},{"$f":"IF(المدخلات!C66>0,المدخلات!C66,\"\")","v":""},{"$f":"IF(المدخلات!D66>0,المدخلات!D66,\"\")","v":""},{"$f":"IF(المدخلات!E66>0,المدخلات!E66,\"\")","v":""},{"$f":"IF(المدخلات!F66>0,المدخلات!F66,\"\")","v":""},{"$f":"IF(المدخلات!B66>0,المدخلات!$C$4,\"\")","v":""}]
[62,{"$f":"IF(المدخلات!B67>0,المدخلات!B67,\"\")","v":""},{"$f":"IF(المدخلات!C67>0,المدخلات!C67,\"\")","v":""},{"$f":"IF(المدخلات!D67>0,المدخلات!D67,\"\")","v":""},{"$f":"IF(المدخلات!E67>0,المدخلات!E67,\"\")","v":""},{"$f":"IF(المدخلات!F67>0,المدخلات!F67,\"\")","v":""},{"$f":"IF(المدخلات!B67>0,المدخلات!$C$4,\"\")","v":""}]
[63,{"$f":"IF(المدخلات!B68>0,المدخلات!B68,\"\")","v":""},{"$f":"IF(المدخلات!C68>0,المدخلات!C68,\"\")","v":""},{"$f":"IF(المدخلات!D68>0,المدخلات!D68,\"\")","v":""},{"$f":"IF(المدخلات!E68>0,المدخلات!E68,\"\")","v":""},{"$f":"IF(المدخلات!F68>0,المدخلات!F68,\"\")","v":""},{"$f":"IF(المدخلات!B68>0,المدخلات!$C$4,\"\")","v":""}]
[64,{"$f":"IF(المدخلات!B69>0,المدخلات!B69,\"\")","v":""},{"$f":"IF(المدخلات!C69>0,المدخلات!C69,\"\")","v":""},{"$f":"IF(المدخلات!D69>0,المدخلات!D69,\"\")","v":""},{"$f":"IF(المدخلات!E69>0,المدخلات!E69,\"\")","v":""},{"$f":"IF(المدخلات!F69>0,المدخلات!F69,\"\")","v":""},{"$f":"IF(المدخلات!B69>0,المدخلات!$C$4,\"\")","v":""}]
[65,{"$f":"IF(المدخلات!B70>0,المدخلات!B70,\"\")","v":""},{"$f":"IF(المدخلات!C70>0,المدخلات!C70,\"\")","v":""},{"$f":"IF(المدخلات!D70>0,المدخلات!D70,\"\")","v":""},{"$f":"IF(المدخلات!E70>0,المدخلات!E70,\"\")","v":""},{"$f":"IF(المدخلات!F70>0,المدخلات!F70,\"\")","v":""},{"$f":"IF(المدخلات!B70>0,المدخلات!$C$4,\"\")","v":""}]
[66,{"$f":"IF(المدخلات!B71>0,المدخلات!B71,\"\")","v":""},{"$f":"IF(المدخلات!C71>0,المدخلات!C71,\"\")","v":""},{"$f":"IF(المدخلات!D71>0,المدخلات!D71,\"\")","v":""},{"$f":"IF(المدخلات!E71>0,المدخلات!E71,\"\")","v":""},{"$f":"IF(المدخلات!F71>0,المدخلات!F71,\"\")","v":""},{"$f":"IF(المدخلات!B71>0,المدخلات!$C$4,\"\")","v":""}]
[67,{"$f":"IF(المدخلات!B72>0,المدخلات!B72,\"\")","v":""},{"$f":"IF(المدخلات!C72>0,المدخلات!C72,\"\")","v":""},{"$f":"IF(المدخلات!D72>0,المدخلات!D72,\"\")","v":""},{"$f":"IF(المدخلات!E72>0,المدخلات!E72,\"\")","v":""},{"$f":"IF(المدخلات!F72>0,المدخلات!F72,\"\")","v":""},{"$f":"IF(المدخلات!B72>0,المدخلات!$C$4,\"\")","v":""}]
[68,{"$f":"IF(المدخلات!B73>0,المدخلات!B73,\"\")","v":""},{"$f":"IF(المدخلات!C73>0,المدخلات!C73,\"\")","v":""},{"$f":"IF(المدخلات!D73>0,المدخلات!D73,\"\")","v":""},{"$f":"IF(المدخلات!E73>0,المدخلات!E73,\"\")","v":""},{"$f":"IF(المدخلات!F73>0,المدخلات!F73,\"\")","v":""},{"$f":"IF(المدخلات!B73>0,المدخلات!$C$4,\"\")","v":""}]
[69,{"$f":"IF(المدخلات!B74>0,المدخلات!B74,\"\")","v":""},{"$f":"IF(المدخلات!C74>0,المدخلات!C74,\"\")","v":""},{"$f":"IF(المدخلات!D74>0,المدخلات!D74,\"\")","v":""},{"$f":"IF(المدخلات!E74>0,المدخلات!E74,\"\")","v":""},{"$f":"IF(المدخلات!F74>0,المدخلات!F74,\"\")","v":""},{"$f":"IF(المدخلات!B74>0,المدخلات!$C$4,\"\")","v":""}]
[70,{"$f":"IF(المدخلات!B75>0,المدخلات!B75,\"\")","v":""},{"$f":"IF(المدخلات!C75>0,المدخلات!C75,\"\")","v":""},{"$f":"IF(المدخلات!D75>0,المدخلات!D75,\"\")","v":""},{"$f":"IF(المدخلات!E75>0,المدخلات!E75,\"\")","v":""},{"$f":"IF(المدخلات!F75>0,المدخلات!F75,\"\")","v":""},{"$f":"IF(المدخلات!B75>0,المدخلات!$C$4,\"\")","v":""}]
[71,{"$f":"IF(المدخلات!B76>0,المدخلات!B76,\"\")","v":""},{"$f":"IF(المدخلات!C76>0,المدخلات!C76,\"\")","v":""},{"$f":"IF(المدخلات!D76>0,المدخلات!D76,\"\")","v":""},{"$f":"IF(المدخلات!E76>0,المدخلات!E76,\"\")","v":""},{"$f":"IF(المدخلات!F76>0,المدخلات!F76,\"\")","v":""},{"$f":"IF(المدخلات!B76>0,المدخلات!$C$4,\"\")","v":""}]
[72,{"$f":"IF(المدخلات!B77>0,المدخلات!B77,\"\")","v":""},{"$f":"IF(المدخلات!C77>0,المدخلات!C77,\"\")","v":""},{"$f":"IF(المدخلات!D77>0,المدخلات!D77,\"\")","v":""},{"$f":"IF(المدخلات!E77>0,المدخلات!E77,\"\")","v":""},{"$f":"IF(المدخلات!F77>0,المدخلات!F77,\"\")","v":""},{"$f":"IF(المدخلات!B77>0,المدخلات!$C$4,\"\")","v":""}]
[73,{"$f":"IF(المدخلات!B78>0,المدخلات!B78,\"\")","v":""},{"$f":"IF(المدخلات!C78>0,المدخلات!C78,\"\")","v":""},{"$f":"IF(المدخلات!D78>0,المدخلات!D78,\"\")","v":""},{"$f":"IF(المدخلات!E78>0,المدخلات!E78,\"\")","v":""},{"$f":"IF(المدخلات!F78>0,المدخلات!F78,\"\")","v":""},{"$f":"IF(المدخلات!B78>0,المدخلات!$C$4,\"\")","v":""}]
[74,{"$f":"IF(المدخلات!B79>0,المدخلات!B79,\"\")","v":""},{"$f":"IF(المدخلات!C79>0,المدخلات!C79,\"\")","v":""},{"$f":"IF(المدخلات!D79>0,المدخلات!D79,\"\")","v":""},{"$f":"IF(المدخلات!E79>0,المدخلات!E79,\"\")","v":""},{"$f":"IF(المدخلات!F79>0,المدخلات!F79,\"\")","v":""},{"$f":"IF(المدخلات!B79>0,المدخلات!$C$4,\"\")","v":""}]
[75,{"$f":"IF(المدخلات!B80>0,المدخلات!B80,\"\")","v":""},{"$f":"IF(المدخلات!C80>0,المدخلات!C80,\"\")","v":""},{"$f":"IF(المدخلات!D80>0,المدخلات!D80,\"\")","v":""},{"$f":"IF(المدخلات!E80>0,المدخلات!E80,\"\")","v":""},{"$f":"IF(المدخلات!F80>0,المدخلات!F80,\"\")","v":""},{"$f":"IF(المدخلات!B80>0,المدخلات!$C$4,\"\")","v":""}]
[76,{"$f":"IF(المدخلات!B81>0,المدخلات!B81,\"\")","v":""},{"$f":"IF(المدخلات!C81>0,المدخلات!C81,\"\")","v":""},{"$f":"IF(المدخلات!D81>0,المدخلات!D81,\"\")","v":""},{"$f":"IF(المدخلات!E81>0,المدخلات!E81,\"\")","v":""},{"$f":"IF(المدخلات!F81>0,المدخلات!F81,\"\")","v":""},{"$f":"IF(المدخلات!B81>0,المدخلات!$C$4,\"\")","v":""}]
[77,{"$f":"IF(المدخلات!B82>0,المدخلات!B82,\"\")","v":""},{"$f":"IF(المدخلات!C82>0,المدخلات!C82,\"\")","v":""},{"$f":"IF(المدخلات!D82>0,المدخلات!D82,\"\")","v":""},{"$f":"IF(المدخلات!E82>0,المدخلات!E82,\"\")","v":""},{"$f":"IF(المدخلات!F82>0,المدخلات!F82,\"\")","v":""},{"$f":"IF(المدخلات!B82>0,المدخلات!$C$4,\"\")","v":""}]
[78,{"$f":"IF(المدخلات!B83>0,المدخلات!B83,\"\")","v":""},{"$f":"IF(المدخلات!C83>0,المدخلات!C83,\"\")","v":""},{"$f":"IF(المدخلات!D83>0,المدخلات!D83,\"\")","v":""},{"$f":"IF(المدخلات!E83>0,المدخلات!E83,\"\")","v":""},{"$f":"IF(المدخلات!F83>0,المدخلات!F83,\"\")","v":""},{"$f":"IF(المدخلات!B83>0,المدخلات!$C$4,\"\")","v":""}]
[79,{"$f":"IF(المدخلات!B84>0,المدخلات!B84,\"\")","v":""},{"$f":"IF(المدخلات!C84>0,المدخلات!C84,\"\")","v":""},{"$f":"IF(المدخلات!D84>0,المدخلات!D84,\"\")","v":""},{"$f":"IF(المدخلات!E84>0,المدخلات!E84,\"\")","v":""},{"$f":"IF(المدخلات!F84>0,المدخلات!F84,\"\")","v":""},{"$f":"IF(المدخلات!B84>0,المدخلات!$C$4,\"\")","v":""}]
[80,{"$f":"IF(المدخلات!B85>0,المدخلات!B85,\"\")","v":""},{"$f":"IF(المدخلات!C85>0,المدخلات!C85,\"\")","v":""},{"$f":"IF(المدخلات!D85>0,المدخلات!D85,\"\")","v":""},{"$f":"IF(المدخلات!E85>0,المدخلات!E85,\"\")","v":""},{"$f":"IF(المدخلات!F85>0,المدخلات!F85,\"\")","v":""},{"$f":"IF(المدخلات!B85>0,المدخلات!$C$4,\"\")","v":""}]
[81,{"$f":"IF(المدخلات!B86>0,المدخلات!B86,\"\")","v":""},{"$f":"IF(المدخلات!C86>0,المدخلات!C86,\"\")","v":""},{"$f":"IF(المدخلات!D86>0,المدخلات!D86,\"\")","v":""},{"$f":"IF(المدخلات!E86>0,المدخلات!E86,\"\")","v":""},{"$f":"IF(المدخلات!F86>0,المدخلات!F86,\"\")","v":""},{"$f":"IF(المدخلات!B86>0,المدخلات!$C$4,\"\")","v":""}]
[82,{"$f":"IF(المدخلات!B87>0,المدخلات!B87,\"\")","v":""},{"$f":"IF(المدخلات!C87>0,المدخلات!C87,\"\")","v":""},{"$f":"IF(المدخلات!D87>0,المدخلات!D87,\"\")","v":""},{"$f":"IF(المدخلات!E87>0,المدخلات!E87,\"\")","v":""},{"$f":"IF(المدخلات!F87>0,المدخلات!F87,\"\")","v":""},{"$f":"IF(المدخلات!B87>0,المدخلات!$C$4,\"\")","v":""}]
[83,{"$f":"IF(المدخلات!B88>0,المدخلات!B88,\"\")","v":""},{"$f":"IF(المدخلات!C88>0,المدخلات!C88,\"\")","v":""},{"$f":"IF(المدخلات!D88>0,المدخلات!D88,\"\")","v":""},{"$f":"IF(المدخلات!E88>0,المدخلات!E88,\"\")","v":""},{"$f":"IF(المدخلات!F88>0,المدخلات!F88,\"\")","v":""},{"$f":"IF(المدخلات!B88>0,المدخلات!$C$4,\"\")","v":""}]
[84,{"$f":"IF(المدخلات!B89>0,المدخلات!B89,\"\")","v":""},{"$f":"IF(المدخلات!C89>0,المدخلات!C89,\"\")","v":""},{"$f":"IF(المدخلات!D89>0,المدخلات!D89,\"\")","v":""},{"$f":"IF(المدخلات!E89>0,المدخلات!E89,\"\")","v":""},{"$f":"IF(المدخلات!F89>0,المدخلات!F89,\"\")","v":""},{"$f":"IF(المدخلات!B89>0,المدخلات!$C$4,\"\")","v":""}]
[85,{"$f":"IF(المدخلات!B90>0,المدخلات!B90,\"\")","v":""},{"$f":"IF(المدخلات!C90>0,المدخلات!C90,\"\")","v":""},{"$f":"IF(المدخلات!D90>0,المدخلات!D90,\"\")","v":""},{"$f":"IF(المدخلات!E90>0,المدخلات!E90,\"\")","v":""},{"$f":"IF(المدخلات!F90>0,المدخلات!F90,\"\")","v":""},{"$f":"IF(المدخلات!B90>0,المدخلات!$C$4,\"\")","v":""}]
[86,{"$f":"IF(المدخلات!B91>0,المدخلات!B91,\"\")","v":""},{"$f":"IF(المدخلات!C91>0,المدخلات!C91,\"\")","v":""},{"$f":"IF(المدخلات!D91>0,المدخلات!D91,\"\")","v":""},{"$f":"IF(المدخلات!E91>0,المدخلات!E91,\"\")","v":""},{"$f":"IF(المدخلات!F91>0,المدخلات!F91,\"\")","v":""},{"$f":"IF(المدخلات!B91>0,المدخلات!$C$4,\"\")","v":""}]
[87,{"$f":"IF(المدخلات!B92>0,المدخلات!B92,\"\")","v":""},{"$f":"IF(المدخلات!C92>0,المدخلات!C92,\"\")","v":""},{"$f":"IF(المدخلات!D92>0,المدخلات!D92,\"\")","v":""},{"$f":"IF(المدخلات!E92>0,المدخلات!E92,\"\")","v":""},{"$f":"IF(المدخلات!F92>0,المدخلات!F92,\"\")","v":""},{"$f":"IF(المدخلات!B92>0,المدخلات!$C$4,\"\")","v":""}]
[88,{"$f":"IF(المدخلات!B93>0,المدخلات!B93,\"\")","v":""},{"$f":"IF(المدخلات!C93>0,المدخلات!C93,\"\")","v":""},{"$f":"IF(المدخلات!D93>0,المدخلات!D93,\"\")","v":""},{"$f":"IF(المدخلات!E93>0,المدخلات!E93,\"\")","v":""},{"$f":"IF(المدخلات!F93>0,المدخلات!F93,\"\")","v":""},{"$f":"IF(المدخلات!B93>0,المدخلات!$C$4,\"\")","v":""}]
[89,{"$f":"IF(المدخلات!B94>0,المدخلات!B94,\"\")","v":""},{"$f":"IF(المدخلات!C94>0,المدخلات!C94,\"\")","v":""},{"$f":"IF(المدخلات!D94>0,المدخلات!D94,\"\")","v":""},{"$f":"IF(المدخلات!E94>0,المدخلات!E94,\"\")","v":""},{"$f":"IF(المدخلات!F94>0,المدخلات!F94,\"\")","v":""},{"$f":"IF(المدخلات!B94>0,المدخلات!$C$4,\"\")","v":""}]
[90,{"$f":"IF(المدخلات!B95>0,المدخلات!B95,\"\")","v":""},{"$f":"IF(المدخلات!C95>0,المدخلات!C95,\"\")","v":""},{"$f":"IF(المدخلات!D95>0,المدخلات!D95,\"\")","v":""},{"$f":"IF(المدخلات!E95>0,المدخلات!E95,\"\")","v":""},{"$f":"IF(المدخلات!F95>0,المدخلات!F95,\"\")","v":""},{"$f":"IF(المدخلات!B95>0,المدخلات!$C$4,\"\")","v":""}]
[91,{"$f":"IF(المدخلات!B96>0,المدخلات!B96,\"\")","v":""},{"$f":"IF(المدخلات!C96>0,المدخلات!C96,\"\")","v":""},{"$f":"IF(المدخلات!D96>0,المدخلات!D96,\"\")","v":""},{"$f":"IF(المدخلات!E96>0,المدخلات!E96,\"\")","v":""},{"$f":"IF(المدخلات!F96>0,المدخلات!F96,\"\")","v":""},{"$f":"IF(المدخلات!B96>0,المدخلات!$C$4,\"\")","v":""}]
[92,{"$f":"IF(المدخلات!B97>0,المدخلات!B97,\"\")","v":""},{"$f":"IF(المدخلات!C97>0,المدخلات!C97,\"\")","v":""},{"$f":"IF(المدخلات!D97>0,المدخلات!D97,\"\")","v":""},{"$f":"IF(المدخلات!E97>0,المدخلات!E97,\"\")","v":""},{"$f":"IF(المدخلات!F97>0,المدخلات!F97,\"\")","v":""},{"$f":"IF(المدخلات!B97>0,المدخلات!$C$4,\"\")","v":""}]
[93,{"$f":"IF(المدخلات!B98>0,المدخلات!B98,\"\")","v":""},{"$f":"IF(المدخلات!C98>0,المدخلات!C98,\"\")","v":""},{"$f":"IF(المدخلات!D98>0,المدخلات!D98,\"\")","v":""},{"$f":"IF(المدخلات!E98>0,المدخلات!E98,\"\")","v":""},{"$f":"IF(المدخلات!F98>0,المدخلات!F98,\"\")","v":""},{"$f":"IF(المدخلات!B98>0,المدخلات!$C$4,\"\")","v":""}]
[94,{"$f":"IF(المدخلات!B99>0,المدخلات!B99,\"\")","v":""},{"$f":"IF(المدخلات!C99>0,المدخلات!C99,\"\")","v":""},{"$f":"IF(المدخلات!D99>0,المدخلات!D99,\"\")","v":""},{"$f":"IF(المدخلات!E99>0,المدخلات!E99,\"\")","v":""},{"$f":"IF(المدخلات!F99>0,المدخلات!F99,\"\")","v":""},{"$f":"IF(المدخلات!B99>0,المدخلات!$C$4,\"\")","v":""}]
[95,{"$f":"IF(المدخلات!B100>0,المدخلات!B100,\"\")","v":""},{"$f":"IF(المدخلات!C100>0,المدخلات!C100,\"\")","v":""},{"$f":"IF(المدخلات!D100>0,المدخلات!D100,\"\")","v":""},{"$f":"IF(المدخلات!E100>0,المدخلات!E100,\"\")","v":""},{"$f":"IF(المدخلات!F100>0,المدخلات!F100,\"\")","v":""},{"$f":"IF(المدخلات!B100>0,المدخلات!$C$4,\"\")","v":""}]
[96,{"$f":"IF(المدخلات!B101>0,المدخلات!B101,\"\")","v":""},{"$f":"IF(المدخلات!C101>0,المدخلات!C101,\"\")","v":""},{"$f":"IF(المدخلات!D101>0,المدخلات!D101,\"\")","v":""},{"$f":"IF(المدخلات!E101>0,المدخلات!E101,\"\")","v":""},{"$f":"IF(المدخلات!F101>0,المدخلات!F101,\"\")","v":""},{"$f":"IF(المدخلات!B101>0,المدخلات!$C$4,\"\")","v":""}]
[97,{"$f":"IF(المدخلات!B102>0,المدخلات!B102,\"\")","v":""},{"$f":"IF(المدخلات!C102>0,المدخلات!C102,\"\")","v":""},{"$f":"IF(المدخلات!D102>0,المدخلات!D102,\"\")","v":""},{"$f":"IF(المدخلات!E102>0,المدخلات!E102,\"\")","v":""},{"$f":"IF(المدخلات!F102>0,المدخلات!F102,\"\")","v":""},{"$f":"IF(المدخلات!B102>0,المدخلات!$C$4,\"\")","v":""}]
[98,{"$f":"IF(المدخلات!B103>0,المدخلات!B103,\"\")","v":""},{"$f":"IF(المدخلات!C103>0,المدخلات!C103,\"\")","v":""},{"$f":"IF(المدخلات!D103>0,المدخلات!D103,\"\")","v":""},{"$f":"IF(المدخلات!E103>0,المدخلات!E103,\"\")","v":""},{"$f":"IF(المدخلات!F103>0,المدخلات!F103,\"\")","v":""},{"$f":"IF(المدخلات!B103>0,المدخلات!$C$4,\"\")","v":""}]
[99,{"$f":"IF(المدخلات!B104>0,المدخلات!B104,\"\")","v":""},{"$f":"IF(المدخلات!C104>0,المدخلات!C104,\"\")","v":""},{"$f":"IF(المدخلات!D104>0,المدخلات!D104,\"\")","v":""},{"$f":"IF(المدخلات!E104>0,المدخلات!E104,\"\")","v":""},{"$f":"IF(المدخلات!F104>0,المدخلات!F104,\"\")","v":""},{"$f":"IF(المدخلات!B104>0,المدخلات!$C$4,\"\")","v":""}]
[100,{"$f":"IF(المدخلات!B105>0,المدخلات!B105,\"\")","v":""},{"$f":"IF(المدخلات!C105>0,المدخلات!C105,\"\")","v":""},{"$f":"IF(المدخلات!D105>0,المدخلات!D105,\"\")","v":""},{"$f":"IF(المدخلات!E105>0,المدخلات!E105,\"\")","v":""},{"$f":"IF(المدخلات!F105>0,المدخلات!F105,\"\")","v":""},{"$f":"IF(المدخلات!B105>0,المدخلات!$C$4,\"\")","v":""}]
[101,{"$f":"IF(المدخلات!B106>0,المدخلات!B106,\"\")","v":""},{"$f":"IF(المدخلات!C106>0,المدخلات!C106,\"\")","v":""},{"$f":"IF(المدخلات!D106>0,المدخلات!D106,\"\")","v":""},{"$f":"IF(المدخلات!E106>0,المدخلات!E106,\"\")","v":""},{"$f":"IF(المدخلات!F106>0,المدخلات!F106,\"\")","v":""},{"$f":"IF(المدخلات!B106>0,المدخلات!$C$4,\"\")","v":""}]
[102,{"$f":"IF(المدخلات!B107>0,المدخلات!B107,\"\")","v":""},{"$f":"IF(المدخلات!C107>0,المدخلات!C107,\"\")","v":""},{"$f":"IF(المدخلات!D107>0,المدخلات!D107,\"\")","v":""},{"$f":"IF(المدخلات!E107>0,المدخلات!E107,\"\")","v":""},{"$f":"IF(المدخلات!F107>0,المدخلات!F107,\"\")","v":""},{"$f":"IF(المدخلات!B107>0,المدخلات!$C$4,\"\")","v":""}]
[103,{"$f":"IF(المدخلات!B108>0,المدخلات!B108,\"\")","v":""},{"$f":"IF(المدخلات!C108>0,المدخلات!C108,\"\")","v":""},{"$f":"IF(المدخلات!D108>0,المدخلات!D108,\"\")","v":""},{"$f":"IF(المدخلات!E108>0,المدخلات!E108,\"\")","v":""},{"$f":"IF(المدخلات!F108>0,المدخلات!F108,\"\")","v":""},{"$f":"IF(المدخلات!B108>0,المدخلات!$C$4,\"\")","v":""}]
[104,{"$f":"IF(المدخلات!B109>0,المدخلات!B109,\"\")","v":""},{"$f":"IF(المدخلات!C109>0,المدخلات!C109,\"\")","v":""},{"$f":"IF(المدخلات!D109>0,المدخلات!D109,\"\")","v":""},{"$f":"IF(المدخلات!E109>0,المدخلات!E109,\"\")","v":""},{"$f":"IF(المدخلات!F109>0,المدخلات!F109,\"\")","v":""},{"$f":"IF(المدخلات!B109>0,المدخلات!$C$4,\"\")","v":""}]
[105,{"$f":"IF(المدخلات!B110>0,المدخلات!B110,\"\")","v":""},{"$f":"IF(المدخلات!C110>0,المدخلات!C110,\"\")","v":""},{"$f":"IF(المدخلات!D110>0,المدخلات!D110,\"\")","v":""},{"$f":"IF(المدخلات!E110>0,المدخلات!E110,\"\")","v":""},{"$f":"IF(المدخلات!F110>0,المدخلات!F110,\"\")","v":""},{"$f":"IF(المدخلات!B110>0,المدخلات!$C$4,\"\")","v":""}]
[106,{"$f":"IF(المدخلات!B111>0,المدخلات!B111,\"\")","v":""},{"$f":"IF(المدخلات!C111>0,المدخلات!C111,\"\")","v":""},{"$f":"IF(المدخلات!D111>0,المدخلات!D111,\"\")","v":""},{"$f":"IF(المدخلات!E111>0,المدخلات!E111,\"\")","v":""},{"$f":"IF(المدخلات!F111>0,المدخلات!F111,\"\")","v":""},{"$f":"IF(المدخلات!B111>0,المدخلات!$C$4,\"\")","v":""}]
[107,{"$f":"IF(المدخلات!B112>0,المدخلات!B112,\"\")","v":""},{"$f":"IF(المدخلات!C112>0,المدخلات!C112,\"\")","v":""},{"$f":"IF(المدخلات!D112>0,المدخلات!D112,\"\")","v":""},{"$f":"IF(المدخلات!E112>0,المدخلات!E112,\"\")","v":""},{"$f":"IF(المدخلات!F112>0,المدخلات!F112,\"\")","v":""},{"$f":"IF(المدخلات!B112>0,المدخلات!$C$4,\"\")","v":""}]
[108,{"$f":"IF(المدخلات!B113>0,المدخلات!B113,\"\")","v":""},{"$f":"IF(المدخلات!C113>0,المدخلات!C113,\"\")","v":""},{"$f":"IF(المدخلات!D113>0,المدخلات!D113,\"\")","v":""},{"$f":"IF(المدخلات!E113>0,المدخلات!E113,\"\")","v":""},{"$f":"IF(المدخلات!F113>0,المدخلات!F113,\"\")","v":""},{"$f":"IF(المدخلات!B113>0,المدخلات!$C$4,\"\")","v":""}]
[109,{"$f":"IF(المدخلات!B114>0,المدخلات!B114,\"\")","v":""},{"$f":"IF(المدخلات!C114>0,المدخلات!C114,\"\")","v":""},{"$f":"IF(المدخلات!D114>0,المدخلات!D114,\"\")","v":""},{"$f":"IF(المدخلات!E114>0,المدخلات!E114,\"\")","v":""},{"$f":"IF(المدخلات!F114>0,المدخلات!F114,\"\")","v":""},{"$f":"IF(المدخلات!B114>0,المدخلات!$C$4,\"\")","v":""}]
[110,{"$f":"IF(المدخلات!B115>0,المدخلات!B115,\"\")","v":""},{"$f":"IF(المدخلات!C115>0,المدخلات!C115,\"\")","v":""},{"$f":"IF(المدخلات!D115>0,المدخلات!D115,\"\")","v":""},{"$f":"IF(المدخلات!E115>0,المدخلات!E115,\"\")","v":""},{"$f":"IF(المدخلات!F115>0,المدخلات!F115,\"\")","v":""},{"$f":"IF(المدخلات!B115>0,المدخلات!$C$4,\"\")","v":""}]
[111,{"$f":"IF(المدخلات!B116>0,المدخلات!B116,\"\")","v":""},{"$f":"IF(المدخلات!C116>0,المدخلات!C116,\"\")","v":""},{"$f":"IF(المدخلات!D116>0,المدخلات!D116,\"\")","v":""},{"$f":"IF(المدخلات!E116>0,المدخلات!E116,\"\")","v":""},{"$f":"IF(المدخلات!F116>0,المدخلات!F116,\"\")","v":""},{"$f":"IF(المدخلات!B116>0,المدخلات!$C$4,\"\")","v":""}]
[112,{"$f":"IF(المدخلات!B117>0,المدخلات!B117,\"\")","v":""},{"$f":"IF(المدخلات!C117>0,المدخلات!C117,\"\")","v":""},{"$f":"IF(المدخلات!D117>0,المدخلات!D117,\"\")","v":""},{"$f":"IF(المدخلات!E117>0,المدخلات!E117,\"\")","v":""},{"$f":"IF(المدخلات!F117>0,المدخلات!F117,\"\")","v":""},{"$f":"IF(المدخلات!B117>0,المدخلات!$C$4,\"\")","v":""}]
[113,{"$f":"IF(المدخلات!B118>0,المدخلات!B118,\"\")","v":""},{"$f":"IF(المدخلات!C118>0,المدخلات!C118,\"\")","v":""},{"$f":"IF(المدخلات!D118>0,المدخلات!D118,\"\")","v":""},{"$f":"IF(المدخلات!E118>0,المدخلات!E118,\"\")","v":""},{"$f":"IF(المدخلات!F118>0,المدخلات!F118,\"\")","v":""},{"$f":"IF(المدخلات!B118>0,المدخلات!$C$4,\"\")","v":""}]
[114,{"$f":"IF(المدخلات!B119>0,المدخلات!B119,\"\")","v":""},{"$f":"IF(المدخلات!C119>0,المدخلات!C119,\"\")","v":""},{"$f":"IF(المدخلات!D119>0,المدخلات!D119,\"\")","v":""},{"$f":"IF(المدخلات!E119>0,المدخلات!E119,\"\")","v":""},{"$f":"IF(المدخلات!F119>0,المدخلات!F119,\"\")","v":""},{"$f":"IF(المدخلات!B119>0,المدخلات!$C$4,\"\")","v":""}]
[115,{"$f":"IF(المدخلات!B120>0,المدخلات!B120,\"\")","v":""},{"$f":"IF(المدخلات!C120>0,المدخلات!C120,\"\")","v":""},{"$f":"IF(المدخلات!D120>0,المدخلات!D120,\"\")","v":""},{"$f":"IF(المدخلات!E120>0,المدخلات!E120,\"\")","v":""},{"$f":"IF(المدخلات!F120>0,المدخلات!F120,\"\")","v":""},{"$f":"IF(المدخلات!B120>0,المدخلات!$C$4,\"\")","v":""}]
[116,{"$f":"IF(المدخلات!B121>0,المدخلات!B121,\"\")","v":""},{"$f":"IF(المدخلات!C121>0,المدخلات!C121,\"\")","v":""},{"$f":"IF(المدخلات!D121>0,المدخلات!D121,\"\")","v":""},{"$f":"IF(المدخلات!E121>0,المدخلات!E121,\"\")","v":""},{"$f":"IF(المدخلات!F121>0,المدخلات!F121,\"\")","v":""},{"$f":"IF(المدخلات!B121>0,المدخلات!$C$4,\"\")","v":""}]
[117,{"$f":"IF(المدخلات!B122>0,المدخلات!B122,\"\")","v":""},{"$f":"IF(المدخلات!C122>0,المدخلات!C122,\"\")","v":""},{"$f":"IF(المدخلات!D122>0,المدخلات!D122,\"\")","v":""},{"$f":"IF(المدخلات!E122>0,المدخلات!E122,\"\")","v":""},{"$f":"IF(المدخلات!F122>0,المدخلات!F122,\"\")","v":""},{"$f":"IF(المدخلات!B122>0,المدخلات!$C$4,\"\")","v":""}]
[118,{"$f":"IF(المدخلات!B123>0,المدخلات!B123,\"\")","v":""},{"$f":"IF(المدخلات!C123>0,المدخلات!C123,\"\")","v":""},{"$f":"IF(المدخلات!D123>0,المدخلات!D123,\"\")","v":""},{"$f":"IF(المدخلات!E123>0,المدخلات!E123,\"\")","v":""},{"$f":"IF(المدخلات!F123>0,المدخلات!F123,\"\")","v":""},{"$f":"IF(المدخلات!B123>0,المدخلات!$C$4,\"\")","v":""}]
[119,{"$f":"IF(المدخلات!B124>0,المدخلات!B124,\"\")","v":""},{"$f":"IF(المدخلات!C124>0,المدخلات!C124,\"\")","v":""},{"$f":"IF(المدخلات!D124>0,المدخلات!D124,\"\")","v":""},{"$f":"IF(المدخلات!E124>0,المدخلات!E124,\"\")","v":""},{"$f":"IF(المدخلات!F124>0,المدخلات!F124,\"\")","v":""},{"$f":"IF(المدخلات!B124>0,المدخلات!$C$4,\"\")","v":""}]
[120,{"$f":"IF(المدخلات!B125>0,المدخلات!B125,\"\")","v":""},{"$f":"IF(المدخلات!C125>0,المدخلات!C125,\"\")","v":""},{"$f":"IF(المدخلات!D125>0,المدخلات!D125,\"\")","v":""},{"$f":"IF(المدخلات!E125>0,المدخلات!E125,\"\")","v":""},{"$f":"IF(المدخلات!F125>0,المدخلات!F125,\"\")","v":""},{"$f":"IF(المدخلات!B125>0,المدخلات!$C$4,\"\")","v":""}]
[121,{"$f":"IF(المدخلات!B126>0,المدخلات!B126,\"\")","v":""},{"$f":"IF(المدخلات!C126>0,المدخلات!C126,\"\")","v":""},{"$f":"IF(المدخلات!D126>0,المدخلات!D126,\"\")","v":""},{"$f":"IF(المدخلات!E126>0,المدخلات!E126,\"\")","v":""},{"$f":"IF(المدخلات!F126>0,المدخلات!F126,\"\")","v":""},{"$f":"IF(المدخلات!B126>0,المدخلات!$C$4,\"\")","v":""}]
[122,{"$f":"IF(المدخلات!B127>0,المدخلات!B127,\"\")","v":""},{"$f":"IF(المدخلات!C127>0,المدخلات!C127,\"\")","v":""},{"$f":"IF(المدخلات!D127>0,المدخلات!D127,\"\")","v":""},{"$f":"IF(المدخلات!E127>0,المدخلات!E127,\"\")","v":""},{"$f":"IF(المدخلات!F127>0,المدخلات!F127,\"\")","v":""},{"$f":"IF(المدخلات!B127>0,المدخلات!$C$4,\"\")","v":""}]
[123,{"$f":"IF(المدخلات!B128>0,المدخلات!B128,\"\")","v":""},{"$f":"IF(المدخلات!C128>0,المدخلات!C128,\"\")","v":""},{"$f":"IF(المدخلات!D128>0,المدخلات!D128,\"\")","v":""},{"$f":"IF(المدخلات!E128>0,المدخلات!E128,\"\")","v":""},{"$f":"IF(المدخلات!F128>0,المدخلات!F128,\"\")","v":""},{"$f":"IF(المدخلات!B128>0,المدخلات!$C$4,\"\")","v":""}]
[124,{"$f":"IF(المدخلات!B129>0,المدخلات!B129,\"\")","v":""},{"$f":"IF(المدخلات!C129>0,المدخلات!C129,\"\")","v":""},{"$f":"IF(المدخلات!D129>0,المدخلات!D129,\"\")","v":""},{"$f":"IF(المدخلات!E129>0,المدخلات!E129,\"\")","v":""},{"$f":"IF(المدخلات!F129>0,المدخلات!F129,\"\")","v":""},{"$f":"IF(المدخلات!B129>0,المدخلات!$C$4,\"\")","v":""}]
[125,{"$f":"IF(المدخلات!B130>0,المدخلات!B130,\"\")","v":""},{"$f":"IF(المدخلات!C130>0,المدخلات!C130,\"\")","v":""},{"$f":"IF(المدخلات!D130>0,المدخلات!D130,\"\")","v":""},{"$f":"IF(المدخلات!E130>0,المدخلات!E130,\"\")","v":""},{"$f":"IF(المدخلات!F130>0,المدخلات!F130,\"\")","v":""},{"$f":"IF(المدخلات!B130>0,المدخلات!$C$4,\"\")","v":""}]
[126,{"$f":"IF(المدخلات!B131>0,المدخلات!B131,\"\")","v":""},{"$f":"IF(المدخلات!C131>0,المدخلات!C131,\"\")","v":""},{"$f":"IF(المدخلات!D131>0,المدخلات!D131,\"\")","v":""},{"$f":"IF(المدخلات!E131>0,المدخلات!E131,\"\")","v":""},{"$f":"IF(المدخلات!F131>0,المدخلات!F131,\"\")","v":""},{"$f":"IF(المدخلات!B131>0,المدخلات!$C$4,\"\")","v":""}]
[127,{"$f":"IF(المدخلات!B132>0,المدخلات!B132,\"\")","v":""},{"$f":"IF(المدخلات!C132>0,المدخلات!C132,\"\")","v":""},{"$f":"IF(المدخلات!D132>0,المدخلات!D132,\"\")","v":""},{"$f":"IF(المدخلات!E132>0,المدخلات!E132,\"\")","v":""},{"$f":"IF(المدخلات!F132>0,المدخلات!F132,\"\")","v":""},{"$f":"IF(المدخلات!B132>0,المدخلات!$C$4,\"\")","v":""}]
[128,{"$f":"IF(المدخلات!B133>0,المدخلات!B133,\"\")","v":""},{"$f":"IF(المدخلات!C133>0,المدخلات!C133,\"\")","v":""},{"$f":"IF(المدخلات!D133>0,المدخلات!D133,\"\")","v":""},{"$f":"IF(المدخلات!E133>0,المدخلات!E133,\"\")","v":""},{"$f":"IF(المدخلات!F133>0,المدخلات!F133,\"\")","v":""},{"$f":"IF(المدخلات!B133>0,المدخلات!$C$4,\"\")","v":""}]
[129,{"$f":"IF(المدخلات!B134>0,المدخلات!B134,\"\")","v":""},{"$f":"IF(المدخلات!C134>0,المدخلات!C134,\"\")","v":""},{"$f":"IF(المدخلات!D134>0,المدخلات!D134,\"\")","v":""},{"$f":"IF(المدخلات!E134>0,المدخلات!E134,\"\")","v":""},{"$f":"IF(المدخلات!F134>0,المدخلات!F134,\"\")","v":""},{"$f":"IF(المدخلات!B134>0,المدخلات!$C$4,\"\")","v":""}]
[130,{"$f":"IF(المدخلات!B135>0,المدخلات!B135,\"\")","v":""},{"$f":"IF(المدخلات!C135>0,المدخلات!C135,\"\")","v":""},{"$f":"IF(المدخلات!D135>0,المدخلات!D135,\"\")","v":""},{"$f":"IF(المدخلات!E135>0,المدخلات!E135,\"\")","v":""},{"$f":"IF(المدخلات!F135>0,المدخلات!F135,\"\")","v":""},{"$f":"IF(المدخلات!B135>0,المدخلات!$C$4,\"\")","v":""}]
[131,{"$f":"IF(المدخلات!B136>0,المدخلات!B136,\"\")","v":""},{"$f":"IF(المدخلات!C136>0,المدخلات!C136,\"\")","v":""},{"$f":"IF(المدخلات!D136>0,المدخلات!D136,\"\")","v":""},{"$f":"IF(المدخلات!E136>0,المدخلات!E136,\"\")","v":""},{"$f":"IF(المدخلات!F136>0,المدخلات!F136,\"\")","v":""},{"$f":"IF(المدخلات!B136>0,المدخلات!$C$4,\"\")","v":""}]
[132,{"$f":"IF(المدخلات!B137>0,المدخلات!B137,\"\")","v":""},{"$f":"IF(المدخلات!C137>0,المدخلات!C137,\"\")","v":""},{"$f":"IF(المدخلات!D137>0,المدخلات!D137,\"\")","v":""},{"$f":"IF(المدخلات!E137>0,المدخلات!E137,\"\")","v":""},{"$f":"IF(المدخلات!F137>0,المدخلات!F137,\"\")","v":""},{"$f":"IF(المدخلات!B137>0,المدخلات!$C$4,\"\")","v":""}]
[133,{"$f":"IF(المدخلات!B138>0,المدخلات!B138,\"\")","v":""},{"$f":"IF(المدخلات!C138>0,المدخلات!C138,\"\")","v":""},{"$f":"IF(المدخلات!D138>0,المدخلات!D138,\"\")","v":""},{"$f":"IF(المدخلات!E138>0,المدخلات!E138,\"\")","v":""},{"$f":"IF(المدخلات!F138>0,المدخلات!F138,\"\")","v":""},{"$f":"IF(المدخلات!B138>0,المدخلات!$C$4,\"\")","v":""}]
[134,{"$f":"IF(المدخلات!B139>0,المدخلات!B139,\"\")","v":""},{"$f":"IF(المدخلات!C139>0,المدخلات!C139,\"\")","v":""},{"$f":"IF(المدخلات!D139>0,المدخلات!D139,\"\")","v":""},{"$f":"IF(المدخلات!E139>0,المدخلات!E139,\"\")","v":""},{"$f":"IF(المدخلات!F139>0,المدخلات!F139,\"\")","v":""},{"$f":"IF(المدخلات!B139>0,المدخلات!$C$4,\"\")","v":""}]
[135,{"$f":"IF(المدخلات!B140>0,المدخلات!B140,\"\")","v":""},{"$f":"IF(المدخلات!C140>0,المدخلات!C140,\"\")","v":""},{"$f":"IF(المدخلات!D140>0,المدخلات!D140,\"\")","v":""},{"$f":"IF(المدخلات!E140>0,المدخلات!E140,\"\")","v":""},{"$f":"IF(المدخلات!F140>0,المدخلات!F140,\"\")","v":""},{"$f":"IF(المدخلات!B140>0,المدخلات!$C$4,\"\")","v":""}]
[136,{"$f":"IF(المدخلات!B141>0,المدخلات!B141,\"\")","v":""},{"$f":"IF(المدخلات!C141>0,المدخلات!C141,\"\")","v":""},{"$f":"IF(المدخلات!D141>0,المدخلات!D141,\"\")","v":""},{"$f":"IF(المدخلات!E141>0,المدخلات!E141,\"\")","v":""},{"$f":"IF(المدخلات!F141>0,المدخلات!F141,\"\")","v":""},{"$f":"IF(المدخلات!B141>0,المدخلات!$C$4,\"\")","v":""}]
[137,{"$f":"IF(المدخلات!B142>0,المدخلات!B142,\"\")","v":""},{"$f":"IF(المدخلات!C142>0,المدخلات!C142,\"\")","v":""},{"$f":"IF(المدخلات!D142>0,المدخلات!D142,\"\")","v":""},{"$f":"IF(المدخلات!E142>0,المدخلات!E142,\"\")","v":""},{"$f":"IF(المدخلات!F142>0,المدخلات!F142,\"\")","v":""},{"$f":"IF(المدخلات!B142>0,المدخلات!$C$4,\"\")","v":""}]
[138,{"$f":"IF(المدخلات!B143>0,المدخلات!B143,\"\")","v":""},{"$f":"IF(المدخلات!C143>0,المدخلات!C143,\"\")","v":""},{"$f":"IF(المدخلات!D143>0,المدخلات!D143,\"\")","v":""},{"$f":"IF(المدخلات!E143>0,المدخلات!E143,\"\")","v":""},{"$f":"IF(المدخلات!F143>0,المدخلات!F143,\"\")","v":""},{"$f":"IF(المدخلات!B143>0,المدخلات!$C$4,\"\")","v":""}]
[139,{"$f":"IF(المدخلات!B144>0,المدخلات!B144,\"\")","v":""},{"$f":"IF(المدخلات!C144>0,المدخلات!C144,\"\")","v":""},{"$f":"IF(المدخلات!D144>0,المدخلات!D144,\"\")","v":""},{"$f":"IF(المدخلات!E144>0,المدخلات!E144,\"\")","v":""},{"$f":"IF(المدخلات!F144>0,المدخلات!F144,\"\")","v":""},{"$f":"IF(المدخلات!B144>0,المدخلات!$C$4,\"\")","v":""}]
[140,{"$f":"IF(المدخلات!B145>0,المدخلات!B145,\"\")","v":""},{"$f":"IF(المدخلات!C145>0,المدخلات!C145,\"\")","v":""},{"$f":"IF(المدخلات!D145>0,المدخلات!D145,\"\")","v":""},{"$f":"IF(المدخلات!E145>0,المدخلات!E145,\"\")","v":""},{"$f":"IF(المدخلات!F145>0,المدخلات!F145,\"\")","v":""},{"$f":"IF(المدخلات!B145>0,المدخلات!$C$4,\"\")","v":""}]
[141,{"$f":"IF(المدخلات!B146>0,المدخلات!B146,\"\")","v":""},{"$f":"IF(المدخلات!C146>0,المدخلات!C146,\"\")","v":""},{"$f":"IF(المدخلات!D146>0,المدخلات!D146,\"\")","v":""},{"$f":"IF(المدخلات!E146>0,المدخلات!E146,\"\")","v":""},{"$f":"IF(المدخلات!F146>0,المدخلات!F146,\"\")","v":""},{"$f":"IF(المدخلات!B146>0,المدخلات!$C$4,\"\")","v":""}]
[142,{"$f":"IF(المدخلات!B147>0,المدخلات!B147,\"\")","v":""},{"$f":"IF(المدخلات!C147>0,المدخلات!C147,\"\")","v":""},{"$f":"IF(المدخلات!D147>0,المدخلات!D147,\"\")","v":""},{"$f":"IF(المدخلات!E147>0,المدخلات!E147,\"\")","v":""},{"$f":"IF(المدخلات!F147>0,المدخلات!F147,\"\")","v":""},{"$f":"IF(المدخلات!B147>0,المدخلات!$C$4,\"\")","v":""}]
[143,{"$f":"IF(المدخلات!B148>0,المدخلات!B148,\"\")","v":""},{"$f":"IF(المدخلات!C148>0,المدخلات!C148,\"\")","v":""},{"$f":"IF(المدخلات!D148>0,المدخلات!D148,\"\")","v":""},{"$f":"IF(المدخلات!E148>0,المدخلات!E148,\"\")","v":""},{"$f":"IF(المدخلات!F148>0,المدخلات!F148,\"\")","v":""},{"$f":"IF(المدخلات!B148>0,المدخلات!$C$4,\"\")","v":""}]
[144,{"$f":"IF(المدخلات!B149>0,المدخلات!B149,\"\")","v":""},{"$f":"IF(المدخلات!C149>0,المدخلات!C149,\"\")","v":""},{"$f":"IF(المدخلات!D149>0,المدخلات!D149,\"\")","v":""},{"$f":"IF(المدخلات!E149>0,المدخلات!E149,\"\")","v":""},{"$f":"IF(المدخلات!F149>0,المدخلات!F149,\"\")","v":""},{"$f":"IF(المدخلات!B149>0,المدخلات!$C$4,\"\")","v":""}]
[145,{"$f":"IF(المدخلات!B150>0,المدخلات!B150,\"\")","v":""},{"$f":"IF(المدخلات!C150>0,المدخلات!C150,\"\")","v":""},{"$f":"IF(المدخلات!D150>0,المدخلات!D150,\"\")","v":""},{"$f":"IF(المدخلات!E150>0,المدخلات!E150,\"\")","v":""},{"$f":"IF(المدخلات!F150>0,المدخلات!F150,\"\")","v":""},{"$f":"IF(المدخلات!B150>0,المدخلات!$C$4,\"\")","v":""}]
[146,{"$f":"IF(المدخلات!B151>0,المدخلات!B151,\"\")","v":""},{"$f":"IF(المدخلات!C151>0,المدخلات!C151,\"\")","v":""},{"$f":"IF(المدخلات!D151>0,المدخلات!D151,\"\")","v":""},{"$f":"IF(المدخلات!E151>0,المدخلات!E151,\"\")","v":""},{"$f":"IF(المدخلات!F151>0,المدخلات!F151,\"\")","v":""},{"$f":"IF(المدخلات!B151>0,المدخلات!$C$4,\"\")","v":""}]
[147,{"$f":"IF(المدخلات!B152>0,المدخلات!B152,\"\")","v":""},{"$f":"IF(المدخلات!C152>0,المدخلات!C152,\"\")","v":""},{"$f":"IF(المدخلات!D152>0,المدخلات!D152,\"\")","v":""},{"$f":"IF(المدخلات!E152>0,المدخلات!E152,\"\")","v":""},{"$f":"IF(المدخلات!F152>0,المدخلات!F152,\"\")","v":""},{"$f":"IF(المدخلات!B152>0,المدخلات!$C$4,\"\")","v":""}]
[148,{"$f":"IF(المدخلات!B153>0,المدخلات!B153,\"\")","v":""},{"$f":"IF(المدخلات!C153>0,المدخلات!C153,\"\")","v":""},{"$f":"IF(المدخلات!D153>0,المدخلات!D153,\"\")","v":""},{"$f":"IF(المدخلات!E153>0,المدخلات!E153,\"\")","v":""},{"$f":"IF(المدخلات!F153>0,المدخلات!F153,\"\")","v":""},{"$f":"IF(المدخلات!B153>0,المدخلات!$C$4,\"\")","v":""}]
[149,{"$f":"IF(المدخلات!B154>0,المدخلات!B154,\"\")","v":""},{"$f":"IF(المدخلات!C154>0,المدخلات!C154,\"\")","v":""},{"$f":"IF(المدخلات!D154>0,المدخلات!D154,\"\")","v":""},{"$f":"IF(المدخلات!E154>0,المدخلات!E154,\"\")","v":""},{"$f":"IF(المدخلات!F154>0,المدخلات!F154,\"\")","v":""},{"$f":"IF(المدخلات!B154>0,المدخلات!$C$4,\"\")","v":""}]
[150,{"$f":"IF(المدخلات!B155>0,المدخلات!B155,\"\")","v":""},{"$f":"IF(المدخلات!C155>0,المدخلات!C155,\"\")","v":""},{"$f":"IF(المدخلات!D155>0,المدخلات!D155,\"\")","v":""},{"$f":"IF(المدخلات!E155>0,المدخلات!E155,\"\")","v":""},{"$f":"IF(المدخلات!F155>0,المدخلات!F155,\"\")","v":""},{"$f":"IF(المدخلات!B155>0,المدخلات!$C$4,\"\")","v":""}]
[151,{"$f":"IF(المدخلات!B156>0,المدخلات!B156,\"\")","v":""},{"$f":"IF(المدخلات!C156>0,المدخلات!C156,\"\")","v":""},{"$f":"IF(المدخلات!D156>0,المدخلات!D156,\"\")","v":""},{"$f":"IF(المدخلات!E156>0,المدخلات!E156,\"\")","v":""},{"$f":"IF(المدخلات!F156>0,المدخلات!F156,\"\")","v":""},{"$f":"IF(المدخلات!B156>0,المدخلات!$C$4,\"\")","v":""}]
[152,{"$f":"IF(المدخلات!B157>0,المدخلات!B157,\"\")","v":""},{"$f":"IF(المدخلات!C157>0,المدخلات!C157,\"\")","v":""},{"$f":"IF(المدخلات!D157>0,المدخلات!D157,\"\")","v":""},{"$f":"IF(المدخلات!E157>0,المدخلات!E157,\"\")","v":""},{"$f":"IF(المدخلات!F157>0,المدخلات!F157,\"\")","v":""},{"$f":"IF(المدخلات!B157>0,المدخلات!$C$4,\"\")","v":""}]
[153,{"$f":"IF(المدخلات!B158>0,المدخلات!B158,\"\")","v":""},{"$f":"IF(المدخلات!C158>0,المدخلات!C158,\"\")","v":""},{"$f":"IF(المدخلات!D158>0,المدخلات!D158,\"\")","v":""},{"$f":"IF(المدخلات!E158>0,المدخلات!E158,\"\")","v":""},{"$f":"IF(المدخلات!F158>0,المدخلات!F158,\"\")","v":""},{"$f":"IF(المدخلات!B158>0,المدخلات!$C$4,\"\")","v":""}]
[154,{"$f":"IF(المدخلات!B159>0,المدخلات!B159,\"\")","v":""},{"$f":"IF(المدخلات!C159>0,المدخلات!C159,\"\")","v":""},{"$f":"IF(المدخلات!D159>0,المدخلات!D159,\"\")","v":""},{"$f":"IF(المدخلات!E159>0,المدخلات!E159,\"\")","v":""},{"$f":"IF(المدخلات!F159>0,المدخلات!F159,\"\")","v":""},{"$f":"IF(المدخلات!B159>0,المدخلات!$C$4,\"\")","v":""}]
[155,{"$f":"IF(المدخلات!B160>0,المدخلات!B160,\"\")","v":""},{"$f":"IF(المدخلات!C160>0,المدخلات!C160,\"\")","v":""},{"$f":"IF(المدخلات!D160>0,المدخلات!D160,\"\")","v":""},{"$f":"IF(المدخلات!E160>0,المدخلات!E160,\"\")","v":""},{"$f":"IF(المدخلات!F160>0,المدخلات!F160,\"\")","v":""},{"$f":"IF(المدخلات!B160>0,المدخلات!$C$4,\"\")","v":""}]
[156,{"$f":"IF(المدخلات!B161>0,المدخلات!B161,\"\")","v":""},{"$f":"IF(المدخلات!C161>0,المدخلات!C161,\"\")","v":""},{"$f":"IF(المدخلات!D161>0,المدخلات!D161,\"\")","v":""},{"$f":"IF(المدخلات!E161>0,المدخلات!E161,\"\")","v":""},{"$f":"IF(المدخلات!F161>0,المدخلات!F161,\"\")","v":""},{"$f":"IF(المدخلات!B161>0,المدخلات!$C$4,\"\")","v":""}]
[157,{"$f":"IF(المدخلات!B162>0,المدخلات!B162,\"\")","v":""},{"$f":"IF(المدخلات!C162>0,المدخلات!C162,\"\")","v":""},{"$f":"IF(المدخلات!D162>0,المدخلات!D162,\"\")","v":""},{"$f":"IF(المدخلات!E162>0,المدخلات!E162,\"\")","v":""},{"$f":"IF(المدخلات!F162>0,المدخلات!F162,\"\")","v":""},{"$f":"IF(المدخلات!B162>0,المدخلات!$C$4,\"\")","v":""}]
[158,{"$f":"IF(المدخلات!B163>0,المدخلات!B163,\"\")","v":""},{"$f":"IF(المدخلات!C163>0,المدخلات!C163,\"\")","v":""},{"$f":"IF(المدخلات!D163>0,المدخلات!D163,\"\")","v":""},{"$f":"IF(المدخلات!E163>0,المدخلات!E163,\"\")","v":""},{"$f":"IF(المدخلات!F163>0,المدخلات!F163,\"\")","v":""},{"$f":"IF(المدخلات!B163>0,المدخلات!$C$4,\"\")","v":""}]
[159,{"$f":"IF(المدخلات!B164>0,المدخلات!B164,\"\")","v":""},{"$f":"IF(المدخلات!C164>0,المدخلات!C164,\"\")","v":""},{"$f":"IF(المدخلات!D164>0,المدخلات!D164,\"\")","v":""},{"$f":"IF(المدخلات!E164>0,المدخلات!E164,\"\")","v":""},{"$f":"IF(المدخلات!F164>0,المدخلات!F164,\"\")","v":""},{"$f":"IF(المدخلات!B164>0,المدخلات!$C$4,\"\")","v":""}]
[160,{"$f":"IF(المدخلات!B165>0,المدخلات!B165,\"\")","v":""},{"$f":"IF(المدخلات!C165>0,المدخلات!C165,\"\")","v":""},{"$f":"IF(المدخلات!D165>0,المدخلات!D165,\"\")","v":""},{"$f":"IF(المدخلات!E165>0,المدخلات!E165,\"\")","v":""},{"$f":"IF(المدخلات!F165>0,المدخلات!F165,\"\")","v":""},{"$f":"IF(المدخلات!B165>0,المدخلات!$C$4,\"\")","v":""}]
[161,{"$f":"IF(المدخلات!B166>0,المدخلات!B166,\"\")","v":""},{"$f":"IF(المدخلات!C166>0,المدخلات!C166,\"\")","v":""},{"$f":"IF(المدخلات!D166>0,المدخلات!D166,\"\")","v":""},{"$f":"IF(المدخلات!E166>0,المدخلات!E166,\"\")","v":""},{"$f":"IF(المدخلات!F166>0,المدخلات!F166,\"\")","v":""},{"$f":"IF(المدخلات!B166>0,المدخلات!$C$4,\"\")","v":""}]
[162,{"$f":"IF(المدخلات!B167>0,المدخلات!B167,\"\")","v":""},{"$f":"IF(المدخلات!C167>0,المدخلات!C167,\"\")","v":""},{"$f":"IF(المدخلات!D167>0,المدخلات!D167,\"\")","v":""},{"$f":"IF(المدخلات!E167>0,المدخلات!E167,\"\")","v":""},{"$f":"IF(المدخلات!F167>0,المدخلات!F167,\"\")","v":""},{"$f":"IF(المدخلات!B167>0,المدخلات!$C$4,\"\")","v":""}]
[163,{"$f":"IF(المدخلات!B168>0,المدخلات!B168,\"\")","v":""},{"$f":"IF(المدخلات!C168>0,المدخلات!C168,\"\")","v":""},{"$f":"IF(المدخلات!D168>0,المدخلات!D168,\"\")","v":""},{"$f":"IF(المدخلات!E168>0,المدخلات!E168,\"\")","v":""},{"$f":"IF(المدخلات!F168>0,المدخلات!F168,\"\")","v":""},{"$f":"IF(المدخلات!B168>0,المدخلات!$C$4,\"\")","v":""}]
[164,{"$f":"IF(المدخلات!B169>0,المدخلات!B169,\"\")","v":""},{"$f":"IF(المدخلات!C169>0,المدخلات!C169,\"\")","v":""},{"$f":"IF(المدخلات!D169>0,المدخلات!D169,\"\")","v":""},{"$f":"IF(المدخلات!E169>0,المدخلات!E169,\"\")","v":""},{"$f":"IF(المدخلات!F169>0,المدخلات!F169,\"\")","v":""},{"$f":"IF(المدخلات!B169>0,المدخلات!$C$4,\"\")","v":""}]
[165,{"$f":"IF(المدخلات!B170>0,المدخلات!B170,\"\")","v":""},{"$f":"IF(المدخلات!C170>0,المدخلات!C170,\"\")","v":""},{"$f":"IF(المدخلات!D170>0,المدخلات!D170,\"\")","v":""},{"$f":"IF(المدخلات!E170>0,المدخلات!E170,\"\")","v":""},{"$f":"IF(المدخلات!F170>0,المدخلات!F170,\"\")","v":""},{"$f":"IF(المدخلات!B170>0,المدخلات!$C$4,\"\")","v":""}]
[166,{"$f":"IF(المدخلات!B171>0,المدخلات!B171,\"\")","v":""},{"$f":"IF(المدخلات!C171>0,المدخلات!C171,\"\")","v":""},{"$f":"IF(المدخلات!D171>0,المدخلات!D171,\"\")","v":""},{"$f":"IF(المدخلات!E171>0,المدخلات!E171,\"\")","v":""},{"$f":"IF(المدخلات!F171>0,المدخلات!F171,\"\")","v":""},{"$f":"IF(المدخلات!B171>0,المدخلات!$C$4,\"\")","v":""}]
[167,{"$f":"IF(المدخلات!B172>0,المدخلات!B172,\"\")","v":""},{"$f":"IF(المدخلات!C172>0,المدخلات!C172,\"\")","v":""},{"$f":"IF(المدخلات!D172>0,المدخلات!D172,\"\")","v":""},{"$f":"IF(المدخلات!E172>0,المدخلات!E172,\"\")","v":""},{"$f":"IF(المدخلات!F172>0,المدخلات!F172,\"\")","v":""},{"$f":"IF(المدخلات!B172>0,المدخلات!$C$4,\"\")","v":""}]
[168,{"$f":"IF(المدخلات!B173>0,المدخلات!B173,\"\")","v":""},{"$f":"IF(المدخلات!C173>0,المدخلات!C173,\"\")","v":""},{"$f":"IF(المدخلات!D173>0,المدخلات!D173,\"\")","v":""},{"$f":"IF(المدخلات!E173>0,المدخلات!E173,\"\")","v":""},{"$f":"IF(المدخلات!F173>0,المدخلات!F173,\"\")","v":""},{"$f":"IF(المدخلات!B173>0,المدخلات!$C$4,\"\")","v":""}]
[169,{"$f":"IF(المدخلات!B174>0,المدخلات!B174,\"\")","v":""},{"$f":"IF(المدخلات!C174>0,المدخلات!C174,\"\")","v":""},{"$f":"IF(المدخلات!D174>0,المدخلات!D174,\"\")","v":""},{"$f":"IF(المدخلات!E174>0,المدخلات!E174,\"\")","v":""},{"$f":"IF(المدخلات!F174>0,المدخلات!F174,\"\")","v":""},{"$f":"IF(المدخلات!B174>0,المدخلات!$C$4,\"\")","v":""}]
[170,{"$f":"IF(المدخلات!B175>0,المدخلات!B175,\"\")","v":""},{"$f":"IF(المدخلات!C175>0,المدخلات!C175,\"\")","v":""},{"$f":"IF(المدخلات!D175>0,المدخلات!D175,\"\")","v":""},{"$f":"IF(المدخلات!E175>0,المدخلات!E175,\"\")","v":""},{"$f":"IF(المدخلات!F175>0,المدخلات!F175,\"\")","v":""},{"$f":"IF(المدخلات!B175>0,المدخلات!$C$4,\"\")","v":""}]
[171,{"$f":"IF(المدخلات!B176>0,المدخلات!B176,\"\")","v":""},{"$f":"IF(المدخلات!C176>0,المدخلات!C176,\"\")","v":""},{"$f":"IF(المدخلات!D176>0,المدخلات!D176,\"\")","v":""},{"$f":"IF(المدخلات!E176>0,المدخلات!E176,\"\")","v":""},{"$f":"IF(المدخلات!F176>0,المدخلات!F176,\"\")","v":""},{"$f":"IF(المدخلات!B176>0,المدخلات!$C$4,\"\")","v":""}]
[172,{"$f":"IF(المدخلات!B177>0,المدخلات!B177,\"\")","v":""},{"$f":"IF(المدخلات!C177>0,المدخلات!C177,\"\")","v":""},{"$f":"IF(المدخلات!D177>0,المدخلات!D177,\"\")","v":""},{"$f":"IF(المدخلات!E177>0,المدخلات!E177,\"\")","v":""},{"$f":"IF(المدخلات!F177>0,المدخلات!F177,\"\")","v":""},{"$f":"IF(المدخلات!B177>0,المدخلات!$C$4,\"\")","v":""}]
[173,{"$f":"IF(المدخلات!B178>0,المدخلات!B178,\"\")","v":""},{"$f":"IF(المدخلات!C178>0,المدخلات!C178,\"\")","v":""},{"$f":"IF(المدخلات!D178>0,المدخلات!D178,\"\")","v":""},{"$f":"IF(المدخلات!E178>0,المدخلات!E178,\"\")","v":""},{"$f":"IF(المدخلات!F178>0,المدخلات!F178,\"\")","v":""},{"$f":"IF(المدخلات!B178>0,المدخلات!$C$4,\"\")","v":""}]
[174,{"$f":"IF(المدخلات!B179>0,المدخلات!B179,\"\")","v":""},{"$f":"IF(المدخلات!C179>0,المدخلات!C179,\"\")","v":""},{"$f":"IF(المدخلات!D179>0,المدخلات!D179,\"\")","v":""},{"$f":"IF(المدخلات!E179>0,المدخلات!E179,\"\")","v":""},{"$f":"IF(المدخلات!F179>0,المدخلات!F179,\"\")","v":""},{"$f":"IF(المدخلات!B179>0,المدخلات!$C$4,\"\")","v":""}]
[175,{"$f":"IF(المدخلات!B180>0,المدخلات!B180,\"\")","v":""},{"$f":"IF(المدخلات!C180>0,المدخلات!C180,\"\")","v":""},{"$f":"IF(المدخلات!D180>0,المدخلات!D180,\"\")","v":""},{"$f":"IF(المدخلات!E180>0,المدخلات!E180,\"\")","v":""},{"$f":"IF(المدخلات!F180>0,المدخلات!F180,\"\")","v":""},{"$f":"IF(المدخلات!B180>0,المدخلات!$C$4,\"\")","v":""}]
[176,{"$f":"IF(المدخلات!B181>0,المدخلات!B181,\"\")","v":""},{"$f":"IF(المدخلات!C181>0,المدخلات!C181,\"\")","v":""},{"$f":"IF(المدخلات!D181>0,المدخلات!D181,\"\")","v":""},{"$f":"IF(المدخلات!E181>0,المدخلات!E181,\"\")","v":""},{"$f":"IF(المدخلات!F181>0,المدخلات!F181,\"\")","v":""},{"$f":"IF(المدخلات!B181>0,المدخلات!$C$4,\"\")","v":""}]
[177,{"$f":"IF(المدخلات!B182>0,المدخلات!B182,\"\")","v":""},{"$f":"IF(المدخلات!C182>0,المدخلات!C182,\"\")","v":""},{"$f":"IF(المدخلات!D182>0,المدخلات!D182,\"\")","v":""},{"$f":"IF(المدخلات!E182>0,المدخلات!E182,\"\")","v":""},{"$f":"IF(المدخلات!F182>0,المدخلات!F182,\"\")","v":""},{"$f":"IF(المدخلات!B182>0,المدخلات!$C$4,\"\")","v":""}]
[178,{"$f":"IF(المدخلات!B183>0,المدخلات!B183,\"\")","v":""},{"$f":"IF(المدخلات!C183>0,المدخلات!C183,\"\")","v":""},{"$f":"IF(المدخلات!D183>0,المدخلات!D183,\"\")","v":""},{"$f":"IF(المدخلات!E183>0,المدخلات!E183,\"\")","v":""},{"$f":"IF(المدخلات!F183>0,المدخلات!F183,\"\")","v":""},{"$f":"IF(المدخلات!B183>0,المدخلات!$C$4,\"\")","v":""}]
[179,{"$f":"IF(المدخلات!B184>0,المدخلات!B184,\"\")","v":""},{"$f":"IF(المدخلات!C184>0,المدخلات!C184,\"\")","v":""},{"$f":"IF(المدخلات!D184>0,المدخلات!D184,\"\")","v":""},{"$f":"IF(المدخلات!E184>0,المدخلات!E184,\"\")","v":""},{"$f":"IF(المدخلات!F184>0,المدخلات!F184,\"\")","v":""},{"$f":"IF(المدخلات!B184>0,المدخلات!$C$4,\"\")","v":""}]
[180,{"$f":"IF(المدخلات!B185>0,المدخلات!B185,\"\")","v":""},{"$f":"IF(المدخلات!C185>0,المدخلات!C185,\"\")","v":""},{"$f":"IF(المدخلات!D185>0,المدخلات!D185,\"\")","v":""},{"$f":"IF(المدخلات!E185>0,المدخلات!E185,\"\")","v":""},{"$f":"IF(المدخلات!F185>0,المدخلات!F185,\"\")","v":""},{"$f":"IF(المدخلات!B185>0,المدخلات!$C$4,\"\")","v":""}]
[181,{"$f":"IF(المدخلات!B186>0,المدخلات!B186,\"\")","v":""},{"$f":"IF(المدخلات!C186>0,المدخلات!C186,\"\")","v":""},{"$f":"IF(المدخلات!D186>0,المدخلات!D186,\"\")","v":""},{"$f":"IF(المدخلات!E186>0,المدخلات!E186,\"\")","v":""},{"$f":"IF(المدخلات!F186>0,المدخلات!F186,\"\")","v":""},{"$f":"IF(المدخلات!B186>0,المدخلات!$C$4,\"\")","v":""}]
[182,{"$f":"IF(المدخلات!B187>0,المدخلات!B187,\"\")","v":""},{"$f":"IF(المدخلات!C187>0,المدخلات!C187,\"\")","v":""},{"$f":"IF(المدخلات!D187>0,المدخلات!D187,\"\")","v":""},{"$f":"IF(المدخلات!E187>0,المدخلات!E187,\"\")","v":""},{"$f":"IF(المدخلات!F187>0,المدخلات!F187,\"\")","v":""},{"$f":"IF(المدخلات!B187>0,المدخلات!$C$4,\"\")","v":""}]
[183,{"$f":"IF(المدخلات!B188>0,المدخلات!B188,\"\")","v":""},{"$f":"IF(المدخلات!C188>0,المدخلات!C188,\"\")","v":""},{"$f":"IF(المدخلات!D188>0,المدخلات!D188,\"\")","v":""},{"$f":"IF(المدخلات!E188>0,المدخلات!E188,\"\")","v":""},{"$f":"IF(المدخلات!F188>0,المدخلات!F188,\"\")","v":""},{"$f":"IF(المدخلات!B188>0,المدخلات!$C$4,\"\")","v":""}]
[184,{"$f":"IF(المدخلات!B189>0,المدخلات!B189,\"\")","v":""},{"$f":"IF(المدخلات!C189>0,المدخلات!C189,\"\")","v":""},{"$f":"IF(المدخلات!D189>0,المدخلات!D189,\"\")","v":""},{"$f":"IF(المدخلات!E189>0,المدخلات!E189,\"\")","v":""},{"$f":"IF(المدخلات!F189>0,المدخلات!F189,\"\")","v":""},{"$f":"IF(المدخلات!B189>0,المدخلات!$C$4,\"\")","v":""}]
[185,{"$f":"IF(المدخلات!B190>0,المدخلات!B190,\"\")","v":""},{"$f":"IF(المدخلات!C190>0,المدخلات!C190,\"\")","v":""},{"$f":"IF(المدخلات!D190>0,المدخلات!D190,\"\")","v":""},{"$f":"IF(المدخلات!E190>0,المدخلات!E190,\"\")","v":""},{"$f":"IF(المدخلات!F190>0,المدخلات!F190,\"\")","v":""},{"$f":"IF(المدخلات!B190>0,المدخلات!$C$4,\"\")","v":""}]
[186,{"$f":"IF(المدخلات!B191>0,المدخلات!B191,\"\")","v":""},{"$f":"IF(المدخلات!C191>0,المدخلات!C191,\"\")","v":""},{"$f":"IF(المدخلات!D191>0,المدخلات!D191,\"\")","v":""},{"$f":"IF(المدخلات!E191>0,المدخلات!E191,\"\")","v":""},{"$f":"IF(المدخلات!F191>0,المدخلات!F191,\"\")","v":""},{"$f":"IF(المدخلات!B191>0,المدخلات!$C$4,\"\")","v":""}]
[187,{"$f":"IF(المدخلات!B192>0,المدخلات!B192,\"\")","v":""},{"$f":"IF(المدخلات!C192>0,المدخلات!C192,\"\")","v":""},{"$f":"IF(المدخلات!D192>0,المدخلات!D192,\"\")","v":""},{"$f":"IF(المدخلات!E192>0,المدخلات!E192,\"\")","v":""},{"$f":"IF(المدخلات!F192>0,المدخلات!F192,\"\")","v":""},{"$f":"IF(المدخلات!B192>0,المدخلات!$C$4,\"\")","v":""}]
[188,{"$f":"IF(المدخلات!B193>0,المدخلات!B193,\"\")","v":""},{"$f":"IF(المدخلات!C193>0,المدخلات!C193,\"\")","v":""},{"$f":"IF(المدخلات!D193>0,المدخلات!D193,\"\")","v":""},{"$f":"IF(المدخلات!E193>0,المدخلات!E193,\"\")","v":""},{"$f":"IF(المدخلات!F193>0,المدخلات!F193,\"\")","v":""},{"$f":"IF(المدخلات!B193>0,المدخلات!$C$4,\"\")","v":""}]
[189,{"$f":"IF(المدخلات!B194>0,المدخلات!B194,\"\")","v":""},{"$f":"IF(المدخلات!C194>0,المدخلات!C194,\"\")","v":""},{"$f":"IF(المدخلات!D194>0,المدخلات!D194,\"\")","v":""},{"$f":"IF(المدخلات!E194>0,المدخلات!E194,\"\")","v":""},{"$f":"IF(المدخلات!F194>0,المدخلات!F194,\"\")","v":""},{"$f":"IF(المدخلات!B194>0,المدخلات!$C$4,\"\")","v":""}]
[190,{"$f":"IF(المدخلات!B195>0,المدخلات!B195,\"\")","v":""},{"$f":"IF(المدخلات!C195>0,المدخلات!C195,\"\")","v":""},{"$f":"IF(المدخلات!D195>0,المدخلات!D195,\"\")","v":""},{"$f":"IF(المدخلات!E195>0,المدخلات!E195,\"\")","v":""},{"$f":"IF(المدخلات!F195>0,المدخلات!F195,\"\")","v":""},{"$f":"IF(المدخلات!B195>0,المدخلات!$C$4,\"\")","v":""}]
[191,{"$f":"IF(المدخلات!B196>0,المدخلات!B196,\"\")","v":""},{"$f":"IF(المدخلات!C196>0,المدخلات!C196,\"\")","v":""},{"$f":"IF(المدخلات!D196>0,المدخلات!D196,\"\")","v":""},{"$f":"IF(المدخلات!E196>0,المدخلات!E196,\"\")","v":""},{"$f":"IF(المدخلات!F196>0,المدخلات!F196,\"\")","v":""},{"$f":"IF(المدخلات!B196>0,المدخلات!$C$4,\"\")","v":""}]
[192,{"$f":"IF(المدخلات!B197>0,المدخلات!B197,\"\")","v":""},{"$f":"IF(المدخلات!C197>0,المدخلات!C197,\"\")","v":""},{"$f":"IF(المدخلات!D197>0,المدخلات!D197,\"\")","v":""},{"$f":"IF(المدخلات!E197>0,المدخلات!E197,\"\")","v":""},{"$f":"IF(المدخلات!F197>0,المدخلات!F197,\"\")","v":""},{"$f":"IF(المدخلات!B197>0,المدخلات!$C$4,\"\")","v":""}]
[193,{"$f":"IF(المدخلات!B198>0,المدخلات!B198,\"\")","v":""},{"$f":"IF(المدخلات!C198>0,المدخلات!C198,\"\")","v":""},{"$f":"IF(المدخلات!D198>0,المدخلات!D198,\"\")","v":""},{"$f":"IF(المدخلات!E198>0,المدخلات!E198,\"\")","v":""},{"$f":"IF(المدخلات!F198>0,المدخلات!F198,\"\")","v":""},{"$f":"IF(المدخلات!B198>0,المدخلات!$C$4,\"\")","v":""}]
[194,{"$f":"IF(المدخلات!B199>0,المدخلات!B199,\"\")","v":""},{"$f":"IF(المدخلات!C199>0,المدخلات!C199,\"\")","v":""},{"$f":"IF(المدخلات!D199>0,المدخلات!D199,\"\")","v":""},{"$f":"IF(المدخلات!E199>0,المدخلات!E199,\"\")","v":""},{"$f":"IF(المدخلات!F199>0,المدخلات!F199,\"\")","v":""},{"$f":"IF(المدخلات!B199>0,المدخلات!$C$4,\"\")","v":""}]
[195,{"$f":"IF(المدخلات!B200>0,المدخلات!B200,\"\")","v":""},{"$f":"IF(المدخلات!C200>0,المدخلات!C200,\"\")","v":""},{"$f":"IF(المدخلات!D200>0,المدخلات!D200,\"\")","v":""},{"$f":"IF(المدخلات!E200>0,المدخلات!E200,\"\")","v":""},{"$f":"IF(المدخلات!F200>0,المدخلات!F200,\"\")","v":""},{"$f":"IF(المدخلات!B200>0,المدخلات!$C$4,\"\")","v":""}]
[196,{"$f":"IF(المدخلات!B201>0,المدخلات!B201,\"\")","v":""},{"$f":"IF(المدخلات!C201>0,المدخلات!C201,\"\")","v":""},{"$f":"IF(المدخلات!D201>0,المدخلات!D201,\"\")","v":""},{"$f":"IF(المدخلات!E201>0,المدخلات!E201,\"\")","v":""},{"$f":"IF(المدخلات!F201>0,المدخلات!F201,\"\")","v":""},{"$f":"IF(المدخلات!B201>0,المدخلات!$C$4,\"\")","v":""}]
[197,{"$f":"IF(المدخلات!B202>0,المدخلات!B202,\"\")","v":""},{"$f":"IF(المدخلات!C202>0,المدخلات!C202,\"\")","v":""},{"$f":"IF(المدخلات!D202>0,المدخلات!D202,\"\")","v":""},{"$f":"IF(المدخلات!E202>0,المدخلات!E202,\"\")","v":""},{"$f":"IF(المدخلات!F202>0,المدخلات!F202,\"\")","v":""},{"$f":"IF(المدخلات!B202>0,المدخلات!$C$4,\"\")","v":""}]
[198,{"$f":"IF(المدخلات!B203>0,المدخلات!B203,\"\")","v":""},{"$f":"IF(المدخلات!C203>0,المدخلات!C203,\"\")","v":""},{"$f":"IF(المدخلات!D203>0,المدخلات!D203,\"\")","v":""},{"$f":"IF(المدخلات!E203>0,المدخلات!E203,\"\")","v":""},{"$f":"IF(المدخلات!F203>0,المدخلات!F203,\"\")","v":""},{"$f":"IF(المدخلات!B203>0,المدخلات!$C$4,\"\")","v":""}]
[199,{"$f":"IF(المدخلات!B204>0,المدخلات!B204,\"\")","v":""},{"$f":"IF(المدخلات!C204>0,المدخلات!C204,\"\")","v":""},{"$f":"IF(المدخلات!D204>0,المدخلات!D204,\"\")","v":""},{"$f":"IF(المدخلات!E204>0,المدخلات!E204,\"\")","v":""},{"$f":"IF(المدخلات!F204>0,المدخلات!F204,\"\")","v":""},{"$f":"IF(المدخلات!B204>0,المدخلات!$C$4,\"\")","v":""}]
[200,{"$f":"IF(المدخلات!B205>0,المدخلات!B205,\"\")","v":""},{"$f":"IF(المدخلات!C205>0,المدخلات!C205,\"\")","v":""},{"$f":"IF(المدخلات!D205>0,المدخلات!D205,\"\")","v":""},{"$f":"IF(المدخلات!E205>0,المدخلات!E205,\"\")","v":""},{"$f":"IF(المدخلات!F205>0,المدخلات!F205,\"\")","v":""},{"$f":"IF(المدخلات!B205>0,المدخلات!$C$4,\"\")","v":""}]
[201,{"$f":"IF(المدخلات!B206>0,المدخلات!B206,\"\")","v":""},{"$f":"IF(المدخلات!C206>0,المدخلات!C206,\"\")","v":""},{"$f":"IF(المدخلات!D206>0,المدخلات!D206,\"\")","v":""},{"$f":"IF(المدخلات!E206>0,المدخلات!E206,\"\")","v":""},{"$f":"IF(المدخلات!F206>0,المدخلات!F206,\"\")","v":""},{"$f":"IF(المدخلات!B206>0,المدخلات!$C$4,\"\")","v":""}]
[202,{"$f":"IF(المدخلات!B207>0,المدخلات!B207,\"\")","v":""},{"$f":"IF(المدخلات!C207>0,المدخلات!C207,\"\")","v":""},{"$f":"IF(المدخلات!D207>0,المدخلات!D207,\"\")","v":""},{"$f":"IF(المدخلات!E207>0,المدخلات!E207,\"\")","v":""},{"$f":"IF(المدخلات!F207>0,المدخلات!F207,\"\")","v":""},{"$f":"IF(المدخلات!B207>0,المدخلات!$C$4,\"\")","v":""}]
[203,{"$f":"IF(المدخلات!B208>0,المدخلات!B208,\"\")","v":""},{"$f":"IF(المدخلات!C208>0,المدخلات!C208,\"\")","v":""},{"$f":"IF(المدخلات!D208>0,المدخلات!D208,\"\")","v":""},{"$f":"IF(المدخلات!E208>0,المدخلات!E208,\"\")","v":""},{"$f":"IF(المدخلات!F208>0,المدخلات!F208,\"\")","v":""},{"$f":"IF(المدخلات!B208>0,المدخلات!$C$4,\"\")","v":""}]
[204,{"$f":"IF(المدخلات!B209>0,المدخلات!B209,\"\")","v":""},{"$f":"IF(المدخلات!C209>0,المدخلات!C209,\"\")","v":""},{"$f":"IF(المدخلات!D209>0,المدخلات!D209,\"\")","v":""},{"$f":"IF(المدخلات!E209>0,المدخلات!E209,\"\")","v":""},{"$f":"IF(المدخلات!F209>0,المدخلات!F209,\"\")","v":""},{"$f":"IF(المدخلات!B209>0,المدخلات!$C$4,\"\")","v":""}]
[205,{"$f":"IF(المدخلات!B210>0,المدخلات!B210,\"\")","v":""},{"$f":"IF(المدخلات!C210>0,المدخلات!C210,\"\")","v":""},{"$f":"IF(المدخلات!D210>0,المدخلات!D210,\"\")","v":""},{"$f":"IF(المدخلات!E210>0,المدخلات!E210,\"\")","v":""},{"$f":"IF(المدخلات!F210>0,المدخلات!F210,\"\")","v":""},{"$f":"IF(المدخلات!B210>0,المدخلات!$C$4,\"\")","v":""}]
[206,{"$f":"IF(المدخلات!B211>0,المدخلات!B211,\"\")","v":""},{"$f":"IF(المدخلات!C211>0,المدخلات!C211,\"\")","v":""},{"$f":"IF(المدخلات!D211>0,المدخلات!D211,\"\")","v":""},{"$f":"IF(المدخلات!E211>0,المدخلات!E211,\"\")","v":""},{"$f":"IF(المدخلات!F211>0,المدخلات!F211,\"\")","v":""},{"$f":"IF(المدخلات!B211>0,المدخلات!$C$4,\"\")","v":""}]
[207,{"$f":"IF(المدخلات!B212>0,المدخلات!B212,\"\")","v":""},{"$f":"IF(المدخلات!C212>0,المدخلات!C212,\"\")","v":""},{"$f":"IF(المدخلات!D212>0,المدخلات!D212,\"\")","v":""},{"$f":"IF(المدخلات!E212>0,المدخلات!E212,\"\")","v":""},{"$f":"IF(المدخلات!F212>0,المدخلات!F212,\"\")","v":""},{"$f":"IF(المدخلات!B212>0,المدخلات!$C$4,\"\")","v":""}]
[208,{"$f":"IF(المدخلات!B213>0,المدخلات!B213,\"\")","v":""},{"$f":"IF(المدخلات!C213>0,المدخلات!C213,\"\")","v":""},{"$f":"IF(المدخلات!D213>0,المدخلات!D213,\"\")","v":""},{"$f":"IF(المدخلات!E213>0,المدخلات!E213,\"\")","v":""},{"$f":"IF(المدخلات!F213>0,المدخلات!F213,\"\")","v":""},{"$f":"IF(المدخلات!B213>0,المدخلات!$C$4,\"\")","v":""}]
[209,{"$f":"IF(المدخلات!B214>0,المدخلات!B214,\"\")","v":""},{"$f":"IF(المدخلات!C214>0,المدخلات!C214,\"\")","v":""},{"$f":"IF(المدخلات!D214>0,المدخلات!D214,\"\")","v":""},{"$f":"IF(المدخلات!E214>0,المدخلات!E214,\"\")","v":""},{"$f":"IF(المدخلات!F214>0,المدخلات!F214,\"\")","v":""},{"$f":"IF(المدخلات!B214>0,المدخلات!$C$4,\"\")","v":""}]
[210,{"$f":"IF(المدخلات!B215>0,المدخلات!B215,\"\")","v":""},{"$f":"IF(المدخلات!C215>0,المدخلات!C215,\"\")","v":""},{"$f":"IF(المدخلات!D215>0,المدخلات!D215,\"\")","v":""},{"$f":"IF(المدخلات!E215>0,المدخلات!E215,\"\")","v":""},{"$f":"IF(المدخلات!F215>0,المدخلات!F215,\"\")","v":""},{"$f":"IF(المدخلات!B215>0,المدخلات!$C$4,\"\")","v":""}]
[211,{"$f":"IF(المدخلات!B216>0,المدخلات!B216,\"\")","v":""},{"$f":"IF(المدخلات!C216>0,المدخلات!C216,\"\")","v":""},{"$f":"IF(المدخلات!D216>0,المدخلات!D216,\"\")","v":""},{"$f":"IF(المدخلات!E216>0,المدخلات!E216,\"\")","v":""},{"$f":"IF(المدخلات!F216>0,المدخلات!F216,\"\")","v":""},{"$f":"IF(المدخلات!B216>0,المدخلات!$C$4,\"\")","v":""}]
[212,{"$f":"IF(المدخلات!B217>0,المدخلات!B217,\"\")","v":""},{"$f":"IF(المدخلات!C217>0,المدخلات!C217,\"\")","v":""},{"$f":"IF(المدخلات!D217>0,المدخلات!D217,\"\")","v":""},{"$f":"IF(المدخلات!E217>0,المدخلات!E217,\"\")","v":""},{"$f":"IF(المدخلات!F217>0,المدخلات!F217,\"\")","v":""},{"$f":"IF(المدخلات!B217>0,المدخلات!$C$4,\"\")","v":""}]
[213,{"$f":"IF(المدخلات!B218>0,المدخلات!B218,\"\")","v":""},{"$f":"IF(المدخلات!C218>0,المدخلات!C218,\"\")","v":""},{"$f":"IF(المدخلات!D218>0,المدخلات!D218,\"\")","v":""},{"$f":"IF(المدخلات!E218>0,المدخلات!E218,\"\")","v":""},{"$f":"IF(المدخلات!F218>0,المدخلات!F218,\"\")","v":""},{"$f":"IF(المدخلات!B218>0,المدخلات!$C$4,\"\")","v":""}]
[214,{"$f":"IF(المدخلات!B219>0,المدخلات!B219,\"\")","v":""},{"$f":"IF(المدخلات!C219>0,المدخلات!C219,\"\")","v":""},{"$f":"IF(المدخلات!D219>0,المدخلات!D219,\"\")","v":""},{"$f":"IF(المدخلات!E219>0,المدخلات!E219,\"\")","v":""},{"$f":"IF(المدخلات!F219>0,المدخلات!F219,\"\")","v":""},{"$f":"IF(المدخلات!B219>0,المدخلات!$C$4,\"\")","v":""}]
[215,{"$f":"IF(المدخلات!B220>0,المدخلات!B220,\"\")","v":""},{"$f":"IF(المدخلات!C220>0,المدخلات!C220,\"\")","v":""},{"$f":"IF(المدخلات!D220>0,المدخلات!D220,\"\")","v":""},{"$f":"IF(المدخلات!E220>0,المدخلات!E220,\"\")","v":""},{"$f":"IF(المدخلات!F220>0,المدخلات!F220,\"\")","v":""},{"$f":"IF(المدخلات!B220>0,المدخلات!$C$4,\"\")","v":""}]
[216,{"$f":"IF(المدخلات!B221>0,المدخلات!B221,\"\")","v":""},{"$f":"IF(المدخلات!C221>0,المدخلات!C221,\"\")","v":""},{"$f":"IF(المدخلات!D221>0,المدخلات!D221,\"\")","v":""},{"$f":"IF(المدخلات!E221>0,المدخلات!E221,\"\")","v":""},{"$f":"IF(المدخلات!F221>0,المدخلات!F221,\"\")","v":""},{"$f":"IF(المدخلات!B221>0,المدخلات!$C$4,\"\")","v":""}]
[217,{"$f":"IF(المدخلات!B222>0,المدخلات!B222,\"\")","v":""},{"$f":"IF(المدخلات!C222>0,المدخلات!C222,\"\")","v":""},{"$f":"IF(المدخلات!D222>0,المدخلات!D222,\"\")","v":""},{"$f":"IF(المدخلات!E222>0,المدخلات!E222,\"\")","v":""},{"$f":"IF(المدخلات!F222>0,المدخلات!F222,\"\")","v":""},{"$f":"IF(المدخلات!B222>0,المدخلات!$C$4,\"\")","v":""}]
[218,{"$f":"IF(المدخلات!B223>0,المدخلات!B223,\"\")","v":""},{"$f":"IF(المدخلات!C223>0,المدخلات!C223,\"\")","v":""},{"$f":"IF(المدخلات!D223>0,المدخلات!D223,\"\")","v":""},{"$f":"IF(المدخلات!E223>0,المدخلات!E223,\"\")","v":""},{"$f":"IF(المدخلات!F223>0,المدخلات!F223,\"\")","v":""},{"$f":"IF(المدخلات!B223>0,المدخلات!$C$4,\"\")","v":""}]
[219,{"$f":"IF(المدخلات!B224>0,المدخلات!B224,\"\")","v":""},{"$f":"IF(المدخلات!C224>0,المدخلات!C224,\"\")","v":""},{"$f":"IF(المدخلات!D224>0,المدخلات!D224,\"\")","v":""},{"$f":"IF(المدخلات!E224>0,المدخلات!E224,\"\")","v":""},{"$f":"IF(المدخلات!F224>0,المدخلات!F224,\"\")","v":""},{"$f":"IF(المدخلات!B224>0,المدخلات!$C$4,\"\")","v":""}]
[220,{"$f":"IF(المدخلات!B225>0,المدخلات!B225,\"\")","v":""},{"$f":"IF(المدخلات!C225>0,المدخلات!C225,\"\")","v":""},{"$f":"IF(المدخلات!D225>0,المدخلات!D225,\"\")","v":""},{"$f":"IF(المدخلات!E225>0,المدخلات!E225,\"\")","v":""},{"$f":"IF(المدخلات!F225>0,المدخلات!F225,\"\")","v":""},{"$f":"IF(المدخلات!B225>0,المدخلات!$C$4,\"\")","v":""}]
[221,{"$f":"IF(المدخلات!B226>0,المدخلات!B226,\"\")","v":""},{"$f":"IF(المدخلات!C226>0,المدخلات!C226,\"\")","v":""},{"$f":"IF(المدخلات!D226>0,المدخلات!D226,\"\")","v":""},{"$f":"IF(المدخلات!E226>0,المدخلات!E226,\"\")","v":""},{"$f":"IF(المدخلات!F226>0,المدخلات!F226,\"\")","v":""},{"$f":"IF(المدخلات!B226>0,المدخلات!$C$4,\"\")","v":""}]
[222,{"$f":"IF(المدخلات!B227>0,المدخلات!B227,\"\")","v":""},{"$f":"IF(المدخلات!C227>0,المدخلات!C227,\"\")","v":""},{"$f":"IF(المدخلات!D227>0,المدخلات!D227,\"\")","v":""},{"$f":"IF(المدخلات!E227>0,المدخلات!E227,\"\")","v":""},{"$f":"IF(المدخلات!F227>0,المدخلات!F227,\"\")","v":""},{"$f":"IF(المدخلات!B227>0,المدخلات!$C$4,\"\")","v":""}]
[223,{"$f":"IF(المدخلات!B228>0,المدخلات!B228,\"\")","v":""},{"$f":"IF(المدخلات!C228>0,المدخلات!C228,\"\")","v":""},{"$f":"IF(المدخلات!D228>0,المدخلات!D228,\"\")","v":""},{"$f":"IF(المدخلات!E228>0,المدخلات!E228,\"\")","v":""},{"$f":"IF(المدخلات!F228>0,المدخلات!F228,\"\")","v":""},{"$f":"IF(المدخلات!B228>0,المدخلات!$C$4,\"\")","v":""}]
[224,{"$f":"IF(المدخلات!B229>0,المدخلات!B229,\"\")","v":""},{"$f":"IF(المدخلات!C229>0,المدخلات!C229,\"\")","v":""},{"$f":"IF(المدخلات!D229>0,المدخلات!D229,\"\")","v":""},{"$f":"IF(المدخلات!E229>0,المدخلات!E229,\"\")","v":""},{"$f":"IF(المدخلات!F229>0,المدخلات!F229,\"\")","v":""},{"$f":"IF(المدخلات!B229>0,المدخلات!$C$4,\"\")","v":""}]
[225,{"$f":"IF(المدخلات!B230>0,المدخلات!B230,\"\")","v":""},{"$f":"IF(المدخلات!C230>0,المدخلات!C230,\"\")","v":""},{"$f":"IF(المدخلات!D230>0,المدخلات!D230,\"\")","v":""},{"$f":"IF(المدخلات!E230>0,المدخلات!E230,\"\")","v":""},{"$f":"IF(المدخلات!F230>0,المدخلات!F230,\"\")","v":""},{"$f":"IF(المدخلات!B230>0,المدخلات!$C$4,\"\")","v":""}]
[226,{"$f":"IF(المدخلات!B231>0,المدخلات!B231,\"\")","v":""},{"$f":"IF(المدخلات!C231>0,المدخلات!C231,\"\")","v":""},{"$f":"IF(المدخلات!D231>0,المدخلات!D231,\"\")","v":""},{"$f":"IF(المدخلات!E231>0,المدخلات!E231,\"\")","v":""},{"$f":"IF(المدخلات!F231>0,المدخلات!F231,\"\")","v":""},{"$f":"IF(المدخلات!B231>0,المدخلات!$C$4,\"\")","v":""}]
[227,{"$f":"IF(المدخلات!B232>0,المدخلات!B232,\"\")","v":""},{"$f":"IF(المدخلات!C232>0,المدخلات!C232,\"\")","v":""},{"$f":"IF(المدخلات!D232>0,المدخلات!D232,\"\")","v":""},{"$f":"IF(المدخلات!E232>0,المدخلات!E232,\"\")","v":""},{"$f":"IF(المدخلات!F232>0,المدخلات!F232,\"\")","v":""},{"$f":"IF(المدخلات!B232>0,المدخلات!$C$4,\"\")","v":""}]
[228,{"$f":"IF(المدخلات!B233>0,المدخلات!B233,\"\")","v":""},{"$f":"IF(المدخلات!C233>0,المدخلات!C233,\"\")","v":""},{"$f":"IF(المدخلات!D233>0,المدخلات!D233,\"\")","v":""},{"$f":"IF(المدخلات!E233>0,المدخلات!E233,\"\")","v":""},{"$f":"IF(المدخلات!F233>0,المدخلات!F233,\"\")","v":""},{"$f":"IF(المدخلات!B233>0,المدخلات!$C$4,\"\")","v":""}]
[229,{"$f":"IF(المدخلات!B234>0,المدخلات!B234,\"\")","v":""},{"$f":"IF(المدخلات!C234>0,المدخلات!C234,\"\")","v":""},{"$f":"IF(المدخلات!D234>0,المدخلات!D234,\"\")","v":""},{"$f":"IF(المدخلات!E234>0,المدخلات!E234,\"\")","v":""},{"$f":"IF(المدخلات!F234>0,المدخلات!F234,\"\")","v":""},{"$f":"IF(المدخلات!B234>0,المدخلات!$C$4,\"\")","v":""}]
[230,{"$f":"IF(المدخلات!B235>0,المدخلات!B235,\"\")","v":""},{"$f":"IF(المدخلات!C235>0,المدخلات!C235,\"\")","v":""},{"$f":"IF(المدخلات!D235>0,المدخلات!D235,\"\")","v":""},{"$f":"IF(المدخلات!E235>0,المدخلات!E235,\"\")","v":""},{"$f":"IF(المدخلات!F235>0,المدخلات!F235,\"\")","v":""},{"$f":"IF(المدخلات!B235>0,المدخلات!$C$4,\"\")","v":""}]
[231,{"$f":"IF(المدخلات!B236>0,المدخلات!B236,\"\")","v":""},{"$f":"IF(المدخلات!C236>0,المدخلات!C236,\"\")","v":""},{"$f":"IF(المدخلات!D236>0,المدخلات!D236,\"\")","v":""},{"$f":"IF(المدخلات!E236>0,المدخلات!E236,\"\")","v":""},{"$f":"IF(المدخلات!F236>0,المدخلات!F236,\"\")","v":""},{"$f":"IF(المدخلات!B236>0,المدخلات!$C$4,\"\")","v":""}]
[232,{"$f":"IF(المدخلات!B237>0,المدخلات!B237,\"\")","v":""},{"$f":"IF(المدخلات!C237>0,المدخلات!C237,\"\")","v":""},{"$f":"IF(المدخلات!D237>0,المدخلات!D237,\"\")","v":""},{"$f":"IF(المدخلات!E237>0,المدخلات!E237,\"\")","v":""},{"$f":"IF(المدخلات!F237>0,المدخلات!F237,\"\")","v":""},{"$f":"IF(المدخلات!B237>0,المدخلات!$C$4,\"\")","v":""}]
[233,{"$f":"IF(المدخلات!B238>0,المدخلات!B238,\"\")","v":""},{"$f":"IF(المدخلات!C238>0,المدخلات!C238,\"\")","v":""},{"$f":"IF(المدخلات!D238>0,المدخلات!D238,\"\")","v":""},{"$f":"IF(المدخلات!E238>0,المدخلات!E238,\"\")","v":""},{"$f":"IF(المدخلات!F238>0,المدخلات!F238,\"\")","v":""},{"$f":"IF(المدخلات!B238>0,المدخلات!$C$4,\"\")","v":""}]
[234,{"$f":"IF(المدخلات!B239>0,المدخلات!B239,\"\")","v":""},{"$f":"IF(المدخلات!C239>0,المدخلات!C239,\"\")","v":""},{"$f":"IF(المدخلات!D239>0,المدخلات!D239,\"\")","v":""},{"$f":"IF(المدخلات!E239>0,المدخلات!E239,\"\")","v":""},{"$f":"IF(المدخلات!F239>0,المدخلات!F239,\"\")","v":""},{"$f":"IF(المدخلات!B239>0,المدخلات!$C$4,\"\")","v":""}]
[235,{"$f":"IF(المدخلات!B240>0,المدخلات!B240,\"\")","v":""},{"$f":"IF(المدخلات!C240>0,المدخلات!C240,\"\")","v":""},{"$f":"IF(المدخلات!D240>0,المدخلات!D240,\"\")","v":""},{"$f":"IF(المدخلات!E240>0,المدخلات!E240,\"\")","v":""},{"$f":"IF(المدخلات!F240>0,المدخلات!F240,\"\")","v":""},{"$f":"IF(المدخلات!B240>0,المدخلات!$C$4,\"\")","v":""}]
[236,{"$f":"IF(المدخلات!B241>0,المدخلات!B241,\"\")","v":""},{"$f":"IF(المدخلات!C241>0,المدخلات!C241,\"\")","v":""},{"$f":"IF(المدخلات!D241>0,المدخلات!D241,\"\")","v":""},{"$f":"IF(المدخلات!E241>0,المدخلات!E241,\"\")","v":""},{"$f":"IF(المدخلات!F241>0,المدخلات!F241,\"\")","v":""},{"$f":"IF(المدخلات!B241>0,المدخلات!$C$4,\"\")","v":""}]
[237,{"$f":"IF(المدخلات!B242>0,المدخلات!B242,\"\")","v":""},{"$f":"IF(المدخلات!C242>0,المدخلات!C242,\"\")","v":""},{"$f":"IF(المدخلات!D242>0,المدخلات!D242,\"\")","v":""},{"$f":"IF(المدخلات!E242>0,المدخلات!E242,\"\")","v":""},{"$f":"IF(المدخلات!F242>0,المدخلات!F242,\"\")","v":""},{"$f":"IF(المدخلات!B242>0,المدخلات!$C$4,\"\")","v":""}]
[238,{"$f":"IF(المدخلات!B243>0,المدخلات!B243,\"\")","v":""},{"$f":"IF(المدخلات!C243>0,المدخلات!C243,\"\")","v":""},{"$f":"IF(المدخلات!D243>0,المدخلات!D243,\"\")","v":""},{"$f":"IF(المدخلات!E243>0,المدخلات!E243,\"\")","v":""},{"$f":"IF(المدخلات!F243>0,المدخلات!F243,\"\")","v":""},{"$f":"IF(المدخلات!B243>0,المدخلات!$C$4,\"\")","v":""}]
[239,{"$f":"IF(المدخلات!B244>0,المدخلات!B244,\"\")","v":""},{"$f":"IF(المدخلات!C244>0,المدخلات!C244,\"\")","v":""},{"$f":"IF(المدخلات!D244>0,المدخلات!D244,\"\")","v":""},{"$f":"IF(المدخلات!E244>0,المدخلات!E244,\"\")","v":""},{"$f":"IF(المدخلات!F244>0,المدخلات!F244,\"\")","v":""},{"$f":"IF(المدخلات!B244>0,المدخلات!$C$4,\"\")","v":""}]
[240,{"$f":"IF(المدخلات!B245>0,المدخلات!B245,\"\")","v":""},{"$f":"IF(المدخلات!C245>0,المدخلات!C245,\"\")","v":""},{"$f":"IF(المدخلات!D245>0,المدخلات!D245,\"\")","v":""},{"$f":"IF(المدخلات!E245>0,المدخلات!E245,\"\")","v":""},{"$f":"IF(المدخلات!F245>0,المدخلات!F245,\"\")","v":""},{"$f":"IF(المدخلات!B245>0,المدخلات!$C$4,\"\")","v":""}]
[241,{"$f":"IF(المدخلات!B246>0,المدخلات!B246,\"\")","v":""},{"$f":"IF(المدخلات!C246>0,المدخلات!C246,\"\")","v":""},{"$f":"IF(المدخلات!D246>0,المدخلات!D246,\"\")","v":""},{"$f":"IF(المدخلات!E246>0,المدخلات!E246,\"\")","v":""},{"$f":"IF(المدخلات!F246>0,المدخلات!F246,\"\")","v":""},{"$f":"IF(المدخلات!B246>0,المدخلات!$C$4,\"\")","v":""}]
[242,{"$f":"IF(المدخلات!B247>0,المدخلات!B247,\"\")","v":""},{"$f":"IF(المدخلات!C247>0,المدخلات!C247,\"\")","v":""},{"$f":"IF(المدخلات!D247>0,المدخلات!D247,\"\")","v":""},{"$f":"IF(المدخلات!E247>0,المدخلات!E247,\"\")","v":""},{"$f":"IF(المدخلات!F247>0,المدخلات!F247,\"\")","v":""},{"$f":"IF(المدخلات!B247>0,المدخلات!$C$4,\"\")","v":""}]
[243,{"$f":"IF(المدخلات!B248>0,المدخلات!B248,\"\")","v":""},{"$f":"IF(المدخلات!C248>0,المدخلات!C248,\"\")","v":""},{"$f":"IF(المدخلات!D248>0,المدخلات!D248,\"\")","v":""},{"$f":"IF(المدخلات!E248>0,المدخلات!E248,\"\")","v":""},{"$f":"IF(المدخلات!F248>0,المدخلات!F248,\"\")","v":""},{"$f":"IF(المدخلات!B248>0,المدخلات!$C$4,\"\")","v":""}]
[244,{"$f":"IF(المدخلات!B249>0,المدخلات!B249,\"\")","v":""},{"$f":"IF(المدخلات!C249>0,المدخلات!C249,\"\")","v":""},{"$f":"IF(المدخلات!D249>0,المدخلات!D249,\"\")","v":""},{"$f":"IF(المدخلات!E249>0,المدخلات!E249,\"\")","v":""},{"$f":"IF(المدخلات!F249>0,المدخلات!F249,\"\")","v":""},{"$f":"IF(المدخلات!B249>0,المدخلات!$C$4,\"\")","v":""}]
[245,{"$f":"IF(المدخلات!B250>0,المدخلات!B250,\"\")","v":""},{"$f":"IF(المدخلات!C250>0,المدخلات!C250,\"\")","v":""},{"$f":"IF(المدخلات!D250>0,المدخلات!D250,\"\")","v":""},{"$f":"IF(المدخلات!E250>0,المدخلات!E250,\"\")","v":""},{"$f":"IF(المدخلات!F250>0,المدخلات!F250,\"\")","v":""},{"$f":"IF(المدخلات!B250>0,المدخلات!$C$4,\"\")","v":""}]
[246,{"$f":"IF(المدخلات!B251>0,المدخلات!B251,\"\")","v":""},{"$f":"IF(المدخلات!C251>0,المدخلات!C251,\"\")","v":""},{"$f":"IF(المدخلات!D251>0,المدخلات!D251,\"\")","v":""},{"$f":"IF(المدخلات!E251>0,المدخلات!E251,\"\")","v":""},{"$f":"IF(المدخلات!F251>0,المدخلات!F251,\"\")","v":""},{"$f":"IF(المدخلات!B251>0,المدخلات!$C$4,\"\")","v":""}]
[247,{"$f":"IF(المدخلات!B252>0,المدخلات!B252,\"\")","v":""},{"$f":"IF(المدخلات!C252>0,المدخلات!C252,\"\")","v":""},{"$f":"IF(المدخلات!D252>0,المدخلات!D252,\"\")","v":""},{"$f":"IF(المدخلات!E252>0,المدخلات!E252,\"\")","v":""},{"$f":"IF(المدخلات!F252>0,المدخلات!F252,\"\")","v":""},{"$f":"IF(المدخلات!B252>0,المدخلات!$C$4,\"\")","v":""}]
[248,{"$f":"IF(المدخلات!B253>0,المدخلات!B253,\"\")","v":""},{"$f":"IF(المدخلات!C253>0,المدخلات!C253,\"\")","v":""},{"$f":"IF(المدخلات!D253>0,المدخلات!D253,\"\")","v":""},{"$f":"IF(المدخلات!E253>0,المدخلات!E253,\"\")","v":""},{"$f":"IF(المدخلات!F253>0,المدخلات!F253,\"\")","v":""},{"$f":"IF(المدخلات!B253>0,المدخلات!$C$4,\"\")","v":""}]
[249,{"$f":"IF(المدخلات!B254>0,المدخلات!B254,\"\")","v":""},{"$f":"IF(المدخلات!C254>0,المدخلات!C254,\"\")","v":""},{"$f":"IF(المدخلات!D254>0,المدخلات!D254,\"\")","v":""},{"$f":"IF(المدخلات!E254>0,المدخلات!E254,\"\")","v":""},{"$f":"IF(المدخلات!F254>0,المدخلات!F254,\"\")","v":""},{"$f":"IF(المدخلات!B254>0,المدخلات!$C$4,\"\")","v":""}]
[250,{"$f":"IF(المدخلات!B255>0,المدخلات!B255,\"\")","v":""},{"$f":"IF(المدخلات!C255>0,المدخلات!C255,\"\")","v":""},{"$f":"IF(المدخلات!D255>0,المدخلات!D255,\"\")","v":""},{"$f":"IF(المدخلات!E255>0,المدخلات!E255,\"\")","v":""},{"$f":"IF(المدخلات!F255>0,المدخلات!F255,\"\")","v":""},{"$f":"IF(المدخلات!B255>0,المدخلات!$C$4,\"\")","v":""}]
[251,{"$f":"IF(المدخلات!B256>0,المدخلات!B256,\"\")","v":""},{"$f":"IF(المدخلات!C256>0,المدخلات!C256,\"\")","v":""},{"$f":"IF(المدخلات!D256>0,المدخلات!D256,\"\")","v":""},{"$f":"IF(المدخلات!E256>0,المدخلات!E256,\"\")","v":""},{"$f":"IF(المدخلات!F256>0,المدخلات!F256,\"\")","v":""},{"$f":"IF(المدخلات!B256>0,المدخلات!$C$4,\"\")","v":""}]
[252,{"$f":"IF(المدخلات!B257>0,المدخلات!B257,\"\")","v":""},{"$f":"IF(المدخلات!C257>0,المدخلات!C257,\"\")","v":""},{"$f":"IF(المدخلات!D257>0,المدخلات!D257,\"\")","v":""},{"$f":"IF(المدخلات!E257>0,المدخلات!E257,\"\")","v":""},{"$f":"IF(المدخلات!F257>0,المدخلات!F257,\"\")","v":""},{"$f":"IF(المدخلات!B257>0,المدخلات!$C$4,\"\")","v":""}]
[253,{"$f":"IF(المدخلات!B258>0,المدخلات!B258,\"\")","v":""},{"$f":"IF(المدخلات!C258>0,المدخلات!C258,\"\")","v":""},{"$f":"IF(المدخلات!D258>0,المدخلات!D258,\"\")","v":""},{"$f":"IF(المدخلات!E258>0,المدخلات!E258,\"\")","v":""},{"$f":"IF(المدخلات!F258>0,المدخلات!F258,\"\")","v":""},{"$f":"IF(المدخلات!B258>0,المدخلات!$C$4,\"\")","v":""}]
[254,{"$f":"IF(المدخلات!B259>0,المدخلات!B259,\"\")","v":""},{"$f":"IF(المدخلات!C259>0,المدخلات!C259,\"\")","v":""},{"$f":"IF(المدخلات!D259>0,المدخلات!D259,\"\")","v":""},{"$f":"IF(المدخلات!E259>0,المدخلات!E259,\"\")","v":""},{"$f":"IF(المدخلات!F259>0,المدخلات!F259,\"\")","v":""},{"$f":"IF(المدخلات!B259>0,المدخلات!$C$4,\"\")","v":""}]
[255,{"$f":"IF(المدخلات!B260>0,المدخلات!B260,\"\")","v":""},{"$f":"IF(المدخلات!C260>0,المدخلات!C260,\"\")","v":""},{"$f":"IF(المدخلات!D260>0,المدخلات!D260,\"\")","v":""},{"$f":"IF(المدخلات!E260>0,المدخلات!E260,\"\")","v":""},{"$f":"IF(المدخلات!F260>0,المدخلات!F260,\"\")","v":""},{"$f":"IF(المدخلات!B260>0,المدخلات!$C$4,\"\")","v":""}]
[256,{"$f":"IF(المدخلات!B261>0,المدخلات!B261,\"\")","v":""},{"$f":"IF(المدخلات!C261>0,المدخلات!C261,\"\")","v":""},{"$f":"IF(المدخلات!D261>0,المدخلات!D261,\"\")","v":""},{"$f":"IF(المدخلات!E261>0,المدخلات!E261,\"\")","v":""},{"$f":"IF(المدخلات!F261>0,المدخلات!F261,\"\")","v":""},{"$f":"IF(المدخلات!B261>0,المدخلات!$C$4,\"\")","v":""}]
[257,{"$f":"IF(المدخلات!B262>0,المدخلات!B262,\"\")","v":""},{"$f":"IF(المدخلات!C262>0,المدخلات!C262,\"\")","v":""},{"$f":"IF(المدخلات!D262>0,المدخلات!D262,\"\")","v":""},{"$f":"IF(المدخلات!E262>0,المدخلات!E262,\"\")","v":""},{"$f":"IF(المدخلات!F262>0,المدخلات!F262,\"\")","v":""},{"$f":"IF(المدخلات!B262>0,المدخلات!$C$4,\"\")","v":""}]
[258,{"$f":"IF(المدخلات!B263>0,المدخلات!B263,\"\")","v":""},{"$f":"IF(المدخلات!C263>0,المدخلات!C263,\"\")","v":""},{"$f":"IF(المدخلات!D263>0,المدخلات!D263,\"\")","v":""},{"$f":"IF(المدخلات!E263>0,المدخلات!E263,\"\")","v":""},{"$f":"IF(المدخلات!F263>0,المدخلات!F263,\"\")","v":""},{"$f":"IF(المدخلات!B263>0,المدخلات!$C$4,\"\")","v":""}]
[259,{"$f":"IF(المدخلات!B264>0,المدخلات!B264,\"\")","v":""},{"$f":"IF(المدخلات!C264>0,المدخلات!C264,\"\")","v":""},{"$f":"IF(المدخلات!D264>0,المدخلات!D264,\"\")","v":""},{"$f":"IF(المدخلات!E264>0,المدخلات!E264,\"\")","v":""},{"$f":"IF(المدخلات!F264>0,المدخلات!F264,\"\")","v":""},{"$f":"IF(المدخلات!B264>0,المدخلات!$C$4,\"\")","v":""}]
[260,{"$f":"IF(المدخلات!B265>0,المدخلات!B265,\"\")","v":""},{"$f":"IF(المدخلات!C265>0,المدخلات!C265,\"\")","v":""},{"$f":"IF(المدخلات!D265>0,المدخلات!D265,\"\")","v":""},{"$f":"IF(المدخلات!E265>0,المدخلات!E265,\"\")","v":""},{"$f":"IF(المدخلات!F265>0,المدخلات!F265,\"\")","v":""},{"$f":"IF(المدخلات!B265>0,المدخلات!$C$4,\"\")","v":""}]
[261,{"$f":"IF(المدخلات!B266>0,المدخلات!B266,\"\")","v":""},{"$f":"IF(المدخلات!C266>0,المدخلات!C266,\"\")","v":""},{"$f":"IF(المدخلات!D266>0,المدخلات!D266,\"\")","v":""},{"$f":"IF(المدخلات!E266>0,المدخلات!E266,\"\")","v":""},{"$f":"IF(المدخلات!F266>0,المدخلات!F266,\"\")","v":""},{"$f":"IF(المدخلات!B266>0,المدخلات!$C$4,\"\")","v":""}]
[262,{"$f":"IF(المدخلات!B267>0,المدخلات!B267,\"\")","v":""},{"$f":"IF(المدخلات!C267>0,المدخلات!C267,\"\")","v":""},{"$f":"IF(المدخلات!D267>0,المدخلات!D267,\"\")","v":""},{"$f":"IF(المدخلات!E267>0,المدخلات!E267,\"\")","v":""},{"$f":"IF(المدخلات!F267>0,المدخلات!F267,\"\")","v":""},{"$f":"IF(المدخلات!B267>0,المدخلات!$C$4,\"\")","v":""}]
[263,{"$f":"IF(المدخلات!B268>0,المدخلات!B268,\"\")","v":""},{"$f":"IF(المدخلات!C268>0,المدخلات!C268,\"\")","v":""},{"$f":"IF(المدخلات!D268>0,المدخلات!D268,\"\")","v":""},{"$f":"IF(المدخلات!E268>0,المدخلات!E268,\"\")","v":""},{"$f":"IF(المدخلات!F268>0,المدخلات!F268,\"\")","v":""},{"$f":"IF(المدخلات!B268>0,المدخلات!$C$4,\"\")","v":""}]
[264,{"$f":"IF(المدخلات!B269>0,المدخلات!B269,\"\")","v":""},{"$f":"IF(المدخلات!C269>0,المدخلات!C269,\"\")","v":""},{"$f":"IF(المدخلات!D269>0,المدخلات!D269,\"\")","v":""},{"$f":"IF(المدخلات!E269>0,المدخلات!E269,\"\")","v":""},{"$f":"IF(المدخلات!F269>0,المدخلات!F269,\"\")","v":""},{"$f":"IF(المدخلات!B269>0,المدخلات!$C$4,\"\")","v":""}]
[265,{"$f":"IF(المدخلات!B270>0,المدخلات!B270,\"\")","v":""},{"$f":"IF(المدخلات!C270>0,المدخلات!C270,\"\")","v":""},{"$f":"IF(المدخلات!D270>0,المدخلات!D270,\"\")","v":""},{"$f":"IF(المدخلات!E270>0,المدخلات!E270,\"\")","v":""},{"$f":"IF(المدخلات!F270>0,المدخلات!F270,\"\")","v":""},{"$f":"IF(المدخلات!B270>0,المدخلات!$C$4,\"\")","v":""}]
[266,{"$f":"IF(المدخلات!B271>0,المدخلات!B271,\"\")","v":""},{"$f":"IF(المدخلات!C271>0,المدخلات!C271,\"\")","v":""},{"$f":"IF(المدخلات!D271>0,المدخلات!D271,\"\")","v":""},{"$f":"IF(المدخلات!E271>0,المدخلات!E271,\"\")","v":""},{"$f":"IF(المدخلات!F271>0,المدخلات!F271,\"\")","v":""},{"$f":"IF(المدخلات!B271>0,المدخلات!$C$4,\"\")","v":""}]
[267,{"$f":"IF(المدخلات!B272>0,المدخلات!B272,\"\")","v":""},{"$f":"IF(المدخلات!C272>0,المدخلات!C272,\"\")","v":""},{"$f":"IF(المدخلات!D272>0,المدخلات!D272,\"\")","v":""},{"$f":"IF(المدخلات!E272>0,المدخلات!E272,\"\")","v":""},{"$f":"IF(المدخلات!F272>0,المدخلات!F272,\"\")","v":""},{"$f":"IF(المدخلات!B272>0,المدخلات!$C$4,\"\")","v":""}]
[268,{"$f":"IF(المدخلات!B273>0,المدخلات!B273,\"\")","v":""},{"$f":"IF(المدخلات!C273>0,المدخلات!C273,\"\")","v":""},{"$f":"IF(المدخلات!D273>0,المدخلات!D273,\"\")","v":""},{"$f":"IF(المدخلات!E273>0,المدخلات!E273,\"\")","v":""},{"$f":"IF(المدخلات!F273>0,المدخلات!F273,\"\")","v":""},{"$f":"IF(المدخلات!B273>0,المدخلات!$C$4,\"\")","v":""}]
[269,{"$f":"IF(المدخلات!B274>0,المدخلات!B274,\"\")","v":""},{"$f":"IF(المدخلات!C274>0,المدخلات!C274,\"\")","v":""},{"$f":"IF(المدخلات!D274>0,المدخلات!D274,\"\")","v":""},{"$f":"IF(المدخلات!E274>0,المدخلات!E274,\"\")","v":""},{"$f":"IF(المدخلات!F274>0,المدخلات!F274,\"\")","v":""},{"$f":"IF(المدخلات!B274>0,المدخلات!$C$4,\"\")","v":""}]
[270,{"$f":"IF(المدخلات!B275>0,المدخلات!B275,\"\")","v":""},{"$f":"IF(المدخلات!C275>0,المدخلات!C275,\"\")","v":""},{"$f":"IF(المدخلات!D275>0,المدخلات!D275,\"\")","v":""},{"$f":"IF(المدخلات!E275>0,المدخلات!E275,\"\")","v":""},{"$f":"IF(المدخلات!F275>0,المدخلات!F275,\"\")","v":""},{"$f":"IF(المدخلات!B275>0,المدخلات!$C$4,\"\")","v":""}]
[271,{"$f":"IF(المدخلات!B276>0,المدخلات!B276,\"\")","v":""},{"$f":"IF(المدخلات!C276>0,المدخلات!C276,\"\")","v":""},{"$f":"IF(المدخلات!D276>0,المدخلات!D276,\"\")","v":""},{"$f":"IF(المدخلات!E276>0,المدخلات!E276,\"\")","v":""},{"$f":"IF(المدخلات!F276>0,المدخلات!F276,\"\")","v":""},{"$f":"IF(المدخلات!B276>0,المدخلات!$C$4,\"\")","v":""}]
[272,{"$f":"IF(المدخلات!B277>0,المدخلات!B277,\"\")","v":""},{"$f":"IF(المدخلات!C277>0,المدخلات!C277,\"\")","v":""},{"$f":"IF(المدخلات!D277>0,المدخلات!D277,\"\")","v":""},{"$f":"IF(المدخلات!E277>0,المدخلات!E277,\"\")","v":""},{"$f":"IF(المدخلات!F277>0,المدخلات!F277,\"\")","v":""},{"$f":"IF(المدخلات!B277>0,المدخلات!$C$4,\"\")","v":""}]
[273,{"$f":"IF(المدخلات!B278>0,المدخلات!B278,\"\")","v":""},{"$f":"IF(المدخلات!C278>0,المدخلات!C278,\"\")","v":""},{"$f":"IF(المدخلات!D278>0,المدخلات!D278,\"\")","v":""},{"$f":"IF(المدخلات!E278>0,المدخلات!E278,\"\")","v":""},{"$f":"IF(المدخلات!F278>0,المدخلات!F278,\"\")","v":""},{"$f":"IF(المدخلات!B278>0,المدخلات!$C$4,\"\")","v":""}]
[274,{"$f":"IF(المدخلات!B279>0,المدخلات!B279,\"\")","v":""},{"$f":"IF(المدخلات!C279>0,المدخلات!C279,\"\")","v":""},{"$f":"IF(المدخلات!D279>0,المدخلات!D279,\"\")","v":""},{"$f":"IF(المدخلات!E279>0,المدخلات!E279,\"\")","v":""},{"$f":"IF(المدخلات!F279>0,المدخلات!F279,\"\")","v":""},{"$f":"IF(المدخلات!B279>0,المدخلات!$C$4,\"\")","v":""}]
[275,{"$f":"IF(المدخلات!B280>0,المدخلات!B280,\"\")","v":""},{"$f":"IF(المدخلات!C280>0,المدخلات!C280,\"\")","v":""},{"$f":"IF(المدخلات!D280>0,المدخلات!D280,\"\")","v":""},{"$f":"IF(المدخلات!E280>0,المدخلات!E280,\"\")","v":""},{"$f":"IF(المدخلات!F280>0,المدخلات!F280,\"\")","v":""},{"$f":"IF(المدخلات!B280>0,المدخلات!$C$4,\"\")","v":""}]
[276,{"$f":"IF(المدخلات!B281>0,المدخلات!B281,\"\")","v":""},{"$f":"IF(المدخلات!C281>0,المدخلات!C281,\"\")","v":""},{"$f":"IF(المدخلات!D281>0,المدخلات!D281,\"\")","v":""},{"$f":"IF(المدخلات!E281>0,المدخلات!E281,\"\")","v":""},{"$f":"IF(المدخلات!F281>0,المدخلات!F281,\"\")","v":""},{"$f":"IF(المدخلات!B281>0,المدخلات!$C$4,\"\")","v":""}]
[277,{"$f":"IF(المدخلات!B282>0,المدخلات!B282,\"\")","v":""},{"$f":"IF(المدخلات!C282>0,المدخلات!C282,\"\")","v":""},{"$f":"IF(المدخلات!D282>0,المدخلات!D282,\"\")","v":""},{"$f":"IF(المدخلات!E282>0,المدخلات!E282,\"\")","v":""},{"$f":"IF(المدخلات!F282>0,المدخلات!F282,\"\")","v":""},{"$f":"IF(المدخلات!B282>0,المدخلات!$C$4,\"\")","v":""}]
[278,{"$f":"IF(المدخلات!B283>0,المدخلات!B283,\"\")","v":""},{"$f":"IF(المدخلات!C283>0,المدخلات!C283,\"\")","v":""},{"$f":"IF(المدخلات!D283>0,المدخلات!D283,\"\")","v":""},{"$f":"IF(المدخلات!E283>0,المدخلات!E283,\"\")","v":""},{"$f":"IF(المدخلات!F283>0,المدخلات!F283,\"\")","v":""},{"$f":"IF(المدخلات!B283>0,المدخلات!$C$4,\"\")","v":""}]
[279,{"$f":"IF(المدخلات!B284>0,المدخلات!B284,\"\")","v":""},{"$f":"IF(المدخلات!C284>0,المدخلات!C284,\"\")","v":""},{"$f":"IF(المدخلات!D284>0,المدخلات!D284,\"\")","v":""},{"$f":"IF(المدخلات!E284>0,المدخلات!E284,\"\")","v":""},{"$f":"IF(المدخلات!F284>0,المدخلات!F284,\"\")","v":""},{"$f":"IF(المدخلات!B284>0,المدخلات!$C$4,\"\")","v":""}]
[280,{"$f":"IF(المدخلات!B285>0,المدخلات!B285,\"\")","v":""},{"$f":"IF(المدخلات!C285>0,المدخلات!C285,\"\")","v":""},{"$f":"IF(المدخلات!D285>0,المدخلات!D285,\"\")","v":""},{"$f":"IF(المدخلات!E285>0,المدخلات!E285,\"\")","v":""},{"$f":"IF(المدخلات!F285>0,المدخلات!F285,\"\")","v":""},{"$f":"IF(المدخلات!B285>0,المدخلات!$C$4,\"\")","v":""}]
[281,{"$f":"IF(المدخلات!B286>0,المدخلات!B286,\"\")","v":""},{"$f":"IF(المدخلات!C286>0,المدخلات!C286,\"\")","v":""},{"$f":"IF(المدخلات!D286>0,المدخلات!D286,\"\")","v":""},{"$f":"IF(المدخلات!E286>0,المدخلات!E286,\"\")","v":""},{"$f":"IF(المدخلات!F286>0,المدخلات!F286,\"\")","v":""},{"$f":"IF(المدخلات!B286>0,المدخلات!$C$4,\"\")","v":""}]
[282,{"$f":"IF(المدخلات!B287>0,المدخلات!B287,\"\")","v":""},{"$f":"IF(المدخلات!C287>0,المدخلات!C287,\"\")","v":""},{"$f":"IF(المدخلات!D287>0,المدخلات!D287,\"\")","v":""},{"$f":"IF(المدخلات!E287>0,المدخلات!E287,\"\")","v":""},{"$f":"IF(المدخلات!F287>0,المدخلات!F287,\"\")","v":""},{"$f":"IF(المدخلات!B287>0,المدخلات!$C$4,\"\")","v":""}]
[283,{"$f":"IF(المدخلات!B288>0,المدخلات!B288,\"\")","v":""},{"$f":"IF(المدخلات!C288>0,المدخلات!C288,\"\")","v":""},{"$f":"IF(المدخلات!D288>0,المدخلات!D288,\"\")","v":""},{"$f":"IF(المدخلات!E288>0,المدخلات!E288,\"\")","v":""},{"$f":"IF(المدخلات!F288>0,المدخلات!F288,\"\")","v":""},{"$f":"IF(المدخلات!B288>0,المدخلات!$C$4,\"\")","v":""}]
[284,{"$f":"IF(المدخلات!B289>0,المدخلات!B289,\"\")","v":""},{"$f":"IF(المدخلات!C289>0,المدخلات!C289,\"\")","v":""},{"$f":"IF(المدخلات!D289>0,المدخلات!D289,\"\")","v":""},{"$f":"IF(المدخلات!E289>0,المدخلات!E289,\"\")","v":""},{"$f":"IF(المدخلات!F289>0,المدخلات!F289,\"\")","v":""},{"$f":"IF(المدخلات!B289>0,المدخلات!$C$4,\"\")","v":""}]
[285,{"$f":"IF(المدخلات!B290>0,المدخلات!B290,\"\")","v":""},{"$f":"IF(المدخلات!C290>0,المدخلات!C290,\"\")","v":""},{"$f":"IF(المدخلات!D290>0,المدخلات!D290,\"\")","v":""},{"$f":"IF(المدخلات!E290>0,المدخلات!E290,\"\")","v":""},{"$f":"IF(المدخلات!F290>0,المدخلات!F290,\"\")","v":""},{"$f":"IF(المدخلات!B290>0,المدخلات!$C$4,\"\")","v":""}]
[286,{"$f":"IF(المدخلات!B291>0,المدخلات!B291,\"\")","v":""},{"$f":"IF(المدخلات!C291>0,المدخلات!C291,\"\")","v":""},{"$f":"IF(المدخلات!D291>0,المدخلات!D291,\"\")","v":""},{"$f":"IF(المدخلات!E291>0,المدخلات!E291,\"\")","v":""},{"$f":"IF(المدخلات!F291>0,المدخلات!F291,\"\")","v":""},{"$f":"IF(المدخلات!B291>0,المدخلات!$C$4,\"\")","v":""}]
[287,{"$f":"IF(المدخلات!B292>0,المدخلات!B292,\"\")","v":""},{"$f":"IF(المدخلات!C292>0,المدخلات!C292,\"\")","v":""},{"$f":"IF(المدخلات!D292>0,المدخلات!D292,\"\")","v":""},{"$f":"IF(المدخلات!E292>0,المدخلات!E292,\"\")","v":""},{"$f":"IF(المدخلات!F292>0,المدخلات!F292,\"\")","v":""},{"$f":"IF(المدخلات!B292>0,المدخلات!$C$4,\"\")","v":""}]
[288,{"$f":"IF(المدخلات!B293>0,المدخلات!B293,\"\")","v":""},{"$f":"IF(المدخلات!C293>0,المدخلات!C293,\"\")","v":""},{"$f":"IF(المدخلات!D293>0,المدخلات!D293,\"\")","v":""},{"$f":"IF(المدخلات!E293>0,المدخلات!E293,\"\")","v":""},{"$f":"IF(المدخلات!F293>0,المدخلات!F293,\"\")","v":""},{"$f":"IF(المدخلات!B293>0,المدخلات!$C$4,\"\")","v":""}]
[289,{"$f":"IF(المدخلات!B294>0,المدخلات!B294,\"\")","v":""},{"$f":"IF(المدخلات!C294>0,المدخلات!C294,\"\")","v":""},{"$f":"IF(المدخلات!D294>0,المدخلات!D294,\"\")","v":""},{"$f":"IF(المدخلات!E294>0,المدخلات!E294,\"\")","v":""},{"$f":"IF(المدخلات!F294>0,المدخلات!F294,\"\")","v":""},{"$f":"IF(المدخلات!B294>0,المدخلات!$C$4,\"\")","v":""}]
[290,{"$f":"IF(المدخلات!B295>0,المدخلات!B295,\"\")","v":""},{"$f":"IF(المدخلات!C295>0,المدخلات!C295,\"\")","v":""},{"$f":"IF(المدخلات!D295>0,المدخلات!D295,\"\")","v":""},{"$f":"IF(المدخلات!E295>0,المدخلات!E295,\"\")","v":""},{"$f":"IF(المدخلات!F295>0,المدخلات!F295,\"\")","v":""},{"$f":"IF(المدخلات!B295>0,المدخلات!$C$4,\"\")","v":""}]
[291,{"$f":"IF(المدخلات!B296>0,المدخلات!B296,\"\")","v":""},{"$f":"IF(المدخلات!C296>0,المدخلات!C296,\"\")","v":""},{"$f":"IF(المدخلات!D296>0,المدخلات!D296,\"\")","v":""},{"$f":"IF(المدخلات!E296>0,المدخلات!E296,\"\")","v":""},{"$f":"IF(المدخلات!F296>0,المدخلات!F296,\"\")","v":""},{"$f":"IF(المدخلات!B296>0,المدخلات!$C$4,\"\")","v":""}]
[292,{"$f":"IF(المدخلات!B297>0,المدخلات!B297,\"\")","v":""},{"$f":"IF(المدخلات!C297>0,المدخلات!C297,\"\")","v":""},{"$f":"IF(المدخلات!D297>0,المدخلات!D297,\"\")","v":""},{"$f":"IF(المدخلات!E297>0,المدخلات!E297,\"\")","v":""},{"$f":"IF(المدخلات!F297>0,المدخلات!F297,\"\")","v":""},{"$f":"IF(المدخلات!B297>0,المدخلات!$C$4,\"\")","v":""}]
[293,{"$f":"IF(المدخلات!B298>0,المدخلات!B298,\"\")","v":""},{"$f":"IF(المدخلات!C298>0,المدخلات!C298,\"\")","v":""},{"$f":"IF(المدخلات!D298>0,المدخلات!D298,\"\")","v":""},{"$f":"IF(المدخلات!E298>0,المدخلات!E298,\"\")","v":""},{"$f":"IF(المدخلات!F298>0,المدخلات!F298,\"\")","v":""},{"$f":"IF(المدخلات!B298>0,المدخلات!$C$4,\"\")","v":""}]
[294,{"$f":"IF(المدخلات!B299>0,المدخلات!B299,\"\")","v":""},{"$f":"IF(المدخلات!C299>0,المدخلات!C299,\"\")","v":""},{"$f":"IF(المدخلات!D299>0,المدخلات!D299,\"\")","v":""},{"$f":"IF(المدخلات!E299>0,المدخلات!E299,\"\")","v":""},{"$f":"IF(المدخلات!F299>0,المدخلات!F299,\"\")","v":""},{"$f":"IF(المدخلات!B299>0,المدخلات!$C$4,\"\")","v":""}]
[295,{"$f":"IF(المدخلات!B300>0,المدخلات!B300,\"\")","v":""},{"$f":"IF(المدخلات!C300>0,المدخلات!C300,\"\")","v":""},{"$f":"IF(المدخلات!D300>0,المدخلات!D300,\"\")","v":""},{"$f":"IF(المدخلات!E300>0,المدخلات!E300,\"\")","v":""},{"$f":"IF(المدخلات!F300>0,المدخلات!F300,\"\")","v":""},{"$f":"IF(المدخلات!B300>0,المدخلات!$C$4,\"\")","v":""}]
[296,{"$f":"IF(المدخلات!B301>0,المدخلات!B301,\"\")","v":""},{"$f":"IF(المدخلات!C301>0,المدخلات!C301,\"\")","v":""},{"$f":"IF(المدخلات!D301>0,المدخلات!D301,\"\")","v":""},{"$f":"IF(المدخلات!E301>0,المدخلات!E301,\"\")","v":""},{"$f":"IF(المدخلات!F301>0,المدخلات!F301,\"\")","v":""},{"$f":"IF(المدخلات!B301>0,المدخلات!$C$4,\"\")","v":""}]
[297,{"$f":"IF(المدخلات!B302>0,المدخلات!B302,\"\")","v":""},{"$f":"IF(المدخلات!C302>0,المدخلات!C302,\"\")","v":""},{"$f":"IF(المدخلات!D302>0,المدخلات!D302,\"\")","v":""},{"$f":"IF(المدخلات!E302>0,المدخلات!E302,\"\")","v":""},{"$f":"IF(المدخلات!F302>0,المدخلات!F302,\"\")","v":""},{"$f":"IF(المدخلات!B302>0,المدخلات!$C$4,\"\")","v":""}]
[298,{"$f":"IF(المدخلات!B303>0,المدخلات!B303,\"\")","v":""},{"$f":"IF(المدخلات!C303>0,المدخلات!C303,\"\")","v":""},{"$f":"IF(المدخلات!D303>0,المدخلات!D303,\"\")","v":""},{"$f":"IF(المدخلات!E303>0,المدخلات!E303,\"\")","v":""},{"$f":"IF(المدخلات!F303>0,المدخلات!F303,\"\")","v":""},{"$f":"IF(المدخلات!B303>0,المدخلات!$C$4,\"\")","v":""}]
[299,{"$f":"IF(المدخلات!B304>0,المدخلات!B304,\"\")","v":""},{"$f":"IF(المدخلات!C304>0,المدخلات!C304,\"\")","v":""},{"$f":"IF(المدخلات!D304>0,المدخلات!D304,\"\")","v":""},{"$f":"IF(المدخلات!E304>0,المدخلات!E304,\"\")","v":""},{"$f":"IF(المدخلات!F304>0,المدخلات!F304,\"\")","v":""},{"$f":"IF(المدخلات!B304>0,المدخلات!$C$4,\"\")","v":""}]
[300,{"$f":"IF(المدخلات!B305>0,المدخلات!B305,\"\")","v":""},{"$f":"IF(المدخلات!C305>0,المدخلات!C305,\"\")","v":""},{"$f":"IF(المدخلات!D305>0,المدخلات!D305,\"\")","v":""},{"$f":"IF(المدخلات!E305>0,المدخلات!E305,\"\")","v":""},{"$f":"IF(المدخلات!F305>0,المدخلات!F305,\"\")","v":""},{"$f":"IF(المدخلات!B305>0,المدخلات!$C$4,\"\")","v":""}]
[301,{"$f":"IF(المدخلات!B306>0,المدخلات!B306,\"\")","v":""},{"$f":"IF(المدخلات!C306>0,المدخلات!C306,\"\")","v":""},{"$f":"IF(المدخلات!D306>0,المدخلات!D306,\"\")","v":""},{"$f":"IF(المدخلات!E306>0,المدخلات!E306,\"\")","v":""},{"$f":"IF(المدخلات!F306>0,المدخلات!F306,\"\")","v":""},{"$f":"IF(المدخلات!B306>0,المدخلات!$C$4,\"\")","v":""}]
[302,{"$f":"IF(المدخلات!B307>0,المدخلات!B307,\"\")","v":""},{"$f":"IF(المدخلات!C307>0,المدخلات!C307,\"\")","v":""},{"$f":"IF(المدخلات!D307>0,المدخلات!D307,\"\")","v":""},{"$f":"IF(المدخلات!E307>0,المدخلات!E307,\"\")","v":""},{"$f":"IF(المدخلات!F307>0,المدخلات!F307,\"\")","v":""},{"$f":"IF(المدخلات!B307>0,المدخلات!$C$4,\"\")","v":""}]
[303,{"$f":"IF(المدخلات!B308>0,المدخلات!B308,\"\")","v":""},{"$f":"IF(المدخلات!C308>0,المدخلات!C308,\"\")","v":""},{"$f":"IF(المدخلات!D308>0,المدخلات!D308,\"\")","v":""},{"$f":"IF(المدخلات!E308>0,المدخلات!E308,\"\")","v":""},{"$f":"IF(المدخلات!F308>0,المدخلات!F308,\"\")","v":""},{"$f":"IF(المدخلات!B308>0,المدخلات!$C$4,\"\")","v":""}]
[304,{"$f":"IF(المدخلات!B309>0,المدخلات!B309,\"\")","v":""},{"$f":"IF(المدخلات!C309>0,المدخلات!C309,\"\")","v":""},{"$f":"IF(المدخلات!D309>0,المدخلات!D309,\"\")","v":""},{"$f":"IF(المدخلات!E309>0,المدخلات!E309,\"\")","v":""},{"$f":"IF(المدخلات!F309>0,المدخلات!F309,\"\")","v":""},{"$f":"IF(المدخلات!B309>0,المدخلات!$C$4,\"\")","v":""}]
[305,{"$f":"IF(المدخلات!B310>0,المدخلات!B310,\"\")","v":""},{"$f":"IF(المدخلات!C310>0,المدخلات!C310,\"\")","v":""},{"$f":"IF(المدخلات!D310>0,المدخلات!D310,\"\")","v":""},{"$f":"IF(المدخلات!E310>0,المدخلات!E310,\"\")","v":""},{"$f":"IF(المدخلات!F310>0,المدخلات!F310,\"\")","v":""},{"$f":"IF(المدخلات!B310>0,المدخلات!$C$4,\"\")","v":""}]
[306,{"$f":"IF(المدخلات!B311>0,المدخلات!B311,\"\")","v":""},{"$f":"IF(المدخلات!C311>0,المدخلات!C311,\"\")","v":""},{"$f":"IF(المدخلات!D311>0,المدخلات!D311,\"\")","v":""},{"$f":"IF(المدخلات!E311>0,المدخلات!E311,\"\")","v":""},{"$f":"IF(المدخلات!F311>0,المدخلات!F311,\"\")","v":""},{"$f":"IF(المدخلات!B311>0,المدخلات!$C$4,\"\")","v":""}]
[307,{"$f":"IF(المدخلات!B312>0,المدخلات!B312,\"\")","v":""},{"$f":"IF(المدخلات!C312>0,المدخلات!C312,\"\")","v":""},{"$f":"IF(المدخلات!D312>0,المدخلات!D312,\"\")","v":""},{"$f":"IF(المدخلات!E312>0,المدخلات!E312,\"\")","v":""},{"$f":"IF(المدخلات!F312>0,المدخلات!F312,\"\")","v":""},{"$f":"IF(المدخلات!B312>0,المدخلات!$C$4,\"\")","v":""}]
[308,{"$f":"IF(المدخلات!B313>0,المدخلات!B313,\"\")","v":""},{"$f":"IF(المدخلات!C313>0,المدخلات!C313,\"\")","v":""},{"$f":"IF(المدخلات!D313>0,المدخلات!D313,\"\")","v":""},{"$f":"IF(المدخلات!E313>0,المدخلات!E313,\"\")","v":""},{"$f":"IF(المدخلات!F313>0,المدخلات!F313,\"\")","v":""},{"$f":"IF(المدخلات!B313>0,المدخلات!$C$4,\"\")","v":""}]
[309,{"$f":"IF(المدخلات!B314>0,المدخلات!B314,\"\")","v":""},{"$f":"IF(المدخلات!C314>0,المدخلات!C314,\"\")","v":""},{"$f":"IF(المدخلات!D314>0,المدخلات!D314,\"\")","v":""},{"$f":"IF(المدخلات!E314>0,المدخلات!E314,\"\")","v":""},{"$f":"IF(المدخلات!F314>0,المدخلات!F314,\"\")","v":""},{"$f":"IF(المدخلات!B314>0,المدخلات!$C$4,\"\")","v":""}]
[310,{"$f":"IF(المدخلات!B315>0,المدخلات!B315,\"\")","v":""},{"$f":"IF(المدخلات!C315>0,المدخلات!C315,\"\")","v":""},{"$f":"IF(المدخلات!D315>0,المدخلات!D315,\"\")","v":""},{"$f":"IF(المدخلات!E315>0,المدخلات!E315,\"\")","v":""},{"$f":"IF(المدخلات!F315>0,المدخلات!F315,\"\")","v":""},{"$f":"IF(المدخلات!B315>0,المدخلات!$C$4,\"\")","v":""}]
[311,{"$f":"IF(المدخلات!B316>0,المدخلات!B316,\"\")","v":""},{"$f":"IF(المدخلات!C316>0,المدخلات!C316,\"\")","v":""},{"$f":"IF(المدخلات!D316>0,المدخلات!D316,\"\")","v":""},{"$f":"IF(المدخلات!E316>0,المدخلات!E316,\"\")","v":""},{"$f":"IF(المدخلات!F316>0,المدخلات!F316,\"\")","v":""},{"$f":"IF(المدخلات!B316>0,المدخلات!$C$4,\"\")","v":""}]
[312,{"$f":"IF(المدخلات!B317>0,المدخلات!B317,\"\")","v":""},{"$f":"IF(المدخلات!C317>0,المدخلات!C317,\"\")","v":""},{"$f":"IF(المدخلات!D317>0,المدخلات!D317,\"\")","v":""},{"$f":"IF(المدخلات!E317>0,المدخلات!E317,\"\")","v":""},{"$f":"IF(المدخلات!F317>0,المدخلات!F317,\"\")","v":""},{"$f":"IF(المدخلات!B317>0,المدخلات!$C$4,\"\")","v":""}]
[313,{"$f":"IF(المدخلات!B318>0,المدخلات!B318,\"\")","v":""},{"$f":"IF(المدخلات!C318>0,المدخلات!C318,\"\")","v":""},{"$f":"IF(المدخلات!D318>0,المدخلات!D318,\"\")","v":""},{"$f":"IF(المدخلات!E318>0,المدخلات!E318,\"\")","v":""},{"$f":"IF(المدخلات!F318>0,المدخلات!F318,\"\")","v":""},{"$f":"IF(المدخلات!B318>0,المدخلات!$C$4,\"\")","v":""}]
[314,{"$f":"IF(المدخلات!B319>0,المدخلات!B319,\"\")","v":""},{"$f":"IF(المدخلات!C319>0,المدخلات!C319,\"\")","v":""},{"$f":"IF(المدخلات!D319>0,المدخلات!D319,\"\")","v":""},{"$f":"IF(المدخلات!E319>0,المدخلات!E319,\"\")","v":""},{"$f":"IF(المدخلات!F319>0,المدخلات!F319,\"\")","v":""},{"$f":"IF(المدخلات!B319>0,المدخلات!$C$4,\"\")","v":""}]
[315,{"$f":"IF(المدخلات!B320>0,المدخلات!B320,\"\")","v":""},{"$f":"IF(المدخلات!C320>0,المدخلات!C320,\"\")","v":""},{"$f":"IF(المدخلات!D320>0,المدخلات!D320,\"\")","v":""},{"$f":"IF(المدخلات!E320>0,المدخلات!E320,\"\")","v":""},{"$f":"IF(المدخلات!F320>0,المدخلات!F320,\"\")","v":""},{"$f":"IF(المدخلات!B320>0,المدخلات!$C$4,\"\")","v":""}]
[316,{"$f":"IF(المدخلات!B321>0,المدخلات!B321,\"\")","v":""},{"$f":"IF(المدخلات!C321>0,المدخلات!C321,\"\")","v":""},{"$f":"IF(المدخلات!D321>0,المدخلات!D321,\"\")","v":""},{"$f":"IF(المدخلات!E321>0,المدخلات!E321,\"\")","v":""},{"$f":"IF(المدخلات!F321>0,المدخلات!F321,\"\")","v":""},{"$f":"IF(المدخلات!B321>0,المدخلات!$C$4,\"\")","v":""}]
[317,{"$f":"IF(المدخلات!B322>0,المدخلات!B322,\"\")","v":""},{"$f":"IF(المدخلات!C322>0,المدخلات!C322,\"\")","v":""},{"$f":"IF(المدخلات!D322>0,المدخلات!D322,\"\")","v":""},{"$f":"IF(المدخلات!E322>0,المدخلات!E322,\"\")","v":""},{"$f":"IF(المدخلات!F322>0,المدخلات!F322,\"\")","v":""},{"$f":"IF(المدخلات!B322>0,المدخلات!$C$4,\"\")","v":""}]
[318,{"$f":"IF(المدخلات!B323>0,المدخلات!B323,\"\")","v":""},{"$f":"IF(المدخلات!C323>0,المدخلات!C323,\"\")","v":""},{"$f":"IF(المدخلات!D323>0,المدخلات!D323,\"\")","v":""},{"$f":"IF(المدخلات!E323>0,المدخلات!E323,\"\")","v":""},{"$f":"IF(المدخلات!F323>0,المدخلات!F323,\"\")","v":""},{"$f":"IF(المدخلات!B323>0,المدخلات!$C$4,\"\")","v":""}]
[319,{"$f":"IF(المدخلات!B324>0,المدخلات!B324,\"\")","v":""},{"$f":"IF(المدخلات!C324>0,المدخلات!C324,\"\")","v":""},{"$f":"IF(المدخلات!D324>0,المدخلات!D324,\"\")","v":""},{"$f":"IF(المدخلات!E324>0,المدخلات!E324,\"\")","v":""},{"$f":"IF(المدخلات!F324>0,المدخلات!F324,\"\")","v":""},{"$f":"IF(المدخلات!B324>0,المدخلات!$C$4,\"\")","v":""}]
[320,{"$f":"IF(المدخلات!B325>0,المدخلات!B325,\"\")","v":""},{"$f":"IF(المدخلات!C325>0,المدخلات!C325,\"\")","v":""},{"$f":"IF(المدخلات!D325>0,المدخلات!D325,\"\")","v":""},{"$f":"IF(المدخلات!E325>0,المدخلات!E325,\"\")","v":""},{"$f":"IF(المدخلات!F325>0,المدخلات!F325,\"\")","v":""},{"$f":"IF(المدخلات!B325>0,المدخلات!$C$4,\"\")","v":""}]
[321,{"$f":"IF(المدخلات!B326>0,المدخلات!B326,\"\")","v":""},{"$f":"IF(المدخلات!C326>0,المدخلات!C326,\"\")","v":""},{"$f":"IF(المدخلات!D326>0,المدخلات!D326,\"\")","v":""},{"$f":"IF(المدخلات!E326>0,المدخلات!E326,\"\")","v":""},{"$f":"IF(المدخلات!F326>0,المدخلات!F326,\"\")","v":""},{"$f":"IF(المدخلات!B326>0,المدخلات!$C$4,\"\")","v":""}]
[322,{"$f":"IF(المدخلات!B327>0,المدخلات!B327,\"\")","v":""},{"$f":"IF(المدخلات!C327>0,المدخلات!C327,\"\")","v":""},{"$f":"IF(المدخلات!D327>0,المدخلات!D327,\"\")","v":""},{"$f":"IF(المدخلات!E327>0,المدخلات!E327,\"\")","v":""},{"$f":"IF(المدخلات!F327>0,المدخلات!F327,\"\")","v":""},{"$f":"IF(المدخلات!B327>0,المدخلات!$C$4,\"\")","v":""}]
[323,{"$f":"IF(المدخلات!B328>0,المدخلات!B328,\"\")","v":""},{"$f":"IF(المدخلات!C328>0,المدخلات!C328,\"\")","v":""},{"$f":"IF(المدخلات!D328>0,المدخلات!D328,\"\")","v":""},{"$f":"IF(المدخلات!E328>0,المدخلات!E328,\"\")","v":""},{"$f":"IF(المدخلات!F328>0,المدخلات!F328,\"\")","v":""},{"$f":"IF(المدخلات!B328>0,المدخلات!$C$4,\"\")","v":""}]
[324,{"$f":"IF(المدخلات!B329>0,المدخلات!B329,\"\")","v":""},{"$f":"IF(المدخلات!C329>0,المدخلات!C329,\"\")","v":""},{"$f":"IF(المدخلات!D329>0,المدخلات!D329,\"\")","v":""},{"$f":"IF(المدخلات!E329>0,المدخلات!E329,\"\")","v":""},{"$f":"IF(المدخلات!F329>0,المدخلات!F329,\"\")","v":""},{"$f":"IF(المدخلات!B329>0,المدخلات!$C$4,\"\")","v":""}]
[325,{"$f":"IF(المدخلات!B330>0,المدخلات!B330,\"\")","v":""},{"$f":"IF(المدخلات!C330>0,المدخلات!C330,\"\")","v":""},{"$f":"IF(المدخلات!D330>0,المدخلات!D330,\"\")","v":""},{"$f":"IF(المدخلات!E330>0,المدخلات!E330,\"\")","v":""},{"$f":"IF(المدخلات!F330>0,المدخلات!F330,\"\")","v":""},{"$f":"IF(المدخلات!B330>0,المدخلات!$C$4,\"\")","v":""}]
[326,{"$f":"IF(المدخلات!B331>0,المدخلات!B331,\"\")","v":""},{"$f":"IF(المدخلات!C331>0,المدخلات!C331,\"\")","v":""},{"$f":"IF(المدخلات!D331>0,المدخلات!D331,\"\")","v":""},{"$f":"IF(المدخلات!E331>0,المدخلات!E331,\"\")","v":""},{"$f":"IF(المدخلات!F331>0,المدخلات!F331,\"\")","v":""},{"$f":"IF(المدخلات!B331>0,المدخلات!$C$4,\"\")","v":""}]
[327,{"$f":"IF(المدخلات!B332>0,المدخلات!B332,\"\")","v":""},{"$f":"IF(المدخلات!C332>0,المدخلات!C332,\"\")","v":""},{"$f":"IF(المدخلات!D332>0,المدخلات!D332,\"\")","v":""},{"$f":"IF(المدخلات!E332>0,المدخلات!E332,\"\")","v":""},{"$f":"IF(المدخلات!F332>0,المدخلات!F332,\"\")","v":""},{"$f":"IF(المدخلات!B332>0,المدخلات!$C$4,\"\")","v":""}]
[328,{"$f":"IF(المدخلات!B333>0,المدخلات!B333,\"\")","v":""},{"$f":"IF(المدخلات!C333>0,المدخلات!C333,\"\")","v":""},{"$f":"IF(المدخلات!D333>0,المدخلات!D333,\"\")","v":""},{"$f":"IF(المدخلات!E333>0,المدخلات!E333,\"\")","v":""},{"$f":"IF(المدخلات!F333>0,المدخلات!F333,\"\")","v":""},{"$f":"IF(المدخلات!B333>0,المدخلات!$C$4,\"\")","v":""}]
[329,{"$f":"IF(المدخلات!B334>0,المدخلات!B334,\"\")","v":""},{"$f":"IF(المدخلات!C334>0,المدخلات!C334,\"\")","v":""},{"$f":"IF(المدخلات!D334>0,المدخلات!D334,\"\")","v":""},{"$f":"IF(المدخلات!E334>0,المدخلات!E334,\"\")","v":""},{"$f":"IF(المدخلات!F334>0,المدخلات!F334,\"\")","v":""},{"$f":"IF(المدخلات!B334>0,المدخلات!$C$4,\"\")","v":""}]
[330,{"$f":"IF(المدخلات!B335>0,المدخلات!B335,\"\")","v":""},{"$f":"IF(المدخلات!C335>0,المدخلات!C335,\"\")","v":""},{"$f":"IF(المدخلات!D335>0,المدخلات!D335,\"\")","v":""},{"$f":"IF(المدخلات!E335>0,المدخلات!E335,\"\")","v":""},{"$f":"IF(المدخلات!F335>0,المدخلات!F335,\"\")","v":""},{"$f":"IF(المدخلات!B335>0,المدخلات!$C$4,\"\")","v":""}]
[331,{"$f":"IF(المدخلات!B336>0,المدخلات!B336,\"\")","v":""},{"$f":"IF(المدخلات!C336>0,المدخلات!C336,\"\")","v":""},{"$f":"IF(المدخلات!D336>0,المدخلات!D336,\"\")","v":""},{"$f":"IF(المدخلات!E336>0,المدخلات!E336,\"\")","v":""},{"$f":"IF(المدخلات!F336>0,المدخلات!F336,\"\")","v":""},{"$f":"IF(المدخلات!B336>0,المدخلات!$C$4,\"\")","v":""}]
[332,{"$f":"IF(المدخلات!B337>0,المدخلات!B337,\"\")","v":""},{"$f":"IF(المدخلات!C337>0,المدخلات!C337,\"\")","v":""},{"$f":"IF(المدخلات!D337>0,المدخلات!D337,\"\")","v":""},{"$f":"IF(المدخلات!E337>0,المدخلات!E337,\"\")","v":""},{"$f":"IF(المدخلات!F337>0,المدخلات!F337,\"\")","v":""},{"$f":"IF(المدخلات!B337>0,المدخلات!$C$4,\"\")","v":""}]
[333,{"$f":"IF(المدخلات!B338>0,المدخلات!B338,\"\")","v":""},{"$f":"IF(المدخلات!C338>0,المدخلات!C338,\"\")","v":""},{"$f":"IF(المدخلات!D338>0,المدخلات!D338,\"\")","v":""},{"$f":"IF(المدخلات!E338>0,المدخلات!E338,\"\")","v":""},{"$f":"IF(المدخلات!F338>0,المدخلات!F338,\"\")","v":""},{"$f":"IF(المدخلات!B338>0,المدخلات!$C$4,\"\")","v":""}]
[334,{"$f":"IF(المدخلات!B339>0,المدخلات!B339,\"\")","v":""},{"$f":"IF(المدخلات!C339>0,المدخلات!C339,\"\")","v":""},{"$f":"IF(المدخلات!D339>0,المدخلات!D339,\"\")","v":""},{"$f":"IF(المدخلات!E339>0,المدخلات!E339,\"\")","v":""},{"$f":"IF(المدخلات!F339>0,المدخلات!F339,\"\")","v":""},{"$f":"IF(المدخلات!B339>0,المدخلات!$C$4,\"\")","v":""}]
[335,{"$f":"IF(المدخلات!B340>0,المدخلات!B340,\"\")","v":""},{"$f":"IF(المدخلات!C340>0,المدخلات!C340,\"\")","v":""},{"$f":"IF(المدخلات!D340>0,المدخلات!D340,\"\")","v":""},{"$f":"IF(المدخلات!E340>0,المدخلات!E340,\"\")","v":""},{"$f":"IF(المدخلات!F340>0,المدخلات!F340,\"\")","v":""},{"$f":"IF(المدخلات!B340>0,المدخلات!$C$4,\"\")","v":""}]
[336,{"$f":"IF(المدخلات!B341>0,المدخلات!B341,\"\")","v":""},{"$f":"IF(المدخلات!C341>0,المدخلات!C341,\"\")","v":""},{"$f":"IF(المدخلات!D341>0,المدخلات!D341,\"\")","v":""},{"$f":"IF(المدخلات!E341>0,المدخلات!E341,\"\")","v":""},{"$f":"IF(المدخلات!F341>0,المدخلات!F341,\"\")","v":""},{"$f":"IF(المدخلات!B341>0,المدخلات!$C$4,\"\")","v":""}]
[337,{"$f":"IF(المدخلات!B342>0,المدخلات!B342,\"\")","v":""},{"$f":"IF(المدخلات!C342>0,المدخلات!C342,\"\")","v":""},{"$f":"IF(المدخلات!D342>0,المدخلات!D342,\"\")","v":""},{"$f":"IF(المدخلات!E342>0,المدخلات!E342,\"\")","v":""},{"$f":"IF(المدخلات!F342>0,المدخلات!F342,\"\")","v":""},{"$f":"IF(المدخلات!B342>0,المدخلات!$C$4,\"\")","v":""}]
[338,{"$f":"IF(المدخلات!B343>0,المدخلات!B343,\"\")","v":""},{"$f":"IF(المدخلات!C343>0,المدخلات!C343,\"\")","v":""},{"$f":"IF(المدخلات!D343>0,المدخلات!D343,\"\")","v":""},{"$f":"IF(المدخلات!E343>0,المدخلات!E343,\"\")","v":""},{"$f":"IF(المدخلات!F343>0,المدخلات!F343,\"\")","v":""},{"$f":"IF(المدخلات!B343>0,المدخلات!$C$4,\"\")","v":""}]
[339,{"$f":"IF(المدخلات!B344>0,المدخلات!B344,\"\")","v":""},{"$f":"IF(المدخلات!C344>0,المدخلات!C344,\"\")","v":""},{"$f":"IF(المدخلات!D344>0,المدخلات!D344,\"\")","v":""},{"$f":"IF(المدخلات!E344>0,المدخلات!E344,\"\")","v":""},{"$f":"IF(المدخلات!F344>0,المدخلات!F344,\"\")","v":""},{"$f":"IF(المدخلات!B344>0,المدخلات!$C$4,\"\")","v":""}]
[340,{"$f":"IF(المدخلات!B345>0,المدخلات!B345,\"\")","v":""},{"$f":"IF(المدخلات!C345>0,المدخلات!C345,\"\")","v":""},{"$f":"IF(المدخلات!D345>0,المدخلات!D345,\"\")","v":""},{"$f":"IF(المدخلات!E345>0,المدخلات!E345,\"\")","v":""},{"$f":"IF(المدخلات!F345>0,المدخلات!F345,\"\")","v":""},{"$f":"IF(المدخلات!B345>0,المدخلات!$C$4,\"\")","v":""}]
[341,{"$f":"IF(المدخلات!B346>0,المدخلات!B346,\"\")","v":""},{"$f":"IF(المدخلات!C346>0,المدخلات!C346,\"\")","v":""},{"$f":"IF(المدخلات!D346>0,المدخلات!D346,\"\")","v":""},{"$f":"IF(المدخلات!E346>0,المدخلات!E346,\"\")","v":""},{"$f":"IF(المدخلات!F346>0,المدخلات!F346,\"\")","v":""},{"$f":"IF(المدخلات!B346>0,المدخلات!$C$4,\"\")","v":""}]
[342,{"$f":"IF(المدخلات!B347>0,المدخلات!B347,\"\")","v":""},{"$f":"IF(المدخلات!C347>0,المدخلات!C347,\"\")","v":""},{"$f":"IF(المدخلات!D347>0,المدخلات!D347,\"\")","v":""},{"$f":"IF(المدخلات!E347>0,المدخلات!E347,\"\")","v":""},{"$f":"IF(المدخلات!F347>0,المدخلات!F347,\"\")","v":""},{"$f":"IF(المدخلات!B347>0,المدخلات!$C$4,\"\")","v":""}]
[343,{"$f":"IF(المدخلات!B348>0,المدخلات!B348,\"\")","v":""},{"$f":"IF(المدخلات!C348>0,المدخلات!C348,\"\")","v":""},{"$f":"IF(المدخلات!D348>0,المدخلات!D348,\"\")","v":""},{"$f":"IF(المدخلات!E348>0,المدخلات!E348,\"\")","v":""},{"$f":"IF(المدخلات!F348>0,المدخلات!F348,\"\")","v":""},{"$f":"IF(المدخلات!B348>0,المدخلات!$C$4,\"\")","v":""}]
[344,{"$f":"IF(المدخلات!B349>0,المدخلات!B349,\"\")","v":""},{"$f":"IF(المدخلات!C349>0,المدخلات!C349,\"\")","v":""},{"$f":"IF(المدخلات!D349>0,المدخلات!D349,\"\")","v":""},{"$f":"IF(المدخلات!E349>0,المدخلات!E349,\"\")","v":""},{"$f":"IF(المدخلات!F349>0,المدخلات!F349,\"\")","v":""},{"$f":"IF(المدخلات!B349>0,المدخلات!$C$4,\"\")","v":""}]
[345,{"$f":"IF(المدخلات!B350>0,المدخلات!B350,\"\")","v":""},{"$f":"IF(المدخلات!C350>0,المدخلات!C350,\"\")","v":""},{"$f":"IF(المدخلات!D350>0,المدخلات!D350,\"\")","v":""},{"$f":"IF(المدخلات!E350>0,المدخلات!E350,\"\")","v":""},{"$f":"IF(المدخلات!F350>0,المدخلات!F350,\"\")","v":""},{"$f":"IF(المدخلات!B350>0,المدخلات!$C$4,\"\")","v":""}]
[346,{"$f":"IF(المدخلات!B351>0,المدخلات!B351,\"\")","v":""},{"$f":"IF(المدخلات!C351>0,المدخلات!C351,\"\")","v":""},{"$f":"IF(المدخلات!D351>0,المدخلات!D351,\"\")","v":""},{"$f":"IF(المدخلات!E351>0,المدخلات!E351,\"\")","v":""},{"$f":"IF(المدخلات!F351>0,المدخلات!F351,\"\")","v":""},{"$f":"IF(المدخلات!B351>0,المدخلات!$C$4,\"\")","v":""}]
[347,{"$f":"IF(المدخلات!B352>0,المدخلات!B352,\"\")","v":""},{"$f":"IF(المدخلات!C352>0,المدخلات!C352,\"\")","v":""},{"$f":"IF(المدخلات!D352>0,المدخلات!D352,\"\")","v":""},{"$f":"IF(المدخلات!E352>0,المدخلات!E352,\"\")","v":""},{"$f":"IF(المدخلات!F352>0,المدخلات!F352,\"\")","v":""},{"$f":"IF(المدخلات!B352>0,المدخلات!$C$4,\"\")","v":""}]
[348,{"$f":"IF(المدخلات!B353>0,المدخلات!B353,\"\")","v":""},{"$f":"IF(المدخلات!C353>0,المدخلات!C353,\"\")","v":""},{"$f":"IF(المدخلات!D353>0,المدخلات!D353,\"\")","v":""},{"$f":"IF(المدخلات!E353>0,المدخلات!E353,\"\")","v":""},{"$f":"IF(المدخلات!F353>0,المدخلات!F353,\"\")","v":""},{"$f":"IF(المدخلات!B353>0,المدخلات!$C$4,\"\")","v":""}]
[349,{"$f":"IF(المدخلات!B354>0,المدخلات!B354,\"\")","v":""},{"$f":"IF(المدخلات!C354>0,المدخلات!C354,\"\")","v":""},{"$f":"IF(المدخلات!D354>0,المدخلات!D354,\"\")","v":""},{"$f":"IF(المدخلات!E354>0,المدخلات!E354,\"\")","v":""},{"$f":"IF(المدخلات!F354>0,المدخلات!F354,\"\")","v":""},{"$f":"IF(المدخلات!B354>0,المدخلات!$C$4,\"\")","v":""}]
[350,{"$f":"IF(المدخلات!B355>0,المدخلات!B355,\"\")","v":""},{"$f":"IF(المدخلات!C355>0,المدخلات!C355,\"\")","v":""},{"$f":"IF(المدخلات!D355>0,المدخلات!D355,\"\")","v":""},{"$f":"IF(المدخلات!E355>0,المدخلات!E355,\"\")","v":""},{"$f":"IF(المدخلات!F355>0,المدخلات!F355,\"\")","v":""},{"$f":"IF(المدخلات!B355>0,المدخلات!$C$4,\"\")","v":""}]
[351,{"$f":"IF(المدخلات!B356>0,المدخلات!B356,\"\")","v":""},{"$f":"IF(المدخلات!C356>0,المدخلات!C356,\"\")","v":""},{"$f":"IF(المدخلات!D356>0,المدخلات!D356,\"\")","v":""},{"$f":"IF(المدخلات!E356>0,المدخلات!E356,\"\")","v":""},{"$f":"IF(المدخلات!F356>0,المدخلات!F356,\"\")","v":""},{"$f":"IF(المدخلات!B356>0,المدخلات!$C$4,\"\")","v":""}]
[352,{"$f":"IF(المدخلات!B357>0,المدخلات!B357,\"\")","v":""},{"$f":"IF(المدخلات!C357>0,المدخلات!C357,\"\")","v":""},{"$f":"IF(المدخلات!D357>0,المدخلات!D357,\"\")","v":""},{"$f":"IF(المدخلات!E357>0,المدخلات!E357,\"\")","v":""},{"$f":"IF(المدخلات!F357>0,المدخلات!F357,\"\")","v":""},{"$f":"IF(المدخلات!B357>0,المدخلات!$C$4,\"\")","v":""}]
[353,{"$f":"IF(المدخلات!B358>0,المدخلات!B358,\"\")","v":""},{"$f":"IF(المدخلات!C358>0,المدخلات!C358,\"\")","v":""},{"$f":"IF(المدخلات!D358>0,المدخلات!D358,\"\")","v":""},{"$f":"IF(المدخلات!E358>0,المدخلات!E358,\"\")","v":""},{"$f":"IF(المدخلات!F358>0,المدخلات!F358,\"\")","v":""},{"$f":"IF(المدخلات!B358>0,المدخلات!$C$4,\"\")","v":""}]
[354,{"$f":"IF(المدخلات!B359>0,المدخلات!B359,\"\")","v":""},{"$f":"IF(المدخلات!C359>0,المدخلات!C359,\"\")","v":""},{"$f":"IF(المدخلات!D359>0,المدخلات!D359,\"\")","v":""},{"$f":"IF(المدخلات!E359>0,المدخلات!E359,\"\")","v":""},{"$f":"IF(المدخلات!F359>0,المدخلات!F359,\"\")","v":""},{"$f":"IF(المدخلات!B359>0,المدخلات!$C$4,\"\")","v":""}]
[355,{"$f":"IF(المدخلات!B360>0,المدخلات!B360,\"\")","v":""},{"$f":"IF(المدخلات!C360>0,المدخلات!C360,\"\")","v":""},{"$f":"IF(المدخلات!D360>0,المدخلات!D360,\"\")","v":""},{"$f":"IF(المدخلات!E360>0,المدخلات!E360,\"\")","v":""},{"$f":"IF(المدخلات!F360>0,المدخلات!F360,\"\")","v":""},{"$f":"IF(المدخلات!B360>0,المدخلات!$C$4,\"\")","v":""}]
[356,{"$f":"IF(المدخلات!B361>0,المدخلات!B361,\"\")","v":""},{"$f":"IF(المدخلات!C361>0,المدخلات!C361,\"\")","v":""},{"$f":"IF(المدخلات!D361>0,المدخلات!D361,\"\")","v":""},{"$f":"IF(المدخلات!E361>0,المدخلات!E361,\"\")","v":""},{"$f":"IF(المدخلات!F361>0,المدخلات!F361,\"\")","v":""},{"$f":"IF(المدخلات!B361>0,المدخلات!$C$4,\"\")","v":""}]
[357,{"$f":"IF(المدخلات!B362>0,المدخلات!B362,\"\")","v":""},{"$f":"IF(المدخلات!C362>0,المدخلات!C362,\"\")","v":""},{"$f":"IF(المدخلات!D362>0,المدخلات!D362,\"\")","v":""},{"$f":"IF(المدخلات!E362>0,المدخلات!E362,\"\")","v":""},{"$f":"IF(المدخلات!F362>0,المدخلات!F362,\"\")","v":""},{"$f":"IF(المدخلات!B362>0,المدخلات!$C$4,\"\")","v":""}]
[358,{"$f":"IF(المدخلات!B363>0,المدخلات!B363,\"\")","v":""},{"$f":"IF(المدخلات!C363>0,المدخلات!C363,\"\")","v":""},{"$f":"IF(المدخلات!D363>0,المدخلات!D363,\"\")","v":""},{"$f":"IF(المدخلات!E363>0,المدخلات!E363,\"\")","v":""},{"$f":"IF(المدخلات!F363>0,المدخلات!F363,\"\")","v":""},{"$f":"IF(المدخلات!B363>0,المدخلات!$C$4,\"\")","v":""}]
[359,{"$f":"IF(المدخلات!B364>0,المدخلات!B364,\"\")","v":""},{"$f":"IF(المدخلات!C364>0,المدخلات!C364,\"\")","v":""},{"$f":"IF(المدخلات!D364>0,المدخلات!D364,\"\")","v":""},{"$f":"IF(المدخلات!E364>0,المدخلات!E364,\"\")","v":""},{"$f":"IF(المدخلات!F364>0,المدخلات!F364,\"\")","v":""},{"$f":"IF(المدخلات!B364>0,المدخلات!$C$4,\"\")","v":""}]
[360,{"$f":"IF(المدخلات!B365>0,المدخلات!B365,\"\")","v":""},{"$f":"IF(المدخلات!C365>0,المدخلات!C365,\"\")","v":""},{"$f":"IF(المدخلات!D365>0,المدخلات!D365,\"\")","v":""},{"$f":"IF(المدخلات!E365>0,المدخلات!E365,\"\")","v":""},{"$f":"IF(المدخلات!F365>0,المدخلات!F365,\"\")","v":""},{"$f":"IF(المدخلات!B365>0,المدخلات!$C$4,\"\")","v":""}]
[361,{"$f":"IF(المدخلات!B366>0,المدخلات!B366,\"\")","v":""},{"$f":"IF(المدخلات!C366>0,المدخلات!C366,\"\")","v":""},{"$f":"IF(المدخلات!D366>0,المدخلات!D366,\"\")","v":""},{"$f":"IF(المدخلات!E366>0,المدخلات!E366,\"\")","v":""},{"$f":"IF(المدخلات!F366>0,المدخلات!F366,\"\")","v":""},{"$f":"IF(المدخلات!B366>0,المدخلات!$C$4,\"\")","v":""}]
[362,{"$f":"IF(المدخلات!B367>0,المدخلات!B367,\"\")","v":""},{"$f":"IF(المدخلات!C367>0,المدخلات!C367,\"\")","v":""},{"$f":"IF(المدخلات!D367>0,المدخلات!D367,\"\")","v":""},{"$f":"IF(المدخلات!E367>0,المدخلات!E367,\"\")","v":""},{"$f":"IF(المدخلات!F367>0,المدخلات!F367,\"\")","v":""},{"$f":"IF(المدخلات!B367>0,المدخلات!$C$4,\"\")","v":""}]
[363,{"$f":"IF(المدخلات!B368>0,المدخلات!B368,\"\")","v":""},{"$f":"IF(المدخلات!C368>0,المدخلات!C368,\"\")","v":""},{"$f":"IF(المدخلات!D368>0,المدخلات!D368,\"\")","v":""},{"$f":"IF(المدخلات!E368>0,المدخلات!E368,\"\")","v":""},{"$f":"IF(المدخلات!F368>0,المدخلات!F368,\"\")","v":""},{"$f":"IF(المدخلات!B368>0,المدخلات!$C$4,\"\")","v":""}]
[364,{"$f":"IF(المدخلات!B369>0,المدخلات!B369,\"\")","v":""},{"$f":"IF(المدخلات!C369>0,المدخلات!C369,\"\")","v":""},{"$f":"IF(المدخلات!D369>0,المدخلات!D369,\"\")","v":""},{"$f":"IF(المدخلات!E369>0,المدخلات!E369,\"\")","v":""},{"$f":"IF(المدخلات!F369>0,المدخلات!F369,\"\")","v":""},{"$f":"IF(المدخلات!B369>0,المدخلات!$C$4,\"\")","v":""}]
[365,{"$f":"IF(المدخلات!B370>0,المدخلات!B370,\"\")","v":""},{"$f":"IF(المدخلات!C370>0,المدخلات!C370,\"\")","v":""},{"$f":"IF(المدخلات!D370>0,المدخلات!D370,\"\")","v":""},{"$f":"IF(المدخلات!E370>0,المدخلات!E370,\"\")","v":""},{"$f":"IF(المدخلات!F370>0,المدخلات!F370,\"\")","v":""},{"$f":"IF(المدخلات!B370>0,المدخلات!$C$4,\"\")","v":""}]
[366,{"$f":"IF(المدخلات!B371>0,المدخلات!B371,\"\")","v":""},{"$f":"IF(المدخلات!C371>0,المدخلات!C371,\"\")","v":""},{"$f":"IF(المدخلات!D371>0,المدخلات!D371,\"\")","v":""},{"$f":"IF(المدخلات!E371>0,المدخلات!E371,\"\")","v":""},{"$f":"IF(المدخلات!F371>0,المدخلات!F371,\"\")","v":""},{"$f":"IF(المدخلات!B371>0,المدخلات!$C$4,\"\")","v":""}]
[367,{"$f":"IF(المدخلات!B372>0,المدخلات!B372,\"\")","v":""},{"$f":"IF(المدخلات!C372>0,المدخلات!C372,\"\")","v":""},{"$f":"IF(المدخلات!D372>0,المدخلات!D372,\"\")","v":""},{"$f":"IF(المدخلات!E372>0,المدخلات!E372,\"\")","v":""},{"$f":"IF(المدخلات!F372>0,المدخلات!F372,\"\")","v":""},{"$f":"IF(المدخلات!B372>0,المدخلات!$C$4,\"\")","v":""}]
[368,{"$f":"IF(المدخلات!B373>0,المدخلات!B373,\"\")","v":""},{"$f":"IF(المدخلات!C373>0,المدخلات!C373,\"\")","v":""},{"$f":"IF(المدخلات!D373>0,المدخلات!D373,\"\")","v":""},{"$f":"IF(المدخلات!E373>0,المدخلات!E373,\"\")","v":""},{"$f":"IF(المدخلات!F373>0,المدخلات!F373,\"\")","v":""},{"$f":"IF(المدخلات!B373>0,المدخلات!$C$4,\"\")","v":""}]
[369,{"$f":"IF(المدخلات!B374>0,المدخلات!B374,\"\")","v":""},{"$f":"IF(المدخلات!C374>0,المدخلات!C374,\"\")","v":""},{"$f":"IF(المدخلات!D374>0,المدخلات!D374,\"\")","v":""},{"$f":"IF(المدخلات!E374>0,المدخلات!E374,\"\")","v":""},{"$f":"IF(المدخلات!F374>0,المدخلات!F374,\"\")","v":""},{"$f":"IF(المدخلات!B374>0,المدخلات!$C$4,\"\")","v":""}]
[370,{"$f":"IF(المدخلات!B375>0,المدخلات!B375,\"\")","v":""},{"$f":"IF(المدخلات!C375>0,المدخلات!C375,\"\")","v":""},{"$f":"IF(المدخلات!D375>0,المدخلات!D375,\"\")","v":""},{"$f":"IF(المدخلات!E375>0,المدخلات!E375,\"\")","v":""},{"$f":"IF(المدخلات!F375>0,المدخلات!F375,\"\")","v":""},{"$f":"IF(المدخلات!B375>0,المدخلات!$C$4,\"\")","v":""}]
[371,{"$f":"IF(المدخلات!B376>0,المدخلات!B376,\"\")","v":""},{"$f":"IF(المدخلات!C376>0,المدخلات!C376,\"\")","v":""},{"$f":"IF(المدخلات!D376>0,المدخلات!D376,\"\")","v":""},{"$f":"IF(المدخلات!E376>0,المدخلات!E376,\"\")","v":""},{"$f":"IF(المدخلات!F376>0,المدخلات!F376,\"\")","v":""},{"$f":"IF(المدخلات!B376>0,المدخلات!$C$4,\"\")","v":""}]
[372,{"$f":"IF(المدخلات!B377>0,المدخلات!B377,\"\")","v":""},{"$f":"IF(المدخلات!C377>0,المدخلات!C377,\"\")","v":""},{"$f":"IF(المدخلات!D377>0,المدخلات!D377,\"\")","v":""},{"$f":"IF(المدخلات!E377>0,المدخلات!E377,\"\")","v":""},{"$f":"IF(المدخلات!F377>0,المدخلات!F377,\"\")","v":""},{"$f":"IF(المدخلات!B377>0,المدخلات!$C$4,\"\")","v":""}]
[373,{"$f":"IF(المدخلات!B378>0,المدخلات!B378,\"\")","v":""},{"$f":"IF(المدخلات!C378>0,المدخلات!C378,\"\")","v":""},{"$f":"IF(المدخلات!D378>0,المدخلات!D378,\"\")","v":""},{"$f":"IF(المدخلات!E378>0,المدخلات!E378,\"\")","v":""},{"$f":"IF(المدخلات!F378>0,المدخلات!F378,\"\")","v":""},{"$f":"IF(المدخلات!B378>0,المدخلات!$C$4,\"\")","v":""}]
[374,{"$f":"IF(المدخلات!B379>0,المدخلات!B379,\"\")","v":""},{"$f":"IF(المدخلات!C379>0,المدخلات!C379,\"\")","v":""},{"$f":"IF(المدخلات!D379>0,المدخلات!D379,\"\")","v":""},{"$f":"IF(المدخلات!E379>0,المدخلات!E379,\"\")","v":""},{"$f":"IF(المدخلات!F379>0,المدخلات!F379,\"\")","v":""},{"$f":"IF(المدخلات!B379>0,المدخلات!$C$4,\"\")","v":""}]
[375,{"$f":"IF(المدخلات!B380>0,المدخلات!B380,\"\")","v":""},{"$f":"IF(المدخلات!C380>0,المدخلات!C380,\"\")","v":""},{"$f":"IF(المدخلات!D380>0,المدخلات!D380,\"\")","v":""},{"$f":"IF(المدخلات!E380>0,المدخلات!E380,\"\")","v":""},{"$f":"IF(المدخلات!F380>0,المدخلات!F380,\"\")","v":""},{"$f":"IF(المدخلات!B380>0,المدخلات!$C$4,\"\")","v":""}]
[376,{"$f":"IF(المدخلات!B381>0,المدخلات!B381,\"\")","v":""},{"$f":"IF(المدخلات!C381>0,المدخلات!C381,\"\")","v":""},{"$f":"IF(المدخلات!D381>0,المدخلات!D381,\"\")","v":""},{"$f":"IF(المدخلات!E381>0,المدخلات!E381,\"\")","v":""},{"$f":"IF(المدخلات!F381>0,المدخلات!F381,\"\")","v":""},{"$f":"IF(المدخلات!B381>0,المدخلات!$C$4,\"\")","v":""}]
[377,{"$f":"IF(المدخلات!B382>0,المدخلات!B382,\"\")","v":""},{"$f":"IF(المدخلات!C382>0,المدخلات!C382,\"\")","v":""},{"$f":"IF(المدخلات!D382>0,المدخلات!D382,\"\")","v":""},{"$f":"IF(المدخلات!E382>0,المدخلات!E382,\"\")","v":""},{"$f":"IF(المدخلات!F382>0,المدخلات!F382,\"\")","v":""},{"$f":"IF(المدخلات!B382>0,المدخلات!$C$4,\"\")","v":""}]
[378,{"$f":"IF(المدخلات!B383>0,المدخلات!B383,\"\")","v":""},{"$f":"IF(المدخلات!C383>0,المدخلات!C383,\"\")","v":""},{"$f":"IF(المدخلات!D383>0,المدخلات!D383,\"\")","v":""},{"$f":"IF(المدخلات!E383>0,المدخلات!E383,\"\")","v":""},{"$f":"IF(المدخلات!F383>0,المدخلات!F383,\"\")","v":""},{"$f":"IF(المدخلات!B383>0,المدخلات!$C$4,\"\")","v":""}]
[379,{"$f":"IF(المدخلات!B384>0,المدخلات!B384,\"\")","v":""},{"$f":"IF(المدخلات!C384>0,المدخلات!C384,\"\")","v":""},{"$f":"IF(المدخلات!D384>0,المدخلات!D384,\"\")","v":""},{"$f":"IF(المدخلات!E384>0,المدخلات!E384,\"\")","v":""},{"$f":"IF(المدخلات!F384>0,المدخلات!F384,\"\")","v":""},{"$f":"IF(المدخلات!B384>0,المدخلات!$C$4,\"\")","v":""}]
[380,{"$f":"IF(المدخلات!B385>0,المدخلات!B385,\"\")","v":""},{"$f":"IF(المدخلات!C385>0,المدخلات!C385,\"\")","v":""},{"$f":"IF(المدخلات!D385>0,المدخلات!D385,\"\")","v":""},{"$f":"IF(المدخلات!E385>0,المدخلات!E385,\"\")","v":""},{"$f":"IF(المدخلات!F385>0,المدخلات!F385,\"\")","v":""},{"$f":"IF(المدخلات!B385>0,المدخلات!$C$4,\"\")","v":""}]

{"sheet":"01090895467","index":3,"n_rows":387,"n_cols":7,"rows_kept":387,"cut":false,"hidden":false,"merged":[]}
[]
[null,"اسم العميل /","محمود عبده"]
[null,"رقم الهاتف /","01090895467"]
[null,"التاريخ /","2022-09-07"]
[]
[]
["م","الصنف","سعر المتر","عدد المتر","الخصم","الاجمالي","التاريخ"]
[1]
[2]
[3]
[4]
[5]
[6]
[7]
[8]
[9]
[10]
[11]
[12]
[13]
[14]
[15]
[16]
[17]
[18]
[19]
[20]
[21]
[22]
[23]
[24]
[25]
[26]
[27]
[28]
[29]
[30]
[31]
[32]
[33]
[34]
[35]
[36]
[37]
[38]
[39]
[40]
[41]
[42]
[43]
[44]
[45]
[46]
[47]
[48]
[49]
[50]
[51]
[52]
[53]
[54]
[55]
[56]
[57]
[58]
[59]
[60]
[61]
[62]
[63]
[64]
[65]
[66]
[67]
[68]
[69]
[70]
[71]
[72]
[73]
[74]
[75]
[76]
[77]
[78]
[79]
[80]
[81]
[82]
[83]
[84]
[85]
[86]
[87]
[88]
[89]
[90]
[91]
[92]
[93]
[94]
[95]
[96]
[97]
[98]
[99]
[100]
[101]
[102]
[103]
[104]
[105]
[106]
[107]
[108]
[109]
[110]
[111]
[112]
[113]
[114]
[115]
[116]
[117]
[118]
[119]
[120]
[121]
[122]
[123]
[124]
[125]
[126]
[127]
[128]
[129]
[130]
[131]
[132]
[133]
[134]
[135]
[136]
[137]
[138]
[139]
[140]
[141]
[142]
[143]
[144]
[145]
[146]
[147]
[148]
[149]
[150]
[151]
[152]
[153]
[154]
[155]
[156]
[157]
[158]
[159]
[160]
[161]
[162]
[163]
[164]
[165]
[166]
[167]
[168]
[169]
[170]
[171]
[172]
[173]
[174]
[175]
[176]
[177]
[178]
[179]
[180]
[181]
[182]
[183]
[184]
[185]
[186]
[187]
[188]
[189]
[190]
[191]
[192]
[193]
[194]
[195]
[196]
[197]
[198]
[199]
[200]
[201]
[202]
[203]
[204]
[205]
[206]
[207]
[208]
[209]
[210]
[211]
[212]
[213]
[214]
[215]
[216]
[217]
[218]
[219]
[220]
[221]
[222]
[223]
[224]
[225]
[226]
[227]
[228]
[229]
[230]
[231]
[232]
[233]
[234]
[235]
[236]
[237]
[238]
[239]
[240]
[241]
[242]
[243]
[244]
[245]
[246]
[247]
[248]
[249]
[250]
[251]
[252]
[253]
[254]
[255]
[256]
[257]
[258]
[259]
[260]
[261]
[262]
[263]
[264]
[265]
[266]
[267]
[268]
[269]
[270]
[271]
[272]
[273]
[274]
[275]
[276]
[277]
[278]
[279]
[280]
[281]
[282]
[283]
[284]
[285]
[286]
[287]
[288]
[289]
[290]
[291]
[292]
[293]
[294]
[295]
[296]
[297]
[298]
[299]
[300]
[301]
[302]
[303]
[304]
[305]
[306]
[307]
[308]
[309]
[310]
[311]
[312]
[313]
[314]
[315]
[316]
[317]
[318]
[319]
[320]
[321]
[322]
[323]
[324]
[325]
[326]
[327]
[328]
[329]
[330]
[331]
[332]
[333]
[334]
[335]
[336]
[337]
[338]
[339]
[340]
[341]
[342]
[343]
[344]
[345]
[346]
[347]
[348]
[349]
[350]
[351]
[352]
[353]
[354]
[355]
[356]
[357]
[358]
[359]
[360]
[361]
[362]
[363]
[364]
[365]
[366]
[367]
[368]
[369]
[370]
[371]
[372]
[373]
[374]
[375]
[376]
[377]
[378]
[379]
[380]

{"sheet":"01090895624","index":4,"n_rows":607,"n_cols":7,"rows_kept":607,"cut":false,"hidden":false,"merged":[]}
[]
[null,"اسم العميل /","محمود عبد الفتاح"]
[null,"رقم الهاتف /","01090895624"]
[null,"التاريخ /","2022-09-08"]
[]
[]
["م","الصنف","سعر المتر","عدد المتر","الخصم","الاجمالي","التاريخ"]
[1]
[2]
[3]
[4]
[5,"","","","","",""]
[6,"","","","","",""]
[7,"","","","","",""]
[8,"","","","","",""]
[9,"","","","","",""]
[10,"","","","","",""]
[11,"","","","","",""]
[12,"","","","","",""]
[13,"","","","","",""]
[14,"","","","","",""]
[15,"","","","","",""]
[16,"","","","",14970,""]
[17,"","","","","",""]
[18,"","","","","",""]
[19,"","","","","",""]
[20,"","","","","",""]
[21,"","","","","",""]
[22,"","","","","",""]
[23,"","","","","",""]
[24,"","","","","",""]
[25,"","","","","",""]
[26,"","","","","",""]
[27,"","","","","",""]
[28,"","","","","",""]
[29,"","","","","",""]
[30,"","","","","",""]
[31,"","","","","",""]
[32,"","","","","",""]
[33,"","","","","",""]
[34,"","","","","",""]
[35,"","","","","",""]
[36,"","","","","",""]
[37,"","","","","",""]
[38,"","","","","",""]
[39,"","","","","",""]
[40,"","","","","",""]
[41,"","","","","",""]
[42,"","","","","",""]
[43,"","","","","",""]
[44,"","","","","",""]
[45,"","","","","",""]
[46,"","","","","",""]
[47,"","","","","",""]
[48,"","","","","",""]
[49,"","","","","",""]
[50,"","","","","",""]
[51,"","","","","",""]
[52,"","","","","",""]
[53,"","","","","",""]
[54,"","","","","",""]
[55,"","","","","",""]
[56,"","","","","",""]
[57,"","","","","",""]
[58,"","","","","",""]
[59,"","","","","",""]
[60,"","","","","",""]
[61,"","","","","",""]
[62,"","","","","",""]
[63,"","","","","",""]
[64,"","","","","",""]
[65,"","","","","",""]
[66,"","","","","",""]
[67,"","","","","",""]
[68,"","","","","",""]
[69,"","","","","",""]
[70,"","","","","",""]
[71,"","","","","",""]
[72,"","","","","",""]
[73,"","","","","",""]
[74,"","","","","",""]
[75,"","","","","",""]
[76,"","","","","",""]
[77,"","","","","",""]
[78,"","","","","",""]
[79,"","","","","",""]
[80,"","","","","",""]
[81,"","","","","",""]
[82,"","","","","",""]
[83,"","","","","",""]
[84,"","","","","",""]
[85,"","","","","",""]
[86,"","","","","",""]
[87,"","","","","",""]
[88,"","","","","",""]
[89,"","","","","",""]
[90,"","","","","",""]
[91,"","","","","",""]
[92,"","","","","",""]
[93,"","","","","",""]
[94,"","","","","",""]
[95,"","","","","",""]
[96,"","","","","",""]
[97,"","","","","",""]
[98,"","","","","",""]
[99,"","","","","",""]
[100,"","","","","",""]
[101,"","","","","",""]
[102,"","","","","",""]
[103,"","","","","",""]
[104,"","","","","",""]
[105,"","","","","",""]
[106,"","","","","",""]
[107,"","","","","",""]
[108,"","","","","",""]
[109,"","","","","",""]
[110,"","","","","",""]
[111,"","","","","",""]
[112,"","","","","",""]
[113,"","","","","",""]
[114,"","","","","",""]
[115,"","","","","",""]
[116,"","","","","",""]
[117,"","","","","",""]
[118,"","","","","",""]
[119,"","","","","",""]
[120,"","","","","",""]
[121,"","","","","",""]
[122,"","","","","",""]
[123,"","","","","",""]
[124,"","","","","",""]
[125,"","","","","",""]
[126,"","","","","",""]
[127,"","","","","",""]
[128,"","","","","",""]
[129,"","","","","",""]
[130,"","","","","",""]
[131,"","","","","",""]
[132,"","","","","",""]
[133,"","","","","",""]
[134,"","","","","",""]
[135,"","","","","",""]
[136,"","","","","",""]
[137,"","","","","",""]
[138,"","","","","",""]
[139,"","","","","",""]
[140,"","","","","",""]
[141,"","","","","",""]
[142,"","","","","",""]
[143,"","","","","",""]
[144,"","","","","",""]
[145,"","","","","",""]
[146,"","","","","",""]
[147,"","","","","",""]
[148,"","","","","",""]
[149,"","","","","",""]
[150,"","","","","",""]
[151,"","","","","",""]
[152,"","","","","",""]
[153,"","","","","",""]
[154,"","","","","",""]
[155,"","","","","",""]
[156,"","","","","",""]
[157,"","","","","",""]
[158,"","","","","",""]
[159,"","","","","",""]
[160,"","","","","",""]
[161,"","","","","",""]
[162,"","","","","",""]
[163,"","","","","",""]
[164,"","","","","",""]
[165,"","","","","",""]
[166,"","","","","",""]
[167,"","","","","",""]
[168,"","","","","",""]
[169,"","","","","",""]
[170,"","","","","",""]
[171,"","","","","",""]
[172,"","","","","",""]
[173,"","","","","",""]
[174,"","","","","",""]
[175,"","","","","",""]
[176,"","","","","",""]
[177,"","","","","",""]
[178,"","","","","",""]
[179,"","","","","",""]
[180,"","","","","",""]
[181,"","","","","",""]
[182,"","","","","",""]
[183,"","","","","",""]
[184,"","","","","",""]
[185,"","","","","",""]
[186,"","","","","",""]
[187,"","","","","",""]
[188,"","","","","",""]
[189,"","","","","",""]
[190,"","","","","",""]
[191,"","","","","",""]
[192,"","","","","",""]
[193,"","","","","",""]
[194,"","","","","",""]
[195,"","","","","",""]
[196,"","","","","",""]
[197,"","","","","",""]
[198,"","","","","",""]
[199,"","","","","",""]
[200,"","","","","",""]
[201,"","","","","",""]
[202,"","","","","",""]
[203,"","","","","",""]
[204,"","","","","",""]
[205,"","","","","",""]
[206,"","","","","",""]
[207,"","","","","",""]
[208,"","","","","",""]
[209,"","","","","",""]
[210,"","","","","",""]
[211,"","","","","",""]
[212,"","","","","",""]
[213,"","","","","",""]
[214,"","","","","",""]
[215,"","","","","",""]
[216,"","","","","",""]
[217,"","","","","",""]
[218,"","","","","",""]
[219,"","","","","",""]
[220,"","","","","",""]
[221,"","","","","",""]
[222,"","","","","",""]
[223,"","","","","",""]
[224,"","","","","",""]
[225,"","","","","",""]
[226,"","","","","",""]
[227,"","","","","",""]
[228,"","","","","",""]
[229,"","","","","",""]
[230,"","","","","",""]
[231,"","","","","",""]
[232,"","","","","",""]
[233,"","","","","",""]
[234,"","","","","",""]
[235,"","","","","",""]
[236,"","","","","",""]
[237,"","","","","",""]
[238,"","","","","",""]
[239,"","","","","",""]
[240,"","","","","",""]
[241,"","","","","",""]
[242,"","","","","",""]
[243,"","","","","",""]
[244,"","","","","",""]
[245,"","","","","",""]
[246,"","","","","",""]
[247,"","","","","",""]
[248,"","","","","",""]
[249,"","","","","",""]
[250,"","","","","",""]
[251,"","","","","",""]
[252,"","","","","",""]
[253,"","","","","",""]
[254,"","","","","",""]
[255,"","","","","",""]
[256,"","","","","",""]
[257,"","","","","",""]
[258,"","","","","",""]
[259,"","","","","",""]
[260,"","","","","",""]
[261,"","","","","",""]
[262,"","","","","",""]
[263,"","","","","",""]
[264,"","","","","",""]
[265,"","","","","",""]
[266,"","","","","",""]
[267,"","","","","",""]
[268,"","","","","",""]
[269,"","","","","",""]
[270,"","","","","",""]
[271,"","","","","",""]
[272,"","","","","",""]
[273,"","","","","",""]
[274,"","","","","",""]
[275,"","","","","",""]
[276,"","","","","",""]
[277,"","","","","",""]
[278,"","","","","",""]
[279,"","","","","",""]
[280,"","","","","",""]
[281,"","","","","",""]
[282,"","","","","",""]
[283,"","","","","",""]
[284,"","","","","",""]
[285,"","","","","",""]
[286,"","","","","",""]
[287,"","","","","",""]
[288,"","","","","",""]
[289,"","","","","",""]
[290,"","","","","",""]
[291,"","","","","",""]
[292,"","","","","",""]
[293,"","","","","",""]
[294,"","","","","",""]
[295,"","","","","",""]
[296,"","","","","",""]
[297,"","","","","",""]
[298,"","","","","",""]
[299,"","","","","",""]
[300,"","","","","",""]
[301,"","","","","",""]
[302,"","","","","",""]
[303,"","","","","",""]
[304,"","","","","",""]
[305,"","","","","",""]
[306,"","","","","",""]
[307,"","","","","",""]
[308,"","","","","",""]
[309,"","","","","",""]
[310,"","","","","",""]
[311,"","","","","",""]
[312,"","","","","",""]
[313,"","","","","",""]
[314,"","","","","",""]
[315,"","","","","",""]
[316,"","","","","",""]
[317,"","","","","",""]
[318,"","","","","",""]
[319,"","","","","",""]
[320,"","","","","",""]
[321,"","","","","",""]
[322,"","","","","",""]
[323,"","","","","",""]
[324,"","","","","",""]
[325,"","","","","",""]
[326,"","","","","",""]
[327,"","","","","",""]
[328,"","","","","",""]
[329,"","","","","",""]
[330,"","","","","",""]
[331,"","","","","",""]
[332,"","","","","",""]
[333,"","","","","",""]
[334,"","","","","",""]
[335,"","","","","",""]
[336,"","","","","",""]
[337,"","","","","",""]
[338,"","","","","",""]
[339,"","","","","",""]
[340,"","","","","",""]
[341,"","","","","",""]
[342,"","","","","",""]
[343,"","","","","",""]
[344,"","","","","",""]
[345,"","","","","",""]
[346,"","","","","",""]
[347,"","","","","",""]
[348,"","","","","",""]
[349,"","","","","",""]
[350,"","","","","",""]
[351,"","","","","",""]
[352,"","","","","",""]
[353,"","","","","",""]
[354,"","","","","",""]
[355,"","","","","",""]
[356,"","","","","",""]
[357,"","","","","",""]
[358,"","","","","",""]
[359,"","","","","",""]
[360,"","","","","",""]
[361,"","","","","",""]
[362,"","","","","",""]
[363,"","","","","",""]
[364,"","","","","",""]
[365,"","","","","",""]
[366,"","","","","",""]
[367,"","","","","",""]
[368,"","","","","",""]
[369,"","","","","",""]
[370,"","","","","",""]
[371,"","","","","",""]
[372,"","","","","",""]
[373,"","","","","",""]
[374,"","","","","",""]
[375,"","","","","",""]
[376,"","","","","",""]
[377,"","","","","",""]
[378,"","","","","",""]
[379,"","","","","",""]
[380,"","","","","",""]
[null,"همر",120,20,50,2350,44812]
[null,"جلد مقلوب",130,10,20,1280,44812]
[null,"قطيفة",138,30,100,4040,44812]
[null,"ذهبي",150,50,200,7300,44812]
[null,"همر",120,20,50,2350,44812]
[null,"جلد مقلوب",130,10,20,1280,44812]
[null,"قطيفة",138,30,100,4040,44812]
[null,"ذهبي",150,50,200,7300,44812]
[null,"همر",120,20,50,2350,44812]
[null,"جلد مقلوب",130,10,20,1280,44812]
[null,"قطيفة",138,30,100,4040,44812]
[null,"ذهبي",150,50,200,7300,44812]
[null,"همر",120,20,50,2350,44812]
[null,"جلد مقلوب",130,10,20,1280,44812]
[null,"قطيفة",138,30,100,4040,44812]
[null,"ذهبي",150,50,200,7300,44812]
[null,"همر",120,20,50,2350,44812]
[null,"جلد مقلوب",130,10,20,1280,44812]
[null,"قطيفة",138,30,100,4040,44812]
[null,"ذهبي",150,50,200,7300,44812]
[null,"همر",120,20,50,2350,44812]
[null,"جلد مقلوب",130,10,20,1280,44812]
[null,"قطيفة",138,30,100,4040,44812]
[null,"ذهبي",150,50,200,7300,44812]
[null,"همر",120,20,50,2350,44812]
[null,"جلد مقلوب",130,10,20,1280,44812]
[null,"قطيفة",138,30,100,4040,44812]
[null,"ذهبي",150,50,200,7300,44812]
[null,"همر",120,20,50,2350,44812]
[null,"جلد مقلوب",130,10,20,1280,44812]
[null,"قطيفة",138,30,100,4040,44812]
[null,"ذهبي",150,50,200,7300,44812]
[null,"همر",120,20,50,2350,44812]
[null,"جلد مقلوب",130,10,20,1280,44812]
[null,"قطيفة",138,30,100,4040,44812]
[null,"ذهبي",150,50,200,7300,44812]
[null,"همر",120,20,50,2350,44812]
[null,"جلد مقلوب",130,10,20,1280,44812]
[null,"قطيفة",138,30,100,4040,44812]
[null,"ذهبي",150,50,200,7300,44812]
[null,"همر",120,20,50,2350,44812]
[null,"جلد مقلوب",130,10,20,1280,44812]
[null,"قطيفة",138,30,100,4040,44812]
[null,"ذهبي",150,50,200,7300,44812]
[null,"همر",120,20,50,2350,44812]
[null,"جلد مقلوب",130,10,20,1280,44812]
[null,"قطيفة",138,30,100,4040,44812]
[null,"ذهبي",150,50,200,7300,44812]
[null,"همر",120,20,50,2350,44812]
[null,"جلد مقلوب",130,10,20,1280,44812]
[null,"قطيفة",138,30,100,4040,44812]
[null,"ذهبي",150,50,200,7300,44812]
[null,"همر",120,20,50,2350,44812]
[null,"جلد مقلوب",130,10,20,1280,44812]
[null,"قطيفة",138,30,100,4040,44812]
[null,"ذهبي",150,50,200,7300,44812]
[null,"همر",120,20,50,2350,44812]
[null,"جلد مقلوب",130,10,20,1280,44812]
[null,"قطيفة",138,30,100,4040,44812]
[null,"ذهبي",150,50,200,7300,44812]
[null,"همر",120,20,50,2350,44812]
[null,"جلد مقلوب",130,10,20,1280,44812]
[null,"قطيفة",138,30,100,4040,44812]
[null,"ذهبي",150,50,200,7300,44812]
[null,"همر",120,20,50,2350,44812]
[null,"جلد مقلوب",130,10,20,1280,44812]
[null,"قطيفة",138,30,100,4040,44812]
[null,"ذهبي",150,50,200,7300,44812]
[null,"همر",120,20,50,2350,44812]
[null,"جلد مقلوب",130,10,20,1280,44812]
[null,"قطيفة",138,30,100,4040,44812]
[null,"ذهبي",150,50,200,7300,44812]
[null,"همر",120,20,50,2350,44812]
[null,"جلد مقلوب",130,10,20,1280,44812]
[null,"قطيفة",138,30,100,4040,44812]
[null,"ذهبي",150,50,200,7300,44812]
[null,"همر",120,20,50,2350,44812]
[null,"جلد مقلوب",130,10,20,1280,44812]
[null,"قطيفة",138,30,100,4040,44812]
[null,"ذهبي",150,50,200,7300,44812]
[null,"همر",120,20,50,2350,44812]
[null,"جلد مقلوب",130,10,20,1280,44812]
[null,"قطيفة",138,30,100,4040,44812]
[null,"ذهبي",150,50,200,7300,44812]
[null,"همر",120,20,50,2350,44812]
[null,"جلد مقلوب",130,10,20,1280,44812]
[null,"قطيفة",138,30,100,4040,44812]
[null,"ذهبي",150,50,200,7300,44812]
[null,"همر",120,20,50,2350,44812]
[null,"جلد مقلوب",130,10,20,1280,44812]
[null,"قطيفة",138,30,100,4040,44812]
[null,"ذهبي",150,50,200,7300,44812]
[null,"همر",120,20,50,2350,44812]
[null,"جلد مقلوب",130,10,20,1280,44812]
[null,"قطيفة",138,30,100,4040,44812]
[null,"ذهبي",150,50,200,7300,44812]
[null,"همر",120,20,50,2350,44812]
[null,"جلد مقلوب",130,10,20,1280,44812]
[null,"قطيفة",138,30,100,4040,44812]
[null,"ذهبي",150,50,200,7300,44812]
[null,"همر",120,20,50,2350,44812]
[null,"جلد مقلوب",130,10,20,1280,44812]
[null,"قطيفة",138,30,100,4040,44812]
[null,"ذهبي",150,50,200,7300,44812]
[null,"همر",120,20,50,2350,44812]
[null,"جلد مقلوب",130,10,20,1280,44812]
[null,"قطيفة",138,30,100,4040,44812]
[null,"ذهبي",150,50,200,7300,44812]
[null,"همر",120,20,50,2350,44812]
[null,"جلد مقلوب",130,10,20,1280,44812]
[null,"قطيفة",138,30,100,4040,44812]
[null,"ذهبي",150,50,200,7300,44812]
[null,"همر",120,20,50,2350,44812]
[null,"جلد مقلوب",130,10,20,1280,44812]
[null,"قطيفة",138,30,100,4040,44812]
[null,"ذهبي",150,50,200,7300,44812]
[null,"همر",120,20,50,2350,44812]
[null,"جلد مقلوب",130,10,20,1280,44812]
[null,"قطيفة",138,30,100,4040,44812]
[null,"ذهبي",150,50,200,7300,44812]
[null,"همر",120,20,50,2350,44812]
[null,"جلد مقلوب",130,10,20,1280,44812]
[null,"قطيفة",138,30,100,4040,44812]
[null,"ذهبي",150,50,200,7300,44812]
[null,"همر",120,20,50,2350,44812]
[null,"جلد مقلوب",130,10,20,1280,44812]
[null,"قطيفة",138,30,100,4040,44812]
[null,"ذهبي",150,50,200,7300,44812]
[null,"همر",120,20,50,2350,44812]
[null,"جلد مقلوب",130,10,20,1280,44812]
[null,"قطيفة",138,30,100,4040,44812]
[null,"ذهبي",150,50,200,7300,44812]
[null,"همر",120,20,50,2350,44812]
[null,"جلد مقلوب",130,10,20,1280,44812]
[null,"قطيفة",138,30,100,4040,44812]
[null,"ذهبي",150,50,200,7300,44812]
[null,"همر",120,20,50,2350,44812]
[null,"جلد مقلوب",130,10,20,1280,44812]
[null,"قطيفة",138,30,100,4040,44812]
[null,"ذهبي",150,50,200,7300,44812]
[null,"همر",120,20,50,2350,44812]
[null,"جلد مقلوب",130,10,20,1280,44812]
[null,"قطيفة",138,30,100,4040,44812]
[null,"ذهبي",150,50,200,7300,44812]
[null,"همر",120,20,50,2350,44812]
[null,"جلد مقلوب",130,10,20,1280,44812]
[null,"قطيفة",138,30,100,4040,44812]
[null,"ذهبي",150,50,200,7300,44812]
[null,"همر",120,20,50,2350,44812]
[null,"جلد مقلوب",130,10,20,1280,44812]
[null,"قطيفة",138,30,100,4040,44812]
[null,"ذهبي",150,50,200,7300,44812]
[null,"همر",120,20,50,2350,44812]
[null,"جلد مقلوب",130,10,20,1280,44812]
[null,"قطيفة",138,30,100,4040,44812]
[null,"ذهبي",150,50,200,7300,44812]
[null,"همر",120,20,50,2350,44812]
[null,"جلد مقلوب",130,10,20,1280,44812]
[null,"قطيفة",138,30,100,4040,44812]
[null,"ذهبي",150,50,200,7300,44812]
[null,"همر",120,20,50,2350,44812]
[null,"جلد مقلوب",130,10,20,1280,44812]
[null,"قطيفة",138,30,100,4040,44812]
[null,"ذهبي",150,50,200,7300,44812]
[null,"همر",120,20,50,2350,44812]
[null,"جلد مقلوب",130,10,20,1280,44812]
[null,"قطيفة",138,30,100,4040,44812]
[null,"ذهبي",150,50,200,7300,44812]
[null,"همر",120,20,50,2350,44812]
[null,"جلد مقلوب",130,10,20,1280,44812]
[null,"قطيفة",138,30,100,4040,44812]
[null,"ذهبي",150,50,200,7300,44812]
[null,"ذهبي",150,20,50,2950,44812]
[null,"جلد مقلوب",130,10,20,1280,44812]
[null,"قطيفة",138,30,100,4040,44812]
[null,"ذهبي",150,50,200,7300,44812]
[null,"ذهبي",150,20,50,2950,44812]
[null,"جلد مقلوب",130,10,20,1280,44812]
[null,"قطيفة",138,30,100,4040,44812]
[null,"ذهبي",150,50,200,7300,44812]
[null,"ذهبي",150,20,50,2950,44812]
[null,"جلد مقلوب",130,10,20,1280,44812]
[null,"قطيفة",138,30,100,4040,44812]
[null,"ذهبي",150,50,200,7300,44812]
[null,"ذهبي",150,20,50,2950,44812]
[null,"جلد مقلوب",130,10,20,1280,44812]
[null,"قطيفة",138,30,100,4040,44812]
[null,"ذهبي",150,50,200,7300,44812]
[null,"ذهبي",150,20,50,2950,44812]
[null,"جلد مقلوب",130,10,20,1280,44812]
[null,"قطيفة",138,30,100,4040,44812]
[null,"ذهبي",150,50,200,7300,44812]
[null,"ذهبي",150,20,50,2950,44812]
[null,"جلد مقلوب",130,10,20,1280,44812]
[null,"قطيفة",138,30,100,4040,44812]
[null,"ذهبي",150,50,200,7300,44812]
[null,"ذهبي",150,20,50,2950,44812]
[null,"جلد مقلوب",130,10,20,1280,44812]
[null,"قطيفة",138,30,100,4040,44812]
[null,"ذهبي",150,50,200,7300,44812]
[null,"ذهبي",150,20,50,2950,44812]
[null,"جلد مقلوب",130,10,20,1280,44812]
[null,"قطيفة",138,30,100,4040,44812]
[null,"ذهبي",150,50,200,7300,44812]
[null,"ذهبي",150,20,50,2950,44812]
[null,"جلد مقلوب",130,10,20,1280,44812]
[null,"قطيفة",138,30,100,4040,44812]
[null,"ذهبي",150,50,200,7300,44812]
[null,"ذهبي",150,20,50,2950,44812]
[null,"جلد مقلوب",130,10,20,1280,44812]
[null,"قطيفة",138,30,100,4040,44812]
[null,"ذهبي",150,50,200,7300,44812]
[null,"ذهبي",150,20,50,2950,44812]
[null,"جلد مقلوب",130,10,20,1280,44812]
[null,"قطيفة",138,30,100,4040,44812]
[null,"ذهبي",150,50,200,7300,44812]
[null,"ذهبي",150,20,50,2950,44812]
[null,"جلد مقلوب",130,10,20,1280,44812]
[null,"قطيفة",138,30,100,4040,44812]
[null,"ذهبي",150,50,200,7300,44812]