{"text_format":"1","workbook":"xlsx","n_sheets":50,"sheets":["درجات شهادات (2)","شهادات دور ثاني","رياضة دور ثاني","فنية دور ثاني","انكليزي دور ثاني","رياضيات دور ثاني","علوم دور ثاني","سجل وسط نهاية السنة (2)","قائمة امتحان لغرض الدور الثاني ","قائمة نهاية السنة","الناجحون من الصف","الراسبون في الصف","سجل امتحان الدور الثاني","عربي دور ثاني","اسلامية دور ثاني","فنية","رياضة","قائمة امتحان نصف السنة","الرئيسية ",",v ehkd","ترحيل المكملون الى القوائم","اسلامية","عربي","علوم","رياضيات","NMPAR","انكليزي","سجل وسط نصف سنة","الشهادات","77","اسلامية نهاية السنة","عربي نهاية السنة","انكليزي نهاية السنة","رياضيات نهاية السنة","علوم نهاية السنة","درجات شهادات","ناجحة","راسبة","مكملة","غائبة","سجل وسط نهاية السنة","ناجح","راسب","مكمل","مكمل بدرسين ","غياب","فنية نهاية السنة","رياضة نهاية السنة","اسماء التلاميذ","1"],"not_rendered":{"charts":0,"images":2,"macros":1,"external_links":12,"defined_names":1949,"comments":0,"pivot_tables":0},"unopened":[],"bounds":{"document_bytes":16777216,"sheet_cells":100000,"rows_first":2000,"rows_last":500,"rows_between":2000,"halvings":0,"cell_chars":16384,"cell_head_chars":4096},"cells_cut":0,"cells_raw":0,"read":"whole","date_system":"1900"}

{"sheet":"درجات شهادات (2)","index":0,"n_rows":52,"n_cols":74,"rows_kept":52,"cut":false,"hidden":false,"merged":[[4,63,5,63],[4,64,5,64],[4,65,5,65],[4,18,5,18],[4,58,5,58],[4,59,5,59],[4,60,5,60],[4,61,5,61],[4,62,5,62],[4,17,5,17],[4,6,5,6],[4,7,5,7],[4,8,5,8],[4,9,5,9],[4,10,5,10],[4,11,5,11],[4,12,5,12],[4,13,5,13],[4,14,5,14],[4,15,5,15],[4,16,5,16],[4,5,5,5],[4,0,5,0],[4,1,5,1],[4,2,5,2],[4,3,5,3],[4,4,5,4]]}
[1,2,3,4,5,6,7,8,9,10,11,12,13,14,15,16,17,18,null,20,21,22,23,24,25,26,27,28,29,30,31,32,33,34,35,36,37,38,39,40,41,42,43,44,45,46,47,48,49,null,51,52,53,54,55,56,57,58,59,60,61,62,63,64,65,66,67,68,69,70,71,72,73,74]
[]
[]
[null,null,null,null,null,"نصف السنة",null,null,null,null,null,null,"نهاية السنة"]
["ت","رقم القبول","الاسم الثلاثي","الجنس","التربية الإسلامية","اللغة العربية","الرياضيات","العلوم","الإنكليزي","الفنية والنشيد","التربية الرياضية","التربية الإسلامية","اللغة العربية","رياضيات","علوم","إنكليزي","فنية","رياضة",null,null,null,null,null,null,null,null,null,null,null,null,null,null,null,null,null,null,null,null,null,null,null,null,null,null,null,null,null,null,null,null,null,null,null,null,null,null,null,null,"التربية الإسلامية","اللغة العربية","الإنكليزي","الرياضيات","العلوم","الاجتماعيات","الفنية والنشيد","التربية الرياضة"]
[null,null,null,null,null,null,null,null,null,null,null,null,null,null,null,null,null,null,null,"المدرسة","المدير","المرشد","السنة","الصف","الشعبة","مسؤول الكنترول",null,28,"نهاية السنة",null,null,null,null,"نصف السنة","إسلامية",null,null,null,null,null,"رياضة",null,"نهاية السنة"]
[4,"نوري",null,"ذكر",{"$f":"'اسلامية نهاية السنة'!L7","v":7},"2 5",{"$f":"'رياضيات نهاية السنة'!F7","v":7},{"$f":"'علوم نهاية السنة'!F7","v":6},{"$f":"'انكليزي نهاية السنة'!L7","v":7},{"$f":"'فنية نهاية السنة'!J7","v":9},{"$f":"'رياضة نهاية السنة'!L7","v":10},null,null,null,null,null,null,null,null,{"$f":"'اسماء التلاميذ'!B$2","v":0},{"$f":"'اسماء التلاميذ'!B$3","v":0},{"$f":"'اسماء التلاميذ'!B$4","v":0},{"$f":"'اسماء التلاميذ'!F$4","v":"2021 - 2022"},{"$f":"'اسماء التلاميذ'!F$2","v":"الأول"},{"$f":"'اسماء التلاميذ'!F$3","v":"أ"},{"$f":"'اسماء التلاميذ'!F$37","v":"سعد حميد خلف"},{"$f":"'اسماء التلاميذ'!D7","v":0},{"$f":"'قائمة امتحان نصف السنة'!P7","v":"ناجح"},{"$f":"'قائمة امتحان لغرض الدور الثاني '!P7","v":"ناجح"},{"$f":"'قائمة امتحان لغرض الدور الثاني '!L7","v":51},null,null,null,{"$f":"'قائمة امتحان نصف السنة'!D7","v":0},{"$f":"'قائمة امتحان نصف السنة'!E7","v":7},{"$f":"'قائمة امتحان نصف السنة'!F7","v":6},{"$f":"'قائمة امتحان نصف السنة'!G7","v":7},{"$f":"'قائمة امتحان نصف السنة'!H7","v":6},{"$f":"'قائمة امتحان نصف السنة'!I7","v":7},{"$f":"'قائمة امتحان نصف السنة'!J7","v":9},{"$f":"'قائمة امتحان نصف السنة'!K7","v":10},null,{"$f":"'قائمة نهاية السنة'!E7","v":7},{"$f":"'قائمة نهاية السنة'!F7","v":2},{"$f":"'قائمة نهاية السنة'!G7","v":7},{"$f":"'قائمة نهاية السنة'!H7","v":6},{"$f":"'قائمة نهاية السنة'!I7","v":7},{"$f":"'قائمة نهاية السنة'!J7","v":9},{"$f":"'قائمة نهاية السنة'!K7","v":10}]
[5,"احمد",null,"ذكر",{"$f":"'اسلامية نهاية السنة'!L8","v":6},{"$f":"'عربي نهاية السنة'!AE8","v":5},{"$f":"'رياضيات نهاية السنة'!F8","v":5},{"$f":"'علوم نهاية السنة'!F8","v":5},{"$f":"'انكليزي نهاية السنة'!L8","v":5},{"$f":"'فنية نهاية السنة'!J8","v":9},{"$f":"'رياضة نهاية السنة'!L8","v":10},null,null,null,null,null,null,null,null,{"$f":"'اسماء التلاميذ'!B$2","v":0},{"$f":"'اسماء التلاميذ'!B$3","v":0},{"$f":"'اسماء التلاميذ'!B$4","v":0},{"$f":"'اسماء التلاميذ'!F$4","v":"2021 - 2022"},{"$f":"'اسماء التلاميذ'!F$2","v":"الأول"},{"$f":"'اسماء التلاميذ'!F$3","v":"أ"},{"$f":"'اسماء التلاميذ'!F$37","v":"سعد حميد خلف"},{"$f":"'اسماء التلاميذ'!D8","v":0},{"$f":"'قائمة امتحان نصف السنة'!P8","v":"ناجح"},{"$f":"'قائمة امتحان لغرض الدور الثاني '!P8","v":"ناجح"},{"$f":"'قائمة امتحان لغرض الدور الثاني '!L8","v":45},null,null,null,{"$f":"'قائمة امتحان نصف السنة'!D8","v":0},{"$f":"'قائمة امتحان نصف السنة'!E8","v":6},{"$f":"'قائمة امتحان نصف السنة'!F8","v":5},{"$f":"'قائمة امتحان نصف السنة'!G8","v":5},{"$f":"'قائمة امتحان نصف السنة'!H8","v":5},{"$f":"'قائمة امتحان نصف السنة'!I8","v":5},{"$f":"'قائمة امتحان نصف السنة'!J8","v":9},{"$f":"'قائمة امتحان نصف السنة'!K8","v":10},null,{"$f":"'قائمة نهاية السنة'!E8","v":6},{"$f":"'قائمة نهاية السنة'!F8","v":5},{"$f":"'قائمة نهاية السنة'!G8","v":5},{"$f":"'قائمة نهاية السنة'!H8","v":5},{"$f":"'قائمة نهاية السنة'!I8","v":5},{"$f":"'قائمة نهاية السنة'!J8","v":9},{"$f":"'قائمة نهاية السنة'!K8","v":10}]
[6,null,null,"ذكر",{"$f":"'اسلامية نهاية السنة'!L9","v":8},{"$f":"'عربي نهاية السنة'!AE9","v":8},{"$f":"'رياضيات نهاية السنة'!F9","v":8},{"$f":"'علوم نهاية السنة'!F9","v":7},{"$f":"'انكليزي نهاية السنة'!L9","v":6},{"$f":"'فنية نهاية السنة'!J9","v":10},{"$f":"'رياضة نهاية السنة'!L9","v":10},null,null,null,null,null,null,null,null,{"$f":"'اسماء التلاميذ'!B$2","v":0},{"$f":"'اسماء التلاميذ'!B$3","v":0},{"$f":"'اسماء التلاميذ'!B$4","v":0},{"$f":"'اسماء التلاميذ'!F$4","v":"2021 - 2022"},{"$f":"'اسماء التلاميذ'!F$2","v":"الأول"},{"$f":"'اسماء التلاميذ'!F$3","v":"أ"},{"$f":"'اسماء التلاميذ'!F$37","v":"سعد حميد خلف"},{"$f":"'اسماء التلاميذ'!D9","v":0},{"$f":"'قائمة امتحان نصف السنة'!P9","v":"ناجح"},{"$f":"'قائمة امتحان لغرض الدور الثاني '!P9","v":"ناجح"},{"$f":"'قائمة امتحان لغرض الدور الثاني '!L9","v":57},null,null,null,{"$f":"'قائمة امتحان نصف السنة'!D9","v":0},{"$f":"'قائمة امتحان نصف السنة'!E9","v":8},{"$f":"'قائمة امتحان نصف السنة'!F9","v":8},{"$f":"'قائمة امتحان نصف السنة'!G9","v":8},{"$f":"'قائمة امتحان نصف السنة'!H9","v":7},{"$f":"'قائمة امتحان نصف السنة'!I9","v":6},{"$f":"'قائمة امتحان نصف السنة'!J9","v":10},{"$f":"'قائمة امتحان نصف السنة'!K9","v":10},null,{"$f":"'قائمة نهاية السنة'!E9","v":8},{"$f":"'قائمة نهاية السنة'!F9","v":8},{"$f":"'قائمة نهاية السنة'!G9","v":8},{"$f":"'قائمة نهاية السنة'!H9","v":7},{"$f":"'قائمة نهاية السنة'!I9","v":6},{"$f":"'قائمة نهاية السنة'!J9","v":10},{"$f":"'قائمة نهاية السنة'!K9","v":10}]
[7,null,null,"ذكر",{"$f":"'اسلامية نهاية السنة'!L10","v":5},{"$f":"'عربي نهاية السنة'!AE10","v":5},{"$f":"'رياضيات نهاية السنة'!F10","v":5},{"$f":"'علوم نهاية السنة'!F10","v":5},{"$f":"'انكليزي نهاية السنة'!L10","v":5},{"$f":"'فنية نهاية السنة'!J10","v":9},{"$f":"'رياضة نهاية السنة'!L10","v":9},null,null,null,null,null,null,null,null,{"$f":"'اسماء التلاميذ'!B$2","v":0},{"$f":"'اسماء التلاميذ'!B$3","v":0},{"$f":"'اسماء التلاميذ'!B$4","v":0},{"$f":"'اسماء التلاميذ'!F$4","v":"2021 - 2022"},{"$f":"'اسماء التلاميذ'!F$2","v":"الأول"},{"$f":"'اسماء التلاميذ'!F$3","v":"أ"},{"$f":"'اسماء التلاميذ'!F$37","v":"سعد حميد خلف"},{"$f":"'اسماء التلاميذ'!D10","v":0},{"$f":"'قائمة امتحان نصف السنة'!P10","v":"ناجح"},{"$f":"'قائمة امتحان لغرض الدور الثاني '!P10","v":"ناجح"},{"$f":"'قائمة امتحان لغرض الدور الثاني '!L10","v":43},null,null,null,{"$f":"'قائمة امتحان نصف السنة'!D10","v":0},{"$f":"'قائمة امتحان نصف السنة'!E10","v":5},{"$f":"'قائمة امتحان نصف السنة'!F10","v":5},{"$f":"'قائمة امتحان نصف السنة'!G10","v":5},{"$f":"'قائمة امتحان نصف السنة'!H10","v":5},{"$f":"'قائمة امتحان نصف السنة'!I10","v":5},{"$f":"'قائمة امتحان نصف السنة'!J10","v":9},{"$f":"'قائمة امتحان نصف السنة'!K10","v":9},null,{"$f":"'قائمة نهاية السنة'!E10","v":5},{"$f":"'قائمة نهاية السنة'!F10","v":5},{"$f":"'قائمة نهاية السنة'!G10","v":5},{"$f":"'قائمة نهاية السنة'!H10","v":5},{"$f":"'قائمة نهاية السنة'!I10","v":5},{"$f":"'قائمة نهاية السنة'!J10","v":9},{"$f":"'قائمة نهاية السنة'!K10","v":9}]
[8,null,null,"ذكر",{"$f":"'اسلامية نهاية السنة'!L11","v":7},{"$f":"'عربي نهاية السنة'!AE11","v":6},{"$f":"'رياضيات نهاية السنة'!F11","v":7},{"$f":"'علوم نهاية السنة'!F11","v":6},{"$f":"'انكليزي نهاية السنة'!L11","v":7},{"$f":"'فنية نهاية السنة'!J11","v":9},{"$f":"'رياضة نهاية السنة'!L11","v":10},null,null,null,null,null,null,null,null,{"$f":"'اسماء التلاميذ'!B$2","v":0},{"$f":"'اسماء التلاميذ'!B$3","v":0},{"$f":"'اسماء التلاميذ'!B$4","v":0},{"$f":"'اسماء التلاميذ'!F$4","v":"2021 - 2022"},{"$f":"'اسماء التلاميذ'!F$2","v":"الأول"},{"$f":"'اسماء التلاميذ'!F$3","v":"أ"},{"$f":"'اسماء التلاميذ'!F$37","v":"سعد حميد خلف"},{"$f":"'اسماء التلاميذ'!D11","v":0},{"$f":"'قائمة امتحان نصف السنة'!P11","v":"ناجح"},{"$f":"'قائمة امتحان لغرض الدور الثاني '!P11","v":"ناجح"},{"$f":"'قائمة امتحان لغرض الدور الثاني '!L11","v":52},null,null,null,{"$f":"'قائمة امتحان نصف السنة'!D11","v":0},{"$f":"'قائمة امتحان نصف السنة'!E11","v":7},{"$f":"'قائمة امتحان نصف السنة'!F11","v":6},{"$f":"'قائمة امتحان نصف السنة'!G11","v":7},{"$f":"'قائمة امتحان نصف السنة'!H11","v":6},{"$f":"'قائمة امتحان نصف السنة'!I11","v":7},{"$f":"'قائمة امتحان نصف السنة'!J11","v":9},{"$f":"'قائمة امتحان نصف السنة'!K11","v":10},null,{"$f":"'قائمة نهاية السنة'!E11","v":7},{"$f":"'قائمة نهاية السنة'!F11","v":6},{"$f":"'قائمة نهاية السنة'!G11","v":7},{"$f":"'قائمة نهاية السنة'!H11","v":6},{"$f":"'قائمة نهاية السنة'!I11","v":7},{"$f":"'قائمة نهاية السنة'!J11","v":9},{"$f":"'قائمة نهاية السنة'!K11","v":10}]
[9,null,null,null,{"$f":"'اسلامية نهاية السنة'!L12","v":5},{"$f":"'عربي نهاية السنة'!AE12","v":2},{"$f":"'رياضيات نهاية السنة'!F12","v":2},{"$f":"'علوم نهاية السنة'!F12","v":2},{"$f":"'انكليزي نهاية السنة'!L12","v":5},{"$f":"'فنية نهاية السنة'!J12","v":6},{"$f":"'رياضة نهاية السنة'!L12","v":9},null,null,null,null,null,null,null,null,{"$f":"'اسماء التلاميذ'!B$2","v":0},{"$f":"'اسماء التلاميذ'!B$3","v":0},{"$f":"'اسماء التلاميذ'!B$4","v":0},{"$f":"'اسماء التلاميذ'!F$4","v":"2021 - 2022"},{"$f":"'اسماء التلاميذ'!F$2","v":"الأول"},{"$f":"'اسماء التلاميذ'!F$3","v":"أ"},{"$f":"'اسماء التلاميذ'!F$37","v":"سعد حميد خلف"},{"$f":"'اسماء التلاميذ'!D12","v":0},{"$f":"'قائمة امتحان نصف السنة'!P12","v":"راسب"},{"$f":"'قائمة امتحان لغرض الدور الثاني '!P12","v":"راسب"},{"$f":"'قائمة امتحان لغرض الدور الثاني '!L12","v":31},null,null,null,{"$f":"'قائمة امتحان نصف السنة'!D12","v":0},{"$f":"'قائمة امتحان نصف السنة'!E12","v":5},{"$f":"'قائمة امتحان نصف السنة'!F12","v":2},{"$f":"'قائمة امتحان نصف السنة'!G12","v":2},{"$f":"'قائمة امتحان نصف السنة'!H12","v":2},{"$f":"'قائمة امتحان نصف السنة'!I12","v":5},{"$f":"'قائمة امتحان نصف السنة'!J12","v":6},{"$f":"'قائمة امتحان نصف السنة'!K12","v":9},null,{"$f":"'قائمة نهاية السنة'!E12","v":5},{"$f":"'قائمة نهاية السنة'!F12","v":2},{"$f":"'قائمة نهاية السنة'!G12","v":2},{"$f":"'قائمة نهاية السنة'!H12","v":2},{"$f":"'قائمة نهاية السنة'!I12","v":5},{"$f":"'قائمة نهاية السنة'!J12","v":6},{"$f":"'قائمة نهاية السنة'!K12","v":9}]
[10,null,null,null,{"$f":"'اسلامية نهاية السنة'!L13","v":9},{"$f":"'عربي نهاية السنة'!AE13","v":7},{"$f":"'رياضيات نهاية السنة'!F13","v":7},{"$f":"'علوم نهاية السنة'!F13","v":8},{"$f":"'انكليزي نهاية السنة'!L13","v":7},{"$f":"'فنية نهاية السنة'!J13","v":10},{"$f":"'رياضة نهاية السنة'!L13","v":10},null,null,null,null,null,null,null,null,{"$f":"'اسماء التلاميذ'!B$2","v":0},{"$f":"'اسماء التلاميذ'!B$3","v":0},{"$f":"'اسماء التلاميذ'!B$4","v":0},{"$f":"'اسماء التلاميذ'!F$4","v":"2021 - 2022"},{"$f":"'اسماء التلاميذ'!F$2","v":"الأول"},{"$f":"'اسماء التلاميذ'!F$3","v":"أ"},{"$f":"'اسماء التلاميذ'!F$37","v":"سعد حميد خلف"},{"$f":"'اسماء التلاميذ'!D13","v":0},{"$f":"'قائمة امتحان نصف السنة'!P13","v":"ناجح"},{"$f":"'قائمة امتحان لغرض الدور الثاني '!P13","v":"ناجح"},{"$f":"'قائمة امتحان لغرض الدور الثاني '!L13","v":58},null,null,null,{"$f":"'قائمة امتحان نصف السنة'!D13","v":0},{"$f":"'قائمة امتحان نصف السنة'!E13","v":9},{"$f":"'قائمة امتحان نصف السنة'!F13","v":7},{"$f":"'قائمة امتحان نصف السنة'!G13","v":7},{"$f":"'قائمة امتحان نصف السنة'!H13","v":8},{"$f":"'قائمة امتحان نصف السنة'!I13","v":7},{"$f":"'قائمة امتحان نصف السنة'!J13","v":10},{"$f":"'قائمة امتحان نصف السنة'!K13","v":10},null,{"$f":"'قائمة نهاية السنة'!E13","v":9},{"$f":"'قائمة نهاية السنة'!F13","v":7},{"$f":"'قائمة نهاية السنة'!G13","v":7},{"$f":"'قائمة نهاية السنة'!H13","v":8},{"$f":"'قائمة نهاية السنة'!I13","v":7},{"$f":"'قائمة نهاية السنة'!J13","v":10},{"$f":"'قائمة نهاية السنة'!K13","v":10}]
[11,null,null,null,{"$f":"'اسلامية نهاية السنة'!L14","v":8},{"$f":"'عربي نهاية السنة'!AE14","v":6},{"$f":"'رياضيات نهاية السنة'!F14","v":7},{"$f":"'علوم نهاية السنة'!F14","v":5},{"$f":"'انكليزي نهاية السنة'!L14","v":6},{"$f":"'فنية نهاية السنة'!J14","v":8},{"$f":"'رياضة نهاية السنة'!L14","v":9},null,null,null,null,null,null,null,null,{"$f":"'اسماء التلاميذ'!B$2","v":0},{"$f":"'اسماء التلاميذ'!B$3","v":0},{"$f":"'اسماء التلاميذ'!B$4","v":0},{"$f":"'اسماء التلاميذ'!F$4","v":"2021 - 2022"},{"$f":"'اسماء التلاميذ'!F$2","v":"الأول"},{"$f":"'اسماء التلاميذ'!F$3","v":"أ"},{"$f":"'اسماء التلاميذ'!F$37","v":"سعد حميد خلف"},{"$f":"'اسماء التلاميذ'!D14","v":0},{"$f":"'قائمة امتحان نصف السنة'!P14","v":"ناجح"},{"$f":"'قائمة امتحان لغرض الدور الثاني '!P14","v":"ناجح"},{"$f":"'قائمة امتحان لغرض الدور الثاني '!L14","v":49},null,null,null,{"$f":"'قائمة امتحان نصف السنة'!D14","v":0},{"$f":"'قائمة امتحان نصف السنة'!E14","v":8},{"$f":"'قائمة امتحان نصف السنة'!F14","v":6},{"$f":"'قائمة امتحان نصف السنة'!G14","v":7},{"$f":"'قائمة امتحان نصف السنة'!H14","v":5},{"$f":"'قائمة امتحان نصف السنة'!I14","v":6},{"$f":"'قائمة امتحان نصف السنة'!J14","v":8},{"$f":"'قائمة امتحان نصف السنة'!K14","v":9},null,{"$f":"'قائمة نهاية السنة'!E14","v":8},{"$f":"'قائمة نهاية السنة'!F14","v":6},{"$f":"'قائمة نهاية السنة'!G14","v":7},{"$f":"'قائمة نهاية السنة'!H14","v":5},{"$f":"'قائمة نهاية السنة'!I14","v":6},{"$f":"'قائمة نهاية السنة'!J14","v":8},{"$f":"'قائمة نهاية السنة'!K14","v":9}]
[12,null,null,null,{"$f":"'اسلامية نهاية السنة'!L15","v":"غ"},{"$f":"'عربي نهاية السنة'!AE15","v":"غ"},{"$f":"'رياضيات نهاية السنة'!F15","v":"غ"},{"$f":"'علوم نهاية السنة'!F15","v":"غ"},{"$f":"'انكليزي نهاية السنة'!L15","v":"غ"},{"$f":"'فنية نهاية السنة'!J15","v":"غ"},{"$f":"'رياضة نهاية السنة'!L15","v":"غ"},null,null,null,null,null,null,null,null,{"$f":"'اسماء التلاميذ'!B$2","v":0},{"$f":"'اسماء التلاميذ'!B$3","v":0},{"$f":"'اسماء التلاميذ'!B$4","v":0},{"$f":"'اسماء التلاميذ'!F$4","v":"2021 - 2022"},{"$f":"'اسماء التلاميذ'!F$2","v":"الأول"},{"$f":"'اسماء التلاميذ'!F$3","v":"أ"},{"$f":"'اسماء التلاميذ'!F$37","v":"سعد حميد خلف"},{"$f":"'اسماء التلاميذ'!D15","v":0},{"$f":"'قائمة امتحان نصف السنة'!P15","v":"غائب"},{"$f":"'قائمة امتحان لغرض الدور الثاني '!P15","v":"غائب"},{"$f":"'قائمة امتحان لغرض الدور الثاني '!L15","v":0},null,null,null,{"$f":"'قائمة امتحان نصف السنة'!D15","v":0},{"$f":"'قائمة امتحان نصف السنة'!E15","v":"غ"},{"$f":"'قائمة امتحان نصف السنة'!F15","v":"غ"},{"$f":"'قائمة امتحان نصف السنة'!G15","v":"غ"},{"$f":"'قائمة امتحان نصف السنة'!H15","v":"غ"},{"$f":"'قائمة امتحان نصف السنة'!I15","v":"غ"},{"$f":"'قائمة امتحان نصف السنة'!J15","v":"غ"},{"$f":"'قائمة امتحان نصف السنة'!K15","v":"غ"},null,{"$f":"'قائمة نهاية السنة'!E15","v":"غ"},{"$f":"'قائمة نهاية السنة'!F15","v":"غ"},{"$f":"'قائمة نهاية السنة'!G15","v":"غ"},{"$f":"'قائمة نهاية السنة'!H15","v":"غ"},{"$f":"'قائمة نهاية السنة'!I15","v":"غ"},{"$f":"'قائمة نهاية السنة'!J15","v":"غ"},{"$f":"'قائمة نهاية السنة'!K15","v":"غ"}]
[13,null,null,null,{"$f":"'اسلامية نهاية السنة'!L16","v":7},{"$f":"'عربي نهاية السنة'!AE16","v":6},{"$f":"'رياضيات نهاية السنة'!F16","v":6},{"$f":"'علوم نهاية السنة'!F16","v":6},{"$f":"'انكليزي نهاية السنة'!L16","v":5},{"$f":"'فنية نهاية السنة'!J16","v":10},{"$f":"'رياضة نهاية السنة'!L16","v":9},null,null,null,null,null,null,null,null,{"$f":"'اسماء التلاميذ'!B$2","v":0},{"$f":"'اسماء التلاميذ'!B$3","v":0},{"$f":"'اسماء التلاميذ'!B$4","v":0},{"$f":"'اسماء التلاميذ'!F$4","v":"2021 - 2022"},{"$f":"'اسماء التلاميذ'!F$2","v":"الأول"},{"$f":"'اسماء التلاميذ'!F$3","v":"أ"},{"$f":"'اسماء التلاميذ'!F$37","v":"سعد حميد خلف"},{"$f":"'اسماء التلاميذ'!D16","v":0},{"$f":"'قائمة امتحان نصف السنة'!P16","v":"ناجح"},{"$f":"'قائمة امتحان لغرض الدور الثاني '!P16","v":"ناجح"},{"$f":"'قائمة امتحان لغرض الدور الثاني '!L16","v":49},null,null,null,{"$f":"'قائمة امتحان نصف السنة'!D16","v":0},{"$f":"'قائمة امتحان نصف السنة'!E16","v":7},{"$f":"'قائمة امتحان نصف السنة'!F16","v":6},{"$f":"'قائمة امتحان نصف السنة'!G16","v":6},{"$f":"'قائمة امتحان نصف السنة'!H16","v":6},{"$f":"'قائمة امتحان نصف السنة'!I16","v":5},{"$f":"'قائمة امتحان نصف السنة'!J16","v":10},{"$f":"'قائمة امتحان نصف السنة'!K16","v":9},null,{"$f":"'قائمة نهاية السنة'!E16","v":7},{"$f":"'قائمة نهاية السنة'!F16","v":6},{"$f":"'قائمة نهاية السنة'!G16","v":6},{"$f":"'قائمة نهاية السنة'!H16","v":6},{"$f":"'قائمة نهاية السنة'!I16","v":5},{"$f":"'قائمة نهاية السنة'!J16","v":10},{"$f":"'قائمة نهاية السنة'!K16","v":9}]
[14,null,null,null,{"$f":"'اسلامية نهاية السنة'!L17","v":7},{"$f":"'عربي نهاية السنة'!AE17","v":6},{"$f":"'رياضيات نهاية السنة'!F17","v":6},{"$f":"'علوم نهاية السنة'!F17","v":6},{"$f":"'انكليزي نهاية السنة'!L17","v":5},{"$f":"'فنية نهاية السنة'!J17","v":10},{"$f":"'رياضة نهاية السنة'!L17","v":9},null,null,null,null,null,null,null,null,{"$f":"'اسماء التلاميذ'!B$2","v":0},{"$f":"'اسماء التلاميذ'!B$3","v":0},{"$f":"'اسماء التلاميذ'!B$4","v":0},{"$f":"'اسماء التلاميذ'!F$4","v":"2021 - 2022"},{"$f":"'اسماء التلاميذ'!F$2","v":"الأول"},{"$f":"'اسماء التلاميذ'!F$3","v":"أ"},{"$f":"'اسماء التلاميذ'!F$37","v":"سعد حميد خلف"},{"$f":"'اسماء التلاميذ'!D17","v":0},{"$f":"'قائمة امتحان نصف السنة'!P17","v":"ناجح"},{"$f":"'قائمة امتحان لغرض الدور الثاني '!P17","v":"ناجح"},{"$f":"'قائمة امتحان لغرض الدور الثاني '!L17","v":49},null,null,null,{"$f":"'قائمة امتحان نصف السنة'!D17","v":0},{"$f":"'قائمة امتحان نصف السنة'!E17","v":7},{"$f":"'قائمة امتحان نصف السنة'!F17","v":6},{"$f":"'قائمة امتحان نصف السنة'!G17","v":6},{"$f":"'قائمة امتحان نصف السنة'!H17","v":6},{"$f":"'قائمة امتحان نصف السنة'!I17","v":5},{"$f":"'قائمة امتحان نصف السنة'!J17","v":10},{"$f":"'قائمة امتحان نصف السنة'!K17","v":9},null,{"$f":"'قائمة نهاية السنة'!E17","v":7},{"$f":"'قائمة نهاية السنة'!F17","v":6},{"$f":"'قائمة نهاية السنة'!G17","v":6},{"$f":"'قائمة نهاية السنة'!H17","v":6},{"$f":"'قائمة نهاية السنة'!I17","v":5},{"$f":"'قائمة نهاية السنة'!J17","v":10},{"$f":"'قائمة نهاية السنة'!K17","v":9}]
[15,null,null,null,{"$f":"'اسلامية نهاية السنة'!L18","v":"غ"},{"$f":"'عربي نهاية السنة'!AE18","v":"غ"},{"$f":"'رياضيات نهاية السنة'!F18","v":"غ"},{"$f":"'علوم نهاية السنة'!F18","v":"غ"},{"$f":"'انكليزي نهاية السنة'!L18","v":"غ"},{"$f":"'فنية نهاية السنة'!J18","v":"غ"},{"$f":"'رياضة نهاية السنة'!L18","v":"غ"},null,null,null,null,null,null,null,null,{"$f":"'اسماء التلاميذ'!B$2","v":0},{"$f":"'اسماء التلاميذ'!B$3","v":0},{"$f":"'اسماء التلاميذ'!B$4","v":0},{"$f":"'اسماء التلاميذ'!F$4","v":"2021 - 2022"},{"$f":"'اسماء التلاميذ'!F$2","v":"الأول"},{"$f":"'اسماء التلاميذ'!F$3","v":"أ"},{"$f":"'اسماء التلاميذ'!F$37","v":"سعد حميد خلف"},{"$f":"'اسماء التلاميذ'!D18","v":0},{"$f":"'قائمة امتحان نصف السنة'!P18","v":"غائب"},{"$f":"'قائمة امتحان لغرض الدور الثاني '!P18","v":"غائب"},{"$f":"'قائمة امتحان لغرض الدور الثاني '!L18","v":0},null,null,null,{"$f":"'قائمة امتحان نصف السنة'!D18","v":0},{"$f":"'قائمة امتحان نصف السنة'!E18","v":"غ"},{"$f":"'قائمة امتحان نصف السنة'!F18","v":"غ"},{"$f":"'قائمة امتحان نصف السنة'!G18","v":"غ"},{"$f":"'قائمة امتحان نصف السنة'!H18","v":"غ"},{"$f":"'قائمة امتحان نصف السنة'!I18","v":"غ"},{"$f":"'قائمة امتحان نصف السنة'!J18","v":"غ"},{"$f":"'قائمة امتحان نصف السنة'!K18","v":"غ"},null,{"$f":"'قائمة نهاية السنة'!E18","v":"غ"},{"$f":"'قائمة نهاية السنة'!F18","v":"غ"},{"$f":"'قائمة نهاية السنة'!G18","v":"غ"},{"$f":"'قائمة نهاية السنة'!H18","v":"غ"},{"$f":"'قائمة نهاية السنة'!I18","v":"غ"},{"$f":"'قائمة نهاية السنة'!J18","v":"غ"},{"$f":"'قائمة نهاية السنة'!K18","v":"غ"}]
[16,null,null,null,{"$f":"'اسلامية نهاية السنة'!L19","v":"غ"},{"$f":"'عربي نهاية السنة'!AE19","v":"غ"},{"$f":"'رياضيات نهاية السنة'!F19","v":"غ"},{"$f":"'علوم نهاية السنة'!F19","v":"غ"},{"$f":"'انكليزي نهاية السنة'!L19","v":"غ"},{"$f":"'فنية نهاية السنة'!J19","v":"غ"},{"$f":"'رياضة نهاية السنة'!L19","v":"غ"},null,null,null,null,null,null,null,null,{"$f":"'اسماء التلاميذ'!B$2","v":0},{"$f":"'اسماء التلاميذ'!B$3","v":0},{"$f":"'اسماء التلاميذ'!B$4","v":0},{"$f":"'اسماء التلاميذ'!F$4","v":"2021 - 2022"},{"$f":"'اسماء التلاميذ'!F$2","v":"الأول"},{"$f":"'اسماء التلاميذ'!F$3","v":"أ"},{"$f":"'اسماء التلاميذ'!F$37","v":"سعد حميد خلف"},{"$f":"'اسماء التلاميذ'!D19","v":0},{"$f":"'قائمة امتحان نصف السنة'!P19","v":"غائب"},{"$f":"'قائمة امتحان لغرض الدور الثاني '!P19","v":"غائب"},{"$f":"'قائمة امتحان لغرض الدور الثاني '!L19","v":0},null,null,null,{"$f":"'قائمة امتحان نصف السنة'!D19","v":0},{"$f":"'قائمة امتحان نصف السنة'!E19","v":"غ"},{"$f":"'قائمة امتحان نصف السنة'!F19","v":"غ"},{"$f":"'قائمة امتحان نصف السنة'!G19","v":"غ"},{"$f":"'قائمة امتحان نصف السنة'!H19","v":"غ"},{"$f":"'قائمة امتحان نصف السنة'!I19","v":"غ"},{"$f":"'قائمة امتحان نصف السنة'!J19","v":"غ"},{"$f":"'قائمة امتحان نصف السنة'!K19","v":"غ"},null,{"$f":"'قائمة نهاية السنة'!E19","v":"غ"},{"$f":"'قائمة نهاية السنة'!F19","v":"غ"},{"$f":"'قائمة نهاية السنة'!G19","v":"غ"},{"$f":"'قائمة نهاية السنة'!H19","v":"غ"},{"$f":"'قائمة نهاية السنة'!I19","v":"غ"},{"$f":"'قائمة نهاية السنة'!J19","v":"غ"},{"$f":"'قائمة نهاية السنة'!K19","v":"غ"}]
[17,null,null,null,{"$f":"'اسلامية نهاية السنة'!L20","v":5},{"$f":"'عربي نهاية السنة'!AE20","v":2},{"$f":"'رياضيات نهاية السنة'!F20","v":5},{"$f":"'علوم نهاية السنة'!F20","v":5},{"$f":"'انكليزي نهاية السنة'!L20","v":6},{"$f":"'فنية نهاية السنة'!J20","v":9},{"$f":"'رياضة نهاية السنة'!L20","v":9},null,null,null,null,null,null,null,null,{"$f":"'اسماء التلاميذ'!B$2","v":0},{"$f":"'اسماء التلاميذ'!B$3","v":0},{"$f":"'اسماء التلاميذ'!B$4","v":0},{"$f":"'اسماء التلاميذ'!F$4","v":"2021 - 2022"},{"$f":"'اسماء التلاميذ'!F$2","v":"الأول"},{"$f":"'اسماء التلاميذ'!F$3","v":"أ"},{"$f":"'اسماء التلاميذ'!F$37","v":"سعد حميد خلف"},{"$f":"'اسماء التلاميذ'!D20","v":0},{"$f":"'قائمة امتحان نصف السنة'!P20","v":"مكمل بدرس"},{"$f":"'قائمة امتحان لغرض الدور الثاني '!P20","v":"مكمل بدرس"},{"$f":"'قائمة امتحان لغرض الدور الثاني '!L20","v":41},null,null,null,{"$f":"'قائمة امتحان نصف السنة'!D20","v":0},{"$f":"'قائمة امتحان نصف السنة'!E20","v":5},{"$f":"'قائمة امتحان نصف السنة'!F20","v":2},{"$f":"'قائمة امتحان نصف السنة'!G20","v":5},{"$f":"'قائمة امتحان نصف السنة'!H20","v":5},{"$f":"'قائمة امتحان نصف السنة'!I20","v":6},{"$f":"'قائمة امتحان نصف السنة'!J20","v":9},{"$f":"'قائمة امتحان نصف السنة'!K20","v":9},null,{"$f":"'قائمة نهاية السنة'!E20","v":5},{"$f":"'قائمة نهاية السنة'!F20","v":2},{"$f":"'قائمة نهاية السنة'!G20","v":5},{"$f":"'قائمة نهاية السنة'!H20","v":5},{"$f":"'قائمة نهاية السنة'!I20","v":6},{"$f":"'قائمة نهاية السنة'!J20","v":9},{"$f":"'قائمة نهاية السنة'!K20","v":9}]
[18,null,null,null,{"$f":"'اسلامية نهاية السنة'!L21","v":10},{"$f":"'عربي نهاية السنة'!AE21","v":9},{"$f":"'رياضيات نهاية السنة'!F21","v":10},{"$f":"'علوم نهاية السنة'!F21","v":10},{"$f":"'انكليزي نهاية السنة'!L21","v":9},{"$f":"'فنية نهاية السنة'!J21","v":10},{"$f":"'رياضة نهاية السنة'!L21","v":10},null,null,null,null,null,null,null,null,{"$f":"'اسماء التلاميذ'!B$2","v":0},{"$f":"'اسماء التلاميذ'!B$3","v":0},{"$f":"'اسماء التلاميذ'!B$4","v":0},{"$f":"'اسماء التلاميذ'!F$4","v":"2021 - 2022"},{"$f":"'اسماء التلاميذ'!F$2","v":"الأول"},{"$f":"'اسماء التلاميذ'!F$3","v":"أ"},{"$f":"'اسماء التلاميذ'!F$37","v":"سعد حميد خلف"},{"$f":"'اسماء التلاميذ'!D21","v":0},{"$f":"'قائمة امتحان نصف السنة'!P21","v":"ناجح"},{"$f":"'قائمة امتحان لغرض الدور الثاني '!P21","v":"ناجح"},{"$f":"'قائمة امتحان لغرض الدور الثاني '!L21","v":68},null,null,null,{"$f":"'قائمة امتحان نصف السنة'!D21","v":0},{"$f":"'قائمة امتحان نصف السنة'!E21","v":10},{"$f":"'قائمة امتحان نصف السنة'!F21","v":9},{"$f":"'قائمة امتحان نصف السنة'!G21","v":10},{"$f":"'قائمة امتحان نصف السنة'!H21","v":10},{"$f":"'قائمة امتحان نصف السنة'!I21","v":9},{"$f":"'قائمة امتحان نصف السنة'!J21","v":10},{"$f":"'قائمة امتحان نصف السنة'!K21","v":10},null,{"$f":"'قائمة نهاية السنة'!E21","v":10},{"$f":"'قائمة نهاية السنة'!F21","v":9},{"$f":"'قائمة نهاية السنة'!G21","v":10},{"$f":"'قائمة نهاية السنة'!H21","v":10},{"$f":"'قائمة نهاية السنة'!I21","v":9},{"$f":"'قائمة نهاية السنة'!J21","v":10},{"$f":"'قائمة نهاية السنة'!K21","v":10}]
[19,null,null,null,{"$f":"'اسلامية نهاية السنة'!L22","v":7},{"$f":"'عربي نهاية السنة'!AE22","v":6},{"$f":"'رياضيات نهاية السنة'!F22","v":6},{"$f":"'علوم نهاية السنة'!F22","v":7},{"$f":"'انكليزي نهاية السنة'!L22","v":6},{"$f":"'فنية نهاية السنة'!J22","v":10},{"$f":"'رياضة نهاية السنة'!L22","v":10},null,null,null,null,null,null,null,null,{"$f":"'اسماء التلاميذ'!B$2","v":0},{"$f":"'اسماء التلاميذ'!B$3","v":0},{"$f":"'اسماء التلاميذ'!B$4","v":0},{"$f":"'اسماء التلاميذ'!F$4","v":"2021 - 2022"},{"$f":"'اسماء التلاميذ'!F$2","v":"الأول"},{"$f":"'اسماء التلاميذ'!F$3","v":"أ"},{"$f":"'اسماء التلاميذ'!F$37","v":"سعد حميد خلف"},{"$f":"'اسماء التلاميذ'!D22","v":0},{"$f":"'قائمة امتحان نصف السنة'!P22","v":"ناجح"},{"$f":"'قائمة امتحان لغرض الدور الثاني '!P22","v":"ناجح"},{"$f":"'قائمة امتحان لغرض الدور الثاني '!L22","v":52},null,null,null,{"$f":"'قائمة امتحان نصف السنة'!D22","v":0},{"$f":"'قائمة امتحان نصف السنة'!E22","v":7},{"$f":"'قائمة امتحان نصف السنة'!F22","v":6},{"$f":"'قائمة امتحان نصف السنة'!G22","v":6},{"$f":"'قائمة امتحان نصف السنة'!H22","v":7},{"$f":"'قائمة امتحان نصف السنة'!I22","v":6},{"$f":"'قائمة امتحان نصف السنة'!J22","v":10},{"$f":"'قائمة امتحان نصف السنة'!K22","v":10},null,{"$f":"'قائمة نهاية السنة'!E22","v":7},{"$f":"'قائمة نهاية السنة'!F22","v":6},{"$f":"'قائمة نهاية السنة'!G22","v":6},{"$f":"'قائمة نهاية السنة'!H22","v":7},{"$f":"'قائمة نهاية السنة'!I22","v":6},{"$f":"'قائمة نهاية السنة'!J22","v":10},{"$f":"'قائمة نهاية السنة'!K22","v":10}]
[20,null,null,null,{"$f":"'اسلامية نهاية السنة'!L23","v":"غ"},{"$f":"'عربي نهاية السنة'!AE23","v":"غ"},{"$f":"'رياضيات نهاية السنة'!F23","v":"غ"},{"$f":"'علوم نهاية السنة'!F23","v":"غ"},{"$f":"'انكليزي نهاية السنة'!L23","v":"غ"},{"$f":"'فنية نهاية السنة'!J23","v":"غ"},{"$f":"'رياضة نهاية السنة'!L23","v":"غ"},null,null,null,null,null,null,null,null,{"$f":"'اسماء التلاميذ'!B$2","v":0},{"$f":"'اسماء التلاميذ'!B$3","v":0},{"$f":"'اسماء التلاميذ'!B$4","v":0},{"$f":"'اسماء التلاميذ'!F$4","v":"2021 - 2022"},{"$f":"'اسماء التلاميذ'!F$2","v":"الأول"},{"$f":"'اسماء التلاميذ'!F$3","v":"أ"},{"$f":"'اسماء التلاميذ'!F$37","v":"سعد حميد خلف"},{"$f":"'اسماء التلاميذ'!D23","v":0},{"$f":"'قائمة امتحان نصف السنة'!P23","v":"غائب"},{"$f":"'قائمة امتحان لغرض الدور الثاني '!P23","v":"غائب"},{"$f":"'قائمة امتحان لغرض الدور الثاني '!L23","v":0},null,null,null,{"$f":"'قائمة امتحان نصف السنة'!D23","v":0},{"$f":"'قائمة امتحان نصف السنة'!E23","v":"غ"},{"$f":"'قائمة امتحان نصف السنة'!F23","v":"غ"},{"$f":"'قائمة امتحان نصف السنة'!G23","v":"غ"},{"$f":"'قائمة امتحان نصف السنة'!H23","v":"غ"},{"$f":"'قائمة امتحان نصف السنة'!I23","v":"غ"},{"$f":"'قائمة امتحان نصف السنة'!J23","v":"غ"},{"$f":"'قائمة امتحان نصف السنة'!K23","v":"غ"},null,{"$f":"'قائمة نهاية السنة'!E23","v":"غ"},{"$f":"'قائمة نهاية السنة'!F23","v":"غ"},{"$f":"'قائمة نهاية السنة'!G23","v":"غ"},{"$f":"'قائمة نهاية السنة'!H23","v":"غ"},{"$f":"'قائمة نهاية السنة'!I23","v":"غ"},{"$f":"'قائمة نهاية السنة'!J23","v":"غ"},{"$f":"'قائمة نهاية السنة'!K23","v":"غ"}]
[21,null,null,null,{"$f":"'اسلامية نهاية السنة'!L24","v":"غ"},{"$f":"'عربي نهاية السنة'!AE24","v":"غ"},{"$f":"'رياضيات نهاية السنة'!F24","v":"غ"},{"$f":"'علوم نهاية السنة'!F24","v":"غ"},{"$f":"'انكليزي نهاية السنة'!L24","v":"غ"},{"$f":"'فنية نهاية السنة'!J24","v":"غ"},{"$f":"'رياضة نهاية السنة'!L24","v":"غ"},null,null,null,null,null,null,null,null,{"$f":"'اسماء التلاميذ'!B$2","v":0},{"$f":"'اسماء التلاميذ'!B$3","v":0},{"$f":"'اسماء التلاميذ'!B$4","v":0},{"$f":"'اسماء التلاميذ'!F$4","v":"2021 - 2022"},{"$f":"'اسماء التلاميذ'!F$2","v":"الأول"},{"$f":"'اسماء التلاميذ'!F$3","v":"أ"},{"$f":"'اسماء التلاميذ'!F$37","v":"سعد حميد خلف"},{"$f":"'اسماء التلاميذ'!D24","v":0},{"$f":"'قائمة امتحان نصف السنة'!P24","v":"غائب"},{"$f":"'قائمة امتحان لغرض الدور الثاني '!P24","v":"غائب"},{"$f":"'قائمة امتحان لغرض الدور الثاني '!L24","v":0},null,null,null,{"$f":"'قائمة امتحان نصف السنة'!D24","v":0},{"$f":"'قائمة امتحان نصف السنة'!E24","v":"غ"},{"$f":"'قائمة امتحان نصف السنة'!F24","v":"غ"},{"$f":"'قائمة امتحان نصف السنة'!G24","v":"غ"},{"$f":"'قائمة امتحان نصف السنة'!H24","v":"غ"},{"$f":"'قائمة امتحان نصف السنة'!I24","v":"غ"},{"$f":"'قائمة امتحان نصف السنة'!J24","v":"غ"},{"$f":"'قائمة امتحان نصف السنة'!K24","v":"غ"},null,{"$f":"'قائمة نهاية السنة'!E24","v":"غ"},{"$f":"'قائمة نهاية السنة'!F24","v":"غ"},{"$f":"'قائمة نهاية السنة'!G24","v":"غ"},{"$f":"'قائمة نهاية السنة'!H24","v":"غ"},{"$f":"'قائمة نهاية السنة'!I24","v":"غ"},{"$f":"'قائمة نهاية السنة'!J24","v":"غ"},{"$f":"'قائمة نهاية السنة'!K24","v":"غ"}]
[22,null,null,null,{"$f":"'اسلامية نهاية السنة'!L25","v":7},{"$f":"'عربي نهاية السنة'!AE25","v":7},{"$f":"'رياضيات نهاية السنة'!F25","v":7},{"$f":"'علوم نهاية السنة'!F25","v":6},{"$f":"'انكليزي نهاية السنة'!L25","v":5},{"$f":"'فنية نهاية السنة'!J25","v":10},{"$f":"'رياضة نهاية السنة'!L25","v":10},null,null,null,null,null,null,null,null,{"$f":"'اسماء التلاميذ'!B$2","v":0},{"$f":"'اسماء التلاميذ'!B$3","v":0},{"$f":"'اسماء التلاميذ'!B$4","v":0},{"$f":"'اسماء التلاميذ'!F$4","v":"2021 - 2022"},{"$f":"'اسماء التلاميذ'!F$2","v":"الأول"},{"$f":"'اسماء التلاميذ'!F$3","v":"أ"},{"$f":"'اسماء التلاميذ'!F$37","v":"سعد حميد خلف"},{"$f":"'اسماء التلاميذ'!D25","v":0},{"$f":"'قائمة امتحان نصف السنة'!P25","v":"ناجح"},{"$f":"'قائمة امتحان لغرض الدور الثاني '!P25","v":"ناجح"},{"$f":"'قائمة امتحان لغرض الدور الثاني '!L25","v":52},null,null,null,{"$f":"'قائمة امتحان نصف السنة'!D25","v":0},{"$f":"'قائمة امتحان نصف السنة'!E25","v":7},{"$f":"'قائمة امتحان نصف السنة'!F25","v":7},{"$f":"'قائمة امتحان نصف السنة'!G25","v":7},{"$f":"'قائمة امتحان نصف السنة'!H25","v":6},{"$f":"'قائمة امتحان نصف السنة'!I25","v":5},{"$f":"'قائمة امتحان نصف السنة'!J25","v":10},{"$f":"'قائمة امتحان نصف السنة'!K25","v":10},null,{"$f":"'قائمة نهاية السنة'!E25","v":7},{"$f":"'قائمة نهاية السنة'!F25","v":7},{"$f":"'قائمة نهاية السنة'!G25","v":7},{"$f":"'قائمة نهاية السنة'!H25","v":6},{"$f":"'قائمة نهاية السنة'!I25","v":5},{"$f":"'قائمة نهاية السنة'!J25","v":10},{"$f":"'قائمة نهاية السنة'!K25","v":10}]
[23,null,null,null,{"$f":"'اسلامية نهاية السنة'!L26","v":"غ"},{"$f":"'عربي نهاية السنة'!AE26","v":"غ"},{"$f":"'رياضيات نهاية السنة'!F26","v":"غ"},{"$f":"'علوم نهاية السنة'!F26","v":"غ"},{"$f":"'انكليزي نهاية السنة'!L26","v":"غ"},{"$f":"'فنية نهاية السنة'!J26","v":"غ"},{"$f":"'رياضة نهاية السنة'!L26","v":"غ"},null,null,null,null,null,null,null,null,{"$f":"'اسماء التلاميذ'!B$2","v":0},{"$f":"'اسماء التلاميذ'!B$3","v":0},{"$f":"'اسماء التلاميذ'!B$4","v":0},{"$f":"'اسماء التلاميذ'!F$4","v":"2021 - 2022"},{"$f":"'اسماء التلاميذ'!F$2","v":"الأول"},{"$f":"'اسماء التلاميذ'!F$3","v":"أ"},{"$f":"'اسماء التلاميذ'!F$37","v":"سعد حميد خلف"},{"$f":"'اسماء التلاميذ'!D26","v":0},{"$f":"'قائمة امتحان نصف السنة'!P26","v":"غائب"},{"$f":"'قائمة امتحان لغرض الدور الثاني '!P26","v":"غائب"},{"$f":"'قائمة امتحان لغرض الدور الثاني '!L26","v":0},null,null,null,{"$f":"'قائمة امتحان نصف السنة'!D26","v":0},{"$f":"'قائمة امتحان نصف السنة'!E26","v":"غ"},{"$f":"'قائمة امتحان نصف السنة'!F26","v":"غ"},{"$f":"'قائمة امتحان نصف السنة'!G26","v":"غ"},{"$f":"'قائمة امتحان نصف السنة'!H26","v":"غ"},{"$f":"'قائمة امتحان نصف السنة'!I26","v":"غ"},{"$f":"'قائمة امتحان نصف السنة'!J26","v":"غ"},{"$f":"'قائمة امتحان نصف السنة'!K26","v":"غ"},null,{"$f":"'قائمة نهاية السنة'!E26","v":"غ"},{"$f":"'قائمة نهاية السنة'!F26","v":"غ"},{"$f":"'قائمة نهاية السنة'!G26","v":"غ"},{"$f":"'قائمة نهاية السنة'!H26","v":"غ"},{"$f":"'قائمة نهاية السنة'!I26","v":"غ"},{"$f":"'قائمة نهاية السنة'!J26","v":"غ"},{"$f":"'قائمة نهاية السنة'!K26","v":"غ"}]
[24,null,null,null,{"$f":"'اسلامية نهاية السنة'!L27","v":7},{"$f":"'عربي نهاية السنة'!AE27","v":7},{"$f":"'رياضيات نهاية السنة'!F27","v":3},{"$f":"'علوم نهاية السنة'!F27","v":7},{"$f":"'انكليزي نهاية السنة'!L27","v":6},{"$f":"'فنية نهاية السنة'!J27","v":10},{"$f":"'رياضة نهاية السنة'!L27","v":10},null,null,null,null,null,null,null,null,{"$f":"'اسماء التلاميذ'!B$2","v":0},{"$f":"'اسماء التلاميذ'!B$3","v":0},{"$f":"'اسماء التلاميذ'!B$4","v":0},{"$f":"'اسماء التلاميذ'!F$4","v":"2021 - 2022"},{"$f":"'اسماء التلاميذ'!F$2","v":"الأول"},{"$f":"'اسماء التلاميذ'!F$3","v":"أ"},{"$f":"'اسماء التلاميذ'!F$37","v":"سعد حميد خلف"},{"$f":"'اسماء التلاميذ'!D27","v":0},{"$f":"'قائمة امتحان نصف السنة'!P27","v":"مكمل بدرس"},{"$f":"'قائمة امتحان لغرض الدور الثاني '!P27","v":"مكمل بدرس"},{"$f":"'قائمة امتحان لغرض الدور الثاني '!L27","v":50},null,null,null,{"$f":"'قائمة امتحان نصف السنة'!D27","v":0},{"$f":"'قائمة امتحان نصف السنة'!E27","v":7},{"$f":"'قائمة امتحان نصف السنة'!F27","v":7},{"$f":"'قائمة امتحان نصف السنة'!G27","v":3},{"$f":"'قائمة امتحان نصف السنة'!H27","v":7},{"$f":"'قائمة امتحان نصف السنة'!I27","v":6},{"$f":"'قائمة امتحان نصف السنة'!J27","v":10},{"$f":"'قائمة امتحان نصف السنة'!K27","v":10},null,{"$f":"'قائمة نهاية السنة'!E27","v":7},{"$f":"'قائمة نهاية السنة'!F27","v":7},{"$f":"'قائمة نهاية السنة'!G27","v":3},{"$f":"'قائمة نهاية السنة'!H27","v":7},{"$f":"'قائمة نهاية السنة'!I27","v":6},{"$f":"'قائمة نهاية السنة'!J27","v":10},{"$f":"'قائمة نهاية السنة'!K27","v":10}]
[25,null,null,null,{"$f":"'اسلامية نهاية السنة'!L28","v":10},{"$f":"'عربي نهاية السنة'!AE28","v":10},{"$f":"'رياضيات نهاية السنة'!F28","v":10},{"$f":"'علوم نهاية السنة'!F28","v":10},{"$f":"'انكليزي نهاية السنة'!L28","v":10},{"$f":"'فنية نهاية السنة'!J28","v":10},{"$f":"'رياضة نهاية السنة'!L28","v":10},null,null,null,null,null,null,null,null,{"$f":"'اسماء التلاميذ'!B$2","v":0},{"$f":"'اسماء التلاميذ'!B$3","v":0},{"$f":"'اسماء التلاميذ'!B$4","v":0},{"$f":"'اسماء التلاميذ'!F$4","v":"2021 - 2022"},{"$f":"'اسماء التلاميذ'!F$2","v":"الأول"},{"$f":"'اسماء التلاميذ'!F$3","v":"أ"},{"$f":"'اسماء التلاميذ'!F$37","v":"سعد حميد خلف"},{"$f":"'اسماء التلاميذ'!D28","v":0},{"$f":"'قائمة امتحان نصف السنة'!P28","v":"ناجح"},{"$f":"'قائمة امتحان لغرض الدور الثاني '!P28","v":"ناجح"},{"$f":"'قائمة امتحان لغرض الدور الثاني '!L28","v":70},null,null,null,{"$f":"'قائمة امتحان نصف السنة'!D28","v":0},{"$f":"'قائمة امتحان نصف السنة'!E28","v":10},{"$f":"'قائمة امتحان نصف السنة'!F28","v":10},{"$f":"'قائمة امتحان نصف السنة'!G28","v":10},{"$f":"'قائمة امتحان نصف السنة'!H28","v":10},{"$f":"'قائمة امتحان نصف السنة'!I28","v":10},{"$f":"'قائمة امتحان نصف السنة'!J28","v":10},{"$f":"'قائمة امتحان نصف السنة'!K28","v":10},null,{"$f":"'قائمة نهاية السنة'!E28","v":10},{"$f":"'قائمة نهاية السنة'!F28","v":10},{"$f":"'قائمة نهاية السنة'!G28","v":10},{"$f":"'قائمة نهاية السنة'!H28","v":10},{"$f":"'قائمة نهاية السنة'!I28","v":10},{"$f":"'قائمة نهاية السنة'!J28","v":10},{"$f":"'قائمة نهاية السنة'!K28","v":10}]
[26,null,null,null,{"$f":"'اسلامية نهاية السنة'!L29","v":0},{"$f":"'عربي نهاية السنة'!AE29","v":0},{"$f":"'رياضيات نهاية السنة'!F29","v":0},{"$f":"'علوم نهاية السنة'!F29","v":0},{"$f":"'انكليزي نهاية السنة'!L29","v":0},{"$f":"'فنية نهاية السنة'!J29","v":0},{"$f":"'رياضة نهاية السنة'!L29","v":0},null,null,null,null,null,null,null,null,{"$f":"'اسماء التلاميذ'!B$2","v":0},{"$f":"'اسماء التلاميذ'!B$3","v":0},{"$f":"'اسماء التلاميذ'!B$4","v":0},{"$f":"'اسماء التلاميذ'!F$4","v":"2021 - 2022"},{"$f":"'اسماء التلاميذ'!F$2","v":"الأول"},{"$f":"'اسماء التلاميذ'!F$3","v":"أ"},{"$f":"'اسماء التلاميذ'!F$37","v":"سعد حميد خلف"},{"$f":"'اسماء التلاميذ'!D29","v":0},{"$f":"'قائمة امتحان نصف السنة'!P29","v":""},{"$f":"'قائمة امتحان لغرض الدور الثاني '!P29","v":""},{"$f":"'قائمة امتحان لغرض الدور الثاني '!L29","v":0},null,null,null,{"$f":"'قائمة امتحان نصف السنة'!D29","v":0},{"$f":"'قائمة امتحان نصف السنة'!E29","v":0},{"$f":"'قائمة امتحان نصف السنة'!F29","v":0},{"$f":"'قائمة امتحان نصف السنة'!G29","v":0},{"$f":"'قائمة امتحان نصف السنة'!H29","v":0},{"$f":"'قائمة امتحان نصف السنة'!I29","v":0},{"$f":"'قائمة امتحان نصف السنة'!J29","v":0},{"$f":"'قائمة امتحان نصف السنة'!K29","v":0},null,{"$f":"'قائمة نهاية السنة'!E29","v":0},{"$f":"'قائمة نهاية السنة'!F29","v":0},{"$f":"'قائمة نهاية السنة'!G29","v":0},{"$f":"'قائمة نهاية السنة'!H29","v":0},{"$f":"'قائمة نهاية السنة'!I29","v":0},{"$f":"'قائمة نهاية السنة'!J29","v":0},{"$f":"'قائمة نهاية السنة'!K29","v":0}]
[27,null,null,null,{"$f":"'اسلامية نهاية السنة'!L30","v":0},{"$f":"'عربي نهاية السنة'!AE30","v":0},{"$f":"'رياضيات نهاية السنة'!F30","v":0},{"$f":"'علوم نهاية السنة'!F30","v":0},{"$f":"'انكليزي نهاية السنة'!L30","v":0},{"$f":"'فنية نهاية السنة'!J30","v":0},{"$f":"'رياضة نهاية السنة'!L30","v":0},null,null,null,null,null,null,null,null,{"$f":"'اسماء التلاميذ'!B$2","v":0},{"$f":"'اسماء التلاميذ'!B$3","v":0},{"$f":"'اسماء التلاميذ'!B$4","v":0},{"$f":"'اسماء التلاميذ'!F$4","v":"2021 - 2022"},{"$f":"'اسماء التلاميذ'!F$2","v":"الأول"},{"$f":"'اسماء التلاميذ'!F$3","v":"أ"},{"$f":"'اسماء التلاميذ'!F$37","v":"سعد حميد خلف"},{"$f":"'اسماء التلاميذ'!D30","v":0},{"$f":"'قائمة امتحان نصف السنة'!P30","v":""},{"$f":"'قائمة امتحان لغرض الدور الثاني '!P30","v":""},{"$f":"'قائمة امتحان لغرض الدور الثاني '!L30","v":0},null,null,null,{"$f":"'قائمة امتحان نصف السنة'!D30","v":0},{"$f":"'قائمة امتحان نصف السنة'!E30","v":0},{"$f":"'قائمة امتحان نصف السنة'!F30","v":0},{"$f":"'قائمة امتحان نصف السنة'!G30","v":0},{"$f":"'قائمة امتحان نصف السنة'!H30","v":0},{"$f":"'قائمة امتحان نصف السنة'!I30","v":0},{"$f":"'قائمة امتحان نصف السنة'!J30","v":0},{"$f":"'قائمة امتحان نصف السنة'!K30","v":0},null,{"$f":"'قائمة نهاية السنة'!E30","v":0},{"$f":"'قائمة نهاية السنة'!F30","v":0},{"$f":"'قائمة نهاية السنة'!G30","v":0},{"$f":"'قائمة نهاية السنة'!H30","v":0},{"$f":"'قائمة نهاية السنة'!I30","v":0},{"$f":"'قائمة نهاية السنة'!J30","v":0},{"$f":"'قائمة نهاية السنة'!K30","v":0}]
[28,null,null,null,{"$f":"'اسلامية نهاية السنة'!L31","v":0},{"$f":"'عربي نهاية السنة'!AE31","v":0},{"$f":"'رياضيات نهاية السنة'!F31","v":0},{"$f":"'علوم نهاية السنة'!F31","v":0},{"$f":"'انكليزي نهاية السنة'!L31","v":0},{"$f":"'فنية نهاية السنة'!J31","v":0},{"$f":"'رياضة نهاية السنة'!L31","v":0},null,null,null,null,null,null,null,null,{"$f":"'اسماء التلاميذ'!B$2","v":0},{"$f":"'اسماء التلاميذ'!B$3","v":0},{"$f":"'اسماء التلاميذ'!B$4","v":0},{"$f":"'اسماء التلاميذ'!F$4","v":"2021 - 2022"},{"$f":"'اسماء التلاميذ'!F$2","v":"الأول"},{"$f":"'اسماء التلاميذ'!F$3","v":"أ"},{"$f":"'اسماء التلاميذ'!F$37","v":"سعد حميد خلف"},{"$f":"'اسماء التلاميذ'!D31","v":0},{"$f":"'قائمة امتحان نصف السنة'!P31","v":""},{"$f":"'قائمة امتحان لغرض الدور الثاني '!P31","v":""},{"$f":"'قائمة امتحان لغرض الدور الثاني '!L31","v":0},null,null,null,{"$f":"'قائمة امتحان نصف السنة'!D31","v":0},{"$f":"'قائمة امتحان نصف السنة'!E31","v":0},{"$f":"'قائمة امتحان نصف السنة'!F31","v":0},{"$f":"'قائمة امتحان نصف السنة'!G31","v":0},{"$f":"'قائمة امتحان نصف السنة'!H31","v":0},{"$f":"'قائمة امتحان نصف السنة'!I31","v":0},{"$f":"'قائمة امتحان نصف السنة'!J31","v":0},{"$f":"'قائمة امتحان نصف السنة'!K31","v":0},null,{"$f":"'قائمة نهاية السنة'!E31","v":0},{"$f":"'قائمة نهاية السنة'!F31","v":0},{"$f":"'قائمة نهاية السنة'!G31","v":0},{"$f":"'قائمة نهاية السنة'!H31","v":0},{"$f":"'قائمة نهاية السنة'!I31","v":0},{"$f":"'قائمة نهاية السنة'!J31","v":0},{"$f":"'قائمة نهاية السنة'!K31","v":0}]
[29,null,null,null,{"$f":"'اسلامية نهاية السنة'!L32","v":0},{"$f":"'عربي نهاية السنة'!AE32","v":0},{"$f":"'رياضيات نهاية السنة'!F32","v":0},{"$f":"'علوم نهاية السنة'!F32","v":0},{"$f":"'انكليزي نهاية السنة'!L32","v":0},{"$f":"'فنية نهاية السنة'!J32","v":0},{"$f":"'رياضة نهاية السنة'!L32","v":0},null,null,null,null,null,null,null,null,{"$f":"'اسماء التلاميذ'!B$2","v":0},{"$f":"'اسماء التلاميذ'!B$3","v":0},{"$f":"'اسماء التلاميذ'!B$4","v":0},{"$f":"'اسماء التلاميذ'!F$4","v":"2021 - 2022"},{"$f":"'اسماء التلاميذ'!F$2","v":"الأول"},{"$f":"'اسماء التلاميذ'!F$3","v":"أ"},{"$f":"'اسماء التلاميذ'!F$37","v":"سعد حميد خلف"},{"$f":"'اسماء التلاميذ'!D32","v":0},{"$f":"'قائمة امتحان نصف السنة'!P32","v":""},{"$f":"'قائمة امتحان لغرض الدور الثاني '!P32","v":""},{"$f":"'قائمة امتحان لغرض الدور الثاني '!L32","v":0},null,null,null,{"$f":"'قائمة امتحان نصف السنة'!D32","v":0},{"$f":"'قائمة امتحان نصف السنة'!E32","v":0},{"$f":"'قائمة امتحان نصف السنة'!F32","v":0},{"$f":"'قائمة امتحان نصف السنة'!G32","v":0},{"$f":"'قائمة امتحان نصف السنة'!H32","v":0},{"$f":"'قائمة امتحان نصف السنة'!I32","v":0},{"$f":"'قائمة امتحان نصف السنة'!J32","v":0},{"$f":"'قائمة امتحان نصف السنة'!K32","v":0},null,{"$f":"'قائمة نهاية السنة'!E32","v":0},{"$f":"'قائمة نهاية السنة'!F32","v":0},{"$f":"'قائمة نهاية السنة'!G32","v":0},{"$f":"'قائمة نهاية السنة'!H32","v":0},{"$f":"'قائمة نهاية السنة'!I32","v":0},{"$f":"'قائمة نهاية السنة'!J32","v":0},{"$f":"'قائمة نهاية السنة'!K32","v":0}]
[30,null,null,null,{"$f":"'اسلامية نهاية السنة'!L33","v":0},{"$f":"'عربي نهاية السنة'!AE33","v":0},{"$f":"'رياضيات نهاية السنة'!F33","v":0},{"$f":"'علوم نهاية السنة'!F33","v":0},{"$f":"'انكليزي نهاية السنة'!L33","v":0},{"$f":"'فنية نهاية السنة'!J33","v":0},{"$f":"'رياضة نهاية السنة'!L33","v":0},null,null,null,null,null,null,null,null,{"$f":"'اسماء التلاميذ'!B$2","v":0},{"$f":"'اسماء التلاميذ'!B$3","v":0},{"$f":"'اسماء التلاميذ'!B$4","v":0},{"$f":"'اسماء التلاميذ'!F$4","v":"2021 - 2022"},{"$f":"'اسماء التلاميذ'!F$2","v":"الأول"},{"$f":"'اسماء التلاميذ'!F$3","v":"أ"},{"$f":"'اسماء التلاميذ'!F$37","v":"سعد حميد خلف"},{"$f":"'اسماء التلاميذ'!D33","v":0},{"$f":"'قائمة امتحان نصف السنة'!P33","v":""},{"$f":"'قائمة امتحان لغرض الدور الثاني '!P33","v":""},{"$f":"'قائمة امتحان لغرض الدور الثاني '!L33","v":0},null,null,null,{"$f":"'قائمة امتحان نصف السنة'!D33","v":0},{"$f":"'قائمة امتحان نصف السنة'!E33","v":0},{"$f":"'قائمة امتحان نصف السنة'!F33","v":0},{"$f":"'قائمة امتحان نصف السنة'!G33","v":0},{"$f":"'قائمة امتحان نصف السنة'!H33","v":0},{"$f":"'قائمة امتحان نصف السنة'!I33","v":0},{"$f":"'قائمة امتحان نصف السنة'!J33","v":0},{"$f":"'قائمة امتحان نصف السنة'!K33","v":0},null,{"$f":"'قائمة نهاية السنة'!E33","v":0},{"$f":"'قائمة نهاية السنة'!F33","v":0},{"$f":"'قائمة نهاية السنة'!G33","v":0},{"$f":"'قائمة نهاية السنة'!H33","v":0},{"$f":"'قائمة نهاية السنة'!I33","v":0},{"$f":"'قائمة نهاية السنة'!J33","v":0},{"$f":"'قائمة نهاية السنة'!K33","v":0}]
[31,null,null,null,{"$f":"'اسلامية نهاية السنة'!L34","v":0},{"$f":"'عربي نهاية السنة'!AE34","v":0},{"$f":"'رياضيات نهاية السنة'!F34","v":0},{"$f":"'علوم نهاية السنة'!F34","v":0},{"$f":"'انكليزي نهاية السنة'!L34","v":0},{"$f":"'فنية نهاية السنة'!J34","v":0},{"$f":"'رياضة نهاية السنة'!L34","v":0},null,null,null,null,null,null,null,null,{"$f":"'اسماء التلاميذ'!B$2","v":0},{"$f":"'اسماء التلاميذ'!B$3","v":0},{"$f":"'اسماء التلاميذ'!B$4","v":0},{"$f":"'اسماء التلاميذ'!F$4","v":"2021 - 2022"},{"$f":"'اسماء التلاميذ'!F$2","v":"الأول"},{"$f":"'اسماء التلاميذ'!F$3","v":"أ"},{"$f":"'اسماء التلاميذ'!F$37","v":"سعد حميد خلف"},{"$f":"'اسماء التلاميذ'!D34","v":0},{"$f":"'قائمة امتحان نصف السنة'!P34","v":""},{"$f":"'قائمة امتحان لغرض الدور الثاني '!P34","v":""},{"$f":"'قائمة امتحان لغرض الدور الثاني '!L34","v":0},null,null,null,{"$f":"'قائمة امتحان نصف السنة'!D34","v":0},{"$f":"'قائمة امتحان نصف السنة'!E34","v":0},{"$f":"'قائمة امتحان نصف السنة'!F34","v":0},{"$f":"'قائمة امتحان نصف السنة'!G34","v":0},{"$f":"'قائمة امتحان نصف السنة'!H34","v":0},{"$f":"'قائمة امتحان نصف السنة'!I34","v":0},{"$f":"'قائمة امتحان نصف السنة'!J34","v":0},{"$f":"'قائمة امتحان نصف السنة'!K34","v":0},null,{"$f":"'قائمة نهاية السنة'!E34","v":0},{"$f":"'قائمة نهاية السنة'!F34","v":0},{"$f":"'قائمة نهاية السنة'!G34","v":0},{"$f":"'قائمة نهاية السنة'!H34","v":0},{"$f":"'قائمة نهاية السنة'!I34","v":0},{"$f":"'قائمة نهاية السنة'!J34","v":0},{"$f":"'قائمة نهاية السنة'!K34","v":0}]
[32,null,null,null,{"$f":"'اسلامية نهاية السنة'!L35","v":0},{"$f":"'عربي نهاية السنة'!AE35","v":0},{"$f":"'رياضيات نهاية السنة'!F35","v":0},{"$f":"'علوم نهاية السنة'!F35","v":0},{"$f":"'انكليزي نهاية السنة'!L35","v":0},{"$f":"'فنية نهاية السنة'!J35","v":0},{"$f":"'رياضة نهاية السنة'!L35","v":0},null,null,null,null,null,null,null,null,{"$f":"'اسماء التلاميذ'!B$2","v":0},{"$f":"'اسماء التلاميذ'!B$3","v":0},{"$f":"'اسماء التلاميذ'!B$4","v":0},{"$f":"'اسماء التلاميذ'!F$4","v":"2021 - 2022"},{"$f":"'اسماء التلاميذ'!F$2","v":"الأول"},{"$f":"'اسماء التلاميذ'!F$3","v":"أ"},{"$f":"'اسماء التلاميذ'!F$37","v":"سعد حميد خلف"},{"$f":"'اسماء التلاميذ'!D35","v":0},{"$f":"'قائمة امتحان نصف السنة'!P35","v":""},{"$f":"'قائمة امتحان لغرض الدور الثاني '!P35","v":""},{"$f":"'قائمة امتحان لغرض الدور الثاني '!L35","v":0},null,null,null,{"$f":"'قائمة امتحان نصف السنة'!D35","v":0},{"$f":"'قائمة امتحان نصف السنة'!E35","v":0},{"$f":"'قائمة امتحان نصف السنة'!F35","v":0},{"$f":"'قائمة امتحان نصف السنة'!G35","v":0},{"$f":"'قائمة امتحان نصف السنة'!H35","v":0},{"$f":"'قائمة امتحان نصف السنة'!I35","v":0},{"$f":"'قائمة امتحان نصف السنة'!J35","v":0},{"$f":"'قائمة امتحان نصف السنة'!K35","v":0},null,{"$f":"'قائمة نهاية السنة'!E35","v":0},{"$f":"'قائمة نهاية السنة'!F35","v":0},{"$f":"'قائمة نهاية السنة'!G35","v":0},{"$f":"'قائمة نهاية السنة'!H35","v":0},{"$f":"'قائمة نهاية السنة'!I35","v":0},{"$f":"'قائمة نهاية السنة'!J35","v":0},{"$f":"'قائمة نهاية السنة'!K35","v":0}]
[33,null,null,null,{"$f":"'اسلامية نهاية السنة'!L36","v":0},{"$f":"'عربي نهاية السنة'!AE36","v":0},{"$f":"'رياضيات نهاية السنة'!F36","v":0},{"$f":"'علوم نهاية السنة'!F36","v":0},{"$f":"'انكليزي نهاية السنة'!L36","v":0},{"$f":"'فنية نهاية السنة'!J36","v":0},{"$f":"'رياضة نهاية السنة'!L36","v":0},null,null,null,null,null,null,null,null,{"$f":"'اسماء التلاميذ'!B$2","v":0},{"$f":"'اسماء التلاميذ'!B$3","v":0},{"$f":"'اسماء التلاميذ'!B$4","v":0},{"$f":"'اسماء التلاميذ'!F$4","v":"2021 - 2022"},{"$f":"'اسماء التلاميذ'!F$2","v":"الأول"},{"$f":"'اسماء التلاميذ'!F$3","v":"أ"},{"$f":"'اسماء التلاميذ'!F$37","v":"سعد حميد خلف"},{"$f":"'اسماء التلاميذ'!D36","v":0},{"$f":"'قائمة امتحان نصف السنة'!P36","v":""},{"$f":"'قائمة امتحان لغرض الدور الثاني '!P36","v":""},{"$f":"'قائمة امتحان لغرض الدور الثاني '!L36","v":0},null,null,null,{"$f":"'قائمة امتحان نصف السنة'!D36","v":0},{"$f":"'قائمة امتحان نصف السنة'!E36","v":0},{"$f":"'قائمة امتحان نصف السنة'!F36","v":0},{"$f":"'قائمة امتحان نصف السنة'!G36","v":0},{"$f":"'قائمة امتحان نصف السنة'!H36","v":0},{"$f":"'قائمة امتحان نصف السنة'!I36","v":0},{"$f":"'قائمة امتحان نصف السنة'!J36","v":0},{"$f":"'قائمة امتحان نصف السنة'!K36","v":0},null,{"$f":"'قائمة نهاية السنة'!E36","v":0},{"$f":"'قائمة نهاية السنة'!F36","v":0},{"$f":"'قائمة نهاية السنة'!G36","v":0},{"$f":"'قائمة نهاية السنة'!H36","v":0},{"$f":"'قائمة نهاية السنة'!I36","v":0},{"$f":"'قائمة نهاية السنة'!J36","v":0},{"$f":"'قائمة نهاية السنة'!K36","v":0}]
["",null,null,null,{"$f":"'اسلامية نهاية السنة'!#REF!","v":{"$error":"#REF!"}},{"$f":"'عربي نهاية السنة'!#REF!","v":{"$error":"#REF!"}},{"$f":"'رياضيات نهاية السنة'!#REF!","v":{"$error":"#REF!"}},{"$f":"'علوم نهاية السنة'!#REF!","v":{"$error":"#REF!"}},{"$f":"'انكليزي نهاية السنة'!#REF!","v":{"$error":"#REF!"}},{"$f":"'فنية نهاية السنة'!#REF!","v":{"$error":"#REF!"}},{"$f":"'رياضة نهاية السنة'!#REF!","v":{"$error":"#REF!"}},null,null,null,null,null,null,null,null,{"$f":"'اسماء التلاميذ'!B$2","v":0},{"$f":"'اسماء التلاميذ'!B$3","v":0},{"$f":"'اسماء التلاميذ'!B$4","v":0},{"$f":"'اسماء التلاميذ'!F$4","v":"2021 - 2022"},{"$f":"'اسماء التلاميذ'!F$2","v":"الأول"},{"$f":"'اسماء التلاميذ'!F$3","v":"أ"},{"$f":"'اسماء التلاميذ'!F$37","v":"سعد حميد خلف"},{"$f":"'اسماء التلاميذ'!D37","v":0},{"$f":"'قائمة امتحان نصف السنة'!#REF!","v":{"$error":"#REF!"}},{"$f":"'قائمة امتحان لغرض الدور الثاني '!#REF!","v":{"$error":"#REF!"}},{"$f":"'قائمة امتحان لغرض الدور الثاني '!#REF!","v":{"$error":"#REF!"}},null,null,null,{"$f":"'قائمة امتحان نصف السنة'!#REF!","v":{"$error":"#REF!"}},{"$f":"'قائمة امتحان نصف السنة'!#REF!","v":{"$error":"#REF!"}},{"$f":"'قائمة امتحان نصف السنة'!#REF!","v":{"$error":"#REF!"}},{"$f":"'قائمة امتحان نصف السنة'!#REF!","v":{"$error":"#REF!"}},{"$f":"'قائمة امتحان نصف السنة'!#REF!","v":{"$error":"#REF!"}},{"$f":"'قائمة امتحان نصف السنة'!#REF!","v":{"$error":"#REF!"}},{"$f":"'قائمة امتحان نصف السنة'!#REF!","v":{"$error":"#REF!"}},{"$f":"'قائمة امتحان نصف السنة'!#REF!","v":{"$error":"#REF!"}},null,{"$f":"'قائمة نهاية السنة'!#REF!","v":{"$error":"#REF!"}},{"$f":"'قائمة نهاية السنة'!#REF!","v":{"$error":"#REF!"}},{"$f":"'قائمة نهاية السنة'!#REF!","v":{"$error":"#REF!"}},{"$f":"'قائمة نهاية السنة'!#REF!","v":{"$error":"#REF!"}},{"$f":"'قائمة نهاية السنة'!#REF!","v":{"$error":"#REF!"}},{"$f":"'قائمة نهاية السنة'!#REF!","v":{"$error":"#REF!"}},{"$f":"'قائمة نهاية السنة'!#REF!","v":{"$error":"#REF!"}}]
["",null,null,null,{"$f":"'اسلامية نهاية السنة'!#REF!","v":{"$error":"#REF!"}},{"$f":"'عربي نهاية السنة'!#REF!","v":{"$error":"#REF!"}},{"$f":"'رياضيات نهاية السنة'!#REF!","v":{"$error":"#REF!"}},{"$f":"'علوم نهاية السنة'!#REF!","v":{"$error":"#REF!"}},{"$f":"'انكليزي نهاية السنة'!#REF!","v":{"$error":"#REF!"}},{"$f":"'فنية نهاية السنة'!#REF!","v":{"$error":"#REF!"}},{"$f":"'رياضة نهاية السنة'!#REF!","v":{"$error":"#REF!"}},null,null,null,null,null,null,null,null,{"$f":"'اسماء التلاميذ'!B$2","v":0},{"$f":"'اسماء التلاميذ'!B$3","v":0},{"$f":"'اسماء التلاميذ'!B$4","v":0},{"$f":"'اسماء التلاميذ'!F$4","v":"2021 - 2022"},{"$f":"'اسماء التلاميذ'!F$2","v":"الأول"},{"$f":"'اسماء التلاميذ'!F$3","v":"أ"},{"$f":"'اسماء التلاميذ'!F$37","v":"سعد حميد خلف"},{"$f":"'اسماء التلاميذ'!D38","v":0},{"$f":"'قائمة امتحان نصف السنة'!#REF!","v":{"$error":"#REF!"}},{"$f":"'قائمة امتحان لغرض الدور الثاني '!#REF!","v":{"$error":"#REF!"}},{"$f":"'قائمة امتحان لغرض الدور الثاني '!#REF!","v":{"$error":"#REF!"}},null,null,null,{"$f":"'قائمة امتحان نصف السنة'!#REF!","v":{"$error":"#REF!"}},{"$f":"'قائمة امتحان نصف السنة'!#REF!","v":{"$error":"#REF!"}},{"$f":"'قائمة امتحان نصف السنة'!#REF!","v":{"$error":"#REF!"}},{"$f":"'قائمة امتحان نصف السنة'!#REF!","v":{"$error":"#REF!"}},{"$f":"'قائمة امتحان نصف السنة'!#REF!","v":{"$error":"#REF!"}},{"$f":"'قائمة امتحان نصف السنة'!#REF!","v":{"$error":"#REF!"}},{"$f":"'قائمة امتحان نصف السنة'!#REF!","v":{"$error":"#REF!"}},{"$f":"'قائمة امتحان نصف السنة'!#REF!","v":{"$error":"#REF!"}},null,{"$f":"'قائمة نهاية السنة'!#REF!","v":{"$error":"#REF!"}},{"$f":"'قائمة نهاية السنة'!#REF!","v":{"$error":"#REF!"}},{"$f":"'قائمة نهاية السنة'!#REF!","v":{"$error":"#REF!"}},{"$f":"'قائمة نهاية السنة'!#REF!","v":{"$error":"#REF!"}},{"$f":"'قائمة نهاية السنة'!#REF!","v":{"$error":"#REF!"}},{"$f":"'قائمة نهاية السنة'!#REF!","v":{"$error":"#REF!"}},{"$f":"'قائمة نهاية السنة'!#REF!","v":{"$error":"#REF!"}}]
["",null,null,null,{"$f":"'اسلامية نهاية السنة'!#REF!","v":{"$error":"#REF!"}},{"$f":"'عربي نهاية السنة'!#REF!","v":{"$error":"#REF!"}},{"$f":"'رياضيات نهاية السنة'!#REF!","v":{"$error":"#REF!"}},{"$f":"'علوم نهاية السنة'!#REF!","v":{"$error":"#REF!"}},{"$f":"'انكليزي نهاية السنة'!#REF!","v":{"$error":"#REF!"}},{"$f":"'فنية نهاية السنة'!#REF!","v":{"$error":"#REF!"}},{"$f":"'رياضة نهاية السنة'!#REF!","v":{"$error":"#REF!"}},null,null,null,null,null,null,null,null,{"$f":"'اسماء التلاميذ'!B$2","v":0},{"$f":"'اسماء التلاميذ'!B$3","v":0},{"$f":"'اسماء التلاميذ'!B$4","v":0},{"$f":"'اسماء التلاميذ'!F$4","v":"2021 - 2022"},{"$f":"'اسماء التلاميذ'!F$2","v":"الأول"},{"$f":"'اسماء التلاميذ'!F$3","v":"أ"},{"$f":"'اسماء التلاميذ'!F$37","v":"سعد حميد خلف"},{"$f":"'اسماء التلاميذ'!D39","v":0},{"$f":"'قائمة امتحان نصف السنة'!#REF!","v":{"$error":"#REF!"}},{"$f":"'قائمة امتحان لغرض الدور الثاني '!#REF!","v":{"$error":"#REF!"}},{"$f":"'قائمة امتحان لغرض الدور الثاني '!#REF!","v":{"$error":"#REF!"}},null,null,null,{"$f":"'قائمة امتحان نصف السنة'!#REF!","v":{"$error":"#REF!"}},{"$f":"'قائمة امتحان نصف السنة'!#REF!","v":{"$error":"#REF!"}},{"$f":"'قائمة امتحان نصف السنة'!#REF!","v":{"$error":"#REF!"}},{"$f":"'قائمة امتحان نصف السنة'!#REF!","v":{"$error":"#REF!"}},{"$f":"'قائمة امتحان نصف السنة'!#REF!","v":{"$error":"#REF!"}},{"$f":"'قائمة امتحان نصف السنة'!#REF!","v":{"$error":"#REF!"}},{"$f":"'قائمة امتحان نصف السنة'!#REF!","v":{"$error":"#REF!"}},{"$f":"'قائمة امتحان نصف السنة'!#REF!","v":{"$error":"#REF!"}},null,{"$f":"'قائمة نهاية السنة'!#REF!","v":{"$error":"#REF!"}},{"$f":"'قائمة نهاية السنة'!#REF!","v":{"$error":"#REF!"}},{"$f":"'قائمة نهاية السنة'!#REF!","v":{"$error":"#REF!"}},{"$f":"'قائمة نهاية السنة'!#REF!","v":{"$error":"#REF!"}},{"$f":"'قائمة نهاية السنة'!#REF!","v":{"$error":"#REF!"}},{"$f":"'قائمة نهاية السنة'!#REF!","v":{"$error":"#REF!"}},{"$f":"'قائمة نهاية السنة'!#REF!","v":{"$error":"#REF!"}}]
["",null,null,null,{"$f":"'اسلامية نهاية السنة'!#REF!","v":{"$error":"#REF!"}},{"$f":"'عربي نهاية السنة'!#REF!","v":{"$error":"#REF!"}},{"$f":"'رياضيات نهاية السنة'!#REF!","v":{"$error":"#REF!"}},{"$f":"'علوم نهاية السنة'!#REF!","v":{"$error":"#REF!"}},{"$f":"'انكليزي نهاية السنة'!#REF!","v":{"$error":"#REF!"}},{"$f":"'فنية نهاية السنة'!#REF!","v":{"$error":"#REF!"}},{"$f":"'رياضة نهاية السنة'!#REF!","v":{"$error":"#REF!"}},null,null,null,null,null,null,null,null,{"$f":"'اسماء التلاميذ'!B$2","v":0},{"$f":"'اسماء التلاميذ'!B$3","v":0},{"$f":"'اسماء التلاميذ'!B$4","v":0},{"$f":"'اسماء التلاميذ'!F$4","v":"2021 - 2022"},{"$f":"'اسماء التلاميذ'!F$2","v":"الأول"},{"$f":"'اسماء التلاميذ'!F$3","v":"أ"},{"$f":"'اسماء التلاميذ'!F$37","v":"سعد حميد خلف"},{"$f":"'اسماء التلاميذ'!D40","v":0},{"$f":"'قائمة امتحان نصف السنة'!#REF!","v":{"$error":"#REF!"}},{"$f":"'قائمة امتحان لغرض الدور الثاني '!#REF!","v":{"$error":"#REF!"}},{"$f":"'قائمة امتحان لغرض الدور الثاني '!#REF!","v":{"$error":"#REF!"}},null,null,null,{"$f":"'قائمة امتحان نصف السنة'!#REF!","v":{"$error":"#REF!"}},{"$f":"'قائمة امتحان نصف السنة'!#REF!","v":{"$error":"#REF!"}},{"$f":"'قائمة امتحان نصف السنة'!#REF!","v":{"$error":"#REF!"}},{"$f":"'قائمة امتحان نصف السنة'!#REF!","v":{"$error":"#REF!"}},{"$f":"'قائمة امتحان نصف السنة'!#REF!","v":{"$error":"#REF!"}},{"$f":"'قائمة امتحان نصف السنة'!#REF!","v":{"$error":"#REF!"}},{"$f":"'قائمة امتحان نصف السنة'!#REF!","v":{"$error":"#REF!"}},{"$f":"'قائمة امتحان نصف السنة'!#REF!","v":{"$error":"#REF!"}},null,{"$f":"'قائمة نهاية السنة'!#REF!","v":{"$error":"#REF!"}},{"$f":"'قائمة نهاية السنة'!#REF!","v":{"$error":"#REF!"}},{"$f":"'قائمة نهاية السنة'!#REF!","v":{"$error":"#REF!"}},{"$f":"'قائمة نهاية السنة'!#REF!","v":{"$error":"#REF!"}},{"$f":"'قائمة نهاية السنة'!#REF!","v":{"$error":"#REF!"}},{"$f":"'قائمة نهاية السنة'!#REF!","v":{"$error":"#REF!"}},{"$f":"'قائمة نهاية السنة'!#REF!","v":{"$error":"#REF!"}}]
["",null,null,null,{"$f":"'اسلامية نهاية السنة'!#REF!","v":{"$error":"#REF!"}},{"$f":"'عربي نهاية السنة'!#REF!","v":{"$error":"#REF!"}},{"$f":"'رياضيات نهاية السنة'!#REF!","v":{"$error":"#REF!"}},{"$f":"'علوم نهاية السنة'!#REF!","v":{"$error":"#REF!"}},{"$f":"'انكليزي نهاية السنة'!#REF!","v":{"$error":"#REF!"}},{"$f":"'فنية نهاية السنة'!#REF!","v":{"$error":"#REF!"}},{"$f":"'رياضة نهاية السنة'!#REF!","v":{"$error":"#REF!"}},null,null,null,null,null,null,null,null,{"$f":"'اسماء التلاميذ'!B$2","v":0},{"$f":"'اسماء التلاميذ'!B$3","v":0},{"$f":"'اسماء التلاميذ'!B$4","v":0},{"$f":"'اسماء التلاميذ'!F$4","v":"2021 - 2022"},{"$f":"'اسماء التلاميذ'!F$2","v":"الأول"},{"$f":"'اسماء التلاميذ'!F$3","v":"أ"},{"$f":"'اسماء التلاميذ'!F$37","v":"سعد حميد خلف"},{"$f":"'اسماء التلاميذ'!D41","v":0},{"$f":"'قائمة امتحان نصف السنة'!#REF!","v":{"$error":"#REF!"}},{"$f":"'قائمة امتحان لغرض الدور الثاني '!#REF!","v":{"$error":"#REF!"}},{"$f":"'قائمة امتحان لغرض الدور الثاني '!#REF!","v":{"$error":"#REF!"}},null,null,null,{"$f":"'قائمة امتحان نصف السنة'!#REF!","v":{"$error":"#REF!"}},{"$f":"'قائمة امتحان نصف السنة'!#REF!","v":{"$error":"#REF!"}},{"$f":"'قائمة امتحان نصف السنة'!#REF!","v":{"$error":"#REF!"}},{"$f":"'قائمة امتحان نصف السنة'!#REF!","v":{"$error":"#REF!"}},{"$f":"'قائمة امتحان نصف السنة'!#REF!","v":{"$error":"#REF!"}},{"$f":"'قائمة امتحان نصف السنة'!#REF!","v":{"$error":"#REF!"}},{"$f":"'قائمة امتحان نصف السنة'!#REF!","v":{"$error":"#REF!"}},{"$f":"'قائمة امتحان نصف السنة'!#REF!","v":{"$error":"#REF!"}},null,{"$f":"'قائمة نهاية السنة'!#REF!","v":{"$error":"#REF!"}},{"$f":"'قائمة نهاية السنة'!#REF!","v":{"$error":"#REF!"}},{"$f":"'قائمة نهاية السنة'!#REF!","v":{"$error":"#REF!"}},{"$f":"'قائمة نهاية السنة'!#REF!","v":{"$error":"#REF!"}},{"$f":"'قائمة نهاية السنة'!#REF!","v":{"$error":"#REF!"}},{"$f":"'قائمة نهاية السنة'!#REF!","v":{"$error":"#REF!"}},{"$f":"'قائمة نهاية السنة'!#REF!","v":{"$error":"#REF!"}}]
["",null,null,null,{"$f":"'اسلامية نهاية السنة'!#REF!","v":{"$error":"#REF!"}},{"$f":"'عربي نهاية السنة'!#REF!","v":{"$error":"#REF!"}},{"$f":"'رياضيات نهاية السنة'!#REF!","v":{"$error":"#REF!"}},{"$f":"'علوم نهاية السنة'!#REF!","v":{"$error":"#REF!"}},{"$f":"'انكليزي نهاية السنة'!#REF!","v":{"$error":"#REF!"}},{"$f":"'فنية نهاية السنة'!#REF!","v":{"$error":"#REF!"}},{"$f":"'رياضة نهاية السنة'!#REF!","v":{"$error":"#REF!"}},null,null,null,null,null,null,null,null,{"$f":"'اسماء التلاميذ'!B$2","v":0},{"$f":"'اسماء التلاميذ'!B$3","v":0},{"$f":"'اسماء التلاميذ'!B$4","v":0},{"$f":"'اسماء التلاميذ'!F$4","v":"2021 - 2022"},{"$f":"'اسماء التلاميذ'!F$2","v":"الأول"},{"$f":"'اسماء التلاميذ'!F$3","v":"أ"},{"$f":"'اسماء التلاميذ'!F$37","v":"سعد حميد خلف"},{"$f":"'اسماء التلاميذ'!D42","v":0},{"$f":"'قائمة امتحان نصف السنة'!#REF!","v":{"$error":"#REF!"}},{"$f":"'قائمة امتحان لغرض الدور الثاني '!#REF!","v":{"$error":"#REF!"}},{"$f":"'قائمة امتحان لغرض الدور الثاني '!#REF!","v":{"$error":"#REF!"}},null,null,null,{"$f":"'قائمة امتحان نصف السنة'!#REF!","v":{"$error":"#REF!"}},{"$f":"'قائمة امتحان نصف السنة'!#REF!","v":{"$error":"#REF!"}},{"$f":"'قائمة امتحان نصف السنة'!#REF!","v":{"$error":"#REF!"}},{"$f":"'قائمة امتحان نصف السنة'!#REF!","v":{"$error":"#REF!"}},{"$f":"'قائمة امتحان نصف السنة'!#REF!","v":{"$error":"#REF!"}},{"$f":"'قائمة امتحان نصف السنة'!#REF!","v":{"$error":"#REF!"}},{"$f":"'قائمة امتحان نصف السنة'!#REF!","v":{"$error":"#REF!"}},{"$f":"'قائمة امتحان نصف السنة'!#REF!","v":{"$error":"#REF!"}},null,{"$f":"'قائمة نهاية السنة'!#REF!","v":{"$error":"#REF!"}},{"$f":"'قائمة نهاية السنة'!#REF!","v":{"$error":"#REF!"}},{"$f":"'قائمة نهاية السنة'!#REF!","v":{"$error":"#REF!"}},{"$f":"'قائمة نهاية السنة'!#REF!","v":{"$error":"#REF!"}},{"$f":"'قائمة نهاية السنة'!#REF!","v":{"$error":"#REF!"}},{"$f":"'قائمة نهاية السنة'!#REF!","v":{"$error":"#REF!"}},{"$f":"'قائمة نهاية السنة'!#REF!","v":{"$error":"#REF!"}}]
["",null,null,null,{"$f":"'اسلامية نهاية السنة'!#REF!","v":{"$error":"#REF!"}},{"$f":"'عربي نهاية السنة'!#REF!","v":{"$error":"#REF!"}},{"$f":"'رياضيات نهاية السنة'!#REF!","v":{"$error":"#REF!"}},{"$f":"'علوم نهاية السنة'!#REF!","v":{"$error":"#REF!"}},{"$f":"'انكليزي نهاية السنة'!#REF!","v":{"$error":"#REF!"}},{"$f":"'فنية نهاية السنة'!#REF!","v":{"$error":"#REF!"}},{"$f":"'رياضة نهاية السنة'!#REF!","v":{"$error":"#REF!"}},null,null,null,null,null,null,null,null,{"$f":"'اسماء التلاميذ'!B$2","v":0},{"$f":"'اسماء التلاميذ'!B$3","v":0},{"$f":"'اسماء التلاميذ'!B$4","v":0},{"$f":"'اسماء التلاميذ'!F$4","v":"2021 - 2022"},{"$f":"'اسماء التلاميذ'!F$2","v":"الأول"},{"$f":"'اسماء التلاميذ'!F$3","v":"أ"},{"$f":"'اسماء التلاميذ'!F$37","v":"سعد حميد خلف"},{"$f":"'اسماء التلاميذ'!D43","v":0},{"$f":"'قائمة امتحان نصف السنة'!#REF!","v":{"$error":"#REF!"}},{"$f":"'قائمة امتحان لغرض الدور الثاني '!#REF!","v":{"$error":"#REF!"}},{"$f":"'قائمة امتحان لغرض الدور الثاني '!#REF!","v":{"$error":"#REF!"}},null,null,null,{"$f":"'قائمة امتحان نصف السنة'!#REF!","v":{"$error":"#REF!"}},{"$f":"'قائمة امتحان نصف السنة'!#REF!","v":{"$error":"#REF!"}},{"$f":"'قائمة امتحان نصف السنة'!#REF!","v":{"$error":"#REF!"}},{"$f":"'قائمة امتحان نصف السنة'!#REF!","v":{"$error":"#REF!"}},{"$f":"'قائمة امتحان نصف السنة'!#REF!","v":{"$error":"#REF!"}},{"$f":"'قائمة امتحان نصف السنة'!#REF!","v":{"$error":"#REF!"}},{"$f":"'قائمة امتحان نصف السنة'!#REF!","v":{"$error":"#REF!"}},{"$f":"'قائمة امتحان نصف السنة'!#REF!","v":{"$error":"#REF!"}},null,{"$f":"'قائمة نهاية السنة'!#REF!","v":{"$error":"#REF!"}},{"$f":"'قائمة نهاية السنة'!#REF!","v":{"$error":"#REF!"}},{"$f":"'قائمة نهاية السنة'!#REF!","v":{"$error":"#REF!"}},{"$f":"'قائمة نهاية السنة'!#REF!","v":{"$error":"#REF!"}},{"$f":"'قائمة نهاية السنة'!#REF!","v":{"$error":"#REF!"}},{"$f":"'قائمة نهاية السنة'!#REF!","v":{"$error":"#REF!"}},{"$f":"'قائمة نهاية السنة'!#REF!","v":{"$error":"#REF!"}}]
["",null,null,null,{"$f":"'اسلامية نهاية السنة'!#REF!","v":{"$error":"#REF!"}},{"$f":"'عربي نهاية السنة'!#REF!","v":{"$error":"#REF!"}},{"$f":"'رياضيات نهاية السنة'!#REF!","v":{"$error":"#REF!"}},{"$f":"'علوم نهاية السنة'!#REF!","v":{"$error":"#REF!"}},{"$f":"'انكليزي نهاية السنة'!#REF!","v":{"$error":"#REF!"}},{"$f":"'فنية نهاية السنة'!#REF!","v":{"$error":"#REF!"}},{"$f":"'رياضة نهاية السنة'!#REF!","v":{"$error":"#REF!"}},null,null,null,null,null,null,null,null,{"$f":"'اسماء التلاميذ'!B$2","v":0},{"$f":"'اسماء التلاميذ'!B$3","v":0},{"$f":"'اسماء التلاميذ'!B$4","v":0},{"$f":"'اسماء التلاميذ'!F$4","v":"2021 - 2022"},{"$f":"'اسماء التلاميذ'!F$2","v":"الأول"},{"$f":"'اسماء التلاميذ'!F$3","v":"أ"},{"$f":"'اسماء التلاميذ'!F$37","v":"سعد حميد خلف"},{"$f":"'اسماء التلاميذ'!D44","v":0},{"$f":"'قائمة امتحان نصف السنة'!#REF!","v":{"$error":"#REF!"}},{"$f":"'قائمة امتحان لغرض الدور الثاني '!#REF!","v":{"$error":"#REF!"}},{"$f":"'قائمة امتحان لغرض الدور الثاني '!#REF!","v":{"$error":"#REF!"}},null,null,null,{"$f":"'قائمة امتحان نصف السنة'!#REF!","v":{"$error":"#REF!"}},{"$f":"'قائمة امتحان نصف السنة'!#REF!","v":{"$error":"#REF!"}},{"$f":"'قائمة امتحان نصف السنة'!#REF!","v":{"$error":"#REF!"}},{"$f":"'قائمة امتحان نصف السنة'!#REF!","v":{"$error":"#REF!"}},{"$f":"'قائمة امتحان نصف السنة'!#REF!","v":{"$error":"#REF!"}},{"$f":"'قائمة امتحان نصف السنة'!#REF!","v":{"$error":"#REF!"}},{"$f":"'قائمة امتحان نصف السنة'!#REF!","v":{"$error":"#REF!"}},{"$f":"'قائمة امتحان نصف السنة'!#REF!","v":{"$error":"#REF!"}},null,{"$f":"'قائمة نهاية السنة'!#REF!","v":{"$error":"#REF!"}},{"$f":"'قائمة نهاية السنة'!#REF!","v":{"$error":"#REF!"}},{"$f":"'قائمة نهاية السنة'!#REF!","v":{"$error":"#REF!"}},{"$f":"'قائمة نهاية السنة'!#REF!","v":{"$error":"#REF!"}},{"$f":"'قائمة نهاية السنة'!#REF!","v":{"$error":"#REF!"}},{"$f":"'قائمة نهاية السنة'!#REF!","v":{"$error":"#REF!"}},{"$f":"'قائمة نهاية السنة'!#REF!","v":{"$error":"#REF!"}}]
["",null,null,null,{"$f":"'اسلامية نهاية السنة'!#REF!","v":{"$error":"#REF!"}},{"$f":"'عربي نهاية السنة'!#REF!","v":{"$error":"#REF!"}},{"$f":"'رياضيات نهاية السنة'!#REF!","v":{"$error":"#REF!"}},{"$f":"'علوم نهاية السنة'!#REF!","v":{"$error":"#REF!"}},{"$f":"'انكليزي نهاية السنة'!#REF!","v":{"$error":"#REF!"}},{"$f":"'فنية نهاية السنة'!#REF!","v":{"$error":"#REF!"}},{"$f":"'رياضة نهاية السنة'!#REF!","v":{"$error":"#REF!"}},null,null,null,null,null,null,null,null,{"$f":"'اسماء التلاميذ'!B$2","v":0},{"$f":"'اسماء التلاميذ'!B$3","v":0},{"$f":"'اسماء التلاميذ'!B$4","v":0},{"$f":"'اسماء التلاميذ'!F$4","v":"2021 - 2022"},{"$f":"'اسماء التلاميذ'!F$2","v":"الأول"},{"$f":"'اسماء التلاميذ'!F$3","v":"أ"},{"$f":"'اسماء التلاميذ'!F$37","v":"سعد حميد خلف"},{"$f":"'اسماء التلاميذ'!D45","v":0},{"$f":"'قائمة امتحان نصف السنة'!#REF!","v":{"$error":"#REF!"}},{"$f":"'قائمة امتحان لغرض الدور الثاني '!#REF!","v":{"$error":"#REF!"}},{"$f":"'قائمة امتحان لغرض الدور الثاني '!#REF!","v":{"$error":"#REF!"}},null,null,null,{"$f":"'قائمة امتحان نصف السنة'!#REF!","v":{"$error":"#REF!"}},{"$f":"'قائمة امتحان نصف السنة'!#REF!","v":{"$error":"#REF!"}},{"$f":"'قائمة امتحان نصف السنة'!#REF!","v":{"$error":"#REF!"}},{"$f":"'قائمة امتحان نصف السنة'!#REF!","v":{"$error":"#REF!"}},{"$f":"'قائمة امتحان نصف السنة'!#REF!","v":{"$error":"#REF!"}},{"$f":"'قائمة امتحان نصف السنة'!#REF!","v":{"$error":"#REF!"}},{"$f":"'قائمة امتحان نصف السنة'!#REF!","v":{"$error":"#REF!"}},{"$f":"'قائمة امتحان نصف السنة'!#REF!","v":{"$error":"#REF!"}},null,{"$f":"'قائمة نهاية السنة'!#REF!","v":{"$error":"#REF!"}},{"$f":"'قائمة نهاية السنة'!#REF!","v":{"$error":"#REF!"}},{"$f":"'قائمة نهاية السنة'!#REF!","v":{"$error":"#REF!"}},{"$f":"'قائمة نهاية السنة'!#REF!","v":{"$error":"#REF!"}},{"$f":"'قائمة نهاية السنة'!#REF!","v":{"$error":"#REF!"}},{"$f":"'قائمة نهاية السنة'!#REF!","v":{"$error":"#REF!"}},{"$f":"'قائمة نهاية السنة'!#REF!","v":{"$error":"#REF!"}}]
["",null,null,null,{"$f":"'اسلامية نهاية السنة'!#REF!","v":{"$error":"#REF!"}},{"$f":"'عربي نهاية السنة'!#REF!","v":{"$error":"#REF!"}},{"$f":"'رياضيات نهاية السنة'!#REF!","v":{"$error":"#REF!"}},{"$f":"'علوم نهاية السنة'!#REF!","v":{"$error":"#REF!"}},{"$f":"'انكليزي نهاية السنة'!#REF!","v":{"$error":"#REF!"}},{"$f":"'فنية نهاية السنة'!#REF!","v":{"$error":"#REF!"}},{"$f":"'رياضة نهاية السنة'!#REF!","v":{"$error":"#REF!"}},null,null,null,null,null,null,null,null,{"$f":"'اسماء التلاميذ'!B$2","v":0},{"$f":"'اسماء التلاميذ'!B$3","v":0},{"$f":"'اسماء التلاميذ'!B$4","v":0},{"$f":"'اسماء التلاميذ'!F$4","v":"2021 - 2022"},{"$f":"'اسماء التلاميذ'!F$2","v":"الأول"},{"$f":"'اسماء التلاميذ'!F$3","v":"أ"},{"$f":"'اسماء التلاميذ'!F$37","v":"سعد حميد خلف"},{"$f":"'اسماء التلاميذ'!D46","v":0},{"$f":"'قائمة امتحان نصف السنة'!#REF!","v":{"$error":"#REF!"}},{"$f":"'قائمة امتحان لغرض الدور الثاني '!#REF!","v":{"$error":"#REF!"}},{"$f":"'قائمة امتحان لغرض الدور الثاني '!#REF!","v":{"$error":"#REF!"}},null,null,null,{"$f":"'قائمة امتحان نصف السنة'!#REF!","v":{"$error":"#REF!"}},{"$f":"'قائمة امتحان نصف السنة'!#REF!","v":{"$error":"#REF!"}},{"$f":"'قائمة امتحان نصف السنة'!#REF!","v":{"$error":"#REF!"}},{"$f":"'قائمة امتحان نصف السنة'!#REF!","v":{"$error":"#REF!"}},{"$f":"'قائمة امتحان نصف السنة'!#REF!","v":{"$error":"#REF!"}},{"$f":"'قائمة امتحان نصف السنة'!#REF!","v":{"$error":"#REF!"}},{"$f":"'قائمة امتحان نصف السنة'!#REF!","v":{"$error":"#REF!"}},{"$f":"'قائمة امتحان نصف السنة'!#REF!","v":{"$error":"#REF!"}},null,{"$f":"'قائمة نهاية السنة'!#REF!","v":{"$error":"#REF!"}},{"$f":"'قائمة نهاية السنة'!#REF!","v":{"$error":"#REF!"}},{"$f":"'قائمة نهاية السنة'!#REF!","v":{"$error":"#REF!"}},{"$f":"'قائمة نهاية السنة'!#REF!","v":{"$error":"#REF!"}},{"$f":"'قائمة نهاية السنة'!#REF!","v":{"$error":"#REF!"}},{"$f":"'قائمة نهاية السنة'!#REF!","v":{"$error":"#REF!"}},{"$f":"'قائمة نهاية السنة'!#REF!","v":{"$error":"#REF!"}}]
[null,null,null,null,{"$f":"IFERROR(ROUND((AI47),0),\"غ\")","v":0},0,0,0,0,0,0,null,null,null,null,null,null,null,null,{"$f":"'اسماء التلاميذ'!B$2","v":0},{"$f":"'اسماء التلاميذ'!B$3","v":0},{"$f":"'اسماء التلاميذ'!B$4","v":0},{"$f":"'اسماء التلاميذ'!F$4","v":"2021 - 2022"},{"$f":"'اسماء التلاميذ'!F$2","v":"الأول"},{"$f":"'اسماء التلاميذ'!F$3","v":"أ"},{"$f":"'اسماء التلاميذ'!F$37","v":"سعد حميد خلف"},{"$f":"'اسماء التلاميذ'!D47","v":0},null,null,null,null,null,null,null,null,null,null,null,null,null,null,null,{"$f":"IFERROR(ROUND((#REF!),0),\"غ\")","v":"غ"},{"$f":"IFERROR(ROUND((#REF!),0),\"غ\")","v":"غ"},{"$f":"IFERROR(ROUND((#REF!),0),\"غ\")","v":"غ"},{"$f":"IFERROR(ROUND((#REF!),0),\"غ\")","v":"غ"},null,{"$f":"IFERROR(ROUND((#REF!),0),\"غ\")","v":"غ"},{"$f":"IFERROR(ROUND((#REF!),0),\"غ\")","v":"غ"}]
[null,null,null,null,0,0,0,0,0,0,0,null,null,null,null,null,null,null,null,{"$f":"'اسماء التلاميذ'!B$2","v":0},{"$f":"'اسماء التلاميذ'!B$3","v":0},{"$f":"'اسماء التلاميذ'!B$4","v":0},{"$f":"'اسماء التلاميذ'!F$4","v":"2021 - 2022"},{"$f":"'اسماء التلاميذ'!F$2","v":"الأول"},{"$f":"'اسماء التلاميذ'!F$3","v":"أ"},{"$f":"'اسماء التلاميذ'!F$37","v":"سعد حميد خلف"},{"$f":"'اسماء التلاميذ'!D48","v":0},null,null,null,null,null,null,null,null,null,null,null,null,null,null,null,{"$f":"IFERROR(ROUND((#REF!),0),\"غ\")","v":"غ"},{"$f":"IFERROR(ROUND((#REF!),0),\"غ\")","v":"غ"},{"$f":"IFERROR(ROUND((#REF!),0),\"غ\")","v":"غ"},{"$f":"IFERROR(ROUND((#REF!),0),\"غ\")","v":"غ"},null,{"$f":"IFERROR(ROUND((#REF!),0),\"غ\")","v":"غ"},{"$f":"IFERROR(ROUND((#REF!),0),\"غ\")","v":"غ"}]
[null,null,null,null,0,0,0,0,0,0,0,null,null,null,null,null,null,null,null,{"$f":"'اسماء التلاميذ'!B$2","v":0},{"$f":"'اسماء التلاميذ'!B$3","v":0},{"$f":"'اسماء التلاميذ'!B$4","v":0},{"$f":"'اسماء التلاميذ'!F$4","v":"2021 - 2022"},{"$f":"'اسماء التلاميذ'!F$2","v":"الأول"},{"$f":"'اسماء التلاميذ'!F$3","v":"أ"},{"$f":"'اسماء التلاميذ'!F$37","v":"سعد حميد خلف"},{"$f":"'اسماء التلاميذ'!D49","v":0},null,null,null,null,null,null,null,null,null,null,null,null,null,null,null,{"$f":"IFERROR(ROUND((#REF!),0),\"غ\")","v":"غ"},{"$f":"IFERROR(ROUND((#REF!),0),\"غ\")","v":"غ"},{"$f":"IFERROR(ROUND((#REF!),0),\"غ\")","v":"غ"},{"$f":"IFERROR(ROUND((#REF!),0),\"غ\")","v":"غ"},null,{"$f":"IFERROR(ROUND((#REF!),0),\"غ\")","v":"غ"},{"$f":"IFERROR(ROUND((#REF!),0),\"غ\")","v":"غ"}]
[null,null,null,null,0,0,0,0,0,0,0,null,null,null,null,null,null,null,null,{"$f":"'اسماء التلاميذ'!B$2","v":0},{"$f":"'اسماء التلاميذ'!B$3","v":0},{"$f":"'اسماء التلاميذ'!B$4","v":0},{"$f":"'اسماء التلاميذ'!F$4","v":"2021 - 2022"},{"$f":"'اسماء التلاميذ'!F$2","v":"الأول"},{"$f":"'اسماء التلاميذ'!F$3","v":"أ"},{"$f":"'اسماء التلاميذ'!F$37","v":"سعد حميد خلف"},{"$f":"'اسماء التلاميذ'!D50","v":0},null,null,null,null,null,null,null,null,null,null,null,null,null,null,null,{"$f":"IFERROR(ROUND((#REF!),0),\"غ\")","v":"غ"},{"$f":"IFERROR(ROUND((#REF!),0),\"غ\")","v":"غ"},{"$f":"IFERROR(ROUND((#REF!),0),\"غ\")","v":"غ"},{"$f":"IFERROR(ROUND((#REF!),0),\"غ\")","v":"غ"},null,{"$f":"IFERROR(ROUND((#REF!),0),\"غ\")","v":"غ"},{"$f":"IFERROR(ROUND((#REF!),0),\"غ\")","v":"غ"}]
[null,null,null,null,0,0,0,0,0,0,0,null,null,null,null,null,null,null,null,{"$f":"'اسماء التلاميذ'!B$2","v":0},{"$f":"'اسماء التلاميذ'!B$3","v":0},{"$f":"'اسماء التلاميذ'!B$4","v":0},{"$f":"'اسماء التلاميذ'!F$4","v":"2021 - 2022"},{"$f":"'اسماء التلاميذ'!F$2","v":"الأول"},{"$f":"'اسماء التلاميذ'!F$3","v":"أ"},{"$f":"'اسماء التلاميذ'!F$37","v":"سعد حميد خلف"},{"$f":"'اسماء التلاميذ'!D51","v":0},null,null,null,null,null,null,null,null,null,null,null,null,null,null,null,{"$f":"IFERROR(ROUND((#REF!),0),\"غ\")","v":"غ"},{"$f":"IFERROR(ROUND((#REF!),0),\"غ\")","v":"غ"},{"$f":"IFERROR(ROUND((#REF!),0),\"غ\")","v":"غ"},{"$f":"IFERROR(ROUND((#REF!),0),\"غ\")","v":"غ"},null,{"$f":"IFERROR(ROUND((#REF!),0),\"غ\")","v":"غ"},{"$f":"IFERROR(ROUND((#REF!),0),\"غ\")","v":"غ"}]
[null,null,null,null,0,0,0,0,0,0,0,null,null,null,null,null,null,null,null,{"$f":"'اسماء التلاميذ'!B$2","v":0},{"$f":"'اسماء التلاميذ'!B$3","v":0},{"$f":"'اسماء التلاميذ'!B$4","v":0},{"$f":"'اسماء التلاميذ'!F$4","v":"2021 - 2022"},{"$f":"'اسماء التلاميذ'!F$2","v":"الأول"},{"$f":"'اسماء التلاميذ'!F$3","v":"أ"},{"$f":"'اسماء التلاميذ'!F$37","v":"سعد حميد خلف"},{"$f":"'اسماء التلاميذ'!D52","v":0},null,null,null,null,null,null,null,null,null,null,null,null,null,null,null,{"$f":"IFERROR(ROUND((#REF!),0),\"غ\")","v":"غ"},{"$f":"IFERROR(ROUND((#REF!),0),\"غ\")","v":"غ"},{"$f":"IFERROR(ROUND((#REF!),0),\"غ\")","v":"غ"},{"$f":"IFERROR(ROUND((#REF!),0),\"غ\")","v":"غ"},null,{"$f":"IFERROR(ROUND((#REF!),0),\"غ\")","v":"غ"},{"$f":"IFERROR(ROUND((#REF!),0),\"غ\")","v":"غ"}]

{"sheet":"شهادات دور ثاني","index":1,"n_rows":21,"n_cols":20,"rows_kept":21,"cut":false,"hidden":false,"merged":[[8,13,9,13],[19,3,19,4],[19,7,19,8],[20,1,20,5],[20,11,20,13],[8,7,10,7],[8,8,10,8],[8,9,10,9],[8,10,10,10],[8,11,10,11],[8,12,10,12],[8,5,10,5],[8,0,10,0],[8,1,10,1],[8,2,10,2],[8,3,10,3],[8,4,10,4],[6,10,6,11],[3,4,3,9],[4,0,4,3],[4,4,4,9],[4,10,4,11],[5,4,5,9],[5,0,5,3]]}
[null,1,{"$f":"MAX('درجات شهادات (2)'!A:A)","v":33}]
[null,22]
[]
[null,null,null,null,"  بطاقة  درجات"]
["إدارة",null,null,null,"  السنة الدراسية",null,null,null,null,null,null,null,"التسلسل",{"$f":"IFERROR(VLOOKUP($B$2,DATA,1),\"\")","v":22}]
[{"$f":"IFERROR(VLOOKUP($B$2,DATA,20),\"\")","v":0},null,null,null,{"$f":"IFERROR(VLOOKUP($B$2,DATA,23),\"\")","v":"2021 - 2022"},null,null,null,null,null,null,null,"رقم القبول",{"$f":"IFERROR(VLOOKUP($B$2,DATA,2),\"\")","v":0}]
[null,null,null,null,null,"الاسم",{"$f":"IFERROR(VLOOKUP($B$2,wwlad,3),\"\")","v":0},null,null,null,null,null,"الصف",{"$f":"IFERROR(VLOOKUP($B$2,DATA,24),\"\")","v":"الأول"}]
["الجنس",null,null,null,null,null,null,null,null,null,null,null,"الشعبة",{"$f":"IFERROR(VLOOKUP($B$2,DATA,25),\"\")","v":"أ"}]
["المادة الدراسية",{"$f":"'اسماء التلاميذ'!G7","v":"تشرين الأول"},{"$f":"'اسماء التلاميذ'!G8","v":"تشرين الثاني"},{"$f":"'اسماء التلاميذ'!G9","v":"كانون الأول"},"معدل النصف الأول","امتحان نصف السنة",null,"شباط","اذار ","نيسان","معدل النصف الثاني","معدل السعي السنوي","الامتحان النهائي","الملاحظات ",null,{"$f":"COUNTIF(F12:F19,\"<5\")","v":0},null,null,{"$f":"COUNTIF(M12:M19,\"<5\")","v":1}]
[null,null,null,null,null,null,null,null,null,null,null,null,null,null,null,null,0,"مبارك النجاح",0,"مبارك النجاح"]
[null,null,null,null,null,null,null,null,null,null,null,null,null,null,null,null,1,"مكمل",1,"مكمل"]
["التربية الإسلامية",null,null,null,null,null,null,null,null,null,null,null,10,{"$f":"IFERROR(VLOOKUP($B$2,DATA,21),\"\")","v":0},null,null,3,"راسب",3,"راسب"]
["اللغة العربية",null,null,null,null,null,null,null,null,null,null,null,10,"مدير المدرسة"]
["الرياضيات",null,null,null,null,null,null,null,null,null,null,null,10]
["العلوم",null,null,null,null,null,null,null,null,null,null,null,10]
["الإنكليزي",null,null,null,null,null,null,null,null,null,null,null,10,{"$f":"IFERROR(VLOOKUP($B$2,DATA,22),\"\")","v":0}]
["الفنية والنشيد",null,null,null,null,null,null,null,null,null,null,null,10,"مرشد الصف"]
["التربية الرياضية",null,null,null,null,null,null,null,null,null,null,null,10]
[null,null,null,null,null,null,null,null,null,null,null,null,0]
["النتيجة",{"$f":"VLOOKUP($B$2,wwlad,28)","v":"ناجح"},null,"المجموع",null,{"$f":"SUM(F12:F19)","v":0},null,"النتيجة",null,{"$f":"IFERROR(VLOOKUP($B$2,DATA,29),\"\")","v":"ناجح"},null,"المجموع",{"$f":"IFERROR(VLOOKUP($B$2,DATA,30),\"\")","v":52}]
[null,"توقيع ولي امر الطالب",null,null,null,null,null,null,null,null,null,"توقيع ولي امر الطالب"]

{"sheet":"رياضة دور ثاني","index":2,"n_rows":42,"n_cols":27,"rows_kept":42,"cut":false,"hidden":false,"merged":[[41,12,41,14],[0,5,0,10],[36,11,36,14],[37,0,37,2],[37,3,37,4],[37,5,37,6],[37,7,37,8],[37,9,37,10],[37,11,37,12],[37,13,37,14],[3,0,3,2],[4,4,5,4],[4,5,5,5],[4,11,4,14],[5,12,5,14],[38,0,38,1],[39,0,39,1],[40,12,40,14],[4,8,5,8],[4,9,5,9],[4,10,5,10],[4,0,5,0],[4,1,5,1],[4,2,5,3],[4,15,5,15],[0,0,0,2],[1,0,1,2],[2,0,2,2],[4,6,5,6],[4,7,5,7]]}
["جمهورية العراق",null,null,null,null,"قائمة درجات امتحان الدور الثاني",null,null,null,null,null,"الصف/ ",{"$f":"'اسماء التلاميذ'!F2","v":"الأول"}]
["وزارة التربية",null,null,null,null,"        للعام الدراسي",null,null,null,null,null,"الشعبة/ ",{"$f":"'اسماء التلاميذ'!F3","v":"أ"},null,null,null,null,null,null,null,null,null,null,null,null,null,"قائمة امتحان نصف السنة"]
["إدارة",null,null,null,null,null,{"$f":"'اسماء التلاميذ'!F4","v":"2021 - 2022"},null,null,null,null,"المادة/ ","التربية الرياضية"]
[{"$f":"'اسماء التلاميذ'!B2","v":0},null,null,null,null,null,null,null,null,null,null,"اليوم والتاريخ/"]
["تسلسل","رقم القبول","الاسم الثلاثي",null,"الحضوردرجتان 2","القيافة درجتان 2","النشاطات الرياضية درجتان ","تمرين حركي درجة 1","تمرين حركي درجة 1","لعبة صغيرة درجة 1","لياقة بدجنية سباق درجة 1","الدرجة رقما وكتابة",null,null,null,"النتيجة"]
[null,null,null,null,null,null,null,null,null,null,null,"المجموع الكلي","كتابة"]
[4,"نوري"]
[5,"احمد"]
[6]
[7]
[8]
[9]
[10]
[11]
[12]
[13]
[14]
[15]
[16]
[17]
[18]
[19]
[20]
[21]
[22]
[23]
[24]
[25]
[26]
[27]
[28]
[29]
[30]
[31]
[32]
[33]
[]
["المشتركون",null,null,"الممتحنون",null,"الناجحون",null,"الراسبون",null,"الغياب",null,"النسبة %",null,"النسبة الكلية%",null,{"$f":"IFERROR(O39*100/N39,\"\")","v":""}]
[{"$f":"'الرئيسية '!I5","v":"ذكور"},null,{"$f":"'الرئيسية '!I7","v":"اناث"},{"$f":"'الرئيسية '!I5","v":"ذكور"},{"$f":"'الرئيسية '!I7","v":"اناث"},{"$f":"'الرئيسية '!I5","v":"ذكور"},{"$f":"'الرئيسية '!I7","v":"اناث"},{"$f":"'الرئيسية '!I5","v":"ذكور"},{"$f":"'الرئيسية '!I7","v":"اناث"},{"$f":"'الرئيسية '!I5","v":"ذكور"},{"$f":"'الرئيسية '!I7","v":"اناث"},{"$f":"'الرئيسية '!I5","v":"ذكور"},{"$f":"IFERROR(F40*100/D40,\"\")","v":""},{"$f":"D40+E40","v":0},{"$f":"F40+G40","v":0}]
[{"$f":"COUNT(BB7:BB36)+COUNTIF(BB7:BB36,\"ذكر\")","v":0},null,{"$f":"COUNT(BB7:BB36)+COUNTIF(BB7:BB36,\"انثى\")","v":0},{"$f":"COUNT(P7:P36)+COUNTIF(P7:P36,\"ناجح\")+COUNTIF(P7:P36,\"راسب\")-COUNTIF(P7:P36,غائب)","v":0},{"$f":"COUNT(P7:P36)+COUNTIF(P7:P36,\"ناجحة\")+COUNTIF(P7:P36,\"راسبة\")-COUNTIF(P7:P36,غائبة)","v":0},{"$f":"COUNT(P7:P36)+COUNTIF(P7:P36,\"ناجح\")","v":0},{"$f":"COUNT(P7:P36)+COUNTIF(P7:P36,\"ناجحة\")","v":0},{"$f":"COUNT(P7:P36)+COUNTIF(P7:P36,\"راسب\")","v":0},{"$f":"COUNT(P7:P36)+COUNTIF(P7:P36,\"راسبة\")","v":0},{"$f":"COUNT(P7:P36)+COUNTIF(P7:P36,\"غائب\")","v":0},{"$f":"COUNT(P7:P36)+COUNTIF(P7:P36,\"غائبة\")","v":0},{"$f":"'الرئيسية '!I7","v":"اناث"},{"$f":"IFERROR(G40*100/E40,\"\")","v":""}]
[null,null,{"$f":"'اسماء التلاميذ'!F13","v":0},null,null,null,null,null,null,null,null,null,{"$f":"'اسماء التلاميذ'!B3","v":0}]
[null,null,"معلم المادة",null,null,null,null,null,null,null,null,null,"مدير المدرسة"]

{"sheet":"فنية دور ثاني","index":3,"n_rows":42,"n_cols":27,"rows_kept":42,"cut":false,"hidden":false,"merged":[[38,0,38,1],[39,0,39,1],[40,12,40,14],[41,12,41,14],[4,9,4,14],[4,15,5,15],[5,7,5,8],[5,10,5,14],[37,0,37,2],[37,3,37,4],[37,5,37,6],[37,7,37,8],[37,9,37,10],[37,11,37,12],[4,0,5,0],[4,1,5,1],[4,4,4,5],[4,6,4,8],[37,13,37,14],[4,2,5,3],[3,12,3,15],[0,4,0,8],[3,0,3,3],[0,0,0,3],[1,0,1,3],[2,0,2,3],[2,5,2,7]]}
["جمهورية العراق",null,null,null,"قائمة امتحان الدور الثاني",null,null,null,null,null,"الصف:",{"$f":"'اسماء التلاميذ'!F2","v":"الأول"}]
["وزارة التربية",null,null,null,null,null,"للعام الدراسي   ",null,null,null,"الشعبة:",{"$f":"'اسماء التلاميذ'!F3","v":"أ"},null,null,null,null,null,null,null,null,null,null,null,null,null,null,"قائمة امتحان نصف السنة"]
["إدارة",null,null,null,null,{"$f":"'اسماء التلاميذ'!F4","v":"2021 - 2022"},null,null,null,null,"المادة:","التربية الفنية"]
[{"$f":"'اسماء التلاميذ'!B2","v":0},null,null,null,null,null,null,null,null,null,"اليوم والتاريخ:"]
["ت","رقم القيد","اسم التلميذ",null,"فنية (7)",null,"نشيد (3)",null,null,"الدرجة رقما وكتابة",null,null,null,null,null,"النتيجة"]
[null,null,null,null,"رقما","كتابة","رقما","كتابة",null,"رقما","كتابة"]
[4,"نوري",null,null,null,null,null,null,null,null,null,null,null,null,null,null,null,null,null,null,{"$f":"IFERROR(ROUND((J7),0),\"غ\")","v":0}]
[5,"احمد",null,null,null,null,null,null,null,null,null,null,null,null,null,null,null,null,null,null,{"$f":"IFERROR(ROUND((J8),0),\"غ\")","v":0}]
[6,null,null,null,null,null,null,null,null,null,null,null,null,null,null,null,null,null,null,null,0]
[7,null,null,null,null,null,null,null,null,null,null,null,null,null,null,null,null,null,null,null,0]
[8,null,null,null,null,null,null,null,null,null,null,null,null,null,null,null,null,null,null,null,0]
[9,null,null,null,null,null,null,null,null,null,null,null,null,null,null,null,null,null,null,null,0]
[10,null,null,null,null,null,null,null,null,null,null,null,null,null,null,null,null,null,null,null,0]
[11,null,null,null,null,null,null,null,null,null,null,null,null,null,null,null,null,null,null,null,0]
[12,null,null,null,null,null,null,null,null,null,null,null,null,null,null,null,null,null,null,null,0]
[13,null,null,null,null,null,null,null,null,null,null,null,null,null,null,null,null,null,null,null,0]
[14,null,null,null,null,null,null,null,null,null,null,null,null,null,null,null,null,null,null,null,0]
[15,null,null,null,null,null,null,null,null,null,null,null,null,null,null,null,null,null,null,null,0]
[16,null,null,null,null,null,null,null,null,null,null,null,null,null,null,null,null,null,null,null,0]
[17,null,null,null,null,null,null,null,null,null,null,null,null,null,null,null,null,null,null,null,0]
[18,null,null,null,null,null,null,null,null,null,null,null,null,null,null,null,null,null,null,null,0]
[19,null,null,null,null,null,null,null,null,null,null,null,null,null,null,null,null,null,null,null,0]
[20,null,null,null,null,null,null,null,null,null,null,null,null,null,null,null,null,null,null,null,0]
[21,null,null,null,null,null,null,null,null,null,null,null,null,null,null,null,null,null,null,null,0]
[22,null,null,null,null,null,null,null,null,null,null,null,null,null,null,null,null,null,null,null,0]
[23,null,null,null,null,null,null,null,null,null,null,null,null,null,null,null,null,null,null,null,0]
[24,null,null,null,null,null,null,null,null,null,null,null,null,null,null,null,null,null,null,null,0]
[25,null,null,null,null,null,null,null,null,null,null,null,null,null,null,null,null,null,null,null,0]
[26,null,null,null,null,null,null,null,null,null,null,null,null,null,null,null,null,null,null,null,0]
[27,null,null,null,null,null,null,null,null,null,null,null,null,null,null,null,null,null,null,null,0]
[28,null,null,null,null,null,null,null,null,null,null,null,null,null,null,null,null,null,null,null,0]
[29,null,null,null,null,null,null,null,null,null,null,null,null,null,null,null,null,null,null,null,0]
[30,null,null,null,null,null,null,null,null,null,null,null,null,null,null,null,null,null,null,null,0]
[31,null,null,null,null,null,null,null,null,null,null,null,null,null,null,null,null,null,null,null,0]
[32,null,null,null,null,null,null,null,null,null,null,null,null,null,null,null,null,null,null,null,0]
[33,null,null,null,null,null,null,null,null,null,null,null,null,null,null,null,null,null,null,null,0]
[]
["المشتركون",null,null,"الممتحنون",null,"الناجحون",null,"الراسبون",null,"الغياب",null,"النسبة %",null,"النسبة الكلية%",null,{"$f":"IFERROR(O39*100/N39,\"\")","v":""}]
[{"$f":"'الرئيسية '!I5","v":"ذكور"},null,{"$f":"'الرئيسية '!I7","v":"اناث"},{"$f":"'الرئيسية '!I5","v":"ذكور"},{"$f":"'الرئيسية '!I7","v":"اناث"},{"$f":"'الرئيسية '!I5","v":"ذكور"},{"$f":"'الرئيسية '!I7","v":"اناث"},{"$f":"'الرئيسية '!I5","v":"ذكور"},{"$f":"'الرئيسية '!I7","v":"اناث"},{"$f":"'الرئيسية '!I5","v":"ذكور"},{"$f":"'الرئيسية '!I7","v":"اناث"},{"$f":"'الرئيسية '!I5","v":"ذكور"},{"$f":"IFERROR(F40*100/D40,\"\")","v":""},{"$f":"D40+E40","v":0},{"$f":"F40+G40","v":0}]
[{"$f":"COUNT(BB7:BB36)+COUNTIF(BB7:BB36,\"ذكر\")","v":0},null,{"$f":"COUNT(BB7:BB36)+COUNTIF(BB7:BB36,\"انثى\")","v":0},{"$f":"COUNT(P7:P36)+COUNTIF(P7:P36,\"ناجح\")+COUNTIF(P7:P36,\"راسب\")-COUNTIF(P7:P36,غائب)","v":0},{"$f":"COUNT(P7:P36)+COUNTIF(P7:P36,\"ناجحة\")+COUNTIF(P7:P36,\"راسبة\")-COUNTIF(P7:P36,غائبة)","v":0},{"$f":"COUNT(P7:P36)+COUNTIF(P7:P36,\"ناجح\")","v":0},{"$f":"COUNT(P7:P36)+COUNTIF(P7:P36,\"ناجحة\")","v":0},{"$f":"COUNT(P7:P36)+COUNTIF(P7:P36,\"راسب\")","v":0},{"$f":"COUNT(P7:P36)+COUNTIF(P7:P36,\"راسبة\")","v":0},{"$f":"COUNT(P7:P36)+COUNTIF(P7:P36,\"غائب\")","v":0},{"$f":"COUNT(P7:P36)+COUNTIF(P7:P36,\"غائبة\")","v":0},{"$f":"'الرئيسية '!I7","v":"اناث"},{"$f":"IFERROR(G40*100/E40,\"\")","v":""}]
[null,null,{"$f":"'اسماء التلاميذ'!F12","v":0},null,null,null,null,null,null,null,null,null,{"$f":"'اسماء التلاميذ'!B3","v":0}]
[null,null,"معلم المادة",null,null,null,null,null,null,null,null,null,"مدير المدرسة"]

{"sheet":"انكليزي دور ثاني","index":4,"n_rows":42,"n_cols":25,"rows_kept":42,"cut":false,"hidden":false,"merged":[[38,0,38,1],[39,0,39,1],[40,12,40,14],[37,0,37,2],[41,12,41,14],[36,12,36,13],[37,3,37,4],[37,5,37,6],[37,7,37,8],[37,9,37,10],[37,11,37,12],[37,13,37,14],[2,4,2,7],[0,0,0,2],[0,5,0,10],[1,0,1,2],[1,5,1,10],[2,0,2,2],[4,0,5,0],[4,1,5,1],[4,2,5,3],[5,9,5,11],[3,0,3,2],[4,4,4,8],[4,9,4,15],[5,12,5,14]]}
["جمهورية العراق",null,null,null,null,"    قائمة درجات امتحان دور ثاني",null,null,null,null,null,"الصف/ ",{"$f":"'اسماء التلاميذ'!F2","v":"الأول"}]
["وزارة التربية",null,null,null,null,"             للعام الدراسي",null,null,null,null,null,"الشعبة/ ",{"$f":"'اسماء التلاميذ'!F3","v":"أ"},null,null,null,null,null,null,null,null,null,"قائمة امتحان نصف السنة"]
["إدارة",null,null,null,{"$f":"'اسماء التلاميذ'!F4","v":"2021 - 2022"},null,null,null,null,null,null,"المادة/ ","English"]
[{"$f":"'اسماء التلاميذ'!B2","v":0},null,null,null,null,null,null,null,null,null,null,"اليوم والتاريخ/"]
["Sequence","Admission number","Triple student name",null,"Oral Test"]
[null,null,null,null,"   LISTENING COMPREHENSION 2","SPEAKING PRONUNCIITO 2","PRC READING 2","PRC WRITING 2","PARTICIPATION 2","The final grade",null,null,"Writing",null,null,"Student's condition"]
[4,"نوري",null,null,null,null,null,null,null,null,null,null,null,null,null,null,null,null,null,null,null,null,null,null,{"$f":"IFERROR(ROUND((#REF!),0),\"غ\")","v":"غ"}]
[5,"احمد",null,null,null,null,null,null,null,null,null,null,null,null,null,null,null,null,null,null,null,null,null,null,{"$f":"IFERROR(ROUND((#REF!),0),\"غ\")","v":"غ"}]
[6,null,null,null,null,null,null,null,null,null,null,null,null,null,null,null,null,null,null,null,null,null,null,null,{"$f":"IFERROR(ROUND((#REF!),0),\"غ\")","v":"غ"}]
[7,null,null,null,null,null,null,null,null,null,null,null,null,null,null,null,null,null,null,null,null,null,null,null,{"$f":"IFERROR(ROUND((#REF!),0),\"غ\")","v":"غ"}]
[8,null,null,null,null,null,null,null,null,null,null,null,null,null,null,null,null,null,null,null,null,null,null,null,{"$f":"IFERROR(ROUND((#REF!),0),\"غ\")","v":"غ"}]
[9,null,null,null,null,null,null,null,null,null,null,null,null,null,null,null,null,null,null,null,null,null,null,null,{"$f":"IFERROR(ROUND((#REF!),0),\"غ\")","v":"غ"}]
[10,null,null,null,null,null,null,null,null,null,null,null,null,null,null,null,null,null,null,null,null,null,null,null,{"$f":"IFERROR(ROUND((#REF!),0),\"غ\")","v":"غ"}]
[11,null,null,null,null,null,null,null,null,null,null,null,null,null,null,null,null,null,null,null,null,null,null,null,{"$f":"IFERROR(ROUND((#REF!),0),\"غ\")","v":"غ"}]
[12,null,null,null,null,null,null,null,null,null,null,null,null,null,null,null,null,null,null,null,null,null,null,null,{"$f":"IFERROR(ROUND((#REF!),0),\"غ\")","v":"غ"}]
[13,null,null,null,null,null,null,null,null,null,null,null,null,null,null,null,null,null,null,null,null,null,null,null,{"$f":"IFERROR(ROUND((#REF!),0),\"غ\")","v":"غ"}]
[14,null,null,null,null,null,null,null,null,null,null,null,null,null,null,null,null,null,null,null,null,null,null,null,{"$f":"IFERROR(ROUND((#REF!),0),\"غ\")","v":"غ"}]
[15,null,null,null,null,null,null,null,null,null,null,null,null,null,null,null,null,null,null,null,null,null,null,null,{"$f":"IFERROR(ROUND((#REF!),0),\"غ\")","v":"غ"}]
[16,null,null,null,null,null,null,null,null,null,null,null,null,null,null,null,null,null,null,null,null,null,null,null,{"$f":"IFERROR(ROUND((#REF!),0),\"غ\")","v":"غ"}]
[17,null,null,null,null,null,null,null,null,null,null,null,null,null,null,null,null,null,null,null,null,null,null,null,{"$f":"IFERROR(ROUND((#REF!),0),\"غ\")","v":"غ"}]
[18,null,null,null,null,null,null,null,null,null,null,null,null,null,null,null,null,null,null,null,null,null,null,null,{"$f":"IFERROR(ROUND((#REF!),0),\"غ\")","v":"غ"}]
[19,null,null,null,null,null,null,null,null,null,null,null,null,null,null,null,null,null,null,null,null,null,null,null,{"$f":"IFERROR(ROUND((#REF!),0),\"غ\")","v":"غ"}]
[20,null,null,null,null,null,null,null,null,null,null,null,null,null,null,null,null,null,null,null,null,null,null,null,{"$f":"IFERROR(ROUND((#REF!),0),\"غ\")","v":"غ"}]
[21,null,null,null,null,null,null,null,null,null,null,null,null,null,null,null,null,null,null,null,null,null,null,null,{"$f":"IFERROR(ROUND((#REF!),0),\"غ\")","v":"غ"}]
[22,null,null,null,null,null,null,null,null,null,null,null,null,null,null,null,null,null,null,null,null,null,null,null,{"$f":"IFERROR(ROUND((#REF!),0),\"غ\")","v":"غ"}]
[23,null,null,null,null,null,null,null,null,null,null,null,null,null,null,null,null,null,null,null,null,null,null,null,{"$f":"IFERROR(ROUND((#REF!),0),\"غ\")","v":"غ"}]
[24,null,null,null,null,null,null,null,null,null,null,null,null,null,null,null,null,null,null,null,null,null,null,null,{"$f":"IFERROR(ROUND((#REF!),0),\"غ\")","v":"غ"}]
[25,null,null,null,null,null,null,null,null,null,null,null,null,null,null,null,null,null,null,null,null,null,null,null,{"$f":"IFERROR(ROUND((#REF!),0),\"غ\")","v":"غ"}]
[26,null,null,null,null,null,null,null,null,null,null,null,null,null,null,null,null,null,null,null,null,null,null,null,{"$f":"IFERROR(ROUND((#REF!),0),\"غ\")","v":"غ"}]
[27,null,null,null,null,null,null,null,null,null,null,null,null,null,null,null,null,null,null,null,null,null,null,null,{"$f":"IFERROR(ROUND((#REF!),0),\"غ\")","v":"غ"}]
[28,null,null,null,null,null,null,null,null,null,null,null,null,null,null,null,null,null,null,null,null,null,null,null,{"$f":"IFERROR(ROUND((#REF!),0),\"غ\")","v":"غ"}]
[29,null,null,null,null,null,null,null,null,null,null,null,null,null,null,null,null,null,null,null,null,null,null,null,{"$f":"IFERROR(ROUND((#REF!),0),\"غ\")","v":"غ"}]
[30,null,null,null,null,null,null,null,null,null,null,null,null,null,null,null,null,null,null,null,null,null,null,null,{"$f":"IFERROR(ROUND((#REF!),0),\"غ\")","v":"غ"}]
[31,null,null,null,null,null,null,null,null,null,null,null,null,null,null,null,null,null,null,null,null,null,null,null,{"$f":"IFERROR(ROUND((#REF!),0),\"غ\")","v":"غ"}]
[32,null,null,null,null,null,null,null,null,null,null,null,null,null,null,null,null,null,null,null,null,null,null,null,{"$f":"IFERROR(ROUND((#REF!),0),\"غ\")","v":"غ"}]
[33,null,null,null,null,null,null,null,null,null,null,null,null,null,null,null,null,null,null,null,null,null,null,null,{"$f":"IFERROR(ROUND((#REF!),0),\"غ\")","v":"غ"}]
[]
["المشتركون",null,null,"الممتحنون",null,"الناجحون",null,"الراسبون",null,"الغياب",null,"النسبة %",null,"النسبة الكلية%",null,{"$f":"IFERROR(O39*100/N39,\"\")","v":""}]
[{"$f":"'الرئيسية '!I5","v":"ذكور"},null,{"$f":"'الرئيسية '!I7","v":"اناث"},{"$f":"'الرئيسية '!I5","v":"ذكور"},{"$f":"'الرئيسية '!I7","v":"اناث"},{"$f":"'الرئيسية '!I5","v":"ذكور"},{"$f":"'الرئيسية '!I7","v":"اناث"},{"$f":"'الرئيسية '!I5","v":"ذكور"},{"$f":"'الرئيسية '!I7","v":"اناث"},{"$f":"'الرئيسية '!I5","v":"ذكور"},{"$f":"'الرئيسية '!I7","v":"اناث"},{"$f":"'الرئيسية '!I5","v":"ذكور"},{"$f":"IFERROR(F40*100/D40,\"\")","v":""},{"$f":"D40+E40","v":0},{"$f":"F40+G40","v":0}]
[{"$f":"COUNT(BB7:BB36)+COUNTIF(BB7:BB36,\"ذكر\")","v":0},null,{"$f":"COUNT(BB7:BB36)+COUNTIF(BB7:BB36,\"انثى\")","v":0},{"$f":"COUNT(P7:P36)+COUNTIF(P7:P36,\"ناجح\")+COUNTIF(P7:P36,\"راسب\")-COUNTIF(P7:P36,غائب)","v":0},{"$f":"COUNT(P7:P36)+COUNTIF(P7:P36,\"ناجحة\")+COUNTIF(P7:P36,\"راسبة\")-COUNTIF(P7:P36,غائبة)","v":0},{"$f":"COUNT(P7:P36)+COUNTIF(P7:P36,\"ناجح\")","v":0},{"$f":"COUNT(P7:P36)+COUNTIF(P7:P36,\"ناجحة\")","v":0},{"$f":"COUNT(P7:P36)+COUNTIF(P7:P36,\"راسب\")","v":0},{"$f":"COUNT(P7:P36)+COUNTIF(P7:P36,\"راسبة\")","v":0},{"$f":"COUNT(P7:P36)+COUNTIF(P7:P36,\"غائب\")","v":0},{"$f":"COUNT(P7:P36)+COUNTIF(P7:P36,\"غائبة\")","v":0},{"$f":"'الرئيسية '!I7","v":"اناث"},{"$f":"IFERROR(G40*100/E40,\"\")","v":""}]
[null,null,{"$f":"'اسماء التلاميذ'!F10","v":0},null,null,null,null,null,null,null,null,null,{"$f":"'اسماء التلاميذ'!B3","v":0}]
[null,null,"معلم المادة",null,null,null,null,null,null,null,null,null,"مدير المدرسة"]

{"sheet":"رياضيات دور ثاني","index":5,"n_rows":42,"n_cols":23,"rows_kept":42,"cut":false,"hidden":false,"merged":[[38,0,38,1],[39,0,39,1],[40,12,40,14],[41,12,41,14],[37,0,37,2],[37,3,37,4],[37,5,37,6],[37,7,37,8],[37,9,37,10],[37,11,37,12],[37,13,37,14],[3,0,3,3],[4,2,5,4],[5,6,5,7],[0,0,0,3],[1,0,1,3],[1,5,1,7],[2,0,2,3],[2,5,2,7],[4,0,5,0],[4,1,5,1],[4,5,4,7],[4,8,5,13],[4,14,5,15],[0,4,0,8],[0,10,0,11],[1,10,1,11],[2,10,2,11],[3,10,3,12],[3,13,3,15]]}
["جمهورية العراق",null,null,null,"قائمة درجات الدور الثاني",null,null,null,null,null,"الــصـــف:",null,{"$f":"'اسماء التلاميذ'!F2","v":"الأول"}]
["وزارة التربية",null,null,null,null,"للعام الدراسي",null,null,null,null,"الـــشعـبة:",null,{"$f":"'اسماء التلاميذ'!F3","v":"أ"},null,null,null,null,null,null,null,"n",null,"قائمة امتحان نصف السنة"]
["إدارة",null,null,null,null,{"$f":"'اسماء التلاميذ'!F4","v":"2021 - 2022"},null,null,null,null,"الـــمــادة:",null,"رياضيات"]
[{"$f":"'اسماء التلاميذ'!B2","v":0},null,null,null,null,null,null,null,null,null,"الـيوم والتـاريخ:"]
["ت","رقم القيد","الاسم الثلاثي",null,null,"الدرجة رقما وكتابة",null,null,"الملاحظات",null,null,null,null,null,"النتيجة"]
[null,null,null,null,null,"رقما","كتابة"]
[4,"نوري"]
[5,"احمد"]
[6]
[7]
[8]
[9]
[10]
[11]
[12]
[13]
[14]
[15]
[16]
[17]
[18]
[19]
[20]
[21]
[22]
[23]
[24]
[25]
[26]
[27]
[28]
[29]
[30]
[31]
[32]
[33]
[]
["المشتركون",null,null,"الممتحنون",null,"الناجحون",null,"الراسبون",null,"الغياب",null,"النسبة %",null,"النسبة الكلية%",null,{"$f":"IFERROR(O39*100/N39,\"\")","v":""}]
[{"$f":"'الرئيسية '!I5","v":"ذكور"},null,{"$f":"'الرئيسية '!I7","v":"اناث"},{"$f":"'الرئيسية '!I5","v":"ذكور"},{"$f":"'الرئيسية '!I7","v":"اناث"},{"$f":"'الرئيسية '!I5","v":"ذكور"},{"$f":"'الرئيسية '!I7","v":"اناث"},{"$f":"'الرئيسية '!I5","v":"ذكور"},{"$f":"'الرئيسية '!I7","v":"اناث"},{"$f":"'الرئيسية '!I5","v":"ذكور"},{"$f":"'الرئيسية '!I7","v":"اناث"},{"$f":"'الرئيسية '!I5","v":"ذكور"},{"$f":"IFERROR(F40*100/D40,\"\")","v":""},{"$f":"D40+E40","v":0},{"$f":"F40+G40","v":0}]
[{"$f":"COUNT(BB7:BB36)+COUNTIF(BB7:BB36,\"ذكر\")","v":0},null,{"$f":"COUNT(BB7:BB36)+COUNTIF(BB7:BB36,\"انثى\")","v":0},{"$f":"COUNT(P7:P36)+COUNTIF(P7:P36,\"ناجح\")+COUNTIF(P7:P36,\"راسب\")-COUNTIF(P7:P36,غائب)","v":0},{"$f":"COUNT(P7:P36)+COUNTIF(P7:P36,\"ناجحة\")+COUNTIF(P7:P36,\"راسبة\")-COUNTIF(P7:P36,غائبة)","v":0},{"$f":"COUNT(P7:P36)+COUNTIF(P7:P36,\"ناجح\")","v":0},{"$f":"COUNT(P7:P36)+COUNTIF(P7:P36,\"ناجحة\")","v":0},{"$f":"COUNT(P7:P36)+COUNTIF(P7:P36,\"راسب\")","v":0},{"$f":"COUNT(P7:P36)+COUNTIF(P7:P36,\"راسبة\")","v":0},{"$f":"COUNT(P7:P36)+COUNTIF(P7:P36,\"غائب\")","v":0},{"$f":"COUNT(P7:P36)+COUNTIF(P7:P36,\"غائبة\")","v":0},{"$f":"'الرئيسية '!I7","v":"اناث"},{"$f":"IFERROR(G40*100/E40,\"\")","v":""}]
[null,null,{"$f":"'اسماء التلاميذ'!F9","v":0},null,null,null,null,null,null,null,null,null,{"$f":"'اسماء التلاميذ'!B3","v":0}]
[null,null,"معلم المادة",null,null,null,null,null,null,null,null,null,"مدير المدرسة"]

{"sheet":"علوم دور ثاني","index":6,"n_rows":42,"n_cols":23,"rows_kept":42,"cut":false,"hidden":false,"merged":[[38,0,38,1],[39,0,39,1],[40,12,40,14],[41,12,41,14],[37,0,37,2],[37,3,37,4],[37,5,37,6],[37,7,37,8],[37,9,37,10],[37,11,37,12],[37,13,37,14],[3,0,3,3],[4,2,5,4],[5,6,5,7],[0,0,0,3],[1,0,1,3],[1,5,1,7],[2,0,2,3],[2,5,2,7],[0,4,0,8],[4,0,5,0],[4,1,5,1],[4,5,4,7],[4,14,5,15],[4,8,5,13],[0,10,0,11],[1,10,1,11],[2,10,2,11],[3,10,3,12],[3,13,3,15]]}
["جمهورية العراق",null,null,null,"قائمة درجات الدورالثاني",null,null,null,null,null,"الــصــف:",null,{"$f":"'اسماء التلاميذ'!F2","v":"الأول"}]
["وزارة التربية",null,null,null,null,"للعام الدراسي",null,null,null,null,"الــشـعبة:",null,{"$f":"'اسماء التلاميذ'!F3","v":"أ"},null,null,null,null,null,null,null,"n",null,"قائمة امتحان نصف السنة"]
["إدارة",null,null,null,null,{"$f":"'اسماء التلاميذ'!F4","v":"2021 - 2022"},null,null,null,null,"الـمــادة:",null,"علوم"]
[{"$f":"'اسماء التلاميذ'!B2","v":0},null,null,null,null,null,null,null,null,null,"اليوم والتاريخ:"]
["ت","رقم القيد","الاسم الثلاثي",null,null,"الدرجة رقما وكتابة",null,null,"الملاحظات",null,null,null,null,null,"النتيجة"]
[null,null,null,null,null,"رقما","كتابة"]
[4,"نوري"]
[5,"احمد"]
[6]
[7]
[8]
[9]
[10]
[11]
[12]
[13]
[14]
[15]
[16]
[17]
[18]
[19]
[20]
[21]
[22]
[23]
[24]
[25]
[26]
[27]
[28]
[29]
[30]
[31]
[32]
[33]
[]
["المشتركون",null,null,"الممتحنون",null,"الناجحون",null,"الراسبون",null,"الغياب",null,"النسبة %",null,"النسبة الكلية%",null,{"$f":"IFERROR(O39*100/N39,\"\")","v":""}]
[{"$f":"'الرئيسية '!I5","v":"ذكور"},null,{"$f":"'الرئيسية '!I7","v":"اناث"},{"$f":"'الرئيسية '!I5","v":"ذكور"},{"$f":"'الرئيسية '!I7","v":"اناث"},{"$f":"'الرئيسية '!I5","v":"ذكور"},{"$f":"'الرئيسية '!I7","v":"اناث"},{"$f":"'الرئيسية '!I5","v":"ذكور"},{"$f":"'الرئيسية '!I7","v":"اناث"},{"$f":"'الرئيسية '!I5","v":"ذكور"},{"$f":"'الرئيسية '!I7","v":"اناث"},{"$f":"'الرئيسية '!I5","v":"ذكور"},{"$f":"IFERROR(F40*100/D40,\"\")","v":""},{"$f":"D40+E40","v":0},{"$f":"F40+G40","v":0}]
[{"$f":"COUNT(BB7:BB36)+COUNTIF(BB7:BB36,\"ذكر\")","v":0},null,{"$f":"COUNT(BB7:BB36)+COUNTIF(BB7:BB36,\"انثى\")","v":0},{"$f":"COUNT(P7:P36)+COUNTIF(P7:P36,\"ناجح\")+COUNTIF(P7:P36,\"راسب\")-COUNTIF(P7:P36,غائب)","v":0},{"$f":"COUNT(P7:P36)+COUNTIF(P7:P36,\"ناجحة\")+COUNTIF(P7:P36,\"راسبة\")-COUNTIF(P7:P36,غائبة)","v":0},{"$f":"COUNT(P7:P36)+COUNTIF(P7:P36,\"ناجح\")","v":0},{"$f":"COUNT(P7:P36)+COUNTIF(P7:P36,\"ناجحة\")","v":0},{"$f":"COUNT(P7:P36)+COUNTIF(P7:P36,\"راسب\")","v":0},{"$f":"COUNT(P7:P36)+COUNTIF(P7:P36,\"راسبة\")","v":0},{"$f":"COUNT(P7:P36)+COUNTIF(P7:P36,\"غائب\")","v":0},{"$f":"COUNT(P7:P36)+COUNTIF(P7:P36,\"غائبة\")","v":0},{"$f":"'الرئيسية '!I7","v":"اناث"},{"$f":"IFERROR(G40*100/E40,\"\")","v":""}]
[null,null,{"$f":"'اسماء التلاميذ'!F11","v":0},null,null,null,null,null,null,null,null,null,{"$f":"'اسماء التلاميذ'!B3","v":0}]
[null,null,"معلم المادة",null,null,null,null,null,null,null,null,null,"مدير المدرسة"]

{"sheet":"سجل وسط نهاية السنة (2)","index":7,"n_rows":42,"n_cols":17,"rows_kept":42,"cut":false,"hidden":false,"merged":[[0,12,0,13],[1,12,1,13],[37,10,37,11],[37,0,37,1],[37,2,37,3],[37,4,37,5],[37,6,37,7],[37,8,37,9],[3,0,3,2],[3,3,3,11],[4,0,5,0],[4,1,5,1],[4,4,5,4],[4,5,5,5],[4,6,5,6],[4,7,5,7],[4,15,5,15],[5,12,5,14],[37,12,37,13],[40,12,40,14],[41,12,41,14],[4,8,5,8],[4,9,5,9],[4,10,5,10],[4,11,4,14],[4,2,5,3],[0,0,0,2],[0,3,0,10],[1,0,1,2],[1,3,1,10],[2,0,2,2],[2,5,2,8]]}
["جمهورية العراق",null,null,"          الدرجات للصفوف الأولية",null,null,null,null,null,null,null,null,"الصف",null,{"$f":"'اسماء التلاميذ'!F2","v":"الأول"}]
["وزارة التربية",null,null,"(امتحان نهاية السنة)         ",null,null,null,null,null,null,null,null,"الشعبة",null,{"$f":"'اسماء التلاميذ'!F3","v":"أ"}]
["إدارة",null,null,null,null,"              للسنة الدراسية"]
[{"$f":"'اسماء التلاميذ'!B2","v":0},null,null,{"$f":"'اسماء التلاميذ'!F4","v":"2021 - 2022"}]
["ت","رقم القبول","الاسم الثلاثي",null,"التربية الإسلامية","اللغة العربية","الرياضيات","العلوم","الإنكليزي","الفنية والنشيد","التربية الرياضية","المجموع رقما وكتابة",null,null,null,"حالة التلميذ"]
[null,null,null,null,null,null,null,null,null,null,null,"رقما","كتابة"]
[4,"نوري",null,null,{"$f":"'اسلامية نهاية السنة'!L7","v":7},"2 5",{"$f":"'رياضيات نهاية السنة'!F7","v":7},{"$f":"'علوم نهاية السنة'!F7","v":6},{"$f":"'انكليزي نهاية السنة'!L7","v":7},{"$f":"'فنية نهاية السنة'!J7","v":9},{"$f":"'رياضة نهاية السنة'!L7","v":10},{"$f":"SUM(IFERROR(IF(SEARCH(\"\",D7:K7)>0,MID(D7:K7,3,10)+0),D7:K7))","v":51},{"$f":"IFERROR(IF(L7=\"\",\"\",IF(L7=0,\"\",n2t(L7))),\"\")","v":"إحدى وخـمـسونَ"},null,null,{"$f":"IF(COUNTIF(E7:K7,\"<>\")<7,\"\",IF(COUNTIF(E7:K7,\"0\")>=7,IF($BB7=\"انثى\",\"\",\"\"),IF(COUNTIF(E7:K7,\"<5\")+COUNTIF(E7:K7,\"0\")>=3,IF($BB7=\"انثى\",\"راسبة\",\"راسب\"),IF(COUNTIF(E7:K7,\"<5\")+COUNTIF(E7:K7,\"غ\")=2,IF($BB7=\"انثى\",\"مكملة بدرسين\",\"مكمل بدرسين\"),IF(COUNTIF(E7:K7,\"غ\")=7,IF($BB7=\"انثى\",\"غائبة\",\"غائب\"),IF(COUNTIF(E7:K7,\"<5\")+COUNTIF(E7:K7,\"غ\")>1,IF($BB7=\"انثى\",\"راسبة\",\"راسب\"),IF(COUNTIF(E7:K7,\"<5\")+COUNTIF(E7:K7,\"غ\")=1,IF($BB7=\"انثى\",\"مكملة بدرس\",\"مكمل بدرس\"),IF($BB7=\"انثى\",\"ناجحة\",\"ناجح\"))))))))","v":"ناجح"},{"$f":"IF(LEFT(P7,1)=\"ن\",\"ناجح\",\"\")&IF(LEFT(P7,1)=\"ر\",\"راسب\",\"\")&IF(LEFT(P7,1)=\"غ\",\"غائب\",\"\")","v":"ناجح"}]
[5,"احمد",null,null,{"$f":"'اسلامية نهاية السنة'!L8","v":6},{"$f":"'عربي نهاية السنة'!AE8","v":5},{"$f":"'رياضيات نهاية السنة'!F8","v":5},{"$f":"'علوم نهاية السنة'!F8","v":5},{"$f":"'انكليزي نهاية السنة'!L8","v":5},{"$f":"'فنية نهاية السنة'!J8","v":9},{"$f":"'رياضة نهاية السنة'!L8","v":10},{"$f":"SUM(IFERROR(IF(SEARCH(\"\",D8:K8)>0,MID(D8:K8,3,10)+0),D8:K8))","v":45},{"$f":"IFERROR(IF(L8=\"\",\"\",IF(L8=0,\"\",n2t(L8))),\"\")","v":"خـمـس وأربـعونَ"},null,null,{"$f":"IF(COUNTIF(E8:K8,\"<>\")<7,\"\",IF(COUNTIF(E8:K8,\"0\")>=7,IF($BB8=\"انثى\",\"\",\"\"),IF(COUNTIF(E8:K8,\"<5\")+COUNTIF(E8:K8,\"0\")>=3,IF($BB8=\"انثى\",\"راسبة\",\"راسب\"),IF(COUNTIF(E8:K8,\"<5\")+COUNTIF(E8:K8,\"غ\")=2,IF($BB8=\"انثى\",\"مكملة بدرسين\",\"مكمل بدرسين\"),IF(COUNTIF(E8:K8,\"غ\")=7,IF($BB8=\"انثى\",\"غائبة\",\"غائب\"),IF(COUNTIF(E8:K8,\"<5\")+COUNTIF(E8:K8,\"غ\")>1,IF($BB8=\"انثى\",\"راسبة\",\"راسب\"),IF(COUNTIF(E8:K8,\"<5\")+COUNTIF(E8:K8,\"غ\")=1,IF($BB8=\"انثى\",\"مكملة بدرس\",\"مكمل بدرس\"),IF($BB8=\"انثى\",\"ناجحة\",\"ناجح\"))))))))","v":"ناجح"},{"$f":"IF(LEFT(P8,1)=\"ن\",\"ناجح\",\"\")&IF(LEFT(P8,1)=\"ر\",\"راسب\",\"\")&IF(LEFT(P8,1)=\"غ\",\"غائب\",\"\")","v":"ناجح"}]
[6,null,null,null,{"$f":"'اسلامية نهاية السنة'!L9","v":8},{"$f":"'عربي نهاية السنة'!AE9","v":8},{"$f":"'رياضيات نهاية السنة'!F9","v":8},{"$f":"'علوم نهاية السنة'!F9","v":7},{"$f":"'انكليزي نهاية السنة'!L9","v":6},{"$f":"'فنية نهاية السنة'!J9","v":10},{"$f":"'رياضة نهاية السنة'!L9","v":10},{"$f":"SUM(IFERROR(IF(SEARCH(\"\",D9:K9)>0,MID(D9:K9,3,10)+0),D9:K9))","v":57},{"$f":"IFERROR(IF(L9=\"\",\"\",IF(L9=0,\"\",n2t(L9))),\"\")","v":"سـبـع وخـمـسونَ"},null,null,"ناجح","ناجح"]
[7,null,null,null,{"$f":"'اسلامية نهاية السنة'!L10","v":5},{"$f":"'عربي نهاية السنة'!AE10","v":5},{"$f":"'رياضيات نهاية السنة'!F10","v":5},{"$f":"'علوم نهاية السنة'!F10","v":5},{"$f":"'انكليزي نهاية السنة'!L10","v":5},{"$f":"'فنية نهاية السنة'!J10","v":9},{"$f":"'رياضة نهاية السنة'!L10","v":9},{"$f":"SUM(IFERROR(IF(SEARCH(\"\",D10:K10)>0,MID(D10:K10,3,10)+0),D10:K10))","v":43},{"$f":"IFERROR(IF(L10=\"\",\"\",IF(L10=0,\"\",n2t(L10))),\"\")","v":"ثـلاث وأربـعونَ"},null,null,"ناجح","ناجح"]
[8,null,null,null,{"$f":"'اسلامية نهاية السنة'!L11","v":7},{"$f":"'عربي نهاية السنة'!AE11","v":6},{"$f":"'رياضيات نهاية السنة'!F11","v":7},{"$f":"'علوم نهاية السنة'!F11","v":6},{"$f":"'انكليزي نهاية السنة'!L11","v":7},{"$f":"'فنية نهاية السنة'!J11","v":9},{"$f":"'رياضة نهاية السنة'!L11","v":10},{"$f":"SUM(IFERROR(IF(SEARCH(\"\",D11:K11)>0,MID(D11:K11,3,10)+0),D11:K11))","v":52},{"$f":"IFERROR(IF(L11=\"\",\"\",IF(L11=0,\"\",n2t(L11))),\"\")","v":"اثنتانِ وخـمـسونَ"},null,null,"ناجح","ناجح"]
[9,null,null,null,{"$f":"'اسلامية نهاية السنة'!L12","v":5},{"$f":"'عربي نهاية السنة'!AE12","v":2},{"$f":"'رياضيات نهاية السنة'!F12","v":2},{"$f":"'علوم نهاية السنة'!F12","v":2},{"$f":"'انكليزي نهاية السنة'!L12","v":5},{"$f":"'فنية نهاية السنة'!J12","v":6},{"$f":"'رياضة نهاية السنة'!L12","v":9},{"$f":"SUM(IFERROR(IF(SEARCH(\"\",D12:K12)>0,MID(D12:K12,3,10)+0),D12:K12))","v":31},{"$f":"IFERROR(IF(L12=\"\",\"\",IF(L12=0,\"\",n2t(L12))),\"\")","v":"إحدى وثـلاثونَ"},null,null,"راسب","راسب"]
[10,null,null,null,{"$f":"'اسلامية نهاية السنة'!L13","v":9},{"$f":"'عربي نهاية السنة'!AE13","v":7},{"$f":"'رياضيات نهاية السنة'!F13","v":7},{"$f":"'علوم نهاية السنة'!F13","v":8},{"$f":"'انكليزي نهاية السنة'!L13","v":7},{"$f":"'فنية نهاية السنة'!J13","v":10},{"$f":"'رياضة نهاية السنة'!L13","v":10},{"$f":"SUM(IFERROR(IF(SEARCH(\"\",D13:K13)>0,MID(D13:K13,3,10)+0),D13:K13))","v":58},{"$f":"IFERROR(IF(L13=\"\",\"\",IF(L13=0,\"\",n2t(L13))),\"\")","v":"ثـمـان وخـمـسونَ"},null,null,"ناجح","ناجح"]
[11,null,null,null,{"$f":"'اسلامية نهاية السنة'!L14","v":8},{"$f":"'عربي نهاية السنة'!AE14","v":6},{"$f":"'رياضيات نهاية السنة'!F14","v":7},{"$f":"'علوم نهاية السنة'!F14","v":5},{"$f":"'انكليزي نهاية السنة'!L14","v":6},{"$f":"'فنية نهاية السنة'!J14","v":8},{"$f":"'رياضة نهاية السنة'!L14","v":9},{"$f":"SUM(IFERROR(IF(SEARCH(\"\",D14:K14)>0,MID(D14:K14,3,10)+0),D14:K14))","v":49},{"$f":"IFERROR(IF(L14=\"\",\"\",IF(L14=0,\"\",n2t(L14))),\"\")","v":"تـسـع وأربـعونَ"},null,null,"ناجح","ناجح"]
[12,null,null,null,{"$f":"'اسلامية نهاية السنة'!L15","v":"غ"},{"$f":"'عربي نهاية السنة'!AE15","v":"غ"},{"$f":"'رياضيات نهاية السنة'!F15","v":"غ"},{"$f":"'علوم نهاية السنة'!F15","v":"غ"},{"$f":"'انكليزي نهاية السنة'!L15","v":"غ"},{"$f":"'فنية نهاية السنة'!J15","v":"غ"},{"$f":"'رياضة نهاية السنة'!L15","v":"غ"},{"$f":"SUM(IFERROR(IF(SEARCH(\"\",D15:K15)>0,MID(D15:K15,3,10)+0),D15:K15))","v":0},{"$f":"IFERROR(IF(L15=\"\",\"\",IF(L15=0,\"\",n2t(L15))),\"\")","v":""},null,null,"غائب","غائب"]
[13,null,null,null,{"$f":"'اسلامية نهاية السنة'!L16","v":7},{"$f":"'عربي نهاية السنة'!AE16","v":6},{"$f":"'رياضيات نهاية السنة'!F16","v":6},{"$f":"'علوم نهاية السنة'!F16","v":6},{"$f":"'انكليزي نهاية السنة'!L16","v":5},{"$f":"'فنية نهاية السنة'!J16","v":10},{"$f":"'رياضة نهاية السنة'!L16","v":9},{"$f":"SUM(IFERROR(IF(SEARCH(\"\",D16:K16)>0,MID(D16:K16,3,10)+0),D16:K16))","v":49},{"$f":"IFERROR(IF(L16=\"\",\"\",IF(L16=0,\"\",n2t(L16))),\"\")","v":"تـسـع وأربـعونَ"},null,null,"ناجح","ناجح"]
[14,null,null,null,{"$f":"'اسلامية نهاية السنة'!L17","v":7},{"$f":"'عربي نهاية السنة'!AE17","v":6},{"$f":"'رياضيات نهاية السنة'!F17","v":6},{"$f":"'علوم نهاية السنة'!F17","v":6},{"$f":"'انكليزي نهاية السنة'!L17","v":5},{"$f":"'فنية نهاية السنة'!J17","v":10},{"$f":"'رياضة نهاية السنة'!L17","v":9},{"$f":"SUM(IFERROR(IF(SEARCH(\"\",D17:K17)>0,MID(D17:K17,3,10)+0),D17:K17))","v":49},{"$f":"IFERROR(IF(L17=\"\",\"\",IF(L17=0,\"\",n2t(L17))),\"\")","v":"تـسـع وأربـعونَ"},null,null,"ناجح","ناجح"]
[15,null,null,null,{"$f":"'اسلامية نهاية السنة'!L18","v":"غ"},{"$f":"'عربي نهاية السنة'!AE18","v":"غ"},{"$f":"'رياضيات نهاية السنة'!F18","v":"غ"},{"$f":"'علوم نهاية السنة'!F18","v":"غ"},{"$f":"'انكليزي نهاية السنة'!L18","v":"غ"},{"$f":"'فنية نهاية السنة'!J18","v":"غ"},{"$f":"'رياضة نهاية السنة'!L18","v":"غ"},{"$f":"SUM(IFERROR(IF(SEARCH(\"\",D18:K18)>0,MID(D18:K18,3,10)+0),D18:K18))","v":0},{"$f":"IFERROR(IF(L18=\"\",\"\",IF(L18=0,\"\",n2t(L18))),\"\")","v":""},null,null,"غائب","غائب"]
[16,null,null,null,{"$f":"'اسلامية نهاية السنة'!L19","v":"غ"},{"$f":"'عربي نهاية السنة'!AE19","v":"غ"},{"$f":"'رياضيات نهاية السنة'!F19","v":"غ"},{"$f":"'علوم نهاية السنة'!F19","v":"غ"},{"$f":"'انكليزي نهاية السنة'!L19","v":"غ"},{"$f":"'فنية نهاية السنة'!J19","v":"غ"},{"$f":"'رياضة نهاية السنة'!L19","v":"غ"},{"$f":"SUM(IFERROR(IF(SEARCH(\"\",D19:K19)>0,MID(D19:K19,3,10)+0),D19:K19))","v":0},{"$f":"IFERROR(IF(L19=\"\",\"\",IF(L19=0,\"\",n2t(L19))),\"\")","v":""},null,null,"غائب","غائب"]
[17,null,null,null,{"$f":"'اسلامية نهاية السنة'!L20","v":5},{"$f":"'عربي نهاية السنة'!AE20","v":2},{"$f":"'رياضيات نهاية السنة'!F20","v":5},{"$f":"'علوم نهاية السنة'!F20","v":5},{"$f":"'انكليزي نهاية السنة'!L20","v":6},{"$f":"'فنية نهاية السنة'!J20","v":9},{"$f":"'رياضة نهاية السنة'!L20","v":9},{"$f":"SUM(IFERROR(IF(SEARCH(\"\",D20:K20)>0,MID(D20:K20,3,10)+0),D20:K20))","v":41},{"$f":"IFERROR(IF(L20=\"\",\"\",IF(L20=0,\"\",n2t(L20))),\"\")","v":"إحدى وأربـعونَ"},null,null,"مكمل بدرس",""]
[18,null,null,null,{"$f":"'اسلامية نهاية السنة'!L21","v":10},{"$f":"'عربي نهاية السنة'!AE21","v":9},{"$f":"'رياضيات نهاية السنة'!F21","v":10},{"$f":"'علوم نهاية السنة'!F21","v":10},{"$f":"'انكليزي نهاية السنة'!L21","v":9},{"$f":"'فنية نهاية السنة'!J21","v":10},{"$f":"'رياضة نهاية السنة'!L21","v":10},{"$f":"SUM(IFERROR(IF(SEARCH(\"\",D21:K21)>0,MID(D21:K21,3,10)+0),D21:K21))","v":68},{"$f":"IFERROR(IF(L21=\"\",\"\",IF(L21=0,\"\",n2t(L21))),\"\")","v":"ثـمـان وسـتونَ"},null,null,"ناجح","ناجح"]
[19,null,null,null,{"$f":"'اسلامية نهاية السنة'!L22","v":7},{"$f":"'عربي نهاية السنة'!AE22","v":6},{"$f":"'رياضيات نهاية السنة'!F22","v":6},{"$f":"'علوم نهاية السنة'!F22","v":7},{"$f":"'انكليزي نهاية السنة'!L22","v":6},{"$f":"'فنية نهاية السنة'!J22","v":10},{"$f":"'رياضة نهاية السنة'!L22","v":10},{"$f":"SUM(IFERROR(IF(SEARCH(\"\",D22:K22)>0,MID(D22:K22,3,10)+0),D22:K22))","v":52},{"$f":"IFERROR(IF(L22=\"\",\"\",IF(L22=0,\"\",n2t(L22))),\"\")","v":"اثنتانِ وخـمـسونَ"},null,null,"ناجح","ناجح"]
[20,null,null,null,{"$f":"'اسلامية نهاية السنة'!L23","v":"غ"},{"$f":"'عربي نهاية السنة'!AE23","v":"غ"},{"$f":"'رياضيات نهاية السنة'!F23","v":"غ"},{"$f":"'علوم نهاية السنة'!F23","v":"غ"},{"$f":"'انكليزي نهاية السنة'!L23","v":"غ"},{"$f":"'فنية نهاية السنة'!J23","v":"غ"},{"$f":"'رياضة نهاية السنة'!L23","v":"غ"},{"$f":"SUM(IFERROR(IF(SEARCH(\"\",D23:K23)>0,MID(D23:K23,3,10)+0),D23:K23))","v":0},{"$f":"IFERROR(IF(L23=\"\",\"\",IF(L23=0,\"\",n2t(L23))),\"\")","v":""},null,null,"غائب","غائب"]
[21,null,null,null,{"$f":"'اسلامية نهاية السنة'!L24","v":"غ"},{"$f":"'عربي نهاية السنة'!AE24","v":"غ"},{"$f":"'رياضيات نهاية السنة'!F24","v":"غ"},{"$f":"'علوم نهاية السنة'!F24","v":"غ"},{"$f":"'انكليزي نهاية السنة'!L24","v":"غ"},{"$f":"'فنية نهاية السنة'!J24","v":"غ"},{"$f":"'رياضة نهاية السنة'!L24","v":"غ"},{"$f":"SUM(IFERROR(IF(SEARCH(\"\",D24:K24)>0,MID(D24:K24,3,10)+0),D24:K24))","v":0},{"$f":"IFERROR(IF(L24=\"\",\"\",IF(L24=0,\"\",n2t(L24))),\"\")","v":""},null,null,"غائب","غائب"]
[22,null,null,null,{"$f":"'اسلامية نهاية السنة'!L25","v":7},{"$f":"'عربي نهاية السنة'!AE25","v":7},{"$f":"'رياضيات نهاية السنة'!F25","v":7},{"$f":"'علوم نهاية السنة'!F25","v":6},{"$f":"'انكليزي نهاية السنة'!L25","v":5},{"$f":"'فنية نهاية السنة'!J25","v":10},{"$f":"'رياضة نهاية السنة'!L25","v":10},{"$f":"SUM(IFERROR(IF(SEARCH(\"\",D25:K25)>0,MID(D25:K25,3,10)+0),D25:K25))","v":52},{"$f":"IFERROR(IF(L25=\"\",\"\",IF(L25=0,\"\",n2t(L25))),\"\")","v":"اثنتانِ وخـمـسونَ"},null,null,"ناجح","ناجح"]
[23,null,null,null,{"$f":"'اسلامية نهاية السنة'!L26","v":"غ"},{"$f":"'عربي نهاية السنة'!AE26","v":"غ"},{"$f":"'رياضيات نهاية السنة'!F26","v":"غ"},{"$f":"'علوم نهاية السنة'!F26","v":"غ"},{"$f":"'انكليزي نهاية السنة'!L26","v":"غ"},{"$f":"'فنية نهاية السنة'!J26","v":"غ"},{"$f":"'رياضة نهاية السنة'!L26","v":"غ"},{"$f":"SUM(IFERROR(IF(SEARCH(\"\",D26:K26)>0,MID(D26:K26,3,10)+0),D26:K26))","v":0},{"$f":"IFERROR(IF(L26=\"\",\"\",IF(L26=0,\"\",n2t(L26))),\"\")","v":""},null,null,"غائب","غائب"]
[24,null,null,null,{"$f":"'اسلامية نهاية السنة'!L27","v":7},{"$f":"'عربي نهاية السنة'!AE27","v":7},{"$f":"'رياضيات نهاية السنة'!F27","v":3},{"$f":"'علوم نهاية السنة'!F27","v":7},{"$f":"'انكليزي نهاية السنة'!L27","v":6},{"$f":"'فنية نهاية السنة'!J27","v":10},{"$f":"'رياضة نهاية السنة'!L27","v":10},{"$f":"SUM(IFERROR(IF(SEARCH(\"\",D27:K27)>0,MID(D27:K27,3,10)+0),D27:K27))","v":50},{"$f":"IFERROR(IF(L27=\"\",\"\",IF(L27=0,\"\",n2t(L27))),\"\")","v":"خـمـسونَ"},null,null,"مكمل بدرس",""]
[25,null,null,null,{"$f":"'اسلامية نهاية السنة'!L28","v":10},{"$f":"'عربي نهاية السنة'!AE28","v":10},{"$f":"'رياضيات نهاية السنة'!F28","v":10},{"$f":"'علوم نهاية السنة'!F28","v":10},{"$f":"'انكليزي نهاية السنة'!L28","v":10},{"$f":"'فنية نهاية السنة'!J28","v":10},{"$f":"'رياضة نهاية السنة'!L28","v":10},{"$f":"SUM(IFERROR(IF(SEARCH(\"\",D28:K28)>0,MID(D28:K28,3,10)+0),D28:K28))","v":70},{"$f":"IFERROR(IF(L28=\"\",\"\",IF(L28=0,\"\",n2t(L28))),\"\")","v":"سـبـعونَ"},null,null,"ناجح","ناجح"]
[26,null,null,null,{"$f":"'اسلامية نهاية السنة'!L29","v":0},{"$f":"'عربي نهاية السنة'!AE29","v":0},{"$f":"'رياضيات نهاية السنة'!F29","v":0},{"$f":"'علوم نهاية السنة'!F29","v":0},{"$f":"'انكليزي نهاية السنة'!L29","v":0},{"$f":"'فنية نهاية السنة'!J29","v":0},{"$f":"'رياضة نهاية السنة'!L29","v":0},{"$f":"SUM(IFERROR(IF(SEARCH(\"\",D29:K29)>0,MID(D29:K29,3,10)+0),D29:K29))","v":0},{"$f":"IFERROR(IF(L29=\"\",\"\",IF(L29=0,\"\",n2t(L29))),\"\")","v":""},null,null,"",""]
[27,null,null,null,{"$f":"'اسلامية نهاية السنة'!L30","v":0},{"$f":"'عربي نهاية السنة'!AE30","v":0},{"$f":"'رياضيات نهاية السنة'!F30","v":0},{"$f":"'علوم نهاية السنة'!F30","v":0},{"$f":"'انكليزي نهاية السنة'!L30","v":0},{"$f":"'فنية نهاية السنة'!J30","v":0},{"$f":"'رياضة نهاية السنة'!L30","v":0},{"$f":"SUM(IFERROR(IF(SEARCH(\"\",D30:K30)>0,MID(D30:K30,3,10)+0),D30:K30))","v":0},{"$f":"IFERROR(IF(L30=\"\",\"\",IF(L30=0,\"\",n2t(L30))),\"\")","v":""},null,null,"",""]
[28,null,null,null,{"$f":"'اسلامية نهاية السنة'!L31","v":0},{"$f":"'عربي نهاية السنة'!AE31","v":0},{"$f":"'رياضيات نهاية السنة'!F31","v":0},{"$f":"'علوم نهاية السنة'!F31","v":0},{"$f":"'انكليزي نهاية السنة'!L31","v":0},{"$f":"'فنية نهاية السنة'!J31","v":0},{"$f":"'رياضة نهاية السنة'!L31","v":0},{"$f":"SUM(IFERROR(IF(SEARCH(\"\",D31:K31)>0,MID(D31:K31,3,10)+0),D31:K31))","v":0},{"$f":"IFERROR(IF(L31=\"\",\"\",IF(L31=0,\"\",n2t(L31))),\"\")","v":""},null,null,"",""]
[29,null,null,null,{"$f":"'اسلامية نهاية السنة'!L32","v":0},{"$f":"'عربي نهاية السنة'!AE32","v":0},{"$f":"'رياضيات نهاية السنة'!F32","v":0},{"$f":"'علوم نهاية السنة'!F32","v":0},{"$f":"'انكليزي نهاية السنة'!L32","v":0},{"$f":"'فنية نهاية السنة'!J32","v":0},{"$f":"'رياضة نهاية السنة'!L32","v":0},{"$f":"SUM(IFERROR(IF(SEARCH(\"\",D32:K32)>0,MID(D32:K32,3,10)+0),D32:K32))","v":0},{"$f":"IFERROR(IF(L32=\"\",\"\",IF(L32=0,\"\",n2t(L32))),\"\")","v":""},null,null,"",""]
[30,null,null,null,{"$f":"'اسلامية نهاية السنة'!L33","v":0},{"$f":"'عربي نهاية السنة'!AE33","v":0},{"$f":"'رياضيات نهاية السنة'!F33","v":0},{"$f":"'علوم نهاية السنة'!F33","v":0},{"$f":"'انكليزي نهاية السنة'!L33","v":0},{"$f":"'فنية نهاية السنة'!J33","v":0},{"$f":"'رياضة نهاية السنة'!L33","v":0},{"$f":"SUM(IFERROR(IF(SEARCH(\"\",D33:K33)>0,MID(D33:K33,3,10)+0),D33:K33))","v":0},{"$f":"IFERROR(IF(L33=\"\",\"\",IF(L33=0,\"\",n2t(L33))),\"\")","v":""},null,null,"",""]
[31,null,null,null,{"$f":"'اسلامية نهاية السنة'!L34","v":0},{"$f":"'عربي نهاية السنة'!AE34","v":0},{"$f":"'رياضيات نهاية السنة'!F34","v":0},{"$f":"'علوم نهاية السنة'!F34","v":0},{"$f":"'انكليزي نهاية السنة'!L34","v":0},{"$f":"'فنية نهاية السنة'!J34","v":0},{"$f":"'رياضة نهاية السنة'!L34","v":0},{"$f":"SUM(IFERROR(IF(SEARCH(\"\",D34:K34)>0,MID(D34:K34,3,10)+0),D34:K34))","v":0},{"$f":"IFERROR(IF(L34=\"\",\"\",IF(L34=0,\"\",n2t(L34))),\"\")","v":""},null,null,"",""]
[32,null,null,null,{"$f":"'اسلامية نهاية السنة'!L35","v":0},{"$f":"'عربي نهاية السنة'!AE35","v":0},{"$f":"'رياضيات نهاية السنة'!F35","v":0},{"$f":"'علوم نهاية السنة'!F35","v":0},{"$f":"'انكليزي نهاية السنة'!L35","v":0},{"$f":"'فنية نهاية السنة'!J35","v":0},{"$f":"'رياضة نهاية السنة'!L35","v":0},{"$f":"SUM(IFERROR(IF(SEARCH(\"\",D35:K35)>0,MID(D35:K35,3,10)+0),D35:K35))","v":0},{"$f":"IFERROR(IF(L35=\"\",\"\",IF(L35=0,\"\",n2t(L35))),\"\")","v":""},null,null,"",""]
[33,null,null,null,{"$f":"'اسلامية نهاية السنة'!L36","v":0},{"$f":"'عربي نهاية السنة'!AE36","v":0},{"$f":"'رياضيات نهاية السنة'!F36","v":0},{"$f":"'علوم نهاية السنة'!F36","v":0},{"$f":"'انكليزي نهاية السنة'!L36","v":0},{"$f":"'فنية نهاية السنة'!J36","v":0},{"$f":"'رياضة نهاية السنة'!L36","v":0},{"$f":"SUM(IFERROR(IF(SEARCH(\"\",D36:K36)>0,MID(D36:K36,3,10)+0),D36:K36))","v":0},{"$f":"IFERROR(IF(L36=\"\",\"\",IF(L36=0,\"\",n2t(L36))),\"\")","v":""},null,null,"",""]
[]
["المشتركون",null,"الممتحنون",null,"الناجحون",null,"الراسبون",null,"الغياب",null,"المكملون",null,"النسبة",null,"النسبة الكلية %",{"$f":"IFERROR(O39*100/P39,\"\")","v":81.25}]
[{"$f":"'الرئيسية '!I5","v":"ذكور"},{"$f":"COUNT(BB7:BB36)+COUNTIF(BB7:BB36,\"ذكر\")","v":0},{"$f":"'الرئيسية '!I5","v":"ذكور"},{"$f":"COUNT(P7:P36)+COUNTIF(P7:P36,\"ناجح\")+COUNTIF(P7:P36,\"راسب\")+COUNTIF(P7:P36,\"مكمل بدرس\")+COUNTIF(P7:P36,\"مكمل بدرسين\")","v":16},{"$f":"'الرئيسية '!I5","v":"ذكور"},{"$f":"COUNT(P7:P36)+COUNTIF(P7:P36,\"ناجح\")","v":13},{"$f":"'الرئيسية '!I5","v":"ذكور"},{"$f":"COUNT(P7:P36)+COUNTIF(P7:P36,\"راسب\")","v":1},{"$f":"'الرئيسية '!I5","v":"ذكور"},{"$f":"COUNT(P7:P36)+COUNTIF(P7:P36,\"غائب\")","v":6},{"$f":"'الرئيسية '!I5","v":"ذكور"},{"$f":"COUNT(P7:P36)+COUNTIF(P7:P36,\"مكمل بدرس\")+COUNTIF(P7:P36,\"مكمل بدرسين\")","v":2},{"$f":"'الرئيسية '!I5","v":"ذكور"},{"$f":"IFERROR(F39*100/D39,\"\")","v":81.25},{"$f":"F39+F40","v":13},{"$f":"D39+D40","v":16}]
[{"$f":"'الرئيسية '!I7","v":"اناث"},{"$f":"COUNT(BB7:BB36)+COUNTIF(BB7:BB36,\"انثى\")","v":0},{"$f":"'الرئيسية '!I7","v":"اناث"},{"$f":"COUNT(P7:P36)+COUNTIF(P7:P36,\"ناجحة\")+COUNTIF(P7:P36,\"راسبة\")+COUNTIF(P7:P36,\"مكملة بدرس\")+COUNTIF(P7:P36,\"مكملة بدرسين\")","v":0},{"$f":"'الرئيسية '!I7","v":"اناث"},{"$f":"COUNT(P7:P36)+COUNTIF(P7:P36,\"ناجحة\")","v":0},{"$f":"'الرئيسية '!I7","v":"اناث"},{"$f":"COUNT(P7:P36)+COUNTIF(P7:P36,\"راسبة\")","v":0},{"$f":"'الرئيسية '!I7","v":"اناث"},{"$f":"COUNT(P7:P36)+COUNTIF(P7:P36,\"غائبة\")","v":0},{"$f":"'الرئيسية '!I7","v":"اناث"},{"$f":"COUNT(P7:P36)+COUNTIF(P7:P36,\"مكملة بدرس\")+COUNTIF(P7:P36,\"مكملة بدرسين\")","v":0},{"$f":"'الرئيسية '!I7","v":"اناث"},{"$f":"IFERROR(F40*100/D40,\"\")","v":""}]
[null,null,null,null,null,null,null,null,null,null,null,null,{"$f":"'اسماء التلاميذ'!B3","v":0}]
[null,null,null,null,null,null,null,null,null,null,null,null,"مدير المدرسة"]

{"sheet":"قائمة امتحان لغرض الدور الثاني ","index":8,"n_rows":42,"n_cols":26,"rows_kept":42,"cut":false,"hidden":false,"merged":[[40,12,40,14],[41,12,41,14],[4,11,4,14],[4,15,5,15],[5,12,5,14],[37,10,37,11],[37,12,37,13],[4,10,5,10],[4,7,5,7],[4,8,5,8],[37,0,37,1],[37,2,37,3],[37,4,37,5],[37,6,37,7],[37,8,37,9],[0,12,0,13],[1,12,1,13],[3,0,3,2],[4,0,5,0],[4,1,5,1],[4,2,5,3],[0,0,0,2],[0,3,0,10],[1,0,1,2],[1,3,1,10],[2,0,2,2],[2,3,2,11],[4,9,5,9],[4,4,5,4],[4,5,5,5],[4,6,5,6]]}
["جمهورية العراق",null,null,"            قائمة درجات نهاية السنة",null,null,null,null,null,null,null,null,"الصف",null,{"$f":"'اسماء التلاميذ'!F2","v":"الأول"},null,"تحذير لايجوز حذف أي شي من هذه القائمة لغرض التعديل اذهب الى قائمة المادة"]
["وزارة التربية",null,null,"           للعام الدراسي",null,null,null,null,null,null,null,null,"الشعبة",null,{"$f":"'اسماء التلاميذ'!F3","v":"أ"}]
["إدارة",null,null,{"$f":"'اسماء التلاميذ'!F4","v":"2021 - 2022"}]
[{"$f":"'اسماء التلاميذ'!B2","v":0}]
["ت","رقم القبول","الاسم الثلاثي",null,"التربية الإسلامية","اللغة العربية","الرياضيات","العلوم","الإنكليزي","الفنية والنشيد","التربية الرياضية","المجموع رقما وكتابة",null,null,null,"النتيجة",null,null,null,null,null,null,null,null,null,26]
[null,null,null,null,null,null,null,null,null,null,null,"رقما","كتابة"]
[4,"نوري",null,null,{"$f":"'اسلامية نهاية السنة'!L7","v":7},"2 5",{"$f":"'رياضيات نهاية السنة'!F7","v":7},{"$f":"'علوم نهاية السنة'!F7","v":6},{"$f":"'انكليزي نهاية السنة'!L7","v":7},{"$f":"'فنية نهاية السنة'!J7","v":9},{"$f":"'رياضة نهاية السنة'!L7","v":10},{"$f":"SUM(IFERROR(IF(SEARCH(\"\",D7:K7)>0,MID(D7:K7,3,10)+0),D7:K7))","v":51},{"$f":"IFERROR(IF(L7=\"\",\"\",IF(L7=0,\"\",n2t(L7))),\"\")","v":"إحدى وخـمـسونَ"},null,null,{"$f":"IF(COUNTIF(E7:K7,\"<>\")<7,\"\",IF(COUNTIF(E7:K7,\"0\")>=7,IF($BB7=\"انثى\",\"\",\"\"),IF(COUNTIF(E7:K7,\"<5\")+COUNTIF(E7:K7,\"0\")>=3,IF($BB7=\"انثى\",\"راسبة\",\"راسب\"),IF(COUNTIF(E7:K7,\"<5\")+COUNTIF(E7:K7,\"غ\")=2,IF($BB7=\"انثى\",\"مكملة بدرسين\",\"مكمل بدرسين\"),IF(COUNTIF(E7:K7,\"غ\")=7,IF($BB7=\"انثى\",\"غائبة\",\"غائب\"),IF(COUNTIF(E7:K7,\"<5\")+COUNTIF(E7:K7,\"غ\")>1,IF($BB7=\"انثى\",\"راسبة\",\"راسب\"),IF(COUNTIF(E7:K7,\"<5\")+COUNTIF(E7:K7,\"غ\")=1,IF($BB7=\"انثى\",\"مكملة بدرس\",\"مكمل بدرس\"),IF($BB7=\"انثى\",\"ناجحة\",\"ناجح\"))))))))","v":"ناجح"},"من فضلك بعد عملية الجمع قم بطباعة القائمة",null,null,null,null,null,null,null,null,{"$f":"IF(LEFT(P7,1)=\"ن\",\"ناجح\",\"\")&IF(LEFT(P7,1)=\"ر\",\"راسب\",\"\")&IF(LEFT(P7,1)=\"غ\",\"غائب\",\"\")","v":"ناجح"}]
[5,"احمد",null,null,{"$f":"'اسلامية نهاية السنة'!L8","v":6},{"$f":"'عربي نهاية السنة'!AE8","v":5},{"$f":"'رياضيات نهاية السنة'!F8","v":5},{"$f":"'علوم نهاية السنة'!F8","v":5},{"$f":"'انكليزي نهاية السنة'!L8","v":5},{"$f":"'فنية نهاية السنة'!J8","v":9},{"$f":"'رياضة نهاية السنة'!L8","v":10},{"$f":"SUM(IFERROR(IF(SEARCH(\"\",D8:K8)>0,MID(D8:K8,3,10)+0),D8:K8))","v":45},{"$f":"IFERROR(IF(L8=\"\",\"\",IF(L8=0,\"\",n2t(L8))),\"\")","v":"خـمـس وأربـعونَ"},null,null,{"$f":"IF(COUNTIF(E8:K8,\"<>\")<7,\"\",IF(COUNTIF(E8:K8,\"0\")>=7,IF($BB8=\"انثى\",\"\",\"\"),IF(COUNTIF(E8:K8,\"<5\")+COUNTIF(E8:K8,\"0\")>=3,IF($BB8=\"انثى\",\"راسبة\",\"راسب\"),IF(COUNTIF(E8:K8,\"<5\")+COUNTIF(E8:K8,\"غ\")=2,IF($BB8=\"انثى\",\"مكملة بدرسين\",\"مكمل بدرسين\"),IF(COUNTIF(E8:K8,\"غ\")=7,IF($BB8=\"انثى\",\"غائبة\",\"غائب\"),IF(COUNTIF(E8:K8,\"<5\")+COUNTIF(E8:K8,\"غ\")>1,IF($BB8=\"انثى\",\"راسبة\",\"راسب\"),IF(COUNTIF(E8:K8,\"<5\")+COUNTIF(E8:K8,\"غ\")=1,IF($BB8=\"انثى\",\"مكملة بدرس\",\"مكمل بدرس\"),IF($BB8=\"انثى\",\"ناجحة\",\"ناجح\"))))))))","v":"ناجح"},null,null,null,null,null,null,{"$f":"IFERROR(ROUND((X8),0),\"غ\")","v":0},null,null,{"$f":"IF(LEFT(P8,1)=\"ن\",\"ناجح\",\"\")&IF(LEFT(P8,1)=\"ر\",\"راسب\",\"\")&IF(LEFT(P8,1)=\"غ\",\"غائب\",\"\")","v":"ناجح"}]
[6,null,null,null,{"$f":"'اسلامية نهاية السنة'!L9","v":8},{"$f":"'عربي نهاية السنة'!AE9","v":8},{"$f":"'رياضيات نهاية السنة'!F9","v":8},{"$f":"'علوم نهاية السنة'!F9","v":7},{"$f":"'انكليزي نهاية السنة'!L9","v":6},{"$f":"'فنية نهاية السنة'!J9","v":10},{"$f":"'رياضة نهاية السنة'!L9","v":10},{"$f":"SUM(IFERROR(IF(SEARCH(\"\",D9:K9)>0,MID(D9:K9,3,10)+0),D9:K9))","v":57},{"$f":"IFERROR(IF(L9=\"\",\"\",IF(L9=0,\"\",n2t(L9))),\"\")","v":"سـبـع وخـمـسونَ"},null,null,"ناجح",null,null,null,null,null,null,{"$f":"IFERROR(ROUND((X9),0),\"غ\")","v":0},null,null,"ناجح"]
[7,null,null,null,{"$f":"'اسلامية نهاية السنة'!L10","v":5},{"$f":"'عربي نهاية السنة'!AE10","v":5},{"$f":"'رياضيات نهاية السنة'!F10","v":5},{"$f":"'علوم نهاية السنة'!F10","v":5},{"$f":"'انكليزي نهاية السنة'!L10","v":5},{"$f":"'فنية نهاية السنة'!J10","v":9},{"$f":"'رياضة نهاية السنة'!L10","v":9},{"$f":"SUM(IFERROR(IF(SEARCH(\"\",D10:K10)>0,MID(D10:K10,3,10)+0),D10:K10))","v":43},{"$f":"IFERROR(IF(L10=\"\",\"\",IF(L10=0,\"\",n2t(L10))),\"\")","v":"ثـلاث وأربـعونَ"},null,null,"ناجح",null,null,null,null,null,null,0,null,null,"ناجح"]
[8,null,null,null,{"$f":"'اسلامية نهاية السنة'!L11","v":7},{"$f":"'عربي نهاية السنة'!AE11","v":6},{"$f":"'رياضيات نهاية السنة'!F11","v":7},{"$f":"'علوم نهاية السنة'!F11","v":6},{"$f":"'انكليزي نهاية السنة'!L11","v":7},{"$f":"'فنية نهاية السنة'!J11","v":9},{"$f":"'رياضة نهاية السنة'!L11","v":10},{"$f":"SUM(IFERROR(IF(SEARCH(\"\",D11:K11)>0,MID(D11:K11,3,10)+0),D11:K11))","v":52},{"$f":"IFERROR(IF(L11=\"\",\"\",IF(L11=0,\"\",n2t(L11))),\"\")","v":"اثنتانِ وخـمـسونَ"},null,null,"ناجح",null,null,null,null,null,null,0,null,null,"ناجح"]
[9,null,null,null,{"$f":"'اسلامية نهاية السنة'!L12","v":5},{"$f":"'عربي نهاية السنة'!AE12","v":2},{"$f":"'رياضيات نهاية السنة'!F12","v":2},{"$f":"'علوم نهاية السنة'!F12","v":2},{"$f":"'انكليزي نهاية السنة'!L12","v":5},{"$f":"'فنية نهاية السنة'!J12","v":6},{"$f":"'رياضة نهاية السنة'!L12","v":9},{"$f":"SUM(IFERROR(IF(SEARCH(\"\",D12:K12)>0,MID(D12:K12,3,10)+0),D12:K12))","v":31},{"$f":"IFERROR(IF(L12=\"\",\"\",IF(L12=0,\"\",n2t(L12))),\"\")","v":"إحدى وثـلاثونَ"},null,null,"راسب",null,null,null,null,null,null,0,null,null,"راسب"]
[10,null,null,null,{"$f":"'اسلامية نهاية السنة'!L13","v":9},{"$f":"'عربي نهاية السنة'!AE13","v":7},{"$f":"'رياضيات نهاية السنة'!F13","v":7},{"$f":"'علوم نهاية السنة'!F13","v":8},{"$f":"'انكليزي نهاية السنة'!L13","v":7},{"$f":"'فنية نهاية السنة'!J13","v":10},{"$f":"'رياضة نهاية السنة'!L13","v":10},{"$f":"SUM(IFERROR(IF(SEARCH(\"\",D13:K13)>0,MID(D13:K13,3,10)+0),D13:K13))","v":58},{"$f":"IFERROR(IF(L13=\"\",\"\",IF(L13=0,\"\",n2t(L13))),\"\")","v":"ثـمـان وخـمـسونَ"},null,null,"ناجح",null,null,null,null,null,null,0,null,null,"ناجح"]
[11,null,null,null,{"$f":"'اسلامية نهاية السنة'!L14","v":8},{"$f":"'عربي نهاية السنة'!AE14","v":6},{"$f":"'رياضيات نهاية السنة'!F14","v":7},{"$f":"'علوم نهاية السنة'!F14","v":5},{"$f":"'انكليزي نهاية السنة'!L14","v":6},{"$f":"'فنية نهاية السنة'!J14","v":8},{"$f":"'رياضة نهاية السنة'!L14","v":9},{"$f":"SUM(IFERROR(IF(SEARCH(\"\",D14:K14)>0,MID(D14:K14,3,10)+0),D14:K14))","v":49},{"$f":"IFERROR(IF(L14=\"\",\"\",IF(L14=0,\"\",n2t(L14))),\"\")","v":"تـسـع وأربـعونَ"},null,null,"ناجح",null,null,null,null,null,null,0,null,null,"ناجح"]
[12,null,null,null,{"$f":"'اسلامية نهاية السنة'!L15","v":"غ"},{"$f":"'عربي نهاية السنة'!AE15","v":"غ"},{"$f":"'رياضيات نهاية السنة'!F15","v":"غ"},{"$f":"'علوم نهاية السنة'!F15","v":"غ"},{"$f":"'انكليزي نهاية السنة'!L15","v":"غ"},{"$f":"'فنية نهاية السنة'!J15","v":"غ"},{"$f":"'رياضة نهاية السنة'!L15","v":"غ"},{"$f":"SUM(IFERROR(IF(SEARCH(\"\",D15:K15)>0,MID(D15:K15,3,10)+0),D15:K15))","v":0},{"$f":"IFERROR(IF(L15=\"\",\"\",IF(L15=0,\"\",n2t(L15))),\"\")","v":""},null,null,"غائب",null,null,null,null,null,null,0,null,null,"غائب"]
[13,null,null,null,{"$f":"'اسلامية نهاية السنة'!L16","v":7},{"$f":"'عربي نهاية السنة'!AE16","v":6},{"$f":"'رياضيات نهاية السنة'!F16","v":6},{"$f":"'علوم نهاية السنة'!F16","v":6},{"$f":"'انكليزي نهاية السنة'!L16","v":5},{"$f":"'فنية نهاية السنة'!J16","v":10},{"$f":"'رياضة نهاية السنة'!L16","v":9},{"$f":"SUM(IFERROR(IF(SEARCH(\"\",D16:K16)>0,MID(D16:K16,3,10)+0),D16:K16))","v":49},{"$f":"IFERROR(IF(L16=\"\",\"\",IF(L16=0,\"\",n2t(L16))),\"\")","v":"تـسـع وأربـعونَ"},null,null,"ناجح",null,null,null,null,null,null,0,null,null,"ناجح"]
[14,null,null,null,{"$f":"'اسلامية نهاية السنة'!L17","v":7},{"$f":"'عربي نهاية السنة'!AE17","v":6},{"$f":"'رياضيات نهاية السنة'!F17","v":6},{"$f":"'علوم نهاية السنة'!F17","v":6},{"$f":"'انكليزي نهاية السنة'!L17","v":5},{"$f":"'فنية نهاية السنة'!J17","v":10},{"$f":"'رياضة نهاية السنة'!L17","v":9},{"$f":"SUM(IFERROR(IF(SEARCH(\"\",D17:K17)>0,MID(D17:K17,3,10)+0),D17:K17))","v":49},{"$f":"IFERROR(IF(L17=\"\",\"\",IF(L17=0,\"\",n2t(L17))),\"\")","v":"تـسـع وأربـعونَ"},null,null,"ناجح",null,null,null,null,null,null,0,null,null,"ناجح"]
[15,null,null,null,{"$f":"'اسلامية نهاية السنة'!L18","v":"غ"},{"$f":"'عربي نهاية السنة'!AE18","v":"غ"},{"$f":"'رياضيات نهاية السنة'!F18","v":"غ"},{"$f":"'علوم نهاية السنة'!F18","v":"غ"},{"$f":"'انكليزي نهاية السنة'!L18","v":"غ"},{"$f":"'فنية نهاية السنة'!J18","v":"غ"},{"$f":"'رياضة نهاية السنة'!L18","v":"غ"},{"$f":"SUM(IFERROR(IF(SEARCH(\"\",D18:K18)>0,MID(D18:K18,3,10)+0),D18:K18))","v":0},{"$f":"IFERROR(IF(L18=\"\",\"\",IF(L18=0,\"\",n2t(L18))),\"\")","v":""},null,null,"غائب",null,null,null,null,null,null,0,null,null,"غائب"]
[16,null,null,null,{"$f":"'اسلامية نهاية السنة'!L19","v":"غ"},{"$f":"'عربي نهاية السنة'!AE19","v":"غ"},{"$f":"'رياضيات نهاية السنة'!F19","v":"غ"},{"$f":"'علوم نهاية السنة'!F19","v":"غ"},{"$f":"'انكليزي نهاية السنة'!L19","v":"غ"},{"$f":"'فنية نهاية السنة'!J19","v":"غ"},{"$f":"'رياضة نهاية السنة'!L19","v":"غ"},{"$f":"SUM(IFERROR(IF(SEARCH(\"\",D19:K19)>0,MID(D19:K19,3,10)+0),D19:K19))","v":0},{"$f":"IFERROR(IF(L19=\"\",\"\",IF(L19=0,\"\",n2t(L19))),\"\")","v":""},null,null,"غائب",null,null,null,null,null,null,0,null,null,"غائب"]
[17,null,null,null,{"$f":"'اسلامية نهاية السنة'!L20","v":5},{"$f":"'عربي نهاية السنة'!AE20","v":2},{"$f":"'رياضيات نهاية السنة'!F20","v":5},{"$f":"'علوم نهاية السنة'!F20","v":5},{"$f":"'انكليزي نهاية السنة'!L20","v":6},{"$f":"'فنية نهاية السنة'!J20","v":9},{"$f":"'رياضة نهاية السنة'!L20","v":9},{"$f":"SUM(IFERROR(IF(SEARCH(\"\",D20:K20)>0,MID(D20:K20,3,10)+0),D20:K20))","v":41},{"$f":"IFERROR(IF(L20=\"\",\"\",IF(L20=0,\"\",n2t(L20))),\"\")","v":"إحدى وأربـعونَ"},null,null,"مكمل بدرس",null,null,null,null,null,null,0,null,null,""]
[18,null,null,null,{"$f":"'اسلامية نهاية السنة'!L21","v":10},{"$f":"'عربي نهاية السنة'!AE21","v":9},{"$f":"'رياضيات نهاية السنة'!F21","v":10},{"$f":"'علوم نهاية السنة'!F21","v":10},{"$f":"'انكليزي نهاية السنة'!L21","v":9},{"$f":"'فنية نهاية السنة'!J21","v":10},{"$f":"'رياضة نهاية السنة'!L21","v":10},{"$f":"SUM(IFERROR(IF(SEARCH(\"\",D21:K21)>0,MID(D21:K21,3,10)+0),D21:K21))","v":68},{"$f":"IFERROR(IF(L21=\"\",\"\",IF(L21=0,\"\",n2t(L21))),\"\")","v":"ثـمـان وسـتونَ"},null,null,"ناجح",null,null,null,null,null,null,0,null,null,"ناجح"]
[19,null,null,null,{"$f":"'اسلامية نهاية السنة'!L22","v":7},{"$f":"'عربي نهاية السنة'!AE22","v":6},{"$f":"'رياضيات نهاية السنة'!F22","v":6},{"$f":"'علوم نهاية السنة'!F22","v":7},{"$f":"'انكليزي نهاية السنة'!L22","v":6},{"$f":"'فنية نهاية السنة'!J22","v":10},{"$f":"'رياضة نهاية السنة'!L22","v":10},{"$f":"SUM(IFERROR(IF(SEARCH(\"\",D22:K22)>0,MID(D22:K22,3,10)+0),D22:K22))","v":52},{"$f":"IFERROR(IF(L22=\"\",\"\",IF(L22=0,\"\",n2t(L22))),\"\")","v":"اثنتانِ وخـمـسونَ"},null,null,"ناجح",null,null,null,null,null,null,0,null,null,"ناجح"]
[20,null,null,null,{"$f":"'اسلامية نهاية السنة'!L23","v":"غ"},{"$f":"'عربي نهاية السنة'!AE23","v":"غ"},{"$f":"'رياضيات نهاية السنة'!F23","v":"غ"},{"$f":"'علوم نهاية السنة'!F23","v":"غ"},{"$f":"'انكليزي نهاية السنة'!L23","v":"غ"},{"$f":"'فنية نهاية السنة'!J23","v":"غ"},{"$f":"'رياضة نهاية السنة'!L23","v":"غ"},{"$f":"SUM(IFERROR(IF(SEARCH(\"\",D23:K23)>0,MID(D23:K23,3,10)+0),D23:K23))","v":0},{"$f":"IFERROR(IF(L23=\"\",\"\",IF(L23=0,\"\",n2t(L23))),\"\")","v":""},null,null,"غائب",null,null,null,null,null,null,0,null,null,"غائب"]
[21,null,null,null,{"$f":"'اسلامية نهاية السنة'!L24","v":"غ"},{"$f":"'عربي نهاية السنة'!AE24","v":"غ"},{"$f":"'رياضيات نهاية السنة'!F24","v":"غ"},{"$f":"'علوم نهاية السنة'!F24","v":"غ"},{"$f":"'انكليزي نهاية السنة'!L24","v":"غ"},{"$f":"'فنية نهاية السنة'!J24","v":"غ"},{"$f":"'رياضة نهاية السنة'!L24","v":"غ"},{"$f":"SUM(IFERROR(IF(SEARCH(\"\",D24:K24)>0,MID(D24:K24,3,10)+0),D24:K24))","v":0},{"$f":"IFERROR(IF(L24=\"\",\"\",IF(L24=0,\"\",n2t(L24))),\"\")","v":""},null,null,"غائب",null,null,null,null,null,null,0,null,null,"غائب"]
[22,null,null,null,{"$f":"'اسلامية نهاية السنة'!L25","v":7},{"$f":"'عربي نهاية السنة'!AE25","v":7},{"$f":"'رياضيات نهاية السنة'!F25","v":7},{"$f":"'علوم نهاية السنة'!F25","v":6},{"$f":"'انكليزي نهاية السنة'!L25","v":5},{"$f":"'فنية نهاية السنة'!J25","v":10},{"$f":"'رياضة نهاية السنة'!L25","v":10},{"$f":"SUM(IFERROR(IF(SEARCH(\"\",D25:K25)>0,MID(D25:K25,3,10)+0),D25:K25))","v":52},{"$f":"IFERROR(IF(L25=\"\",\"\",IF(L25=0,\"\",n2t(L25))),\"\")","v":"اثنتانِ وخـمـسونَ"},null,null,"ناجح",null,null,null,null,null,null,0,null,null,"ناجح"]
[23,null,null,null,{"$f":"'اسلامية نهاية السنة'!L26","v":"غ"},{"$f":"'عربي نهاية السنة'!AE26","v":"غ"},{"$f":"'رياضيات نهاية السنة'!F26","v":"غ"},{"$f":"'علوم نهاية السنة'!F26","v":"غ"},{"$f":"'انكليزي نهاية السنة'!L26","v":"غ"},{"$f":"'فنية نهاية السنة'!J26","v":"غ"},{"$f":"'رياضة نهاية السنة'!L26","v":"غ"},{"$f":"SUM(IFERROR(IF(SEARCH(\"\",D26:K26)>0,MID(D26:K26,3,10)+0),D26:K26))","v":0},{"$f":"IFERROR(IF(L26=\"\",\"\",IF(L26=0,\"\",n2t(L26))),\"\")","v":""},null,null,"غائب",null,null,null,null,null,null,0,null,null,"غائب"]
[24,null,null,null,{"$f":"'اسلامية نهاية السنة'!L27","v":7},{"$f":"'عربي نهاية السنة'!AE27","v":7},{"$f":"'رياضيات نهاية السنة'!F27","v":3},{"$f":"'علوم نهاية السنة'!F27","v":7},{"$f":"'انكليزي نهاية السنة'!L27","v":6},{"$f":"'فنية نهاية السنة'!J27","v":10},{"$f":"'رياضة نهاية السنة'!L27","v":10},{"$f":"SUM(IFERROR(IF(SEARCH(\"\",D27:K27)>0,MID(D27:K27,3,10)+0),D27:K27))","v":50},{"$f":"IFERROR(IF(L27=\"\",\"\",IF(L27=0,\"\",n2t(L27))),\"\")","v":"خـمـسونَ"},null,null,"مكمل بدرس",null,null,null,null,null,null,0,null,null,""]
[25,null,null,null,{"$f":"'اسلامية نهاية السنة'!L28","v":10},{"$f":"'عربي نهاية السنة'!AE28","v":10},{"$f":"'رياضيات نهاية السنة'!F28","v":10},{"$f":"'علوم نهاية السنة'!F28","v":10},{"$f":"'انكليزي نهاية السنة'!L28","v":10},{"$f":"'فنية نهاية السنة'!J28","v":10},{"$f":"'رياضة نهاية السنة'!L28","v":10},{"$f":"SUM(IFERROR(IF(SEARCH(\"\",D28:K28)>0,MID(D28:K28,3,10)+0),D28:K28))","v":70},{"$f":"IFERROR(IF(L28=\"\",\"\",IF(L28=0,\"\",n2t(L28))),\"\")","v":"سـبـعونَ"},null,null,"ناجح",null,null,null,null,null,null,0,null,null,"ناجح"]
[26,null,null,null,{"$f":"'اسلامية نهاية السنة'!L29","v":0},{"$f":"'عربي نهاية السنة'!AE29","v":0},{"$f":"'رياضيات نهاية السنة'!F29","v":0},{"$f":"'علوم نهاية السنة'!F29","v":0},{"$f":"'انكليزي نهاية السنة'!L29","v":0},{"$f":"'فنية نهاية السنة'!J29","v":0},{"$f":"'رياضة نهاية السنة'!L29","v":0},{"$f":"SUM(IFERROR(IF(SEARCH(\"\",D29:K29)>0,MID(D29:K29,3,10)+0),D29:K29))","v":0},{"$f":"IFERROR(IF(L29=\"\",\"\",IF(L29=0,\"\",n2t(L29))),\"\")","v":""},null,null,"",null,null,null,null,null,null,0,null,null,""]
[27,null,null,null,{"$f":"'اسلامية نهاية السنة'!L30","v":0},{"$f":"'عربي نهاية السنة'!AE30","v":0},{"$f":"'رياضيات نهاية السنة'!F30","v":0},{"$f":"'علوم نهاية السنة'!F30","v":0},{"$f":"'انكليزي نهاية السنة'!L30","v":0},{"$f":"'فنية نهاية السنة'!J30","v":0},{"$f":"'رياضة نهاية السنة'!L30","v":0},{"$f":"SUM(IFERROR(IF(SEARCH(\"\",D30:K30)>0,MID(D30:K30,3,10)+0),D30:K30))","v":0},{"$f":"IFERROR(IF(L30=\"\",\"\",IF(L30=0,\"\",n2t(L30))),\"\")","v":""},null,null,"",null,null,null,null,null,null,0,null,null,""]
[28,null,null,null,{"$f":"'اسلامية نهاية السنة'!L31","v":0},{"$f":"'عربي نهاية السنة'!AE31","v":0},{"$f":"'رياضيات نهاية السنة'!F31","v":0},{"$f":"'علوم نهاية السنة'!F31","v":0},{"$f":"'انكليزي نهاية السنة'!L31","v":0},{"$f":"'فنية نهاية السنة'!J31","v":0},{"$f":"'رياضة نهاية السنة'!L31","v":0},{"$f":"SUM(IFERROR(IF(SEARCH(\"\",D31:K31)>0,MID(D31:K31,3,10)+0),D31:K31))","v":0},{"$f":"IFERROR(IF(L31=\"\",\"\",IF(L31=0,\"\",n2t(L31))),\"\")","v":""},null,null,"",null,null,null,null,null,null,0,null,null,""]
[29,null,null,null,{"$f":"'اسلامية نهاية السنة'!L32","v":0},{"$f":"'عربي نهاية السنة'!AE32","v":0},{"$f":"'رياضيات نهاية السنة'!F32","v":0},{"$f":"'علوم نهاية السنة'!F32","v":0},{"$f":"'انكليزي نهاية السنة'!L32","v":0},{"$f":"'فنية نهاية السنة'!J32","v":0},{"$f":"'رياضة نهاية السنة'!L32","v":0},{"$f":"SUM(IFERROR(IF(SEARCH(\"\",D32:K32)>0,MID(D32:K32,3,10)+0),D32:K32))","v":0},{"$f":"IFERROR(IF(L32=\"\",\"\",IF(L32=0,\"\",n2t(L32))),\"\")","v":""},null,null,"",null,null,null,null,null,null,0,null,null,""]
[30,null,null,null,{"$f":"'اسلامية نهاية السنة'!L33","v":0},{"$f":"'عربي نهاية السنة'!AE33","v":0},{"$f":"'رياضيات نهاية السنة'!F33","v":0},{"$f":"'علوم نهاية السنة'!F33","v":0},{"$f":"'انكليزي نهاية السنة'!L33","v":0},{"$f":"'فنية نهاية السنة'!J33","v":0},{"$f":"'رياضة نهاية السنة'!L33","v":0},{"$f":"SUM(IFERROR(IF(SEARCH(\"\",D33:K33)>0,MID(D33:K33,3,10)+0),D33:K33))","v":0},{"$f":"IFERROR(IF(L33=\"\",\"\",IF(L33=0,\"\",n2t(L33))),\"\")","v":""},null,null,"",null,null,null,null,null,null,0,null,null,""]
[31,null,null,null,{"$f":"'اسلامية نهاية السنة'!L34","v":0},{"$f":"'عربي نهاية السنة'!AE34","v":0},{"$f":"'رياضيات نهاية السنة'!F34","v":0},{"$f":"'علوم نهاية السنة'!F34","v":0},{"$f":"'انكليزي نهاية السنة'!L34","v":0},{"$f":"'فنية نهاية السنة'!J34","v":0},{"$f":"'رياضة نهاية السنة'!L34","v":0},{"$f":"SUM(IFERROR(IF(SEARCH(\"\",D34:K34)>0,MID(D34:K34,3,10)+0),D34:K34))","v":0},{"$f":"IFERROR(IF(L34=\"\",\"\",IF(L34=0,\"\",n2t(L34))),\"\")","v":""},null,null,"",null,null,null,null,null,null,0,null,null,""]
[32,null,null,null,{"$f":"'اسلامية نهاية السنة'!L35","v":0},{"$f":"'عربي نهاية السنة'!AE35","v":0},{"$f":"'رياضيات نهاية السنة'!F35","v":0},{"$f":"'علوم نهاية السنة'!F35","v":0},{"$f":"'انكليزي نهاية السنة'!L35","v":0},{"$f":"'فنية نهاية السنة'!J35","v":0},{"$f":"'رياضة نهاية السنة'!L35","v":0},{"$f":"SUM(IFERROR(IF(SEARCH(\"\",D35:K35)>0,MID(D35:K35,3,10)+0),D35:K35))","v":0},{"$f":"IFERROR(IF(L35=\"\",\"\",IF(L35=0,\"\",n2t(L35))),\"\")","v":""},null,null,"",null,null,null,null,null,null,0,null,null,""]
[33,null,null,null,{"$f":"'اسلامية نهاية السنة'!L36","v":0},{"$f":"'عربي نهاية السنة'!AE36","v":0},{"$f":"'رياضيات نهاية السنة'!F36","v":0},{"$f":"'علوم نهاية السنة'!F36","v":0},{"$f":"'انكليزي نهاية السنة'!L36","v":0},{"$f":"'فنية نهاية السنة'!J36","v":0},{"$f":"'رياضة نهاية السنة'!L36","v":0},{"$f":"SUM(IFERROR(IF(SEARCH(\"\",D36:K36)>0,MID(D36:K36,3,10)+0),D36:K36))","v":0},{"$f":"IFERROR(IF(L36=\"\",\"\",IF(L36=0,\"\",n2t(L36))),\"\")","v":""},null,null,"",null,null,null,null,null,null,0,null,null,""]
[null,null,null,null,null,null,null,null,null,null,null,null,null,null,null,null,null,null,null,null,null,null,null,0]
["المشتركون",null,"الممتحنون",null,"الناجحون",null,"الراسبون",null,"الغياب",null,"المكملون",null,"النسبة",null,"النسبة الكلية %",{"$f":"IFERROR(O39*100/P39,\"\")","v":81.25},null,null,null,null,null,null,null,0]
[{"$f":"'الرئيسية '!I5","v":"ذكور"},{"$f":"COUNT(BB7:BB36)+COUNTIF(BB7:BB36,\"ذكر\")","v":0},{"$f":"'الرئيسية '!I5","v":"ذكور"},{"$f":"COUNT(P7:P36)+COUNTIF(P7:P36,\"ناجح\")+COUNTIF(P7:P36,\"راسب\")+COUNTIF(P7:P36,\"مكمل بدرس\")+COUNTIF(P7:P36,\"مكمل بدرسين\")","v":16},{"$f":"'الرئيسية '!I5","v":"ذكور"},{"$f":"COUNT(P7:P36)+COUNTIF(P7:P36,\"ناجح\")","v":13},{"$f":"'الرئيسية '!I5","v":"ذكور"},{"$f":"COUNT(P7:P36)+COUNTIF(P7:P36,\"راسب\")","v":1},{"$f":"'الرئيسية '!I5","v":"ذكور"},{"$f":"COUNT(P7:P36)+COUNTIF(P7:P36,\"غائب\")","v":6},{"$f":"'الرئيسية '!I5","v":"ذكور"},{"$f":"COUNT(P7:P36)+COUNTIF(P7:P36,\"مكمل بدرس\")+COUNTIF(P7:P36,\"مكمل بدرسين\")","v":2},{"$f":"'الرئيسية '!I5","v":"ذكور"},{"$f":"IFERROR(F39*100/D39,\"\")","v":81.25},{"$f":"F39+F40","v":13},{"$f":"D39+D40","v":16},null,null,null,null,null,null,null,4]
[{"$f":"'الرئيسية '!I7","v":"اناث"},{"$f":"COUNT(BB7:BB36)+COUNTIF(BB7:BB36,\"انثى\")","v":0},{"$f":"'الرئيسية '!I7","v":"اناث"},{"$f":"COUNT(P7:P36)+COUNTIF(P7:P36,\"ناجحة\")+COUNTIF(P7:P36,\"راسبة\")+COUNTIF(P7:P36,\"مكملة بدرس\")+COUNTIF(P7:P36,\"مكملة بدرسين\")","v":0},{"$f":"'الرئيسية '!I7","v":"اناث"},{"$f":"COUNT(P7:P36)+COUNTIF(P7:P36,\"ناجحة\")","v":0},{"$f":"'الرئيسية '!I7","v":"اناث"},{"$f":"COUNT(P7:P36)+COUNTIF(P7:P36,\"راسبة\")","v":0},{"$f":"'الرئيسية '!I7","v":"اناث"},{"$f":"COUNT(P7:P36)+COUNTIF(P7:P36,\"غائبة\")","v":0},{"$f":"'الرئيسية '!I7","v":"اناث"},{"$f":"COUNT(P7:P36)+COUNTIF(P7:P36,\"مكملة بدرس\")+COUNTIF(P7:P36,\"مكملة بدرسين\")","v":0},{"$f":"'الرئيسية '!I7","v":"اناث"},{"$f":"IFERROR(F40*100/D40,\"\")","v":""},null,null,null,null,null,null,null,null,null,3]
[null,null,{"$f":"'اسماء التلاميذ'!F7","v":0},null,null,null,null,null,null,null,null,null,{"$f":"'اسماء التلاميذ'!B3","v":0},null,null,null,null,null,null,null,null,null,null,0]
[null,null,"معلم المادة",null,null,null,null,null,null,null,null,null,"مدير المدرسة",null,null,null,null,null,null,null,null,null,null,0]

{"sheet":"قائمة نهاية السنة","index":9,"n_rows":42,"n_cols":24,"rows_kept":42,"cut":false,"hidden":false,"merged":[[3,0,3,2],[4,0,5,0],[4,1,5,1],[0,0,0,2],[0,3,0,10],[1,0,1,2],[1,3,1,10],[2,0,2,2],[2,3,2,11],[4,15,5,15],[5,12,5,14],[37,0,37,1],[37,2,37,3],[37,4,37,5],[37,6,37,7],[4,5,5,5],[4,6,5,6],[4,7,5,7],[4,8,5,8],[4,9,5,9],[4,10,5,10],[4,4,5,4],[4,2,5,3],[40,12,40,14],[41,12,41,14],[4,11,4,14],[37,8,37,9],[37,10,37,11],[37,12,37,13]]}
["جمهورية العراق",null,null,"            قائمة درجات نصف السنة",null,null,null,null,null,null,null,null,null,"الصف",{"$f":"'اسماء التلاميذ'!F2","v":"الأول"}]
["وزارة التربية",null,null,"           للعام الدراسي",null,null,null,null,null,null,null,null,null,"الشعبة",{"$f":"'اسماء التلاميذ'!F3","v":"أ"}]
["إدارة",null,null,{"$f":"'اسماء التلاميذ'!F4","v":"2021 - 2022"}]
[{"$f":"'اسماء التلاميذ'!B2","v":0}]
["ت","رقم القبول","الاسم الثلاثي",null,"التربية الإسلامية","اللغة العربية","الرياضيات","العلوم","الإنكليزي","الفنية والنشيد","التربية الرياضية","المجموع رقما وكتابة",null,null,null,"حالة التلميذ"]
[null,null,null,null,null,null,null,null,null,null,null,"رقما",{"$f":"IF(COUNTIF(B6:H6,\"<>\")<7,\"\",IF(COUNTIF(B6:H6,\"0\")>=7,IF($D6=\"ذكر\",\"غ\",\"غ\"),IF(COUNTIF(B6:H6,\"<5\")+COUNTIF(B6:H6,\"0\")>=3,IF($D6=\"ذكر\",\"راسب\",\"راسبة\"),IF(COUNTIF(B6:H6,\"<5\")+COUNTIF(B6:H6,\"غ\")=3,IF($D6=\"ذكر\",\"راسب\",\"راسبة\"),IF(COUNTIF(B6:H6,\"<5\")+COUNTIF(B6:H6,\"غ\")>=4,IF($D6=\"ذكر\",\"غائب\",\"غائبة\"),IF(COUNTIF(B6:H6,\"<5\")+COUNTIF(B6:H6,\"غ\")=1,IF($D6=\"ذكر\",\"مكمل\",\"مكملة\"),IF(COUNTIF(B6:H6,\"<5\")+COUNTIF(B6:H6,\"غ\")=2,IF($D6=\"ذكر\",\"مكمل\",\"مكملة\"),IF($D6=\"ذكر\",\"ناجح\",\"ناجحة\"))))))))","v":""}]
[4,"نوري",null,null,{"$f":"'اسلامية نهاية السنة'!L7","v":7},{"$f":"'عربي نهاية السنة'!AE7","v":2},{"$f":"'رياضيات نهاية السنة'!F7","v":7},{"$f":"'علوم نهاية السنة'!F7","v":6},{"$f":"'انكليزي نهاية السنة'!L7","v":7},{"$f":"'فنية نهاية السنة'!J7","v":9},{"$f":"'رياضة نهاية السنة'!L7","v":10},48,{"$f":"IFERROR(IF(L7=\"\",\"\",IF(L7=0,\"\",n2t(L7))),\"\")","v":"ثـمـان وأربـعونَ"},null,null,{"$f":"IF(COUNTIF(E7:K7,\"<>\")<7,\"\",IF(COUNTIF(E7:K7,\"0\")>=7,IF($BB7=\"انثى\",\"\",\"\"),IF(COUNTIF(E7:K7,\"<5\")+COUNTIF(E7:K7,\"0\")>=3,IF($BB7=\"انثى\",\"راسبة\",\"راسب\"),IF(COUNTIF(E7:K7,\"<5\")+COUNTIF(E7:K7,\"غ\")=2,IF($BB7=\"انثى\",\"مكملة بدرسين\",\"مكمل بدرسين\"),IF(COUNTIF(E7:K7,\"غ\")=7,IF($BB7=\"انثى\",\"غائبة\",\"غائب\"),IF(COUNTIF(E7:K7,\"<5\")+COUNTIF(E7:K7,\"غ\")>1,IF($BB7=\"انثى\",\"راسبة\",\"راسب\"),IF(COUNTIF(E7:K7,\"<5\")+COUNTIF(E7:K7,\"غ\")=1,IF($BB7=\"انثى\",\"مكملة بدرس\",\"مكمل بدرس\"),IF($BB7=\"انثى\",\"ناجحة\",\"ناجح\"))))))))","v":"مكمل بدرس"},{"$f":"IF(LEFT(P7,1)=\"ن\",\"ناجح\",\"\")&IF(LEFT(P7,1)=\"ر\",\"راسب\",\"\")&IF(LEFT(P7,1)=\"غ\",\"غائب\",\"\")&IF(LEFT(P7,1)=\"م\",\"مكمل\",\"\")","v":"مكمل"},null,null,null,null,null,{"$f":"IFERROR(ROUND((X7),0),\"غ\")","v":0}]
[5,"احمد",null,null,{"$f":"'اسلامية نهاية السنة'!L8","v":6},{"$f":"'عربي نهاية السنة'!AE8","v":5},{"$f":"'رياضيات نهاية السنة'!F8","v":5},{"$f":"'علوم نهاية السنة'!F8","v":5},{"$f":"'انكليزي نهاية السنة'!L8","v":5},{"$f":"'فنية نهاية السنة'!J8","v":9},{"$f":"'رياضة نهاية السنة'!L8","v":10},45,{"$f":"IFERROR(IF(L8=\"\",\"\",IF(L8=0,\"\",n2t(L8))),\"\")","v":"خـمـس وأربـعونَ"},null,null,{"$f":"IF(COUNTIF(E8:K8,\"<>\")<7,\"\",IF(COUNTIF(E8:K8,\"0\")>=7,IF($BB8=\"انثى\",\"\",\"\"),IF(COUNTIF(E8:K8,\"<5\")+COUNTIF(E8:K8,\"0\")>=3,IF($BB8=\"انثى\",\"راسبة\",\"راسب\"),IF(COUNTIF(E8:K8,\"<5\")+COUNTIF(E8:K8,\"غ\")=2,IF($BB8=\"انثى\",\"مكملة بدرسين\",\"مكمل بدرسين\"),IF(COUNTIF(E8:K8,\"غ\")=7,IF($BB8=\"انثى\",\"غائبة\",\"غائب\"),IF(COUNTIF(E8:K8,\"<5\")+COUNTIF(E8:K8,\"غ\")>1,IF($BB8=\"انثى\",\"راسبة\",\"راسب\"),IF(COUNTIF(E8:K8,\"<5\")+COUNTIF(E8:K8,\"غ\")=1,IF($BB8=\"انثى\",\"مكملة بدرس\",\"مكمل بدرس\"),IF($BB8=\"انثى\",\"ناجحة\",\"ناجح\"))))))))","v":"ناجح"},{"$f":"IF(LEFT(P8,1)=\"ن\",\"ناجح\",\"\")&IF(LEFT(P8,1)=\"ر\",\"راسب\",\"\")&IF(LEFT(P8,1)=\"غ\",\"غائب\",\"\")&IF(LEFT(P8,1)=\"م\",\"مكمل\",\"\")","v":"ناجح"},null,null,null,null,null,{"$f":"IFERROR(ROUND((X8),0),\"غ\")","v":0}]
[6,null,null,null,{"$f":"'اسلامية نهاية السنة'!L9","v":8},{"$f":"'عربي نهاية السنة'!AE9","v":8},{"$f":"'رياضيات نهاية السنة'!F9","v":8},{"$f":"'علوم نهاية السنة'!F9","v":7},{"$f":"'انكليزي نهاية السنة'!L9","v":6},{"$f":"'فنية نهاية السنة'!J9","v":10},{"$f":"'رياضة نهاية السنة'!L9","v":10},57,{"$f":"IFERROR(IF(L9=\"\",\"\",IF(L9=0,\"\",n2t(L9))),\"\")","v":"سـبـع وخـمـسونَ"},null,null,"ناجح","ناجح",null,null,null,null,null,0]
[7,null,null,null,{"$f":"'اسلامية نهاية السنة'!L10","v":5},{"$f":"'عربي نهاية السنة'!AE10","v":5},{"$f":"'رياضيات نهاية السنة'!F10","v":5},{"$f":"'علوم نهاية السنة'!F10","v":5},{"$f":"'انكليزي نهاية السنة'!L10","v":5},{"$f":"'فنية نهاية السنة'!J10","v":9},{"$f":"'رياضة نهاية السنة'!L10","v":9},43,{"$f":"IFERROR(IF(L10=\"\",\"\",IF(L10=0,\"\",n2t(L10))),\"\")","v":"ثـلاث وأربـعونَ"},null,null,"ناجح","ناجح",null,null,null,null,null,0]
[8,null,null,null,{"$f":"'اسلامية نهاية السنة'!L11","v":7},{"$f":"'عربي نهاية السنة'!AE11","v":6},{"$f":"'رياضيات نهاية السنة'!F11","v":7},{"$f":"'علوم نهاية السنة'!F11","v":6},{"$f":"'انكليزي نهاية السنة'!L11","v":7},{"$f":"'فنية نهاية السنة'!J11","v":9},{"$f":"'رياضة نهاية السنة'!L11","v":10},52,{"$f":"IFERROR(IF(L11=\"\",\"\",IF(L11=0,\"\",n2t(L11))),\"\")","v":"اثنتانِ وخـمـسونَ"},null,null,"ناجح","ناجح",null,null,null,null,null,0]
[9,null,null,null,{"$f":"'اسلامية نهاية السنة'!L12","v":5},{"$f":"'عربي نهاية السنة'!AE12","v":2},{"$f":"'رياضيات نهاية السنة'!F12","v":2},{"$f":"'علوم نهاية السنة'!F12","v":2},{"$f":"'انكليزي نهاية السنة'!L12","v":5},{"$f":"'فنية نهاية السنة'!J12","v":6},{"$f":"'رياضة نهاية السنة'!L12","v":9},31,{"$f":"IFERROR(IF(L12=\"\",\"\",IF(L12=0,\"\",n2t(L12))),\"\")","v":"إحدى وثـلاثونَ"},null,null,"راسب","راسب",null,null,null,null,null,0]
[10,null,null,null,{"$f":"'اسلامية نهاية السنة'!L13","v":9},{"$f":"'عربي نهاية السنة'!AE13","v":7},{"$f":"'رياضيات نهاية السنة'!F13","v":7},{"$f":"'علوم نهاية السنة'!F13","v":8},{"$f":"'انكليزي نهاية السنة'!L13","v":7},{"$f":"'فنية نهاية السنة'!J13","v":10},{"$f":"'رياضة نهاية السنة'!L13","v":10},58,{"$f":"IFERROR(IF(L13=\"\",\"\",IF(L13=0,\"\",n2t(L13))),\"\")","v":"ثـمـان وخـمـسونَ"},null,null,"ناجح","ناجح",null,null,null,null,null,0]
[11,null,null,null,{"$f":"'اسلامية نهاية السنة'!L14","v":8},{"$f":"'عربي نهاية السنة'!AE14","v":6},{"$f":"'رياضيات نهاية السنة'!F14","v":7},{"$f":"'علوم نهاية السنة'!F14","v":5},{"$f":"'انكليزي نهاية السنة'!L14","v":6},{"$f":"'فنية نهاية السنة'!J14","v":8},{"$f":"'رياضة نهاية السنة'!L14","v":9},49,{"$f":"IFERROR(IF(L14=\"\",\"\",IF(L14=0,\"\",n2t(L14))),\"\")","v":"تـسـع وأربـعونَ"},null,null,"ناجح","ناجح",null,null,null,null,null,0]
[12,null,null,null,{"$f":"'اسلامية نهاية السنة'!L15","v":"غ"},{"$f":"'عربي نهاية السنة'!AE15","v":"غ"},{"$f":"'رياضيات نهاية السنة'!F15","v":"غ"},{"$f":"'علوم نهاية السنة'!F15","v":"غ"},{"$f":"'انكليزي نهاية السنة'!L15","v":"غ"},{"$f":"'فنية نهاية السنة'!J15","v":"غ"},{"$f":"'رياضة نهاية السنة'!L15","v":"غ"},"غ",{"$f":"IFERROR(IF(L15=\"\",\"\",IF(L15=0,\"\",n2t(L15))),\"\")","v":"غـائـب"},null,null,"غائب","غائب",null,null,null,null,null,0]
[13,null,null,null,{"$f":"'اسلامية نهاية السنة'!L16","v":7},{"$f":"'عربي نهاية السنة'!AE16","v":6},{"$f":"'رياضيات نهاية السنة'!F16","v":6},{"$f":"'علوم نهاية السنة'!F16","v":6},{"$f":"'انكليزي نهاية السنة'!L16","v":5},{"$f":"'فنية نهاية السنة'!J16","v":10},{"$f":"'رياضة نهاية السنة'!L16","v":9},49,{"$f":"IFERROR(IF(L16=\"\",\"\",IF(L16=0,\"\",n2t(L16))),\"\")","v":"تـسـع وأربـعونَ"},null,null,"ناجح","ناجح",null,null,null,null,null,0]
[14,null,null,null,{"$f":"'اسلامية نهاية السنة'!L17","v":7},{"$f":"'عربي نهاية السنة'!AE17","v":6},{"$f":"'رياضيات نهاية السنة'!F17","v":6},{"$f":"'علوم نهاية السنة'!F17","v":6},{"$f":"'انكليزي نهاية السنة'!L17","v":5},{"$f":"'فنية نهاية السنة'!J17","v":10},{"$f":"'رياضة نهاية السنة'!L17","v":9},49,{"$f":"IFERROR(IF(L17=\"\",\"\",IF(L17=0,\"\",n2t(L17))),\"\")","v":"تـسـع وأربـعونَ"},null,null,"ناجح","ناجح",null,null,null,null,null,0]
[15,null,null,null,{"$f":"'اسلامية نهاية السنة'!L18","v":"غ"},{"$f":"'عربي نهاية السنة'!AE18","v":"غ"},{"$f":"'رياضيات نهاية السنة'!F18","v":"غ"},{"$f":"'علوم نهاية السنة'!F18","v":"غ"},{"$f":"'انكليزي نهاية السنة'!L18","v":"غ"},{"$f":"'فنية نهاية السنة'!J18","v":"غ"},{"$f":"'رياضة نهاية السنة'!L18","v":"غ"},"غ",{"$f":"IFERROR(IF(L18=\"\",\"\",IF(L18=0,\"\",n2t(L18))),\"\")","v":"غـائـب"},null,null,"غائب","غائب",null,null,null,null,null,0]
[16,null,null,null,{"$f":"'اسلامية نهاية السنة'!L19","v":"غ"},{"$f":"'عربي نهاية السنة'!AE19","v":"غ"},{"$f":"'رياضيات نهاية السنة'!F19","v":"غ"},{"$f":"'علوم نهاية السنة'!F19","v":"غ"},{"$f":"'انكليزي نهاية السنة'!L19","v":"غ"},{"$f":"'فنية نهاية السنة'!J19","v":"غ"},{"$f":"'رياضة نهاية السنة'!L19","v":"غ"},"غ",{"$f":"IFERROR(IF(L19=\"\",\"\",IF(L19=0,\"\",n2t(L19))),\"\")","v":"غـائـب"},null,null,"غائب","غائب",null,null,null,null,null,0]
[17,null,null,null,{"$f":"'اسلامية نهاية السنة'!L20","v":5},{"$f":"'عربي نهاية السنة'!AE20","v":2},{"$f":"'رياضيات نهاية السنة'!F20","v":5},{"$f":"'علوم نهاية السنة'!F20","v":5},{"$f":"'انكليزي نهاية السنة'!L20","v":6},{"$f":"'فنية نهاية السنة'!J20","v":9},{"$f":"'رياضة نهاية السنة'!L20","v":9},41,{"$f":"IFERROR(IF(L20=\"\",\"\",IF(L20=0,\"\",n2t(L20))),\"\")","v":"إحدى وأربـعونَ"},null,null,"مكمل بدرس","مكمل",null,null,null,null,null,0]
[18,null,null,null,{"$f":"'اسلامية نهاية السنة'!L21","v":10},{"$f":"'عربي نهاية السنة'!AE21","v":9},{"$f":"'رياضيات نهاية السنة'!F21","v":10},{"$f":"'علوم نهاية السنة'!F21","v":10},{"$f":"'انكليزي نهاية السنة'!L21","v":9},{"$f":"'فنية نهاية السنة'!J21","v":10},{"$f":"'رياضة نهاية السنة'!L21","v":10},68,{"$f":"IFERROR(IF(L21=\"\",\"\",IF(L21=0,\"\",n2t(L21))),\"\")","v":"ثـمـان وسـتونَ"},null,null,"ناجح","ناجح",null,null,null,null,null,0]
[19,null,null,null,{"$f":"'اسلامية نهاية السنة'!L22","v":7},{"$f":"'عربي نهاية السنة'!AE22","v":6},{"$f":"'رياضيات نهاية السنة'!F22","v":6},{"$f":"'علوم نهاية السنة'!F22","v":7},{"$f":"'انكليزي نهاية السنة'!L22","v":6},{"$f":"'فنية نهاية السنة'!J22","v":10},{"$f":"'رياضة نهاية السنة'!L22","v":10},52,{"$f":"IFERROR(IF(L22=\"\",\"\",IF(L22=0,\"\",n2t(L22))),\"\")","v":"اثنتانِ وخـمـسونَ"},null,null,"ناجح","ناجح",null,null,null,null,null,0]
[20,null,null,null,{"$f":"'اسلامية نهاية السنة'!L23","v":"غ"},{"$f":"'عربي نهاية السنة'!AE23","v":"غ"},{"$f":"'رياضيات نهاية السنة'!F23","v":"غ"},{"$f":"'علوم نهاية السنة'!F23","v":"غ"},{"$f":"'انكليزي نهاية السنة'!L23","v":"غ"},{"$f":"'فنية نهاية السنة'!J23","v":"غ"},{"$f":"'رياضة نهاية السنة'!L23","v":"غ"},"غ",{"$f":"IFERROR(IF(L23=\"\",\"\",IF(L23=0,\"\",n2t(L23))),\"\")","v":"غـائـب"},null,null,"غائب","غائب",null,null,null,null,null,0]
[21,null,null,null,{"$f":"'اسلامية نهاية السنة'!L24","v":"غ"},{"$f":"'عربي نهاية السنة'!AE24","v":"غ"},{"$f":"'رياضيات نهاية السنة'!F24","v":"غ"},{"$f":"'علوم نهاية السنة'!F24","v":"غ"},{"$f":"'انكليزي نهاية السنة'!L24","v":"غ"},{"$f":"'فنية نهاية السنة'!J24","v":"غ"},{"$f":"'رياضة نهاية السنة'!L24","v":"غ"},"غ",{"$f":"IFERROR(IF(L24=\"\",\"\",IF(L24=0,\"\",n2t(L24))),\"\")","v":"غـائـب"},null,null,"غائب","غائب",null,null,null,null,null,0]
[22,null,null,null,{"$f":"'اسلامية نهاية السنة'!L25","v":7},{"$f":"'عربي نهاية السنة'!AE25","v":7},{"$f":"'رياضيات نهاية السنة'!F25","v":7},{"$f":"'علوم نهاية السنة'!F25","v":6},{"$f":"'انكليزي نهاية السنة'!L25","v":5},{"$f":"'فنية نهاية السنة'!J25","v":10},{"$f":"'رياضة نهاية السنة'!L25","v":10},52,{"$f":"IFERROR(IF(L25=\"\",\"\",IF(L25=0,\"\",n2t(L25))),\"\")","v":"اثنتانِ وخـمـسونَ"},null,null,"ناجح","ناجح",null,null,null,null,null,0]
[23,null,null,null,{"$f":"'اسلامية نهاية السنة'!L26","v":"غ"},{"$f":"'عربي نهاية السنة'!AE26","v":"غ"},{"$f":"'رياضيات نهاية السنة'!F26","v":"غ"},{"$f":"'علوم نهاية السنة'!F26","v":"غ"},{"$f":"'انكليزي نهاية السنة'!L26","v":"غ"},{"$f":"'فنية نهاية السنة'!J26","v":"غ"},{"$f":"'رياضة نهاية السنة'!L26","v":"غ"},"غ",{"$f":"IFERROR(IF(L26=\"\",\"\",IF(L26=0,\"\",n2t(L26))),\"\")","v":"غـائـب"},null,null,"غائب","غائب",null,null,null,null,null,0]
[24,null,null,null,{"$f":"'اسلامية نهاية السنة'!L27","v":7},{"$f":"'عربي نهاية السنة'!AE27","v":7},{"$f":"'رياضيات نهاية السنة'!F27","v":3},{"$f":"'علوم نهاية السنة'!F27","v":7},{"$f":"'انكليزي نهاية السنة'!L27","v":6},{"$f":"'فنية نهاية السنة'!J27","v":10},{"$f":"'رياضة نهاية السنة'!L27","v":10},50,{"$f":"IFERROR(IF(L27=\"\",\"\",IF(L27=0,\"\",n2t(L27))),\"\")","v":"خـمـسونَ"},null,null,"مكمل بدرس","مكمل",null,null,null,null,null,0]
[25,null,null,null,{"$f":"'اسلامية نهاية السنة'!L28","v":10},{"$f":"'عربي نهاية السنة'!AE28","v":10},{"$f":"'رياضيات نهاية السنة'!F28","v":10},{"$f":"'علوم نهاية السنة'!F28","v":10},{"$f":"'انكليزي نهاية السنة'!L28","v":10},{"$f":"'فنية نهاية السنة'!J28","v":10},{"$f":"'رياضة نهاية السنة'!L28","v":10},70,{"$f":"IFERROR(IF(L28=\"\",\"\",IF(L28=0,\"\",n2t(L28))),\"\")","v":"سـبـعونَ"},null,null,"ناجح","ناجح",null,null,null,null,null,0]
[26,null,null,null,{"$f":"'اسلامية نهاية السنة'!L29","v":0},{"$f":"'عربي نهاية السنة'!AE29","v":0},{"$f":"'رياضيات نهاية السنة'!F29","v":0},{"$f":"'علوم نهاية السنة'!F29","v":0},{"$f":"'انكليزي نهاية السنة'!L29","v":0},{"$f":"'فنية نهاية السنة'!J29","v":0},{"$f":"'رياضة نهاية السنة'!L29","v":0},0,{"$f":"IFERROR(IF(L29=\"\",\"\",IF(L29=0,\"\",n2t(L29))),\"\")","v":""},null,null,"","",null,null,null,null,null,0]
[27,null,null,null,{"$f":"'اسلامية نهاية السنة'!L30","v":0},{"$f":"'عربي نهاية السنة'!AE30","v":0},{"$f":"'رياضيات نهاية السنة'!F30","v":0},{"$f":"'علوم نهاية السنة'!F30","v":0},{"$f":"'انكليزي نهاية السنة'!L30","v":0},{"$f":"'فنية نهاية السنة'!J30","v":0},{"$f":"'رياضة نهاية السنة'!L30","v":0},0,{"$f":"IFERROR(IF(L30=\"\",\"\",IF(L30=0,\"\",n2t(L30))),\"\")","v":""},null,null,"","",null,null,null,null,null,0]
[28,null,null,null,{"$f":"'اسلامية نهاية السنة'!L31","v":0},{"$f":"'عربي نهاية السنة'!AE31","v":0},{"$f":"'رياضيات نهاية السنة'!F31","v":0},{"$f":"'علوم نهاية السنة'!F31","v":0},{"$f":"'انكليزي نهاية السنة'!L31","v":0},{"$f":"'فنية نهاية السنة'!J31","v":0},{"$f":"'رياضة نهاية السنة'!L31","v":0},0,{"$f":"IFERROR(IF(L31=\"\",\"\",IF(L31=0,\"\",n2t(L31))),\"\")","v":""},null,null,"","",null,null,null,null,null,0]
[29,null,null,null,{"$f":"'اسلامية نهاية السنة'!L32","v":0},{"$f":"'عربي نهاية السنة'!AE32","v":0},{"$f":"'رياضيات نهاية السنة'!F32","v":0},{"$f":"'علوم نهاية السنة'!F32","v":0},{"$f":"'انكليزي نهاية السنة'!L32","v":0},{"$f":"'فنية نهاية السنة'!J32","v":0},{"$f":"'رياضة نهاية السنة'!L32","v":0},0,{"$f":"IFERROR(IF(L32=\"\",\"\",IF(L32=0,\"\",n2t(L32))),\"\")","v":""},null,null,"","",null,null,null,null,null,0]
[30,null,null,null,{"$f":"'اسلامية نهاية السنة'!L33","v":0},{"$f":"'عربي نهاية السنة'!AE33","v":0},{"$f":"'رياضيات نهاية السنة'!F33","v":0},{"$f":"'علوم نهاية السنة'!F33","v":0},{"$f":"'انكليزي نهاية السنة'!L33","v":0},{"$f":"'فنية نهاية السنة'!J33","v":0},{"$f":"'رياضة نهاية السنة'!L33","v":0},0,{"$f":"IFERROR(IF(L33=\"\",\"\",IF(L33=0,\"\",n2t(L33))),\"\")","v":""},null,null,"","",null,null,null,null,null,0]
[31,null,null,null,{"$f":"'اسلامية نهاية السنة'!L34","v":0},{"$f":"'عربي نهاية السنة'!AE34","v":0},{"$f":"'رياضيات نهاية السنة'!F34","v":0},{"$f":"'علوم نهاية السنة'!F34","v":0},{"$f":"'انكليزي نهاية السنة'!L34","v":0},{"$f":"'فنية نهاية السنة'!J34","v":0},{"$f":"'رياضة نهاية السنة'!L34","v":0},0,{"$f":"IFERROR(IF(L34=\"\",\"\",IF(L34=0,\"\",n2t(L34))),\"\")","v":""},null,null,"","",null,null,null,null,null,0]
[32,null,null,null,{"$f":"'اسلامية نهاية السنة'!L35","v":0},{"$f":"'عربي نهاية السنة'!AE35","v":0},{"$f":"'رياضيات نهاية السنة'!F35","v":0},{"$f":"'علوم نهاية السنة'!F35","v":0},{"$f":"'انكليزي نهاية السنة'!L35","v":0},{"$f":"'فنية نهاية السنة'!J35","v":0},{"$f":"'رياضة نهاية السنة'!L35","v":0},0,{"$f":"IFERROR(IF(L35=\"\",\"\",IF(L35=0,\"\",n2t(L35))),\"\")","v":""},null,null,"","",null,null,null,null,null,0]
[33,null,null,null,{"$f":"'اسلامية نهاية السنة'!L36","v":0},{"$f":"'عربي نهاية السنة'!AE36","v":0},{"$f":"'رياضيات نهاية السنة'!F36","v":0},{"$f":"'علوم نهاية السنة'!F36","v":0},{"$f":"'انكليزي نهاية السنة'!L36","v":0},{"$f":"'فنية نهاية السنة'!J36","v":0},{"$f":"'رياضة نهاية السنة'!L36","v":0},null,{"$f":"IFERROR(IF(L36=\"\",\"\",IF(L36=0,\"\",n2t(L36))),\"\")","v":""},null,null,"","",null,null,null,null,null,0]
[]
["المشتركون",null,"الممتحنون",null,"الناجحون",null,"الراسبون",null,"الغياب",null,"المكملون",null,"النسبة",null,"النسبة الكلية %",{"$f":"IFERROR(O39*100/P39,\"\")","v":92.307692307692307}]
[{"$f":"'الرئيسية '!I5","v":"ذكور"},{"$f":"COUNT(BB7:BB36)+COUNTIF(BB7:BB36,\"ذكر\")","v":0},{"$f":"'الرئيسية '!I5","v":"ذكور"},{"$f":"COUNT(P7:P36)+COUNTIF(P7:P36,\"ناجح\")+COUNTIF(P7:P36,\"راسب\")+COUNTIF(P7:P36,\"بدرس مكمل\")+COUNTIF(P7:P36,\"مكمل بدرسين\")","v":13},{"$f":"'الرئيسية '!I5","v":"ذكور"},{"$f":"COUNT(P7:P36)+COUNTIF(P7:P36,\"ناجح\")","v":12},{"$f":"'الرئيسية '!I5","v":"ذكور"},{"$f":"COUNT(P7:P36)+COUNTIF(P7:P36,\"راسب\")","v":1},{"$f":"'الرئيسية '!I5","v":"ذكور"},{"$f":"COUNT(P7:P36)+COUNTIF(P7:P36,\"غائب\")","v":6},{"$f":"'الرئيسية '!I5","v":"ذكور"},{"$f":"COUNT(P7:P36)+COUNTIF(P7:P36,\"مكمل بدرس\")+COUNTIF(P7:P36,\"مكمل بدرسين\")","v":3},{"$f":"'الرئيسية '!I5","v":"ذكور"},{"$f":"IFERROR(F39*100/D39,\"\")","v":92.307692307692307},{"$f":"F39+F40","v":12},{"$f":"D39+D40","v":13},null,null,null,null,null,null,null,4]
[{"$f":"'الرئيسية '!I7","v":"اناث"},{"$f":"COUNT(BB7:BB36)+COUNTIF(BB7:BB36,\"انثى\")","v":0},{"$f":"'الرئيسية '!I7","v":"اناث"},{"$f":"COUNT(P7:P36)+COUNTIF(P7:P36,\"ناجحة\")+COUNTIF(P7:P36,\"راسبة\")+COUNTIF(P7:P36,\"مكملة بدرس\")+COUNTIF(P7:P36,\"مكملة بدرسين\")","v":0},{"$f":"'الرئيسية '!I7","v":"اناث"},{"$f":"COUNT(P7:P36)+COUNTIF(P7:P36,\"ناجحة\")","v":0},{"$f":"'الرئيسية '!I7","v":"اناث"},{"$f":"COUNT(P7:P36)+COUNTIF(P7:P36,\"راسبة\")","v":0},{"$f":"'الرئيسية '!I7","v":"اناث"},{"$f":"COUNT(P7:P36)+COUNTIF(P7:P36,\"غائبة\")","v":0},{"$f":"'الرئيسية '!I7","v":"اناث"},{"$f":"COUNT(P7:P36)+COUNTIF(P7:P36,\"مكملة بدرس\")+COUNTIF(P7:P36,\" مكملة بدرسين\")","v":0},{"$f":"'الرئيسية '!I7","v":"اناث"},{"$f":"IFERROR(F40*100/D40,\"\")","v":""},null,null,null,null,null,null,null,null,null,3]
[null,null,{"$f":"'اسماء التلاميذ'!F7","v":0},null,null,null,null,null,null,null,null,null,{"$f":"'اسماء التلاميذ'!B3","v":0},null,null,null,null,null,null,null,null,null,null,0]
[null,null,"معلم المادة",null,null,null,null,null,null,null,null,null,"مدير المدرسة",null,null,null,null,null,null,null,null,null,null,0]

{"sheet":"الناجحون من الصف","index":10,"n_rows":18,"n_cols":3,"rows_kept":18,"cut":false,"hidden":false,"merged":[]}
[]
[]
[]
[]
[]
[]
[null,3661,"احمد محمد عبد الرحيم محمد"]
[null,3662,"احمد نعيم حسين عدنان"]
[null,3663,"ازل هاني محمد إبراهيم"]
[null,3664,"انس احمد ستار جبار"]
[null,3666,"حذيفة علاء وهب حمد"]
[null,3667,"حسام علاء مصلح فريح"]
[null,3669,"حيدر احمد مهدي صالح"]
[null,3670,"حيدر زياد ناجي صلبي"]
[null,3674,"سعد حسين محمد حسين"]
[null,3675,"سفر محمد حماد صالح"]
[null,3678,"صالح محمود صالح عبود"]
[null,3680,"عبد المهيمن اركان هذال"]

{"sheet":"الراسبون في الصف","index":11,"n_rows":7,"n_cols":3,"rows_kept":7,"cut":false,"hidden":false,"merged":[]}
[]
[null,null,"اسماء التلاميذ"]
[]
[]
[null,7]
[]
[null,3665,"بكر صباح سليمان عبود"]

{"sheet":"سجل امتحان الدور الثاني","index":12,"n_rows":42,"n_cols":24,"rows_kept":42,"cut":false,"hidden":false,"merged":[[40,12,40,14],[41,12,41,14],[4,11,4,14],[4,15,5,15],[5,12,5,14],[37,10,37,11],[37,12,37,13],[4,10,5,10],[4,7,5,7],[4,8,5,8],[37,0,37,1],[37,2,37,3],[37,4,37,5],[37,6,37,7],[37,8,37,9],[0,12,0,13],[1,12,1,13],[3,0,3,2],[4,0,5,0],[4,1,5,1],[4,2,5,3],[0,0,0,2],[0,3,0,10],[1,0,1,2],[1,3,1,10],[2,0,2,2],[2,3,2,11],[4,9,5,9],[4,4,5,4],[4,5,5,5],[4,6,5,6]]}
["جمهورية العراق",null,null,"            قائمة درجات الدور الثاني",null,null,null,null,null,null,null,null,"الصف",null,{"$f":"'اسماء التلاميذ'!F2","v":"الأول"}]
["وزارة التربية",null,null,"           للعام الدراسي",null,null,null,null,null,null,null,null,"الشعبة",null,{"$f":"'اسماء التلاميذ'!F3","v":"أ"}]
["إدارة",null,null,{"$f":"'اسماء التلاميذ'!F4","v":"2021 - 2022"}]
[{"$f":"'اسماء التلاميذ'!B2","v":0}]
["ت","رقم القبول","الاسم الثلاثي",null,"التربية الإسلامية","اللغة العربية","الرياضيات","العلوم","الإنكليزي","الفنية والنشيد","التربية الرياضية","المجموع رقما وكتابة",null,null,null,"حالة التلميذ"]
[null,null,null,null,null,null,null,null,null,null,null,"رقما","كتابة"]
[4,"نوري",null,null,{"$f":"'اسلامية دور ثاني'!L7","v":0},{"$f":"'عربي دور ثاني'!AE7","v":5},{"$f":"'رياضيات دور ثاني'!F7","v":0},{"$f":"'علوم دور ثاني'!F7","v":0},{"$f":"'انكليزي دور ثاني'!L7","v":0},{"$f":"'فنية دور ثاني'!J7","v":0},{"$f":"'رياضة دور ثاني'!L7","v":0},null,null,null,null,{"$f":"IF(D7:H7<>0,IF(SUM(COUNTA(D7:H7))=0,\"\",IF(SUM(--(D7:H7=\"غ\"),((D7:H7<>\"\")*(D7:H7<5))),\"راسب\",\"ناجح\")),\"\")","v":""}]
[5,"احمد",null,null,{"$f":"'اسلامية دور ثاني'!L8","v":0},{"$f":"'عربي دور ثاني'!AE8","v":0},{"$f":"'رياضيات دور ثاني'!F8","v":0},{"$f":"'علوم دور ثاني'!F8","v":0},{"$f":"'انكليزي دور ثاني'!L8","v":0},{"$f":"'فنية دور ثاني'!J8","v":0},{"$f":"'رياضة دور ثاني'!L8","v":0},null,null,null,null,{"$f":"IF(D8:H8<>0,IF(SUM(COUNTA(D8:H8))=0,\"\",IF(SUM(--(D8:H8=\"غ\"),((D8:H8<>\"\")*(D8:H8<5))),\"راسب\",\"ناجح\")),\"\")","v":""},null,null,null,null,null,null,{"$f":"IFERROR(ROUND((X8),0),\"غ\")","v":0}]
[6,null,null,null,{"$f":"'اسلامية دور ثاني'!L9","v":0},{"$f":"'عربي دور ثاني'!AE9","v":0},{"$f":"'رياضيات دور ثاني'!F9","v":0},{"$f":"'علوم دور ثاني'!F9","v":0},{"$f":"'انكليزي دور ثاني'!L9","v":0},{"$f":"'فنية دور ثاني'!J9","v":0},{"$f":"'رياضة دور ثاني'!L9","v":0},null,null,null,null,{"$f":"IF(D9:H9<>0,IF(SUM(COUNTA(D9:H9))=0,\"\",IF(SUM(--(D9:H9=\"غ\"),((D9:H9<>\"\")*(D9:H9<5))),\"راسب\",\"ناجح\")),\"\")","v":""},null,null,null,null,null,null,{"$f":"IFERROR(ROUND((X9),0),\"غ\")","v":0}]
[7,null,null,null,{"$f":"'اسلامية دور ثاني'!L10","v":0},{"$f":"'عربي دور ثاني'!AE10","v":0},{"$f":"'رياضيات دور ثاني'!F10","v":0},{"$f":"'علوم دور ثاني'!F10","v":0},{"$f":"'انكليزي دور ثاني'!L10","v":0},{"$f":"'فنية دور ثاني'!J10","v":0},{"$f":"'رياضة دور ثاني'!L10","v":0},null,null,null,null,{"$f":"IF(D10:H10<>0,IF(SUM(COUNTA(D10:H10))=0,\"\",IF(SUM(--(D10:H10=\"غ\"),((D10:H10<>\"\")*(D10:H10<5))),\"راسب\",\"ناجح\")),\"\")","v":""},null,null,null,null,null,null,0]
[8,null,null,null,{"$f":"'اسلامية دور ثاني'!L11","v":0},{"$f":"'عربي دور ثاني'!AE11","v":0},{"$f":"'رياضيات دور ثاني'!F11","v":0},{"$f":"'علوم دور ثاني'!F11","v":0},{"$f":"'انكليزي دور ثاني'!L11","v":0},{"$f":"'فنية دور ثاني'!J11","v":0},{"$f":"'رياضة دور ثاني'!L11","v":0},null,null,null,null,{"$f":"IF(D11:H11<>0,IF(SUM(COUNTA(D11:H11))=0,\"\",IF(SUM(--(D11:H11=\"غ\"),((D11:H11<>\"\")*(D11:H11<5))),\"راسب\",\"ناجح\")),\"\")","v":""},null,null,null,null,null,null,0]
[9,null,null,null,{"$f":"'اسلامية دور ثاني'!L12","v":0},{"$f":"'عربي دور ثاني'!AE12","v":0},{"$f":"'رياضيات دور ثاني'!F12","v":0},{"$f":"'علوم دور ثاني'!F12","v":0},{"$f":"'انكليزي دور ثاني'!L12","v":0},{"$f":"'فنية دور ثاني'!J12","v":0},{"$f":"'رياضة دور ثاني'!L12","v":0},null,null,null,null,{"$f":"IF(D12:H12<>0,IF(SUM(COUNTA(D12:H12))=0,\"\",IF(SUM(--(D12:H12=\"غ\"),((D12:H12<>\"\")*(D12:H12<5))),\"راسب\",\"ناجح\")),\"\")","v":""},null,null,null,null,null,null,0]
[10,null,null,null,{"$f":"'اسلامية دور ثاني'!L13","v":0},{"$f":"'عربي دور ثاني'!AE13","v":0},{"$f":"'رياضيات دور ثاني'!F13","v":0},{"$f":"'علوم دور ثاني'!F13","v":0},{"$f":"'انكليزي دور ثاني'!L13","v":0},{"$f":"'فنية دور ثاني'!J13","v":0},{"$f":"'رياضة دور ثاني'!L13","v":0},null,null,null,null,{"$f":"IF(D13:H13<>0,IF(SUM(COUNTA(D13:H13))=0,\"\",IF(SUM(--(D13:H13=\"غ\"),((D13:H13<>\"\")*(D13:H13<5))),\"راسب\",\"ناجح\")),\"\")","v":""},null,null,null,null,null,null,0]
[11,null,null,null,{"$f":"'اسلامية دور ثاني'!L14","v":0},{"$f":"'عربي دور ثاني'!AE14","v":0},{"$f":"'رياضيات دور ثاني'!F14","v":0},{"$f":"'علوم دور ثاني'!F14","v":0},{"$f":"'انكليزي دور ثاني'!L14","v":0},{"$f":"'فنية دور ثاني'!J14","v":0},{"$f":"'رياضة دور ثاني'!L14","v":0},null,null,null,null,{"$f":"IF(D14:H14<>0,IF(SUM(COUNTA(D14:H14))=0,\"\",IF(SUM(--(D14:H14=\"غ\"),((D14:H14<>\"\")*(D14:H14<5))),\"راسب\",\"ناجح\")),\"\")","v":""},null,null,null,null,null,null,0]
[12,null,null,null,{"$f":"'اسلامية دور ثاني'!L15","v":0},{"$f":"'عربي دور ثاني'!AE15","v":0},{"$f":"'رياضيات دور ثاني'!F15","v":0},{"$f":"'علوم دور ثاني'!F15","v":0},{"$f":"'انكليزي دور ثاني'!L15","v":0},{"$f":"'فنية دور ثاني'!J15","v":0},{"$f":"'رياضة دور ثاني'!L15","v":0},null,null,null,null,{"$f":"IF(D15:H15<>0,IF(SUM(COUNTA(D15:H15))=0,\"\",IF(SUM(--(D15:H15=\"غ\"),((D15:H15<>\"\")*(D15:H15<5))),\"راسب\",\"ناجح\")),\"\")","v":""},null,null,null,null,null,null,0]
[13,null,null,null,{"$f":"'اسلامية دور ثاني'!L16","v":0},{"$f":"'عربي دور ثاني'!AE16","v":0},{"$f":"'رياضيات دور ثاني'!F16","v":0},{"$f":"'علوم دور ثاني'!F16","v":0},{"$f":"'انكليزي دور ثاني'!L16","v":0},{"$f":"'فنية دور ثاني'!J16","v":0},{"$f":"'رياضة دور ثاني'!L16","v":0},null,null,null,null,{"$f":"IF(D16:H16<>0,IF(SUM(COUNTA(D16:H16))=0,\"\",IF(SUM(--(D16:H16=\"غ\"),((D16:H16<>\"\")*(D16:H16<5))),\"راسب\",\"ناجح\")),\"\")","v":""},null,null,null,null,null,null,0]
[14,null,null,null,{"$f":"'اسلامية دور ثاني'!L17","v":0},{"$f":"'عربي دور ثاني'!AE17","v":0},{"$f":"'رياضيات دور ثاني'!F17","v":0},{"$f":"'علوم دور ثاني'!F17","v":0},{"$f":"'انكليزي دور ثاني'!L17","v":0},{"$f":"'فنية دور ثاني'!J17","v":0},{"$f":"'رياضة دور ثاني'!L17","v":0},null,null,null,null,{"$f":"IF(D17:H17<>0,IF(SUM(COUNTA(D17:H17))=0,\"\",IF(SUM(--(D17:H17=\"غ\"),((D17:H17<>\"\")*(D17:H17<5))),\"راسب\",\"ناجح\")),\"\")","v":""},null,null,null,null,null,null,0]
[15,null,null,null,{"$f":"'اسلامية دور ثاني'!L18","v":0},{"$f":"'عربي دور ثاني'!AE18","v":0},{"$f":"'رياضيات دور ثاني'!F18","v":0},{"$f":"'علوم دور ثاني'!F18","v":0},{"$f":"'انكليزي دور ثاني'!L18","v":0},{"$f":"'فنية دور ثاني'!J18","v":0},{"$f":"'رياضة دور ثاني'!L18","v":0},null,null,null,null,{"$f":"IF(D18:H18<>0,IF(SUM(COUNTA(D18:H18))=0,\"\",IF(SUM(--(D18:H18=\"غ\"),((D18:H18<>\"\")*(D18:H18<5))),\"راسب\",\"ناجح\")),\"\")","v":""},null,null,null,null,null,null,0]
[16,null,null,null,{"$f":"'اسلامية دور ثاني'!L19","v":0},{"$f":"'عربي دور ثاني'!AE19","v":0},{"$f":"'رياضيات دور ثاني'!F19","v":0},{"$f":"'علوم دور ثاني'!F19","v":0},{"$f":"'انكليزي دور ثاني'!L19","v":0},{"$f":"'فنية دور ثاني'!J19","v":0},{"$f":"'رياضة دور ثاني'!L19","v":0},null,null,null,null,{"$f":"IF(D19:H19<>0,IF(SUM(COUNTA(D19:H19))=0,\"\",IF(SUM(--(D19:H19=\"غ\"),((D19:H19<>\"\")*(D19:H19<5))),\"راسب\",\"ناجح\")),\"\")","v":""},null,null,null,null,null,null,0]
[17,null,null,null,{"$f":"'اسلامية دور ثاني'!L20","v":0},{"$f":"'عربي دور ثاني'!AE20","v":0},{"$f":"'رياضيات دور ثاني'!F20","v":0},{"$f":"'علوم دور ثاني'!F20","v":0},{"$f":"'انكليزي دور ثاني'!L20","v":0},{"$f":"'فنية دور ثاني'!J20","v":0},{"$f":"'رياضة دور ثاني'!L20","v":0},null,null,null,null,{"$f":"IF(D20:H20<>0,IF(SUM(COUNTA(D20:H20))=0,\"\",IF(SUM(--(D20:H20=\"غ\"),((D20:H20<>\"\")*(D20:H20<5))),\"راسب\",\"ناجح\")),\"\")","v":""},null,null,null,null,null,null,0]
[18,null,null,null,{"$f":"'اسلامية دور ثاني'!L21","v":0},{"$f":"'عربي دور ثاني'!AE21","v":0},{"$f":"'رياضيات دور ثاني'!F21","v":0},{"$f":"'علوم دور ثاني'!F21","v":0},{"$f":"'انكليزي دور ثاني'!L21","v":0},{"$f":"'فنية دور ثاني'!J21","v":0},{"$f":"'رياضة دور ثاني'!L21","v":0},null,null,null,null,{"$f":"IF(D21:H21<>0,IF(SUM(COUNTA(D21:H21))=0,\"\",IF(SUM(--(D21:H21=\"غ\"),((D21:H21<>\"\")*(D21:H21<5))),\"راسب\",\"ناجح\")),\"\")","v":""},null,null,null,null,null,null,0]
[19,null,null,null,{"$f":"'اسلامية دور ثاني'!L22","v":0},{"$f":"'عربي دور ثاني'!AE22","v":0},{"$f":"'رياضيات دور ثاني'!F22","v":0},{"$f":"'علوم دور ثاني'!F22","v":0},{"$f":"'انكليزي دور ثاني'!L22","v":0},{"$f":"'فنية دور ثاني'!J22","v":0},{"$f":"'رياضة دور ثاني'!L22","v":0},null,null,null,null,{"$f":"IF(D22:H22<>0,IF(SUM(COUNTA(D22:H22))=0,\"\",IF(SUM(--(D22:H22=\"غ\"),((D22:H22<>\"\")*(D22:H22<5))),\"راسب\",\"ناجح\")),\"\")","v":""},null,null,null,null,null,null,0]
[20,null,null,null,{"$f":"'اسلامية دور ثاني'!L23","v":0},{"$f":"'عربي دور ثاني'!AE23","v":0},{"$f":"'رياضيات دور ثاني'!F23","v":0},{"$f":"'علوم دور ثاني'!F23","v":0},{"$f":"'انكليزي دور ثاني'!L23","v":0},{"$f":"'فنية دور ثاني'!J23","v":0},{"$f":"'رياضة دور ثاني'!L23","v":0},null,null,null,null,{"$f":"IF(D23:H23<>0,IF(SUM(COUNTA(D23:H23))=0,\"\",IF(SUM(--(D23:H23=\"غ\"),((D23:H23<>\"\")*(D23:H23<5))),\"راسب\",\"ناجح\")),\"\")","v":""},null,null,null,null,null,null,0]
[21,null,null,null,{"$f":"'اسلامية دور ثاني'!L24","v":0},{"$f":"'عربي دور ثاني'!AE24","v":0},{"$f":"'رياضيات دور ثاني'!F24","v":0},{"$f":"'علوم دور ثاني'!F24","v":0},{"$f":"'انكليزي دور ثاني'!L24","v":0},{"$f":"'فنية دور ثاني'!J24","v":0},{"$f":"'رياضة دور ثاني'!L24","v":0},null,null,null,null,{"$f":"IF(D24:H24<>0,IF(SUM(COUNTA(D24:H24))=0,\"\",IF(SUM(--(D24:H24=\"غ\"),((D24:H24<>\"\")*(D24:H24<5))),\"راسب\",\"ناجح\")),\"\")","v":""},null,null,null,null,null,null,0]
[22,null,null,null,{"$f":"'اسلامية دور ثاني'!L25","v":0},{"$f":"'عربي دور ثاني'!AE25","v":0},{"$f":"'رياضيات دور ثاني'!F25","v":0},{"$f":"'علوم دور ثاني'!F25","v":0},{"$f":"'انكليزي دور ثاني'!L25","v":0},{"$f":"'فنية دور ثاني'!J25","v":0},{"$f":"'رياضة دور ثاني'!L25","v":0},null,null,null,null,{"$f":"IF(D25:H25<>0,IF(SUM(COUNTA(D25:H25))=0,\"\",IF(SUM(--(D25:H25=\"غ\"),((D25:H25<>\"\")*(D25:H25<5))),\"راسب\",\"ناجح\")),\"\")","v":""},null,null,null,null,null,null,0]
[23,null,null,null,{"$f":"'اسلامية دور ثاني'!L26","v":0},{"$f":"'عربي دور ثاني'!AE26","v":0},{"$f":"'رياضيات دور ثاني'!F26","v":0},{"$f":"'علوم دور ثاني'!F26","v":0},{"$f":"'انكليزي دور ثاني'!L26","v":0},{"$f":"'فنية دور ثاني'!J26","v":0},{"$f":"'رياضة دور ثاني'!L26","v":0},null,null,null,null,{"$f":"IF(D26:H26<>0,IF(SUM(COUNTA(D26:H26))=0,\"\",IF(SUM(--(D26:H26=\"غ\"),((D26:H26<>\"\")*(D26:H26<5))),\"راسب\",\"ناجح\")),\"\")","v":""},null,null,null,null,null,null,0]
[24,null,null,null,{"$f":"'اسلامية دور ثاني'!L27","v":0},{"$f":"'عربي دور ثاني'!AE27","v":0},{"$f":"'رياضيات دور ثاني'!F27","v":0},{"$f":"'علوم دور ثاني'!F27","v":0},{"$f":"'انكليزي دور ثاني'!L27","v":0},{"$f":"'فنية دور ثاني'!J27","v":0},{"$f":"'رياضة دور ثاني'!L27","v":0},null,null,null,null,{"$f":"IF(D27:H27<>0,IF(SUM(COUNTA(D27:H27))=0,\"\",IF(SUM(--(D27:H27=\"غ\"),((D27:H27<>\"\")*(D27:H27<5))),\"راسب\",\"ناجح\")),\"\")","v":""},null,null,null,null,null,null,0]
[25,null,null,null,{"$f":"'اسلامية دور ثاني'!L28","v":0},{"$f":"'عربي دور ثاني'!AE28","v":0},{"$f":"'رياضيات دور ثاني'!F28","v":0},{"$f":"'علوم دور ثاني'!F28","v":0},{"$f":"'انكليزي دور ثاني'!L28","v":0},{"$f":"'فنية دور ثاني'!J28","v":0},{"$f":"'رياضة دور ثاني'!L28","v":0},null,null,null,null,{"$f":"IF(D28:H28<>0,IF(SUM(COUNTA(D28:H28))=0,\"\",IF(SUM(--(D28:H28=\"غ\"),((D28:H28<>\"\")*(D28:H28<5))),\"راسب\",\"ناجح\")),\"\")","v":""},null,null,null,null,null,null,0]
[26,null,null,null,{"$f":"'اسلامية دور ثاني'!L29","v":0},{"$f":"'عربي دور ثاني'!AE29","v":0},{"$f":"'رياضيات دور ثاني'!F29","v":0},{"$f":"'علوم دور ثاني'!F29","v":0},{"$f":"'انكليزي دور ثاني'!L29","v":0},{"$f":"'فنية دور ثاني'!J29","v":0},{"$f":"'رياضة دور ثاني'!L29","v":0},null,null,null,null,{"$f":"IF(D29:H29<>0,IF(SUM(COUNTA(D29:H29))=0,\"\",IF(SUM(--(D29:H29=\"غ\"),((D29:H29<>\"\")*(D29:H29<5))),\"راسب\",\"ناجح\")),\"\")","v":""},null,null,null,null,null,null,0]
[27,null,null,null,{"$f":"'اسلامية دور ثاني'!L30","v":0},{"$f":"'عربي دور ثاني'!AE30","v":0},{"$f":"'رياضيات دور ثاني'!F30","v":0},{"$f":"'علوم دور ثاني'!F30","v":0},{"$f":"'انكليزي دور ثاني'!L30","v":0},{"$f":"'فنية دور ثاني'!J30","v":0},{"$f":"'رياضة دور ثاني'!L30","v":0},null,null,null,null,{"$f":"IF(D30:H30<>0,IF(SUM(COUNTA(D30:H30))=0,\"\",IF(SUM(--(D30:H30=\"غ\"),((D30:H30<>\"\")*(D30:H30<5))),\"راسب\",\"ناجح\")),\"\")","v":""},null,null,null,null,null,null,0]
[28,null,null,null,{"$f":"'اسلامية دور ثاني'!L31","v":0},{"$f":"'عربي دور ثاني'!AE31","v":0},{"$f":"'رياضيات دور ثاني'!F31","v":0},{"$f":"'علوم دور ثاني'!F31","v":0},{"$f":"'انكليزي دور ثاني'!L31","v":0},{"$f":"'فنية دور ثاني'!J31","v":0},{"$f":"'رياضة دور ثاني'!L31","v":0},null,null,null,null,{"$f":"IF(D31:H31<>0,IF(SUM(COUNTA(D31:H31))=0,\"\",IF(SUM(--(D31:H31=\"غ\"),((D31:H31<>\"\")*(D31:H31<5))),\"راسب\",\"ناجح\")),\"\")","v":""},null,null,null,null,null,null,0]
[29,null,null,null,{"$f":"'اسلامية دور ثاني'!L32","v":0},{"$f":"'عربي دور ثاني'!AE32","v":0},{"$f":"'رياضيات دور ثاني'!F32","v":0},{"$f":"'علوم دور ثاني'!F32","v":0},{"$f":"'انكليزي دور ثاني'!L32","v":0},{"$f":"'فنية دور ثاني'!J32","v":0},{"$f":"'رياضة دور ثاني'!L32","v":0},null,null,null,null,{"$f":"IF(D32:H32<>0,IF(SUM(COUNTA(D32:H32))=0,\"\",IF(SUM(--(D32:H32=\"غ\"),((D32:H32<>\"\")*(D32:H32<5))),\"راسب\",\"ناجح\")),\"\")","v":""},null,null,null,null,null,null,0]
[30,null,null,null,{"$f":"'اسلامية دور ثاني'!L33","v":0},{"$f":"'عربي دور ثاني'!AE33","v":0},{"$f":"'رياضيات دور ثاني'!F33","v":0},{"$f":"'علوم دور ثاني'!F33","v":0},{"$f":"'انكليزي دور ثاني'!L33","v":0},{"$f":"'فنية دور ثاني'!J33","v":0},{"$f":"'رياضة دور ثاني'!L33","v":0},null,null,null,null,{"$f":"IF(D33:H33<>0,IF(SUM(COUNTA(D33:H33))=0,\"\",IF(SUM(--(D33:H33=\"غ\"),((D33:H33<>\"\")*(D33:H33<5))),\"راسب\",\"ناجح\")),\"\")","v":""},null,null,null,null,null,null,0]
[31,null,null,null,{"$f":"'اسلامية دور ثاني'!L34","v":0},{"$f":"'عربي دور ثاني'!AE34","v":0},{"$f":"'رياضيات دور ثاني'!F34","v":0},{"$f":"'علوم دور ثاني'!F34","v":0},{"$f":"'انكليزي دور ثاني'!L34","v":0},{"$f":"'فنية دور ثاني'!J34","v":0},{"$f":"'رياضة دور ثاني'!L34","v":0},null,null,null,null,{"$f":"IF(D34:H34<>0,IF(SUM(COUNTA(D34:H34))=0,\"\",IF(SUM(--(D34:H34=\"غ\"),((D34:H34<>\"\")*(D34:H34<5))),\"راسب\",\"ناجح\")),\"\")","v":""},null,null,null,null,null,null,0]
[32,null,null,null,{"$f":"'اسلامية دور ثاني'!L35","v":0},{"$f":"'عربي دور ثاني'!AE35","v":0},{"$f":"'رياضيات دور ثاني'!F35","v":0},{"$f":"'علوم دور ثاني'!F35","v":0},{"$f":"'انكليزي دور ثاني'!L35","v":0},{"$f":"'فنية دور ثاني'!J35","v":0},{"$f":"'رياضة دور ثاني'!L35","v":0},null,null,null,null,{"$f":"IF(D35:H35<>0,IF(SUM(COUNTA(D35:H35))=0,\"\",IF(SUM(--(D35:H35=\"غ\"),((D35:H35<>\"\")*(D35:H35<5))),\"راسب\",\"ناجح\")),\"\")","v":""},null,null,null,null,null,null,0]
[33,null,null,null,{"$f":"'اسلامية دور ثاني'!L36","v":0},{"$f":"'عربي دور ثاني'!AE36","v":0},{"$f":"'رياضيات دور ثاني'!F36","v":0},{"$f":"'علوم دور ثاني'!F36","v":0},{"$f":"'انكليزي دور ثاني'!L36","v":0},{"$f":"'فنية دور ثاني'!J36","v":0},{"$f":"'رياضة دور ثاني'!L36","v":0},null,null,null,null,{"$f":"IF(D36:H36<>0,IF(SUM(COUNTA(D36:H36))=0,\"\",IF(SUM(--(D36:H36=\"غ\"),((D36:H36<>\"\")*(D36:H36<5))),\"راسب\",\"ناجح\")),\"\")","v":""},null,null,null,null,null,null,0]
[null,null,null,null,null,null,null,null,null,null,null,null,null,null,null,null,null,null,null,null,null,null,null,0]
["المشتركون",null,"الممتحنون",null,"الناجحون",null,"الراسبون",null,"الغياب",null,"المكملون",null,"النسبة",null,"النسبة الكلية %",{"$f":"IFERROR(O39*100/P39,\"\")","v":""},null,null,null,null,null,null,null,0]
[{"$f":"'الرئيسية '!I5","v":"ذكور"},{"$f":"COUNT(BB7:BB36)+COUNTIF(BB7:BB36,\"ذكر\")","v":0},{"$f":"'الرئيسية '!I5","v":"ذكور"},{"$f":"COUNT(P7:P36)+COUNTIF(P7:P36,\"ناجح\")+COUNTIF(P7:P36,\"راسب\")+COUNTIF(P7:P36,\"مكمل\")-COUNTIF(P7:P36,غائب)","v":0},{"$f":"'الرئيسية '!I5","v":"ذكور"},{"$f":"COUNT(P7:P36)+COUNTIF(P7:P36,\"ناجح\")","v":0},{"$f":"'الرئيسية '!I5","v":"ذكور"},{"$f":"COUNT(P7:P36)+COUNTIF(P7:P36,\"راسب\")","v":0},{"$f":"'الرئيسية '!I5","v":"ذكور"},{"$f":"COUNT(P7:P36)+COUNTIF(P7:P36,\"غائب\")","v":0},{"$f":"'الرئيسية '!I5","v":"ذكور"},{"$f":"COUNT(P7:P36)+COUNTIF(P7:P36,\"مكمل بدرس\")+COUNTIF(P7:P36,\"مكمل بدرسين\")","v":0},{"$f":"'الرئيسية '!I5","v":"ذكور"},{"$f":"IFERROR(F39*100/D39,\"\")","v":""},{"$f":"F39+F40","v":0},{"$f":"D39+D40","v":0},null,null,null,null,null,null,null,4]
[{"$f":"'الرئيسية '!I7","v":"اناث"},{"$f":"COUNT(BB7:BB36)+COUNTIF(BB7:BB36,\"انثى\")","v":0},{"$f":"'الرئيسية '!I7","v":"اناث"},{"$f":"COUNT(P7:P36)+COUNTIF(P7:P36,\"ناجحة\")+COUNTIF(P7:P36,\"راسبة\")+COUNTIF(P7:P36,\"مكملة\")-COUNTIF(P7:P36,غائبة)","v":0},{"$f":"'الرئيسية '!I7","v":"اناث"},{"$f":"COUNT(P7:P36)+COUNTIF(P7:P36,\"ناجحة\")","v":0},{"$f":"'الرئيسية '!I7","v":"اناث"},{"$f":"COUNT(P7:P36)+COUNTIF(P7:P36,\"راسبة\")","v":0},{"$f":"'الرئيسية '!I7","v":"اناث"},{"$f":"COUNT(P7:P36)+COUNTIF(P7:P36,\"غائبة\")","v":0},{"$f":"'الرئيسية '!I7","v":"اناث"},{"$f":"COUNT(P7:P36)+COUNTIF(P7:P36,\"مكملة بدرس\")+COUNTIF(P7:P36,\" بدرسينمكملة\")","v":0},{"$f":"'الرئيسية '!I7","v":"اناث"},{"$f":"IFERROR(F40*100/D40,\"\")","v":""},null,null,null,null,null,null,null,null,null,3]
[null,null,{"$f":"'اسماء التلاميذ'!F7","v":0},null,null,null,null,null,null,null,null,null,{"$f":"'اسماء التلاميذ'!B3","v":0},null,null,null,null,null,null,null,null,null,null,0]
[null,null,"معلم المادة",null,null,null,null,null,null,null,null,null,"مدير المدرسة",null,null,null,null,null,null,null,null,null,null,0]

{"sheet":"عربي دور ثاني","index":13,"n_rows":42,"n_cols":31,"rows_kept":42,"cut":false,"hidden":false,"merged":[[38,0,38,1],[39,0,39,1],[40,12,40,14],[41,12,41,14],[3,0,3,2],[4,4,4,9],[4,10,5,10],[5,12,5,14],[37,0,37,2],[37,3,37,4],[37,5,37,6],[37,7,37,8],[37,9,37,10],[37,11,37,12],[37,13,37,14],[4,0,5,0],[4,1,5,1],[4,2,5,3],[4,11,4,14],[0,0,0,2],[0,5,0,10],[1,0,1,2],[1,5,1,10],[2,0,2,2],[2,5,2,10]]}
["جمهورية العراق",null,null,null,null,"قائمة درجات امتحان دور ثاني",null,null,null,null,null,null,"الــــــــصــــــف    /",{"$f":"'اسماء التلاميذ'!F2","v":"الأول"}]
["وزارة التربية",null,null,null,null,"للعام الدراسي",null,null,null,null,null,null,"الــــــشــعبـــــة     / ",{"$f":"'اسماء التلاميذ'!F3","v":"أ"},null,null,null,null,null,null,null,null,"قائمة امتحان نصف السنة"]
["إدارة",null,null,null,null,{"$f":"'اسماء التلاميذ'!F4","v":"2021 - 2022"},null,null,null,null,null,null,"الـــــــــــــمــــــادة   / ","اللغة العربية"]
[{"$f":"'اسماء التلاميذ'!B2","v":0},null,null,null,null,null,null,null,null,null,null,null,"اليـــوم والـــتاريخ   /"]
["تسلسل","رقم القبول","الاسم الثلاثي",null,"شفوي",null,null,null,null,null,"المجموع الكلي /3","الدرجة رقما وكتابة"]
[null,null,null,null,"قراءة للمادة 5","محفوظات 5 ","المحادثة للحفظ5 ","المحادثة للمناقشة 5","املاء على السبورة 5","حسن الخط 5",null,"الدرجة النهائية","كتابة",null,null,"حالة التلميذ"]
[4,"نوري",null,null,5,3,4,null,3,null,15,5,"خـمـس",null,null,"ناجح",null,null,null,null,null,null,{"$f":"IFERROR(ROUND((L7),0),\"غ\")","v":5},null,null,null," ",null,null,null,{"$f":"IFERROR(ROUND((L7),0),\"غ\")","v":5}]
[5,"احمد",null,null,null,null,null,null,null,null,null,null,null,null,null,null,null,null,null,null,null,null,{"$f":"IFERROR(ROUND((L8),0),\"غ\")","v":0},null,null,null," ",null,null,null,{"$f":"IFERROR(ROUND((L8),0),\"غ\")","v":0}]
[6,null,null,null,null,null,null,null,null,null,null,null,null,null,null,null,null,null,null,null,null,null,0,null,null,null," ",null,null,null,0]
[7,null,null,null,null,null,null,null,null,null,null,null,null,null,null,null,null,null,null,null,null,null,0,null,null,null," ",null,null,null,0]
[8,null,null,null,null,null,null,null,null,null,null,null,null,null,null,null,null,null,null,null,null,null,0,null,null,null," ",null,null,null,0]
[9,null,null,null,null,null,null,null,null,null,null,null,null,null,null,null,null,null,null,null,null,null,0,null,null,null," ",null,null,null,0]
[10,null,null,null,null,null,null,null,null,null,null,null,null,null,null,null,null,null,null,null,null,null,0,null,null,null," ",null,null,null,0]
[11,null,null,null,null,null,null,null,null,null,null,null,null,null,null,null,null,null,null,null,null,null,0,null,null,null," ",null,null,null,0]
[12,null,null,null,null,null,null,null,null,null,null,null,null,null,null,null,null,null,null,null,null,null,0,null,null,null," ",null,null,null,0]
[13,null,null,null,null,null,null,null,null,null,null,null,null,null,null,null,null,null,null,null,null,null,0,null,null,null," ",null,null,null,0]
[14,null,null,null,null,null,null,null,null,null,null,null,null,null,null,null,null,null,null,null,null,null,0,null,null,null," ",null,null,null,0]
[15,null,null,null,null,null,null,null,null,null,null,null,null,null,null,null,null,null,null,null,null,null,0,null,null,null," ",null,null,null,0]
[16,null,null,null,null,null,null,null,null,null,null,null,null,null,null,null,null,null,null,null,null,null,0,null,null,null," ",null,null,null,0]
[17,null,null,null,null,null,null,null,null,null,null,null,null,null,null,null,null,null,null,null,null,null,0,null,null,null," ",null,null,null,0]
[18,null,null,null,null,null,null,null,null,null,null,null,null,null,null,null,null,null,null,null,null,null,0,null,null,null," ",null,null,null,0]
[19,null,null,null,null,null,null,null,null,null,null,null,null,null,null,null,null,null,null,null,null,null,0,null,null,null," ",null,null,null,0]
[20,null,null,null,null,null,null,null,null,null,null,null,null,null,null,null,null,null,null,null,null,null,0,null,null,null," ",null,null,null,0]
[21,null,null,null,null,null,null,null,null,null,null,null,null,null,null,null,null,null,null,null,null,null,0,null,null,null," ",null,null,null,0]
[22,null,null,null,null,null,null,null,null,null,null,null,null,null,null,null,null,null,null,null,null,null,0,null,null,null," ",null,null,null,0]
[23,null,null,null,null,null,null,null,null,null,null,null,null,null,null,null,null,null,null,null,null,null,0,null,null,null," ",null,null,null,0]
[24,null,null,null,null,null,null,null,null,null,null,null,null,null,null,null,null,null,null,null,null,null,0,null,null,null," ",null,null,null,0]
[25,null,null,null,null,null,null,null,null,null,null,null,null,null,null,null,null,null,null,null,null,null,0,null,null,null," ",null,null,null,0]
[26,null,null,null,null,null,null,null,null,null,null,null,null,null,null,null,null,null,null,null,null,null,0,null,null,null," ",null,null,null,0]
[27,null,null,null,null,null,null,null,null,null,null,null,null,null,null,null,null,null,null,null,null,null,0,null,null,null," ",null,null,null,0]
[28,null,null,null,null,null,null,null,null,null,null,null,null,null,null,null,null,null,null,null,null,null,0,null,null,null," ",null,null,null,0]
[29,null,null,null,null,null,null,null,null,null,null,null,null,null,null,null,null,null,null,null,null,null,0,null,null,null," ",null,null,null,0]
[30,null,null,null,null,null,null,null,null,null,null,null,null,null,null,null,null,null,null,null,null,null,0,null,null,null," ",null,null,null,0]
[31,null,null,null,null,null,null,null,null,null,null,null,null,null,null,null,null,null,null,null,null,null,0,null,null,null," ",null,null,null,0]
[32,null,null,null,null,null,null,null,null,null,null,null,null,null,null,null,null,null,null,null,null,null,0,null,null,null," ",null,null,null,0]
[33,null,null,null,null,null,null,null,null,null,null,null,null,null,null,null,null,null,null,null,null,null,0,null,null,null," ",null,null,null,0]
[]
["المشتركون",null,null,"الممتحنون",null,"الناجحون",null,"الراسبون",null,"الغياب",null,"النسبة %",null,"النسبة الكلية%",null,{"$f":"IFERROR(O39*100/N39,\"\")","v":100}]
[{"$f":"'الرئيسية '!I5","v":"ذكور"},null,{"$f":"'الرئيسية '!I7","v":"اناث"},{"$f":"'الرئيسية '!I5","v":"ذكور"},{"$f":"'الرئيسية '!I7","v":"اناث"},{"$f":"'الرئيسية '!I5","v":"ذكور"},{"$f":"'الرئيسية '!I7","v":"اناث"},{"$f":"'الرئيسية '!I5","v":"ذكور"},{"$f":"'الرئيسية '!I7","v":"اناث"},{"$f":"'الرئيسية '!I5","v":"ذكور"},{"$f":"'الرئيسية '!I7","v":"اناث"},{"$f":"'الرئيسية '!I5","v":"ذكور"},{"$f":"IFERROR(F40*100/D40,\"\")","v":100},{"$f":"D40+E40","v":1},{"$f":"F40+G40","v":1}]
[{"$f":"COUNT(BB7:BB36)+COUNTIF(BB7:BB36,\"ذكر\")","v":0},null,{"$f":"COUNT(BB7:BB36)+COUNTIF(BB7:BB36,\"انثى\")","v":0},{"$f":"COUNT(P7:P36)+COUNTIF(P7:P36,\"ناجح\")+COUNTIF(P7:P36,\"راسب\")","v":1},{"$f":"COUNT(P7:P36)+COUNTIF(P7:P36,\"ناجحة\")+COUNTIF(P7:P36,\"راسبة\")","v":0},{"$f":"COUNT(P7:P36)+COUNTIF(P7:P36,\"ناجح\")","v":1},{"$f":"COUNT(P7:P36)+COUNTIF(P7:P36,\"ناجحة\")","v":0},{"$f":"COUNT(P7:P36)+COUNTIF(P7:P36,\"راسب\")","v":0},{"$f":"COUNT(P7:P36)+COUNTIF(P7:P36,\"راسبة\")","v":0},{"$f":"COUNT(P7:P36)+COUNTIF(P7:P36,\"غائب\")","v":0},{"$f":"COUNT(P7:P36)+COUNTIF(P7:P36,\"غائبة\")","v":0},{"$f":"'الرئيسية '!I7","v":"اناث"},{"$f":"IFERROR(G40*100/E40,\"\")","v":""}]
[null,null,{"$f":"'اسماء التلاميذ'!F8","v":0},null,null,null,null,null,null,null,null,null,{"$f":"'اسماء التلاميذ'!B3","v":0}]
[null,null,"معلم المادة",null,null,null,null,null,null,null,null,null,"مدير المدرسة"]

{"sheet":"اسلامية دور ثاني","index":14,"n_rows":42,"n_cols":28,"rows_kept":42,"cut":false,"hidden":false,"merged":[[0,4,0,8],[37,13,37,14],[38,0,38,1],[39,0,39,1],[40,12,40,14],[0,0,0,2],[1,0,1,2],[4,2,5,3],[4,1,5,1],[4,0,5,0],[4,11,4,14],[41,12,41,14],[2,4,2,6],[37,0,37,2],[37,3,37,4],[37,5,37,6],[37,7,37,8],[37,9,37,10],[37,11,37,12],[3,0,3,2],[4,7,5,7],[4,8,5,8],[4,9,5,9],[4,10,5,10],[2,0,2,2],[4,4,4,6],[5,12,5,14]]}
["جمهورية العراق",null,null,null,"قائمة درجات امتحان دور ثاني",null,null,null,null,null,null,"الصف/ ",{"$f":"'اسماء التلاميذ'!F2","v":"الأول"}]
["وزارة التربية",null,null,null,null,"    للعام الدراسي",null,null,null,null,null,"الشعبة/ ",{"$f":"'اسماء التلاميذ'!F3","v":"أ"},null,null,null,null,null,null,null,null,null,"قائمة امتحان نصف السنة"]
["إدارة",null,null,null,{"$f":"'اسماء التلاميذ'!F4","v":"2021 - 2022"},null,null,null,null,null,null,"المادة/ ","التربية الإسلامية"]
[{"$f":"'اسماء التلاميذ'!B2","v":0},null,null,null,null,null,null,null,null,null,null,"اليوم والتاريخ/"]
["تسلسل","رقم القبول","الاسم الثلاثي",null,"القران الكريم",null,null,"حديث نبوي درجتان ","العقيدة والعبادات درجة ","السيرة درجة واحدة ","الاداب درجة واحدة ","الدرجة رقما وكتابة"]
[null,null,null,null,"حفظ درجتان ","تلاوة درجتان ","معاني درجة ",null,null,null,null,"المجموع الكلي","كتابة",null,null,"حالة التلميذ"]
[4,"نوري",null,null,null,null,null,null,null,null,null,null,null,null,null,null,null,null,null,null,null,null,null,null,null,null,null,{"$f":"IFERROR(ROUND((L7),0),\"غ\")","v":0}]
[5,"احمد",null,null,null,null,null,null,null,null,null,null,null,null,null,null,null,null,null,null,null,null,null,null,null,null,null,{"$f":"IFERROR(ROUND((L8),0),\"غ\")","v":0}]
[6,null,null,null,null,null,null,null,null,null,null,null,null,null,null,null,null,null,null,null,null,null,null,null,null,null,null,0]
[7,null,null,null,null,null,null,null,null,null,null,null,null,null,null,null,null,null,null,null,null,null,null,null,null,null,null,0]
[8,null,null,null,null,null,null,null,null,null,null,null,null,null,null,null,null,null,null,null,null,null,null,null,null,null,null,0]
[9,null,null,null,null,null,null,null,null,null,null,null,null,null,null,null,null,null,null,null,null,null,null,null,null,null,null,0]
[10,null,null,null,null,null,null,null,null,null,null,null,null,null,null,null,null,null,null,null,null,null,null,null,null,null,null,0]
[11,null,null,null,null,null,null,null,null,null,null,null,null,null,null,null,null,null,null,null,null,null,null,null,null,null,null,0]
[12,null,null,null,null,null,null,null,null,null,null,null,null,null,null,null,null,null,null,null,null,null,null,null,null,null,null,0]
[13,null,null,null,null,null,null,null,null,null,null,null,null,null,null,null,null,null,null,null,null,null,null,null,null,null,null,0]
[14,null,null,null,null,null,null,null,null,null,null,null,null,null,null,null,null,null,null,null,null,null,null,null,null,null,null,0]
[15,null,null,null,null,null,null,null,null,null,null,null,null,null,null,null,null,null,null,null,null,null,null,null,null,null,null,0]
[16,null,null,null,null,null,null,null,null,null,null,null,null,null,null,null,null,null,null,null,null,null,null,null,null,null,null,0]
[17,null,null,null,null,null,null,null,null,null,null,null,null,null,null,null,null,null,null,null,null,null,null,null,null,null,null,0]
[18,null,null,null,null,null,null,null,null,null,null,null,null,null,null,null,null,null,null,null,null,null,null,null,null,null,null,0]
[19,null,null,null,null,null,null,null,null,null,null,null,null,null,null,null,null,null,null,null,null,null,null,null,null,null,null,0]
[20,null,null,null,null,null,null,null,null,null,null,null,null,null,null,null,null,null,null,null,null,null,null,null,null,null,null,0]
[21,null,null,null,null,null,null,null,null,null,null,null,null,null,null,null,null,null,null,null,null,null,null,null,null,null,null,0]
[22,null,null,null,null,null,null,null,null,null,null,null,null,null,null,null,null,null,null,null,null,null,null,null,null,null,null,0]
[23,null,null,null,null,null,null,null,null,null,null,null,null,null,null,null,null,null,null,null,null,null,null,null,null,null,null,0]
[24,null,null,null,null,null,null,null,null,null,null,null,null,null,null,null,null,null,null,null,null,null,null,null,null,null,null,0]
[25,null,null,null,null,null,null,null,null,null,null,null,null,null,null,null,null,null,null,null,null,null,null,null,null,null,null,0]
[26,null,null,null,null,null,null,null,null,null,null,null,null,null,null,null,null,null,null,null,null,null,null,null,null,null,null,0]
[27,null,null,null,null,null,null,null,null,null,null,null,null,null,null,null,null,null,null,null,null,null,null,null,null,null,null,0]
[28,null,null,null,null,null,null,null,null,null,null,null,null,null,null,null,null,null,null,null,null,null,null,null,null,null,null,0]
[29,null,null,null,null,null,null,null,null,null,null,null,null,null,null,null,null,null,null,null,null,null,null,null,null,null,null,0]
[30,null,null,null,null,null,null,null,null,null,null,null,null,null,null,null,null,null,null,null,null,null,null,null,null,null,null,0]
[31,null,null,null,null,null,null,null,null,null,null,null,null,null,null,null,null,null,null,null,null,null,null,null,null,null,null,0]
[32,null,null,null,null,null,null,null,null,null,null,null,null,null,null,null,null,null,null,null,null,null,null,null,null,null,null,0]
[33,null,null,null,null,null,null,null,null,null,null,null,null,null,null,null,null,null,null,null,null,null,null,null,null,null,null,0]
[]
["المشتركون",null,null,"الممتحنون",null,"الناجحون",null,"الراسبون",null,"الغياب",null,"النسبة %",null,"النسبة الكلية%",null,{"$f":"IFERROR(O39*100/N39,\"\")","v":""}]
[{"$f":"'الرئيسية '!I5","v":"ذكور"},null,{"$f":"'الرئيسية '!I7","v":"اناث"},{"$f":"'الرئيسية '!I5","v":"ذكور"},{"$f":"'الرئيسية '!I7","v":"اناث"},{"$f":"'الرئيسية '!I5","v":"ذكور"},{"$f":"'الرئيسية '!I7","v":"اناث"},{"$f":"'الرئيسية '!I5","v":"ذكور"},{"$f":"'الرئيسية '!I7","v":"اناث"},{"$f":"'الرئيسية '!I5","v":"ذكور"},{"$f":"'الرئيسية '!I7","v":"اناث"},{"$f":"'الرئيسية '!I5","v":"ذكور"},{"$f":"IFERROR(F40*100/D40,\"\")","v":""},{"$f":"D40+E40","v":0},{"$f":"F40+G40","v":0}]
[{"$f":"COUNT(BB7:BB36)+COUNTIF(BB7:BB36,\"ذكر\")","v":0},null,{"$f":"COUNT(BB7:BB36)+COUNTIF(BB7:BB36,\"انثى\")","v":0},{"$f":"COUNT(P7:P36)+COUNTIF(P7:P36,\"ناجح\")+COUNTIF(P7:P36,\"راسب\")","v":0},{"$f":"COUNT(P7:P36)+COUNTIF(P7:P36,\"ناجحة\")+COUNTIF(P7:P36,\"راسبة\")","v":0},{"$f":"COUNT(P7:P36)+COUNTIF(P7:P36,\"ناجح\")","v":0},{"$f":"COUNT(P7:P36)+COUNTIF(P7:P36,\"ناجحة\")","v":0},{"$f":"COUNT(P7:P36)+COUNTIF(P7:P36,\"راسب\")","v":0},{"$f":"COUNT(P7:P36)+COUNTIF(P7:P36,\"راسبة\")","v":0},{"$f":"COUNT(P7:P36)+COUNTIF(P7:P36,\"غائب\")","v":0},{"$f":"COUNT(P7:P36)+COUNTIF(P7:P36,\"غائبة\")","v":0},{"$f":"'الرئيسية '!I7","v":"اناث"},{"$f":"IFERROR(G40*100/E40,\"\")","v":""}]
[null,null,{"$f":"'اسماء التلاميذ'!F7","v":0},null,null,null,null,null,null,null,null,null,{"$f":"'اسماء التلاميذ'!B3","v":0}]
[null,null,"معلم المادة",null,null,null,null,null,null,null,null,null,"مدير المدرسة"]

{"sheet":"فنية","index":15,"n_rows":42,"n_cols":27,"rows_kept":42,"cut":false,"hidden":false,"merged":[[2,5,2,7],[4,0,5,0],[0,0,0,3],[1,0,1,3],[2,0,2,3],[3,0,3,3],[4,4,4,5],[5,7,5,8],[4,2,5,3],[38,0,38,1],[39,0,39,1],[40,12,40,14],[41,12,41,14],[4,15,5,15],[4,9,4,14],[5,10,5,14],[4,6,4,8],[37,0,37,2],[37,3,37,4],[37,5,37,6],[37,7,37,8],[37,9,37,10],[37,11,37,12],[37,13,37,14],[4,1,5,1]]}
["جمهورية العراق",null,null,null,null,"قائمة امتحان نصف السنة",null,null,null,null,"الــصـف:",{"$f":"'اسماء التلاميذ'!F2","v":"الأول"}]
["وزارة التربية",null,null,null,null,null,"للعام الدراسي   ",null,null,null,"الـشعـبة:",{"$f":"'اسماء التلاميذ'!F3","v":"أ"},null,null,null,null,null,null,null,null,null,null,null,null,null,null,"قائمة امتحان نصف السنة"]
["إدارة",null,null,null,null,{"$f":"'اسماء التلاميذ'!F4","v":"2021 - 2022"},null,null,null,null,"الـمـــادة:","التربية الفنية"]
[{"$f":"'اسماء التلاميذ'!B2","v":0},null,null,null,null,null,null,null,null,null,"اليوم والتاريخ"]
["ت","رقم القيد","اسم التلميذ",null,"فنية (7)",null,"نشيد (3)",null,null,"الدرجة رقما وكتابة",null,null,null,null,null,"النتيجة"]
[null,null,null,null,"رقما","كتابة","رقما","كتابة",null,"رقما","كتابة"]
[4,"نوري",null,null,6,{"$f":"IFERROR(IF(E7=\"\",\"\",IF(E7=0,\"\",n2t(E7))),\"\")","v":"سـت"},3,{"$f":"IFERROR(IF(G7=\"\",\"\",IF(G7=0,\"\",n2t(G7))),\"\")","v":"ثـلاث"},null,9,{"$f":"IFERROR(IF(J7=\"\",\"\",IF(J7=0,\"\",n2t(J7))),\"\")","v":"تـسـع"},null,null,null,null,"ناجح",null,null,null,null,{"$f":"IFERROR(ROUND((J7),0),\"غ\")","v":9}]
[5,"احمد",null,null,6,{"$f":"IFERROR(IF(E8=\"\",\"\",IF(E8=0,\"\",n2t(E8))),\"\")","v":"سـت"},3,{"$f":"IFERROR(IF(G8=\"\",\"\",IF(G8=0,\"\",n2t(G8))),\"\")","v":"ثـلاث"},null,9,{"$f":"IFERROR(IF(J8=\"\",\"\",IF(J8=0,\"\",n2t(J8))),\"\")","v":"تـسـع"},null,null,null,null,"ناجح",null,null,null,null,{"$f":"IFERROR(ROUND((J8),0),\"غ\")","v":9}]
[6,null,null,null,7,{"$f":"IFERROR(IF(E9=\"\",\"\",IF(E9=0,\"\",n2t(E9))),\"\")","v":"سـبـع"},3,{"$f":"IFERROR(IF(G9=\"\",\"\",IF(G9=0,\"\",n2t(G9))),\"\")","v":"ثـلاث"},null,10,{"$f":"IFERROR(IF(J9=\"\",\"\",IF(J9=0,\"\",n2t(J9))),\"\")","v":"عشر"},null,null,null,null,"ناجح",null,null,null,null,10]
[7,null,null,null,6,{"$f":"IFERROR(IF(E10=\"\",\"\",IF(E10=0,\"\",n2t(E10))),\"\")","v":"سـت"},3,{"$f":"IFERROR(IF(G10=\"\",\"\",IF(G10=0,\"\",n2t(G10))),\"\")","v":"ثـلاث"},null,9,{"$f":"IFERROR(IF(J10=\"\",\"\",IF(J10=0,\"\",n2t(J10))),\"\")","v":"تـسـع"},null,null,null,null,"ناجح",null,null,null,null,9]
[8,null,null,null,6,{"$f":"IFERROR(IF(E11=\"\",\"\",IF(E11=0,\"\",n2t(E11))),\"\")","v":"سـت"},3,{"$f":"IFERROR(IF(G11=\"\",\"\",IF(G11=0,\"\",n2t(G11))),\"\")","v":"ثـلاث"},null,9,{"$f":"IFERROR(IF(J11=\"\",\"\",IF(J11=0,\"\",n2t(J11))),\"\")","v":"تـسـع"},null,null,null,null,"ناجح",null,null,null,null,9]
[9,null,null,null,4,{"$f":"IFERROR(IF(E12=\"\",\"\",IF(E12=0,\"\",n2t(E12))),\"\")","v":"أربـع"},2,{"$f":"IFERROR(IF(G12=\"\",\"\",IF(G12=0,\"\",n2t(G12))),\"\")","v":"اثنتانِ"},null,6,{"$f":"IFERROR(IF(J12=\"\",\"\",IF(J12=0,\"\",n2t(J12))),\"\")","v":"سـت"},null,null,null,null,"ناجح",null,null,null,null,6]
[10,null,null,null,7,{"$f":"IFERROR(IF(E13=\"\",\"\",IF(E13=0,\"\",n2t(E13))),\"\")","v":"سـبـع"},3,{"$f":"IFERROR(IF(G13=\"\",\"\",IF(G13=0,\"\",n2t(G13))),\"\")","v":"ثـلاث"},null,10,{"$f":"IFERROR(IF(J13=\"\",\"\",IF(J13=0,\"\",n2t(J13))),\"\")","v":"عشر"},null,null,null,null,"ناجح",null,null,null,null,10]
[11,null,null,null,6,{"$f":"IFERROR(IF(E14=\"\",\"\",IF(E14=0,\"\",n2t(E14))),\"\")","v":"سـت"},2,{"$f":"IFERROR(IF(G14=\"\",\"\",IF(G14=0,\"\",n2t(G14))),\"\")","v":"اثنتانِ"},null,8,{"$f":"IFERROR(IF(J14=\"\",\"\",IF(J14=0,\"\",n2t(J14))),\"\")","v":"ثـمـان"},null,null,null,null,"ناجح",null,null,null,null,8]
[12,null,null,null,"غ",{"$f":"IFERROR(IF(E15=\"\",\"\",IF(E15=0,\"\",n2t(E15))),\"\")","v":"غـائـب"},"غ",{"$f":"IFERROR(IF(G15=\"\",\"\",IF(G15=0,\"\",n2t(G15))),\"\")","v":"غـائـب"},null,"غ",{"$f":"IFERROR(IF(J15=\"\",\"\",IF(J15=0,\"\",n2t(J15))),\"\")","v":"غـائـب"},null,null,null,null,"غائب",null,null,null,null,"غ"]
[13,null,null,null,7,{"$f":"IFERROR(IF(E16=\"\",\"\",IF(E16=0,\"\",n2t(E16))),\"\")","v":"سـبـع"},3,{"$f":"IFERROR(IF(G16=\"\",\"\",IF(G16=0,\"\",n2t(G16))),\"\")","v":"ثـلاث"},null,10,{"$f":"IFERROR(IF(J16=\"\",\"\",IF(J16=0,\"\",n2t(J16))),\"\")","v":"عشر"},null,null,null,null,"ناجح",null,null,null,null,10]
[14,null,null,null,7,{"$f":"IFERROR(IF(E17=\"\",\"\",IF(E17=0,\"\",n2t(E17))),\"\")","v":"سـبـع"},3,{"$f":"IFERROR(IF(G17=\"\",\"\",IF(G17=0,\"\",n2t(G17))),\"\")","v":"ثـلاث"},null,10,{"$f":"IFERROR(IF(J17=\"\",\"\",IF(J17=0,\"\",n2t(J17))),\"\")","v":"عشر"},null,null,null,null,"ناجح",null,null,null,null,10]
[15,null,null,null,"غ",{"$f":"IFERROR(IF(E18=\"\",\"\",IF(E18=0,\"\",n2t(E18))),\"\")","v":"غـائـب"},"غ",{"$f":"IFERROR(IF(G18=\"\",\"\",IF(G18=0,\"\",n2t(G18))),\"\")","v":"غـائـب"},null,"غ",{"$f":"IFERROR(IF(J18=\"\",\"\",IF(J18=0,\"\",n2t(J18))),\"\")","v":"غـائـب"},null,null,null,null,"غائب",null,null,null,null,"غ"]
[16,null,null,null,"غ",{"$f":"IFERROR(IF(E19=\"\",\"\",IF(E19=0,\"\",n2t(E19))),\"\")","v":"غـائـب"},"غ",{"$f":"IFERROR(IF(G19=\"\",\"\",IF(G19=0,\"\",n2t(G19))),\"\")","v":"غـائـب"},null,"غ",{"$f":"IFERROR(IF(J19=\"\",\"\",IF(J19=0,\"\",n2t(J19))),\"\")","v":"غـائـب"},null,null,null,null,"غائب",null,null,null,null,"غ"]
[17,null,null,null,6,{"$f":"IFERROR(IF(E20=\"\",\"\",IF(E20=0,\"\",n2t(E20))),\"\")","v":"سـت"},3,{"$f":"IFERROR(IF(G20=\"\",\"\",IF(G20=0,\"\",n2t(G20))),\"\")","v":"ثـلاث"},null,9,{"$f":"IFERROR(IF(J20=\"\",\"\",IF(J20=0,\"\",n2t(J20))),\"\")","v":"تـسـع"},null,null,null,null,"ناجح",null,null,null,null,9]
[18,null,null,null,7,{"$f":"IFERROR(IF(E21=\"\",\"\",IF(E21=0,\"\",n2t(E21))),\"\")","v":"سـبـع"},3,{"$f":"IFERROR(IF(G21=\"\",\"\",IF(G21=0,\"\",n2t(G21))),\"\")","v":"ثـلاث"},null,10,{"$f":"IFERROR(IF(J21=\"\",\"\",IF(J21=0,\"\",n2t(J21))),\"\")","v":"عشر"},null,null,null,null,"ناجح",null,null,null,null,10]
[19,null,null,null,7,{"$f":"IFERROR(IF(E22=\"\",\"\",IF(E22=0,\"\",n2t(E22))),\"\")","v":"سـبـع"},3,{"$f":"IFERROR(IF(G22=\"\",\"\",IF(G22=0,\"\",n2t(G22))),\"\")","v":"ثـلاث"},null,10,{"$f":"IFERROR(IF(J22=\"\",\"\",IF(J22=0,\"\",n2t(J22))),\"\")","v":"عشر"},null,null,null,null,"ناجح",null,null,null,null,10]
[20,null,null,null,"غ",{"$f":"IFERROR(IF(E23=\"\",\"\",IF(E23=0,\"\",n2t(E23))),\"\")","v":"غـائـب"},"غ",{"$f":"IFERROR(IF(G23=\"\",\"\",IF(G23=0,\"\",n2t(G23))),\"\")","v":"غـائـب"},null,"غ",{"$f":"IFERROR(IF(J23=\"\",\"\",IF(J23=0,\"\",n2t(J23))),\"\")","v":"غـائـب"},null,null,null,null,"غائب",null,null,null,null,"غ"]
[21,null,null,null,"غ",{"$f":"IFERROR(IF(E24=\"\",\"\",IF(E24=0,\"\",n2t(E24))),\"\")","v":"غـائـب"},"غ",{"$f":"IFERROR(IF(G24=\"\",\"\",IF(G24=0,\"\",n2t(G24))),\"\")","v":"غـائـب"},null,"غ",{"$f":"IFERROR(IF(J24=\"\",\"\",IF(J24=0,\"\",n2t(J24))),\"\")","v":"غـائـب"},null,null,null,null,"غائب",null,null,null,null,"غ"]
[22,null,null,null,7,{"$f":"IFERROR(IF(E25=\"\",\"\",IF(E25=0,\"\",n2t(E25))),\"\")","v":"سـبـع"},3,{"$f":"IFERROR(IF(G25=\"\",\"\",IF(G25=0,\"\",n2t(G25))),\"\")","v":"ثـلاث"},null,10,{"$f":"IFERROR(IF(J25=\"\",\"\",IF(J25=0,\"\",n2t(J25))),\"\")","v":"عشر"},null,null,null,null,"ناجح",null,null,null,null,10]
[23,null,null,null,"غ",{"$f":"IFERROR(IF(E26=\"\",\"\",IF(E26=0,\"\",n2t(E26))),\"\")","v":"غـائـب"},"غ",{"$f":"IFERROR(IF(G26=\"\",\"\",IF(G26=0,\"\",n2t(G26))),\"\")","v":"غـائـب"},null,"غ",{"$f":"IFERROR(IF(J26=\"\",\"\",IF(J26=0,\"\",n2t(J26))),\"\")","v":"غـائـب"},null,null,null,null,"غائب",null,null,null,null,"غ"]
[24,null,null,null,7,{"$f":"IFERROR(IF(E27=\"\",\"\",IF(E27=0,\"\",n2t(E27))),\"\")","v":"سـبـع"},3,{"$f":"IFERROR(IF(G27=\"\",\"\",IF(G27=0,\"\",n2t(G27))),\"\")","v":"ثـلاث"},null,10,{"$f":"IFERROR(IF(J27=\"\",\"\",IF(J27=0,\"\",n2t(J27))),\"\")","v":"عشر"},null,null,null,null,"ناجح",null,null,null,null,10]
[25,null,null,null,7,{"$f":"IFERROR(IF(E28=\"\",\"\",IF(E28=0,\"\",n2t(E28))),\"\")","v":"سـبـع"},3,{"$f":"IFERROR(IF(G28=\"\",\"\",IF(G28=0,\"\",n2t(G28))),\"\")","v":"ثـلاث"},null,10,{"$f":"IFERROR(IF(J28=\"\",\"\",IF(J28=0,\"\",n2t(J28))),\"\")","v":"عشر"},null,null,null,null,"ناجح",null,null,null,null,10]
[26,null,null,null,null,{"$f":"IFERROR(IF(E29=\"\",\"\",IF(E29=0,\"\",n2t(E29))),\"\")","v":""},null,{"$f":"IFERROR(IF(G29=\"\",\"\",IF(G29=0,\"\",n2t(G29))),\"\")","v":""},null,null,{"$f":"IFERROR(IF(J29=\"\",\"\",IF(J29=0,\"\",n2t(J29))),\"\")","v":""},null,null,null,null,null,null,null,null,null,0]
[27,null,null,null,null,{"$f":"IFERROR(IF(E30=\"\",\"\",IF(E30=0,\"\",n2t(E30))),\"\")","v":""},null,{"$f":"IFERROR(IF(G30=\"\",\"\",IF(G30=0,\"\",n2t(G30))),\"\")","v":""},null,null,{"$f":"IFERROR(IF(J30=\"\",\"\",IF(J30=0,\"\",n2t(J30))),\"\")","v":""},null,null,null,null,null,null,null,null,null,0]
[28,null,null,null,null,{"$f":"IFERROR(IF(E31=\"\",\"\",IF(E31=0,\"\",n2t(E31))),\"\")","v":""},null,{"$f":"IFERROR(IF(G31=\"\",\"\",IF(G31=0,\"\",n2t(G31))),\"\")","v":""},null,null,{"$f":"IFERROR(IF(J31=\"\",\"\",IF(J31=0,\"\",n2t(J31))),\"\")","v":""},null,null,null,null,null,null,null,null,null,0]
[29,null,null,null,null,{"$f":"IFERROR(IF(E32=\"\",\"\",IF(E32=0,\"\",n2t(E32))),\"\")","v":""},null,{"$f":"IFERROR(IF(G32=\"\",\"\",IF(G32=0,\"\",n2t(G32))),\"\")","v":""},null,null,{"$f":"IFERROR(IF(J32=\"\",\"\",IF(J32=0,\"\",n2t(J32))),\"\")","v":""},null,null,null,null,null,null,null,null,null,0]
[30,null,null,null,null,{"$f":"IFERROR(IF(E33=\"\",\"\",IF(E33=0,\"\",n2t(E33))),\"\")","v":""},null,{"$f":"IFERROR(IF(G33=\"\",\"\",IF(G33=0,\"\",n2t(G33))),\"\")","v":""},null,null,{"$f":"IFERROR(IF(J33=\"\",\"\",IF(J33=0,\"\",n2t(J33))),\"\")","v":""},null,null,null,null,null,null,null,null,null,0]
[31,null,null,null,null,{"$f":"IFERROR(IF(E34=\"\",\"\",IF(E34=0,\"\",n2t(E34))),\"\")","v":""},null,{"$f":"IFERROR(IF(G34=\"\",\"\",IF(G34=0,\"\",n2t(G34))),\"\")","v":""},null,null,{"$f":"IFERROR(IF(J34=\"\",\"\",IF(J34=0,\"\",n2t(J34))),\"\")","v":""},null,null,null,null,null,null,null,null,null,0]
[32,null,null,null,null,{"$f":"IFERROR(IF(E35=\"\",\"\",IF(E35=0,\"\",n2t(E35))),\"\")","v":""},null,{"$f":"IFERROR(IF(G35=\"\",\"\",IF(G35=0,\"\",n2t(G35))),\"\")","v":""},null,null,{"$f":"IFERROR(IF(J35=\"\",\"\",IF(J35=0,\"\",n2t(J35))),\"\")","v":""},null,null,null,null,null,null,null,null,null,0]
[33,null,null,null,null,{"$f":"IFERROR(IF(E36=\"\",\"\",IF(E36=0,\"\",n2t(E36))),\"\")","v":""},null,{"$f":"IFERROR(IF(G36=\"\",\"\",IF(G36=0,\"\",n2t(G36))),\"\")","v":""},null,null,{"$f":"IFERROR(IF(J36=\"\",\"\",IF(J36=0,\"\",n2t(J36))),\"\")","v":""},null,null,null,null,null,null,null,null,null,0]
[]
["المشتركون",null,null,"الممتحنون",null,"الناجحون",null,"الراسبون",null,"الغياب",null,"النسبة %",null,"النسبة الكلية%",null,{"$f":"IFERROR(O39*100/N39,\"\")","v":100}]
[{"$f":"'الرئيسية '!I5","v":"ذكور"},null,{"$f":"'الرئيسية '!I7","v":"اناث"},{"$f":"'الرئيسية '!I5","v":"ذكور"},{"$f":"'الرئيسية '!I7","v":"اناث"},{"$f":"'الرئيسية '!I5","v":"ذكور"},{"$f":"'الرئيسية '!I7","v":"اناث"},{"$f":"'الرئيسية '!I5","v":"ذكور"},{"$f":"'الرئيسية '!I7","v":"اناث"},{"$f":"'الرئيسية '!I5","v":"ذكور"},{"$f":"'الرئيسية '!I7","v":"اناث"},{"$f":"'الرئيسية '!I5","v":"ذكور"},{"$f":"IFERROR(F40*100/D40,\"\")","v":100},{"$f":"D40+E40","v":16},{"$f":"F40+G40","v":16}]
[{"$f":"COUNT(BB7:BB36)+COUNTIF(BB7:BB36,\"ذكر\")","v":0},null,{"$f":"COUNT(BB7:BB36)+COUNTIF(BB7:BB36,\"انثى\")","v":0},{"$f":"COUNT(P7:P36)+COUNTIF(P7:P36,\"ناجح\")+COUNTIF(P7:P36,\"راسب\")+COUNTIF(P7:P36,\"مكمل\")","v":16},{"$f":"COUNT(P7:P36)+COUNTIF(P7:P36,\"ناجحة\")+COUNTIF(P7:P36,\"راسبة\")+COUNTIF(P7:P36,\"مكملة\")","v":0},{"$f":"COUNT(P7:P36)+COUNTIF(P7:P36,\"ناجح\")","v":16},{"$f":"COUNT(P7:P36)+COUNTIF(P7:P36,\"ناجحة\")","v":0},{"$f":"COUNT(P7:P36)+COUNTIF(P7:P36,\"راسب\")","v":0},{"$f":"COUNT(P7:P36)+COUNTIF(P7:P36,\"راسبة\")","v":0},{"$f":"COUNT(P7:P36)+COUNTIF(P7:P36,\"غائب\")","v":6},{"$f":"COUNT(P7:P36)+COUNTIF(P7:P36,\"غائبة\")","v":0},{"$f":"'الرئيسية '!I7","v":"اناث"},{"$f":"IFERROR(G40*100/E40,\"\")","v":""}]
[null,null,{"$f":"'اسماء التلاميذ'!F12","v":0},null,null,null,null,null,null,null,null,null,{"$f":"'اسماء التلاميذ'!B3","v":0}]
[null,null,"معلم المادة",null,null,null,null,null,null,null,null,null,"مدير المدرسة"]

{"sheet":"رياضة","index":16,"n_rows":42,"n_cols":27,"rows_kept":42,"cut":false,"hidden":false,"merged":[[4,11,4,14],[5,12,5,14],[4,6,5,6],[4,7,5,7],[4,8,5,8],[4,1,5,1],[4,0,5,0],[38,0,38,1],[0,5,0,10],[1,5,1,9],[2,5,2,9],[3,0,3,2],[0,0,0,2],[1,0,1,2],[2,0,2,2],[39,0,39,1],[40,12,40,14],[41,12,41,14],[4,9,5,9],[4,10,5,10],[37,0,37,2],[37,3,37,4],[37,5,37,6],[37,7,37,8],[37,9,37,10],[37,11,37,12],[37,13,37,14],[36,11,36,14],[4,5,5,5],[4,4,5,4],[4,2,5,3]]}
["جمهورية العراق",null,null,null,null,"      قائمة درجات امتحان نصف السنة",null,null,null,null,null,"الصف/ ",{"$f":"'اسماء التلاميذ'!F2","v":"الأول"}]
["وزارة التربية",null,null,null,null,"                للعام الدراسي",null,null,null,null,null,"الشعبة/ ",{"$f":"'اسماء التلاميذ'!F3","v":"أ"},null,null,null,null,null,null,null,null,null,null,null,null,null,"قائمة امتحان نصف السنة"]
["إدارة",null,null,null,null,{"$f":"'اسماء التلاميذ'!F4","v":"2021 - 2022"},null,null,null,null,null,"المادة/ ","التربية الرياضية"]
[{"$f":"'اسماء التلاميذ'!B2","v":0},null,null,null,null,null,null,null,null,null,null,"اليوم والتاريخ/"]
["تسلسل","رقم القبول","الاسم الثلاثي",null,"الحضوردرجتان 2","القيافة درجتان 2","النشاطات الرياضية درجتان ","تمرين حركي درجة 1","تمرين حركي درجة 1","لعبة صغيرة درجة 1","لياقة بدجنية سباق درجة 1","الدرجة رقما وكتابة"]
[null,null,null,null,null,null,null,null,null,null,null,"المجموع الكلي","كتابة"]
[4,"نوري",null,null,2,2,2,1,1,1,1,10,"عشر",null,null,{"$f":"IF(COUNTIF(L7,\"<>\")<1,\"\",IF(COUNTIF(L7,\"0\")>=1,IF($BB7=\"انثى\",\"\",\"\"),IF(COUNTIF(L7,\"<5\")+COUNTIF(L7,\"0\")>=1,IF($BB7=\"انثى\",\"راسبة\",\"راسب\"),IF(COUNTIF(L7,\"<5\")+COUNTIF(L7,\"غ\")>=1,IF($BB7=\"انثى\",\"غائبة\",\"غائب\"),IF(COUNTIF(L7,\"<5\")+COUNTIF(L7,\"غ\")=1,IF($BB7=\"انثى\",\"مكملة\",\"مكمل\"),IF(COUNTIF(L7,\"<5\")+COUNTIF(L7,\"غ\")=2,IF($BB7=\"انثى\",\"مكملة\",\"مكمل\"),IF($BB7=\"انثى\",\"ناجحة\",\"ناجح\")))))))","v":"ناجح"}]
[5,"احمد",null,null,2,2,2,1,1,1,1,10,"عشر",null,null,{"$f":"IF(COUNTIF(L8,\"<>\")<1,\"\",IF(COUNTIF(L8,\"0\")>=1,IF($BB8=\"انثى\",\"\",\"\"),IF(COUNTIF(L8,\"<5\")+COUNTIF(L8,\"0\")>=1,IF($BB8=\"انثى\",\"راسبة\",\"راسب\"),IF(COUNTIF(L8,\"<5\")+COUNTIF(L8,\"غ\")>=1,IF($BB8=\"انثى\",\"غائبة\",\"غائب\"),IF(COUNTIF(L8,\"<5\")+COUNTIF(L8,\"غ\")=1,IF($BB8=\"انثى\",\"مكملة\",\"مكمل\"),IF(COUNTIF(L8,\"<5\")+COUNTIF(L8,\"غ\")=2,IF($BB8=\"انثى\",\"مكملة\",\"مكمل\"),IF($BB8=\"انثى\",\"ناجحة\",\"ناجح\")))))))","v":"ناجح"}]
[6,null,null,null,2,2,2,1,1,1,1,10,"عشر",null,null,"ناجح"]
[7,null,null,null,2,1,2,1,1,1,1,9,"تـسـع",null,null,"ناجح"]
[8,null,null,null,2,2,2,1,1,1,1,10,"عشر",null,null,"ناجح"]
[9,null,null,null,2,1,2,1,1,1,1,9,"تـسـع",null,null,"ناجح"]
[10,null,null,null,2,2,2,1,1,1,1,10,"عشر",null,null,"ناجح"]
[11,null,null,null,2,2,1,1,1,1,1,9,"تـسـع",null,null,"ناجح"]
[12,null,null,null,"غ","غ","غ","غ","غ","غ","غ","غ","غـائـب",null,null,"غائب"]
[13,null,null,null,2,1,2,1,1,1,1,9,"تـسـع",null,null,"ناجح"]
[14,null,null,null,2,1,2,1,1,1,1,9,"تـسـع",null,null,"ناجح"]
[15,null,null,null,"غ","غ","غ","غ","غ","غ","غ","غ","غـائـب",null,null,"غائب"]
[16,null,null,null,"غ","غ","غ","غ","غ","غ","غ","غ","غـائـب",null,null,"غائب"]
[17,null,null,null,2,1,2,1,1,1,1,9,"تـسـع",null,null,"ناجح"]
[18,null,null,null,2,2,2,1,1,1,1,10,"عشر",null,null,"ناجح"]
[19,null,null,null,2,2,2,1,1,1,1,10,"عشر",null,null,"ناجح"]
[20,null,null,null,"غ","غ","غ","غ","غ","غ","غ","غ","غـائـب",null,null,"غائب"]
[21,null,null,null,"غ","غ","غ","غ","غ","غ","غ","غ","غـائـب",null,null,"غائب"]
[22,null,null,null,2,2,2,1,1,1,1,10,"عشر",null,null,"ناجح"]
[23,null,null,null,"غ","غ","غ","غ","غ","غ","غ","غ","غـائـب",null,null,"غائب"]
[24,null,null,null,2,2,2,1,1,1,1,10,"عشر",null,null,"ناجح"]
[25,null,null,null,2,2,2,1,1,1,1,10,"عشر",null,null,"ناجح"]
[26,null,null,null,null,null,null,null,null,null,null,null,null,null,null,""]
[27,null,null,null,null,null,null,null,null,null,null,null,null,null,null,""]
[28,null,null,null,null,null,null,null,null,null,null,null,null,null,null,""]
[29,null,null,null,null,null,null,null,null,null,null,null,null,null,null,""]
[30,null,null,null,null,null,null,null,null,null,null,null,null,null,null,""]
[31,null,null,null,null,null,null,null,null,null,null,null,null,null,null,""]
[32,null,null,null,null,null,null,null,null,null,null,null,null,null,null,""]
[33,null,null,null,null,null,null,null,null,null,null,null,null,null,null,""]
[]
["المشتركون",null,null,"الممتحنون",null,"الناجحون",null,"الراسبون",null,"الغياب",null,"النسبة %",null,"النسبة الكلية%",null,{"$f":"IFERROR(O39*100/N39,\"\")","v":100}]
[{"$f":"'الرئيسية '!I5","v":"ذكور"},null,{"$f":"'الرئيسية '!I7","v":"اناث"},{"$f":"'الرئيسية '!I5","v":"ذكور"},{"$f":"'الرئيسية '!I7","v":"اناث"},{"$f":"'الرئيسية '!I5","v":"ذكور"},{"$f":"'الرئيسية '!I7","v":"اناث"},{"$f":"'الرئيسية '!I5","v":"ذكور"},{"$f":"'الرئيسية '!I7","v":"اناث"},{"$f":"'الرئيسية '!I5","v":"ذكور"},{"$f":"'الرئيسية '!I7","v":"اناث"},{"$f":"'الرئيسية '!I5","v":"ذكور"},{"$f":"IFERROR(F40*100/D40,\"\")","v":100},{"$f":"D40+E40","v":16},{"$f":"F40+G40","v":16}]
[{"$f":"COUNT(BB7:BB36)+COUNTIF(BB7:BB36,\"ذكر\")","v":0},null,{"$f":"COUNT(BB7:BB36)+COUNTIF(BB7:BB36,\"انثى\")","v":0},{"$f":"COUNT(P7:P36)+COUNTIF(P7:P36,\"ناجح\")+COUNTIF(P7:P36,\"راسب\")+COUNTIF(P7:P36,\"مكمل\")","v":16},{"$f":"COUNT(P7:P36)+COUNTIF(P7:P36,\"ناجحة\")+COUNTIF(P7:P36,\"راسبة\")+COUNTIF(P7:P36,\"مكملة\")","v":0},{"$f":"COUNT(P7:P36)+COUNTIF(P7:P36,\"ناجح\")","v":16},{"$f":"COUNT(P7:P36)+COUNTIF(P7:P36,\"ناجحة\")","v":0},{"$f":"COUNT(P7:P36)+COUNTIF(P7:P36,\"راسب\")","v":0},{"$f":"COUNT(P7:P36)+COUNTIF(P7:P36,\"راسبة\")","v":0},{"$f":"COUNT(P7:P36)+COUNTIF(P7:P36,\"غائب\")","v":6},{"$f":"COUNT(P7:P36)+COUNTIF(P7:P36,\"غائبة\")","v":0},{"$f":"'الرئيسية '!I7","v":"اناث"},{"$f":"IFERROR(G40*100/E40,\"\")","v":""}]
[null,null,{"$f":"'اسماء التلاميذ'!F13","v":0},null,null,null,null,null,null,null,null,null,{"$f":"'اسماء التلاميذ'!B3","v":0}]
[null,null,"معلم المادة",null,null,null,null,null,null,null,null,null,"مدير المدرسة"]

{"sheet":"قائمة امتحان نصف السنة","index":17,"n_rows":42,"n_cols":24,"rows_kept":42,"cut":false,"hidden":false,"merged":[[41,12,41,14],[37,0,37,1],[37,2,37,3],[37,4,37,5],[37,6,37,7],[40,12,40,14],[37,8,37,9],[37,10,37,11],[37,12,37,13],[4,5,5,5],[3,0,3,2],[0,3,0,10],[1,3,1,10],[2,3,2,11],[0,0,0,2],[1,0,1,2],[2,0,2,2],[4,0,5,0],[4,1,5,1],[4,4,5,4],[4,11,4,14],[4,2,5,3],[0,12,0,13],[1,12,1,13],[4,15,5,15],[4,6,5,6],[4,7,5,7],[4,8,5,8],[4,9,5,9],[4,10,5,10],[5,12,5,14]]}
["جمهورية العراق",null,null,"            قائمة درجات نصف السنة",null,null,null,null,null,null,null,null,"الصف:",null,{"$f":"'اسماء التلاميذ'!F2","v":"الأول"}]
["وزارة التربية",null,null,"           للعام الدراسي",null,null,null,null,null,null,null,null,"الشعبة:",null,{"$f":"'اسماء التلاميذ'!F3","v":"أ"}]
["إدارة",null,null,{"$f":"'اسماء التلاميذ'!F4","v":"2021 - 2022"}]
[{"$f":"'اسماء التلاميذ'!B2","v":0}]
["ت","رقم القبول","الاسم الثلاثي",null,"التربية الإسلامية","اللغة العربية","الرياضيات","العلوم","الإنكليزي","الفنية والنشيد","التربية الرياضية","المجموع رقما وكتابة",null,null,null,"حالة التلميذ"]
[null,null,null,null,null,null,null,null,null,null,null,"رقما","كتابة"]
[4,"نوري",null,null,{"$f":"اسلامية!L7","v":7},{"$f":"عربي!AE7","v":6},{"$f":"رياضيات!F7","v":7},{"$f":"علوم!F7","v":6},{"$f":"انكليزي!L7","v":7},{"$f":"فنية!J7","v":9},{"$f":"رياضة!L7","v":10},{"$f":"IFERROR(IF(AND(E7=\"غ\",F7=\"غ\",G7=\"غ\",H7=\"غ\",I7=\"غ\",J7,K7=\"غ\"),\"غ\",ROUND(SUM(E7:K7),0)),\"\")","v":52},{"$f":"IFERROR(IF(L7=\"\",\"\",IF(L7=0,\"\",n2t(L7))),\"\")","v":"اثنتانِ وخـمـسونَ"},null,null,{"$f":"IF(COUNTIF(E7:K7,\"<>\")<7,\"\",IF(COUNTIF(E7:K7,\"0\")>=7,IF($BB7=\"انثى\",\"\",\"\"),IF(COUNTIF(E7:K7,\"<5\")+COUNTIF(E7:K7,\"0\")>=3,IF($BB7=\"انثى\",\"راسبة\",\"راسب\"),IF(COUNTIF(E7:K7,\"<5\")+COUNTIF(E7:K7,\"غ\")=2,IF($BB7=\"انثى\",\"مكملة بدرسين\",\"مكمل بدرسين\"),IF(COUNTIF(E7:K7,\"غ\")=7,IF($BB7=\"انثى\",\"غائبة\",\"غائب\"),IF(COUNTIF(E7:K7,\"<5\")+COUNTIF(E7:K7,\"غ\")>1,IF($BB7=\"انثى\",\"راسبة\",\"راسب\"),IF(COUNTIF(E7:K7,\"<5\")+COUNTIF(E7:K7,\"غ\")=1,IF($BB7=\"انثى\",\"مكملة بدرس\",\"مكمل بدرس\"),IF($BB7=\"انثى\",\"ناجحة\",\"ناجح\"))))))))","v":"ناجح"},{"$f":"IF(LEFT(P7,1)=\"ن\",\"ناجح\",\"\")&IF(LEFT(P7,1)=\"ر\",\"راسب\",\"\")&IF(LEFT(P7,1)=\"غ\",\"غائب\",\"\")&IF(LEFT(P7,1)=\"م\",\"مكمل\",\"\")","v":"ناجح"}]
[5,"احمد",null,null,{"$f":"اسلامية!L8","v":6},{"$f":"عربي!AE8","v":5},{"$f":"رياضيات!F8","v":5},{"$f":"علوم!F8","v":5},{"$f":"انكليزي!L8","v":5},{"$f":"فنية!J8","v":9},{"$f":"رياضة!L8","v":10},{"$f":"IFERROR(IF(AND(E8=\"غ\",F8=\"غ\",G8=\"غ\",H8=\"غ\",I8=\"غ\",J8,K8=\"غ\"),\"غ\",ROUND(SUM(E8:K8),0)),\"\")","v":45},{"$f":"IFERROR(IF(L8=\"\",\"\",IF(L8=0,\"\",n2t(L8))),\"\")","v":"خـمـس وأربـعونَ"},null,null,{"$f":"IF(COUNTIF(E8:K8,\"<>\")<7,\"\",IF(COUNTIF(E8:K8,\"0\")>=7,IF($BB8=\"انثى\",\"\",\"\"),IF(COUNTIF(E8:K8,\"<5\")+COUNTIF(E8:K8,\"0\")>=3,IF($BB8=\"انثى\",\"راسبة\",\"راسب\"),IF(COUNTIF(E8:K8,\"<5\")+COUNTIF(E8:K8,\"غ\")=2,IF($BB8=\"انثى\",\"مكملة بدرسين\",\"مكمل بدرسين\"),IF(COUNTIF(E8:K8,\"غ\")=7,IF($BB8=\"انثى\",\"غائبة\",\"غائب\"),IF(COUNTIF(E8:K8,\"<5\")+COUNTIF(E8:K8,\"غ\")>1,IF($BB8=\"انثى\",\"راسبة\",\"راسب\"),IF(COUNTIF(E8:K8,\"<5\")+COUNTIF(E8:K8,\"غ\")=1,IF($BB8=\"انثى\",\"مكملة بدرس\",\"مكمل بدرس\"),IF($BB8=\"انثى\",\"ناجحة\",\"ناجح\"))))))))","v":"ناجح"},{"$f":"IF(LEFT(P8,1)=\"ن\",\"ناجح\",\"\")&IF(LEFT(P8,1)=\"ر\",\"راسب\",\"\")&IF(LEFT(P8,1)=\"غ\",\"غائب\",\"\")&IF(LEFT(P8,1)=\"م\",\"مكمل\",\"\")","v":"ناجح"},null,null,null,null,null,{"$f":"IFERROR(ROUND((X8),0),\"غ\")","v":0}]
[6,null,null,null,{"$f":"اسلامية!L9","v":8},{"$f":"عربي!AE9","v":8},{"$f":"رياضيات!F9","v":8},{"$f":"علوم!F9","v":7},{"$f":"انكليزي!L9","v":6},{"$f":"فنية!J9","v":10},{"$f":"رياضة!L9","v":10},57,{"$f":"IFERROR(IF(L9=\"\",\"\",IF(L9=0,\"\",n2t(L9))),\"\")","v":"سـبـع وخـمـسونَ"},null,null,"ناجح","ناجح",null,null,null,null,null,{"$f":"IFERROR(ROUND((X9),0),\"غ\")","v":0}]
[7,null,null,null,{"$f":"اسلامية!L10","v":5},{"$f":"عربي!AE10","v":5},{"$f":"رياضيات!F10","v":5},{"$f":"علوم!F10","v":5},{"$f":"انكليزي!L10","v":5},{"$f":"فنية!J10","v":9},{"$f":"رياضة!L10","v":9},43,{"$f":"IFERROR(IF(L10=\"\",\"\",IF(L10=0,\"\",n2t(L10))),\"\")","v":"ثـلاث وأربـعونَ"},null,null,"ناجح","ناجح",null,null,null,null,null,0]
[8,null,null,null,{"$f":"اسلامية!L11","v":7},{"$f":"عربي!AE11","v":6},{"$f":"رياضيات!F11","v":7},{"$f":"علوم!F11","v":6},{"$f":"انكليزي!L11","v":7},{"$f":"فنية!J11","v":9},{"$f":"رياضة!L11","v":10},52,{"$f":"IFERROR(IF(L11=\"\",\"\",IF(L11=0,\"\",n2t(L11))),\"\")","v":"اثنتانِ وخـمـسونَ"},null,null,"ناجح","ناجح",null,null,null,null,null,0]
[9,null,null,null,{"$f":"اسلامية!L12","v":5},{"$f":"عربي!AE12","v":2},{"$f":"رياضيات!F12","v":2},{"$f":"علوم!F12","v":2},{"$f":"انكليزي!L12","v":5},{"$f":"فنية!J12","v":6},{"$f":"رياضة!L12","v":9},31,{"$f":"IFERROR(IF(L12=\"\",\"\",IF(L12=0,\"\",n2t(L12))),\"\")","v":"إحدى وثـلاثونَ"},null,null,"راسب","راسب",null,null,null,null,null,0]
[10,null,null,null,{"$f":"اسلامية!L13","v":9},{"$f":"عربي!AE13","v":7},{"$f":"رياضيات!F13","v":7},{"$f":"علوم!F13","v":8},{"$f":"انكليزي!L13","v":7},{"$f":"فنية!J13","v":10},{"$f":"رياضة!L13","v":10},58,{"$f":"IFERROR(IF(L13=\"\",\"\",IF(L13=0,\"\",n2t(L13))),\"\")","v":"ثـمـان وخـمـسونَ"},null,null,"ناجح","ناجح",null,null,null,null,null,0]
[11,null,null,null,{"$f":"اسلامية!L14","v":8},{"$f":"عربي!AE14","v":6},{"$f":"رياضيات!F14","v":7},{"$f":"علوم!F14","v":5},{"$f":"انكليزي!L14","v":6},{"$f":"فنية!J14","v":8},{"$f":"رياضة!L14","v":9},49,{"$f":"IFERROR(IF(L14=\"\",\"\",IF(L14=0,\"\",n2t(L14))),\"\")","v":"تـسـع وأربـعونَ"},null,null,"ناجح","ناجح",null,null,null,null,null,0]
[12,null,null,null,{"$f":"اسلامية!L15","v":"غ"},{"$f":"عربي!AE15","v":"غ"},{"$f":"رياضيات!F15","v":"غ"},{"$f":"علوم!F15","v":"غ"},{"$f":"انكليزي!L15","v":"غ"},{"$f":"فنية!J15","v":"غ"},{"$f":"رياضة!L15","v":"غ"},"غ",{"$f":"IFERROR(IF(L15=\"\",\"\",IF(L15=0,\"\",n2t(L15))),\"\")","v":"غـائـب"},null,null,"غائب","غائب",null,null,null,null,null,0]
[13,null,null,null,{"$f":"اسلامية!L16","v":7},{"$f":"عربي!AE16","v":6},{"$f":"رياضيات!F16","v":6},{"$f":"علوم!F16","v":6},{"$f":"انكليزي!L16","v":5},{"$f":"فنية!J16","v":10},{"$f":"رياضة!L16","v":9},49,{"$f":"IFERROR(IF(L16=\"\",\"\",IF(L16=0,\"\",n2t(L16))),\"\")","v":"تـسـع وأربـعونَ"},null,null,"ناجح","ناجح",null,null,null,null,null,0]
[14,null,null,null,{"$f":"اسلامية!L17","v":7},{"$f":"عربي!AE17","v":6},{"$f":"رياضيات!F17","v":6},{"$f":"علوم!F17","v":6},{"$f":"انكليزي!L17","v":5},{"$f":"فنية!J17","v":10},{"$f":"رياضة!L17","v":9},49,{"$f":"IFERROR(IF(L17=\"\",\"\",IF(L17=0,\"\",n2t(L17))),\"\")","v":"تـسـع وأربـعونَ"},null,null,"ناجح","ناجح",null,null,null,null,null,0]
[15,null,null,null,{"$f":"اسلامية!L18","v":"غ"},{"$f":"عربي!AE18","v":"غ"},{"$f":"رياضيات!F18","v":"غ"},{"$f":"علوم!F18","v":"غ"},{"$f":"انكليزي!L18","v":"غ"},{"$f":"فنية!J18","v":"غ"},{"$f":"رياضة!L18","v":"غ"},"غ",{"$f":"IFERROR(IF(L18=\"\",\"\",IF(L18=0,\"\",n2t(L18))),\"\")","v":"غـائـب"},null,null,"غائب","غائب",null,null,null,null,null,0]
[16,null,null,null,{"$f":"اسلامية!L19","v":"غ"},{"$f":"عربي!AE19","v":"غ"},{"$f":"رياضيات!F19","v":"غ"},{"$f":"علوم!F19","v":"غ"},{"$f":"انكليزي!L19","v":"غ"},{"$f":"فنية!J19","v":"غ"},{"$f":"رياضة!L19","v":"غ"},"غ",{"$f":"IFERROR(IF(L19=\"\",\"\",IF(L19=0,\"\",n2t(L19))),\"\")","v":"غـائـب"},null,null,"غائب","غائب",null,null,null,null,null,0]
[17,null,null,null,{"$f":"اسلامية!L20","v":5},{"$f":"عربي!AE20","v":2},{"$f":"رياضيات!F20","v":5},{"$f":"علوم!F20","v":5},{"$f":"انكليزي!L20","v":6},{"$f":"فنية!J20","v":9},{"$f":"رياضة!L20","v":9},41,{"$f":"IFERROR(IF(L20=\"\",\"\",IF(L20=0,\"\",n2t(L20))),\"\")","v":"إحدى وأربـعونَ"},null,null,"مكمل بدرس","مكمل",null,null,null,null,null,0]
[18,null,null,null,{"$f":"اسلامية!L21","v":10},{"$f":"عربي!AE21","v":9},{"$f":"رياضيات!F21","v":10},{"$f":"علوم!F21","v":10},{"$f":"انكليزي!L21","v":9},{"$f":"فنية!J21","v":10},{"$f":"رياضة!L21","v":10},68,{"$f":"IFERROR(IF(L21=\"\",\"\",IF(L21=0,\"\",n2t(L21))),\"\")","v":"ثـمـان وسـتونَ"},null,null,"ناجح","ناجح",null,null,null,null,null,0]
[19,null,null,null,{"$f":"اسلامية!L22","v":7},{"$f":"عربي!AE22","v":6},{"$f":"رياضيات!F22","v":6},{"$f":"علوم!F22","v":7},{"$f":"انكليزي!L22","v":6},{"$f":"فنية!J22","v":10},{"$f":"رياضة!L22","v":10},52,{"$f":"IFERROR(IF(L22=\"\",\"\",IF(L22=0,\"\",n2t(L22))),\"\")","v":"اثنتانِ وخـمـسونَ"},null,null,"ناجح","ناجح",null,null,null,null,null,0]
[20,null,null,null,{"$f":"اسلامية!L23","v":"غ"},{"$f":"عربي!AE23","v":"غ"},{"$f":"رياضيات!F23","v":"غ"},{"$f":"علوم!F23","v":"غ"},{"$f":"انكليزي!L23","v":"غ"},{"$f":"فنية!J23","v":"غ"},{"$f":"رياضة!L23","v":"غ"},"غ",{"$f":"IFERROR(IF(L23=\"\",\"\",IF(L23=0,\"\",n2t(L23))),\"\")","v":"غـائـب"},null,null,"غائب","غائب",null,null,null,null,null,0]
[21,null,null,null,{"$f":"اسلامية!L24","v":"غ"},{"$f":"عربي!AE24","v":"غ"},{"$f":"رياضيات!F24","v":"غ"},{"$f":"علوم!F24","v":"غ"},{"$f":"انكليزي!L24","v":"غ"},{"$f":"فنية!J24","v":"غ"},{"$f":"رياضة!L24","v":"غ"},"غ",{"$f":"IFERROR(IF(L24=\"\",\"\",IF(L24=0,\"\",n2t(L24))),\"\")","v":"غـائـب"},null,null,"غائب","غائب",null,null,null,null,null,0]
[22,null,null,null,{"$f":"اسلامية!L25","v":7},{"$f":"عربي!AE25","v":7},{"$f":"رياضيات!F25","v":7},{"$f":"علوم!F25","v":6},{"$f":"انكليزي!L25","v":5},{"$f":"فنية!J25","v":10},{"$f":"رياضة!L25","v":10},52,{"$f":"IFERROR(IF(L25=\"\",\"\",IF(L25=0,\"\",n2t(L25))),\"\")","v":"اثنتانِ وخـمـسونَ"},null,null,"ناجح","ناجح",null,null,null,null,null,0]
[23,null,null,null,{"$f":"اسلامية!L26","v":"غ"},{"$f":"عربي!AE26","v":"غ"},{"$f":"رياضيات!F26","v":"غ"},{"$f":"علوم!F26","v":"غ"},{"$f":"انكليزي!L26","v":"غ"},{"$f":"فنية!J26","v":"غ"},{"$f":"رياضة!L26","v":"غ"},"غ",{"$f":"IFERROR(IF(L26=\"\",\"\",IF(L26=0,\"\",n2t(L26))),\"\")","v":"غـائـب"},null,null,"غائب","غائب",null,null,null,null,null,0]
[24,null,null,null,{"$f":"اسلامية!L27","v":7},{"$f":"عربي!AE27","v":7},{"$f":"رياضيات!F27","v":3},{"$f":"علوم!F27","v":7},{"$f":"انكليزي!L27","v":6},{"$f":"فنية!J27","v":10},{"$f":"رياضة!L27","v":10},50,{"$f":"IFERROR(IF(L27=\"\",\"\",IF(L27=0,\"\",n2t(L27))),\"\")","v":"خـمـسونَ"},null,null,"مكمل بدرس","مكمل",null,null,null,null,null,0]
[25,null,null,null,{"$f":"اسلامية!L28","v":10},{"$f":"عربي!AE28","v":10},{"$f":"رياضيات!F28","v":10},{"$f":"علوم!F28","v":10},{"$f":"انكليزي!L28","v":10},{"$f":"فنية!J28","v":10},{"$f":"رياضة!L28","v":10},70,{"$f":"IFERROR(IF(L28=\"\",\"\",IF(L28=0,\"\",n2t(L28))),\"\")","v":"سـبـعونَ"},null,null,"ناجح","ناجح",null,null,null,null,null,0]
[26,null,null,null,{"$f":"اسلامية!L29","v":0},{"$f":"عربي!AE29","v":0},{"$f":"رياضيات!F29","v":0},{"$f":"علوم!F29","v":0},{"$f":"انكليزي!L29","v":0},{"$f":"فنية!J29","v":0},{"$f":"رياضة!L29","v":0},0,{"$f":"IFERROR(IF(L29=\"\",\"\",IF(L29=0,\"\",n2t(L29))),\"\")","v":""},null,null,"","",null,null,null,null,null,0]
[27,null,null,null,{"$f":"اسلامية!L30","v":0},{"$f":"عربي!AE30","v":0},{"$f":"رياضيات!F30","v":0},{"$f":"علوم!F30","v":0},{"$f":"انكليزي!L30","v":0},{"$f":"فنية!J30","v":0},{"$f":"رياضة!L30","v":0},0,{"$f":"IFERROR(IF(L30=\"\",\"\",IF(L30=0,\"\",n2t(L30))),\"\")","v":""},null,null,"","",null,null,null,null,null,0]
[28,null,null,null,{"$f":"اسلامية!L31","v":0},{"$f":"عربي!AE31","v":0},{"$f":"رياضيات!F31","v":0},{"$f":"علوم!F31","v":0},{"$f":"انكليزي!L31","v":0},{"$f":"فنية!J31","v":0},{"$f":"رياضة!L31","v":0},0,{"$f":"IFERROR(IF(L31=\"\",\"\",IF(L31=0,\"\",n2t(L31))),\"\")","v":""},null,null,"","",null,null,null,null,null,0]
[29,null,null,null,{"$f":"اسلامية!L32","v":0},{"$f":"عربي!AE32","v":0},{"$f":"رياضيات!F32","v":0},{"$f":"علوم!F32","v":0},{"$f":"انكليزي!L32","v":0},{"$f":"فنية!J32","v":0},{"$f":"رياضة!L32","v":0},0,{"$f":"IFERROR(IF(L32=\"\",\"\",IF(L32=0,\"\",n2t(L32))),\"\")","v":""},null,null,"","",null,null,null,null,null,0]
[30,null,null,null,{"$f":"اسلامية!L33","v":0},{"$f":"عربي!AE33","v":0},{"$f":"رياضيات!F33","v":0},{"$f":"علوم!F33","v":0},{"$f":"انكليزي!L33","v":0},{"$f":"فنية!J33","v":0},{"$f":"رياضة!L33","v":0},0,{"$f":"IFERROR(IF(L33=\"\",\"\",IF(L33=0,\"\",n2t(L33))),\"\")","v":""},null,null,"","",null,null,null,null,null,0]
[31,null,null,null,{"$f":"اسلامية!L34","v":0},{"$f":"عربي!AE34","v":0},{"$f":"رياضيات!F34","v":0},{"$f":"علوم!F34","v":0},{"$f":"انكليزي!L34","v":0},{"$f":"فنية!J34","v":0},{"$f":"رياضة!L34","v":0},0,{"$f":"IFERROR(IF(L34=\"\",\"\",IF(L34=0,\"\",n2t(L34))),\"\")","v":""},null,null,"","",null,null,null,null,null,0]
[32,null,null,null,{"$f":"اسلامية!L35","v":0},{"$f":"عربي!AE35","v":0},{"$f":"رياضيات!F35","v":0},{"$f":"علوم!F35","v":0},{"$f":"انكليزي!L35","v":0},{"$f":"فنية!J35","v":0},{"$f":"رياضة!L35","v":0},0,{"$f":"IFERROR(IF(L35=\"\",\"\",IF(L35=0,\"\",n2t(L35))),\"\")","v":""},null,null,"","",null,null,null,null,null,0]
[33,null,null,null,{"$f":"اسلامية!L36","v":0},{"$f":"عربي!AE36","v":0},{"$f":"رياضيات!F36","v":0},{"$f":"علوم!F36","v":0},{"$f":"انكليزي!L36","v":0},{"$f":"فنية!J36","v":0},{"$f":"رياضة!L36","v":0},null,{"$f":"IFERROR(IF(L36=\"\",\"\",IF(L36=0,\"\",n2t(L36))),\"\")","v":""},null,null,"","",null,null,null,null,null,0]
[null,null,null,null,null,null,null,null,null,null,null,null,null,null,null,null,null,null,null,null,null,null,null,0]
["المشتركون",null,"الممتحنون",null,"الناجحون",null,"الراسبون",null,"الغياب",null,"المكملون",null,"النسبة",null,"النسبة الكلية %",{"$f":"IFERROR(O39*100/P39,\"\")","v":81.25},null,null,null,null,null,null,null,0]
[{"$f":"'الرئيسية '!I5","v":"ذكور"},{"$f":"COUNT(BB7:BB36)+COUNTIF(BB7:BB36,\"ذكر\")","v":0},{"$f":"'الرئيسية '!I5","v":"ذكور"},{"$f":"COUNT(P7:P36)+COUNTIF(P7:P36,\"ناجح\")+COUNTIF(P7:P36,\"راسب\")+COUNTIF(P7:P36,\"مكمل بدرس\")+COUNTIF(P7:P36,\"مكمل بدرسين\")","v":16},{"$f":"'الرئيسية '!I5","v":"ذكور"},{"$f":"COUNT(P7:P36)+COUNTIF(P7:P36,\"ناجح\")","v":13},{"$f":"'الرئيسية '!I5","v":"ذكور"},{"$f":"COUNT(P7:P36)+COUNTIF(P7:P36,\"راسب\")","v":1},{"$f":"'الرئيسية '!I5","v":"ذكور"},{"$f":"COUNT(P7:P36)+COUNTIF(P7:P36,\"غائب\")","v":6},{"$f":"'الرئيسية '!I5","v":"ذكور"},{"$f":"COUNT(P7:P36)+COUNTIF(P7:P36,\"مكمل بدرس\")+COUNTIF(P7:P36,\"مكمل بدرسين\")","v":2},{"$f":"'الرئيسية '!I5","v":"ذكور"},{"$f":"IFERROR(F39*100/D39,\"\")","v":81.25},{"$f":"F39+F40","v":13},{"$f":"D39+D40","v":16},null,null,null,null,null,null,null,4]
[{"$f":"'الرئيسية '!I7","v":"اناث"},{"$f":"COUNT(BB7:BB36)+COUNTIF(BB7:BB36,\"انثى\")","v":0},{"$f":"'الرئيسية '!I7","v":"اناث"},{"$f":"COUNT(P7:P36)+COUNTIF(P7:P36,\"ناجحة\")+COUNTIF(P7:P36,\"راسبة\")+COUNTIF(P7:P36,\"مكملة بدرس\")+COUNTIF(P7:P36,\"مكملة بدرسين\")","v":0},{"$f":"'الرئيسية '!I7","v":"اناث"},{"$f":"COUNT(P7:P36)+COUNTIF(P7:P36,\"ناجحة\")","v":0},{"$f":"'الرئيسية '!I7","v":"اناث"},{"$f":"COUNT(P7:P36)+COUNTIF(P7:P36,\"راسبة\")","v":0},{"$f":"'الرئيسية '!I7","v":"اناث"},{"$f":"COUNT(P7:P36)+COUNTIF(P7:P36,\"غائبة\")","v":0},{"$f":"'الرئيسية '!I7","v":"اناث"},{"$f":"COUNT(P7:P36)+COUNTIF(P7:P36,\"مكملة بدرس\")+COUNTIF(P7:P36,\" مكملة بدرسين\")","v":0},{"$f":"'الرئيسية '!I7","v":"اناث"},{"$f":"IFERROR(F40*100/D40,\"\")","v":""},null,null,null,null,null,null,null,null,null,3]
[null,null,{"$f":"'اسماء التلاميذ'!B4","v":0},null,null,null,null,null,null,null,null,null,{"$f":"'اسماء التلاميذ'!B3","v":0},null,null,null,null,null,null,null,null,null,null,0]
[null,null,"مرشد/ة الصف",null,null,null,null,null,null,null,null,null,"مدير/ة المدرسة",null,null,null,null,null,null,null,null,null,null,0]

{"sheet":"الرئيسية ","index":18,"n_rows":7,"n_cols":11,"rows_kept":7,"cut":false,"hidden":false,"merged":[]}
["الوقت",{"$f":"NOW()","v":44830.983370486108},null,{"$f":"\"   \"&TEXT($A$2,\"dddd  d  mmmm  yyyy\")","v":"   الإثنين  26  سبتمبر  2022"}]
[{"$f":"NOW()","v":"2022-09-26T23:36:03.210"}]
[null,null,null,"قوائم امتحانات نصف السنة",null,null,"قوائم امتحانات نهاية السنة",null,"جنس المدرسة"]
[]
[null,null,null,null,null,null,null,null,"ذكور",null,"ذكور"]
[]
[null,null,null,null,null,null,null,null,"اناث",null,"اناث"]

{"sheet":",v ehkd","index":19,"n_rows":0,"n_cols":0,"rows_kept":0,"cut":false,"hidden":false,"merged":[]}

{"sheet":"ترحيل المكملون الى القوائم","index":20,"n_rows":7,"n_cols":4,"rows_kept":7,"cut":false,"hidden":false,"merged":[]}
[]
[]
[]
[]
[]
["التسلسل","القيد","اسم التلميذ","الجنس"]
[null,3660,"اثير محمد محمود عباس"]

{"sheet":"اسلامية","index":21,"n_rows":42,"n_cols":28,"rows_kept":42,"cut":false,"hidden":false,"merged":[[4,9,5,9],[37,0,37,2],[38,0,38,1],[41,12,41,14],[40,12,40,14],[37,3,37,4],[37,5,37,6],[37,7,37,8],[37,9,37,10],[37,11,37,12],[37,13,37,14],[39,0,39,1],[4,11,4,14],[4,15,5,15],[4,10,5,10],[0,0,0,2],[1,0,1,2],[2,0,2,2],[3,0,3,2],[0,5,0,10],[1,5,1,10],[2,5,2,10],[4,2,5,3],[4,1,5,1],[4,0,5,0],[5,12,5,14],[4,4,4,6],[4,7,5,7],[4,8,5,8]]}
["جمهورية العراق",null,null,null,null,"قائمة درجات امتحان نصف السنة",null,null,null,null,null,"الصف/ ",{"$f":"'اسماء التلاميذ'!F2","v":"الأول"}]
["وزارة التربية",null,null,null,null,"    للعام الدراسي",null,null,null,null,null,"الشعبة/ ",{"$f":"'اسماء التلاميذ'!F3","v":"أ"},null,null,null,null,null,null,null,null,null,"قائمة امتحان نصف السنة"]
["إدارة",null,null,null,null,{"$f":"'اسماء التلاميذ'!F4","v":"2021 - 2022"},null,null,null,null,null,"المادة/ ","التربية الإسلامية"]
[{"$f":"'اسماء التلاميذ'!B2","v":0},null,null,null,null,null,null,null,null,null,null,"اليوم والتاريخ/"]
["تسلسل","رقم القبول","الاسم الثلاثي",null,"القران الكريم",null,null,"حديث نبوي درجتان ","العقيدة والعبادات درجة ","السيرة درجة واحدة ","الاداب درجة واحدة ","الدرجة رقما وكتابة",null,null,null,"حالة التلميذ"]
[null,null,null,null,"حفظ درجتان ","تلاوة درجتان ","معاني درجة ",null,null,null,null,"المجموع الكلي","كتابة",null,null,null,null,null,"تأ ريخ ووقت ادخال الدرجات"]
[4,"نوري",null,null,1,1,1,1,1,1,1,7,"سـبـع",null,null,{"$f":"IF(COUNTIF(L7,\"<>\")<1,\"\",IF(COUNTIF(L7,\"0\")>=1,IF($BB7=\"انثى\",\"\",\"\"),IF(COUNTIF(L7,\"<5\")+COUNTIF(L7,\"0\")>=1,IF($BB7=\"انثى\",\"راسبة\",\"راسب\"),IF(COUNTIF(L7,\"<5\")+COUNTIF(L7,\"غ\")>=1,IF($BB7=\"انثى\",\"غائبة\",\"غائب\"),IF(COUNTIF(L7,\"<5\")+COUNTIF(L7,\"غ\")=1,IF($BB7=\"انثى\",\"مكملة\",\"مكمل\"),IF(COUNTIF(L7,\"<5\")+COUNTIF(L7,\"غ\")=2,IF($BB7=\"انثى\",\"مكملة\",\"مكمل\"),IF($BB7=\"انثى\",\"ناجحة\",\"ناجح\")))))))","v":"ناجح"},null,null," فبراير / الخميس /03 / 02 / 2022  :   الوقت  13:58:21",null,null,null,null,null,null,null,null,{"$f":"IFERROR(ROUND((L7),0),\"غ\")","v":7}]
[5,"احمد",null,null,1,1,0,1,1,1,1,6,"سـت",null,null,{"$f":"IF(COUNTIF(L8,\"<>\")<1,\"\",IF(COUNTIF(L8,\"0\")>=1,IF($BB8=\"انثى\",\"\",\"\"),IF(COUNTIF(L8,\"<5\")+COUNTIF(L8,\"0\")>=1,IF($BB8=\"انثى\",\"راسبة\",\"راسب\"),IF(COUNTIF(L8,\"<5\")+COUNTIF(L8,\"غ\")>=1,IF($BB8=\"انثى\",\"غائبة\",\"غائب\"),IF(COUNTIF(L8,\"<5\")+COUNTIF(L8,\"غ\")=1,IF($BB8=\"انثى\",\"مكملة\",\"مكمل\"),IF(COUNTIF(L8,\"<5\")+COUNTIF(L8,\"غ\")=2,IF($BB8=\"انثى\",\"مكملة\",\"مكمل\"),IF($BB8=\"انثى\",\"ناجحة\",\"ناجح\")))))))","v":"ناجح"},null,null," فبراير / الخميس /03 / 02 / 2022  :   الوقت  13:58:21",null,null,null,null,null,null,null,null,{"$f":"IFERROR(ROUND((L8),0),\"غ\")","v":6}]
[6,null,null,null,2,1,1,1,1,1,1,8,"ثـمـان",null,null,"ناجح",null,null," فبراير / الخميس /03 / 02 / 2022  :   الوقت  13:58:21",null,null,null,null,null,null,null,null,8]
[7,null,null,null,1,1,0,1,0,1,1,5,"خـمـس",null,null,"ناجح",null,null," فبراير / الخميس /03 / 02 / 2022  :   الوقت  13:58:21",null,null,null,null,null,null,null,null,5]
[8,null,null,null,1,1,1,1,1,1,1,7,"سـبـع",null,null,"ناجح",null,null," فبراير / الخميس /03 / 02 / 2022  :   الوقت  13:58:21",null,null,null,null,null,null,null,null,7]
[9,null,null,null,1,1,1,1,1,0,0,5,"خـمـس",null,null,"ناجح",null,null," فبراير / الخميس /03 / 02 / 2022  :   الوقت  13:58:21",null,null,null,null,null,null,null,null,5]
[10,null,null,null,2,1,1,2,1,1,1,9,"تـسـع",null,null,"ناجح",null,null," فبراير / الخميس /03 / 02 / 2022  :   الوقت  13:58:21",null,null,null,null,null,null,null,null,9]
[11,null,null,null,2,1,1,1,1,1,1,8,"ثـمـان",null,null,"ناجح",null,null," فبراير / الخميس /03 / 02 / 2022  :   الوقت  13:58:21",null,null,null,null,null,null,null,null,8]
[12,null,null,null,"غ","غ","غ","غ","غ","غ","غ","غ","غـائـب",null,null,"غائب",null,null," فبراير / الخميس /03 / 02 / 2022  :   الوقت  13:58:21",null,null,null,null,null,null,null,null,"غ"]
[13,null,null,null,1,1,1,1,1,1,1,7,"سـبـع",null,null,"ناجح",null,null," فبراير / الخميس /03 / 02 / 2022  :   الوقت  13:58:21",null,null,null,null,null,null,null,null,7]
[14,null,null,1,1,1,1,1,1,1,1,7,"سـبـع",null,null,"ناجح",null,null," فبراير / الخميس /03 / 02 / 2022  :   الوقت  13:58:21",null,null,null,null,null,null,null,null,7]
[15,null,null,null,null,"غ","غ","غ","غ","غ","غ","غ","غـائـب",null,null,"غائب",null,null," فبراير / الخميس /03 / 02 / 2022  :   الوقت  13:58:21",null,null,null,null,null,null,null,null,"غ"]
[16,null,null,null,"غ","غ","غ","غ","غ","غ","غ","غ","غـائـب",null,null,"غائب",null,null," فبراير / الخميس /03 / 02 / 2022  :   الوقت  13:58:21",null,null,null,null,null,null,null,null,"غ"]
[17,null,null,null,1,1,0,1,0,1,1,5,"خـمـس",null,null,"ناجح",null,null," فبراير / الخميس /03 / 02 / 2022  :   الوقت  13:58:21",null,null,null,null,null,null,null,null,5]
[18,null,null,null,2,2,1,2,1,1,1,10,"عشر",null,null,"ناجح",null,null," فبراير / الخميس /03 / 02 / 2022  :   الوقت  13:58:21",null,null,null,null,null,null,null,null,10]
[19,null,null,null,1,1,1,1,1,1,1,7,"سـبـع",null,null,"ناجح",null,null," فبراير / الخميس /03 / 02 / 2022  :   الوقت  13:58:21",null,null,null,null,null,null,null,null,7]
[20,null,null,null,"غ","غ","غ","غ","غ","غ","غ","غ","غـائـب",null,null,"غائب",null,null," فبراير / الخميس /03 / 02 / 2022  :   الوقت  13:58:21",null,null,null,null,null,null,null,null,"غ"]
[21,null,null,null,"غ","غ","غ","غ","غ","غ","غ","غ","غـائـب",null,null,"غائب",null,null," فبراير / الخميس /03 / 02 / 2022  :   الوقت  13:58:21",null,null,null,null,null,null,null,null,"غ"]
[22,null,null,null,1,1,1,1,1,1,1,7,"سـبـع",null,null,"ناجح",null,null," فبراير / الخميس /03 / 02 / 2022  :   الوقت  13:58:21",null,null,null,null,null,null,null,null,7]
[23,null,null,null,"غ","غ","غ","غ","غ","غ","غ","غ","غـائـب",null,null,"غائب",null,null," فبراير / الخميس /03 / 02 / 2022  :   الوقت  13:58:21",null,null,null,null,null,null,null,null,"غ"]
[24,null,null,null,1,1,1,1,1,1,1,7,"سـبـع",null,null,"ناجح",null,null," فبراير / الخميس /03 / 02 / 2022  :   الوقت  13:58:21",null,null,null,null,null,null,null,null,7]
[25,null,null,null,2,2,1,2,1,1,1,10,"عشر",null,null,"ناجح",null,null," فبراير / الخميس /03 / 02 / 2022  :   الوقت  13:58:21",null,null,null,null,null,null,null,null,10]
[26,null,null,null,null,null,null,null,null,null,null,null,null,null,null,null,null,null," فبراير / الخميس /03 / 02 / 2022  :   الوقت  13:58:21",null,null,null,null,null,null,null,null,0]
[27,null,null,null,null,null,null,null,null,null,null,null,null,null,null,"",null,null,null,null,null,null,null,null,null,null,null,0]
[28,null,null,null,null,null,null,null,null,null,null,null,null,null,null,"",null,null,null,null,null,null,null,null,null,null,null,0]
[29,null,null,null,null,null,null,null,null,null,null,null,null,null,null,"",null,null,null,null,null,null,null,null,null,null,null,0]
[30,null,null,null,null,null,null,null,null,null,null,null,null,null,null,"",null,null,null,null,null,null,null,null,null,null,null,0]
[31,null,null,null,null,null,null,null,null,null,null,null,null,null,null,"",null,null,null,null,null,null,null,null,null,null,null,0]
[32,null,null,null,null,null,null,null,null,null,null,null,null,null,null,"",null,null,null,null,null,null,null,null,null,null,null,0]
[33,null,null,null,null,null,null,null,null,null,null,null,null,null,null,"",null,null,null,null,null,null,null,null,null,null,null,0]
[]
["المشتركون",null,null,"الممتحنون",null,"الناجحون",null,"الراسبون",null,"الغياب",null,"النسبة %",null,"النسبة الكلية%",null,{"$f":"IFERROR(O39*100/N39,\"\")","v":100}]
[{"$f":"'الرئيسية '!I5","v":"ذكور"},null,{"$f":"'الرئيسية '!I7","v":"اناث"},{"$f":"'الرئيسية '!I5","v":"ذكور"},{"$f":"'الرئيسية '!I7","v":"اناث"},{"$f":"'الرئيسية '!I5","v":"ذكور"},{"$f":"'الرئيسية '!I7","v":"اناث"},{"$f":"'الرئيسية '!I5","v":"ذكور"},{"$f":"'الرئيسية '!I7","v":"اناث"},{"$f":"'الرئيسية '!I5","v":"ذكور"},{"$f":"'الرئيسية '!I7","v":"اناث"},{"$f":"'الرئيسية '!I5","v":"ذكور"},{"$f":"IFERROR(F40*100/D40,\"\")","v":100},{"$f":"D40+E40","v":16},{"$f":"F40+G40","v":16}]
[{"$f":"COUNT(BB7:BB36)+COUNTIF(BB7:BB36,\"ذكر\")","v":0},null,{"$f":"COUNT(BB7:BB36)+COUNTIF(BB7:BB36,\"انثى\")","v":0},{"$f":"COUNT(P7:P36)+COUNTIF(P7:P36,\"ناجح\")+COUNTIF(P7:P36,\"راسب\")+COUNTIF(P7:P36,\"مكمل\")","v":16},{"$f":"COUNT(P7:P36)+COUNTIF(P7:P36,\"ناجحة\")+COUNTIF(P7:P36,\"راسبة\")+COUNTIF(P7:P36,\"مكملة\")","v":0},{"$f":"COUNT(P7:P36)+COUNTIF(P7:P36,\"ناجح\")","v":16},{"$f":"COUNT(P7:P36)+COUNTIF(P7:P36,\"ناجحة\")","v":0},{"$f":"COUNT(P7:P36)+COUNTIF(P7:P36,\"راسب\")","v":0},{"$f":"COUNT(P7:P36)+COUNTIF(P7:P36,\"راسبة\")","v":0},{"$f":"COUNT(P7:P36)+COUNTIF(P7:P36,\"غائب\")","v":6},{"$f":"COUNT(P7:P36)+COUNTIF(P7:P36,\"غائبة\")","v":0},{"$f":"'الرئيسية '!I7","v":"اناث"},{"$f":"IFERROR(G40*100/E40,\"\")","v":""}]
[null,null,{"$f":"'اسماء التلاميذ'!F7","v":0},null,null,null,null,null,null,null,null,null,{"$f":"'اسماء التلاميذ'!B3","v":0}]
[null,null,"معلم المادة",null,null,null,null,null,null,null,null,null,"مدير المدرسة"]

{"sheet":"عربي","index":22,"n_rows":42,"n_cols":31,"rows_kept":42,"cut":false,"hidden":false,"merged":[[41,12,41,14],[5,12,5,14],[0,5,0,10],[1,5,1,10],[2,5,2,10],[37,11,37,12],[37,13,37,14],[38,0,38,1],[39,0,39,1],[40,12,40,14],[37,0,37,2],[37,3,37,4],[37,5,37,6],[37,7,37,8],[37,9,37,10],[4,15,5,15],[4,11,4,14],[3,0,3,2],[0,0,0,2],[1,0,1,2],[2,0,2,2],[4,10,5,10],[4,4,4,9],[4,2,5,3],[4,1,5,1],[4,0,5,0]]}
["جمهورية العراق",null,null,null,null,"قائمة درجات امتحان نصف السنة",null,null,null,null,null,null,"الـــــــــصـــف:    ",{"$f":"'اسماء التلاميذ'!F2","v":"الأول"}]
["وزارة التربية",null,null,null,null,"للعام الدراسي",null,null,null,null,null,null,"الــــشــعــبـــــة:",{"$f":"'اسماء التلاميذ'!F3","v":"أ"},null,null,null,null,null,null,null,null,"قائمة امتحان نصف السنة"]
["إدارة",null,null,null,null,{"$f":"'اسماء التلاميذ'!F4","v":"2021 - 2022"},null,null,null,null,null,null,"الــــــــمـــــادة:","اللغة العربية"]
[{"$f":"'اسماء التلاميذ'!B2","v":0},null,null,null,null,null,null,null,null,null,null,null,"الــيــوم والتــــاريـخ :"]
["تسلسل","رقم القبول","الاسم الثلاثي",null,"شفوي",null,null,null,null,null,"المجموع الكلي /3","الدرجة رقما وكتابة",null,null,null,"حالة التلميذ"]
[null,null,null,null,"قراءة للمادة 5","محفوظات 5 ","المحادثة للحفظ5 ","المحادثة للمناقشة 5","املاء على السبورة 5","حسن الخط 5",null,"الدرجة النهائية","كتابة",null,null,null,null,null,"تأ ريخ ووقت ادخال الدرجات"]
[4,"نوري",null,null,3,3,3,3,3,3,18,6,"سـت",null,null,"ناجح",null,null," شباط / الخميس /03 / 02 / 2022  :   الوقت  09:28:06",null,null,null,{"$f":"IFERROR(ROUND((L7),0),\"غ\")","v":6},null,null,null," ",null,null,null,{"$f":"IFERROR(ROUND((L7),0),\"غ\")","v":6}]
[5,"احمد",null,null,2,2,3,3,2,3,15,5,"خـمـس",null,null,"ناجح",null,null," شباط / الخميس /03 / 02 / 2022  :   الوقت  09:28:06",null,null,null,{"$f":"IFERROR(ROUND((L8),0),\"غ\")","v":5},null,null,null," ",null,null,null,{"$f":"IFERROR(ROUND((L8),0),\"غ\")","v":5}]
[6,null,null,null,4,4,4,4,4,4,24,8,"ثـمـان",null,null,"ناجح",null,null," شباط / الخميس /03 / 02 / 2022  :   الوقت  09:28:06",null,null,null,8,null,null,null," ",null,null,null,8]
[7,null,null,null,2,3,2,2,3,3,15,5,"خـمـس",null,null,"ناجح",null,null," شباط / الخميس /03 / 02 / 2022  :   الوقت  09:28:06",null,null,null,5,null,null,null," ",null,null,null,5]
[8,null,null,null,3,3,3,3,3,3,18,6,"سـت",null,null,"ناجح",null,null," شباط / الخميس /03 / 02 / 2022  :   الوقت  09:28:06",null,null,null,6,null,null,null," ",null,null,null,6]
[9,null,null,null,1,1,1,1,1,1,6,2,"اثنتانِ",null,null,"راسب",null,null," شباط / الخميس /03 / 02 / 2022  :   الوقت  09:28:06",null,null,null,2,null,null,null," ",null,null,null,2]
[10,null,null,null,4,3,3,4,3,4,21,7,"سـبـع",null,null,"ناجح",null,null," شباط / الخميس /03 / 02 / 2022  :   الوقت  09:28:06",null,null,null,7,null,null,null," ",null,null,null,7]
[11,null,null,null,3,3,3,3,3,3,18,6,"سـت",null,null,"ناجح",null,null," شباط / الخميس /03 / 02 / 2022  :   الوقت  09:28:06",null,null,null,6,null,null,null," ",null,null,null,6]
[12,null,null,null,"غ","غ","غ","غ","غ","غ","غ","غ","غـائـب",null,null,"غائب",null,null," شباط / الخميس /03 / 02 / 2022  :   الوقت  09:28:06",null,null,null,"غ",null,null,null," ",null,null,null,"غ"]
[13,null,null,null,3,3,3,3,3,3,18,6,"سـت",null,null,"ناجح",null,null," شباط / الخميس /03 / 02 / 2022  :   الوقت  09:28:06",null,null,null,6,null,null,null," ",null,null,null,6]
[14,null,null,null,3,3,3,3,3,3,18,6,"سـت",null,null,"ناجح",null,null," شباط / الخميس /03 / 02 / 2022  :   الوقت  09:28:06",null,null,null,6,null,null,null," ",null,null,null,6]
[15,null,null,null,"غ","غ","غ","غ","غ","غ","غ","غ","غـائـب",null,null,"غائب",null,null," شباط / الخميس /03 / 02 / 2022  :   الوقت  09:28:06",null,null,null,"غ",null,null,null," ",null,null,null,"غ"]
[16,null,null,null,"غ","غ","غ","غ","غ","غ","غ","غ","غـائـب",null,null,"غائب",null,null," شباط / الخميس /03 / 02 / 2022  :   الوقت  09:28:06",null,null,null,"غ",null,null,null," ",null,null,null,"غ"]
[17,null,null,null,1,1,1,1,1,1,6,2,"اثنتانِ",null,null,"راسب",null,null," شباط / الخميس /03 / 02 / 2022  :   الوقت  09:28:06",null,null,null,2,null,null,null," ",null,null,null,2]
[18,null,null,null,5,4,5,4,4,5,27,9,"تـسـع",null,null,"ناجح",null,null," شباط / الخميس /03 / 02 / 2022  :   الوقت  09:28:06",null,null,null,9,null,null,null," ",null,null,null,9]
[19,null,null,null,3,3,3,3,3,3,18,6,"سـت",null,null,"ناجح",null,null," شباط / الخميس /03 / 02 / 2022  :   الوقت  09:28:06",null,null,null,6,null,null,null," ",null,null,null,6]
[20,null,null,null,"غ","غ","غ","غ","غ","غ","غ","غ","غـائـب",null,null,"غائب",null,null," شباط / الخميس /03 / 02 / 2022  :   الوقت  09:28:06",null,null,null,"غ",null,null,null," ",null,null,null,"غ"]
[21,null,null,null,"غ","غ","غ","غ","غ","غ","غ","غ","غـائـب",null,null,"غائب",null,null," شباط / الخميس /03 / 02 / 2022  :   الوقت  09:28:06",null,null,null,"غ",null,null,null," ",null,null,null,"غ"]
[22,null,null,null,3,4,3,3,4,4,21,7,"سـبـع",null,null,"ناجح",null,null," شباط / الخميس /03 / 02 / 2022  :   الوقت  09:28:06",null,null,null,7,null,null,null," ",null,null,null,7]
[23,null,null,null,"غ","غ","غ","غ","غ","غ","غ","غ","غـائـب",null,null,"غائب",null,null," شباط / الخميس /03 / 02 / 2022  :   الوقت  09:28:06",null,null,null,"غ",null,null,null," ",null,null,null,"غ"]
[24,null,null,null,3,3,3,4,4,4,21,7,"سـبـع",null,null,"ناجح",null,null," شباط / الخميس /03 / 02 / 2022  :   الوقت  09:28:06",null,null,null,7,null,null,null," ",null,null,null,7]
[25,null,null,null,5,5,5,5,5,5,30,10,"عشر",null,null,"ناجح",null,null," شباط / الخميس /03 / 02 / 2022  :   الوقت  09:28:06",null,null,null,10,null,null,null," ",null,null,null,10]
[26,null,null,null,null,null,null,null,null,null,null,null,null,null,null,null,null,null,null,null,null,null,0,null,null,null," ",null,null,null,0]
[27,null,null,null,null,null,null,null,null,null,null,null,null,null,null,null,null,null,null,null,null,null,0,null,null,null," ",null,null,null,0]
[28,null,null,null,null,null,null,null,null,null,null,null,null,null,null,null,null,null,null,null,null,null,0,null,null,null," ",null,null,null,0]
[29,null,null,null,null,null,null,null,null,null,null,null,null,null,null,null,null,null,null,null,null,null,0,null,null,null," ",null,null,null,0]
[30,null,null,null,null,null,null,null,null,null,null,null,null,null,null,null,null,null,null,null,null,null,0,null,null,null," ",null,null,null,0]
[31,null,null,null,null,null,null,null,null,null,null,null,null,null,null,null,null,null,null,null,null,null,0,null,null,null," ",null,null,null,0]
[32,null,null,null,null,null,null,null,null,null,null,null,null,null,null,null,null,null,null,null,null,null,0,null,null,null," ",null,null,null,0]
[33,null,null,null,null,null,null,null,null,null,null,null,null,null,null,null,null,null,null,null,null,null,0,null,null,null," ",null,null,null,0]
[]
["المشتركون",null,null,"الممتحنون",null,"الناجحون",null,"الراسبون",null,"الغياب",null,"النسبة %",null,"النسبة الكلية%",null,{"$f":"IFERROR(O39*100/N39,\"\")","v":87.5}]
[{"$f":"'الرئيسية '!I5","v":"ذكور"},null,{"$f":"'الرئيسية '!I7","v":"اناث"},{"$f":"'الرئيسية '!I5","v":"ذكور"},{"$f":"'الرئيسية '!I7","v":"اناث"},{"$f":"'الرئيسية '!I5","v":"ذكور"},{"$f":"'الرئيسية '!I7","v":"اناث"},{"$f":"'الرئيسية '!I5","v":"ذكور"},{"$f":"'الرئيسية '!I7","v":"اناث"},{"$f":"'الرئيسية '!I5","v":"ذكور"},{"$f":"'الرئيسية '!I7","v":"اناث"},{"$f":"'الرئيسية '!I5","v":"ذكور"},{"$f":"IFERROR(F40*100/D40,\"\")","v":87.5},{"$f":"D40+E40","v":16},{"$f":"F40+G40","v":14}]
[{"$f":"COUNT(BB7:BB36)+COUNTIF(BB7:BB36,\"ذكر\")","v":0},null,{"$f":"COUNT(BB7:BB36)+COUNTIF(BB7:BB36,\"انثى\")","v":0},{"$f":"COUNT(P7:P36)+COUNTIF(P7:P36,\"ناجح\")+COUNTIF(P7:P36,\"راسب\")+COUNTIF(P7:P36,\"مكمل\")","v":16},{"$f":"COUNT(P7:P36)+COUNTIF(P7:P36,\"ناجحة\")+COUNTIF(P7:P36,\"راسبة\")+COUNTIF(P7:P36,\"مكملة\")","v":0},{"$f":"COUNT(P7:P36)+COUNTIF(P7:P36,\"ناجح\")","v":14},{"$f":"COUNT(P7:P36)+COUNTIF(P7:P36,\"ناجحة\")","v":0},{"$f":"COUNT(P7:P36)+COUNTIF(P7:P36,\"راسب\")","v":2},{"$f":"COUNT(P7:P36)+COUNTIF(P7:P36,\"راسبة\")","v":0},{"$f":"COUNT(P7:P36)+COUNTIF(P7:P36,\"غائب\")","v":6},0,{"$f":"'الرئيسية '!I7","v":"اناث"},{"$f":"IFERROR(G40*100/E40,\"\")","v":""}]
[null,null,{"$f":"'اسماء التلاميذ'!F8","v":0},null,null,null,null,null,null,null,null,null,{"$f":"'اسماء التلاميذ'!B3","v":0}]
[null,null,"معلم المادة",null,null,null,null,null,null,null,null,null,"مدير المدرسة"]

{"sheet":"علوم","index":23,"n_rows":42,"n_cols":23,"rows_kept":42,"cut":false,"hidden":false,"merged":[[4,18,5,23],[3,0,3,3],[4,2,5,4],[5,6,5,7],[0,0,0,3],[1,0,1,3],[1,5,1,7],[2,0,2,3],[2,5,2,7],[4,14,5,15],[4,8,5,13],[0,10,0,11],[1,10,1,11],[2,10,2,11],[0,4,0,9],[4,0,5,0],[41,12,41,14],[37,0,37,2],[37,3,37,4],[37,5,37,6],[37,7,37,8],[37,9,37,10],[37,11,37,12],[37,13,37,14],[4,1,5,1],[4,5,4,7],[38,0,38,1],[39,0,39,1],[40,12,40,14]]}
["جمهورية العراق",null,null,null,"قائمة درجات امتحان نصف السنة",null,null,null,null,null,"الــــصــف:",null,{"$f":"'اسماء التلاميذ'!F2","v":"الأول"}]
["وزارة التربية",null,null,null,null,"  للعام الدراسي",null,null,null,null,"الشــعـبــة:",null,{"$f":"'اسماء التلاميذ'!F3","v":"أ"},null,null,null,null,null,null,null,"n",null,"قائمة امتحان نصف السنة"]
["إدارة",null,null,null,null,{"$f":"'اسماء التلاميذ'!F4","v":"2021 - 2022"},null,null,null,null,"الـــمــــادة:",null,"علوم"]
[{"$f":"'اسماء التلاميذ'!B2","v":0},null,null,null,null,null,null,null,null,null,"اليوم والتاريخ"]
["ت","رقم القيد","الاسم الثلاثي",null,null,"الدرجة رقما وكتابة",null,null,"الملاحظات",null,null,null,null,null,"النتيجة",null,null,null,"تاريخ ووقت ادخال الدرجات"]
[null,null,null,null,null,"رقما","كتابة"]
[4,"نوري",null,"ذكر",null,6,"سـت",null,null,null,null,null,null,null,null,"ناجح",null,null," شباط / الخميس /03 / 02 / 2022  :   الوقت  09:41:59"]
[5,"احمد",null,"ذكر",null,5,"خـمـس",null,null,null,null,null,null,null,null,"ناجح",null,null," شباط / الخميس /03 / 02 / 2022  :   الوقت  09:39:29"]
[6,null,null,"ذكر",null,7,"سـبـع",null,null,null,null,null,null,null,null,"ناجح",null,null," شباط / الخميس /03 / 02 / 2022  :   الوقت  09:39:30"]
[7,null,null,"ذكر",null,5,"خـمـس",null,null,null,null,null,null,null,null,"ناجح",null,null," شباط / الخميس /03 / 02 / 2022  :   الوقت  09:39:31"]
[8,null,null,"ذكر",null,6,"سـت",null,null,null,null,null,null,null,null,"ناجح",null,null," شباط / الخميس /03 / 02 / 2022  :   الوقت  09:39:33"]
[9,null,null,null,null,2,"اثنتانِ",null,null,null,null,null,null,null,null,"راسب",null,null," شباط / الخميس /03 / 02 / 2022  :   الوقت  09:39:34"]
[10,null,null,null,null,8,"ثـمـان",null,null,null,null,null,null,null,null,"ناجح",null,null," شباط / الخميس /03 / 02 / 2022  :   الوقت  09:39:36"]
[11,null,null,null,null,5,"خـمـس",null,null,null,null,null,null,null,null,"ناجح",null,null," شباط / الخميس /03 / 02 / 2022  :   الوقت  09:39:37"]
[12,null,null,null,null,"غ","غـائـب",null,null,null,null,null,null,null,null,"غائب",null,null," شباط / الخميس /03 / 02 / 2022  :   الوقت  09:39:40"]
[13,null,null,null,null,6,"سـت",null,null,null,null,null,null,null,null,"ناجح",null,null," شباط / الخميس /03 / 02 / 2022  :   الوقت  09:39:42"]
[14,null,null,null,null,6,"سـت",null,null,null,null,null,null,null,null,"ناجح",null,null," شباط / الخميس /03 / 02 / 2022  :   الوقت  09:39:43"]
[15,null,null,null,null,"غ","غـائـب",null,null,null,null,null,null,null,null,"غائب",null,null," شباط / الخميس /03 / 02 / 2022  :   الوقت  09:39:46"]
[16,null,null,null,null,"غ","غـائـب",null,null,null,null,null,null,null,null,"غائب",null,null," شباط / الخميس /03 / 02 / 2022  :   الوقت  09:39:47"]
[17,null,null,null,null,5,"خـمـس",null,null,null,null,null,null,null,null,"ناجح",null,null," شباط / الخميس /03 / 02 / 2022  :   الوقت  09:39:49"]
[18,null,null,null,null,10,"عشر",null,null,null,null,null,null,null,null,"ناجح",null,null," شباط / الخميس /03 / 02 / 2022  :   الوقت  09:39:53"]
[19,null,null,null,null,7,"سـبـع",null,null,null,null,null,null,null,null,"ناجح",null,null," شباط / الخميس /03 / 02 / 2022  :   الوقت  09:39:55"]
[20,null,null,null,null,"غ","غـائـب",null,null,null,null,null,null,null,null,"غائب",null,null," شباط / الخميس /03 / 02 / 2022  :   الوقت  09:39:57"]
[21,null,null,null,null,"غ","غـائـب",null,null,null,null,null,null,null,null,"غائب",null,null," شباط / الخميس /03 / 02 / 2022  :   الوقت  09:39:58"]
[22,null,null,null,null,6,"سـت",null,null,null,null,null,null,null,null,"ناجح",null,null," شباط / الخميس /03 / 02 / 2022  :   الوقت  09:40:02"]
[23,null,null,null,null,"غ","غـائـب",null,null,null,null,null,null,null,null,"غائب",null,null," شباط / الخميس /03 / 02 / 2022  :   الوقت  09:41:30"]
[24,null,null,null,null,7,"سـبـع",null,null,null,null,null,null,null,null,"ناجح",null,null," شباط / الخميس /03 / 02 / 2022  :   الوقت  09:41:42"]
[25,null,null,null,null,10,"عشر",null,null,null,null,null,null,null,null,"ناجح",null,null," فبراير / الخميس /03 / 02 / 2022  :   الوقت  13:50:13"]
[26]
[27]
[28]
[29]
[30]
[31]
[32]
[33]
[]
["المشتركون",null,null,"الممتحنون",null,"الناجحون",null,"الراسبون",null,"الغياب",null,"النسبة %",null,"النسبة الكلية%",null,{"$f":"IFERROR(O39*100/N39,\"\")","v":93.75}]
[{"$f":"'الرئيسية '!I5","v":"ذكور"},null,{"$f":"'الرئيسية '!I7","v":"اناث"},{"$f":"'الرئيسية '!I5","v":"ذكور"},{"$f":"'الرئيسية '!I7","v":"اناث"},{"$f":"'الرئيسية '!I5","v":"ذكور"},{"$f":"'الرئيسية '!I7","v":"اناث"},{"$f":"'الرئيسية '!I5","v":"ذكور"},{"$f":"'الرئيسية '!I7","v":"اناث"},{"$f":"'الرئيسية '!I5","v":"ذكور"},{"$f":"'الرئيسية '!I7","v":"اناث"},{"$f":"'الرئيسية '!I5","v":"ذكور"},{"$f":"IFERROR(F40*100/D40,\"\")","v":93.75},{"$f":"D40+E40","v":16},{"$f":"F40+G40","v":15}]
[{"$f":"COUNT(BB7:BB36)+COUNTIF(BB7:BB36,\"ذكر\")","v":0},null,{"$f":"COUNT(BB7:BB36)+COUNTIF(BB7:BB36,\"انثى\")","v":0},{"$f":"COUNT(P7:P36)+COUNTIF(P7:P36,\"ناجح\")+COUNTIF(P7:P36,\"راسب\")+COUNTIF(P7:P36,\"مكمل\")","v":16},{"$f":"COUNT(P7:P36)+COUNTIF(P7:P36,\"ناجحة\")+COUNTIF(P7:P36,\"راسبة\")+COUNTIF(P7:P36,\"مكملة\")","v":0},{"$f":"COUNT(P7:P36)+COUNTIF(P7:P36,\"ناجح\")","v":15},{"$f":"COUNT(P7:P36)+COUNTIF(P7:P36,\"ناجحة\")","v":0},{"$f":"COUNT(P7:P36)+COUNTIF(P7:P36,\"راسب\")","v":1},{"$f":"COUNT(P7:P36)+COUNTIF(P7:P36,\"راسبة\")","v":0},{"$f":"COUNT(P7:P36)+COUNTIF(P7:P36,\"غائب\")","v":6},{"$f":"COUNT(P7:P36)+COUNTIF(P7:P36,\"غائبة\")","v":0},{"$f":"'الرئيسية '!I7","v":"اناث"},{"$f":"IFERROR(G40*100/E40,\"\")","v":""}]
[null,null,{"$f":"'اسماء التلاميذ'!F11","v":0},null,null,null,null,null,null,null,null,null,{"$f":"'اسماء التلاميذ'!B3","v":0}]
[null,null,"معلم المادة",null,null,null,null,null,null,null,null,null,"مدير المدرسة"]

{"sheet":"رياضيات","index":24,"n_rows":42,"n_cols":23,"rows_kept":42,"cut":false,"hidden":false,"merged":[[4,18,5,23],[40,12,40,14],[4,5,4,7],[37,5,37,6],[3,10,3,12],[3,13,3,15],[4,8,5,13],[4,14,5,15],[5,6,5,7],[41,12,41,14],[37,9,37,10],[37,11,37,12],[37,13,37,14],[37,7,37,8],[38,0,38,1],[39,0,39,1],[3,0,3,3],[0,0,0,3],[1,0,1,3],[2,0,2,3],[4,0,5,0],[4,1,5,1],[37,0,37,2],[37,3,37,4],[4,2,5,4],[0,4,0,9],[1,4,1,9],[2,4,2,9]]}
["جمهورية العراق",null,null,null,"قائمة درجات امتحان نصف السنة",null,null,null,null,null,"الــصــــف:",null,{"$f":"'اسماء التلاميذ'!F2","v":"الأول"}]
["وزارة التربية",null,null,null,"  للعام الدراسي",null,null,null,null,null,"الـــشــعـبة:",null,{"$f":"'اسماء التلاميذ'!F3","v":"أ"},null,null,null,null,null,null,null,"n",null,"قائمة امتحان نصف السنة"]
["إدارة",null,null,null,{"$f":"'اسماء التلاميذ'!F4","v":"2021 - 2022"},null,null,null,null,null,"الــمـــــادة:",null,"رياضيات"]
[{"$f":"'اسماء التلاميذ'!B2","v":0},null,null,null,null,null,null,null,null,null,"الـيوم والتـاريخ:"]
["ت","رقم القيد","الاسم الثلاثي",null,null,"الدرجة رقما وكتابة",null,null,"الملاحظات",null,null,null,null,null,"النتيجة",null,null,null," فبراير / الأربعاء /02 / 02 / 2022  :   الوقت  23:34:22"]
[null,null,null,null,null,"رقما","كتابة"]
[4,"نوري",null,null,null,7,"سـبـع",null,null,null,null,null,null,null,null,"ناجح",null,null," شباط / الخميس /03 / 02 / 2022  :   الوقت  10:03:05"]
[5,"احمد",null,null,null,5,"خـمـس",null,null,null,null,null,null,null,null,"ناجح",null,null," شباط / الخميس /03 / 02 / 2022  :   الوقت  10:01:48"]
[6,null,null,null,null,8,"ثـمـان",null,null,null,null,null,null,null,null,"ناجح",null,null," شباط / الخميس /03 / 02 / 2022  :   الوقت  10:01:50"]
[7,null,null,null,null,5,"خـمـس",null,null,null,null,null,null,null,null,"ناجح",null,null," شباط / الخميس /03 / 02 / 2022  :   الوقت  10:01:51"]
[8,null,null,null,null,7,"سـبـع",null,null,null,null,null,null,null,null,"ناجح",null,null," شباط / الخميس /03 / 02 / 2022  :   الوقت  10:01:53"]
[9,null,null,null,null,2,"اثنتانِ",null,null,null,null,null,null,null,null,"راسب",null,null," شباط / الخميس /03 / 02 / 2022  :   الوقت  10:01:54"]
[10,null,null,null,null,7,"سـبـع",null,null,null,null,null,null,null,null,"ناجح",null,null," شباط / الخميس /03 / 02 / 2022  :   الوقت  10:01:56"]
[11,null,null,null,null,7,"سـبـع",null,null,null,null,null,null,null,null,"ناجح",null,null," شباط / الخميس /03 / 02 / 2022  :   الوقت  10:01:57"]
[12,null,null,null,null,"غ","غـائـب",null,null,null,null,null,null,null,null,"غائب",null,null," شباط / الخميس /03 / 02 / 2022  :   الوقت  10:01:59"]
[13,null,null,null,null,6,"سـت",null,null,null,null,null,null,null,null,"ناجح",null,null," شباط / الخميس /03 / 02 / 2022  :   الوقت  10:02:01"]
[14,null,null,null,null,6,"سـت",null,null,null,null,null,null,null,null,"ناجح",null,null," شباط / الخميس /03 / 02 / 2022  :   الوقت  10:02:03"]
[15,null,null,null,null,"غ","غـائـب",null,null,null,null,null,null,null,null,"غائب",null,null," شباط / الخميس /03 / 02 / 2022  :   الوقت  10:02:06"]
[16,null,null,null,null,"غ","غـائـب",null,null,null,null,null,null,null,null,"غائب",null,null," شباط / الخميس /03 / 02 / 2022  :   الوقت  10:02:07"]
[17,null,null,null,null,5,"خـمـس",null,null,null,null,null,null,null,null,"ناجح",null,null," شباط / الخميس /03 / 02 / 2022  :   الوقت  10:02:12"]
[18,null,null,null,null,10,"عشر",null,null,null,null,null,null,null,null,"ناجح",null,null," شباط / الخميس /03 / 02 / 2022  :   الوقت  10:02:15"]
[19,null,null,null,null,6,"سـت",null,null,null,null,null,null,null,null,"ناجح",null,null," شباط / الخميس /03 / 02 / 2022  :   الوقت  10:02:18"]
[20,null,null,null,null,"غ","غـائـب",null,null,null,null,null,null,null,null,"غائب",null,null," شباط / الخميس /03 / 02 / 2022  :   الوقت  10:02:22"]
[21,null,null,null,null,"غ","غـائـب",null,null,null,null,null,null,null,null,"غائب",null,null," شباط / الخميس /03 / 02 / 2022  :   الوقت  10:02:22"]
[22,null,null,null,null,7,"سـبـع",null,null,null,null,null,null,null,null,"ناجح",null,null," شباط / الخميس /03 / 02 / 2022  :   الوقت  10:02:27"]
[23,null,null,null,null,"غ","غـائـب",null,null,null,null,null,null,null,null,"غائب",null,null," شباط / الخميس /03 / 02 / 2022  :   الوقت  10:02:29"]
[24,null,null,null,null,3,"ثـلاث",null,null,null,null,null,null,null,null,"راسب",null,null," شباط / الخميس /03 / 02 / 2022  :   الوقت  10:02:31"]
[25,null,null,null,null,10,"عشر",null,null,null,null,null,null,null,null,"ناجح",null,null," شباط / الخميس /03 / 02 / 2022  :   الوقت  10:02:34"]
[26]
[27]
[28]
[29]
[30]
[31]
[32]
[33]
[]
["المشتركون",null,null,"الممتحنون",null,"الناجحون",null,"الراسبون",null,"الغياب",null,"النسبة %",null,"النسبة الكلية%",null,{"$f":"IFERROR(O39*100/N39,\"\")","v":87.5}]
[{"$f":"'الرئيسية '!I5","v":"ذكور"},null,{"$f":"'الرئيسية '!I7","v":"اناث"},{"$f":"'الرئيسية '!I5","v":"ذكور"},{"$f":"'الرئيسية '!I7","v":"اناث"},{"$f":"'الرئيسية '!I5","v":"ذكور"},{"$f":"'الرئيسية '!I7","v":"اناث"},{"$f":"'الرئيسية '!I5","v":"ذكور"},{"$f":"'الرئيسية '!I7","v":"اناث"},{"$f":"'الرئيسية '!I5","v":"ذكور"},{"$f":"'الرئيسية '!I7","v":"اناث"},{"$f":"'الرئيسية '!I5","v":"ذكور"},{"$f":"IFERROR(F40*100/D40,\"\")","v":87.5},{"$f":"D40+E40","v":16},{"$f":"F40+G40","v":14}]
[{"$f":"COUNT(BB7:BB36)+COUNTIF(BB7:BB36,\"ذكر\")","v":0},null,{"$f":"COUNT(BB7:BB36)+COUNTIF(BB7:BB36,\"انثى\")","v":0},{"$f":"COUNT(P7:P36)+COUNTIF(P7:P36,\"ناجح\")+COUNTIF(P7:P36,\"راسب\")+COUNTIF(P7:P36,\"مكمل\")","v":16},{"$f":"COUNT(P7:P36)+COUNTIF(P7:P36,\"ناجحة\")+COUNTIF(P7:P36,\"راسبة\")+COUNTIF(P7:P36,\"مكملة\")","v":0},{"$f":"COUNT(P7:P36)+COUNTIF(P7:P36,\"ناجح\")","v":14},{"$f":"COUNT(P7:P36)+COUNTIF(P7:P36,\"ناجحة\")","v":0},{"$f":"COUNT(P7:P36)+COUNTIF(P7:P36,\"راسب\")","v":2},{"$f":"COUNT(P7:P36)+COUNTIF(P7:P36,\"راسبة\")","v":0},{"$f":"COUNT(P7:P36)+COUNTIF(P7:P36,\"غائب\")","v":6},{"$f":"COUNT(P7:P36)+COUNTIF(P7:P36,\"غائبة\")","v":0},{"$f":"'الرئيسية '!I7","v":"اناث"},{"$f":"IFERROR(G40*100/E40,\"\")","v":""}]
[null,null,{"$f":"'اسماء التلاميذ'!F9","v":0},null,null,null,null,null,null,null,null,null,{"$f":"'اسماء التلاميذ'!B3","v":0}]
[null,null,"معلم المادة",null,null,null,null,null,null,null,null,null,"مدير المدرسة"]

{"sheet":"NMPAR","index":25,"n_rows":103,"n_cols":3,"rows_kept":103,"cut":false,"hidden":false,"merged":[]}
[]
["صفر","صفر","درجة"]
[1,"درجة واحدة"]
[2,"درجتان"]
[3,"ثلاث"," درجات"]
[4,"اربع"," درجات"]
[5,"خمس"," درجات"]
[6,"ست"," درجات"]
[7,"سبع"," درجات"]
[8,"ثمان"," درجات"]
[9,"تسع"," درجات"]
[10,"عشر"," درجات"]
[11,"احدى عشر","  درجة"]
[12,"اثنتا عشر","  درجة"]
[13,"ثلاث عشرة","  درجة"]
[14,"اربع عشرة","  درجة"]
[15,"خمس عشرة","  درجة"]
[16,"ست عشرة","  درجة"]
[17,"سبع عشرة","  درجة"]
[18,"ثمان عشرة","  درجة"]
[19,"تسع عشرة","  درجة"]
[20,"عشرون","  درجة"]
[21,"احدى و عشرون","  درجة"]
[22,"اثنتان و عشرون","  درجة"]
[23,"ثلاث و عشرون","  درجة"]
[24,"اربع و عشرون","  درجة"]
[25,"خمس و عشرون","  درجة"]
[26,"ست و عشرون","  درجة"]
[27,"سبع و عشرون","  درجة"]
[28,"ثمان و عشرون","  درجة"]
[29,"تسع و عشرون","  درجة"]
[30,"ثلاثون","  درجة"]
[31,"احدى و ثلاثون","  درجة"]
[32,"اثنتان و ثلاثون","  درجة"]
[33,"ثلاث و ثلاثون","  درجة"]
[34,"اربع و ثلاثون","  درجة"]
[35,"خمس وثلاثون  ","درجة"]
[36,"ست وثلاثون  ","درجة"]
[37,"سبع و ثلاثون   ","درجة"]
[38,"ثمان و ثلاثون  ","درجة"]
[39,"تسع و ثلاثون  ","درجة"]
[40,"أربعون   ","درجة"]
[41,"احدى وأربعون درجة     "]
[42,"اثنتان واربعون درجة"]
[43,"ثلاث و أربعون درجة   "]
[44,"اربع و أربعون  درجة      "]
[45,"خمس و أربعون    ","درجة"]
[46,"ست و أربعون  ","درجة"]
[47,"سبع  و أربعون  درجة"]
[48,"ثمان  واربعون  درجة"]
[49,"تسع و أربعون درجة"]
[50,"خمسون  درجة"]
[51,"احدى و خمسون","  درجة"]
[52,"اثنتان و خمسون","  درجة"]
[53,"ثلاث و خمسون","  درجة"]
[54,"اربع و خمسون","  درجة"]
[55,"خمس و خمسون","  درجة"]
[56,"ست و خمسون","  درجة"]
[57,"سبع و خمسون","  درجة"]
[58,"ثمان و خمسون","  درجة"]
[59,"تسع و خمسون","  درجة"]
[60,"ستون","  درجة"]
[61,"احدى و ستون    درجة"]
[62,"اثنتان و ستون    درجة"]
[63,"ثلاث و ستون     درجة"]
[64,"اربع و ستون     درجة"]
[65,"خمس وستون    درجة"]
[66,"ست و ستون","  درجة"]
[67,"سبع و ستون","  درجة"]
[68,"ثمان و ستون","  درجة"]
[69,"تسع و ستون","  درجة"]
[70,"سبعون","  درجة"]
[71,"احدى و سبعون","  درجة"]
[72,"اثنتان و سبعون","  درجة"]
[73,"ثلاث و سبعون","  درجة"]
[74,"اربع و سبعون","  درجة"]
[75,"خمس و سبعون","  درجة"]
[76,"ست و سبعون","  درجة"]
[77,"سبع و سبعون","  درجة"]
[78,"ثمان و سبعون","  درجة"]
[79,"تسع و سبعون","  درجة"]
[80,"ثمانون","  درجة"]
[81,"احدى و ثمانون","  درجة"]
[82,"اثنتان و ثمانون","  درجة"]
[83,"ثلاث و ثمانون","  درجة"]
[84,"اربع و ثمانون","  درجة"]
[85,"خمس و ثمانون","  درجة"]
[86,"ست و ثمانون","  درجة"]
[87,"سبع و ثمانون","  درجة"]
[88,"ثمان و ثمانون","  درجة"]
[89,"تسع و ثمانون","  درجة"]
[90,"تسعون","  درجة"]
[91,"احدى و تسعون","  درجة"]
[92,"اثنتان و تسعون","  درجة"]
[93,"ثلاث و تسعون","  درجة"]
[94,"اربع و تسعون","  درجة"]
[95,"خمس و تسعون","  درجة"]
[96,"ست و تسعون","  درجة"]
[97,"سبع و تسعون","  درجة"]
[98,"ثمان و تسعون","  درجة"]
[99,"تسع و تسعون","  درجة"]
[100,"مئة","  درجة"]
["غ","غياب"]

{"sheet":"انكليزي","index":26,"n_rows":42,"n_cols":25,"rows_kept":42,"cut":false,"hidden":false,"merged":[[41,12,41,14],[37,11,37,12],[37,13,37,14],[38,0,38,1],[39,0,39,1],[40,12,40,14],[37,0,37,2],[37,3,37,4],[37,5,37,6],[37,7,37,8],[37,9,37,10],[4,12,5,14],[4,15,5,15],[36,12,36,13],[0,0,0,2],[1,0,1,2],[2,0,2,2],[4,4,4,8],[3,0,3,2],[0,5,0,10],[1,5,1,10],[2,6,2,8],[4,2,5,3],[4,1,5,1],[4,0,5,0],[4,9,5,11]]}
["جمهورية العراق",null,null,null,null,"قائمة درجات امتحان نصف السنة",null,null,null,null,null,"الصف/ ",{"$f":"'اسماء التلاميذ'!F2","v":"الأول"}]
["وزارة التربية",null,null,null,null,"                  للعام الدراسي",null,null,null,null,null,"الشعبة/ ",{"$f":"'اسماء التلاميذ'!F3","v":"أ"},null,null,null,null,null,null,null,null,null,"قائمة امتحان نصف السنة"]
["إدارة",null,null,null,null,null,{"$f":"'اسماء التلاميذ'!F4","v":"2021 - 2022"},null,null,null,null,"المادة/ ","English"]
[{"$f":"'اسماء التلاميذ'!B2","v":0},null,null,null,null,null,null,null,null,null,null,"اليوم والتاريخ/"]
["Sequence","Admission number","Triple student name",null,"Oral Test",null,null,null,null,"The final grade",null,null,"Writing",null,null,"Student's condition"]
[null,null,null,null,"   LISTENING COMPREHENSION 2","SPEAKING PRONUNCIITO 2","PRC READING 2","PRC WRITING 2","PARTICIPATION 2",null,null,null,null,null,null,null,null,null,"تأ ريخ ووقت ادخال الدرجات"]
[4,"نوري",null,null,1,1,1,2,2,null,null,7,{"$f":"IFERROR(IF(L7=\"\",\"\",IF(L7=0,\"\",n2t(L7))),\"\")","v":"سـبـع"},null,null,"ناجح",null,null," شباط / الخميس /03 / 02 / 2022  :   الوقت  10:14:02",null,null,null,null,null,{"$f":"IFERROR(ROUND((#REF!),0),\"غ\")","v":"غ"}]
[5,"احمد",null,null,1,1,1,1,1,null,null,5,{"$f":"IFERROR(IF(L8=\"\",\"\",IF(L8=0,\"\",n2t(L8))),\"\")","v":"خـمـس"},null,null,"ناجح",null,null," شباط / الخميس /03 / 02 / 2022  :   الوقت  10:14:02",null,null,null,null,null,{"$f":"IFERROR(ROUND((#REF!),0),\"غ\")","v":"غ"}]
[6,null,null,null,1,1,1,2,1,null,null,6,{"$f":"IFERROR(IF(L9=\"\",\"\",IF(L9=0,\"\",n2t(L9))),\"\")","v":"سـت"},null,null,"ناجح",null,null," شباط / الخميس /03 / 02 / 2022  :   الوقت  10:14:02",null,null,null,null,null,{"$f":"IFERROR(ROUND((#REF!),0),\"غ\")","v":"غ"}]
[7,null,null,null,1,1,1,1,1,null,null,5,{"$f":"IFERROR(IF(L10=\"\",\"\",IF(L10=0,\"\",n2t(L10))),\"\")","v":"خـمـس"},null,null,"ناجح",null,null," شباط / الخميس /03 / 02 / 2022  :   الوقت  10:14:02",null,null,null,null,null,{"$f":"IFERROR(ROUND((#REF!),0),\"غ\")","v":"غ"}]
[8,null,null,null,1,1,1,2,2,null,null,7,{"$f":"IFERROR(IF(L11=\"\",\"\",IF(L11=0,\"\",n2t(L11))),\"\")","v":"سـبـع"},null,null,"ناجح",null,null," شباط / الخميس /03 / 02 / 2022  :   الوقت  10:14:02",null,null,null,null,null,{"$f":"IFERROR(ROUND((#REF!),0),\"غ\")","v":"غ"}]
[9,null,null,null,1,1,1,1,1,null,null,5,{"$f":"IFERROR(IF(L12=\"\",\"\",IF(L12=0,\"\",n2t(L12))),\"\")","v":"خـمـس"},null,null,"ناجح",null,null," شباط / الخميس /03 / 02 / 2022  :   الوقت  10:14:02",null,null,null,null,null,{"$f":"IFERROR(ROUND((#REF!),0),\"غ\")","v":"غ"}]
[10,null,null,null,1,1,1,2,2,null,null,7,{"$f":"IFERROR(IF(L13=\"\",\"\",IF(L13=0,\"\",n2t(L13))),\"\")","v":"سـبـع"},null,null,"ناجح",null,null," شباط / الخميس /03 / 02 / 2022  :   الوقت  10:14:02",null,null,null,null,null,{"$f":"IFERROR(ROUND((#REF!),0),\"غ\")","v":"غ"}]
[11,null,null,null,1,1,1,2,1,null,null,6,{"$f":"IFERROR(IF(L14=\"\",\"\",IF(L14=0,\"\",n2t(L14))),\"\")","v":"سـت"},null,null,"ناجح",null,null," شباط / الخميس /03 / 02 / 2022  :   الوقت  10:14:02",null,null,null,null,null,{"$f":"IFERROR(ROUND((#REF!),0),\"غ\")","v":"غ"}]
[12,null,null,null,"غ","غ","غ","غ","غ",null,null,"غ",{"$f":"IFERROR(IF(L15=\"\",\"\",IF(L15=0,\"\",n2t(L15))),\"\")","v":"غـائـب"},null,null,"غائب",null,null," شباط / الخميس /03 / 02 / 2022  :   الوقت  10:15:41",null,null,null,null,null,{"$f":"IFERROR(ROUND((#REF!),0),\"غ\")","v":"غ"}]
[13,null,null,null,1,1,1,1,1,null,null,5,{"$f":"IFERROR(IF(L16=\"\",\"\",IF(L16=0,\"\",n2t(L16))),\"\")","v":"خـمـس"},null,null,"ناجح",null,null," شباط / الخميس /03 / 02 / 2022  :   الوقت  10:14:02",null,null,null,null,null,{"$f":"IFERROR(ROUND((#REF!),0),\"غ\")","v":"غ"}]
[14,null,null,null,1,1,1,1,1,null,null,5,{"$f":"IFERROR(IF(L17=\"\",\"\",IF(L17=0,\"\",n2t(L17))),\"\")","v":"خـمـس"},null,null,"ناجح",null,null," شباط / الخميس /03 / 02 / 2022  :   الوقت  10:14:02",null,null,null,null,null,{"$f":"IFERROR(ROUND((#REF!),0),\"غ\")","v":"غ"}]
[15,null,null,null,"غ","غ","غ","غ","غ",null,null,"غ",{"$f":"IFERROR(IF(L18=\"\",\"\",IF(L18=0,\"\",n2t(L18))),\"\")","v":"غـائـب"},null,null,"غائب",null,null," شباط / الخميس /03 / 02 / 2022  :   الوقت  10:15:51",null,null,null,null,null,{"$f":"IFERROR(ROUND((#REF!),0),\"غ\")","v":"غ"}]
[16,null,null,null,"غ","غ","غ","غ","غ",null,null,"غ",{"$f":"IFERROR(IF(L19=\"\",\"\",IF(L19=0,\"\",n2t(L19))),\"\")","v":"غـائـب"},null,null,"غائب",null,null," شباط / الخميس /03 / 02 / 2022  :   الوقت  10:16:16",null,null,null,null,null,{"$f":"IFERROR(ROUND((#REF!),0),\"غ\")","v":"غ"}]
[17,null,null,null,1,1,1,1,2,null,null,6,{"$f":"IFERROR(IF(L20=\"\",\"\",IF(L20=0,\"\",n2t(L20))),\"\")","v":"سـت"},null,null,"ناجح",null,null," شباط / الخميس /03 / 02 / 2022  :   الوقت  10:14:02",null,null,null,null,null,{"$f":"IFERROR(ROUND((#REF!),0),\"غ\")","v":"غ"}]
[18,null,null,null,1,2,2,2,2,null,null,9,{"$f":"IFERROR(IF(L21=\"\",\"\",IF(L21=0,\"\",n2t(L21))),\"\")","v":"تـسـع"},null,null,"ناجح",null,null," شباط / الخميس /03 / 02 / 2022  :   الوقت  10:14:02",null,null,null,null,null,{"$f":"IFERROR(ROUND((#REF!),0),\"غ\")","v":"غ"}]
[19,null,null,null,1,1,1,2,1,null,null,6,{"$f":"IFERROR(IF(L22=\"\",\"\",IF(L22=0,\"\",n2t(L22))),\"\")","v":"سـت"},null,null,"ناجح",null,null," شباط / الخميس /03 / 02 / 2022  :   الوقت  10:14:02",null,null,null,null,null,{"$f":"IFERROR(ROUND((#REF!),0),\"غ\")","v":"غ"}]
[20,null,null,null,"غ","غ","غ","غ","غ",null,null,"غ",{"$f":"IFERROR(IF(L23=\"\",\"\",IF(L23=0,\"\",n2t(L23))),\"\")","v":"غـائـب"},null,null,"غائب",null,null," شباط / الخميس /03 / 02 / 2022  :   الوقت  10:15:54",null,null,null,null,null,{"$f":"IFERROR(ROUND((#REF!),0),\"غ\")","v":"غ"}]
[21,null,null,null,"غ","غ","غ","غ","غ",null,null,"غ",{"$f":"IFERROR(IF(L24=\"\",\"\",IF(L24=0,\"\",n2t(L24))),\"\")","v":"غـائـب"},null,null,"غائب",null,null," شباط / الخميس /03 / 02 / 2022  :   الوقت  10:16:00",null,null,null,null,null,{"$f":"IFERROR(ROUND((#REF!),0),\"غ\")","v":"غ"}]
[22,null,null,null,1,1,1,1,1,null,null,5,{"$f":"IFERROR(IF(L25=\"\",\"\",IF(L25=0,\"\",n2t(L25))),\"\")","v":"خـمـس"},null,null,"ناجح",null,null," شباط / الخميس /03 / 02 / 2022  :   الوقت  10:14:02",null,null,null,null,null,{"$f":"IFERROR(ROUND((#REF!),0),\"غ\")","v":"غ"}]
[23,null,null,null,"غ","غ","غ","غ","غ",null,null,"غ",{"$f":"IFERROR(IF(L26=\"\",\"\",IF(L26=0,\"\",n2t(L26))),\"\")","v":"غـائـب"},null,null,"غائب",null,null," شباط / الخميس /03 / 02 / 2022  :   الوقت  10:15:57",null,null,null,null,null,{"$f":"IFERROR(ROUND((#REF!),0),\"غ\")","v":"غ"}]
[24,null,null,null,1,1,1,1,2,null,null,6,{"$f":"IFERROR(IF(L27=\"\",\"\",IF(L27=0,\"\",n2t(L27))),\"\")","v":"سـت"},null,null,"ناجح",null,null," شباط / الخميس /03 / 02 / 2022  :   الوقت  10:14:02",null,null,null,null,null,{"$f":"IFERROR(ROUND((#REF!),0),\"غ\")","v":"غ"}]
[25,null,null,null,2,2,2,2,2,null,null,10,{"$f":"IFERROR(IF(L28=\"\",\"\",IF(L28=0,\"\",n2t(L28))),\"\")","v":"عشر"},null,null,"ناجح",null,null," شباط / الخميس /03 / 02 / 2022  :   الوقت  10:14:02",null,null,null,null,null,{"$f":"IFERROR(ROUND((#REF!),0),\"غ\")","v":"غ"}]
[26,null,null,null,null,null,null,null,null,null,null,null,{"$f":"IFERROR(IF(L29=\"\",\"\",IF(L29=0,\"\",n2t(L29))),\"\")","v":""},null,null,null,null,null,null,null,null,null,null,null,{"$f":"IFERROR(ROUND((#REF!),0),\"غ\")","v":"غ"}]
[27,null,null,null,null,null,null,null,null,null,null,null,{"$f":"IFERROR(IF(L30=\"\",\"\",IF(L30=0,\"\",n2t(L30))),\"\")","v":""},null,null,null,null,null,null,null,null,null,null,null,{"$f":"IFERROR(ROUND((#REF!),0),\"غ\")","v":"غ"}]
[28,null,null,null,null,null,null,null,null,null,null,null,{"$f":"IFERROR(IF(L31=\"\",\"\",IF(L31=0,\"\",n2t(L31))),\"\")","v":""},null,null,null,null,null,null,null,null,null,null,null,{"$f":"IFERROR(ROUND((#REF!),0),\"غ\")","v":"غ"}]
[29,null,null,null,null,null,null,null,null,null,null,null,{"$f":"IFERROR(IF(L32=\"\",\"\",IF(L32=0,\"\",n2t(L32))),\"\")","v":""},null,null,null,null,null,null,null,null,null,null,null,{"$f":"IFERROR(ROUND((#REF!),0),\"غ\")","v":"غ"}]
[30,null,null,null,null,null,null,null,null,null,null,null,{"$f":"IFERROR(IF(L33=\"\",\"\",IF(L33=0,\"\",n2t(L33))),\"\")","v":""},null,null,null,null,null,null,null,null,null,null,null,{"$f":"IFERROR(ROUND((#REF!),0),\"غ\")","v":"غ"}]
[31,null,null,null,null,null,null,null,null,null,null,null,{"$f":"IFERROR(IF(L34=\"\",\"\",IF(L34=0,\"\",n2t(L34))),\"\")","v":""},null,null,null,null,null,null,null,null,null,null,null,{"$f":"IFERROR(ROUND((#REF!),0),\"غ\")","v":"غ"}]
[32,null,null,null,null,null,null,null,null,null,null,null,{"$f":"IFERROR(IF(L35=\"\",\"\",IF(L35=0,\"\",n2t(L35))),\"\")","v":""},null,null,null,null,null,null,null,null,null,null,null,{"$f":"IFERROR(ROUND((#REF!),0),\"غ\")","v":"غ"}]
[33,null,null,null,null,null,null,null,null,null,null,null,{"$f":"IFERROR(IF(L36=\"\",\"\",IF(L36=0,\"\",n2t(L36))),\"\")","v":""},null,null,null,null,null,null,null,null,null,null,null,{"$f":"IFERROR(ROUND((#REF!),0),\"غ\")","v":"غ"}]
[]
["المشتركون",null,null,"الممتحنون",null,"الناجحون",null,"الراسبون",null,"الغياب",null,"النسبة %",null,"النسبة الكلية%",null,{"$f":"IFERROR(O39*100/N39,\"\")","v":100}]
[{"$f":"'الرئيسية '!I5","v":"ذكور"},null,{"$f":"'الرئيسية '!I7","v":"اناث"},{"$f":"'الرئيسية '!I5","v":"ذكور"},{"$f":"'الرئيسية '!I7","v":"اناث"},{"$f":"'الرئيسية '!I5","v":"ذكور"},{"$f":"'الرئيسية '!I7","v":"اناث"},{"$f":"'الرئيسية '!I5","v":"ذكور"},{"$f":"'الرئيسية '!I7","v":"اناث"},{"$f":"'الرئيسية '!I5","v":"ذكور"},{"$f":"'الرئيسية '!I7","v":"اناث"},{"$f":"'الرئيسية '!I5","v":"ذكور"},{"$f":"IFERROR(F40*100/D40,\"\")","v":100},{"$f":"D40+E40","v":16},{"$f":"F40+G40","v":16}]
[{"$f":"COUNT(BB7:BB36)+COUNTIF(BB7:BB36,\"ذكر\")","v":0},null,{"$f":"COUNT(BB7:BB36)+COUNTIF(BB7:BB36,\"انثى\")","v":0},{"$f":"COUNT(P7:P36)+COUNTIF(P7:P36,\"ناجح\")+COUNTIF(P7:P36,\"راسب\")+COUNTIF(P7:P36,\"مكمل\")","v":16},{"$f":"COUNT(P7:P36)+COUNTIF(P7:P36,\"ناجحة\")+COUNTIF(P7:P36,\"راسبة\")+COUNTIF(P7:P36,\"مكملة\")","v":0},{"$f":"COUNT(P7:P36)+COUNTIF(P7:P36,\"ناجح\")","v":16},{"$f":"COUNT(P7:P36)+COUNTIF(P7:P36,\"ناجحة\")","v":0},{"$f":"COUNT(P7:P36)+COUNTIF(P7:P36,\"راسب\")","v":0},{"$f":"COUNT(P7:P36)+COUNTIF(P7:P36,\"راسبة\")","v":0},{"$f":"COUNT(P7:P36)+COUNTIF(P7:P36,\"غائب\")","v":6},{"$f":"COUNT(P7:P36)+COUNTIF(P7:P36,\"غائبة\")","v":0},{"$f":"'الرئيسية '!I7","v":"اناث"},{"$f":"IFERROR(G40*100/E40,\"\")","v":""}]
[null,null,{"$f":"'اسماء التلاميذ'!F10","v":0},null,null,null,null,null,null,null,null,null,{"$f":"'اسماء التلاميذ'!B3","v":0}]
[null,null,"معلم المادة",null,null,null,null,null,null,null,null,null,"مدير المدرسة"]

{"sheet":"سجل وسط نصف سنة","index":27,"n_rows":42,"n_cols":25,"rows_kept":42,"cut":false,"hidden":false,"merged":[[4,2,5,3],[4,15,5,15],[5,12,5,14],[4,9,5,9],[4,10,5,10],[4,8,5,8],[40,12,40,14],[41,12,41,14],[4,11,4,14],[4,5,5,5],[4,6,5,6],[4,7,5,7],[37,10,37,11],[37,12,37,13],[37,0,37,1],[37,2,37,3],[37,4,37,5],[37,6,37,7],[0,0,0,2],[1,0,1,2],[2,0,2,2],[3,0,3,2],[4,0,5,0],[4,1,5,1],[0,4,0,11],[1,4,1,11],[2,6,2,9],[3,4,3,12],[37,8,37,9],[4,4,5,4]]}
["جمهورية العراق",null,null,null,"          الدرجات للصفوف الأولية",null,null,null,null,null,null,null,null,"الصف",{"$f":"'اسماء التلاميذ'!F2","v":"الأول"}]
["وزارة التربية",null,null,null,"(امتحان نصف السنة)         ",null,null,null,null,null,null,null,null,"الشعبة",{"$f":"'اسماء التلاميذ'!F3","v":"أ"}]
["إدارة",null,null,null,null,null,"        للسنة الدراسية"]
[{"$f":"'اسماء التلاميذ'!B2","v":0},null,null,null,{"$f":"'اسماء التلاميذ'!F4","v":"2021 - 2022"}]
["ت","رقم القبول","الاسم الثلاثي",null,"التربية الإسلامية","اللغة العربية","الرياضيات","العلوم","الإنكليزي","الفنية والنشيد","التربية الرياضية","المجموع رقما وكتابة",null,null,null,"حالة التلميذ"]
[null,null,null,null,null,null,null,null,null,null,null,"رقما","كتابة"]
[4,"نوري",null,null,{"$f":"اسلامية!L7","v":7},{"$f":"عربي!AE7","v":6},{"$f":"رياضيات!F7","v":7},{"$f":"علوم!F7","v":6},{"$f":"انكليزي!L7","v":7},{"$f":"فنية!J7","v":9},{"$f":"رياضة!L7","v":10},{"$f":"IFERROR(IF(AND(E7=\"غ\",F7=\"غ\",G7=\"غ\",H7=\"غ\",I7=\"غ\",J7,K7=\"غ\"),\"غ\",ROUND(SUM(E7:K7),0)),\"\")","v":52},{"$f":"IFERROR(IF(L7=\"\",\"\",IF(L7=0,\"\",n2t(L7))),\"\")","v":"اثنتانِ وخـمـسونَ"},null,null,{"$f":"IF(COUNTIF(E7:K7,\"<>\")<7,\"\",IF(COUNTIF(E7:K7,\"0\")>=7,IF($BB7=\"انثى\",\"\",\"\"),IF(COUNTIF(E7:K7,\"<5\")+COUNTIF(E7:K7,\"0\")>=3,IF($BB7=\"انثى\",\"راسبة\",\"راسب\"),IF(COUNTIF(E7:K7,\"<5\")+COUNTIF(E7:K7,\"غ\")=2,IF($BB7=\"انثى\",\"مكملة بدرسين\",\"مكمل بدرسين\"),IF(COUNTIF(E7:K7,\"غ\")=7,IF($BB7=\"انثى\",\"غائبة\",\"غائب\"),IF(COUNTIF(E7:K7,\"<5\")+COUNTIF(E7:K7,\"غ\")>1,IF($BB7=\"انثى\",\"راسبة\",\"راسب\"),IF(COUNTIF(E7:K7,\"<5\")+COUNTIF(E7:K7,\"غ\")=1,IF($BB7=\"انثى\",\"مكملة بدرس\",\"مكمل بدرس\"),IF($BB7=\"انثى\",\"ناجحة\",\"ناجح\"))))))))","v":"ناجح"},null,null,null,null,null,null,{"$f":"IFERROR(ROUND((X7),0),\"غ\")","v":33},32.666666666666671,"راسب"]
[5,"احمد",null,null,{"$f":"اسلامية!L8","v":6},{"$f":"عربي!AE8","v":5},{"$f":"رياضيات!F8","v":5},{"$f":"علوم!F8","v":5},{"$f":"انكليزي!L8","v":5},{"$f":"فنية!J8","v":9},{"$f":"رياضة!L8","v":10},{"$f":"IFERROR(IF(AND(E8=\"غ\",F8=\"غ\",G8=\"غ\",H8=\"غ\",I8=\"غ\",J8,K8=\"غ\"),\"غ\",ROUND(SUM(E8:K8),0)),\"\")","v":45},{"$f":"IFERROR(IF(L8=\"\",\"\",IF(L8=0,\"\",n2t(L8))),\"\")","v":"خـمـس وأربـعونَ"},null,null,{"$f":"IF(COUNTIF(E8:K8,\"<>\")<7,\"\",IF(COUNTIF(E8:K8,\"0\")>=7,IF($BB8=\"انثى\",\"\",\"\"),IF(COUNTIF(E8:K8,\"<5\")+COUNTIF(E8:K8,\"0\")>=3,IF($BB8=\"انثى\",\"راسبة\",\"راسب\"),IF(COUNTIF(E8:K8,\"<5\")+COUNTIF(E8:K8,\"غ\")=2,IF($BB8=\"انثى\",\"مكملة بدرسين\",\"مكمل بدرسين\"),IF(COUNTIF(E8:K8,\"غ\")=7,IF($BB8=\"انثى\",\"غائبة\",\"غائب\"),IF(COUNTIF(E8:K8,\"<5\")+COUNTIF(E8:K8,\"غ\")>1,IF($BB8=\"انثى\",\"راسبة\",\"راسب\"),IF(COUNTIF(E8:K8,\"<5\")+COUNTIF(E8:K8,\"غ\")=1,IF($BB8=\"انثى\",\"مكملة بدرس\",\"مكمل بدرس\"),IF($BB8=\"انثى\",\"ناجحة\",\"ناجح\"))))))))","v":"ناجح"},null,null,null,null,null,null,{"$f":"IFERROR(ROUND((X8),0),\"غ\")","v":12},12,"راسب"]
[6,null,null,null,{"$f":"اسلامية!L9","v":8},{"$f":"عربي!AE9","v":8},{"$f":"رياضيات!F9","v":8},{"$f":"علوم!F9","v":7},{"$f":"انكليزي!L9","v":6},{"$f":"فنية!J9","v":10},{"$f":"رياضة!L9","v":10},57,{"$f":"IFERROR(IF(L9=\"\",\"\",IF(L9=0,\"\",n2t(L9))),\"\")","v":"سـبـع وخـمـسونَ"},null,null,"ناجح",null,null,null,null,null,null,17,16.666666666666668,"راسب"]
[7,null,null,null,{"$f":"اسلامية!L10","v":5},{"$f":"عربي!AE10","v":5},{"$f":"رياضيات!F10","v":5},{"$f":"علوم!F10","v":5},{"$f":"انكليزي!L10","v":5},{"$f":"فنية!J10","v":9},{"$f":"رياضة!L10","v":9},43,{"$f":"IFERROR(IF(L10=\"\",\"\",IF(L10=0,\"\",n2t(L10))),\"\")","v":"ثـلاث وأربـعونَ"},null,null,"ناجح",null,null,null,null,null,null,11,11,"راسب"]
[8,null,null,null,{"$f":"اسلامية!L11","v":7},{"$f":"عربي!AE11","v":6},{"$f":"رياضيات!F11","v":7},{"$f":"علوم!F11","v":6},{"$f":"انكليزي!L11","v":7},{"$f":"فنية!J11","v":9},{"$f":"رياضة!L11","v":10},52,{"$f":"IFERROR(IF(L11=\"\",\"\",IF(L11=0,\"\",n2t(L11))),\"\")","v":"اثنتانِ وخـمـسونَ"},null,null,"ناجح",null,null,null,null,null,null,25,25.333333333333336,"راسب"]
[9,null,null,null,{"$f":"اسلامية!L12","v":5},{"$f":"عربي!AE12","v":2},{"$f":"رياضيات!F12","v":2},{"$f":"علوم!F12","v":2},{"$f":"انكليزي!L12","v":5},{"$f":"فنية!J12","v":6},{"$f":"رياضة!L12","v":9},31,{"$f":"IFERROR(IF(L12=\"\",\"\",IF(L12=0,\"\",n2t(L12))),\"\")","v":"إحدى وثـلاثونَ"},null,null,"راسب",null,null,null,null,null,null,14,13.666666666666668,"راسب"]
[10,null,null,null,{"$f":"اسلامية!L13","v":9},{"$f":"عربي!AE13","v":7},{"$f":"رياضيات!F13","v":7},{"$f":"علوم!F13","v":8},{"$f":"انكليزي!L13","v":7},{"$f":"فنية!J13","v":10},{"$f":"رياضة!L13","v":10},58,{"$f":"IFERROR(IF(L13=\"\",\"\",IF(L13=0,\"\",n2t(L13))),\"\")","v":"ثـمـان وخـمـسونَ"},null,null,"ناجح",null,null,null,null,null,null,27,27,"راسب"]
[11,null,null,null,{"$f":"اسلامية!L14","v":8},{"$f":"عربي!AE14","v":6},{"$f":"رياضيات!F14","v":7},{"$f":"علوم!F14","v":5},{"$f":"انكليزي!L14","v":6},{"$f":"فنية!J14","v":8},{"$f":"رياضة!L14","v":9},49,{"$f":"IFERROR(IF(L14=\"\",\"\",IF(L14=0,\"\",n2t(L14))),\"\")","v":"تـسـع وأربـعونَ"},null,null,"ناجح",null,null,null,null,null,null,"غ","غ","راسب"]
[12,null,null,null,{"$f":"اسلامية!L15","v":"غ"},{"$f":"عربي!AE15","v":"غ"},{"$f":"رياضيات!F15","v":"غ"},{"$f":"علوم!F15","v":"غ"},{"$f":"انكليزي!L15","v":"غ"},{"$f":"فنية!J15","v":"غ"},{"$f":"رياضة!L15","v":"غ"},"غ",{"$f":"IFERROR(IF(L15=\"\",\"\",IF(L15=0,\"\",n2t(L15))),\"\")","v":"غـائـب"},null,null,"غائب",null,null,null,null,null,null,"غ","غ","راسب"]
[13,null,null,null,{"$f":"اسلامية!L16","v":7},{"$f":"عربي!AE16","v":6},{"$f":"رياضيات!F16","v":6},{"$f":"علوم!F16","v":6},{"$f":"انكليزي!L16","v":5},{"$f":"فنية!J16","v":10},{"$f":"رياضة!L16","v":9},49,{"$f":"IFERROR(IF(L16=\"\",\"\",IF(L16=0,\"\",n2t(L16))),\"\")","v":"تـسـع وأربـعونَ"},null,null,"ناجح",null,null,null,null,null,null,8,8,"راسب"]
[14,null,null,null,{"$f":"اسلامية!L17","v":7},{"$f":"عربي!AE17","v":6},{"$f":"رياضيات!F17","v":6},{"$f":"علوم!F17","v":6},{"$f":"انكليزي!L17","v":5},{"$f":"فنية!J17","v":10},{"$f":"رياضة!L17","v":9},49,{"$f":"IFERROR(IF(L17=\"\",\"\",IF(L17=0,\"\",n2t(L17))),\"\")","v":"تـسـع وأربـعونَ"},null,null,"ناجح",null,null,null,null,null,null,23,22.666666666666668,"راسب"]
[15,null,null,null,{"$f":"اسلامية!L18","v":"غ"},{"$f":"عربي!AE18","v":"غ"},{"$f":"رياضيات!F18","v":"غ"},{"$f":"علوم!F18","v":"غ"},{"$f":"انكليزي!L18","v":"غ"},{"$f":"فنية!J18","v":"غ"},{"$f":"رياضة!L18","v":"غ"},"غ",{"$f":"IFERROR(IF(L18=\"\",\"\",IF(L18=0,\"\",n2t(L18))),\"\")","v":"غـائـب"},null,null,"غائب",null,null,null,null,null,null,27,26.666666666666668,"راسب"]
[16,null,null,null,{"$f":"اسلامية!L19","v":"غ"},{"$f":"عربي!AE19","v":"غ"},{"$f":"رياضيات!F19","v":"غ"},{"$f":"علوم!F19","v":"غ"},{"$f":"انكليزي!L19","v":"غ"},{"$f":"فنية!J19","v":"غ"},{"$f":"رياضة!L19","v":"غ"},"غ",{"$f":"IFERROR(IF(L19=\"\",\"\",IF(L19=0,\"\",n2t(L19))),\"\")","v":"غـائـب"},null,null,"غائب",null,null,null,null,null,null,28,27.666666666666668,"راسب"]
[17,null,null,null,{"$f":"اسلامية!L20","v":5},{"$f":"عربي!AE20","v":2},{"$f":"رياضيات!F20","v":5},{"$f":"علوم!F20","v":5},{"$f":"انكليزي!L20","v":6},{"$f":"فنية!J20","v":9},{"$f":"رياضة!L20","v":9},41,{"$f":"IFERROR(IF(L20=\"\",\"\",IF(L20=0,\"\",n2t(L20))),\"\")","v":"إحدى وأربـعونَ"},null,null,"مكمل بدرس",null,null,null,null,null,null,27,26.666666666666668,"راسب"]
[18,null,null,null,{"$f":"اسلامية!L21","v":10},{"$f":"عربي!AE21","v":9},{"$f":"رياضيات!F21","v":10},{"$f":"علوم!F21","v":10},{"$f":"انكليزي!L21","v":9},{"$f":"فنية!J21","v":10},{"$f":"رياضة!L21","v":10},68,{"$f":"IFERROR(IF(L21=\"\",\"\",IF(L21=0,\"\",n2t(L21))),\"\")","v":"ثـمـان وسـتونَ"},null,null,"ناجح",null,null,null,null,null,null,17,16.666666666666668,"راسب"]
[19,null,null,null,{"$f":"اسلامية!L22","v":7},{"$f":"عربي!AE22","v":6},{"$f":"رياضيات!F22","v":6},{"$f":"علوم!F22","v":7},{"$f":"انكليزي!L22","v":6},{"$f":"فنية!J22","v":10},{"$f":"رياضة!L22","v":10},52,{"$f":"IFERROR(IF(L22=\"\",\"\",IF(L22=0,\"\",n2t(L22))),\"\")","v":"اثنتانِ وخـمـسونَ"},null,null,"ناجح",null,null,null,null,null,null,10,10,"راسب"]
[20,null,null,null,{"$f":"اسلامية!L23","v":"غ"},{"$f":"عربي!AE23","v":"غ"},{"$f":"رياضيات!F23","v":"غ"},{"$f":"علوم!F23","v":"غ"},{"$f":"انكليزي!L23","v":"غ"},{"$f":"فنية!J23","v":"غ"},{"$f":"رياضة!L23","v":"غ"},"غ",{"$f":"IFERROR(IF(L23=\"\",\"\",IF(L23=0,\"\",n2t(L23))),\"\")","v":"غـائـب"},null,null,"غائب",null,null,null,null,null,null,27,26.666666666666668,"راسب"]
[21,null,null,null,{"$f":"اسلامية!L24","v":"غ"},{"$f":"عربي!AE24","v":"غ"},{"$f":"رياضيات!F24","v":"غ"},{"$f":"علوم!F24","v":"غ"},{"$f":"انكليزي!L24","v":"غ"},{"$f":"فنية!J24","v":"غ"},{"$f":"رياضة!L24","v":"غ"},"غ",{"$f":"IFERROR(IF(L24=\"\",\"\",IF(L24=0,\"\",n2t(L24))),\"\")","v":"غـائـب"},null,null,"غائب",null,null,null,null,null,null,12,12,"راسب"]
[22,null,null,null,{"$f":"اسلامية!L25","v":7},{"$f":"عربي!AE25","v":7},{"$f":"رياضيات!F25","v":7},{"$f":"علوم!F25","v":6},{"$f":"انكليزي!L25","v":5},{"$f":"فنية!J25","v":10},{"$f":"رياضة!L25","v":10},52,{"$f":"IFERROR(IF(L25=\"\",\"\",IF(L25=0,\"\",n2t(L25))),\"\")","v":"اثنتانِ وخـمـسونَ"},null,null,"ناجح",null,null,null,null,null,null,25,25,"راسب"]
[23,null,null,null,{"$f":"اسلامية!L26","v":"غ"},{"$f":"عربي!AE26","v":"غ"},{"$f":"رياضيات!F26","v":"غ"},{"$f":"علوم!F26","v":"غ"},{"$f":"انكليزي!L26","v":"غ"},{"$f":"فنية!J26","v":"غ"},{"$f":"رياضة!L26","v":"غ"},"غ",{"$f":"IFERROR(IF(L26=\"\",\"\",IF(L26=0,\"\",n2t(L26))),\"\")","v":"غـائـب"},null,null,"غائب",null,null,null,null,null,null,"غ","غ","راسب"]
[24,null,null,null,{"$f":"اسلامية!L27","v":7},{"$f":"عربي!AE27","v":7},{"$f":"رياضيات!F27","v":3},{"$f":"علوم!F27","v":7},{"$f":"انكليزي!L27","v":6},{"$f":"فنية!J27","v":10},{"$f":"رياضة!L27","v":10},50,{"$f":"IFERROR(IF(L27=\"\",\"\",IF(L27=0,\"\",n2t(L27))),\"\")","v":"خـمـسونَ"},null,null,"مكمل بدرس",null,null,null,null,null,null,24,24.333333333333332,"راسب"]
[25,null,null,null,{"$f":"اسلامية!L28","v":10},{"$f":"عربي!AE28","v":10},{"$f":"رياضيات!F28","v":10},{"$f":"علوم!F28","v":10},{"$f":"انكليزي!L28","v":10},{"$f":"فنية!J28","v":10},{"$f":"رياضة!L28","v":10},70,{"$f":"IFERROR(IF(L28=\"\",\"\",IF(L28=0,\"\",n2t(L28))),\"\")","v":"سـبـعونَ"},null,null,"ناجح",null,null,null,null,null,null,23,23,"راسب"]
[26,null,null,null,{"$f":"اسلامية!L29","v":0},{"$f":"عربي!AE29","v":0},{"$f":"رياضيات!F29","v":0},{"$f":"علوم!F29","v":0},{"$f":"انكليزي!L29","v":0},{"$f":"فنية!J29","v":0},{"$f":"رياضة!L29","v":0},0,{"$f":"IFERROR(IF(L29=\"\",\"\",IF(L29=0,\"\",n2t(L29))),\"\")","v":""},null,null,"",null,null,null,null,null,null,0,0,"راسب"]
[27,null,null,null,{"$f":"اسلامية!L30","v":0},{"$f":"عربي!AE30","v":0},{"$f":"رياضيات!F30","v":0},{"$f":"علوم!F30","v":0},{"$f":"انكليزي!L30","v":0},{"$f":"فنية!J30","v":0},{"$f":"رياضة!L30","v":0},0,{"$f":"IFERROR(IF(L30=\"\",\"\",IF(L30=0,\"\",n2t(L30))),\"\")","v":""},null,null,"",null,null,null,null,null,null,0,0,"راسب"]
[28,null,null,null,{"$f":"اسلامية!L31","v":0},{"$f":"عربي!AE31","v":0},{"$f":"رياضيات!F31","v":0},{"$f":"علوم!F31","v":0},{"$f":"انكليزي!L31","v":0},{"$f":"فنية!J31","v":0},{"$f":"رياضة!L31","v":0},0,{"$f":"IFERROR(IF(L31=\"\",\"\",IF(L31=0,\"\",n2t(L31))),\"\")","v":""},null,null,"",null,null,null,null,null,null,0,0,"راسب"]
[29,null,null,null,{"$f":"اسلامية!L32","v":0},{"$f":"عربي!AE32","v":0},{"$f":"رياضيات!F32","v":0},{"$f":"علوم!F32","v":0},{"$f":"انكليزي!L32","v":0},{"$f":"فنية!J32","v":0},{"$f":"رياضة!L32","v":0},0,{"$f":"IFERROR(IF(L32=\"\",\"\",IF(L32=0,\"\",n2t(L32))),\"\")","v":""},null,null,"",null,null,null,null,null,null,0,0,"راسب"]
[30,null,null,null,{"$f":"اسلامية!L33","v":0},{"$f":"عربي!AE33","v":0},{"$f":"رياضيات!F33","v":0},{"$f":"علوم!F33","v":0},{"$f":"انكليزي!L33","v":0},{"$f":"فنية!J33","v":0},{"$f":"رياضة!L33","v":0},0,{"$f":"IFERROR(IF(L33=\"\",\"\",IF(L33=0,\"\",n2t(L33))),\"\")","v":""},null,null,"",null,null,null,null,null,null,0,0,"راسب"]
[31,null,null,null,{"$f":"اسلامية!L34","v":0},{"$f":"عربي!AE34","v":0},{"$f":"رياضيات!F34","v":0},{"$f":"علوم!F34","v":0},{"$f":"انكليزي!L34","v":0},{"$f":"فنية!J34","v":0},{"$f":"رياضة!L34","v":0},0,{"$f":"IFERROR(IF(L34=\"\",\"\",IF(L34=0,\"\",n2t(L34))),\"\")","v":""},null,null,"",null,null,null,null,null,null,0,0,"راسب"]
[32,null,null,null,{"$f":"اسلامية!L35","v":0},{"$f":"عربي!AE35","v":0},{"$f":"رياضيات!F35","v":0},{"$f":"علوم!F35","v":0},{"$f":"انكليزي!L35","v":0},{"$f":"فنية!J35","v":0},{"$f":"رياضة!L35","v":0},0,{"$f":"IFERROR(IF(L35=\"\",\"\",IF(L35=0,\"\",n2t(L35))),\"\")","v":""},null,null,"",null,null,null,null,null,null,0,0,"راسب"]
[33,null,null,null,{"$f":"اسلامية!L36","v":0},{"$f":"عربي!AE36","v":0},{"$f":"رياضيات!F36","v":0},{"$f":"علوم!F36","v":0},{"$f":"انكليزي!L36","v":0},{"$f":"فنية!J36","v":0},{"$f":"رياضة!L36","v":0},null,{"$f":"IFERROR(IF(L36=\"\",\"\",IF(L36=0,\"\",n2t(L36))),\"\")","v":""},null,null,"",null,null,null,null,null,null,0,0,"راسب"]
[null,null,null,null,null,null,null,null,null,null,null,null,null,null,null,null,null,null,null,null,null,null,null,0]
["المشتركون",null,"الممتحنون",null,"الناجحون",null,"الراسبون",null,"الغياب",null,"المكملون",null,"النسبة",null,"النسبة الكلية %",{"$f":"IFERROR(O39*100/P39,\"\")","v":81.25},null,null,null,null,null,null,null,0]
[{"$f":"'الرئيسية '!I5","v":"ذكور"},{"$f":"COUNT(BB7:BB36)+COUNTIF(BB7:BB36,\"ذكر\")","v":0},{"$f":"'الرئيسية '!I5","v":"ذكور"},{"$f":"COUNT(P7:P36)+COUNTIF(P7:P36,\"ناجح\")+COUNTIF(P7:P36,\"راسب\")+COUNTIF(P7:P36,\"مكمل بدرس\")+COUNTIF(P7:P36,\"مكمل بدرسين\")","v":16},{"$f":"'الرئيسية '!I5","v":"ذكور"},{"$f":"COUNT(P7:P36)+COUNTIF(P7:P36,\"ناجح\")","v":13},{"$f":"'الرئيسية '!I5","v":"ذكور"},{"$f":"COUNT(P7:P36)+COUNTIF(P7:P36,\"راسب\")","v":1},{"$f":"'الرئيسية '!I5","v":"ذكور"},{"$f":"COUNT(P7:P36)+COUNTIF(P7:P36,\"غائب\")","v":6},{"$f":"'الرئيسية '!I5","v":"ذكور"},{"$f":"COUNT(P7:P36)+COUNTIF(P7:P36,\"مكمل بدرس\")+COUNTIF(P7:P36,\"مكمل بدرسين\")","v":2},{"$f":"'الرئيسية '!I5","v":"ذكور"},{"$f":"IFERROR(F39*100/D39,\"\")","v":81.25},{"$f":"F39+F40","v":13},{"$f":"D39+D40","v":16},null,null,null,null,null,null,null,4]
[{"$f":"'الرئيسية '!I7","v":"اناث"},{"$f":"COUNT(BB7:BB36)+COUNTIF(BB7:BB36,\"انثى\")","v":0},{"$f":"'الرئيسية '!I7","v":"اناث"},{"$f":"COUNT(P7:P36)+COUNTIF(P7:P36,\"ناجحة\")+COUNTIF(P7:P36,\"راسبة\")+COUNTIF(P7:P36,\"مكملة بدرس\")+COUNTIF(P7:P36,\"مكملة بدرسين\")","v":0},{"$f":"'الرئيسية '!I7","v":"اناث"},{"$f":"COUNT(P7:P36)+COUNTIF(P7:P36,\"ناجحة\")","v":0},{"$f":"'الرئيسية '!I7","v":"اناث"},{"$f":"COUNT(P7:P36)+COUNTIF(P7:P36,\"راسبة\")","v":0},{"$f":"'الرئيسية '!I7","v":"اناث"},{"$f":"COUNT(P7:P36)+COUNTIF(P7:P36,\"غائبة\")","v":0},{"$f":"'الرئيسية '!I7","v":"اناث"},{"$f":"COUNT(P7:P36)+COUNTIF(P7:P36,\"مكملة بدرس\")+COUNTIF(P7:P36,\" مكملة بدرسين\")","v":0},{"$f":"'الرئيسية '!I7","v":"اناث"},{"$f":"IFERROR(F40*100/D40,\"\")","v":""},null,null,null,null,null,null,null,null,null,3]
[null,null,null,null,null,null,null,null,null,null,null,null,{"$f":"'اسماء التلاميذ'!B3","v":0},null,null,null,null,null,null,null,null,null,null,0]
[null,null,null,null,null,null,null,null,null,null,null,null,"مدير المدرسة",null,null,null,null,null,null,null,null,null,null,0]

{"sheet":"الشهادات","index":28,"n_rows":28,"n_cols":51,"rows_kept":28,"cut":false,"hidden":false,"merged":[[27,7,27,9],[26,7,26,9],[26,2,26,5],[27,2,27,5],[27,14,27,18],[26,14,26,18],[4,1,4,6],[3,1,3,6],[9,17,17,20],[20,13,24,15],[24,1,24,4],[24,9,24,12],[22,1,22,4],[22,7,22,8],[22,9,22,12],[23,1,23,4],[23,7,23,8],[23,9,23,12],[20,1,20,4],[20,7,20,8],[20,9,20,12],[20,18,20,20],[21,1,21,4],[21,18,21,20],[18,1,18,4],[18,17,18,20],[19,5,19,6],[19,7,19,8],[19,9,19,12],[19,13,19,15],[19,18,19,20],[6,14,8,14],[9,1,9,4],[10,1,10,4],[11,1,11,4],[12,1,12,4],[7,12,8,12],[14,1,14,4],[15,1,15,4],[16,1,16,4],[17,1,17,4],[13,1,13,4],[5,8,5,15],[5,16,5,17],[6,1,8,4],[6,5,6,7],[6,8,8,8],[6,9,8,9],[6,10,6,12],[6,13,8,13],[6,15,8,15],[6,16,8,16],[6,17,8,20],[7,5,8,5],[7,6,8,6],[7,7,8,7],[7,10,8,10],[7,11,8,11],[2,8,2,10],[3,8,3,15],[3,16,3,17],[3,18,3,20],[4,8,4,15],[4,16,4,17]]}
[null,1,{"$f":"MAX('درجات شهادات'!A7:A46)","v":33},null,null,null,null,null,null,null,null,null,null,null,null,{"$f":"B2*1-1","v":0}]
[null,1]
[null,null,null,null,null,null,null,null,"تسلسل  (",null,null,{"$f":"IFERROR(VLOOKUP($B$2,wwlad,1),\"\")","v":""},"("]
[null,"إدارة  ",null,null,null,null,null,null,"نتائج الاختبارات المدرسية للدراسة الابتدائية ",null,null,null,null,null,null,null,"الاســـــــــــــــــم",null,{"$f":"IFERROR(VLOOKUP($B$2,wwlad,3),\"\")","v":""}]
[null,{"$f":"IFERROR(VLOOKUP($B$2,wwlad,20),\"\")","v":""},null,null,null,null,null,"","      للعام الدراسي ",null,null,null,null,null,null,null,"الصف والشعبة",null,{"$f":"IFERROR(VLOOKUP($B$2,wwlad,24),\"\")","v":""},{"$f":"IFERROR(VLOOKUP($B$2,wwlad,25),\"\")","v":""}]
[null,null,null,null,null,null,null,null,{"$f":"IFERROR(VLOOKUP($B$2,wwlad,23),\"\")","v":""},null,null,null,null,null,null,null,"رقـــــم الـــقــيــد",null,{"$f":"IFERROR(VLOOKUP($B$2,wwlad,2),\"\")","v":""}]
[null,"المواد الدراسية",null,null,null,"الفصل الاول",null,null,"معدل الفصل الاول","نصف السنة","الفصل الثاني",null,null,"معدل الفصل الثاني","السعي السنوي","الامتحان النهائي","الدرجة النهائية","الملاحظات"]
[null,null,null,null,null,{"$f":"'اسماء التلاميذ'!G7","v":"تشرين الأول"},{"$f":"'اسماء التلاميذ'!G8","v":"تشرين الثاني"},{"$f":"'اسماء التلاميذ'!G9","v":"كانون الأول"},null,null,"شباط","آذار","نيسان"]
[null,null,null,null,null,null,null,null,null,null,null,null,null,null,null,null,null,null,null,null,null,null,null,null,null,null,null,null,null,null,null,null,null,null,null,null,null,null,null,null,null,"نهاية السنة"]
[null,"التربية الاسلامية",null,null,null,null,null,null,null,{"$f":"IFERROR(VLOOKUP($B$2,wwlad,5),\"\")","v":""},null,null,null,null,null,null,{"$f":"IFERROR(VLOOKUP($B$2,wwlad,12),\"\")","v":""},{"$f":"$AP$10","v":""},null,null,null,null,null,null,null,null,null,null,null,null,null,null,null,null,null,null,{"$f":"Q10","v":""},null,null,{"$f":"IF(AK10=\"غ\",\"- اسلامية\",IF(OR(AK10<5),\"    إسلامية  \",\"\"))","v":""},null,{"$f":"IF(AK10=\"\",\"\",AN10&\" \"&AN11&\" \"&AN12&\" \"&AN13&\" \"&AN14&\" \"&AN15&\"\"&AN16&\"\")","v":""},null,null,null,{"$f":"J10","v":""},null,null,{"$f":"IF(AT10=\"غ\",\"- اسلامية\",IF(OR(AT10<5),\"    إسلامية  \",\"\"))","v":""},null,{"$f":"IF(AT10=\"\",\"\",AW10&\" \"&AW11&\" \"&AW12&\" \"&AW13&\" \"&AW14&\" \"&AW15&\"\"&AW16&\"\")","v":""}]
[null,"اللغة العربية",null,null,null,null,null,null,null,{"$f":"IFERROR(VLOOKUP($B$2,wwlad,6),\"\")","v":""},null,null,null,null,null,null,{"$f":"IFERROR(VLOOKUP($B$2,wwlad,13),\"\")","v":""},null,null,null,null,null,null,null,null,null,null,null,null,null,null,null,null,null,null,null,"",null,null,{"$f":"IF(AK11=\"غ\",\"- عربي\",IF(OR(AK11<5),\" عربي  \",\"\"))","v":""},null,null,null,null,null,"",null,null,{"$f":"IF(AT11=\"غ\",\"- عربي\",IF(OR(AT11<5),\" عربي  \",\"\"))","v":""}]
[null,"الرياضيات",null,null,null,null,null,null,null,{"$f":"IFERROR(VLOOKUP($B$2,wwlad,7),\"\")","v":""},null,null,null,null,null,null,{"$f":"IFERROR(VLOOKUP($B$2,wwlad,14),\"\")","v":""},null,null,null,null,null,null,null,null,null,null,null,null,null,null,null,null,null,null,null,"",null,null,{"$f":"IF(AK12=\"غ\",\"- رياضيات \",IF(OR(AK12<5),\" رياضيات \",\"\"))","v":""},null,null,null,null,null,"",null,null,{"$f":"IF(AT12=\"غ\",\"- رياضيات \",IF(OR(AT12<5),\" رياضيات \",\"\"))","v":""}]
[null,"العلوم",null,null,null,null,null,null,null,{"$f":"IFERROR(VLOOKUP($B$2,wwlad,8),\"\")","v":""},null,null,null,null,null,null,{"$f":"IFERROR(VLOOKUP($B$2,wwlad,15),\"\")","v":""},null,null,null,null,null,null,null,null,null,null,null,null,null,null,null,null,null,null,null,"",null,null,{"$f":"IF(AK13=\"غ\",\"علوم\",IF(OR(AK13<5),\"   علوم  \",\"\"))","v":""},null,null,null,null,null,"",null,null,{"$f":"IF(AT13=\"غ\",\"علوم\",IF(OR(AT13<5),\"   علوم  \",\"\"))","v":""}]
[null,"الإنكليزي",null,null,null,null,null,null,null,{"$f":"IFERROR(VLOOKUP($B$2,wwlad,9),\"\")","v":""},null,null,null,null,null,null,{"$f":"IFERROR(VLOOKUP($B$2,wwlad,16),\"\")","v":""},null,null,null,null,null,null,null,null,null,null,null,null,null,null,null,null,null,null,null,"",null,null,{"$f":"IF(AK14=\"غ\",\"- انكليزي\",IF(OR(AK14<5),\" انكليزي \",\"\"))","v":""},null,null,null,null,null,"",null,null,{"$f":"IF(AT14=\"غ\",\"- انكليزي\",IF(OR(AT14<5),\" انكليزي \",\"\"))","v":""}]
[null,"التربية الفنية",null,null,null,null,null,null,null,{"$f":"IFERROR(VLOOKUP($B$2,wwlad,10),\"\")","v":""},null,null,null,null,null,null,{"$f":"IFERROR(VLOOKUP($B$2,wwlad,17),\"\")","v":""},null,null,null,null,null,null,null,null,null,null,null,null,null,null,null,null,null,null,null,"",null,null,{"$f":"IF(AK15=\"غ\",\"فنية\",IF(OR(AK15<5),\"  فنية  \",\"\"))","v":""},null,null,null,null,null,"",null,null,{"$f":"IF(AT15=\"غ\",\"فنية\",IF(OR(AT15<5),\"  فنية  \",\"\"))","v":""}]
[null,"التربية الرياضية",null,null,null,null,null,null,null,{"$f":"IFERROR(VLOOKUP($B$2,wwlad,11),\"\")","v":""},null,null,null,null,null,null,{"$f":"IFERROR(VLOOKUP($B$2,wwlad,18),\"\")","v":""},null,null,null,null,null,null,null,null,null,null,null,null,null,null,null,null,null,null,null,"",null,null,{"$f":"IF(AK16=\"غ\",\"- رياضة\",IF(OR(AK16<5),\"  رياضة \",\"\"))","v":""},null,null,null,null,null,"",null,null,{"$f":"IF(AT16=\"غ\",\"- رياضة\",IF(OR(AT16<5),\"  رياضة \",\"\"))","v":""}]
[null,null,null,null,null,null,null,null,null,null,null,null,null,null,null,null,null,null,null,null,null,null,null,null,null,null,null,null,null,null,null,null,null,null,null,null,null,null,null,null,null,{"$f":"IF(AK17=\"\",\"\",AN17&\" \"&AN18&\" \"&AN19&\" \"&AN20&\" \"&AN21&\" \"&AN22&\"\"&AN23&\"\"&AN24&\"\")","v":""}]
[]
[]
[null,null,null,null,null,"النتيجة",null,"المجموع رقماً",null,"المجموع كتابةً",null,null,null,"ملاحظات نصف السنة",null,null,"الغيابات","الاجازات","توقيع ولي الامر"]
[null,"الفصل الاول",null,null,null,{"$f":"IF(I10:I18<>0,IF(SUM(COUNTA(I10:I18))=0,\"\",IF(SUM(--(I10:I18=\"غ\"),((I10:I18<>\"\")*(I10:I18<50))),\"راسب\",\"ناجح\")),\"\")","v":""},null,{"$f":"SUM(IFERROR(IF(SEARCH(\"\",I10:I16)>0,MID(I10:I16,3,10)+0),I10:I16))","v":0},null,{"$f":"IFERROR(IF(H21=\"\",\"\",IF(H21=0,\"\",n2t(H21))),\"\")","v":""},null,null,null,{"$f":"$AY$10","v":""}]
[null,"نصف السنة",null,null,null,{"$f":"IF(J10:J16<>0,IF(SUM(COUNTA(J10:J16))=0,\"\",IF(SUM(--(J10:J16=\"غ\"),((J10:J16<>\"\")*(J10:J16<5))),\"راسب\",\"ناجح\")),\"\")","v":"ناجح"},null,{"$f":"SUM(IFERROR(IF(SEARCH(\"\",J10:J16)>0,MID(J10:J16,3,10)+0),J10:J16))","v":0},null,{"$f":"IFERROR(IF(H22=\"\",\"\",IF(H22=0,\"\",n2t(H22))),\"\")","v":""}]
[null,"الفصل الثاني",null,null,null,{"$f":"IF(N10:N18<>0,IF(SUM(COUNTA(N10:N18))=0,\"\",IF(SUM(--(N10:N18=\"غ\"),((N10:N18<>\"\")*(N10:N18<50))),\"راسب\",\"ناجح\")),\"\")","v":""},null,{"$f":"SUM(IFERROR(IF(SEARCH(\"\",N10:N16)>0,MID(N10:N16,3,10)+0),N10:N16))","v":0},null,{"$f":"IFERROR(IF(H23=\"\",\"\",IF(H23=0,\"\",n2t(H23))),\"\")","v":""}]
[null,"السعي السنوي",null,null,null,{"$f":"IF(O10:O18<>0,IF(SUM(COUNTA(O10:O18))=0,\"\",IF(SUM(--(O10:O18=\"غ\"),((O10:O18<>\"\")*(O10:O18<50))),\"راسب\",\"ناجح\")),\"\")","v":""},null,{"$f":"SUM(IFERROR(IF(SEARCH(\"\",O10:O16)>0,MID(O10:O16,3,10)+0),O10:O16))","v":0},null,{"$f":"IFERROR(IF(H24=\"\",\"\",IF(H24=0,\"\",n2t(H24))),\"\")","v":""}]
[null,"نهاية السنة",null,null,null,{"$f":"IFERROR(VLOOKUP($B$2,wwlad,29),\"\")","v":""},null,{"$f":"SUM(IFERROR(IF(SEARCH(\"\",Q10:Q16)>0,MID(Q10:Q16,3,10)+0),Q10:Q16))","v":0},null,{"$f":"IFERROR(IF(H25=\"\",\"\",IF(H25=0,\"\",n2t(H25))),\"\")","v":""}]
[]
[null,null,{"$f":"IFERROR(VLOOKUP($B$2,wwlad,26),\"\")","v":""},null,null,null,null,{"$f":"IFERROR(VLOOKUP($B$2,wwlad,22),\"\")","v":""},null,null,null,null,null,null,{"$f":"IFERROR(VLOOKUP($B$2,wwlad,21),\"\")","v":""}]
[null,null,"مسؤول الكنترول",null,null,null,null,"مرشد/ة الشعبة",null,null,null,null,null,null,"مدير المدرسة"]

{"sheet":"77","index":29,"n_rows":21,"n_cols":20,"rows_kept":21,"cut":false,"hidden":false,"merged":[[20,1,20,5],[20,11,20,13],[8,13,9,13],[19,3,19,4],[19,7,19,8],[8,7,10,7],[8,8,10,8],[8,9,10,9],[8,10,10,10],[8,11,10,11],[8,12,10,12],[8,5,10,5],[8,0,10,0],[8,1,10,1],[8,2,10,2],[8,3,10,3],[8,4,10,4],[3,4,3,11],[6,0,6,3],[4,0,4,3],[6,10,6,11],[4,4,4,9],[4,10,4,11],[5,4,5,9]]}
[null,1,{"$f":"MAX('درجات شهادات'!A:A)","v":33}]
[null,3]
[]
[null,null,null,null,"    نتائج الاختبارات المدرسية للدراسة الابتدائية "]
["إدارة",null,null,null,"  السنة الدراسية",null,null,null,null,null,null,null,"التسلسل",{"$f":"IFERROR(VLOOKUP($B$2,wwlad,1),\"\")","v":""}]
[null,null,null,null,{"$f":"IFERROR(VLOOKUP($B$2,wwlad,23),\"\")","v":""},null,null,null,null,null,null,null,"رقم القبول",{"$f":"IFERROR(VLOOKUP($B$2,wwlad,2),\"\")","v":""}]
[{"$f":"IFERROR(VLOOKUP($B$2,wwlad,20),\"\")","v":""},null,null,null,null,"الاسم",{"$f":"IFERROR(VLOOKUP($B$2,wwlad,3),\"\")","v":""},null,null,null,null,null,"الصف",{"$f":"IFERROR(VLOOKUP($B$2,wwlad,24),\"\")","v":""}]
["الجنس",null,null,null,null,null,null,null,null,null,null,null,"الشعبة",{"$f":"IFERROR(VLOOKUP($B$2,wwlad,25),\"\")","v":""}]
["المادة الدراسية",{"$f":"'اسماء التلاميذ'!G7","v":"تشرين الأول"},{"$f":"'اسماء التلاميذ'!G8","v":"تشرين الثاني"},{"$f":"'اسماء التلاميذ'!G9","v":"كانون الأول"},"معدل النصف الأول","امتحان نصف السنة",null,"شباط","اذار ","نيسان","معدل النصف الثاني","معدل السعي السنوي","الامتحان النهائي","الملاحظات ",null,{"$f":"COUNTIF(F12:F19,\"<5\")","v":0},null,null,{"$f":"COUNTIF(M12:M19,\"<5\")","v":0}]
[null,null,null,null,null,null,null,null,null,null,null,null,null,null,null,null,0,"مبارك النجاح",0,"مبارك النجاح"]
[null,null,null,null,null,null,null,null,null,null,null,null,null,null,null,null,1,"مكمل",1,"مكمل"]
["التربية الإسلامية",null,null,null,null,{"$f":"IFERROR(VLOOKUP($B$2,wwlad,5),\"\")","v":""},null,null,null,null,null,null,{"$f":"IFERROR(VLOOKUP($B$2,wwlad,12),\"\")","v":""},{"$f":"IFERROR(VLOOKUP($B$2,wwlad,21),\"\")","v":""},null,null,3,"راسب",3,"راسب"]
["اللغة العربية",null,null,null,null,{"$f":"IFERROR(VLOOKUP($B$2,wwlad,6),\"\")","v":""},null,null,null,null,null,null,{"$f":"IFERROR(VLOOKUP($B$2,wwlad,13),\"\")","v":""},"مدير المدرسة"]
["الرياضيات",null,null,null,null,{"$f":"IFERROR(VLOOKUP($B$2,wwlad,7),\"\")","v":""},null,null,null,null,null,null,{"$f":"IFERROR(VLOOKUP($B$2,wwlad,14),\"\")","v":""}]
["العلوم",null,null,null,null,{"$f":"IFERROR(VLOOKUP($B$2,wwlad,8),\"\")","v":""},null,null,null,null,null,null,{"$f":"IFERROR(VLOOKUP($B$2,wwlad,15),\"\")","v":""}]
["الإنكليزي",null,null,null,null,{"$f":"IFERROR(VLOOKUP($B$2,wwlad,9),\"\")","v":""},null,null,null,null,null,null,{"$f":"IFERROR(VLOOKUP($B$2,wwlad,16),\"\")","v":""},{"$f":"IFERROR(VLOOKUP($B$2,wwlad,22),\"\")","v":""}]
["الفنية والنشيد",null,null,null,null,{"$f":"IFERROR(VLOOKUP($B$2,wwlad,10),\"\")","v":""},null,null,null,null,null,null,{"$f":"IFERROR(VLOOKUP($B$2,wwlad,17),\"\")","v":""},"مرشد الصف"]
["التربية الرياضية",null,null,null,null,{"$f":"IFERROR(VLOOKUP($B$2,wwlad,11),\"\")","v":""},null,null,null,null,null,null,{"$f":"IFERROR(VLOOKUP($B$2,wwlad,18),\"\")","v":""}]
[]
["النتيجة",{"$f":"IFERROR(VLOOKUP($B$2,wwlad,28),\"\")","v":""},null,"المجموع",null,{"$f":"SUM(F12:F19)","v":0},null,"النتيجة",null,{"$f":"IFERROR(VLOOKUP($B$2,wwlad,29),\"\")","v":""},null,"المجموع",{"$f":"SUM(IFERROR(IF(SEARCH(\"\",M12:M19)>0,MID(M12:M19,3,10)+0),M12:M19))","v":0}]
[null,"توقيع ولي امر الطالب",null,null,null,null,null,null,null,null,null,"توقيع ولي امر الطالب"]

{"sheet":"اسلامية نهاية السنة","index":30,"n_rows":42,"n_cols":28,"rows_kept":42,"cut":false,"hidden":false,"merged":[[4,15,5,15],[4,4,4,6],[0,0,0,2],[0,5,0,10],[1,0,1,2],[1,5,1,10],[2,0,2,2],[2,5,2,10],[3,0,3,2],[4,7,5,7],[4,8,5,8],[4,9,5,9],[4,10,5,10],[4,2,5,3],[4,1,5,1],[4,0,5,0],[5,12,5,14],[4,11,4,14],[40,12,40,14],[41,12,41,14],[37,0,37,2],[37,3,37,4],[37,5,37,6],[37,7,37,8],[37,9,37,10],[37,11,37,12],[37,13,37,14],[38,0,38,1],[39,0,39,1]]}
["جمهورية العراق",null,null,null,null,"قائمة درجات امتحان نهاية السنة",null,null,null,null,null,"الصف: ",{"$f":"'اسماء التلاميذ'!F2","v":"الأول"}]
["وزارة التربية",null,null,null,null,"    للعام الدراسي",null,null,null,null,null,"الشعبة: ",{"$f":"'اسماء التلاميذ'!F3","v":"أ"},null,null,null,null,null,null,null,null,null,"قائمة نهاية السنة"]
["إدارة",null,null,null,null,{"$f":"'اسماء التلاميذ'!F4","v":"2021 - 2022"},null,null,null,null,null,"المادة: ","التربية الإسلامية"]
[{"$f":"'اسماء التلاميذ'!B2","v":0},null,null,null,null,null,null,null,null,null,null,"اليوم والتاريخ/"]
["تسلسل","رقم القبول","الاسم الثلاثي",null,"القران الكريم",null,null,"الحديث درجتان ","العقيدة والعبادات درجة ","السيرة درجة واحدة ","الاداب درجة واحدة ","الدرجة رقما وكتابة",null,null,null,"النتيجة"]
[null,null,null,null,"حفظ درجتان ","تلاوة درجتان ","معاني درجة ",null,null,null,null,"المجموع الكلي","كتابة"]
[4,"نوري",null,null,1,1,1,1,1,1,1,7,"سـبـع",null,null,{"$f":"IF(COUNTIF(L7,\"<>\")<1,\"\",IF(COUNTIF(L7,\"0\")>=1,IF($BB7=\"انثى\",\"\",\"\"),IF(COUNTIF(L7,\"<5\")+COUNTIF(L7,\"0\")>=1,IF($BB7=\"انثى\",\"راسبة\",\"راسب\"),IF(COUNTIF(L7,\"<5\")+COUNTIF(L7,\"غ\")>=1,IF($BB7=\"انثى\",\"غائبة\",\"غائب\"),IF(COUNTIF(L7,\"<5\")+COUNTIF(L7,\"غ\")=1,IF($BB7=\"انثى\",\"مكملة\",\"مكمل\"),IF(COUNTIF(L7,\"<5\")+COUNTIF(L7,\"غ\")=2,IF($BB7=\"انثى\",\"مكملة\",\"مكمل\"),IF($BB7=\"انثى\",\"ناجحة\",\"ناجح\")))))))","v":"ناجح"},null,null," فبراير / الخميس /03 / 02 / 2022  :   الوقت  15:08:29",null,null,null,null,null,null,null,null,{"$f":"IFERROR(ROUND((L7),0),\"غ\")","v":7}]
[5,"احمد",null,null,1,1,0,1,1,1,1,6,"سـت",null,null,{"$f":"IF(COUNTIF(L8,\"<>\")<1,\"\",IF(COUNTIF(L8,\"0\")>=1,IF($BB8=\"انثى\",\"\",\"\"),IF(COUNTIF(L8,\"<5\")+COUNTIF(L8,\"0\")>=1,IF($BB8=\"انثى\",\"راسبة\",\"راسب\"),IF(COUNTIF(L8,\"<5\")+COUNTIF(L8,\"غ\")>=1,IF($BB8=\"انثى\",\"غائبة\",\"غائب\"),IF(COUNTIF(L8,\"<5\")+COUNTIF(L8,\"غ\")=1,IF($BB8=\"انثى\",\"مكملة\",\"مكمل\"),IF(COUNTIF(L8,\"<5\")+COUNTIF(L8,\"غ\")=2,IF($BB8=\"انثى\",\"مكملة\",\"مكمل\"),IF($BB8=\"انثى\",\"ناجحة\",\"ناجح\")))))))","v":"ناجح"},null,null," فبراير / الخميس /03 / 02 / 2022  :   الوقت  15:08:29",null,null,null,null,null,null,null,null,{"$f":"IFERROR(ROUND((L8),0),\"غ\")","v":6}]
[6,null,null,null,2,1,1,1,1,1,1,8,"ثـمـان",null,null,"ناجح",null,null," فبراير / الخميس /03 / 02 / 2022  :   الوقت  15:08:29",null,null,null,null,null,null,null,null,8]
[7,null,null,null,1,1,0,1,0,1,1,5,"خـمـس",null,null,"ناجح",null,null," فبراير / الخميس /03 / 02 / 2022  :   الوقت  15:08:29",null,null,null,null,null,null,null,null,5]
[8,null,null,null,1,1,1,1,1,1,1,7,"سـبـع",null,null,"ناجح",null,null," فبراير / الخميس /03 / 02 / 2022  :   الوقت  15:08:29",null,null,null,null,null,null,null,null,7]
[9,null,null,null,1,1,1,1,1,0,0,5,"خـمـس",null,null,"ناجح",null,null," فبراير / الخميس /03 / 02 / 2022  :   الوقت  15:08:29",null,null,null,null,null,null,null,null,5]
[10,null,null,null,2,1,1,2,1,1,1,9,"تـسـع",null,null,"ناجح",null,null," فبراير / الخميس /03 / 02 / 2022  :   الوقت  15:08:29",null,null,null,null,null,null,null,null,9]
[11,null,null,null,2,1,1,1,1,1,1,8,"ثـمـان",null,null,"ناجح",null,null," فبراير / الخميس /03 / 02 / 2022  :   الوقت  15:08:29",null,null,null,null,null,null,null,null,8]
[12,null,null,null,"غ","غ","غ","غ","غ","غ","غ","غ","غـائـب",null,null,"غائب",null,null," فبراير / الخميس /03 / 02 / 2022  :   الوقت  15:08:29",null,null,null,null,null,null,null,null,"غ"]
[13,null,null,null,1,1,1,1,1,1,1,7,"سـبـع",null,null,"ناجح",null,null," فبراير / الخميس /03 / 02 / 2022  :   الوقت  15:08:29",null,null,null,null,null,null,null,null,7]
[14,null,null,null,1,1,1,1,1,1,1,7,"سـبـع",null,null,"ناجح",null,null," فبراير / الخميس /03 / 02 / 2022  :   الوقت  15:08:29",null,null,null,null,null,null,null,null,7]
[15,null,null,null,null,"غ","غ","غ","غ","غ","غ","غ","غـائـب",null,null,"غائب",null,null," فبراير / الخميس /03 / 02 / 2022  :   الوقت  15:08:29",null,null,null,null,null,null,null,null,"غ"]
[16,null,null,null,"غ","غ","غ","غ","غ","غ","غ","غ","غـائـب",null,null,"غائب",null,null," فبراير / الخميس /03 / 02 / 2022  :   الوقت  15:08:29",null,null,null,null,null,null,null,null,"غ"]
[17,null,null,null,1,1,0,1,0,1,1,5,"خـمـس",null,null,"ناجح",null,null," فبراير / الخميس /03 / 02 / 2022  :   الوقت  15:08:29",null,null,null,null,null,null,null,null,5]
[18,null,null,null,2,2,1,2,1,1,1,10,"عشر",null,null,"ناجح",null,null," فبراير / الخميس /03 / 02 / 2022  :   الوقت  15:08:29",null,null,null,null,null,null,null,null,10]
[19,null,null,null,1,1,1,1,1,1,1,7,"سـبـع",null,null,"ناجح",null,null," فبراير / الخميس /03 / 02 / 2022  :   الوقت  15:08:29",null,null,null,null,null,null,null,null,7]
[20,null,null,null,"غ","غ","غ","غ","غ","غ","غ","غ","غـائـب",null,null,"غائب",null,null," فبراير / الخميس /03 / 02 / 2022  :   الوقت  15:08:29",null,null,null,null,null,null,null,null,"غ"]
[21,null,null,null,"غ","غ","غ","غ","غ","غ","غ","غ","غـائـب",null,null,"غائب",null,null," فبراير / الخميس /03 / 02 / 2022  :   الوقت  15:08:29",null,null,null,null,null,null,null,null,"غ"]
[22,null,null,null,1,1,1,1,1,1,1,7,"سـبـع",null,null,"ناجح",null,null," فبراير / الخميس /03 / 02 / 2022  :   الوقت  15:08:29",null,null,null,null,null,null,null,null,7]
[23,null,null,null,"غ","غ","غ","غ","غ","غ","غ","غ","غـائـب",null,null,"غائب",null,null," فبراير / الخميس /03 / 02 / 2022  :   الوقت  15:08:29",null,null,null,null,null,null,null,null,"غ"]
[24,null,null,null,1,1,1,1,1,1,1,7,"سـبـع",null,null,"ناجح",null,null," فبراير / الخميس /03 / 02 / 2022  :   الوقت  15:08:29",null,null,null,null,null,null,null,null,7]
[25,null,null,null,2,2,1,2,1,1,1,10,"عشر",null,null,"ناجح",null,null," فبراير / الخميس /03 / 02 / 2022  :   الوقت  15:08:29",null,null,null,null,null,null,null,null,10]
[26,null,null,null,null,null,null,null,null,null,null,null,null,null,null,"",null,null," فبراير / الخميس /03 / 02 / 2022  :   الوقت  13:57:52",null,null,null,null,null,null,null,null,0]
[27,null,null,null,null,null,null,null,null,null,null,null,null,null,null,"",null,null,null,null,null,null,null,null,null,null,null,0]
[28,null,null,null,null,null,null,null,null,null,null,null,null,null,null,"",null,null,null,null,null,null,null,null,null,null,null,0]
[29,null,null,null,null,null,null,null,null,null,null,null,null,null,null,"",null,null,null,null,null,null,null,null,null,null,null,0]
[30,null,null,null,null,null,null,null,null,null,null,null,null,null,null,"",null,null,null,null,null,null,null,null,null,null,null,0]
[31,null,null,null,null,null,null,null,null,null,null,null,null,null,null,"",null,null,null,null,null,null,null,null,null,null,null,0]
[32,null,null,null,null,null,null,null,null,null,null,null,null,null,null,"",null,null,null,null,null,null,null,null,null,null,null,0]
[33,null,null,null,null,null,null,null,null,null,null,null,null,null,null,"",null,null,null,null,null,null,null,null,null,null,null,0]
[]
["المشتركون",null,null,"الممتحنون",null,"الناجحون",null,"الراسبون",null,"الغياب",null,"النسبة %",null,"النسبة الكلية%",null,{"$f":"IFERROR(O39*100/N39,\"\")","v":100}]
[{"$f":"'الرئيسية '!I5","v":"ذكور"},null,{"$f":"'الرئيسية '!I7","v":"اناث"},{"$f":"'الرئيسية '!I5","v":"ذكور"},{"$f":"'الرئيسية '!I7","v":"اناث"},{"$f":"'الرئيسية '!I5","v":"ذكور"},{"$f":"'الرئيسية '!I7","v":"اناث"},{"$f":"'الرئيسية '!I5","v":"ذكور"},{"$f":"'الرئيسية '!I7","v":"اناث"},{"$f":"'الرئيسية '!I5","v":"ذكور"},{"$f":"'الرئيسية '!I7","v":"اناث"},{"$f":"'الرئيسية '!I5","v":"ذكور"},{"$f":"IFERROR(F40*100/D40,\"\")","v":100},{"$f":"D40+E40","v":16},{"$f":"F40+G40","v":16}]
[{"$f":"COUNT(BB7:BB36)+COUNTIF(BB7:BB36,\"ذكر\")","v":0},null,{"$f":"COUNT(BB7:BB36)+COUNTIF(BB7:BB36,\"انثى\")","v":0},{"$f":"COUNT(P7:P36)+COUNTIF(P7:P36,\"ناجح\")+COUNTIF(P7:P36,\"راسب\")+COUNTIF(P7:P36,\"مكمل\")","v":16},{"$f":"COUNT(P7:P36)+COUNTIF(P7:P36,\"ناجحة\")+COUNTIF(P7:P36,\"راسبة\")+COUNTIF(P7:P36,\"مكملة\")","v":0},{"$f":"COUNT(P7:P36)+COUNTIF(P7:P36,\"ناجح\")","v":16},{"$f":"COUNT(P7:P36)+COUNTIF(P7:P36,\"ناجحة\")","v":0},{"$f":"COUNT(P7:P36)+COUNTIF(P7:P36,\"راسب\")","v":0},{"$f":"COUNT(P7:P36)+COUNTIF(P7:P36,\"راسبة\")","v":0},{"$f":"COUNT(P7:P36)+COUNTIF(P7:P36,\"غائب\")","v":6},{"$f":"COUNT(P7:P36)+COUNTIF(P7:P36,\"غائبة\")","v":0},{"$f":"'الرئيسية '!I7","v":"اناث"},{"$f":"IFERROR(G40*100/E40,\"\")","v":""}]
[null,null,{"$f":"'اسماء التلاميذ'!F7","v":0},null,null,null,null,null,null,null,null,null,{"$f":"'اسماء التلاميذ'!B3","v":0}]
[null,null,"معلم المادة",null,null,null,null,null,null,null,null,null,"مدير المدرسة"]

{"sheet":"عربي نهاية السنة","index":31,"n_rows":42,"n_cols":31,"rows_kept":42,"cut":false,"hidden":false,"merged":[[4,1,5,1],[4,2,5,3],[4,11,4,14],[0,0,0,2],[0,5,0,10],[1,0,1,2],[1,5,1,10],[2,0,2,2],[2,5,2,10],[3,14,3,15],[38,0,38,1],[39,0,39,1],[40,12,40,14],[41,12,41,14],[3,0,3,2],[4,4,4,9],[4,10,5,10],[5,12,5,14],[37,0,37,2],[37,3,37,4],[37,5,37,6],[37,7,37,8],[37,9,37,10],[37,11,37,12],[37,13,37,14],[4,0,5,0]]}
["جمهورية العراق",null,null,null,null,"قائمة درجات امتحان نهاية السنة",null,null,null,null,null,null,"الــصــف: ",{"$f":"'اسماء التلاميذ'!F2","v":"الأول"}]
["وزارة التربية",null,null,null,null,"للعام الدراسي",null,null,null,null,null,null,"الـشـعــبة:  ",{"$f":"'اسماء التلاميذ'!F3","v":"أ"},null,null,null,null,null,null,null,null,"قائمة نهاية السنة"]
["إدارة",null,null,null,null,{"$f":"'اسماء التلاميذ'!F4","v":"2021 - 2022"},null,null,null,null,null,null,"الـمــــادة:     ","اللغة العربية"]
[{"$f":"'اسماء التلاميذ'!B2","v":0},null,null,null,null,null,null,null,null,null,null,null,"الـيـوم والتاريـخ:"]
["تسلسل","رقم القبول","الاسم الثلاثي",null,"شفوي",null,null,null,null,null,"المجموع الكلي /3","الدرجة رقما وكتابة"]
[null,null,null,null,"قراءة للمادة 5","محفوظات 5 ","المحادثة للحفظ5 ","المحادثة للمناقشة 5","املاء على السبورة 5","حسن الخط 5",null,"الدرجة النهائية","كتابة",null,null,"حالة التلميذ"]
[4,"نوري",null,null,null,null,null,null,3,3,6,2,"اثنتانِ",null,null,"راسب",null,null," فبراير / الخميس /03 / 02 / 2022  :   الوقت  14:12:49",null,null,null,{"$f":"IFERROR(ROUND((L7),0),\"غ\")","v":2},null,null,null," ",null,null,null,{"$f":"IFERROR(ROUND((L7),0),\"غ\")","v":2}]
[5,"احمد",null,null,2,2,3,3,2,3,15,5,"خـمـس",null,null,"ناجح",null,null," فبراير / الخميس /03 / 02 / 2022  :   الوقت  14:12:48",null,null,null,{"$f":"IFERROR(ROUND((L8),0),\"غ\")","v":5},null,null,null," ",null,null,null,{"$f":"IFERROR(ROUND((L8),0),\"غ\")","v":5}]
[6,null,null,null,4,4,4,4,4,4,24,8,"ثـمـان",null,null,"ناجح",null,null," فبراير / الخميس /03 / 02 / 2022  :   الوقت  14:12:48",null,null,null,8,null,null,null," ",null,null,null,8]
[7,null,null,null,2,3,2,2,3,3,15,5,"خـمـس",null,null,"ناجح",null,null," فبراير / الخميس /03 / 02 / 2022  :   الوقت  14:12:48",null,null,null,5,null,null,null," ",null,null,null,5]
[8,null,null,null,3,3,3,3,3,3,18,6,"سـت",null,null,"ناجح",null,null," فبراير / الخميس /03 / 02 / 2022  :   الوقت  14:12:48",null,null,null,6,null,null,null," ",null,null,null,6]
[9,null,null,null,1,1,1,1,1,1,6,2,"اثنتانِ",null,null,"راسب",null,null," فبراير / الخميس /03 / 02 / 2022  :   الوقت  14:12:48",null,null,null,2,null,null,null," ",null,null,null,2]
[10,null,null,null,4,3,3,4,3,4,21,7,"سـبـع",null,null,"ناجح",null,null," فبراير / الخميس /03 / 02 / 2022  :   الوقت  14:12:48",null,null,null,7,null,null,null," ",null,null,null,7]
[11,null,null,null,3,3,3,3,3,3,18,6,"سـت",null,null,"ناجح",null,null," فبراير / الخميس /03 / 02 / 2022  :   الوقت  14:12:48",null,null,null,6,null,null,null," ",null,null,null,6]
[12,null,null,null,"غ","غ","غ","غ","غ","غ","غ","غ","غـائـب",null,null,"غائب",null,null," فبراير / الخميس /03 / 02 / 2022  :   الوقت  14:12:48",null,null,null,"غ",null,null,null," ",null,null,null,"غ"]
[13,null,null,null,3,3,3,3,3,3,18,6,"سـت",null,null,"ناجح",null,null," فبراير / الخميس /03 / 02 / 2022  :   الوقت  14:12:48",null,null,null,6,null,null,null," ",null,null,null,6]
[14,null,null,null,3,3,3,3,3,3,18,6,"سـت",null,null,"ناجح",null,null," فبراير / الخميس /03 / 02 / 2022  :   الوقت  14:12:48",null,null,null,6,null,null,null," ",null,null,null,6]
[15,null,null,null,"غ","غ","غ","غ","غ","غ","غ","غ","غـائـب",null,null,"غائب",null,null," فبراير / الخميس /03 / 02 / 2022  :   الوقت  14:12:48",null,null,null,"غ",null,null,null," ",null,null,null,"غ"]
[16,null,null,null,"غ","غ","غ","غ","غ","غ","غ","غ","غـائـب",null,null,"غائب",null,null," فبراير / الخميس /03 / 02 / 2022  :   الوقت  14:12:48",null,null,null,"غ",null,null,null," ",null,null,null,"غ"]
[17,null,null,null,1,1,1,1,1,1,6,2,"اثنتانِ",null,null,"راسب",null,null," فبراير / الخميس /03 / 02 / 2022  :   الوقت  14:12:48",null,null,null,2,null,null,null," ",null,null,null,2]
[18,null,null,null,5,4,5,4,4,5,27,9,"تـسـع",null,null,"ناجح",null,null," فبراير / الخميس /03 / 02 / 2022  :   الوقت  14:12:48",null,null,null,9,null,null,null," ",null,null,null,9]
[19,null,null,null,3,3,3,3,3,3,18,6,"سـت",null,null,"ناجح",null,null," فبراير / الخميس /03 / 02 / 2022  :   الوقت  14:12:48",null,null,null,6,null,null,null," ",null,null,null,6]
[20,null,null,null,"غ","غ","غ","غ","غ","غ","غ","غ","غـائـب",null,null,"غائب",null,null," فبراير / الخميس /03 / 02 / 2022  :   الوقت  14:12:48",null,null,null,"غ",null,null,null," ",null,null,null,"غ"]
[21,null,null,null,"غ","غ","غ","غ","غ","غ","غ","غ","غـائـب",null,null,"غائب",null,null," فبراير / الخميس /03 / 02 / 2022  :   الوقت  14:12:48",null,null,null,"غ",null,null,null," ",null,null,null,"غ"]
[22,null,null,null,3,4,3,3,4,4,21,7,"سـبـع",null,null,"ناجح",null,null," فبراير / الخميس /03 / 02 / 2022  :   الوقت  14:12:48",null,null,null,7,null,null,null," ",null,null,null,7]
[23,null,null,null,"غ","غ","غ","غ","غ","غ","غ","غ","غـائـب",null,null,"غائب",null,null," فبراير / الخميس /03 / 02 / 2022  :   الوقت  14:12:48",null,null,null,"غ",null,null,null," ",null,null,null,"غ"]
[24,null,null,null,3,3,3,4,4,4,21,7,"سـبـع",null,null,"ناجح",null,null," فبراير / الخميس /03 / 02 / 2022  :   الوقت  14:12:48",null,null,null,7,null,null,null," ",null,null,null,7]
[25,null,null,null,5,5,5,5,5,5,30,10,"عشر",null,null,"ناجح",null,null," فبراير / الخميس /03 / 02 / 2022  :   الوقت  14:12:48",null,null,null,10,null,null,null," ",null,null,null,10]
[26,null,null,null,null,null,null,null,null,null,null,null,null,null,null,null,null,null,null,null,null,null,0,null,null,null," ",null,null,null,0]
[27,null,null,null,null,null,null,null,null,null,null,null,null,null,null,null,null,null,null,null,null,null,0,null,null,null," ",null,null,null,0]
[28,null,null,null,null,null,null,null,null,null,null,null,null,null,null,null,null,null,null,null,null,null,0,null,null,null," ",null,null,null,0]
[29,null,null,null,null,null,null,null,null,null,null,null,null,null,null,null,null,null,null,null,null,null,0,null,null,null," ",null,null,null,0]
[30,null,null,null,null,null,null,null,null,null,null,null,null,null,null,null,null,null,null,null,null,null,0,null,null,null," ",null,null,null,0]
[31,null,null,null,null,null,null,null,null,null,null,null,null,null,null,null,null,null,null,null,null,null,0,null,null,null," ",null,null,null,0]
[32,null,null,null,null,null,null,null,null,null,null,null,null,null,null,null,null,null,null,null,null,null,0,null,null,null," ",null,null,null,0]
[33,null,null,null,null,null,null,null,null,null,null,null,null,null,null,null,null,null,null,null,null,null,0,null,null,null," ",null,null,null,0]
[]
["المشتركون",null,null,"الممتحنون",null,"الناجحون",null,"الراسبون",null,"الغياب",null,"النسبة %",null,"النسبة الكلية%",null,{"$f":"IFERROR(O39*100/N39,\"\")","v":81.25}]
[{"$f":"'الرئيسية '!I5","v":"ذكور"},null,{"$f":"'الرئيسية '!I7","v":"اناث"},{"$f":"'الرئيسية '!I5","v":"ذكور"},{"$f":"'الرئيسية '!I7","v":"اناث"},{"$f":"'الرئيسية '!I5","v":"ذكور"},{"$f":"'الرئيسية '!I7","v":"اناث"},{"$f":"'الرئيسية '!I5","v":"ذكور"},{"$f":"'الرئيسية '!I7","v":"اناث"},{"$f":"'الرئيسية '!I5","v":"ذكور"},{"$f":"'الرئيسية '!I7","v":"اناث"},{"$f":"'الرئيسية '!I5","v":"ذكور"},{"$f":"IFERROR(F40*100/D40,\"\")","v":81.25},{"$f":"D40+E40","v":16},{"$f":"F40+G40","v":13}]
[{"$f":"COUNT(BB7:BB36)+COUNTIF(BB7:BB36,\"ذكر\")","v":0},null,{"$f":"COUNT(BB7:BB36)+COUNTIF(BB7:BB36,\"انثى\")","v":0},{"$f":"COUNT(P7:P36)+COUNTIF(P7:P36,\"ناجح\")+COUNTIF(P7:P36,\"راسب\")+COUNTIF(P7:P36,\"مكمل\")","v":16},{"$f":"COUNT(P7:P36)+COUNTIF(P7:P36,\"ناجحة\")+COUNTIF(P7:P36,\"راسبة\")+COUNTIF(P7:P36,\"مكملة\")","v":0},{"$f":"COUNT(P7:P36)+COUNTIF(P7:P36,\"ناجح\")","v":13},{"$f":"COUNT(P7:P36)+COUNTIF(P7:P36,\"ناجحة\")","v":0},{"$f":"COUNT(P7:P36)+COUNTIF(P7:P36,\"راسب\")","v":3},{"$f":"COUNT(P7:P36)+COUNTIF(P7:P36,\"راسبة\")","v":0},{"$f":"COUNT(P7:P36)+COUNTIF(P7:P36,\"غائب\")","v":6},1,0.33333333333333331,{"$f":"IFERROR(G40*100/E40,\"\")","v":""}]
[null,null,{"$f":"'اسماء التلاميذ'!F8","v":0},null,null,null,null,null,null,null,null,null,{"$f":"'اسماء التلاميذ'!B3","v":0}]
[null,null,"معلم المادة",null,null,null,null,null,null,null,null,null,"مدير المدرسة"]

{"sheet":"انكليزي نهاية السنة","index":32,"n_rows":42,"n_cols":25,"rows_kept":42,"cut":false,"hidden":false,"merged":[[3,0,3,2],[0,0,0,2],[0,5,0,10],[1,0,1,2],[1,5,1,10],[2,0,2,2],[4,4,4,8],[4,9,4,15],[5,12,5,14],[36,12,36,13],[38,0,38,1],[4,0,5,0],[4,1,5,1],[4,2,5,3],[5,9,5,11],[39,0,39,1],[40,12,40,14],[37,0,37,2],[41,12,41,14],[37,3,37,4],[37,5,37,6],[37,7,37,8],[37,9,37,10],[37,11,37,12],[37,13,37,14]]}
["جمهورية العراق",null,null,null,null,"قائمة درجات امتحان نهاية السنة",null,null,null,null,null,"الصف/ ",{"$f":"'اسماء التلاميذ'!F2","v":"الأول"}]
["وزارة التربية",null,null,null,null,"      للعام الدراسي",null,null,null,null,null,"الشعبة/ ",{"$f":"'اسماء التلاميذ'!F3","v":"أ"},null,null,null,null,null,null,null,null,null,"قائمة نهاية السنة"]
["إدارة",null,null,null,null,null,null,null,{"$f":"'اسماء التلاميذ'!F4","v":"2021 - 2022"},null,null,"المادة/ ","English"]
[{"$f":"'اسماء التلاميذ'!B2","v":0},null,null,null,null,null,null,null,null,null,null,"اليوم والتاريخ/"]
["Sequence","Admission number","Triple student name",null,"Oral Test"]
[null,null,null,null,"   LISTENING COMPREHENSION 2","SPEAKING PRONUNCIITO 2","PRC READING 2","PRC WRITING 2","PARTICIPATION 2","The final grade",null,null,"Writing",null,null,"Student's condition"]
[4,"نوري",null,null,1,1,1,2,2,null,null,7,{"$f":"IFERROR(IF(L7=\"\",\"\",IF(L7=0,\"\",n2t(L7))),\"\")","v":"سـبـع"},null,null,"ناجح",null,null," فبراير / الخميس /03 / 02 / 2022  :   الوقت  13:56:38",null,null,null,null,null,{"$f":"IFERROR(ROUND((#REF!),0),\"غ\")","v":"غ"}]
[5,"احمد",null,null,1,1,1,1,1,null,null,5,{"$f":"IFERROR(IF(L8=\"\",\"\",IF(L8=0,\"\",n2t(L8))),\"\")","v":"خـمـس"},null,null,"ناجح",null,null," فبراير / الخميس /03 / 02 / 2022  :   الوقت  13:56:38",null,null,null,null,null,{"$f":"IFERROR(ROUND((#REF!),0),\"غ\")","v":"غ"}]
[6,null,null,null,1,1,1,2,1,null,null,6,{"$f":"IFERROR(IF(L9=\"\",\"\",IF(L9=0,\"\",n2t(L9))),\"\")","v":"سـت"},null,null,"ناجح",null,null," فبراير / الخميس /03 / 02 / 2022  :   الوقت  13:56:38",null,null,null,null,null,{"$f":"IFERROR(ROUND((#REF!),0),\"غ\")","v":"غ"}]
[7,null,null,null,1,1,1,1,1,null,null,5,{"$f":"IFERROR(IF(L10=\"\",\"\",IF(L10=0,\"\",n2t(L10))),\"\")","v":"خـمـس"},null,null,"ناجح",null,null," فبراير / الخميس /03 / 02 / 2022  :   الوقت  13:56:38",null,null,null,null,null,{"$f":"IFERROR(ROUND((#REF!),0),\"غ\")","v":"غ"}]
[8,null,null,null,1,1,1,2,2,null,null,7,{"$f":"IFERROR(IF(L11=\"\",\"\",IF(L11=0,\"\",n2t(L11))),\"\")","v":"سـبـع"},null,null,"ناجح",null,null," فبراير / الخميس /03 / 02 / 2022  :   الوقت  13:56:38",null,null,null,null,null,{"$f":"IFERROR(ROUND((#REF!),0),\"غ\")","v":"غ"}]
[9,null,null,null,1,1,1,1,1,null,null,5,{"$f":"IFERROR(IF(L12=\"\",\"\",IF(L12=0,\"\",n2t(L12))),\"\")","v":"خـمـس"},null,null,"ناجح",null,null," فبراير / الخميس /03 / 02 / 2022  :   الوقت  13:56:38",null,null,null,null,null,{"$f":"IFERROR(ROUND((#REF!),0),\"غ\")","v":"غ"}]
[10,null,null,null,1,1,1,2,2,null,null,7,{"$f":"IFERROR(IF(L13=\"\",\"\",IF(L13=0,\"\",n2t(L13))),\"\")","v":"سـبـع"},null,null,"ناجح",null,null," فبراير / الخميس /03 / 02 / 2022  :   الوقت  13:56:38",null,null,null,null,null,{"$f":"IFERROR(ROUND((#REF!),0),\"غ\")","v":"غ"}]
[11,null,null,null,1,1,1,2,1,null,null,6,{"$f":"IFERROR(IF(L14=\"\",\"\",IF(L14=0,\"\",n2t(L14))),\"\")","v":"سـت"},null,null,"ناجح",null,null," فبراير / الخميس /03 / 02 / 2022  :   الوقت  13:56:38",null,null,null,null,null,{"$f":"IFERROR(ROUND((#REF!),0),\"غ\")","v":"غ"}]
[12,null,null,null,"غ","غ","غ","غ","غ",null,"غ","غ",{"$f":"IFERROR(IF(L15=\"\",\"\",IF(L15=0,\"\",n2t(L15))),\"\")","v":"غـائـب"},null,null,"غائب",null,null," فبراير / الخميس /03 / 02 / 2022  :   الوقت  13:56:38",null,null,null,null,null,{"$f":"IFERROR(ROUND((#REF!),0),\"غ\")","v":"غ"}]
[13,null,null,null,1,1,1,1,1,null,null,5,{"$f":"IFERROR(IF(L16=\"\",\"\",IF(L16=0,\"\",n2t(L16))),\"\")","v":"خـمـس"},null,null,"ناجح",null,null," فبراير / الخميس /03 / 02 / 2022  :   الوقت  13:56:38",null,null,null,null,null,{"$f":"IFERROR(ROUND((#REF!),0),\"غ\")","v":"غ"}]
[14,null,null,null,1,1,1,1,1,null,null,5,{"$f":"IFERROR(IF(L17=\"\",\"\",IF(L17=0,\"\",n2t(L17))),\"\")","v":"خـمـس"},null,null,"ناجح",null,null," فبراير / الخميس /03 / 02 / 2022  :   الوقت  13:56:38",null,null,null,null,null,{"$f":"IFERROR(ROUND((#REF!),0),\"غ\")","v":"غ"}]
[15,null,null,null,"غ","غ","غ","غ","غ",null,"غ","غ",{"$f":"IFERROR(IF(L18=\"\",\"\",IF(L18=0,\"\",n2t(L18))),\"\")","v":"غـائـب"},null,null,"غائب",null,null," فبراير / الخميس /03 / 02 / 2022  :   الوقت  13:56:38",null,null,null,null,null,{"$f":"IFERROR(ROUND((#REF!),0),\"غ\")","v":"غ"}]
[16,null,null,null,"غ","غ","غ","غ","غ",null,"غ","غ",{"$f":"IFERROR(IF(L19=\"\",\"\",IF(L19=0,\"\",n2t(L19))),\"\")","v":"غـائـب"},null,null,"غائب",null,null," فبراير / الخميس /03 / 02 / 2022  :   الوقت  13:56:38",null,null,null,null,null,{"$f":"IFERROR(ROUND((#REF!),0),\"غ\")","v":"غ"}]
[17,null,null,null,1,1,1,1,2,null,null,6,{"$f":"IFERROR(IF(L20=\"\",\"\",IF(L20=0,\"\",n2t(L20))),\"\")","v":"سـت"},null,null,"ناجح",null,null," فبراير / الخميس /03 / 02 / 2022  :   الوقت  13:56:38",null,null,null,null,null,{"$f":"IFERROR(ROUND((#REF!),0),\"غ\")","v":"غ"}]
[18,null,null,null,1,2,2,2,2,null,null,9,{"$f":"IFERROR(IF(L21=\"\",\"\",IF(L21=0,\"\",n2t(L21))),\"\")","v":"تـسـع"},null,null,"ناجح",null,null," فبراير / الخميس /03 / 02 / 2022  :   الوقت  13:56:38",null,null,null,null,null,{"$f":"IFERROR(ROUND((#REF!),0),\"غ\")","v":"غ"}]
[19,null,null,null,1,1,1,2,1,null,null,6,{"$f":"IFERROR(IF(L22=\"\",\"\",IF(L22=0,\"\",n2t(L22))),\"\")","v":"سـت"},null,null,"ناجح",null,null," فبراير / الخميس /03 / 02 / 2022  :   الوقت  13:56:38",null,null,null,null,null,{"$f":"IFERROR(ROUND((#REF!),0),\"غ\")","v":"غ"}]
[20,null,null,null,"غ","غ","غ","غ","غ",null,"غ","غ",{"$f":"IFERROR(IF(L23=\"\",\"\",IF(L23=0,\"\",n2t(L23))),\"\")","v":"غـائـب"},null,null,"غائب",null,null," فبراير / الخميس /03 / 02 / 2022  :   الوقت  13:56:38",null,null,null,null,null,{"$f":"IFERROR(ROUND((#REF!),0),\"غ\")","v":"غ"}]
[21,null,null,null,"غ","غ","غ","غ","غ",null,"غ","غ",{"$f":"IFERROR(IF(L24=\"\",\"\",IF(L24=0,\"\",n2t(L24))),\"\")","v":"غـائـب"},null,null,"غائب",null,null," فبراير / الخميس /03 / 02 / 2022  :   الوقت  13:56:38",null,null,null,null,null,{"$f":"IFERROR(ROUND((#REF!),0),\"غ\")","v":"غ"}]
[22,null,null,null,1,1,1,1,1,null,null,5,{"$f":"IFERROR(IF(L25=\"\",\"\",IF(L25=0,\"\",n2t(L25))),\"\")","v":"خـمـس"},null,null,"ناجح",null,null," فبراير / الخميس /03 / 02 / 2022  :   الوقت  13:56:38",null,null,null,null,null,{"$f":"IFERROR(ROUND((#REF!),0),\"غ\")","v":"غ"}]
[23,null,null,null,"غ","غ","غ","غ","غ",null,"غ","غ",{"$f":"IFERROR(IF(L26=\"\",\"\",IF(L26=0,\"\",n2t(L26))),\"\")","v":"غـائـب"},null,null,"غائب",null,null," فبراير / الخميس /03 / 02 / 2022  :   الوقت  13:56:38",null,null,null,null,null,{"$f":"IFERROR(ROUND((#REF!),0),\"غ\")","v":"غ"}]
[24,null,null,null,1,1,1,1,2,null,null,6,{"$f":"IFERROR(IF(L27=\"\",\"\",IF(L27=0,\"\",n2t(L27))),\"\")","v":"سـت"},null,null,"ناجح",null,null," فبراير / الخميس /03 / 02 / 2022  :   الوقت  13:56:38",null,null,null,null,null,{"$f":"IFERROR(ROUND((#REF!),0),\"غ\")","v":"غ"}]
[25,null,null,null,2,2,2,2,2,null,null,10,{"$f":"IFERROR(IF(L28=\"\",\"\",IF(L28=0,\"\",n2t(L28))),\"\")","v":"عشر"},null,null,"ناجح",null,null," فبراير / الخميس /03 / 02 / 2022  :   الوقت  13:56:38",null,null,null,null,null,{"$f":"IFERROR(ROUND((#REF!),0),\"غ\")","v":"غ"}]
[26,null,null,null,null,null,null,null,null,null,null,null,null,null,null,null,null,null," فبراير / الخميس /03 / 02 / 2022  :   الوقت  13:56:49",null,null,null,null,null,{"$f":"IFERROR(ROUND((#REF!),0),\"غ\")","v":"غ"}]
[27,null,null,null,null,null,null,null,null,null,null,null,{"$f":"IFERROR(IF(L30=\"\",\"\",IF(L30=0,\"\",n2t(L30))),\"\")","v":""},null,null,null,null,null,null,null,null,null,null,null,{"$f":"IFERROR(ROUND((#REF!),0),\"غ\")","v":"غ"}]
[28,null,null,null,null,null,null,null,null,null,null,null,{"$f":"IFERROR(IF(L31=\"\",\"\",IF(L31=0,\"\",n2t(L31))),\"\")","v":""},null,null,null,null,null,null,null,null,null,null,null,{"$f":"IFERROR(ROUND((#REF!),0),\"غ\")","v":"غ"}]
[29,null,null,null,null,null,null,null,null,null,null,null,{"$f":"IFERROR(IF(L32=\"\",\"\",IF(L32=0,\"\",n2t(L32))),\"\")","v":""},null,null,null,null,null,null,null,null,null,null,null,{"$f":"IFERROR(ROUND((#REF!),0),\"غ\")","v":"غ"}]
[30,null,null,null,null,null,null,null,null,null,null,null,{"$f":"IFERROR(IF(L33=\"\",\"\",IF(L33=0,\"\",n2t(L33))),\"\")","v":""},null,null,null,null,null,null,null,null,null,null,null,{"$f":"IFERROR(ROUND((#REF!),0),\"غ\")","v":"غ"}]
[31,null,null,null,null,null,null,null,null,null,null,null,{"$f":"IFERROR(IF(L34=\"\",\"\",IF(L34=0,\"\",n2t(L34))),\"\")","v":""},null,null,null,null,null,null,null,null,null,null,null,{"$f":"IFERROR(ROUND((#REF!),0),\"غ\")","v":"غ"}]
[32,null,null,null,null,null,null,null,null,null,null,null,{"$f":"IFERROR(IF(L35=\"\",\"\",IF(L35=0,\"\",n2t(L35))),\"\")","v":""},null,null,null,null,null,null,null,null,null,null,null,{"$f":"IFERROR(ROUND((#REF!),0),\"غ\")","v":"غ"}]
[33,null,null,null,null,null,null,null,null,null,null,null,{"$f":"IFERROR(IF(L36=\"\",\"\",IF(L36=0,\"\",n2t(L36))),\"\")","v":""},null,null,null,null,null,null,null,null,null,null,null,{"$f":"IFERROR(ROUND((#REF!),0),\"غ\")","v":"غ"}]
[]
["المشتركون",null,null,"الممتحنون",null,"الناجحون",null,"الراسبون",null,"الغياب",null,"النسبة %",null,"النسبة الكلية%",null,{"$f":"IFERROR(O39*100/N39,\"\")","v":100}]
[{"$f":"'الرئيسية '!I5","v":"ذكور"},null,{"$f":"'الرئيسية '!I7","v":"اناث"},{"$f":"'الرئيسية '!I5","v":"ذكور"},{"$f":"'الرئيسية '!I7","v":"اناث"},{"$f":"'الرئيسية '!I5","v":"ذكور"},{"$f":"'الرئيسية '!I7","v":"اناث"},{"$f":"'الرئيسية '!I5","v":"ذكور"},{"$f":"'الرئيسية '!I7","v":"اناث"},{"$f":"'الرئيسية '!I5","v":"ذكور"},{"$f":"'الرئيسية '!I7","v":"اناث"},{"$f":"'الرئيسية '!I5","v":"ذكور"},{"$f":"IFERROR(F40*100/D40,\"\")","v":100},{"$f":"D40+E40","v":16},{"$f":"F40+G40","v":16}]
[{"$f":"COUNT(BB7:BB36)+COUNTIF(BB7:BB36,\"ذكر\")","v":0},null,{"$f":"COUNT(BB7:BB36)+COUNTIF(BB7:BB36,\"انثى\")","v":0},{"$f":"COUNT(P7:P36)+COUNTIF(P7:P36,\"ناجح\")+COUNTIF(P7:P36,\"راسب\")+COUNTIF(P7:P36,\"مكمل\")","v":16},{"$f":"COUNT(P7:P36)+COUNTIF(P7:P36,\"ناجحة\")+COUNTIF(P7:P36,\"راسبة\")+COUNTIF(P7:P36,\"مكملة\")","v":0},{"$f":"COUNT(P7:P36)+COUNTIF(P7:P36,\"ناجح\")","v":16},{"$f":"COUNT(P7:P36)+COUNTIF(P7:P36,\"ناجحة\")","v":0},{"$f":"COUNT(P7:P36)+COUNTIF(P7:P36,\"راسب\")","v":0},{"$f":"COUNT(P7:P36)+COUNTIF(P7:P36,\"راسبة\")","v":0},{"$f":"COUNT(P7:P36)+COUNTIF(P7:P36,\"غائب\")","v":6},{"$f":"COUNT(P7:P36)+COUNTIF(P7:P36,\"غائبة\")","v":0},{"$f":"'الرئيسية '!I7","v":"اناث"},{"$f":"IFERROR(G40*100/E40,\"\")","v":""}]
[null,null,{"$f":"'اسماء التلاميذ'!F10","v":0},null,null,null,null,null,null,null,null,null,{"$f":"'اسماء التلاميذ'!B3","v":0}]
[null,null,"معلم المادة",null,null,null,null,null,null,null,null,null,"مدير المدرسة"]

{"sheet":"رياضيات نهاية السنة","index":33,"n_rows":42,"n_cols":23,"rows_kept":42,"cut":false,"hidden":false,"merged":[[37,13,37,14],[4,0,5,0],[4,1,5,1],[4,5,4,7],[5,6,5,7],[4,2,5,4],[37,3,37,4],[37,5,37,6],[37,7,37,8],[37,9,37,10],[37,11,37,12],[38,0,38,1],[39,0,39,1],[40,12,40,14],[41,12,41,14],[0,4,0,9],[1,4,1,9],[2,4,2,9],[0,0,0,3],[1,0,1,3],[2,0,2,3],[3,0,3,3],[3,10,3,12],[3,13,3,15],[4,8,5,13],[4,14,5,15],[37,0,37,2]]}
["جمهورية العراق",null,null,null,"قائمة درجات امتحان نهاية السنة",null,null,null,null,null,"الــصـــف:",null,{"$f":"'اسماء التلاميذ'!F2","v":"الأول"}]
["وزارة التربية",null,null,null,"للعام الدراسي",null,null,null,null,null,"الــشــعـبة:",null,{"$f":"'اسماء التلاميذ'!F3","v":"أ"},null,null,null,null,null,null,null,"n",null,"قائمة نهاية السنة"]
["إدارة",null,null,null,{"$f":"'اسماء التلاميذ'!F4","v":"2021 - 2022"},null,null,null,null,null,"الــمــــادة:",null,"رياضيات"]
[{"$f":"'اسماء التلاميذ'!B2","v":0},null,null,null,null,null,null,null,null,null,"الـيوم والتـاريخ:"]
["ت","رقم القيد","الاسم الثلاثي",null,null,"الدرجة رقما وكتابة",null,null,"الملاحظات",null,null,null,null,null,"النتيجة"]
[null,null,null,null,null,"رقما","كتابة"]
[4,"نوري",null,null,null,7,"سـبـع",null,null,null,null,null,null,null,null,"ناجح",null,null," فبراير / الخميس /03 / 02 / 2022  :   الوقت  13:48:47"]
[5,"احمد",null,null,null,5,"خـمـس",null,null,null,null,null,null,null,null,"ناجح"]
[6,null,null,null,null,8,"ثـمـان",null,null,null,null,null,null,null,null,"ناجح"]
[7,null,null,null,null,5,"خـمـس",null,null,null,null,null,null,null,null,"ناجح"]
[8,null,null,null,null,7,"سـبـع",null,null,null,null,null,null,null,null,"ناجح"]
[9,null,null,null,null,2,"اثنتانِ",null,null,null,null,null,null,null,null,"راسب"]
[10,null,null,null,null,7,"سـبـع",null,null,null,null,null,null,null,null,"ناجح"]
[11,null,null,null,null,7,"سـبـع",null,null,null,null,null,null,null,null,"ناجح"]
[12,null,null,null,null,"غ","غـائـب",null,null,null,null,null,null,null,null,"غائب"]
[13,null,null,null,null,6,"سـت",null,null,null,null,null,null,null,null,"ناجح"]
[14,null,null,null,null,6,"سـت",null,null,null,null,null,null,null,null,"ناجح"]
[15,null,null,null,null,"غ","غـائـب",null,null,null,null,null,null,null,null,"غائب"]
[16,null,null,null,null,"غ","غـائـب",null,null,null,null,null,null,null,null,"غائب"]
[17,null,null,null,null,5,"خـمـس",null,null,null,null,null,null,null,null,"ناجح"]
[18,null,null,null,null,10,"عشر",null,null,null,null,null,null,null,null,"ناجح"]
[19,null,null,null,null,6,"سـت",null,null,null,null,null,null,null,null,"ناجح"]
[20,null,null,null,null,"غ","غـائـب",null,null,null,null,null,null,null,null,"غائب"]
[21,null,null,null,null,"غ","غـائـب",null,null,null,null,null,null,null,null,"غائب"]
[22,null,null,null,null,7,"سـبـع",null,null,null,null,null,null,null,null,"ناجح"]
[23,null,null,null,null,"غ","غـائـب",null,null,null,null,null,null,null,null,"غائب"]
[24,null,null,null,null,3,"ثـلاث",null,null,null,null,null,null,null,null,"راسب"]
[25,null,null,null,null,10,"عشر",null,null,null,null,null,null,null,null,"ناجح"]
[26]
[27]
[28]
[29]
[30]
[31]
[32]
[33]
[]
["المشتركون",null,null,"الممتحنون",null,"الناجحون",null,"الراسبون",null,"الغياب",null,"النسبة %",null,"النسبة الكلية%",null,{"$f":"IFERROR(O39*100/N39,\"\")","v":87.5}]
[{"$f":"'الرئيسية '!I5","v":"ذكور"},null,{"$f":"'الرئيسية '!I7","v":"اناث"},{"$f":"'الرئيسية '!I5","v":"ذكور"},{"$f":"'الرئيسية '!I7","v":"اناث"},{"$f":"'الرئيسية '!I5","v":"ذكور"},{"$f":"'الرئيسية '!I7","v":"اناث"},{"$f":"'الرئيسية '!I5","v":"ذكور"},{"$f":"'الرئيسية '!I7","v":"اناث"},{"$f":"'الرئيسية '!I5","v":"ذكور"},{"$f":"'الرئيسية '!I7","v":"اناث"},{"$f":"'الرئيسية '!I5","v":"ذكور"},{"$f":"IFERROR(F40*100/D40,\"\")","v":87.5},{"$f":"D40+E40","v":16},{"$f":"F40+G40","v":14}]
[{"$f":"COUNT(BB7:BB36)+COUNTIF(BB7:BB36,\"ذكر\")","v":0},null,{"$f":"COUNT(BB7:BB36)+COUNTIF(BB7:BB36,\"انثى\")","v":0},{"$f":"COUNT(P7:P36)+COUNTIF(P7:P36,\"ناجح\")+COUNTIF(P7:P36,\"راسب\")+COUNTIF(P7:P36,\"مكمل\")","v":16},{"$f":"COUNT(P7:P36)+COUNTIF(P7:P36,\"ناجحة\")+COUNTIF(P7:P36,\"راسبة\")+COUNTIF(P7:P36,\"مكملة\")","v":0},{"$f":"COUNT(P7:P36)+COUNTIF(P7:P36,\"ناجح\")","v":14},{"$f":"COUNT(P7:P36)+COUNTIF(P7:P36,\"ناجحة\")","v":0},{"$f":"COUNT(P7:P36)+COUNTIF(P7:P36,\"راسب\")","v":2},{"$f":"COUNT(P7:P36)+COUNTIF(P7:P36,\"راسبة\")","v":0},{"$f":"COUNT(P7:P36)+COUNTIF(P7:P36,\"غائب\")","v":6},{"$f":"COUNT(P7:P36)+COUNTIF(P7:P36,\"غائبة\")","v":0},{"$f":"'الرئيسية '!I7","v":"اناث"},{"$f":"IFERROR(G40*100/E40,\"\")","v":""}]
[null,null,{"$f":"'اسماء التلاميذ'!F9","v":0},null,null,null,null,null,null,null,null,null,{"$f":"'اسماء التلاميذ'!B3","v":0}]
[null,null,"معلم المادة",null,null,null,null,null,null,null,null,null,"مدير المدرسة"]

{"sheet":"علوم نهاية السنة","index":34,"n_rows":42,"n_cols":23,"rows_kept":42,"cut":false,"hidden":false,"merged":[[37,0,37,2],[37,3,37,4],[37,5,37,6],[37,7,37,8],[37,9,37,10],[4,1,5,1],[4,5,4,7],[5,6,5,7],[4,2,5,4],[4,14,5,15],[4,8,5,13],[38,0,38,1],[39,0,39,1],[40,12,40,14],[41,12,41,14],[0,4,0,8],[0,0,0,3],[1,0,1,3],[1,5,1,7],[2,0,2,3],[2,5,2,7],[3,0,3,3],[3,10,3,12],[3,13,3,15],[37,11,37,12],[37,13,37,14],[4,0,5,0]]}
["جمهورية العراق",null,null,null,"قائمة درجات امتحان نهاية السنة",null,null,null,null,null,"الــصـــف:",null,{"$f":"'اسماء التلاميذ'!F2","v":"الأول"}]
["وزارة التربية",null,null,null,null,"للعام الدراسي",null,null,null,null,"الــشــعبـة:",null,{"$f":"'اسماء التلاميذ'!F3","v":"أ"},null,null,null,null,null,null,null,"n",null,"قائمة نهاية السنة"]
["إدارة",null,null,null,null,{"$f":"'اسماء التلاميذ'!F4","v":"2021 - 2022"},null,null,null,null,"الـــمـــادة:",null,"علوم"]
[{"$f":"'اسماء التلاميذ'!B2","v":0},null,null,null,null,null,null,null,null,null,"الـيوم والتـاريخ:"]
["ت","رقم القيد","الاسم الثلاثي",null,null,"الدرجة رقما وكتابة",null,null,"الملاحظات",null,null,null,null,null,"النتيجة"]
[null,null,null,null,null,"رقما","كتابة"]
[4,"نوري",null,null,null,6,"سـت",null,null,null,null,null,null,null,null,"ناجح"]
[5,"احمد",null,null,null,5,"خـمـس",null,null,null,null,null,null,null,null,"ناجح"]
[6,null,null,null,null,7,"سـبـع",null,null,null,null,null,null,null,null,"ناجح"]
[7,null,null,null,null,5,"خـمـس",null,null,null,null,null,null,null,null,"ناجح"]
[8,null,null,null,null,6,"سـت",null,null,null,null,null,null,null,null,"ناجح"]
[9,null,null,null,null,2,"اثنتانِ",null,null,null,null,null,null,null,null,"راسب"]
[10,null,null,null,null,8,"ثـمـان",null,null,null,null,null,null,null,null,"ناجح"]
[11,null,null,null,null,5,"خـمـس",null,null,null,null,null,null,null,null,"ناجح"]
[12,null,null,null,null,"غ","غـائـب",null,null,null,null,null,null,null,null,"غائب"]
[13,null,null,null,null,6,"سـت",null,null,null,null,null,null,null,null,"ناجح"]
[14,null,null,null,null,6,"سـت",null,null,null,null,null,null,null,null,"ناجح"]
[15,null,null,null,null,"غ","غـائـب",null,null,null,null,null,null,null,null,"غائب"]
[16,null,null,null,null,"غ","غـائـب",null,null,null,null,null,null,null,null,"غائب"]
[17,null,null,null,null,5,"خـمـس",null,null,null,null,null,null,null,null,"ناجح"]
[18,null,null,null,null,10,"عشر",null,null,null,null,null,null,null,null,"ناجح"]
[19,null,null,null,null,7,"سـبـع",null,null,null,null,null,null,null,null,"ناجح"]
[20,null,null,null,null,"غ","غـائـب",null,null,null,null,null,null,null,null,"غائب"]
[21,null,null,null,null,"غ","غـائـب",null,null,null,null,null,null,null,null,"غائب"]
[22,null,null,null,null,6,"سـت",null,null,null,null,null,null,null,null,"ناجح"]
[23,null,null,null,null,"غ","غـائـب",null,null,null,null,null,null,null,null,"غائب"]
[24,null,null,null,null,7,"سـبـع",null,null,null,null,null,null,null,null,"ناجح"]
[25,null,null,null,null,10,"عشر",null,null,null,null,null,null,null,null,"ناجح"]
[26]
[27]
[28]
[29]
[30]
[31]
[32]
[33]
[]
["المشتركون",null,null,"الممتحنون",null,"الناجحون",null,"الراسبون",null,"الغياب",null,"النسبة %",null,"النسبة الكلية%",null,{"$f":"IFERROR(O39*100/N39,\"\")","v":93.75}]
[{"$f":"'الرئيسية '!I5","v":"ذكور"},null,{"$f":"'الرئيسية '!I7","v":"اناث"},{"$f":"'الرئيسية '!I5","v":"ذكور"},{"$f":"'الرئيسية '!I7","v":"اناث"},{"$f":"'الرئيسية '!I5","v":"ذكور"},{"$f":"'الرئيسية '!I7","v":"اناث"},{"$f":"'الرئيسية '!I5","v":"ذكور"},{"$f":"'الرئيسية '!I7","v":"اناث"},{"$f":"'الرئيسية '!I5","v":"ذكور"},{"$f":"'الرئيسية '!I7","v":"اناث"},{"$f":"'الرئيسية '!I5","v":"ذكور"},{"$f":"IFERROR(F40*100/D40,\"\")","v":93.75},{"$f":"D40+E40","v":16},{"$f":"F40+G40","v":15}]
[{"$f":"COUNT(BB7:BB36)+COUNTIF(BB7:BB36,\"ذكر\")","v":0},null,{"$f":"COUNT(BB7:BB36)+COUNTIF(BB7:BB36,\"انثى\")","v":0},{"$f":"COUNT(P7:P36)+COUNTIF(P7:P36,\"ناجح\")+COUNTIF(P7:P36,\"راسب\")+COUNTIF(P7:P36,\"مكمل\")","v":16},{"$f":"COUNT(P7:P36)+COUNTIF(P7:P36,\"ناجحة\")+COUNTIF(P7:P36,\"راسبة\")+COUNTIF(P7:P36,\"مكملة\")","v":0},{"$f":"COUNT(P7:P36)+COUNTIF(P7:P36,\"ناجح\")","v":15},{"$f":"COUNT(P7:P36)+COUNTIF(P7:P36,\"ناجحة\")","v":0},{"$f":"COUNT(P7:P36)+COUNTIF(P7:P36,\"راسب\")","v":1},{"$f":"COUNT(P7:P36)+COUNTIF(P7:P36,\"راسبة\")","v":0},{"$f":"COUNT(P7:P36)+COUNTIF(P7:P36,\"غائب\")","v":6},{"$f":"COUNT(P7:P36)+COUNTIF(P7:P36,\"غائبة\")","v":0},{"$f":"'الرئيسية '!I7","v":"اناث"},{"$f":"IFERROR(G40*100/E40,\"\")","v":""}]
[null,null,{"$f":"'اسماء التلاميذ'!F11","v":0},null,null,null,null,null,null,null,null,null,{"$f":"'اسماء التلاميذ'!B3","v":0}]
[null,null,"معلم المادة",null,null,null,null,null,null,null,null,null,"مدير المدرسة"]

{"sheet":"درجات شهادات","index":35,"n_rows":52,"n_cols":74,"rows_kept":52,"cut":false,"hidden":false,"merged":[[4,5,5,5],[4,6,5,6],[4,7,5,7],[4,8,5,8],[4,17,5,17],[4,11,5,11],[4,12,5,12],[4,13,5,13],[4,14,5,14],[4,15,5,15],[4,16,5,16],[4,0,5,0],[4,1,5,1],[4,2,5,2],[4,3,5,3],[4,4,5,4],[4,63,5,63],[4,64,5,64],[4,65,5,65],[4,9,5,9],[4,10,5,10],[4,18,5,18],[4,58,5,58],[4,59,5,59],[4,60,5,60],[4,61,5,61],[4,62,5,62]]}
[1,2,3,4,5,6,7,8,9,10,11,12,13,14,15,16,17,18,null,20,21,22,23,24,25,26,27,28,29,30,31,32,33,34,35,36,37,38,39,40,41,42,43,44,45,46,47,48,49,null,51,52,53,54,55,56,57,58,59,60,61,62,63,64,65,66,67,68,69,70,71,72,73,74]
[]
[]
[null,null,null,null,null,"نصف السنة",null,null,null,null,null,null,"نهاية السنة"]
["ت","رقم القبول","الاسم الثلاثي","الجنس","التربية الإسلامية","اللغة العربية","الرياضيات","العلوم","الإنكليزي","الفنية والنشيد","التربية الرياضية","التربية الإسلامية","اللغة العربية","رياضيات","علوم","إنكليزي","فنية","رياضة",null,null,null,null,null,null,null,null,null,null,null,null,null,null,null,null,null,null,null,null,null,null,null,null,null,null,null,null,null,null,null,null,null,null,null,null,null,null,null,null,"التربية الإسلامية","اللغة العربية","الإنكليزي","الرياضيات","العلوم","الاجتماعيات","الفنية والنشيد","التربية الرياضة"]
[null,null,null,null,null,null,null,null,null,null,null,null,null,null,null,null,null,null,null,"المدرسة","المدير","المرشد","السنة","الصف","الشعبة","مسؤول الكنترول",null,28,null,null,null,null,null,"نصف السنة","إسلامية",null,null,null,null,null,"رياضة",null,"نهاية السنة"]
[4,"نوري",null,"ذكر",{"$f":"IFERROR(ROUND((AI7),0),\"غ\")","v":7},{"$f":"IFERROR(ROUND((AJ7),0),\"غ\")","v":6},7,6,7,9,10,{"$f":"IFERROR(ROUND((AQ7),0),\"غ\")","v":7},{"$f":"IFERROR(ROUND((AR7),0),\"غ\")","v":2},7,6,7,9,10,null,{"$f":"'اسماء التلاميذ'!B$2","v":0},{"$f":"'اسماء التلاميذ'!B$3","v":0},{"$f":"'اسماء التلاميذ'!B$4","v":0},{"$f":"'اسماء التلاميذ'!F$4","v":"2021 - 2022"},{"$f":"'اسماء التلاميذ'!F$2","v":"الأول"},{"$f":"'اسماء التلاميذ'!F$3","v":"أ"},{"$f":"'اسماء التلاميذ'!F$37","v":"سعد حميد خلف"},{"$f":"'اسماء التلاميذ'!D7","v":0},{"$f":"'قائمة امتحان نصف السنة'!P7","v":"ناجح"},{"$f":"'قائمة نهاية السنة'!P7","v":"مكمل بدرس"},null,null,null,null,{"$f":"'قائمة امتحان نصف السنة'!D7","v":0},{"$f":"'قائمة امتحان نصف السنة'!E7","v":7},{"$f":"'قائمة امتحان نصف السنة'!F7","v":6},{"$f":"'قائمة امتحان نصف السنة'!G7","v":7},{"$f":"'قائمة امتحان نصف السنة'!H7","v":6},{"$f":"'قائمة امتحان نصف السنة'!I7","v":7},{"$f":"'قائمة امتحان نصف السنة'!J7","v":9},{"$f":"'قائمة امتحان نصف السنة'!K7","v":10},null,{"$f":"'قائمة نهاية السنة'!E7","v":7},{"$f":"'قائمة نهاية السنة'!F7","v":2},{"$f":"'قائمة نهاية السنة'!G7","v":7},{"$f":"'قائمة نهاية السنة'!H7","v":6},{"$f":"'قائمة نهاية السنة'!I7","v":7},{"$f":"'قائمة نهاية السنة'!J7","v":9},{"$f":"'قائمة نهاية السنة'!K7","v":10}]
[5,"احمد",null,"ذكر",{"$f":"IFERROR(ROUND((AI8),0),\"غ\")","v":6},{"$f":"IFERROR(ROUND((AJ8),0),\"غ\")","v":5},{"$f":"IFERROR(ROUND((AK8),0),\"غ\")","v":5},{"$f":"IFERROR(ROUND((AL8),0),\"غ\")","v":5},{"$f":"IFERROR(ROUND((AM8),0),\"غ\")","v":5},{"$f":"IFERROR(ROUND((AN8),0),\"غ\")","v":9},{"$f":"IFERROR(ROUND((AO8),0),\"غ\")","v":10},{"$f":"IFERROR(ROUND((AQ8),0),\"غ\")","v":6},{"$f":"IFERROR(ROUND((AR8),0),\"غ\")","v":5},{"$f":"IFERROR(ROUND((AS8),0),\"غ\")","v":5},{"$f":"IFERROR(ROUND((AT8),0),\"غ\")","v":5},{"$f":"IFERROR(ROUND((AU8),0),\"غ\")","v":5},{"$f":"IFERROR(ROUND((AV8),0),\"غ\")","v":9},{"$f":"IFERROR(ROUND((AW8),0),\"غ\")","v":10},null,{"$f":"'اسماء التلاميذ'!B$2","v":0},{"$f":"'اسماء التلاميذ'!B$3","v":0},{"$f":"'اسماء التلاميذ'!B$4","v":0},{"$f":"'اسماء التلاميذ'!F$4","v":"2021 - 2022"},{"$f":"'اسماء التلاميذ'!F$2","v":"الأول"},{"$f":"'اسماء التلاميذ'!F$3","v":"أ"},{"$f":"'اسماء التلاميذ'!F$37","v":"سعد حميد خلف"},{"$f":"'اسماء التلاميذ'!D8","v":0},{"$f":"'قائمة امتحان نصف السنة'!P8","v":"ناجح"},{"$f":"'قائمة نهاية السنة'!P8","v":"ناجح"},null,null,null,null,{"$f":"'قائمة امتحان نصف السنة'!D8","v":0},{"$f":"'قائمة امتحان نصف السنة'!E8","v":6},{"$f":"'قائمة امتحان نصف السنة'!F8","v":5},{"$f":"'قائمة امتحان نصف السنة'!G8","v":5},{"$f":"'قائمة امتحان نصف السنة'!H8","v":5},{"$f":"'قائمة امتحان نصف السنة'!I8","v":5},{"$f":"'قائمة امتحان نصف السنة'!J8","v":9},{"$f":"'قائمة امتحان نصف السنة'!K8","v":10},null,{"$f":"'قائمة نهاية السنة'!E8","v":6},{"$f":"'قائمة نهاية السنة'!F8","v":5},{"$f":"'قائمة نهاية السنة'!G8","v":5},{"$f":"'قائمة نهاية السنة'!H8","v":5},{"$f":"'قائمة نهاية السنة'!I8","v":5},{"$f":"'قائمة نهاية السنة'!J8","v":9},{"$f":"'قائمة نهاية السنة'!K8","v":10}]
[6,null,null,"ذكر",8,8,8,7,6,10,10,8,8,8,7,6,10,10,null,{"$f":"'اسماء التلاميذ'!B$2","v":0},{"$f":"'اسماء التلاميذ'!B$3","v":0},{"$f":"'اسماء التلاميذ'!B$4","v":0},{"$f":"'اسماء التلاميذ'!F$4","v":"2021 - 2022"},{"$f":"'اسماء التلاميذ'!F$2","v":"الأول"},{"$f":"'اسماء التلاميذ'!F$3","v":"أ"},{"$f":"'اسماء التلاميذ'!F$37","v":"سعد حميد خلف"},{"$f":"'اسماء التلاميذ'!D9","v":0},{"$f":"'قائمة امتحان نصف السنة'!P9","v":"ناجح"},{"$f":"'قائمة نهاية السنة'!P9","v":"ناجح"},null,null,null,null,{"$f":"'قائمة امتحان نصف السنة'!D9","v":0},{"$f":"'قائمة امتحان نصف السنة'!E9","v":8},{"$f":"'قائمة امتحان نصف السنة'!F9","v":8},{"$f":"'قائمة امتحان نصف السنة'!G9","v":8},{"$f":"'قائمة امتحان نصف السنة'!H9","v":7},{"$f":"'قائمة امتحان نصف السنة'!I9","v":6},{"$f":"'قائمة امتحان نصف السنة'!J9","v":10},{"$f":"'قائمة امتحان نصف السنة'!K9","v":10},null,{"$f":"'قائمة نهاية السنة'!E9","v":8},{"$f":"'قائمة نهاية السنة'!F9","v":8},{"$f":"'قائمة نهاية السنة'!G9","v":8},{"$f":"'قائمة نهاية السنة'!H9","v":7},{"$f":"'قائمة نهاية السنة'!I9","v":6},{"$f":"'قائمة نهاية السنة'!J9","v":10},{"$f":"'قائمة نهاية السنة'!K9","v":10}]
[7,null,null,"ذكر",5,5,5,5,5,9,9,5,5,5,5,5,9,9,null,{"$f":"'اسماء التلاميذ'!B$2","v":0},{"$f":"'اسماء التلاميذ'!B$3","v":0},{"$f":"'اسماء التلاميذ'!B$4","v":0},{"$f":"'اسماء التلاميذ'!F$4","v":"2021 - 2022"},{"$f":"'اسماء التلاميذ'!F$2","v":"الأول"},{"$f":"'اسماء التلاميذ'!F$3","v":"أ"},{"$f":"'اسماء التلاميذ'!F$37","v":"سعد حميد خلف"},{"$f":"'اسماء التلاميذ'!D10","v":0},{"$f":"'قائمة امتحان نصف السنة'!P10","v":"ناجح"},{"$f":"'قائمة نهاية السنة'!P10","v":"ناجح"},null,null,null,null,{"$f":"'قائمة امتحان نصف السنة'!D10","v":0},{"$f":"'قائمة امتحان نصف السنة'!E10","v":5},{"$f":"'قائمة امتحان نصف السنة'!F10","v":5},{"$f":"'قائمة امتحان نصف السنة'!G10","v":5},{"$f":"'قائمة امتحان نصف السنة'!H10","v":5},{"$f":"'قائمة امتحان نصف السنة'!I10","v":5},{"$f":"'قائمة امتحان نصف السنة'!J10","v":9},{"$f":"'قائمة امتحان نصف السنة'!K10","v":9},null,{"$f":"'قائمة نهاية السنة'!E10","v":5},{"$f":"'قائمة نهاية السنة'!F10","v":5},{"$f":"'قائمة نهاية السنة'!G10","v":5},{"$f":"'قائمة نهاية السنة'!H10","v":5},{"$f":"'قائمة نهاية السنة'!I10","v":5},{"$f":"'قائمة نهاية السنة'!J10","v":9},{"$f":"'قائمة نهاية السنة'!K10","v":9}]
[8,null,null,"ذكر",7,6,7,6,7,9,10,7,6,7,6,7,9,10,null,{"$f":"'اسماء التلاميذ'!B$2","v":0},{"$f":"'اسماء التلاميذ'!B$3","v":0},{"$f":"'اسماء التلاميذ'!B$4","v":0},{"$f":"'اسماء التلاميذ'!F$4","v":"2021 - 2022"},{"$f":"'اسماء التلاميذ'!F$2","v":"الأول"},{"$f":"'اسماء التلاميذ'!F$3","v":"أ"},{"$f":"'اسماء التلاميذ'!F$37","v":"سعد حميد خلف"},{"$f":"'اسماء التلاميذ'!D11","v":0},{"$f":"'قائمة امتحان نصف السنة'!P11","v":"ناجح"},{"$f":"'قائمة نهاية السنة'!P11","v":"ناجح"},null,null,null,null,{"$f":"'قائمة امتحان نصف السنة'!D11","v":0},{"$f":"'قائمة امتحان نصف السنة'!E11","v":7},{"$f":"'قائمة امتحان نصف السنة'!F11","v":6},{"$f":"'قائمة امتحان نصف السنة'!G11","v":7},{"$f":"'قائمة امتحان نصف السنة'!H11","v":6},{"$f":"'قائمة امتحان نصف السنة'!I11","v":7},{"$f":"'قائمة امتحان نصف السنة'!J11","v":9},{"$f":"'قائمة امتحان نصف السنة'!K11","v":10},null,{"$f":"'قائمة نهاية السنة'!E11","v":7},{"$f":"'قائمة نهاية السنة'!F11","v":6},{"$f":"'قائمة نهاية السنة'!G11","v":7},{"$f":"'قائمة نهاية السنة'!H11","v":6},{"$f":"'قائمة نهاية السنة'!I11","v":7},{"$f":"'قائمة نهاية السنة'!J11","v":9},{"$f":"'قائمة نهاية السنة'!K11","v":10}]
[9,null,null,null,5,2,2,2,5,6,9,5,2,2,2,5,6,9,null,{"$f":"'اسماء التلاميذ'!B$2","v":0},{"$f":"'اسماء التلاميذ'!B$3","v":0},{"$f":"'اسماء التلاميذ'!B$4","v":0},{"$f":"'اسماء التلاميذ'!F$4","v":"2021 - 2022"},{"$f":"'اسماء التلاميذ'!F$2","v":"الأول"},{"$f":"'اسماء التلاميذ'!F$3","v":"أ"},{"$f":"'اسماء التلاميذ'!F$37","v":"سعد حميد خلف"},{"$f":"'اسماء التلاميذ'!D12","v":0},{"$f":"'قائمة امتحان نصف السنة'!P12","v":"راسب"},{"$f":"'قائمة نهاية السنة'!P12","v":"راسب"},null,null,null,null,{"$f":"'قائمة امتحان نصف السنة'!D12","v":0},{"$f":"'قائمة امتحان نصف السنة'!E12","v":5},{"$f":"'قائمة امتحان نصف السنة'!F12","v":2},{"$f":"'قائمة امتحان نصف السنة'!G12","v":2},{"$f":"'قائمة امتحان نصف السنة'!H12","v":2},{"$f":"'قائمة امتحان نصف السنة'!I12","v":5},{"$f":"'قائمة امتحان نصف السنة'!J12","v":6},{"$f":"'قائمة امتحان نصف السنة'!K12","v":9},null,{"$f":"'قائمة نهاية السنة'!E12","v":5},{"$f":"'قائمة نهاية السنة'!F12","v":2},{"$f":"'قائمة نهاية السنة'!G12","v":2},{"$f":"'قائمة نهاية السنة'!H12","v":2},{"$f":"'قائمة نهاية السنة'!I12","v":5},{"$f":"'قائمة نهاية السنة'!J12","v":6},{"$f":"'قائمة نهاية السنة'!K12","v":9}]
[10,null,null,null,9,7,7,8,7,10,10,9,7,7,8,7,10,10,null,{"$f":"'اسماء التلاميذ'!B$2","v":0},{"$f":"'اسماء التلاميذ'!B$3","v":0},{"$f":"'اسماء التلاميذ'!B$4","v":0},{"$f":"'اسماء التلاميذ'!F$4","v":"2021 - 2022"},{"$f":"'اسماء التلاميذ'!F$2","v":"الأول"},{"$f":"'اسماء التلاميذ'!F$3","v":"أ"},{"$f":"'اسماء التلاميذ'!F$37","v":"سعد حميد خلف"},{"$f":"'اسماء التلاميذ'!D13","v":0},{"$f":"'قائمة امتحان نصف السنة'!P13","v":"ناجح"},{"$f":"'قائمة نهاية السنة'!P13","v":"ناجح"},null,null,null,null,{"$f":"'قائمة امتحان نصف السنة'!D13","v":0},{"$f":"'قائمة امتحان نصف السنة'!E13","v":9},{"$f":"'قائمة امتحان نصف السنة'!F13","v":7},{"$f":"'قائمة امتحان نصف السنة'!G13","v":7},{"$f":"'قائمة امتحان نصف السنة'!H13","v":8},{"$f":"'قائمة امتحان نصف السنة'!I13","v":7},{"$f":"'قائمة امتحان نصف السنة'!J13","v":10},{"$f":"'قائمة امتحان نصف السنة'!K13","v":10},null,{"$f":"'قائمة نهاية السنة'!E13","v":9},{"$f":"'قائمة نهاية السنة'!F13","v":7},{"$f":"'قائمة نهاية السنة'!G13","v":7},{"$f":"'قائمة نهاية السنة'!H13","v":8},{"$f":"'قائمة نهاية السنة'!I13","v":7},{"$f":"'قائمة نهاية السنة'!J13","v":10},{"$f":"'قائمة نهاية السنة'!K13","v":10}]
[11,null,null,null,8,6,7,5,6,8,9,8,6,7,5,6,8,9,null,{"$f":"'اسماء التلاميذ'!B$2","v":0},{"$f":"'اسماء التلاميذ'!B$3","v":0},{"$f":"'اسماء التلاميذ'!B$4","v":0},{"$f":"'اسماء التلاميذ'!F$4","v":"2021 - 2022"},{"$f":"'اسماء التلاميذ'!F$2","v":"الأول"},{"$f":"'اسماء التلاميذ'!F$3","v":"أ"},{"$f":"'اسماء التلاميذ'!F$37","v":"سعد حميد خلف"},{"$f":"'اسماء التلاميذ'!D14","v":0},{"$f":"'قائمة امتحان نصف السنة'!P14","v":"ناجح"},{"$f":"'قائمة نهاية السنة'!P14","v":"ناجح"},null,null,null,null,{"$f":"'قائمة امتحان نصف السنة'!D14","v":0},{"$f":"'قائمة امتحان نصف السنة'!E14","v":8},{"$f":"'قائمة امتحان نصف السنة'!F14","v":6},{"$f":"'قائمة امتحان نصف السنة'!G14","v":7},{"$f":"'قائمة امتحان نصف السنة'!H14","v":5},{"$f":"'قائمة امتحان نصف السنة'!I14","v":6},{"$f":"'قائمة امتحان نصف السنة'!J14","v":8},{"$f":"'قائمة امتحان نصف السنة'!K14","v":9},null,{"$f":"'قائمة نهاية السنة'!E14","v":8},{"$f":"'قائمة نهاية السنة'!F14","v":6},{"$f":"'قائمة نهاية السنة'!G14","v":7},{"$f":"'قائمة نهاية السنة'!H14","v":5},{"$f":"'قائمة نهاية السنة'!I14","v":6},{"$f":"'قائمة نهاية السنة'!J14","v":8},{"$f":"'قائمة نهاية السنة'!K14","v":9}]
[12,null,null,null,"غ","غ","غ","غ","غ","غ","غ","غ","غ","غ","غ","غ","غ","غ",null,{"$f":"'اسماء التلاميذ'!B$2","v":0},{"$f":"'اسماء التلاميذ'!B$3","v":0},{"$f":"'اسماء التلاميذ'!B$4","v":0},{"$f":"'اسماء التلاميذ'!F$4","v":"2021 - 2022"},{"$f":"'اسماء التلاميذ'!F$2","v":"الأول"},{"$f":"'اسماء التلاميذ'!F$3","v":"أ"},{"$f":"'اسماء التلاميذ'!F$37","v":"سعد حميد خلف"},{"$f":"'اسماء التلاميذ'!D15","v":0},{"$f":"'قائمة امتحان نصف السنة'!P15","v":"غائب"},{"$f":"'قائمة نهاية السنة'!P15","v":"غائب"},null,null,null,null,{"$f":"'قائمة امتحان نصف السنة'!D15","v":0},{"$f":"'قائمة امتحان نصف السنة'!E15","v":"غ"},{"$f":"'قائمة امتحان نصف السنة'!F15","v":"غ"},{"$f":"'قائمة امتحان نصف السنة'!G15","v":"غ"},{"$f":"'قائمة امتحان نصف السنة'!H15","v":"غ"},{"$f":"'قائمة امتحان نصف السنة'!I15","v":"غ"},{"$f":"'قائمة امتحان نصف السنة'!J15","v":"غ"},{"$f":"'قائمة امتحان نصف السنة'!K15","v":"غ"},null,{"$f":"'قائمة نهاية السنة'!E15","v":"غ"},{"$f":"'قائمة نهاية السنة'!F15","v":"غ"},{"$f":"'قائمة نهاية السنة'!G15","v":"غ"},{"$f":"'قائمة نهاية السنة'!H15","v":"غ"},{"$f":"'قائمة نهاية السنة'!I15","v":"غ"},{"$f":"'قائمة نهاية السنة'!J15","v":"غ"},{"$f":"'قائمة نهاية السنة'!K15","v":"غ"}]
[13,null,null,null,7,6,6,6,5,10,9,7,6,6,6,5,10,9,null,{"$f":"'اسماء التلاميذ'!B$2","v":0},{"$f":"'اسماء التلاميذ'!B$3","v":0},{"$f":"'اسماء التلاميذ'!B$4","v":0},{"$f":"'اسماء التلاميذ'!F$4","v":"2021 - 2022"},{"$f":"'اسماء التلاميذ'!F$2","v":"الأول"},{"$f":"'اسماء التلاميذ'!F$3","v":"أ"},{"$f":"'اسماء التلاميذ'!F$37","v":"سعد حميد خلف"},{"$f":"'اسماء التلاميذ'!D16","v":0},{"$f":"'قائمة امتحان نصف السنة'!P16","v":"ناجح"},{"$f":"'قائمة نهاية السنة'!P16","v":"ناجح"},null,null,null,null,{"$f":"'قائمة امتحان نصف السنة'!D16","v":0},{"$f":"'قائمة امتحان نصف السنة'!E16","v":7},{"$f":"'قائمة امتحان نصف السنة'!F16","v":6},{"$f":"'قائمة امتحان نصف السنة'!G16","v":6},{"$f":"'قائمة امتحان نصف السنة'!H16","v":6},{"$f":"'قائمة امتحان نصف السنة'!I16","v":5},{"$f":"'قائمة امتحان نصف السنة'!J16","v":10},{"$f":"'قائمة امتحان نصف السنة'!K16","v":9},null,{"$f":"'قائمة نهاية السنة'!E16","v":7},{"$f":"'قائمة نهاية السنة'!F16","v":6},{"$f":"'قائمة نهاية السنة'!G16","v":6},{"$f":"'قائمة نهاية السنة'!H16","v":6},{"$f":"'قائمة نهاية السنة'!I16","v":5},{"$f":"'قائمة نهاية السنة'!J16","v":10},{"$f":"'قائمة نهاية السنة'!K16","v":9}]
[14,null,null,null,7,6,6,6,5,10,9,7,6,6,6,5,10,9,null,{"$f":"'اسماء التلاميذ'!B$2","v":0},{"$f":"'اسماء التلاميذ'!B$3","v":0},{"$f":"'اسماء التلاميذ'!B$4","v":0},{"$f":"'اسماء التلاميذ'!F$4","v":"2021 - 2022"},{"$f":"'اسماء التلاميذ'!F$2","v":"الأول"},{"$f":"'اسماء التلاميذ'!F$3","v":"أ"},{"$f":"'اسماء التلاميذ'!F$37","v":"سعد حميد خلف"},{"$f":"'اسماء التلاميذ'!D17","v":0},{"$f":"'قائمة امتحان نصف السنة'!P17","v":"ناجح"},{"$f":"'قائمة نهاية السنة'!P17","v":"ناجح"},null,null,null,null,{"$f":"'قائمة امتحان نصف السنة'!D17","v":0},{"$f":"'قائمة امتحان نصف السنة'!E17","v":7},{"$f":"'قائمة امتحان نصف السنة'!F17","v":6},{"$f":"'قائمة امتحان نصف السنة'!G17","v":6},{"$f":"'قائمة امتحان نصف السنة'!H17","v":6},{"$f":"'قائمة امتحان نصف السنة'!I17","v":5},{"$f":"'قائمة امتحان نصف السنة'!J17","v":10},{"$f":"'قائمة امتحان نصف السنة'!K17","v":9},null,{"$f":"'قائمة نهاية السنة'!E17","v":7},{"$f":"'قائمة نهاية السنة'!F17","v":6},{"$f":"'قائمة نهاية السنة'!G17","v":6},{"$f":"'قائمة نهاية السنة'!H17","v":6},{"$f":"'قائمة نهاية السنة'!I17","v":5},{"$f":"'قائمة نهاية السنة'!J17","v":10},{"$f":"'قائمة نهاية السنة'!K17","v":9}]
[15,null,null,null,"غ","غ","غ","غ","غ","غ","غ","غ","غ","غ","غ","غ","غ","غ",null,{"$f":"'اسماء التلاميذ'!B$2","v":0},{"$f":"'اسماء التلاميذ'!B$3","v":0},{"$f":"'اسماء التلاميذ'!B$4","v":0},{"$f":"'اسماء التلاميذ'!F$4","v":"2021 - 2022"},{"$f":"'اسماء التلاميذ'!F$2","v":"الأول"},{"$f":"'اسماء التلاميذ'!F$3","v":"أ"},{"$f":"'اسماء التلاميذ'!F$37","v":"سعد حميد خلف"},{"$f":"'اسماء التلاميذ'!D18","v":0},{"$f":"'قائمة امتحان نصف السنة'!P18","v":"غائب"},{"$f":"'قائمة نهاية السنة'!P18","v":"غائب"},null,null,null,null,{"$f":"'قائمة امتحان نصف السنة'!D18","v":0},{"$f":"'قائمة امتحان نصف السنة'!E18","v":"غ"},{"$f":"'قائمة امتحان نصف السنة'!F18","v":"غ"},{"$f":"'قائمة امتحان نصف السنة'!G18","v":"غ"},{"$f":"'قائمة امتحان نصف السنة'!H18","v":"غ"},{"$f":"'قائمة امتحان نصف السنة'!I18","v":"غ"},{"$f":"'قائمة امتحان نصف السنة'!J18","v":"غ"},{"$f":"'قائمة امتحان نصف السنة'!K18","v":"غ"},null,{"$f":"'قائمة نهاية السنة'!E18","v":"غ"},{"$f":"'قائمة نهاية السنة'!F18","v":"غ"},{"$f":"'قائمة نهاية السنة'!G18","v":"غ"},{"$f":"'قائمة نهاية السنة'!H18","v":"غ"},{"$f":"'قائمة نهاية السنة'!I18","v":"غ"},{"$f":"'قائمة نهاية السنة'!J18","v":"غ"},{"$f":"'قائمة نهاية السنة'!K18","v":"غ"}]
[16,null,null,null,"غ","غ","غ","غ","غ","غ","غ","غ","غ","غ","غ","غ","غ","غ",null,{"$f":"'اسماء التلاميذ'!B$2","v":0},{"$f":"'اسماء التلاميذ'!B$3","v":0},{"$f":"'اسماء التلاميذ'!B$4","v":0},{"$f":"'اسماء التلاميذ'!F$4","v":"2021 - 2022"},{"$f":"'اسماء التلاميذ'!F$2","v":"الأول"},{"$f":"'اسماء التلاميذ'!F$3","v":"أ"},{"$f":"'اسماء التلاميذ'!F$37","v":"سعد حميد خلف"},{"$f":"'اسماء التلاميذ'!D19","v":0},{"$f":"'قائمة امتحان نصف السنة'!P19","v":"غائب"},{"$f":"'قائمة نهاية السنة'!P19","v":"غائب"},null,null,null,null,{"$f":"'قائمة امتحان نصف السنة'!D19","v":0},{"$f":"'قائمة امتحان نصف السنة'!E19","v":"غ"},{"$f":"'قائمة امتحان نصف السنة'!F19","v":"غ"},{"$f":"'قائمة امتحان نصف السنة'!G19","v":"غ"},{"$f":"'قائمة امتحان نصف السنة'!H19","v":"غ"},{"$f":"'قائمة امتحان نصف السنة'!I19","v":"غ"},{"$f":"'قائمة امتحان نصف السنة'!J19","v":"غ"},{"$f":"'قائمة امتحان نصف السنة'!K19","v":"غ"},null,{"$f":"'قائمة نهاية السنة'!E19","v":"غ"},{"$f":"'قائمة نهاية السنة'!F19","v":"غ"},{"$f":"'قائمة نهاية السنة'!G19","v":"غ"},{"$f":"'قائمة نهاية السنة'!H19","v":"غ"},{"$f":"'قائمة نهاية السنة'!I19","v":"غ"},{"$f":"'قائمة نهاية السنة'!J19","v":"غ"},{"$f":"'قائمة نهاية السنة'!K19","v":"غ"}]
[17,null,null,null,5,2,5,5,6,9,9,5,2,5,5,6,9,9,null,{"$f":"'اسماء التلاميذ'!B$2","v":0},{"$f":"'اسماء التلاميذ'!B$3","v":0},{"$f":"'اسماء التلاميذ'!B$4","v":0},{"$f":"'اسماء التلاميذ'!F$4","v":"2021 - 2022"},{"$f":"'اسماء التلاميذ'!F$2","v":"الأول"},{"$f":"'اسماء التلاميذ'!F$3","v":"أ"},{"$f":"'اسماء التلاميذ'!F$37","v":"سعد حميد خلف"},{"$f":"'اسماء التلاميذ'!D20","v":0},{"$f":"'قائمة امتحان نصف السنة'!P20","v":"مكمل بدرس"},{"$f":"'قائمة نهاية السنة'!P20","v":"مكمل بدرس"},null,null,null,null,{"$f":"'قائمة امتحان نصف السنة'!D20","v":0},{"$f":"'قائمة امتحان نصف السنة'!E20","v":5},{"$f":"'قائمة امتحان نصف السنة'!F20","v":2},{"$f":"'قائمة امتحان نصف السنة'!G20","v":5},{"$f":"'قائمة امتحان نصف السنة'!H20","v":5},{"$f":"'قائمة امتحان نصف السنة'!I20","v":6},{"$f":"'قائمة امتحان نصف السنة'!J20","v":9},{"$f":"'قائمة امتحان نصف السنة'!K20","v":9},null,{"$f":"'قائمة نهاية السنة'!E20","v":5},{"$f":"'قائمة نهاية السنة'!F20","v":2},{"$f":"'قائمة نهاية السنة'!G20","v":5},{"$f":"'قائمة نهاية السنة'!H20","v":5},{"$f":"'قائمة نهاية السنة'!I20","v":6},{"$f":"'قائمة نهاية السنة'!J20","v":9},{"$f":"'قائمة نهاية السنة'!K20","v":9}]
[18,null,null,null,10,9,10,10,9,10,10,10,9,10,10,9,10,10,null,{"$f":"'اسماء التلاميذ'!B$2","v":0},{"$f":"'اسماء التلاميذ'!B$3","v":0},{"$f":"'اسماء التلاميذ'!B$4","v":0},{"$f":"'اسماء التلاميذ'!F$4","v":"2021 - 2022"},{"$f":"'اسماء التلاميذ'!F$2","v":"الأول"},{"$f":"'اسماء التلاميذ'!F$3","v":"أ"},{"$f":"'اسماء التلاميذ'!F$37","v":"سعد حميد خلف"},{"$f":"'اسماء التلاميذ'!D21","v":0},{"$f":"'قائمة امتحان نصف السنة'!P21","v":"ناجح"},{"$f":"'قائمة نهاية السنة'!P21","v":"ناجح"},null,null,null,null,{"$f":"'قائمة امتحان نصف السنة'!D21","v":0},{"$f":"'قائمة امتحان نصف السنة'!E21","v":10},{"$f":"'قائمة امتحان نصف السنة'!F21","v":9},{"$f":"'قائمة امتحان نصف السنة'!G21","v":10},{"$f":"'قائمة امتحان نصف السنة'!H21","v":10},{"$f":"'قائمة امتحان نصف السنة'!I21","v":9},{"$f":"'قائمة امتحان نصف السنة'!J21","v":10},{"$f":"'قائمة امتحان نصف السنة'!K21","v":10},null,{"$f":"'قائمة نهاية السنة'!E21","v":10},{"$f":"'قائمة نهاية السنة'!F21","v":9},{"$f":"'قائمة نهاية السنة'!G21","v":10},{"$f":"'قائمة نهاية السنة'!H21","v":10},{"$f":"'قائمة نهاية السنة'!I21","v":9},{"$f":"'قائمة نهاية السنة'!J21","v":10},{"$f":"'قائمة نهاية السنة'!K21","v":10}]
[19,null,null,null,7,6,6,7,6,10,10,7,6,6,7,6,10,10,null,{"$f":"'اسماء التلاميذ'!B$2","v":0},{"$f":"'اسماء التلاميذ'!B$3","v":0},{"$f":"'اسماء التلاميذ'!B$4","v":0},{"$f":"'اسماء التلاميذ'!F$4","v":"2021 - 2022"},{"$f":"'اسماء التلاميذ'!F$2","v":"الأول"},{"$f":"'اسماء التلاميذ'!F$3","v":"أ"},{"$f":"'اسماء التلاميذ'!F$37","v":"سعد حميد خلف"},{"$f":"'اسماء التلاميذ'!D22","v":0},{"$f":"'قائمة امتحان نصف السنة'!P22","v":"ناجح"},{"$f":"'قائمة نهاية السنة'!P22","v":"ناجح"},null,null,null,null,{"$f":"'قائمة امتحان نصف السنة'!D22","v":0},{"$f":"'قائمة امتحان نصف السنة'!E22","v":7},{"$f":"'قائمة امتحان نصف السنة'!F22","v":6},{"$f":"'قائمة امتحان نصف السنة'!G22","v":6},{"$f":"'قائمة امتحان نصف السنة'!H22","v":7},{"$f":"'قائمة امتحان نصف السنة'!I22","v":6},{"$f":"'قائمة امتحان نصف السنة'!J22","v":10},{"$f":"'قائمة امتحان نصف السنة'!K22","v":10},null,{"$f":"'قائمة نهاية السنة'!E22","v":7},{"$f":"'قائمة نهاية السنة'!F22","v":6},{"$f":"'قائمة نهاية السنة'!G22","v":6},{"$f":"'قائمة نهاية السنة'!H22","v":7},{"$f":"'قائمة نهاية السنة'!I22","v":6},{"$f":"'قائمة نهاية السنة'!J22","v":10},{"$f":"'قائمة نهاية السنة'!K22","v":10}]
[20,null,null,null,"غ","غ","غ","غ","غ","غ","غ","غ","غ","غ","غ","غ","غ","غ",null,{"$f":"'اسماء التلاميذ'!B$2","v":0},{"$f":"'اسماء التلاميذ'!B$3","v":0},{"$f":"'اسماء التلاميذ'!B$4","v":0},{"$f":"'اسماء التلاميذ'!F$4","v":"2021 - 2022"},{"$f":"'اسماء التلاميذ'!F$2","v":"الأول"},{"$f":"'اسماء التلاميذ'!F$3","v":"أ"},{"$f":"'اسماء التلاميذ'!F$37","v":"سعد حميد خلف"},{"$f":"'اسماء التلاميذ'!D23","v":0},{"$f":"'قائمة امتحان نصف السنة'!P23","v":"غائب"},{"$f":"'قائمة نهاية السنة'!P23","v":"غائب"},null,null,null,null,{"$f":"'قائمة امتحان نصف السنة'!D23","v":0},{"$f":"'قائمة امتحان نصف السنة'!E23","v":"غ"},{"$f":"'قائمة امتحان نصف السنة'!F23","v":"غ"},{"$f":"'قائمة امتحان نصف السنة'!G23","v":"غ"},{"$f":"'قائمة امتحان نصف السنة'!H23","v":"غ"},{"$f":"'قائمة امتحان نصف السنة'!I23","v":"غ"},{"$f":"'قائمة امتحان نصف السنة'!J23","v":"غ"},{"$f":"'قائمة امتحان نصف السنة'!K23","v":"غ"},null,{"$f":"'قائمة نهاية السنة'!E23","v":"غ"},{"$f":"'قائمة نهاية السنة'!F23","v":"غ"},{"$f":"'قائمة نهاية السنة'!G23","v":"غ"},{"$f":"'قائمة نهاية السنة'!H23","v":"غ"},{"$f":"'قائمة نهاية السنة'!I23","v":"غ"},{"$f":"'قائمة نهاية السنة'!J23","v":"غ"},{"$f":"'قائمة نهاية السنة'!K23","v":"غ"}]
[21,null,null,null,"غ","غ","غ","غ","غ","غ","غ","غ","غ","غ","غ","غ","غ","غ",null,{"$f":"'اسماء التلاميذ'!B$2","v":0},{"$f":"'اسماء التلاميذ'!B$3","v":0},{"$f":"'اسماء التلاميذ'!B$4","v":0},{"$f":"'اسماء التلاميذ'!F$4","v":"2021 - 2022"},{"$f":"'اسماء التلاميذ'!F$2","v":"الأول"},{"$f":"'اسماء التلاميذ'!F$3","v":"أ"},{"$f":"'اسماء التلاميذ'!F$37","v":"سعد حميد خلف"},{"$f":"'اسماء التلاميذ'!D24","v":0},{"$f":"'قائمة امتحان نصف السنة'!P24","v":"غائب"},{"$f":"'قائمة نهاية السنة'!P24","v":"غائب"},null,null,null,null,{"$f":"'قائمة امتحان نصف السنة'!D24","v":0},{"$f":"'قائمة امتحان نصف السنة'!E24","v":"غ"},{"$f":"'قائمة امتحان نصف السنة'!F24","v":"غ"},{"$f":"'قائمة امتحان نصف السنة'!G24","v":"غ"},{"$f":"'قائمة امتحان نصف السنة'!H24","v":"غ"},{"$f":"'قائمة امتحان نصف السنة'!I24","v":"غ"},{"$f":"'قائمة امتحان نصف السنة'!J24","v":"غ"},{"$f":"'قائمة امتحان نصف السنة'!K24","v":"غ"},null,{"$f":"'قائمة نهاية السنة'!E24","v":"غ"},{"$f":"'قائمة نهاية السنة'!F24","v":"غ"},{"$f":"'قائمة نهاية السنة'!G24","v":"غ"},{"$f":"'قائمة نهاية السنة'!H24","v":"غ"},{"$f":"'قائمة نهاية السنة'!I24","v":"غ"},{"$f":"'قائمة نهاية السنة'!J24","v":"غ"},{"$f":"'قائمة نهاية السنة'!K24","v":"غ"}]
[22,null,null,null,7,7,7,6,5,10,10,7,7,7,6,5,10,10,null,{"$f":"'اسماء التلاميذ'!B$2","v":0},{"$f":"'اسماء التلاميذ'!B$3","v":0},{"$f":"'اسماء التلاميذ'!B$4","v":0},{"$f":"'اسماء التلاميذ'!F$4","v":"2021 - 2022"},{"$f":"'اسماء التلاميذ'!F$2","v":"الأول"},{"$f":"'اسماء التلاميذ'!F$3","v":"أ"},{"$f":"'اسماء التلاميذ'!F$37","v":"سعد حميد خلف"},{"$f":"'اسماء التلاميذ'!D25","v":0},{"$f":"'قائمة امتحان نصف السنة'!P25","v":"ناجح"},{"$f":"'قائمة نهاية السنة'!P25","v":"ناجح"},null,null,null,null,{"$f":"'قائمة امتحان نصف السنة'!D25","v":0},{"$f":"'قائمة امتحان نصف السنة'!E25","v":7},{"$f":"'قائمة امتحان نصف السنة'!F25","v":7},{"$f":"'قائمة امتحان نصف السنة'!G25","v":7},{"$f":"'قائمة امتحان نصف السنة'!H25","v":6},{"$f":"'قائمة امتحان نصف السنة'!I25","v":5},{"$f":"'قائمة امتحان نصف السنة'!J25","v":10},{"$f":"'قائمة امتحان نصف السنة'!K25","v":10},null,{"$f":"'قائمة نهاية السنة'!E25","v":7},{"$f":"'قائمة نهاية السنة'!F25","v":7},{"$f":"'قائمة نهاية السنة'!G25","v":7},{"$f":"'قائمة نهاية السنة'!H25","v":6},{"$f":"'قائمة نهاية السنة'!I25","v":5},{"$f":"'قائمة نهاية السنة'!J25","v":10},{"$f":"'قائمة نهاية السنة'!K25","v":10}]
[23,null,null,null,"غ","غ","غ","غ","غ","غ","غ","غ","غ","غ","غ","غ","غ","غ",null,{"$f":"'اسماء التلاميذ'!B$2","v":0},{"$f":"'اسماء التلاميذ'!B$3","v":0},{"$f":"'اسماء التلاميذ'!B$4","v":0},{"$f":"'اسماء التلاميذ'!F$4","v":"2021 - 2022"},{"$f":"'اسماء التلاميذ'!F$2","v":"الأول"},{"$f":"'اسماء التلاميذ'!F$3","v":"أ"},{"$f":"'اسماء التلاميذ'!F$37","v":"سعد حميد خلف"},{"$f":"'اسماء التلاميذ'!D26","v":0},{"$f":"'قائمة امتحان نصف السنة'!P26","v":"غائب"},{"$f":"'قائمة نهاية السنة'!P26","v":"غائب"},null,null,null,null,{"$f":"'قائمة امتحان نصف السنة'!D26","v":0},{"$f":"'قائمة امتحان نصف السنة'!E26","v":"غ"},{"$f":"'قائمة امتحان نصف السنة'!F26","v":"غ"},{"$f":"'قائمة امتحان نصف السنة'!G26","v":"غ"},{"$f":"'قائمة امتحان نصف السنة'!H26","v":"غ"},{"$f":"'قائمة امتحان نصف السنة'!I26","v":"غ"},{"$f":"'قائمة امتحان نصف السنة'!J26","v":"غ"},{"$f":"'قائمة امتحان نصف السنة'!K26","v":"غ"},null,{"$f":"'قائمة نهاية السنة'!E26","v":"غ"},{"$f":"'قائمة نهاية السنة'!F26","v":"غ"},{"$f":"'قائمة نهاية السنة'!G26","v":"غ"},{"$f":"'قائمة نهاية السنة'!H26","v":"غ"},{"$f":"'قائمة نهاية السنة'!I26","v":"غ"},{"$f":"'قائمة نهاية السنة'!J26","v":"غ"},{"$f":"'قائمة نهاية السنة'!K26","v":"غ"}]
[24,null,null,null,7,7,3,7,6,10,10,7,7,3,7,6,10,10,null,{"$f":"'اسماء التلاميذ'!B$2","v":0},{"$f":"'اسماء التلاميذ'!B$3","v":0},{"$f":"'اسماء التلاميذ'!B$4","v":0},{"$f":"'اسماء التلاميذ'!F$4","v":"2021 - 2022"},{"$f":"'اسماء التلاميذ'!F$2","v":"الأول"},{"$f":"'اسماء التلاميذ'!F$3","v":"أ"},{"$f":"'اسماء التلاميذ'!F$37","v":"سعد حميد خلف"},{"$f":"'اسماء التلاميذ'!D27","v":0},{"$f":"'قائمة امتحان نصف السنة'!P27","v":"مكمل بدرس"},{"$f":"'قائمة نهاية السنة'!P27","v":"مكمل بدرس"},null,null,null,null,{"$f":"'قائمة امتحان نصف السنة'!D27","v":0},{"$f":"'قائمة امتحان نصف السنة'!E27","v":7},{"$f":"'قائمة امتحان نصف السنة'!F27","v":7},{"$f":"'قائمة امتحان نصف السنة'!G27","v":3},{"$f":"'قائمة امتحان نصف السنة'!H27","v":7},{"$f":"'قائمة امتحان نصف السنة'!I27","v":6},{"$f":"'قائمة امتحان نصف السنة'!J27","v":10},{"$f":"'قائمة امتحان نصف السنة'!K27","v":10},null,{"$f":"'قائمة نهاية السنة'!E27","v":7},{"$f":"'قائمة نهاية السنة'!F27","v":7},{"$f":"'قائمة نهاية السنة'!G27","v":3},{"$f":"'قائمة نهاية السنة'!H27","v":7},{"$f":"'قائمة نهاية السنة'!I27","v":6},{"$f":"'قائمة نهاية السنة'!J27","v":10},{"$f":"'قائمة نهاية السنة'!K27","v":10}]
[25,null,null,null,10,10,10,10,10,10,10,10,10,10,10,10,10,10,null,{"$f":"'اسماء التلاميذ'!B$2","v":0},{"$f":"'اسماء التلاميذ'!B$3","v":0},{"$f":"'اسماء التلاميذ'!B$4","v":0},{"$f":"'اسماء التلاميذ'!F$4","v":"2021 - 2022"},{"$f":"'اسماء التلاميذ'!F$2","v":"الأول"},{"$f":"'اسماء التلاميذ'!F$3","v":"أ"},{"$f":"'اسماء التلاميذ'!F$37","v":"سعد حميد خلف"},{"$f":"'اسماء التلاميذ'!D28","v":0},{"$f":"'قائمة امتحان نصف السنة'!P28","v":"ناجح"},{"$f":"'قائمة نهاية السنة'!P28","v":"ناجح"},null,null,null,null,{"$f":"'قائمة امتحان نصف السنة'!D28","v":0},{"$f":"'قائمة امتحان نصف السنة'!E28","v":10},{"$f":"'قائمة امتحان نصف السنة'!F28","v":10},{"$f":"'قائمة امتحان نصف السنة'!G28","v":10},{"$f":"'قائمة امتحان نصف السنة'!H28","v":10},{"$f":"'قائمة امتحان نصف السنة'!I28","v":10},{"$f":"'قائمة امتحان نصف السنة'!J28","v":10},{"$f":"'قائمة امتحان نصف السنة'!K28","v":10},null,{"$f":"'قائمة نهاية السنة'!E28","v":10},{"$f":"'قائمة نهاية السنة'!F28","v":10},{"$f":"'قائمة نهاية السنة'!G28","v":10},{"$f":"'قائمة نهاية السنة'!H28","v":10},{"$f":"'قائمة نهاية السنة'!I28","v":10},{"$f":"'قائمة نهاية السنة'!J28","v":10},{"$f":"'قائمة نهاية السنة'!K28","v":10}]
[26,null,null,null,0,0,0,0,0,0,0,0,0,0,0,0,0,0,null,{"$f":"'اسماء التلاميذ'!B$2","v":0},{"$f":"'اسماء التلاميذ'!B$3","v":0},{"$f":"'اسماء التلاميذ'!B$4","v":0},{"$f":"'اسماء التلاميذ'!F$4","v":"2021 - 2022"},{"$f":"'اسماء التلاميذ'!F$2","v":"الأول"},{"$f":"'اسماء التلاميذ'!F$3","v":"أ"},{"$f":"'اسماء التلاميذ'!F$37","v":"سعد حميد خلف"},{"$f":"'اسماء التلاميذ'!D29","v":0},{"$f":"'قائمة امتحان نصف السنة'!P29","v":""},{"$f":"'قائمة نهاية السنة'!P29","v":""},null,null,null,null,{"$f":"'قائمة امتحان نصف السنة'!D29","v":0},{"$f":"'قائمة امتحان نصف السنة'!E29","v":0},{"$f":"'قائمة امتحان نصف السنة'!F29","v":0},{"$f":"'قائمة امتحان نصف السنة'!G29","v":0},{"$f":"'قائمة امتحان نصف السنة'!H29","v":0},{"$f":"'قائمة امتحان نصف السنة'!I29","v":0},{"$f":"'قائمة امتحان نصف السنة'!J29","v":0},{"$f":"'قائمة امتحان نصف السنة'!K29","v":0},null,{"$f":"'قائمة نهاية السنة'!E29","v":0},{"$f":"'قائمة نهاية السنة'!F29","v":0},{"$f":"'قائمة نهاية السنة'!G29","v":0},{"$f":"'قائمة نهاية السنة'!H29","v":0},{"$f":"'قائمة نهاية السنة'!I29","v":0},{"$f":"'قائمة نهاية السنة'!J29","v":0},{"$f":"'قائمة نهاية السنة'!K29","v":0}]
[27,null,null,null,0,0,0,0,0,0,0,0,0,0,0,0,0,0,null,{"$f":"'اسماء التلاميذ'!B$2","v":0},{"$f":"'اسماء التلاميذ'!B$3","v":0},{"$f":"'اسماء التلاميذ'!B$4","v":0},{"$f":"'اسماء التلاميذ'!F$4","v":"2021 - 2022"},{"$f":"'اسماء التلاميذ'!F$2","v":"الأول"},{"$f":"'اسماء التلاميذ'!F$3","v":"أ"},{"$f":"'اسماء التلاميذ'!F$37","v":"سعد حميد خلف"},{"$f":"'اسماء التلاميذ'!D30","v":0},{"$f":"'قائمة امتحان نصف السنة'!P30","v":""},{"$f":"'قائمة نهاية السنة'!P30","v":""},null,null,null,null,{"$f":"'قائمة امتحان نصف السنة'!D30","v":0},{"$f":"'قائمة امتحان نصف السنة'!E30","v":0},{"$f":"'قائمة امتحان نصف السنة'!F30","v":0},{"$f":"'قائمة امتحان نصف السنة'!G30","v":0},{"$f":"'قائمة امتحان نصف السنة'!H30","v":0},{"$f":"'قائمة امتحان نصف السنة'!I30","v":0},{"$f":"'قائمة امتحان نصف السنة'!J30","v":0},{"$f":"'قائمة امتحان نصف السنة'!K30","v":0},null,{"$f":"'قائمة نهاية السنة'!E30","v":0},{"$f":"'قائمة نهاية السنة'!F30","v":0},{"$f":"'قائمة نهاية السنة'!G30","v":0},{"$f":"'قائمة نهاية السنة'!H30","v":0},{"$f":"'قائمة نهاية السنة'!I30","v":0},{"$f":"'قائمة نهاية السنة'!J30","v":0},{"$f":"'قائمة نهاية السنة'!K30","v":0}]
[28,null,null,null,0,0,0,0,0,0,0,0,0,0,0,0,0,0,null,{"$f":"'اسماء التلاميذ'!B$2","v":0},{"$f":"'اسماء التلاميذ'!B$3","v":0},{"$f":"'اسماء التلاميذ'!B$4","v":0},{"$f":"'اسماء التلاميذ'!F$4","v":"2021 - 2022"},{"$f":"'اسماء التلاميذ'!F$2","v":"الأول"},{"$f":"'اسماء التلاميذ'!F$3","v":"أ"},{"$f":"'اسماء التلاميذ'!F$37","v":"سعد حميد خلف"},{"$f":"'اسماء التلاميذ'!D31","v":0},{"$f":"'قائمة امتحان نصف السنة'!P31","v":""},{"$f":"'قائمة نهاية السنة'!P31","v":""},null,null,null,null,{"$f":"'قائمة امتحان نصف السنة'!D31","v":0},{"$f":"'قائمة امتحان نصف السنة'!E31","v":0},{"$f":"'قائمة امتحان نصف السنة'!F31","v":0},{"$f":"'قائمة امتحان نصف السنة'!G31","v":0},{"$f":"'قائمة امتحان نصف السنة'!H31","v":0},{"$f":"'قائمة امتحان نصف السنة'!I31","v":0},{"$f":"'قائمة امتحان نصف السنة'!J31","v":0},{"$f":"'قائمة امتحان نصف السنة'!K31","v":0},null,{"$f":"'قائمة نهاية السنة'!E31","v":0},{"$f":"'قائمة نهاية السنة'!F31","v":0},{"$f":"'قائمة نهاية السنة'!G31","v":0},{"$f":"'قائمة نهاية السنة'!H31","v":0},{"$f":"'قائمة نهاية السنة'!I31","v":0},{"$f":"'قائمة نهاية السنة'!J31","v":0},{"$f":"'قائمة نهاية السنة'!K31","v":0}]
[29,null,null,null,0,0,0,0,0,0,0,0,0,0,0,0,0,0,null,{"$f":"'اسماء التلاميذ'!B$2","v":0},{"$f":"'اسماء التلاميذ'!B$3","v":0},{"$f":"'اسماء التلاميذ'!B$4","v":0},{"$f":"'اسماء التلاميذ'!F$4","v":"2021 - 2022"},{"$f":"'اسماء التلاميذ'!F$2","v":"الأول"},{"$f":"'اسماء التلاميذ'!F$3","v":"أ"},{"$f":"'اسماء التلاميذ'!F$37","v":"سعد حميد خلف"},{"$f":"'اسماء التلاميذ'!D32","v":0},{"$f":"'قائمة امتحان نصف السنة'!P32","v":""},{"$f":"'قائمة نهاية السنة'!P32","v":""},null,null,null,null,{"$f":"'قائمة امتحان نصف السنة'!D32","v":0},{"$f":"'قائمة امتحان نصف السنة'!E32","v":0},{"$f":"'قائمة امتحان نصف السنة'!F32","v":0},{"$f":"'قائمة امتحان نصف السنة'!G32","v":0},{"$f":"'قائمة امتحان نصف السنة'!H32","v":0},{"$f":"'قائمة امتحان نصف السنة'!I32","v":0},{"$f":"'قائمة امتحان نصف السنة'!J32","v":0},{"$f":"'قائمة امتحان نصف السنة'!K32","v":0},null,{"$f":"'قائمة نهاية السنة'!E32","v":0},{"$f":"'قائمة نهاية السنة'!F32","v":0},{"$f":"'قائمة نهاية السنة'!G32","v":0},{"$f":"'قائمة نهاية السنة'!H32","v":0},{"$f":"'قائمة نهاية السنة'!I32","v":0},{"$f":"'قائمة نهاية السنة'!J32","v":0},{"$f":"'قائمة نهاية السنة'!K32","v":0}]
[30,null,null,null,0,0,0,0,0,0,0,0,0,0,0,0,0,0,null,{"$f":"'اسماء التلاميذ'!B$2","v":0},{"$f":"'اسماء التلاميذ'!B$3","v":0},{"$f":"'اسماء التلاميذ'!B$4","v":0},{"$f":"'اسماء التلاميذ'!F$4","v":"2021 - 2022"},{"$f":"'اسماء التلاميذ'!F$2","v":"الأول"},{"$f":"'اسماء التلاميذ'!F$3","v":"أ"},{"$f":"'اسماء التلاميذ'!F$37","v":"سعد حميد خلف"},{"$f":"'اسماء التلاميذ'!D33","v":0},{"$f":"'قائمة امتحان نصف السنة'!P33","v":""},{"$f":"'قائمة نهاية السنة'!P33","v":""},null,null,null,null,{"$f":"'قائمة امتحان نصف السنة'!D33","v":0},{"$f":"'قائمة امتحان نصف السنة'!E33","v":0},{"$f":"'قائمة امتحان نصف السنة'!F33","v":0},{"$f":"'قائمة امتحان نصف السنة'!G33","v":0},{"$f":"'قائمة امتحان نصف السنة'!H33","v":0},{"$f":"'قائمة امتحان نصف السنة'!I33","v":0},{"$f":"'قائمة امتحان نصف السنة'!J33","v":0},{"$f":"'قائمة امتحان نصف السنة'!K33","v":0},null,{"$f":"'قائمة نهاية السنة'!E33","v":0},{"$f":"'قائمة نهاية السنة'!F33","v":0},{"$f":"'قائمة نهاية السنة'!G33","v":0},{"$f":"'قائمة نهاية السنة'!H33","v":0},{"$f":"'قائمة نهاية السنة'!I33","v":0},{"$f":"'قائمة نهاية السنة'!J33","v":0},{"$f":"'قائمة نهاية السنة'!K33","v":0}]
[31,null,null,null,0,0,0,0,0,0,0,0,0,0,0,0,0,0,null,{"$f":"'اسماء التلاميذ'!B$2","v":0},{"$f":"'اسماء التلاميذ'!B$3","v":0},{"$f":"'اسماء التلاميذ'!B$4","v":0},{"$f":"'اسماء التلاميذ'!F$4","v":"2021 - 2022"},{"$f":"'اسماء التلاميذ'!F$2","v":"الأول"},{"$f":"'اسماء التلاميذ'!F$3","v":"أ"},{"$f":"'اسماء التلاميذ'!F$37","v":"سعد حميد خلف"},{"$f":"'اسماء التلاميذ'!D34","v":0},{"$f":"'قائمة امتحان نصف السنة'!P34","v":""},{"$f":"'قائمة نهاية السنة'!P34","v":""},null,null,null,null,{"$f":"'قائمة امتحان نصف السنة'!D34","v":0},{"$f":"'قائمة امتحان نصف السنة'!E34","v":0},{"$f":"'قائمة امتحان نصف السنة'!F34","v":0},{"$f":"'قائمة امتحان نصف السنة'!G34","v":0},{"$f":"'قائمة امتحان نصف السنة'!H34","v":0},{"$f":"'قائمة امتحان نصف السنة'!I34","v":0},{"$f":"'قائمة امتحان نصف السنة'!J34","v":0},{"$f":"'قائمة امتحان نصف السنة'!K34","v":0},null,{"$f":"'قائمة نهاية السنة'!E34","v":0},{"$f":"'قائمة نهاية السنة'!F34","v":0},{"$f":"'قائمة نهاية السنة'!G34","v":0},{"$f":"'قائمة نهاية السنة'!H34","v":0},{"$f":"'قائمة نهاية السنة'!I34","v":0},{"$f":"'قائمة نهاية السنة'!J34","v":0},{"$f":"'قائمة نهاية السنة'!K34","v":0}]
[32,null,null,null,0,0,0,0,0,0,0,0,0,0,0,0,0,0,null,{"$f":"'اسماء التلاميذ'!B$2","v":0},{"$f":"'اسماء التلاميذ'!B$3","v":0},{"$f":"'اسماء التلاميذ'!B$4","v":0},{"$f":"'اسماء التلاميذ'!F$4","v":"2021 - 2022"},{"$f":"'اسماء التلاميذ'!F$2","v":"الأول"},{"$f":"'اسماء التلاميذ'!F$3","v":"أ"},{"$f":"'اسماء التلاميذ'!F$37","v":"سعد حميد خلف"},{"$f":"'اسماء التلاميذ'!D35","v":0},{"$f":"'قائمة امتحان نصف السنة'!P35","v":""},{"$f":"'قائمة نهاية السنة'!P35","v":""},null,null,null,null,{"$f":"'قائمة امتحان نصف السنة'!D35","v":0},{"$f":"'قائمة امتحان نصف السنة'!E35","v":0},{"$f":"'قائمة امتحان نصف السنة'!F35","v":0},{"$f":"'قائمة امتحان نصف السنة'!G35","v":0},{"$f":"'قائمة امتحان نصف السنة'!H35","v":0},{"$f":"'قائمة امتحان نصف السنة'!I35","v":0},{"$f":"'قائمة امتحان نصف السنة'!J35","v":0},{"$f":"'قائمة امتحان نصف السنة'!K35","v":0},null,{"$f":"'قائمة نهاية السنة'!E35","v":0},{"$f":"'قائمة نهاية السنة'!F35","v":0},{"$f":"'قائمة نهاية السنة'!G35","v":0},{"$f":"'قائمة نهاية السنة'!H35","v":0},{"$f":"'قائمة نهاية السنة'!I35","v":0},{"$f":"'قائمة نهاية السنة'!J35","v":0},{"$f":"'قائمة نهاية السنة'!K35","v":0}]
[33,null,null,null,0,0,0,0,0,0,0,0,0,0,0,0,0,0,null,{"$f":"'اسماء التلاميذ'!B$2","v":0},{"$f":"'اسماء التلاميذ'!B$3","v":0},{"$f":"'اسماء التلاميذ'!B$4","v":0},{"$f":"'اسماء التلاميذ'!F$4","v":"2021 - 2022"},{"$f":"'اسماء التلاميذ'!F$2","v":"الأول"},{"$f":"'اسماء التلاميذ'!F$3","v":"أ"},{"$f":"'اسماء التلاميذ'!F$37","v":"سعد حميد خلف"},{"$f":"'اسماء التلاميذ'!D36","v":0},{"$f":"'قائمة امتحان نصف السنة'!P36","v":""},{"$f":"'قائمة نهاية السنة'!P36","v":""},null,null,null,null,{"$f":"'قائمة امتحان نصف السنة'!D36","v":0},{"$f":"'قائمة امتحان نصف السنة'!E36","v":0},{"$f":"'قائمة امتحان نصف السنة'!F36","v":0},{"$f":"'قائمة امتحان نصف السنة'!G36","v":0},{"$f":"'قائمة امتحان نصف السنة'!H36","v":0},{"$f":"'قائمة امتحان نصف السنة'!I36","v":0},{"$f":"'قائمة امتحان نصف السنة'!J36","v":0},{"$f":"'قائمة امتحان نصف السنة'!K36","v":0},null,{"$f":"'قائمة نهاية السنة'!E36","v":0},{"$f":"'قائمة نهاية السنة'!F36","v":0},{"$f":"'قائمة نهاية السنة'!G36","v":0},{"$f":"'قائمة نهاية السنة'!H36","v":0},{"$f":"'قائمة نهاية السنة'!I36","v":0},{"$f":"'قائمة نهاية السنة'!J36","v":0},{"$f":"'قائمة نهاية السنة'!K36","v":0}]
["",null,null,null,"غ","غ","غ","غ","غ","غ","غ","غ","غ","غ","غ","غ","غ","غ",null,{"$f":"'اسماء التلاميذ'!B$2","v":0},{"$f":"'اسماء التلاميذ'!B$3","v":0},{"$f":"'اسماء التلاميذ'!B$4","v":0},{"$f":"'اسماء التلاميذ'!F$4","v":"2021 - 2022"},{"$f":"'اسماء التلاميذ'!F$2","v":"الأول"},{"$f":"'اسماء التلاميذ'!F$3","v":"أ"},{"$f":"'اسماء التلاميذ'!F$37","v":"سعد حميد خلف"},{"$f":"'اسماء التلاميذ'!D37","v":0},{"$f":"'قائمة امتحان نصف السنة'!#REF!","v":{"$error":"#REF!"}},{"$f":"'قائمة نهاية السنة'!#REF!","v":{"$error":"#REF!"}},null,null,null,null,{"$f":"'قائمة امتحان نصف السنة'!#REF!","v":{"$error":"#REF!"}},{"$f":"'قائمة امتحان نصف السنة'!#REF!","v":{"$error":"#REF!"}},{"$f":"'قائمة امتحان نصف السنة'!#REF!","v":{"$error":"#REF!"}},{"$f":"'قائمة امتحان نصف السنة'!#REF!","v":{"$error":"#REF!"}},{"$f":"'قائمة امتحان نصف السنة'!#REF!","v":{"$error":"#REF!"}},{"$f":"'قائمة امتحان نصف السنة'!#REF!","v":{"$error":"#REF!"}},{"$f":"'قائمة امتحان نصف السنة'!#REF!","v":{"$error":"#REF!"}},{"$f":"'قائمة امتحان نصف السنة'!#REF!","v":{"$error":"#REF!"}},null,{"$f":"'قائمة نهاية السنة'!#REF!","v":{"$error":"#REF!"}},{"$f":"'قائمة نهاية السنة'!#REF!","v":{"$error":"#REF!"}},{"$f":"'قائمة نهاية السنة'!#REF!","v":{"$error":"#REF!"}},{"$f":"'قائمة نهاية السنة'!#REF!","v":{"$error":"#REF!"}},{"$f":"'قائمة نهاية السنة'!#REF!","v":{"$error":"#REF!"}},{"$f":"'قائمة نهاية السنة'!#REF!","v":{"$error":"#REF!"}},{"$f":"'قائمة نهاية السنة'!#REF!","v":{"$error":"#REF!"}}]
["",null,null,null,"غ","غ","غ","غ","غ","غ","غ","غ","غ","غ","غ","غ","غ","غ",null,{"$f":"'اسماء التلاميذ'!B$2","v":0},{"$f":"'اسماء التلاميذ'!B$3","v":0},{"$f":"'اسماء التلاميذ'!B$4","v":0},{"$f":"'اسماء التلاميذ'!F$4","v":"2021 - 2022"},{"$f":"'اسماء التلاميذ'!F$2","v":"الأول"},{"$f":"'اسماء التلاميذ'!F$3","v":"أ"},{"$f":"'اسماء التلاميذ'!F$37","v":"سعد حميد خلف"},{"$f":"'اسماء التلاميذ'!D38","v":0},{"$f":"'قائمة امتحان نصف السنة'!#REF!","v":{"$error":"#REF!"}},{"$f":"'قائمة نهاية السنة'!#REF!","v":{"$error":"#REF!"}},null,null,null,null,{"$f":"'قائمة امتحان نصف السنة'!#REF!","v":{"$error":"#REF!"}},{"$f":"'قائمة امتحان نصف السنة'!#REF!","v":{"$error":"#REF!"}},{"$f":"'قائمة امتحان نصف السنة'!#REF!","v":{"$error":"#REF!"}},{"$f":"'قائمة امتحان نصف السنة'!#REF!","v":{"$error":"#REF!"}},{"$f":"'قائمة امتحان نصف السنة'!#REF!","v":{"$error":"#REF!"}},{"$f":"'قائمة امتحان نصف السنة'!#REF!","v":{"$error":"#REF!"}},{"$f":"'قائمة امتحان نصف السنة'!#REF!","v":{"$error":"#REF!"}},{"$f":"'قائمة امتحان نصف السنة'!#REF!","v":{"$error":"#REF!"}},null,{"$f":"'قائمة نهاية السنة'!#REF!","v":{"$error":"#REF!"}},{"$f":"'قائمة نهاية السنة'!#REF!","v":{"$error":"#REF!"}},{"$f":"'قائمة نهاية السنة'!#REF!","v":{"$error":"#REF!"}},{"$f":"'قائمة نهاية السنة'!#REF!","v":{"$error":"#REF!"}},{"$f":"'قائمة نهاية السنة'!#REF!","v":{"$error":"#REF!"}},{"$f":"'قائمة نهاية السنة'!#REF!","v":{"$error":"#REF!"}},{"$f":"'قائمة نهاية السنة'!#REF!","v":{"$error":"#REF!"}}]
["",null,null,null,"غ","غ","غ","غ","غ","غ","غ","غ","غ","غ","غ","غ","غ","غ",null,{"$f":"'اسماء التلاميذ'!B$2","v":0},{"$f":"'اسماء التلاميذ'!B$3","v":0},{"$f":"'اسماء التلاميذ'!B$4","v":0},{"$f":"'اسماء التلاميذ'!F$4","v":"2021 - 2022"},{"$f":"'اسماء التلاميذ'!F$2","v":"الأول"},{"$f":"'اسماء التلاميذ'!F$3","v":"أ"},{"$f":"'اسماء التلاميذ'!F$37","v":"سعد حميد خلف"},{"$f":"'اسماء التلاميذ'!D39","v":0},{"$f":"'قائمة امتحان نصف السنة'!#REF!","v":{"$error":"#REF!"}},{"$f":"'قائمة نهاية السنة'!#REF!","v":{"$error":"#REF!"}},null,null,null,null,{"$f":"'قائمة امتحان نصف السنة'!#REF!","v":{"$error":"#REF!"}},{"$f":"'قائمة امتحان نصف السنة'!#REF!","v":{"$error":"#REF!"}},{"$f":"'قائمة امتحان نصف السنة'!#REF!","v":{"$error":"#REF!"}},{"$f":"'قائمة امتحان نصف السنة'!#REF!","v":{"$error":"#REF!"}},{"$f":"'قائمة امتحان نصف السنة'!#REF!","v":{"$error":"#REF!"}},{"$f":"'قائمة امتحان نصف السنة'!#REF!","v":{"$error":"#REF!"}},{"$f":"'قائمة امتحان نصف السنة'!#REF!","v":{"$error":"#REF!"}},{"$f":"'قائمة امتحان نصف السنة'!#REF!","v":{"$error":"#REF!"}},null,{"$f":"'قائمة نهاية السنة'!#REF!","v":{"$error":"#REF!"}},{"$f":"'قائمة نهاية السنة'!#REF!","v":{"$error":"#REF!"}},{"$f":"'قائمة نهاية السنة'!#REF!","v":{"$error":"#REF!"}},{"$f":"'قائمة نهاية السنة'!#REF!","v":{"$error":"#REF!"}},{"$f":"'قائمة نهاية السنة'!#REF!","v":{"$error":"#REF!"}},{"$f":"'قائمة نهاية السنة'!#REF!","v":{"$error":"#REF!"}},{"$f":"'قائمة نهاية السنة'!#REF!","v":{"$error":"#REF!"}}]
["",null,null,null,"غ","غ","غ","غ","غ","غ","غ","غ","غ","غ","غ","غ","غ","غ",null,{"$f":"'اسماء التلاميذ'!B$2","v":0},{"$f":"'اسماء التلاميذ'!B$3","v":0},{"$f":"'اسماء التلاميذ'!B$4","v":0},{"$f":"'اسماء التلاميذ'!F$4","v":"2021 - 2022"},{"$f":"'اسماء التلاميذ'!F$2","v":"الأول"},{"$f":"'اسماء التلاميذ'!F$3","v":"أ"},{"$f":"'اسماء التلاميذ'!F$37","v":"سعد حميد خلف"},{"$f":"'اسماء التلاميذ'!D40","v":0},{"$f":"'قائمة امتحان نصف السنة'!#REF!","v":{"$error":"#REF!"}},{"$f":"'قائمة نهاية السنة'!#REF!","v":{"$error":"#REF!"}},null,null,null,null,{"$f":"'قائمة امتحان نصف السنة'!#REF!","v":{"$error":"#REF!"}},{"$f":"'قائمة امتحان نصف السنة'!#REF!","v":{"$error":"#REF!"}},{"$f":"'قائمة امتحان نصف السنة'!#REF!","v":{"$error":"#REF!"}},{"$f":"'قائمة امتحان نصف السنة'!#REF!","v":{"$error":"#REF!"}},{"$f":"'قائمة امتحان نصف السنة'!#REF!","v":{"$error":"#REF!"}},{"$f":"'قائمة امتحان نصف السنة'!#REF!","v":{"$error":"#REF!"}},{"$f":"'قائمة امتحان نصف السنة'!#REF!","v":{"$error":"#REF!"}},{"$f":"'قائمة امتحان نصف السنة'!#REF!","v":{"$error":"#REF!"}},null,{"$f":"'قائمة نهاية السنة'!#REF!","v":{"$error":"#REF!"}},{"$f":"'قائمة نهاية السنة'!#REF!","v":{"$error":"#REF!"}},{"$f":"'قائمة نهاية السنة'!#REF!","v":{"$error":"#REF!"}},{"$f":"'قائمة نهاية السنة'!#REF!","v":{"$error":"#REF!"}},{"$f":"'قائمة نهاية السنة'!#REF!","v":{"$error":"#REF!"}},{"$f":"'قائمة نهاية السنة'!#REF!","v":{"$error":"#REF!"}},{"$f":"'قائمة نهاية السنة'!#REF!","v":{"$error":"#REF!"}}]
["",null,null,null,"غ","غ","غ","غ","غ","غ","غ","غ","غ","غ","غ","غ","غ","غ",null,{"$f":"'اسماء التلاميذ'!B$2","v":0},{"$f":"'اسماء التلاميذ'!B$3","v":0},{"$f":"'اسماء التلاميذ'!B$4","v":0},{"$f":"'اسماء التلاميذ'!F$4","v":"2021 - 2022"},{"$f":"'اسماء التلاميذ'!F$2","v":"الأول"},{"$f":"'اسماء التلاميذ'!F$3","v":"أ"},{"$f":"'اسماء التلاميذ'!F$37","v":"سعد حميد خلف"},{"$f":"'اسماء التلاميذ'!D41","v":0},{"$f":"'قائمة امتحان نصف السنة'!#REF!","v":{"$error":"#REF!"}},{"$f":"'قائمة نهاية السنة'!#REF!","v":{"$error":"#REF!"}},null,null,null,null,{"$f":"'قائمة امتحان نصف السنة'!#REF!","v":{"$error":"#REF!"}},{"$f":"'قائمة امتحان نصف السنة'!#REF!","v":{"$error":"#REF!"}},{"$f":"'قائمة امتحان نصف السنة'!#REF!","v":{"$error":"#REF!"}},{"$f":"'قائمة امتحان نصف السنة'!#REF!","v":{"$error":"#REF!"}},{"$f":"'قائمة امتحان نصف السنة'!#REF!","v":{"$error":"#REF!"}},{"$f":"'قائمة امتحان نصف السنة'!#REF!","v":{"$error":"#REF!"}},{"$f":"'قائمة امتحان نصف السنة'!#REF!","v":{"$error":"#REF!"}},{"$f":"'قائمة امتحان نصف السنة'!#REF!","v":{"$error":"#REF!"}},null,{"$f":"'قائمة نهاية السنة'!#REF!","v":{"$error":"#REF!"}},{"$f":"'قائمة نهاية السنة'!#REF!","v":{"$error":"#REF!"}},{"$f":"'قائمة نهاية السنة'!#REF!","v":{"$error":"#REF!"}},{"$f":"'قائمة نهاية السنة'!#REF!","v":{"$error":"#REF!"}},{"$f":"'قائمة نهاية السنة'!#REF!","v":{"$error":"#REF!"}},{"$f":"'قائمة نهاية السنة'!#REF!","v":{"$error":"#REF!"}},{"$f":"'قائمة نهاية السنة'!#REF!","v":{"$error":"#REF!"}}]
["",null,null,null,"غ","غ","غ","غ","غ","غ","غ","غ","غ","غ","غ","غ","غ","غ",null,{"$f":"'اسماء التلاميذ'!B$2","v":0},{"$f":"'اسماء التلاميذ'!B$3","v":0},{"$f":"'اسماء التلاميذ'!B$4","v":0},{"$f":"'اسماء التلاميذ'!F$4","v":"2021 - 2022"},{"$f":"'اسماء التلاميذ'!F$2","v":"الأول"},{"$f":"'اسماء التلاميذ'!F$3","v":"أ"},{"$f":"'اسماء التلاميذ'!F$37","v":"سعد حميد خلف"},{"$f":"'اسماء التلاميذ'!D42","v":0},{"$f":"'قائمة امتحان نصف السنة'!#REF!","v":{"$error":"#REF!"}},{"$f":"'قائمة نهاية السنة'!#REF!","v":{"$error":"#REF!"}},null,null,null,null,{"$f":"'قائمة امتحان نصف السنة'!#REF!","v":{"$error":"#REF!"}},{"$f":"'قائمة امتحان نصف السنة'!#REF!","v":{"$error":"#REF!"}},{"$f":"'قائمة امتحان نصف السنة'!#REF!","v":{"$error":"#REF!"}},{"$f":"'قائمة امتحان نصف السنة'!#REF!","v":{"$error":"#REF!"}},{"$f":"'قائمة امتحان نصف السنة'!#REF!","v":{"$error":"#REF!"}},{"$f":"'قائمة امتحان نصف السنة'!#REF!","v":{"$error":"#REF!"}},{"$f":"'قائمة امتحان نصف السنة'!#REF!","v":{"$error":"#REF!"}},{"$f":"'قائمة امتحان نصف السنة'!#REF!","v":{"$error":"#REF!"}},null,{"$f":"'قائمة نهاية السنة'!#REF!","v":{"$error":"#REF!"}},{"$f":"'قائمة نهاية السنة'!#REF!","v":{"$error":"#REF!"}},{"$f":"'قائمة نهاية السنة'!#REF!","v":{"$error":"#REF!"}},{"$f":"'قائمة نهاية السنة'!#REF!","v":{"$error":"#REF!"}},{"$f":"'قائمة نهاية السنة'!#REF!","v":{"$error":"#REF!"}},{"$f":"'قائمة نهاية السنة'!#REF!","v":{"$error":"#REF!"}},{"$f":"'قائمة نهاية السنة'!#REF!","v":{"$error":"#REF!"}}]
["",null,null,null,"غ","غ","غ","غ","غ","غ","غ","غ","غ","غ","غ","غ","غ","غ",null,{"$f":"'اسماء التلاميذ'!B$2","v":0},{"$f":"'اسماء التلاميذ'!B$3","v":0},{"$f":"'اسماء التلاميذ'!B$4","v":0},{"$f":"'اسماء التلاميذ'!F$4","v":"2021 - 2022"},{"$f":"'اسماء التلاميذ'!F$2","v":"الأول"},{"$f":"'اسماء التلاميذ'!F$3","v":"أ"},{"$f":"'اسماء التلاميذ'!F$37","v":"سعد حميد خلف"},{"$f":"'اسماء التلاميذ'!D43","v":0},{"$f":"'قائمة امتحان نصف السنة'!#REF!","v":{"$error":"#REF!"}},{"$f":"'قائمة نهاية السنة'!#REF!","v":{"$error":"#REF!"}},null,null,null,null,{"$f":"'قائمة امتحان نصف السنة'!#REF!","v":{"$error":"#REF!"}},{"$f":"'قائمة امتحان نصف السنة'!#REF!","v":{"$error":"#REF!"}},{"$f":"'قائمة امتحان نصف السنة'!#REF!","v":{"$error":"#REF!"}},{"$f":"'قائمة امتحان نصف السنة'!#REF!","v":{"$error":"#REF!"}},{"$f":"'قائمة امتحان نصف السنة'!#REF!","v":{"$error":"#REF!"}},{"$f":"'قائمة امتحان نصف السنة'!#REF!","v":{"$error":"#REF!"}},{"$f":"'قائمة امتحان نصف السنة'!#REF!","v":{"$error":"#REF!"}},{"$f":"'قائمة امتحان نصف السنة'!#REF!","v":{"$error":"#REF!"}},null,{"$f":"'قائمة نهاية السنة'!#REF!","v":{"$error":"#REF!"}},{"$f":"'قائمة نهاية السنة'!#REF!","v":{"$error":"#REF!"}},{"$f":"'قائمة نهاية السنة'!#REF!","v":{"$error":"#REF!"}},{"$f":"'قائمة نهاية السنة'!#REF!","v":{"$error":"#REF!"}},{"$f":"'قائمة نهاية السنة'!#REF!","v":{"$error":"#REF!"}},{"$f":"'قائمة نهاية السنة'!#REF!","v":{"$error":"#REF!"}},{"$f":"'قائمة نهاية السنة'!#REF!","v":{"$error":"#REF!"}}]
["",null,null,null,"غ","غ","غ","غ","غ","غ","غ","غ","غ","غ","غ","غ","غ","غ",null,{"$f":"'اسماء التلاميذ'!B$2","v":0},{"$f":"'اسماء التلاميذ'!B$3","v":0},{"$f":"'اسماء التلاميذ'!B$4","v":0},{"$f":"'اسماء التلاميذ'!F$4","v":"2021 - 2022"},{"$f":"'اسماء التلاميذ'!F$2","v":"الأول"},{"$f":"'اسماء التلاميذ'!F$3","v":"أ"},{"$f":"'اسماء التلاميذ'!F$37","v":"سعد حميد خلف"},{"$f":"'اسماء التلاميذ'!D44","v":0},{"$f":"'قائمة امتحان نصف السنة'!#REF!","v":{"$error":"#REF!"}},{"$f":"'قائمة نهاية السنة'!#REF!","v":{"$error":"#REF!"}},null,null,null,null,{"$f":"'قائمة امتحان نصف السنة'!#REF!","v":{"$error":"#REF!"}},{"$f":"'قائمة امتحان نصف السنة'!#REF!","v":{"$error":"#REF!"}},{"$f":"'قائمة امتحان نصف السنة'!#REF!","v":{"$error":"#REF!"}},{"$f":"'قائمة امتحان نصف السنة'!#REF!","v":{"$error":"#REF!"}},{"$f":"'قائمة امتحان نصف السنة'!#REF!","v":{"$error":"#REF!"}},{"$f":"'قائمة امتحان نصف السنة'!#REF!","v":{"$error":"#REF!"}},{"$f":"'قائمة امتحان نصف السنة'!#REF!","v":{"$error":"#REF!"}},{"$f":"'قائمة امتحان نصف السنة'!#REF!","v":{"$error":"#REF!"}},null,{"$f":"'قائمة نهاية السنة'!#REF!","v":{"$error":"#REF!"}},{"$f":"'قائمة نهاية السنة'!#REF!","v":{"$error":"#REF!"}},{"$f":"'قائمة نهاية السنة'!#REF!","v":{"$error":"#REF!"}},{"$f":"'قائمة نهاية السنة'!#REF!","v":{"$error":"#REF!"}},{"$f":"'قائمة نهاية السنة'!#REF!","v":{"$error":"#REF!"}},{"$f":"'قائمة نهاية السنة'!#REF!","v":{"$error":"#REF!"}},{"$f":"'قائمة نهاية السنة'!#REF!","v":{"$error":"#REF!"}}]
["",null,null,null,"غ","غ","غ","غ","غ","غ","غ","غ","غ","غ","غ","غ","غ","غ",null,{"$f":"'اسماء التلاميذ'!B$2","v":0},{"$f":"'اسماء التلاميذ'!B$3","v":0},{"$f":"'اسماء التلاميذ'!B$4","v":0},{"$f":"'اسماء التلاميذ'!F$4","v":"2021 - 2022"},{"$f":"'اسماء التلاميذ'!F$2","v":"الأول"},{"$f":"'اسماء التلاميذ'!F$3","v":"أ"},{"$f":"'اسماء التلاميذ'!F$37","v":"سعد حميد خلف"},{"$f":"'اسماء التلاميذ'!D45","v":0},{"$f":"'قائمة امتحان نصف السنة'!#REF!","v":{"$error":"#REF!"}},{"$f":"'قائمة نهاية السنة'!#REF!","v":{"$error":"#REF!"}},null,null,null,null,{"$f":"'قائمة امتحان نصف السنة'!#REF!","v":{"$error":"#REF!"}},{"$f":"'قائمة امتحان نصف السنة'!#REF!","v":{"$error":"#REF!"}},{"$f":"'قائمة امتحان نصف السنة'!#REF!","v":{"$error":"#REF!"}},{"$f":"'قائمة امتحان نصف السنة'!#REF!","v":{"$error":"#REF!"}},{"$f":"'قائمة امتحان نصف السنة'!#REF!","v":{"$error":"#REF!"}},{"$f":"'قائمة امتحان نصف السنة'!#REF!","v":{"$error":"#REF!"}},{"$f":"'قائمة امتحان نصف السنة'!#REF!","v":{"$error":"#REF!"}},{"$f":"'قائمة امتحان نصف السنة'!#REF!","v":{"$error":"#REF!"}},null,{"$f":"'قائمة نهاية السنة'!#REF!","v":{"$error":"#REF!"}},{"$f":"'قائمة نهاية السنة'!#REF!","v":{"$error":"#REF!"}},{"$f":"'قائمة نهاية السنة'!#REF!","v":{"$error":"#REF!"}},{"$f":"'قائمة نهاية السنة'!#REF!","v":{"$error":"#REF!"}},{"$f":"'قائمة نهاية السنة'!#REF!","v":{"$error":"#REF!"}},{"$f":"'قائمة نهاية السنة'!#REF!","v":{"$error":"#REF!"}},{"$f":"'قائمة نهاية السنة'!#REF!","v":{"$error":"#REF!"}}]
["",null,null,null,"غ","غ","غ","غ","غ","غ","غ","غ","غ","غ","غ","غ","غ","غ",null,{"$f":"'اسماء التلاميذ'!B$2","v":0},{"$f":"'اسماء التلاميذ'!B$3","v":0},{"$f":"'اسماء التلاميذ'!B$4","v":0},{"$f":"'اسماء التلاميذ'!F$4","v":"2021 - 2022"},{"$f":"'اسماء التلاميذ'!F$2","v":"الأول"},{"$f":"'اسماء التلاميذ'!F$3","v":"أ"},{"$f":"'اسماء التلاميذ'!F$37","v":"سعد حميد خلف"},{"$f":"'اسماء التلاميذ'!D46","v":0},{"$f":"'قائمة امتحان نصف السنة'!#REF!","v":{"$error":"#REF!"}},{"$f":"'قائمة نهاية السنة'!#REF!","v":{"$error":"#REF!"}},null,null,null,null,{"$f":"'قائمة امتحان نصف السنة'!#REF!","v":{"$error":"#REF!"}},{"$f":"'قائمة امتحان نصف السنة'!#REF!","v":{"$error":"#REF!"}},{"$f":"'قائمة امتحان نصف السنة'!#REF!","v":{"$error":"#REF!"}},{"$f":"'قائمة امتحان نصف السنة'!#REF!","v":{"$error":"#REF!"}},{"$f":"'قائمة امتحان نصف السنة'!#REF!","v":{"$error":"#REF!"}},{"$f":"'قائمة امتحان نصف السنة'!#REF!","v":{"$error":"#REF!"}},{"$f":"'قائمة امتحان نصف السنة'!#REF!","v":{"$error":"#REF!"}},{"$f":"'قائمة امتحان نصف السنة'!#REF!","v":{"$error":"#REF!"}},null,{"$f":"'قائمة نهاية السنة'!#REF!","v":{"$error":"#REF!"}},{"$f":"'قائمة نهاية السنة'!#REF!","v":{"$error":"#REF!"}},{"$f":"'قائمة نهاية السنة'!#REF!","v":{"$error":"#REF!"}},{"$f":"'قائمة نهاية السنة'!#REF!","v":{"$error":"#REF!"}},{"$f":"'قائمة نهاية السنة'!#REF!","v":{"$error":"#REF!"}},{"$f":"'قائمة نهاية السنة'!#REF!","v":{"$error":"#REF!"}},{"$f":"'قائمة نهاية السنة'!#REF!","v":{"$error":"#REF!"}}]
[null,null,null,null,0,0,0,0,0,0,0,"غ","غ","غ","غ",0,"غ","غ",null,{"$f":"'اسماء التلاميذ'!B$2","v":0},{"$f":"'اسماء التلاميذ'!B$3","v":0},{"$f":"'اسماء التلاميذ'!B$4","v":0},{"$f":"'اسماء التلاميذ'!F$4","v":"2021 - 2022"},{"$f":"'اسماء التلاميذ'!F$2","v":"الأول"},{"$f":"'اسماء التلاميذ'!F$3","v":"أ"},{"$f":"'اسماء التلاميذ'!F$37","v":"سعد حميد خلف"},{"$f":"'اسماء التلاميذ'!D47","v":0},null,null,null,null,null,null,null,null,null,null,null,null,null,null,null,{"$f":"IFERROR(ROUND((#REF!),0),\"غ\")","v":"غ"},{"$f":"IFERROR(ROUND((#REF!),0),\"غ\")","v":"غ"},{"$f":"IFERROR(ROUND((#REF!),0),\"غ\")","v":"غ"},{"$f":"IFERROR(ROUND((#REF!),0),\"غ\")","v":"غ"},null,{"$f":"IFERROR(ROUND((#REF!),0),\"غ\")","v":"غ"},{"$f":"IFERROR(ROUND((#REF!),0),\"غ\")","v":"غ"}]
[null,null,null,null,0,0,0,0,0,0,0,"غ","غ","غ","غ",0,"غ","غ",null,{"$f":"'اسماء التلاميذ'!B$2","v":0},{"$f":"'اسماء التلاميذ'!B$3","v":0},{"$f":"'اسماء التلاميذ'!B$4","v":0},{"$f":"'اسماء التلاميذ'!F$4","v":"2021 - 2022"},{"$f":"'اسماء التلاميذ'!F$2","v":"الأول"},{"$f":"'اسماء التلاميذ'!F$3","v":"أ"},{"$f":"'اسماء التلاميذ'!F$37","v":"سعد حميد خلف"},{"$f":"'اسماء التلاميذ'!D48","v":0},null,null,null,null,null,null,null,null,null,null,null,null,null,null,null,{"$f":"IFERROR(ROUND((#REF!),0),\"غ\")","v":"غ"},{"$f":"IFERROR(ROUND((#REF!),0),\"غ\")","v":"غ"},{"$f":"IFERROR(ROUND((#REF!),0),\"غ\")","v":"غ"},{"$f":"IFERROR(ROUND((#REF!),0),\"غ\")","v":"غ"},null,{"$f":"IFERROR(ROUND((#REF!),0),\"غ\")","v":"غ"},{"$f":"IFERROR(ROUND((#REF!),0),\"غ\")","v":"غ"}]
[null,null,null,null,0,0,0,0,0,0,0,"غ","غ","غ","غ",0,"غ","غ",null,{"$f":"'اسماء التلاميذ'!B$2","v":0},{"$f":"'اسماء التلاميذ'!B$3","v":0},{"$f":"'اسماء التلاميذ'!B$4","v":0},{"$f":"'اسماء التلاميذ'!F$4","v":"2021 - 2022"},{"$f":"'اسماء التلاميذ'!F$2","v":"الأول"},{"$f":"'اسماء التلاميذ'!F$3","v":"أ"},{"$f":"'اسماء التلاميذ'!F$37","v":"سعد حميد خلف"},{"$f":"'اسماء التلاميذ'!D49","v":0},null,null,null,null,null,null,null,null,null,null,null,null,null,null,null,{"$f":"IFERROR(ROUND((#REF!),0),\"غ\")","v":"غ"},{"$f":"IFERROR(ROUND((#REF!),0),\"غ\")","v":"غ"},{"$f":"IFERROR(ROUND((#REF!),0),\"غ\")","v":"غ"},{"$f":"IFERROR(ROUND((#REF!),0),\"غ\")","v":"غ"},null,{"$f":"IFERROR(ROUND((#REF!),0),\"غ\")","v":"غ"},{"$f":"IFERROR(ROUND((#REF!),0),\"غ\")","v":"غ"}]
[null,null,null,null,0,0,0,0,0,0,0,"غ","غ","غ","غ",0,"غ","غ",null,{"$f":"'اسماء التلاميذ'!B$2","v":0},{"$f":"'اسماء التلاميذ'!B$3","v":0},{"$f":"'اسماء التلاميذ'!B$4","v":0},{"$f":"'اسماء التلاميذ'!F$4","v":"2021 - 2022"},{"$f":"'اسماء التلاميذ'!F$2","v":"الأول"},{"$f":"'اسماء التلاميذ'!F$3","v":"أ"},{"$f":"'اسماء التلاميذ'!F$37","v":"سعد حميد خلف"},{"$f":"'اسماء التلاميذ'!D50","v":0},null,null,null,null,null,null,null,null,null,null,null,null,null,null,null,{"$f":"IFERROR(ROUND((#REF!),0),\"غ\")","v":"غ"},{"$f":"IFERROR(ROUND((#REF!),0),\"غ\")","v":"غ"},{"$f":"IFERROR(ROUND((#REF!),0),\"غ\")","v":"غ"},{"$f":"IFERROR(ROUND((#REF!),0),\"غ\")","v":"غ"},null,{"$f":"IFERROR(ROUND((#REF!),0),\"غ\")","v":"غ"},{"$f":"IFERROR(ROUND((#REF!),0),\"غ\")","v":"غ"}]
[null,null,null,null,0,0,0,0,0,0,0,"غ","غ","غ","غ",0,"غ","غ",null,{"$f":"'اسماء التلاميذ'!B$2","v":0},{"$f":"'اسماء التلاميذ'!B$3","v":0},{"$f":"'اسماء التلاميذ'!B$4","v":0},{"$f":"'اسماء التلاميذ'!F$4","v":"2021 - 2022"},{"$f":"'اسماء التلاميذ'!F$2","v":"الأول"},{"$f":"'اسماء التلاميذ'!F$3","v":"أ"},{"$f":"'اسماء التلاميذ'!F$37","v":"سعد حميد خلف"},{"$f":"'اسماء التلاميذ'!D51","v":0},null,null,null,null,null,null,null,null,null,null,null,null,null,null,null,{"$f":"IFERROR(ROUND((#REF!),0),\"غ\")","v":"غ"},{"$f":"IFERROR(ROUND((#REF!),0),\"غ\")","v":"غ"},{"$f":"IFERROR(ROUND((#REF!),0),\"غ\")","v":"غ"},{"$f":"IFERROR(ROUND((#REF!),0),\"غ\")","v":"غ"},null,{"$f":"IFERROR(ROUND((#REF!),0),\"غ\")","v":"غ"},{"$f":"IFERROR(ROUND((#REF!),0),\"غ\")","v":"غ"}]
[null,null,null,null,0,0,0,0,0,0,0,"غ","غ","غ","غ",0,"غ","غ",null,{"$f":"'اسماء التلاميذ'!B$2","v":0},{"$f":"'اسماء التلاميذ'!B$3","v":0},{"$f":"'اسماء التلاميذ'!B$4","v":0},{"$f":"'اسماء التلاميذ'!F$4","v":"2021 - 2022"},{"$f":"'اسماء التلاميذ'!F$2","v":"الأول"},{"$f":"'اسماء التلاميذ'!F$3","v":"أ"},{"$f":"'اسماء التلاميذ'!F$37","v":"سعد حميد خلف"},{"$f":"'اسماء التلاميذ'!D52","v":0},null,null,null,null,null,null,null,null,null,null,null,null,null,null,null,{"$f":"IFERROR(ROUND((#REF!),0),\"غ\")","v":"غ"},{"$f":"IFERROR(ROUND((#REF!),0),\"غ\")","v":"غ"},{"$f":"IFERROR(ROUND((#REF!),0),\"غ\")","v":"غ"},{"$f":"IFERROR(ROUND((#REF!),0),\"غ\")","v":"غ"},null,{"$f":"IFERROR(ROUND((#REF!),0),\"غ\")","v":"غ"},{"$f":"IFERROR(ROUND((#REF!),0),\"غ\")","v":"غ"}]

{"sheet":"ناجحة","index":36,"n_rows":7,"n_cols":23,"rows_kept":7,"cut":false,"hidden":false,"merged":[[4,4,5,4],[0,0,0,2],[0,3,0,10],[1,0,1,2],[1,3,1,10],[2,0,2,2],[2,3,2,11],[3,0,3,2],[4,0,5,0],[4,1,5,1],[4,2,5,2],[4,3,5,3],[4,11,4,13],[4,15,5,15],[4,16,5,16],[5,12,5,13],[4,5,5,5],[4,6,5,6],[4,7,5,7],[4,8,5,8],[4,9,5,9],[4,10,5,10]]}
["جمهورية العراق",null,null,"            قائمة درجات نهاية السنة",null,null,null,null,null,null,null,null,null,"الصف",{"$f":"'اسماء التلاميذ'!F2","v":"الأول"}]
["وزارة التربية",null,null,"           للعام الدراسي",null,null,null,null,null,null,null,null,null,"الشعبة",{"$f":"'اسماء التلاميذ'!F3","v":"أ"}]
["إدارة",null,null,{"$f":"'اسماء التلاميذ'!F4","v":"2021 - 2022"}]
[{"$f":"'اسماء التلاميذ'!B2","v":0}]
["ت","رقم القبول","الاسم الثلاثي","الجنس","الإسلامية","عربي","رياضيات","علوم","إنكليزي","الفنية والنشيد","التربية الرياضة","المجموع رقما وكتابة",null,null,null,"حالة التلميذ","عدد مواد الرسوب"]
[null,null,null,null,null,null,null,null,null,null,null,"رقما","كتابة"]
[null,null,null,null,null,null,null,null,null,null,null,null,null,null,null,null,null,null,null,null,null,null,0]

{"sheet":"راسبة","index":37,"n_rows":7,"n_cols":25,"rows_kept":7,"cut":false,"hidden":false,"merged":[[4,4,5,4],[0,0,0,2],[0,3,0,10],[1,0,1,2],[1,3,1,10],[2,0,2,2],[2,3,2,11],[3,0,3,2],[4,0,5,0],[4,1,5,1],[4,2,5,2],[4,3,5,3],[4,11,4,13],[4,15,5,15],[4,16,5,16],[5,12,5,13],[4,5,5,5],[4,6,5,6],[4,7,5,7],[4,8,5,8],[4,9,5,9],[4,10,5,10]]}
["جمهورية العراق",null,null,"            قائمة درجات نهاية السنة",null,null,null,null,null,null,null,null,null,"الصف",{"$f":"'اسماء التلاميذ'!F2","v":"الأول"}]
["وزارة التربية",null,null,"           للعام الدراسي",null,null,null,null,null,null,null,null,null,"الشعبة",{"$f":"'اسماء التلاميذ'!F3","v":"أ"}]
["إدارة",null,null,{"$f":"'اسماء التلاميذ'!F4","v":"2021 - 2022"}]
[{"$f":"'اسماء التلاميذ'!B2","v":0}]
["ت","رقم القبول","الاسم الثلاثي","الجنس","الإسلامية","عربي","رياضيات","علوم","إنكليزي","الفنية والنشيد","التربية الرياضة","المجموع رقما وكتابة",null,null,null,"حالة التلميذ","عدد مواد الرسوب"]
[null,null,null,null,null,null,null,null,null,null,null,"رقما","كتابة"]
[null,null,null,null,null,null,null,null,null,null,null,null,null,null,null,null,null,null,null,null,null,null,33,32.666666666666671,"راسب"]

{"sheet":"مكملة","index":38,"n_rows":8,"n_cols":25,"rows_kept":8,"cut":false,"hidden":false,"merged":[[4,4,5,4],[0,0,0,2],[0,3,0,10],[1,0,1,2],[1,3,1,10],[2,0,2,2],[2,3,2,11],[3,0,3,2],[4,0,5,0],[4,1,5,1],[4,2,5,2],[4,3,5,3],[4,11,4,13],[4,15,5,15],[4,16,5,16],[5,12,5,13],[4,5,5,5],[4,6,5,6],[4,7,5,7],[4,8,5,8],[4,9,5,9],[4,10,5,10]]}
["جمهورية العراق",null,null,"            قائمة درجات نهاية السنة",null,null,null,null,null,null,null,null,null,"الصف",{"$f":"'اسماء التلاميذ'!F2","v":"الأول"}]
["وزارة التربية",null,null,"           للعام الدراسي",null,null,null,null,null,null,null,null,null,"الشعبة",{"$f":"'اسماء التلاميذ'!F3","v":"أ"}]
["إدارة",null,null,{"$f":"'اسماء التلاميذ'!F4","v":"2021 - 2022"}]
[{"$f":"'اسماء التلاميذ'!B2","v":0}]
["ت","رقم القبول","الاسم الثلاثي","الجنس","الإسلامية","عربي","رياضيات","علوم","إنكليزي","الفنية والنشيد","التربية الرياضة","المجموع رقما وكتابة",null,null,null,"حالة التلميذ","عدد مواد الرسوب"]
[null,null,null,null,null,null,null,null,null,null,null,"رقما","كتابة"]
[null,null,null,null,null,null,null,null,null,null,null,null,null,null,null,null,null,null,null,null,null,null,19,19,"راسب"]
[null,null,null,null,null,null,null,null,null,null,null,null,null,null,null,null,null,null,null,null,null,null,14,13.666666666666668,"راسب"]

{"sheet":"غائبة","index":39,"n_rows":7,"n_cols":25,"rows_kept":7,"cut":false,"hidden":false,"merged":[[4,4,5,4],[0,0,0,2],[0,3,0,10],[1,0,1,2],[1,3,1,10],[2,0,2,2],[2,3,2,11],[3,0,3,2],[4,0,5,0],[4,1,5,1],[4,2,5,2],[4,3,5,3],[4,11,4,13],[4,15,5,15],[4,16,5,16],[5,12,5,13],[4,5,5,5],[4,6,5,6],[4,7,5,7],[4,8,5,8],[4,9,5,9],[4,10,5,10]]}
["جمهورية العراق",null,null,"            قائمة درجات نهاية السنة",null,null,null,null,null,null,null,null,null,"الصف",{"$f":"'اسماء التلاميذ'!F2","v":"الأول"}]
["وزارة التربية",null,null,"           للعام الدراسي",null,null,null,null,null,null,null,null,null,"الشعبة",{"$f":"'اسماء التلاميذ'!F3","v":"أ"}]
["إدارة",null,null,{"$f":"'اسماء التلاميذ'!F4","v":"2021 - 2022"}]
[{"$f":"'اسماء التلاميذ'!B2","v":0}]
["ت","رقم القبول","الاسم الثلاثي","الجنس","الإسلامية","عربي","رياضيات","علوم","إنكليزي","الفنية والنشيد","التربية الرياضة","المجموع رقما وكتابة",null,null,null,"حالة التلميذ","عدد مواد الرسوب"]
[null,null,null,null,null,null,null,null,null,null,null,"رقما","كتابة"]
[null,null,null,null,null,null,null,null,null,null,null,null,null,null,null,null,null,null,null,null,null,null,"غ","غ","راسب"]

{"sheet":"سجل وسط نهاية السنة","index":40,"n_rows":42,"n_cols":16,"rows_kept":42,"cut":false,"hidden":false,"merged":[[0,0,0,2],[0,3,0,10],[1,0,1,2],[1,3,1,10],[2,0,2,2],[4,15,5,15],[5,12,5,14],[37,0,37,1],[37,2,37,3],[37,4,37,5],[37,6,37,7],[4,5,5,5],[4,6,5,6],[4,7,5,7],[4,8,5,8],[4,9,5,9],[4,10,5,10],[4,4,5,4],[4,0,5,0],[4,1,5,1],[40,12,40,14],[41,12,41,14],[2,5,2,8],[3,3,3,11],[4,11,4,14],[37,8,37,9],[37,10,37,11],[37,12,37,13],[4,2,5,3],[3,0,3,2]]}
["جمهورية العراق",null,null,"          الدرجات للصفوف الأولية",null,null,null,null,null,null,null,null,null,"الصف",{"$f":"'اسماء التلاميذ'!F2","v":"الأول"}]
["وزارة التربية",null,null,"(امتحان نهاية السنة)         ",null,null,null,null,null,null,null,null,null,"الشعبة",{"$f":"'اسماء التلاميذ'!F3","v":"أ"}]
["إدارة",null,null,null,null,"              للسنة الدراسية"]
[{"$f":"'اسماء التلاميذ'!B2","v":0},null,null,{"$f":"'اسماء التلاميذ'!F4","v":"2021 - 2022"}]
["ت","رقم القبول","الاسم الثلاثي",null,"التربية الإسلامية","اللغة العربية","الرياضيات","العلوم","الإنكليزي","الفنية والنشيد","التربية الرياضية","المجموع رقما وكتابة",null,null,null,"حالة التلميذ"]
[null,null,null,null,null,null,null,null,null,null,null,"رقما","كتابة"]
[4,"نوري",null,null,{"$f":"'اسلامية نهاية السنة'!L7","v":7},{"$f":"'عربي نهاية السنة'!AE7","v":2},{"$f":"'رياضيات نهاية السنة'!F7","v":7},{"$f":"'علوم نهاية السنة'!F7","v":6},{"$f":"'انكليزي نهاية السنة'!L7","v":7},{"$f":"'فنية نهاية السنة'!J7","v":9},{"$f":"'رياضة نهاية السنة'!L7","v":10},48,{"$f":"IFERROR(IF(L7=\"\",\"\",IF(L7=0,\"\",n2t(L7))),\"\")","v":"ثـمـان وأربـعونَ"},null,null,{"$f":"IF(COUNTIF(E7:K7,\"<>\")<7,\"\",IF(COUNTIF(E7:K7,\"0\")>=7,IF($BB7=\"انثى\",\"\",\"\"),IF(COUNTIF(E7:K7,\"<5\")+COUNTIF(E7:K7,\"0\")>=3,IF($BB7=\"انثى\",\"راسبة\",\"راسب\"),IF(COUNTIF(E7:K7,\"<5\")+COUNTIF(E7:K7,\"غ\")=2,IF($BB7=\"انثى\",\"مكملة بدرسين\",\"مكمل بدرسين\"),IF(COUNTIF(E7:K7,\"غ\")=7,IF($BB7=\"انثى\",\"غائبة\",\"غائب\"),IF(COUNTIF(E7:K7,\"<5\")+COUNTIF(E7:K7,\"غ\")>1,IF($BB7=\"انثى\",\"راسبة\",\"راسب\"),IF(COUNTIF(E7:K7,\"<5\")+COUNTIF(E7:K7,\"غ\")=1,IF($BB7=\"انثى\",\"مكملة بدرس\",\"مكمل بدرس\"),IF($BB7=\"انثى\",\"ناجحة\",\"ناجح\"))))))))","v":"مكمل بدرس"}]
[5,"احمد",null,null,{"$f":"'اسلامية نهاية السنة'!L8","v":6},{"$f":"'عربي نهاية السنة'!AE8","v":5},{"$f":"'رياضيات نهاية السنة'!F8","v":5},{"$f":"'علوم نهاية السنة'!F8","v":5},{"$f":"'انكليزي نهاية السنة'!L8","v":5},{"$f":"'فنية نهاية السنة'!J8","v":9},{"$f":"'رياضة نهاية السنة'!L8","v":10},45,{"$f":"IFERROR(IF(L8=\"\",\"\",IF(L8=0,\"\",n2t(L8))),\"\")","v":"خـمـس وأربـعونَ"},null,null,{"$f":"IF(COUNTIF(E8:K8,\"<>\")<7,\"\",IF(COUNTIF(E8:K8,\"0\")>=7,IF($BB8=\"انثى\",\"\",\"\"),IF(COUNTIF(E8:K8,\"<5\")+COUNTIF(E8:K8,\"0\")>=3,IF($BB8=\"انثى\",\"راسبة\",\"راسب\"),IF(COUNTIF(E8:K8,\"<5\")+COUNTIF(E8:K8,\"غ\")=2,IF($BB8=\"انثى\",\"مكملة بدرسين\",\"مكمل بدرسين\"),IF(COUNTIF(E8:K8,\"غ\")=7,IF($BB8=\"انثى\",\"غائبة\",\"غائب\"),IF(COUNTIF(E8:K8,\"<5\")+COUNTIF(E8:K8,\"غ\")>1,IF($BB8=\"انثى\",\"راسبة\",\"راسب\"),IF(COUNTIF(E8:K8,\"<5\")+COUNTIF(E8:K8,\"غ\")=1,IF($BB8=\"انثى\",\"مكملة بدرس\",\"مكمل بدرس\"),IF($BB8=\"انثى\",\"ناجحة\",\"ناجح\"))))))))","v":"ناجح"}]
[6,null,null,null,{"$f":"'اسلامية نهاية السنة'!L9","v":8},{"$f":"'عربي نهاية السنة'!AE9","v":8},{"$f":"'رياضيات نهاية السنة'!F9","v":8},{"$f":"'علوم نهاية السنة'!F9","v":7},{"$f":"'انكليزي نهاية السنة'!L9","v":6},{"$f":"'فنية نهاية السنة'!J9","v":10},{"$f":"'رياضة نهاية السنة'!L9","v":10},57,{"$f":"IFERROR(IF(L9=\"\",\"\",IF(L9=0,\"\",n2t(L9))),\"\")","v":"سـبـع وخـمـسونَ"},null,null,"ناجح"]
[7,null,null,null,{"$f":"'اسلامية نهاية السنة'!L10","v":5},{"$f":"'عربي نهاية السنة'!AE10","v":5},{"$f":"'رياضيات نهاية السنة'!F10","v":5},{"$f":"'علوم نهاية السنة'!F10","v":5},{"$f":"'انكليزي نهاية السنة'!L10","v":5},{"$f":"'فنية نهاية السنة'!J10","v":9},{"$f":"'رياضة نهاية السنة'!L10","v":9},43,{"$f":"IFERROR(IF(L10=\"\",\"\",IF(L10=0,\"\",n2t(L10))),\"\")","v":"ثـلاث وأربـعونَ"},null,null,"ناجح"]
[8,null,null,null,{"$f":"'اسلامية نهاية السنة'!L11","v":7},{"$f":"'عربي نهاية السنة'!AE11","v":6},{"$f":"'رياضيات نهاية السنة'!F11","v":7},{"$f":"'علوم نهاية السنة'!F11","v":6},{"$f":"'انكليزي نهاية السنة'!L11","v":7},{"$f":"'فنية نهاية السنة'!J11","v":9},{"$f":"'رياضة نهاية السنة'!L11","v":10},52,{"$f":"IFERROR(IF(L11=\"\",\"\",IF(L11=0,\"\",n2t(L11))),\"\")","v":"اثنتانِ وخـمـسونَ"},null,null,"ناجح"]
[9,null,null,null,{"$f":"'اسلامية نهاية السنة'!L12","v":5},{"$f":"'عربي نهاية السنة'!AE12","v":2},{"$f":"'رياضيات نهاية السنة'!F12","v":2},{"$f":"'علوم نهاية السنة'!F12","v":2},{"$f":"'انكليزي نهاية السنة'!L12","v":5},{"$f":"'فنية نهاية السنة'!J12","v":6},{"$f":"'رياضة نهاية السنة'!L12","v":9},31,{"$f":"IFERROR(IF(L12=\"\",\"\",IF(L12=0,\"\",n2t(L12))),\"\")","v":"إحدى وثـلاثونَ"},null,null,"راسب"]
[10,null,null,null,{"$f":"'اسلامية نهاية السنة'!L13","v":9},{"$f":"'عربي نهاية السنة'!AE13","v":7},{"$f":"'رياضيات نهاية السنة'!F13","v":7},{"$f":"'علوم نهاية السنة'!F13","v":8},{"$f":"'انكليزي نهاية السنة'!L13","v":7},{"$f":"'فنية نهاية السنة'!J13","v":10},{"$f":"'رياضة نهاية السنة'!L13","v":10},58,{"$f":"IFERROR(IF(L13=\"\",\"\",IF(L13=0,\"\",n2t(L13))),\"\")","v":"ثـمـان وخـمـسونَ"},null,null,"ناجح"]
[11,null,null,null,{"$f":"'اسلامية نهاية السنة'!L14","v":8},{"$f":"'عربي نهاية السنة'!AE14","v":6},{"$f":"'رياضيات نهاية السنة'!F14","v":7},{"$f":"'علوم نهاية السنة'!F14","v":5},{"$f":"'انكليزي نهاية السنة'!L14","v":6},{"$f":"'فنية نهاية السنة'!J14","v":8},{"$f":"'رياضة نهاية السنة'!L14","v":9},49,{"$f":"IFERROR(IF(L14=\"\",\"\",IF(L14=0,\"\",n2t(L14))),\"\")","v":"تـسـع وأربـعونَ"},null,null,"ناجح"]
[12,null,null,null,{"$f":"'اسلامية نهاية السنة'!L15","v":"غ"},{"$f":"'عربي نهاية السنة'!AE15","v":"غ"},{"$f":"'رياضيات نهاية السنة'!F15","v":"غ"},{"$f":"'علوم نهاية السنة'!F15","v":"غ"},{"$f":"'انكليزي نهاية السنة'!L15","v":"غ"},{"$f":"'فنية نهاية السنة'!J15","v":"غ"},{"$f":"'رياضة نهاية السنة'!L15","v":"غ"},"غ",{"$f":"IFERROR(IF(L15=\"\",\"\",IF(L15=0,\"\",n2t(L15))),\"\")","v":"غـائـب"},null,null,"غائب"]
[13,null,null,null,{"$f":"'اسلامية نهاية السنة'!L16","v":7},{"$f":"'عربي نهاية السنة'!AE16","v":6},{"$f":"'رياضيات نهاية السنة'!F16","v":6},{"$f":"'علوم نهاية السنة'!F16","v":6},{"$f":"'انكليزي نهاية السنة'!L16","v":5},{"$f":"'فنية نهاية السنة'!J16","v":10},{"$f":"'رياضة نهاية السنة'!L16","v":9},49,{"$f":"IFERROR(IF(L16=\"\",\"\",IF(L16=0,\"\",n2t(L16))),\"\")","v":"تـسـع وأربـعونَ"},null,null,"ناجح"]
[14,null,null,null,{"$f":"'اسلامية نهاية السنة'!L17","v":7},{"$f":"'عربي نهاية السنة'!AE17","v":6},{"$f":"'رياضيات نهاية السنة'!F17","v":6},{"$f":"'علوم نهاية السنة'!F17","v":6},{"$f":"'انكليزي نهاية السنة'!L17","v":5},{"$f":"'فنية نهاية السنة'!J17","v":10},{"$f":"'رياضة نهاية السنة'!L17","v":9},49,{"$f":"IFERROR(IF(L17=\"\",\"\",IF(L17=0,\"\",n2t(L17))),\"\")","v":"تـسـع وأربـعونَ"},null,null,"ناجح"]
[15,null,null,null,{"$f":"'اسلامية نهاية السنة'!L18","v":"غ"},{"$f":"'عربي نهاية السنة'!AE18","v":"غ"},{"$f":"'رياضيات نهاية السنة'!F18","v":"غ"},{"$f":"'علوم نهاية السنة'!F18","v":"غ"},{"$f":"'انكليزي نهاية السنة'!L18","v":"غ"},{"$f":"'فنية نهاية السنة'!J18","v":"غ"},{"$f":"'رياضة نهاية السنة'!L18","v":"غ"},"غ",{"$f":"IFERROR(IF(L18=\"\",\"\",IF(L18=0,\"\",n2t(L18))),\"\")","v":"غـائـب"},null,null,"غائب"]
[16,null,null,null,{"$f":"'اسلامية نهاية السنة'!L19","v":"غ"},{"$f":"'عربي نهاية السنة'!AE19","v":"غ"},{"$f":"'رياضيات نهاية السنة'!F19","v":"غ"},{"$f":"'علوم نهاية السنة'!F19","v":"غ"},{"$f":"'انكليزي نهاية السنة'!L19","v":"غ"},{"$f":"'فنية نهاية السنة'!J19","v":"غ"},{"$f":"'رياضة نهاية السنة'!L19","v":"غ"},"غ",{"$f":"IFERROR(IF(L19=\"\",\"\",IF(L19=0,\"\",n2t(L19))),\"\")","v":"غـائـب"},null,null,"غائب"]
[17,null,null,null,{"$f":"'اسلامية نهاية السنة'!L20","v":5},{"$f":"'عربي نهاية السنة'!AE20","v":2},{"$f":"'رياضيات نهاية السنة'!F20","v":5},{"$f":"'علوم نهاية السنة'!F20","v":5},{"$f":"'انكليزي نهاية السنة'!L20","v":6},{"$f":"'فنية نهاية السنة'!J20","v":9},{"$f":"'رياضة نهاية السنة'!L20","v":9},41,{"$f":"IFERROR(IF(L20=\"\",\"\",IF(L20=0,\"\",n2t(L20))),\"\")","v":"إحدى وأربـعونَ"},null,null,"مكمل بدرس"]
[18,null,null,null,{"$f":"'اسلامية نهاية السنة'!L21","v":10},{"$f":"'عربي نهاية السنة'!AE21","v":9},{"$f":"'رياضيات نهاية السنة'!F21","v":10},{"$f":"'علوم نهاية السنة'!F21","v":10},{"$f":"'انكليزي نهاية السنة'!L21","v":9},{"$f":"'فنية نهاية السنة'!J21","v":10},{"$f":"'رياضة نهاية السنة'!L21","v":10},68,{"$f":"IFERROR(IF(L21=\"\",\"\",IF(L21=0,\"\",n2t(L21))),\"\")","v":"ثـمـان وسـتونَ"},null,null,"ناجح"]
[19,null,null,null,{"$f":"'اسلامية نهاية السنة'!L22","v":7},{"$f":"'عربي نهاية السنة'!AE22","v":6},{"$f":"'رياضيات نهاية السنة'!F22","v":6},{"$f":"'علوم نهاية السنة'!F22","v":7},{"$f":"'انكليزي نهاية السنة'!L22","v":6},{"$f":"'فنية نهاية السنة'!J22","v":10},{"$f":"'رياضة نهاية السنة'!L22","v":10},52,{"$f":"IFERROR(IF(L22=\"\",\"\",IF(L22=0,\"\",n2t(L22))),\"\")","v":"اثنتانِ وخـمـسونَ"},null,null,"ناجح"]
[20,null,null,null,{"$f":"'اسلامية نهاية السنة'!L23","v":"غ"},{"$f":"'عربي نهاية السنة'!AE23","v":"غ"},{"$f":"'رياضيات نهاية السنة'!F23","v":"غ"},{"$f":"'علوم نهاية السنة'!F23","v":"غ"},{"$f":"'انكليزي نهاية السنة'!L23","v":"غ"},{"$f":"'فنية نهاية السنة'!J23","v":"غ"},{"$f":"'رياضة نهاية السنة'!L23","v":"غ"},"غ",{"$f":"IFERROR(IF(L23=\"\",\"\",IF(L23=0,\"\",n2t(L23))),\"\")","v":"غـائـب"},null,null,"غائب"]
[21,null,null,null,{"$f":"'اسلامية نهاية السنة'!L24","v":"غ"},{"$f":"'عربي نهاية السنة'!AE24","v":"غ"},{"$f":"'رياضيات نهاية السنة'!F24","v":"غ"},{"$f":"'علوم نهاية السنة'!F24","v":"غ"},{"$f":"'انكليزي نهاية السنة'!L24","v":"غ"},{"$f":"'فنية نهاية السنة'!J24","v":"غ"},{"$f":"'رياضة نهاية السنة'!L24","v":"غ"},"غ",{"$f":"IFERROR(IF(L24=\"\",\"\",IF(L24=0,\"\",n2t(L24))),\"\")","v":"غـائـب"},null,null,"غائب"]
[22,null,null,null,{"$f":"'اسلامية نهاية السنة'!L25","v":7},{"$f":"'عربي نهاية السنة'!AE25","v":7},{"$f":"'رياضيات نهاية السنة'!F25","v":7},{"$f":"'علوم نهاية السنة'!F25","v":6},{"$f":"'انكليزي نهاية السنة'!L25","v":5},{"$f":"'فنية نهاية السنة'!J25","v":10},{"$f":"'رياضة نهاية السنة'!L25","v":10},52,{"$f":"IFERROR(IF(L25=\"\",\"\",IF(L25=0,\"\",n2t(L25))),\"\")","v":"اثنتانِ وخـمـسونَ"},null,null,"ناجح"]
[23,null,null,null,{"$f":"'اسلامية نهاية السنة'!L26","v":"غ"},{"$f":"'عربي نهاية السنة'!AE26","v":"غ"},{"$f":"'رياضيات نهاية السنة'!F26","v":"غ"},{"$f":"'علوم نهاية السنة'!F26","v":"غ"},{"$f":"'انكليزي نهاية السنة'!L26","v":"غ"},{"$f":"'فنية نهاية السنة'!J26","v":"غ"},{"$f":"'رياضة نهاية السنة'!L26","v":"غ"},"غ",{"$f":"IFERROR(IF(L26=\"\",\"\",IF(L26=0,\"\",n2t(L26))),\"\")","v":"غـائـب"},null,null,"غائب"]
[24,null,null,null,{"$f":"'اسلامية نهاية السنة'!L27","v":7},{"$f":"'عربي نهاية السنة'!AE27","v":7},{"$f":"'رياضيات نهاية السنة'!F27","v":3},{"$f":"'علوم نهاية السنة'!F27","v":7},{"$f":"'انكليزي نهاية السنة'!L27","v":6},{"$f":"'فنية نهاية السنة'!J27","v":10},{"$f":"'رياضة نهاية السنة'!L27","v":10},50,{"$f":"IFERROR(IF(L27=\"\",\"\",IF(L27=0,\"\",n2t(L27))),\"\")","v":"خـمـسونَ"},null,null,"مكمل بدرس"]
[25,null,null,null,{"$f":"'اسلامية نهاية السنة'!L28","v":10},{"$f":"'عربي نهاية السنة'!AE28","v":10},{"$f":"'رياضيات نهاية السنة'!F28","v":10},{"$f":"'علوم نهاية السنة'!F28","v":10},{"$f":"'انكليزي نهاية السنة'!L28","v":10},{"$f":"'فنية نهاية السنة'!J28","v":10},{"$f":"'رياضة نهاية السنة'!L28","v":10},70,{"$f":"IFERROR(IF(L28=\"\",\"\",IF(L28=0,\"\",n2t(L28))),\"\")","v":"سـبـعونَ"},null,null,"ناجح"]
[26,null,null,null,{"$f":"'اسلامية نهاية السنة'!L29","v":0},{"$f":"'عربي نهاية السنة'!AE29","v":0},{"$f":"'رياضيات نهاية السنة'!F29","v":0},{"$f":"'علوم نهاية السنة'!F29","v":0},{"$f":"'انكليزي نهاية السنة'!L29","v":0},{"$f":"'فنية نهاية السنة'!J29","v":0},{"$f":"'رياضة نهاية السنة'!L29","v":0},0,{"$f":"IFERROR(IF(L29=\"\",\"\",IF(L29=0,\"\",n2t(L29))),\"\")","v":""},null,null,""]
[27,null,null,null,{"$f":"'اسلامية نهاية السنة'!L30","v":0},{"$f":"'عربي نهاية السنة'!AE30","v":0},{"$f":"'رياضيات نهاية السنة'!F30","v":0},{"$f":"'علوم نهاية السنة'!F30","v":0},{"$f":"'انكليزي نهاية السنة'!L30","v":0},{"$f":"'فنية نهاية السنة'!J30","v":0},{"$f":"'رياضة نهاية السنة'!L30","v":0},0,{"$f":"IFERROR(IF(L30=\"\",\"\",IF(L30=0,\"\",n2t(L30))),\"\")","v":""},null,null,""]
[28,null,null,null,{"$f":"'اسلامية نهاية السنة'!L31","v":0},{"$f":"'عربي نهاية السنة'!AE31","v":0},{"$f":"'رياضيات نهاية السنة'!F31","v":0},{"$f":"'علوم نهاية السنة'!F31","v":0},{"$f":"'انكليزي نهاية السنة'!L31","v":0},{"$f":"'فنية نهاية السنة'!J31","v":0},{"$f":"'رياضة نهاية السنة'!L31","v":0},0,{"$f":"IFERROR(IF(L31=\"\",\"\",IF(L31=0,\"\",n2t(L31))),\"\")","v":""},null,null,""]
[29,null,null,null,{"$f":"'اسلامية نهاية السنة'!L32","v":0},{"$f":"'عربي نهاية السنة'!AE32","v":0},{"$f":"'رياضيات نهاية السنة'!F32","v":0},{"$f":"'علوم نهاية السنة'!F32","v":0},{"$f":"'انكليزي نهاية السنة'!L32","v":0},{"$f":"'فنية نهاية السنة'!J32","v":0},{"$f":"'رياضة نهاية السنة'!L32","v":0},0,{"$f":"IFERROR(IF(L32=\"\",\"\",IF(L32=0,\"\",n2t(L32))),\"\")","v":""},null,null,""]
[30,null,null,null,{"$f":"'اسلامية نهاية السنة'!L33","v":0},{"$f":"'عربي نهاية السنة'!AE33","v":0},{"$f":"'رياضيات نهاية السنة'!F33","v":0},{"$f":"'علوم نهاية السنة'!F33","v":0},{"$f":"'انكليزي نهاية السنة'!L33","v":0},{"$f":"'فنية نهاية السنة'!J33","v":0},{"$f":"'رياضة نهاية السنة'!L33","v":0},0,{"$f":"IFERROR(IF(L33=\"\",\"\",IF(L33=0,\"\",n2t(L33))),\"\")","v":""},null,null,""]
[31,null,null,null,{"$f":"'اسلامية نهاية السنة'!L34","v":0},{"$f":"'عربي نهاية السنة'!AE34","v":0},{"$f":"'رياضيات نهاية السنة'!F34","v":0},{"$f":"'علوم نهاية السنة'!F34","v":0},{"$f":"'انكليزي نهاية السنة'!L34","v":0},{"$f":"'فنية نهاية السنة'!J34","v":0},{"$f":"'رياضة نهاية السنة'!L34","v":0},0,{"$f":"IFERROR(IF(L34=\"\",\"\",IF(L34=0,\"\",n2t(L34))),\"\")","v":""},null,null,""]
[32,null,null,null,{"$f":"'اسلامية نهاية السنة'!L35","v":0},{"$f":"'عربي نهاية السنة'!AE35","v":0},{"$f":"'رياضيات نهاية السنة'!F35","v":0},{"$f":"'علوم نهاية السنة'!F35","v":0},{"$f":"'انكليزي نهاية السنة'!L35","v":0},{"$f":"'فنية نهاية السنة'!J35","v":0},{"$f":"'رياضة نهاية السنة'!L35","v":0},0,{"$f":"IFERROR(IF(L35=\"\",\"\",IF(L35=0,\"\",n2t(L35))),\"\")","v":""},null,null,""]
[33,null,null,null,{"$f":"'اسلامية نهاية السنة'!L36","v":0},{"$f":"'عربي نهاية السنة'!AE36","v":0},{"$f":"'رياضيات نهاية السنة'!F36","v":0},{"$f":"'علوم نهاية السنة'!F36","v":0},{"$f":"'انكليزي نهاية السنة'!L36","v":0},{"$f":"'فنية نهاية السنة'!J36","v":0},{"$f":"'رياضة نهاية السنة'!L36","v":0},null,{"$f":"IFERROR(IF(L36=\"\",\"\",IF(L36=0,\"\",n2t(L36))),\"\")","v":""},null,null,""]
[]
["المشتركون",null,"الممتحنون",null,"الناجحون",null,"الراسبون",null,"الغياب",null,"المكملون",null,"النسبة",null,"النسبة الكلية %",{"$f":"IFERROR(O39*100/P39,\"\")","v":92.307692307692307}]
[{"$f":"'الرئيسية '!I5","v":"ذكور"},{"$f":"COUNT(BB7:BB36)+COUNTIF(BB7:BB36,\"ذكر\")","v":0},{"$f":"'الرئيسية '!I5","v":"ذكور"},{"$f":"COUNT(P7:P36)+COUNTIF(P7:P36,\"ناجح\")+COUNTIF(P7:P36,\"راسب\")+COUNTIF(P7:P36,\"بدرس مكمل\")+COUNTIF(P7:P36,\"مكمل بدرسين\")","v":13},{"$f":"'الرئيسية '!I5","v":"ذكور"},{"$f":"COUNT(P7:P36)+COUNTIF(P7:P36,\"ناجح\")","v":12},{"$f":"'الرئيسية '!I5","v":"ذكور"},{"$f":"COUNT(P7:P36)+COUNTIF(P7:P36,\"راسب\")","v":1},{"$f":"'الرئيسية '!I5","v":"ذكور"},{"$f":"COUNT(P7:P36)+COUNTIF(P7:P36,\"غائب\")","v":6},{"$f":"'الرئيسية '!I5","v":"ذكور"},{"$f":"COUNT(P7:P36)+COUNTIF(P7:P36,\"مكمل بدرس\")+COUNTIF(P7:P36,\"مكمل بدرسين\")","v":3},{"$f":"'الرئيسية '!I5","v":"ذكور"},{"$f":"IFERROR(F39*100/D39,\"\")","v":92.307692307692307},{"$f":"F39+F40","v":12},{"$f":"D39+D40","v":13}]
[{"$f":"'الرئيسية '!I7","v":"اناث"},{"$f":"COUNT(BB7:BB36)+COUNTIF(BB7:BB36,\"انثى\")","v":0},{"$f":"'الرئيسية '!I7","v":"اناث"},{"$f":"COUNT(P7:P36)+COUNTIF(P7:P36,\"ناجحة\")+COUNTIF(P7:P36,\"راسبة\")+COUNTIF(P7:P36,\"مكملة بدرس\")+COUNTIF(P7:P36,\"مكملة بدرسين\")","v":0},{"$f":"'الرئيسية '!I7","v":"اناث"},{"$f":"COUNT(P7:P36)+COUNTIF(P7:P36,\"ناجحة\")","v":0},{"$f":"'الرئيسية '!I7","v":"اناث"},{"$f":"COUNT(P7:P36)+COUNTIF(P7:P36,\"راسبة\")","v":0},{"$f":"'الرئيسية '!I7","v":"اناث"},{"$f":"COUNT(P7:P36)+COUNTIF(P7:P36,\"غائبة\")","v":0},{"$f":"'الرئيسية '!I7","v":"اناث"},{"$f":"COUNT(P7:P36)+COUNTIF(P7:P36,\"مكملة بدرس\")+COUNTIF(P7:P36,\" مكملة بدرسين\")","v":0},{"$f":"'الرئيسية '!I7","v":"اناث"},{"$f":"IFERROR(F40*100/D40,\"\")","v":""}]
[null,null,null,null,null,null,null,null,null,null,null,null,{"$f":"'اسماء التلاميذ'!B3","v":0}]
[null,null,null,null,null,null,null,null,null,null,null,null,"مدير المدرسة"]

{"sheet":"ناجح","index":41,"n_rows":37,"n_cols":23,"rows_kept":37,"cut":false,"hidden":false,"merged":[[4,4,5,4],[0,0,0,2],[0,3,0,10],[1,0,1,2],[1,3,1,10],[2,0,2,2],[2,3,2,11],[3,0,3,2],[4,0,5,0],[4,1,5,1],[4,2,5,2],[4,3,5,3],[4,11,4,13],[4,15,5,15],[4,16,5,16],[5,12,5,13],[4,5,5,5],[4,6,5,6],[4,7,5,7],[4,8,5,8],[4,9,5,9],[4,10,5,10]]}
["جمهورية العراق",null,null,"            قائمة درجات نهاية السنة",null,null,null,null,null,null,null,null,null,"الصف",{"$f":"'اسماء التلاميذ'!F2","v":"الأول"}]
["وزارة التربية",null,null,"           للعام الدراسي",null,null,null,null,null,null,null,null,null,"الشعبة",{"$f":"'اسماء التلاميذ'!F3","v":"أ"}]
["إدارة",null,null,{"$f":"'اسماء التلاميذ'!F4","v":"2021 - 2022"}]
[{"$f":"'اسماء التلاميذ'!B2","v":0}]
["ت","رقم القبول","الاسم الثلاثي","الجنس","الإسلامية","عربي","رياضيات","علوم","إنكليزي","الفنية والنشيد","التربية الرياضة","المجموع رقما وكتابة",null,null,null,"حالة التلميذ","عدد مواد الرسوب"]
[null,null,null,null,null,null,null,null,null,null,null,"رقما","كتابة"]
[null,null,null,null,null,null,null,null,null,null,null,null,null,null,null,null,"ناجح",null,null,null,null,null,0]
[null,null,null,null,null,null,null,null,null,null,null,null,null,null,null,null,"ناجح",null,null,null,null,null,0]
[null,null,null,null,null,null,null,null,null,null,null,null,null,null,null,null,"ناجح",null,null,null,null,null,0]
[null,null,null,null,null,null,null,null,null,null,null,null,null,null,null,null,"ناجح",null,null,null,null,null,0]
[null,null,null,null,null,null,null,null,null,null,null,null,null,null,null,null,"ناجح",null,null,null,null,null,0]
[null,null,null,null,null,null,null,null,null,null,null,null,null,null,null,null,"ناجح",null,null,null,null,null,0]
[null,null,null,null,null,null,null,null,null,null,null,null,null,null,null,null,"ناجح",null,null,null,null,null,0]
[null,null,null,null,null,null,null,null,null,null,null,null,null,null,null,null,"ناجح",null,null,null,null,null,0]
[null,null,null,null,null,null,null,null,null,null,null,null,null,null,null,null,"ناجح",null,null,null,null,null,0]
[null,null,null,null,null,null,null,null,null,null,null,null,null,null,null,null,"ناجح",null,null,null,null,null,0]
[null,null,null,null,null,null,null,null,null,null,null,null,null,null,null,null,"ناجح",null,null,null,null,null,0]
[null,null,null,null,null,null,null,null,null,null,null,null,null,null,null,null,"ناجح",null,null,null,null,null,0]
[null,null,null,null,null,null,null,null,null,null,null,null,null,null,null,null,"ناجح",null,null,null,null,null,0]
[]
[]
[]
[]
[]
[]
[]
[]
[]
[]
[]
[]
[]
[]
[]
[]
[]
[null,null,null,null,null,null,null,null,null,null,null,null,null,null,null,null,{"$f":"IFERROR(I37*100/F37,\"\")","v":""}]

{"sheet":"راسب","index":42,"n_rows":37,"n_cols":23,"rows_kept":37,"cut":false,"hidden":false,"merged":[[4,4,5,4],[0,0,0,2],[0,3,0,10],[1,0,1,2],[1,3,1,10],[2,0,2,2],[2,3,2,11],[3,0,3,2],[4,0,5,0],[4,1,5,1],[4,2,5,2],[4,3,5,3],[4,11,4,13],[4,15,5,15],[4,16,5,16],[5,12,5,13],[4,5,5,5],[4,6,5,6],[4,7,5,7],[4,8,5,8],[4,9,5,9],[4,10,5,10]]}
["جمهورية العراق",null,null,"            قائمة درجات نهاية السنة",null,null,null,null,null,null,null,null,null,"الصف",{"$f":"'اسماء التلاميذ'!F2","v":"الأول"}]
["وزارة التربية",null,null,"           للعام الدراسي",null,null,null,null,null,null,null,null,null,"الشعبة",{"$f":"'اسماء التلاميذ'!F3","v":"أ"}]
["إدارة",null,null,{"$f":"'اسماء التلاميذ'!F4","v":"2021 - 2022"}]
[{"$f":"'اسماء التلاميذ'!B2","v":0}]
["ت","رقم القبول","الاسم الثلاثي","الجنس","الإسلامية","عربي","رياضيات","علوم","إنكليزي","الفنية والنشيد","التربية الرياضة","المجموع رقما وكتابة",null,null,null,"حالة التلميذ","عدد مواد الرسوب"]
[null,null,null,null,null,null,null,null,null,null,null,"رقما","كتابة"]
[]
[null,null,null,null,null,null,null,null,null,null,null,null,null,null,null,null,"راسب",null,null,null,null,null,0]
[null,null,null,null,null,null,null,null,null,null,null,null,null,null,null,null,"راسب",null,null,null,null,null,0]
[]
[]
[]
[]
[]
[]
[]
[]
[]
[]
[]
[]
[]
[]
[]
[]
[]
[]
[]
[]
[]
[]
[]
[]
[]
[]
[]
[null,null,null,null,null,null,null,null,null,null,null,null,null,null,null,null,{"$f":"IFERROR(I37*100/F37,\"\")","v":""}]

{"sheet":"مكمل","index":43,"n_rows":42,"n_cols":35,"rows_kept":42,"cut":false,"hidden":false,"merged":[[4,4,5,4],[4,11,4,13],[4,15,5,15],[4,16,5,16],[5,12,5,13],[4,5,5,5],[4,6,5,6],[4,7,5,7],[4,8,5,8],[4,9,5,9],[4,10,5,10],[3,0,3,2],[4,0,5,0],[4,1,5,1],[4,2,5,2],[4,3,5,3],[0,0,0,2],[0,3,0,10],[1,0,1,2],[1,3,1,10],[2,0,2,2],[2,3,2,11]]}
["جمهورية العراق",null,null,"            قائمة درجات نهاية السنة",null,null,null,null,null,null,null,null,null,"الصف",{"$f":"'اسماء التلاميذ'!F2","v":"الأول"},null,null,null,null,null,null,null,23,24,25,26,27,28,29,30,31,32,33,34,35]
["وزارة التربية",null,null,"           للعام الدراسي",null,null,null,null,null,null,null,null,null,"الشعبة",{"$f":"'اسماء التلاميذ'!F3","v":"أ"},null,null,null,null,null,",v ehkd"]
["إدارة",null,null,{"$f":"'اسماء التلاميذ'!F4","v":"2021 - 2022"}]
[{"$f":"'اسماء التلاميذ'!B2","v":0}]
["ت","رقم القبول","الاسم الثلاثي","الجنس","الإسلامية","عربي","رياضيات","علوم","إنكليزي","الفنية والنشيد","التربية الرياضة","المجموع رقما وكتابة",null,null,null,"حالة التلميذ","عدد مواد الرسوب"]
[null,null,null,null,null,null,null,null,null,null,null,"رقما","كتابة"]
[null,null,null,null,null,null,null,null,null,null,null,null,null,null,null,null,"مكمل",null,null,null,null,null,0]
[null,null,null,null,null,null,null,null,null,null,null,null,null,null,null,null,"مكمل",null,null,null,null,null,0]
[null,null,null,null,null,null,null,null,null,null,null,null,null,null,null,null,null,null,null,null,null,null,19,19,"راسب"]
[null,null,null,null,null,null,null,null,null,null,null,null,null,null,null,null,null,null,null,null,null,null,null,null,null,null,null,{"$f":"'درجات شهادات'!T10","v":0},{"$f":"'درجات شهادات'!U10","v":0},{"$f":"'درجات شهادات'!V10","v":0},{"$f":"'درجات شهادات'!W10","v":"2021 - 2022"},{"$f":"'درجات شهادات'!X10","v":"الأول"},{"$f":"'درجات شهادات'!Y10","v":"أ"},{"$f":"'درجات شهادات'!Z10","v":"سعد حميد خلف"}]
[null,null,null,null,null,null,null,null,null,null,null,null,null,null,null,null,null,null,null,null,null,null,null,null,null,null,null,{"$f":"'درجات شهادات'!T11","v":0},{"$f":"'درجات شهادات'!U11","v":0},{"$f":"'درجات شهادات'!V11","v":0},{"$f":"'درجات شهادات'!W11","v":"2021 - 2022"},{"$f":"'درجات شهادات'!X11","v":"الأول"},{"$f":"'درجات شهادات'!Y11","v":"أ"},{"$f":"'درجات شهادات'!Z11","v":"سعد حميد خلف"}]
[null,null,null,null,null,null,null,null,null,null,null,null,null,null,null,null,null,null,null,null,null,null,null,null,null,null,null,{"$f":"'درجات شهادات'!T12","v":0},{"$f":"'درجات شهادات'!U12","v":0},{"$f":"'درجات شهادات'!V12","v":0},{"$f":"'درجات شهادات'!W12","v":"2021 - 2022"},{"$f":"'درجات شهادات'!X12","v":"الأول"},{"$f":"'درجات شهادات'!Y12","v":"أ"},{"$f":"'درجات شهادات'!Z12","v":"سعد حميد خلف"}]
[null,null,null,null,null,null,null,null,null,null,null,null,null,null,null,null,null,null,null,null,null,null,null,null,null,null,null,{"$f":"'درجات شهادات'!T13","v":0},{"$f":"'درجات شهادات'!U13","v":0},{"$f":"'درجات شهادات'!V13","v":0},{"$f":"'درجات شهادات'!W13","v":"2021 - 2022"},{"$f":"'درجات شهادات'!X13","v":"الأول"},{"$f":"'درجات شهادات'!Y13","v":"أ"},{"$f":"'درجات شهادات'!Z13","v":"سعد حميد خلف"}]
[null,null,null,null,null,null,null,null,null,null,null,null,null,null,null,null,null,null,null,null,null,null,null,null,null,null,null,{"$f":"'درجات شهادات'!T14","v":0},{"$f":"'درجات شهادات'!U14","v":0},{"$f":"'درجات شهادات'!V14","v":0},{"$f":"'درجات شهادات'!W14","v":"2021 - 2022"},{"$f":"'درجات شهادات'!X14","v":"الأول"},{"$f":"'درجات شهادات'!Y14","v":"أ"},{"$f":"'درجات شهادات'!Z14","v":"سعد حميد خلف"}]
[null,null,null,null,null,null,null,null,null,null,null,null,null,null,null,null,null,null,null,null,null,null,null,null,null,null,null,{"$f":"'درجات شهادات'!T15","v":0},{"$f":"'درجات شهادات'!U15","v":0},{"$f":"'درجات شهادات'!V15","v":0},{"$f":"'درجات شهادات'!W15","v":"2021 - 2022"},{"$f":"'درجات شهادات'!X15","v":"الأول"},{"$f":"'درجات شهادات'!Y15","v":"أ"},{"$f":"'درجات شهادات'!Z15","v":"سعد حميد خلف"}]
[null,null,null,null,null,null,null,null,null,null,null,null,null,null,null,null,null,null,null,null,null,null,null,null,null,null,null,{"$f":"'درجات شهادات'!T16","v":0},{"$f":"'درجات شهادات'!U16","v":0},{"$f":"'درجات شهادات'!V16","v":0},{"$f":"'درجات شهادات'!W16","v":"2021 - 2022"},{"$f":"'درجات شهادات'!X16","v":"الأول"},{"$f":"'درجات شهادات'!Y16","v":"أ"},{"$f":"'درجات شهادات'!Z16","v":"سعد حميد خلف"}]
[null,null,null,null,null,null,null,null,null,null,null,null,null,null,null,null,null,null,null,null,null,null,null,null,null,null,null,{"$f":"'درجات شهادات'!T17","v":0},{"$f":"'درجات شهادات'!U17","v":0},{"$f":"'درجات شهادات'!V17","v":0},{"$f":"'درجات شهادات'!W17","v":"2021 - 2022"},{"$f":"'درجات شهادات'!X17","v":"الأول"},{"$f":"'درجات شهادات'!Y17","v":"أ"},{"$f":"'درجات شهادات'!Z17","v":"سعد حميد خلف"}]
[null,null,null,null,null,null,null,null,null,null,null,null,null,null,null,null,null,null,null,null,null,null,null,null,null,null,null,{"$f":"'درجات شهادات'!T18","v":0},{"$f":"'درجات شهادات'!U18","v":0},{"$f":"'درجات شهادات'!V18","v":0},{"$f":"'درجات شهادات'!W18","v":"2021 - 2022"},{"$f":"'درجات شهادات'!X18","v":"الأول"},{"$f":"'درجات شهادات'!Y18","v":"أ"},{"$f":"'درجات شهادات'!Z18","v":"سعد حميد خلف"}]
[null,null,null,null,null,null,null,null,null,null,null,null,null,null,null,null,null,null,null,null,null,null,null,null,null,null,null,{"$f":"'درجات شهادات'!T19","v":0},{"$f":"'درجات شهادات'!U19","v":0},{"$f":"'درجات شهادات'!V19","v":0},{"$f":"'درجات شهادات'!W19","v":"2021 - 2022"},{"$f":"'درجات شهادات'!X19","v":"الأول"},{"$f":"'درجات شهادات'!Y19","v":"أ"},{"$f":"'درجات شهادات'!Z19","v":"سعد حميد خلف"}]
[null,null,null,null,null,null,null,null,null,null,null,null,null,null,null,null,null,null,null,null,null,null,null,null,null,null,null,{"$f":"'درجات شهادات'!T20","v":0},{"$f":"'درجات شهادات'!U20","v":0},{"$f":"'درجات شهادات'!V20","v":0},{"$f":"'درجات شهادات'!W20","v":"2021 - 2022"},{"$f":"'درجات شهادات'!X20","v":"الأول"},{"$f":"'درجات شهادات'!Y20","v":"أ"},{"$f":"'درجات شهادات'!Z20","v":"سعد حميد خلف"}]
[null,null,null,null,null,null,null,null,null,null,null,null,null,null,null,null,null,null,null,null,null,null,null,null,null,null,null,{"$f":"'درجات شهادات'!T21","v":0},{"$f":"'درجات شهادات'!U21","v":0},{"$f":"'درجات شهادات'!V21","v":0},{"$f":"'درجات شهادات'!W21","v":"2021 - 2022"},{"$f":"'درجات شهادات'!X21","v":"الأول"},{"$f":"'درجات شهادات'!Y21","v":"أ"},{"$f":"'درجات شهادات'!Z21","v":"سعد حميد خلف"}]
[null,null,null,null,null,null,null,null,null,null,null,null,null,null,null,null,null,null,null,null,null,null,null,null,null,null,null,{"$f":"'درجات شهادات'!T22","v":0},{"$f":"'درجات شهادات'!U22","v":0},{"$f":"'درجات شهادات'!V22","v":0},{"$f":"'درجات شهادات'!W22","v":"2021 - 2022"},{"$f":"'درجات شهادات'!X22","v":"الأول"},{"$f":"'درجات شهادات'!Y22","v":"أ"},{"$f":"'درجات شهادات'!Z22","v":"سعد حميد خلف"}]
[null,null,null,null,null,null,null,null,null,null,null,null,null,null,null,null,null,null,null,null,null,null,null,null,null,null,null,{"$f":"'درجات شهادات'!T23","v":0},{"$f":"'درجات شهادات'!U23","v":0},{"$f":"'درجات شهادات'!V23","v":0},{"$f":"'درجات شهادات'!W23","v":"2021 - 2022"},{"$f":"'درجات شهادات'!X23","v":"الأول"},{"$f":"'درجات شهادات'!Y23","v":"أ"},{"$f":"'درجات شهادات'!Z23","v":"سعد حميد خلف"}]
[null,null,null,null,null,null,null,null,null,null,null,null,null,null,null,null,null,null,null,null,null,null,null,null,null,null,null,{"$f":"'درجات شهادات'!T24","v":0},{"$f":"'درجات شهادات'!U24","v":0},{"$f":"'درجات شهادات'!V24","v":0},{"$f":"'درجات شهادات'!W24","v":"2021 - 2022"},{"$f":"'درجات شهادات'!X24","v":"الأول"},{"$f":"'درجات شهادات'!Y24","v":"أ"},{"$f":"'درجات شهادات'!Z24","v":"سعد حميد خلف"}]
[null,null,null,null,null,null,null,null,null,null,null,null,null,null,null,null,null,null,null,null,null,null,null,null,null,null,null,{"$f":"'درجات شهادات'!T25","v":0},{"$f":"'درجات شهادات'!U25","v":0},{"$f":"'درجات شهادات'!V25","v":0},{"$f":"'درجات شهادات'!W25","v":"2021 - 2022"},{"$f":"'درجات شهادات'!X25","v":"الأول"},{"$f":"'درجات شهادات'!Y25","v":"أ"},{"$f":"'درجات شهادات'!Z25","v":"سعد حميد خلف"}]
[null,null,null,null,null,null,null,null,null,null,null,null,null,null,null,null,null,null,null,null,null,null,null,null,null,null,null,{"$f":"'درجات شهادات'!T26","v":0},{"$f":"'درجات شهادات'!U26","v":0},{"$f":"'درجات شهادات'!V26","v":0},{"$f":"'درجات شهادات'!W26","v":"2021 - 2022"},{"$f":"'درجات شهادات'!X26","v":"الأول"},{"$f":"'درجات شهادات'!Y26","v":"أ"},{"$f":"'درجات شهادات'!Z26","v":"سعد حميد خلف"}]
[null,null,null,null,null,null,null,null,null,null,null,null,null,null,null,null,null,null,null,null,null,null,null,null,null,null,null,{"$f":"'درجات شهادات'!T27","v":0},{"$f":"'درجات شهادات'!U27","v":0},{"$f":"'درجات شهادات'!V27","v":0},{"$f":"'درجات شهادات'!W27","v":"2021 - 2022"},{"$f":"'درجات شهادات'!X27","v":"الأول"},{"$f":"'درجات شهادات'!Y27","v":"أ"},{"$f":"'درجات شهادات'!Z27","v":"سعد حميد خلف"}]
[null,null,null,null,null,null,null,null,null,null,null,null,null,null,null,null,null,null,null,null,null,null,null,null,null,null,null,{"$f":"'درجات شهادات'!T28","v":0},{"$f":"'درجات شهادات'!U28","v":0},{"$f":"'درجات شهادات'!V28","v":0},{"$f":"'درجات شهادات'!W28","v":"2021 - 2022"},{"$f":"'درجات شهادات'!X28","v":"الأول"},{"$f":"'درجات شهادات'!Y28","v":"أ"},{"$f":"'درجات شهادات'!Z28","v":"سعد حميد خلف"}]
[null,null,null,null,null,null,null,null,null,null,null,null,null,null,null,null,null,null,null,null,null,null,null,null,null,null,null,{"$f":"'درجات شهادات'!T29","v":0},{"$f":"'درجات شهادات'!U29","v":0},{"$f":"'درجات شهادات'!V29","v":0},{"$f":"'درجات شهادات'!W29","v":"2021 - 2022"},{"$f":"'درجات شهادات'!X29","v":"الأول"},{"$f":"'درجات شهادات'!Y29","v":"أ"},{"$f":"'درجات شهادات'!Z29","v":"سعد حميد خلف"}]
[null,null,null,null,null,null,null,null,null,null,null,null,null,null,null,null,null,null,null,null,null,null,null,null,null,null,null,{"$f":"'درجات شهادات'!T30","v":0},{"$f":"'درجات شهادات'!U30","v":0},{"$f":"'درجات شهادات'!V30","v":0},{"$f":"'درجات شهادات'!W30","v":"2021 - 2022"},{"$f":"'درجات شهادات'!X30","v":"الأول"},{"$f":"'درجات شهادات'!Y30","v":"أ"},{"$f":"'درجات شهادات'!Z30","v":"سعد حميد خلف"}]
[null,null,null,null,null,null,null,null,null,null,null,null,null,null,null,null,null,null,null,null,null,null,null,null,null,null,null,{"$f":"'درجات شهادات'!T31","v":0},{"$f":"'درجات شهادات'!U31","v":0},{"$f":"'درجات شهادات'!V31","v":0},{"$f":"'درجات شهادات'!W31","v":"2021 - 2022"},{"$f":"'درجات شهادات'!X31","v":"الأول"},{"$f":"'درجات شهادات'!Y31","v":"أ"},{"$f":"'درجات شهادات'!Z31","v":"سعد حميد خلف"}]
[null,null,null,null,null,null,null,null,null,null,null,null,null,null,null,null,null,null,null,null,null,null,null,null,null,null,null,{"$f":"'درجات شهادات'!T32","v":0},{"$f":"'درجات شهادات'!U32","v":0},{"$f":"'درجات شهادات'!V32","v":0},{"$f":"'درجات شهادات'!W32","v":"2021 - 2022"},{"$f":"'درجات شهادات'!X32","v":"الأول"},{"$f":"'درجات شهادات'!Y32","v":"أ"},{"$f":"'درجات شهادات'!Z32","v":"سعد حميد خلف"}]
[null,null,null,null,null,null,null,null,null,null,null,null,null,null,null,null,null,null,null,null,null,null,null,null,null,null,null,{"$f":"'درجات شهادات'!T33","v":0},{"$f":"'درجات شهادات'!U33","v":0},{"$f":"'درجات شهادات'!V33","v":0},{"$f":"'درجات شهادات'!W33","v":"2021 - 2022"},{"$f":"'درجات شهادات'!X33","v":"الأول"},{"$f":"'درجات شهادات'!Y33","v":"أ"},{"$f":"'درجات شهادات'!Z33","v":"سعد حميد خلف"}]
[null,null,null,null,null,null,null,null,null,null,null,null,null,null,null,null,null,null,null,null,null,null,null,null,null,null,null,{"$f":"'درجات شهادات'!T34","v":0},{"$f":"'درجات شهادات'!U34","v":0},{"$f":"'درجات شهادات'!V34","v":0},{"$f":"'درجات شهادات'!W34","v":"2021 - 2022"},{"$f":"'درجات شهادات'!X34","v":"الأول"},{"$f":"'درجات شهادات'!Y34","v":"أ"},{"$f":"'درجات شهادات'!Z34","v":"سعد حميد خلف"}]
[null,null,null,null,null,null,null,null,null,null,null,null,null,null,null,null,null,null,null,null,null,null,null,null,null,null,null,{"$f":"'درجات شهادات'!T35","v":0},{"$f":"'درجات شهادات'!U35","v":0},{"$f":"'درجات شهادات'!V35","v":0},{"$f":"'درجات شهادات'!W35","v":"2021 - 2022"},{"$f":"'درجات شهادات'!X35","v":"الأول"},{"$f":"'درجات شهادات'!Y35","v":"أ"},{"$f":"'درجات شهادات'!Z35","v":"سعد حميد خلف"}]
[null,null,null,null,null,null,null,null,null,null,null,null,null,null,null,null,null,null,null,null,null,null,null,null,null,null,null,{"$f":"'درجات شهادات'!T36","v":0},{"$f":"'درجات شهادات'!U36","v":0},{"$f":"'درجات شهادات'!V36","v":0},{"$f":"'درجات شهادات'!W36","v":"2021 - 2022"},{"$f":"'درجات شهادات'!X36","v":"الأول"},{"$f":"'درجات شهادات'!Y36","v":"أ"},{"$f":"'درجات شهادات'!Z36","v":"سعد حميد خلف"}]
[null,null,null,null,null,null,null,null,null,null,null,null,null,null,null,null,{"$f":"IFERROR(I37*100/F37,\"\")","v":""},null,null,null,null,null,null,null,null,null,null,{"$f":"'درجات شهادات'!T47","v":0},{"$f":"'درجات شهادات'!U47","v":0},{"$f":"'درجات شهادات'!V47","v":0},{"$f":"'درجات شهادات'!W47","v":"2021 - 2022"},{"$f":"'درجات شهادات'!X47","v":"الأول"},{"$f":"'درجات شهادات'!Y47","v":"أ"},{"$f":"'درجات شهادات'!Z47","v":"سعد حميد خلف"}]
[null,null,null,null,null,null,null,null,null,null,null,null,null,null,null,null,null,null,null,null,null,null,null,null,null,null,null,{"$f":"'درجات شهادات'!T48","v":0},{"$f":"'درجات شهادات'!U48","v":0},{"$f":"'درجات شهادات'!V48","v":0},{"$f":"'درجات شهادات'!W48","v":"2021 - 2022"},{"$f":"'درجات شهادات'!X48","v":"الأول"},{"$f":"'درجات شهادات'!Y48","v":"أ"},{"$f":"'درجات شهادات'!Z48","v":"سعد حميد خلف"}]
[null,null,null,null,null,null,null,null,null,null,null,null,null,null,null,null,null,null,null,null,null,null,null,null,null,null,null,{"$f":"'درجات شهادات'!T49","v":0},{"$f":"'درجات شهادات'!U49","v":0},{"$f":"'درجات شهادات'!V49","v":0},{"$f":"'درجات شهادات'!W49","v":"2021 - 2022"},{"$f":"'درجات شهادات'!X49","v":"الأول"},{"$f":"'درجات شهادات'!Y49","v":"أ"},{"$f":"'درجات شهادات'!Z49","v":"سعد حميد خلف"}]
[null,null,null,null,null,null,null,null,null,null,null,null,null,null,null,null,null,null,null,null,null,null,null,null,null,null,null,{"$f":"'درجات شهادات'!T50","v":0},{"$f":"'درجات شهادات'!U50","v":0},{"$f":"'درجات شهادات'!V50","v":0},{"$f":"'درجات شهادات'!W50","v":"2021 - 2022"},{"$f":"'درجات شهادات'!X50","v":"الأول"},{"$f":"'درجات شهادات'!Y50","v":"أ"},{"$f":"'درجات شهادات'!Z50","v":"سعد حميد خلف"}]
[null,null,null,null,null,null,null,null,null,null,null,null,null,null,null,null,null,null,null,null,null,null,null,null,null,null,null,{"$f":"'درجات شهادات'!T51","v":0},{"$f":"'درجات شهادات'!U51","v":0},{"$f":"'درجات شهادات'!V51","v":0},{"$f":"'درجات شهادات'!W51","v":"2021 - 2022"},{"$f":"'درجات شهادات'!X51","v":"الأول"},{"$f":"'درجات شهادات'!Y51","v":"أ"},{"$f":"'درجات شهادات'!Z51","v":"سعد حميد خلف"}]
[null,null,null,null,null,null,null,null,null,null,null,null,null,null,null,null,null,null,null,null,null,null,null,null,null,null,null,{"$f":"'درجات شهادات'!T52","v":0},{"$f":"'درجات شهادات'!U52","v":0},{"$f":"'درجات شهادات'!V52","v":0},{"$f":"'درجات شهادات'!W52","v":"2021 - 2022"},{"$f":"'درجات شهادات'!X52","v":"الأول"},{"$f":"'درجات شهادات'!Y52","v":"أ"},{"$f":"'درجات شهادات'!Z52","v":"سعد حميد خلف"}]

{"sheet":"مكمل بدرسين ","index":44,"n_rows":49,"n_cols":17,"rows_kept":49,"cut":false,"hidden":false,"merged":[[4,4,5,4],[0,0,0,2],[0,3,0,10],[1,0,1,2],[1,3,1,10],[2,0,2,2],[2,3,2,11],[3,0,3,2],[4,0,5,0],[4,1,5,1],[4,2,5,2],[4,3,5,3],[4,11,4,13],[4,15,5,15],[4,16,5,16],[5,12,5,13],[4,5,5,5],[4,6,5,6],[4,7,5,7],[4,8,5,8],[4,9,5,9],[4,10,5,10]]}
["جمهورية العراق",null,null,"            قائمة درجات نصف السنة",null,null,null,null,null,null,null,null,null,"الصف",{"$f":"'اسماء التلاميذ'!F2","v":"الأول"}]
["وزارة التربية",null,null,"           للعام الدراسي",null,null,null,null,null,null,null,null,null,"الشعبة",{"$f":"'اسماء التلاميذ'!F3","v":"أ"}]
["إدارة",null,null,{"$f":"'اسماء التلاميذ'!F4","v":"2021 - 2022"}]
[{"$f":"'اسماء التلاميذ'!B2","v":0}]
["ت","رقم القبول","الاسم الثلاثي","التربية الإسلامية","اللغة العربية","الإنكليزي","الرياضيات","العلوم","الاجتماعيات","الفنية والنشيد","التربية الرياضة","المجموع رقما وكتابة",null,null,null,"حالة التلميذ","عدد مواد الرسوب"]
[null,null,null,null,null,null,null,null,null,null,null,"رقما","كتابة"]
[]
[]
[]
[]
[]
[]
[]
[]
[]
[]
[]
[]
[]
[]
[]
[]
[]
[]
[]
[]
[]
[]
[]
[]
[]
[]
[]
[]
[]
[]
[]
[]
[]
[]
[]
[]
[]
[]
[]
[]
["المشتركون",null,{"$f":"'اسماء التلاميذ'!C47","v":0},"الممتحنون",null,{"$f":"COUNTIF(L7:L46,\">0\")+COUNTIF(L7:L46,\"صفر\")","v":0},"الناجحون",null,{"$f":"COUNTIF(P7:P46,\"ناجح\")","v":0},"الراسبون",null,{"$f":"COUNTIF(P7:P46,\"راسب\")","v":0},"المكملون",{"$f":"COUNTIF(P7:P46,\"مكمل بدرس\")+COUNTIF(P7:P46,\"مكمل بدرسين\")","v":0},null,"النسبة %",{"$f":"IFERROR(I47*100/F47,\"\")","v":""}]
[null,null,{"$f":"'اسماء التلاميذ'!B4","v":0},null,null,null,null,null,null,null,null,0,{"$f":"'اسماء التلاميذ'!B3","v":0}]
[null,null,"مرشد الصف",null,null,null,null,null,null,null,null,0,"مدير المدرسة"]

{"sheet":"غياب","index":45,"n_rows":37,"n_cols":23,"rows_kept":37,"cut":false,"hidden":false,"merged":[[4,4,5,4],[4,11,4,13],[4,15,5,15],[4,16,5,16],[5,12,5,13],[4,5,5,5],[4,6,5,6],[4,7,5,7],[4,8,5,8],[4,9,5,9],[4,10,5,10],[3,0,3,2],[4,0,5,0],[4,1,5,1],[4,2,5,2],[4,3,5,3],[0,0,0,2],[0,3,0,10],[1,0,1,2],[1,3,1,10],[2,0,2,2],[2,3,2,11]]}
["جمهورية العراق",null,null,"            قائمة درجات نهاية السنة",null,null,null,null,null,null,null,null,null,"الصف",{"$f":"'اسماء التلاميذ'!F2","v":"الأول"}]
["وزارة التربية",null,null,"           للعام الدراسي",null,null,null,null,null,null,null,null,null,"الشعبة",{"$f":"'اسماء التلاميذ'!F3","v":"أ"}]
["إدارة",null,null,{"$f":"'اسماء التلاميذ'!F4","v":"2021 - 2022"}]
[{"$f":"'اسماء التلاميذ'!B2","v":0}]
["ت","رقم القبول","الاسم الثلاثي","الجنس","الإسلامية","عربي","رياضيات","علوم","إنكليزي","الفنية والنشيد","التربية الرياضة","المجموع رقما وكتابة",null,null,null,"حالة التلميذ","عدد مواد الرسوب"]
[null,null,null,null,null,null,null,null,null,null,null,"رقما","كتابة"]
[null,null,null,null,null,null,null,null,null,null,null,null,null,null,null,null,"غائب",null,null,null,null,null,0]
[null,null,null,null,null,null,null,null,null,null,null,null,null,null,null,null,"غائب",null,null,null,null,null,0]
[null,null,null,null,null,null,null,null,null,null,null,null,null,null,null,null,"غائب",null,null,null,null,null,0]
[null,null,null,null,null,null,null,null,null,null,null,null,null,null,null,null,"غائب",null,null,null,null,null,0]
[null,null,null,null,null,null,null,null,null,null,null,null,null,null,null,null,"غائب",null,null,null,null,null,0]
[null,null,null,null,null,null,null,null,null,null,null,null,null,null,null,null,"غائب",null,null,null,null,null,0]
[]
[]
[]
[]
[]
[]
[]
[]
[]
[]
[]
[]
[]
[]
[]
[]
[]
[]
[]
[]
[]
[]
[]
[]
[null,null,null,null,null,null,null,null,null,null,null,null,null,null,null,null,{"$f":"IFERROR(I37*100/F37,\"\")","v":""}]

{"sheet":"فنية نهاية السنة","index":46,"n_rows":42,"n_cols":27,"rows_kept":42,"cut":false,"hidden":false,"merged":[[0,0,0,3],[1,0,1,3],[2,0,2,3],[2,5,2,7],[3,0,3,3],[0,4,0,8],[4,0,5,0],[4,1,5,1],[4,4,4,5],[4,2,5,3],[4,9,4,14],[4,15,5,15],[5,7,5,8],[5,10,5,14],[4,6,4,8],[37,13,37,14],[38,0,38,1],[39,0,39,1],[40,12,40,14],[41,12,41,14],[37,0,37,2],[37,3,37,4],[37,5,37,6],[37,7,37,8],[37,9,37,10],[37,11,37,12]]}
["جمهورية العراق",null,null,null,"قائمة امتحان نهاية السنة",null,null,null,null,null,"الصف:",{"$f":"'اسماء التلاميذ'!F2","v":"الأول"}]
["وزارة التربية",null,null,null,null,null,"للعام الدراسي   ",null,null,null,"الشعبة",{"$f":"'اسماء التلاميذ'!F3","v":"أ"},null,null,null,null,null,null,null,null,null,null,null,null,null,null,"قائمة نهاية السنة"]
["إدارة",null,null,null,null,{"$f":"'اسماء التلاميذ'!F4","v":"2021 - 2022"},null,null,null,null,"المادة","التربية الفنية"]
[{"$f":"'اسماء التلاميذ'!B2","v":0},null,null,null,null,null,null,null,null,null,"اليوم والتاريخ"]
["ت","رقم القيد","اسم التلميذ",null,"فنية (7)",null,"نشيد (3)",null,null,"الدرجة رقما وكتابة",null,null,null,null,null,"النتيجة"]
[null,null,null,null,"رقما","كتابة","رقما","كتابة",null,"رقما","كتابة"]
[4,"نوري",null,null,6,{"$f":"IFERROR(IF(E7=\"\",\"\",IF(E7=0,\"\",n2t(E7))),\"\")","v":"سـت"},3,{"$f":"IFERROR(IF(G7=\"\",\"\",IF(G7=0,\"\",n2t(G7))),\"\")","v":"ثـلاث"},null,9,{"$f":"IFERROR(IF(J7=\"\",\"\",IF(J7=0,\"\",n2t(J7))),\"\")","v":"تـسـع"},null,null,null,null,"ناجح",null,null,null,null,{"$f":"IFERROR(ROUND((J7),0),\"غ\")","v":9}]
[5,"احمد",null,null,6,{"$f":"IFERROR(IF(E8=\"\",\"\",IF(E8=0,\"\",n2t(E8))),\"\")","v":"سـت"},3,{"$f":"IFERROR(IF(G8=\"\",\"\",IF(G8=0,\"\",n2t(G8))),\"\")","v":"ثـلاث"},null,9,{"$f":"IFERROR(IF(J8=\"\",\"\",IF(J8=0,\"\",n2t(J8))),\"\")","v":"تـسـع"},null,null,null,null,"ناجح",null,null,null,null,{"$f":"IFERROR(ROUND((J8),0),\"غ\")","v":9}]
[6,null,null,null,7,{"$f":"IFERROR(IF(E9=\"\",\"\",IF(E9=0,\"\",n2t(E9))),\"\")","v":"سـبـع"},3,{"$f":"IFERROR(IF(G9=\"\",\"\",IF(G9=0,\"\",n2t(G9))),\"\")","v":"ثـلاث"},null,10,{"$f":"IFERROR(IF(J9=\"\",\"\",IF(J9=0,\"\",n2t(J9))),\"\")","v":"عشر"},null,null,null,null,"ناجح",null,null,null,null,10]
[7,null,null,null,6,{"$f":"IFERROR(IF(E10=\"\",\"\",IF(E10=0,\"\",n2t(E10))),\"\")","v":"سـت"},3,{"$f":"IFERROR(IF(G10=\"\",\"\",IF(G10=0,\"\",n2t(G10))),\"\")","v":"ثـلاث"},null,9,{"$f":"IFERROR(IF(J10=\"\",\"\",IF(J10=0,\"\",n2t(J10))),\"\")","v":"تـسـع"},null,null,null,null,"ناجح",null,null,null,null,9]
[8,null,null,null,6,{"$f":"IFERROR(IF(E11=\"\",\"\",IF(E11=0,\"\",n2t(E11))),\"\")","v":"سـت"},3,{"$f":"IFERROR(IF(G11=\"\",\"\",IF(G11=0,\"\",n2t(G11))),\"\")","v":"ثـلاث"},null,9,{"$f":"IFERROR(IF(J11=\"\",\"\",IF(J11=0,\"\",n2t(J11))),\"\")","v":"تـسـع"},null,null,null,null,"ناجح",null,null,null,null,9]
[9,null,null,null,4,{"$f":"IFERROR(IF(E12=\"\",\"\",IF(E12=0,\"\",n2t(E12))),\"\")","v":"أربـع"},2,{"$f":"IFERROR(IF(G12=\"\",\"\",IF(G12=0,\"\",n2t(G12))),\"\")","v":"اثنتانِ"},null,6,{"$f":"IFERROR(IF(J12=\"\",\"\",IF(J12=0,\"\",n2t(J12))),\"\")","v":"سـت"},null,null,null,null,"ناجح",null,null,null,null,6]
[10,null,null,null,7,{"$f":"IFERROR(IF(E13=\"\",\"\",IF(E13=0,\"\",n2t(E13))),\"\")","v":"سـبـع"},3,{"$f":"IFERROR(IF(G13=\"\",\"\",IF(G13=0,\"\",n2t(G13))),\"\")","v":"ثـلاث"},null,10,{"$f":"IFERROR(IF(J13=\"\",\"\",IF(J13=0,\"\",n2t(J13))),\"\")","v":"عشر"},null,null,null,null,"ناجح",null,null,null,null,10]
[11,null,null,null,6,{"$f":"IFERROR(IF(E14=\"\",\"\",IF(E14=0,\"\",n2t(E14))),\"\")","v":"سـت"},2,{"$f":"IFERROR(IF(G14=\"\",\"\",IF(G14=0,\"\",n2t(G14))),\"\")","v":"اثنتانِ"},null,8,{"$f":"IFERROR(IF(J14=\"\",\"\",IF(J14=0,\"\",n2t(J14))),\"\")","v":"ثـمـان"},null,null,null,null,"ناجح",null,null,null,null,8]
[12,null,null,null,"غ",{"$f":"IFERROR(IF(E15=\"\",\"\",IF(E15=0,\"\",n2t(E15))),\"\")","v":"غـائـب"},"غ",{"$f":"IFERROR(IF(G15=\"\",\"\",IF(G15=0,\"\",n2t(G15))),\"\")","v":"غـائـب"},null,"غ",{"$f":"IFERROR(IF(J15=\"\",\"\",IF(J15=0,\"\",n2t(J15))),\"\")","v":"غـائـب"},null,null,null,null,"غائب",null,null,null,null,"غ"]
[13,null,null,null,7,{"$f":"IFERROR(IF(E16=\"\",\"\",IF(E16=0,\"\",n2t(E16))),\"\")","v":"سـبـع"},3,{"$f":"IFERROR(IF(G16=\"\",\"\",IF(G16=0,\"\",n2t(G16))),\"\")","v":"ثـلاث"},null,10,{"$f":"IFERROR(IF(J16=\"\",\"\",IF(J16=0,\"\",n2t(J16))),\"\")","v":"عشر"},null,null,null,null,"ناجح",null,null,null,null,10]
[14,null,null,null,7,{"$f":"IFERROR(IF(E17=\"\",\"\",IF(E17=0,\"\",n2t(E17))),\"\")","v":"سـبـع"},3,{"$f":"IFERROR(IF(G17=\"\",\"\",IF(G17=0,\"\",n2t(G17))),\"\")","v":"ثـلاث"},null,10,{"$f":"IFERROR(IF(J17=\"\",\"\",IF(J17=0,\"\",n2t(J17))),\"\")","v":"عشر"},null,null,null,null,"ناجح",null,null,null,null,10]
[15,null,null,null,"غ",{"$f":"IFERROR(IF(E18=\"\",\"\",IF(E18=0,\"\",n2t(E18))),\"\")","v":"غـائـب"},"غ",{"$f":"IFERROR(IF(G18=\"\",\"\",IF(G18=0,\"\",n2t(G18))),\"\")","v":"غـائـب"},null,"غ",{"$f":"IFERROR(IF(J18=\"\",\"\",IF(J18=0,\"\",n2t(J18))),\"\")","v":"غـائـب"},null,null,null,null,"غائب",null,null,null,null,"غ"]
[16,null,null,null,"غ",{"$f":"IFERROR(IF(E19=\"\",\"\",IF(E19=0,\"\",n2t(E19))),\"\")","v":"غـائـب"},"غ",{"$f":"IFERROR(IF(G19=\"\",\"\",IF(G19=0,\"\",n2t(G19))),\"\")","v":"غـائـب"},null,"غ",{"$f":"IFERROR(IF(J19=\"\",\"\",IF(J19=0,\"\",n2t(J19))),\"\")","v":"غـائـب"},null,null,null,null,"غائب",null,null,null,null,"غ"]
[17,null,null,null,6,{"$f":"IFERROR(IF(E20=\"\",\"\",IF(E20=0,\"\",n2t(E20))),\"\")","v":"سـت"},3,{"$f":"IFERROR(IF(G20=\"\",\"\",IF(G20=0,\"\",n2t(G20))),\"\")","v":"ثـلاث"},null,9,{"$f":"IFERROR(IF(J20=\"\",\"\",IF(J20=0,\"\",n2t(J20))),\"\")","v":"تـسـع"},null,null,null,null,"ناجح",null,null,null,null,9]
[18,null,null,null,7,{"$f":"IFERROR(IF(E21=\"\",\"\",IF(E21=0,\"\",n2t(E21))),\"\")","v":"سـبـع"},3,{"$f":"IFERROR(IF(G21=\"\",\"\",IF(G21=0,\"\",n2t(G21))),\"\")","v":"ثـلاث"},null,10,{"$f":"IFERROR(IF(J21=\"\",\"\",IF(J21=0,\"\",n2t(J21))),\"\")","v":"عشر"},null,null,null,null,"ناجح",null,null,null,null,10]
[19,null,null,null,7,{"$f":"IFERROR(IF(E22=\"\",\"\",IF(E22=0,\"\",n2t(E22))),\"\")","v":"سـبـع"},3,{"$f":"IFERROR(IF(G22=\"\",\"\",IF(G22=0,\"\",n2t(G22))),\"\")","v":"ثـلاث"},null,10,{"$f":"IFERROR(IF(J22=\"\",\"\",IF(J22=0,\"\",n2t(J22))),\"\")","v":"عشر"},null,null,null,null,"ناجح",null,null,null,null,10]
[20,null,null,null,"غ",{"$f":"IFERROR(IF(E23=\"\",\"\",IF(E23=0,\"\",n2t(E23))),\"\")","v":"غـائـب"},"غ",{"$f":"IFERROR(IF(G23=\"\",\"\",IF(G23=0,\"\",n2t(G23))),\"\")","v":"غـائـب"},null,"غ",{"$f":"IFERROR(IF(J23=\"\",\"\",IF(J23=0,\"\",n2t(J23))),\"\")","v":"غـائـب"},null,null,null,null,"غائب",null,null,null,null,"غ"]
[21,null,null,null,"غ",{"$f":"IFERROR(IF(E24=\"\",\"\",IF(E24=0,\"\",n2t(E24))),\"\")","v":"غـائـب"},"غ",{"$f":"IFERROR(IF(G24=\"\",\"\",IF(G24=0,\"\",n2t(G24))),\"\")","v":"غـائـب"},null,"غ",{"$f":"IFERROR(IF(J24=\"\",\"\",IF(J24=0,\"\",n2t(J24))),\"\")","v":"غـائـب"},null,null,null,null,"غائب",null,null,null,null,"غ"]
[22,null,null,null,7,{"$f":"IFERROR(IF(E25=\"\",\"\",IF(E25=0,\"\",n2t(E25))),\"\")","v":"سـبـع"},3,{"$f":"IFERROR(IF(G25=\"\",\"\",IF(G25=0,\"\",n2t(G25))),\"\")","v":"ثـلاث"},null,10,{"$f":"IFERROR(IF(J25=\"\",\"\",IF(J25=0,\"\",n2t(J25))),\"\")","v":"عشر"},null,null,null,null,"ناجح",null,null,null,null,10]
[23,null,null,null,"غ",{"$f":"IFERROR(IF(E26=\"\",\"\",IF(E26=0,\"\",n2t(E26))),\"\")","v":"غـائـب"},"غ",{"$f":"IFERROR(IF(G26=\"\",\"\",IF(G26=0,\"\",n2t(G26))),\"\")","v":"غـائـب"},null,"غ",{"$f":"IFERROR(IF(J26=\"\",\"\",IF(J26=0,\"\",n2t(J26))),\"\")","v":"غـائـب"},null,null,null,null,"غائب",null,null,null,null,"غ"]
[24,null,null,null,7,{"$f":"IFERROR(IF(E27=\"\",\"\",IF(E27=0,\"\",n2t(E27))),\"\")","v":"سـبـع"},3,{"$f":"IFERROR(IF(G27=\"\",\"\",IF(G27=0,\"\",n2t(G27))),\"\")","v":"ثـلاث"},null,10,{"$f":"IFERROR(IF(J27=\"\",\"\",IF(J27=0,\"\",n2t(J27))),\"\")","v":"عشر"},null,null,null,null,"ناجح",null,null,null,null,10]
[25,null,null,null,7,{"$f":"IFERROR(IF(E28=\"\",\"\",IF(E28=0,\"\",n2t(E28))),\"\")","v":"سـبـع"},3,{"$f":"IFERROR(IF(G28=\"\",\"\",IF(G28=0,\"\",n2t(G28))),\"\")","v":"ثـلاث"},null,10,{"$f":"IFERROR(IF(J28=\"\",\"\",IF(J28=0,\"\",n2t(J28))),\"\")","v":"عشر"},null,null,null,null,"ناجح",null,null,null,null,10]
[26,null,null,null,null,null,null,null,null,null,null,null,null,null,null,null,null,null,null,null,0]
[27,null,null,null,null,{"$f":"IFERROR(IF(E30=\"\",\"\",IF(E30=0,\"\",n2t(E30))),\"\")","v":""},null,{"$f":"IFERROR(IF(G30=\"\",\"\",IF(G30=0,\"\",n2t(G30))),\"\")","v":""},null,null,{"$f":"IFERROR(IF(J30=\"\",\"\",IF(J30=0,\"\",n2t(J30))),\"\")","v":""},null,null,null,null,null,null,null,null,null,0]
[28,null,null,null,null,{"$f":"IFERROR(IF(E31=\"\",\"\",IF(E31=0,\"\",n2t(E31))),\"\")","v":""},null,{"$f":"IFERROR(IF(G31=\"\",\"\",IF(G31=0,\"\",n2t(G31))),\"\")","v":""},null,null,{"$f":"IFERROR(IF(J31=\"\",\"\",IF(J31=0,\"\",n2t(J31))),\"\")","v":""},null,null,null,null,null,null,null,null,null,0]
[29,null,null,null,null,{"$f":"IFERROR(IF(E32=\"\",\"\",IF(E32=0,\"\",n2t(E32))),\"\")","v":""},null,{"$f":"IFERROR(IF(G32=\"\",\"\",IF(G32=0,\"\",n2t(G32))),\"\")","v":""},null,null,{"$f":"IFERROR(IF(J32=\"\",\"\",IF(J32=0,\"\",n2t(J32))),\"\")","v":""},null,null,null,null,null,null,null,null,null,0]
[30,null,null,null,null,{"$f":"IFERROR(IF(E33=\"\",\"\",IF(E33=0,\"\",n2t(E33))),\"\")","v":""},null,{"$f":"IFERROR(IF(G33=\"\",\"\",IF(G33=0,\"\",n2t(G33))),\"\")","v":""},null,null,{"$f":"IFERROR(IF(J33=\"\",\"\",IF(J33=0,\"\",n2t(J33))),\"\")","v":""},null,null,null,null,null,null,null,null,null,0]
[31,null,null,null,null,{"$f":"IFERROR(IF(E34=\"\",\"\",IF(E34=0,\"\",n2t(E34))),\"\")","v":""},null,{"$f":"IFERROR(IF(G34=\"\",\"\",IF(G34=0,\"\",n2t(G34))),\"\")","v":""},null,null,{"$f":"IFERROR(IF(J34=\"\",\"\",IF(J34=0,\"\",n2t(J34))),\"\")","v":""},null,null,null,null,null,null,null,null,null,0]
[32,null,null,null,null,{"$f":"IFERROR(IF(E35=\"\",\"\",IF(E35=0,\"\",n2t(E35))),\"\")","v":""},null,{"$f":"IFERROR(IF(G35=\"\",\"\",IF(G35=0,\"\",n2t(G35))),\"\")","v":""},null,null,{"$f":"IFERROR(IF(J35=\"\",\"\",IF(J35=0,\"\",n2t(J35))),\"\")","v":""},null,null,null,null,null,null,null,null,null,0]
[33,null,null,null,null,{"$f":"IFERROR(IF(E36=\"\",\"\",IF(E36=0,\"\",n2t(E36))),\"\")","v":""},null,{"$f":"IFERROR(IF(G36=\"\",\"\",IF(G36=0,\"\",n2t(G36))),\"\")","v":""},null,null,{"$f":"IFERROR(IF(J36=\"\",\"\",IF(J36=0,\"\",n2t(J36))),\"\")","v":""},null,null,null,null,null,null,null,null,null,0]
[]
["المشتركون",null,null,"الممتحنون",null,"الناجحون",null,"الراسبون",null,"الغياب",null,"النسبة %",null,"النسبة الكلية%",null,{"$f":"IFERROR(O39*100/N39,\"\")","v":100}]
[{"$f":"'الرئيسية '!I5","v":"ذكور"},null,{"$f":"'الرئيسية '!I7","v":"اناث"},{"$f":"'الرئيسية '!I5","v":"ذكور"},{"$f":"'الرئيسية '!I7","v":"اناث"},{"$f":"'الرئيسية '!I5","v":"ذكور"},{"$f":"'الرئيسية '!I7","v":"اناث"},{"$f":"'الرئيسية '!I5","v":"ذكور"},{"$f":"'الرئيسية '!I7","v":"اناث"},{"$f":"'الرئيسية '!I5","v":"ذكور"},{"$f":"'الرئيسية '!I7","v":"اناث"},{"$f":"'الرئيسية '!I5","v":"ذكور"},{"$f":"IFERROR(F40*100/D40,\"\")","v":100},{"$f":"D40+E40","v":16},{"$f":"F40+G40","v":16}]
[{"$f":"COUNT(BB7:BB36)+COUNTIF(BB7:BB36,\"ذكر\")","v":0},null,{"$f":"COUNT(BB7:BB36)+COUNTIF(BB7:BB36,\"انثى\")","v":0},{"$f":"COUNT(P7:P36)+COUNTIF(P7:P36,\"ناجح\")+COUNTIF(P7:P36,\"راسب\")-COUNTIF(P7:P36,غائب)","v":16},{"$f":"COUNT(P7:P36)+COUNTIF(P7:P36,\"ناجحة\")+COUNTIF(P7:P36,\"راسبة\")-COUNTIF(P7:P36,غائبة)","v":0},{"$f":"COUNT(P7:P36)+COUNTIF(P7:P36,\"ناجح\")","v":16},{"$f":"COUNT(P7:P36)+COUNTIF(P7:P36,\"ناجحة\")","v":0},{"$f":"COUNT(P7:P36)+COUNTIF(P7:P36,\"راسب\")","v":0},{"$f":"COUNT(P7:P36)+COUNTIF(P7:P36,\"راسبة\")","v":0},{"$f":"COUNT(P7:P36)+COUNTIF(P7:P36,\"غائب\")","v":6},{"$f":"COUNT(P7:P36)+COUNTIF(P7:P36,\"غائبة\")","v":0},{"$f":"'الرئيسية '!I7","v":"اناث"},{"$f":"IFERROR(G40*100/E40,\"\")","v":""}]
[null,null,{"$f":"'اسماء التلاميذ'!F12","v":0},null,null,null,null,null,null,null,null,null,{"$f":"'اسماء التلاميذ'!B3","v":0}]
[null,null,"معلم المادة",null,null,null,null,null,null,null,null,null,"مدير المدرسة"]

{"sheet":"رياضة نهاية السنة","index":47,"n_rows":42,"n_cols":27,"rows_kept":42,"cut":false,"hidden":false,"merged":[[0,0,0,2],[1,0,1,2],[2,0,2,2],[0,5,0,10],[1,5,1,9],[2,5,2,9],[3,0,3,2],[4,4,5,4],[4,5,5,5],[4,6,5,6],[4,7,5,7],[4,2,5,3],[4,1,5,1],[4,0,5,0],[4,8,5,8],[4,9,5,9],[4,10,5,10],[38,0,38,1],[4,11,4,14],[5,12,5,14],[39,0,39,1],[40,12,40,14],[41,12,41,14],[36,11,36,14],[37,0,37,2],[37,3,37,4],[37,5,37,6],[37,7,37,8],[37,9,37,10],[37,11,37,12],[37,13,37,14]]}
["جمهورية العراق",null,null,null,null,"     قائمة درجات امتحان نهاية السنة",null,null,null,null,null,"الصف/ ",{"$f":"'اسماء التلاميذ'!F2","v":"الأول"}]
["وزارة التربية",null,null,null,null,"                للعام الدراسي",null,null,null,null,null,"الشعبة/ ",{"$f":"'اسماء التلاميذ'!F3","v":"أ"},null,null,null,null,null,null,null,null,null,null,null,null,null,"قائمة نهاية السنة"]
["إدارة",null,null,null,null,{"$f":"'اسماء التلاميذ'!F4","v":"2021 - 2022"},null,null,null,null,null,"المادة/ ","التربية الرياضية"]
[{"$f":"'اسماء التلاميذ'!B2","v":0},null,null,null,null,null,null,null,null,null,null,"اليوم والتاريخ/"]
["تسلسل","رقم القبول","الاسم الثلاثي",null,"الحضوردرجتان 2","القيافة درجتان 2","النشاطات الرياضية درجتان ","تمرين حركي درجة 1","تمرين حركي درجة 1","لعبة صغيرة درجة 1","لياقة بدجنية سباق درجة 1","الدرجة رقما وكتابة"]
[null,null,null,null,null,null,null,null,null,null,null,"المجموع الكلي","كتابة"]
[4,"نوري",null,null,2,2,2,1,1,1,1,10,"عشر",null,null,{"$f":"IF(COUNTIF(L7,\"<>\")<1,\"\",IF(COUNTIF(L7,\"0\")>=1,IF($BB7=\"انثى\",\"\",\"\"),IF(COUNTIF(L7,\"<5\")+COUNTIF(L7,\"0\")>=1,IF($BB7=\"انثى\",\"راسبة\",\"راسب\"),IF(COUNTIF(L7,\"<5\")+COUNTIF(L7,\"غ\")>=1,IF($BB7=\"انثى\",\"غائبة\",\"غائب\"),IF(COUNTIF(L7,\"<5\")+COUNTIF(L7,\"غ\")=1,IF($BB7=\"انثى\",\"مكملة\",\"مكمل\"),IF(COUNTIF(L7,\"<5\")+COUNTIF(L7,\"غ\")=2,IF($BB7=\"انثى\",\"مكملة\",\"مكمل\"),IF($BB7=\"انثى\",\"ناجحة\",\"ناجح\")))))))","v":"ناجح"}]
[5,"احمد",null,null,2,2,2,1,1,1,1,10,"عشر",null,null,{"$f":"IF(COUNTIF(L8,\"<>\")<1,\"\",IF(COUNTIF(L8,\"0\")>=1,IF($BB8=\"انثى\",\"\",\"\"),IF(COUNTIF(L8,\"<5\")+COUNTIF(L8,\"0\")>=1,IF($BB8=\"انثى\",\"راسبة\",\"راسب\"),IF(COUNTIF(L8,\"<5\")+COUNTIF(L8,\"غ\")>=1,IF($BB8=\"انثى\",\"غائبة\",\"غائب\"),IF(COUNTIF(L8,\"<5\")+COUNTIF(L8,\"غ\")=1,IF($BB8=\"انثى\",\"مكملة\",\"مكمل\"),IF(COUNTIF(L8,\"<5\")+COUNTIF(L8,\"غ\")=2,IF($BB8=\"انثى\",\"مكملة\",\"مكمل\"),IF($BB8=\"انثى\",\"ناجحة\",\"ناجح\")))))))","v":"ناجح"}]
[6,null,null,null,2,2,2,1,1,1,1,10,"عشر",null,null,"ناجح"]
[7,null,null,null,2,1,2,1,1,1,1,9,"تـسـع",null,null,"ناجح"]
[8,null,null,null,2,2,2,1,1,1,1,10,"عشر",null,null,"ناجح"]
[9,null,null,null,2,1,2,1,1,1,1,9,"تـسـع",null,null,"ناجح"]
[10,null,null,null,2,2,2,1,1,1,1,10,"عشر",null,null,"ناجح"]
[11,null,null,null,2,2,1,1,1,1,1,9,"تـسـع",null,null,"ناجح"]
[12,null,null,null,"غ","غ","غ","غ","غ","غ","غ","غ","غـائـب",null,null,"غائب"]
[13,null,null,null,2,1,2,1,1,1,1,9,"تـسـع",null,null,"ناجح"]
[14,null,null,null,2,1,2,1,1,1,1,9,"تـسـع",null,null,"ناجح"]
[15,null,null,null,"غ","غ","غ","غ","غ","غ","غ","غ","غـائـب",null,null,"غائب"]
[16,null,null,null,"غ","غ","غ","غ","غ","غ","غ","غ","غـائـب",null,null,"غائب"]
[17,null,null,null,2,1,2,1,1,1,1,9,"تـسـع",null,null,"ناجح"]
[18,null,null,null,2,2,2,1,1,1,1,10,"عشر",null,null,"ناجح"]
[19,null,null,null,2,2,2,1,1,1,1,10,"عشر",null,null,"ناجح"]
[20,null,null,null,"غ","غ","غ","غ","غ","غ","غ","غ","غـائـب",null,null,"غائب"]
[21,null,null,null,"غ","غ","غ","غ","غ","غ","غ","غ","غـائـب",null,null,"غائب"]
[22,null,null,null,2,2,2,1,1,1,1,10,"عشر",null,null,"ناجح"]
[23,null,null,null,"غ","غ","غ","غ","غ","غ","غ","غ","غـائـب",null,null,"غائب"]
[24,null,null,null,2,2,2,1,1,1,1,10,"عشر",null,null,"ناجح"]
[25,null,null,null,2,2,2,1,1,1,1,10,"عشر",null,null,"ناجح"]
[26,null,null,null,null,null,null,null,null,null,null,null,null,null,null,""]
[27,null,null,null,null,null,null,null,null,null,null,null,null,null,null,""]
[28,null,null,null,null,null,null,null,null,null,null,null,null,null,null,""]
[29]
[30,null,null,null,null,null,null,null,null,null,null,null,null,null,null,""]
[31,null,null,null,null,null,null,null,null,null,null,null,null,null,null,""]
[32,null,null,null,null,null,null,null,null,null,null,null,null,null,null,""]
[33,null,null,null,null,null,null,null,null,null,null,null,null,null,null,""]
[]
["المشتركون",null,null,"الممتحنون",null,"الناجحون",null,"الراسبون",null,"الغياب",null,"النسبة %",null,"النسبة الكلية%",null,{"$f":"IFERROR(O39*100/N39,\"\")","v":100}]
[{"$f":"'الرئيسية '!I5","v":"ذكور"},null,{"$f":"'الرئيسية '!I7","v":"اناث"},{"$f":"'الرئيسية '!I5","v":"ذكور"},{"$f":"'الرئيسية '!I7","v":"اناث"},{"$f":"'الرئيسية '!I5","v":"ذكور"},{"$f":"'الرئيسية '!I7","v":"اناث"},{"$f":"'الرئيسية '!I5","v":"ذكور"},{"$f":"'الرئيسية '!I7","v":"اناث"},{"$f":"'الرئيسية '!I5","v":"ذكور"},{"$f":"'الرئيسية '!I7","v":"اناث"},{"$f":"'الرئيسية '!I5","v":"ذكور"},{"$f":"IFERROR(F40*100/D40,\"\")","v":100},{"$f":"D40+E40","v":16},{"$f":"F40+G40","v":16}]
[{"$f":"COUNT(BB7:BB36)+COUNTIF(BB7:BB36,\"ذكر\")","v":0},null,{"$f":"COUNT(BB7:BB36)+COUNTIF(BB7:BB36,\"انثى\")","v":0},{"$f":"COUNT(P7:P36)+COUNTIF(P7:P36,\"ناجح\")+COUNTIF(P7:P36,\"راسب\")-COUNTIF(P7:P36,غائب)","v":16},{"$f":"COUNT(P7:P36)+COUNTIF(P7:P36,\"ناجحة\")+COUNTIF(P7:P36,\"راسبة\")-COUNTIF(P7:P36,غائبة)","v":0},{"$f":"COUNT(P7:P36)+COUNTIF(P7:P36,\"ناجح\")","v":16},{"$f":"COUNT(P7:P36)+COUNTIF(P7:P36,\"ناجحة\")","v":0},{"$f":"COUNT(P7:P36)+COUNTIF(P7:P36,\"راسب\")","v":0},{"$f":"COUNT(P7:P36)+COUNTIF(P7:P36,\"راسبة\")","v":0},{"$f":"COUNT(P7:P36)+COUNTIF(P7:P36,\"غائب\")","v":6},{"$f":"COUNT(P7:P36)+COUNTIF(P7:P36,\"غائبة\")","v":0},{"$f":"'الرئيسية '!I7","v":"اناث"},{"$f":"IFERROR(G40*100/E40,\"\")","v":""}]
[null,null,{"$f":"'اسماء التلاميذ'!F13","v":0},null,null,null,null,null,null,null,null,null,{"$f":"'اسماء التلاميذ'!B3","v":0}]
[null,null,"معلم المادة",null,null,null,null,null,null,null,null,null,"مدير المدرسة"]

{"sheet":"اسماء التلاميذ","index":48,"n_rows":43,"n_cols":21,"rows_kept":43,"cut":false,"hidden":false,"merged":[[1,6,5,6]]}
["الوقت",{"$f":"NOW()","v":44830.983370486108},null,null,"اليوم والتاريخ",{"$f":"\"   \"&TEXT(B1,\"dddd  d  mmmm  yyyy\")","v":"   الإثنين  26  سبتمبر  2022"}]
["إدارة",null,null,null,"الصف","الأول"," اكتب هنا بداية شهر السنة الدراسية",null,null,null,null,null,null,null,null,null,null,null,null,null,"عربي"]
["مدير المدرسة",null,null,null,"الشعبة","أ",null,null,null,null,null,null,null,null,null,null,null,null,null,null,"اسلامية"]
["مرشد الصف",null,null,null,"العام الدراسي","2021 - 2022",null,null,null,null,null,null,null,null,null,null,null,null,null,null,"رياضيات"]
[]
["التسلسل","رقم القبول","اسم التلميذ",null,"المواد الدراسية","أسماء المعلمين",null,null,null,null,null,null,null,null,null,null,null,null,null,null,"انكليزي"]
[4,"نوري",null,null,"التربية الإسلامية",null,"تشرين الأول",null,null,null,null,null,null,null,null,null,null,null,null,null,"الاجتماعيات"]
[5,"احمد",null,null,"اللغة العربية",null,"تشرين الثاني",null,null,null,null,null,null,null,null,null,null,null,null,null,"علوم"]
[6,null,null,null,"الرياضيات",null,"كانون الأول",null,null,null,null,null,null,null,null,null,null,null,null,null,"فنية"]
[7,null,null,null,"الإنكليزي",null,null,null,null,null,null,null,null,null,null,null,null,null,null,null,"رياضة"]
[8,null,null,null,"العلوم",null,null,null,null,null,null,null,null,null,null,null,null,null,null,null,"قائمة امتحان نصف السنة"]
[9,null,null,null,"الفنية والنشيد",null,null,null,null,null,null,null,null,null,null,null,null,null,null,null,"درجات شهادات"]
[10,null,null,null,"التربية الرياضية"]
[11,null,null,null,null,null,null,null,null,null,null,null,null,null,null,null,null,null,null,null,"سجل وسط نصف سنة"]
[12,null,null,null,null,null,null,null,null,null,null,null,null,null,null,null,null,null,null,null,"اسلامية نهاية السنة"]
[13,null,null,null,null,null,null,null,null,null,null,null,null,null,null,null,null,null,null,null,"عربي نهاية السنة"]
[14,null,null,null,null,null,null,null,null,null,null,null,null,null,null,null,null,null,null,null,"انكليزي نهاية السنة"]
[15,null,null,null,null,null,null,null,null,null,null,null,null,null,null,null,null,null,null,null,"رياضيات نهاية السنة"]
[16]
[17,null,null,null,null,null,null,null,null,null,null,null,null,null,null,null,null,null,null,null,"سجل وسط نهاية السنة"]
[18,null,null,null,null,null,null,null,null,null,null,null,null,null,null,null,null,null,null,null,"نسخة قائمة نهاية السنة لاضافة د"]
[19,null,null,null,null,null,null,null,null,null,null,null,null,null,null,null,null,null,null,null,"درجات شهادات"]
[20,null,null,null,null,null,null,null,null,null,null,null,null,null,null,null,null,null,null,null,"علوم نهاية السنة"]
[21,null,null,null,null,null,null,null,null,null,null,null,null,null,null,null,null,null,null,null,"قائمة نهاية السنة"]
[22,null,null,null,null,null,null,null,null,null,null,null,null,null,null,null,null,null,null,null,"الاجتماعيات نهاية السنة"]
[23,null,null,null,null,null,null,null,null,null,null,null,null,null,null,null,null,null,null,null,"الاجتماعيات نهاية السنة"]
[24,null,null,null,null,null,null,null,null,null,null,null,null,null,null,null,null,null,null,null,"فنية نهاية السنة"]
[25,null,null,null,null,null,null,null,null,null,null,null,null,null,null,null,null,null,null,null,"رياضة نهاية السنة"]
[26,null,null,null,null,null,null,null,null,null,null,null,null,null,null,null,null,null,null,null,"درجات شهادات (2)"]
[27,null,null,null,null,null,null,null,null,null,null,null,null,null,null,null,null,null,null,null,"قائمة امتحان لغرض الدور الثاني "]
[28,null,null,null,null,null,null,null,null,null,null,null,null,null,null,null,null,null,null,null,"سجل وسط نهاية السنة (2)"]
[29,null,null,null,null,null,null,null,null,null,null,null,null,null,null,null,null,null,null,null,"اسلامية دور ثاني"]
[30,null,null,null,null,null,null,null,null,null,null,null,null,null,null,null,null,null,null,null,"سجل امتحان الدور الثاني"]
[31,null,null,null,null,null,null,null,null,null,null,null,null,null,null,null,null,null,null,null,"رياضة دور ثاني"]
[32,null,null,null,null,null,null,null,null,null,null,null,null,null,null,null,null,null,null,null,"فنية دور ثاني"]
[33,null,null,null,null,null,null,null,null,null,null,null,null,null,null,null,null,null,null,null,"علوم دور ثاني"]
[null,null,null,null,"مسؤول الكنترول","سعد حميد خلف",null,null,null,null,null,null,null,null,null,null,null,null,null,null,"الاجتماعيات دور ثاني"]
[null,null,null,null,null,null,null,null,null,null,null,null,null,null,null,null,null,null,null,null,"رياضيات دور ثاني"]
[null,null,null,null,null,null,null,null,null,null,null,null,null,null,null,null,null,null,null,null,"انكليزي دور ثاني"]
[null,null,null,null,null,null,null,null,null,null,null,null,null,null,null,null,null,null,null,null,"عربي دور ثاني"]
[null,null,null,null,null,null,null,null,null,null,null,null,null,null,null,null,null,null,null,null,"اسلامية دور ثاني"]
[null,null,null,null,null,null,null,null,null,null,null,null,null,null,null,null,null,null,null,null,"قائمة الدور الثاني"]
[null,null,null,null,null,null,null,null,null,null,null,null,null,null,null,null,null,null,null,null,"درجات شهادات (2)"]

{"sheet":"1","index":49,"n_rows":10,"n_cols":2,"rows_kept":10,"cut":false,"hidden":true,"merged":[]}
[null,true]
[]
[]
[]
[]
[]
[]
[]
[{"$f":"MBSerialNumber()","v":"PCWQU00WD5PO27"}]
["PCWQU00WD5PO27"]