{"text_format":"1","workbook":"xlsx","n_sheets":5,"sheets":["Drawing","Drawing 2","Stranding","Drawing Sc","Sheet1"],"not_rendered":{"charts":0,"images":0,"macros":1,"external_links":2,"defined_names":5,"comments":0,"pivot_tables":0},"unopened":[],"bounds":{"document_bytes":16777216,"sheet_cells":100000,"rows_first":2000,"rows_last":500,"rows_between":2000,"halvings":0,"cell_chars":16384,"cell_head_chars":4096},"cells_cut":0,"cells_raw":0,"read":"whole","date_system":"1900"}

{"sheet":"Drawing","index":0,"n_rows":1004,"n_cols":27,"rows_kept":1004,"cut":false,"hidden":false,"merged":[]}
[null,null,null,"0007-6",null,"Drawing"]
["رقم  T.D.S ","Cable Type","Cable SIZE","DESCRIPTION","VOLT","Conductor Type","Size","Material Code","Wire Diameter","Conductor Weight","Column1","Column2"]
["0001-6","NYAM","1 X 1.5","CU / PVC","450/750 V","Stranded",1.5,"CR04",1.8,13.1,null,null,null,null,null,null,null,null,null,null,null,null,null,null,null,null,72]
["0002-6","NYAM","1 X 1.5","CU / PVC","450/750 V","Stranded",1.5,"CR04",1.8,13.1,null,null,null,null,null,null,null,null,null,null,null,null,null,null,null,null,73]
["0003-6","NYAM","1 X 1.5","CU / PVC","450/750 V","Stranded",1.5,"CR04",1.8,13.1,null,null,null,null,null,null,null,null,null,null,null,null,null,null,null,null,113]
["0004-6","NYAM","1 X 1.5","CU / PVC","450/750 V","Stranded",1.5,"CR04",1.8,13.1,null,null,null,null,null,null,null,null,null,null,null,null,null,null,null,null,115]
["0005-8","NYAM","1 X 1.5","CU / PVC","450/750 V","Stranded",1.5,"CR04",1.8,13.1,null,null,null,null,null,null,null,null,null,null,null,null,null,null,null,null,116]
["0006-6","NYAM","1 x 2.5","CU / PVC","450/750 V","Stranded",2.5,"CR04",1.8,21.5,null,null,null,null,null,null,null,null,null,null,null,null,null,null,null,null,121]
["0007-6","NYAM","1 x 2.5","CU / PVC","450/750 V","Stranded",2.5,"CR04",1.8,21.5,null,null,null,null,null,null,null,null,null,null,null,null,null,null,null,null,122]
["0008-6","NYAM","1 x 2.5","CU / PVC","450/750 V","Stranded",2.5,"CR04",1.8,21.5,null,null,null,null,null,null,null,null,null,null,null,null,null,null,null,null,123]
["0009-6","NYAM","1 x 2.5","CU / PVC","450/750 V","Stranded",2.5,"CR04",1.8,21.5,null,null,null,null,null,null,null,null,null,null,null,null,null,null,null,null,125]
["0010-6","NYAM","1 x 2.5","CU / PVC","450/750 V","Stranded",2.5,"CR04",1.8,21.5,null,null,null,null,null,null,null,null,null,null,null,null,null,null,null,null,126]
["0011-6","NYAM","1 x 4","CU / PVC","450/750 V","Stranded",4,"CR04",1.8,34.5,null,null,null,null,null,null,null,null,null,null,null,null,null,null,null,null,127]
["0012-6","NYAM","1 x 4","CU / PVC","450/750 V","Stranded",4,"CR04",1.8,34.5,null,null,null,null,null,null,null,null,null,null,null,null,null,null,null,null,133]
["0013-6","NYAM","1 x 4","CU / PVC","450/750 V","Stranded",4,"CR04",1.8,34.5,null,null,null,null,null,null,null,null,null,null,null,null,null,null,null,null,138]
["0014-6","NYAM","1 x 4","CU / PVC","450/750 V","Stranded",4,"CR04",1.8,34.5,null,null,null,null,null,null,null,null,null,null,null,null,null,null,null,null,140]
["0015-6","NYAM","1 x 4","CU / PVC","450/750 V","Stranded",4,"CR04",1.8,34.5,null,null,null,null,null,null,null,null,null,null,null,null,null,null,null,null,141]
["0016-5","NYAM","1 x 6","CU / PVC","450/750 V","Stranded",6,"CR04",1.8,51.5,null,null,null,null,null,null,null,null,null,null,null,null,null,null,null,null,142]
["0017-5","NYAM","1 x 6","CU / PVC","450/750 V","Stranded",6,"CR04",1.8,51.5,null,null,null,null,null,null,null,null,null,null,null,null,null,null,null,null,143]
["0018-5","NYAM","1 x 6","CU / PVC","450/750 V","Stranded",6,"CR04",1.8,51.5,null,null,null,null,null,null,null,null,null,null,null,null,null,null,null,null,144]
["0019-5","NYAM","1 x 6","CU / PVC","450/750 V","Stranded",6,"CR04",1.8,51.5,null,null,null,null,null,null,null,null,null,null,null,null,null,null,null,null,163]
["0020-5","NYAM","1 x 6","CU / PVC","450/750 V","Stranded",6,"CR04",1.8,51.5,null,null,null,null,null,null,null,null,null,null,null,null,null,null,null,null,166]
["0021-5","NYAF","1 X 1.5","CU / PVC","450/750 V","Flexible",1.5,"CR04",1.8,12.25,null,null,null,null,null,null,null,null,null,null,null,null,null,null,null,null,172]
["0022-5","NYAF","1 X 1.5","CU / PVC","450/750 V","Flexible",1.5,"CR04",1.8,12.25,null,null,null,null,null,null,null,null,null,null,null,null,null,null,null,null,176]
["0023-5","NYAF","1 X 1.5","CU / PVC","450/750 V","Flexible",1.5,"CR04",1.8,12.25,null,null,null,null,null,null,null,null,null,null,null,null,null,null,null,null,179]
["0024-4","NYAF","1 X 1.5","CU / PVC","450/750 V","Flexible",1.5,"CR04",1.8,12.25,null,null,null,null,null,null,null,null,null,null,null,null,null,null,null,null,182]
["0025-4","NYAF","1 X 1.5","CU / PVC","450/750 V","Flexible",1.5,"CR04",1.8,12.25,null,null,null,null,null,null,null,null,null,null,null,null,null,null,null,null,184]
["0026-4","NYAF","1 x 2.5","CU / PVC","450/750 V","Flexible",2.5,"CR04",1.8,20.149999999999999,null,null,null,null,null,null,null,null,null,null,null,null,null,null,null,null,185]
["0027-4","NYAF","1 x 2.5","CU / PVC","450/750 V","Flexible",2.5,"CR04",1.8,20.149999999999999,null,null,null,null,null,null,null,null,null,null,null,null,null,null,null,null,186]
["0028-4","NYAF","1 x 2.5","CU / PVC","450/750 V","Flexible",2.5,"CR04",1.8,20.149999999999999,null,null,null,null,null,null,null,null,null,null,null,null,null,null,null,null,189]
["0029-4","NYAF","1 x 2.5","CU / PVC","450/750 V","Flexible",2.5,"CR04",1.8,20.149999999999999,null,null,null,null,null,null,null,null,null,null,null,null,null,null,null,null,190]
["0030-4","NYAF","1 x 2.5","CU / PVC","450/750 V","Flexible",2.5,"CR04",1.8,20.149999999999999,null,null,null,null,null,null,null,null,null,null,null,null,null,null,null,null,191]
["0031-4","NYAF","1 x 4","CU / PVC","450/750 V","Flexible",4,"CR04",1.8,31.8,null,null,null,null,null,null,null,null,null,null,null,null,null,null,null,null,192]
["0032-4","NYAF","1 x 4","CU / PVC","450/750 V","Flexible",4,"CR04",1.8,31.8,null,null,null,null,null,null,null,null,null,null,null,null,null,null,null,null,197]
["0033-4","NYAF","1 x 4","CU / PVC","450/750 V","Flexible",4,"CR04",1.8,31.8,null,null,null,null,null,null,null,null,null,null,null,null,null,null,null,null,198]
["0034-3","NYAF","1 x 4","CU / PVC","450/750 V","Flexible",4,"CR04",1.8,31.8,null,null,null,null,null,null,null,null,null,null,null,null,null,null,null,null,199]
["0035-3","NYAF","1 x 4","CU / PVC","450/750 V","Flexible",4,"CR04",1.8,31.8,null,null,null,null,null,null,null,null,null,null,null,null,null,null,null,null,205]
["0036-5","NYAF","1 x 6","CU / PVC","450/750 V","Flexible",6,"CR04",1.8,47.55,null,null,null,null,null,null,null,null,null,null,null,null,null,null,null,null,207]
["0037-5","NYAF","1 x 6","CU / PVC","450/750 V","Flexible",6,"CR04",1.8,47.55,null,null,null,null,null,null,null,null,null,null,null,null,null,null,null,null,209]
["0038-5","NYAF","1 x 6","CU / PVC","450/750 V","Flexible",6,"CR04",1.8,47.55,null,null,null,null,null,null,null,null,null,null,null,null,null,null,null,null,210]
["0039-4","NYAF","1 x 6","CU / PVC","450/750 V","Flexible",6,"CR04",1.8,47.55,null,null,null,null,null,null,null,null,null,null,null,null,null,null,null,null,213]
["0040-4","NYAF","1 x 6","CU / PVC","450/750 V","Flexible",6,"CR04",1.8,47.55,null,null,null,null,null,null,null,null,null,null,null,null,null,null,null,null,214]
["0041-3","NYZ","2 X 0.5","CU / PVC","300/300 V","Flexible",0.5,"CR04",1.8,8.36,null,null,null,null,null,null,null,null,null,null,null,null,null,null,null,null,215]
["0042-2","NYZ","2 X 0.75","CU / PVC","300/300 V","Flexible",0.75,"CR04",1.8,12.5,null,null,null,null,null,null,null,null,null,null,null,null,null,null,null,null,216]
["0043-4","NYZ","2 X 1","CU / PVC","300/300 V","Flexible",1,"CR04",1.8,16.5,null,null,null,null,null,null,null,null,null,null,null,null,null,null,null,null,217]
["0044-4","NYZ","2 X 1.5","CU / PVC","300/300 V","Flexible",1.5,"CR04",1.8,24.5,null,null,null,null,null,null,null,null,null,null,null,null,null,null,null,null,218]
["0045-4","NYZ","2 X 0.5","CU / PVC","300/300 V","Flexible",0.5,"CR04",1.8,8.36,null,null,null,null,null,null,null,null,null,null,null,null,null,null,null,null,221]
["0046-3","NYZ","2 X 0.75","CU / PVC","300/300 V","Flexible",0.75,"CR04",1.8,12.5,null,null,null,null,null,null,null,null,null,null,null,null,null,null,null,null,223]
["0047-5","NYZ","2 X 1","CU / PVC","300/300 V","Flexible",1,"CR04",1.8,16.5,null,null,null,null,null,null,null,null,null,null,null,null,null,null,null,null,224]
["0048-6","NYZ","2 X 1.5","CU / PVC","300/300 V","Flexible",1.5,"CR04",1.8,24.5,null,null,null,null,null,null,null,null,null,null,null,null,null,null,null,null,225]
["0049-5","NYMHY","2 X 1","CU / PVC / PVC","300/500 V","Flexible",1,"CR04",1.8,16.55,null,null,null,null,null,null,null,null,null,null,null,null,null,null,null,null,227]
["0050-6","NYMHY","2 X 1.5","CU / PVC / PVC","300/500 V","Flexible",1.5,"CR04",1.8,24.57,null,null,null,null,null,null,null,null,null,null,null,null,null,null,null,null,228]
["0051-6","NYMHY","2 X 2.5","CU / PVC / PVC","300/500 V","Flexible",2.5,"CR04",1.8,40.42,null,null,null,null,null,null,null,null,null,null,null,null,null,null,null,null,229]
["0052-5","NYMHY","2 X 4","CU / PVC / PVC","300/500 V","Flexible",4,"CR04",1.8,63.79,null,null,null,null,null,null,null,null,null,null,null,null,null,null,null,null,230]
["0053-5","NYMHY","2 X 6","CU / PVC / PVC","300/500 V","Flexible",6,"CR04",1.8,95.39,null,null,null,null,null,null,null,null,null,null,null,null,null,null,null,null,231]
["0054-5","NYMHY","3 X 1.5","CU / PVC / PVC","300/500 V","Flexible",1.5,"CR04",1.8,36.86,null,null,null,null,null,null,null,null,null,null,null,null,null,null,null,null,232]
["0055-5","NYMHY","3 X 2.5","CU / PVC / PVC","300/500 V","Flexible",2.5,"CR04",1.8,60.63,null,null,null,null,null,null,null,null,null,null,null,null,null,null,null,null,233]
["0056-5","NYMHY","3 X 4","CU / PVC / PVC","300/500 V","Flexible",4,"CR04",1.8,95.69,null,null,null,null,null,null,null,null,null,null,null,null,null,null,null,null,234]
["0057-5","NYMHY","4 X 1.5","CU / PVC / PVC","300/500 V","Flexible",1.5,"CR04",1.8,49.15,null,null,null,null,null,null,null,null,null,null,null,null,null,null,null,null,235]
["0058-6","NYMHY","4 X 2.5","CU / PVC / PVC","300/500 V","Flexible",2.5,"CR04",1.8,80.84,null,null,null,null,null,null,null,null,null,null,null,null,null,null,null,null,236]
["0059-5","NYMHY","4 X 4","CU / PVC / PVC","300/500 V","Flexible",4,"CR04",1.8,127.58,null,null,null,null,null,null,null,null,null,null,null,null,null,null,null,null,237]
["0060-5","NYM","2 X 6","CU / PVC / PVC","300/500 V","Stranded",6,"CR04",1.8,103.31,null,null,null,null,null,null,null,null,null,null,null,null,null,null,null,null,238]
["0061-2","NYM","2 X 10","CU / PVC / PVC","300/500 V","Stranded",10,"CR04",1.43,173.52,null,null,null,null,null,null,null,null,null,null,null,null,null,null,null,null,239]
["0062-7","NYM","4 X 6","CU / PVC / PVC","300/500 V","Stranded",6,"CR04",1.8,206.62,null,null,null,null,null,null,null,null,null,null,null,null,null,null,null,null,240]
["0063-6","NYY","4 X 10","CU / PVC / PVC","0.6/1 KV","Stranded",10,"CR04",1.43,347.04,null,null,null,null,null,null,null,null,null,null,null,null,null,null,null,null,241]
["0064-7","NYM","4 X 16","CU / PVC / PVC","0.6/1 KV","Stranded",16,"CR04",1.75,547.64,null,null,null,null,null,null,null,null,null,null,null,null,null,null,null,null,242]
["0065-6","NYAM","1 X 3","CU / PVC","450/750 V","Stranded",3,"CR04",1.8,26,null,null,null,null,null,null,null,null,null,null,null,null,null,null,null,null,243]
["0066-6","NYAM","1 X 3","CU / PVC","450/750 V","Stranded",3,"CR04",1.8,26,null,null,null,null,null,null,null,null,null,null,null,null,null,null,null,null,244]
["0067-6","NYAM","1 X 3","CU / PVC","450/750 V","Stranded",3,"CR04",1.8,26,null,null,null,null,null,null,null,null,null,null,null,null,null,null,null,null,245]
["0068-6","NYAM","1 X 3","CU / PVC","450/750 V","Stranded",3,"CR04",1.8,26,null,null,null,null,null,null,null,null,null,null,null,null,null,null,null,null,246]
["0069-6","NYAM","1 X 3","CU / PVC","450/750 V","Stranded",3,"CR04",1.8,26,null,null,null,null,null,null,null,null,null,null,null,null,null,null,null,null,247]
["0070-3","NYMHY","3 X 1","CU / PVC / PVC","300/500 V","Flexible",1,"CR04",1.8,24.82,null,null,null,null,null,null,null,null,null,null,null,null,null,null,null,null,248]
["0071-3","Bare Copper",3,"Bare Copper","NUII","Solid",3,"CR01",3,62.84,null,null,null,null,null,null,null,null,null,null,null,null,null,null,null,null,249]
["0072","Bare Copper",2.0499999999999998,"Bare Copper","NUII","Solid",2.0499999999999998,"CR04",2.0499999999999998,29.34,null,null,null,null,null,null,null,null,null,null,null,null,null,null,null,null,250]
["0073","Bare Copper",2,"Bare Copper","NUII","Solid",2,"CR04",2,27.93,null,null,null,null,null,null,null,null,null,null,null,null,null,null,null,null,251]
["0074-3","Bare Copper",3.35,"Bare Copper","NUII","Solid",3.35,"CR01",3.35,78.36,null,null,null,null,null,null,null,null,null,null,null,null,null,null,null,null,257]
["0075-1","NYAF","1X4","CU / PVC","450/750 V","Flexible",4,"CR04",1.8,31.8,null,null,null,null,null,null,null,null,null,null,null,null,null,null,null,null,262]
["0076-3","NYAM","1 X 1","CU / PVC","450/750 V","Stranded",1,"CR04",1.8,8.9,null,null,null,null,null,null,null,null,null,null,null,null,null,null,null,null,272]
["0077-3","NYAM","1 X 1","CU / PVC","450/750 V","Stranded",1,"CR04",1.8,8.9,null,null,null,null,null,null,null,null,null,null,null,null,null,null,null,null,283]
["0078-3","NYAM","1 X 1","CU / PVC","450/750 V","Stranded",1,"CR04",1.8,8.9,null,null,null,null,null,null,null,null,null,null,null,null,null,null,null,null,284]
["0079-3","NYAM","1 X 1","CU / PVC","450/750 V","Stranded",1,"CR04",1.8,8.9,null,null,null,null,null,null,null,null,null,null,null,null,null,null,null,null,290]
["0080-2","NYAM","1 X 1","CU / PVC","450/750 V","Stranded",1,"CR04",1.8,8.9,null,null,null,null,null,null,null,null,null,null,null,null,null,null,null,null,291]
["0081-4","NYAF","1 X 1","CU / PVC","450/750 V","Flexible",1,"CR04",1.8,8.25,null,null,null,null,null,null,null,null,null,null,null,null,null,null,null,null,292]
["0082-4","NYAF","1 X 1","CU / PVC","450/750 V","Flexible",1,"CR04",1.8,8.25,null,null,null,null,null,null,null,null,null,null,null,null,null,null,null,null,293]
["0083-4","NYAF","1 X 1","CU / PVC","450/750 V","Flexible",1,"CR04",1.8,8.25,null,null,null,null,null,null,null,null,null,null,null,null,null,null,null,null,294]
["0084-4","NYAF","1 X 1","CU / PVC","450/750 V","Flexible",1,"CR04",1.8,8.25,null,null,null,null,null,null,null,null,null,null,null,null,null,null,null,null,295]
["0085-4","NYAF","1 X 1","CU / PVC","450/750 V","Flexible",1,"CR04",1.8,8.25,null,null,null,null,null,null,null,null,null,null,null,null,null,null,null,null,296]
["0086-4","NYAF","1 X 10","CU / PVC","450/750 V","Flexible",10,"CR04",1.8,82.4,null,null,null,null,null,null,null,null,null,null,null,null,null,null,null,null,297]
["0087-4","NYAF","1 X 10","CU / PVC","450/750 V","Flexible",10,"CR04",1.8,82.4,null,null,null,null,null,null,null,null,null,null,null,null,null,null,null,null,298]
["0088-3","NYAF","1 X 16","CU / PVC","450/750 V","Flexible",16,"CR04",1.8,133,null,null,null,null,null,null,null,null,null,null,null,null,null,null,null,null,299]
["0089-4","NYAF","1 X 16","CU / PVC","450/750 V","Flexible",16,"CR04",1.8,133,null,null,null,null,null,null,null,null,null,null,null,null,null,null,null,null,300]
["0090-5","NYM","4 X 10","CU / PVC / PVC","300/500 V","Stranded",10,"CR04",1.43,347.04,null,null,null,null,null,null,null,null,null,null,null,null,null,null,null,null,301]
["0091-5","NYY","4 X 25","CU / PVC / PVC","0.6/1 KV","Stranded",25,"CR04",2.2200000000000002,862.58,null,null,null,null,null,null,null,null,null,null,null,null,null,null,null,null,302]
["0092-1","NYLFY","3 X 16","CU / PVC / PVC","450/750 V","Flexible",16,"CR04",1.8,399,null,null,null,null,null,null,null,null,null,null,null,null,null,null,null,null,303]
["0093-5","NYAM","1 X 3","CU / PVC","450/750 V","Stranded",3,"CR04",1.8,26,null,null,null,null,null,null,null,null,null,null,null,null,null,null,null,null,306]
["0094-5","NYAM","1 X 3","CU / PVC","450/750 V","Stranded",3,"CR04",1.8,26,null,null,null,null,null,null,null,null,null,null,null,null,null,null,null,null,308]
["0095-5","NYAM","1 X 2.5","CU / PVC","450/750 V","Stranded",2.5,"CR04",1.8,21.5,null,null,null,null,null,null,null,null,null,null,null,null,null,null,null,null,309]
["0096-5","NYAM","1 X 2.5","CU / PVC","450/750 V","Stranded",2.5,"CR04",1.8,21.5,null,null,null,null,null,null,null,null,null,null,null,null,null,null,null,null,310]
["0097-5","NYAM","1 x 4","CU / PVC","450/750 V","Stranded",4,"CR01",1.8,34.5,null,null,null,null,null,null,null,null,null,null,null,null,null,null,null,null,311]
["0098-5","NYAM","1 x 4","CU / PVC","450/750 V","Stranded",4,"CR01",1.8,34.5,null,null,null,null,null,null,null,null,null,null,null,null,null,null,null,null,320]
["0099-4","NYAM","1 x 6","CU / PVC","450/750 V","Stranded",6,"CR04",1.8,51.5,null,null,null,null,null,null,null,null,null,null,null,null,null,null,null,null,321]
["0100-4","NYAM","1 x 6","CU / PVC","450/750 V","Stranded",6,"CR04",1.8,51.5,null,null,null,null,null,null,null,null,null,null,null,null,null,null,null,null,322]
["0101-2","NYAF","1 X 1.5","CU / PVC","450/750 V","Flexible",1.5,"CR04",1.8,12.25,null,null,null,null,null,null,null,null,null,null,null,null,null,null,null,null,325]
["0102-3","NYAF","1 X 1.5","CU / PVC","450/750 V","Flexible",1.5,"CR04",1.8,12.25,null,null,null,null,null,null,null,null,null,null,null,null,null,null,null,null,330]
["0103-2","NYAF","1 X 2.5","CU / PVC","450/750 V","Flexible",2.5,"CR04",1.8,20.149999999999999,null,null,null,null,null,null,null,null,null,null,null,null,null,null,null,null,331]
["0104-2","NYAF","1 X 2.5","CU / PVC","450/750 V","Flexible",2.5,"CR04",1.8,20.149999999999999,null,null,null,null,null,null,null,null,null,null,null,null,null,null,null,null,333]
["0105-4","NYMHY","4 X 1","CU / PVC / PVC","300 / 500 V","Flexible",1,"CR04",1.8,33.1,null,null,null,null,null,null,null,null,null,null,null,null,null,null,null,null,334]
["0106-3","NYMHY","3 x 6","CU / PVC / PVC","300 / 500 V","Flexible",6,"CR04",1.8,143.08000000000001,null,null,null,null,null,null,null,null,null,null,null,null,null,null,null,null,335]
["0107-5","NYMHY","4 X 6","CU / PVC / PVC","300 / 500 V","Flexible",6,"CR04",1.8,190.77,null,null,null,null,null,null,null,null,null,null,null,null,null,null,null,null,336]
["0108-5","NYYF","1 X 185","CU / PVC / PVC","0.6/1 KV","Flexible",185,"CR04",1.8,1515,null,null,null,null,null,null,null,null,null,null,null,null,null,null,null,null,337]
["0109-5","NYYF","1 X 240","CU / PVC / PVC","0.6/1 KV","Flexible",240,"CR04",1.8,2000,null,null,null,null,null,null,null,null,null,null,null,null,null,null,null,null,338]
["0110-4","NYYF","1 X 500","CU / PVC / PVC","0.6/1 KV","Flexible",500,"CR04",1.8,4220,null,null,null,null,null,null,null,null,null,null,null,null,null,null,null,null,339]
["0111-2","Bare Copper",1.25,"Bare Copper","NUII","Solid",1.25,"CR04",1.25,10.91,null,null,null,null,null,null,null,null,null,null,null,null,null,null,null,null,340]
["0112-1","NYMHY","3 X 10","CU / PVC / PVC","300/500 V","Flexible",10,"CR04",1.8,247.94,null,null,null,null,null,null,null,null,null,null,null,null,null,null,null,null,341]
["0113","Bare Copper",1.42,"Bare Copper","NUII","Solid",1.42,"CR04",1.42,14.08,null,null,null,null,null,null,null,null,null,null,null,null,null,null,null,null,342]
["0114-1","NYAM","1 x 16","CU / PVC","450/750 V","Stranded",16,"CR04",1.75,136.5,null,null,null,null,null,null,null,null,null,null,null,null,null,null,null,null,346]
["0115","NYAM","1 x 25","CU / PVC","450/750 V","Stranded",25,"CR04",2.2200000000000002,215,null,null,null,null,null,null,null,null,null,null,null,null,null,null,null,null,347]
["0116","NYAM","1 x 35","CU / PVC","450/750 V","Stranded",35,"CR04",2.65,297,null,null,null,null,null,null,null,null,null,null,null,null,null,null,null,null,349]
["0117-1","NYAM","1 X 50","CU / PVC","450/750 V","Stranded",50,"CR04",1.86,405,null,null,null,null,null,null,null,null,null,null,null,null,null,null,null,null,350]
["0118-1","NYAM","1 X 70","CU / PVC","450/750 V","Stranded",70,"CR04",2.2200000000000002,583,null,null,null,null,null,null,null,null,null,null,null,null,null,null,null,null,359]
["0119-2","NYAF","1 X 10","CU / PVC","450/750 V","Flexible",10,"CR04",1.8,82.4,null,null,null,null,null,null,null,null,null,null,null,null,null,null,null,null,361]
["0120-2","NYAF","1 X 16","CU / PVC","450/750 V","Flexible",16,"CR04",1.8,133,null,null,null,null,null,null,null,null,null,null,null,null,null,null,null,null,362]
["0121","NYAF","1 X 25","CU / PVC","450/750 V","Flexible",25,"CR04",1.8,205,null,null,null,null,null,null,null,null,null,null,null,null,null,null,null,null,365]
["0122","NYAF","1 X 35","CU / PVC","450/750 V","Flexible",35,"CR04",1.8,288,null,null,null,null,null,null,null,null,null,null,null,null,null,null,null,null,366]
["0123","NYAF","1 X 50","CU / PVC","450/750 V","Flexible",50,"CR04",1.8,415,null,null,null,null,null,null,null,null,null,null,null,null,null,null,null,null,368]
["0124-2","NYAF","1 X 10","CU / PVC","450/750 V","Flexible",10,"CR04",1.8,82.4,null,null,null,null,null,null,null,null,null,null,null,null,null,null,null,null,370]
["0125","NYAF","1 X 16","CU / PVC","450/750 V","Flexible",16,"CR04",1.8,133,null,null,null,null,null,null,null,null,null,null,null,null,null,null,null,null,371]
["0126","NYAF","1 X 25","CU / PVC","450/750 V","Flexible",25,"CR04",1.8,205,null,null,null,null,null,null,null,null,null,null,null,null,null,null,null,null,373]
["0127","NYAF","1 X 35","CU / PVC","450/750 V","Flexible",35,"CR04",1.8,288,null,null,null,null,null,null,null,null,null,null,null,null,null,null,null,null,375]
["0128-1","NYAF","1 X 50","CU / PVC","450/750 V","Flexible",50,"CR04",1.8,415,null,null,null,null,null,null,null,null,null,null,null,null,null,null,null,null,376]
["0129-5","NYY","4 X 35","CU / PVC / PVC","0.6/1 KV","Stranded",35,"CR04",2.65,1191.56,null,null,null,null,null,null,null,null,null,null,null,null,null,null,null,null,377]
["0130-4","NYY","4 X 50","CU / PVC / PVC","0.6/1 KV","Stranded",50,"CR04",1.86,1624.86,null,null,null,null,null,null,null,null,null,null,null,null,null,null,null,null,378]
["0131-3","NYY","4 X 70","CU / PVC / PVC","0.6/1 KV","Stranded",70,"CR04",2.2200000000000002,2367.08,null,null,null,null,null,null,null,null,null,null,null,null,null,null,null,null,379]
["0132-4","NYY","4 X 95","CU / PVC / PVC","0.6/1 KV","Stranded",95,"CR04",2.63,3289.84,null,null,null,null,null,null,null,null,null,null,null,null,null,null,null,null,380]
["0133","NYY","4 X 120","CU / PVC / PVC","0.6/1 KV","Stranded",120,"CR04",2.36,4160.4399999999996,null,null,null,null,null,null,null,null,null,null,null,null,null,null,null,null,381]
["0134-2","NYY","4 X 185","CU / PVC / PVC","0.6/1 KV","Stranded",185,"CR04",2.63,6419.2,null,null,null,null,null,null,null,null,null,null,null,null,null,null,null,null,382]
["0135-4","NYYF","1 X 95","CU / PVC / PVC","0.6/1 KV","Flexible",95,"CR04",1.8,776,null,null,null,null,null,null,null,null,null,null,null,null,null,null,null,null,383]
["0136-4","NYYF","1 X 120","CU / PVC / PVC","0.6/1 KV","Flexible",120,"CR04",1.8,1000,null,null,null,null,null,null,null,null,null,null,null,null,null,null,null,null,384]
["0137-4","NYYF","1 X 300","CU / PVC / PVC","0.6/1 KV","Flexible",300,"CR04",1.8,2510,null,null,null,null,null,null,null,null,null,null,null,null,null,null,null,null,385]
["0138","NYFLY","3 X 10","CU / PVC / PVC","450/750 V","Flexible",10,"CR04",1.8,247.2,null,null,null,null,null,null,null,null,null,null,null,null,null,null,null,null,386]
["0139-1","NYFLY","3 X 25","CU / PVC / PVC","450/750 V","Flexible",25,"CR04",1.8,615,null,null,null,null,null,null,null,null,null,null,null,null,null,null,null,null,387]
["0140","NYFLY","3 X 35","CU / PVC / PVC","450/750 V","Flexible",35,"CR04",1.8,864,null,null,null,null,null,null,null,null,null,null,null,null,null,null,null,null,388]
["0141","NYFLY","3 X 50","CU / PVC / PVC","450/750 V","Flexible",50,"CR04",1.8,1245,null,null,null,null,null,null,null,null,null,null,null,null,null,null,null,null,391]
["0142","NYBY","4 X 10","CU / PVC / STA / PVC","0.6/1 KV","Stranded",10,"CR04",1.43,347.04,null,null,null,null,null,null,null,null,null,null,null,null,null,null,null,null,392]
["0143","NYBY","4 X 185","CU / PVC / STA / PVC","0.6/1 KV","Stranded",185,"CR04",2.63,6419.2,null,null,null,null,null,null,null,null,null,null,null,null,null,null,null,null,393]
["0144","NYBY","16 X 1.5","CU / PVC / STA / PVC","0.6/1 KV","Stranded",1.5,"CR04",2.0499999999999998,208.62,null,null,null,null,null,null,null,null,null,null,null,null,null,null,null,null,394]
["0145-3","H05V-K","1 X 0.5","CU / PVC","300/500 V","Flexible",0.5,"CR04",1.8,4.18,null,null,null,null,null,null,null,null,null,null,null,null,null,null,null,null,399]
["0146-3","H05V-K","1 X 0.5","CU / PVC","300/500 V","Flexible",0.5,"CR04",1.8,4.18,null,null,null,null,null,null,null,null,null,null,null,null,null,null,null,null,403]
["0147-3","H05V-K","1 X 0.75","CU / PVC","300/500 V","Flexible",0.75,"CR04",1.8,6.25,null,null,null,null,null,null,null,null,null,null,null,null,null,null,null,null,405]
["0148-2","H05V-K","1 X 0.75","CU / PVC","300/500 V","Flexible",0.75,"CR04",1.8,6.25,null,null,null,null,null,null,null,null,null,null,null,null,null,null,null,null,409]
["0149-3","ACSR","50/8","ACSR","Null","Stranded","50/8","CR04",3.2,132.19999999999999,null,null,null,null,null,null,null,null,null,null,null,null,null,null,null,null,411]
["0150-3","ACSR","120/20","ACSR","Null","Stranded","50/8","AR02",2.44,335.8,null,null,null,null,null,null,null,null,null,null,null,null,null,null,null,null,415]
["0151-3","NYAF","1 X 3","CU / PVC","450/750 V","Flexible",3,"CR04",1.8,24.45,null,null,null,null,null,null,null,null,null,null,null,null,null,null,null,null,420]
["0152-2","NYAF","1 X 3","CU / PVC","450/750 V","Flexible",3,"CR04",1.8,24.45,null,null,null,null,null,null,null,null,null,null,null,null,null,null,null,null,421]
["0153-3","NYAM","1 X 1.5","CU / PVC","450/750 V","Stranded",1.5,"CR04",1.8,13,null,null,null,null,null,null,null,null,null,null,null,null,null,null,null,null,422]
["0154-5","NYM","4 X 4","CU / PVC / PVC","300/500 V","Stranded",4,"CR04",1.8,138.41,null,null,null,null,null,null,null,null,null,null,null,null,null,null,null,null,423]
["0155-2","NYY","1 X 300","CU / PVC / PVC","0.6/1 KV","Stranded",300,"CR04",3.37,2625,null,null,null,null,null,null,null,null,null,null,null,null,null,null,null,null,424]
["0156-1","NYAF","1 X 25","CU / PVC","450/750 V","Flexible",25,"CR04",1.8,205,null,null,null,null,null,null,null,null,null,null,null,null,null,null,null,null,427]
["0157-3","NYAM","1 X 1.5","CU / PVC","450/750 V","Stranded",1.5,"CR04",1.8,13.1,null,null,null,null,null,null,null,null,null,null,null,null,null,null,null,null,428]
["0158-2","NYMHY","3 X 2.5","CU / PVC / PVC","300/500 V","Flexible",2.5,"CR04",1.8,60.63,null,null,null,null,null,null,null,null,null,null,null,null,null,null,null,null,430]
["0159-3","NYAM","1 X 1.5","CU / PVC","450/750 V","Stranded",1.5,"CR04",1.8,13.1,null,null,null,null,null,null,null,null,null,null,null,null,null,null,null,null,431]
["0160-3","NYAM","1 X 2.5","CU / PVC","450/750 V","Stranded",2.5,"CR04",1.8,21.5,null,null,null,null,null,null,null,null,null,null,null,null,null,null,null,null,432]
["0161-3","NYAM","1 X 2.5","CU / PVC","450/750 V","Stranded",2.5,"CR04",1.8,21.5,null,null,null,null,null,null,null,null,null,null,null,null,null,null,null,null,434]
["0162-3","NYAM","1 X 2.5","CU / PVC","450/750 V","Stranded",2.5,"CR04",1.8,21.5,null,null,null,null,null,null,null,null,null,null,null,null,null,null,null,null,435]
["0163","ACSR","50 / 8","ACSR","Null","Stranded","50/8","AR02",3.26,137.30000000000001,null,null,null,null,null,null,null,null,null,null,null,null,null,null,null,null,436]
["0164-1","NYFLY","3 X 70","CU / PVC / PVC","450/750 V","Flexible",70,"CR04",1.8,1749,null,null,null,null,null,null,null,null,null,null,null,null,null,null,null,null,437]
["0165-3","NYY","4 X 6","CU / PVC / PVC","0.6/1 KV","Stranded",6,"CR04",1.8,206.62,null,null,null,null,null,null,null,null,null,null,null,null,null,null,null,null,438]
["0166","Control","3 X 2.5","CU / PVC / PVC","0.6/1 KV","Flexible",2.5,"CR04",1.8,60.63,null,null,null,null,null,null,null,null,null,null,null,null,null,null,null,null,439]
["0167-3","NYAF","1 X 1","CU / PVC","450/750 V","Flexible",1,"CR04",1.8,8.25,null,null,null,null,null,null,null,null,null,null,null,null,null,null,null,null,440]
["0168-3","NYYF","1 x 70","CU / PVC / PVC","0.6/1 KV","Flexible",70,"CR04",1.8,583,null,null,null,null,null,null,null,null,null,null,null,null,null,null,null,null,442]
["0169-2","ACSR","95 / 15","ACSR","Null","Stranded","95 / 15","AR02",2.15,260.7,null,null,null,null,null,null,null,null,null,null,null,null,null,null,null,null,447]
["0170-1","AAC","1 X 16","AAC","Null","Stranded","1 X 16","AR02",1.7,43.4,null,null,null,null,null,null,null,null,null,null,null,null,null,null,null,null,448]
["0171-3","AAC","1 X 25","AAC","Null","Stranded","1 X 25","AR02",2.1,66.3,null,null,null,null,null,null,null,null,null,null,null,null,null,null,null,null,450]
["0172","AAC","1 X 35","AAC","Null","Stranded","1 X 35","AR02",2.5,93.9,null,null,null,null,null,null,null,null,null,null,null,null,null,null,null,null,451]
["0173-2","AAC","1 X 50","AAC","Null","Stranded","1 X 50","AR02",1.8,132.9,null,null,null,null,null,null,null,null,null,null,null,null,null,null,null,null,452]
["0174-2","AAC","1 X 70","AAC","Null","Stranded","1 X 70","AR02",2.1,180.9,null,null,null,null,null,null,null,null,null,null,null,null,null,null,null,null,456]
["0175-3","AAC","1 X 95","AAC","Null","Stranded","1 X 95","AR02",2.5,256.3,null,null,null,null,null,null,null,null,null,null,null,null,null,null,null,null,457]
["0176","NYAF","1 X 16","CU / PVC","450/750 V","Flexible",16,"CR04",1.8,133,null,null,null,null,null,null,null,null,null,null,null,null,null,null,null,null,458]
["0177-1","NYBYS","3 X 50","CU / PVC / STA /PVC","0.6 / 1 KV","Stranded",50,"CR04",1.86,1218.6500000000001,null,null,null,null,null,null,null,null,null,null,null,null,null,null,null,null,459]
["0178-3","NYYF","1 X 50","CU / PVC / PVC","0.6 / 1 KV","Flexible",50,"CR04",1.8,415,null,null,null,null,null,null,null,null,null,null,null,null,null,null,null,null,463]
["0179","Control","20 X 1.5","CU / PVC / PVC","0.6/1 KV","Flexible",1.5,"CR04",1.8,245.74,null,null,null,null,null,null,null,null,null,null,null,null,null,null,null,null,464]
["0180-6","Control","12 X 1.5","CU / PVC / PVC","0.6/1 KV","Flexible",1.5,"CR04",1.8,147.44,null,null,null,null,null,null,null,null,null,null,null,null,null,null,null,null,474]
["0181-2","Control","8 X 1.5","CU / PVC / PVC","0.6/1 KV","Flexible",1.5,"CR04",1.8,98.29,null,null,null,null,null,null,null,null,null,null,null,null,null,null,null,null,476]
["0182","Control","4 X1 .5","CU / PVC / PVC","0.6/1 KV","Flexible",1.5,"CR04",1.8,49.15,null,null,null,null,null,null,null,null,null,null,null,null,null,null,null,null,477]
["0183-4","Control","7 X 2.5","CU / PVC / PVC","0.6/1 KV","Flexible",2.5,"CR04",1.8,141.47,null,null,null,null,null,null,null,null,null,null,null,null,null,null,null,null,479]
["0184","NYY","1 X 150","CU / PVC / PVC","0.6/1 KV","Stranded",150,"CR04",2.25,1295,null,null,null,null,null,null,null,null,null,null,null,null,null,null,null,null,480]
["0185","NYLHY","4 X 0.5","CU / PVC / PVC","300/300 V","Flexible",0.5,"CR04",1.8,16.77,null,null,null,null,null,null,null,null,null,null,null,null,null,null,null,null,482]
["0186","NYLHY","3 X 0.5","CU / PVC / PVC","300/300 V","Flexible",0.5,"CR04",1.8,12.58,null,null,null,null,null,null,null,null,null,null,null,null,null,null,null,null,484]
["0187-3","H05V-K","1 X 0.5","CU / PVC","300/500 V","Flexible",0.5,"CR04",1.8,4.18,null,null,null,null,null,null,null,null,null,null,null,null,null,null,null,null,485]
["0188-2","H05V-K","1 X 0.5","CU / PVC","300/500 V","Flexible",0.5,"CR04",1.8,4.18,null,null,null,null,null,null,null,null,null,null,null,null,null,null,null,null,486]
["0189","NYAF","1 X 35","CU / PVC","450/750 V","Flexible",35,"CR04",1.8,288,null,null,null,null,null,null,null,null,null,null,null,null,null,null,null,null,487]
["0190","NYAF","1 X 35","CU / PVC","450/750 V","Flexible",35,"CR04",1.8,288,null,null,null,null,null,null,null,null,null,null,null,null,null,null,null,null,488]
["0191","NYMHY","5 X 2.5","CU / PVC / PVC","300/500 V","Flexible",2.5,"CR04",1.8,101.05,null,null,null,null,null,null,null,null,null,null,null,null,null,null,null,null,489]
["0192","NYMHY","5 X 4","CU / PVC / PVC","300/500 V","Flexible",4,"CR04",1.8,159.47999999999999,null,null,null,null,null,null,null,null,null,null,null,null,null,null,null,null,490]
["0193-2","NYY","1 X 185","CU / PVC / PVC","0.6/1 KV","Stranded",185,"CR04",2.65,1597,null,null,null,null,null,null,null,null,null,null,null,null,null,null,null,null,491]
["0194-3","NYY","4 X 150","CU / PVC / PVC","0.6/1 KV","Stranded",150,"CR04",2.36,5135.3599999999997,null,null,null,null,null,null,null,null,null,null,null,null,null,null,null,null,492]
["0195-1","NYY","5 X 6","CU / PVC / PVC","0.6/1 KV","Stranded",6,"CR04",1.8,258.27,null,null,null,null,null,null,null,null,null,null,null,null,null,null,null,null,493]
["0196-1","NYY","5 X 10","CU / PVC / PVC","0.6/1 KV","Stranded",10,"CR04",1.43,433.8,null,null,null,null,null,null,null,null,null,null,null,null,null,null,null,null,494]
["0197","NYY","5 X 16","CU / PVC / PVC","0.6/1 KV","Stranded",16,"CR04",1.75,684.55,null,null,null,null,null,null,null,null,null,null,null,null,null,null,null,null,495]
["0198","ACSR","300 / 50","ACSR","Null","Stranded","300 / 50","AR02",3.86,840.3,null,null,null,null,null,null,null,null,null,null,null,null,null,null,null,null,496]
["0199","NYFLY","3 X 95","CU / PVC / PVC","450/750 V","Flexible",95,"CR04",1.8,2328,null,null,null,null,null,null,null,null,null,null,null,null,null,null,null,null,499]
["0200-3","NYAM","1 X 1.5","CU / PVC","450/750 V","Stranded",1.5,"CR04",1.8,13.1,null,null,null,null,null,null,null,null,null,null,null,null,null,null,null,null,500]
["0201-3","NYAM","1 X 1.5","CU / PVC","450/750 V","Stranded",1.5,"CR04",1.8,13.1,null,null,null,null,null,null,null,null,null,null,null,null,null,null,null,null,501]
["0202-1","NYAM","1 X 10","CU / PVC","450/750 V","Stranded",10,"CR04",1.43,86.5,null,null,null,null,null,null,null,null,null,null,null,null,null,null,null,null,502]
["0203-1","NYAM","1 X 10","CU / PVC","450/750 V","Stranded",10,"CR04",1.43,86.5,null,null,null,null,null,null,null,null,null,null,null,null,null,null,null,null,503]
["0204-1","NYAM","1 X 10","CU / PVC","450/750 V","Stranded",10,"CR04",1.43,86.5,null,null,null,null,null,null,null,null,null,null,null,null,null,null,null,null,504]
["0205","NYAM","1 X 10","CU / PVC","450/750 V","Stranded",10,"CR04",1.43,86.5,null,null,null,null,null,null,null,null,null,null,null,null,null,null,null,null,505]
["0206-1","NYAM","1 X 16","CU / PVC","450/750 V","Stranded",16,"CR04",1.75,136.5,null,null,null,null,null,null,null,null,null,null,null,null,null,null,null,null,506]
["0207","NYAM","1 X 16","CU / PVC","450/750 V","Stranded",16,"CR04",1.75,136.5,null,null,null,null,null,null,null,null,null,null,null,null,null,null,null,null,507]
["0208-1","NYAM","1 X 16","CU / PVC","450/750 V","Stranded",16,"CR04",1.75,136.5,null,null,null,null,null,null,null,null,null,null,null,null,null,null,null,null,508]
["0209","NYAF","1 X 10","CU / PVC","450/750 V","Flexible",10,"CR04",1.8,82.4,null,null,null,null,null,null,null,null,null,null,null,null,null,null,null,null,509]
["0210","NYAF","1 X 16","CU / PVC","450/750 V","Flexible",16,"CR04",1.8,133,null,null,null,null,null,null,null,null,null,null,null,null,null,null,null,null,510]
["0211-2","NYAF","1 X 35","CU / PVC","450/750 V","Flexible",35,"CR04",1.8,288,null,null,null,null,null,null,null,null,null,null,null,null,null,null,null,null,511]
["0212-1","NYAF","1 X 50","CU / PVC","450/750 V","Flexible",50,"CR04",1.8,415,null,null,null,null,null,null,null,null,null,null,null,null,null,null,null,null,512]
["0213","NYMHY","2 x 1","CU / PVC / PVC","300/500 V","Flexible",1,"CR04",1.8,16.55,null,null,null,null,null,null,null,null,null,null,null,null,null,null,null,null,513]
["0214","NYMHY","2 x 1.5","CU / PVC / PVC","300/500 V","Flexible",1.5,"CR04",1.8,24.57,null,null,null,null,null,null,null,null,null,null,null,null,null,null,null,null,514]
["0215","NYMHY","2 x 2.5","CU / PVC / PVC","300/500 V","Flexible",2.5,"CR04",1.8,40.42,null,null,null,null,null,null,null,null,null,null,null,null,null,null,null,null,515]
["0216","NYMHY","3 X 4","CU / PVC / PVC","300/500 V","Flexible",4,"CR04",1.8,95.69,null,null,null,null,null,null,null,null,null,null,null,null,null,null,null,null,516]
["0217","NYMHY","3 X 6","CU / PVC / PVC","300/500 V","Flexible",6,"CR04",1.8,143.08000000000001,null,null,null,null,null,null,null,null,null,null,null,null,null,null,null,null,518]
["0218","NYMHY","4 X 4","CU / PVC / PVC","300/500 V","Flexible",4,"CR04",1.8,127.58,null,null,null,null,null,null,null,null,null,null,null,null,null,null,null,null,519]
["0219-1","AL / XLPE / PVC","1 X 185","AL / XLPE / PVC","12/20 Kv","Stranded",185,"AR01",2.6,475,null,null,null,null,null,null,null,null,null,null,null,null,null,null,null,null,520]
["0220-3","NYY","4 X 240","CU / PVC / PVC","0.6 / 1 Kv","Stranded",240,"CR04",3,8445.26,null,null,null,null,null,null,null,null,null,null,null,null,null,null,null,null,521]
["0221","NYAM","1 X 120","CU / PVC","450/750 V","Stranded",120,"CR04",2.98,1030,null,null,null,null,null,null,null,null,null,null,null,null,null,null,null,null,522]
["0222-1","NYAM","1 X 95","CU / PVC","450/750 V","Stranded",95,"CR04",2.65,815,null,null,null,null,null,null,null,null,null,null,null,null,null,null,null,null,523]
["0223","Bare Copper (Compacted)","1 X 50","Bare Copper (Compacted)","Null","Stranded",50,"CR04",1.86,405,null,null,null,null,null,null,null,null,null,null,null,null,null,null,null,null,527]
["0224","NYYF","1 X 6","CU / PVC / PVC","0.6 / 1 Kv","Flexible",6,"CR04",1.8,47.55,null,null,null,null,null,null,null,null,null,null,null,null,null,null,null,null,528]
["0225","N2XY","3 X 150","CU/XLPE/PVC","0.6 / 1 Kv","Stranded",150,"CR04",2.36,3851.52,null,null,null,null,null,null,null,null,null,null,null,null,null,null,null,null,530]
["0226-1","NYYF","1 X 6","CU / PVC / PVC","0.6 / 1 Kv","Flexible",6,"CR04",1.8,47.55,null,null,null,null,null,null,null,null,null,null,null,null,null,null,null,null,532]
["0227","NYYF","1 X 6","CU / PVC / PVC","0.6 / 1 Kv","Flexible",6,"CR04",1.8,47.55,null,null,null,null,null,null,null,null,null,null,null,null,null,null,null,null,533]
["0228","NYY","1 X 150","CU / XPLE /PVC","0.6 / 1 Kv","Stranded",150,"CR04",3.36,1272,null,null,null,null,null,null,null,null,null,null,null,null,null,null,null,null,536]
["0229","CU / XLPE / AWA / PVC","1 X 500","CU/XLPE/AWA/PVC","0.6 / 1 Kv","Stranded",500,"CR04",3.45,4360,null,null,null,null,null,null,null,null,null,null,null,null,null,null,null,null,538]
["0230","CU/XLPE/SWA/PVC","4 x 95","CU/XLPE/SWA/PVC","0.6 / 1 Kv","Stranded",95,"CR04",2.63,3289.84,null,null,null,null,null,null,null,null,null,null,null,null,null,null,null,null,539]
["0231","CU/XLPE/SWA/PVC","4 X 70","CU/XLPE/SWA/PVC","0.6 / 1 Kv","Stranded",70,"CR04",2.2200000000000002,2367.08,null,null,null,null,null,null,null,null,null,null,null,null,null,null,null,null,545]
["0232","CU/XLPE/SWA/PVC","7 X 2.5","CU/XLPE/SWA/PVC","0.6 / 1 Kv","Stranded",2.5,"CR04",1.8,150.96,null,null,null,null,null,null,null,null,null,null,null,null,null,null,null,null,546]
["0233","CU/XLPE/SWA/PVC","3 X 95","CU/XLPE/SWA/PVC","0.6 / 1 Kv","Stranded",95,"CR04",2.63,2467.38,null,null,null,null,null,null,null,null,null,null,null,null,null,null,null,null,548]
["0234","CU/XLPE/SWA/PVC","3 X 50","CU/XLPE/SWA/PVC","0.6 / 1 Kv","Stranded",50,"CR04",1.86,1218.6500000000001,null,null,null,null,null,null,null,null,null,null,null,null,null,null,null,null,549]
["0235","CU/XLPE/SWA/PVC","3 X 10","CU/XLPE/SWA/PVC","0.6 / 1 Kv","Stranded",10,"CR04",1.43,260.27999999999997,null,null,null,null,null,null,null,null,null,null,null,null,null,null,null,null,551]
["0236","CU/XLPE/SWA/PVC","3 X 6","CU/XLPE/SWA/PVC","0.6 / 1 Kv","Stranded",6,"CR04",1.8,154.96,null,null,null,null,null,null,null,null,null,null,null,null,null,null,null,null,552]
["0237","CU/XLPE/SWA/PVC","3 X 4","CU/XLPE/SWA/PVC","0.6 / 1 Kv","Stranded",4,"CR04",1.8,103.81,null,null,null,null,null,null,null,null,null,null,null,null,null,null,null,null,553]
["0238","CU/XLPE/SWA/PVC","3 X 2.5","CU/XLPE/SWA/PVC","0.6 / 1 Kv","Stranded",2.5,"CR04",1.8,64.69,null,null,null,null,null,null,null,null,null,null,null,null,null,null,null,null,554]
["0239","CU/XLPE/SWA/PVC","4 X 50","CU/XLPE/SWA/PVC","0.6 / 1 Kv","Stranded",50,"CR04",1.86,1624.86,null,null,null,null,null,null,null,null,null,null,null,null,null,null,null,null,555]
["0240","CU/XLPE/SWA/PVC","4 X 25","CU/XLPE/SWA/PVC","0.6 / 1 Kv","Stranded",25,"CR04",2.2200000000000002,862.58,null,null,null,null,null,null,null,null,null,null,null,null,null,null,null,null,556]
["0241","CU/XLPE/SWA/PVC","3 X 70","CU/XLPE/SWA/PVC","0.6 / 1 Kv","Stranded",70,"CR04",2.2200000000000002,1775.31,null,null,null,null,null,null,null,null,null,null,null,null,null,null,null,null,557]
["0242","ABC","3 X 16","CU/XLPE/SWA/PVC","0.6 / 1 Kv","Stranded",16,"CR04",1.75,410.73,null,null,null,null,null,null,null,null,null,null,null,null,null,null,null,null,558]
["0243","CU/XLPE/SWA/PVC","4 X 6","CU/XLPE/SWA/PVC","0.6 / 1 Kv","Stranded",6,"CR04",1.8,206.62,null,null,null,null,null,null,null,null,null,null,null,null,null,null,null,null,559]
["0244","CU/XLPE/SWA/PVC","4 X 10","CU/XLPE/SWA/PVC","0.6 / 1 Kv","Stranded",10,"CR04",1.43,347.04,null,null,null,null,null,null,null,null,null,null,null,null,null,null,null,null,560]
["0245","CU/XLPE/SWA/PVC","4 X 35","CU/XLPE/SWA/PVC","0.6 / 1 Kv","Stranded",35,"CR04",2.65,1191.56,null,null,null,null,null,null,null,null,null,null,null,null,null,null,null,null,561]
["0246","CU/XLPE/SWA/PVC","3 X 35","CU/XLPE/SWA/PVC","0.6 / 1 Kv","Stranded",35,"CR04",2.65,893.67,null,null,null,null,null,null,null,null,null,null,null,null,null,null,null,null,562]
["0247","CU/XLPE/SWA/PVC","4 X 2.5","CU/XLPE/SWA/PVC","0.6 / 1 Kv","Stranded",2.5,"CR04",1.8,86.26,null,null,null,null,null,null,null,null,null,null,null,null,null,null,null,null,563]
["0248","CU/XLPE/SWA/PVC","4 X 4","CU/XLPE/SWA/PVC","0.6 / 1 Kv","Stranded",4,"CR04",1.8,138.41,null,null,null,null,null,null,null,null,null,null,null,null,null,null,null,null,564]
["0249","CU/XLPE/SWA/PVC","3 X 1.5","CU/XLPE/SWA/PVC","0.6 / 1 Kv","Stranded",1.5,"CR04",1.8,39.119999999999997,null,null,null,null,null,null,null,null,null,null,null,null,null,null,null,null,565]
["0250","CU/XLPE/SWA/PVC","3 X 150","CU/XLPE/SWA/PVC","0.6 / 1 Kv","Stranded",150,"CR04",2.36,3851.52,null,null,null,null,null,null,null,null,null,null,null,null,null,null,null,null,566]
["0251","N2XY","5 X 4","CU / XLPE / PVC","0.6 / 1 Kv","Stranded",4,"CR04",1.8,173.02,null,null,null,null,null,null,null,null,null,null,null,null,null,null,null,null,567]
["0252-1","NYY","4 X 2.5","CU / PVC / PVC","0.6 / 1 Kv","Stranded",2.5,"CR04",1.8,86.26,null,null,null,null,null,null,null,null,null,null,null,null,null,null,null,null,568]
["0253-1","N2XY","3 X 1.5","CU / XLPE / PVC","0.6 / 1 Kv","Stranded",1.5,"CR04",1.8,39.42,null,null,null,null,null,null,null,null,null,null,null,null,null,null,null,null,569]
["0254-1","CU / XLPE / SWA / PVC","3 X 4","CU / XLPE / SWA / PVC","0.6 / 1 Kv","Stranded",4,"CR04",1.8,103.81,null,null,null,null,null,null,null,null,null,null,null,null,null,null,null,null,570]
["0255-1","CU / XLPE / SWA / PVC","3 X 6","CU / XLPE / SWA / PVC","0.6 / 1 Kv","Stranded",6,"CR04",1.04,154.96,null,null,null,null,null,null,null,null,null,null,null,null,null,null,null,null,572]
["0256-1","CU / XLPE / SWA / PVC","4 X 4","CU / XLPE / SWA / PVC","0.6 / 1 Kv","Stranded",4,"CR04",1.8,138.41,null,null,null,null,null,null,null,null,null,null,null,null,null,null,null,null,573]
["0257","BARE COPPER","1 X 70","BARE COPPER","Null","Stranded",70,"CR04",2.2200000000000002,583,null,null,null,null,null,null,null,null,null,null,null,null,null,null,null,null,574]
["0258-3","NYAM","1 X 1.5","CU / PVC","450/750 V","Stranded",1.5,"CR04",1.8,13.1,null,null,null,null,null,null,null,null,null,null,null,null,null,null,null,null,575]
["0259-3","NYAM","1 X 1.5","CU / PVC","450/750 V","Stranded",1.5,"CR04",1.8,13.1,null,null,null,null,null,null,null,null,null,null,null,null,null,null,null,null,576]
["0260-3","NYAM","1 X 2.5","CU / PVC","450/750 V","Stranded",2.5,"CR04",1.8,21.5,null,null,null,null,null,null,null,null,null,null,null,null,null,null,null,null,577]
["0261-3","NYAM","1 X 2.5","CU / PVC","450/750 V","Stranded",2.5,"CR04",1.8,21.5,null,null,null,null,null,null,null,null,null,null,null,null,null,null,null,null,578]
["0262","NYM","2 X 2.5","CU / PVC / PVC","300/500 V","Stranded",2.5,"CR04",1.8,43.13,null,null,null,null,null,null,null,null,null,null,null,null,null,null,null,null,579]
["0263-2","NYM","2 X 4","CU / PVC / PVC","300/500 V","Stranded",4,"CR04",1.8,69.209999999999994,null,null,null,null,null,null,null,null,null,null,null,null,null,null,null,null,580]
["0264-4","NYM","3 X 4","CU / PVC / PVC","300/500 V","Stranded",4,"CR04",1.8,103.81,null,null,null,null,null,null,null,null,null,null,null,null,null,null,null,null,581]
["0265-4","NYM","4 X 2.5","CU / PVC / PVC","300/500 V","Stranded",2.5,"CR04",1.8,86.26,null,null,null,null,null,null,null,null,null,null,null,null,null,null,null,null,582]
["0266-1","سلك المنيوم عاري",1.7,"Aluminium Wire","Null","Solid",1.7,"AR01",1.7,6.14,null,null,null,null,null,null,null,null,null,null,null,null,null,null,null,null,583]
["0267-1","AL / XLPE / PVC","1 x 120","AL / XLPE / PVC","12 / 20 Kv","Stranded",120,"AR01",2.96,309,null,null,null,null,null,null,null,null,null,null,null,null,null,null,null,null,584]
["0268-4","NYAM","1 X 3","CU / PVC","450/750 V","Stranded",3,"CR04",1.8,26,null,null,null,null,null,null,null,null,null,null,null,null,null,null,null,null,585]
["0269-4","NYAM","1 X 3","CU / PVC","450/750 V","Stranded",3,"CR04",1.8,26,null,null,null,null,null,null,null,null,null,null,null,null,null,null,null,null,586]
["0270-4","NYAM","1 X 3","CU / PVC","450/750 V","Stranded",3,"CR04",1.8,26,null,null,null,null,null,null,null,null,null,null,null,null,null,null,null,null,587]
["0271-2","NYAM","1 X 4","CU / PVC","450/750 V","Stranded",4,"CR04",1.8,34.5,null,null,null,null,null,null,null,null,null,null,null,null,null,null,null,null,588]
["0272","NYAM","1 X 4","CU / PVC","450/750 V","Stranded",4,"CR04",1.8,34.5,null,null,null,null,null,null,null,null,null,null,null,null,null,null,null,null,589]
["0273-1","NYAM","1 X 4","CU / PVC","450/750 V","Stranded",4,"CR04",1.8,34.5,null,null,null,null,null,null,null,null,null,null,null,null,null,null,null,null,590]
["0274-1","NYAM","1 X 6","CU / PVC","450/750 V","Stranded",6,"CR04",1.8,51.5,null,null,null,null,null,null,null,null,null,null,null,null,null,null,null,null,591]
["0275-3","NYYF","1 x 150","CU / PVC / PVC","0.6 / 1 Kv","Flexible",150,"CR04",1.8,1230,null,null,null,null,null,null,null,null,null,null,null,null,null,null,null,null,592]
["0276-3","NYYF","1 x 400","CU / PVC / PVC","0.6 / 1 Kv","Flexible",400,"CR04",1.8,3360,null,null,null,null,null,null,null,null,null,null,null,null,null,null,null,null,593]
["0277-3","Control","5 X 1.5","CU / PVC / PVC","0.6 / 1 Kv","Flexible",1.5,"CR04",1.8,61.43,null,null,null,null,null,null,null,null,null,null,null,null,null,null,null,null,594]
["0278-3","Control","7 X 1.5","CU / PVC / PVC","0.6 / 1 Kv","Flexible",1.5,"CR04",1.8,86.01,null,null,null,null,null,null,null,null,null,null,null,null,null,null,null,null,595]
["0279-2","Control","9 X 1.5","CU / PVC / PVC","0.6 / 1 Kv","Flexible",1.5,"CR04",1.8,110.58,null,null,null,null,null,null,null,null,null,null,null,null,null,null,null,null,596]
["0280-4","Control","16 X 1.5","CU / PVC / PVC","0.6 / 1 Kv","Flexible",1.5,"CR04",1.8,196.59,null,null,null,null,null,null,null,null,null,null,null,null,null,null,null,null,597]
["0281-4","Control","24 X 1.5","CU / PVC / PVC","0.6 / 1 Kv","Flexible",1.5,"CR04",1.8,294.88,null,null,null,null,null,null,null,null,null,null,null,null,null,null,null,null,598]
["0282-3","NYYF","5 X 2.5","CU / PVC / PVC","0.6 / 1 Kv","Flexible",2.5,"CR04",1.8,101.05,null,null,null,null,null,null,null,null,null,null,null,null,null,null,null,null,599]
["0283","Control","10 X 2.5","CU / PVC / PVC","0.6 / 1 Kv","Flexible",2.5,"CR04",1.8,202.1,null,null,null,null,null,null,null,null,null,null,null,null,null,null,null,null,600]
["0284","Control","12 X 2.5","CU / PVC / PVC","0.6 / 1 Kv","Flexible",2.5,"CR04",1.8,242.53,null,null,null,null,null,null,null,null,null,null,null,null,null,null,null,null,602]
["0285-3","NYM","3 X 2.5","CU / PVC / PVC","300 / 500 V","Stranded",2.5,"CR04",1.8,64.69,null,null,null,null,null,null,null,null,null,null,null,null,null,null,null,null,603]
["0286-2","CU / XLPE / PVC","1 X 300","CU / XLPE / PVC","12 / 20 KV","Stranded",300,"CR05",3.37,2625,null,null,null,null,null,null,null,null,null,null,null,null,null,null,null,null,604]
["0287-3","CU / XLPE / CWS / LAT /HDPE","1 X 630","CU / XLPE / CWS / LAT /HDPE","33 / 66 KV","Stranded",630,"CR04",3.83,5605,null,null,null,null,null,null,null,null,null,null,null,null,null,null,null,null,605]
["0288-2","AL / XLPE / PVC","1 X 120","AL / XLPE / PVC","12/20 kV","Stranded",120,"AR01",2.96,309,null,null,null,null,null,null,null,null,null,null,null,null,null,null,null,null,606]
["0289-2","Copper","1 x 1.5","CU","Null","Stranded",1.5,"CR04",1.8,13.5,null,null,null,null,null,null,null,null,null,null,null,null,null,null,null,null,607]
["0290","Copper","1 X 2.5","CU","Null","Stranded",2.5,"CR04",1.8,21.5,null,null,null,null,null,null,null,null,null,null,null,null,null,null,null,null,608]
["0291","Copper","7 X 0.74","CU","Null","Stranded","7 X 0.74","CR04",1.8,26.76,null,null,null,null,null,null,null,null,null,null,null,null,null,null,null,null,609]
["0292","Copper","1 X 4","CU","Null","Stranded",4,"CR04",1.8,34.5,null,null,null,null,null,null,null,null,null,null,null,null,null,null,null,null,610]
["0293","Copper","1 X 6","CU","Null","Stranded",6,"CR04",1.8,51.5,null,null,null,null,null,null,null,null,null,null,null,null,null,null,null,null,611]
["0294","Copper","14 X 0.27","CU","Null","Stranded","14 X 0.27","CR04",1.8,7.13,null,null,null,null,null,null,null,null,null,null,null,null,null,null,null,null,612]
["0295","Copper","21 X 0.27","CU","Null","Stranded","21 X 0.27","CR04",1.8,10.69,null,null,null,null,null,null,null,null,null,null,null,null,null,null,null,null,613]
["0296","Copper","14 X 0.3","CU","Null","Stranded","14 X 0.3","CR04",1.8,8.8000000000000007,null,null,null,null,null,null,null,null,null,null,null,null,null,null,null,null,614]
["0297","Copper","21 X 0.3","CU","Null","Stranded","21 X 0.3","CR04",1.8,13.2,null,null,null,null,null,null,null,null,null,null,null,null,null,null,null,null,615]
["0298","Copper","7 X 0.48","CU","Null","Stranded","7 x 0.48","CR04",1.8,11.26,null,null,null,null,null,null,null,null,null,null,null,null,null,null,null,null,616]
["0299","Copper","7 X 0.62","CU","Null","Stranded","7 X 0.62","CR04",1.8,18.79,null,null,null,null,null,null,null,null,null,null,null,null,null,null,null,null,617]
["0300","Copper","7 X 0.7","CU","Null","Stranded","7 X 0.7","CR04",1.8,23.95,null,null,null,null,null,null,null,null,null,null,null,null,null,null,null,null,618]
["0301","Copper","7 X 0.8","CU","Null","Stranded","7 X 0.8","CR04",1.8,31.28,null,null,null,null,null,null,null,null,null,null,null,null,null,null,null,null,619]
["0302","Copper","7 X 1","CU","Null","Stranded","7 X 1","CR04",1.8,48.88,null,null,null,null,null,null,null,null,null,null,null,null,null,null,null,null,620]
["0303","AL / XLPE / PVC","1 X 185","AL / XLPE / PVC","12 / 20 KV","Stranded",185,"AR01",2.6,475,null,null,null,null,null,null,null,null,null,null,null,null,null,null,null,null,621]
["0304-1","NYBY","4 X 25","CU / PVC / STA / PVC","0.6 / 1 KV","Stranded",25,"CR04",2.2200000000000002,862.58,null,null,null,null,null,null,null,null,null,null,null,null,null,null,null,null,622]
["0305-1","NYBY","4 X 120","CU / PVC / STA / PVC","0.6 / 1 KV","Stranded",120,"CR04",2.36,4160.4399999999996,null,null,null,null,null,null,null,null,null,null,null,null,null,null,null,null,623]
["0306","CU/PVC/COPPER TAPE/PVC","4 x 1.5","CU/PVC/CT/PVC","300/500 V","Flexible",1.5,"CR04",1.8,49.15,null,null,null,null,null,null,null,null,null,null,null,null,null,null,null,null,624]
["0307-3","AL / XLPE / HDPE","3 X 1 X 70 + 50","AL / XLPE / HDPE","12 / 20 KV","Flexible",70,"AR01",1.8,528,null,null,null,null,null,null,null,null,null,null,null,null,null,null,null,null,625]
["0308","NYBY","3 x 2.5","CU / PVC / STA / PVC","0.6/1 KV","Stranded",2.5,"CR04",1.8,64.69,null,null,null,null,null,null,null,null,null,null,null,null,null,null,null,null,626]
["0309","NYBY","4 X 35","CU/PVC/STA/PVC","0.6 / 1 Kv","Stranded",35,"CR04",2.65,1191.56,null,null,null,null,null,null,null,null,null,null,null,null,null,null,null,null,627]
["0310","Copper","35X0.3","CU","Null","Stranded","35X0.3","CR04",1.8,22,null,null,null,null,null,null,null,null,null,null,null,null,null,null,null,null,628]
["0311","Copper","1X3","CU","Null","Solid",3,"CR04",3,62.84,null,null,null,null,null,null,null,null,null,null,null,null,null,null,null,null,629]
["0312-1","NYBY","4 x 150","CU/PVC/STA/PVC","0.6 / 1 Kv","Stranded",150,"CR04",2.36,5135.3599999999997,null,null,null,null,null,null,null,null,null,null,null,null,null,null,null,null,630]
["0313-2","NYAM","1 x 10","CU / PVC","450 / 750 v","Stranded",10,"CR04",1.8,86.5,null,null,null,null,null,null,null,null,null,null,null,null,null,null,null,null,631]
["0314-1","cooper","1 x 50","CU","Null","Solid",50,"CR04",1.8,436,null,null,null,null,null,null,null,null,null,null,null,null,null,null,null,null,632]
["0315-1","cooper","1 x 95","CU","Null","Solid",95,"CR04",1.8,841,null,null,null,null,null,null,null,null,null,null,null,null,null,null,null,null,633]
["0316-2","CU / TPE / TPE","1 X 150","CU / TPE / TPE","450 / 750 V","Flexible",150,"CR04",1.8,1230,null,null,null,null,null,null,null,null,null,null,null,null,null,null,null,null,634]
["0317-4","AL / XLPE / HDPE","3 X 120 + 50","AL / XLPE / HDPE","12 / 20 KV","Stranded",120,"AR01",2.96,927,null,null,null,null,null,null,null,null,null,null,null,null,null,null,null,null,635]
["0318-2","NYAF","1 X 3","CU/PVC","450 / 750 V","Flexible",3,"CR04",1.8,24.45,null,null,null,null,null,null,null,null,null,null,null,null,null,null,null,null,636]
["0319-1","NYAM","1 X 1","CU/PVC","451 / 750 V","Stranded",1,"CR04",1.8,8.9,null,null,null,null,null,null,null,null,null,null,null,null,null,null,null,null,637]
["0320","NYBY","4 X 50","CU / PVC / STA / PVC","0.6 / 1 Kv","Stranded",50,"CR04",1.8,1624.86,null,null,null,null,null,null,null,null,null,null,null,null,null,null,null,null,638]
["0321","AL/XLPE/PVC","1 X 185","AL/XLPE/PVC","12 / 20 KV","Flexible",185,"AR01",1.8,475,null,null,null,null,null,null,null,null,null,null,null,null,null,null,null,null,639]
["0322","cooper","1 X 95","CU","NULL","Stranded",95,"CR04",1.8,815,null,null,null,null,null,null,null,null,null,null,null,null,null,null,null,null,640]
["0323-2","NAYY","4 X 120","AL/PVC/PVC","0.6 / 1 KV","Flexible",120,"AR01",1.8,1243.72,null,null,null,null,null,null,null,null,null,null,null,null,null,null,null,null,641]
["0324-2","NAYY","4 X 240","AL/PVC/PVC","0.6 / 1 KV","Flexible",240,"AR01",1.8,2527.56,null,null,null,null,null,null,null,null,null,null,null,null,null,null,null,null,642]
["0325","AL / XLPE / HDPE","3 X 1 X 120 + 50","AL / XLPE / HDPE","12 / 20 KV","Stranded",120,"AR01",1.8,940.9,null,null,null,null,null,null,null,null,null,null,null,null,null,null,null,null,643]
["0326-5","NYAM","1 X 3","CU/PVC","450 / 750V","Stranded",3,"CR04",1.8,26,null,null,null,null,null,null,null,null,null,null,null,null,null,null,null,null,644]
["0327-5","NYAM","1 X 3","CU/PVC","450 / 750V","Stranded",3,"CR04",1.8,26,null,null,null,null,null,null,null,null,null,null,null,null,null,null,null,null,645]
["0328-2","NYM","10 X 1.5","CU / PVC / PVC","0.6 / 1 KV","Flexible",1.5,"CR04",1.8,122.87,null,null,null,null,null,null,null,null,null,null,null,null,null,null,null,null,646]
["0329-2","NYAF","1 X 25","CU/PVC","450 / 750V","Flexible",25,"CR04",1.8,205,null,null,null,null,null,null,null,null,null,null,null,null,null,null,null,null,647]
["0330","cooper","1 X 0.5","CU","Null","Stranded",0.5,"CR04",1.8,4.4000000000000004,null,null,null,null,null,null,null,null,null,null,null,null,null,null,null,null,648]
["0331","cooper","1 X 0.75","CU","Null","Stranded",0.75,"CR04",1.8,6.91,null,null,null,null,null,null,null,null,null,null,null,null,null,null,null,null,649]
["0332-2","cooper","1 X 1","CU","Null","Stranded",1,"CR04",1.8,9.16,null,null,null,null,null,null,null,null,null,null,null,null,null,null,null,null,650]
["0333","cooper","1 X 1.5","CU","Null","Flexible",1.5,"CR04",1.8,13.2,null,null,null,null,null,null,null,null,null,null,null,null,null,null,null,null,651]
["0334","cooper","1 X 2.5","CU","Null","Flexible",2.5,"CR04",1.8,21.99,null,null,null,null,null,null,null,null,null,null,null,null,null,null,null,null,652]
["0335","cooper","1 X 4","CU","Null","Flexible",4,"CR04",1.8,35.19,null,null,null,null,null,null,null,null,null,null,null,null,null,null,null,null,653]
["0336","cooper","1 X 6","CU","Null","Flexible",6,"CR04",1.8,52.79,null,null,null,null,null,null,null,null,null,null,null,null,null,null,null,null,654]
["0337","cooper","1 X 10","CU","Null","Flexible",10,"CR04",1.8,87.98,null,null,null,null,null,null,null,null,null,null,null,null,null,null,null,null,655]
["0338","cooper","1 X 1","CU","Null","Stranded",1,"CR04",1.8,8.9,null,null,null,null,null,null,null,null,null,null,null,null,null,null,null,null,656]
["0339","cooper","1 X 3","CU","Null","Stranded",3,"CR04",1.8,26,null,null,null,null,null,null,null,null,null,null,null,null,null,null,null,null,657]
["0340","cooper","1 X 6","CU","Null","Stranded",6,"CR04",1.8,51.5,null,null,null,null,null,null,null,null,null,null,null,null,null,null,null,null,658]
["0341","NYY","3 X 2.5","CU/PVC/PVC","0.6 / 1 KV","Stranded",2.5,"CR04",1.8,64.69,null,null,null,null,null,null,null,null,null,null,null,null,null,null,null,null,659]
["0342","NYY","3 X 4","CU/PVC/PVC","0.6 / 1 KV","Stranded",4,"CR04",1.8,103.81,null,null,null,null,null,null,null,null,null,null,null,null,null,null,null,null,660]
["0343-2","NYAF","1 X 1","CU/PVC","450/750 V","Flexible",1,"CR04",1.8,8.25,null,null,null,null,null,null,null,null,null,null,null,null,null,null,null,null,661]
["0344-1","NYAF","1 X 4","CU/PVC","450/750 V","Stranded",4,"CR04",1.8,34.5,null,null,null,null,null,null,null,null,null,null,null,null,null,null,null,null,662]
["0345-1","NYAF","1 X 4","CU/PVC","450/750 V","Stranded",4,"CR04",1.8,34.5,null,null,null,null,null,null,null,null,null,null,null,null,null,null,null,null,663]
["0346","NYAM","1 X 6","CU/PVC","450/750 V","Stranded",6,"CR04",1.8,51.5,null,null,null,null,null,null,null,null,null,null,null,null,null,null,null,null,664]
["0347","NYAM","1 X 6","CU/PVC","450/750 V","Stranded",6,"CR04",1.8,51.5,null,null,null,null,null,null,null,null,null,null,null,null,null,null,null,null,665]
["0348-1","NYY","5 X 4","CU/PVC/PVC","0.6 / 1 KV","Stranded",4,"CR04",1.8,173.02,null,null,null,null,null,null,null,null,null,null,null,null,null,null,null,null,666]
["0349","cooper","1 X 0.75","CU","Null","Stranded",0.75,"CR04",1.8,6.67,null,null,null,null,null,null,null,null,null,null,null,null,null,null,null,null,667]
["0350","NYYF","2 X 2.5","CU/PVC/PVC","0.6/1 KV","Flexible",2.5,"CR04",1.8,40.42,null,null,null,null,null,null,null,null,null,null,null,null,null,null,null,null,668]
["0351-1","NYYF","3 X 2.5","CU/PVC/PVC","0.6/1 KV","Flexible",2.5,"CR04",1.8,60.63,null,null,null,null,null,null,null,null,null,null,null,null,null,null,null,null,669]
["0352-2","NAYY","2 X 10","AL/PVC/PVC","0.6/1 KV","Stranded",10,"AR01",1.8,54.16,null,null,null,null,null,null,null,null,null,null,null,null,null,null,null,null,670]
["0353-2","NAYY","4 X 10","AL/PVC/PVC","0.6/1 KV","Stranded",10,"AR01",1.8,108.32,null,null,null,null,null,null,null,null,null,null,null,null,null,null,null,null,671]
["0354-1","NAYY","2 X 16","AL/PVC/PVC","0.6 / 1 KV","Stranded",16,"AR01",1.7,82.25,null,null,null,null,null,null,null,null,null,null,null,null,null,null,null,null,672]
["0355-3","NAYY","4 X 16","AL/PVC/PVC-NAYY","0.6/1 KV","Stranded",16,"AR01",1.7,164.49,null,null,null,null,null,null,null,null,null,null,null,null,null,null,null,null,673]
["0356-2","NAYY","4 X 25","AL/PVC/PVC","0.6/1 KV","Stranded",25,"AR01",1.8,268.8,null,null,null,null,null,null,null,null,null,null,null,null,null,null,null,null,674]
["0357-1","NYAF","1 X 16","CU/PVC","450 / 750 V","Flexible",16,"CR04",1.8,133,null,null,null,null,null,null,null,null,null,null,null,null,null,null,null,null,675]
["0358-2","NYAF","1 X 25","CU/PVC","450 / 750 V","Flexible",25,"CR04",1.8,205,null,null,null,null,null,null,null,null,null,null,null,null,null,null,null,null,676]
["0359","NYYF","1 X 25","CU/PVC/PVC","0.6 / 1 KV","Flexible",25,"CR04",1.8,205,null,null,null,null,null,null,null,null,null,null,null,null,null,null,null,null,677]
["0360-1","NYYF","1 X 35","CU/PVC/PVC","0.6 / 1 KV","Flexible",35,"CR04",1.8,288,null,null,null,null,null,null,null,null,null,null,null,null,null,null,null,null,678]
["0361","NYYF","15 X 1.5","CU/PVC/PVC","0.6 / 1 KV","Flexible",1.5,"CR04",1.8,184.3,null,null,null,null,null,null,null,null,null,null,null,null,null,null,null,null,679]
["0362","NYYF","4 X 95","CU/PVC/PVC","0.6 / 1 KV","Flexible",95,"CR04",1.8,3113.31,null,null,null,null,null,null,null,null,null,null,null,null,null,null,null,null,680]
["0363-1","BSH","3 X 95","CU/PVC/TPE","450 / 750 V","Flexible",95,"CR04",1.8,2328,null,null,null,null,null,null,null,null,null,null,null,null,null,null,null,null,681]
["0364-2","CU/XLPE/PVC","4 X 10","CU/XLPE/PVC","0.6 / 1 KV","Stranded",10,"CR04",1.43,347.04,null,null,null,null,null,null,null,null,null,null,null,null,null,null,null,null,682]
["0365","CU/XLPE/PVC","3 X 50+25","CU/XLPE/PVC","0.6 / 1 KV","Stranded",50,"CR04",1.8,1218.6500000000001,null,null,null,null,null,null,null,null,null,null,null,null,null,null,null,null,683]
["0366","CU/XLPE/PVC","4 X 2.5","CU/XLPE/PVC","0.6 / 1 KV","Stranded",2.5,"CR04",1.8,86.26,null,null,null,null,null,null,null,null,null,null,null,null,null,null,null,null,684]
["0367-2","CU/XLPE/PVC","4 X 16","CU/XLPE/PVC","0.6 / 1 KV","Stranded",16,"CR04",1.75,547.64,null,null,null,null,null,null,null,null,null,null,null,null,null,null,null,null,685]
["0368","CU/XLPE/PVC","3 X 35+16","CU/XLPE/PVC","0.6 / 1 KV","Stranded",35,"CR04",1.8,893.67,null,null,null,null,null,null,null,null,null,null,null,null,null,null,null,null,686]
["0369-2","CU/XLPE/PVC","4 X 4","CU/XLPE/PVC","0.6 / 1 KV","Stranded",4,"CR04",1.8,138.41,null,null,null,null,null,null,null,null,null,null,null,null,null,null,null,null,687]
["0370","CU/XLPE/PVC","3 X 150+2 X 70","CU/XLPE/PVC","0.6 / 1 KV","Stranded",150,"CR04",1.8,3827.45,null,null,null,null,null,null,null,null,null,null,null,null,null,null,null,null,688]
["0371","CU/XLPE/PVC","3 X 35+2 X 16","CU/XLPE/PVC","0.6 / 1 KV","Stranded",35,"CR04",1.8,893.67,null,null,null,null,null,null,null,null,null,null,null,null,null,null,null,null,689]
["0372-1","CU/XLPE/PVC","3 X 95+ 2 X 50","CU/XLPE/PVC","0.6 / 1 KV","Stranded",95,"CR04",1.8,2452.34,null,null,null,null,null,null,null,null,null,null,null,null,null,null,null,null,690]
["0373","CU/XLPE/PVC","5 X 10","CU/XLPE/PVC","0.6 / 1 KV","Stranded",10,"CR04",1.8,433.8,null,null,null,null,null,null,null,null,null,null,null,null,null,null,null,null,691]
["0374-2","CU/XLPE/PVC","4 x 6","CU/XLPE/PVC","0.6 / 1 KV","Stranded",6,"CR04",1.04,206.62,null,null,null,null,null,null,null,null,null,null,null,null,null,null,null,null,692]
["0375","CU/XLPE/PVC","3 x 70+2 x 35","CU/XLPE/PVC","0.6 / 1 KV","Stranded",70,"CR04",1.8,1754.25,null,null,null,null,null,null,null,null,null,null,null,null,null,null,null,null,693]
["0376","CU/XLPE/PVC","3 X 25+2 X 16","CU/XLPE/PVC","0.6 / 1 KV","Stranded",25,"CR04",1.8,646.94000000000005,null,null,null,null,null,null,null,null,null,null,null,null,null,null,null,null,694]
["0377","CU/XLPE/PVC","3 X 70 + 35","CU/XLPE/PVC","0.6 / 1 KV","Stranded",70,"CR04",1.8,1775.31,null,null,null,null,null,null,null,null,null,null,null,null,null,null,null,null,695]
["0378","CU/XLPE/PVC","3 X 25+16","CU/XLPE/PVC","0.6 / 1 KV","Stranded",25,"CR04",1.8,646.94000000000005,null,null,null,null,null,null,null,null,null,null,null,null,null,null,null,null,696]
["0379","CU/XLPE/PVC","5 X 6","CU/XLPE/PVC","0.6 / 1 KV","Stranded",6,"CR04",1.8,258.27,null,null,null,null,null,null,null,null,null,null,null,null,null,null,null,null,697]
["0380","CU/XLPE/PVC","5 X 2.5","CU/XLPE/PVC","0.6 / 1 KV","Stranded",2.5,"CR04",1.8,107.82,null,null,null,null,null,null,null,null,null,null,null,null,null,null,null,null,698]
["0381","CU/XLPE/PVC","3 X 2.5","CU/XLPE/PVC","0.6 / 1 KV","Stranded",2.5,"CR04",1.8,64.69,null,null,null,null,null,null,null,null,null,null,null,null,null,null,null,null,699]
["0382","CU/XLPE/PVC","4 X 1.5","CU/XLPE/PVC","0.6 / 1 KV","Stranded",1.5,"CR04",1.8,52.16,null,null,null,null,null,null,null,null,null,null,null,null,null,null,null,null,700]
["0383","CU/XLPE/PVC","16 X 1","CU/XLPE/PVC","0.6 / 1 KV","Stranded",1,"CR04",1.8,142.83000000000001,null,null,null,null,null,null,null,null,null,null,null,null,null,null,null,null,701]
["0384","CU/XLPE/PVC","10 X 1","CU/XLPE/PVC","0.6 / 1 KV","Stranded",1,"CR04",1.8,89.27,null,null,null,null,null,null,null,null,null,null,null,null,null,null,null,null,702]
["0385","CU/XLPE/PVC","8 X 1","CU/XLPE/PVC","0.6 / 1 KV","Stranded",1,"CR04",1.8,71.41,null,null,null,null,null,null,null,null,null,null,null,null,null,null,null,null,703]
["0386","CU/XLPE/PVC","4 X 1","CU/XLPE/PVC","0.6 / 1 KV","Stranded",1,"CR04",1.8,35.71,null,null,null,null,null,null,null,null,null,null,null,null,null,null,null,null,704]
["0387","CU/XLPE/PVC","3 X 1","CU/XLPE/PVC","0.6 / 1 KV","Stranded",1,"CR04",1.8,26.78,null,null,null,null,null,null,null,null,null,null,null,null,null,null,null,null,705]
["0388","CU/XLPE/PVC","2 X 1","CU/XLPE/PVC","0.6 / 1 KV","Stranded",1,"CR04",1.8,17.850000000000001,null,null,null,null,null,null,null,null,null,null,null,null,null,null,null,null,706]
["0389-2","SOFT DRAWN COPPER WIRE","1 X 2.54","SOFT DRAWN COOPER WIRE","Null","Solid",2.54,"CR01",1.8,22.62,null,null,null,null,null,null,null,null,null,null,null,null,null,null,null,null,707]
["0390-2","CU/PVC/H05V-K","1 X 0.75","CU/PVC","300/500V","Flexible",0.75,"CR04",1.8,6.25,null,null,null,null,null,null,null,null,null,null,null,null,null,null,null,null,708]
["0391","NYAM","1 X 1","CU / PVC","450 / 750 V","Stranded",1,"CR04",1.8,8.9,null,null,null,null,null,null,null,null,null,null,null,null,null,null,null,null,709]
["0392","NYAM","1 X 1","CU / PVC","450 / 750 V","Stranded",1,"CR04",1.8,8.9,null,null,null,null,null,null,null,null,null,null,null,null,null,null,null,null,710]
["0393",null,null,null,null,null,null,null,null,null,null,null,null,null,null,null,null,null,null,null,null,null,null,null,null,null,711]
["0394","AL/XLPE/PVC","1 X 70","AL/XLPE/PVC","12 / 20 KV","Flexible",70,"AR01",1.8,176,null,null,null,null,null,null,null,null,null,null,null,null,null,null,null,null,712]
["0395-1","NYM","3 X 6","CU/PVC/PVC","300/500 V","Stranded",6,"CR04",1.8,154.96,null,null,null,null,null,null,null,null,null,null,null,null,null,null,null,null,713]
["0396-2","NYM","3 X 1.5","CU/PVC/PVC","300/500 V","Stranded",1.5,"CR04",1.8,39.42,null,null,null,null,null,null,null,null,null,null,null,null,null,null,null,null,714]
["0397-1","NYM","2 X 16","CU/PVC/PVC","300/500 V","Stranded",16,"CR04",1.8,273.82,null,null,null,null,null,null,null,null,null,null,null,null,null,null,null,null,715]
["0398-1","NYM","3 X 10","CU/PVC/PVC","300/500 V","Stranded",10,"CR04",1.8,260.27999999999997,null,null,null,null,null,null,null,null,null,null,null,null,null,null,null,null,716]
["0399","NYMHY","4 X 6","CU/PVC/PVC","300/500 V","Flexible",6,"CR04",1.8,190.77,null,null,null,null,null,null,null,null,null,null,null,null,null,null,null,null,717]
["0400-1","BARE COPPER","1 X 70","BARE COPPER","Null","Solid",70,"CR04",1.8,600,null,null,null,null,null,null,null,null,null,null,null,null,null,null,null,null,718]
["0401-1","NAYY","4 X 35","AL/PVC/PVC","0.6 / 1 KV","Stranded",35,"AR01",1.8,369.1,null,null,null,null,null,null,null,null,null,null,null,null,null,null,null,null,719]
["0402-2","NAYY","4 x 50","AL/PVC/PVC","0.6 / 1 KV","Flexible",50,"AR01",1.83,505.51,null,null,null,null,null,null,null,null,null,null,null,null,null,null,null,null,720]
["0403","NAYY","4 X 70","AL/PVC/PVC","0.6 / 1 KV","Flexible",70,"AR01",2.1800000000000002,718.15,null,null,null,null,null,null,null,null,null,null,null,null,null,null,null,null,721]
["0404-1","NAYY","4 X 95","AL/PVC/PVC","0.6 / 1 KV","Flexible",95,"AR01",2.56,990.96,null,null,null,null,null,null,null,null,null,null,null,null,null,null,null,null,722]
["0405","NYAF","1 X 1.5","CU / PVC","450 / 750 V","Flexible",1.5,"CR04",1.8,12.25,null,null,null,null,null,null,null,null,null,null,null,null,null,null,null,null,723]
["0406-1","NYAF","1 X 1.5","CU / PVC","450 / 750 V","Flexible",1.5,"CR04",1.8,12.25,null,null,null,null,null,null,null,null,null,null,null,null,null,null,null,null,724]
["0407-1","NYAF","1 X 2.5","CU / PVC","450 / 750 V","Flexible",2.5,"CR04",1.8,20.149999999999999,null,null,null,null,null,null,null,null,null,null,null,null,null,null,null,null,725]
["0408-1","NYAF","1 X 2.5","CU / PVC","450 / 750 V","Flexible",2.5,"CR04",1.8,20.149999999999999,null,null,null,null,null,null,null,null,null,null,null,null,null,null,null,null,726]
["0409","NYAM","1 X 6","CU / PVC","450 / 750 V","Stranded",6,"CR04",1.8,51.5,null,null,null,null,null,null,null,null,null,null,null,null,null,null,null,null,727]
["0410-2","NYAM","1 X 6","CU / PVC","450 / 750 V","Stranded",6,"CR04",1.8,51.5,null,null,null,null,null,null,null,null,null,null,null,null,null,null,null,null,728]
["0411","NA2XY","1 X 185","AL/XLPE/PVC","0.6 / 1 KV","Flexible",185,"AR01",2.6,475,null,null,null,null,null,null,null,null,null,null,null,null,null,null,null,null,729]
["0412-1","CU/XLPE/HDPE","1 X 300","CU/XLPE/HDPE","36 / 66 KV","Flexible",300,"CR04",3.35,2625,null,null,null,null,null,null,null,null,null,null,null,null,null,null,null,null,730]
["0413-2","NYBY","4 X 185","CU / PVC / STA / PVC","0.6 / 1 KV","Flexible",185,"CR04",2.63,6419.2,null,null,null,null,null,null,null,null,null,null,null,null,null,null,null,null,731]
["0414-1","AL/XLBE/PVC","1 X 120","AL/XLBE/PVC","12 / 20 KV","Flexible",120,"AR01",2.96,309,null,null,null,null,null,null,null,null,null,null,null,null,null,null,null,null,732]
["0415","AL/XLBE/PVC","1 X 185","AL/XLBE/PVC","12 / 20 KV","Flexible",185,"AR01",2.6,475,null,null,null,null,null,null,null,null,null,null,null,null,null,null,null,null,733]
["0416-2","CU/XLPE/STA/PVC","3 X 150","CU/XLPE/STA/PVC","12 / 20 KV","Flexible",150,"CR04",3.36,3823.63,null,null,null,null,null,null,null,null,null,null,null,null,null,null,null,null,734]
["0417-1","BARE COPPER","1 X 25","BARE COPPER","Null","Solid",25,"CR04",2.14,225,null,null,null,null,null,null,null,null,null,null,null,null,null,null,null,null,735]
["0418-1","BARE COPPER","1 x 35","BARE COPPER","Null","Solid",35,"CR04",2.5,298,null,null,null,null,null,null,null,null,null,null,null,null,null,null,null,null,736]
["0419-3","AAC","1 X 120","AAC","Null","Flexible",120,"AR02",2.8,321.5,null,null,null,null,null,null,null,null,null,null,null,null,null,null,null,null,737]
["0420","NYAF","1 X 1","CU / PVC","450 /750 V","Flexible",1,"CR04",1.8,8.25,null,null,null,null,null,null,null,null,null,null,null,null,null,null,null,null,738]
["0421","NYAF","1 X 1","CU / PVC","450 /750 V","Flexible",1,"CR04",1.8,8.25,null,null,null,null,null,null,null,null,null,null,null,null,null,null,null,null,739]
["0422","NYAF","1 X 1","CU / PVC","450 /750 V","Flexible",1,"CR04",1.8,8.25,null,null,null,null,null,null,null,null,null,null,null,null,null,null,null,null,740]
["0423","NYAF","1 X 10","CU / PVC","450 /750 V","Flexible",10,"CR04",1.8,82.4,null,null,null,null,null,null,null,null,null,null,null,null,null,null,null,null,741]
["0424","CU/PVC/STA/PVC/NYBY","3 X 2.5","CU/PVC/STA/PVC/NYBY","0.6 / 1 KV","Stranded",2.5,"CR04",1.8,64.69,null,null,null,null,null,null,null,null,null,null,null,null,null,null,null,null,742]
["0425-2","BARE COPPER","1 X 1.5","CU","Null","Flexible",1.5,"CR04",1.8,13.57,null,null,null,null,null,null,null,null,null,null,null,null,null,null,null,null,743]
["0426-1","BARE COPPER","1 X 2 (18x0.4)","CU","Null","Stranded",2,"CR04",1.8,20.100000000000001,null,null,null,null,null,null,null,null,null,null,null,null,null,null,null,null,744]
["0427","BARE COPPER","1 X 2.5","CU","Null","Stranded",2.5,"CR04",1.8,22.5,null,null,null,null,null,null,null,null,null,null,null,null,null,null,null,null,745]
["0428","BARE COPPER","1 X 4","CU","Null","Stranded",4,"CR04",1.8,36,null,null,null,null,null,null,null,null,null,null,null,null,null,null,null,null,746]
["0429-1","BARE COPPER","1 X 4","CU","Null","Stranded",4,"CR04",1.8,31.1,null,null,null,null,null,null,null,null,null,null,null,null,null,null,null,null,747]
["0430","BARE COPPER","1 X 6","CU","Null","Stranded",6,"CR04",1.8,54,null,null,null,null,null,null,null,null,null,null,null,null,null,null,null,null,748]
["0431","BARE COPPER","1 X 6","CU","Null","Stranded",6,"CR04",1.8,55.9,null,null,null,null,null,null,null,null,null,null,null,null,null,null,null,null,749]
["0432","BARE COPPER","1 X 10","CU","Null","Stranded",10,"CR04",1.8,85.9,null,null,null,null,null,null,null,null,null,null,null,null,null,null,null,null,750]
["0433-1","CU/PVC/TPE/BSH","3 X 25","CU/PVC/TPE","450 / 750V","Stranded",25,"CR04",1.8,615,null,null,null,null,null,null,null,null,null,null,null,null,null,null,null,null,751]
["0434","CU/PVC/TPE/BSH","3X 70","CU/PVC/TPE","450 / 750V","Stranded",70,"CR04",1.8,1749,null,null,null,null,null,null,null,null,null,null,null,null,null,null,null,null,752]
["0435","AL/PVC/STA/PVC/NAYBY","4 X 240","AL/PVC/STA/PVC","0.6 / 1 KV","Stranded",240,"AR01",2.94,2527.56,null,null,null,null,null,null,null,null,null,null,null,null,null,null,null,null,753]
["0436","AL/PVC/PVC/NAYY","4 X 185","AL/PVC/PVC","0.6 / 1 KV","Stranded",185,"AR01",2.9,1905.7,null,null,null,null,null,null,null,null,null,null,null,null,null,null,null,null,754]
["0437","CU/PVC/NYAF","1 X 70","CU/PVC","450 /750 V","Stranded",70,"CR04",1.8,583,null,null,null,null,null,null,null,null,null,null,null,null,null,null,null,null,755]
["0438","CU/PVC/STA/PVC/NYBY","4 X 50","CU/PVC/STA/PVC","0.6 / 1 KV","Stranded",50,"CR04",1.86,1624.86,null,null,null,null,null,null,null,null,null,null,null,null,null,null,null,null,756]
["0439","CU/PVC/STA/PVC/NYBY","4 X 95","CU/PVC/STA/PVC","0.6 / 1 KV","Stranded",95,"CR04",2.63,3289.84,null,null,null,null,null,null,null,null,null,null,null,null,null,null,null,null,757]
["0440","AL/PVC/PVC/NAYY","4 X 150","AL/PVC/PVC","0.6 / 1 KV","Stranded",150,"AR01",2.33,1564.68,null,null,null,null,null,null,null,null,null,null,null,null,null,null,null,null,758]
["0441-1",null,"11 x 500",null,null,"Stranded",500,"CR04",1.04,47615.040000000001,null,null,null,null,null,null,null,null,null,null,null,null,null,null,null,null,759]
["0442","CU/PVC/NYAF","1 X 70","CU/PVC","450 / 750 V","Stranded",70,"CR04",1.8,583,null,null,null,null,null,null,null,null,null,null,null,null,null,null,null,null,760]
["0443-1","BARE COPPER","1 X 120 ","BARE COPPER","Null","Stranded",120,"CR04",2.04,1045,null,null,null,null,null,null,null,null,null,null,null,null,null,null,null,null,761]
["0444-1","CU/PVC/TPE/BSH","3 X 10","CU/PVC/TPE","450 / 750 V","Stranded",10,"CR04",1.8,247.2,null,null,null,null,null,null,null,null,null,null,null,null,null,null,null,null,762]
["0445-1","CU/PVC/TPE/BSH","3 X 16","CU/PVC/TPE","450 / 750 V","Stranded",16,"CR04",1.8,399,null,null,null,null,null,null,null,null,null,null,null,null,null,null,null,null,763]
["0446-1","CU/PVC/TPE/BSH","3 X 50","CU/PVC/TPE","450 / 750 V","Stranded",50,"CR04",1.8,1245,null,null,null,null,null,null,null,null,null,null,null,null,null,null,null,null,764]
["0447","CU/PVC/NYAF","1 X 35","CU/PVC","450 / 750 V","Stranded",35,"CR04",1.8,288,null,null,null,null,null,null,null,null,null,null,null,null,null,null,null,null,765]
["0448","BARE COPPER","1 X 1.5","CU","Null","Stranded",1.5,"CR04",1.8,12.57,null,null,null,null,null,null,null,null,null,null,null,null,null,null,null,null,766]
["0449-2","BARE COPPER","1 X 2.5","CU","Null","Stranded",2.5,"CR04",1.8,21.96,null,null,null,null,null,null,null,null,null,null,null,null,null,null,null,null,767]
["0450","BARE COPPER","1 x 3","CU","Null","Stranded",3,"CR04",1.8,26.88,null,null,null,null,null,null,null,null,null,null,null,null,null,null,null,null,768]
["0451","BARE COPPER","1 x 4","CU","Null","Stranded",4,"CR04",1.8,36,null,null,null,null,null,null,null,null,null,null,null,null,null,null,null,null,769]
["0452","BARE COPPER","1 x 6","CU","Null","Stranded",6,"CR04",1.8,54,null,null,null,null,null,null,null,null,null,null,null,null,null,null,null,null,770]
["0453-1","CU/PVC/PVC/NYY","4 X 1.5","CU/PVC/PVC","300 / 500 V","Stranded",1.5,"CR04",1.8,52.56,null,null,null,null,null,null,null,null,null,null,null,null,null,null,null,null,771]
["0454-2","CU/PVC/PVC/NYM","3 X 2.5","CU/PVC/PVC","0.6 / 1 KV","Stranded",2.5,"CR04",1.8,64.69,null,null,null,null,null,null,null,null,null,null,null,null,null,null,null,null,772]
["0455-1","CU/PVC/TPE/BSH","3 X 120","CU/PVC/TPE","450 / 750 V","Flexible",120,"CR04",1.8,3000,null,null,null,null,null,null,null,null,null,null,null,null,null,null,null,null,773]
["0456","CU/PVC/NYAM","1 X 1","CU/PVC","450 / 750 V","Stranded",1,"CR04",1.8,8.9,null,null,null,null,null,null,null,null,null,null,null,null,null,null,null,null,774]
["0457","CU/PVC/NYAM","1 X 1","CU/PVC","450 / 750 V","Stranded",1,"CR04",1.8,8.9,null,null,null,null,null,null,null,null,null,null,null,null,null,null,null,null,775]
["0458","CU/PVC/NYAM","1 X 1","CU/PVC","450 / 750 V","Stranded",1,"CR04",1.8,8.9,null,null,null,null,null,null,null,null,null,null,null,null,null,null,null,null,776]
["0459","CU/PVC/NYAM","1 X 1","CU/PVC","450 / 750 V","Stranded",1,"CR04",1.8,8.9,null,null,null,null,null,null,null,null,null,null,null,null,null,null,null,null,777]
["0460-1","CU/PVC/NYAM","1 X 3","CU/PVC","450 / 750 V","Flexible",3,"CR04",1.8,24.45,null,null,null,null,null,null,null,null,null,null,null,null,null,null,null,null,778]
["0461-1","CU/PVC/NYAM","1 X 3","CU/PVC","450 / 750 V","Flexible",3,"CR04",1.8,24.45,null,null,null,null,null,null,null,null,null,null,null,null,null,null,null,null,779]
["0462-1","CU/PVC/NYAM","1 X 6","CU/PVC","450 / 750 V","Flexible",6,"CR04",1.8,47.55,null,null,null,null,null,null,null,null,null,null,null,null,null,null,null,null,780]
["0463","CU/PVC/NYAM","1 X 6","CU/PVC","450 / 750 V","Flexible",6,"CR04",1.8,47.55,null,null,null,null,null,null,null,null,null,null,null,null,null,null,null,null,781]
["0464","CU/PVC/TPE","42 X 2.5","CU/PVC/TPE","0.6 / 1 KV","Flexible",2.5,"CR04",1.8,1032.29,null,null,null,null,null,null,null,null,null,null,null,null,null,null,null,null,782]
["0465-1","CU/PVC/PVC/NYMHY","2 X 2.5","CU/PVC/PVC","300 / 500 V","Flexible",2.5,"CR04",1.8,40.42,null,null,null,null,null,null,null,null,null,null,null,null,null,null,null,null,783]
["0466-1","CU/PVC/PVC/NYMHY","3 X 2.5","CU/PVC/PVC","300 / 500 V","Flexible",2.5,"CR04",1.8,60.63,null,null,null,null,null,null,null,null,null,null,null,null,null,null,null,null,784]
["0467-1","CU/PVC/PVC/NYMHY","3 x 4","CU/PVC/PVC","300 / 500 V","Flexible",4,"CR04",1.8,95.69,null,null,null,null,null,null,null,null,null,null,null,null,null,null,null,null,785]
["0468-1","CU/PVC/PVC/NYMHY","4 X 4","CU/PVC/PVC","300 /500 V","Flexible",4,"CR04",1.8,127.58,null,null,null,null,null,null,null,null,null,null,null,null,null,null,null,null,786]
["0469-1","CU/PVC/H05V-K","1 X 0.5","CU/PVC","300 /500 V","Flexible",0.5,"CR04",1.8,4.18,null,null,null,null,null,null,null,null,null,null,null,null,null,null,null,null,787]
["0470-1","CU/PVC/H05V-K","1 X 0.5","CU/PVC","300 /500 V","Flexible",0.5,"CR04",1.8,4.18,null,null,null,null,null,null,null,null,null,null,null,null,null,null,null,null,788]
["0471-1","CU/PVC/H05V-K","1 X 0.75","CU/PVC","300 /500 V","Flexible",0.75,"CR04",1.8,6.25,null,null,null,null,null,null,null,null,null,null,null,null,null,null,null,null,789]
["0472-1","CU/PVC/H05V-K","1 X 0.75","CU/PVC","300 /500 V","Flexible",0.75,"CR04",1.8,6.25,null,null,null,null,null,null,null,null,null,null,null,null,null,null,null,null,790]
["0473-1","BARE AL","1 X 10","BARE AL","Null","Stranded",10,"AR01",1.43,27,null,null,null,null,null,null,null,null,null,null,null,null,null,null,null,null,791]
["0474","ACSR","450/40","ACSR","Null",null,null,null,null,null,null,null,null,null,null,null,null,null,null,null,null,null,null,null,null,null,792]
["0475-3",null,null,null,null,null,null,null,null,null,null,null,null,null,null,null,null,null,null,null,null,null,null,null,null,null,793]
["0476",null,null,null,null,null,null,null,null,null,null,null,null,null,null,null,null,null,null,null,null,null,null,null,null,null,794]
["0477","BARE COPPER","1 X 16","BARE COPPER","Null","Stranded",16,"CR04",1.7,140,null,null,null,null,null,null,null,null,null,null,null,null,null,null,null,null,795]
["0478-1","CU/PVC/TPE/TPE","2 X ( 42 X 2.5 )","CU/PVC/TPE/TPE","0.6 / 1 KV","Flexible","42 X 2.5","CR04",1.8,2064.59,null,null,null,null,null,null,null,null,null,null,null,null,null,null,null,null,796]
["0479","CU/PVC/STA/PVC/NYBY","4 X 6","CU/PVC/STA/PVC","0.6 / 1 KV","Stranded",6,"CR04",1.8,206.62,null,null,null,null,null,null,null,null,null,null,null,null,null,null,null,null,797]
["0480","CU/PVC/PVC/NYMHY","3 X 1.5","CU/PVC/PVC","300 /500 V","Flexible",1.5,"CR04",1.8,36.86,null,null,null,null,null,null,null,null,null,null,null,null,null,null,null,null,798]
["0481-1","CU/PVC/PVC/NYMHY","3 X 2.5","CU/PVC/PVC","300 / 500 V","Flexible",2.5,"CR04",1.8,60.63,null,null,null,null,null,null,null,null,null,null,null,null,null,null,null,null,799]
["0482","BARE AL","1 X 6","BARE AL","Null","Stranded",6,"AR01",1.8,16.899999999999999,null,null,null,null,null,null,null,null,null,null,null,null,null,null,null,null,800]
["0483-1","BARE AL","1 X 16","BARE AL","Null","Stranded",16,"AR01",1.7,41,null,null,null,null,null,null,null,null,null,null,null,null,null,null,null,null,801]
["0484","CU/XLPE/CW/LEAD/HDPE","1 X 800","CU/XLPE/CW/LEAD/HDPE","133 / 230 KV","Stranded",800,"CR01",4.3099999999999996,7220,null,null,null,null,null,null,null,null,null,null,null,null,null,null,null,null,802]
["0485","CU/PVC/NYAF","1 X 1","CU/PVC","450 / 750 V","Flexible",1,"CR04",1.8,8.25,null,null,null,null,null,null,null,null,null,null,null,null,null,null,null,null,803]
["0486","CU/PVC/NYAF","1 X 1","CU/PVC","450 / 750 V","Flexible",1,"CR04",1.8,8.25,null,null,null,null,null,null,null,null,null,null,null,null,null,null,null,null,804]
["0487","CU/PVC/NYAF","1 X 1.5","CU/PVC","450 / 750 V","Flexible",1.5,"CR04",1.8,12.25,null,null,null,null,null,null,null,null,null,null,null,null,null,null,null,null,805]
["0488","CU/PVC/NYAF","1 X 1.5","CU/PVC","450 / 750 V","Flexible",1.5,"CR04",1.8,12.25,null,null,null,null,null,null,null,null,null,null,null,null,null,null,null,null,806]
["0489","CU/PVC/NYAF","1 X 1.5","CU/PVC","450 / 750 V","Flexible",1.5,"CR04",1.8,12.25,null,null,null,null,null,null,null,null,null,null,null,null,null,null,null,null,807]
["0490","CU/PVC/NYAF","1 X 2.5","CU/PVC","450 / 750 V","Flexible",2.5,"CR04",1.8,20.149999999999999,null,null,null,null,null,null,null,null,null,null,null,null,null,null,null,null,808]
["0491","CU/PVC/NYAF","1 X 2.5","CU/PVC","450 / 750 V","Flexible",2.5,"CR04",1.8,20.149999999999999,null,null,null,null,null,null,null,null,null,null,null,null,null,null,null,null,809]
["0492","CU/PVC/NYAF","1 X 2.5","CU/PVC","450 / 750 V","Flexible",2.5,"CR04",1.8,20.149999999999999,null,null,null,null,null,null,null,null,null,null,null,null,null,null,null,null,810]
["0493","CU/PVC/CT/PVC","1 X 185","CU/PVC/CT/PVC","0.6 / 1 KV","Flexible",185,"CR04",1.8,1515,null,null,null,null,null,null,null,null,null,null,null,null,null,null,null,null,811]
["0494","CU/PVC/PVC/NYY","1 X 95","CU/PVC/PVC","0.6 / 1 KV","Stranded",95,"CR04",2.65,815,null,null,null,null,null,null,null,null,null,null,null,null,null,null,null,null,812]
["0495","CU/PVC/PVC/NYY","1 X 120","CU/PVC/PVC","0.6 / 1 KV","Stranded",120,"CR04",2.98,1030,null,null,null,null,null,null,null,null,null,null,null,null,null,null,null,null,813]
["0496","CU/PVC/NYAF","1 X 35","CU/PVC","450 / 750 V","Flexible",35,"CR04",1.8,288,null,null,null,null,null,null,null,null,null,null,null,null,null,null,null,null,814]
["0497-1","BARE COPPER","1 X 1.43","BARE COPPER","Null","Stranded",1.43,"CR04",1.35,12.73,null,null,null,null,null,null,null,null,null,null,null,null,null,null,null,null,815]
["0498-1","BARE COPPER","1 X 9.35","BARE COPPER","Null","Stranded",9.35,"CR04",3.45,83.11,null,null,null,null,null,null,null,null,null,null,null,null,null,null,null,null,816]
["0499","CU/XLPE/CWS/LAT/HDPE","1 X 630","CU/XLPE/HDPE","36 / 66 KV","Stranded",630,"CR04",3.83,5625,null,null,null,null,null,null,null,null,null,null,null,null,null,null,null,null,817]
["0500","CU/PVC/STA/PVC/NYBY","4 X 10","CU/PVC/STA/PVC","0.6 / 1 KV","Stranded",10,"CR04",1.43,347.04,null,null,null,null,null,null,null,null,null,null,null,null,null,null,null,null,818]
["0501","CU/PVC/STA/PVC/NYBY","3 X 1.5","CU/PVC/STA/PVC","0.6 / 1 KV","Stranded",1.5,"CR04",1.8,39.42,null,null,null,null,null,null,null,null,null,null,null,null,null,null,null,null,819]
["0502","CU/PVC/STA/PVC/NYBY","3 X 4","CU/PVC/STA/PVC","0.6 / 1 KV","Stranded",4,"CR04",1.8,103.81,null,null,null,null,null,null,null,null,null,null,null,null,null,null,null,null,820]
["0503","CU/PVC/STA/PVC/NYBY","3 X 6","CU/PVC/STA/PVC","0.6 / 1 KV","Stranded",6,"CR04",1.8,154.96,null,null,null,null,null,null,null,null,null,null,null,null,null,null,null,null,821]
["0504","CU/PVC/STA/PVC/NYBY","4 X 4","CU/PVC/STA/PVC","0.6 / 1 KV","Stranded",4,"CR04",1.8,138.41,null,null,null,null,null,null,null,null,null,null,null,null,null,null,null,null,822]
["0505","CU/PVC/STA/PVC/NYBY","3 X 2.5","CU/PVC/STA/PVC","0.6 / 1 KV","Stranded",2.5,"CR04",1.8,64.69,null,null,null,null,null,null,null,null,null,null,null,null,null,null,null,null,823]
["0506","CU/PVC/STA/PVC/NYBY","4 X 10","CU/PVC/STA/PVC","0.6 / 1 KV","Stranded",10,"CR04",1.43,347.04,null,null,null,null,null,null,null,null,null,null,null,null,null,null,null,null,824]
["0507","CU/PVC/STA/PVC/NYBY","4 X 6","CU/PVC/STA/PVC","0.6 / 1 KV","Stranded",6,"CR04",1.8,206.62,null,null,null,null,null,null,null,null,null,null,null,null,null,null,null,null,825]
["0508","CU/PVC/STA/PVC/NYBY","4 x 25","CU/PVC/STA/PVC","0.6 / 1 KV","Stranded",25,"CR04",2.2200000000000002,862.58,null,null,null,null,null,null,null,null,null,null,null,null,null,null,null,null,826]
["0509","CU/PVC/STA/PVC/NYBY","4 X 70","CU/PVC/STA/PVC","0.6 / 1 KV","Stranded",70,"CR04",2.2200000000000002,2367.08,null,null,null,null,null,null,null,null,null,null,null,null,null,null,null,null,827]
["0510","CU/PVC/PVC/NYMHY","2 X 1","CU/PVC/PVC","300 / 500 V","Flexible",1,"CR04",1.8,16.55,null,null,null,null,null,null,null,null,null,null,null,null,null,null,null,null,828]
["0511","CU/PVC/PVC/NYMHY","2 x 1.5","CU/PVC/PVC","300 / 500 V","Flexible",1.5,"CR04",1.8,24.57,null,null,null,null,null,null,null,null,null,null,null,null,null,null,null,null,829]
["0512","CU/PVC/PVC/NYMHY","3 X 6","CU/PVC/PVC","300 / 500 V","Flexible",6,"CR04",1.8,143.08000000000001,null,null,null,null,null,null,null,null,null,null,null,null,null,null,null,null,830]
["0513","CU/XLPE/ATA/PVC","1 X 120","CU/XLPE/ATA/PVC","12 / 20 KV","Stranded",120,"CR04",2.98,1030,null,null,null,null,null,null,null,null,null,null,null,null,null,null,null,null,831]
["0514","ACSR","240/40","ACSR","Null","Stranded",40,"AR02",3.45,671.3,null,null,null,null,null,null,null,null,null,null,null,null,null,null,null,null,832]
["0515","BARE CPPER","1 X 6.16","BARE COPPER","Null","Stranded",6.16,"CR04",2.8,54.74,null,null,null,null,null,null,null,null,null,null,null,null,null,null,null,null,833]
["0516","CU/XLPE/CW/HDPE","3 X 150 / 25","CU/XLPE/CW/HDPE","0.6 / 1 KV","Stranded",150,"CR04",2.36,3851.52,null,null,null,null,null,null,null,null,null,null,null,null,null,null,null,null,834]
["0517-1","AL/XLPE/PVC","1 X 300","AL/XLPE/PVC","12 / 20 KV","Stranded",300,"AR01",3.27,787,null,null,null,null,null,null,null,null,null,null,null,null,null,null,null,null,835]
["0518","CU/PVC/H05V-K","1 X 0.5","CU/PVC","300 / 500 V","Flexible",0.5,"CR04",1.8,4.18,null,null,null,null,null,null,null,null,null,null,null,null,null,null,null,null,836]
["0519","CU/PVC/H05V-K","1 X 0.5","CU/PVC","300 / 500 V","Flexible",0.5,"CR04",1.8,4.18,null,null,null,null,null,null,null,null,null,null,null,null,null,null,null,null,837]
["0520","CU/PVC/H05V-K","1 X 0.5","CU/PVC","300 / 500 V","Flexible",0.5,"CR04",1.8,4.18,null,null,null,null,null,null,null,null,null,null,null,null,null,null,null,null,838]
["0521","CU/PVC/H05V-K","1 X 0.5","CU/PVC","300 / 500 V","Flexible",0.5,"CR04",1.8,4.18,null,null,null,null,null,null,null,null,null,null,null,null,null,null,null,null,839]
["0522","CU/PVC/H05V-K","1 X 0.5","CU/PVC","300 / 500 V","Flexible",0.5,"CR04",1.8,4.18,null,null,null,null,null,null,null,null,null,null,null,null,null,null,null,null,840]
["0523","CU/PVC/H05V-K","1 X 0.5","CU/PVC","300 / 500 V","Flexible",0.5,"CR04",1.8,4.18,null,null,null,null,null,null,null,null,null,null,null,null,null,null,null,null,841]
["0524-1","AL/XLPE/PVC","1 X 185","AL/XLPE/PVC","12 / 20 KV","Stranded","1 X 185","AR01",2.62,475,null,null,null,null,null,null,null,null,null,null,null,null,null,null,null,null,842]
["0525-1","AL/HDPE+ACSR","3 X 50+50/8","AL/HDPE+ACSR","0.6 / 1 KV",null,null,null,null,null,null,null,null,null,null,null,null,null,null,null,null,null,null,null,null,null,843]
["0526-1",null,null,null,null,null,null,null,null,null,null,null,null,null,null,null,null,null,null,null,null,null,null,null,null,null,844]
["0527","CU/PVC/PVC/NYM","3 X 1.5","CU/PVC/PVC","300 / 500 V","Stranded",1.5,"CR04",1.8,39.119999999999997,null,null,null,null,null,null,null,null,null,null,null,null,null,null,null,null,845]
["0528",null,null,null,null,null,null,null,null,null,null,null,null,null,null,null,null,null,null,null,null,null,null,null,null,null,846]
["0529-2","AL/HDPE ABC","4 X 35","AL/HDPE","0.6 / 1 KV","Stranded",35,"CR04",2.5499999999999998,368,null,null,null,null,null,null,null,null,null,null,null,null,null,null,null,null,847]
["0530","CU/PVC/PVC/NYM","3 X 16","CU/PVC/PVC","300 / 500 V","Stranded",16,"CR04",1.75,410.73,null,null,null,null,null,null,null,null,null,null,null,null,null,null,null,null,848]
["0531-1","CU/PVC/PVC","4 X 4","CU/PVC/PVC","0.6 / 1 KV","Stranded",4,"CR04",1.8,138.41,null,null,null,null,null,null,null,null,null,null,null,null,null,null,null,null,849]
["0532","CU/PVC/PVC/NYFLY","3 X 6","CU/PVC/PVC","450 / 750 V","Flexible",6,"CR04",1.8,142.65,null,null,null,null,null,null,null,null,null,null,null,null,null,null,null,null,850]
["0533","CU/PVC/PVC/NYYF","1 X 25","CU/PVC/PVC","0.6 / 1 KV","Flexible",25,"CR04",1.8,205,null,null,null,null,null,null,null,null,null,null,null,null,null,null,null,null,851]
["0534-1",null,null,null,null,null,null,null,null,null,null,null,null,null,null,null,null,null,null,null,null,null,null,null,null,null,852]
["0535-1","BARE AL","1 X 1.61","BARE AL","Null","Stranded",1.61,"AR01",1.61,4.34,null,null,null,null,null,null,null,null,null,null,null,null,null,null,null,null,853]
["0536","CU/XLPE/PVC","1 X 50","CU/XLPE/PVC","0.6 / 1 KV","Stranded",50,"CR04",1.86,405,null,null,null,null,null,null,null,null,null,null,null,null,null,null,null,null,854]
["0537-1","CU/XLPE/PVC","1 X 95","CU/XLPE/PVC","0.6 / 1 KV","Stranded",95,"CR04",2.65,815,null,null,null,null,null,null,null,null,null,null,null,null,null,null,null,null,855]
["0538","CU/XLPE/PVC","1 X 120","CU/XLPE/PVC","0.6 / 1 KV","Stranded",120,"CR04",2.98,1030,null,null,null,null,null,null,null,null,null,null,null,null,null,null,null,null,856]
["0539","CU/XLPE/PVC","1 X 185","CU/XLPE/PVC","0.6 / 1 KV","Stranded",185,"CR04",2.65,1597,null,null,null,null,null,null,null,null,null,null,null,null,null,null,null,null,857]
["0540-1","CU/XLPE/PVC","2 X 1.5","CU/XLPE/PVC","0.6 / 1 KV","Stranded",1.5,"CR04",1.8,26.28,null,null,null,null,null,null,null,null,null,null,null,null,null,null,null,null,858]
["0541-1","CU/XLPE/PVC","3 X 4","CU/XLPE/PVC","0.6 / 1 KV","Stranded",4,"CR04",1.8,103.81,null,null,null,null,null,null,null,null,null,null,null,null,null,null,null,null,859]
["0542-1","CU/XLPE/PVC","4 X 25","CU/XLPE/PVC","0.6 / 1 KV","Stranded",25,"CR04",2.2200000000000002,862.58,null,null,null,null,null,null,null,null,null,null,null,null,null,null,null,null,860]
["0543-4","AL/XLPE/HDPE","3 X 70 + 50","AL/XLPE/HDPE","12 / 20 KV","Stranded","3 X 1 X 70","AR01",2.1800000000000002,528,null,null,null,null,null,null,null,null,null,null,null,null,null,null,null,null,861]
["0544-1","CU/PVC/PVC/NYM","4 X 16","CU/PVC/PVC","300 / 500 V","Stranded",16,"CR04",1.75,547.64,null,null,null,null,null,null,null,null,null,null,null,null,null,null,null,null,862]
["0545","CU/PVC/PVC","5 X 1.5","CU/PVC/PVC","0.6 / 1 KV","Stranded",1.5,"CR04",1.8,65.7,null,null,null,null,null,null,null,null,null,null,null,null,null,null,null,null,863]
["0546","CU/PVC","1 X 185","CU/PVC","450 / 750 V","Stranded",185,"CR04",2.65,1597,null,null,null,null,null,null,null,null,null,null,null,null,null,null,null,null,864]
["0547-1","NYY","2 X 1.5","CU/PVC/PVC","0.6 / 1 KV","Stranded",1.5,"CR04",1.8,26.28,null,null,null,null,null,null,null,null,null,null,null,null,null,null,null,null,865]
["0548","CU/PVC/PVC","3 X 150 +70","CU/PVC/PVC","0.6 / 1 KV","Stranded",150,"CR04",2.36,3851.52,null,null,null,null,null,null,null,null,null,null,null,null,null,null,null,null,866]
["0549",null,null,null,null,null,null,null,null,null,null,null,null,null,null,null,null,null,null,null,null,null,null,null,null,null,867]
["0550-1","CU/PVC/PVC","4 X 1.5","CU/PVC/PVC","0.6 / 1 KV","Stranded",1.5,"CR04",1.8,52.56,null,null,null,null,null,null,null,null,null,null,null,null,null,null,null,null,868]
["0551","CU/PVC","1 X 120","CU/PVC","450 / 750 V","Flexible",120,"CR04",1.8,1000,null,null,null,null,null,null,null,null,null,null,null,null,null,null,null,null,869]
["0552",null,null,null,null,null,null,null,null,null,null,null,null,null,null,null,null,null,null,null,null,null,null,null,null,null,870]
["0553",null,null,null,null,null,null,null,null,null,null,null,null,null,null,null,null,null,null,null,null,null,null,null,null,null,871]
["0554","CU/PVC/PVC","1 X 240","CU/PVC/PVC","0.6 / 1 KV","Stranded",240,"CR04",3.1,2100,null,null,null,null,null,null,null,null,null,null,null,null,null,null,null,null,872]
["0555","AL/XLPE/HDPE","1 X 70","AL/XLPE/HDPE","12 / 20 KV","Stranded",70,"AR01",2.1800000000000002,176,null,null,null,null,null,null,null,null,null,null,null,null,null,null,null,null,873]
["0556","CU/PVC/PVC/NYY","4 x 16","CU/PVC/PVC","0.6 / 1 KV","Stranded",16,"CR04",1.7,561.67999999999995,null,null,null,null,null,null,null,null,null,null,null,null,null,null,null,null,874]
["0557","CU/PVC/PVC/NYY","4 X 25","CU/PVC/PVC","0.6 / 1 KV","Stranded",25,"CR04",2.14,677.03,null,null,null,null,null,null,null,null,null,null,null,null,null,null,null,null,875]
["0558","AL/PVC/PVC/NAYY","4 X 50","AL/PVC/PVC","0.6 / 1 KV","Stranded",50,"AR02",1.8,531.6,null,null,null,null,null,null,null,null,null,null,null,null,null,null,null,null,876]
["0559","CU/HR PVC",2.54,"CU/HR PVC","Null","Stranded",2.54,"CR04",1.8,22.62,null,null,null,null,null,null,null,null,null,null,null,null,null,null,null,null,877]
["0560","CU/PVC/PVC/NYYF","1 X 70","CU/PVC/PVC","0.6 / 1 KV","Flexible",70,"CR04",1.8,583,null,null,null,null,null,null,null,null,null,null,null,null,null,null,null,null,878]
["0561",null,null,null,null,null,null,null,null,null,null,null,null,null,null,null,null,null,null,null,null,null,null,null,null,null,879]
["0562",null,null,null,null,null,null,null,null,null,null,null,null,null,null,null,null,null,null,null,null,null,null,null,null,null,880]
["0563",null,null,null,null,null,null,null,null,null,null,null,null,null,null,null,null,null,null,null,null,null,null,null,null,null,881]
["0564",null,null,null,null,null,null,null,null,null,null,null,null,null,null,null,null,null,null,null,null,null,null,null,null,null,882]
["0565",null,null,null,null,null,null,null,null,null,null,null,null,null,null,null,null,null,null,null,null,null,null,null,null,null,883]
["0566",null,null,null,null,null,null,null,null,null,null,null,null,null,null,null,null,null,null,null,null,null,null,null,null,null,884]
["0567",null,null,null,null,null,null,null,null,null,null,null,null,null,null,null,null,null,null,null,null,null,null,null,null,null,885]
["0568",null,null,null,null,null,null,null,null,null,null,null,null,null,null,null,null,null,null,null,null,null,null,null,null,null,886]
["0569","BARE AL","1 X 120","BARE AL","Null","Stranded",120,"AR01",2.96,309,null,null,null,null,null,null,null,null,null,null,null,null,null,null,null,null,887]
["0570","BARE AL","1 X 120","BARE AL","Null","Stranded",120,"AR01",2.96,358.94,null,null,null,null,null,null,null,null,null,null,null,null,null,null,null,null,888]
["0571-2",null,null,null,null,null,null,null,null,null,null,null,null,null,null,null,null,null,null,null,null,null,null,null,null,null,889]
["0572","AL/PVC/PVC/NAYY","1 X 25","AL/PVC/PVC","0.6 / 1 KV","Stranded",25,"AR01",2.2200000000000002,67,null,null,null,null,null,null,null,null,null,null,null,null,null,null,null,null,890]
["0573","AL/PVC/PVC/NAYY","1 X 70 ","AL/PVC/PVC","0.6 / 1 KV","Stranded",70,"AR01",2.1800000000000002,176,null,null,null,null,null,null,null,null,null,null,null,null,null,null,null,null,891]
["0574",null,null,null,null,null,null,null,null,null,null,null,null,null,null,null,null,null,null,null,null,null,null,null,null,null,892]
["0575","CU/PVC/H05V-K","1 X 0.75","CU/PVC","300 / 500 V","Flexible",0.75,"CR04",1.8,6.25,null,null,null,null,null,null,null,null,null,null,null,null,null,null,null,null,893]
["0576","CU/PVC/TPE BSH","3 X 35","CU/PVC/TPE","450 / 750 V","Flexible",35,"CR04",1.8,864,null,null,null,null,null,null,null,null,null,null,null,null,null,null,null,null,894]
["0577","CU/TPE/TPE BSSH","3 X 25","CU/TPE/TPE","450 / 750 V","Flexible",25,"CR04",1.8,615,null,null,null,null,null,null,null,null,null,null,null,null,null,null,null,null,895]
["0578","CU/TPE/TPE BSSH","3 X 35","CU/TPE/TPE","450 / 750 V","Flexible",35,"CR04",1.8,864,null,null,null,null,null,null,null,null,null,null,null,null,null,null,null,null,896]
["0579","CU/PVC/PVC/NYYF","1 X 10","CU/PVC/PVC","0.6 / 1 KV","Flexible",10,"CR04",1.8,82.4,null,null,null,null,null,null,null,null,null,null,null,null,null,null,null,null,897]
["0580","CU/PVC/PVC/NYYF","1 X 10","CU/PVC/PVC","0.6 / 1 KV","Flexible",10,"CR04",1.8,82.4,null,null,null,null,null,null,null,null,null,null,null,null,null,null,null,null,898]
["0581","SOFT DRAWN COPPER WIRE","1 X 1.5","SOFT DRAWN COPPER WIRE","Null","Solid",1.5,"CR01",1.38,13.3,null,null,null,null,null,null,null,null,null,null,null,null,null,null,null,null,899]
["0582",null,null,null,null,null,null,null,null,null,null,null,null,null,null,null,null,null,null,null,null,null,null,null,null,null,900]
["0583",null,null,null,null,null,null,null,null,null,null,null,null,null,null,null,null,null,null,null,null,null,null,null,null,null,901]
["0584","SOFT DRAWN COPPER WIRE","1 X 7.07","SOFT DRAWN COPPER WIRE","Null","Solid",7.07,"CR04",3,62.84,null,null,null,null,null,null,null,null,null,null,null,null,null,null,null,null,902]
["0585","CU/XLPE/PVC 8.7/15 ( 17.5 ) KV","1 X 300","CU/XLPE/PVC"," 8.7/15 KV","Stranded",300,"CR04",2.64,2625,null,null,null,null,null,null,null,null,null,null,null,null,null,null,null,null,903]
["0586","CU/XLPE/PVC 8.7/15 ( 17.5 ) KV","1 X 500","CU/XLPE/PVC"," 8.7/15 KV","Stranded",500,"CR04",3.45,4360,null,null,null,null,null,null,null,null,null,null,null,null,null,null,null,null,904]
["0587","CU/XLPE/PVC 8.7/15 ( 17.5 ) KV","3 X 185","CU/XLPE/PVC"," 8.7/15 KV","Stranded",185,"CR04",2.65,4805.37,null,null,null,null,null,null,null,null,null,null,null,null,null,null,null,null,905]
["0588","CU/PVC/PVC","2 X 1.5","CU/PVC/PVC","0.6 / 1 KV","Flexible",1.5,"CR04",1.8,24.57,null,null,null,null,null,null,null,null,null,null,null,null,null,null,null,null,906]
["0589","CU/PVC/PVC","4 X 1.5","CU/PVC/PVC","0.6 / 1 KV","Flexible",1.5,"CR04",1.8,49.15,null,null,null,null,null,null,null,null,null,null,null,null,null,null,null,null,907]
["0590","CU/PVC/PVC","18 X 1.5","CU/PVC/PVC","0.6 / 1 KV","Flexible",1.5,"CR04",1.8,221.16,null,null,null,null,null,null,null,null,null,null,null,null,null,null,null,null,908]
["0591","CU/PVC/PVC","37 X 1.5","CU/PVC/PVC","0.6 / 1 KV","Flexible",1.5,"CR04",1.8,454.61,null,null,null,null,null,null,null,null,null,null,null,null,null,null,null,null,909]
["0592","CU/PVC/PVC","60 X 1.5","CU/PVC/PVC","0.6 / 1 KV","Flexible",1.5,"CR04",1.8,737.21,null,null,null,null,null,null,null,null,null,null,null,null,null,null,null,null,910]
["0593","CU/PVC/STA/PVC/NYBY","2 x 35","CU/PVC/STA/PVC","0.6 / 1 KV","Stranded",35,"CR04",1.8,595.78,null,null,null,null,null,null,null,null,null,null,null,null,null,null,null,null,911]
["0594","CU/PVC/STA/PVC/NYBY","2 X 4","CU/PVC/STA/PVC","0.6 / 1 KV","Stranded",4,"CR04",1.8,69.209999999999994,null,null,null,null,null,null,null,null,null,null,null,null,null,null,null,null,912]
["0595","CU/PVC/STA/PVC/NYBY","2 X 10","CU/PVC/STA/PVC","0.6 / 1 KV","Stranded",10,"CR04",1.43,173.52,null,null,null,null,null,null,null,null,null,null,null,null,null,null,null,null,913]
["0596","CU/PVC/STA/PVC/NYBY","2 X 16","CU/PVC/STA/PVC","0.6 / 1 KV","Stranded",16,"CR04",1.75,273.82,null,null,null,null,null,null,null,null,null,null,null,null,null,null,null,null,914]
["0597","CU/PVC/PVC","2 x 4","CU/PVC/PVC","0.6 / 1 KV","Stranded",4,"CR04",1.8,69.209999999999994,null,null,null,null,null,null,null,null,null,null,null,null,null,null,null,null,915]
["0598","CU/PVC/PVC","2 X 6","CU/PVC/PVC","0.6 / 1 KV","Stranded",6,"CR04",1.8,103.31,null,null,null,null,null,null,null,null,null,null,null,null,null,null,null,null,916]
["0599","CU/PVC/PVC","2 X 10","CU/PVC/PVC","0.6 / 1 KV","Stranded",10,"CR04",1.43,173.52,null,null,null,null,null,null,null,null,null,null,null,null,null,null,null,null,917]
["0600","CU/PVC/PVC","3 X 25","CU/PVC/PVC","0.6 / 1 KV","Stranded",25,"CR04",2.2200000000000002,646.94000000000005,null,null,null,null,null,null,null,null,null,null,null,null,null,null,null,null,918]
["0601-1","CU/XLPE/PVC","1 X 300","CU/XLPE/PVC","0.6 / 1 KV","Stranded",300,"CR04",2.64,2625,null,null,null,null,null,null,null,null,null,null,null,null,null,null,null,null,919]
["0602","CU/XLPE/PVC","1 X 500","CU/XLPE/PVC","0.6 / 1 KV","Stranded",500,"CR04",3.45,4360,null,null,null,null,null,null,null,null,null,null,null,null,null,null,null,null,920]
["0603","CU/XLPE/PVC","2 X 4","CU/XLPE/PVC","0.6 / 1 KV","Stranded",4,"CR04",1.8,69.12,null,null,null,null,null,null,null,null,null,null,null,null,null,null,null,null,921]
["0604","CU/XLPE/PVC","2 X 6","CU/XLPE/PVC","0.6 / 1 KV","Stranded",6,"CR04",1.8,103.31,null,null,null,null,null,null,null,null,null,null,null,null,null,null,null,null,922]
["0605","CU/XLPE/PVC","2 X 10","CU/XLPE/PVC","0.6 / 1 KV","Stranded",10,"CR04",1.43,173.52,null,null,null,null,null,null,null,null,null,null,null,null,null,null,null,null,923]
["0606","CU/XLPE/PVC","2 X 16","CU/XLPE/PVC","0.6 / 1 KV","Stranded",16,"CR04",1.75,273.82,null,null,null,null,null,null,null,null,null,null,null,null,null,null,null,null,924]
["0607","CU/XLPE/PVC","2 X 25","CU/XLPE/PVC","0.6 / 1 KV","Stranded",25,"CR04",2.2200000000000002,431.29,null,null,null,null,null,null,null,null,null,null,null,null,null,null,null,null,925]
["0608","CU/XLPE/PVC","2 X 35","CU/XLPE/PVC","0.6 / 1 KV","Stranded",35,"CR04",2.65,595.78,null,null,null,null,null,null,null,null,null,null,null,null,null,null,null,null,926]
["0609","CU/XLPE/PVC","2 X 50","CU/XLPE/PVC","0.6 / 1 KV","Stranded",50,"CR04",1.86,812.43,null,null,null,null,null,null,null,null,null,null,null,null,null,null,null,null,927]
["0610","CU/XLPE/PVC","2 X 70","CU/XLPE/PVC","0.6 / 1 KV","Stranded",70,"CR04",2.2200000000000002,1169.5,null,null,null,null,null,null,null,null,null,null,null,null,null,null,null,null,928]
["0611","CU/XLPE/PVC","2 X 95","CU/XLPE/PVC","0.6 / 1 KV","Stranded",95,"CR04",2.65,1634.89,null,null,null,null,null,null,null,null,null,null,null,null,null,null,null,null,929]
["0612","CU/XLPE/PVC","3 X 6","CU/XLPE/PVC","0.6 / 1 KV","Stranded",6,"CR04",1.8,154.96,null,null,null,null,null,null,null,null,null,null,null,null,null,null,null,null,930]
["0613","CU/XLPE/PVC","3 X 10","CU/XLPE/PVC","0.6 / 1 KV","Stranded",10,"CR04",1.43,260.27999999999997,null,null,null,null,null,null,null,null,null,null,null,null,null,null,null,null,931]
["0614","CU/XLPE/PVC","3 X 16","CU/XLPE/PVC","0.6 / 1 KV","Stranded",16,"CR04",1.75,410.73,null,null,null,null,null,null,null,null,null,null,null,null,null,null,null,null,932]
["0615","CU/XLPE/PVC","3 X 25","CU/XLPE/PVC","0.6 / 1 KV","Stranded",25,"CR04",2.2200000000000002,646.94000000000005,null,null,null,null,null,null,null,null,null,null,null,null,null,null,null,null,933]
["0616","CU/XLPE/PVC","3 X 35","CU/XLPE/PVC","0.6 / 1 KV","Stranded",35,"CR04",2.65,893.67,null,null,null,null,null,null,null,null,null,null,null,null,null,null,null,null,934]
["0617","CU/XLPE/PVC","3 X 50","CU/XLPE/PVC","0.6 / 1 KV","Stranded",50,"CR04",1.86,1218.6500000000001,null,null,null,null,null,null,null,null,null,null,null,null,null,null,null,null,935]
["0618","CU/XLPE/PVC","3 X 70 ","CU/XLPE/PVC","0.6 / 1 KV","Stranded",70,"CR04",2.2200000000000002,1775.31,null,null,null,null,null,null,null,null,null,null,null,null,null,null,null,null,936]
["0619","CU/XLPE/PVC","3 X 95","CU/XLPE/PVC","0.6 / 1 KV","Stranded",95,"CR04",2.63,2467.38,null,null,null,null,null,null,null,null,null,null,null,null,null,null,null,null,937]
["0620","CU/XLPE/PVC","1 X 120","CU/XLPE/PVC","0.6 / 1 KV","Stranded",120,"CR04",2.36,3120.33,null,null,null,null,null,null,null,null,null,null,null,null,null,null,null,null,938]
["0621","CU/XLPE/PVC","3 X 185","CU/XLPE/PVC","0.6 / 1 KV","Stranded",185,"CR04",2.63,4814.3999999999996,null,null,null,null,null,null,null,null,null,null,null,null,null,null,null,null,939]
["0622","CU/XLPE/PVC","4 X 35","CU/XLPE/PVC","0.6 / 1 KV","Stranded",35,"CR04",2.65,1191.56,null,null,null,null,null,null,null,null,null,null,null,null,null,null,null,null,940]
["0623","CU/XLPE/PVC","4 X 50","CU/XLPE/PVC","0.6 / 1 KV","Stranded",50,"CR04",1.86,1624.86,null,null,null,null,null,null,null,null,null,null,null,null,null,null,null,null,941]
["0624","CU/XLPE/PVC","4 X 70","CU/XLPE/PVC","0.6 / 1 KV","Stranded",70,"CR04",2.2200000000000002,2367.08,null,null,null,null,null,null,null,null,null,null,null,null,null,null,null,null,942]
["0625","CU/XLPE/PVC","4 X 95","CU/XLPE/PVC","0.6 / 1 KV","Stranded",95,"CR04",2.63,3289.84,null,null,null,null,null,null,null,null,null,null,null,null,null,null,null,null,943]
["0626","CU/XLPE/PVC","4 X 120","CU/XLPE/PVC","0.6 / 1 KV","Stranded",120,"CR04",2.36,4106.4399999999996,null,null,null,null,null,null,null,null,null,null,null,null,null,null,null,null,944]
["0627","SOFT DRAWN COPPER WIRE","1 X 1.23","SOFT DRAWN COPPER WIRE","Null","Solid",1.23,"CR04",1.25,10.91,null,null,null,null,null,null,null,null,null,null,null,null,null,null,null,null,945]
["0628","SOFT DRAWN COPPER WIRE","1 X 1.5","SOFT DRAWN COPPER WIRE","Null","Solid",1.5,"CR04",1.38,13.3,null,null,null,null,null,null,null,null,null,null,null,null,null,null,null,null,946]
["0629","SOFT DRAWN COPPER WIRE","1 X 2.54","SOFT DRAWN COPPER WIRE","Null","Solid",2.54,"CR04",1.8,22.62,null,null,null,null,null,null,null,null,null,null,null,null,null,null,null,null,947]
["0630","SOFT DRAWN COPPER WIRE","1 X 3.66","SOFT DRAWN COPPER WIRE","Null","Solid",3.66,"CR04",2.16,32.58,null,null,null,null,null,null,null,null,null,null,null,null,null,null,null,null,948]
["0631","BARE AL","1 X 1.13","BARE AL","Null","Solid",1.1299999999999999,"AR01",1.2,3.05,null,null,null,null,null,null,null,null,null,null,null,null,null,null,null,null,949]
["0632","SOFT DRAWN COPPER WIRE","1 X 5.31","SOFT DRAWN COPPER WIRE","Null","Solid",5.31,"CR04",2.6,47.2,null,null,null,null,null,null,null,null,null,null,null,null,null,null,null,null,950]
["0633","AL/XLPE/AWS/PVC","1 X 185","AL/XLPE/AWS/PVC","12 / 20 KV","Stranded",185,"AR01",2.62,475,null,null,null,null,null,null,null,null,null,null,null,null,null,null,null,null,951]
["0634","AL/XLPE/AWS/PVC","1 X 185","AL/XLPE/AWS/PVC","12 / 20 KV","Stranded",185,"AR01",2.62,475,null,null,null,null,null,null,null,null,null,null,null,null,null,null,null,null,952]
["0635","CU/PVC/PVC","1 X 120","CU/PVC/PVC","0.6 / 1 KV","Flexible",120,"CR04",1.8,1000,null,null,null,null,null,null,null,null,null,null,null,null,null,null,null,null,953]
["0636","Bare Aluminium","1 X 1.43","Bare Aluminium","Null","Solid",1.43,"AR01",1.35,3.86,null,null,null,null,null,null,null,null,null,null,null,null,null,null,null,null,954]
["0637","SOFT DRAWN COPPER WIRE","1 X 5.52","SOFT DRAWN COPPER WIRE","Null","Solid",5.52,"CR01",2.65,49.03,null,null,null,null,null,null,null,null,null,null,null,null,null,null,null,null,955]
["0638","CU/XLPE/CWS/LAT/HDPE","1 X 630","CU/XLPE/CWS/LAT/HDPE","36 /66 KV","Stranded",630,"CR04",3.83,5625,null,null,null,null,null,null,null,null,null,null,null,null,null,null,null,null,956]
["0639","CU/XLPE/ATA/PVC","1 X 95","CU/XLPE/ATA/PVC","3.6 / 6 (7.2) KV","Stranded",95,"CR05",2.65,815,null,null,null,null,null,null,null,null,null,null,null,null,null,null,null,null,957]
["0640","CU/XLPE/ATA/PVC","1 X 120","CU/XLPE/ATA/PVC","3.6 / 6 (7.2) KV","Stranded",120,"CR05",2.98,1030,null,null,null,null,null,null,null,null,null,null,null,null,null,null,null,null,958]
["0641","CU/XLPE/ATA/PVC","1 X 150","CU/XLPE/ATA/PVC","3.6 / 6 (7.2) KV","Stranded",150,"CR05",3.36,1272,null,null,null,null,null,null,null,null,null,null,null,null,null,null,null,null,959]
["0642","AL/PVC","1 X 25","AL/PVC","450/750 V","مجدول",25,"AR01",2.2200000000000002,67,null,null,null,null,null,null,null,null,null,null,null,null,null,null,null,null,960]
["0643","AL/PVC","1 X 70","AL/PVC","450/750 V","مجدول",70,"AR01",2.1800000000000002,176,null,null,null,null,null,null,null,null,null,null,null,null,null,null,null,null,961]
["0644","AL/PVC","1 X 25","AL/PVC","450/750 V","مجدول",25,"AR01",2.1,67,null,null,null,null,null,null,null,null,null,null,null,null,null,null,null,null,962]
["0645","SOFT DRAWN COPPER WIRE","1 X 9.35","SOFT DRAWN COPPER WIRE","Null","Flexible",9.35,"CR01",3.45,83.11,null,null,null,null,null,null,null,null,null,null,null,null,null,null,null,null,963]
["0646","CU/XLPE/ATA/PVC","1 X 120","CU/XLPE/ATA/PVC","12/20 KV","مجدول",120,"CR04",2.98,1035,null,null,null,null,null,null,null,null,null,null,null,null,null,null,null,null,964]
["0647","BARE COPPER",3,"BARE COPPER","Null","Stranded",3,"CR07",3,62.84,null,null,null,null,null,null,null,null,null,null,null,null,null,null,null,null,965]
["0648","CU/PVC/PVC","1 X 120","CU/PVC/PVC","0.6 / 1 KV","مجدول",120,"CR04",2.98,1030,null,null,null,null,null,null,null,null,null,null,null,null,null,null,null,null,966]
["0649","CU/XLPE/PVC","4X16","CU/XLPE/PVC","0.6 / 1 KV","مجدول",16,"CR04",1.75,547.64,null,null,null,null,null,null,null,null,null,null,null,null,null,null,null,null,967]
["0650","CU/XLPE/PVC","4X25","CU/XLPE/PVC","0.6 / 1 KV","مجدول",25,"CR04",2.2200000000000002,862.58,null,null,null,null,null,null,null,null,null,null,null,null,null,null,null,null,968]
["0651","CU/XLPE/PVC","4x35","CU/XLPE/PVC","0.6 / 1 KV","مجدول",35,"CR04",2.65,1191.56,null,null,null,null,null,null,null,null,null,null,null,null,null,null,null,null,969]
["0652","BARE COPPER","1X4","BARE COPPER","Null","Flexible",4,"CR04",1.8,49,null,null,null,null,null,null,null,null,null,null,null,null,null,null,null,null,970]
["0653","BARE COPPER","1X6","BARE COPPER","Null","Flexible",6,"CR04",1.8,47.55,null,null,null,null,null,null,null,null,null,null,null,null,null,null,null,null,971]
["0654","BARE COPPER","1X10","BARE COPPER","Null","Flexible",10,"CR04",1.8,82.4,null,null,null,null,null,null,null,null,null,null,null,null,null,null,null,null,972]
["0655","BARE COPPER","1X16","BARE COPPER","Null","Flexible",16,"CR04",1.8,133,null,null,null,null,null,null,null,null,null,null,null,null,null,null,null,null,973]
["0656",null,null,null,null,null,null,null,null,null,null,null,null,null,null,null,null,null,null,null,null,null,null,null,null,null,974]
["0657","AL/HDPE","4 X 35","AL/HDPE","0.6/ 1 KV","مجدول",35,"AR02",2.5,375.6,null,null,null,null,null,null,null,null,null,null,null,null,null,null,null,null,975]
["0658","CU/PVC","1 X 6","CU/PVC","450 /750 V","Flexible",6,"CR04",1.8,47.55,null,null,null,null,null,null,null,null,null,null,null,null,null,null,null,null,976]
["0659","CU/PVC","1 X 10","CU/PVC","450 /750 V","Flexible",10,"CR04",1.8,82.4,null,null,null,null,null,null,null,null,null,null,null,null,null,null,null,null,977]
["0660","CU/PVC","1 X 10","CU/PVC","450 /750 V","Flexible",10,"CR04",1.8,82.4,null,null,null,null,null,null,null,null,null,null,null,null,null,null,null,null,978]
["0661","CU/PVC","1 X 95","CU/PVC","450 /750 V","Flexible",95,"CR04",1.8,776,null,null,null,null,null,null,null,null,null,null,null,null,null,null,null,null,979]
["0662","CU/PVC","3 X 2.5","CU/PVC/PVC","300 /500V","Flexible",2.5,"CR04",1.8,60.63,null,null,null,null,null,null,null,null,null,null,null,null,null,null,null,null,980]
["0663","CU/TEP/TEP","1 X 185","CU/TEP/TEP","450 /750 V","Flexible",185,"CR04",1.8,1515,null,null,null,null,null,null,null,null,null,null,null,null,null,null,null,null,981]
["0664","CU/PVC","1 X 25","CU/PVC","450 /750 V","Stranded",25,"CR04",2.2200000000000002,215,null,null,null,null,null,null,null,null,null,null,null,null,null,null,null,null,982]
["0665","CU/PVC","1 X 25","CU/PVC","450 /750 V","Stranded",25,"CR04",2.2200000000000002,215,null,null,null,null,null,null,null,null,null,null,null,null,null,null,null,null,983]
["0666","AL/HDPE","4 X 35","AL/HDPE","0.6/ 1 KV","Stranded",35,"AR02",2.5499999999999998,368,null,null,null,null,null,null,null,null,null,null,null,null,null,null,null,null,984]
["0667",null,null,null,null,null,null,null,null,null,null,null,null,null,null,null,null,null,null,null,null,null,null,null,null,null,985]
["0668","AL/HDPE","4 X 50","AL/HDPE","0.6/ 1 KV","Stranded",50,"AR02",1.82,500,null,null,null,null,null,null,null,null,null,null,null,null,null,null,null,null,986]
["0669",null,null,null,null,null,null,null,null,null,null,null,null,null,null,null,null,null,null,null,null,null,null,null,null,null,987]
["0670","CU/PVC/PVC","1 X 240","CU/PVC/PVC","0.6/ 1 KV","Stranded",240,"CR04",3,2371,null,null,null,null,null,null,null,null,null,null,null,null,null,null,null,null,988]
["0671","CU/PVC/TEP","3 X 70","CU/PVC/TEP","450 /750 V","Flexible",70,"CR04",1.8,1754.25,null,null,null,null,null,null,null,null,null,null,null,null,null,null,null,null,989]
["0672","BARE COPPER","1 X 10","BARE COPPER","OPER VOLT","Stranded",10,"CR04",1.43,86.5,null,null,null,null,null,null,null,null,null,null,null,null,null,null,null,null,990]
["0673","BARE COPPER","1 X 16","BARE COPPER","OPER VOLT","Stranded",16,"CR04",1.75,136.5,null,null,null,null,null,null,null,null,null,null,null,null,null,null,null,null,991]
["0674","BARE COPPER","1 X 25","BARE COPPER","OPER VOLT","Stranded",25,"CR04",2.2200000000000002,215,null,null,null,null,null,null,null,null,null,null,null,null,null,null,null,null,992]
["0675","BARE COPPER","1 X 35","BARE COPPER","OPER VOLT","Stranded",35,"CR04",2.65,297,null,null,null,null,null,null,null,null,null,null,null,null,null,null,null,null,993]
["0676","BARE COPPER","1 X 1.5","BARE COPPER","OPER VOLT","Stranded",1.5,"CR04",1.8,13.1,null,null,null,null,null,null,null,null,null,null,null,null,null,null,null,null,994]
["0677","CU/PVC/CT/PVC","1 X 70","CU/PVC/CT/PVC","0.6/1 kv","Flexible",70,"CR04",1.8,583,null,null,null,null,null,null,null,null,null,null,null,null,null,null,null,null,995]
["0678","AL/XLPE/AWA/PVC","1 X 70","AL/XLPE/AWA/PVC","12/20kv","Stranded",70,"AR01",2.1800000000000002,176,null,null,null,null,null,null,null,null,null,null,null,null,null,null,null,null,996]
["0679","AL/XLPE/AWA/PVC","1 X 240","AL/XLPE/AWA/PVC","12/20kv","Stranded",240,"AR01",2.98,620,null,null,null,null,null,null,null,null,null,null,null,null,null,null,null,null,997]
["0680","AL/XLPE/CT/PVC","3 X 150","AL/XLPE/CT/PVC","1.8/3 (3.6)KV","Stranded",150,"AR01",3.3,1158.47,null,null,null,null,null,null,null,null,null,null,null,null,null,null,null,null,998]
["0681",null,null,null,null,null,null,null,null,null,null,null,null,null,null,null,null,null,null,null,null,null,null,null,null,null,999]
["0682","CU/PVC/CT/PVC","2 X 1.5","CU/PVC/CT/PVC","0.6/1 kv","Stranded",1.5,"CR04",1.8,26.28,null,null,null,null,null,null,null,null,null,null,null,null,null,null,null,null,1000]
["0683","CU/PVC/CT/PVC","3 x 1.5","CU/PVC/CT/PVC","0.6/1 kv","Stranded",1.5,"CR04",1.8,39.42,null,null,null,null,null,null,null,null,null,null,null,null,null,null,null,null,1001]
["0684","CU/PVC/CT/PVC","4 x 1.5","CU/PVC/CT/PVC","0.6/1 kv","Stranded",1.5,"CR04",1.8,52.56,null,null,null,null,null,null,null,null,null,null,null,null,null,null,null,null,1002]
["0685","CU/PVC/CT/PVC","5 x 1.5","CU/PVC/CT/PVC","0.6/1 kv","Stranded",1.5,"CR04",1.8,65.7,null,null,null,null,null,null,null,null,null,null,null,null,null,null,null,null,"0001-6"]
["0686",null,null,null,null,null,null,null,null,null,null,null,null,null,null,null,null,null,null,null,null,null,null,null,null,null,"0002-6"]
["0687",null,null,null,null,null,null,null,null,null,null,null,null,null,null,null,null,null,null,null,null,null,null,null,null,null,"0003-6"]
["0688",null,null,null,null,null,null,null,null,null,null,null,null,null,null,null,null,null,null,null,null,null,null,null,null,null,"0004-6"]
["0689",null,null,null,null,null,null,null,null,null,null,null,null,null,null,null,null,null,null,null,null,null,null,null,null,null,"0005-8"]
["0690",null,null,null,null,null,null,null,null,null,null,null,null,null,null,null,null,null,null,null,null,null,null,null,null,null,"0006-6"]
["0691",null,null,null,null,null,null,null,null,null,null,null,null,null,null,null,null,null,null,null,null,null,null,null,null,null,"0007-6"]
["0692",null,null,null,null,null,null,null,null,null,null,null,null,null,null,null,null,null,null,null,null,null,null,null,null,null,"0008-6"]
["0693",null,null,null,null,null,null,null,null,null,null,null,null,null,null,null,null,null,null,null,null,null,null,null,null,null,"0009-6"]
["0694",null,null,null,null,null,null,null,null,null,null,null,null,null,null,null,null,null,null,null,null,null,null,null,null,null,"0010-6"]
["0695",null,null,null,null,null,null,null,null,null,null,null,null,null,null,null,null,null,null,null,null,null,null,null,null,null,"0011-6"]
["0696",null,null,null,null,null,null,null,null,null,null,null,null,null,null,null,null,null,null,null,null,null,null,null,null,null,"0012-6"]
["0697",null,null,null,null,null,null,null,null,null,null,null,null,null,null,null,null,null,null,null,null,null,null,null,null,null,"0013-6"]
["0698",null,null,null,null,null,null,null,null,null,null,null,null,null,null,null,null,null,null,null,null,null,null,null,null,null,"0014-6"]
["0699",null,null,null,null,null,null,null,null,null,null,null,null,null,null,null,null,null,null,null,null,null,null,null,null,null,"0015-6"]
["0700",null,null,null,null,null,null,null,null,null,null,null,null,null,null,null,null,null,null,null,null,null,null,null,null,null,"0016-5"]
["0701",null,null,null,null,null,null,null,null,null,null,null,null,null,null,null,null,null,null,null,null,null,null,null,null,null,"0017-5"]
["0702",null,null,null,null,null,null,null,null,null,null,null,null,null,null,null,null,null,null,null,null,null,null,null,null,null,"0018-5"]
["0703",null,null,null,null,null,null,null,null,null,null,null,null,null,null,null,null,null,null,null,null,null,null,null,null,null,"0019-5"]
["0704",null,null,null,null,null,null,null,null,null,null,null,null,null,null,null,null,null,null,null,null,null,null,null,null,null,"0020-5"]
["0705",null,null,null,null,null,null,null,null,null,null,null,null,null,null,null,null,null,null,null,null,null,null,null,null,null,"0021-5"]
["0706",null,null,null,null,null,null,null,null,null,null,null,null,null,null,null,null,null,null,null,null,null,null,null,null,null,"0022-5"]
["0707",null,null,null,null,null,null,null,null,null,null,null,null,null,null,null,null,null,null,null,null,null,null,null,null,null,"0023-5"]
["0708",null,null,null,null,null,null,null,null,null,null,null,null,null,null,null,null,null,null,null,null,null,null,null,null,null,"0024-4"]
["0709",null,null,null,null,null,null,null,null,null,null,null,null,null,null,null,null,null,null,null,null,null,null,null,null,null,"0025-4"]
["0710",null,null,null,null,null,null,null,null,null,null,null,null,null,null,null,null,null,null,null,null,null,null,null,null,null,"0026-4"]
["0711",null,null,null,null,null,null,null,null,null,null,null,null,null,null,null,null,null,null,null,null,null,null,null,null,null,"0027-4"]
["0712",null,null,null,null,null,null,null,null,null,null,null,null,null,null,null,null,null,null,null,null,null,null,null,null,null,"0028-4"]
["0713",null,null,null,null,null,null,null,null,null,null,null,null,null,null,null,null,null,null,null,null,null,null,null,null,null,"0029-4"]
["0714",null,null,null,null,null,null,null,null,null,null,null,null,null,null,null,null,null,null,null,null,null,null,null,null,null,"0030-4"]
["0715",null,null,null,null,null,null,null,null,null,null,null,null,null,null,null,null,null,null,null,null,null,null,null,null,null,"0031-4"]
["0716",null,null,null,null,null,null,null,null,null,null,null,null,null,null,null,null,null,null,null,null,null,null,null,null,null,"0032-4"]
["0717",null,null,null,null,null,null,null,null,null,null,null,null,null,null,null,null,null,null,null,null,null,null,null,null,null,"0033-4"]
["0718",null,null,null,null,null,null,null,null,null,null,null,null,null,null,null,null,null,null,null,null,null,null,null,null,null,"0034-3"]
["0719",null,null,null,null,null,null,null,null,null,null,null,null,null,null,null,null,null,null,null,null,null,null,null,null,null,"0035-3"]
["0720",null,null,null,null,null,null,null,null,null,null,null,null,null,null,null,null,null,null,null,null,null,null,null,null,null,"0036-5"]
["0721",null,null,null,null,null,null,null,null,null,null,null,null,null,null,null,null,null,null,null,null,null,null,null,null,null,"0037-5"]
["0722","AL/PVC/PVC/NAYY","4 X 70","AL/PVC/PVC/NAYY","0.6/1 kv","Stranded",70,"AR02",2.1,725.77,null,null,null,null,null,null,null,null,null,null,null,null,null,null,null,null,"0038-5"]
["0723",null,null,null,null,null,null,null,null,null,null,null,null,null,null,null,null,null,null,null,null,null,null,null,null,null,"0039-4"]
["0724",null,null,null,null,null,null,null,null,null,null,null,null,null,null,null,null,null,null,null,null,null,null,null,null,null,"0040-4"]
["0725","NYY","2 X 35","NYY","0.6/1 kv","Stranded",35,"CR04",2.65,595.78,null,null,null,null,null,null,null,null,null,null,null,null,null,null,null,null,"0041-3"]
["0726","NAYY","2 X 10","NAYY","0.6/1 kv","Stranded",10,"AR01",1.73,54.16,null,null,null,null,null,null,null,null,null,null,null,null,null,null,null,null,"0042-2"]
["0727","NYAM","1 X 2.5","CU / PVC","450 / 750 V","Stranded",2.5,"CR04",0.67,22.4,null,null,null,null,null,null,null,null,null,null,null,null,null,null,null,null,"0043-4"]
["0728","NYAM","1 X 4","CU / PVC","450 / 750 V","Stranded",4,"CR04",0.85,36,null,null,null,null,null,null,null,null,null,null,null,null,null,null,null,null,"0044-4"]
["0729",null,null,null,null,null,null,null,null,null,null,null,null,null,null,null,null,null,null,null,null,null,null,null,null,null,"0045-4"]
["0730",null,null,null,null,null,null,null,null,null,null,null,null,null,null,null,null,null,null,null,null,null,null,null,null,null,"0046-3"]
["0731",null,null,null,null,null,null,null,null,null,null,null,null,null,null,null,null,null,null,null,null,null,null,null,null,null,"0047-5"]
["0732",null,null,null,null,null,null,null,null,null,null,null,null,null,null,null,null,null,null,null,null,null,null,null,null,null,"0048-6"]
["0733",null,null,null,null,null,null,null,null,null,null,null,null,null,null,null,null,null,null,null,null,null,null,null,null,null,"0049-5"]
["0734",null,null,null,null,null,null,null,null,null,null,null,null,null,null,null,null,null,null,null,null,null,null,null,null,null,"0050-6"]
["0735",null,null,null,null,null,null,null,null,null,null,null,null,null,null,null,null,null,null,null,null,null,null,null,null,null,"0051-6"]
["0736",null,null,null,null,null,null,null,null,null,null,null,null,null,null,null,null,null,null,null,null,null,null,null,null,null,"0052-5"]
["0737",null,null,null,null,null,null,null,null,null,null,null,null,null,null,null,null,null,null,null,null,null,null,null,null,null,"0053-5"]
["0738",null,null,null,null,null,null,null,null,null,null,null,null,null,null,null,null,null,null,null,null,null,null,null,null,null,"0054-5"]
["0739",null,null,null,null,null,null,null,null,null,null,null,null,null,null,null,null,null,null,null,null,null,null,null,null,null,"0055-5"]
["0740",null,null,null,null,null,null,null,null,null,null,null,null,null,null,null,null,null,null,null,null,null,null,null,null,null,"0056-5"]
["0741",null,null,null,null,null,null,null,null,null,null,null,null,null,null,null,null,null,null,null,null,null,null,null,null,null,"0057-5"]
["0742","NYAM","1 X 10","CU / PVC","450 / 750 V","Stranded",10,"CR04",1.43,86.5,null,null,null,null,null,null,null,null,null,null,null,null,null,null,null,null,"0058-6"]
["0743","NYAM","1 X 10","CU / PVC","450 / 750 V","Stranded",10,"CR04",1.43,86.5,null,null,null,null,null,null,null,null,null,null,null,null,null,null,null,null,"0059-5"]
["0744","Copper Wire",2.17,"Cu","Null","Solid",2.17,"CR04",2.17,32.880000000000003,null,null,null,null,null,null,null,null,null,null,null,null,null,null,null,null,"0060-5"]
["0745",null,null,null,null,null,null,null,null,null,null,null,null,null,null,null,null,null,null,null,null,null,null,null,null,null,"0061-2"]
["0746","NYY","2 X 2.5","CU / PVC / PVC","0.6 / 1 KV","Stranded",2.5,"CR04",0.67,43.13,null,null,null,null,null,null,null,null,null,null,null,null,null,null,null,null,"0062-7"]
["0747","NYY","3 X 1.5","CU / PVC / PVC","0.6 / 1 KV","Stranded",1.5,"CR04",0.52,39.42,null,null,null,null,null,null,null,null,null,null,null,null,null,null,null,null,"0063-6"]
["0748",null,null,null,null,null,null,null,null,null,null,null,null,null,null,null,null,null,null,null,null,null,null,null,null,null,"0064-7"]
["0749","NYYF","4 X 10","CU / PVC / PVC","0.6 / 1 KV","Flexible",10,"CR04",1.8,330.59,null,null,null,null,null,null,null,null,null,null,null,null,null,null,null,null,"0065-6"]
["0750","NYYF","4 X 16","CU / PVC / PVC","0.6 / 1 KV","Flexible",16,"CR04",1.8,533.6,null,null,null,null,null,null,null,null,null,null,null,null,null,null,null,null,"0066-6"]
["0751","NYYF","4 X 25","CU / PVC / PVC","0.6 / 1 KV","Flexible",25,"CR04",1.8,822.46,null,null,null,null,null,null,null,null,null,null,null,null,null,null,null,null,"0067-6"]
["0752","NYYF","4 X 50","CU / PVC / PVC","0.6 / 1 KV","Flexible",50,"CR04",1.8,1664.98,null,null,null,null,null,null,null,null,null,null,null,null,null,null,null,null,"0068-6"]
["0753","BSH","3 X 6","CU / PVC / TPE","450 / 750 V","Flexible",6,"CR04",1.8,142.65,null,null,null,null,null,null,null,null,null,null,null,null,null,null,null,null,"0069-6"]
["0754",null,null,null,null,null,null,null,null,null,null,null,null,null,null,null,null,null,null,null,null,null,null,null,null,null,"0070-3"]
["0755",null,null,null,null,null,null,null,null,null,null,null,null,null,null,null,null,null,null,null,null,null,null,null,null,null,"0071-3"]
["0756",null,null,null,null,null,null,null,null,null,null,null,null,null,null,null,null,null,null,null,null,null,null,null,null,null,"0074-3"]
["0757",null,null,null,null,null,null,null,null,null,null,null,null,null,null,null,null,null,null,null,null,null,null,null,null,null,"0075-1"]
["0758",null,null,null,null,null,null,null,null,null,null,null,null,null,null,null,null,null,null,null,null,null,null,null,null,null,"0076-3"]
["0759",null,null,null,null,null,null,null,null,null,null,null,null,null,null,null,null,null,null,null,null,null,null,null,null,null,"0077-3"]
["0760",null,null,null,null,null,null,null,null,null,null,null,null,null,null,null,null,null,null,null,null,null,null,null,null,null,"0078-3"]
["0761",null,null,null,null,null,null,null,null,null,null,null,null,null,null,null,null,null,null,null,null,null,null,null,null,null,"0079-3"]
["0762",null,null,null,null,null,null,null,null,null,null,null,null,null,null,null,null,null,null,null,null,null,null,null,null,null,"0080-2"]
["0763",null,null,null,null,null,null,null,null,null,null,null,null,null,null,null,null,null,null,null,null,null,null,null,null,null,"0081-4"]
["0764",null,null,null,null,null,null,null,null,null,null,null,null,null,null,null,null,null,null,null,null,null,null,null,null,null,"0082-4"]
["0765",null,null,null,null,null,null,null,null,null,null,null,null,null,null,null,null,null,null,null,null,null,null,null,null,null,"0083-4"]
["0766",null,null,null,null,null,null,null,null,null,null,null,null,null,null,null,null,null,null,null,null,null,null,null,null,null,"0084-4"]
["0767",null,null,null,null,null,null,null,null,null,null,null,null,null,null,null,null,null,null,null,null,null,null,null,null,null,"0085-4"]
["0768",null,null,null,null,null,null,null,null,null,null,null,null,null,null,null,null,null,null,null,null,null,null,null,null,null,"0086-4"]
["0769",null,null,null,null,null,null,null,null,null,null,null,null,null,null,null,null,null,null,null,null,null,null,null,null,null,"0087-4"]
["0770",null,null,null,null,null,null,null,null,null,null,null,null,null,null,null,null,null,null,null,null,null,null,null,null,null,"0088-3"]
["0771",null,null,null,null,null,null,null,null,null,null,null,null,null,null,null,null,null,null,null,null,null,null,null,null,null,"0089-4"]
["0772",null,null,null,null,null,null,null,null,null,null,null,null,null,null,null,null,null,null,null,null,null,null,null,null,null,"0090-5"]
["0773",null,null,null,null,null,null,null,null,null,null,null,null,null,null,null,null,null,null,null,null,null,null,null,null,null,"0091-5"]
["0774",null,null,null,null,null,null,null,null,null,null,null,null,null,null,null,null,null,null,null,null,null,null,null,null,null,"0092-1"]
["0775",null,null,null,null,null,null,null,null,null,null,null,null,null,null,null,null,null,null,null,null,null,null,null,null,null,"0093-5"]
["0776",null,null,null,null,null,null,null,null,null,null,null,null,null,null,null,null,null,null,null,null,null,null,null,null,null,"0094-5"]
["0777",null,null,null,null,null,null,null,null,null,null,null,null,null,null,null,null,null,null,null,null,null,null,null,null,null,"0095-5"]
["0778",null,null,null,null,null,null,null,null,null,null,null,null,null,null,null,null,null,null,null,null,null,null,null,null,null,"0096-5"]
["0779",null,null,null,null,null,null,null,null,null,null,null,null,null,null,null,null,null,null,null,null,null,null,null,null,null,"0097-5"]
["0780",null,null,null,null,null,null,null,null,null,null,null,null,null,null,null,null,null,null,null,null,null,null,null,null,null,"0098-5"]
["0781",null,null,null,null,null,null,null,null,null,null,null,null,null,null,null,null,null,null,null,null,null,null,null,null,null,"0099-4"]
["0782",null,null,null,null,null,null,null,null,null,null,null,null,null,null,null,null,null,null,null,null,null,null,null,null,null,"0100-4"]
["0783",null,null,null,null,null,null,null,null,null,null,null,null,null,null,null,null,null,null,null,null,null,null,null,null,null,"0101-2"]
["0784",null,null,null,null,null,null,null,null,null,null,null,null,null,null,null,null,null,null,null,null,null,null,null,null,null,"0102-3"]
["0785",null,null,null,null,null,null,null,null,null,null,null,null,null,null,null,null,null,null,null,null,null,null,null,null,null,"0103-2"]
["0786",null,null,null,null,null,null,null,null,null,null,null,null,null,null,null,null,null,null,null,null,null,null,null,null,null,"0104-2"]
["0787",null,null,null,null,null,null,null,null,null,null,null,null,null,null,null,null,null,null,null,null,null,null,null,null,null,"0105-4"]
["0788",null,null,null,null,null,null,null,null,null,null,null,null,null,null,null,null,null,null,null,null,null,null,null,null,null,"0106-3"]
["0789",null,null,null,null,null,null,null,null,null,null,null,null,null,null,null,null,null,null,null,null,null,null,null,null,null,"0107-5"]
["0790",null,null,null,null,null,null,null,null,null,null,null,null,null,null,null,null,null,null,null,null,null,null,null,null,null,"0108-5"]
["0791",null,null,null,null,null,null,null,null,null,null,null,null,null,null,null,null,null,null,null,null,null,null,null,null,null,"0109-5"]
["0792",null,null,null,null,null,null,null,null,null,null,null,null,null,null,null,null,null,null,null,null,null,null,null,null,null,"0110-4"]
["0793",null,null,null,null,null,null,null,null,null,null,null,null,null,null,null,null,null,null,null,null,null,null,null,null,null,"0111-2"]
["0794",null,null,null,null,null,null,null,null,null,null,null,null,null,null,null,null,null,null,null,null,null,null,null,null,null,"0112-1"]
["0795",null,null,null,null,null,null,null,null,null,null,null,null,null,null,null,null,null,null,null,null,null,null,null,null,null,"0114-1"]
["0796",null,null,null,null,null,null,null,null,null,null,null,null,null,null,null,null,null,null,null,null,null,null,null,null,null,"0117-1"]
["0797",null,null,null,null,null,null,null,null,null,null,null,null,null,null,null,null,null,null,null,null,null,null,null,null,null,"0118-1"]
["0798",null,null,null,null,null,null,null,null,null,null,null,null,null,null,null,null,null,null,null,null,null,null,null,null,null,"0119-2"]
["0799",null,null,null,null,null,null,null,null,null,null,null,null,null,null,null,null,null,null,null,null,null,null,null,null,null,"0120-2"]
["0800",null,null,null,null,null,null,null,null,null,null,null,null,null,null,null,null,null,null,null,null,null,null,null,null,null,"0124-2"]
["0801",null,null,null,null,null,null,null,null,null,null,null,null,null,null,null,null,null,null,null,null,null,null,null,null,null,"0128-1"]
["0802",null,null,null,null,null,null,null,null,null,null,null,null,null,null,null,null,null,null,null,null,null,null,null,null,null,"0129-5"]
["0803",null,null,null,null,null,null,null,null,null,null,null,null,null,null,null,null,null,null,null,null,null,null,null,null,null,"0130-4"]
["0804",null,null,null,null,null,null,null,null,null,null,null,null,null,null,null,null,null,null,null,null,null,null,null,null,null,"0131-3"]
["0805",null,null,null,null,null,null,null,null,null,null,null,null,null,null,null,null,null,null,null,null,null,null,null,null,null,"0132-4"]
["0806",null,null,null,null,null,null,null,null,null,null,null,null,null,null,null,null,null,null,null,null,null,null,null,null,null,"0134-2"]
["0807",null,null,null,null,null,null,null,null,null,null,null,null,null,null,null,null,null,null,null,null,null,null,null,null,null,"0135-4"]
["0808",null,null,null,null,null,null,null,null,null,null,null,null,null,null,null,null,null,null,null,null,null,null,null,null,null,"0136-4"]
["0809",null,null,null,null,null,null,null,null,null,null,null,null,null,null,null,null,null,null,null,null,null,null,null,null,null,"0137-4"]
["0810",null,null,null,null,null,null,null,null,null,null,null,null,null,null,null,null,null,null,null,null,null,null,null,null,null,"0139-1"]
["0811",null,null,null,null,null,null,null,null,null,null,null,null,null,null,null,null,null,null,null,null,null,null,null,null,null,"0145-3"]
["0812",null,null,null,null,null,null,null,null,null,null,null,null,null,null,null,null,null,null,null,null,null,null,null,null,null,"0146-3"]
["0813",null,null,null,null,null,null,null,null,null,null,null,null,null,null,null,null,null,null,null,null,null,null,null,null,null,"0147-3"]
["0814",null,null,null,null,null,null,null,null,null,null,null,null,null,null,null,null,null,null,null,null,null,null,null,null,null,"0148-2"]
["0815",null,null,null,null,null,null,null,null,null,null,null,null,null,null,null,null,null,null,null,null,null,null,null,null,null,"0149-3"]
["0816",null,null,null,null,null,null,null,null,null,null,null,null,null,null,null,null,null,null,null,null,null,null,null,null,null,"0150-3"]
["0817",null,null,null,null,null,null,null,null,null,null,null,null,null,null,null,null,null,null,null,null,null,null,null,null,null,"0151-3"]
["0818",null,null,null,null,null,null,null,null,null,null,null,null,null,null,null,null,null,null,null,null,null,null,null,null,null,"0152-2"]
["0819",null,null,null,null,null,null,null,null,null,null,null,null,null,null,null,null,null,null,null,null,null,null,null,null,null,"0153-3"]
["0820",null,null,null,null,null,null,null,null,null,null,null,null,null,null,null,null,null,null,null,null,null,null,null,null,null,"0154-5"]
["0821",null,null,null,null,null,null,null,null,null,null,null,null,null,null,null,null,null,null,null,null,null,null,null,null,null,"0155-2"]
["0822",null,null,null,null,null,null,null,null,null,null,null,null,null,null,null,null,null,null,null,null,null,null,null,null,null,"0156-1"]
["0823",null,null,null,null,null,null,null,null,null,null,null,null,null,null,null,null,null,null,null,null,null,null,null,null,null,"0157-3"]
["0824",null,null,null,null,null,null,null,null,null,null,null,null,null,null,null,null,null,null,null,null,null,null,null,null,null,"0158-2"]
["0825",null,null,null,null,null,null,null,null,null,null,null,null,null,null,null,null,null,null,null,null,null,null,null,null,null,"0159-3"]
["0826",null,null,null,null,null,null,null,null,null,null,null,null,null,null,null,null,null,null,null,null,null,null,null,null,null,"0160-3"]
["0827",null,null,null,null,null,null,null,null,null,null,null,null,null,null,null,null,null,null,null,null,null,null,null,null,null,"0161-3"]
["0828",null,null,null,null,null,null,null,null,null,null,null,null,null,null,null,null,null,null,null,null,null,null,null,null,null,"0162-3"]
["0829",null,null,null,null,null,null,null,null,null,null,null,null,null,null,null,null,null,null,null,null,null,null,null,null,null,"0164-1"]
["0830",null,null,null,null,null,null,null,null,null,null,null,null,null,null,null,null,null,null,null,null,null,null,null,null,null,"0165-3"]
["0831",null,null,null,null,null,null,null,null,null,null,null,null,null,null,null,null,null,null,null,null,null,null,null,null,null,"0167-3"]
["0832",null,null,null,null,null,null,null,null,null,null,null,null,null,null,null,null,null,null,null,null,null,null,null,null,null,"0168-3"]
["0833",null,null,null,null,null,null,null,null,null,null,null,null,null,null,null,null,null,null,null,null,null,null,null,null,null,"0169-2"]
["0834",null,null,null,null,null,null,null,null,null,null,null,null,null,null,null,null,null,null,null,null,null,null,null,null,null,"0170-1"]
["0835",null,null,null,null,null,null,null,null,null,null,null,null,null,null,null,null,null,null,null,null,null,null,null,null,null,"0171-3"]
["0836",null,null,null,null,null,null,null,null,null,null,null,null,null,null,null,null,null,null,null,null,null,null,null,null,null,"0173-2"]
["0837",null,null,null,null,null,null,null,null,null,null,null,null,null,null,null,null,null,null,null,null,null,null,null,null,null,"0174-2"]
["0838",null,null,null,null,null,null,null,null,null,null,null,null,null,null,null,null,null,null,null,null,null,null,null,null,null,"0175-3"]
["0839",null,null,null,null,null,null,null,null,null,null,null,null,null,null,null,null,null,null,null,null,null,null,null,null,null,"0177-1"]
["0840",null,null,null,null,null,null,null,null,null,null,null,null,null,null,null,null,null,null,null,null,null,null,null,null,null,"0178-3"]
["0841",null,null,null,null,null,null,null,null,null,null,null,null,null,null,null,null,null,null,null,null,null,null,null,null,null,"0180-6"]
["0842",null,null,null,null,null,null,null,null,null,null,null,null,null,null,null,null,null,null,null,null,null,null,null,null,null,"0181-2"]
["0843",null,null,null,null,null,null,null,null,null,null,null,null,null,null,null,null,null,null,null,null,null,null,null,null,null,"0183-4"]
["0844",null,null,null,null,null,null,null,null,null,null,null,null,null,null,null,null,null,null,null,null,null,null,null,null,null,"0187-3"]
["0845",null,null,null,null,null,null,null,null,null,null,null,null,null,null,null,null,null,null,null,null,null,null,null,null,null,"0188-2"]
["0846",null,null,null,null,null,null,null,null,null,null,null,null,null,null,null,null,null,null,null,null,null,null,null,null,null,"0193-2"]
["0847",null,null,null,null,null,null,null,null,null,null,null,null,null,null,null,null,null,null,null,null,null,null,null,null,null,"0194-3"]
["0848",null,null,null,null,null,null,null,null,null,null,null,null,null,null,null,null,null,null,null,null,null,null,null,null,null,"0195-1"]
["0849",null,null,null,null,null,null,null,null,null,null,null,null,null,null,null,null,null,null,null,null,null,null,null,null,null,"0196-1"]
["0850",null,null,null,null,null,null,null,null,null,null,null,null,null,null,null,null,null,null,null,null,null,null,null,null,null,"0200-3"]
["0851",null,null,null,null,null,null,null,null,null,null,null,null,null,null,null,null,null,null,null,null,null,null,null,null,null,"0201-3"]
["0852",null,null,null,null,null,null,null,null,null,null,null,null,null,null,null,null,null,null,null,null,null,null,null,null,null,"0202-1"]
["0853",null,null,null,null,null,null,null,null,null,null,null,null,null,null,null,null,null,null,null,null,null,null,null,null,null,"0203-1"]
["0854",null,null,null,null,null,null,null,null,null,null,null,null,null,null,null,null,null,null,null,null,null,null,null,null,null,"0204-1"]
["0855",null,null,null,null,null,null,null,null,null,null,null,null,null,null,null,null,null,null,null,null,null,null,null,null,null,"0206-1"]
["0856",null,null,null,null,null,null,null,null,null,null,null,null,null,null,null,null,null,null,null,null,null,null,null,null,null,"0208-1"]
["0857",null,null,null,null,null,null,null,null,null,null,null,null,null,null,null,null,null,null,null,null,null,null,null,null,null,"0211-2"]
["0858",null,null,null,null,null,null,null,null,null,null,null,null,null,null,null,null,null,null,null,null,null,null,null,null,null,"0212-1"]
["0859",null,null,null,null,null,null,null,null,null,null,null,null,null,null,null,null,null,null,null,null,null,null,null,null,null,"0219-1"]
["0860",null,null,null,null,null,null,null,null,null,null,null,null,null,null,null,null,null,null,null,null,null,null,null,null,null,"0220-3"]
["0861",null,null,null,null,null,null,null,null,null,null,null,null,null,null,null,null,null,null,null,null,null,null,null,null,null,"0222-1"]
["0862",null,null,null,null,null,null,null,null,null,null,null,null,null,null,null,null,null,null,null,null,null,null,null,null,null,"0226-1"]
["0863",null,null,null,null,null,null,null,null,null,null,null,null,null,null,null,null,null,null,null,null,null,null,null,null,null,"0252-1"]
["0864",null,null,null,null,null,null,null,null,null,null,null,null,null,null,null,null,null,null,null,null,null,null,null,null,null,"0253-1"]
["0865",null,null,null,null,null,null,null,null,null,null,null,null,null,null,null,null,null,null,null,null,null,null,null,null,null,"0254-1"]
["0866",null,null,null,null,null,null,null,null,null,null,null,null,null,null,null,null,null,null,null,null,null,null,null,null,null,"0255-1"]
["0867",null,null,null,null,null,null,null,null,null,null,null,null,null,null,null,null,null,null,null,null,null,null,null,null,null,"0256-1"]
["0868",null,null,null,null,null,null,null,null,null,null,null,null,null,null,null,null,null,null,null,null,null,null,null,null,null,"0258-3"]
["0869",null,null,null,null,null,null,null,null,null,null,null,null,null,null,null,null,null,null,null,null,null,null,null,null,null,"0259-3"]
["0870",null,null,null,null,null,null,null,null,null,null,null,null,null,null,null,null,null,null,null,null,null,null,null,null,null,"0260-3"]
["0871",null,null,null,null,null,null,null,null,null,null,null,null,null,null,null,null,null,null,null,null,null,null,null,null,null,"0261-3"]
["0872",null,null,null,null,null,null,null,null,null,null,null,null,null,null,null,null,null,null,null,null,null,null,null,null,null,"0263-2"]
["0873",null,null,null,null,null,null,null,null,null,null,null,null,null,null,null,null,null,null,null,null,null,null,null,null,null,"0264-4"]
["0874",null,null,null,null,null,null,null,null,null,null,null,null,null,null,null,null,null,null,null,null,null,null,null,null,null,"0265-4"]
["0875",null,null,null,null,null,null,null,null,null,null,null,null,null,null,null,null,null,null,null,null,null,null,null,null,null,"0266-1"]
["0876",null,null,null,null,null,null,null,null,null,null,null,null,null,null,null,null,null,null,null,null,null,null,null,null,null,"0267-1"]
["0877",null,null,null,null,null,null,null,null,null,null,null,null,null,null,null,null,null,null,null,null,null,null,null,null,null,"0268-4"]
["0878",null,null,null,null,null,null,null,null,null,null,null,null,null,null,null,null,null,null,null,null,null,null,null,null,null,"0269-4"]
["0879",null,null,null,null,null,null,null,null,null,null,null,null,null,null,null,null,null,null,null,null,null,null,null,null,null,"0270-4"]
["0880",null,null,null,null,null,null,null,null,null,null,null,null,null,null,null,null,null,null,null,null,null,null,null,null,null,"0271-2"]
["0881",null,null,null,null,null,null,null,null,null,null,null,null,null,null,null,null,null,null,null,null,null,null,null,null,null,"0273-1"]
["0882",null,null,null,null,null,null,null,null,null,null,null,null,null,null,null,null,null,null,null,null,null,null,null,null,null,"0274-1"]
["0883",null,null,null,null,null,null,null,null,null,null,null,null,null,null,null,null,null,null,null,null,null,null,null,null,null,"0275-3"]
["0884",null,null,null,null,null,null,null,null,null,null,null,null,null,null,null,null,null,null,null,null,null,null,null,null,null,"0276-3"]
["0885",null,null,null,null,null,null,null,null,null,null,null,null,null,null,null,null,null,null,null,null,null,null,null,null,null,"0277-3"]
["0886",null,null,null,null,null,null,null,null,null,null,null,null,null,null,null,null,null,null,null,null,null,null,null,null,null,"0278-3"]
["0887",null,null,null,null,null,null,null,null,null,null,null,null,null,null,null,null,null,null,null,null,null,null,null,null,null,"0279-2"]
["0888",null,null,null,null,null,null,null,null,null,null,null,null,null,null,null,null,null,null,null,null,null,null,null,null,null,"0280-4"]
["0889",null,null,null,null,null,null,null,null,null,null,null,null,null,null,null,null,null,null,null,null,null,null,null,null,null,"0281-4"]
["0890",null,null,null,null,null,null,null,null,null,null,null,null,null,null,null,null,null,null,null,null,null,null,null,null,null,"0282-3"]
["0891",null,null,null,null,null,null,null,null,null,null,null,null,null,null,null,null,null,null,null,null,null,null,null,null,null,"0285-3"]
["0892",null,null,null,null,null,null,null,null,null,null,null,null,null,null,null,null,null,null,null,null,null,null,null,null,null,"0286-2"]
["0893",null,null,null,null,null,null,null,null,null,null,null,null,null,null,null,null,null,null,null,null,null,null,null,null,null,"0287-3"]
["0894",null,null,null,null,null,null,null,null,null,null,null,null,null,null,null,null,null,null,null,null,null,null,null,null,null,"0288-2"]
["0895",null,null,null,null,null,null,null,null,null,null,null,null,null,null,null,null,null,null,null,null,null,null,null,null,null,"0289-2"]
["0896",null,null,null,null,null,null,null,null,null,null,null,null,null,null,null,null,null,null,null,null,null,null,null,null,null,"0304-1"]
["0897",null,null,null,null,null,null,null,null,null,null,null,null,null,null,null,null,null,null,null,null,null,null,null,null,null,"0305-1"]
["0898",null,null,null,null,null,null,null,null,null,null,null,null,null,null,null,null,null,null,null,null,null,null,null,null,null,"0307-3"]
["0899",null,null,null,null,null,null,null,null,null,null,null,null,null,null,null,null,null,null,null,null,null,null,null,null,null,"0312-1"]
["0900",null,null,null,null,null,null,null,null,null,null,null,null,null,null,null,null,null,null,null,null,null,null,null,null,null,"0313-2"]
["0901",null,null,null,null,null,null,null,null,null,null,null,null,null,null,null,null,null,null,null,null,null,null,null,null,null,"0314-1"]
["0902",null,null,null,null,null,null,null,null,null,null,null,null,null,null,null,null,null,null,null,null,null,null,null,null,null,"0315-1"]
["0903",null,null,null,null,null,null,null,null,null,null,null,null,null,null,null,null,null,null,null,null,null,null,null,null,null,"0316-2"]
["0904",null,null,null,null,null,null,null,null,null,null,null,null,null,null,null,null,null,null,null,null,null,null,null,null,null,"0317-4"]
["0905",null,null,null,null,null,null,null,null,null,null,null,null,null,null,null,null,null,null,null,null,null,null,null,null,null,"0318-2"]
["0906",null,null,null,null,null,null,null,null,null,null,null,null,null,null,null,null,null,null,null,null,null,null,null,null,null,"0319-1"]
["0907",null,null,null,null,null,null,null,null,null,null,null,null,null,null,null,null,null,null,null,null,null,null,null,null,null,"0323-2"]
["0908",null,null,null,null,null,null,null,null,null,null,null,null,null,null,null,null,null,null,null,null,null,null,null,null,null,"0324-2"]
["0909",null,null,null,null,null,null,null,null,null,null,null,null,null,null,null,null,null,null,null,null,null,null,null,null,null,"0326-5"]
["0910",null,null,null,null,null,null,null,null,null,null,null,null,null,null,null,null,null,null,null,null,null,null,null,null,null,"0327-5"]
["0911",null,null,null,null,null,null,null,null,null,null,null,null,null,null,null,null,null,null,null,null,null,null,null,null,null,"0328-2"]
["0912",null,null,null,null,null,null,null,null,null,null,null,null,null,null,null,null,null,null,null,null,null,null,null,null,null,"0329-2"]
["0913",null,null,null,null,null,null,null,null,null,null,null,null,null,null,null,null,null,null,null,null,null,null,null,null,null,"0332-2"]
["0914",null,null,null,null,null,null,null,null,null,null,null,null,null,null,null,null,null,null,null,null,null,null,null,null,null,"0343-2"]
["0915",null,null,null,null,null,null,null,null,null,null,null,null,null,null,null,null,null,null,null,null,null,null,null,null,null,"0344-1"]
["0916",null,null,null,null,null,null,null,null,null,null,null,null,null,null,null,null,null,null,null,null,null,null,null,null,null,"0345-1"]
["0917",null,null,null,null,null,null,null,null,null,null,null,null,null,null,null,null,null,null,null,null,null,null,null,null,null,"0348-1"]
["0918",null,null,null,null,null,null,null,null,null,null,null,null,null,null,null,null,null,null,null,null,null,null,null,null,null,"0351-1"]
["0919",null,null,null,null,null,null,null,null,null,null,null,null,null,null,null,null,null,null,null,null,null,null,null,null,null,"0352-2"]
["0920",null,null,null,null,null,null,null,null,null,null,null,null,null,null,null,null,null,null,null,null,null,null,null,null,null,"0353-2"]
["0921",null,null,null,null,null,null,null,null,null,null,null,null,null,null,null,null,null,null,null,null,null,null,null,null,null,"0354-1"]
["0922",null,null,null,null,null,null,null,null,null,null,null,null,null,null,null,null,null,null,null,null,null,null,null,null,null,"0355-3"]
["0923",null,null,null,null,null,null,null,null,null,null,null,null,null,null,null,null,null,null,null,null,null,null,null,null,null,"0356-2"]
["0924",null,null,null,null,null,null,null,null,null,null,null,null,null,null,null,null,null,null,null,null,null,null,null,null,null,"0357-1"]
["0925",null,null,null,null,null,null,null,null,null,null,null,null,null,null,null,null,null,null,null,null,null,null,null,null,null,"0358-2"]
["0926",null,null,null,null,null,null,null,null,null,null,null,null,null,null,null,null,null,null,null,null,null,null,null,null,null,"0360-1"]
["0927",null,null,null,null,null,null,null,null,null,null,null,null,null,null,null,null,null,null,null,null,null,null,null,null,null,"0363-1"]
["0928",null,null,null,null,null,null,null,null,null,null,null,null,null,null,null,null,null,null,null,null,null,null,null,null,null,"0364-2"]
["0929",null,null,null,null,null,null,null,null,null,null,null,null,null,null,null,null,null,null,null,null,null,null,null,null,null,"0367-2"]
["0930",null,null,null,null,null,null,null,null,null,null,null,null,null,null,null,null,null,null,null,null,null,null,null,null,null,"0369-2"]
["0931",null,null,null,null,null,null,null,null,null,null,null,null,null,null,null,null,null,null,null,null,null,null,null,null,null,"0372-1"]
["0932",null,null,null,null,null,null,null,null,null,null,null,null,null,null,null,null,null,null,null,null,null,null,null,null,null,"0374-2"]
["0933",null,null,null,null,null,null,null,null,null,null,null,null,null,null,null,null,null,null,null,null,null,null,null,null,null,"0389-2"]
["0934",null,null,null,null,null,null,null,null,null,null,null,null,null,null,null,null,null,null,null,null,null,null,null,null,null,"0390-2"]
["0935",null,null,null,null,null,null,null,null,null,null,null,null,null,null,null,null,null,null,null,null,null,null,null,null,null,"0395-1"]
["0936",null,null,null,null,null,null,null,null,null,null,null,null,null,null,null,null,null,null,null,null,null,null,null,null,null,"0396-2"]
["0937",null,null,null,null,null,null,null,null,null,null,null,null,null,null,null,null,null,null,null,null,null,null,null,null,null,"0397-1"]
["0938",null,null,null,null,null,null,null,null,null,null,null,null,null,null,null,null,null,null,null,null,null,null,null,null,null,"0398-1"]
["0939",null,null,null,null,null,null,null,null,null,null,null,null,null,null,null,null,null,null,null,null,null,null,null,null,null,"0400-1"]
["0940",null,null,null,null,null,null,null,null,null,null,null,null,null,null,null,null,null,null,null,null,null,null,null,null,null,"0401-1"]
["0941",null,null,null,null,null,null,null,null,null,null,null,null,null,null,null,null,null,null,null,null,null,null,null,null,null,"0402-2"]
["0942",null,null,null,null,null,null,null,null,null,null,null,null,null,null,null,null,null,null,null,null,null,null,null,null,null,"0404-1"]
["0943",null,null,null,null,null,null,null,null,null,null,null,null,null,null,null,null,null,null,null,null,null,null,null,null,null,"0406-1"]
["0944",null,null,null,null,null,null,null,null,null,null,null,null,null,null,null,null,null,null,null,null,null,null,null,null,null,"0407-1"]
["0945",null,null,null,null,null,null,null,null,null,null,null,null,null,null,null,null,null,null,null,null,null,null,null,null,null,"0408-1"]
["0946",null,null,null,null,null,null,null,null,null,null,null,null,null,null,null,null,null,null,null,null,null,null,null,null,null,"0410-2"]
["0947",null,null,null,null,null,null,null,null,null,null,null,null,null,null,null,null,null,null,null,null,null,null,null,null,null,"0412-1"]
["0948",null,null,null,null,null,null,null,null,null,null,null,null,null,null,null,null,null,null,null,null,null,null,null,null,null,"0413-2"]
["0949",null,null,null,null,null,null,null,null,null,null,null,null,null,null,null,null,null,null,null,null,null,null,null,null,null,"0414-1"]
["0950",null,null,null,null,null,null,null,null,null,null,null,null,null,null,null,null,null,null,null,null,null,null,null,null,null,"0416-2"]
["0951",null,null,null,null,null,null,null,null,null,null,null,null,null,null,null,null,null,null,null,null,null,null,null,null,null,"0417-1"]
["0952",null,null,null,null,null,null,null,null,null,null,null,null,null,null,null,null,null,null,null,null,null,null,null,null,null,"0418-1"]
["0953",null,null,null,null,null,null,null,null,null,null,null,null,null,null,null,null,null,null,null,null,null,null,null,null,null,"0419-3"]
["0954",null,null,null,null,null,null,null,null,null,null,null,null,null,null,null,null,null,null,null,null,null,null,null,null,null,"0425-2"]
["0955",null,null,null,null,null,null,null,null,null,null,null,null,null,null,null,null,null,null,null,null,null,null,null,null,null,"0426-1"]
["0956",null,null,null,null,null,null,null,null,null,null,null,null,null,null,null,null,null,null,null,null,null,null,null,null,null,"0429-1"]
["0957",null,null,null,null,null,null,null,null,null,null,null,null,null,null,null,null,null,null,null,null,null,null,null,null,null,"0433-1"]
["0958",null,null,null,null,null,null,null,null,null,null,null,null,null,null,null,null,null,null,null,null,null,null,null,null,null,"0441-1"]
["0959",null,null,null,null,null,null,null,null,null,null,null,null,null,null,null,null,null,null,null,null,null,null,null,null,null,"0443-1"]
["0960",null,null,null,null,null,null,null,null,null,null,null,null,null,null,null,null,null,null,null,null,null,null,null,null,null,"0444-1"]
["0961",null,null,null,null,null,null,null,null,null,null,null,null,null,null,null,null,null,null,null,null,null,null,null,null,null,"0445-1"]
["0962",null,null,null,null,null,null,null,null,null,null,null,null,null,null,null,null,null,null,null,null,null,null,null,null,null,"0446-1"]
["0963",null,null,null,null,null,null,null,null,null,null,null,null,null,null,null,null,null,null,null,null,null,null,null,null,null,"0449-2"]
["0964",null,null,null,null,null,null,null,null,null,null,null,null,null,null,null,null,null,null,null,null,null,null,null,null,null,"0453-1"]
["0965",null,null,null,null,null,null,null,null,null,null,null,null,null,null,null,null,null,null,null,null,null,null,null,null,null,"0454-2"]
["0966",null,null,null,null,null,null,null,null,null,null,null,null,null,null,null,null,null,null,null,null,null,null,null,null,null,"0455-1"]
["0967",null,null,null,null,null,null,null,null,null,null,null,null,null,null,null,null,null,null,null,null,null,null,null,null,null,"0460-1"]
["0968",null,null,null,null,null,null,null,null,null,null,null,null,null,null,null,null,null,null,null,null,null,null,null,null,null,"0461-1"]
["0969",null,null,null,null,null,null,null,null,null,null,null,null,null,null,null,null,null,null,null,null,null,null,null,null,null,"0462-1"]
["0970",null,null,null,null,null,null,null,null,null,null,null,null,null,null,null,null,null,null,null,null,null,null,null,null,null,"0465-1"]
["0971",null,null,null,null,null,null,null,null,null,null,null,null,null,null,null,null,null,null,null,null,null,null,null,null,null,"0466-1"]
["0972",null,null,null,null,null,null,null,null,null,null,null,null,null,null,null,null,null,null,null,null,null,null,null,null,null,"0467-1"]
["0973",null,null,null,null,null,null,null,null,null,null,null,null,null,null,null,null,null,null,null,null,null,null,null,null,null,"0468-1"]
["0974",null,null,null,null,null,null,null,null,null,null,null,null,null,null,null,null,null,null,null,null,null,null,null,null,null,"0469-1"]
["0975",null,null,null,null,null,null,null,null,null,null,null,null,null,null,null,null,null,null,null,null,null,null,null,null,null,"0470-1"]
["0976",null,null,null,null,null,null,null,null,null,null,null,null,null,null,null,null,null,null,null,null,null,null,null,null,null,"0471-1"]
["0977",null,null,null,null,null,null,null,null,null,null,null,null,null,null,null,null,null,null,null,null,null,null,null,null,null,"0472-1"]
["0978",null,null,null,null,null,null,null,null,null,null,null,null,null,null,null,null,null,null,null,null,null,null,null,null,null,"0473-1"]
["0979",null,null,null,null,null,null,null,null,null,null,null,null,null,null,null,null,null,null,null,null,null,null,null,null,null,"0475-3"]
["0980",null,null,null,null,null,null,null,null,null,null,null,null,null,null,null,null,null,null,null,null,null,null,null,null,null,"0478-1"]
["0981",null,null,null,null,null,null,null,null,null,null,null,null,null,null,null,null,null,null,null,null,null,null,null,null,null,"0481-1"]
["0982",null,null,null,null,null,null,null,null,null,null,null,null,null,null,null,null,null,null,null,null,null,null,null,null,null,"0483-1"]
["0983",null,null,null,null,null,null,null,null,null,null,null,null,null,null,null,null,null,null,null,null,null,null,null,null,null,"0497-1"]
["0984",null,null,null,null,null,null,null,null,null,null,null,null,null,null,null,null,null,null,null,null,null,null,null,null,null,"0498-1"]
["0985",null,null,null,null,null,null,null,null,null,null,null,null,null,null,null,null,null,null,null,null,null,null,null,null,null,"0517-1"]
["0986",null,null,null,null,null,null,null,null,null,null,null,null,null,null,null,null,null,null,null,null,null,null,null,null,null,"0524-1"]
["0987",null,null,null,null,null,null,null,null,null,null,null,null,null,null,null,null,null,null,null,null,null,null,null,null,null,"0525-1"]
["0988",null,null,null,null,null,null,null,null,null,null,null,null,null,null,null,null,null,null,null,null,null,null,null,null,null,"0526-1"]
["0989",null,null,null,null,null,null,null,null,null,null,null,null,null,null,null,null,null,null,null,null,null,null,null,null,null,"0529-2"]
["0990",null,null,null,null,null,null,null,null,null,null,null,null,null,null,null,null,null,null,null,null,null,null,null,null,null,"0531-1"]
["0991",null,null,null,null,null,null,null,null,null,null,null,null,null,null,null,null,null,null,null,null,null,null,null,null,null,"0534-1"]
["0992",null,null,null,null,null,null,null,null,null,null,null,null,null,null,null,null,null,null,null,null,null,null,null,null,null,"0535-1"]
["0993",null,null,null,null,null,null,null,null,null,null,null,null,null,null,null,null,null,null,null,null,null,null,null,null,null,"0537-1"]
["0994",null,null,null,null,null,null,null,null,null,null,null,null,null,null,null,null,null,null,null,null,null,null,null,null,null,"0540-1"]
["0995",null,null,null,null,null,null,null,null,null,null,null,null,null,null,null,null,null,null,null,null,null,null,null,null,null,"0541-1"]
["0996",null,null,null,null,null,null,null,null,null,null,null,null,null,null,null,null,null,null,null,null,null,null,null,null,null,"0542-1"]
["0997",null,null,null,null,null,null,null,null,null,null,null,null,null,null,null,null,null,null,null,null,null,null,null,null,null,"0543-4"]
["0998",null,null,null,null,null,null,null,null,null,null,null,null,null,null,null,null,null,null,null,null,null,null,null,null,null,"0544-1"]
["0999",null,null,null,null,null,null,null,null,null,null,null,null,null,null,null,null,null,null,null,null,null,null,null,null,null,"0547-1"]
["1000",null,null,null,null,null,null,null,null,null,null,null,null,null,null,null,null,null,null,null,null,null,null,null,null,null,"0550-1"]
["1001",null,null,null,null,null,null,null,null,null,null,null,null,null,null,null,null,null,null,null,null,null,null,null,null,null,"0571-2"]
["1002",null,null,null,null,null,null,null,null,null,null,null,null,null,null,null,null,null,null,null,null,null,null,null,null,null,"0601-1"]

{"sheet":"Drawing 2","index":1,"n_rows":1001,"n_cols":2,"rows_kept":1001,"cut":false,"hidden":false,"merged":[]}
["Drawing 2"]
["رقم  T.D.S ","Wire Diameter"]
[{"$f":"Table1[[#This Row],[رقم  T.D.S ]]","v":"0001-6"},0.52]
[{"$f":"Table1[[#This Row],[رقم  T.D.S ]]","v":"0002-6"},0.52]
[{"$f":"Table1[[#This Row],[رقم  T.D.S ]]","v":"0003-6"},0.52]
[{"$f":"Table1[[#This Row],[رقم  T.D.S ]]","v":"0004-6"},0.52]
[{"$f":"Table1[[#This Row],[رقم  T.D.S ]]","v":"0005-8"},0.52]
[{"$f":"Table1[[#This Row],[رقم  T.D.S ]]","v":"0006-6"},0.67]
[{"$f":"Table1[[#This Row],[رقم  T.D.S ]]","v":"0007-6"},0.67]
[{"$f":"Table1[[#This Row],[رقم  T.D.S ]]","v":"0008-6"},0.67]
[{"$f":"Table1[[#This Row],[رقم  T.D.S ]]","v":"0009-6"},0.67]
[{"$f":"Table1[[#This Row],[رقم  T.D.S ]]","v":"0010-6"},0.67]
[{"$f":"Table1[[#This Row],[رقم  T.D.S ]]","v":"0011-6"},0.84]
[{"$f":"Table1[[#This Row],[رقم  T.D.S ]]","v":"0012-6"},0.84]
[{"$f":"Table1[[#This Row],[رقم  T.D.S ]]","v":"0013-6"},0.84]
[{"$f":"Table1[[#This Row],[رقم  T.D.S ]]","v":"0014-6"},0.84]
[{"$f":"Table1[[#This Row],[رقم  T.D.S ]]","v":"0015-6"},0.84]
[{"$f":"Table1[[#This Row],[رقم  T.D.S ]]","v":"0016-5"},1.04]
[{"$f":"Table1[[#This Row],[رقم  T.D.S ]]","v":"0017-5"},1.04]
[{"$f":"Table1[[#This Row],[رقم  T.D.S ]]","v":"0018-5"},1.04]
[{"$f":"Table1[[#This Row],[رقم  T.D.S ]]","v":"0019-5"},1.04]
[{"$f":"Table1[[#This Row],[رقم  T.D.S ]]","v":"0020-5"},1.04]
[{"$f":"Table1[[#This Row],[رقم  T.D.S ]]","v":"0021-5"},0.25]
[{"$f":"Table1[[#This Row],[رقم  T.D.S ]]","v":"0022-5"},0.25]
[{"$f":"Table1[[#This Row],[رقم  T.D.S ]]","v":"0023-5"},0.25]
[{"$f":"Table1[[#This Row],[رقم  T.D.S ]]","v":"0024-4"},0.25]
[{"$f":"Table1[[#This Row],[رقم  T.D.S ]]","v":"0025-4"},0.25]
[{"$f":"Table1[[#This Row],[رقم  T.D.S ]]","v":"0026-4"},0.25]
[{"$f":"Table1[[#This Row],[رقم  T.D.S ]]","v":"0027-4"},0.25]
[{"$f":"Table1[[#This Row],[رقم  T.D.S ]]","v":"0028-4"},0.25]
[{"$f":"Table1[[#This Row],[رقم  T.D.S ]]","v":"0029-4"},0.25]
[{"$f":"Table1[[#This Row],[رقم  T.D.S ]]","v":"0030-4"},0.25]
[{"$f":"Table1[[#This Row],[رقم  T.D.S ]]","v":"0031-4"},0.3]
[{"$f":"Table1[[#This Row],[رقم  T.D.S ]]","v":"0032-4"},0.3]
[{"$f":"Table1[[#This Row],[رقم  T.D.S ]]","v":"0033-4"},0.3]
[{"$f":"Table1[[#This Row],[رقم  T.D.S ]]","v":"0034-3"},0.3]
[{"$f":"Table1[[#This Row],[رقم  T.D.S ]]","v":"0035-3"},0.3]
[{"$f":"Table1[[#This Row],[رقم  T.D.S ]]","v":"0036-5"},0.3]
[{"$f":"Table1[[#This Row],[رقم  T.D.S ]]","v":"0037-5"},0.3]
[{"$f":"Table1[[#This Row],[رقم  T.D.S ]]","v":"0038-5"},0.3]
[{"$f":"Table1[[#This Row],[رقم  T.D.S ]]","v":"0039-4"},0.3]
[{"$f":"Table1[[#This Row],[رقم  T.D.S ]]","v":"0040-4"},0.3]
[{"$f":"Table1[[#This Row],[رقم  T.D.S ]]","v":"0041-3"},0.2]
[{"$f":"Table1[[#This Row],[رقم  T.D.S ]]","v":"0042-2"},0.2]
[{"$f":"Table1[[#This Row],[رقم  T.D.S ]]","v":"0043-4"},0.2]
[{"$f":"Table1[[#This Row],[رقم  T.D.S ]]","v":"0044-4"},0.25]
[{"$f":"Table1[[#This Row],[رقم  T.D.S ]]","v":"0045-4"},0.2]
[{"$f":"Table1[[#This Row],[رقم  T.D.S ]]","v":"0046-3"},0.2]
[{"$f":"Table1[[#This Row],[رقم  T.D.S ]]","v":"0047-5"},0.2]
[{"$f":"Table1[[#This Row],[رقم  T.D.S ]]","v":"0048-6"},0.25]
[{"$f":"Table1[[#This Row],[رقم  T.D.S ]]","v":"0049-5"},0.2]
[{"$f":"Table1[[#This Row],[رقم  T.D.S ]]","v":"0050-6"},0.25]
[{"$f":"Table1[[#This Row],[رقم  T.D.S ]]","v":"0051-6"},0.25]
[{"$f":"Table1[[#This Row],[رقم  T.D.S ]]","v":"0052-5"},0.3]
[{"$f":"Table1[[#This Row],[رقم  T.D.S ]]","v":"0053-5"},0.3]
[{"$f":"Table1[[#This Row],[رقم  T.D.S ]]","v":"0054-5"},0.25]
[{"$f":"Table1[[#This Row],[رقم  T.D.S ]]","v":"0055-5"},0.25]
[{"$f":"Table1[[#This Row],[رقم  T.D.S ]]","v":"0056-5"},0.3]
[{"$f":"Table1[[#This Row],[رقم  T.D.S ]]","v":"0057-5"},0.25]
[{"$f":"Table1[[#This Row],[رقم  T.D.S ]]","v":"0058-6"},0.25]
[{"$f":"Table1[[#This Row],[رقم  T.D.S ]]","v":"0059-5"},0.3]
[{"$f":"Table1[[#This Row],[رقم  T.D.S ]]","v":"0060-5"},1.04]
[{"$f":"Table1[[#This Row],[رقم  T.D.S ]]","v":"0061-2"},1.43]
[{"$f":"Table1[[#This Row],[رقم  T.D.S ]]","v":"0062-7"},1.04]
[{"$f":"Table1[[#This Row],[رقم  T.D.S ]]","v":"0063-6"}]
[{"$f":"Table1[[#This Row],[رقم  T.D.S ]]","v":"0064-7"},1.75]
[{"$f":"Table1[[#This Row],[رقم  T.D.S ]]","v":"0065-6"},0.73]
[{"$f":"Table1[[#This Row],[رقم  T.D.S ]]","v":"0066-6"},0.73]
[{"$f":"Table1[[#This Row],[رقم  T.D.S ]]","v":"0067-6"},0.73]
[{"$f":"Table1[[#This Row],[رقم  T.D.S ]]","v":"0068-6"},0.73]
[{"$f":"Table1[[#This Row],[رقم  T.D.S ]]","v":"0069-6"},0.73]
[{"$f":"Table1[[#This Row],[رقم  T.D.S ]]","v":"0070-3"},0.2]
[{"$f":"Table1[[#This Row],[رقم  T.D.S ]]","v":"0071-3"}]
[{"$f":"Table1[[#This Row],[رقم  T.D.S ]]","v":"0072"}]
[{"$f":"Table1[[#This Row],[رقم  T.D.S ]]","v":"0073"}]
[{"$f":"Table1[[#This Row],[رقم  T.D.S ]]","v":"0074-3"}]
[{"$f":"Table1[[#This Row],[رقم  T.D.S ]]","v":"0075-1"},0.3]
[{"$f":"Table1[[#This Row],[رقم  T.D.S ]]","v":"0076-3"},0.42]
[{"$f":"Table1[[#This Row],[رقم  T.D.S ]]","v":"0077-3"},0.42]
[{"$f":"Table1[[#This Row],[رقم  T.D.S ]]","v":"0078-3"},0.42]
[{"$f":"Table1[[#This Row],[رقم  T.D.S ]]","v":"0079-3"},0.42]
[{"$f":"Table1[[#This Row],[رقم  T.D.S ]]","v":"0080-2"},0.42]
[{"$f":"Table1[[#This Row],[رقم  T.D.S ]]","v":"0081-4"},0.2]
[{"$f":"Table1[[#This Row],[رقم  T.D.S ]]","v":"0082-4"},0.2]
[{"$f":"Table1[[#This Row],[رقم  T.D.S ]]","v":"0083-4"},0.2]
[{"$f":"Table1[[#This Row],[رقم  T.D.S ]]","v":"0084-4"},0.2]
[{"$f":"Table1[[#This Row],[رقم  T.D.S ]]","v":"0085-4"},0.2]
[{"$f":"Table1[[#This Row],[رقم  T.D.S ]]","v":"0086-4"},0.4]
[{"$f":"Table1[[#This Row],[رقم  T.D.S ]]","v":"0087-4"},0.4]
[{"$f":"Table1[[#This Row],[رقم  T.D.S ]]","v":"0088-3"},0.4]
[{"$f":"Table1[[#This Row],[رقم  T.D.S ]]","v":"0089-4"},0.4]
[{"$f":"Table1[[#This Row],[رقم  T.D.S ]]","v":"0090-5"},1.43]
[{"$f":"Table1[[#This Row],[رقم  T.D.S ]]","v":"0091-5"},2.2200000000000002]
[{"$f":"Table1[[#This Row],[رقم  T.D.S ]]","v":"0092-1"},0.4]
[{"$f":"Table1[[#This Row],[رقم  T.D.S ]]","v":"0093-5"},0.73]
[{"$f":"Table1[[#This Row],[رقم  T.D.S ]]","v":"0094-5"},0.73]
[{"$f":"Table1[[#This Row],[رقم  T.D.S ]]","v":"0095-5"},0.67]
[{"$f":"Table1[[#This Row],[رقم  T.D.S ]]","v":"0096-5"},0.67]
[{"$f":"Table1[[#This Row],[رقم  T.D.S ]]","v":"0097-5"},0.84]
[{"$f":"Table1[[#This Row],[رقم  T.D.S ]]","v":"0098-5"},0.84]
[{"$f":"Table1[[#This Row],[رقم  T.D.S ]]","v":"0099-4"},1.04]
[{"$f":"Table1[[#This Row],[رقم  T.D.S ]]","v":"0100-4"},1.04]
[{"$f":"Table1[[#This Row],[رقم  T.D.S ]]","v":"0101-2"},0.25]
[{"$f":"Table1[[#This Row],[رقم  T.D.S ]]","v":"0102-3"},0.25]
[{"$f":"Table1[[#This Row],[رقم  T.D.S ]]","v":"0103-2"},0.25]
[{"$f":"Table1[[#This Row],[رقم  T.D.S ]]","v":"0104-2"},0.25]
[{"$f":"Table1[[#This Row],[رقم  T.D.S ]]","v":"0105-4"},0.2]
[{"$f":"Table1[[#This Row],[رقم  T.D.S ]]","v":"0106-3"},0.3]
[{"$f":"Table1[[#This Row],[رقم  T.D.S ]]","v":"0107-5"},0.3]
[{"$f":"Table1[[#This Row],[رقم  T.D.S ]]","v":"0108-5"},0.5]
[{"$f":"Table1[[#This Row],[رقم  T.D.S ]]","v":"0109-5"},0.5]
[{"$f":"Table1[[#This Row],[رقم  T.D.S ]]","v":"0110-4"},0.5]
[{"$f":"Table1[[#This Row],[رقم  T.D.S ]]","v":"0111-2"}]
[{"$f":"Table1[[#This Row],[رقم  T.D.S ]]","v":"0112-1"},0.4]
[{"$f":"Table1[[#This Row],[رقم  T.D.S ]]","v":"0113"}]
[{"$f":"Table1[[#This Row],[رقم  T.D.S ]]","v":"0114-1"}]
[{"$f":"Table1[[#This Row],[رقم  T.D.S ]]","v":"0115"}]
[{"$f":"Table1[[#This Row],[رقم  T.D.S ]]","v":"0116"}]
[{"$f":"Table1[[#This Row],[رقم  T.D.S ]]","v":"0117-1"}]
[{"$f":"Table1[[#This Row],[رقم  T.D.S ]]","v":"0118-1"}]
[{"$f":"Table1[[#This Row],[رقم  T.D.S ]]","v":"0119-2"},0.4]
[{"$f":"Table1[[#This Row],[رقم  T.D.S ]]","v":"0120-2"},0.4]
[{"$f":"Table1[[#This Row],[رقم  T.D.S ]]","v":"0121"},0.4]
[{"$f":"Table1[[#This Row],[رقم  T.D.S ]]","v":"0122"},0.4]
[{"$f":"Table1[[#This Row],[رقم  T.D.S ]]","v":"0123"},0.4]
[{"$f":"Table1[[#This Row],[رقم  T.D.S ]]","v":"0124-2"},0.4]
[{"$f":"Table1[[#This Row],[رقم  T.D.S ]]","v":"0125"},0.4]
[{"$f":"Table1[[#This Row],[رقم  T.D.S ]]","v":"0126"},0.4]
[{"$f":"Table1[[#This Row],[رقم  T.D.S ]]","v":"0127"},0.4]
[{"$f":"Table1[[#This Row],[رقم  T.D.S ]]","v":"0128-1"},0.4]
[{"$f":"Table1[[#This Row],[رقم  T.D.S ]]","v":"0129-5"}]
[{"$f":"Table1[[#This Row],[رقم  T.D.S ]]","v":"0130-4"}]
[{"$f":"Table1[[#This Row],[رقم  T.D.S ]]","v":"0131-3"}]
[{"$f":"Table1[[#This Row],[رقم  T.D.S ]]","v":"0132-4"}]
[{"$f":"Table1[[#This Row],[رقم  T.D.S ]]","v":"0133"}]
[{"$f":"Table1[[#This Row],[رقم  T.D.S ]]","v":"0134-2"}]
[{"$f":"Table1[[#This Row],[رقم  T.D.S ]]","v":"0135-4"},0.5]
[{"$f":"Table1[[#This Row],[رقم  T.D.S ]]","v":"0136-4"},0.5]
[{"$f":"Table1[[#This Row],[رقم  T.D.S ]]","v":"0137-4"},0.5]
[{"$f":"Table1[[#This Row],[رقم  T.D.S ]]","v":"0138"},0.4]
[{"$f":"Table1[[#This Row],[رقم  T.D.S ]]","v":"0139-1"},0.4]
[{"$f":"Table1[[#This Row],[رقم  T.D.S ]]","v":"0140"},0.4]
[{"$f":"Table1[[#This Row],[رقم  T.D.S ]]","v":"0141"},0.4]
[{"$f":"Table1[[#This Row],[رقم  T.D.S ]]","v":"0142"}]
[{"$f":"Table1[[#This Row],[رقم  T.D.S ]]","v":"0143"}]
[{"$f":"Table1[[#This Row],[رقم  T.D.S ]]","v":"0144"},0.52]
[{"$f":"Table1[[#This Row],[رقم  T.D.S ]]","v":"0145-3"},0.2]
[{"$f":"Table1[[#This Row],[رقم  T.D.S ]]","v":"0146-3"},0.2]
[{"$f":"Table1[[#This Row],[رقم  T.D.S ]]","v":"0147-3"},0.2]
[{"$f":"Table1[[#This Row],[رقم  T.D.S ]]","v":"0148-2"},0.2]
[{"$f":"Table1[[#This Row],[رقم  T.D.S ]]","v":"0149-3"}]
[{"$f":"Table1[[#This Row],[رقم  T.D.S ]]","v":"0150-3"}]
[{"$f":"Table1[[#This Row],[رقم  T.D.S ]]","v":"0151-3"},0.3]
[{"$f":"Table1[[#This Row],[رقم  T.D.S ]]","v":"0152-2"},0.3]
[{"$f":"Table1[[#This Row],[رقم  T.D.S ]]","v":"0153-3"},0.52]
[{"$f":"Table1[[#This Row],[رقم  T.D.S ]]","v":"0154-5"},0.84]
[{"$f":"Table1[[#This Row],[رقم  T.D.S ]]","v":"0155-2"}]
[{"$f":"Table1[[#This Row],[رقم  T.D.S ]]","v":"0156-1"},0.4]
[{"$f":"Table1[[#This Row],[رقم  T.D.S ]]","v":"0157-3"},0.52]
[{"$f":"Table1[[#This Row],[رقم  T.D.S ]]","v":"0158-2"},0.25]
[{"$f":"Table1[[#This Row],[رقم  T.D.S ]]","v":"0159-3"},0.52]
[{"$f":"Table1[[#This Row],[رقم  T.D.S ]]","v":"0160-3"},0.67]
[{"$f":"Table1[[#This Row],[رقم  T.D.S ]]","v":"0161-3"},0.67]
[{"$f":"Table1[[#This Row],[رقم  T.D.S ]]","v":"0162-3"},0.67]
[{"$f":"Table1[[#This Row],[رقم  T.D.S ]]","v":"0163"}]
[{"$f":"Table1[[#This Row],[رقم  T.D.S ]]","v":"0164-1"},0.5]
[{"$f":"Table1[[#This Row],[رقم  T.D.S ]]","v":"0165-3"},1.04]
[{"$f":"Table1[[#This Row],[رقم  T.D.S ]]","v":"0166"},0.25]
[{"$f":"Table1[[#This Row],[رقم  T.D.S ]]","v":"0167-3"},0.2]
[{"$f":"Table1[[#This Row],[رقم  T.D.S ]]","v":"0168-3"},0.5]
[{"$f":"Table1[[#This Row],[رقم  T.D.S ]]","v":"0169-2"}]
[{"$f":"Table1[[#This Row],[رقم  T.D.S ]]","v":"0170-1"}]
[{"$f":"Table1[[#This Row],[رقم  T.D.S ]]","v":"0171-3"}]
[{"$f":"Table1[[#This Row],[رقم  T.D.S ]]","v":"0172"}]
[{"$f":"Table1[[#This Row],[رقم  T.D.S ]]","v":"0173-2"}]
[{"$f":"Table1[[#This Row],[رقم  T.D.S ]]","v":"0174-2"}]
[{"$f":"Table1[[#This Row],[رقم  T.D.S ]]","v":"0175-3"}]
[{"$f":"Table1[[#This Row],[رقم  T.D.S ]]","v":"0176"},0.4]
[{"$f":"Table1[[#This Row],[رقم  T.D.S ]]","v":"0177-1"}]
[{"$f":"Table1[[#This Row],[رقم  T.D.S ]]","v":"0178-3"},0.4]
[{"$f":"Table1[[#This Row],[رقم  T.D.S ]]","v":"0179"},0.25]
[{"$f":"Table1[[#This Row],[رقم  T.D.S ]]","v":"0180-6"},0.25]
[{"$f":"Table1[[#This Row],[رقم  T.D.S ]]","v":"0181-2"},0.25]
[{"$f":"Table1[[#This Row],[رقم  T.D.S ]]","v":"0182"},0.25]
[{"$f":"Table1[[#This Row],[رقم  T.D.S ]]","v":"0183-4"},0.25]
[{"$f":"Table1[[#This Row],[رقم  T.D.S ]]","v":"0184"},2.25]
[{"$f":"Table1[[#This Row],[رقم  T.D.S ]]","v":"0185"},0.2]
[{"$f":"Table1[[#This Row],[رقم  T.D.S ]]","v":"0186"},0.2]
[{"$f":"Table1[[#This Row],[رقم  T.D.S ]]","v":"0187-3"},0.2]
[{"$f":"Table1[[#This Row],[رقم  T.D.S ]]","v":"0188-2"},0.2]
[{"$f":"Table1[[#This Row],[رقم  T.D.S ]]","v":"0189"},0.4]
[{"$f":"Table1[[#This Row],[رقم  T.D.S ]]","v":"0190"},0.4]
[{"$f":"Table1[[#This Row],[رقم  T.D.S ]]","v":"0191"},0.25]
[{"$f":"Table1[[#This Row],[رقم  T.D.S ]]","v":"0192"},0.3]
[{"$f":"Table1[[#This Row],[رقم  T.D.S ]]","v":"0193-2"}]
[{"$f":"Table1[[#This Row],[رقم  T.D.S ]]","v":"0194-3"}]
[{"$f":"Table1[[#This Row],[رقم  T.D.S ]]","v":"0195-1"},1.04]
[{"$f":"Table1[[#This Row],[رقم  T.D.S ]]","v":"0196-1"}]
[{"$f":"Table1[[#This Row],[رقم  T.D.S ]]","v":"0197"}]
[{"$f":"Table1[[#This Row],[رقم  T.D.S ]]","v":"0198"}]
[{"$f":"Table1[[#This Row],[رقم  T.D.S ]]","v":"0199"},0.5]
[{"$f":"Table1[[#This Row],[رقم  T.D.S ]]","v":"0200-3"},0.52]
[{"$f":"Table1[[#This Row],[رقم  T.D.S ]]","v":"0201-3"},0.52]
[{"$f":"Table1[[#This Row],[رقم  T.D.S ]]","v":"0202-1"}]
[{"$f":"Table1[[#This Row],[رقم  T.D.S ]]","v":"0203-1"}]
[{"$f":"Table1[[#This Row],[رقم  T.D.S ]]","v":"0204-1"}]
[{"$f":"Table1[[#This Row],[رقم  T.D.S ]]","v":"0205"}]
[{"$f":"Table1[[#This Row],[رقم  T.D.S ]]","v":"0206-1"}]
[{"$f":"Table1[[#This Row],[رقم  T.D.S ]]","v":"0207"}]
[{"$f":"Table1[[#This Row],[رقم  T.D.S ]]","v":"0208-1"}]
[{"$f":"Table1[[#This Row],[رقم  T.D.S ]]","v":"0209"},0.4]
[{"$f":"Table1[[#This Row],[رقم  T.D.S ]]","v":"0210"},0.4]
[{"$f":"Table1[[#This Row],[رقم  T.D.S ]]","v":"0211-2"},0.4]
[{"$f":"Table1[[#This Row],[رقم  T.D.S ]]","v":"0212-1"},0.4]
[{"$f":"Table1[[#This Row],[رقم  T.D.S ]]","v":"0213"},0.2]
[{"$f":"Table1[[#This Row],[رقم  T.D.S ]]","v":"0214"},0.25]
[{"$f":"Table1[[#This Row],[رقم  T.D.S ]]","v":"0215"},0.25]
[{"$f":"Table1[[#This Row],[رقم  T.D.S ]]","v":"0216"},0.3]
[{"$f":"Table1[[#This Row],[رقم  T.D.S ]]","v":"0217"},0.3]
[{"$f":"Table1[[#This Row],[رقم  T.D.S ]]","v":"0218"},0.3]
[{"$f":"Table1[[#This Row],[رقم  T.D.S ]]","v":"0219-1"}]
[{"$f":"Table1[[#This Row],[رقم  T.D.S ]]","v":"0220-3"}]
[{"$f":"Table1[[#This Row],[رقم  T.D.S ]]","v":"0221"}]
[{"$f":"Table1[[#This Row],[رقم  T.D.S ]]","v":"0222-1"}]
[{"$f":"Table1[[#This Row],[رقم  T.D.S ]]","v":"0223"}]
[{"$f":"Table1[[#This Row],[رقم  T.D.S ]]","v":"0224"},0.3]
[{"$f":"Table1[[#This Row],[رقم  T.D.S ]]","v":"0225"}]
[{"$f":"Table1[[#This Row],[رقم  T.D.S ]]","v":"0226-1"},0.3]
[{"$f":"Table1[[#This Row],[رقم  T.D.S ]]","v":"0227"},0.3]
[{"$f":"Table1[[#This Row],[رقم  T.D.S ]]","v":"0228"}]
[{"$f":"Table1[[#This Row],[رقم  T.D.S ]]","v":"0229"}]
[{"$f":"Table1[[#This Row],[رقم  T.D.S ]]","v":"0230"}]
[{"$f":"Table1[[#This Row],[رقم  T.D.S ]]","v":"0231"}]
[{"$f":"Table1[[#This Row],[رقم  T.D.S ]]","v":"0232"},0.67]
[{"$f":"Table1[[#This Row],[رقم  T.D.S ]]","v":"0233"}]
[{"$f":"Table1[[#This Row],[رقم  T.D.S ]]","v":"0234"}]
[{"$f":"Table1[[#This Row],[رقم  T.D.S ]]","v":"0235"}]
[{"$f":"Table1[[#This Row],[رقم  T.D.S ]]","v":"0236"},1.04]
[{"$f":"Table1[[#This Row],[رقم  T.D.S ]]","v":"0237"},0.84]
[{"$f":"Table1[[#This Row],[رقم  T.D.S ]]","v":"0238"},0.67]
[{"$f":"Table1[[#This Row],[رقم  T.D.S ]]","v":"0239"}]
[{"$f":"Table1[[#This Row],[رقم  T.D.S ]]","v":"0240"}]
[{"$f":"Table1[[#This Row],[رقم  T.D.S ]]","v":"0241"}]
[{"$f":"Table1[[#This Row],[رقم  T.D.S ]]","v":"0242"}]
[{"$f":"Table1[[#This Row],[رقم  T.D.S ]]","v":"0243"},1.04]
[{"$f":"Table1[[#This Row],[رقم  T.D.S ]]","v":"0244"}]
[{"$f":"Table1[[#This Row],[رقم  T.D.S ]]","v":"0245"}]
[{"$f":"Table1[[#This Row],[رقم  T.D.S ]]","v":"0246"}]
[{"$f":"Table1[[#This Row],[رقم  T.D.S ]]","v":"0247"},0.67]
[{"$f":"Table1[[#This Row],[رقم  T.D.S ]]","v":"0248"},0.84]
[{"$f":"Table1[[#This Row],[رقم  T.D.S ]]","v":"0249"},0.52]
[{"$f":"Table1[[#This Row],[رقم  T.D.S ]]","v":"0250"}]
[{"$f":"Table1[[#This Row],[رقم  T.D.S ]]","v":"0251"},0.84]
[{"$f":"Table1[[#This Row],[رقم  T.D.S ]]","v":"0252-1"},0.67]
[{"$f":"Table1[[#This Row],[رقم  T.D.S ]]","v":"0253-1"},0.52]
[{"$f":"Table1[[#This Row],[رقم  T.D.S ]]","v":"0254-1"},0.84]
[{"$f":"Table1[[#This Row],[رقم  T.D.S ]]","v":"0255-1"}]
[{"$f":"Table1[[#This Row],[رقم  T.D.S ]]","v":"0256-1"},0.84]
[{"$f":"Table1[[#This Row],[رقم  T.D.S ]]","v":"0257"}]
[{"$f":"Table1[[#This Row],[رقم  T.D.S ]]","v":"0258-3"},0.52]
[{"$f":"Table1[[#This Row],[رقم  T.D.S ]]","v":"0259-3"},0.52]
[{"$f":"Table1[[#This Row],[رقم  T.D.S ]]","v":"0260-3"},0.67]
[{"$f":"Table1[[#This Row],[رقم  T.D.S ]]","v":"0261-3"},0.67]
[{"$f":"Table1[[#This Row],[رقم  T.D.S ]]","v":"0262"},0.67]
[{"$f":"Table1[[#This Row],[رقم  T.D.S ]]","v":"0263-2"},0.84]
[{"$f":"Table1[[#This Row],[رقم  T.D.S ]]","v":"0264-4"},0.84]
[{"$f":"Table1[[#This Row],[رقم  T.D.S ]]","v":"0265-4"},0.67]
[{"$f":"Table1[[#This Row],[رقم  T.D.S ]]","v":"0266-1"}]
[{"$f":"Table1[[#This Row],[رقم  T.D.S ]]","v":"0267-1"}]
[{"$f":"Table1[[#This Row],[رقم  T.D.S ]]","v":"0268-4"},0.73]
[{"$f":"Table1[[#This Row],[رقم  T.D.S ]]","v":"0269-4"},0.73]
[{"$f":"Table1[[#This Row],[رقم  T.D.S ]]","v":"0270-4"},0.73]
[{"$f":"Table1[[#This Row],[رقم  T.D.S ]]","v":"0271-2"},0.84]
[{"$f":"Table1[[#This Row],[رقم  T.D.S ]]","v":"0272"},0.84]
[{"$f":"Table1[[#This Row],[رقم  T.D.S ]]","v":"0273-1"},0.84]
[{"$f":"Table1[[#This Row],[رقم  T.D.S ]]","v":"0274-1"},1.04]
[{"$f":"Table1[[#This Row],[رقم  T.D.S ]]","v":"0275-3"},0.5]
[{"$f":"Table1[[#This Row],[رقم  T.D.S ]]","v":"0276-3"},0.5]
[{"$f":"Table1[[#This Row],[رقم  T.D.S ]]","v":"0277-3"},0.25]
[{"$f":"Table1[[#This Row],[رقم  T.D.S ]]","v":"0278-3"},0.25]
[{"$f":"Table1[[#This Row],[رقم  T.D.S ]]","v":"0279-2"},0.25]
[{"$f":"Table1[[#This Row],[رقم  T.D.S ]]","v":"0280-4"},0.25]
[{"$f":"Table1[[#This Row],[رقم  T.D.S ]]","v":"0281-4"},0.25]
[{"$f":"Table1[[#This Row],[رقم  T.D.S ]]","v":"0282-3"},0.25]
[{"$f":"Table1[[#This Row],[رقم  T.D.S ]]","v":"0283"},0.25]
[{"$f":"Table1[[#This Row],[رقم  T.D.S ]]","v":"0284"},0.25]
[{"$f":"Table1[[#This Row],[رقم  T.D.S ]]","v":"0285-3"},0.67]
[{"$f":"Table1[[#This Row],[رقم  T.D.S ]]","v":"0286-2"}]
[{"$f":"Table1[[#This Row],[رقم  T.D.S ]]","v":"0287-3"}]
[{"$f":"Table1[[#This Row],[رقم  T.D.S ]]","v":"0288-2"}]
[{"$f":"Table1[[#This Row],[رقم  T.D.S ]]","v":"0289-2"},0.52]
[{"$f":"Table1[[#This Row],[رقم  T.D.S ]]","v":"0290"},0.67]
[{"$f":"Table1[[#This Row],[رقم  T.D.S ]]","v":"0291"},0.74]
[{"$f":"Table1[[#This Row],[رقم  T.D.S ]]","v":"0292"},0.84]
[{"$f":"Table1[[#This Row],[رقم  T.D.S ]]","v":"0293"},1.03]
[{"$f":"Table1[[#This Row],[رقم  T.D.S ]]","v":"0294"},0.27]
[{"$f":"Table1[[#This Row],[رقم  T.D.S ]]","v":"0295"},0.27]
[{"$f":"Table1[[#This Row],[رقم  T.D.S ]]","v":"0296"},0.3]
[{"$f":"Table1[[#This Row],[رقم  T.D.S ]]","v":"0297"},0.3]
[{"$f":"Table1[[#This Row],[رقم  T.D.S ]]","v":"0298"},0.48]
[{"$f":"Table1[[#This Row],[رقم  T.D.S ]]","v":"0299"},0.62]
[{"$f":"Table1[[#This Row],[رقم  T.D.S ]]","v":"0300"},0.7]
[{"$f":"Table1[[#This Row],[رقم  T.D.S ]]","v":"0301"},0.8]
[{"$f":"Table1[[#This Row],[رقم  T.D.S ]]","v":"0302"},1]
[{"$f":"Table1[[#This Row],[رقم  T.D.S ]]","v":"0303"}]
[{"$f":"Table1[[#This Row],[رقم  T.D.S ]]","v":"0304-1"}]
[{"$f":"Table1[[#This Row],[رقم  T.D.S ]]","v":"0305-1"}]
[{"$f":"Table1[[#This Row],[رقم  T.D.S ]]","v":"0306"},0.25]
[{"$f":"Table1[[#This Row],[رقم  T.D.S ]]","v":"0307-3"},2.1800000000000002]
[{"$f":"Table1[[#This Row],[رقم  T.D.S ]]","v":"0308"},0.67]
[{"$f":"Table1[[#This Row],[رقم  T.D.S ]]","v":"0309"}]
[{"$f":"Table1[[#This Row],[رقم  T.D.S ]]","v":"0310"},0.3]
[{"$f":"Table1[[#This Row],[رقم  T.D.S ]]","v":"0311"}]
[{"$f":"Table1[[#This Row],[رقم  T.D.S ]]","v":"0312-1"}]
[{"$f":"Table1[[#This Row],[رقم  T.D.S ]]","v":"0313-2"}]
[{"$f":"Table1[[#This Row],[رقم  T.D.S ]]","v":"0314-1"}]
[{"$f":"Table1[[#This Row],[رقم  T.D.S ]]","v":"0315-1"}]
[{"$f":"Table1[[#This Row],[رقم  T.D.S ]]","v":"0316-2"}]
[{"$f":"Table1[[#This Row],[رقم  T.D.S ]]","v":"0317-4"}]
[{"$f":"Table1[[#This Row],[رقم  T.D.S ]]","v":"0318-2"}]
[{"$f":"Table1[[#This Row],[رقم  T.D.S ]]","v":"0319-1"},0.42]
[{"$f":"Table1[[#This Row],[رقم  T.D.S ]]","v":"0320"},1.86]
[{"$f":"Table1[[#This Row],[رقم  T.D.S ]]","v":"0321"}]
[{"$f":"Table1[[#This Row],[رقم  T.D.S ]]","v":"0322"},2.65]
[{"$f":"Table1[[#This Row],[رقم  T.D.S ]]","v":"0323-2"}]
[{"$f":"Table1[[#This Row],[رقم  T.D.S ]]","v":"0324-2"}]
[{"$f":"Table1[[#This Row],[رقم  T.D.S ]]","v":"0325"}]
[{"$f":"Table1[[#This Row],[رقم  T.D.S ]]","v":"0326-5"},0.73]
[{"$f":"Table1[[#This Row],[رقم  T.D.S ]]","v":"0327-5"},0.73]
[{"$f":"Table1[[#This Row],[رقم  T.D.S ]]","v":"0328-2"},0.25]
[{"$f":"Table1[[#This Row],[رقم  T.D.S ]]","v":"0329-2"},0.4]
[{"$f":"Table1[[#This Row],[رقم  T.D.S ]]","v":"0330"},0.3]
[{"$f":"Table1[[#This Row],[رقم  T.D.S ]]","v":"0331"},0.3]
[{"$f":"Table1[[#This Row],[رقم  T.D.S ]]","v":"0332-2"},0.3]
[{"$f":"Table1[[#This Row],[رقم  T.D.S ]]","v":"0333"},0.3]
[{"$f":"Table1[[#This Row],[رقم  T.D.S ]]","v":"0334"},0.3]
[{"$f":"Table1[[#This Row],[رقم  T.D.S ]]","v":"0335"},0.3]
[{"$f":"Table1[[#This Row],[رقم  T.D.S ]]","v":"0336"},0.3]
[{"$f":"Table1[[#This Row],[رقم  T.D.S ]]","v":"0337"},0.3]
[{"$f":"Table1[[#This Row],[رقم  T.D.S ]]","v":"0338"},0.42]
[{"$f":"Table1[[#This Row],[رقم  T.D.S ]]","v":"0339"},0.73]
[{"$f":"Table1[[#This Row],[رقم  T.D.S ]]","v":"0340"},1.04]
[{"$f":"Table1[[#This Row],[رقم  T.D.S ]]","v":"0341"},0.67]
[{"$f":"Table1[[#This Row],[رقم  T.D.S ]]","v":"0342"},0.84]
[{"$f":"Table1[[#This Row],[رقم  T.D.S ]]","v":"0343-2"},0.2]
[{"$f":"Table1[[#This Row],[رقم  T.D.S ]]","v":"0344-1"},0.84]
[{"$f":"Table1[[#This Row],[رقم  T.D.S ]]","v":"0345-1"},0.84]
[{"$f":"Table1[[#This Row],[رقم  T.D.S ]]","v":"0346"},1.04]
[{"$f":"Table1[[#This Row],[رقم  T.D.S ]]","v":"0347"},1.04]
[{"$f":"Table1[[#This Row],[رقم  T.D.S ]]","v":"0348-1"},0.84]
[{"$f":"Table1[[#This Row],[رقم  T.D.S ]]","v":"0349"},0.3]
[{"$f":"Table1[[#This Row],[رقم  T.D.S ]]","v":"0350"},0.25]
[{"$f":"Table1[[#This Row],[رقم  T.D.S ]]","v":"0351-1"},0.25]
[{"$f":"Table1[[#This Row],[رقم  T.D.S ]]","v":"0352-2"}]
[{"$f":"Table1[[#This Row],[رقم  T.D.S ]]","v":"0353-2"}]
[{"$f":"Table1[[#This Row],[رقم  T.D.S ]]","v":"0354-1"}]
[{"$f":"Table1[[#This Row],[رقم  T.D.S ]]","v":"0355-3"}]
[{"$f":"Table1[[#This Row],[رقم  T.D.S ]]","v":"0356-2"}]
[{"$f":"Table1[[#This Row],[رقم  T.D.S ]]","v":"0357-1"}]
[{"$f":"Table1[[#This Row],[رقم  T.D.S ]]","v":"0358-2"}]
[{"$f":"Table1[[#This Row],[رقم  T.D.S ]]","v":"0359"}]
[{"$f":"Table1[[#This Row],[رقم  T.D.S ]]","v":"0360-1"}]
[{"$f":"Table1[[#This Row],[رقم  T.D.S ]]","v":"0361"}]
[{"$f":"Table1[[#This Row],[رقم  T.D.S ]]","v":"0362"}]
[{"$f":"Table1[[#This Row],[رقم  T.D.S ]]","v":"0363-1"}]
[{"$f":"Table1[[#This Row],[رقم  T.D.S ]]","v":"0364-2"}]
[{"$f":"Table1[[#This Row],[رقم  T.D.S ]]","v":"0365"}]
[{"$f":"Table1[[#This Row],[رقم  T.D.S ]]","v":"0366"}]
[{"$f":"Table1[[#This Row],[رقم  T.D.S ]]","v":"0367-2"}]
[{"$f":"Table1[[#This Row],[رقم  T.D.S ]]","v":"0368"}]
[{"$f":"Table1[[#This Row],[رقم  T.D.S ]]","v":"0369-2"},0.84]
[{"$f":"Table1[[#This Row],[رقم  T.D.S ]]","v":"0370"}]
[{"$f":"Table1[[#This Row],[رقم  T.D.S ]]","v":"0371"}]
[{"$f":"Table1[[#This Row],[رقم  T.D.S ]]","v":"0372-1"}]
[{"$f":"Table1[[#This Row],[رقم  T.D.S ]]","v":"0373"}]
[{"$f":"Table1[[#This Row],[رقم  T.D.S ]]","v":"0374-2"}]
[{"$f":"Table1[[#This Row],[رقم  T.D.S ]]","v":"0375"}]
[{"$f":"Table1[[#This Row],[رقم  T.D.S ]]","v":"0376"}]
[{"$f":"Table1[[#This Row],[رقم  T.D.S ]]","v":"0377"}]
[{"$f":"Table1[[#This Row],[رقم  T.D.S ]]","v":"0378"}]
[{"$f":"Table1[[#This Row],[رقم  T.D.S ]]","v":"0379"}]
[{"$f":"Table1[[#This Row],[رقم  T.D.S ]]","v":"0380"}]
[{"$f":"Table1[[#This Row],[رقم  T.D.S ]]","v":"0381"}]
[{"$f":"Table1[[#This Row],[رقم  T.D.S ]]","v":"0382"}]
[{"$f":"Table1[[#This Row],[رقم  T.D.S ]]","v":"0383"}]
[{"$f":"Table1[[#This Row],[رقم  T.D.S ]]","v":"0384"}]
[{"$f":"Table1[[#This Row],[رقم  T.D.S ]]","v":"0385"}]
[{"$f":"Table1[[#This Row],[رقم  T.D.S ]]","v":"0386"}]
[{"$f":"Table1[[#This Row],[رقم  T.D.S ]]","v":"0387"}]
[{"$f":"Table1[[#This Row],[رقم  T.D.S ]]","v":"0388"}]
[{"$f":"Table1[[#This Row],[رقم  T.D.S ]]","v":"0389-2"}]
[{"$f":"Table1[[#This Row],[رقم  T.D.S ]]","v":"0390-2"}]
[{"$f":"Table1[[#This Row],[رقم  T.D.S ]]","v":"0391"}]
[{"$f":"Table1[[#This Row],[رقم  T.D.S ]]","v":"0392"}]
[{"$f":"Table1[[#This Row],[رقم  T.D.S ]]","v":"0393"}]
[{"$f":"Table1[[#This Row],[رقم  T.D.S ]]","v":"0394"}]
[{"$f":"Table1[[#This Row],[رقم  T.D.S ]]","v":"0395-1"}]
[{"$f":"Table1[[#This Row],[رقم  T.D.S ]]","v":"0396-2"},0.52]
[{"$f":"Table1[[#This Row],[رقم  T.D.S ]]","v":"0397-1"}]
[{"$f":"Table1[[#This Row],[رقم  T.D.S ]]","v":"0398-1"}]
[{"$f":"Table1[[#This Row],[رقم  T.D.S ]]","v":"0399"}]
[{"$f":"Table1[[#This Row],[رقم  T.D.S ]]","v":"0400-1"}]
[{"$f":"Table1[[#This Row],[رقم  T.D.S ]]","v":"0401-1"}]
[{"$f":"Table1[[#This Row],[رقم  T.D.S ]]","v":"0402-2"}]
[{"$f":"Table1[[#This Row],[رقم  T.D.S ]]","v":"0403"}]
[{"$f":"Table1[[#This Row],[رقم  T.D.S ]]","v":"0404-1"}]
[{"$f":"Table1[[#This Row],[رقم  T.D.S ]]","v":"0405"},0.25]
[{"$f":"Table1[[#This Row],[رقم  T.D.S ]]","v":"0406-1"},0.25]
[{"$f":"Table1[[#This Row],[رقم  T.D.S ]]","v":"0407-1"},0.25]
[{"$f":"Table1[[#This Row],[رقم  T.D.S ]]","v":"0408-1"},0.25]
[{"$f":"Table1[[#This Row],[رقم  T.D.S ]]","v":"0409"},1.04]
[{"$f":"Table1[[#This Row],[رقم  T.D.S ]]","v":"0410-2"},1.04]
[{"$f":"Table1[[#This Row],[رقم  T.D.S ]]","v":"0411"}]
[{"$f":"Table1[[#This Row],[رقم  T.D.S ]]","v":"0412-1"}]
[{"$f":"Table1[[#This Row],[رقم  T.D.S ]]","v":"0413-2"}]
[{"$f":"Table1[[#This Row],[رقم  T.D.S ]]","v":"0414-1"}]
[{"$f":"Table1[[#This Row],[رقم  T.D.S ]]","v":"0415"}]
[{"$f":"Table1[[#This Row],[رقم  T.D.S ]]","v":"0416-2"}]
[{"$f":"Table1[[#This Row],[رقم  T.D.S ]]","v":"0417-1"}]
[{"$f":"Table1[[#This Row],[رقم  T.D.S ]]","v":"0418-1"}]
[{"$f":"Table1[[#This Row],[رقم  T.D.S ]]","v":"0419-3"}]
[{"$f":"Table1[[#This Row],[رقم  T.D.S ]]","v":"0420"},0.2]
[{"$f":"Table1[[#This Row],[رقم  T.D.S ]]","v":"0421"},0.2]
[{"$f":"Table1[[#This Row],[رقم  T.D.S ]]","v":"0422"},0.2]
[{"$f":"Table1[[#This Row],[رقم  T.D.S ]]","v":"0423"},0.4]
[{"$f":"Table1[[#This Row],[رقم  T.D.S ]]","v":"0424"},0.67]
[{"$f":"Table1[[#This Row],[رقم  T.D.S ]]","v":"0425-2"},0.3]
[{"$f":"Table1[[#This Row],[رقم  T.D.S ]]","v":"0426-1"},0.4]
[{"$f":"Table1[[#This Row],[رقم  T.D.S ]]","v":"0427"},0.3]
[{"$f":"Table1[[#This Row],[رقم  T.D.S ]]","v":"0428"},0.3]
[{"$f":"Table1[[#This Row],[رقم  T.D.S ]]","v":"0429-1"},0.4]
[{"$f":"Table1[[#This Row],[رقم  T.D.S ]]","v":"0430"},0.3]
[{"$f":"Table1[[#This Row],[رقم  T.D.S ]]","v":"0431"},0.5]
[{"$f":"Table1[[#This Row],[رقم  T.D.S ]]","v":"0432"},0.62]
[{"$f":"Table1[[#This Row],[رقم  T.D.S ]]","v":"0433-1"},0.4]
[{"$f":"Table1[[#This Row],[رقم  T.D.S ]]","v":"0434"},0.5]
[{"$f":"Table1[[#This Row],[رقم  T.D.S ]]","v":"0435"}]
[{"$f":"Table1[[#This Row],[رقم  T.D.S ]]","v":"0436"}]
[{"$f":"Table1[[#This Row],[رقم  T.D.S ]]","v":"0437"},0.5]
[{"$f":"Table1[[#This Row],[رقم  T.D.S ]]","v":"0438"}]
[{"$f":"Table1[[#This Row],[رقم  T.D.S ]]","v":"0439"}]
[{"$f":"Table1[[#This Row],[رقم  T.D.S ]]","v":"0440"}]
[{"$f":"Table1[[#This Row],[رقم  T.D.S ]]","v":"0441-1"},1.04]
[{"$f":"Table1[[#This Row],[رقم  T.D.S ]]","v":"0442"}]
[{"$f":"Table1[[#This Row],[رقم  T.D.S ]]","v":"0443-1"}]
[{"$f":"Table1[[#This Row],[رقم  T.D.S ]]","v":"0444-1"},0.4]
[{"$f":"Table1[[#This Row],[رقم  T.D.S ]]","v":"0445-1"},0.4]
[{"$f":"Table1[[#This Row],[رقم  T.D.S ]]","v":"0446-1"},0.4]
[{"$f":"Table1[[#This Row],[رقم  T.D.S ]]","v":"0447"},0.4]
[{"$f":"Table1[[#This Row],[رقم  T.D.S ]]","v":"0448"},0.3]
[{"$f":"Table1[[#This Row],[رقم  T.D.S ]]","v":"0449-2"},0.67]
[{"$f":"Table1[[#This Row],[رقم  T.D.S ]]","v":"0450"},0.75]
[{"$f":"Table1[[#This Row],[رقم  T.D.S ]]","v":"0451"},0.85]
[{"$f":"Table1[[#This Row],[رقم  T.D.S ]]","v":"0452"},1.04]
[{"$f":"Table1[[#This Row],[رقم  T.D.S ]]","v":"0453-1"},0.52]
[{"$f":"Table1[[#This Row],[رقم  T.D.S ]]","v":"0454-2"},0.67]
[{"$f":"Table1[[#This Row],[رقم  T.D.S ]]","v":"0455-1"},0.5]
[{"$f":"Table1[[#This Row],[رقم  T.D.S ]]","v":"0456"},0.42]
[{"$f":"Table1[[#This Row],[رقم  T.D.S ]]","v":"0457"},0.42]
[{"$f":"Table1[[#This Row],[رقم  T.D.S ]]","v":"0458"},0.42]
[{"$f":"Table1[[#This Row],[رقم  T.D.S ]]","v":"0459"},0.42]
[{"$f":"Table1[[#This Row],[رقم  T.D.S ]]","v":"0460-1"},0.3]
[{"$f":"Table1[[#This Row],[رقم  T.D.S ]]","v":"0461-1"},0.3]
[{"$f":"Table1[[#This Row],[رقم  T.D.S ]]","v":"0462-1"},0.3]
[{"$f":"Table1[[#This Row],[رقم  T.D.S ]]","v":"0463"},0.3]
[{"$f":"Table1[[#This Row],[رقم  T.D.S ]]","v":"0464"},0.25]
[{"$f":"Table1[[#This Row],[رقم  T.D.S ]]","v":"0465-1"},0.25]
[{"$f":"Table1[[#This Row],[رقم  T.D.S ]]","v":"0466-1"},0.25]
[{"$f":"Table1[[#This Row],[رقم  T.D.S ]]","v":"0467-1"},0.3]
[{"$f":"Table1[[#This Row],[رقم  T.D.S ]]","v":"0468-1"},0.3]
[{"$f":"Table1[[#This Row],[رقم  T.D.S ]]","v":"0469-1"},0.2]
[{"$f":"Table1[[#This Row],[رقم  T.D.S ]]","v":"0470-1"},0.2]
[{"$f":"Table1[[#This Row],[رقم  T.D.S ]]","v":"0471-1"},0.2]
[{"$f":"Table1[[#This Row],[رقم  T.D.S ]]","v":"0472-1"},0.2]
[{"$f":"Table1[[#This Row],[رقم  T.D.S ]]","v":"0473-1"}]
[{"$f":"Table1[[#This Row],[رقم  T.D.S ]]","v":"0474"}]
[{"$f":"Table1[[#This Row],[رقم  T.D.S ]]","v":"0475-3"}]
[{"$f":"Table1[[#This Row],[رقم  T.D.S ]]","v":"0476"}]
[{"$f":"Table1[[#This Row],[رقم  T.D.S ]]","v":"0477"}]
[{"$f":"Table1[[#This Row],[رقم  T.D.S ]]","v":"0478-1"},0.25]
[{"$f":"Table1[[#This Row],[رقم  T.D.S ]]","v":"0479"},1.04]
[{"$f":"Table1[[#This Row],[رقم  T.D.S ]]","v":"0480"},0.25]
[{"$f":"Table1[[#This Row],[رقم  T.D.S ]]","v":"0481-1"},0.25]
[{"$f":"Table1[[#This Row],[رقم  T.D.S ]]","v":"0482"},1.06]
[{"$f":"Table1[[#This Row],[رقم  T.D.S ]]","v":"0483-1"}]
[{"$f":"Table1[[#This Row],[رقم  T.D.S ]]","v":"0484"}]
[{"$f":"Table1[[#This Row],[رقم  T.D.S ]]","v":"0485"},0.2]
[{"$f":"Table1[[#This Row],[رقم  T.D.S ]]","v":"0486"},0.2]
[{"$f":"Table1[[#This Row],[رقم  T.D.S ]]","v":"0487"},0.25]
[{"$f":"Table1[[#This Row],[رقم  T.D.S ]]","v":"0488"},0.25]
[{"$f":"Table1[[#This Row],[رقم  T.D.S ]]","v":"0489"},0.25]
[{"$f":"Table1[[#This Row],[رقم  T.D.S ]]","v":"0490"},0.25]
[{"$f":"Table1[[#This Row],[رقم  T.D.S ]]","v":"0491"},0.25]
[{"$f":"Table1[[#This Row],[رقم  T.D.S ]]","v":"0492"},0.25]
[{"$f":"Table1[[#This Row],[رقم  T.D.S ]]","v":"0493"},0.5]
[{"$f":"Table1[[#This Row],[رقم  T.D.S ]]","v":"0494"}]
[{"$f":"Table1[[#This Row],[رقم  T.D.S ]]","v":"0495"}]
[{"$f":"Table1[[#This Row],[رقم  T.D.S ]]","v":"0496"},1.04]
[{"$f":"Table1[[#This Row],[رقم  T.D.S ]]","v":"0497-1"}]
[{"$f":"Table1[[#This Row],[رقم  T.D.S ]]","v":"0498-1"}]
[{"$f":"Table1[[#This Row],[رقم  T.D.S ]]","v":"0499"}]
[{"$f":"Table1[[#This Row],[رقم  T.D.S ]]","v":"0500"}]
[{"$f":"Table1[[#This Row],[رقم  T.D.S ]]","v":"0501"},0.52]
[{"$f":"Table1[[#This Row],[رقم  T.D.S ]]","v":"0502"},0.84]
[{"$f":"Table1[[#This Row],[رقم  T.D.S ]]","v":"0503"},1.04]
[{"$f":"Table1[[#This Row],[رقم  T.D.S ]]","v":"0504"},0.84]
[{"$f":"Table1[[#This Row],[رقم  T.D.S ]]","v":"0505"},0.67]
[{"$f":"Table1[[#This Row],[رقم  T.D.S ]]","v":"0506"}]
[{"$f":"Table1[[#This Row],[رقم  T.D.S ]]","v":"0507"},1.04]
[{"$f":"Table1[[#This Row],[رقم  T.D.S ]]","v":"0508"}]
[{"$f":"Table1[[#This Row],[رقم  T.D.S ]]","v":"0509"}]
[{"$f":"Table1[[#This Row],[رقم  T.D.S ]]","v":"0510"},0.2]
[{"$f":"Table1[[#This Row],[رقم  T.D.S ]]","v":"0511"},0.25]
[{"$f":"Table1[[#This Row],[رقم  T.D.S ]]","v":"0512"},0.3]
[{"$f":"Table1[[#This Row],[رقم  T.D.S ]]","v":"0513"}]
[{"$f":"Table1[[#This Row],[رقم  T.D.S ]]","v":"0514"}]
[{"$f":"Table1[[#This Row],[رقم  T.D.S ]]","v":"0515"}]
[{"$f":"Table1[[#This Row],[رقم  T.D.S ]]","v":"0516"}]
[{"$f":"Table1[[#This Row],[رقم  T.D.S ]]","v":"0517-1"}]
[{"$f":"Table1[[#This Row],[رقم  T.D.S ]]","v":"0518"},0.2]
[{"$f":"Table1[[#This Row],[رقم  T.D.S ]]","v":"0519"},0.2]
[{"$f":"Table1[[#This Row],[رقم  T.D.S ]]","v":"0520"},0.2]
[{"$f":"Table1[[#This Row],[رقم  T.D.S ]]","v":"0521"},0.2]
[{"$f":"Table1[[#This Row],[رقم  T.D.S ]]","v":"0522"},0.2]
[{"$f":"Table1[[#This Row],[رقم  T.D.S ]]","v":"0523"},0.2]
[{"$f":"Table1[[#This Row],[رقم  T.D.S ]]","v":"0524-1"}]
[{"$f":"Table1[[#This Row],[رقم  T.D.S ]]","v":"0525-1"}]
[{"$f":"Table1[[#This Row],[رقم  T.D.S ]]","v":"0526-1"}]
[{"$f":"Table1[[#This Row],[رقم  T.D.S ]]","v":"0527"},0.52]
[{"$f":"Table1[[#This Row],[رقم  T.D.S ]]","v":"0528"}]
[{"$f":"Table1[[#This Row],[رقم  T.D.S ]]","v":"0529-2"}]
[{"$f":"Table1[[#This Row],[رقم  T.D.S ]]","v":"0530"}]
[{"$f":"Table1[[#This Row],[رقم  T.D.S ]]","v":"0531-1"},0.84]
[{"$f":"Table1[[#This Row],[رقم  T.D.S ]]","v":"0532"},0.3]
[{"$f":"Table1[[#This Row],[رقم  T.D.S ]]","v":"0533"},0.4]
[{"$f":"Table1[[#This Row],[رقم  T.D.S ]]","v":"0534-1"}]
[{"$f":"Table1[[#This Row],[رقم  T.D.S ]]","v":"0535-1"}]
[{"$f":"Table1[[#This Row],[رقم  T.D.S ]]","v":"0536"}]
[{"$f":"Table1[[#This Row],[رقم  T.D.S ]]","v":"0537-1"}]
[{"$f":"Table1[[#This Row],[رقم  T.D.S ]]","v":"0538"}]
[{"$f":"Table1[[#This Row],[رقم  T.D.S ]]","v":"0539"}]
[{"$f":"Table1[[#This Row],[رقم  T.D.S ]]","v":"0540-1"},0.52]
[{"$f":"Table1[[#This Row],[رقم  T.D.S ]]","v":"0541-1"},0.84]
[{"$f":"Table1[[#This Row],[رقم  T.D.S ]]","v":"0542-1"}]
[{"$f":"Table1[[#This Row],[رقم  T.D.S ]]","v":"0543-4"}]
[{"$f":"Table1[[#This Row],[رقم  T.D.S ]]","v":"0544-1"}]
[{"$f":"Table1[[#This Row],[رقم  T.D.S ]]","v":"0545"},0.52]
[{"$f":"Table1[[#This Row],[رقم  T.D.S ]]","v":"0546"}]
[{"$f":"Table1[[#This Row],[رقم  T.D.S ]]","v":"0547-1"},0.52]
[{"$f":"Table1[[#This Row],[رقم  T.D.S ]]","v":"0548"}]
[{"$f":"Table1[[#This Row],[رقم  T.D.S ]]","v":"0549"}]
[{"$f":"Table1[[#This Row],[رقم  T.D.S ]]","v":"0550-1"},0.52]
[{"$f":"Table1[[#This Row],[رقم  T.D.S ]]","v":"0551"},0.5]
[{"$f":"Table1[[#This Row],[رقم  T.D.S ]]","v":"0552"}]
[{"$f":"Table1[[#This Row],[رقم  T.D.S ]]","v":"0553"}]
[{"$f":"Table1[[#This Row],[رقم  T.D.S ]]","v":"0554"}]
[{"$f":"Table1[[#This Row],[رقم  T.D.S ]]","v":"0555"}]
[{"$f":"Table1[[#This Row],[رقم  T.D.S ]]","v":"0556"}]
[{"$f":"Table1[[#This Row],[رقم  T.D.S ]]","v":"0557"}]
[{"$f":"Table1[[#This Row],[رقم  T.D.S ]]","v":"0558"}]
[{"$f":"Table1[[#This Row],[رقم  T.D.S ]]","v":"0559"}]
[{"$f":"Table1[[#This Row],[رقم  T.D.S ]]","v":"0560"},0.5]
[{"$f":"Table1[[#This Row],[رقم  T.D.S ]]","v":"0561"}]
[{"$f":"Table1[[#This Row],[رقم  T.D.S ]]","v":"0562"}]
[{"$f":"Table1[[#This Row],[رقم  T.D.S ]]","v":"0563"}]
[{"$f":"Table1[[#This Row],[رقم  T.D.S ]]","v":"0564"}]
[{"$f":"Table1[[#This Row],[رقم  T.D.S ]]","v":"0565"}]
[{"$f":"Table1[[#This Row],[رقم  T.D.S ]]","v":"0566"}]
[{"$f":"Table1[[#This Row],[رقم  T.D.S ]]","v":"0567"}]
[{"$f":"Table1[[#This Row],[رقم  T.D.S ]]","v":"0568"}]
[{"$f":"Table1[[#This Row],[رقم  T.D.S ]]","v":"0569"}]
[{"$f":"Table1[[#This Row],[رقم  T.D.S ]]","v":"0570"}]
[{"$f":"Table1[[#This Row],[رقم  T.D.S ]]","v":"0571-2"}]
[{"$f":"Table1[[#This Row],[رقم  T.D.S ]]","v":"0572"}]
[{"$f":"Table1[[#This Row],[رقم  T.D.S ]]","v":"0573"}]
[{"$f":"Table1[[#This Row],[رقم  T.D.S ]]","v":"0574"}]
[{"$f":"Table1[[#This Row],[رقم  T.D.S ]]","v":"0575"},0.2]
[{"$f":"Table1[[#This Row],[رقم  T.D.S ]]","v":"0576"},0.4]
[{"$f":"Table1[[#This Row],[رقم  T.D.S ]]","v":"0577"},0.4]
[{"$f":"Table1[[#This Row],[رقم  T.D.S ]]","v":"0578"},0.4]
[{"$f":"Table1[[#This Row],[رقم  T.D.S ]]","v":"0579"},0.4]
[{"$f":"Table1[[#This Row],[رقم  T.D.S ]]","v":"0580"},0.4]
[{"$f":"Table1[[#This Row],[رقم  T.D.S ]]","v":"0581"}]
[{"$f":"Table1[[#This Row],[رقم  T.D.S ]]","v":"0582"}]
[{"$f":"Table1[[#This Row],[رقم  T.D.S ]]","v":"0583"}]
[{"$f":"Table1[[#This Row],[رقم  T.D.S ]]","v":"0584"}]
[{"$f":"Table1[[#This Row],[رقم  T.D.S ]]","v":"0585"}]
[{"$f":"Table1[[#This Row],[رقم  T.D.S ]]","v":"0586"}]
[{"$f":"Table1[[#This Row],[رقم  T.D.S ]]","v":"0587"}]
[{"$f":"Table1[[#This Row],[رقم  T.D.S ]]","v":"0588"},0.25]
[{"$f":"Table1[[#This Row],[رقم  T.D.S ]]","v":"0589"},0.25]
[{"$f":"Table1[[#This Row],[رقم  T.D.S ]]","v":"0590"},0.25]
[{"$f":"Table1[[#This Row],[رقم  T.D.S ]]","v":"0591"},0.25]
[{"$f":"Table1[[#This Row],[رقم  T.D.S ]]","v":"0592"},0.25]
[{"$f":"Table1[[#This Row],[رقم  T.D.S ]]","v":"0593"},2.65]
[{"$f":"Table1[[#This Row],[رقم  T.D.S ]]","v":"0594"},0.84]
[{"$f":"Table1[[#This Row],[رقم  T.D.S ]]","v":"0595"}]
[{"$f":"Table1[[#This Row],[رقم  T.D.S ]]","v":"0596"}]
[{"$f":"Table1[[#This Row],[رقم  T.D.S ]]","v":"0597"},0.84]
[{"$f":"Table1[[#This Row],[رقم  T.D.S ]]","v":"0598"},1.04]
[{"$f":"Table1[[#This Row],[رقم  T.D.S ]]","v":"0599"}]
[{"$f":"Table1[[#This Row],[رقم  T.D.S ]]","v":"0600"}]
[{"$f":"Table1[[#This Row],[رقم  T.D.S ]]","v":"0601-1"}]
[{"$f":"Table1[[#This Row],[رقم  T.D.S ]]","v":"0602"}]
[{"$f":"Table1[[#This Row],[رقم  T.D.S ]]","v":"0603"},0.84]
[{"$f":"Table1[[#This Row],[رقم  T.D.S ]]","v":"0604"},1.04]
[{"$f":"Table1[[#This Row],[رقم  T.D.S ]]","v":"0605"}]
[{"$f":"Table1[[#This Row],[رقم  T.D.S ]]","v":"0606"}]
[{"$f":"Table1[[#This Row],[رقم  T.D.S ]]","v":"0607"}]
[{"$f":"Table1[[#This Row],[رقم  T.D.S ]]","v":"0608"}]
[{"$f":"Table1[[#This Row],[رقم  T.D.S ]]","v":"0609"}]
[{"$f":"Table1[[#This Row],[رقم  T.D.S ]]","v":"0610"}]
[{"$f":"Table1[[#This Row],[رقم  T.D.S ]]","v":"0611"}]
[{"$f":"Table1[[#This Row],[رقم  T.D.S ]]","v":"0612"},1.04]
[{"$f":"Table1[[#This Row],[رقم  T.D.S ]]","v":"0613"}]
[{"$f":"Table1[[#This Row],[رقم  T.D.S ]]","v":"0614"}]
[{"$f":"Table1[[#This Row],[رقم  T.D.S ]]","v":"0615"}]
[{"$f":"Table1[[#This Row],[رقم  T.D.S ]]","v":"0616"}]
[{"$f":"Table1[[#This Row],[رقم  T.D.S ]]","v":"0617"}]
[{"$f":"Table1[[#This Row],[رقم  T.D.S ]]","v":"0618"}]
[{"$f":"Table1[[#This Row],[رقم  T.D.S ]]","v":"0619"}]
[{"$f":"Table1[[#This Row],[رقم  T.D.S ]]","v":"0620"}]
[{"$f":"Table1[[#This Row],[رقم  T.D.S ]]","v":"0621"}]
[{"$f":"Table1[[#This Row],[رقم  T.D.S ]]","v":"0622"}]
[{"$f":"Table1[[#This Row],[رقم  T.D.S ]]","v":"0623"}]
[{"$f":"Table1[[#This Row],[رقم  T.D.S ]]","v":"0624"}]
[{"$f":"Table1[[#This Row],[رقم  T.D.S ]]","v":"0625"}]
[{"$f":"Table1[[#This Row],[رقم  T.D.S ]]","v":"0626"}]
[{"$f":"Table1[[#This Row],[رقم  T.D.S ]]","v":"0627"}]
[{"$f":"Table1[[#This Row],[رقم  T.D.S ]]","v":"0628"}]
[{"$f":"Table1[[#This Row],[رقم  T.D.S ]]","v":"0629"}]
[{"$f":"Table1[[#This Row],[رقم  T.D.S ]]","v":"0630"}]
[{"$f":"Table1[[#This Row],[رقم  T.D.S ]]","v":"0631"}]
[{"$f":"Table1[[#This Row],[رقم  T.D.S ]]","v":"0632"}]
[{"$f":"Table1[[#This Row],[رقم  T.D.S ]]","v":"0633"}]
[{"$f":"Table1[[#This Row],[رقم  T.D.S ]]","v":"0634"}]
[{"$f":"Table1[[#This Row],[رقم  T.D.S ]]","v":"0635"},0.5]
[{"$f":"Table1[[#This Row],[رقم  T.D.S ]]","v":"0636"}]
[{"$f":"Table1[[#This Row],[رقم  T.D.S ]]","v":"0637"}]
[{"$f":"Table1[[#This Row],[رقم  T.D.S ]]","v":"0638"}]
[{"$f":"Table1[[#This Row],[رقم  T.D.S ]]","v":"0639"}]
[{"$f":"Table1[[#This Row],[رقم  T.D.S ]]","v":"0640"}]
[{"$f":"Table1[[#This Row],[رقم  T.D.S ]]","v":"0641"}]
[{"$f":"Table1[[#This Row],[رقم  T.D.S ]]","v":"0642"}]
[{"$f":"Table1[[#This Row],[رقم  T.D.S ]]","v":"0643"}]
[{"$f":"Table1[[#This Row],[رقم  T.D.S ]]","v":"0644"}]
[{"$f":"Table1[[#This Row],[رقم  T.D.S ]]","v":"0645"}]
[{"$f":"Table1[[#This Row],[رقم  T.D.S ]]","v":"0646"}]
[{"$f":"Table1[[#This Row],[رقم  T.D.S ]]","v":"0647"}]
[{"$f":"Table1[[#This Row],[رقم  T.D.S ]]","v":"0648"}]
[{"$f":"Table1[[#This Row],[رقم  T.D.S ]]","v":"0649"}]
[{"$f":"Table1[[#This Row],[رقم  T.D.S ]]","v":"0650"}]
[{"$f":"Table1[[#This Row],[رقم  T.D.S ]]","v":"0651"}]
[{"$f":"Table1[[#This Row],[رقم  T.D.S ]]","v":"0652"},0.3]
[{"$f":"Table1[[#This Row],[رقم  T.D.S ]]","v":"0653"},0.3]
[{"$f":"Table1[[#This Row],[رقم  T.D.S ]]","v":"0654"},0.4]
[{"$f":"Table1[[#This Row],[رقم  T.D.S ]]","v":"0655"},0.4]
[{"$f":"Table1[[#This Row],[رقم  T.D.S ]]","v":"0656"}]
[{"$f":"Table1[[#This Row],[رقم  T.D.S ]]","v":"0657"}]
[{"$f":"Table1[[#This Row],[رقم  T.D.S ]]","v":"0658"},0.3]
[{"$f":"Table1[[#This Row],[رقم  T.D.S ]]","v":"0659"},0.4]
[{"$f":"Table1[[#This Row],[رقم  T.D.S ]]","v":"0660"},0.4]
[{"$f":"Table1[[#This Row],[رقم  T.D.S ]]","v":"0661"},0.5]
[{"$f":"Table1[[#This Row],[رقم  T.D.S ]]","v":"0662"},0.25]
[{"$f":"Table1[[#This Row],[رقم  T.D.S ]]","v":"0663"},0.5]
[{"$f":"Table1[[#This Row],[رقم  T.D.S ]]","v":"0664"}]
[{"$f":"Table1[[#This Row],[رقم  T.D.S ]]","v":"0665"}]
[{"$f":"Table1[[#This Row],[رقم  T.D.S ]]","v":"0666"}]
[{"$f":"Table1[[#This Row],[رقم  T.D.S ]]","v":"0667"}]
[{"$f":"Table1[[#This Row],[رقم  T.D.S ]]","v":"0668"}]
[{"$f":"Table1[[#This Row],[رقم  T.D.S ]]","v":"0669"}]
[{"$f":"Table1[[#This Row],[رقم  T.D.S ]]","v":"0670"}]
[{"$f":"Table1[[#This Row],[رقم  T.D.S ]]","v":"0671"},0.5]
[{"$f":"Table1[[#This Row],[رقم  T.D.S ]]","v":"0672"}]
[{"$f":"Table1[[#This Row],[رقم  T.D.S ]]","v":"0673"}]
[{"$f":"Table1[[#This Row],[رقم  T.D.S ]]","v":"0674"}]
[{"$f":"Table1[[#This Row],[رقم  T.D.S ]]","v":"0675"}]
[{"$f":"Table1[[#This Row],[رقم  T.D.S ]]","v":"0676"},0.52]
[{"$f":"Table1[[#This Row],[رقم  T.D.S ]]","v":"0677"},0.5]
[{"$f":"Table1[[#This Row],[رقم  T.D.S ]]","v":"0678"}]
[{"$f":"Table1[[#This Row],[رقم  T.D.S ]]","v":"0679"}]
[{"$f":"Table1[[#This Row],[رقم  T.D.S ]]","v":"0680"}]
[{"$f":"Table1[[#This Row],[رقم  T.D.S ]]","v":"0681"}]
[{"$f":"Table1[[#This Row],[رقم  T.D.S ]]","v":"0682"},0.52]
[{"$f":"Table1[[#This Row],[رقم  T.D.S ]]","v":"0683"},0.52]
[{"$f":"Table1[[#This Row],[رقم  T.D.S ]]","v":"0684"},0.52]
[{"$f":"Table1[[#This Row],[رقم  T.D.S ]]","v":"0685"},0.52]
[{"$f":"Table1[[#This Row],[رقم  T.D.S ]]","v":"0686"}]
[{"$f":"Table1[[#This Row],[رقم  T.D.S ]]","v":"0687"}]
[{"$f":"Table1[[#This Row],[رقم  T.D.S ]]","v":"0688"}]
[{"$f":"Table1[[#This Row],[رقم  T.D.S ]]","v":"0689"}]
[{"$f":"Table1[[#This Row],[رقم  T.D.S ]]","v":"0690"}]
[{"$f":"Table1[[#This Row],[رقم  T.D.S ]]","v":"0691"}]
[{"$f":"Table1[[#This Row],[رقم  T.D.S ]]","v":"0692"}]
[{"$f":"Table1[[#This Row],[رقم  T.D.S ]]","v":"0693"}]
[{"$f":"Table1[[#This Row],[رقم  T.D.S ]]","v":"0694"}]
[{"$f":"Table1[[#This Row],[رقم  T.D.S ]]","v":"0695"}]
[{"$f":"Table1[[#This Row],[رقم  T.D.S ]]","v":"0696"}]
[{"$f":"Table1[[#This Row],[رقم  T.D.S ]]","v":"0697"}]
[{"$f":"Table1[[#This Row],[رقم  T.D.S ]]","v":"0698"}]
[{"$f":"Table1[[#This Row],[رقم  T.D.S ]]","v":"0699"}]
[{"$f":"Table1[[#This Row],[رقم  T.D.S ]]","v":"0700"}]
[{"$f":"Table1[[#This Row],[رقم  T.D.S ]]","v":"0701"}]
[{"$f":"Table1[[#This Row],[رقم  T.D.S ]]","v":"0702"}]
[{"$f":"Table1[[#This Row],[رقم  T.D.S ]]","v":"0703"}]
[{"$f":"Table1[[#This Row],[رقم  T.D.S ]]","v":"0704"}]
[{"$f":"Table1[[#This Row],[رقم  T.D.S ]]","v":"0705"}]
[{"$f":"Table1[[#This Row],[رقم  T.D.S ]]","v":"0706"}]
[{"$f":"Table1[[#This Row],[رقم  T.D.S ]]","v":"0707"}]
[{"$f":"Table1[[#This Row],[رقم  T.D.S ]]","v":"0708"}]
[{"$f":"Table1[[#This Row],[رقم  T.D.S ]]","v":"0709"}]
[{"$f":"Table1[[#This Row],[رقم  T.D.S ]]","v":"0710"}]
[{"$f":"Table1[[#This Row],[رقم  T.D.S ]]","v":"0711"}]
[{"$f":"Table1[[#This Row],[رقم  T.D.S ]]","v":"0712"}]
[{"$f":"Table1[[#This Row],[رقم  T.D.S ]]","v":"0713"}]
[{"$f":"Table1[[#This Row],[رقم  T.D.S ]]","v":"0714"}]
[{"$f":"Table1[[#This Row],[رقم  T.D.S ]]","v":"0715"}]
[{"$f":"Table1[[#This Row],[رقم  T.D.S ]]","v":"0716"}]
[{"$f":"Table1[[#This Row],[رقم  T.D.S ]]","v":"0717"}]
[{"$f":"Table1[[#This Row],[رقم  T.D.S ]]","v":"0718"}]
[{"$f":"Table1[[#This Row],[رقم  T.D.S ]]","v":"0719"}]
[{"$f":"Table1[[#This Row],[رقم  T.D.S ]]","v":"0720"}]
[{"$f":"Table1[[#This Row],[رقم  T.D.S ]]","v":"0721"}]
[{"$f":"Table1[[#This Row],[رقم  T.D.S ]]","v":"0722"}]
[{"$f":"Table1[[#This Row],[رقم  T.D.S ]]","v":"0723"}]
[{"$f":"Table1[[#This Row],[رقم  T.D.S ]]","v":"0724"}]
[{"$f":"Table1[[#This Row],[رقم  T.D.S ]]","v":"0725"}]
[{"$f":"Table1[[#This Row],[رقم  T.D.S ]]","v":"0726"}]
[{"$f":"Table1[[#This Row],[رقم  T.D.S ]]","v":"0727"},0.67]
[{"$f":"Table1[[#This Row],[رقم  T.D.S ]]","v":"0728"},0.85]
[{"$f":"Table1[[#This Row],[رقم  T.D.S ]]","v":"0729"}]
[{"$f":"Table1[[#This Row],[رقم  T.D.S ]]","v":"0730"}]
[{"$f":"Table1[[#This Row],[رقم  T.D.S ]]","v":"0731"}]
[{"$f":"Table1[[#This Row],[رقم  T.D.S ]]","v":"0732"}]
[{"$f":"Table1[[#This Row],[رقم  T.D.S ]]","v":"0733"}]
[{"$f":"Table1[[#This Row],[رقم  T.D.S ]]","v":"0734"}]
[{"$f":"Table1[[#This Row],[رقم  T.D.S ]]","v":"0735"}]
[{"$f":"Table1[[#This Row],[رقم  T.D.S ]]","v":"0736"}]
[{"$f":"Table1[[#This Row],[رقم  T.D.S ]]","v":"0737"}]
[{"$f":"Table1[[#This Row],[رقم  T.D.S ]]","v":"0738"}]
[{"$f":"Table1[[#This Row],[رقم  T.D.S ]]","v":"0739"}]
[{"$f":"Table1[[#This Row],[رقم  T.D.S ]]","v":"0740"}]
[{"$f":"Table1[[#This Row],[رقم  T.D.S ]]","v":"0741"}]
[{"$f":"Table1[[#This Row],[رقم  T.D.S ]]","v":"0742"}]
[{"$f":"Table1[[#This Row],[رقم  T.D.S ]]","v":"0743"}]
[{"$f":"Table1[[#This Row],[رقم  T.D.S ]]","v":"0744"}]
[{"$f":"Table1[[#This Row],[رقم  T.D.S ]]","v":"0745"}]
[{"$f":"Table1[[#This Row],[رقم  T.D.S ]]","v":"0746"},0.67]
[{"$f":"Table1[[#This Row],[رقم  T.D.S ]]","v":"0747"},0.52]
[{"$f":"Table1[[#This Row],[رقم  T.D.S ]]","v":"0748"}]
[{"$f":"Table1[[#This Row],[رقم  T.D.S ]]","v":"0749"},0.4]
[{"$f":"Table1[[#This Row],[رقم  T.D.S ]]","v":"0750"},0.4]
[{"$f":"Table1[[#This Row],[رقم  T.D.S ]]","v":"0751"},0.4]
[{"$f":"Table1[[#This Row],[رقم  T.D.S ]]","v":"0752"},0.4]
[{"$f":"Table1[[#This Row],[رقم  T.D.S ]]","v":"0753"},0.3]
[{"$f":"Table1[[#This Row],[رقم  T.D.S ]]","v":"0754"}]
[{"$f":"Table1[[#This Row],[رقم  T.D.S ]]","v":"0755"}]
[{"$f":"Table1[[#This Row],[رقم  T.D.S ]]","v":"0756"}]
[{"$f":"Table1[[#This Row],[رقم  T.D.S ]]","v":"0757"}]
[{"$f":"Table1[[#This Row],[رقم  T.D.S ]]","v":"0758"}]
[{"$f":"Table1[[#This Row],[رقم  T.D.S ]]","v":"0759"}]
[{"$f":"Table1[[#This Row],[رقم  T.D.S ]]","v":"0760"}]
[{"$f":"Table1[[#This Row],[رقم  T.D.S ]]","v":"0761"}]
[{"$f":"Table1[[#This Row],[رقم  T.D.S ]]","v":"0762"}]
[{"$f":"Table1[[#This Row],[رقم  T.D.S ]]","v":"0763"}]
[{"$f":"Table1[[#This Row],[رقم  T.D.S ]]","v":"0764"}]
[{"$f":"Table1[[#This Row],[رقم  T.D.S ]]","v":"0765"}]
[{"$f":"Table1[[#This Row],[رقم  T.D.S ]]","v":"0766"}]
[{"$f":"Table1[[#This Row],[رقم  T.D.S ]]","v":"0767"}]
[{"$f":"Table1[[#This Row],[رقم  T.D.S ]]","v":"0768"}]
[{"$f":"Table1[[#This Row],[رقم  T.D.S ]]","v":"0769"}]
[{"$f":"Table1[[#This Row],[رقم  T.D.S ]]","v":"0770"}]
[{"$f":"Table1[[#This Row],[رقم  T.D.S ]]","v":"0771"}]
[{"$f":"Table1[[#This Row],[رقم  T.D.S ]]","v":"0772"}]
[{"$f":"Table1[[#This Row],[رقم  T.D.S ]]","v":"0773"}]
[{"$f":"Table1[[#This Row],[رقم  T.D.S ]]","v":"0774"}]
[{"$f":"Table1[[#This Row],[رقم  T.D.S ]]","v":"0775"}]
[{"$f":"Table1[[#This Row],[رقم  T.D.S ]]","v":"0776"}]
[{"$f":"Table1[[#This Row],[رقم  T.D.S ]]","v":"0777"}]
[{"$f":"Table1[[#This Row],[رقم  T.D.S ]]","v":"0778"}]
[{"$f":"Table1[[#This Row],[رقم  T.D.S ]]","v":"0779"}]
[{"$f":"Table1[[#This Row],[رقم  T.D.S ]]","v":"0780"}]
[{"$f":"Table1[[#This Row],[رقم  T.D.S ]]","v":"0781"}]
[{"$f":"Table1[[#This Row],[رقم  T.D.S ]]","v":"0782"}]
[{"$f":"Table1[[#This Row],[رقم  T.D.S ]]","v":"0783"}]
[{"$f":"Table1[[#This Row],[رقم  T.D.S ]]","v":"0784"}]
[{"$f":"Table1[[#This Row],[رقم  T.D.S ]]","v":"0785"}]
[{"$f":"Table1[[#This Row],[رقم  T.D.S ]]","v":"0786"}]
[{"$f":"Table1[[#This Row],[رقم  T.D.S ]]","v":"0787"}]
[{"$f":"Table1[[#This Row],[رقم  T.D.S ]]","v":"0788"}]
[{"$f":"Table1[[#This Row],[رقم  T.D.S ]]","v":"0789"}]
[{"$f":"Table1[[#This Row],[رقم  T.D.S ]]","v":"0790"}]
[{"$f":"Table1[[#This Row],[رقم  T.D.S ]]","v":"0791"}]
[{"$f":"Table1[[#This Row],[رقم  T.D.S ]]","v":"0792"}]
[{"$f":"Table1[[#This Row],[رقم  T.D.S ]]","v":"0793"}]
[{"$f":"Table1[[#This Row],[رقم  T.D.S ]]","v":"0794"}]
[{"$f":"Table1[[#This Row],[رقم  T.D.S ]]","v":"0795"}]
[{"$f":"Table1[[#This Row],[رقم  T.D.S ]]","v":"0796"}]
[{"$f":"Table1[[#This Row],[رقم  T.D.S ]]","v":"0797"}]
[{"$f":"Table1[[#This Row],[رقم  T.D.S ]]","v":"0798"}]
[{"$f":"Table1[[#This Row],[رقم  T.D.S ]]","v":"0799"}]
[{"$f":"Table1[[#This Row],[رقم  T.D.S ]]","v":"0800"}]
[{"$f":"Table1[[#This Row],[رقم  T.D.S ]]","v":"0801"}]
[{"$f":"Table1[[#This Row],[رقم  T.D.S ]]","v":"0802"}]
[{"$f":"Table1[[#This Row],[رقم  T.D.S ]]","v":"0803"}]
[{"$f":"Table1[[#This Row],[رقم  T.D.S ]]","v":"0804"}]
[{"$f":"Table1[[#This Row],[رقم  T.D.S ]]","v":"0805"}]
[{"$f":"Table1[[#This Row],[رقم  T.D.S ]]","v":"0806"}]
[{"$f":"Table1[[#This Row],[رقم  T.D.S ]]","v":"0807"}]
[{"$f":"Table1[[#This Row],[رقم  T.D.S ]]","v":"0808"}]
[{"$f":"Table1[[#This Row],[رقم  T.D.S ]]","v":"0809"}]
[{"$f":"Table1[[#This Row],[رقم  T.D.S ]]","v":"0810"}]
[{"$f":"Table1[[#This Row],[رقم  T.D.S ]]","v":"0811"}]
[{"$f":"Table1[[#This Row],[رقم  T.D.S ]]","v":"0812"}]
[{"$f":"Table1[[#This Row],[رقم  T.D.S ]]","v":"0813"}]
[{"$f":"Table1[[#This Row],[رقم  T.D.S ]]","v":"0814"}]
[{"$f":"Table1[[#This Row],[رقم  T.D.S ]]","v":"0815"}]
[{"$f":"Table1[[#This Row],[رقم  T.D.S ]]","v":"0816"}]
[{"$f":"Table1[[#This Row],[رقم  T.D.S ]]","v":"0817"}]
[{"$f":"Table1[[#This Row],[رقم  T.D.S ]]","v":"0818"}]
[{"$f":"Table1[[#This Row],[رقم  T.D.S ]]","v":"0819"}]
[{"$f":"Table1[[#This Row],[رقم  T.D.S ]]","v":"0820"}]
[{"$f":"Table1[[#This Row],[رقم  T.D.S ]]","v":"0821"}]
[{"$f":"Table1[[#This Row],[رقم  T.D.S ]]","v":"0822"}]
[{"$f":"Table1[[#This Row],[رقم  T.D.S ]]","v":"0823"}]
[{"$f":"Table1[[#This Row],[رقم  T.D.S ]]","v":"0824"}]
[{"$f":"Table1[[#This Row],[رقم  T.D.S ]]","v":"0825"}]
[{"$f":"Table1[[#This Row],[رقم  T.D.S ]]","v":"0826"}]
[{"$f":"Table1[[#This Row],[رقم  T.D.S ]]","v":"0827"}]
[{"$f":"Table1[[#This Row],[رقم  T.D.S ]]","v":"0828"}]
[{"$f":"Table1[[#This Row],[رقم  T.D.S ]]","v":"0829"}]
[{"$f":"Table1[[#This Row],[رقم  T.D.S ]]","v":"0830"}]
[{"$f":"Table1[[#This Row],[رقم  T.D.S ]]","v":"0831"}]
[{"$f":"Table1[[#This Row],[رقم  T.D.S ]]","v":"0832"}]
[{"$f":"Table1[[#This Row],[رقم  T.D.S ]]","v":"0833"}]
[{"$f":"Table1[[#This Row],[رقم  T.D.S ]]","v":"0834"}]
[{"$f":"Table1[[#This Row],[رقم  T.D.S ]]","v":"0835"}]
[{"$f":"Table1[[#This Row],[رقم  T.D.S ]]","v":"0836"}]
[{"$f":"Table1[[#This Row],[رقم  T.D.S ]]","v":"0837"}]
[{"$f":"Table1[[#This Row],[رقم  T.D.S ]]","v":"0838"}]
[{"$f":"Table1[[#This Row],[رقم  T.D.S ]]","v":"0839"}]
[{"$f":"Table1[[#This Row],[رقم  T.D.S ]]","v":"0840"}]
[{"$f":"Table1[[#This Row],[رقم  T.D.S ]]","v":"0841"}]
[{"$f":"Table1[[#This Row],[رقم  T.D.S ]]","v":"0842"}]
[{"$f":"Table1[[#This Row],[رقم  T.D.S ]]","v":"0843"}]
[{"$f":"Table1[[#This Row],[رقم  T.D.S ]]","v":"0844"}]
[{"$f":"Table1[[#This Row],[رقم  T.D.S ]]","v":"0845"}]
[{"$f":"Table1[[#This Row],[رقم  T.D.S ]]","v":"0846"}]
[{"$f":"Table1[[#This Row],[رقم  T.D.S ]]","v":"0847"}]
[{"$f":"Table1[[#This Row],[رقم  T.D.S ]]","v":"0848"}]
[{"$f":"Table1[[#This Row],[رقم  T.D.S ]]","v":"0849"}]
[{"$f":"Table1[[#This Row],[رقم  T.D.S ]]","v":"0850"}]
[{"$f":"Table1[[#This Row],[رقم  T.D.S ]]","v":"0851"}]
[{"$f":"Table1[[#This Row],[رقم  T.D.S ]]","v":"0852"}]
[{"$f":"Table1[[#This Row],[رقم  T.D.S ]]","v":"0853"}]
[{"$f":"Table1[[#This Row],[رقم  T.D.S ]]","v":"0854"}]
[{"$f":"Table1[[#This Row],[رقم  T.D.S ]]","v":"0855"}]
[{"$f":"Table1[[#This Row],[رقم  T.D.S ]]","v":"0856"}]
[{"$f":"Table1[[#This Row],[رقم  T.D.S ]]","v":"0857"}]
[{"$f":"Table1[[#This Row],[رقم  T.D.S ]]","v":"0858"}]
[{"$f":"Table1[[#This Row],[رقم  T.D.S ]]","v":"0859"}]
[{"$f":"Table1[[#This Row],[رقم  T.D.S ]]","v":"0860"}]
[{"$f":"Table1[[#This Row],[رقم  T.D.S ]]","v":"0861"}]
[{"$f":"Table1[[#This Row],[رقم  T.D.S ]]","v":"0862"}]
[{"$f":"Table1[[#This Row],[رقم  T.D.S ]]","v":"0863"}]
[{"$f":"Table1[[#This Row],[رقم  T.D.S ]]","v":"0864"}]
[{"$f":"Table1[[#This Row],[رقم  T.D.S ]]","v":"0865"}]
[{"$f":"Table1[[#This Row],[رقم  T.D.S ]]","v":"0866"}]
[{"$f":"Table1[[#This Row],[رقم  T.D.S ]]","v":"0867"}]
[{"$f":"Table1[[#This Row],[رقم  T.D.S ]]","v":"0868"}]
[{"$f":"Table1[[#This Row],[رقم  T.D.S ]]","v":"0869"}]
[{"$f":"Table1[[#This Row],[رقم  T.D.S ]]","v":"0870"}]
[{"$f":"Table1[[#This Row],[رقم  T.D.S ]]","v":"0871"}]
[{"$f":"Table1[[#This Row],[رقم  T.D.S ]]","v":"0872"}]
[{"$f":"Table1[[#This Row],[رقم  T.D.S ]]","v":"0873"}]
[{"$f":"Table1[[#This Row],[رقم  T.D.S ]]","v":"0874"}]
[{"$f":"Table1[[#This Row],[رقم  T.D.S ]]","v":"0875"}]
[{"$f":"Table1[[#This Row],[رقم  T.D.S ]]","v":"0876"}]
[{"$f":"Table1[[#This Row],[رقم  T.D.S ]]","v":"0877"}]
[{"$f":"Table1[[#This Row],[رقم  T.D.S ]]","v":"0878"}]
[{"$f":"Table1[[#This Row],[رقم  T.D.S ]]","v":"0879"}]
[{"$f":"Table1[[#This Row],[رقم  T.D.S ]]","v":"0880"}]
[{"$f":"Table1[[#This Row],[رقم  T.D.S ]]","v":"0881"}]
[{"$f":"Table1[[#This Row],[رقم  T.D.S ]]","v":"0882"}]
[{"$f":"Table1[[#This Row],[رقم  T.D.S ]]","v":"0883"}]
[{"$f":"Table1[[#This Row],[رقم  T.D.S ]]","v":"0884"}]
[{"$f":"Table1[[#This Row],[رقم  T.D.S ]]","v":"0885"}]
[{"$f":"Table1[[#This Row],[رقم  T.D.S ]]","v":"0886"}]
[{"$f":"Table1[[#This Row],[رقم  T.D.S ]]","v":"0887"}]
[{"$f":"Table1[[#This Row],[رقم  T.D.S ]]","v":"0888"}]
[{"$f":"Table1[[#This Row],[رقم  T.D.S ]]","v":"0889"}]
[{"$f":"Table1[[#This Row],[رقم  T.D.S ]]","v":"0890"}]
[{"$f":"Table1[[#This Row],[رقم  T.D.S ]]","v":"0891"}]
[{"$f":"Table1[[#This Row],[رقم  T.D.S ]]","v":"0892"}]
[{"$f":"Table1[[#This Row],[رقم  T.D.S ]]","v":"0893"}]
[{"$f":"Table1[[#This Row],[رقم  T.D.S ]]","v":"0894"}]
[{"$f":"Table1[[#This Row],[رقم  T.D.S ]]","v":"0895"}]
[{"$f":"Table1[[#This Row],[رقم  T.D.S ]]","v":"0896"}]
[{"$f":"Table1[[#This Row],[رقم  T.D.S ]]","v":"0897"}]
[{"$f":"Table1[[#This Row],[رقم  T.D.S ]]","v":"0898"}]
[{"$f":"Table1[[#This Row],[رقم  T.D.S ]]","v":"0899"}]
[{"$f":"Table1[[#This Row],[رقم  T.D.S ]]","v":"0900"}]
[{"$f":"Table1[[#This Row],[رقم  T.D.S ]]","v":"0901"}]
[{"$f":"Table1[[#This Row],[رقم  T.D.S ]]","v":"0902"}]
[{"$f":"Table1[[#This Row],[رقم  T.D.S ]]","v":"0903"}]
[{"$f":"Table1[[#This Row],[رقم  T.D.S ]]","v":"0904"}]
[{"$f":"Table1[[#This Row],[رقم  T.D.S ]]","v":"0905"}]
[{"$f":"Table1[[#This Row],[رقم  T.D.S ]]","v":"0906"}]
[{"$f":"Table1[[#This Row],[رقم  T.D.S ]]","v":"0907"}]
[{"$f":"Table1[[#This Row],[رقم  T.D.S ]]","v":"0908"}]
[{"$f":"Table1[[#This Row],[رقم  T.D.S ]]","v":"0909"}]
[{"$f":"Table1[[#This Row],[رقم  T.D.S ]]","v":"0910"}]
[{"$f":"Table1[[#This Row],[رقم  T.D.S ]]","v":"0911"}]
[{"$f":"Table1[[#This Row],[رقم  T.D.S ]]","v":"0912"}]
[{"$f":"Table1[[#This Row],[رقم  T.D.S ]]","v":"0913"}]
[{"$f":"Table1[[#This Row],[رقم  T.D.S ]]","v":"0914"}]
[{"$f":"Table1[[#This Row],[رقم  T.D.S ]]","v":"0915"}]
[{"$f":"Table1[[#This Row],[رقم  T.D.S ]]","v":"0916"}]
[{"$f":"Table1[[#This Row],[رقم  T.D.S ]]","v":"0917"}]
[{"$f":"Table1[[#This Row],[رقم  T.D.S ]]","v":"0918"}]
[{"$f":"Table1[[#This Row],[رقم  T.D.S ]]","v":"0919"}]
[{"$f":"Table1[[#This Row],[رقم  T.D.S ]]","v":"0920"}]
[{"$f":"Table1[[#This Row],[رقم  T.D.S ]]","v":"0921"}]
[{"$f":"Table1[[#This Row],[رقم  T.D.S ]]","v":"0922"}]
[{"$f":"Table1[[#This Row],[رقم  T.D.S ]]","v":"0923"}]
[{"$f":"Table1[[#This Row],[رقم  T.D.S ]]","v":"0924"}]
[{"$f":"Table1[[#This Row],[رقم  T.D.S ]]","v":"0925"}]
[{"$f":"Table1[[#This Row],[رقم  T.D.S ]]","v":"0926"}]
[{"$f":"Table1[[#This Row],[رقم  T.D.S ]]","v":"0927"}]
[{"$f":"Table1[[#This Row],[رقم  T.D.S ]]","v":"0928"}]
[{"$f":"Table1[[#This Row],[رقم  T.D.S ]]","v":"0929"}]
[{"$f":"Table1[[#This Row],[رقم  T.D.S ]]","v":"0930"}]
[{"$f":"Table1[[#This Row],[رقم  T.D.S ]]","v":"0931"}]
[{"$f":"Table1[[#This Row],[رقم  T.D.S ]]","v":"0932"}]
[{"$f":"Table1[[#This Row],[رقم  T.D.S ]]","v":"0933"}]
[{"$f":"Table1[[#This Row],[رقم  T.D.S ]]","v":"0934"}]
[{"$f":"Table1[[#This Row],[رقم  T.D.S ]]","v":"0935"}]
[{"$f":"Table1[[#This Row],[رقم  T.D.S ]]","v":"0936"}]
[{"$f":"Table1[[#This Row],[رقم  T.D.S ]]","v":"0937"}]
[{"$f":"Table1[[#This Row],[رقم  T.D.S ]]","v":"0938"}]
[{"$f":"Table1[[#This Row],[رقم  T.D.S ]]","v":"0939"}]
[{"$f":"Table1[[#This Row],[رقم  T.D.S ]]","v":"0940"}]
[{"$f":"Table1[[#This Row],[رقم  T.D.S ]]","v":"0941"}]
[{"$f":"Table1[[#This Row],[رقم  T.D.S ]]","v":"0942"}]
[{"$f":"Table1[[#This Row],[رقم  T.D.S ]]","v":"0943"}]
[{"$f":"Table1[[#This Row],[رقم  T.D.S ]]","v":"0944"}]
[{"$f":"Table1[[#This Row],[رقم  T.D.S ]]","v":"0945"}]
[{"$f":"Table1[[#This Row],[رقم  T.D.S ]]","v":"0946"}]
[{"$f":"Table1[[#This Row],[رقم  T.D.S ]]","v":"0947"}]
[{"$f":"Table1[[#This Row],[رقم  T.D.S ]]","v":"0948"}]
[{"$f":"Table1[[#This Row],[رقم  T.D.S ]]","v":"0949"}]
[{"$f":"Table1[[#This Row],[رقم  T.D.S ]]","v":"0950"}]
[{"$f":"Table1[[#This Row],[رقم  T.D.S ]]","v":"0951"}]
[{"$f":"Table1[[#This Row],[رقم  T.D.S ]]","v":"0952"}]
[{"$f":"Table1[[#This Row],[رقم  T.D.S ]]","v":"0953"}]
[{"$f":"Table1[[#This Row],[رقم  T.D.S ]]","v":"0954"}]
[{"$f":"Table1[[#This Row],[رقم  T.D.S ]]","v":"0955"}]
[{"$f":"Table1[[#This Row],[رقم  T.D.S ]]","v":"0956"}]
[{"$f":"Table1[[#This Row],[رقم  T.D.S ]]","v":"0957"}]
[{"$f":"Table1[[#This Row],[رقم  T.D.S ]]","v":"0958"}]
[{"$f":"Table1[[#This Row],[رقم  T.D.S ]]","v":"0959"}]
[{"$f":"Table1[[#This Row],[رقم  T.D.S ]]","v":"0960"}]
[{"$f":"Table1[[#This Row],[رقم  T.D.S ]]","v":"0961"}]
[{"$f":"Table1[[#This Row],[رقم  T.D.S ]]","v":"0962"}]
[{"$f":"Table1[[#This Row],[رقم  T.D.S ]]","v":"0963"}]
[{"$f":"Table1[[#This Row],[رقم  T.D.S ]]","v":"0964"}]
[{"$f":"Table1[[#This Row],[رقم  T.D.S ]]","v":"0965"}]
[{"$f":"Table1[[#This Row],[رقم  T.D.S ]]","v":"0966"}]
[{"$f":"Table1[[#This Row],[رقم  T.D.S ]]","v":"0967"}]
[{"$f":"Table1[[#This Row],[رقم  T.D.S ]]","v":"0968"}]
[{"$f":"Table1[[#This Row],[رقم  T.D.S ]]","v":"0969"}]
[{"$f":"Table1[[#This Row],[رقم  T.D.S ]]","v":"0970"}]
[{"$f":"Table1[[#This Row],[رقم  T.D.S ]]","v":"0971"}]
[{"$f":"Table1[[#This Row],[رقم  T.D.S ]]","v":"0972"}]
[{"$f":"Table1[[#This Row],[رقم  T.D.S ]]","v":"0973"}]
[{"$f":"Table1[[#This Row],[رقم  T.D.S ]]","v":"0974"}]
[{"$f":"Table1[[#This Row],[رقم  T.D.S ]]","v":"0975"}]
[{"$f":"Table1[[#This Row],[رقم  T.D.S ]]","v":"0976"}]
[{"$f":"Table1[[#This Row],[رقم  T.D.S ]]","v":"0977"}]
[{"$f":"Table1[[#This Row],[رقم  T.D.S ]]","v":"0978"}]
[{"$f":"Table1[[#This Row],[رقم  T.D.S ]]","v":"0979"}]
[{"$f":"Table1[[#This Row],[رقم  T.D.S ]]","v":"0980"}]
[{"$f":"Table1[[#This Row],[رقم  T.D.S ]]","v":"0981"}]
[{"$f":"Table1[[#This Row],[رقم  T.D.S ]]","v":"0982"}]
[{"$f":"Table1[[#This Row],[رقم  T.D.S ]]","v":"0983"}]
[{"$f":"Table1[[#This Row],[رقم  T.D.S ]]","v":"0984"}]
[{"$f":"Table1[[#This Row],[رقم  T.D.S ]]","v":"0985"}]
[{"$f":"Table1[[#This Row],[رقم  T.D.S ]]","v":"0986"}]
[{"$f":"Table1[[#This Row],[رقم  T.D.S ]]","v":"0987"}]
[{"$f":"Table1[[#This Row],[رقم  T.D.S ]]","v":"0988"}]
[{"$f":"Table1[[#This Row],[رقم  T.D.S ]]","v":"0989"}]
[{"$f":"Table1[[#This Row],[رقم  T.D.S ]]","v":"0990"}]
[{"$f":"Table1[[#This Row],[رقم  T.D.S ]]","v":"0991"}]
[{"$f":"Table1[[#This Row],[رقم  T.D.S ]]","v":"0992"}]
[{"$f":"Table1[[#This Row],[رقم  T.D.S ]]","v":"0993"}]
[{"$f":"Table1[[#This Row],[رقم  T.D.S ]]","v":"0994"}]
[{"$f":"Table1[[#This Row],[رقم  T.D.S ]]","v":"0995"}]
[{"$f":"Table1[[#This Row],[رقم  T.D.S ]]","v":"0996"}]
[{"$f":"Table1[[#This Row],[رقم  T.D.S ]]","v":"0997"}]
[{"$f":"Table1[[#This Row],[رقم  T.D.S ]]","v":"0998"}]
[{"$f":"Table1[[#This Row],[رقم  T.D.S ]]","v":"0999"}]

{"sheet":"Stranding","index":2,"n_rows":1001,"n_cols":17,"rows_kept":1001,"cut":false,"hidden":false,"merged":[]}
["Stranding"]
["رقم  T.D.S ","Conductor Type","Resistance (MAX.)","Conductor Dimension","Conductor Size","construction","construction Flexible","Material 1","Material  Weight 1","Material 2","Material  Weight 2","lay ",null,"size","construction","units"]
[{"$f":"Table1[[#This Row],[رقم  T.D.S ]]","v":"0001-6"},"Circular-Stranded",12.1,1.56,1.5,"7X0.52",null,null,null,null,null,null,null,10,"74x0.40mm","5X(12X0.4) + 1X(13X0.4)"]
[{"$f":"Table1[[#This Row],[رقم  T.D.S ]]","v":"0002-6"},"Circular-Stranded",12.1,1.56,1.5,"7X0.52",null,null,null,null,null,null,null,16,"119x0.40mm","4X(28X0.40mm) + 1X(7X0.40mm)","Bunched"]
[{"$f":"Table1[[#This Row],[رقم  T.D.S ]]","v":"0003-6"},"Circular-Stranded",12.1,1.56,1.5,"7X0.52",null,null,null,null,null,null,null,25,"175x0.40mm","6X(28X0.4mm) + 1X(7X0.40mm)","Sector 60˚"]
[{"$f":"Table1[[#This Row],[رقم  T.D.S ]]","v":"0004-6"},"Circular-Stranded",12.1,1.56,1.5,"7X0.52",null,null,null,null,null,null,null,35,"252x0.40mm","9X(28X0.4mm)","Sector 72˚"]
[{"$f":"Table1[[#This Row],[رقم  T.D.S ]]","v":"0005-8"},"Circular-Stranded",12.1,1.56,1.5,"7X0.52",null,null,null,null,null,null,null,50,"364x0.40mm","13X(28X0.40mm)","Sector 90˚"]
[{"$f":"Table1[[#This Row],[رقم  T.D.S ]]","v":"0006-6"},"Circular-Stranded",7.41,2.0099999999999998,2.5,"7X0.67",null,null,null,null,null,null,null,70,"350x0.50mm","12X(28X0.50mm) + 1X(14X0.50mm)","Sector 120˚"]
[{"$f":"Table1[[#This Row],[رقم  T.D.S ]]","v":"0007-6"},"Circular-Stranded",7.41,2.0099999999999998,2.5,"7X0.67",null,null,null,null,null,null,null,95,"448x0.50mm","16X(28X0.50mm)","Sector 180˚"]
[{"$f":"Table1[[#This Row],[رقم  T.D.S ]]","v":"0008-6"},"Circular-Stranded",7.41,2.0099999999999998,2.5,"7X0.67",null,null,null,null,null,null,null,120,"574x0.50mm","20X(28X0.50mm) + 1X(14X0.50mm)","Compacted"]
[{"$f":"Table1[[#This Row],[رقم  T.D.S ]]","v":"0009-6"},"Circular-Stranded",7.41,2.0099999999999998,2.5,"7X0.67",null,null,null,null,null,null,null,150,"714x0.50mm","17X(42X0.50mm)","Cercular"]
[{"$f":"Table1[[#This Row],[رقم  T.D.S ]]","v":"0010-6"},"Circular-Stranded",7.41,2.0099999999999998,2.5,"7X0.67",null,null,null,null,null,null,null,185,"868x0.50mm","20X(42X0.50mm) + 1X(28X0.50mm)","Flexible"]
[{"$f":"Table1[[#This Row],[رقم  T.D.S ]]","v":"0011-6"},"Circular-Stranded",4.6100000000000003,2.52,4,"7X0.84",null,null,null,null,null,null,null,240,"1134x0.50mm","27X(42X0.50mm)"]
[{"$f":"Table1[[#This Row],[رقم  T.D.S ]]","v":"0012-6"},"Circular-Stranded",4.6100000000000003,2.52,4,"7X0.84",null,null,null,null,null,null,null,300,"1414x0.50mm","33X(42X0.50mm) + 1X(28X0.50mm)"]
[{"$f":"Table1[[#This Row],[رقم  T.D.S ]]","v":"0013-6"},"Circular-Stranded",4.6100000000000003,2.52,4,"7X0.84",null,null,null,null,null,null,null,400,"1834x0.50mm","43x(42x0.50mm) + 1X(28X0.50mm)"]
[{"$f":"Table1[[#This Row],[رقم  T.D.S ]]","v":"0014-6"},"Circular-Stranded",4.6100000000000003,2.52,4,"7X0.84",null,null,null,null,null,null,null,500,"2380x0.50mm","56X(42X0.50mm) + 1X(28X0.50mm)"]
[{"$f":"Table1[[#This Row],[رقم  T.D.S ]]","v":"0015-6"},"Circular-Stranded",4.6100000000000003,2.52,4,"7X0.84",null,null,null,null,null,null,null,630,"2254x0.60mm","53X(42X0.6) + 1X(28X0.6mm)"]
[{"$f":"Table1[[#This Row],[رقم  T.D.S ]]","v":"0016-5"},"Circular-Stranded",3.08,3.12,6,"7X1.04"]
[{"$f":"Table1[[#This Row],[رقم  T.D.S ]]","v":"0017-5"},"Circular-Stranded",3.08,3.12,6,"7X1.04"]
[{"$f":"Table1[[#This Row],[رقم  T.D.S ]]","v":"0018-5"},"Circular-Stranded",3.08,3.12,6,"7X1.04"]
[{"$f":"Table1[[#This Row],[رقم  T.D.S ]]","v":"0019-5"},"Circular-Stranded",3.08,3.12,6,"7X1.04"]
[{"$f":"Table1[[#This Row],[رقم  T.D.S ]]","v":"0020-5"},"Circular-Stranded",3.08,3.12,6,"7X1.04"]
[{"$f":"Table1[[#This Row],[رقم  T.D.S ]]","v":"0021-5"},"Bunched",13.3,1.52,1.5,"26X0.25"]
[{"$f":"Table1[[#This Row],[رقم  T.D.S ]]","v":"0022-5"},"Bunched",13.3,1.52,1.5,"26X0.25"]
[{"$f":"Table1[[#This Row],[رقم  T.D.S ]]","v":"0023-5"},"Bunched",13.3,1.52,1.5,"26X0.25"]
[{"$f":"Table1[[#This Row],[رقم  T.D.S ]]","v":"0024-4"},"Bunched",13.3,1.52,1.5,"26X0.25"]
[{"$f":"Table1[[#This Row],[رقم  T.D.S ]]","v":"0025-4"},"Bunched",13.3,1.52,1.5,"26X0.25"]
[{"$f":"Table1[[#This Row],[رقم  T.D.S ]]","v":"0026-4"},"Bunched",7.98,1.95,2.5,"43X0.25"]
[{"$f":"Table1[[#This Row],[رقم  T.D.S ]]","v":"0027-4"},"Bunched",7.98,1.95,2.5,"43X0.25"]
[{"$f":"Table1[[#This Row],[رقم  T.D.S ]]","v":"0028-4"},"Bunched",7.98,1.95,2.5,"43X0.25"]
[{"$f":"Table1[[#This Row],[رقم  T.D.S ]]","v":"0029-4"},"Bunched",7.98,1.95,2.5,"43X0.25"]
[{"$f":"Table1[[#This Row],[رقم  T.D.S ]]","v":"0030-4"},"Bunched",7.98,1.95,2.5,"43X0.25"]
[{"$f":"Table1[[#This Row],[رقم  T.D.S ]]","v":"0031-4"},"Bunched",4.95,2.46,4,"49X0.3"]
[{"$f":"Table1[[#This Row],[رقم  T.D.S ]]","v":"0032-4"},"Bunched",4.95,2.46,4,"49X0.3"]
[{"$f":"Table1[[#This Row],[رقم  T.D.S ]]","v":"0033-4"},"Bunched",4.95,2.46,4,"49X0.3"]
[{"$f":"Table1[[#This Row],[رقم  T.D.S ]]","v":"0034-3"},"Bunched",4.95,2.46,4,"49X0.3"]
[{"$f":"Table1[[#This Row],[رقم  T.D.S ]]","v":"0035-3"},"Bunched",4.95,2.46,4,"49X0.3"]
[{"$f":"Table1[[#This Row],[رقم  T.D.S ]]","v":"0036-5"},"Bunched",3.3,3.01,6,"73X0.3"]
[{"$f":"Table1[[#This Row],[رقم  T.D.S ]]","v":"0037-5"},"Bunched",3.3,3.01,6,"73X0.3"]
[{"$f":"Table1[[#This Row],[رقم  T.D.S ]]","v":"0038-5"},"Bunched",3.3,3.01,6,"73X0.3"]
[{"$f":"Table1[[#This Row],[رقم  T.D.S ]]","v":"0039-4"},"Bunched",3.3,3.01,6,"73X0.3"]
[{"$f":"Table1[[#This Row],[رقم  T.D.S ]]","v":"0040-4"},"Bunched",3.3,3.01,6,"73X0.3"]
[{"$f":"Table1[[#This Row],[رقم  T.D.S ]]","v":"0041-3"},"Bunched",39,0.92,0.5,"13X0.2"]
[{"$f":"Table1[[#This Row],[رقم  T.D.S ]]","v":"0042-2"},"Bunched",26,1.1200000000000001,0.75,"20X0.2"]
[{"$f":"Table1[[#This Row],[رقم  T.D.S ]]","v":"0043-4"},"Bunched",19.5,1.24,1,"26X0.2"]
[{"$f":"Table1[[#This Row],[رقم  T.D.S ]]","v":"0044-4"},"Bunched",13.3,1.52,1.5,"26X0.25"]
[{"$f":"Table1[[#This Row],[رقم  T.D.S ]]","v":"0045-4"},"Bunched",39,0.92,0.5,"13X0.2"]
[{"$f":"Table1[[#This Row],[رقم  T.D.S ]]","v":"0046-3"},"Bunched",26,1.1200000000000001,0.75,"20X0.2"]
[{"$f":"Table1[[#This Row],[رقم  T.D.S ]]","v":"0047-5"},"Bunched",19.5,1.24,1,"26X0.2"]
[{"$f":"Table1[[#This Row],[رقم  T.D.S ]]","v":"0048-6"},"Bunched",13.3,1.52,1.5,"26X0.25"]
[{"$f":"Table1[[#This Row],[رقم  T.D.S ]]","v":"0049-5"},"Bunched",19.5,1.24,1,"26X0.2"]
[{"$f":"Table1[[#This Row],[رقم  T.D.S ]]","v":"0050-6"},"Bunched",13.3,1.52,1.5,"26X0.25"]
[{"$f":"Table1[[#This Row],[رقم  T.D.S ]]","v":"0051-6"},"Bunched",7.98,1.95,2.5,"43X0.25"]
[{"$f":"Table1[[#This Row],[رقم  T.D.S ]]","v":"0052-5"},"Bunched",4.95,2.46,4,"49X0.30"]
[{"$f":"Table1[[#This Row],[رقم  T.D.S ]]","v":"0053-5"},"Bunched",3.3,3.01,6,"73X0.3"]
[{"$f":"Table1[[#This Row],[رقم  T.D.S ]]","v":"0054-5"},"Bunched",13.3,1.52,1.5,"26X0.25"]
[{"$f":"Table1[[#This Row],[رقم  T.D.S ]]","v":"0055-5"},"Bunched",7.98,1.95,2.5,"43X0.25"]
[{"$f":"Table1[[#This Row],[رقم  T.D.S ]]","v":"0056-5"},"Bunched",4.95,2.46,4,"49X0.3"]
[{"$f":"Table1[[#This Row],[رقم  T.D.S ]]","v":"0057-5"},"Bunched",13.3,1.52,1.5,"26X0.25"]
[{"$f":"Table1[[#This Row],[رقم  T.D.S ]]","v":"0058-6"},"Bunched",7.98,1.95,2.5,"43X0.25"]
[{"$f":"Table1[[#This Row],[رقم  T.D.S ]]","v":"0059-5"},"Bunched",4.95,2.46,4,"49X0.3"]
[{"$f":"Table1[[#This Row],[رقم  T.D.S ]]","v":"0060-5"},"Circular-Stranded",3.08,3.12,6,"7X1.04"]
[{"$f":"Table1[[#This Row],[رقم  T.D.S ]]","v":"0061-2"},"Circular-Stranded",1.83,3.7,10,"7X1.43"]
[{"$f":"Table1[[#This Row],[رقم  T.D.S ]]","v":"0062-7"},"Circular-Stranded",3.08,3.12,6,"7X1.04"]
[{"$f":"Table1[[#This Row],[رقم  T.D.S ]]","v":"0063-6"},"Circular-Compacted",1.83,3.7,10,"7X1.43"]
[{"$f":"Table1[[#This Row],[رقم  T.D.S ]]","v":"0064-7"},"Circular-Stranded",1.1499999999999999,4.7,16,"7X1.75"]
[{"$f":"Table1[[#This Row],[رقم  T.D.S ]]","v":"0065-6"},"Circular-Stranded",6.1,2.19,3,"7X0.73"]
[{"$f":"Table1[[#This Row],[رقم  T.D.S ]]","v":"0066-6"},"Circular-Stranded",6.1,2.19,3,"7X0.73"]
[{"$f":"Table1[[#This Row],[رقم  T.D.S ]]","v":"0067-6"},"Circular-Stranded",6.1,2.19,3,"7X0.73"]
[{"$f":"Table1[[#This Row],[رقم  T.D.S ]]","v":"0068-6"},"Circular-Stranded",6.1,2.19,3,"7X0.73"]
[{"$f":"Table1[[#This Row],[رقم  T.D.S ]]","v":"0069-6"},"Circular-Stranded",6.1,2.19,3,"7X0.73"]
[{"$f":"Table1[[#This Row],[رقم  T.D.S ]]","v":"0070-3"},"Bunched",19.5,1.24,1,"26x0.2"]
[{"$f":"Table1[[#This Row],[رقم  T.D.S ]]","v":"0071-3"}]
[{"$f":"Table1[[#This Row],[رقم  T.D.S ]]","v":"0072"},null,null,null,null,{"$f":"_xlfn.IFNA(VLOOKUP([2]!Table14[[#This Row],[Conductor Size]],N74:P92,3,0),\"\")","v":{"$error":"#REF!"}}]
[{"$f":"Table1[[#This Row],[رقم  T.D.S ]]","v":"0073"},null,null,null,null,{"$f":"_xlfn.IFNA(VLOOKUP([2]!Table14[[#This Row],[Conductor Size]],N75:P93,3,0),\"\")","v":{"$error":"#REF!"}}]
[{"$f":"Table1[[#This Row],[رقم  T.D.S ]]","v":"0074-3"},null,null,null,null,{"$f":"_xlfn.IFNA(VLOOKUP([2]!Table14[[#This Row],[Conductor Size]],N76:P94,3,0),\"\")","v":{"$error":"#REF!"}}]
[{"$f":"Table1[[#This Row],[رقم  T.D.S ]]","v":"0075-1"},"Bunched",4.95,2.46,4,"49x0.3"]
[{"$f":"Table1[[#This Row],[رقم  T.D.S ]]","v":"0076-3"},"Circular-Stranded",18.100000000000001,1.26,1,"7X0.42"]
[{"$f":"Table1[[#This Row],[رقم  T.D.S ]]","v":"0077-3"},"Circular-Stranded",18.100000000000001,1.26,1,"7X0.42"]
[{"$f":"Table1[[#This Row],[رقم  T.D.S ]]","v":"0078-3"},"Circular-Stranded",18.100000000000001,1.26,1,"7X0.42"]
[{"$f":"Table1[[#This Row],[رقم  T.D.S ]]","v":"0079-3"},"Circular-Stranded",18.100000000000001,1.26,1,"7X0.42"]
[{"$f":"Table1[[#This Row],[رقم  T.D.S ]]","v":"0080-2"},"Circular-Stranded",18.100000000000001,1.26,1,"7X0.42"]
[{"$f":"Table1[[#This Row],[رقم  T.D.S ]]","v":"0081-4"},"Bunched",19.5,1.24,1,"26X0.2"]
[{"$f":"Table1[[#This Row],[رقم  T.D.S ]]","v":"0082-4"},"Bunched",19.5,1.24,1,"26X0.2"]
[{"$f":"Table1[[#This Row],[رقم  T.D.S ]]","v":"0083-4"},"Bunched",19.5,1.24,1,"26X0.2"]
[{"$f":"Table1[[#This Row],[رقم  T.D.S ]]","v":"0084-4"},"Bunched",19.5,1.24,1,"26X0.2"]
[{"$f":"Table1[[#This Row],[رقم  T.D.S ]]","v":"0085-4"},"Bunched",19.5,1.24,1,"26X0.2"]
[{"$f":"Table1[[#This Row],[رقم  T.D.S ]]","v":"0086-4"},"Bunched",1.91,3.99,10,"73X0.4","5x(13x0.40mm)+1x(9x0.40mm)"]
[{"$f":"Table1[[#This Row],[رقم  T.D.S ]]","v":"0087-4"},"Bunched",1.91,3.99,10,"73X0.4","5x(13x0.40mm)+1x(9x0.40mm)"]
[{"$f":"Table1[[#This Row],[رقم  T.D.S ]]","v":"0088-3"},"Bunched",1.21,5.2,16,"119X0.4","4x(28x0.40mm)+1x(7x0.40mm)"]
[{"$f":"Table1[[#This Row],[رقم  T.D.S ]]","v":"0089-4"},"Bunched",1.21,5.2,16,"119X0.4","4x(28x0.40mm)+1x(7x0.40mm)"]
[{"$f":"Table1[[#This Row],[رقم  T.D.S ]]","v":"0090-5"},"Circular-Compacted",1.83,3.7,10,"7X1.43"]
[{"$f":"Table1[[#This Row],[رقم  T.D.S ]]","v":"0091-5"},"Circular-Stranded",0.72699999999999998,5.8,25,"7X2.22"]
[{"$f":"Table1[[#This Row],[رقم  T.D.S ]]","v":"0092-1"},"Bunched",1.21,5.2,16,"119X0.4","4x(28x0.40mm)+1x(7x0.40mm)"]
[{"$f":"Table1[[#This Row],[رقم  T.D.S ]]","v":"0093-5"},"Circular-Stranded",6.1,2.19,3,"7X0.73"]
[{"$f":"Table1[[#This Row],[رقم  T.D.S ]]","v":"0094-5"},"Circular-Stranded",6.1,2.19,3,"7X0.73"]
[{"$f":"Table1[[#This Row],[رقم  T.D.S ]]","v":"0095-5"},"Circular-Stranded",7.41,2.0099999999999998,2.5,"7X0.67"]
[{"$f":"Table1[[#This Row],[رقم  T.D.S ]]","v":"0096-5"},"Circular-Stranded",7.41,2.0099999999999998,2.5,"7X0.67"]
[{"$f":"Table1[[#This Row],[رقم  T.D.S ]]","v":"0097-5"},"Circular-Stranded",4.6100000000000003,2.52,4,"7X0.84"]
[{"$f":"Table1[[#This Row],[رقم  T.D.S ]]","v":"0098-5"},"Circular-Stranded",4.6100000000000003,2.52,4,"7X0.84"]
[{"$f":"Table1[[#This Row],[رقم  T.D.S ]]","v":"0099-4"},"Circular-Stranded",3.08,3.12,6,"7X1.04"]
[{"$f":"Table1[[#This Row],[رقم  T.D.S ]]","v":"0100-4"},"Circular-Stranded",3.08,3.12,6,"7X1.04"]
[{"$f":"Table1[[#This Row],[رقم  T.D.S ]]","v":"0101-2"},"Bunched",13.3,1.52,1.5,"26X0.25"]
[{"$f":"Table1[[#This Row],[رقم  T.D.S ]]","v":"0102-3"},"Bunched",13.3,1.52,1.5,"26X0.25"]
[{"$f":"Table1[[#This Row],[رقم  T.D.S ]]","v":"0103-2"},"Bunched",7.98,1.95,2.5,"43X0.25"]
[{"$f":"Table1[[#This Row],[رقم  T.D.S ]]","v":"0104-2"},"Bunched",7.98,1.95,2.5,"43X0.25"]
[{"$f":"Table1[[#This Row],[رقم  T.D.S ]]","v":"0105-4"},"Bunched",19.5,1.24,1,"26X0.2"]
[{"$f":"Table1[[#This Row],[رقم  T.D.S ]]","v":"0106-3"},"Bunched",3.3,3.01,6,"73X0.3"]
[{"$f":"Table1[[#This Row],[رقم  T.D.S ]]","v":"0107-5"},"Bunched",3.3,3.01,6,"73X0.3"]
[{"$f":"Table1[[#This Row],[رقم  T.D.S ]]","v":"0108-5"},"Bunched",0.106,17.8,185,"868X0.5","31x(28x0.50mm)"]
[{"$f":"Table1[[#This Row],[رقم  T.D.S ]]","v":"0109-5"},"Bunched",8.0100000000000005E-2,20.3,240,"1134X0.5","27x(42x0.50mm)"]
[{"$f":"Table1[[#This Row],[رقم  T.D.S ]]","v":"0110-4"},"Bunched",3.8399999999999997E-2,29.5,500,"2380X0.5","43X(42X0.5MM)+1X(28X0.5MM)"]
[{"$f":"Table1[[#This Row],[رقم  T.D.S ]]","v":"0111-2"},null,null,null,null,{"$f":"_xlfn.IFNA(VLOOKUP([2]!Table14[[#This Row],[Conductor Size]],N113:P131,3,0),\"\")","v":{"$error":"#REF!"}}]
[{"$f":"Table1[[#This Row],[رقم  T.D.S ]]","v":"0112-1"},"Bunched",1.91,3.99,10,"73X0.4"]
[{"$f":"Table1[[#This Row],[رقم  T.D.S ]]","v":"0113"},null,null,null,null,{"$f":"_xlfn.IFNA(VLOOKUP([2]!Table14[[#This Row],[Conductor Size]],N115:P133,3,0),\"\")","v":{"$error":"#REF!"}}]
[{"$f":"Table1[[#This Row],[رقم  T.D.S ]]","v":"0114-1"},"Circular-Compacted",1.1499999999999999,4.7,16,"7X1.75"]
[{"$f":"Table1[[#This Row],[رقم  T.D.S ]]","v":"0115"},"Circular-Compacted",0.72699999999999998,5.8,25,"7X2.22"]
[{"$f":"Table1[[#This Row],[رقم  T.D.S ]]","v":"0116"},"Circular-Compacted",0.52400000000000002,6.9,35,"7X2.65"]
[{"$f":"Table1[[#This Row],[رقم  T.D.S ]]","v":"0117-1"},"Circular-Compacted",0.38700000000000001,8.1999999999999993,50,"19X1.86"]
[{"$f":"Table1[[#This Row],[رقم  T.D.S ]]","v":"0118-1"},"Circular-Compacted",0.26800000000000002,9.8000000000000007,70,"19X2.22"]
[{"$f":"Table1[[#This Row],[رقم  T.D.S ]]","v":"0119-2"},"Bunched",1.91,3.99,10,"73X0.4"]
[{"$f":"Table1[[#This Row],[رقم  T.D.S ]]","v":"0120-2"},"Bunched",1.21,5.2,16,"119X0.4","4x(28x0.40mm)+1x(7x0.40mm)"]
[{"$f":"Table1[[#This Row],[رقم  T.D.S ]]","v":"0121"},"Bunched",0.78,6.2,25,"175x0.4","4x(42x0.40mm)+1x(7x040mm)"]
[{"$f":"Table1[[#This Row],[رقم  T.D.S ]]","v":"0122"},"Bunched",0.55400000000000005,7.6,35,"252X0.4","6x(42x0.40mm)+1x(7x0.40mm)"]
[{"$f":"Table1[[#This Row],[رقم  T.D.S ]]","v":"0123"},"Bunched",0.38600000000000001,9.1999999999999993,50,"364X0.4","13x(28x0.40mm)"]
[{"$f":"Table1[[#This Row],[رقم  T.D.S ]]","v":"0124-2"},"Bunched",1.91,3.99,10,"73X0.4"]
[{"$f":"Table1[[#This Row],[رقم  T.D.S ]]","v":"0125"},"Bunched",1.21,5.2,16,"119X0.4","4x(28x0.40mm)+1x(7x0.40mm)"]
[{"$f":"Table1[[#This Row],[رقم  T.D.S ]]","v":"0126"},"Bunched",0.78,6.2,25,"175x0.4"]
[{"$f":"Table1[[#This Row],[رقم  T.D.S ]]","v":"0127"},"Bunched",0.55400000000000005,7.6,35,"252X0.4"]
[{"$f":"Table1[[#This Row],[رقم  T.D.S ]]","v":"0128-1"},"Bunched",0.38600000000000001,9.1999999999999993,50,"364X0.4"]
[{"$f":"Table1[[#This Row],[رقم  T.D.S ]]","v":"0129-5"},"Circular-Compacted",0.52400000000000002,6.9,35,"7X2.65"]
[{"$f":"Table1[[#This Row],[رقم  T.D.S ]]","v":"0130-4"},"Sector 90°",0.38700000000000001,"10.3 X 7.5",50,"19 X 1.86"]
[{"$f":"Table1[[#This Row],[رقم  T.D.S ]]","v":"0131-3"},"Sector 90°",0.26800000000000002,"12.7 X 10",70,"19 X 2.22"]
[{"$f":"Table1[[#This Row],[رقم  T.D.S ]]","v":"0132-4"},"Sector 90°",0.193,"14.8 X 11.5",95,"19X2.63"]
[{"$f":"Table1[[#This Row],[رقم  T.D.S ]]","v":"0133"},"Sector 90°",0.153,"17.3 X 13",120,"30X2.36"]
[{"$f":"Table1[[#This Row],[رقم  T.D.S ]]","v":"0134-2"},"Sector 90°",9.9099999999999994E-2,"21.4 X 16.4",185,"37X2.63"]
[{"$f":"Table1[[#This Row],[رقم  T.D.S ]]","v":"0135-4"},"Bunched",0.20599999999999999,12.7,95,"448X0.5","16x(28x0.50mm)"]
[{"$f":"Table1[[#This Row],[رقم  T.D.S ]]","v":"0136-4"},"Bunched",0.161,14.5,120,"574X0.5","20x(28x0.50mm)+1x(14x0.50mm)"]
[{"$f":"Table1[[#This Row],[رقم  T.D.S ]]","v":"0137-4"},"Bunched",6.4100000000000004E-2,22.6,300,"1414X0.5","33x(42x0.50mm)+1x(28x0.50mm)"]
[{"$f":"Table1[[#This Row],[رقم  T.D.S ]]","v":"0138"},"Bunched",1.91,3.99,10,"73X0.4"]
[{"$f":"Table1[[#This Row],[رقم  T.D.S ]]","v":"0139-1"},"Bunched",0.78,6.2,25,"175X0.4","4x(42x0.40mm)+1x(7x040mm)"]
[{"$f":"Table1[[#This Row],[رقم  T.D.S ]]","v":"0140"},"Bunched",0.55400000000000005,7.6,35,"252X0.4","6x(42x0.40mm)+1x(7x0.40mm)"]
[{"$f":"Table1[[#This Row],[رقم  T.D.S ]]","v":"0141"},"Bunched",0.38600000000000001,9.1999999999999993,50,"364X0.4","13x(28x0.40mm)"]
[{"$f":"Table1[[#This Row],[رقم  T.D.S ]]","v":"0142"},"Circular-Compacted",1.83,3.7,10,"7X1.43"]
[{"$f":"Table1[[#This Row],[رقم  T.D.S ]]","v":"0143"},"Sector 90°",9.9099999999999994E-2,"21.4 X 16.4",185,"37X2.63"]
[{"$f":"Table1[[#This Row],[رقم  T.D.S ]]","v":"0144"},"Circular-Stranded",12.1,1.56,1.5,"7X0.52"]
[{"$f":"Table1[[#This Row],[رقم  T.D.S ]]","v":"0145-3"},"Bunched",39,0.92,0.5,"13X0.20"]
[{"$f":"Table1[[#This Row],[رقم  T.D.S ]]","v":"0146-3"},"Bunched",39,0.92,0.5,"13X0.20"]
[{"$f":"Table1[[#This Row],[رقم  T.D.S ]]","v":"0147-3"},"Bunched",26,1.1200000000000001,0.75,"20X0.20"]
[{"$f":"Table1[[#This Row],[رقم  T.D.S ]]","v":"0148-2"},"Bunched",26,1.1200000000000001,0.75,"20X0.20"]
[{"$f":"Table1[[#This Row],[رقم  T.D.S ]]","v":"0149-3"},null,null,null,null,{"$f":"_xlfn.IFNA(VLOOKUP(Table14[[#This Row],[Conductor Size]],N151:P169,3,0),\"\")","v":""}]
[{"$f":"Table1[[#This Row],[رقم  T.D.S ]]","v":"0150-3"}," ",0.23760000000000001,15.5,"120/20","7 X 1.9 + 26 X 2.44"]
[{"$f":"Table1[[#This Row],[رقم  T.D.S ]]","v":"0151-3"},"Bunched",6.65,2.15,3,"38X0.3"]
[{"$f":"Table1[[#This Row],[رقم  T.D.S ]]","v":"0152-2"},"Bunched",6.65,2.15,3,"38X0.3"]
[{"$f":"Table1[[#This Row],[رقم  T.D.S ]]","v":"0153-3"},"Circular-Stranded",12.1,1.56,1.5,"7X0.52"]
[{"$f":"Table1[[#This Row],[رقم  T.D.S ]]","v":"0154-5"},"Circular-Stranded",4.6100000000000003,2.52,4,"7X0.84"]
[{"$f":"Table1[[#This Row],[رقم  T.D.S ]]","v":"0155-2"},"Circular-Compacted",6.0100000000000001E-2,20.5,300,"37X3.35"]
[{"$f":"Table1[[#This Row],[رقم  T.D.S ]]","v":"0156-1"},"Bunched",0.78,6.2,25,"175X0.4"]
[{"$f":"Table1[[#This Row],[رقم  T.D.S ]]","v":"0157-3"},"Circular-Stranded",12.1,1.56,1.5,"7X0.52"]
[{"$f":"Table1[[#This Row],[رقم  T.D.S ]]","v":"0158-2"},"Bunched",7.98,1.95,2.5,"43X0.25"]
[{"$f":"Table1[[#This Row],[رقم  T.D.S ]]","v":"0159-3"},"Circular-Stranded",12.1,1.56,1.5,"7X0.52"]
[{"$f":"Table1[[#This Row],[رقم  T.D.S ]]","v":"0160-3"},"Circular-Stranded",7.41,2.0099999999999998,2.5,"7X0.67"]
[{"$f":"Table1[[#This Row],[رقم  T.D.S ]]","v":"0161-3"},"Circular-Stranded",7.41,2.0099999999999998,2.5,"7X0.67"]
[{"$f":"Table1[[#This Row],[رقم  T.D.S ]]","v":"0162-3"},"Circular-Stranded",7.41,2.0099999999999998,2.5,"7X0.67"]
[{"$f":"Table1[[#This Row],[رقم  T.D.S ]]","v":"0163"}," ",0.59389999999999998,9.7799999999999994,"50/8","1 X 3.26 + 6 X 3.26"]
[{"$f":"Table1[[#This Row],[رقم  T.D.S ]]","v":"0164-1"},"Bunched",0.27200000000000002,11.2,70,"350X0.5","12x(28x0.50mm)+1x(14x0.50mm)"]
[{"$f":"Table1[[#This Row],[رقم  T.D.S ]]","v":"0165-3"},"Circular-Stranded",3.08,3.12,6,"7X1.04"]
[{"$f":"Table1[[#This Row],[رقم  T.D.S ]]","v":"0166"},"Bunched",7.98,1.95,2.5,"43X0.25"]
[{"$f":"Table1[[#This Row],[رقم  T.D.S ]]","v":"0167-3"},"Bunched",19.5,1.24,1,"26X0.2"]
[{"$f":"Table1[[#This Row],[رقم  T.D.S ]]","v":"0168-3"},"Bunched",0.27200000000000002,11.2,70,"350X0.5","12x(28x0.50mm)+1x(14x0.50mm)"]
[{"$f":"Table1[[#This Row],[رقم  T.D.S ]]","v":"0169-2"},"ACSR",0.30599999999999999,13.6,"95 / 15","26 X 2.15 + 7 X 1.67",null,"SR08",119.9,"GR01",2.4,"93-130-148 / L.H\n136-156-190 / R.H"]
[{"$f":"Table1[[#This Row],[رقم  T.D.S ]]","v":"0170-1"},null,1.7986,5.0999999999999996,16,"7 X 1.7"]
[{"$f":"Table1[[#This Row],[رقم  T.D.S ]]","v":"0171-3"},null,1.1787000000000001,6.3,25,"7 X 2.1"]
[{"$f":"Table1[[#This Row],[رقم  T.D.S ]]","v":"0172"},null,0.83169999999999999,7.5,35,"7 X 2.5"]
[{"$f":"Table1[[#This Row],[رقم  T.D.S ]]","v":"0173-2"},"AAC",0.59440000000000004,9,50,"19 X 1.8"]
[{"$f":"Table1[[#This Row],[رقم  T.D.S ]]","v":"0174-2"},"AAC",0.43669999999999998,10.5,70,"19 X 2.1"]
[{"$f":"Table1[[#This Row],[رقم  T.D.S ]]","v":"0175-3"},"AAC",0.30809999999999998,12.5,95,"19 X 2.5",null,null,null,null,null,"75-113-120/L.H\n125-150-175 R.H"]
[{"$f":"Table1[[#This Row],[رقم  T.D.S ]]","v":"0176"},"Bunched",1.21,5.2,16,"119 X 0.4","4x(28x0.40mm)+1x(7x0.40mm)"]
[{"$f":"Table1[[#This Row],[رقم  T.D.S ]]","v":"0177-1"},"Sector 120°",0.38700000000000001,"11.2 X 6.45",50,"1.86 X 19"]
[{"$f":"Table1[[#This Row],[رقم  T.D.S ]]","v":"0178-3"},"Bunched",0.38600000000000001,9.1999999999999993,50,"364 X 0.4"]
[{"$f":"Table1[[#This Row],[رقم  T.D.S ]]","v":"0179"},"Bunched",13.3,1.52,1.5,"26X0.25"]
[{"$f":"Table1[[#This Row],[رقم  T.D.S ]]","v":"0180-6"},"Bunched",13.3,1.52,1.5,"26X0.25"]
[{"$f":"Table1[[#This Row],[رقم  T.D.S ]]","v":"0181-2"},"Bunched",13.3,1.52,1.5,"26X0.25"]
[{"$f":"Table1[[#This Row],[رقم  T.D.S ]]","v":"0182"},"Bunched",13.3,1.52,1.5,"26X0.25"]
[{"$f":"Table1[[#This Row],[رقم  T.D.S ]]","v":"0183-4"},"Bunched",7.98,1.95,2.5,"43X0.25"]
[{"$f":"Table1[[#This Row],[رقم  T.D.S ]]","v":"0184"},"Circular-Non-compacted",0.124,15.75,150,"37X2.25"]
[{"$f":"Table1[[#This Row],[رقم  T.D.S ]]","v":"0185"},"Bunched",39,0.92,0.5,"13X0.2"]
[{"$f":"Table1[[#This Row],[رقم  T.D.S ]]","v":"0186"},"Bunched",39,0.92,0.5,"13X0.2"]
[{"$f":"Table1[[#This Row],[رقم  T.D.S ]]","v":"0187-3"},"Bunched",39,0.92,0.5,"13X0.2"]
[{"$f":"Table1[[#This Row],[رقم  T.D.S ]]","v":"0188-2"},"Bunched",39,0.92,0.5,"13X0.2"]
[{"$f":"Table1[[#This Row],[رقم  T.D.S ]]","v":"0189"},"Bunched",0.55400000000000005,7.6,35,"252X0.4","6x(42x0.40mm)+1x(7x0.40mm)"]
[{"$f":"Table1[[#This Row],[رقم  T.D.S ]]","v":"0190"},"Bunched",0.55400000000000005,7.6,35,"252X0.4","6x(42x0.40mm)+1x(7x0.40mm)"]
[{"$f":"Table1[[#This Row],[رقم  T.D.S ]]","v":"0191"},"Bunched",7.98,1.95,2.5,"43X0.25"]
[{"$f":"Table1[[#This Row],[رقم  T.D.S ]]","v":"0192"},"Bunched",4.95,2.46,4,"49X0.3"]
[{"$f":"Table1[[#This Row],[رقم  T.D.S ]]","v":"0193-2"},"Circular-Compacted",9.9099999999999994E-2,15.9,185,"37X2.65"]
[{"$f":"Table1[[#This Row],[رقم  T.D.S ]]","v":"0194-3"},"Sector 90°",0.124,"19.7 X 13.4",150,"36X2.36"]
[{"$f":"Table1[[#This Row],[رقم  T.D.S ]]","v":"0195-1"},"Circular-Stranded",3.08,3.12,6,"7X1.04"]
[{"$f":"Table1[[#This Row],[رقم  T.D.S ]]","v":"0196-1"},"Circular-Compacted",1.83,3.7,10,"7X1.43"]
[{"$f":"Table1[[#This Row],[رقم  T.D.S ]]","v":"0197"},"Circular-Compacted",1.1499999999999999,4.7,16,"7X1.75"]
[{"$f":"Table1[[#This Row],[رقم  T.D.S ]]","v":"0198"},null,9.4899999999999998E-2,24.4,300,"26 X 3.86 + 7 X 3"]
[{"$f":"Table1[[#This Row],[رقم  T.D.S ]]","v":"0199"},"Bunched",0.20599999999999999,12.7,95,"448X0.5","16x(28x0.50mm)"]
[{"$f":"Table1[[#This Row],[رقم  T.D.S ]]","v":"0200-3"},"Circular-Stranded",12.1,1.56,1.5,"7X0.52"]
[{"$f":"Table1[[#This Row],[رقم  T.D.S ]]","v":"0201-3"},"Circular-Stranded",12.1,1.56,1.5,"7X0.52"]
[{"$f":"Table1[[#This Row],[رقم  T.D.S ]]","v":"0202-1"},"Circular-Compacted",1.83,3.7,10,"7X1.43"]
[{"$f":"Table1[[#This Row],[رقم  T.D.S ]]","v":"0203-1"},"Circular-Compacted",1.83,3.7,10,"7X1.43"]
[{"$f":"Table1[[#This Row],[رقم  T.D.S ]]","v":"0204-1"},"Circular-Compacted",1.83,3.7,10,"7X1.43"]
[{"$f":"Table1[[#This Row],[رقم  T.D.S ]]","v":"0205"},"Circular-Compacted",1.83,3.7,10,"7X1.43"]
[{"$f":"Table1[[#This Row],[رقم  T.D.S ]]","v":"0206-1"},"Circular-Compacted",1.1499999999999999,4.7,16,"7X1.75"]
[{"$f":"Table1[[#This Row],[رقم  T.D.S ]]","v":"0207"},"Circular-Compacted",1.1499999999999999,4.7,16,"7X1.75"]
[{"$f":"Table1[[#This Row],[رقم  T.D.S ]]","v":"0208-1"},"Circular-Compacted",1.1499999999999999,4.7,16,"7X1.75"]
[{"$f":"Table1[[#This Row],[رقم  T.D.S ]]","v":"0209"},"Bunched",1.91,3.99,10,"73X0.4"]
[{"$f":"Table1[[#This Row],[رقم  T.D.S ]]","v":"0210"},"Bunched",1.21,5.2,16,"119X0.4","4x(28x0.40mm)+1x(7x0.40mm)"]
[{"$f":"Table1[[#This Row],[رقم  T.D.S ]]","v":"0211-2"},"Bunched",0.55400000000000005,7.6,35,"252X0.4","6x(42x0.40mm)+1x(7x0.40mm)"]
[{"$f":"Table1[[#This Row],[رقم  T.D.S ]]","v":"0212-1"},"Bunched",0.38600000000000001,9.1999999999999993,50,"364X0.4","13x(28x0.40mm)"]
[{"$f":"Table1[[#This Row],[رقم  T.D.S ]]","v":"0213"},"Bunched",19.5,1.24,1,"26x0.2"]
[{"$f":"Table1[[#This Row],[رقم  T.D.S ]]","v":"0214"},"Bunched",13.3,1.52,1.5,"26X0.25"]
[{"$f":"Table1[[#This Row],[رقم  T.D.S ]]","v":"0215"},"Bunched",7.98,1.95,2.5,"43X0.25"]
[{"$f":"Table1[[#This Row],[رقم  T.D.S ]]","v":"0216"},"Bunched",4.95,2.46,4,"49X0.3"]
[{"$f":"Table1[[#This Row],[رقم  T.D.S ]]","v":"0217"},"Bunched",3.3,3.01,6,"73X0.3"]
[{"$f":"Table1[[#This Row],[رقم  T.D.S ]]","v":"0218"},"Bunched",4.95,2.46,4,"49X0.3"]
[{"$f":"Table1[[#This Row],[رقم  T.D.S ]]","v":"0219-1"},"Circular - Compacted",0.16400000000000001,15.9,185,"37X2.6"]
[{"$f":"Table1[[#This Row],[رقم  T.D.S ]]","v":"0220-3"},"Sector 90°",7.5399999999999995E-2,"25.6 X 17.4",240,"37 X 3"]
[{"$f":"Table1[[#This Row],[رقم  T.D.S ]]","v":"0221"},"Circular-Compacted",0.153,12.7,120,"19 X 2.98"]
[{"$f":"Table1[[#This Row],[رقم  T.D.S ]]","v":"0222-1"},"Circular-Compacted",0.193,11.3,95,"19 X 2.65"]
[{"$f":"Table1[[#This Row],[رقم  T.D.S ]]","v":"0223"},"Circular-Compacted",0.38700000000000001,8.1999999999999993,50,"19 X 1.86"]
[{"$f":"Table1[[#This Row],[رقم  T.D.S ]]","v":"0224"},"Bunched",3.3,3.01,6,"73 X 0.3"]
[{"$f":"Table1[[#This Row],[رقم  T.D.S ]]","v":"0225"},"Sector 120°",0.124,"20 X 11.7",150,"36 X 2.36"]
[{"$f":"Table1[[#This Row],[رقم  T.D.S ]]","v":"0226-1"},"Bunched",3.3,3.01,6,"73 X 0.3"]
[{"$f":"Table1[[#This Row],[رقم  T.D.S ]]","v":"0227"},"Bunched",3.3,3.01,6,"73 X 0.3"]
[{"$f":"Table1[[#This Row],[رقم  T.D.S ]]","v":"0228"},"Circular",0.124,14.1,150,"19 X 3.36"]
[{"$f":"Table1[[#This Row],[رقم  T.D.S ]]","v":"0229"},"Circular-Compacted",3.6600000000000001E-2,26.6,500,"37X3.45+24X3.33"]
[{"$f":"Table1[[#This Row],[رقم  T.D.S ]]","v":"0230"},"Sector 90°",0.193,"14.8 x 11.5",95,"19 x 2.63"]
[{"$f":"Table1[[#This Row],[رقم  T.D.S ]]","v":"0231"},"Sector 90°",0.26800000000000002,"12.7 X 10",70,"19 X 2.22"]
[{"$f":"Table1[[#This Row],[رقم  T.D.S ]]","v":"0232"},"Circular - Stranded",7.41,2.0099999999999998,2.5,"7 X 0.67"]
[{"$f":"Table1[[#This Row],[رقم  T.D.S ]]","v":"0233"},"Sector 120°",0.193,"15.6 X 9.6",95,"19 X 2.63"]
[{"$f":"Table1[[#This Row],[رقم  T.D.S ]]","v":"0234"},"Sector 120°",0.38700000000000001,"11.2 X 6.45",50,"19 X 1.86"]
[{"$f":"Table1[[#This Row],[رقم  T.D.S ]]","v":"0235"},"Circular - Compacted",1.83,3.7,10,"7 X 1.43"]
[{"$f":"Table1[[#This Row],[رقم  T.D.S ]]","v":"0236"},"Circular - Stranded",3.08,3.12,6,"7 X 1.04"]
[{"$f":"Table1[[#This Row],[رقم  T.D.S ]]","v":"0237"},"Circular - Stranded",4.6100000000000003,2.52,4,"7 X 0.84"]
[{"$f":"Table1[[#This Row],[رقم  T.D.S ]]","v":"0238"},"Circular - Stranded",7.41,2.0099999999999998,2.5,"7 X 0.67"]
[{"$f":"Table1[[#This Row],[رقم  T.D.S ]]","v":"0239"},"Sector 90°",0.38700000000000001,"10.3 X 7.5",50,"19 X 1.86"]
[{"$f":"Table1[[#This Row],[رقم  T.D.S ]]","v":"0240"},"Circular - Compacted",0.72699999999999998,5.8,25,"7 X 2.22"]
[{"$f":"Table1[[#This Row],[رقم  T.D.S ]]","v":"0241"},"Sector 120°",0.26800000000000002,"13.7 x 7.8",70,"19 x 2.22"]
[{"$f":"Table1[[#This Row],[رقم  T.D.S ]]","v":"0242"},"Circular - Compacted",1.1499999999999999,4.7,16,"7 X 1.75"]
[{"$f":"Table1[[#This Row],[رقم  T.D.S ]]","v":"0243"},"Circular - Stranded",3.08,3.12,6,"7 X 1.04"]
[{"$f":"Table1[[#This Row],[رقم  T.D.S ]]","v":"0244"},"Circular - Compacted",1.83,3.7,10,"7 X 1.43"]
[{"$f":"Table1[[#This Row],[رقم  T.D.S ]]","v":"0245"},"Circular - Compacted",0.52400000000000002,6.9,35,"7 X 2.65"]
[{"$f":"Table1[[#This Row],[رقم  T.D.S ]]","v":"0246"},"Circular - Compacted",0.52400000000000002,6.9,35,"7 X 2.65"]
[{"$f":"Table1[[#This Row],[رقم  T.D.S ]]","v":"0247"},"Circular - Stranded",7.41,2.0099999999999998,2.5,"7 X 0.67"]
[{"$f":"Table1[[#This Row],[رقم  T.D.S ]]","v":"0248"},"Circular - Stranded",4.6100000000000003,2.52,4,"7 X 0.84"]
[{"$f":"Table1[[#This Row],[رقم  T.D.S ]]","v":"0249"},"Circular - Stranded",12.1,1.56,1.5,"7 X 0.52"]
[{"$f":"Table1[[#This Row],[رقم  T.D.S ]]","v":"0250"},"Circular - Stranded",0.124,"20 X 11.7",150,"36 X 2.36"]
[{"$f":"Table1[[#This Row],[رقم  T.D.S ]]","v":"0251"},"Circular-Stranded",4.6100000000000003,2.52,4,"7 x 0.84"]
[{"$f":"Table1[[#This Row],[رقم  T.D.S ]]","v":"0252-1"},"Circular-Stranded",7.41,2.0099999999999998,2.5,"7 X 0.67"]
[{"$f":"Table1[[#This Row],[رقم  T.D.S ]]","v":"0253-1"},"Circular-Stranded",12.1,1.56,1.5,"7 X 0.52"]
[{"$f":"Table1[[#This Row],[رقم  T.D.S ]]","v":"0254-1"},"Circular-Stranded",4.6100000000000003,2.52,4,"7 X 0.84"]
[{"$f":"Table1[[#This Row],[رقم  T.D.S ]]","v":"0255-1"},"Circular-Stranded",3.08,3.12,6,"7 X 1.04"]
[{"$f":"Table1[[#This Row],[رقم  T.D.S ]]","v":"0256-1"},"Circular-Stranded",4.6100000000000003,2.52,4,"7 X 0.84"]
[{"$f":"Table1[[#This Row],[رقم  T.D.S ]]","v":"0257"},"Circular-Compacted",0.26800000000000002,9.8000000000000007,70,"19 X 2.22"]
[{"$f":"Table1[[#This Row],[رقم  T.D.S ]]","v":"0258-3"},"Circular-Stranded",12.1,1.56,1.5,"7 X 0.52"]
[{"$f":"Table1[[#This Row],[رقم  T.D.S ]]","v":"0259-3"},"Circular-Stranded",12.1,1.56,1.5,"7 X 0.52"]
[{"$f":"Table1[[#This Row],[رقم  T.D.S ]]","v":"0260-3"},"Circular-Stranded",7.41,2.0099999999999998,2.5,"7 X 0.67"]
[{"$f":"Table1[[#This Row],[رقم  T.D.S ]]","v":"0261-3"},"Circular-Stranded",7.41,2.0099999999999998,2.5,"7 X 0.67"]
[{"$f":"Table1[[#This Row],[رقم  T.D.S ]]","v":"0262"},"Circular-Stranded",7.41,2.0099999999999998,2.5,"7 X 0.67"]
[{"$f":"Table1[[#This Row],[رقم  T.D.S ]]","v":"0263-2"},"Circular-Stranded",4.6100000000000003,2.52,4,"7 X 0.84"]
[{"$f":"Table1[[#This Row],[رقم  T.D.S ]]","v":"0264-4"},"Circular-Stranded",4.6100000000000003,2.52,4,"7 X 0.84"]
[{"$f":"Table1[[#This Row],[رقم  T.D.S ]]","v":"0265-4"},"Circular-Stranded",7.41,2.0099999999999998,2.5,"7 X 0.67"]
[{"$f":"Table1[[#This Row],[رقم  T.D.S ]]","v":"0266-1"},null,12.45,null,null,{"$f":"_xlfn.IFNA(VLOOKUP(Table14[[#This Row],[Conductor Size]],[1]Stranding!O502:Q520,3,0),\"\")","v":""}]
[{"$f":"Table1[[#This Row],[رقم  T.D.S ]]","v":"0267-1"},"Circular-Compacted",0.253,12.7,120,"19 X 2.96"]
[{"$f":"Table1[[#This Row],[رقم  T.D.S ]]","v":"0268-4"},"Circular-Stranded",6.1,2.19,3,"7 X 0.73"]
[{"$f":"Table1[[#This Row],[رقم  T.D.S ]]","v":"0269-4"},"Circular-Stranded",6.1,2.19,3,"7 X 0.73"]
[{"$f":"Table1[[#This Row],[رقم  T.D.S ]]","v":"0270-4"},"Circular-Stranded",6.1,2.19,3,"7 X 0.73"]
[{"$f":"Table1[[#This Row],[رقم  T.D.S ]]","v":"0271-2"},"Circular-Stranded",4.6100000000000003,2.52,4,"7 X 0.84"]
[{"$f":"Table1[[#This Row],[رقم  T.D.S ]]","v":"0272"},"Circular-Stranded",4.6100000000000003,2.52,4,"7 X 0.84"]
[{"$f":"Table1[[#This Row],[رقم  T.D.S ]]","v":"0273-1"},"Circular-Stranded",4.6100000000000003,2.52,4,"7 X 0.84"]
[{"$f":"Table1[[#This Row],[رقم  T.D.S ]]","v":"0274-1"},"Circular-Stranded",3.08,3.12,6,"7 X 1.04"]
[{"$f":"Table1[[#This Row],[رقم  T.D.S ]]","v":"0275-3"},"Bunched",0.129,16.100000000000001,150,"714 X 0.5","17x(42x0.50mm)"]
[{"$f":"Table1[[#This Row],[رقم  T.D.S ]]","v":"0276-3"},"Bunched",4.8599999999999997E-2,25.8,400,"1834 X 0.5","1834x0.50mm"]
[{"$f":"Table1[[#This Row],[رقم  T.D.S ]]","v":"0277-3"},"Bunched",13.3,1.52,1.5,"26 X 0.25"]
[{"$f":"Table1[[#This Row],[رقم  T.D.S ]]","v":"0278-3"},"Bunched",13.3,1.52,1.5," 26 X 0.25"]
[{"$f":"Table1[[#This Row],[رقم  T.D.S ]]","v":"0279-2"},"Bunched",13.3,1.52,1.5," 26 X 0.25"]
[{"$f":"Table1[[#This Row],[رقم  T.D.S ]]","v":"0280-4"},"Bunched",13.3,1.52,1.5," 26 X 0.25"]
[{"$f":"Table1[[#This Row],[رقم  T.D.S ]]","v":"0281-4"},"Bunched",13.3,1.52,1.5," 26 X 0.25"]
[{"$f":"Table1[[#This Row],[رقم  T.D.S ]]","v":"0282-3"},"Bunched",7.98,1.95,2.5,"43 X 0.25"]
[{"$f":"Table1[[#This Row],[رقم  T.D.S ]]","v":"0283"},"Bunched",7.98,1.95,2.5,"43 X 0.25"]
[{"$f":"Table1[[#This Row],[رقم  T.D.S ]]","v":"0284"},"Bunched",7.98,1.95,2.5,"43 X 0.25"]
[{"$f":"Table1[[#This Row],[رقم  T.D.S ]]","v":"0285-3"},"Circular-Stranded",7.41,2.0099999999999998,2.5,"7 X 0.67"]
[{"$f":"Table1[[#This Row],[رقم  T.D.S ]]","v":"0286-2"},"Circular - Compacted",6.0100000000000001E-2,20.5,300,"37 X 3.35"]
[{"$f":"Table1[[#This Row],[رقم  T.D.S ]]","v":"0287-3"},"Circular - Compacted",2.8299999999999999E-2,30.05,630,"61 X 3.81"]
[{"$f":"Table1[[#This Row],[رقم  T.D.S ]]","v":"0288-2"},"Circular-Compacted",0.253,12.7,120,"19 X 2.96"]
[{"$f":"Table1[[#This Row],[رقم  T.D.S ]]","v":"0289-2"},"Circular-Stranded",12.1,1.56,1.5,"7 X 0.52"]
[{"$f":"Table1[[#This Row],[رقم  T.D.S ]]","v":"0290"},"Circular-Stranded",7.41,2.0099999999999998,null,"7 X 0.67"]
[{"$f":"Table1[[#This Row],[رقم  T.D.S ]]","v":"0291"},"Circular-Stranded",6.1,2.2200000000000002,null,"7 X 0.74"]
[{"$f":"Table1[[#This Row],[رقم  T.D.S ]]","v":"0292"},"Circular-Stranded",4.6100000000000003,2.52,null,"7 X 0.84"]
[{"$f":"Table1[[#This Row],[رقم  T.D.S ]]","v":"0293"},"Circular-Stranded",3.08,3.09,null,"7 X 1.03"]
[{"$f":"Table1[[#This Row],[رقم  T.D.S ]]","v":"0294"},"Circular-Stranded",null,1.21,null,"14 X 0.27"]
[{"$f":"Table1[[#This Row],[رقم  T.D.S ]]","v":"0295"},"Circular-Stranded",null,1.48,null,"21 X 0.27"]
[{"$f":"Table1[[#This Row],[رقم  T.D.S ]]","v":"0296"},"Circular-Stranded",null,1.35,null,"14 X 0.3"]
[{"$f":"Table1[[#This Row],[رقم  T.D.S ]]","v":"0297"},"Circular-Stranded",null,1.65,null,"21 X 0.3"]
[{"$f":"Table1[[#This Row],[رقم  T.D.S ]]","v":"0298"},"Circular-Stranded",null,1.44,null,"7 X 0.48"]
[{"$f":"Table1[[#This Row],[رقم  T.D.S ]]","v":"0299"},"Circular-Stranded",null,1.86,null,"7 X 0.62"]
[{"$f":"Table1[[#This Row],[رقم  T.D.S ]]","v":"0300"},"Circular-Stranded",null,2.1,null,"7 X 0.7"]
[{"$f":"Table1[[#This Row],[رقم  T.D.S ]]","v":"0301"},"Circular-Stranded",null,2.4,null,"7 X 0.8"]
[{"$f":"Table1[[#This Row],[رقم  T.D.S ]]","v":"0302"},"Circular-Stranded",null,3,null,"7 X 1"]
[{"$f":"Table1[[#This Row],[رقم  T.D.S ]]","v":"0303"},"Circular-Stranded",0.16400000000000001,15.9,185,"37 X 2.6"]
[{"$f":"Table1[[#This Row],[رقم  T.D.S ]]","v":"0304-1"},"Circular - Compacted",0.72699999999999998,5.8,25,"7 X 2.22"]
[{"$f":"Table1[[#This Row],[رقم  T.D.S ]]","v":"0305-1"},"Sector 90°",0.153,"17.3 X 13",120,"30 X 2.36"]
[{"$f":"Table1[[#This Row],[رقم  T.D.S ]]","v":"0306"},"Bunched",13.3,1.52,1.5,"26 x 0.25"]
[{"$f":"Table1[[#This Row],[رقم  T.D.S ]]","v":"0307-3"},"Circular - Compacted",0.443,9.8000000000000007,70,"19 X 2.18"]
[{"$f":"Table1[[#This Row],[رقم  T.D.S ]]","v":"0308"},"Circular-Stranded",7.41,2.0099999999999998,2.5,"7 x 0.67"]
[{"$f":"Table1[[#This Row],[رقم  T.D.S ]]","v":"0309"},"Circular - Compacted",0.52400000000000002,6.9,35,"7 X 2.65"]
[{"$f":"Table1[[#This Row],[رقم  T.D.S ]]","v":"0310"},"Circular-Stranded",null,2.12,"35X0.3","35X0.3"]
[{"$f":"Table1[[#This Row],[رقم  T.D.S ]]","v":"0311"}]
[{"$f":"Table1[[#This Row],[رقم  T.D.S ]]","v":"0312-1"},"Sector 90°",0.124,"19.7 X 13.4",150,"36 X 2.36"]
[{"$f":"Table1[[#This Row],[رقم  T.D.S ]]","v":"0313-2"},"Circular - Compacted",1.83,3.7,10,"7 x 1.43"]
[{"$f":"Table1[[#This Row],[رقم  T.D.S ]]","v":"0314-1"},"Circular-non - Compacted",0.38700000000000001,9,50,"19 x 1.8"]
[{"$f":"Table1[[#This Row],[رقم  T.D.S ]]","v":"0315-1"},"Circular-non - Compacted",0.193,12.5,95,"19 X 2.5"]
[{"$f":"Table1[[#This Row],[رقم  T.D.S ]]","v":"0316-2"},"Bunched",0.129,16.100000000000001,150,"714 X 0.5"]
[{"$f":"Table1[[#This Row],[رقم  T.D.S ]]","v":"0317-4"},"Circular - Compacted",0.253,12.7,120,"19 X 2.96"]
[{"$f":"Table1[[#This Row],[رقم  T.D.S ]]","v":"0318-2"},"Bunched",6.65,2.15,3,"38 X 0.3"]
[{"$f":"Table1[[#This Row],[رقم  T.D.S ]]","v":"0319-1"},"Circular-Stranded",18.100000000000001,1.26,1,"7 X 0.42"]
[{"$f":"Table1[[#This Row],[رقم  T.D.S ]]","v":"0320"},"Sector 90°",0.38700000000000001,"10.3 X 7.5",50,"19 X 1.86"]
[{"$f":"Table1[[#This Row],[رقم  T.D.S ]]","v":"0321"},"Circular - Compacted",0.16400000000000001,"15.9    ± 0.2",185,"37 X 2.6"]
[{"$f":"Table1[[#This Row],[رقم  T.D.S ]]","v":"0322"},"Circular - Compacted",0.193,11.3,95,"19 X 2.65"]
[{"$f":"Table1[[#This Row],[رقم  T.D.S ]]","v":"0323-2"},"Sector 90°",0.253,"16.8 X 13.2",120,"30 X 2.33"]
[{"$f":"Table1[[#This Row],[رقم  T.D.S ]]","v":"0324-2"},"Sector 90°",0.125,"24 X 18.1",240,"37 X 2.94"]
[{"$f":"Table1[[#This Row],[رقم  T.D.S ]]","v":"0325"},"Circular - Compacted",0.253,12.7,120,"19 X 2.96+7 X 3"]
[{"$f":"Table1[[#This Row],[رقم  T.D.S ]]","v":"0326-5"},"Circular-Stranded",6.1,2.19,3,"7 X 0.73"]
[{"$f":"Table1[[#This Row],[رقم  T.D.S ]]","v":"0327-5"},"Circular-Stranded",6.1,2.19,3,"7 X 0.73"]
[{"$f":"Table1[[#This Row],[رقم  T.D.S ]]","v":"0328-2"},"Bunched",13.3,1.52,1.5,"26 X 0.25"]
[{"$f":"Table1[[#This Row],[رقم  T.D.S ]]","v":"0329-2"},"Bunched",0.78,6.2,25,"175 X 0.4"]
[{"$f":"Table1[[#This Row],[رقم  T.D.S ]]","v":"0330"},"Bunched",39,0.91,0.5,"7 X 0.3"]
[{"$f":"Table1[[#This Row],[رقم  T.D.S ]]","v":"0331"},"Bunched",26,1.1499999999999999,0.75,"11 X 0.3"]
[{"$f":"Table1[[#This Row],[رقم  T.D.S ]]","v":"0332-2"},"Bunched",18.5,1.29,1,"14 X 0.3"]
[{"$f":"Table1[[#This Row],[رقم  T.D.S ]]","v":"0333"},"Bunched",13.3,1.58,1.5,"21 X 0.3"]
[{"$f":"Table1[[#This Row],[رقم  T.D.S ]]","v":"0334"},"Bunched",7.98,2.04,2.5,"35 X 0.3"]
[{"$f":"Table1[[#This Row],[رقم  T.D.S ]]","v":"0335"},"Bunched",4.95,2.59,4,"56 X 0.3"]
[{"$f":"Table1[[#This Row],[رقم  T.D.S ]]","v":"0336"},"Bunched",3.3,3.17,6,"84 X 0.3"]
[{"$f":"Table1[[#This Row],[رقم  T.D.S ]]","v":"0337"},"Bunched",1.91,4.09,10,"140 X 0.3"]
[{"$f":"Table1[[#This Row],[رقم  T.D.S ]]","v":"0338"},"Circular-Stranded",18.100000000000001,1.26,1,"7 X 0.42"]
[{"$f":"Table1[[#This Row],[رقم  T.D.S ]]","v":"0339"},"Circular-Stranded",6.1,2.19,3,"7 X 0.73"]
[{"$f":"Table1[[#This Row],[رقم  T.D.S ]]","v":"0340"},"Circular-Stranded",3.08,3.12,6,"7 X 1.04"]
[{"$f":"Table1[[#This Row],[رقم  T.D.S ]]","v":"0341"},"Circular-Stranded",7.41,2.0099999999999998,2.5,"7 X 0.67"]
[{"$f":"Table1[[#This Row],[رقم  T.D.S ]]","v":"0342"},"Circular-Stranded",4.6100000000000003,2.52,4,"7 X 0.84"]
[{"$f":"Table1[[#This Row],[رقم  T.D.S ]]","v":"0343-2"},"Bunched",19.5,1.24,1,"26 x 0.2"]
[{"$f":"Table1[[#This Row],[رقم  T.D.S ]]","v":"0344-1"},"Circular-Stranded",4.6100000000000003,2.52,4,"7 X 0.84"]
[{"$f":"Table1[[#This Row],[رقم  T.D.S ]]","v":"0345-1"},"Circular-Stranded",4.6100000000000003,2.52,4,"7 X 0.84"]
[{"$f":"Table1[[#This Row],[رقم  T.D.S ]]","v":"0346"},"Circular-Stranded",3.08,3.12,6,"7 X 1.04"]
[{"$f":"Table1[[#This Row],[رقم  T.D.S ]]","v":"0347"},"Circular-Stranded",3.08,3.12,6,"7 X 1.04"]
[{"$f":"Table1[[#This Row],[رقم  T.D.S ]]","v":"0348-1"},"Circular-Stranded",4.6100000000000003,2.52,4,"7 X 0.84"]
[{"$f":"Table1[[#This Row],[رقم  T.D.S ]]","v":"0349"},"Circular-Stranded",24.5,1.1100000000000001,0.75,"11 X 0.3"]
[{"$f":"Table1[[#This Row],[رقم  T.D.S ]]","v":"0350"},"Bunched",7.98,1.95,2.5,"43 X 0.25"]
[{"$f":"Table1[[#This Row],[رقم  T.D.S ]]","v":"0351-1"},"Bunched",7.98,1.95,2.5,"43 X 0.25"]
[{"$f":"Table1[[#This Row],[رقم  T.D.S ]]","v":"0352-2"},"Circular - Compacted",3.08,3.7,10,"7 X 1.43"]
[{"$f":"Table1[[#This Row],[رقم  T.D.S ]]","v":"0353-2"},"Circular - Compacted",3.08,3.7,10,"7 X 1.43"]
[{"$f":"Table1[[#This Row],[رقم  T.D.S ]]","v":"0354-1"},"Circular - Compacted",1.91,4.7,16,"7 X 1.7"]
[{"$f":"Table1[[#This Row],[رقم  T.D.S ]]","v":"0355-3"},"Circular - Compacted",1.91,4.7,16,"7 X 1.7 "]
[{"$f":"Table1[[#This Row],[رقم  T.D.S ]]","v":"0356-2"},"Circular - Compacted",1.2,5.9,25,"7 X 2.22"]
[{"$f":"Table1[[#This Row],[رقم  T.D.S ]]","v":"0357-1"},"Bunched",1.21,5.2,16,"119 X 0.4"]
[{"$f":"Table1[[#This Row],[رقم  T.D.S ]]","v":"0358-2"},"Bunched",0.78,6.2,25,"175 X 0.4"]
[{"$f":"Table1[[#This Row],[رقم  T.D.S ]]","v":"0359"},"Bunched",0.78,6.2,25,"175 X 0.4"]
[{"$f":"Table1[[#This Row],[رقم  T.D.S ]]","v":"0360-1"},"Bunched",0.55400000000000005,7.6,35,"252 X 0.4"]
[{"$f":"Table1[[#This Row],[رقم  T.D.S ]]","v":"0361"},"Bunched",13.3,1.52,1.5,"26 X 0.25"]
[{"$f":"Table1[[#This Row],[رقم  T.D.S ]]","v":"0362"},"Bunched",0.20599999999999999,12.7,95,"448 X 0.5"]
[{"$f":"Table1[[#This Row],[رقم  T.D.S ]]","v":"0363-1"},"Bunched",0.20599999999999999,12.7,95,"448 X 0.5"]
[{"$f":"Table1[[#This Row],[رقم  T.D.S ]]","v":"0364-2"},"Circular - Compacted",1.83,3.7,10,"7 X 1.43"]
[{"$f":"Table1[[#This Row],[رقم  T.D.S ]]","v":"0365"},"Sector 90°",0.38700000000000001,"10 X 7.5",50,"19 X 1.86+7 X 2.22"]
[{"$f":"Table1[[#This Row],[رقم  T.D.S ]]","v":"0366"},"Circular-Stranded",7.41,2.0099999999999998,2.5,"7 X 0.67"]
[{"$f":"Table1[[#This Row],[رقم  T.D.S ]]","v":"0367-2"},"Circular - Compacted",1.1499999999999999,4.7,16,"7 X 1.75"]
[{"$f":"Table1[[#This Row],[رقم  T.D.S ]]","v":"0368"},"Circular - Compacted",0.52400000000000002,6.9,35,"7 X 2.65+7 X 1.75"]
[{"$f":"Table1[[#This Row],[رقم  T.D.S ]]","v":"0369-2"},"Circular-Stranded",4.6100000000000003,2.52,4,"7 X 0.84"]
[{"$f":"Table1[[#This Row],[رقم  T.D.S ]]","v":"0370"},"Circular - Compacted",0.124,14.1,150,"19 X 3.36+19 X 2.22"]
[{"$f":"Table1[[#This Row],[رقم  T.D.S ]]","v":"0371"},"Circular - Compacted",0.52400000000000002,6.9,35,"7 X 2.65+7 X 1.75"]
[{"$f":"Table1[[#This Row],[رقم  T.D.S ]]","v":"0372-1"},"Circular - Compacted",0.193,11.3,95,"19 X 2.65+19 X 1.86"]
[{"$f":"Table1[[#This Row],[رقم  T.D.S ]]","v":"0373"},"Circular - Compacted",1.83,3.7,10,"7 X 1.43"]
[{"$f":"Table1[[#This Row],[رقم  T.D.S ]]","v":"0374-2"},"Circular-Stranded",3.08,3.12,6,"7 X 1.04"]
[{"$f":"Table1[[#This Row],[رقم  T.D.S ]]","v":"0375"},"Circular - Compacted",0.26800000000000002,9.8000000000000007,70,"19 x 2.22+7 x 2.65"]
[{"$f":"Table1[[#This Row],[رقم  T.D.S ]]","v":"0376"},"Circular - Compacted",0.72699999999999998,5.8,25,"7 X 2.22+7 X 1.75"]
[{"$f":"Table1[[#This Row],[رقم  T.D.S ]]","v":"0377"},"Sector 90°",0.26800000000000002,"12.7 X 10",70,"19 X 2.22+ 7 X 2.65"]
[{"$f":"Table1[[#This Row],[رقم  T.D.S ]]","v":"0378"},"Circular - Compacted",0.72699999999999998,5.8,25,"7 X 2.22+7 X 1.75"]
[{"$f":"Table1[[#This Row],[رقم  T.D.S ]]","v":"0379"},"Circular-Stranded",3.08,3.12,6,"7 X 1.04"]
[{"$f":"Table1[[#This Row],[رقم  T.D.S ]]","v":"0380"},"Circular-Stranded",7.41,2.0099999999999998,2.5,"7 X 0.67"]
[{"$f":"Table1[[#This Row],[رقم  T.D.S ]]","v":"0381"},"Circular-Stranded",7.41,2.0099999999999998,2.5,"7 X 0.67"]
[{"$f":"Table1[[#This Row],[رقم  T.D.S ]]","v":"0382"},"Circular-Stranded",12.1,1.56,1.5,"7 X 0.52"]
[{"$f":"Table1[[#This Row],[رقم  T.D.S ]]","v":"0383"},"Circular-Stranded",18.100000000000001,1.26,1,"7 X 0.42"]
[{"$f":"Table1[[#This Row],[رقم  T.D.S ]]","v":"0384"},"Circular-Stranded",18.100000000000001,1.26,1,"7 X 0.42"]
[{"$f":"Table1[[#This Row],[رقم  T.D.S ]]","v":"0385"},"Circular-Stranded",18.100000000000001,1.26,1,"7 X 0.42"]
[{"$f":"Table1[[#This Row],[رقم  T.D.S ]]","v":"0386"},"Circular-Stranded",18.100000000000001,1.26,1,"7 X 0.42"]
[{"$f":"Table1[[#This Row],[رقم  T.D.S ]]","v":"0387"},"Circular-Stranded",18.100000000000001,1.26,1,"7 X 0.42"]
[{"$f":"Table1[[#This Row],[رقم  T.D.S ]]","v":"0388"},"Circular-Stranded",18.100000000000001,1.26,1,"7 X 0.42"]
[{"$f":"Table1[[#This Row],[رقم  T.D.S ]]","v":"0389-2"}]
[{"$f":"Table1[[#This Row],[رقم  T.D.S ]]","v":"0390-2"},"Bunched",26,1.1200000000000001,0.75,"20 X 0.2"]
[{"$f":"Table1[[#This Row],[رقم  T.D.S ]]","v":"0391"},"Circular-Stranded",18.100000000000001,1.26,1,"7 X 0.42"]
[{"$f":"Table1[[#This Row],[رقم  T.D.S ]]","v":"0392"},"Circular-Stranded",18.100000000000001,1.26,1,"7 X 0.42"]
[{"$f":"Table1[[#This Row],[رقم  T.D.S ]]","v":"0393"},null,null,null,null,{"$f":"_xlfn.IFNA(VLOOKUP(Table14[[#This Row],[Conductor Size]],N395:P413,3,0),\"\")","v":""}]
[{"$f":"Table1[[#This Row],[رقم  T.D.S ]]","v":"0394"},"Circular - Compacted",0.443,9.8000000000000007,70,"19 X 2.18"]
[{"$f":"Table1[[#This Row],[رقم  T.D.S ]]","v":"0395-1"},"Circular-Stranded",3.08,3.12,6,"7 X 1.04"]
[{"$f":"Table1[[#This Row],[رقم  T.D.S ]]","v":"0396-2"},"Circular-Stranded",12.1,1.56,1.5,"7 X 0.52"]
[{"$f":"Table1[[#This Row],[رقم  T.D.S ]]","v":"0397-1"},"Circular - Compacted",1.1499999999999999,4.7,16,"7 X 1.75"]
[{"$f":"Table1[[#This Row],[رقم  T.D.S ]]","v":"0398-1"},"Circular - Compacted",1.83,3.7,10,"7 X 1.43"]
[{"$f":"Table1[[#This Row],[رقم  T.D.S ]]","v":"0399"},"Bunched",3.3,3.01,6,"73 X 0.3"]
[{"$f":"Table1[[#This Row],[رقم  T.D.S ]]","v":"0400-1"},"Circular -non- Compacted",0.26800000000000002,10.7,70,"19 x 2.14"]
[{"$f":"Table1[[#This Row],[رقم  T.D.S ]]","v":"0401-1"},"Circular - Compacted",0.86799999999999999,6.9,35,"7 X 2.55"]
[{"$f":"Table1[[#This Row],[رقم  T.D.S ]]","v":"0402-2"},"Sector 90°",0.64100000000000001,"11 x 7.6",50,"19 x 1.83"]
[{"$f":"Table1[[#This Row],[رقم  T.D.S ]]","v":"0403"},"Sector 90°",0.443,"12.5 X 9.8",70,"19 X 2.18"]
[{"$f":"Table1[[#This Row],[رقم  T.D.S ]]","v":"0404-1"},"Sector 90°",0.32,"15.2 X 11.8",95,"19 X 2.56"]
[{"$f":"Table1[[#This Row],[رقم  T.D.S ]]","v":"0405"},"Bunched",13.3,1.52,1.5,"26 X 0.25"]
[{"$f":"Table1[[#This Row],[رقم  T.D.S ]]","v":"0406-1"},"Bunched",13.3,1.52,1.5,"26 X 0.25"]
[{"$f":"Table1[[#This Row],[رقم  T.D.S ]]","v":"0407-1"},"Bunched",7.98,1.95,2.5,"43 X 0.25"]
[{"$f":"Table1[[#This Row],[رقم  T.D.S ]]","v":"0408-1"},"Bunched",7.98,1.95,2.5,"43 X 0.25"]
[{"$f":"Table1[[#This Row],[رقم  T.D.S ]]","v":"0409"},"Circular-Stranded",3.08,3.12,6,"7 X 1.04"]
[{"$f":"Table1[[#This Row],[رقم  T.D.S ]]","v":"0410-2"},"Circular-Stranded",3.08,3.12,6,"7 X 1.04"]
[{"$f":"Table1[[#This Row],[رقم  T.D.S ]]","v":"0411"},"Circular - Compacted",0.16400000000000001,15.9,185,"37 X 2.6"]
[{"$f":"Table1[[#This Row],[رقم  T.D.S ]]","v":"0412-1"},"Circular - Compacted",6.0100000000000001E-2,20.5,300,"37 x 3.35",null,"PS01",10]
[{"$f":"Table1[[#This Row],[رقم  T.D.S ]]","v":"0413-2"},"Sector 90°",9.9099999999999994E-2,"21.4 X 16.4",185,"37 X 2.63"]
[{"$f":"Table1[[#This Row],[رقم  T.D.S ]]","v":"0414-1"},"Circular - Compacted",0.252,"12.7±0.1",120,"19 X 2.96"]
[{"$f":"Table1[[#This Row],[رقم  T.D.S ]]","v":"0415"},"Circular - Compacted",0.16300000000000001,"15.9±0.2",185,"37 X 2.6"]
[{"$f":"Table1[[#This Row],[رقم  T.D.S ]]","v":"0416-2"},"Circular - Compacted",0.124,14.1,150,"19 X 3.36"]
[{"$f":"Table1[[#This Row],[رقم  T.D.S ]]","v":"0417-1"},"Circular -non- Compacted",0.72699999999999998,6.42,25,"7 x 2.14"]
[{"$f":"Table1[[#This Row],[رقم  T.D.S ]]","v":"0418-1"},"Circular -non- Compacted",0.52400000000000002,7.5,35,"7 X 2.5"]
[{"$f":"Table1[[#This Row],[رقم  T.D.S ]]","v":"0419-3"},"AAC",0.24560000000000001,14,120,"19 X 2.8",null,null,null,null,null,"84-126-134/L.H/8.4\n140-168-196/ R.H/14"]
[{"$f":"Table1[[#This Row],[رقم  T.D.S ]]","v":"0420"},"Bunched",19.5,1.24,1,"26 X 0.2"]
[{"$f":"Table1[[#This Row],[رقم  T.D.S ]]","v":"0421"},"Bunched",19.5,1.24,1,"26 X 0.2"]
[{"$f":"Table1[[#This Row],[رقم  T.D.S ]]","v":"0422"},"Bunched",19.5,1.24,1,"26 X 0.2"]
[{"$f":"Table1[[#This Row],[رقم  T.D.S ]]","v":"0423"},"Bunched",1.91,3.99,10,"73 X 0.4"]
[{"$f":"Table1[[#This Row],[رقم  T.D.S ]]","v":"0424"},"Circular-Stranded",7.41,2.0099999999999998,2.5,"7 X 0.67"]
[{"$f":"Table1[[#This Row],[رقم  T.D.S ]]","v":"0425-2"},"Bunched",12.7,1.59,1.5,"21 X 0.3"]
[{"$f":"Table1[[#This Row],[رقم  T.D.S ]]","v":"0426-1"},"Bunched / Lay length  40mm",8.4,1.97,2,"18 X 0.4"]
[{"$f":"Table1[[#This Row],[رقم  T.D.S ]]","v":"0427"},"Bunched",7.6,2.06,2.5,"35 X 0.3"]
[{"$f":"Table1[[#This Row],[رقم  T.D.S ]]","v":"0428"},"Bunched",4.71,2.6,4,"56 X 0.3"]
[{"$f":"Table1[[#This Row],[رقم  T.D.S ]]","v":"0429-1"},"Bunched / Lay length  49mm",5.4,2.46,4,"28 X 0.4"]
[{"$f":"Table1[[#This Row],[رقم  T.D.S ]]","v":"0430"},"Bunched",3.14,3.19,6,"84 X 0.3"]
[{"$f":"Table1[[#This Row],[رقم  T.D.S ]]","v":"0431"},"Bunched",3,3.28,6,"32 X 0.5"]
[{"$f":"Table1[[#This Row],[رقم  T.D.S ]]","v":"0432"},"Bunched",1.86,4.07,10,"32 X 0.62"]
[{"$f":"Table1[[#This Row],[رقم  T.D.S ]]","v":"0433-1"},"Bunched",0.78,6.2,25,"175 X 0.4"]
[{"$f":"Table1[[#This Row],[رقم  T.D.S ]]","v":"0434"},"Bunched",0.27200000000000002,11.2,70,"350 X 0.5"]
[{"$f":"Table1[[#This Row],[رقم  T.D.S ]]","v":"0435"},"Sector 90°",0.125,"24 X 18.1",240,"37 X 2.94"]
[{"$f":"Table1[[#This Row],[رقم  T.D.S ]]","v":"0436"},"Sector 90°",0.16400000000000001,"21 X 16.2",185,"30 X 2.9"]
[{"$f":"Table1[[#This Row],[رقم  T.D.S ]]","v":"0437"},"Bunched",0.27200000000000002,11.2,70,"350 X 0.5"]
[{"$f":"Table1[[#This Row],[رقم  T.D.S ]]","v":"0438"},"Sector 90°",0.38700000000000001,"10.3 X 7.5",50,"19 X 1.86"]
[{"$f":"Table1[[#This Row],[رقم  T.D.S ]]","v":"0439"},"Sector 90°",0.193,"14.8 x 11.5",95,"19 X 2.63"]
[{"$f":"Table1[[#This Row],[رقم  T.D.S ]]","v":"0440"},"Sector 90°",0.20599999999999999,"19 X 14",150,"37 X 2.33"]
[{"$f":"Table1[[#This Row],[رقم  T.D.S ]]","v":"0441-1"},"Bunched","38 X 10˄-3",31,500,"570 X 1.04"]
[{"$f":"Table1[[#This Row],[رقم  T.D.S ]]","v":"0442"},"Bunched",0.27200000000000002,11.2,70,"350 X 0.5"]
[{"$f":"Table1[[#This Row],[رقم  T.D.S ]]","v":"0443-1"},"Circular-Non-compacted",0.153,14.3,120,"37 X 2.04"]
[{"$f":"Table1[[#This Row],[رقم  T.D.S ]]","v":"0444-1"},"Bunched",1.91,3.99,10,"73 X 0.4"]
[{"$f":"Table1[[#This Row],[رقم  T.D.S ]]","v":"0445-1"},"Bunched",1.21,5.2,16,"119 X 0.4"]
[{"$f":"Table1[[#This Row],[رقم  T.D.S ]]","v":"0446-1"},"Bunched",0.38600000000000001,9.1999999999999993,50,"364 X 0.4"]
[{"$f":"Table1[[#This Row],[رقم  T.D.S ]]","v":"0447"},"Bunched",0.55400000000000005,7.6,35,"252 X 0.4"]
[{"$f":"Table1[[#This Row],[رقم  T.D.S ]]","v":"0448"},"Bunched",12,1.52,1.5,"20 X 0.3"]
[{"$f":"Table1[[#This Row],[رقم  T.D.S ]]","v":"0449-2"},"stranded",7.41,2.0099999999999998,2.5,"7 x 0.67"]
[{"$f":"Table1[[#This Row],[رقم  T.D.S ]]","v":"0450"},"stranded",6.17,2.19,3,"7 x 0.75"]
[{"$f":"Table1[[#This Row],[رقم  T.D.S ]]","v":"0451"},"stranded",4.6100000000000003,2.52,4,"7 x 0.85"]
[{"$f":"Table1[[#This Row],[رقم  T.D.S ]]","v":"0452"},"circular-stranded",3.08,3.12,6,"7 x 1.04"]
[{"$f":"Table1[[#This Row],[رقم  T.D.S ]]","v":"0453-1"},"circular-stranded",12.1,1.56,1.5,"7 X 0.52"]
[{"$f":"Table1[[#This Row],[رقم  T.D.S ]]","v":"0454-2"},"circular-stranded",7.41,2.0099999999999998,2.5,"7 X 0.67"]
[{"$f":"Table1[[#This Row],[رقم  T.D.S ]]","v":"0455-1"},"Bunched",0.161,14.5,120,"574 X 0.5"]
[{"$f":"Table1[[#This Row],[رقم  T.D.S ]]","v":"0456"},"circular-stranded",18.100000000000001,1.26,1,"7 X 0.42"]
[{"$f":"Table1[[#This Row],[رقم  T.D.S ]]","v":"0457"},"circular-stranded",18.100000000000001,1.26,1,"7 X 0.42"]
[{"$f":"Table1[[#This Row],[رقم  T.D.S ]]","v":"0458"},"circular-stranded",18.100000000000001,1.26,1,"7 X 0.42"]
[{"$f":"Table1[[#This Row],[رقم  T.D.S ]]","v":"0459"},"circular-stranded",18.100000000000001,1.26,1,"7 X 0.42"]
[{"$f":"Table1[[#This Row],[رقم  T.D.S ]]","v":"0460-1"},"Bunched",6.65,2.15,3,"38 X 0.3"]
[{"$f":"Table1[[#This Row],[رقم  T.D.S ]]","v":"0461-1"},"Bunched",6.65,2.15,3,"38 X 0.3"]
[{"$f":"Table1[[#This Row],[رقم  T.D.S ]]","v":"0462-1"},"Bunched",3.3,3.01,6,"73 X 0.3"]
[{"$f":"Table1[[#This Row],[رقم  T.D.S ]]","v":"0463"},"Bunched",3.3,3.01,6,"73 X 0.3"]
[{"$f":"Table1[[#This Row],[رقم  T.D.S ]]","v":"0464"},"Bunched",7.98,1.97,2.5,"46 X 0.25"]
[{"$f":"Table1[[#This Row],[رقم  T.D.S ]]","v":"0465-1"},"Bunched",7.98,1.95,2.5,"43 X 0.25"]
[{"$f":"Table1[[#This Row],[رقم  T.D.S ]]","v":"0466-1"},"Bunched",7.98,1.95,2.5,"43 X 0.25"]
[{"$f":"Table1[[#This Row],[رقم  T.D.S ]]","v":"0467-1"},"Bunched",4.95,2.46,4,"49 X 0.3",null,null,null,null,{"$f":"_xlfn.IFNA(VLOOKUP(Table14[[#This Row],[Conductor Size]],N469:P487,2,0),\"\")","v":""}]
[{"$f":"Table1[[#This Row],[رقم  T.D.S ]]","v":"0468-1"},"Bunched",4.95,2.46,4,"49 X 0.3",null,null,null,null,{"$f":"_xlfn.IFNA(VLOOKUP(Table14[[#This Row],[Conductor Size]],N470:P488,2,0),\"\")","v":""}]
[{"$f":"Table1[[#This Row],[رقم  T.D.S ]]","v":"0469-1"},"Bunched",39,0.92,0.5,"13 X 0.2",null,null,null,null,{"$f":"_xlfn.IFNA(VLOOKUP(Table14[[#This Row],[Conductor Size]],N471:P489,2,0),\"\")","v":""}]
[{"$f":"Table1[[#This Row],[رقم  T.D.S ]]","v":"0470-1"},"Bunched",39,0.92,0.5,"13 X 0.2",null,null,null,null,{"$f":"_xlfn.IFNA(VLOOKUP(Table14[[#This Row],[Conductor Size]],N472:P490,2,0),\"\")","v":""}]
[{"$f":"Table1[[#This Row],[رقم  T.D.S ]]","v":"0471-1"},"Bunched",26,1.1200000000000001,0.75,"20 X 0.2",null,null,null,null,{"$f":"_xlfn.IFNA(VLOOKUP(Table14[[#This Row],[Conductor Size]],N473:P491,2,0),\"\")","v":""}]
[{"$f":"Table1[[#This Row],[رقم  T.D.S ]]","v":"0472-1"},"Bunched",26,1.1200000000000001,0.75,"20 X 0.2",null,null,null,null,{"$f":"_xlfn.IFNA(VLOOKUP(Table14[[#This Row],[Conductor Size]],N474:P492,2,0),\"\")","v":""}]
[{"$f":"Table1[[#This Row],[رقم  T.D.S ]]","v":"0473-1"},"Circular-compacted",3.08,3.7,10,"7 X 1.43",null,null,null,null,{"$f":"_xlfn.IFNA(VLOOKUP(Table14[[#This Row],[Conductor Size]],N475:P493,2,0),\"\")","v":""}]
[{"$f":"Table1[[#This Row],[رقم  T.D.S ]]","v":"0474"},null,null,null,null,{"$f":"_xlfn.IFNA(VLOOKUP(Table14[[#This Row],[Conductor Size]],N476:P494,3,0),\"\")","v":""},null,null,null,null,{"$f":"_xlfn.IFNA(VLOOKUP(Table14[[#This Row],[Conductor Size]],N476:P494,2,0),\"\")","v":""}]
[{"$f":"Table1[[#This Row],[رقم  T.D.S ]]","v":"0475-3"},null,null,null,null,{"$f":"_xlfn.IFNA(VLOOKUP(Table14[[#This Row],[Conductor Size]],N477:P495,3,0),\"\")","v":""},null,null,null,null,{"$f":"_xlfn.IFNA(VLOOKUP(Table14[[#This Row],[Conductor Size]],N477:P495,2,0),\"\")","v":""}]
[{"$f":"Table1[[#This Row],[رقم  T.D.S ]]","v":"0476"},null,null,null,null,{"$f":"_xlfn.IFNA(VLOOKUP(Table14[[#This Row],[Conductor Size]],N478:P496,3,0),\"\")","v":""},null,null,null,null,{"$f":"_xlfn.IFNA(VLOOKUP(Table14[[#This Row],[Conductor Size]],N478:P496,2,0),\"\")","v":""}]
[{"$f":"Table1[[#This Row],[رقم  T.D.S ]]","v":"0477"},"Circular-Non-compacted",1.1499999999999999,5.0999999999999996,16,"7 X 1.7",null,null,null,null,{"$f":"_xlfn.IFNA(VLOOKUP(Table14[[#This Row],[Conductor Size]],N479:P497,2,0),\"\")","v":""}]
[{"$f":"Table1[[#This Row],[رقم  T.D.S ]]","v":"0478-1"},"Bunched",7.98,1.97,"42 X 2.5","46 X 0.25",null,null,null,null,{"$f":"_xlfn.IFNA(VLOOKUP(Table14[[#This Row],[Conductor Size]],N480:P498,2,0),\"\")","v":""}]
[{"$f":"Table1[[#This Row],[رقم  T.D.S ]]","v":"0479"},"circular-stranded",3.08,3.12,6,"7 X 1.04",null,null,null,null,{"$f":"_xlfn.IFNA(VLOOKUP(Table14[[#This Row],[Conductor Size]],N481:P499,2,0),\"\")","v":""}]
[{"$f":"Table1[[#This Row],[رقم  T.D.S ]]","v":"0480"},"Bunched",13.3,1.52,1.5,"26 X 0.25",null,null,null,null,{"$f":"_xlfn.IFNA(VLOOKUP(Table14[[#This Row],[Conductor Size]],N482:P500,2,0),\"\")","v":""}]
[{"$f":"Table1[[#This Row],[رقم  T.D.S ]]","v":"0481-1"},"Bunched",7.98,1.95,2.5,"43 X 0.25",null,null,null,null,{"$f":"_xlfn.IFNA(VLOOKUP(Table14[[#This Row],[Conductor Size]],N483:P501,2,0),\"\")","v":""}]
[{"$f":"Table1[[#This Row],[رقم  T.D.S ]]","v":"0482"},"circular-stranded",4.6100000000000003,3.18,6,"7 X 1.06",null,null,null,null,{"$f":"_xlfn.IFNA(VLOOKUP(Table14[[#This Row],[Conductor Size]],N484:P502,2,0),\"\")","v":""}]
[{"$f":"Table1[[#This Row],[رقم  T.D.S ]]","v":"0483-1"},"Circular-compacted",1.91,4.7,16,"7 X 1.7",null,null,null,null,{"$f":"_xlfn.IFNA(VLOOKUP(Table14[[#This Row],[Conductor Size]],N485:P503,2,0),\"\")","v":""}]
[{"$f":"Table1[[#This Row],[رقم  T.D.S ]]","v":"0484"},"Circular-compacted",2.2100000000000002E-2,34.5,800,"61 X 4.31",null,null,null,null,{"$f":"_xlfn.IFNA(VLOOKUP(Table14[[#This Row],[Conductor Size]],N486:P504,2,0),\"\")","v":""}]
[{"$f":"Table1[[#This Row],[رقم  T.D.S ]]","v":"0485"},"Bunched",19.5,1.24,1,"26 X 0.2",null,null,null,null,{"$f":"_xlfn.IFNA(VLOOKUP(Table14[[#This Row],[Conductor Size]],N487:P505,2,0),\"\")","v":""}]
[{"$f":"Table1[[#This Row],[رقم  T.D.S ]]","v":"0486"},"Bunched",19.5,1.24,1,"26 X 0.2",null,null,null,null,{"$f":"_xlfn.IFNA(VLOOKUP(Table14[[#This Row],[Conductor Size]],N488:P506,2,0),\"\")","v":""}]
[{"$f":"Table1[[#This Row],[رقم  T.D.S ]]","v":"0487"},"Bunched",13.3,1.52,1.5,"26 X 0.25",null,null,null,null,{"$f":"_xlfn.IFNA(VLOOKUP(Table14[[#This Row],[Conductor Size]],N489:P507,2,0),\"\")","v":""}]
[{"$f":"Table1[[#This Row],[رقم  T.D.S ]]","v":"0488"},"Bunched",13.3,1.52,1.5,"26 X 0.25",null,null,null,null,{"$f":"_xlfn.IFNA(VLOOKUP(Table14[[#This Row],[Conductor Size]],N490:P508,2,0),\"\")","v":""}]
[{"$f":"Table1[[#This Row],[رقم  T.D.S ]]","v":"0489"},"Bunched",13.3,1.52,1.5,"26 X 0.25",null,null,null,null,{"$f":"_xlfn.IFNA(VLOOKUP(Table14[[#This Row],[Conductor Size]],N491:P509,2,0),\"\")","v":""}]
[{"$f":"Table1[[#This Row],[رقم  T.D.S ]]","v":"0490"},"Bunched",7.98,1.95,2.5,"43 X 0.25",null,null,null,null,{"$f":"_xlfn.IFNA(VLOOKUP(Table14[[#This Row],[Conductor Size]],N492:P510,2,0),\"\")","v":""}]
[{"$f":"Table1[[#This Row],[رقم  T.D.S ]]","v":"0491"},"Bunched",7.98,1.95,2.5,"43 X 0.25",null,null,null,null,{"$f":"_xlfn.IFNA(VLOOKUP(Table14[[#This Row],[Conductor Size]],N493:P511,2,0),\"\")","v":""}]
[{"$f":"Table1[[#This Row],[رقم  T.D.S ]]","v":"0492"},"Bunched",7.98,1.95,2.5,"43 X 0.25",null,null,null,null,{"$f":"_xlfn.IFNA(VLOOKUP(Table14[[#This Row],[Conductor Size]],N494:P512,2,0),\"\")","v":""}]
[{"$f":"Table1[[#This Row],[رقم  T.D.S ]]","v":"0493"},"Bunched",0.106,17.8,185,"868 X 0.5",null,null,null,null,{"$f":"_xlfn.IFNA(VLOOKUP(Table14[[#This Row],[Conductor Size]],N495:P513,2,0),\"\")","v":""}]
[{"$f":"Table1[[#This Row],[رقم  T.D.S ]]","v":"0494"},"Circular-compacted",0.193,11.3,95,"19 X 2.65",null,null,null,null,{"$f":"_xlfn.IFNA(VLOOKUP(Table14[[#This Row],[Conductor Size]],N496:P514,2,0),\"\")","v":""}]
[{"$f":"Table1[[#This Row],[رقم  T.D.S ]]","v":"0495"},"Circular-compacted",0.153,12.7,120,"19 X 2.98",null,null,null,null,{"$f":"_xlfn.IFNA(VLOOKUP(Table14[[#This Row],[Conductor Size]],N497:P515,2,0),\"\")","v":""}]
[{"$f":"Table1[[#This Row],[رقم  T.D.S ]]","v":"0496"},"Bunched",0.55400000000000005,7.6,35,"252 X 0.4",null,null,null,null,{"$f":"_xlfn.IFNA(VLOOKUP(Table14[[#This Row],[Conductor Size]],N498:P516,2,0),\"\")","v":""}]
[{"$f":"Table1[[#This Row],[رقم  T.D.S ]]","v":"0497-1"},null,null,null,null,{"$f":"_xlfn.IFNA(VLOOKUP(Table14[[#This Row],[Conductor Size]],N499:P517,3,0),\"\")","v":""},null,null,null,null,{"$f":"_xlfn.IFNA(VLOOKUP(Table14[[#This Row],[Conductor Size]],N499:P517,2,0),\"\")","v":""}]
[{"$f":"Table1[[#This Row],[رقم  T.D.S ]]","v":"0498-1"},null,null,null,null,{"$f":"_xlfn.IFNA(VLOOKUP(Table14[[#This Row],[Conductor Size]],N500:P518,3,0),\"\")","v":""},null,null,null,null,{"$f":"_xlfn.IFNA(VLOOKUP(Table14[[#This Row],[Conductor Size]],N500:P518,2,0),\"\")","v":""}]
[{"$f":"Table1[[#This Row],[رقم  T.D.S ]]","v":"0499"},"Circular-compacted",2.8299999999999999E-2,30.05,630,"61 X 3.83",null,null,null,null,{"$f":"_xlfn.IFNA(VLOOKUP(Table14[[#This Row],[Conductor Size]],N501:P519,2,0),\"\")","v":""}]
[{"$f":"Table1[[#This Row],[رقم  T.D.S ]]","v":"0500"},"Circular-compacted",1.83,3.7,10,"7 X 1.43",null,null,null,null,{"$f":"_xlfn.IFNA(VLOOKUP(Table14[[#This Row],[Conductor Size]],N502:P520,2,0),\"\")","v":""}]
[{"$f":"Table1[[#This Row],[رقم  T.D.S ]]","v":"0501"},"circular-stranded",12.1,1.56,1.5,"7 X 0.52",null,null,null,null,{"$f":"_xlfn.IFNA(VLOOKUP(Table14[[#This Row],[Conductor Size]],N503:P521,2,0),\"\")","v":""}]
[{"$f":"Table1[[#This Row],[رقم  T.D.S ]]","v":"0502"},"circular-stranded",4.6100000000000003,2.52,4,"7 X 0.84",null,null,null,null,{"$f":"_xlfn.IFNA(VLOOKUP(Table14[[#This Row],[Conductor Size]],N504:P522,2,0),\"\")","v":""}]
[{"$f":"Table1[[#This Row],[رقم  T.D.S ]]","v":"0503"},"circular-stranded",3.08,3.12,6,"7 X 1.04",null,null,null,null,{"$f":"_xlfn.IFNA(VLOOKUP(Table14[[#This Row],[Conductor Size]],N505:P523,2,0),\"\")","v":""}]
[{"$f":"Table1[[#This Row],[رقم  T.D.S ]]","v":"0504"},"circular-stranded",4.6100000000000003,2.52,4,"7 X 0.84",null,null,null,null,{"$f":"_xlfn.IFNA(VLOOKUP(Table14[[#This Row],[Conductor Size]],N506:P524,2,0),\"\")","v":""}]
[{"$f":"Table1[[#This Row],[رقم  T.D.S ]]","v":"0505"},"circular-stranded",7.41,2.0099999999999998,2.5,"7 X 0.67",null,null,null,null,{"$f":"_xlfn.IFNA(VLOOKUP(Table14[[#This Row],[Conductor Size]],N507:P525,2,0),\"\")","v":""}]
[{"$f":"Table1[[#This Row],[رقم  T.D.S ]]","v":"0506"},"Circular-compacted",1.83,3.7,10,"7 X 1.43",null,null,null,null,{"$f":"_xlfn.IFNA(VLOOKUP(Table14[[#This Row],[Conductor Size]],N508:P526,2,0),\"\")","v":""}]
[{"$f":"Table1[[#This Row],[رقم  T.D.S ]]","v":"0507"},"circular-stranded",3.08,3.12,6,"7 X 1.04",null,null,null,null,{"$f":"_xlfn.IFNA(VLOOKUP(Table14[[#This Row],[Conductor Size]],N509:P527,2,0),\"\")","v":""}]
[{"$f":"Table1[[#This Row],[رقم  T.D.S ]]","v":"0508"},"Circular-compacted",0.72699999999999998,5.8,25,"7 X 2.22",null,null,null,null,{"$f":"_xlfn.IFNA(VLOOKUP(Table14[[#This Row],[Conductor Size]],N510:P528,2,0),\"\")","v":""}]
[{"$f":"Table1[[#This Row],[رقم  T.D.S ]]","v":"0509"},"Sector 90°",0.26800000000000002,"12.7 X 10",70,"19 X 2.22",null,null,null,null,{"$f":"_xlfn.IFNA(VLOOKUP(Table14[[#This Row],[Conductor Size]],N511:P529,2,0),\"\")","v":""}]
[{"$f":"Table1[[#This Row],[رقم  T.D.S ]]","v":"0510"},"Bunched",19.5,1.24,1,"26 X 0.2",null,null,null,null,{"$f":"_xlfn.IFNA(VLOOKUP(Table14[[#This Row],[Conductor Size]],N512:P530,2,0),\"\")","v":""}]
[{"$f":"Table1[[#This Row],[رقم  T.D.S ]]","v":"0511"},"Bunched",13.3,1.52,1.5,"26 X 0.25",null,null,null,null,{"$f":"_xlfn.IFNA(VLOOKUP(Table14[[#This Row],[Conductor Size]],N513:P531,2,0),\"\")","v":""}]
[{"$f":"Table1[[#This Row],[رقم  T.D.S ]]","v":"0512"},"Bunched",3.3,3.01,6,"73 X 0.3",null,null,null,null,{"$f":"_xlfn.IFNA(VLOOKUP(Table14[[#This Row],[Conductor Size]],N514:P532,2,0),\"\")","v":""}]
[{"$f":"Table1[[#This Row],[رقم  T.D.S ]]","v":"0513"},"Circular-compacted",0.153,12.7,120,"19 X 2.98",null,null,null,null,{"$f":"_xlfn.IFNA(VLOOKUP(Table14[[#This Row],[Conductor Size]],N515:P533,2,0),\"\")","v":""}]
[{"$f":"Table1[[#This Row],[رقم  T.D.S ]]","v":"0514"},null,0.1188,21.8,40,"26 X 3.45 + 7 X 2.68",null,null,null,null,{"$f":"_xlfn.IFNA(VLOOKUP(Table14[[#This Row],[Conductor Size]],N516:P534,2,0),\"\")","v":""}]
[{"$f":"Table1[[#This Row],[رقم  T.D.S ]]","v":"0515"},null,null,null,null,{"$f":"_xlfn.IFNA(VLOOKUP(Table14[[#This Row],[Conductor Size]],N517:P535,3,0),\"\")","v":""},null,null,null,null,{"$f":"_xlfn.IFNA(VLOOKUP(Table14[[#This Row],[Conductor Size]],N517:P535,2,0),\"\")","v":""}]
[{"$f":"Table1[[#This Row],[رقم  T.D.S ]]","v":"0516"},"Sector 120°",0.124,"20 X 11.7",150,"36 X 2.36",null,null,null,null,{"$f":"_xlfn.IFNA(VLOOKUP(Table14[[#This Row],[Conductor Size]],N518:P536,2,0),\"\")","v":""}]
[{"$f":"Table1[[#This Row],[رقم  T.D.S ]]","v":"0517-1"},"Circular-compacted",0.1,20.5,300,"37 X 3.27",null,null,null,null,{"$f":"_xlfn.IFNA(VLOOKUP(Table14[[#This Row],[Conductor Size]],N519:P537,2,0),\"\")","v":""}]
[{"$f":"Table1[[#This Row],[رقم  T.D.S ]]","v":"0518"},"Bunched",39,0.92,0.5,"13 X 0.2",null,null,null,null,{"$f":"_xlfn.IFNA(VLOOKUP(Table14[[#This Row],[Conductor Size]],N520:P538,2,0),\"\")","v":""}]
[{"$f":"Table1[[#This Row],[رقم  T.D.S ]]","v":"0519"},"Bunched",39,0.92,0.5,"13 X 0.2",null,null,null,null,{"$f":"_xlfn.IFNA(VLOOKUP(Table14[[#This Row],[Conductor Size]],N521:P539,2,0),\"\")","v":""}]
[{"$f":"Table1[[#This Row],[رقم  T.D.S ]]","v":"0520"},"Bunched",39,0.92,0.5,"13 X 0.2",null,null,null,null,{"$f":"_xlfn.IFNA(VLOOKUP(Table14[[#This Row],[Conductor Size]],N522:P540,2,0),\"\")","v":""}]
[{"$f":"Table1[[#This Row],[رقم  T.D.S ]]","v":"0521"},"Bunched",39,0.92,0.5,"13 X 0.2",null,null,null,null,{"$f":"_xlfn.IFNA(VLOOKUP(Table14[[#This Row],[Conductor Size]],N523:P541,2,0),\"\")","v":""}]
[{"$f":"Table1[[#This Row],[رقم  T.D.S ]]","v":"0522"},"Bunched",39,0.92,0.5,"13 X 0.2",null,null,null,null,{"$f":"_xlfn.IFNA(VLOOKUP(Table14[[#This Row],[Conductor Size]],N524:P542,2,0),\"\")","v":""}]
[{"$f":"Table1[[#This Row],[رقم  T.D.S ]]","v":"0523"},"Bunched",39,0.92,0.5,"13 X 0.2",null,null,null,null,{"$f":"_xlfn.IFNA(VLOOKUP(Table14[[#This Row],[Conductor Size]],N525:P543,2,0),\"\")","v":""}]
[{"$f":"Table1[[#This Row],[رقم  T.D.S ]]","v":"0524-1"},"Circular-Compacted",0.16400000000000001,15.7,"1 X 185","37 X 2.62",null,null,null,null,{"$f":"_xlfn.IFNA(VLOOKUP(Table14[[#This Row],[Conductor Size]],N526:P544,2,0),\"\")","v":""}]
[{"$f":"Table1[[#This Row],[رقم  T.D.S ]]","v":"0525-1"},null,null,null,null,{"$f":"_xlfn.IFNA(VLOOKUP(Table14[[#This Row],[Conductor Size]],N527:P545,3,0),\"\")","v":""},null,null,null,null,{"$f":"_xlfn.IFNA(VLOOKUP(Table14[[#This Row],[Conductor Size]],N527:P545,2,0),\"\")","v":""}]
[{"$f":"Table1[[#This Row],[رقم  T.D.S ]]","v":"0526-1"},null,null,null,null,{"$f":"_xlfn.IFNA(VLOOKUP(Table14[[#This Row],[Conductor Size]],N528:P546,3,0),\"\")","v":""},null,null,null,null,{"$f":"_xlfn.IFNA(VLOOKUP(Table14[[#This Row],[Conductor Size]],N528:P546,2,0),\"\")","v":""}]
[{"$f":"Table1[[#This Row],[رقم  T.D.S ]]","v":"0527"},"circular-stranded",12.1,1.56,1.5,"7 X 0.52",null,null,null,null,{"$f":"_xlfn.IFNA(VLOOKUP(Table14[[#This Row],[Conductor Size]],N529:P547,2,0),\"\")","v":""}]
[{"$f":"Table1[[#This Row],[رقم  T.D.S ]]","v":"0528"},null,null,null,null,{"$f":"_xlfn.IFNA(VLOOKUP(Table14[[#This Row],[Conductor Size]],N530:P548,3,0),\"\")","v":""},null,null,null,null,{"$f":"_xlfn.IFNA(VLOOKUP(Table14[[#This Row],[Conductor Size]],N530:P548,2,0),\"\")","v":""}]
[{"$f":"Table1[[#This Row],[رقم  T.D.S ]]","v":"0529-2"},"compacted",0.86799999999999999,6.9,35,"7 x 2.55",null,null,null,null,{"$f":"_xlfn.IFNA(VLOOKUP(Table14[[#This Row],[Conductor Size]],N531:P549,2,0),\"\")","v":""}]
[{"$f":"Table1[[#This Row],[رقم  T.D.S ]]","v":"0530"},"Circular-Compacted",1.1499999999999999,4.7,16,"7 X 1.75",null,null,null,null,{"$f":"_xlfn.IFNA(VLOOKUP(Table14[[#This Row],[Conductor Size]],N532:P550,2,0),\"\")","v":""}]
[{"$f":"Table1[[#This Row],[رقم  T.D.S ]]","v":"0531-1"},"circular-stranded",4.6100000000000003,2.52,4,"7 X 0.84",null,null,null,null,{"$f":"_xlfn.IFNA(VLOOKUP(Table14[[#This Row],[Conductor Size]],N533:P551,2,0),\"\")","v":""}]
[{"$f":"Table1[[#This Row],[رقم  T.D.S ]]","v":"0532"},"Bunched",3.3,3.01,6,"73 X 0.3",null,null,null,null,{"$f":"_xlfn.IFNA(VLOOKUP(Table14[[#This Row],[Conductor Size]],N534:P552,2,0),\"\")","v":""}]
[{"$f":"Table1[[#This Row],[رقم  T.D.S ]]","v":"0533"},"Bunched",0.78,6.2,25,"175 X 0.4",null,null,null,null,{"$f":"_xlfn.IFNA(VLOOKUP(Table14[[#This Row],[Conductor Size]],N535:P553,2,0),\"\")","v":""}]
[{"$f":"Table1[[#This Row],[رقم  T.D.S ]]","v":"0534-1"},null,null,null,null,{"$f":"_xlfn.IFNA(VLOOKUP(Table14[[#This Row],[Conductor Size]],N536:P554,3,0),\"\")","v":""},null,null,null,null,{"$f":"_xlfn.IFNA(VLOOKUP(Table14[[#This Row],[Conductor Size]],N536:P554,2,0),\"\")","v":""}]
[{"$f":"Table1[[#This Row],[رقم  T.D.S ]]","v":"0535-1"},null,null,null,null,{"$f":"_xlfn.IFNA(VLOOKUP(Table14[[#This Row],[Conductor Size]],N537:P555,3,0),\"\")","v":""},null,null,null,null,{"$f":"_xlfn.IFNA(VLOOKUP(Table14[[#This Row],[Conductor Size]],N537:P555,2,0),\"\")","v":""}]
[{"$f":"Table1[[#This Row],[رقم  T.D.S ]]","v":"0536"},"Circular-Compacted",0.38700000000000001,8.1999999999999993,50,"19 X 1.86",null,null,null,null,{"$f":"_xlfn.IFNA(VLOOKUP(Table14[[#This Row],[Conductor Size]],N538:P556,2,0),\"\")","v":""}]
[{"$f":"Table1[[#This Row],[رقم  T.D.S ]]","v":"0537-1"},"Circular-Compacted",0.193,11.3,95,"19 X 2.65",null,null,null,null,{"$f":"_xlfn.IFNA(VLOOKUP(Table14[[#This Row],[Conductor Size]],N539:P557,2,0),\"\")","v":""}]
[{"$f":"Table1[[#This Row],[رقم  T.D.S ]]","v":"0538"},"Circular-Compacted",0.153,12.7,120,"19 X 2.98",null,null,null,null,{"$f":"_xlfn.IFNA(VLOOKUP(Table14[[#This Row],[Conductor Size]],N540:P558,2,0),\"\")","v":""}]
[{"$f":"Table1[[#This Row],[رقم  T.D.S ]]","v":"0539"},"Circular-Compacted",9.9099999999999994E-2,15.9,185,"7 X 0.52",null,null,null,null,{"$f":"_xlfn.IFNA(VLOOKUP(Table14[[#This Row],[Conductor Size]],N541:P559,2,0),\"\")","v":""}]
[{"$f":"Table1[[#This Row],[رقم  T.D.S ]]","v":"0540-1"},"circular-stranded",12.1,1.56,1.5,"7 X 0.52",null,null,null,null,{"$f":"_xlfn.IFNA(VLOOKUP(Table14[[#This Row],[Conductor Size]],N542:P560,2,0),\"\")","v":""}]
[{"$f":"Table1[[#This Row],[رقم  T.D.S ]]","v":"0541-1"},"circular-stranded",4.6100000000000003,2.52,4,"7 X 0.84",null,null,null,null,{"$f":"_xlfn.IFNA(VLOOKUP(Table14[[#This Row],[Conductor Size]],N543:P561,2,0),\"\")","v":""}]
[{"$f":"Table1[[#This Row],[رقم  T.D.S ]]","v":"0542-1"},"Circular-Compacted",0.72699999999999998,5.8,25,"7 X 2.22",null,null,null,null,{"$f":"_xlfn.IFNA(VLOOKUP(Table14[[#This Row],[Conductor Size]],N544:P562,2,0),\"\")","v":""}]
[{"$f":"Table1[[#This Row],[رقم  T.D.S ]]","v":"0543-4"},"Circular-Compacted",0.443,9.8000000000000007,70,"19 X 2.18",null,null,null,null,{"$f":"_xlfn.IFNA(VLOOKUP(Table14[[#This Row],[Conductor Size]],N545:P563,2,0),\"\")","v":""}]
[{"$f":"Table1[[#This Row],[رقم  T.D.S ]]","v":"0544-1"},"Circular-Compacted",1.1499999999999999,4.7,16,"7 X 1.75",null,null,null,null,{"$f":"_xlfn.IFNA(VLOOKUP(Table14[[#This Row],[Conductor Size]],N546:P564,2,0),\"\")","v":""}]
[{"$f":"Table1[[#This Row],[رقم  T.D.S ]]","v":"0545"},"circular-stranded",12.1,1.56,1.5,"7 X 0.52",null,null,null,null,{"$f":"_xlfn.IFNA(VLOOKUP(Table14[[#This Row],[Conductor Size]],N547:P565,2,0),\"\")","v":""}]
[{"$f":"Table1[[#This Row],[رقم  T.D.S ]]","v":"0546"},"Circular-Compacted",9.9099999999999994E-2,15.9,185,"37 X 2.65",null,null,null,null,{"$f":"_xlfn.IFNA(VLOOKUP(Table14[[#This Row],[Conductor Size]],N548:P566,2,0),\"\")","v":""}]
[{"$f":"Table1[[#This Row],[رقم  T.D.S ]]","v":"0547-1"},"Circular-Stranded",12.1,1.56,1.5,"7 X 0.52",null,null,null,null,{"$f":"_xlfn.IFNA(VLOOKUP(Table14[[#This Row],[Conductor Size]],N549:P567,2,0),\"\")","v":""}]
[{"$f":"Table1[[#This Row],[رقم  T.D.S ]]","v":"0548"},"Sector /100°",0.124,"19.6 X 13.4",150,"36 X 2.36 + 19 X 2.22",null,null,null,null,{"$f":"_xlfn.IFNA(VLOOKUP(Table14[[#This Row],[Conductor Size]],N550:P568,2,0),\"\")","v":""}]
[{"$f":"Table1[[#This Row],[رقم  T.D.S ]]","v":"0549"},null,null,null,null,null,null,null,null,null,{"$f":"_xlfn.IFNA(VLOOKUP(Table14[[#This Row],[Conductor Size]],N551:P569,2,0),\"\")","v":""}]
[{"$f":"Table1[[#This Row],[رقم  T.D.S ]]","v":"0550-1"},"circular-stranded",12.1,1.56,1.5,"7 X 0.52",null,null,null,null,{"$f":"_xlfn.IFNA(VLOOKUP(Table14[[#This Row],[Conductor Size]],N552:P570,2,0),\"\")","v":""}]
[{"$f":"Table1[[#This Row],[رقم  T.D.S ]]","v":"0551"},"Bunched",0.161,14.5,120,"574 X 0.5",null,null,null,null,{"$f":"_xlfn.IFNA(VLOOKUP(Table14[[#This Row],[Conductor Size]],N553:P571,2,0),\"\")","v":""}]
[{"$f":"Table1[[#This Row],[رقم  T.D.S ]]","v":"0552"},null,null,null,null,{"$f":"_xlfn.IFNA(VLOOKUP(Table14[[#This Row],[Conductor Size]],N554:P572,3,0),\"\")","v":""},null,null,null,null,{"$f":"_xlfn.IFNA(VLOOKUP(Table14[[#This Row],[Conductor Size]],N554:P572,2,0),\"\")","v":""}]
[{"$f":"Table1[[#This Row],[رقم  T.D.S ]]","v":"0553"},null,null,null,null,{"$f":"_xlfn.IFNA(VLOOKUP(Table14[[#This Row],[Conductor Size]],N555:P573,3,0),\"\")","v":""},null,null,null,null,{"$f":"_xlfn.IFNA(VLOOKUP(Table14[[#This Row],[Conductor Size]],N555:P573,2,0),\"\")","v":""}]
[{"$f":"Table1[[#This Row],[رقم  T.D.S ]]","v":"0554"},"Circular-Compacted",7.5399999999999995E-2,18.100000000000001,240,"37 X 3.1",null,null,null,null,{"$f":"_xlfn.IFNA(VLOOKUP(Table14[[#This Row],[Conductor Size]],N556:P574,2,0),\"\")","v":""}]
[{"$f":"Table1[[#This Row],[رقم  T.D.S ]]","v":"0555"},"Circular-Compacted",0.443,9.8000000000000007,70,"19 X 2.18",null,null,null,null,{"$f":"_xlfn.IFNA(VLOOKUP(Table14[[#This Row],[Conductor Size]],N557:P575,2,0),\"\")","v":""}]
[{"$f":"Table1[[#This Row],[رقم  T.D.S ]]","v":"0556"},"Circular-Non-compacted",1.1499999999999999,5.0999999999999996,16,"7 x 1.7",null,null,null,null,{"$f":"_xlfn.IFNA(VLOOKUP(Table14[[#This Row],[Conductor Size]],N558:P576,2,0),\"\")","v":""}]
[{"$f":"Table1[[#This Row],[رقم  T.D.S ]]","v":"0557"},null,null,null,null,{"$f":"_xlfn.IFNA(VLOOKUP(Table14[[#This Row],[Conductor Size]],N559:P577,3,0),\"\")","v":""},null,null,null,null,{"$f":"_xlfn.IFNA(VLOOKUP(Table14[[#This Row],[Conductor Size]],N559:P577,2,0),\"\")","v":""}]
[{"$f":"Table1[[#This Row],[رقم  T.D.S ]]","v":"0558"},"Circular-Non-compacted",0.59440000000000004,9,50,"19 X 1.8",null,null,null,null,{"$f":"_xlfn.IFNA(VLOOKUP(Table14[[#This Row],[Conductor Size]],N560:P578,2,0),\"\")","v":""}]
[{"$f":"Table1[[#This Row],[رقم  T.D.S ]]","v":"0559"},"Bunched",0.27200000000000002,11.2,70,"350 X 0.5",null,null,null,null,{"$f":"_xlfn.IFNA(VLOOKUP(Table14[[#This Row],[Conductor Size]],N561:P579,2,0),\"\")","v":""}]
[{"$f":"Table1[[#This Row],[رقم  T.D.S ]]","v":"0560"},null,null,null,null,{"$f":"_xlfn.IFNA(VLOOKUP(Table14[[#This Row],[Conductor Size]],N562:P580,3,0),\"\")","v":""},null,null,null,null,{"$f":"_xlfn.IFNA(VLOOKUP(Table14[[#This Row],[Conductor Size]],N562:P580,2,0),\"\")","v":""}]
[{"$f":"Table1[[#This Row],[رقم  T.D.S ]]","v":"0561"},null,null,null,null,{"$f":"_xlfn.IFNA(VLOOKUP(Table14[[#This Row],[Conductor Size]],N563:P581,3,0),\"\")","v":""},null,null,null,null,{"$f":"_xlfn.IFNA(VLOOKUP(Table14[[#This Row],[Conductor Size]],N563:P581,2,0),\"\")","v":""}]
[{"$f":"Table1[[#This Row],[رقم  T.D.S ]]","v":"0562"},null,null,null,null,{"$f":"_xlfn.IFNA(VLOOKUP(Table14[[#This Row],[Conductor Size]],N564:P582,3,0),\"\")","v":""},null,null,null,null,{"$f":"_xlfn.IFNA(VLOOKUP(Table14[[#This Row],[Conductor Size]],N564:P582,2,0),\"\")","v":""}]
[{"$f":"Table1[[#This Row],[رقم  T.D.S ]]","v":"0563"},null,null,null,null,{"$f":"_xlfn.IFNA(VLOOKUP(Table14[[#This Row],[Conductor Size]],N565:P583,3,0),\"\")","v":""},null,null,null,null,{"$f":"_xlfn.IFNA(VLOOKUP(Table14[[#This Row],[Conductor Size]],N565:P583,2,0),\"\")","v":""}]
[{"$f":"Table1[[#This Row],[رقم  T.D.S ]]","v":"0564"},null,null,null,null,{"$f":"_xlfn.IFNA(VLOOKUP(Table14[[#This Row],[Conductor Size]],N566:P584,3,0),\"\")","v":""},null,null,null,null,{"$f":"_xlfn.IFNA(VLOOKUP(Table14[[#This Row],[Conductor Size]],N566:P584,2,0),\"\")","v":""}]
[{"$f":"Table1[[#This Row],[رقم  T.D.S ]]","v":"0565"},null,null,null,null,{"$f":"_xlfn.IFNA(VLOOKUP(Table14[[#This Row],[Conductor Size]],N567:P585,3,0),\"\")","v":""},null,null,null,null,{"$f":"_xlfn.IFNA(VLOOKUP(Table14[[#This Row],[Conductor Size]],N567:P585,2,0),\"\")","v":""}]
[{"$f":"Table1[[#This Row],[رقم  T.D.S ]]","v":"0566"},null,null,null,null,{"$f":"_xlfn.IFNA(VLOOKUP(Table14[[#This Row],[Conductor Size]],N568:P586,3,0),\"\")","v":""},null,null,null,null,{"$f":"_xlfn.IFNA(VLOOKUP(Table14[[#This Row],[Conductor Size]],N568:P586,2,0),\"\")","v":""}]
[{"$f":"Table1[[#This Row],[رقم  T.D.S ]]","v":"0567"},null,null,null,null,{"$f":"_xlfn.IFNA(VLOOKUP(Table14[[#This Row],[Conductor Size]],N569:P587,3,0),\"\")","v":""},null,null,null,null,{"$f":"_xlfn.IFNA(VLOOKUP(Table14[[#This Row],[Conductor Size]],N569:P587,2,0),\"\")","v":""}]
[{"$f":"Table1[[#This Row],[رقم  T.D.S ]]","v":"0568"},null,null,null,null,{"$f":"_xlfn.IFNA(VLOOKUP(Table14[[#This Row],[Conductor Size]],N570:P588,3,0),\"\")","v":""},null,null,null,null,{"$f":"_xlfn.IFNA(VLOOKUP(Table14[[#This Row],[Conductor Size]],N570:P588,2,0),\"\")","v":""}]
[{"$f":"Table1[[#This Row],[رقم  T.D.S ]]","v":"0569"},"Circular-Compacted",0.253,12.7,120,"19 X 2.96",null,null,null,null,{"$f":"_xlfn.IFNA(VLOOKUP(Table14[[#This Row],[Conductor Size]],N571:P589,2,0),\"\")","v":""}]
[{"$f":"Table1[[#This Row],[رقم  T.D.S ]]","v":"0570"},"Circular-Non-compacted",0.253,14.8,120,"19 X 2.96",null,null,null,null,{"$f":"_xlfn.IFNA(VLOOKUP(Table14[[#This Row],[Conductor Size]],N572:P590,2,0),\"\")","v":""}]
[{"$f":"Table1[[#This Row],[رقم  T.D.S ]]","v":"0571-2"},null,null,null,null,{"$f":"_xlfn.IFNA(VLOOKUP(Table14[[#This Row],[Conductor Size]],N573:P591,3,0),\"\")","v":""},null,null,null,null,{"$f":"_xlfn.IFNA(VLOOKUP(Table14[[#This Row],[Conductor Size]],N573:P591,2,0),\"\")","v":""}]
[{"$f":"Table1[[#This Row],[رقم  T.D.S ]]","v":"0572"},"Circular-Compacted",1.2,5.9,25,"7 X 2.22",null,null,null,null,{"$f":"_xlfn.IFNA(VLOOKUP(Table14[[#This Row],[Conductor Size]],N574:P592,2,0),\"\")","v":""}]
[{"$f":"Table1[[#This Row],[رقم  T.D.S ]]","v":"0573"},"Circular-Compacted",0.443,9.8000000000000007,70,"19 X 2.18",null,null,null,null,{"$f":"_xlfn.IFNA(VLOOKUP(Table14[[#This Row],[Conductor Size]],N575:P593,2,0),\"\")","v":""}]
[{"$f":"Table1[[#This Row],[رقم  T.D.S ]]","v":"0574"},null,null,null,null,{"$f":"_xlfn.IFNA(VLOOKUP(Table14[[#This Row],[Conductor Size]],N576:P594,3,0),\"\")","v":""},null,null,null,null,{"$f":"_xlfn.IFNA(VLOOKUP(Table14[[#This Row],[Conductor Size]],N576:P594,2,0),\"\")","v":""}]
[{"$f":"Table1[[#This Row],[رقم  T.D.S ]]","v":"0575"},"Bunched",26,1.1200000000000001,0.75,"20 X 0.2",null,null,null,null,{"$f":"_xlfn.IFNA(VLOOKUP(Table14[[#This Row],[Conductor Size]],N577:P595,2,0),\"\")","v":""}]
[{"$f":"Table1[[#This Row],[رقم  T.D.S ]]","v":"0576"},"Bunched",0.55400000000000005,7.6,35,"252 X 0.4",null,null,null,null,{"$f":"_xlfn.IFNA(VLOOKUP(Table14[[#This Row],[Conductor Size]],N578:P596,2,0),\"\")","v":""}]
[{"$f":"Table1[[#This Row],[رقم  T.D.S ]]","v":"0577"},"Bunched",0.78,6.2,25,"175 X 0.4",null,null,null,null,{"$f":"_xlfn.IFNA(VLOOKUP(Table14[[#This Row],[Conductor Size]],N579:P597,2,0),\"\")","v":""}]
[{"$f":"Table1[[#This Row],[رقم  T.D.S ]]","v":"0578"},"Bunched",0.55400000000000005,7.6,35,"252 X 0.4",null,null,null,null,{"$f":"_xlfn.IFNA(VLOOKUP(Table14[[#This Row],[Conductor Size]],N580:P598,2,0),\"\")","v":""}]
[{"$f":"Table1[[#This Row],[رقم  T.D.S ]]","v":"0579"},"Bunched",1.91,3.99,10,"73 X 0.4",null,null,null,null,{"$f":"_xlfn.IFNA(VLOOKUP(Table14[[#This Row],[Conductor Size]],N581:P599,2,0),\"\")","v":""}]
[{"$f":"Table1[[#This Row],[رقم  T.D.S ]]","v":"0580"},"Bunched",1.91,3.99,10,"73 X 0.4",null,null,null,null,{"$f":"_xlfn.IFNA(VLOOKUP(Table14[[#This Row],[Conductor Size]],N582:P600,2,0),\"\")","v":""}]
[{"$f":"Table1[[#This Row],[رقم  T.D.S ]]","v":"0581"},null,null,null,null,{"$f":"_xlfn.IFNA(VLOOKUP(Table14[[#This Row],[Conductor Size]],N583:P601,3,0),\"\")","v":""},null,null,null,null,{"$f":"_xlfn.IFNA(VLOOKUP(Table14[[#This Row],[Conductor Size]],N583:P601,2,0),\"\")","v":""}]
[{"$f":"Table1[[#This Row],[رقم  T.D.S ]]","v":"0582"},null,null,null,null,{"$f":"_xlfn.IFNA(VLOOKUP(Table14[[#This Row],[Conductor Size]],N584:P602,3,0),\"\")","v":""},null,null,null,null,{"$f":"_xlfn.IFNA(VLOOKUP(Table14[[#This Row],[Conductor Size]],N584:P602,2,0),\"\")","v":""}]
[{"$f":"Table1[[#This Row],[رقم  T.D.S ]]","v":"0583"},null,null,null,null,{"$f":"_xlfn.IFNA(VLOOKUP(Table14[[#This Row],[Conductor Size]],N585:P603,3,0),\"\")","v":""},null,null,null,null,{"$f":"_xlfn.IFNA(VLOOKUP(Table14[[#This Row],[Conductor Size]],N585:P603,2,0),\"\")","v":""}]
[{"$f":"Table1[[#This Row],[رقم  T.D.S ]]","v":"0584"},null,null,null,null,{"$f":"_xlfn.IFNA(VLOOKUP(Table14[[#This Row],[Conductor Size]],N586:P604,3,0),\"\")","v":""},null,null,null,null,{"$f":"_xlfn.IFNA(VLOOKUP(Table14[[#This Row],[Conductor Size]],N586:P604,2,0),\"\")","v":""}]
[{"$f":"Table1[[#This Row],[رقم  T.D.S ]]","v":"0585"},"Circular-Compacted",6.0100000000000001E-2,20.5,300,"61 X 2.64",null,null,null,null,{"$f":"_xlfn.IFNA(VLOOKUP(Table14[[#This Row],[Conductor Size]],N587:P605,2,0),\"\")","v":""}]
[{"$f":"Table1[[#This Row],[رقم  T.D.S ]]","v":"0586"},"Circular-Compacted",3.6600000000000001E-2,26.6,500,"37 X 3.45",null,null,null,null,{"$f":"_xlfn.IFNA(VLOOKUP(Table14[[#This Row],[Conductor Size]],N588:P606,2,0),\"\")","v":""}]
[{"$f":"Table1[[#This Row],[رقم  T.D.S ]]","v":"0587"},"Circular-Compacted",9.9099999999999994E-2,15.9,185,"37 X 2.65",null,null,null,null,{"$f":"_xlfn.IFNA(VLOOKUP(Table14[[#This Row],[Conductor Size]],N589:P607,2,0),\"\")","v":""}]
[{"$f":"Table1[[#This Row],[رقم  T.D.S ]]","v":"0588"},"Bunched",13.3,1.52,1.5,"26 X 0.25",null,null,null,null,{"$f":"_xlfn.IFNA(VLOOKUP(Table14[[#This Row],[Conductor Size]],N590:P608,2,0),\"\")","v":""}]
[{"$f":"Table1[[#This Row],[رقم  T.D.S ]]","v":"0589"},"Bunched",13.3,1.52,1.5,"26 X 0.25",null,null,null,null,{"$f":"_xlfn.IFNA(VLOOKUP(Table14[[#This Row],[Conductor Size]],N591:P609,2,0),\"\")","v":""}]
[{"$f":"Table1[[#This Row],[رقم  T.D.S ]]","v":"0590"},"Bunched",13.3,1.52,1.5,"26 X 0.25",null,null,null,null,{"$f":"_xlfn.IFNA(VLOOKUP(Table14[[#This Row],[Conductor Size]],N592:P610,2,0),\"\")","v":""}]
[{"$f":"Table1[[#This Row],[رقم  T.D.S ]]","v":"0591"},"Bunched",13.3,1.52,1.5,"26 X 0.25",null,null,null,null,{"$f":"_xlfn.IFNA(VLOOKUP(Table14[[#This Row],[Conductor Size]],N593:P611,2,0),\"\")","v":""}]
[{"$f":"Table1[[#This Row],[رقم  T.D.S ]]","v":"0592"},"Bunched",13.3,1.52,1.5,"26 X 0.25",null,null,null,null,{"$f":"_xlfn.IFNA(VLOOKUP(Table14[[#This Row],[Conductor Size]],N594:P612,2,0),\"\")","v":""}]
[{"$f":"Table1[[#This Row],[رقم  T.D.S ]]","v":"0593"},"Circular-Compacted",0.52400000000000002,6.9,35,"7 X 2.65",null,null,null,null,{"$f":"_xlfn.IFNA(VLOOKUP(Table14[[#This Row],[Conductor Size]],N595:P613,2,0),\"\")","v":""}]
[{"$f":"Table1[[#This Row],[رقم  T.D.S ]]","v":"0594"},"circular-stranded",4.6100000000000003,2.52,4,"7 X 0.84",null,null,null,null,{"$f":"_xlfn.IFNA(VLOOKUP(Table14[[#This Row],[Conductor Size]],N596:P614,2,0),\"\")","v":""}]
[{"$f":"Table1[[#This Row],[رقم  T.D.S ]]","v":"0595"},"Circular-Compacted",1.83,3.7,10,"7 X 1.43",null,null,null,null,{"$f":"_xlfn.IFNA(VLOOKUP(Table14[[#This Row],[Conductor Size]],N597:P615,2,0),\"\")","v":""}]
[{"$f":"Table1[[#This Row],[رقم  T.D.S ]]","v":"0596"},"Circular-Compacted",1.1499999999999999,4.7,16,"7 X 1.75",null,null,null,null,{"$f":"_xlfn.IFNA(VLOOKUP(Table14[[#This Row],[Conductor Size]],N598:P616,2,0),\"\")","v":""}]
[{"$f":"Table1[[#This Row],[رقم  T.D.S ]]","v":"0597"},"circular-stranded",4.6100000000000003,2.52,4,"7 X 0.84",null,null,null,null,{"$f":"_xlfn.IFNA(VLOOKUP(Table14[[#This Row],[Conductor Size]],N599:P617,2,0),\"\")","v":""}]
[{"$f":"Table1[[#This Row],[رقم  T.D.S ]]","v":"0598"},"circular-stranded",3.08,3.12,6,"7 X 1.04",null,null,null,null,{"$f":"_xlfn.IFNA(VLOOKUP(Table14[[#This Row],[Conductor Size]],N600:P618,2,0),\"\")","v":""}]
[{"$f":"Table1[[#This Row],[رقم  T.D.S ]]","v":"0599"},"Circular-Compacted",1.83,3.7,10,"7 X 1.43",null,null,null,null,{"$f":"_xlfn.IFNA(VLOOKUP(Table14[[#This Row],[Conductor Size]],N601:P619,2,0),\"\")","v":""}]
[{"$f":"Table1[[#This Row],[رقم  T.D.S ]]","v":"0600"},"Circular-Compacted",0.72699999999999998,5.8,25,"7 X 2.22",null,null,null,null,{"$f":"_xlfn.IFNA(VLOOKUP(Table14[[#This Row],[Conductor Size]],N602:P620,2,0),\"\")","v":""}]
[{"$f":"Table1[[#This Row],[رقم  T.D.S ]]","v":"0601-1"},"Circular-Compacted",6.0100000000000001E-2,20.5,300,"61 X 2.64",null,null,null,null,{"$f":"_xlfn.IFNA(VLOOKUP(Table14[[#This Row],[Conductor Size]],N603:P621,2,0),\"\")","v":""}]
[{"$f":"Table1[[#This Row],[رقم  T.D.S ]]","v":"0602"},"Circular-Compacted",3.6600000000000001E-2,26.6,500,"37 X 3.45 + 24 X 3.33",null,null,null,null,{"$f":"_xlfn.IFNA(VLOOKUP(Table14[[#This Row],[Conductor Size]],N604:P622,2,0),\"\")","v":""}]
[{"$f":"Table1[[#This Row],[رقم  T.D.S ]]","v":"0603"},"circular-stranded",4.6100000000000003,2.52,4,"7 X 0.84",null,null,null,null,{"$f":"_xlfn.IFNA(VLOOKUP(Table14[[#This Row],[Conductor Size]],N605:P623,2,0),\"\")","v":""}]
[{"$f":"Table1[[#This Row],[رقم  T.D.S ]]","v":"0604"},"circular-stranded",3.08,3.12,6,"7 X 1.04",null,null,null,null,{"$f":"_xlfn.IFNA(VLOOKUP(Table14[[#This Row],[Conductor Size]],N606:P624,2,0),\"\")","v":""}]
[{"$f":"Table1[[#This Row],[رقم  T.D.S ]]","v":"0605"},"Circular-Compacted",1.83,3.7,10,"7 X 1.43",null,null,null,null,{"$f":"_xlfn.IFNA(VLOOKUP(Table14[[#This Row],[Conductor Size]],N607:P625,2,0),\"\")","v":""}]
[{"$f":"Table1[[#This Row],[رقم  T.D.S ]]","v":"0606"},"Circular-Compacted",1.1499999999999999,4.7,16,"7 X 1.75",null,null,null,null,{"$f":"_xlfn.IFNA(VLOOKUP(Table14[[#This Row],[Conductor Size]],N608:P626,2,0),\"\")","v":""}]
[{"$f":"Table1[[#This Row],[رقم  T.D.S ]]","v":"0607"},"Circular-Compacted",0.72699999999999998,5.8,25,"7 X 2.22",null,null,null,null,{"$f":"_xlfn.IFNA(VLOOKUP(Table14[[#This Row],[Conductor Size]],N609:P627,2,0),\"\")","v":""}]
[{"$f":"Table1[[#This Row],[رقم  T.D.S ]]","v":"0608"},"Circular-Compacted",0.52400000000000002,6.9,35,"7 X 2.65",null,null,null,null,{"$f":"_xlfn.IFNA(VLOOKUP(Table14[[#This Row],[Conductor Size]],N610:P628,2,0),\"\")","v":""}]
[{"$f":"Table1[[#This Row],[رقم  T.D.S ]]","v":"0609"},"Circular-Compacted",0.38700000000000001,8.1999999999999993,50,"19 X 1.86",null,null,null,null,{"$f":"_xlfn.IFNA(VLOOKUP(Table14[[#This Row],[Conductor Size]],N611:P629,2,0),\"\")","v":""}]
[{"$f":"Table1[[#This Row],[رقم  T.D.S ]]","v":"0610"},"Circular-Compacted",0.26800000000000002,9.8000000000000007,70,"19 X 2.22",null,null,null,null,{"$f":"_xlfn.IFNA(VLOOKUP(Table14[[#This Row],[Conductor Size]],N612:P630,2,0),\"\")","v":""}]
[{"$f":"Table1[[#This Row],[رقم  T.D.S ]]","v":"0611"},"Circular-Compacted",11.3,0.193,95,"19 X 2.65",null,null,null,null,{"$f":"_xlfn.IFNA(VLOOKUP(Table14[[#This Row],[Conductor Size]],N613:P631,2,0),\"\")","v":""}]
[{"$f":"Table1[[#This Row],[رقم  T.D.S ]]","v":"0612"},"circular-stranded",3.08,3.12,6,"7 X 1.04",null,null,null,null,{"$f":"_xlfn.IFNA(VLOOKUP(Table14[[#This Row],[Conductor Size]],N614:P632,2,0),\"\")","v":""}]
[{"$f":"Table1[[#This Row],[رقم  T.D.S ]]","v":"0613"},"Circular-Compacted",1.83,3.7,10,"7 X 1.43",null,null,null,null,{"$f":"_xlfn.IFNA(VLOOKUP(Table14[[#This Row],[Conductor Size]],N615:P633,2,0),\"\")","v":""}]
[{"$f":"Table1[[#This Row],[رقم  T.D.S ]]","v":"0614"},"Circular-Compacted",1.1499999999999999,4.7,16,"7 X 1.75",null,null,null,null,{"$f":"_xlfn.IFNA(VLOOKUP(Table14[[#This Row],[Conductor Size]],N616:P634,2,0),\"\")","v":""}]
[{"$f":"Table1[[#This Row],[رقم  T.D.S ]]","v":"0615"},"Circular-Compacted",0.72699999999999998,5.8,25,"7 X 2.22",null,null,null,null,{"$f":"_xlfn.IFNA(VLOOKUP(Table14[[#This Row],[Conductor Size]],N617:P635,2,0),\"\")","v":""}]
[{"$f":"Table1[[#This Row],[رقم  T.D.S ]]","v":"0616"},"Circular-Compacted",0.52400000000000002,6.9,35,"7 X 2.65",null,null,null,null,{"$f":"_xlfn.IFNA(VLOOKUP(Table14[[#This Row],[Conductor Size]],N618:P636,2,0),\"\")","v":""}]
[{"$f":"Table1[[#This Row],[رقم  T.D.S ]]","v":"0617"},"Sector 120°",0.38700000000000001,"11.2 X 6.45",50,"19 X 1.86",null,null,null,null,{"$f":"_xlfn.IFNA(VLOOKUP(Table14[[#This Row],[Conductor Size]],N619:P637,2,0),\"\")","v":""}]
[{"$f":"Table1[[#This Row],[رقم  T.D.S ]]","v":"0618"},"Sector 120°",0.26800000000000002,"13.7 x 7.8",70,"19 X 2.22",null,null,null,null,{"$f":"_xlfn.IFNA(VLOOKUP(Table14[[#This Row],[Conductor Size]],N620:P638,2,0),\"\")","v":""}]
[{"$f":"Table1[[#This Row],[رقم  T.D.S ]]","v":"0619"},"Sector 120°",0.193,"15.6 X 9.6",95,"19 X 2.63",null,null,null,null,{"$f":"_xlfn.IFNA(VLOOKUP(Table14[[#This Row],[Conductor Size]],N621:P639,2,0),\"\")","v":""}]
[{"$f":"Table1[[#This Row],[رقم  T.D.S ]]","v":"0620"},"Sector 120°",0.153,"18 X 10.5",120,"30 X 2.36",null,null,null,null,{"$f":"_xlfn.IFNA(VLOOKUP(Table14[[#This Row],[Conductor Size]],N622:P640,2,0),\"\")","v":""}]
[{"$f":"Table1[[#This Row],[رقم  T.D.S ]]","v":"0621"},"Sector 120°",9.9099999999999994E-2,"22.3 X 12.8",185,"37 X 2.63",null,null,null,null,{"$f":"_xlfn.IFNA(VLOOKUP(Table14[[#This Row],[Conductor Size]],N623:P641,2,0),\"\")","v":""}]
[{"$f":"Table1[[#This Row],[رقم  T.D.S ]]","v":"0622"},"Circular-Compacted",0.52400000000000002,6.9,35,"7 X 2.65",null,null,null,null,{"$f":"_xlfn.IFNA(VLOOKUP(Table14[[#This Row],[Conductor Size]],N624:P642,2,0),\"\")","v":""}]
[{"$f":"Table1[[#This Row],[رقم  T.D.S ]]","v":"0623"},"Sector 90°",0.38700000000000001,"10.3 X 7.5",50,"19 X 1.86",null,null,null,null,{"$f":"_xlfn.IFNA(VLOOKUP(Table14[[#This Row],[Conductor Size]],N625:P643,2,0),\"\")","v":""}]
[{"$f":"Table1[[#This Row],[رقم  T.D.S ]]","v":"0624"},"Sector 90°",0.26800000000000002,"12.7 X 10",70,"19 X 2.22",null,null,null,null,{"$f":"_xlfn.IFNA(VLOOKUP(Table14[[#This Row],[Conductor Size]],N626:P644,2,0),\"\")","v":""}]
[{"$f":"Table1[[#This Row],[رقم  T.D.S ]]","v":"0625"},"Sector 90°",0.193,"14.8 x 11.5",95,"19 X 2.63",null,null,null,null,{"$f":"_xlfn.IFNA(VLOOKUP(Table14[[#This Row],[Conductor Size]],N627:P645,2,0),\"\")","v":""}]
[{"$f":"Table1[[#This Row],[رقم  T.D.S ]]","v":"0626"},"Sector 90°",0.153,"17.3 X 13",120,"30 X 2.36",null,null,null,null,{"$f":"_xlfn.IFNA(VLOOKUP(Table14[[#This Row],[Conductor Size]],N628:P646,2,0),\"\")","v":""}]
[{"$f":"Table1[[#This Row],[رقم  T.D.S ]]","v":"0627"},null,null,null,null,{"$f":"_xlfn.IFNA(VLOOKUP(Table14[[#This Row],[Conductor Size]],N629:P647,3,0),\"\")","v":""},null,null,null,null,{"$f":"_xlfn.IFNA(VLOOKUP(Table14[[#This Row],[Conductor Size]],N629:P647,2,0),\"\")","v":""}]
[{"$f":"Table1[[#This Row],[رقم  T.D.S ]]","v":"0628"},null,null,null,null,{"$f":"_xlfn.IFNA(VLOOKUP(Table14[[#This Row],[Conductor Size]],N630:P648,3,0),\"\")","v":""},null,null,null,null,{"$f":"_xlfn.IFNA(VLOOKUP(Table14[[#This Row],[Conductor Size]],N630:P648,2,0),\"\")","v":""}]
[{"$f":"Table1[[#This Row],[رقم  T.D.S ]]","v":"0629"},null,null,null,null,{"$f":"_xlfn.IFNA(VLOOKUP(Table14[[#This Row],[Conductor Size]],N631:P649,3,0),\"\")","v":""},null,null,null,null,{"$f":"_xlfn.IFNA(VLOOKUP(Table14[[#This Row],[Conductor Size]],N631:P649,2,0),\"\")","v":""}]
[{"$f":"Table1[[#This Row],[رقم  T.D.S ]]","v":"0630"},null,null,null,null,{"$f":"_xlfn.IFNA(VLOOKUP(Table14[[#This Row],[Conductor Size]],N632:P650,3,0),\"\")","v":""},null,null,null,null,{"$f":"_xlfn.IFNA(VLOOKUP(Table14[[#This Row],[Conductor Size]],N632:P650,2,0),\"\")","v":""}]
[{"$f":"Table1[[#This Row],[رقم  T.D.S ]]","v":"0631"},null,null,null,null,{"$f":"_xlfn.IFNA(VLOOKUP(Table14[[#This Row],[Conductor Size]],N633:P651,3,0),\"\")","v":""},null,null,null,null,{"$f":"_xlfn.IFNA(VLOOKUP(Table14[[#This Row],[Conductor Size]],N633:P651,2,0),\"\")","v":""}]
[{"$f":"Table1[[#This Row],[رقم  T.D.S ]]","v":"0632"},null,null,null,null,{"$f":"_xlfn.IFNA(VLOOKUP(Table14[[#This Row],[Conductor Size]],N634:P652,3,0),\"\")","v":""},null,null,null,null,{"$f":"_xlfn.IFNA(VLOOKUP(Table14[[#This Row],[Conductor Size]],N634:P652,2,0),\"\")","v":""}]
[{"$f":"Table1[[#This Row],[رقم  T.D.S ]]","v":"0633"},"Circular - Compacted",0.16400000000000001,"15.7±0.2",185,"37 X 2.62",null,null,null,null,{"$f":"_xlfn.IFNA(VLOOKUP(Table14[[#This Row],[Conductor Size]],N635:P653,2,0),\"\")","v":""}]
[{"$f":"Table1[[#This Row],[رقم  T.D.S ]]","v":"0634"},"Circular - Compacted",0.16400000000000001,"15.7±0.2",185,"37 X 2.62",null,null,null,null,{"$f":"_xlfn.IFNA(VLOOKUP(Table14[[#This Row],[Conductor Size]],N636:P654,2,0),\"\")","v":""}]
[{"$f":"Table1[[#This Row],[رقم  T.D.S ]]","v":"0635"},"Bunched",0.161,14.5,120,"574 X 0.5",null,null,null,null,{"$f":"_xlfn.IFNA(VLOOKUP(Table14[[#This Row],[Conductor Size]],N637:P655,2,0),\"\")","v":""}]
[{"$f":"Table1[[#This Row],[رقم  T.D.S ]]","v":"0636"},null,null,null,null,{"$f":"_xlfn.IFNA(VLOOKUP(Table14[[#This Row],[Conductor Size]],N638:P656,3,0),\"\")","v":""},null,null,null,null,{"$f":"_xlfn.IFNA(VLOOKUP(Table14[[#This Row],[Conductor Size]],N638:P656,2,0),\"\")","v":""}]
[{"$f":"Table1[[#This Row],[رقم  T.D.S ]]","v":"0637"},null,null,null,null,{"$f":"_xlfn.IFNA(VLOOKUP(Table14[[#This Row],[Conductor Size]],N639:P657,3,0),\"\")","v":""},null,null,null,null,{"$f":"_xlfn.IFNA(VLOOKUP(Table14[[#This Row],[Conductor Size]],N639:P657,2,0),\"\")","v":""}]
[{"$f":"Table1[[#This Row],[رقم  T.D.S ]]","v":"0638"},"Circular - Compacted",2.8299999999999999E-2,30.05,630,"61 X 3.83",null,null,null,null,{"$f":"_xlfn.IFNA(VLOOKUP(Table14[[#This Row],[Conductor Size]],N640:P658,2,0),\"\")","v":""}]
[{"$f":"Table1[[#This Row],[رقم  T.D.S ]]","v":"0639"},"Circular - Compacted",0.193,11.3,95,"19 X 2.65",null,null,null,null,{"$f":"_xlfn.IFNA(VLOOKUP(Table14[[#This Row],[Conductor Size]],N641:P659,2,0),\"\")","v":""}]
[{"$f":"Table1[[#This Row],[رقم  T.D.S ]]","v":"0640"},"Circular - Compacted",0.153,12.7,120,"19 X 2.98",null,null,null,null,{"$f":"_xlfn.IFNA(VLOOKUP(Table14[[#This Row],[Conductor Size]],N642:P660,2,0),\"\")","v":""}]
[{"$f":"Table1[[#This Row],[رقم  T.D.S ]]","v":"0641"},"Circular - Compacted",0.124,14.1,150,"19 X 3.36",null,null,null,null,{"$f":"_xlfn.IFNA(VLOOKUP(Table14[[#This Row],[Conductor Size]],N643:P661,2,0),\"\")","v":""}]
[{"$f":"Table1[[#This Row],[رقم  T.D.S ]]","v":"0642"},"Circular - Compacted",1.2,5.9,25,"7 X 2.22",null,null,null,null,{"$f":"_xlfn.IFNA(VLOOKUP(Table14[[#This Row],[Conductor Size]],N644:P662,2,0),\"\")","v":""}]
[{"$f":"Table1[[#This Row],[رقم  T.D.S ]]","v":"0643"},"Circular - Compacted",0.443,9.8000000000000007,70,"1 X 2500",null,null,null,null,{"$f":"_xlfn.IFNA(VLOOKUP(Table14[[#This Row],[Conductor Size]],N645:P663,2,0),\"\")","v":""}]
[{"$f":"Table1[[#This Row],[رقم  T.D.S ]]","v":"0644"},"Circular-Non-compacted",1.2,6.3,25,"7 X 2.1",null,null,null,null,{"$f":"_xlfn.IFNA(VLOOKUP(Table14[[#This Row],[Conductor Size]],N646:P664,2,0),\"\")","v":""}]
[{"$f":"Table1[[#This Row],[رقم  T.D.S ]]","v":"0645"},null,null,null,null,{"$f":"_xlfn.IFNA(VLOOKUP(Table14[[#This Row],[Conductor Size]],N647:P665,3,0),\"\")","v":""},null,null,null,null,{"$f":"_xlfn.IFNA(VLOOKUP(Table14[[#This Row],[Conductor Size]],N647:P665,2,0),\"\")","v":""}]
[{"$f":"Table1[[#This Row],[رقم  T.D.S ]]","v":"0646"},null,null,null,null,{"$f":"_xlfn.IFNA(VLOOKUP(Table14[[#This Row],[Conductor Size]],N648:P666,3,0),\"\")","v":""},null,null,null,null,{"$f":"_xlfn.IFNA(VLOOKUP(Table14[[#This Row],[Conductor Size]],N648:P666,2,0),\"\")","v":""}]
[{"$f":"Table1[[#This Row],[رقم  T.D.S ]]","v":"0647"},null,null,null,null,{"$f":"_xlfn.IFNA(VLOOKUP(Table14[[#This Row],[Conductor Size]],N649:P667,3,0),\"\")","v":""},null,null,null,null,{"$f":"_xlfn.IFNA(VLOOKUP(Table14[[#This Row],[Conductor Size]],N649:P667,2,0),\"\")","v":""}]
[{"$f":"Table1[[#This Row],[رقم  T.D.S ]]","v":"0648"},null,null,null,null,{"$f":"_xlfn.IFNA(VLOOKUP(Table14[[#This Row],[Conductor Size]],N650:P668,3,0),\"\")","v":""},null,null,null,null,{"$f":"_xlfn.IFNA(VLOOKUP(Table14[[#This Row],[Conductor Size]],N650:P668,2,0),\"\")","v":""}]
[{"$f":"Table1[[#This Row],[رقم  T.D.S ]]","v":"0649"},"4X16",1.1499999999999999,4.7,16,"7X1.75",null,null,null,null,{"$f":"_xlfn.IFNA(VLOOKUP(Table14[[#This Row],[Conductor Size]],N651:P669,2,0),\"\")","v":""}]
[{"$f":"Table1[[#This Row],[رقم  T.D.S ]]","v":"0650"},"4X25",0.72699999999999998,5.8,25,"7 X 2.22",null,null,null,null,{"$f":"_xlfn.IFNA(VLOOKUP(Table14[[#This Row],[Conductor Size]],N652:P670,2,0),\"\")","v":""}]
[{"$f":"Table1[[#This Row],[رقم  T.D.S ]]","v":"0651"},"4x35",0.52400000000000002,6.9,35,"7 x 2.65",null,null,null,null,{"$f":"_xlfn.IFNA(VLOOKUP(Table14[[#This Row],[Conductor Size]],N653:P671,2,0),\"\")","v":""}]
[{"$f":"Table1[[#This Row],[رقم  T.D.S ]]","v":"0652"},"Bunched",4.95,2.46,4,"49 X 0.3",null,null,null,null,{"$f":"_xlfn.IFNA(VLOOKUP(Table14[[#This Row],[Conductor Size]],N654:P672,2,0),\"\")","v":""}]
[{"$f":"Table1[[#This Row],[رقم  T.D.S ]]","v":"0653"},"Bunched",3.3,3.01,6,"73 X 0.3",null,null,null,null,{"$f":"_xlfn.IFNA(VLOOKUP(Table14[[#This Row],[Conductor Size]],N655:P673,2,0),\"\")","v":""}]
[{"$f":"Table1[[#This Row],[رقم  T.D.S ]]","v":"0654"},"Bunched",1.91,3.99,10,"73 X 0.4",null,null,null,null,{"$f":"_xlfn.IFNA(VLOOKUP(Table14[[#This Row],[Conductor Size]],N656:P674,2,0),\"\")","v":""}]
[{"$f":"Table1[[#This Row],[رقم  T.D.S ]]","v":"0655"},"Bunched",1.21,5.2,16,"119 X 0.4",null,null,null,null,{"$f":"_xlfn.IFNA(VLOOKUP(Table14[[#This Row],[Conductor Size]],N657:P675,2,0),\"\")","v":""}]
[{"$f":"Table1[[#This Row],[رقم  T.D.S ]]","v":"0656"},null,null,null,null,{"$f":"_xlfn.IFNA(VLOOKUP(Table14[[#This Row],[Conductor Size]],N658:P676,3,0),\"\")","v":""},null,null,null,null,{"$f":"_xlfn.IFNA(VLOOKUP(Table14[[#This Row],[Conductor Size]],N658:P676,2,0),\"\")","v":""}]
[{"$f":"Table1[[#This Row],[رقم  T.D.S ]]","v":"0657"},"Non-Compacted",0.83169999999999999,7.5,35,"7 x 2.5",null,null,null,null,{"$f":"_xlfn.IFNA(VLOOKUP(Table14[[#This Row],[Conductor Size]],N659:P677,2,0),\"\")","v":""}]
[{"$f":"Table1[[#This Row],[رقم  T.D.S ]]","v":"0658"},"Bunched",3.3,3.01,6,"73 X 0.3",null,null,null,null,{"$f":"_xlfn.IFNA(VLOOKUP(Table14[[#This Row],[Conductor Size]],N660:P678,2,0),\"\")","v":""}]
[{"$f":"Table1[[#This Row],[رقم  T.D.S ]]","v":"0659"},"Bunched",1.91,3.99,10,"73 X 0.4",null,null,null,null,{"$f":"_xlfn.IFNA(VLOOKUP(Table14[[#This Row],[Conductor Size]],N661:P679,2,0),\"\")","v":""}]
[{"$f":"Table1[[#This Row],[رقم  T.D.S ]]","v":"0660"},"Bunched",1.91,3.99,10,"73 X 0.4",null,null,null,null,{"$f":"_xlfn.IFNA(VLOOKUP(Table14[[#This Row],[Conductor Size]],N662:P680,2,0),\"\")","v":""}]
[{"$f":"Table1[[#This Row],[رقم  T.D.S ]]","v":"0661"},"Bunched",0.20599999999999999,12.7,95,"448 X 0.5",null,null,null,null,{"$f":"_xlfn.IFNA(VLOOKUP(Table14[[#This Row],[Conductor Size]],N663:P681,2,0),\"\")","v":""}]
[{"$f":"Table1[[#This Row],[رقم  T.D.S ]]","v":"0662"},"Bunched",7.98,1.95,2.5,"43 x 0.25",null,null,null,null,{"$f":"_xlfn.IFNA(VLOOKUP(Table14[[#This Row],[Conductor Size]],N664:P682,2,0),\"\")","v":""}]
[{"$f":"Table1[[#This Row],[رقم  T.D.S ]]","v":"0663"},"Bunched",1.1060000000000001,17.8,185,"868 X 0.5",null,null,null,null,{"$f":"_xlfn.IFNA(VLOOKUP(Table14[[#This Row],[Conductor Size]],N665:P683,2,0),\"\")","v":""}]
[{"$f":"Table1[[#This Row],[رقم  T.D.S ]]","v":"0664"},"Circular-Compacted",0.72699999999999998,5.8,25,"7 X 2.22",null,null,null,null,{"$f":"_xlfn.IFNA(VLOOKUP(Table14[[#This Row],[Conductor Size]],N666:P684,2,0),\"\")","v":""}]
[{"$f":"Table1[[#This Row],[رقم  T.D.S ]]","v":"0665"},"Circular-Compacted",0.72699999999999998,5.8,25,"7 X 2.22",null,null,null,null,{"$f":"_xlfn.IFNA(VLOOKUP(Table14[[#This Row],[Conductor Size]],N667:P685,2,0),\"\")","v":""}]
[{"$f":"Table1[[#This Row],[رقم  T.D.S ]]","v":"0666"},"Compacted",0.86799999999999999,6.9,35,"7X2.55",null,null,null,null,{"$f":"_xlfn.IFNA(VLOOKUP(Table14[[#This Row],[Conductor Size]],N668:P686,2,0),\"\")","v":""}]
[{"$f":"Table1[[#This Row],[رقم  T.D.S ]]","v":"0667"},null,null,null,null,{"$f":"_xlfn.IFNA(VLOOKUP(Table14[[#This Row],[Conductor Size]],N669:P687,3,0),\"\")","v":""},null,null,null,null,{"$f":"_xlfn.IFNA(VLOOKUP(Table14[[#This Row],[Conductor Size]],N669:P687,2,0),\"\")","v":""}]
[{"$f":"Table1[[#This Row],[رقم  T.D.S ]]","v":"0668"},"Compacted",0.64100000000000001,8.1999999999999993,50,"19X7.82",null,null,null,null,{"$f":"_xlfn.IFNA(VLOOKUP(Table14[[#This Row],[Conductor Size]],N670:P688,2,0),\"\")","v":""}]
[{"$f":"Table1[[#This Row],[رقم  T.D.S ]]","v":"0669"},null,null,null,null,{"$f":"_xlfn.IFNA(VLOOKUP(Table14[[#This Row],[Conductor Size]],N671:P689,3,0),\"\")","v":""},null,null,null,null,{"$f":"_xlfn.IFNA(VLOOKUP(Table14[[#This Row],[Conductor Size]],N671:P689,2,0),\"\")","v":""}]
[{"$f":"Table1[[#This Row],[رقم  T.D.S ]]","v":"0670"},"Circular-Non-Compacted",7.5399999999999995E-2,21,240,"37X3",null,null,null,null,{"$f":"_xlfn.IFNA(VLOOKUP(Table14[[#This Row],[Conductor Size]],N672:P690,2,0),\"\")","v":""}]
[{"$f":"Table1[[#This Row],[رقم  T.D.S ]]","v":"0671"},"Bunched",0.27200000000000002,11.2,70,"350 X 0.5",null,null,null,null,{"$f":"_xlfn.IFNA(VLOOKUP(Table14[[#This Row],[Conductor Size]],N673:P691,2,0),\"\")","v":""}]
[{"$f":"Table1[[#This Row],[رقم  T.D.S ]]","v":"0672"},"Circular-Compacted",1.83,3.7,10,"7 X 1.43",null,null,null,null,{"$f":"_xlfn.IFNA(VLOOKUP(Table14[[#This Row],[Conductor Size]],N674:P692,2,0),\"\")","v":""}]
[{"$f":"Table1[[#This Row],[رقم  T.D.S ]]","v":"0673"},"Circular-Compacted",1.1499999999999999,4.7,16,"7 X 1.75",null,null,null,null,{"$f":"_xlfn.IFNA(VLOOKUP(Table14[[#This Row],[Conductor Size]],N675:P693,2,0),\"\")","v":""}]
[{"$f":"Table1[[#This Row],[رقم  T.D.S ]]","v":"0674"},"Circular-Compacted",0.72699999999999998,5.8,25,"7 X 2.22",null,null,null,null,{"$f":"_xlfn.IFNA(VLOOKUP(Table14[[#This Row],[Conductor Size]],N676:P694,2,0),\"\")","v":""}]
[{"$f":"Table1[[#This Row],[رقم  T.D.S ]]","v":"0675"},"Circular-Compacted",0.52400000000000002,6.9,35,"7 X2.65",null,null,null,null,{"$f":"_xlfn.IFNA(VLOOKUP(Table14[[#This Row],[Conductor Size]],N677:P695,2,0),\"\")","v":""}]
[{"$f":"Table1[[#This Row],[رقم  T.D.S ]]","v":"0676"},"Circular-Non-Compacted",12.1,1.56,1.5,"7 X 0.52",null,null,null,null,{"$f":"_xlfn.IFNA(VLOOKUP(Table14[[#This Row],[Conductor Size]],N678:P696,2,0),\"\")","v":""}]
[{"$f":"Table1[[#This Row],[رقم  T.D.S ]]","v":"0677"},"Bunched",0.27200000000000002,11.2,70,"350 X 0.5",null,null,null,null,{"$f":"_xlfn.IFNA(VLOOKUP(Table14[[#This Row],[Conductor Size]],N679:P697,2,0),\"\")","v":""}]
[{"$f":"Table1[[#This Row],[رقم  T.D.S ]]","v":"0678"},"Circular-Compacted",0.443,9.8000000000000007,70,"19 X 2.18",null,null,null,null,{"$f":"_xlfn.IFNA(VLOOKUP(Table14[[#This Row],[Conductor Size]],N680:P698,2,0),\"\")","v":""}]
[{"$f":"Table1[[#This Row],[رقم  T.D.S ]]","v":"0679"},"Circular-Compacted",0.125,18.100000000000001,240,"37 X 2.98",null,null,null,null,{"$f":"_xlfn.IFNA(VLOOKUP(Table14[[#This Row],[Conductor Size]],N681:P699,2,0),\"\")","v":""}]
[{"$f":"Table1[[#This Row],[رقم  T.D.S ]]","v":"0680"},"Circular-Compacted",0.20599999999999999,14.1,150,"19 X 3.3",null,null,null,null,{"$f":"_xlfn.IFNA(VLOOKUP(Table14[[#This Row],[Conductor Size]],N682:P700,2,0),\"\")","v":""}]
[{"$f":"Table1[[#This Row],[رقم  T.D.S ]]","v":"0681"},null,null,null,null,null,null,null,null,null,{"$f":"_xlfn.IFNA(VLOOKUP(Table14[[#This Row],[Conductor Size]],N683:P701,2,0),\"\")","v":""}]
[{"$f":"Table1[[#This Row],[رقم  T.D.S ]]","v":"0682"},"circular-stranded",12.1,1.56,1.5,"7 X 0.52",null,null,null,null,{"$f":"_xlfn.IFNA(VLOOKUP(Table14[[#This Row],[Conductor Size]],N684:P702,2,0),\"\")","v":""}]
[{"$f":"Table1[[#This Row],[رقم  T.D.S ]]","v":"0683"},"circular-stranded",12.1,2.56,1.5,"7 X 0.52",null,null,null,null,{"$f":"_xlfn.IFNA(VLOOKUP(Table14[[#This Row],[Conductor Size]],N685:P703,2,0),\"\")","v":""}]
[{"$f":"Table1[[#This Row],[رقم  T.D.S ]]","v":"0684"},"circular-stranded",12.1,1.56,1.5,"7 X 0.52",null,null,null,null,{"$f":"_xlfn.IFNA(VLOOKUP(Table14[[#This Row],[Conductor Size]],N686:P704,2,0),\"\")","v":""}]
[{"$f":"Table1[[#This Row],[رقم  T.D.S ]]","v":"0685"},"circular-stranded",12.1,1.56,1.5,"7 X 0.52",null,null,null,null,{"$f":"_xlfn.IFNA(VLOOKUP(Table14[[#This Row],[Conductor Size]],N687:P705,2,0),\"\")","v":""}]
[{"$f":"Table1[[#This Row],[رقم  T.D.S ]]","v":"0686"},null,null,null,null,{"$f":"_xlfn.IFNA(VLOOKUP(Table14[[#This Row],[Conductor Size]],N688:P706,3,0),\"\")","v":""},null,null,null,null,{"$f":"_xlfn.IFNA(VLOOKUP(Table14[[#This Row],[Conductor Size]],N688:P706,2,0),\"\")","v":""}]
[{"$f":"Table1[[#This Row],[رقم  T.D.S ]]","v":"0687"},null,null,null,null,{"$f":"_xlfn.IFNA(VLOOKUP(Table14[[#This Row],[Conductor Size]],N689:P707,3,0),\"\")","v":""},null,null,null,null,{"$f":"_xlfn.IFNA(VLOOKUP(Table14[[#This Row],[Conductor Size]],N689:P707,2,0),\"\")","v":""}]
[{"$f":"Table1[[#This Row],[رقم  T.D.S ]]","v":"0688"},null,null,null,null,{"$f":"_xlfn.IFNA(VLOOKUP(Table14[[#This Row],[Conductor Size]],N690:P708,3,0),\"\")","v":""},null,null,null,null,{"$f":"_xlfn.IFNA(VLOOKUP(Table14[[#This Row],[Conductor Size]],N690:P708,2,0),\"\")","v":""}]
[{"$f":"Table1[[#This Row],[رقم  T.D.S ]]","v":"0689"},null,null,null,null,{"$f":"_xlfn.IFNA(VLOOKUP(Table14[[#This Row],[Conductor Size]],N691:P709,3,0),\"\")","v":""},null,null,null,null,{"$f":"_xlfn.IFNA(VLOOKUP(Table14[[#This Row],[Conductor Size]],N691:P709,2,0),\"\")","v":""}]
[{"$f":"Table1[[#This Row],[رقم  T.D.S ]]","v":"0690"},null,null,null,null,{"$f":"_xlfn.IFNA(VLOOKUP(Table14[[#This Row],[Conductor Size]],N692:P710,3,0),\"\")","v":""},null,null,null,null,{"$f":"_xlfn.IFNA(VLOOKUP(Table14[[#This Row],[Conductor Size]],N692:P710,2,0),\"\")","v":""}]
[{"$f":"Table1[[#This Row],[رقم  T.D.S ]]","v":"0691"},null,null,null,null,{"$f":"_xlfn.IFNA(VLOOKUP(Table14[[#This Row],[Conductor Size]],N693:P711,3,0),\"\")","v":""},null,null,null,null,{"$f":"_xlfn.IFNA(VLOOKUP(Table14[[#This Row],[Conductor Size]],N693:P711,2,0),\"\")","v":""}]
[{"$f":"Table1[[#This Row],[رقم  T.D.S ]]","v":"0692"},null,null,null,null,{"$f":"_xlfn.IFNA(VLOOKUP(Table14[[#This Row],[Conductor Size]],N694:P712,3,0),\"\")","v":""},null,null,null,null,{"$f":"_xlfn.IFNA(VLOOKUP(Table14[[#This Row],[Conductor Size]],N694:P712,2,0),\"\")","v":""}]
[{"$f":"Table1[[#This Row],[رقم  T.D.S ]]","v":"0693"},null,null,null,null,{"$f":"_xlfn.IFNA(VLOOKUP(Table14[[#This Row],[Conductor Size]],N695:P713,3,0),\"\")","v":""},null,null,null,null,{"$f":"_xlfn.IFNA(VLOOKUP(Table14[[#This Row],[Conductor Size]],N695:P713,2,0),\"\")","v":""}]
[{"$f":"Table1[[#This Row],[رقم  T.D.S ]]","v":"0694"},null,null,null,null,{"$f":"_xlfn.IFNA(VLOOKUP(Table14[[#This Row],[Conductor Size]],N696:P714,3,0),\"\")","v":""},null,null,null,null,{"$f":"_xlfn.IFNA(VLOOKUP(Table14[[#This Row],[Conductor Size]],N696:P714,2,0),\"\")","v":""}]
[{"$f":"Table1[[#This Row],[رقم  T.D.S ]]","v":"0695"},null,null,null,null,{"$f":"_xlfn.IFNA(VLOOKUP(Table14[[#This Row],[Conductor Size]],N697:P715,3,0),\"\")","v":""},null,null,null,null,{"$f":"_xlfn.IFNA(VLOOKUP(Table14[[#This Row],[Conductor Size]],N697:P715,2,0),\"\")","v":""}]
[{"$f":"Table1[[#This Row],[رقم  T.D.S ]]","v":"0696"},null,null,null,null,{"$f":"_xlfn.IFNA(VLOOKUP(Table14[[#This Row],[Conductor Size]],N698:P716,3,0),\"\")","v":""},null,null,null,null,{"$f":"_xlfn.IFNA(VLOOKUP(Table14[[#This Row],[Conductor Size]],N698:P716,2,0),\"\")","v":""}]
[{"$f":"Table1[[#This Row],[رقم  T.D.S ]]","v":"0697"},null,null,null,null,{"$f":"_xlfn.IFNA(VLOOKUP(Table14[[#This Row],[Conductor Size]],N699:P717,3,0),\"\")","v":""},null,null,null,null,{"$f":"_xlfn.IFNA(VLOOKUP(Table14[[#This Row],[Conductor Size]],N699:P717,2,0),\"\")","v":""}]
[{"$f":"Table1[[#This Row],[رقم  T.D.S ]]","v":"0698"},null,null,null,null,{"$f":"_xlfn.IFNA(VLOOKUP(Table14[[#This Row],[Conductor Size]],N700:P718,3,0),\"\")","v":""},null,null,null,null,{"$f":"_xlfn.IFNA(VLOOKUP(Table14[[#This Row],[Conductor Size]],N700:P718,2,0),\"\")","v":""}]
[{"$f":"Table1[[#This Row],[رقم  T.D.S ]]","v":"0699"},null,null,null,null,{"$f":"_xlfn.IFNA(VLOOKUP(Table14[[#This Row],[Conductor Size]],N701:P719,3,0),\"\")","v":""},null,null,null,null,{"$f":"_xlfn.IFNA(VLOOKUP(Table14[[#This Row],[Conductor Size]],N701:P719,2,0),\"\")","v":""}]
[{"$f":"Table1[[#This Row],[رقم  T.D.S ]]","v":"0700"},null,null,null,null,{"$f":"_xlfn.IFNA(VLOOKUP(Table14[[#This Row],[Conductor Size]],N702:P720,3,0),\"\")","v":""},null,null,null,null,{"$f":"_xlfn.IFNA(VLOOKUP(Table14[[#This Row],[Conductor Size]],N702:P720,2,0),\"\")","v":""}]
[{"$f":"Table1[[#This Row],[رقم  T.D.S ]]","v":"0701"},null,null,null,null,{"$f":"_xlfn.IFNA(VLOOKUP(Table14[[#This Row],[Conductor Size]],N703:P721,3,0),\"\")","v":""},null,null,null,null,{"$f":"_xlfn.IFNA(VLOOKUP(Table14[[#This Row],[Conductor Size]],N703:P721,2,0),\"\")","v":""}]
[{"$f":"Table1[[#This Row],[رقم  T.D.S ]]","v":"0702"},null,null,null,null,{"$f":"_xlfn.IFNA(VLOOKUP(Table14[[#This Row],[Conductor Size]],N704:P722,3,0),\"\")","v":""},null,null,null,null,{"$f":"_xlfn.IFNA(VLOOKUP(Table14[[#This Row],[Conductor Size]],N704:P722,2,0),\"\")","v":""}]
[{"$f":"Table1[[#This Row],[رقم  T.D.S ]]","v":"0703"},null,null,null,null,{"$f":"_xlfn.IFNA(VLOOKUP(Table14[[#This Row],[Conductor Size]],N705:P723,3,0),\"\")","v":""},null,null,null,null,{"$f":"_xlfn.IFNA(VLOOKUP(Table14[[#This Row],[Conductor Size]],N705:P723,2,0),\"\")","v":""}]
[{"$f":"Table1[[#This Row],[رقم  T.D.S ]]","v":"0704"},null,null,null,null,{"$f":"_xlfn.IFNA(VLOOKUP(Table14[[#This Row],[Conductor Size]],N706:P724,3,0),\"\")","v":""},null,null,null,null,{"$f":"_xlfn.IFNA(VLOOKUP(Table14[[#This Row],[Conductor Size]],N706:P724,2,0),\"\")","v":""}]
[{"$f":"Table1[[#This Row],[رقم  T.D.S ]]","v":"0705"},null,null,null,null,{"$f":"_xlfn.IFNA(VLOOKUP(Table14[[#This Row],[Conductor Size]],N707:P725,3,0),\"\")","v":""},null,null,null,null,{"$f":"_xlfn.IFNA(VLOOKUP(Table14[[#This Row],[Conductor Size]],N707:P725,2,0),\"\")","v":""}]
[{"$f":"Table1[[#This Row],[رقم  T.D.S ]]","v":"0706"},null,null,null,null,{"$f":"_xlfn.IFNA(VLOOKUP(Table14[[#This Row],[Conductor Size]],N708:P726,3,0),\"\")","v":""},null,null,null,null,{"$f":"_xlfn.IFNA(VLOOKUP(Table14[[#This Row],[Conductor Size]],N708:P726,2,0),\"\")","v":""}]
[{"$f":"Table1[[#This Row],[رقم  T.D.S ]]","v":"0707"},null,null,null,null,{"$f":"_xlfn.IFNA(VLOOKUP(Table14[[#This Row],[Conductor Size]],N709:P727,3,0),\"\")","v":""},null,null,null,null,{"$f":"_xlfn.IFNA(VLOOKUP(Table14[[#This Row],[Conductor Size]],N709:P727,2,0),\"\")","v":""}]
[{"$f":"Table1[[#This Row],[رقم  T.D.S ]]","v":"0708"},null,null,null,null,{"$f":"_xlfn.IFNA(VLOOKUP(Table14[[#This Row],[Conductor Size]],N710:P728,3,0),\"\")","v":""},null,null,null,null,{"$f":"_xlfn.IFNA(VLOOKUP(Table14[[#This Row],[Conductor Size]],N710:P728,2,0),\"\")","v":""}]
[{"$f":"Table1[[#This Row],[رقم  T.D.S ]]","v":"0709"},null,null,null,null,{"$f":"_xlfn.IFNA(VLOOKUP(Table14[[#This Row],[Conductor Size]],N711:P729,3,0),\"\")","v":""},null,null,null,null,{"$f":"_xlfn.IFNA(VLOOKUP(Table14[[#This Row],[Conductor Size]],N711:P729,2,0),\"\")","v":""}]
[{"$f":"Table1[[#This Row],[رقم  T.D.S ]]","v":"0710"},null,null,null,null,{"$f":"_xlfn.IFNA(VLOOKUP(Table14[[#This Row],[Conductor Size]],N712:P730,3,0),\"\")","v":""},null,null,null,null,{"$f":"_xlfn.IFNA(VLOOKUP(Table14[[#This Row],[Conductor Size]],N712:P730,2,0),\"\")","v":""}]
[{"$f":"Table1[[#This Row],[رقم  T.D.S ]]","v":"0711"},null,null,null,null,{"$f":"_xlfn.IFNA(VLOOKUP(Table14[[#This Row],[Conductor Size]],N713:P731,3,0),\"\")","v":""},null,null,null,null,{"$f":"_xlfn.IFNA(VLOOKUP(Table14[[#This Row],[Conductor Size]],N713:P731,2,0),\"\")","v":""}]
[{"$f":"Table1[[#This Row],[رقم  T.D.S ]]","v":"0712"},null,null,null,null,{"$f":"_xlfn.IFNA(VLOOKUP(Table14[[#This Row],[Conductor Size]],N714:P732,3,0),\"\")","v":""},null,null,null,null,{"$f":"_xlfn.IFNA(VLOOKUP(Table14[[#This Row],[Conductor Size]],N714:P732,2,0),\"\")","v":""}]
[{"$f":"Table1[[#This Row],[رقم  T.D.S ]]","v":"0713"},null,null,null,null,{"$f":"_xlfn.IFNA(VLOOKUP(Table14[[#This Row],[Conductor Size]],N715:P733,3,0),\"\")","v":""},null,null,null,null,{"$f":"_xlfn.IFNA(VLOOKUP(Table14[[#This Row],[Conductor Size]],N715:P733,2,0),\"\")","v":""}]
[{"$f":"Table1[[#This Row],[رقم  T.D.S ]]","v":"0714"},null,null,null,null,{"$f":"_xlfn.IFNA(VLOOKUP(Table14[[#This Row],[Conductor Size]],N716:P734,3,0),\"\")","v":""},null,null,null,null,{"$f":"_xlfn.IFNA(VLOOKUP(Table14[[#This Row],[Conductor Size]],N716:P734,2,0),\"\")","v":""}]
[{"$f":"Table1[[#This Row],[رقم  T.D.S ]]","v":"0715"},null,null,null,null,{"$f":"_xlfn.IFNA(VLOOKUP(Table14[[#This Row],[Conductor Size]],N717:P735,3,0),\"\")","v":""},null,null,null,null,{"$f":"_xlfn.IFNA(VLOOKUP(Table14[[#This Row],[Conductor Size]],N717:P735,2,0),\"\")","v":""}]
[{"$f":"Table1[[#This Row],[رقم  T.D.S ]]","v":"0716"},null,null,null,null,{"$f":"_xlfn.IFNA(VLOOKUP(Table14[[#This Row],[Conductor Size]],N718:P736,3,0),\"\")","v":""},null,null,null,null,{"$f":"_xlfn.IFNA(VLOOKUP(Table14[[#This Row],[Conductor Size]],N718:P736,2,0),\"\")","v":""}]
[{"$f":"Table1[[#This Row],[رقم  T.D.S ]]","v":"0717"},null,null,null,null,{"$f":"_xlfn.IFNA(VLOOKUP(Table14[[#This Row],[Conductor Size]],N719:P737,3,0),\"\")","v":""},null,null,null,null,{"$f":"_xlfn.IFNA(VLOOKUP(Table14[[#This Row],[Conductor Size]],N719:P737,2,0),\"\")","v":""}]
[{"$f":"Table1[[#This Row],[رقم  T.D.S ]]","v":"0718"},null,null,null,null,{"$f":"_xlfn.IFNA(VLOOKUP(Table14[[#This Row],[Conductor Size]],N720:P738,3,0),\"\")","v":""},null,null,null,null,{"$f":"_xlfn.IFNA(VLOOKUP(Table14[[#This Row],[Conductor Size]],N720:P738,2,0),\"\")","v":""}]
[{"$f":"Table1[[#This Row],[رقم  T.D.S ]]","v":"0719"},null,null,null,null,{"$f":"_xlfn.IFNA(VLOOKUP(Table14[[#This Row],[Conductor Size]],N721:P739,3,0),\"\")","v":""},null,null,null,null,{"$f":"_xlfn.IFNA(VLOOKUP(Table14[[#This Row],[Conductor Size]],N721:P739,2,0),\"\")","v":""}]
[{"$f":"Table1[[#This Row],[رقم  T.D.S ]]","v":"0720"},null,null,null,null,{"$f":"_xlfn.IFNA(VLOOKUP(Table14[[#This Row],[Conductor Size]],N722:P740,3,0),\"\")","v":""},null,null,null,null,{"$f":"_xlfn.IFNA(VLOOKUP(Table14[[#This Row],[Conductor Size]],N722:P740,2,0),\"\")","v":""}]
[{"$f":"Table1[[#This Row],[رقم  T.D.S ]]","v":"0721"},null,null,null,null,{"$f":"_xlfn.IFNA(VLOOKUP(Table14[[#This Row],[Conductor Size]],N723:P741,3,0),\"\")","v":""},null,null,null,null,{"$f":"_xlfn.IFNA(VLOOKUP(Table14[[#This Row],[Conductor Size]],N723:P741,2,0),\"\")","v":""}]
[{"$f":"Table1[[#This Row],[رقم  T.D.S ]]","v":"0722"},"Circular-Non-Compacted",0.43669999999999998,10.5,70,"19 x 2.10",null,null,null,null,{"$f":"_xlfn.IFNA(VLOOKUP(Table14[[#This Row],[Conductor Size]],N724:P742,2,0),\"\")","v":""}]
[{"$f":"Table1[[#This Row],[رقم  T.D.S ]]","v":"0723"},null,null,null,null,{"$f":"_xlfn.IFNA(VLOOKUP(Table14[[#This Row],[Conductor Size]],N725:P743,3,0),\"\")","v":""},null,null,null,null,{"$f":"_xlfn.IFNA(VLOOKUP(Table14[[#This Row],[Conductor Size]],N725:P743,2,0),\"\")","v":""}]
[{"$f":"Table1[[#This Row],[رقم  T.D.S ]]","v":"0724"},null,null,null,null,{"$f":"_xlfn.IFNA(VLOOKUP(Table14[[#This Row],[Conductor Size]],N726:P744,3,0),\"\")","v":""},null,null,null,null,{"$f":"_xlfn.IFNA(VLOOKUP(Table14[[#This Row],[Conductor Size]],N726:P744,2,0),\"\")","v":""}]
[{"$f":"Table1[[#This Row],[رقم  T.D.S ]]","v":"0725"},"Circular-Compacted",0.52400000000000002,6.9,35,"7 X 2.65",null,null,null,null,{"$f":"_xlfn.IFNA(VLOOKUP(Table14[[#This Row],[Conductor Size]],N727:P745,2,0),\"\")","v":""}]
[{"$f":"Table1[[#This Row],[رقم  T.D.S ]]","v":"0726"},"Circular-Compacted",3.08,3.7,10,"7 X 1.43",null,null,null,null,{"$f":"_xlfn.IFNA(VLOOKUP(Table14[[#This Row],[Conductor Size]],N728:P746,2,0),\"\")","v":""}]
[{"$f":"Table1[[#This Row],[رقم  T.D.S ]]","v":"0727"},"stranded",7.41,2.0099999999999998,2.5,"7 X 0.67",null,null,null,null,{"$f":"_xlfn.IFNA(VLOOKUP(Table14[[#This Row],[Conductor Size]],N729:P747,2,0),\"\")","v":""}]
[{"$f":"Table1[[#This Row],[رقم  T.D.S ]]","v":"0728"},"stranded",4.6100000000000003,2.5499999999999998,4,"7 X 0.85",null,null,null,null,{"$f":"_xlfn.IFNA(VLOOKUP(Table14[[#This Row],[Conductor Size]],N730:P748,2,0),\"\")","v":""}]
[{"$f":"Table1[[#This Row],[رقم  T.D.S ]]","v":"0729"},null,null,null,null,{"$f":"_xlfn.IFNA(VLOOKUP(Table14[[#This Row],[Conductor Size]],N731:P749,3,0),\"\")","v":""},null,null,null,null,{"$f":"_xlfn.IFNA(VLOOKUP(Table14[[#This Row],[Conductor Size]],N731:P749,2,0),\"\")","v":""}]
[{"$f":"Table1[[#This Row],[رقم  T.D.S ]]","v":"0730"},null,null,null,null,{"$f":"_xlfn.IFNA(VLOOKUP(Table14[[#This Row],[Conductor Size]],N732:P750,3,0),\"\")","v":""},null,null,null,null,{"$f":"_xlfn.IFNA(VLOOKUP(Table14[[#This Row],[Conductor Size]],N732:P750,2,0),\"\")","v":""}]
[{"$f":"Table1[[#This Row],[رقم  T.D.S ]]","v":"0731"},null,null,null,null,{"$f":"_xlfn.IFNA(VLOOKUP(Table14[[#This Row],[Conductor Size]],N733:P751,3,0),\"\")","v":""},null,null,null,null,{"$f":"_xlfn.IFNA(VLOOKUP(Table14[[#This Row],[Conductor Size]],N733:P751,2,0),\"\")","v":""}]
[{"$f":"Table1[[#This Row],[رقم  T.D.S ]]","v":"0732"},null,null,null,null,{"$f":"_xlfn.IFNA(VLOOKUP(Table14[[#This Row],[Conductor Size]],N734:P752,3,0),\"\")","v":""},null,null,null,null,{"$f":"_xlfn.IFNA(VLOOKUP(Table14[[#This Row],[Conductor Size]],N734:P752,2,0),\"\")","v":""}]
[{"$f":"Table1[[#This Row],[رقم  T.D.S ]]","v":"0733"},null,null,null,null,{"$f":"_xlfn.IFNA(VLOOKUP(Table14[[#This Row],[Conductor Size]],N735:P753,3,0),\"\")","v":""},null,null,null,null,{"$f":"_xlfn.IFNA(VLOOKUP(Table14[[#This Row],[Conductor Size]],N735:P753,2,0),\"\")","v":""}]
[{"$f":"Table1[[#This Row],[رقم  T.D.S ]]","v":"0734"},null,null,null,null,{"$f":"_xlfn.IFNA(VLOOKUP(Table14[[#This Row],[Conductor Size]],N736:P754,3,0),\"\")","v":""},null,null,null,null,{"$f":"_xlfn.IFNA(VLOOKUP(Table14[[#This Row],[Conductor Size]],N736:P754,2,0),\"\")","v":""}]
[{"$f":"Table1[[#This Row],[رقم  T.D.S ]]","v":"0735"},null,null,null,null,{"$f":"_xlfn.IFNA(VLOOKUP(Table14[[#This Row],[Conductor Size]],N737:P755,3,0),\"\")","v":""},null,null,null,null,{"$f":"_xlfn.IFNA(VLOOKUP(Table14[[#This Row],[Conductor Size]],N737:P755,2,0),\"\")","v":""}]
[{"$f":"Table1[[#This Row],[رقم  T.D.S ]]","v":"0736"},null,null,null,null,{"$f":"_xlfn.IFNA(VLOOKUP(Table14[[#This Row],[Conductor Size]],N738:P756,3,0),\"\")","v":""},null,null,null,null,{"$f":"_xlfn.IFNA(VLOOKUP(Table14[[#This Row],[Conductor Size]],N738:P756,2,0),\"\")","v":""}]
[{"$f":"Table1[[#This Row],[رقم  T.D.S ]]","v":"0737"},null,null,null,null,{"$f":"_xlfn.IFNA(VLOOKUP(Table14[[#This Row],[Conductor Size]],N739:P757,3,0),\"\")","v":""},null,null,null,null,{"$f":"_xlfn.IFNA(VLOOKUP(Table14[[#This Row],[Conductor Size]],N739:P757,2,0),\"\")","v":""}]
[{"$f":"Table1[[#This Row],[رقم  T.D.S ]]","v":"0738"},null,null,null,null,{"$f":"_xlfn.IFNA(VLOOKUP(Table14[[#This Row],[Conductor Size]],N740:P758,3,0),\"\")","v":""},null,null,null,null,{"$f":"_xlfn.IFNA(VLOOKUP(Table14[[#This Row],[Conductor Size]],N740:P758,2,0),\"\")","v":""}]
[{"$f":"Table1[[#This Row],[رقم  T.D.S ]]","v":"0739"},null,null,null,null,{"$f":"_xlfn.IFNA(VLOOKUP(Table14[[#This Row],[Conductor Size]],N741:P759,3,0),\"\")","v":""},null,null,null,null,{"$f":"_xlfn.IFNA(VLOOKUP(Table14[[#This Row],[Conductor Size]],N741:P759,2,0),\"\")","v":""}]
[{"$f":"Table1[[#This Row],[رقم  T.D.S ]]","v":"0740"},null,null,null,null,{"$f":"_xlfn.IFNA(VLOOKUP(Table14[[#This Row],[Conductor Size]],N742:P760,3,0),\"\")","v":""},null,null,null,null,{"$f":"_xlfn.IFNA(VLOOKUP(Table14[[#This Row],[Conductor Size]],N742:P760,2,0),\"\")","v":""}]
[{"$f":"Table1[[#This Row],[رقم  T.D.S ]]","v":"0741"},null,null,null,null,{"$f":"_xlfn.IFNA(VLOOKUP(Table14[[#This Row],[Conductor Size]],N743:P761,3,0),\"\")","v":""},null,null,null,null,{"$f":"_xlfn.IFNA(VLOOKUP(Table14[[#This Row],[Conductor Size]],N743:P761,2,0),\"\")","v":""}]
[{"$f":"Table1[[#This Row],[رقم  T.D.S ]]","v":"0742"},"Circular-Compacted",1.83,3.7,10,"7 X 1.43",null,null,null,null,{"$f":"_xlfn.IFNA(VLOOKUP(Table14[[#This Row],[Conductor Size]],N744:P762,2,0),\"\")","v":""}]
[{"$f":"Table1[[#This Row],[رقم  T.D.S ]]","v":"0743"},"Circular-Compacted",1.83,3.7,10,"7 X 1.43",null,null,null,null,{"$f":"_xlfn.IFNA(VLOOKUP(Table14[[#This Row],[Conductor Size]],N745:P763,2,0),\"\")","v":""}]
[{"$f":"Table1[[#This Row],[رقم  T.D.S ]]","v":"0744"},null,null,null,null,{"$f":"_xlfn.IFNA(VLOOKUP(Table14[[#This Row],[Conductor Size]],N746:P764,3,0),\"\")","v":""},null,null,null,null,{"$f":"_xlfn.IFNA(VLOOKUP(Table14[[#This Row],[Conductor Size]],N746:P764,2,0),\"\")","v":""}]
[{"$f":"Table1[[#This Row],[رقم  T.D.S ]]","v":"0745"},null,null,null,null,{"$f":"_xlfn.IFNA(VLOOKUP(Table14[[#This Row],[Conductor Size]],N747:P765,3,0),\"\")","v":""},null,null,null,null,{"$f":"_xlfn.IFNA(VLOOKUP(Table14[[#This Row],[Conductor Size]],N747:P765,2,0),\"\")","v":""}]
[{"$f":"Table1[[#This Row],[رقم  T.D.S ]]","v":"0746"},"circular-stranded",7.41,2.0099999999999998,2.5,"7 X 0.67",null,null,null,null,{"$f":"_xlfn.IFNA(VLOOKUP(Table14[[#This Row],[Conductor Size]],N748:P766,2,0),\"\")","v":""}]
[{"$f":"Table1[[#This Row],[رقم  T.D.S ]]","v":"0747"},"circular-stranded",12.1,1.56,1.5,"7 X 0.52",null,null,null,null,{"$f":"_xlfn.IFNA(VLOOKUP(Table14[[#This Row],[Conductor Size]],N749:P767,2,0),\"\")","v":""}]
[{"$f":"Table1[[#This Row],[رقم  T.D.S ]]","v":"0748"},null,null,null,null,{"$f":"_xlfn.IFNA(VLOOKUP(Table14[[#This Row],[Conductor Size]],N750:P768,3,0),\"\")","v":""},null,null,null,null,{"$f":"_xlfn.IFNA(VLOOKUP(Table14[[#This Row],[Conductor Size]],N750:P768,2,0),\"\")","v":""}]
[{"$f":"Table1[[#This Row],[رقم  T.D.S ]]","v":"0749"},"Bunched",1.91,3.99,10,"73 X 0.4",null,null,null,null,{"$f":"_xlfn.IFNA(VLOOKUP(Table14[[#This Row],[Conductor Size]],N751:P769,2,0),\"\")","v":""}]
[{"$f":"Table1[[#This Row],[رقم  T.D.S ]]","v":"0750"},"Bunched",1.21,5.3,16,"119 X 0.4","4X(28X0.40mm) + 1X(7X0.40mm)",null,null,null,{"$f":"_xlfn.IFNA(VLOOKUP(Table14[[#This Row],[Conductor Size]],N752:P770,2,0),\"\")","v":""}]
[{"$f":"Table1[[#This Row],[رقم  T.D.S ]]","v":"0751"},"Bunched",0.78,6.2,25,"175 X 0.4","6X(28X0.4mm) + 1X(7X0.40mm)",null,null,null,{"$f":"_xlfn.IFNA(VLOOKUP(Table14[[#This Row],[Conductor Size]],N753:P771,2,0),\"\")","v":""}]
[{"$f":"Table1[[#This Row],[رقم  T.D.S ]]","v":"0752"},"Bunched",0.38600000000000001,9.1999999999999993,50,"364 X 0.4","13X(28X0.40mm)",null,null,null,{"$f":"_xlfn.IFNA(VLOOKUP(Table14[[#This Row],[Conductor Size]],N754:P772,2,0),\"\")","v":""}]
[{"$f":"Table1[[#This Row],[رقم  T.D.S ]]","v":"0753"},"Bunched",3.01,3.3,6,"73 X 0.3",null,null,null,null,{"$f":"_xlfn.IFNA(VLOOKUP(Table14[[#This Row],[Conductor Size]],N755:P773,2,0),\"\")","v":""}]
[{"$f":"Table1[[#This Row],[رقم  T.D.S ]]","v":"0754"},null,null,null,null,{"$f":"_xlfn.IFNA(VLOOKUP(Table14[[#This Row],[Conductor Size]],N756:P774,3,0),\"\")","v":""},null,null,null,null,{"$f":"_xlfn.IFNA(VLOOKUP(Table14[[#This Row],[Conductor Size]],N756:P774,2,0),\"\")","v":""}]
[{"$f":"Table1[[#This Row],[رقم  T.D.S ]]","v":"0755"},null,null,null,null,{"$f":"_xlfn.IFNA(VLOOKUP(Table14[[#This Row],[Conductor Size]],N757:P775,3,0),\"\")","v":""},null,null,null,null,{"$f":"_xlfn.IFNA(VLOOKUP(Table14[[#This Row],[Conductor Size]],N757:P775,2,0),\"\")","v":""}]
[{"$f":"Table1[[#This Row],[رقم  T.D.S ]]","v":"0756"},null,null,null,null,{"$f":"_xlfn.IFNA(VLOOKUP(Table14[[#This Row],[Conductor Size]],N758:P776,3,0),\"\")","v":""},null,null,null,null,{"$f":"_xlfn.IFNA(VLOOKUP(Table14[[#This Row],[Conductor Size]],N758:P776,2,0),\"\")","v":""}]
[{"$f":"Table1[[#This Row],[رقم  T.D.S ]]","v":"0757"},null,null,null,null,{"$f":"_xlfn.IFNA(VLOOKUP(Table14[[#This Row],[Conductor Size]],N759:P777,3,0),\"\")","v":""},null,null,null,null,{"$f":"_xlfn.IFNA(VLOOKUP(Table14[[#This Row],[Conductor Size]],N759:P777,2,0),\"\")","v":""}]
[{"$f":"Table1[[#This Row],[رقم  T.D.S ]]","v":"0758"},null,null,null,null,{"$f":"_xlfn.IFNA(VLOOKUP(Table14[[#This Row],[Conductor Size]],N760:P778,3,0),\"\")","v":""},null,null,null,null,{"$f":"_xlfn.IFNA(VLOOKUP(Table14[[#This Row],[Conductor Size]],N760:P778,2,0),\"\")","v":""}]
[{"$f":"Table1[[#This Row],[رقم  T.D.S ]]","v":"0759"},null,null,null,null,{"$f":"_xlfn.IFNA(VLOOKUP(Table14[[#This Row],[Conductor Size]],N761:P779,3,0),\"\")","v":""},null,null,null,null,{"$f":"_xlfn.IFNA(VLOOKUP(Table14[[#This Row],[Conductor Size]],N761:P779,2,0),\"\")","v":""}]
[{"$f":"Table1[[#This Row],[رقم  T.D.S ]]","v":"0760"},null,null,null,null,{"$f":"_xlfn.IFNA(VLOOKUP(Table14[[#This Row],[Conductor Size]],N762:P780,3,0),\"\")","v":""},null,null,null,null,{"$f":"_xlfn.IFNA(VLOOKUP(Table14[[#This Row],[Conductor Size]],N762:P780,2,0),\"\")","v":""}]
[{"$f":"Table1[[#This Row],[رقم  T.D.S ]]","v":"0761"},null,null,null,null,{"$f":"_xlfn.IFNA(VLOOKUP(Table14[[#This Row],[Conductor Size]],N763:P781,3,0),\"\")","v":""},null,null,null,null,{"$f":"_xlfn.IFNA(VLOOKUP(Table14[[#This Row],[Conductor Size]],N763:P781,2,0),\"\")","v":""}]
[{"$f":"Table1[[#This Row],[رقم  T.D.S ]]","v":"0762"},null,null,null,null,{"$f":"_xlfn.IFNA(VLOOKUP(Table14[[#This Row],[Conductor Size]],N764:P782,3,0),\"\")","v":""},null,null,null,null,{"$f":"_xlfn.IFNA(VLOOKUP(Table14[[#This Row],[Conductor Size]],N764:P782,2,0),\"\")","v":""}]
[{"$f":"Table1[[#This Row],[رقم  T.D.S ]]","v":"0763"},null,null,null,null,{"$f":"_xlfn.IFNA(VLOOKUP(Table14[[#This Row],[Conductor Size]],N765:P783,3,0),\"\")","v":""},null,null,null,null,{"$f":"_xlfn.IFNA(VLOOKUP(Table14[[#This Row],[Conductor Size]],N765:P783,2,0),\"\")","v":""}]
[{"$f":"Table1[[#This Row],[رقم  T.D.S ]]","v":"0764"},null,null,null,null,{"$f":"_xlfn.IFNA(VLOOKUP(Table14[[#This Row],[Conductor Size]],N766:P784,3,0),\"\")","v":""},null,null,null,null,{"$f":"_xlfn.IFNA(VLOOKUP(Table14[[#This Row],[Conductor Size]],N766:P784,2,0),\"\")","v":""}]
[{"$f":"Table1[[#This Row],[رقم  T.D.S ]]","v":"0765"},null,null,null,null,{"$f":"_xlfn.IFNA(VLOOKUP(Table14[[#This Row],[Conductor Size]],N767:P785,3,0),\"\")","v":""},null,null,null,null,{"$f":"_xlfn.IFNA(VLOOKUP(Table14[[#This Row],[Conductor Size]],N767:P785,2,0),\"\")","v":""}]
[{"$f":"Table1[[#This Row],[رقم  T.D.S ]]","v":"0766"},null,null,null,null,{"$f":"_xlfn.IFNA(VLOOKUP(Table14[[#This Row],[Conductor Size]],N768:P786,3,0),\"\")","v":""},null,null,null,null,{"$f":"_xlfn.IFNA(VLOOKUP(Table14[[#This Row],[Conductor Size]],N768:P786,2,0),\"\")","v":""}]
[{"$f":"Table1[[#This Row],[رقم  T.D.S ]]","v":"0767"},null,null,null,null,{"$f":"_xlfn.IFNA(VLOOKUP(Table14[[#This Row],[Conductor Size]],N769:P787,3,0),\"\")","v":""},null,null,null,null,{"$f":"_xlfn.IFNA(VLOOKUP(Table14[[#This Row],[Conductor Size]],N769:P787,2,0),\"\")","v":""}]
[{"$f":"Table1[[#This Row],[رقم  T.D.S ]]","v":"0768"},null,null,null,null,{"$f":"_xlfn.IFNA(VLOOKUP(Table14[[#This Row],[Conductor Size]],N770:P788,3,0),\"\")","v":""},null,null,null,null,{"$f":"_xlfn.IFNA(VLOOKUP(Table14[[#This Row],[Conductor Size]],N770:P788,2,0),\"\")","v":""}]
[{"$f":"Table1[[#This Row],[رقم  T.D.S ]]","v":"0769"},null,null,null,null,{"$f":"_xlfn.IFNA(VLOOKUP(Table14[[#This Row],[Conductor Size]],N771:P789,3,0),\"\")","v":""},null,null,null,null,{"$f":"_xlfn.IFNA(VLOOKUP(Table14[[#This Row],[Conductor Size]],N771:P789,2,0),\"\")","v":""}]
[{"$f":"Table1[[#This Row],[رقم  T.D.S ]]","v":"0770"},null,null,null,null,{"$f":"_xlfn.IFNA(VLOOKUP(Table14[[#This Row],[Conductor Size]],N772:P790,3,0),\"\")","v":""},null,null,null,null,{"$f":"_xlfn.IFNA(VLOOKUP(Table14[[#This Row],[Conductor Size]],N772:P790,2,0),\"\")","v":""}]
[{"$f":"Table1[[#This Row],[رقم  T.D.S ]]","v":"0771"},null,null,null,null,{"$f":"_xlfn.IFNA(VLOOKUP(Table14[[#This Row],[Conductor Size]],N773:P791,3,0),\"\")","v":""},null,null,null,null,{"$f":"_xlfn.IFNA(VLOOKUP(Table14[[#This Row],[Conductor Size]],N773:P791,2,0),\"\")","v":""}]
[{"$f":"Table1[[#This Row],[رقم  T.D.S ]]","v":"0772"},null,null,null,null,{"$f":"_xlfn.IFNA(VLOOKUP(Table14[[#This Row],[Conductor Size]],N774:P792,3,0),\"\")","v":""},null,null,null,null,{"$f":"_xlfn.IFNA(VLOOKUP(Table14[[#This Row],[Conductor Size]],N774:P792,2,0),\"\")","v":""}]
[{"$f":"Table1[[#This Row],[رقم  T.D.S ]]","v":"0773"},null,null,null,null,{"$f":"_xlfn.IFNA(VLOOKUP(Table14[[#This Row],[Conductor Size]],N775:P793,3,0),\"\")","v":""},null,null,null,null,{"$f":"_xlfn.IFNA(VLOOKUP(Table14[[#This Row],[Conductor Size]],N775:P793,2,0),\"\")","v":""}]
[{"$f":"Table1[[#This Row],[رقم  T.D.S ]]","v":"0774"},null,null,null,null,{"$f":"_xlfn.IFNA(VLOOKUP(Table14[[#This Row],[Conductor Size]],N776:P794,3,0),\"\")","v":""},null,null,null,null,{"$f":"_xlfn.IFNA(VLOOKUP(Table14[[#This Row],[Conductor Size]],N776:P794,2,0),\"\")","v":""}]
[{"$f":"Table1[[#This Row],[رقم  T.D.S ]]","v":"0775"},null,null,null,null,{"$f":"_xlfn.IFNA(VLOOKUP(Table14[[#This Row],[Conductor Size]],N777:P795,3,0),\"\")","v":""},null,null,null,null,{"$f":"_xlfn.IFNA(VLOOKUP(Table14[[#This Row],[Conductor Size]],N777:P795,2,0),\"\")","v":""}]
[{"$f":"Table1[[#This Row],[رقم  T.D.S ]]","v":"0776"},null,null,null,null,{"$f":"_xlfn.IFNA(VLOOKUP(Table14[[#This Row],[Conductor Size]],N778:P796,3,0),\"\")","v":""},null,null,null,null,{"$f":"_xlfn.IFNA(VLOOKUP(Table14[[#This Row],[Conductor Size]],N778:P796,2,0),\"\")","v":""}]
[{"$f":"Table1[[#This Row],[رقم  T.D.S ]]","v":"0777"},null,null,null,null,{"$f":"_xlfn.IFNA(VLOOKUP(Table14[[#This Row],[Conductor Size]],N779:P797,3,0),\"\")","v":""},null,null,null,null,{"$f":"_xlfn.IFNA(VLOOKUP(Table14[[#This Row],[Conductor Size]],N779:P797,2,0),\"\")","v":""}]
[{"$f":"Table1[[#This Row],[رقم  T.D.S ]]","v":"0778"},null,null,null,null,{"$f":"_xlfn.IFNA(VLOOKUP(Table14[[#This Row],[Conductor Size]],N780:P798,3,0),\"\")","v":""},null,null,null,null,{"$f":"_xlfn.IFNA(VLOOKUP(Table14[[#This Row],[Conductor Size]],N780:P798,2,0),\"\")","v":""}]
[{"$f":"Table1[[#This Row],[رقم  T.D.S ]]","v":"0779"},null,null,null,null,{"$f":"_xlfn.IFNA(VLOOKUP(Table14[[#This Row],[Conductor Size]],N781:P799,3,0),\"\")","v":""},null,null,null,null,{"$f":"_xlfn.IFNA(VLOOKUP(Table14[[#This Row],[Conductor Size]],N781:P799,2,0),\"\")","v":""}]
[{"$f":"Table1[[#This Row],[رقم  T.D.S ]]","v":"0780"},null,null,null,null,{"$f":"_xlfn.IFNA(VLOOKUP(Table14[[#This Row],[Conductor Size]],N782:P800,3,0),\"\")","v":""},null,null,null,null,{"$f":"_xlfn.IFNA(VLOOKUP(Table14[[#This Row],[Conductor Size]],N782:P800,2,0),\"\")","v":""}]
[{"$f":"Table1[[#This Row],[رقم  T.D.S ]]","v":"0781"},null,null,null,null,{"$f":"_xlfn.IFNA(VLOOKUP(Table14[[#This Row],[Conductor Size]],N783:P801,3,0),\"\")","v":""},null,null,null,null,{"$f":"_xlfn.IFNA(VLOOKUP(Table14[[#This Row],[Conductor Size]],N783:P801,2,0),\"\")","v":""}]
[{"$f":"Table1[[#This Row],[رقم  T.D.S ]]","v":"0782"},null,null,null,null,{"$f":"_xlfn.IFNA(VLOOKUP(Table14[[#This Row],[Conductor Size]],N784:P802,3,0),\"\")","v":""},null,null,null,null,{"$f":"_xlfn.IFNA(VLOOKUP(Table14[[#This Row],[Conductor Size]],N784:P802,2,0),\"\")","v":""}]
[{"$f":"Table1[[#This Row],[رقم  T.D.S ]]","v":"0783"},null,null,null,null,{"$f":"_xlfn.IFNA(VLOOKUP(Table14[[#This Row],[Conductor Size]],N785:P803,3,0),\"\")","v":""},null,null,null,null,{"$f":"_xlfn.IFNA(VLOOKUP(Table14[[#This Row],[Conductor Size]],N785:P803,2,0),\"\")","v":""}]
[{"$f":"Table1[[#This Row],[رقم  T.D.S ]]","v":"0784"},null,null,null,null,{"$f":"_xlfn.IFNA(VLOOKUP(Table14[[#This Row],[Conductor Size]],N786:P804,3,0),\"\")","v":""},null,null,null,null,{"$f":"_xlfn.IFNA(VLOOKUP(Table14[[#This Row],[Conductor Size]],N786:P804,2,0),\"\")","v":""}]
[{"$f":"Table1[[#This Row],[رقم  T.D.S ]]","v":"0785"},null,null,null,null,{"$f":"_xlfn.IFNA(VLOOKUP(Table14[[#This Row],[Conductor Size]],N787:P805,3,0),\"\")","v":""},null,null,null,null,{"$f":"_xlfn.IFNA(VLOOKUP(Table14[[#This Row],[Conductor Size]],N787:P805,2,0),\"\")","v":""}]
[{"$f":"Table1[[#This Row],[رقم  T.D.S ]]","v":"0786"},null,null,null,null,{"$f":"_xlfn.IFNA(VLOOKUP(Table14[[#This Row],[Conductor Size]],N788:P806,3,0),\"\")","v":""},null,null,null,null,{"$f":"_xlfn.IFNA(VLOOKUP(Table14[[#This Row],[Conductor Size]],N788:P806,2,0),\"\")","v":""}]
[{"$f":"Table1[[#This Row],[رقم  T.D.S ]]","v":"0787"},null,null,null,null,{"$f":"_xlfn.IFNA(VLOOKUP(Table14[[#This Row],[Conductor Size]],N789:P807,3,0),\"\")","v":""},null,null,null,null,{"$f":"_xlfn.IFNA(VLOOKUP(Table14[[#This Row],[Conductor Size]],N789:P807,2,0),\"\")","v":""}]
[{"$f":"Table1[[#This Row],[رقم  T.D.S ]]","v":"0788"},null,null,null,null,{"$f":"_xlfn.IFNA(VLOOKUP(Table14[[#This Row],[Conductor Size]],N790:P808,3,0),\"\")","v":""},null,null,null,null,{"$f":"_xlfn.IFNA(VLOOKUP(Table14[[#This Row],[Conductor Size]],N790:P808,2,0),\"\")","v":""}]
[{"$f":"Table1[[#This Row],[رقم  T.D.S ]]","v":"0789"},null,null,null,null,{"$f":"_xlfn.IFNA(VLOOKUP(Table14[[#This Row],[Conductor Size]],N791:P809,3,0),\"\")","v":""},null,null,null,null,{"$f":"_xlfn.IFNA(VLOOKUP(Table14[[#This Row],[Conductor Size]],N791:P809,2,0),\"\")","v":""}]
[{"$f":"Table1[[#This Row],[رقم  T.D.S ]]","v":"0790"},null,null,null,null,{"$f":"_xlfn.IFNA(VLOOKUP(Table14[[#This Row],[Conductor Size]],N792:P810,3,0),\"\")","v":""},null,null,null,null,{"$f":"_xlfn.IFNA(VLOOKUP(Table14[[#This Row],[Conductor Size]],N792:P810,2,0),\"\")","v":""}]
[{"$f":"Table1[[#This Row],[رقم  T.D.S ]]","v":"0791"},null,null,null,null,{"$f":"_xlfn.IFNA(VLOOKUP(Table14[[#This Row],[Conductor Size]],N793:P811,3,0),\"\")","v":""},null,null,null,null,{"$f":"_xlfn.IFNA(VLOOKUP(Table14[[#This Row],[Conductor Size]],N793:P811,2,0),\"\")","v":""}]
[{"$f":"Table1[[#This Row],[رقم  T.D.S ]]","v":"0792"},null,null,null,null,{"$f":"_xlfn.IFNA(VLOOKUP(Table14[[#This Row],[Conductor Size]],N794:P812,3,0),\"\")","v":""},null,null,null,null,{"$f":"_xlfn.IFNA(VLOOKUP(Table14[[#This Row],[Conductor Size]],N794:P812,2,0),\"\")","v":""}]
[{"$f":"Table1[[#This Row],[رقم  T.D.S ]]","v":"0793"},null,null,null,null,{"$f":"_xlfn.IFNA(VLOOKUP(Table14[[#This Row],[Conductor Size]],N795:P813,3,0),\"\")","v":""},null,null,null,null,{"$f":"_xlfn.IFNA(VLOOKUP(Table14[[#This Row],[Conductor Size]],N795:P813,2,0),\"\")","v":""}]
[{"$f":"Table1[[#This Row],[رقم  T.D.S ]]","v":"0794"},null,null,null,null,{"$f":"_xlfn.IFNA(VLOOKUP(Table14[[#This Row],[Conductor Size]],N796:P814,3,0),\"\")","v":""},null,null,null,null,{"$f":"_xlfn.IFNA(VLOOKUP(Table14[[#This Row],[Conductor Size]],N796:P814,2,0),\"\")","v":""}]
[{"$f":"Table1[[#This Row],[رقم  T.D.S ]]","v":"0795"},null,null,null,null,{"$f":"_xlfn.IFNA(VLOOKUP(Table14[[#This Row],[Conductor Size]],N797:P815,3,0),\"\")","v":""},null,null,null,null,{"$f":"_xlfn.IFNA(VLOOKUP(Table14[[#This Row],[Conductor Size]],N797:P815,2,0),\"\")","v":""}]
[{"$f":"Table1[[#This Row],[رقم  T.D.S ]]","v":"0796"},null,null,null,null,{"$f":"_xlfn.IFNA(VLOOKUP(Table14[[#This Row],[Conductor Size]],N798:P816,3,0),\"\")","v":""},null,null,null,null,{"$f":"_xlfn.IFNA(VLOOKUP(Table14[[#This Row],[Conductor Size]],N798:P816,2,0),\"\")","v":""}]
[{"$f":"Table1[[#This Row],[رقم  T.D.S ]]","v":"0797"},null,null,null,null,{"$f":"_xlfn.IFNA(VLOOKUP(Table14[[#This Row],[Conductor Size]],N799:P817,3,0),\"\")","v":""},null,null,null,null,{"$f":"_xlfn.IFNA(VLOOKUP(Table14[[#This Row],[Conductor Size]],N799:P817,2,0),\"\")","v":""}]
[{"$f":"Table1[[#This Row],[رقم  T.D.S ]]","v":"0798"},null,null,null,null,{"$f":"_xlfn.IFNA(VLOOKUP(Table14[[#This Row],[Conductor Size]],N800:P818,3,0),\"\")","v":""},null,null,null,null,{"$f":"_xlfn.IFNA(VLOOKUP(Table14[[#This Row],[Conductor Size]],N800:P818,2,0),\"\")","v":""}]
[{"$f":"Table1[[#This Row],[رقم  T.D.S ]]","v":"0799"},null,null,null,null,{"$f":"_xlfn.IFNA(VLOOKUP(Table14[[#This Row],[Conductor Size]],N801:P819,3,0),\"\")","v":""},null,null,null,null,{"$f":"_xlfn.IFNA(VLOOKUP(Table14[[#This Row],[Conductor Size]],N801:P819,2,0),\"\")","v":""}]
[{"$f":"Table1[[#This Row],[رقم  T.D.S ]]","v":"0800"},null,null,null,null,{"$f":"_xlfn.IFNA(VLOOKUP(Table14[[#This Row],[Conductor Size]],N802:P820,3,0),\"\")","v":""},null,null,null,null,{"$f":"_xlfn.IFNA(VLOOKUP(Table14[[#This Row],[Conductor Size]],N802:P820,2,0),\"\")","v":""}]
[{"$f":"Table1[[#This Row],[رقم  T.D.S ]]","v":"0801"},null,null,null,null,{"$f":"_xlfn.IFNA(VLOOKUP(Table14[[#This Row],[Conductor Size]],N803:P821,3,0),\"\")","v":""},null,null,null,null,{"$f":"_xlfn.IFNA(VLOOKUP(Table14[[#This Row],[Conductor Size]],N803:P821,2,0),\"\")","v":""}]
[{"$f":"Table1[[#This Row],[رقم  T.D.S ]]","v":"0802"},null,null,null,null,{"$f":"_xlfn.IFNA(VLOOKUP(Table14[[#This Row],[Conductor Size]],N804:P822,3,0),\"\")","v":""},null,null,null,null,{"$f":"_xlfn.IFNA(VLOOKUP(Table14[[#This Row],[Conductor Size]],N804:P822,2,0),\"\")","v":""}]
[{"$f":"Table1[[#This Row],[رقم  T.D.S ]]","v":"0803"},null,null,null,null,{"$f":"_xlfn.IFNA(VLOOKUP(Table14[[#This Row],[Conductor Size]],N805:P823,3,0),\"\")","v":""},null,null,null,null,{"$f":"_xlfn.IFNA(VLOOKUP(Table14[[#This Row],[Conductor Size]],N805:P823,2,0),\"\")","v":""}]
[{"$f":"Table1[[#This Row],[رقم  T.D.S ]]","v":"0804"},null,null,null,null,{"$f":"_xlfn.IFNA(VLOOKUP(Table14[[#This Row],[Conductor Size]],N806:P824,3,0),\"\")","v":""},null,null,null,null,{"$f":"_xlfn.IFNA(VLOOKUP(Table14[[#This Row],[Conductor Size]],N806:P824,2,0),\"\")","v":""}]
[{"$f":"Table1[[#This Row],[رقم  T.D.S ]]","v":"0805"},null,null,null,null,{"$f":"_xlfn.IFNA(VLOOKUP(Table14[[#This Row],[Conductor Size]],N807:P825,3,0),\"\")","v":""},null,null,null,null,{"$f":"_xlfn.IFNA(VLOOKUP(Table14[[#This Row],[Conductor Size]],N807:P825,2,0),\"\")","v":""}]
[{"$f":"Table1[[#This Row],[رقم  T.D.S ]]","v":"0806"},null,null,null,null,{"$f":"_xlfn.IFNA(VLOOKUP(Table14[[#This Row],[Conductor Size]],N808:P826,3,0),\"\")","v":""},null,null,null,null,{"$f":"_xlfn.IFNA(VLOOKUP(Table14[[#This Row],[Conductor Size]],N808:P826,2,0),\"\")","v":""}]
[{"$f":"Table1[[#This Row],[رقم  T.D.S ]]","v":"0807"},null,null,null,null,{"$f":"_xlfn.IFNA(VLOOKUP(Table14[[#This Row],[Conductor Size]],N809:P827,3,0),\"\")","v":""},null,null,null,null,{"$f":"_xlfn.IFNA(VLOOKUP(Table14[[#This Row],[Conductor Size]],N809:P827,2,0),\"\")","v":""}]
[{"$f":"Table1[[#This Row],[رقم  T.D.S ]]","v":"0808"},null,null,null,null,{"$f":"_xlfn.IFNA(VLOOKUP(Table14[[#This Row],[Conductor Size]],N810:P828,3,0),\"\")","v":""},null,null,null,null,{"$f":"_xlfn.IFNA(VLOOKUP(Table14[[#This Row],[Conductor Size]],N810:P828,2,0),\"\")","v":""}]
[{"$f":"Table1[[#This Row],[رقم  T.D.S ]]","v":"0809"},null,null,null,null,{"$f":"_xlfn.IFNA(VLOOKUP(Table14[[#This Row],[Conductor Size]],N811:P829,3,0),\"\")","v":""},null,null,null,null,{"$f":"_xlfn.IFNA(VLOOKUP(Table14[[#This Row],[Conductor Size]],N811:P829,2,0),\"\")","v":""}]
[{"$f":"Table1[[#This Row],[رقم  T.D.S ]]","v":"0810"},null,null,null,null,{"$f":"_xlfn.IFNA(VLOOKUP(Table14[[#This Row],[Conductor Size]],N812:P830,3,0),\"\")","v":""},null,null,null,null,{"$f":"_xlfn.IFNA(VLOOKUP(Table14[[#This Row],[Conductor Size]],N812:P830,2,0),\"\")","v":""}]
[{"$f":"Table1[[#This Row],[رقم  T.D.S ]]","v":"0811"},null,null,null,null,{"$f":"_xlfn.IFNA(VLOOKUP(Table14[[#This Row],[Conductor Size]],N813:P831,3,0),\"\")","v":""},null,null,null,null,{"$f":"_xlfn.IFNA(VLOOKUP(Table14[[#This Row],[Conductor Size]],N813:P831,2,0),\"\")","v":""}]
[{"$f":"Table1[[#This Row],[رقم  T.D.S ]]","v":"0812"},null,null,null,null,{"$f":"_xlfn.IFNA(VLOOKUP(Table14[[#This Row],[Conductor Size]],N814:P832,3,0),\"\")","v":""},null,null,null,null,{"$f":"_xlfn.IFNA(VLOOKUP(Table14[[#This Row],[Conductor Size]],N814:P832,2,0),\"\")","v":""}]
[{"$f":"Table1[[#This Row],[رقم  T.D.S ]]","v":"0813"},null,null,null,null,{"$f":"_xlfn.IFNA(VLOOKUP(Table14[[#This Row],[Conductor Size]],N815:P833,3,0),\"\")","v":""},null,null,null,null,{"$f":"_xlfn.IFNA(VLOOKUP(Table14[[#This Row],[Conductor Size]],N815:P833,2,0),\"\")","v":""}]
[{"$f":"Table1[[#This Row],[رقم  T.D.S ]]","v":"0814"},null,null,null,null,{"$f":"_xlfn.IFNA(VLOOKUP(Table14[[#This Row],[Conductor Size]],N816:P834,3,0),\"\")","v":""},null,null,null,null,{"$f":"_xlfn.IFNA(VLOOKUP(Table14[[#This Row],[Conductor Size]],N816:P834,2,0),\"\")","v":""}]
[{"$f":"Table1[[#This Row],[رقم  T.D.S ]]","v":"0815"},null,null,null,null,{"$f":"_xlfn.IFNA(VLOOKUP(Table14[[#This Row],[Conductor Size]],N817:P835,3,0),\"\")","v":""},null,null,null,null,{"$f":"_xlfn.IFNA(VLOOKUP(Table14[[#This Row],[Conductor Size]],N817:P835,2,0),\"\")","v":""}]
[{"$f":"Table1[[#This Row],[رقم  T.D.S ]]","v":"0816"},null,null,null,null,{"$f":"_xlfn.IFNA(VLOOKUP(Table14[[#This Row],[Conductor Size]],N818:P836,3,0),\"\")","v":""},null,null,null,null,{"$f":"_xlfn.IFNA(VLOOKUP(Table14[[#This Row],[Conductor Size]],N818:P836,2,0),\"\")","v":""}]
[{"$f":"Table1[[#This Row],[رقم  T.D.S ]]","v":"0817"},null,null,null,null,{"$f":"_xlfn.IFNA(VLOOKUP(Table14[[#This Row],[Conductor Size]],N819:P837,3,0),\"\")","v":""},null,null,null,null,{"$f":"_xlfn.IFNA(VLOOKUP(Table14[[#This Row],[Conductor Size]],N819:P837,2,0),\"\")","v":""}]
[{"$f":"Table1[[#This Row],[رقم  T.D.S ]]","v":"0818"},null,null,null,null,{"$f":"_xlfn.IFNA(VLOOKUP(Table14[[#This Row],[Conductor Size]],N820:P838,3,0),\"\")","v":""},null,null,null,null,{"$f":"_xlfn.IFNA(VLOOKUP(Table14[[#This Row],[Conductor Size]],N820:P838,2,0),\"\")","v":""}]
[{"$f":"Table1[[#This Row],[رقم  T.D.S ]]","v":"0819"},null,null,null,null,{"$f":"_xlfn.IFNA(VLOOKUP(Table14[[#This Row],[Conductor Size]],N821:P839,3,0),\"\")","v":""},null,null,null,null,{"$f":"_xlfn.IFNA(VLOOKUP(Table14[[#This Row],[Conductor Size]],N821:P839,2,0),\"\")","v":""}]
[{"$f":"Table1[[#This Row],[رقم  T.D.S ]]","v":"0820"},null,null,null,null,{"$f":"_xlfn.IFNA(VLOOKUP(Table14[[#This Row],[Conductor Size]],N822:P840,3,0),\"\")","v":""},null,null,null,null,{"$f":"_xlfn.IFNA(VLOOKUP(Table14[[#This Row],[Conductor Size]],N822:P840,2,0),\"\")","v":""}]
[{"$f":"Table1[[#This Row],[رقم  T.D.S ]]","v":"0821"},null,null,null,null,{"$f":"_xlfn.IFNA(VLOOKUP(Table14[[#This Row],[Conductor Size]],N823:P841,3,0),\"\")","v":""},null,null,null,null,{"$f":"_xlfn.IFNA(VLOOKUP(Table14[[#This Row],[Conductor Size]],N823:P841,2,0),\"\")","v":""}]
[{"$f":"Table1[[#This Row],[رقم  T.D.S ]]","v":"0822"},null,null,null,null,{"$f":"_xlfn.IFNA(VLOOKUP(Table14[[#This Row],[Conductor Size]],N824:P842,3,0),\"\")","v":""},null,null,null,null,{"$f":"_xlfn.IFNA(VLOOKUP(Table14[[#This Row],[Conductor Size]],N824:P842,2,0),\"\")","v":""}]
[{"$f":"Table1[[#This Row],[رقم  T.D.S ]]","v":"0823"},null,null,null,null,{"$f":"_xlfn.IFNA(VLOOKUP(Table14[[#This Row],[Conductor Size]],N825:P843,3,0),\"\")","v":""},null,null,null,null,{"$f":"_xlfn.IFNA(VLOOKUP(Table14[[#This Row],[Conductor Size]],N825:P843,2,0),\"\")","v":""}]
[{"$f":"Table1[[#This Row],[رقم  T.D.S ]]","v":"0824"},null,null,null,null,{"$f":"_xlfn.IFNA(VLOOKUP(Table14[[#This Row],[Conductor Size]],N826:P844,3,0),\"\")","v":""},null,null,null,null,{"$f":"_xlfn.IFNA(VLOOKUP(Table14[[#This Row],[Conductor Size]],N826:P844,2,0),\"\")","v":""}]
[{"$f":"Table1[[#This Row],[رقم  T.D.S ]]","v":"0825"},null,null,null,null,{"$f":"_xlfn.IFNA(VLOOKUP(Table14[[#This Row],[Conductor Size]],N827:P845,3,0),\"\")","v":""},null,null,null,null,{"$f":"_xlfn.IFNA(VLOOKUP(Table14[[#This Row],[Conductor Size]],N827:P845,2,0),\"\")","v":""}]
[{"$f":"Table1[[#This Row],[رقم  T.D.S ]]","v":"0826"},null,null,null,null,{"$f":"_xlfn.IFNA(VLOOKUP(Table14[[#This Row],[Conductor Size]],N828:P846,3,0),\"\")","v":""},null,null,null,null,{"$f":"_xlfn.IFNA(VLOOKUP(Table14[[#This Row],[Conductor Size]],N828:P846,2,0),\"\")","v":""}]
[{"$f":"Table1[[#This Row],[رقم  T.D.S ]]","v":"0827"},null,null,null,null,{"$f":"_xlfn.IFNA(VLOOKUP(Table14[[#This Row],[Conductor Size]],N829:P847,3,0),\"\")","v":""},null,null,null,null,{"$f":"_xlfn.IFNA(VLOOKUP(Table14[[#This Row],[Conductor Size]],N829:P847,2,0),\"\")","v":""}]
[{"$f":"Table1[[#This Row],[رقم  T.D.S ]]","v":"0828"},null,null,null,null,{"$f":"_xlfn.IFNA(VLOOKUP(Table14[[#This Row],[Conductor Size]],N830:P848,3,0),\"\")","v":""},null,null,null,null,{"$f":"_xlfn.IFNA(VLOOKUP(Table14[[#This Row],[Conductor Size]],N830:P848,2,0),\"\")","v":""}]
[{"$f":"Table1[[#This Row],[رقم  T.D.S ]]","v":"0829"},null,null,null,null,{"$f":"_xlfn.IFNA(VLOOKUP(Table14[[#This Row],[Conductor Size]],N831:P849,3,0),\"\")","v":""},null,null,null,null,{"$f":"_xlfn.IFNA(VLOOKUP(Table14[[#This Row],[Conductor Size]],N831:P849,2,0),\"\")","v":""}]
[{"$f":"Table1[[#This Row],[رقم  T.D.S ]]","v":"0830"},null,null,null,null,{"$f":"_xlfn.IFNA(VLOOKUP(Table14[[#This Row],[Conductor Size]],N832:P850,3,0),\"\")","v":""},null,null,null,null,{"$f":"_xlfn.IFNA(VLOOKUP(Table14[[#This Row],[Conductor Size]],N832:P850,2,0),\"\")","v":""}]
[{"$f":"Table1[[#This Row],[رقم  T.D.S ]]","v":"0831"},null,null,null,null,{"$f":"_xlfn.IFNA(VLOOKUP(Table14[[#This Row],[Conductor Size]],N833:P851,3,0),\"\")","v":""},null,null,null,null,{"$f":"_xlfn.IFNA(VLOOKUP(Table14[[#This Row],[Conductor Size]],N833:P851,2,0),\"\")","v":""}]
[{"$f":"Table1[[#This Row],[رقم  T.D.S ]]","v":"0832"},null,null,null,null,{"$f":"_xlfn.IFNA(VLOOKUP(Table14[[#This Row],[Conductor Size]],N834:P852,3,0),\"\")","v":""},null,null,null,null,{"$f":"_xlfn.IFNA(VLOOKUP(Table14[[#This Row],[Conductor Size]],N834:P852,2,0),\"\")","v":""}]
[{"$f":"Table1[[#This Row],[رقم  T.D.S ]]","v":"0833"},null,null,null,null,{"$f":"_xlfn.IFNA(VLOOKUP(Table14[[#This Row],[Conductor Size]],N835:P853,3,0),\"\")","v":""},null,null,null,null,{"$f":"_xlfn.IFNA(VLOOKUP(Table14[[#This Row],[Conductor Size]],N835:P853,2,0),\"\")","v":""}]
[{"$f":"Table1[[#This Row],[رقم  T.D.S ]]","v":"0834"},null,null,null,null,{"$f":"_xlfn.IFNA(VLOOKUP(Table14[[#This Row],[Conductor Size]],N836:P854,3,0),\"\")","v":""},null,null,null,null,{"$f":"_xlfn.IFNA(VLOOKUP(Table14[[#This Row],[Conductor Size]],N836:P854,2,0),\"\")","v":""}]
[{"$f":"Table1[[#This Row],[رقم  T.D.S ]]","v":"0835"},null,null,null,null,{"$f":"_xlfn.IFNA(VLOOKUP(Table14[[#This Row],[Conductor Size]],N837:P855,3,0),\"\")","v":""},null,null,null,null,{"$f":"_xlfn.IFNA(VLOOKUP(Table14[[#This Row],[Conductor Size]],N837:P855,2,0),\"\")","v":""}]
[{"$f":"Table1[[#This Row],[رقم  T.D.S ]]","v":"0836"},null,null,null,null,{"$f":"_xlfn.IFNA(VLOOKUP(Table14[[#This Row],[Conductor Size]],N838:P856,3,0),\"\")","v":""},null,null,null,null,{"$f":"_xlfn.IFNA(VLOOKUP(Table14[[#This Row],[Conductor Size]],N838:P856,2,0),\"\")","v":""}]
[{"$f":"Table1[[#This Row],[رقم  T.D.S ]]","v":"0837"},null,null,null,null,{"$f":"_xlfn.IFNA(VLOOKUP(Table14[[#This Row],[Conductor Size]],N839:P857,3,0),\"\")","v":""},null,null,null,null,{"$f":"_xlfn.IFNA(VLOOKUP(Table14[[#This Row],[Conductor Size]],N839:P857,2,0),\"\")","v":""}]
[{"$f":"Table1[[#This Row],[رقم  T.D.S ]]","v":"0838"},null,null,null,null,{"$f":"_xlfn.IFNA(VLOOKUP(Table14[[#This Row],[Conductor Size]],N840:P858,3,0),\"\")","v":""},null,null,null,null,{"$f":"_xlfn.IFNA(VLOOKUP(Table14[[#This Row],[Conductor Size]],N840:P858,2,0),\"\")","v":""}]
[{"$f":"Table1[[#This Row],[رقم  T.D.S ]]","v":"0839"},null,null,null,null,{"$f":"_xlfn.IFNA(VLOOKUP(Table14[[#This Row],[Conductor Size]],N841:P859,3,0),\"\")","v":""},null,null,null,null,{"$f":"_xlfn.IFNA(VLOOKUP(Table14[[#This Row],[Conductor Size]],N841:P859,2,0),\"\")","v":""}]
[{"$f":"Table1[[#This Row],[رقم  T.D.S ]]","v":"0840"},null,null,null,null,{"$f":"_xlfn.IFNA(VLOOKUP(Table14[[#This Row],[Conductor Size]],N842:P860,3,0),\"\")","v":""},null,null,null,null,{"$f":"_xlfn.IFNA(VLOOKUP(Table14[[#This Row],[Conductor Size]],N842:P860,2,0),\"\")","v":""}]
[{"$f":"Table1[[#This Row],[رقم  T.D.S ]]","v":"0841"},null,null,null,null,{"$f":"_xlfn.IFNA(VLOOKUP(Table14[[#This Row],[Conductor Size]],N843:P861,3,0),\"\")","v":""},null,null,null,null,{"$f":"_xlfn.IFNA(VLOOKUP(Table14[[#This Row],[Conductor Size]],N843:P861,2,0),\"\")","v":""}]
[{"$f":"Table1[[#This Row],[رقم  T.D.S ]]","v":"0842"},null,null,null,null,{"$f":"_xlfn.IFNA(VLOOKUP(Table14[[#This Row],[Conductor Size]],N844:P862,3,0),\"\")","v":""},null,null,null,null,{"$f":"_xlfn.IFNA(VLOOKUP(Table14[[#This Row],[Conductor Size]],N844:P862,2,0),\"\")","v":""}]
[{"$f":"Table1[[#This Row],[رقم  T.D.S ]]","v":"0843"},null,null,null,null,{"$f":"_xlfn.IFNA(VLOOKUP(Table14[[#This Row],[Conductor Size]],N845:P863,3,0),\"\")","v":""},null,null,null,null,{"$f":"_xlfn.IFNA(VLOOKUP(Table14[[#This Row],[Conductor Size]],N845:P863,2,0),\"\")","v":""}]
[{"$f":"Table1[[#This Row],[رقم  T.D.S ]]","v":"0844"},null,null,null,null,{"$f":"_xlfn.IFNA(VLOOKUP(Table14[[#This Row],[Conductor Size]],N846:P864,3,0),\"\")","v":""},null,null,null,null,{"$f":"_xlfn.IFNA(VLOOKUP(Table14[[#This Row],[Conductor Size]],N846:P864,2,0),\"\")","v":""}]
[{"$f":"Table1[[#This Row],[رقم  T.D.S ]]","v":"0845"},null,null,null,null,{"$f":"_xlfn.IFNA(VLOOKUP(Table14[[#This Row],[Conductor Size]],N847:P865,3,0),\"\")","v":""},null,null,null,null,{"$f":"_xlfn.IFNA(VLOOKUP(Table14[[#This Row],[Conductor Size]],N847:P865,2,0),\"\")","v":""}]
[{"$f":"Table1[[#This Row],[رقم  T.D.S ]]","v":"0846"},null,null,null,null,{"$f":"_xlfn.IFNA(VLOOKUP(Table14[[#This Row],[Conductor Size]],N848:P866,3,0),\"\")","v":""},null,null,null,null,{"$f":"_xlfn.IFNA(VLOOKUP(Table14[[#This Row],[Conductor Size]],N848:P866,2,0),\"\")","v":""}]
[{"$f":"Table1[[#This Row],[رقم  T.D.S ]]","v":"0847"},null,null,null,null,{"$f":"_xlfn.IFNA(VLOOKUP(Table14[[#This Row],[Conductor Size]],N849:P867,3,0),\"\")","v":""},null,null,null,null,{"$f":"_xlfn.IFNA(VLOOKUP(Table14[[#This Row],[Conductor Size]],N849:P867,2,0),\"\")","v":""}]
[{"$f":"Table1[[#This Row],[رقم  T.D.S ]]","v":"0848"},null,null,null,null,{"$f":"_xlfn.IFNA(VLOOKUP(Table14[[#This Row],[Conductor Size]],N850:P868,3,0),\"\")","v":""},null,null,null,null,{"$f":"_xlfn.IFNA(VLOOKUP(Table14[[#This Row],[Conductor Size]],N850:P868,2,0),\"\")","v":""}]
[{"$f":"Table1[[#This Row],[رقم  T.D.S ]]","v":"0849"},null,null,null,null,{"$f":"_xlfn.IFNA(VLOOKUP(Table14[[#This Row],[Conductor Size]],N851:P869,3,0),\"\")","v":""},null,null,null,null,{"$f":"_xlfn.IFNA(VLOOKUP(Table14[[#This Row],[Conductor Size]],N851:P869,2,0),\"\")","v":""}]
[{"$f":"Table1[[#This Row],[رقم  T.D.S ]]","v":"0850"},null,null,null,null,{"$f":"_xlfn.IFNA(VLOOKUP(Table14[[#This Row],[Conductor Size]],N852:P870,3,0),\"\")","v":""},null,null,null,null,{"$f":"_xlfn.IFNA(VLOOKUP(Table14[[#This Row],[Conductor Size]],N852:P870,2,0),\"\")","v":""}]
[{"$f":"Table1[[#This Row],[رقم  T.D.S ]]","v":"0851"},null,null,null,null,{"$f":"_xlfn.IFNA(VLOOKUP(Table14[[#This Row],[Conductor Size]],N853:P871,3,0),\"\")","v":""},null,null,null,null,{"$f":"_xlfn.IFNA(VLOOKUP(Table14[[#This Row],[Conductor Size]],N853:P871,2,0),\"\")","v":""}]
[{"$f":"Table1[[#This Row],[رقم  T.D.S ]]","v":"0852"},null,null,null,null,{"$f":"_xlfn.IFNA(VLOOKUP(Table14[[#This Row],[Conductor Size]],N854:P872,3,0),\"\")","v":""},null,null,null,null,{"$f":"_xlfn.IFNA(VLOOKUP(Table14[[#This Row],[Conductor Size]],N854:P872,2,0),\"\")","v":""}]
[{"$f":"Table1[[#This Row],[رقم  T.D.S ]]","v":"0853"},null,null,null,null,{"$f":"_xlfn.IFNA(VLOOKUP(Table14[[#This Row],[Conductor Size]],N855:P873,3,0),\"\")","v":""},null,null,null,null,{"$f":"_xlfn.IFNA(VLOOKUP(Table14[[#This Row],[Conductor Size]],N855:P873,2,0),\"\")","v":""}]
[{"$f":"Table1[[#This Row],[رقم  T.D.S ]]","v":"0854"},null,null,null,null,{"$f":"_xlfn.IFNA(VLOOKUP(Table14[[#This Row],[Conductor Size]],N856:P874,3,0),\"\")","v":""},null,null,null,null,{"$f":"_xlfn.IFNA(VLOOKUP(Table14[[#This Row],[Conductor Size]],N856:P874,2,0),\"\")","v":""}]
[{"$f":"Table1[[#This Row],[رقم  T.D.S ]]","v":"0855"},null,null,null,null,{"$f":"_xlfn.IFNA(VLOOKUP(Table14[[#This Row],[Conductor Size]],N857:P875,3,0),\"\")","v":""},null,null,null,null,{"$f":"_xlfn.IFNA(VLOOKUP(Table14[[#This Row],[Conductor Size]],N857:P875,2,0),\"\")","v":""}]
[{"$f":"Table1[[#This Row],[رقم  T.D.S ]]","v":"0856"},null,null,null,null,{"$f":"_xlfn.IFNA(VLOOKUP(Table14[[#This Row],[Conductor Size]],N858:P876,3,0),\"\")","v":""},null,null,null,null,{"$f":"_xlfn.IFNA(VLOOKUP(Table14[[#This Row],[Conductor Size]],N858:P876,2,0),\"\")","v":""}]
[{"$f":"Table1[[#This Row],[رقم  T.D.S ]]","v":"0857"},null,null,null,null,{"$f":"_xlfn.IFNA(VLOOKUP(Table14[[#This Row],[Conductor Size]],N859:P877,3,0),\"\")","v":""},null,null,null,null,{"$f":"_xlfn.IFNA(VLOOKUP(Table14[[#This Row],[Conductor Size]],N859:P877,2,0),\"\")","v":""}]
[{"$f":"Table1[[#This Row],[رقم  T.D.S ]]","v":"0858"},null,null,null,null,{"$f":"_xlfn.IFNA(VLOOKUP(Table14[[#This Row],[Conductor Size]],N860:P878,3,0),\"\")","v":""},null,null,null,null,{"$f":"_xlfn.IFNA(VLOOKUP(Table14[[#This Row],[Conductor Size]],N860:P878,2,0),\"\")","v":""}]
[{"$f":"Table1[[#This Row],[رقم  T.D.S ]]","v":"0859"},null,null,null,null,{"$f":"_xlfn.IFNA(VLOOKUP(Table14[[#This Row],[Conductor Size]],N861:P879,3,0),\"\")","v":""},null,null,null,null,{"$f":"_xlfn.IFNA(VLOOKUP(Table14[[#This Row],[Conductor Size]],N861:P879,2,0),\"\")","v":""}]
[{"$f":"Table1[[#This Row],[رقم  T.D.S ]]","v":"0860"},null,null,null,null,{"$f":"_xlfn.IFNA(VLOOKUP(Table14[[#This Row],[Conductor Size]],N862:P880,3,0),\"\")","v":""},null,null,null,null,{"$f":"_xlfn.IFNA(VLOOKUP(Table14[[#This Row],[Conductor Size]],N862:P880,2,0),\"\")","v":""}]
[{"$f":"Table1[[#This Row],[رقم  T.D.S ]]","v":"0861"},null,null,null,null,{"$f":"_xlfn.IFNA(VLOOKUP(Table14[[#This Row],[Conductor Size]],N863:P881,3,0),\"\")","v":""},null,null,null,null,{"$f":"_xlfn.IFNA(VLOOKUP(Table14[[#This Row],[Conductor Size]],N863:P881,2,0),\"\")","v":""}]
[{"$f":"Table1[[#This Row],[رقم  T.D.S ]]","v":"0862"},null,null,null,null,{"$f":"_xlfn.IFNA(VLOOKUP(Table14[[#This Row],[Conductor Size]],N864:P882,3,0),\"\")","v":""},null,null,null,null,{"$f":"_xlfn.IFNA(VLOOKUP(Table14[[#This Row],[Conductor Size]],N864:P882,2,0),\"\")","v":""}]
[{"$f":"Table1[[#This Row],[رقم  T.D.S ]]","v":"0863"},null,null,null,null,{"$f":"_xlfn.IFNA(VLOOKUP(Table14[[#This Row],[Conductor Size]],N865:P883,3,0),\"\")","v":""},null,null,null,null,{"$f":"_xlfn.IFNA(VLOOKUP(Table14[[#This Row],[Conductor Size]],N865:P883,2,0),\"\")","v":""}]
[{"$f":"Table1[[#This Row],[رقم  T.D.S ]]","v":"0864"},null,null,null,null,{"$f":"_xlfn.IFNA(VLOOKUP(Table14[[#This Row],[Conductor Size]],N866:P884,3,0),\"\")","v":""},null,null,null,null,{"$f":"_xlfn.IFNA(VLOOKUP(Table14[[#This Row],[Conductor Size]],N866:P884,2,0),\"\")","v":""}]
[{"$f":"Table1[[#This Row],[رقم  T.D.S ]]","v":"0865"},null,null,null,null,{"$f":"_xlfn.IFNA(VLOOKUP(Table14[[#This Row],[Conductor Size]],N867:P885,3,0),\"\")","v":""},null,null,null,null,{"$f":"_xlfn.IFNA(VLOOKUP(Table14[[#This Row],[Conductor Size]],N867:P885,2,0),\"\")","v":""}]
[{"$f":"Table1[[#This Row],[رقم  T.D.S ]]","v":"0866"},null,null,null,null,{"$f":"_xlfn.IFNA(VLOOKUP(Table14[[#This Row],[Conductor Size]],N868:P886,3,0),\"\")","v":""},null,null,null,null,{"$f":"_xlfn.IFNA(VLOOKUP(Table14[[#This Row],[Conductor Size]],N868:P886,2,0),\"\")","v":""}]
[{"$f":"Table1[[#This Row],[رقم  T.D.S ]]","v":"0867"},null,null,null,null,{"$f":"_xlfn.IFNA(VLOOKUP(Table14[[#This Row],[Conductor Size]],N869:P887,3,0),\"\")","v":""},null,null,null,null,{"$f":"_xlfn.IFNA(VLOOKUP(Table14[[#This Row],[Conductor Size]],N869:P887,2,0),\"\")","v":""}]
[{"$f":"Table1[[#This Row],[رقم  T.D.S ]]","v":"0868"},null,null,null,null,{"$f":"_xlfn.IFNA(VLOOKUP(Table14[[#This Row],[Conductor Size]],N870:P888,3,0),\"\")","v":""},null,null,null,null,{"$f":"_xlfn.IFNA(VLOOKUP(Table14[[#This Row],[Conductor Size]],N870:P888,2,0),\"\")","v":""}]
[{"$f":"Table1[[#This Row],[رقم  T.D.S ]]","v":"0869"},null,null,null,null,{"$f":"_xlfn.IFNA(VLOOKUP(Table14[[#This Row],[Conductor Size]],N871:P889,3,0),\"\")","v":""},null,null,null,null,{"$f":"_xlfn.IFNA(VLOOKUP(Table14[[#This Row],[Conductor Size]],N871:P889,2,0),\"\")","v":""}]
[{"$f":"Table1[[#This Row],[رقم  T.D.S ]]","v":"0870"},null,null,null,null,{"$f":"_xlfn.IFNA(VLOOKUP(Table14[[#This Row],[Conductor Size]],N872:P890,3,0),\"\")","v":""},null,null,null,null,{"$f":"_xlfn.IFNA(VLOOKUP(Table14[[#This Row],[Conductor Size]],N872:P890,2,0),\"\")","v":""}]
[{"$f":"Table1[[#This Row],[رقم  T.D.S ]]","v":"0871"},null,null,null,null,{"$f":"_xlfn.IFNA(VLOOKUP(Table14[[#This Row],[Conductor Size]],N873:P891,3,0),\"\")","v":""},null,null,null,null,{"$f":"_xlfn.IFNA(VLOOKUP(Table14[[#This Row],[Conductor Size]],N873:P891,2,0),\"\")","v":""}]
[{"$f":"Table1[[#This Row],[رقم  T.D.S ]]","v":"0872"},null,null,null,null,{"$f":"_xlfn.IFNA(VLOOKUP(Table14[[#This Row],[Conductor Size]],N874:P892,3,0),\"\")","v":""},null,null,null,null,{"$f":"_xlfn.IFNA(VLOOKUP(Table14[[#This Row],[Conductor Size]],N874:P892,2,0),\"\")","v":""}]
[{"$f":"Table1[[#This Row],[رقم  T.D.S ]]","v":"0873"},null,null,null,null,{"$f":"_xlfn.IFNA(VLOOKUP(Table14[[#This Row],[Conductor Size]],N875:P893,3,0),\"\")","v":""},null,null,null,null,{"$f":"_xlfn.IFNA(VLOOKUP(Table14[[#This Row],[Conductor Size]],N875:P893,2,0),\"\")","v":""}]
[{"$f":"Table1[[#This Row],[رقم  T.D.S ]]","v":"0874"},null,null,null,null,{"$f":"_xlfn.IFNA(VLOOKUP(Table14[[#This Row],[Conductor Size]],N876:P894,3,0),\"\")","v":""},null,null,null,null,{"$f":"_xlfn.IFNA(VLOOKUP(Table14[[#This Row],[Conductor Size]],N876:P894,2,0),\"\")","v":""}]
[{"$f":"Table1[[#This Row],[رقم  T.D.S ]]","v":"0875"},null,null,null,null,{"$f":"_xlfn.IFNA(VLOOKUP(Table14[[#This Row],[Conductor Size]],N877:P895,3,0),\"\")","v":""},null,null,null,null,{"$f":"_xlfn.IFNA(VLOOKUP(Table14[[#This Row],[Conductor Size]],N877:P895,2,0),\"\")","v":""}]
[{"$f":"Table1[[#This Row],[رقم  T.D.S ]]","v":"0876"},null,null,null,null,{"$f":"_xlfn.IFNA(VLOOKUP(Table14[[#This Row],[Conductor Size]],N878:P896,3,0),\"\")","v":""},null,null,null,null,{"$f":"_xlfn.IFNA(VLOOKUP(Table14[[#This Row],[Conductor Size]],N878:P896,2,0),\"\")","v":""}]
[{"$f":"Table1[[#This Row],[رقم  T.D.S ]]","v":"0877"},null,null,null,null,{"$f":"_xlfn.IFNA(VLOOKUP(Table14[[#This Row],[Conductor Size]],N879:P897,3,0),\"\")","v":""},null,null,null,null,{"$f":"_xlfn.IFNA(VLOOKUP(Table14[[#This Row],[Conductor Size]],N879:P897,2,0),\"\")","v":""}]
[{"$f":"Table1[[#This Row],[رقم  T.D.S ]]","v":"0878"},null,null,null,null,{"$f":"_xlfn.IFNA(VLOOKUP(Table14[[#This Row],[Conductor Size]],N880:P898,3,0),\"\")","v":""},null,null,null,null,{"$f":"_xlfn.IFNA(VLOOKUP(Table14[[#This Row],[Conductor Size]],N880:P898,2,0),\"\")","v":""}]
[{"$f":"Table1[[#This Row],[رقم  T.D.S ]]","v":"0879"},null,null,null,null,{"$f":"_xlfn.IFNA(VLOOKUP(Table14[[#This Row],[Conductor Size]],N881:P899,3,0),\"\")","v":""},null,null,null,null,{"$f":"_xlfn.IFNA(VLOOKUP(Table14[[#This Row],[Conductor Size]],N881:P899,2,0),\"\")","v":""}]
[{"$f":"Table1[[#This Row],[رقم  T.D.S ]]","v":"0880"},null,null,null,null,{"$f":"_xlfn.IFNA(VLOOKUP(Table14[[#This Row],[Conductor Size]],N882:P900,3,0),\"\")","v":""},null,null,null,null,{"$f":"_xlfn.IFNA(VLOOKUP(Table14[[#This Row],[Conductor Size]],N882:P900,2,0),\"\")","v":""}]
[{"$f":"Table1[[#This Row],[رقم  T.D.S ]]","v":"0881"},null,null,null,null,{"$f":"_xlfn.IFNA(VLOOKUP(Table14[[#This Row],[Conductor Size]],N883:P901,3,0),\"\")","v":""},null,null,null,null,{"$f":"_xlfn.IFNA(VLOOKUP(Table14[[#This Row],[Conductor Size]],N883:P901,2,0),\"\")","v":""}]
[{"$f":"Table1[[#This Row],[رقم  T.D.S ]]","v":"0882"},null,null,null,null,{"$f":"_xlfn.IFNA(VLOOKUP(Table14[[#This Row],[Conductor Size]],N884:P902,3,0),\"\")","v":""},null,null,null,null,{"$f":"_xlfn.IFNA(VLOOKUP(Table14[[#This Row],[Conductor Size]],N884:P902,2,0),\"\")","v":""}]
[{"$f":"Table1[[#This Row],[رقم  T.D.S ]]","v":"0883"},null,null,null,null,{"$f":"_xlfn.IFNA(VLOOKUP(Table14[[#This Row],[Conductor Size]],N885:P903,3,0),\"\")","v":""},null,null,null,null,{"$f":"_xlfn.IFNA(VLOOKUP(Table14[[#This Row],[Conductor Size]],N885:P903,2,0),\"\")","v":""}]
[{"$f":"Table1[[#This Row],[رقم  T.D.S ]]","v":"0884"},null,null,null,null,{"$f":"_xlfn.IFNA(VLOOKUP(Table14[[#This Row],[Conductor Size]],N886:P904,3,0),\"\")","v":""},null,null,null,null,{"$f":"_xlfn.IFNA(VLOOKUP(Table14[[#This Row],[Conductor Size]],N886:P904,2,0),\"\")","v":""}]
[{"$f":"Table1[[#This Row],[رقم  T.D.S ]]","v":"0885"},null,null,null,null,{"$f":"_xlfn.IFNA(VLOOKUP(Table14[[#This Row],[Conductor Size]],N887:P905,3,0),\"\")","v":""},null,null,null,null,{"$f":"_xlfn.IFNA(VLOOKUP(Table14[[#This Row],[Conductor Size]],N887:P905,2,0),\"\")","v":""}]
[{"$f":"Table1[[#This Row],[رقم  T.D.S ]]","v":"0886"},null,null,null,null,{"$f":"_xlfn.IFNA(VLOOKUP(Table14[[#This Row],[Conductor Size]],N888:P906,3,0),\"\")","v":""},null,null,null,null,{"$f":"_xlfn.IFNA(VLOOKUP(Table14[[#This Row],[Conductor Size]],N888:P906,2,0),\"\")","v":""}]
[{"$f":"Table1[[#This Row],[رقم  T.D.S ]]","v":"0887"},null,null,null,null,{"$f":"_xlfn.IFNA(VLOOKUP(Table14[[#This Row],[Conductor Size]],N889:P907,3,0),\"\")","v":""},null,null,null,null,{"$f":"_xlfn.IFNA(VLOOKUP(Table14[[#This Row],[Conductor Size]],N889:P907,2,0),\"\")","v":""}]
[{"$f":"Table1[[#This Row],[رقم  T.D.S ]]","v":"0888"},null,null,null,null,{"$f":"_xlfn.IFNA(VLOOKUP(Table14[[#This Row],[Conductor Size]],N890:P908,3,0),\"\")","v":""},null,null,null,null,{"$f":"_xlfn.IFNA(VLOOKUP(Table14[[#This Row],[Conductor Size]],N890:P908,2,0),\"\")","v":""}]
[{"$f":"Table1[[#This Row],[رقم  T.D.S ]]","v":"0889"},null,null,null,null,{"$f":"_xlfn.IFNA(VLOOKUP(Table14[[#This Row],[Conductor Size]],N891:P909,3,0),\"\")","v":""},null,null,null,null,{"$f":"_xlfn.IFNA(VLOOKUP(Table14[[#This Row],[Conductor Size]],N891:P909,2,0),\"\")","v":""}]
[{"$f":"Table1[[#This Row],[رقم  T.D.S ]]","v":"0890"},null,null,null,null,{"$f":"_xlfn.IFNA(VLOOKUP(Table14[[#This Row],[Conductor Size]],N892:P910,3,0),\"\")","v":""},null,null,null,null,{"$f":"_xlfn.IFNA(VLOOKUP(Table14[[#This Row],[Conductor Size]],N892:P910,2,0),\"\")","v":""}]
[{"$f":"Table1[[#This Row],[رقم  T.D.S ]]","v":"0891"},null,null,null,null,{"$f":"_xlfn.IFNA(VLOOKUP(Table14[[#This Row],[Conductor Size]],N893:P911,3,0),\"\")","v":""},null,null,null,null,{"$f":"_xlfn.IFNA(VLOOKUP(Table14[[#This Row],[Conductor Size]],N893:P911,2,0),\"\")","v":""}]
[{"$f":"Table1[[#This Row],[رقم  T.D.S ]]","v":"0892"},null,null,null,null,{"$f":"_xlfn.IFNA(VLOOKUP(Table14[[#This Row],[Conductor Size]],N894:P912,3,0),\"\")","v":""},null,null,null,null,{"$f":"_xlfn.IFNA(VLOOKUP(Table14[[#This Row],[Conductor Size]],N894:P912,2,0),\"\")","v":""}]
[{"$f":"Table1[[#This Row],[رقم  T.D.S ]]","v":"0893"},null,null,null,null,{"$f":"_xlfn.IFNA(VLOOKUP(Table14[[#This Row],[Conductor Size]],N895:P913,3,0),\"\")","v":""},null,null,null,null,{"$f":"_xlfn.IFNA(VLOOKUP(Table14[[#This Row],[Conductor Size]],N895:P913,2,0),\"\")","v":""}]
[{"$f":"Table1[[#This Row],[رقم  T.D.S ]]","v":"0894"},null,null,null,null,{"$f":"_xlfn.IFNA(VLOOKUP(Table14[[#This Row],[Conductor Size]],N896:P914,3,0),\"\")","v":""},null,null,null,null,{"$f":"_xlfn.IFNA(VLOOKUP(Table14[[#This Row],[Conductor Size]],N896:P914,2,0),\"\")","v":""}]
[{"$f":"Table1[[#This Row],[رقم  T.D.S ]]","v":"0895"},null,null,null,null,{"$f":"_xlfn.IFNA(VLOOKUP(Table14[[#This Row],[Conductor Size]],N897:P915,3,0),\"\")","v":""},null,null,null,null,{"$f":"_xlfn.IFNA(VLOOKUP(Table14[[#This Row],[Conductor Size]],N897:P915,2,0),\"\")","v":""}]
[{"$f":"Table1[[#This Row],[رقم  T.D.S ]]","v":"0896"},null,null,null,null,{"$f":"_xlfn.IFNA(VLOOKUP(Table14[[#This Row],[Conductor Size]],N898:P916,3,0),\"\")","v":""},null,null,null,null,{"$f":"_xlfn.IFNA(VLOOKUP(Table14[[#This Row],[Conductor Size]],N898:P916,2,0),\"\")","v":""}]
[{"$f":"Table1[[#This Row],[رقم  T.D.S ]]","v":"0897"},null,null,null,null,{"$f":"_xlfn.IFNA(VLOOKUP(Table14[[#This Row],[Conductor Size]],N899:P917,3,0),\"\")","v":""},null,null,null,null,{"$f":"_xlfn.IFNA(VLOOKUP(Table14[[#This Row],[Conductor Size]],N899:P917,2,0),\"\")","v":""}]
[{"$f":"Table1[[#This Row],[رقم  T.D.S ]]","v":"0898"},null,null,null,null,{"$f":"_xlfn.IFNA(VLOOKUP(Table14[[#This Row],[Conductor Size]],N900:P918,3,0),\"\")","v":""},null,null,null,null,{"$f":"_xlfn.IFNA(VLOOKUP(Table14[[#This Row],[Conductor Size]],N900:P918,2,0),\"\")","v":""}]
[{"$f":"Table1[[#This Row],[رقم  T.D.S ]]","v":"0899"},null,null,null,null,{"$f":"_xlfn.IFNA(VLOOKUP(Table14[[#This Row],[Conductor Size]],N901:P919,3,0),\"\")","v":""},null,null,null,null,{"$f":"_xlfn.IFNA(VLOOKUP(Table14[[#This Row],[Conductor Size]],N901:P919,2,0),\"\")","v":""}]
[{"$f":"Table1[[#This Row],[رقم  T.D.S ]]","v":"0900"},null,null,null,null,{"$f":"_xlfn.IFNA(VLOOKUP(Table14[[#This Row],[Conductor Size]],N902:P920,3,0),\"\")","v":""},null,null,null,null,{"$f":"_xlfn.IFNA(VLOOKUP(Table14[[#This Row],[Conductor Size]],N902:P920,2,0),\"\")","v":""}]
[{"$f":"Table1[[#This Row],[رقم  T.D.S ]]","v":"0901"},null,null,null,null,{"$f":"_xlfn.IFNA(VLOOKUP(Table14[[#This Row],[Conductor Size]],N903:P921,3,0),\"\")","v":""},null,null,null,null,{"$f":"_xlfn.IFNA(VLOOKUP(Table14[[#This Row],[Conductor Size]],N903:P921,2,0),\"\")","v":""}]
[{"$f":"Table1[[#This Row],[رقم  T.D.S ]]","v":"0902"},null,null,null,null,{"$f":"_xlfn.IFNA(VLOOKUP(Table14[[#This Row],[Conductor Size]],N904:P922,3,0),\"\")","v":""},null,null,null,null,{"$f":"_xlfn.IFNA(VLOOKUP(Table14[[#This Row],[Conductor Size]],N904:P922,2,0),\"\")","v":""}]
[{"$f":"Table1[[#This Row],[رقم  T.D.S ]]","v":"0903"},null,null,null,null,{"$f":"_xlfn.IFNA(VLOOKUP(Table14[[#This Row],[Conductor Size]],N905:P923,3,0),\"\")","v":""},null,null,null,null,{"$f":"_xlfn.IFNA(VLOOKUP(Table14[[#This Row],[Conductor Size]],N905:P923,2,0),\"\")","v":""}]
[{"$f":"Table1[[#This Row],[رقم  T.D.S ]]","v":"0904"},null,null,null,null,{"$f":"_xlfn.IFNA(VLOOKUP(Table14[[#This Row],[Conductor Size]],N906:P924,3,0),\"\")","v":""},null,null,null,null,{"$f":"_xlfn.IFNA(VLOOKUP(Table14[[#This Row],[Conductor Size]],N906:P924,2,0),\"\")","v":""}]
[{"$f":"Table1[[#This Row],[رقم  T.D.S ]]","v":"0905"},null,null,null,null,{"$f":"_xlfn.IFNA(VLOOKUP(Table14[[#This Row],[Conductor Size]],N907:P925,3,0),\"\")","v":""},null,null,null,null,{"$f":"_xlfn.IFNA(VLOOKUP(Table14[[#This Row],[Conductor Size]],N907:P925,2,0),\"\")","v":""}]
[{"$f":"Table1[[#This Row],[رقم  T.D.S ]]","v":"0906"},null,null,null,null,{"$f":"_xlfn.IFNA(VLOOKUP(Table14[[#This Row],[Conductor Size]],N908:P926,3,0),\"\")","v":""},null,null,null,null,{"$f":"_xlfn.IFNA(VLOOKUP(Table14[[#This Row],[Conductor Size]],N908:P926,2,0),\"\")","v":""}]
[{"$f":"Table1[[#This Row],[رقم  T.D.S ]]","v":"0907"},null,null,null,null,{"$f":"_xlfn.IFNA(VLOOKUP(Table14[[#This Row],[Conductor Size]],N909:P927,3,0),\"\")","v":""},null,null,null,null,{"$f":"_xlfn.IFNA(VLOOKUP(Table14[[#This Row],[Conductor Size]],N909:P927,2,0),\"\")","v":""}]
[{"$f":"Table1[[#This Row],[رقم  T.D.S ]]","v":"0908"},null,null,null,null,{"$f":"_xlfn.IFNA(VLOOKUP(Table14[[#This Row],[Conductor Size]],N910:P928,3,0),\"\")","v":""},null,null,null,null,{"$f":"_xlfn.IFNA(VLOOKUP(Table14[[#This Row],[Conductor Size]],N910:P928,2,0),\"\")","v":""}]
[{"$f":"Table1[[#This Row],[رقم  T.D.S ]]","v":"0909"},null,null,null,null,{"$f":"_xlfn.IFNA(VLOOKUP(Table14[[#This Row],[Conductor Size]],N911:P929,3,0),\"\")","v":""},null,null,null,null,{"$f":"_xlfn.IFNA(VLOOKUP(Table14[[#This Row],[Conductor Size]],N911:P929,2,0),\"\")","v":""}]
[{"$f":"Table1[[#This Row],[رقم  T.D.S ]]","v":"0910"},null,null,null,null,{"$f":"_xlfn.IFNA(VLOOKUP(Table14[[#This Row],[Conductor Size]],N912:P930,3,0),\"\")","v":""},null,null,null,null,{"$f":"_xlfn.IFNA(VLOOKUP(Table14[[#This Row],[Conductor Size]],N912:P930,2,0),\"\")","v":""}]
[{"$f":"Table1[[#This Row],[رقم  T.D.S ]]","v":"0911"},null,null,null,null,{"$f":"_xlfn.IFNA(VLOOKUP(Table14[[#This Row],[Conductor Size]],N913:P931,3,0),\"\")","v":""},null,null,null,null,{"$f":"_xlfn.IFNA(VLOOKUP(Table14[[#This Row],[Conductor Size]],N913:P931,2,0),\"\")","v":""}]
[{"$f":"Table1[[#This Row],[رقم  T.D.S ]]","v":"0912"},null,null,null,null,{"$f":"_xlfn.IFNA(VLOOKUP(Table14[[#This Row],[Conductor Size]],N914:P932,3,0),\"\")","v":""},null,null,null,null,{"$f":"_xlfn.IFNA(VLOOKUP(Table14[[#This Row],[Conductor Size]],N914:P932,2,0),\"\")","v":""}]
[{"$f":"Table1[[#This Row],[رقم  T.D.S ]]","v":"0913"},null,null,null,null,{"$f":"_xlfn.IFNA(VLOOKUP(Table14[[#This Row],[Conductor Size]],N915:P933,3,0),\"\")","v":""},null,null,null,null,{"$f":"_xlfn.IFNA(VLOOKUP(Table14[[#This Row],[Conductor Size]],N915:P933,2,0),\"\")","v":""}]
[{"$f":"Table1[[#This Row],[رقم  T.D.S ]]","v":"0914"},null,null,null,null,{"$f":"_xlfn.IFNA(VLOOKUP(Table14[[#This Row],[Conductor Size]],N916:P934,3,0),\"\")","v":""},null,null,null,null,{"$f":"_xlfn.IFNA(VLOOKUP(Table14[[#This Row],[Conductor Size]],N916:P934,2,0),\"\")","v":""}]
[{"$f":"Table1[[#This Row],[رقم  T.D.S ]]","v":"0915"},null,null,null,null,{"$f":"_xlfn.IFNA(VLOOKUP(Table14[[#This Row],[Conductor Size]],N917:P935,3,0),\"\")","v":""},null,null,null,null,{"$f":"_xlfn.IFNA(VLOOKUP(Table14[[#This Row],[Conductor Size]],N917:P935,2,0),\"\")","v":""}]
[{"$f":"Table1[[#This Row],[رقم  T.D.S ]]","v":"0916"},null,null,null,null,{"$f":"_xlfn.IFNA(VLOOKUP(Table14[[#This Row],[Conductor Size]],N918:P936,3,0),\"\")","v":""},null,null,null,null,{"$f":"_xlfn.IFNA(VLOOKUP(Table14[[#This Row],[Conductor Size]],N918:P936,2,0),\"\")","v":""}]
[{"$f":"Table1[[#This Row],[رقم  T.D.S ]]","v":"0917"},null,null,null,null,{"$f":"_xlfn.IFNA(VLOOKUP(Table14[[#This Row],[Conductor Size]],N919:P937,3,0),\"\")","v":""},null,null,null,null,{"$f":"_xlfn.IFNA(VLOOKUP(Table14[[#This Row],[Conductor Size]],N919:P937,2,0),\"\")","v":""}]
[{"$f":"Table1[[#This Row],[رقم  T.D.S ]]","v":"0918"},null,null,null,null,{"$f":"_xlfn.IFNA(VLOOKUP(Table14[[#This Row],[Conductor Size]],N920:P938,3,0),\"\")","v":""},null,null,null,null,{"$f":"_xlfn.IFNA(VLOOKUP(Table14[[#This Row],[Conductor Size]],N920:P938,2,0),\"\")","v":""}]
[{"$f":"Table1[[#This Row],[رقم  T.D.S ]]","v":"0919"},null,null,null,null,{"$f":"_xlfn.IFNA(VLOOKUP(Table14[[#This Row],[Conductor Size]],N921:P939,3,0),\"\")","v":""},null,null,null,null,{"$f":"_xlfn.IFNA(VLOOKUP(Table14[[#This Row],[Conductor Size]],N921:P939,2,0),\"\")","v":""}]
[{"$f":"Table1[[#This Row],[رقم  T.D.S ]]","v":"0920"},null,null,null,null,{"$f":"_xlfn.IFNA(VLOOKUP(Table14[[#This Row],[Conductor Size]],N922:P940,3,0),\"\")","v":""},null,null,null,null,{"$f":"_xlfn.IFNA(VLOOKUP(Table14[[#This Row],[Conductor Size]],N922:P940,2,0),\"\")","v":""}]
[{"$f":"Table1[[#This Row],[رقم  T.D.S ]]","v":"0921"},null,null,null,null,{"$f":"_xlfn.IFNA(VLOOKUP(Table14[[#This Row],[Conductor Size]],N923:P941,3,0),\"\")","v":""},null,null,null,null,{"$f":"_xlfn.IFNA(VLOOKUP(Table14[[#This Row],[Conductor Size]],N923:P941,2,0),\"\")","v":""}]
[{"$f":"Table1[[#This Row],[رقم  T.D.S ]]","v":"0922"},null,null,null,null,{"$f":"_xlfn.IFNA(VLOOKUP(Table14[[#This Row],[Conductor Size]],N924:P942,3,0),\"\")","v":""},null,null,null,null,{"$f":"_xlfn.IFNA(VLOOKUP(Table14[[#This Row],[Conductor Size]],N924:P942,2,0),\"\")","v":""}]
[{"$f":"Table1[[#This Row],[رقم  T.D.S ]]","v":"0923"},null,null,null,null,{"$f":"_xlfn.IFNA(VLOOKUP(Table14[[#This Row],[Conductor Size]],N925:P943,3,0),\"\")","v":""},null,null,null,null,{"$f":"_xlfn.IFNA(VLOOKUP(Table14[[#This Row],[Conductor Size]],N925:P943,2,0),\"\")","v":""}]
[{"$f":"Table1[[#This Row],[رقم  T.D.S ]]","v":"0924"},null,null,null,null,{"$f":"_xlfn.IFNA(VLOOKUP(Table14[[#This Row],[Conductor Size]],N926:P944,3,0),\"\")","v":""},null,null,null,null,{"$f":"_xlfn.IFNA(VLOOKUP(Table14[[#This Row],[Conductor Size]],N926:P944,2,0),\"\")","v":""}]
[{"$f":"Table1[[#This Row],[رقم  T.D.S ]]","v":"0925"},null,null,null,null,{"$f":"_xlfn.IFNA(VLOOKUP(Table14[[#This Row],[Conductor Size]],N927:P945,3,0),\"\")","v":""},null,null,null,null,{"$f":"_xlfn.IFNA(VLOOKUP(Table14[[#This Row],[Conductor Size]],N927:P945,2,0),\"\")","v":""}]
[{"$f":"Table1[[#This Row],[رقم  T.D.S ]]","v":"0926"},null,null,null,null,{"$f":"_xlfn.IFNA(VLOOKUP(Table14[[#This Row],[Conductor Size]],N928:P946,3,0),\"\")","v":""},null,null,null,null,{"$f":"_xlfn.IFNA(VLOOKUP(Table14[[#This Row],[Conductor Size]],N928:P946,2,0),\"\")","v":""}]
[{"$f":"Table1[[#This Row],[رقم  T.D.S ]]","v":"0927"},null,null,null,null,{"$f":"_xlfn.IFNA(VLOOKUP(Table14[[#This Row],[Conductor Size]],N929:P947,3,0),\"\")","v":""},null,null,null,null,{"$f":"_xlfn.IFNA(VLOOKUP(Table14[[#This Row],[Conductor Size]],N929:P947,2,0),\"\")","v":""}]
[{"$f":"Table1[[#This Row],[رقم  T.D.S ]]","v":"0928"},null,null,null,null,{"$f":"_xlfn.IFNA(VLOOKUP(Table14[[#This Row],[Conductor Size]],N930:P948,3,0),\"\")","v":""},null,null,null,null,{"$f":"_xlfn.IFNA(VLOOKUP(Table14[[#This Row],[Conductor Size]],N930:P948,2,0),\"\")","v":""}]
[{"$f":"Table1[[#This Row],[رقم  T.D.S ]]","v":"0929"},null,null,null,null,{"$f":"_xlfn.IFNA(VLOOKUP(Table14[[#This Row],[Conductor Size]],N931:P949,3,0),\"\")","v":""},null,null,null,null,{"$f":"_xlfn.IFNA(VLOOKUP(Table14[[#This Row],[Conductor Size]],N931:P949,2,0),\"\")","v":""}]
[{"$f":"Table1[[#This Row],[رقم  T.D.S ]]","v":"0930"},null,null,null,null,{"$f":"_xlfn.IFNA(VLOOKUP(Table14[[#This Row],[Conductor Size]],N932:P950,3,0),\"\")","v":""},null,null,null,null,{"$f":"_xlfn.IFNA(VLOOKUP(Table14[[#This Row],[Conductor Size]],N932:P950,2,0),\"\")","v":""}]
[{"$f":"Table1[[#This Row],[رقم  T.D.S ]]","v":"0931"},null,null,null,null,{"$f":"_xlfn.IFNA(VLOOKUP(Table14[[#This Row],[Conductor Size]],N933:P951,3,0),\"\")","v":""},null,null,null,null,{"$f":"_xlfn.IFNA(VLOOKUP(Table14[[#This Row],[Conductor Size]],N933:P951,2,0),\"\")","v":""}]
[{"$f":"Table1[[#This Row],[رقم  T.D.S ]]","v":"0932"},null,null,null,null,{"$f":"_xlfn.IFNA(VLOOKUP(Table14[[#This Row],[Conductor Size]],N934:P952,3,0),\"\")","v":""},null,null,null,null,{"$f":"_xlfn.IFNA(VLOOKUP(Table14[[#This Row],[Conductor Size]],N934:P952,2,0),\"\")","v":""}]
[{"$f":"Table1[[#This Row],[رقم  T.D.S ]]","v":"0933"},null,null,null,null,{"$f":"_xlfn.IFNA(VLOOKUP(Table14[[#This Row],[Conductor Size]],N935:P953,3,0),\"\")","v":""},null,null,null,null,{"$f":"_xlfn.IFNA(VLOOKUP(Table14[[#This Row],[Conductor Size]],N935:P953,2,0),\"\")","v":""}]
[{"$f":"Table1[[#This Row],[رقم  T.D.S ]]","v":"0934"},null,null,null,null,{"$f":"_xlfn.IFNA(VLOOKUP(Table14[[#This Row],[Conductor Size]],N936:P954,3,0),\"\")","v":""},null,null,null,null,{"$f":"_xlfn.IFNA(VLOOKUP(Table14[[#This Row],[Conductor Size]],N936:P954,2,0),\"\")","v":""}]
[{"$f":"Table1[[#This Row],[رقم  T.D.S ]]","v":"0935"},null,null,null,null,{"$f":"_xlfn.IFNA(VLOOKUP(Table14[[#This Row],[Conductor Size]],N937:P955,3,0),\"\")","v":""},null,null,null,null,{"$f":"_xlfn.IFNA(VLOOKUP(Table14[[#This Row],[Conductor Size]],N937:P955,2,0),\"\")","v":""}]
[{"$f":"Table1[[#This Row],[رقم  T.D.S ]]","v":"0936"},null,null,null,null,{"$f":"_xlfn.IFNA(VLOOKUP(Table14[[#This Row],[Conductor Size]],N938:P956,3,0),\"\")","v":""},null,null,null,null,{"$f":"_xlfn.IFNA(VLOOKUP(Table14[[#This Row],[Conductor Size]],N938:P956,2,0),\"\")","v":""}]
[{"$f":"Table1[[#This Row],[رقم  T.D.S ]]","v":"0937"},null,null,null,null,{"$f":"_xlfn.IFNA(VLOOKUP(Table14[[#This Row],[Conductor Size]],N939:P957,3,0),\"\")","v":""},null,null,null,null,{"$f":"_xlfn.IFNA(VLOOKUP(Table14[[#This Row],[Conductor Size]],N939:P957,2,0),\"\")","v":""}]
[{"$f":"Table1[[#This Row],[رقم  T.D.S ]]","v":"0938"},null,null,null,null,{"$f":"_xlfn.IFNA(VLOOKUP(Table14[[#This Row],[Conductor Size]],N940:P958,3,0),\"\")","v":""},null,null,null,null,{"$f":"_xlfn.IFNA(VLOOKUP(Table14[[#This Row],[Conductor Size]],N940:P958,2,0),\"\")","v":""}]
[{"$f":"Table1[[#This Row],[رقم  T.D.S ]]","v":"0939"},null,null,null,null,{"$f":"_xlfn.IFNA(VLOOKUP(Table14[[#This Row],[Conductor Size]],N941:P959,3,0),\"\")","v":""},null,null,null,null,{"$f":"_xlfn.IFNA(VLOOKUP(Table14[[#This Row],[Conductor Size]],N941:P959,2,0),\"\")","v":""}]
[{"$f":"Table1[[#This Row],[رقم  T.D.S ]]","v":"0940"},null,null,null,null,{"$f":"_xlfn.IFNA(VLOOKUP(Table14[[#This Row],[Conductor Size]],N942:P960,3,0),\"\")","v":""},null,null,null,null,{"$f":"_xlfn.IFNA(VLOOKUP(Table14[[#This Row],[Conductor Size]],N942:P960,2,0),\"\")","v":""}]
[{"$f":"Table1[[#This Row],[رقم  T.D.S ]]","v":"0941"},null,null,null,null,{"$f":"_xlfn.IFNA(VLOOKUP(Table14[[#This Row],[Conductor Size]],N943:P961,3,0),\"\")","v":""},null,null,null,null,{"$f":"_xlfn.IFNA(VLOOKUP(Table14[[#This Row],[Conductor Size]],N943:P961,2,0),\"\")","v":""}]
[{"$f":"Table1[[#This Row],[رقم  T.D.S ]]","v":"0942"},null,null,null,null,{"$f":"_xlfn.IFNA(VLOOKUP(Table14[[#This Row],[Conductor Size]],N944:P962,3,0),\"\")","v":""},null,null,null,null,{"$f":"_xlfn.IFNA(VLOOKUP(Table14[[#This Row],[Conductor Size]],N944:P962,2,0),\"\")","v":""}]
[{"$f":"Table1[[#This Row],[رقم  T.D.S ]]","v":"0943"},null,null,null,null,{"$f":"_xlfn.IFNA(VLOOKUP(Table14[[#This Row],[Conductor Size]],N945:P963,3,0),\"\")","v":""},null,null,null,null,{"$f":"_xlfn.IFNA(VLOOKUP(Table14[[#This Row],[Conductor Size]],N945:P963,2,0),\"\")","v":""}]
[{"$f":"Table1[[#This Row],[رقم  T.D.S ]]","v":"0944"},null,null,null,null,{"$f":"_xlfn.IFNA(VLOOKUP(Table14[[#This Row],[Conductor Size]],N946:P964,3,0),\"\")","v":""},null,null,null,null,{"$f":"_xlfn.IFNA(VLOOKUP(Table14[[#This Row],[Conductor Size]],N946:P964,2,0),\"\")","v":""}]
[{"$f":"Table1[[#This Row],[رقم  T.D.S ]]","v":"0945"},null,null,null,null,{"$f":"_xlfn.IFNA(VLOOKUP(Table14[[#This Row],[Conductor Size]],N947:P965,3,0),\"\")","v":""},null,null,null,null,{"$f":"_xlfn.IFNA(VLOOKUP(Table14[[#This Row],[Conductor Size]],N947:P965,2,0),\"\")","v":""}]
[{"$f":"Table1[[#This Row],[رقم  T.D.S ]]","v":"0946"},null,null,null,null,{"$f":"_xlfn.IFNA(VLOOKUP(Table14[[#This Row],[Conductor Size]],N948:P966,3,0),\"\")","v":""},null,null,null,null,{"$f":"_xlfn.IFNA(VLOOKUP(Table14[[#This Row],[Conductor Size]],N948:P966,2,0),\"\")","v":""}]
[{"$f":"Table1[[#This Row],[رقم  T.D.S ]]","v":"0947"},null,null,null,null,{"$f":"_xlfn.IFNA(VLOOKUP(Table14[[#This Row],[Conductor Size]],N949:P967,3,0),\"\")","v":""},null,null,null,null,{"$f":"_xlfn.IFNA(VLOOKUP(Table14[[#This Row],[Conductor Size]],N949:P967,2,0),\"\")","v":""}]
[{"$f":"Table1[[#This Row],[رقم  T.D.S ]]","v":"0948"},null,null,null,null,{"$f":"_xlfn.IFNA(VLOOKUP(Table14[[#This Row],[Conductor Size]],N950:P968,3,0),\"\")","v":""},null,null,null,null,{"$f":"_xlfn.IFNA(VLOOKUP(Table14[[#This Row],[Conductor Size]],N950:P968,2,0),\"\")","v":""}]
[{"$f":"Table1[[#This Row],[رقم  T.D.S ]]","v":"0949"},null,null,null,null,{"$f":"_xlfn.IFNA(VLOOKUP(Table14[[#This Row],[Conductor Size]],N951:P969,3,0),\"\")","v":""},null,null,null,null,{"$f":"_xlfn.IFNA(VLOOKUP(Table14[[#This Row],[Conductor Size]],N951:P969,2,0),\"\")","v":""}]
[{"$f":"Table1[[#This Row],[رقم  T.D.S ]]","v":"0950"},null,null,null,null,{"$f":"_xlfn.IFNA(VLOOKUP(Table14[[#This Row],[Conductor Size]],N952:P970,3,0),\"\")","v":""},null,null,null,null,{"$f":"_xlfn.IFNA(VLOOKUP(Table14[[#This Row],[Conductor Size]],N952:P970,2,0),\"\")","v":""}]
[{"$f":"Table1[[#This Row],[رقم  T.D.S ]]","v":"0951"},null,null,null,null,{"$f":"_xlfn.IFNA(VLOOKUP(Table14[[#This Row],[Conductor Size]],N953:P971,3,0),\"\")","v":""},null,null,null,null,{"$f":"_xlfn.IFNA(VLOOKUP(Table14[[#This Row],[Conductor Size]],N953:P971,2,0),\"\")","v":""}]
[{"$f":"Table1[[#This Row],[رقم  T.D.S ]]","v":"0952"},null,null,null,null,{"$f":"_xlfn.IFNA(VLOOKUP(Table14[[#This Row],[Conductor Size]],N954:P972,3,0),\"\")","v":""},null,null,null,null,{"$f":"_xlfn.IFNA(VLOOKUP(Table14[[#This Row],[Conductor Size]],N954:P972,2,0),\"\")","v":""}]
[{"$f":"Table1[[#This Row],[رقم  T.D.S ]]","v":"0953"},null,null,null,null,{"$f":"_xlfn.IFNA(VLOOKUP(Table14[[#This Row],[Conductor Size]],N955:P973,3,0),\"\")","v":""},null,null,null,null,{"$f":"_xlfn.IFNA(VLOOKUP(Table14[[#This Row],[Conductor Size]],N955:P973,2,0),\"\")","v":""}]
[{"$f":"Table1[[#This Row],[رقم  T.D.S ]]","v":"0954"},null,null,null,null,{"$f":"_xlfn.IFNA(VLOOKUP(Table14[[#This Row],[Conductor Size]],N956:P974,3,0),\"\")","v":""},null,null,null,null,{"$f":"_xlfn.IFNA(VLOOKUP(Table14[[#This Row],[Conductor Size]],N956:P974,2,0),\"\")","v":""}]
[{"$f":"Table1[[#This Row],[رقم  T.D.S ]]","v":"0955"},null,null,null,null,{"$f":"_xlfn.IFNA(VLOOKUP(Table14[[#This Row],[Conductor Size]],N957:P975,3,0),\"\")","v":""},null,null,null,null,{"$f":"_xlfn.IFNA(VLOOKUP(Table14[[#This Row],[Conductor Size]],N957:P975,2,0),\"\")","v":""}]
[{"$f":"Table1[[#This Row],[رقم  T.D.S ]]","v":"0956"},null,null,null,null,{"$f":"_xlfn.IFNA(VLOOKUP(Table14[[#This Row],[Conductor Size]],N958:P976,3,0),\"\")","v":""},null,null,null,null,{"$f":"_xlfn.IFNA(VLOOKUP(Table14[[#This Row],[Conductor Size]],N958:P976,2,0),\"\")","v":""}]
[{"$f":"Table1[[#This Row],[رقم  T.D.S ]]","v":"0957"},null,null,null,null,{"$f":"_xlfn.IFNA(VLOOKUP(Table14[[#This Row],[Conductor Size]],N959:P977,3,0),\"\")","v":""},null,null,null,null,{"$f":"_xlfn.IFNA(VLOOKUP(Table14[[#This Row],[Conductor Size]],N959:P977,2,0),\"\")","v":""}]
[{"$f":"Table1[[#This Row],[رقم  T.D.S ]]","v":"0958"},null,null,null,null,{"$f":"_xlfn.IFNA(VLOOKUP(Table14[[#This Row],[Conductor Size]],N960:P978,3,0),\"\")","v":""},null,null,null,null,{"$f":"_xlfn.IFNA(VLOOKUP(Table14[[#This Row],[Conductor Size]],N960:P978,2,0),\"\")","v":""}]
[{"$f":"Table1[[#This Row],[رقم  T.D.S ]]","v":"0959"},null,null,null,null,{"$f":"_xlfn.IFNA(VLOOKUP(Table14[[#This Row],[Conductor Size]],N961:P979,3,0),\"\")","v":""},null,null,null,null,{"$f":"_xlfn.IFNA(VLOOKUP(Table14[[#This Row],[Conductor Size]],N961:P979,2,0),\"\")","v":""}]
[{"$f":"Table1[[#This Row],[رقم  T.D.S ]]","v":"0960"},null,null,null,null,{"$f":"_xlfn.IFNA(VLOOKUP(Table14[[#This Row],[Conductor Size]],N962:P980,3,0),\"\")","v":""},null,null,null,null,{"$f":"_xlfn.IFNA(VLOOKUP(Table14[[#This Row],[Conductor Size]],N962:P980,2,0),\"\")","v":""}]
[{"$f":"Table1[[#This Row],[رقم  T.D.S ]]","v":"0961"},null,null,null,null,{"$f":"_xlfn.IFNA(VLOOKUP(Table14[[#This Row],[Conductor Size]],N963:P981,3,0),\"\")","v":""},null,null,null,null,{"$f":"_xlfn.IFNA(VLOOKUP(Table14[[#This Row],[Conductor Size]],N963:P981,2,0),\"\")","v":""}]
[{"$f":"Table1[[#This Row],[رقم  T.D.S ]]","v":"0962"},null,null,null,null,{"$f":"_xlfn.IFNA(VLOOKUP(Table14[[#This Row],[Conductor Size]],N964:P982,3,0),\"\")","v":""},null,null,null,null,{"$f":"_xlfn.IFNA(VLOOKUP(Table14[[#This Row],[Conductor Size]],N964:P982,2,0),\"\")","v":""}]
[{"$f":"Table1[[#This Row],[رقم  T.D.S ]]","v":"0963"},null,null,null,null,{"$f":"_xlfn.IFNA(VLOOKUP(Table14[[#This Row],[Conductor Size]],N965:P983,3,0),\"\")","v":""},null,null,null,null,{"$f":"_xlfn.IFNA(VLOOKUP(Table14[[#This Row],[Conductor Size]],N965:P983,2,0),\"\")","v":""}]
[{"$f":"Table1[[#This Row],[رقم  T.D.S ]]","v":"0964"},null,null,null,null,{"$f":"_xlfn.IFNA(VLOOKUP(Table14[[#This Row],[Conductor Size]],N966:P984,3,0),\"\")","v":""},null,null,null,null,{"$f":"_xlfn.IFNA(VLOOKUP(Table14[[#This Row],[Conductor Size]],N966:P984,2,0),\"\")","v":""}]
[{"$f":"Table1[[#This Row],[رقم  T.D.S ]]","v":"0965"},null,null,null,null,{"$f":"_xlfn.IFNA(VLOOKUP(Table14[[#This Row],[Conductor Size]],N967:P985,3,0),\"\")","v":""},null,null,null,null,{"$f":"_xlfn.IFNA(VLOOKUP(Table14[[#This Row],[Conductor Size]],N967:P985,2,0),\"\")","v":""}]
[{"$f":"Table1[[#This Row],[رقم  T.D.S ]]","v":"0966"},null,null,null,null,{"$f":"_xlfn.IFNA(VLOOKUP(Table14[[#This Row],[Conductor Size]],N968:P986,3,0),\"\")","v":""},null,null,null,null,{"$f":"_xlfn.IFNA(VLOOKUP(Table14[[#This Row],[Conductor Size]],N968:P986,2,0),\"\")","v":""}]
[{"$f":"Table1[[#This Row],[رقم  T.D.S ]]","v":"0967"},null,null,null,null,{"$f":"_xlfn.IFNA(VLOOKUP(Table14[[#This Row],[Conductor Size]],N969:P987,3,0),\"\")","v":""},null,null,null,null,{"$f":"_xlfn.IFNA(VLOOKUP(Table14[[#This Row],[Conductor Size]],N969:P987,2,0),\"\")","v":""}]
[{"$f":"Table1[[#This Row],[رقم  T.D.S ]]","v":"0968"},null,null,null,null,{"$f":"_xlfn.IFNA(VLOOKUP(Table14[[#This Row],[Conductor Size]],N970:P988,3,0),\"\")","v":""},null,null,null,null,{"$f":"_xlfn.IFNA(VLOOKUP(Table14[[#This Row],[Conductor Size]],N970:P988,2,0),\"\")","v":""}]
[{"$f":"Table1[[#This Row],[رقم  T.D.S ]]","v":"0969"},null,null,null,null,{"$f":"_xlfn.IFNA(VLOOKUP(Table14[[#This Row],[Conductor Size]],N971:P989,3,0),\"\")","v":""},null,null,null,null,{"$f":"_xlfn.IFNA(VLOOKUP(Table14[[#This Row],[Conductor Size]],N971:P989,2,0),\"\")","v":""}]
[{"$f":"Table1[[#This Row],[رقم  T.D.S ]]","v":"0970"},null,null,null,null,{"$f":"_xlfn.IFNA(VLOOKUP(Table14[[#This Row],[Conductor Size]],N972:P990,3,0),\"\")","v":""},null,null,null,null,{"$f":"_xlfn.IFNA(VLOOKUP(Table14[[#This Row],[Conductor Size]],N972:P990,2,0),\"\")","v":""}]
[{"$f":"Table1[[#This Row],[رقم  T.D.S ]]","v":"0971"},null,null,null,null,{"$f":"_xlfn.IFNA(VLOOKUP(Table14[[#This Row],[Conductor Size]],N973:P991,3,0),\"\")","v":""},null,null,null,null,{"$f":"_xlfn.IFNA(VLOOKUP(Table14[[#This Row],[Conductor Size]],N973:P991,2,0),\"\")","v":""}]
[{"$f":"Table1[[#This Row],[رقم  T.D.S ]]","v":"0972"},null,null,null,null,{"$f":"_xlfn.IFNA(VLOOKUP(Table14[[#This Row],[Conductor Size]],N974:P992,3,0),\"\")","v":""},null,null,null,null,{"$f":"_xlfn.IFNA(VLOOKUP(Table14[[#This Row],[Conductor Size]],N974:P992,2,0),\"\")","v":""}]
[{"$f":"Table1[[#This Row],[رقم  T.D.S ]]","v":"0973"},null,null,null,null,{"$f":"_xlfn.IFNA(VLOOKUP(Table14[[#This Row],[Conductor Size]],N975:P993,3,0),\"\")","v":""},null,null,null,null,{"$f":"_xlfn.IFNA(VLOOKUP(Table14[[#This Row],[Conductor Size]],N975:P993,2,0),\"\")","v":""}]
[{"$f":"Table1[[#This Row],[رقم  T.D.S ]]","v":"0974"},null,null,null,null,{"$f":"_xlfn.IFNA(VLOOKUP(Table14[[#This Row],[Conductor Size]],N976:P994,3,0),\"\")","v":""},null,null,null,null,{"$f":"_xlfn.IFNA(VLOOKUP(Table14[[#This Row],[Conductor Size]],N976:P994,2,0),\"\")","v":""}]
[{"$f":"Table1[[#This Row],[رقم  T.D.S ]]","v":"0975"},null,null,null,null,{"$f":"_xlfn.IFNA(VLOOKUP(Table14[[#This Row],[Conductor Size]],N977:P995,3,0),\"\")","v":""},null,null,null,null,{"$f":"_xlfn.IFNA(VLOOKUP(Table14[[#This Row],[Conductor Size]],N977:P995,2,0),\"\")","v":""}]
[{"$f":"Table1[[#This Row],[رقم  T.D.S ]]","v":"0976"},null,null,null,null,{"$f":"_xlfn.IFNA(VLOOKUP(Table14[[#This Row],[Conductor Size]],N978:P996,3,0),\"\")","v":""},null,null,null,null,{"$f":"_xlfn.IFNA(VLOOKUP(Table14[[#This Row],[Conductor Size]],N978:P996,2,0),\"\")","v":""}]
[{"$f":"Table1[[#This Row],[رقم  T.D.S ]]","v":"0977"},null,null,null,null,{"$f":"_xlfn.IFNA(VLOOKUP(Table14[[#This Row],[Conductor Size]],N979:P997,3,0),\"\")","v":""},null,null,null,null,{"$f":"_xlfn.IFNA(VLOOKUP(Table14[[#This Row],[Conductor Size]],N979:P997,2,0),\"\")","v":""}]
[{"$f":"Table1[[#This Row],[رقم  T.D.S ]]","v":"0978"},null,null,null,null,{"$f":"_xlfn.IFNA(VLOOKUP(Table14[[#This Row],[Conductor Size]],N980:P998,3,0),\"\")","v":""},null,null,null,null,{"$f":"_xlfn.IFNA(VLOOKUP(Table14[[#This Row],[Conductor Size]],N980:P998,2,0),\"\")","v":""}]
[{"$f":"Table1[[#This Row],[رقم  T.D.S ]]","v":"0979"},null,null,null,null,{"$f":"_xlfn.IFNA(VLOOKUP(Table14[[#This Row],[Conductor Size]],N981:P999,3,0),\"\")","v":""},null,null,null,null,{"$f":"_xlfn.IFNA(VLOOKUP(Table14[[#This Row],[Conductor Size]],N981:P999,2,0),\"\")","v":""}]
[{"$f":"Table1[[#This Row],[رقم  T.D.S ]]","v":"0980"},null,null,null,null,{"$f":"_xlfn.IFNA(VLOOKUP(Table14[[#This Row],[Conductor Size]],N982:P1000,3,0),\"\")","v":""},null,null,null,null,{"$f":"_xlfn.IFNA(VLOOKUP(Table14[[#This Row],[Conductor Size]],N982:P1000,2,0),\"\")","v":""}]
[{"$f":"Table1[[#This Row],[رقم  T.D.S ]]","v":"0981"},null,null,null,null,{"$f":"_xlfn.IFNA(VLOOKUP(Table14[[#This Row],[Conductor Size]],N983:P1001,3,0),\"\")","v":""},null,null,null,null,{"$f":"_xlfn.IFNA(VLOOKUP(Table14[[#This Row],[Conductor Size]],N983:P1001,2,0),\"\")","v":""}]
[{"$f":"Table1[[#This Row],[رقم  T.D.S ]]","v":"0982"},null,null,null,null,{"$f":"_xlfn.IFNA(VLOOKUP(Table14[[#This Row],[Conductor Size]],Q984:S1002,3,0),\"\")","v":""},null,null,null,null,{"$f":"_xlfn.IFNA(VLOOKUP(Table14[[#This Row],[Conductor Size]],Q984:S1002,2,0),\"\")","v":""}]
[{"$f":"Table1[[#This Row],[رقم  T.D.S ]]","v":"0983"},null,null,null,null,{"$f":"_xlfn.IFNA(VLOOKUP(Table14[[#This Row],[Conductor Size]],Q985:S1003,3,0),\"\")","v":""},null,null,null,null,{"$f":"_xlfn.IFNA(VLOOKUP(Table14[[#This Row],[Conductor Size]],Q985:S1003,2,0),\"\")","v":""}]
[{"$f":"Table1[[#This Row],[رقم  T.D.S ]]","v":"0984"},null,null,null,null,{"$f":"_xlfn.IFNA(VLOOKUP(Table14[[#This Row],[Conductor Size]],Q986:S1004,3,0),\"\")","v":""},null,null,null,null,{"$f":"_xlfn.IFNA(VLOOKUP(Table14[[#This Row],[Conductor Size]],Q986:S1004,2,0),\"\")","v":""}]
[{"$f":"Table1[[#This Row],[رقم  T.D.S ]]","v":"0985"},null,null,null,null,{"$f":"_xlfn.IFNA(VLOOKUP(Table14[[#This Row],[Conductor Size]],Q987:S1005,3,0),\"\")","v":""},null,null,null,null,{"$f":"_xlfn.IFNA(VLOOKUP(Table14[[#This Row],[Conductor Size]],Q987:S1005,2,0),\"\")","v":""}]
[{"$f":"Table1[[#This Row],[رقم  T.D.S ]]","v":"0986"},null,null,null,null,{"$f":"_xlfn.IFNA(VLOOKUP(Table14[[#This Row],[Conductor Size]],Q988:S1006,3,0),\"\")","v":""},null,null,null,null,{"$f":"_xlfn.IFNA(VLOOKUP(Table14[[#This Row],[Conductor Size]],Q988:S1006,2,0),\"\")","v":""}]
[{"$f":"Table1[[#This Row],[رقم  T.D.S ]]","v":"0987"},null,null,null,null,{"$f":"_xlfn.IFNA(VLOOKUP(Table14[[#This Row],[Conductor Size]],Q989:S1007,3,0),\"\")","v":""},null,null,null,null,{"$f":"_xlfn.IFNA(VLOOKUP(Table14[[#This Row],[Conductor Size]],Q989:S1007,2,0),\"\")","v":""}]
[{"$f":"Table1[[#This Row],[رقم  T.D.S ]]","v":"0988"},null,null,null,null,{"$f":"_xlfn.IFNA(VLOOKUP(Table14[[#This Row],[Conductor Size]],Q990:S1008,3,0),\"\")","v":""},null,null,null,null,{"$f":"_xlfn.IFNA(VLOOKUP(Table14[[#This Row],[Conductor Size]],Q990:S1008,2,0),\"\")","v":""}]
[{"$f":"Table1[[#This Row],[رقم  T.D.S ]]","v":"0989"},null,null,null,null,{"$f":"_xlfn.IFNA(VLOOKUP(Table14[[#This Row],[Conductor Size]],Q991:S1009,3,0),\"\")","v":""},null,null,null,null,{"$f":"_xlfn.IFNA(VLOOKUP(Table14[[#This Row],[Conductor Size]],Q991:S1009,2,0),\"\")","v":""}]
[{"$f":"Table1[[#This Row],[رقم  T.D.S ]]","v":"0990"},null,null,null,null,{"$f":"_xlfn.IFNA(VLOOKUP(Table14[[#This Row],[Conductor Size]],Q992:S1010,3,0),\"\")","v":""},null,null,null,null,{"$f":"_xlfn.IFNA(VLOOKUP(Table14[[#This Row],[Conductor Size]],Q992:S1010,2,0),\"\")","v":""}]
[{"$f":"Table1[[#This Row],[رقم  T.D.S ]]","v":"0991"},null,null,null,null,{"$f":"_xlfn.IFNA(VLOOKUP(Table14[[#This Row],[Conductor Size]],Q993:S1011,3,0),\"\")","v":""},null,null,null,null,{"$f":"_xlfn.IFNA(VLOOKUP(Table14[[#This Row],[Conductor Size]],Q993:S1011,2,0),\"\")","v":""}]
[{"$f":"Table1[[#This Row],[رقم  T.D.S ]]","v":"0992"},null,null,null,null,{"$f":"_xlfn.IFNA(VLOOKUP(Table14[[#This Row],[Conductor Size]],Q994:S1012,3,0),\"\")","v":""},null,null,null,null,{"$f":"_xlfn.IFNA(VLOOKUP(Table14[[#This Row],[Conductor Size]],Q994:S1012,2,0),\"\")","v":""}]
[{"$f":"Table1[[#This Row],[رقم  T.D.S ]]","v":"0993"},null,null,null,null,{"$f":"_xlfn.IFNA(VLOOKUP(Table14[[#This Row],[Conductor Size]],Q995:S1013,3,0),\"\")","v":""},null,null,null,null,{"$f":"_xlfn.IFNA(VLOOKUP(Table14[[#This Row],[Conductor Size]],Q995:S1013,2,0),\"\")","v":""}]
[{"$f":"Table1[[#This Row],[رقم  T.D.S ]]","v":"0994"},null,null,null,null,{"$f":"_xlfn.IFNA(VLOOKUP(Table14[[#This Row],[Conductor Size]],Q996:S1014,3,0),\"\")","v":""},null,null,null,null,{"$f":"_xlfn.IFNA(VLOOKUP(Table14[[#This Row],[Conductor Size]],Q996:S1014,2,0),\"\")","v":""}]
[{"$f":"Table1[[#This Row],[رقم  T.D.S ]]","v":"0995"},null,null,null,null,{"$f":"_xlfn.IFNA(VLOOKUP(Table14[[#This Row],[Conductor Size]],Q997:S1015,3,0),\"\")","v":""},null,null,null,null,{"$f":"_xlfn.IFNA(VLOOKUP(Table14[[#This Row],[Conductor Size]],Q997:S1015,2,0),\"\")","v":""}]
[{"$f":"Table1[[#This Row],[رقم  T.D.S ]]","v":"0996"},null,null,null,null,{"$f":"_xlfn.IFNA(VLOOKUP(Table14[[#This Row],[Conductor Size]],Q998:S1016,3,0),\"\")","v":""},null,null,null,null,{"$f":"_xlfn.IFNA(VLOOKUP(Table14[[#This Row],[Conductor Size]],Q998:S1016,2,0),\"\")","v":""}]
[{"$f":"Table1[[#This Row],[رقم  T.D.S ]]","v":"0997"},null,null,null,null,{"$f":"_xlfn.IFNA(VLOOKUP(Table14[[#This Row],[Conductor Size]],Q999:S1017,3,0),\"\")","v":""},null,null,null,null,{"$f":"_xlfn.IFNA(VLOOKUP(Table14[[#This Row],[Conductor Size]],Q999:S1017,2,0),\"\")","v":""}]
[{"$f":"Table1[[#This Row],[رقم  T.D.S ]]","v":"0998"},null,null,null,null,{"$f":"_xlfn.IFNA(VLOOKUP(Table14[[#This Row],[Conductor Size]],Q1000:S1018,3,0),\"\")","v":""},null,null,null,null,{"$f":"_xlfn.IFNA(VLOOKUP(Table14[[#This Row],[Conductor Size]],Q1000:S1018,2,0),\"\")","v":""}]
[{"$f":"Table1[[#This Row],[رقم  T.D.S ]]","v":"0999"},null,null,null,null,{"$f":"_xlfn.IFNA(VLOOKUP(Table14[[#This Row],[Conductor Size]],Q1001:S1019,3,0),\"\")","v":""},null,null,null,null,{"$f":"_xlfn.IFNA(VLOOKUP(Table14[[#This Row],[Conductor Size]],Q1001:S1019,2,0),\"\")","v":""}]

{"sheet":"Drawing Sc","index":3,"n_rows":1000,"n_cols":6,"rows_kept":1000,"cut":false,"hidden":false,"merged":[]}
["Drawing"]
["رقم  T.D.S ","Material Code","Wire Diameter","Wire Diameter 2","Conductor Weight","Construction Screen"]
[{"$f":"Table1[[#This Row],[رقم  T.D.S ]]","v":"0001-6"}]
[{"$f":"Table1[[#This Row],[رقم  T.D.S ]]","v":"0002-6"}]
[{"$f":"Table1[[#This Row],[رقم  T.D.S ]]","v":"0003-6"}]
[{"$f":"Table1[[#This Row],[رقم  T.D.S ]]","v":"0004-6"}]
[{"$f":"Table1[[#This Row],[رقم  T.D.S ]]","v":"0005-8"}]
[{"$f":"Table1[[#This Row],[رقم  T.D.S ]]","v":"0006-6"}]
[{"$f":"Table1[[#This Row],[رقم  T.D.S ]]","v":"0007-6"}]
[{"$f":"Table1[[#This Row],[رقم  T.D.S ]]","v":"0008-6"}]
[{"$f":"Table1[[#This Row],[رقم  T.D.S ]]","v":"0009-6"}]
[{"$f":"Table1[[#This Row],[رقم  T.D.S ]]","v":"0010-6"}]
[{"$f":"Table1[[#This Row],[رقم  T.D.S ]]","v":"0011-6"}]
[{"$f":"Table1[[#This Row],[رقم  T.D.S ]]","v":"0012-6"}]
[{"$f":"Table1[[#This Row],[رقم  T.D.S ]]","v":"0013-6"}]
[{"$f":"Table1[[#This Row],[رقم  T.D.S ]]","v":"0014-6"}]
[{"$f":"Table1[[#This Row],[رقم  T.D.S ]]","v":"0015-6"}]
[{"$f":"Table1[[#This Row],[رقم  T.D.S ]]","v":"0016-5"}]
[{"$f":"Table1[[#This Row],[رقم  T.D.S ]]","v":"0017-5"}]
[{"$f":"Table1[[#This Row],[رقم  T.D.S ]]","v":"0018-5"}]
[{"$f":"Table1[[#This Row],[رقم  T.D.S ]]","v":"0019-5"}]
[{"$f":"Table1[[#This Row],[رقم  T.D.S ]]","v":"0020-5"}]
[{"$f":"Table1[[#This Row],[رقم  T.D.S ]]","v":"0021-5"}]
[{"$f":"Table1[[#This Row],[رقم  T.D.S ]]","v":"0022-5"}]
[{"$f":"Table1[[#This Row],[رقم  T.D.S ]]","v":"0023-5"}]
[{"$f":"Table1[[#This Row],[رقم  T.D.S ]]","v":"0024-4"}]
[{"$f":"Table1[[#This Row],[رقم  T.D.S ]]","v":"0025-4"}]
[{"$f":"Table1[[#This Row],[رقم  T.D.S ]]","v":"0026-4"}]
[{"$f":"Table1[[#This Row],[رقم  T.D.S ]]","v":"0027-4"}]
[{"$f":"Table1[[#This Row],[رقم  T.D.S ]]","v":"0028-4"}]
[{"$f":"Table1[[#This Row],[رقم  T.D.S ]]","v":"0029-4"}]
[{"$f":"Table1[[#This Row],[رقم  T.D.S ]]","v":"0030-4"}]
[{"$f":"Table1[[#This Row],[رقم  T.D.S ]]","v":"0031-4"}]
[{"$f":"Table1[[#This Row],[رقم  T.D.S ]]","v":"0032-4"}]
[{"$f":"Table1[[#This Row],[رقم  T.D.S ]]","v":"0033-4"}]
[{"$f":"Table1[[#This Row],[رقم  T.D.S ]]","v":"0034-3"}]
[{"$f":"Table1[[#This Row],[رقم  T.D.S ]]","v":"0035-3"}]
[{"$f":"Table1[[#This Row],[رقم  T.D.S ]]","v":"0036-5"}]
[{"$f":"Table1[[#This Row],[رقم  T.D.S ]]","v":"0037-5"}]
[{"$f":"Table1[[#This Row],[رقم  T.D.S ]]","v":"0038-5"}]
[{"$f":"Table1[[#This Row],[رقم  T.D.S ]]","v":"0039-4"}]
[{"$f":"Table1[[#This Row],[رقم  T.D.S ]]","v":"0040-4"}]
[{"$f":"Table1[[#This Row],[رقم  T.D.S ]]","v":"0041-3"}]
[{"$f":"Table1[[#This Row],[رقم  T.D.S ]]","v":"0042-2"}]
[{"$f":"Table1[[#This Row],[رقم  T.D.S ]]","v":"0043-4"}]
[{"$f":"Table1[[#This Row],[رقم  T.D.S ]]","v":"0044-4"}]
[{"$f":"Table1[[#This Row],[رقم  T.D.S ]]","v":"0045-4"}]
[{"$f":"Table1[[#This Row],[رقم  T.D.S ]]","v":"0046-3"}]
[{"$f":"Table1[[#This Row],[رقم  T.D.S ]]","v":"0047-5"}]
[{"$f":"Table1[[#This Row],[رقم  T.D.S ]]","v":"0048-6"}]
[{"$f":"Table1[[#This Row],[رقم  T.D.S ]]","v":"0049-5"}]
[{"$f":"Table1[[#This Row],[رقم  T.D.S ]]","v":"0050-6"}]
[{"$f":"Table1[[#This Row],[رقم  T.D.S ]]","v":"0051-6"}]
[{"$f":"Table1[[#This Row],[رقم  T.D.S ]]","v":"0052-5"}]
[{"$f":"Table1[[#This Row],[رقم  T.D.S ]]","v":"0053-5"}]
[{"$f":"Table1[[#This Row],[رقم  T.D.S ]]","v":"0054-5"}]
[{"$f":"Table1[[#This Row],[رقم  T.D.S ]]","v":"0055-5"}]
[{"$f":"Table1[[#This Row],[رقم  T.D.S ]]","v":"0056-5"}]
[{"$f":"Table1[[#This Row],[رقم  T.D.S ]]","v":"0057-5"}]
[{"$f":"Table1[[#This Row],[رقم  T.D.S ]]","v":"0058-6"}]
[{"$f":"Table1[[#This Row],[رقم  T.D.S ]]","v":"0059-5"}]
[{"$f":"Table1[[#This Row],[رقم  T.D.S ]]","v":"0060-5"}]
[{"$f":"Table1[[#This Row],[رقم  T.D.S ]]","v":"0061-2"}]
[{"$f":"Table1[[#This Row],[رقم  T.D.S ]]","v":"0062-7"}]
[{"$f":"Table1[[#This Row],[رقم  T.D.S ]]","v":"0063-6"}]
[{"$f":"Table1[[#This Row],[رقم  T.D.S ]]","v":"0064-7"}]
[{"$f":"Table1[[#This Row],[رقم  T.D.S ]]","v":"0065-6"}]
[{"$f":"Table1[[#This Row],[رقم  T.D.S ]]","v":"0066-6"}]
[{"$f":"Table1[[#This Row],[رقم  T.D.S ]]","v":"0067-6"}]
[{"$f":"Table1[[#This Row],[رقم  T.D.S ]]","v":"0068-6"}]
[{"$f":"Table1[[#This Row],[رقم  T.D.S ]]","v":"0069-6"}]
[{"$f":"Table1[[#This Row],[رقم  T.D.S ]]","v":"0070-3"}]
[{"$f":"Table1[[#This Row],[رقم  T.D.S ]]","v":"0071-3"}]
[{"$f":"Table1[[#This Row],[رقم  T.D.S ]]","v":"0072"}]
[{"$f":"Table1[[#This Row],[رقم  T.D.S ]]","v":"0073"}]
[{"$f":"Table1[[#This Row],[رقم  T.D.S ]]","v":"0074-3"}]
[{"$f":"Table1[[#This Row],[رقم  T.D.S ]]","v":"0075-1"}]
[{"$f":"Table1[[#This Row],[رقم  T.D.S ]]","v":"0076-3"}]
[{"$f":"Table1[[#This Row],[رقم  T.D.S ]]","v":"0077-3"}]
[{"$f":"Table1[[#This Row],[رقم  T.D.S ]]","v":"0078-3"}]
[{"$f":"Table1[[#This Row],[رقم  T.D.S ]]","v":"0079-3"}]
[{"$f":"Table1[[#This Row],[رقم  T.D.S ]]","v":"0080-2"}]
[{"$f":"Table1[[#This Row],[رقم  T.D.S ]]","v":"0081-4"}]
[{"$f":"Table1[[#This Row],[رقم  T.D.S ]]","v":"0082-4"}]
[{"$f":"Table1[[#This Row],[رقم  T.D.S ]]","v":"0083-4"}]
[{"$f":"Table1[[#This Row],[رقم  T.D.S ]]","v":"0084-4"}]
[{"$f":"Table1[[#This Row],[رقم  T.D.S ]]","v":"0085-4"}]
[{"$f":"Table1[[#This Row],[رقم  T.D.S ]]","v":"0086-4"}]
[{"$f":"Table1[[#This Row],[رقم  T.D.S ]]","v":"0087-4"}]
[{"$f":"Table1[[#This Row],[رقم  T.D.S ]]","v":"0088-3"}]
[{"$f":"Table1[[#This Row],[رقم  T.D.S ]]","v":"0089-4"}]
[{"$f":"Table1[[#This Row],[رقم  T.D.S ]]","v":"0090-5"}]
[{"$f":"Table1[[#This Row],[رقم  T.D.S ]]","v":"0091-5"}]
[{"$f":"Table1[[#This Row],[رقم  T.D.S ]]","v":"0092-1"}]
[{"$f":"Table1[[#This Row],[رقم  T.D.S ]]","v":"0093-5"}]
[{"$f":"Table1[[#This Row],[رقم  T.D.S ]]","v":"0094-5"}]
[{"$f":"Table1[[#This Row],[رقم  T.D.S ]]","v":"0095-5"}]
[{"$f":"Table1[[#This Row],[رقم  T.D.S ]]","v":"0096-5"}]
[{"$f":"Table1[[#This Row],[رقم  T.D.S ]]","v":"0097-5"}]
[{"$f":"Table1[[#This Row],[رقم  T.D.S ]]","v":"0098-5"}]
[{"$f":"Table1[[#This Row],[رقم  T.D.S ]]","v":"0099-4"}]
[{"$f":"Table1[[#This Row],[رقم  T.D.S ]]","v":"0100-4"}]
[{"$f":"Table1[[#This Row],[رقم  T.D.S ]]","v":"0101-2"}]
[{"$f":"Table1[[#This Row],[رقم  T.D.S ]]","v":"0102-3"}]
[{"$f":"Table1[[#This Row],[رقم  T.D.S ]]","v":"0103-2"}]
[{"$f":"Table1[[#This Row],[رقم  T.D.S ]]","v":"0104-2"}]
[{"$f":"Table1[[#This Row],[رقم  T.D.S ]]","v":"0105-4"}]
[{"$f":"Table1[[#This Row],[رقم  T.D.S ]]","v":"0106-3"}]
[{"$f":"Table1[[#This Row],[رقم  T.D.S ]]","v":"0107-5"}]
[{"$f":"Table1[[#This Row],[رقم  T.D.S ]]","v":"0108-5"}]
[{"$f":"Table1[[#This Row],[رقم  T.D.S ]]","v":"0109-5"}]
[{"$f":"Table1[[#This Row],[رقم  T.D.S ]]","v":"0110-4"}]
[{"$f":"Table1[[#This Row],[رقم  T.D.S ]]","v":"0111-2"}]
[{"$f":"Table1[[#This Row],[رقم  T.D.S ]]","v":"0112-1"}]
[{"$f":"Table1[[#This Row],[رقم  T.D.S ]]","v":"0113"}]
[{"$f":"Table1[[#This Row],[رقم  T.D.S ]]","v":"0114-1"}]
[{"$f":"Table1[[#This Row],[رقم  T.D.S ]]","v":"0115"}]
[{"$f":"Table1[[#This Row],[رقم  T.D.S ]]","v":"0116"}]
[{"$f":"Table1[[#This Row],[رقم  T.D.S ]]","v":"0117-1"}]
[{"$f":"Table1[[#This Row],[رقم  T.D.S ]]","v":"0118-1"}]
[{"$f":"Table1[[#This Row],[رقم  T.D.S ]]","v":"0119-2"}]
[{"$f":"Table1[[#This Row],[رقم  T.D.S ]]","v":"0120-2"}]
[{"$f":"Table1[[#This Row],[رقم  T.D.S ]]","v":"0121"}]
[{"$f":"Table1[[#This Row],[رقم  T.D.S ]]","v":"0122"}]
[{"$f":"Table1[[#This Row],[رقم  T.D.S ]]","v":"0123"}]
[{"$f":"Table1[[#This Row],[رقم  T.D.S ]]","v":"0124-2"}]
[{"$f":"Table1[[#This Row],[رقم  T.D.S ]]","v":"0125"}]
[{"$f":"Table1[[#This Row],[رقم  T.D.S ]]","v":"0126"}]
[{"$f":"Table1[[#This Row],[رقم  T.D.S ]]","v":"0127"}]
[{"$f":"Table1[[#This Row],[رقم  T.D.S ]]","v":"0128-1"}]
[{"$f":"Table1[[#This Row],[رقم  T.D.S ]]","v":"0129-5"}]
[{"$f":"Table1[[#This Row],[رقم  T.D.S ]]","v":"0130-4"}]
[{"$f":"Table1[[#This Row],[رقم  T.D.S ]]","v":"0131-3"}]
[{"$f":"Table1[[#This Row],[رقم  T.D.S ]]","v":"0132-4"}]
[{"$f":"Table1[[#This Row],[رقم  T.D.S ]]","v":"0133"}]
[{"$f":"Table1[[#This Row],[رقم  T.D.S ]]","v":"0134-2"}]
[{"$f":"Table1[[#This Row],[رقم  T.D.S ]]","v":"0135-4"}]
[{"$f":"Table1[[#This Row],[رقم  T.D.S ]]","v":"0136-4"}]
[{"$f":"Table1[[#This Row],[رقم  T.D.S ]]","v":"0137-4"}]
[{"$f":"Table1[[#This Row],[رقم  T.D.S ]]","v":"0138"}]
[{"$f":"Table1[[#This Row],[رقم  T.D.S ]]","v":"0139-1"}]
[{"$f":"Table1[[#This Row],[رقم  T.D.S ]]","v":"0140"}]
[{"$f":"Table1[[#This Row],[رقم  T.D.S ]]","v":"0141"}]
[{"$f":"Table1[[#This Row],[رقم  T.D.S ]]","v":"0142"}]
[{"$f":"Table1[[#This Row],[رقم  T.D.S ]]","v":"0143"}]
[{"$f":"Table1[[#This Row],[رقم  T.D.S ]]","v":"0144"}]
[{"$f":"Table1[[#This Row],[رقم  T.D.S ]]","v":"0145-3"}]
[{"$f":"Table1[[#This Row],[رقم  T.D.S ]]","v":"0146-3"}]
[{"$f":"Table1[[#This Row],[رقم  T.D.S ]]","v":"0147-3"}]
[{"$f":"Table1[[#This Row],[رقم  T.D.S ]]","v":"0148-2"}]
[{"$f":"Table1[[#This Row],[رقم  T.D.S ]]","v":"0149-3"}]
[{"$f":"Table1[[#This Row],[رقم  T.D.S ]]","v":"0150-3"}]
[{"$f":"Table1[[#This Row],[رقم  T.D.S ]]","v":"0151-3"}]
[{"$f":"Table1[[#This Row],[رقم  T.D.S ]]","v":"0152-2"}]
[{"$f":"Table1[[#This Row],[رقم  T.D.S ]]","v":"0153-3"}]
[{"$f":"Table1[[#This Row],[رقم  T.D.S ]]","v":"0154-5"}]
[{"$f":"Table1[[#This Row],[رقم  T.D.S ]]","v":"0155-2"}]
[{"$f":"Table1[[#This Row],[رقم  T.D.S ]]","v":"0156-1"}]
[{"$f":"Table1[[#This Row],[رقم  T.D.S ]]","v":"0157-3"}]
[{"$f":"Table1[[#This Row],[رقم  T.D.S ]]","v":"0158-2"}]
[{"$f":"Table1[[#This Row],[رقم  T.D.S ]]","v":"0159-3"}]
[{"$f":"Table1[[#This Row],[رقم  T.D.S ]]","v":"0160-3"}]
[{"$f":"Table1[[#This Row],[رقم  T.D.S ]]","v":"0161-3"}]
[{"$f":"Table1[[#This Row],[رقم  T.D.S ]]","v":"0162-3"}]
[{"$f":"Table1[[#This Row],[رقم  T.D.S ]]","v":"0163"}]
[{"$f":"Table1[[#This Row],[رقم  T.D.S ]]","v":"0164-1"}]
[{"$f":"Table1[[#This Row],[رقم  T.D.S ]]","v":"0165-3"}]
[{"$f":"Table1[[#This Row],[رقم  T.D.S ]]","v":"0166"}]
[{"$f":"Table1[[#This Row],[رقم  T.D.S ]]","v":"0167-3"}]
[{"$f":"Table1[[#This Row],[رقم  T.D.S ]]","v":"0168-3"}]
[{"$f":"Table1[[#This Row],[رقم  T.D.S ]]","v":"0169-2"}]
[{"$f":"Table1[[#This Row],[رقم  T.D.S ]]","v":"0170-1"}]
[{"$f":"Table1[[#This Row],[رقم  T.D.S ]]","v":"0171-3"}]
[{"$f":"Table1[[#This Row],[رقم  T.D.S ]]","v":"0172"}]
[{"$f":"Table1[[#This Row],[رقم  T.D.S ]]","v":"0173-2"}]
[{"$f":"Table1[[#This Row],[رقم  T.D.S ]]","v":"0174-2"}]
[{"$f":"Table1[[#This Row],[رقم  T.D.S ]]","v":"0175-3"}]
[{"$f":"Table1[[#This Row],[رقم  T.D.S ]]","v":"0176"}]
[{"$f":"Table1[[#This Row],[رقم  T.D.S ]]","v":"0177-1"}]
[{"$f":"Table1[[#This Row],[رقم  T.D.S ]]","v":"0178-3"}]
[{"$f":"Table1[[#This Row],[رقم  T.D.S ]]","v":"0179"}]
[{"$f":"Table1[[#This Row],[رقم  T.D.S ]]","v":"0180-6"}]
[{"$f":"Table1[[#This Row],[رقم  T.D.S ]]","v":"0181-2"}]
[{"$f":"Table1[[#This Row],[رقم  T.D.S ]]","v":"0182"}]
[{"$f":"Table1[[#This Row],[رقم  T.D.S ]]","v":"0183-4"}]
[{"$f":"Table1[[#This Row],[رقم  T.D.S ]]","v":"0184"}]
[{"$f":"Table1[[#This Row],[رقم  T.D.S ]]","v":"0185"}]
[{"$f":"Table1[[#This Row],[رقم  T.D.S ]]","v":"0186"}]
[{"$f":"Table1[[#This Row],[رقم  T.D.S ]]","v":"0187-3"}]
[{"$f":"Table1[[#This Row],[رقم  T.D.S ]]","v":"0188-2"}]
[{"$f":"Table1[[#This Row],[رقم  T.D.S ]]","v":"0189"}]
[{"$f":"Table1[[#This Row],[رقم  T.D.S ]]","v":"0190"}]
[{"$f":"Table1[[#This Row],[رقم  T.D.S ]]","v":"0191"}]
[{"$f":"Table1[[#This Row],[رقم  T.D.S ]]","v":"0192"}]
[{"$f":"Table1[[#This Row],[رقم  T.D.S ]]","v":"0193-2"}]
[{"$f":"Table1[[#This Row],[رقم  T.D.S ]]","v":"0194-3"}]
[{"$f":"Table1[[#This Row],[رقم  T.D.S ]]","v":"0195-1"}]
[{"$f":"Table1[[#This Row],[رقم  T.D.S ]]","v":"0196-1"}]
[{"$f":"Table1[[#This Row],[رقم  T.D.S ]]","v":"0197"}]
[{"$f":"Table1[[#This Row],[رقم  T.D.S ]]","v":"0198"}]
[{"$f":"Table1[[#This Row],[رقم  T.D.S ]]","v":"0199"}]
[{"$f":"Table1[[#This Row],[رقم  T.D.S ]]","v":"0200-3"}]
[{"$f":"Table1[[#This Row],[رقم  T.D.S ]]","v":"0201-3"}]
[{"$f":"Table1[[#This Row],[رقم  T.D.S ]]","v":"0202-1"}]
[{"$f":"Table1[[#This Row],[رقم  T.D.S ]]","v":"0203-1"}]
[{"$f":"Table1[[#This Row],[رقم  T.D.S ]]","v":"0204-1"}]
[{"$f":"Table1[[#This Row],[رقم  T.D.S ]]","v":"0205"}]
[{"$f":"Table1[[#This Row],[رقم  T.D.S ]]","v":"0206-1"}]
[{"$f":"Table1[[#This Row],[رقم  T.D.S ]]","v":"0207"}]
[{"$f":"Table1[[#This Row],[رقم  T.D.S ]]","v":"0208-1"}]
[{"$f":"Table1[[#This Row],[رقم  T.D.S ]]","v":"0209"}]
[{"$f":"Table1[[#This Row],[رقم  T.D.S ]]","v":"0210"}]
[{"$f":"Table1[[#This Row],[رقم  T.D.S ]]","v":"0211-2"}]
[{"$f":"Table1[[#This Row],[رقم  T.D.S ]]","v":"0212-1"}]
[{"$f":"Table1[[#This Row],[رقم  T.D.S ]]","v":"0213"}]
[{"$f":"Table1[[#This Row],[رقم  T.D.S ]]","v":"0214"}]
[{"$f":"Table1[[#This Row],[رقم  T.D.S ]]","v":"0215"}]
[{"$f":"Table1[[#This Row],[رقم  T.D.S ]]","v":"0216"}]
[{"$f":"Table1[[#This Row],[رقم  T.D.S ]]","v":"0217"}]
[{"$f":"Table1[[#This Row],[رقم  T.D.S ]]","v":"0218"}]
[{"$f":"Table1[[#This Row],[رقم  T.D.S ]]","v":"0219-1"}]
[{"$f":"Table1[[#This Row],[رقم  T.D.S ]]","v":"0220-3"}]
[{"$f":"Table1[[#This Row],[رقم  T.D.S ]]","v":"0221"}]
[{"$f":"Table1[[#This Row],[رقم  T.D.S ]]","v":"0222-1"}]
[{"$f":"Table1[[#This Row],[رقم  T.D.S ]]","v":"0223"}]
[{"$f":"Table1[[#This Row],[رقم  T.D.S ]]","v":"0224"}]
[{"$f":"Table1[[#This Row],[رقم  T.D.S ]]","v":"0225"}]
[{"$f":"Table1[[#This Row],[رقم  T.D.S ]]","v":"0226-1"}]
[{"$f":"Table1[[#This Row],[رقم  T.D.S ]]","v":"0227"}]
[{"$f":"Table1[[#This Row],[رقم  T.D.S ]]","v":"0228"}]
[{"$f":"Table1[[#This Row],[رقم  T.D.S ]]","v":"0229"}]
[{"$f":"Table1[[#This Row],[رقم  T.D.S ]]","v":"0230"}]
[{"$f":"Table1[[#This Row],[رقم  T.D.S ]]","v":"0231"}]
[{"$f":"Table1[[#This Row],[رقم  T.D.S ]]","v":"0232"}]
[{"$f":"Table1[[#This Row],[رقم  T.D.S ]]","v":"0233"}]
[{"$f":"Table1[[#This Row],[رقم  T.D.S ]]","v":"0234"}]
[{"$f":"Table1[[#This Row],[رقم  T.D.S ]]","v":"0235"}]
[{"$f":"Table1[[#This Row],[رقم  T.D.S ]]","v":"0236"}]
[{"$f":"Table1[[#This Row],[رقم  T.D.S ]]","v":"0237"}]
[{"$f":"Table1[[#This Row],[رقم  T.D.S ]]","v":"0238"}]
[{"$f":"Table1[[#This Row],[رقم  T.D.S ]]","v":"0239"}]
[{"$f":"Table1[[#This Row],[رقم  T.D.S ]]","v":"0240"}]
[{"$f":"Table1[[#This Row],[رقم  T.D.S ]]","v":"0241"}]
[{"$f":"Table1[[#This Row],[رقم  T.D.S ]]","v":"0242"}]
[{"$f":"Table1[[#This Row],[رقم  T.D.S ]]","v":"0243"}]
[{"$f":"Table1[[#This Row],[رقم  T.D.S ]]","v":"0244"}]
[{"$f":"Table1[[#This Row],[رقم  T.D.S ]]","v":"0245"}]
[{"$f":"Table1[[#This Row],[رقم  T.D.S ]]","v":"0246"}]
[{"$f":"Table1[[#This Row],[رقم  T.D.S ]]","v":"0247"}]
[{"$f":"Table1[[#This Row],[رقم  T.D.S ]]","v":"0248"}]
[{"$f":"Table1[[#This Row],[رقم  T.D.S ]]","v":"0249"}]
[{"$f":"Table1[[#This Row],[رقم  T.D.S ]]","v":"0250"}]
[{"$f":"Table1[[#This Row],[رقم  T.D.S ]]","v":"0251"}]
[{"$f":"Table1[[#This Row],[رقم  T.D.S ]]","v":"0252-1"}]
[{"$f":"Table1[[#This Row],[رقم  T.D.S ]]","v":"0253-1"}]
[{"$f":"Table1[[#This Row],[رقم  T.D.S ]]","v":"0254-1"}]
[{"$f":"Table1[[#This Row],[رقم  T.D.S ]]","v":"0255-1"}]
[{"$f":"Table1[[#This Row],[رقم  T.D.S ]]","v":"0256-1"}]
[{"$f":"Table1[[#This Row],[رقم  T.D.S ]]","v":"0257"}]
[{"$f":"Table1[[#This Row],[رقم  T.D.S ]]","v":"0258-3"}]
[{"$f":"Table1[[#This Row],[رقم  T.D.S ]]","v":"0259-3"}]
[{"$f":"Table1[[#This Row],[رقم  T.D.S ]]","v":"0260-3"}]
[{"$f":"Table1[[#This Row],[رقم  T.D.S ]]","v":"0261-3"}]
[{"$f":"Table1[[#This Row],[رقم  T.D.S ]]","v":"0262"}]
[{"$f":"Table1[[#This Row],[رقم  T.D.S ]]","v":"0263-2"}]
[{"$f":"Table1[[#This Row],[رقم  T.D.S ]]","v":"0264-4"}]
[{"$f":"Table1[[#This Row],[رقم  T.D.S ]]","v":"0265-4"}]
[{"$f":"Table1[[#This Row],[رقم  T.D.S ]]","v":"0266-1"}]
[{"$f":"Table1[[#This Row],[رقم  T.D.S ]]","v":"0267-1"},"CR05",1.8,0.67,147.1,"46 X 0.67"]
[{"$f":"Table1[[#This Row],[رقم  T.D.S ]]","v":"0268-4"}]
[{"$f":"Table1[[#This Row],[رقم  T.D.S ]]","v":"0269-4"}]
[{"$f":"Table1[[#This Row],[رقم  T.D.S ]]","v":"0270-4"}]
[{"$f":"Table1[[#This Row],[رقم  T.D.S ]]","v":"0271-2"}]
[{"$f":"Table1[[#This Row],[رقم  T.D.S ]]","v":"0272"}]
[{"$f":"Table1[[#This Row],[رقم  T.D.S ]]","v":"0273-1"}]
[{"$f":"Table1[[#This Row],[رقم  T.D.S ]]","v":"0274-1"}]
[{"$f":"Table1[[#This Row],[رقم  T.D.S ]]","v":"0275-3"}]
[{"$f":"Table1[[#This Row],[رقم  T.D.S ]]","v":"0276-3"}]
[{"$f":"Table1[[#This Row],[رقم  T.D.S ]]","v":"0277-3"}]
[{"$f":"Table1[[#This Row],[رقم  T.D.S ]]","v":"0278-3"}]
[{"$f":"Table1[[#This Row],[رقم  T.D.S ]]","v":"0279-2"}]
[{"$f":"Table1[[#This Row],[رقم  T.D.S ]]","v":"0280-4"}]
[{"$f":"Table1[[#This Row],[رقم  T.D.S ]]","v":"0281-4"}]
[{"$f":"Table1[[#This Row],[رقم  T.D.S ]]","v":"0282-3"}]
[{"$f":"Table1[[#This Row],[رقم  T.D.S ]]","v":"0283"}]
[{"$f":"Table1[[#This Row],[رقم  T.D.S ]]","v":"0284"}]
[{"$f":"Table1[[#This Row],[رقم  T.D.S ]]","v":"0285-3"}]
[{"$f":"Table1[[#This Row],[رقم  T.D.S ]]","v":"0286-2"}]
[{"$f":"Table1[[#This Row],[رقم  T.D.S ]]","v":"0287-3"}]
[{"$f":"Table1[[#This Row],[رقم  T.D.S ]]","v":"0288-2"}]
[{"$f":"Table1[[#This Row],[رقم  T.D.S ]]","v":"0289-2"}]
[{"$f":"Table1[[#This Row],[رقم  T.D.S ]]","v":"0290"}]
[{"$f":"Table1[[#This Row],[رقم  T.D.S ]]","v":"0291"}]
[{"$f":"Table1[[#This Row],[رقم  T.D.S ]]","v":"0292"}]
[{"$f":"Table1[[#This Row],[رقم  T.D.S ]]","v":"0293"}]
[{"$f":"Table1[[#This Row],[رقم  T.D.S ]]","v":"0294"}]
[{"$f":"Table1[[#This Row],[رقم  T.D.S ]]","v":"0295"}]
[{"$f":"Table1[[#This Row],[رقم  T.D.S ]]","v":"0296"}]
[{"$f":"Table1[[#This Row],[رقم  T.D.S ]]","v":"0297"}]
[{"$f":"Table1[[#This Row],[رقم  T.D.S ]]","v":"0298"}]
[{"$f":"Table1[[#This Row],[رقم  T.D.S ]]","v":"0299"}]
[{"$f":"Table1[[#This Row],[رقم  T.D.S ]]","v":"0300"}]
[{"$f":"Table1[[#This Row],[رقم  T.D.S ]]","v":"0301"}]
[{"$f":"Table1[[#This Row],[رقم  T.D.S ]]","v":"0302"}]
[{"$f":"Table1[[#This Row],[رقم  T.D.S ]]","v":"0303"}]
[{"$f":"Table1[[#This Row],[رقم  T.D.S ]]","v":"0304-1"}]
[{"$f":"Table1[[#This Row],[رقم  T.D.S ]]","v":"0305-1"}]
[{"$f":"Table1[[#This Row],[رقم  T.D.S ]]","v":"0306"}]
[{"$f":"Table1[[#This Row],[رقم  T.D.S ]]","v":"0307-3"}]
[{"$f":"Table1[[#This Row],[رقم  T.D.S ]]","v":"0308"}]
[{"$f":"Table1[[#This Row],[رقم  T.D.S ]]","v":"0309"}]
[{"$f":"Table1[[#This Row],[رقم  T.D.S ]]","v":"0310"}]
[{"$f":"Table1[[#This Row],[رقم  T.D.S ]]","v":"0311"}]
[{"$f":"Table1[[#This Row],[رقم  T.D.S ]]","v":"0312-1"}]
[{"$f":"Table1[[#This Row],[رقم  T.D.S ]]","v":"0313-2"}]
[{"$f":"Table1[[#This Row],[رقم  T.D.S ]]","v":"0314-1"}]
[{"$f":"Table1[[#This Row],[رقم  T.D.S ]]","v":"0315-1"}]
[{"$f":"Table1[[#This Row],[رقم  T.D.S ]]","v":"0316-2"}]
[{"$f":"Table1[[#This Row],[رقم  T.D.S ]]","v":"0317-4"},"CR05",1.8,0.67,441.2,"46 X 0.67"]
[{"$f":"Table1[[#This Row],[رقم  T.D.S ]]","v":"0318-2"}]
[{"$f":"Table1[[#This Row],[رقم  T.D.S ]]","v":"0319-1"}]
[{"$f":"Table1[[#This Row],[رقم  T.D.S ]]","v":"0320"}]
[{"$f":"Table1[[#This Row],[رقم  T.D.S ]]","v":"0321"}]
[{"$f":"Table1[[#This Row],[رقم  T.D.S ]]","v":"0322"}]
[{"$f":"Table1[[#This Row],[رقم  T.D.S ]]","v":"0323-2"}]
[{"$f":"Table1[[#This Row],[رقم  T.D.S ]]","v":"0324-2"}]
[{"$f":"Table1[[#This Row],[رقم  T.D.S ]]","v":"0325"}]
[{"$f":"Table1[[#This Row],[رقم  T.D.S ]]","v":"0326-5"}]
[{"$f":"Table1[[#This Row],[رقم  T.D.S ]]","v":"0327-5"}]
[{"$f":"Table1[[#This Row],[رقم  T.D.S ]]","v":"0328-2"}]
[{"$f":"Table1[[#This Row],[رقم  T.D.S ]]","v":"0329-2"}]
[{"$f":"Table1[[#This Row],[رقم  T.D.S ]]","v":"0330"}]
[{"$f":"Table1[[#This Row],[رقم  T.D.S ]]","v":"0331"}]
[{"$f":"Table1[[#This Row],[رقم  T.D.S ]]","v":"0332-2"}]
[{"$f":"Table1[[#This Row],[رقم  T.D.S ]]","v":"0333"}]
[{"$f":"Table1[[#This Row],[رقم  T.D.S ]]","v":"0334"}]
[{"$f":"Table1[[#This Row],[رقم  T.D.S ]]","v":"0335"}]
[{"$f":"Table1[[#This Row],[رقم  T.D.S ]]","v":"0336"}]
[{"$f":"Table1[[#This Row],[رقم  T.D.S ]]","v":"0337"}]
[{"$f":"Table1[[#This Row],[رقم  T.D.S ]]","v":"0338"}]
[{"$f":"Table1[[#This Row],[رقم  T.D.S ]]","v":"0339"}]
[{"$f":"Table1[[#This Row],[رقم  T.D.S ]]","v":"0340"}]
[{"$f":"Table1[[#This Row],[رقم  T.D.S ]]","v":"0341"}]
[{"$f":"Table1[[#This Row],[رقم  T.D.S ]]","v":"0342"}]
[{"$f":"Table1[[#This Row],[رقم  T.D.S ]]","v":"0343-2"}]
[{"$f":"Table1[[#This Row],[رقم  T.D.S ]]","v":"0344-1"}]
[{"$f":"Table1[[#This Row],[رقم  T.D.S ]]","v":"0345-1"}]
[{"$f":"Table1[[#This Row],[رقم  T.D.S ]]","v":"0346"}]
[{"$f":"Table1[[#This Row],[رقم  T.D.S ]]","v":"0347"}]
[{"$f":"Table1[[#This Row],[رقم  T.D.S ]]","v":"0348-1"}]
[{"$f":"Table1[[#This Row],[رقم  T.D.S ]]","v":"0349"}]
[{"$f":"Table1[[#This Row],[رقم  T.D.S ]]","v":"0350"}]
[{"$f":"Table1[[#This Row],[رقم  T.D.S ]]","v":"0351-1"}]
[{"$f":"Table1[[#This Row],[رقم  T.D.S ]]","v":"0352-2"}]
[{"$f":"Table1[[#This Row],[رقم  T.D.S ]]","v":"0353-2"}]
[{"$f":"Table1[[#This Row],[رقم  T.D.S ]]","v":"0354-1"}]
[{"$f":"Table1[[#This Row],[رقم  T.D.S ]]","v":"0355-3"}]
[{"$f":"Table1[[#This Row],[رقم  T.D.S ]]","v":"0356-2"}]
[{"$f":"Table1[[#This Row],[رقم  T.D.S ]]","v":"0357-1"}]
[{"$f":"Table1[[#This Row],[رقم  T.D.S ]]","v":"0358-2"}]
[{"$f":"Table1[[#This Row],[رقم  T.D.S ]]","v":"0359"}]
[{"$f":"Table1[[#This Row],[رقم  T.D.S ]]","v":"0360-1"}]
[{"$f":"Table1[[#This Row],[رقم  T.D.S ]]","v":"0361"}]
[{"$f":"Table1[[#This Row],[رقم  T.D.S ]]","v":"0362"}]
[{"$f":"Table1[[#This Row],[رقم  T.D.S ]]","v":"0363-1"}]
[{"$f":"Table1[[#This Row],[رقم  T.D.S ]]","v":"0364-2"}]
[{"$f":"Table1[[#This Row],[رقم  T.D.S ]]","v":"0365"}]
[{"$f":"Table1[[#This Row],[رقم  T.D.S ]]","v":"0366"}]
[{"$f":"Table1[[#This Row],[رقم  T.D.S ]]","v":"0367-2"}]
[{"$f":"Table1[[#This Row],[رقم  T.D.S ]]","v":"0368"}]
[{"$f":"Table1[[#This Row],[رقم  T.D.S ]]","v":"0369-2"}]
[{"$f":"Table1[[#This Row],[رقم  T.D.S ]]","v":"0370"}]
[{"$f":"Table1[[#This Row],[رقم  T.D.S ]]","v":"0371"}]
[{"$f":"Table1[[#This Row],[رقم  T.D.S ]]","v":"0372-1"}]
[{"$f":"Table1[[#This Row],[رقم  T.D.S ]]","v":"0373"}]
[{"$f":"Table1[[#This Row],[رقم  T.D.S ]]","v":"0374-2"}]
[{"$f":"Table1[[#This Row],[رقم  T.D.S ]]","v":"0375"}]
[{"$f":"Table1[[#This Row],[رقم  T.D.S ]]","v":"0376"}]
[{"$f":"Table1[[#This Row],[رقم  T.D.S ]]","v":"0377"}]
[{"$f":"Table1[[#This Row],[رقم  T.D.S ]]","v":"0378"}]
[{"$f":"Table1[[#This Row],[رقم  T.D.S ]]","v":"0379"}]
[{"$f":"Table1[[#This Row],[رقم  T.D.S ]]","v":"0380"}]
[{"$f":"Table1[[#This Row],[رقم  T.D.S ]]","v":"0381"}]
[{"$f":"Table1[[#This Row],[رقم  T.D.S ]]","v":"0382"}]
[{"$f":"Table1[[#This Row],[رقم  T.D.S ]]","v":"0383"}]
[{"$f":"Table1[[#This Row],[رقم  T.D.S ]]","v":"0384"}]
[{"$f":"Table1[[#This Row],[رقم  T.D.S ]]","v":"0385"}]
[{"$f":"Table1[[#This Row],[رقم  T.D.S ]]","v":"0386"}]
[{"$f":"Table1[[#This Row],[رقم  T.D.S ]]","v":"0387"}]
[{"$f":"Table1[[#This Row],[رقم  T.D.S ]]","v":"0388"}]
[{"$f":"Table1[[#This Row],[رقم  T.D.S ]]","v":"0389-2"}]
[{"$f":"Table1[[#This Row],[رقم  T.D.S ]]","v":"0390-2"}]
[{"$f":"Table1[[#This Row],[رقم  T.D.S ]]","v":"0391"}]
[{"$f":"Table1[[#This Row],[رقم  T.D.S ]]","v":"0392"}]
[{"$f":"Table1[[#This Row],[رقم  T.D.S ]]","v":"0393"}]
[{"$f":"Table1[[#This Row],[رقم  T.D.S ]]","v":"0394"}]
[{"$f":"Table1[[#This Row],[رقم  T.D.S ]]","v":"0395-1"}]
[{"$f":"Table1[[#This Row],[رقم  T.D.S ]]","v":"0396-2"}]
[{"$f":"Table1[[#This Row],[رقم  T.D.S ]]","v":"0397-1"}]
[{"$f":"Table1[[#This Row],[رقم  T.D.S ]]","v":"0398-1"}]
[{"$f":"Table1[[#This Row],[رقم  T.D.S ]]","v":"0399"}]
[{"$f":"Table1[[#This Row],[رقم  T.D.S ]]","v":"0400-1"}]
[{"$f":"Table1[[#This Row],[رقم  T.D.S ]]","v":"0401-1"}]
[{"$f":"Table1[[#This Row],[رقم  T.D.S ]]","v":"0402-2"}]
[{"$f":"Table1[[#This Row],[رقم  T.D.S ]]","v":"0403"}]
[{"$f":"Table1[[#This Row],[رقم  T.D.S ]]","v":"0404-1"}]
[{"$f":"Table1[[#This Row],[رقم  T.D.S ]]","v":"0405"}]
[{"$f":"Table1[[#This Row],[رقم  T.D.S ]]","v":"0406-1"}]
[{"$f":"Table1[[#This Row],[رقم  T.D.S ]]","v":"0407-1"}]
[{"$f":"Table1[[#This Row],[رقم  T.D.S ]]","v":"0408-1"}]
[{"$f":"Table1[[#This Row],[رقم  T.D.S ]]","v":"0409"}]
[{"$f":"Table1[[#This Row],[رقم  T.D.S ]]","v":"0410-2"}]
[{"$f":"Table1[[#This Row],[رقم  T.D.S ]]","v":"0411"}]
[{"$f":"Table1[[#This Row],[رقم  T.D.S ]]","v":"0412-1"}]
[{"$f":"Table1[[#This Row],[رقم  T.D.S ]]","v":"0413-2"}]
[{"$f":"Table1[[#This Row],[رقم  T.D.S ]]","v":"0414-1"}]
[{"$f":"Table1[[#This Row],[رقم  T.D.S ]]","v":"0415"}]
[{"$f":"Table1[[#This Row],[رقم  T.D.S ]]","v":"0416-2"}]
[{"$f":"Table1[[#This Row],[رقم  T.D.S ]]","v":"0417-1"}]
[{"$f":"Table1[[#This Row],[رقم  T.D.S ]]","v":"0418-1"}]
[{"$f":"Table1[[#This Row],[رقم  T.D.S ]]","v":"0419-3"}]
[{"$f":"Table1[[#This Row],[رقم  T.D.S ]]","v":"0420"}]
[{"$f":"Table1[[#This Row],[رقم  T.D.S ]]","v":"0421"}]
[{"$f":"Table1[[#This Row],[رقم  T.D.S ]]","v":"0422"}]
[{"$f":"Table1[[#This Row],[رقم  T.D.S ]]","v":"0423"}]
[{"$f":"Table1[[#This Row],[رقم  T.D.S ]]","v":"0424"}]
[{"$f":"Table1[[#This Row],[رقم  T.D.S ]]","v":"0425-2"}]
[{"$f":"Table1[[#This Row],[رقم  T.D.S ]]","v":"0426-1"}]
[{"$f":"Table1[[#This Row],[رقم  T.D.S ]]","v":"0427"}]
[{"$f":"Table1[[#This Row],[رقم  T.D.S ]]","v":"0428"}]
[{"$f":"Table1[[#This Row],[رقم  T.D.S ]]","v":"0429-1"}]
[{"$f":"Table1[[#This Row],[رقم  T.D.S ]]","v":"0430"}]
[{"$f":"Table1[[#This Row],[رقم  T.D.S ]]","v":"0431"}]
[{"$f":"Table1[[#This Row],[رقم  T.D.S ]]","v":"0432"}]
[{"$f":"Table1[[#This Row],[رقم  T.D.S ]]","v":"0433-1"}]
[{"$f":"Table1[[#This Row],[رقم  T.D.S ]]","v":"0434"}]
[{"$f":"Table1[[#This Row],[رقم  T.D.S ]]","v":"0435"}]
[{"$f":"Table1[[#This Row],[رقم  T.D.S ]]","v":"0436"}]
[{"$f":"Table1[[#This Row],[رقم  T.D.S ]]","v":"0437"}]
[{"$f":"Table1[[#This Row],[رقم  T.D.S ]]","v":"0438"}]
[{"$f":"Table1[[#This Row],[رقم  T.D.S ]]","v":"0439"}]
[{"$f":"Table1[[#This Row],[رقم  T.D.S ]]","v":"0440"}]
[{"$f":"Table1[[#This Row],[رقم  T.D.S ]]","v":"0441-1"}]
[{"$f":"Table1[[#This Row],[رقم  T.D.S ]]","v":"0442"}]
[{"$f":"Table1[[#This Row],[رقم  T.D.S ]]","v":"0443-1"}]
[{"$f":"Table1[[#This Row],[رقم  T.D.S ]]","v":"0444-1"}]
[{"$f":"Table1[[#This Row],[رقم  T.D.S ]]","v":"0445-1"}]
[{"$f":"Table1[[#This Row],[رقم  T.D.S ]]","v":"0446-1"}]
[{"$f":"Table1[[#This Row],[رقم  T.D.S ]]","v":"0447"}]
[{"$f":"Table1[[#This Row],[رقم  T.D.S ]]","v":"0448"}]
[{"$f":"Table1[[#This Row],[رقم  T.D.S ]]","v":"0449-2"}]
[{"$f":"Table1[[#This Row],[رقم  T.D.S ]]","v":"0450"}]
[{"$f":"Table1[[#This Row],[رقم  T.D.S ]]","v":"0451"}]
[{"$f":"Table1[[#This Row],[رقم  T.D.S ]]","v":"0452"}]
[{"$f":"Table1[[#This Row],[رقم  T.D.S ]]","v":"0453-1"}]
[{"$f":"Table1[[#This Row],[رقم  T.D.S ]]","v":"0454-2"}]
[{"$f":"Table1[[#This Row],[رقم  T.D.S ]]","v":"0455-1"}]
[{"$f":"Table1[[#This Row],[رقم  T.D.S ]]","v":"0456"}]
[{"$f":"Table1[[#This Row],[رقم  T.D.S ]]","v":"0457"}]
[{"$f":"Table1[[#This Row],[رقم  T.D.S ]]","v":"0458"}]
[{"$f":"Table1[[#This Row],[رقم  T.D.S ]]","v":"0459"}]
[{"$f":"Table1[[#This Row],[رقم  T.D.S ]]","v":"0460-1"}]
[{"$f":"Table1[[#This Row],[رقم  T.D.S ]]","v":"0461-1"}]
[{"$f":"Table1[[#This Row],[رقم  T.D.S ]]","v":"0462-1"}]
[{"$f":"Table1[[#This Row],[رقم  T.D.S ]]","v":"0463"}]
[{"$f":"Table1[[#This Row],[رقم  T.D.S ]]","v":"0464"}]
[{"$f":"Table1[[#This Row],[رقم  T.D.S ]]","v":"0465-1"}]
[{"$f":"Table1[[#This Row],[رقم  T.D.S ]]","v":"0466-1"}]
[{"$f":"Table1[[#This Row],[رقم  T.D.S ]]","v":"0467-1"}]
[{"$f":"Table1[[#This Row],[رقم  T.D.S ]]","v":"0468-1"}]
[{"$f":"Table1[[#This Row],[رقم  T.D.S ]]","v":"0469-1"}]
[{"$f":"Table1[[#This Row],[رقم  T.D.S ]]","v":"0470-1"}]
[{"$f":"Table1[[#This Row],[رقم  T.D.S ]]","v":"0471-1"}]
[{"$f":"Table1[[#This Row],[رقم  T.D.S ]]","v":"0472-1"}]
[{"$f":"Table1[[#This Row],[رقم  T.D.S ]]","v":"0473-1"}]
[{"$f":"Table1[[#This Row],[رقم  T.D.S ]]","v":"0474"}]
[{"$f":"Table1[[#This Row],[رقم  T.D.S ]]","v":"0475-3"}]
[{"$f":"Table1[[#This Row],[رقم  T.D.S ]]","v":"0476"}]
[{"$f":"Table1[[#This Row],[رقم  T.D.S ]]","v":"0477"}]
[{"$f":"Table1[[#This Row],[رقم  T.D.S ]]","v":"0478-1"}]
[{"$f":"Table1[[#This Row],[رقم  T.D.S ]]","v":"0479"}]
[{"$f":"Table1[[#This Row],[رقم  T.D.S ]]","v":"0480"}]
[{"$f":"Table1[[#This Row],[رقم  T.D.S ]]","v":"0481-1"}]
[{"$f":"Table1[[#This Row],[رقم  T.D.S ]]","v":"0482"}]
[{"$f":"Table1[[#This Row],[رقم  T.D.S ]]","v":"0483-1"}]
[{"$f":"Table1[[#This Row],[رقم  T.D.S ]]","v":"0484"}]
[{"$f":"Table1[[#This Row],[رقم  T.D.S ]]","v":"0485"}]
[{"$f":"Table1[[#This Row],[رقم  T.D.S ]]","v":"0486"}]
[{"$f":"Table1[[#This Row],[رقم  T.D.S ]]","v":"0487"}]
[{"$f":"Table1[[#This Row],[رقم  T.D.S ]]","v":"0488"}]
[{"$f":"Table1[[#This Row],[رقم  T.D.S ]]","v":"0489"}]
[{"$f":"Table1[[#This Row],[رقم  T.D.S ]]","v":"0490"}]
[{"$f":"Table1[[#This Row],[رقم  T.D.S ]]","v":"0491"}]
[{"$f":"Table1[[#This Row],[رقم  T.D.S ]]","v":"0492"}]
[{"$f":"Table1[[#This Row],[رقم  T.D.S ]]","v":"0493"}]
[{"$f":"Table1[[#This Row],[رقم  T.D.S ]]","v":"0494"}]
[{"$f":"Table1[[#This Row],[رقم  T.D.S ]]","v":"0495"}]
[{"$f":"Table1[[#This Row],[رقم  T.D.S ]]","v":"0496"}]
[{"$f":"Table1[[#This Row],[رقم  T.D.S ]]","v":"0497-1"}]
[{"$f":"Table1[[#This Row],[رقم  T.D.S ]]","v":"0498-1"}]
[{"$f":"Table1[[#This Row],[رقم  T.D.S ]]","v":"0499"}]
[{"$f":"Table1[[#This Row],[رقم  T.D.S ]]","v":"0500"}]
[{"$f":"Table1[[#This Row],[رقم  T.D.S ]]","v":"0501"}]
[{"$f":"Table1[[#This Row],[رقم  T.D.S ]]","v":"0502"}]
[{"$f":"Table1[[#This Row],[رقم  T.D.S ]]","v":"0503"}]
[{"$f":"Table1[[#This Row],[رقم  T.D.S ]]","v":"0504"}]
[{"$f":"Table1[[#This Row],[رقم  T.D.S ]]","v":"0505"}]
[{"$f":"Table1[[#This Row],[رقم  T.D.S ]]","v":"0506"}]
[{"$f":"Table1[[#This Row],[رقم  T.D.S ]]","v":"0507"}]
[{"$f":"Table1[[#This Row],[رقم  T.D.S ]]","v":"0508"}]
[{"$f":"Table1[[#This Row],[رقم  T.D.S ]]","v":"0509"}]
[{"$f":"Table1[[#This Row],[رقم  T.D.S ]]","v":"0510"}]
[{"$f":"Table1[[#This Row],[رقم  T.D.S ]]","v":"0511"}]
[{"$f":"Table1[[#This Row],[رقم  T.D.S ]]","v":"0512"}]
[{"$f":"Table1[[#This Row],[رقم  T.D.S ]]","v":"0513"}]
[{"$f":"Table1[[#This Row],[رقم  T.D.S ]]","v":"0514"}]
[{"$f":"Table1[[#This Row],[رقم  T.D.S ]]","v":"0515"}]
[{"$f":"Table1[[#This Row],[رقم  T.D.S ]]","v":"0516"}]
[{"$f":"Table1[[#This Row],[رقم  T.D.S ]]","v":"0517-1"}]
[{"$f":"Table1[[#This Row],[رقم  T.D.S ]]","v":"0518"}]
[{"$f":"Table1[[#This Row],[رقم  T.D.S ]]","v":"0519"}]
[{"$f":"Table1[[#This Row],[رقم  T.D.S ]]","v":"0520"}]
[{"$f":"Table1[[#This Row],[رقم  T.D.S ]]","v":"0521"}]
[{"$f":"Table1[[#This Row],[رقم  T.D.S ]]","v":"0522"}]
[{"$f":"Table1[[#This Row],[رقم  T.D.S ]]","v":"0523"}]
[{"$f":"Table1[[#This Row],[رقم  T.D.S ]]","v":"0524-1"},"CR05",1.8,0.67,227,"71 X 0.67"]
[{"$f":"Table1[[#This Row],[رقم  T.D.S ]]","v":"0525-1"}]
[{"$f":"Table1[[#This Row],[رقم  T.D.S ]]","v":"0526-1"}]
[{"$f":"Table1[[#This Row],[رقم  T.D.S ]]","v":"0527"}]
[{"$f":"Table1[[#This Row],[رقم  T.D.S ]]","v":"0528"}]
[{"$f":"Table1[[#This Row],[رقم  T.D.S ]]","v":"0529-2"}]
[{"$f":"Table1[[#This Row],[رقم  T.D.S ]]","v":"0530"}]
[{"$f":"Table1[[#This Row],[رقم  T.D.S ]]","v":"0531-1"}]
[{"$f":"Table1[[#This Row],[رقم  T.D.S ]]","v":"0532"}]
[{"$f":"Table1[[#This Row],[رقم  T.D.S ]]","v":"0533"}]
[{"$f":"Table1[[#This Row],[رقم  T.D.S ]]","v":"0534-1"}]
[{"$f":"Table1[[#This Row],[رقم  T.D.S ]]","v":"0535-1"}]
[{"$f":"Table1[[#This Row],[رقم  T.D.S ]]","v":"0536"}]
[{"$f":"Table1[[#This Row],[رقم  T.D.S ]]","v":"0537-1"}]
[{"$f":"Table1[[#This Row],[رقم  T.D.S ]]","v":"0538"}]
[{"$f":"Table1[[#This Row],[رقم  T.D.S ]]","v":"0539"}]
[{"$f":"Table1[[#This Row],[رقم  T.D.S ]]","v":"0540-1"}]
[{"$f":"Table1[[#This Row],[رقم  T.D.S ]]","v":"0541-1"}]
[{"$f":"Table1[[#This Row],[رقم  T.D.S ]]","v":"0542-1"}]
[{"$f":"Table1[[#This Row],[رقم  T.D.S ]]","v":"0543-4"},"CR05",1.8,0.67,441.2,"46 x 0.67"]
[{"$f":"Table1[[#This Row],[رقم  T.D.S ]]","v":"0544-1"}]
[{"$f":"Table1[[#This Row],[رقم  T.D.S ]]","v":"0545"}]
[{"$f":"Table1[[#This Row],[رقم  T.D.S ]]","v":"0546"}]
[{"$f":"Table1[[#This Row],[رقم  T.D.S ]]","v":"0547-1"}]
[{"$f":"Table1[[#This Row],[رقم  T.D.S ]]","v":"0548"}]
[{"$f":"Table1[[#This Row],[رقم  T.D.S ]]","v":"0549"}]
[{"$f":"Table1[[#This Row],[رقم  T.D.S ]]","v":"0550-1"}]
[{"$f":"Table1[[#This Row],[رقم  T.D.S ]]","v":"0551"}]
[{"$f":"Table1[[#This Row],[رقم  T.D.S ]]","v":"0552"}]
[{"$f":"Table1[[#This Row],[رقم  T.D.S ]]","v":"0553"}]
[{"$f":"Table1[[#This Row],[رقم  T.D.S ]]","v":"0554"}]
[{"$f":"Table1[[#This Row],[رقم  T.D.S ]]","v":"0555"}]
[{"$f":"Table1[[#This Row],[رقم  T.D.S ]]","v":"0556"}]
[{"$f":"Table1[[#This Row],[رقم  T.D.S ]]","v":"0557"}]
[{"$f":"Table1[[#This Row],[رقم  T.D.S ]]","v":"0558"}]
[{"$f":"Table1[[#This Row],[رقم  T.D.S ]]","v":"0559"}]
[{"$f":"Table1[[#This Row],[رقم  T.D.S ]]","v":"0560"}]
[{"$f":"Table1[[#This Row],[رقم  T.D.S ]]","v":"0561"}]
[{"$f":"Table1[[#This Row],[رقم  T.D.S ]]","v":"0562"}]
[{"$f":"Table1[[#This Row],[رقم  T.D.S ]]","v":"0563"}]
[{"$f":"Table1[[#This Row],[رقم  T.D.S ]]","v":"0564"}]
[{"$f":"Table1[[#This Row],[رقم  T.D.S ]]","v":"0565"}]
[{"$f":"Table1[[#This Row],[رقم  T.D.S ]]","v":"0566"}]
[{"$f":"Table1[[#This Row],[رقم  T.D.S ]]","v":"0567"}]
[{"$f":"Table1[[#This Row],[رقم  T.D.S ]]","v":"0568"}]
[{"$f":"Table1[[#This Row],[رقم  T.D.S ]]","v":"0569"}]
[{"$f":"Table1[[#This Row],[رقم  T.D.S ]]","v":"0570"}]
[{"$f":"Table1[[#This Row],[رقم  T.D.S ]]","v":"0571-2"}]
[{"$f":"Table1[[#This Row],[رقم  T.D.S ]]","v":"0572"}]
[{"$f":"Table1[[#This Row],[رقم  T.D.S ]]","v":"0573"}]
[{"$f":"Table1[[#This Row],[رقم  T.D.S ]]","v":"0574"}]
[{"$f":"Table1[[#This Row],[رقم  T.D.S ]]","v":"0575"}]
[{"$f":"Table1[[#This Row],[رقم  T.D.S ]]","v":"0576"}]
[{"$f":"Table1[[#This Row],[رقم  T.D.S ]]","v":"0577"}]
[{"$f":"Table1[[#This Row],[رقم  T.D.S ]]","v":"0578"}]
[{"$f":"Table1[[#This Row],[رقم  T.D.S ]]","v":"0579"}]
[{"$f":"Table1[[#This Row],[رقم  T.D.S ]]","v":"0580"}]
[{"$f":"Table1[[#This Row],[رقم  T.D.S ]]","v":"0581"}]
[{"$f":"Table1[[#This Row],[رقم  T.D.S ]]","v":"0582"}]
[{"$f":"Table1[[#This Row],[رقم  T.D.S ]]","v":"0583"}]
[{"$f":"Table1[[#This Row],[رقم  T.D.S ]]","v":"0584"}]
[{"$f":"Table1[[#This Row],[رقم  T.D.S ]]","v":"0585"}]
[{"$f":"Table1[[#This Row],[رقم  T.D.S ]]","v":"0586"}]
[{"$f":"Table1[[#This Row],[رقم  T.D.S ]]","v":"0587"}]
[{"$f":"Table1[[#This Row],[رقم  T.D.S ]]","v":"0588"}]
[{"$f":"Table1[[#This Row],[رقم  T.D.S ]]","v":"0589"}]
[{"$f":"Table1[[#This Row],[رقم  T.D.S ]]","v":"0590"}]
[{"$f":"Table1[[#This Row],[رقم  T.D.S ]]","v":"0591"}]
[{"$f":"Table1[[#This Row],[رقم  T.D.S ]]","v":"0592"}]
[{"$f":"Table1[[#This Row],[رقم  T.D.S ]]","v":"0593"}]
[{"$f":"Table1[[#This Row],[رقم  T.D.S ]]","v":"0594"}]
[{"$f":"Table1[[#This Row],[رقم  T.D.S ]]","v":"0595"}]
[{"$f":"Table1[[#This Row],[رقم  T.D.S ]]","v":"0596"}]
[{"$f":"Table1[[#This Row],[رقم  T.D.S ]]","v":"0597"}]
[{"$f":"Table1[[#This Row],[رقم  T.D.S ]]","v":"0598"}]
[{"$f":"Table1[[#This Row],[رقم  T.D.S ]]","v":"0599"}]
[{"$f":"Table1[[#This Row],[رقم  T.D.S ]]","v":"0600"}]
[{"$f":"Table1[[#This Row],[رقم  T.D.S ]]","v":"0601-1"}]
[{"$f":"Table1[[#This Row],[رقم  T.D.S ]]","v":"0602"}]
[{"$f":"Table1[[#This Row],[رقم  T.D.S ]]","v":"0603"}]
[{"$f":"Table1[[#This Row],[رقم  T.D.S ]]","v":"0604"}]
[{"$f":"Table1[[#This Row],[رقم  T.D.S ]]","v":"0605"}]
[{"$f":"Table1[[#This Row],[رقم  T.D.S ]]","v":"0606"}]
[{"$f":"Table1[[#This Row],[رقم  T.D.S ]]","v":"0607"}]
[{"$f":"Table1[[#This Row],[رقم  T.D.S ]]","v":"0608"}]
[{"$f":"Table1[[#This Row],[رقم  T.D.S ]]","v":"0609"}]
[{"$f":"Table1[[#This Row],[رقم  T.D.S ]]","v":"0610"}]
[{"$f":"Table1[[#This Row],[رقم  T.D.S ]]","v":"0611"}]
[{"$f":"Table1[[#This Row],[رقم  T.D.S ]]","v":"0612"}]
[{"$f":"Table1[[#This Row],[رقم  T.D.S ]]","v":"0613"}]
[{"$f":"Table1[[#This Row],[رقم  T.D.S ]]","v":"0614"}]
[{"$f":"Table1[[#This Row],[رقم  T.D.S ]]","v":"0615"}]
[{"$f":"Table1[[#This Row],[رقم  T.D.S ]]","v":"0616"}]
[{"$f":"Table1[[#This Row],[رقم  T.D.S ]]","v":"0617"}]
[{"$f":"Table1[[#This Row],[رقم  T.D.S ]]","v":"0618"}]
[{"$f":"Table1[[#This Row],[رقم  T.D.S ]]","v":"0619"}]
[{"$f":"Table1[[#This Row],[رقم  T.D.S ]]","v":"0620"}]
[{"$f":"Table1[[#This Row],[رقم  T.D.S ]]","v":"0621"}]
[{"$f":"Table1[[#This Row],[رقم  T.D.S ]]","v":"0622"}]
[{"$f":"Table1[[#This Row],[رقم  T.D.S ]]","v":"0623"}]
[{"$f":"Table1[[#This Row],[رقم  T.D.S ]]","v":"0624"}]
[{"$f":"Table1[[#This Row],[رقم  T.D.S ]]","v":"0625"}]
[{"$f":"Table1[[#This Row],[رقم  T.D.S ]]","v":"0626"}]
[{"$f":"Table1[[#This Row],[رقم  T.D.S ]]","v":"0627"}]
[{"$f":"Table1[[#This Row],[رقم  T.D.S ]]","v":"0628"}]
[{"$f":"Table1[[#This Row],[رقم  T.D.S ]]","v":"0629"}]
[{"$f":"Table1[[#This Row],[رقم  T.D.S ]]","v":"0630"}]
[{"$f":"Table1[[#This Row],[رقم  T.D.S ]]","v":"0631"}]
[{"$f":"Table1[[#This Row],[رقم  T.D.S ]]","v":"0632"}]
[{"$f":"Table1[[#This Row],[رقم  T.D.S ]]","v":"0633"}]
[{"$f":"Table1[[#This Row],[رقم  T.D.S ]]","v":"0634"},"AR01",1.05,1.05,108.4,"45 X 1.05"]
[{"$f":"Table1[[#This Row],[رقم  T.D.S ]]","v":"0635"}]
[{"$f":"Table1[[#This Row],[رقم  T.D.S ]]","v":"0636"}]
[{"$f":"Table1[[#This Row],[رقم  T.D.S ]]","v":"0637"}]
[{"$f":"Table1[[#This Row],[رقم  T.D.S ]]","v":"0638"}]
[{"$f":"Table1[[#This Row],[رقم  T.D.S ]]","v":"0639"},"CR05",1.8,0.52,123.25,"64 X 0.52"]
[{"$f":"Table1[[#This Row],[رقم  T.D.S ]]","v":"0640"},"CR05",1.8,0.52,123.25,"64 X 0.52"]
[{"$f":"Table1[[#This Row],[رقم  T.D.S ]]","v":"0641"},"CR05",1.8,0.52,204.61,"64 X 0.67"]
[{"$f":"Table1[[#This Row],[رقم  T.D.S ]]","v":"0642"}]
[{"$f":"Table1[[#This Row],[رقم  T.D.S ]]","v":"0643"}]
[{"$f":"Table1[[#This Row],[رقم  T.D.S ]]","v":"0644"}]
[{"$f":"Table1[[#This Row],[رقم  T.D.S ]]","v":"0645"}]
[{"$f":"Table1[[#This Row],[رقم  T.D.S ]]","v":"0646"}]
[{"$f":"Table1[[#This Row],[رقم  T.D.S ]]","v":"0647"}]
[{"$f":"Table1[[#This Row],[رقم  T.D.S ]]","v":"0648"}]
[{"$f":"Table1[[#This Row],[رقم  T.D.S ]]","v":"0649"}]
[{"$f":"Table1[[#This Row],[رقم  T.D.S ]]","v":"0650"}]
[{"$f":"Table1[[#This Row],[رقم  T.D.S ]]","v":"0651"}]
[{"$f":"Table1[[#This Row],[رقم  T.D.S ]]","v":"0652"}]
[{"$f":"Table1[[#This Row],[رقم  T.D.S ]]","v":"0653"}]
[{"$f":"Table1[[#This Row],[رقم  T.D.S ]]","v":"0654"}]
[{"$f":"Table1[[#This Row],[رقم  T.D.S ]]","v":"0655"}]
[{"$f":"Table1[[#This Row],[رقم  T.D.S ]]","v":"0656"}]
[{"$f":"Table1[[#This Row],[رقم  T.D.S ]]","v":"0657"}]
[{"$f":"Table1[[#This Row],[رقم  T.D.S ]]","v":"0658"}]
[{"$f":"Table1[[#This Row],[رقم  T.D.S ]]","v":"0659"}]
[{"$f":"Table1[[#This Row],[رقم  T.D.S ]]","v":"0660"}]
[{"$f":"Table1[[#This Row],[رقم  T.D.S ]]","v":"0661"}]
[{"$f":"Table1[[#This Row],[رقم  T.D.S ]]","v":"0662"}]
[{"$f":"Table1[[#This Row],[رقم  T.D.S ]]","v":"0663"}]
[{"$f":"Table1[[#This Row],[رقم  T.D.S ]]","v":"0664"}]
[{"$f":"Table1[[#This Row],[رقم  T.D.S ]]","v":"0665"}]
[{"$f":"Table1[[#This Row],[رقم  T.D.S ]]","v":"0666"}]
[{"$f":"Table1[[#This Row],[رقم  T.D.S ]]","v":"0667"}]
[{"$f":"Table1[[#This Row],[رقم  T.D.S ]]","v":"0668"}]
[{"$f":"Table1[[#This Row],[رقم  T.D.S ]]","v":"0669"}]
[{"$f":"Table1[[#This Row],[رقم  T.D.S ]]","v":"0670"}]
[{"$f":"Table1[[#This Row],[رقم  T.D.S ]]","v":"0671"}]
[{"$f":"Table1[[#This Row],[رقم  T.D.S ]]","v":"0672"}]
[{"$f":"Table1[[#This Row],[رقم  T.D.S ]]","v":"0673"}]
[{"$f":"Table1[[#This Row],[رقم  T.D.S ]]","v":"0674"}]
[{"$f":"Table1[[#This Row],[رقم  T.D.S ]]","v":"0675"}]
[{"$f":"Table1[[#This Row],[رقم  T.D.S ]]","v":"0676"}]
[{"$f":"Table1[[#This Row],[رقم  T.D.S ]]","v":"0677"}]
[{"$f":"Table1[[#This Row],[رقم  T.D.S ]]","v":"0678"}]
[{"$f":"Table1[[#This Row],[رقم  T.D.S ]]","v":"0679"}]
[{"$f":"Table1[[#This Row],[رقم  T.D.S ]]","v":"0680"}]
[{"$f":"Table1[[#This Row],[رقم  T.D.S ]]","v":"0681"}]
[{"$f":"Table1[[#This Row],[رقم  T.D.S ]]","v":"0682"}]
[{"$f":"Table1[[#This Row],[رقم  T.D.S ]]","v":"0683"}]
[{"$f":"Table1[[#This Row],[رقم  T.D.S ]]","v":"0684"}]
[{"$f":"Table1[[#This Row],[رقم  T.D.S ]]","v":"0685"}]
[{"$f":"Table1[[#This Row],[رقم  T.D.S ]]","v":"0686"}]
[{"$f":"Table1[[#This Row],[رقم  T.D.S ]]","v":"0687"}]
[{"$f":"Table1[[#This Row],[رقم  T.D.S ]]","v":"0688"}]
[{"$f":"Table1[[#This Row],[رقم  T.D.S ]]","v":"0689"}]
[{"$f":"Table1[[#This Row],[رقم  T.D.S ]]","v":"0690"}]
[{"$f":"Table1[[#This Row],[رقم  T.D.S ]]","v":"0691"}]
[{"$f":"Table1[[#This Row],[رقم  T.D.S ]]","v":"0692"}]
[{"$f":"Table1[[#This Row],[رقم  T.D.S ]]","v":"0693"}]
[{"$f":"Table1[[#This Row],[رقم  T.D.S ]]","v":"0694"}]
[{"$f":"Table1[[#This Row],[رقم  T.D.S ]]","v":"0695"}]
[{"$f":"Table1[[#This Row],[رقم  T.D.S ]]","v":"0696"}]
[{"$f":"Table1[[#This Row],[رقم  T.D.S ]]","v":"0697"}]
[{"$f":"Table1[[#This Row],[رقم  T.D.S ]]","v":"0698"}]
[{"$f":"Table1[[#This Row],[رقم  T.D.S ]]","v":"0699"}]
[{"$f":"Table1[[#This Row],[رقم  T.D.S ]]","v":"0700"}]
[{"$f":"Table1[[#This Row],[رقم  T.D.S ]]","v":"0701"}]
[{"$f":"Table1[[#This Row],[رقم  T.D.S ]]","v":"0702"}]
[{"$f":"Table1[[#This Row],[رقم  T.D.S ]]","v":"0703"}]
[{"$f":"Table1[[#This Row],[رقم  T.D.S ]]","v":"0704"}]
[{"$f":"Table1[[#This Row],[رقم  T.D.S ]]","v":"0705"}]
[{"$f":"Table1[[#This Row],[رقم  T.D.S ]]","v":"0706"}]
[{"$f":"Table1[[#This Row],[رقم  T.D.S ]]","v":"0707"}]
[{"$f":"Table1[[#This Row],[رقم  T.D.S ]]","v":"0708"}]
[{"$f":"Table1[[#This Row],[رقم  T.D.S ]]","v":"0709"}]
[{"$f":"Table1[[#This Row],[رقم  T.D.S ]]","v":"0710"}]
[{"$f":"Table1[[#This Row],[رقم  T.D.S ]]","v":"0711"}]
[{"$f":"Table1[[#This Row],[رقم  T.D.S ]]","v":"0712"}]
[{"$f":"Table1[[#This Row],[رقم  T.D.S ]]","v":"0713"}]
[{"$f":"Table1[[#This Row],[رقم  T.D.S ]]","v":"0714"}]
[{"$f":"Table1[[#This Row],[رقم  T.D.S ]]","v":"0715"}]
[{"$f":"Table1[[#This Row],[رقم  T.D.S ]]","v":"0716"}]
[{"$f":"Table1[[#This Row],[رقم  T.D.S ]]","v":"0717"}]
[{"$f":"Table1[[#This Row],[رقم  T.D.S ]]","v":"0718"}]
[{"$f":"Table1[[#This Row],[رقم  T.D.S ]]","v":"0719"}]
[{"$f":"Table1[[#This Row],[رقم  T.D.S ]]","v":"0720"}]
[{"$f":"Table1[[#This Row],[رقم  T.D.S ]]","v":"0721"}]
[{"$f":"Table1[[#This Row],[رقم  T.D.S ]]","v":"0722"}]
[{"$f":"Table1[[#This Row],[رقم  T.D.S ]]","v":"0723"}]
[{"$f":"Table1[[#This Row],[رقم  T.D.S ]]","v":"0724"}]
[{"$f":"Table1[[#This Row],[رقم  T.D.S ]]","v":"0725"}]
[{"$f":"Table1[[#This Row],[رقم  T.D.S ]]","v":"0726"}]
[{"$f":"Table1[[#This Row],[رقم  T.D.S ]]","v":"0727"}]
[{"$f":"Table1[[#This Row],[رقم  T.D.S ]]","v":"0728"}]
[{"$f":"Table1[[#This Row],[رقم  T.D.S ]]","v":"0729"}]
[{"$f":"Table1[[#This Row],[رقم  T.D.S ]]","v":"0730"}]
[{"$f":"Table1[[#This Row],[رقم  T.D.S ]]","v":"0731"}]
[{"$f":"Table1[[#This Row],[رقم  T.D.S ]]","v":"0732"}]
[{"$f":"Table1[[#This Row],[رقم  T.D.S ]]","v":"0733"}]
[{"$f":"Table1[[#This Row],[رقم  T.D.S ]]","v":"0734"}]
[{"$f":"Table1[[#This Row],[رقم  T.D.S ]]","v":"0735"}]
[{"$f":"Table1[[#This Row],[رقم  T.D.S ]]","v":"0736"}]
[{"$f":"Table1[[#This Row],[رقم  T.D.S ]]","v":"0737"}]
[{"$f":"Table1[[#This Row],[رقم  T.D.S ]]","v":"0738"}]
[{"$f":"Table1[[#This Row],[رقم  T.D.S ]]","v":"0739"}]
[{"$f":"Table1[[#This Row],[رقم  T.D.S ]]","v":"0740"}]
[{"$f":"Table1[[#This Row],[رقم  T.D.S ]]","v":"0741"}]
[{"$f":"Table1[[#This Row],[رقم  T.D.S ]]","v":"0742"}]
[{"$f":"Table1[[#This Row],[رقم  T.D.S ]]","v":"0743"}]
[{"$f":"Table1[[#This Row],[رقم  T.D.S ]]","v":"0744"}]
[{"$f":"Table1[[#This Row],[رقم  T.D.S ]]","v":"0745"}]
[{"$f":"Table1[[#This Row],[رقم  T.D.S ]]","v":"0746"}]
[{"$f":"Table1[[#This Row],[رقم  T.D.S ]]","v":"0747"}]
[{"$f":"Table1[[#This Row],[رقم  T.D.S ]]","v":"0748"}]
[{"$f":"Table1[[#This Row],[رقم  T.D.S ]]","v":"0749"}]
[{"$f":"Table1[[#This Row],[رقم  T.D.S ]]","v":"0750"}]
[{"$f":"Table1[[#This Row],[رقم  T.D.S ]]","v":"0751"}]
[{"$f":"Table1[[#This Row],[رقم  T.D.S ]]","v":"0752"}]
[{"$f":"Table1[[#This Row],[رقم  T.D.S ]]","v":"0753"}]
[{"$f":"Table1[[#This Row],[رقم  T.D.S ]]","v":"0754"}]
[{"$f":"Table1[[#This Row],[رقم  T.D.S ]]","v":"0755"}]
[{"$f":"Table1[[#This Row],[رقم  T.D.S ]]","v":"0756"}]
[{"$f":"Table1[[#This Row],[رقم  T.D.S ]]","v":"0757"}]
[{"$f":"Table1[[#This Row],[رقم  T.D.S ]]","v":"0758"}]
[{"$f":"Table1[[#This Row],[رقم  T.D.S ]]","v":"0759"}]
[{"$f":"Table1[[#This Row],[رقم  T.D.S ]]","v":"0760"}]
[{"$f":"Table1[[#This Row],[رقم  T.D.S ]]","v":"0761"}]
[{"$f":"Table1[[#This Row],[رقم  T.D.S ]]","v":"0762"}]
[{"$f":"Table1[[#This Row],[رقم  T.D.S ]]","v":"0763"}]
[{"$f":"Table1[[#This Row],[رقم  T.D.S ]]","v":"0764"}]
[{"$f":"Table1[[#This Row],[رقم  T.D.S ]]","v":"0765"}]
[{"$f":"Table1[[#This Row],[رقم  T.D.S ]]","v":"0766"}]
[{"$f":"Table1[[#This Row],[رقم  T.D.S ]]","v":"0767"}]
[{"$f":"Table1[[#This Row],[رقم  T.D.S ]]","v":"0768"}]
[{"$f":"Table1[[#This Row],[رقم  T.D.S ]]","v":"0769"}]
[{"$f":"Table1[[#This Row],[رقم  T.D.S ]]","v":"0770"}]
[{"$f":"Table1[[#This Row],[رقم  T.D.S ]]","v":"0771"}]
[{"$f":"Table1[[#This Row],[رقم  T.D.S ]]","v":"0772"}]
[{"$f":"Table1[[#This Row],[رقم  T.D.S ]]","v":"0773"}]
[{"$f":"Table1[[#This Row],[رقم  T.D.S ]]","v":"0774"}]
[{"$f":"Table1[[#This Row],[رقم  T.D.S ]]","v":"0775"}]
[{"$f":"Table1[[#This Row],[رقم  T.D.S ]]","v":"0776"}]
[{"$f":"Table1[[#This Row],[رقم  T.D.S ]]","v":"0777"}]
[{"$f":"Table1[[#This Row],[رقم  T.D.S ]]","v":"0778"}]
[{"$f":"Table1[[#This Row],[رقم  T.D.S ]]","v":"0779"}]
[{"$f":"Table1[[#This Row],[رقم  T.D.S ]]","v":"0780"}]
[{"$f":"Table1[[#This Row],[رقم  T.D.S ]]","v":"0781"}]
[{"$f":"Table1[[#This Row],[رقم  T.D.S ]]","v":"0782"}]
[{"$f":"Table1[[#This Row],[رقم  T.D.S ]]","v":"0783"}]
[{"$f":"Table1[[#This Row],[رقم  T.D.S ]]","v":"0784"}]
[{"$f":"Table1[[#This Row],[رقم  T.D.S ]]","v":"0785"}]
[{"$f":"Table1[[#This Row],[رقم  T.D.S ]]","v":"0786"}]
[{"$f":"Table1[[#This Row],[رقم  T.D.S ]]","v":"0787"}]
[{"$f":"Table1[[#This Row],[رقم  T.D.S ]]","v":"0788"}]
[{"$f":"Table1[[#This Row],[رقم  T.D.S ]]","v":"0789"}]
[{"$f":"Table1[[#This Row],[رقم  T.D.S ]]","v":"0790"}]
[{"$f":"Table1[[#This Row],[رقم  T.D.S ]]","v":"0791"}]
[{"$f":"Table1[[#This Row],[رقم  T.D.S ]]","v":"0792"}]
[{"$f":"Table1[[#This Row],[رقم  T.D.S ]]","v":"0793"}]
[{"$f":"Table1[[#This Row],[رقم  T.D.S ]]","v":"0794"}]
[{"$f":"Table1[[#This Row],[رقم  T.D.S ]]","v":"0795"}]
[{"$f":"Table1[[#This Row],[رقم  T.D.S ]]","v":"0796"}]
[{"$f":"Table1[[#This Row],[رقم  T.D.S ]]","v":"0797"}]
[{"$f":"Table1[[#This Row],[رقم  T.D.S ]]","v":"0798"}]
[{"$f":"Table1[[#This Row],[رقم  T.D.S ]]","v":"0799"}]
[{"$f":"Table1[[#This Row],[رقم  T.D.S ]]","v":"0800"}]
[{"$f":"Table1[[#This Row],[رقم  T.D.S ]]","v":"0801"}]
[{"$f":"Table1[[#This Row],[رقم  T.D.S ]]","v":"0802"}]
[{"$f":"Table1[[#This Row],[رقم  T.D.S ]]","v":"0803"}]
[{"$f":"Table1[[#This Row],[رقم  T.D.S ]]","v":"0804"}]
[{"$f":"Table1[[#This Row],[رقم  T.D.S ]]","v":"0805"}]
[{"$f":"Table1[[#This Row],[رقم  T.D.S ]]","v":"0806"}]
[{"$f":"Table1[[#This Row],[رقم  T.D.S ]]","v":"0807"}]
[{"$f":"Table1[[#This Row],[رقم  T.D.S ]]","v":"0808"}]
[{"$f":"Table1[[#This Row],[رقم  T.D.S ]]","v":"0809"}]
[{"$f":"Table1[[#This Row],[رقم  T.D.S ]]","v":"0810"}]
[{"$f":"Table1[[#This Row],[رقم  T.D.S ]]","v":"0811"}]
[{"$f":"Table1[[#This Row],[رقم  T.D.S ]]","v":"0812"}]
[{"$f":"Table1[[#This Row],[رقم  T.D.S ]]","v":"0813"}]
[{"$f":"Table1[[#This Row],[رقم  T.D.S ]]","v":"0814"}]
[{"$f":"Table1[[#This Row],[رقم  T.D.S ]]","v":"0815"}]
[{"$f":"Table1[[#This Row],[رقم  T.D.S ]]","v":"0816"}]
[{"$f":"Table1[[#This Row],[رقم  T.D.S ]]","v":"0817"}]
[{"$f":"Table1[[#This Row],[رقم  T.D.S ]]","v":"0818"}]
[{"$f":"Table1[[#This Row],[رقم  T.D.S ]]","v":"0819"}]
[{"$f":"Table1[[#This Row],[رقم  T.D.S ]]","v":"0820"}]
[{"$f":"Table1[[#This Row],[رقم  T.D.S ]]","v":"0821"}]
[{"$f":"Table1[[#This Row],[رقم  T.D.S ]]","v":"0822"}]
[{"$f":"Table1[[#This Row],[رقم  T.D.S ]]","v":"0823"}]
[{"$f":"Table1[[#This Row],[رقم  T.D.S ]]","v":"0824"}]
[{"$f":"Table1[[#This Row],[رقم  T.D.S ]]","v":"0825"}]
[{"$f":"Table1[[#This Row],[رقم  T.D.S ]]","v":"0826"}]
[{"$f":"Table1[[#This Row],[رقم  T.D.S ]]","v":"0827"}]
[{"$f":"Table1[[#This Row],[رقم  T.D.S ]]","v":"0828"}]
[{"$f":"Table1[[#This Row],[رقم  T.D.S ]]","v":"0829"}]
[{"$f":"Table1[[#This Row],[رقم  T.D.S ]]","v":"0830"}]
[{"$f":"Table1[[#This Row],[رقم  T.D.S ]]","v":"0831"}]
[{"$f":"Table1[[#This Row],[رقم  T.D.S ]]","v":"0832"}]
[{"$f":"Table1[[#This Row],[رقم  T.D.S ]]","v":"0833"}]
[{"$f":"Table1[[#This Row],[رقم  T.D.S ]]","v":"0834"}]
[{"$f":"Table1[[#This Row],[رقم  T.D.S ]]","v":"0835"}]
[{"$f":"Table1[[#This Row],[رقم  T.D.S ]]","v":"0836"}]
[{"$f":"Table1[[#This Row],[رقم  T.D.S ]]","v":"0837"}]
[{"$f":"Table1[[#This Row],[رقم  T.D.S ]]","v":"0838"}]
[{"$f":"Table1[[#This Row],[رقم  T.D.S ]]","v":"0839"}]
[{"$f":"Table1[[#This Row],[رقم  T.D.S ]]","v":"0840"}]
[{"$f":"Table1[[#This Row],[رقم  T.D.S ]]","v":"0841"}]
[{"$f":"Table1[[#This Row],[رقم  T.D.S ]]","v":"0842"}]
[{"$f":"Table1[[#This Row],[رقم  T.D.S ]]","v":"0843"}]
[{"$f":"Table1[[#This Row],[رقم  T.D.S ]]","v":"0844"}]
[{"$f":"Table1[[#This Row],[رقم  T.D.S ]]","v":"0845"}]
[{"$f":"Table1[[#This Row],[رقم  T.D.S ]]","v":"0846"}]
[{"$f":"Table1[[#This Row],[رقم  T.D.S ]]","v":"0847"}]
[{"$f":"Table1[[#This Row],[رقم  T.D.S ]]","v":"0848"}]
[{"$f":"Table1[[#This Row],[رقم  T.D.S ]]","v":"0849"}]
[{"$f":"Table1[[#This Row],[رقم  T.D.S ]]","v":"0850"}]
[{"$f":"Table1[[#This Row],[رقم  T.D.S ]]","v":"0851"}]
[{"$f":"Table1[[#This Row],[رقم  T.D.S ]]","v":"0852"}]
[{"$f":"Table1[[#This Row],[رقم  T.D.S ]]","v":"0853"}]
[{"$f":"Table1[[#This Row],[رقم  T.D.S ]]","v":"0854"}]
[{"$f":"Table1[[#This Row],[رقم  T.D.S ]]","v":"0855"}]
[{"$f":"Table1[[#This Row],[رقم  T.D.S ]]","v":"0856"}]
[{"$f":"Table1[[#This Row],[رقم  T.D.S ]]","v":"0857"}]
[{"$f":"Table1[[#This Row],[رقم  T.D.S ]]","v":"0858"}]
[{"$f":"Table1[[#This Row],[رقم  T.D.S ]]","v":"0859"}]
[{"$f":"Table1[[#This Row],[رقم  T.D.S ]]","v":"0860"}]
[{"$f":"Table1[[#This Row],[رقم  T.D.S ]]","v":"0861"}]
[{"$f":"Table1[[#This Row],[رقم  T.D.S ]]","v":"0862"}]
[{"$f":"Table1[[#This Row],[رقم  T.D.S ]]","v":"0863"}]
[{"$f":"Table1[[#This Row],[رقم  T.D.S ]]","v":"0864"}]
[{"$f":"Table1[[#This Row],[رقم  T.D.S ]]","v":"0865"}]
[{"$f":"Table1[[#This Row],[رقم  T.D.S ]]","v":"0866"}]
[{"$f":"Table1[[#This Row],[رقم  T.D.S ]]","v":"0867"}]
[{"$f":"Table1[[#This Row],[رقم  T.D.S ]]","v":"0868"}]
[{"$f":"Table1[[#This Row],[رقم  T.D.S ]]","v":"0869"}]
[{"$f":"Table1[[#This Row],[رقم  T.D.S ]]","v":"0870"}]
[{"$f":"Table1[[#This Row],[رقم  T.D.S ]]","v":"0871"}]
[{"$f":"Table1[[#This Row],[رقم  T.D.S ]]","v":"0872"}]
[{"$f":"Table1[[#This Row],[رقم  T.D.S ]]","v":"0873"}]
[{"$f":"Table1[[#This Row],[رقم  T.D.S ]]","v":"0874"}]
[{"$f":"Table1[[#This Row],[رقم  T.D.S ]]","v":"0875"}]
[{"$f":"Table1[[#This Row],[رقم  T.D.S ]]","v":"0876"}]
[{"$f":"Table1[[#This Row],[رقم  T.D.S ]]","v":"0877"}]
[{"$f":"Table1[[#This Row],[رقم  T.D.S ]]","v":"0878"}]
[{"$f":"Table1[[#This Row],[رقم  T.D.S ]]","v":"0879"}]
[{"$f":"Table1[[#This Row],[رقم  T.D.S ]]","v":"0880"}]
[{"$f":"Table1[[#This Row],[رقم  T.D.S ]]","v":"0881"}]
[{"$f":"Table1[[#This Row],[رقم  T.D.S ]]","v":"0882"}]
[{"$f":"Table1[[#This Row],[رقم  T.D.S ]]","v":"0883"}]
[{"$f":"Table1[[#This Row],[رقم  T.D.S ]]","v":"0884"}]
[{"$f":"Table1[[#This Row],[رقم  T.D.S ]]","v":"0885"}]
[{"$f":"Table1[[#This Row],[رقم  T.D.S ]]","v":"0886"}]
[{"$f":"Table1[[#This Row],[رقم  T.D.S ]]","v":"0887"}]
[{"$f":"Table1[[#This Row],[رقم  T.D.S ]]","v":"0888"}]
[{"$f":"Table1[[#This Row],[رقم  T.D.S ]]","v":"0889"}]
[{"$f":"Table1[[#This Row],[رقم  T.D.S ]]","v":"0890"}]
[{"$f":"Table1[[#This Row],[رقم  T.D.S ]]","v":"0891"}]
[{"$f":"Table1[[#This Row],[رقم  T.D.S ]]","v":"0892"}]
[{"$f":"Table1[[#This Row],[رقم  T.D.S ]]","v":"0893"}]
[{"$f":"Table1[[#This Row],[رقم  T.D.S ]]","v":"0894"}]
[{"$f":"Table1[[#This Row],[رقم  T.D.S ]]","v":"0895"}]
[{"$f":"Table1[[#This Row],[رقم  T.D.S ]]","v":"0896"}]
[{"$f":"Table1[[#This Row],[رقم  T.D.S ]]","v":"0897"}]
[{"$f":"Table1[[#This Row],[رقم  T.D.S ]]","v":"0898"}]
[{"$f":"Table1[[#This Row],[رقم  T.D.S ]]","v":"0899"}]
[{"$f":"Table1[[#This Row],[رقم  T.D.S ]]","v":"0900"}]
[{"$f":"Table1[[#This Row],[رقم  T.D.S ]]","v":"0901"}]
[{"$f":"Table1[[#This Row],[رقم  T.D.S ]]","v":"0902"}]
[{"$f":"Table1[[#This Row],[رقم  T.D.S ]]","v":"0903"}]
[{"$f":"Table1[[#This Row],[رقم  T.D.S ]]","v":"0904"}]
[{"$f":"Table1[[#This Row],[رقم  T.D.S ]]","v":"0905"}]
[{"$f":"Table1[[#This Row],[رقم  T.D.S ]]","v":"0906"}]
[{"$f":"Table1[[#This Row],[رقم  T.D.S ]]","v":"0907"}]
[{"$f":"Table1[[#This Row],[رقم  T.D.S ]]","v":"0908"}]
[{"$f":"Table1[[#This Row],[رقم  T.D.S ]]","v":"0909"}]
[{"$f":"Table1[[#This Row],[رقم  T.D.S ]]","v":"0910"}]
[{"$f":"Table1[[#This Row],[رقم  T.D.S ]]","v":"0911"}]
[{"$f":"Table1[[#This Row],[رقم  T.D.S ]]","v":"0912"}]
[{"$f":"Table1[[#This Row],[رقم  T.D.S ]]","v":"0913"}]
[{"$f":"Table1[[#This Row],[رقم  T.D.S ]]","v":"0914"}]
[{"$f":"Table1[[#This Row],[رقم  T.D.S ]]","v":"0915"}]
[{"$f":"Table1[[#This Row],[رقم  T.D.S ]]","v":"0916"}]
[{"$f":"Table1[[#This Row],[رقم  T.D.S ]]","v":"0917"}]
[{"$f":"Table1[[#This Row],[رقم  T.D.S ]]","v":"0918"}]
[{"$f":"Table1[[#This Row],[رقم  T.D.S ]]","v":"0919"}]
[{"$f":"Table1[[#This Row],[رقم  T.D.S ]]","v":"0920"}]
[{"$f":"Table1[[#This Row],[رقم  T.D.S ]]","v":"0921"}]
[{"$f":"Table1[[#This Row],[رقم  T.D.S ]]","v":"0922"}]
[{"$f":"Table1[[#This Row],[رقم  T.D.S ]]","v":"0923"}]
[{"$f":"Table1[[#This Row],[رقم  T.D.S ]]","v":"0924"}]
[{"$f":"Table1[[#This Row],[رقم  T.D.S ]]","v":"0925"}]
[{"$f":"Table1[[#This Row],[رقم  T.D.S ]]","v":"0926"}]
[{"$f":"Table1[[#This Row],[رقم  T.D.S ]]","v":"0927"}]
[{"$f":"Table1[[#This Row],[رقم  T.D.S ]]","v":"0928"}]
[{"$f":"Table1[[#This Row],[رقم  T.D.S ]]","v":"0929"}]
[{"$f":"Table1[[#This Row],[رقم  T.D.S ]]","v":"0930"}]
[{"$f":"Table1[[#This Row],[رقم  T.D.S ]]","v":"0931"}]
[{"$f":"Table1[[#This Row],[رقم  T.D.S ]]","v":"0932"}]
[{"$f":"Table1[[#This Row],[رقم  T.D.S ]]","v":"0933"}]
[{"$f":"Table1[[#This Row],[رقم  T.D.S ]]","v":"0934"}]
[{"$f":"Table1[[#This Row],[رقم  T.D.S ]]","v":"0935"}]
[{"$f":"Table1[[#This Row],[رقم  T.D.S ]]","v":"0936"}]
[{"$f":"Table1[[#This Row],[رقم  T.D.S ]]","v":"0937"}]
[{"$f":"Table1[[#This Row],[رقم  T.D.S ]]","v":"0938"}]
[{"$f":"Table1[[#This Row],[رقم  T.D.S ]]","v":"0939"}]
[{"$f":"Table1[[#This Row],[رقم  T.D.S ]]","v":"0940"}]
[{"$f":"Table1[[#This Row],[رقم  T.D.S ]]","v":"0941"}]
[{"$f":"Table1[[#This Row],[رقم  T.D.S ]]","v":"0942"}]
[{"$f":"Table1[[#This Row],[رقم  T.D.S ]]","v":"0943"}]
[{"$f":"Table1[[#This Row],[رقم  T.D.S ]]","v":"0944"}]
[{"$f":"Table1[[#This Row],[رقم  T.D.S ]]","v":"0945"}]
[{"$f":"Table1[[#This Row],[رقم  T.D.S ]]","v":"0946"}]
[{"$f":"Table1[[#This Row],[رقم  T.D.S ]]","v":"0947"}]
[{"$f":"Table1[[#This Row],[رقم  T.D.S ]]","v":"0948"}]
[{"$f":"Table1[[#This Row],[رقم  T.D.S ]]","v":"0949"}]
[{"$f":"Table1[[#This Row],[رقم  T.D.S ]]","v":"0950"}]
[{"$f":"Table1[[#This Row],[رقم  T.D.S ]]","v":"0951"}]
[{"$f":"Table1[[#This Row],[رقم  T.D.S ]]","v":"0952"}]
[{"$f":"Table1[[#This Row],[رقم  T.D.S ]]","v":"0953"}]
[{"$f":"Table1[[#This Row],[رقم  T.D.S ]]","v":"0954"}]
[{"$f":"Table1[[#This Row],[رقم  T.D.S ]]","v":"0955"}]
[{"$f":"Table1[[#This Row],[رقم  T.D.S ]]","v":"0956"}]
[{"$f":"Table1[[#This Row],[رقم  T.D.S ]]","v":"0957"}]
[{"$f":"Table1[[#This Row],[رقم  T.D.S ]]","v":"0958"}]
[{"$f":"Table1[[#This Row],[رقم  T.D.S ]]","v":"0959"}]
[{"$f":"Table1[[#This Row],[رقم  T.D.S ]]","v":"0960"}]
[{"$f":"Table1[[#This Row],[رقم  T.D.S ]]","v":"0961"}]
[{"$f":"Table1[[#This Row],[رقم  T.D.S ]]","v":"0962"}]
[{"$f":"Table1[[#This Row],[رقم  T.D.S ]]","v":"0963"}]
[{"$f":"Table1[[#This Row],[رقم  T.D.S ]]","v":"0964"}]
[{"$f":"Table1[[#This Row],[رقم  T.D.S ]]","v":"0965"}]
[{"$f":"Table1[[#This Row],[رقم  T.D.S ]]","v":"0966"}]
[{"$f":"Table1[[#This Row],[رقم  T.D.S ]]","v":"0967"}]
[{"$f":"Table1[[#This Row],[رقم  T.D.S ]]","v":"0968"}]
[{"$f":"Table1[[#This Row],[رقم  T.D.S ]]","v":"0969"}]
[{"$f":"Table1[[#This Row],[رقم  T.D.S ]]","v":"0970"}]
[{"$f":"Table1[[#This Row],[رقم  T.D.S ]]","v":"0971"}]
[{"$f":"Table1[[#This Row],[رقم  T.D.S ]]","v":"0972"}]
[{"$f":"Table1[[#This Row],[رقم  T.D.S ]]","v":"0973"}]
[{"$f":"Table1[[#This Row],[رقم  T.D.S ]]","v":"0974"}]
[{"$f":"Table1[[#This Row],[رقم  T.D.S ]]","v":"0975"}]
[{"$f":"Table1[[#This Row],[رقم  T.D.S ]]","v":"0976"}]
[{"$f":"Table1[[#This Row],[رقم  T.D.S ]]","v":"0977"}]
[{"$f":"Table1[[#This Row],[رقم  T.D.S ]]","v":"0978"}]
[{"$f":"Table1[[#This Row],[رقم  T.D.S ]]","v":"0979"}]
[{"$f":"Table1[[#This Row],[رقم  T.D.S ]]","v":"0980"}]
[{"$f":"Table1[[#This Row],[رقم  T.D.S ]]","v":"0981"}]
[{"$f":"Table1[[#This Row],[رقم  T.D.S ]]","v":"0982"}]
[{"$f":"Table1[[#This Row],[رقم  T.D.S ]]","v":"0983"}]
[{"$f":"Table1[[#This Row],[رقم  T.D.S ]]","v":"0984"}]
[{"$f":"Table1[[#This Row],[رقم  T.D.S ]]","v":"0985"}]
[{"$f":"Table1[[#This Row],[رقم  T.D.S ]]","v":"0986"}]
[{"$f":"Table1[[#This Row],[رقم  T.D.S ]]","v":"0987"}]
[{"$f":"Table1[[#This Row],[رقم  T.D.S ]]","v":"0988"}]
[{"$f":"Table1[[#This Row],[رقم  T.D.S ]]","v":"0989"}]
[{"$f":"Table1[[#This Row],[رقم  T.D.S ]]","v":"0990"}]
[{"$f":"Table1[[#This Row],[رقم  T.D.S ]]","v":"0991"}]
[{"$f":"Table1[[#This Row],[رقم  T.D.S ]]","v":"0992"}]
[{"$f":"Table1[[#This Row],[رقم  T.D.S ]]","v":"0993"}]
[{"$f":"Table1[[#This Row],[رقم  T.D.S ]]","v":"0994"}]
[{"$f":"Table1[[#This Row],[رقم  T.D.S ]]","v":"0995"}]
[{"$f":"Table1[[#This Row],[رقم  T.D.S ]]","v":"0996"}]
[{"$f":"Table1[[#This Row],[رقم  T.D.S ]]","v":"0997"}]
[{"$f":"Table1[[#This Row],[رقم  T.D.S ]]","v":"0998"}]

{"sheet":"Sheet1","index":4,"n_rows":0,"n_cols":0,"rows_kept":0,"cut":false,"hidden":false,"merged":[]}