{"text_format":"1","workbook":"xlsx","n_sheets":8,"sheets":["Sheet1","Customer","Data","Icvome","Attendees","Sales","Expens","Sheet4"],"not_rendered":{"charts":0,"images":9,"macros":1,"external_links":0,"defined_names":1,"comments":0,"pivot_tables":0},"unopened":[],"bounds":{"document_bytes":16777216,"sheet_cells":100000,"rows_first":2000,"rows_last":500,"rows_between":2000,"halvings":0,"cell_chars":16384,"cell_head_chars":4096},"cells_cut":0,"cells_raw":0,"read":"whole","date_system":"1900"}

{"sheet":"Sheet1","index":0,"n_rows":23,"n_cols":24,"rows_kept":23,"cut":false,"hidden":false,"merged":[[3,13,3,19],[0,8,2,17],[15,23,15,24]]}
[null,null,null,null,{"$f":"LOOKUP(9.99E+307,Table1[كود],Table1[كود])+1","v":105},null,"الكود الجديد",null,{"$f":"NOW()","v":"2022-10-24T23:02:34.360"}]
[]
[]
[null,null,null,null,104,null,"بحث بكود المشترك",null,null,null,null,null,null,"معلومات أضافية"]
[]
[null,null,null,null,"أسم المشترك",null,null,null,"نوع الاشتراك",null,null,null,null,"الوزن",null,null,null,"الحالة الصحية"]
[]
[null,null,null,null,"رقم التلفون",null,null,null,"قيمة الاشتراك",null,{"$f":"IF(K6=\"\",\"\",VLOOKUP(K6,Data!A:C,3,0))","v":""},null,null,"الطول",null,null,null,"الحالة الأجتماعية"]
[]
[null,null,null,null,"أسم المدرب",null,null,null,"بداية الاشتراك",null,null,null,null,"العمر",null,null,null,"النظام الغذائي"]
[]
[null,null,null,null,null,null,null,null,"المدفوع"]
[]
[]
[null,null,null,null,null,null,"بحث بكود المشترك",null,null,null,null,null,null,null,null,null,null,null,null,null,null,"بحث بكود المشترك",101]
[null,null,null,null,"أسم المشترك",null,{"$f":"IF(I15=\"\",\"\",VLOOKUP(I15,Customer!B:R,2,0))","v":""},null,null,null,null,null,null,null,null,null,null,null,null,"أسم المشترك",null,{"$f":"IF(X15=\"\",\"\",VLOOKUP(X15,Customer!B:R,2,0))","v":""},null,{"$f":"TODAY()","v":"2022-10-24"}]
[null,null,null,null,"أخر تاريخ للأشتراك",null,{"$f":"IF(I15=\"\",\"\",VLOOKUP(I15,Customer!B:R,16,0))","v":""},null,null,null,null,null,null,null,null,null,null,null,null,"المبلغ المتبقي",null,{"$f":"IF(X15=\"\",\"\",VLOOKUP(X15,Customer!B:T,19,0))","v":""}]
[null,null,null,null,"تاريخ الحضور",null,{"$f":"TODAY()","v":"2022-10-24"},null,null,null,null,null,null,null,null,null,null,null,null,"المدفوع"]
[]
[]
[null,null,null,null,null,null,{"$f":"TODAY()","v":"2022-10-24"},null,null,null,null,null,null,null,null,null,null,null,null,null,null,{"$f":"TODAY()","v":"2022-10-24"}]
[]
[null,null,null,null,"المبلغ",null,"البيان",null,null,null,null,null,null,null,null,null,null,null,null,"المبلغ",null,"البيان"]

{"sheet":"Customer","index":1,"n_rows":6,"n_cols":26,"rows_kept":6,"cut":false,"hidden":false,"merged":[]}
["م","كود","أسم المشترك","الموبيل","نوع الاشتراك","قيمة الاشتراك","بداية الاشتراك","المدفوع","أسم المدرب","الوزن","الطول","العمر","الخالة الصحية ","الحالة الاجتماعية","النظام الغذائي","مدة لاشتراك","أخر موعد للاشتراك","المبلغ المتبقي","الدفعات","الباقي ","الايام المتبقية","أيام الحضور","حالة الاشتراك",null,104,{"$f":"MATCH(Y1,B:B,0)","v":6}]
[{"$f":"IF(Table1[[#This Row],[أسم المشترك]]=0,\"\",ROW(A1)-ROW($A$1))","v":0},100,"ـ","ـ","ـ","ـ","ـ","ـ","ـ","ـ","ـ","ـ","ـ","ـ","ـ",{"$f":"IF(Table1[[#This Row],[نوع الاشتراك]]=0,0,VLOOKUP(Table1[[#This Row],[نوع الاشتراك]],Data!A:C,2,0))","v":{"$error":"#N/A"}},{"$f":"Table1[[#This Row],[بداية الاشتراك]]+Table1[[#This Row],[مدة لاشتراك]]","v":{"$error":"#VALUE!"}},{"$f":"Table1[[#This Row],[قيمة الاشتراك]]-Table1[[#This Row],[المدفوع]]","v":{"$error":"#VALUE!"}},{"$f":"SUMIF(Icvome!C:C,Table1[[#This Row],[أسم المشترك]],Icvome!E:E)","v":0},{"$f":"Table1[[#This Row],[المبلغ المتبقي]]-Table1[[#This Row],[الدفعات]]","v":{"$error":"#VALUE!"}},{"$f":"DAYS360(TODAY(),Table1[[#This Row],[أخر موعد للاشتراك]])","v":{"$error":"#VALUE!"}},{"$f":"COUNTIF(Attendees!B:B,Table1[[#This Row],[كود]])","v":0},{"$f":"IF(Table1[[#This Row],[الايام المتبقية]]>0,\"مستمر\",\"منتهي\")","v":{"$error":"#VALUE!"}}]
[{"$f":"IF(Table1[[#This Row],[أسم المشترك]]=0,\"\",ROW(A2)-ROW($A$1))","v":1},101,"احمد محمد عثمان ",542142895,"شهري",400,"2022-10-24",200,"محمود",90,170,30,"جيدة","متزوج","لا يوجد",{"$f":"IF(Table1[[#This Row],[نوع الاشتراك]]=0,0,VLOOKUP(Table1[[#This Row],[نوع الاشتراك]],Data!A:C,2,0))","v":30},{"$f":"Table1[[#This Row],[بداية الاشتراك]]+Table1[[#This Row],[مدة لاشتراك]]","v":"2022-11-23"},{"$f":"Table1[[#This Row],[قيمة الاشتراك]]-Table1[[#This Row],[المدفوع]]","v":200},{"$f":"SUMIF(Icvome!C:C,Table1[[#This Row],[أسم المشترك]],Icvome!E:E)","v":0},{"$f":"Table1[[#This Row],[المبلغ المتبقي]]-Table1[[#This Row],[الدفعات]]","v":200},{"$f":"DAYS360(TODAY(),Table1[[#This Row],[أخر موعد للاشتراك]])","v":29},{"$f":"COUNTIF(Attendees!B:B,Table1[[#This Row],[كود]])","v":0},{"$f":"IF(Table1[[#This Row],[الايام المتبقية]]>0,\"مستمر\",\"منتهي\")","v":"مستمر"}]
[{"$f":"IF(Table1[[#This Row],[أسم المشترك]]=0,\"\",ROW(A3)-ROW($A$1))","v":2},102,"حمزة احمد",1018156072,"شهري",400,"2022-10-24",200,"محمود",100,165,25,"جيدة","أعزب","لا يوجد",{"$f":"IF(Table1[[#This Row],[نوع الاشتراك]]=0,0,VLOOKUP(Table1[[#This Row],[نوع الاشتراك]],Data!A:C,2,0))","v":30},{"$f":"Table1[[#This Row],[بداية الاشتراك]]+Table1[[#This Row],[مدة لاشتراك]]","v":"2022-11-23"},{"$f":"Table1[[#This Row],[قيمة الاشتراك]]-Table1[[#This Row],[المدفوع]]","v":200},{"$f":"SUMIF(Icvome!C:C,Table1[[#This Row],[أسم المشترك]],Icvome!E:E)","v":200},{"$f":"Table1[[#This Row],[المبلغ المتبقي]]-Table1[[#This Row],[الدفعات]]","v":0},{"$f":"DAYS360(TODAY(),Table1[[#This Row],[أخر موعد للاشتراك]])","v":29},{"$f":"COUNTIF(Attendees!B:B,Table1[[#This Row],[كود]])","v":2},{"$f":"IF(Table1[[#This Row],[الايام المتبقية]]>0,\"مستمر\",\"منتهي\")","v":"مستمر"}]
[{"$f":"IF(Table1[[#This Row],[أسم المشترك]]=0,\"\",ROW(A4)-ROW($A$1))","v":3},103,"علي ",15015015,"يومي",20,"2022-10-21",20,"أحمد",100,null,null,null,null,null,{"$f":"IF(Table1[[#This Row],[نوع الاشتراك]]=0,0,VLOOKUP(Table1[[#This Row],[نوع الاشتراك]],Data!A:C,2,0))","v":1},{"$f":"Table1[[#This Row],[بداية الاشتراك]]+Table1[[#This Row],[مدة لاشتراك]]","v":"2022-10-22"},{"$f":"Table1[[#This Row],[قيمة الاشتراك]]-Table1[[#This Row],[المدفوع]]","v":0},{"$f":"SUMIF(Icvome!C:C,Table1[[#This Row],[أسم المشترك]],Icvome!E:E)","v":0},{"$f":"Table1[[#This Row],[المبلغ المتبقي]]-Table1[[#This Row],[الدفعات]]","v":0},{"$f":"DAYS360(TODAY(),Table1[[#This Row],[أخر موعد للاشتراك]])","v":-2},{"$f":"COUNTIF(Attendees!B:B,Table1[[#This Row],[كود]])","v":0},{"$f":"IF(Table1[[#This Row],[الايام المتبقية]]>0,\"مستمر\",\"منتهي\")","v":"منتهي"}]
[{"$f":"IF(Table1[[#This Row],[أسم المشترك]]=0,\"\",ROW(A5)-ROW($A$1))","v":4},104,"فياض",10000,"ربع سنوي",1000,"2022-10-24",300,"محسن",80,170,35,"جيدة","متزوج","لا يوجد",{"$f":"IF(Table1[[#This Row],[نوع الاشتراك]]=0,0,VLOOKUP(Table1[[#This Row],[نوع الاشتراك]],Data!A:C,2,0))","v":90},{"$f":"Table1[[#This Row],[بداية الاشتراك]]+Table1[[#This Row],[مدة لاشتراك]]","v":"2023-01-22"},{"$f":"Table1[[#This Row],[قيمة الاشتراك]]-Table1[[#This Row],[المدفوع]]","v":700},{"$f":"SUMIF(Icvome!C:C,Table1[[#This Row],[أسم المشترك]],Icvome!E:E)","v":200},{"$f":"Table1[[#This Row],[المبلغ المتبقي]]-Table1[[#This Row],[الدفعات]]","v":500},{"$f":"DAYS360(TODAY(),Table1[[#This Row],[أخر موعد للاشتراك]])","v":88},{"$f":"COUNTIF(Attendees!B:B,Table1[[#This Row],[كود]])","v":1},{"$f":"IF(Table1[[#This Row],[الايام المتبقية]]>0,\"مستمر\",\"منتهي\")","v":"مستمر"}]

{"sheet":"Data","index":2,"n_rows":17,"n_cols":11,"rows_kept":17,"cut":false,"hidden":false,"merged":[]}
[]
[]
[]
[]
[]
[]
[]
[]
[]
[]
["نوع الاشتراك","مدة الاشتراك","قيمة الاشتراك",null,"الحالة الصحية",null,"الحالة الاجتماعية",null,"أيام الحضور",null,"حالة الاشتراك"]
["يومي",1,20,null,"مريض",null,"أعزب",null,null,null,"مستمر "]
["أسبوعي",7,120,null,"مرض قلب",null,"متزوج",null,null,null,"منتهي"]
["شهري",30,400,null,"جيدة"]
["ربع سنوي",90,1000,null,"رياضي"]
["نص سنوي",180,1800]
["سنوي",365,3000]

{"sheet":"Icvome","index":3,"n_rows":6,"n_cols":5,"rows_kept":6,"cut":false,"hidden":false,"merged":[]}
["م","كود","أسم المشترك","تاريخ التحصيل","المبلغ المحصل"]
[{"$f":"IF(Table2[أسم المشترك]=0,\"\",ROW(A1)-ROW($A$1))","v":0},"ـ","ـ","ـ","ـ"]
[{"$f":"IF(Table2[أسم المشترك]=0,\"\",ROW(A2)-ROW($A$1))","v":1},102,"حمزة احمد","2022-10-24",100]
[{"$f":"IF(Table2[أسم المشترك]=0,\"\",ROW(A3)-ROW($A$1))","v":2},102,"حمزة احمد","2022-10-24",50]
[{"$f":"IF(Table2[أسم المشترك]=0,\"\",ROW(A4)-ROW($A$1))","v":3},102,"حمزة احمد","2022-10-25",50]
[{"$f":"IF(Table2[أسم المشترك]=0,\"\",ROW(A5)-ROW($A$1))","v":4},104,"فياض","2022-10-25",200]

{"sheet":"Attendees","index":4,"n_rows":5,"n_cols":5,"rows_kept":5,"cut":false,"hidden":false,"merged":[]}
["م","كود","أسم المشترك","تاريخ الحضور","أخر موعد للأشتراك"]
[{"$f":"IF(Table3[أسم المشترك]=0,\"\",ROW(A1)-ROW($A$1))","v":""}]
[{"$f":"IF(Table3[أسم المشترك]=0,\"\",ROW(A2)-ROW($A$1))","v":1},102,"حمزة احمد","2022-11-23","2022-10-24"]
[{"$f":"IF(Table3[أسم المشترك]=0,\"\",ROW(A3)-ROW($A$1))","v":2},102,"حمزة احمد","2022-11-23","2022-10-25"]
[{"$f":"IF(Table3[أسم المشترك]=0,\"\",ROW(A4)-ROW($A$1))","v":3},104,"فياض","2023-01-22","2022-10-24"]

{"sheet":"Sales","index":5,"n_rows":4,"n_cols":4,"rows_kept":4,"cut":false,"hidden":false,"merged":[]}
["م","التاريخ","البيان","المبلغ"]
[{"$f":"IF(Table4[[#Headers],[م]]=0,\"\",ROW(A1)-ROW($A$1))","v":0},"ـ","ـ","ـ"]
[{"$f":"IF(Table4[[#Headers],[م]]=0,\"\",ROW(A2)-ROW($A$1))","v":1},"2022-10-24","بروتين",1500]
[{"$f":"IF(Table4[[#Headers],[م]]=0,\"\",ROW(A3)-ROW($A$1))","v":2},"2022-10-24","مكمل غذائي",200]

{"sheet":"Expens","index":6,"n_rows":4,"n_cols":4,"rows_kept":4,"cut":false,"hidden":false,"merged":[]}
["م","التاريخ","البيان","المبلغ"]
[{"$f":"IF(Table46[[#Headers],[م]]=0,\"\",ROW(A1)-ROW($A$1))","v":0},"ـ","ـ","ـ"]
[{"$f":"IF(Table46[[#Headers],[م]]=0,\"\",ROW(A2)-ROW($A$1))","v":1},"2022-10-24","معلبات",100]
[{"$f":"IF(Table46[[#Headers],[م]]=0,\"\",ROW(A3)-ROW($A$1))","v":2},"2022-10-24","اغراض",250]

{"sheet":"Sheet4","index":7,"n_rows":366,"n_cols":10,"rows_kept":366,"cut":false,"hidden":false,"merged":[]}
["م","التاريخ","ايرادات","مصروفات","الرصيد",null,null,null,"تاريخ أفتتاح","2022-10-23"]
[1,{"$f":"IF(J1=\"\",\"\",J1+1)","v":"2022-10-24"},{"$f":"SUMIF(Icvome!D:D,B2,Icvome!E:E)+SUMIF(Sales!B:B,B2,Sales!D:D)","v":1850},{"$f":"SUMIF(Expens!B:B,B2,Expens!D:D)","v":350},{"$f":"$J$2+Table7[[#This Row],[ايرادات]]-Table7[[#This Row],[مصروفات]]","v":2500},null,null,null,"رصيد الافتتاح",1000]
[2,{"$f":"IF(B2=\"\",\"\",B2+1)","v":"2022-10-25"},{"$f":"SUMIF(Icvome!D:D,B3,Icvome!E:E)+SUMIF(Sales!B:B,B3,Sales!D:D)","v":250},{"$f":"SUMIF(Expens!B:B,B3,Expens!D:D)","v":0},{"$f":"E2+Table7[[#This Row],[ايرادات]]-Table7[[#This Row],[مصروفات]]","v":2750}]
[3,{"$f":"IF(B3=\"\",\"\",B3+1)","v":"2022-10-26"},{"$f":"SUMIF(Icvome!D:D,B4,Icvome!E:E)+SUMIF(Sales!B:B,B4,Sales!D:D)","v":0},{"$f":"SUMIF(Expens!B:B,B4,Expens!D:D)","v":0},{"$f":"E3+Table7[[#This Row],[ايرادات]]-Table7[[#This Row],[مصروفات]]","v":2750}]
[4,"2022-10-27",{"$f":"SUMIF(Icvome!D:D,B5,Icvome!E:E)+SUMIF(Sales!B:B,B5,Sales!D:D)","v":0},{"$f":"SUMIF(Expens!B:B,B5,Expens!D:D)","v":0},{"$f":"E4+Table7[[#This Row],[ايرادات]]-Table7[[#This Row],[مصروفات]]","v":2750}]
[5,"2022-10-28",{"$f":"SUMIF(Icvome!D:D,B6,Icvome!E:E)+SUMIF(Sales!B:B,B6,Sales!D:D)","v":0},{"$f":"SUMIF(Expens!B:B,B6,Expens!D:D)","v":0},{"$f":"E5+Table7[[#This Row],[ايرادات]]-Table7[[#This Row],[مصروفات]]","v":2750},null,null,null,"صافي الربح",{"$f":"LOOKUP(5555555,E:E,E:E)","v":2750}]
[6,"2022-10-29",{"$f":"SUMIF(Icvome!D:D,B7,Icvome!E:E)+SUMIF(Sales!B:B,B7,Sales!D:D)","v":0},{"$f":"SUMIF(Expens!B:B,B7,Expens!D:D)","v":0},{"$f":"E6+Table7[[#This Row],[ايرادات]]-Table7[[#This Row],[مصروفات]]","v":2750}]
[7,"2022-10-30",{"$f":"SUMIF(Icvome!D:D,B8,Icvome!E:E)+SUMIF(Sales!B:B,B8,Sales!D:D)","v":0},{"$f":"SUMIF(Expens!B:B,B8,Expens!D:D)","v":0},{"$f":"E7+Table7[[#This Row],[ايرادات]]-Table7[[#This Row],[مصروفات]]","v":2750}]
[8,"2022-10-31",{"$f":"SUMIF(Icvome!D:D,B9,Icvome!E:E)+SUMIF(Sales!B:B,B9,Sales!D:D)","v":0},{"$f":"SUMIF(Expens!B:B,B9,Expens!D:D)","v":0},{"$f":"E8+Table7[[#This Row],[ايرادات]]-Table7[[#This Row],[مصروفات]]","v":2750}]
[9,"2022-11-01",{"$f":"SUMIF(Icvome!D:D,B10,Icvome!E:E)+SUMIF(Sales!B:B,B10,Sales!D:D)","v":0},{"$f":"SUMIF(Expens!B:B,B10,Expens!D:D)","v":0},{"$f":"E9+Table7[[#This Row],[ايرادات]]-Table7[[#This Row],[مصروفات]]","v":2750}]
[10,"2022-11-02",{"$f":"SUMIF(Icvome!D:D,B11,Icvome!E:E)+SUMIF(Sales!B:B,B11,Sales!D:D)","v":0},{"$f":"SUMIF(Expens!B:B,B11,Expens!D:D)","v":0},{"$f":"E10+Table7[[#This Row],[ايرادات]]-Table7[[#This Row],[مصروفات]]","v":2750}]
[11,"2022-11-03",{"$f":"SUMIF(Icvome!D:D,B12,Icvome!E:E)+SUMIF(Sales!B:B,B12,Sales!D:D)","v":0},{"$f":"SUMIF(Expens!B:B,B12,Expens!D:D)","v":0},{"$f":"E11+Table7[[#This Row],[ايرادات]]-Table7[[#This Row],[مصروفات]]","v":2750}]
[12,"2022-11-04",{"$f":"SUMIF(Icvome!D:D,B13,Icvome!E:E)+SUMIF(Sales!B:B,B13,Sales!D:D)","v":0},{"$f":"SUMIF(Expens!B:B,B13,Expens!D:D)","v":0},{"$f":"E12+Table7[[#This Row],[ايرادات]]-Table7[[#This Row],[مصروفات]]","v":2750}]
[13,"2022-11-05",{"$f":"SUMIF(Icvome!D:D,B14,Icvome!E:E)+SUMIF(Sales!B:B,B14,Sales!D:D)","v":0},{"$f":"SUMIF(Expens!B:B,B14,Expens!D:D)","v":0},{"$f":"E13+Table7[[#This Row],[ايرادات]]-Table7[[#This Row],[مصروفات]]","v":2750}]
[14,"2022-11-06",{"$f":"SUMIF(Icvome!D:D,B15,Icvome!E:E)+SUMIF(Sales!B:B,B15,Sales!D:D)","v":0},{"$f":"SUMIF(Expens!B:B,B15,Expens!D:D)","v":0},{"$f":"E14+Table7[[#This Row],[ايرادات]]-Table7[[#This Row],[مصروفات]]","v":2750}]
[15,"2022-11-07",{"$f":"SUMIF(Icvome!D:D,B16,Icvome!E:E)+SUMIF(Sales!B:B,B16,Sales!D:D)","v":0},{"$f":"SUMIF(Expens!B:B,B16,Expens!D:D)","v":0},{"$f":"E15+Table7[[#This Row],[ايرادات]]-Table7[[#This Row],[مصروفات]]","v":2750}]
[16,"2022-11-08",{"$f":"SUMIF(Icvome!D:D,B17,Icvome!E:E)+SUMIF(Sales!B:B,B17,Sales!D:D)","v":0},{"$f":"SUMIF(Expens!B:B,B17,Expens!D:D)","v":0},{"$f":"E16+Table7[[#This Row],[ايرادات]]-Table7[[#This Row],[مصروفات]]","v":2750}]
[17,"2022-11-09",{"$f":"SUMIF(Icvome!D:D,B18,Icvome!E:E)+SUMIF(Sales!B:B,B18,Sales!D:D)","v":0},{"$f":"SUMIF(Expens!B:B,B18,Expens!D:D)","v":0},{"$f":"E17+Table7[[#This Row],[ايرادات]]-Table7[[#This Row],[مصروفات]]","v":2750}]
[18,"2022-11-10",{"$f":"SUMIF(Icvome!D:D,B19,Icvome!E:E)+SUMIF(Sales!B:B,B19,Sales!D:D)","v":0},{"$f":"SUMIF(Expens!B:B,B19,Expens!D:D)","v":0},{"$f":"E18+Table7[[#This Row],[ايرادات]]-Table7[[#This Row],[مصروفات]]","v":2750}]
[19,"2022-11-11",{"$f":"SUMIF(Icvome!D:D,B20,Icvome!E:E)+SUMIF(Sales!B:B,B20,Sales!D:D)","v":0},{"$f":"SUMIF(Expens!B:B,B20,Expens!D:D)","v":0},{"$f":"E19+Table7[[#This Row],[ايرادات]]-Table7[[#This Row],[مصروفات]]","v":2750}]
[20,"2022-11-12",{"$f":"SUMIF(Icvome!D:D,B21,Icvome!E:E)+SUMIF(Sales!B:B,B21,Sales!D:D)","v":0},{"$f":"SUMIF(Expens!B:B,B21,Expens!D:D)","v":0},{"$f":"E20+Table7[[#This Row],[ايرادات]]-Table7[[#This Row],[مصروفات]]","v":2750}]
[21,"2022-11-13",{"$f":"SUMIF(Icvome!D:D,B22,Icvome!E:E)+SUMIF(Sales!B:B,B22,Sales!D:D)","v":0},{"$f":"SUMIF(Expens!B:B,B22,Expens!D:D)","v":0},{"$f":"E21+Table7[[#This Row],[ايرادات]]-Table7[[#This Row],[مصروفات]]","v":2750}]
[22,"2022-11-14",{"$f":"SUMIF(Icvome!D:D,B23,Icvome!E:E)+SUMIF(Sales!B:B,B23,Sales!D:D)","v":0},{"$f":"SUMIF(Expens!B:B,B23,Expens!D:D)","v":0},{"$f":"E22+Table7[[#This Row],[ايرادات]]-Table7[[#This Row],[مصروفات]]","v":2750}]
[23,"2022-11-15",{"$f":"SUMIF(Icvome!D:D,B24,Icvome!E:E)+SUMIF(Sales!B:B,B24,Sales!D:D)","v":0},{"$f":"SUMIF(Expens!B:B,B24,Expens!D:D)","v":0},{"$f":"E23+Table7[[#This Row],[ايرادات]]-Table7[[#This Row],[مصروفات]]","v":2750}]
[24,"2022-11-16",{"$f":"SUMIF(Icvome!D:D,B25,Icvome!E:E)+SUMIF(Sales!B:B,B25,Sales!D:D)","v":0},{"$f":"SUMIF(Expens!B:B,B25,Expens!D:D)","v":0},{"$f":"E24+Table7[[#This Row],[ايرادات]]-Table7[[#This Row],[مصروفات]]","v":2750}]
[25,"2022-11-17",{"$f":"SUMIF(Icvome!D:D,B26,Icvome!E:E)+SUMIF(Sales!B:B,B26,Sales!D:D)","v":0},{"$f":"SUMIF(Expens!B:B,B26,Expens!D:D)","v":0},{"$f":"E25+Table7[[#This Row],[ايرادات]]-Table7[[#This Row],[مصروفات]]","v":2750}]
[26,"2022-11-18",{"$f":"SUMIF(Icvome!D:D,B27,Icvome!E:E)+SUMIF(Sales!B:B,B27,Sales!D:D)","v":0},{"$f":"SUMIF(Expens!B:B,B27,Expens!D:D)","v":0},{"$f":"E26+Table7[[#This Row],[ايرادات]]-Table7[[#This Row],[مصروفات]]","v":2750}]
[27,"2022-11-19",{"$f":"SUMIF(Icvome!D:D,B28,Icvome!E:E)+SUMIF(Sales!B:B,B28,Sales!D:D)","v":0},{"$f":"SUMIF(Expens!B:B,B28,Expens!D:D)","v":0},{"$f":"E27+Table7[[#This Row],[ايرادات]]-Table7[[#This Row],[مصروفات]]","v":2750}]
[28,"2022-11-20",{"$f":"SUMIF(Icvome!D:D,B29,Icvome!E:E)+SUMIF(Sales!B:B,B29,Sales!D:D)","v":0},{"$f":"SUMIF(Expens!B:B,B29,Expens!D:D)","v":0},{"$f":"E28+Table7[[#This Row],[ايرادات]]-Table7[[#This Row],[مصروفات]]","v":2750}]
[29,"2022-11-21",{"$f":"SUMIF(Icvome!D:D,B30,Icvome!E:E)+SUMIF(Sales!B:B,B30,Sales!D:D)","v":0},{"$f":"SUMIF(Expens!B:B,B30,Expens!D:D)","v":0},{"$f":"E29+Table7[[#This Row],[ايرادات]]-Table7[[#This Row],[مصروفات]]","v":2750}]
[30,"2022-11-22",{"$f":"SUMIF(Icvome!D:D,B31,Icvome!E:E)+SUMIF(Sales!B:B,B31,Sales!D:D)","v":0},{"$f":"SUMIF(Expens!B:B,B31,Expens!D:D)","v":0},{"$f":"E30+Table7[[#This Row],[ايرادات]]-Table7[[#This Row],[مصروفات]]","v":2750}]
[31,"2022-11-23",{"$f":"SUMIF(Icvome!D:D,B32,Icvome!E:E)+SUMIF(Sales!B:B,B32,Sales!D:D)","v":0},{"$f":"SUMIF(Expens!B:B,B32,Expens!D:D)","v":0},{"$f":"E31+Table7[[#This Row],[ايرادات]]-Table7[[#This Row],[مصروفات]]","v":2750}]
[32,"2022-11-24",{"$f":"SUMIF(Icvome!D:D,B33,Icvome!E:E)+SUMIF(Sales!B:B,B33,Sales!D:D)","v":0},{"$f":"SUMIF(Expens!B:B,B33,Expens!D:D)","v":0},{"$f":"E32+Table7[[#This Row],[ايرادات]]-Table7[[#This Row],[مصروفات]]","v":2750}]
[33,"2022-11-25",{"$f":"SUMIF(Icvome!D:D,B34,Icvome!E:E)+SUMIF(Sales!B:B,B34,Sales!D:D)","v":0},{"$f":"SUMIF(Expens!B:B,B34,Expens!D:D)","v":0},{"$f":"E33+Table7[[#This Row],[ايرادات]]-Table7[[#This Row],[مصروفات]]","v":2750}]
[34,"2022-11-26",{"$f":"SUMIF(Icvome!D:D,B35,Icvome!E:E)+SUMIF(Sales!B:B,B35,Sales!D:D)","v":0},{"$f":"SUMIF(Expens!B:B,B35,Expens!D:D)","v":0},{"$f":"E34+Table7[[#This Row],[ايرادات]]-Table7[[#This Row],[مصروفات]]","v":2750}]
[35,"2022-11-27",{"$f":"SUMIF(Icvome!D:D,B36,Icvome!E:E)+SUMIF(Sales!B:B,B36,Sales!D:D)","v":0},{"$f":"SUMIF(Expens!B:B,B36,Expens!D:D)","v":0},{"$f":"E35+Table7[[#This Row],[ايرادات]]-Table7[[#This Row],[مصروفات]]","v":2750}]
[36,"2022-11-28",{"$f":"SUMIF(Icvome!D:D,B37,Icvome!E:E)+SUMIF(Sales!B:B,B37,Sales!D:D)","v":0},{"$f":"SUMIF(Expens!B:B,B37,Expens!D:D)","v":0},{"$f":"E36+Table7[[#This Row],[ايرادات]]-Table7[[#This Row],[مصروفات]]","v":2750}]
[37,"2022-11-29",{"$f":"SUMIF(Icvome!D:D,B38,Icvome!E:E)+SUMIF(Sales!B:B,B38,Sales!D:D)","v":0},{"$f":"SUMIF(Expens!B:B,B38,Expens!D:D)","v":0},{"$f":"E37+Table7[[#This Row],[ايرادات]]-Table7[[#This Row],[مصروفات]]","v":2750}]
[38,"2022-11-30",{"$f":"SUMIF(Icvome!D:D,B39,Icvome!E:E)+SUMIF(Sales!B:B,B39,Sales!D:D)","v":0},{"$f":"SUMIF(Expens!B:B,B39,Expens!D:D)","v":0},{"$f":"E38+Table7[[#This Row],[ايرادات]]-Table7[[#This Row],[مصروفات]]","v":2750}]
[39,"2022-12-01",{"$f":"SUMIF(Icvome!D:D,B40,Icvome!E:E)+SUMIF(Sales!B:B,B40,Sales!D:D)","v":0},{"$f":"SUMIF(Expens!B:B,B40,Expens!D:D)","v":0},{"$f":"E39+Table7[[#This Row],[ايرادات]]-Table7[[#This Row],[مصروفات]]","v":2750}]
[40,"2022-12-02",{"$f":"SUMIF(Icvome!D:D,B41,Icvome!E:E)+SUMIF(Sales!B:B,B41,Sales!D:D)","v":0},{"$f":"SUMIF(Expens!B:B,B41,Expens!D:D)","v":0},{"$f":"E40+Table7[[#This Row],[ايرادات]]-Table7[[#This Row],[مصروفات]]","v":2750}]
[41,"2022-12-03",{"$f":"SUMIF(Icvome!D:D,B42,Icvome!E:E)+SUMIF(Sales!B:B,B42,Sales!D:D)","v":0},{"$f":"SUMIF(Expens!B:B,B42,Expens!D:D)","v":0},{"$f":"E41+Table7[[#This Row],[ايرادات]]-Table7[[#This Row],[مصروفات]]","v":2750}]
[42,"2022-12-04",{"$f":"SUMIF(Icvome!D:D,B43,Icvome!E:E)+SUMIF(Sales!B:B,B43,Sales!D:D)","v":0},{"$f":"SUMIF(Expens!B:B,B43,Expens!D:D)","v":0},{"$f":"E42+Table7[[#This Row],[ايرادات]]-Table7[[#This Row],[مصروفات]]","v":2750}]
[43,"2022-12-05",{"$f":"SUMIF(Icvome!D:D,B44,Icvome!E:E)+SUMIF(Sales!B:B,B44,Sales!D:D)","v":0},{"$f":"SUMIF(Expens!B:B,B44,Expens!D:D)","v":0},{"$f":"E43+Table7[[#This Row],[ايرادات]]-Table7[[#This Row],[مصروفات]]","v":2750}]
[44,"2022-12-06",{"$f":"SUMIF(Icvome!D:D,B45,Icvome!E:E)+SUMIF(Sales!B:B,B45,Sales!D:D)","v":0},{"$f":"SUMIF(Expens!B:B,B45,Expens!D:D)","v":0},{"$f":"E44+Table7[[#This Row],[ايرادات]]-Table7[[#This Row],[مصروفات]]","v":2750}]
[45,"2022-12-07",{"$f":"SUMIF(Icvome!D:D,B46,Icvome!E:E)+SUMIF(Sales!B:B,B46,Sales!D:D)","v":0},{"$f":"SUMIF(Expens!B:B,B46,Expens!D:D)","v":0},{"$f":"E45+Table7[[#This Row],[ايرادات]]-Table7[[#This Row],[مصروفات]]","v":2750}]
[46,"2022-12-08",{"$f":"SUMIF(Icvome!D:D,B47,Icvome!E:E)+SUMIF(Sales!B:B,B47,Sales!D:D)","v":0},{"$f":"SUMIF(Expens!B:B,B47,Expens!D:D)","v":0},{"$f":"E46+Table7[[#This Row],[ايرادات]]-Table7[[#This Row],[مصروفات]]","v":2750}]
[47,"2022-12-09",{"$f":"SUMIF(Icvome!D:D,B48,Icvome!E:E)+SUMIF(Sales!B:B,B48,Sales!D:D)","v":0},{"$f":"SUMIF(Expens!B:B,B48,Expens!D:D)","v":0},{"$f":"E47+Table7[[#This Row],[ايرادات]]-Table7[[#This Row],[مصروفات]]","v":2750}]
[48,"2022-12-10",{"$f":"SUMIF(Icvome!D:D,B49,Icvome!E:E)+SUMIF(Sales!B:B,B49,Sales!D:D)","v":0},{"$f":"SUMIF(Expens!B:B,B49,Expens!D:D)","v":0},{"$f":"E48+Table7[[#This Row],[ايرادات]]-Table7[[#This Row],[مصروفات]]","v":2750}]
[49,"2022-12-11",{"$f":"SUMIF(Icvome!D:D,B50,Icvome!E:E)+SUMIF(Sales!B:B,B50,Sales!D:D)","v":0},{"$f":"SUMIF(Expens!B:B,B50,Expens!D:D)","v":0},{"$f":"E49+Table7[[#This Row],[ايرادات]]-Table7[[#This Row],[مصروفات]]","v":2750}]
[50,"2022-12-12",{"$f":"SUMIF(Icvome!D:D,B51,Icvome!E:E)+SUMIF(Sales!B:B,B51,Sales!D:D)","v":0},{"$f":"SUMIF(Expens!B:B,B51,Expens!D:D)","v":0},{"$f":"E50+Table7[[#This Row],[ايرادات]]-Table7[[#This Row],[مصروفات]]","v":2750}]
[51,"2022-12-13",{"$f":"SUMIF(Icvome!D:D,B52,Icvome!E:E)+SUMIF(Sales!B:B,B52,Sales!D:D)","v":0},{"$f":"SUMIF(Expens!B:B,B52,Expens!D:D)","v":0},{"$f":"E51+Table7[[#This Row],[ايرادات]]-Table7[[#This Row],[مصروفات]]","v":2750}]
[52,"2022-12-14",{"$f":"SUMIF(Icvome!D:D,B53,Icvome!E:E)+SUMIF(Sales!B:B,B53,Sales!D:D)","v":0},{"$f":"SUMIF(Expens!B:B,B53,Expens!D:D)","v":0},{"$f":"E52+Table7[[#This Row],[ايرادات]]-Table7[[#This Row],[مصروفات]]","v":2750}]
[53,"2022-12-15",{"$f":"SUMIF(Icvome!D:D,B54,Icvome!E:E)+SUMIF(Sales!B:B,B54,Sales!D:D)","v":0},{"$f":"SUMIF(Expens!B:B,B54,Expens!D:D)","v":0},{"$f":"E53+Table7[[#This Row],[ايرادات]]-Table7[[#This Row],[مصروفات]]","v":2750}]
[54,"2022-12-16",{"$f":"SUMIF(Icvome!D:D,B55,Icvome!E:E)+SUMIF(Sales!B:B,B55,Sales!D:D)","v":0},{"$f":"SUMIF(Expens!B:B,B55,Expens!D:D)","v":0},{"$f":"E54+Table7[[#This Row],[ايرادات]]-Table7[[#This Row],[مصروفات]]","v":2750}]
[55,"2022-12-17",{"$f":"SUMIF(Icvome!D:D,B56,Icvome!E:E)+SUMIF(Sales!B:B,B56,Sales!D:D)","v":0},{"$f":"SUMIF(Expens!B:B,B56,Expens!D:D)","v":0},{"$f":"E55+Table7[[#This Row],[ايرادات]]-Table7[[#This Row],[مصروفات]]","v":2750}]
[56,"2022-12-18",{"$f":"SUMIF(Icvome!D:D,B57,Icvome!E:E)+SUMIF(Sales!B:B,B57,Sales!D:D)","v":0},{"$f":"SUMIF(Expens!B:B,B57,Expens!D:D)","v":0},{"$f":"E56+Table7[[#This Row],[ايرادات]]-Table7[[#This Row],[مصروفات]]","v":2750}]
[57,"2022-12-19",{"$f":"SUMIF(Icvome!D:D,B58,Icvome!E:E)+SUMIF(Sales!B:B,B58,Sales!D:D)","v":0},{"$f":"SUMIF(Expens!B:B,B58,Expens!D:D)","v":0},{"$f":"E57+Table7[[#This Row],[ايرادات]]-Table7[[#This Row],[مصروفات]]","v":2750}]
[58,"2022-12-20",{"$f":"SUMIF(Icvome!D:D,B59,Icvome!E:E)+SUMIF(Sales!B:B,B59,Sales!D:D)","v":0},{"$f":"SUMIF(Expens!B:B,B59,Expens!D:D)","v":0},{"$f":"E58+Table7[[#This Row],[ايرادات]]-Table7[[#This Row],[مصروفات]]","v":2750}]
[59,"2022-12-21",{"$f":"SUMIF(Icvome!D:D,B60,Icvome!E:E)+SUMIF(Sales!B:B,B60,Sales!D:D)","v":0},{"$f":"SUMIF(Expens!B:B,B60,Expens!D:D)","v":0},{"$f":"E59+Table7[[#This Row],[ايرادات]]-Table7[[#This Row],[مصروفات]]","v":2750}]
[60,"2022-12-22",{"$f":"SUMIF(Icvome!D:D,B61,Icvome!E:E)+SUMIF(Sales!B:B,B61,Sales!D:D)","v":0},{"$f":"SUMIF(Expens!B:B,B61,Expens!D:D)","v":0},{"$f":"E60+Table7[[#This Row],[ايرادات]]-Table7[[#This Row],[مصروفات]]","v":2750}]
[61,"2022-12-23",{"$f":"SUMIF(Icvome!D:D,B62,Icvome!E:E)+SUMIF(Sales!B:B,B62,Sales!D:D)","v":0},{"$f":"SUMIF(Expens!B:B,B62,Expens!D:D)","v":0},{"$f":"E61+Table7[[#This Row],[ايرادات]]-Table7[[#This Row],[مصروفات]]","v":2750}]
[62,"2022-12-24",{"$f":"SUMIF(Icvome!D:D,B63,Icvome!E:E)+SUMIF(Sales!B:B,B63,Sales!D:D)","v":0},{"$f":"SUMIF(Expens!B:B,B63,Expens!D:D)","v":0},{"$f":"E62+Table7[[#This Row],[ايرادات]]-Table7[[#This Row],[مصروفات]]","v":2750}]
[63,"2022-12-25",{"$f":"SUMIF(Icvome!D:D,B64,Icvome!E:E)+SUMIF(Sales!B:B,B64,Sales!D:D)","v":0},{"$f":"SUMIF(Expens!B:B,B64,Expens!D:D)","v":0},{"$f":"E63+Table7[[#This Row],[ايرادات]]-Table7[[#This Row],[مصروفات]]","v":2750}]
[64,"2022-12-26",{"$f":"SUMIF(Icvome!D:D,B65,Icvome!E:E)+SUMIF(Sales!B:B,B65,Sales!D:D)","v":0},{"$f":"SUMIF(Expens!B:B,B65,Expens!D:D)","v":0},{"$f":"E64+Table7[[#This Row],[ايرادات]]-Table7[[#This Row],[مصروفات]]","v":2750}]
[65,"2022-12-27",{"$f":"SUMIF(Icvome!D:D,B66,Icvome!E:E)+SUMIF(Sales!B:B,B66,Sales!D:D)","v":0},{"$f":"SUMIF(Expens!B:B,B66,Expens!D:D)","v":0},{"$f":"E65+Table7[[#This Row],[ايرادات]]-Table7[[#This Row],[مصروفات]]","v":2750}]
[66,"2022-12-28",{"$f":"SUMIF(Icvome!D:D,B67,Icvome!E:E)+SUMIF(Sales!B:B,B67,Sales!D:D)","v":0},{"$f":"SUMIF(Expens!B:B,B67,Expens!D:D)","v":0},{"$f":"E66+Table7[[#This Row],[ايرادات]]-Table7[[#This Row],[مصروفات]]","v":2750}]
[67,{"$f":"IF(B67=\"\",\"\",B67+1)","v":"2022-12-29"},{"$f":"SUMIF(Icvome!D:D,B68,Icvome!E:E)+SUMIF(Sales!B:B,B68,Sales!D:D)","v":0},{"$f":"SUMIF(Expens!B:B,B68,Expens!D:D)","v":0},{"$f":"E67+Table7[[#This Row],[ايرادات]]-Table7[[#This Row],[مصروفات]]","v":2750}]
[68,"2022-12-30",{"$f":"SUMIF(Icvome!D:D,B69,Icvome!E:E)+SUMIF(Sales!B:B,B69,Sales!D:D)","v":0},{"$f":"SUMIF(Expens!B:B,B69,Expens!D:D)","v":0},{"$f":"E68+Table7[[#This Row],[ايرادات]]-Table7[[#This Row],[مصروفات]]","v":2750}]
[69,"2022-12-31",{"$f":"SUMIF(Icvome!D:D,B70,Icvome!E:E)+SUMIF(Sales!B:B,B70,Sales!D:D)","v":0},{"$f":"SUMIF(Expens!B:B,B70,Expens!D:D)","v":0},{"$f":"E69+Table7[[#This Row],[ايرادات]]-Table7[[#This Row],[مصروفات]]","v":2750}]
[70,"2023-01-01",{"$f":"SUMIF(Icvome!D:D,B71,Icvome!E:E)+SUMIF(Sales!B:B,B71,Sales!D:D)","v":0},{"$f":"SUMIF(Expens!B:B,B71,Expens!D:D)","v":0},{"$f":"E70+Table7[[#This Row],[ايرادات]]-Table7[[#This Row],[مصروفات]]","v":2750}]
[71,"2023-01-02",{"$f":"SUMIF(Icvome!D:D,B72,Icvome!E:E)+SUMIF(Sales!B:B,B72,Sales!D:D)","v":0},{"$f":"SUMIF(Expens!B:B,B72,Expens!D:D)","v":0},{"$f":"E71+Table7[[#This Row],[ايرادات]]-Table7[[#This Row],[مصروفات]]","v":2750}]
[72,"2023-01-03",{"$f":"SUMIF(Icvome!D:D,B73,Icvome!E:E)+SUMIF(Sales!B:B,B73,Sales!D:D)","v":0},{"$f":"SUMIF(Expens!B:B,B73,Expens!D:D)","v":0},{"$f":"E72+Table7[[#This Row],[ايرادات]]-Table7[[#This Row],[مصروفات]]","v":2750}]
[73,"2023-01-04",{"$f":"SUMIF(Icvome!D:D,B74,Icvome!E:E)+SUMIF(Sales!B:B,B74,Sales!D:D)","v":0},{"$f":"SUMIF(Expens!B:B,B74,Expens!D:D)","v":0},{"$f":"E73+Table7[[#This Row],[ايرادات]]-Table7[[#This Row],[مصروفات]]","v":2750}]
[74,"2023-01-05",{"$f":"SUMIF(Icvome!D:D,B75,Icvome!E:E)+SUMIF(Sales!B:B,B75,Sales!D:D)","v":0},{"$f":"SUMIF(Expens!B:B,B75,Expens!D:D)","v":0},{"$f":"E74+Table7[[#This Row],[ايرادات]]-Table7[[#This Row],[مصروفات]]","v":2750}]
[75,"2023-01-06",{"$f":"SUMIF(Icvome!D:D,B76,Icvome!E:E)+SUMIF(Sales!B:B,B76,Sales!D:D)","v":0},{"$f":"SUMIF(Expens!B:B,B76,Expens!D:D)","v":0},{"$f":"E75+Table7[[#This Row],[ايرادات]]-Table7[[#This Row],[مصروفات]]","v":2750}]
[76,"2023-01-07",{"$f":"SUMIF(Icvome!D:D,B77,Icvome!E:E)+SUMIF(Sales!B:B,B77,Sales!D:D)","v":0},{"$f":"SUMIF(Expens!B:B,B77,Expens!D:D)","v":0},{"$f":"E76+Table7[[#This Row],[ايرادات]]-Table7[[#This Row],[مصروفات]]","v":2750}]
[77,"2023-01-08",{"$f":"SUMIF(Icvome!D:D,B78,Icvome!E:E)+SUMIF(Sales!B:B,B78,Sales!D:D)","v":0},{"$f":"SUMIF(Expens!B:B,B78,Expens!D:D)","v":0},{"$f":"E77+Table7[[#This Row],[ايرادات]]-Table7[[#This Row],[مصروفات]]","v":2750}]
[78,"2023-01-09",{"$f":"SUMIF(Icvome!D:D,B79,Icvome!E:E)+SUMIF(Sales!B:B,B79,Sales!D:D)","v":0},{"$f":"SUMIF(Expens!B:B,B79,Expens!D:D)","v":0},{"$f":"E78+Table7[[#This Row],[ايرادات]]-Table7[[#This Row],[مصروفات]]","v":2750}]
[79,"2023-01-10",{"$f":"SUMIF(Icvome!D:D,B80,Icvome!E:E)+SUMIF(Sales!B:B,B80,Sales!D:D)","v":0},{"$f":"SUMIF(Expens!B:B,B80,Expens!D:D)","v":0},{"$f":"E79+Table7[[#This Row],[ايرادات]]-Table7[[#This Row],[مصروفات]]","v":2750}]
[80,"2023-01-11",{"$f":"SUMIF(Icvome!D:D,B81,Icvome!E:E)+SUMIF(Sales!B:B,B81,Sales!D:D)","v":0},{"$f":"SUMIF(Expens!B:B,B81,Expens!D:D)","v":0},{"$f":"E80+Table7[[#This Row],[ايرادات]]-Table7[[#This Row],[مصروفات]]","v":2750}]
[81,"2023-01-12",{"$f":"SUMIF(Icvome!D:D,B82,Icvome!E:E)+SUMIF(Sales!B:B,B82,Sales!D:D)","v":0},{"$f":"SUMIF(Expens!B:B,B82,Expens!D:D)","v":0},{"$f":"E81+Table7[[#This Row],[ايرادات]]-Table7[[#This Row],[مصروفات]]","v":2750}]
[82,"2023-01-13",{"$f":"SUMIF(Icvome!D:D,B83,Icvome!E:E)+SUMIF(Sales!B:B,B83,Sales!D:D)","v":0},{"$f":"SUMIF(Expens!B:B,B83,Expens!D:D)","v":0},{"$f":"E82+Table7[[#This Row],[ايرادات]]-Table7[[#This Row],[مصروفات]]","v":2750}]
[83,"2023-01-14",{"$f":"SUMIF(Icvome!D:D,B84,Icvome!E:E)+SUMIF(Sales!B:B,B84,Sales!D:D)","v":0},{"$f":"SUMIF(Expens!B:B,B84,Expens!D:D)","v":0},{"$f":"E83+Table7[[#This Row],[ايرادات]]-Table7[[#This Row],[مصروفات]]","v":2750}]
[84,"2023-01-15",{"$f":"SUMIF(Icvome!D:D,B85,Icvome!E:E)+SUMIF(Sales!B:B,B85,Sales!D:D)","v":0},{"$f":"SUMIF(Expens!B:B,B85,Expens!D:D)","v":0},{"$f":"E84+Table7[[#This Row],[ايرادات]]-Table7[[#This Row],[مصروفات]]","v":2750}]
[85,"2023-01-16",{"$f":"SUMIF(Icvome!D:D,B86,Icvome!E:E)+SUMIF(Sales!B:B,B86,Sales!D:D)","v":0},{"$f":"SUMIF(Expens!B:B,B86,Expens!D:D)","v":0},{"$f":"E85+Table7[[#This Row],[ايرادات]]-Table7[[#This Row],[مصروفات]]","v":2750}]
[86,"2023-01-17",{"$f":"SUMIF(Icvome!D:D,B87,Icvome!E:E)+SUMIF(Sales!B:B,B87,Sales!D:D)","v":0},{"$f":"SUMIF(Expens!B:B,B87,Expens!D:D)","v":0},{"$f":"E86+Table7[[#This Row],[ايرادات]]-Table7[[#This Row],[مصروفات]]","v":2750}]
[87,"2023-01-18",{"$f":"SUMIF(Icvome!D:D,B88,Icvome!E:E)+SUMIF(Sales!B:B,B88,Sales!D:D)","v":0},{"$f":"SUMIF(Expens!B:B,B88,Expens!D:D)","v":0},{"$f":"E87+Table7[[#This Row],[ايرادات]]-Table7[[#This Row],[مصروفات]]","v":2750}]
[88,"2023-01-19",{"$f":"SUMIF(Icvome!D:D,B89,Icvome!E:E)+SUMIF(Sales!B:B,B89,Sales!D:D)","v":0},{"$f":"SUMIF(Expens!B:B,B89,Expens!D:D)","v":0},{"$f":"E88+Table7[[#This Row],[ايرادات]]-Table7[[#This Row],[مصروفات]]","v":2750}]
[89,"2023-01-20",{"$f":"SUMIF(Icvome!D:D,B90,Icvome!E:E)+SUMIF(Sales!B:B,B90,Sales!D:D)","v":0},{"$f":"SUMIF(Expens!B:B,B90,Expens!D:D)","v":0},{"$f":"E89+Table7[[#This Row],[ايرادات]]-Table7[[#This Row],[مصروفات]]","v":2750}]
[90,"2023-01-21",{"$f":"SUMIF(Icvome!D:D,B91,Icvome!E:E)+SUMIF(Sales!B:B,B91,Sales!D:D)","v":0},{"$f":"SUMIF(Expens!B:B,B91,Expens!D:D)","v":0},{"$f":"E90+Table7[[#This Row],[ايرادات]]-Table7[[#This Row],[مصروفات]]","v":2750}]
[91,"2023-01-22",{"$f":"SUMIF(Icvome!D:D,B92,Icvome!E:E)+SUMIF(Sales!B:B,B92,Sales!D:D)","v":0},{"$f":"SUMIF(Expens!B:B,B92,Expens!D:D)","v":0},{"$f":"E91+Table7[[#This Row],[ايرادات]]-Table7[[#This Row],[مصروفات]]","v":2750}]
[92,"2023-01-23",{"$f":"SUMIF(Icvome!D:D,B93,Icvome!E:E)+SUMIF(Sales!B:B,B93,Sales!D:D)","v":0},{"$f":"SUMIF(Expens!B:B,B93,Expens!D:D)","v":0},{"$f":"E92+Table7[[#This Row],[ايرادات]]-Table7[[#This Row],[مصروفات]]","v":2750}]
[93,"2023-01-24",{"$f":"SUMIF(Icvome!D:D,B94,Icvome!E:E)+SUMIF(Sales!B:B,B94,Sales!D:D)","v":0},{"$f":"SUMIF(Expens!B:B,B94,Expens!D:D)","v":0},{"$f":"E93+Table7[[#This Row],[ايرادات]]-Table7[[#This Row],[مصروفات]]","v":2750}]
[94,"2023-01-25",{"$f":"SUMIF(Icvome!D:D,B95,Icvome!E:E)+SUMIF(Sales!B:B,B95,Sales!D:D)","v":0},{"$f":"SUMIF(Expens!B:B,B95,Expens!D:D)","v":0},{"$f":"E94+Table7[[#This Row],[ايرادات]]-Table7[[#This Row],[مصروفات]]","v":2750}]
[95,"2023-01-26",{"$f":"SUMIF(Icvome!D:D,B96,Icvome!E:E)+SUMIF(Sales!B:B,B96,Sales!D:D)","v":0},{"$f":"SUMIF(Expens!B:B,B96,Expens!D:D)","v":0},{"$f":"E95+Table7[[#This Row],[ايرادات]]-Table7[[#This Row],[مصروفات]]","v":2750}]
[96,"2023-01-27",{"$f":"SUMIF(Icvome!D:D,B97,Icvome!E:E)+SUMIF(Sales!B:B,B97,Sales!D:D)","v":0},{"$f":"SUMIF(Expens!B:B,B97,Expens!D:D)","v":0},{"$f":"E96+Table7[[#This Row],[ايرادات]]-Table7[[#This Row],[مصروفات]]","v":2750}]
[97,"2023-01-28",{"$f":"SUMIF(Icvome!D:D,B98,Icvome!E:E)+SUMIF(Sales!B:B,B98,Sales!D:D)","v":0},{"$f":"SUMIF(Expens!B:B,B98,Expens!D:D)","v":0},{"$f":"E97+Table7[[#This Row],[ايرادات]]-Table7[[#This Row],[مصروفات]]","v":2750}]
[98,"2023-01-29",{"$f":"SUMIF(Icvome!D:D,B99,Icvome!E:E)+SUMIF(Sales!B:B,B99,Sales!D:D)","v":0},{"$f":"SUMIF(Expens!B:B,B99,Expens!D:D)","v":0},{"$f":"E98+Table7[[#This Row],[ايرادات]]-Table7[[#This Row],[مصروفات]]","v":2750}]
[99,"2023-01-30",{"$f":"SUMIF(Icvome!D:D,B100,Icvome!E:E)+SUMIF(Sales!B:B,B100,Sales!D:D)","v":0},{"$f":"SUMIF(Expens!B:B,B100,Expens!D:D)","v":0},{"$f":"E99+Table7[[#This Row],[ايرادات]]-Table7[[#This Row],[مصروفات]]","v":2750}]
[100,"2023-01-31",{"$f":"SUMIF(Icvome!D:D,B101,Icvome!E:E)+SUMIF(Sales!B:B,B101,Sales!D:D)","v":0},{"$f":"SUMIF(Expens!B:B,B101,Expens!D:D)","v":0},{"$f":"E100+Table7[[#This Row],[ايرادات]]-Table7[[#This Row],[مصروفات]]","v":2750}]
[101,"2023-02-01",{"$f":"SUMIF(Icvome!D:D,B102,Icvome!E:E)+SUMIF(Sales!B:B,B102,Sales!D:D)","v":0},{"$f":"SUMIF(Expens!B:B,B102,Expens!D:D)","v":0},{"$f":"E101+Table7[[#This Row],[ايرادات]]-Table7[[#This Row],[مصروفات]]","v":2750}]
[102,"2023-02-02",{"$f":"SUMIF(Icvome!D:D,B103,Icvome!E:E)+SUMIF(Sales!B:B,B103,Sales!D:D)","v":0},{"$f":"SUMIF(Expens!B:B,B103,Expens!D:D)","v":0},{"$f":"E102+Table7[[#This Row],[ايرادات]]-Table7[[#This Row],[مصروفات]]","v":2750}]
[103,"2023-02-03",{"$f":"SUMIF(Icvome!D:D,B104,Icvome!E:E)+SUMIF(Sales!B:B,B104,Sales!D:D)","v":0},{"$f":"SUMIF(Expens!B:B,B104,Expens!D:D)","v":0},{"$f":"E103+Table7[[#This Row],[ايرادات]]-Table7[[#This Row],[مصروفات]]","v":2750}]
[104,"2023-02-04",{"$f":"SUMIF(Icvome!D:D,B105,Icvome!E:E)+SUMIF(Sales!B:B,B105,Sales!D:D)","v":0},{"$f":"SUMIF(Expens!B:B,B105,Expens!D:D)","v":0},{"$f":"E104+Table7[[#This Row],[ايرادات]]-Table7[[#This Row],[مصروفات]]","v":2750}]
[105,"2023-02-05",{"$f":"SUMIF(Icvome!D:D,B106,Icvome!E:E)+SUMIF(Sales!B:B,B106,Sales!D:D)","v":0},{"$f":"SUMIF(Expens!B:B,B106,Expens!D:D)","v":0},{"$f":"E105+Table7[[#This Row],[ايرادات]]-Table7[[#This Row],[مصروفات]]","v":2750}]
[106,"2023-02-06",{"$f":"SUMIF(Icvome!D:D,B107,Icvome!E:E)+SUMIF(Sales!B:B,B107,Sales!D:D)","v":0},{"$f":"SUMIF(Expens!B:B,B107,Expens!D:D)","v":0},{"$f":"E106+Table7[[#This Row],[ايرادات]]-Table7[[#This Row],[مصروفات]]","v":2750}]
[107,"2023-02-07",{"$f":"SUMIF(Icvome!D:D,B108,Icvome!E:E)+SUMIF(Sales!B:B,B108,Sales!D:D)","v":0},{"$f":"SUMIF(Expens!B:B,B108,Expens!D:D)","v":0},{"$f":"E107+Table7[[#This Row],[ايرادات]]-Table7[[#This Row],[مصروفات]]","v":2750}]
[108,"2023-02-08",{"$f":"SUMIF(Icvome!D:D,B109,Icvome!E:E)+SUMIF(Sales!B:B,B109,Sales!D:D)","v":0},{"$f":"SUMIF(Expens!B:B,B109,Expens!D:D)","v":0},{"$f":"E108+Table7[[#This Row],[ايرادات]]-Table7[[#This Row],[مصروفات]]","v":2750}]
[109,"2023-02-09",{"$f":"SUMIF(Icvome!D:D,B110,Icvome!E:E)+SUMIF(Sales!B:B,B110,Sales!D:D)","v":0},{"$f":"SUMIF(Expens!B:B,B110,Expens!D:D)","v":0},{"$f":"E109+Table7[[#This Row],[ايرادات]]-Table7[[#This Row],[مصروفات]]","v":2750}]
[110,"2023-02-10",{"$f":"SUMIF(Icvome!D:D,B111,Icvome!E:E)+SUMIF(Sales!B:B,B111,Sales!D:D)","v":0},{"$f":"SUMIF(Expens!B:B,B111,Expens!D:D)","v":0},{"$f":"E110+Table7[[#This Row],[ايرادات]]-Table7[[#This Row],[مصروفات]]","v":2750}]
[111,"2023-02-11",{"$f":"SUMIF(Icvome!D:D,B112,Icvome!E:E)+SUMIF(Sales!B:B,B112,Sales!D:D)","v":0},{"$f":"SUMIF(Expens!B:B,B112,Expens!D:D)","v":0},{"$f":"E111+Table7[[#This Row],[ايرادات]]-Table7[[#This Row],[مصروفات]]","v":2750}]
[112,"2023-02-12",{"$f":"SUMIF(Icvome!D:D,B113,Icvome!E:E)+SUMIF(Sales!B:B,B113,Sales!D:D)","v":0},{"$f":"SUMIF(Expens!B:B,B113,Expens!D:D)","v":0},{"$f":"E112+Table7[[#This Row],[ايرادات]]-Table7[[#This Row],[مصروفات]]","v":2750}]
[113,"2023-02-13",{"$f":"SUMIF(Icvome!D:D,B114,Icvome!E:E)+SUMIF(Sales!B:B,B114,Sales!D:D)","v":0},{"$f":"SUMIF(Expens!B:B,B114,Expens!D:D)","v":0},{"$f":"E113+Table7[[#This Row],[ايرادات]]-Table7[[#This Row],[مصروفات]]","v":2750}]
[114,"2023-02-14",{"$f":"SUMIF(Icvome!D:D,B115,Icvome!E:E)+SUMIF(Sales!B:B,B115,Sales!D:D)","v":0},{"$f":"SUMIF(Expens!B:B,B115,Expens!D:D)","v":0},{"$f":"E114+Table7[[#This Row],[ايرادات]]-Table7[[#This Row],[مصروفات]]","v":2750}]
[115,"2023-02-15",{"$f":"SUMIF(Icvome!D:D,B116,Icvome!E:E)+SUMIF(Sales!B:B,B116,Sales!D:D)","v":0},{"$f":"SUMIF(Expens!B:B,B116,Expens!D:D)","v":0},{"$f":"E115+Table7[[#This Row],[ايرادات]]-Table7[[#This Row],[مصروفات]]","v":2750}]
[116,"2023-02-16",{"$f":"SUMIF(Icvome!D:D,B117,Icvome!E:E)+SUMIF(Sales!B:B,B117,Sales!D:D)","v":0},{"$f":"SUMIF(Expens!B:B,B117,Expens!D:D)","v":0},{"$f":"E116+Table7[[#This Row],[ايرادات]]-Table7[[#This Row],[مصروفات]]","v":2750}]
[117,"2023-02-17",{"$f":"SUMIF(Icvome!D:D,B118,Icvome!E:E)+SUMIF(Sales!B:B,B118,Sales!D:D)","v":0},{"$f":"SUMIF(Expens!B:B,B118,Expens!D:D)","v":0},{"$f":"E117+Table7[[#This Row],[ايرادات]]-Table7[[#This Row],[مصروفات]]","v":2750}]
[118,"2023-02-18",{"$f":"SUMIF(Icvome!D:D,B119,Icvome!E:E)+SUMIF(Sales!B:B,B119,Sales!D:D)","v":0},{"$f":"SUMIF(Expens!B:B,B119,Expens!D:D)","v":0},{"$f":"E118+Table7[[#This Row],[ايرادات]]-Table7[[#This Row],[مصروفات]]","v":2750}]
[119,"2023-02-19",{"$f":"SUMIF(Icvome!D:D,B120,Icvome!E:E)+SUMIF(Sales!B:B,B120,Sales!D:D)","v":0},{"$f":"SUMIF(Expens!B:B,B120,Expens!D:D)","v":0},{"$f":"E119+Table7[[#This Row],[ايرادات]]-Table7[[#This Row],[مصروفات]]","v":2750}]
[120,"2023-02-20",{"$f":"SUMIF(Icvome!D:D,B121,Icvome!E:E)+SUMIF(Sales!B:B,B121,Sales!D:D)","v":0},{"$f":"SUMIF(Expens!B:B,B121,Expens!D:D)","v":0},{"$f":"E120+Table7[[#This Row],[ايرادات]]-Table7[[#This Row],[مصروفات]]","v":2750}]
[121,"2023-02-21",{"$f":"SUMIF(Icvome!D:D,B122,Icvome!E:E)+SUMIF(Sales!B:B,B122,Sales!D:D)","v":0},{"$f":"SUMIF(Expens!B:B,B122,Expens!D:D)","v":0},{"$f":"E121+Table7[[#This Row],[ايرادات]]-Table7[[#This Row],[مصروفات]]","v":2750}]
[122,"2023-02-22",{"$f":"SUMIF(Icvome!D:D,B123,Icvome!E:E)+SUMIF(Sales!B:B,B123,Sales!D:D)","v":0},{"$f":"SUMIF(Expens!B:B,B123,Expens!D:D)","v":0},{"$f":"E122+Table7[[#This Row],[ايرادات]]-Table7[[#This Row],[مصروفات]]","v":2750}]
[123,"2023-02-23",{"$f":"SUMIF(Icvome!D:D,B124,Icvome!E:E)+SUMIF(Sales!B:B,B124,Sales!D:D)","v":0},{"$f":"SUMIF(Expens!B:B,B124,Expens!D:D)","v":0},{"$f":"E123+Table7[[#This Row],[ايرادات]]-Table7[[#This Row],[مصروفات]]","v":2750}]
[124,"2023-02-24",{"$f":"SUMIF(Icvome!D:D,B125,Icvome!E:E)+SUMIF(Sales!B:B,B125,Sales!D:D)","v":0},{"$f":"SUMIF(Expens!B:B,B125,Expens!D:D)","v":0},{"$f":"E124+Table7[[#This Row],[ايرادات]]-Table7[[#This Row],[مصروفات]]","v":2750}]
[125,"2023-02-25",{"$f":"SUMIF(Icvome!D:D,B126,Icvome!E:E)+SUMIF(Sales!B:B,B126,Sales!D:D)","v":0},{"$f":"SUMIF(Expens!B:B,B126,Expens!D:D)","v":0},{"$f":"E125+Table7[[#This Row],[ايرادات]]-Table7[[#This Row],[مصروفات]]","v":2750}]
[126,"2023-02-26",{"$f":"SUMIF(Icvome!D:D,B127,Icvome!E:E)+SUMIF(Sales!B:B,B127,Sales!D:D)","v":0},{"$f":"SUMIF(Expens!B:B,B127,Expens!D:D)","v":0},{"$f":"E126+Table7[[#This Row],[ايرادات]]-Table7[[#This Row],[مصروفات]]","v":2750}]
[127,"2023-02-27",{"$f":"SUMIF(Icvome!D:D,B128,Icvome!E:E)+SUMIF(Sales!B:B,B128,Sales!D:D)","v":0},{"$f":"SUMIF(Expens!B:B,B128,Expens!D:D)","v":0},{"$f":"E127+Table7[[#This Row],[ايرادات]]-Table7[[#This Row],[مصروفات]]","v":2750}]
[128,"2023-02-28",{"$f":"SUMIF(Icvome!D:D,B129,Icvome!E:E)+SUMIF(Sales!B:B,B129,Sales!D:D)","v":0},{"$f":"SUMIF(Expens!B:B,B129,Expens!D:D)","v":0},{"$f":"E128+Table7[[#This Row],[ايرادات]]-Table7[[#This Row],[مصروفات]]","v":2750}]
[129,"2023-03-01",{"$f":"SUMIF(Icvome!D:D,B130,Icvome!E:E)+SUMIF(Sales!B:B,B130,Sales!D:D)","v":0},{"$f":"SUMIF(Expens!B:B,B130,Expens!D:D)","v":0},{"$f":"E129+Table7[[#This Row],[ايرادات]]-Table7[[#This Row],[مصروفات]]","v":2750}]
[130,"2023-03-02",{"$f":"SUMIF(Icvome!D:D,B131,Icvome!E:E)+SUMIF(Sales!B:B,B131,Sales!D:D)","v":0},{"$f":"SUMIF(Expens!B:B,B131,Expens!D:D)","v":0},{"$f":"E130+Table7[[#This Row],[ايرادات]]-Table7[[#This Row],[مصروفات]]","v":2750}]
[131,{"$f":"IF(B131=\"\",\"\",B131+1)","v":"2023-03-03"},{"$f":"SUMIF(Icvome!D:D,B132,Icvome!E:E)+SUMIF(Sales!B:B,B132,Sales!D:D)","v":0},{"$f":"SUMIF(Expens!B:B,B132,Expens!D:D)","v":0},{"$f":"E131+Table7[[#This Row],[ايرادات]]-Table7[[#This Row],[مصروفات]]","v":2750}]
[132,"2023-03-04",{"$f":"SUMIF(Icvome!D:D,B133,Icvome!E:E)+SUMIF(Sales!B:B,B133,Sales!D:D)","v":0},{"$f":"SUMIF(Expens!B:B,B133,Expens!D:D)","v":0},{"$f":"E132+Table7[[#This Row],[ايرادات]]-Table7[[#This Row],[مصروفات]]","v":2750}]
[133,"2023-03-05",{"$f":"SUMIF(Icvome!D:D,B134,Icvome!E:E)+SUMIF(Sales!B:B,B134,Sales!D:D)","v":0},{"$f":"SUMIF(Expens!B:B,B134,Expens!D:D)","v":0},{"$f":"E133+Table7[[#This Row],[ايرادات]]-Table7[[#This Row],[مصروفات]]","v":2750}]
[134,"2023-03-06",{"$f":"SUMIF(Icvome!D:D,B135,Icvome!E:E)+SUMIF(Sales!B:B,B135,Sales!D:D)","v":0},{"$f":"SUMIF(Expens!B:B,B135,Expens!D:D)","v":0},{"$f":"E134+Table7[[#This Row],[ايرادات]]-Table7[[#This Row],[مصروفات]]","v":2750}]
[135,"2023-03-07",{"$f":"SUMIF(Icvome!D:D,B136,Icvome!E:E)+SUMIF(Sales!B:B,B136,Sales!D:D)","v":0},{"$f":"SUMIF(Expens!B:B,B136,Expens!D:D)","v":0},{"$f":"E135+Table7[[#This Row],[ايرادات]]-Table7[[#This Row],[مصروفات]]","v":2750}]
[136,"2023-03-08",{"$f":"SUMIF(Icvome!D:D,B137,Icvome!E:E)+SUMIF(Sales!B:B,B137,Sales!D:D)","v":0},{"$f":"SUMIF(Expens!B:B,B137,Expens!D:D)","v":0},{"$f":"E136+Table7[[#This Row],[ايرادات]]-Table7[[#This Row],[مصروفات]]","v":2750}]
[137,"2023-03-09",{"$f":"SUMIF(Icvome!D:D,B138,Icvome!E:E)+SUMIF(Sales!B:B,B138,Sales!D:D)","v":0},{"$f":"SUMIF(Expens!B:B,B138,Expens!D:D)","v":0},{"$f":"E137+Table7[[#This Row],[ايرادات]]-Table7[[#This Row],[مصروفات]]","v":2750}]
[138,"2023-03-10",{"$f":"SUMIF(Icvome!D:D,B139,Icvome!E:E)+SUMIF(Sales!B:B,B139,Sales!D:D)","v":0},{"$f":"SUMIF(Expens!B:B,B139,Expens!D:D)","v":0},{"$f":"E138+Table7[[#This Row],[ايرادات]]-Table7[[#This Row],[مصروفات]]","v":2750}]
[139,"2023-03-11",{"$f":"SUMIF(Icvome!D:D,B140,Icvome!E:E)+SUMIF(Sales!B:B,B140,Sales!D:D)","v":0},{"$f":"SUMIF(Expens!B:B,B140,Expens!D:D)","v":0},{"$f":"E139+Table7[[#This Row],[ايرادات]]-Table7[[#This Row],[مصروفات]]","v":2750}]
[140,"2023-03-12",{"$f":"SUMIF(Icvome!D:D,B141,Icvome!E:E)+SUMIF(Sales!B:B,B141,Sales!D:D)","v":0},{"$f":"SUMIF(Expens!B:B,B141,Expens!D:D)","v":0},{"$f":"E140+Table7[[#This Row],[ايرادات]]-Table7[[#This Row],[مصروفات]]","v":2750}]
[141,"2023-03-13",{"$f":"SUMIF(Icvome!D:D,B142,Icvome!E:E)+SUMIF(Sales!B:B,B142,Sales!D:D)","v":0},{"$f":"SUMIF(Expens!B:B,B142,Expens!D:D)","v":0},{"$f":"E141+Table7[[#This Row],[ايرادات]]-Table7[[#This Row],[مصروفات]]","v":2750}]
[142,"2023-03-14",{"$f":"SUMIF(Icvome!D:D,B143,Icvome!E:E)+SUMIF(Sales!B:B,B143,Sales!D:D)","v":0},{"$f":"SUMIF(Expens!B:B,B143,Expens!D:D)","v":0},{"$f":"E142+Table7[[#This Row],[ايرادات]]-Table7[[#This Row],[مصروفات]]","v":2750}]
[143,"2023-03-15",{"$f":"SUMIF(Icvome!D:D,B144,Icvome!E:E)+SUMIF(Sales!B:B,B144,Sales!D:D)","v":0},{"$f":"SUMIF(Expens!B:B,B144,Expens!D:D)","v":0},{"$f":"E143+Table7[[#This Row],[ايرادات]]-Table7[[#This Row],[مصروفات]]","v":2750}]
[144,"2023-03-16",{"$f":"SUMIF(Icvome!D:D,B145,Icvome!E:E)+SUMIF(Sales!B:B,B145,Sales!D:D)","v":0},{"$f":"SUMIF(Expens!B:B,B145,Expens!D:D)","v":0},{"$f":"E144+Table7[[#This Row],[ايرادات]]-Table7[[#This Row],[مصروفات]]","v":2750}]
[145,"2023-03-17",{"$f":"SUMIF(Icvome!D:D,B146,Icvome!E:E)+SUMIF(Sales!B:B,B146,Sales!D:D)","v":0},{"$f":"SUMIF(Expens!B:B,B146,Expens!D:D)","v":0},{"$f":"E145+Table7[[#This Row],[ايرادات]]-Table7[[#This Row],[مصروفات]]","v":2750}]
[146,"2023-03-18",{"$f":"SUMIF(Icvome!D:D,B147,Icvome!E:E)+SUMIF(Sales!B:B,B147,Sales!D:D)","v":0},{"$f":"SUMIF(Expens!B:B,B147,Expens!D:D)","v":0},{"$f":"E146+Table7[[#This Row],[ايرادات]]-Table7[[#This Row],[مصروفات]]","v":2750}]
[147,"2023-03-19",{"$f":"SUMIF(Icvome!D:D,B148,Icvome!E:E)+SUMIF(Sales!B:B,B148,Sales!D:D)","v":0},{"$f":"SUMIF(Expens!B:B,B148,Expens!D:D)","v":0},{"$f":"E147+Table7[[#This Row],[ايرادات]]-Table7[[#This Row],[مصروفات]]","v":2750}]
[148,"2023-03-20",{"$f":"SUMIF(Icvome!D:D,B149,Icvome!E:E)+SUMIF(Sales!B:B,B149,Sales!D:D)","v":0},{"$f":"SUMIF(Expens!B:B,B149,Expens!D:D)","v":0},{"$f":"E148+Table7[[#This Row],[ايرادات]]-Table7[[#This Row],[مصروفات]]","v":2750}]
[149,"2023-03-21",{"$f":"SUMIF(Icvome!D:D,B150,Icvome!E:E)+SUMIF(Sales!B:B,B150,Sales!D:D)","v":0},{"$f":"SUMIF(Expens!B:B,B150,Expens!D:D)","v":0},{"$f":"E149+Table7[[#This Row],[ايرادات]]-Table7[[#This Row],[مصروفات]]","v":2750}]
[150,"2023-03-22",{"$f":"SUMIF(Icvome!D:D,B151,Icvome!E:E)+SUMIF(Sales!B:B,B151,Sales!D:D)","v":0},{"$f":"SUMIF(Expens!B:B,B151,Expens!D:D)","v":0},{"$f":"E150+Table7[[#This Row],[ايرادات]]-Table7[[#This Row],[مصروفات]]","v":2750}]
[151,"2023-03-23",{"$f":"SUMIF(Icvome!D:D,B152,Icvome!E:E)+SUMIF(Sales!B:B,B152,Sales!D:D)","v":0},{"$f":"SUMIF(Expens!B:B,B152,Expens!D:D)","v":0},{"$f":"E151+Table7[[#This Row],[ايرادات]]-Table7[[#This Row],[مصروفات]]","v":2750}]
[152,"2023-03-24",{"$f":"SUMIF(Icvome!D:D,B153,Icvome!E:E)+SUMIF(Sales!B:B,B153,Sales!D:D)","v":0},{"$f":"SUMIF(Expens!B:B,B153,Expens!D:D)","v":0},{"$f":"E152+Table7[[#This Row],[ايرادات]]-Table7[[#This Row],[مصروفات]]","v":2750}]
[153,"2023-03-25",{"$f":"SUMIF(Icvome!D:D,B154,Icvome!E:E)+SUMIF(Sales!B:B,B154,Sales!D:D)","v":0},{"$f":"SUMIF(Expens!B:B,B154,Expens!D:D)","v":0},{"$f":"E153+Table7[[#This Row],[ايرادات]]-Table7[[#This Row],[مصروفات]]","v":2750}]
[154,"2023-03-26",{"$f":"SUMIF(Icvome!D:D,B155,Icvome!E:E)+SUMIF(Sales!B:B,B155,Sales!D:D)","v":0},{"$f":"SUMIF(Expens!B:B,B155,Expens!D:D)","v":0},{"$f":"E154+Table7[[#This Row],[ايرادات]]-Table7[[#This Row],[مصروفات]]","v":2750}]
[155,"2023-03-27",{"$f":"SUMIF(Icvome!D:D,B156,Icvome!E:E)+SUMIF(Sales!B:B,B156,Sales!D:D)","v":0},{"$f":"SUMIF(Expens!B:B,B156,Expens!D:D)","v":0},{"$f":"E155+Table7[[#This Row],[ايرادات]]-Table7[[#This Row],[مصروفات]]","v":2750}]
[156,"2023-03-28",{"$f":"SUMIF(Icvome!D:D,B157,Icvome!E:E)+SUMIF(Sales!B:B,B157,Sales!D:D)","v":0},{"$f":"SUMIF(Expens!B:B,B157,Expens!D:D)","v":0},{"$f":"E156+Table7[[#This Row],[ايرادات]]-Table7[[#This Row],[مصروفات]]","v":2750}]
[157,"2023-03-29",{"$f":"SUMIF(Icvome!D:D,B158,Icvome!E:E)+SUMIF(Sales!B:B,B158,Sales!D:D)","v":0},{"$f":"SUMIF(Expens!B:B,B158,Expens!D:D)","v":0},{"$f":"E157+Table7[[#This Row],[ايرادات]]-Table7[[#This Row],[مصروفات]]","v":2750}]
[158,"2023-03-30",{"$f":"SUMIF(Icvome!D:D,B159,Icvome!E:E)+SUMIF(Sales!B:B,B159,Sales!D:D)","v":0},{"$f":"SUMIF(Expens!B:B,B159,Expens!D:D)","v":0},{"$f":"E158+Table7[[#This Row],[ايرادات]]-Table7[[#This Row],[مصروفات]]","v":2750}]
[159,"2023-03-31",{"$f":"SUMIF(Icvome!D:D,B160,Icvome!E:E)+SUMIF(Sales!B:B,B160,Sales!D:D)","v":0},{"$f":"SUMIF(Expens!B:B,B160,Expens!D:D)","v":0},{"$f":"E159+Table7[[#This Row],[ايرادات]]-Table7[[#This Row],[مصروفات]]","v":2750}]
[160,"2023-04-01",{"$f":"SUMIF(Icvome!D:D,B161,Icvome!E:E)+SUMIF(Sales!B:B,B161,Sales!D:D)","v":0},{"$f":"SUMIF(Expens!B:B,B161,Expens!D:D)","v":0},{"$f":"E160+Table7[[#This Row],[ايرادات]]-Table7[[#This Row],[مصروفات]]","v":2750}]
[161,"2023-04-02",{"$f":"SUMIF(Icvome!D:D,B162,Icvome!E:E)+SUMIF(Sales!B:B,B162,Sales!D:D)","v":0},{"$f":"SUMIF(Expens!B:B,B162,Expens!D:D)","v":0},{"$f":"E161+Table7[[#This Row],[ايرادات]]-Table7[[#This Row],[مصروفات]]","v":2750}]
[162,"2023-04-03",{"$f":"SUMIF(Icvome!D:D,B163,Icvome!E:E)+SUMIF(Sales!B:B,B163,Sales!D:D)","v":0},{"$f":"SUMIF(Expens!B:B,B163,Expens!D:D)","v":0},{"$f":"E162+Table7[[#This Row],[ايرادات]]-Table7[[#This Row],[مصروفات]]","v":2750}]
[163,"2023-04-04",{"$f":"SUMIF(Icvome!D:D,B164,Icvome!E:E)+SUMIF(Sales!B:B,B164,Sales!D:D)","v":0},{"$f":"SUMIF(Expens!B:B,B164,Expens!D:D)","v":0},{"$f":"E163+Table7[[#This Row],[ايرادات]]-Table7[[#This Row],[مصروفات]]","v":2750}]
[164,"2023-04-05",{"$f":"SUMIF(Icvome!D:D,B165,Icvome!E:E)+SUMIF(Sales!B:B,B165,Sales!D:D)","v":0},{"$f":"SUMIF(Expens!B:B,B165,Expens!D:D)","v":0},{"$f":"E164+Table7[[#This Row],[ايرادات]]-Table7[[#This Row],[مصروفات]]","v":2750}]
[165,"2023-04-06",{"$f":"SUMIF(Icvome!D:D,B166,Icvome!E:E)+SUMIF(Sales!B:B,B166,Sales!D:D)","v":0},{"$f":"SUMIF(Expens!B:B,B166,Expens!D:D)","v":0},{"$f":"E165+Table7[[#This Row],[ايرادات]]-Table7[[#This Row],[مصروفات]]","v":2750}]
[166,"2023-04-07",{"$f":"SUMIF(Icvome!D:D,B167,Icvome!E:E)+SUMIF(Sales!B:B,B167,Sales!D:D)","v":0},{"$f":"SUMIF(Expens!B:B,B167,Expens!D:D)","v":0},{"$f":"E166+Table7[[#This Row],[ايرادات]]-Table7[[#This Row],[مصروفات]]","v":2750}]
[167,"2023-04-08",{"$f":"SUMIF(Icvome!D:D,B168,Icvome!E:E)+SUMIF(Sales!B:B,B168,Sales!D:D)","v":0},{"$f":"SUMIF(Expens!B:B,B168,Expens!D:D)","v":0},{"$f":"E167+Table7[[#This Row],[ايرادات]]-Table7[[#This Row],[مصروفات]]","v":2750}]
[168,"2023-04-09",{"$f":"SUMIF(Icvome!D:D,B169,Icvome!E:E)+SUMIF(Sales!B:B,B169,Sales!D:D)","v":0},{"$f":"SUMIF(Expens!B:B,B169,Expens!D:D)","v":0},{"$f":"E168+Table7[[#This Row],[ايرادات]]-Table7[[#This Row],[مصروفات]]","v":2750}]
[169,"2023-04-10",{"$f":"SUMIF(Icvome!D:D,B170,Icvome!E:E)+SUMIF(Sales!B:B,B170,Sales!D:D)","v":0},{"$f":"SUMIF(Expens!B:B,B170,Expens!D:D)","v":0},{"$f":"E169+Table7[[#This Row],[ايرادات]]-Table7[[#This Row],[مصروفات]]","v":2750}]
[170,"2023-04-11",{"$f":"SUMIF(Icvome!D:D,B171,Icvome!E:E)+SUMIF(Sales!B:B,B171,Sales!D:D)","v":0},{"$f":"SUMIF(Expens!B:B,B171,Expens!D:D)","v":0},{"$f":"E170+Table7[[#This Row],[ايرادات]]-Table7[[#This Row],[مصروفات]]","v":2750}]
[171,"2023-04-12",{"$f":"SUMIF(Icvome!D:D,B172,Icvome!E:E)+SUMIF(Sales!B:B,B172,Sales!D:D)","v":0},{"$f":"SUMIF(Expens!B:B,B172,Expens!D:D)","v":0},{"$f":"E171+Table7[[#This Row],[ايرادات]]-Table7[[#This Row],[مصروفات]]","v":2750}]
[172,"2023-04-13",{"$f":"SUMIF(Icvome!D:D,B173,Icvome!E:E)+SUMIF(Sales!B:B,B173,Sales!D:D)","v":0},{"$f":"SUMIF(Expens!B:B,B173,Expens!D:D)","v":0},{"$f":"E172+Table7[[#This Row],[ايرادات]]-Table7[[#This Row],[مصروفات]]","v":2750}]
[173,"2023-04-14",{"$f":"SUMIF(Icvome!D:D,B174,Icvome!E:E)+SUMIF(Sales!B:B,B174,Sales!D:D)","v":0},{"$f":"SUMIF(Expens!B:B,B174,Expens!D:D)","v":0},{"$f":"E173+Table7[[#This Row],[ايرادات]]-Table7[[#This Row],[مصروفات]]","v":2750}]
[174,"2023-04-15",{"$f":"SUMIF(Icvome!D:D,B175,Icvome!E:E)+SUMIF(Sales!B:B,B175,Sales!D:D)","v":0},{"$f":"SUMIF(Expens!B:B,B175,Expens!D:D)","v":0},{"$f":"E174+Table7[[#This Row],[ايرادات]]-Table7[[#This Row],[مصروفات]]","v":2750}]
[175,"2023-04-16",{"$f":"SUMIF(Icvome!D:D,B176,Icvome!E:E)+SUMIF(Sales!B:B,B176,Sales!D:D)","v":0},{"$f":"SUMIF(Expens!B:B,B176,Expens!D:D)","v":0},{"$f":"E175+Table7[[#This Row],[ايرادات]]-Table7[[#This Row],[مصروفات]]","v":2750}]
[176,"2023-04-17",{"$f":"SUMIF(Icvome!D:D,B177,Icvome!E:E)+SUMIF(Sales!B:B,B177,Sales!D:D)","v":0},{"$f":"SUMIF(Expens!B:B,B177,Expens!D:D)","v":0},{"$f":"E176+Table7[[#This Row],[ايرادات]]-Table7[[#This Row],[مصروفات]]","v":2750}]
[177,"2023-04-18",{"$f":"SUMIF(Icvome!D:D,B178,Icvome!E:E)+SUMIF(Sales!B:B,B178,Sales!D:D)","v":0},{"$f":"SUMIF(Expens!B:B,B178,Expens!D:D)","v":0},{"$f":"E177+Table7[[#This Row],[ايرادات]]-Table7[[#This Row],[مصروفات]]","v":2750}]
[178,"2023-04-19",{"$f":"SUMIF(Icvome!D:D,B179,Icvome!E:E)+SUMIF(Sales!B:B,B179,Sales!D:D)","v":0},{"$f":"SUMIF(Expens!B:B,B179,Expens!D:D)","v":0},{"$f":"E178+Table7[[#This Row],[ايرادات]]-Table7[[#This Row],[مصروفات]]","v":2750}]
[179,"2023-04-20",{"$f":"SUMIF(Icvome!D:D,B180,Icvome!E:E)+SUMIF(Sales!B:B,B180,Sales!D:D)","v":0},{"$f":"SUMIF(Expens!B:B,B180,Expens!D:D)","v":0},{"$f":"E179+Table7[[#This Row],[ايرادات]]-Table7[[#This Row],[مصروفات]]","v":2750}]
[180,"2023-04-21",{"$f":"SUMIF(Icvome!D:D,B181,Icvome!E:E)+SUMIF(Sales!B:B,B181,Sales!D:D)","v":0},{"$f":"SUMIF(Expens!B:B,B181,Expens!D:D)","v":0},{"$f":"E180+Table7[[#This Row],[ايرادات]]-Table7[[#This Row],[مصروفات]]","v":2750}]
[181,"2023-04-22",{"$f":"SUMIF(Icvome!D:D,B182,Icvome!E:E)+SUMIF(Sales!B:B,B182,Sales!D:D)","v":0},{"$f":"SUMIF(Expens!B:B,B182,Expens!D:D)","v":0},{"$f":"E181+Table7[[#This Row],[ايرادات]]-Table7[[#This Row],[مصروفات]]","v":2750}]
[182,"2023-04-23",{"$f":"SUMIF(Icvome!D:D,B183,Icvome!E:E)+SUMIF(Sales!B:B,B183,Sales!D:D)","v":0},{"$f":"SUMIF(Expens!B:B,B183,Expens!D:D)","v":0},{"$f":"E182+Table7[[#This Row],[ايرادات]]-Table7[[#This Row],[مصروفات]]","v":2750}]
[183,"2023-04-24",{"$f":"SUMIF(Icvome!D:D,B184,Icvome!E:E)+SUMIF(Sales!B:B,B184,Sales!D:D)","v":0},{"$f":"SUMIF(Expens!B:B,B184,Expens!D:D)","v":0},{"$f":"E183+Table7[[#This Row],[ايرادات]]-Table7[[#This Row],[مصروفات]]","v":2750}]
[184,"2023-04-25",{"$f":"SUMIF(Icvome!D:D,B185,Icvome!E:E)+SUMIF(Sales!B:B,B185,Sales!D:D)","v":0},{"$f":"SUMIF(Expens!B:B,B185,Expens!D:D)","v":0},{"$f":"E184+Table7[[#This Row],[ايرادات]]-Table7[[#This Row],[مصروفات]]","v":2750}]
[185,"2023-04-26",{"$f":"SUMIF(Icvome!D:D,B186,Icvome!E:E)+SUMIF(Sales!B:B,B186,Sales!D:D)","v":0},{"$f":"SUMIF(Expens!B:B,B186,Expens!D:D)","v":0},{"$f":"E185+Table7[[#This Row],[ايرادات]]-Table7[[#This Row],[مصروفات]]","v":2750}]
[186,"2023-04-27",{"$f":"SUMIF(Icvome!D:D,B187,Icvome!E:E)+SUMIF(Sales!B:B,B187,Sales!D:D)","v":0},{"$f":"SUMIF(Expens!B:B,B187,Expens!D:D)","v":0},{"$f":"E186+Table7[[#This Row],[ايرادات]]-Table7[[#This Row],[مصروفات]]","v":2750}]
[187,"2023-04-28",{"$f":"SUMIF(Icvome!D:D,B188,Icvome!E:E)+SUMIF(Sales!B:B,B188,Sales!D:D)","v":0},{"$f":"SUMIF(Expens!B:B,B188,Expens!D:D)","v":0},{"$f":"E187+Table7[[#This Row],[ايرادات]]-Table7[[#This Row],[مصروفات]]","v":2750}]
[188,"2023-04-29",{"$f":"SUMIF(Icvome!D:D,B189,Icvome!E:E)+SUMIF(Sales!B:B,B189,Sales!D:D)","v":0},{"$f":"SUMIF(Expens!B:B,B189,Expens!D:D)","v":0},{"$f":"E188+Table7[[#This Row],[ايرادات]]-Table7[[#This Row],[مصروفات]]","v":2750}]
[189,"2023-04-30",{"$f":"SUMIF(Icvome!D:D,B190,Icvome!E:E)+SUMIF(Sales!B:B,B190,Sales!D:D)","v":0},{"$f":"SUMIF(Expens!B:B,B190,Expens!D:D)","v":0},{"$f":"E189+Table7[[#This Row],[ايرادات]]-Table7[[#This Row],[مصروفات]]","v":2750}]
[190,"2023-05-01",{"$f":"SUMIF(Icvome!D:D,B191,Icvome!E:E)+SUMIF(Sales!B:B,B191,Sales!D:D)","v":0},{"$f":"SUMIF(Expens!B:B,B191,Expens!D:D)","v":0},{"$f":"E190+Table7[[#This Row],[ايرادات]]-Table7[[#This Row],[مصروفات]]","v":2750}]
[191,"2023-05-02",{"$f":"SUMIF(Icvome!D:D,B192,Icvome!E:E)+SUMIF(Sales!B:B,B192,Sales!D:D)","v":0},{"$f":"SUMIF(Expens!B:B,B192,Expens!D:D)","v":0},{"$f":"E191+Table7[[#This Row],[ايرادات]]-Table7[[#This Row],[مصروفات]]","v":2750}]
[192,"2023-05-03",{"$f":"SUMIF(Icvome!D:D,B193,Icvome!E:E)+SUMIF(Sales!B:B,B193,Sales!D:D)","v":0},{"$f":"SUMIF(Expens!B:B,B193,Expens!D:D)","v":0},{"$f":"E192+Table7[[#This Row],[ايرادات]]-Table7[[#This Row],[مصروفات]]","v":2750}]
[193,"2023-05-04",{"$f":"SUMIF(Icvome!D:D,B194,Icvome!E:E)+SUMIF(Sales!B:B,B194,Sales!D:D)","v":0},{"$f":"SUMIF(Expens!B:B,B194,Expens!D:D)","v":0},{"$f":"E193+Table7[[#This Row],[ايرادات]]-Table7[[#This Row],[مصروفات]]","v":2750}]
[194,"2023-05-05",{"$f":"SUMIF(Icvome!D:D,B195,Icvome!E:E)+SUMIF(Sales!B:B,B195,Sales!D:D)","v":0},{"$f":"SUMIF(Expens!B:B,B195,Expens!D:D)","v":0},{"$f":"E194+Table7[[#This Row],[ايرادات]]-Table7[[#This Row],[مصروفات]]","v":2750}]
[195,{"$f":"IF(B195=\"\",\"\",B195+1)","v":"2023-05-06"},{"$f":"SUMIF(Icvome!D:D,B196,Icvome!E:E)+SUMIF(Sales!B:B,B196,Sales!D:D)","v":0},{"$f":"SUMIF(Expens!B:B,B196,Expens!D:D)","v":0},{"$f":"E195+Table7[[#This Row],[ايرادات]]-Table7[[#This Row],[مصروفات]]","v":2750}]
[196,"2023-05-07",{"$f":"SUMIF(Icvome!D:D,B197,Icvome!E:E)+SUMIF(Sales!B:B,B197,Sales!D:D)","v":0},{"$f":"SUMIF(Expens!B:B,B197,Expens!D:D)","v":0},{"$f":"E196+Table7[[#This Row],[ايرادات]]-Table7[[#This Row],[مصروفات]]","v":2750}]
[197,"2023-05-08",{"$f":"SUMIF(Icvome!D:D,B198,Icvome!E:E)+SUMIF(Sales!B:B,B198,Sales!D:D)","v":0},{"$f":"SUMIF(Expens!B:B,B198,Expens!D:D)","v":0},{"$f":"E197+Table7[[#This Row],[ايرادات]]-Table7[[#This Row],[مصروفات]]","v":2750}]
[198,"2023-05-09",{"$f":"SUMIF(Icvome!D:D,B199,Icvome!E:E)+SUMIF(Sales!B:B,B199,Sales!D:D)","v":0},{"$f":"SUMIF(Expens!B:B,B199,Expens!D:D)","v":0},{"$f":"E198+Table7[[#This Row],[ايرادات]]-Table7[[#This Row],[مصروفات]]","v":2750}]
[199,"2023-05-10",{"$f":"SUMIF(Icvome!D:D,B200,Icvome!E:E)+SUMIF(Sales!B:B,B200,Sales!D:D)","v":0},{"$f":"SUMIF(Expens!B:B,B200,Expens!D:D)","v":0},{"$f":"E199+Table7[[#This Row],[ايرادات]]-Table7[[#This Row],[مصروفات]]","v":2750}]
[200,"2023-05-11",{"$f":"SUMIF(Icvome!D:D,B201,Icvome!E:E)+SUMIF(Sales!B:B,B201,Sales!D:D)","v":0},{"$f":"SUMIF(Expens!B:B,B201,Expens!D:D)","v":0},{"$f":"E200+Table7[[#This Row],[ايرادات]]-Table7[[#This Row],[مصروفات]]","v":2750}]
[201,"2023-05-12",{"$f":"SUMIF(Icvome!D:D,B202,Icvome!E:E)+SUMIF(Sales!B:B,B202,Sales!D:D)","v":0},{"$f":"SUMIF(Expens!B:B,B202,Expens!D:D)","v":0},{"$f":"E201+Table7[[#This Row],[ايرادات]]-Table7[[#This Row],[مصروفات]]","v":2750}]
[202,"2023-05-13",{"$f":"SUMIF(Icvome!D:D,B203,Icvome!E:E)+SUMIF(Sales!B:B,B203,Sales!D:D)","v":0},{"$f":"SUMIF(Expens!B:B,B203,Expens!D:D)","v":0},{"$f":"E202+Table7[[#This Row],[ايرادات]]-Table7[[#This Row],[مصروفات]]","v":2750}]
[203,"2023-05-14",{"$f":"SUMIF(Icvome!D:D,B204,Icvome!E:E)+SUMIF(Sales!B:B,B204,Sales!D:D)","v":0},{"$f":"SUMIF(Expens!B:B,B204,Expens!D:D)","v":0},{"$f":"E203+Table7[[#This Row],[ايرادات]]-Table7[[#This Row],[مصروفات]]","v":2750}]
[204,"2023-05-15",{"$f":"SUMIF(Icvome!D:D,B205,Icvome!E:E)+SUMIF(Sales!B:B,B205,Sales!D:D)","v":0},{"$f":"SUMIF(Expens!B:B,B205,Expens!D:D)","v":0},{"$f":"E204+Table7[[#This Row],[ايرادات]]-Table7[[#This Row],[مصروفات]]","v":2750}]
[205,"2023-05-16",{"$f":"SUMIF(Icvome!D:D,B206,Icvome!E:E)+SUMIF(Sales!B:B,B206,Sales!D:D)","v":0},{"$f":"SUMIF(Expens!B:B,B206,Expens!D:D)","v":0},{"$f":"E205+Table7[[#This Row],[ايرادات]]-Table7[[#This Row],[مصروفات]]","v":2750}]
[206,"2023-05-17",{"$f":"SUMIF(Icvome!D:D,B207,Icvome!E:E)+SUMIF(Sales!B:B,B207,Sales!D:D)","v":0},{"$f":"SUMIF(Expens!B:B,B207,Expens!D:D)","v":0},{"$f":"E206+Table7[[#This Row],[ايرادات]]-Table7[[#This Row],[مصروفات]]","v":2750}]
[207,"2023-05-18",{"$f":"SUMIF(Icvome!D:D,B208,Icvome!E:E)+SUMIF(Sales!B:B,B208,Sales!D:D)","v":0},{"$f":"SUMIF(Expens!B:B,B208,Expens!D:D)","v":0},{"$f":"E207+Table7[[#This Row],[ايرادات]]-Table7[[#This Row],[مصروفات]]","v":2750}]
[208,"2023-05-19",{"$f":"SUMIF(Icvome!D:D,B209,Icvome!E:E)+SUMIF(Sales!B:B,B209,Sales!D:D)","v":0},{"$f":"SUMIF(Expens!B:B,B209,Expens!D:D)","v":0},{"$f":"E208+Table7[[#This Row],[ايرادات]]-Table7[[#This Row],[مصروفات]]","v":2750}]
[209,"2023-05-20",{"$f":"SUMIF(Icvome!D:D,B210,Icvome!E:E)+SUMIF(Sales!B:B,B210,Sales!D:D)","v":0},{"$f":"SUMIF(Expens!B:B,B210,Expens!D:D)","v":0},{"$f":"E209+Table7[[#This Row],[ايرادات]]-Table7[[#This Row],[مصروفات]]","v":2750}]
[210,"2023-05-21",{"$f":"SUMIF(Icvome!D:D,B211,Icvome!E:E)+SUMIF(Sales!B:B,B211,Sales!D:D)","v":0},{"$f":"SUMIF(Expens!B:B,B211,Expens!D:D)","v":0},{"$f":"E210+Table7[[#This Row],[ايرادات]]-Table7[[#This Row],[مصروفات]]","v":2750}]
[211,"2023-05-22",{"$f":"SUMIF(Icvome!D:D,B212,Icvome!E:E)+SUMIF(Sales!B:B,B212,Sales!D:D)","v":0},{"$f":"SUMIF(Expens!B:B,B212,Expens!D:D)","v":0},{"$f":"E211+Table7[[#This Row],[ايرادات]]-Table7[[#This Row],[مصروفات]]","v":2750}]
[212,"2023-05-23",{"$f":"SUMIF(Icvome!D:D,B213,Icvome!E:E)+SUMIF(Sales!B:B,B213,Sales!D:D)","v":0},{"$f":"SUMIF(Expens!B:B,B213,Expens!D:D)","v":0},{"$f":"E212+Table7[[#This Row],[ايرادات]]-Table7[[#This Row],[مصروفات]]","v":2750}]
[213,"2023-05-24",{"$f":"SUMIF(Icvome!D:D,B214,Icvome!E:E)+SUMIF(Sales!B:B,B214,Sales!D:D)","v":0},{"$f":"SUMIF(Expens!B:B,B214,Expens!D:D)","v":0},{"$f":"E213+Table7[[#This Row],[ايرادات]]-Table7[[#This Row],[مصروفات]]","v":2750}]
[214,"2023-05-25",{"$f":"SUMIF(Icvome!D:D,B215,Icvome!E:E)+SUMIF(Sales!B:B,B215,Sales!D:D)","v":0},{"$f":"SUMIF(Expens!B:B,B215,Expens!D:D)","v":0},{"$f":"E214+Table7[[#This Row],[ايرادات]]-Table7[[#This Row],[مصروفات]]","v":2750}]
[215,"2023-05-26",{"$f":"SUMIF(Icvome!D:D,B216,Icvome!E:E)+SUMIF(Sales!B:B,B216,Sales!D:D)","v":0},{"$f":"SUMIF(Expens!B:B,B216,Expens!D:D)","v":0},{"$f":"E215+Table7[[#This Row],[ايرادات]]-Table7[[#This Row],[مصروفات]]","v":2750}]
[216,"2023-05-27",{"$f":"SUMIF(Icvome!D:D,B217,Icvome!E:E)+SUMIF(Sales!B:B,B217,Sales!D:D)","v":0},{"$f":"SUMIF(Expens!B:B,B217,Expens!D:D)","v":0},{"$f":"E216+Table7[[#This Row],[ايرادات]]-Table7[[#This Row],[مصروفات]]","v":2750}]
[217,"2023-05-28",{"$f":"SUMIF(Icvome!D:D,B218,Icvome!E:E)+SUMIF(Sales!B:B,B218,Sales!D:D)","v":0},{"$f":"SUMIF(Expens!B:B,B218,Expens!D:D)","v":0},{"$f":"E217+Table7[[#This Row],[ايرادات]]-Table7[[#This Row],[مصروفات]]","v":2750}]
[218,"2023-05-29",{"$f":"SUMIF(Icvome!D:D,B219,Icvome!E:E)+SUMIF(Sales!B:B,B219,Sales!D:D)","v":0},{"$f":"SUMIF(Expens!B:B,B219,Expens!D:D)","v":0},{"$f":"E218+Table7[[#This Row],[ايرادات]]-Table7[[#This Row],[مصروفات]]","v":2750}]
[219,"2023-05-30",{"$f":"SUMIF(Icvome!D:D,B220,Icvome!E:E)+SUMIF(Sales!B:B,B220,Sales!D:D)","v":0},{"$f":"SUMIF(Expens!B:B,B220,Expens!D:D)","v":0},{"$f":"E219+Table7[[#This Row],[ايرادات]]-Table7[[#This Row],[مصروفات]]","v":2750}]
[220,"2023-05-31",{"$f":"SUMIF(Icvome!D:D,B221,Icvome!E:E)+SUMIF(Sales!B:B,B221,Sales!D:D)","v":0},{"$f":"SUMIF(Expens!B:B,B221,Expens!D:D)","v":0},{"$f":"E220+Table7[[#This Row],[ايرادات]]-Table7[[#This Row],[مصروفات]]","v":2750}]
[221,"2023-06-01",{"$f":"SUMIF(Icvome!D:D,B222,Icvome!E:E)+SUMIF(Sales!B:B,B222,Sales!D:D)","v":0},{"$f":"SUMIF(Expens!B:B,B222,Expens!D:D)","v":0},{"$f":"E221+Table7[[#This Row],[ايرادات]]-Table7[[#This Row],[مصروفات]]","v":2750}]
[222,"2023-06-02",{"$f":"SUMIF(Icvome!D:D,B223,Icvome!E:E)+SUMIF(Sales!B:B,B223,Sales!D:D)","v":0},{"$f":"SUMIF(Expens!B:B,B223,Expens!D:D)","v":0},{"$f":"E222+Table7[[#This Row],[ايرادات]]-Table7[[#This Row],[مصروفات]]","v":2750}]
[223,"2023-06-03",{"$f":"SUMIF(Icvome!D:D,B224,Icvome!E:E)+SUMIF(Sales!B:B,B224,Sales!D:D)","v":0},{"$f":"SUMIF(Expens!B:B,B224,Expens!D:D)","v":0},{"$f":"E223+Table7[[#This Row],[ايرادات]]-Table7[[#This Row],[مصروفات]]","v":2750}]
[224,"2023-06-04",{"$f":"SUMIF(Icvome!D:D,B225,Icvome!E:E)+SUMIF(Sales!B:B,B225,Sales!D:D)","v":0},{"$f":"SUMIF(Expens!B:B,B225,Expens!D:D)","v":0},{"$f":"E224+Table7[[#This Row],[ايرادات]]-Table7[[#This Row],[مصروفات]]","v":2750}]
[225,"2023-06-05",{"$f":"SUMIF(Icvome!D:D,B226,Icvome!E:E)+SUMIF(Sales!B:B,B226,Sales!D:D)","v":0},{"$f":"SUMIF(Expens!B:B,B226,Expens!D:D)","v":0},{"$f":"E225+Table7[[#This Row],[ايرادات]]-Table7[[#This Row],[مصروفات]]","v":2750}]
[226,"2023-06-06",{"$f":"SUMIF(Icvome!D:D,B227,Icvome!E:E)+SUMIF(Sales!B:B,B227,Sales!D:D)","v":0},{"$f":"SUMIF(Expens!B:B,B227,Expens!D:D)","v":0},{"$f":"E226+Table7[[#This Row],[ايرادات]]-Table7[[#This Row],[مصروفات]]","v":2750}]
[227,"2023-06-07",{"$f":"SUMIF(Icvome!D:D,B228,Icvome!E:E)+SUMIF(Sales!B:B,B228,Sales!D:D)","v":0},{"$f":"SUMIF(Expens!B:B,B228,Expens!D:D)","v":0},{"$f":"E227+Table7[[#This Row],[ايرادات]]-Table7[[#This Row],[مصروفات]]","v":2750}]
[228,"2023-06-08",{"$f":"SUMIF(Icvome!D:D,B229,Icvome!E:E)+SUMIF(Sales!B:B,B229,Sales!D:D)","v":0},{"$f":"SUMIF(Expens!B:B,B229,Expens!D:D)","v":0},{"$f":"E228+Table7[[#This Row],[ايرادات]]-Table7[[#This Row],[مصروفات]]","v":2750}]
[229,"2023-06-09",{"$f":"SUMIF(Icvome!D:D,B230,Icvome!E:E)+SUMIF(Sales!B:B,B230,Sales!D:D)","v":0},{"$f":"SUMIF(Expens!B:B,B230,Expens!D:D)","v":0},{"$f":"E229+Table7[[#This Row],[ايرادات]]-Table7[[#This Row],[مصروفات]]","v":2750}]
[230,"2023-06-10",{"$f":"SUMIF(Icvome!D:D,B231,Icvome!E:E)+SUMIF(Sales!B:B,B231,Sales!D:D)","v":0},{"$f":"SUMIF(Expens!B:B,B231,Expens!D:D)","v":0},{"$f":"E230+Table7[[#This Row],[ايرادات]]-Table7[[#This Row],[مصروفات]]","v":2750}]
[231,"2023-06-11",{"$f":"SUMIF(Icvome!D:D,B232,Icvome!E:E)+SUMIF(Sales!B:B,B232,Sales!D:D)","v":0},{"$f":"SUMIF(Expens!B:B,B232,Expens!D:D)","v":0},{"$f":"E231+Table7[[#This Row],[ايرادات]]-Table7[[#This Row],[مصروفات]]","v":2750}]
[232,"2023-06-12",{"$f":"SUMIF(Icvome!D:D,B233,Icvome!E:E)+SUMIF(Sales!B:B,B233,Sales!D:D)","v":0},{"$f":"SUMIF(Expens!B:B,B233,Expens!D:D)","v":0},{"$f":"E232+Table7[[#This Row],[ايرادات]]-Table7[[#This Row],[مصروفات]]","v":2750}]
[233,"2023-06-13",{"$f":"SUMIF(Icvome!D:D,B234,Icvome!E:E)+SUMIF(Sales!B:B,B234,Sales!D:D)","v":0},{"$f":"SUMIF(Expens!B:B,B234,Expens!D:D)","v":0},{"$f":"E233+Table7[[#This Row],[ايرادات]]-Table7[[#This Row],[مصروفات]]","v":2750}]
[234,"2023-06-14",{"$f":"SUMIF(Icvome!D:D,B235,Icvome!E:E)+SUMIF(Sales!B:B,B235,Sales!D:D)","v":0},{"$f":"SUMIF(Expens!B:B,B235,Expens!D:D)","v":0},{"$f":"E234+Table7[[#This Row],[ايرادات]]-Table7[[#This Row],[مصروفات]]","v":2750}]
[235,"2023-06-15",{"$f":"SUMIF(Icvome!D:D,B236,Icvome!E:E)+SUMIF(Sales!B:B,B236,Sales!D:D)","v":0},{"$f":"SUMIF(Expens!B:B,B236,Expens!D:D)","v":0},{"$f":"E235+Table7[[#This Row],[ايرادات]]-Table7[[#This Row],[مصروفات]]","v":2750}]
[236,"2023-06-16",{"$f":"SUMIF(Icvome!D:D,B237,Icvome!E:E)+SUMIF(Sales!B:B,B237,Sales!D:D)","v":0},{"$f":"SUMIF(Expens!B:B,B237,Expens!D:D)","v":0},{"$f":"E236+Table7[[#This Row],[ايرادات]]-Table7[[#This Row],[مصروفات]]","v":2750}]
[237,"2023-06-17",{"$f":"SUMIF(Icvome!D:D,B238,Icvome!E:E)+SUMIF(Sales!B:B,B238,Sales!D:D)","v":0},{"$f":"SUMIF(Expens!B:B,B238,Expens!D:D)","v":0},{"$f":"E237+Table7[[#This Row],[ايرادات]]-Table7[[#This Row],[مصروفات]]","v":2750}]
[238,"2023-06-18",{"$f":"SUMIF(Icvome!D:D,B239,Icvome!E:E)+SUMIF(Sales!B:B,B239,Sales!D:D)","v":0},{"$f":"SUMIF(Expens!B:B,B239,Expens!D:D)","v":0},{"$f":"E238+Table7[[#This Row],[ايرادات]]-Table7[[#This Row],[مصروفات]]","v":2750}]
[239,"2023-06-19",{"$f":"SUMIF(Icvome!D:D,B240,Icvome!E:E)+SUMIF(Sales!B:B,B240,Sales!D:D)","v":0},{"$f":"SUMIF(Expens!B:B,B240,Expens!D:D)","v":0},{"$f":"E239+Table7[[#This Row],[ايرادات]]-Table7[[#This Row],[مصروفات]]","v":2750}]
[240,"2023-06-20",{"$f":"SUMIF(Icvome!D:D,B241,Icvome!E:E)+SUMIF(Sales!B:B,B241,Sales!D:D)","v":0},{"$f":"SUMIF(Expens!B:B,B241,Expens!D:D)","v":0},{"$f":"E240+Table7[[#This Row],[ايرادات]]-Table7[[#This Row],[مصروفات]]","v":2750}]
[241,"2023-06-21",{"$f":"SUMIF(Icvome!D:D,B242,Icvome!E:E)+SUMIF(Sales!B:B,B242,Sales!D:D)","v":0},{"$f":"SUMIF(Expens!B:B,B242,Expens!D:D)","v":0},{"$f":"E241+Table7[[#This Row],[ايرادات]]-Table7[[#This Row],[مصروفات]]","v":2750}]
[242,"2023-06-22",{"$f":"SUMIF(Icvome!D:D,B243,Icvome!E:E)+SUMIF(Sales!B:B,B243,Sales!D:D)","v":0},{"$f":"SUMIF(Expens!B:B,B243,Expens!D:D)","v":0},{"$f":"E242+Table7[[#This Row],[ايرادات]]-Table7[[#This Row],[مصروفات]]","v":2750}]
[243,"2023-06-23",{"$f":"SUMIF(Icvome!D:D,B244,Icvome!E:E)+SUMIF(Sales!B:B,B244,Sales!D:D)","v":0},{"$f":"SUMIF(Expens!B:B,B244,Expens!D:D)","v":0},{"$f":"E243+Table7[[#This Row],[ايرادات]]-Table7[[#This Row],[مصروفات]]","v":2750}]
[244,"2023-06-24",{"$f":"SUMIF(Icvome!D:D,B245,Icvome!E:E)+SUMIF(Sales!B:B,B245,Sales!D:D)","v":0},{"$f":"SUMIF(Expens!B:B,B245,Expens!D:D)","v":0},{"$f":"E244+Table7[[#This Row],[ايرادات]]-Table7[[#This Row],[مصروفات]]","v":2750}]
[245,"2023-06-25",{"$f":"SUMIF(Icvome!D:D,B246,Icvome!E:E)+SUMIF(Sales!B:B,B246,Sales!D:D)","v":0},{"$f":"SUMIF(Expens!B:B,B246,Expens!D:D)","v":0},{"$f":"E245+Table7[[#This Row],[ايرادات]]-Table7[[#This Row],[مصروفات]]","v":2750}]
[246,"2023-06-26",{"$f":"SUMIF(Icvome!D:D,B247,Icvome!E:E)+SUMIF(Sales!B:B,B247,Sales!D:D)","v":0},{"$f":"SUMIF(Expens!B:B,B247,Expens!D:D)","v":0},{"$f":"E246+Table7[[#This Row],[ايرادات]]-Table7[[#This Row],[مصروفات]]","v":2750}]
[247,"2023-06-27",{"$f":"SUMIF(Icvome!D:D,B248,Icvome!E:E)+SUMIF(Sales!B:B,B248,Sales!D:D)","v":0},{"$f":"SUMIF(Expens!B:B,B248,Expens!D:D)","v":0},{"$f":"E247+Table7[[#This Row],[ايرادات]]-Table7[[#This Row],[مصروفات]]","v":2750}]
[248,"2023-06-28",{"$f":"SUMIF(Icvome!D:D,B249,Icvome!E:E)+SUMIF(Sales!B:B,B249,Sales!D:D)","v":0},{"$f":"SUMIF(Expens!B:B,B249,Expens!D:D)","v":0},{"$f":"E248+Table7[[#This Row],[ايرادات]]-Table7[[#This Row],[مصروفات]]","v":2750}]
[249,"2023-06-29",{"$f":"SUMIF(Icvome!D:D,B250,Icvome!E:E)+SUMIF(Sales!B:B,B250,Sales!D:D)","v":0},{"$f":"SUMIF(Expens!B:B,B250,Expens!D:D)","v":0},{"$f":"E249+Table7[[#This Row],[ايرادات]]-Table7[[#This Row],[مصروفات]]","v":2750}]
[250,"2023-06-30",{"$f":"SUMIF(Icvome!D:D,B251,Icvome!E:E)+SUMIF(Sales!B:B,B251,Sales!D:D)","v":0},{"$f":"SUMIF(Expens!B:B,B251,Expens!D:D)","v":0},{"$f":"E250+Table7[[#This Row],[ايرادات]]-Table7[[#This Row],[مصروفات]]","v":2750}]
[251,"2023-07-01",{"$f":"SUMIF(Icvome!D:D,B252,Icvome!E:E)+SUMIF(Sales!B:B,B252,Sales!D:D)","v":0},{"$f":"SUMIF(Expens!B:B,B252,Expens!D:D)","v":0},{"$f":"E251+Table7[[#This Row],[ايرادات]]-Table7[[#This Row],[مصروفات]]","v":2750}]
[252,"2023-07-02",{"$f":"SUMIF(Icvome!D:D,B253,Icvome!E:E)+SUMIF(Sales!B:B,B253,Sales!D:D)","v":0},{"$f":"SUMIF(Expens!B:B,B253,Expens!D:D)","v":0},{"$f":"E252+Table7[[#This Row],[ايرادات]]-Table7[[#This Row],[مصروفات]]","v":2750}]
[253,"2023-07-03",{"$f":"SUMIF(Icvome!D:D,B254,Icvome!E:E)+SUMIF(Sales!B:B,B254,Sales!D:D)","v":0},{"$f":"SUMIF(Expens!B:B,B254,Expens!D:D)","v":0},{"$f":"E253+Table7[[#This Row],[ايرادات]]-Table7[[#This Row],[مصروفات]]","v":2750}]
[254,"2023-07-04",{"$f":"SUMIF(Icvome!D:D,B255,Icvome!E:E)+SUMIF(Sales!B:B,B255,Sales!D:D)","v":0},{"$f":"SUMIF(Expens!B:B,B255,Expens!D:D)","v":0},{"$f":"E254+Table7[[#This Row],[ايرادات]]-Table7[[#This Row],[مصروفات]]","v":2750}]
[255,"2023-07-05",{"$f":"SUMIF(Icvome!D:D,B256,Icvome!E:E)+SUMIF(Sales!B:B,B256,Sales!D:D)","v":0},{"$f":"SUMIF(Expens!B:B,B256,Expens!D:D)","v":0},{"$f":"E255+Table7[[#This Row],[ايرادات]]-Table7[[#This Row],[مصروفات]]","v":2750}]
[256,"2023-07-06",{"$f":"SUMIF(Icvome!D:D,B257,Icvome!E:E)+SUMIF(Sales!B:B,B257,Sales!D:D)","v":0},{"$f":"SUMIF(Expens!B:B,B257,Expens!D:D)","v":0},{"$f":"E256+Table7[[#This Row],[ايرادات]]-Table7[[#This Row],[مصروفات]]","v":2750}]
[257,"2023-07-07",{"$f":"SUMIF(Icvome!D:D,B258,Icvome!E:E)+SUMIF(Sales!B:B,B258,Sales!D:D)","v":0},{"$f":"SUMIF(Expens!B:B,B258,Expens!D:D)","v":0},{"$f":"E257+Table7[[#This Row],[ايرادات]]-Table7[[#This Row],[مصروفات]]","v":2750}]
[258,"2023-07-08",{"$f":"SUMIF(Icvome!D:D,B259,Icvome!E:E)+SUMIF(Sales!B:B,B259,Sales!D:D)","v":0},{"$f":"SUMIF(Expens!B:B,B259,Expens!D:D)","v":0},{"$f":"E258+Table7[[#This Row],[ايرادات]]-Table7[[#This Row],[مصروفات]]","v":2750}]
[259,{"$f":"IF(B259=\"\",\"\",B259+1)","v":"2023-07-09"},{"$f":"SUMIF(Icvome!D:D,B260,Icvome!E:E)+SUMIF(Sales!B:B,B260,Sales!D:D)","v":0},{"$f":"SUMIF(Expens!B:B,B260,Expens!D:D)","v":0},{"$f":"E259+Table7[[#This Row],[ايرادات]]-Table7[[#This Row],[مصروفات]]","v":2750}]
[260,"2023-07-10",{"$f":"SUMIF(Icvome!D:D,B261,Icvome!E:E)+SUMIF(Sales!B:B,B261,Sales!D:D)","v":0},{"$f":"SUMIF(Expens!B:B,B261,Expens!D:D)","v":0},{"$f":"E260+Table7[[#This Row],[ايرادات]]-Table7[[#This Row],[مصروفات]]","v":2750}]
[261,"2023-07-11",{"$f":"SUMIF(Icvome!D:D,B262,Icvome!E:E)+SUMIF(Sales!B:B,B262,Sales!D:D)","v":0},{"$f":"SUMIF(Expens!B:B,B262,Expens!D:D)","v":0},{"$f":"E261+Table7[[#This Row],[ايرادات]]-Table7[[#This Row],[مصروفات]]","v":2750}]
[262,"2023-07-12",{"$f":"SUMIF(Icvome!D:D,B263,Icvome!E:E)+SUMIF(Sales!B:B,B263,Sales!D:D)","v":0},{"$f":"SUMIF(Expens!B:B,B263,Expens!D:D)","v":0},{"$f":"E262+Table7[[#This Row],[ايرادات]]-Table7[[#This Row],[مصروفات]]","v":2750}]
[263,"2023-07-13",{"$f":"SUMIF(Icvome!D:D,B264,Icvome!E:E)+SUMIF(Sales!B:B,B264,Sales!D:D)","v":0},{"$f":"SUMIF(Expens!B:B,B264,Expens!D:D)","v":0},{"$f":"E263+Table7[[#This Row],[ايرادات]]-Table7[[#This Row],[مصروفات]]","v":2750}]
[264,"2023-07-14",{"$f":"SUMIF(Icvome!D:D,B265,Icvome!E:E)+SUMIF(Sales!B:B,B265,Sales!D:D)","v":0},{"$f":"SUMIF(Expens!B:B,B265,Expens!D:D)","v":0},{"$f":"E264+Table7[[#This Row],[ايرادات]]-Table7[[#This Row],[مصروفات]]","v":2750}]
[265,"2023-07-15",{"$f":"SUMIF(Icvome!D:D,B266,Icvome!E:E)+SUMIF(Sales!B:B,B266,Sales!D:D)","v":0},{"$f":"SUMIF(Expens!B:B,B266,Expens!D:D)","v":0},{"$f":"E265+Table7[[#This Row],[ايرادات]]-Table7[[#This Row],[مصروفات]]","v":2750}]
[266,"2023-07-16",{"$f":"SUMIF(Icvome!D:D,B267,Icvome!E:E)+SUMIF(Sales!B:B,B267,Sales!D:D)","v":0},{"$f":"SUMIF(Expens!B:B,B267,Expens!D:D)","v":0},{"$f":"E266+Table7[[#This Row],[ايرادات]]-Table7[[#This Row],[مصروفات]]","v":2750}]
[267,"2023-07-17",{"$f":"SUMIF(Icvome!D:D,B268,Icvome!E:E)+SUMIF(Sales!B:B,B268,Sales!D:D)","v":0},{"$f":"SUMIF(Expens!B:B,B268,Expens!D:D)","v":0},{"$f":"E267+Table7[[#This Row],[ايرادات]]-Table7[[#This Row],[مصروفات]]","v":2750}]
[268,"2023-07-18",{"$f":"SUMIF(Icvome!D:D,B269,Icvome!E:E)+SUMIF(Sales!B:B,B269,Sales!D:D)","v":0},{"$f":"SUMIF(Expens!B:B,B269,Expens!D:D)","v":0},{"$f":"E268+Table7[[#This Row],[ايرادات]]-Table7[[#This Row],[مصروفات]]","v":2750}]
[269,"2023-07-19",{"$f":"SUMIF(Icvome!D:D,B270,Icvome!E:E)+SUMIF(Sales!B:B,B270,Sales!D:D)","v":0},{"$f":"SUMIF(Expens!B:B,B270,Expens!D:D)","v":0},{"$f":"E269+Table7[[#This Row],[ايرادات]]-Table7[[#This Row],[مصروفات]]","v":2750}]
[270,"2023-07-20",{"$f":"SUMIF(Icvome!D:D,B271,Icvome!E:E)+SUMIF(Sales!B:B,B271,Sales!D:D)","v":0},{"$f":"SUMIF(Expens!B:B,B271,Expens!D:D)","v":0},{"$f":"E270+Table7[[#This Row],[ايرادات]]-Table7[[#This Row],[مصروفات]]","v":2750}]
[271,"2023-07-21",{"$f":"SUMIF(Icvome!D:D,B272,Icvome!E:E)+SUMIF(Sales!B:B,B272,Sales!D:D)","v":0},{"$f":"SUMIF(Expens!B:B,B272,Expens!D:D)","v":0},{"$f":"E271+Table7[[#This Row],[ايرادات]]-Table7[[#This Row],[مصروفات]]","v":2750}]
[272,"2023-07-22",{"$f":"SUMIF(Icvome!D:D,B273,Icvome!E:E)+SUMIF(Sales!B:B,B273,Sales!D:D)","v":0},{"$f":"SUMIF(Expens!B:B,B273,Expens!D:D)","v":0},{"$f":"E272+Table7[[#This Row],[ايرادات]]-Table7[[#This Row],[مصروفات]]","v":2750}]
[273,"2023-07-23",{"$f":"SUMIF(Icvome!D:D,B274,Icvome!E:E)+SUMIF(Sales!B:B,B274,Sales!D:D)","v":0},{"$f":"SUMIF(Expens!B:B,B274,Expens!D:D)","v":0},{"$f":"E273+Table7[[#This Row],[ايرادات]]-Table7[[#This Row],[مصروفات]]","v":2750}]
[274,"2023-07-24",{"$f":"SUMIF(Icvome!D:D,B275,Icvome!E:E)+SUMIF(Sales!B:B,B275,Sales!D:D)","v":0},{"$f":"SUMIF(Expens!B:B,B275,Expens!D:D)","v":0},{"$f":"E274+Table7[[#This Row],[ايرادات]]-Table7[[#This Row],[مصروفات]]","v":2750}]
[275,"2023-07-25",{"$f":"SUMIF(Icvome!D:D,B276,Icvome!E:E)+SUMIF(Sales!B:B,B276,Sales!D:D)","v":0},{"$f":"SUMIF(Expens!B:B,B276,Expens!D:D)","v":0},{"$f":"E275+Table7[[#This Row],[ايرادات]]-Table7[[#This Row],[مصروفات]]","v":2750}]
[276,"2023-07-26",{"$f":"SUMIF(Icvome!D:D,B277,Icvome!E:E)+SUMIF(Sales!B:B,B277,Sales!D:D)","v":0},{"$f":"SUMIF(Expens!B:B,B277,Expens!D:D)","v":0},{"$f":"E276+Table7[[#This Row],[ايرادات]]-Table7[[#This Row],[مصروفات]]","v":2750}]
[277,"2023-07-27",{"$f":"SUMIF(Icvome!D:D,B278,Icvome!E:E)+SUMIF(Sales!B:B,B278,Sales!D:D)","v":0},{"$f":"SUMIF(Expens!B:B,B278,Expens!D:D)","v":0},{"$f":"E277+Table7[[#This Row],[ايرادات]]-Table7[[#This Row],[مصروفات]]","v":2750}]
[278,"2023-07-28",{"$f":"SUMIF(Icvome!D:D,B279,Icvome!E:E)+SUMIF(Sales!B:B,B279,Sales!D:D)","v":0},{"$f":"SUMIF(Expens!B:B,B279,Expens!D:D)","v":0},{"$f":"E278+Table7[[#This Row],[ايرادات]]-Table7[[#This Row],[مصروفات]]","v":2750}]
[279,"2023-07-29",{"$f":"SUMIF(Icvome!D:D,B280,Icvome!E:E)+SUMIF(Sales!B:B,B280,Sales!D:D)","v":0},{"$f":"SUMIF(Expens!B:B,B280,Expens!D:D)","v":0},{"$f":"E279+Table7[[#This Row],[ايرادات]]-Table7[[#This Row],[مصروفات]]","v":2750}]
[280,"2023-07-30",{"$f":"SUMIF(Icvome!D:D,B281,Icvome!E:E)+SUMIF(Sales!B:B,B281,Sales!D:D)","v":0},{"$f":"SUMIF(Expens!B:B,B281,Expens!D:D)","v":0},{"$f":"E280+Table7[[#This Row],[ايرادات]]-Table7[[#This Row],[مصروفات]]","v":2750}]
[281,"2023-07-31",{"$f":"SUMIF(Icvome!D:D,B282,Icvome!E:E)+SUMIF(Sales!B:B,B282,Sales!D:D)","v":0},{"$f":"SUMIF(Expens!B:B,B282,Expens!D:D)","v":0},{"$f":"E281+Table7[[#This Row],[ايرادات]]-Table7[[#This Row],[مصروفات]]","v":2750}]
[282,"2023-08-01",{"$f":"SUMIF(Icvome!D:D,B283,Icvome!E:E)+SUMIF(Sales!B:B,B283,Sales!D:D)","v":0},{"$f":"SUMIF(Expens!B:B,B283,Expens!D:D)","v":0},{"$f":"E282+Table7[[#This Row],[ايرادات]]-Table7[[#This Row],[مصروفات]]","v":2750}]
[283,"2023-08-02",{"$f":"SUMIF(Icvome!D:D,B284,Icvome!E:E)+SUMIF(Sales!B:B,B284,Sales!D:D)","v":0},{"$f":"SUMIF(Expens!B:B,B284,Expens!D:D)","v":0},{"$f":"E283+Table7[[#This Row],[ايرادات]]-Table7[[#This Row],[مصروفات]]","v":2750}]
[284,"2023-08-03",{"$f":"SUMIF(Icvome!D:D,B285,Icvome!E:E)+SUMIF(Sales!B:B,B285,Sales!D:D)","v":0},{"$f":"SUMIF(Expens!B:B,B285,Expens!D:D)","v":0},{"$f":"E284+Table7[[#This Row],[ايرادات]]-Table7[[#This Row],[مصروفات]]","v":2750}]
[285,"2023-08-04",{"$f":"SUMIF(Icvome!D:D,B286,Icvome!E:E)+SUMIF(Sales!B:B,B286,Sales!D:D)","v":0},{"$f":"SUMIF(Expens!B:B,B286,Expens!D:D)","v":0},{"$f":"E285+Table7[[#This Row],[ايرادات]]-Table7[[#This Row],[مصروفات]]","v":2750}]
[286,"2023-08-05",{"$f":"SUMIF(Icvome!D:D,B287,Icvome!E:E)+SUMIF(Sales!B:B,B287,Sales!D:D)","v":0},{"$f":"SUMIF(Expens!B:B,B287,Expens!D:D)","v":0},{"$f":"E286+Table7[[#This Row],[ايرادات]]-Table7[[#This Row],[مصروفات]]","v":2750}]
[287,"2023-08-06",{"$f":"SUMIF(Icvome!D:D,B288,Icvome!E:E)+SUMIF(Sales!B:B,B288,Sales!D:D)","v":0},{"$f":"SUMIF(Expens!B:B,B288,Expens!D:D)","v":0},{"$f":"E287+Table7[[#This Row],[ايرادات]]-Table7[[#This Row],[مصروفات]]","v":2750}]
[288,"2023-08-07",{"$f":"SUMIF(Icvome!D:D,B289,Icvome!E:E)+SUMIF(Sales!B:B,B289,Sales!D:D)","v":0},{"$f":"SUMIF(Expens!B:B,B289,Expens!D:D)","v":0},{"$f":"E288+Table7[[#This Row],[ايرادات]]-Table7[[#This Row],[مصروفات]]","v":2750}]
[289,"2023-08-08",{"$f":"SUMIF(Icvome!D:D,B290,Icvome!E:E)+SUMIF(Sales!B:B,B290,Sales!D:D)","v":0},{"$f":"SUMIF(Expens!B:B,B290,Expens!D:D)","v":0},{"$f":"E289+Table7[[#This Row],[ايرادات]]-Table7[[#This Row],[مصروفات]]","v":2750}]
[290,"2023-08-09",{"$f":"SUMIF(Icvome!D:D,B291,Icvome!E:E)+SUMIF(Sales!B:B,B291,Sales!D:D)","v":0},{"$f":"SUMIF(Expens!B:B,B291,Expens!D:D)","v":0},{"$f":"E290+Table7[[#This Row],[ايرادات]]-Table7[[#This Row],[مصروفات]]","v":2750}]
[291,"2023-08-10",{"$f":"SUMIF(Icvome!D:D,B292,Icvome!E:E)+SUMIF(Sales!B:B,B292,Sales!D:D)","v":0},{"$f":"SUMIF(Expens!B:B,B292,Expens!D:D)","v":0},{"$f":"E291+Table7[[#This Row],[ايرادات]]-Table7[[#This Row],[مصروفات]]","v":2750}]
[292,"2023-08-11",{"$f":"SUMIF(Icvome!D:D,B293,Icvome!E:E)+SUMIF(Sales!B:B,B293,Sales!D:D)","v":0},{"$f":"SUMIF(Expens!B:B,B293,Expens!D:D)","v":0},{"$f":"E292+Table7[[#This Row],[ايرادات]]-Table7[[#This Row],[مصروفات]]","v":2750}]
[293,"2023-08-12",{"$f":"SUMIF(Icvome!D:D,B294,Icvome!E:E)+SUMIF(Sales!B:B,B294,Sales!D:D)","v":0},{"$f":"SUMIF(Expens!B:B,B294,Expens!D:D)","v":0},{"$f":"E293+Table7[[#This Row],[ايرادات]]-Table7[[#This Row],[مصروفات]]","v":2750}]
[294,"2023-08-13",{"$f":"SUMIF(Icvome!D:D,B295,Icvome!E:E)+SUMIF(Sales!B:B,B295,Sales!D:D)","v":0},{"$f":"SUMIF(Expens!B:B,B295,Expens!D:D)","v":0},{"$f":"E294+Table7[[#This Row],[ايرادات]]-Table7[[#This Row],[مصروفات]]","v":2750}]
[295,"2023-08-14",{"$f":"SUMIF(Icvome!D:D,B296,Icvome!E:E)+SUMIF(Sales!B:B,B296,Sales!D:D)","v":0},{"$f":"SUMIF(Expens!B:B,B296,Expens!D:D)","v":0},{"$f":"E295+Table7[[#This Row],[ايرادات]]-Table7[[#This Row],[مصروفات]]","v":2750}]
[296,"2023-08-15",{"$f":"SUMIF(Icvome!D:D,B297,Icvome!E:E)+SUMIF(Sales!B:B,B297,Sales!D:D)","v":0},{"$f":"SUMIF(Expens!B:B,B297,Expens!D:D)","v":0},{"$f":"E296+Table7[[#This Row],[ايرادات]]-Table7[[#This Row],[مصروفات]]","v":2750}]
[297,"2023-08-16",{"$f":"SUMIF(Icvome!D:D,B298,Icvome!E:E)+SUMIF(Sales!B:B,B298,Sales!D:D)","v":0},{"$f":"SUMIF(Expens!B:B,B298,Expens!D:D)","v":0},{"$f":"E297+Table7[[#This Row],[ايرادات]]-Table7[[#This Row],[مصروفات]]","v":2750}]
[298,"2023-08-17",{"$f":"SUMIF(Icvome!D:D,B299,Icvome!E:E)+SUMIF(Sales!B:B,B299,Sales!D:D)","v":0},{"$f":"SUMIF(Expens!B:B,B299,Expens!D:D)","v":0},{"$f":"E298+Table7[[#This Row],[ايرادات]]-Table7[[#This Row],[مصروفات]]","v":2750}]
[299,"2023-08-18",{"$f":"SUMIF(Icvome!D:D,B300,Icvome!E:E)+SUMIF(Sales!B:B,B300,Sales!D:D)","v":0},{"$f":"SUMIF(Expens!B:B,B300,Expens!D:D)","v":0},{"$f":"E299+Table7[[#This Row],[ايرادات]]-Table7[[#This Row],[مصروفات]]","v":2750}]
[300,"2023-08-19",{"$f":"SUMIF(Icvome!D:D,B301,Icvome!E:E)+SUMIF(Sales!B:B,B301,Sales!D:D)","v":0},{"$f":"SUMIF(Expens!B:B,B301,Expens!D:D)","v":0},{"$f":"E300+Table7[[#This Row],[ايرادات]]-Table7[[#This Row],[مصروفات]]","v":2750}]
[301,"2023-08-20",{"$f":"SUMIF(Icvome!D:D,B302,Icvome!E:E)+SUMIF(Sales!B:B,B302,Sales!D:D)","v":0},{"$f":"SUMIF(Expens!B:B,B302,Expens!D:D)","v":0},{"$f":"E301+Table7[[#This Row],[ايرادات]]-Table7[[#This Row],[مصروفات]]","v":2750}]
[302,"2023-08-21",{"$f":"SUMIF(Icvome!D:D,B303,Icvome!E:E)+SUMIF(Sales!B:B,B303,Sales!D:D)","v":0},{"$f":"SUMIF(Expens!B:B,B303,Expens!D:D)","v":0},{"$f":"E302+Table7[[#This Row],[ايرادات]]-Table7[[#This Row],[مصروفات]]","v":2750}]
[303,"2023-08-22",{"$f":"SUMIF(Icvome!D:D,B304,Icvome!E:E)+SUMIF(Sales!B:B,B304,Sales!D:D)","v":0},{"$f":"SUMIF(Expens!B:B,B304,Expens!D:D)","v":0},{"$f":"E303+Table7[[#This Row],[ايرادات]]-Table7[[#This Row],[مصروفات]]","v":2750}]
[304,"2023-08-23",{"$f":"SUMIF(Icvome!D:D,B305,Icvome!E:E)+SUMIF(Sales!B:B,B305,Sales!D:D)","v":0},{"$f":"SUMIF(Expens!B:B,B305,Expens!D:D)","v":0},{"$f":"E304+Table7[[#This Row],[ايرادات]]-Table7[[#This Row],[مصروفات]]","v":2750}]
[305,"2023-08-24",{"$f":"SUMIF(Icvome!D:D,B306,Icvome!E:E)+SUMIF(Sales!B:B,B306,Sales!D:D)","v":0},{"$f":"SUMIF(Expens!B:B,B306,Expens!D:D)","v":0},{"$f":"E305+Table7[[#This Row],[ايرادات]]-Table7[[#This Row],[مصروفات]]","v":2750}]
[306,"2023-08-25",{"$f":"SUMIF(Icvome!D:D,B307,Icvome!E:E)+SUMIF(Sales!B:B,B307,Sales!D:D)","v":0},{"$f":"SUMIF(Expens!B:B,B307,Expens!D:D)","v":0},{"$f":"E306+Table7[[#This Row],[ايرادات]]-Table7[[#This Row],[مصروفات]]","v":2750}]
[307,"2023-08-26",{"$f":"SUMIF(Icvome!D:D,B308,Icvome!E:E)+SUMIF(Sales!B:B,B308,Sales!D:D)","v":0},{"$f":"SUMIF(Expens!B:B,B308,Expens!D:D)","v":0},{"$f":"E307+Table7[[#This Row],[ايرادات]]-Table7[[#This Row],[مصروفات]]","v":2750}]
[308,"2023-08-27",{"$f":"SUMIF(Icvome!D:D,B309,Icvome!E:E)+SUMIF(Sales!B:B,B309,Sales!D:D)","v":0},{"$f":"SUMIF(Expens!B:B,B309,Expens!D:D)","v":0},{"$f":"E308+Table7[[#This Row],[ايرادات]]-Table7[[#This Row],[مصروفات]]","v":2750}]
[309,"2023-08-28",{"$f":"SUMIF(Icvome!D:D,B310,Icvome!E:E)+SUMIF(Sales!B:B,B310,Sales!D:D)","v":0},{"$f":"SUMIF(Expens!B:B,B310,Expens!D:D)","v":0},{"$f":"E309+Table7[[#This Row],[ايرادات]]-Table7[[#This Row],[مصروفات]]","v":2750}]
[310,"2023-08-29",{"$f":"SUMIF(Icvome!D:D,B311,Icvome!E:E)+SUMIF(Sales!B:B,B311,Sales!D:D)","v":0},{"$f":"SUMIF(Expens!B:B,B311,Expens!D:D)","v":0},{"$f":"E310+Table7[[#This Row],[ايرادات]]-Table7[[#This Row],[مصروفات]]","v":2750}]
[311,"2023-08-30",{"$f":"SUMIF(Icvome!D:D,B312,Icvome!E:E)+SUMIF(Sales!B:B,B312,Sales!D:D)","v":0},{"$f":"SUMIF(Expens!B:B,B312,Expens!D:D)","v":0},{"$f":"E311+Table7[[#This Row],[ايرادات]]-Table7[[#This Row],[مصروفات]]","v":2750}]
[312,"2023-08-31",{"$f":"SUMIF(Icvome!D:D,B313,Icvome!E:E)+SUMIF(Sales!B:B,B313,Sales!D:D)","v":0},{"$f":"SUMIF(Expens!B:B,B313,Expens!D:D)","v":0},{"$f":"E312+Table7[[#This Row],[ايرادات]]-Table7[[#This Row],[مصروفات]]","v":2750}]
[313,"2023-09-01",{"$f":"SUMIF(Icvome!D:D,B314,Icvome!E:E)+SUMIF(Sales!B:B,B314,Sales!D:D)","v":0},{"$f":"SUMIF(Expens!B:B,B314,Expens!D:D)","v":0},{"$f":"E313+Table7[[#This Row],[ايرادات]]-Table7[[#This Row],[مصروفات]]","v":2750}]
[314,"2023-09-02",{"$f":"SUMIF(Icvome!D:D,B315,Icvome!E:E)+SUMIF(Sales!B:B,B315,Sales!D:D)","v":0},{"$f":"SUMIF(Expens!B:B,B315,Expens!D:D)","v":0},{"$f":"E314+Table7[[#This Row],[ايرادات]]-Table7[[#This Row],[مصروفات]]","v":2750}]
[315,"2023-09-03",{"$f":"SUMIF(Icvome!D:D,B316,Icvome!E:E)+SUMIF(Sales!B:B,B316,Sales!D:D)","v":0},{"$f":"SUMIF(Expens!B:B,B316,Expens!D:D)","v":0},{"$f":"E315+Table7[[#This Row],[ايرادات]]-Table7[[#This Row],[مصروفات]]","v":2750}]
[316,"2023-09-04",{"$f":"SUMIF(Icvome!D:D,B317,Icvome!E:E)+SUMIF(Sales!B:B,B317,Sales!D:D)","v":0},{"$f":"SUMIF(Expens!B:B,B317,Expens!D:D)","v":0},{"$f":"E316+Table7[[#This Row],[ايرادات]]-Table7[[#This Row],[مصروفات]]","v":2750}]
[317,"2023-09-05",{"$f":"SUMIF(Icvome!D:D,B318,Icvome!E:E)+SUMIF(Sales!B:B,B318,Sales!D:D)","v":0},{"$f":"SUMIF(Expens!B:B,B318,Expens!D:D)","v":0},{"$f":"E317+Table7[[#This Row],[ايرادات]]-Table7[[#This Row],[مصروفات]]","v":2750}]
[318,"2023-09-06",{"$f":"SUMIF(Icvome!D:D,B319,Icvome!E:E)+SUMIF(Sales!B:B,B319,Sales!D:D)","v":0},{"$f":"SUMIF(Expens!B:B,B319,Expens!D:D)","v":0},{"$f":"E318+Table7[[#This Row],[ايرادات]]-Table7[[#This Row],[مصروفات]]","v":2750}]
[319,"2023-09-07",{"$f":"SUMIF(Icvome!D:D,B320,Icvome!E:E)+SUMIF(Sales!B:B,B320,Sales!D:D)","v":0},{"$f":"SUMIF(Expens!B:B,B320,Expens!D:D)","v":0},{"$f":"E319+Table7[[#This Row],[ايرادات]]-Table7[[#This Row],[مصروفات]]","v":2750}]
[320,"2023-09-08",{"$f":"SUMIF(Icvome!D:D,B321,Icvome!E:E)+SUMIF(Sales!B:B,B321,Sales!D:D)","v":0},{"$f":"SUMIF(Expens!B:B,B321,Expens!D:D)","v":0},{"$f":"E320+Table7[[#This Row],[ايرادات]]-Table7[[#This Row],[مصروفات]]","v":2750}]
[321,"2023-09-09",{"$f":"SUMIF(Icvome!D:D,B322,Icvome!E:E)+SUMIF(Sales!B:B,B322,Sales!D:D)","v":0},{"$f":"SUMIF(Expens!B:B,B322,Expens!D:D)","v":0},{"$f":"E321+Table7[[#This Row],[ايرادات]]-Table7[[#This Row],[مصروفات]]","v":2750}]
[322,"2023-09-10",{"$f":"SUMIF(Icvome!D:D,B323,Icvome!E:E)+SUMIF(Sales!B:B,B323,Sales!D:D)","v":0},{"$f":"SUMIF(Expens!B:B,B323,Expens!D:D)","v":0},{"$f":"E322+Table7[[#This Row],[ايرادات]]-Table7[[#This Row],[مصروفات]]","v":2750}]
[323,{"$f":"IF(B323=\"\",\"\",B323+1)","v":"2023-09-11"},{"$f":"SUMIF(Icvome!D:D,B324,Icvome!E:E)+SUMIF(Sales!B:B,B324,Sales!D:D)","v":0},{"$f":"SUMIF(Expens!B:B,B324,Expens!D:D)","v":0},{"$f":"E323+Table7[[#This Row],[ايرادات]]-Table7[[#This Row],[مصروفات]]","v":2750}]
[324,"2023-09-12",{"$f":"SUMIF(Icvome!D:D,B325,Icvome!E:E)+SUMIF(Sales!B:B,B325,Sales!D:D)","v":0},{"$f":"SUMIF(Expens!B:B,B325,Expens!D:D)","v":0},{"$f":"E324+Table7[[#This Row],[ايرادات]]-Table7[[#This Row],[مصروفات]]","v":2750}]
[325,"2023-09-13",{"$f":"SUMIF(Icvome!D:D,B326,Icvome!E:E)+SUMIF(Sales!B:B,B326,Sales!D:D)","v":0},{"$f":"SUMIF(Expens!B:B,B326,Expens!D:D)","v":0},{"$f":"E325+Table7[[#This Row],[ايرادات]]-Table7[[#This Row],[مصروفات]]","v":2750}]
[326,"2023-09-14",{"$f":"SUMIF(Icvome!D:D,B327,Icvome!E:E)+SUMIF(Sales!B:B,B327,Sales!D:D)","v":0},{"$f":"SUMIF(Expens!B:B,B327,Expens!D:D)","v":0},{"$f":"E326+Table7[[#This Row],[ايرادات]]-Table7[[#This Row],[مصروفات]]","v":2750}]
[327,"2023-09-15",{"$f":"SUMIF(Icvome!D:D,B328,Icvome!E:E)+SUMIF(Sales!B:B,B328,Sales!D:D)","v":0},{"$f":"SUMIF(Expens!B:B,B328,Expens!D:D)","v":0},{"$f":"E327+Table7[[#This Row],[ايرادات]]-Table7[[#This Row],[مصروفات]]","v":2750}]
[328,"2023-09-16",{"$f":"SUMIF(Icvome!D:D,B329,Icvome!E:E)+SUMIF(Sales!B:B,B329,Sales!D:D)","v":0},{"$f":"SUMIF(Expens!B:B,B329,Expens!D:D)","v":0},{"$f":"E328+Table7[[#This Row],[ايرادات]]-Table7[[#This Row],[مصروفات]]","v":2750}]
[329,"2023-09-17",{"$f":"SUMIF(Icvome!D:D,B330,Icvome!E:E)+SUMIF(Sales!B:B,B330,Sales!D:D)","v":0},{"$f":"SUMIF(Expens!B:B,B330,Expens!D:D)","v":0},{"$f":"E329+Table7[[#This Row],[ايرادات]]-Table7[[#This Row],[مصروفات]]","v":2750}]
[330,"2023-09-18",{"$f":"SUMIF(Icvome!D:D,B331,Icvome!E:E)+SUMIF(Sales!B:B,B331,Sales!D:D)","v":0},{"$f":"SUMIF(Expens!B:B,B331,Expens!D:D)","v":0},{"$f":"E330+Table7[[#This Row],[ايرادات]]-Table7[[#This Row],[مصروفات]]","v":2750}]
[331,"2023-09-19",{"$f":"SUMIF(Icvome!D:D,B332,Icvome!E:E)+SUMIF(Sales!B:B,B332,Sales!D:D)","v":0},{"$f":"SUMIF(Expens!B:B,B332,Expens!D:D)","v":0},{"$f":"E331+Table7[[#This Row],[ايرادات]]-Table7[[#This Row],[مصروفات]]","v":2750}]
[332,"2023-09-20",{"$f":"SUMIF(Icvome!D:D,B333,Icvome!E:E)+SUMIF(Sales!B:B,B333,Sales!D:D)","v":0},{"$f":"SUMIF(Expens!B:B,B333,Expens!D:D)","v":0},{"$f":"E332+Table7[[#This Row],[ايرادات]]-Table7[[#This Row],[مصروفات]]","v":2750}]
[333,"2023-09-21",{"$f":"SUMIF(Icvome!D:D,B334,Icvome!E:E)+SUMIF(Sales!B:B,B334,Sales!D:D)","v":0},{"$f":"SUMIF(Expens!B:B,B334,Expens!D:D)","v":0},{"$f":"E333+Table7[[#This Row],[ايرادات]]-Table7[[#This Row],[مصروفات]]","v":2750}]
[334,"2023-09-22",{"$f":"SUMIF(Icvome!D:D,B335,Icvome!E:E)+SUMIF(Sales!B:B,B335,Sales!D:D)","v":0},{"$f":"SUMIF(Expens!B:B,B335,Expens!D:D)","v":0},{"$f":"E334+Table7[[#This Row],[ايرادات]]-Table7[[#This Row],[مصروفات]]","v":2750}]
[335,"2023-09-23",{"$f":"SUMIF(Icvome!D:D,B336,Icvome!E:E)+SUMIF(Sales!B:B,B336,Sales!D:D)","v":0},{"$f":"SUMIF(Expens!B:B,B336,Expens!D:D)","v":0},{"$f":"E335+Table7[[#This Row],[ايرادات]]-Table7[[#This Row],[مصروفات]]","v":2750}]
[336,"2023-09-24",{"$f":"SUMIF(Icvome!D:D,B337,Icvome!E:E)+SUMIF(Sales!B:B,B337,Sales!D:D)","v":0},{"$f":"SUMIF(Expens!B:B,B337,Expens!D:D)","v":0},{"$f":"E336+Table7[[#This Row],[ايرادات]]-Table7[[#This Row],[مصروفات]]","v":2750}]
[337,"2023-09-25",{"$f":"SUMIF(Icvome!D:D,B338,Icvome!E:E)+SUMIF(Sales!B:B,B338,Sales!D:D)","v":0},{"$f":"SUMIF(Expens!B:B,B338,Expens!D:D)","v":0},{"$f":"E337+Table7[[#This Row],[ايرادات]]-Table7[[#This Row],[مصروفات]]","v":2750}]
[338,"2023-09-26",{"$f":"SUMIF(Icvome!D:D,B339,Icvome!E:E)+SUMIF(Sales!B:B,B339,Sales!D:D)","v":0},{"$f":"SUMIF(Expens!B:B,B339,Expens!D:D)","v":0},{"$f":"E338+Table7[[#This Row],[ايرادات]]-Table7[[#This Row],[مصروفات]]","v":2750}]
[339,"2023-09-27",{"$f":"SUMIF(Icvome!D:D,B340,Icvome!E:E)+SUMIF(Sales!B:B,B340,Sales!D:D)","v":0},{"$f":"SUMIF(Expens!B:B,B340,Expens!D:D)","v":0},{"$f":"E339+Table7[[#This Row],[ايرادات]]-Table7[[#This Row],[مصروفات]]","v":2750}]
[340,"2023-09-28",{"$f":"SUMIF(Icvome!D:D,B341,Icvome!E:E)+SUMIF(Sales!B:B,B341,Sales!D:D)","v":0},{"$f":"SUMIF(Expens!B:B,B341,Expens!D:D)","v":0},{"$f":"E340+Table7[[#This Row],[ايرادات]]-Table7[[#This Row],[مصروفات]]","v":2750}]
[341,"2023-09-29",{"$f":"SUMIF(Icvome!D:D,B342,Icvome!E:E)+SUMIF(Sales!B:B,B342,Sales!D:D)","v":0},{"$f":"SUMIF(Expens!B:B,B342,Expens!D:D)","v":0},{"$f":"E341+Table7[[#This Row],[ايرادات]]-Table7[[#This Row],[مصروفات]]","v":2750}]
[342,"2023-09-30",{"$f":"SUMIF(Icvome!D:D,B343,Icvome!E:E)+SUMIF(Sales!B:B,B343,Sales!D:D)","v":0},{"$f":"SUMIF(Expens!B:B,B343,Expens!D:D)","v":0},{"$f":"E342+Table7[[#This Row],[ايرادات]]-Table7[[#This Row],[مصروفات]]","v":2750}]
[343,"2023-10-01",{"$f":"SUMIF(Icvome!D:D,B344,Icvome!E:E)+SUMIF(Sales!B:B,B344,Sales!D:D)","v":0},{"$f":"SUMIF(Expens!B:B,B344,Expens!D:D)","v":0},{"$f":"E343+Table7[[#This Row],[ايرادات]]-Table7[[#This Row],[مصروفات]]","v":2750}]
[344,"2023-10-02",{"$f":"SUMIF(Icvome!D:D,B345,Icvome!E:E)+SUMIF(Sales!B:B,B345,Sales!D:D)","v":0},{"$f":"SUMIF(Expens!B:B,B345,Expens!D:D)","v":0},{"$f":"E344+Table7[[#This Row],[ايرادات]]-Table7[[#This Row],[مصروفات]]","v":2750}]
[345,"2023-10-03",{"$f":"SUMIF(Icvome!D:D,B346,Icvome!E:E)+SUMIF(Sales!B:B,B346,Sales!D:D)","v":0},{"$f":"SUMIF(Expens!B:B,B346,Expens!D:D)","v":0},{"$f":"E345+Table7[[#This Row],[ايرادات]]-Table7[[#This Row],[مصروفات]]","v":2750}]
[346,"2023-10-04",{"$f":"SUMIF(Icvome!D:D,B347,Icvome!E:E)+SUMIF(Sales!B:B,B347,Sales!D:D)","v":0},{"$f":"SUMIF(Expens!B:B,B347,Expens!D:D)","v":0},{"$f":"E346+Table7[[#This Row],[ايرادات]]-Table7[[#This Row],[مصروفات]]","v":2750}]
[347,"2023-10-05",{"$f":"SUMIF(Icvome!D:D,B348,Icvome!E:E)+SUMIF(Sales!B:B,B348,Sales!D:D)","v":0},{"$f":"SUMIF(Expens!B:B,B348,Expens!D:D)","v":0},{"$f":"E347+Table7[[#This Row],[ايرادات]]-Table7[[#This Row],[مصروفات]]","v":2750}]
[348,"2023-10-06",{"$f":"SUMIF(Icvome!D:D,B349,Icvome!E:E)+SUMIF(Sales!B:B,B349,Sales!D:D)","v":0},{"$f":"SUMIF(Expens!B:B,B349,Expens!D:D)","v":0},{"$f":"E348+Table7[[#This Row],[ايرادات]]-Table7[[#This Row],[مصروفات]]","v":2750}]
[349,"2023-10-07",{"$f":"SUMIF(Icvome!D:D,B350,Icvome!E:E)+SUMIF(Sales!B:B,B350,Sales!D:D)","v":0},{"$f":"SUMIF(Expens!B:B,B350,Expens!D:D)","v":0},{"$f":"E349+Table7[[#This Row],[ايرادات]]-Table7[[#This Row],[مصروفات]]","v":2750}]
[350,"2023-10-08",{"$f":"SUMIF(Icvome!D:D,B351,Icvome!E:E)+SUMIF(Sales!B:B,B351,Sales!D:D)","v":0},{"$f":"SUMIF(Expens!B:B,B351,Expens!D:D)","v":0},{"$f":"E350+Table7[[#This Row],[ايرادات]]-Table7[[#This Row],[مصروفات]]","v":2750}]
[351,"2023-10-09",{"$f":"SUMIF(Icvome!D:D,B352,Icvome!E:E)+SUMIF(Sales!B:B,B352,Sales!D:D)","v":0},{"$f":"SUMIF(Expens!B:B,B352,Expens!D:D)","v":0},{"$f":"E351+Table7[[#This Row],[ايرادات]]-Table7[[#This Row],[مصروفات]]","v":2750}]
[352,"2023-10-10",{"$f":"SUMIF(Icvome!D:D,B353,Icvome!E:E)+SUMIF(Sales!B:B,B353,Sales!D:D)","v":0},{"$f":"SUMIF(Expens!B:B,B353,Expens!D:D)","v":0},{"$f":"E352+Table7[[#This Row],[ايرادات]]-Table7[[#This Row],[مصروفات]]","v":2750}]
[353,"2023-10-11",{"$f":"SUMIF(Icvome!D:D,B354,Icvome!E:E)+SUMIF(Sales!B:B,B354,Sales!D:D)","v":0},{"$f":"SUMIF(Expens!B:B,B354,Expens!D:D)","v":0},{"$f":"E353+Table7[[#This Row],[ايرادات]]-Table7[[#This Row],[مصروفات]]","v":2750}]
[354,"2023-10-12",{"$f":"SUMIF(Icvome!D:D,B355,Icvome!E:E)+SUMIF(Sales!B:B,B355,Sales!D:D)","v":0},{"$f":"SUMIF(Expens!B:B,B355,Expens!D:D)","v":0},{"$f":"E354+Table7[[#This Row],[ايرادات]]-Table7[[#This Row],[مصروفات]]","v":2750}]
[355,"2023-10-13",{"$f":"SUMIF(Icvome!D:D,B356,Icvome!E:E)+SUMIF(Sales!B:B,B356,Sales!D:D)","v":0},{"$f":"SUMIF(Expens!B:B,B356,Expens!D:D)","v":0},{"$f":"E355+Table7[[#This Row],[ايرادات]]-Table7[[#This Row],[مصروفات]]","v":2750}]
[356,"2023-10-14",{"$f":"SUMIF(Icvome!D:D,B357,Icvome!E:E)+SUMIF(Sales!B:B,B357,Sales!D:D)","v":0},{"$f":"SUMIF(Expens!B:B,B357,Expens!D:D)","v":0},{"$f":"E356+Table7[[#This Row],[ايرادات]]-Table7[[#This Row],[مصروفات]]","v":2750}]
[357,"2023-10-15",{"$f":"SUMIF(Icvome!D:D,B358,Icvome!E:E)+SUMIF(Sales!B:B,B358,Sales!D:D)","v":0},{"$f":"SUMIF(Expens!B:B,B358,Expens!D:D)","v":0},{"$f":"E357+Table7[[#This Row],[ايرادات]]-Table7[[#This Row],[مصروفات]]","v":2750}]
[358,"2023-10-16",{"$f":"SUMIF(Icvome!D:D,B359,Icvome!E:E)+SUMIF(Sales!B:B,B359,Sales!D:D)","v":0},{"$f":"SUMIF(Expens!B:B,B359,Expens!D:D)","v":0},{"$f":"E358+Table7[[#This Row],[ايرادات]]-Table7[[#This Row],[مصروفات]]","v":2750}]
[359,"2023-10-17",{"$f":"SUMIF(Icvome!D:D,B360,Icvome!E:E)+SUMIF(Sales!B:B,B360,Sales!D:D)","v":0},{"$f":"SUMIF(Expens!B:B,B360,Expens!D:D)","v":0},{"$f":"E359+Table7[[#This Row],[ايرادات]]-Table7[[#This Row],[مصروفات]]","v":2750}]
[360,"2023-10-18",{"$f":"SUMIF(Icvome!D:D,B361,Icvome!E:E)+SUMIF(Sales!B:B,B361,Sales!D:D)","v":0},{"$f":"SUMIF(Expens!B:B,B361,Expens!D:D)","v":0},{"$f":"E360+Table7[[#This Row],[ايرادات]]-Table7[[#This Row],[مصروفات]]","v":2750}]
[361,"2023-10-19",{"$f":"SUMIF(Icvome!D:D,B362,Icvome!E:E)+SUMIF(Sales!B:B,B362,Sales!D:D)","v":0},{"$f":"SUMIF(Expens!B:B,B362,Expens!D:D)","v":0},{"$f":"E361+Table7[[#This Row],[ايرادات]]-Table7[[#This Row],[مصروفات]]","v":2750}]
[362,"2023-10-20",{"$f":"SUMIF(Icvome!D:D,B363,Icvome!E:E)+SUMIF(Sales!B:B,B363,Sales!D:D)","v":0},{"$f":"SUMIF(Expens!B:B,B363,Expens!D:D)","v":0},{"$f":"E362+Table7[[#This Row],[ايرادات]]-Table7[[#This Row],[مصروفات]]","v":2750}]
[363,"2023-10-21",{"$f":"SUMIF(Icvome!D:D,B364,Icvome!E:E)+SUMIF(Sales!B:B,B364,Sales!D:D)","v":0},{"$f":"SUMIF(Expens!B:B,B364,Expens!D:D)","v":0},{"$f":"E363+Table7[[#This Row],[ايرادات]]-Table7[[#This Row],[مصروفات]]","v":2750}]
[364,"2023-10-22",{"$f":"SUMIF(Icvome!D:D,B365,Icvome!E:E)+SUMIF(Sales!B:B,B365,Sales!D:D)","v":0},{"$f":"SUMIF(Expens!B:B,B365,Expens!D:D)","v":0},{"$f":"E364+Table7[[#This Row],[ايرادات]]-Table7[[#This Row],[مصروفات]]","v":2750}]
[365,"2023-10-23",{"$f":"SUMIF(Icvome!D:D,B366,Icvome!E:E)+SUMIF(Sales!B:B,B366,Sales!D:D)","v":0},{"$f":"SUMIF(Expens!B:B,B366,Expens!D:D)","v":0},{"$f":"E365+Table7[[#This Row],[ايرادات]]-Table7[[#This Row],[مصروفات]]","v":2750}]