{"text_format":"1","workbook":"xlsx","n_sheets":2,"sheets":["Sheet1","Sheet2"],"not_rendered":{"charts":0,"images":0,"macros":1,"external_links":0,"defined_names":0,"comments":0,"pivot_tables":0},"unopened":[],"bounds":{"document_bytes":16777216,"sheet_cells":100000,"rows_first":2000,"rows_last":500,"rows_between":2000,"halvings":0,"cell_chars":16384,"cell_head_chars":4096},"cells_cut":0,"cells_raw":0,"read":"whole","date_system":"1900"}

{"sheet":"Sheet1","index":0,"n_rows":771,"n_cols":2,"rows_kept":771,"cut":false,"hidden":false,"merged":[]}
["الاسم","الصفحة"]
["أ/احمد عبدالصبور",15]
["أ/عبدالصبور احمد عبدالعزيز",13]
["أ/عبدالصبور احمد عبدالعزيز",36]
["ابراهيم خليفة",100]
["ابراهيم خليفه",30]
["ابراهيم خليفه",40]
["ابراهيم على",98]
["ابراهيم منصور",19]
["ابراهيم منصور",20]
["ابراهيم منصور",31]
["ابراهيم منصور",41]
["ابوصدام",28]
["ابوصدام",30]
["ابوصدام",31]
["ابوصدام",33]
["احمد عبادة",5]
["احمد عبادة",8]
["احمد عبادة",10]
["احمد عبادة",13]
["احمد عبادة",14]
["احمد عبادة",15]
["احمد عبادة",19]
["احمد عبادة",23]
["احمد عبادة",27]
["احمد عبادة",97]
["احمد عبادة",99]
["احمد عبادة عزبة ابوالنور",11]
["احمد عبادة عزبة ابوالنور",25]
["احمد عباده",7]
["احمد عباده",40]
["احمد عباده",49]
["احمد عباده عزبة ابوالنور",2]
["احمد عباس",20]
["احمد عباس",21]
["احمد عبدالسلام",27]
["احمد عبدالسلام محمود",17]
["احمد عبدالسلام محمود",18]
["احمد عماره",15]
["احمد محمود",40]
["اسلام عبدالمولى",2]
["اسلام عبدالمولى",27]
["اسلام عبدالمولى عزبة ابوالنور",13]
["اسماعيل",25]
["اسماعيل امين",15]
["اسماعيل امين",33]
["اسماعيل امين",35]
["اسماعيل امين",45]
["اسماعيل امين",46]
["اسماعيل امين",97]
["اشرف عبدالباسط",22]
["اشرف عبدالباسط",29]
["اشرف عبدالباسط",45]
["اصيلة",32]
["الاستاذ حازم",7]
["الاستاذ حازم",11]
["الاستاذ حازم",12]
["البحر",1]
["البحر",2]
["البحر",11]
["البحر",16]
["البحر",17]
["البحر",19]
["البحر",20]
["البحر",23]
["البحر",25]
["البحر",27]
["البحر",30]
["البحر",31]
["البحر",34]
["البحر",35]
["البحر",40]
["البحر",41]
["البحر",46]
["البحر",97]
["البحر",98]
["البحر",99]
["البوسطة",1]
["البوسطة",2]
["البوسطة",13]
["البوسطة",18]
["البوسطة",28]
["البوسطة",29]
["البوسطة",33]
["البوسطة",34]
["البوسطه",42]
["البوسطه",44]
["البوسطه",97]
["البوسطه",98]
["الجمعية الزراعية",6]
["الجمعية الزراعية",9]
["الجمعية الزراعية",19]
["الجمعية الزراعية",22]
["الجمعية الزراعية",23]
["الجمعية الزراعية",31]
["الجمعية الزراعية",32]
["الجمعيه الزراعيه",45]
["الجمعيه الزراعيه",46]
["الدهشورى",21]
["الدهشورية",1]
["الشيخ احمد هندى",3]
["الشيخ احمد هندى",9]
["الشيخ احمد هندى",11]
["الشيخ احمد هندى",13]
["الشيخ احمد هندى",18]
["الشيخ احمد هندى",26]
["الشيخ احمد هندى",36]
["الشيخ عبده شاكر",14]
["الشيخ عبده شاكر",42]
["الشيخ عبده شاكر",43]
["الشيخ عبده شاكر",44]
["الطابونة",98]
["الطابونه",49]
["العمدة احمد",4]
["العمدة احمد",14]
["العمدة احمد",31]
["العمدة حسن",33]
["العمدة حسن",35]
["العمده احمد",50]
["العمده حسن",98]
["المحمدى",24]
["المدرسة عزبة سامحى",32]
["المدرسة عزبة سامحى",100]
["المريوطية",3]
["المريوطية",4]
["المريوطية",10]
["المريوطية",19]
["المريوطية",24]
["المريوطية",26]
["المريوطية",34]
["المريوطية",35]
["المريوطيه",37]
["المريوطيه",38]
["المريوطيه",97]
["المستشار حازم",47]
["المستشار حازم",98]
["المسجد العتيق",3]
["المسجد العتيق",8]
["المسجد العتيق",14]
["المسجد العتيق",23]
["المسجد العتيق",24]
["المسجد العتيق",49]
["المسجد الغربى",2]
["المسجد الغربى",18]
["المسجد الغربى",28]
["المسجد الغربى عزبة ابوالنور",12]
["باسم فريد",30]
["بدران عزبة ابوالنور",12]
["بشير ابراهيم",30]
["بنسش عبدالحليم",98]
["بهاء احمد",5]
["بهاء احمد",15]
["بهاء احمد",16]
["بهاء احمد",23]
["بهاء احمد",24]
["بهاء احمد",49]
["ترعة الطهماويه",26]
["ترعة الطهماويه",29]
["ترعة الطهماويه",32]
["ترعة بدسا",7]
["ترعة بدسا",8]
["ترعة بدسا",14]
["ترعة بدسا",18]
["ترعة بدسا",25]
["ترعة بدسا",30]
["ترعة بدسا",33]
["ترعة بدسا",35]
["ترعة بدسا",47]
["ترعة بيدف",8]
["ترعة بيدف",28]
["ترعة بيدف بيدف",38]
["ترعة بيدف شرق",33]
["ترعة بيدف شرق",35]
["ترعة بيدف شرق",97]
["ترعة بيدف غرب",22]
["ترعه الطهماويه",39]
["ترعه بدسا",39]
["ترعه بيدف شرق",39]
["جابر يوسف",11]
["جابر يوسف",97]
["جمال محمد عثمان",6]
["جمال محمد عثمان",14]
["جمال محمد عثمان",25]
["جمال محمد عثمان",26]
["جمال محمد عثمان ",35]
["جمال محمد عثمان",49]
["جمال محمد عثمان",97]
["جمال محمد عثمان",98]
["جمعه مصرى",25]
["ح سامى",100]
["ح شبين على",46]
["ح شيمى على",30]
["ح عبدالحميد ابراهيم",45]
["ح عطاالله محمد",14]
["ح عطاالله محمد",20]
["ح منصور يونس",46]
["ح ناجى عبدالحميد",46]
["ح هاشم عطيه",46]
["حاتم عبدالجليل",6]
["حاتم عبدالجليل",34]
["حاتم عبدالمطلب",6]
["حاتم عبدالمطلب",9]
["حاتم عبدالمطلب",25]
["حاتم عبدالمطلب",32]
["حاتم عبدالمطلب",33]
["حاتم عبدالمطلب",36]
["حاتم عبدالمطلب",44]
["حاتم عبدالمطلب",100]
["حداد ابوسعده",3]
["حداد ابوسعده",45]
["حسب الله",99]
["حسن شافعى عزبة ابوالنور",5]
["حسن شافعى عزبة ابوالنور",11]
["حسن شافعى عزبة ابوالنور",12]
["حسن شافعى عزبه النور",48]
["حسن عبدالحكيم",29]
["حسين شعراوى",7]
["حضانة اللواء",13]
["حضانة اللواء",15]
["حضانة اللواء",32]
["حضانة اللواء",34]
["حضانة اللواء",97]
["حضانه اللواء",41]
["حلمى عبدالباقى عزبة ابوالنور",12]
["حلمى عبدالحليم عبدالله",37]
["حلمى عبدالعاطى عزبة ابوالنور",11]
["حليم عبدالعليم",45]
["حماده سامحى",9]
["حماده سامحى",31]
["حماده سامى",21]
["حماده سامى",22]
["حماده سامى",27]
["حماده سامى عزبه سامى",48]
["حماده سيد",9]
["حماده فتونه",9]
["حماده فتونه",15]
["حماده فتونه",16]
["حماده فتونه",21]
["حمده الحصاوى",23]
["خاطر عساكر",18]
["خاطر عساكر",34]
["خاطر عساكر عزبة ابوالنور",25]
["خالد",25]
["خالد عبدالله",15]
["خالد عبدالله",30]
["خالد عبدالله",50]
["خالد عبده",34]
["خطاب محمد",1]
["خطاب محمد",2]
["خطاب محمد",4]
["خطاب محمد",5]
["خطاب محمد",12]
["خطاب محمد",16]
["خطاب محمد",17]
["خطاب محمد",18]
["خطاب محمد",19]
["خطاب محمد",20]
["خطاب محمد",24]
["خطاب محمد",26]
["خطاب محمد",27]
["خطاب محمد",34]
["خطاب محمد",49]
["خليل عبدالله",40]
["ديب فرجانى",21]
["ديب فرجانى",48]
["ديب فرجانى عزبة ابوالنور",11]
["رجب عبدالغنى",19]
["رجب عبدالغنى",100]
["رجب عبدالمولى",22]
["رجب عبدالمولى",29]
["رجب قرنى",21]
["رجب قرنى",30]
["رضا ابراهيم",15]
["رضا ابراهيم",25]
["رضا ابراهيم",41]
["رضا ابراهيم",98]
["رضا احمد عبدالفتاح",35]
["رضا سامحى",31]
["رضا سامحى عزبة سامحى",32]
["رضا سامحى عزبة سامحى",33]
["رضا سامى",100]
["رضا عدنان",16]
["رضا عدنان",49]
["رضا عدنان",97]
["رمضان سالم",16]
["رمضان سالم",47]
["رمضان سعيد",47]
["رمضان سيد",25]
["رمضان سيد",35]
["رمضان سيد",47]
["زاوية شرق الكوبرى",47]
["زقاق اكمل",5]
["زقاق اكمل عزبة ابوالنور",12]
["زقاق امام",23]
["زقاق امام",24]
["زقاق انور",15]
["زقاق انور",31]
["زقاق توبة",98]
["زقاق توبه",39]
["زقاق سيد ربيع",32]
["زقاق شحاته عبدالفتاح",13]
["زقاق شعبان مرسى",27]
["زقاق عبدالبديع",50]
["زقاق عبدالرشيد",40]
["زقاق عبدالعاطى",14]
["زقاق عبدالعاطى",23]
["زقاق عبدالمنعم",30]
["زقاق عبدالمولى",8]
["زقاق عبده",20]
["زقاق عبده",50]
["زقاق عمر عبدالمولى",25]
["زقاق عمرو عبدالمولى",20]
["زقاق عيد لملوم",2]
["زقاق عيد لملوم",27]
["زقاق عيد لملوم",29]
["زقاق عيد لملوم عزبة ابوالنور",13]
["زقاق هلال عزبة ابوالنور",26]
["زكرى عبدالوهاب",16]
["سامى جابر",47]
["سامى جبر",7]
["سامى جبر",14]
["سامى جبر",15]
["سامى جبر",40]
["سامى جبر",97]
["سامى جبر",99]
["سامى جبر عزبة ابوالنور",1]
["سامى جميل",19]
["سامى جميل",99]
["سامى عبدالعليم",18]
["سامى عيد",24]
["سعد شتيوى",46]
["سعد عبدالوهاب",7]
["سعد عبدالوهاب",17]
["سعد عبدالوهاب",19]
["سعد عبدالوهاب",26]
["سعيد عباس",14]
["سعيد عبدالظاهر",27]
["سعيد عبسى",99]
["سعيد عيسى عزبه النور",48]
["سيد احمد محمد عبدالعزيز",23]
["سيد امام",25]
["سيد سعد امين",28]
["سيد سيد احمد",35]
["سيد عبدالعزيز",7]
["سيد عبدالعزيز",8]
["سيد على ",21]
["سيد نصر",8]
["شرق الكوبرى",3]
["شرق الكوبرى",25]
["شرق الكوبرى",30]
["شرق الكوبرى",33]
["شرق الكوبرى",35]
["شرق الكوبرى",46]
["شرق الكوبرى",47]
["شعبان جمعه",17]
["شعبان جمعه",26]
["شعبان فولى عزبة ابوالنور",32]
["شعبان متولى عزبة ابوالنور",24]
["شلبى على",23]
["شمعون",18]
["شمعون",27]
["شمعون/عزبة ابوالنور",99]
["شوقى محمود عزبة ابوالنور",12]
["صابر يوسف",48]
["صادق محمد",4]
["صادق محمد",5]
["صادق محمد",6]
["صادق محمد",17]
["صادق محمد",24]
["صادق محمد",34]
["صادق محمد",35]
["صادق محمد عزبة احمد عونى",10]
["صبحى عبدالحليم عبدالله",10]
["صفوت الامير",16]
["صلاح عبدالباسط",32]
["ضاهر عساكر",40]
["طارق هادى",100]
["طلب",44]
["طلب",45]
["طه محمود",4]
["طه محمود",6]
["طه محمود",21]
["طه محمود",27]
["طه محمود",28]
["طه محمود",34]
["طه محمود عزبة ابوالنور",11]
["طه محمود عزبة احمد عونى",16]
["طوخى",21]
["طوخى عزبة احمد عونى",7]
["عادل عبده",8]
["عادل عبده",13]
["عادل عبده",14]
["عادل عبده",15]
["عادل عبده",23]
["عادل عبده",28]
["عادل عبده",30]
["عادل عبده",31]
["عادل عبده",34]
["عادل عبده",40]
["عادل عبده",99]
["عادل فرحات",12]
["عاطف عسران",4]
["عبدالباسط سعد",19]
["عبدالباسط سعد",30]
["عبدالباسط سعد",34]
["عبدالباسط سعد",35]
["عبدالباسط سعد",98]
["عبدالباسط عبدالبديع",47]
["عبدالباسط عبدالبديع",97]
["عبدالباسط عبدالمحسن",16]
["عبدالباسط عبدالمحسن",24]
["عبدالباسط عبدالمحسن",28]
["عبدالباسط عيد",30]
["عبدالباسط محمد",29]
["عبدالباقى محمد",98]
["عبدالحليم عبدالظاهر",19]
["عبدالحليم عبدالظاهر",23]
["عبدالحليم عبدالظاهر",28]
["عبدالحليم عبدالظاهر",32]
["عبدالحميد عبدالتواب",18]
["عبدالحميد عبدالتواب",35]
["عبدالحميد عبدالتواب",37]
["عبدالحميد عبدالتواب",38]
["عبدالحميد عبدالتواب",97]
["عبدالخالق سيد",12]
["عبدالستار زهران",2]
["عبدالستار زهران",3]
["عبدالستار زهران",7]
["عبدالستار زهران",10]
["عبدالستار زهران",17]
["عبدالستار زهران",18]
["عبدالستار زهران",19]
["عبدالستار زهران",27]
["عبدالستار زهران",28]
["عبدالسلام عبدالحكيم",21]
["عبدالسلام عبدالحكيم",29]
["عبدالسلام عبدالحكيم",34]
["عبدالسلام عبدالحكيم",40]
["عبدالسلام عبدالحكيم",48]
["عبدالسلام عبدالحكيم عزبة ابوالنور",11]
["عبدالسلام عبدالحكيم عزبة ابوالنور",12]
["عبدالسلام عبدالحكيم عزبة ابوالنور",13]
["عبدالسميع مطاريد",6]
["عبدالسميع مطاريد",34]
["عبدالصبور",17]
["عبدالصبور احمد",18]
["عبدالصبور احمد ",100]
["عبدالصبور احمد عبدالصمد",6]
["عبدالصبور احمد عبدالغزيز",26]
["عبدالعاطى احمد",48]
["عبدالعاطى عبدالحميد",1]
["عبدالعاطى عبدالحميد",4]
["عبدالعاطى محمد",15]
["عبدالعاطى محمد",31]
["عبدالعاطى محمد",33]
["عبدالعاطى محمد",38]
["عبدالعال",28]
["عبدالعال سيد",14]
["عبدالعال سيد",31]
["عبدالعال سيد",32]
["عبدالعال سيد",34]
["عبدالعال سيد",42]
["عبدالعال سيد",43]
["عبدالفتاح سالم",30]
["عبدالقادر حداد",22]
["عبدالقادر حداد",29]
["عبدالله صالح",97]
["عبدالله عبدالظاهر",41]
["عبدالله عبدالعليم",6]
["عبدالله عبدالعليم",8]
["عبدالله عبدالعليم",9]
["عبدالله عبدالعليم",13]
["عبدالله عبدالعليم",15]
["عبدالله عبدالعليم",35]
["عبدالمطلب عبدالغنى صاوى",97]
["عبدالمعبود احمد عبدالعزيز",2]
["عبدالمعطى محمد",37]
["عبدالمقصود احمد",4]
["عبدالمنعم عبدالسيد",8]
["عبدالمولى عبدالحميد",22]
["عبدالناصر سيد",20]
["عبدالناصر سيد",21]
["عبدالناصر سيد",34]
["عبده متولى",5]
["عثمان جميل",41]
["عدلى السنجرى",38]
["عدلى السنجرى",39]
["عربى حليفه عزبةابوالنور",3]
["عربى خليفة",99]
["عربى خليفه",15]
["عربى خليفه",23]
["عربى خليفه",24]
["عربى خليفه عزبة ابوالنور",32]
["عربى خليفه عزبه ابوالنور",40]
["عز صادق عزبه النور",48]
["عز عبده",30]
["عزام بشر",5]
["عزام بشير",20]
["عزام بشير",28]
["عزام بشير",29]
["عزام بشير",31]
["عزام بشير",33]
["عزام بشير",49]
["عزام بشير",99]
["عزبة ابوالنور",10]
["عزبة ابوالنور",12]
["عزبة احمد عونى",16]
["عزبة خليفه",30]
["عزبة ماهر نخلة",10]
["عزبه ابوالنور",47]
["عزبه الاصلاح",45]
["عزبه الاصلاح الزراعى",39]
["عزت صلاح",5]
["عزت صلاح عزبة ابوالنور",12]
["عزيز ابوالنور",8]
["عطاالله محمد",20]
["عطاالله محمد عطاالله",1]
["عطية عبدالباقى",5]
["عطيه عبدالباقى",17]
["عطيه عبدالباقى",18]
["عطيه عبدالباقى",21]
["عطيه عبدالباقى",27]
["عطيه عبدالباقى",30]
["عطيه عبدالباقى",32]
["عطيه عبدالباقى عزبة ابوالنور",11]
["عطيه عبدالباقى عزبة ابوالنور",13]
["عطيه عبدالباىقى",2]
["عكاشة",25]
["عكاشه",39]
["علاء عبدالباقى عزبة ابوالنور",7]
["على حسن حسن",6]
["على سرحان",21]
["على سيد احمد",1]
["على سيد احمد",7]
["على سيد احمد",16]
["على سيد احمد",21]
["على سيد احمد",22]
["على سيد احمد",23]
["على سيد احمد",24]
["على سيد احمد احمد",3]
["على سيد احمد احمد",10]
["على سيد احمد احمد",34]
["على سيد محمد",34]
["عمرو محمود",24]
["عوض ربيع عزبة ابوالنور",13]
["عوض فرج",1]
["عوض فرج",16]
["عوض فرج",22]
["عوض فرج",29]
["عوض فرج",48]
["عياد طه",21]
["عياد طه",32]
["عيد خميس",7]
["عيد خميس",12]
["عيد خميس",28]
["عيد خميس",29]
["عيد خميس",39]
["عيد ميخائيل",7]
["عيد ميخائيل",9]
["عيد ميخائيل",98]
["غزال القرنى",9]
["غزال القرنى",10]
["غزال قرنى",14]
["غزال قرنى",22]
["غزال قرنى",35]
["غزال قرنى",41]
["غزال قرنى",98]
["غزال قرنى",99]
["غزالى قرنى",23]
["فؤاد عبدالعزيز",16]
["فؤاد عبدالعزيز",37]
["فؤاد عبدالعزيز",47]
["فؤاد عبدالعزيز عزبة ابوالنور",5]
["فتحى السيد",24]
["فتحى السيد",35]
["فتحى السيد",50]
["فتحى حسن",21]
["فتحى حسن",34]
["فتحى حسن عزبه النور",48]
["فرج هريدى",8]
["فرجان امام عزبة ابوالنور",1]
["فكرى عبدالوهاب",2]
["فكرى عبدالوهاب",4]
["فكرى عبدالوهاب",8]
["فكرى عبدالوهاب",10]
["فكرى عبدالوهاب",17]
["فكرى عبدالوهاب",26]
["فكرى عبدالوهاب",29]
["فكرى عبدالوهاب",48]
["فهمى الخياط",14]
["فهمى الخياط",15]
["فهمى الخياط",23]
["فهمى الخياط",24]
["فهمى الخياط",27]
["فهمى الخياط",28]
["فهمى الخياط",50]
["فهمى خليفه",28]
["فهمى خليفه",50]
["فهمى عطيه",20]
["فهمى محمد",13]
["فهمى محمد",97]
["قهوة عبدالمنعم",1]
["قهوة عبدالمنعم",2]
["قهوة عبدالمنعم",4]
["قهوة عبدالمنعم",6]
["قهوة عبدالمنعم",7]
["قهوة عبدالمنعم",9]
["قهوة عبدالمنعم",10]
["قهوة عبدالمنعم",16]
["قهوة عبدالمنعم",18]
["قهوة عبدالمنعم",26]
["قهوة عبدالمنعم",33]
["قهوة عبدالمنعم",38]
["قهوه عبدالمنعم",39]
["كامل عبدالرحمن",2]
["كامل عبدالرحمن",8]
["كامل عبدالرحمن",10]
["كامل عبدالرحمن",13]
["كامل عبدالرحمن",15]
["كامل عبدالرحمن",21]
["كامل عبدالرحمن",23]
["كامل عبدالرحمن",29]
["كامل عبدالرحمن",35]
["كامل عبدالرحمن",99]
["كامل عبدالله",19]
["كرم",14]
["كرم",16]
["كمال ابراهيم",1]
["كمال ابراهيم",4]
["كمال ابراهيم",19]
["كمال ابراهيم",21]
["كمال ابراهيم",22]
["كمال ابراهيم",29]
["كمال كامل",5]
["كمال كامل",42]
["كمال كامل",43]
["كمال محمدين",6]
["كمال محمدين",16]
["كمال محمدين",25]
["كمال محمدين",31]
["لملوم",24]
["ليثى",31]
["ليثى",38]
["ماكينة الطحين",9]
["ماكينة الطحين",13]
["ماكينة الطحين",14]
["ماكينة الطحين",15]
["ماكينة الطحين",23]
["ماكينة الطحين",25]
["ماكينة الطحين",98]
["ماكينه الطحين",49]
["مبروك سيد مبروك",3]
["محمد امام",20]
["محمد امام",50]
["محمد حسين ابوسعده",49]
["محمد صلاح",32]
["محمد صلاح",48]
["محمد صلاح",49]
["محمد عبدالخالق",9]
["محمد عبدالخالق",10]
["محمد عبدالعاطى",18]
["محمد عبداللطيف عزبة ابوالنور",11]
["محمد عبداللطيف عزبة ابوالنور",12]
["محمد علام",27]
["محمد على",7]
["محمد على",98]
["محمد على عبدالخالق",19]
["محمد على عبدالخالق",23]
["محمد على عبدالخالق",25]
["محمد على عبدالخالق",47]
["محمد عيسى",19]
["محمد فتحى",1]
["محمد فتحى عزبة ابوالنور",11]
["محمد فهمى",9]
["محمد كمال ابراهيم",21]
["محمد مهدى",22]
["محمد مهدى عزبة ابوالنور",12]
["محمد هريدى",19]
["محمد هريدى",20]
["محمد هريدى",31]
["محمد هريدى",32]
["محمد هريدى",47]
["محمد هريدى",97]
["محمد يوسف",19]
["محمد يوسف",38]
["محمود الحجار",38]
["محمود سمير حميده",18]
["محمود محمد",18]
["محمود محمد حميدة",2]
["محمود محمد حميده",4]
["محمود محمود ",20]
["محمود محمود حمدى",11]
["محمود محمود حمزة",6]
["محمود محمود حمزة",7]
["محمود محمود حميده",10]
["محمود محمود حميده",17]
["محمود محمود حميده",20]
["محمود محمود حميده",26]
["محمود محمود حميده",27]
["مختار سيف",43]
["مختار سيف",44]
["مدخل عزبه محمد ادريس",45]
["مرجان امام",31]
["مرجان امام",32]
["مرجان امام",100]
["مسجد الايمان",18]
["مسجد الايمان",20]
["مسجد الايمان",21]
["مسجد الايمان",50]
["مسجد الايمان عزبة احمد عونى",13]
["مسجد النصر",1]
["مسجد النصر",2]
["مسجد النصر",3]
["مسجد النصر",4]
["مسجد النصر",11]
["مسجد النصر",33]
["مسجد النصر",49]
["مسجد النور",11]
["مسجد حسين ابوسعده",3]
["مسجد حسين ابوسعده",5]
["مسجد زاويه محمود",50]
["مسجد عزبة الاصلاح",3]
["مسعد عبدالمولى",2]
["مسعد عبدالمولى",9]
["مصرف طهما",17]
["معهد محمد ادريس",45]
["ممدوح عبادة",22]
["ممدوح عبادة",28]
["ممدوح عباده",34]
["ممدوح عباده",39]
["منصور محمد",14]
["منصور محمد",19]
["منصور محمد",30]
["منصور محمد",32]
["موسى الغريب",48]
["موسى الفيومى",33]
["ناجى عبدالمجيد عطيه",45]
["نادى عريدى",9]
["نادى هريدى",6]
["نادى هريدى",11]
["نادى هريدى",13]
["نادى هريدى",20]
["نادى هريدى",21]
["نادى هريدى",28]
["نادى هريدى",29]
["نادى هريدى عزبة ابوالنور",26]
["نبيشى عبدالحليم",5]
["نبيشى عبدالحليم",8]
["نبيل فرجانى",100]
["نمر صادق",1]
["نمر صادق",4]
["نمر صادق",13]
["نمر صادق",27]
["نمر صادق",29]
["نمر صادق",33]
["نمر صادق",100]
["هاشم عطيه",97]
["وردان عزبة ابوالنور",5]
["وردانى",5]
["وردانى",20]
["وردانى",35]
["وردانى عزبة ابوالنور",2]
["وردانى عزبة ابوالنور",25]
["وردانى عزبه النور",48]
["وليد عبدالناصر",8]
["وليد عبدالناصر",22]
["وليد كامل",32]
["ياسر امين",9]
["يحيى",15]
["يوسف احمد",19]
["يوسف حسن",27]

{"sheet":"Sheet2","index":1,"n_rows":187,"n_cols":5,"rows_kept":187,"cut":false,"hidden":false,"merged":[]}
["الاسم","الصفحة"]
["محمد",100]
["منصور",1]
["محمد",1]
["احمد ",1]
["السيد",1]
["مصطفى",1,null,"الاسم","الصفحة"]
["على",1,null,{"$f":"IFERROR(IF(A2<>\"\",INDEX($A$2:$A$200,MATCH(0,COUNTIF($D$7:D7,$A$2:$A$200),0)),\"\"),\"\")","v":"محمد"},{"$f":"IF(D8=\"\",\"\",IFERROR(_xlfn.SINGLE(Singlecellextract(D8,Sheet2!$A$2:$B$500,2)),\"\"))","v":" 100, 1, 1, 1, 2, 2, 3, 3, 4, 4, 5, 5, 6, 6, 7, 7"}]
["السيد ",1,null,{"$f":"IFERROR(IF(A3<>\"\",INDEX($A$2:$A$200,MATCH(0,COUNTIF($D$7:D8,$A$2:$A$200),0)),\"\"),\"\")","v":"منصور"},{"$f":"IF(D9=\"\",\"\",IFERROR(_xlfn.SINGLE(Singlecellextract(D9,Sheet2!$A$2:$B$500,2)),\"\"))","v":" 1, 1, 2, 3, 4, 5, 6, 7"}]
["جابر",1,null,{"$f":"IFERROR(IF(A4<>\"\",INDEX($A$2:$A$200,MATCH(0,COUNTIF($D$7:D9,$A$2:$A$200),0)),\"\"),\"\")","v":"احمد "},{"$f":"IF(D10=\"\",\"\",IFERROR(_xlfn.SINGLE(Singlecellextract(D10,Sheet2!$A$2:$B$500,2)),\"\"))","v":" 1, 1, 2, 3, 4, 5, 6, 7"}]
["عبد الله",1,null,{"$f":"IFERROR(IF(A5<>\"\",INDEX($A$2:$A$200,MATCH(0,COUNTIF($D$7:D10,$A$2:$A$200),0)),\"\"),\"\")","v":"السيد"},{"$f":"IF(D11=\"\",\"\",IFERROR(_xlfn.SINGLE(Singlecellextract(D11,Sheet2!$A$2:$B$500,2)),\"\"))","v":" 1, 2, 2, 3, 4, 5, 6, 7"}]
["هريدى",1,null,{"$f":"IFERROR(IF(A6<>\"\",INDEX($A$2:$A$200,MATCH(0,COUNTIF($D$7:D11,$A$2:$A$200),0)),\"\"),\"\")","v":"مصطفى"},{"$f":"IF(D12=\"\",\"\",IFERROR(_xlfn.SINGLE(Singlecellextract(D12,Sheet2!$A$2:$B$500,2)),\"\"))","v":" 1, 2, 2, 3, 4, 5, 6, 7"}]
["نور ",1,null,{"$f":"IFERROR(IF(A7<>\"\",INDEX($A$2:$A$200,MATCH(0,COUNTIF($D$7:D12,$A$2:$A$200),0)),\"\"),\"\")","v":"على"},{"$f":"IF(D13=\"\",\"\",IFERROR(_xlfn.SINGLE(Singlecellextract(D13,Sheet2!$A$2:$B$500,2)),\"\"))","v":" 1, 2, 2, 3, 4, 5, 6, 7"}]
["نوال",1,null,{"$f":"IFERROR(IF(A8<>\"\",INDEX($A$2:$A$200,MATCH(0,COUNTIF($D$7:D13,$A$2:$A$200),0)),\"\"),\"\")","v":"السيد "},{"$f":"IF(D14=\"\",\"\",IFERROR(_xlfn.SINGLE(Singlecellextract(D14,Sheet2!$A$2:$B$500,2)),\"\"))","v":" 1, 2, 2, 3, 4, 5, 6, 7"}]
["المهدى",1,null,{"$f":"IFERROR(IF(A9<>\"\",INDEX($A$2:$A$200,MATCH(0,COUNTIF($D$7:D14,$A$2:$A$200),0)),\"\"),\"\")","v":"جابر"},{"$f":"IF(D15=\"\",\"\",IFERROR(_xlfn.SINGLE(Singlecellextract(D15,Sheet2!$A$2:$B$500,2)),\"\"))","v":" 1, 2, 3, 3, 4, 5, 6, 7"}]
["سيادة",1,null,{"$f":"IFERROR(IF(A10<>\"\",INDEX($A$2:$A$200,MATCH(0,COUNTIF($D$7:D15,$A$2:$A$200),0)),\"\"),\"\")","v":"عبد الله"},{"$f":"IF(D16=\"\",\"\",IFERROR(_xlfn.SINGLE(Singlecellextract(D16,Sheet2!$A$2:$B$500,2)),\"\"))","v":" 1, 2, 3, 3, 4, 5, 6, 7"}]
["السيدة",1,null,{"$f":"IFERROR(IF(A11<>\"\",INDEX($A$2:$A$200,MATCH(0,COUNTIF($D$7:D16,$A$2:$A$200),0)),\"\"),\"\")","v":"هريدى"},{"$f":"IF(D17=\"\",\"\",IFERROR(_xlfn.SINGLE(Singlecellextract(D17,Sheet2!$A$2:$B$500,2)),\"\"))","v":" 1, 2, 3, 3, 4, 5, 6, 8"}]
["مها نها",1,null,{"$f":"IFERROR(IF(A12<>\"\",INDEX($A$2:$A$200,MATCH(0,COUNTIF($D$7:D17,$A$2:$A$200),0)),\"\"),\"\")","v":"نور "},{"$f":"IF(D18=\"\",\"\",IFERROR(_xlfn.SINGLE(Singlecellextract(D18,Sheet2!$A$2:$B$500,2)),\"\"))","v":" 1, 2, 3, 3, 4, 5, 6, 8"}]
["نهى",1,null,{"$f":"IFERROR(IF(A13<>\"\",INDEX($A$2:$A$200,MATCH(0,COUNTIF($D$7:D18,$A$2:$A$200),0)),\"\"),\"\")","v":"نوال"},{"$f":"IF(D19=\"\",\"\",IFERROR(_xlfn.SINGLE(Singlecellextract(D19,Sheet2!$A$2:$B$500,2)),\"\"))","v":" 1, 2, 3, 4, 4, 5, 6, 6, 7, 8"}]
["انور",1,null,{"$f":"IFERROR(IF(A14<>\"\",INDEX($A$2:$A$200,MATCH(0,COUNTIF($D$7:D19,$A$2:$A$200),0)),\"\"),\"\")","v":"المهدى"},{"$f":"IF(D20=\"\",\"\",IFERROR(_xlfn.SINGLE(Singlecellextract(D20,Sheet2!$A$2:$B$500,2)),\"\"))","v":" 1, 2, 3, 4, 4, 5, 6, 6, 7, 8"}]
["محرم",1,null,{"$f":"IFERROR(IF(A15<>\"\",INDEX($A$2:$A$200,MATCH(0,COUNTIF($D$7:D20,$A$2:$A$200),0)),\"\"),\"\")","v":"سيادة"},{"$f":"IF(D21=\"\",\"\",IFERROR(_xlfn.SINGLE(Singlecellextract(D21,Sheet2!$A$2:$B$500,2)),\"\"))","v":" 1, 2, 3, 4, 4, 5, 6, 6, 7, 8"}]
["عباس",1,null,{"$f":"IFERROR(IF(A16<>\"\",INDEX($A$2:$A$200,MATCH(0,COUNTIF($D$7:D21,$A$2:$A$200),0)),\"\"),\"\")","v":"السيدة"},{"$f":"IF(D22=\"\",\"\",IFERROR(_xlfn.SINGLE(Singlecellextract(D22,Sheet2!$A$2:$B$500,2)),\"\"))","v":" 1, 2, 3, 4, 4, 5, 6, 7, 7, 8"}]
["محمد",1,null,{"$f":"IFERROR(IF(A17<>\"\",INDEX($A$2:$A$200,MATCH(0,COUNTIF($D$7:D22,$A$2:$A$200),0)),\"\"),\"\")","v":"مها نها"},{"$f":"IF(D23=\"\",\"\",IFERROR(_xlfn.SINGLE(Singlecellextract(D23,Sheet2!$A$2:$B$500,2)),\"\"))","v":" 1, 2, 3, 4, 5, 5, 6, 7, 7, 8"}]
["منصور",1,null,{"$f":"IFERROR(IF(A18<>\"\",INDEX($A$2:$A$200,MATCH(0,COUNTIF($D$7:D23,$A$2:$A$200),0)),\"\"),\"\")","v":"نهى"},{"$f":"IF(D24=\"\",\"\",IFERROR(_xlfn.SINGLE(Singlecellextract(D24,Sheet2!$A$2:$B$500,2)),\"\"))","v":" 1, 2, 3, 4, 5, 5, 6, 7, 7, 8"}]
["محمد",1,null,{"$f":"IFERROR(IF(A19<>\"\",INDEX($A$2:$A$200,MATCH(0,COUNTIF($D$7:D24,$A$2:$A$200),0)),\"\"),\"\")","v":"انور"},{"$f":"IF(D25=\"\",\"\",IFERROR(_xlfn.SINGLE(Singlecellextract(D25,Sheet2!$A$2:$B$500,2)),\"\"))","v":" 1, 2, 3, 4, 5, 5, 6, 7, 7, 8"}]
["احمد ",1,null,{"$f":"IFERROR(IF(A20<>\"\",INDEX($A$2:$A$200,MATCH(0,COUNTIF($D$7:D25,$A$2:$A$200),0)),\"\"),\"\")","v":"محرم"},{"$f":"IF(D26=\"\",\"\",IFERROR(_xlfn.SINGLE(Singlecellextract(D26,Sheet2!$A$2:$B$500,2)),\"\"))","v":" 1, 2, 3, 4, 5, 5, 6, 7, 7, 8"}]
["السيد",2,null,{"$f":"IFERROR(IF(A21<>\"\",INDEX($A$2:$A$200,MATCH(0,COUNTIF($D$7:D26,$A$2:$A$200),0)),\"\"),\"\")","v":"عباس"},{"$f":"IF(D27=\"\",\"\",IFERROR(_xlfn.SINGLE(Singlecellextract(D27,Sheet2!$A$2:$B$500,2)),\"\"))","v":" 1, 2, 3, 4, 5, 6, 6, 7, 7, 8"}]
["مصطفى",2,null,{"$f":"IFERROR(IF(A22<>\"\",INDEX($A$2:$A$200,MATCH(0,COUNTIF($D$7:D27,$A$2:$A$200),0)),\"\"),\"\")","v":0},{"$f":"IF(D28=\"\",\"\",IFERROR(_xlfn.SINGLE(Singlecellextract(D28,Sheet2!$A$2:$B$500,2)),\"\"))","v":""}]
["على",2,null,{"$f":"IFERROR(IF(A23<>\"\",INDEX($A$2:$A$200,MATCH(0,COUNTIF($D$7:D28,$A$2:$A$200),0)),\"\"),\"\")","v":""},{"$f":"IF(D29=\"\",\"\",IFERROR(_xlfn.SINGLE(Singlecellextract(D29,Sheet2!$A$2:$B$500,2)),\"\"))","v":""}]
["السيد ",2,null,{"$f":"IFERROR(IF(A24<>\"\",INDEX($A$2:$A$200,MATCH(0,COUNTIF($D$7:D29,$A$2:$A$200),0)),\"\"),\"\")","v":""},{"$f":"IF(D30=\"\",\"\",IFERROR(_xlfn.SINGLE(Singlecellextract(D30,Sheet2!$A$2:$B$500,2)),\"\"))","v":""}]
["جابر",2,null,{"$f":"IFERROR(IF(A25<>\"\",INDEX($A$2:$A$200,MATCH(0,COUNTIF($D$7:D30,$A$2:$A$200),0)),\"\"),\"\")","v":""},{"$f":"IF(D31=\"\",\"\",IFERROR(_xlfn.SINGLE(Singlecellextract(D31,Sheet2!$A$2:$B$500,2)),\"\"))","v":""}]
["عبد الله",2,null,{"$f":"IFERROR(IF(A26<>\"\",INDEX($A$2:$A$200,MATCH(0,COUNTIF($D$7:D31,$A$2:$A$200),0)),\"\"),\"\")","v":""},{"$f":"IF(D32=\"\",\"\",IFERROR(_xlfn.SINGLE(Singlecellextract(D32,Sheet2!$A$2:$B$500,2)),\"\"))","v":""}]
["هريدى",2,null,{"$f":"IFERROR(IF(A27<>\"\",INDEX($A$2:$A$200,MATCH(0,COUNTIF($D$7:D32,$A$2:$A$200),0)),\"\"),\"\")","v":""},{"$f":"IF(D33=\"\",\"\",IFERROR(_xlfn.SINGLE(Singlecellextract(D33,Sheet2!$A$2:$B$500,2)),\"\"))","v":""}]
["نور ",2,null,{"$f":"IFERROR(IF(A28<>\"\",INDEX($A$2:$A$200,MATCH(0,COUNTIF($D$7:D33,$A$2:$A$200),0)),\"\"),\"\")","v":""},{"$f":"IF(D34=\"\",\"\",IFERROR(_xlfn.SINGLE(Singlecellextract(D34,Sheet2!$A$2:$B$500,2)),\"\"))","v":""}]
["نوال",2,null,{"$f":"IFERROR(IF(A29<>\"\",INDEX($A$2:$A$200,MATCH(0,COUNTIF($D$7:D34,$A$2:$A$200),0)),\"\"),\"\")","v":""},{"$f":"IF(D35=\"\",\"\",IFERROR(_xlfn.SINGLE(Singlecellextract(D35,Sheet2!$A$2:$B$500,2)),\"\"))","v":""}]
["المهدى",2,null,{"$f":"IFERROR(IF(A30<>\"\",INDEX($A$2:$A$200,MATCH(0,COUNTIF($D$7:D35,$A$2:$A$200),0)),\"\"),\"\")","v":""},{"$f":"IF(D36=\"\",\"\",IFERROR(_xlfn.SINGLE(Singlecellextract(D36,Sheet2!$A$2:$B$500,2)),\"\"))","v":""}]
["سيادة",2,null,{"$f":"IFERROR(IF(A31<>\"\",INDEX($A$2:$A$200,MATCH(0,COUNTIF($D$7:D36,$A$2:$A$200),0)),\"\"),\"\")","v":""},{"$f":"IF(D37=\"\",\"\",IFERROR(_xlfn.SINGLE(Singlecellextract(D37,Sheet2!$A$2:$B$500,2)),\"\"))","v":""}]
["السيدة",2,null,{"$f":"IFERROR(IF(A32<>\"\",INDEX($A$2:$A$200,MATCH(0,COUNTIF($D$7:D37,$A$2:$A$200),0)),\"\"),\"\")","v":""},{"$f":"IF(D38=\"\",\"\",IFERROR(_xlfn.SINGLE(Singlecellextract(D38,Sheet2!$A$2:$B$500,2)),\"\"))","v":""}]
["مها نها",2,null,{"$f":"IFERROR(IF(A33<>\"\",INDEX($A$2:$A$200,MATCH(0,COUNTIF($D$7:D38,$A$2:$A$200),0)),\"\"),\"\")","v":""},{"$f":"IF(D39=\"\",\"\",IFERROR(_xlfn.SINGLE(Singlecellextract(D39,Sheet2!$A$2:$B$500,2)),\"\"))","v":""}]
["نهى",2,null,{"$f":"IFERROR(IF(A34<>\"\",INDEX($A$2:$A$200,MATCH(0,COUNTIF($D$7:D39,$A$2:$A$200),0)),\"\"),\"\")","v":""},{"$f":"IF(D40=\"\",\"\",IFERROR(_xlfn.SINGLE(Singlecellextract(D40,Sheet2!$A$2:$B$500,2)),\"\"))","v":""}]
["انور",2,null,{"$f":"IFERROR(IF(A35<>\"\",INDEX($A$2:$A$200,MATCH(0,COUNTIF($D$7:D40,$A$2:$A$200),0)),\"\"),\"\")","v":""},{"$f":"IF(D41=\"\",\"\",IFERROR(_xlfn.SINGLE(Singlecellextract(D41,Sheet2!$A$2:$B$500,2)),\"\"))","v":""}]
["محرم",2,null,{"$f":"IFERROR(IF(A36<>\"\",INDEX($A$2:$A$200,MATCH(0,COUNTIF($D$7:D41,$A$2:$A$200),0)),\"\"),\"\")","v":""},{"$f":"IF(D42=\"\",\"\",IFERROR(_xlfn.SINGLE(Singlecellextract(D42,Sheet2!$A$2:$B$500,2)),\"\"))","v":""}]
["عباس",2,null,{"$f":"IFERROR(IF(A37<>\"\",INDEX($A$2:$A$200,MATCH(0,COUNTIF($D$7:D42,$A$2:$A$200),0)),\"\"),\"\")","v":""},{"$f":"IF(D43=\"\",\"\",IFERROR(_xlfn.SINGLE(Singlecellextract(D43,Sheet2!$A$2:$B$500,2)),\"\"))","v":""}]
["محمد",2,null,{"$f":"IFERROR(IF(A38<>\"\",INDEX($A$2:$A$200,MATCH(0,COUNTIF($D$7:D43,$A$2:$A$200),0)),\"\"),\"\")","v":""},{"$f":"IF(D44=\"\",\"\",IFERROR(_xlfn.SINGLE(Singlecellextract(D44,Sheet2!$A$2:$B$500,2)),\"\"))","v":""}]
["منصور",2,null,{"$f":"IFERROR(IF(A39<>\"\",INDEX($A$2:$A$200,MATCH(0,COUNTIF($D$7:D44,$A$2:$A$200),0)),\"\"),\"\")","v":""},{"$f":"IF(D45=\"\",\"\",IFERROR(_xlfn.SINGLE(Singlecellextract(D45,Sheet2!$A$2:$B$500,2)),\"\"))","v":""}]
["محمد",2,null,{"$f":"IFERROR(IF(A40<>\"\",INDEX($A$2:$A$200,MATCH(0,COUNTIF($D$7:D45,$A$2:$A$200),0)),\"\"),\"\")","v":""},{"$f":"IF(D46=\"\",\"\",IFERROR(_xlfn.SINGLE(Singlecellextract(D46,Sheet2!$A$2:$B$500,2)),\"\"))","v":""}]
["احمد ",2,null,{"$f":"IFERROR(IF(A41<>\"\",INDEX($A$2:$A$200,MATCH(0,COUNTIF($D$7:D46,$A$2:$A$200),0)),\"\"),\"\")","v":""},{"$f":"IF(D47=\"\",\"\",IFERROR(_xlfn.SINGLE(Singlecellextract(D47,Sheet2!$A$2:$B$500,2)),\"\"))","v":""}]
["السيد",2,null,{"$f":"IFERROR(IF(A42<>\"\",INDEX($A$2:$A$200,MATCH(0,COUNTIF($D$7:D47,$A$2:$A$200),0)),\"\"),\"\")","v":""},{"$f":"IF(D48=\"\",\"\",IFERROR(_xlfn.SINGLE(Singlecellextract(D48,Sheet2!$A$2:$B$500,2)),\"\"))","v":""}]
["مصطفى",2,null,{"$f":"IFERROR(IF(A43<>\"\",INDEX($A$2:$A$200,MATCH(0,COUNTIF($D$7:D48,$A$2:$A$200),0)),\"\"),\"\")","v":""},{"$f":"IF(D49=\"\",\"\",IFERROR(_xlfn.SINGLE(Singlecellextract(D49,Sheet2!$A$2:$B$500,2)),\"\"))","v":""}]
["على",2,null,{"$f":"IFERROR(IF(A44<>\"\",INDEX($A$2:$A$200,MATCH(0,COUNTIF($D$7:D49,$A$2:$A$200),0)),\"\"),\"\")","v":""},{"$f":"IF(D50=\"\",\"\",IFERROR(_xlfn.SINGLE(Singlecellextract(D50,Sheet2!$A$2:$B$500,2)),\"\"))","v":""}]
["السيد ",2,null,{"$f":"IFERROR(IF(A45<>\"\",INDEX($A$2:$A$200,MATCH(0,COUNTIF($D$7:D50,$A$2:$A$200),0)),\"\"),\"\")","v":""},{"$f":"IF(D51=\"\",\"\",IFERROR(_xlfn.SINGLE(Singlecellextract(D51,Sheet2!$A$2:$B$500,2)),\"\"))","v":""}]
["جابر",3,null,{"$f":"IFERROR(IF(A46<>\"\",INDEX($A$2:$A$200,MATCH(0,COUNTIF($D$7:D51,$A$2:$A$200),0)),\"\"),\"\")","v":""},{"$f":"IF(D52=\"\",\"\",IFERROR(_xlfn.SINGLE(Singlecellextract(D52,Sheet2!$A$2:$B$500,2)),\"\"))","v":""}]
["عبد الله",3,null,{"$f":"IFERROR(IF(A47<>\"\",INDEX($A$2:$A$200,MATCH(0,COUNTIF($D$7:D52,$A$2:$A$200),0)),\"\"),\"\")","v":""},{"$f":"IF(D53=\"\",\"\",IFERROR(_xlfn.SINGLE(Singlecellextract(D53,Sheet2!$A$2:$B$500,2)),\"\"))","v":""}]
["هريدى",3,null,{"$f":"IFERROR(IF(A48<>\"\",INDEX($A$2:$A$200,MATCH(0,COUNTIF($D$7:D53,$A$2:$A$200),0)),\"\"),\"\")","v":""},{"$f":"IF(D54=\"\",\"\",IFERROR(_xlfn.SINGLE(Singlecellextract(D54,Sheet2!$A$2:$B$500,2)),\"\"))","v":""}]
["نور ",3,null,{"$f":"IFERROR(IF(A49<>\"\",INDEX($A$2:$A$200,MATCH(0,COUNTIF($D$7:D54,$A$2:$A$200),0)),\"\"),\"\")","v":""},{"$f":"IF(D55=\"\",\"\",IFERROR(_xlfn.SINGLE(Singlecellextract(D55,Sheet2!$A$2:$B$500,2)),\"\"))","v":""}]
["نوال",3,null,{"$f":"IFERROR(IF(A50<>\"\",INDEX($A$2:$A$200,MATCH(0,COUNTIF($D$7:D55,$A$2:$A$200),0)),\"\"),\"\")","v":""},{"$f":"IF(D56=\"\",\"\",IFERROR(_xlfn.SINGLE(Singlecellextract(D56,Sheet2!$A$2:$B$500,2)),\"\"))","v":""}]
["المهدى",3,null,{"$f":"IFERROR(IF(A51<>\"\",INDEX($A$2:$A$200,MATCH(0,COUNTIF($D$7:D56,$A$2:$A$200),0)),\"\"),\"\")","v":""},{"$f":"IF(D57=\"\",\"\",IFERROR(_xlfn.SINGLE(Singlecellextract(D57,Sheet2!$A$2:$B$500,2)),\"\"))","v":""}]
["سيادة",3,null,{"$f":"IFERROR(IF(A52<>\"\",INDEX($A$2:$A$200,MATCH(0,COUNTIF($D$7:D57,$A$2:$A$200),0)),\"\"),\"\")","v":""},{"$f":"IF(D58=\"\",\"\",IFERROR(_xlfn.SINGLE(Singlecellextract(D58,Sheet2!$A$2:$B$500,2)),\"\"))","v":""}]
["السيدة",3,null,{"$f":"IFERROR(IF(A53<>\"\",INDEX($A$2:$A$200,MATCH(0,COUNTIF($D$7:D58,$A$2:$A$200),0)),\"\"),\"\")","v":""},{"$f":"IF(D59=\"\",\"\",IFERROR(_xlfn.SINGLE(Singlecellextract(D59,Sheet2!$A$2:$B$500,2)),\"\"))","v":""}]
["مها نها",3,null,{"$f":"IFERROR(IF(A54<>\"\",INDEX($A$2:$A$200,MATCH(0,COUNTIF($D$7:D59,$A$2:$A$200),0)),\"\"),\"\")","v":""},{"$f":"IF(D60=\"\",\"\",IFERROR(_xlfn.SINGLE(Singlecellextract(D60,Sheet2!$A$2:$B$500,2)),\"\"))","v":""}]
["نهى",3,null,{"$f":"IFERROR(IF(A55<>\"\",INDEX($A$2:$A$200,MATCH(0,COUNTIF($D$7:D60,$A$2:$A$200),0)),\"\"),\"\")","v":""},{"$f":"IF(D61=\"\",\"\",IFERROR(_xlfn.SINGLE(Singlecellextract(D61,Sheet2!$A$2:$B$500,2)),\"\"))","v":""}]
["انور",3,null,{"$f":"IFERROR(IF(A56<>\"\",INDEX($A$2:$A$200,MATCH(0,COUNTIF($D$7:D61,$A$2:$A$200),0)),\"\"),\"\")","v":""},{"$f":"IF(D62=\"\",\"\",IFERROR(_xlfn.SINGLE(Singlecellextract(D62,Sheet2!$A$2:$B$500,2)),\"\"))","v":""}]
["محرم",3,null,{"$f":"IFERROR(IF(A57<>\"\",INDEX($A$2:$A$200,MATCH(0,COUNTIF($D$7:D62,$A$2:$A$200),0)),\"\"),\"\")","v":""},{"$f":"IF(D63=\"\",\"\",IFERROR(_xlfn.SINGLE(Singlecellextract(D63,Sheet2!$A$2:$B$500,2)),\"\"))","v":""}]
["عباس",3,null,{"$f":"IFERROR(IF(A58<>\"\",INDEX($A$2:$A$200,MATCH(0,COUNTIF($D$7:D63,$A$2:$A$200),0)),\"\"),\"\")","v":""},{"$f":"IF(D64=\"\",\"\",IFERROR(_xlfn.SINGLE(Singlecellextract(D64,Sheet2!$A$2:$B$500,2)),\"\"))","v":""}]
["محمد",3,null,{"$f":"IFERROR(IF(A59<>\"\",INDEX($A$2:$A$200,MATCH(0,COUNTIF($D$7:D64,$A$2:$A$200),0)),\"\"),\"\")","v":""},{"$f":"IF(D65=\"\",\"\",IFERROR(_xlfn.SINGLE(Singlecellextract(D65,Sheet2!$A$2:$B$500,2)),\"\"))","v":""}]
["منصور",3,null,{"$f":"IFERROR(IF(A60<>\"\",INDEX($A$2:$A$200,MATCH(0,COUNTIF($D$7:D65,$A$2:$A$200),0)),\"\"),\"\")","v":""},{"$f":"IF(D66=\"\",\"\",IFERROR(_xlfn.SINGLE(Singlecellextract(D66,Sheet2!$A$2:$B$500,2)),\"\"))","v":""}]
["محمد",3,null,{"$f":"IFERROR(IF(A61<>\"\",INDEX($A$2:$A$200,MATCH(0,COUNTIF($D$7:D66,$A$2:$A$200),0)),\"\"),\"\")","v":""},{"$f":"IF(D67=\"\",\"\",IFERROR(_xlfn.SINGLE(Singlecellextract(D67,Sheet2!$A$2:$B$500,2)),\"\"))","v":""}]
["احمد ",3,null,{"$f":"IFERROR(IF(A62<>\"\",INDEX($A$2:$A$200,MATCH(0,COUNTIF($D$7:D67,$A$2:$A$200),0)),\"\"),\"\")","v":""},{"$f":"IF(D68=\"\",\"\",IFERROR(_xlfn.SINGLE(Singlecellextract(D68,Sheet2!$A$2:$B$500,2)),\"\"))","v":""}]
["السيد",3,null,{"$f":"IFERROR(IF(A63<>\"\",INDEX($A$2:$A$200,MATCH(0,COUNTIF($D$7:D68,$A$2:$A$200),0)),\"\"),\"\")","v":""},{"$f":"IF(D69=\"\",\"\",IFERROR(_xlfn.SINGLE(Singlecellextract(D69,Sheet2!$A$2:$B$500,2)),\"\"))","v":""}]
["مصطفى",3,null,{"$f":"IFERROR(IF(A64<>\"\",INDEX($A$2:$A$200,MATCH(0,COUNTIF($D$7:D69,$A$2:$A$200),0)),\"\"),\"\")","v":""},{"$f":"IF(D70=\"\",\"\",IFERROR(_xlfn.SINGLE(Singlecellextract(D70,Sheet2!$A$2:$B$500,2)),\"\"))","v":""}]
["على",3,null,{"$f":"IFERROR(IF(A65<>\"\",INDEX($A$2:$A$200,MATCH(0,COUNTIF($D$7:D70,$A$2:$A$200),0)),\"\"),\"\")","v":""},{"$f":"IF(D71=\"\",\"\",IFERROR(_xlfn.SINGLE(Singlecellextract(D71,Sheet2!$A$2:$B$500,2)),\"\"))","v":""}]
["السيد ",3,null,{"$f":"IFERROR(IF(A66<>\"\",INDEX($A$2:$A$200,MATCH(0,COUNTIF($D$7:D71,$A$2:$A$200),0)),\"\"),\"\")","v":""},{"$f":"IF(D72=\"\",\"\",IFERROR(_xlfn.SINGLE(Singlecellextract(D72,Sheet2!$A$2:$B$500,2)),\"\"))","v":""}]
["جابر",3,null,{"$f":"IFERROR(IF(A67<>\"\",INDEX($A$2:$A$200,MATCH(0,COUNTIF($D$7:D72,$A$2:$A$200),0)),\"\"),\"\")","v":""},{"$f":"IF(D73=\"\",\"\",IFERROR(_xlfn.SINGLE(Singlecellextract(D73,Sheet2!$A$2:$B$500,2)),\"\"))","v":""}]
["عبد الله",3,null,{"$f":"IFERROR(IF(A68<>\"\",INDEX($A$2:$A$200,MATCH(0,COUNTIF($D$7:D73,$A$2:$A$200),0)),\"\"),\"\")","v":""},{"$f":"IF(D74=\"\",\"\",IFERROR(_xlfn.SINGLE(Singlecellextract(D74,Sheet2!$A$2:$B$500,2)),\"\"))","v":""}]
["هريدى",3,null,{"$f":"IFERROR(IF(A69<>\"\",INDEX($A$2:$A$200,MATCH(0,COUNTIF($D$7:D74,$A$2:$A$200),0)),\"\"),\"\")","v":""},{"$f":"IF(D75=\"\",\"\",IFERROR(_xlfn.SINGLE(Singlecellextract(D75,Sheet2!$A$2:$B$500,2)),\"\"))","v":""}]
["نور ",3,null,{"$f":"IFERROR(IF(A70<>\"\",INDEX($A$2:$A$200,MATCH(0,COUNTIF($D$7:D75,$A$2:$A$200),0)),\"\"),\"\")","v":""},{"$f":"IF(D76=\"\",\"\",IFERROR(_xlfn.SINGLE(Singlecellextract(D76,Sheet2!$A$2:$B$500,2)),\"\"))","v":""}]
["نوال",4,null,{"$f":"IFERROR(IF(A71<>\"\",INDEX($A$2:$A$200,MATCH(0,COUNTIF($D$7:D76,$A$2:$A$200),0)),\"\"),\"\")","v":""},{"$f":"IF(D77=\"\",\"\",IFERROR(_xlfn.SINGLE(Singlecellextract(D77,Sheet2!$A$2:$B$500,2)),\"\"))","v":""}]
["المهدى",4,null,{"$f":"IFERROR(IF(A72<>\"\",INDEX($A$2:$A$200,MATCH(0,COUNTIF($D$7:D77,$A$2:$A$200),0)),\"\"),\"\")","v":""},{"$f":"IF(D78=\"\",\"\",IFERROR(_xlfn.SINGLE(Singlecellextract(D78,Sheet2!$A$2:$B$500,2)),\"\"))","v":""}]
["سيادة",4,null,{"$f":"IFERROR(IF(A73<>\"\",INDEX($A$2:$A$200,MATCH(0,COUNTIF($D$7:D78,$A$2:$A$200),0)),\"\"),\"\")","v":""},{"$f":"IF(D79=\"\",\"\",IFERROR(_xlfn.SINGLE(Singlecellextract(D79,Sheet2!$A$2:$B$500,2)),\"\"))","v":""}]
["السيدة",4,null,{"$f":"IFERROR(IF(A74<>\"\",INDEX($A$2:$A$200,MATCH(0,COUNTIF($D$7:D79,$A$2:$A$200),0)),\"\"),\"\")","v":""},{"$f":"IF(D80=\"\",\"\",IFERROR(_xlfn.SINGLE(Singlecellextract(D80,Sheet2!$A$2:$B$500,2)),\"\"))","v":""}]
["مها نها",4,null,{"$f":"IFERROR(IF(A75<>\"\",INDEX($A$2:$A$200,MATCH(0,COUNTIF($D$7:D80,$A$2:$A$200),0)),\"\"),\"\")","v":""},{"$f":"IF(D81=\"\",\"\",IFERROR(_xlfn.SINGLE(Singlecellextract(D81,Sheet2!$A$2:$B$500,2)),\"\"))","v":""}]
["نهى",4,null,{"$f":"IFERROR(IF(A76<>\"\",INDEX($A$2:$A$200,MATCH(0,COUNTIF($D$7:D81,$A$2:$A$200),0)),\"\"),\"\")","v":""},{"$f":"IF(D82=\"\",\"\",IFERROR(_xlfn.SINGLE(Singlecellextract(D82,Sheet2!$A$2:$B$500,2)),\"\"))","v":""}]
["انور",4,null,{"$f":"IFERROR(IF(A77<>\"\",INDEX($A$2:$A$200,MATCH(0,COUNTIF($D$7:D82,$A$2:$A$200),0)),\"\"),\"\")","v":""},{"$f":"IF(D83=\"\",\"\",IFERROR(_xlfn.SINGLE(Singlecellextract(D83,Sheet2!$A$2:$B$500,2)),\"\"))","v":""}]
["محرم",4,null,{"$f":"IFERROR(IF(A78<>\"\",INDEX($A$2:$A$200,MATCH(0,COUNTIF($D$7:D83,$A$2:$A$200),0)),\"\"),\"\")","v":""},{"$f":"IF(D84=\"\",\"\",IFERROR(_xlfn.SINGLE(Singlecellextract(D84,Sheet2!$A$2:$B$500,2)),\"\"))","v":""}]
["عباس",4,null,{"$f":"IFERROR(IF(A79<>\"\",INDEX($A$2:$A$200,MATCH(0,COUNTIF($D$7:D84,$A$2:$A$200),0)),\"\"),\"\")","v":""},{"$f":"IF(D85=\"\",\"\",IFERROR(_xlfn.SINGLE(Singlecellextract(D85,Sheet2!$A$2:$B$500,2)),\"\"))","v":""}]
["محمد",4,null,{"$f":"IFERROR(IF(A80<>\"\",INDEX($A$2:$A$200,MATCH(0,COUNTIF($D$7:D85,$A$2:$A$200),0)),\"\"),\"\")","v":""},{"$f":"IF(D86=\"\",\"\",IFERROR(_xlfn.SINGLE(Singlecellextract(D86,Sheet2!$A$2:$B$500,2)),\"\"))","v":""}]
["منصور",4,null,{"$f":"IFERROR(IF(A81<>\"\",INDEX($A$2:$A$200,MATCH(0,COUNTIF($D$7:D86,$A$2:$A$200),0)),\"\"),\"\")","v":""},{"$f":"IF(D87=\"\",\"\",IFERROR(_xlfn.SINGLE(Singlecellextract(D87,Sheet2!$A$2:$B$500,2)),\"\"))","v":""}]
["محمد",4,null,{"$f":"IFERROR(IF(A82<>\"\",INDEX($A$2:$A$200,MATCH(0,COUNTIF($D$7:D87,$A$2:$A$200),0)),\"\"),\"\")","v":""},{"$f":"IF(D88=\"\",\"\",IFERROR(_xlfn.SINGLE(Singlecellextract(D88,Sheet2!$A$2:$B$500,2)),\"\"))","v":""}]
["احمد ",4,null,{"$f":"IFERROR(IF(A83<>\"\",INDEX($A$2:$A$200,MATCH(0,COUNTIF($D$7:D88,$A$2:$A$200),0)),\"\"),\"\")","v":""},{"$f":"IF(D89=\"\",\"\",IFERROR(_xlfn.SINGLE(Singlecellextract(D89,Sheet2!$A$2:$B$500,2)),\"\"))","v":""}]
["السيد",4,null,{"$f":"IFERROR(IF(A84<>\"\",INDEX($A$2:$A$200,MATCH(0,COUNTIF($D$7:D89,$A$2:$A$200),0)),\"\"),\"\")","v":""},{"$f":"IF(D90=\"\",\"\",IFERROR(_xlfn.SINGLE(Singlecellextract(D90,Sheet2!$A$2:$B$500,2)),\"\"))","v":""}]
["مصطفى",4,null,{"$f":"IFERROR(IF(A85<>\"\",INDEX($A$2:$A$200,MATCH(0,COUNTIF($D$7:D90,$A$2:$A$200),0)),\"\"),\"\")","v":""},{"$f":"IF(D91=\"\",\"\",IFERROR(_xlfn.SINGLE(Singlecellextract(D91,Sheet2!$A$2:$B$500,2)),\"\"))","v":""}]
["على",4,null,{"$f":"IFERROR(IF(A86<>\"\",INDEX($A$2:$A$200,MATCH(0,COUNTIF($D$7:D91,$A$2:$A$200),0)),\"\"),\"\")","v":""},{"$f":"IF(D92=\"\",\"\",IFERROR(_xlfn.SINGLE(Singlecellextract(D92,Sheet2!$A$2:$B$500,2)),\"\"))","v":""}]
["السيد ",4,null,{"$f":"IFERROR(IF(A87<>\"\",INDEX($A$2:$A$200,MATCH(0,COUNTIF($D$7:D92,$A$2:$A$200),0)),\"\"),\"\")","v":""},{"$f":"IF(D93=\"\",\"\",IFERROR(_xlfn.SINGLE(Singlecellextract(D93,Sheet2!$A$2:$B$500,2)),\"\"))","v":""}]
["جابر",4,null,{"$f":"IFERROR(IF(A88<>\"\",INDEX($A$2:$A$200,MATCH(0,COUNTIF($D$7:D93,$A$2:$A$200),0)),\"\"),\"\")","v":""},{"$f":"IF(D94=\"\",\"\",IFERROR(_xlfn.SINGLE(Singlecellextract(D94,Sheet2!$A$2:$B$500,2)),\"\"))","v":""}]
["عبد الله",4,null,{"$f":"IFERROR(IF(A89<>\"\",INDEX($A$2:$A$200,MATCH(0,COUNTIF($D$7:D94,$A$2:$A$200),0)),\"\"),\"\")","v":""},{"$f":"IF(D95=\"\",\"\",IFERROR(_xlfn.SINGLE(Singlecellextract(D95,Sheet2!$A$2:$B$500,2)),\"\"))","v":""}]
["هريدى",4,null,{"$f":"IFERROR(IF(A90<>\"\",INDEX($A$2:$A$200,MATCH(0,COUNTIF($D$7:D95,$A$2:$A$200),0)),\"\"),\"\")","v":""},{"$f":"IF(D96=\"\",\"\",IFERROR(_xlfn.SINGLE(Singlecellextract(D96,Sheet2!$A$2:$B$500,2)),\"\"))","v":""}]
["نور ",4,null,{"$f":"IFERROR(IF(A91<>\"\",INDEX($A$2:$A$200,MATCH(0,COUNTIF($D$7:D96,$A$2:$A$200),0)),\"\"),\"\")","v":""},{"$f":"IF(D97=\"\",\"\",IFERROR(_xlfn.SINGLE(Singlecellextract(D97,Sheet2!$A$2:$B$500,2)),\"\"))","v":""}]
["نوال",4,null,{"$f":"IFERROR(IF(A92<>\"\",INDEX($A$2:$A$200,MATCH(0,COUNTIF($D$7:D97,$A$2:$A$200),0)),\"\"),\"\")","v":""},{"$f":"IF(D98=\"\",\"\",IFERROR(_xlfn.SINGLE(Singlecellextract(D98,Sheet2!$A$2:$B$500,2)),\"\"))","v":""}]
["المهدى",4,null,{"$f":"IFERROR(IF(A93<>\"\",INDEX($A$2:$A$200,MATCH(0,COUNTIF($D$7:D98,$A$2:$A$200),0)),\"\"),\"\")","v":""},{"$f":"IF(D99=\"\",\"\",IFERROR(_xlfn.SINGLE(Singlecellextract(D99,Sheet2!$A$2:$B$500,2)),\"\"))","v":""}]
["سيادة",4,null,{"$f":"IFERROR(IF(A94<>\"\",INDEX($A$2:$A$200,MATCH(0,COUNTIF($D$7:D99,$A$2:$A$200),0)),\"\"),\"\")","v":""},{"$f":"IF(D100=\"\",\"\",IFERROR(_xlfn.SINGLE(Singlecellextract(D100,Sheet2!$A$2:$B$500,2)),\"\"))","v":""}]
["السيدة",4,null,{"$f":"IFERROR(IF(A95<>\"\",INDEX($A$2:$A$200,MATCH(0,COUNTIF($D$7:D100,$A$2:$A$200),0)),\"\"),\"\")","v":""},{"$f":"IF(D101=\"\",\"\",IFERROR(_xlfn.SINGLE(Singlecellextract(D101,Sheet2!$A$2:$B$500,2)),\"\"))","v":""}]
["مها نها",5,null,{"$f":"IFERROR(IF(A96<>\"\",INDEX($A$2:$A$200,MATCH(0,COUNTIF($D$7:D101,$A$2:$A$200),0)),\"\"),\"\")","v":""},{"$f":"IF(D102=\"\",\"\",IFERROR(_xlfn.SINGLE(Singlecellextract(D102,Sheet2!$A$2:$B$500,2)),\"\"))","v":""}]
["نهى",5,null,{"$f":"IFERROR(IF(A97<>\"\",INDEX($A$2:$A$200,MATCH(0,COUNTIF($D$7:D102,$A$2:$A$200),0)),\"\"),\"\")","v":""},{"$f":"IF(D103=\"\",\"\",IFERROR(_xlfn.SINGLE(Singlecellextract(D103,Sheet2!$A$2:$B$500,2)),\"\"))","v":""}]
["انور",5,null,{"$f":"IFERROR(IF(A98<>\"\",INDEX($A$2:$A$200,MATCH(0,COUNTIF($D$7:D103,$A$2:$A$200),0)),\"\"),\"\")","v":""},{"$f":"IF(D104=\"\",\"\",IFERROR(_xlfn.SINGLE(Singlecellextract(D104,Sheet2!$A$2:$B$500,2)),\"\"))","v":""}]
["محرم",5,null,{"$f":"IFERROR(IF(A99<>\"\",INDEX($A$2:$A$200,MATCH(0,COUNTIF($D$7:D104,$A$2:$A$200),0)),\"\"),\"\")","v":""},{"$f":"IF(D105=\"\",\"\",IFERROR(_xlfn.SINGLE(Singlecellextract(D105,Sheet2!$A$2:$B$500,2)),\"\"))","v":""}]
["عباس",5,null,{"$f":"IFERROR(IF(A100<>\"\",INDEX($A$2:$A$200,MATCH(0,COUNTIF($D$7:D105,$A$2:$A$200),0)),\"\"),\"\")","v":""},{"$f":"IF(D106=\"\",\"\",IFERROR(_xlfn.SINGLE(Singlecellextract(D106,Sheet2!$A$2:$B$500,2)),\"\"))","v":""}]
["محمد",5,null,{"$f":"IFERROR(IF(A101<>\"\",INDEX($A$2:$A$200,MATCH(0,COUNTIF($D$7:D106,$A$2:$A$200),0)),\"\"),\"\")","v":""},{"$f":"IF(D107=\"\",\"\",IFERROR(_xlfn.SINGLE(Singlecellextract(D107,Sheet2!$A$2:$B$500,2)),\"\"))","v":""}]
["منصور",5,null,{"$f":"IFERROR(IF(A102<>\"\",INDEX($A$2:$A$200,MATCH(0,COUNTIF($D$7:D107,$A$2:$A$200),0)),\"\"),\"\")","v":""},{"$f":"IF(D108=\"\",\"\",IFERROR(_xlfn.SINGLE(Singlecellextract(D108,Sheet2!$A$2:$B$500,2)),\"\"))","v":""}]
["محمد",5,null,{"$f":"IFERROR(IF(A103<>\"\",INDEX($A$2:$A$200,MATCH(0,COUNTIF($D$7:D108,$A$2:$A$200),0)),\"\"),\"\")","v":""},{"$f":"IF(D109=\"\",\"\",IFERROR(_xlfn.SINGLE(Singlecellextract(D109,Sheet2!$A$2:$B$500,2)),\"\"))","v":""}]
["احمد ",5,null,{"$f":"IFERROR(IF(A104<>\"\",INDEX($A$2:$A$200,MATCH(0,COUNTIF($D$7:D109,$A$2:$A$200),0)),\"\"),\"\")","v":""},{"$f":"IF(D110=\"\",\"\",IFERROR(_xlfn.SINGLE(Singlecellextract(D110,Sheet2!$A$2:$B$500,2)),\"\"))","v":""}]
["السيد",5,null,{"$f":"IFERROR(IF(A105<>\"\",INDEX($A$2:$A$200,MATCH(0,COUNTIF($D$7:D110,$A$2:$A$200),0)),\"\"),\"\")","v":""},{"$f":"IF(D111=\"\",\"\",IFERROR(_xlfn.SINGLE(Singlecellextract(D111,Sheet2!$A$2:$B$500,2)),\"\"))","v":""}]
["مصطفى",5,null,{"$f":"IFERROR(IF(A106<>\"\",INDEX($A$2:$A$200,MATCH(0,COUNTIF($D$7:D111,$A$2:$A$200),0)),\"\"),\"\")","v":""},{"$f":"IF(D112=\"\",\"\",IFERROR(_xlfn.SINGLE(Singlecellextract(D112,Sheet2!$A$2:$B$500,2)),\"\"))","v":""}]
["على",5,null,{"$f":"IFERROR(IF(A107<>\"\",INDEX($A$2:$A$200,MATCH(0,COUNTIF($D$7:D112,$A$2:$A$200),0)),\"\"),\"\")","v":""},{"$f":"IF(D113=\"\",\"\",IFERROR(_xlfn.SINGLE(Singlecellextract(D113,Sheet2!$A$2:$B$500,2)),\"\"))","v":""}]
["السيد ",5,null,{"$f":"IFERROR(IF(A108<>\"\",INDEX($A$2:$A$200,MATCH(0,COUNTIF($D$7:D113,$A$2:$A$200),0)),\"\"),\"\")","v":""},{"$f":"IF(D114=\"\",\"\",IFERROR(_xlfn.SINGLE(Singlecellextract(D114,Sheet2!$A$2:$B$500,2)),\"\"))","v":""}]
["جابر",5,null,{"$f":"IFERROR(IF(A109<>\"\",INDEX($A$2:$A$200,MATCH(0,COUNTIF($D$7:D114,$A$2:$A$200),0)),\"\"),\"\")","v":""},{"$f":"IF(D115=\"\",\"\",IFERROR(_xlfn.SINGLE(Singlecellextract(D115,Sheet2!$A$2:$B$500,2)),\"\"))","v":""}]
["عبد الله",5,null,{"$f":"IFERROR(IF(A110<>\"\",INDEX($A$2:$A$200,MATCH(0,COUNTIF($D$7:D115,$A$2:$A$200),0)),\"\"),\"\")","v":""},{"$f":"IF(D116=\"\",\"\",IFERROR(_xlfn.SINGLE(Singlecellextract(D116,Sheet2!$A$2:$B$500,2)),\"\"))","v":""}]
["هريدى",5,null,{"$f":"IFERROR(IF(A111<>\"\",INDEX($A$2:$A$200,MATCH(0,COUNTIF($D$7:D116,$A$2:$A$200),0)),\"\"),\"\")","v":""},{"$f":"IF(D117=\"\",\"\",IFERROR(_xlfn.SINGLE(Singlecellextract(D117,Sheet2!$A$2:$B$500,2)),\"\"))","v":""}]
["نور ",5]
["نوال",5]
["المهدى",5]
["سيادة",5]
["السيدة",5]
["مها نها",5]
["نهى",5]
["انور",5]
["محرم",5]
["عباس",6]
["نوال",6]
["المهدى",6]
["سيادة",6]
["السيدة",6]
["مها نها",6]
["نهى",6]
["انور",6]
["محرم",6]
["عباس",6]
["محمد",6]
["منصور",6]
["محمد",6]
["احمد ",6]
["السيد",6]
["مصطفى",6]
["على",6]
["السيد ",6]
["جابر",6]
["عبد الله",6]
["هريدى",6]
["نور ",6]
["نوال",6]
["المهدى",6]
["سيادة",6]
["السيدة",7]
["مها نها",7]
["نهى",7]
["انور",7]
["محرم",7]
["عباس",7]
["نوال",7]
["المهدى",7]
["سيادة",7]
["السيدة",7]
["مها نها",7]
["نهى",7]
["انور",7]
["محرم",7]
["عباس",7]
["محمد",7]
["منصور",7]
["محمد",7]
["احمد ",7]
["السيد",7]
["مصطفى",7]
["على",7]
["السيد ",7]
["جابر",7]
["عبد الله",7]
["هريدى",8]
["نور ",8]
["نوال",8]
["المهدى",8]
["سيادة",8]
["السيدة",8]
["مها نها",8]
["نهى",8]
["انور",8]
["محرم",8]
["عباس",8]