{"text_format":"1","workbook":"xlsx","n_sheets":33,"sheets":["الرئيسية","الواجهة","المطبوعات","التعداد","البداية","حجز الإداريين","اسناد الأقسام","حجز مواقيت الأقسام","مواقيت الأساتذة","التفويج","الاسناد","الأساتذة","مواقيت الأقسام","اللغات الحية","المواقيت الرسمية","المواقيت","التجميع","خدمات رياضيات","خدمات عربية","خدمات فرنسية","خدمات انجليزية","خدمات فيزياء","خدمات علوم ط","خدمات اجتماعيات","خدمات تربية بدنية","خدمات إعلام آلي","خدمات موسيقى","خدمات رسم","كشفالتلاميذ","الموظفين","الغلاف","استعمال المحلات المتخصصة","دليل الاستخدام"],"not_rendered":{"charts":0,"images":14,"macros":1,"external_links":1,"defined_names":5,"comments":0,"pivot_tables":0},"unopened":[],"bounds":{"document_bytes":16777216,"sheet_cells":100000,"rows_first":2000,"rows_last":500,"rows_between":2000,"halvings":0,"cell_chars":16384,"cell_head_chars":4096},"cells_cut":0,"cells_raw":0,"read":"whole","date_system":"1900"}

{"sheet":"الرئيسية","index":0,"n_rows":0,"n_cols":0,"rows_kept":0,"cut":false,"hidden":false,"merged":[[0,0,36,11]]}

{"sheet":"الواجهة","index":1,"n_rows":0,"n_cols":0,"rows_kept":0,"cut":false,"hidden":false,"merged":[[0,0,32,11]]}

{"sheet":"المطبوعات","index":2,"n_rows":0,"n_cols":0,"rows_kept":0,"cut":false,"hidden":false,"merged":[[0,0,36,13],[6,18,6,20]]}

{"sheet":"التعداد","index":3,"n_rows":46,"n_cols":23,"rows_kept":46,"cut":false,"hidden":false,"merged":[[7,21,7,22],[9,19,12,19],[9,20,12,20],[9,21,12,21],[9,22,12,22],[45,0,45,1],[7,3,7,4],[7,5,7,6],[7,7,7,8],[7,9,7,10],[3,18,3,20],[0,0,0,15],[1,0,1,15],[3,0,3,15],[7,0,8,0],[7,1,8,1],[5,0,5,1],[5,2,5,3],[5,5,5,6],[5,8,5,9],[5,11,5,12],[7,13,7,16],[7,17,7,18],[7,11,8,11],[7,19,7,20]]}
["الجمهورية الجزائرية الديمقراطية الشعبية"]
["وزارة التربية الوطنية"]
[]
["توزيع الأفواج التربوية وتعداد التلاميذ"]
[]
["رمز المستويات",null,"السنة الأولى ",null,1,"السنة الثانية",null,2,"السنة الثالثة",null,3,"السنة الرابعة ",null,4]
[]
["الترتيب","الرمز","الأفواج","الداخلي",null,"نصف الداخلي",null,"الخارجي",null,"المجموع",null,"المجموع العام",null,"السنة الحالية",null,null,null,"توقعات السنة المقبلة",null,"الدخول",null,"الخروج"]
[null,null,null,"الذكور","الاناث","الذكور","الاناث","الذكور","الاناث","الذكور","الاناث",null,"المستوى","عدد الأفواج",null,null,"عدد التلاميذ","عدد الأفواج","عدد التلاميذ","ن/داخلي","خارجي","ن/داخلي","خارجي"]
[1,4,"4م1",null,null,9,13,3,1,{"$f":"D10+F10+H10","v":12},{"$f":"E10+G10+I10","v":14},{"$f":"SUM(J10:K10)","v":26},"السنة الأولى",{"$f":"COUNTIF(B10:B45,1)","v":3},null,null,{"$f":"SUMIF($B$10:$B$45,\"=1\",$L$10:$L$45)","v":94},3,78,null,0,0,0]
[2,4,"4م2",null,null,12,12,2,2,{"$f":"D11+F11+H11","v":14},{"$f":"E11+G11+I11","v":14},{"$f":"SUM(J11:K11)","v":28},"السنة الثانية",{"$f":"COUNTIF(B10:B45,2)","v":3},null,null,{"$f":"SUMIF($B$10:$B$45,\"=2\",$L$10:$L$45)","v":81},3,70]
[3,3,"3م1",null,null,11,18,1,1,12,19,31,"السنة الثالثة",{"$f":"COUNTIF(B10:B45,3)","v":2},null,null,{"$f":"SUMIF($B$10:$B$45,\"=3\",$L$10:$L$45)","v":63},2,66]
[4,3,"3م2",null,null,12,19,0,1,12,20,32,"السنة الرابعة",{"$f":"COUNTIF(B11:B46,3)","v":2},null,null,{"$f":"SUMIF($B$10:$B$45,\"=4\",$L$10:$L$45)","v":54},2,100]
[5,2,"2م1",null,null,14,12,2,0,16,12,28,"المجموع",{"$f":"SUM(N10:N13)","v":10},null,null,{"$f":"SUM(Q10:Q13)","v":292},{"$f":"SUM(R10:R13)","v":10},{"$f":"SUM(S10:S13)","v":314}]
[6,2,"2م2",null,null,11,13,3,0,14,13,27]
[7,2,"2م3",null,null,10,13,2,1,{"$f":"D16+F16+H16","v":12},{"$f":"E16+G16+I16","v":14},{"$f":"SUM(J16:K16)","v":26}]
[8,1,"1م1",null,null,9,12,9,1,18,13,31]
[9,1,"1م2",null,null,11,15,4,1,15,16,31]
[10,1,"1م3",null,null,9,15,7,1,16,16,32]
[11,null,null,null,null,null,null,null,null,0,0,0]
[11,null,null,null,null,null,null,null,null,0,0,0]
[12,null,null,null,null,null,null,null,null,0,0,0]
[13,null,null,null,null,null,null,null,null,0,0,0]
[14,null,null,null,null,null,null,null,null,0,0,0]
[15,null,null,null,null,null,null,null,null,0,0,0]
[16,null,null,null,null,null,null,null,null,0,0,0]
[17,null,null,null,null,null,null,null,null,0,0,0]
[18,null,null,null,null,null,null,null,null,0,0,0]
[19,null,null,null,null,null,null,null,null,0,0,0]
[20,null,null,null,null,null,null,null,null,0,0,0]
[21,null,null,null,null,null,null,null,null,0,0,0]
[22,null,null,null,null,null,null,null,null,0,0,0]
[23,null,null,null,null,null,null,null,null,0,0,0]
[24,null,null,null,null,null,null,null,null,0,0,0]
[25,null,null,null,null,null,null,null,null,0,0,0]
[26,null,null,null,null,null,null,null,null,0,0,0]
[27,null,null,null,null,null,null,null,null,0,0,0]
[28,null,null,null,null,null,null,null,null,0,0,0]
[29,null,null,null,null,null,null,null,null,0,0,0]
[30,null,null,null,null,null,null,null,null,0,0,0]
[31,null,null,null,null,null,null,null,null,{"$f":"D41+F41+H41","v":0},0,0]
[32,null,null,null,null,null,null,null,null,0,0,0]
[33,null,null,null,null,null,null,null,null,0,0,0]
[34,null,null,null,null,null,null,null,null,0,0,0]
[35,null,null,null,null,null,null,null,null,0,0,0]
["المجموع",null,{"$f":"COUNTA(C10:C45)","v":10},{"$f":"SUM(D10:D45)","v":0},{"$f":"SUM(E10:E45)","v":0},108,142,33,9,141,151,292]

{"sheet":"البداية","index":4,"n_rows":54,"n_cols":48,"rows_kept":54,"cut":false,"hidden":false,"merged":[[2,17,2,19],[4,17,4,19],[2,21,2,23],[4,21,4,23],[41,23,41,24],[42,23,42,24],[43,23,43,24],[44,23,44,24],[49,23,49,24],[50,23,50,24],[37,23,37,24],[38,23,38,24],[39,23,39,24],[40,23,40,24],[52,23,52,24],[51,23,51,24],[46,23,46,24],[53,19,53,20],[53,21,53,22],[18,23,18,24],[19,23,19,24],[20,23,20,24],[21,23,21,24],[22,23,22,24],[23,23,23,24],[25,23,25,24],[26,23,26,24],[27,23,27,24],[28,23,28,24],[29,23,29,24],[30,23,30,24],[45,23,45,24],[31,23,31,24],[32,23,32,24],[33,23,33,24],[34,23,34,24],[35,23,35,24],[36,23,36,24],[53,23,53,24],[47,23,47,24],[48,23,48,24],[53,1,53,2],[53,3,53,4],[53,5,53,6],[53,7,53,8],[53,9,53,10],[53,11,53,12],[53,13,53,14],[53,15,53,16],[53,17,53,18],[51,19,51,20],[51,21,51,22],[52,1,52,2],[52,3,52,4],[52,5,52,6],[52,7,52,8],[52,9,52,10],[52,11,52,12],[52,13,52,14],[52,15,52,16],[52,17,52,18],[52,19,52,20],[52,21,52,22],[51,1,51,2],[51,3,51,4],[51,5,51,6],[51,7,51,8],[51,9,51,10],[51,11,51,12],[51,13,51,14],[51,15,51,16],[51,17,51,18],[49,19,49,20],[49,21,49,22],[50,1,50,2],[50,3,50,4],[50,5,50,6],[50,7,50,8],[50,9,50,10],[50,11,50,12],[50,13,50,14],[50,15,50,16],[50,17,50,18],[50,19,50,20],[50,21,50,22],[49,1,49,2],[49,3,49,4],[49,5,49,6],[49,7,49,8],[49,9,49,10],[49,11,49,12],[49,13,49,14],[49,15,49,16],[49,17,49,18],[47,19,47,20],[47,21,47,22],[48,1,48,2],[48,3,48,4],[48,5,48,6],[48,7,48,8],[48,9,48,10],[48,11,48,12],[48,13,48,14],[48,15,48,16],[48,17,48,18],[48,19,48,20],[48,21,48,22],[47,1,47,2],[47,3,47,4],[47,5,47,6],[47,7,47,8],[47,9,47,10],[47,11,47,12],[47,13,47,14],[47,15,47,16],[47,17,47,18],[45,19,45,20],[45,21,45,22],[46,1,46,2],[46,3,46,4],[46,5,46,6],[46,7,46,8],[46,9,46,10],[46,11,46,12],[46,13,46,14],[46,15,46,16],[46,17,46,18],[46,19,46,20],[46,21,46,22],[45,1,45,2],[45,3,45,4],[45,5,45,6],[45,7,45,8],[45,9,45,10],[45,11,45,12],[45,13,45,14],[45,15,45,16],[45,17,45,18],[43,19,43,20],[43,21,43,22],[44,1,44,2],[44,3,44,4],[44,5,44,6],[44,7,44,8],[44,9,44,10],[44,11,44,12],[44,13,44,14],[44,15,44,16],[44,17,44,18],[44,19,44,20],[44,21,44,22],[43,1,43,2],[43,3,43,4],[43,5,43,6],[43,7,43,8],[43,9,43,10],[43,11,43,12],[43,13,43,14],[43,15,43,16],[43,17,43,18],[41,19,41,20],[41,21,41,22],[42,1,42,2],[42,3,42,4],[42,5,42,6],[42,7,42,8],[42,9,42,10],[42,11,42,12],[42,13,42,14],[42,15,42,16],[42,17,42,18],[42,19,42,20],[42,21,42,22],[41,1,41,2],[41,3,41,4],[41,5,41,6],[41,7,41,8],[41,9,41,10],[41,11,41,12],[41,13,41,14],[41,15,41,16],[41,17,41,18],[39,19,39,20],[39,21,39,22],[40,1,40,2],[40,3,40,4],[40,5,40,6],[40,7,40,8],[40,9,40,10],[40,11,40,12],[40,13,40,14],[40,15,40,16],[40,17,40,18],[40,19,40,20],[40,21,40,22],[39,1,39,2],[39,3,39,4],[39,5,39,6],[39,7,39,8],[39,9,39,10],[39,11,39,12],[39,13,39,14],[39,15,39,16],[39,17,39,18],[37,19,37,20],[37,21,37,22],[38,1,38,2],[38,3,38,4],[38,5,38,6],[38,7,38,8],[38,9,38,10],[38,11,38,12],[38,13,38,14],[38,15,38,16],[38,17,38,18],[38,19,38,20],[38,21,38,22],[37,1,37,2],[37,3,37,4],[37,5,37,6],[37,7,37,8],[37,9,37,10],[37,11,37,12],[37,13,37,14],[37,15,37,16],[37,17,37,18],[35,19,35,20],[35,21,35,22],[36,1,36,2],[36,3,36,4],[36,5,36,6],[36,7,36,8],[36,9,36,10],[36,11,36,12],[36,13,36,14],[36,15,36,16],[36,17,36,18],[36,19,36,20],[36,21,36,22],[35,1,35,2],[35,3,35,4],[35,5,35,6],[35,7,35,8],[35,9,35,10],[35,11,35,12],[35,13,35,14],[35,15,35,16],[35,17,35,18],[33,19,33,20],[33,21,33,22],[34,1,34,2],[34,3,34,4],[34,5,34,6],[34,7,34,8],[34,9,34,10],[34,11,34,12],[34,13,34,14],[34,15,34,16],[34,17,34,18],[34,19,34,20],[34,21,34,22],[33,1,33,2],[33,3,33,4],[33,5,33,6],[33,7,33,8],[33,9,33,10],[33,11,33,12],[33,13,33,14],[33,15,33,16],[33,17,33,18],[32,19,32,20],[18,21,18,22],[19,21,19,22],[20,21,20,22],[21,21,21,22],[22,21,22,22],[23,21,23,22],[25,21,25,22],[27,21,27,22],[28,21,28,22],[29,21,29,22],[30,21,30,22],[31,21,31,22],[32,21,32,22],[23,19,23,20],[25,19,25,20],[26,19,26,20],[24,19,24,20],[27,19,27,20],[28,19,28,20],[29,19,29,20],[30,19,30,20],[31,19,31,20],[32,1,32,2],[32,3,32,4],[32,5,32,6],[32,7,32,8],[32,9,32,10],[32,11,32,12],[32,13,32,14],[32,15,32,16],[20,17,20,18],[26,17,26,18],[27,17,27,18],[28,17,28,18],[29,17,29,18],[30,17,30,18],[31,17,31,18],[32,17,32,18],[30,1,30,2],[30,3,30,4],[30,5,30,6],[30,7,30,8],[30,9,30,10],[30,11,30,12],[30,13,30,14],[30,15,30,16],[31,1,31,2],[31,3,31,4],[31,5,31,6],[31,7,31,8],[31,9,31,10],[31,11,31,12],[31,13,31,14],[31,15,31,16],[28,1,28,2],[28,3,28,4],[28,5,28,6],[28,7,28,8],[28,9,28,10],[28,11,28,12],[28,13,28,14],[28,15,28,16],[29,1,29,2],[29,3,29,4],[29,5,29,6],[29,7,29,8],[29,9,29,10],[29,11,29,12],[29,13,29,14],[29,15,29,16],[26,1,26,2],[26,3,26,4],[26,5,26,6],[26,7,26,8],[26,9,26,10],[26,11,26,12],[26,13,26,14],[26,15,26,16],[27,1,27,2],[27,3,27,4],[27,5,27,6],[27,7,27,8],[27,9,27,10],[27,11,27,12],[27,13,27,14],[27,15,27,16],[23,1,23,2],[23,3,23,4],[23,5,23,6],[23,7,23,8],[23,9,23,10],[23,11,23,12],[25,1,25,2],[25,3,25,4],[25,5,25,6],[25,7,25,8],[25,9,25,10],[25,11,25,12],[24,1,24,2],[24,3,24,4],[24,5,24,6],[26,21,26,22],[19,1,19,2],[19,3,19,4],[19,5,19,6],[19,7,19,8],[19,9,19,10],[19,11,19,12],[19,13,19,14],[19,15,19,16],[19,17,19,18],[19,19,19,20],[20,1,20,2],[20,3,20,4],[20,5,20,6],[20,7,20,8],[20,9,20,10],[20,11,20,12],[20,13,20,14],[20,15,20,16],[22,9,22,10],[22,11,22,12],[22,13,22,14],[22,15,22,16],[21,11,21,12],[18,1,18,2],[18,3,18,4],[18,5,18,6],[18,7,18,8],[18,9,18,10],[2,10,2,11],[18,11,18,12],[2,12,2,15],[3,12,3,15],[4,12,4,15],[0,0,0,15],[1,0,1,15],[6,0,6,15],[8,0,8,2],[8,3,8,4],[8,5,8,6],[8,7,8,8],[8,9,8,10],[3,10,3,11],[4,10,4,11],[3,0,3,3],[4,0,4,3],[2,0,2,3],[3,4,3,9],[2,4,2,9],[4,4,4,9],[13,5,13,6],[13,7,13,8],[13,9,13,10],[14,9,14,10],[11,7,11,8],[11,9,11,10],[11,11,11,12],[12,3,12,4],[12,5,12,6],[12,7,12,8],[12,9,12,10],[12,11,12,12],[13,3,13,4],[11,3,11,4],[11,5,11,6],[9,3,9,4],[9,5,9,6],[9,7,9,8],[9,9,9,10],[8,11,8,15],[9,11,9,15],[13,11,13,12],[11,13,11,14],[12,13,12,14],[13,13,13,14],[12,15,14,15],[14,0,14,2],[14,3,14,4],[14,5,14,6],[14,7,14,8],[12,0,12,2],[9,0,9,2],[11,0,11,2],[13,0,13,2],[19,25,19,26],[20,25,20,26],[21,25,21,26],[22,25,22,26],[14,11,14,12],[14,13,14,14],[18,13,18,14],[18,15,18,16],[18,17,18,18],[18,19,18,20],[20,19,20,20],[21,19,21,20],[22,19,22,20],[30,25,30,26],[31,25,31,26],[32,25,32,26],[33,25,33,26],[34,25,34,26],[35,25,35,26],[23,25,23,26],[25,25,25,26],[26,25,26,26],[27,25,27,26],[28,25,28,26],[29,25,29,26],[53,25,53,26],[42,25,42,26],[43,25,43,26],[44,25,44,26],[45,25,45,26],[46,25,46,26],[39,25,39,26],[40,25,40,26],[41,25,41,26],[48,25,48,26],[47,25,47,26],[36,25,36,26],[37,25,37,26],[38,25,38,26],[49,25,49,26],[50,25,50,26],[51,25,51,26],[52,25,52,26],[25,27,25,28],[26,27,26,28],[27,27,27,28],[28,27,28,28],[29,27,29,28],[18,27,18,28],[19,27,19,28],[20,27,20,28],[21,27,21,28],[22,27,22,28],[36,27,36,28],[37,27,37,28],[38,27,38,28],[39,27,39,28],[40,27,40,28],[41,27,41,28],[30,27,30,28],[31,27,31,28],[32,27,32,28],[33,27,33,28],[34,27,34,28],[35,27,35,28],[48,27,48,28],[49,27,49,28],[50,27,50,28],[51,27,51,28],[52,27,52,28],[53,27,53,28],[42,27,42,28],[43,27,43,28],[44,27,44,28],[45,27,45,28],[46,27,46,28],[47,27,47,28],[30,29,30,30],[31,29,31,30],[32,29,32,30],[33,29,33,30],[34,29,34,30],[35,29,35,30],[25,29,25,30],[26,29,26,30],[27,29,27,30],[28,29,28,30],[29,29,29,30],[52,29,52,30],[53,29,53,30],[42,29,42,30],[43,29,43,30],[44,29,44,30],[45,29,45,30],[46,29,46,30],[47,29,47,30],[48,29,48,30],[49,29,49,30],[50,29,50,30],[36,29,36,30],[37,29,37,30],[38,29,38,30],[39,29,39,30],[40,29,40,30],[41,29,41,30],[51,29,51,30],[25,17,25,18],[21,17,21,18],[21,15,21,16],[21,13,21,14],[23,13,23,14],[23,15,23,16],[25,13,25,14],[25,15,25,16],[24,17,24,18],[21,9,21,10],[21,7,21,8],[21,5,21,6],[21,3,21,4],[21,1,21,2],[22,17,22,18],[22,1,22,2],[22,3,22,4],[22,5,22,6],[22,7,22,8],[30,31,30,32],[31,31,31,32],[32,31,32,32],[33,31,33,32],[34,31,34,32],[35,31,35,32],[26,31,26,32],[27,31,27,32],[28,31,28,32],[29,31,29,32],[53,31,53,32],[42,31,42,32],[43,31,43,32],[44,31,44,32],[45,31,45,32],[46,31,46,32],[47,31,47,32],[40,31,40,32],[41,31,41,32],[48,31,48,32],[49,31,49,32],[36,31,36,32],[37,31,37,32],[38,31,38,32],[39,31,39,32],[50,31,50,32],[51,31,51,32],[52,31,52,32],[25,33,25,34],[24,23,24,24],[24,31,24,32],[23,31,23,32],[25,31,25,32],[23,29,23,30],[18,45,18,46],[19,33,19,34],[19,35,19,36],[19,37,19,38],[19,39,19,40],[19,41,19,42],[19,43,19,44],[19,45,19,46],[18,33,18,34],[18,35,18,36],[18,37,18,38],[18,39,18,40],[18,41,18,42],[18,43,18,44],[18,31,18,32],[19,31,19,32],[20,31,20,32],[21,31,21,32],[34,33,34,34],[35,33,35,34],[36,33,36,34],[37,33,37,34],[26,33,26,34],[27,33,27,34],[28,33,28,34],[29,33,29,34],[30,33,30,34],[31,33,31,34],[50,33,50,34],[51,33,51,34],[52,33,52,34],[53,33,53,34],[20,35,20,36],[20,37,20,38],[21,35,21,36],[21,37,21,38],[23,35,23,36],[23,37,23,38],[44,33,44,34],[45,33,45,34],[46,33,46,34],[47,33,47,34],[48,33,48,34],[49,33,49,34],[38,33,38,34],[39,33,39,34],[40,33,40,34],[41,33,41,34],[42,33,42,34],[43,33,43,34],[32,33,32,34],[33,33,33,34],[21,43,21,44],[21,45,21,46],[22,35,22,36],[22,37,22,38],[22,39,22,40],[22,41,22,42],[22,43,22,44],[22,45,22,46],[20,39,20,40],[20,41,20,42],[20,43,20,44],[20,45,20,46],[21,39,21,40],[21,41,21,42],[23,39,23,40],[23,41,23,42],[23,43,23,44],[23,45,23,46],[25,35,25,36],[25,37,25,38],[25,39,25,40],[25,41,25,42],[25,43,25,44],[25,45,25,46],[24,39,24,40],[24,41,24,42],[24,43,24,44],[24,45,24,46],[27,35,27,36],[27,37,27,38],[27,39,27,40],[27,41,27,42],[27,43,27,44],[27,45,27,46],[26,35,26,36],[26,37,26,38],[26,39,26,40],[26,41,26,42],[26,43,26,44],[26,45,26,46],[29,35,29,36],[29,37,29,38],[29,39,29,40],[29,41,29,42],[29,43,29,44],[29,45,29,46],[28,35,28,36],[28,37,28,38],[28,39,28,40],[28,41,28,42],[28,43,28,44],[28,45,28,46],[31,35,31,36],[31,37,31,38],[31,39,31,40],[31,41,31,42],[31,43,31,44],[31,45,31,46],[30,35,30,36],[30,37,30,38],[30,39,30,40],[30,41,30,42],[30,43,30,44],[30,45,30,46],[33,35,33,36],[33,37,33,38],[33,39,33,40],[33,41,33,42],[33,43,33,44],[33,45,33,46],[32,35,32,36],[32,37,32,38],[32,39,32,40],[32,41,32,42],[32,43,32,44],[32,45,32,46],[35,35,35,36],[35,37,35,38],[35,39,35,40],[35,41,35,42],[35,43,35,44],[35,45,35,46],[34,35,34,36],[34,37,34,38],[34,39,34,40],[34,41,34,42],[34,43,34,44],[34,45,34,46],[37,35,37,36],[37,37,37,38],[37,39,37,40],[37,41,37,42],[37,43,37,44],[37,45,37,46],[36,35,36,36],[36,37,36,38],[36,39,36,40],[36,41,36,42],[36,43,36,44],[36,45,36,46],[39,35,39,36],[39,37,39,38],[39,39,39,40],[39,41,39,42],[39,43,39,44],[39,45,39,46],[38,35,38,36],[38,37,38,38],[38,39,38,40],[38,41,38,42],[38,43,38,44],[38,45,38,46],[41,35,41,36],[41,37,41,38],[41,39,41,40],[41,41,41,42],[41,43,41,44],[41,45,41,46],[40,35,40,36],[40,37,40,38],[40,39,40,40],[40,41,40,42],[40,43,40,44],[40,45,40,46],[43,35,43,36],[43,37,43,38],[43,39,43,40],[43,41,43,42],[43,43,43,44],[43,45,43,46],[42,35,42,36],[42,37,42,38],[42,39,42,40],[42,41,42,42],[42,43,42,44],[42,45,42,46],[45,35,45,36],[45,37,45,38],[45,39,45,40],[45,41,45,42],[45,43,45,44],[45,45,45,46],[44,35,44,36],[44,37,44,38],[44,39,44,40],[44,41,44,42],[44,43,44,44],[44,45,44,46],[47,35,47,36],[47,37,47,38],[47,39,47,40],[47,41,47,42],[47,43,47,44],[47,45,47,46],[46,35,46,36],[46,37,46,38],[46,39,46,40],[46,41,46,42],[46,43,46,44],[46,45,46,46],[49,35,49,36],[49,37,49,38],[49,39,49,40],[49,41,49,42],[49,43,49,44],[49,45,49,46],[48,35,48,36],[48,37,48,38],[48,39,48,40],[48,41,48,42],[48,43,48,44],[48,45,48,46],[51,35,51,36],[51,37,51,38],[51,39,51,40],[51,41,51,42],[51,43,51,44],[51,45,51,46],[50,35,50,36],[50,37,50,38],[50,39,50,40],[50,41,50,42],[50,43,50,44],[50,45,50,46],[53,35,53,36],[53,37,53,38],[53,39,53,40],[53,41,53,42],[53,43,53,44],[53,45,53,46],[52,35,52,36],[52,37,52,38],[52,39,52,40],[52,41,52,42],[52,43,52,44],[52,45,52,46],[24,35,24,36],[24,37,24,38],[9,18,9,24],[11,17,11,19],[11,20,11,21],[11,22,11,23],[11,24,11,25],[12,17,12,19],[12,20,12,21],[12,22,12,23],[12,24,12,25],[20,33,20,34],[21,33,21,34],[22,33,22,34],[23,33,23,34],[22,31,22,32],[23,17,23,18],[18,29,18,30],[19,29,19,30],[20,29,20,30],[21,29,21,30],[22,29,22,30],[23,27,23,28],[18,25,18,26],[23,47,23,48],[25,47,25,48],[26,47,26,48],[27,47,27,48],[28,47,28,48],[29,47,29,48],[18,47,18,48],[19,47,19,48],[20,47,20,48],[21,47,21,48],[22,47,22,48],[51,47,51,48],[52,47,52,48],[53,47,53,48],[42,47,42,48],[43,47,43,48],[44,47,44,48],[45,47,45,48],[46,47,46,48],[47,47,47,48],[24,21,24,22],[24,25,24,26],[24,7,24,8],[24,9,24,10],[24,11,24,12],[24,13,24,14],[48,47,48,48],[49,47,49,48],[50,47,50,48],[36,47,36,48],[37,47,37,48],[38,47,38,48],[39,47,39,48],[40,47,40,48],[41,47,41,48],[30,47,30,48],[31,47,31,48],[32,47,32,48],[33,47,33,48],[34,47,34,48],[35,47,35,48],[24,27,24,28],[24,29,24,30],[24,33,24,34]]}
["الجمهورية الجزائرية الديمقراطية الشعبية"]
["وزارة التربية الوطنية"]
["مديرية التربية لولاية",null,null,null,"الاغواط",null,null,null,null,null,"البلدية",null,"تاجرونة ",null,null,null,null,"السنة الدراسية الحالية",null,null,null,"2022/2023"]
["المؤسسة",null,null,null,"متوسطة :سماعيني معمر تاجرونة ",null,null,null,null,null,"الرمز البريدي",null,3011]
["مدير المؤسسة",null,null,null,"جامد خليل",null,null,null,null,null,"رقم الهاتف",null,"029 14 02 53",null,null,null,null,"السنة الدراسية المقبلة",null,null,null,"2023/2024"]
[]
["بطاقة فنية للمؤسسة"]
[]
["المستويات",null,null,"السنة الأولى متوسط",null,"السنة الثانية متوسط",null,"السنة الثالثة متوسط",null,"السنة الرابعة متوسط",null,"المجموع"]
["عدد الأفواج التربوية",null,null,3,null,3,null,2,null,2,null,{"$f":"SUM(D10:K10)","v":10},null,null,null,null,null,null,"الاستدراك"]
[]
["المادة",null,null,"عربية",null,"رياضيات",null,"فرنسية",null,"انجليزية",null,"علوم ط",null,"اعلام آلي",null,"المجموع",null,"المادة",null,null,"عربية",null,"رياضيات",null,"فرنسية"]
["عدد الأساتذة",null,null,4,null,3,null,3,null,2,null,2,null,0,null,{"$f":"SUM(D13:O15)","v":20},null,"عددالساعات",null,null,0,null,0,null,0]
["المادة",null,null,"تكنولوجيا",null,"اجتماعيات",null,"ت.بدنية",null,"ت.موسيقية",null,"ت.فنية"]
["عدد الأساتذة",null,null,2,null,2,null,1,null,0,null,1]
[]
[]
[]
["الأقسام","عربية",null,"رياضيات",null,"فرنسية",null,"انجليزية",null,"علوم ط",null,"فيزياء",null,"اجتماعيات",null,"اعلام آلي",null,"ت.بدنية",null,"ت.فنية",null,"فرنسية/انجليزية",null,"علوم/فيزياء",null,"عربية استدراك",null,"رياضيات استدراك",null,"فرنسية استدراك",null,"ت.اسلامية",null,"عربية دعم",null,"رياضيات دعم",null,"فرنسية دعم",null,"انجليزية دعم",null,"عربية/رياضيات",null,"تكنولوجيا دعم",null,"اجتماعيات دعم"]
[{"$f":"التعداد!C10","v":"4م1"},"بدراني خديجة ",null,"حساني عبد القادر",null,"كواهي يعقوب",null,"محمدي مريم ",null,"مجدوب طلحة",null,"داودي الميلود",null,"بدراني شريف",null,null,null,"قرمان الشير",null,"جليد الميلود",null,{"$f":"F20& \"/\" &H20","v":"كواهي يعقوب/محمدي مريم "},null,{"$f":"J20& \"/\" &L20","v":"مجدوب طلحة/داودي الميلود"},null,{"$f":"B20","v":"بدراني خديجة "},null,{"$f":"D20","v":"حساني عبد القادر"},null,{"$f":"F20","v":"كواهي يعقوب"},null,"بدراني خديجة",null,{"$f":"Z20","v":"بدراني خديجة "},null,{"$f":"AB20","v":"حساني عبد القادر"},null,{"$f":"AD20","v":"كواهي يعقوب"},null,{"$f":"H20","v":"محمدي مريم "},null,{"$f":"B20& \"/ \" &D20","v":"بدراني خديجة / حساني عبد القادر"},null,{"$f":"L20","v":"داودي الميلود"},null,{"$f":"N20","v":"بدراني شريف"}]
[{"$f":"التعداد!C11","v":"4م2"},"بدراني خديجة ",null,"حساني عبد القادر",null,"كواهي يعقوب",null,"محمدي مريم ",null,"مجدوب طلحة",null,"داودي الميلود",null,"بدراني شريف",null,null,null,"قرمان الشير",null,"جليد الميلود",null,{"$f":"F21& \"/\" &H21","v":"كواهي يعقوب/محمدي مريم "},null,{"$f":"J21& \"/\" &L21","v":"مجدوب طلحة/داودي الميلود"},null,{"$f":"B21","v":"بدراني خديجة "},null,{"$f":"D21","v":"حساني عبد القادر"},null,{"$f":"F21","v":"كواهي يعقوب"},null,"بدراني خديجة",null,{"$f":"Z21","v":"بدراني خديجة "},null,{"$f":"AB21","v":"حساني عبد القادر"},null,{"$f":"AD21","v":"كواهي يعقوب"},null,{"$f":"H21","v":"محمدي مريم "},null,{"$f":"B21& \"/ \" &D21","v":"بدراني خديجة / حساني عبد القادر"},null,{"$f":"L21","v":"داودي الميلود"},null,{"$f":"N21","v":"بدراني شريف"}]
["3م1","العابد مباركة",null,"سماعيني بن يوسف",null,"كواهي يعقوب",null,"زريفي إبراهيم",null,"حطاب رشيدة ",null,"طيبي عبد القادر",null,"مشارة محمد",null,null,null,"قرمان الشير",null,"جليد الميلود",null,"كواهي يعقوب/زريفي إبراهيم",null,{"$f":"J22& \"/\" &L22","v":"حطاب رشيدة /طيبي عبد القادر"},null,{"$f":"B22","v":"العابد مباركة"},null,{"$f":"D22","v":"سماعيني بن يوسف"},null,{"$f":"F22","v":"كواهي يعقوب"},null,"العابد مباركة ",null,"العابد مباركة",null,"سماعيني بن يوسف",null,"كواهي يعقوب",null,{"$f":"H22","v":"زريفي إبراهيم"},null,"العابد مباركة/ سماعيني بن يوسف",null,"طيبي عبد القادر",null,"مشارة محمد"]
["3م2","العابد مباركة",null,"سماعيني بن يوسف",null,"مغزي محمد",null,"زريفي إبراهيم",null,"حطاب رشيدة ",null,"طيبي عبد القادر",null,"مشارة محمد",null,null,null,"قرمان الشير",null,"جليد الميلود",null,"مغزي محمد/زريفي إبراهيم",null,"حطاب رشيدة /طيبي عبد القادر",null,"العابد مباركة",null,"سماعيني بن يوسف",null,"مغزي محمد",null,"العابد مباركة ",null,"العابد مباركة",null,"سماعيني بن يوسف",null,"مغزي محمد",null,"زريفي إبراهيم",null,"العابد مباركة/ سماعيني بن يوسف",null,"طيبي عبد القادر",null,"مشارة محمد"]
["2م1","تهامي ام الخير",null,"حساني عبد القادر",null,"امحمدي بوشوشة ",null,"محمدي مريم ",null,"مجدوب طلحة",null,"داودي الميلود",null,"بدراني شريف",null,null,null,"قرمان الشير",null,"جليد الميلود",null,"امحمدي بوشوشة /محمدي مريم ",null,"مجدوب طلحة/داودي الميلود",null,{"$f":"B24","v":"تهامي ام الخير"},null,"حساني عبد القادر",null,"امحمدي بوشوشة ",null,"بدراني خديجة",null,"تهامي ام الخير",null,"حساني عبد القادر",null,"امحمدي بوشوشة ",null,"محمدي مريم ",null,{"$f":"B24& \"/ \" &D24","v":"تهامي ام الخير/ حساني عبد القادر"},null,"داودي الميلود",null,"بدراني شريف"]
["2م2","تهامي ام الخير",null,"سماعيني بن يوسف",null,"امحمدي بوشوشة ",null,"محمدي مريم ",null,"مجدوب طلحة",null,"داودي الميلود",null,"بدراني شريف",null,null,null,"قرمان الشير",null,"جليد الميلود",null,{"$f":"F25& \"/\" &H25","v":"امحمدي بوشوشة /محمدي مريم "},null,{"$f":"J25& \"/\" &L25","v":"مجدوب طلحة/داودي الميلود"},null,{"$f":"B25","v":"تهامي ام الخير"},null,{"$f":"D25","v":"سماعيني بن يوسف"},null,{"$f":"F25","v":"امحمدي بوشوشة "},null,"بدراني خديجة",null,{"$f":"Z25","v":"تهامي ام الخير"},null,{"$f":"AB25","v":"سماعيني بن يوسف"},null,{"$f":"AD25","v":"امحمدي بوشوشة "},null,{"$f":"H25","v":"محمدي مريم "},null,{"$f":"B25& \"/ \" &D25","v":"تهامي ام الخير/ سماعيني بن يوسف"},null,{"$f":"L25","v":"داودي الميلود"},null,{"$f":"N25","v":"بدراني شريف"}]
["2م3","تهامي ام الخير",null,"حساني فاطمة ",null,"امحمدي بوشوشة ",null,"محمدي مريم ",null,"مجدوب طلحة",null,"داودي الميلود",null,"بدراني شريف",null,null,null,"قرمان الشير",null,"جليد الميلود",null,"امحمدي بوشوشة /محمدي مريم ",null,"مجدوب طلحة/داودي الميلود",null,{"$f":"B26","v":"تهامي ام الخير"},null,"حساني فاطمة ",null,"امحمدي بوشوشة ",null,"العابد مباركة ",null,"تهامي ام الخير",null,"حساني فاطمة ",null,"امحمدي بوشوشة ",null,"محمدي مريم ",null,{"$f":"B26& \"/ \" &D26","v":"تهامي ام الخير/ حساني فاطمة "},null,"داودي الميلود",null,"بدراني شريف"]
["1م1","سهلي بوعلام",null,"حساني فاطمة ",null,"مغزي محمد",null,"زريفي إبراهيم",null,"حطاب رشيدة ",null,"طيبي عبد القادر",null,"مشارة محمد",null,null,null,"قرمان الشير",null,"جليد الميلود",null,"مغزي محمد/زريفي إبراهيم",null,"حطاب رشيدة /طيبي عبد القادر",null,"سهلي بوعلام",null,"حساني فاطمة ",null,"مغزي محمد",null,"العابد مباركة ",null,"سهلي بوعلام",null,"حساني فاطمة ",null,"مغزي محمد",null,"زريفي إبراهيم",null,"سهلي بوعلام/ حساني فاطمة ",null,"طيبي عبد القادر",null,"مشارة محمد"]
["1م2","سهلي بوعلام",null,"حساني فاطمة ",null,"مغزي محمد",null,"زريفي إبراهيم",null,"حطاب رشيدة ",null,"طيبي عبد القادر",null,"مشارة محمد",null,null,null,"قرمان الشير",null,"جليد الميلود",null,"مغزي محمد/زريفي إبراهيم",null,"حطاب رشيدة /طيبي عبد القادر",null,"سهلي بوعلام",null,"حساني فاطمة ",null,"مغزي محمد",null,"العابد مباركة ",null,"سهلي بوعلام",null,"حساني فاطمة ",null,"مغزي محمد",null,"زريفي إبراهيم",null,"سهلي بوعلام/ حساني فاطمة ",null,"طيبي عبد القادر",null,"مشارة محمد"]
["1م3","سهلي بوعلام",null,"حساني فاطمة ",null,"مغزي محمد",null,"زريفي إبراهيم",null,"حطاب رشيدة ",null,"طيبي عبد القادر",null,"مشارة محمد",null,null,null,"قرمان الشير",null,"جليد الميلود",null,"مغزي محمد/زريفي إبراهيم",null,"حطاب رشيدة /طيبي عبد القادر",null,"سهلي بوعلام",null,"حساني فاطمة ",null,"مغزي محمد",null,"العابد مباركة ",null,"سهلي بوعلام",null,"حساني فاطمة ",null,"مغزي محمد",null,"زريفي إبراهيم",null,"سهلي بوعلام/ حساني فاطمة ",null,"طيبي عبد القادر",null,"مشارة محمد"]
[{"$f":"التعداد!C21","v":0},null,null,null,null,null,null,null,null,null,null,null,null,null,null,null,null,null,null,null,null,"/",null,"/",null,0,null,0,null,0,null,null,null,0,null,0,null,0,null,0,null,"/ ",null,0,null,0]
[{"$f":"التعداد!C22","v":0},null,null,null,null,null,null,null,null,null,null,null,null,null,null,null,null,null,null,null,null,"/",null,"/",null,0,null,0,null,0,null,null,null,0,null,0,null,0,null,0,null,"/ ",null,0,null,0]
[{"$f":"التعداد!C23","v":0},null,null,null,null,null,null,null,null,null,null,null,null,null,null,null,null,null,null,null,null,"/",null,"/",null,0,null,0,null,0,null,null,null,0,null,0,null,0,null,0,null,"/ ",null,0,null,0]
[{"$f":"التعداد!C24","v":0},null,null,null,null,null,null,null,null,null,null,null,null,null,null,null,null,null,null,null,null,"/",null,"/",null,0,null,0,null,0,null,null,null,0,null,0,null,0,null,0,null,"/ ",null,0,null,0]
[{"$f":"التعداد!C25","v":0},null,null,null,null,null,null,null,null,null,null,null,null,null,null,null,null,null,null,null,null,"/",null,"/",null,0,null,0,null,0,null,null,null,0,null,0,null,0,null,0,null,"/ ",null,0,null,0]
[{"$f":"التعداد!C26","v":0},null,null,null,null,null,null,null,null,null,null,null,null,null,null,null,null,null,null,null,null,"/",null,"/",null,0,null,0,null,0,null,null,null,0,null,0,null,0,null,0,null,{"$f":"J35","v":0},null,0,null,0]
[{"$f":"التعداد!C27","v":0},null,null,null,null,null,null,null,null,null,null,null,null,null,null,null,null,null,null,null,null,{"$f":"F36& \"/\" &H36","v":"/"},null,"/",null,0,null,0,null,0,null,null,null,0,null,0,null,0,null,0,null,0,null,0,null,0]
[{"$f":"التعداد!C28","v":0},null,null,null,null,null,null,null,null,null,null,null,null,null,null,null,null,null,null,null,null,{"$f":"F37& \"/\" &H37","v":"/"},null,"/",null,0,null,0,null,0,null,null,null,0,null,0,null,0,null,0,null,0,null,0,null,0]
[{"$f":"التعداد!C29","v":0},null,null,null,null,null,null,null,null,null,null,null,null,null,null,null,null,null,null,null,null,{"$f":"F38& \"/\" &H38","v":"/"},null,"/",null,0,null,0,null,0,null,null,null,0,null,0,null,0,null,0,null,0,null,0,null,0]
[{"$f":"التعداد!C30","v":0},null,null,null,null,null,null,null,null,null,null,null,null,null,null,null,null,null,null,null,null,null,null,"/",null,0,null,0,null,0,null,null,null,0,null,0,null,0,null,0,null,0,null,0,null,0,null,{"$f":"B39& \"/ \" &D39","v":"/ "}]
[{"$f":"التعداد!C31","v":0},null,null,null,null,null,null,null,null,null,null,null,null,null,null,null,null,null,null,null,null,null,null,"/",null,0,null,0,null,0,null,null,null,0,null,0,null,0,null,0,null,0,null,0,null,0,null,"/ "]
[{"$f":"التعداد!C32","v":0},null,null,null,null,null,null,null,null,null,null,null,null,null,null,null,null,null,null,null,null,null,null,"/",null,0,null,0,null,0,null,null,null,0,null,0,null,0,null,0,null,0,null,0,null,0,null,"/ "]
[{"$f":"التعداد!C33","v":0},null,null,null,null,null,null,null,null,null,null,null,null,null,null,null,null,null,null,null,null,null,null,"/",null,0,null,0,null,0,null,null,null,0,null,0,null,0,null,0,null,0,null,0,null,0,null,"/ "]
[{"$f":"التعداد!C34","v":0},null,null,null,null,null,null,null,null,null,null,null,null,null,null,null,null,null,null,null,null,null,null,"/",null,0,null,0,null,0,null,null,null,0,null,0,null,0,null,0,null,0,null,0,null,0,null,"/ "]
[{"$f":"التعداد!C35","v":0},null,null,null,null,null,null,null,null,null,null,null,null,null,null,null,null,null,null,null,null,null,null,"/",null,0,null,0,null,0,null,null,null,0,null,0,null,0,null,0,null,0,null,0,null,0,null,"/ "]
[{"$f":"التعداد!C36","v":0},null,null,null,null,null,null,null,null,null,null,null,null,null,null,null,null,null,null,null,null,null,null,"/",null,0,null,0,null,0,null,null,null,0,null,0,null,0,null,0,null,0,null,0,null,0,null,"/ "]
[{"$f":"التعداد!C37","v":0},null,null,null,null,null,null,null,null,null,null,null,null,null,null,null,null,null,null,null,null,null,null,"/",null,0,null,0,null,0,null,null,null,0,null,0,null,0,null,0,null,0,null,0,null,0,null,"/ "]
[{"$f":"التعداد!C38","v":0},null,null,null,null,null,null,null,null,null,null,null,null,null,null,null,null,null,null,null,null,null,null,"/",null,0,null,0,null,0,null,null,null,0,null,0,null,0,null,0,null,0,null,0,null,0,null,"/ "]
[{"$f":"التعداد!C39","v":0},null,null,null,null,null,null,null,null,null,null,null,null,null,null,null,null,null,null,null,null,null,null,"/",null,0,null,0,null,0,null,null,null,0,null,0,null,0,null,0,null,0,null,0,null,0,null,"/ "]
[{"$f":"التعداد!C40","v":0},null,null,null,null,null,null,null,null,null,null,null,null,null,null,null,null,null,null,null,null,null,null,"/",null,0,null,0,null,0,null,null,null,0,null,0,null,0,null,0,null,0,null,0,null,0,null,"/ "]
[{"$f":"التعداد!C41","v":0},null,null,null,null,null,null,null,null,null,null,null,null,null,null,null,null,null,null,null,null,null,null,"/",null,0,null,0,null,0,null,null,null,0,null,0,null,0,null,0,null,0,null,0,null,0,null,"/ "]
[{"$f":"التعداد!C42","v":0},null,null,null,null,null,null,null,null,null,null,null,null,null,null,null,null,null,null,null,null,null,null,"/",null,0,null,0,null,0,null,null,null,0,null,0,null,0,null,0,null,0,null,0,null,0,null,"/ "]
[{"$f":"التعداد!C43","v":0},null,null,null,null,null,null,null,null,null,null,null,null,null,null,null,null,null,null,null,null,null,null,"/",null,0,null,0,null,0,null,null,null,0,null,0,null,0,null,0,null,0,null,0,null,0,null,"/ "]
[{"$f":"التعداد!C44","v":0},null,null,null,null,null,null,null,null,null,null,null,null,null,null,null,null,null,null,null,null,null,null,"/",null,0,null,0,null,0,null,null,null,0,null,0,null,0,null,0,null,0,null,0,null,0,null,"/ "]
[{"$f":"التعداد!C45","v":0},null,null,null,null,null,null,null,null,null,null,null,null,null,null,null,null,null,null,null,null,null,null,"/",null,0,null,0,null,0,null,null,null,0,null,0,null,0,null,0,null,0,null,0,null,0,null,"/ "]

{"sheet":"حجز الإداريين","index":5,"n_rows":55,"n_cols":11,"rows_kept":55,"cut":false,"hidden":false,"merged":[[54,1,54,2],[54,3,54,4],[54,5,54,6],[54,8,54,9],[54,10,54,11],[51,1,51,2],[51,3,51,4],[51,5,51,6],[51,8,51,9],[51,10,51,11],[53,1,53,2],[53,3,53,4],[53,5,53,6],[53,8,53,9],[53,10,53,11],[52,1,52,2],[52,3,52,4],[52,5,52,6],[52,8,52,9],[52,10,52,11],[49,1,49,2],[49,3,49,4],[49,5,49,6],[49,8,49,9],[49,10,49,11],[50,1,50,2],[50,3,50,4],[50,5,50,6],[50,8,50,9],[50,10,50,11],[47,1,47,2],[47,3,47,4],[47,5,47,6],[47,8,47,9],[47,10,47,11],[48,1,48,2],[48,3,48,4],[48,5,48,6],[48,8,48,9],[48,10,48,11],[45,1,45,2],[45,3,45,4],[45,5,45,6],[45,8,45,9],[45,10,45,11],[46,1,46,2],[46,3,46,4],[46,5,46,6],[46,8,46,9],[46,10,46,11],[43,1,43,2],[43,3,43,4],[43,5,43,6],[43,8,43,9],[43,10,43,11],[44,1,44,2],[44,3,44,4],[44,5,44,6],[44,8,44,9],[44,10,44,11],[41,1,41,2],[41,3,41,4],[41,5,41,6],[41,8,41,9],[41,10,41,11],[42,1,42,2],[42,3,42,4],[42,5,42,6],[42,8,42,9],[42,10,42,11],[39,1,39,2],[39,3,39,4],[39,5,39,6],[39,8,39,9],[39,10,39,11],[40,1,40,2],[40,3,40,4],[40,5,40,6],[40,8,40,9],[40,10,40,11],[37,1,37,2],[37,3,37,4],[37,5,37,6],[37,8,37,9],[37,10,37,11],[38,1,38,2],[38,3,38,4],[38,5,38,6],[38,8,38,9],[38,10,38,11],[35,1,35,2],[35,3,35,4],[35,5,35,6],[35,8,35,9],[35,10,35,11],[36,1,36,2],[36,3,36,4],[36,5,36,6],[36,8,36,9],[36,10,36,11],[33,1,33,2],[33,3,33,4],[33,5,33,6],[33,8,33,9],[33,10,33,11],[34,1,34,2],[34,3,34,4],[34,5,34,6],[34,8,34,9],[34,10,34,11],[31,1,31,2],[31,3,31,4],[31,5,31,6],[31,8,31,9],[31,10,31,11],[32,1,32,2],[32,3,32,4],[32,5,32,6],[32,8,32,9],[32,10,32,11],[29,1,29,2],[29,3,29,4],[29,5,29,6],[29,8,29,9],[29,10,29,11],[30,1,30,2],[30,3,30,4],[30,5,30,6],[30,8,30,9],[30,10,30,11],[27,1,27,2],[27,3,27,4],[27,5,27,6],[27,8,27,9],[27,10,27,11],[28,1,28,2],[28,3,28,4],[28,5,28,6],[28,8,28,9],[28,10,28,11],[25,1,25,2],[25,3,25,4],[25,5,25,6],[25,8,25,9],[25,10,25,11],[26,1,26,2],[26,3,26,4],[26,5,26,6],[26,8,26,9],[26,10,26,11],[23,1,23,2],[23,3,23,4],[23,5,23,6],[23,8,23,9],[23,10,23,11],[24,1,24,2],[24,3,24,4],[24,5,24,6],[24,8,24,9],[24,10,24,11],[21,1,21,2],[21,3,21,4],[21,5,21,6],[21,8,21,9],[21,10,21,11],[22,1,22,2],[22,3,22,4],[22,5,22,6],[22,8,22,9],[22,10,22,11],[19,1,19,2],[19,3,19,4],[19,5,19,6],[19,8,19,9],[19,10,19,11],[20,1,20,2],[20,3,20,4],[20,5,20,6],[20,8,20,9],[20,10,20,11],[17,1,17,2],[17,3,17,4],[17,5,17,6],[17,8,17,9],[17,10,17,11],[18,1,18,2],[18,3,18,4],[18,5,18,6],[18,8,18,9],[18,10,18,11],[15,1,15,2],[15,3,15,4],[15,5,15,6],[15,8,15,9],[15,10,15,11],[16,1,16,2],[16,3,16,4],[16,5,16,6],[16,8,16,9],[16,10,16,11],[13,1,13,2],[13,3,13,4],[13,5,13,6],[13,10,13,11],[14,1,14,2],[14,3,14,4],[14,5,14,6],[14,8,14,9],[14,10,14,11],[13,8,13,9],[11,1,11,2],[11,5,11,6],[11,8,11,9],[11,10,11,11],[12,1,12,2],[12,3,12,4],[12,5,12,6],[12,8,12,9],[12,10,12,11],[11,3,11,4],[10,1,10,2],[10,3,10,4],[10,5,10,6],[10,8,10,9],[10,10,10,11],[9,1,9,2],[9,3,9,4],[9,5,9,6],[9,8,9,9],[9,10,9,11],[7,10,7,11],[6,1,6,2],[6,3,6,4],[6,5,6,6],[6,8,6,9],[6,10,6,11],[5,3,5,4],[8,1,8,2],[8,3,8,4],[8,5,8,6],[8,8,8,9],[8,10,8,11],[7,1,7,2],[7,3,7,4],[7,5,7,6],[7,8,7,9],[5,5,5,6],[5,8,5,9],[0,0,2,11],[4,1,4,2],[4,3,4,4],[4,5,4,6],[4,8,4,9],[4,10,4,11],[5,10,5,11],[5,1,5,2]]}
["الموظفين الإداريين والمستخدمين"]
[]
[]
[]
["الرقم","اللقب والاسم",null,"تاريخ الميلاد",null,"الوظيفة",null,"الصفة","تاريخ التعيين بالمؤسسة",null,"تاريخ التعيين بالصفة الحالية"]
[1,"جامد خليل",null,"1969-12-05",null,"مدير ",null,"مرسم","2018-08-26",null,"2015-09-01"]
[2,"بدراني عبدالقادر ","عمري أحمد ","1968-03-15",null,"مقتصد ","مقتصد ","مرسم","1994-09-26",null,"2014-11-01"]
[3,"شنافي أحمد",null,"1973-09-12",null,"كاتب ",null,"مرسم","1994-09-05"]
[4,"بومريزيقة فاطمة",null,"1988-04-23",null,"مستشارة توجيه",null,"متربصة","2021-09-12",null,"2021-07-07"]
[5,"شنافي نورالهدي","جيرب عائشة ","1975-04-07",null,"عون ادارة ","عون ادارة ","مرسمة","1999-07-03"]
[6,"شنافي محمد",null,"1966-10-19",null,"عون ادارة ",null,"مرسم","2016-07-17",null,"2011-09-15"]
[7,null,null,null,null,"عون ادارة ",null,"مرسمة","2013-12-15"]
[8,"طيفوري محمد",null,null,null,"مشرف تربوي",null,"مرسم"]
[9,"قمقام دربالي",null,null,null,"مشرف تربوي",null,"مرسم"]
[10,"دهكل أحمد",null,null,null,"مساعد تربوي رئيسي",null,"مرسم"]
[11]
[12,null,null,null,null,null,null,"مرسمة"]
[13]
[14,"حساني عبد القادر","جخدم عبد الرحمان ","1970-02-13",null,"عامل مهني ص 02","عامل مهني خارج الصنف ","مرسم","1993-11-22",null,"2013-12-01"]
[15,"شنافي عبد القادر","العتروسي عبد العزيز ","1973-04-14",null,"عامل مهني ص 03","عامل مهني خارج الصنف ","مرسم","1996-09-16",null,"2013-12-02"]
[16,"حساني محمود","ابن بهاز عباسي ","1964-09-21",null,"عامل مهني ص 04","عامل مهني خارج الصنف ","مرسم","2007-12-31",null,"2007-12-31"]
[17,"قرمان الميلود",null,"1969-01-01",null,"عامل مهني م 1 ","عامل مهني م 1 ","متربص","2007-12-31",null,"2007-12-31"]
[18,"طيفوري لخضر",null,"1971-11-11",null,"عامل مهني بتوقيت كامل","عون وقاية و أمن م 1 ","متعاقد","2013-10-22",null,"2013-10-22"]
[19,"حساني عبد القادر",null,"1980-05-29",null,"عامل مهني بتوقيت كامل","عون وقاية و أمن م 2","متعاقد","2015-08-02",null,"2015-08-02"]
[20,"ماحي لخضر",null,null,null,"عامل مهني بتوقيت كامل","عون وقاية و أمن م 3","متعاقد"]
[21,"بكي بن مهرية ",null,null,null,"عامل مهني بتوقيت كامل","عون وقاية و أمن م 4","متعاقد"]
[22,"بعيط بومدين",null,null,null,"عامل مهني بتوقيت كامل","عون وقاية و أمن م 5","متعاقد"]
[23,"بدراني مولاي الطيب",null,null,null,"عامل مهني بتوقيت كامل","عون وقاية و أمن م 6","متعاقد"]
[24,"بوبكري عطاء الله",null,null,null,"عامل مهني بتوقيت كامل","عون وقاية و أمن م 7","متعاقد"]
[25,"سماعيني أبعيط",null,null,null,"عامل مهني بتوقيت كامل","عون وقاية و أمن م 8","متعاقد"]
[26,"جبالي إبراهيم ",null,null,null,"عامل مهني بتوقيت كامل","عون وقاية و أمن م 9","متعاقد"]
[27,"بدراني محمد أمين ",null,null,null,"عامل مهني بتوقيت كامل","عون وقاية و أمن م 10","متعاقد"]
[28,"قرمان حسين ",null,null,null,"سائق ",null,"متعاقد"]
[29]
[30]
[31]
[32]
[33]
[34]
[35]
[36]
[37]
[38]
[39]
[40]
[41]
[42]
[43]
[44]
[45]
[46]
[47]
[48]
[49]
[50]

{"sheet":"اسناد الأقسام","index":6,"n_rows":78,"n_cols":25,"rows_kept":78,"cut":false,"hidden":false,"merged":[[0,1,0,2],[0,3,0,5],[5,8,5,29],[2,0,2,11],[2,24,2,27]]}
[]
[]
["كشف معلومات الأساتذة",null,null,null,null,null,null,null,null,null,null,null,null,null,null,null,null,null,null,null,null,null,null,null,"ساعة الاستدراك أوالدعم توضع هنا"]
[]
[null,null,null,null,null,null,null,null,1,2,3,4,5,6,7,8,9,10,11,12,13,14,15,16]
["المنصب","الرقم","لقب واسم الأستاذ (ة)","المادة","تاريخ الميلاد","الصفة","أقصى درجة جامعية","تاريخ التعيين بالمؤسسة","الأقسام المسندة"]
["عربية1",1,"العابد مباركة ","عربية","1981-09-20","مرسمة","ليسانس","2003-09-09","3م1","3م2","1م1","1م1 ت","1م2 ت","1م3 ت","2م3 ت"]
["عربية2",2,"سهلي بوعلام ","عربية","1980-12-06","مرسمة","ليسانس","2013-12-08","1م1","1م2","1م3"]
["عربية3",3,"بدراني خديجة ","عربية","1991-07-01","مرسمة","ليسانس","2016-08-03","4م1","4م2","2م1 ت","2م2 ت"]
["عربية4",4,"تهامي أم الخير ","عربية","1986-09-10","مرسم","ليسانس","2015-08-02","2م1","2م2","2م3"]
["رياضيات1",7,"سماعيني بن يوسف","رياضيات","1977-05-15","مرسم","ليسانس","2011-11-21","3م1","3م2","2م2"]
["رياضيات2",8,"حساني عبد القادر ","رياضيات","1988-01-20","مرسمة","ليسانس","2007-09-05","4م1","4م2","2م1 "]
["رياضيات3",9,"حساني فاطمة ","رياضيات",null,"متعاقدة","ليسانس","2013-10-30","1م1","1م2","1م3","2م3"]
["تكنولوجيا1",11,"داودي ميلود","تكنولوجيا","1975-03-19","مرسم","ليسانس","1986-06-25","4م1","4م2","2م1","2م2","2م3"]
["تكنولوجيا2",12,"طيبي عبد القادر ","تكنولوجيا","1990-08-06","مرسمة","ليسانس","2015-09-01","1م1","1م2","1م3","3م1","3م2"]
["علوم ط 1",13,"حطاب رشيدة ","علوم ط","1978-12-07","مرسمة","ليسانس","2013-11-20","1م1","1م2","1م3","3م1","3م2"]
["علوم ط 2",14,"مجدوب طلحة ","علوم ط","1987-08-03","مرسمة","ليسانس","2011-11-20","4م1","4م2","2م1","2م2","2م3"]
["فرنسية 1",15,"مغزي محمد ","فرنسية","1976-07-13","مرسمة","ليسانس","2017-08-31","1م1","1م2","1م3","3م2"]
["فرنسية 2",16,"كواهي يعقوب ","فرنسية","1986-05-22","مرسمة","ليسانس","2005-10-03","4م1","4م2","3م1"]
["فرنسية 3",17,"امحمدي بوشوشة ","فرنسية","1992-01-06","مرسمة","ليسانس","2014-12-07","2م1","2م2","2م3"]
["انجليزية 1",18,"زريفي إبراهيم","انجليزية","1982-03-31","مرسمة","ليسانس","2016-09-01","1م1","1م2","1م3","3م2","3م3"]
["انجليزية 2",19,"محمدي مريم ","انجليزية","1983-12-31","مرسمة","ليسانس","2013-12-08","4م1","4م2","2م1","2م2","2م3"]
["اجتماعيات1",20,"مشارة محمد ","اجتماعيات","1990-07-04","مرسمة","ليسانس","2017-09-30","1م1","1م2","1م3","3م1","3م2"]
["اجتماعيات2",21,"بدراني شريف","اجتماعيات","1986-01-21","متربص","ليسانس","2016-07-31","4م1","4م2","2م1","2م2","2م3"]
["رسم",22,"جليد الميلود","رسم","1975-04-27","مرسمة","ليسانس","1985-06-16","4م1","4م2","3م1","3م2","2م1","2م2","2م3","1م1","1م2","1م3"]
["تربية بدنية 1",23,"قرمان البشير ","ت.بدنية","1982-01-16","مرسم","ليسانس","1999-10-13","4م1","4م2","3م1","3م2","2م1","2م2","2م3","1م1","1م2","1م3"]
["اجتماعيات2",21]
["رسم",22]
["تربية بدنية 1",23]
["انجليزية 1",24]
["انجليزية 2",25]
["انجليزية 3",26]
["انجليزية 4",27]
["علوم ط 1",28]
["علوم ط 2",29]
["علوم ط 3",30]
["علوم ط 4",31]
["تكنولوجيا1",32]
["تكنولوجيا2",33]
["تكنولوجيا3",34]
["تكنولوجيا4",35]
["رسم",36]
["تربية بدنية 1",37]
["تربية بدنية 2",38]
[null,39]
[null,40]
[null,41]
[null,42]
[null,43]
[null,44]
[null,45]
[null,46]
[null,47]
[null,48]
[null,49]
[null,50]
[null,51]
[null,52]
[null,53]
[null,54]
[null,55]
[null,56]
[null,57]
[null,58]
[null,59]
[null,60]
[null,61]
[null,62]
[null,63]
[null,64]
[null,65]
[null,66]
[null,67]
[null,68]
[null,69]
[null,70]
[null,71]
[null,72]

{"sheet":"حجز مواقيت الأقسام","index":7,"n_rows":287,"n_cols":44,"rows_kept":287,"cut":false,"hidden":false,"merged":[[9,43,9,44],[4,4,5,5],[4,6,5,7],[4,8,5,9],[4,10,5,11],[4,12,5,13],[0,0,2,13],[271,0,278,0],[271,1,278,2],[279,0,286,0],[279,1,286,2],[255,0,262,0],[255,1,262,2],[263,0,270,0],[263,1,270,2],[239,0,246,0],[239,1,246,2],[247,0,254,0],[247,1,254,2],[223,0,230,0],[223,1,230,2],[231,0,238,0],[231,1,238,2],[207,0,214,0],[207,1,214,2],[215,0,222,0],[215,1,222,2],[191,0,198,0],[191,1,198,2],[199,0,206,0],[199,1,206,2],[175,0,182,0],[175,1,182,2],[183,0,190,0],[183,1,190,2],[159,0,166,0],[159,1,166,2],[167,0,174,0],[167,1,174,2],[143,0,150,0],[143,1,150,2],[151,0,158,0],[151,1,158,2],[127,0,134,0],[127,1,134,2],[135,0,142,0],[135,1,142,2],[111,0,118,0],[111,1,118,2],[119,0,126,0],[119,1,126,2],[95,0,102,0],[95,1,102,2],[103,0,110,0],[103,1,110,2],[31,0,38,0],[31,1,38,2],[6,1,6,2],[87,0,94,0],[87,1,94,2],[79,0,86,0],[79,1,86,2],[71,0,78,0],[71,1,78,2],[63,0,70,0],[63,1,70,2],[55,0,62,0],[55,1,62,2],[47,0,54,0],[47,1,54,2],[39,0,46,0],[39,1,46,2],[23,0,30,0],[23,1,30,2],[15,0,22,0],[15,1,22,2],[7,0,14,0],[7,1,14,2]]}
["حجز مواقيت الأقسام"]
[]
[]
[]
[null,null,null,null,"الأحد",null,"الاثنين",null,"الثلاثاء",null,"الأربعاء",null,"الخميس"]
[]
["الرقم","القسم",null,"التوقيت","المادة","الأستاذ","المادة","الأستاذ","المادة","الأستاذ","المادة","الأستاذ","المادة","الأستاذ"]
[1,{"$f":"البداية!A20","v":"4م1"},null,"09-08","فيزياء",{"$f":"LOOKUP(REPT(CHAR(237),255),CHOOSE({1,2},\"\",VLOOKUP(E8,الاسناد!$A$6:$C$29,3,0)))","v":"داودي الميلود"},"فرنسية",{"$f":"LOOKUP(REPT(CHAR(237),255),CHOOSE({1,2},\"\",VLOOKUP(G8,الاسناد!$A$6:$C$29,3,0)))","v":"كواهي يعقوب"},"رياضيات",{"$f":"LOOKUP(REPT(CHAR(237),255),CHOOSE({1,2},\"\",VLOOKUP(I8,الاسناد!$A$6:$C$29,3,0)))","v":"حساني عبد القادر"},"انجليزية",{"$f":"LOOKUP(REPT(CHAR(237),255),CHOOSE({1,2},\"\",VLOOKUP(K8,الاسناد!$A$6:$C$29,3,0)))","v":"محمدي مريم "},"فرنسية",{"$f":"LOOKUP(REPT(CHAR(237),255),CHOOSE({1,2},\"\",VLOOKUP(M8,الاسناد!$A$6:$C$29,3,0)))","v":"كواهي يعقوب"}]
[null,null,null,"10-09","فيزياء",{"$f":"LOOKUP(REPT(CHAR(237),255),CHOOSE({1,2},\"\",VLOOKUP(E9,الاسناد!$A$6:$C$29,3,0)))","v":"داودي الميلود"},"رياضيات",{"$f":"LOOKUP(REPT(CHAR(237),255),CHOOSE({1,2},\"\",VLOOKUP(G9,الاسناد!$A$6:$C$29,3,0)))","v":"حساني عبد القادر"},"اجتماعيات",{"$f":"LOOKUP(REPT(CHAR(237),255),CHOOSE({1,2},\"\",VLOOKUP(I9,الاسناد!$A$6:$C$29,3,0)))","v":"بدراني شريف"},"اجتماعيات",{"$f":"LOOKUP(REPT(CHAR(237),255),CHOOSE({1,2},\"\",VLOOKUP(K9,الاسناد!$A$6:$C$29,3,0)))","v":"بدراني شريف"},"انجليزية",{"$f":"LOOKUP(REPT(CHAR(237),255),CHOOSE({1,2},\"\",VLOOKUP(M9,الاسناد!$A$6:$C$29,3,0)))","v":"محمدي مريم "}]
[null,null,null,"11-10","عربية",{"$f":"LOOKUP(REPT(CHAR(237),255),CHOOSE({1,2},\"\",VLOOKUP(E10,الاسناد!$A$6:$C$29,3,0)))","v":"بدراني خديجة "},"انجليزية",{"$f":"LOOKUP(REPT(CHAR(237),255),CHOOSE({1,2},\"\",VLOOKUP(G10,الاسناد!$A$6:$C$29,3,0)))","v":"محمدي مريم "},"فيزياء",{"$f":"LOOKUP(REPT(CHAR(237),255),CHOOSE({1,2},\"\",VLOOKUP(I10,الاسناد!$A$6:$C$29,3,0)))","v":"داودي الميلود"},"عربية/رياضيات",{"$f":"LOOKUP(REPT(CHAR(237),255),CHOOSE({1,2},\"\",VLOOKUP(K10,الاسناد!$A$6:$C$29,3,0)))","v":"بدراني خديجة / حساني عبد القادر"},"علوم ط",{"$f":"LOOKUP(REPT(CHAR(237),255),CHOOSE({1,2},\"\",VLOOKUP(M10,الاسناد!$A$6:$C$29,3,0)))","v":"مجدوب طلحة"},null,"رياضيات",null,null,"ت.فنية",null,null,null,null,null,null,null,null,null,null,null,null,null,null,null,null,null,null,null,null,null,null,null,null,"فرنسية استدراك"]
[null,null,null,"12-11","رياضيات",{"$f":"LOOKUP(REPT(CHAR(237),255),CHOOSE({1,2},\"\",VLOOKUP(E11,الاسناد!$A$6:$C$29,3,0)))","v":"حساني عبد القادر"},null,{"$f":"LOOKUP(REPT(CHAR(237),255),CHOOSE({1,2},\"\",VLOOKUP(G11,الاسناد!$A$6:$C$29,3,0)))","v":""},"عربية/رياضيات",{"$f":"LOOKUP(REPT(CHAR(237),255),CHOOSE({1,2},\"\",VLOOKUP(I11,الاسناد!$A$6:$C$29,3,0)))","v":"بدراني خديجة / حساني عبد القادر"},"فرنسية",{"$f":"LOOKUP(REPT(CHAR(237),255),CHOOSE({1,2},\"\",VLOOKUP(K11,الاسناد!$A$6:$C$29,3,0)))","v":"كواهي يعقوب"},"عربية",{"$f":"LOOKUP(REPT(CHAR(237),255),CHOOSE({1,2},\"\",VLOOKUP(M11,الاسناد!$A$6:$C$29,3,0)))","v":"بدراني خديجة "},null,"عربية",null,null,{"$f":"P11","v":"عربية"}]
[null,null,null,"14-13",null,{"$f":"LOOKUP(REPT(CHAR(237),255),CHOOSE({1,2},\"\",VLOOKUP(E12,الاسناد!$A$6:$C$29,3,0)))","v":""},null,{"$f":"LOOKUP(REPT(CHAR(237),255),CHOOSE({1,2},\"\",VLOOKUP(G12,الاسناد!$A$6:$C$29,3,0)))","v":""},null,{"$f":"LOOKUP(REPT(CHAR(237),255),CHOOSE({1,2},\"\",VLOOKUP(I12,الاسناد!$A$6:$C$29,3,0)))","v":""},null,{"$f":"LOOKUP(REPT(CHAR(237),255),CHOOSE({1,2},\"\",VLOOKUP(K12,الاسناد!$A$6:$C$29,3,0)))","v":""},null,{"$f":"LOOKUP(REPT(CHAR(237),255),CHOOSE({1,2},\"\",VLOOKUP(M12,الاسناد!$A$6:$C$29,3,0)))","v":""},null,"فرنسية",null,null,"فرنسية"]
[null,null,null,"15-14","عربية",{"$f":"LOOKUP(REPT(CHAR(237),255),CHOOSE({1,2},\"\",VLOOKUP(E13,الاسناد!$A$6:$C$29,3,0)))","v":"بدراني خديجة "},"اجتماعيات",{"$f":"LOOKUP(REPT(CHAR(237),255),CHOOSE({1,2},\"\",VLOOKUP(G13,الاسناد!$A$6:$C$29,3,0)))","v":"بدراني شريف"},null,{"$f":"LOOKUP(REPT(CHAR(237),255),CHOOSE({1,2},\"\",VLOOKUP(I13,الاسناد!$A$6:$C$29,3,0)))","v":""},"فرنسية",{"$f":"LOOKUP(REPT(CHAR(237),255),CHOOSE({1,2},\"\",VLOOKUP(K13,الاسناد!$A$6:$C$29,3,0)))","v":"كواهي يعقوب"},"عربية",{"$f":"LOOKUP(REPT(CHAR(237),255),CHOOSE({1,2},\"\",VLOOKUP(M13,الاسناد!$A$6:$C$29,3,0)))","v":"بدراني خديجة "},null,"انجليزية",null,null,"انجليزية"]
[null,null,null,"16-15","ت.بدنية",{"$f":"LOOKUP(REPT(CHAR(237),255),CHOOSE({1,2},\"\",VLOOKUP(E14,الاسناد!$A$6:$C$29,3,0)))","v":"قرمان الشير"},"رياضيات",{"$f":"LOOKUP(REPT(CHAR(237),255),CHOOSE({1,2},\"\",VLOOKUP(G14,الاسناد!$A$6:$C$29,3,0)))","v":"حساني عبد القادر"},null,{"$f":"LOOKUP(REPT(CHAR(237),255),CHOOSE({1,2},\"\",VLOOKUP(I14,الاسناد!$A$6:$C$29,3,0)))","v":""},"ت.اسلامية",{"$f":"LOOKUP(REPT(CHAR(237),255),CHOOSE({1,2},\"\",VLOOKUP(K14,الاسناد!$A$6:$C$29,3,0)))","v":"بدراني خديجة"},"فرنسية/انجليزية",{"$f":"LOOKUP(REPT(CHAR(237),255),CHOOSE({1,2},\"\",VLOOKUP(M14,الاسناد!$A$6:$C$29,3,0)))","v":"كواهي يعقوب/محمدي مريم "},null,"علوم ط",null,null,"علوم ط"]
[null,null,null,"17-16","ت.بدنية",{"$f":"LOOKUP(REPT(CHAR(237),255),CHOOSE({1,2},\"\",VLOOKUP(E15,الاسناد!$A$6:$C$29,3,0)))","v":"قرمان الشير"},"ت.فنية",{"$f":"LOOKUP(REPT(CHAR(237),255),CHOOSE({1,2},\"\",VLOOKUP(G15,الاسناد!$A$6:$C$29,3,0)))","v":"جليد الميلود"},null,{"$f":"LOOKUP(REPT(CHAR(237),255),CHOOSE({1,2},\"\",VLOOKUP(I15,الاسناد!$A$6:$C$29,3,0)))","v":""},null,{"$f":"LOOKUP(REPT(CHAR(237),255),CHOOSE({1,2},\"\",VLOOKUP(K15,الاسناد!$A$6:$C$29,3,0)))","v":""},null,{"$f":"LOOKUP(REPT(CHAR(237),255),CHOOSE({1,2},\"\",VLOOKUP(M15,الاسناد!$A$6:$C$29,3,0)))","v":""},null,"فيزياء",null,null,"فيزياء"]
[2,{"$f":"البداية!A21","v":"4م2"},null,"09-08","رياضيات",{"$f":"LOOKUP(REPT(CHAR(237),255),CHOOSE({1,2},\"\",VLOOKUP(E16,الاسناد!$A$6:$D$29,4,0)))","v":"حساني عبد القادر"},"رياضيات",{"$f":"LOOKUP(REPT(CHAR(237),255),CHOOSE({1,2},\"\",VLOOKUP(G16,الاسناد!$A$6:$D$29,4,0)))","v":"حساني عبد القادر"},"فيزياء",{"$f":"LOOKUP(REPT(CHAR(237),255),CHOOSE({1,2},\"\",VLOOKUP(I16,الاسناد!$A$6:$D$29,4,0)))","v":"داودي الميلود"},"اجتماعيات",{"$f":"LOOKUP(REPT(CHAR(237),255),CHOOSE({1,2},\"\",VLOOKUP(K16,الاسناد!$A$6:$D$29,4,0)))","v":"بدراني شريف"},"انجليزية",{"$f":"LOOKUP(REPT(CHAR(237),255),CHOOSE({1,2},\"\",VLOOKUP(M16,الاسناد!$A$6:$D$29,4,0)))","v":"محمدي مريم "},null,"اجتماعيات",null,null,"اجتماعيات"]
[null,null,null,"10-09","انجليزية",{"$f":"LOOKUP(REPT(CHAR(237),255),CHOOSE({1,2},\"\",VLOOKUP(E17,الاسناد!$A$6:$D$29,4,0)))","v":"محمدي مريم "},"انجليزية",{"$f":"LOOKUP(REPT(CHAR(237),255),CHOOSE({1,2},\"\",VLOOKUP(G17,الاسناد!$A$6:$D$29,4,0)))","v":"محمدي مريم "},"فيزياء",{"$f":"LOOKUP(REPT(CHAR(237),255),CHOOSE({1,2},\"\",VLOOKUP(I17,الاسناد!$A$6:$D$29,4,0)))","v":"داودي الميلود"},"رياضيات",{"$f":"LOOKUP(REPT(CHAR(237),255),CHOOSE({1,2},\"\",VLOOKUP(K17,الاسناد!$A$6:$D$29,4,0)))","v":"حساني عبد القادر"},"علوم ط",{"$f":"LOOKUP(REPT(CHAR(237),255),CHOOSE({1,2},\"\",VLOOKUP(M17,الاسناد!$A$6:$D$29,4,0)))","v":"مجدوب طلحة"},null,"اعلام آلي",null,null,"اعلام آلي"]
[null,null,null,"11-10","عربية",{"$f":"LOOKUP(REPT(CHAR(237),255),CHOOSE({1,2},\"\",VLOOKUP(E18,الاسناد!$A$6:$D$29,4,0)))","v":"بدراني خديجة "},"فيزياء",{"$f":"LOOKUP(REPT(CHAR(237),255),CHOOSE({1,2},\"\",VLOOKUP(G18,الاسناد!$A$6:$D$29,4,0)))","v":"داودي الميلود"},"عربية/رياضيات",{"$f":"LOOKUP(REPT(CHAR(237),255),CHOOSE({1,2},\"\",VLOOKUP(I18,الاسناد!$A$6:$D$29,4,0)))","v":"بدراني خديجة / حساني عبد القادر"},"فرنسية",{"$f":"LOOKUP(REPT(CHAR(237),255),CHOOSE({1,2},\"\",VLOOKUP(K18,الاسناد!$A$6:$D$29,4,0)))","v":"كواهي يعقوب"},"عربية",{"$f":"LOOKUP(REPT(CHAR(237),255),CHOOSE({1,2},\"\",VLOOKUP(M18,الاسناد!$A$6:$D$29,4,0)))","v":"بدراني خديجة "},null,"ت.بدنية",null,null,"ت.بدنية"]
[null,null,null,"12-11",null,{"$f":"LOOKUP(REPT(CHAR(237),255),CHOOSE({1,2},\"\",VLOOKUP(E19,الاسناد!$A$6:$D$29,4,0)))","v":""},"عربية",{"$f":"LOOKUP(REPT(CHAR(237),255),CHOOSE({1,2},\"\",VLOOKUP(G19,الاسناد!$A$6:$D$29,4,0)))","v":"بدراني خديجة "},"اجتماعيات",{"$f":"LOOKUP(REPT(CHAR(237),255),CHOOSE({1,2},\"\",VLOOKUP(I19,الاسناد!$A$6:$D$29,4,0)))","v":"بدراني شريف"},"عربية/رياضيات",{"$f":"LOOKUP(REPT(CHAR(237),255),CHOOSE({1,2},\"\",VLOOKUP(K19,الاسناد!$A$6:$D$29,4,0)))","v":"بدراني خديجة / حساني عبد القادر"},"فرنسية",{"$f":"LOOKUP(REPT(CHAR(237),255),CHOOSE({1,2},\"\",VLOOKUP(M19,الاسناد!$A$6:$D$29,4,0)))","v":"كواهي يعقوب"},null,"ت.فنية",null,null,"ت.فنية"]
[null,null,null,"14-13",null,{"$f":"LOOKUP(REPT(CHAR(237),255),CHOOSE({1,2},\"\",VLOOKUP(E20,الاسناد!$A$6:$D$29,4,0)))","v":""},null,{"$f":"LOOKUP(REPT(CHAR(237),255),CHOOSE({1,2},\"\",VLOOKUP(G20,الاسناد!$A$6:$D$29,4,0)))","v":""},null,{"$f":"LOOKUP(REPT(CHAR(237),255),CHOOSE({1,2},\"\",VLOOKUP(I20,الاسناد!$A$6:$D$29,4,0)))","v":""},null,{"$f":"LOOKUP(REPT(CHAR(237),255),CHOOSE({1,2},\"\",VLOOKUP(K20,الاسناد!$A$6:$D$29,4,0)))","v":""},null,{"$f":"LOOKUP(REPT(CHAR(237),255),CHOOSE({1,2},\"\",VLOOKUP(M20,الاسناد!$A$6:$D$29,4,0)))","v":""},null,"فرنسية/انجليزية",null,null,"فرنسية/انجليزية"]
[null,null,null,"15-14","ت.فنية",{"$f":"LOOKUP(REPT(CHAR(237),255),CHOOSE({1,2},\"\",VLOOKUP(E21,الاسناد!$A$6:$D$29,4,0)))","v":"جليد الميلود"},"رياضيات",{"$f":"LOOKUP(REPT(CHAR(237),255),CHOOSE({1,2},\"\",VLOOKUP(G21,الاسناد!$A$6:$D$29,4,0)))","v":"حساني عبد القادر"},null,{"$f":"LOOKUP(REPT(CHAR(237),255),CHOOSE({1,2},\"\",VLOOKUP(I21,الاسناد!$A$6:$D$29,4,0)))","v":""},"ت.اسلامية",{"$f":"LOOKUP(REPT(CHAR(237),255),CHOOSE({1,2},\"\",VLOOKUP(K21,الاسناد!$A$6:$D$29,4,0)))","v":"بدراني خديجة"},"فرنسية/انجليزية",{"$f":"LOOKUP(REPT(CHAR(237),255),CHOOSE({1,2},\"\",VLOOKUP(M21,الاسناد!$A$6:$D$29,4,0)))","v":"كواهي يعقوب/محمدي مريم "},null,"علوم/فيزياء",null,null,"علوم/فيزياء"]
[null,null,null,"16-15","عربية",{"$f":"LOOKUP(REPT(CHAR(237),255),CHOOSE({1,2},\"\",VLOOKUP(E22,الاسناد!$A$6:$D$29,4,0)))","v":"بدراني خديجة "},"فرنسية",{"$f":"LOOKUP(REPT(CHAR(237),255),CHOOSE({1,2},\"\",VLOOKUP(G22,الاسناد!$A$6:$D$29,4,0)))","v":"كواهي يعقوب"},null,{"$f":"LOOKUP(REPT(CHAR(237),255),CHOOSE({1,2},\"\",VLOOKUP(I22,الاسناد!$A$6:$D$29,4,0)))","v":""},"ت.بدنية",{"$f":"LOOKUP(REPT(CHAR(237),255),CHOOSE({1,2},\"\",VLOOKUP(K22,الاسناد!$A$6:$D$29,4,0)))","v":"قرمان الشير"},"عربية",{"$f":"LOOKUP(REPT(CHAR(237),255),CHOOSE({1,2},\"\",VLOOKUP(M22,الاسناد!$A$6:$D$29,4,0)))","v":"بدراني خديجة "},null,"عربية استدراك",null,null,"عربية استدراك"]
[null,null,null,"17-16",null,{"$f":"LOOKUP(REPT(CHAR(237),255),CHOOSE({1,2},\"\",VLOOKUP(E23,الاسناد!$A$6:$D$29,4,0)))","v":""},null,{"$f":"LOOKUP(REPT(CHAR(237),255),CHOOSE({1,2},\"\",VLOOKUP(G23,الاسناد!$A$6:$D$29,4,0)))","v":""},null,{"$f":"LOOKUP(REPT(CHAR(237),255),CHOOSE({1,2},\"\",VLOOKUP(I23,الاسناد!$A$6:$D$29,4,0)))","v":""},"ت.بدنية",{"$f":"LOOKUP(REPT(CHAR(237),255),CHOOSE({1,2},\"\",VLOOKUP(K23,الاسناد!$A$6:$D$29,4,0)))","v":"قرمان الشير"},null,{"$f":"LOOKUP(REPT(CHAR(237),255),CHOOSE({1,2},\"\",VLOOKUP(M23,الاسناد!$A$6:$D$29,4,0)))","v":""},null,"رياضيات استدراك",null,null,"رياضيات استدراك"]
[3,{"$f":"البداية!A22","v":"3م1"},null,"09-08","ت.بدنية",{"$f":"LOOKUP(REPT(CHAR(237),255),CHOOSE({1,2},\"\",VLOOKUP(E24,الاسناد!$A$6:$D$29,4,0)))","v":"قرمان الشير"},"اجتماعيات",{"$f":"LOOKUP(REPT(CHAR(237),255),CHOOSE({1,2},\"\",VLOOKUP(G24,الاسناد!$A$6:$D$29,4,0)))","v":"بدراني شريف"},"رياضيات",{"$f":"LOOKUP(REPT(CHAR(237),255),CHOOSE({1,2},\"\",VLOOKUP(I24,الاسناد!$A$6:$D$29,4,0)))","v":"حساني عبد القادر"},"عربية",{"$f":"LOOKUP(REPT(CHAR(237),255),CHOOSE({1,2},\"\",VLOOKUP(K24,الاسناد!$A$6:$D$29,4,0)))","v":"بدراني خديجة "},"ت.اسلامية",{"$f":"LOOKUP(REPT(CHAR(237),255),CHOOSE({1,2},\"\",VLOOKUP(M24,الاسناد!$A$6:$D$29,4,0)))","v":"بدراني خديجة"},null,"فرنسية استدراك",null,null,"فرنسية استدراك"]
[null,null,null,"10-09","ت.بدنية",{"$f":"LOOKUP(REPT(CHAR(237),255),CHOOSE({1,2},\"\",VLOOKUP(E25,الاسناد!$A$6:$D$29,4,0)))","v":"قرمان الشير"},"فرنسية",{"$f":"LOOKUP(REPT(CHAR(237),255),CHOOSE({1,2},\"\",VLOOKUP(G25,الاسناد!$A$6:$D$29,4,0)))","v":"كواهي يعقوب"},"عربية",{"$f":"LOOKUP(REPT(CHAR(237),255),CHOOSE({1,2},\"\",VLOOKUP(I25,الاسناد!$A$6:$D$29,4,0)))","v":"بدراني خديجة "},"فيزياء",{"$f":"LOOKUP(REPT(CHAR(237),255),CHOOSE({1,2},\"\",VLOOKUP(K25,الاسناد!$A$6:$D$29,4,0)))","v":"داودي الميلود"},"فرنسية/انجليزية",{"$f":"LOOKUP(REPT(CHAR(237),255),CHOOSE({1,2},\"\",VLOOKUP(M25,الاسناد!$A$6:$D$29,4,0)))","v":"كواهي يعقوب/محمدي مريم "},null,"ت.اسلامية",null,null,"ت.اسلامية"]
[null,null,null,"11-10","رياضيات",{"$f":"LOOKUP(REPT(CHAR(237),255),CHOOSE({1,2},\"\",VLOOKUP(E26,الاسناد!$A$6:$D$29,4,0)))","v":"حساني عبد القادر"},"فيزياء",{"$f":"LOOKUP(REPT(CHAR(237),255),CHOOSE({1,2},\"\",VLOOKUP(G26,الاسناد!$A$6:$D$29,4,0)))","v":"داودي الميلود"},"فيزياء",{"$f":"LOOKUP(REPT(CHAR(237),255),CHOOSE({1,2},\"\",VLOOKUP(I26,الاسناد!$A$6:$D$29,4,0)))","v":"داودي الميلود"},"ت.فنية",{"$f":"LOOKUP(REPT(CHAR(237),255),CHOOSE({1,2},\"\",VLOOKUP(K26,الاسناد!$A$6:$D$29,4,0)))","v":"جليد الميلود"},"اجتماعيات",{"$f":"LOOKUP(REPT(CHAR(237),255),CHOOSE({1,2},\"\",VLOOKUP(M26,الاسناد!$A$6:$D$29,4,0)))","v":"بدراني شريف"},null,"عربية دعم",null,null,"عربية دعم"]
[null,null,null,"12-11","انجليزية",{"$f":"LOOKUP(REPT(CHAR(237),255),CHOOSE({1,2},\"\",VLOOKUP(E27,الاسناد!$A$6:$D$29,4,0)))","v":"محمدي مريم "},null,{"$f":"LOOKUP(REPT(CHAR(237),255),CHOOSE({1,2},\"\",VLOOKUP(G27,الاسناد!$A$6:$D$29,4,0)))","v":""},"فيزياء",{"$f":"LOOKUP(REPT(CHAR(237),255),CHOOSE({1,2},\"\",VLOOKUP(I27,الاسناد!$A$6:$D$29,4,0)))","v":"داودي الميلود"},"فيزياء",{"$f":"LOOKUP(REPT(CHAR(237),255),CHOOSE({1,2},\"\",VLOOKUP(K27,الاسناد!$A$6:$D$29,4,0)))","v":"داودي الميلود"},null,{"$f":"LOOKUP(REPT(CHAR(237),255),CHOOSE({1,2},\"\",VLOOKUP(M27,الاسناد!$A$6:$D$29,4,0)))","v":""},null,"رياضيات دعم",null,null,"رياضيات دعم"]
[null,null,null,"14-13",null,{"$f":"LOOKUP(REPT(CHAR(237),255),CHOOSE({1,2},\"\",VLOOKUP(E28,الاسناد!$A$6:$D$29,4,0)))","v":""},null,{"$f":"LOOKUP(REPT(CHAR(237),255),CHOOSE({1,2},\"\",VLOOKUP(G28,الاسناد!$A$6:$D$29,4,0)))","v":""},null,{"$f":"LOOKUP(REPT(CHAR(237),255),CHOOSE({1,2},\"\",VLOOKUP(I28,الاسناد!$A$6:$D$29,4,0)))","v":""},null,{"$f":"LOOKUP(REPT(CHAR(237),255),CHOOSE({1,2},\"\",VLOOKUP(K28,الاسناد!$A$6:$D$29,4,0)))","v":""},null,{"$f":"LOOKUP(REPT(CHAR(237),255),CHOOSE({1,2},\"\",VLOOKUP(M28,الاسناد!$A$6:$D$29,4,0)))","v":""},null,"فرنسية دعم",null,null,"فرنسية دعم"]
[null,null,null,"15-14","رياضيات",{"$f":"LOOKUP(REPT(CHAR(237),255),CHOOSE({1,2},\"\",VLOOKUP(E29,الاسناد!$A$6:$D$29,4,0)))","v":"حساني عبد القادر"},"فرنسية",{"$f":"LOOKUP(REPT(CHAR(237),255),CHOOSE({1,2},\"\",VLOOKUP(G29,الاسناد!$A$6:$D$29,4,0)))","v":"كواهي يعقوب"},null,{"$f":"LOOKUP(REPT(CHAR(237),255),CHOOSE({1,2},\"\",VLOOKUP(I29,الاسناد!$A$6:$D$29,4,0)))","v":""},"عربية/رياضيات",{"$f":"LOOKUP(REPT(CHAR(237),255),CHOOSE({1,2},\"\",VLOOKUP(K29,الاسناد!$A$6:$D$29,4,0)))","v":"بدراني خديجة / حساني عبد القادر"},"عربية",{"$f":"LOOKUP(REPT(CHAR(237),255),CHOOSE({1,2},\"\",VLOOKUP(M29,الاسناد!$A$6:$D$29,4,0)))","v":"بدراني خديجة "},null,"انجليزية دعم",null,null,"انجليزية دعم"]
[null,null,null,"16-15","عربية",{"$f":"LOOKUP(REPT(CHAR(237),255),CHOOSE({1,2},\"\",VLOOKUP(E30,الاسناد!$A$6:$D$29,4,0)))","v":"بدراني خديجة "},"انجليزية",{"$f":"LOOKUP(REPT(CHAR(237),255),CHOOSE({1,2},\"\",VLOOKUP(G30,الاسناد!$A$6:$D$29,4,0)))","v":"محمدي مريم "},null,{"$f":"LOOKUP(REPT(CHAR(237),255),CHOOSE({1,2},\"\",VLOOKUP(I30,الاسناد!$A$6:$D$29,4,0)))","v":""},"فرنسية",{"$f":"LOOKUP(REPT(CHAR(237),255),CHOOSE({1,2},\"\",VLOOKUP(K30,الاسناد!$A$6:$D$29,4,0)))","v":"كواهي يعقوب"},"علوم ط",{"$f":"LOOKUP(REPT(CHAR(237),255),CHOOSE({1,2},\"\",VLOOKUP(M30,الاسناد!$A$6:$D$29,4,0)))","v":"مجدوب طلحة"},null,"عربية/رياضيات",null,null,"عربية/رياضيات"]
[null,null,null,"17-16",null,{"$f":"LOOKUP(REPT(CHAR(237),255),CHOOSE({1,2},\"\",VLOOKUP(E31,الاسناد!$A$6:$D$29,4,0)))","v":""},"رياضيات",{"$f":"LOOKUP(REPT(CHAR(237),255),CHOOSE({1,2},\"\",VLOOKUP(G31,الاسناد!$A$6:$D$29,4,0)))","v":"حساني عبد القادر"},null,{"$f":"LOOKUP(REPT(CHAR(237),255),CHOOSE({1,2},\"\",VLOOKUP(I31,الاسناد!$A$6:$D$29,4,0)))","v":""},"اجتماعيات",{"$f":"LOOKUP(REPT(CHAR(237),255),CHOOSE({1,2},\"\",VLOOKUP(K31,الاسناد!$A$6:$D$29,4,0)))","v":"بدراني شريف"},null,{"$f":"LOOKUP(REPT(CHAR(237),255),CHOOSE({1,2},\"\",VLOOKUP(M31,الاسناد!$A$6:$D$29,4,0)))","v":""},null,"رياضيات",null,null,"رياضيات"]
[4,{"$f":"البداية!A23","v":"3م2"},null,"09-08","انجليزية",{"$f":"LOOKUP(REPT(CHAR(237),255),CHOOSE({1,2},\"\",VLOOKUP(E32,الاسناد!$A$6:$D$29,4,0)))","v":"محمدي مريم "},"رياضيات",{"$f":"LOOKUP(REPT(CHAR(237),255),CHOOSE({1,2},\"\",VLOOKUP(G32,الاسناد!$A$6:$D$29,4,0)))","v":"حساني عبد القادر"},"عربية",{"$f":"LOOKUP(REPT(CHAR(237),255),CHOOSE({1,2},\"\",VLOOKUP(I32,الاسناد!$A$6:$D$29,4,0)))","v":"بدراني خديجة "},"ت.بدنية",{"$f":"LOOKUP(REPT(CHAR(237),255),CHOOSE({1,2},\"\",VLOOKUP(K32,الاسناد!$A$6:$D$29,4,0)))","v":"قرمان الشير"},null,{"$f":"LOOKUP(REPT(CHAR(237),255),CHOOSE({1,2},\"\",VLOOKUP(M32,الاسناد!$A$6:$D$29,4,0)))","v":""},null,"اجتماعيات دعم",null,null,"اجتماعيات دعم"]
[null,null,null,"10-09","فرنسية",{"$f":"LOOKUP(REPT(CHAR(237),255),CHOOSE({1,2},\"\",VLOOKUP(E33,الاسناد!$A$6:$D$29,4,0)))","v":"كواهي يعقوب"},"اجتماعيات",{"$f":"LOOKUP(REPT(CHAR(237),255),CHOOSE({1,2},\"\",VLOOKUP(G33,الاسناد!$A$6:$D$29,4,0)))","v":"بدراني شريف"},"فيزياء",{"$f":"LOOKUP(REPT(CHAR(237),255),CHOOSE({1,2},\"\",VLOOKUP(I33,الاسناد!$A$6:$D$29,4,0)))","v":"داودي الميلود"},"ت.بدنية",{"$f":"LOOKUP(REPT(CHAR(237),255),CHOOSE({1,2},\"\",VLOOKUP(K33,الاسناد!$A$6:$D$29,4,0)))","v":"قرمان الشير"},"فرنسية",{"$f":"LOOKUP(REPT(CHAR(237),255),CHOOSE({1,2},\"\",VLOOKUP(M33,الاسناد!$A$6:$D$29,4,0)))","v":"كواهي يعقوب"}]
[null,null,null,"11-10","فيزياء",{"$f":"LOOKUP(REPT(CHAR(237),255),CHOOSE({1,2},\"\",VLOOKUP(E34,الاسناد!$A$6:$D$29,4,0)))","v":"داودي الميلود"},"علوم ط",{"$f":"LOOKUP(REPT(CHAR(237),255),CHOOSE({1,2},\"\",VLOOKUP(G34,الاسناد!$A$6:$D$29,4,0)))","v":"مجدوب طلحة"},"رياضيات",{"$f":"LOOKUP(REPT(CHAR(237),255),CHOOSE({1,2},\"\",VLOOKUP(I34,الاسناد!$A$6:$D$29,4,0)))","v":"حساني عبد القادر"},"انجليزية",{"$f":"LOOKUP(REPT(CHAR(237),255),CHOOSE({1,2},\"\",VLOOKUP(K34,الاسناد!$A$6:$D$29,4,0)))","v":"محمدي مريم "},"عربية",{"$f":"LOOKUP(REPT(CHAR(237),255),CHOOSE({1,2},\"\",VLOOKUP(M34,الاسناد!$A$6:$D$29,4,0)))","v":"بدراني خديجة "}]
[null,null,null,"12-11","فيزياء",{"$f":"LOOKUP(REPT(CHAR(237),255),CHOOSE({1,2},\"\",VLOOKUP(E35,الاسناد!$A$6:$D$29,4,0)))","v":"داودي الميلود"},null,{"$f":"LOOKUP(REPT(CHAR(237),255),CHOOSE({1,2},\"\",VLOOKUP(G35,الاسناد!$A$6:$D$29,4,0)))","v":""},"اجتماعيات",{"$f":"LOOKUP(REPT(CHAR(237),255),CHOOSE({1,2},\"\",VLOOKUP(I35,الاسناد!$A$6:$D$29,4,0)))","v":"بدراني شريف"},"فرنسية",{"$f":"LOOKUP(REPT(CHAR(237),255),CHOOSE({1,2},\"\",VLOOKUP(K35,الاسناد!$A$6:$D$29,4,0)))","v":"كواهي يعقوب"},"فرنسية/انجليزية",{"$f":"LOOKUP(REPT(CHAR(237),255),CHOOSE({1,2},\"\",VLOOKUP(M35,الاسناد!$A$6:$D$29,4,0)))","v":"كواهي يعقوب/محمدي مريم "}]
[null,null,null,"14-13",null,{"$f":"LOOKUP(REPT(CHAR(237),255),CHOOSE({1,2},\"\",VLOOKUP(E36,الاسناد!$A$6:$D$29,4,0)))","v":""},null,{"$f":"LOOKUP(REPT(CHAR(237),255),CHOOSE({1,2},\"\",VLOOKUP(G36,الاسناد!$A$6:$D$29,4,0)))","v":""},null,{"$f":"LOOKUP(REPT(CHAR(237),255),CHOOSE({1,2},\"\",VLOOKUP(I36,الاسناد!$A$6:$D$29,4,0)))","v":""},null,{"$f":"LOOKUP(REPT(CHAR(237),255),CHOOSE({1,2},\"\",VLOOKUP(K36,الاسناد!$A$6:$D$29,4,0)))","v":""},null,{"$f":"LOOKUP(REPT(CHAR(237),255),CHOOSE({1,2},\"\",VLOOKUP(M36,الاسناد!$A$6:$D$29,4,0)))","v":""}]
[null,null,null,"15-14","عربية",{"$f":"LOOKUP(REPT(CHAR(237),255),CHOOSE({1,2},\"\",VLOOKUP(E37,الاسناد!$A$6:$D$29,4,0)))","v":"بدراني خديجة "},"انجليزية",{"$f":"LOOKUP(REPT(CHAR(237),255),CHOOSE({1,2},\"\",VLOOKUP(G37,الاسناد!$A$6:$D$29,4,0)))","v":"محمدي مريم "},null,{"$f":"LOOKUP(REPT(CHAR(237),255),CHOOSE({1,2},\"\",VLOOKUP(I37,الاسناد!$A$6:$D$29,4,0)))","v":""},"ت.فنية",{"$f":"LOOKUP(REPT(CHAR(237),255),CHOOSE({1,2},\"\",VLOOKUP(K37,الاسناد!$A$6:$D$29,4,0)))","v":"جليد الميلود"},"اجتماعيات",{"$f":"LOOKUP(REPT(CHAR(237),255),CHOOSE({1,2},\"\",VLOOKUP(M37,الاسناد!$A$6:$D$29,4,0)))","v":"بدراني شريف"}]
[null,null,null,"16-15","رياضيات",{"$f":"LOOKUP(REPT(CHAR(237),255),CHOOSE({1,2},\"\",VLOOKUP(E38,الاسناد!$A$6:$D$29,4,0)))","v":"حساني عبد القادر"},"رياضيات",{"$f":"LOOKUP(REPT(CHAR(237),255),CHOOSE({1,2},\"\",VLOOKUP(G38,الاسناد!$A$6:$D$29,4,0)))","v":"حساني عبد القادر"},"رياضيات دعم",{"$f":"LOOKUP(REPT(CHAR(237),255),CHOOSE({1,2},\"\",VLOOKUP(I38,الاسناد!A6:D29,5,0)))","v":""},"انجليزية",{"$f":"LOOKUP(REPT(CHAR(237),255),CHOOSE({1,2},\"\",VLOOKUP(K38,الاسناد!$A$6:$D$29,3,0)))","v":"محمدي مريم "},"عربية",{"$f":"LOOKUP(REPT(CHAR(237),255),CHOOSE({1,2},\"\",VLOOKUP(M38,الاسناد!$A$6:$D$29,4,0)))","v":"بدراني خديجة "}]
[null,null,null,"17-16","ت.اسلامية",{"$f":"LOOKUP(REPT(CHAR(237),255),CHOOSE({1,2},\"\",VLOOKUP(E39,الاسناد!$A$6:$D$29,4,0)))","v":"بدراني خديجة"},null,{"$f":"LOOKUP(REPT(CHAR(237),255),CHOOSE({1,2},\"\",VLOOKUP(G39,الاسناد!$A$6:$D$29,4,0)))","v":""},null,{"$f":"LOOKUP(REPT(CHAR(237),255),CHOOSE({1,2},\"\",VLOOKUP(I39,الاسناد!$A$6:$D$29,4,0)))","v":""},"عربية دعم",{"$f":"LOOKUP(REPT(CHAR(237),255),CHOOSE({1,2},\"\",VLOOKUP(K39,الاسناد!$A$6:$D$29,3,0)))","v":"بدراني خديجة "},null,{"$f":"LOOKUP(REPT(CHAR(237),255),CHOOSE({1,2},\"\",VLOOKUP(M39,الاسناد!$A$6:$D$29,4,0)))","v":""}]
[5,{"$f":"البداية!A24","v":"2م1"},null,"09-08","عربية",{"$f":"LOOKUP(REPT(CHAR(237),255),CHOOSE({1,2},\"\",VLOOKUP(E40,الاسناد!$A$6:$D$29,4,0)))","v":"بدراني خديجة "},"رياضيات",{"$f":"LOOKUP(REPT(CHAR(237),255),CHOOSE({1,2},\"\",VLOOKUP(G40,الاسناد!$A$6:$D$29,4,0)))","v":"حساني عبد القادر"},"رياضيات",{"$f":"LOOKUP(REPT(CHAR(237),255),CHOOSE({1,2},\"\",VLOOKUP(I40,الاسناد!$A$6:$D$29,4,0)))","v":"حساني عبد القادر"},"علوم ط",{"$f":"LOOKUP(REPT(CHAR(237),255),CHOOSE({1,2},\"\",VLOOKUP(K40,الاسناد!$A$6:$D$29,3,0)))","v":"مجدوب طلحة"},"فيزياء",{"$f":"LOOKUP(REPT(CHAR(237),255),CHOOSE({1,2},\"\",VLOOKUP(M40,الاسناد!$A$6:$D$29,4,0)))","v":"داودي الميلود"}]
[null,null,null,"10-09","اجتماعيات",{"$f":"LOOKUP(REPT(CHAR(237),255),CHOOSE({1,2},\"\",VLOOKUP(E41,الاسناد!$A$6:$D$29,4,0)))","v":"بدراني شريف"},"علوم ط",{"$f":"LOOKUP(REPT(CHAR(237),255),CHOOSE({1,2},\"\",VLOOKUP(G41,الاسناد!$A$6:$D$29,4,0)))","v":"مجدوب طلحة"},"انجليزية",{"$f":"LOOKUP(REPT(CHAR(237),255),CHOOSE({1,2},\"\",VLOOKUP(I41,الاسناد!A6:D29,4,0)))","v":"محمدي مريم "},"انجليزية",{"$f":"LOOKUP(REPT(CHAR(237),255),CHOOSE({1,2},\"\",VLOOKUP(K41,الاسناد!$A$6:$D$29,4,0)))","v":"محمدي مريم "},"عربية",{"$f":"LOOKUP(REPT(CHAR(237),255),CHOOSE({1,2},\"\",VLOOKUP(M41,الاسناد!$A$6:$D$29,4,0)))","v":"بدراني خديجة "}]
[null,null,null,"11-10","عربية/رياضيات",{"$f":"LOOKUP(REPT(CHAR(237),255),CHOOSE({1,2},\"\",VLOOKUP(E42,الاسناد!$A$6:$D$29,4,0)))","v":"بدراني خديجة / حساني عبد القادر"},"رياضيات",{"$f":"LOOKUP(REPT(CHAR(237),255),CHOOSE({1,2},\"\",VLOOKUP(G42,الاسناد!$A$6:D29,4,0)))","v":"حساني عبد القادر"},"عربية",{"$f":"LOOKUP(REPT(CHAR(237),255),CHOOSE({1,2},\"\",VLOOKUP(I42,الاسناد!$A$6:$D$29,4,0)))","v":"بدراني خديجة "},"عربية",{"$f":"LOOKUP(REPT(CHAR(237),255),CHOOSE({1,2},\"\",VLOOKUP(K42,الاسناد!$A$6:$D$29,4,0)))","v":"بدراني خديجة "},"فرنسية",{"$f":"LOOKUP(REPT(CHAR(237),255),CHOOSE({1,2},\"\",VLOOKUP(M42,الاسناد!$A$6:$D$29,4,0)))","v":"كواهي يعقوب"}]
[null,null,null,"12-11","فرنسية",{"$f":"LOOKUP(REPT(CHAR(237),255),CHOOSE({1,2},\"\",VLOOKUP(E43,الاسناد!A8:G8,6,0)))","v":"كواهي يعقوب"},"انجليزية",{"$f":"LOOKUP(REPT(CHAR(237),255),CHOOSE({1,2},\"\",VLOOKUP(G43,الاسناد!$A$6:$D$29,4,0)))","v":"محمدي مريم "},null,{"$f":"LOOKUP(REPT(CHAR(237),255),CHOOSE({1,2},\"\",VLOOKUP(I43,الاسناد!$A$6:$D$29,4,0)))","v":""},null,{"$f":"LOOKUP(REPT(CHAR(237),255),CHOOSE({1,2},\"\",VLOOKUP(K43,الاسناد!$A$6:$D$29,4,0)))","v":""},null,{"$f":"LOOKUP(REPT(CHAR(237),255),CHOOSE({1,2},\"\",VLOOKUP(M43,الاسناد!$A$6:$D$29,4,0)))","v":""}]
[null,null,null,"14-13",null,{"$f":"LOOKUP(REPT(CHAR(237),255),CHOOSE({1,2},\"\",VLOOKUP(E44,الاسناد!$A$6:$D$29,4,0)))","v":""},null,{"$f":"LOOKUP(REPT(CHAR(237),255),CHOOSE({1,2},\"\",VLOOKUP(G44,الاسناد!$A$6:$D$29,4,0)))","v":""},null,{"$f":"LOOKUP(REPT(CHAR(237),255),CHOOSE({1,2},\"\",VLOOKUP(I44,الاسناد!$A$6:$D$29,4,0)))","v":""},null,{"$f":"LOOKUP(REPT(CHAR(237),255),CHOOSE({1,2},\"\",VLOOKUP(K44,الاسناد!$A$6:$D$29,4,0)))","v":""},null,{"$f":"LOOKUP(REPT(CHAR(237),255),CHOOSE({1,2},\"\",VLOOKUP(M44,الاسناد!$A$6:$D$29,4,0)))","v":""}]
[null,null,null,"15-14","فيزياء",{"$f":"LOOKUP(REPT(CHAR(237),255),CHOOSE({1,2},\"\",VLOOKUP(E45,الاسناد!$A$6:$D$29,4,0)))","v":"داودي الميلود"},"ت.بدنية",{"$f":"LOOKUP(REPT(CHAR(237),255),CHOOSE({1,2},\"\",VLOOKUP(G45,الاسناد!$A$6:$D$29,4,0)))","v":"قرمان الشير"},null,{"$f":"LOOKUP(REPT(CHAR(237),255),CHOOSE({1,2},\"\",VLOOKUP(I45,الاسناد!$A$6:$D$29,4,0)))","v":""},"فرنسية",{"$f":"LOOKUP(REPT(CHAR(237),255),CHOOSE({1,2},\"\",VLOOKUP(K45,الاسناد!$A$6:$D$29,4,0)))","v":"كواهي يعقوب"},"اجتماعيات",{"$f":"LOOKUP(REPT(CHAR(237),255),CHOOSE({1,2},\"\",VLOOKUP(M45,الاسناد!$A$6:$D$29,4,0)))","v":"بدراني شريف"}]
[null,null,null,"16-15","فيزياء",{"$f":"LOOKUP(REPT(CHAR(237),255),CHOOSE({1,2},\"\",VLOOKUP(E46,الاسناد!$A$6:$D$29,4,0)))","v":"داودي الميلود"},"ت.بدنية",{"$f":"LOOKUP(REPT(CHAR(237),255),CHOOSE({1,2},\"\",VLOOKUP(G46,الاسناد!$A$6:$D$29,4,0)))","v":"قرمان الشير"},null,{"$f":"LOOKUP(REPT(CHAR(237),255),CHOOSE({1,2},\"\",VLOOKUP(I46,الاسناد!$A$6:$D$29,4,0)))","v":""},"عربية",{"$f":"LOOKUP(REPT(CHAR(237),255),CHOOSE({1,2},\"\",VLOOKUP(K46,الاسناد!$A$6:$D$29,4,0)))","v":"بدراني خديجة "},"فرنسية",{"$f":"LOOKUP(REPT(CHAR(237),255),CHOOSE({1,2},\"\",VLOOKUP(M46,الاسناد!$A$6:$D$29,4,0)))","v":"كواهي يعقوب"}]
[null,null,null,"17-16",null,{"$f":"LOOKUP(REPT(CHAR(237),255),CHOOSE({1,2},\"\",VLOOKUP(E47,الاسناد!$A$6:$D$29,4,0)))","v":""},"اجتماعيات",{"$f":"LOOKUP(REPT(CHAR(237),255),CHOOSE({1,2},\"\",VLOOKUP(G47,الاسناد!$A$6:$D$29,4,0)))","v":"بدراني شريف"},null,{"$f":"LOOKUP(REPT(CHAR(237),255),CHOOSE({1,2},\"\",VLOOKUP(I47,الاسناد!$A$6:$D$29,4,0)))","v":""},"ت.اسلامية",{"$f":"LOOKUP(REPT(CHAR(237),255),CHOOSE({1,2},\"\",VLOOKUP(K47,الاسناد!$A$6:$D$29,4,0)))","v":"بدراني خديجة"},null,{"$f":"LOOKUP(REPT(CHAR(237),255),CHOOSE({1,2},\"\",VLOOKUP(M47,الاسناد!$A$6:$D$29,4,0)))","v":""}]
[6,{"$f":"البداية!A25","v":"2م2"},null,"09-08",null,{"$f":"LOOKUP(REPT(CHAR(237),255),CHOOSE({1,2},\"\",VLOOKUP(E48,الاسناد!$A$6:$D$29,4,0)))","v":""},null,{"$f":"LOOKUP(REPT(CHAR(237),255),CHOOSE({1,2},\"\",VLOOKUP(G48,الاسناد!$A$6:$D$29,4,0)))","v":""},"عربية",{"$f":"LOOKUP(REPT(CHAR(237),255),CHOOSE({1,2},\"\",VLOOKUP(I48,الاسناد!A6:D29,4,0)))","v":"بدراني خديجة "},"فرنسية",{"$f":"LOOKUP(REPT(CHAR(237),255),CHOOSE({1,2},\"\",VLOOKUP(K48,الاسناد!$A$6:$D$29,4,0)))","v":"كواهي يعقوب"},"علوم ط",{"$f":"LOOKUP(REPT(CHAR(237),255),CHOOSE({1,2},\"\",VLOOKUP(M48,الاسناد!$A$6:$D$29,4,0)))","v":"مجدوب طلحة"}]
[null,null,null,"10-09",null,{"$f":"LOOKUP(REPT(CHAR(237),255),CHOOSE({1,2},\"\",VLOOKUP(E49,الاسناد!$A$6:$D$29,4,0)))","v":""},"رياضيات",{"$f":"LOOKUP(REPT(CHAR(237),255),CHOOSE({1,2},\"\",VLOOKUP(G49,الاسناد!$A$6:$D$29,4,0)))","v":"حساني عبد القادر"},"رياضيات",{"$f":"LOOKUP(REPT(CHAR(237),255),CHOOSE({1,2},\"\",VLOOKUP(I49,الاسناد!$A$6:$D$29,4,0)))","v":"حساني عبد القادر"},"عربية",{"$f":"LOOKUP(REPT(CHAR(237),255),CHOOSE({1,2},\"\",VLOOKUP(K49,الاسناد!$A$6:$D$29,4,0)))","v":"بدراني خديجة "},"فيزياء",{"$f":"LOOKUP(REPT(CHAR(237),255),CHOOSE({1,2},\"\",VLOOKUP(M49,الاسناد!$A$6:$D$29,4,0)))","v":"داودي الميلود"}]
[null,null,null,"11-10",null,{"$f":"LOOKUP(REPT(CHAR(237),255),CHOOSE({1,2},\"\",VLOOKUP(E50,الاسناد!$A$6:$D$29,4,0)))","v":""},"فيزياء",{"$f":"LOOKUP(REPT(CHAR(237),255),CHOOSE({1,2},\"\",VLOOKUP(G50,الاسناد!$A$6:$D$29,4,0)))","v":"داودي الميلود"},"اجتماعيات",{"$f":"LOOKUP(REPT(CHAR(237),255),CHOOSE({1,2},\"\",VLOOKUP(I50,الاسناد!$A$6:$D$29,4,0)))","v":"بدراني شريف"},"انجليزية",{"$f":"LOOKUP(REPT(CHAR(237),255),CHOOSE({1,2},\"\",VLOOKUP(K50,الاسناد!$A$6:$D$29,4,0)))","v":"محمدي مريم "},"ت.بدنية",{"$f":"LOOKUP(REPT(CHAR(237),255),CHOOSE({1,2},\"\",VLOOKUP(M50,الاسناد!$A$6:$D$29,4,0)))","v":"قرمان الشير"}]
[null,null,null,"12-11",null,{"$f":"LOOKUP(REPT(CHAR(237),255),CHOOSE({1,2},\"\",VLOOKUP(E51,الاسناد!$A$6:$D$29,4,0)))","v":""},"فيزياء",{"$f":"LOOKUP(REPT(CHAR(237),255),CHOOSE({1,2},\"\",VLOOKUP(G51,الاسناد!$A$6:$D$29,4,0)))","v":"داودي الميلود"},"عربية/رياضيات",{"$f":"LOOKUP(REPT(CHAR(237),255),CHOOSE({1,2},\"\",VLOOKUP(I51,الاسناد!$A$6:$D$29,4,0)))","v":"بدراني خديجة / حساني عبد القادر"},"ت.فنية",{"$f":"LOOKUP(REPT(CHAR(237),255),CHOOSE({1,2},\"\",VLOOKUP(K51,الاسناد!$A$6:$D$29,4,0)))","v":"جليد الميلود"},"ت.بدنية",{"$f":"LOOKUP(REPT(CHAR(237),255),CHOOSE({1,2},\"\",VLOOKUP(M51,الاسناد!$A$6:$D$29,4,0)))","v":"قرمان الشير"}]
[null,null,null,"14-13",null,{"$f":"LOOKUP(REPT(CHAR(237),255),CHOOSE({1,2},\"\",VLOOKUP(E52,الاسناد!$A$6:$D$29,4,0)))","v":""},null,{"$f":"LOOKUP(REPT(CHAR(237),255),CHOOSE({1,2},\"\",VLOOKUP(G52,الاسناد!$A$6:$D$29,4,0)))","v":""},null,{"$f":"LOOKUP(REPT(CHAR(237),255),CHOOSE({1,2},\"\",VLOOKUP(I52,الاسناد!$A$6:$D$29,4,0)))","v":""},null,{"$f":"LOOKUP(REPT(CHAR(237),255),CHOOSE({1,2},\"\",VLOOKUP(K52,الاسناد!$A$6:$D$29,4,0)))","v":""},null,{"$f":"LOOKUP(REPT(CHAR(237),255),CHOOSE({1,2},\"\",VLOOKUP(M52,الاسناد!$A$6:$D$29,4,0)))","v":""}]
[null,null,null,"15-14",null,{"$f":"LOOKUP(REPT(CHAR(237),255),CHOOSE({1,2},\"\",VLOOKUP(E53,الاسناد!$A$6:$D$29,4,0)))","v":""},"رياضيات",{"$f":"LOOKUP(REPT(CHAR(237),255),CHOOSE({1,2},\"\",VLOOKUP(G53,الاسناد!$A$6:$D$29,4,0)))","v":"حساني عبد القادر"},null,{"$f":"LOOKUP(REPT(CHAR(237),255),CHOOSE({1,2},\"\",VLOOKUP(I53,الاسناد!$A$6:$D$29,4,0)))","v":""},"عربية",{"$f":"LOOKUP(REPT(CHAR(237),255),CHOOSE({1,2},\"\",VLOOKUP(K53,الاسناد!$A$6:$D$29,4,0)))","v":"بدراني خديجة "},"فرنسية",{"$f":"LOOKUP(REPT(CHAR(237),255),CHOOSE({1,2},\"\",VLOOKUP(M53,الاسناد!$A$6:$D$29,4,0)))","v":"كواهي يعقوب"}]
[null,null,null,"16-15",null,{"$f":"LOOKUP(REPT(CHAR(237),255),CHOOSE({1,2},\"\",VLOOKUP(E54,الاسناد!$A$6:$D$29,4,0)))","v":""},"اجتماعيات",{"$f":"LOOKUP(REPT(CHAR(237),255),CHOOSE({1,2},\"\",VLOOKUP(G54,الاسناد!$A$6:$D$29,4,0)))","v":"بدراني شريف"},null,{"$f":"LOOKUP(REPT(CHAR(237),255),CHOOSE({1,2},\"\",VLOOKUP(I54,الاسناد!$A$6:$D$29,4,0)))","v":""},"اجتماعيات",{"$f":"LOOKUP(REPT(CHAR(237),255),CHOOSE({1,2},\"\",VLOOKUP(K54,الاسناد!$A$6:$D$29,4,0)))","v":"بدراني شريف"},"عربية",{"$f":"LOOKUP(REPT(CHAR(237),255),CHOOSE({1,2},\"\",VLOOKUP(M54,الاسناد!$A$6:$D$29,4,0)))","v":"بدراني خديجة "}]
[null,null,null,"17-16",null,{"$f":"LOOKUP(REPT(CHAR(237),255),CHOOSE({1,2},\"\",VLOOKUP(E55,الاسناد!$A$6:$D$29,4,0)))","v":""},null,{"$f":"LOOKUP(REPT(CHAR(237),255),CHOOSE({1,2},\"\",VLOOKUP(G55,الاسناد!$A$6:$D$29,4,0)))","v":""},null,{"$f":"LOOKUP(REPT(CHAR(237),255),CHOOSE({1,2},\"\",VLOOKUP(I55,الاسناد!$A$6:$D$29,4,0)))","v":""},"فرنسية",{"$f":"LOOKUP(REPT(CHAR(237),255),CHOOSE({1,2},\"\",VLOOKUP(K55,الاسناد!$A$6:$D$29,4,0)))","v":"كواهي يعقوب"},null,{"$f":"LOOKUP(REPT(CHAR(237),255),CHOOSE({1,2},\"\",VLOOKUP(M55,الاسناد!$A$6:$D$29,4,0)))","v":""}]
[7,{"$f":"البداية!A26","v":"2م3"},null,"09-08","فرنسية",{"$f":"LOOKUP(REPT(CHAR(237),255),CHOOSE({1,2},\"\",VLOOKUP(E56,الاسناد!$A$6:$D$29,4,0)))","v":"كواهي يعقوب"},"انجليزية",{"$f":"LOOKUP(REPT(CHAR(237),255),CHOOSE({1,2},\"\",VLOOKUP(G56,الاسناد!$A$6:$D$29,4,0)))","v":"محمدي مريم "},"رياضيات",{"$f":"LOOKUP(REPT(CHAR(237),255),CHOOSE({1,2},\"\",VLOOKUP(I56,الاسناد!$A$6:$D$29,4,0)))","v":"حساني عبد القادر"},"عربية",{"$f":"LOOKUP(REPT(CHAR(237),255),CHOOSE({1,2},\"\",VLOOKUP(K56,الاسناد!$A$6:$D$29,4,0)))","v":"بدراني خديجة "},"ت.بدنية",{"$f":"LOOKUP(REPT(CHAR(237),255),CHOOSE({1,2},\"\",VLOOKUP(M56,الاسناد!$A$6:$D$29,4,0)))","v":"قرمان الشير"}]
[null,null,null,"10-09","رياضيات",{"$f":"LOOKUP(REPT(CHAR(237),255),CHOOSE({1,2},\"\",VLOOKUP(E57,الاسناد!$A$6:$D$29,4,0)))","v":"حساني عبد القادر"},"ت.فنية",{"$f":"LOOKUP(REPT(CHAR(237),255),CHOOSE({1,2},\"\",VLOOKUP(G57,الاسناد!$A$6:$D$29,4,0)))","v":"جليد الميلود"},"عربية/رياضيات",{"$f":"LOOKUP(REPT(CHAR(237),255),CHOOSE({1,2},\"\",VLOOKUP(I57,الاسناد!$A$6:$D$29,4,0)))","v":"بدراني خديجة / حساني عبد القادر"},"فرنسية",{"$f":"LOOKUP(REPT(CHAR(237),255),CHOOSE({1,2},\"\",VLOOKUP(K57,الاسناد!$A$6:$D$29,4,0)))","v":"كواهي يعقوب"},"ت.بدنية",{"$f":"LOOKUP(REPT(CHAR(237),255),CHOOSE({1,2},\"\",VLOOKUP(M57,الاسناد!$A$6:$D$29,4,0)))","v":"قرمان الشير"}]
[null,null,null,"11-10","انجليزية",{"$f":"LOOKUP(REPT(CHAR(237),255),CHOOSE({1,2},\"\",VLOOKUP(E58,الاسناد!$A$6:$D$29,4,0)))","v":"محمدي مريم "},"اجتماعيات",{"$f":"LOOKUP(REPT(CHAR(237),255),CHOOSE({1,2},\"\",VLOOKUP(G58,الاسناد!$A$6:$D$29,4,0)))","v":"بدراني شريف"},"علوم ط",{"$f":"LOOKUP(REPT(CHAR(237),255),CHOOSE({1,2},\"\",VLOOKUP(I58,الاسناد!$A$6:$D$29,4,0)))","v":"مجدوب طلحة"},"ت.اسلامية",{"$f":"LOOKUP(REPT(CHAR(237),255),CHOOSE({1,2},\"\",VLOOKUP(K58,الاسناد!$A$6:$D$29,4,0)))","v":"بدراني خديجة"},"عربية",{"$f":"LOOKUP(REPT(CHAR(237),255),CHOOSE({1,2},\"\",VLOOKUP(M58,الاسناد!$A$6:$D$29,4,0)))","v":"بدراني خديجة "}]
[null,null,null,"12-11","عربية",{"$f":"LOOKUP(REPT(CHAR(237),255),CHOOSE({1,2},\"\",VLOOKUP(E59,الاسناد!$A$6:$D$29,4,0)))","v":"بدراني خديجة "},null,{"$f":"LOOKUP(REPT(CHAR(237),255),CHOOSE({1,2},\"\",VLOOKUP(G59,الاسناد!$A$6:$D$29,4,0)))","v":""},"فيزياء",{"$f":"LOOKUP(REPT(CHAR(237),255),CHOOSE({1,2},\"\",VLOOKUP(I59,الاسناد!$A$6:$D$29,4,0)))","v":"داودي الميلود"},"رياضيات",{"$f":"LOOKUP(REPT(CHAR(237),255),CHOOSE({1,2},\"\",VLOOKUP(K59,الاسناد!$A$6:$D$29,4,0)))","v":"حساني عبد القادر"},"فرنسية",{"$f":"LOOKUP(REPT(CHAR(237),255),CHOOSE({1,2},\"\",VLOOKUP(M59,الاسناد!$A$6:$D$29,4,0)))","v":"كواهي يعقوب"}]
[null,null,null,"14-13",null,{"$f":"LOOKUP(REPT(CHAR(237),255),CHOOSE({1,2},\"\",VLOOKUP(E60,الاسناد!$A$6:$D$29,4,0)))","v":""},null,{"$f":"LOOKUP(REPT(CHAR(237),255),CHOOSE({1,2},\"\",VLOOKUP(G60,الاسناد!$A$6:$D$29,4,0)))","v":""},null,{"$f":"LOOKUP(REPT(CHAR(237),255),CHOOSE({1,2},\"\",VLOOKUP(I60,الاسناد!$A$6:$D$29,4,0)))","v":""},null,{"$f":"LOOKUP(REPT(CHAR(237),255),CHOOSE({1,2},\"\",VLOOKUP(K60,الاسناد!$A$6:$D$29,4,0)))","v":""},null,{"$f":"LOOKUP(REPT(CHAR(237),255),CHOOSE({1,2},\"\",VLOOKUP(M60,الاسناد!$A$6:$D$29,4,0)))","v":""}]
[null,null,null,"15-14","فرنسية/انجليزية",{"$f":"LOOKUP(REPT(CHAR(237),255),CHOOSE({1,2},\"\",VLOOKUP(E61,الاسناد!$A$6:$D$29,4,0)))","v":"كواهي يعقوب/محمدي مريم "},"رياضيات",{"$f":"LOOKUP(REPT(CHAR(237),255),CHOOSE({1,2},\"\",VLOOKUP(G61,الاسناد!$A$6:$D$29,4,0)))","v":"حساني عبد القادر"},null,{"$f":"LOOKUP(REPT(CHAR(237),255),CHOOSE({1,2},\"\",VLOOKUP(I61,الاسناد!$A$6:$D$29,4,0)))","v":""},"اجتماعيات",{"$f":"LOOKUP(REPT(CHAR(237),255),CHOOSE({1,2},\"\",VLOOKUP(K61,الاسناد!$A$6:$D$29,4,0)))","v":"بدراني شريف"},"عربية",{"$f":"LOOKUP(REPT(CHAR(237),255),CHOOSE({1,2},\"\",VLOOKUP(M61,الاسناد!$A$6:$D$29,4,0)))","v":"بدراني خديجة "}]
[null,null,null,"16-15","عربية",{"$f":"LOOKUP(REPT(CHAR(237),255),CHOOSE({1,2},\"\",VLOOKUP(E62,الاسناد!$A$6:$D$29,4,0)))","v":"بدراني خديجة "},"فيزياء",{"$f":"LOOKUP(REPT(CHAR(237),255),CHOOSE({1,2},\"\",VLOOKUP(G62,الاسناد!$A$6:$D$29,4,0)))","v":"داودي الميلود"},null,{"$f":"LOOKUP(REPT(CHAR(237),255),CHOOSE({1,2},\"\",VLOOKUP(I62,الاسناد!$A$6:$D$29,4,0)))","v":""},"فرنسية",{"$f":"LOOKUP(REPT(CHAR(237),255),CHOOSE({1,2},\"\",VLOOKUP(K62,الاسناد!$A$6:$D$29,4,0)))","v":"كواهي يعقوب"},"اجتماعيات",{"$f":"LOOKUP(REPT(CHAR(237),255),CHOOSE({1,2},\"\",VLOOKUP(M62,الاسناد!$A$6:$D$29,4,0)))","v":"بدراني شريف"}]
[null,null,null,"17-16",null,{"$f":"LOOKUP(REPT(CHAR(237),255),CHOOSE({1,2},\"\",VLOOKUP(E63,الاسناد!$A$6:$D$29,4,0)))","v":""},"فيزياء",{"$f":"LOOKUP(REPT(CHAR(237),255),CHOOSE({1,2},\"\",VLOOKUP(G63,الاسناد!$A$6:$D$29,4,0)))","v":"داودي الميلود"},null,{"$f":"LOOKUP(REPT(CHAR(237),255),CHOOSE({1,2},\"\",VLOOKUP(I63,الاسناد!$A$6:$D$29,4,0)))","v":""},null,{"$f":"LOOKUP(REPT(CHAR(237),255),CHOOSE({1,2},\"\",VLOOKUP(K63,الاسناد!$A$6:$D$29,4,0)))","v":""},null,{"$f":"LOOKUP(REPT(CHAR(237),255),CHOOSE({1,2},\"\",VLOOKUP(M63,الاسناد!$A$6:$D$29,4,0)))","v":""}]
[8,{"$f":"البداية!A27","v":"1م1"},null,"09-08","عربية",{"$f":"LOOKUP(REPT(CHAR(237),255),CHOOSE({1,2},\"\",VLOOKUP(E64,الاسناد!$A$6:$D$29,4,0)))","v":"بدراني خديجة "},"فيزياء",{"$f":"LOOKUP(REPT(CHAR(237),255),CHOOSE({1,2},\"\",VLOOKUP(G64,الاسناد!$A$6:$D$29,4,0)))","v":"داودي الميلود"},"اجتماعيات",{"$f":"LOOKUP(REPT(CHAR(237),255),CHOOSE({1,2},\"\",VLOOKUP(I64,الاسناد!$A$6:$D$29,4,0)))","v":"بدراني شريف"},"فرنسية",{"$f":"LOOKUP(REPT(CHAR(237),255),CHOOSE({1,2},\"\",VLOOKUP(K64,الاسناد!$A$6:$D$29,1,0)))","v":"فرنسية"},"فرنسية",{"$f":"LOOKUP(REPT(CHAR(237),255),CHOOSE({1,2},\"\",VLOOKUP(M64,الاسناد!$A$6:$D$29,4,0)))","v":"كواهي يعقوب"}]
[null,null,null,"10-09","فيزياء",{"$f":"LOOKUP(REPT(CHAR(237),255),CHOOSE({1,2},\"\",VLOOKUP(E65,الاسناد!$A$6:$D$29,4,0)))","v":"داودي الميلود"},"فيزياء",{"$f":"LOOKUP(REPT(CHAR(237),255),CHOOSE({1,2},\"\",VLOOKUP(G65,الاسناد!$A$6:$D$29,4,0)))","v":"داودي الميلود"},"عربية",{"$f":"LOOKUP(REPT(CHAR(237),255),CHOOSE({1,2},\"\",VLOOKUP(I65,الاسناد!$A$6:$D$29,4,0)))","v":"بدراني خديجة "},"ت.اسلامية",{"$f":"LOOKUP(REPT(CHAR(237),255),CHOOSE({1,2},\"\",VLOOKUP(K65,الاسناد!$A$6:$D$29,4,0)))","v":"بدراني خديجة"},"علوم ط",{"$f":"LOOKUP(REPT(CHAR(237),255),CHOOSE({1,2},\"\",VLOOKUP(M65,الاسناد!$A$6:$D$29,4,0)))","v":"مجدوب طلحة"}]
[null,null,null,"11-10","ت.بدنية",{"$f":"LOOKUP(REPT(CHAR(237),255),CHOOSE({1,2},\"\",VLOOKUP(E66,الاسناد!$A$6:$D$29,4,0)))","v":"قرمان الشير"},"رياضيات",{"$f":"LOOKUP(REPT(CHAR(237),255),CHOOSE({1,2},\"\",VLOOKUP(G66,الاسناد!$A$6:$D$29,4,0)))","v":"حساني عبد القادر"},"رياضيات",{"$f":"LOOKUP(REPT(CHAR(237),255),CHOOSE({1,2},\"\",VLOOKUP(I66,الاسناد!$A$6:$D$29,4,0)))","v":"حساني عبد القادر"},"رياضيات",{"$f":"LOOKUP(REPT(CHAR(237),255),CHOOSE({1,2},\"\",VLOOKUP(K66,الاسناد!$A$6:$D$29,4,0)))","v":"حساني عبد القادر"},"فرنسية/انجليزية",{"$f":"LOOKUP(REPT(CHAR(237),255),CHOOSE({1,2},\"\",VLOOKUP(M66,الاسناد!$A$6:$D$29,4,0)))","v":"كواهي يعقوب/محمدي مريم "}]
[null,null,null,"12-11","ت.بدنية",{"$f":"LOOKUP(REPT(CHAR(237),255),CHOOSE({1,2},\"\",VLOOKUP(E67,الاسناد!$A$6:$D$29,4,0)))","v":"قرمان الشير"},"انجليزية",{"$f":"LOOKUP(REPT(CHAR(237),255),CHOOSE({1,2},\"\",VLOOKUP(G67,الاسناد!$A$6:$D$29,4,0)))","v":"محمدي مريم "},null,{"$f":"LOOKUP(REPT(CHAR(237),255),CHOOSE({1,2},\"\",VLOOKUP(I67,الاسناد!$A$6:$D$29,4,0)))","v":""},null,{"$f":"LOOKUP(REPT(CHAR(237),255),CHOOSE({1,2},\"\",VLOOKUP(K67,الاسناد!$A$6:$D$29,4,0)))","v":""},"اجتماعيات",{"$f":"LOOKUP(REPT(CHAR(237),255),CHOOSE({1,2},\"\",VLOOKUP(M67,الاسناد!$A$6:$D$29,4,0)))","v":"بدراني شريف"}]
[null,null,null,"14-13",null,{"$f":"LOOKUP(REPT(CHAR(237),255),CHOOSE({1,2},\"\",VLOOKUP(E68,الاسناد!$A$6:$D$29,4,0)))","v":""},null,{"$f":"LOOKUP(REPT(CHAR(237),255),CHOOSE({1,2},\"\",VLOOKUP(G68,الاسناد!$A$6:$D$29,4,0)))","v":""},null,{"$f":"LOOKUP(REPT(CHAR(237),255),CHOOSE({1,2},\"\",VLOOKUP(I68,الاسناد!$A$6:$D$29,4,0)))","v":""},null,{"$f":"LOOKUP(REPT(CHAR(237),255),CHOOSE({1,2},\"\",VLOOKUP(K68,الاسناد!$A$6:$D$29,4,0)))","v":""},null,{"$f":"LOOKUP(REPT(CHAR(237),255),CHOOSE({1,2},\"\",VLOOKUP(M68,الاسناد!$A$6:$D$29,4,0)))","v":""}]
[null,null,null,"15-14","انجليزية",{"$f":"LOOKUP(REPT(CHAR(237),255),CHOOSE({1,2},\"\",VLOOKUP(E69,الاسناد!$A$6:$D$29,4,0)))","v":"محمدي مريم "},"اجتماعيات",{"$f":"LOOKUP(REPT(CHAR(237),255),CHOOSE({1,2},\"\",VLOOKUP(G69,الاسناد!$A$6:$D$29,4,0)))","v":"بدراني شريف"},null,{"$f":"LOOKUP(REPT(CHAR(237),255),CHOOSE({1,2},\"\",VLOOKUP(I69,الاسناد!$A$6:$D$29,4,0)))","v":""},"فرنسية",{"$f":"LOOKUP(REPT(CHAR(237),255),CHOOSE({1,2},\"\",VLOOKUP(K69,الاسناد!$A$6:$D$29,4,0)))","v":"كواهي يعقوب"},"علوم ط",{"$f":"LOOKUP(REPT(CHAR(237),255),CHOOSE({1,2},\"\",VLOOKUP(M69,الاسناد!$A$6:$D$29,4,0)))","v":"مجدوب طلحة"}]
[null,null,null,"16-15","رياضيات",{"$f":"LOOKUP(REPT(CHAR(237),255),CHOOSE({1,2},\"\",VLOOKUP(E70,الاسناد!$A$6:$D$29,4,0)))","v":"حساني عبد القادر"},"فرنسية",{"$f":"LOOKUP(REPT(CHAR(237),255),CHOOSE({1,2},\"\",VLOOKUP(G70,الاسناد!$A$6:$D$29,4,0)))","v":"كواهي يعقوب"},null,{"$f":"LOOKUP(REPT(CHAR(237),255),CHOOSE({1,2},\"\",VLOOKUP(I70,الاسناد!$A$6:$D$29,4,0)))","v":""},"ت.فنية",{"$f":"LOOKUP(REPT(CHAR(237),255),CHOOSE({1,2},\"\",VLOOKUP(K70,الاسناد!$A$6:$D$29,4,0)))","v":"جليد الميلود"},"عربية",{"$f":"LOOKUP(REPT(CHAR(237),255),CHOOSE({1,2},\"\",VLOOKUP(M70,الاسناد!$A$6:$D$29,4,0)))","v":"بدراني خديجة "}]
[null,null,null,"17-16","عربية",{"$f":"LOOKUP(REPT(CHAR(237),255),CHOOSE({1,2},\"\",VLOOKUP(E71,الاسناد!$A$6:$D$29,4,0)))","v":"بدراني خديجة "},null,{"$f":"LOOKUP(REPT(CHAR(237),255),CHOOSE({1,2},\"\",VLOOKUP(G71,الاسناد!$A$6:$D$29,4,0)))","v":""},null,{"$f":"LOOKUP(REPT(CHAR(237),255),CHOOSE({1,2},\"\",VLOOKUP(I71,الاسناد!$A$6:$D$29,4,0)))","v":""},"عربية/رياضيات",{"$f":"LOOKUP(REPT(CHAR(237),255),CHOOSE({1,2},\"\",VLOOKUP(K71,الاسناد!$A$6:$D$29,4,0)))","v":"بدراني خديجة / حساني عبد القادر"},null,{"$f":"LOOKUP(REPT(CHAR(237),255),CHOOSE({1,2},\"\",VLOOKUP(M71,الاسناد!$A$6:$D$29,4,0)))","v":""}]
[9,{"$f":"البداية!A28","v":"1م2"},null,"09-08","رياضيات",{"$f":"LOOKUP(REPT(CHAR(237),255),CHOOSE({1,2},\"\",VLOOKUP(E72,الاسناد!$A$6:$D$29,4,0)))","v":"حساني عبد القادر"},"فرنسية",{"$f":"LOOKUP(REPT(CHAR(237),255),CHOOSE({1,2},\"\",VLOOKUP(G72,الاسناد!$A$6:$D$29,4,0)))","v":"كواهي يعقوب"},"فيزياء",{"$f":"LOOKUP(REPT(CHAR(237),255),CHOOSE({1,2},\"\",VLOOKUP(I72,الاسناد!$A$6:$D$29,4,0)))","v":"داودي الميلود"},"رياضيات",{"$f":"LOOKUP(REPT(CHAR(237),255),CHOOSE({1,2},\"\",VLOOKUP(K72,الاسناد!$A$6:$D$29,4,0)))","v":"حساني عبد القادر"},"عربية",{"$f":"LOOKUP(REPT(CHAR(237),255),CHOOSE({1,2},\"\",VLOOKUP(M72,الاسناد!$A$6:$D$29,4,0)))","v":"بدراني خديجة "}]
[null,null,null,"10-09","علوم ط",{"$f":"LOOKUP(REPT(CHAR(237),255),CHOOSE({1,2},\"\",VLOOKUP(E73,الاسناد!$A$6:$D$29,4,0)))","v":"مجدوب طلحة"},"رياضيات",{"$f":"LOOKUP(REPT(CHAR(237),255),CHOOSE({1,2},\"\",VLOOKUP(G73,الاسناد!$A$6:$D$29,4,0)))","v":"حساني عبد القادر"},"اجتماعيات",{"$f":"LOOKUP(REPT(CHAR(237),255),CHOOSE({1,2},\"\",VLOOKUP(I73,الاسناد!$A$6:$D$29,4,0)))","v":"بدراني شريف"},"عربية",{"$f":"LOOKUP(REPT(CHAR(237),255),CHOOSE({1,2},\"\",VLOOKUP(K73,الاسناد!$A$6:$D$29,4,0)))","v":"بدراني خديجة "},"ت.اسلامية",{"$f":"LOOKUP(REPT(CHAR(237),255),CHOOSE({1,2},\"\",VLOOKUP(M73,الاسناد!$A$6:$D$29,4,0)))","v":"بدراني خديجة"}]
[null,null,null,"11-10","انجليزية",{"$f":"LOOKUP(REPT(CHAR(237),255),CHOOSE({1,2},\"\",VLOOKUP(E74,الاسناد!$A$6:$D$29,4,0)))","v":"محمدي مريم "},"ت.بدنية",{"$f":"LOOKUP(REPT(CHAR(237),255),CHOOSE({1,2},\"\",VLOOKUP(G74,الاسناد!$A$6:$D$29,4,0)))","v":"قرمان الشير"},"عربية",{"$f":"LOOKUP(REPT(CHAR(237),255),CHOOSE({1,2},\"\",VLOOKUP(I74,الاسناد!$A$6:$D$29,4,0)))","v":"بدراني خديجة "},"فرنسية",{"$f":"LOOKUP(REPT(CHAR(237),255),CHOOSE({1,2},\"\",VLOOKUP(K74,الاسناد!$A$6:$D$29,4,0)))","v":"كواهي يعقوب"},"فيزياء",{"$f":"LOOKUP(REPT(CHAR(237),255),CHOOSE({1,2},\"\",VLOOKUP(M74,الاسناد!$A$6:$D$29,4,0)))","v":"داودي الميلود"}]
[null,null,null,"12-11","فرنسية",{"$f":"LOOKUP(REPT(CHAR(237),255),CHOOSE({1,2},\"\",VLOOKUP(E75,الاسناد!$A$6:$D$29,4,0)))","v":"كواهي يعقوب"},"ت.بدنية",{"$f":"LOOKUP(REPT(CHAR(237),255),CHOOSE({1,2},\"\",VLOOKUP(G75,الاسناد!$A$6:$D$29,4,0)))","v":"قرمان الشير"},null,{"$f":"LOOKUP(REPT(CHAR(237),255),CHOOSE({1,2},\"\",VLOOKUP(I75,الاسناد!$A$6:$D$29,4,0)))","v":""},null,{"$f":"LOOKUP(REPT(CHAR(237),255),CHOOSE({1,2},\"\",VLOOKUP(K75,الاسناد!$A$6:$D$29,4,0)))","v":""},"فيزياء",{"$f":"LOOKUP(REPT(CHAR(237),255),CHOOSE({1,2},\"\",VLOOKUP(M75,الاسناد!$A$6:$D$29,4,0)))","v":"داودي الميلود"}]
[null,null,null,"14-13",null,{"$f":"LOOKUP(REPT(CHAR(237),255),CHOOSE({1,2},\"\",VLOOKUP(E76,الاسناد!$A$6:$D$29,4,0)))","v":""},null,{"$f":"LOOKUP(REPT(CHAR(237),255),CHOOSE({1,2},\"\",VLOOKUP(G76,الاسناد!$A$6:$D$29,4,0)))","v":""},null,{"$f":"LOOKUP(REPT(CHAR(237),255),CHOOSE({1,2},\"\",VLOOKUP(I76,الاسناد!$A$6:$D$29,4,0)))","v":""},null,{"$f":"LOOKUP(REPT(CHAR(237),255),CHOOSE({1,2},\"\",VLOOKUP(K76,الاسناد!$A$6:$D$29,4,0)))","v":""},null,{"$f":"LOOKUP(REPT(CHAR(237),255),CHOOSE({1,2},\"\",VLOOKUP(M76,الاسناد!$A$6:$D$29,4,0)))","v":""}]
[null,null,null,"15-14","رياضيات",{"$f":"LOOKUP(REPT(CHAR(237),255),CHOOSE({1,2},\"\",VLOOKUP(E77,الاسناد!$A$6:$D$29,4,0)))","v":"حساني عبد القادر"},"فرنسية",{"$f":"LOOKUP(REPT(CHAR(237),255),CHOOSE({1,2},\"\",VLOOKUP(G77,الاسناد!$A$6:$D$29,4,0)))","v":"كواهي يعقوب"},null,{"$f":"LOOKUP(REPT(CHAR(237),255),CHOOSE({1,2},\"\",VLOOKUP(I77,الاسناد!$A$6:$D$29,4,0)))","v":""},"اجتماعيات",{"$f":"LOOKUP(REPT(CHAR(237),255),CHOOSE({1,2},\"\",VLOOKUP(K77,الاسناد!$A$6:$D$29,4,0)))","v":"بدراني شريف"},"عربية",{"$f":"LOOKUP(REPT(CHAR(237),255),CHOOSE({1,2},\"\",VLOOKUP(M77,الاسناد!$A$6:$D$29,4,0)))","v":"بدراني خديجة "}]
[null,null,null,"16-15","عربية",{"$f":"LOOKUP(REPT(CHAR(237),255),CHOOSE({1,2},\"\",VLOOKUP(E78,الاسناد!$A$6:$D$29,4,0)))","v":"بدراني خديجة "},"اجتماعيات",{"$f":"LOOKUP(REPT(CHAR(237),255),CHOOSE({1,2},\"\",VLOOKUP(G78,الاسناد!$A$6:$D$29,4,0)))","v":"بدراني شريف"},null,{"$f":"LOOKUP(REPT(CHAR(237),255),CHOOSE({1,2},\"\",VLOOKUP(I78,الاسناد!$A$6:$D$29,4,0)))","v":""},"عربية/رياضيات",{"$f":"LOOKUP(REPT(CHAR(237),255),CHOOSE({1,2},\"\",VLOOKUP(K78,الاسناد!$A$6:$D$29,4,0)))","v":"بدراني خديجة / حساني عبد القادر"},"فرنسية/انجليزية",{"$f":"LOOKUP(REPT(CHAR(237),255),CHOOSE({1,2},\"\",VLOOKUP(M78,الاسناد!$A$6:$D$29,4,0)))","v":"كواهي يعقوب/محمدي مريم "}]
[null,null,null,"17-16","ت.فنية",{"$f":"LOOKUP(REPT(CHAR(237),255),CHOOSE({1,2},\"\",VLOOKUP(E79,الاسناد!$A$6:$D$29,4,0)))","v":"جليد الميلود"},"انجليزية",{"$f":"LOOKUP(REPT(CHAR(237),255),CHOOSE({1,2},\"\",VLOOKUP(G79,الاسناد!$A$6:$D$29,4,0)))","v":"محمدي مريم "},null,{"$f":"LOOKUP(REPT(CHAR(237),255),CHOOSE({1,2},\"\",VLOOKUP(I79,الاسناد!$A$6:$D$29,4,0)))","v":""},null,{"$f":"LOOKUP(REPT(CHAR(237),255),CHOOSE({1,2},\"\",VLOOKUP(K79,الاسناد!$A$6:$D$29,4,0)))","v":""},null,{"$f":"LOOKUP(REPT(CHAR(237),255),CHOOSE({1,2},\"\",VLOOKUP(M79,الاسناد!$A$6:$D$29,4,0)))","v":""}]
[10,{"$f":"البداية!A29","v":"1م3"},null,"09-08","فيزياء",{"$f":"LOOKUP(REPT(CHAR(237),255),CHOOSE({1,2},\"\",VLOOKUP(E80,الاسناد!$A$6:$D$29,4,0)))","v":"داودي الميلود"},"رياضيات",{"$f":"LOOKUP(REPT(CHAR(237),255),CHOOSE({1,2},\"\",VLOOKUP(G80,الاسناد!$A$6:$D$29,4,0)))","v":"حساني عبد القادر"},"عربية",{"$f":"LOOKUP(REPT(CHAR(237),255),CHOOSE({1,2},\"\",VLOOKUP(I80,الاسناد!$A$6:$D$29,4,0)))","v":"بدراني خديجة "},"عربية",{"$f":"LOOKUP(REPT(CHAR(237),255),CHOOSE({1,2},\"\",VLOOKUP(K80,الاسناد!$A$6:$D$29,4,0)))","v":"بدراني خديجة "},"فيزياء",{"$f":"LOOKUP(REPT(CHAR(237),255),CHOOSE({1,2},\"\",VLOOKUP(M80,الاسناد!$A$6:$D$29,4,0)))","v":"داودي الميلود"}]
[null,null,null,"10-09","عربية",{"$f":"LOOKUP(REPT(CHAR(237),255),CHOOSE({1,2},\"\",VLOOKUP(E81,الاسناد!$A$6:$D$29,4,0)))","v":"بدراني خديجة "},"فرنسية",{"$f":"LOOKUP(REPT(CHAR(237),255),CHOOSE({1,2},\"\",VLOOKUP(G81,الاسناد!$A$6:$D$29,4,0)))","v":"كواهي يعقوب"},"علوم ط",{"$f":"LOOKUP(REPT(CHAR(237),255),CHOOSE({1,2},\"\",VLOOKUP(I81,الاسناد!$A$6:$D$29,4,0)))","v":"مجدوب طلحة"},"فرنسية",{"$f":"LOOKUP(REPT(CHAR(237),255),CHOOSE({1,2},\"\",VLOOKUP(K81,الاسناد!$A$6:$D$29,4,0)))","v":"كواهي يعقوب"},"فيزياء",{"$f":"LOOKUP(REPT(CHAR(237),255),CHOOSE({1,2},\"\",VLOOKUP(M81,الاسناد!$A$6:$D$29,4,0)))","v":"داودي الميلود"}]
[null,null,null,"11-10","فرنسية",{"$f":"LOOKUP(REPT(CHAR(237),255),CHOOSE({1,2},\"\",VLOOKUP(E82,الاسناد!$A$6:$D$29,4,0)))","v":"كواهي يعقوب"},"انجليزية",{"$f":"LOOKUP(REPT(CHAR(237),255),CHOOSE({1,2},\"\",VLOOKUP(G82,الاسناد!$A$6:$D$29,4,0)))","v":"محمدي مريم "},"اجتماعيات",{"$f":"LOOKUP(REPT(CHAR(237),255),CHOOSE({1,2},\"\",VLOOKUP(I82,الاسناد!$A$6:$D$29,4,0)))","v":"بدراني شريف"},"ت.بدنية",{"$f":"LOOKUP(REPT(CHAR(237),255),CHOOSE({1,2},\"\",VLOOKUP(K82,الاسناد!$A$6:$D$29,4,0)))","v":"قرمان الشير"},"عربية",{"$f":"LOOKUP(REPT(CHAR(237),255),CHOOSE({1,2},\"\",VLOOKUP(M82,الاسناد!$A$6:$D$29,4,0)))","v":"بدراني خديجة "}]
[null,null,null,"12-11",null,{"$f":"LOOKUP(REPT(CHAR(237),255),CHOOSE({1,2},\"\",VLOOKUP(E83,الاسناد!$A$6:$D$29,4,0)))","v":""},"رياضيات",{"$f":"LOOKUP(REPT(CHAR(237),255),CHOOSE({1,2},\"\",VLOOKUP(G83,الاسناد!$A$6:$D$29,4,0)))","v":"حساني عبد القادر"},"رياضيات",{"$f":"LOOKUP(REPT(CHAR(237),255),CHOOSE({1,2},\"\",VLOOKUP(I83,الاسناد!$A$6:$D$29,4,0)))","v":"حساني عبد القادر"},"ت.بدنية",{"$f":"LOOKUP(REPT(CHAR(237),255),CHOOSE({1,2},\"\",VLOOKUP(K83,الاسناد!$A$6:$D$29,4,0)))","v":"قرمان الشير"},"ت.اسلامية",{"$f":"LOOKUP(REPT(CHAR(237),255),CHOOSE({1,2},\"\",VLOOKUP(M83,الاسناد!$A$6:$D$29,4,0)))","v":"بدراني خديجة"}]
[null,null,null,"14-13",null,{"$f":"LOOKUP(REPT(CHAR(237),255),CHOOSE({1,2},\"\",VLOOKUP(E84,الاسناد!$A$6:$D$29,4,0)))","v":""},null,{"$f":"LOOKUP(REPT(CHAR(237),255),CHOOSE({1,2},\"\",VLOOKUP(G84,الاسناد!$A$6:$D$29,4,0)))","v":""},null,{"$f":"LOOKUP(REPT(CHAR(237),255),CHOOSE({1,2},\"\",VLOOKUP(I84,الاسناد!$A$6:$D$29,4,0)))","v":""},null,{"$f":"LOOKUP(REPT(CHAR(237),255),CHOOSE({1,2},\"\",VLOOKUP(K84,الاسناد!$A$6:$D$29,4,0)))","v":""},null,{"$f":"LOOKUP(REPT(CHAR(237),255),CHOOSE({1,2},\"\",VLOOKUP(M84,الاسناد!$A$6:$D$29,4,0)))","v":""}]
[null,null,null,"15-14","عربية",{"$f":"LOOKUP(REPT(CHAR(237),255),CHOOSE({1,2},\"\",VLOOKUP(E85,الاسناد!$A$6:$D$29,4,0)))","v":"بدراني خديجة "},"ت.فنية",{"$f":"LOOKUP(REPT(CHAR(237),255),CHOOSE({1,2},\"\",VLOOKUP(G85,الاسناد!$A$6:$D$29,4,0)))","v":"جليد الميلود"},null,{"$f":"LOOKUP(REPT(CHAR(237),255),CHOOSE({1,2},\"\",VLOOKUP(I85,الاسناد!$A$6:$D$29,4,0)))","v":""},"عربية/رياضيات",{"$f":"LOOKUP(REPT(CHAR(237),255),CHOOSE({1,2},\"\",VLOOKUP(K85,الاسناد!$A$6:$D$29,4,0)))","v":"بدراني خديجة / حساني عبد القادر"},"فرنسية/انجليزية",{"$f":"LOOKUP(REPT(CHAR(237),255),CHOOSE({1,2},\"\",VLOOKUP(M85,الاسناد!$A$6:$D$29,4,0)))","v":"كواهي يعقوب/محمدي مريم "}]
[null,null,null,"16-15","انجليزية",{"$f":"LOOKUP(REPT(CHAR(237),255),CHOOSE({1,2},\"\",VLOOKUP(E86,الاسناد!$A$6:$D$29,4,0)))","v":"محمدي مريم "},"رياضيات",{"$f":"LOOKUP(REPT(CHAR(237),255),CHOOSE({1,2},\"\",VLOOKUP(G86,الاسناد!$A$6:$D$29,4,0)))","v":"حساني عبد القادر"},null,{"$f":"LOOKUP(REPT(CHAR(237),255),CHOOSE({1,2},\"\",VLOOKUP(I86,الاسناد!$A$6:$D$29,4,0)))","v":""},"اجتماعيات",{"$f":"LOOKUP(REPT(CHAR(237),255),CHOOSE({1,2},\"\",VLOOKUP(K86,الاسناد!$A$6:$D$29,4,0)))","v":"بدراني شريف"},"اجتماعيات",{"$f":"LOOKUP(REPT(CHAR(237),255),CHOOSE({1,2},\"\",VLOOKUP(M86,الاسناد!$A$6:$D$29,4,0)))","v":"بدراني شريف"}]
[null,null,null,"17-16",null,{"$f":"LOOKUP(REPT(CHAR(237),255),CHOOSE({1,2},\"\",VLOOKUP(E87,الاسناد!$A$6:$D$29,4,0)))","v":""},null,{"$f":"LOOKUP(REPT(CHAR(237),255),CHOOSE({1,2},\"\",VLOOKUP(G87,الاسناد!$A$6:$D$29,4,0)))","v":""},null,{"$f":"LOOKUP(REPT(CHAR(237),255),CHOOSE({1,2},\"\",VLOOKUP(I87,الاسناد!$A$6:$D$29,4,0)))","v":""},null,{"$f":"LOOKUP(REPT(CHAR(237),255),CHOOSE({1,2},\"\",VLOOKUP(K87,الاسناد!$A$6:$D$29,4,0)))","v":""},null,{"$f":"LOOKUP(REPT(CHAR(237),255),CHOOSE({1,2},\"\",VLOOKUP(M87,الاسناد!$A$6:$D$29,4,0)))","v":""}]
[11,{"$f":"البداية!A30","v":0},null,"09-08",null,{"$f":"LOOKUP(REPT(CHAR(237),255),CHOOSE({1,2},\"\",VLOOKUP(E88,الاسناد!$A$6:$M$29,13,0)))","v":""},null,{"$f":"LOOKUP(REPT(CHAR(237),255),CHOOSE({1,2},\"\",VLOOKUP(G88,الاسناد!$A$6:$D$29,4,0)))","v":""},null,{"$f":"LOOKUP(REPT(CHAR(237),255),CHOOSE({1,2},\"\",VLOOKUP(I88,الاسناد!$A$6:$D$29,4,0)))","v":""},null,{"$f":"LOOKUP(REPT(CHAR(237),255),CHOOSE({1,2},\"\",VLOOKUP(K88,الاسناد!$A$6:$D$29,4,0)))","v":""},null,{"$f":"LOOKUP(REPT(CHAR(237),255),CHOOSE({1,2},\"\",VLOOKUP(M88,الاسناد!$A$6:$D$29,4,0)))","v":""}]
[null,null,null,"10-09",null,{"$f":"LOOKUP(REPT(CHAR(237),255),CHOOSE({1,2},\"\",VLOOKUP(E89,الاسناد!$A$6:$M$29,13,0)))","v":""},null,{"$f":"LOOKUP(REPT(CHAR(237),255),CHOOSE({1,2},\"\",VLOOKUP(G89,الاسناد!$A$6:$D$29,4,0)))","v":""},null,{"$f":"LOOKUP(REPT(CHAR(237),255),CHOOSE({1,2},\"\",VLOOKUP(I89,الاسناد!$A$6:$D$29,4,0)))","v":""},null,{"$f":"LOOKUP(REPT(CHAR(237),255),CHOOSE({1,2},\"\",VLOOKUP(K89,الاسناد!$A$6:$D$29,4,0)))","v":""},null,{"$f":"LOOKUP(REPT(CHAR(237),255),CHOOSE({1,2},\"\",VLOOKUP(M89,الاسناد!$A$6:$D$29,4,0)))","v":""}]
[null,null,null,"11-10",null,{"$f":"LOOKUP(REPT(CHAR(237),255),CHOOSE({1,2},\"\",VLOOKUP(E90,الاسناد!$A$6:$M$29,13,0)))","v":""},null,{"$f":"LOOKUP(REPT(CHAR(237),255),CHOOSE({1,2},\"\",VLOOKUP(G90,الاسناد!$A$6:$D$29,4,0)))","v":""},null,{"$f":"LOOKUP(REPT(CHAR(237),255),CHOOSE({1,2},\"\",VLOOKUP(I90,الاسناد!$A$6:$D$29,4,0)))","v":""},null,{"$f":"LOOKUP(REPT(CHAR(237),255),CHOOSE({1,2},\"\",VLOOKUP(K90,الاسناد!$A$6:$D$29,4,0)))","v":""},null,{"$f":"LOOKUP(REPT(CHAR(237),255),CHOOSE({1,2},\"\",VLOOKUP(M90,الاسناد!$A$6:$D$29,4,0)))","v":""}]
[null,null,null,"12-11",null,{"$f":"LOOKUP(REPT(CHAR(237),255),CHOOSE({1,2},\"\",VLOOKUP(E91,الاسناد!$A$6:$M$29,13,0)))","v":""},null,{"$f":"LOOKUP(REPT(CHAR(237),255),CHOOSE({1,2},\"\",VLOOKUP(G91,الاسناد!$A$6:$D$29,4,0)))","v":""},null,{"$f":"LOOKUP(REPT(CHAR(237),255),CHOOSE({1,2},\"\",VLOOKUP(I91,الاسناد!$A$6:$D$29,4,0)))","v":""},null,{"$f":"LOOKUP(REPT(CHAR(237),255),CHOOSE({1,2},\"\",VLOOKUP(K91,الاسناد!$A$6:$D$29,4,0)))","v":""},null,{"$f":"LOOKUP(REPT(CHAR(237),255),CHOOSE({1,2},\"\",VLOOKUP(M91,الاسناد!$A$6:$D$29,4,0)))","v":""}]
[null,null,null,"14-13",null,{"$f":"LOOKUP(REPT(CHAR(237),255),CHOOSE({1,2},\"\",VLOOKUP(E92,الاسناد!$A$6:$M$29,13,0)))","v":""},null,{"$f":"LOOKUP(REPT(CHAR(237),255),CHOOSE({1,2},\"\",VLOOKUP(G92,الاسناد!$A$6:$D$29,4,0)))","v":""},null,{"$f":"LOOKUP(REPT(CHAR(237),255),CHOOSE({1,2},\"\",VLOOKUP(I92,الاسناد!$A$6:$D$29,4,0)))","v":""},null,{"$f":"LOOKUP(REPT(CHAR(237),255),CHOOSE({1,2},\"\",VLOOKUP(K92,الاسناد!$A$6:$D$29,4,0)))","v":""},null,{"$f":"LOOKUP(REPT(CHAR(237),255),CHOOSE({1,2},\"\",VLOOKUP(M92,الاسناد!$A$6:$D$29,4,0)))","v":""}]
[null,null,null,"15-14",null,{"$f":"LOOKUP(REPT(CHAR(237),255),CHOOSE({1,2},\"\",VLOOKUP(E93,الاسناد!$A$6:$M$29,13,0)))","v":""},null,{"$f":"LOOKUP(REPT(CHAR(237),255),CHOOSE({1,2},\"\",VLOOKUP(G93,الاسناد!$A$6:$D$29,4,0)))","v":""},null,{"$f":"LOOKUP(REPT(CHAR(237),255),CHOOSE({1,2},\"\",VLOOKUP(I93,الاسناد!$A$6:$D$29,4,0)))","v":""},null,{"$f":"LOOKUP(REPT(CHAR(237),255),CHOOSE({1,2},\"\",VLOOKUP(K93,الاسناد!$A$6:$D$29,4,0)))","v":""},null,{"$f":"LOOKUP(REPT(CHAR(237),255),CHOOSE({1,2},\"\",VLOOKUP(M93,الاسناد!$A$6:$D$29,4,0)))","v":""}]
[null,null,null,"16-15",null,{"$f":"LOOKUP(REPT(CHAR(237),255),CHOOSE({1,2},\"\",VLOOKUP(E94,الاسناد!$A$6:$M$29,13,0)))","v":""},null,{"$f":"LOOKUP(REPT(CHAR(237),255),CHOOSE({1,2},\"\",VLOOKUP(G94,الاسناد!$A$6:$D$29,4,0)))","v":""},null,{"$f":"LOOKUP(REPT(CHAR(237),255),CHOOSE({1,2},\"\",VLOOKUP(I94,الاسناد!$A$6:$D$29,4,0)))","v":""},null,{"$f":"LOOKUP(REPT(CHAR(237),255),CHOOSE({1,2},\"\",VLOOKUP(K94,الاسناد!$A$6:$D$29,4,0)))","v":""},null,{"$f":"LOOKUP(REPT(CHAR(237),255),CHOOSE({1,2},\"\",VLOOKUP(M94,الاسناد!$A$6:$D$29,4,0)))","v":""}]
[null,null,null,"17-16",null,{"$f":"LOOKUP(REPT(CHAR(237),255),CHOOSE({1,2},\"\",VLOOKUP(E95,الاسناد!$A$6:$M$29,13,0)))","v":""},null,{"$f":"LOOKUP(REPT(CHAR(237),255),CHOOSE({1,2},\"\",VLOOKUP(G95,الاسناد!$A$6:$D$29,4,0)))","v":""},null,{"$f":"LOOKUP(REPT(CHAR(237),255),CHOOSE({1,2},\"\",VLOOKUP(I95,الاسناد!$A$6:$D$29,4,0)))","v":""},null,{"$f":"LOOKUP(REPT(CHAR(237),255),CHOOSE({1,2},\"\",VLOOKUP(K95,الاسناد!$A$6:$D$29,4,0)))","v":""},null,{"$f":"LOOKUP(REPT(CHAR(237),255),CHOOSE({1,2},\"\",VLOOKUP(M95,الاسناد!$A$6:$D$29,4,0)))","v":""}]
[12,{"$f":"البداية!A31","v":0},null,"09-08",null,{"$f":"LOOKUP(REPT(CHAR(237),255),CHOOSE({1,2},\"\",VLOOKUP(E96,الاسناد!$A$6:$N$29,14,0)))","v":""},null,{"$f":"LOOKUP(REPT(CHAR(237),255),CHOOSE({1,2},\"\",VLOOKUP(G96,الاسناد!$A$6:$D$29,4,0)))","v":""},null,{"$f":"LOOKUP(REPT(CHAR(237),255),CHOOSE({1,2},\"\",VLOOKUP(I96,الاسناد!$A$6:$D$29,4,0)))","v":""},null,{"$f":"LOOKUP(REPT(CHAR(237),255),CHOOSE({1,2},\"\",VLOOKUP(K96,الاسناد!$A$6:$D$29,4,0)))","v":""},null,{"$f":"LOOKUP(REPT(CHAR(237),255),CHOOSE({1,2},\"\",VLOOKUP(M96,الاسناد!$A$6:$D$29,4,0)))","v":""}]
[null,null,null,"10-09",null,{"$f":"LOOKUP(REPT(CHAR(237),255),CHOOSE({1,2},\"\",VLOOKUP(E97,الاسناد!$A$6:$N$29,14,0)))","v":""},null,{"$f":"LOOKUP(REPT(CHAR(237),255),CHOOSE({1,2},\"\",VLOOKUP(G97,الاسناد!$A$6:$D$29,4,0)))","v":""},null,{"$f":"LOOKUP(REPT(CHAR(237),255),CHOOSE({1,2},\"\",VLOOKUP(I97,الاسناد!$A$6:$D$29,4,0)))","v":""},null,{"$f":"LOOKUP(REPT(CHAR(237),255),CHOOSE({1,2},\"\",VLOOKUP(K97,الاسناد!$A$6:$D$29,4,0)))","v":""},null,{"$f":"LOOKUP(REPT(CHAR(237),255),CHOOSE({1,2},\"\",VLOOKUP(M97,الاسناد!$A$6:$D$29,4,0)))","v":""}]
[null,null,null,"11-10",null,{"$f":"LOOKUP(REPT(CHAR(237),255),CHOOSE({1,2},\"\",VLOOKUP(E98,الاسناد!$A$6:$N$29,14,0)))","v":""},null,{"$f":"LOOKUP(REPT(CHAR(237),255),CHOOSE({1,2},\"\",VLOOKUP(G98,الاسناد!$A$6:$D$29,4,0)))","v":""},null,{"$f":"LOOKUP(REPT(CHAR(237),255),CHOOSE({1,2},\"\",VLOOKUP(I98,الاسناد!$A$6:$D$29,4,0)))","v":""},null,{"$f":"LOOKUP(REPT(CHAR(237),255),CHOOSE({1,2},\"\",VLOOKUP(K98,الاسناد!$A$6:$D$29,4,0)))","v":""},null,{"$f":"LOOKUP(REPT(CHAR(237),255),CHOOSE({1,2},\"\",VLOOKUP(M98,الاسناد!$A$6:$D$29,4,0)))","v":""}]
[null,null,null,"12-11",null,{"$f":"LOOKUP(REPT(CHAR(237),255),CHOOSE({1,2},\"\",VLOOKUP(E99,الاسناد!$A$6:$N$29,14,0)))","v":""},null,{"$f":"LOOKUP(REPT(CHAR(237),255),CHOOSE({1,2},\"\",VLOOKUP(G99,الاسناد!$A$6:$D$29,4,0)))","v":""},null,{"$f":"LOOKUP(REPT(CHAR(237),255),CHOOSE({1,2},\"\",VLOOKUP(I99,الاسناد!$A$6:$D$29,4,0)))","v":""},null,{"$f":"LOOKUP(REPT(CHAR(237),255),CHOOSE({1,2},\"\",VLOOKUP(K99,الاسناد!$A$6:$D$29,4,0)))","v":""},null,{"$f":"LOOKUP(REPT(CHAR(237),255),CHOOSE({1,2},\"\",VLOOKUP(M99,الاسناد!$A$6:$D$29,4,0)))","v":""}]
[null,null,null,"14-13",null,{"$f":"LOOKUP(REPT(CHAR(237),255),CHOOSE({1,2},\"\",VLOOKUP(E100,الاسناد!$A$6:$N$29,14,0)))","v":""},null,{"$f":"LOOKUP(REPT(CHAR(237),255),CHOOSE({1,2},\"\",VLOOKUP(G100,الاسناد!$A$6:$D$29,4,0)))","v":""},null,{"$f":"LOOKUP(REPT(CHAR(237),255),CHOOSE({1,2},\"\",VLOOKUP(I100,الاسناد!$A$6:$D$29,4,0)))","v":""},null,{"$f":"LOOKUP(REPT(CHAR(237),255),CHOOSE({1,2},\"\",VLOOKUP(K100,الاسناد!$A$6:$D$29,4,0)))","v":""},null,{"$f":"LOOKUP(REPT(CHAR(237),255),CHOOSE({1,2},\"\",VLOOKUP(M100,الاسناد!$A$6:$D$29,4,0)))","v":""}]
[null,null,null,"15-14",null,{"$f":"LOOKUP(REPT(CHAR(237),255),CHOOSE({1,2},\"\",VLOOKUP(E101,الاسناد!$A$6:$N$29,14,0)))","v":""},null,{"$f":"LOOKUP(REPT(CHAR(237),255),CHOOSE({1,2},\"\",VLOOKUP(G101,الاسناد!$A$6:$D$29,4,0)))","v":""},null,{"$f":"LOOKUP(REPT(CHAR(237),255),CHOOSE({1,2},\"\",VLOOKUP(I101,الاسناد!$A$6:$D$29,4,0)))","v":""},null,{"$f":"LOOKUP(REPT(CHAR(237),255),CHOOSE({1,2},\"\",VLOOKUP(K101,الاسناد!$A$6:$D$29,4,0)))","v":""},null,{"$f":"LOOKUP(REPT(CHAR(237),255),CHOOSE({1,2},\"\",VLOOKUP(M101,الاسناد!$A$6:$D$29,4,0)))","v":""}]
[null,null,null,"16-15",null,{"$f":"LOOKUP(REPT(CHAR(237),255),CHOOSE({1,2},\"\",VLOOKUP(E102,الاسناد!$A$6:$N$29,14,0)))","v":""},null,{"$f":"LOOKUP(REPT(CHAR(237),255),CHOOSE({1,2},\"\",VLOOKUP(G102,الاسناد!$A$6:$D$29,4,0)))","v":""},null,{"$f":"LOOKUP(REPT(CHAR(237),255),CHOOSE({1,2},\"\",VLOOKUP(I102,الاسناد!$A$6:$D$29,4,0)))","v":""},null,{"$f":"LOOKUP(REPT(CHAR(237),255),CHOOSE({1,2},\"\",VLOOKUP(K102,الاسناد!$A$6:$D$29,4,0)))","v":""},null,{"$f":"LOOKUP(REPT(CHAR(237),255),CHOOSE({1,2},\"\",VLOOKUP(M102,الاسناد!$A$6:$D$29,4,0)))","v":""}]
[null,null,null,"17-16",null,{"$f":"LOOKUP(REPT(CHAR(237),255),CHOOSE({1,2},\"\",VLOOKUP(E103,الاسناد!$A$6:$N$29,14,0)))","v":""},null,{"$f":"LOOKUP(REPT(CHAR(237),255),CHOOSE({1,2},\"\",VLOOKUP(G103,الاسناد!$A$6:$D$29,4,0)))","v":""},null,{"$f":"LOOKUP(REPT(CHAR(237),255),CHOOSE({1,2},\"\",VLOOKUP(I103,الاسناد!$A$6:$D$29,4,0)))","v":""},null,{"$f":"LOOKUP(REPT(CHAR(237),255),CHOOSE({1,2},\"\",VLOOKUP(K103,الاسناد!$A$6:$D$29,4,0)))","v":""},null,{"$f":"LOOKUP(REPT(CHAR(237),255),CHOOSE({1,2},\"\",VLOOKUP(M103,الاسناد!$A$6:$D$29,4,0)))","v":""}]
[13,{"$f":"البداية!A32","v":0},null,"09-08",null,{"$f":"LOOKUP(REPT(CHAR(237),255),CHOOSE({1,2},\"\",VLOOKUP(E104,الاسناد!$A$6:$O$29,15,0)))","v":""},null,{"$f":"LOOKUP(REPT(CHAR(237),255),CHOOSE({1,2},\"\",VLOOKUP(G104,الاسناد!$A$6:$D$29,4,0)))","v":""},null,{"$f":"LOOKUP(REPT(CHAR(237),255),CHOOSE({1,2},\"\",VLOOKUP(I104,الاسناد!$A$6:$D$29,4,0)))","v":""},null,{"$f":"LOOKUP(REPT(CHAR(237),255),CHOOSE({1,2},\"\",VLOOKUP(K104,الاسناد!$A$6:$D$29,4,0)))","v":""},null,{"$f":"LOOKUP(REPT(CHAR(237),255),CHOOSE({1,2},\"\",VLOOKUP(M104,الاسناد!$A$6:$D$29,4,0)))","v":""}]
[null,null,null,"10-09",null,{"$f":"LOOKUP(REPT(CHAR(237),255),CHOOSE({1,2},\"\",VLOOKUP(E105,الاسناد!$A$6:$O$29,15,0)))","v":""},null,{"$f":"LOOKUP(REPT(CHAR(237),255),CHOOSE({1,2},\"\",VLOOKUP(G105,الاسناد!$A$6:$D$29,4,0)))","v":""},null,{"$f":"LOOKUP(REPT(CHAR(237),255),CHOOSE({1,2},\"\",VLOOKUP(I105,الاسناد!$A$6:$D$29,4,0)))","v":""},null,{"$f":"LOOKUP(REPT(CHAR(237),255),CHOOSE({1,2},\"\",VLOOKUP(K105,الاسناد!$A$6:$D$29,4,0)))","v":""},null,{"$f":"LOOKUP(REPT(CHAR(237),255),CHOOSE({1,2},\"\",VLOOKUP(M105,الاسناد!$A$6:$D$29,4,0)))","v":""}]
[null,null,null,"11-10",null,{"$f":"LOOKUP(REPT(CHAR(237),255),CHOOSE({1,2},\"\",VLOOKUP(E106,الاسناد!$A$6:$O$29,15,0)))","v":""},null,{"$f":"LOOKUP(REPT(CHAR(237),255),CHOOSE({1,2},\"\",VLOOKUP(G106,الاسناد!$A$6:$D$29,4,0)))","v":""},null,{"$f":"LOOKUP(REPT(CHAR(237),255),CHOOSE({1,2},\"\",VLOOKUP(I106,الاسناد!$A$6:$D$29,4,0)))","v":""},null,{"$f":"LOOKUP(REPT(CHAR(237),255),CHOOSE({1,2},\"\",VLOOKUP(K106,الاسناد!$A$6:$D$29,4,0)))","v":""},null,{"$f":"LOOKUP(REPT(CHAR(237),255),CHOOSE({1,2},\"\",VLOOKUP(M106,الاسناد!$A$6:$D$29,4,0)))","v":""}]
[null,null,null,"12-11",null,{"$f":"LOOKUP(REPT(CHAR(237),255),CHOOSE({1,2},\"\",VLOOKUP(E107,الاسناد!$A$6:$O$29,15,0)))","v":""},null,{"$f":"LOOKUP(REPT(CHAR(237),255),CHOOSE({1,2},\"\",VLOOKUP(G107,الاسناد!$A$6:$D$29,4,0)))","v":""},null,{"$f":"LOOKUP(REPT(CHAR(237),255),CHOOSE({1,2},\"\",VLOOKUP(I107,الاسناد!$A$6:$D$29,4,0)))","v":""},null,{"$f":"LOOKUP(REPT(CHAR(237),255),CHOOSE({1,2},\"\",VLOOKUP(K107,الاسناد!$A$6:$D$29,4,0)))","v":""},null,{"$f":"LOOKUP(REPT(CHAR(237),255),CHOOSE({1,2},\"\",VLOOKUP(M107,الاسناد!$A$6:$D$29,4,0)))","v":""}]
[null,null,null,"14-13",null,{"$f":"LOOKUP(REPT(CHAR(237),255),CHOOSE({1,2},\"\",VLOOKUP(E108,الاسناد!$A$6:$O$29,15,0)))","v":""},null,{"$f":"LOOKUP(REPT(CHAR(237),255),CHOOSE({1,2},\"\",VLOOKUP(G108,الاسناد!$A$6:$D$29,4,0)))","v":""},null,{"$f":"LOOKUP(REPT(CHAR(237),255),CHOOSE({1,2},\"\",VLOOKUP(I108,الاسناد!$A$6:$D$29,4,0)))","v":""},null,{"$f":"LOOKUP(REPT(CHAR(237),255),CHOOSE({1,2},\"\",VLOOKUP(K108,الاسناد!$A$6:$D$29,4,0)))","v":""},null,{"$f":"LOOKUP(REPT(CHAR(237),255),CHOOSE({1,2},\"\",VLOOKUP(M108,الاسناد!$A$6:$D$29,4,0)))","v":""}]
[null,null,null,"15-14",null,{"$f":"LOOKUP(REPT(CHAR(237),255),CHOOSE({1,2},\"\",VLOOKUP(E109,الاسناد!$A$6:$O$29,15,0)))","v":""},null,{"$f":"LOOKUP(REPT(CHAR(237),255),CHOOSE({1,2},\"\",VLOOKUP(G109,الاسناد!$A$6:$D$29,4,0)))","v":""},null,{"$f":"LOOKUP(REPT(CHAR(237),255),CHOOSE({1,2},\"\",VLOOKUP(I109,الاسناد!$A$6:$D$29,4,0)))","v":""},null,{"$f":"LOOKUP(REPT(CHAR(237),255),CHOOSE({1,2},\"\",VLOOKUP(K109,الاسناد!$A$6:$D$29,4,0)))","v":""},null,{"$f":"LOOKUP(REPT(CHAR(237),255),CHOOSE({1,2},\"\",VLOOKUP(M109,الاسناد!$A$6:$D$29,4,0)))","v":""}]
[null,null,null,"16-15",null,{"$f":"LOOKUP(REPT(CHAR(237),255),CHOOSE({1,2},\"\",VLOOKUP(E110,الاسناد!$A$6:$O$29,15,0)))","v":""},null,{"$f":"LOOKUP(REPT(CHAR(237),255),CHOOSE({1,2},\"\",VLOOKUP(G110,الاسناد!$A$6:$D$29,4,0)))","v":""},null,{"$f":"LOOKUP(REPT(CHAR(237),255),CHOOSE({1,2},\"\",VLOOKUP(I110,الاسناد!$A$6:$D$29,4,0)))","v":""},null,{"$f":"LOOKUP(REPT(CHAR(237),255),CHOOSE({1,2},\"\",VLOOKUP(K110,الاسناد!$A$6:$D$29,4,0)))","v":""},null,{"$f":"LOOKUP(REPT(CHAR(237),255),CHOOSE({1,2},\"\",VLOOKUP(M110,الاسناد!$A$6:$D$29,4,0)))","v":""}]
[null,null,null,"17-16",null,{"$f":"LOOKUP(REPT(CHAR(237),255),CHOOSE({1,2},\"\",VLOOKUP(E111,الاسناد!$A$6:$O$29,15,0)))","v":""},null,{"$f":"LOOKUP(REPT(CHAR(237),255),CHOOSE({1,2},\"\",VLOOKUP(G111,الاسناد!$A$6:$D$29,4,0)))","v":""},null,{"$f":"LOOKUP(REPT(CHAR(237),255),CHOOSE({1,2},\"\",VLOOKUP(I111,الاسناد!$A$6:$D$29,4,0)))","v":""},null,{"$f":"LOOKUP(REPT(CHAR(237),255),CHOOSE({1,2},\"\",VLOOKUP(K111,الاسناد!$A$6:$D$29,4,0)))","v":""},null,{"$f":"LOOKUP(REPT(CHAR(237),255),CHOOSE({1,2},\"\",VLOOKUP(M111,الاسناد!$A$6:$D$29,4,0)))","v":""}]
[14,{"$f":"البداية!A33","v":0},null,"09-08",null,{"$f":"LOOKUP(REPT(CHAR(237),255),CHOOSE({1,2},\"\",VLOOKUP(E112,الاسناد!$A$6:$P$29,16,0)))","v":""},null,{"$f":"LOOKUP(REPT(CHAR(237),255),CHOOSE({1,2},\"\",VLOOKUP(G112,الاسناد!$A$6:$D$29,4,0)))","v":""},null,{"$f":"LOOKUP(REPT(CHAR(237),255),CHOOSE({1,2},\"\",VLOOKUP(I112,الاسناد!$A$6:$D$29,4,0)))","v":""},null,{"$f":"LOOKUP(REPT(CHAR(237),255),CHOOSE({1,2},\"\",VLOOKUP(K112,الاسناد!$A$6:$D$29,4,0)))","v":""},null,{"$f":"LOOKUP(REPT(CHAR(237),255),CHOOSE({1,2},\"\",VLOOKUP(M112,الاسناد!$A$6:$D$29,4,0)))","v":""}]
[null,null,null,"10-09",null,{"$f":"LOOKUP(REPT(CHAR(237),255),CHOOSE({1,2},\"\",VLOOKUP(E113,الاسناد!$A$6:$P$29,16,0)))","v":""},null,{"$f":"LOOKUP(REPT(CHAR(237),255),CHOOSE({1,2},\"\",VLOOKUP(G113,الاسناد!$A$6:$D$29,4,0)))","v":""},null,{"$f":"LOOKUP(REPT(CHAR(237),255),CHOOSE({1,2},\"\",VLOOKUP(I113,الاسناد!$A$6:$D$29,4,0)))","v":""},null,{"$f":"LOOKUP(REPT(CHAR(237),255),CHOOSE({1,2},\"\",VLOOKUP(K113,الاسناد!$A$6:$D$29,4,0)))","v":""},null,{"$f":"LOOKUP(REPT(CHAR(237),255),CHOOSE({1,2},\"\",VLOOKUP(M113,الاسناد!$A$6:$D$29,4,0)))","v":""}]
[null,null,null,"11-10",null,{"$f":"LOOKUP(REPT(CHAR(237),255),CHOOSE({1,2},\"\",VLOOKUP(E114,الاسناد!$A$6:$P$29,16,0)))","v":""},null,{"$f":"LOOKUP(REPT(CHAR(237),255),CHOOSE({1,2},\"\",VLOOKUP(G114,الاسناد!$A$6:$D$29,4,0)))","v":""},null,{"$f":"LOOKUP(REPT(CHAR(237),255),CHOOSE({1,2},\"\",VLOOKUP(I114,الاسناد!$A$6:$D$29,4,0)))","v":""},null,{"$f":"LOOKUP(REPT(CHAR(237),255),CHOOSE({1,2},\"\",VLOOKUP(K114,الاسناد!$A$6:$D$29,4,0)))","v":""},null,{"$f":"LOOKUP(REPT(CHAR(237),255),CHOOSE({1,2},\"\",VLOOKUP(M114,الاسناد!$A$6:$D$29,4,0)))","v":""}]
[null,null,null,"12-11",null,{"$f":"LOOKUP(REPT(CHAR(237),255),CHOOSE({1,2},\"\",VLOOKUP(E115,الاسناد!$A$6:$P$29,16,0)))","v":""},null,{"$f":"LOOKUP(REPT(CHAR(237),255),CHOOSE({1,2},\"\",VLOOKUP(G115,الاسناد!$A$6:$D$29,4,0)))","v":""},null,{"$f":"LOOKUP(REPT(CHAR(237),255),CHOOSE({1,2},\"\",VLOOKUP(I115,الاسناد!$A$6:$D$29,4,0)))","v":""},null,{"$f":"LOOKUP(REPT(CHAR(237),255),CHOOSE({1,2},\"\",VLOOKUP(K115,الاسناد!$A$6:$D$29,4,0)))","v":""},null,{"$f":"LOOKUP(REPT(CHAR(237),255),CHOOSE({1,2},\"\",VLOOKUP(M115,الاسناد!$A$6:$D$29,4,0)))","v":""}]
[null,null,null,"14-13",null,{"$f":"LOOKUP(REPT(CHAR(237),255),CHOOSE({1,2},\"\",VLOOKUP(E116,الاسناد!$A$6:$P$29,16,0)))","v":""},null,{"$f":"LOOKUP(REPT(CHAR(237),255),CHOOSE({1,2},\"\",VLOOKUP(G116,الاسناد!$A$6:$D$29,4,0)))","v":""},null,{"$f":"LOOKUP(REPT(CHAR(237),255),CHOOSE({1,2},\"\",VLOOKUP(I116,الاسناد!$A$6:$D$29,4,0)))","v":""},null,{"$f":"LOOKUP(REPT(CHAR(237),255),CHOOSE({1,2},\"\",VLOOKUP(K116,الاسناد!$A$6:$D$29,4,0)))","v":""},null,{"$f":"LOOKUP(REPT(CHAR(237),255),CHOOSE({1,2},\"\",VLOOKUP(M116,الاسناد!$A$6:$D$29,4,0)))","v":""}]
[null,null,null,"15-14",null,{"$f":"LOOKUP(REPT(CHAR(237),255),CHOOSE({1,2},\"\",VLOOKUP(E117,الاسناد!$A$6:$P$29,16,0)))","v":""},null,{"$f":"LOOKUP(REPT(CHAR(237),255),CHOOSE({1,2},\"\",VLOOKUP(G117,الاسناد!$A$6:$D$29,4,0)))","v":""},null,{"$f":"LOOKUP(REPT(CHAR(237),255),CHOOSE({1,2},\"\",VLOOKUP(I117,الاسناد!$A$6:$D$29,4,0)))","v":""},null,{"$f":"LOOKUP(REPT(CHAR(237),255),CHOOSE({1,2},\"\",VLOOKUP(K117,الاسناد!$A$6:$D$29,4,0)))","v":""},null,{"$f":"LOOKUP(REPT(CHAR(237),255),CHOOSE({1,2},\"\",VLOOKUP(M117,الاسناد!$A$6:$D$29,4,0)))","v":""}]
[null,null,null,"16-15",null,{"$f":"LOOKUP(REPT(CHAR(237),255),CHOOSE({1,2},\"\",VLOOKUP(E118,الاسناد!$A$6:$P$29,16,0)))","v":""},null,{"$f":"LOOKUP(REPT(CHAR(237),255),CHOOSE({1,2},\"\",VLOOKUP(G118,الاسناد!$A$6:$D$29,4,0)))","v":""},null,{"$f":"LOOKUP(REPT(CHAR(237),255),CHOOSE({1,2},\"\",VLOOKUP(I118,الاسناد!$A$6:$D$29,4,0)))","v":""},null,{"$f":"LOOKUP(REPT(CHAR(237),255),CHOOSE({1,2},\"\",VLOOKUP(K118,الاسناد!$A$6:$D$29,4,0)))","v":""},null,{"$f":"LOOKUP(REPT(CHAR(237),255),CHOOSE({1,2},\"\",VLOOKUP(M118,الاسناد!$A$6:$D$29,4,0)))","v":""}]
[null,null,null,"17-16",null,{"$f":"LOOKUP(REPT(CHAR(237),255),CHOOSE({1,2},\"\",VLOOKUP(E119,الاسناد!$A$6:$P$29,16,0)))","v":""},null,{"$f":"LOOKUP(REPT(CHAR(237),255),CHOOSE({1,2},\"\",VLOOKUP(G119,الاسناد!$A$6:$D$29,4,0)))","v":""},null,{"$f":"LOOKUP(REPT(CHAR(237),255),CHOOSE({1,2},\"\",VLOOKUP(I119,الاسناد!$A$6:$D$29,4,0)))","v":""},null,{"$f":"LOOKUP(REPT(CHAR(237),255),CHOOSE({1,2},\"\",VLOOKUP(K119,الاسناد!$A$6:$D$29,4,0)))","v":""},null,{"$f":"LOOKUP(REPT(CHAR(237),255),CHOOSE({1,2},\"\",VLOOKUP(M119,الاسناد!$A$6:$D$29,4,0)))","v":""}]
[15,{"$f":"البداية!A34","v":0},null,"09-08",null,{"$f":"LOOKUP(REPT(CHAR(237),255),CHOOSE({1,2},\"\",VLOOKUP(E120,الاسناد!$A$6:$Q$29,17,0)))","v":""},null,{"$f":"LOOKUP(REPT(CHAR(237),255),CHOOSE({1,2},\"\",VLOOKUP(G120,الاسناد!$A$6:$D$29,4,0)))","v":""},null,{"$f":"LOOKUP(REPT(CHAR(237),255),CHOOSE({1,2},\"\",VLOOKUP(I120,الاسناد!$A$6:$D$29,4,0)))","v":""},null,{"$f":"LOOKUP(REPT(CHAR(237),255),CHOOSE({1,2},\"\",VLOOKUP(K120,الاسناد!$A$6:$D$29,4,0)))","v":""},null,{"$f":"LOOKUP(REPT(CHAR(237),255),CHOOSE({1,2},\"\",VLOOKUP(M120,الاسناد!$A$6:$D$29,4,0)))","v":""}]
[null,null,null,"10-09",null,{"$f":"LOOKUP(REPT(CHAR(237),255),CHOOSE({1,2},\"\",VLOOKUP(E121,الاسناد!$A$6:$Q$29,17,0)))","v":""},null,{"$f":"LOOKUP(REPT(CHAR(237),255),CHOOSE({1,2},\"\",VLOOKUP(G121,الاسناد!$A$6:$D$29,4,0)))","v":""},null,{"$f":"LOOKUP(REPT(CHAR(237),255),CHOOSE({1,2},\"\",VLOOKUP(I121,الاسناد!$A$6:$D$29,4,0)))","v":""},null,{"$f":"LOOKUP(REPT(CHAR(237),255),CHOOSE({1,2},\"\",VLOOKUP(K121,الاسناد!$A$6:$D$29,4,0)))","v":""},null,{"$f":"LOOKUP(REPT(CHAR(237),255),CHOOSE({1,2},\"\",VLOOKUP(M121,الاسناد!$A$6:$D$29,4,0)))","v":""}]
[null,null,null,"11-10",null,{"$f":"LOOKUP(REPT(CHAR(237),255),CHOOSE({1,2},\"\",VLOOKUP(E122,الاسناد!$A$6:$Q$29,17,0)))","v":""},null,{"$f":"LOOKUP(REPT(CHAR(237),255),CHOOSE({1,2},\"\",VLOOKUP(G122,الاسناد!$A$6:$D$29,4,0)))","v":""},null,{"$f":"LOOKUP(REPT(CHAR(237),255),CHOOSE({1,2},\"\",VLOOKUP(I122,الاسناد!$A$6:$D$29,4,0)))","v":""},null,{"$f":"LOOKUP(REPT(CHAR(237),255),CHOOSE({1,2},\"\",VLOOKUP(K122,الاسناد!$A$6:$D$29,4,0)))","v":""},null,{"$f":"LOOKUP(REPT(CHAR(237),255),CHOOSE({1,2},\"\",VLOOKUP(M122,الاسناد!$A$6:$D$29,4,0)))","v":""}]
[null,null,null,"12-11",null,{"$f":"LOOKUP(REPT(CHAR(237),255),CHOOSE({1,2},\"\",VLOOKUP(E123,الاسناد!$A$6:$Q$29,17,0)))","v":""},null,{"$f":"LOOKUP(REPT(CHAR(237),255),CHOOSE({1,2},\"\",VLOOKUP(G123,الاسناد!$A$6:$D$29,4,0)))","v":""},null,{"$f":"LOOKUP(REPT(CHAR(237),255),CHOOSE({1,2},\"\",VLOOKUP(I123,الاسناد!$A$6:$D$29,4,0)))","v":""},null,{"$f":"LOOKUP(REPT(CHAR(237),255),CHOOSE({1,2},\"\",VLOOKUP(K123,الاسناد!$A$6:$D$29,4,0)))","v":""},null,{"$f":"LOOKUP(REPT(CHAR(237),255),CHOOSE({1,2},\"\",VLOOKUP(M123,الاسناد!$A$6:$D$29,4,0)))","v":""}]
[null,null,null,"14-13",null,{"$f":"LOOKUP(REPT(CHAR(237),255),CHOOSE({1,2},\"\",VLOOKUP(E124,الاسناد!$A$6:$Q$29,17,0)))","v":""},null,{"$f":"LOOKUP(REPT(CHAR(237),255),CHOOSE({1,2},\"\",VLOOKUP(G124,الاسناد!$A$6:$D$29,4,0)))","v":""},null,{"$f":"LOOKUP(REPT(CHAR(237),255),CHOOSE({1,2},\"\",VLOOKUP(I124,الاسناد!$A$6:$D$29,4,0)))","v":""},null,{"$f":"LOOKUP(REPT(CHAR(237),255),CHOOSE({1,2},\"\",VLOOKUP(K124,الاسناد!$A$6:$D$29,4,0)))","v":""},null,{"$f":"LOOKUP(REPT(CHAR(237),255),CHOOSE({1,2},\"\",VLOOKUP(M124,الاسناد!$A$6:$D$29,4,0)))","v":""}]
[null,null,null,"15-14",null,{"$f":"LOOKUP(REPT(CHAR(237),255),CHOOSE({1,2},\"\",VLOOKUP(E125,الاسناد!$A$6:$Q$29,17,0)))","v":""},null,{"$f":"LOOKUP(REPT(CHAR(237),255),CHOOSE({1,2},\"\",VLOOKUP(G125,الاسناد!$A$6:$D$29,4,0)))","v":""},null,{"$f":"LOOKUP(REPT(CHAR(237),255),CHOOSE({1,2},\"\",VLOOKUP(I125,الاسناد!$A$6:$D$29,4,0)))","v":""},null,{"$f":"LOOKUP(REPT(CHAR(237),255),CHOOSE({1,2},\"\",VLOOKUP(K125,الاسناد!$A$6:$D$29,4,0)))","v":""},null,{"$f":"LOOKUP(REPT(CHAR(237),255),CHOOSE({1,2},\"\",VLOOKUP(M125,الاسناد!$A$6:$D$29,4,0)))","v":""}]
[null,null,null,"16-15",null,{"$f":"LOOKUP(REPT(CHAR(237),255),CHOOSE({1,2},\"\",VLOOKUP(E126,الاسناد!$A$6:$Q$29,17,0)))","v":""},null,{"$f":"LOOKUP(REPT(CHAR(237),255),CHOOSE({1,2},\"\",VLOOKUP(G126,الاسناد!$A$6:$D$29,4,0)))","v":""},null,{"$f":"LOOKUP(REPT(CHAR(237),255),CHOOSE({1,2},\"\",VLOOKUP(I126,الاسناد!$A$6:$D$29,4,0)))","v":""},null,{"$f":"LOOKUP(REPT(CHAR(237),255),CHOOSE({1,2},\"\",VLOOKUP(K126,الاسناد!$A$6:$D$29,4,0)))","v":""},null,{"$f":"LOOKUP(REPT(CHAR(237),255),CHOOSE({1,2},\"\",VLOOKUP(M126,الاسناد!$A$6:$D$29,4,0)))","v":""}]
[null,null,null,"17-16",null,{"$f":"LOOKUP(REPT(CHAR(237),255),CHOOSE({1,2},\"\",VLOOKUP(E127,الاسناد!$A$6:$Q$29,17,0)))","v":""},null,{"$f":"LOOKUP(REPT(CHAR(237),255),CHOOSE({1,2},\"\",VLOOKUP(G127,الاسناد!$A$6:$D$29,4,0)))","v":""},null,{"$f":"LOOKUP(REPT(CHAR(237),255),CHOOSE({1,2},\"\",VLOOKUP(I127,الاسناد!$A$6:$D$29,4,0)))","v":""},null,{"$f":"LOOKUP(REPT(CHAR(237),255),CHOOSE({1,2},\"\",VLOOKUP(K127,الاسناد!$A$6:$D$29,4,0)))","v":""},null,{"$f":"LOOKUP(REPT(CHAR(237),255),CHOOSE({1,2},\"\",VLOOKUP(M127,الاسناد!$A$6:$D$29,4,0)))","v":""}]
[16,{"$f":"البداية!A35","v":0},null,"09-08",null,{"$f":"LOOKUP(REPT(CHAR(237),255),CHOOSE({1,2},\"\",VLOOKUP(E128,الاسناد!$A$6:$R$29,18,0)))","v":""},null,{"$f":"LOOKUP(REPT(CHAR(237),255),CHOOSE({1,2},\"\",VLOOKUP(G128,الاسناد!$A$6:$D$29,4,0)))","v":""},null,{"$f":"LOOKUP(REPT(CHAR(237),255),CHOOSE({1,2},\"\",VLOOKUP(I128,الاسناد!$A$6:$D$29,4,0)))","v":""},null,{"$f":"LOOKUP(REPT(CHAR(237),255),CHOOSE({1,2},\"\",VLOOKUP(K128,الاسناد!$A$6:$D$29,4,0)))","v":""},null,{"$f":"LOOKUP(REPT(CHAR(237),255),CHOOSE({1,2},\"\",VLOOKUP(M128,الاسناد!$A$6:$D$29,4,0)))","v":""}]
[null,null,null,"10-09",null,{"$f":"LOOKUP(REPT(CHAR(237),255),CHOOSE({1,2},\"\",VLOOKUP(E129,الاسناد!$A$6:$R$29,18,0)))","v":""},null,{"$f":"LOOKUP(REPT(CHAR(237),255),CHOOSE({1,2},\"\",VLOOKUP(G129,الاسناد!$A$6:$D$29,4,0)))","v":""},null,{"$f":"LOOKUP(REPT(CHAR(237),255),CHOOSE({1,2},\"\",VLOOKUP(I129,الاسناد!$A$6:$D$29,4,0)))","v":""},null,{"$f":"LOOKUP(REPT(CHAR(237),255),CHOOSE({1,2},\"\",VLOOKUP(K129,الاسناد!$A$6:$D$29,4,0)))","v":""},null,{"$f":"LOOKUP(REPT(CHAR(237),255),CHOOSE({1,2},\"\",VLOOKUP(M129,الاسناد!$A$6:$D$29,4,0)))","v":""}]
[null,null,null,"11-10",null,{"$f":"LOOKUP(REPT(CHAR(237),255),CHOOSE({1,2},\"\",VLOOKUP(E130,الاسناد!$A$6:$R$29,18,0)))","v":""},null,{"$f":"LOOKUP(REPT(CHAR(237),255),CHOOSE({1,2},\"\",VLOOKUP(G130,الاسناد!$A$6:$D$29,4,0)))","v":""},null,{"$f":"LOOKUP(REPT(CHAR(237),255),CHOOSE({1,2},\"\",VLOOKUP(I130,الاسناد!$A$6:$D$29,4,0)))","v":""},null,{"$f":"LOOKUP(REPT(CHAR(237),255),CHOOSE({1,2},\"\",VLOOKUP(K130,الاسناد!$A$6:$D$29,4,0)))","v":""},null,{"$f":"LOOKUP(REPT(CHAR(237),255),CHOOSE({1,2},\"\",VLOOKUP(M130,الاسناد!$A$6:$D$29,4,0)))","v":""}]
[null,null,null,"12-11",null,{"$f":"LOOKUP(REPT(CHAR(237),255),CHOOSE({1,2},\"\",VLOOKUP(E131,الاسناد!$A$6:$R$29,18,0)))","v":""},null,{"$f":"LOOKUP(REPT(CHAR(237),255),CHOOSE({1,2},\"\",VLOOKUP(G131,الاسناد!$A$6:$D$29,4,0)))","v":""},null,{"$f":"LOOKUP(REPT(CHAR(237),255),CHOOSE({1,2},\"\",VLOOKUP(I131,الاسناد!$A$6:$D$29,4,0)))","v":""},null,{"$f":"LOOKUP(REPT(CHAR(237),255),CHOOSE({1,2},\"\",VLOOKUP(K131,الاسناد!$A$6:$D$29,4,0)))","v":""},null,{"$f":"LOOKUP(REPT(CHAR(237),255),CHOOSE({1,2},\"\",VLOOKUP(M131,الاسناد!$A$6:$D$29,4,0)))","v":""}]
[null,null,null,"14-13",null,{"$f":"LOOKUP(REPT(CHAR(237),255),CHOOSE({1,2},\"\",VLOOKUP(E132,الاسناد!$A$6:$R$29,18,0)))","v":""},null,{"$f":"LOOKUP(REPT(CHAR(237),255),CHOOSE({1,2},\"\",VLOOKUP(G132,الاسناد!$A$6:$D$29,4,0)))","v":""},null,{"$f":"LOOKUP(REPT(CHAR(237),255),CHOOSE({1,2},\"\",VLOOKUP(I132,الاسناد!$A$6:$D$29,4,0)))","v":""},null,{"$f":"LOOKUP(REPT(CHAR(237),255),CHOOSE({1,2},\"\",VLOOKUP(K132,الاسناد!$A$6:$D$29,4,0)))","v":""},null,{"$f":"LOOKUP(REPT(CHAR(237),255),CHOOSE({1,2},\"\",VLOOKUP(M132,الاسناد!$A$6:$D$29,4,0)))","v":""}]
[null,null,null,"15-14",null,{"$f":"LOOKUP(REPT(CHAR(237),255),CHOOSE({1,2},\"\",VLOOKUP(E133,الاسناد!$A$6:$R$29,18,0)))","v":""},null,{"$f":"LOOKUP(REPT(CHAR(237),255),CHOOSE({1,2},\"\",VLOOKUP(G133,الاسناد!$A$6:$D$29,4,0)))","v":""},null,{"$f":"LOOKUP(REPT(CHAR(237),255),CHOOSE({1,2},\"\",VLOOKUP(I133,الاسناد!$A$6:$D$29,4,0)))","v":""},null,{"$f":"LOOKUP(REPT(CHAR(237),255),CHOOSE({1,2},\"\",VLOOKUP(K133,الاسناد!$A$6:$D$29,4,0)))","v":""},null,{"$f":"LOOKUP(REPT(CHAR(237),255),CHOOSE({1,2},\"\",VLOOKUP(M133,الاسناد!$A$6:$D$29,4,0)))","v":""}]
[null,null,null,"16-15",null,{"$f":"LOOKUP(REPT(CHAR(237),255),CHOOSE({1,2},\"\",VLOOKUP(E134,الاسناد!$A$6:$R$29,18,0)))","v":""},null,{"$f":"LOOKUP(REPT(CHAR(237),255),CHOOSE({1,2},\"\",VLOOKUP(G134,الاسناد!$A$6:$D$29,4,0)))","v":""},null,{"$f":"LOOKUP(REPT(CHAR(237),255),CHOOSE({1,2},\"\",VLOOKUP(I134,الاسناد!$A$6:$D$29,4,0)))","v":""},null,{"$f":"LOOKUP(REPT(CHAR(237),255),CHOOSE({1,2},\"\",VLOOKUP(K134,الاسناد!$A$6:$D$29,4,0)))","v":""},null,{"$f":"LOOKUP(REPT(CHAR(237),255),CHOOSE({1,2},\"\",VLOOKUP(M134,الاسناد!$A$6:$D$29,4,0)))","v":""}]
[null,null,null,"17-16",null,{"$f":"LOOKUP(REPT(CHAR(237),255),CHOOSE({1,2},\"\",VLOOKUP(E135,الاسناد!$A$6:$R$29,18,0)))","v":""},null,{"$f":"LOOKUP(REPT(CHAR(237),255),CHOOSE({1,2},\"\",VLOOKUP(G135,الاسناد!$A$6:$D$29,4,0)))","v":""},null,{"$f":"LOOKUP(REPT(CHAR(237),255),CHOOSE({1,2},\"\",VLOOKUP(I135,الاسناد!$A$6:$D$29,4,0)))","v":""},null,{"$f":"LOOKUP(REPT(CHAR(237),255),CHOOSE({1,2},\"\",VLOOKUP(K135,الاسناد!$A$6:$D$29,4,0)))","v":""},null,{"$f":"LOOKUP(REPT(CHAR(237),255),CHOOSE({1,2},\"\",VLOOKUP(M135,الاسناد!$A$6:$D$29,4,0)))","v":""}]
[17,{"$f":"البداية!A36","v":0},null,"09-08",null,{"$f":"LOOKUP(REPT(CHAR(237),255),CHOOSE({1,2},\"\",VLOOKUP(E136,الاسناد!$A$6:$S$29,19,0)))","v":""},null,{"$f":"LOOKUP(REPT(CHAR(237),255),CHOOSE({1,2},\"\",VLOOKUP(G136,الاسناد!$A$6:$D$29,4,0)))","v":""},null,{"$f":"LOOKUP(REPT(CHAR(237),255),CHOOSE({1,2},\"\",VLOOKUP(I136,الاسناد!$A$6:$D$29,4,0)))","v":""},null,{"$f":"LOOKUP(REPT(CHAR(237),255),CHOOSE({1,2},\"\",VLOOKUP(K136,الاسناد!$A$6:$D$29,4,0)))","v":""},null,{"$f":"LOOKUP(REPT(CHAR(237),255),CHOOSE({1,2},\"\",VLOOKUP(M136,الاسناد!$A$6:$D$29,4,0)))","v":""}]
[null,null,null,"10-09",null,{"$f":"LOOKUP(REPT(CHAR(237),255),CHOOSE({1,2},\"\",VLOOKUP(E137,الاسناد!$A$6:$S$29,19,0)))","v":""},null,{"$f":"LOOKUP(REPT(CHAR(237),255),CHOOSE({1,2},\"\",VLOOKUP(G137,الاسناد!$A$6:$D$29,4,0)))","v":""},null,{"$f":"LOOKUP(REPT(CHAR(237),255),CHOOSE({1,2},\"\",VLOOKUP(I137,الاسناد!$A$6:$D$29,4,0)))","v":""},null,{"$f":"LOOKUP(REPT(CHAR(237),255),CHOOSE({1,2},\"\",VLOOKUP(K137,الاسناد!$A$6:$D$29,4,0)))","v":""},null,{"$f":"LOOKUP(REPT(CHAR(237),255),CHOOSE({1,2},\"\",VLOOKUP(M137,الاسناد!$A$6:$D$29,4,0)))","v":""}]
[null,null,null,"11-10",null,{"$f":"LOOKUP(REPT(CHAR(237),255),CHOOSE({1,2},\"\",VLOOKUP(E138,الاسناد!$A$6:$S$29,19,0)))","v":""},null,{"$f":"LOOKUP(REPT(CHAR(237),255),CHOOSE({1,2},\"\",VLOOKUP(G138,الاسناد!$A$6:$D$29,4,0)))","v":""},null,{"$f":"LOOKUP(REPT(CHAR(237),255),CHOOSE({1,2},\"\",VLOOKUP(I138,الاسناد!$A$6:$D$29,4,0)))","v":""},null,{"$f":"LOOKUP(REPT(CHAR(237),255),CHOOSE({1,2},\"\",VLOOKUP(K138,الاسناد!$A$6:$D$29,4,0)))","v":""},null,{"$f":"LOOKUP(REPT(CHAR(237),255),CHOOSE({1,2},\"\",VLOOKUP(M138,الاسناد!$A$6:$D$29,4,0)))","v":""}]
[null,null,null,"12-11",null,{"$f":"LOOKUP(REPT(CHAR(237),255),CHOOSE({1,2},\"\",VLOOKUP(E139,الاسناد!$A$6:$S$29,19,0)))","v":""},null,{"$f":"LOOKUP(REPT(CHAR(237),255),CHOOSE({1,2},\"\",VLOOKUP(G139,الاسناد!$A$6:$D$29,4,0)))","v":""},null,{"$f":"LOOKUP(REPT(CHAR(237),255),CHOOSE({1,2},\"\",VLOOKUP(I139,الاسناد!$A$6:$D$29,4,0)))","v":""},null,{"$f":"LOOKUP(REPT(CHAR(237),255),CHOOSE({1,2},\"\",VLOOKUP(K139,الاسناد!$A$6:$D$29,4,0)))","v":""},null,{"$f":"LOOKUP(REPT(CHAR(237),255),CHOOSE({1,2},\"\",VLOOKUP(M139,الاسناد!$A$6:$D$29,4,0)))","v":""}]
[null,null,null,"14-13",null,{"$f":"LOOKUP(REPT(CHAR(237),255),CHOOSE({1,2},\"\",VLOOKUP(E140,الاسناد!$A$6:$S$29,19,0)))","v":""},null,{"$f":"LOOKUP(REPT(CHAR(237),255),CHOOSE({1,2},\"\",VLOOKUP(G140,الاسناد!$A$6:$D$29,4,0)))","v":""},null,{"$f":"LOOKUP(REPT(CHAR(237),255),CHOOSE({1,2},\"\",VLOOKUP(I140,الاسناد!$A$6:$D$29,4,0)))","v":""},null,{"$f":"LOOKUP(REPT(CHAR(237),255),CHOOSE({1,2},\"\",VLOOKUP(K140,الاسناد!$A$6:$D$29,4,0)))","v":""},null,{"$f":"LOOKUP(REPT(CHAR(237),255),CHOOSE({1,2},\"\",VLOOKUP(M140,الاسناد!$A$6:$D$29,4,0)))","v":""}]
[null,null,null,"15-14",null,{"$f":"LOOKUP(REPT(CHAR(237),255),CHOOSE({1,2},\"\",VLOOKUP(E141,الاسناد!$A$6:$S$29,19,0)))","v":""},null,{"$f":"LOOKUP(REPT(CHAR(237),255),CHOOSE({1,2},\"\",VLOOKUP(G141,الاسناد!$A$6:$D$29,4,0)))","v":""},null,{"$f":"LOOKUP(REPT(CHAR(237),255),CHOOSE({1,2},\"\",VLOOKUP(I141,الاسناد!$A$6:$D$29,4,0)))","v":""},null,{"$f":"LOOKUP(REPT(CHAR(237),255),CHOOSE({1,2},\"\",VLOOKUP(K141,الاسناد!$A$6:$D$29,4,0)))","v":""},null,{"$f":"LOOKUP(REPT(CHAR(237),255),CHOOSE({1,2},\"\",VLOOKUP(M141,الاسناد!$A$6:$D$29,4,0)))","v":""}]
[null,null,null,"16-15",null,{"$f":"LOOKUP(REPT(CHAR(237),255),CHOOSE({1,2},\"\",VLOOKUP(E142,الاسناد!$A$6:$S$29,19,0)))","v":""},null,{"$f":"LOOKUP(REPT(CHAR(237),255),CHOOSE({1,2},\"\",VLOOKUP(G142,الاسناد!$A$6:$D$29,4,0)))","v":""},null,{"$f":"LOOKUP(REPT(CHAR(237),255),CHOOSE({1,2},\"\",VLOOKUP(I142,الاسناد!$A$6:$D$29,4,0)))","v":""},null,{"$f":"LOOKUP(REPT(CHAR(237),255),CHOOSE({1,2},\"\",VLOOKUP(K142,الاسناد!$A$6:$D$29,4,0)))","v":""},null,{"$f":"LOOKUP(REPT(CHAR(237),255),CHOOSE({1,2},\"\",VLOOKUP(M142,الاسناد!$A$6:$D$29,4,0)))","v":""}]
[null,null,null,"17-16",null,{"$f":"LOOKUP(REPT(CHAR(237),255),CHOOSE({1,2},\"\",VLOOKUP(E143,الاسناد!$A$6:$S$29,19,0)))","v":""},null,{"$f":"LOOKUP(REPT(CHAR(237),255),CHOOSE({1,2},\"\",VLOOKUP(G143,الاسناد!$A$6:$D$29,4,0)))","v":""},null,{"$f":"LOOKUP(REPT(CHAR(237),255),CHOOSE({1,2},\"\",VLOOKUP(I143,الاسناد!$A$6:$D$29,4,0)))","v":""},null,{"$f":"LOOKUP(REPT(CHAR(237),255),CHOOSE({1,2},\"\",VLOOKUP(K143,الاسناد!$A$6:$D$29,4,0)))","v":""},null,{"$f":"LOOKUP(REPT(CHAR(237),255),CHOOSE({1,2},\"\",VLOOKUP(M143,الاسناد!$A$6:$D$29,4,0)))","v":""}]
[18,{"$f":"البداية!A37","v":0},null,"09-08",null,{"$f":"LOOKUP(REPT(CHAR(237),255),CHOOSE({1,2},\"\",VLOOKUP(E144,الاسناد!$A$6:$T$29,20,0)))","v":""},null,{"$f":"LOOKUP(REPT(CHAR(237),255),CHOOSE({1,2},\"\",VLOOKUP(G144,الاسناد!$A$6:$D$29,4,0)))","v":""},null,{"$f":"LOOKUP(REPT(CHAR(237),255),CHOOSE({1,2},\"\",VLOOKUP(I144,الاسناد!$A$6:$D$29,4,0)))","v":""},null,{"$f":"LOOKUP(REPT(CHAR(237),255),CHOOSE({1,2},\"\",VLOOKUP(K144,الاسناد!$A$6:$D$29,4,0)))","v":""},null,{"$f":"LOOKUP(REPT(CHAR(237),255),CHOOSE({1,2},\"\",VLOOKUP(M144,الاسناد!$A$6:$D$29,4,0)))","v":""}]
[null,null,null,"10-09",null,{"$f":"LOOKUP(REPT(CHAR(237),255),CHOOSE({1,2},\"\",VLOOKUP(E145,الاسناد!$A$6:$T$29,20,0)))","v":""},null,{"$f":"LOOKUP(REPT(CHAR(237),255),CHOOSE({1,2},\"\",VLOOKUP(G145,الاسناد!$A$6:$D$29,4,0)))","v":""},null,{"$f":"LOOKUP(REPT(CHAR(237),255),CHOOSE({1,2},\"\",VLOOKUP(I145,الاسناد!$A$6:$D$29,4,0)))","v":""},null,{"$f":"LOOKUP(REPT(CHAR(237),255),CHOOSE({1,2},\"\",VLOOKUP(K145,الاسناد!$A$6:$D$29,4,0)))","v":""},null,{"$f":"LOOKUP(REPT(CHAR(237),255),CHOOSE({1,2},\"\",VLOOKUP(M145,الاسناد!$A$6:$D$29,4,0)))","v":""}]
[null,null,null,"11-10",null,{"$f":"LOOKUP(REPT(CHAR(237),255),CHOOSE({1,2},\"\",VLOOKUP(E146,الاسناد!$A$6:$T$29,20,0)))","v":""},null,{"$f":"LOOKUP(REPT(CHAR(237),255),CHOOSE({1,2},\"\",VLOOKUP(G146,الاسناد!$A$6:$D$29,4,0)))","v":""},null,{"$f":"LOOKUP(REPT(CHAR(237),255),CHOOSE({1,2},\"\",VLOOKUP(I146,الاسناد!$A$6:$D$29,4,0)))","v":""},null,{"$f":"LOOKUP(REPT(CHAR(237),255),CHOOSE({1,2},\"\",VLOOKUP(K146,الاسناد!$A$6:$D$29,4,0)))","v":""},null,{"$f":"LOOKUP(REPT(CHAR(237),255),CHOOSE({1,2},\"\",VLOOKUP(M146,الاسناد!$A$6:$D$29,4,0)))","v":""}]
[null,null,null,"12-11",null,{"$f":"LOOKUP(REPT(CHAR(237),255),CHOOSE({1,2},\"\",VLOOKUP(E147,الاسناد!$A$6:$T$29,20,0)))","v":""},null,{"$f":"LOOKUP(REPT(CHAR(237),255),CHOOSE({1,2},\"\",VLOOKUP(G147,الاسناد!$A$6:$D$29,4,0)))","v":""},null,{"$f":"LOOKUP(REPT(CHAR(237),255),CHOOSE({1,2},\"\",VLOOKUP(I147,الاسناد!$A$6:$D$29,4,0)))","v":""},null,{"$f":"LOOKUP(REPT(CHAR(237),255),CHOOSE({1,2},\"\",VLOOKUP(K147,الاسناد!$A$6:$D$29,4,0)))","v":""},null,{"$f":"LOOKUP(REPT(CHAR(237),255),CHOOSE({1,2},\"\",VLOOKUP(M147,الاسناد!$A$6:$D$29,4,0)))","v":""}]
[null,null,null,"14-13",null,{"$f":"LOOKUP(REPT(CHAR(237),255),CHOOSE({1,2},\"\",VLOOKUP(E148,الاسناد!$A$6:$T$29,20,0)))","v":""},null,{"$f":"LOOKUP(REPT(CHAR(237),255),CHOOSE({1,2},\"\",VLOOKUP(G148,الاسناد!$A$6:$D$29,4,0)))","v":""},null,{"$f":"LOOKUP(REPT(CHAR(237),255),CHOOSE({1,2},\"\",VLOOKUP(I148,الاسناد!$A$6:$D$29,4,0)))","v":""},null,{"$f":"LOOKUP(REPT(CHAR(237),255),CHOOSE({1,2},\"\",VLOOKUP(K148,الاسناد!$A$6:$D$29,4,0)))","v":""},null,{"$f":"LOOKUP(REPT(CHAR(237),255),CHOOSE({1,2},\"\",VLOOKUP(M148,الاسناد!$A$6:$D$29,4,0)))","v":""}]
[null,null,null,"15-14",null,{"$f":"LOOKUP(REPT(CHAR(237),255),CHOOSE({1,2},\"\",VLOOKUP(E149,الاسناد!$A$6:$T$29,20,0)))","v":""},null,{"$f":"LOOKUP(REPT(CHAR(237),255),CHOOSE({1,2},\"\",VLOOKUP(G149,الاسناد!$A$6:$D$29,4,0)))","v":""},null,{"$f":"LOOKUP(REPT(CHAR(237),255),CHOOSE({1,2},\"\",VLOOKUP(I149,الاسناد!$A$6:$D$29,4,0)))","v":""},null,{"$f":"LOOKUP(REPT(CHAR(237),255),CHOOSE({1,2},\"\",VLOOKUP(K149,الاسناد!$A$6:$D$29,4,0)))","v":""},null,{"$f":"LOOKUP(REPT(CHAR(237),255),CHOOSE({1,2},\"\",VLOOKUP(M149,الاسناد!$A$6:$D$29,4,0)))","v":""}]
[null,null,null,"16-15",null,{"$f":"LOOKUP(REPT(CHAR(237),255),CHOOSE({1,2},\"\",VLOOKUP(E150,الاسناد!$A$6:$T$29,20,0)))","v":""},null,{"$f":"LOOKUP(REPT(CHAR(237),255),CHOOSE({1,2},\"\",VLOOKUP(G150,الاسناد!$A$6:$D$29,4,0)))","v":""},null,{"$f":"LOOKUP(REPT(CHAR(237),255),CHOOSE({1,2},\"\",VLOOKUP(I150,الاسناد!$A$6:$D$29,4,0)))","v":""},null,{"$f":"LOOKUP(REPT(CHAR(237),255),CHOOSE({1,2},\"\",VLOOKUP(K150,الاسناد!$A$6:$D$29,4,0)))","v":""},null,{"$f":"LOOKUP(REPT(CHAR(237),255),CHOOSE({1,2},\"\",VLOOKUP(M150,الاسناد!$A$6:$D$29,4,0)))","v":""}]
[null,null,null,"17-16",null,{"$f":"LOOKUP(REPT(CHAR(237),255),CHOOSE({1,2},\"\",VLOOKUP(E151,الاسناد!$A$6:$T$29,20,0)))","v":""},null,{"$f":"LOOKUP(REPT(CHAR(237),255),CHOOSE({1,2},\"\",VLOOKUP(G151,الاسناد!$A$6:$D$29,4,0)))","v":""},null,{"$f":"LOOKUP(REPT(CHAR(237),255),CHOOSE({1,2},\"\",VLOOKUP(I151,الاسناد!$A$6:$D$29,4,0)))","v":""},null,{"$f":"LOOKUP(REPT(CHAR(237),255),CHOOSE({1,2},\"\",VLOOKUP(K151,الاسناد!$A$6:$D$29,4,0)))","v":""},null,{"$f":"LOOKUP(REPT(CHAR(237),255),CHOOSE({1,2},\"\",VLOOKUP(M151,الاسناد!$A$6:$D$29,4,0)))","v":""}]
[19,{"$f":"البداية!A38","v":0},null,"09-08",null,{"$f":"LOOKUP(REPT(CHAR(237),255),CHOOSE({1,2},\"\",VLOOKUP(E152,الاسناد!$A$6:$U$29,21,0)))","v":""},null,{"$f":"LOOKUP(REPT(CHAR(237),255),CHOOSE({1,2},\"\",VLOOKUP(G152,الاسناد!$A$6:$D$29,4,0)))","v":""},null,{"$f":"LOOKUP(REPT(CHAR(237),255),CHOOSE({1,2},\"\",VLOOKUP(I152,الاسناد!$A$6:$D$29,4,0)))","v":""},null,{"$f":"LOOKUP(REPT(CHAR(237),255),CHOOSE({1,2},\"\",VLOOKUP(K152,الاسناد!$A$6:$D$29,4,0)))","v":""},null,{"$f":"LOOKUP(REPT(CHAR(237),255),CHOOSE({1,2},\"\",VLOOKUP(M152,الاسناد!$A$6:$D$29,4,0)))","v":""}]
[null,null,null,"10-09",null,{"$f":"LOOKUP(REPT(CHAR(237),255),CHOOSE({1,2},\"\",VLOOKUP(E153,الاسناد!$A$6:$U$29,21,0)))","v":""},null,{"$f":"LOOKUP(REPT(CHAR(237),255),CHOOSE({1,2},\"\",VLOOKUP(G153,الاسناد!$A$6:$D$29,4,0)))","v":""},null,{"$f":"LOOKUP(REPT(CHAR(237),255),CHOOSE({1,2},\"\",VLOOKUP(I153,الاسناد!$A$6:$D$29,4,0)))","v":""},null,{"$f":"LOOKUP(REPT(CHAR(237),255),CHOOSE({1,2},\"\",VLOOKUP(K153,الاسناد!$A$6:$D$29,4,0)))","v":""},null,{"$f":"LOOKUP(REPT(CHAR(237),255),CHOOSE({1,2},\"\",VLOOKUP(M153,الاسناد!$A$6:$D$29,4,0)))","v":""}]
[null,null,null,"11-10",null,{"$f":"LOOKUP(REPT(CHAR(237),255),CHOOSE({1,2},\"\",VLOOKUP(E154,الاسناد!$A$6:$U$29,21,0)))","v":""},null,{"$f":"LOOKUP(REPT(CHAR(237),255),CHOOSE({1,2},\"\",VLOOKUP(G154,الاسناد!$A$6:$D$29,4,0)))","v":""},null,{"$f":"LOOKUP(REPT(CHAR(237),255),CHOOSE({1,2},\"\",VLOOKUP(I154,الاسناد!$A$6:$D$29,4,0)))","v":""},null,{"$f":"LOOKUP(REPT(CHAR(237),255),CHOOSE({1,2},\"\",VLOOKUP(K154,الاسناد!$A$6:$D$29,4,0)))","v":""},null,{"$f":"LOOKUP(REPT(CHAR(237),255),CHOOSE({1,2},\"\",VLOOKUP(M154,الاسناد!$A$6:$D$29,4,0)))","v":""}]
[null,null,null,"12-11",null,{"$f":"LOOKUP(REPT(CHAR(237),255),CHOOSE({1,2},\"\",VLOOKUP(E155,الاسناد!$A$6:$U$29,21,0)))","v":""},null,{"$f":"LOOKUP(REPT(CHAR(237),255),CHOOSE({1,2},\"\",VLOOKUP(G155,الاسناد!$A$6:$D$29,4,0)))","v":""},null,{"$f":"LOOKUP(REPT(CHAR(237),255),CHOOSE({1,2},\"\",VLOOKUP(I155,الاسناد!$A$6:$D$29,4,0)))","v":""},null,{"$f":"LOOKUP(REPT(CHAR(237),255),CHOOSE({1,2},\"\",VLOOKUP(K155,الاسناد!$A$6:$D$29,4,0)))","v":""},null,{"$f":"LOOKUP(REPT(CHAR(237),255),CHOOSE({1,2},\"\",VLOOKUP(M155,الاسناد!$A$6:$D$29,4,0)))","v":""}]
[null,null,null,"14-13",null,{"$f":"LOOKUP(REPT(CHAR(237),255),CHOOSE({1,2},\"\",VLOOKUP(E156,الاسناد!$A$6:$U$29,21,0)))","v":""},null,{"$f":"LOOKUP(REPT(CHAR(237),255),CHOOSE({1,2},\"\",VLOOKUP(G156,الاسناد!$A$6:$D$29,4,0)))","v":""},null,{"$f":"LOOKUP(REPT(CHAR(237),255),CHOOSE({1,2},\"\",VLOOKUP(I156,الاسناد!$A$6:$D$29,4,0)))","v":""},null,{"$f":"LOOKUP(REPT(CHAR(237),255),CHOOSE({1,2},\"\",VLOOKUP(K156,الاسناد!$A$6:$D$29,4,0)))","v":""},null,{"$f":"LOOKUP(REPT(CHAR(237),255),CHOOSE({1,2},\"\",VLOOKUP(M156,الاسناد!$A$6:$D$29,4,0)))","v":""}]
[null,null,null,"15-14",null,{"$f":"LOOKUP(REPT(CHAR(237),255),CHOOSE({1,2},\"\",VLOOKUP(E157,الاسناد!$A$6:$U$29,21,0)))","v":""},null,{"$f":"LOOKUP(REPT(CHAR(237),255),CHOOSE({1,2},\"\",VLOOKUP(G157,الاسناد!$A$6:$D$29,4,0)))","v":""},null,{"$f":"LOOKUP(REPT(CHAR(237),255),CHOOSE({1,2},\"\",VLOOKUP(I157,الاسناد!$A$6:$D$29,4,0)))","v":""},null,{"$f":"LOOKUP(REPT(CHAR(237),255),CHOOSE({1,2},\"\",VLOOKUP(K157,الاسناد!$A$6:$D$29,4,0)))","v":""},null,{"$f":"LOOKUP(REPT(CHAR(237),255),CHOOSE({1,2},\"\",VLOOKUP(M157,الاسناد!$A$6:$D$29,4,0)))","v":""}]
[null,null,null,"16-15",null,{"$f":"LOOKUP(REPT(CHAR(237),255),CHOOSE({1,2},\"\",VLOOKUP(E158,الاسناد!$A$6:$U$29,21,0)))","v":""},null,{"$f":"LOOKUP(REPT(CHAR(237),255),CHOOSE({1,2},\"\",VLOOKUP(G158,الاسناد!$A$6:$D$29,4,0)))","v":""},null,{"$f":"LOOKUP(REPT(CHAR(237),255),CHOOSE({1,2},\"\",VLOOKUP(I158,الاسناد!$A$6:$D$29,4,0)))","v":""},null,{"$f":"LOOKUP(REPT(CHAR(237),255),CHOOSE({1,2},\"\",VLOOKUP(K158,الاسناد!$A$6:$D$29,4,0)))","v":""},null,{"$f":"LOOKUP(REPT(CHAR(237),255),CHOOSE({1,2},\"\",VLOOKUP(M158,الاسناد!$A$6:$D$29,4,0)))","v":""}]
[null,null,null,"17-16",null,{"$f":"LOOKUP(REPT(CHAR(237),255),CHOOSE({1,2},\"\",VLOOKUP(E159,الاسناد!$A$6:$U$29,21,0)))","v":""},null,{"$f":"LOOKUP(REPT(CHAR(237),255),CHOOSE({1,2},\"\",VLOOKUP(G159,الاسناد!$A$6:$D$29,4,0)))","v":""},null,{"$f":"LOOKUP(REPT(CHAR(237),255),CHOOSE({1,2},\"\",VLOOKUP(I159,الاسناد!$A$6:$D$29,4,0)))","v":""},null,{"$f":"LOOKUP(REPT(CHAR(237),255),CHOOSE({1,2},\"\",VLOOKUP(K159,الاسناد!$A$6:$D$29,4,0)))","v":""},null,{"$f":"LOOKUP(REPT(CHAR(237),255),CHOOSE({1,2},\"\",VLOOKUP(M159,الاسناد!$A$6:$D$29,4,0)))","v":""}]
[20,{"$f":"البداية!A39","v":0},null,"09-08",null,{"$f":"LOOKUP(REPT(CHAR(237),255),CHOOSE({1,2},\"\",VLOOKUP(E160,الاسناد!$A$6:$V$29,22,0)))","v":""},null,{"$f":"LOOKUP(REPT(CHAR(237),255),CHOOSE({1,2},\"\",VLOOKUP(G160,الاسناد!$A$6:$D$29,4,0)))","v":""},null,{"$f":"LOOKUP(REPT(CHAR(237),255),CHOOSE({1,2},\"\",VLOOKUP(I160,الاسناد!$A$6:$D$29,4,0)))","v":""},null,{"$f":"LOOKUP(REPT(CHAR(237),255),CHOOSE({1,2},\"\",VLOOKUP(K160,الاسناد!$A$6:$D$29,4,0)))","v":""},null,{"$f":"LOOKUP(REPT(CHAR(237),255),CHOOSE({1,2},\"\",VLOOKUP(M160,الاسناد!$A$6:$D$29,4,0)))","v":""}]
[null,null,null,"10-09",null,{"$f":"LOOKUP(REPT(CHAR(237),255),CHOOSE({1,2},\"\",VLOOKUP(E161,الاسناد!$A$6:$V$29,22,0)))","v":""},null,{"$f":"LOOKUP(REPT(CHAR(237),255),CHOOSE({1,2},\"\",VLOOKUP(G161,الاسناد!$A$6:$D$29,4,0)))","v":""},null,{"$f":"LOOKUP(REPT(CHAR(237),255),CHOOSE({1,2},\"\",VLOOKUP(I161,الاسناد!$A$6:$D$29,4,0)))","v":""},null,{"$f":"LOOKUP(REPT(CHAR(237),255),CHOOSE({1,2},\"\",VLOOKUP(K161,الاسناد!$A$6:$D$29,4,0)))","v":""},null,{"$f":"LOOKUP(REPT(CHAR(237),255),CHOOSE({1,2},\"\",VLOOKUP(M161,الاسناد!$A$6:$D$29,4,0)))","v":""}]
[null,null,null,"11-10",null,{"$f":"LOOKUP(REPT(CHAR(237),255),CHOOSE({1,2},\"\",VLOOKUP(E162,الاسناد!$A$6:$V$29,22,0)))","v":""},null,{"$f":"LOOKUP(REPT(CHAR(237),255),CHOOSE({1,2},\"\",VLOOKUP(G162,الاسناد!$A$6:$D$29,4,0)))","v":""},null,{"$f":"LOOKUP(REPT(CHAR(237),255),CHOOSE({1,2},\"\",VLOOKUP(I162,الاسناد!$A$6:$D$29,4,0)))","v":""},null,{"$f":"LOOKUP(REPT(CHAR(237),255),CHOOSE({1,2},\"\",VLOOKUP(K162,الاسناد!$A$6:$D$29,4,0)))","v":""},null,{"$f":"LOOKUP(REPT(CHAR(237),255),CHOOSE({1,2},\"\",VLOOKUP(M162,الاسناد!$A$6:$D$29,4,0)))","v":""}]
[null,null,null,"12-11",null,{"$f":"LOOKUP(REPT(CHAR(237),255),CHOOSE({1,2},\"\",VLOOKUP(E163,الاسناد!$A$6:$V$29,22,0)))","v":""},null,{"$f":"LOOKUP(REPT(CHAR(237),255),CHOOSE({1,2},\"\",VLOOKUP(G163,الاسناد!$A$6:$D$29,4,0)))","v":""},null,{"$f":"LOOKUP(REPT(CHAR(237),255),CHOOSE({1,2},\"\",VLOOKUP(I163,الاسناد!$A$6:$D$29,4,0)))","v":""},null,{"$f":"LOOKUP(REPT(CHAR(237),255),CHOOSE({1,2},\"\",VLOOKUP(K163,الاسناد!$A$6:$D$29,4,0)))","v":""},null,{"$f":"LOOKUP(REPT(CHAR(237),255),CHOOSE({1,2},\"\",VLOOKUP(M163,الاسناد!$A$6:$D$29,4,0)))","v":""}]
[null,null,null,"14-13",null,{"$f":"LOOKUP(REPT(CHAR(237),255),CHOOSE({1,2},\"\",VLOOKUP(E164,الاسناد!$A$6:$V$29,22,0)))","v":""},null,{"$f":"LOOKUP(REPT(CHAR(237),255),CHOOSE({1,2},\"\",VLOOKUP(G164,الاسناد!$A$6:$D$29,4,0)))","v":""},null,{"$f":"LOOKUP(REPT(CHAR(237),255),CHOOSE({1,2},\"\",VLOOKUP(I164,الاسناد!$A$6:$D$29,4,0)))","v":""},null,{"$f":"LOOKUP(REPT(CHAR(237),255),CHOOSE({1,2},\"\",VLOOKUP(K164,الاسناد!$A$6:$D$29,4,0)))","v":""},null,{"$f":"LOOKUP(REPT(CHAR(237),255),CHOOSE({1,2},\"\",VLOOKUP(M164,الاسناد!$A$6:$D$29,4,0)))","v":""}]
[null,null,null,"15-14",null,{"$f":"LOOKUP(REPT(CHAR(237),255),CHOOSE({1,2},\"\",VLOOKUP(E165,الاسناد!$A$6:$V$29,22,0)))","v":""},null,{"$f":"LOOKUP(REPT(CHAR(237),255),CHOOSE({1,2},\"\",VLOOKUP(G165,الاسناد!$A$6:$D$29,4,0)))","v":""},null,{"$f":"LOOKUP(REPT(CHAR(237),255),CHOOSE({1,2},\"\",VLOOKUP(I165,الاسناد!$A$6:$D$29,4,0)))","v":""},null,{"$f":"LOOKUP(REPT(CHAR(237),255),CHOOSE({1,2},\"\",VLOOKUP(K165,الاسناد!$A$6:$D$29,4,0)))","v":""},null,{"$f":"LOOKUP(REPT(CHAR(237),255),CHOOSE({1,2},\"\",VLOOKUP(M165,الاسناد!$A$6:$D$29,4,0)))","v":""}]
[null,null,null,"16-15",null,{"$f":"LOOKUP(REPT(CHAR(237),255),CHOOSE({1,2},\"\",VLOOKUP(E166,الاسناد!$A$6:$V$29,22,0)))","v":""},null,{"$f":"LOOKUP(REPT(CHAR(237),255),CHOOSE({1,2},\"\",VLOOKUP(G166,الاسناد!$A$6:$D$29,4,0)))","v":""},null,{"$f":"LOOKUP(REPT(CHAR(237),255),CHOOSE({1,2},\"\",VLOOKUP(I166,الاسناد!$A$6:$D$29,4,0)))","v":""},null,{"$f":"LOOKUP(REPT(CHAR(237),255),CHOOSE({1,2},\"\",VLOOKUP(K166,الاسناد!$A$6:$D$29,4,0)))","v":""},null,{"$f":"LOOKUP(REPT(CHAR(237),255),CHOOSE({1,2},\"\",VLOOKUP(M166,الاسناد!$A$6:$D$29,4,0)))","v":""}]
[null,null,null,"17-16",null,{"$f":"LOOKUP(REPT(CHAR(237),255),CHOOSE({1,2},\"\",VLOOKUP(E167,الاسناد!$A$6:$V$29,22,0)))","v":""},null,{"$f":"LOOKUP(REPT(CHAR(237),255),CHOOSE({1,2},\"\",VLOOKUP(G167,الاسناد!$A$6:$D$29,4,0)))","v":""},null,{"$f":"LOOKUP(REPT(CHAR(237),255),CHOOSE({1,2},\"\",VLOOKUP(I167,الاسناد!$A$6:$D$29,4,0)))","v":""},null,{"$f":"LOOKUP(REPT(CHAR(237),255),CHOOSE({1,2},\"\",VLOOKUP(K167,الاسناد!$A$6:$D$29,4,0)))","v":""},null,{"$f":"LOOKUP(REPT(CHAR(237),255),CHOOSE({1,2},\"\",VLOOKUP(M167,الاسناد!$A$6:$D$29,4,0)))","v":""}]
[21,{"$f":"البداية!A40","v":0},null,"09-08",null,{"$f":"LOOKUP(REPT(CHAR(237),255),CHOOSE({1,2},\"\",VLOOKUP(E168,الاسناد!$A$6:$W$29,23,0)))","v":""},null,{"$f":"LOOKUP(REPT(CHAR(237),255),CHOOSE({1,2},\"\",VLOOKUP(G168,الاسناد!$A$6:$W$29,23,0)))","v":""},null,{"$f":"LOOKUP(REPT(CHAR(237),255),CHOOSE({1,2},\"\",VLOOKUP(I168,الاسناد!$A$6:$D$29,4,0)))","v":""},null,{"$f":"LOOKUP(REPT(CHAR(237),255),CHOOSE({1,2},\"\",VLOOKUP(K168,الاسناد!$A$6:$D$29,4,0)))","v":""},null,{"$f":"LOOKUP(REPT(CHAR(237),255),CHOOSE({1,2},\"\",VLOOKUP(M168,الاسناد!$A$6:$D$29,4,0)))","v":""}]
[null,null,null,"10-09",null,{"$f":"LOOKUP(REPT(CHAR(237),255),CHOOSE({1,2},\"\",VLOOKUP(E169,الاسناد!$A$6:$W$29,23,0)))","v":""},null,{"$f":"LOOKUP(REPT(CHAR(237),255),CHOOSE({1,2},\"\",VLOOKUP(G169,الاسناد!$A$6:$W$29,23,0)))","v":""},null,{"$f":"LOOKUP(REPT(CHAR(237),255),CHOOSE({1,2},\"\",VLOOKUP(I169,الاسناد!$A$6:$D$29,4,0)))","v":""},null,{"$f":"LOOKUP(REPT(CHAR(237),255),CHOOSE({1,2},\"\",VLOOKUP(K169,الاسناد!$A$6:$D$29,4,0)))","v":""},null,{"$f":"LOOKUP(REPT(CHAR(237),255),CHOOSE({1,2},\"\",VLOOKUP(M169,الاسناد!$A$6:$D$29,4,0)))","v":""}]
[null,null,null,"11-10",null,{"$f":"LOOKUP(REPT(CHAR(237),255),CHOOSE({1,2},\"\",VLOOKUP(E170,الاسناد!$A$6:$W$29,23,0)))","v":""},null,{"$f":"LOOKUP(REPT(CHAR(237),255),CHOOSE({1,2},\"\",VLOOKUP(G170,الاسناد!$A$6:$W$29,23,0)))","v":""},null,{"$f":"LOOKUP(REPT(CHAR(237),255),CHOOSE({1,2},\"\",VLOOKUP(I170,الاسناد!$A$6:$D$29,4,0)))","v":""},null,{"$f":"LOOKUP(REPT(CHAR(237),255),CHOOSE({1,2},\"\",VLOOKUP(K170,الاسناد!$A$6:$D$29,4,0)))","v":""},null,{"$f":"LOOKUP(REPT(CHAR(237),255),CHOOSE({1,2},\"\",VLOOKUP(M170,الاسناد!$A$6:$D$29,4,0)))","v":""}]
[null,null,null,"12-11",null,{"$f":"LOOKUP(REPT(CHAR(237),255),CHOOSE({1,2},\"\",VLOOKUP(E171,الاسناد!$A$6:$W$29,23,0)))","v":""},null,{"$f":"LOOKUP(REPT(CHAR(237),255),CHOOSE({1,2},\"\",VLOOKUP(G171,الاسناد!$A$6:$W$29,23,0)))","v":""},null,{"$f":"LOOKUP(REPT(CHAR(237),255),CHOOSE({1,2},\"\",VLOOKUP(I171,الاسناد!$A$6:$D$29,4,0)))","v":""},null,{"$f":"LOOKUP(REPT(CHAR(237),255),CHOOSE({1,2},\"\",VLOOKUP(K171,الاسناد!$A$6:$D$29,4,0)))","v":""},null,{"$f":"LOOKUP(REPT(CHAR(237),255),CHOOSE({1,2},\"\",VLOOKUP(M171,الاسناد!$A$6:$D$29,4,0)))","v":""}]
[null,null,null,"14-13",null,{"$f":"LOOKUP(REPT(CHAR(237),255),CHOOSE({1,2},\"\",VLOOKUP(E172,الاسناد!$A$6:$W$29,23,0)))","v":""},null,{"$f":"LOOKUP(REPT(CHAR(237),255),CHOOSE({1,2},\"\",VLOOKUP(G172,الاسناد!$A$6:$W$29,23,0)))","v":""},null,{"$f":"LOOKUP(REPT(CHAR(237),255),CHOOSE({1,2},\"\",VLOOKUP(I172,الاسناد!$A$6:$D$29,4,0)))","v":""},null,{"$f":"LOOKUP(REPT(CHAR(237),255),CHOOSE({1,2},\"\",VLOOKUP(K172,الاسناد!$A$6:$D$29,4,0)))","v":""},null,{"$f":"LOOKUP(REPT(CHAR(237),255),CHOOSE({1,2},\"\",VLOOKUP(M172,الاسناد!$A$6:$D$29,4,0)))","v":""}]
[null,null,null,"15-14",null,{"$f":"LOOKUP(REPT(CHAR(237),255),CHOOSE({1,2},\"\",VLOOKUP(E173,الاسناد!$A$6:$W$29,23,0)))","v":""},null,{"$f":"LOOKUP(REPT(CHAR(237),255),CHOOSE({1,2},\"\",VLOOKUP(G173,الاسناد!$A$6:$W$29,23,0)))","v":""},null,{"$f":"LOOKUP(REPT(CHAR(237),255),CHOOSE({1,2},\"\",VLOOKUP(I173,الاسناد!$A$6:$D$29,4,0)))","v":""},null,{"$f":"LOOKUP(REPT(CHAR(237),255),CHOOSE({1,2},\"\",VLOOKUP(K173,الاسناد!$A$6:$D$29,4,0)))","v":""},null,{"$f":"LOOKUP(REPT(CHAR(237),255),CHOOSE({1,2},\"\",VLOOKUP(M173,الاسناد!$A$6:$D$29,4,0)))","v":""}]
[null,null,null,"16-15",null,{"$f":"LOOKUP(REPT(CHAR(237),255),CHOOSE({1,2},\"\",VLOOKUP(E174,الاسناد!$A$6:$W$29,23,0)))","v":""},null,{"$f":"LOOKUP(REPT(CHAR(237),255),CHOOSE({1,2},\"\",VLOOKUP(G174,الاسناد!$A$6:$W$29,23,0)))","v":""},null,{"$f":"LOOKUP(REPT(CHAR(237),255),CHOOSE({1,2},\"\",VLOOKUP(I174,الاسناد!$A$6:$D$29,4,0)))","v":""},null,{"$f":"LOOKUP(REPT(CHAR(237),255),CHOOSE({1,2},\"\",VLOOKUP(K174,الاسناد!$A$6:$D$29,4,0)))","v":""},null,{"$f":"LOOKUP(REPT(CHAR(237),255),CHOOSE({1,2},\"\",VLOOKUP(M174,الاسناد!$A$6:$D$29,4,0)))","v":""}]
[null,null,null,"17-16",null,{"$f":"LOOKUP(REPT(CHAR(237),255),CHOOSE({1,2},\"\",VLOOKUP(E175,الاسناد!$A$6:$W$29,23,0)))","v":""},null,{"$f":"LOOKUP(REPT(CHAR(237),255),CHOOSE({1,2},\"\",VLOOKUP(G175,الاسناد!$A$6:$W$29,23,0)))","v":""},null,{"$f":"LOOKUP(REPT(CHAR(237),255),CHOOSE({1,2},\"\",VLOOKUP(I175,الاسناد!$A$6:$D$29,4,0)))","v":""},null,{"$f":"LOOKUP(REPT(CHAR(237),255),CHOOSE({1,2},\"\",VLOOKUP(K175,الاسناد!$A$6:$D$29,4,0)))","v":""},null,{"$f":"LOOKUP(REPT(CHAR(237),255),CHOOSE({1,2},\"\",VLOOKUP(M175,الاسناد!$A$6:$D$29,4,0)))","v":""}]
[22,{"$f":"البداية!A41","v":0},null,"09-08",null,{"$f":"LOOKUP(REPT(CHAR(237),255),CHOOSE({1,2},\"\",VLOOKUP(E176,الاسناد!$A$6:$X$29,24,0)))","v":""},null,{"$f":"LOOKUP(REPT(CHAR(237),255),CHOOSE({1,2},\"\",VLOOKUP(G176,الاسناد!$A$6:$X$29,24,0)))","v":""},null,{"$f":"LOOKUP(REPT(CHAR(237),255),CHOOSE({1,2},\"\",VLOOKUP(I176,الاسناد!$A$6:$D$29,4,0)))","v":""},null,{"$f":"LOOKUP(REPT(CHAR(237),255),CHOOSE({1,2},\"\",VLOOKUP(K176,الاسناد!$A$6:$D$29,4,0)))","v":""},null,{"$f":"LOOKUP(REPT(CHAR(237),255),CHOOSE({1,2},\"\",VLOOKUP(M176,الاسناد!$A$6:$D$29,4,0)))","v":""}]
[null,null,null,"10-09",null,{"$f":"LOOKUP(REPT(CHAR(237),255),CHOOSE({1,2},\"\",VLOOKUP(E177,الاسناد!$A$6:$X$29,24,0)))","v":""},null,{"$f":"LOOKUP(REPT(CHAR(237),255),CHOOSE({1,2},\"\",VLOOKUP(G177,الاسناد!$A$6:$X$29,24,0)))","v":""},null,{"$f":"LOOKUP(REPT(CHAR(237),255),CHOOSE({1,2},\"\",VLOOKUP(I177,الاسناد!$A$6:$D$29,4,0)))","v":""},null,{"$f":"LOOKUP(REPT(CHAR(237),255),CHOOSE({1,2},\"\",VLOOKUP(K177,الاسناد!$A$6:$D$29,4,0)))","v":""},null,{"$f":"LOOKUP(REPT(CHAR(237),255),CHOOSE({1,2},\"\",VLOOKUP(M177,الاسناد!$A$6:$D$29,4,0)))","v":""}]
[null,null,null,"11-10",null,{"$f":"LOOKUP(REPT(CHAR(237),255),CHOOSE({1,2},\"\",VLOOKUP(E178,الاسناد!$A$6:$X$29,24,0)))","v":""},null,{"$f":"LOOKUP(REPT(CHAR(237),255),CHOOSE({1,2},\"\",VLOOKUP(G178,الاسناد!$A$6:$X$29,24,0)))","v":""},null,{"$f":"LOOKUP(REPT(CHAR(237),255),CHOOSE({1,2},\"\",VLOOKUP(I178,الاسناد!$A$6:$D$29,4,0)))","v":""},null,{"$f":"LOOKUP(REPT(CHAR(237),255),CHOOSE({1,2},\"\",VLOOKUP(K178,الاسناد!$A$6:$D$29,4,0)))","v":""},null,{"$f":"LOOKUP(REPT(CHAR(237),255),CHOOSE({1,2},\"\",VLOOKUP(M178,الاسناد!$A$6:$D$29,4,0)))","v":""}]
[null,null,null,"12-11",null,{"$f":"LOOKUP(REPT(CHAR(237),255),CHOOSE({1,2},\"\",VLOOKUP(E179,الاسناد!$A$6:$X$29,24,0)))","v":""},null,{"$f":"LOOKUP(REPT(CHAR(237),255),CHOOSE({1,2},\"\",VLOOKUP(G179,الاسناد!$A$6:$X$29,24,0)))","v":""},null,{"$f":"LOOKUP(REPT(CHAR(237),255),CHOOSE({1,2},\"\",VLOOKUP(I179,الاسناد!$A$6:$D$29,4,0)))","v":""},null,{"$f":"LOOKUP(REPT(CHAR(237),255),CHOOSE({1,2},\"\",VLOOKUP(K179,الاسناد!$A$6:$D$29,4,0)))","v":""},null,{"$f":"LOOKUP(REPT(CHAR(237),255),CHOOSE({1,2},\"\",VLOOKUP(M179,الاسناد!$A$6:$D$29,4,0)))","v":""}]
[null,null,null,"14-13",null,{"$f":"LOOKUP(REPT(CHAR(237),255),CHOOSE({1,2},\"\",VLOOKUP(E180,الاسناد!$A$6:$X$29,24,0)))","v":""},null,{"$f":"LOOKUP(REPT(CHAR(237),255),CHOOSE({1,2},\"\",VLOOKUP(G180,الاسناد!$A$6:$X$29,24,0)))","v":""},null,{"$f":"LOOKUP(REPT(CHAR(237),255),CHOOSE({1,2},\"\",VLOOKUP(I180,الاسناد!$A$6:$D$29,4,0)))","v":""},null,{"$f":"LOOKUP(REPT(CHAR(237),255),CHOOSE({1,2},\"\",VLOOKUP(K180,الاسناد!$A$6:$D$29,4,0)))","v":""},null,{"$f":"LOOKUP(REPT(CHAR(237),255),CHOOSE({1,2},\"\",VLOOKUP(M180,الاسناد!$A$6:$D$29,4,0)))","v":""}]
[null,null,null,"15-14",null,{"$f":"LOOKUP(REPT(CHAR(237),255),CHOOSE({1,2},\"\",VLOOKUP(E181,الاسناد!$A$6:$X$29,24,0)))","v":""},null,{"$f":"LOOKUP(REPT(CHAR(237),255),CHOOSE({1,2},\"\",VLOOKUP(G181,الاسناد!$A$6:$X$29,24,0)))","v":""},null,{"$f":"LOOKUP(REPT(CHAR(237),255),CHOOSE({1,2},\"\",VLOOKUP(I181,الاسناد!$A$6:$D$29,4,0)))","v":""},null,{"$f":"LOOKUP(REPT(CHAR(237),255),CHOOSE({1,2},\"\",VLOOKUP(K181,الاسناد!$A$6:$D$29,4,0)))","v":""},null,{"$f":"LOOKUP(REPT(CHAR(237),255),CHOOSE({1,2},\"\",VLOOKUP(M181,الاسناد!$A$6:$D$29,4,0)))","v":""}]
[null,null,null,"16-15",null,{"$f":"LOOKUP(REPT(CHAR(237),255),CHOOSE({1,2},\"\",VLOOKUP(E182,الاسناد!$A$6:$X$29,24,0)))","v":""},null,{"$f":"LOOKUP(REPT(CHAR(237),255),CHOOSE({1,2},\"\",VLOOKUP(G182,الاسناد!$A$6:$X$29,24,0)))","v":""},null,{"$f":"LOOKUP(REPT(CHAR(237),255),CHOOSE({1,2},\"\",VLOOKUP(I182,الاسناد!$A$6:$D$29,4,0)))","v":""},null,{"$f":"LOOKUP(REPT(CHAR(237),255),CHOOSE({1,2},\"\",VLOOKUP(K182,الاسناد!$A$6:$D$29,4,0)))","v":""},null,{"$f":"LOOKUP(REPT(CHAR(237),255),CHOOSE({1,2},\"\",VLOOKUP(M182,الاسناد!$A$6:$D$29,4,0)))","v":""}]
[null,null,null,"17-16",null,{"$f":"LOOKUP(REPT(CHAR(237),255),CHOOSE({1,2},\"\",VLOOKUP(E183,الاسناد!$A$6:$X$29,24,0)))","v":""},null,{"$f":"LOOKUP(REPT(CHAR(237),255),CHOOSE({1,2},\"\",VLOOKUP(G183,الاسناد!$A$6:$X$29,24,0)))","v":""},null,{"$f":"LOOKUP(REPT(CHAR(237),255),CHOOSE({1,2},\"\",VLOOKUP(I183,الاسناد!$A$6:$D$29,4,0)))","v":""},null,{"$f":"LOOKUP(REPT(CHAR(237),255),CHOOSE({1,2},\"\",VLOOKUP(K183,الاسناد!$A$6:$D$29,4,0)))","v":""},null,{"$f":"LOOKUP(REPT(CHAR(237),255),CHOOSE({1,2},\"\",VLOOKUP(M183,الاسناد!$A$6:$D$29,4,0)))","v":""}]
[23,{"$f":"البداية!A42","v":0},null,"09-08",null,{"$f":"LOOKUP(REPT(CHAR(237),255),CHOOSE({1,2},\"\",VLOOKUP(E184,الاسناد!$A$6:$Y$29,25,0)))","v":""},null,{"$f":"LOOKUP(REPT(CHAR(237),255),CHOOSE({1,2},\"\",VLOOKUP(G184,الاسناد!$A$6:$Y$29,25,0)))","v":""},null,{"$f":"LOOKUP(REPT(CHAR(237),255),CHOOSE({1,2},\"\",VLOOKUP(I184,الاسناد!$A$6:$D$29,4,0)))","v":""},null,{"$f":"LOOKUP(REPT(CHAR(237),255),CHOOSE({1,2},\"\",VLOOKUP(K184,الاسناد!$A$6:$D$29,4,0)))","v":""},null,{"$f":"LOOKUP(REPT(CHAR(237),255),CHOOSE({1,2},\"\",VLOOKUP(M184,الاسناد!$A$6:$D$29,4,0)))","v":""}]
[null,null,null,"10-09",null,{"$f":"LOOKUP(REPT(CHAR(237),255),CHOOSE({1,2},\"\",VLOOKUP(E185,الاسناد!$A$6:$Y$29,25,0)))","v":""},null,{"$f":"LOOKUP(REPT(CHAR(237),255),CHOOSE({1,2},\"\",VLOOKUP(G185,الاسناد!$A$6:$Y$29,25,0)))","v":""},null,{"$f":"LOOKUP(REPT(CHAR(237),255),CHOOSE({1,2},\"\",VLOOKUP(I185,الاسناد!$A$6:$D$29,4,0)))","v":""},null,{"$f":"LOOKUP(REPT(CHAR(237),255),CHOOSE({1,2},\"\",VLOOKUP(K185,الاسناد!$A$6:$D$29,4,0)))","v":""},null,{"$f":"LOOKUP(REPT(CHAR(237),255),CHOOSE({1,2},\"\",VLOOKUP(M185,الاسناد!$A$6:$D$29,4,0)))","v":""}]
[null,null,null,"11-10",null,{"$f":"LOOKUP(REPT(CHAR(237),255),CHOOSE({1,2},\"\",VLOOKUP(E186,الاسناد!$A$6:$Y$29,25,0)))","v":""},null,{"$f":"LOOKUP(REPT(CHAR(237),255),CHOOSE({1,2},\"\",VLOOKUP(G186,الاسناد!$A$6:$Y$29,25,0)))","v":""},null,{"$f":"LOOKUP(REPT(CHAR(237),255),CHOOSE({1,2},\"\",VLOOKUP(I186,الاسناد!$A$6:$D$29,4,0)))","v":""},null,{"$f":"LOOKUP(REPT(CHAR(237),255),CHOOSE({1,2},\"\",VLOOKUP(K186,الاسناد!$A$6:$D$29,4,0)))","v":""},null,{"$f":"LOOKUP(REPT(CHAR(237),255),CHOOSE({1,2},\"\",VLOOKUP(M186,الاسناد!$A$6:$D$29,4,0)))","v":""}]
[null,null,null,"12-11",null,{"$f":"LOOKUP(REPT(CHAR(237),255),CHOOSE({1,2},\"\",VLOOKUP(E187,الاسناد!$A$6:$Y$29,25,0)))","v":""},null,{"$f":"LOOKUP(REPT(CHAR(237),255),CHOOSE({1,2},\"\",VLOOKUP(G187,الاسناد!$A$6:$Y$29,25,0)))","v":""},null,{"$f":"LOOKUP(REPT(CHAR(237),255),CHOOSE({1,2},\"\",VLOOKUP(I187,الاسناد!$A$6:$D$29,4,0)))","v":""},null,{"$f":"LOOKUP(REPT(CHAR(237),255),CHOOSE({1,2},\"\",VLOOKUP(K187,الاسناد!$A$6:$D$29,4,0)))","v":""},null,{"$f":"LOOKUP(REPT(CHAR(237),255),CHOOSE({1,2},\"\",VLOOKUP(M187,الاسناد!$A$6:$D$29,4,0)))","v":""}]
[null,null,null,"14-13",null,{"$f":"LOOKUP(REPT(CHAR(237),255),CHOOSE({1,2},\"\",VLOOKUP(E188,الاسناد!$A$6:$Y$29,25,0)))","v":""},null,{"$f":"LOOKUP(REPT(CHAR(237),255),CHOOSE({1,2},\"\",VLOOKUP(G188,الاسناد!$A$6:$Y$29,25,0)))","v":""},null,{"$f":"LOOKUP(REPT(CHAR(237),255),CHOOSE({1,2},\"\",VLOOKUP(I188,الاسناد!$A$6:$D$29,4,0)))","v":""},null,{"$f":"LOOKUP(REPT(CHAR(237),255),CHOOSE({1,2},\"\",VLOOKUP(K188,الاسناد!$A$6:$D$29,4,0)))","v":""},null,{"$f":"LOOKUP(REPT(CHAR(237),255),CHOOSE({1,2},\"\",VLOOKUP(M188,الاسناد!$A$6:$D$29,4,0)))","v":""}]
[null,null,null,"15-14",null,{"$f":"LOOKUP(REPT(CHAR(237),255),CHOOSE({1,2},\"\",VLOOKUP(E189,الاسناد!$A$6:$Y$29,25,0)))","v":""},null,{"$f":"LOOKUP(REPT(CHAR(237),255),CHOOSE({1,2},\"\",VLOOKUP(G189,الاسناد!$A$6:$Y$29,25,0)))","v":""},null,{"$f":"LOOKUP(REPT(CHAR(237),255),CHOOSE({1,2},\"\",VLOOKUP(I189,الاسناد!$A$6:$D$29,4,0)))","v":""},null,{"$f":"LOOKUP(REPT(CHAR(237),255),CHOOSE({1,2},\"\",VLOOKUP(K189,الاسناد!$A$6:$D$29,4,0)))","v":""},null,{"$f":"LOOKUP(REPT(CHAR(237),255),CHOOSE({1,2},\"\",VLOOKUP(M189,الاسناد!$A$6:$D$29,4,0)))","v":""}]
[null,null,null,"16-15",null,{"$f":"LOOKUP(REPT(CHAR(237),255),CHOOSE({1,2},\"\",VLOOKUP(E190,الاسناد!$A$6:$Y$29,25,0)))","v":""},null,{"$f":"LOOKUP(REPT(CHAR(237),255),CHOOSE({1,2},\"\",VLOOKUP(G190,الاسناد!$A$6:$Y$29,25,0)))","v":""},null,{"$f":"LOOKUP(REPT(CHAR(237),255),CHOOSE({1,2},\"\",VLOOKUP(I190,الاسناد!$A$6:$D$29,4,0)))","v":""},null,{"$f":"LOOKUP(REPT(CHAR(237),255),CHOOSE({1,2},\"\",VLOOKUP(K190,الاسناد!$A$6:$D$29,4,0)))","v":""},null,{"$f":"LOOKUP(REPT(CHAR(237),255),CHOOSE({1,2},\"\",VLOOKUP(M190,الاسناد!$A$6:$D$29,4,0)))","v":""}]
[null,null,null,"17-16",null,{"$f":"LOOKUP(REPT(CHAR(237),255),CHOOSE({1,2},\"\",VLOOKUP(E191,الاسناد!$A$6:$Y$29,25,0)))","v":""},null,{"$f":"LOOKUP(REPT(CHAR(237),255),CHOOSE({1,2},\"\",VLOOKUP(G191,الاسناد!$A$6:$Y$29,25,0)))","v":""},null,{"$f":"LOOKUP(REPT(CHAR(237),255),CHOOSE({1,2},\"\",VLOOKUP(I191,الاسناد!$A$6:$D$29,4,0)))","v":""},null,{"$f":"LOOKUP(REPT(CHAR(237),255),CHOOSE({1,2},\"\",VLOOKUP(K191,الاسناد!$A$6:$D$29,4,0)))","v":""},null,{"$f":"LOOKUP(REPT(CHAR(237),255),CHOOSE({1,2},\"\",VLOOKUP(M191,الاسناد!$A$6:$D$29,4,0)))","v":""}]
[24,{"$f":"البداية!A43","v":0},null,"09-08",null,{"$f":"LOOKUP(REPT(CHAR(237),255),CHOOSE({1,2},\"\",VLOOKUP(E192,الاسناد!$A$6:$Z$29,26,0)))","v":""},null,{"$f":"LOOKUP(REPT(CHAR(237),255),CHOOSE({1,2},\"\",VLOOKUP(G192,الاسناد!$A$6:$Z$29,26,0)))","v":""},null,{"$f":"LOOKUP(REPT(CHAR(237),255),CHOOSE({1,2},\"\",VLOOKUP(I192,الاسناد!$A$6:$D$29,4,0)))","v":""},null,{"$f":"LOOKUP(REPT(CHAR(237),255),CHOOSE({1,2},\"\",VLOOKUP(K192,الاسناد!$A$6:$D$29,4,0)))","v":""},null,{"$f":"LOOKUP(REPT(CHAR(237),255),CHOOSE({1,2},\"\",VLOOKUP(M192,الاسناد!$A$6:$D$29,4,0)))","v":""}]
[null,null,null,"10-09",null,{"$f":"LOOKUP(REPT(CHAR(237),255),CHOOSE({1,2},\"\",VLOOKUP(E193,الاسناد!$A$6:$Z$29,26,0)))","v":""},null,{"$f":"LOOKUP(REPT(CHAR(237),255),CHOOSE({1,2},\"\",VLOOKUP(G193,الاسناد!$A$6:$Z$29,26,0)))","v":""},null,{"$f":"LOOKUP(REPT(CHAR(237),255),CHOOSE({1,2},\"\",VLOOKUP(I193,الاسناد!$A$6:$D$29,4,0)))","v":""},null,{"$f":"LOOKUP(REPT(CHAR(237),255),CHOOSE({1,2},\"\",VLOOKUP(K193,الاسناد!$A$6:$D$29,4,0)))","v":""},null,{"$f":"LOOKUP(REPT(CHAR(237),255),CHOOSE({1,2},\"\",VLOOKUP(M193,الاسناد!$A$6:$D$29,4,0)))","v":""}]
[null,null,null,"11-10",null,{"$f":"LOOKUP(REPT(CHAR(237),255),CHOOSE({1,2},\"\",VLOOKUP(E194,الاسناد!$A$6:$Z$29,26,0)))","v":""},null,{"$f":"LOOKUP(REPT(CHAR(237),255),CHOOSE({1,2},\"\",VLOOKUP(G194,الاسناد!$A$6:$Z$29,26,0)))","v":""},null,{"$f":"LOOKUP(REPT(CHAR(237),255),CHOOSE({1,2},\"\",VLOOKUP(I194,الاسناد!$A$6:$D$29,4,0)))","v":""},null,{"$f":"LOOKUP(REPT(CHAR(237),255),CHOOSE({1,2},\"\",VLOOKUP(K194,الاسناد!$A$6:$D$29,4,0)))","v":""},null,{"$f":"LOOKUP(REPT(CHAR(237),255),CHOOSE({1,2},\"\",VLOOKUP(M194,الاسناد!$A$6:$D$29,4,0)))","v":""}]
[null,null,null,"12-11",null,{"$f":"LOOKUP(REPT(CHAR(237),255),CHOOSE({1,2},\"\",VLOOKUP(E195,الاسناد!$A$6:$Z$29,26,0)))","v":""},null,{"$f":"LOOKUP(REPT(CHAR(237),255),CHOOSE({1,2},\"\",VLOOKUP(G195,الاسناد!$A$6:$Z$29,26,0)))","v":""},null,{"$f":"LOOKUP(REPT(CHAR(237),255),CHOOSE({1,2},\"\",VLOOKUP(I195,الاسناد!$A$6:$D$29,4,0)))","v":""},null,{"$f":"LOOKUP(REPT(CHAR(237),255),CHOOSE({1,2},\"\",VLOOKUP(K195,الاسناد!$A$6:$D$29,4,0)))","v":""},null,{"$f":"LOOKUP(REPT(CHAR(237),255),CHOOSE({1,2},\"\",VLOOKUP(M195,الاسناد!$A$6:$D$29,4,0)))","v":""}]
[null,null,null,"14-13",null,{"$f":"LOOKUP(REPT(CHAR(237),255),CHOOSE({1,2},\"\",VLOOKUP(E196,الاسناد!$A$6:$Z$29,26,0)))","v":""},null,{"$f":"LOOKUP(REPT(CHAR(237),255),CHOOSE({1,2},\"\",VLOOKUP(G196,الاسناد!$A$6:$Z$29,26,0)))","v":""},null,{"$f":"LOOKUP(REPT(CHAR(237),255),CHOOSE({1,2},\"\",VLOOKUP(I196,الاسناد!$A$6:$D$29,4,0)))","v":""},null,{"$f":"LOOKUP(REPT(CHAR(237),255),CHOOSE({1,2},\"\",VLOOKUP(K196,الاسناد!$A$6:$D$29,4,0)))","v":""},null,{"$f":"LOOKUP(REPT(CHAR(237),255),CHOOSE({1,2},\"\",VLOOKUP(M196,الاسناد!$A$6:$D$29,4,0)))","v":""}]
[null,null,null,"15-14",null,{"$f":"LOOKUP(REPT(CHAR(237),255),CHOOSE({1,2},\"\",VLOOKUP(E197,الاسناد!$A$6:$Z$29,26,0)))","v":""},null,{"$f":"LOOKUP(REPT(CHAR(237),255),CHOOSE({1,2},\"\",VLOOKUP(G197,الاسناد!$A$6:$Z$29,26,0)))","v":""},null,{"$f":"LOOKUP(REPT(CHAR(237),255),CHOOSE({1,2},\"\",VLOOKUP(I197,الاسناد!$A$6:$D$29,4,0)))","v":""},null,{"$f":"LOOKUP(REPT(CHAR(237),255),CHOOSE({1,2},\"\",VLOOKUP(K197,الاسناد!$A$6:$D$29,4,0)))","v":""},null,{"$f":"LOOKUP(REPT(CHAR(237),255),CHOOSE({1,2},\"\",VLOOKUP(M197,الاسناد!$A$6:$D$29,4,0)))","v":""}]
[null,null,null,"16-15",null,{"$f":"LOOKUP(REPT(CHAR(237),255),CHOOSE({1,2},\"\",VLOOKUP(E198,الاسناد!$A$6:$Z$29,26,0)))","v":""},null,{"$f":"LOOKUP(REPT(CHAR(237),255),CHOOSE({1,2},\"\",VLOOKUP(G198,الاسناد!$A$6:$Z$29,26,0)))","v":""},null,{"$f":"LOOKUP(REPT(CHAR(237),255),CHOOSE({1,2},\"\",VLOOKUP(I198,الاسناد!$A$6:$D$29,4,0)))","v":""},null,{"$f":"LOOKUP(REPT(CHAR(237),255),CHOOSE({1,2},\"\",VLOOKUP(K198,الاسناد!$A$6:$D$29,4,0)))","v":""},null,{"$f":"LOOKUP(REPT(CHAR(237),255),CHOOSE({1,2},\"\",VLOOKUP(M198,الاسناد!$A$6:$D$29,4,0)))","v":""}]
[null,null,null,"17-16",null,{"$f":"LOOKUP(REPT(CHAR(237),255),CHOOSE({1,2},\"\",VLOOKUP(E199,الاسناد!$A$6:$Z$29,26,0)))","v":""},null,{"$f":"LOOKUP(REPT(CHAR(237),255),CHOOSE({1,2},\"\",VLOOKUP(G199,الاسناد!$A$6:$Z$29,26,0)))","v":""},null,{"$f":"LOOKUP(REPT(CHAR(237),255),CHOOSE({1,2},\"\",VLOOKUP(I199,الاسناد!$A$6:$D$29,4,0)))","v":""},null,{"$f":"LOOKUP(REPT(CHAR(237),255),CHOOSE({1,2},\"\",VLOOKUP(K199,الاسناد!$A$6:$D$29,4,0)))","v":""},null,{"$f":"LOOKUP(REPT(CHAR(237),255),CHOOSE({1,2},\"\",VLOOKUP(M199,الاسناد!$A$6:$D$29,4,0)))","v":""}]
[25,{"$f":"البداية!A44","v":0},null,"09-08",null,{"$f":"LOOKUP(REPT(CHAR(237),255),CHOOSE({1,2},\"\",VLOOKUP(E200,الاسناد!$A$6:$AA$29,27,0)))","v":""},null,{"$f":"LOOKUP(REPT(CHAR(237),255),CHOOSE({1,2},\"\",VLOOKUP(G200,الاسناد!$A$6:$AA$29,27,0)))","v":""},null,{"$f":"LOOKUP(REPT(CHAR(237),255),CHOOSE({1,2},\"\",VLOOKUP(I200,الاسناد!$A$6:$D$29,4,0)))","v":""},null,{"$f":"LOOKUP(REPT(CHAR(237),255),CHOOSE({1,2},\"\",VLOOKUP(K200,الاسناد!$A$6:$D$29,4,0)))","v":""},null,{"$f":"LOOKUP(REPT(CHAR(237),255),CHOOSE({1,2},\"\",VLOOKUP(M200,الاسناد!$A$6:$D$29,4,0)))","v":""}]
[null,null,null,"10-09",null,{"$f":"LOOKUP(REPT(CHAR(237),255),CHOOSE({1,2},\"\",VLOOKUP(E201,الاسناد!$A$6:$AA$29,27,0)))","v":""},null,{"$f":"LOOKUP(REPT(CHAR(237),255),CHOOSE({1,2},\"\",VLOOKUP(G201,الاسناد!$A$6:$AA$29,27,0)))","v":""},null,{"$f":"LOOKUP(REPT(CHAR(237),255),CHOOSE({1,2},\"\",VLOOKUP(I201,الاسناد!$A$6:$D$29,4,0)))","v":""},null,{"$f":"LOOKUP(REPT(CHAR(237),255),CHOOSE({1,2},\"\",VLOOKUP(K201,الاسناد!$A$6:$D$29,4,0)))","v":""},null,{"$f":"LOOKUP(REPT(CHAR(237),255),CHOOSE({1,2},\"\",VLOOKUP(M201,الاسناد!$A$6:$D$29,4,0)))","v":""}]
[null,null,null,"11-10",null,{"$f":"LOOKUP(REPT(CHAR(237),255),CHOOSE({1,2},\"\",VLOOKUP(E202,الاسناد!$A$6:$AA$29,27,0)))","v":""},null,{"$f":"LOOKUP(REPT(CHAR(237),255),CHOOSE({1,2},\"\",VLOOKUP(G202,الاسناد!$A$6:$AA$29,27,0)))","v":""},null,{"$f":"LOOKUP(REPT(CHAR(237),255),CHOOSE({1,2},\"\",VLOOKUP(I202,الاسناد!$A$6:$D$29,4,0)))","v":""},null,{"$f":"LOOKUP(REPT(CHAR(237),255),CHOOSE({1,2},\"\",VLOOKUP(K202,الاسناد!$A$6:$D$29,4,0)))","v":""},null,{"$f":"LOOKUP(REPT(CHAR(237),255),CHOOSE({1,2},\"\",VLOOKUP(M202,الاسناد!$A$6:$D$29,4,0)))","v":""}]
[null,null,null,"12-11",null,{"$f":"LOOKUP(REPT(CHAR(237),255),CHOOSE({1,2},\"\",VLOOKUP(E203,الاسناد!$A$6:$AA$29,27,0)))","v":""},null,{"$f":"LOOKUP(REPT(CHAR(237),255),CHOOSE({1,2},\"\",VLOOKUP(G203,الاسناد!$A$6:$AA$29,27,0)))","v":""},null,{"$f":"LOOKUP(REPT(CHAR(237),255),CHOOSE({1,2},\"\",VLOOKUP(I203,الاسناد!$A$6:$D$29,4,0)))","v":""},null,{"$f":"LOOKUP(REPT(CHAR(237),255),CHOOSE({1,2},\"\",VLOOKUP(K203,الاسناد!$A$6:$D$29,4,0)))","v":""},null,{"$f":"LOOKUP(REPT(CHAR(237),255),CHOOSE({1,2},\"\",VLOOKUP(M203,الاسناد!$A$6:$D$29,4,0)))","v":""}]
[null,null,null,"14-13",null,{"$f":"LOOKUP(REPT(CHAR(237),255),CHOOSE({1,2},\"\",VLOOKUP(E204,الاسناد!$A$6:$AA$29,27,0)))","v":""},null,{"$f":"LOOKUP(REPT(CHAR(237),255),CHOOSE({1,2},\"\",VLOOKUP(G204,الاسناد!$A$6:$AA$29,27,0)))","v":""},null,{"$f":"LOOKUP(REPT(CHAR(237),255),CHOOSE({1,2},\"\",VLOOKUP(I204,الاسناد!$A$6:$D$29,4,0)))","v":""},null,{"$f":"LOOKUP(REPT(CHAR(237),255),CHOOSE({1,2},\"\",VLOOKUP(K204,الاسناد!$A$6:$D$29,4,0)))","v":""},null,{"$f":"LOOKUP(REPT(CHAR(237),255),CHOOSE({1,2},\"\",VLOOKUP(M204,الاسناد!$A$6:$D$29,4,0)))","v":""}]
[null,null,null,"15-14",null,{"$f":"LOOKUP(REPT(CHAR(237),255),CHOOSE({1,2},\"\",VLOOKUP(E205,الاسناد!$A$6:$AA$29,27,0)))","v":""},null,{"$f":"LOOKUP(REPT(CHAR(237),255),CHOOSE({1,2},\"\",VLOOKUP(G205,الاسناد!$A$6:$AA$29,27,0)))","v":""},null,{"$f":"LOOKUP(REPT(CHAR(237),255),CHOOSE({1,2},\"\",VLOOKUP(I205,الاسناد!$A$6:$D$29,4,0)))","v":""},null,{"$f":"LOOKUP(REPT(CHAR(237),255),CHOOSE({1,2},\"\",VLOOKUP(K205,الاسناد!$A$6:$D$29,4,0)))","v":""},null,{"$f":"LOOKUP(REPT(CHAR(237),255),CHOOSE({1,2},\"\",VLOOKUP(M205,الاسناد!$A$6:$D$29,4,0)))","v":""}]
[null,null,null,"16-15",null,{"$f":"LOOKUP(REPT(CHAR(237),255),CHOOSE({1,2},\"\",VLOOKUP(E206,الاسناد!$A$6:$AA$29,27,0)))","v":""},null,{"$f":"LOOKUP(REPT(CHAR(237),255),CHOOSE({1,2},\"\",VLOOKUP(G206,الاسناد!$A$6:$AA$29,27,0)))","v":""},null,{"$f":"LOOKUP(REPT(CHAR(237),255),CHOOSE({1,2},\"\",VLOOKUP(I206,الاسناد!$A$6:$D$29,4,0)))","v":""},null,{"$f":"LOOKUP(REPT(CHAR(237),255),CHOOSE({1,2},\"\",VLOOKUP(K206,الاسناد!$A$6:$D$29,4,0)))","v":""},null,{"$f":"LOOKUP(REPT(CHAR(237),255),CHOOSE({1,2},\"\",VLOOKUP(M206,الاسناد!$A$6:$D$29,4,0)))","v":""}]
[null,null,null,"17-16",null,{"$f":"LOOKUP(REPT(CHAR(237),255),CHOOSE({1,2},\"\",VLOOKUP(E207,الاسناد!$A$6:$AA$29,27,0)))","v":""},null,{"$f":"LOOKUP(REPT(CHAR(237),255),CHOOSE({1,2},\"\",VLOOKUP(G207,الاسناد!$A$6:$AA$29,27,0)))","v":""},null,{"$f":"LOOKUP(REPT(CHAR(237),255),CHOOSE({1,2},\"\",VLOOKUP(I207,الاسناد!$A$6:$D$29,4,0)))","v":""},null,{"$f":"LOOKUP(REPT(CHAR(237),255),CHOOSE({1,2},\"\",VLOOKUP(K207,الاسناد!$A$6:$D$29,4,0)))","v":""},null,{"$f":"LOOKUP(REPT(CHAR(237),255),CHOOSE({1,2},\"\",VLOOKUP(M207,الاسناد!$A$6:$D$29,4,0)))","v":""}]
[26,{"$f":"البداية!A45","v":0},null,"09-08",null,{"$f":"LOOKUP(REPT(CHAR(237),255),CHOOSE({1,2},\"\",VLOOKUP(E208,الاسناد!$A$6:$AB$29,28,0)))","v":""},null,{"$f":"LOOKUP(REPT(CHAR(237),255),CHOOSE({1,2},\"\",VLOOKUP(G208,الاسناد!$A$6:$AB$29,28,0)))","v":""},null,{"$f":"LOOKUP(REPT(CHAR(237),255),CHOOSE({1,2},\"\",VLOOKUP(I208,الاسناد!$A$6:$D$29,4,0)))","v":""},null,{"$f":"LOOKUP(REPT(CHAR(237),255),CHOOSE({1,2},\"\",VLOOKUP(K208,الاسناد!$A$6:$D$29,4,0)))","v":""},null,{"$f":"LOOKUP(REPT(CHAR(237),255),CHOOSE({1,2},\"\",VLOOKUP(M208,الاسناد!$A$6:$D$29,4,0)))","v":""}]
[null,null,null,"10-09",null,{"$f":"LOOKUP(REPT(CHAR(237),255),CHOOSE({1,2},\"\",VLOOKUP(E209,الاسناد!$A$6:$AB$29,28,0)))","v":""},null,{"$f":"LOOKUP(REPT(CHAR(237),255),CHOOSE({1,2},\"\",VLOOKUP(G209,الاسناد!$A$6:$AB$29,28,0)))","v":""},null,{"$f":"LOOKUP(REPT(CHAR(237),255),CHOOSE({1,2},\"\",VLOOKUP(I209,الاسناد!$A$6:$D$29,4,0)))","v":""},null,{"$f":"LOOKUP(REPT(CHAR(237),255),CHOOSE({1,2},\"\",VLOOKUP(K209,الاسناد!$A$6:$D$29,4,0)))","v":""},null,{"$f":"LOOKUP(REPT(CHAR(237),255),CHOOSE({1,2},\"\",VLOOKUP(M209,الاسناد!$A$6:$D$29,4,0)))","v":""}]
[null,null,null,"11-10",null,{"$f":"LOOKUP(REPT(CHAR(237),255),CHOOSE({1,2},\"\",VLOOKUP(E210,الاسناد!$A$6:$AB$29,28,0)))","v":""},null,{"$f":"LOOKUP(REPT(CHAR(237),255),CHOOSE({1,2},\"\",VLOOKUP(G210,الاسناد!$A$6:$AB$29,28,0)))","v":""},null,{"$f":"LOOKUP(REPT(CHAR(237),255),CHOOSE({1,2},\"\",VLOOKUP(I210,الاسناد!$A$6:$D$29,4,0)))","v":""},null,{"$f":"LOOKUP(REPT(CHAR(237),255),CHOOSE({1,2},\"\",VLOOKUP(K210,الاسناد!$A$6:$D$29,4,0)))","v":""},null,{"$f":"LOOKUP(REPT(CHAR(237),255),CHOOSE({1,2},\"\",VLOOKUP(M210,الاسناد!$A$6:$D$29,4,0)))","v":""}]
[null,null,null,"12-11",null,{"$f":"LOOKUP(REPT(CHAR(237),255),CHOOSE({1,2},\"\",VLOOKUP(E211,الاسناد!$A$6:$AB$29,28,0)))","v":""},null,{"$f":"LOOKUP(REPT(CHAR(237),255),CHOOSE({1,2},\"\",VLOOKUP(G211,الاسناد!$A$6:$AB$29,28,0)))","v":""},null,{"$f":"LOOKUP(REPT(CHAR(237),255),CHOOSE({1,2},\"\",VLOOKUP(I211,الاسناد!$A$6:$D$29,4,0)))","v":""},null,{"$f":"LOOKUP(REPT(CHAR(237),255),CHOOSE({1,2},\"\",VLOOKUP(K211,الاسناد!$A$6:$D$29,4,0)))","v":""},null,{"$f":"LOOKUP(REPT(CHAR(237),255),CHOOSE({1,2},\"\",VLOOKUP(M211,الاسناد!$A$6:$D$29,4,0)))","v":""}]
[null,null,null,"14-13",null,{"$f":"LOOKUP(REPT(CHAR(237),255),CHOOSE({1,2},\"\",VLOOKUP(E212,الاسناد!$A$6:$AB$29,28,0)))","v":""},null,{"$f":"LOOKUP(REPT(CHAR(237),255),CHOOSE({1,2},\"\",VLOOKUP(G212,الاسناد!$A$6:$AB$29,28,0)))","v":""},null,{"$f":"LOOKUP(REPT(CHAR(237),255),CHOOSE({1,2},\"\",VLOOKUP(I212,الاسناد!$A$6:$D$29,4,0)))","v":""},null,{"$f":"LOOKUP(REPT(CHAR(237),255),CHOOSE({1,2},\"\",VLOOKUP(K212,الاسناد!$A$6:$D$29,4,0)))","v":""},null,{"$f":"LOOKUP(REPT(CHAR(237),255),CHOOSE({1,2},\"\",VLOOKUP(M212,الاسناد!$A$6:$D$29,4,0)))","v":""}]
[null,null,null,"15-14",null,{"$f":"LOOKUP(REPT(CHAR(237),255),CHOOSE({1,2},\"\",VLOOKUP(E213,الاسناد!$A$6:$AB$29,28,0)))","v":""},null,{"$f":"LOOKUP(REPT(CHAR(237),255),CHOOSE({1,2},\"\",VLOOKUP(G213,الاسناد!$A$6:$AB$29,28,0)))","v":""},null,{"$f":"LOOKUP(REPT(CHAR(237),255),CHOOSE({1,2},\"\",VLOOKUP(I213,الاسناد!$A$6:$D$29,4,0)))","v":""},null,{"$f":"LOOKUP(REPT(CHAR(237),255),CHOOSE({1,2},\"\",VLOOKUP(K213,الاسناد!$A$6:$D$29,4,0)))","v":""},null,{"$f":"LOOKUP(REPT(CHAR(237),255),CHOOSE({1,2},\"\",VLOOKUP(M213,الاسناد!$A$6:$D$29,4,0)))","v":""}]
[null,null,null,"16-15",null,{"$f":"LOOKUP(REPT(CHAR(237),255),CHOOSE({1,2},\"\",VLOOKUP(E214,الاسناد!$A$6:$AB$29,28,0)))","v":""},null,{"$f":"LOOKUP(REPT(CHAR(237),255),CHOOSE({1,2},\"\",VLOOKUP(G214,الاسناد!$A$6:$AB$29,28,0)))","v":""},null,{"$f":"LOOKUP(REPT(CHAR(237),255),CHOOSE({1,2},\"\",VLOOKUP(I214,الاسناد!$A$6:$D$29,4,0)))","v":""},null,{"$f":"LOOKUP(REPT(CHAR(237),255),CHOOSE({1,2},\"\",VLOOKUP(K214,الاسناد!$A$6:$D$29,4,0)))","v":""},null,{"$f":"LOOKUP(REPT(CHAR(237),255),CHOOSE({1,2},\"\",VLOOKUP(M214,الاسناد!$A$6:$D$29,4,0)))","v":""}]
[null,null,null,"17-16",null,{"$f":"LOOKUP(REPT(CHAR(237),255),CHOOSE({1,2},\"\",VLOOKUP(E215,الاسناد!$A$6:$AB$29,28,0)))","v":""},null,{"$f":"LOOKUP(REPT(CHAR(237),255),CHOOSE({1,2},\"\",VLOOKUP(G215,الاسناد!$A$6:$AB$29,28,0)))","v":""},null,{"$f":"LOOKUP(REPT(CHAR(237),255),CHOOSE({1,2},\"\",VLOOKUP(I215,الاسناد!$A$6:$D$29,4,0)))","v":""},null,{"$f":"LOOKUP(REPT(CHAR(237),255),CHOOSE({1,2},\"\",VLOOKUP(K215,الاسناد!$A$6:$D$29,4,0)))","v":""},null,{"$f":"LOOKUP(REPT(CHAR(237),255),CHOOSE({1,2},\"\",VLOOKUP(M215,الاسناد!$A$6:$D$29,4,0)))","v":""}]
[27,{"$f":"البداية!A46","v":0},null,"09-08",null,{"$f":"LOOKUP(REPT(CHAR(237),255),CHOOSE({1,2},\"\",VLOOKUP(E216,الاسناد!$A$6:$AC$29,29,0)))","v":""},null,{"$f":"LOOKUP(REPT(CHAR(237),255),CHOOSE({1,2},\"\",VLOOKUP(G216,الاسناد!$A$6:$AC$29,29,0)))","v":""},null,{"$f":"LOOKUP(REPT(CHAR(237),255),CHOOSE({1,2},\"\",VLOOKUP(I216,الاسناد!$A$6:$D$29,4,0)))","v":""},null,{"$f":"LOOKUP(REPT(CHAR(237),255),CHOOSE({1,2},\"\",VLOOKUP(K216,الاسناد!$A$6:$D$29,4,0)))","v":""},null,{"$f":"LOOKUP(REPT(CHAR(237),255),CHOOSE({1,2},\"\",VLOOKUP(M216,الاسناد!$A$6:$D$29,4,0)))","v":""}]
[null,null,null,"10-09",null,{"$f":"LOOKUP(REPT(CHAR(237),255),CHOOSE({1,2},\"\",VLOOKUP(E217,الاسناد!$A$6:$AC$29,29,0)))","v":""},null,{"$f":"LOOKUP(REPT(CHAR(237),255),CHOOSE({1,2},\"\",VLOOKUP(G217,الاسناد!$A$6:$AC$29,29,0)))","v":""},null,{"$f":"LOOKUP(REPT(CHAR(237),255),CHOOSE({1,2},\"\",VLOOKUP(I217,الاسناد!$A$6:$AC$29,29,0)))","v":""},null,{"$f":"LOOKUP(REPT(CHAR(237),255),CHOOSE({1,2},\"\",VLOOKUP(K217,الاسناد!$A$6:$D$29,4,0)))","v":""},null,{"$f":"LOOKUP(REPT(CHAR(237),255),CHOOSE({1,2},\"\",VLOOKUP(M217,الاسناد!$A$6:$D$29,4,0)))","v":""}]
[null,null,null,"11-10",null,{"$f":"LOOKUP(REPT(CHAR(237),255),CHOOSE({1,2},\"\",VLOOKUP(E218,الاسناد!$A$6:$AC$29,29,0)))","v":""},null,{"$f":"LOOKUP(REPT(CHAR(237),255),CHOOSE({1,2},\"\",VLOOKUP(G218,الاسناد!$A$6:$AC$29,29,0)))","v":""},null,{"$f":"LOOKUP(REPT(CHAR(237),255),CHOOSE({1,2},\"\",VLOOKUP(I218,الاسناد!$A$6:$AC$29,29,0)))","v":""},null,{"$f":"LOOKUP(REPT(CHAR(237),255),CHOOSE({1,2},\"\",VLOOKUP(K218,الاسناد!$A$6:$D$29,4,0)))","v":""},null,{"$f":"LOOKUP(REPT(CHAR(237),255),CHOOSE({1,2},\"\",VLOOKUP(M218,الاسناد!$A$6:$D$29,4,0)))","v":""}]
[null,null,null,"12-11",null,{"$f":"LOOKUP(REPT(CHAR(237),255),CHOOSE({1,2},\"\",VLOOKUP(E219,الاسناد!$A$6:$AC$29,29,0)))","v":""},null,{"$f":"LOOKUP(REPT(CHAR(237),255),CHOOSE({1,2},\"\",VLOOKUP(G219,الاسناد!$A$6:$AC$29,29,0)))","v":""},null,{"$f":"LOOKUP(REPT(CHAR(237),255),CHOOSE({1,2},\"\",VLOOKUP(I219,الاسناد!$A$6:$AC$29,29,0)))","v":""},null,{"$f":"LOOKUP(REPT(CHAR(237),255),CHOOSE({1,2},\"\",VLOOKUP(K219,الاسناد!$A$6:$D$29,4,0)))","v":""},null,{"$f":"LOOKUP(REPT(CHAR(237),255),CHOOSE({1,2},\"\",VLOOKUP(M219,الاسناد!$A$6:$D$29,4,0)))","v":""}]
[null,null,null,"14-13",null,{"$f":"LOOKUP(REPT(CHAR(237),255),CHOOSE({1,2},\"\",VLOOKUP(E220,الاسناد!$A$6:$AC$29,29,0)))","v":""},null,{"$f":"LOOKUP(REPT(CHAR(237),255),CHOOSE({1,2},\"\",VLOOKUP(G220,الاسناد!$A$6:$AC$29,29,0)))","v":""},null,{"$f":"LOOKUP(REPT(CHAR(237),255),CHOOSE({1,2},\"\",VLOOKUP(I220,الاسناد!$A$6:$AC$29,29,0)))","v":""},null,{"$f":"LOOKUP(REPT(CHAR(237),255),CHOOSE({1,2},\"\",VLOOKUP(K220,الاسناد!$A$6:$D$29,4,0)))","v":""},null,{"$f":"LOOKUP(REPT(CHAR(237),255),CHOOSE({1,2},\"\",VLOOKUP(M220,الاسناد!$A$6:$D$29,4,0)))","v":""}]
[null,null,null,"15-14",null,{"$f":"LOOKUP(REPT(CHAR(237),255),CHOOSE({1,2},\"\",VLOOKUP(E221,الاسناد!$A$6:$AC$29,29,0)))","v":""},null,{"$f":"LOOKUP(REPT(CHAR(237),255),CHOOSE({1,2},\"\",VLOOKUP(G221,الاسناد!$A$6:$AC$29,29,0)))","v":""},null,{"$f":"LOOKUP(REPT(CHAR(237),255),CHOOSE({1,2},\"\",VLOOKUP(I221,الاسناد!$A$6:$AC$29,29,0)))","v":""},null,{"$f":"LOOKUP(REPT(CHAR(237),255),CHOOSE({1,2},\"\",VLOOKUP(K221,الاسناد!$A$6:$D$29,4,0)))","v":""},null,{"$f":"LOOKUP(REPT(CHAR(237),255),CHOOSE({1,2},\"\",VLOOKUP(M221,الاسناد!$A$6:$D$29,4,0)))","v":""}]
[null,null,null,"16-15",null,{"$f":"LOOKUP(REPT(CHAR(237),255),CHOOSE({1,2},\"\",VLOOKUP(E222,الاسناد!$A$6:$AC$29,29,0)))","v":""},null,{"$f":"LOOKUP(REPT(CHAR(237),255),CHOOSE({1,2},\"\",VLOOKUP(G222,الاسناد!$A$6:$AC$29,29,0)))","v":""},null,{"$f":"LOOKUP(REPT(CHAR(237),255),CHOOSE({1,2},\"\",VLOOKUP(I222,الاسناد!$A$6:$AC$29,29,0)))","v":""},null,{"$f":"LOOKUP(REPT(CHAR(237),255),CHOOSE({1,2},\"\",VLOOKUP(K222,الاسناد!$A$6:$D$29,4,0)))","v":""},null,{"$f":"LOOKUP(REPT(CHAR(237),255),CHOOSE({1,2},\"\",VLOOKUP(M222,الاسناد!$A$6:$D$29,4,0)))","v":""}]
[null,null,null,"17-16",null,{"$f":"LOOKUP(REPT(CHAR(237),255),CHOOSE({1,2},\"\",VLOOKUP(E223,الاسناد!$A$6:$AC$29,29,0)))","v":""},null,{"$f":"LOOKUP(REPT(CHAR(237),255),CHOOSE({1,2},\"\",VLOOKUP(G223,الاسناد!$A$6:$AC$29,29,0)))","v":""},null,{"$f":"LOOKUP(REPT(CHAR(237),255),CHOOSE({1,2},\"\",VLOOKUP(I223,الاسناد!$A$6:$AC$29,29,0)))","v":""},null,{"$f":"LOOKUP(REPT(CHAR(237),255),CHOOSE({1,2},\"\",VLOOKUP(K223,الاسناد!$A$6:$D$29,4,0)))","v":""},null,{"$f":"LOOKUP(REPT(CHAR(237),255),CHOOSE({1,2},\"\",VLOOKUP(M223,الاسناد!$A$6:$D$29,4,0)))","v":""}]
[28,{"$f":"البداية!A47","v":0},null,"09-08",null,{"$f":"LOOKUP(REPT(CHAR(237),255),CHOOSE({1,2},\"\",VLOOKUP(E224,الاسناد!$A$6:$AD$29,30,0)))","v":""},null,{"$f":"LOOKUP(REPT(CHAR(237),255),CHOOSE({1,2},\"\",VLOOKUP(G224,الاسناد!$A$6:$AD$29,30,0)))","v":""},null,{"$f":"LOOKUP(REPT(CHAR(237),255),CHOOSE({1,2},\"\",VLOOKUP(I224,الاسناد!$A$6:$AD$29,30,0)))","v":""},null,{"$f":"LOOKUP(REPT(CHAR(237),255),CHOOSE({1,2},\"\",VLOOKUP(K224,الاسناد!$A$6:$D$29,4,0)))","v":""},null,{"$f":"LOOKUP(REPT(CHAR(237),255),CHOOSE({1,2},\"\",VLOOKUP(M224,الاسناد!$A$6:$D$29,4,0)))","v":""}]
[null,null,null,"10-09",null,{"$f":"LOOKUP(REPT(CHAR(237),255),CHOOSE({1,2},\"\",VLOOKUP(E225,الاسناد!$A$6:$AD$29,30,0)))","v":""},null,{"$f":"LOOKUP(REPT(CHAR(237),255),CHOOSE({1,2},\"\",VLOOKUP(G225,الاسناد!$A$6:$AD$29,30,0)))","v":""},null,{"$f":"LOOKUP(REPT(CHAR(237),255),CHOOSE({1,2},\"\",VLOOKUP(I225,الاسناد!$A$6:$AD$29,30,0)))","v":""},null,{"$f":"LOOKUP(REPT(CHAR(237),255),CHOOSE({1,2},\"\",VLOOKUP(K225,الاسناد!$A$6:$D$29,4,0)))","v":""},null,{"$f":"LOOKUP(REPT(CHAR(237),255),CHOOSE({1,2},\"\",VLOOKUP(M225,الاسناد!$A$6:$D$29,4,0)))","v":""}]
[null,null,null,"11-10",null,{"$f":"LOOKUP(REPT(CHAR(237),255),CHOOSE({1,2},\"\",VLOOKUP(E226,الاسناد!$A$6:$AD$29,30,0)))","v":""},null,{"$f":"LOOKUP(REPT(CHAR(237),255),CHOOSE({1,2},\"\",VLOOKUP(G226,الاسناد!$A$6:$AD$29,30,0)))","v":""},null,{"$f":"LOOKUP(REPT(CHAR(237),255),CHOOSE({1,2},\"\",VLOOKUP(I226,الاسناد!$A$6:$AD$29,30,0)))","v":""},null,{"$f":"LOOKUP(REPT(CHAR(237),255),CHOOSE({1,2},\"\",VLOOKUP(K226,الاسناد!$A$6:$D$29,4,0)))","v":""},null,{"$f":"LOOKUP(REPT(CHAR(237),255),CHOOSE({1,2},\"\",VLOOKUP(M226,الاسناد!$A$6:$D$29,4,0)))","v":""}]
[null,null,null,"12-11",null,{"$f":"LOOKUP(REPT(CHAR(237),255),CHOOSE({1,2},\"\",VLOOKUP(E227,الاسناد!$A$6:$AD$29,30,0)))","v":""},null,{"$f":"LOOKUP(REPT(CHAR(237),255),CHOOSE({1,2},\"\",VLOOKUP(G227,الاسناد!$A$6:$AD$29,30,0)))","v":""},null,{"$f":"LOOKUP(REPT(CHAR(237),255),CHOOSE({1,2},\"\",VLOOKUP(I227,الاسناد!$A$6:$AD$29,30,0)))","v":""},null,{"$f":"LOOKUP(REPT(CHAR(237),255),CHOOSE({1,2},\"\",VLOOKUP(K227,الاسناد!$A$6:$D$29,4,0)))","v":""},null,{"$f":"LOOKUP(REPT(CHAR(237),255),CHOOSE({1,2},\"\",VLOOKUP(M227,الاسناد!$A$6:$D$29,4,0)))","v":""}]
[null,null,null,"14-13",null,{"$f":"LOOKUP(REPT(CHAR(237),255),CHOOSE({1,2},\"\",VLOOKUP(E228,الاسناد!$A$6:$AD$29,30,0)))","v":""},null,{"$f":"LOOKUP(REPT(CHAR(237),255),CHOOSE({1,2},\"\",VLOOKUP(G228,الاسناد!$A$6:$AD$29,30,0)))","v":""},null,{"$f":"LOOKUP(REPT(CHAR(237),255),CHOOSE({1,2},\"\",VLOOKUP(I228,الاسناد!$A$6:$AD$29,30,0)))","v":""},null,{"$f":"LOOKUP(REPT(CHAR(237),255),CHOOSE({1,2},\"\",VLOOKUP(K228,الاسناد!$A$6:$D$29,4,0)))","v":""},null,{"$f":"LOOKUP(REPT(CHAR(237),255),CHOOSE({1,2},\"\",VLOOKUP(M228,الاسناد!$A$6:$AD$29,30,0)))","v":""}]
[null,null,null,"15-14",null,{"$f":"LOOKUP(REPT(CHAR(237),255),CHOOSE({1,2},\"\",VLOOKUP(E229,الاسناد!$A$6:$AD$29,30,0)))","v":""},null,{"$f":"LOOKUP(REPT(CHAR(237),255),CHOOSE({1,2},\"\",VLOOKUP(G229,الاسناد!$A$6:$AD$29,30,0)))","v":""},null,{"$f":"LOOKUP(REPT(CHAR(237),255),CHOOSE({1,2},\"\",VLOOKUP(I229,الاسناد!$A$6:$AD$29,30,0)))","v":""},null,{"$f":"LOOKUP(REPT(CHAR(237),255),CHOOSE({1,2},\"\",VLOOKUP(K229,الاسناد!$A$6:$D$29,4,0)))","v":""},null,{"$f":"LOOKUP(REPT(CHAR(237),255),CHOOSE({1,2},\"\",VLOOKUP(M229,الاسناد!$A$6:$AD$29,30,0)))","v":""}]
[null,null,null,"16-15",null,{"$f":"LOOKUP(REPT(CHAR(237),255),CHOOSE({1,2},\"\",VLOOKUP(E230,الاسناد!$A$6:$AD$29,30,0)))","v":""},null,{"$f":"LOOKUP(REPT(CHAR(237),255),CHOOSE({1,2},\"\",VLOOKUP(G230,الاسناد!$A$6:$AD$29,30,0)))","v":""},null,{"$f":"LOOKUP(REPT(CHAR(237),255),CHOOSE({1,2},\"\",VLOOKUP(I230,الاسناد!$A$6:$AD$29,30,0)))","v":""},null,{"$f":"LOOKUP(REPT(CHAR(237),255),CHOOSE({1,2},\"\",VLOOKUP(K230,الاسناد!$A$6:$D$29,4,0)))","v":""},null,{"$f":"LOOKUP(REPT(CHAR(237),255),CHOOSE({1,2},\"\",VLOOKUP(M230,الاسناد!$A$6:$AD$29,30,0)))","v":""}]
[null,null,null,"17-16",null,{"$f":"LOOKUP(REPT(CHAR(237),255),CHOOSE({1,2},\"\",VLOOKUP(E231,الاسناد!$A$6:$AD$29,30,0)))","v":""},null,{"$f":"LOOKUP(REPT(CHAR(237),255),CHOOSE({1,2},\"\",VLOOKUP(G231,الاسناد!$A$6:$AD$29,30,0)))","v":""},null,{"$f":"LOOKUP(REPT(CHAR(237),255),CHOOSE({1,2},\"\",VLOOKUP(I231,الاسناد!$A$6:$AD$29,30,0)))","v":""},null,{"$f":"LOOKUP(REPT(CHAR(237),255),CHOOSE({1,2},\"\",VLOOKUP(K231,الاسناد!$A$6:$D$29,4,0)))","v":""},null,{"$f":"LOOKUP(REPT(CHAR(237),255),CHOOSE({1,2},\"\",VLOOKUP(M231,الاسناد!$A$6:$AD$29,30,0)))","v":""}]
[29,{"$f":"البداية!A48","v":0},null,"09-08",null,{"$f":"LOOKUP(REPT(CHAR(237),255),CHOOSE({1,2},\"\",VLOOKUP(E232,الاسناد!$A$6:$AE$29,31,0)))","v":""},null,{"$f":"LOOKUP(REPT(CHAR(237),255),CHOOSE({1,2},\"\",VLOOKUP(G232,الاسناد!$A$6:$AE$29,31,0)))","v":""},null,{"$f":"LOOKUP(REPT(CHAR(237),255),CHOOSE({1,2},\"\",VLOOKUP(I232,الاسناد!$A$6:$AE$29,31,0)))","v":""},null,{"$f":"LOOKUP(REPT(CHAR(237),255),CHOOSE({1,2},\"\",VLOOKUP(K232,الاسناد!$A$6:$D$29,4,0)))","v":""},null,{"$f":"LOOKUP(REPT(CHAR(237),255),CHOOSE({1,2},\"\",VLOOKUP(M232,الاسناد!$A$6:$AE$29,31,0)))","v":""}]
[null,null,null,"10-09",null,{"$f":"LOOKUP(REPT(CHAR(237),255),CHOOSE({1,2},\"\",VLOOKUP(E233,الاسناد!$A$6:$AE$29,31,0)))","v":""},null,{"$f":"LOOKUP(REPT(CHAR(237),255),CHOOSE({1,2},\"\",VLOOKUP(G233,الاسناد!$A$6:$AE$29,31,0)))","v":""},null,{"$f":"LOOKUP(REPT(CHAR(237),255),CHOOSE({1,2},\"\",VLOOKUP(I233,الاسناد!$A$6:$AE$29,31,0)))","v":""},null,{"$f":"LOOKUP(REPT(CHAR(237),255),CHOOSE({1,2},\"\",VLOOKUP(K233,الاسناد!$A$6:$D$29,4,0)))","v":""},null,{"$f":"LOOKUP(REPT(CHAR(237),255),CHOOSE({1,2},\"\",VLOOKUP(M233,الاسناد!$A$6:$AE$29,31,0)))","v":""}]
[null,null,null,"11-10",null,{"$f":"LOOKUP(REPT(CHAR(237),255),CHOOSE({1,2},\"\",VLOOKUP(E234,الاسناد!$A$6:$AE$29,31,0)))","v":""},null,{"$f":"LOOKUP(REPT(CHAR(237),255),CHOOSE({1,2},\"\",VLOOKUP(G234,الاسناد!$A$6:$AE$29,31,0)))","v":""},null,{"$f":"LOOKUP(REPT(CHAR(237),255),CHOOSE({1,2},\"\",VLOOKUP(I234,الاسناد!$A$6:$AE$29,31,0)))","v":""},null,{"$f":"LOOKUP(REPT(CHAR(237),255),CHOOSE({1,2},\"\",VLOOKUP(K234,الاسناد!$A$6:$D$29,4,0)))","v":""},null,{"$f":"LOOKUP(REPT(CHAR(237),255),CHOOSE({1,2},\"\",VLOOKUP(M234,الاسناد!$A$6:$AE$29,31,0)))","v":""}]
[null,null,null,"12-11",null,{"$f":"LOOKUP(REPT(CHAR(237),255),CHOOSE({1,2},\"\",VLOOKUP(E235,الاسناد!$A$6:$AE$29,31,0)))","v":""},null,{"$f":"LOOKUP(REPT(CHAR(237),255),CHOOSE({1,2},\"\",VLOOKUP(G235,الاسناد!$A$6:$AE$29,31,0)))","v":""},null,{"$f":"LOOKUP(REPT(CHAR(237),255),CHOOSE({1,2},\"\",VLOOKUP(I235,الاسناد!$A$6:$AE$29,31,0)))","v":""},null,{"$f":"LOOKUP(REPT(CHAR(237),255),CHOOSE({1,2},\"\",VLOOKUP(K235,الاسناد!$A$6:$D$29,4,0)))","v":""},null,{"$f":"LOOKUP(REPT(CHAR(237),255),CHOOSE({1,2},\"\",VLOOKUP(M235,الاسناد!$A$6:$AE$29,31,0)))","v":""}]
[null,null,null,"14-13",null,{"$f":"LOOKUP(REPT(CHAR(237),255),CHOOSE({1,2},\"\",VLOOKUP(E236,الاسناد!$A$6:$AE$29,31,0)))","v":""},null,{"$f":"LOOKUP(REPT(CHAR(237),255),CHOOSE({1,2},\"\",VLOOKUP(G236,الاسناد!$A$6:$AE$29,31,0)))","v":""},null,{"$f":"LOOKUP(REPT(CHAR(237),255),CHOOSE({1,2},\"\",VLOOKUP(I236,الاسناد!$A$6:$AE$29,31,0)))","v":""},null,{"$f":"LOOKUP(REPT(CHAR(237),255),CHOOSE({1,2},\"\",VLOOKUP(K236,الاسناد!$A$6:$D$29,4,0)))","v":""},null,{"$f":"LOOKUP(REPT(CHAR(237),255),CHOOSE({1,2},\"\",VLOOKUP(M236,الاسناد!$A$6:$AE$29,31,0)))","v":""}]
[null,null,null,"15-14",null,{"$f":"LOOKUP(REPT(CHAR(237),255),CHOOSE({1,2},\"\",VLOOKUP(E237,الاسناد!$A$6:$AE$29,31,0)))","v":""},null,{"$f":"LOOKUP(REPT(CHAR(237),255),CHOOSE({1,2},\"\",VLOOKUP(G237,الاسناد!$A$6:$AE$29,31,0)))","v":""},null,{"$f":"LOOKUP(REPT(CHAR(237),255),CHOOSE({1,2},\"\",VLOOKUP(I237,الاسناد!$A$6:$AE$29,31,0)))","v":""},null,{"$f":"LOOKUP(REPT(CHAR(237),255),CHOOSE({1,2},\"\",VLOOKUP(K237,الاسناد!$A$6:$D$29,4,0)))","v":""},null,{"$f":"LOOKUP(REPT(CHAR(237),255),CHOOSE({1,2},\"\",VLOOKUP(M237,الاسناد!$A$6:$AE$29,31,0)))","v":""}]
[null,null,null,"16-15",null,{"$f":"LOOKUP(REPT(CHAR(237),255),CHOOSE({1,2},\"\",VLOOKUP(E238,الاسناد!$A$6:$AE$29,31,0)))","v":""},null,{"$f":"LOOKUP(REPT(CHAR(237),255),CHOOSE({1,2},\"\",VLOOKUP(G238,الاسناد!$A$6:$AE$29,31,0)))","v":""},null,{"$f":"LOOKUP(REPT(CHAR(237),255),CHOOSE({1,2},\"\",VLOOKUP(I238,الاسناد!$A$6:$AE$29,31,0)))","v":""},null,{"$f":"LOOKUP(REPT(CHAR(237),255),CHOOSE({1,2},\"\",VLOOKUP(K238,الاسناد!$A$6:$D$29,4,0)))","v":""},null,{"$f":"LOOKUP(REPT(CHAR(237),255),CHOOSE({1,2},\"\",VLOOKUP(M238,الاسناد!$A$6:$AE$29,31,0)))","v":""}]
[null,null,null,"17-16",null,{"$f":"LOOKUP(REPT(CHAR(237),255),CHOOSE({1,2},\"\",VLOOKUP(E239,الاسناد!$A$6:$AE$29,31,0)))","v":""},null,{"$f":"LOOKUP(REPT(CHAR(237),255),CHOOSE({1,2},\"\",VLOOKUP(G239,الاسناد!$A$6:$AE$29,31,0)))","v":""},null,{"$f":"LOOKUP(REPT(CHAR(237),255),CHOOSE({1,2},\"\",VLOOKUP(I239,الاسناد!$A$6:$AE$29,31,0)))","v":""},null,{"$f":"LOOKUP(REPT(CHAR(237),255),CHOOSE({1,2},\"\",VLOOKUP(K239,الاسناد!$A$6:$D$29,4,0)))","v":""},null,{"$f":"LOOKUP(REPT(CHAR(237),255),CHOOSE({1,2},\"\",VLOOKUP(M239,الاسناد!$A$6:$AE$29,31,0)))","v":""}]
[30,{"$f":"البداية!A49","v":0},null,"09-08",null,{"$f":"LOOKUP(REPT(CHAR(237),255),CHOOSE({1,2},\"\",VLOOKUP(E240,الاسناد!$A$6:$AF$29,32,0)))","v":""},null,{"$f":"LOOKUP(REPT(CHAR(237),255),CHOOSE({1,2},\"\",VLOOKUP(G240,الاسناد!$A$6:$AF$29,32,0)))","v":""},null,{"$f":"LOOKUP(REPT(CHAR(237),255),CHOOSE({1,2},\"\",VLOOKUP(I240,الاسناد!$A$6:$AF$29,32,0)))","v":""},null,{"$f":"LOOKUP(REPT(CHAR(237),255),CHOOSE({1,2},\"\",VLOOKUP(K240,الاسناد!$A$6:$D$29,4,0)))","v":""},null,{"$f":"LOOKUP(REPT(CHAR(237),255),CHOOSE({1,2},\"\",VLOOKUP(M240,الاسناد!$A$6:$AF$29,32,0)))","v":""}]
[null,null,null,"10-09",null,{"$f":"LOOKUP(REPT(CHAR(237),255),CHOOSE({1,2},\"\",VLOOKUP(E241,الاسناد!$A$6:$AF$29,32,0)))","v":""},null,{"$f":"LOOKUP(REPT(CHAR(237),255),CHOOSE({1,2},\"\",VLOOKUP(G241,الاسناد!$A$6:$AF$29,32,0)))","v":""},null,{"$f":"LOOKUP(REPT(CHAR(237),255),CHOOSE({1,2},\"\",VLOOKUP(I241,الاسناد!$A$6:$AF$29,32,0)))","v":""},null,{"$f":"LOOKUP(REPT(CHAR(237),255),CHOOSE({1,2},\"\",VLOOKUP(K241,الاسناد!$A$6:$D$29,4,0)))","v":""},null,{"$f":"LOOKUP(REPT(CHAR(237),255),CHOOSE({1,2},\"\",VLOOKUP(M241,الاسناد!$A$6:$AF$29,32,0)))","v":""}]
[null,null,null,"11-10",null,{"$f":"LOOKUP(REPT(CHAR(237),255),CHOOSE({1,2},\"\",VLOOKUP(E242,الاسناد!$A$6:$AF$29,32,0)))","v":""},null,{"$f":"LOOKUP(REPT(CHAR(237),255),CHOOSE({1,2},\"\",VLOOKUP(G242,الاسناد!$A$6:$AF$29,32,0)))","v":""},null,{"$f":"LOOKUP(REPT(CHAR(237),255),CHOOSE({1,2},\"\",VLOOKUP(I242,الاسناد!$A$6:$AF$29,32,0)))","v":""},null,{"$f":"LOOKUP(REPT(CHAR(237),255),CHOOSE({1,2},\"\",VLOOKUP(K242,الاسناد!$A$6:$D$29,4,0)))","v":""},null,{"$f":"LOOKUP(REPT(CHAR(237),255),CHOOSE({1,2},\"\",VLOOKUP(M242,الاسناد!$A$6:$AF$29,32,0)))","v":""}]
[null,null,null,"12-11",null,{"$f":"LOOKUP(REPT(CHAR(237),255),CHOOSE({1,2},\"\",VLOOKUP(E243,الاسناد!$A$6:$AF$29,32,0)))","v":""},null,{"$f":"LOOKUP(REPT(CHAR(237),255),CHOOSE({1,2},\"\",VLOOKUP(G243,الاسناد!$A$6:$AF$29,32,0)))","v":""},null,{"$f":"LOOKUP(REPT(CHAR(237),255),CHOOSE({1,2},\"\",VLOOKUP(I243,الاسناد!$A$6:$AF$29,32,0)))","v":""},null,{"$f":"LOOKUP(REPT(CHAR(237),255),CHOOSE({1,2},\"\",VLOOKUP(K243,الاسناد!$A$6:$D$29,4,0)))","v":""},null,{"$f":"LOOKUP(REPT(CHAR(237),255),CHOOSE({1,2},\"\",VLOOKUP(M243,الاسناد!$A$6:$AF$29,32,0)))","v":""}]
[null,null,null,"14-13",null,{"$f":"LOOKUP(REPT(CHAR(237),255),CHOOSE({1,2},\"\",VLOOKUP(E244,الاسناد!$A$6:$AF$29,32,0)))","v":""},null,{"$f":"LOOKUP(REPT(CHAR(237),255),CHOOSE({1,2},\"\",VLOOKUP(G244,الاسناد!$A$6:$AF$29,32,0)))","v":""},null,{"$f":"LOOKUP(REPT(CHAR(237),255),CHOOSE({1,2},\"\",VLOOKUP(I244,الاسناد!$A$6:$AF$29,32,0)))","v":""},null,{"$f":"LOOKUP(REPT(CHAR(237),255),CHOOSE({1,2},\"\",VLOOKUP(K244,الاسناد!$A$6:$D$29,4,0)))","v":""},null,{"$f":"LOOKUP(REPT(CHAR(237),255),CHOOSE({1,2},\"\",VLOOKUP(M244,الاسناد!$A$6:$AF$29,32,0)))","v":""}]
[null,null,null,"15-14",null,{"$f":"LOOKUP(REPT(CHAR(237),255),CHOOSE({1,2},\"\",VLOOKUP(E245,الاسناد!$A$6:$AF$29,32,0)))","v":""},null,{"$f":"LOOKUP(REPT(CHAR(237),255),CHOOSE({1,2},\"\",VLOOKUP(G245,الاسناد!$A$6:$AF$29,32,0)))","v":""},null,{"$f":"LOOKUP(REPT(CHAR(237),255),CHOOSE({1,2},\"\",VLOOKUP(I245,الاسناد!$A$6:$AF$29,32,0)))","v":""},null,{"$f":"LOOKUP(REPT(CHAR(237),255),CHOOSE({1,2},\"\",VLOOKUP(K245,الاسناد!$A$6:$D$29,4,0)))","v":""},null,{"$f":"LOOKUP(REPT(CHAR(237),255),CHOOSE({1,2},\"\",VLOOKUP(M245,الاسناد!$A$6:$AF$29,32,0)))","v":""}]
[null,null,null,"16-15",null,{"$f":"LOOKUP(REPT(CHAR(237),255),CHOOSE({1,2},\"\",VLOOKUP(E246,الاسناد!$A$6:$AF$29,32,0)))","v":""},null,{"$f":"LOOKUP(REPT(CHAR(237),255),CHOOSE({1,2},\"\",VLOOKUP(G246,الاسناد!$A$6:$AF$29,32,0)))","v":""},null,{"$f":"LOOKUP(REPT(CHAR(237),255),CHOOSE({1,2},\"\",VLOOKUP(I246,الاسناد!$A$6:$AF$29,32,0)))","v":""},null,{"$f":"LOOKUP(REPT(CHAR(237),255),CHOOSE({1,2},\"\",VLOOKUP(K246,الاسناد!$A$6:$D$29,4,0)))","v":""},null,{"$f":"LOOKUP(REPT(CHAR(237),255),CHOOSE({1,2},\"\",VLOOKUP(M246,الاسناد!$A$6:$AF$29,32,0)))","v":""}]
[null,null,null,"17-16",null,{"$f":"LOOKUP(REPT(CHAR(237),255),CHOOSE({1,2},\"\",VLOOKUP(E247,الاسناد!$A$6:$AF$29,32,0)))","v":""},null,{"$f":"LOOKUP(REPT(CHAR(237),255),CHOOSE({1,2},\"\",VLOOKUP(G247,الاسناد!$A$6:$AF$29,32,0)))","v":""},null,{"$f":"LOOKUP(REPT(CHAR(237),255),CHOOSE({1,2},\"\",VLOOKUP(I247,الاسناد!$A$6:$AF$29,32,0)))","v":""},null,{"$f":"LOOKUP(REPT(CHAR(237),255),CHOOSE({1,2},\"\",VLOOKUP(K247,الاسناد!$A$6:$D$29,4,0)))","v":""},null,{"$f":"LOOKUP(REPT(CHAR(237),255),CHOOSE({1,2},\"\",VLOOKUP(M247,الاسناد!$A$6:$AF$29,32,0)))","v":""}]
[31,{"$f":"البداية!A50","v":0},null,"09-08",null,{"$f":"LOOKUP(REPT(CHAR(237),255),CHOOSE({1,2},\"\",VLOOKUP(E248,الاسناد!$A$6:$AG$29,33,0)))","v":""},null,{"$f":"LOOKUP(REPT(CHAR(237),255),CHOOSE({1,2},\"\",VLOOKUP(G248,الاسناد!$A$6:$AG$29,33,0)))","v":""},null,{"$f":"LOOKUP(REPT(CHAR(237),255),CHOOSE({1,2},\"\",VLOOKUP(I248,الاسناد!$A$6:$AG$29,33,0)))","v":""},null,{"$f":"LOOKUP(REPT(CHAR(237),255),CHOOSE({1,2},\"\",VLOOKUP(K248,الاسناد!$A$6:$D$29,4,0)))","v":""},null,{"$f":"LOOKUP(REPT(CHAR(237),255),CHOOSE({1,2},\"\",VLOOKUP(M248,الاسناد!$A$6:$AG$29,33,0)))","v":""}]
[null,null,null,"10-09",null,{"$f":"LOOKUP(REPT(CHAR(237),255),CHOOSE({1,2},\"\",VLOOKUP(E249,الاسناد!$A$6:$AG$29,33,0)))","v":""},null,{"$f":"LOOKUP(REPT(CHAR(237),255),CHOOSE({1,2},\"\",VLOOKUP(G249,الاسناد!$A$6:$AG$29,33,0)))","v":""},null,{"$f":"LOOKUP(REPT(CHAR(237),255),CHOOSE({1,2},\"\",VLOOKUP(I249,الاسناد!$A$6:$AG$29,33,0)))","v":""},null,{"$f":"LOOKUP(REPT(CHAR(237),255),CHOOSE({1,2},\"\",VLOOKUP(K249,الاسناد!$A$6:$D$29,4,0)))","v":""},null,{"$f":"LOOKUP(REPT(CHAR(237),255),CHOOSE({1,2},\"\",VLOOKUP(M249,الاسناد!$A$6:$AG$29,33,0)))","v":""}]
[null,null,null,"11-10",null,{"$f":"LOOKUP(REPT(CHAR(237),255),CHOOSE({1,2},\"\",VLOOKUP(E250,الاسناد!$A$6:$AG$29,33,0)))","v":""},null,{"$f":"LOOKUP(REPT(CHAR(237),255),CHOOSE({1,2},\"\",VLOOKUP(G250,الاسناد!$A$6:$AG$29,33,0)))","v":""},null,{"$f":"LOOKUP(REPT(CHAR(237),255),CHOOSE({1,2},\"\",VLOOKUP(I250,الاسناد!$A$6:$AG$29,33,0)))","v":""},null,{"$f":"LOOKUP(REPT(CHAR(237),255),CHOOSE({1,2},\"\",VLOOKUP(K250,الاسناد!$A$6:$D$29,4,0)))","v":""},null,{"$f":"LOOKUP(REPT(CHAR(237),255),CHOOSE({1,2},\"\",VLOOKUP(M250,الاسناد!$A$6:$AG$29,33,0)))","v":""}]
[null,null,null,"12-11",null,{"$f":"LOOKUP(REPT(CHAR(237),255),CHOOSE({1,2},\"\",VLOOKUP(E251,الاسناد!$A$6:$AG$29,33,0)))","v":""},null,{"$f":"LOOKUP(REPT(CHAR(237),255),CHOOSE({1,2},\"\",VLOOKUP(G251,الاسناد!$A$6:$AG$29,33,0)))","v":""},null,{"$f":"LOOKUP(REPT(CHAR(237),255),CHOOSE({1,2},\"\",VLOOKUP(I251,الاسناد!$A$6:$AG$29,33,0)))","v":""},null,{"$f":"LOOKUP(REPT(CHAR(237),255),CHOOSE({1,2},\"\",VLOOKUP(K251,الاسناد!$A$6:$D$29,4,0)))","v":""},null,{"$f":"LOOKUP(REPT(CHAR(237),255),CHOOSE({1,2},\"\",VLOOKUP(M251,الاسناد!$A$6:$AG$29,33,0)))","v":""}]
[null,null,null,"14-13",null,{"$f":"LOOKUP(REPT(CHAR(237),255),CHOOSE({1,2},\"\",VLOOKUP(E252,الاسناد!$A$6:$AG$29,33,0)))","v":""},null,{"$f":"LOOKUP(REPT(CHAR(237),255),CHOOSE({1,2},\"\",VLOOKUP(G252,الاسناد!$A$6:$AG$29,33,0)))","v":""},null,{"$f":"LOOKUP(REPT(CHAR(237),255),CHOOSE({1,2},\"\",VLOOKUP(I252,الاسناد!$A$6:$AG$29,33,0)))","v":""},null,{"$f":"LOOKUP(REPT(CHAR(237),255),CHOOSE({1,2},\"\",VLOOKUP(K252,الاسناد!$A$6:$D$29,4,0)))","v":""},null,{"$f":"LOOKUP(REPT(CHAR(237),255),CHOOSE({1,2},\"\",VLOOKUP(M252,الاسناد!$A$6:$AG$29,33,0)))","v":""}]
[null,null,null,"15-14",null,{"$f":"LOOKUP(REPT(CHAR(237),255),CHOOSE({1,2},\"\",VLOOKUP(E253,الاسناد!$A$6:$AG$29,33,0)))","v":""},null,{"$f":"LOOKUP(REPT(CHAR(237),255),CHOOSE({1,2},\"\",VLOOKUP(G253,الاسناد!$A$6:$AG$29,33,0)))","v":""},null,{"$f":"LOOKUP(REPT(CHAR(237),255),CHOOSE({1,2},\"\",VLOOKUP(I253,الاسناد!$A$6:$AG$29,33,0)))","v":""},null,{"$f":"LOOKUP(REPT(CHAR(237),255),CHOOSE({1,2},\"\",VLOOKUP(K253,الاسناد!$A$6:$D$29,4,0)))","v":""},null,{"$f":"LOOKUP(REPT(CHAR(237),255),CHOOSE({1,2},\"\",VLOOKUP(M253,الاسناد!$A$6:$AG$29,33,0)))","v":""}]
[null,null,null,"16-15",null,{"$f":"LOOKUP(REPT(CHAR(237),255),CHOOSE({1,2},\"\",VLOOKUP(E254,الاسناد!$A$6:$AG$29,33,0)))","v":""},null,{"$f":"LOOKUP(REPT(CHAR(237),255),CHOOSE({1,2},\"\",VLOOKUP(G254,الاسناد!$A$6:$AG$29,33,0)))","v":""},null,{"$f":"LOOKUP(REPT(CHAR(237),255),CHOOSE({1,2},\"\",VLOOKUP(I254,الاسناد!$A$6:$AG$29,33,0)))","v":""},null,{"$f":"LOOKUP(REPT(CHAR(237),255),CHOOSE({1,2},\"\",VLOOKUP(K254,الاسناد!$A$6:$D$29,4,0)))","v":""},null,{"$f":"LOOKUP(REPT(CHAR(237),255),CHOOSE({1,2},\"\",VLOOKUP(M254,الاسناد!$A$6:$AG$29,33,0)))","v":""}]
[null,null,null,"17-16",null,{"$f":"LOOKUP(REPT(CHAR(237),255),CHOOSE({1,2},\"\",VLOOKUP(E255,الاسناد!$A$6:$AG$29,33,0)))","v":""},null,{"$f":"LOOKUP(REPT(CHAR(237),255),CHOOSE({1,2},\"\",VLOOKUP(G255,الاسناد!$A$6:$AG$29,33,0)))","v":""},null,{"$f":"LOOKUP(REPT(CHAR(237),255),CHOOSE({1,2},\"\",VLOOKUP(I255,الاسناد!$A$6:$AG$29,33,0)))","v":""},null,{"$f":"LOOKUP(REPT(CHAR(237),255),CHOOSE({1,2},\"\",VLOOKUP(K255,الاسناد!$A$6:$D$29,4,0)))","v":""},null,{"$f":"LOOKUP(REPT(CHAR(237),255),CHOOSE({1,2},\"\",VLOOKUP(M255,الاسناد!$A$6:$AG$29,33,0)))","v":""}]
[32,{"$f":"البداية!A51","v":0},null,"09-08",null,{"$f":"LOOKUP(REPT(CHAR(237),255),CHOOSE({1,2},\"\",VLOOKUP(E256,الاسناد!$A$6:$AH$29,34,0)))","v":""},null,{"$f":"LOOKUP(REPT(CHAR(237),255),CHOOSE({1,2},\"\",VLOOKUP(G256,الاسناد!$A$6:$AH$29,34,0)))","v":""},null,{"$f":"LOOKUP(REPT(CHAR(237),255),CHOOSE({1,2},\"\",VLOOKUP(I256,الاسناد!$A$6:$AH$29,34,0)))","v":""},null,{"$f":"LOOKUP(REPT(CHAR(237),255),CHOOSE({1,2},\"\",VLOOKUP(K256,الاسناد!$A$6:$D$29,4,0)))","v":""},null,{"$f":"LOOKUP(REPT(CHAR(237),255),CHOOSE({1,2},\"\",VLOOKUP(M256,الاسناد!$A$6:$AH$29,34,0)))","v":""}]
[null,null,null,"10-09",null,{"$f":"LOOKUP(REPT(CHAR(237),255),CHOOSE({1,2},\"\",VLOOKUP(E257,الاسناد!$A$6:$AH$29,34,0)))","v":""},null,{"$f":"LOOKUP(REPT(CHAR(237),255),CHOOSE({1,2},\"\",VLOOKUP(G257,الاسناد!$A$6:$AH$29,34,0)))","v":""},null,{"$f":"LOOKUP(REPT(CHAR(237),255),CHOOSE({1,2},\"\",VLOOKUP(I257,الاسناد!$A$6:$AH$29,34,0)))","v":""},null,{"$f":"LOOKUP(REPT(CHAR(237),255),CHOOSE({1,2},\"\",VLOOKUP(K257,الاسناد!$A$6:$D$29,4,0)))","v":""},null,{"$f":"LOOKUP(REPT(CHAR(237),255),CHOOSE({1,2},\"\",VLOOKUP(M257,الاسناد!$A$6:$AH$29,34,0)))","v":""}]
[null,null,null,"11-10",null,{"$f":"LOOKUP(REPT(CHAR(237),255),CHOOSE({1,2},\"\",VLOOKUP(E258,الاسناد!$A$6:$AH$29,34,0)))","v":""},null,{"$f":"LOOKUP(REPT(CHAR(237),255),CHOOSE({1,2},\"\",VLOOKUP(G258,الاسناد!$A$6:$AH$29,34,0)))","v":""},null,{"$f":"LOOKUP(REPT(CHAR(237),255),CHOOSE({1,2},\"\",VLOOKUP(I258,الاسناد!$A$6:$AH$29,34,0)))","v":""},null,{"$f":"LOOKUP(REPT(CHAR(237),255),CHOOSE({1,2},\"\",VLOOKUP(K258,الاسناد!$A$6:$D$29,4,0)))","v":""},null,{"$f":"LOOKUP(REPT(CHAR(237),255),CHOOSE({1,2},\"\",VLOOKUP(M258,الاسناد!$A$6:$AH$29,34,0)))","v":""}]
[null,null,null,"12-11",null,{"$f":"LOOKUP(REPT(CHAR(237),255),CHOOSE({1,2},\"\",VLOOKUP(E259,الاسناد!$A$6:$AH$29,34,0)))","v":""},null,{"$f":"LOOKUP(REPT(CHAR(237),255),CHOOSE({1,2},\"\",VLOOKUP(G259,الاسناد!$A$6:$AH$29,34,0)))","v":""},null,{"$f":"LOOKUP(REPT(CHAR(237),255),CHOOSE({1,2},\"\",VLOOKUP(I259,الاسناد!$A$6:$AH$29,34,0)))","v":""},null,{"$f":"LOOKUP(REPT(CHAR(237),255),CHOOSE({1,2},\"\",VLOOKUP(K259,الاسناد!$A$6:$D$29,4,0)))","v":""},null,{"$f":"LOOKUP(REPT(CHAR(237),255),CHOOSE({1,2},\"\",VLOOKUP(M259,الاسناد!$A$6:$AH$29,34,0)))","v":""}]
[null,null,null,"14-13",null,{"$f":"LOOKUP(REPT(CHAR(237),255),CHOOSE({1,2},\"\",VLOOKUP(E260,الاسناد!$A$6:$AH$29,34,0)))","v":""},null,{"$f":"LOOKUP(REPT(CHAR(237),255),CHOOSE({1,2},\"\",VLOOKUP(G260,الاسناد!$A$6:$AH$29,34,0)))","v":""},null,{"$f":"LOOKUP(REPT(CHAR(237),255),CHOOSE({1,2},\"\",VLOOKUP(I260,الاسناد!$A$6:$AH$29,34,0)))","v":""},null,{"$f":"LOOKUP(REPT(CHAR(237),255),CHOOSE({1,2},\"\",VLOOKUP(K260,الاسناد!$A$6:$D$29,4,0)))","v":""},null,{"$f":"LOOKUP(REPT(CHAR(237),255),CHOOSE({1,2},\"\",VLOOKUP(M260,الاسناد!$A$6:$AH$29,34,0)))","v":""}]
[null,null,null,"15-14",null,{"$f":"LOOKUP(REPT(CHAR(237),255),CHOOSE({1,2},\"\",VLOOKUP(E261,الاسناد!$A$6:$AH$29,34,0)))","v":""},null,{"$f":"LOOKUP(REPT(CHAR(237),255),CHOOSE({1,2},\"\",VLOOKUP(G261,الاسناد!$A$6:$AH$29,34,0)))","v":""},null,{"$f":"LOOKUP(REPT(CHAR(237),255),CHOOSE({1,2},\"\",VLOOKUP(I261,الاسناد!$A$6:$AH$29,34,0)))","v":""},null,{"$f":"LOOKUP(REPT(CHAR(237),255),CHOOSE({1,2},\"\",VLOOKUP(K261,الاسناد!$A$6:$D$29,4,0)))","v":""},null,{"$f":"LOOKUP(REPT(CHAR(237),255),CHOOSE({1,2},\"\",VLOOKUP(M261,الاسناد!$A$6:$AH$29,34,0)))","v":""}]
[null,null,null,"16-15",null,{"$f":"LOOKUP(REPT(CHAR(237),255),CHOOSE({1,2},\"\",VLOOKUP(E262,الاسناد!$A$6:$AH$29,34,0)))","v":""},null,{"$f":"LOOKUP(REPT(CHAR(237),255),CHOOSE({1,2},\"\",VLOOKUP(G262,الاسناد!$A$6:$AH$29,34,0)))","v":""},null,{"$f":"LOOKUP(REPT(CHAR(237),255),CHOOSE({1,2},\"\",VLOOKUP(I262,الاسناد!$A$6:$AH$29,34,0)))","v":""},null,{"$f":"LOOKUP(REPT(CHAR(237),255),CHOOSE({1,2},\"\",VLOOKUP(K262,الاسناد!$A$6:$D$29,4,0)))","v":""},null,{"$f":"LOOKUP(REPT(CHAR(237),255),CHOOSE({1,2},\"\",VLOOKUP(M262,الاسناد!$A$6:$AH$29,34,0)))","v":""}]
[null,null,null,"17-16",null,{"$f":"LOOKUP(REPT(CHAR(237),255),CHOOSE({1,2},\"\",VLOOKUP(E263,الاسناد!$A$6:$AH$29,34,0)))","v":""},null,{"$f":"LOOKUP(REPT(CHAR(237),255),CHOOSE({1,2},\"\",VLOOKUP(G263,الاسناد!$A$6:$AH$29,34,0)))","v":""},null,{"$f":"LOOKUP(REPT(CHAR(237),255),CHOOSE({1,2},\"\",VLOOKUP(I263,الاسناد!$A$6:$AH$29,34,0)))","v":""},null,{"$f":"LOOKUP(REPT(CHAR(237),255),CHOOSE({1,2},\"\",VLOOKUP(K263,الاسناد!$A$6:$D$29,4,0)))","v":""},null,{"$f":"LOOKUP(REPT(CHAR(237),255),CHOOSE({1,2},\"\",VLOOKUP(M263,الاسناد!$A$6:$AH$29,34,0)))","v":""}]
[33,{"$f":"البداية!A52","v":0},null,"09-08",null,{"$f":"LOOKUP(REPT(CHAR(237),255),CHOOSE({1,2},\"\",VLOOKUP(E264,الاسناد!$A$6:$AI$29,35,0)))","v":""},null,{"$f":"LOOKUP(REPT(CHAR(237),255),CHOOSE({1,2},\"\",VLOOKUP(G264,الاسناد!$A$6:$AI$29,35,0)))","v":""},null,{"$f":"LOOKUP(REPT(CHAR(237),255),CHOOSE({1,2},\"\",VLOOKUP(I264,الاسناد!$A$6:$AI$29,35,0)))","v":""},null,{"$f":"LOOKUP(REPT(CHAR(237),255),CHOOSE({1,2},\"\",VLOOKUP(K264,الاسناد!$A$6:$D$29,4,0)))","v":""},null,{"$f":"LOOKUP(REPT(CHAR(237),255),CHOOSE({1,2},\"\",VLOOKUP(M264,الاسناد!$A$6:$AI$29,35,0)))","v":""}]
[null,null,null,"10-09",null,{"$f":"LOOKUP(REPT(CHAR(237),255),CHOOSE({1,2},\"\",VLOOKUP(E265,الاسناد!$A$6:$AI$29,35,0)))","v":""},null,{"$f":"LOOKUP(REPT(CHAR(237),255),CHOOSE({1,2},\"\",VLOOKUP(G265,الاسناد!$A$6:$AI$29,35,0)))","v":""},null,{"$f":"LOOKUP(REPT(CHAR(237),255),CHOOSE({1,2},\"\",VLOOKUP(I265,الاسناد!$A$6:$AI$29,35,0)))","v":""},null,{"$f":"LOOKUP(REPT(CHAR(237),255),CHOOSE({1,2},\"\",VLOOKUP(K265,الاسناد!$A$6:$D$29,4,0)))","v":""},null,{"$f":"LOOKUP(REPT(CHAR(237),255),CHOOSE({1,2},\"\",VLOOKUP(M265,الاسناد!$A$6:$AI$29,35,0)))","v":""}]
[null,null,null,"11-10",null,{"$f":"LOOKUP(REPT(CHAR(237),255),CHOOSE({1,2},\"\",VLOOKUP(E266,الاسناد!$A$6:$AI$29,35,0)))","v":""},null,{"$f":"LOOKUP(REPT(CHAR(237),255),CHOOSE({1,2},\"\",VLOOKUP(G266,الاسناد!$A$6:$AI$29,35,0)))","v":""},null,{"$f":"LOOKUP(REPT(CHAR(237),255),CHOOSE({1,2},\"\",VLOOKUP(I266,الاسناد!$A$6:$AI$29,35,0)))","v":""},null,{"$f":"LOOKUP(REPT(CHAR(237),255),CHOOSE({1,2},\"\",VLOOKUP(K266,الاسناد!$A$6:$D$29,4,0)))","v":""},null,{"$f":"LOOKUP(REPT(CHAR(237),255),CHOOSE({1,2},\"\",VLOOKUP(M266,الاسناد!$A$6:$AI$29,35,0)))","v":""}]
[null,null,null,"12-11",null,{"$f":"LOOKUP(REPT(CHAR(237),255),CHOOSE({1,2},\"\",VLOOKUP(E267,الاسناد!$A$6:$AI$29,35,0)))","v":""},null,{"$f":"LOOKUP(REPT(CHAR(237),255),CHOOSE({1,2},\"\",VLOOKUP(G267,الاسناد!$A$6:$AI$29,35,0)))","v":""},null,{"$f":"LOOKUP(REPT(CHAR(237),255),CHOOSE({1,2},\"\",VLOOKUP(I267,الاسناد!$A$6:$AI$29,35,0)))","v":""},null,{"$f":"LOOKUP(REPT(CHAR(237),255),CHOOSE({1,2},\"\",VLOOKUP(K267,الاسناد!$A$6:$D$29,4,0)))","v":""},null,{"$f":"LOOKUP(REPT(CHAR(237),255),CHOOSE({1,2},\"\",VLOOKUP(M267,الاسناد!$A$6:$AI$29,35,0)))","v":""}]
[null,null,null,"14-13",null,{"$f":"LOOKUP(REPT(CHAR(237),255),CHOOSE({1,2},\"\",VLOOKUP(E268,الاسناد!$A$6:$AI$29,35,0)))","v":""},null,{"$f":"LOOKUP(REPT(CHAR(237),255),CHOOSE({1,2},\"\",VLOOKUP(G268,الاسناد!$A$6:$AI$29,35,0)))","v":""},null,{"$f":"LOOKUP(REPT(CHAR(237),255),CHOOSE({1,2},\"\",VLOOKUP(I268,الاسناد!$A$6:$AI$29,35,0)))","v":""},null,{"$f":"LOOKUP(REPT(CHAR(237),255),CHOOSE({1,2},\"\",VLOOKUP(K268,الاسناد!$A$6:$D$29,4,0)))","v":""},null,{"$f":"LOOKUP(REPT(CHAR(237),255),CHOOSE({1,2},\"\",VLOOKUP(M268,الاسناد!$A$6:$AI$29,35,0)))","v":""}]
[null,null,null,"15-14",null,{"$f":"LOOKUP(REPT(CHAR(237),255),CHOOSE({1,2},\"\",VLOOKUP(E269,الاسناد!$A$6:$AI$29,35,0)))","v":""},null,{"$f":"LOOKUP(REPT(CHAR(237),255),CHOOSE({1,2},\"\",VLOOKUP(G269,الاسناد!$A$6:$AI$29,35,0)))","v":""},null,{"$f":"LOOKUP(REPT(CHAR(237),255),CHOOSE({1,2},\"\",VLOOKUP(I269,الاسناد!$A$6:$AI$29,35,0)))","v":""},null,{"$f":"LOOKUP(REPT(CHAR(237),255),CHOOSE({1,2},\"\",VLOOKUP(K269,الاسناد!$A$6:$D$29,4,0)))","v":""},null,{"$f":"LOOKUP(REPT(CHAR(237),255),CHOOSE({1,2},\"\",VLOOKUP(M269,الاسناد!$A$6:$AI$29,35,0)))","v":""}]
[null,null,null,"16-15",null,{"$f":"LOOKUP(REPT(CHAR(237),255),CHOOSE({1,2},\"\",VLOOKUP(E270,الاسناد!$A$6:$AI$29,35,0)))","v":""},null,{"$f":"LOOKUP(REPT(CHAR(237),255),CHOOSE({1,2},\"\",VLOOKUP(G270,الاسناد!$A$6:$AI$29,35,0)))","v":""},null,{"$f":"LOOKUP(REPT(CHAR(237),255),CHOOSE({1,2},\"\",VLOOKUP(I270,الاسناد!$A$6:$AI$29,35,0)))","v":""},null,{"$f":"LOOKUP(REPT(CHAR(237),255),CHOOSE({1,2},\"\",VLOOKUP(K270,الاسناد!$A$6:$D$29,4,0)))","v":""},null,{"$f":"LOOKUP(REPT(CHAR(237),255),CHOOSE({1,2},\"\",VLOOKUP(M270,الاسناد!$A$6:$AI$29,35,0)))","v":""}]
[null,null,null,"17-16",null,{"$f":"LOOKUP(REPT(CHAR(237),255),CHOOSE({1,2},\"\",VLOOKUP(E271,الاسناد!$A$6:$AI$29,35,0)))","v":""},null,{"$f":"LOOKUP(REPT(CHAR(237),255),CHOOSE({1,2},\"\",VLOOKUP(G271,الاسناد!$A$6:$AI$29,35,0)))","v":""},null,{"$f":"LOOKUP(REPT(CHAR(237),255),CHOOSE({1,2},\"\",VLOOKUP(I271,الاسناد!$A$6:$AI$29,35,0)))","v":""},null,{"$f":"LOOKUP(REPT(CHAR(237),255),CHOOSE({1,2},\"\",VLOOKUP(K271,الاسناد!$A$6:$D$29,4,0)))","v":""},null,{"$f":"LOOKUP(REPT(CHAR(237),255),CHOOSE({1,2},\"\",VLOOKUP(M271,الاسناد!$A$6:$AI$29,35,0)))","v":""}]
[34,{"$f":"البداية!A53","v":0},null,"09-08",null,{"$f":"LOOKUP(REPT(CHAR(237),255),CHOOSE({1,2},\"\",VLOOKUP(E272,الاسناد!$A$6:$AJ$29,36,0)))","v":""},null,{"$f":"LOOKUP(REPT(CHAR(237),255),CHOOSE({1,2},\"\",VLOOKUP(G272,الاسناد!$A$6:$AJ$29,36,0)))","v":""},null,{"$f":"LOOKUP(REPT(CHAR(237),255),CHOOSE({1,2},\"\",VLOOKUP(I272,الاسناد!$A$6:$AJ$29,36,0)))","v":""},null,{"$f":"LOOKUP(REPT(CHAR(237),255),CHOOSE({1,2},\"\",VLOOKUP(K272,الاسناد!$A$6:$D$29,4,0)))","v":""},null,{"$f":"LOOKUP(REPT(CHAR(237),255),CHOOSE({1,2},\"\",VLOOKUP(M272,الاسناد!$A$6:$AJ$29,36,0)))","v":""}]
[null,null,null,"10-09",null,{"$f":"LOOKUP(REPT(CHAR(237),255),CHOOSE({1,2},\"\",VLOOKUP(E273,الاسناد!$A$6:$AJ$29,36,0)))","v":""},null,{"$f":"LOOKUP(REPT(CHAR(237),255),CHOOSE({1,2},\"\",VLOOKUP(G273,الاسناد!$A$6:$AJ$29,36,0)))","v":""},null,{"$f":"LOOKUP(REPT(CHAR(237),255),CHOOSE({1,2},\"\",VLOOKUP(I273,الاسناد!$A$6:$AJ$29,36,0)))","v":""},null,{"$f":"LOOKUP(REPT(CHAR(237),255),CHOOSE({1,2},\"\",VLOOKUP(K273,الاسناد!$A$6:$D$29,4,0)))","v":""},null,{"$f":"LOOKUP(REPT(CHAR(237),255),CHOOSE({1,2},\"\",VLOOKUP(M273,الاسناد!$A$6:$AJ$29,36,0)))","v":""}]
[null,null,null,"11-10",null,{"$f":"LOOKUP(REPT(CHAR(237),255),CHOOSE({1,2},\"\",VLOOKUP(E274,الاسناد!$A$6:$AJ$29,36,0)))","v":""},null,{"$f":"LOOKUP(REPT(CHAR(237),255),CHOOSE({1,2},\"\",VLOOKUP(G274,الاسناد!$A$6:$AJ$29,36,0)))","v":""},null,{"$f":"LOOKUP(REPT(CHAR(237),255),CHOOSE({1,2},\"\",VLOOKUP(I274,الاسناد!$A$6:$AJ$29,36,0)))","v":""},null,{"$f":"LOOKUP(REPT(CHAR(237),255),CHOOSE({1,2},\"\",VLOOKUP(K274,الاسناد!$A$6:$D$29,4,0)))","v":""},null,{"$f":"LOOKUP(REPT(CHAR(237),255),CHOOSE({1,2},\"\",VLOOKUP(M274,الاسناد!$A$6:$AJ$29,36,0)))","v":""}]
[null,null,null,"12-11",null,{"$f":"LOOKUP(REPT(CHAR(237),255),CHOOSE({1,2},\"\",VLOOKUP(E275,الاسناد!$A$6:$AJ$29,36,0)))","v":""},null,{"$f":"LOOKUP(REPT(CHAR(237),255),CHOOSE({1,2},\"\",VLOOKUP(G275,الاسناد!$A$6:$AJ$29,36,0)))","v":""},null,{"$f":"LOOKUP(REPT(CHAR(237),255),CHOOSE({1,2},\"\",VLOOKUP(I275,الاسناد!$A$6:$AJ$29,36,0)))","v":""},null,{"$f":"LOOKUP(REPT(CHAR(237),255),CHOOSE({1,2},\"\",VLOOKUP(K275,الاسناد!$A$6:$D$29,4,0)))","v":""},null,{"$f":"LOOKUP(REPT(CHAR(237),255),CHOOSE({1,2},\"\",VLOOKUP(M275,الاسناد!$A$6:$AJ$29,36,0)))","v":""}]
[null,null,null,"14-13",null,{"$f":"LOOKUP(REPT(CHAR(237),255),CHOOSE({1,2},\"\",VLOOKUP(E276,الاسناد!$A$6:$AJ$29,36,0)))","v":""},null,{"$f":"LOOKUP(REPT(CHAR(237),255),CHOOSE({1,2},\"\",VLOOKUP(G276,الاسناد!$A$6:$AJ$29,36,0)))","v":""},null,{"$f":"LOOKUP(REPT(CHAR(237),255),CHOOSE({1,2},\"\",VLOOKUP(I276,الاسناد!$A$6:$AJ$29,36,0)))","v":""},null,{"$f":"LOOKUP(REPT(CHAR(237),255),CHOOSE({1,2},\"\",VLOOKUP(K276,الاسناد!$A$6:$D$29,4,0)))","v":""},null,{"$f":"LOOKUP(REPT(CHAR(237),255),CHOOSE({1,2},\"\",VLOOKUP(M276,الاسناد!$A$6:$AJ$29,36,0)))","v":""}]
[null,null,null,"15-14",null,{"$f":"LOOKUP(REPT(CHAR(237),255),CHOOSE({1,2},\"\",VLOOKUP(E277,الاسناد!$A$6:$AJ$29,36,0)))","v":""},null,{"$f":"LOOKUP(REPT(CHAR(237),255),CHOOSE({1,2},\"\",VLOOKUP(G277,الاسناد!$A$6:$AJ$29,36,0)))","v":""},null,{"$f":"LOOKUP(REPT(CHAR(237),255),CHOOSE({1,2},\"\",VLOOKUP(I277,الاسناد!$A$6:$AJ$29,36,0)))","v":""},null,{"$f":"LOOKUP(REPT(CHAR(237),255),CHOOSE({1,2},\"\",VLOOKUP(K277,الاسناد!$A$6:$D$29,4,0)))","v":""},null,{"$f":"LOOKUP(REPT(CHAR(237),255),CHOOSE({1,2},\"\",VLOOKUP(M277,الاسناد!$A$6:$AJ$29,36,0)))","v":""}]
[null,null,null,"16-15",null,{"$f":"LOOKUP(REPT(CHAR(237),255),CHOOSE({1,2},\"\",VLOOKUP(E278,الاسناد!$A$6:$AJ$29,36,0)))","v":""},null,{"$f":"LOOKUP(REPT(CHAR(237),255),CHOOSE({1,2},\"\",VLOOKUP(G278,الاسناد!$A$6:$AJ$29,36,0)))","v":""},null,{"$f":"LOOKUP(REPT(CHAR(237),255),CHOOSE({1,2},\"\",VLOOKUP(I278,الاسناد!$A$6:$AJ$29,36,0)))","v":""},null,{"$f":"LOOKUP(REPT(CHAR(237),255),CHOOSE({1,2},\"\",VLOOKUP(K278,الاسناد!$A$6:$AJ$29,36,0)))","v":""},null,{"$f":"LOOKUP(REPT(CHAR(237),255),CHOOSE({1,2},\"\",VLOOKUP(M278,الاسناد!$A$6:$AJ$29,36,0)))","v":""}]
[null,null,null,"17-16",null,{"$f":"LOOKUP(REPT(CHAR(237),255),CHOOSE({1,2},\"\",VLOOKUP(E279,الاسناد!$A$6:$AJ$29,36,0)))","v":""},null,{"$f":"LOOKUP(REPT(CHAR(237),255),CHOOSE({1,2},\"\",VLOOKUP(G279,الاسناد!$A$6:$AJ$29,36,0)))","v":""},null,{"$f":"LOOKUP(REPT(CHAR(237),255),CHOOSE({1,2},\"\",VLOOKUP(I279,الاسناد!$A$6:$AJ$29,36,0)))","v":""},null,{"$f":"LOOKUP(REPT(CHAR(237),255),CHOOSE({1,2},\"\",VLOOKUP(K279,الاسناد!$A$6:$AJ$29,36,0)))","v":""},null,{"$f":"LOOKUP(REPT(CHAR(237),255),CHOOSE({1,2},\"\",VLOOKUP(M279,الاسناد!$A$6:$AJ$29,36,0)))","v":""}]
[35,{"$f":"البداية!A54","v":0},null,"09-08",null,{"$f":"LOOKUP(REPT(CHAR(237),255),CHOOSE({1,2},\"\",VLOOKUP(E280,الاسناد!$A$6:$AK$29,37,0)))","v":""},null,{"$f":"LOOKUP(REPT(CHAR(237),255),CHOOSE({1,2},\"\",VLOOKUP(G280,الاسناد!$A$6:$AK$29,37,0)))","v":""},null,{"$f":"LOOKUP(REPT(CHAR(237),255),CHOOSE({1,2},\"\",VLOOKUP(I280,الاسناد!$A$6:$AK$29,37,0)))","v":""},null,{"$f":"LOOKUP(REPT(CHAR(237),255),CHOOSE({1,2},\"\",VLOOKUP(K280,الاسناد!$A$6:$AK$29,37,0)))","v":""},null,{"$f":"LOOKUP(REPT(CHAR(237),255),CHOOSE({1,2},\"\",VLOOKUP(M280,الاسناد!$A$6:$AK$29,37,0)))","v":""}]
[null,null,null,"10-09",null,{"$f":"LOOKUP(REPT(CHAR(237),255),CHOOSE({1,2},\"\",VLOOKUP(E281,الاسناد!$A$6:$AK$29,37,0)))","v":""},null,{"$f":"LOOKUP(REPT(CHAR(237),255),CHOOSE({1,2},\"\",VLOOKUP(G281,الاسناد!$A$6:$AK$29,37,0)))","v":""},null,{"$f":"LOOKUP(REPT(CHAR(237),255),CHOOSE({1,2},\"\",VLOOKUP(I281,الاسناد!$A$6:$AK$29,37,0)))","v":""},null,{"$f":"LOOKUP(REPT(CHAR(237),255),CHOOSE({1,2},\"\",VLOOKUP(K281,الاسناد!$A$6:$AK$29,37,0)))","v":""},null,{"$f":"LOOKUP(REPT(CHAR(237),255),CHOOSE({1,2},\"\",VLOOKUP(M281,الاسناد!$A$6:$AK$29,37,0)))","v":""}]
[null,null,null,"11-10",null,{"$f":"LOOKUP(REPT(CHAR(237),255),CHOOSE({1,2},\"\",VLOOKUP(E282,الاسناد!$A$6:$AK$29,37,0)))","v":""},null,{"$f":"LOOKUP(REPT(CHAR(237),255),CHOOSE({1,2},\"\",VLOOKUP(G282,الاسناد!$A$6:$AK$29,37,0)))","v":""},null,{"$f":"LOOKUP(REPT(CHAR(237),255),CHOOSE({1,2},\"\",VLOOKUP(I282,الاسناد!$A$6:$AK$29,37,0)))","v":""},null,{"$f":"LOOKUP(REPT(CHAR(237),255),CHOOSE({1,2},\"\",VLOOKUP(K282,الاسناد!$A$6:$AK$29,37,0)))","v":""},null,{"$f":"LOOKUP(REPT(CHAR(237),255),CHOOSE({1,2},\"\",VLOOKUP(M282,الاسناد!$A$6:$AK$29,37,0)))","v":""}]
[null,null,null,"12-11",null,{"$f":"LOOKUP(REPT(CHAR(237),255),CHOOSE({1,2},\"\",VLOOKUP(E283,الاسناد!$A$6:$AK$29,37,0)))","v":""},null,{"$f":"LOOKUP(REPT(CHAR(237),255),CHOOSE({1,2},\"\",VLOOKUP(G283,الاسناد!$A$6:$AK$29,37,0)))","v":""},null,{"$f":"LOOKUP(REPT(CHAR(237),255),CHOOSE({1,2},\"\",VLOOKUP(I283,الاسناد!$A$6:$AK$29,37,0)))","v":""},null,{"$f":"LOOKUP(REPT(CHAR(237),255),CHOOSE({1,2},\"\",VLOOKUP(K283,الاسناد!$A$6:$AK$29,37,0)))","v":""},null,{"$f":"LOOKUP(REPT(CHAR(237),255),CHOOSE({1,2},\"\",VLOOKUP(M283,الاسناد!$A$6:$AK$29,37,0)))","v":""}]
[null,null,null,"14-13",null,{"$f":"LOOKUP(REPT(CHAR(237),255),CHOOSE({1,2},\"\",VLOOKUP(E284,الاسناد!$A$6:$AK$29,37,0)))","v":""},null,{"$f":"LOOKUP(REPT(CHAR(237),255),CHOOSE({1,2},\"\",VLOOKUP(G284,الاسناد!$A$6:$AK$29,37,0)))","v":""},null,{"$f":"LOOKUP(REPT(CHAR(237),255),CHOOSE({1,2},\"\",VLOOKUP(I284,الاسناد!$A$6:$AK$29,37,0)))","v":""},null,{"$f":"LOOKUP(REPT(CHAR(237),255),CHOOSE({1,2},\"\",VLOOKUP(K284,الاسناد!$A$6:$AK$29,37,0)))","v":""},null,{"$f":"LOOKUP(REPT(CHAR(237),255),CHOOSE({1,2},\"\",VLOOKUP(M284,الاسناد!$A$6:$AK$29,37,0)))","v":""}]
[null,null,null,"15-14",null,{"$f":"LOOKUP(REPT(CHAR(237),255),CHOOSE({1,2},\"\",VLOOKUP(E285,الاسناد!$A$6:$AK$29,37,0)))","v":""},null,{"$f":"LOOKUP(REPT(CHAR(237),255),CHOOSE({1,2},\"\",VLOOKUP(G285,الاسناد!$A$6:$AK$29,37,0)))","v":""},null,{"$f":"LOOKUP(REPT(CHAR(237),255),CHOOSE({1,2},\"\",VLOOKUP(I285,الاسناد!$A$6:$AK$29,37,0)))","v":""},null,{"$f":"LOOKUP(REPT(CHAR(237),255),CHOOSE({1,2},\"\",VLOOKUP(K285,الاسناد!$A$6:$AK$29,37,0)))","v":""},null,{"$f":"LOOKUP(REPT(CHAR(237),255),CHOOSE({1,2},\"\",VLOOKUP(M285,الاسناد!$A$6:$AK$29,37,0)))","v":""}]
[null,null,null,"16-15",null,{"$f":"LOOKUP(REPT(CHAR(237),255),CHOOSE({1,2},\"\",VLOOKUP(E286,الاسناد!$A$6:$AK$29,37,0)))","v":""},null,{"$f":"LOOKUP(REPT(CHAR(237),255),CHOOSE({1,2},\"\",VLOOKUP(G286,الاسناد!$A$6:$AK$29,37,0)))","v":""},null,{"$f":"LOOKUP(REPT(CHAR(237),255),CHOOSE({1,2},\"\",VLOOKUP(I286,الاسناد!$A$6:$AK$29,37,0)))","v":""},null,{"$f":"LOOKUP(REPT(CHAR(237),255),CHOOSE({1,2},\"\",VLOOKUP(K286,الاسناد!$A$6:$AK$29,37,0)))","v":""},null,{"$f":"LOOKUP(REPT(CHAR(237),255),CHOOSE({1,2},\"\",VLOOKUP(M286,الاسناد!$A$6:$AK$29,37,0)))","v":""}]
[null,null,null,"17-16",null,{"$f":"LOOKUP(REPT(CHAR(237),255),CHOOSE({1,2},\"\",VLOOKUP(E287,الاسناد!$A$6:$AK$29,37,0)))","v":""},null,{"$f":"LOOKUP(REPT(CHAR(237),255),CHOOSE({1,2},\"\",VLOOKUP(G287,الاسناد!$A$6:$AK$29,37,0)))","v":""},null,{"$f":"LOOKUP(REPT(CHAR(237),255),CHOOSE({1,2},\"\",VLOOKUP(I287,الاسناد!$A$6:$AK$29,37,0)))","v":""},null,{"$f":"LOOKUP(REPT(CHAR(237),255),CHOOSE({1,2},\"\",VLOOKUP(K287,الاسناد!$A$6:$AK$29,37,0)))","v":""},null,{"$f":"LOOKUP(REPT(CHAR(237),255),CHOOSE({1,2},\"\",VLOOKUP(M287,الاسناد!$A$6:$AK$29,37,0)))","v":""}]

{"sheet":"مواقيت الأساتذة","index":8,"n_rows":583,"n_cols":9,"rows_kept":583,"cut":false,"hidden":false,"merged":[[527,0,534,0],[527,1,534,2],[4,4,6,4],[4,5,6,5],[4,6,6,6],[4,7,6,7],[4,0,6,0],[4,1,6,2],[4,3,6,3],[503,0,510,0],[503,1,510,2],[511,0,518,0],[511,1,518,2],[519,0,526,0],[519,1,526,2],[479,0,486,0],[479,1,486,2],[487,0,494,0],[487,1,494,2],[495,0,502,0],[447,0,454,0],[447,1,454,2],[495,1,502,2],[455,0,462,0],[455,1,462,2],[463,0,470,0],[463,1,470,2],[471,0,478,0],[471,1,478,2],[407,0,414,0],[407,1,414,2],[415,0,422,0],[415,1,422,2],[423,0,430,0],[423,1,430,2],[431,0,438,0],[431,1,438,2],[439,0,446,0],[439,1,446,2],[367,0,374,0],[367,1,374,2],[375,0,382,0],[375,1,382,2],[383,0,390,0],[383,1,390,2],[391,0,398,0],[391,1,398,2],[399,0,406,0],[399,1,406,2],[327,0,334,0],[327,1,334,2],[335,0,342,0],[335,1,342,2],[343,0,350,0],[343,1,350,2],[351,0,358,0],[351,1,358,2],[359,0,366,0],[359,1,366,2],[287,0,294,0],[287,1,294,2],[295,0,302,0],[295,1,302,2],[303,0,310,0],[303,1,310,2],[311,0,318,0],[311,1,318,2],[319,0,326,0],[319,1,326,2],[239,0,246,0],[239,1,246,2],[271,0,278,0],[271,1,278,2],[279,0,286,0],[279,1,286,2],[247,0,254,0],[247,1,254,2],[255,0,262,0],[255,1,262,2],[263,0,270,0],[263,1,270,2],[199,0,206,0],[199,1,206,2],[207,0,214,0],[207,1,214,2],[215,0,222,0],[215,1,222,2],[223,0,230,0],[223,1,230,2],[231,0,238,0],[231,1,238,2],[159,0,166,0],[159,1,166,2],[167,0,174,0],[167,1,174,2],[175,0,182,0],[175,1,182,2],[183,0,190,0],[183,1,190,2],[191,0,198,0],[191,1,198,2],[119,0,126,0],[119,1,126,2],[127,0,134,0],[127,1,134,2],[135,0,142,0],[135,1,142,2],[143,0,150,0],[143,1,150,2],[151,0,158,0],[151,1,158,2],[79,0,86,0],[79,1,86,2],[87,0,94,0],[87,1,94,2],[95,0,102,0],[95,1,102,2],[103,0,110,0],[103,1,110,2],[111,0,118,0],[111,1,118,2],[39,0,46,0],[39,1,46,2],[47,0,54,0],[47,1,54,2],[55,0,62,0],[55,1,62,2],[63,0,70,0],[63,1,70,2],[71,0,78,0],[71,1,78,2],[0,0,2,8],[4,8,6,8],[7,0,14,0],[7,1,14,2],[15,0,22,0],[15,1,22,2],[23,0,30,0],[23,1,30,2],[31,0,38,0],[31,1,38,2],[559,0,566,0],[559,1,566,2],[567,0,574,0],[567,1,574,2],[575,0,582,0],[575,1,582,2],[535,0,542,0],[535,1,542,2],[543,0,550,0],[543,1,550,2],[551,0,558,0],[551,1,558,2]]}
[" مواقيت الأساتذة"]
[]
[]
[]
["الرقم","القسم",null,"التوقيت","الأحد","الاثنين","الثلاثاء","الأربعاء","الخميس"]
[]
[]
[1,{"$f":"'اسناد الأقسام'!C7","v":"العابد مباركة "},null,"09-08","4م3 تربية اسلامية",null,null,null,"2م1 تربية اسلامية"]
[null,null,null,"10-09","2م1 لغة عربية ",null,"4م3 لغة عربية "]
[null,null,null,"11-10","4م3 اعمال موجهة ",null,"2م1 لغة عربية ","2م1 لغة عربية","2م1 لغة عربية"]
[null,null,null,"12-11","4م3 اعمال موجهة ",null,"2م1 اعمال موجهة","4م3 لغة عربية","4م3  لغة عربية"]
[null,null,null,"14-13"]
[null,null,null,"15-14",null,null,null,null,"2م1 لفة عربية"]
[null,null,null,"16-15",null,null,null,null,"4م3 لغة عربية "]
[null,null,null,"17-16"]
[2,{"$f":"'اسناد الأقسام'!C8","v":"سهلي بوعلام "},null,"09-08",null,null,"4م1 لغة عربية","4م2 لغة عربية","4م1 لغة عربية"]
[null,null,null,"10-09",null,null,"4م2 لغة عربية",null,"4م2 لغة عربية"]
[null,null,null,"11-10","4م2 اعمال موجهة ",null,"4م1 تربية اسلامية","4م1 اعمال موجهة"]
[null,null,null,"12-11","4م2 اعمال موجهة",null,"4م2  تربية اسلامية","4م1 اعمال موجهة"]
[null,null,null,"14-13"]
[null,null,null,"15-14","3م2 تربية اسلامية","3م1 تربية اسلامية"]
[null,null,null,"16-15","4م2 لغة عربية","4م1 لغة عربية"]
[null,null,null,"17-16","4م1 لغة عربية"]
[3,{"$f":"'اسناد الأقسام'!C9","v":"بدراني خديجة "},null,"09-08","1م1 لغة عربية "]
[null,null,null,"10-09","2م2 لغة عربية ",null,null,null,"1م1 لغة عربية"]
[null,null,null,"11-10",null,null,"1م1 لغة عربية","1م1 لغة عربية ","2م2 لغة عربية"]
[null,null,null,"12-11",null,null,"2م2 لغة عربية","2م2 اعمال موجهة"]
[null,null,null,"14-13"]
[null,null,null,"15-14","2م2 لغة عربية ",null,null,"2م2 لغة عربية ","2م2 تربية اسلامية"]
[null,null,null,"16-15","1م1 اعمال موجهة",null,null,"1م1 لغة عربية","1م1 تربية اسلامية"]
[null,null,null,"17-16",null,null,null,"1م2 تربية اسلامية"]
[4,{"$f":"'اسناد الأقسام'!C10","v":"تهامي أم الخير "},null,"09-08","3م1 لغة عربية",null,"1م2 لغة عربية","3م1 لغة عربية","3م2 لغة عربية"]
[null,null,null,"10-09","3م2 لغة عربية",null,"3م1 لغة عربية","1م2 لغة عربية","1م2 لغة عربية"]
[null,null,null,"11-10",null,null,"3م2 لغة عربية"]
[null,null,null,"12-11",null,null,"3م1اعمال موجهة"]
[null,null,null,"14-13"]
[null,null,null,"15-14","1م2 اعمال موجهة",null,null,null,"3م1 لغة عربية"]
[null,null,null,"16-15","3م2 اعمال موجهة",null,null,"3م2 لغة عربية","1م2 لغة عربية"]
[null,null,null,"17-16",null,null,null,"1م2 لغة عربية"]
[5,{"$f":"'اسناد الأقسام'!C11","v":"سماعيني بن يوسف"},null,"09-08","1م2 رياضيات ","1م2 رياضيات ","3م1 رياضيات ","1م1 رياضيات "]
[null,null,null,"10-09","3م1 رياضيات ","1م1 رياضيات ","1م1 رياضيات ","3م1 رياضيات"]
[null,null,null,"11-10","1م1 رياضيات ",null,"1م2 رياضيات","1م2 رياضيات "]
[null,null,null,"12-11",null,null,"3م1 اعمال موجهة"]
[null,null,null,"14-13"]
[null,null,null,"15-14","1م2 اعمال موجهة"]
[null,null,null,"16-15","1م1 اعمال موجهة"]
[null,null,null,"17-16","3م1 رياضيات "]
[6,{"$f":"'اسناد الأقسام'!C12","v":"حساني عبد القادر "},null,"09-08","3م2 رياضيات",null,null,"3م2 رياضيات"]
[null,null,null,"10-09","4م1 رياضيات ","4م1 رياضيات","4م1 رياضيات"]
[null,null,null,"11-10","4م2 اعمال موحهة","3م2 رياضيات","4م2 رياضيات","4م1 اعمال موحهة"]
[null,null,null,"12-11","4م2 اعمال موحهة","4م2 رياضيات","3م2 رياضيات","4م1 اعمال موحهة"]
[null,null,null,"14-13"]
[null,null,null,"15-14","4م2 رياضيات",null,null,"4م2 رياضيات"]
[null,null,null,"16-15","3م2 راعمال موجهة",null,null,"4م1 رياضيات"]
[null,null,null,"17-16"]
[7,{"$f":"'اسناد الأقسام'!C13","v":"حساني فاطمة "},null,"09-08","2م2 رياضيات","4م3 رياضيات","4م3 رياضيات","4م3 رياضيات"]
[null,null,null,"10-09","4م3 رياضيات","2م2 رياضيات","2م1 رياضيات","2م1 رياضيات"]
[null,null,null,"11-10","4م3 اعمال موجهة ","2م1 رياضيات","2م2 رياضيات"]
[null,null,null,"12-11","4م3 اعمال موجهة ",null,"2م1 اعمال موجهة","2م2 اعمال موجهة"]
[null,null,null,"14-13"]
[null,null,null,"15-14",null,"2م1 رياضيات"]
[null,null,null,"16-15",null,"2م2 رياضيات"]
[null,null,null,"17-16"]
[8,{"$f":"'اسناد الأقسام'!C14","v":"داودي ميلود"},null,"09-08","4م2 تكنوجيا","2م1 تكنولوجيا","2م2 تكنولوجيا",null,"2م2 تكنولوجيا"]
[null,null,null,"10-09","4م2 تكنوجيا",null,null,null,"2م2 تكنولوجيا"]
[null,null,null,"11-10",null,"4م1 تكنولوجيا","4م3 تكنولوجيا",null,"4م3 تكنولوجيا"]
[null,null,null,"12-11",null,"4م1 تكنولوجيا","4م3 تكنولوجيا"]
[null,null,null,"14-13"]
[null,null,null,"15-14","2م1 تكنولوجيا",null,null,"4م1 تكنولوجيا"]
[null,null,null,"16-15","2م1 تكنولوجيا",null,null,"4م2 تكنولوجيا"]
[null,null,null,"17-16"]
[9,{"$f":"'اسناد الأقسام'!C15","v":"طيبي عبد القادر "},null,"09-08",null,"3م1 تكنولوجيا","3م2 تكنولوجيا"]
[null,null,null,"10-09",null,"3م1 تكنولوجيا","3م2 تكنولوجيا"]
[null,null,null,"11-10","1م2 اعلام آلى",null,"3م1 تكنولوجيا",null,"1م2 تكنولوجيا"]
[null,null,null,"12-11","1م1 اعلام آلى",null,"1م2 تكنولوجيا",null,"1م2 تكنولوجيا"]
[null,null,null,"14-13"]
[null,null,null,"15-14","1م1 رسم","1م1 تكنولوجيا"]
[null,null,null,"16-15","1م2 رسم","1م1 تكنولوجيا"]
[null,null,null,"17-16","1م1 تكنولوجيا","3م2 تكنولوجيا"]
[10,{"$f":"'اسناد الأقسام'!C16","v":"حطاب رشيدة "},null,"09-08","4م2 علوم طبيعية",null,"2م1 علوم طبيعية",null,"2م2 علوم طبيعية "]
[null,null,null,"10-09","4م2 علوم طبيعية",null,null,null,"2م2 علوم طبيعية "]
[null,null,null,"11-10","4م1 علوم طبيعية","4م1 علوم طبيعية","4م3 علوم طبيعية"]
[null,null,null,"12-11","2م2 علوم طبيعية","4م1 علوم طبيعية","4م3 علوم طبيعية"]
[null,null,null,"14-13"]
[null,null,null,"15-14","2م1 علوم طبيعية","4م3 علوم طبيعية"]
[null,null,null,"16-15","2م1 علوم طبيعية","4م2 علوم طبيعية"]
[null,null,null,"17-16"]
[11,{"$f":"'اسناد الأقسام'!C17","v":"مجدوب طلحة "},null,"09-08",null,"3م1 علوم طبيعية","3م2 علوم طبيعية"]
[null,null,null,"10-09",null,"3م1 علوم طبيعية","3م2 علوم طبيعية"]
[null,null,null,"11-10",null,null,null,"3م1 علوم طبيعية","1م2 علوم طبيعية"]
[null,null,null,"12-11",null,"3م2 علوم طبيعية","1م1 علوم طبيعية","1م2 علوم طبيعية","1م2 علوم طبيعية"]
[null,null,null,"14-13"]
[null,null,null,"15-14",null,"1م1 علوم طبيعية",null,"2م1 رسم"]
[null,null,null,"16-15",null,"1م1 علوم طبيعية",null,"2م1 اعلام آلى"]
[null,null,null,"17-16",null,"2م2 اعلام آلى",null,"2م2 رسم"]
[12,{"$f":"'اسناد الأقسام'!C18","v":"مغزي محمد "},null,"09-08",null,"3م2 فرنسية"]
[null,null,null,"10-09",null,"4م3 فرنسية",null,"3م2 فرنسية"]
[null,null,null,"11-10","3م2 فرنسية",null,null,"4م3 فرنسية","3م2 فرنسية"]
[null,null,null,"12-11","3م1 فرنسية","4م3 فرنسية",null,null,"3م1 فرنسية"]
[null,null,null,"14-13"]
[null,null,null,"15-14","3م1 فرنسية",null,null,"3م1 فرنسية","4م3 فرنسية"]
[null,null,null,"16-15","4م3 فرنسية",null,null,"3م2 فرنسية","3م1 فرنسية"]
[null,null,null,"17-16"]
[13,{"$f":"'اسناد الأقسام'!C19","v":"كواهي يعقوب "},null,"09-08","4م1 فرنسية","4م2 فرنسية",null,"1م2 فرنسية","4م2 اعمال موجهة"]
[null,null,null,"10-09","1م2 فرنسية","1م2 فرنسية",null,"4م1 فرنسية"]
[null,null,null,"11-10",null,null,null,null,"4م1 اعمال موجهة"]
[null,null,null,"12-11","4م1 فرنسية",null,null,null,"4م2 فرنسية"]
[null,null,null,"14-13"]
[null,null,null,"15-14",null,"4م2 فرنسية",null,null,"1م2 فرنسية"]
[null,null,null,"16-15",null,"1م2 اعمال موجهة",null,null,"4م2 فرنسية"]
[null,null,null,"17-16",null,"4م1 فرنسية"]
[14,{"$f":"'اسناد الأقسام'!C20","v":"امحمدي بوشوشة "},null,"09-08","2م1 فرنسية",null,null,"2م1 فرنسية","1م1 فرنسية"]
[null,null,null,"10-09","1م1 فرنسية",null,null,"1م1 فرنسية","2م1 فرنسية"]
[null,null,null,"11-10","2م2 فرنسية","2م2 فرنسية"]
[null,null,null,"12-11",null,"2م1 اعمال موجهة"]
[null,null,null,"14-13"]
[null,null,null,"15-14",null,"2م2 فرنسية",null,"1م1 اعمال موجهة","1م1 فرنسية"]
[null,null,null,"16-15",null,"2م1 فرنسية",null,"2م2 اعمال موجهة","2م2 فرنسية"]
[null,null,null,"17-16"]
[15,{"$f":"'اسناد الأقسام'!C21","v":"زريفي إبراهيم"},null,"09-08",null,"1م1 انجليزية",null,null,"1م2 انجليزية"]
[null,null,null,"10-09",null,"3م2 انجليزية",null,null,"3م2 انجليزية"]
[null,null,null,"11-10","3م1 انجليزية","3م1 انجليزية"]
[null,null,null,"12-11","3م2 اانجليزية",null,null,null,"3م1 اعمال موجهة"]
[null,null,null,"14-13"]
[null,null,null,"15-14",null,null,null,"1م1 اعمال موجهة"]
[null,null,null,"16-15","3م1 انجليزية","1م2 اعمال موجهة",null,"3م2 اعمال موجهة"]
[null,null,null,"17-16","1م2 انجليزية","1م1 انجليزية"]
[16,{"$f":"'اسناد الأقسام'!C22","v":"محمدي مريم "},null,"09-08",null,"4م1 انجليزية",null,"4م1 انجليزية","4م2 اعمال موجهة"]
[null,null,null,"10-09",null,"4م2 انجليزية",null,"4م2 انجليزية","4م3 انجليزية"]
[null,null,null,"11-10",null,"4م3 انجليزية ",null,"4م3 اعمال موجهة","4م1 اعمال موجهة"]
[null,null,null,"12-11",null,"2م1 اعمال موجهة",null,null,"2م2 انجليزية"]
[null,null,null,"14-13"]
[null,null,null,"15-14","4م3 انجليزية",null,null,null,"4م1 انجليزية"]
[null,null,null,"16-15","2م2 انجليزية",null,null,"2م2 اعمال موجهة","2م1 انجليزية"]
[null,null,null,"17-16","4م2 انجليزية",null,null,"2م1 انجليزية"]
[17,{"$f":"'اسناد الأقسام'!C23","v":"مشارة محمد "},null,"09-08",null,null,"1م1 اجتماعيات"]
[null,null,null,"10-09",null,null,"1م2 اجتماعيات"]
[null,null,null,"11-10",null,"1م1 اجتماعيات",null,"3م2 اجتماعيات","3م1 اجتماعيات"]
[null,null,null,"12-11",null,"3م1 اجتماعيات",null,"1م1 اجتماعيات","3م2 اجتماعيات"]
[null,null,null,"14-13"]
[null,null,null,"15-14",null,"1م2 اجتماعيات",null,"1م2 اجتماعيات"]
[null,null,null,"16-15",null,"3م2 اجتماعيات",null,"3م1 اجتماعيات"]
[null,null,null,"17-16"]
[18,{"$f":"'اسناد الأقسام'!C24","v":"بدراني شريف"},null,"09-08",null,"2م2 اجتماعيات","4م2 اجتماعيات",null,"4م3 اجتماعيات"]
[null,null,null,"10-09",null,"2م1 اجتماعيات","2م2 اجتماعيات","4م3 اجتماعيات","4م1 اجتماعيات"]
[null,null,null,"11-10",null,"4م2 اجتماعيات",null,"2م2 اجتماعيات","4م2 اجتماعيات"]
[null,null,null,"12-11",null,null,"4م1 اجتماعيات","2م1 اجتماعيات","2م1 اجتماعيات"]
[null,null,null,"14-13"]
[null,null,null,"15-14",null,"4م1 اجتماعيات"]
[null,null,null,"16-15",null,"4م3 اجتماعيات"]
[null,null,null,"17-16"]
[19,{"$f":"'اسناد الأقسام'!C25","v":"جليد الميلود"},null,"09-08"]
[null,null,null,"10-09"]
[null,null,null,"11-10","1م2 رسم / ف1"]
[null,null,null,"12-11","1م1 رسم /ف1"]
[null,null,null,"14-13"]
[null,null,null,"15-14","1م1 رسم/ ف2","3م2 رسم",null,"2م1 رسم /ف1","4م2 رسم"]
[null,null,null,"16-15","1م2 رسم / ف2","3م1 رسم",null,"2م1 رسم /ف2","4م1 رسم"]
[null,null,null,"17-16","4م3 رسم","2م2  رسم ف/1",null,"2م2 رسم /ف2"]
[20,{"$f":"'اسناد الأقسام'!C26","v":"قرمان البشير "},null,"09-08",null,null,null,"2م2 ت.بدنية","3م1 ت.بدنية"]
[null,null,null,"10-09",null,null,null,"2م2 ت.بدنية","3م1 ت.بدنية"]
[null,null,null,"11-10","2م1 ت.بدنية","1م2 ت.بدنية",null,"4م2 ت.بدنية","1م1 ت. بدنية"]
[null,null,null,"12-11","2م1 ت.بدنية","1م2 ت.بدنية",null,"4م2 ت.بدنية","1م1 ت. بدنية"]
[null,null,null,"14-13"]
[null,null,null,"15-14","4م1 ت. بدنية",null,null,"4م3 ت.بدنية","3م2 ت. بدنية"]
[null,null,null,"16-15","4م1 ت. بدنية",null,null,"4م3 ت.بدنية","3م2 ت. بدنية"]
[null,null,null,"17-16"]
[21,{"$f":"'اسناد الأقسام'!C27","v":0},null,"09-08"]
[null,null,null,"10-09"]
[null,null,null,"11-10"]
[null,null,null,"12-11"]
[null,null,null,"14-13"]
[null,null,null,"15-14"]
[null,null,null,"16-15"]
[null,null,null,"17-16"]
[22,{"$f":"'اسناد الأقسام'!C28","v":0},null,"09-08"]
[null,null,null,"10-09"]
[null,null,null,"11-10"]
[null,null,null,"12-11"]
[null,null,null,"14-13"]
[null,null,null,"15-14"]
[null,null,null,"16-15"]
[null,null,null,"17-16"]
[23,{"$f":"'اسناد الأقسام'!C29","v":0},null,"09-08"]
[null,null,null,"10-09"]
[null,null,null,"11-10"]
[null,null,null,"12-11"]
[null,null,null,"14-13"]
[null,null,null,"15-14"]
[null,null,null,"16-15"]
[null,null,null,"17-16"]
[24,{"$f":"'اسناد الأقسام'!C30","v":0},null,"09-08"]
[null,null,null,"10-09"]
[null,null,null,"11-10"]
[null,null,null,"12-11"]
[null,null,null,"14-13"]
[null,null,null,"15-14"]
[null,null,null,"16-15"]
[null,null,null,"17-16"]
[25,{"$f":"'اسناد الأقسام'!C31","v":0},null,"09-08"]
[null,null,null,"10-09"]
[null,null,null,"11-10"]
[null,null,null,"12-11"]
[null,null,null,"14-13"]
[null,null,null,"15-14"]
[null,null,null,"16-15"]
[null,null,null,"17-16"]
[26,{"$f":"'اسناد الأقسام'!C32","v":0},null,"09-08"]
[null,null,null,"10-09"]
[null,null,null,"11-10"]
[null,null,null,"12-11"]
[null,null,null,"14-13"]
[null,null,null,"15-14"]
[null,null,null,"16-15"]
[null,null,null,"17-16"]
[27,{"$f":"'اسناد الأقسام'!C33","v":0},null,"09-08"]
[null,null,null,"10-09"]
[null,null,null,"11-10"]
[null,null,null,"12-11"]
[null,null,null,"14-13"]
[null,null,null,"15-14"]
[null,null,null,"16-15"]
[null,null,null,"17-16"]
[28,{"$f":"'اسناد الأقسام'!C34","v":0},null,"09-08"]
[null,null,null,"10-09"]
[null,null,null,"11-10"]
[null,null,null,"12-11"]
[null,null,null,"14-13"]
[null,null,null,"15-14"]
[null,null,null,"16-15"]
[null,null,null,"17-16"]
[29,{"$f":"'اسناد الأقسام'!C35","v":0},null,"09-08"]
[null,null,null,"10-09"]
[null,null,null,"11-10"]
[null,null,null,"12-11"]
[null,null,null,"14-13"]
[null,null,null,"15-14"]
[null,null,null,"16-15"]
[null,null,null,"17-16"]
[30,{"$f":"'اسناد الأقسام'!C36","v":0},null,"09-08"]
[null,null,null,"10-09"]
[null,null,null,"11-10"]
[null,null,null,"12-11"]
[null,null,null,"14-13"]
[null,null,null,"15-14"]
[null,null,null,"16-15"]
[null,null,null,"17-16"]
[31,{"$f":"'اسناد الأقسام'!C37","v":0},null,"09-08"]
[null,null,null,"10-09"]
[null,null,null,"11-10"]
[null,null,null,"12-11"]
[null,null,null,"14-13"]
[null,null,null,"15-14"]
[null,null,null,"16-15"]
[null,null,null,"17-16"]
[32,{"$f":"'اسناد الأقسام'!C38","v":0},null,"09-08"]
[null,null,null,"10-09"]
[null,null,null,"11-10"]
[null,null,null,"12-11"]
[null,null,null,"14-13"]
[null,null,null,"15-14"]
[null,null,null,"16-15"]
[null,null,null,"17-16"]
[33,{"$f":"'اسناد الأقسام'!C39","v":0},null,"09-08"]
[null,null,null,"10-09"]
[null,null,null,"11-10"]
[null,null,null,"12-11"]
[null,null,null,"14-13"]
[null,null,null,"15-14"]
[null,null,null,"16-15"]
[null,null,null,"17-16"]
[34,{"$f":"'اسناد الأقسام'!C40","v":0},null,"09-08"]
[null,null,null,"10-09"]
[null,null,null,"11-10"]
[null,null,null,"12-11"]
[null,null,null,"14-13"]
[null,null,null,"15-14"]
[null,null,null,"16-15"]
[null,null,null,"17-16"]
[35,{"$f":"'اسناد الأقسام'!C41","v":0},null,"09-08"]
[null,null,null,"10-09"]
[null,null,null,"11-10"]
[null,null,null,"12-11"]
[null,null,null,"14-13"]
[null,null,null,"15-14"]
[null,null,null,"16-15"]
[null,null,null,"17-16"]
[36,{"$f":"'اسناد الأقسام'!C42","v":0},null,"09-08"]
[null,null,null,"10-09"]
[null,null,null,"11-10"]
[null,null,null,"12-11"]
[null,null,null,"14-13"]
[null,null,null,"15-14"]
[null,null,null,"16-15"]
[null,null,null,"17-16"]
[37,{"$f":"'اسناد الأقسام'!C43","v":0},null,"09-08"]
[null,null,null,"10-09"]
[null,null,null,"11-10"]
[null,null,null,"12-11"]
[null,null,null,"14-13"]
[null,null,null,"15-14"]
[null,null,null,"16-15"]
[null,null,null,"17-16"]
[38,{"$f":"'اسناد الأقسام'!C44","v":0},null,"09-08"]
[null,null,null,"10-09"]
[null,null,null,"11-10"]
[null,null,null,"12-11"]
[null,null,null,"14-13"]
[null,null,null,"15-14"]
[null,null,null,"16-15"]
[null,null,null,"17-16"]
[39,{"$f":"'اسناد الأقسام'!C45","v":0},null,"09-08"]
[null,null,null,"10-09"]
[null,null,null,"11-10"]
[null,null,null,"12-11"]
[null,null,null,"14-13"]
[null,null,null,"15-14"]
[null,null,null,"16-15"]
[null,null,null,"17-16"]
[40,{"$f":"'اسناد الأقسام'!C46","v":0},null,"09-08"]
[null,null,null,"10-09"]
[null,null,null,"11-10"]
[null,null,null,"12-11"]
[null,null,null,"14-13"]
[null,null,null,"15-14"]
[null,null,null,"16-15"]
[null,null,null,"17-16"]
[41,{"$f":"'اسناد الأقسام'!C47","v":0},null,"09-08"]
[null,null,null,"10-09"]
[null,null,null,"11-10"]
[null,null,null,"12-11"]
[null,null,null,"14-13"]
[null,null,null,"15-14"]
[null,null,null,"16-15"]
[null,null,null,"17-16"]
[42,{"$f":"'اسناد الأقسام'!C48","v":0},null,"09-08"]
[null,null,null,"10-09"]
[null,null,null,"11-10"]
[null,null,null,"12-11"]
[null,null,null,"14-13"]
[null,null,null,"15-14"]
[null,null,null,"16-15"]
[null,null,null,"17-16"]
[43,{"$f":"'اسناد الأقسام'!C49","v":0},null,"09-08"]
[null,null,null,"10-09"]
[null,null,null,"11-10"]
[null,null,null,"12-11"]
[null,null,null,"14-13"]
[null,null,null,"15-14"]
[null,null,null,"16-15"]
[null,null,null,"17-16"]
[44,{"$f":"'اسناد الأقسام'!C50","v":0},null,"09-08"]
[null,null,null,"10-09"]
[null,null,null,"11-10"]
[null,null,null,"12-11"]
[null,null,null,"14-13"]
[null,null,null,"15-14"]
[null,null,null,"16-15"]
[null,null,null,"17-16"]
[45,{"$f":"'اسناد الأقسام'!C51","v":0},null,"09-08"]
[null,null,null,"10-09"]
[null,null,null,"11-10"]
[null,null,null,"12-11"]
[null,null,null,"14-13"]
[null,null,null,"15-14"]
[null,null,null,"16-15"]
[null,null,null,"17-16"]
[46,{"$f":"'اسناد الأقسام'!C52","v":0},null,"09-08"]
[null,null,null,"10-09"]
[null,null,null,"11-10"]
[null,null,null,"12-11"]
[null,null,null,"14-13"]
[null,null,null,"15-14"]
[null,null,null,"16-15"]
[null,null,null,"17-16"]
[47,{"$f":"'اسناد الأقسام'!C53","v":0},null,"09-08"]
[null,null,null,"10-09"]
[null,null,null,"11-10"]
[null,null,null,"12-11"]
[null,null,null,"14-13"]
[null,null,null,"15-14"]
[null,null,null,"16-15"]
[null,null,null,"17-16"]
[48,{"$f":"'اسناد الأقسام'!C54","v":0},null,"09-08"]
[null,null,null,"10-09"]
[null,null,null,"11-10"]
[null,null,null,"12-11"]
[null,null,null,"14-13"]
[null,null,null,"15-14"]
[null,null,null,"16-15"]
[null,null,null,"17-16"]
[49,{"$f":"'اسناد الأقسام'!C55","v":0},null,"09-08"]
[null,null,null,"10-09"]
[null,null,null,"11-10"]
[null,null,null,"12-11"]
[null,null,null,"14-13"]
[null,null,null,"15-14"]
[null,null,null,"16-15"]
[null,null,null,"17-16"]
[50,{"$f":"'اسناد الأقسام'!C56","v":0},null,"09-08"]
[null,null,null,"10-09"]
[null,null,null,"11-10"]
[null,null,null,"12-11"]
[null,null,null,"14-13"]
[null,null,null,"15-14"]
[null,null,null,"16-15"]
[null,null,null,"17-16"]
[51,{"$f":"'اسناد الأقسام'!C57","v":0},null,"09-08"]
[null,null,null,"10-09"]
[null,null,null,"11-10"]
[null,null,null,"12-11"]
[null,null,null,"14-13"]
[null,null,null,"15-14"]
[null,null,null,"16-15"]
[null,null,null,"17-16"]
[52,{"$f":"'اسناد الأقسام'!C58","v":0},null,"09-08"]
[null,null,null,"10-09"]
[null,null,null,"11-10"]
[null,null,null,"12-11"]
[null,null,null,"14-13"]
[null,null,null,"15-14"]
[null,null,null,"16-15"]
[null,null,null,"17-16"]
[53,{"$f":"'اسناد الأقسام'!C59","v":0},null,"09-08"]
[null,null,null,"10-09"]
[null,null,null,"11-10"]
[null,null,null,"12-11"]
[null,null,null,"14-13"]
[null,null,null,"15-14"]
[null,null,null,"16-15"]
[null,null,null,"17-16"]
[54,{"$f":"'اسناد الأقسام'!C60","v":0},null,"09-08"]
[null,null,null,"10-09"]
[null,null,null,"11-10"]
[null,null,null,"12-11"]
[null,null,null,"14-13"]
[null,null,null,"15-14"]
[null,null,null,"16-15"]
[null,null,null,"17-16"]
[55,{"$f":"'اسناد الأقسام'!C61","v":0},null,"09-08"]
[null,null,null,"10-09"]
[null,null,null,"11-10"]
[null,null,null,"12-11"]
[null,null,null,"14-13"]
[null,null,null,"15-14"]
[null,null,null,"16-15"]
[null,null,null,"17-16"]
[56,{"$f":"'اسناد الأقسام'!C62","v":0},null,"09-08"]
[null,null,null,"10-09"]
[null,null,null,"11-10"]
[null,null,null,"12-11"]
[null,null,null,"14-13"]
[null,null,null,"15-14"]
[null,null,null,"16-15"]
[null,null,null,"17-16"]
[57,{"$f":"'اسناد الأقسام'!C63","v":0},null,"09-08"]
[null,null,null,"10-09"]
[null,null,null,"11-10"]
[null,null,null,"12-11"]
[null,null,null,"14-13"]
[null,null,null,"15-14"]
[null,null,null,"16-15"]
[null,null,null,"17-16"]
[58,{"$f":"'اسناد الأقسام'!C64","v":0},null,"09-08"]
[null,null,null,"10-09"]
[null,null,null,"11-10"]
[null,null,null,"12-11"]
[null,null,null,"14-13"]
[null,null,null,"15-14"]
[null,null,null,"16-15"]
[null,null,null,"17-16"]
[59,{"$f":"'اسناد الأقسام'!C65","v":0},null,"09-08"]
[null,null,null,"10-09"]
[null,null,null,"11-10"]
[null,null,null,"12-11"]
[null,null,null,"14-13"]
[null,null,null,"15-14"]
[null,null,null,"16-15"]
[null,null,null,"17-16"]
[60,{"$f":"'اسناد الأقسام'!C66","v":0},null,"09-08"]
[null,null,null,"10-09"]
[null,null,null,"11-10"]
[null,null,null,"12-11"]
[null,null,null,"14-13"]
[null,null,null,"15-14"]
[null,null,null,"16-15"]
[null,null,null,"17-16"]
[61,{"$f":"'اسناد الأقسام'!C67","v":0},null,"09-08"]
[null,null,null,"10-09"]
[null,null,null,"11-10"]
[null,null,null,"12-11"]
[null,null,null,"14-13"]
[null,null,null,"15-14"]
[null,null,null,"16-15"]
[null,null,null,"17-16"]
[62,{"$f":"'اسناد الأقسام'!C68","v":0},null,"09-08"]
[null,null,null,"10-09"]
[null,null,null,"11-10"]
[null,null,null,"12-11"]
[null,null,null,"14-13"]
[null,null,null,"15-14"]
[null,null,null,"16-15"]
[null,null,null,"17-16"]
[63,{"$f":"'اسناد الأقسام'!C69","v":0},null,"09-08"]
[null,null,null,"10-09"]
[null,null,null,"11-10"]
[null,null,null,"12-11"]
[null,null,null,"14-13"]
[null,null,null,"15-14"]
[null,null,null,"16-15"]
[null,null,null,"17-16"]
[64,{"$f":"'اسناد الأقسام'!C70","v":0},null,"09-08"]
[null,null,null,"10-09"]
[null,null,null,"11-10"]
[null,null,null,"12-11"]
[null,null,null,"14-13"]
[null,null,null,"15-14"]
[null,null,null,"16-15"]
[null,null,null,"17-16"]
[65,{"$f":"'اسناد الأقسام'!C71","v":0},null,"09-08"]
[null,null,null,"10-09"]
[null,null,null,"11-10"]
[null,null,null,"12-11"]
[null,null,null,"14-13"]
[null,null,null,"15-14"]
[null,null,null,"16-15"]
[null,null,null,"17-16"]
[66,{"$f":"'اسناد الأقسام'!C72","v":0},null,"09-08"]
[null,null,null,"10-09"]
[null,null,null,"11-10"]
[null,null,null,"12-11"]
[null,null,null,"14-13"]
[null,null,null,"15-14"]
[null,null,null,"16-15"]
[null,null,null,"17-16"]
[67,{"$f":"'اسناد الأقسام'!C73","v":0},null,"09-08"]
[null,null,null,"10-09"]
[null,null,null,"11-10"]
[null,null,null,"12-11"]
[null,null,null,"14-13"]
[null,null,null,"15-14"]
[null,null,null,"16-15"]
[null,null,null,"17-16"]
[68,{"$f":"'اسناد الأقسام'!C74","v":0},null,"09-08"]
[null,null,null,"10-09"]
[null,null,null,"11-10"]
[null,null,null,"12-11"]
[null,null,null,"14-13"]
[null,null,null,"15-14"]
[null,null,null,"16-15"]
[null,null,null,"17-16"]
[69,{"$f":"'اسناد الأقسام'!C75","v":0},null,"09-08"]
[null,null,null,"10-09"]
[null,null,null,"11-10"]
[null,null,null,"12-11"]
[null,null,null,"14-13"]
[null,null,null,"15-14"]
[null,null,null,"16-15"]
[null,null,null,"17-16"]
[70,{"$f":"'اسناد الأقسام'!C76","v":0},null,"09-08"]
[null,null,null,"10-09"]
[null,null,null,"11-10"]
[null,null,null,"12-11"]
[null,null,null,"14-13"]
[null,null,null,"15-14"]
[null,null,null,"16-15"]
[null,null,null,"17-16"]
[71,{"$f":"'اسناد الأقسام'!C77","v":0},null,"09-08"]
[null,null,null,"10-09"]
[null,null,null,"11-10"]
[null,null,null,"12-11"]
[null,null,null,"14-13"]
[null,null,null,"15-14"]
[null,null,null,"16-15"]
[null,null,null,"17-16"]
[72,{"$f":"'اسناد الأقسام'!C78","v":0},null,"09-08"]
[null,null,null,"10-09"]
[null,null,null,"11-10"]
[null,null,null,"12-11"]
[null,null,null,"14-13"]
[null,null,null,"15-14"]
[null,null,null,"16-15"]
[null,null,null,"17-16"]

{"sheet":"التفويج","index":9,"n_rows":39,"n_cols":10,"rows_kept":39,"cut":false,"hidden":false,"merged":[[0,0,2,8],[4,0,6,0],[4,1,6,2],[4,3,6,3],[4,4,6,4],[31,0,38,0],[31,1,38,2],[7,0,14,0],[7,1,14,2],[15,0,22,0],[4,5,6,5],[4,6,6,6],[4,7,6,7],[4,8,6,8],[23,9,30,11],[23,0,30,0],[23,1,30,2],[7,9,10,11],[11,9,14,11],[15,9,18,11],[19,9,22,11],[15,1,22,2]]}
[" مواقيت الأساتذة"]
[]
[]
[]
["الرقم","القسم",null,"التوقيت","الأحد","الاثنين","الثلاثاء","الأربعاء","الخميس"]
[]
[]
[1,null,null,"09-08",null,"1م1","4م2",null,"1م3","المخبر 01"]
[null,null,null,"10-09",null,"1م1","4م2",null,"1م3"]
[null,null,null,"11-10","3م2","2م2","3م1",null,"1م2"]
[null,null,null,"12-11","3م2","2م2","3م1",null,"1م2"]
[null,null,null,"14-13"]
[null,null,null,"15-14","2م1"]
[null,null,null,"16-15","2م1","2م3"]
[null,null,null,"17-16",null,"2م3"]
[2,null,null,"09-08",null,"1م1","4م2",null,"1م3","المخبر 02"]
[null,null,null,"10-09",null,"1م1","4م2",null,"1م3"]
[null,null,null,"11-10","3م2","2م2","3م1",null,"1م2"]
[null,null,null,"12-11","3م2","2م2","3م1",null,"1م2"]
[null,null,null,"14-13"]
[null,null,null,"15-14","2م1"]
[null,null,null,"16-15","2م1"]
[null,null,null,"17-16"]
[3,null,null,"09-08",null,null,null,null,null,"مخبر الإعلام الآلي"]
[null,null,null,"10-09"]
[null,null,null,"11-10"]
[null,null,null,"12-11"]
[null,null,null,"14-13"]
[null,null,null,"15-14"]
[null,null,null,"16-15"]
[null,null,null,"17-16"]
[4,null,null,"09-08"]
[null,null,null,"10-09"]
[null,null,null,"11-10"]
[null,null,null,"12-11"]
[null,null,null,"14-13"]
[null,null,null,"15-14"]
[null,null,null,"16-15"]
[null,null,null,"17-16"]

{"sheet":"الاسناد","index":10,"n_rows":35,"n_cols":37,"rows_kept":35,"cut":false,"hidden":false,"merged":[[19,0,19,1],[0,2,2,36],[16,0,16,1],[15,0,15,1],[14,0,14,1],[13,0,13,1],[12,0,12,1],[11,0,11,1],[10,0,10,1],[9,0,9,1],[8,0,8,1],[7,0,7,1],[6,0,6,1],[5,0,5,1],[17,0,17,1],[18,0,18,1],[29,0,29,1],[30,0,30,1],[31,0,31,1],[32,0,32,1],[20,0,20,1],[25,0,25,1],[26,0,26,1],[27,0,27,1],[28,0,28,1],[21,0,21,1],[22,0,22,1],[23,0,23,1],[24,0,24,1]]}
[null,null,"الاسناد"]
[]
[]
[]
[null,null,{"$f":"البداية!A20","v":"4م1"},{"$f":"البداية!A21","v":"4م2"},"3م1","3م2","2م1","2م2",{"$f":"البداية!A26","v":"2م3"},{"$f":"البداية!A27","v":"1م1"},{"$f":"البداية!A28","v":"1م2"},{"$f":"البداية!A29","v":"1م3"},{"$f":"البداية!A30","v":0},{"$f":"البداية!A31","v":0},{"$f":"البداية!A32","v":0},{"$f":"البداية!A33","v":0},{"$f":"البداية!A34","v":0},{"$f":"البداية!A35","v":0},{"$f":"البداية!A36","v":0},{"$f":"البداية!A37","v":0},{"$f":"البداية!A38","v":0},{"$f":"البداية!A39","v":0},{"$f":"البداية!A40","v":0},{"$f":"البداية!A41","v":0},{"$f":"البداية!A42","v":0},{"$f":"البداية!A43","v":0},{"$f":"البداية!A44","v":0},{"$f":"البداية!A45","v":0},{"$f":"البداية!A46","v":0},{"$f":"البداية!A47","v":0},{"$f":"البداية!A48","v":0},{"$f":"البداية!A49","v":0},{"$f":"البداية!A50","v":0},{"$f":"البداية!A51","v":0},{"$f":"البداية!A52","v":0},{"$f":"البداية!A53","v":0},{"$f":"البداية!A54","v":0}]
[{"$f":"البداية!B19","v":"عربية"},null,{"$f":"IF(A6=البداية!$B$19,البداية!B20,\"\")","v":"بدراني خديجة "},{"$f":"IF(A6=البداية!$B$19,البداية!B21,\"\")","v":"بدراني خديجة "},{"$f":"IF(A6=البداية!$B$19,البداية!B22,\"\")","v":"العابد مباركة"},{"$f":"IF(A6=البداية!$B$19,البداية!B22,\"\")","v":"العابد مباركة"},{"$f":"IF(A6=البداية!$B$19,البداية!B23,\"\")","v":"العابد مباركة"},{"$f":"IF(A6=البداية!$B$19,البداية!B24,\"\")","v":"تهامي ام الخير"},{"$f":"IF(A6=البداية!$B$19,البداية!B26,\"\")","v":"تهامي ام الخير"},{"$f":"IF(A6=البداية!$B$19,البداية!B27,\"\")","v":"سهلي بوعلام"},{"$f":"IF(A6=البداية!$B$19,البداية!B28,\"\")","v":"سهلي بوعلام"},{"$f":"IF(A6=البداية!$B$19,البداية!B29,\"\")","v":"سهلي بوعلام"},{"$f":"IF(A6=البداية!$B$19,البداية!B30,\"\")","v":0},{"$f":"IF(A6=البداية!$B$19,البداية!B31,\"\")","v":0},{"$f":"IF(A6=البداية!$B$19,البداية!B32,\"\")","v":0},{"$f":"IF(A6=البداية!$B$19,البداية!B33,\"\")","v":0},{"$f":"IF(A6=البداية!$B$19,البداية!B34,\"\")","v":0},{"$f":"IF(A6=البداية!$B$19,البداية!B35,\"\")","v":0},{"$f":"IF(A6=البداية!$B$19,البداية!B36,\"\")","v":0},{"$f":"IF(A6=البداية!$B$19,البداية!B37,\"\")","v":0},{"$f":"IF(A6=البداية!$B$19,البداية!B38,\"\")","v":0},{"$f":"IF(A6=البداية!$B$19,البداية!B39,\"\")","v":0},{"$f":"IF(A6=البداية!$B$19,البداية!B40,\"\")","v":0},{"$f":"IF(A6=البداية!$B$19,البداية!B41,\"\")","v":0},{"$f":"IF(A6=البداية!$B$19,البداية!B42,\"\")","v":0},{"$f":"IF(A6=البداية!$B$19,البداية!B43,\"\")","v":0},{"$f":"IF(A6=البداية!$B$19,البداية!B44,\"\")","v":0},{"$f":"IF(A6=البداية!$B$19,البداية!B45,\"\")","v":0},{"$f":"IF(A6=البداية!$B$19,البداية!B46,\"\")","v":0},{"$f":"IF(A6=البداية!$B$19,البداية!B47,\"\")","v":0},{"$f":"IF(A6=البداية!$B$19,البداية!B48,\"\")","v":0},{"$f":"IF(A6=البداية!$B$19,البداية!B49,\"\")","v":0},{"$f":"IF(A6=البداية!$B$19,البداية!B50,\"\")","v":0},{"$f":"IF(A6=البداية!$B$19,البداية!B51,\"\")","v":0},{"$f":"IF(A6=البداية!$B$19,البداية!B52,\"\")","v":0},{"$f":"IF(A6=البداية!$B$19,البداية!B53,\"\")","v":0},{"$f":"IF(A6=البداية!$B$19,البداية!B54,\"\")","v":0}]
[{"$f":"البداية!D19","v":"رياضيات"},null,{"$f":"IF(A7=البداية!$D$19,البداية!D20,\"\")","v":"حساني عبد القادر"},{"$f":"IF(A7=البداية!$D$19,البداية!D21,\"\")","v":"حساني عبد القادر"},{"$f":"IF(A7=البداية!$D$19,البداية!D21,\"\")","v":"حساني عبد القادر"},{"$f":"IF(A7=البداية!$D$19,البداية!D22,\"\")","v":"سماعيني بن يوسف"},{"$f":"IF(A7=البداية!$D$19,البداية!D23,\"\")","v":"سماعيني بن يوسف"},{"$f":"IF(A7=البداية!$D$19,البداية!D24,\"\")","v":"حساني عبد القادر"},{"$f":"IF(A7=البداية!$D$19,البداية!D26,\"\")","v":"حساني فاطمة "},{"$f":"IF(A7=البداية!$D$19,البداية!D27,\"\")","v":"حساني فاطمة "},{"$f":"IF(A7=البداية!$D$19,البداية!D28,\"\")","v":"حساني فاطمة "},{"$f":"IF(A7=البداية!$D$19,البداية!D29,\"\")","v":"حساني فاطمة "},{"$f":"IF(A7=البداية!$D$19,البداية!D30,\"\")","v":0},{"$f":"IF(A7=البداية!$D$19,البداية!D31,\"\")","v":0},{"$f":"IF(A7=البداية!$D$19,البداية!D32,\"\")","v":0},{"$f":"IF(A7=البداية!$D$19,البداية!D33,\"\")","v":0},{"$f":"IF(A7=البداية!$D$19,البداية!D34,\"\")","v":0},{"$f":"IF(A7=البداية!$D$19,البداية!D35,\"\")","v":0},{"$f":"IF(A7=البداية!$D$19,البداية!D36,\"\")","v":0},{"$f":"IF(A7=البداية!$D$19,البداية!D37,\"\")","v":0},{"$f":"IF(A7=البداية!$D$19,البداية!D38,\"\")","v":0},{"$f":"IF(A7=البداية!$D$19,البداية!D39,\"\")","v":0},{"$f":"IF(A7=البداية!$D$19,البداية!D40,\"\")","v":0},{"$f":"IF(A7=البداية!$D$19,البداية!D41,\"\")","v":0},{"$f":"IF(A7=البداية!$D$19,البداية!D42,\"\")","v":0},{"$f":"IF(A7=البداية!$D$19,البداية!D43,\"\")","v":0},{"$f":"IF(A7=البداية!$D$19,البداية!D44,\"\")","v":0},{"$f":"IF(A7=البداية!$D$19,البداية!D45,\"\")","v":0},{"$f":"IF(A7=البداية!$D$19,البداية!D46,\"\")","v":0},{"$f":"IF(A7=البداية!$D$19,البداية!D47,\"\")","v":0},{"$f":"IF(A7=البداية!$D$19,البداية!D48,\"\")","v":0},{"$f":"IF(A7=البداية!$D$19,البداية!D49,\"\")","v":0},{"$f":"IF(A7=البداية!$D$19,البداية!D50,\"\")","v":0},{"$f":"IF(A7=البداية!$D$19,البداية!D51,\"\")","v":0},{"$f":"IF(A7=البداية!$D$19,البداية!D52,\"\")","v":0},{"$f":"IF(A7=البداية!$D$19,البداية!D53,\"\")","v":0},{"$f":"IF(A7=البداية!$D$19,البداية!D54,\"\")","v":0}]
[{"$f":"البداية!F19","v":"فرنسية"},null,{"$f":"IF(A8=البداية!$F$19,البداية!F20,\"\")","v":"كواهي يعقوب"},{"$f":"IF(A8=البداية!$F$19,البداية!F21,\"\")","v":"كواهي يعقوب"},{"$f":"IF(A8=البداية!$F$19,البداية!F21,\"\")","v":"كواهي يعقوب"},{"$f":"IF(A8=البداية!$F$19,البداية!F22,\"\")","v":"كواهي يعقوب"},{"$f":"IF(A8=البداية!$F$19,البداية!F23,\"\")","v":"مغزي محمد"},{"$f":"IF(A8=البداية!$F$19,البداية!F24,\"\")","v":"امحمدي بوشوشة "},{"$f":"IF(A8=البداية!$F$19,البداية!F26,\"\")","v":"امحمدي بوشوشة "},{"$f":"IF(A8=البداية!$F$19,البداية!F27,\"\")","v":"مغزي محمد"},{"$f":"IF(A8=البداية!$F$19,البداية!F28,\"\")","v":"مغزي محمد"},{"$f":"IF(A8=البداية!$F$19,البداية!F29,\"\")","v":"مغزي محمد"},{"$f":"IF(A8=البداية!$F$19,البداية!F30,\"\")","v":0},{"$f":"IF(A8=البداية!$F$19,البداية!F31,\"\")","v":0},{"$f":"IF(A8=البداية!$F$19,البداية!F32,\"\")","v":0},{"$f":"IF(A8=البداية!$F$19,البداية!F33,\"\")","v":0},{"$f":"IF(A8=البداية!$F$19,البداية!F34,\"\")","v":0},{"$f":"IF(A8=البداية!$F$19,البداية!F35,\"\")","v":0},{"$f":"IF(A8=البداية!$F$19,البداية!F36,\"\")","v":0},{"$f":"IF(A8=البداية!$F$19,البداية!F37,\"\")","v":0},{"$f":"IF(A8=البداية!$F$19,البداية!F38,\"\")","v":0},{"$f":"IF(A8=البداية!$F$19,البداية!F39,\"\")","v":0},{"$f":"IF(A8=البداية!$F$19,البداية!F40,\"\")","v":0},{"$f":"IF(A8=البداية!$F$19,البداية!F41,\"\")","v":0},{"$f":"IF(A8=البداية!$F$19,البداية!F42,\"\")","v":0},{"$f":"IF(A8=البداية!$F$19,البداية!F43,\"\")","v":0},{"$f":"IF(A8=البداية!$F$19,البداية!F44,\"\")","v":0},{"$f":"IF(A8=البداية!$F$19,البداية!F45,\"\")","v":0},{"$f":"IF(A8=البداية!$F$19,البداية!F46,\"\")","v":0},{"$f":"IF(A8=البداية!$F$19,البداية!F47,\"\")","v":0},{"$f":"IF(A8=البداية!$F$19,البداية!F48,\"\")","v":0},{"$f":"IF(A8=البداية!$F$19,البداية!F49,\"\")","v":0},{"$f":"IF(A8=البداية!$F$19,البداية!F50,\"\")","v":0},{"$f":"IF(A8=البداية!$F$19,البداية!F51,\"\")","v":0},{"$f":"IF(A8=البداية!$F$19,البداية!F52,\"\")","v":0},{"$f":"IF(A8=البداية!$F$19,البداية!F53,\"\")","v":0},{"$f":"IF(A8=البداية!$F$19,البداية!F54,\"\")","v":0}]
[{"$f":"البداية!H19","v":"انجليزية"},null,{"$f":"IF(A9=البداية!$H$19,البداية!H20,\"\")","v":"محمدي مريم "},{"$f":"IF(A9=البداية!$H$19,البداية!H21,\"\")","v":"محمدي مريم "},{"$f":"IF(A9=البداية!$H$19,البداية!H22,\"\")","v":"زريفي إبراهيم"},{"$f":"IF(A9=البداية!$H$19,البداية!H23,\"\")","v":"زريفي إبراهيم"},{"$f":"IF(A9=البداية!$H$19,البداية!H24,\"\")","v":"محمدي مريم "},{"$f":"IF(A9=البداية!$H$19,البداية!H25,\"\")","v":"محمدي مريم "},{"$f":"IF(A9=البداية!$H$19,البداية!H26,\"\")","v":"محمدي مريم "},{"$f":"IF(A9=البداية!$H$19,البداية!H27,\"\")","v":"زريفي إبراهيم"},{"$f":"IF(A9=البداية!$H$19,البداية!H28,\"\")","v":"زريفي إبراهيم"},{"$f":"IF(A9=البداية!$H$19,البداية!H29,\"\")","v":"زريفي إبراهيم"},{"$f":"IF(A9=البداية!$H$19,البداية!H30,\"\")","v":0},{"$f":"IF(A9=البداية!$H$19,البداية!H31,\"\")","v":0},{"$f":"IF(A9=البداية!$H$19,البداية!H32,\"\")","v":0},{"$f":"IF(A9=البداية!$H$19,البداية!H33,\"\")","v":0},{"$f":"IF(A9=البداية!$H$19,البداية!H34,\"\")","v":0},{"$f":"IF(A9=البداية!$H$19,البداية!H35,\"\")","v":0},{"$f":"IF(A9=البداية!$H$19,البداية!H36,\"\")","v":0},{"$f":"IF(A9=البداية!$H$19,البداية!H37,\"\")","v":0},{"$f":"IF(A9=البداية!$H$19,البداية!H38,\"\")","v":0},{"$f":"IF(A9=البداية!$H$19,البداية!H39,\"\")","v":0},{"$f":"IF(A9=البداية!$H$19,البداية!H40,\"\")","v":0},{"$f":"IF(A9=البداية!$H$19,البداية!H41,\"\")","v":0},{"$f":"IF(A9=البداية!$H$19,البداية!H42,\"\")","v":0},{"$f":"IF(A9=البداية!$H$19,البداية!H43,\"\")","v":0},{"$f":"IF(A9=البداية!$H$19,البداية!H44,\"\")","v":0},{"$f":"IF(A9=البداية!$H$19,البداية!H45,\"\")","v":0},{"$f":"IF(A9=البداية!$H$19,البداية!H46,\"\")","v":0},{"$f":"IF(A9=البداية!$H$19,البداية!H47,\"\")","v":0},{"$f":"IF(A9=البداية!$H$19,البداية!H48,\"\")","v":0},{"$f":"IF(A9=البداية!$H$19,البداية!H49,\"\")","v":0},{"$f":"IF(A9=البداية!$H$19,البداية!H50,\"\")","v":0},{"$f":"IF(A9=البداية!$H$19,البداية!H51,\"\")","v":0},{"$f":"IF(A9=البداية!$H$19,البداية!H52,\"\")","v":0},{"$f":"IF(A9=البداية!$H$19,البداية!H53,\"\")","v":0},{"$f":"IF(A9=البداية!$H$19,البداية!H54,\"\")","v":0}]
[{"$f":"البداية!J19","v":"علوم ط"},null,{"$f":"IF(A10=البداية!$J$19,البداية!J20,\"\")","v":"مجدوب طلحة"},{"$f":"IF(A10=البداية!$J$19,البداية!J21,\"\")","v":"مجدوب طلحة"},{"$f":"IF(A10=البداية!$J$19,البداية!J21,\"\")","v":"مجدوب طلحة"},{"$f":"IF(A10=البداية!$J$19,البداية!J22,\"\")","v":"حطاب رشيدة "},{"$f":"IF(A10=البداية!$J$19,البداية!J23,\"\")","v":"حطاب رشيدة "},{"$f":"IF(A10=البداية!$J$19,البداية!J24,\"\")","v":"مجدوب طلحة"},{"$f":"IF(A10=البداية!$J$19,البداية!J26,\"\")","v":"مجدوب طلحة"},{"$f":"IF(A10=البداية!$J$19,البداية!J27,\"\")","v":"حطاب رشيدة "},{"$f":"IF(A10=البداية!$J$19,البداية!J28,\"\")","v":"حطاب رشيدة "},{"$f":"IF(A10=البداية!$J$19,البداية!J29,\"\")","v":"حطاب رشيدة "},{"$f":"IF(A10=البداية!$J$19,البداية!J30,\"\")","v":0},{"$f":"IF(A10=البداية!$J$19,البداية!J31,\"\")","v":0},{"$f":"IF(A10=البداية!$J$19,البداية!J32,\"\")","v":0},{"$f":"IF(A10=البداية!$J$19,البداية!J33,\"\")","v":0},{"$f":"IF(A10=البداية!$J$19,البداية!J34,\"\")","v":0},{"$f":"IF(A10=البداية!$J$19,البداية!J35,\"\")","v":0},{"$f":"IF(A10=البداية!$J$19,البداية!J36,\"\")","v":0},{"$f":"IF(A10=البداية!$J$19,البداية!J37,\"\")","v":0},{"$f":"IF(A10=البداية!$J$19,البداية!J38,\"\")","v":0},{"$f":"IF(A10=البداية!$J$19,البداية!J39,\"\")","v":0},{"$f":"IF(A10=البداية!$J$19,البداية!J40,\"\")","v":0},{"$f":"IF(A10=البداية!$J$19,البداية!J41,\"\")","v":0},{"$f":"IF(A10=البداية!$J$19,البداية!J42,\"\")","v":0},{"$f":"IF(A10=البداية!$J$19,البداية!J43,\"\")","v":0},{"$f":"IF(A10=البداية!$J$19,البداية!J44,\"\")","v":0},{"$f":"IF(A10=البداية!$J$19,البداية!J45,\"\")","v":0},{"$f":"IF(A10=البداية!$J$19,البداية!J46,\"\")","v":0},{"$f":"IF(A10=البداية!$J$19,البداية!J47,\"\")","v":0},{"$f":"IF(A10=البداية!$J$19,البداية!J48,\"\")","v":0},{"$f":"IF(A10=البداية!$J$19,البداية!J49,\"\")","v":0},{"$f":"IF(A10=البداية!$J$19,البداية!J50,\"\")","v":0},{"$f":"IF(A10=البداية!$J$19,البداية!J51,\"\")","v":0},{"$f":"IF(A10=البداية!$J$19,البداية!J52,\"\")","v":0},{"$f":"IF(A10=البداية!$J$19,البداية!J53,\"\")","v":0},{"$f":"IF(A10=البداية!$J$19,البداية!J54,\"\")","v":0}]
[{"$f":"البداية!L19","v":"فيزياء"},null,{"$f":"IF(A11=البداية!$L$19,البداية!L20,\"\")","v":"داودي الميلود"},{"$f":"IF(A11=البداية!$L$19,البداية!L21,\"\")","v":"داودي الميلود"},{"$f":"IF(A11=البداية!$L$19,البداية!L22,\"\")","v":"طيبي عبد القادر"},{"$f":"IF(A11=البداية!$L$19,البداية!L22,\"\")","v":"طيبي عبد القادر"},{"$f":"IF(A11=البداية!$L$19,البداية!L23,\"\")","v":"طيبي عبد القادر"},{"$f":"IF(A11=البداية!$L$19,البداية!L24,\"\")","v":"داودي الميلود"},{"$f":"IF(A11=البداية!$L$19,البداية!L26,\"\")","v":"داودي الميلود"},{"$f":"IF(A11=البداية!$L$19,البداية!L27,\"\")","v":"طيبي عبد القادر"},{"$f":"IF(A11=البداية!$L$19,البداية!L28,\"\")","v":"طيبي عبد القادر"},{"$f":"IF(A11=البداية!$L$19,البداية!L29,\"\")","v":"طيبي عبد القادر"},{"$f":"IF(A11=البداية!$L$19,البداية!L30,\"\")","v":0},{"$f":"IF(A11=البداية!$L$19,البداية!L31,\"\")","v":0},{"$f":"IF(A11=البداية!$L$19,البداية!L32,\"\")","v":0},{"$f":"IF(A11=البداية!$L$19,البداية!L33,\"\")","v":0},{"$f":"IF(A11=البداية!$L$19,البداية!L34,\"\")","v":0},{"$f":"IF(A11=البداية!$L$19,البداية!L35,\"\")","v":0},{"$f":"IF(A11=البداية!$L$19,البداية!L36,\"\")","v":0},{"$f":"IF(A11=البداية!$L$19,البداية!L37,\"\")","v":0},{"$f":"IF(A11=البداية!$L$19,البداية!L38,\"\")","v":0},{"$f":"IF(A11=البداية!$L$19,البداية!L39,\"\")","v":0},{"$f":"IF(A11=البداية!$L$19,البداية!L40,\"\")","v":0},{"$f":"IF(A11=البداية!$L$19,البداية!L41,\"\")","v":0},{"$f":"IF(A11=البداية!$L$19,البداية!L42,\"\")","v":0},{"$f":"IF(A11=البداية!$L$19,البداية!L43,\"\")","v":0},{"$f":"IF(A11=البداية!$L$19,البداية!L44,\"\")","v":0},{"$f":"IF(A11=البداية!$L$19,البداية!L45,\"\")","v":0},{"$f":"IF(A11=البداية!$L$19,البداية!L46,\"\")","v":0},{"$f":"IF(A11=البداية!$L$19,البداية!L47,\"\")","v":0},{"$f":"IF(A11=البداية!$L$19,البداية!L48,\"\")","v":0},{"$f":"IF(A11=البداية!$L$19,البداية!L49,\"\")","v":0},{"$f":"IF(A11=البداية!$L$19,البداية!L50,\"\")","v":0},{"$f":"IF(A11=البداية!$L$19,البداية!L51,\"\")","v":0},{"$f":"IF(A11=البداية!$L$19,البداية!L52,\"\")","v":0},{"$f":"IF(A11=البداية!$L$19,البداية!L53,\"\")","v":0},{"$f":"IF(A11=البداية!$L$19,البداية!L54,\"\")","v":0}]
[{"$f":"البداية!N19","v":"اجتماعيات"},null,{"$f":"IF(A12=البداية!$N$19,البداية!N20,\"\")","v":"بدراني شريف"},{"$f":"IF(A12=البداية!$N$19,البداية!N21,\"\")","v":"بدراني شريف"},{"$f":"IF(A12=البداية!$N$19,البداية!N21,\"\")","v":"بدراني شريف"},{"$f":"IF(A12=البداية!$N$19,البداية!N22,\"\")","v":"مشارة محمد"},{"$f":"IF(A12=البداية!$N$19,البداية!N23,\"\")","v":"مشارة محمد"},{"$f":"IF(A12=البداية!$N$19,البداية!N24,\"\")","v":"بدراني شريف"},{"$f":"IF(A12=البداية!$N$19,البداية!N26,\"\")","v":"بدراني شريف"},{"$f":"IF(A12=البداية!$N$19,البداية!N27,\"\")","v":"مشارة محمد"},{"$f":"IF(A12=البداية!$N$19,البداية!N28,\"\")","v":"مشارة محمد"},{"$f":"IF(A12=البداية!$N$19,البداية!N29,\"\")","v":"مشارة محمد"},{"$f":"IF(A12=البداية!$N$19,البداية!N30,\"\")","v":0},{"$f":"IF(A12=البداية!$N$19,البداية!N31,\"\")","v":0},{"$f":"IF(A12=البداية!$N$19,البداية!N32,\"\")","v":0},{"$f":"IF(A12=البداية!$N$19,البداية!N33,\"\")","v":0},{"$f":"IF(A12=البداية!$N$19,البداية!N34,\"\")","v":0},{"$f":"IF(A12=البداية!$N$19,البداية!N35,\"\")","v":0},{"$f":"IF(A12=البداية!$N$19,البداية!N36,\"\")","v":0},{"$f":"IF(A12=البداية!$N$19,البداية!N37,\"\")","v":0},{"$f":"IF(A12=البداية!$N$19,البداية!N38,\"\")","v":0},{"$f":"IF(A12=البداية!$N$19,البداية!N39,\"\")","v":0},{"$f":"IF(A12=البداية!$N$19,البداية!N40,\"\")","v":0},{"$f":"IF(A12=البداية!$N$19,البداية!N41,\"\")","v":0},{"$f":"IF(A12=البداية!$N$19,البداية!N42,\"\")","v":0},{"$f":"IF(A12=البداية!$N$19,البداية!N43,\"\")","v":0},{"$f":"IF(A12=البداية!$N$19,البداية!N44,\"\")","v":0},{"$f":"IF(A12=البداية!$N$19,البداية!N45,\"\")","v":0},{"$f":"IF(A12=البداية!$N$19,البداية!N46,\"\")","v":0},{"$f":"IF(A12=البداية!$N$19,البداية!N47,\"\")","v":0},{"$f":"IF(A12=البداية!$N$19,البداية!N48,\"\")","v":0},{"$f":"IF(A12=البداية!$N$19,البداية!N49,\"\")","v":0},{"$f":"IF(A12=البداية!$N$19,البداية!N50,\"\")","v":0},{"$f":"IF(A12=البداية!$N$19,البداية!N51,\"\")","v":0},{"$f":"IF(A12=البداية!$N$19,البداية!N52,\"\")","v":0},{"$f":"IF(A12=البداية!$N$19,البداية!N53,\"\")","v":0},{"$f":"IF(A12=البداية!$N$19,البداية!N54,\"\")","v":0}]
[{"$f":"البداية!P19","v":"اعلام آلي"},null,{"$f":"IF(A13=البداية!$P$19,البداية!P20,\"\")","v":0},{"$f":"IF(A13=البداية!$P$19,البداية!P21,\"\")","v":0},{"$f":"IF(A13=البداية!$H$19,البداية!H26,\"\")","v":""},{"$f":"IF(A13=البداية!$P$19,البداية!P22,\"\")","v":0},{"$f":"IF(A13=البداية!$P$19,البداية!P23,\"\")","v":0},{"$f":"IF(A13=البداية!$P$19,البداية!P24,\"\")","v":0},{"$f":"IF(A13=البداية!$P$19,البداية!P26,\"\")","v":0},{"$f":"IF(A13=البداية!$P$19,البداية!P27,\"\")","v":0},{"$f":"IF(A13=البداية!$P$19,البداية!P28,\"\")","v":0},{"$f":"IF(A13=البداية!$P$19,البداية!P29,\"\")","v":0},{"$f":"IF(A13=البداية!$P$19,البداية!P30,\"\")","v":0},{"$f":"IF(A13=البداية!$P$19,البداية!P31,\"\")","v":0},{"$f":"IF(A13=البداية!$P$19,البداية!P32,\"\")","v":0},{"$f":"IF(A13=البداية!$P$19,البداية!P33,\"\")","v":0},{"$f":"IF(A13=البداية!$P$19,البداية!P34,\"\")","v":0},{"$f":"IF(A13=البداية!$P$19,البداية!P35,\"\")","v":0},{"$f":"IF(A13=البداية!$P$19,البداية!P36,\"\")","v":0},{"$f":"IF(A13=البداية!$P$19,البداية!P37,\"\")","v":0},{"$f":"IF(A13=البداية!$P$19,البداية!P38,\"\")","v":0},{"$f":"IF(A13=البداية!$P$19,البداية!P39,\"\")","v":0},{"$f":"IF(A13=البداية!$P$19,البداية!P40,\"\")","v":0},{"$f":"IF(A13=البداية!$P$19,البداية!P41,\"\")","v":0},{"$f":"IF(A13=البداية!$P$19,البداية!P42,\"\")","v":0},{"$f":"IF(A13=البداية!$P$19,البداية!P43,\"\")","v":0},{"$f":"IF(A13=البداية!$P$19,البداية!P44,\"\")","v":0},{"$f":"IF(A13=البداية!$P$19,البداية!P45,\"\")","v":0},{"$f":"IF(A13=البداية!$P$19,البداية!P46,\"\")","v":0},{"$f":"IF(A13=البداية!$P$19,البداية!P47,\"\")","v":0},{"$f":"IF(A13=البداية!$P$19,البداية!P48,\"\")","v":0},{"$f":"IF(A13=البداية!$P$19,البداية!P49,\"\")","v":0},{"$f":"IF(A13=البداية!$P$19,البداية!P50,\"\")","v":0},{"$f":"IF(A13=البداية!$P$19,البداية!P51,\"\")","v":0},{"$f":"IF(A13=البداية!$P$19,البداية!P52,\"\")","v":0},{"$f":"IF(A13=البداية!$P$19,البداية!P53,\"\")","v":0},{"$f":"IF(A13=البداية!$P$19,البداية!P54,\"\")","v":0}]
[{"$f":"البداية!R19","v":"ت.بدنية"},null,{"$f":"IF(A14=البداية!$R$19,البداية!R20,\"\")","v":"قرمان الشير"},{"$f":"IF(A14=البداية!$R$19,البداية!R21,\"\")","v":"قرمان الشير"},{"$f":"IF(A14=البداية!$R$19,البداية!R22,\"\")","v":"قرمان الشير"},{"$f":"IF(A14=البداية!$R$19,البداية!R22,\"\")","v":"قرمان الشير"},{"$f":"IF(A14=البداية!$R$19,البداية!R23,\"\")","v":"قرمان الشير"},{"$f":"IF(A14=البداية!$R$19,البداية!R24,\"\")","v":"قرمان الشير"},{"$f":"IF(A14=البداية!$R$19,البداية!R26,\"\")","v":"قرمان الشير"},{"$f":"IF(A14=البداية!$R$19,البداية!R27,\"\")","v":"قرمان الشير"},{"$f":"IF(A14=البداية!$R$19,البداية!R28,\"\")","v":"قرمان الشير"},{"$f":"IF(A14=البداية!$R$19,البداية!R29,\"\")","v":"قرمان الشير"},{"$f":"IF(A14=البداية!$R$19,البداية!R30,\"\")","v":0},{"$f":"IF(A14=البداية!$R$19,البداية!R31,\"\")","v":0},{"$f":"IF(A14=البداية!$R$19,البداية!R32,\"\")","v":0},{"$f":"IF(A14=البداية!$R$19,البداية!R33,\"\")","v":0},{"$f":"IF(A14=البداية!$R$19,البداية!R34,\"\")","v":0},{"$f":"IF(A14=البداية!$R$19,البداية!R35,\"\")","v":0},{"$f":"IF(A14=البداية!$R$19,البداية!R36,\"\")","v":0},{"$f":"IF(A14=البداية!$R$19,البداية!R37,\"\")","v":0},{"$f":"IF(A14=البداية!$R$19,البداية!R38,\"\")","v":0},{"$f":"IF(A14=البداية!$R$19,البداية!R39,\"\")","v":0},{"$f":"IF(A14=البداية!$R$19,البداية!R40,\"\")","v":0},{"$f":"IF(A14=البداية!$R$19,البداية!R41,\"\")","v":0},{"$f":"IF(A14=البداية!$R$19,البداية!R42,\"\")","v":0},{"$f":"IF(A14=البداية!$R$19,البداية!R43,\"\")","v":0},{"$f":"IF(A14=البداية!$R$19,البداية!R44,\"\")","v":0},{"$f":"IF(A14=البداية!$R$19,البداية!R45,\"\")","v":0},{"$f":"IF(A14=البداية!$R$19,البداية!R46,\"\")","v":0},{"$f":"IF(A14=البداية!$R$19,البداية!R47,\"\")","v":0},{"$f":"IF(A14=البداية!$R$19,البداية!R48,\"\")","v":0},{"$f":"IF(A14=البداية!$R$19,البداية!R49,\"\")","v":0},{"$f":"IF(A14=البداية!$R$19,البداية!R50,\"\")","v":0},{"$f":"IF(A14=البداية!$R$19,البداية!R51,\"\")","v":0},{"$f":"IF(A14=البداية!$R$19,البداية!R52,\"\")","v":0},{"$f":"IF(A14=البداية!$R$19,البداية!R53,\"\")","v":0},{"$f":"IF(A14=البداية!$R$19,البداية!R54,\"\")","v":0}]
[{"$f":"البداية!T19","v":"ت.فنية"},null,{"$f":"IF(A15=البداية!$T$19,البداية!T20,\"\")","v":"جليد الميلود"},{"$f":"IF(A15=البداية!$T$19,البداية!T21,\"\")","v":"جليد الميلود"},{"$f":"IF(A15=البداية!$T$19,البداية!T22,\"\")","v":"جليد الميلود"},{"$f":"IF(A15=البداية!$T$19,البداية!T22,\"\")","v":"جليد الميلود"},{"$f":"IF(A15=البداية!$T$19,البداية!T23,\"\")","v":"جليد الميلود"},{"$f":"IF(A15=البداية!$T$19,البداية!T24,\"\")","v":"جليد الميلود"},{"$f":"IF(A15=البداية!$T$19,البداية!T26,\"\")","v":"جليد الميلود"},{"$f":"IF(A15=البداية!$T$19,البداية!T27,\"\")","v":"جليد الميلود"},{"$f":"IF(A15=البداية!$T$19,البداية!T28,\"\")","v":"جليد الميلود"},{"$f":"IF(A15=البداية!$T$19,البداية!T29,\"\")","v":"جليد الميلود"},{"$f":"IF(A15=البداية!$T$19,البداية!T30,\"\")","v":0},{"$f":"IF(A15=البداية!$T$19,البداية!T31,\"\")","v":0},{"$f":"IF(A15=البداية!$T$19,البداية!T32,\"\")","v":0},{"$f":"IF(A15=البداية!$T$19,البداية!T33,\"\")","v":0},{"$f":"IF(A15=البداية!$T$19,البداية!T34,\"\")","v":0},{"$f":"IF(A15=البداية!$T$19,البداية!T35,\"\")","v":0},{"$f":"IF(A15=البداية!$T$19,البداية!T36,\"\")","v":0},{"$f":"IF(A15=البداية!$T$19,البداية!T37,\"\")","v":0},{"$f":"IF(A15=البداية!$T$19,البداية!T38,\"\")","v":0},{"$f":"IF(A15=البداية!$T$19,البداية!T39,\"\")","v":0},{"$f":"IF(A15=البداية!$T$19,البداية!T40,\"\")","v":0},{"$f":"IF(A15=البداية!$T$19,البداية!T41,\"\")","v":0},{"$f":"IF(A15=البداية!$T$19,البداية!T42,\"\")","v":0},{"$f":"IF(A15=البداية!$T$19,البداية!T43,\"\")","v":0},{"$f":"IF(A15=البداية!$T$19,البداية!T44,\"\")","v":0},{"$f":"IF(A15=البداية!$T$19,البداية!T45,\"\")","v":0},{"$f":"IF(A15=البداية!$T$19,البداية!T46,\"\")","v":0},{"$f":"IF(A15=البداية!$T$19,البداية!T47,\"\")","v":0},{"$f":"IF(A15=البداية!$T$19,البداية!T48,\"\")","v":0},{"$f":"IF(A15=البداية!$T$19,البداية!T49,\"\")","v":0},{"$f":"IF(A15=البداية!$T$19,البداية!T50,\"\")","v":0},{"$f":"IF(A15=البداية!$T$19,البداية!T51,\"\")","v":0},{"$f":"IF(A15=البداية!$T$19,البداية!T52,\"\")","v":0},{"$f":"IF(A15=البداية!$T$19,البداية!T53,\"\")","v":0},{"$f":"IF(A15=البداية!$T$19,البداية!T54,\"\")","v":0}]
[{"$f":"البداية!V19","v":"فرنسية/انجليزية"},null,{"$f":"IF(A16=البداية!$V$19,البداية!V20,\"\")","v":"كواهي يعقوب/محمدي مريم "},{"$f":"IF(A16=البداية!$V$19,البداية!V21,\"\")","v":"كواهي يعقوب/محمدي مريم "},{"$f":"IF(A16=البداية!$V$19,البداية!V22,\"\")","v":"كواهي يعقوب/زريفي إبراهيم"},{"$f":"IF(A16=البداية!$V$19,البداية!V22,\"\")","v":"كواهي يعقوب/زريفي إبراهيم"},{"$f":"IF(A16=البداية!$V$19,البداية!V23,\"\")","v":"مغزي محمد/زريفي إبراهيم"},{"$f":"IF(A16=البداية!$V$19,البداية!V24,\"\")","v":"امحمدي بوشوشة /محمدي مريم "},{"$f":"IF(A16=البداية!$V$19,البداية!V26,\"\")","v":"امحمدي بوشوشة /محمدي مريم "},{"$f":"IF(A16=البداية!$V$19,البداية!V27,\"\")","v":"مغزي محمد/زريفي إبراهيم"},{"$f":"IF(A16=البداية!$V$19,البداية!V28,\"\")","v":"مغزي محمد/زريفي إبراهيم"},{"$f":"IF(A16=البداية!$V$19,البداية!V29,\"\")","v":"مغزي محمد/زريفي إبراهيم"},{"$f":"IF(A16=البداية!$V$19,البداية!V30,\"\")","v":"/"},{"$f":"IF(A16=البداية!$V$19,البداية!V31,\"\")","v":"/"},{"$f":"IF(A16=البداية!$V$19,البداية!V32,\"\")","v":"/"},{"$f":"IF(A16=البداية!$V$19,البداية!V33,\"\")","v":"/"},{"$f":"IF(A16=البداية!$V$19,البداية!V34,\"\")","v":"/"},{"$f":"IF(A16=البداية!$V$19,البداية!V35,\"\")","v":"/"},{"$f":"IF(A16=البداية!$V$19,البداية!V36,\"\")","v":"/"},{"$f":"IF(A16=البداية!$V$19,البداية!V37,\"\")","v":"/"},{"$f":"IF(A16=البداية!$V$19,البداية!V38,\"\")","v":"/"},{"$f":"IF(A16=البداية!$V$19,البداية!V39,\"\")","v":0},{"$f":"IF(A16=البداية!$V$19,البداية!V40,\"\")","v":0},{"$f":"IF(A16=البداية!$V$19,البداية!V41,\"\")","v":0},{"$f":"IF(A16=البداية!$V$19,البداية!V42,\"\")","v":0},{"$f":"IF(A16=البداية!$V$19,البداية!V43,\"\")","v":0},{"$f":"IF(A16=البداية!$V$19,البداية!V44,\"\")","v":0},{"$f":"IF(A16=البداية!$V$19,البداية!V45,\"\")","v":0},{"$f":"IF(A16=البداية!$V$19,البداية!V46,\"\")","v":0},{"$f":"IF(A16=البداية!$V$19,البداية!V47,\"\")","v":0},{"$f":"IF(A16=البداية!$V$19,البداية!V48,\"\")","v":0},{"$f":"IF(A16=البداية!$V$19,البداية!V49,\"\")","v":0},{"$f":"IF(A16=البداية!$V$19,البداية!V50,\"\")","v":0},{"$f":"IF(A16=البداية!$V$19,البداية!V51,\"\")","v":0},{"$f":"IF(A16=البداية!$V$19,البداية!V52,\"\")","v":0},{"$f":"IF(A16=البداية!$V$19,البداية!V53,\"\")","v":0},{"$f":"IF(A16=البداية!$V$19,البداية!V54,\"\")","v":0}]
[{"$f":"البداية!X19","v":"علوم/فيزياء"},null,{"$f":"IF(A17=البداية!$X$19,البداية!X20,\"\")","v":"مجدوب طلحة/داودي الميلود"},{"$f":"IF(A17=البداية!$X$19,البداية!X21,\"\")","v":"مجدوب طلحة/داودي الميلود"},{"$f":"IF(A17=البداية!$X$19,البداية!X22,\"\")","v":"حطاب رشيدة /طيبي عبد القادر"},{"$f":"IF(A17=البداية!$X$19,البداية!X22,\"\")","v":"حطاب رشيدة /طيبي عبد القادر"},{"$f":"IF(A17=البداية!$X$19,البداية!X23,\"\")","v":"حطاب رشيدة /طيبي عبد القادر"},{"$f":"IF(A17=البداية!$X$19,البداية!X24,\"\")","v":"مجدوب طلحة/داودي الميلود"},{"$f":"IF(A17=البداية!$X$19,البداية!X26,\"\")","v":"مجدوب طلحة/داودي الميلود"},{"$f":"IF(A17=البداية!$X$19,البداية!X27,\"\")","v":"حطاب رشيدة /طيبي عبد القادر"},{"$f":"IF(A17=البداية!$X$19,البداية!X28,\"\")","v":"حطاب رشيدة /طيبي عبد القادر"},{"$f":"IF(A17=البداية!$X$19,البداية!X29,\"\")","v":"حطاب رشيدة /طيبي عبد القادر"},{"$f":"IF(A17=البداية!$X$19,البداية!X30,\"\")","v":"/"},{"$f":"IF(A17=البداية!$X$19,البداية!X31,\"\")","v":"/"},{"$f":"IF(A17=البداية!$X$19,البداية!X32,\"\")","v":"/"},{"$f":"IF(A17=البداية!$X$19,البداية!X33,\"\")","v":"/"},{"$f":"IF(A17=البداية!$X$19,البداية!X34,\"\")","v":"/"},{"$f":"IF(A17=البداية!$X$19,البداية!X35,\"\")","v":"/"},{"$f":"IF(A17=البداية!$X$19,البداية!X36,\"\")","v":"/"},{"$f":"IF(A17=البداية!$X$19,البداية!X37,\"\")","v":"/"},{"$f":"IF(A17=البداية!$X$19,البداية!X38,\"\")","v":"/"},{"$f":"IF(A17=البداية!$X$19,البداية!X39,\"\")","v":"/"},{"$f":"IF(A17=البداية!$X$19,البداية!X40,\"\")","v":"/"},{"$f":"IF(A17=البداية!$X$19,البداية!X41,\"\")","v":"/"},{"$f":"IF(A17=البداية!$X$19,البداية!X42,\"\")","v":"/"},{"$f":"IF(A17=البداية!$X$19,البداية!X43,\"\")","v":"/"},{"$f":"IF(A17=البداية!$X$19,البداية!X44,\"\")","v":"/"},{"$f":"IF(A17=البداية!$X$19,البداية!X45,\"\")","v":"/"},{"$f":"IF(A17=البداية!$X$19,البداية!X46,\"\")","v":"/"},{"$f":"IF(A17=البداية!$X$19,البداية!X47,\"\")","v":"/"},{"$f":"IF(A17=البداية!$X$19,البداية!X48,\"\")","v":"/"},{"$f":"IF(A17=البداية!$X$19,البداية!X49,\"\")","v":"/"},{"$f":"IF(A17=البداية!$X$19,البداية!X50,\"\")","v":"/"},{"$f":"IF(A17=البداية!$X$19,البداية!X51,\"\")","v":"/"},{"$f":"IF(A17=البداية!$X$19,البداية!X52,\"\")","v":"/"},{"$f":"IF(A17=البداية!$X$19,البداية!X53,\"\")","v":"/"},{"$f":"IF(A17=البداية!$X$19,البداية!X54,\"\")","v":"/"}]
[{"$f":"البداية!Z19","v":"عربية استدراك"},null,{"$f":"C6","v":"بدراني خديجة "},{"$f":"D6","v":"بدراني خديجة "},{"$f":"E6","v":"العابد مباركة"},{"$f":"F6","v":"العابد مباركة"},"العابد مباركة","تهامي ام الخير","تهامي ام الخير","سهلي بوعلام","سهلي بوعلام","سهلي بوعلام",0,0,0,0,0,0,0,0,0,0,0,0,0,0,0,0,0,0,0,0,0,0,0,0,0]
[{"$f":"البداية!AB19","v":"رياضيات استدراك"},null,{"$f":"C7","v":"حساني عبد القادر"},{"$f":"D7","v":"حساني عبد القادر"},"حساني عبد القادر","سماعيني بن يوسف","سماعيني بن يوسف","حساني عبد القادر","حساني فاطمة ","حساني فاطمة ","حساني فاطمة ","حساني فاطمة ",0,0,0,0,0,0,0,0,0,0,0,0,0,0,0,0,0,0,0,0,0,0,0,0,0]
[{"$f":"البداية!AD19","v":"فرنسية استدراك"},null,{"$f":"C8","v":"كواهي يعقوب"},{"$f":"D8","v":"كواهي يعقوب"},"كواهي يعقوب","كواهي يعقوب","مغزي محمد","امحمدي بوشوشة ","امحمدي بوشوشة ","مغزي محمد","مغزي محمد","مغزي محمد",0,0,0,0,0,0,0,0,0,0,0,0,0,0,0,0,0,0,0,0,0,0,0,0,0]
[{"$f":"البداية!AF19","v":"ت.اسلامية"},null,{"$f":"IF($A$21=البداية!$AF$19,البداية!$AF$20,\"\")","v":"بدراني خديجة"},{"$f":"IF($A$21=البداية!$AF$19,البداية!$AF$21,\"\")","v":"بدراني خديجة"},{"$f":"IF($A$21=البداية!$AF$19,البداية!$AF$22,\"\")","v":"العابد مباركة "},{"$f":"IF($A$21=البداية!$AF$19,البداية!$AF$22,\"\")","v":"العابد مباركة "},{"$f":"IF($A$21=البداية!$AF$19,البداية!$AF$23,\"\")","v":"العابد مباركة "},{"$f":"IF($A$21=البداية!$AF$19,البداية!$AF$24,\"\")","v":"بدراني خديجة"},{"$f":"IF($A$21=البداية!$AF$19,البداية!$AF$26,\"\")","v":"العابد مباركة "},{"$f":"IF($A$21=البداية!$AF$19,البداية!$AF$27,\"\")","v":"العابد مباركة "},{"$f":"IF($A$21=البداية!$AF$19,البداية!$AF$28,\"\")","v":"العابد مباركة "},{"$f":"IF($A$21=البداية!$AF$19,البداية!$AF$29,\"\")","v":"العابد مباركة "},{"$f":"IF($A$21=البداية!$AF$19,البداية!$AF$30,\"\")","v":0},{"$f":"IF($A$21=البداية!$AF$19,البداية!$AF$31,\"\")","v":0},{"$f":"IF($A$21=البداية!$AF$19,البداية!$AF$32,\"\")","v":0},{"$f":"IF($A$21=البداية!$AF$19,البداية!$AF$33,\"\")","v":0},{"$f":"IF($A$21=البداية!$AF$19,البداية!$AF$34,\"\")","v":0},{"$f":"IF($A$21=البداية!$AF$19,البداية!$AF$35,\"\")","v":0},{"$f":"IF($A$21=البداية!$AF$19,البداية!$AF$36,\"\")","v":0},{"$f":"IF($A$21=البداية!$AF$19,البداية!$AF$37,\"\")","v":0},{"$f":"IF($A$21=البداية!$AF$19,البداية!$AF$38,\"\")","v":0},{"$f":"IF($A$21=البداية!$AF$19,البداية!$AF$39,\"\")","v":0},{"$f":"IF($A$21=البداية!$AF$19,البداية!$AF$40,\"\")","v":0},{"$f":"IF($A$21=البداية!$AF$19,البداية!$AF$41,\"\")","v":0},{"$f":"IF($A$21=البداية!$AF$19,البداية!$AF$42,\"\")","v":0},{"$f":"IF($A$21=البداية!$AF$19,البداية!$AF$43,\"\")","v":0},{"$f":"IF($A$21=البداية!$AF$19,البداية!$AF$44,\"\")","v":0},{"$f":"IF($A$21=البداية!$AF$19,البداية!$AF$45,\"\")","v":0},{"$f":"IF($A$21=البداية!$AF$19,البداية!$AF$46,\"\")","v":0},{"$f":"IF($A$21=البداية!$AF$19,البداية!$AF$47,\"\")","v":0},{"$f":"IF($A$21=البداية!$AF$19,البداية!$AF$48,\"\")","v":0},{"$f":"IF($A$21=البداية!$AF$19,البداية!$AF$49,\"\")","v":0},{"$f":"IF($A$21=البداية!$AF$19,البداية!$AF$50,\"\")","v":0},{"$f":"IF($A$21=البداية!$AF$19,البداية!$AF$51,\"\")","v":0},{"$f":"IF($A$21=البداية!$AF$19,البداية!$AF$52,\"\")","v":0},{"$f":"IF($A$21=البداية!$AF$19,البداية!$AF$53,\"\")","v":0},{"$f":"IF($A$21=البداية!$AF$19,البداية!$AF$54,\"\")","v":0}]
[{"$f":"البداية!AH19","v":"عربية دعم"},null,{"$f":"IF($A$21=البداية!$AF$19,البداية!$AH$20,\"\")","v":"بدراني خديجة "},{"$f":"IF($A$21=البداية!$AF$19,البداية!$AH$21,\"\")","v":"بدراني خديجة "},{"$f":"IF($A$21=البداية!$AF$19,البداية!$AH$22,\"\")","v":"العابد مباركة"},{"$f":"IF($A$21=البداية!$AF$19,البداية!$AH$22,\"\")","v":"العابد مباركة"},{"$f":"IF($A$21=البداية!$AF$19,البداية!$AH$23,\"\")","v":"العابد مباركة"},{"$f":"IF($A$21=البداية!$AF$19,البداية!$AH$24,\"\")","v":"تهامي ام الخير"},{"$f":"IF($A$21=البداية!$AF$19,البداية!$AH$26,\"\")","v":"تهامي ام الخير"},{"$f":"IF($A$21=البداية!$AF$19,البداية!$AH$27,\"\")","v":"سهلي بوعلام"},{"$f":"IF($A$21=البداية!$AF$19,البداية!$AH$28,\"\")","v":"سهلي بوعلام"},{"$f":"IF($A$21=البداية!$AF$19,البداية!$AH$29,\"\")","v":"سهلي بوعلام"},{"$f":"IF($A$21=البداية!$AF$19,البداية!$AH$30,\"\")","v":0},{"$f":"IF($A$21=البداية!$AF$19,البداية!$AH$31,\"\")","v":0},{"$f":"IF($A$21=البداية!$AF$19,البداية!$AH$32,\"\")","v":0},{"$f":"IF($A$21=البداية!$AF$19,البداية!$AH$33,\"\")","v":0},{"$f":"IF($A$21=البداية!$AF$19,البداية!$AH$34,\"\")","v":0},{"$f":"IF($A$21=البداية!$AF$19,البداية!$AH$35,\"\")","v":0},{"$f":"IF($A$21=البداية!$AF$19,البداية!$AH$36,\"\")","v":0},{"$f":"IF($A$21=البداية!$AF$19,البداية!$AH$37,\"\")","v":0},{"$f":"IF($A$21=البداية!$AF$19,البداية!$AH$38,\"\")","v":0},{"$f":"IF($A$21=البداية!$AF$19,البداية!$AH$39,\"\")","v":0},{"$f":"IF($A$21=البداية!$AF$19,البداية!$AH$40,\"\")","v":0},{"$f":"IF($A$21=البداية!$AF$19,البداية!$AH$41,\"\")","v":0},{"$f":"IF($A$21=البداية!$AF$19,البداية!$AH$42,\"\")","v":0},{"$f":"IF($A$21=البداية!$AF$19,البداية!$AH$43,\"\")","v":0},{"$f":"IF($A$21=البداية!$AF$19,البداية!$AH$44,\"\")","v":0},{"$f":"IF($A$21=البداية!$AF$19,البداية!$AH$45,\"\")","v":0},{"$f":"IF($A$21=البداية!$AF$19,البداية!$AH$46,\"\")","v":0},{"$f":"IF($A$21=البداية!$AF$19,البداية!$AH$47,\"\")","v":0},{"$f":"IF($A$21=البداية!$AF$19,البداية!$AH$48,\"\")","v":0},{"$f":"IF($A$21=البداية!$AF$19,البداية!$AH$49,\"\")","v":0},{"$f":"IF($A$21=البداية!$AF$19,البداية!$AH$50,\"\")","v":0},{"$f":"IF($A$21=البداية!$AF$19,البداية!$AH$51,\"\")","v":0},{"$f":"IF($A$21=البداية!$AF$19,البداية!$AH$52,\"\")","v":0},{"$f":"IF($A$21=البداية!$AF$19,البداية!$AH$53,\"\")","v":0},{"$f":"IF($A$21=البداية!$AF$19,البداية!$AH$54,\"\")","v":0}]
[{"$f":"البداية!AJ19","v":"رياضيات دعم"},null,{"$f":"IF($A$21=البداية!$AF$19,البداية!$AJ$20,\"\")","v":"حساني عبد القادر"},{"$f":"IF($A$21=البداية!$AF$19,البداية!$AJ$21,\"\")","v":"حساني عبد القادر"},{"$f":"IF($A$21=البداية!$AF$19,البداية!$AJ$22,\"\")","v":"سماعيني بن يوسف"},{"$f":"IF($A$21=البداية!$AF$19,البداية!$AJ$22,\"\")","v":"سماعيني بن يوسف"},{"$f":"IF($A$21=البداية!$AF$19,البداية!$AJ$23,\"\")","v":"سماعيني بن يوسف"},{"$f":"IF($A$21=البداية!$AF$19,البداية!$AJ$24,\"\")","v":"حساني عبد القادر"},{"$f":"IF($A$21=البداية!$AF$19,البداية!$AJ$26,\"\")","v":"حساني فاطمة "},{"$f":"IF($A$21=البداية!$AF$19,البداية!$AJ$27,\"\")","v":"حساني فاطمة "},{"$f":"IF($A$21=البداية!$AF$19,البداية!$AJ$28,\"\")","v":"حساني فاطمة "},{"$f":"IF($A$21=البداية!$AF$19,البداية!$AJ$29,\"\")","v":"حساني فاطمة "},{"$f":"IF($A$21=البداية!$AF$19,البداية!$AJ$30,\"\")","v":0},{"$f":"IF($A$21=البداية!$AF$19,البداية!$AJ$31,\"\")","v":0},{"$f":"IF($A$21=البداية!$AF$19,البداية!$AJ$32,\"\")","v":0},{"$f":"IF($A$21=البداية!$AF$19,البداية!$AJ$33,\"\")","v":0},{"$f":"IF($A$21=البداية!$AF$19,البداية!$AJ$34,\"\")","v":0},{"$f":"IF($A$21=البداية!$AF$19,البداية!$AJ$35,\"\")","v":0},{"$f":"IF($A$21=البداية!$AF$19,البداية!$AJ$36,\"\")","v":0},{"$f":"IF($A$21=البداية!$AF$19,البداية!$AJ$37,\"\")","v":0},{"$f":"IF($A$21=البداية!$AF$19,البداية!$AJ$38,\"\")","v":0},{"$f":"IF($A$21=البداية!$AF$19,البداية!$AJ$39,\"\")","v":0},{"$f":"IF($A$21=البداية!$AF$19,البداية!$AJ$40,\"\")","v":0},{"$f":"IF($A$21=البداية!$AF$19,البداية!$AJ$41,\"\")","v":0},{"$f":"IF($A$21=البداية!$AF$19,البداية!$AJ$42,\"\")","v":0},{"$f":"IF($A$21=البداية!$AF$19,البداية!$AJ$43,\"\")","v":0},{"$f":"IF($A$21=البداية!$AF$19,البداية!$AJ$44,\"\")","v":0},{"$f":"IF($A$21=البداية!$AF$19,البداية!$AJ$45,\"\")","v":0},{"$f":"IF($A$21=البداية!$AF$19,البداية!$AJ$46,\"\")","v":0},{"$f":"IF($A$21=البداية!$AF$19,البداية!$AJ$47,\"\")","v":0},{"$f":"IF($A$21=البداية!$AF$19,البداية!$AJ$48,\"\")","v":0},{"$f":"IF($A$21=البداية!$AF$19,البداية!$AJ$49,\"\")","v":0},{"$f":"IF($A$21=البداية!$AF$19,البداية!$AJ$50,\"\")","v":0},{"$f":"IF($A$21=البداية!$AF$19,البداية!$AJ$51,\"\")","v":0},{"$f":"IF($A$21=البداية!$AF$19,البداية!$AJ$52,\"\")","v":0},{"$f":"IF($A$21=البداية!$AF$19,البداية!$AJ$53,\"\")","v":0},{"$f":"IF($A$21=البداية!$AF$19,البداية!$AJ$54,\"\")","v":0}]
[{"$f":"البداية!AL19","v":"فرنسية دعم"},null,{"$f":"IF($A$21=البداية!$AF$19,البداية!$AL$20,\"\")","v":"كواهي يعقوب"},{"$f":"IF($A$21=البداية!$AF$19,البداية!$AL$21,\"\")","v":"كواهي يعقوب"},{"$f":"IF($A$21=البداية!$AF$19,البداية!$AL$22,\"\")","v":"كواهي يعقوب"},{"$f":"IF($A$21=البداية!$AF$19,البداية!$AL$22,\"\")","v":"كواهي يعقوب"},{"$f":"IF($A$21=البداية!$AF$19,البداية!$AL$23,\"\")","v":"مغزي محمد"},{"$f":"IF($A$21=البداية!$AF$19,البداية!$AL$24,\"\")","v":"امحمدي بوشوشة "},{"$f":"IF($A$21=البداية!$AF$19,البداية!$AL$26,\"\")","v":"امحمدي بوشوشة "},{"$f":"IF($A$21=البداية!$AF$19,البداية!$AL$27,\"\")","v":"مغزي محمد"},{"$f":"IF($A$21=البداية!$AF$19,البداية!$AL$28,\"\")","v":"مغزي محمد"},{"$f":"IF($A$21=البداية!$AF$19,البداية!$AL$29,\"\")","v":"مغزي محمد"},{"$f":"IF($A$21=البداية!$AF$19,البداية!$AL$30,\"\")","v":0},{"$f":"IF($A$21=البداية!$AF$19,البداية!$AL$31,\"\")","v":0},{"$f":"IF($A$21=البداية!$AF$19,البداية!$AL$32,\"\")","v":0},{"$f":"IF($A$21=البداية!$AF$19,البداية!$AL$33,\"\")","v":0},{"$f":"IF($A$21=البداية!$AF$19,البداية!$AL$34,\"\")","v":0},{"$f":"IF($A$21=البداية!$AF$19,البداية!$AL$35,\"\")","v":0},{"$f":"IF($A$21=البداية!$AF$19,البداية!$AL$36,\"\")","v":0},{"$f":"IF($A$21=البداية!$AF$19,البداية!$AL$37,\"\")","v":0},{"$f":"IF($A$21=البداية!$AF$19,البداية!$AL$38,\"\")","v":0},{"$f":"IF($A$21=البداية!$AF$19,البداية!$AL$39,\"\")","v":0},{"$f":"IF($A$21=البداية!$AF$19,البداية!$AL$40,\"\")","v":0},{"$f":"IF($A$21=البداية!$AF$19,البداية!$AL$41,\"\")","v":0},{"$f":"IF($A$21=البداية!$AF$19,البداية!$AL$42,\"\")","v":0},{"$f":"IF($A$21=البداية!$AF$19,البداية!$AL$43,\"\")","v":0},{"$f":"IF($A$21=البداية!$AF$19,البداية!$AL$44,\"\")","v":0},{"$f":"IF($A$21=البداية!$AF$19,البداية!$AL$45,\"\")","v":0},{"$f":"IF($A$21=البداية!$AF$19,البداية!$AL$46,\"\")","v":0},{"$f":"IF($A$21=البداية!$AF$19,البداية!$AL$47,\"\")","v":0},{"$f":"IF($A$21=البداية!$AF$19,البداية!$AL$48,\"\")","v":0},{"$f":"IF($A$21=البداية!$AF$19,البداية!$AL$49,\"\")","v":0},{"$f":"IF($A$21=البداية!$AF$19,البداية!$AL$50,\"\")","v":0},{"$f":"IF($A$21=البداية!$AF$19,البداية!$AL$51,\"\")","v":0},{"$f":"IF($A$21=البداية!$AF$19,البداية!$AL$52,\"\")","v":0},{"$f":"IF($A$21=البداية!$AF$19,البداية!$AL$53,\"\")","v":0},{"$f":"IF($A$21=البداية!$AF$19,البداية!$AL$54,\"\")","v":0}]
[{"$f":"البداية!AN19","v":"انجليزية دعم"},null,{"$f":"IF($A$21=البداية!$AF$19,البداية!$AN$20,\"\")","v":"محمدي مريم "},{"$f":"IF($A$21=البداية!$AF$19,البداية!$AN$21,\"\")","v":"محمدي مريم "},{"$f":"IF($A$21=البداية!$AF$19,البداية!$AN$22,\"\")","v":"زريفي إبراهيم"},{"$f":"IF($A$21=البداية!$AF$19,البداية!$AN$22,\"\")","v":"زريفي إبراهيم"},{"$f":"IF($A$21=البداية!$AF$19,البداية!$AN$23,\"\")","v":"زريفي إبراهيم"},{"$f":"IF($A$21=البداية!$AF$19,البداية!$AN$24,\"\")","v":"محمدي مريم "},{"$f":"IF($A$21=البداية!$AF$19,البداية!$AN$26,\"\")","v":"محمدي مريم "},{"$f":"IF($A$21=البداية!$AF$19,البداية!$AN$27,\"\")","v":"زريفي إبراهيم"},{"$f":"IF($A$21=البداية!$AF$19,البداية!$AN$28,\"\")","v":"زريفي إبراهيم"},{"$f":"IF($A$21=البداية!$AF$19,البداية!$AN$29,\"\")","v":"زريفي إبراهيم"},{"$f":"IF($A$21=البداية!$AF$19,البداية!$AN$30,\"\")","v":0},{"$f":"IF($A$21=البداية!$AF$19,البداية!$AN$31,\"\")","v":0},{"$f":"IF($A$21=البداية!$AF$19,البداية!$AN$32,\"\")","v":0},{"$f":"IF($A$21=البداية!$AF$19,البداية!$AN$33,\"\")","v":0},{"$f":"IF($A$21=البداية!$AF$19,البداية!$AN$34,\"\")","v":0},{"$f":"IF($A$21=البداية!$AF$19,البداية!$AN$35,\"\")","v":0},{"$f":"IF($A$21=البداية!$AF$19,البداية!$AN$36,\"\")","v":0},{"$f":"IF($A$21=البداية!$AF$19,البداية!$AN$37,\"\")","v":0},{"$f":"IF($A$21=البداية!$AF$19,البداية!$AN$38,\"\")","v":0},{"$f":"IF($A$21=البداية!$AF$19,البداية!$AN$39,\"\")","v":0},{"$f":"IF($A$21=البداية!$AF$19,البداية!$AN$40,\"\")","v":0},{"$f":"IF($A$21=البداية!$AF$19,البداية!$AN$41,\"\")","v":0},{"$f":"IF($A$21=البداية!$AF$19,البداية!$AN$42,\"\")","v":0},{"$f":"IF($A$21=البداية!$AF$19,البداية!$AN$43,\"\")","v":0},{"$f":"IF($A$21=البداية!$AF$19,البداية!$AN$44,\"\")","v":0},{"$f":"IF($A$21=البداية!$AF$19,البداية!$AN$45,\"\")","v":0},{"$f":"IF($A$21=البداية!$AF$19,البداية!$AN$46,\"\")","v":0},{"$f":"IF($A$21=البداية!$AF$19,البداية!$AN$47,\"\")","v":0},{"$f":"IF($A$21=البداية!$AF$19,البداية!$AN$48,\"\")","v":0},{"$f":"IF($A$21=البداية!$AF$19,البداية!$AN$49,\"\")","v":0},{"$f":"IF($A$21=البداية!$AF$19,البداية!$AN$50,\"\")","v":0},{"$f":"IF($A$21=البداية!$AF$19,البداية!$AN$51,\"\")","v":0},{"$f":"IF($A$21=البداية!$AF$19,البداية!$AN$52,\"\")","v":0},{"$f":"IF($A$21=البداية!$AF$19,البداية!$AN$53,\"\")","v":0},{"$f":"IF($A$21=البداية!$AF$19,البداية!$AN$54,\"\")","v":0}]
[{"$f":"البداية!AP19","v":"عربية/رياضيات"},null,{"$f":"IF($A$21=البداية!$AF$19,البداية!$AP$20,\"\")","v":"بدراني خديجة / حساني عبد القادر"},{"$f":"IF($A$21=البداية!$AF$19,البداية!$AP$21,\"\")","v":"بدراني خديجة / حساني عبد القادر"},{"$f":"IF($A$21=البداية!$AF$19,البداية!$AP$22,\"\")","v":"العابد مباركة/ سماعيني بن يوسف"},{"$f":"IF($A$21=البداية!$AF$19,البداية!$AP$22,\"\")","v":"العابد مباركة/ سماعيني بن يوسف"},{"$f":"IF($A$21=البداية!$AF$19,البداية!$AP$23,\"\")","v":"العابد مباركة/ سماعيني بن يوسف"},{"$f":"IF($A$21=البداية!$AF$19,البداية!$AP$24,\"\")","v":"تهامي ام الخير/ حساني عبد القادر"},{"$f":"IF($A$21=البداية!$AF$19,البداية!$AP$26,\"\")","v":"تهامي ام الخير/ حساني فاطمة "},{"$f":"IF($A$21=البداية!$AF$19,البداية!$AP$27,\"\")","v":"سهلي بوعلام/ حساني فاطمة "},{"$f":"IF($A$21=البداية!$AF$19,البداية!$AP$28,\"\")","v":"سهلي بوعلام/ حساني فاطمة "},{"$f":"IF($A$21=البداية!$AF$19,البداية!$AP$29,\"\")","v":"سهلي بوعلام/ حساني فاطمة "},{"$f":"IF($A$21=البداية!$AF$19,البداية!$AP$30,\"\")","v":"/ "},{"$f":"IF($A$21=البداية!$AF$19,البداية!$AP$31,\"\")","v":"/ "},{"$f":"IF($A$21=البداية!$AF$19,البداية!$AP$32,\"\")","v":"/ "},{"$f":"IF($A$21=البداية!$AF$19,البداية!$AP$33,\"\")","v":"/ "},{"$f":"IF($A$21=البداية!$AF$19,البداية!$AP$34,\"\")","v":"/ "},{"$f":"IF($A$21=البداية!$AF$19,البداية!$AP$35,\"\")","v":0},{"$f":"IF($A$21=البداية!$AF$19,البداية!$AP$36,\"\")","v":0},{"$f":"IF($A$21=البداية!$AF$19,البداية!$AP$37,\"\")","v":0},{"$f":"IF($A$21=البداية!$AF$19,البداية!$AP$38,\"\")","v":0},{"$f":"IF($A$21=البداية!$AF$19,البداية!$AP$39,\"\")","v":0},{"$f":"IF($A$21=البداية!$AF$19,البداية!$AP$40,\"\")","v":0},{"$f":"IF($A$21=البداية!$AF$19,البداية!$AP$41,\"\")","v":0},{"$f":"IF($A$21=البداية!$AF$19,البداية!$AP$42,\"\")","v":0},{"$f":"IF($A$21=البداية!$AF$19,البداية!$AP$43,\"\")","v":0},{"$f":"IF($A$21=البداية!$AF$19,البداية!$AP$44,\"\")","v":0},{"$f":"IF($A$21=البداية!$AF$19,البداية!$AP$45,\"\")","v":0},{"$f":"IF($A$21=البداية!$AF$19,البداية!$AP$46,\"\")","v":0},{"$f":"IF($A$21=البداية!$AF$19,البداية!$AP$47,\"\")","v":0},{"$f":"IF($A$21=البداية!$AF$19,البداية!$AP$48,\"\")","v":0},{"$f":"IF($A$21=البداية!$AF$19,البداية!$AP$49,\"\")","v":0},{"$f":"IF($A$21=البداية!$AF$19,البداية!$AP$50,\"\")","v":0},{"$f":"IF($A$21=البداية!$AF$19,البداية!$AP$51,\"\")","v":0},{"$f":"IF($A$21=البداية!$AF$19,البداية!$AP$52,\"\")","v":0},{"$f":"IF($A$21=البداية!$AF$19,البداية!$AP$53,\"\")","v":0},{"$f":"IF($A$21=البداية!$AF$19,البداية!$AP$54,\"\")","v":0}]
[{"$f":"البداية!AR19","v":"تكنولوجيا دعم"},null,{"$f":"IF($A$21=البداية!$AF$19,البداية!$AR$20,\"\")","v":"داودي الميلود"},{"$f":"IF($A$21=البداية!$AF$19,البداية!$AR$21,\"\")","v":"داودي الميلود"},{"$f":"IF($A$21=البداية!$AF$19,البداية!$AR$22,\"\")","v":"طيبي عبد القادر"},{"$f":"IF($A$21=البداية!$AF$19,البداية!$AR$22,\"\")","v":"طيبي عبد القادر"},{"$f":"IF($A$21=البداية!$AF$19,البداية!$AR$23,\"\")","v":"طيبي عبد القادر"},{"$f":"IF($A$21=البداية!$AF$19,البداية!$AR$24,\"\")","v":"داودي الميلود"},{"$f":"IF($A$21=البداية!$AF$19,البداية!$AR$26,\"\")","v":"داودي الميلود"},{"$f":"IF($A$21=البداية!$AF$19,البداية!$AR$27,\"\")","v":"طيبي عبد القادر"},{"$f":"IF($A$21=البداية!$AF$19,البداية!$AR$28,\"\")","v":"طيبي عبد القادر"},{"$f":"IF($A$21=البداية!$AF$19,البداية!$AR$29,\"\")","v":"طيبي عبد القادر"},{"$f":"IF($A$21=البداية!$AF$19,البداية!$AR$30,\"\")","v":0},{"$f":"IF($A$21=البداية!$AF$19,البداية!$AR$31,\"\")","v":0},{"$f":"IF($A$21=البداية!$AF$19,البداية!$AR$32,\"\")","v":0},{"$f":"IF($A$21=البداية!$AF$19,البداية!$AR$33,\"\")","v":0},{"$f":"IF($A$21=البداية!$AF$19,البداية!$AR$34,\"\")","v":0},{"$f":"IF($A$21=البداية!$AF$19,البداية!$AR$35,\"\")","v":0},{"$f":"IF($A$21=البداية!$AF$19,البداية!$AR$36,\"\")","v":0},{"$f":"IF($A$21=البداية!$AF$19,البداية!$AR$37,\"\")","v":0},{"$f":"IF($A$21=البداية!$AF$19,البداية!$AR$38,\"\")","v":0},{"$f":"IF($A$21=البداية!$AF$19,البداية!$AR$39,\"\")","v":0},{"$f":"IF($A$21=البداية!$AF$19,البداية!$AR$40,\"\")","v":0},{"$f":"IF($A$21=البداية!$AF$19,البداية!$AR$41,\"\")","v":0},{"$f":"IF($A$21=البداية!$AF$19,البداية!$AR$42,\"\")","v":0},{"$f":"IF($A$21=البداية!$AF$19,البداية!$AR$43,\"\")","v":0},{"$f":"IF($A$21=البداية!$AF$19,البداية!$AR$44,\"\")","v":0},{"$f":"IF($A$21=البداية!$AF$19,البداية!$AR$45,\"\")","v":0},{"$f":"IF($A$21=البداية!$AF$19,البداية!$AR$46,\"\")","v":0},{"$f":"IF($A$21=البداية!$AF$19,البداية!$AR$47,\"\")","v":0},{"$f":"IF($A$21=البداية!$AF$19,البداية!$AR$48,\"\")","v":0},{"$f":"IF($A$21=البداية!$AF$19,البداية!$AR$49,\"\")","v":0},{"$f":"IF($A$21=البداية!$AF$19,البداية!$AR$50,\"\")","v":0},{"$f":"IF($A$21=البداية!$AF$19,البداية!$AR$51,\"\")","v":0},{"$f":"IF($A$21=البداية!$AF$19,البداية!$AR$52,\"\")","v":0},{"$f":"IF($A$21=البداية!$AF$19,البداية!$AR$53,\"\")","v":0},{"$f":"IF($A$21=البداية!$AF$19,البداية!$AR$54,\"\")","v":0}]
[{"$f":"البداية!AT19","v":"اجتماعيات دعم"},null,{"$f":"IF($A$21=البداية!$AF$19,البداية!$AT$20,\"\")","v":"بدراني شريف"},{"$f":"IF($A$21=البداية!$AF$19,البداية!$AT$21,\"\")","v":"بدراني شريف"},{"$f":"IF($A$21=البداية!$AF$19,البداية!$AT$22,\"\")","v":"مشارة محمد"},{"$f":"IF($A$21=البداية!$AF$19,البداية!$AT$22,\"\")","v":"مشارة محمد"},{"$f":"IF($A$21=البداية!$AF$19,البداية!$AT$23,\"\")","v":"مشارة محمد"},{"$f":"IF($A$21=البداية!$AF$19,البداية!$AT$24,\"\")","v":"بدراني شريف"},{"$f":"IF($A$21=البداية!$AF$19,البداية!$AT$26,\"\")","v":"بدراني شريف"},{"$f":"IF($A$21=البداية!$AF$19,البداية!$AT$27,\"\")","v":"مشارة محمد"},{"$f":"IF($A$21=البداية!$AF$19,البداية!$AT$28,\"\")","v":"مشارة محمد"},{"$f":"IF($A$21=البداية!$AF$19,البداية!$AT$29,\"\")","v":"مشارة محمد"},{"$f":"IF($A$21=البداية!$AF$19,البداية!$AT$30,\"\")","v":0},{"$f":"IF($A$21=البداية!$AF$19,البداية!$AT$31,\"\")","v":0},{"$f":"IF($A$21=البداية!$AF$19,البداية!$AT$32,\"\")","v":0},{"$f":"IF($A$21=البداية!$AF$19,البداية!$AT$33,\"\")","v":0},{"$f":"IF($A$21=البداية!$AF$19,البداية!$AT$34,\"\")","v":0},{"$f":"IF($A$21=البداية!$AF$19,البداية!$AT$35,\"\")","v":0},{"$f":"IF($A$21=البداية!$AF$19,البداية!$AT$36,\"\")","v":0},{"$f":"IF($A$21=البداية!$AF$19,البداية!$AT$37,\"\")","v":0},{"$f":"IF($A$21=البداية!$AF$19,البداية!$AT$38,\"\")","v":0},{"$f":"IF($A$21=البداية!$AF$19,البداية!$AT$39,\"\")","v":0},{"$f":"IF($A$21=البداية!$AF$19,البداية!$AT$40,\"\")","v":0},{"$f":"IF($A$21=البداية!$AF$19,البداية!$AT$41,\"\")","v":0},{"$f":"IF($A$21=البداية!$AF$19,البداية!$AT$42,\"\")","v":0},{"$f":"IF($A$21=البداية!$AF$19,البداية!$AT$43,\"\")","v":0},{"$f":"IF($A$21=البداية!$AF$19,البداية!$AT$44,\"\")","v":0},{"$f":"IF($A$21=البداية!$AF$19,البداية!$AT$45,\"\")","v":0},{"$f":"IF($A$21=البداية!$AF$19,البداية!$AT$46,\"\")","v":0},{"$f":"IF($A$21=البداية!$AF$19,البداية!$AT$47,\"\")","v":0},{"$f":"IF($A$21=البداية!$AF$19,البداية!$AT$48,\"\")","v":0},{"$f":"IF($A$21=البداية!$AF$19,البداية!$AT$49,\"\")","v":0},{"$f":"IF($A$21=البداية!$AF$19,البداية!$AT$50,\"\")","v":0},{"$f":"IF($A$21=البداية!$AF$19,البداية!$AT$51,\"\")","v":0},{"$f":"IF($A$21=البداية!$AF$19,البداية!$AT$52,\"\")","v":0},{"$f":"IF($A$21=البداية!$AF$19,البداية!$AT$53,\"\")","v":0},{"$f":"IF($A$21=البداية!$AF$19,البداية!$AT$54,\"\")","v":0}]
[{"$f":"البداية!AV19","v":0},null,{"$f":"IF(A29=البداية!$AV$19,البداية!AV20,\"\")","v":0},{"$f":"IF($A$29=البداية!$AV$19,البداية!AV21,\"\")","v":0},{"$f":"IF($A$29=البداية!$AV$19,البداية!#REF!,\"\")","v":{"$error":"#REF!"}},{"$f":"IF($A$29=البداية!$AV$19,البداية!$AV$22,\"\")","v":0},{"$f":"IF($A$29=البداية!$AV$19,البداية!$AV$23,\"\")","v":0},{"$f":"IF($A$29=البداية!$AV$19,البداية!$AV$24,\"\")","v":0},{"$f":"IF($A$29=البداية!$AV$19,البداية!$AV$26,\"\")","v":0},{"$f":"IF($A$29=البداية!$AV$19,البداية!$AV$27,\"\")","v":0},{"$f":"IF($A$29=البداية!$AV$19,البداية!$AV$28,\"\")","v":0},{"$f":"IF($A$29=البداية!$AV$19,البداية!$AV$29,\"\")","v":0},{"$f":"IF($A$29=البداية!$AV$19,البداية!$AV$30,\"\")","v":0},{"$f":"IF($A$29=البداية!$AV$19,البداية!$AV$31,\"\")","v":0},{"$f":"IF($A$29=البداية!$AV$19,البداية!$AV$32,\"\")","v":0},{"$f":"IF($A$29=البداية!$AV$19,البداية!$AV$33,\"\")","v":0},{"$f":"IF($A$29=البداية!$AV$19,البداية!$AV$34,\"\")","v":0},{"$f":"IF($A$29=البداية!$AV$19,البداية!$AV$35,\"\")","v":0},{"$f":"IF($A$29=البداية!$AV$19,البداية!BJ21,\"\")","v":0},{"$f":"IF($A$29=البداية!$AV$19,البداية!BK21,\"\")","v":0},{"$f":"IF($A$29=البداية!$AV$19,البداية!BL21,\"\")","v":0},{"$f":"IF($A$29=البداية!$AV$19,البداية!BM21,\"\")","v":0},{"$f":"IF($A$29=البداية!$AV$19,البداية!BN21,\"\")","v":0}]
[null,null,{"$f":"IF(A30=البداية!$AV$19,البداية!AV21,\"\")","v":0}]
[]
[]
[]
[]
[1,2,3,4,5,6,7,8,9,10,11,12,13,14,15,16,17,18,19,20,21,22,23,24,25,26,27,28,29,30,31,32,33,34,35,36,37]

{"sheet":"الأساتذة","index":11,"n_rows":455,"n_cols":21,"rows_kept":455,"cut":false,"hidden":false,"merged":[[88,8,88,9],[88,13,88,14],[88,15,88,16],[88,17,88,18],[89,2,89,3],[89,4,89,5],[89,6,89,7],[89,8,89,9],[89,13,89,14],[89,15,89,16],[90,4,90,5],[90,6,90,7],[90,8,90,9],[90,13,90,14],[90,15,90,16],[88,19,88,20],[89,17,89,18],[89,19,89,20],[3,0,10,0],[10,2,10,3],[85,4,85,5],[85,6,85,7],[85,8,85,9],[86,2,86,3],[19,0,26,0],[19,4,19,5],[19,6,19,7],[84,0,91,0],[0,12,2,12],[84,19,84,20],[84,8,84,9],[84,11,91,11],[85,2,85,3],[3,11,10,11],[84,2,84,3],[84,4,84,5],[84,6,84,7],[86,4,86,5],[85,13,85,14],[85,15,85,16],[0,0,2,0],[0,1,2,1],[85,17,85,18],[85,19,85,20],[84,13,84,14],[84,15,84,16],[84,17,84,18],[0,11,2,11],[86,8,86,9],[86,13,86,14],[83,17,83,18],[83,19,83,20],[82,2,82,3],[82,4,82,5],[82,6,82,7],[82,8,82,9],[82,13,82,14],[82,15,82,16],[86,6,86,7],[90,2,90,3],[82,17,82,18],[82,19,82,20],[83,2,83,3],[83,4,83,5],[83,6,83,7],[83,8,83,9],[83,13,83,14],[83,15,83,16],[86,15,86,16],[86,17,86,18],[86,19,86,20],[87,2,87,3],[87,4,87,5],[87,6,87,7],[87,8,87,9],[87,13,87,14],[87,15,87,16],[87,17,87,18],[87,19,87,20],[88,2,88,3],[88,4,88,5],[88,6,88,7],[79,17,79,18],[79,19,79,20],[80,2,80,3],[80,4,80,5],[80,6,80,7],[80,8,80,9],[80,13,80,14],[80,15,80,16],[80,17,80,18],[80,19,80,20],[81,2,81,3],[81,4,81,5],[81,6,81,7],[81,8,81,9],[81,13,81,14],[81,15,81,16],[81,17,81,18],[81,19,81,20],[76,0,83,0],[76,2,76,3],[76,4,76,5],[76,6,76,7],[76,8,76,9],[76,11,83,11],[77,2,77,3],[77,4,77,5],[77,6,77,7],[77,8,77,9],[76,13,76,14],[76,15,76,16],[76,17,76,18],[76,19,76,20],[77,13,77,14],[77,15,77,16],[77,17,77,18],[77,19,77,20],[78,2,78,3],[78,4,78,5],[78,6,78,7],[78,8,78,9],[78,13,78,14],[78,15,78,16],[78,17,78,18],[78,19,78,20],[79,2,79,3],[79,4,79,5],[79,6,79,7],[79,8,79,9],[79,13,79,14],[79,15,79,16],[73,2,73,3],[73,4,73,5],[73,6,73,7],[73,8,73,9],[73,13,73,14],[73,15,73,16],[73,17,73,18],[73,19,73,20],[74,2,74,3],[74,4,74,5],[74,6,74,7],[74,8,74,9],[74,13,74,14],[74,15,74,16],[74,17,74,18],[74,19,74,20],[75,2,75,3],[75,4,75,5],[75,6,75,7],[75,8,75,9],[75,13,75,14],[75,15,75,16],[75,17,75,18],[75,19,75,20],[70,17,70,18],[70,19,70,20],[71,2,71,3],[71,4,71,5],[71,6,71,7],[71,8,71,9],[71,13,71,14],[71,15,71,16],[71,17,71,18],[71,19,71,20],[72,2,72,3],[72,4,72,5],[72,6,72,7],[72,8,72,9],[72,13,72,14],[72,15,72,16],[72,17,72,18],[72,19,72,20],[67,2,67,3],[67,4,67,5],[67,6,67,7],[67,8,67,9],[67,13,67,14],[67,15,67,16],[67,17,67,18],[67,19,67,20],[68,0,75,0],[68,2,68,3],[68,4,68,5],[68,6,68,7],[68,8,68,9],[68,11,75,11],[69,2,69,3],[69,4,69,5],[69,6,69,7],[69,8,69,9],[68,13,68,14],[68,15,68,16],[68,17,68,18],[68,19,68,20],[69,13,69,14],[69,15,69,16],[69,17,69,18],[69,19,69,20],[70,2,70,3],[70,4,70,5],[70,6,70,7],[70,8,70,9],[70,13,70,14],[70,15,70,16],[65,15,65,16],[16,4,16,5],[17,4,17,5],[18,4,18,5],[22,4,22,5],[3,2,3,3],[4,2,4,3],[5,2,5,3],[6,2,6,3],[7,2,7,3],[8,2,8,3],[65,17,65,18],[65,19,65,20],[66,2,66,3],[66,4,66,5],[66,6,66,7],[66,8,66,9],[66,13,66,14],[66,15,66,16],[66,17,66,18],[66,19,66,20],[65,2,65,3],[65,4,65,5],[65,6,65,7],[65,8,65,9],[65,13,65,14],[18,2,18,3],[19,2,19,3],[20,2,20,3],[22,2,22,3],[3,4,3,5],[4,4,4,5],[5,4,5,5],[6,4,6,5],[7,4,7,5],[8,4,8,5],[13,2,13,3],[14,2,14,3],[15,2,15,3],[16,2,16,3],[17,2,17,3],[3,8,3,9],[4,8,4,9],[5,8,5,9],[6,8,6,9],[7,8,7,9],[8,8,8,9],[10,6,10,7],[63,19,63,20],[64,2,64,3],[64,4,64,5],[64,6,64,7],[64,8,64,9],[64,13,64,14],[64,15,64,16],[64,17,64,18],[64,19,64,20],[3,6,3,7],[4,6,4,7],[5,6,5,7],[6,6,6,7],[7,6,7,7],[8,6,8,7],[10,4,10,5],[9,2,9,3],[9,4,9,5],[9,6,9,7],[9,8,9,9],[13,6,13,7],[13,8,13,9],[10,8,10,9],[62,17,62,18],[62,19,62,20],[63,2,63,3],[63,4,63,5],[63,6,63,7],[63,8,63,9],[63,13,63,14],[63,15,63,16],[63,17,63,18],[16,6,16,7],[17,6,17,7],[18,6,18,7],[22,6,22,7],[14,4,14,5],[14,6,14,7],[14,8,14,9],[15,4,15,5],[15,6,15,7],[15,8,15,9],[11,0,18,0],[11,2,11,3],[11,4,11,5],[11,6,11,7],[11,8,11,9],[12,2,12,3],[12,4,12,5],[12,6,12,7],[12,8,12,9],[13,4,13,5],[16,8,16,9],[17,8,17,9],[18,8,18,9],[25,2,25,3],[25,4,25,5],[25,6,25,7],[25,8,25,9],[26,2,26,3],[26,4,26,5],[26,6,26,7],[26,8,26,9],[23,2,23,3],[23,4,23,5],[23,6,23,7],[23,8,23,9],[24,2,24,3],[24,4,24,5],[24,6,24,7],[24,8,24,9],[19,8,19,9],[20,4,20,5],[20,6,20,7],[20,8,20,9],[21,2,21,3],[21,4,21,5],[21,6,21,7],[21,8,21,9],[22,8,22,9],[31,2,31,3],[31,4,31,5],[31,6,31,7],[31,8,31,9],[32,2,32,3],[32,4,32,5],[32,6,32,7],[32,8,32,9],[29,4,29,5],[29,6,29,7],[29,8,29,9],[30,2,30,3],[30,4,30,5],[30,6,30,7],[30,8,30,9],[27,0,34,0],[27,2,27,3],[27,4,27,5],[27,6,27,7],[27,8,27,9],[28,2,28,3],[28,4,28,5],[28,6,28,7],[28,8,28,9],[29,2,29,3],[35,0,42,0],[35,2,35,3],[35,4,35,5],[35,6,35,7],[35,8,35,9],[36,2,36,3],[36,4,36,5],[36,6,36,7],[36,8,36,9],[37,2,37,3],[33,2,33,3],[33,4,33,5],[33,6,33,7],[33,8,33,9],[34,2,34,3],[34,4,34,5],[34,6,34,7],[34,8,34,9],[42,2,42,3],[42,4,42,5],[42,6,42,7],[42,8,42,9],[39,2,39,3],[39,4,39,5],[39,6,39,7],[39,8,39,9],[40,2,40,3],[40,4,40,5],[40,6,40,7],[40,8,40,9],[37,4,37,5],[37,6,37,7],[37,8,37,9],[38,2,38,3],[38,4,38,5],[38,6,38,7],[38,8,38,9],[59,2,59,3],[59,4,59,5],[59,6,59,7],[59,8,59,9],[59,13,59,14],[59,15,59,16],[59,17,59,18],[59,19,59,20],[60,0,67,0],[60,2,60,3],[60,4,60,5],[60,6,60,7],[60,8,60,9],[60,11,67,11],[61,2,61,3],[61,4,61,5],[61,6,61,7],[61,8,61,9],[60,13,60,14],[60,15,60,16],[60,17,60,18],[60,19,60,20],[61,13,61,14],[61,15,61,16],[61,17,61,18],[61,19,61,20],[62,2,62,3],[62,4,62,5],[62,6,62,7],[62,8,62,9],[62,13,62,14],[62,15,62,16],[56,2,56,3],[56,4,56,5],[56,6,56,7],[56,8,56,9],[56,13,56,14],[56,15,56,16],[56,17,56,18],[56,19,56,20],[57,2,57,3],[57,4,57,5],[57,6,57,7],[57,8,57,9],[57,13,57,14],[57,15,57,16],[57,17,57,18],[57,19,57,20],[58,2,58,3],[58,4,58,5],[58,6,58,7],[58,8,58,9],[58,13,58,14],[58,15,58,16],[58,17,58,18],[58,19,58,20],[53,6,53,7],[53,8,53,9],[52,13,52,14],[52,15,52,16],[53,13,53,14],[53,15,53,16],[53,17,53,18],[53,19,53,20],[54,2,54,3],[54,4,54,5],[54,6,54,7],[54,8,54,9],[54,13,54,14],[54,15,54,16],[54,17,54,18],[54,19,54,20],[55,2,55,3],[55,4,55,5],[55,6,55,7],[55,8,55,9],[55,13,55,14],[55,15,55,16],[55,17,55,18],[55,19,55,20],[6,13,6,14],[6,15,6,16],[6,17,6,18],[6,19,6,20],[7,13,7,14],[7,15,7,16],[7,17,7,18],[7,19,7,20],[4,13,4,14],[4,15,4,16],[4,17,4,18],[4,19,4,20],[5,13,5,14],[5,15,5,16],[5,17,5,18],[5,19,5,20],[3,13,3,14],[3,15,3,16],[3,17,3,18],[3,19,3,20],[10,13,10,14],[10,15,10,16],[10,17,10,18],[10,19,10,20],[11,11,18,11],[11,13,11,14],[11,15,11,16],[11,17,11,18],[11,19,11,20],[12,13,12,14],[8,13,8,14],[8,15,8,16],[8,17,8,18],[8,19,8,20],[9,13,9,14],[9,15,9,16],[9,17,9,18],[9,19,9,20],[16,13,16,14],[16,15,16,16],[16,17,16,18],[16,19,16,20],[17,13,17,14],[17,15,17,16],[17,17,17,18],[17,19,17,20],[14,13,14,14],[14,15,14,16],[14,17,14,18],[14,19,14,20],[15,13,15,14],[15,15,15,16],[15,17,15,18],[15,19,15,20],[12,15,12,16],[12,17,12,18],[12,19,12,20],[13,13,13,14],[13,15,13,16],[13,17,13,18],[13,19,13,20],[22,13,22,14],[22,15,22,16],[22,17,22,18],[22,19,22,20],[23,13,23,14],[23,15,23,16],[23,17,23,18],[23,19,23,20],[20,15,20,16],[20,17,20,18],[20,19,20,20],[21,13,21,14],[21,15,21,16],[21,17,21,18],[21,19,21,20],[18,13,18,14],[18,15,18,16],[18,17,18,18],[18,19,18,20],[19,13,19,14],[19,15,19,16],[19,17,19,18],[19,19,19,20],[20,13,20,14],[26,13,26,14],[26,15,26,16],[26,17,26,18],[26,19,26,20],[27,11,34,11],[27,13,27,14],[27,15,27,16],[27,17,27,18],[27,19,27,20],[28,13,28,14],[24,13,24,14],[24,15,24,16],[24,17,24,18],[24,19,24,20],[25,13,25,14],[25,15,25,16],[25,17,25,18],[25,19,25,20],[19,11,26,11],[32,13,32,14],[32,15,32,16],[32,17,32,18],[32,19,32,20],[33,13,33,14],[33,15,33,16],[33,17,33,18],[33,19,33,20],[30,13,30,14],[30,15,30,16],[30,17,30,18],[30,19,30,20],[31,13,31,14],[31,15,31,16],[31,17,31,18],[31,19,31,20],[28,15,28,16],[28,17,28,18],[28,19,28,20],[29,13,29,14],[29,15,29,16],[29,17,29,18],[29,19,29,20],[36,15,36,16],[36,17,36,18],[36,19,36,20],[37,13,37,14],[37,15,37,16],[37,17,37,18],[37,19,37,20],[34,13,34,14],[34,15,34,16],[34,17,34,18],[34,19,34,20],[35,11,42,11],[35,13,35,14],[35,15,35,16],[35,17,35,18],[35,19,35,20],[36,13,36,14],[40,13,40,14],[40,15,40,16],[41,2,41,3],[41,4,41,5],[41,6,41,7],[41,8,41,9],[40,17,40,18],[40,19,40,20],[41,13,41,14],[41,15,41,16],[41,17,41,18],[41,19,41,20],[38,13,38,14],[38,15,38,16],[38,17,38,18],[38,19,38,20],[39,13,39,14],[39,15,39,16],[39,17,39,18],[39,19,39,20],[101,0,103,0],[101,1,103,1],[101,11,103,11],[101,12,103,12],[90,17,90,18],[90,19,90,20],[91,2,91,3],[91,4,91,5],[91,6,91,7],[91,8,91,9],[91,13,91,14],[91,15,91,16],[91,17,91,18],[91,19,91,20],[42,13,42,14],[42,15,42,16],[42,17,42,18],[42,19,42,20],[52,17,52,18],[52,19,52,20],[49,0,51,0],[49,1,51,1],[49,11,51,11],[49,12,51,12],[52,0,59,0],[52,2,52,3],[52,4,52,5],[52,6,52,7],[52,8,52,9],[52,11,59,11],[53,2,53,3],[53,4,53,5],[104,13,104,14],[104,15,104,16],[104,17,104,18],[104,19,104,20],[105,2,105,3],[105,4,105,5],[105,6,105,7],[105,8,105,9],[105,13,105,14],[105,15,105,16],[104,0,111,0],[104,2,104,3],[104,4,104,5],[104,6,104,7],[104,8,104,9],[104,11,111,11],[107,2,107,3],[107,4,107,5],[107,6,107,7],[107,8,107,9],[107,13,107,14],[107,15,107,16],[107,17,107,18],[107,19,107,20],[108,2,108,3],[108,4,108,5],[108,6,108,7],[108,8,108,9],[108,13,108,14],[108,15,108,16],[105,17,105,18],[105,19,105,20],[106,2,106,3],[106,4,106,5],[106,6,106,7],[106,8,106,9],[106,13,106,14],[106,15,106,16],[106,17,106,18],[106,19,106,20],[110,17,110,18],[110,19,110,20],[111,2,111,3],[111,4,111,5],[111,6,111,7],[111,8,111,9],[111,13,111,14],[111,15,111,16],[111,17,111,18],[111,19,111,20],[110,2,110,3],[110,4,110,5],[110,6,110,7],[110,8,110,9],[110,13,110,14],[110,15,110,16],[108,17,108,18],[108,19,108,20],[109,2,109,3],[109,4,109,5],[109,6,109,7],[109,8,109,9],[109,13,109,14],[109,15,109,16],[109,17,109,18],[109,19,109,20],[112,13,112,14],[112,15,112,16],[112,17,112,18],[112,19,112,20],[113,2,113,3],[113,4,113,5],[113,6,113,7],[113,8,113,9],[113,13,113,14],[113,15,113,16],[112,0,119,0],[112,2,112,3],[112,4,112,5],[112,6,112,7],[112,8,112,9],[112,11,119,11],[115,2,115,3],[115,4,115,5],[115,6,115,7],[115,8,115,9],[115,13,115,14],[115,15,115,16],[115,17,115,18],[115,19,115,20],[116,2,116,3],[116,4,116,5],[116,6,116,7],[116,8,116,9],[116,13,116,14],[116,15,116,16],[113,17,113,18],[113,19,113,20],[114,2,114,3],[114,4,114,5],[114,6,114,7],[114,8,114,9],[114,13,114,14],[114,15,114,16],[114,17,114,18],[114,19,114,20],[118,17,118,18],[118,19,118,20],[119,2,119,3],[119,4,119,5],[119,6,119,7],[119,8,119,9],[119,13,119,14],[119,15,119,16],[119,17,119,18],[119,19,119,20],[118,2,118,3],[118,4,118,5],[118,6,118,7],[118,8,118,9],[118,13,118,14],[118,15,118,16],[116,17,116,18],[116,19,116,20],[117,2,117,3],[117,4,117,5],[117,6,117,7],[117,8,117,9],[117,13,117,14],[117,15,117,16],[117,17,117,18],[117,19,117,20],[120,13,120,14],[120,15,120,16],[120,17,120,18],[120,19,120,20],[121,2,121,3],[121,4,121,5],[121,6,121,7],[121,8,121,9],[121,13,121,14],[121,15,121,16],[120,0,127,0],[120,2,120,3],[120,4,120,5],[120,6,120,7],[120,8,120,9],[120,11,127,11],[123,2,123,3],[123,4,123,5],[123,6,123,7],[123,8,123,9],[123,13,123,14],[123,15,123,16],[123,17,123,18],[123,19,123,20],[124,2,124,3],[124,4,124,5],[124,6,124,7],[124,8,124,9],[124,13,124,14],[124,15,124,16],[121,17,121,18],[121,19,121,20],[122,2,122,3],[122,4,122,5],[122,6,122,7],[122,8,122,9],[122,13,122,14],[122,15,122,16],[122,17,122,18],[122,19,122,20],[126,17,126,18],[126,19,126,20],[127,2,127,3],[127,4,127,5],[127,6,127,7],[127,8,127,9],[127,13,127,14],[127,15,127,16],[127,17,127,18],[127,19,127,20],[126,2,126,3],[126,4,126,5],[126,6,126,7],[126,8,126,9],[126,13,126,14],[126,15,126,16],[124,17,124,18],[124,19,124,20],[125,2,125,3],[125,4,125,5],[125,6,125,7],[125,8,125,9],[125,13,125,14],[125,15,125,16],[125,17,125,18],[125,19,125,20],[128,13,128,14],[128,15,128,16],[128,17,128,18],[128,19,128,20],[129,2,129,3],[129,4,129,5],[129,6,129,7],[129,8,129,9],[129,13,129,14],[129,15,129,16],[128,0,135,0],[128,2,128,3],[128,4,128,5],[128,6,128,7],[128,8,128,9],[128,11,135,11],[131,2,131,3],[131,4,131,5],[131,6,131,7],[131,8,131,9],[131,13,131,14],[131,15,131,16],[131,17,131,18],[131,19,131,20],[132,2,132,3],[132,4,132,5],[132,6,132,7],[132,8,132,9],[132,13,132,14],[132,15,132,16],[129,17,129,18],[129,19,129,20],[130,2,130,3],[130,4,130,5],[130,6,130,7],[130,8,130,9],[130,13,130,14],[130,15,130,16],[130,17,130,18],[130,19,130,20],[134,17,134,18],[134,19,134,20],[135,2,135,3],[135,4,135,5],[135,6,135,7],[135,8,135,9],[135,13,135,14],[135,15,135,16],[135,17,135,18],[135,19,135,20],[134,2,134,3],[134,4,134,5],[134,6,134,7],[134,8,134,9],[134,13,134,14],[134,15,134,16],[132,17,132,18],[132,19,132,20],[133,2,133,3],[133,4,133,5],[133,6,133,7],[133,8,133,9],[133,13,133,14],[133,15,133,16],[133,17,133,18],[133,19,133,20],[137,17,137,18],[137,19,137,20],[138,2,138,3],[138,4,138,5],[138,6,138,7],[138,8,138,9],[138,13,138,14],[138,15,138,16],[138,17,138,18],[138,19,138,20],[136,13,136,14],[136,15,136,16],[136,17,136,18],[136,19,136,20],[137,2,137,3],[137,4,137,5],[137,6,137,7],[137,8,137,9],[137,13,137,14],[137,15,137,16],[136,2,136,3],[136,4,136,5],[136,6,136,7],[136,8,136,9],[136,11,143,11],[139,2,139,3],[139,4,139,5],[139,6,139,7],[139,8,139,9],[140,17,140,18],[140,19,140,20],[141,2,141,3],[141,4,141,5],[141,6,141,7],[141,8,141,9],[141,13,141,14],[141,15,141,16],[141,17,141,18],[141,19,141,20],[139,13,139,14],[139,15,139,16],[139,17,139,18],[139,19,139,20],[140,2,140,3],[140,4,140,5],[140,6,140,7],[140,8,140,9],[140,13,140,14],[140,15,140,16],[152,0,154,0],[152,1,154,1],[152,11,154,11],[152,12,154,12],[142,17,142,18],[142,19,142,20],[143,2,143,3],[143,4,143,5],[143,6,143,7],[143,8,143,9],[143,13,143,14],[143,15,143,16],[143,17,143,18],[143,19,143,20],[142,2,142,3]],"merged_total":3006,"flags":["merged_cut"]}
["الأيام","المواقيت","السيد (ة)",{"$f":"'مواقيت الأساتذة'!B8","v":"العابد مباركة "},"السيد (ة)",{"$f":"'مواقيت الأساتذة'!B16","v":"سهلي بوعلام "},"السيد (ة)",{"$f":"'مواقيت الأساتذة'!B24","v":"بدراني خديجة "},"السيد (ة)",{"$f":"'مواقيت الأساتذة'!B32","v":"تهامي أم الخير "},null,"الأيام","المواقيت","السيد (ة)",{"$f":"'مواقيت الأساتذة'!B40","v":"سماعيني بن يوسف"},"السيد (ة)",{"$f":"'مواقيت الأساتذة'!B48","v":"حساني عبد القادر "},"السيد (ة)",{"$f":"'مواقيت الأساتذة'!B56","v":"حساني فاطمة "},"السيد (ة)",{"$f":"'مواقيت الأساتذة'!B64","v":"داودي ميلود"}]
[null,null,"أستاذ (ة) في",{"$f":"'اسناد الأقسام'!A7","v":"عربية1"},"أستاذ (ة) في",{"$f":"'اسناد الأقسام'!A8","v":"عربية2"},"أستاذ (ة) في",{"$f":"'اسناد الأقسام'!A9","v":"عربية3"},"أستاذ (ة) في",{"$f":"'اسناد الأقسام'!A10","v":"عربية4"},null,null,null,"أستاذ (ة) في",{"$f":"'اسناد الأقسام'!A11","v":"رياضيات1"},"أستاذ (ة) في",{"$f":"'اسناد الأقسام'!A12","v":"رياضيات2"},"أستاذ (ة) في",{"$f":"'اسناد الأقسام'!A13","v":"رياضيات3"},"أستاذ (ة) في",{"$f":"'اسناد الأقسام'!A14","v":"تكنولوجيا1"}]
[null,null,"القسم","المادة المدروسة","القسم","المادة المدروسة","القسم","المادة المدروسة","القسم","المادة المدروسة",null,null,null,"القسم","المادة المدروسة","القسم","المادة المدروسة","القسم","المادة المدروسة","القسم","المادة المدروسة"]
["الأحــــــــد","سا08  - سا09",{"$f":"'مواقيت الأساتذة'!E8","v":"4م3 تربية اسلامية"},null,{"$f":"'مواقيت الأساتذة'!E16","v":0},null,{"$f":"'مواقيت الأساتذة'!E24","v":"1م1 لغة عربية "},null,{"$f":"'مواقيت الأساتذة'!E32","v":"3م1 لغة عربية"},null,null,"الأحــــــــد","سا08  - سا09",{"$f":"'مواقيت الأساتذة'!E40","v":"1م2 رياضيات "},null,{"$f":"'مواقيت الأساتذة'!E48","v":"3م2 رياضيات"},null,{"$f":"'مواقيت الأساتذة'!E56","v":"2م2 رياضيات"},null,{"$f":"'مواقيت الأساتذة'!E64","v":"4م2 تكنوجيا"}]
[null,"سا09  -  سا10",{"$f":"'مواقيت الأساتذة'!E9","v":"2م1 لغة عربية "},null,{"$f":"'مواقيت الأساتذة'!E17","v":0},null,{"$f":"'مواقيت الأساتذة'!E25","v":"2م2 لغة عربية "},null,{"$f":"'مواقيت الأساتذة'!E33","v":"3م2 لغة عربية"},null,null,null,"سا09  -  سا10",{"$f":"'مواقيت الأساتذة'!E41","v":"3م1 رياضيات "},null,{"$f":"'مواقيت الأساتذة'!E49","v":"4م1 رياضيات "},null,{"$f":"'مواقيت الأساتذة'!E57","v":"4م3 رياضيات"},null,{"$f":"'مواقيت الأساتذة'!E65","v":"4م2 تكنوجيا"}]
[null,"سا10 -  سا11",{"$f":"'مواقيت الأساتذة'!E10","v":"4م3 اعمال موجهة "},null,{"$f":"'مواقيت الأساتذة'!E18","v":"4م2 اعمال موجهة "},null,{"$f":"'مواقيت الأساتذة'!E26","v":0},null,{"$f":"'مواقيت الأساتذة'!E34","v":0},null,null,null,"سا10 -  سا11",{"$f":"'مواقيت الأساتذة'!E42","v":"1م1 رياضيات "},null,{"$f":"'مواقيت الأساتذة'!E50","v":"4م2 اعمال موحهة"},null,{"$f":"'مواقيت الأساتذة'!E58","v":"4م3 اعمال موجهة "},null,{"$f":"'مواقيت الأساتذة'!E66","v":0}]
[null,"سا11 -  سا12",{"$f":"'مواقيت الأساتذة'!E11","v":"4م3 اعمال موجهة "},null,{"$f":"'مواقيت الأساتذة'!E19","v":"4م2 اعمال موجهة"},null,{"$f":"'مواقيت الأساتذة'!E27","v":0},null,{"$f":"'مواقيت الأساتذة'!E35","v":0},null,null,null,"سا11 -  سا12",{"$f":"'مواقيت الأساتذة'!E43","v":0},null,{"$f":"'مواقيت الأساتذة'!E51","v":"4م2 اعمال موحهة"},null,{"$f":"'مواقيت الأساتذة'!E59","v":"4م3 اعمال موجهة "},null,{"$f":"'مواقيت الأساتذة'!E67","v":0}]
[null,"سا13 -  سا14",{"$f":"'مواقيت الأساتذة'!E12","v":0},null,{"$f":"'مواقيت الأساتذة'!E20","v":0},null,{"$f":"'مواقيت الأساتذة'!E28","v":0},null,{"$f":"'مواقيت الأساتذة'!E36","v":0},null,null,null,"سا13 -  سا14",{"$f":"'مواقيت الأساتذة'!E44","v":0},null,{"$f":"'مواقيت الأساتذة'!E52","v":0},null,{"$f":"'مواقيت الأساتذة'!E60","v":0},null,{"$f":"'مواقيت الأساتذة'!E68","v":0}]
[null,"سا14 -  سا15",{"$f":"'مواقيت الأساتذة'!E13","v":0},null,{"$f":"'مواقيت الأساتذة'!E21","v":"3م2 تربية اسلامية"},null,{"$f":"'مواقيت الأساتذة'!E29","v":"2م2 لغة عربية "},null,{"$f":"'مواقيت الأساتذة'!E37","v":"1م2 اعمال موجهة"},null,null,null,"سا14 -  سا15",{"$f":"'مواقيت الأساتذة'!E45","v":"1م2 اعمال موجهة"},null,{"$f":"'مواقيت الأساتذة'!E53","v":"4م2 رياضيات"},null,{"$f":"'مواقيت الأساتذة'!E61","v":0},null,{"$f":"'مواقيت الأساتذة'!E69","v":"2م1 تكنولوجيا"}]
[null,"سا15 -  سا16",{"$f":"'مواقيت الأساتذة'!E14","v":0},null,{"$f":"'مواقيت الأساتذة'!E22","v":"4م2 لغة عربية"},null,{"$f":"'مواقيت الأساتذة'!E30","v":"1م1 اعمال موجهة"},null,{"$f":"'مواقيت الأساتذة'!E38","v":"3م2 اعمال موجهة"},null,null,null,"سا15 -  سا16",{"$f":"'مواقيت الأساتذة'!E46","v":"1م1 اعمال موجهة"},null,{"$f":"'مواقيت الأساتذة'!E54","v":"3م2 راعمال موجهة"},null,{"$f":"'مواقيت الأساتذة'!E62","v":0},null,{"$f":"'مواقيت الأساتذة'!E70","v":"2م1 تكنولوجيا"}]
[null,"سا16 -  سا17",{"$f":"'مواقيت الأساتذة'!E15","v":0},null,{"$f":"'مواقيت الأساتذة'!E23","v":"4م1 لغة عربية"},null,{"$f":"'مواقيت الأساتذة'!E31","v":0},null,{"$f":"'مواقيت الأساتذة'!E39","v":0},null,null,null,"سا16 -  سا17",{"$f":"'مواقيت الأساتذة'!E47","v":"3م1 رياضيات "},null,{"$f":"'مواقيت الأساتذة'!E55","v":0},null,{"$f":"'مواقيت الأساتذة'!E63","v":0},null,{"$f":"'مواقيت الأساتذة'!E71","v":0}]
["الإثنين","سا08  - سا09",{"$f":"'مواقيت الأساتذة'!F8","v":0},null,{"$f":"'مواقيت الأساتذة'!F16","v":0},null,{"$f":"'مواقيت الأساتذة'!F24","v":0},null,{"$f":"'مواقيت الأساتذة'!F32","v":0},null,null,"الإثنين","سا08  - سا09",{"$f":"'مواقيت الأساتذة'!F40","v":"1م2 رياضيات "},null,{"$f":"'مواقيت الأساتذة'!F48","v":0},null,{"$f":"'مواقيت الأساتذة'!F56","v":"4م3 رياضيات"},null,{"$f":"'مواقيت الأساتذة'!F64","v":"2م1 تكنولوجيا"}]
[null,"سا09  -  سا10",{"$f":"'مواقيت الأساتذة'!F9","v":0},null,{"$f":"'مواقيت الأساتذة'!F17","v":0},null,{"$f":"'مواقيت الأساتذة'!F25","v":0},null,{"$f":"'مواقيت الأساتذة'!F33","v":0},null,null,null,"سا09  -  سا10",{"$f":"'مواقيت الأساتذة'!F41","v":"1م1 رياضيات "},null,{"$f":"'مواقيت الأساتذة'!F49","v":"4م1 رياضيات"},null,{"$f":"'مواقيت الأساتذة'!F57","v":"2م2 رياضيات"},null,{"$f":"'مواقيت الأساتذة'!F65","v":0}]
[null,"سا10 -  سا11",{"$f":"'مواقيت الأساتذة'!F10","v":0},null,{"$f":"'مواقيت الأساتذة'!F18","v":0},null,{"$f":"'مواقيت الأساتذة'!F26","v":0},null,{"$f":"'مواقيت الأساتذة'!F34","v":0},null,null,null,"سا10 -  سا11",{"$f":"'مواقيت الأساتذة'!F42","v":0},null,{"$f":"'مواقيت الأساتذة'!F50","v":"3م2 رياضيات"},null,{"$f":"'مواقيت الأساتذة'!F58","v":"2م1 رياضيات"},null,{"$f":"'مواقيت الأساتذة'!F66","v":"4م1 تكنولوجيا"}]
[null,"سا11 -  سا12",{"$f":"'مواقيت الأساتذة'!F11","v":0},null,{"$f":"'مواقيت الأساتذة'!F19","v":0},null,{"$f":"'مواقيت الأساتذة'!F27","v":0},null,{"$f":"'مواقيت الأساتذة'!F35","v":0},null,null,null,"سا11 -  سا12",{"$f":"'مواقيت الأساتذة'!F43","v":0},null,{"$f":"'مواقيت الأساتذة'!F51","v":"4م2 رياضيات"},null,{"$f":"'مواقيت الأساتذة'!F59","v":0},null,{"$f":"'مواقيت الأساتذة'!F67","v":"4م1 تكنولوجيا"}]
[null,"سا13 -  سا14",{"$f":"'مواقيت الأساتذة'!F12","v":0},null,{"$f":"'مواقيت الأساتذة'!F20","v":0},null,{"$f":"'مواقيت الأساتذة'!F28","v":0},null,{"$f":"'مواقيت الأساتذة'!F36","v":0},null,null,null,"سا13 -  سا14",{"$f":"'مواقيت الأساتذة'!F44","v":0},null,{"$f":"'مواقيت الأساتذة'!F52","v":0},null,{"$f":"'مواقيت الأساتذة'!F60","v":0},null,{"$f":"'مواقيت الأساتذة'!F68","v":0}]
[null,"سا14 -  سا15",{"$f":"'مواقيت الأساتذة'!F13","v":0},null,{"$f":"'مواقيت الأساتذة'!F21","v":"3م1 تربية اسلامية"},null,{"$f":"'مواقيت الأساتذة'!F29","v":0},null,{"$f":"'مواقيت الأساتذة'!F37","v":0},null,null,null,"سا14 -  سا15",{"$f":"'مواقيت الأساتذة'!F45","v":0},null,{"$f":"'مواقيت الأساتذة'!F53","v":0},null,{"$f":"'مواقيت الأساتذة'!F61","v":"2م1 رياضيات"},null,{"$f":"'مواقيت الأساتذة'!F69","v":0}]
[null,"سا15 -  سا16",{"$f":"'مواقيت الأساتذة'!F14","v":0},null,{"$f":"'مواقيت الأساتذة'!F22","v":"4م1 لغة عربية"},null,{"$f":"'مواقيت الأساتذة'!F30","v":0},null,{"$f":"'مواقيت الأساتذة'!F38","v":0},null,null,null,"سا15 -  سا16",{"$f":"'مواقيت الأساتذة'!F46","v":0},null,{"$f":"'مواقيت الأساتذة'!F54","v":0},null,{"$f":"'مواقيت الأساتذة'!F62","v":"2م2 رياضيات"},null,{"$f":"'مواقيت الأساتذة'!F70","v":0}]
[null,"سا16 -  سا17",{"$f":"'مواقيت الأساتذة'!F15","v":0},null,{"$f":"'مواقيت الأساتذة'!F23","v":0},null,{"$f":"'مواقيت الأساتذة'!F31","v":0},null,{"$f":"'مواقيت الأساتذة'!F39","v":0},null,null,null,"سا16 -  سا17",{"$f":"'مواقيت الأساتذة'!F47","v":0},null,{"$f":"'مواقيت الأساتذة'!F55","v":0},null,{"$f":"'مواقيت الأساتذة'!F63","v":0},null,{"$f":"'مواقيت الأساتذة'!F71","v":0}]
["الثلاثاء","سا08  - سا09",{"$f":"'مواقيت الأساتذة'!G8","v":0},null,{"$f":"'مواقيت الأساتذة'!G16","v":"4م1 لغة عربية"},null,{"$f":"'مواقيت الأساتذة'!G24","v":0},null,{"$f":"'مواقيت الأساتذة'!G32","v":"1م2 لغة عربية"},null,null,"الثلاثاء","سا08  - سا09",{"$f":"'مواقيت الأساتذة'!G40","v":"3م1 رياضيات "},null,{"$f":"'مواقيت الأساتذة'!G48","v":0},null,{"$f":"'مواقيت الأساتذة'!G56","v":"4م3 رياضيات"},null,{"$f":"'مواقيت الأساتذة'!G64","v":"2م2 تكنولوجيا"}]
[null,"سا09  -  سا10",{"$f":"'مواقيت الأساتذة'!G9","v":"4م3 لغة عربية "},null,{"$f":"'مواقيت الأساتذة'!G17","v":"4م2 لغة عربية"},null,{"$f":"'مواقيت الأساتذة'!G25","v":0},null,{"$f":"'مواقيت الأساتذة'!G33","v":"3م1 لغة عربية"},null,null,null,"سا09  -  سا10",{"$f":"'مواقيت الأساتذة'!G41","v":"1م1 رياضيات "},null,{"$f":"'مواقيت الأساتذة'!G49","v":"4م1 رياضيات"},null,{"$f":"'مواقيت الأساتذة'!G57","v":"2م1 رياضيات"},null,{"$f":"'مواقيت الأساتذة'!G65","v":0}]
[null,"سا10 -  سا11",{"$f":"'مواقيت الأساتذة'!G10","v":"2م1 لغة عربية "},null,{"$f":"'مواقيت الأساتذة'!G18","v":"4م1 تربية اسلامية"},null,{"$f":"'مواقيت الأساتذة'!G26","v":"1م1 لغة عربية"},null,{"$f":"'مواقيت الأساتذة'!G34","v":"3م2 لغة عربية"},null,null,null,"سا10 -  سا11",{"$f":"'مواقيت الأساتذة'!G42","v":"1م2 رياضيات"},null,{"$f":"'مواقيت الأساتذة'!G50","v":"4م2 رياضيات"},null,{"$f":"'مواقيت الأساتذة'!G58","v":"2م2 رياضيات"},null,{"$f":"'مواقيت الأساتذة'!G66","v":"4م3 تكنولوجيا"}]
[null,"سا11 -  سا12",{"$f":"'مواقيت الأساتذة'!G11","v":"2م1 اعمال موجهة"},null,{"$f":"'مواقيت الأساتذة'!G19","v":"4م2  تربية اسلامية"},null,{"$f":"'مواقيت الأساتذة'!G27","v":"2م2 لغة عربية"},null,{"$f":"'مواقيت الأساتذة'!G35","v":"3م1اعمال موجهة"},null,null,null,"سا11 -  سا12",{"$f":"'مواقيت الأساتذة'!G43","v":"3م1 اعمال موجهة"},null,{"$f":"'مواقيت الأساتذة'!G51","v":"3م2 رياضيات"},null,{"$f":"'مواقيت الأساتذة'!G59","v":"2م1 اعمال موجهة"},null,{"$f":"'مواقيت الأساتذة'!G67","v":"4م3 تكنولوجيا"}]
[null,"سا13 -  سا14",{"$f":"'مواقيت الأساتذة'!G12","v":0},null,{"$f":"'مواقيت الأساتذة'!G20","v":0},null,{"$f":"'مواقيت الأساتذة'!G28","v":0},null,{"$f":"'مواقيت الأساتذة'!G36","v":0},null,null,null,"سا13 -  سا14",{"$f":"'مواقيت الأساتذة'!G44","v":0},null,{"$f":"'مواقيت الأساتذة'!G52","v":0},null,{"$f":"'مواقيت الأساتذة'!G60","v":0},null,{"$f":"'مواقيت الأساتذة'!G68","v":0}]
[null,"سا14 -  سا15",{"$f":"'مواقيت الأساتذة'!G13","v":0},null,{"$f":"'مواقيت الأساتذة'!G21","v":0},null,{"$f":"'مواقيت الأساتذة'!G29","v":0},null,{"$f":"'مواقيت الأساتذة'!G37","v":0},null,null,null,"سا14 -  سا15",{"$f":"'مواقيت الأساتذة'!G45","v":0},null,{"$f":"'مواقيت الأساتذة'!G53","v":0},null,{"$f":"'مواقيت الأساتذة'!G61","v":0},null,{"$f":"'مواقيت الأساتذة'!G69","v":0}]
[null,"سا15 -  سا16",{"$f":"'مواقيت الأساتذة'!G14","v":0},null,{"$f":"'مواقيت الأساتذة'!G22","v":0},null,{"$f":"'مواقيت الأساتذة'!G30","v":0},null,{"$f":"'مواقيت الأساتذة'!G38","v":0},null,null,null,"سا15 -  سا16",{"$f":"'مواقيت الأساتذة'!G46","v":0},null,{"$f":"'مواقيت الأساتذة'!G54","v":0},null,{"$f":"'مواقيت الأساتذة'!G62","v":0},null,{"$f":"'مواقيت الأساتذة'!G70","v":0}]
[null,"سا16 -  سا17",{"$f":"'مواقيت الأساتذة'!G15","v":0},null,{"$f":"'مواقيت الأساتذة'!G23","v":0},null,{"$f":"'مواقيت الأساتذة'!G31","v":0},null,{"$f":"'مواقيت الأساتذة'!G39","v":0},null,null,null,"سا16 -  سا17",{"$f":"'مواقيت الأساتذة'!G47","v":0},null,{"$f":"'مواقيت الأساتذة'!G55","v":0},null,{"$f":"'مواقيت الأساتذة'!G63","v":0},null,{"$f":"'مواقيت الأساتذة'!G71","v":0}]
["الأربعاء","سا08  - سا09",{"$f":"'مواقيت الأساتذة'!H8","v":0},null,{"$f":"'مواقيت الأساتذة'!H16","v":"4م2 لغة عربية"},null,{"$f":"'مواقيت الأساتذة'!H24","v":0},null,{"$f":"'مواقيت الأساتذة'!H32","v":"3م1 لغة عربية"},null,null,"الأربعاء","سا08  - سا09",{"$f":"'مواقيت الأساتذة'!H40","v":"1م1 رياضيات "},null,{"$f":"'مواقيت الأساتذة'!H48","v":"3م2 رياضيات"},null,{"$f":"'مواقيت الأساتذة'!H56","v":"4م3 رياضيات"},null,{"$f":"'مواقيت الأساتذة'!H64","v":0}]
[null,"سا09  -  سا10",{"$f":"'مواقيت الأساتذة'!H9","v":0},null,{"$f":"'مواقيت الأساتذة'!H17","v":0},null,{"$f":"'مواقيت الأساتذة'!H25","v":0},null,{"$f":"'مواقيت الأساتذة'!H33","v":"1م2 لغة عربية"},null,null,null,"سا09  -  سا10",{"$f":"'مواقيت الأساتذة'!H41","v":"3م1 رياضيات"},null,{"$f":"'مواقيت الأساتذة'!H49","v":0},null,{"$f":"'مواقيت الأساتذة'!H57","v":"2م1 رياضيات"},null,{"$f":"'مواقيت الأساتذة'!H65","v":0}]
[null,"سا10 -  سا11",{"$f":"'مواقيت الأساتذة'!H10","v":"2م1 لغة عربية"},null,{"$f":"'مواقيت الأساتذة'!H18","v":"4م1 اعمال موجهة"},null,{"$f":"'مواقيت الأساتذة'!H26","v":"1م1 لغة عربية "},null,{"$f":"'مواقيت الأساتذة'!H34","v":0},null,null,null,"سا10 -  سا11",{"$f":"'مواقيت الأساتذة'!H42","v":"1م2 رياضيات "},null,{"$f":"'مواقيت الأساتذة'!H50","v":"4م1 اعمال موحهة"},null,{"$f":"'مواقيت الأساتذة'!H58","v":0},null,{"$f":"'مواقيت الأساتذة'!H66","v":0}]
[null,"سا11 -  سا12",{"$f":"'مواقيت الأساتذة'!H11","v":"4م3 لغة عربية"},null,{"$f":"'مواقيت الأساتذة'!H19","v":"4م1 اعمال موجهة"},null,{"$f":"'مواقيت الأساتذة'!H27","v":"2م2 اعمال موجهة"},null,{"$f":"'مواقيت الأساتذة'!H35","v":0},null,null,null,"سا11 -  سا12",{"$f":"'مواقيت الأساتذة'!H43","v":0},null,{"$f":"'مواقيت الأساتذة'!H51","v":"4م1 اعمال موحهة"},null,{"$f":"'مواقيت الأساتذة'!H59","v":"2م2 اعمال موجهة"},null,{"$f":"'مواقيت الأساتذة'!H67","v":0}]
[null,"سا13 -  سا14",{"$f":"'مواقيت الأساتذة'!H12","v":0},null,{"$f":"'مواقيت الأساتذة'!H20","v":0},null,{"$f":"'مواقيت الأساتذة'!H28","v":0},null,{"$f":"'مواقيت الأساتذة'!H36","v":0},null,null,null,"سا13 -  سا14",{"$f":"'مواقيت الأساتذة'!H44","v":0},null,{"$f":"'مواقيت الأساتذة'!H52","v":0},null,{"$f":"'مواقيت الأساتذة'!H60","v":0},null,{"$f":"'مواقيت الأساتذة'!H68","v":0}]
[null,"سا14 -  سا15",{"$f":"'مواقيت الأساتذة'!H13","v":0},null,{"$f":"'مواقيت الأساتذة'!H21","v":0},null,{"$f":"'مواقيت الأساتذة'!H29","v":"2م2 لغة عربية "},null,{"$f":"'مواقيت الأساتذة'!H37","v":0},null,null,null,"سا14 -  سا15",{"$f":"'مواقيت الأساتذة'!H45","v":0},null,{"$f":"'مواقيت الأساتذة'!H53","v":"4م2 رياضيات"},null,{"$f":"'مواقيت الأساتذة'!H61","v":0},null,{"$f":"'مواقيت الأساتذة'!H69","v":"4م1 تكنولوجيا"}]
[null,"سا15 -  سا16",{"$f":"'مواقيت الأساتذة'!H14","v":0},null,{"$f":"'مواقيت الأساتذة'!H22","v":0},null,{"$f":"'مواقيت الأساتذة'!H30","v":"1م1 لغة عربية"},null,{"$f":"'مواقيت الأساتذة'!H38","v":"3م2 لغة عربية"},null,null,null,"سا15 -  سا16",{"$f":"'مواقيت الأساتذة'!H46","v":0},null,{"$f":"'مواقيت الأساتذة'!H54","v":"4م1 رياضيات"},null,{"$f":"'مواقيت الأساتذة'!H62","v":0},null,{"$f":"'مواقيت الأساتذة'!H70","v":"4م2 تكنولوجيا"}]
[null,"سا16 -  سا17",{"$f":"'مواقيت الأساتذة'!H15","v":0},null,{"$f":"'مواقيت الأساتذة'!H23","v":0},null,{"$f":"'مواقيت الأساتذة'!H31","v":"1م2 تربية اسلامية"},null,{"$f":"'مواقيت الأساتذة'!H39","v":"1م2 لغة عربية"},null,null,null,"سا16 -  سا17",{"$f":"'مواقيت الأساتذة'!H47","v":0},null,{"$f":"'مواقيت الأساتذة'!H55","v":0},null,{"$f":"'مواقيت الأساتذة'!H63","v":0},null,{"$f":"'مواقيت الأساتذة'!H71","v":0}]
["الخميس","سا08  - سا09",{"$f":"'مواقيت الأساتذة'!I8","v":"2م1 تربية اسلامية"},null,{"$f":"'مواقيت الأساتذة'!I16","v":"4م1 لغة عربية"},null,{"$f":"'مواقيت الأساتذة'!I24","v":0},null,{"$f":"'مواقيت الأساتذة'!I32","v":"3م2 لغة عربية"},null,null,"الخميس","سا08  - سا09",{"$f":"'مواقيت الأساتذة'!I40","v":0},null,{"$f":"'مواقيت الأساتذة'!I48","v":0},null,{"$f":"'مواقيت الأساتذة'!I56","v":0},null,{"$f":"'مواقيت الأساتذة'!I64","v":"2م2 تكنولوجيا"}]
[null,"سا09  -  سا10",{"$f":"'مواقيت الأساتذة'!I9","v":0},null,{"$f":"'مواقيت الأساتذة'!I17","v":"4م2 لغة عربية"},null,{"$f":"'مواقيت الأساتذة'!I25","v":"1م1 لغة عربية"},null,{"$f":"'مواقيت الأساتذة'!I33","v":"1م2 لغة عربية"},null,null,null,"سا09  -  سا10",{"$f":"'مواقيت الأساتذة'!I41","v":0},null,{"$f":"'مواقيت الأساتذة'!I49","v":0},null,{"$f":"'مواقيت الأساتذة'!I57","v":0},null,{"$f":"'مواقيت الأساتذة'!I65","v":"2م2 تكنولوجيا"}]
[null,"سا10 -  سا11",{"$f":"'مواقيت الأساتذة'!I10","v":"2م1 لغة عربية"},null,{"$f":"'مواقيت الأساتذة'!I18","v":0},null,{"$f":"'مواقيت الأساتذة'!I26","v":"2م2 لغة عربية"},null,{"$f":"'مواقيت الأساتذة'!I34","v":0},null,null,null,"سا10 -  سا11",{"$f":"'مواقيت الأساتذة'!I42","v":0},null,{"$f":"'مواقيت الأساتذة'!I50","v":0},null,{"$f":"'مواقيت الأساتذة'!I58","v":0},null,{"$f":"'مواقيت الأساتذة'!I66","v":"4م3 تكنولوجيا"}]
[null,"سا11 -  سا12",{"$f":"'مواقيت الأساتذة'!I11","v":"4م3  لغة عربية"},null,{"$f":"'مواقيت الأساتذة'!I19","v":0},null,{"$f":"'مواقيت الأساتذة'!I27","v":0},null,{"$f":"'مواقيت الأساتذة'!I35","v":0},null,null,null,"سا11 -  سا12",{"$f":"'مواقيت الأساتذة'!I43","v":0},null,{"$f":"'مواقيت الأساتذة'!I51","v":0},null,{"$f":"'مواقيت الأساتذة'!I59","v":0},null,{"$f":"'مواقيت الأساتذة'!I67","v":0}]
[null,"سا13 -  سا14",{"$f":"'مواقيت الأساتذة'!I12","v":0},null,{"$f":"'مواقيت الأساتذة'!I20","v":0},null,{"$f":"'مواقيت الأساتذة'!I28","v":0},null,{"$f":"'مواقيت الأساتذة'!I36","v":0},null,null,null,"سا13 -  سا14",{"$f":"'مواقيت الأساتذة'!I44","v":0},null,{"$f":"'مواقيت الأساتذة'!I52","v":0},null,{"$f":"'مواقيت الأساتذة'!I60","v":0},null,{"$f":"'مواقيت الأساتذة'!I68","v":0}]
[null,"سا14 -  سا15",{"$f":"'مواقيت الأساتذة'!I13","v":"2م1 لفة عربية"},null,{"$f":"'مواقيت الأساتذة'!I21","v":0},null,{"$f":"'مواقيت الأساتذة'!I29","v":"2م2 تربية اسلامية"},null,{"$f":"'مواقيت الأساتذة'!I37","v":"3م1 لغة عربية"},null,null,null,"سا14 -  سا15",{"$f":"'مواقيت الأساتذة'!I45","v":0},null,{"$f":"'مواقيت الأساتذة'!I53","v":0},null,{"$f":"'مواقيت الأساتذة'!I61","v":0},null,{"$f":"'مواقيت الأساتذة'!I69","v":0}]
[null,"سا15 -  سا16",{"$f":"'مواقيت الأساتذة'!I14","v":"4م3 لغة عربية "},null,{"$f":"'مواقيت الأساتذة'!I22","v":0},null,{"$f":"'مواقيت الأساتذة'!I30","v":"1م1 تربية اسلامية"},null,{"$f":"'مواقيت الأساتذة'!I38","v":"1م2 لغة عربية"},null,null,null,"سا15 -  سا16",{"$f":"'مواقيت الأساتذة'!I46","v":0},null,{"$f":"'مواقيت الأساتذة'!I54","v":0},null,{"$f":"'مواقيت الأساتذة'!I62","v":0},null,{"$f":"'مواقيت الأساتذة'!I70","v":0}]
[null,"سا16 -  سا17",null,null,{"$f":"'مواقيت الأساتذة'!I23","v":0},null,{"$f":"'مواقيت الأساتذة'!I31","v":0},null,{"$f":"'مواقيت الأساتذة'!I39","v":0},null,null,null,"سا16 -  سا17",{"$f":"'مواقيت الأساتذة'!I47","v":0},null,{"$f":"'مواقيت الأساتذة'!I55","v":0},null,{"$f":"'مواقيت الأساتذة'!I63","v":0},null,{"$f":"'مواقيت الأساتذة'!I71","v":0}]
[]
[]
[]
[]
[]
[]
["الأيام","المواقيت","السيد (ة)",{"$f":"'مواقيت الأساتذة'!B72","v":"طيبي عبد القادر "},"السيد (ة)",{"$f":"'مواقيت الأساتذة'!B80","v":"حطاب رشيدة "},"السيد (ة)",{"$f":"'مواقيت الأساتذة'!B88","v":"مجدوب طلحة "},"السيد (ة)",{"$f":"'مواقيت الأساتذة'!B96","v":"مغزي محمد "},null,"الأيام","المواقيت","السيد (ة)",{"$f":"'مواقيت الأساتذة'!B104","v":"كواهي يعقوب "},"السيد (ة)",{"$f":"'مواقيت الأساتذة'!B112","v":"امحمدي بوشوشة "},"السيد (ة)",{"$f":"'مواقيت الأساتذة'!B120","v":"زريفي إبراهيم"},"السيد (ة)",{"$f":"'مواقيت الأساتذة'!B128","v":"محمدي مريم "}]
[null,null,"أستاذ (ة) في",{"$f":"'اسناد الأقسام'!A15","v":"تكنولوجيا2"},"أستاذ (ة) في",{"$f":"'اسناد الأقسام'!A16","v":"علوم ط 1"},"أستاذ (ة) في",{"$f":"'اسناد الأقسام'!A17","v":"علوم ط 2"},"أستاذ (ة) في",{"$f":"'اسناد الأقسام'!A18","v":"فرنسية 1"},null,null,null,"أستاذ (ة) في",{"$f":"'اسناد الأقسام'!A19","v":"فرنسية 2"},"أستاذ (ة) في",{"$f":"'اسناد الأقسام'!A20","v":"فرنسية 3"},"أستاذ (ة) في",{"$f":"'اسناد الأقسام'!A21","v":"انجليزية 1"},"أستاذ (ة) في",{"$f":"'اسناد الأقسام'!A22","v":"انجليزية 2"}]
[null,null,"القسم","المادة المدروسة","القسم","المادة المدروسة","القسم","المادة المدروسة","القسم","المادة المدروسة",null,null,null,"القسم","المادة المدروسة","القسم","المادة المدروسة","القسم","المادة المدروسة","أستاذ (ة) في","المادة المدروسة"]
["الأحــــــــد","سا08  - سا09",{"$f":"'مواقيت الأساتذة'!E72","v":0},null,{"$f":"'مواقيت الأساتذة'!E80","v":"4م2 علوم طبيعية"},null,{"$f":"'مواقيت الأساتذة'!E88","v":0},null,{"$f":"'مواقيت الأساتذة'!E96","v":0},null,null,"الأحــــــــد","سا08  - سا09",{"$f":"'مواقيت الأساتذة'!E104","v":"4م1 فرنسية"},null,{"$f":"'مواقيت الأساتذة'!E112","v":"2م1 فرنسية"},null,{"$f":"'مواقيت الأساتذة'!E120","v":0},null,{"$f":"'مواقيت الأساتذة'!E128","v":0}]
[null,"سا09  -  سا10",{"$f":"'مواقيت الأساتذة'!E73","v":0},null,{"$f":"'مواقيت الأساتذة'!E81","v":"4م2 علوم طبيعية"},null,{"$f":"'مواقيت الأساتذة'!E89","v":0},null,{"$f":"'مواقيت الأساتذة'!E97","v":0},null,null,null,"سا09  -  سا10",{"$f":"'مواقيت الأساتذة'!E105","v":"1م2 فرنسية"},null,{"$f":"'مواقيت الأساتذة'!E113","v":"1م1 فرنسية"},null,{"$f":"'مواقيت الأساتذة'!E121","v":0},null,{"$f":"'مواقيت الأساتذة'!E129","v":0}]
[null,"سا10 -  سا11",{"$f":"'مواقيت الأساتذة'!E74","v":"1م2 اعلام آلى"},null,{"$f":"'مواقيت الأساتذة'!E82","v":"4م1 علوم طبيعية"},null,{"$f":"'مواقيت الأساتذة'!E90","v":0},null,{"$f":"'مواقيت الأساتذة'!E98","v":"3م2 فرنسية"},null,null,null,"سا10 -  سا11",{"$f":"'مواقيت الأساتذة'!E106","v":0},null,{"$f":"'مواقيت الأساتذة'!E114","v":"2م2 فرنسية"},null,{"$f":"'مواقيت الأساتذة'!E122","v":"3م1 انجليزية"},null,{"$f":"'مواقيت الأساتذة'!E130","v":0}]
[null,"سا11 -  سا12",{"$f":"'مواقيت الأساتذة'!E75","v":"1م1 اعلام آلى"},null,{"$f":"'مواقيت الأساتذة'!E83","v":"2م2 علوم طبيعية"},null,{"$f":"'مواقيت الأساتذة'!E91","v":0},null,{"$f":"'مواقيت الأساتذة'!E99","v":"3م1 فرنسية"},null,null,null,"سا11 -  سا12",{"$f":"'مواقيت الأساتذة'!E107","v":"4م1 فرنسية"},null,{"$f":"'مواقيت الأساتذة'!E115","v":0},null,{"$f":"'مواقيت الأساتذة'!E123","v":"3م2 اانجليزية"},null,{"$f":"'مواقيت الأساتذة'!E131","v":0}]
[null,"سا13 -  سا14",{"$f":"'مواقيت الأساتذة'!E76","v":0},null,{"$f":"'مواقيت الأساتذة'!E84","v":0},null,{"$f":"'مواقيت الأساتذة'!E92","v":0},null,{"$f":"'مواقيت الأساتذة'!E100","v":0},null,null,null,"سا13 -  سا14",{"$f":"'مواقيت الأساتذة'!E108","v":0},null,{"$f":"'مواقيت الأساتذة'!E116","v":0},null,{"$f":"'مواقيت الأساتذة'!E124","v":0},null,{"$f":"'مواقيت الأساتذة'!E132","v":0}]
[null,"سا14 -  سا15",{"$f":"'مواقيت الأساتذة'!E77","v":"1م1 رسم"},null,{"$f":"'مواقيت الأساتذة'!E85","v":"2م1 علوم طبيعية"},null,{"$f":"'مواقيت الأساتذة'!E93","v":0},null,{"$f":"'مواقيت الأساتذة'!E101","v":"3م1 فرنسية"},null,null,null,"سا14 -  سا15",{"$f":"'مواقيت الأساتذة'!E109","v":0},null,{"$f":"'مواقيت الأساتذة'!E117","v":0},null,{"$f":"'مواقيت الأساتذة'!E125","v":0},null,{"$f":"'مواقيت الأساتذة'!E133","v":"4م3 انجليزية"}]
[null,"سا15 -  سا16",{"$f":"'مواقيت الأساتذة'!E78","v":"1م2 رسم"},null,{"$f":"'مواقيت الأساتذة'!E86","v":"2م1 علوم طبيعية"},null,{"$f":"'مواقيت الأساتذة'!E94","v":0},null,{"$f":"'مواقيت الأساتذة'!E102","v":"4م3 فرنسية"},null,null,null,"سا15 -  سا16",{"$f":"'مواقيت الأساتذة'!E110","v":0},null,{"$f":"'مواقيت الأساتذة'!E118","v":0},null,{"$f":"'مواقيت الأساتذة'!E126","v":"3م1 انجليزية"},null,{"$f":"'مواقيت الأساتذة'!E134","v":"2م2 انجليزية"}]
[null,"سا16 -  سا17",{"$f":"'مواقيت الأساتذة'!E79","v":"1م1 تكنولوجيا"},null,{"$f":"'مواقيت الأساتذة'!E87","v":0},null,{"$f":"'مواقيت الأساتذة'!E95","v":0},null,{"$f":"'مواقيت الأساتذة'!E103","v":0},null,null,null,"سا16 -  سا17",{"$f":"'مواقيت الأساتذة'!E111","v":0},null,{"$f":"'مواقيت الأساتذة'!E119","v":0},null,{"$f":"'مواقيت الأساتذة'!E127","v":"1م2 انجليزية"},null,{"$f":"'مواقيت الأساتذة'!E135","v":"4م2 انجليزية"}]
["الإثنين","سا08  - سا09",{"$f":"'مواقيت الأساتذة'!F72","v":"3م1 تكنولوجيا"},null,{"$f":"'مواقيت الأساتذة'!F80","v":0},null,{"$f":"'مواقيت الأساتذة'!F88","v":"3م1 علوم طبيعية"},null,{"$f":"'مواقيت الأساتذة'!F96","v":"3م2 فرنسية"},null,null,"الإثنين","سا08  - سا09",{"$f":"'مواقيت الأساتذة'!F104","v":"4م2 فرنسية"},null,{"$f":"'مواقيت الأساتذة'!F112","v":0},null,{"$f":"'مواقيت الأساتذة'!F120","v":"1م1 انجليزية"},null,{"$f":"'مواقيت الأساتذة'!F128","v":"4م1 انجليزية"}]
[null,"سا09  -  سا10",{"$f":"'مواقيت الأساتذة'!F73","v":"3م1 تكنولوجيا"},null,{"$f":"'مواقيت الأساتذة'!F81","v":0},null,{"$f":"'مواقيت الأساتذة'!F89","v":"3م1 علوم طبيعية"},null,{"$f":"'مواقيت الأساتذة'!F97","v":"4م3 فرنسية"},null,null,null,"سا09  -  سا10",{"$f":"'مواقيت الأساتذة'!F105","v":"1م2 فرنسية"},null,{"$f":"'مواقيت الأساتذة'!F113","v":0},null,{"$f":"'مواقيت الأساتذة'!F121","v":"3م2 انجليزية"},null,{"$f":"'مواقيت الأساتذة'!F129","v":"4م2 انجليزية"}]
[null,"سا10 -  سا11",{"$f":"'مواقيت الأساتذة'!F74","v":0},null,{"$f":"'مواقيت الأساتذة'!F82","v":"4م1 علوم طبيعية"},null,{"$f":"'مواقيت الأساتذة'!F90","v":0},null,{"$f":"'مواقيت الأساتذة'!F98","v":0},null,null,null,"سا10 -  سا11",{"$f":"'مواقيت الأساتذة'!F106","v":0},null,{"$f":"'مواقيت الأساتذة'!F114","v":"2م2 فرنسية"},null,{"$f":"'مواقيت الأساتذة'!F122","v":"3م1 انجليزية"},null,{"$f":"'مواقيت الأساتذة'!F130","v":"4م3 انجليزية "}]
[null,"سا11 -  سا12",{"$f":"'مواقيت الأساتذة'!F75","v":0},null,{"$f":"'مواقيت الأساتذة'!F83","v":"4م1 علوم طبيعية"},null,{"$f":"'مواقيت الأساتذة'!F91","v":"3م2 علوم طبيعية"},null,{"$f":"'مواقيت الأساتذة'!F99","v":"4م3 فرنسية"},null,null,null,"سا11 -  سا12",{"$f":"'مواقيت الأساتذة'!F107","v":0},null,{"$f":"'مواقيت الأساتذة'!F115","v":"2م1 اعمال موجهة"},null,{"$f":"'مواقيت الأساتذة'!F123","v":0},null,{"$f":"'مواقيت الأساتذة'!F131","v":"2م1 اعمال موجهة"}]
[null,"سا13 -  سا14",{"$f":"'مواقيت الأساتذة'!F76","v":0},null,{"$f":"'مواقيت الأساتذة'!F84","v":0},null,{"$f":"'مواقيت الأساتذة'!F92","v":0},null,{"$f":"'مواقيت الأساتذة'!F100","v":0},null,null,null,"سا13 -  سا14",{"$f":"'مواقيت الأساتذة'!F108","v":0},null,{"$f":"'مواقيت الأساتذة'!F116","v":0},null,{"$f":"'مواقيت الأساتذة'!F124","v":0},null,{"$f":"'مواقيت الأساتذة'!F132","v":0}]
[null,"سا14 -  سا15",{"$f":"'مواقيت الأساتذة'!F77","v":"1م1 تكنولوجيا"},null,{"$f":"'مواقيت الأساتذة'!F85","v":"4م3 علوم طبيعية"},null,{"$f":"'مواقيت الأساتذة'!F93","v":"1م1 علوم طبيعية"},null,{"$f":"'مواقيت الأساتذة'!F101","v":0},null,null,null,"سا14 -  سا15",{"$f":"'مواقيت الأساتذة'!F109","v":"4م2 فرنسية"},null,{"$f":"'مواقيت الأساتذة'!F117","v":"2م2 فرنسية"},null,{"$f":"'مواقيت الأساتذة'!F125","v":0},null,{"$f":"'مواقيت الأساتذة'!F133","v":0}]
[null,"سا15 -  سا16",{"$f":"'مواقيت الأساتذة'!F78","v":"1م1 تكنولوجيا"},null,{"$f":"'مواقيت الأساتذة'!F86","v":"4م2 علوم طبيعية"},null,{"$f":"'مواقيت الأساتذة'!F94","v":"1م1 علوم طبيعية"},null,{"$f":"'مواقيت الأساتذة'!F102","v":0},null,null,null,"سا15 -  سا16",{"$f":"'مواقيت الأساتذة'!F110","v":"1م2 اعمال موجهة"},null,{"$f":"'مواقيت الأساتذة'!F118","v":"2م1 فرنسية"},null,{"$f":"'مواقيت الأساتذة'!F126","v":"1م2 اعمال موجهة"},null,{"$f":"'مواقيت الأساتذة'!F134","v":0}]
[null,"سا16 -  سا17",{"$f":"'مواقيت الأساتذة'!F79","v":"3م2 تكنولوجيا"},null,{"$f":"'مواقيت الأساتذة'!F87","v":0},null,{"$f":"'مواقيت الأساتذة'!F95","v":"2م2 اعلام آلى"},null,{"$f":"'مواقيت الأساتذة'!F103","v":0},null,null,null,"سا16 -  سا17",{"$f":"'مواقيت الأساتذة'!F111","v":"4م1 فرنسية"},null,{"$f":"'مواقيت الأساتذة'!F119","v":0},null,{"$f":"'مواقيت الأساتذة'!F127","v":"1م1 انجليزية"},null,{"$f":"'مواقيت الأساتذة'!F135","v":0}]
["الثلاثاء","سا08  - سا09",{"$f":"'مواقيت الأساتذة'!G72","v":"3م2 تكنولوجيا"},null,{"$f":"'مواقيت الأساتذة'!G80","v":"2م1 علوم طبيعية"},null,{"$f":"'مواقيت الأساتذة'!G88","v":"3م2 علوم طبيعية"},null,{"$f":"'مواقيت الأساتذة'!G96","v":0},null,null,"الثلاثاء","سا08  - سا09",{"$f":"'مواقيت الأساتذة'!G104","v":0},null,{"$f":"'مواقيت الأساتذة'!G112","v":0},null,{"$f":"'مواقيت الأساتذة'!G120","v":0},null,{"$f":"'مواقيت الأساتذة'!G128","v":0}]
[null,"سا09  -  سا10",{"$f":"'مواقيت الأساتذة'!G73","v":"3م2 تكنولوجيا"},null,{"$f":"'مواقيت الأساتذة'!G81","v":0},null,{"$f":"'مواقيت الأساتذة'!G89","v":"3م2 علوم طبيعية"},null,{"$f":"'مواقيت الأساتذة'!G97","v":0},null,null,null,"سا09  -  سا10",{"$f":"'مواقيت الأساتذة'!G105","v":0},null,{"$f":"'مواقيت الأساتذة'!G113","v":0},null,{"$f":"'مواقيت الأساتذة'!G121","v":0},null,{"$f":"'مواقيت الأساتذة'!G129","v":0}]
[null,"سا10 -  سا11",{"$f":"'مواقيت الأساتذة'!G74","v":"3م1 تكنولوجيا"},null,{"$f":"'مواقيت الأساتذة'!G82","v":"4م3 علوم طبيعية"},null,{"$f":"'مواقيت الأساتذة'!G90","v":0},null,{"$f":"'مواقيت الأساتذة'!G98","v":0},null,null,null,"سا10 -  سا11",{"$f":"'مواقيت الأساتذة'!G106","v":0},null,{"$f":"'مواقيت الأساتذة'!G114","v":0},null,{"$f":"'مواقيت الأساتذة'!G122","v":0},null,{"$f":"'مواقيت الأساتذة'!G130","v":0}]
[null,"سا11 -  سا12",{"$f":"'مواقيت الأساتذة'!G75","v":"1م2 تكنولوجيا"},null,{"$f":"'مواقيت الأساتذة'!G83","v":"4م3 علوم طبيعية"},null,{"$f":"'مواقيت الأساتذة'!G91","v":"1م1 علوم طبيعية"},null,{"$f":"'مواقيت الأساتذة'!G99","v":0},null,null,null,"سا11 -  سا12",{"$f":"'مواقيت الأساتذة'!G107","v":0},null,{"$f":"'مواقيت الأساتذة'!G115","v":0},null,{"$f":"'مواقيت الأساتذة'!G123","v":0},null,{"$f":"'مواقيت الأساتذة'!G131","v":0}]
[null,"سا13 -  سا14",{"$f":"'مواقيت الأساتذة'!G76","v":0},null,{"$f":"'مواقيت الأساتذة'!G84","v":0},null,{"$f":"'مواقيت الأساتذة'!G92","v":0},null,{"$f":"'مواقيت الأساتذة'!G100","v":0},null,null,null,"سا13 -  سا14",{"$f":"'مواقيت الأساتذة'!G108","v":0},null,{"$f":"'مواقيت الأساتذة'!G116","v":0},null,{"$f":"'مواقيت الأساتذة'!G124","v":0},null,{"$f":"'مواقيت الأساتذة'!G132","v":0}]
[null,"سا14 -  سا15",{"$f":"'مواقيت الأساتذة'!G77","v":0},null,{"$f":"'مواقيت الأساتذة'!G85","v":0},null,{"$f":"'مواقيت الأساتذة'!G93","v":0},null,{"$f":"'مواقيت الأساتذة'!G101","v":0},null,null,null,"سا14 -  سا15",{"$f":"'مواقيت الأساتذة'!G109","v":0},null,{"$f":"'مواقيت الأساتذة'!G117","v":0},null,{"$f":"'مواقيت الأساتذة'!G125","v":0},null,{"$f":"'مواقيت الأساتذة'!G133","v":0}]
[null,"سا15 -  سا16",{"$f":"'مواقيت الأساتذة'!G78","v":0},null,{"$f":"'مواقيت الأساتذة'!G86","v":0},null,{"$f":"'مواقيت الأساتذة'!G94","v":0},null,{"$f":"'مواقيت الأساتذة'!G102","v":0},null,null,null,"سا15 -  سا16",{"$f":"'مواقيت الأساتذة'!G110","v":0},null,{"$f":"'مواقيت الأساتذة'!G118","v":0},null,{"$f":"'مواقيت الأساتذة'!G126","v":0},null,{"$f":"'مواقيت الأساتذة'!G134","v":0}]
[null,"سا16 -  سا17",{"$f":"'مواقيت الأساتذة'!G79","v":0},null,{"$f":"'مواقيت الأساتذة'!G87","v":0},null,{"$f":"'مواقيت الأساتذة'!G95","v":0},null,{"$f":"'مواقيت الأساتذة'!G103","v":0},null,null,null,"سا16 -  سا17",{"$f":"'مواقيت الأساتذة'!G111","v":0},null,{"$f":"'مواقيت الأساتذة'!G119","v":0},null,{"$f":"'مواقيت الأساتذة'!G127","v":0},null,{"$f":"'مواقيت الأساتذة'!G135","v":0}]
["الأربعاء","سا08  - سا09",{"$f":"'مواقيت الأساتذة'!H72","v":0},null,{"$f":"'مواقيت الأساتذة'!H80","v":0},null,{"$f":"'مواقيت الأساتذة'!H88","v":0},null,{"$f":"'مواقيت الأساتذة'!H96","v":0},null,null,"الأربعاء","سا08  - سا09",{"$f":"'مواقيت الأساتذة'!H104","v":"1م2 فرنسية"},null,{"$f":"'مواقيت الأساتذة'!H112","v":"2م1 فرنسية"},null,{"$f":"'مواقيت الأساتذة'!H120","v":0},null,{"$f":"'مواقيت الأساتذة'!H128","v":"4م1 انجليزية"}]
[null,"سا09  -  سا10",{"$f":"'مواقيت الأساتذة'!H73","v":0},null,{"$f":"'مواقيت الأساتذة'!H81","v":0},null,{"$f":"'مواقيت الأساتذة'!H89","v":0},null,{"$f":"'مواقيت الأساتذة'!H97","v":"3م2 فرنسية"},null,null,null,"سا09  -  سا10",{"$f":"'مواقيت الأساتذة'!H105","v":"4م1 فرنسية"},null,{"$f":"'مواقيت الأساتذة'!H113","v":"1م1 فرنسية"},null,{"$f":"'مواقيت الأساتذة'!H121","v":0},null,{"$f":"'مواقيت الأساتذة'!H129","v":"4م2 انجليزية"}]
[null,"سا10 -  سا11",{"$f":"'مواقيت الأساتذة'!H74","v":0},null,{"$f":"'مواقيت الأساتذة'!H82","v":0},null,{"$f":"'مواقيت الأساتذة'!H90","v":"3م1 علوم طبيعية"},null,{"$f":"'مواقيت الأساتذة'!H98","v":"4م3 فرنسية"},null,null,null,"سا10 -  سا11",{"$f":"'مواقيت الأساتذة'!H106","v":0},null,{"$f":"'مواقيت الأساتذة'!H114","v":0},null,{"$f":"'مواقيت الأساتذة'!H122","v":0},null,{"$f":"'مواقيت الأساتذة'!H130","v":"4م3 اعمال موجهة"}]
[null,"سا11 -  سا12",{"$f":"'مواقيت الأساتذة'!H75","v":0},null,{"$f":"'مواقيت الأساتذة'!H83","v":0},null,{"$f":"'مواقيت الأساتذة'!H91","v":"1م2 علوم طبيعية"},null,{"$f":"'مواقيت الأساتذة'!H99","v":0},null,null,null,"سا11 -  سا12",{"$f":"'مواقيت الأساتذة'!H107","v":0},null,{"$f":"'مواقيت الأساتذة'!H115","v":0},null,{"$f":"'مواقيت الأساتذة'!H123","v":0},null,{"$f":"'مواقيت الأساتذة'!H131","v":0}]
[null,"سا13 -  سا14",{"$f":"'مواقيت الأساتذة'!H76","v":0},null,{"$f":"'مواقيت الأساتذة'!H84","v":0},null,{"$f":"'مواقيت الأساتذة'!H92","v":0},null,{"$f":"'مواقيت الأساتذة'!H100","v":0},null,null,null,"سا13 -  سا14",{"$f":"'مواقيت الأساتذة'!H108","v":0},null,{"$f":"'مواقيت الأساتذة'!H116","v":0},null,{"$f":"'مواقيت الأساتذة'!H124","v":0},null,{"$f":"'مواقيت الأساتذة'!H132","v":0}]
[null,"سا14 -  سا15",{"$f":"'مواقيت الأساتذة'!H77","v":0},null,{"$f":"'مواقيت الأساتذة'!H85","v":0},null,{"$f":"'مواقيت الأساتذة'!H93","v":"2م1 رسم"},null,{"$f":"'مواقيت الأساتذة'!H101","v":"3م1 فرنسية"},null,null,null,"سا14 -  سا15",{"$f":"'مواقيت الأساتذة'!H109","v":0},null,{"$f":"'مواقيت الأساتذة'!H117","v":"1م1 اعمال موجهة"},null,{"$f":"'مواقيت الأساتذة'!H125","v":"1م1 اعمال موجهة"},null,{"$f":"'مواقيت الأساتذة'!H133","v":0}]
[null,"سا15 -  سا16",{"$f":"'مواقيت الأساتذة'!H78","v":0},null,{"$f":"'مواقيت الأساتذة'!H86","v":0},null,{"$f":"'مواقيت الأساتذة'!H94","v":"2م1 اعلام آلى"},null,{"$f":"'مواقيت الأساتذة'!H102","v":"3م2 فرنسية"},null,null,null,"سا15 -  سا16",{"$f":"'مواقيت الأساتذة'!H110","v":0},null,{"$f":"'مواقيت الأساتذة'!H118","v":"2م2 اعمال موجهة"},null,{"$f":"'مواقيت الأساتذة'!H126","v":"3م2 اعمال موجهة"},null,{"$f":"'مواقيت الأساتذة'!H134","v":"2م2 اعمال موجهة"}]
[null,"سا16 -  سا17",{"$f":"'مواقيت الأساتذة'!H79","v":0},null,{"$f":"'مواقيت الأساتذة'!H87","v":0},null,{"$f":"'مواقيت الأساتذة'!H95","v":"2م2 رسم"},null,{"$f":"'مواقيت الأساتذة'!H103","v":0},null,null,null,"سا16 -  سا17",{"$f":"'مواقيت الأساتذة'!H111","v":0},null,{"$f":"'مواقيت الأساتذة'!H119","v":0},null,{"$f":"'مواقيت الأساتذة'!H127","v":0},null,{"$f":"'مواقيت الأساتذة'!H135","v":"2م1 انجليزية"}]
["الخميس","سا08  - سا09",{"$f":"'مواقيت الأساتذة'!I72","v":0},null,{"$f":"'مواقيت الأساتذة'!I80","v":"2م2 علوم طبيعية "},null,{"$f":"'مواقيت الأساتذة'!I88","v":0},null,{"$f":"'مواقيت الأساتذة'!I96","v":0},null,null,"الخميس","سا08  - سا09",{"$f":"'مواقيت الأساتذة'!I104","v":"4م2 اعمال موجهة"},null,{"$f":"'مواقيت الأساتذة'!I112","v":"1م1 فرنسية"},null,{"$f":"'مواقيت الأساتذة'!I120","v":"1م2 انجليزية"},null,{"$f":"'مواقيت الأساتذة'!I128","v":"4م2 اعمال موجهة"}]
[null,"سا09  -  سا10",{"$f":"'مواقيت الأساتذة'!I73","v":0},null,{"$f":"'مواقيت الأساتذة'!I81","v":"2م2 علوم طبيعية "},null,{"$f":"'مواقيت الأساتذة'!I89","v":0},null,{"$f":"'مواقيت الأساتذة'!I97","v":0},null,null,null,"سا09  -  سا10",{"$f":"'مواقيت الأساتذة'!I105","v":0},null,{"$f":"'مواقيت الأساتذة'!I113","v":"2م1 فرنسية"},null,{"$f":"'مواقيت الأساتذة'!I121","v":"3م2 انجليزية"},null,{"$f":"'مواقيت الأساتذة'!I129","v":"4م3 انجليزية"}]
[null,"سا10 -  سا11",{"$f":"'مواقيت الأساتذة'!I74","v":"1م2 تكنولوجيا"},null,{"$f":"'مواقيت الأساتذة'!I82","v":0},null,{"$f":"'مواقيت الأساتذة'!I90","v":"1م2 علوم طبيعية"},null,{"$f":"'مواقيت الأساتذة'!I98","v":"3م2 فرنسية"},null,null,null,"سا10 -  سا11",{"$f":"'مواقيت الأساتذة'!I106","v":"4م1 اعمال موجهة"},null,"3م3 -- فيزياء",null,{"$f":"'مواقيت الأساتذة'!I122","v":0},null,{"$f":"'مواقيت الأساتذة'!I130","v":"4م1 اعمال موجهة"}]
[null,"سا11 -  سا12",{"$f":"'مواقيت الأساتذة'!I75","v":"1م2 تكنولوجيا"},null,{"$f":"'مواقيت الأساتذة'!I83","v":0},null,{"$f":"'مواقيت الأساتذة'!I91","v":"1م2 علوم طبيعية"},null,{"$f":"'مواقيت الأساتذة'!I99","v":"3م1 فرنسية"},null,null,null,"سا11 -  سا12",{"$f":"'مواقيت الأساتذة'!I107","v":"4م2 فرنسية"},null,"3م3 -- فيزياء",null,{"$f":"'مواقيت الأساتذة'!I123","v":"3م1 اعمال موجهة"},null,{"$f":"'مواقيت الأساتذة'!I131","v":"2م2 انجليزية"}]
[null,"سا13 -  سا14",{"$f":"'مواقيت الأساتذة'!I76","v":0},null,{"$f":"'مواقيت الأساتذة'!I84","v":0},null,{"$f":"'مواقيت الأساتذة'!I92","v":0},null,{"$f":"'مواقيت الأساتذة'!I100","v":0},null,null,null,"سا13 -  سا14",{"$f":"'مواقيت الأساتذة'!I108","v":0},null,{"$f":"'مواقيت الأساتذة'!I116","v":0},null,{"$f":"'مواقيت الأساتذة'!I124","v":0},null,{"$f":"'مواقيت الأساتذة'!I132","v":0}]
[null,"سا14 -  سا15",{"$f":"'مواقيت الأساتذة'!I77","v":0},null,{"$f":"'مواقيت الأساتذة'!I85","v":0},null,{"$f":"'مواقيت الأساتذة'!I93","v":0},null,{"$f":"'مواقيت الأساتذة'!I101","v":"4م3 فرنسية"},null,null,null,"سا14 -  سا15",{"$f":"'مواقيت الأساتذة'!I109","v":"1م2 فرنسية"},null,{"$f":"'مواقيت الأساتذة'!I117","v":"1م1 فرنسية"},null,{"$f":"'مواقيت الأساتذة'!I125","v":0},null,{"$f":"'مواقيت الأساتذة'!I133","v":"4م1 انجليزية"}]
[null,"سا15 -  سا16",{"$f":"'مواقيت الأساتذة'!I78","v":0},null,{"$f":"'مواقيت الأساتذة'!I86","v":0},null,{"$f":"'مواقيت الأساتذة'!I94","v":0},null,{"$f":"'مواقيت الأساتذة'!I102","v":"3م1 فرنسية"},null,null,null,"سا15 -  سا16",{"$f":"'مواقيت الأساتذة'!I110","v":"4م2 فرنسية"},null,{"$f":"'مواقيت الأساتذة'!I118","v":"2م2 فرنسية"},null,{"$f":"'مواقيت الأساتذة'!I126","v":0},null,{"$f":"'مواقيت الأساتذة'!I134","v":"2م1 انجليزية"}]
[null,"سا16 -  سا17",{"$f":"'مواقيت الأساتذة'!I79","v":0},null,{"$f":"'مواقيت الأساتذة'!I87","v":0},null,{"$f":"'مواقيت الأساتذة'!I95","v":0},null,{"$f":"'مواقيت الأساتذة'!I103","v":0},null,null,null,"سا16 -  سا17",{"$f":"'مواقيت الأساتذة'!I111","v":0},null,{"$f":"'مواقيت الأساتذة'!I119","v":0},null,{"$f":"'مواقيت الأساتذة'!I127","v":0},null,{"$f":"'مواقيت الأساتذة'!I135","v":0}]
[]
[]
[]
[]
[]
[]
[]
[]
[]
["الأيام","المواقيت","السيد (ة)",{"$f":"'مواقيت الأساتذة'!B136","v":"مشارة محمد "},"السيد (ة)",{"$f":"'مواقيت الأساتذة'!B144","v":"بدراني شريف"},"السيد (ة)",{"$f":"'مواقيت الأساتذة'!B152","v":"جليد الميلود"},"السيد (ة)",{"$f":"'مواقيت الأساتذة'!B160","v":"قرمان البشير "},null,"الأيام","المواقيت","السيد (ة)",{"$f":"'مواقيت الأساتذة'!B168","v":0},"السيد (ة)",{"$f":"'مواقيت الأساتذة'!B176","v":0},"السيد (ة)",{"$f":"'مواقيت الأساتذة'!B184","v":0},"السيد (ة)",{"$f":"'مواقيت الأساتذة'!B192","v":0}]
[null,null,"أستاذ (ة) في",{"$f":"'اسناد الأقسام'!A23","v":"اجتماعيات1"},"أستاذ (ة) في",{"$f":"'اسناد الأقسام'!A24","v":"اجتماعيات2"},"أستاذ (ة) في",{"$f":"'اسناد الأقسام'!A25","v":"رسم"},"أستاذ (ة) في",{"$f":"'اسناد الأقسام'!A26:A26","v":"تربية بدنية 1"},null,null,null,"أستاذ (ة) في",{"$f":"'اسناد الأقسام'!A27","v":"اجتماعيات2"},"أستاذ (ة) في",{"$f":"'اسناد الأقسام'!A28","v":"رسم"},"أستاذ (ة) في",{"$f":"'اسناد الأقسام'!A29","v":"تربية بدنية 1"},"أستاذ (ة) في",{"$f":"'اسناد الأقسام'!A30","v":"انجليزية 1"}]
[null,null,"القسم","المادة المدروسة","القسم","المادة المدروسة","القسم","المادة المدروسة","القسم","المادة المدروسة",null,null,null,"القسم","المادة المدروسة","القسم","المادة المدروسة","القسم","المادة المدروسة","القسم","المادة المدروسة"]
["الأحــــــــد","سا08  - سا09",{"$f":"'مواقيت الأساتذة'!E136","v":0},null,{"$f":"'مواقيت الأساتذة'!G136","v":"1م1 اجتماعيات"},null,{"$f":"'مواقيت الأساتذة'!I152","v":0},null,{"$f":"'مواقيت الأساتذة'!E160","v":0},null,null,"الأحــــــــد","سا08  - سا09",{"$f":"'مواقيت الأساتذة'!E168","v":0},null,{"$f":"'مواقيت الأساتذة'!E176","v":0},null,{"$f":"'مواقيت الأساتذة'!E184","v":0},null,{"$f":"'مواقيت الأساتذة'!E192","v":0}]
[null,"سا09  -  سا10",{"$f":"'مواقيت الأساتذة'!E137","v":0},null,{"$f":"'مواقيت الأساتذة'!G137","v":"1م2 اجتماعيات"},null,{"$f":"'مواقيت الأساتذة'!I153","v":0},null,{"$f":"'مواقيت الأساتذة'!E161","v":0},null,null,null,"سا09  -  سا10",{"$f":"'مواقيت الأساتذة'!E169","v":0},null,{"$f":"'مواقيت الأساتذة'!E177","v":0},null,{"$f":"'مواقيت الأساتذة'!E185","v":0},null,{"$f":"'مواقيت الأساتذة'!E193","v":0}]
[null,"سا10 -  سا11",{"$f":"'مواقيت الأساتذة'!E138","v":0},null,{"$f":"'مواقيت الأساتذة'!G138","v":0},null,{"$f":"'مواقيت الأساتذة'!I154","v":0},null,{"$f":"'مواقيت الأساتذة'!E162","v":"2م1 ت.بدنية"},null,null,null,"سا10 -  سا11",{"$f":"'مواقيت الأساتذة'!E170","v":0},null,{"$f":"'مواقيت الأساتذة'!E178","v":0},null,{"$f":"'مواقيت الأساتذة'!E186","v":0},null,{"$f":"'مواقيت الأساتذة'!E194","v":0}]
[null,"سا11 -  سا12",{"$f":"'مواقيت الأساتذة'!E139","v":0},null,{"$f":"'مواقيت الأساتذة'!G139","v":0},null,{"$f":"'مواقيت الأساتذة'!I155","v":0},null,{"$f":"'مواقيت الأساتذة'!E163","v":"2م1 ت.بدنية"},null,null,null,"سا11 -  سا12",{"$f":"'مواقيت الأساتذة'!E171","v":0},null,{"$f":"'مواقيت الأساتذة'!E179","v":0},null,{"$f":"'مواقيت الأساتذة'!E187","v":0},null,{"$f":"'مواقيت الأساتذة'!E195","v":0}]
[null,"سا13 -  سا14",{"$f":"'مواقيت الأساتذة'!E140","v":0},null,{"$f":"'مواقيت الأساتذة'!E148","v":0},null,{"$f":"'مواقيت الأساتذة'!I156","v":0},null,{"$f":"'مواقيت الأساتذة'!E164","v":0},null,null,null,"سا13 -  سا14",{"$f":"'مواقيت الأساتذة'!E172","v":0},null,{"$f":"'مواقيت الأساتذة'!E180","v":0},null,{"$f":"'مواقيت الأساتذة'!E188","v":0},null,{"$f":"'مواقيت الأساتذة'!E196","v":0}]
[null,"سا14 -  سا15",{"$f":"'مواقيت الأساتذة'!E141","v":0},null,{"$f":"'مواقيت الأساتذة'!E149","v":0},null,{"$f":"'مواقيت الأساتذة'!I157","v":"4م2 رسم"},null,{"$f":"'مواقيت الأساتذة'!E165","v":"4م1 ت. بدنية"},null,null,null,"سا14 -  سا15",{"$f":"'مواقيت الأساتذة'!E173","v":0},null,{"$f":"'مواقيت الأساتذة'!E181","v":0},null,{"$f":"'مواقيت الأساتذة'!E189","v":0},null,{"$f":"'مواقيت الأساتذة'!E197","v":0}]
[null,"سا15 -  سا16",{"$f":"'مواقيت الأساتذة'!E142","v":0},null,{"$f":"'مواقيت الأساتذة'!E150","v":0},null,{"$f":"'مواقيت الأساتذة'!I158","v":"4م1 رسم"},null,{"$f":"'مواقيت الأساتذة'!E166","v":"4م1 ت. بدنية"},null,null,null,"سا15 -  سا16",{"$f":"'مواقيت الأساتذة'!E174","v":0},null,{"$f":"'مواقيت الأساتذة'!E182","v":0},null,{"$f":"'مواقيت الأساتذة'!E190","v":0},null,{"$f":"'مواقيت الأساتذة'!E198","v":0}]
[null,"سا16 -  سا17",{"$f":"'مواقيت الأساتذة'!E143","v":0},null,{"$f":"'مواقيت الأساتذة'!E151","v":0},null,{"$f":"'مواقيت الأساتذة'!I159","v":0},null,{"$f":"'مواقيت الأساتذة'!E167","v":0},null,null,null,"سا16 -  سا17",{"$f":"'مواقيت الأساتذة'!E175","v":0},null,{"$f":"'مواقيت الأساتذة'!E183","v":0},null,{"$f":"'مواقيت الأساتذة'!E191","v":0},null,{"$f":"'مواقيت الأساتذة'!E199","v":0}]
["الإثنين","سا08  - سا09",{"$f":"'مواقيت الأساتذة'!F136","v":0},null,{"$f":"'مواقيت الأساتذة'!E144","v":0},null,{"$f":"'مواقيت الأساتذة'!I152","v":0},null,{"$f":"'مواقيت الأساتذة'!F160","v":0},null,null,"الإثنين","سا08  - سا09",{"$f":"'مواقيت الأساتذة'!F168","v":0},null,{"$f":"'مواقيت الأساتذة'!F176","v":0},null,{"$f":"'مواقيت الأساتذة'!F184","v":0},null,{"$f":"'مواقيت الأساتذة'!F192","v":0}]
[null,"سا09  -  سا10",{"$f":"'مواقيت الأساتذة'!F137","v":0},null,{"$f":"'مواقيت الأساتذة'!E145","v":0},null,{"$f":"'مواقيت الأساتذة'!I153","v":0},null,{"$f":"'مواقيت الأساتذة'!F161","v":0},null,null,null,"سا09  -  سا10",{"$f":"'مواقيت الأساتذة'!F169","v":0},null,{"$f":"'مواقيت الأساتذة'!F177","v":0},null,{"$f":"'مواقيت الأساتذة'!F185","v":0},null,{"$f":"'مواقيت الأساتذة'!F193","v":0}]
[null,"سا10 -  سا11",{"$f":"'مواقيت الأساتذة'!F138","v":"1م1 اجتماعيات"},null,{"$f":"'مواقيت الأساتذة'!E146","v":0},null,{"$f":"'مواقيت الأساتذة'!I154","v":0},null,{"$f":"'مواقيت الأساتذة'!F162","v":"1م2 ت.بدنية"},null,null,null,"سا10 -  سا11",{"$f":"'مواقيت الأساتذة'!F170","v":0},null,{"$f":"'مواقيت الأساتذة'!F178","v":0},null,{"$f":"'مواقيت الأساتذة'!F186","v":0},null,{"$f":"'مواقيت الأساتذة'!F194","v":0}]
[null,"سا11 -  سا12",{"$f":"'مواقيت الأساتذة'!F139","v":"3م1 اجتماعيات"},null,{"$f":"'مواقيت الأساتذة'!E147","v":0},null,{"$f":"'مواقيت الأساتذة'!I155","v":0},null,{"$f":"'مواقيت الأساتذة'!F163","v":"1م2 ت.بدنية"},null,null,null,"سا11 -  سا12",{"$f":"'مواقيت الأساتذة'!F171","v":0},null,{"$f":"'مواقيت الأساتذة'!F179","v":0},null,{"$f":"'مواقيت الأساتذة'!F187","v":0},null,{"$f":"'مواقيت الأساتذة'!F195","v":0}]
[null,"سا13 -  سا14",{"$f":"'مواقيت الأساتذة'!F140","v":0},null,{"$f":"'مواقيت الأساتذة'!E148","v":0},null,{"$f":"'مواقيت الأساتذة'!I156","v":0},null,{"$f":"'مواقيت الأساتذة'!F164","v":0},null,null,null,"سا13 -  سا14",{"$f":"'مواقيت الأساتذة'!F172","v":0},null,{"$f":"'مواقيت الأساتذة'!F180","v":0},null,{"$f":"'مواقيت الأساتذة'!F188","v":0},null,{"$f":"'مواقيت الأساتذة'!F196","v":0}]
[null,"سا14 -  سا15",{"$f":"'مواقيت الأساتذة'!F141","v":"1م2 اجتماعيات"},null,{"$f":"'مواقيت الأساتذة'!E149","v":0},null,{"$f":"'مواقيت الأساتذة'!I157","v":"4م2 رسم"},null,{"$f":"'مواقيت الأساتذة'!F165","v":0},null,null,null,"سا14 -  سا15",{"$f":"'مواقيت الأساتذة'!F173","v":0},null,{"$f":"'مواقيت الأساتذة'!F181","v":0},null,{"$f":"'مواقيت الأساتذة'!F189","v":0},null,{"$f":"'مواقيت الأساتذة'!F197","v":0}]
[null,"سا15 -  سا16",{"$f":"'مواقيت الأساتذة'!F142","v":"3م2 اجتماعيات"},null,{"$f":"'مواقيت الأساتذة'!E150","v":0},null,{"$f":"'مواقيت الأساتذة'!I158","v":"4م1 رسم"},null,{"$f":"'مواقيت الأساتذة'!F166","v":0},null,null,null,"سا15 -  سا16",{"$f":"'مواقيت الأساتذة'!F174","v":0},null,{"$f":"'مواقيت الأساتذة'!F182","v":0},null,{"$f":"'مواقيت الأساتذة'!F190","v":0},null,{"$f":"'مواقيت الأساتذة'!F198","v":0}]
[null,"سا16 -  سا17",{"$f":"'مواقيت الأساتذة'!F143","v":0},null,{"$f":"'مواقيت الأساتذة'!E151","v":0},null,{"$f":"'مواقيت الأساتذة'!I159","v":0},null,{"$f":"'مواقيت الأساتذة'!F167","v":0},null,null,null,"سا16 -  سا17",{"$f":"'مواقيت الأساتذة'!F175","v":0},null,{"$f":"'مواقيت الأساتذة'!F183","v":0},null,{"$f":"'مواقيت الأساتذة'!F191","v":0},null,{"$f":"'مواقيت الأساتذة'!F199","v":0}]
["الثلاثاء","سا08  - سا09",{"$f":"'مواقيت الأساتذة'!G136","v":"1م1 اجتماعيات"},null,{"$f":"'مواقيت الأساتذة'!E144","v":0},null,{"$f":"'مواقيت الأساتذة'!E152","v":0},null,{"$f":"'مواقيت الأساتذة'!G160","v":0},null,null,"الثلاثاء","سا08  - سا09",{"$f":"'مواقيت الأساتذة'!G168","v":0},null,{"$f":"'مواقيت الأساتذة'!G176","v":0},null,{"$f":"'مواقيت الأساتذة'!G184","v":0},null,{"$f":"'مواقيت الأساتذة'!G192","v":0}]
[null,"سا09  -  سا10",{"$f":"'مواقيت الأساتذة'!G137","v":"1م2 اجتماعيات"},null,{"$f":"'مواقيت الأساتذة'!E145","v":0},null,{"$f":"'مواقيت الأساتذة'!E153","v":0},null,{"$f":"'مواقيت الأساتذة'!G161","v":0},null,null,null,"سا09  -  سا10",{"$f":"'مواقيت الأساتذة'!G169","v":0},null,{"$f":"'مواقيت الأساتذة'!G177","v":0},null,{"$f":"'مواقيت الأساتذة'!G185","v":0},null,{"$f":"'مواقيت الأساتذة'!G193","v":0}]
[null,"سا10 -  سا11",{"$f":"'مواقيت الأساتذة'!G138","v":0},null,{"$f":"'مواقيت الأساتذة'!E146","v":0},null,{"$f":"'مواقيت الأساتذة'!E154","v":"1م2 رسم / ف1"},null,{"$f":"'مواقيت الأساتذة'!G162","v":0},null,null,null,"سا10 -  سا11",{"$f":"'مواقيت الأساتذة'!G170","v":0},null,{"$f":"'مواقيت الأساتذة'!G178","v":0},null,{"$f":"'مواقيت الأساتذة'!G186","v":0},null,{"$f":"'مواقيت الأساتذة'!G194","v":0}]
[null,"سا11 -  سا12",{"$f":"'مواقيت الأساتذة'!G139","v":0},null,{"$f":"'مواقيت الأساتذة'!E147","v":0},null,{"$f":"'مواقيت الأساتذة'!E155","v":"1م1 رسم /ف1"},null,{"$f":"'مواقيت الأساتذة'!G163","v":0},null,null,null,"سا11 -  سا12",{"$f":"'مواقيت الأساتذة'!G171","v":0},null,{"$f":"'مواقيت الأساتذة'!G179","v":0},null,{"$f":"'مواقيت الأساتذة'!G187","v":0},null,{"$f":"'مواقيت الأساتذة'!G195","v":0}]
[null,"سا13 -  سا14",{"$f":"'مواقيت الأساتذة'!G140","v":0},null,{"$f":"'مواقيت الأساتذة'!E148","v":0},null,{"$f":"'مواقيت الأساتذة'!E156","v":0},null,{"$f":"'مواقيت الأساتذة'!G164","v":0},null,null,null,"سا13 -  سا14",{"$f":"'مواقيت الأساتذة'!G172","v":0},null,{"$f":"'مواقيت الأساتذة'!G180","v":0},null,{"$f":"'مواقيت الأساتذة'!G188","v":0},null,{"$f":"'مواقيت الأساتذة'!G196","v":0}]
[null,"سا14 -  سا15",{"$f":"'مواقيت الأساتذة'!G141","v":0},null,{"$f":"'مواقيت الأساتذة'!E149","v":0},null,{"$f":"'مواقيت الأساتذة'!E157","v":"1م1 رسم/ ف2"},null,{"$f":"'مواقيت الأساتذة'!G165","v":0},null,null,null,"سا14 -  سا15",{"$f":"'مواقيت الأساتذة'!G173","v":0},null,{"$f":"'مواقيت الأساتذة'!G181","v":0},null,{"$f":"'مواقيت الأساتذة'!G189","v":0},null,{"$f":"'مواقيت الأساتذة'!G197","v":0}]
[null,"سا15 -  سا16",{"$f":"'مواقيت الأساتذة'!G142","v":0},null,{"$f":"'مواقيت الأساتذة'!E150","v":0},null,{"$f":"'مواقيت الأساتذة'!E158","v":"1م2 رسم / ف2"},null,{"$f":"'مواقيت الأساتذة'!G166","v":0},null,null,null,"سا15 -  سا16",{"$f":"'مواقيت الأساتذة'!G174","v":0},null,{"$f":"'مواقيت الأساتذة'!G182","v":0},null,{"$f":"'مواقيت الأساتذة'!G190","v":0},null,{"$f":"'مواقيت الأساتذة'!G198","v":0}]
[null,"سا16 -  سا17",{"$f":"'مواقيت الأساتذة'!G143","v":0},null,{"$f":"'مواقيت الأساتذة'!E151","v":0},null,{"$f":"'مواقيت الأساتذة'!E159","v":"4م3 رسم"},null,{"$f":"'مواقيت الأساتذة'!G167","v":0},null,null,null,"سا16 -  سا17",{"$f":"'مواقيت الأساتذة'!G175","v":0},null,{"$f":"'مواقيت الأساتذة'!G183","v":0},null,{"$f":"'مواقيت الأساتذة'!G191","v":0},null,{"$f":"'مواقيت الأساتذة'!G199","v":0}]
["الأربعاء","سا08  - سا09",{"$f":"'مواقيت الأساتذة'!H136","v":0},null,{"$f":"'مواقيت الأساتذة'!H144","v":0},null,{"$f":"'مواقيت الأساتذة'!H152","v":0},null,{"$f":"'مواقيت الأساتذة'!H160","v":"2م2 ت.بدنية"},null,null,"الأربعاء","سا08  - سا09",{"$f":"'مواقيت الأساتذة'!H168","v":0},null,{"$f":"'مواقيت الأساتذة'!H176","v":0},null,{"$f":"'مواقيت الأساتذة'!H184","v":0},null,{"$f":"'مواقيت الأساتذة'!H192","v":0}]
[null,"سا09  -  سا10",{"$f":"'مواقيت الأساتذة'!H137","v":0},null,{"$f":"'مواقيت الأساتذة'!H145","v":"4م3 اجتماعيات"},null,{"$f":"'مواقيت الأساتذة'!H153","v":0},null,{"$f":"'مواقيت الأساتذة'!H161","v":"2م2 ت.بدنية"},null,null,null,"سا09  -  سا10",{"$f":"'مواقيت الأساتذة'!H169","v":0},null,{"$f":"'مواقيت الأساتذة'!H177","v":0},null,{"$f":"'مواقيت الأساتذة'!H185","v":0},null,{"$f":"'مواقيت الأساتذة'!H193","v":0}]
[null,"سا10 -  سا11",{"$f":"'مواقيت الأساتذة'!H138","v":"3م2 اجتماعيات"},null,{"$f":"'مواقيت الأساتذة'!H146","v":"2م2 اجتماعيات"},null,{"$f":"'مواقيت الأساتذة'!H154","v":0},null,{"$f":"'مواقيت الأساتذة'!H162","v":"4م2 ت.بدنية"},null,null,null,"سا10 -  سا11",{"$f":"'مواقيت الأساتذة'!H170","v":0},null,{"$f":"'مواقيت الأساتذة'!H178","v":0},null,{"$f":"'مواقيت الأساتذة'!H186","v":0},null,{"$f":"'مواقيت الأساتذة'!H194","v":0}]
[null,"سا11 -  سا12",{"$f":"'مواقيت الأساتذة'!H139","v":"1م1 اجتماعيات"},null,{"$f":"'مواقيت الأساتذة'!H147","v":"2م1 اجتماعيات"},null,{"$f":"'مواقيت الأساتذة'!H155","v":0},null,{"$f":"'مواقيت الأساتذة'!H163","v":"4م2 ت.بدنية"},null,null,null,"سا11 -  سا12",{"$f":"'مواقيت الأساتذة'!H171","v":0},null,{"$f":"'مواقيت الأساتذة'!H179","v":0},null,{"$f":"'مواقيت الأساتذة'!H187","v":0},null,{"$f":"'مواقيت الأساتذة'!H195","v":0}]
[null,"سا13 -  سا14",{"$f":"'مواقيت الأساتذة'!H140","v":0},null,{"$f":"'مواقيت الأساتذة'!H148","v":0},null,{"$f":"'مواقيت الأساتذة'!H156","v":0},null,{"$f":"'مواقيت الأساتذة'!H164","v":0},null,null,null,"سا13 -  سا14",{"$f":"'مواقيت الأساتذة'!H172","v":0},null,{"$f":"'مواقيت الأساتذة'!H180","v":0},null,{"$f":"'مواقيت الأساتذة'!H188","v":0},null,{"$f":"'مواقيت الأساتذة'!H196","v":0}]
[null,"سا14 -  سا15",{"$f":"'مواقيت الأساتذة'!H141","v":"1م2 اجتماعيات"},null,{"$f":"'مواقيت الأساتذة'!H149","v":0},null,{"$f":"'مواقيت الأساتذة'!H157","v":"2م1 رسم /ف1"},null,{"$f":"'مواقيت الأساتذة'!H165","v":"4م3 ت.بدنية"},null,null,null,"سا14 -  سا15",{"$f":"'مواقيت الأساتذة'!H173","v":0},null,{"$f":"'مواقيت الأساتذة'!H181","v":0},null,{"$f":"'مواقيت الأساتذة'!H189","v":0},null,{"$f":"'مواقيت الأساتذة'!H197","v":0}]
[null,"سا15 -  سا16",{"$f":"'مواقيت الأساتذة'!H142","v":"3م1 اجتماعيات"},null,{"$f":"'مواقيت الأساتذة'!H150","v":0},null,{"$f":"'مواقيت الأساتذة'!H158","v":"2م1 رسم /ف2"},null,{"$f":"'مواقيت الأساتذة'!H166","v":"4م3 ت.بدنية"},null,null,null,"سا15 -  سا16",{"$f":"'مواقيت الأساتذة'!H174","v":0},null,{"$f":"'مواقيت الأساتذة'!H182","v":0},null,{"$f":"'مواقيت الأساتذة'!H190","v":0},null,{"$f":"'مواقيت الأساتذة'!H198","v":0}]
[null,"سا16 -  سا17",{"$f":"'مواقيت الأساتذة'!H143","v":0},null,{"$f":"'مواقيت الأساتذة'!H151","v":0},null,{"$f":"'مواقيت الأساتذة'!H159","v":"2م2 رسم /ف2"},null,{"$f":"'مواقيت الأساتذة'!H167","v":0},null,null,null,"سا16 -  سا17",{"$f":"'مواقيت الأساتذة'!H175","v":0},null,{"$f":"'مواقيت الأساتذة'!H183","v":0},null,{"$f":"'مواقيت الأساتذة'!H191","v":0},null,{"$f":"'مواقيت الأساتذة'!H199","v":0}]
["الخميس","سا08  - سا09",{"$f":"'مواقيت الأساتذة'!I136","v":0},null,{"$f":"'مواقيت الأساتذة'!I144","v":"4م3 اجتماعيات"},null,{"$f":"'مواقيت الأساتذة'!I152","v":0},null,{"$f":"'مواقيت الأساتذة'!I160","v":"3م1 ت.بدنية"},null,null,"الخميس","سا08  - سا09",{"$f":"'مواقيت الأساتذة'!I168","v":0},null,{"$f":"'مواقيت الأساتذة'!I176","v":0},null,{"$f":"'مواقيت الأساتذة'!I184","v":0},null,{"$f":"'مواقيت الأساتذة'!I192","v":0}]
[null,"سا09  -  سا10",{"$f":"'مواقيت الأساتذة'!I137","v":0},null,{"$f":"'مواقيت الأساتذة'!I145","v":"4م1 اجتماعيات"},null,{"$f":"'مواقيت الأساتذة'!I153","v":0},null,{"$f":"'مواقيت الأساتذة'!I161","v":"3م1 ت.بدنية"},null,null,null,"سا09  -  سا10",{"$f":"'مواقيت الأساتذة'!I169","v":0},null,{"$f":"'مواقيت الأساتذة'!I177","v":0},null,{"$f":"'مواقيت الأساتذة'!I185","v":0},null,{"$f":"'مواقيت الأساتذة'!I193","v":0}]
[null,"سا10 -  سا11",{"$f":"'مواقيت الأساتذة'!I138","v":"3م1 اجتماعيات"},null,{"$f":"'مواقيت الأساتذة'!I146","v":"4م2 اجتماعيات"},null,{"$f":"'مواقيت الأساتذة'!I154","v":0},null,{"$f":"'مواقيت الأساتذة'!I162","v":"1م1 ت. بدنية"},null,null,null,"سا10 -  سا11",{"$f":"'مواقيت الأساتذة'!I170","v":0},null,{"$f":"'مواقيت الأساتذة'!I178","v":0},null,{"$f":"'مواقيت الأساتذة'!I186","v":0},null,{"$f":"'مواقيت الأساتذة'!I194","v":0}]
[null,"سا11 -  سا12",{"$f":"'مواقيت الأساتذة'!I139","v":"3م2 اجتماعيات"},null,{"$f":"'مواقيت الأساتذة'!I147","v":"2م1 اجتماعيات"},null,{"$f":"'مواقيت الأساتذة'!I155","v":0},null,{"$f":"'مواقيت الأساتذة'!I163","v":"1م1 ت. بدنية"},null,null,null,"سا11 -  سا12",{"$f":"'مواقيت الأساتذة'!I171","v":0},null,{"$f":"'مواقيت الأساتذة'!I179","v":0},null,{"$f":"'مواقيت الأساتذة'!I187","v":0},null,{"$f":"'مواقيت الأساتذة'!I195","v":0}]
[null,"سا13 -  سا14",{"$f":"'مواقيت الأساتذة'!I140","v":0},null,{"$f":"'مواقيت الأساتذة'!I148","v":0},null,{"$f":"'مواقيت الأساتذة'!I156","v":0},null,{"$f":"'مواقيت الأساتذة'!I164","v":0},null,null,null,"سا13 -  سا14",{"$f":"'مواقيت الأساتذة'!I172","v":0},null,{"$f":"'مواقيت الأساتذة'!I180","v":0},null,{"$f":"'مواقيت الأساتذة'!I188","v":0},null,{"$f":"'مواقيت الأساتذة'!I196","v":0}]
[null,"سا14 -  سا15",{"$f":"'مواقيت الأساتذة'!I141","v":0},null,{"$f":"'مواقيت الأساتذة'!I149","v":0},null,{"$f":"'مواقيت الأساتذة'!I157","v":"4م2 رسم"},null,{"$f":"'مواقيت الأساتذة'!I165","v":"3م2 ت. بدنية"},null,null,null,"سا14 -  سا15",{"$f":"'مواقيت الأساتذة'!I173","v":0},null,{"$f":"'مواقيت الأساتذة'!I181","v":0},null,{"$f":"'مواقيت الأساتذة'!I189","v":0},null,{"$f":"'مواقيت الأساتذة'!I197","v":0}]
[null,"سا15 -  سا16",{"$f":"'مواقيت الأساتذة'!I142","v":0},null,{"$f":"'مواقيت الأساتذة'!I150","v":0},null,{"$f":"'مواقيت الأساتذة'!I158","v":"4م1 رسم"},null,{"$f":"'مواقيت الأساتذة'!I166","v":"3م2 ت. بدنية"},null,null,null,"سا15 -  سا16",{"$f":"'مواقيت الأساتذة'!I174","v":0},null,{"$f":"'مواقيت الأساتذة'!I182","v":0},null,{"$f":"'مواقيت الأساتذة'!I190","v":0},null,{"$f":"'مواقيت الأساتذة'!I198","v":0}]
[null,"سا16 -  سا17",{"$f":"'مواقيت الأساتذة'!I143","v":0},null,{"$f":"'مواقيت الأساتذة'!I151","v":0},null,{"$f":"'مواقيت الأساتذة'!I159","v":0},null,{"$f":"'مواقيت الأساتذة'!I167","v":0},null,null,null,"سا16 -  سا17",{"$f":"'مواقيت الأساتذة'!I175","v":0},null,{"$f":"'مواقيت الأساتذة'!I183","v":0},null,{"$f":"'مواقيت الأساتذة'!I191","v":0},null,{"$f":"'مواقيت الأساتذة'!I199","v":0}]
[]
[]
[]
[]
[]
[]
[]
[]
["الأيام","المواقيت","السيد (ة)",{"$f":"'مواقيت الأساتذة'!B200","v":0},"السيد (ة)",{"$f":"'مواقيت الأساتذة'!B208","v":0},"السيد (ة)",{"$f":"'مواقيت الأساتذة'!B216","v":0},"السيد (ة)",{"$f":"'مواقيت الأساتذة'!B224","v":0},null,"الأيام","المواقيت","السيد (ة)",{"$f":"'مواقيت الأساتذة'!B232","v":0},"السيد (ة)",{"$f":"'مواقيت الأساتذة'!B240","v":0},"السيد (ة)",{"$f":"'مواقيت الأساتذة'!B248","v":0},"السيد (ة)",{"$f":"'مواقيت الأساتذة'!B256","v":0}]
[null,null,"أستاذ (ة) في",{"$f":"'اسناد الأقسام'!A31","v":"انجليزية 2"},"أستاذ (ة) في",{"$f":"'اسناد الأقسام'!A32","v":"انجليزية 3"},"أستاذ (ة) في",{"$f":"'اسناد الأقسام'!A33","v":"انجليزية 4"},"أستاذ (ة) في",{"$f":"'اسناد الأقسام'!A34","v":"علوم ط 1"},null,null,null,"أستاذ (ة) في",{"$f":"'اسناد الأقسام'!A35","v":"علوم ط 2"},"أستاذ (ة) في",{"$f":"'اسناد الأقسام'!A36","v":"علوم ط 3"},"أستاذ (ة) في",{"$f":"'اسناد الأقسام'!A37","v":"علوم ط 4"},"أستاذ (ة) في",{"$f":"'اسناد الأقسام'!A38","v":"تكنولوجيا1"}]
[null,null,"القسم","المادة المدروسة","القسم","المادة المدروسة","القسم","المادة المدروسة","القسم","المادة المدروسة",null,null,null,"القسم","المادة المدروسة","القسم","المادة المدروسة","القسم","المادة المدروسة","القسم","المادة المدروسة"]
["الأحــــــــد","سا08  - سا09",{"$f":"'مواقيت الأساتذة'!E200","v":0},null,{"$f":"'مواقيت الأساتذة'!E208","v":0},null,{"$f":"'مواقيت الأساتذة'!E216","v":0},null,{"$f":"'مواقيت الأساتذة'!E224","v":0},null,null,"الأحــــــــد","سا08  - سا09",{"$f":"'مواقيت الأساتذة'!E232","v":0},null,{"$f":"'مواقيت الأساتذة'!E240","v":0},null,{"$f":"'مواقيت الأساتذة'!E248","v":0},null,{"$f":"'مواقيت الأساتذة'!E256","v":0}]
[null,"سا09  -  سا10",{"$f":"'مواقيت الأساتذة'!E201","v":0},null,{"$f":"'مواقيت الأساتذة'!E209","v":0},null,{"$f":"'مواقيت الأساتذة'!E217","v":0},null,{"$f":"'مواقيت الأساتذة'!E225","v":0},null,null,null,"سا09  -  سا10",{"$f":"'مواقيت الأساتذة'!E233","v":0},null,{"$f":"'مواقيت الأساتذة'!E241","v":0},null,{"$f":"'مواقيت الأساتذة'!E249","v":0},null,{"$f":"'مواقيت الأساتذة'!E257","v":0}]
[null,"سا10 -  سا11",{"$f":"'مواقيت الأساتذة'!E202","v":0},null,{"$f":"'مواقيت الأساتذة'!E210","v":0},null,{"$f":"'مواقيت الأساتذة'!E218","v":0},null,{"$f":"'مواقيت الأساتذة'!E226","v":0},null,null,null,"سا10 -  سا11",{"$f":"'مواقيت الأساتذة'!E234","v":0},null,{"$f":"'مواقيت الأساتذة'!E242","v":0},null,{"$f":"'مواقيت الأساتذة'!E250","v":0},null,{"$f":"'مواقيت الأساتذة'!E258","v":0}]
[null,"سا11 -  سا12",{"$f":"'مواقيت الأساتذة'!E203","v":0},null,{"$f":"'مواقيت الأساتذة'!E211","v":0},null,{"$f":"'مواقيت الأساتذة'!E219","v":0},null,{"$f":"'مواقيت الأساتذة'!E227","v":0},null,null,null,"سا11 -  سا12",{"$f":"'مواقيت الأساتذة'!E235","v":0},null,{"$f":"'مواقيت الأساتذة'!E243","v":0},null,{"$f":"'مواقيت الأساتذة'!E251","v":0},null,{"$f":"'مواقيت الأساتذة'!E259","v":0}]
[null,"سا13 -  سا14",{"$f":"'مواقيت الأساتذة'!E204","v":0},null,{"$f":"'مواقيت الأساتذة'!E212","v":0},null,{"$f":"'مواقيت الأساتذة'!E220","v":0},null,{"$f":"'مواقيت الأساتذة'!E228","v":0},null,null,null,"سا13 -  سا14",{"$f":"'مواقيت الأساتذة'!E236","v":0},null,{"$f":"'مواقيت الأساتذة'!E244","v":0},null,{"$f":"'مواقيت الأساتذة'!E252","v":0},null,{"$f":"'مواقيت الأساتذة'!E260","v":0}]
[null,"سا14 -  سا15",{"$f":"'مواقيت الأساتذة'!E205","v":0},null,{"$f":"'مواقيت الأساتذة'!E213","v":0},null,{"$f":"'مواقيت الأساتذة'!E221","v":0},null,{"$f":"'مواقيت الأساتذة'!E229","v":0},null,null,null,"سا14 -  سا15",{"$f":"'مواقيت الأساتذة'!E237","v":0},null,{"$f":"'مواقيت الأساتذة'!E245","v":0},null,{"$f":"'مواقيت الأساتذة'!E253","v":0},null,{"$f":"'مواقيت الأساتذة'!E261","v":0}]
[null,"سا15 -  سا16",{"$f":"'مواقيت الأساتذة'!E206","v":0},null,{"$f":"'مواقيت الأساتذة'!E214","v":0},null,{"$f":"'مواقيت الأساتذة'!E222","v":0},null,{"$f":"'مواقيت الأساتذة'!E230","v":0},null,null,null,"سا15 -  سا16",{"$f":"'مواقيت الأساتذة'!E238","v":0},null,{"$f":"'مواقيت الأساتذة'!E246","v":0},null,{"$f":"'مواقيت الأساتذة'!E254","v":0},null,{"$f":"'مواقيت الأساتذة'!E262","v":0}]
[null,"سا16 -  سا17",{"$f":"'مواقيت الأساتذة'!E207","v":0},null,{"$f":"'مواقيت الأساتذة'!E215","v":0},null,{"$f":"'مواقيت الأساتذة'!E223","v":0},null,{"$f":"'مواقيت الأساتذة'!E231","v":0},null,null,null,"سا16 -  سا17",{"$f":"'مواقيت الأساتذة'!E239","v":0},null,{"$f":"'مواقيت الأساتذة'!E247","v":0},null,{"$f":"'مواقيت الأساتذة'!E255","v":0},null,{"$f":"'مواقيت الأساتذة'!E263","v":0}]
["الإثنين","سا08  - سا09",{"$f":"'مواقيت الأساتذة'!F200","v":0},null,{"$f":"'مواقيت الأساتذة'!F208","v":0},null,{"$f":"'مواقيت الأساتذة'!F216","v":0},null,{"$f":"'مواقيت الأساتذة'!F224","v":0},null,null,"الإثنين","سا08  - سا09",{"$f":"'مواقيت الأساتذة'!F232","v":0},null,{"$f":"'مواقيت الأساتذة'!F240","v":0},null,{"$f":"'مواقيت الأساتذة'!F248","v":0},null,{"$f":"'مواقيت الأساتذة'!F256","v":0}]
[null,"سا09  -  سا10",{"$f":"'مواقيت الأساتذة'!F201","v":0},null,{"$f":"'مواقيت الأساتذة'!F209","v":0},null,{"$f":"'مواقيت الأساتذة'!F217","v":0},null,{"$f":"'مواقيت الأساتذة'!F225","v":0},null,null,null,"سا09  -  سا10",{"$f":"'مواقيت الأساتذة'!F233","v":0},null,{"$f":"'مواقيت الأساتذة'!F241","v":0},null,{"$f":"'مواقيت الأساتذة'!F249","v":0},null,{"$f":"'مواقيت الأساتذة'!F257","v":0}]
[null,"سا10 -  سا11",{"$f":"'مواقيت الأساتذة'!F202","v":0},null,{"$f":"'مواقيت الأساتذة'!F210","v":0},null,{"$f":"'مواقيت الأساتذة'!F218","v":0},null,{"$f":"'مواقيت الأساتذة'!F226","v":0},null,null,null,"سا10 -  سا11",{"$f":"'مواقيت الأساتذة'!F234","v":0},null,{"$f":"'مواقيت الأساتذة'!F242","v":0},null,{"$f":"'مواقيت الأساتذة'!F250","v":0},null,{"$f":"'مواقيت الأساتذة'!F258","v":0}]
[null,"سا11 -  سا12",{"$f":"'مواقيت الأساتذة'!F203","v":0},null,{"$f":"'مواقيت الأساتذة'!F211","v":0},null,{"$f":"'مواقيت الأساتذة'!F219","v":0},null,{"$f":"'مواقيت الأساتذة'!F227","v":0},null,null,null,"سا11 -  سا12",{"$f":"'مواقيت الأساتذة'!F235","v":0},null,{"$f":"'مواقيت الأساتذة'!F243","v":0},null,{"$f":"'مواقيت الأساتذة'!F251","v":0},null,{"$f":"'مواقيت الأساتذة'!F259","v":0}]
[null,"سا13 -  سا14",{"$f":"'مواقيت الأساتذة'!F204","v":0},null,{"$f":"'مواقيت الأساتذة'!F212","v":0},null,{"$f":"'مواقيت الأساتذة'!F220","v":0},null,{"$f":"'مواقيت الأساتذة'!F228","v":0},null,null,null,"سا13 -  سا14",{"$f":"'مواقيت الأساتذة'!F236","v":0},null,{"$f":"'مواقيت الأساتذة'!F244","v":0},null,{"$f":"'مواقيت الأساتذة'!F252","v":0},null,{"$f":"'مواقيت الأساتذة'!F260","v":0}]
[null,"سا14 -  سا15",{"$f":"'مواقيت الأساتذة'!F205","v":0},null,{"$f":"'مواقيت الأساتذة'!F213","v":0},null,{"$f":"'مواقيت الأساتذة'!F221","v":0},null,{"$f":"'مواقيت الأساتذة'!F229","v":0},null,null,null,"سا14 -  سا15",{"$f":"'مواقيت الأساتذة'!F237","v":0},null,{"$f":"'مواقيت الأساتذة'!F245","v":0},null,{"$f":"'مواقيت الأساتذة'!F253","v":0},null,{"$f":"'مواقيت الأساتذة'!F261","v":0}]
[null,"سا15 -  سا16",{"$f":"'مواقيت الأساتذة'!F206","v":0},null,{"$f":"'مواقيت الأساتذة'!F214","v":0},null,{"$f":"'مواقيت الأساتذة'!F222","v":0},null,{"$f":"'مواقيت الأساتذة'!F230","v":0},null,null,null,"سا15 -  سا16",{"$f":"'مواقيت الأساتذة'!F238","v":0},null,{"$f":"'مواقيت الأساتذة'!F246","v":0},null,{"$f":"'مواقيت الأساتذة'!F254","v":0},null,{"$f":"'مواقيت الأساتذة'!F262","v":0}]
[null,"سا16 -  سا17",{"$f":"'مواقيت الأساتذة'!F207","v":0},null,{"$f":"'مواقيت الأساتذة'!F215","v":0},null,{"$f":"'مواقيت الأساتذة'!F223","v":0},null,{"$f":"'مواقيت الأساتذة'!F231","v":0},null,null,null,"سا16 -  سا17",{"$f":"'مواقيت الأساتذة'!F239","v":0},null,{"$f":"'مواقيت الأساتذة'!F247","v":0},null,{"$f":"'مواقيت الأساتذة'!F255","v":0},null,{"$f":"'مواقيت الأساتذة'!F263","v":0}]
["الثلاثاء","سا08  - سا09",{"$f":"'مواقيت الأساتذة'!G200","v":0},null,{"$f":"'مواقيت الأساتذة'!G208","v":0},null,{"$f":"'مواقيت الأساتذة'!G216","v":0},null,{"$f":"'مواقيت الأساتذة'!G224","v":0},null,null,"الثلاثاء","سا08  - سا09",{"$f":"'مواقيت الأساتذة'!G232","v":0},null,{"$f":"'مواقيت الأساتذة'!G240","v":0},null,{"$f":"'مواقيت الأساتذة'!G248","v":0},null,{"$f":"'مواقيت الأساتذة'!G256","v":0}]
[null,"سا09  -  سا10",{"$f":"'مواقيت الأساتذة'!G201","v":0},null,{"$f":"'مواقيت الأساتذة'!G209","v":0},null,{"$f":"'مواقيت الأساتذة'!G217","v":0},null,{"$f":"'مواقيت الأساتذة'!G225","v":0},null,null,null,"سا09  -  سا10",{"$f":"'مواقيت الأساتذة'!G233","v":0},null,{"$f":"'مواقيت الأساتذة'!G241","v":0},null,{"$f":"'مواقيت الأساتذة'!G249","v":0},null,{"$f":"'مواقيت الأساتذة'!G257","v":0}]
[null,"سا10 -  سا11",{"$f":"'مواقيت الأساتذة'!G202","v":0},null,{"$f":"'مواقيت الأساتذة'!G210","v":0},null,{"$f":"'مواقيت الأساتذة'!G218","v":0},null,{"$f":"'مواقيت الأساتذة'!G226","v":0},null,null,null,"سا10 -  سا11",{"$f":"'مواقيت الأساتذة'!G234","v":0},null,{"$f":"'مواقيت الأساتذة'!G242","v":0},null,{"$f":"'مواقيت الأساتذة'!G250","v":0},null,{"$f":"'مواقيت الأساتذة'!G258","v":0}]
[null,"سا11 -  سا12",{"$f":"'مواقيت الأساتذة'!G203","v":0},null,{"$f":"'مواقيت الأساتذة'!G211","v":0},null,{"$f":"'مواقيت الأساتذة'!G219","v":0},null,{"$f":"'مواقيت الأساتذة'!G227","v":0},null,null,null,"سا11 -  سا12",{"$f":"'مواقيت الأساتذة'!G235","v":0},null,{"$f":"'مواقيت الأساتذة'!G243","v":0},null,{"$f":"'مواقيت الأساتذة'!G251","v":0},null,{"$f":"'مواقيت الأساتذة'!G259","v":0}]
[null,"سا13 -  سا14",{"$f":"'مواقيت الأساتذة'!G204","v":0},null,{"$f":"'مواقيت الأساتذة'!G212","v":0},null,{"$f":"'مواقيت الأساتذة'!G220","v":0},null,{"$f":"'مواقيت الأساتذة'!G228","v":0},null,null,null,"سا13 -  سا14",{"$f":"'مواقيت الأساتذة'!G236","v":0},null,{"$f":"'مواقيت الأساتذة'!G244","v":0},null,{"$f":"'مواقيت الأساتذة'!G252","v":0},null,{"$f":"'مواقيت الأساتذة'!G260","v":0}]
[null,"سا14 -  سا15",{"$f":"'مواقيت الأساتذة'!G205","v":0},null,{"$f":"'مواقيت الأساتذة'!G213","v":0},null,{"$f":"'مواقيت الأساتذة'!G221","v":0},null,{"$f":"'مواقيت الأساتذة'!G229","v":0},null,null,null,"سا14 -  سا15",{"$f":"'مواقيت الأساتذة'!G237","v":0},null,{"$f":"'مواقيت الأساتذة'!G245","v":0},null,{"$f":"'مواقيت الأساتذة'!G253","v":0},null,{"$f":"'مواقيت الأساتذة'!G261","v":0}]
[null,"سا15 -  سا16",{"$f":"'مواقيت الأساتذة'!G206","v":0},null,{"$f":"'مواقيت الأساتذة'!G214","v":0},null,{"$f":"'مواقيت الأساتذة'!G222","v":0},null,{"$f":"'مواقيت الأساتذة'!G230","v":0},null,null,null,"سا15 -  سا16",{"$f":"'مواقيت الأساتذة'!G238","v":0},null,{"$f":"'مواقيت الأساتذة'!G246","v":0},null,{"$f":"'مواقيت الأساتذة'!G254","v":0},null,{"$f":"'مواقيت الأساتذة'!G262","v":0}]
[null,"سا16 -  سا17",{"$f":"'مواقيت الأساتذة'!G207","v":0},null,{"$f":"'مواقيت الأساتذة'!G215","v":0},null,{"$f":"'مواقيت الأساتذة'!G223","v":0},null,{"$f":"'مواقيت الأساتذة'!G231","v":0},null,null,null,"سا16 -  سا17",{"$f":"'مواقيت الأساتذة'!G239","v":0},null,{"$f":"'مواقيت الأساتذة'!G247","v":0},null,{"$f":"'مواقيت الأساتذة'!G255","v":0},null,{"$f":"'مواقيت الأساتذة'!G263","v":0}]
["الأربعاء","سا08  - سا09",{"$f":"'مواقيت الأساتذة'!H200","v":0},null,{"$f":"'مواقيت الأساتذة'!H208","v":0},null,{"$f":"'مواقيت الأساتذة'!H216","v":0},null,{"$f":"'مواقيت الأساتذة'!H224","v":0},null,null,"الأربعاء","سا08  - سا09",{"$f":"'مواقيت الأساتذة'!H232","v":0},null,{"$f":"'مواقيت الأساتذة'!H240","v":0},null,{"$f":"'مواقيت الأساتذة'!H248","v":0},null,{"$f":"'مواقيت الأساتذة'!H256","v":0}]
[null,"سا09  -  سا10",{"$f":"'مواقيت الأساتذة'!H201","v":0},null,{"$f":"'مواقيت الأساتذة'!H209","v":0},null,{"$f":"'مواقيت الأساتذة'!H217","v":0},null,{"$f":"'مواقيت الأساتذة'!H225","v":0},null,null,null,"سا09  -  سا10",{"$f":"'مواقيت الأساتذة'!H233","v":0},null,{"$f":"'مواقيت الأساتذة'!H241","v":0},null,{"$f":"'مواقيت الأساتذة'!H249","v":0},null,{"$f":"'مواقيت الأساتذة'!H257","v":0}]
[null,"سا10 -  سا11",{"$f":"'مواقيت الأساتذة'!H202","v":0},null,{"$f":"'مواقيت الأساتذة'!H210","v":0},null,{"$f":"'مواقيت الأساتذة'!H218","v":0},null,{"$f":"'مواقيت الأساتذة'!H226","v":0},null,null,null,"سا10 -  سا11",{"$f":"'مواقيت الأساتذة'!H234","v":0},null,{"$f":"'مواقيت الأساتذة'!H242","v":0},null,{"$f":"'مواقيت الأساتذة'!H250","v":0},null,{"$f":"'مواقيت الأساتذة'!H258","v":0}]
[null,"سا11 -  سا12",{"$f":"'مواقيت الأساتذة'!H203","v":0},null,{"$f":"'مواقيت الأساتذة'!H211","v":0},null,{"$f":"'مواقيت الأساتذة'!H219","v":0},null,{"$f":"'مواقيت الأساتذة'!H227","v":0},null,null,null,"سا11 -  سا12",{"$f":"'مواقيت الأساتذة'!H235","v":0},null,{"$f":"'مواقيت الأساتذة'!H243","v":0},null,{"$f":"'مواقيت الأساتذة'!H251","v":0},null,{"$f":"'مواقيت الأساتذة'!H259","v":0}]
[null,"سا13 -  سا14",{"$f":"'مواقيت الأساتذة'!H204","v":0},null,{"$f":"'مواقيت الأساتذة'!H212","v":0},null,{"$f":"'مواقيت الأساتذة'!H220","v":0},null,{"$f":"'مواقيت الأساتذة'!H228","v":0},null,null,null,"سا13 -  سا14",{"$f":"'مواقيت الأساتذة'!H236","v":0},null,{"$f":"'مواقيت الأساتذة'!H244","v":0},null,{"$f":"'مواقيت الأساتذة'!H252","v":0},null,{"$f":"'مواقيت الأساتذة'!H260","v":0}]
[null,"سا14 -  سا15",{"$f":"'مواقيت الأساتذة'!H205","v":0},null,{"$f":"'مواقيت الأساتذة'!H213","v":0},null,{"$f":"'مواقيت الأساتذة'!H221","v":0},null,{"$f":"'مواقيت الأساتذة'!H229","v":0},null,null,null,"سا14 -  سا15",{"$f":"'مواقيت الأساتذة'!H237","v":0},null,{"$f":"'مواقيت الأساتذة'!H245","v":0},null,{"$f":"'مواقيت الأساتذة'!H253","v":0},null,{"$f":"'مواقيت الأساتذة'!H261","v":0}]
[null,"سا15 -  سا16",{"$f":"'مواقيت الأساتذة'!H206","v":0},null,{"$f":"'مواقيت الأساتذة'!H214","v":0},null,{"$f":"'مواقيت الأساتذة'!H222","v":0},null,{"$f":"'مواقيت الأساتذة'!H230","v":0},null,null,null,"سا15 -  سا16",{"$f":"'مواقيت الأساتذة'!H238","v":0},null,{"$f":"'مواقيت الأساتذة'!H246","v":0},null,{"$f":"'مواقيت الأساتذة'!H254","v":0},null,{"$f":"'مواقيت الأساتذة'!H262","v":0}]
[null,"سا16 -  سا17",{"$f":"'مواقيت الأساتذة'!H207","v":0},null,{"$f":"'مواقيت الأساتذة'!H215","v":0},null,{"$f":"'مواقيت الأساتذة'!H223","v":0},null,{"$f":"'مواقيت الأساتذة'!H231","v":0},null,null,null,"سا16 -  سا17",{"$f":"'مواقيت الأساتذة'!H239","v":0},null,{"$f":"'مواقيت الأساتذة'!H247","v":0},null,{"$f":"'مواقيت الأساتذة'!H255","v":0},null,{"$f":"'مواقيت الأساتذة'!H263","v":0}]
["الخميس","سا08  - سا09",{"$f":"'مواقيت الأساتذة'!I200","v":0},null,{"$f":"'مواقيت الأساتذة'!I208","v":0},null,{"$f":"'مواقيت الأساتذة'!I216","v":0},null,{"$f":"'مواقيت الأساتذة'!I224","v":0},null,null,"الخميس","سا08  - سا09",{"$f":"'مواقيت الأساتذة'!I232","v":0},null,{"$f":"'مواقيت الأساتذة'!I240","v":0},null,{"$f":"'مواقيت الأساتذة'!I248","v":0},null,{"$f":"'مواقيت الأساتذة'!I256","v":0}]
[null,"سا09  -  سا10",{"$f":"'مواقيت الأساتذة'!I201","v":0},null,{"$f":"'مواقيت الأساتذة'!I209","v":0},null,{"$f":"'مواقيت الأساتذة'!I217","v":0},null,{"$f":"'مواقيت الأساتذة'!I225","v":0},null,null,null,"سا09  -  سا10",{"$f":"'مواقيت الأساتذة'!I233","v":0},null,{"$f":"'مواقيت الأساتذة'!I241","v":0},null,{"$f":"'مواقيت الأساتذة'!I249","v":0},null,{"$f":"'مواقيت الأساتذة'!I257","v":0}]
[null,"سا10 -  سا11",{"$f":"'مواقيت الأساتذة'!I202","v":0},null,{"$f":"'مواقيت الأساتذة'!I210","v":0},null,{"$f":"'مواقيت الأساتذة'!I218","v":0},null,{"$f":"'مواقيت الأساتذة'!I226","v":0},null,null,null,"سا10 -  سا11",{"$f":"'مواقيت الأساتذة'!I234","v":0},null,{"$f":"'مواقيت الأساتذة'!I242","v":0},null,{"$f":"'مواقيت الأساتذة'!I250","v":0},null,{"$f":"'مواقيت الأساتذة'!I258","v":0}]
[null,"سا11 -  سا12",{"$f":"'مواقيت الأساتذة'!I203","v":0},null,{"$f":"'مواقيت الأساتذة'!I211","v":0},null,{"$f":"'مواقيت الأساتذة'!I219","v":0},null,{"$f":"'مواقيت الأساتذة'!I227","v":0},null,null,null,"سا11 -  سا12",{"$f":"'مواقيت الأساتذة'!I235","v":0},null,{"$f":"'مواقيت الأساتذة'!I243","v":0},null,{"$f":"'مواقيت الأساتذة'!I251","v":0},null,{"$f":"'مواقيت الأساتذة'!I259","v":0}]
[null,"سا13 -  سا14",{"$f":"'مواقيت الأساتذة'!I204","v":0},null,{"$f":"'مواقيت الأساتذة'!I212","v":0},null,{"$f":"'مواقيت الأساتذة'!I220","v":0},null,{"$f":"'مواقيت الأساتذة'!I228","v":0},null,null,null,"سا13 -  سا14",{"$f":"'مواقيت الأساتذة'!I236","v":0},null,{"$f":"'مواقيت الأساتذة'!I244","v":0},null,{"$f":"'مواقيت الأساتذة'!I252","v":0},null,{"$f":"'مواقيت الأساتذة'!I260","v":0}]
[null,"سا14 -  سا15",{"$f":"'مواقيت الأساتذة'!I205","v":0},null,{"$f":"'مواقيت الأساتذة'!I213","v":0},null,{"$f":"'مواقيت الأساتذة'!I221","v":0},null,{"$f":"'مواقيت الأساتذة'!I229","v":0},null,null,null,"سا14 -  سا15",{"$f":"'مواقيت الأساتذة'!I237","v":0},null,{"$f":"'مواقيت الأساتذة'!I245","v":0},null,{"$f":"'مواقيت الأساتذة'!I253","v":0},null,{"$f":"'مواقيت الأساتذة'!I261","v":0}]
[null,"سا15 -  سا16",{"$f":"'مواقيت الأساتذة'!I206","v":0},null,{"$f":"'مواقيت الأساتذة'!I214","v":0},null,{"$f":"'مواقيت الأساتذة'!I222","v":0},null,{"$f":"'مواقيت الأساتذة'!I230","v":0},null,null,null,"سا15 -  سا16",{"$f":"'مواقيت الأساتذة'!I238","v":0},null,{"$f":"'مواقيت الأساتذة'!I246","v":0},null,{"$f":"'مواقيت الأساتذة'!I254","v":0},null,{"$f":"'مواقيت الأساتذة'!I262","v":0}]
[null,"سا16 -  سا17",{"$f":"'مواقيت الأساتذة'!I207","v":0},null,{"$f":"'مواقيت الأساتذة'!I215","v":0},null,{"$f":"'مواقيت الأساتذة'!I223","v":0},null,{"$f":"'مواقيت الأساتذة'!I231","v":0},null,null,null,"سا16 -  سا17",{"$f":"'مواقيت الأساتذة'!I239","v":0},null,{"$f":"'مواقيت الأساتذة'!I247","v":0},null,{"$f":"'مواقيت الأساتذة'!I255","v":0},null,{"$f":"'مواقيت الأساتذة'!I263","v":0}]
[]
[]
[]
[]
[]
[]
[]
[]
[]
["الأيام","المواقيت","السيد (ة)",{"$f":"'مواقيت الأساتذة'!B264","v":0},"السيد (ة)",{"$f":"'مواقيت الأساتذة'!B272","v":0},"السيد (ة)",{"$f":"'مواقيت الأساتذة'!B280","v":0},"السيد (ة)",{"$f":"'مواقيت الأساتذة'!B288","v":0},null,"الأيام","المواقيت","السيد (ة)",{"$f":"'مواقيت الأساتذة'!B296","v":0},"السيد (ة)",{"$f":"'مواقيت الأساتذة'!B304","v":0},"السيد (ة)",{"$f":"'مواقيت الأساتذة'!B312","v":0},"السيد (ة)",{"$f":"'مواقيت الأساتذة'!B320","v":0}]
[null,null,"أستاذ (ة) في",{"$f":"'اسناد الأقسام'!A39","v":"تكنولوجيا2"},"أستاذ (ة) في",{"$f":"'اسناد الأقسام'!A40","v":"تكنولوجيا3"},"أستاذ (ة) في",{"$f":"'اسناد الأقسام'!A41","v":"تكنولوجيا4"},"أستاذ (ة) في",{"$f":"'اسناد الأقسام'!A42","v":"رسم"},null,null,null,"أستاذ (ة) في",{"$f":"'اسناد الأقسام'!A43","v":"تربية بدنية 1"},"أستاذ (ة) في",{"$f":"'اسناد الأقسام'!A44","v":"تربية بدنية 2"},"أستاذ (ة) في",{"$f":"'اسناد الأقسام'!A45","v":0},"أستاذ (ة) في",{"$f":"'اسناد الأقسام'!A46","v":0}]
[null,null,"القسم","المادة المدروسة","القسم","المادة المدروسة","القسم","المادة المدروسة","القسم","المادة المدروسة",null,null,null,"القسم","المادة المدروسة","القسم","المادة المدروسة","القسم","المادة المدروسة","القسم","المادة المدروسة"]
["الأحــــــــد","سا08  - سا09",{"$f":"'مواقيت الأساتذة'!E264","v":0},null,{"$f":"'مواقيت الأساتذة'!E272","v":0},null,{"$f":"'مواقيت الأساتذة'!E280","v":0},null,{"$f":"'مواقيت الأساتذة'!E288","v":0},null,null,"الأحــــــــد","سا08  - سا09",{"$f":"'مواقيت الأساتذة'!E296","v":0},null,{"$f":"'مواقيت الأساتذة'!E304","v":0},null,{"$f":"'مواقيت الأساتذة'!E312","v":0},null,{"$f":"'مواقيت الأساتذة'!E320","v":0}]
[null,"سا09  -  سا10",{"$f":"'مواقيت الأساتذة'!E265","v":0},null,{"$f":"'مواقيت الأساتذة'!E273","v":0},null,{"$f":"'مواقيت الأساتذة'!E281","v":0},null,{"$f":"'مواقيت الأساتذة'!E289","v":0},null,null,null,"سا09  -  سا10",{"$f":"'مواقيت الأساتذة'!E297","v":0},null,{"$f":"'مواقيت الأساتذة'!E305","v":0},null,{"$f":"'مواقيت الأساتذة'!E313","v":0},null,{"$f":"'مواقيت الأساتذة'!E321","v":0}]
[null,"سا10 -  سا11",{"$f":"'مواقيت الأساتذة'!E266","v":0},null,{"$f":"'مواقيت الأساتذة'!E274","v":0},null,{"$f":"'مواقيت الأساتذة'!E282","v":0},null,{"$f":"'مواقيت الأساتذة'!E290","v":0},null,null,null,"سا10 -  سا11",{"$f":"'مواقيت الأساتذة'!E298","v":0},null,{"$f":"'مواقيت الأساتذة'!E306","v":0},null,{"$f":"'مواقيت الأساتذة'!E314","v":0},null,{"$f":"'مواقيت الأساتذة'!E322","v":0}]
[null,"سا11 -  سا12",{"$f":"'مواقيت الأساتذة'!E267","v":0},null,{"$f":"'مواقيت الأساتذة'!E275","v":0},null,{"$f":"'مواقيت الأساتذة'!E283","v":0},null,{"$f":"'مواقيت الأساتذة'!E291","v":0},null,null,null,"سا11 -  سا12",{"$f":"'مواقيت الأساتذة'!E299","v":0},null,{"$f":"'مواقيت الأساتذة'!E307","v":0},null,{"$f":"'مواقيت الأساتذة'!E315","v":0},null,{"$f":"'مواقيت الأساتذة'!E323","v":0}]
[null,"سا13 -  سا14",{"$f":"'مواقيت الأساتذة'!E268","v":0},null,{"$f":"'مواقيت الأساتذة'!E276","v":0},null,{"$f":"'مواقيت الأساتذة'!E284","v":0},null,{"$f":"'مواقيت الأساتذة'!E292","v":0},null,null,null,"سا13 -  سا14",{"$f":"'مواقيت الأساتذة'!E300","v":0},null,{"$f":"'مواقيت الأساتذة'!E308","v":0},null,{"$f":"'مواقيت الأساتذة'!E316","v":0},null,{"$f":"'مواقيت الأساتذة'!E324","v":0}]
[null,"سا14 -  سا15",{"$f":"'مواقيت الأساتذة'!E269","v":0},null,{"$f":"'مواقيت الأساتذة'!E277","v":0},null,{"$f":"'مواقيت الأساتذة'!E285","v":0},null,{"$f":"'مواقيت الأساتذة'!E293","v":0},null,null,null,"سا14 -  سا15",{"$f":"'مواقيت الأساتذة'!E301","v":0},null,{"$f":"'مواقيت الأساتذة'!E309","v":0},null,{"$f":"'مواقيت الأساتذة'!E317","v":0},null,{"$f":"'مواقيت الأساتذة'!E325","v":0}]
[null,"سا15 -  سا16",{"$f":"'مواقيت الأساتذة'!E270","v":0},null,{"$f":"'مواقيت الأساتذة'!E278","v":0},null,{"$f":"'مواقيت الأساتذة'!E286","v":0},null,{"$f":"'مواقيت الأساتذة'!E294","v":0},null,null,null,"سا15 -  سا16",{"$f":"'مواقيت الأساتذة'!E302","v":0},null,{"$f":"'مواقيت الأساتذة'!E310","v":0},null,{"$f":"'مواقيت الأساتذة'!E318","v":0},null,{"$f":"'مواقيت الأساتذة'!E326","v":0}]
[null,"سا16 -  سا17",{"$f":"'مواقيت الأساتذة'!E271","v":0},null,{"$f":"'مواقيت الأساتذة'!E279","v":0},null,{"$f":"'مواقيت الأساتذة'!E287","v":0},null,{"$f":"'مواقيت الأساتذة'!E295","v":0},null,null,null,"سا16 -  سا17",{"$f":"'مواقيت الأساتذة'!E303","v":0},null,{"$f":"'مواقيت الأساتذة'!E311","v":0},null,{"$f":"'مواقيت الأساتذة'!E319","v":0},null,{"$f":"'مواقيت الأساتذة'!E327","v":0}]
["الإثنين","سا08  - سا09",{"$f":"'مواقيت الأساتذة'!F264","v":0},null,{"$f":"'مواقيت الأساتذة'!F272","v":0},null,{"$f":"'مواقيت الأساتذة'!F280","v":0},null,{"$f":"'مواقيت الأساتذة'!F288","v":0},null,null,"الإثنين","سا08  - سا09",{"$f":"'مواقيت الأساتذة'!F296","v":0},null,{"$f":"'مواقيت الأساتذة'!F304","v":0},null,{"$f":"'مواقيت الأساتذة'!F312","v":0},null,{"$f":"'مواقيت الأساتذة'!F320","v":0}]
[null,"سا09  -  سا10",{"$f":"'مواقيت الأساتذة'!F265","v":0},null,{"$f":"'مواقيت الأساتذة'!F273","v":0},null,{"$f":"'مواقيت الأساتذة'!F281","v":0},null,{"$f":"'مواقيت الأساتذة'!F289","v":0},null,null,null,"سا09  -  سا10",{"$f":"'مواقيت الأساتذة'!F297","v":0},null,{"$f":"'مواقيت الأساتذة'!F305","v":0},null,{"$f":"'مواقيت الأساتذة'!F313","v":0},null,{"$f":"'مواقيت الأساتذة'!F321","v":0}]
[null,"سا10 -  سا11",{"$f":"'مواقيت الأساتذة'!F266","v":0},null,{"$f":"'مواقيت الأساتذة'!F274","v":0},null,{"$f":"'مواقيت الأساتذة'!F282","v":0},null,{"$f":"'مواقيت الأساتذة'!F290","v":0},null,null,null,"سا10 -  سا11",{"$f":"'مواقيت الأساتذة'!F298","v":0},null,{"$f":"'مواقيت الأساتذة'!F306","v":0},null,{"$f":"'مواقيت الأساتذة'!F314","v":0},null,{"$f":"'مواقيت الأساتذة'!F322","v":0}]
[null,"سا11 -  سا12",{"$f":"'مواقيت الأساتذة'!F267","v":0},null,{"$f":"'مواقيت الأساتذة'!F275","v":0},null,{"$f":"'مواقيت الأساتذة'!F283","v":0},null,{"$f":"'مواقيت الأساتذة'!F291","v":0},null,null,null,"سا11 -  سا12",{"$f":"'مواقيت الأساتذة'!F299","v":0},null,{"$f":"'مواقيت الأساتذة'!F307","v":0},null,{"$f":"'مواقيت الأساتذة'!F315","v":0},null,{"$f":"'مواقيت الأساتذة'!F323","v":0}]
[null,"سا13 -  سا14",{"$f":"'مواقيت الأساتذة'!F268","v":0},null,{"$f":"'مواقيت الأساتذة'!F276","v":0},null,{"$f":"'مواقيت الأساتذة'!F284","v":0},null,{"$f":"'مواقيت الأساتذة'!F292","v":0},null,null,null,"سا13 -  سا14",{"$f":"'مواقيت الأساتذة'!F300","v":0},null,{"$f":"'مواقيت الأساتذة'!F308","v":0},null,{"$f":"'مواقيت الأساتذة'!F316","v":0},null,{"$f":"'مواقيت الأساتذة'!F324","v":0}]
[null,"سا14 -  سا15",{"$f":"'مواقيت الأساتذة'!F269","v":0},null,{"$f":"'مواقيت الأساتذة'!F277","v":0},null,{"$f":"'مواقيت الأساتذة'!F285","v":0},null,{"$f":"'مواقيت الأساتذة'!F293","v":0},null,null,null,"سا14 -  سا15",{"$f":"'مواقيت الأساتذة'!F301","v":0},null,{"$f":"'مواقيت الأساتذة'!F309","v":0},null,{"$f":"'مواقيت الأساتذة'!F317","v":0},null,{"$f":"'مواقيت الأساتذة'!F325","v":0}]
[null,"سا15 -  سا16",{"$f":"'مواقيت الأساتذة'!F270","v":0},null,{"$f":"'مواقيت الأساتذة'!F278","v":0},null,{"$f":"'مواقيت الأساتذة'!F286","v":0},null,{"$f":"'مواقيت الأساتذة'!F294","v":0},null,null,null,"سا15 -  سا16",{"$f":"'مواقيت الأساتذة'!F302","v":0},null,{"$f":"'مواقيت الأساتذة'!F310","v":0},null,{"$f":"'مواقيت الأساتذة'!F318","v":0},null,{"$f":"'مواقيت الأساتذة'!F326","v":0}]
[null,"سا16 -  سا17",{"$f":"'مواقيت الأساتذة'!F271","v":0},null,{"$f":"'مواقيت الأساتذة'!F279","v":0},null,{"$f":"'مواقيت الأساتذة'!F287","v":0},null,{"$f":"'مواقيت الأساتذة'!F295","v":0},null,null,null,"سا16 -  سا17",{"$f":"'مواقيت الأساتذة'!F303","v":0},null,{"$f":"'مواقيت الأساتذة'!F311","v":0},null,{"$f":"'مواقيت الأساتذة'!F319","v":0},null,{"$f":"'مواقيت الأساتذة'!F327","v":0}]
["الثلاثاء","سا08  - سا09",{"$f":"'مواقيت الأساتذة'!G264","v":0},null,{"$f":"'مواقيت الأساتذة'!G272","v":0},null,{"$f":"'مواقيت الأساتذة'!G280","v":0},null,{"$f":"'مواقيت الأساتذة'!G288","v":0},null,null,"الثلاثاء","سا08  - سا09",{"$f":"'مواقيت الأساتذة'!G296","v":0},null,{"$f":"'مواقيت الأساتذة'!G304","v":0},null,{"$f":"'مواقيت الأساتذة'!G312","v":0},null,{"$f":"'مواقيت الأساتذة'!G320","v":0}]
[null,"سا09  -  سا10",{"$f":"'مواقيت الأساتذة'!G265","v":0},null,{"$f":"'مواقيت الأساتذة'!G273","v":0},null,{"$f":"'مواقيت الأساتذة'!G281","v":0},null,{"$f":"'مواقيت الأساتذة'!G289","v":0},null,null,null,"سا09  -  سا10",{"$f":"'مواقيت الأساتذة'!G297","v":0},null,{"$f":"'مواقيت الأساتذة'!G305","v":0},null,{"$f":"'مواقيت الأساتذة'!G313","v":0},null,{"$f":"'مواقيت الأساتذة'!G321","v":0}]
[null,"سا10 -  سا11",{"$f":"'مواقيت الأساتذة'!G266","v":0},null,{"$f":"'مواقيت الأساتذة'!G274","v":0},null,{"$f":"'مواقيت الأساتذة'!G282","v":0},null,{"$f":"'مواقيت الأساتذة'!G290","v":0},null,null,null,"سا10 -  سا11",{"$f":"'مواقيت الأساتذة'!G298","v":0},null,{"$f":"'مواقيت الأساتذة'!G306","v":0},null,{"$f":"'مواقيت الأساتذة'!G314","v":0},null,{"$f":"'مواقيت الأساتذة'!G322","v":0}]
[null,"سا11 -  سا12",{"$f":"'مواقيت الأساتذة'!G267","v":0},null,{"$f":"'مواقيت الأساتذة'!G275","v":0},null,{"$f":"'مواقيت الأساتذة'!G283","v":0},null,{"$f":"'مواقيت الأساتذة'!G291","v":0},null,null,null,"سا11 -  سا12",{"$f":"'مواقيت الأساتذة'!G299","v":0},null,{"$f":"'مواقيت الأساتذة'!G307","v":0},null,{"$f":"'مواقيت الأساتذة'!G315","v":0},null,{"$f":"'مواقيت الأساتذة'!G323","v":0}]
[null,"سا13 -  سا14",{"$f":"'مواقيت الأساتذة'!G268","v":0},null,{"$f":"'مواقيت الأساتذة'!G276","v":0},null,{"$f":"'مواقيت الأساتذة'!G284","v":0},null,{"$f":"'مواقيت الأساتذة'!G292","v":0},null,null,null,"سا13 -  سا14",{"$f":"'مواقيت الأساتذة'!G300","v":0},null,{"$f":"'مواقيت الأساتذة'!G308","v":0},null,{"$f":"'مواقيت الأساتذة'!G316","v":0},null,{"$f":"'مواقيت الأساتذة'!G324","v":0}]
[null,"سا14 -  سا15",{"$f":"'مواقيت الأساتذة'!G269","v":0},null,{"$f":"'مواقيت الأساتذة'!G277","v":0},null,{"$f":"'مواقيت الأساتذة'!G285","v":0},null,{"$f":"'مواقيت الأساتذة'!G293","v":0},null,null,null,"سا14 -  سا15",{"$f":"'مواقيت الأساتذة'!G301","v":0},null,{"$f":"'مواقيت الأساتذة'!G309","v":0},null,{"$f":"'مواقيت الأساتذة'!G317","v":0},null,{"$f":"'مواقيت الأساتذة'!G325","v":0}]
[null,"سا15 -  سا16",{"$f":"'مواقيت الأساتذة'!G270","v":0},null,{"$f":"'مواقيت الأساتذة'!G278","v":0},null,{"$f":"'مواقيت الأساتذة'!G286","v":0},null,{"$f":"'مواقيت الأساتذة'!G294","v":0},null,null,null,"سا15 -  سا16",{"$f":"'مواقيت الأساتذة'!G302","v":0},null,{"$f":"'مواقيت الأساتذة'!G310","v":0},null,{"$f":"'مواقيت الأساتذة'!G318","v":0},null,{"$f":"'مواقيت الأساتذة'!G326","v":0}]
[null,"سا16 -  سا17",{"$f":"'مواقيت الأساتذة'!G271","v":0},null,{"$f":"'مواقيت الأساتذة'!G279","v":0},null,{"$f":"'مواقيت الأساتذة'!G287","v":0},null,{"$f":"'مواقيت الأساتذة'!G295","v":0},null,null,null,"سا16 -  سا17",{"$f":"'مواقيت الأساتذة'!G303","v":0},null,{"$f":"'مواقيت الأساتذة'!G311","v":0},null,{"$f":"'مواقيت الأساتذة'!G319","v":0},null,{"$f":"'مواقيت الأساتذة'!G327","v":0}]
["الأربعاء","سا08  - سا09",{"$f":"'مواقيت الأساتذة'!H264","v":0},null,{"$f":"'مواقيت الأساتذة'!H272","v":0},null,{"$f":"'مواقيت الأساتذة'!H280","v":0},null,{"$f":"'مواقيت الأساتذة'!H288","v":0},null,null,"الأربعاء","سا08  - سا09",{"$f":"'مواقيت الأساتذة'!H296","v":0},null,{"$f":"'مواقيت الأساتذة'!H304","v":0},null,{"$f":"'مواقيت الأساتذة'!H312","v":0},null,{"$f":"'مواقيت الأساتذة'!H320","v":0}]
[null,"سا09  -  سا10",{"$f":"'مواقيت الأساتذة'!H265","v":0},null,{"$f":"'مواقيت الأساتذة'!H273","v":0},null,{"$f":"'مواقيت الأساتذة'!H281","v":0},null,{"$f":"'مواقيت الأساتذة'!H289","v":0},null,null,null,"سا09  -  سا10",{"$f":"'مواقيت الأساتذة'!H297","v":0},null,{"$f":"'مواقيت الأساتذة'!H305","v":0},null,{"$f":"'مواقيت الأساتذة'!H313","v":0},null,{"$f":"'مواقيت الأساتذة'!H321","v":0}]
[null,"سا10 -  سا11",{"$f":"'مواقيت الأساتذة'!H266","v":0},null,{"$f":"'مواقيت الأساتذة'!H274","v":0},null,{"$f":"'مواقيت الأساتذة'!H282","v":0},null,{"$f":"'مواقيت الأساتذة'!H290","v":0},null,null,null,"سا10 -  سا11",{"$f":"'مواقيت الأساتذة'!H298","v":0},null,{"$f":"'مواقيت الأساتذة'!H306","v":0},null,{"$f":"'مواقيت الأساتذة'!H314","v":0},null,{"$f":"'مواقيت الأساتذة'!H322","v":0}]
[null,"سا11 -  سا12",{"$f":"'مواقيت الأساتذة'!H267","v":0},null,{"$f":"'مواقيت الأساتذة'!H275","v":0},null,{"$f":"'مواقيت الأساتذة'!H283","v":0},null,{"$f":"'مواقيت الأساتذة'!H291","v":0},null,null,null,"سا11 -  سا12",{"$f":"'مواقيت الأساتذة'!H299","v":0},null,{"$f":"'مواقيت الأساتذة'!H307","v":0},null,{"$f":"'مواقيت الأساتذة'!H315","v":0},null,{"$f":"'مواقيت الأساتذة'!H323","v":0}]
[null,"سا13 -  سا14",{"$f":"'مواقيت الأساتذة'!H268","v":0},null,{"$f":"'مواقيت الأساتذة'!H276","v":0},null,{"$f":"'مواقيت الأساتذة'!H284","v":0},null,{"$f":"'مواقيت الأساتذة'!H292","v":0},null,null,null,"سا13 -  سا14",{"$f":"'مواقيت الأساتذة'!H300","v":0},null,{"$f":"'مواقيت الأساتذة'!H308","v":0},null,{"$f":"'مواقيت الأساتذة'!H316","v":0},null,{"$f":"'مواقيت الأساتذة'!H324","v":0}]
[null,"سا14 -  سا15",{"$f":"'مواقيت الأساتذة'!H269","v":0},null,{"$f":"'مواقيت الأساتذة'!H277","v":0},null,{"$f":"'مواقيت الأساتذة'!H285","v":0},null,{"$f":"'مواقيت الأساتذة'!H293","v":0},null,null,null,"سا14 -  سا15",{"$f":"'مواقيت الأساتذة'!H301","v":0},null,{"$f":"'مواقيت الأساتذة'!H309","v":0},null,{"$f":"'مواقيت الأساتذة'!H317","v":0},null,{"$f":"'مواقيت الأساتذة'!H325","v":0}]
[null,"سا15 -  سا16",{"$f":"'مواقيت الأساتذة'!H270","v":0},null,{"$f":"'مواقيت الأساتذة'!H278","v":0},null,{"$f":"'مواقيت الأساتذة'!H286","v":0},null,{"$f":"'مواقيت الأساتذة'!H294","v":0},null,null,null,"سا15 -  سا16",{"$f":"'مواقيت الأساتذة'!H302","v":0},null,{"$f":"'مواقيت الأساتذة'!H310","v":0},null,{"$f":"'مواقيت الأساتذة'!H318","v":0},null,{"$f":"'مواقيت الأساتذة'!H326","v":0}]
[null,"سا16 -  سا17",{"$f":"'مواقيت الأساتذة'!H271","v":0},null,{"$f":"'مواقيت الأساتذة'!H279","v":0},null,{"$f":"'مواقيت الأساتذة'!H287","v":0},null,{"$f":"'مواقيت الأساتذة'!H295","v":0},null,null,null,"سا16 -  سا17",{"$f":"'مواقيت الأساتذة'!H303","v":0},null,{"$f":"'مواقيت الأساتذة'!H311","v":0},null,{"$f":"'مواقيت الأساتذة'!H319","v":0},null,{"$f":"'مواقيت الأساتذة'!H327","v":0}]
["الخميس","سا08  - سا09",{"$f":"'مواقيت الأساتذة'!I264","v":0},null,{"$f":"'مواقيت الأساتذة'!I272","v":0},null,{"$f":"'مواقيت الأساتذة'!I280","v":0},null,{"$f":"'مواقيت الأساتذة'!I288","v":0},null,null,"الخميس","سا08  - سا09",{"$f":"'مواقيت الأساتذة'!I296","v":0},null,{"$f":"'مواقيت الأساتذة'!I304","v":0},null,{"$f":"'مواقيت الأساتذة'!I312","v":0},null,{"$f":"'مواقيت الأساتذة'!I320","v":0}]
[null,"سا09  -  سا10",{"$f":"'مواقيت الأساتذة'!I265","v":0},null,{"$f":"'مواقيت الأساتذة'!I273","v":0},null,{"$f":"'مواقيت الأساتذة'!I281","v":0},null,{"$f":"'مواقيت الأساتذة'!I289","v":0},null,null,null,"سا09  -  سا10",{"$f":"'مواقيت الأساتذة'!I297","v":0},null,{"$f":"'مواقيت الأساتذة'!I305","v":0},null,{"$f":"'مواقيت الأساتذة'!I313","v":0},null,{"$f":"'مواقيت الأساتذة'!I321","v":0}]
[null,"سا10 -  سا11",{"$f":"'مواقيت الأساتذة'!I266","v":0},null,{"$f":"'مواقيت الأساتذة'!I274","v":0},null,{"$f":"'مواقيت الأساتذة'!I282","v":0},null,{"$f":"'مواقيت الأساتذة'!I290","v":0},null,null,null,"سا10 -  سا11",{"$f":"'مواقيت الأساتذة'!I298","v":0},null,{"$f":"'مواقيت الأساتذة'!I306","v":0},null,{"$f":"'مواقيت الأساتذة'!I314","v":0},null,{"$f":"'مواقيت الأساتذة'!I322","v":0}]
[null,"سا11 -  سا12",{"$f":"'مواقيت الأساتذة'!I267","v":0},null,{"$f":"'مواقيت الأساتذة'!I275","v":0},null,{"$f":"'مواقيت الأساتذة'!I283","v":0},null,{"$f":"'مواقيت الأساتذة'!I291","v":0},null,null,null,"سا11 -  سا12",{"$f":"'مواقيت الأساتذة'!I299","v":0},null,{"$f":"'مواقيت الأساتذة'!I307","v":0},null,{"$f":"'مواقيت الأساتذة'!I315","v":0},null,{"$f":"'مواقيت الأساتذة'!I323","v":0}]
[null,"سا13 -  سا14",{"$f":"'مواقيت الأساتذة'!I268","v":0},null,{"$f":"'مواقيت الأساتذة'!I276","v":0},null,{"$f":"'مواقيت الأساتذة'!I284","v":0},null,{"$f":"'مواقيت الأساتذة'!I292","v":0},null,null,null,"سا13 -  سا14",{"$f":"'مواقيت الأساتذة'!I300","v":0},null,{"$f":"'مواقيت الأساتذة'!I308","v":0},null,{"$f":"'مواقيت الأساتذة'!I316","v":0},null,{"$f":"'مواقيت الأساتذة'!I324","v":0}]
[null,"سا14 -  سا15",{"$f":"'مواقيت الأساتذة'!I269","v":0},null,{"$f":"'مواقيت الأساتذة'!I277","v":0},null,{"$f":"'مواقيت الأساتذة'!I285","v":0},null,{"$f":"'مواقيت الأساتذة'!I293","v":0},null,null,null,"سا14 -  سا15",{"$f":"'مواقيت الأساتذة'!I301","v":0},null,{"$f":"'مواقيت الأساتذة'!I309","v":0},null,{"$f":"'مواقيت الأساتذة'!I317","v":0},null,{"$f":"'مواقيت الأساتذة'!I325","v":0}]
[null,"سا15 -  سا16",{"$f":"'مواقيت الأساتذة'!I270","v":0},null,{"$f":"'مواقيت الأساتذة'!I278","v":0},null,{"$f":"'مواقيت الأساتذة'!I286","v":0},null,{"$f":"'مواقيت الأساتذة'!I294","v":0},null,null,null,"سا15 -  سا16",{"$f":"'مواقيت الأساتذة'!I302","v":0},null,{"$f":"'مواقيت الأساتذة'!I310","v":0},null,{"$f":"'مواقيت الأساتذة'!I318","v":0},null,{"$f":"'مواقيت الأساتذة'!I326","v":0}]
[null,"سا16 -  سا17",{"$f":"'مواقيت الأساتذة'!I271","v":0},null,{"$f":"'مواقيت الأساتذة'!I279","v":0},null,{"$f":"'مواقيت الأساتذة'!I287","v":0},null,{"$f":"'مواقيت الأساتذة'!I295","v":0},null,null,null,"سا16 -  سا17",{"$f":"'مواقيت الأساتذة'!I303","v":0},null,{"$f":"'مواقيت الأساتذة'!I311","v":0},null,{"$f":"'مواقيت الأساتذة'!I319","v":0},null,{"$f":"'مواقيت الأساتذة'!I327","v":0}]
[]
[]
[]
[]
[]
[]
[]
[]
[]
["الأيام","المواقيت","السيد (ة)",{"$f":"'مواقيت الأساتذة'!B328","v":0},"السيد (ة)",{"$f":"'مواقيت الأساتذة'!B336","v":0},"السيد (ة)",{"$f":"'مواقيت الأساتذة'!B344","v":0},"السيد (ة)",{"$f":"'مواقيت الأساتذة'!B352","v":0},null,"الأيام","المواقيت","السيد (ة)",{"$f":"'مواقيت الأساتذة'!B360","v":0},"السيد (ة)",{"$f":"'مواقيت الأساتذة'!B368","v":0},"السيد (ة)",{"$f":"'مواقيت الأساتذة'!B376","v":0},"السيد (ة)",{"$f":"'مواقيت الأساتذة'!B384","v":0}]
[null,null,"أستاذ (ة) في",{"$f":"'اسناد الأقسام'!A47","v":0},"أستاذ (ة) في",{"$f":"'اسناد الأقسام'!A48","v":0},"أستاذ (ة) في",{"$f":"'اسناد الأقسام'!A49","v":0},"أستاذ (ة) في",{"$f":"'اسناد الأقسام'!A50","v":0},null,null,null,"أستاذ (ة) في",{"$f":"'اسناد الأقسام'!A51","v":0},"أستاذ (ة) في",{"$f":"'اسناد الأقسام'!A52","v":0},"أستاذ (ة) في",{"$f":"'اسناد الأقسام'!A53","v":0},"أستاذ (ة) في",{"$f":"'اسناد الأقسام'!A54","v":0}]
[null,null,"القسم","المادة المدروسة","القسم","المادة المدروسة","القسم","المادة المدروسة","القسم","المادة المدروسة",null,null,null,"القسم","المادة المدروسة","القسم","المادة المدروسة","القسم","المادة المدروسة","القسم","المادة المدروسة"]
["الأحــــــــد","سا08  - سا09",{"$f":"'مواقيت الأساتذة'!E328","v":0},null,{"$f":"'مواقيت الأساتذة'!E336","v":0},null,{"$f":"'مواقيت الأساتذة'!E344","v":0},null,{"$f":"'مواقيت الأساتذة'!E352","v":0},null,null,"الأحــــــــد","سا08  - سا09",{"$f":"'مواقيت الأساتذة'!E360","v":0},null,{"$f":"'مواقيت الأساتذة'!E368","v":0},null,{"$f":"'مواقيت الأساتذة'!E376","v":0},null,{"$f":"'مواقيت الأساتذة'!E384","v":0}]
[null,"سا09  -  سا10",{"$f":"'مواقيت الأساتذة'!E329","v":0},null,{"$f":"'مواقيت الأساتذة'!E337","v":0},null,{"$f":"'مواقيت الأساتذة'!E345","v":0},null,{"$f":"'مواقيت الأساتذة'!E353","v":0},null,null,null,"سا09  -  سا10",{"$f":"'مواقيت الأساتذة'!E361","v":0},null,{"$f":"'مواقيت الأساتذة'!E369","v":0},null,{"$f":"'مواقيت الأساتذة'!E377","v":0},null,{"$f":"'مواقيت الأساتذة'!E385","v":0}]
[null,"سا10 -  سا11",{"$f":"'مواقيت الأساتذة'!E330","v":0},null,{"$f":"'مواقيت الأساتذة'!E338","v":0},null,{"$f":"'مواقيت الأساتذة'!E346","v":0},null,{"$f":"'مواقيت الأساتذة'!E354","v":0},null,null,null,"سا10 -  سا11",{"$f":"'مواقيت الأساتذة'!E362","v":0},null,{"$f":"'مواقيت الأساتذة'!E370","v":0},null,{"$f":"'مواقيت الأساتذة'!E378","v":0},null,{"$f":"'مواقيت الأساتذة'!E386","v":0}]
[null,"سا11 -  سا12",{"$f":"'مواقيت الأساتذة'!E331","v":0},null,{"$f":"'مواقيت الأساتذة'!E339","v":0},null,{"$f":"'مواقيت الأساتذة'!E347","v":0},null,{"$f":"'مواقيت الأساتذة'!E355","v":0},null,null,null,"سا11 -  سا12",{"$f":"'مواقيت الأساتذة'!E363","v":0},null,{"$f":"'مواقيت الأساتذة'!E371","v":0},null,{"$f":"'مواقيت الأساتذة'!E379","v":0},null,{"$f":"'مواقيت الأساتذة'!E387","v":0}]
[null,"سا13 -  سا14",{"$f":"'مواقيت الأساتذة'!E332","v":0},null,{"$f":"'مواقيت الأساتذة'!E340","v":0},null,{"$f":"'مواقيت الأساتذة'!E348","v":0},null,{"$f":"'مواقيت الأساتذة'!E356","v":0},null,null,null,"سا13 -  سا14",{"$f":"'مواقيت الأساتذة'!E364","v":0},null,{"$f":"'مواقيت الأساتذة'!E372","v":0},null,{"$f":"'مواقيت الأساتذة'!E380","v":0},null,{"$f":"'مواقيت الأساتذة'!E388","v":0}]
[null,"سا14 -  سا15",{"$f":"'مواقيت الأساتذة'!E333","v":0},null,{"$f":"'مواقيت الأساتذة'!E341","v":0},null,{"$f":"'مواقيت الأساتذة'!E349","v":0},null,{"$f":"'مواقيت الأساتذة'!E357","v":0},null,null,null,"سا14 -  سا15",{"$f":"'مواقيت الأساتذة'!E365","v":0},null,{"$f":"'مواقيت الأساتذة'!E373","v":0},null,{"$f":"'مواقيت الأساتذة'!E381","v":0},null,{"$f":"'مواقيت الأساتذة'!E389","v":0}]
[null,"سا15 -  سا16",{"$f":"'مواقيت الأساتذة'!E334","v":0},null,{"$f":"'مواقيت الأساتذة'!E342","v":0},null,{"$f":"'مواقيت الأساتذة'!E350","v":0},null,{"$f":"'مواقيت الأساتذة'!E358","v":0},null,null,null,"سا15 -  سا16",{"$f":"'مواقيت الأساتذة'!E366","v":0},null,{"$f":"'مواقيت الأساتذة'!E374","v":0},null,{"$f":"'مواقيت الأساتذة'!E382","v":0},null,{"$f":"'مواقيت الأساتذة'!E390","v":0}]
[null,"سا16 -  سا17",{"$f":"'مواقيت الأساتذة'!E335","v":0},null,{"$f":"'مواقيت الأساتذة'!E343","v":0},null,{"$f":"'مواقيت الأساتذة'!E351","v":0},null,{"$f":"'مواقيت الأساتذة'!E359","v":0},null,null,null,"سا16 -  سا17",{"$f":"'مواقيت الأساتذة'!E367","v":0},null,{"$f":"'مواقيت الأساتذة'!E375","v":0},null,{"$f":"'مواقيت الأساتذة'!E383","v":0},null,{"$f":"'مواقيت الأساتذة'!E391","v":0}]
["الإثنين","سا08  - سا09",{"$f":"'مواقيت الأساتذة'!F328","v":0},null,{"$f":"'مواقيت الأساتذة'!F336","v":0},null,{"$f":"'مواقيت الأساتذة'!F344","v":0},null,{"$f":"'مواقيت الأساتذة'!F352","v":0},null,null,"الإثنين","سا08  - سا09",{"$f":"'مواقيت الأساتذة'!F360","v":0},null,{"$f":"'مواقيت الأساتذة'!F368","v":0},null,{"$f":"'مواقيت الأساتذة'!F376","v":0},null,{"$f":"'مواقيت الأساتذة'!F384","v":0}]
[null,"سا09  -  سا10",{"$f":"'مواقيت الأساتذة'!F329","v":0},null,{"$f":"'مواقيت الأساتذة'!F337","v":0},null,{"$f":"'مواقيت الأساتذة'!F345","v":0},null,{"$f":"'مواقيت الأساتذة'!F353","v":0},null,null,null,"سا09  -  سا10",{"$f":"'مواقيت الأساتذة'!F361","v":0},null,{"$f":"'مواقيت الأساتذة'!F369","v":0},null,{"$f":"'مواقيت الأساتذة'!F377","v":0},null,{"$f":"'مواقيت الأساتذة'!F385","v":0}]
[null,"سا10 -  سا11",{"$f":"'مواقيت الأساتذة'!F330","v":0},null,{"$f":"'مواقيت الأساتذة'!F338","v":0},null,{"$f":"'مواقيت الأساتذة'!F346","v":0},null,{"$f":"'مواقيت الأساتذة'!F354","v":0},null,null,null,"سا10 -  سا11",{"$f":"'مواقيت الأساتذة'!F362","v":0},null,{"$f":"'مواقيت الأساتذة'!F370","v":0},null,{"$f":"'مواقيت الأساتذة'!F378","v":0},null,{"$f":"'مواقيت الأساتذة'!F386","v":0}]
[null,"سا11 -  سا12",{"$f":"'مواقيت الأساتذة'!F331","v":0},null,{"$f":"'مواقيت الأساتذة'!F339","v":0},null,{"$f":"'مواقيت الأساتذة'!F347","v":0},null,{"$f":"'مواقيت الأساتذة'!F355","v":0},null,null,null,"سا11 -  سا12",{"$f":"'مواقيت الأساتذة'!F363","v":0},null,{"$f":"'مواقيت الأساتذة'!F371","v":0},null,{"$f":"'مواقيت الأساتذة'!F379","v":0},null,{"$f":"'مواقيت الأساتذة'!F387","v":0}]
[null,"سا13 -  سا14",{"$f":"'مواقيت الأساتذة'!F332","v":0},null,{"$f":"'مواقيت الأساتذة'!F340","v":0},null,{"$f":"'مواقيت الأساتذة'!F348","v":0},null,{"$f":"'مواقيت الأساتذة'!F356","v":0},null,null,null,"سا13 -  سا14",{"$f":"'مواقيت الأساتذة'!F364","v":0},null,{"$f":"'مواقيت الأساتذة'!F372","v":0},null,{"$f":"'مواقيت الأساتذة'!F380","v":0},null,{"$f":"'مواقيت الأساتذة'!F388","v":0}]
[null,"سا14 -  سا15",{"$f":"'مواقيت الأساتذة'!F333","v":0},null,{"$f":"'مواقيت الأساتذة'!F341","v":0},null,{"$f":"'مواقيت الأساتذة'!F349","v":0},null,{"$f":"'مواقيت الأساتذة'!F357","v":0},null,null,null,"سا14 -  سا15",{"$f":"'مواقيت الأساتذة'!F365","v":0},null,{"$f":"'مواقيت الأساتذة'!F373","v":0},null,{"$f":"'مواقيت الأساتذة'!F381","v":0},null,{"$f":"'مواقيت الأساتذة'!F389","v":0}]
[null,"سا15 -  سا16",{"$f":"'مواقيت الأساتذة'!F334","v":0},null,{"$f":"'مواقيت الأساتذة'!F342","v":0},null,{"$f":"'مواقيت الأساتذة'!F350","v":0},null,{"$f":"'مواقيت الأساتذة'!F358","v":0},null,null,null,"سا15 -  سا16",{"$f":"'مواقيت الأساتذة'!F366","v":0},null,{"$f":"'مواقيت الأساتذة'!F374","v":0},null,{"$f":"'مواقيت الأساتذة'!F382","v":0},null,{"$f":"'مواقيت الأساتذة'!F390","v":0}]
[null,"سا16 -  سا17",{"$f":"'مواقيت الأساتذة'!F335","v":0},null,{"$f":"'مواقيت الأساتذة'!F343","v":0},null,{"$f":"'مواقيت الأساتذة'!F351","v":0},null,{"$f":"'مواقيت الأساتذة'!F359","v":0},null,null,null,"سا16 -  سا17",{"$f":"'مواقيت الأساتذة'!F367","v":0},null,{"$f":"'مواقيت الأساتذة'!F375","v":0},null,{"$f":"'مواقيت الأساتذة'!F383","v":0},null,{"$f":"'مواقيت الأساتذة'!F391","v":0}]
["الثلاثاء","سا08  - سا09",{"$f":"'مواقيت الأساتذة'!G328","v":0},null,{"$f":"'مواقيت الأساتذة'!G336","v":0},null,{"$f":"'مواقيت الأساتذة'!G344","v":0},null,{"$f":"'مواقيت الأساتذة'!G352","v":0},null,null,"الثلاثاء","سا08  - سا09",{"$f":"'مواقيت الأساتذة'!G360","v":0},null,{"$f":"'مواقيت الأساتذة'!G368","v":0},null,{"$f":"'مواقيت الأساتذة'!G376","v":0},null,{"$f":"'مواقيت الأساتذة'!G384","v":0}]
[null,"سا09  -  سا10",{"$f":"'مواقيت الأساتذة'!G329","v":0},null,{"$f":"'مواقيت الأساتذة'!G337","v":0},null,{"$f":"'مواقيت الأساتذة'!G345","v":0},null,{"$f":"'مواقيت الأساتذة'!G353","v":0},null,null,null,"سا09  -  سا10",{"$f":"'مواقيت الأساتذة'!G361","v":0},null,{"$f":"'مواقيت الأساتذة'!G369","v":0},null,{"$f":"'مواقيت الأساتذة'!G377","v":0},null,{"$f":"'مواقيت الأساتذة'!G385","v":0}]
[null,"سا10 -  سا11",{"$f":"'مواقيت الأساتذة'!G330","v":0},null,{"$f":"'مواقيت الأساتذة'!G338","v":0},null,{"$f":"'مواقيت الأساتذة'!G346","v":0},null,{"$f":"'مواقيت الأساتذة'!G354","v":0},null,null,null,"سا10 -  سا11",{"$f":"'مواقيت الأساتذة'!G362","v":0},null,{"$f":"'مواقيت الأساتذة'!G370","v":0},null,{"$f":"'مواقيت الأساتذة'!G378","v":0},null,{"$f":"'مواقيت الأساتذة'!G386","v":0}]
[null,"سا11 -  سا12",{"$f":"'مواقيت الأساتذة'!G331","v":0},null,{"$f":"'مواقيت الأساتذة'!G339","v":0},null,{"$f":"'مواقيت الأساتذة'!G347","v":0},null,{"$f":"'مواقيت الأساتذة'!G355","v":0},null,null,null,"سا11 -  سا12",{"$f":"'مواقيت الأساتذة'!G363","v":0},null,{"$f":"'مواقيت الأساتذة'!G371","v":0},null,{"$f":"'مواقيت الأساتذة'!G379","v":0},null,{"$f":"'مواقيت الأساتذة'!G387","v":0}]
[null,"سا13 -  سا14",{"$f":"'مواقيت الأساتذة'!G332","v":0},null,{"$f":"'مواقيت الأساتذة'!G340","v":0},null,{"$f":"'مواقيت الأساتذة'!G348","v":0},null,{"$f":"'مواقيت الأساتذة'!G356","v":0},null,null,null,"سا13 -  سا14",{"$f":"'مواقيت الأساتذة'!G364","v":0},null,{"$f":"'مواقيت الأساتذة'!G372","v":0},null,{"$f":"'مواقيت الأساتذة'!G380","v":0},null,{"$f":"'مواقيت الأساتذة'!G388","v":0}]
[null,"سا14 -  سا15",{"$f":"'مواقيت الأساتذة'!G333","v":0},null,{"$f":"'مواقيت الأساتذة'!G341","v":0},null,{"$f":"'مواقيت الأساتذة'!G349","v":0},null,{"$f":"'مواقيت الأساتذة'!G357","v":0},null,null,null,"سا14 -  سا15",{"$f":"'مواقيت الأساتذة'!G365","v":0},null,{"$f":"'مواقيت الأساتذة'!G373","v":0},null,{"$f":"'مواقيت الأساتذة'!G381","v":0},null,{"$f":"'مواقيت الأساتذة'!G389","v":0}]
[null,"سا15 -  سا16",{"$f":"'مواقيت الأساتذة'!G334","v":0},null,{"$f":"'مواقيت الأساتذة'!G342","v":0},null,{"$f":"'مواقيت الأساتذة'!G350","v":0},null,{"$f":"'مواقيت الأساتذة'!G358","v":0},null,null,null,"سا15 -  سا16",{"$f":"'مواقيت الأساتذة'!G366","v":0},null,{"$f":"'مواقيت الأساتذة'!G374","v":0},null,{"$f":"'مواقيت الأساتذة'!G382","v":0},null,{"$f":"'مواقيت الأساتذة'!G390","v":0}]
[null,"سا16 -  سا17",{"$f":"'مواقيت الأساتذة'!G335","v":0},null,{"$f":"'مواقيت الأساتذة'!G343","v":0},null,{"$f":"'مواقيت الأساتذة'!G351","v":0},null,{"$f":"'مواقيت الأساتذة'!G359","v":0},null,null,null,"سا16 -  سا17",{"$f":"'مواقيت الأساتذة'!G367","v":0},null,{"$f":"'مواقيت الأساتذة'!G375","v":0},null,{"$f":"'مواقيت الأساتذة'!G383","v":0},null,{"$f":"'مواقيت الأساتذة'!G391","v":0}]
["الأربعاء","سا08  - سا09",{"$f":"'مواقيت الأساتذة'!H328","v":0},null,{"$f":"'مواقيت الأساتذة'!H336","v":0},null,{"$f":"'مواقيت الأساتذة'!H344","v":0},null,{"$f":"'مواقيت الأساتذة'!H352","v":0},null,null,"الأربعاء","سا08  - سا09",{"$f":"'مواقيت الأساتذة'!H360","v":0},null,{"$f":"'مواقيت الأساتذة'!H368","v":0},null,{"$f":"'مواقيت الأساتذة'!H376","v":0},null,{"$f":"'مواقيت الأساتذة'!H384","v":0}]
[null,"سا09  -  سا10",{"$f":"'مواقيت الأساتذة'!H329","v":0},null,{"$f":"'مواقيت الأساتذة'!H337","v":0},null,{"$f":"'مواقيت الأساتذة'!H345","v":0},null,{"$f":"'مواقيت الأساتذة'!H353","v":0},null,null,null,"سا09  -  سا10",{"$f":"'مواقيت الأساتذة'!H361","v":0},null,{"$f":"'مواقيت الأساتذة'!H369","v":0},null,{"$f":"'مواقيت الأساتذة'!H377","v":0},null,{"$f":"'مواقيت الأساتذة'!H385","v":0}]
[null,"سا10 -  سا11",{"$f":"'مواقيت الأساتذة'!H330","v":0},null,{"$f":"'مواقيت الأساتذة'!H338","v":0},null,{"$f":"'مواقيت الأساتذة'!H346","v":0},null,{"$f":"'مواقيت الأساتذة'!H354","v":0},null,null,null,"سا10 -  سا11",{"$f":"'مواقيت الأساتذة'!H362","v":0},null,{"$f":"'مواقيت الأساتذة'!H370","v":0},null,{"$f":"'مواقيت الأساتذة'!H378","v":0},null,{"$f":"'مواقيت الأساتذة'!H386","v":0}]
[null,"سا11 -  سا12",{"$f":"'مواقيت الأساتذة'!H331","v":0},null,{"$f":"'مواقيت الأساتذة'!H339","v":0},null,{"$f":"'مواقيت الأساتذة'!H347","v":0},null,{"$f":"'مواقيت الأساتذة'!H355","v":0},null,null,null,"سا11 -  سا12",{"$f":"'مواقيت الأساتذة'!H363","v":0},null,{"$f":"'مواقيت الأساتذة'!H371","v":0},null,{"$f":"'مواقيت الأساتذة'!H379","v":0},null,{"$f":"'مواقيت الأساتذة'!H387","v":0}]
[null,"سا13 -  سا14",{"$f":"'مواقيت الأساتذة'!H332","v":0},null,{"$f":"'مواقيت الأساتذة'!H340","v":0},null,{"$f":"'مواقيت الأساتذة'!H348","v":0},null,{"$f":"'مواقيت الأساتذة'!H356","v":0},null,null,null,"سا13 -  سا14",{"$f":"'مواقيت الأساتذة'!H364","v":0},null,{"$f":"'مواقيت الأساتذة'!H372","v":0},null,{"$f":"'مواقيت الأساتذة'!H380","v":0},null,{"$f":"'مواقيت الأساتذة'!H388","v":0}]
[null,"سا14 -  سا15",{"$f":"'مواقيت الأساتذة'!H333","v":0},null,{"$f":"'مواقيت الأساتذة'!H341","v":0},null,{"$f":"'مواقيت الأساتذة'!H349","v":0},null,{"$f":"'مواقيت الأساتذة'!H357","v":0},null,null,null,"سا14 -  سا15",{"$f":"'مواقيت الأساتذة'!H365","v":0},null,{"$f":"'مواقيت الأساتذة'!H373","v":0},null,{"$f":"'مواقيت الأساتذة'!H381","v":0},null,{"$f":"'مواقيت الأساتذة'!H389","v":0}]
[null,"سا15 -  سا16",{"$f":"'مواقيت الأساتذة'!H334","v":0},null,{"$f":"'مواقيت الأساتذة'!H342","v":0},null,{"$f":"'مواقيت الأساتذة'!H350","v":0},null,{"$f":"'مواقيت الأساتذة'!H358","v":0},null,null,null,"سا15 -  سا16",{"$f":"'مواقيت الأساتذة'!H366","v":0},null,{"$f":"'مواقيت الأساتذة'!H374","v":0},null,{"$f":"'مواقيت الأساتذة'!H382","v":0},null,{"$f":"'مواقيت الأساتذة'!H390","v":0}]
[null,"سا16 -  سا17",{"$f":"'مواقيت الأساتذة'!H335","v":0},null,{"$f":"'مواقيت الأساتذة'!H343","v":0},null,{"$f":"'مواقيت الأساتذة'!H351","v":0},null,{"$f":"'مواقيت الأساتذة'!H359","v":0},null,null,null,"سا16 -  سا17",{"$f":"'مواقيت الأساتذة'!H367","v":0},null,{"$f":"'مواقيت الأساتذة'!H375","v":0},null,{"$f":"'مواقيت الأساتذة'!H383","v":0},null,{"$f":"'مواقيت الأساتذة'!H391","v":0}]
["الخميس","سا08  - سا09",{"$f":"'مواقيت الأساتذة'!I328","v":0},null,{"$f":"'مواقيت الأساتذة'!I336","v":0},null,{"$f":"'مواقيت الأساتذة'!I344","v":0},null,{"$f":"'مواقيت الأساتذة'!I352","v":0},null,null,"الخميس","سا08  - سا09",{"$f":"'مواقيت الأساتذة'!I360","v":0},null,{"$f":"'مواقيت الأساتذة'!I368","v":0},null,{"$f":"'مواقيت الأساتذة'!I376","v":0},null,{"$f":"'مواقيت الأساتذة'!I384","v":0}]
[null,"سا09  -  سا10",{"$f":"'مواقيت الأساتذة'!I329","v":0},null,{"$f":"'مواقيت الأساتذة'!I337","v":0},null,{"$f":"'مواقيت الأساتذة'!I345","v":0},null,{"$f":"'مواقيت الأساتذة'!I353","v":0},null,null,null,"سا09  -  سا10",{"$f":"'مواقيت الأساتذة'!I361","v":0},null,{"$f":"'مواقيت الأساتذة'!I369","v":0},null,{"$f":"'مواقيت الأساتذة'!I377","v":0},null,{"$f":"'مواقيت الأساتذة'!I385","v":0}]
[null,"سا10 -  سا11",{"$f":"'مواقيت الأساتذة'!I330","v":0},null,{"$f":"'مواقيت الأساتذة'!I338","v":0},null,{"$f":"'مواقيت الأساتذة'!I346","v":0},null,{"$f":"'مواقيت الأساتذة'!I354","v":0},null,null,null,"سا10 -  سا11",{"$f":"'مواقيت الأساتذة'!I362","v":0},null,{"$f":"'مواقيت الأساتذة'!I370","v":0},null,{"$f":"'مواقيت الأساتذة'!I378","v":0},null,{"$f":"'مواقيت الأساتذة'!I386","v":0}]
[null,"سا11 -  سا12",{"$f":"'مواقيت الأساتذة'!I331","v":0},null,{"$f":"'مواقيت الأساتذة'!I339","v":0},null,{"$f":"'مواقيت الأساتذة'!I347","v":0},null,{"$f":"'مواقيت الأساتذة'!I355","v":0},null,null,null,"سا11 -  سا12",{"$f":"'مواقيت الأساتذة'!I363","v":0},null,{"$f":"'مواقيت الأساتذة'!I371","v":0},null,{"$f":"'مواقيت الأساتذة'!I379","v":0},null,{"$f":"'مواقيت الأساتذة'!I387","v":0}]
[null,"سا13 -  سا14",{"$f":"'مواقيت الأساتذة'!I332","v":0},null,{"$f":"'مواقيت الأساتذة'!I340","v":0},null,{"$f":"'مواقيت الأساتذة'!I348","v":0},null,{"$f":"'مواقيت الأساتذة'!I356","v":0},null,null,null,"سا13 -  سا14",{"$f":"'مواقيت الأساتذة'!I364","v":0},null,{"$f":"'مواقيت الأساتذة'!I372","v":0},null,{"$f":"'مواقيت الأساتذة'!I380","v":0},null,{"$f":"'مواقيت الأساتذة'!I388","v":0}]
[null,"سا14 -  سا15",{"$f":"'مواقيت الأساتذة'!I333","v":0},null,{"$f":"'مواقيت الأساتذة'!I341","v":0},null,{"$f":"'مواقيت الأساتذة'!I349","v":0},null,{"$f":"'مواقيت الأساتذة'!I357","v":0},null,null,null,"سا14 -  سا15",{"$f":"'مواقيت الأساتذة'!I365","v":0},null,{"$f":"'مواقيت الأساتذة'!I373","v":0},null,{"$f":"'مواقيت الأساتذة'!I381","v":0},null,{"$f":"'مواقيت الأساتذة'!I389","v":0}]
[null,"سا15 -  سا16",{"$f":"'مواقيت الأساتذة'!I334","v":0},null,{"$f":"'مواقيت الأساتذة'!I342","v":0},null,{"$f":"'مواقيت الأساتذة'!I350","v":0},null,{"$f":"'مواقيت الأساتذة'!I358","v":0},null,null,null,"سا15 -  سا16",{"$f":"'مواقيت الأساتذة'!I366","v":0},null,{"$f":"'مواقيت الأساتذة'!I374","v":0},null,{"$f":"'مواقيت الأساتذة'!I382","v":0},null,{"$f":"'مواقيت الأساتذة'!I390","v":0}]
[null,"سا16 -  سا17",{"$f":"'مواقيت الأساتذة'!I335","v":0},null,{"$f":"'مواقيت الأساتذة'!I343","v":0},null,{"$f":"'مواقيت الأساتذة'!I351","v":0},null,{"$f":"'مواقيت الأساتذة'!I359","v":0},null,null,null,"سا16 -  سا17",{"$f":"'مواقيت الأساتذة'!I367","v":0},null,{"$f":"'مواقيت الأساتذة'!I375","v":0},null,{"$f":"'مواقيت الأساتذة'!I383","v":0},null,{"$f":"'مواقيت الأساتذة'!I391","v":0}]
[]
[]
[]
[]
[]
[]
[]
[]
[]
["الأيام","المواقيت","السيد (ة)",{"$f":"'مواقيت الأساتذة'!B392","v":0},"السيد (ة)",{"$f":"'مواقيت الأساتذة'!B400","v":0},"السيد (ة)",{"$f":"'مواقيت الأساتذة'!B408","v":0},"السيد (ة)",{"$f":"'مواقيت الأساتذة'!B416","v":0},null,"الأيام","المواقيت","السيد (ة)",{"$f":"'مواقيت الأساتذة'!B424","v":0},"السيد (ة)",{"$f":"'مواقيت الأساتذة'!B432","v":0},"السيد (ة)",{"$f":"'مواقيت الأساتذة'!B440","v":0},"السيد (ة)",{"$f":"'مواقيت الأساتذة'!B448","v":0}]
[null,null,"أستاذ (ة) في",{"$f":"'اسناد الأقسام'!A55","v":0},"أستاذ (ة) في",{"$f":"'اسناد الأقسام'!A56","v":0},"أستاذ (ة) في",{"$f":"'اسناد الأقسام'!A57","v":0},"أستاذ (ة) في",{"$f":"'اسناد الأقسام'!A58","v":0},null,null,null,"أستاذ (ة) في",{"$f":"'اسناد الأقسام'!A59","v":0},"أستاذ (ة) في",{"$f":"'اسناد الأقسام'!A60","v":0},"أستاذ (ة) في",{"$f":"'اسناد الأقسام'!A61","v":0},"أستاذ (ة) في",{"$f":"'اسناد الأقسام'!A62","v":0}]
[null,null,"القسم","المادة المدروسة","القسم","المادة المدروسة","القسم","المادة المدروسة","القسم","المادة المدروسة",null,null,null,"القسم","المادة المدروسة","القسم","المادة المدروسة","القسم","المادة المدروسة","القسم","المادة المدروسة"]
["الأحــــــــد","سا08  - سا09",{"$f":"'مواقيت الأساتذة'!E392","v":0},null,{"$f":"'مواقيت الأساتذة'!E400","v":0},null,{"$f":"'مواقيت الأساتذة'!E408","v":0},null,{"$f":"'مواقيت الأساتذة'!E416","v":0},null,null,"الأحــــــــد","سا08  - سا09",{"$f":"'مواقيت الأساتذة'!E424","v":0},null,{"$f":"'مواقيت الأساتذة'!E432","v":0},null,{"$f":"'مواقيت الأساتذة'!E440","v":0},null,{"$f":"'مواقيت الأساتذة'!E448","v":0}]
[null,"سا09  -  سا10",{"$f":"'مواقيت الأساتذة'!E393","v":0},null,{"$f":"'مواقيت الأساتذة'!E401","v":0},null,{"$f":"'مواقيت الأساتذة'!E409","v":0},null,{"$f":"'مواقيت الأساتذة'!E417","v":0},null,null,null,"سا09  -  سا10",{"$f":"'مواقيت الأساتذة'!E425","v":0},null,{"$f":"'مواقيت الأساتذة'!E433","v":0},null,{"$f":"'مواقيت الأساتذة'!E441","v":0},null,{"$f":"'مواقيت الأساتذة'!E449","v":0}]
[null,"سا10 -  سا11",{"$f":"'مواقيت الأساتذة'!E394","v":0},null,{"$f":"'مواقيت الأساتذة'!E402","v":0},null,{"$f":"'مواقيت الأساتذة'!E410","v":0},null,{"$f":"'مواقيت الأساتذة'!E418","v":0},null,null,null,"سا10 -  سا11",{"$f":"'مواقيت الأساتذة'!E426","v":0},null,{"$f":"'مواقيت الأساتذة'!E434","v":0},null,{"$f":"'مواقيت الأساتذة'!E442","v":0},null,{"$f":"'مواقيت الأساتذة'!E450","v":0}]
[null,"سا11 -  سا12",{"$f":"'مواقيت الأساتذة'!E395","v":0},null,{"$f":"'مواقيت الأساتذة'!E403","v":0},null,{"$f":"'مواقيت الأساتذة'!E411","v":0},null,{"$f":"'مواقيت الأساتذة'!E419","v":0},null,null,null,"سا11 -  سا12",{"$f":"'مواقيت الأساتذة'!E427","v":0},null,{"$f":"'مواقيت الأساتذة'!E435","v":0},null,{"$f":"'مواقيت الأساتذة'!E443","v":0},null,{"$f":"'مواقيت الأساتذة'!E451","v":0}]
[null,"سا13 -  سا14",{"$f":"'مواقيت الأساتذة'!E396","v":0},null,{"$f":"'مواقيت الأساتذة'!E404","v":0},null,{"$f":"'مواقيت الأساتذة'!E412","v":0},null,{"$f":"'مواقيت الأساتذة'!E420","v":0},null,null,null,"سا13 -  سا14",{"$f":"'مواقيت الأساتذة'!E428","v":0},null,{"$f":"'مواقيت الأساتذة'!E436","v":0},null,{"$f":"'مواقيت الأساتذة'!E444","v":0},null,{"$f":"'مواقيت الأساتذة'!E452","v":0}]
[null,"سا14 -  سا15",{"$f":"'مواقيت الأساتذة'!E397","v":0},null,{"$f":"'مواقيت الأساتذة'!E405","v":0},null,{"$f":"'مواقيت الأساتذة'!E413","v":0},null,{"$f":"'مواقيت الأساتذة'!E421","v":0},null,null,null,"سا14 -  سا15",{"$f":"'مواقيت الأساتذة'!E429","v":0},null,{"$f":"'مواقيت الأساتذة'!E437","v":0},null,{"$f":"'مواقيت الأساتذة'!E445","v":0},null,{"$f":"'مواقيت الأساتذة'!E453","v":0}]
[null,"سا15 -  سا16",{"$f":"'مواقيت الأساتذة'!E398","v":0},null,{"$f":"'مواقيت الأساتذة'!E406","v":0},null,{"$f":"'مواقيت الأساتذة'!E414","v":0},null,{"$f":"'مواقيت الأساتذة'!E422","v":0},null,null,null,"سا15 -  سا16",{"$f":"'مواقيت الأساتذة'!E430","v":0},null,{"$f":"'مواقيت الأساتذة'!E438","v":0},null,{"$f":"'مواقيت الأساتذة'!E446","v":0},null,{"$f":"'مواقيت الأساتذة'!E454","v":0}]
[null,"سا16 -  سا17",{"$f":"'مواقيت الأساتذة'!E399","v":0},null,{"$f":"'مواقيت الأساتذة'!E407","v":0},null,{"$f":"'مواقيت الأساتذة'!E415","v":0},null,{"$f":"'مواقيت الأساتذة'!E423","v":0},null,null,null,"سا16 -  سا17",{"$f":"'مواقيت الأساتذة'!E431","v":0},null,{"$f":"'مواقيت الأساتذة'!E439","v":0},null,{"$f":"'مواقيت الأساتذة'!E447","v":0},null,{"$f":"'مواقيت الأساتذة'!E455","v":0}]
["الإثنين","سا08  - سا09",{"$f":"'مواقيت الأساتذة'!F392","v":0},null,{"$f":"'مواقيت الأساتذة'!F400","v":0},null,{"$f":"'مواقيت الأساتذة'!F408","v":0},null,{"$f":"'مواقيت الأساتذة'!F416","v":0},null,null,"الإثنين","سا08  - سا09",{"$f":"'مواقيت الأساتذة'!F424","v":0},null,{"$f":"'مواقيت الأساتذة'!F432","v":0},null,{"$f":"'مواقيت الأساتذة'!F440","v":0},null,{"$f":"'مواقيت الأساتذة'!F448","v":0}]
[null,"سا09  -  سا10",{"$f":"'مواقيت الأساتذة'!F393","v":0},null,{"$f":"'مواقيت الأساتذة'!F401","v":0},null,{"$f":"'مواقيت الأساتذة'!F409","v":0},null,{"$f":"'مواقيت الأساتذة'!F417","v":0},null,null,null,"سا09  -  سا10",{"$f":"'مواقيت الأساتذة'!F425","v":0},null,{"$f":"'مواقيت الأساتذة'!F433","v":0},null,{"$f":"'مواقيت الأساتذة'!F441","v":0},null,{"$f":"'مواقيت الأساتذة'!F449","v":0}]
[null,"سا10 -  سا11",{"$f":"'مواقيت الأساتذة'!F394","v":0},null,{"$f":"'مواقيت الأساتذة'!F402","v":0},null,{"$f":"'مواقيت الأساتذة'!F410","v":0},null,{"$f":"'مواقيت الأساتذة'!F418","v":0},null,null,null,"سا10 -  سا11",{"$f":"'مواقيت الأساتذة'!F426","v":0},null,{"$f":"'مواقيت الأساتذة'!F434","v":0},null,{"$f":"'مواقيت الأساتذة'!F442","v":0},null,{"$f":"'مواقيت الأساتذة'!F450","v":0}]
[null,"سا11 -  سا12",{"$f":"'مواقيت الأساتذة'!F395","v":0},null,{"$f":"'مواقيت الأساتذة'!F403","v":0},null,{"$f":"'مواقيت الأساتذة'!F411","v":0},null,{"$f":"'مواقيت الأساتذة'!F419","v":0},null,null,null,"سا11 -  سا12",{"$f":"'مواقيت الأساتذة'!F427","v":0},null,{"$f":"'مواقيت الأساتذة'!F435","v":0},null,{"$f":"'مواقيت الأساتذة'!F443","v":0},null,{"$f":"'مواقيت الأساتذة'!F451","v":0}]
[null,"سا13 -  سا14",{"$f":"'مواقيت الأساتذة'!F396","v":0},null,{"$f":"'مواقيت الأساتذة'!F404","v":0},null,{"$f":"'مواقيت الأساتذة'!F412","v":0},null,{"$f":"'مواقيت الأساتذة'!F420","v":0},null,null,null,"سا13 -  سا14",{"$f":"'مواقيت الأساتذة'!F428","v":0},null,{"$f":"'مواقيت الأساتذة'!F436","v":0},null,{"$f":"'مواقيت الأساتذة'!F444","v":0},null,{"$f":"'مواقيت الأساتذة'!F452","v":0}]
[null,"سا14 -  سا15",{"$f":"'مواقيت الأساتذة'!F397","v":0},null,{"$f":"'مواقيت الأساتذة'!F405","v":0},null,{"$f":"'مواقيت الأساتذة'!F413","v":0},null,{"$f":"'مواقيت الأساتذة'!F421","v":0},null,null,null,"سا14 -  سا15",{"$f":"'مواقيت الأساتذة'!F429","v":0},null,{"$f":"'مواقيت الأساتذة'!F437","v":0},null,{"$f":"'مواقيت الأساتذة'!F445","v":0},null,{"$f":"'مواقيت الأساتذة'!F453","v":0}]
[null,"سا15 -  سا16",{"$f":"'مواقيت الأساتذة'!F398","v":0},null,{"$f":"'مواقيت الأساتذة'!F406","v":0},null,{"$f":"'مواقيت الأساتذة'!F414","v":0},null,{"$f":"'مواقيت الأساتذة'!F422","v":0},null,null,null,"سا15 -  سا16",{"$f":"'مواقيت الأساتذة'!F430","v":0},null,{"$f":"'مواقيت الأساتذة'!F438","v":0},null,{"$f":"'مواقيت الأساتذة'!F446","v":0},null,{"$f":"'مواقيت الأساتذة'!F454","v":0}]
[null,"سا16 -  سا17",{"$f":"'مواقيت الأساتذة'!F399","v":0},null,{"$f":"'مواقيت الأساتذة'!F407","v":0},null,{"$f":"'مواقيت الأساتذة'!F415","v":0},null,{"$f":"'مواقيت الأساتذة'!F423","v":0},null,null,null,"سا16 -  سا17",{"$f":"'مواقيت الأساتذة'!F431","v":0},null,{"$f":"'مواقيت الأساتذة'!F439","v":0},null,{"$f":"'مواقيت الأساتذة'!F447","v":0},null,{"$f":"'مواقيت الأساتذة'!F455","v":0}]
["الثلاثاء","سا08  - سا09",{"$f":"'مواقيت الأساتذة'!G392","v":0},null,{"$f":"'مواقيت الأساتذة'!G400","v":0},null,{"$f":"'مواقيت الأساتذة'!G408","v":0},null,{"$f":"'مواقيت الأساتذة'!G416","v":0},null,null,"الثلاثاء","سا08  - سا09",{"$f":"'مواقيت الأساتذة'!G424","v":0},null,{"$f":"'مواقيت الأساتذة'!G432","v":0},null,{"$f":"'مواقيت الأساتذة'!G440","v":0},null,{"$f":"'مواقيت الأساتذة'!G448","v":0}]
[null,"سا09  -  سا10",{"$f":"'مواقيت الأساتذة'!G393","v":0},null,{"$f":"'مواقيت الأساتذة'!G401","v":0},null,{"$f":"'مواقيت الأساتذة'!G409","v":0},null,{"$f":"'مواقيت الأساتذة'!G417","v":0},null,null,null,"سا09  -  سا10",{"$f":"'مواقيت الأساتذة'!G425","v":0},null,{"$f":"'مواقيت الأساتذة'!G433","v":0},null,{"$f":"'مواقيت الأساتذة'!G441","v":0},null,{"$f":"'مواقيت الأساتذة'!G449","v":0}]
[null,"سا10 -  سا11",{"$f":"'مواقيت الأساتذة'!G394","v":0},null,{"$f":"'مواقيت الأساتذة'!G402","v":0},null,{"$f":"'مواقيت الأساتذة'!G410","v":0},null,{"$f":"'مواقيت الأساتذة'!G418","v":0},null,null,null,"سا10 -  سا11",{"$f":"'مواقيت الأساتذة'!G426","v":0},null,{"$f":"'مواقيت الأساتذة'!G434","v":0},null,{"$f":"'مواقيت الأساتذة'!G442","v":0},null,{"$f":"'مواقيت الأساتذة'!G450","v":0}]
[null,"سا11 -  سا12",{"$f":"'مواقيت الأساتذة'!G395","v":0},null,{"$f":"'مواقيت الأساتذة'!G403","v":0},null,{"$f":"'مواقيت الأساتذة'!G411","v":0},null,{"$f":"'مواقيت الأساتذة'!G419","v":0},null,null,null,"سا11 -  سا12",{"$f":"'مواقيت الأساتذة'!G427","v":0},null,{"$f":"'مواقيت الأساتذة'!G435","v":0},null,{"$f":"'مواقيت الأساتذة'!G443","v":0},null,{"$f":"'مواقيت الأساتذة'!G451","v":0}]
[null,"سا13 -  سا14",{"$f":"'مواقيت الأساتذة'!G396","v":0},null,{"$f":"'مواقيت الأساتذة'!G404","v":0},null,{"$f":"'مواقيت الأساتذة'!G412","v":0},null,{"$f":"'مواقيت الأساتذة'!G420","v":0},null,null,null,"سا13 -  سا14",{"$f":"'مواقيت الأساتذة'!G428","v":0},null,{"$f":"'مواقيت الأساتذة'!G436","v":0},null,{"$f":"'مواقيت الأساتذة'!G444","v":0},null,{"$f":"'مواقيت الأساتذة'!G452","v":0}]
[null,"سا14 -  سا15",{"$f":"'مواقيت الأساتذة'!G397","v":0},null,{"$f":"'مواقيت الأساتذة'!G405","v":0},null,{"$f":"'مواقيت الأساتذة'!G413","v":0},null,{"$f":"'مواقيت الأساتذة'!G421","v":0},null,null,null,"سا14 -  سا15",{"$f":"'مواقيت الأساتذة'!G429","v":0},null,{"$f":"'مواقيت الأساتذة'!G437","v":0},null,{"$f":"'مواقيت الأساتذة'!G445","v":0},null,{"$f":"'مواقيت الأساتذة'!G453","v":0}]
[null,"سا15 -  سا16",{"$f":"'مواقيت الأساتذة'!G398","v":0},null,{"$f":"'مواقيت الأساتذة'!G406","v":0},null,{"$f":"'مواقيت الأساتذة'!G414","v":0},null,{"$f":"'مواقيت الأساتذة'!G422","v":0},null,null,null,"سا15 -  سا16",{"$f":"'مواقيت الأساتذة'!G430","v":0},null,{"$f":"'مواقيت الأساتذة'!G438","v":0},null,{"$f":"'مواقيت الأساتذة'!G446","v":0},null,{"$f":"'مواقيت الأساتذة'!G454","v":0}]
[null,"سا16 -  سا17",{"$f":"'مواقيت الأساتذة'!G399","v":0},null,{"$f":"'مواقيت الأساتذة'!G407","v":0},null,{"$f":"'مواقيت الأساتذة'!G415","v":0},null,{"$f":"'مواقيت الأساتذة'!G423","v":0},null,null,null,"سا16 -  سا17",{"$f":"'مواقيت الأساتذة'!G431","v":0},null,{"$f":"'مواقيت الأساتذة'!G439","v":0},null,{"$f":"'مواقيت الأساتذة'!G447","v":0},null,{"$f":"'مواقيت الأساتذة'!G455","v":0}]
["الأربعاء","سا08  - سا09",{"$f":"'مواقيت الأساتذة'!H392","v":0},null,{"$f":"'مواقيت الأساتذة'!H400","v":0},null,{"$f":"'مواقيت الأساتذة'!H408","v":0},null,{"$f":"'مواقيت الأساتذة'!H416","v":0},null,null,"الأربعاء","سا08  - سا09",{"$f":"'مواقيت الأساتذة'!H424","v":0},null,{"$f":"'مواقيت الأساتذة'!H432","v":0},null,{"$f":"'مواقيت الأساتذة'!H440","v":0},null,{"$f":"'مواقيت الأساتذة'!H448","v":0}]
[null,"سا09  -  سا10",{"$f":"'مواقيت الأساتذة'!H393","v":0},null,{"$f":"'مواقيت الأساتذة'!H401","v":0},null,{"$f":"'مواقيت الأساتذة'!H409","v":0},null,{"$f":"'مواقيت الأساتذة'!H417","v":0},null,null,null,"سا09  -  سا10",{"$f":"'مواقيت الأساتذة'!H425","v":0},null,{"$f":"'مواقيت الأساتذة'!H433","v":0},null,{"$f":"'مواقيت الأساتذة'!H441","v":0},null,{"$f":"'مواقيت الأساتذة'!H449","v":0}]
[null,"سا10 -  سا11",{"$f":"'مواقيت الأساتذة'!H394","v":0},null,{"$f":"'مواقيت الأساتذة'!H402","v":0},null,{"$f":"'مواقيت الأساتذة'!H410","v":0},null,{"$f":"'مواقيت الأساتذة'!H418","v":0},null,null,null,"سا10 -  سا11",{"$f":"'مواقيت الأساتذة'!H426","v":0},null,{"$f":"'مواقيت الأساتذة'!H434","v":0},null,{"$f":"'مواقيت الأساتذة'!H442","v":0},null,{"$f":"'مواقيت الأساتذة'!H450","v":0}]
[null,"سا11 -  سا12",{"$f":"'مواقيت الأساتذة'!H395","v":0},null,{"$f":"'مواقيت الأساتذة'!H403","v":0},null,{"$f":"'مواقيت الأساتذة'!H411","v":0},null,{"$f":"'مواقيت الأساتذة'!H419","v":0},null,null,null,"سا11 -  سا12",{"$f":"'مواقيت الأساتذة'!H427","v":0},null,{"$f":"'مواقيت الأساتذة'!H435","v":0},null,{"$f":"'مواقيت الأساتذة'!H443","v":0},null,{"$f":"'مواقيت الأساتذة'!H451","v":0}]
[null,"سا13 -  سا14",{"$f":"'مواقيت الأساتذة'!H396","v":0},null,{"$f":"'مواقيت الأساتذة'!H404","v":0},null,{"$f":"'مواقيت الأساتذة'!H412","v":0},null,{"$f":"'مواقيت الأساتذة'!H420","v":0},null,null,null,"سا13 -  سا14",{"$f":"'مواقيت الأساتذة'!H428","v":0},null,{"$f":"'مواقيت الأساتذة'!H436","v":0},null,{"$f":"'مواقيت الأساتذة'!H444","v":0},null,{"$f":"'مواقيت الأساتذة'!H452","v":0}]
[null,"سا14 -  سا15",{"$f":"'مواقيت الأساتذة'!H397","v":0},null,{"$f":"'مواقيت الأساتذة'!H405","v":0},null,{"$f":"'مواقيت الأساتذة'!H413","v":0},null,{"$f":"'مواقيت الأساتذة'!H421","v":0},null,null,null,"سا14 -  سا15",{"$f":"'مواقيت الأساتذة'!H429","v":0},null,{"$f":"'مواقيت الأساتذة'!H437","v":0},null,{"$f":"'مواقيت الأساتذة'!H445","v":0},null,{"$f":"'مواقيت الأساتذة'!H453","v":0}]
[null,"سا15 -  سا16",{"$f":"'مواقيت الأساتذة'!H398","v":0},null,{"$f":"'مواقيت الأساتذة'!H406","v":0},null,{"$f":"'مواقيت الأساتذة'!H414","v":0},null,{"$f":"'مواقيت الأساتذة'!H422","v":0},null,null,null,"سا15 -  سا16",{"$f":"'مواقيت الأساتذة'!H430","v":0},null,{"$f":"'مواقيت الأساتذة'!H438","v":0},null,{"$f":"'مواقيت الأساتذة'!H446","v":0},null,{"$f":"'مواقيت الأساتذة'!H454","v":0}]
[null,"سا16 -  سا17",{"$f":"'مواقيت الأساتذة'!H399","v":0},null,{"$f":"'مواقيت الأساتذة'!H407","v":0},null,{"$f":"'مواقيت الأساتذة'!H415","v":0},null,{"$f":"'مواقيت الأساتذة'!H423","v":0},null,null,null,"سا16 -  سا17",{"$f":"'مواقيت الأساتذة'!H431","v":0},null,{"$f":"'مواقيت الأساتذة'!H439","v":0},null,{"$f":"'مواقيت الأساتذة'!H447","v":0},null,{"$f":"'مواقيت الأساتذة'!H455","v":0}]
["الخميس","سا08  - سا09",{"$f":"'مواقيت الأساتذة'!I392","v":0},null,{"$f":"'مواقيت الأساتذة'!I400","v":0},null,{"$f":"'مواقيت الأساتذة'!I408","v":0},null,{"$f":"'مواقيت الأساتذة'!I416","v":0},null,null,"الخميس","سا08  - سا09",{"$f":"'مواقيت الأساتذة'!I424","v":0},null,{"$f":"'مواقيت الأساتذة'!I432","v":0},null,{"$f":"'مواقيت الأساتذة'!I440","v":0},null,{"$f":"'مواقيت الأساتذة'!I448","v":0}]
[null,"سا09  -  سا10",{"$f":"'مواقيت الأساتذة'!I393","v":0},null,{"$f":"'مواقيت الأساتذة'!I401","v":0},null,{"$f":"'مواقيت الأساتذة'!I409","v":0},null,{"$f":"'مواقيت الأساتذة'!I417","v":0},null,null,null,"سا09  -  سا10",{"$f":"'مواقيت الأساتذة'!I425","v":0},null,{"$f":"'مواقيت الأساتذة'!I433","v":0},null,{"$f":"'مواقيت الأساتذة'!I441","v":0},null,{"$f":"'مواقيت الأساتذة'!I449","v":0}]
[null,"سا10 -  سا11",{"$f":"'مواقيت الأساتذة'!I394","v":0},null,{"$f":"'مواقيت الأساتذة'!I402","v":0},null,{"$f":"'مواقيت الأساتذة'!I410","v":0},null,{"$f":"'مواقيت الأساتذة'!I418","v":0},null,null,null,"سا10 -  سا11",{"$f":"'مواقيت الأساتذة'!I426","v":0},null,{"$f":"'مواقيت الأساتذة'!I434","v":0},null,{"$f":"'مواقيت الأساتذة'!I442","v":0},null,{"$f":"'مواقيت الأساتذة'!I450","v":0}]
[null,"سا11 -  سا12",{"$f":"'مواقيت الأساتذة'!I395","v":0},null,{"$f":"'مواقيت الأساتذة'!I403","v":0},null,{"$f":"'مواقيت الأساتذة'!I411","v":0},null,{"$f":"'مواقيت الأساتذة'!I419","v":0},null,null,null,"سا11 -  سا12",{"$f":"'مواقيت الأساتذة'!I427","v":0},null,{"$f":"'مواقيت الأساتذة'!I435","v":0},null,{"$f":"'مواقيت الأساتذة'!I443","v":0},null,{"$f":"'مواقيت الأساتذة'!I451","v":0}]
[null,"سا13 -  سا14",{"$f":"'مواقيت الأساتذة'!I396","v":0},null,{"$f":"'مواقيت الأساتذة'!I404","v":0},null,{"$f":"'مواقيت الأساتذة'!I412","v":0},null,{"$f":"'مواقيت الأساتذة'!I420","v":0},null,null,null,"سا13 -  سا14",{"$f":"'مواقيت الأساتذة'!I428","v":0},null,{"$f":"'مواقيت الأساتذة'!I436","v":0},null,{"$f":"'مواقيت الأساتذة'!I444","v":0},null,{"$f":"'مواقيت الأساتذة'!I452","v":0}]
[null,"سا14 -  سا15",{"$f":"'مواقيت الأساتذة'!I397","v":0},null,{"$f":"'مواقيت الأساتذة'!I405","v":0},null,{"$f":"'مواقيت الأساتذة'!I413","v":0},null,{"$f":"'مواقيت الأساتذة'!I421","v":0},null,null,null,"سا14 -  سا15",{"$f":"'مواقيت الأساتذة'!I429","v":0},null,{"$f":"'مواقيت الأساتذة'!I437","v":0},null,{"$f":"'مواقيت الأساتذة'!I445","v":0},null,{"$f":"'مواقيت الأساتذة'!I453","v":0}]
[null,"سا15 -  سا16",{"$f":"'مواقيت الأساتذة'!I398","v":0},null,{"$f":"'مواقيت الأساتذة'!I406","v":0},null,{"$f":"'مواقيت الأساتذة'!I414","v":0},null,{"$f":"'مواقيت الأساتذة'!I422","v":0},null,null,null,"سا15 -  سا16",{"$f":"'مواقيت الأساتذة'!I430","v":0},null,{"$f":"'مواقيت الأساتذة'!I438","v":0},null,{"$f":"'مواقيت الأساتذة'!I446","v":0},null,{"$f":"'مواقيت الأساتذة'!I454","v":0}]
[null,"سا16 -  سا17",{"$f":"'مواقيت الأساتذة'!I399","v":0},null,{"$f":"'مواقيت الأساتذة'!I407","v":0},null,{"$f":"'مواقيت الأساتذة'!I415","v":0},null,{"$f":"'مواقيت الأساتذة'!I423","v":0},null,null,null,"سا16 -  سا17",{"$f":"'مواقيت الأساتذة'!I431","v":0},null,{"$f":"'مواقيت الأساتذة'!I439","v":0},null,{"$f":"'مواقيت الأساتذة'!I447","v":0},null,{"$f":"'مواقيت الأساتذة'!I455","v":0}]
[]
[]
[]
[]
[]
[]
[]
[]
[]
["الأيام","المواقيت","السيد (ة)",{"$f":"'مواقيت الأساتذة'!B456","v":0},"السيد (ة)",{"$f":"'مواقيت الأساتذة'!B464","v":0},"السيد (ة)",{"$f":"'مواقيت الأساتذة'!B472","v":0},"السيد (ة)",{"$f":"'مواقيت الأساتذة'!B480","v":0},null,"الأيام","المواقيت","السيد (ة)",{"$f":"'مواقيت الأساتذة'!B488","v":0},"السيد (ة)",{"$f":"'مواقيت الأساتذة'!B496","v":0},"السيد (ة)",{"$f":"'مواقيت الأساتذة'!B504","v":0},"السيد (ة)",{"$f":"'مواقيت الأساتذة'!B512","v":0}]
[null,null,"أستاذ (ة) في",{"$f":"'اسناد الأقسام'!A63","v":0},"أستاذ (ة) في",{"$f":"'اسناد الأقسام'!A64","v":0},"أستاذ (ة) في",{"$f":"'اسناد الأقسام'!A65","v":0},"أستاذ (ة) في",{"$f":"'اسناد الأقسام'!A66","v":0},null,null,null,"أستاذ (ة) في",{"$f":"'اسناد الأقسام'!A67","v":0},"أستاذ (ة) في",{"$f":"'اسناد الأقسام'!A68","v":0},"أستاذ (ة) في",{"$f":"'اسناد الأقسام'!A69","v":0},"أستاذ (ة) في",{"$f":"'اسناد الأقسام'!A70","v":0}]
[null,null,"القسم","المادة المدروسة","القسم","المادة المدروسة","القسم","المادة المدروسة","القسم","المادة المدروسة",null,null,null,"القسم","المادة المدروسة","القسم","المادة المدروسة","القسم","المادة المدروسة","القسم","المادة المدروسة"]
["الأحــــــــد","سا08  - سا09",{"$f":"'مواقيت الأساتذة'!E456","v":0},null,{"$f":"'مواقيت الأساتذة'!E464","v":0},null,{"$f":"'مواقيت الأساتذة'!E472","v":0},null,{"$f":"'مواقيت الأساتذة'!E480","v":0},null,null,"الأحــــــــد","سا08  - سا09",{"$f":"'مواقيت الأساتذة'!E488","v":0},null,{"$f":"'مواقيت الأساتذة'!E496","v":0},null,{"$f":"'مواقيت الأساتذة'!E504","v":0},null,{"$f":"'مواقيت الأساتذة'!E512","v":0}]
[null,"سا09  -  سا10",{"$f":"'مواقيت الأساتذة'!E457","v":0},null,{"$f":"'مواقيت الأساتذة'!E465","v":0},null,{"$f":"'مواقيت الأساتذة'!E473","v":0},null,{"$f":"'مواقيت الأساتذة'!E481","v":0},null,null,null,"سا09  -  سا10",{"$f":"'مواقيت الأساتذة'!E489","v":0},null,{"$f":"'مواقيت الأساتذة'!E497","v":0},null,{"$f":"'مواقيت الأساتذة'!E505","v":0},null,{"$f":"'مواقيت الأساتذة'!E513","v":0}]
[null,"سا10 -  سا11",{"$f":"'مواقيت الأساتذة'!E458","v":0},null,{"$f":"'مواقيت الأساتذة'!E466","v":0},null,{"$f":"'مواقيت الأساتذة'!E474","v":0},null,{"$f":"'مواقيت الأساتذة'!E482","v":0},null,null,null,"سا10 -  سا11",{"$f":"'مواقيت الأساتذة'!E490","v":0},null,{"$f":"'مواقيت الأساتذة'!E498","v":0},null,{"$f":"'مواقيت الأساتذة'!E506","v":0},null,{"$f":"'مواقيت الأساتذة'!E514","v":0}]
[null,"سا11 -  سا12",{"$f":"'مواقيت الأساتذة'!E459","v":0},null,{"$f":"'مواقيت الأساتذة'!E467","v":0},null,{"$f":"'مواقيت الأساتذة'!E475","v":0},null,{"$f":"'مواقيت الأساتذة'!E483","v":0},null,null,null,"سا11 -  سا12",{"$f":"'مواقيت الأساتذة'!E491","v":0},null,{"$f":"'مواقيت الأساتذة'!E499","v":0},null,{"$f":"'مواقيت الأساتذة'!E507","v":0},null,{"$f":"'مواقيت الأساتذة'!E515","v":0}]
[null,"سا13 -  سا14",{"$f":"'مواقيت الأساتذة'!E460","v":0},null,{"$f":"'مواقيت الأساتذة'!E468","v":0},null,{"$f":"'مواقيت الأساتذة'!E476","v":0},null,{"$f":"'مواقيت الأساتذة'!E484","v":0},null,null,null,"سا13 -  سا14",{"$f":"'مواقيت الأساتذة'!E492","v":0},null,{"$f":"'مواقيت الأساتذة'!E500","v":0},null,{"$f":"'مواقيت الأساتذة'!E508","v":0},null,{"$f":"'مواقيت الأساتذة'!E516","v":0}]
[null,"سا14 -  سا15",{"$f":"'مواقيت الأساتذة'!E461","v":0},null,{"$f":"'مواقيت الأساتذة'!E469","v":0},null,{"$f":"'مواقيت الأساتذة'!E477","v":0},null,{"$f":"'مواقيت الأساتذة'!E485","v":0},null,null,null,"سا14 -  سا15",{"$f":"'مواقيت الأساتذة'!E493","v":0},null,{"$f":"'مواقيت الأساتذة'!E501","v":0},null,{"$f":"'مواقيت الأساتذة'!E509","v":0},null,{"$f":"'مواقيت الأساتذة'!E517","v":0}]
[null,"سا15 -  سا16",{"$f":"'مواقيت الأساتذة'!E462","v":0},null,{"$f":"'مواقيت الأساتذة'!E470","v":0},null,{"$f":"'مواقيت الأساتذة'!E478","v":0},null,{"$f":"'مواقيت الأساتذة'!E486","v":0},null,null,null,"سا15 -  سا16",{"$f":"'مواقيت الأساتذة'!E494","v":0},null,{"$f":"'مواقيت الأساتذة'!E502","v":0},null,{"$f":"'مواقيت الأساتذة'!E510","v":0},null,{"$f":"'مواقيت الأساتذة'!E518","v":0}]
[null,"سا16 -  سا17",{"$f":"'مواقيت الأساتذة'!E463","v":0},null,{"$f":"'مواقيت الأساتذة'!E471","v":0},null,{"$f":"'مواقيت الأساتذة'!E479","v":0},null,{"$f":"'مواقيت الأساتذة'!E487","v":0},null,null,null,"سا16 -  سا17",{"$f":"'مواقيت الأساتذة'!E495","v":0},null,{"$f":"'مواقيت الأساتذة'!E503","v":0},null,{"$f":"'مواقيت الأساتذة'!E511","v":0},null,{"$f":"'مواقيت الأساتذة'!E519","v":0}]
["الإثنين","سا08  - سا09",{"$f":"'مواقيت الأساتذة'!F456","v":0},null,{"$f":"'مواقيت الأساتذة'!F464","v":0},null,{"$f":"'مواقيت الأساتذة'!F472","v":0},null,{"$f":"'مواقيت الأساتذة'!F480","v":0},null,null,"الإثنين","سا08  - سا09",{"$f":"'مواقيت الأساتذة'!F488","v":0},null,{"$f":"'مواقيت الأساتذة'!F496","v":0},null,{"$f":"'مواقيت الأساتذة'!F504","v":0},null,{"$f":"'مواقيت الأساتذة'!F512","v":0}]
[null,"سا09  -  سا10",{"$f":"'مواقيت الأساتذة'!F457","v":0},null,{"$f":"'مواقيت الأساتذة'!F465","v":0},null,{"$f":"'مواقيت الأساتذة'!F473","v":0},null,{"$f":"'مواقيت الأساتذة'!F481","v":0},null,null,null,"سا09  -  سا10",{"$f":"'مواقيت الأساتذة'!F489","v":0},null,{"$f":"'مواقيت الأساتذة'!F497","v":0},null,{"$f":"'مواقيت الأساتذة'!F505","v":0},null,{"$f":"'مواقيت الأساتذة'!F513","v":0}]
[null,"سا10 -  سا11",{"$f":"'مواقيت الأساتذة'!F458","v":0},null,{"$f":"'مواقيت الأساتذة'!F466","v":0},null,{"$f":"'مواقيت الأساتذة'!F474","v":0},null,{"$f":"'مواقيت الأساتذة'!F482","v":0},null,null,null,"سا10 -  سا11",{"$f":"'مواقيت الأساتذة'!F490","v":0},null,{"$f":"'مواقيت الأساتذة'!F498","v":0},null,{"$f":"'مواقيت الأساتذة'!F506","v":0},null,{"$f":"'مواقيت الأساتذة'!F514","v":0}]
[null,"سا11 -  سا12",{"$f":"'مواقيت الأساتذة'!F459","v":0},null,{"$f":"'مواقيت الأساتذة'!F467","v":0},null,{"$f":"'مواقيت الأساتذة'!F475","v":0},null,{"$f":"'مواقيت الأساتذة'!F483","v":0},null,null,null,"سا11 -  سا12",{"$f":"'مواقيت الأساتذة'!F491","v":0},null,{"$f":"'مواقيت الأساتذة'!F499","v":0},null,{"$f":"'مواقيت الأساتذة'!F507","v":0},null,{"$f":"'مواقيت الأساتذة'!F515","v":0}]
[null,"سا13 -  سا14",{"$f":"'مواقيت الأساتذة'!F460","v":0},null,{"$f":"'مواقيت الأساتذة'!F468","v":0},null,{"$f":"'مواقيت الأساتذة'!F476","v":0},null,{"$f":"'مواقيت الأساتذة'!F484","v":0},null,null,null,"سا13 -  سا14",{"$f":"'مواقيت الأساتذة'!F492","v":0},null,{"$f":"'مواقيت الأساتذة'!F500","v":0},null,{"$f":"'مواقيت الأساتذة'!F508","v":0},null,{"$f":"'مواقيت الأساتذة'!F516","v":0}]
[null,"سا14 -  سا15",{"$f":"'مواقيت الأساتذة'!F461","v":0},null,{"$f":"'مواقيت الأساتذة'!F469","v":0},null,{"$f":"'مواقيت الأساتذة'!F477","v":0},null,{"$f":"'مواقيت الأساتذة'!F485","v":0},null,null,null,"سا14 -  سا15",{"$f":"'مواقيت الأساتذة'!F493","v":0},null,{"$f":"'مواقيت الأساتذة'!F501","v":0},null,{"$f":"'مواقيت الأساتذة'!F509","v":0},null,{"$f":"'مواقيت الأساتذة'!F517","v":0}]
[null,"سا15 -  سا16",{"$f":"'مواقيت الأساتذة'!F462","v":0},null,{"$f":"'مواقيت الأساتذة'!F470","v":0},null,{"$f":"'مواقيت الأساتذة'!F478","v":0},null,{"$f":"'مواقيت الأساتذة'!F486","v":0},null,null,null,"سا15 -  سا16",{"$f":"'مواقيت الأساتذة'!F494","v":0},null,{"$f":"'مواقيت الأساتذة'!F502","v":0},null,{"$f":"'مواقيت الأساتذة'!F510","v":0},null,{"$f":"'مواقيت الأساتذة'!F518","v":0}]
[null,"سا16 -  سا17",{"$f":"'مواقيت الأساتذة'!F463","v":0},null,{"$f":"'مواقيت الأساتذة'!F471","v":0},null,{"$f":"'مواقيت الأساتذة'!F479","v":0},null,{"$f":"'مواقيت الأساتذة'!F487","v":0},null,null,null,"سا16 -  سا17",{"$f":"'مواقيت الأساتذة'!F495","v":0},null,{"$f":"'مواقيت الأساتذة'!F503","v":0},null,{"$f":"'مواقيت الأساتذة'!F511","v":0},null,{"$f":"'مواقيت الأساتذة'!F519","v":0}]
["الثلاثاء","سا08  - سا09",{"$f":"'مواقيت الأساتذة'!G456","v":0},null,{"$f":"'مواقيت الأساتذة'!G464","v":0},null,{"$f":"'مواقيت الأساتذة'!G472","v":0},null,{"$f":"'مواقيت الأساتذة'!G480","v":0},null,null,"الثلاثاء","سا08  - سا09",{"$f":"'مواقيت الأساتذة'!G488","v":0},null,{"$f":"'مواقيت الأساتذة'!G496","v":0},null,{"$f":"'مواقيت الأساتذة'!G504","v":0},null,{"$f":"'مواقيت الأساتذة'!G512","v":0}]
[null,"سا09  -  سا10",{"$f":"'مواقيت الأساتذة'!G457","v":0},null,{"$f":"'مواقيت الأساتذة'!G465","v":0},null,{"$f":"'مواقيت الأساتذة'!G473","v":0},null,{"$f":"'مواقيت الأساتذة'!G481","v":0},null,null,null,"سا09  -  سا10",{"$f":"'مواقيت الأساتذة'!G489","v":0},null,{"$f":"'مواقيت الأساتذة'!G497","v":0},null,{"$f":"'مواقيت الأساتذة'!G505","v":0},null,{"$f":"'مواقيت الأساتذة'!G513","v":0}]
[null,"سا10 -  سا11",{"$f":"'مواقيت الأساتذة'!G458","v":0},null,{"$f":"'مواقيت الأساتذة'!G466","v":0},null,{"$f":"'مواقيت الأساتذة'!G474","v":0},null,{"$f":"'مواقيت الأساتذة'!G482","v":0},null,null,null,"سا10 -  سا11",{"$f":"'مواقيت الأساتذة'!G490","v":0},null,{"$f":"'مواقيت الأساتذة'!G498","v":0},null,{"$f":"'مواقيت الأساتذة'!G506","v":0},null,{"$f":"'مواقيت الأساتذة'!G514","v":0}]
[null,"سا11 -  سا12",{"$f":"'مواقيت الأساتذة'!G459","v":0},null,{"$f":"'مواقيت الأساتذة'!G467","v":0},null,{"$f":"'مواقيت الأساتذة'!G475","v":0},null,{"$f":"'مواقيت الأساتذة'!G483","v":0},null,null,null,"سا11 -  سا12",{"$f":"'مواقيت الأساتذة'!G491","v":0},null,{"$f":"'مواقيت الأساتذة'!G499","v":0},null,{"$f":"'مواقيت الأساتذة'!G507","v":0},null,{"$f":"'مواقيت الأساتذة'!G515","v":0}]
[null,"سا13 -  سا14",{"$f":"'مواقيت الأساتذة'!G460","v":0},null,{"$f":"'مواقيت الأساتذة'!G468","v":0},null,{"$f":"'مواقيت الأساتذة'!G476","v":0},null,{"$f":"'مواقيت الأساتذة'!G484","v":0},null,null,null,"سا13 -  سا14",{"$f":"'مواقيت الأساتذة'!G492","v":0},null,{"$f":"'مواقيت الأساتذة'!G500","v":0},null,{"$f":"'مواقيت الأساتذة'!G508","v":0},null,{"$f":"'مواقيت الأساتذة'!G516","v":0}]
[null,"سا14 -  سا15",{"$f":"'مواقيت الأساتذة'!G461","v":0},null,{"$f":"'مواقيت الأساتذة'!G469","v":0},null,{"$f":"'مواقيت الأساتذة'!G477","v":0},null,{"$f":"'مواقيت الأساتذة'!G485","v":0},null,null,null,"سا14 -  سا15",{"$f":"'مواقيت الأساتذة'!G493","v":0},null,{"$f":"'مواقيت الأساتذة'!G501","v":0},null,{"$f":"'مواقيت الأساتذة'!G509","v":0},null,{"$f":"'مواقيت الأساتذة'!G517","v":0}]
[null,"سا15 -  سا16",{"$f":"'مواقيت الأساتذة'!G462","v":0},null,{"$f":"'مواقيت الأساتذة'!G470","v":0},null,{"$f":"'مواقيت الأساتذة'!G478","v":0},null,{"$f":"'مواقيت الأساتذة'!G486","v":0},null,null,null,"سا15 -  سا16",{"$f":"'مواقيت الأساتذة'!G494","v":0},null,{"$f":"'مواقيت الأساتذة'!G502","v":0},null,{"$f":"'مواقيت الأساتذة'!G510","v":0},null,{"$f":"'مواقيت الأساتذة'!G518","v":0}]
[null,"سا16 -  سا17",{"$f":"'مواقيت الأساتذة'!G463","v":0},null,{"$f":"'مواقيت الأساتذة'!G471","v":0},null,{"$f":"'مواقيت الأساتذة'!G479","v":0},null,{"$f":"'مواقيت الأساتذة'!G487","v":0},null,null,null,"سا16 -  سا17",{"$f":"'مواقيت الأساتذة'!G495","v":0},null,{"$f":"'مواقيت الأساتذة'!G503","v":0},null,{"$f":"'مواقيت الأساتذة'!G511","v":0},null,{"$f":"'مواقيت الأساتذة'!G519","v":0}]
["الأربعاء","سا08  - سا09",{"$f":"'مواقيت الأساتذة'!H456","v":0},null,{"$f":"'مواقيت الأساتذة'!H464","v":0},null,{"$f":"'مواقيت الأساتذة'!H472","v":0},null,{"$f":"'مواقيت الأساتذة'!H480","v":0},null,null,"الأربعاء","سا08  - سا09",{"$f":"'مواقيت الأساتذة'!H488","v":0},null,{"$f":"'مواقيت الأساتذة'!H496","v":0},null,{"$f":"'مواقيت الأساتذة'!H504","v":0},null,{"$f":"'مواقيت الأساتذة'!H512","v":0}]
[null,"سا09  -  سا10",{"$f":"'مواقيت الأساتذة'!H457","v":0},null,{"$f":"'مواقيت الأساتذة'!H465","v":0},null,{"$f":"'مواقيت الأساتذة'!H473","v":0},null,{"$f":"'مواقيت الأساتذة'!H481","v":0},null,null,null,"سا09  -  سا10",{"$f":"'مواقيت الأساتذة'!H489","v":0},null,{"$f":"'مواقيت الأساتذة'!H497","v":0},null,{"$f":"'مواقيت الأساتذة'!H505","v":0},null,{"$f":"'مواقيت الأساتذة'!H513","v":0}]
[null,"سا10 -  سا11",{"$f":"'مواقيت الأساتذة'!H458","v":0},null,{"$f":"'مواقيت الأساتذة'!H466","v":0},null,{"$f":"'مواقيت الأساتذة'!H474","v":0},null,{"$f":"'مواقيت الأساتذة'!H482","v":0},null,null,null,"سا10 -  سا11",{"$f":"'مواقيت الأساتذة'!H490","v":0},null,{"$f":"'مواقيت الأساتذة'!H498","v":0},null,{"$f":"'مواقيت الأساتذة'!H506","v":0},null,{"$f":"'مواقيت الأساتذة'!H514","v":0}]
[null,"سا11 -  سا12",{"$f":"'مواقيت الأساتذة'!H459","v":0},null,{"$f":"'مواقيت الأساتذة'!H467","v":0},null,{"$f":"'مواقيت الأساتذة'!H475","v":0},null,{"$f":"'مواقيت الأساتذة'!H483","v":0},null,null,null,"سا11 -  سا12",{"$f":"'مواقيت الأساتذة'!H491","v":0},null,{"$f":"'مواقيت الأساتذة'!H499","v":0},null,{"$f":"'مواقيت الأساتذة'!H507","v":0},null,{"$f":"'مواقيت الأساتذة'!H515","v":0}]
[null,"سا13 -  سا14",{"$f":"'مواقيت الأساتذة'!H460","v":0},null,{"$f":"'مواقيت الأساتذة'!H468","v":0},null,{"$f":"'مواقيت الأساتذة'!H476","v":0},null,{"$f":"'مواقيت الأساتذة'!H484","v":0},null,null,null,"سا13 -  سا14",{"$f":"'مواقيت الأساتذة'!H492","v":0},null,{"$f":"'مواقيت الأساتذة'!H500","v":0},null,{"$f":"'مواقيت الأساتذة'!H508","v":0},null,{"$f":"'مواقيت الأساتذة'!H516","v":0}]
[null,"سا14 -  سا15",{"$f":"'مواقيت الأساتذة'!H461","v":0},null,{"$f":"'مواقيت الأساتذة'!H469","v":0},null,{"$f":"'مواقيت الأساتذة'!H477","v":0},null,{"$f":"'مواقيت الأساتذة'!H485","v":0},null,null,null,"سا14 -  سا15",{"$f":"'مواقيت الأساتذة'!H493","v":0},null,{"$f":"'مواقيت الأساتذة'!H501","v":0},null,{"$f":"'مواقيت الأساتذة'!H509","v":0},null,{"$f":"'مواقيت الأساتذة'!H517","v":0}]
[null,"سا15 -  سا16",{"$f":"'مواقيت الأساتذة'!H462","v":0},null,{"$f":"'مواقيت الأساتذة'!H470","v":0},null,{"$f":"'مواقيت الأساتذة'!H478","v":0},null,{"$f":"'مواقيت الأساتذة'!H486","v":0},null,null,null,"سا15 -  سا16",{"$f":"'مواقيت الأساتذة'!H494","v":0},null,{"$f":"'مواقيت الأساتذة'!H502","v":0},null,{"$f":"'مواقيت الأساتذة'!H510","v":0},null,{"$f":"'مواقيت الأساتذة'!H518","v":0}]
[null,"سا16 -  سا17",{"$f":"'مواقيت الأساتذة'!H463","v":0},null,{"$f":"'مواقيت الأساتذة'!H471","v":0},null,{"$f":"'مواقيت الأساتذة'!H479","v":0},null,{"$f":"'مواقيت الأساتذة'!H487","v":0},null,null,null,"سا16 -  سا17",{"$f":"'مواقيت الأساتذة'!H495","v":0},null,{"$f":"'مواقيت الأساتذة'!H503","v":0},null,{"$f":"'مواقيت الأساتذة'!H511","v":0},null,{"$f":"'مواقيت الأساتذة'!H519","v":0}]
["الخميس","سا08  - سا09",{"$f":"'مواقيت الأساتذة'!I456","v":0},null,{"$f":"'مواقيت الأساتذة'!I464","v":0},null,{"$f":"'مواقيت الأساتذة'!I472","v":0},null,{"$f":"'مواقيت الأساتذة'!I480","v":0},null,null,"الخميس","سا08  - سا09",{"$f":"'مواقيت الأساتذة'!I488","v":0},null,{"$f":"'مواقيت الأساتذة'!I496","v":0},null,{"$f":"'مواقيت الأساتذة'!I504","v":0},null,{"$f":"'مواقيت الأساتذة'!I512","v":0}]
[null,"سا09  -  سا10",{"$f":"'مواقيت الأساتذة'!I457","v":0},null,{"$f":"'مواقيت الأساتذة'!I465","v":0},null,{"$f":"'مواقيت الأساتذة'!I473","v":0},null,{"$f":"'مواقيت الأساتذة'!I481","v":0},null,null,null,"سا09  -  سا10",{"$f":"'مواقيت الأساتذة'!I489","v":0},null,{"$f":"'مواقيت الأساتذة'!I497","v":0},null,{"$f":"'مواقيت الأساتذة'!I505","v":0},null,{"$f":"'مواقيت الأساتذة'!I513","v":0}]
[null,"سا10 -  سا11",{"$f":"'مواقيت الأساتذة'!I458","v":0},null,{"$f":"'مواقيت الأساتذة'!I466","v":0},null,{"$f":"'مواقيت الأساتذة'!I474","v":0},null,{"$f":"'مواقيت الأساتذة'!I482","v":0},null,null,null,"سا10 -  سا11",{"$f":"'مواقيت الأساتذة'!I490","v":0},null,{"$f":"'مواقيت الأساتذة'!I498","v":0},null,{"$f":"'مواقيت الأساتذة'!I506","v":0},null,{"$f":"'مواقيت الأساتذة'!I514","v":0}]
[null,"سا11 -  سا12",{"$f":"'مواقيت الأساتذة'!I459","v":0},null,{"$f":"'مواقيت الأساتذة'!I467","v":0},null,{"$f":"'مواقيت الأساتذة'!I475","v":0},null,{"$f":"'مواقيت الأساتذة'!I483","v":0},null,null,null,"سا11 -  سا12",{"$f":"'مواقيت الأساتذة'!I491","v":0},null,{"$f":"'مواقيت الأساتذة'!I499","v":0},null,{"$f":"'مواقيت الأساتذة'!I507","v":0},null,{"$f":"'مواقيت الأساتذة'!I515","v":0}]
[null,"سا13 -  سا14",{"$f":"'مواقيت الأساتذة'!I460","v":0},null,{"$f":"'مواقيت الأساتذة'!I468","v":0},null,{"$f":"'مواقيت الأساتذة'!I476","v":0},null,{"$f":"'مواقيت الأساتذة'!I484","v":0},null,null,null,"سا13 -  سا14",{"$f":"'مواقيت الأساتذة'!I492","v":0},null,{"$f":"'مواقيت الأساتذة'!I500","v":0},null,{"$f":"'مواقيت الأساتذة'!I508","v":0},null,{"$f":"'مواقيت الأساتذة'!I516","v":0}]
[null,"سا14 -  سا15",{"$f":"'مواقيت الأساتذة'!I461","v":0},null,{"$f":"'مواقيت الأساتذة'!I469","v":0},null,{"$f":"'مواقيت الأساتذة'!I477","v":0},null,{"$f":"'مواقيت الأساتذة'!I485","v":0},null,null,null,"سا14 -  سا15",{"$f":"'مواقيت الأساتذة'!I493","v":0},null,{"$f":"'مواقيت الأساتذة'!I501","v":0},null,{"$f":"'مواقيت الأساتذة'!I509","v":0},null,{"$f":"'مواقيت الأساتذة'!I517","v":0}]
[null,"سا15 -  سا16",{"$f":"'مواقيت الأساتذة'!I462","v":0},null,{"$f":"'مواقيت الأساتذة'!I470","v":0},null,{"$f":"'مواقيت الأساتذة'!I478","v":0},null,{"$f":"'مواقيت الأساتذة'!I486","v":0},null,null,null,"سا15 -  سا16",{"$f":"'مواقيت الأساتذة'!I494","v":0},null,{"$f":"'مواقيت الأساتذة'!I502","v":0},null,{"$f":"'مواقيت الأساتذة'!I510","v":0},null,{"$f":"'مواقيت الأساتذة'!I518","v":0}]
[null,"سا16 -  سا17",{"$f":"'مواقيت الأساتذة'!I463","v":0},null,{"$f":"'مواقيت الأساتذة'!I471","v":0},null,{"$f":"'مواقيت الأساتذة'!I479","v":0},null,{"$f":"'مواقيت الأساتذة'!I487","v":0},null,null,null,"سا16 -  سا17",{"$f":"'مواقيت الأساتذة'!I495","v":0},null,{"$f":"'مواقيت الأساتذة'!I503","v":0},null,{"$f":"'مواقيت الأساتذة'!I511","v":0},null,{"$f":"'مواقيت الأساتذة'!I519","v":0}]
[]
[]
[]
[]
[]
[]
[]
[]
[]
["الأيام","المواقيت","السيد (ة)",{"$f":"'مواقيت الأساتذة'!B520","v":0},"السيد (ة)",{"$f":"'مواقيت الأساتذة'!B528","v":0},"السيد (ة)",{"$f":"'مواقيت الأساتذة'!B536","v":0},"السيد (ة)",{"$f":"'مواقيت الأساتذة'!B544","v":0},null,"الأيام","المواقيت","السيد (ة)",{"$f":"'مواقيت الأساتذة'!B552","v":0},"السيد (ة)",{"$f":"'مواقيت الأساتذة'!B560","v":0},"السيد (ة)",{"$f":"'مواقيت الأساتذة'!B568","v":0},"السيد (ة)",{"$f":"'مواقيت الأساتذة'!B576","v":0}]
[null,null,"أستاذ (ة) في",{"$f":"'اسناد الأقسام'!A71","v":0},"أستاذ (ة) في",{"$f":"'اسناد الأقسام'!A72","v":0},"أستاذ (ة) في",{"$f":"'اسناد الأقسام'!A73","v":0},"أستاذ (ة) في",{"$f":"'اسناد الأقسام'!A74","v":0},null,null,null,"أستاذ (ة) في",{"$f":"'اسناد الأقسام'!A75","v":0},"أستاذ (ة) في",{"$f":"'اسناد الأقسام'!A76","v":0},"أستاذ (ة) في",{"$f":"'اسناد الأقسام'!A77","v":0},"أستاذ (ة) في",{"$f":"'اسناد الأقسام'!A78","v":0}]
[null,null,"القسم","المادة المدروسة","القسم","المادة المدروسة","القسم","المادة المدروسة","القسم","المادة المدروسة",null,null,null,"القسم","المادة المدروسة","القسم","المادة المدروسة","القسم","المادة المدروسة","القسم","المادة المدروسة"]
["الأحــــــــد","سا08  - سا09",{"$f":"'مواقيت الأساتذة'!E520","v":0},null,{"$f":"'مواقيت الأساتذة'!E528","v":0},null,{"$f":"'مواقيت الأساتذة'!E536","v":0},null,{"$f":"'مواقيت الأساتذة'!E544","v":0},null,null,"الأحــــــــد","سا08  - سا09",{"$f":"'مواقيت الأساتذة'!E552","v":0},null,{"$f":"'مواقيت الأساتذة'!E560","v":0},null,{"$f":"'مواقيت الأساتذة'!E568","v":0},null,{"$f":"'مواقيت الأساتذة'!E576","v":0}]
[null,"سا09  -  سا10",{"$f":"'مواقيت الأساتذة'!E521","v":0},null,{"$f":"'مواقيت الأساتذة'!E529","v":0},null,{"$f":"'مواقيت الأساتذة'!E537","v":0},null,{"$f":"'مواقيت الأساتذة'!E545","v":0},null,null,null,"سا09  -  سا10",{"$f":"'مواقيت الأساتذة'!E553","v":0},null,{"$f":"'مواقيت الأساتذة'!E561","v":0},null,{"$f":"'مواقيت الأساتذة'!E569","v":0},null,{"$f":"'مواقيت الأساتذة'!E577","v":0}]
[null,"سا10 -  سا11",{"$f":"'مواقيت الأساتذة'!E522","v":0},null,{"$f":"'مواقيت الأساتذة'!E530","v":0},null,{"$f":"'مواقيت الأساتذة'!E538","v":0},null,{"$f":"'مواقيت الأساتذة'!E546","v":0},null,null,null,"سا10 -  سا11",{"$f":"'مواقيت الأساتذة'!E554","v":0},null,{"$f":"'مواقيت الأساتذة'!E562","v":0},null,{"$f":"'مواقيت الأساتذة'!E570","v":0},null,{"$f":"'مواقيت الأساتذة'!E578","v":0}]
[null,"سا11 -  سا12",{"$f":"'مواقيت الأساتذة'!E523","v":0},null,{"$f":"'مواقيت الأساتذة'!E531","v":0},null,{"$f":"'مواقيت الأساتذة'!E539","v":0},null,{"$f":"'مواقيت الأساتذة'!E547","v":0},null,null,null,"سا11 -  سا12",{"$f":"'مواقيت الأساتذة'!E555","v":0},null,{"$f":"'مواقيت الأساتذة'!E563","v":0},null,{"$f":"'مواقيت الأساتذة'!E571","v":0},null,{"$f":"'مواقيت الأساتذة'!E579","v":0}]
[null,"سا13 -  سا14",{"$f":"'مواقيت الأساتذة'!E524","v":0},null,{"$f":"'مواقيت الأساتذة'!E532","v":0},null,{"$f":"'مواقيت الأساتذة'!E540","v":0},null,{"$f":"'مواقيت الأساتذة'!E548","v":0},null,null,null,"سا13 -  سا14",{"$f":"'مواقيت الأساتذة'!E556","v":0},null,{"$f":"'مواقيت الأساتذة'!E564","v":0},null,{"$f":"'مواقيت الأساتذة'!E572","v":0},null,{"$f":"'مواقيت الأساتذة'!E580","v":0}]
[null,"سا14 -  سا15",{"$f":"'مواقيت الأساتذة'!E525","v":0},null,{"$f":"'مواقيت الأساتذة'!E533","v":0},null,{"$f":"'مواقيت الأساتذة'!E541","v":0},null,{"$f":"'مواقيت الأساتذة'!E549","v":0},null,null,null,"سا14 -  سا15",{"$f":"'مواقيت الأساتذة'!E557","v":0},null,{"$f":"'مواقيت الأساتذة'!E565","v":0},null,{"$f":"'مواقيت الأساتذة'!E573","v":0},null,{"$f":"'مواقيت الأساتذة'!E581","v":0}]
[null,"سا15 -  سا16",{"$f":"'مواقيت الأساتذة'!E526","v":0},null,{"$f":"'مواقيت الأساتذة'!E534","v":0},null,{"$f":"'مواقيت الأساتذة'!E542","v":0},null,{"$f":"'مواقيت الأساتذة'!E550","v":0},null,null,null,"سا15 -  سا16",{"$f":"'مواقيت الأساتذة'!E558","v":0},null,{"$f":"'مواقيت الأساتذة'!E566","v":0},null,{"$f":"'مواقيت الأساتذة'!E574","v":0},null,{"$f":"'مواقيت الأساتذة'!E582","v":0}]
[null,"سا16 -  سا17",{"$f":"'مواقيت الأساتذة'!E527","v":0},null,{"$f":"'مواقيت الأساتذة'!E535","v":0},null,{"$f":"'مواقيت الأساتذة'!E543","v":0},null,{"$f":"'مواقيت الأساتذة'!E551","v":0},null,null,null,"سا16 -  سا17",{"$f":"'مواقيت الأساتذة'!E559","v":0},null,{"$f":"'مواقيت الأساتذة'!E567","v":0},null,{"$f":"'مواقيت الأساتذة'!E575","v":0},null,{"$f":"'مواقيت الأساتذة'!E583","v":0}]
["الإثنين","سا08  - سا09",{"$f":"'مواقيت الأساتذة'!F520","v":0},null,{"$f":"'مواقيت الأساتذة'!F528","v":0},null,{"$f":"'مواقيت الأساتذة'!F536","v":0},null,{"$f":"'مواقيت الأساتذة'!F544","v":0},null,null,"الإثنين","سا08  - سا09",{"$f":"'مواقيت الأساتذة'!F552","v":0},null,{"$f":"'مواقيت الأساتذة'!F560","v":0},null,{"$f":"'مواقيت الأساتذة'!F568","v":0},null,{"$f":"'مواقيت الأساتذة'!F576","v":0}]
[null,"سا09  -  سا10",{"$f":"'مواقيت الأساتذة'!F521","v":0},null,{"$f":"'مواقيت الأساتذة'!F529","v":0},null,{"$f":"'مواقيت الأساتذة'!F537","v":0},null,{"$f":"'مواقيت الأساتذة'!F545","v":0},null,null,null,"سا09  -  سا10",{"$f":"'مواقيت الأساتذة'!F553","v":0},null,{"$f":"'مواقيت الأساتذة'!F561","v":0},null,{"$f":"'مواقيت الأساتذة'!F569","v":0},null,{"$f":"'مواقيت الأساتذة'!F577","v":0}]
[null,"سا10 -  سا11",{"$f":"'مواقيت الأساتذة'!F522","v":0},null,{"$f":"'مواقيت الأساتذة'!F530","v":0},null,{"$f":"'مواقيت الأساتذة'!F538","v":0},null,{"$f":"'مواقيت الأساتذة'!F546","v":0},null,null,null,"سا10 -  سا11",{"$f":"'مواقيت الأساتذة'!F554","v":0},null,{"$f":"'مواقيت الأساتذة'!F562","v":0},null,{"$f":"'مواقيت الأساتذة'!F570","v":0},null,{"$f":"'مواقيت الأساتذة'!F578","v":0}]
[null,"سا11 -  سا12",{"$f":"'مواقيت الأساتذة'!F523","v":0},null,{"$f":"'مواقيت الأساتذة'!F531","v":0},null,{"$f":"'مواقيت الأساتذة'!F539","v":0},null,{"$f":"'مواقيت الأساتذة'!F547","v":0},null,null,null,"سا11 -  سا12",{"$f":"'مواقيت الأساتذة'!F555","v":0},null,{"$f":"'مواقيت الأساتذة'!F563","v":0},null,{"$f":"'مواقيت الأساتذة'!F571","v":0},null,{"$f":"'مواقيت الأساتذة'!F579","v":0}]
[null,"سا13 -  سا14",{"$f":"'مواقيت الأساتذة'!F524","v":0},null,{"$f":"'مواقيت الأساتذة'!F532","v":0},null,{"$f":"'مواقيت الأساتذة'!F540","v":0},null,{"$f":"'مواقيت الأساتذة'!F548","v":0},null,null,null,"سا13 -  سا14",{"$f":"'مواقيت الأساتذة'!F556","v":0},null,{"$f":"'مواقيت الأساتذة'!F564","v":0},null,{"$f":"'مواقيت الأساتذة'!F572","v":0},null,{"$f":"'مواقيت الأساتذة'!F580","v":0}]
[null,"سا14 -  سا15",{"$f":"'مواقيت الأساتذة'!F525","v":0},null,{"$f":"'مواقيت الأساتذة'!F533","v":0},null,{"$f":"'مواقيت الأساتذة'!F541","v":0},null,{"$f":"'مواقيت الأساتذة'!F549","v":0},null,null,null,"سا14 -  سا15",{"$f":"'مواقيت الأساتذة'!F557","v":0},null,{"$f":"'مواقيت الأساتذة'!F565","v":0},null,{"$f":"'مواقيت الأساتذة'!F573","v":0},null,{"$f":"'مواقيت الأساتذة'!F581","v":0}]
[null,"سا15 -  سا16",{"$f":"'مواقيت الأساتذة'!F526","v":0},null,{"$f":"'مواقيت الأساتذة'!F534","v":0},null,{"$f":"'مواقيت الأساتذة'!F542","v":0},null,{"$f":"'مواقيت الأساتذة'!F550","v":0},null,null,null,"سا15 -  سا16",{"$f":"'مواقيت الأساتذة'!F558","v":0},null,{"$f":"'مواقيت الأساتذة'!F566","v":0},null,{"$f":"'مواقيت الأساتذة'!F574","v":0},null,{"$f":"'مواقيت الأساتذة'!F582","v":0}]
[null,"سا16 -  سا17",{"$f":"'مواقيت الأساتذة'!F527","v":0},null,{"$f":"'مواقيت الأساتذة'!F535","v":0},null,{"$f":"'مواقيت الأساتذة'!F543","v":0},null,{"$f":"'مواقيت الأساتذة'!F551","v":0},null,null,null,"سا16 -  سا17",{"$f":"'مواقيت الأساتذة'!F559","v":0},null,{"$f":"'مواقيت الأساتذة'!F567","v":0},null,{"$f":"'مواقيت الأساتذة'!F575","v":0},null,{"$f":"'مواقيت الأساتذة'!F583","v":0}]
["الثلاثاء","سا08  - سا09",{"$f":"'مواقيت الأساتذة'!G520","v":0},null,{"$f":"'مواقيت الأساتذة'!G528","v":0},null,{"$f":"'مواقيت الأساتذة'!G536","v":0},null,{"$f":"'مواقيت الأساتذة'!G544","v":0},null,null,"الثلاثاء","سا08  - سا09",{"$f":"'مواقيت الأساتذة'!G552","v":0},null,{"$f":"'مواقيت الأساتذة'!G560","v":0},null,{"$f":"'مواقيت الأساتذة'!G568","v":0},null,{"$f":"'مواقيت الأساتذة'!G576","v":0}]
[null,"سا09  -  سا10",{"$f":"'مواقيت الأساتذة'!G521","v":0},null,{"$f":"'مواقيت الأساتذة'!G529","v":0},null,{"$f":"'مواقيت الأساتذة'!G537","v":0},null,{"$f":"'مواقيت الأساتذة'!G545","v":0},null,null,null,"سا09  -  سا10",{"$f":"'مواقيت الأساتذة'!G553","v":0},null,{"$f":"'مواقيت الأساتذة'!G561","v":0},null,{"$f":"'مواقيت الأساتذة'!G569","v":0},null,{"$f":"'مواقيت الأساتذة'!G577","v":0}]
[null,"سا10 -  سا11",{"$f":"'مواقيت الأساتذة'!G522","v":0},null,{"$f":"'مواقيت الأساتذة'!G530","v":0},null,{"$f":"'مواقيت الأساتذة'!G538","v":0},null,{"$f":"'مواقيت الأساتذة'!G546","v":0},null,null,null,"سا10 -  سا11",{"$f":"'مواقيت الأساتذة'!G554","v":0},null,{"$f":"'مواقيت الأساتذة'!G562","v":0},null,{"$f":"'مواقيت الأساتذة'!G570","v":0},null,{"$f":"'مواقيت الأساتذة'!G578","v":0}]
[null,"سا11 -  سا12",{"$f":"'مواقيت الأساتذة'!G523","v":0},null,{"$f":"'مواقيت الأساتذة'!G531","v":0},null,{"$f":"'مواقيت الأساتذة'!G539","v":0},null,{"$f":"'مواقيت الأساتذة'!G547","v":0},null,null,null,"سا11 -  سا12",{"$f":"'مواقيت الأساتذة'!G555","v":0},null,{"$f":"'مواقيت الأساتذة'!G563","v":0},null,{"$f":"'مواقيت الأساتذة'!G571","v":0},null,{"$f":"'مواقيت الأساتذة'!G579","v":0}]
[null,"سا13 -  سا14",{"$f":"'مواقيت الأساتذة'!G524","v":0},null,{"$f":"'مواقيت الأساتذة'!G532","v":0},null,{"$f":"'مواقيت الأساتذة'!G540","v":0},null,{"$f":"'مواقيت الأساتذة'!G548","v":0},null,null,null,"سا13 -  سا14",{"$f":"'مواقيت الأساتذة'!G556","v":0},null,{"$f":"'مواقيت الأساتذة'!G564","v":0},null,{"$f":"'مواقيت الأساتذة'!G572","v":0},null,{"$f":"'مواقيت الأساتذة'!G580","v":0}]
[null,"سا14 -  سا15",{"$f":"'مواقيت الأساتذة'!G525","v":0},null,{"$f":"'مواقيت الأساتذة'!G533","v":0},null,{"$f":"'مواقيت الأساتذة'!G541","v":0},null,{"$f":"'مواقيت الأساتذة'!G549","v":0},null,null,null,"سا14 -  سا15",{"$f":"'مواقيت الأساتذة'!G557","v":0},null,{"$f":"'مواقيت الأساتذة'!G565","v":0},null,{"$f":"'مواقيت الأساتذة'!G573","v":0},null,{"$f":"'مواقيت الأساتذة'!G581","v":0}]
[null,"سا15 -  سا16",{"$f":"'مواقيت الأساتذة'!G526","v":0},null,{"$f":"'مواقيت الأساتذة'!G534","v":0},null,{"$f":"'مواقيت الأساتذة'!G542","v":0},null,{"$f":"'مواقيت الأساتذة'!G550","v":0},null,null,null,"سا15 -  سا16",{"$f":"'مواقيت الأساتذة'!G558","v":0},null,{"$f":"'مواقيت الأساتذة'!G566","v":0},null,{"$f":"'مواقيت الأساتذة'!G574","v":0},null,{"$f":"'مواقيت الأساتذة'!G582","v":0}]
[null,"سا16 -  سا17",{"$f":"'مواقيت الأساتذة'!G527","v":0},null,{"$f":"'مواقيت الأساتذة'!G535","v":0},null,{"$f":"'مواقيت الأساتذة'!G543","v":0},null,{"$f":"'مواقيت الأساتذة'!G551","v":0},null,null,null,"سا16 -  سا17",{"$f":"'مواقيت الأساتذة'!G559","v":0},null,{"$f":"'مواقيت الأساتذة'!G567","v":0},null,{"$f":"'مواقيت الأساتذة'!G575","v":0},null,{"$f":"'مواقيت الأساتذة'!G583","v":0}]
["الأربعاء","سا08  - سا09",{"$f":"'مواقيت الأساتذة'!H520","v":0},null,{"$f":"'مواقيت الأساتذة'!H528","v":0},null,{"$f":"'مواقيت الأساتذة'!H536","v":0},null,{"$f":"'مواقيت الأساتذة'!H544","v":0},null,null,"الأربعاء","سا08  - سا09",{"$f":"'مواقيت الأساتذة'!H552","v":0},null,{"$f":"'مواقيت الأساتذة'!H560","v":0},null,{"$f":"'مواقيت الأساتذة'!H568","v":0},null,{"$f":"'مواقيت الأساتذة'!H576","v":0}]
[null,"سا09  -  سا10",{"$f":"'مواقيت الأساتذة'!H521","v":0},null,{"$f":"'مواقيت الأساتذة'!H529","v":0},null,{"$f":"'مواقيت الأساتذة'!H537","v":0},null,{"$f":"'مواقيت الأساتذة'!H545","v":0},null,null,null,"سا09  -  سا10",{"$f":"'مواقيت الأساتذة'!H553","v":0},null,{"$f":"'مواقيت الأساتذة'!H561","v":0},null,{"$f":"'مواقيت الأساتذة'!H569","v":0},null,{"$f":"'مواقيت الأساتذة'!H577","v":0}]
[null,"سا10 -  سا11",{"$f":"'مواقيت الأساتذة'!H522","v":0},null,{"$f":"'مواقيت الأساتذة'!H530","v":0},null,{"$f":"'مواقيت الأساتذة'!H538","v":0},null,{"$f":"'مواقيت الأساتذة'!H546","v":0},null,null,null,"سا10 -  سا11",{"$f":"'مواقيت الأساتذة'!H554","v":0},null,{"$f":"'مواقيت الأساتذة'!H562","v":0},null,{"$f":"'مواقيت الأساتذة'!H570","v":0},null,{"$f":"'مواقيت الأساتذة'!H578","v":0}]
[null,"سا11 -  سا12",{"$f":"'مواقيت الأساتذة'!H523","v":0},null,{"$f":"'مواقيت الأساتذة'!H531","v":0},null,{"$f":"'مواقيت الأساتذة'!H539","v":0},null,{"$f":"'مواقيت الأساتذة'!H547","v":0},null,null,null,"سا11 -  سا12",{"$f":"'مواقيت الأساتذة'!H555","v":0},null,{"$f":"'مواقيت الأساتذة'!H563","v":0},null,{"$f":"'مواقيت الأساتذة'!H571","v":0},null,{"$f":"'مواقيت الأساتذة'!H579","v":0}]
[null,"سا13 -  سا14",{"$f":"'مواقيت الأساتذة'!H524","v":0},null,{"$f":"'مواقيت الأساتذة'!H532","v":0},null,{"$f":"'مواقيت الأساتذة'!H540","v":0},null,{"$f":"'مواقيت الأساتذة'!H548","v":0},null,null,null,"سا13 -  سا14",{"$f":"'مواقيت الأساتذة'!H556","v":0},null,{"$f":"'مواقيت الأساتذة'!H564","v":0},null,{"$f":"'مواقيت الأساتذة'!H572","v":0},null,{"$f":"'مواقيت الأساتذة'!H580","v":0}]
[null,"سا14 -  سا15",{"$f":"'مواقيت الأساتذة'!H525","v":0},null,{"$f":"'مواقيت الأساتذة'!H533","v":0},null,{"$f":"'مواقيت الأساتذة'!H541","v":0},null,{"$f":"'مواقيت الأساتذة'!H549","v":0},null,null,null,"سا14 -  سا15",{"$f":"'مواقيت الأساتذة'!H557","v":0},null,{"$f":"'مواقيت الأساتذة'!H565","v":0},null,{"$f":"'مواقيت الأساتذة'!H573","v":0},null,{"$f":"'مواقيت الأساتذة'!H581","v":0}]
[null,"سا15 -  سا16",{"$f":"'مواقيت الأساتذة'!H526","v":0},null,{"$f":"'مواقيت الأساتذة'!H534","v":0},null,{"$f":"'مواقيت الأساتذة'!H542","v":0},null,{"$f":"'مواقيت الأساتذة'!H550","v":0},null,null,null,"سا15 -  سا16",{"$f":"'مواقيت الأساتذة'!H558","v":0},null,{"$f":"'مواقيت الأساتذة'!H566","v":0},null,{"$f":"'مواقيت الأساتذة'!H574","v":0},null,{"$f":"'مواقيت الأساتذة'!H582","v":0}]
[null,"سا16 -  سا17",{"$f":"'مواقيت الأساتذة'!H527","v":0},null,{"$f":"'مواقيت الأساتذة'!H535","v":0},null,{"$f":"'مواقيت الأساتذة'!H543","v":0},null,{"$f":"'مواقيت الأساتذة'!H551","v":0},null,null,null,"سا16 -  سا17",{"$f":"'مواقيت الأساتذة'!H559","v":0},null,{"$f":"'مواقيت الأساتذة'!H567","v":0},null,{"$f":"'مواقيت الأساتذة'!H575","v":0},null,{"$f":"'مواقيت الأساتذة'!H583","v":0}]
["الخميس","سا08  - سا09",{"$f":"'مواقيت الأساتذة'!I520","v":0},null,{"$f":"'مواقيت الأساتذة'!I528","v":0},null,{"$f":"'مواقيت الأساتذة'!I536","v":0},null,{"$f":"'مواقيت الأساتذة'!I544","v":0},null,null,"الخميس","سا08  - سا09",{"$f":"'مواقيت الأساتذة'!I552","v":0},null,{"$f":"'مواقيت الأساتذة'!I560","v":0},null,{"$f":"'مواقيت الأساتذة'!I568","v":0},null,{"$f":"'مواقيت الأساتذة'!I576","v":0}]
[null,"سا09  -  سا10",{"$f":"'مواقيت الأساتذة'!I521","v":0},null,{"$f":"'مواقيت الأساتذة'!I529","v":0},null,{"$f":"'مواقيت الأساتذة'!I537","v":0},null,{"$f":"'مواقيت الأساتذة'!I545","v":0},null,null,null,"سا09  -  سا10",{"$f":"'مواقيت الأساتذة'!I553","v":0},null,{"$f":"'مواقيت الأساتذة'!I561","v":0},null,{"$f":"'مواقيت الأساتذة'!I569","v":0},null,{"$f":"'مواقيت الأساتذة'!I577","v":0}]
[null,"سا10 -  سا11",{"$f":"'مواقيت الأساتذة'!I522","v":0},null,{"$f":"'مواقيت الأساتذة'!I530","v":0},null,{"$f":"'مواقيت الأساتذة'!I538","v":0},null,{"$f":"'مواقيت الأساتذة'!I546","v":0},null,null,null,"سا10 -  سا11",{"$f":"'مواقيت الأساتذة'!I554","v":0},null,{"$f":"'مواقيت الأساتذة'!I562","v":0},null,{"$f":"'مواقيت الأساتذة'!I570","v":0},null,{"$f":"'مواقيت الأساتذة'!I578","v":0}]
[null,"سا11 -  سا12",{"$f":"'مواقيت الأساتذة'!I523","v":0},null,{"$f":"'مواقيت الأساتذة'!I531","v":0},null,{"$f":"'مواقيت الأساتذة'!I539","v":0},null,{"$f":"'مواقيت الأساتذة'!I547","v":0},null,null,null,"سا11 -  سا12",{"$f":"'مواقيت الأساتذة'!I555","v":0},null,{"$f":"'مواقيت الأساتذة'!I563","v":0},null,{"$f":"'مواقيت الأساتذة'!I571","v":0},null,{"$f":"'مواقيت الأساتذة'!I579","v":0}]
[null,"سا13 -  سا14",{"$f":"'مواقيت الأساتذة'!I524","v":0},null,{"$f":"'مواقيت الأساتذة'!I532","v":0},null,{"$f":"'مواقيت الأساتذة'!I540","v":0},null,{"$f":"'مواقيت الأساتذة'!I548","v":0},null,null,null,"سا13 -  سا14",{"$f":"'مواقيت الأساتذة'!I556","v":0},null,{"$f":"'مواقيت الأساتذة'!I564","v":0},null,{"$f":"'مواقيت الأساتذة'!I572","v":0},null,{"$f":"'مواقيت الأساتذة'!I580","v":0}]
[null,"سا14 -  سا15",{"$f":"'مواقيت الأساتذة'!I525","v":0},null,{"$f":"'مواقيت الأساتذة'!I533","v":0},null,{"$f":"'مواقيت الأساتذة'!I541","v":0},null,{"$f":"'مواقيت الأساتذة'!I549","v":0},null,null,null,"سا14 -  سا15",{"$f":"'مواقيت الأساتذة'!I557","v":0},null,{"$f":"'مواقيت الأساتذة'!I565","v":0},null,{"$f":"'مواقيت الأساتذة'!I573","v":0},null,{"$f":"'مواقيت الأساتذة'!I581","v":0}]
[null,"سا15 -  سا16",{"$f":"'مواقيت الأساتذة'!I526","v":0},null,{"$f":"'مواقيت الأساتذة'!I534","v":0},null,{"$f":"'مواقيت الأساتذة'!I542","v":0},null,{"$f":"'مواقيت الأساتذة'!I550","v":0},null,null,null,"سا15 -  سا16",{"$f":"'مواقيت الأساتذة'!I558","v":0},null,{"$f":"'مواقيت الأساتذة'!I566","v":0},null,{"$f":"'مواقيت الأساتذة'!I574","v":0},null,{"$f":"'مواقيت الأساتذة'!I582","v":0}]
[null,"سا16 -  سا17",{"$f":"'مواقيت الأساتذة'!I527","v":0},null,{"$f":"'مواقيت الأساتذة'!I535","v":0},null,{"$f":"'مواقيت الأساتذة'!I543","v":0},null,{"$f":"'مواقيت الأساتذة'!I551","v":0},null,null,null,"سا16 -  سا17",{"$f":"'مواقيت الأساتذة'!I559","v":0},null,{"$f":"'مواقيت الأساتذة'!I567","v":0},null,{"$f":"'مواقيت الأساتذة'!I575","v":0},null,{"$f":"'مواقيت الأساتذة'!I583","v":0}]

{"sheet":"مواقيت الأقسام","index":12,"n_rows":223,"n_cols":21,"rows_kept":223,"cut":false,"hidden":false,"merged":[[170,0,177,0],[170,11,177,11],[180,12,182,12],[183,0,190,0],[183,11,190,11],[191,0,198,0],[191,11,198,11],[109,0,116,0],[109,11,116,11],[117,0,124,0],[117,11,124,11],[135,12,137,12],[135,0,137,0],[135,1,137,1],[135,11,137,11],[45,12,47,12],[48,0,55,0],[48,11,55,11],[90,11,92,11],[101,0,108,0],[101,11,108,11],[207,0,214,0],[207,11,214,11],[215,0,222,0],[215,11,222,11],[180,0,182,0],[180,1,182,1],[180,11,182,11],[199,0,206,0],[199,11,206,11],[90,12,92,12],[93,0,100,0],[93,11,100,11],[90,0,92,0],[90,1,92,1],[125,0,132,0],[125,11,132,11],[162,0,169,0],[162,11,169,11],[154,0,161,0],[138,0,145,0],[138,11,145,11],[146,0,153,0],[146,11,153,11],[154,11,161,11],[64,0,71,0],[64,11,71,11],[72,0,79,0],[72,11,79,11],[80,0,87,0],[80,11,87,11],[56,11,63,11],[35,0,42,0],[35,11,42,11],[11,0,18,0],[11,11,18,11],[19,0,26,0],[19,11,26,11],[27,0,34,0],[27,11,34,11],[56,0,63,0],[45,0,47,0],[45,1,47,1],[45,11,47,11],[0,0,2,0],[0,1,2,1],[0,11,2,11],[0,12,2,12],[3,0,10,0],[3,11,10,11]]}
["الأيام","المواقيت","القسم",{"$f":"'حجز مواقيت الأقسام'!B8","v":"4م1"},"القسم",{"$f":"'حجز مواقيت الأقسام'!B16","v":"4م2"},"القسم",{"$f":"'حجز مواقيت الأقسام'!B24","v":"3م1"},"القسم",{"$f":"'حجز مواقيت الأقسام'!B32","v":"3م2"},null,"الأيام","المواقيت","القسم",{"$f":"'حجز مواقيت الأقسام'!B40","v":"2م1"},"القسم",{"$f":"'حجز مواقيت الأقسام'!B48","v":"2م2"},"القسم",{"$f":"'حجز مواقيت الأقسام'!B56","v":"2م3"},"القسم",{"$f":"'حجز مواقيت الأقسام'!B64","v":"1م1"}]
[null,null,"عدد التلاميذ",{"$f":"التعداد!L10","v":26},"عدد التلاميذ",{"$f":"التعداد!L11","v":28},"عدد التلاميذ",{"$f":"التعداد!L12","v":31},"عدد التلاميذ",{"$f":"التعداد!L13","v":32},null,null,null,"عدد التلاميذ",{"$f":"التعداد!L14","v":28},"عدد التلاميذ",{"$f":"التعداد!L15","v":27},"عدد التلاميذ",{"$f":"التعداد!L17","v":31},"عدد التلاميذ",{"$f":"التعداد!L18","v":31}]
[null,null,"اسم الأستاذ","المادة","اسم الأستاذ","المادة","اسم الأستاذ","المادة","اسم الأستاذ","المادة",null,null,null,"اسم الأستاذ","المادة","اسم الأستاذ","المادة","اسم الأستاذ","المادة","اسم الأستاذ","المادة"]
["الأحــــــــد","سا08  - سا09",{"$f":"'حجز مواقيت الأقسام'!F8","v":"داودي الميلود"},{"$f":"'حجز مواقيت الأقسام'!E8","v":"فيزياء"},{"$f":"'حجز مواقيت الأقسام'!F16","v":"حساني عبد القادر"},{"$f":"'حجز مواقيت الأقسام'!E16","v":"رياضيات"},{"$f":"'حجز مواقيت الأقسام'!F24","v":"قرمان الشير"},{"$f":"'حجز مواقيت الأقسام'!E24","v":"ت.بدنية"},{"$f":"'حجز مواقيت الأقسام'!F32","v":"محمدي مريم "},{"$f":"'حجز مواقيت الأقسام'!E32","v":"انجليزية"},null,"الأحــــــــد","سا08  - سا09",{"$f":"'حجز مواقيت الأقسام'!F40","v":"بدراني خديجة "},{"$f":"'حجز مواقيت الأقسام'!E40","v":"عربية"},{"$f":"'حجز مواقيت الأقسام'!F48","v":""},{"$f":"'حجز مواقيت الأقسام'!E48","v":0},{"$f":"'حجز مواقيت الأقسام'!F56","v":"كواهي يعقوب"},{"$f":"'حجز مواقيت الأقسام'!E56","v":"فرنسية"},{"$f":"'حجز مواقيت الأقسام'!F64","v":"بدراني خديجة "},{"$f":"'حجز مواقيت الأقسام'!E64","v":"عربية"}]
[null,"سا09  -  سا10",{"$f":"'حجز مواقيت الأقسام'!F9","v":"داودي الميلود"},{"$f":"'حجز مواقيت الأقسام'!E9","v":"فيزياء"},{"$f":"'حجز مواقيت الأقسام'!F17","v":"محمدي مريم "},{"$f":"'حجز مواقيت الأقسام'!E17","v":"انجليزية"},{"$f":"'حجز مواقيت الأقسام'!F25","v":"قرمان الشير"},{"$f":"'حجز مواقيت الأقسام'!E25","v":"ت.بدنية"},{"$f":"'حجز مواقيت الأقسام'!F33","v":"كواهي يعقوب"},{"$f":"'حجز مواقيت الأقسام'!E33","v":"فرنسية"},null,null,"سا09  -  سا10",{"$f":"'حجز مواقيت الأقسام'!F41","v":"بدراني شريف"},{"$f":"'حجز مواقيت الأقسام'!E41","v":"اجتماعيات"},{"$f":"'حجز مواقيت الأقسام'!F49","v":""},{"$f":"'حجز مواقيت الأقسام'!E49","v":0},{"$f":"'حجز مواقيت الأقسام'!F57","v":"حساني عبد القادر"},{"$f":"'حجز مواقيت الأقسام'!E57","v":"رياضيات"},{"$f":"'حجز مواقيت الأقسام'!F65","v":"داودي الميلود"},{"$f":"'حجز مواقيت الأقسام'!E65","v":"فيزياء"}]
[null,"سا10 -  سا11",{"$f":"'حجز مواقيت الأقسام'!F10","v":"بدراني خديجة "},{"$f":"'حجز مواقيت الأقسام'!E10","v":"عربية"},{"$f":"'حجز مواقيت الأقسام'!F18","v":"بدراني خديجة "},{"$f":"'حجز مواقيت الأقسام'!E18","v":"عربية"},{"$f":"'حجز مواقيت الأقسام'!F26","v":"حساني عبد القادر"},{"$f":"'حجز مواقيت الأقسام'!E26","v":"رياضيات"},{"$f":"'حجز مواقيت الأقسام'!F34","v":"داودي الميلود"},{"$f":"'حجز مواقيت الأقسام'!E34","v":"فيزياء"},null,null,"سا10 -  سا11",{"$f":"'حجز مواقيت الأقسام'!F42","v":"بدراني خديجة / حساني عبد القادر"},{"$f":"'حجز مواقيت الأقسام'!E42","v":"عربية/رياضيات"},{"$f":"'حجز مواقيت الأقسام'!F50","v":""},{"$f":"'حجز مواقيت الأقسام'!E50","v":0},{"$f":"'حجز مواقيت الأقسام'!F58","v":"محمدي مريم "},{"$f":"'حجز مواقيت الأقسام'!E58","v":"انجليزية"},{"$f":"'حجز مواقيت الأقسام'!F66","v":"قرمان الشير"},{"$f":"'حجز مواقيت الأقسام'!E66","v":"ت.بدنية"}]
[null,"سا11 -  سا12",{"$f":"'حجز مواقيت الأقسام'!F11","v":"حساني عبد القادر"},{"$f":"'حجز مواقيت الأقسام'!E11","v":"رياضيات"},{"$f":"'حجز مواقيت الأقسام'!F19","v":""},{"$f":"'حجز مواقيت الأقسام'!E19","v":0},{"$f":"'حجز مواقيت الأقسام'!F27","v":"محمدي مريم "},{"$f":"'حجز مواقيت الأقسام'!E27","v":"انجليزية"},{"$f":"'حجز مواقيت الأقسام'!F35","v":"داودي الميلود"},{"$f":"'حجز مواقيت الأقسام'!E35","v":"فيزياء"},null,null,"سا11 -  سا12",{"$f":"'حجز مواقيت الأقسام'!F43","v":"كواهي يعقوب"},{"$f":"'حجز مواقيت الأقسام'!E43","v":"فرنسية"},{"$f":"'حجز مواقيت الأقسام'!F51","v":""},{"$f":"'حجز مواقيت الأقسام'!E51","v":0},{"$f":"'حجز مواقيت الأقسام'!F59","v":"بدراني خديجة "},{"$f":"'حجز مواقيت الأقسام'!E59","v":"عربية"},{"$f":"'حجز مواقيت الأقسام'!F67","v":"قرمان الشير"},{"$f":"'حجز مواقيت الأقسام'!E67","v":"ت.بدنية"}]
[null,"سا13 -  سا14",{"$f":"'حجز مواقيت الأقسام'!F12","v":""},{"$f":"'حجز مواقيت الأقسام'!E12","v":0},{"$f":"'حجز مواقيت الأقسام'!F20","v":""},{"$f":"'حجز مواقيت الأقسام'!E20","v":0},{"$f":"'حجز مواقيت الأقسام'!F28","v":""},{"$f":"'حجز مواقيت الأقسام'!E28","v":0},{"$f":"'حجز مواقيت الأقسام'!F36","v":""},{"$f":"'حجز مواقيت الأقسام'!E36","v":0},null,null,"سا13 -  سا14",{"$f":"'حجز مواقيت الأقسام'!F44","v":""},{"$f":"'حجز مواقيت الأقسام'!E44","v":0},{"$f":"'حجز مواقيت الأقسام'!F52","v":""},{"$f":"'حجز مواقيت الأقسام'!E52","v":0},{"$f":"'حجز مواقيت الأقسام'!F60","v":""},{"$f":"'حجز مواقيت الأقسام'!E60","v":0},{"$f":"'حجز مواقيت الأقسام'!F68","v":""},{"$f":"'حجز مواقيت الأقسام'!E68","v":0}]
[null,"سا14 -  سا15",{"$f":"'حجز مواقيت الأقسام'!F13","v":"بدراني خديجة "},{"$f":"'حجز مواقيت الأقسام'!E13","v":"عربية"},{"$f":"'حجز مواقيت الأقسام'!F21","v":"جليد الميلود"},{"$f":"'حجز مواقيت الأقسام'!E21","v":"ت.فنية"},{"$f":"'حجز مواقيت الأقسام'!F29","v":"حساني عبد القادر"},{"$f":"'حجز مواقيت الأقسام'!E29","v":"رياضيات"},{"$f":"'حجز مواقيت الأقسام'!F37","v":"بدراني خديجة "},{"$f":"'حجز مواقيت الأقسام'!E37","v":"عربية"},null,null,"سا14 -  سا15",{"$f":"'حجز مواقيت الأقسام'!F45","v":"داودي الميلود"},{"$f":"'حجز مواقيت الأقسام'!E45","v":"فيزياء"},{"$f":"'حجز مواقيت الأقسام'!F53","v":""},{"$f":"'حجز مواقيت الأقسام'!E53","v":0},{"$f":"'حجز مواقيت الأقسام'!F61","v":"كواهي يعقوب/محمدي مريم "},{"$f":"'حجز مواقيت الأقسام'!E61","v":"فرنسية/انجليزية"},{"$f":"'حجز مواقيت الأقسام'!F69","v":"محمدي مريم "},{"$f":"'حجز مواقيت الأقسام'!E69","v":"انجليزية"}]
[null,"سا15 -  سا16",{"$f":"'حجز مواقيت الأقسام'!F14","v":"قرمان الشير"},{"$f":"'حجز مواقيت الأقسام'!E14","v":"ت.بدنية"},{"$f":"'حجز مواقيت الأقسام'!F22","v":"بدراني خديجة "},{"$f":"'حجز مواقيت الأقسام'!E22","v":"عربية"},{"$f":"'حجز مواقيت الأقسام'!F30","v":"بدراني خديجة "},{"$f":"'حجز مواقيت الأقسام'!E30","v":"عربية"},{"$f":"'حجز مواقيت الأقسام'!F38","v":"حساني عبد القادر"},{"$f":"'حجز مواقيت الأقسام'!E38","v":"رياضيات"},null,null,"سا15 -  سا16",{"$f":"'حجز مواقيت الأقسام'!F46","v":"داودي الميلود"},{"$f":"'حجز مواقيت الأقسام'!E46","v":"فيزياء"},{"$f":"'حجز مواقيت الأقسام'!F54","v":""},{"$f":"'حجز مواقيت الأقسام'!E54","v":0},{"$f":"'حجز مواقيت الأقسام'!F62","v":"بدراني خديجة "},{"$f":"'حجز مواقيت الأقسام'!E62","v":"عربية"},{"$f":"'حجز مواقيت الأقسام'!F70","v":"حساني عبد القادر"},{"$f":"'حجز مواقيت الأقسام'!E70","v":"رياضيات"}]
[null,"سا16 -  سا17",{"$f":"'حجز مواقيت الأقسام'!F15","v":"قرمان الشير"},{"$f":"'حجز مواقيت الأقسام'!E15","v":"ت.بدنية"},{"$f":"'حجز مواقيت الأقسام'!F23","v":""},{"$f":"'حجز مواقيت الأقسام'!E23","v":0},{"$f":"'حجز مواقيت الأقسام'!F31","v":""},{"$f":"'حجز مواقيت الأقسام'!E31","v":0},{"$f":"'حجز مواقيت الأقسام'!F39","v":"بدراني خديجة"},{"$f":"'حجز مواقيت الأقسام'!E39","v":"ت.اسلامية"},null,null,"سا16 -  سا17",{"$f":"'حجز مواقيت الأقسام'!F47","v":""},{"$f":"'حجز مواقيت الأقسام'!E47","v":0},{"$f":"'حجز مواقيت الأقسام'!F55","v":""},{"$f":"'حجز مواقيت الأقسام'!E55","v":0},{"$f":"'حجز مواقيت الأقسام'!F63","v":""},{"$f":"'حجز مواقيت الأقسام'!E63","v":0},{"$f":"'حجز مواقيت الأقسام'!F71","v":"بدراني خديجة "},{"$f":"'حجز مواقيت الأقسام'!E71","v":"عربية"}]
["الاثنين","سا08  - سا09",{"$f":"'حجز مواقيت الأقسام'!H8","v":"كواهي يعقوب"},{"$f":"'حجز مواقيت الأقسام'!G8","v":"فرنسية"},{"$f":"'حجز مواقيت الأقسام'!H16","v":"حساني عبد القادر"},{"$f":"'حجز مواقيت الأقسام'!G16","v":"رياضيات"},{"$f":"'حجز مواقيت الأقسام'!H24","v":"بدراني شريف"},{"$f":"'حجز مواقيت الأقسام'!G24","v":"اجتماعيات"},{"$f":"'حجز مواقيت الأقسام'!H32","v":"حساني عبد القادر"},{"$f":"'حجز مواقيت الأقسام'!G32","v":"رياضيات"},null,"الاثنين","سا08  - سا09",{"$f":"'حجز مواقيت الأقسام'!H40","v":"حساني عبد القادر"},{"$f":"'حجز مواقيت الأقسام'!G40","v":"رياضيات"},{"$f":"'حجز مواقيت الأقسام'!H48","v":""},{"$f":"'حجز مواقيت الأقسام'!G48","v":0},{"$f":"'حجز مواقيت الأقسام'!H56","v":"محمدي مريم "},{"$f":"'حجز مواقيت الأقسام'!G56","v":"انجليزية"},{"$f":"'حجز مواقيت الأقسام'!H64","v":"داودي الميلود"},{"$f":"'حجز مواقيت الأقسام'!G64","v":"فيزياء"}]
[null,"سا09  -  سا10",{"$f":"'حجز مواقيت الأقسام'!H9","v":"حساني عبد القادر"},{"$f":"'حجز مواقيت الأقسام'!G9","v":"رياضيات"},{"$f":"'حجز مواقيت الأقسام'!H17","v":"محمدي مريم "},{"$f":"'حجز مواقيت الأقسام'!G17","v":"انجليزية"},{"$f":"'حجز مواقيت الأقسام'!H25","v":"كواهي يعقوب"},{"$f":"'حجز مواقيت الأقسام'!G25","v":"فرنسية"},{"$f":"'حجز مواقيت الأقسام'!H33","v":"بدراني شريف"},{"$f":"'حجز مواقيت الأقسام'!G33","v":"اجتماعيات"},null,null,"سا09  -  سا10",{"$f":"'حجز مواقيت الأقسام'!H41","v":"مجدوب طلحة"},{"$f":"'حجز مواقيت الأقسام'!G41","v":"علوم ط"},{"$f":"'حجز مواقيت الأقسام'!H49","v":"حساني عبد القادر"},{"$f":"'حجز مواقيت الأقسام'!G49","v":"رياضيات"},{"$f":"'حجز مواقيت الأقسام'!H57","v":"جليد الميلود"},{"$f":"'حجز مواقيت الأقسام'!G57","v":"ت.فنية"},{"$f":"'حجز مواقيت الأقسام'!H65","v":"داودي الميلود"},{"$f":"'حجز مواقيت الأقسام'!G65","v":"فيزياء"}]
[null,"سا10 -  سا11",{"$f":"'حجز مواقيت الأقسام'!H10","v":"محمدي مريم "},{"$f":"'حجز مواقيت الأقسام'!G10","v":"انجليزية"},{"$f":"'حجز مواقيت الأقسام'!H18","v":"داودي الميلود"},{"$f":"'حجز مواقيت الأقسام'!G18","v":"فيزياء"},{"$f":"'حجز مواقيت الأقسام'!H26","v":"داودي الميلود"},{"$f":"'حجز مواقيت الأقسام'!G26","v":"فيزياء"},{"$f":"'حجز مواقيت الأقسام'!H34","v":"مجدوب طلحة"},{"$f":"'حجز مواقيت الأقسام'!G34","v":"علوم ط"},null,null,"سا10 -  سا11",{"$f":"'حجز مواقيت الأقسام'!H42","v":"حساني عبد القادر"},{"$f":"'حجز مواقيت الأقسام'!G42","v":"رياضيات"},{"$f":"'حجز مواقيت الأقسام'!H50","v":"داودي الميلود"},{"$f":"'حجز مواقيت الأقسام'!G50","v":"فيزياء"},{"$f":"'حجز مواقيت الأقسام'!H58","v":"بدراني شريف"},{"$f":"'حجز مواقيت الأقسام'!G58","v":"اجتماعيات"},{"$f":"'حجز مواقيت الأقسام'!H66","v":"حساني عبد القادر"},{"$f":"'حجز مواقيت الأقسام'!G66","v":"رياضيات"}]
[null,"سا11 -  سا12",{"$f":"'حجز مواقيت الأقسام'!H11","v":""},{"$f":"'حجز مواقيت الأقسام'!G11","v":0},{"$f":"'حجز مواقيت الأقسام'!H19","v":"بدراني خديجة "},{"$f":"'حجز مواقيت الأقسام'!G19","v":"عربية"},{"$f":"'حجز مواقيت الأقسام'!H27","v":""},{"$f":"'حجز مواقيت الأقسام'!G27","v":0},{"$f":"'حجز مواقيت الأقسام'!H35","v":""},{"$f":"'حجز مواقيت الأقسام'!G35","v":0},null,null,"سا11 -  سا12",{"$f":"'حجز مواقيت الأقسام'!H43","v":"محمدي مريم "},{"$f":"'حجز مواقيت الأقسام'!G43","v":"انجليزية"},{"$f":"'حجز مواقيت الأقسام'!H51","v":"داودي الميلود"},{"$f":"'حجز مواقيت الأقسام'!G51","v":"فيزياء"},{"$f":"'حجز مواقيت الأقسام'!H59","v":""},{"$f":"'حجز مواقيت الأقسام'!G59","v":0},{"$f":"'حجز مواقيت الأقسام'!H67","v":"محمدي مريم "},{"$f":"'حجز مواقيت الأقسام'!G67","v":"انجليزية"}]
[null,"سا13 -  سا14",{"$f":"'حجز مواقيت الأقسام'!H12","v":""},{"$f":"'حجز مواقيت الأقسام'!G12","v":0},{"$f":"'حجز مواقيت الأقسام'!H20","v":""},{"$f":"'حجز مواقيت الأقسام'!G20","v":0},{"$f":"'حجز مواقيت الأقسام'!H28","v":""},{"$f":"'حجز مواقيت الأقسام'!G28","v":0},{"$f":"'حجز مواقيت الأقسام'!H36","v":""},{"$f":"'حجز مواقيت الأقسام'!G36","v":0},null,null,"سا13 -  سا14",{"$f":"'حجز مواقيت الأقسام'!H44","v":""},{"$f":"'حجز مواقيت الأقسام'!G44","v":0},{"$f":"'حجز مواقيت الأقسام'!H52","v":""},{"$f":"'حجز مواقيت الأقسام'!G52","v":0},{"$f":"'حجز مواقيت الأقسام'!H60","v":""},{"$f":"'حجز مواقيت الأقسام'!G60","v":0},{"$f":"'حجز مواقيت الأقسام'!H68","v":""},{"$f":"'حجز مواقيت الأقسام'!G68","v":0}]
[null,"سا14 -  سا15",{"$f":"'حجز مواقيت الأقسام'!H13","v":"بدراني شريف"},{"$f":"'حجز مواقيت الأقسام'!G13","v":"اجتماعيات"},{"$f":"'حجز مواقيت الأقسام'!H21","v":"حساني عبد القادر"},{"$f":"'حجز مواقيت الأقسام'!G21","v":"رياضيات"},{"$f":"'حجز مواقيت الأقسام'!H29","v":"كواهي يعقوب"},{"$f":"'حجز مواقيت الأقسام'!G29","v":"فرنسية"},{"$f":"'حجز مواقيت الأقسام'!H37","v":"محمدي مريم "},{"$f":"'حجز مواقيت الأقسام'!G37","v":"انجليزية"},null,null,"سا14 -  سا15",{"$f":"'حجز مواقيت الأقسام'!H45","v":"قرمان الشير"},{"$f":"'حجز مواقيت الأقسام'!G45","v":"ت.بدنية"},{"$f":"'حجز مواقيت الأقسام'!H53","v":"حساني عبد القادر"},{"$f":"'حجز مواقيت الأقسام'!G53","v":"رياضيات"},{"$f":"'حجز مواقيت الأقسام'!H61","v":"حساني عبد القادر"},{"$f":"'حجز مواقيت الأقسام'!G61","v":"رياضيات"},{"$f":"'حجز مواقيت الأقسام'!H69","v":"بدراني شريف"},{"$f":"'حجز مواقيت الأقسام'!G69","v":"اجتماعيات"}]
[null,"سا15 -  سا16",{"$f":"'حجز مواقيت الأقسام'!H14","v":"حساني عبد القادر"},{"$f":"'حجز مواقيت الأقسام'!G14","v":"رياضيات"},{"$f":"'حجز مواقيت الأقسام'!H22","v":"كواهي يعقوب"},{"$f":"'حجز مواقيت الأقسام'!G22","v":"فرنسية"},{"$f":"'حجز مواقيت الأقسام'!H30","v":"محمدي مريم "},{"$f":"'حجز مواقيت الأقسام'!G30","v":"انجليزية"},{"$f":"'حجز مواقيت الأقسام'!H38","v":"حساني عبد القادر"},{"$f":"'حجز مواقيت الأقسام'!G38","v":"رياضيات"},null,null,"سا15 -  سا16",{"$f":"'حجز مواقيت الأقسام'!H46","v":"قرمان الشير"},{"$f":"'حجز مواقيت الأقسام'!G46","v":"ت.بدنية"},{"$f":"'حجز مواقيت الأقسام'!H54","v":"بدراني شريف"},{"$f":"'حجز مواقيت الأقسام'!G54","v":"اجتماعيات"},{"$f":"'حجز مواقيت الأقسام'!H62","v":"داودي الميلود"},{"$f":"'حجز مواقيت الأقسام'!G62","v":"فيزياء"},{"$f":"'حجز مواقيت الأقسام'!H70","v":"كواهي يعقوب"},{"$f":"'حجز مواقيت الأقسام'!G70","v":"فرنسية"}]
[null,"سا16 -  سا17",{"$f":"'حجز مواقيت الأقسام'!H15","v":"جليد الميلود"},{"$f":"'حجز مواقيت الأقسام'!G15","v":"ت.فنية"},{"$f":"'حجز مواقيت الأقسام'!H23","v":""},{"$f":"'حجز مواقيت الأقسام'!G23","v":0},{"$f":"'حجز مواقيت الأقسام'!H31","v":"حساني عبد القادر"},{"$f":"'حجز مواقيت الأقسام'!G31","v":"رياضيات"},{"$f":"'حجز مواقيت الأقسام'!H39","v":""},{"$f":"'حجز مواقيت الأقسام'!G39","v":0},null,null,"سا16 -  سا17",{"$f":"'حجز مواقيت الأقسام'!H47","v":"بدراني شريف"},{"$f":"'حجز مواقيت الأقسام'!G47","v":"اجتماعيات"},{"$f":"'حجز مواقيت الأقسام'!H55","v":""},{"$f":"'حجز مواقيت الأقسام'!G55","v":0},{"$f":"'حجز مواقيت الأقسام'!H63","v":"داودي الميلود"},{"$f":"'حجز مواقيت الأقسام'!G63","v":"فيزياء"},{"$f":"'حجز مواقيت الأقسام'!H71","v":""},{"$f":"'حجز مواقيت الأقسام'!G71","v":0}]
["الثلاثاء","سا08  - سا09",{"$f":"'حجز مواقيت الأقسام'!J8","v":"حساني عبد القادر"},{"$f":"'حجز مواقيت الأقسام'!I8","v":"رياضيات"},{"$f":"'حجز مواقيت الأقسام'!J16","v":"داودي الميلود"},{"$f":"'حجز مواقيت الأقسام'!I16","v":"فيزياء"},{"$f":"'حجز مواقيت الأقسام'!J24","v":"حساني عبد القادر"},{"$f":"'حجز مواقيت الأقسام'!I24","v":"رياضيات"},{"$f":"'حجز مواقيت الأقسام'!J32","v":"بدراني خديجة "},{"$f":"'حجز مواقيت الأقسام'!I32","v":"عربية"},null,"الثلاثاء","سا08  - سا09",{"$f":"'حجز مواقيت الأقسام'!J40","v":"حساني عبد القادر"},{"$f":"'حجز مواقيت الأقسام'!I40","v":"رياضيات"},{"$f":"'حجز مواقيت الأقسام'!J48","v":"بدراني خديجة "},{"$f":"'حجز مواقيت الأقسام'!I48","v":"عربية"},{"$f":"'حجز مواقيت الأقسام'!J56","v":"حساني عبد القادر"},{"$f":"'حجز مواقيت الأقسام'!I56","v":"رياضيات"},{"$f":"'حجز مواقيت الأقسام'!J64","v":"بدراني شريف"},{"$f":"'حجز مواقيت الأقسام'!I64","v":"اجتماعيات"}]
[null,"سا09  -  سا10",{"$f":"'حجز مواقيت الأقسام'!J9","v":"بدراني شريف"},{"$f":"'حجز مواقيت الأقسام'!I9","v":"اجتماعيات"},{"$f":"'حجز مواقيت الأقسام'!J17","v":"داودي الميلود"},{"$f":"'حجز مواقيت الأقسام'!I17","v":"فيزياء"},{"$f":"'حجز مواقيت الأقسام'!J25","v":"بدراني خديجة "},{"$f":"'حجز مواقيت الأقسام'!I25","v":"عربية"},{"$f":"'حجز مواقيت الأقسام'!J33","v":"داودي الميلود"},{"$f":"'حجز مواقيت الأقسام'!I33","v":"فيزياء"},null,null,"سا09  -  سا10",{"$f":"'حجز مواقيت الأقسام'!J41","v":"محمدي مريم "},{"$f":"'حجز مواقيت الأقسام'!I41","v":"انجليزية"},{"$f":"'حجز مواقيت الأقسام'!J49","v":"حساني عبد القادر"},{"$f":"'حجز مواقيت الأقسام'!I49","v":"رياضيات"},{"$f":"'حجز مواقيت الأقسام'!J57","v":"بدراني خديجة / حساني عبد القادر"},{"$f":"'حجز مواقيت الأقسام'!I57","v":"عربية/رياضيات"},{"$f":"'حجز مواقيت الأقسام'!J65","v":"بدراني خديجة "},{"$f":"'حجز مواقيت الأقسام'!I65","v":"عربية"}]
[null,"سا10 -  سا11",{"$f":"'حجز مواقيت الأقسام'!J10","v":"داودي الميلود"},{"$f":"'حجز مواقيت الأقسام'!I10","v":"فيزياء"},{"$f":"'حجز مواقيت الأقسام'!J18","v":"بدراني خديجة / حساني عبد القادر"},{"$f":"'حجز مواقيت الأقسام'!I18","v":"عربية/رياضيات"},{"$f":"'حجز مواقيت الأقسام'!J26","v":"داودي الميلود"},{"$f":"'حجز مواقيت الأقسام'!I26","v":"فيزياء"},{"$f":"'حجز مواقيت الأقسام'!J34","v":"حساني عبد القادر"},{"$f":"'حجز مواقيت الأقسام'!I34","v":"رياضيات"},null,null,"سا10 -  سا11",{"$f":"'حجز مواقيت الأقسام'!J42","v":"بدراني خديجة "},{"$f":"'حجز مواقيت الأقسام'!I42","v":"عربية"},{"$f":"'حجز مواقيت الأقسام'!J50","v":"بدراني شريف"},{"$f":"'حجز مواقيت الأقسام'!I50","v":"اجتماعيات"},{"$f":"'حجز مواقيت الأقسام'!J58","v":"مجدوب طلحة"},{"$f":"'حجز مواقيت الأقسام'!I58","v":"علوم ط"},{"$f":"'حجز مواقيت الأقسام'!J66","v":"حساني عبد القادر"},{"$f":"'حجز مواقيت الأقسام'!I66","v":"رياضيات"}]
[null,"سا11 -  سا12",{"$f":"'حجز مواقيت الأقسام'!J11","v":"بدراني خديجة / حساني عبد القادر"},{"$f":"'حجز مواقيت الأقسام'!I11","v":"عربية/رياضيات"},{"$f":"'حجز مواقيت الأقسام'!J19","v":"بدراني شريف"},{"$f":"'حجز مواقيت الأقسام'!I19","v":"اجتماعيات"},{"$f":"'حجز مواقيت الأقسام'!J27","v":"داودي الميلود"},{"$f":"'حجز مواقيت الأقسام'!I27","v":"فيزياء"},{"$f":"'حجز مواقيت الأقسام'!J35","v":"بدراني شريف"},{"$f":"'حجز مواقيت الأقسام'!I35","v":"اجتماعيات"},null,null,"سا11 -  سا12",{"$f":"'حجز مواقيت الأقسام'!J43","v":""},{"$f":"'حجز مواقيت الأقسام'!I43","v":0},{"$f":"'حجز مواقيت الأقسام'!J51","v":"بدراني خديجة / حساني عبد القادر"},{"$f":"'حجز مواقيت الأقسام'!I51","v":"عربية/رياضيات"},{"$f":"'حجز مواقيت الأقسام'!J59","v":"داودي الميلود"},{"$f":"'حجز مواقيت الأقسام'!I59","v":"فيزياء"},{"$f":"'حجز مواقيت الأقسام'!J67","v":""},{"$f":"'حجز مواقيت الأقسام'!I67","v":0}]
[null,"سا13 -  سا14",{"$f":"'حجز مواقيت الأقسام'!J12","v":""},{"$f":"'حجز مواقيت الأقسام'!I12","v":0},{"$f":"'حجز مواقيت الأقسام'!J20","v":""},{"$f":"'حجز مواقيت الأقسام'!I20","v":0},{"$f":"'حجز مواقيت الأقسام'!J28","v":""},{"$f":"'حجز مواقيت الأقسام'!I28","v":0},{"$f":"'حجز مواقيت الأقسام'!J36","v":""},{"$f":"'حجز مواقيت الأقسام'!I36","v":0},null,null,"سا13 -  سا14",{"$f":"'حجز مواقيت الأقسام'!J44","v":""},{"$f":"'حجز مواقيت الأقسام'!I44","v":0},{"$f":"'حجز مواقيت الأقسام'!J52","v":""},{"$f":"'حجز مواقيت الأقسام'!I52","v":0},{"$f":"'حجز مواقيت الأقسام'!J60","v":""},{"$f":"'حجز مواقيت الأقسام'!I60","v":0},{"$f":"'حجز مواقيت الأقسام'!J68","v":""},{"$f":"'حجز مواقيت الأقسام'!I68","v":0}]
[null,"سا14 -  سا15",{"$f":"'حجز مواقيت الأقسام'!J13","v":""},{"$f":"'حجز مواقيت الأقسام'!I13","v":0},{"$f":"'حجز مواقيت الأقسام'!J21","v":""},{"$f":"'حجز مواقيت الأقسام'!I21","v":0},{"$f":"'حجز مواقيت الأقسام'!J29","v":""},{"$f":"'حجز مواقيت الأقسام'!I29","v":0},{"$f":"'حجز مواقيت الأقسام'!J37","v":""},{"$f":"'حجز مواقيت الأقسام'!I37","v":0},null,null,"سا14 -  سا15",{"$f":"'حجز مواقيت الأقسام'!J45","v":""},{"$f":"'حجز مواقيت الأقسام'!I45","v":0},{"$f":"'حجز مواقيت الأقسام'!J53","v":""},{"$f":"'حجز مواقيت الأقسام'!I53","v":0},{"$f":"'حجز مواقيت الأقسام'!J61","v":""},{"$f":"'حجز مواقيت الأقسام'!I61","v":0},{"$f":"'حجز مواقيت الأقسام'!J69","v":""},{"$f":"'حجز مواقيت الأقسام'!I69","v":0}]
[null,"سا15 -  سا16",{"$f":"'حجز مواقيت الأقسام'!J14","v":""},{"$f":"'حجز مواقيت الأقسام'!I14","v":0},{"$f":"'حجز مواقيت الأقسام'!J22","v":""},{"$f":"'حجز مواقيت الأقسام'!I22","v":0},{"$f":"'حجز مواقيت الأقسام'!J30","v":""},{"$f":"'حجز مواقيت الأقسام'!I30","v":0},{"$f":"'حجز مواقيت الأقسام'!J38","v":""},{"$f":"'حجز مواقيت الأقسام'!I38","v":"رياضيات دعم"},null,null,"سا15 -  سا16",{"$f":"'حجز مواقيت الأقسام'!J46","v":""},{"$f":"'حجز مواقيت الأقسام'!I46","v":0},{"$f":"'حجز مواقيت الأقسام'!J54","v":""},{"$f":"'حجز مواقيت الأقسام'!I54","v":0},{"$f":"'حجز مواقيت الأقسام'!J62","v":""},{"$f":"'حجز مواقيت الأقسام'!I62","v":0},{"$f":"'حجز مواقيت الأقسام'!J70","v":""},{"$f":"'حجز مواقيت الأقسام'!I70","v":0}]
[null,"سا16 -  سا17",{"$f":"'حجز مواقيت الأقسام'!J15","v":""},{"$f":"'حجز مواقيت الأقسام'!I15","v":0},{"$f":"'حجز مواقيت الأقسام'!J23","v":""},{"$f":"'حجز مواقيت الأقسام'!I23","v":0},{"$f":"'حجز مواقيت الأقسام'!J31","v":""},{"$f":"'حجز مواقيت الأقسام'!I31","v":0},{"$f":"'حجز مواقيت الأقسام'!J39","v":""},{"$f":"'حجز مواقيت الأقسام'!I39","v":0},null,null,"سا16 -  سا17",{"$f":"'حجز مواقيت الأقسام'!J47","v":""},{"$f":"'حجز مواقيت الأقسام'!I47","v":0},{"$f":"'حجز مواقيت الأقسام'!J55","v":""},{"$f":"'حجز مواقيت الأقسام'!I55","v":0},{"$f":"'حجز مواقيت الأقسام'!J63","v":""},{"$f":"'حجز مواقيت الأقسام'!I63","v":0},{"$f":"'حجز مواقيت الأقسام'!J71","v":""},{"$f":"'حجز مواقيت الأقسام'!I71","v":0}]
["الأربعاء","سا08  - سا09",{"$f":"'حجز مواقيت الأقسام'!L8","v":"محمدي مريم "},{"$f":"'حجز مواقيت الأقسام'!K8","v":"انجليزية"},{"$f":"'حجز مواقيت الأقسام'!L16","v":"بدراني شريف"},{"$f":"'حجز مواقيت الأقسام'!K16","v":"اجتماعيات"},{"$f":"'حجز مواقيت الأقسام'!L24","v":"بدراني خديجة "},{"$f":"'حجز مواقيت الأقسام'!K24","v":"عربية"},{"$f":"'حجز مواقيت الأقسام'!L32","v":"قرمان الشير"},{"$f":"'حجز مواقيت الأقسام'!K32","v":"ت.بدنية"},null,"الأربعاء","سا08  - سا09",{"$f":"'حجز مواقيت الأقسام'!L40","v":"مجدوب طلحة"},{"$f":"'حجز مواقيت الأقسام'!K40","v":"علوم ط"},{"$f":"'حجز مواقيت الأقسام'!L48","v":"كواهي يعقوب"},{"$f":"'حجز مواقيت الأقسام'!K48","v":"فرنسية"},{"$f":"'حجز مواقيت الأقسام'!L56","v":"بدراني خديجة "},{"$f":"'حجز مواقيت الأقسام'!K56","v":"عربية"},{"$f":"'حجز مواقيت الأقسام'!L64","v":"فرنسية"},{"$f":"'حجز مواقيت الأقسام'!K64","v":"فرنسية"}]
[null,"سا09  -  سا10",{"$f":"'حجز مواقيت الأقسام'!L9","v":"بدراني شريف"},{"$f":"'حجز مواقيت الأقسام'!K9","v":"اجتماعيات"},{"$f":"'حجز مواقيت الأقسام'!L17","v":"حساني عبد القادر"},{"$f":"'حجز مواقيت الأقسام'!K17","v":"رياضيات"},{"$f":"'حجز مواقيت الأقسام'!L25","v":"داودي الميلود"},{"$f":"'حجز مواقيت الأقسام'!K25","v":"فيزياء"},{"$f":"'حجز مواقيت الأقسام'!L33","v":"قرمان الشير"},{"$f":"'حجز مواقيت الأقسام'!K33","v":"ت.بدنية"},null,null,"سا09  -  سا10",{"$f":"'حجز مواقيت الأقسام'!L41","v":"محمدي مريم "},{"$f":"'حجز مواقيت الأقسام'!K41","v":"انجليزية"},{"$f":"'حجز مواقيت الأقسام'!L49","v":"بدراني خديجة "},{"$f":"'حجز مواقيت الأقسام'!K49","v":"عربية"},{"$f":"'حجز مواقيت الأقسام'!L57","v":"كواهي يعقوب"},{"$f":"'حجز مواقيت الأقسام'!K57","v":"فرنسية"},{"$f":"'حجز مواقيت الأقسام'!L65","v":"بدراني خديجة"},{"$f":"'حجز مواقيت الأقسام'!K65","v":"ت.اسلامية"}]
[null,"سا10 -  سا11",{"$f":"'حجز مواقيت الأقسام'!L10","v":"بدراني خديجة / حساني عبد القادر"},{"$f":"'حجز مواقيت الأقسام'!K10","v":"عربية/رياضيات"},{"$f":"'حجز مواقيت الأقسام'!L18","v":"كواهي يعقوب"},{"$f":"'حجز مواقيت الأقسام'!K18","v":"فرنسية"},{"$f":"'حجز مواقيت الأقسام'!L26","v":"جليد الميلود"},{"$f":"'حجز مواقيت الأقسام'!K26","v":"ت.فنية"},{"$f":"'حجز مواقيت الأقسام'!L34","v":"محمدي مريم "},{"$f":"'حجز مواقيت الأقسام'!K34","v":"انجليزية"},null,null,"سا10 -  سا11",{"$f":"'حجز مواقيت الأقسام'!L42","v":"بدراني خديجة "},{"$f":"'حجز مواقيت الأقسام'!K42","v":"عربية"},{"$f":"'حجز مواقيت الأقسام'!L50","v":"محمدي مريم "},{"$f":"'حجز مواقيت الأقسام'!K50","v":"انجليزية"},{"$f":"'حجز مواقيت الأقسام'!L58","v":"بدراني خديجة"},{"$f":"'حجز مواقيت الأقسام'!K58","v":"ت.اسلامية"},{"$f":"'حجز مواقيت الأقسام'!L66","v":"حساني عبد القادر"},{"$f":"'حجز مواقيت الأقسام'!K66","v":"رياضيات"}]
[null,"سا11 -  سا12",{"$f":"'حجز مواقيت الأقسام'!L11","v":"كواهي يعقوب"},{"$f":"'حجز مواقيت الأقسام'!K11","v":"فرنسية"},{"$f":"'حجز مواقيت الأقسام'!L19","v":"بدراني خديجة / حساني عبد القادر"},{"$f":"'حجز مواقيت الأقسام'!K19","v":"عربية/رياضيات"},{"$f":"'حجز مواقيت الأقسام'!L27","v":"داودي الميلود"},{"$f":"'حجز مواقيت الأقسام'!K27","v":"فيزياء"},{"$f":"'حجز مواقيت الأقسام'!L35","v":"كواهي يعقوب"},{"$f":"'حجز مواقيت الأقسام'!K35","v":"فرنسية"},null,null,"سا11 -  سا12",{"$f":"'حجز مواقيت الأقسام'!L43","v":""},{"$f":"'حجز مواقيت الأقسام'!K43","v":0},{"$f":"'حجز مواقيت الأقسام'!L51","v":"جليد الميلود"},{"$f":"'حجز مواقيت الأقسام'!K51","v":"ت.فنية"},{"$f":"'حجز مواقيت الأقسام'!L59","v":"حساني عبد القادر"},{"$f":"'حجز مواقيت الأقسام'!K59","v":"رياضيات"},{"$f":"'حجز مواقيت الأقسام'!L67","v":""},{"$f":"'حجز مواقيت الأقسام'!K67","v":0}]
[null,"سا13 -  سا14",{"$f":"'حجز مواقيت الأقسام'!L12","v":""},{"$f":"'حجز مواقيت الأقسام'!K12","v":0},{"$f":"'حجز مواقيت الأقسام'!L20","v":""},{"$f":"'حجز مواقيت الأقسام'!K20","v":0},{"$f":"'حجز مواقيت الأقسام'!L28","v":""},{"$f":"'حجز مواقيت الأقسام'!K28","v":0},{"$f":"'حجز مواقيت الأقسام'!L36","v":""},{"$f":"'حجز مواقيت الأقسام'!K36","v":0},null,null,"سا13 -  سا14",{"$f":"'حجز مواقيت الأقسام'!L44","v":""},{"$f":"'حجز مواقيت الأقسام'!K44","v":0},{"$f":"'حجز مواقيت الأقسام'!L52","v":""},{"$f":"'حجز مواقيت الأقسام'!K52","v":0},{"$f":"'حجز مواقيت الأقسام'!L60","v":""},{"$f":"'حجز مواقيت الأقسام'!K60","v":0},{"$f":"'حجز مواقيت الأقسام'!L68","v":""},{"$f":"'حجز مواقيت الأقسام'!K68","v":0}]
[null,"سا14 -  سا15",{"$f":"'حجز مواقيت الأقسام'!L13","v":"كواهي يعقوب"},{"$f":"'حجز مواقيت الأقسام'!K13","v":"فرنسية"},{"$f":"'حجز مواقيت الأقسام'!L21","v":"بدراني خديجة"},{"$f":"'حجز مواقيت الأقسام'!K21","v":"ت.اسلامية"},{"$f":"'حجز مواقيت الأقسام'!L29","v":"بدراني خديجة / حساني عبد القادر"},{"$f":"'حجز مواقيت الأقسام'!K29","v":"عربية/رياضيات"},{"$f":"'حجز مواقيت الأقسام'!L37","v":"جليد الميلود"},{"$f":"'حجز مواقيت الأقسام'!K37","v":"ت.فنية"},null,null,"سا14 -  سا15",{"$f":"'حجز مواقيت الأقسام'!L45","v":"كواهي يعقوب"},{"$f":"'حجز مواقيت الأقسام'!K45","v":"فرنسية"},{"$f":"'حجز مواقيت الأقسام'!L53","v":"بدراني خديجة "},{"$f":"'حجز مواقيت الأقسام'!K53","v":"عربية"},{"$f":"'حجز مواقيت الأقسام'!L61","v":"بدراني شريف"},{"$f":"'حجز مواقيت الأقسام'!K61","v":"اجتماعيات"},{"$f":"'حجز مواقيت الأقسام'!L69","v":"كواهي يعقوب"},{"$f":"'حجز مواقيت الأقسام'!K69","v":"فرنسية"}]
[null,"سا15 -  سا16",{"$f":"'حجز مواقيت الأقسام'!L14","v":"بدراني خديجة"},{"$f":"'حجز مواقيت الأقسام'!K14","v":"ت.اسلامية"},{"$f":"'حجز مواقيت الأقسام'!L22","v":"قرمان الشير"},{"$f":"'حجز مواقيت الأقسام'!K22","v":"ت.بدنية"},{"$f":"'حجز مواقيت الأقسام'!L30","v":"كواهي يعقوب"},{"$f":"'حجز مواقيت الأقسام'!K30","v":"فرنسية"},{"$f":"'حجز مواقيت الأقسام'!L38","v":"محمدي مريم "},{"$f":"'حجز مواقيت الأقسام'!K38","v":"انجليزية"},null,null,"سا15 -  سا16",{"$f":"'حجز مواقيت الأقسام'!L46","v":"بدراني خديجة "},{"$f":"'حجز مواقيت الأقسام'!K46","v":"عربية"},{"$f":"'حجز مواقيت الأقسام'!L54","v":"بدراني شريف"},{"$f":"'حجز مواقيت الأقسام'!K54","v":"اجتماعيات"},{"$f":"'حجز مواقيت الأقسام'!L62","v":"كواهي يعقوب"},{"$f":"'حجز مواقيت الأقسام'!K62","v":"فرنسية"},{"$f":"'حجز مواقيت الأقسام'!L70","v":"جليد الميلود"},{"$f":"'حجز مواقيت الأقسام'!K70","v":"ت.فنية"}]
[null,"سا16 -  سا17",{"$f":"'حجز مواقيت الأقسام'!L15","v":""},{"$f":"'حجز مواقيت الأقسام'!K15","v":0},{"$f":"'حجز مواقيت الأقسام'!L23","v":"قرمان الشير"},{"$f":"'حجز مواقيت الأقسام'!K23","v":"ت.بدنية"},{"$f":"'حجز مواقيت الأقسام'!L31","v":"بدراني شريف"},{"$f":"'حجز مواقيت الأقسام'!K31","v":"اجتماعيات"},{"$f":"'حجز مواقيت الأقسام'!L39","v":"بدراني خديجة "},{"$f":"'حجز مواقيت الأقسام'!K39","v":"عربية دعم"},null,null,"سا16 -  سا17",{"$f":"'حجز مواقيت الأقسام'!L47","v":"بدراني خديجة"},{"$f":"'حجز مواقيت الأقسام'!K47","v":"ت.اسلامية"},{"$f":"'حجز مواقيت الأقسام'!L55","v":"كواهي يعقوب"},{"$f":"'حجز مواقيت الأقسام'!K55","v":"فرنسية"},{"$f":"'حجز مواقيت الأقسام'!L63","v":""},{"$f":"'حجز مواقيت الأقسام'!K63","v":0},{"$f":"'حجز مواقيت الأقسام'!L71","v":"بدراني خديجة / حساني عبد القادر"},{"$f":"'حجز مواقيت الأقسام'!K71","v":"عربية/رياضيات"}]
["الخميس","سا08  - سا09",{"$f":"'حجز مواقيت الأقسام'!N8","v":"كواهي يعقوب"},{"$f":"'حجز مواقيت الأقسام'!M8","v":"فرنسية"},{"$f":"'حجز مواقيت الأقسام'!N16","v":"محمدي مريم "},{"$f":"'حجز مواقيت الأقسام'!M16","v":"انجليزية"},{"$f":"'حجز مواقيت الأقسام'!N24","v":"بدراني خديجة"},{"$f":"'حجز مواقيت الأقسام'!M24","v":"ت.اسلامية"},{"$f":"'حجز مواقيت الأقسام'!N32","v":""},{"$f":"'حجز مواقيت الأقسام'!M32","v":0},null,"الخميس","سا08  - سا09",{"$f":"'حجز مواقيت الأقسام'!N40","v":"داودي الميلود"},{"$f":"'حجز مواقيت الأقسام'!M40","v":"فيزياء"},{"$f":"'حجز مواقيت الأقسام'!N48","v":"مجدوب طلحة"},{"$f":"'حجز مواقيت الأقسام'!M48","v":"علوم ط"},{"$f":"'حجز مواقيت الأقسام'!N56","v":"قرمان الشير"},{"$f":"'حجز مواقيت الأقسام'!M56","v":"ت.بدنية"},{"$f":"'حجز مواقيت الأقسام'!N64","v":"كواهي يعقوب"},{"$f":"'حجز مواقيت الأقسام'!M64","v":"فرنسية"}]
[null,"سا09  -  سا10",{"$f":"'حجز مواقيت الأقسام'!N9","v":"محمدي مريم "},{"$f":"'حجز مواقيت الأقسام'!M9","v":"انجليزية"},{"$f":"'حجز مواقيت الأقسام'!N17","v":"مجدوب طلحة"},{"$f":"'حجز مواقيت الأقسام'!M17","v":"علوم ط"},{"$f":"'حجز مواقيت الأقسام'!N25","v":"كواهي يعقوب/محمدي مريم "},{"$f":"'حجز مواقيت الأقسام'!M25","v":"فرنسية/انجليزية"},{"$f":"'حجز مواقيت الأقسام'!N33","v":"كواهي يعقوب"},{"$f":"'حجز مواقيت الأقسام'!M33","v":"فرنسية"},null,null,"سا09  -  سا10",{"$f":"'حجز مواقيت الأقسام'!N41","v":"بدراني خديجة "},{"$f":"'حجز مواقيت الأقسام'!M41","v":"عربية"},{"$f":"'حجز مواقيت الأقسام'!N49","v":"داودي الميلود"},{"$f":"'حجز مواقيت الأقسام'!M49","v":"فيزياء"},{"$f":"'حجز مواقيت الأقسام'!N57","v":"قرمان الشير"},{"$f":"'حجز مواقيت الأقسام'!M57","v":"ت.بدنية"},{"$f":"'حجز مواقيت الأقسام'!N65","v":"مجدوب طلحة"},{"$f":"'حجز مواقيت الأقسام'!M65","v":"علوم ط"}]
[null,"سا10 -  سا11",{"$f":"'حجز مواقيت الأقسام'!N10","v":"مجدوب طلحة"},{"$f":"'حجز مواقيت الأقسام'!M10","v":"علوم ط"},{"$f":"'حجز مواقيت الأقسام'!N18","v":"بدراني خديجة "},{"$f":"'حجز مواقيت الأقسام'!M18","v":"عربية"},{"$f":"'حجز مواقيت الأقسام'!N26","v":"بدراني شريف"},{"$f":"'حجز مواقيت الأقسام'!M26","v":"اجتماعيات"},{"$f":"'حجز مواقيت الأقسام'!N34","v":"بدراني خديجة "},{"$f":"'حجز مواقيت الأقسام'!M34","v":"عربية"},null,null,"سا10 -  سا11",{"$f":"'حجز مواقيت الأقسام'!N42","v":"كواهي يعقوب"},{"$f":"'حجز مواقيت الأقسام'!M42","v":"فرنسية"},{"$f":"'حجز مواقيت الأقسام'!N50","v":"قرمان الشير"},{"$f":"'حجز مواقيت الأقسام'!M50","v":"ت.بدنية"},{"$f":"'حجز مواقيت الأقسام'!N58","v":"بدراني خديجة "},{"$f":"'حجز مواقيت الأقسام'!M58","v":"عربية"},{"$f":"'حجز مواقيت الأقسام'!N66","v":"كواهي يعقوب/محمدي مريم "},{"$f":"'حجز مواقيت الأقسام'!M66","v":"فرنسية/انجليزية"}]
[null,"سا11 -  سا12",{"$f":"'حجز مواقيت الأقسام'!N11","v":"بدراني خديجة "},{"$f":"'حجز مواقيت الأقسام'!M11","v":"عربية"},{"$f":"'حجز مواقيت الأقسام'!N19","v":"كواهي يعقوب"},{"$f":"'حجز مواقيت الأقسام'!M19","v":"فرنسية"},{"$f":"'حجز مواقيت الأقسام'!N27","v":""},{"$f":"'حجز مواقيت الأقسام'!M27","v":0},{"$f":"'حجز مواقيت الأقسام'!N35","v":"كواهي يعقوب/محمدي مريم "},{"$f":"'حجز مواقيت الأقسام'!M35","v":"فرنسية/انجليزية"},null,null,"سا11 -  سا12",{"$f":"'حجز مواقيت الأقسام'!N43","v":""},{"$f":"'حجز مواقيت الأقسام'!M43","v":0},{"$f":"'حجز مواقيت الأقسام'!N51","v":"قرمان الشير"},{"$f":"'حجز مواقيت الأقسام'!M51","v":"ت.بدنية"},{"$f":"'حجز مواقيت الأقسام'!N59","v":"كواهي يعقوب"},{"$f":"'حجز مواقيت الأقسام'!M59","v":"فرنسية"},{"$f":"'حجز مواقيت الأقسام'!N67","v":"بدراني شريف"},{"$f":"'حجز مواقيت الأقسام'!M67","v":"اجتماعيات"}]
[null,"سا13 -  سا14",{"$f":"'حجز مواقيت الأقسام'!N12","v":""},{"$f":"'حجز مواقيت الأقسام'!M12","v":0},{"$f":"'حجز مواقيت الأقسام'!N20","v":""},{"$f":"'حجز مواقيت الأقسام'!M20","v":0},{"$f":"'حجز مواقيت الأقسام'!N28","v":""},{"$f":"'حجز مواقيت الأقسام'!M28","v":0},{"$f":"'حجز مواقيت الأقسام'!N36","v":""},{"$f":"'حجز مواقيت الأقسام'!M36","v":0},null,null,"سا13 -  سا14",{"$f":"'حجز مواقيت الأقسام'!N44","v":""},{"$f":"'حجز مواقيت الأقسام'!M44","v":0},{"$f":"'حجز مواقيت الأقسام'!N52","v":""},{"$f":"'حجز مواقيت الأقسام'!M52","v":0},{"$f":"'حجز مواقيت الأقسام'!N60","v":""},{"$f":"'حجز مواقيت الأقسام'!M60","v":0},{"$f":"'حجز مواقيت الأقسام'!N68","v":""},{"$f":"'حجز مواقيت الأقسام'!M68","v":0}]
[null,"سا14 -  سا15",{"$f":"'حجز مواقيت الأقسام'!N13","v":"بدراني خديجة "},{"$f":"'حجز مواقيت الأقسام'!M13","v":"عربية"},{"$f":"'حجز مواقيت الأقسام'!N21","v":"كواهي يعقوب/محمدي مريم "},{"$f":"'حجز مواقيت الأقسام'!M21","v":"فرنسية/انجليزية"},{"$f":"'حجز مواقيت الأقسام'!N29","v":"بدراني خديجة "},{"$f":"'حجز مواقيت الأقسام'!M29","v":"عربية"},{"$f":"'حجز مواقيت الأقسام'!N37","v":"بدراني شريف"},{"$f":"'حجز مواقيت الأقسام'!M37","v":"اجتماعيات"},null,null,"سا14 -  سا15",{"$f":"'حجز مواقيت الأقسام'!N45","v":"بدراني شريف"},{"$f":"'حجز مواقيت الأقسام'!M45","v":"اجتماعيات"},{"$f":"'حجز مواقيت الأقسام'!N53","v":"كواهي يعقوب"},{"$f":"'حجز مواقيت الأقسام'!M53","v":"فرنسية"},{"$f":"'حجز مواقيت الأقسام'!N61","v":"بدراني خديجة "},{"$f":"'حجز مواقيت الأقسام'!M61","v":"عربية"},{"$f":"'حجز مواقيت الأقسام'!N69","v":"مجدوب طلحة"},{"$f":"'حجز مواقيت الأقسام'!M69","v":"علوم ط"}]
[null,"سا15 -  سا16",{"$f":"'حجز مواقيت الأقسام'!N14","v":"كواهي يعقوب/محمدي مريم "},{"$f":"'حجز مواقيت الأقسام'!M14","v":"فرنسية/انجليزية"},{"$f":"'حجز مواقيت الأقسام'!N22","v":"بدراني خديجة "},{"$f":"'حجز مواقيت الأقسام'!M22","v":"عربية"},{"$f":"'حجز مواقيت الأقسام'!N30","v":"مجدوب طلحة"},{"$f":"'حجز مواقيت الأقسام'!M30","v":"علوم ط"},{"$f":"'حجز مواقيت الأقسام'!N38","v":"بدراني خديجة "},{"$f":"'حجز مواقيت الأقسام'!M38","v":"عربية"},null,null,"سا15 -  سا16",{"$f":"'حجز مواقيت الأقسام'!N46","v":"كواهي يعقوب"},{"$f":"'حجز مواقيت الأقسام'!M46","v":"فرنسية"},{"$f":"'حجز مواقيت الأقسام'!N54","v":"بدراني خديجة "},{"$f":"'حجز مواقيت الأقسام'!M54","v":"عربية"},{"$f":"'حجز مواقيت الأقسام'!N62","v":"بدراني شريف"},{"$f":"'حجز مواقيت الأقسام'!M62","v":"اجتماعيات"},{"$f":"'حجز مواقيت الأقسام'!N70","v":"بدراني خديجة "},{"$f":"'حجز مواقيت الأقسام'!M70","v":"عربية"}]
[null,"سا16 -  سا17",{"$f":"'حجز مواقيت الأقسام'!N15","v":""},{"$f":"'حجز مواقيت الأقسام'!M15","v":0},{"$f":"'حجز مواقيت الأقسام'!N23","v":""},{"$f":"'حجز مواقيت الأقسام'!M23","v":0},{"$f":"'حجز مواقيت الأقسام'!N31","v":""},{"$f":"'حجز مواقيت الأقسام'!M31","v":0},{"$f":"'حجز مواقيت الأقسام'!N39","v":""},{"$f":"'حجز مواقيت الأقسام'!M39","v":0},null,null,"سا16 -  سا17",{"$f":"'حجز مواقيت الأقسام'!N47","v":""},{"$f":"'حجز مواقيت الأقسام'!M47","v":0},{"$f":"'حجز مواقيت الأقسام'!N55","v":""},{"$f":"'حجز مواقيت الأقسام'!M55","v":0},{"$f":"'حجز مواقيت الأقسام'!N63","v":""},{"$f":"'حجز مواقيت الأقسام'!M63","v":0},{"$f":"'حجز مواقيت الأقسام'!N71","v":""},{"$f":"'حجز مواقيت الأقسام'!M71","v":0}]
[]
[]
["الأيام","المواقيت","القسم",{"$f":"'حجز مواقيت الأقسام'!B72","v":"1م2"},"القسم",{"$f":"'حجز مواقيت الأقسام'!B80","v":"1م3"},"القسم",{"$f":"'حجز مواقيت الأقسام'!B88","v":0},"القسم",{"$f":"'حجز مواقيت الأقسام'!B96","v":0},null,"الأيام","المواقيت","القسم",{"$f":"'حجز مواقيت الأقسام'!B104","v":0},"القسم",{"$f":"'حجز مواقيت الأقسام'!B112","v":0},"القسم",{"$f":"'حجز مواقيت الأقسام'!B120","v":0},"القسم",{"$f":"'حجز مواقيت الأقسام'!B128","v":0}]
[null,null,"عدد التلاميذ",{"$f":"التعداد!L19","v":32},"عدد التلاميذ",{"$f":"التعداد!L20","v":0},"عدد التلاميذ",{"$f":"التعداد!L21","v":0},"عدد التلاميذ",{"$f":"التعداد!L22","v":0},null,null,null,"عدد التلاميذ",{"$f":"التعداد!L23","v":0},"عدد التلاميذ",{"$f":"التعداد!L24","v":0},"عدد التلاميذ",{"$f":"التعداد!L25","v":0},"عدد التلاميذ",{"$f":"التعداد!L26","v":0}]
[null,null,"اسم الأستاذ","المادة","اسم الأستاذ","المادة","اسم الأستاذ","المادة","اسم الأستاذ","المادة",null,null,null,"اسم الأستاذ","المادة","اسم الأستاذ","المادة","اسم الأستاذ","المادة","اسم الأستاذ","المادة"]
["الأحــــــــد","سا08  - سا09",{"$f":"'حجز مواقيت الأقسام'!F72","v":"حساني عبد القادر"},{"$f":"'حجز مواقيت الأقسام'!E72","v":"رياضيات"},{"$f":"'حجز مواقيت الأقسام'!F80","v":"داودي الميلود"},{"$f":"'حجز مواقيت الأقسام'!E80","v":"فيزياء"},{"$f":"'حجز مواقيت الأقسام'!F88","v":""},{"$f":"'حجز مواقيت الأقسام'!E88","v":0},{"$f":"'حجز مواقيت الأقسام'!F96","v":""},{"$f":"'حجز مواقيت الأقسام'!E96","v":0},null,"الأحــــــــد","سا08  - سا09",{"$f":"'حجز مواقيت الأقسام'!F104","v":""},{"$f":"'حجز مواقيت الأقسام'!E104","v":0},{"$f":"'حجز مواقيت الأقسام'!F112","v":""},{"$f":"'حجز مواقيت الأقسام'!E112","v":0},{"$f":"'حجز مواقيت الأقسام'!F120","v":""},{"$f":"'حجز مواقيت الأقسام'!E120","v":0},{"$f":"'حجز مواقيت الأقسام'!F128","v":""},{"$f":"'حجز مواقيت الأقسام'!E128","v":0}]
[null,"سا09  -  سا10",{"$f":"'حجز مواقيت الأقسام'!F73","v":"مجدوب طلحة"},{"$f":"'حجز مواقيت الأقسام'!E73","v":"علوم ط"},{"$f":"'حجز مواقيت الأقسام'!F81","v":"بدراني خديجة "},{"$f":"'حجز مواقيت الأقسام'!E81","v":"عربية"},{"$f":"'حجز مواقيت الأقسام'!F89","v":""},{"$f":"'حجز مواقيت الأقسام'!E89","v":0},{"$f":"'حجز مواقيت الأقسام'!F97","v":""},{"$f":"'حجز مواقيت الأقسام'!E97","v":0},null,null,"سا09  -  سا10",{"$f":"'حجز مواقيت الأقسام'!F105","v":""},{"$f":"'حجز مواقيت الأقسام'!E105","v":0},{"$f":"'حجز مواقيت الأقسام'!F113","v":""},{"$f":"'حجز مواقيت الأقسام'!E113","v":0},{"$f":"'حجز مواقيت الأقسام'!F121","v":""},{"$f":"'حجز مواقيت الأقسام'!E121","v":0},{"$f":"'حجز مواقيت الأقسام'!F129","v":""},{"$f":"'حجز مواقيت الأقسام'!E129","v":0}]
[null,"سا10 -  سا11",{"$f":"'حجز مواقيت الأقسام'!F74","v":"محمدي مريم "},{"$f":"'حجز مواقيت الأقسام'!E74","v":"انجليزية"},{"$f":"'حجز مواقيت الأقسام'!F82","v":"كواهي يعقوب"},{"$f":"'حجز مواقيت الأقسام'!E82","v":"فرنسية"},{"$f":"'حجز مواقيت الأقسام'!F90","v":""},{"$f":"'حجز مواقيت الأقسام'!E90","v":0},{"$f":"'حجز مواقيت الأقسام'!F98","v":""},{"$f":"'حجز مواقيت الأقسام'!E98","v":0},null,null,"سا10 -  سا11",{"$f":"'حجز مواقيت الأقسام'!F106","v":""},{"$f":"'حجز مواقيت الأقسام'!E106","v":0},{"$f":"'حجز مواقيت الأقسام'!F114","v":""},{"$f":"'حجز مواقيت الأقسام'!E114","v":0},{"$f":"'حجز مواقيت الأقسام'!F122","v":""},{"$f":"'حجز مواقيت الأقسام'!E122","v":0},{"$f":"'حجز مواقيت الأقسام'!F130","v":""},{"$f":"'حجز مواقيت الأقسام'!E130","v":0}]
[null,"سا11 -  سا12",{"$f":"'حجز مواقيت الأقسام'!F75","v":"كواهي يعقوب"},{"$f":"'حجز مواقيت الأقسام'!E75","v":"فرنسية"},{"$f":"'حجز مواقيت الأقسام'!F83","v":""},{"$f":"'حجز مواقيت الأقسام'!E83","v":0},{"$f":"'حجز مواقيت الأقسام'!F91","v":""},{"$f":"'حجز مواقيت الأقسام'!E91","v":0},{"$f":"'حجز مواقيت الأقسام'!F99","v":""},{"$f":"'حجز مواقيت الأقسام'!E99","v":0},null,null,"سا11 -  سا12",{"$f":"'حجز مواقيت الأقسام'!F107","v":""},{"$f":"'حجز مواقيت الأقسام'!E107","v":0},{"$f":"'حجز مواقيت الأقسام'!F115","v":""},{"$f":"'حجز مواقيت الأقسام'!E115","v":0},{"$f":"'حجز مواقيت الأقسام'!F123","v":""},{"$f":"'حجز مواقيت الأقسام'!E123","v":0},{"$f":"'حجز مواقيت الأقسام'!F131","v":""},{"$f":"'حجز مواقيت الأقسام'!E131","v":0}]
[null,"سا13 -  سا14",{"$f":"'حجز مواقيت الأقسام'!F76","v":""},{"$f":"'حجز مواقيت الأقسام'!E76","v":0},{"$f":"'حجز مواقيت الأقسام'!F84","v":""},{"$f":"'حجز مواقيت الأقسام'!E84","v":0},{"$f":"'حجز مواقيت الأقسام'!F92","v":""},{"$f":"'حجز مواقيت الأقسام'!E92","v":0},{"$f":"'حجز مواقيت الأقسام'!F100","v":""},{"$f":"'حجز مواقيت الأقسام'!E100","v":0},null,null,"سا13 -  سا14",{"$f":"'حجز مواقيت الأقسام'!F108","v":""},{"$f":"'حجز مواقيت الأقسام'!E108","v":0},{"$f":"'حجز مواقيت الأقسام'!F116","v":""},{"$f":"'حجز مواقيت الأقسام'!E116","v":0},{"$f":"'حجز مواقيت الأقسام'!F124","v":""},{"$f":"'حجز مواقيت الأقسام'!E124","v":0},{"$f":"'حجز مواقيت الأقسام'!F132","v":""},{"$f":"'حجز مواقيت الأقسام'!E132","v":0}]
[null,"سا14 -  سا15",{"$f":"'حجز مواقيت الأقسام'!F77","v":"حساني عبد القادر"},{"$f":"'حجز مواقيت الأقسام'!E77","v":"رياضيات"},{"$f":"'حجز مواقيت الأقسام'!F85","v":"بدراني خديجة "},{"$f":"'حجز مواقيت الأقسام'!E85","v":"عربية"},{"$f":"'حجز مواقيت الأقسام'!F93","v":""},{"$f":"'حجز مواقيت الأقسام'!E93","v":0},{"$f":"'حجز مواقيت الأقسام'!F101","v":""},{"$f":"'حجز مواقيت الأقسام'!E101","v":0},null,null,"سا14 -  سا15",{"$f":"'حجز مواقيت الأقسام'!F109","v":""},{"$f":"'حجز مواقيت الأقسام'!E109","v":0},{"$f":"'حجز مواقيت الأقسام'!F117","v":""},{"$f":"'حجز مواقيت الأقسام'!E117","v":0},{"$f":"'حجز مواقيت الأقسام'!F125","v":""},{"$f":"'حجز مواقيت الأقسام'!E125","v":0},{"$f":"'حجز مواقيت الأقسام'!F133","v":""},{"$f":"'حجز مواقيت الأقسام'!E133","v":0}]
[null,"سا15 -  سا16",{"$f":"'حجز مواقيت الأقسام'!F78","v":"بدراني خديجة "},{"$f":"'حجز مواقيت الأقسام'!E78","v":"عربية"},{"$f":"'حجز مواقيت الأقسام'!F86","v":"محمدي مريم "},{"$f":"'حجز مواقيت الأقسام'!E86","v":"انجليزية"},{"$f":"'حجز مواقيت الأقسام'!F94","v":""},{"$f":"'حجز مواقيت الأقسام'!E94","v":0},{"$f":"'حجز مواقيت الأقسام'!F102","v":""},{"$f":"'حجز مواقيت الأقسام'!E102","v":0},null,null,"سا15 -  سا16",{"$f":"'حجز مواقيت الأقسام'!F110","v":""},{"$f":"'حجز مواقيت الأقسام'!E110","v":0},{"$f":"'حجز مواقيت الأقسام'!F118","v":""},{"$f":"'حجز مواقيت الأقسام'!E118","v":0},{"$f":"'حجز مواقيت الأقسام'!F126","v":""},{"$f":"'حجز مواقيت الأقسام'!E126","v":0},{"$f":"'حجز مواقيت الأقسام'!F134","v":""},{"$f":"'حجز مواقيت الأقسام'!E134","v":0}]
[null,"سا16 -  سا17",{"$f":"'حجز مواقيت الأقسام'!F79","v":"جليد الميلود"},{"$f":"'حجز مواقيت الأقسام'!E79","v":"ت.فنية"},{"$f":"'حجز مواقيت الأقسام'!F87","v":""},{"$f":"'حجز مواقيت الأقسام'!E87","v":0},{"$f":"'حجز مواقيت الأقسام'!F95","v":""},{"$f":"'حجز مواقيت الأقسام'!E95","v":0},{"$f":"'حجز مواقيت الأقسام'!F103","v":""},{"$f":"'حجز مواقيت الأقسام'!E103","v":0},null,null,"سا16 -  سا17",{"$f":"'حجز مواقيت الأقسام'!F111","v":""},{"$f":"'حجز مواقيت الأقسام'!E111","v":0},{"$f":"'حجز مواقيت الأقسام'!F119","v":""},{"$f":"'حجز مواقيت الأقسام'!E119","v":0},{"$f":"'حجز مواقيت الأقسام'!F127","v":""},{"$f":"'حجز مواقيت الأقسام'!E127","v":0},{"$f":"'حجز مواقيت الأقسام'!F135","v":""},{"$f":"'حجز مواقيت الأقسام'!E135","v":0}]
["الاثنين","سا08  - سا09",{"$f":"'حجز مواقيت الأقسام'!H72","v":"كواهي يعقوب"},{"$f":"'حجز مواقيت الأقسام'!G72","v":"فرنسية"},{"$f":"'حجز مواقيت الأقسام'!H80","v":"حساني عبد القادر"},{"$f":"'حجز مواقيت الأقسام'!G80","v":"رياضيات"},{"$f":"'حجز مواقيت الأقسام'!H88","v":""},{"$f":"'حجز مواقيت الأقسام'!G88","v":0},{"$f":"'حجز مواقيت الأقسام'!H96","v":""},{"$f":"'حجز مواقيت الأقسام'!G96","v":0},null,"الاثنين","سا08  - سا09",{"$f":"'حجز مواقيت الأقسام'!H104","v":""},{"$f":"'حجز مواقيت الأقسام'!G104","v":0},{"$f":"'حجز مواقيت الأقسام'!H112","v":""},{"$f":"'حجز مواقيت الأقسام'!G112","v":0},{"$f":"'حجز مواقيت الأقسام'!H120","v":""},{"$f":"'حجز مواقيت الأقسام'!G120","v":0},{"$f":"'حجز مواقيت الأقسام'!H128","v":""},{"$f":"'حجز مواقيت الأقسام'!G128","v":0}]
[null,"سا09  -  سا10",{"$f":"'حجز مواقيت الأقسام'!H73","v":"حساني عبد القادر"},{"$f":"'حجز مواقيت الأقسام'!G73","v":"رياضيات"},{"$f":"'حجز مواقيت الأقسام'!H81","v":"كواهي يعقوب"},{"$f":"'حجز مواقيت الأقسام'!G81","v":"فرنسية"},{"$f":"'حجز مواقيت الأقسام'!H89","v":""},{"$f":"'حجز مواقيت الأقسام'!G89","v":0},{"$f":"'حجز مواقيت الأقسام'!H97","v":""},{"$f":"'حجز مواقيت الأقسام'!G97","v":0},null,null,"سا09  -  سا10",{"$f":"'حجز مواقيت الأقسام'!H105","v":""},{"$f":"'حجز مواقيت الأقسام'!G105","v":0},{"$f":"'حجز مواقيت الأقسام'!H113","v":""},{"$f":"'حجز مواقيت الأقسام'!G113","v":0},{"$f":"'حجز مواقيت الأقسام'!H121","v":""},{"$f":"'حجز مواقيت الأقسام'!G121","v":0},{"$f":"'حجز مواقيت الأقسام'!H129","v":""},{"$f":"'حجز مواقيت الأقسام'!G129","v":0}]
[null,"سا10 -  سا11",{"$f":"'حجز مواقيت الأقسام'!H74","v":"قرمان الشير"},{"$f":"'حجز مواقيت الأقسام'!G74","v":"ت.بدنية"},{"$f":"'حجز مواقيت الأقسام'!H82","v":"محمدي مريم "},{"$f":"'حجز مواقيت الأقسام'!G82","v":"انجليزية"},{"$f":"'حجز مواقيت الأقسام'!H90","v":""},{"$f":"'حجز مواقيت الأقسام'!G90","v":0},{"$f":"'حجز مواقيت الأقسام'!H98","v":""},{"$f":"'حجز مواقيت الأقسام'!G98","v":0},null,null,"سا10 -  سا11",{"$f":"'حجز مواقيت الأقسام'!H106","v":""},{"$f":"'حجز مواقيت الأقسام'!G106","v":0},{"$f":"'حجز مواقيت الأقسام'!H114","v":""},{"$f":"'حجز مواقيت الأقسام'!G114","v":0},{"$f":"'حجز مواقيت الأقسام'!H122","v":""},{"$f":"'حجز مواقيت الأقسام'!G122","v":0},{"$f":"'حجز مواقيت الأقسام'!H130","v":""},{"$f":"'حجز مواقيت الأقسام'!G130","v":0}]
[null,"سا11 -  سا12",{"$f":"'حجز مواقيت الأقسام'!H75","v":"قرمان الشير"},{"$f":"'حجز مواقيت الأقسام'!G75","v":"ت.بدنية"},{"$f":"'حجز مواقيت الأقسام'!H83","v":"حساني عبد القادر"},{"$f":"'حجز مواقيت الأقسام'!G83","v":"رياضيات"},{"$f":"'حجز مواقيت الأقسام'!H91","v":""},{"$f":"'حجز مواقيت الأقسام'!G91","v":0},{"$f":"'حجز مواقيت الأقسام'!H99","v":""},{"$f":"'حجز مواقيت الأقسام'!G99","v":0},null,null,"سا11 -  سا12",{"$f":"'حجز مواقيت الأقسام'!H107","v":""},{"$f":"'حجز مواقيت الأقسام'!G107","v":0},{"$f":"'حجز مواقيت الأقسام'!H115","v":""},{"$f":"'حجز مواقيت الأقسام'!G115","v":0},{"$f":"'حجز مواقيت الأقسام'!H123","v":""},{"$f":"'حجز مواقيت الأقسام'!G123","v":0},{"$f":"'حجز مواقيت الأقسام'!H131","v":""},{"$f":"'حجز مواقيت الأقسام'!G131","v":0}]
[null,"سا13 -  سا14",{"$f":"'حجز مواقيت الأقسام'!H76","v":""},{"$f":"'حجز مواقيت الأقسام'!G76","v":0},{"$f":"'حجز مواقيت الأقسام'!H84","v":""},{"$f":"'حجز مواقيت الأقسام'!G84","v":0},{"$f":"'حجز مواقيت الأقسام'!H92","v":""},{"$f":"'حجز مواقيت الأقسام'!G92","v":0},{"$f":"'حجز مواقيت الأقسام'!H100","v":""},{"$f":"'حجز مواقيت الأقسام'!G100","v":0},null,null,"سا13 -  سا14",{"$f":"'حجز مواقيت الأقسام'!H108","v":""},{"$f":"'حجز مواقيت الأقسام'!G108","v":0},{"$f":"'حجز مواقيت الأقسام'!H116","v":""},{"$f":"'حجز مواقيت الأقسام'!G116","v":0},{"$f":"'حجز مواقيت الأقسام'!H124","v":""},{"$f":"'حجز مواقيت الأقسام'!G124","v":0},{"$f":"'حجز مواقيت الأقسام'!H132","v":""},{"$f":"'حجز مواقيت الأقسام'!G132","v":0}]
[null,"سا14 -  سا15",{"$f":"'حجز مواقيت الأقسام'!H77","v":"كواهي يعقوب"},{"$f":"'حجز مواقيت الأقسام'!G77","v":"فرنسية"},{"$f":"'حجز مواقيت الأقسام'!H85","v":"جليد الميلود"},{"$f":"'حجز مواقيت الأقسام'!G85","v":"ت.فنية"},{"$f":"'حجز مواقيت الأقسام'!H93","v":""},{"$f":"'حجز مواقيت الأقسام'!G93","v":0},{"$f":"'حجز مواقيت الأقسام'!H101","v":""},{"$f":"'حجز مواقيت الأقسام'!G101","v":0},null,null,"سا14 -  سا15",{"$f":"'حجز مواقيت الأقسام'!H109","v":""},{"$f":"'حجز مواقيت الأقسام'!G109","v":0},{"$f":"'حجز مواقيت الأقسام'!H117","v":""},{"$f":"'حجز مواقيت الأقسام'!G117","v":0},{"$f":"'حجز مواقيت الأقسام'!H125","v":""},{"$f":"'حجز مواقيت الأقسام'!G125","v":0},{"$f":"'حجز مواقيت الأقسام'!H133","v":""},{"$f":"'حجز مواقيت الأقسام'!G133","v":0}]
[null,"سا15 -  سا16",{"$f":"'حجز مواقيت الأقسام'!H78","v":"بدراني شريف"},{"$f":"'حجز مواقيت الأقسام'!G78","v":"اجتماعيات"},{"$f":"'حجز مواقيت الأقسام'!H86","v":"حساني عبد القادر"},{"$f":"'حجز مواقيت الأقسام'!G86","v":"رياضيات"},{"$f":"'حجز مواقيت الأقسام'!H94","v":""},{"$f":"'حجز مواقيت الأقسام'!G94","v":0},{"$f":"'حجز مواقيت الأقسام'!H102","v":""},{"$f":"'حجز مواقيت الأقسام'!G102","v":0},null,null,"سا15 -  سا16",{"$f":"'حجز مواقيت الأقسام'!H110","v":""},{"$f":"'حجز مواقيت الأقسام'!G110","v":0},{"$f":"'حجز مواقيت الأقسام'!H118","v":""},{"$f":"'حجز مواقيت الأقسام'!G118","v":0},{"$f":"'حجز مواقيت الأقسام'!H126","v":""},{"$f":"'حجز مواقيت الأقسام'!G126","v":0},{"$f":"'حجز مواقيت الأقسام'!H134","v":""},{"$f":"'حجز مواقيت الأقسام'!G134","v":0}]
[null,"سا16 -  سا17",{"$f":"'حجز مواقيت الأقسام'!H79","v":"محمدي مريم "},{"$f":"'حجز مواقيت الأقسام'!G79","v":"انجليزية"},{"$f":"'حجز مواقيت الأقسام'!H87","v":""},{"$f":"'حجز مواقيت الأقسام'!G87","v":0},{"$f":"'حجز مواقيت الأقسام'!H95","v":""},{"$f":"'حجز مواقيت الأقسام'!G95","v":0},{"$f":"'حجز مواقيت الأقسام'!H103","v":""},{"$f":"'حجز مواقيت الأقسام'!G103","v":0},null,null,"سا16 -  سا17",{"$f":"'حجز مواقيت الأقسام'!H111","v":""},{"$f":"'حجز مواقيت الأقسام'!G111","v":0},{"$f":"'حجز مواقيت الأقسام'!H119","v":""},{"$f":"'حجز مواقيت الأقسام'!G119","v":0},{"$f":"'حجز مواقيت الأقسام'!H127","v":""},{"$f":"'حجز مواقيت الأقسام'!G127","v":0},{"$f":"'حجز مواقيت الأقسام'!H135","v":""},{"$f":"'حجز مواقيت الأقسام'!G135","v":0}]
["الثلاثاء","سا08  - سا09",{"$f":"'حجز مواقيت الأقسام'!J72","v":"داودي الميلود"},{"$f":"'حجز مواقيت الأقسام'!I72","v":"فيزياء"},{"$f":"'حجز مواقيت الأقسام'!J80","v":"بدراني خديجة "},{"$f":"'حجز مواقيت الأقسام'!I80","v":"عربية"},{"$f":"'حجز مواقيت الأقسام'!J88","v":""},{"$f":"'حجز مواقيت الأقسام'!I88","v":0},{"$f":"'حجز مواقيت الأقسام'!J96","v":""},{"$f":"'حجز مواقيت الأقسام'!I96","v":0},null,"الثلاثاء","سا08  - سا09",{"$f":"'حجز مواقيت الأقسام'!J104","v":""},{"$f":"'حجز مواقيت الأقسام'!I104","v":0},{"$f":"'حجز مواقيت الأقسام'!J112","v":""},{"$f":"'حجز مواقيت الأقسام'!I112","v":0},{"$f":"'حجز مواقيت الأقسام'!J120","v":""},{"$f":"'حجز مواقيت الأقسام'!I120","v":0},{"$f":"'حجز مواقيت الأقسام'!J128","v":""},{"$f":"'حجز مواقيت الأقسام'!I128","v":0}]
[null,"سا09  -  سا10",{"$f":"'حجز مواقيت الأقسام'!J73","v":"بدراني شريف"},{"$f":"'حجز مواقيت الأقسام'!I73","v":"اجتماعيات"},{"$f":"'حجز مواقيت الأقسام'!J81","v":"مجدوب طلحة"},{"$f":"'حجز مواقيت الأقسام'!I81","v":"علوم ط"},{"$f":"'حجز مواقيت الأقسام'!J89","v":""},{"$f":"'حجز مواقيت الأقسام'!I89","v":0},{"$f":"'حجز مواقيت الأقسام'!J97","v":""},{"$f":"'حجز مواقيت الأقسام'!I97","v":0},null,null,"سا09  -  سا10",{"$f":"'حجز مواقيت الأقسام'!J105","v":""},{"$f":"'حجز مواقيت الأقسام'!I105","v":0},{"$f":"'حجز مواقيت الأقسام'!J113","v":""},{"$f":"'حجز مواقيت الأقسام'!I113","v":0},{"$f":"'حجز مواقيت الأقسام'!J121","v":""},{"$f":"'حجز مواقيت الأقسام'!I121","v":0},{"$f":"'حجز مواقيت الأقسام'!J129","v":""},{"$f":"'حجز مواقيت الأقسام'!I129","v":0}]
[null,"سا10 -  سا11",{"$f":"'حجز مواقيت الأقسام'!J74","v":"بدراني خديجة "},{"$f":"'حجز مواقيت الأقسام'!I74","v":"عربية"},{"$f":"'حجز مواقيت الأقسام'!J82","v":"بدراني شريف"},{"$f":"'حجز مواقيت الأقسام'!I82","v":"اجتماعيات"},{"$f":"'حجز مواقيت الأقسام'!J90","v":""},{"$f":"'حجز مواقيت الأقسام'!I90","v":0},{"$f":"'حجز مواقيت الأقسام'!J98","v":""},{"$f":"'حجز مواقيت الأقسام'!I98","v":0},null,null,"سا10 -  سا11",{"$f":"'حجز مواقيت الأقسام'!J106","v":""},{"$f":"'حجز مواقيت الأقسام'!I106","v":0},{"$f":"'حجز مواقيت الأقسام'!J114","v":""},{"$f":"'حجز مواقيت الأقسام'!I114","v":0},{"$f":"'حجز مواقيت الأقسام'!J122","v":""},{"$f":"'حجز مواقيت الأقسام'!I122","v":0},{"$f":"'حجز مواقيت الأقسام'!J130","v":""},{"$f":"'حجز مواقيت الأقسام'!I130","v":0}]
[null,"سا11 -  سا12",{"$f":"'حجز مواقيت الأقسام'!J75","v":""},{"$f":"'حجز مواقيت الأقسام'!I75","v":0},{"$f":"'حجز مواقيت الأقسام'!J83","v":"حساني عبد القادر"},{"$f":"'حجز مواقيت الأقسام'!I83","v":"رياضيات"},{"$f":"'حجز مواقيت الأقسام'!J91","v":""},{"$f":"'حجز مواقيت الأقسام'!I91","v":0},{"$f":"'حجز مواقيت الأقسام'!J99","v":""},{"$f":"'حجز مواقيت الأقسام'!I99","v":0},null,null,"سا11 -  سا12",{"$f":"'حجز مواقيت الأقسام'!J107","v":""},{"$f":"'حجز مواقيت الأقسام'!I107","v":0},{"$f":"'حجز مواقيت الأقسام'!J115","v":""},{"$f":"'حجز مواقيت الأقسام'!I115","v":0},{"$f":"'حجز مواقيت الأقسام'!J123","v":""},{"$f":"'حجز مواقيت الأقسام'!I123","v":0},{"$f":"'حجز مواقيت الأقسام'!J131","v":""},{"$f":"'حجز مواقيت الأقسام'!I131","v":0}]
[null,"سا13 -  سا14",{"$f":"'حجز مواقيت الأقسام'!J76","v":""},{"$f":"'حجز مواقيت الأقسام'!I76","v":0},{"$f":"'حجز مواقيت الأقسام'!J84","v":""},{"$f":"'حجز مواقيت الأقسام'!I84","v":0},{"$f":"'حجز مواقيت الأقسام'!J92","v":""},{"$f":"'حجز مواقيت الأقسام'!I92","v":0},{"$f":"'حجز مواقيت الأقسام'!J100","v":""},{"$f":"'حجز مواقيت الأقسام'!I100","v":0},null,null,"سا13 -  سا14",{"$f":"'حجز مواقيت الأقسام'!J108","v":""},{"$f":"'حجز مواقيت الأقسام'!I108","v":0},{"$f":"'حجز مواقيت الأقسام'!J116","v":""},{"$f":"'حجز مواقيت الأقسام'!I116","v":0},{"$f":"'حجز مواقيت الأقسام'!J124","v":""},{"$f":"'حجز مواقيت الأقسام'!I124","v":0},{"$f":"'حجز مواقيت الأقسام'!J132","v":""},{"$f":"'حجز مواقيت الأقسام'!I132","v":0}]
[null,"سا14 -  سا15",{"$f":"'حجز مواقيت الأقسام'!J77","v":""},{"$f":"'حجز مواقيت الأقسام'!I77","v":0},{"$f":"'حجز مواقيت الأقسام'!J85","v":""},{"$f":"'حجز مواقيت الأقسام'!I85","v":0},{"$f":"'حجز مواقيت الأقسام'!J93","v":""},{"$f":"'حجز مواقيت الأقسام'!I93","v":0},{"$f":"'حجز مواقيت الأقسام'!J101","v":""},{"$f":"'حجز مواقيت الأقسام'!I101","v":0},null,null,"سا14 -  سا15",{"$f":"'حجز مواقيت الأقسام'!J109","v":""},{"$f":"'حجز مواقيت الأقسام'!I109","v":0},{"$f":"'حجز مواقيت الأقسام'!J117","v":""},{"$f":"'حجز مواقيت الأقسام'!I117","v":0},{"$f":"'حجز مواقيت الأقسام'!J125","v":""},{"$f":"'حجز مواقيت الأقسام'!I125","v":0},{"$f":"'حجز مواقيت الأقسام'!J133","v":""},{"$f":"'حجز مواقيت الأقسام'!I133","v":0}]
[null,"سا15 -  سا16",{"$f":"'حجز مواقيت الأقسام'!J78","v":""},{"$f":"'حجز مواقيت الأقسام'!I78","v":0},{"$f":"'حجز مواقيت الأقسام'!J86","v":""},{"$f":"'حجز مواقيت الأقسام'!I86","v":0},{"$f":"'حجز مواقيت الأقسام'!J94","v":""},{"$f":"'حجز مواقيت الأقسام'!I94","v":0},{"$f":"'حجز مواقيت الأقسام'!J102","v":""},{"$f":"'حجز مواقيت الأقسام'!I102","v":0},null,null,"سا15 -  سا16",{"$f":"'حجز مواقيت الأقسام'!J110","v":""},{"$f":"'حجز مواقيت الأقسام'!I110","v":0},{"$f":"'حجز مواقيت الأقسام'!J118","v":""},{"$f":"'حجز مواقيت الأقسام'!I118","v":0},{"$f":"'حجز مواقيت الأقسام'!J126","v":""},{"$f":"'حجز مواقيت الأقسام'!I126","v":0},{"$f":"'حجز مواقيت الأقسام'!J134","v":""},{"$f":"'حجز مواقيت الأقسام'!I134","v":0}]
[null,"سا16 -  سا17",{"$f":"'حجز مواقيت الأقسام'!J79","v":""},{"$f":"'حجز مواقيت الأقسام'!I79","v":0},{"$f":"'حجز مواقيت الأقسام'!J87","v":""},{"$f":"'حجز مواقيت الأقسام'!I87","v":0},{"$f":"'حجز مواقيت الأقسام'!J95","v":""},{"$f":"'حجز مواقيت الأقسام'!I95","v":0},{"$f":"'حجز مواقيت الأقسام'!J103","v":""},{"$f":"'حجز مواقيت الأقسام'!I103","v":0},null,null,"سا16 -  سا17",{"$f":"'حجز مواقيت الأقسام'!J111","v":""},{"$f":"'حجز مواقيت الأقسام'!I111","v":0},{"$f":"'حجز مواقيت الأقسام'!J119","v":""},{"$f":"'حجز مواقيت الأقسام'!I119","v":0},{"$f":"'حجز مواقيت الأقسام'!J127","v":""},{"$f":"'حجز مواقيت الأقسام'!I127","v":0},{"$f":"'حجز مواقيت الأقسام'!J135","v":""},{"$f":"'حجز مواقيت الأقسام'!I135","v":0}]
["الأربعاء","سا08  - سا09",{"$f":"'حجز مواقيت الأقسام'!L72","v":"حساني عبد القادر"},{"$f":"'حجز مواقيت الأقسام'!K72","v":"رياضيات"},{"$f":"'حجز مواقيت الأقسام'!L80","v":"بدراني خديجة "},{"$f":"'حجز مواقيت الأقسام'!K80","v":"عربية"},{"$f":"'حجز مواقيت الأقسام'!L88","v":""},{"$f":"'حجز مواقيت الأقسام'!K88","v":0},{"$f":"'حجز مواقيت الأقسام'!L96","v":""},{"$f":"'حجز مواقيت الأقسام'!K96","v":0},null,"الأربعاء","سا08  - سا09",{"$f":"'حجز مواقيت الأقسام'!L104","v":""},{"$f":"'حجز مواقيت الأقسام'!K104","v":0},{"$f":"'حجز مواقيت الأقسام'!L112","v":""},{"$f":"'حجز مواقيت الأقسام'!K112","v":0},{"$f":"'حجز مواقيت الأقسام'!L120","v":""},{"$f":"'حجز مواقيت الأقسام'!K120","v":0},{"$f":"'حجز مواقيت الأقسام'!L128","v":""},{"$f":"'حجز مواقيت الأقسام'!K128","v":0}]
[null,"سا09  -  سا10",{"$f":"'حجز مواقيت الأقسام'!L73","v":"بدراني خديجة "},{"$f":"'حجز مواقيت الأقسام'!K73","v":"عربية"},{"$f":"'حجز مواقيت الأقسام'!L81","v":"كواهي يعقوب"},{"$f":"'حجز مواقيت الأقسام'!K81","v":"فرنسية"},{"$f":"'حجز مواقيت الأقسام'!L89","v":""},{"$f":"'حجز مواقيت الأقسام'!K89","v":0},{"$f":"'حجز مواقيت الأقسام'!L97","v":""},{"$f":"'حجز مواقيت الأقسام'!K97","v":0},null,null,"سا09  -  سا10",{"$f":"'حجز مواقيت الأقسام'!L105","v":""},{"$f":"'حجز مواقيت الأقسام'!K105","v":0},{"$f":"'حجز مواقيت الأقسام'!L113","v":""},{"$f":"'حجز مواقيت الأقسام'!K113","v":0},{"$f":"'حجز مواقيت الأقسام'!L121","v":""},{"$f":"'حجز مواقيت الأقسام'!K121","v":0},{"$f":"'حجز مواقيت الأقسام'!L129","v":""},{"$f":"'حجز مواقيت الأقسام'!K129","v":0}]
[null,"سا10 -  سا11",{"$f":"'حجز مواقيت الأقسام'!L74","v":"كواهي يعقوب"},{"$f":"'حجز مواقيت الأقسام'!K74","v":"فرنسية"},{"$f":"'حجز مواقيت الأقسام'!L82","v":"قرمان الشير"},{"$f":"'حجز مواقيت الأقسام'!K82","v":"ت.بدنية"},{"$f":"'حجز مواقيت الأقسام'!L90","v":""},{"$f":"'حجز مواقيت الأقسام'!K90","v":0},{"$f":"'حجز مواقيت الأقسام'!L98","v":""},{"$f":"'حجز مواقيت الأقسام'!K98","v":0},null,null,"سا10 -  سا11",{"$f":"'حجز مواقيت الأقسام'!L106","v":""},{"$f":"'حجز مواقيت الأقسام'!K106","v":0},{"$f":"'حجز مواقيت الأقسام'!L114","v":""},{"$f":"'حجز مواقيت الأقسام'!K114","v":0},{"$f":"'حجز مواقيت الأقسام'!L122","v":""},{"$f":"'حجز مواقيت الأقسام'!K122","v":0},{"$f":"'حجز مواقيت الأقسام'!L130","v":""},{"$f":"'حجز مواقيت الأقسام'!K130","v":0}]
[null,"سا11 -  سا12",{"$f":"'حجز مواقيت الأقسام'!L75","v":""},{"$f":"'حجز مواقيت الأقسام'!K75","v":0},{"$f":"'حجز مواقيت الأقسام'!L83","v":"قرمان الشير"},{"$f":"'حجز مواقيت الأقسام'!K83","v":"ت.بدنية"},{"$f":"'حجز مواقيت الأقسام'!L91","v":""},{"$f":"'حجز مواقيت الأقسام'!K91","v":0},{"$f":"'حجز مواقيت الأقسام'!L99","v":""},{"$f":"'حجز مواقيت الأقسام'!K99","v":0},null,null,"سا11 -  سا12",{"$f":"'حجز مواقيت الأقسام'!L107","v":""},{"$f":"'حجز مواقيت الأقسام'!K107","v":0},{"$f":"'حجز مواقيت الأقسام'!L115","v":""},{"$f":"'حجز مواقيت الأقسام'!K115","v":0},{"$f":"'حجز مواقيت الأقسام'!L123","v":""},{"$f":"'حجز مواقيت الأقسام'!K123","v":0},{"$f":"'حجز مواقيت الأقسام'!L131","v":""},{"$f":"'حجز مواقيت الأقسام'!K131","v":0}]
[null,"سا13 -  سا14",{"$f":"'حجز مواقيت الأقسام'!L76","v":""},{"$f":"'حجز مواقيت الأقسام'!K76","v":0},{"$f":"'حجز مواقيت الأقسام'!L84","v":""},{"$f":"'حجز مواقيت الأقسام'!K84","v":0},{"$f":"'حجز مواقيت الأقسام'!L92","v":""},{"$f":"'حجز مواقيت الأقسام'!K92","v":0},{"$f":"'حجز مواقيت الأقسام'!L100","v":""},{"$f":"'حجز مواقيت الأقسام'!K100","v":0},null,null,"سا13 -  سا14",{"$f":"'حجز مواقيت الأقسام'!L108","v":""},{"$f":"'حجز مواقيت الأقسام'!K108","v":0},{"$f":"'حجز مواقيت الأقسام'!L116","v":""},{"$f":"'حجز مواقيت الأقسام'!K116","v":0},{"$f":"'حجز مواقيت الأقسام'!L124","v":""},{"$f":"'حجز مواقيت الأقسام'!K124","v":0},{"$f":"'حجز مواقيت الأقسام'!L132","v":""},{"$f":"'حجز مواقيت الأقسام'!K132","v":0}]
[null,"سا14 -  سا15",{"$f":"'حجز مواقيت الأقسام'!L77","v":"بدراني شريف"},{"$f":"'حجز مواقيت الأقسام'!K77","v":"اجتماعيات"},{"$f":"'حجز مواقيت الأقسام'!L85","v":"بدراني خديجة / حساني عبد القادر"},{"$f":"'حجز مواقيت الأقسام'!K85","v":"عربية/رياضيات"},{"$f":"'حجز مواقيت الأقسام'!L93","v":""},{"$f":"'حجز مواقيت الأقسام'!K93","v":0},{"$f":"'حجز مواقيت الأقسام'!L101","v":""},{"$f":"'حجز مواقيت الأقسام'!K101","v":0},null,null,"سا14 -  سا15",{"$f":"'حجز مواقيت الأقسام'!L109","v":""},{"$f":"'حجز مواقيت الأقسام'!K109","v":0},{"$f":"'حجز مواقيت الأقسام'!L117","v":""},{"$f":"'حجز مواقيت الأقسام'!K117","v":0},{"$f":"'حجز مواقيت الأقسام'!L125","v":""},{"$f":"'حجز مواقيت الأقسام'!K125","v":0},{"$f":"'حجز مواقيت الأقسام'!L133","v":""},{"$f":"'حجز مواقيت الأقسام'!K133","v":0}]
[null,"سا15 -  سا16",{"$f":"'حجز مواقيت الأقسام'!L78","v":"بدراني خديجة / حساني عبد القادر"},{"$f":"'حجز مواقيت الأقسام'!K78","v":"عربية/رياضيات"},{"$f":"'حجز مواقيت الأقسام'!L86","v":"بدراني شريف"},{"$f":"'حجز مواقيت الأقسام'!K86","v":"اجتماعيات"},{"$f":"'حجز مواقيت الأقسام'!L94","v":""},{"$f":"'حجز مواقيت الأقسام'!K94","v":0},{"$f":"'حجز مواقيت الأقسام'!L102","v":""},{"$f":"'حجز مواقيت الأقسام'!K102","v":0},null,null,"سا15 -  سا16",{"$f":"'حجز مواقيت الأقسام'!L110","v":""},{"$f":"'حجز مواقيت الأقسام'!K110","v":0},{"$f":"'حجز مواقيت الأقسام'!L118","v":""},{"$f":"'حجز مواقيت الأقسام'!K118","v":0},{"$f":"'حجز مواقيت الأقسام'!L126","v":""},{"$f":"'حجز مواقيت الأقسام'!K126","v":0},{"$f":"'حجز مواقيت الأقسام'!L134","v":""},{"$f":"'حجز مواقيت الأقسام'!K134","v":0}]
[null,"سا16 -  سا17",{"$f":"'حجز مواقيت الأقسام'!L79","v":""},{"$f":"'حجز مواقيت الأقسام'!K79","v":0},{"$f":"'حجز مواقيت الأقسام'!L87","v":""},{"$f":"'حجز مواقيت الأقسام'!K87","v":0},{"$f":"'حجز مواقيت الأقسام'!L95","v":""},{"$f":"'حجز مواقيت الأقسام'!K95","v":0},{"$f":"'حجز مواقيت الأقسام'!L103","v":""},{"$f":"'حجز مواقيت الأقسام'!K103","v":0},null,null,"سا16 -  سا17",{"$f":"'حجز مواقيت الأقسام'!L111","v":""},{"$f":"'حجز مواقيت الأقسام'!K111","v":0},{"$f":"'حجز مواقيت الأقسام'!L119","v":""},{"$f":"'حجز مواقيت الأقسام'!K119","v":0},{"$f":"'حجز مواقيت الأقسام'!L127","v":""},{"$f":"'حجز مواقيت الأقسام'!K127","v":0},{"$f":"'حجز مواقيت الأقسام'!L135","v":""},{"$f":"'حجز مواقيت الأقسام'!K135","v":0}]
["الخميس","سا08  - سا09",{"$f":"'حجز مواقيت الأقسام'!N72","v":"بدراني خديجة "},{"$f":"'حجز مواقيت الأقسام'!M72","v":"عربية"},{"$f":"'حجز مواقيت الأقسام'!N80","v":"داودي الميلود"},{"$f":"'حجز مواقيت الأقسام'!M80","v":"فيزياء"},{"$f":"'حجز مواقيت الأقسام'!N88","v":""},{"$f":"'حجز مواقيت الأقسام'!M88","v":0},{"$f":"'حجز مواقيت الأقسام'!N96","v":""},{"$f":"'حجز مواقيت الأقسام'!M96","v":0},null,"الخميس","سا08  - سا09",{"$f":"'حجز مواقيت الأقسام'!N104","v":""},{"$f":"'حجز مواقيت الأقسام'!M104","v":0},{"$f":"'حجز مواقيت الأقسام'!N112","v":""},{"$f":"'حجز مواقيت الأقسام'!M112","v":0},{"$f":"'حجز مواقيت الأقسام'!N120","v":""},{"$f":"'حجز مواقيت الأقسام'!M120","v":0},{"$f":"'حجز مواقيت الأقسام'!N128","v":""},{"$f":"'حجز مواقيت الأقسام'!M128","v":0}]
[null,"سا09  -  سا10",{"$f":"'حجز مواقيت الأقسام'!N73","v":"بدراني خديجة"},{"$f":"'حجز مواقيت الأقسام'!M73","v":"ت.اسلامية"},{"$f":"'حجز مواقيت الأقسام'!N81","v":"داودي الميلود"},{"$f":"'حجز مواقيت الأقسام'!M81","v":"فيزياء"},{"$f":"'حجز مواقيت الأقسام'!N89","v":""},{"$f":"'حجز مواقيت الأقسام'!M89","v":0},{"$f":"'حجز مواقيت الأقسام'!N97","v":""},{"$f":"'حجز مواقيت الأقسام'!M97","v":0},null,null,"سا09  -  سا10",{"$f":"'حجز مواقيت الأقسام'!N105","v":""},{"$f":"'حجز مواقيت الأقسام'!M105","v":0},{"$f":"'حجز مواقيت الأقسام'!N113","v":""},{"$f":"'حجز مواقيت الأقسام'!M113","v":0},{"$f":"'حجز مواقيت الأقسام'!N121","v":""},{"$f":"'حجز مواقيت الأقسام'!M121","v":0},{"$f":"'حجز مواقيت الأقسام'!N129","v":""},{"$f":"'حجز مواقيت الأقسام'!M129","v":0}]
[null,"سا10 -  سا11",{"$f":"'حجز مواقيت الأقسام'!N74","v":"داودي الميلود"},{"$f":"'حجز مواقيت الأقسام'!M74","v":"فيزياء"},{"$f":"'حجز مواقيت الأقسام'!N82","v":"بدراني خديجة "},{"$f":"'حجز مواقيت الأقسام'!M82","v":"عربية"},{"$f":"'حجز مواقيت الأقسام'!N90","v":""},{"$f":"'حجز مواقيت الأقسام'!M90","v":0},{"$f":"'حجز مواقيت الأقسام'!N98","v":""},{"$f":"'حجز مواقيت الأقسام'!M98","v":0},null,null,"سا10 -  سا11",{"$f":"'حجز مواقيت الأقسام'!N106","v":""},{"$f":"'حجز مواقيت الأقسام'!M106","v":0},{"$f":"'حجز مواقيت الأقسام'!N114","v":""},{"$f":"'حجز مواقيت الأقسام'!M114","v":0},{"$f":"'حجز مواقيت الأقسام'!N122","v":""},{"$f":"'حجز مواقيت الأقسام'!M122","v":0},{"$f":"'حجز مواقيت الأقسام'!N130","v":""},{"$f":"'حجز مواقيت الأقسام'!M130","v":0}]
[null,"سا11 -  سا12",{"$f":"'حجز مواقيت الأقسام'!N75","v":"داودي الميلود"},{"$f":"'حجز مواقيت الأقسام'!M75","v":"فيزياء"},{"$f":"'حجز مواقيت الأقسام'!N83","v":"بدراني خديجة"},{"$f":"'حجز مواقيت الأقسام'!M83","v":"ت.اسلامية"},{"$f":"'حجز مواقيت الأقسام'!N91","v":""},{"$f":"'حجز مواقيت الأقسام'!M91","v":0},{"$f":"'حجز مواقيت الأقسام'!N99","v":""},{"$f":"'حجز مواقيت الأقسام'!M99","v":0},null,null,"سا11 -  سا12",{"$f":"'حجز مواقيت الأقسام'!N107","v":""},{"$f":"'حجز مواقيت الأقسام'!M107","v":0},{"$f":"'حجز مواقيت الأقسام'!N115","v":""},{"$f":"'حجز مواقيت الأقسام'!M115","v":0},{"$f":"'حجز مواقيت الأقسام'!N123","v":""},{"$f":"'حجز مواقيت الأقسام'!M123","v":0},{"$f":"'حجز مواقيت الأقسام'!N131","v":""},{"$f":"'حجز مواقيت الأقسام'!M131","v":0}]
[null,"سا13 -  سا14",{"$f":"'حجز مواقيت الأقسام'!N76","v":""},{"$f":"'حجز مواقيت الأقسام'!M76","v":0},{"$f":"'حجز مواقيت الأقسام'!N84","v":""},{"$f":"'حجز مواقيت الأقسام'!M84","v":0},{"$f":"'حجز مواقيت الأقسام'!N92","v":""},{"$f":"'حجز مواقيت الأقسام'!M92","v":0},{"$f":"'حجز مواقيت الأقسام'!N100","v":""},{"$f":"'حجز مواقيت الأقسام'!M100","v":0},null,null,"سا13 -  سا14",{"$f":"'حجز مواقيت الأقسام'!N108","v":""},{"$f":"'حجز مواقيت الأقسام'!M108","v":0},{"$f":"'حجز مواقيت الأقسام'!N116","v":""},{"$f":"'حجز مواقيت الأقسام'!M116","v":0},{"$f":"'حجز مواقيت الأقسام'!N124","v":""},{"$f":"'حجز مواقيت الأقسام'!M124","v":0},{"$f":"'حجز مواقيت الأقسام'!N132","v":""},{"$f":"'حجز مواقيت الأقسام'!M132","v":0}]
[null,"سا14 -  سا15",{"$f":"'حجز مواقيت الأقسام'!N77","v":"بدراني خديجة "},{"$f":"'حجز مواقيت الأقسام'!M77","v":"عربية"},{"$f":"'حجز مواقيت الأقسام'!N85","v":"كواهي يعقوب/محمدي مريم "},{"$f":"'حجز مواقيت الأقسام'!M85","v":"فرنسية/انجليزية"},{"$f":"'حجز مواقيت الأقسام'!N93","v":""},{"$f":"'حجز مواقيت الأقسام'!M93","v":0},{"$f":"'حجز مواقيت الأقسام'!N101","v":""},{"$f":"'حجز مواقيت الأقسام'!M101","v":0},null,null,"سا14 -  سا15",{"$f":"'حجز مواقيت الأقسام'!N109","v":""},{"$f":"'حجز مواقيت الأقسام'!M109","v":0},{"$f":"'حجز مواقيت الأقسام'!N117","v":""},{"$f":"'حجز مواقيت الأقسام'!M117","v":0},{"$f":"'حجز مواقيت الأقسام'!N125","v":""},{"$f":"'حجز مواقيت الأقسام'!M125","v":0},{"$f":"'حجز مواقيت الأقسام'!N133","v":""},{"$f":"'حجز مواقيت الأقسام'!M133","v":0}]
[null,"سا15 -  سا16",{"$f":"'حجز مواقيت الأقسام'!N78","v":"كواهي يعقوب/محمدي مريم "},{"$f":"'حجز مواقيت الأقسام'!M78","v":"فرنسية/انجليزية"},{"$f":"'حجز مواقيت الأقسام'!N86","v":"بدراني شريف"},{"$f":"'حجز مواقيت الأقسام'!M86","v":"اجتماعيات"},{"$f":"'حجز مواقيت الأقسام'!N94","v":""},{"$f":"'حجز مواقيت الأقسام'!M94","v":0},{"$f":"'حجز مواقيت الأقسام'!N102","v":""},{"$f":"'حجز مواقيت الأقسام'!M102","v":0},null,null,"سا15 -  سا16",{"$f":"'حجز مواقيت الأقسام'!N110","v":""},{"$f":"'حجز مواقيت الأقسام'!M110","v":0},{"$f":"'حجز مواقيت الأقسام'!N118","v":""},{"$f":"'حجز مواقيت الأقسام'!M118","v":0},{"$f":"'حجز مواقيت الأقسام'!N126","v":""},{"$f":"'حجز مواقيت الأقسام'!M126","v":0},{"$f":"'حجز مواقيت الأقسام'!N134","v":""},{"$f":"'حجز مواقيت الأقسام'!M134","v":0}]
[null,"سا16 -  سا17",{"$f":"'حجز مواقيت الأقسام'!N79","v":""},{"$f":"'حجز مواقيت الأقسام'!M79","v":0},{"$f":"'حجز مواقيت الأقسام'!N87","v":""},{"$f":"'حجز مواقيت الأقسام'!M87","v":0},{"$f":"'حجز مواقيت الأقسام'!N95","v":""},{"$f":"'حجز مواقيت الأقسام'!M95","v":0},{"$f":"'حجز مواقيت الأقسام'!N103","v":""},{"$f":"'حجز مواقيت الأقسام'!M103","v":0},null,null,"سا16 -  سا17",{"$f":"'حجز مواقيت الأقسام'!N111","v":""},{"$f":"'حجز مواقيت الأقسام'!M111","v":0},{"$f":"'حجز مواقيت الأقسام'!N119","v":""},{"$f":"'حجز مواقيت الأقسام'!M119","v":0},{"$f":"'حجز مواقيت الأقسام'!N127","v":""},{"$f":"'حجز مواقيت الأقسام'!M127","v":0},{"$f":"'حجز مواقيت الأقسام'!N135","v":""},{"$f":"'حجز مواقيت الأقسام'!M135","v":0}]
[]
[]
["الأيام","المواقيت","القسم",{"$f":"'حجز مواقيت الأقسام'!B136","v":0},"القسم",{"$f":"'حجز مواقيت الأقسام'!B144","v":0},"القسم",{"$f":"'حجز مواقيت الأقسام'!B152","v":0},"القسم",{"$f":"'حجز مواقيت الأقسام'!B160","v":0},null,"الأيام","المواقيت","القسم",{"$f":"'حجز مواقيت الأقسام'!B168","v":0},"القسم",{"$f":"'حجز مواقيت الأقسام'!B176","v":0},"القسم",{"$f":"'حجز مواقيت الأقسام'!B184","v":0},"القسم",{"$f":"'حجز مواقيت الأقسام'!B192","v":0}]
[null,null,"عدد التلاميذ",{"$f":"التعداد!L27","v":0},"عدد التلاميذ",{"$f":"التعداد!L28","v":0},"عدد التلاميذ",{"$f":"التعداد!L29","v":0},"عدد التلاميذ",{"$f":"التعداد!L30","v":0},null,null,null,"عدد التلاميذ",{"$f":"التعداد!L31","v":0},"عدد التلاميذ",{"$f":"التعداد!L32","v":0},"عدد التلاميذ",{"$f":"التعداد!L33","v":0},"عدد التلاميذ",{"$f":"التعداد!L34","v":0}]
[null,null,"اسم الأستاذ","المادة","اسم الأستاذ","المادة","اسم الأستاذ","المادة","اسم الأستاذ","المادة",null,null,null,"اسم الأستاذ","المادة","اسم الأستاذ","المادة","اسم الأستاذ","المادة","اسم الأستاذ","المادة"]
["الأحــــــــد","سا08  - سا09",{"$f":"'حجز مواقيت الأقسام'!F136","v":""},{"$f":"'حجز مواقيت الأقسام'!E136","v":0},{"$f":"'حجز مواقيت الأقسام'!F144","v":""},{"$f":"'حجز مواقيت الأقسام'!E144","v":0},{"$f":"'حجز مواقيت الأقسام'!F152","v":""},{"$f":"'حجز مواقيت الأقسام'!E152","v":0},{"$f":"'حجز مواقيت الأقسام'!F160","v":""},{"$f":"'حجز مواقيت الأقسام'!E160","v":0},null,"الأحــــــــد","سا08  - سا09",{"$f":"'حجز مواقيت الأقسام'!F168","v":""},{"$f":"'حجز مواقيت الأقسام'!E168","v":0},{"$f":"'حجز مواقيت الأقسام'!F176","v":""},{"$f":"'حجز مواقيت الأقسام'!E176","v":0},{"$f":"'حجز مواقيت الأقسام'!F184","v":""},{"$f":"'حجز مواقيت الأقسام'!E184","v":0},{"$f":"'حجز مواقيت الأقسام'!F192","v":""},{"$f":"'حجز مواقيت الأقسام'!E192","v":0}]
[null,"سا09  -  سا10",{"$f":"'حجز مواقيت الأقسام'!F137","v":""},{"$f":"'حجز مواقيت الأقسام'!E137","v":0},{"$f":"'حجز مواقيت الأقسام'!F145","v":""},{"$f":"'حجز مواقيت الأقسام'!E145","v":0},{"$f":"'حجز مواقيت الأقسام'!F153","v":""},{"$f":"'حجز مواقيت الأقسام'!E153","v":0},{"$f":"'حجز مواقيت الأقسام'!F161","v":""},{"$f":"'حجز مواقيت الأقسام'!E161","v":0},null,null,"سا09  -  سا10",{"$f":"'حجز مواقيت الأقسام'!F169","v":""},{"$f":"'حجز مواقيت الأقسام'!E169","v":0},{"$f":"'حجز مواقيت الأقسام'!F177","v":""},{"$f":"'حجز مواقيت الأقسام'!E177","v":0},{"$f":"'حجز مواقيت الأقسام'!F185","v":""},{"$f":"'حجز مواقيت الأقسام'!E185","v":0},{"$f":"'حجز مواقيت الأقسام'!F193","v":""},{"$f":"'حجز مواقيت الأقسام'!E193","v":0}]
[null,"سا10 -  سا11",{"$f":"'حجز مواقيت الأقسام'!F138","v":""},{"$f":"'حجز مواقيت الأقسام'!E138","v":0},{"$f":"'حجز مواقيت الأقسام'!F146","v":""},{"$f":"'حجز مواقيت الأقسام'!E146","v":0},{"$f":"'حجز مواقيت الأقسام'!F154","v":""},{"$f":"'حجز مواقيت الأقسام'!E154","v":0},{"$f":"'حجز مواقيت الأقسام'!F162","v":""},{"$f":"'حجز مواقيت الأقسام'!E162","v":0},null,null,"سا10 -  سا11",{"$f":"'حجز مواقيت الأقسام'!F170","v":""},{"$f":"'حجز مواقيت الأقسام'!E170","v":0},{"$f":"'حجز مواقيت الأقسام'!F178","v":""},{"$f":"'حجز مواقيت الأقسام'!E178","v":0},{"$f":"'حجز مواقيت الأقسام'!F186","v":""},{"$f":"'حجز مواقيت الأقسام'!E186","v":0},{"$f":"'حجز مواقيت الأقسام'!F194","v":""},{"$f":"'حجز مواقيت الأقسام'!E194","v":0}]
[null,"سا11 -  سا12",{"$f":"'حجز مواقيت الأقسام'!F139","v":""},{"$f":"'حجز مواقيت الأقسام'!E139","v":0},{"$f":"'حجز مواقيت الأقسام'!F147","v":""},{"$f":"'حجز مواقيت الأقسام'!E147","v":0},{"$f":"'حجز مواقيت الأقسام'!F155","v":""},{"$f":"'حجز مواقيت الأقسام'!E155","v":0},{"$f":"'حجز مواقيت الأقسام'!F163","v":""},{"$f":"'حجز مواقيت الأقسام'!E163","v":0},null,null,"سا11 -  سا12",{"$f":"'حجز مواقيت الأقسام'!F171","v":""},{"$f":"'حجز مواقيت الأقسام'!E171","v":0},{"$f":"'حجز مواقيت الأقسام'!F179","v":""},{"$f":"'حجز مواقيت الأقسام'!E179","v":0},{"$f":"'حجز مواقيت الأقسام'!F187","v":""},{"$f":"'حجز مواقيت الأقسام'!E187","v":0},{"$f":"'حجز مواقيت الأقسام'!F195","v":""},{"$f":"'حجز مواقيت الأقسام'!E195","v":0}]
[null,"سا13 -  سا14",{"$f":"'حجز مواقيت الأقسام'!F140","v":""},{"$f":"'حجز مواقيت الأقسام'!E140","v":0},{"$f":"'حجز مواقيت الأقسام'!F148","v":""},{"$f":"'حجز مواقيت الأقسام'!E148","v":0},{"$f":"'حجز مواقيت الأقسام'!F156","v":""},{"$f":"'حجز مواقيت الأقسام'!E156","v":0},{"$f":"'حجز مواقيت الأقسام'!F164","v":""},{"$f":"'حجز مواقيت الأقسام'!E164","v":0},null,null,"سا13 -  سا14",{"$f":"'حجز مواقيت الأقسام'!F172","v":""},{"$f":"'حجز مواقيت الأقسام'!E172","v":0},{"$f":"'حجز مواقيت الأقسام'!F180","v":""},{"$f":"'حجز مواقيت الأقسام'!E180","v":0},{"$f":"'حجز مواقيت الأقسام'!F188","v":""},{"$f":"'حجز مواقيت الأقسام'!E188","v":0},{"$f":"'حجز مواقيت الأقسام'!F196","v":""},{"$f":"'حجز مواقيت الأقسام'!E196","v":0}]
[null,"سا14 -  سا15",{"$f":"'حجز مواقيت الأقسام'!F141","v":""},{"$f":"'حجز مواقيت الأقسام'!E141","v":0},{"$f":"'حجز مواقيت الأقسام'!F149","v":""},{"$f":"'حجز مواقيت الأقسام'!E149","v":0},{"$f":"'حجز مواقيت الأقسام'!F157","v":""},{"$f":"'حجز مواقيت الأقسام'!E157","v":0},{"$f":"'حجز مواقيت الأقسام'!F165","v":""},{"$f":"'حجز مواقيت الأقسام'!E165","v":0},null,null,"سا14 -  سا15",{"$f":"'حجز مواقيت الأقسام'!F173","v":""},{"$f":"'حجز مواقيت الأقسام'!E173","v":0},{"$f":"'حجز مواقيت الأقسام'!F181","v":""},{"$f":"'حجز مواقيت الأقسام'!E181","v":0},{"$f":"'حجز مواقيت الأقسام'!F189","v":""},{"$f":"'حجز مواقيت الأقسام'!E189","v":0},{"$f":"'حجز مواقيت الأقسام'!F197","v":""},{"$f":"'حجز مواقيت الأقسام'!E197","v":0}]
[null,"سا15 -  سا16",{"$f":"'حجز مواقيت الأقسام'!F142","v":""},{"$f":"'حجز مواقيت الأقسام'!E142","v":0},{"$f":"'حجز مواقيت الأقسام'!F150","v":""},{"$f":"'حجز مواقيت الأقسام'!E150","v":0},{"$f":"'حجز مواقيت الأقسام'!F158","v":""},{"$f":"'حجز مواقيت الأقسام'!E158","v":0},{"$f":"'حجز مواقيت الأقسام'!F166","v":""},{"$f":"'حجز مواقيت الأقسام'!E166","v":0},null,null,"سا15 -  سا16",{"$f":"'حجز مواقيت الأقسام'!F174","v":""},{"$f":"'حجز مواقيت الأقسام'!E174","v":0},{"$f":"'حجز مواقيت الأقسام'!F182","v":""},{"$f":"'حجز مواقيت الأقسام'!E182","v":0},{"$f":"'حجز مواقيت الأقسام'!F190","v":""},{"$f":"'حجز مواقيت الأقسام'!E190","v":0},{"$f":"'حجز مواقيت الأقسام'!F198","v":""},{"$f":"'حجز مواقيت الأقسام'!E198","v":0}]
[null,"سا16 -  سا17",{"$f":"'حجز مواقيت الأقسام'!F143","v":""},{"$f":"'حجز مواقيت الأقسام'!E143","v":0},{"$f":"'حجز مواقيت الأقسام'!F151","v":""},{"$f":"'حجز مواقيت الأقسام'!E151","v":0},{"$f":"'حجز مواقيت الأقسام'!F159","v":""},{"$f":"'حجز مواقيت الأقسام'!E159","v":0},{"$f":"'حجز مواقيت الأقسام'!F167","v":""},{"$f":"'حجز مواقيت الأقسام'!E167","v":0},null,null,"سا16 -  سا17",{"$f":"'حجز مواقيت الأقسام'!F175","v":""},{"$f":"'حجز مواقيت الأقسام'!E175","v":0},{"$f":"'حجز مواقيت الأقسام'!F183","v":""},{"$f":"'حجز مواقيت الأقسام'!E183","v":0},{"$f":"'حجز مواقيت الأقسام'!F191","v":""},{"$f":"'حجز مواقيت الأقسام'!E191","v":0},{"$f":"'حجز مواقيت الأقسام'!F199","v":""},{"$f":"'حجز مواقيت الأقسام'!E199","v":0}]
["الاثنين","سا08  - سا09",{"$f":"'حجز مواقيت الأقسام'!H136","v":""},{"$f":"'حجز مواقيت الأقسام'!G136","v":0},{"$f":"'حجز مواقيت الأقسام'!H144","v":""},{"$f":"'حجز مواقيت الأقسام'!G144","v":0},{"$f":"'حجز مواقيت الأقسام'!H152","v":""},{"$f":"'حجز مواقيت الأقسام'!G152","v":0},{"$f":"'حجز مواقيت الأقسام'!H160","v":""},{"$f":"'حجز مواقيت الأقسام'!G160","v":0},null,"الاثنين","سا08  - سا09",{"$f":"'حجز مواقيت الأقسام'!H168","v":""},{"$f":"'حجز مواقيت الأقسام'!G168","v":0},{"$f":"'حجز مواقيت الأقسام'!H176","v":""},{"$f":"'حجز مواقيت الأقسام'!G176","v":0},{"$f":"'حجز مواقيت الأقسام'!H184","v":""},{"$f":"'حجز مواقيت الأقسام'!G184","v":0},{"$f":"'حجز مواقيت الأقسام'!H192","v":""},{"$f":"'حجز مواقيت الأقسام'!G192","v":0}]
[null,"سا09  -  سا10",{"$f":"'حجز مواقيت الأقسام'!H137","v":""},{"$f":"'حجز مواقيت الأقسام'!G137","v":0},{"$f":"'حجز مواقيت الأقسام'!H145","v":""},{"$f":"'حجز مواقيت الأقسام'!G145","v":0},{"$f":"'حجز مواقيت الأقسام'!H153","v":""},{"$f":"'حجز مواقيت الأقسام'!G153","v":0},{"$f":"'حجز مواقيت الأقسام'!H161","v":""},{"$f":"'حجز مواقيت الأقسام'!G161","v":0},null,null,"سا09  -  سا10",{"$f":"'حجز مواقيت الأقسام'!H169","v":""},{"$f":"'حجز مواقيت الأقسام'!G169","v":0},{"$f":"'حجز مواقيت الأقسام'!H177","v":""},{"$f":"'حجز مواقيت الأقسام'!G177","v":0},{"$f":"'حجز مواقيت الأقسام'!H185","v":""},{"$f":"'حجز مواقيت الأقسام'!G185","v":0},{"$f":"'حجز مواقيت الأقسام'!H193","v":""},{"$f":"'حجز مواقيت الأقسام'!G193","v":0}]
[null,"سا10 -  سا11",{"$f":"'حجز مواقيت الأقسام'!H138","v":""},{"$f":"'حجز مواقيت الأقسام'!G138","v":0},{"$f":"'حجز مواقيت الأقسام'!H146","v":""},{"$f":"'حجز مواقيت الأقسام'!G146","v":0},{"$f":"'حجز مواقيت الأقسام'!H154","v":""},{"$f":"'حجز مواقيت الأقسام'!G154","v":0},{"$f":"'حجز مواقيت الأقسام'!H162","v":""},{"$f":"'حجز مواقيت الأقسام'!G162","v":0},null,null,"سا10 -  سا11",{"$f":"'حجز مواقيت الأقسام'!H170","v":""},{"$f":"'حجز مواقيت الأقسام'!G170","v":0},{"$f":"'حجز مواقيت الأقسام'!H178","v":""},{"$f":"'حجز مواقيت الأقسام'!G178","v":0},{"$f":"'حجز مواقيت الأقسام'!H186","v":""},{"$f":"'حجز مواقيت الأقسام'!G186","v":0},{"$f":"'حجز مواقيت الأقسام'!H194","v":""},{"$f":"'حجز مواقيت الأقسام'!G194","v":0}]
[null,"سا11 -  سا12",{"$f":"'حجز مواقيت الأقسام'!H139","v":""},{"$f":"'حجز مواقيت الأقسام'!G139","v":0},{"$f":"'حجز مواقيت الأقسام'!H147","v":""},{"$f":"'حجز مواقيت الأقسام'!G147","v":0},{"$f":"'حجز مواقيت الأقسام'!H155","v":""},{"$f":"'حجز مواقيت الأقسام'!G155","v":0},{"$f":"'حجز مواقيت الأقسام'!H163","v":""},{"$f":"'حجز مواقيت الأقسام'!G163","v":0},null,null,"سا11 -  سا12",{"$f":"'حجز مواقيت الأقسام'!H171","v":""},{"$f":"'حجز مواقيت الأقسام'!G171","v":0},{"$f":"'حجز مواقيت الأقسام'!H179","v":""},{"$f":"'حجز مواقيت الأقسام'!G179","v":0},{"$f":"'حجز مواقيت الأقسام'!H187","v":""},{"$f":"'حجز مواقيت الأقسام'!G187","v":0},{"$f":"'حجز مواقيت الأقسام'!H195","v":""},{"$f":"'حجز مواقيت الأقسام'!G195","v":0}]
[null,"سا13 -  سا14",{"$f":"'حجز مواقيت الأقسام'!H140","v":""},{"$f":"'حجز مواقيت الأقسام'!G140","v":0},{"$f":"'حجز مواقيت الأقسام'!H148","v":""},{"$f":"'حجز مواقيت الأقسام'!G148","v":0},{"$f":"'حجز مواقيت الأقسام'!H156","v":""},{"$f":"'حجز مواقيت الأقسام'!G156","v":0},{"$f":"'حجز مواقيت الأقسام'!H164","v":""},{"$f":"'حجز مواقيت الأقسام'!G164","v":0},null,null,"سا13 -  سا14",{"$f":"'حجز مواقيت الأقسام'!H172","v":""},{"$f":"'حجز مواقيت الأقسام'!G172","v":0},{"$f":"'حجز مواقيت الأقسام'!H180","v":""},{"$f":"'حجز مواقيت الأقسام'!G180","v":0},{"$f":"'حجز مواقيت الأقسام'!H188","v":""},{"$f":"'حجز مواقيت الأقسام'!G188","v":0},{"$f":"'حجز مواقيت الأقسام'!H196","v":""},{"$f":"'حجز مواقيت الأقسام'!G196","v":0}]
[null,"سا14 -  سا15",{"$f":"'حجز مواقيت الأقسام'!H141","v":""},{"$f":"'حجز مواقيت الأقسام'!G141","v":0},{"$f":"'حجز مواقيت الأقسام'!H149","v":""},{"$f":"'حجز مواقيت الأقسام'!G149","v":0},{"$f":"'حجز مواقيت الأقسام'!H157","v":""},{"$f":"'حجز مواقيت الأقسام'!G157","v":0},{"$f":"'حجز مواقيت الأقسام'!H165","v":""},{"$f":"'حجز مواقيت الأقسام'!G165","v":0},null,null,"سا14 -  سا15",{"$f":"'حجز مواقيت الأقسام'!H173","v":""},{"$f":"'حجز مواقيت الأقسام'!G173","v":0},{"$f":"'حجز مواقيت الأقسام'!H181","v":""},{"$f":"'حجز مواقيت الأقسام'!G181","v":0},{"$f":"'حجز مواقيت الأقسام'!H189","v":""},{"$f":"'حجز مواقيت الأقسام'!G189","v":0},{"$f":"'حجز مواقيت الأقسام'!H197","v":""},{"$f":"'حجز مواقيت الأقسام'!G197","v":0}]
[null,"سا15 -  سا16",{"$f":"'حجز مواقيت الأقسام'!H142","v":""},{"$f":"'حجز مواقيت الأقسام'!G142","v":0},{"$f":"'حجز مواقيت الأقسام'!H150","v":""},{"$f":"'حجز مواقيت الأقسام'!G150","v":0},{"$f":"'حجز مواقيت الأقسام'!H158","v":""},{"$f":"'حجز مواقيت الأقسام'!G158","v":0},{"$f":"'حجز مواقيت الأقسام'!H166","v":""},{"$f":"'حجز مواقيت الأقسام'!G166","v":0},null,null,"سا15 -  سا16",{"$f":"'حجز مواقيت الأقسام'!H174","v":""},{"$f":"'حجز مواقيت الأقسام'!G174","v":0},{"$f":"'حجز مواقيت الأقسام'!H182","v":""},{"$f":"'حجز مواقيت الأقسام'!G182","v":0},{"$f":"'حجز مواقيت الأقسام'!H190","v":""},{"$f":"'حجز مواقيت الأقسام'!G190","v":0},{"$f":"'حجز مواقيت الأقسام'!H198","v":""},{"$f":"'حجز مواقيت الأقسام'!G198","v":0}]
[null,"سا16 -  سا17",{"$f":"'حجز مواقيت الأقسام'!H143","v":""},{"$f":"'حجز مواقيت الأقسام'!G143","v":0},{"$f":"'حجز مواقيت الأقسام'!H151","v":""},{"$f":"'حجز مواقيت الأقسام'!G151","v":0},{"$f":"'حجز مواقيت الأقسام'!H159","v":""},{"$f":"'حجز مواقيت الأقسام'!G159","v":0},{"$f":"'حجز مواقيت الأقسام'!H167","v":""},{"$f":"'حجز مواقيت الأقسام'!G167","v":0},null,null,"سا16 -  سا17",{"$f":"'حجز مواقيت الأقسام'!H175","v":""},{"$f":"'حجز مواقيت الأقسام'!G175","v":0},{"$f":"'حجز مواقيت الأقسام'!H183","v":""},{"$f":"'حجز مواقيت الأقسام'!G183","v":0},{"$f":"'حجز مواقيت الأقسام'!H191","v":""},{"$f":"'حجز مواقيت الأقسام'!G191","v":0},{"$f":"'حجز مواقيت الأقسام'!H199","v":""},{"$f":"'حجز مواقيت الأقسام'!G199","v":0}]
["الثلاثاء","سا08  - سا09",{"$f":"'حجز مواقيت الأقسام'!J136","v":""},{"$f":"'حجز مواقيت الأقسام'!I136","v":0},{"$f":"'حجز مواقيت الأقسام'!J144","v":""},{"$f":"'حجز مواقيت الأقسام'!I144","v":0},{"$f":"'حجز مواقيت الأقسام'!J152","v":""},{"$f":"'حجز مواقيت الأقسام'!I152","v":0},{"$f":"'حجز مواقيت الأقسام'!J160","v":""},{"$f":"'حجز مواقيت الأقسام'!I160","v":0},null,"الثلاثاء","سا08  - سا09",{"$f":"'حجز مواقيت الأقسام'!J168","v":""},{"$f":"'حجز مواقيت الأقسام'!I168","v":0},{"$f":"'حجز مواقيت الأقسام'!J176","v":""},{"$f":"'حجز مواقيت الأقسام'!I176","v":0},{"$f":"'حجز مواقيت الأقسام'!J184","v":""},{"$f":"'حجز مواقيت الأقسام'!I184","v":0},{"$f":"'حجز مواقيت الأقسام'!J192","v":""},{"$f":"'حجز مواقيت الأقسام'!I192","v":0}]
[null,"سا09  -  سا10",{"$f":"'حجز مواقيت الأقسام'!J137","v":""},{"$f":"'حجز مواقيت الأقسام'!I137","v":0},{"$f":"'حجز مواقيت الأقسام'!J145","v":""},{"$f":"'حجز مواقيت الأقسام'!I145","v":0},{"$f":"'حجز مواقيت الأقسام'!J153","v":""},{"$f":"'حجز مواقيت الأقسام'!I153","v":0},{"$f":"'حجز مواقيت الأقسام'!J161","v":""},{"$f":"'حجز مواقيت الأقسام'!I161","v":0},null,null,"سا09  -  سا10",{"$f":"'حجز مواقيت الأقسام'!J169","v":""},{"$f":"'حجز مواقيت الأقسام'!I169","v":0},{"$f":"'حجز مواقيت الأقسام'!J177","v":""},{"$f":"'حجز مواقيت الأقسام'!I177","v":0},{"$f":"'حجز مواقيت الأقسام'!J185","v":""},{"$f":"'حجز مواقيت الأقسام'!I185","v":0},{"$f":"'حجز مواقيت الأقسام'!J193","v":""},{"$f":"'حجز مواقيت الأقسام'!I193","v":0}]
[null,"سا10 -  سا11",{"$f":"'حجز مواقيت الأقسام'!J138","v":""},{"$f":"'حجز مواقيت الأقسام'!I138","v":0},{"$f":"'حجز مواقيت الأقسام'!J146","v":""},{"$f":"'حجز مواقيت الأقسام'!I146","v":0},{"$f":"'حجز مواقيت الأقسام'!J154","v":""},{"$f":"'حجز مواقيت الأقسام'!I154","v":0},{"$f":"'حجز مواقيت الأقسام'!J162","v":""},{"$f":"'حجز مواقيت الأقسام'!I162","v":0},null,null,"سا10 -  سا11",{"$f":"'حجز مواقيت الأقسام'!J170","v":""},{"$f":"'حجز مواقيت الأقسام'!I170","v":0},{"$f":"'حجز مواقيت الأقسام'!J178","v":""},{"$f":"'حجز مواقيت الأقسام'!I178","v":0},{"$f":"'حجز مواقيت الأقسام'!J186","v":""},{"$f":"'حجز مواقيت الأقسام'!I186","v":0},{"$f":"'حجز مواقيت الأقسام'!J194","v":""},{"$f":"'حجز مواقيت الأقسام'!I194","v":0}]
[null,"سا11 -  سا12",{"$f":"'حجز مواقيت الأقسام'!J139","v":""},{"$f":"'حجز مواقيت الأقسام'!I139","v":0},{"$f":"'حجز مواقيت الأقسام'!J147","v":""},{"$f":"'حجز مواقيت الأقسام'!I147","v":0},{"$f":"'حجز مواقيت الأقسام'!J155","v":""},{"$f":"'حجز مواقيت الأقسام'!I155","v":0},{"$f":"'حجز مواقيت الأقسام'!J163","v":""},{"$f":"'حجز مواقيت الأقسام'!I163","v":0},null,null,"سا11 -  سا12",{"$f":"'حجز مواقيت الأقسام'!J171","v":""},{"$f":"'حجز مواقيت الأقسام'!I171","v":0},{"$f":"'حجز مواقيت الأقسام'!J179","v":""},{"$f":"'حجز مواقيت الأقسام'!I179","v":0},{"$f":"'حجز مواقيت الأقسام'!J187","v":""},{"$f":"'حجز مواقيت الأقسام'!I187","v":0},{"$f":"'حجز مواقيت الأقسام'!J195","v":""},{"$f":"'حجز مواقيت الأقسام'!I195","v":0}]
[null,"سا13 -  سا14",{"$f":"'حجز مواقيت الأقسام'!J140","v":""},{"$f":"'حجز مواقيت الأقسام'!I140","v":0},{"$f":"'حجز مواقيت الأقسام'!J148","v":""},{"$f":"'حجز مواقيت الأقسام'!I148","v":0},{"$f":"'حجز مواقيت الأقسام'!J156","v":""},{"$f":"'حجز مواقيت الأقسام'!I156","v":0},{"$f":"'حجز مواقيت الأقسام'!J164","v":""},{"$f":"'حجز مواقيت الأقسام'!I164","v":0},null,null,"سا13 -  سا14",{"$f":"'حجز مواقيت الأقسام'!J172","v":""},{"$f":"'حجز مواقيت الأقسام'!I172","v":0},{"$f":"'حجز مواقيت الأقسام'!J180","v":""},{"$f":"'حجز مواقيت الأقسام'!I180","v":0},{"$f":"'حجز مواقيت الأقسام'!J188","v":""},{"$f":"'حجز مواقيت الأقسام'!I188","v":0},{"$f":"'حجز مواقيت الأقسام'!J196","v":""},{"$f":"'حجز مواقيت الأقسام'!I196","v":0}]
[null,"سا14 -  سا15",{"$f":"'حجز مواقيت الأقسام'!J141","v":""},{"$f":"'حجز مواقيت الأقسام'!I141","v":0},{"$f":"'حجز مواقيت الأقسام'!J149","v":""},{"$f":"'حجز مواقيت الأقسام'!I149","v":0},{"$f":"'حجز مواقيت الأقسام'!J157","v":""},{"$f":"'حجز مواقيت الأقسام'!I157","v":0},{"$f":"'حجز مواقيت الأقسام'!J165","v":""},{"$f":"'حجز مواقيت الأقسام'!I165","v":0},null,null,"سا14 -  سا15",{"$f":"'حجز مواقيت الأقسام'!J173","v":""},{"$f":"'حجز مواقيت الأقسام'!I173","v":0},{"$f":"'حجز مواقيت الأقسام'!J181","v":""},{"$f":"'حجز مواقيت الأقسام'!I181","v":0},{"$f":"'حجز مواقيت الأقسام'!J189","v":""},{"$f":"'حجز مواقيت الأقسام'!I189","v":0},{"$f":"'حجز مواقيت الأقسام'!J197","v":""},{"$f":"'حجز مواقيت الأقسام'!I197","v":0}]
[null,"سا15 -  سا16",{"$f":"'حجز مواقيت الأقسام'!J142","v":""},{"$f":"'حجز مواقيت الأقسام'!I142","v":0},{"$f":"'حجز مواقيت الأقسام'!J150","v":""},{"$f":"'حجز مواقيت الأقسام'!I150","v":0},{"$f":"'حجز مواقيت الأقسام'!J158","v":""},{"$f":"'حجز مواقيت الأقسام'!I158","v":0},{"$f":"'حجز مواقيت الأقسام'!J166","v":""},{"$f":"'حجز مواقيت الأقسام'!I166","v":0},null,null,"سا15 -  سا16",{"$f":"'حجز مواقيت الأقسام'!J174","v":""},{"$f":"'حجز مواقيت الأقسام'!I174","v":0},{"$f":"'حجز مواقيت الأقسام'!J182","v":""},{"$f":"'حجز مواقيت الأقسام'!I182","v":0},{"$f":"'حجز مواقيت الأقسام'!J190","v":""},{"$f":"'حجز مواقيت الأقسام'!I190","v":0},{"$f":"'حجز مواقيت الأقسام'!J198","v":""},{"$f":"'حجز مواقيت الأقسام'!I198","v":0}]
[null,"سا16 -  سا17",{"$f":"'حجز مواقيت الأقسام'!J143","v":""},{"$f":"'حجز مواقيت الأقسام'!I143","v":0},{"$f":"'حجز مواقيت الأقسام'!J151","v":""},{"$f":"'حجز مواقيت الأقسام'!I151","v":0},{"$f":"'حجز مواقيت الأقسام'!J159","v":""},{"$f":"'حجز مواقيت الأقسام'!I159","v":0},{"$f":"'حجز مواقيت الأقسام'!J167","v":""},{"$f":"'حجز مواقيت الأقسام'!I167","v":0},null,null,"سا16 -  سا17",{"$f":"'حجز مواقيت الأقسام'!J175","v":""},{"$f":"'حجز مواقيت الأقسام'!I175","v":0},{"$f":"'حجز مواقيت الأقسام'!J183","v":""},{"$f":"'حجز مواقيت الأقسام'!I183","v":0},{"$f":"'حجز مواقيت الأقسام'!J191","v":""},{"$f":"'حجز مواقيت الأقسام'!I191","v":0},{"$f":"'حجز مواقيت الأقسام'!J199","v":""},{"$f":"'حجز مواقيت الأقسام'!I199","v":0}]
["الأربعاء","سا08  - سا09",{"$f":"'حجز مواقيت الأقسام'!L136","v":""},{"$f":"'حجز مواقيت الأقسام'!K136","v":0},{"$f":"'حجز مواقيت الأقسام'!L144","v":""},{"$f":"'حجز مواقيت الأقسام'!K144","v":0},{"$f":"'حجز مواقيت الأقسام'!L152","v":""},{"$f":"'حجز مواقيت الأقسام'!K152","v":0},{"$f":"'حجز مواقيت الأقسام'!L160","v":""},{"$f":"'حجز مواقيت الأقسام'!K160","v":0},null,"الأربعاء","سا08  - سا09",{"$f":"'حجز مواقيت الأقسام'!L168","v":""},{"$f":"'حجز مواقيت الأقسام'!K168","v":0},{"$f":"'حجز مواقيت الأقسام'!L176","v":""},{"$f":"'حجز مواقيت الأقسام'!K176","v":0},{"$f":"'حجز مواقيت الأقسام'!L184","v":""},{"$f":"'حجز مواقيت الأقسام'!K184","v":0},{"$f":"'حجز مواقيت الأقسام'!L192","v":""},{"$f":"'حجز مواقيت الأقسام'!K192","v":0}]
[null,"سا09  -  سا10",{"$f":"'حجز مواقيت الأقسام'!L137","v":""},{"$f":"'حجز مواقيت الأقسام'!K137","v":0},{"$f":"'حجز مواقيت الأقسام'!L145","v":""},{"$f":"'حجز مواقيت الأقسام'!K145","v":0},{"$f":"'حجز مواقيت الأقسام'!L153","v":""},{"$f":"'حجز مواقيت الأقسام'!K153","v":0},{"$f":"'حجز مواقيت الأقسام'!L161","v":""},{"$f":"'حجز مواقيت الأقسام'!K161","v":0},null,null,"سا09  -  سا10",{"$f":"'حجز مواقيت الأقسام'!L169","v":""},{"$f":"'حجز مواقيت الأقسام'!K169","v":0},{"$f":"'حجز مواقيت الأقسام'!L177","v":""},{"$f":"'حجز مواقيت الأقسام'!K177","v":0},{"$f":"'حجز مواقيت الأقسام'!L185","v":""},{"$f":"'حجز مواقيت الأقسام'!K185","v":0},{"$f":"'حجز مواقيت الأقسام'!L193","v":""},{"$f":"'حجز مواقيت الأقسام'!K193","v":0}]
[null,"سا10 -  سا11",{"$f":"'حجز مواقيت الأقسام'!L138","v":""},{"$f":"'حجز مواقيت الأقسام'!K138","v":0},{"$f":"'حجز مواقيت الأقسام'!L146","v":""},{"$f":"'حجز مواقيت الأقسام'!K146","v":0},{"$f":"'حجز مواقيت الأقسام'!L154","v":""},{"$f":"'حجز مواقيت الأقسام'!K154","v":0},{"$f":"'حجز مواقيت الأقسام'!L162","v":""},{"$f":"'حجز مواقيت الأقسام'!K162","v":0},null,null,"سا10 -  سا11",{"$f":"'حجز مواقيت الأقسام'!L170","v":""},{"$f":"'حجز مواقيت الأقسام'!K170","v":0},{"$f":"'حجز مواقيت الأقسام'!L178","v":""},{"$f":"'حجز مواقيت الأقسام'!K178","v":0},{"$f":"'حجز مواقيت الأقسام'!L186","v":""},{"$f":"'حجز مواقيت الأقسام'!K186","v":0},{"$f":"'حجز مواقيت الأقسام'!L194","v":""},{"$f":"'حجز مواقيت الأقسام'!K194","v":0}]
[null,"سا11 -  سا12",{"$f":"'حجز مواقيت الأقسام'!L139","v":""},{"$f":"'حجز مواقيت الأقسام'!K139","v":0},{"$f":"'حجز مواقيت الأقسام'!L147","v":""},{"$f":"'حجز مواقيت الأقسام'!K147","v":0},{"$f":"'حجز مواقيت الأقسام'!L155","v":""},{"$f":"'حجز مواقيت الأقسام'!K155","v":0},{"$f":"'حجز مواقيت الأقسام'!L163","v":""},{"$f":"'حجز مواقيت الأقسام'!K163","v":0},null,null,"سا11 -  سا12",{"$f":"'حجز مواقيت الأقسام'!L171","v":""},{"$f":"'حجز مواقيت الأقسام'!K171","v":0},{"$f":"'حجز مواقيت الأقسام'!L179","v":""},{"$f":"'حجز مواقيت الأقسام'!K179","v":0},{"$f":"'حجز مواقيت الأقسام'!L187","v":""},{"$f":"'حجز مواقيت الأقسام'!K187","v":0},{"$f":"'حجز مواقيت الأقسام'!L195","v":""},{"$f":"'حجز مواقيت الأقسام'!K195","v":0}]
[null,"سا13 -  سا14",{"$f":"'حجز مواقيت الأقسام'!L140","v":""},{"$f":"'حجز مواقيت الأقسام'!K140","v":0},{"$f":"'حجز مواقيت الأقسام'!L148","v":""},{"$f":"'حجز مواقيت الأقسام'!K148","v":0},{"$f":"'حجز مواقيت الأقسام'!L156","v":""},{"$f":"'حجز مواقيت الأقسام'!K156","v":0},{"$f":"'حجز مواقيت الأقسام'!L164","v":""},{"$f":"'حجز مواقيت الأقسام'!K164","v":0},null,null,"سا13 -  سا14",{"$f":"'حجز مواقيت الأقسام'!L172","v":""},{"$f":"'حجز مواقيت الأقسام'!K172","v":0},{"$f":"'حجز مواقيت الأقسام'!L180","v":""},{"$f":"'حجز مواقيت الأقسام'!K180","v":0},{"$f":"'حجز مواقيت الأقسام'!L188","v":""},{"$f":"'حجز مواقيت الأقسام'!K188","v":0},{"$f":"'حجز مواقيت الأقسام'!L196","v":""},{"$f":"'حجز مواقيت الأقسام'!K196","v":0}]
[null,"سا14 -  سا15",{"$f":"'حجز مواقيت الأقسام'!L141","v":""},{"$f":"'حجز مواقيت الأقسام'!K141","v":0},{"$f":"'حجز مواقيت الأقسام'!L149","v":""},{"$f":"'حجز مواقيت الأقسام'!K149","v":0},{"$f":"'حجز مواقيت الأقسام'!L157","v":""},{"$f":"'حجز مواقيت الأقسام'!K157","v":0},{"$f":"'حجز مواقيت الأقسام'!L165","v":""},{"$f":"'حجز مواقيت الأقسام'!K165","v":0},null,null,"سا14 -  سا15",{"$f":"'حجز مواقيت الأقسام'!L173","v":""},{"$f":"'حجز مواقيت الأقسام'!K173","v":0},{"$f":"'حجز مواقيت الأقسام'!L181","v":""},{"$f":"'حجز مواقيت الأقسام'!K181","v":0},{"$f":"'حجز مواقيت الأقسام'!L189","v":""},{"$f":"'حجز مواقيت الأقسام'!K189","v":0},{"$f":"'حجز مواقيت الأقسام'!L197","v":""},{"$f":"'حجز مواقيت الأقسام'!K197","v":0}]
[null,"سا15 -  سا16",{"$f":"'حجز مواقيت الأقسام'!L142","v":""},{"$f":"'حجز مواقيت الأقسام'!K142","v":0},{"$f":"'حجز مواقيت الأقسام'!L150","v":""},{"$f":"'حجز مواقيت الأقسام'!K150","v":0},{"$f":"'حجز مواقيت الأقسام'!L158","v":""},{"$f":"'حجز مواقيت الأقسام'!K158","v":0},{"$f":"'حجز مواقيت الأقسام'!L166","v":""},{"$f":"'حجز مواقيت الأقسام'!K166","v":0},null,null,"سا15 -  سا16",{"$f":"'حجز مواقيت الأقسام'!L174","v":""},{"$f":"'حجز مواقيت الأقسام'!K174","v":0},{"$f":"'حجز مواقيت الأقسام'!L182","v":""},{"$f":"'حجز مواقيت الأقسام'!K182","v":0},{"$f":"'حجز مواقيت الأقسام'!L190","v":""},{"$f":"'حجز مواقيت الأقسام'!K190","v":0},{"$f":"'حجز مواقيت الأقسام'!L198","v":""},{"$f":"'حجز مواقيت الأقسام'!K198","v":0}]
[null,"سا16 -  سا17",{"$f":"'حجز مواقيت الأقسام'!L143","v":""},{"$f":"'حجز مواقيت الأقسام'!K143","v":0},{"$f":"'حجز مواقيت الأقسام'!L151","v":""},{"$f":"'حجز مواقيت الأقسام'!K151","v":0},{"$f":"'حجز مواقيت الأقسام'!L159","v":""},{"$f":"'حجز مواقيت الأقسام'!K159","v":0},{"$f":"'حجز مواقيت الأقسام'!L167","v":""},{"$f":"'حجز مواقيت الأقسام'!K167","v":0},null,null,"سا16 -  سا17",{"$f":"'حجز مواقيت الأقسام'!L175","v":""},{"$f":"'حجز مواقيت الأقسام'!K175","v":0},{"$f":"'حجز مواقيت الأقسام'!L183","v":""},{"$f":"'حجز مواقيت الأقسام'!K183","v":0},{"$f":"'حجز مواقيت الأقسام'!L191","v":""},{"$f":"'حجز مواقيت الأقسام'!K191","v":0},{"$f":"'حجز مواقيت الأقسام'!L199","v":""},{"$f":"'حجز مواقيت الأقسام'!K199","v":0}]
["الخميس","سا08  - سا09",{"$f":"'حجز مواقيت الأقسام'!N136","v":""},{"$f":"'حجز مواقيت الأقسام'!M136","v":0},{"$f":"'حجز مواقيت الأقسام'!N144","v":""},{"$f":"'حجز مواقيت الأقسام'!M144","v":0},{"$f":"'حجز مواقيت الأقسام'!N152","v":""},{"$f":"'حجز مواقيت الأقسام'!M152","v":0},{"$f":"'حجز مواقيت الأقسام'!N160","v":""},{"$f":"'حجز مواقيت الأقسام'!M160","v":0},null,"الخميس","سا08  - سا09",{"$f":"'حجز مواقيت الأقسام'!N168","v":""},{"$f":"'حجز مواقيت الأقسام'!M168","v":0},{"$f":"'حجز مواقيت الأقسام'!N176","v":""},{"$f":"'حجز مواقيت الأقسام'!M176","v":0},{"$f":"'حجز مواقيت الأقسام'!N184","v":""},{"$f":"'حجز مواقيت الأقسام'!M184","v":0},{"$f":"'حجز مواقيت الأقسام'!N192","v":""},{"$f":"'حجز مواقيت الأقسام'!M192","v":0}]
[null,"سا09  -  سا10",{"$f":"'حجز مواقيت الأقسام'!N137","v":""},{"$f":"'حجز مواقيت الأقسام'!M137","v":0},{"$f":"'حجز مواقيت الأقسام'!N145","v":""},{"$f":"'حجز مواقيت الأقسام'!M145","v":0},{"$f":"'حجز مواقيت الأقسام'!N153","v":""},{"$f":"'حجز مواقيت الأقسام'!M153","v":0},{"$f":"'حجز مواقيت الأقسام'!N161","v":""},{"$f":"'حجز مواقيت الأقسام'!M161","v":0},null,null,"سا09  -  سا10",{"$f":"'حجز مواقيت الأقسام'!N169","v":""},{"$f":"'حجز مواقيت الأقسام'!M169","v":0},{"$f":"'حجز مواقيت الأقسام'!N177","v":""},{"$f":"'حجز مواقيت الأقسام'!M177","v":0},{"$f":"'حجز مواقيت الأقسام'!N185","v":""},{"$f":"'حجز مواقيت الأقسام'!M185","v":0},{"$f":"'حجز مواقيت الأقسام'!N193","v":""},{"$f":"'حجز مواقيت الأقسام'!M193","v":0}]
[null,"سا10 -  سا11",{"$f":"'حجز مواقيت الأقسام'!N138","v":""},{"$f":"'حجز مواقيت الأقسام'!M138","v":0},{"$f":"'حجز مواقيت الأقسام'!N146","v":""},{"$f":"'حجز مواقيت الأقسام'!M146","v":0},{"$f":"'حجز مواقيت الأقسام'!N154","v":""},{"$f":"'حجز مواقيت الأقسام'!M154","v":0},{"$f":"'حجز مواقيت الأقسام'!N162","v":""},{"$f":"'حجز مواقيت الأقسام'!M162","v":0},null,null,"سا10 -  سا11",{"$f":"'حجز مواقيت الأقسام'!N170","v":""},{"$f":"'حجز مواقيت الأقسام'!M170","v":0},{"$f":"'حجز مواقيت الأقسام'!N178","v":""},{"$f":"'حجز مواقيت الأقسام'!M178","v":0},{"$f":"'حجز مواقيت الأقسام'!N186","v":""},{"$f":"'حجز مواقيت الأقسام'!M186","v":0},{"$f":"'حجز مواقيت الأقسام'!N194","v":""},{"$f":"'حجز مواقيت الأقسام'!M194","v":0}]
[null,"سا11 -  سا12",{"$f":"'حجز مواقيت الأقسام'!N139","v":""},{"$f":"'حجز مواقيت الأقسام'!M139","v":0},{"$f":"'حجز مواقيت الأقسام'!N147","v":""},{"$f":"'حجز مواقيت الأقسام'!M147","v":0},{"$f":"'حجز مواقيت الأقسام'!N155","v":""},{"$f":"'حجز مواقيت الأقسام'!M155","v":0},{"$f":"'حجز مواقيت الأقسام'!N163","v":""},{"$f":"'حجز مواقيت الأقسام'!M163","v":0},null,null,"سا11 -  سا12",{"$f":"'حجز مواقيت الأقسام'!N171","v":""},{"$f":"'حجز مواقيت الأقسام'!M171","v":0},{"$f":"'حجز مواقيت الأقسام'!N179","v":""},{"$f":"'حجز مواقيت الأقسام'!M179","v":0},{"$f":"'حجز مواقيت الأقسام'!N187","v":""},{"$f":"'حجز مواقيت الأقسام'!M187","v":0},{"$f":"'حجز مواقيت الأقسام'!N195","v":""},{"$f":"'حجز مواقيت الأقسام'!M195","v":0}]
[null,"سا13 -  سا14",{"$f":"'حجز مواقيت الأقسام'!N140","v":""},{"$f":"'حجز مواقيت الأقسام'!M140","v":0},{"$f":"'حجز مواقيت الأقسام'!N148","v":""},{"$f":"'حجز مواقيت الأقسام'!M148","v":0},{"$f":"'حجز مواقيت الأقسام'!N156","v":""},{"$f":"'حجز مواقيت الأقسام'!M156","v":0},{"$f":"'حجز مواقيت الأقسام'!N164","v":""},{"$f":"'حجز مواقيت الأقسام'!M164","v":0},null,null,"سا13 -  سا14",{"$f":"'حجز مواقيت الأقسام'!N172","v":""},{"$f":"'حجز مواقيت الأقسام'!M172","v":0},{"$f":"'حجز مواقيت الأقسام'!N180","v":""},{"$f":"'حجز مواقيت الأقسام'!M180","v":0},{"$f":"'حجز مواقيت الأقسام'!N188","v":""},{"$f":"'حجز مواقيت الأقسام'!M188","v":0},{"$f":"'حجز مواقيت الأقسام'!N196","v":""},{"$f":"'حجز مواقيت الأقسام'!M196","v":0}]
[null,"سا14 -  سا15",{"$f":"'حجز مواقيت الأقسام'!N141","v":""},{"$f":"'حجز مواقيت الأقسام'!M141","v":0},{"$f":"'حجز مواقيت الأقسام'!N149","v":""},{"$f":"'حجز مواقيت الأقسام'!M149","v":0},{"$f":"'حجز مواقيت الأقسام'!N157","v":""},{"$f":"'حجز مواقيت الأقسام'!M157","v":0},{"$f":"'حجز مواقيت الأقسام'!N165","v":""},{"$f":"'حجز مواقيت الأقسام'!M165","v":0},null,null,"سا14 -  سا15",{"$f":"'حجز مواقيت الأقسام'!N173","v":""},{"$f":"'حجز مواقيت الأقسام'!M173","v":0},{"$f":"'حجز مواقيت الأقسام'!N181","v":""},{"$f":"'حجز مواقيت الأقسام'!M181","v":0},{"$f":"'حجز مواقيت الأقسام'!N189","v":""},{"$f":"'حجز مواقيت الأقسام'!M189","v":0},{"$f":"'حجز مواقيت الأقسام'!N197","v":""},{"$f":"'حجز مواقيت الأقسام'!M197","v":0}]
[null,"سا15 -  سا16",{"$f":"'حجز مواقيت الأقسام'!N142","v":""},{"$f":"'حجز مواقيت الأقسام'!M142","v":0},{"$f":"'حجز مواقيت الأقسام'!N150","v":""},{"$f":"'حجز مواقيت الأقسام'!M150","v":0},{"$f":"'حجز مواقيت الأقسام'!N158","v":""},{"$f":"'حجز مواقيت الأقسام'!M158","v":0},{"$f":"'حجز مواقيت الأقسام'!N166","v":""},{"$f":"'حجز مواقيت الأقسام'!M166","v":0},null,null,"سا15 -  سا16",{"$f":"'حجز مواقيت الأقسام'!N174","v":""},{"$f":"'حجز مواقيت الأقسام'!M174","v":0},{"$f":"'حجز مواقيت الأقسام'!N182","v":""},{"$f":"'حجز مواقيت الأقسام'!M182","v":0},{"$f":"'حجز مواقيت الأقسام'!N190","v":""},{"$f":"'حجز مواقيت الأقسام'!M190","v":0},{"$f":"'حجز مواقيت الأقسام'!N198","v":""},{"$f":"'حجز مواقيت الأقسام'!M198","v":0}]
[null,"سا16 -  سا17",{"$f":"'حجز مواقيت الأقسام'!N143","v":""},{"$f":"'حجز مواقيت الأقسام'!M143","v":0},{"$f":"'حجز مواقيت الأقسام'!N151","v":""},{"$f":"'حجز مواقيت الأقسام'!M151","v":0},{"$f":"'حجز مواقيت الأقسام'!N159","v":""},{"$f":"'حجز مواقيت الأقسام'!M159","v":0},{"$f":"'حجز مواقيت الأقسام'!N167","v":""},{"$f":"'حجز مواقيت الأقسام'!M167","v":0},null,null,"سا16 -  سا17",{"$f":"'حجز مواقيت الأقسام'!N175","v":""},{"$f":"'حجز مواقيت الأقسام'!M175","v":0},{"$f":"'حجز مواقيت الأقسام'!N183","v":""},{"$f":"'حجز مواقيت الأقسام'!M183","v":0},{"$f":"'حجز مواقيت الأقسام'!N191","v":""},{"$f":"'حجز مواقيت الأقسام'!M191","v":0},{"$f":"'حجز مواقيت الأقسام'!N199","v":""},{"$f":"'حجز مواقيت الأقسام'!M199","v":0}]
[]
[]
["الأيام","المواقيت","القسم",{"$f":"'حجز مواقيت الأقسام'!B200","v":0},"القسم",{"$f":"'حجز مواقيت الأقسام'!B208","v":0},"القسم",{"$f":"'حجز مواقيت الأقسام'!B216","v":0},"القسم",{"$f":"'حجز مواقيت الأقسام'!B224","v":0},null,"الأيام","المواقيت","القسم",{"$f":"'حجز مواقيت الأقسام'!B232","v":0},"القسم",{"$f":"'حجز مواقيت الأقسام'!B240","v":0},"القسم",{"$f":"'حجز مواقيت الأقسام'!B248","v":0},"القسم",{"$f":"'حجز مواقيت الأقسام'!B256","v":0}]
[null,null,"عدد التلاميذ",{"$f":"التعداد!L35","v":0},"عدد التلاميذ",{"$f":"التعداد!L36","v":0},"عدد التلاميذ",{"$f":"التعداد!L37","v":0},"عدد التلاميذ",{"$f":"التعداد!L38","v":0},null,null,null,"عدد التلاميذ",{"$f":"التعداد!L39","v":0},"عدد التلاميذ",{"$f":"التعداد!L40","v":0},"عدد التلاميذ",{"$f":"التعداد!L41","v":0},"عدد التلاميذ",{"$f":"التعداد!L42","v":0}]
[null,null,"اسم الأستاذ","المادة","اسم الأستاذ","المادة","اسم الأستاذ","المادة","اسم الأستاذ","المادة",null,null,null,"اسم الأستاذ","المادة","اسم الأستاذ","المادة","اسم الأستاذ","المادة","اسم الأستاذ","المادة"]
["الأحــــــــد","سا08  - سا09",{"$f":"'حجز مواقيت الأقسام'!F200","v":""},{"$f":"'حجز مواقيت الأقسام'!E200","v":0},{"$f":"'حجز مواقيت الأقسام'!F208","v":""},{"$f":"'حجز مواقيت الأقسام'!E208","v":0},{"$f":"'حجز مواقيت الأقسام'!F216","v":""},{"$f":"'حجز مواقيت الأقسام'!E216","v":0},{"$f":"'حجز مواقيت الأقسام'!F224","v":""},{"$f":"'حجز مواقيت الأقسام'!E224","v":0},null,"الأحــــــــد","سا08  - سا09",{"$f":"'حجز مواقيت الأقسام'!F232","v":""},{"$f":"'حجز مواقيت الأقسام'!E232","v":0},{"$f":"'حجز مواقيت الأقسام'!F240","v":""},{"$f":"'حجز مواقيت الأقسام'!E240","v":0},{"$f":"'حجز مواقيت الأقسام'!F248","v":""},{"$f":"'حجز مواقيت الأقسام'!E248","v":0},{"$f":"'حجز مواقيت الأقسام'!F256","v":""},{"$f":"'حجز مواقيت الأقسام'!E256","v":0}]
[null,"سا09  -  سا10",{"$f":"'حجز مواقيت الأقسام'!F201","v":""},{"$f":"'حجز مواقيت الأقسام'!E201","v":0},{"$f":"'حجز مواقيت الأقسام'!F209","v":""},{"$f":"'حجز مواقيت الأقسام'!E209","v":0},{"$f":"'حجز مواقيت الأقسام'!F217","v":""},{"$f":"'حجز مواقيت الأقسام'!E217","v":0},{"$f":"'حجز مواقيت الأقسام'!F225","v":""},{"$f":"'حجز مواقيت الأقسام'!E225","v":0},null,null,"سا09  -  سا10",{"$f":"'حجز مواقيت الأقسام'!F233","v":""},{"$f":"'حجز مواقيت الأقسام'!E233","v":0},{"$f":"'حجز مواقيت الأقسام'!F241","v":""},{"$f":"'حجز مواقيت الأقسام'!E241","v":0},{"$f":"'حجز مواقيت الأقسام'!F249","v":""},{"$f":"'حجز مواقيت الأقسام'!E249","v":0},{"$f":"'حجز مواقيت الأقسام'!F257","v":""},{"$f":"'حجز مواقيت الأقسام'!E257","v":0}]
[null,"سا10 -  سا11",{"$f":"'حجز مواقيت الأقسام'!F202","v":""},{"$f":"'حجز مواقيت الأقسام'!E202","v":0},{"$f":"'حجز مواقيت الأقسام'!F210","v":""},{"$f":"'حجز مواقيت الأقسام'!E210","v":0},{"$f":"'حجز مواقيت الأقسام'!F218","v":""},{"$f":"'حجز مواقيت الأقسام'!E218","v":0},{"$f":"'حجز مواقيت الأقسام'!F226","v":""},{"$f":"'حجز مواقيت الأقسام'!E226","v":0},null,null,"سا10 -  سا11",{"$f":"'حجز مواقيت الأقسام'!F234","v":""},{"$f":"'حجز مواقيت الأقسام'!E234","v":0},{"$f":"'حجز مواقيت الأقسام'!F242","v":""},{"$f":"'حجز مواقيت الأقسام'!E242","v":0},{"$f":"'حجز مواقيت الأقسام'!F250","v":""},{"$f":"'حجز مواقيت الأقسام'!E250","v":0},{"$f":"'حجز مواقيت الأقسام'!F258","v":""},{"$f":"'حجز مواقيت الأقسام'!E258","v":0}]
[null,"سا11 -  سا12",{"$f":"'حجز مواقيت الأقسام'!F203","v":""},{"$f":"'حجز مواقيت الأقسام'!E203","v":0},{"$f":"'حجز مواقيت الأقسام'!F211","v":""},{"$f":"'حجز مواقيت الأقسام'!E211","v":0},{"$f":"'حجز مواقيت الأقسام'!F219","v":""},{"$f":"'حجز مواقيت الأقسام'!E219","v":0},{"$f":"'حجز مواقيت الأقسام'!F227","v":""},{"$f":"'حجز مواقيت الأقسام'!E227","v":0},null,null,"سا11 -  سا12",{"$f":"'حجز مواقيت الأقسام'!F235","v":""},{"$f":"'حجز مواقيت الأقسام'!E235","v":0},{"$f":"'حجز مواقيت الأقسام'!F243","v":""},{"$f":"'حجز مواقيت الأقسام'!E243","v":0},{"$f":"'حجز مواقيت الأقسام'!F251","v":""},{"$f":"'حجز مواقيت الأقسام'!E251","v":0},{"$f":"'حجز مواقيت الأقسام'!F259","v":""},{"$f":"'حجز مواقيت الأقسام'!E259","v":0}]
[null,"سا13 -  سا14",{"$f":"'حجز مواقيت الأقسام'!F204","v":""},{"$f":"'حجز مواقيت الأقسام'!E204","v":0},{"$f":"'حجز مواقيت الأقسام'!F212","v":""},{"$f":"'حجز مواقيت الأقسام'!E212","v":0},{"$f":"'حجز مواقيت الأقسام'!F220","v":""},{"$f":"'حجز مواقيت الأقسام'!E220","v":0},{"$f":"'حجز مواقيت الأقسام'!F228","v":""},{"$f":"'حجز مواقيت الأقسام'!E228","v":0},null,null,"سا13 -  سا14",{"$f":"'حجز مواقيت الأقسام'!F236","v":""},{"$f":"'حجز مواقيت الأقسام'!E236","v":0},{"$f":"'حجز مواقيت الأقسام'!F244","v":""},{"$f":"'حجز مواقيت الأقسام'!E244","v":0},{"$f":"'حجز مواقيت الأقسام'!F252","v":""},{"$f":"'حجز مواقيت الأقسام'!E252","v":0},{"$f":"'حجز مواقيت الأقسام'!F260","v":""},{"$f":"'حجز مواقيت الأقسام'!E260","v":0}]
[null,"سا14 -  سا15",{"$f":"'حجز مواقيت الأقسام'!F205","v":""},{"$f":"'حجز مواقيت الأقسام'!E205","v":0},{"$f":"'حجز مواقيت الأقسام'!F213","v":""},{"$f":"'حجز مواقيت الأقسام'!E213","v":0},{"$f":"'حجز مواقيت الأقسام'!F221","v":""},{"$f":"'حجز مواقيت الأقسام'!E221","v":0},{"$f":"'حجز مواقيت الأقسام'!F229","v":""},{"$f":"'حجز مواقيت الأقسام'!E229","v":0},null,null,"سا14 -  سا15",{"$f":"'حجز مواقيت الأقسام'!F237","v":""},{"$f":"'حجز مواقيت الأقسام'!E237","v":0},{"$f":"'حجز مواقيت الأقسام'!F245","v":""},{"$f":"'حجز مواقيت الأقسام'!E245","v":0},{"$f":"'حجز مواقيت الأقسام'!F253","v":""},{"$f":"'حجز مواقيت الأقسام'!E253","v":0},{"$f":"'حجز مواقيت الأقسام'!F261","v":""},{"$f":"'حجز مواقيت الأقسام'!E261","v":0}]
[null,"سا15 -  سا16",{"$f":"'حجز مواقيت الأقسام'!F206","v":""},{"$f":"'حجز مواقيت الأقسام'!E206","v":0},{"$f":"'حجز مواقيت الأقسام'!F214","v":""},{"$f":"'حجز مواقيت الأقسام'!E214","v":0},{"$f":"'حجز مواقيت الأقسام'!F222","v":""},{"$f":"'حجز مواقيت الأقسام'!E222","v":0},{"$f":"'حجز مواقيت الأقسام'!F230","v":""},{"$f":"'حجز مواقيت الأقسام'!E230","v":0},null,null,"سا15 -  سا16",{"$f":"'حجز مواقيت الأقسام'!F238","v":""},{"$f":"'حجز مواقيت الأقسام'!E238","v":0},{"$f":"'حجز مواقيت الأقسام'!F246","v":""},{"$f":"'حجز مواقيت الأقسام'!E246","v":0},{"$f":"'حجز مواقيت الأقسام'!F254","v":""},{"$f":"'حجز مواقيت الأقسام'!E254","v":0},{"$f":"'حجز مواقيت الأقسام'!F262","v":""},{"$f":"'حجز مواقيت الأقسام'!E262","v":0}]
[null,"سا16 -  سا17",{"$f":"'حجز مواقيت الأقسام'!F207","v":""},{"$f":"'حجز مواقيت الأقسام'!E207","v":0},{"$f":"'حجز مواقيت الأقسام'!F215","v":""},{"$f":"'حجز مواقيت الأقسام'!E215","v":0},{"$f":"'حجز مواقيت الأقسام'!F223","v":""},{"$f":"'حجز مواقيت الأقسام'!E223","v":0},{"$f":"'حجز مواقيت الأقسام'!F231","v":""},{"$f":"'حجز مواقيت الأقسام'!E231","v":0},null,null,"سا16 -  سا17",{"$f":"'حجز مواقيت الأقسام'!F239","v":""},{"$f":"'حجز مواقيت الأقسام'!E239","v":0},{"$f":"'حجز مواقيت الأقسام'!F247","v":""},{"$f":"'حجز مواقيت الأقسام'!E247","v":0},{"$f":"'حجز مواقيت الأقسام'!F255","v":""},{"$f":"'حجز مواقيت الأقسام'!E255","v":0},{"$f":"'حجز مواقيت الأقسام'!F263","v":""},{"$f":"'حجز مواقيت الأقسام'!E263","v":0}]
["الاثنين","سا08  - سا09",{"$f":"'حجز مواقيت الأقسام'!H200","v":""},{"$f":"'حجز مواقيت الأقسام'!G200","v":0},{"$f":"'حجز مواقيت الأقسام'!H208","v":""},{"$f":"'حجز مواقيت الأقسام'!G208","v":0},{"$f":"'حجز مواقيت الأقسام'!H216","v":""},{"$f":"'حجز مواقيت الأقسام'!G216","v":0},{"$f":"'حجز مواقيت الأقسام'!H224","v":""},{"$f":"'حجز مواقيت الأقسام'!G224","v":0},null,"الاثنين","سا08  - سا09",{"$f":"'حجز مواقيت الأقسام'!H232","v":""},{"$f":"'حجز مواقيت الأقسام'!G232","v":0},{"$f":"'حجز مواقيت الأقسام'!H240","v":""},{"$f":"'حجز مواقيت الأقسام'!G240","v":0},{"$f":"'حجز مواقيت الأقسام'!H248","v":""},{"$f":"'حجز مواقيت الأقسام'!G248","v":0},{"$f":"'حجز مواقيت الأقسام'!H256","v":""},{"$f":"'حجز مواقيت الأقسام'!G256","v":0}]
[null,"سا09  -  سا10",{"$f":"'حجز مواقيت الأقسام'!H201","v":""},{"$f":"'حجز مواقيت الأقسام'!G201","v":0},{"$f":"'حجز مواقيت الأقسام'!H209","v":""},{"$f":"'حجز مواقيت الأقسام'!G209","v":0},{"$f":"'حجز مواقيت الأقسام'!H217","v":""},{"$f":"'حجز مواقيت الأقسام'!G217","v":0},{"$f":"'حجز مواقيت الأقسام'!H225","v":""},{"$f":"'حجز مواقيت الأقسام'!G225","v":0},null,null,"سا09  -  سا10",{"$f":"'حجز مواقيت الأقسام'!H233","v":""},{"$f":"'حجز مواقيت الأقسام'!G233","v":0},{"$f":"'حجز مواقيت الأقسام'!H241","v":""},{"$f":"'حجز مواقيت الأقسام'!G241","v":0},{"$f":"'حجز مواقيت الأقسام'!H249","v":""},{"$f":"'حجز مواقيت الأقسام'!G249","v":0},{"$f":"'حجز مواقيت الأقسام'!H257","v":""},{"$f":"'حجز مواقيت الأقسام'!G257","v":0}]
[null,"سا10 -  سا11",{"$f":"'حجز مواقيت الأقسام'!H202","v":""},{"$f":"'حجز مواقيت الأقسام'!G202","v":0},{"$f":"'حجز مواقيت الأقسام'!H210","v":""},{"$f":"'حجز مواقيت الأقسام'!G210","v":0},{"$f":"'حجز مواقيت الأقسام'!H218","v":""},{"$f":"'حجز مواقيت الأقسام'!G218","v":0},{"$f":"'حجز مواقيت الأقسام'!H226","v":""},{"$f":"'حجز مواقيت الأقسام'!G226","v":0},null,null,"سا10 -  سا11",{"$f":"'حجز مواقيت الأقسام'!H234","v":""},{"$f":"'حجز مواقيت الأقسام'!G234","v":0},{"$f":"'حجز مواقيت الأقسام'!H242","v":""},{"$f":"'حجز مواقيت الأقسام'!G242","v":0},{"$f":"'حجز مواقيت الأقسام'!H250","v":""},{"$f":"'حجز مواقيت الأقسام'!G250","v":0},{"$f":"'حجز مواقيت الأقسام'!H258","v":""},{"$f":"'حجز مواقيت الأقسام'!G258","v":0}]
[null,"سا11 -  سا12",{"$f":"'حجز مواقيت الأقسام'!H203","v":""},{"$f":"'حجز مواقيت الأقسام'!G203","v":0},{"$f":"'حجز مواقيت الأقسام'!H211","v":""},{"$f":"'حجز مواقيت الأقسام'!G211","v":0},{"$f":"'حجز مواقيت الأقسام'!H219","v":""},{"$f":"'حجز مواقيت الأقسام'!G219","v":0},{"$f":"'حجز مواقيت الأقسام'!H227","v":""},{"$f":"'حجز مواقيت الأقسام'!G227","v":0},null,null,"سا11 -  سا12",{"$f":"'حجز مواقيت الأقسام'!H235","v":""},{"$f":"'حجز مواقيت الأقسام'!G235","v":0},{"$f":"'حجز مواقيت الأقسام'!H243","v":""},{"$f":"'حجز مواقيت الأقسام'!G243","v":0},{"$f":"'حجز مواقيت الأقسام'!H251","v":""},{"$f":"'حجز مواقيت الأقسام'!G251","v":0},{"$f":"'حجز مواقيت الأقسام'!H259","v":""},{"$f":"'حجز مواقيت الأقسام'!G259","v":0}]
[null,"سا13 -  سا14",{"$f":"'حجز مواقيت الأقسام'!H204","v":""},{"$f":"'حجز مواقيت الأقسام'!G204","v":0},{"$f":"'حجز مواقيت الأقسام'!H212","v":""},{"$f":"'حجز مواقيت الأقسام'!G212","v":0},{"$f":"'حجز مواقيت الأقسام'!H220","v":""},{"$f":"'حجز مواقيت الأقسام'!G220","v":0},{"$f":"'حجز مواقيت الأقسام'!H228","v":""},{"$f":"'حجز مواقيت الأقسام'!G228","v":0},null,null,"سا13 -  سا14",{"$f":"'حجز مواقيت الأقسام'!H236","v":""},{"$f":"'حجز مواقيت الأقسام'!G236","v":0},{"$f":"'حجز مواقيت الأقسام'!H244","v":""},{"$f":"'حجز مواقيت الأقسام'!G244","v":0},{"$f":"'حجز مواقيت الأقسام'!H252","v":""},{"$f":"'حجز مواقيت الأقسام'!G252","v":0},{"$f":"'حجز مواقيت الأقسام'!H260","v":""},{"$f":"'حجز مواقيت الأقسام'!G260","v":0}]
[null,"سا14 -  سا15",{"$f":"'حجز مواقيت الأقسام'!H205","v":""},{"$f":"'حجز مواقيت الأقسام'!G205","v":0},{"$f":"'حجز مواقيت الأقسام'!H213","v":""},{"$f":"'حجز مواقيت الأقسام'!G213","v":0},{"$f":"'حجز مواقيت الأقسام'!H221","v":""},{"$f":"'حجز مواقيت الأقسام'!G221","v":0},{"$f":"'حجز مواقيت الأقسام'!H229","v":""},{"$f":"'حجز مواقيت الأقسام'!G229","v":0},null,null,"سا14 -  سا15",{"$f":"'حجز مواقيت الأقسام'!H237","v":""},{"$f":"'حجز مواقيت الأقسام'!G237","v":0},{"$f":"'حجز مواقيت الأقسام'!H245","v":""},{"$f":"'حجز مواقيت الأقسام'!G245","v":0},{"$f":"'حجز مواقيت الأقسام'!H253","v":""},{"$f":"'حجز مواقيت الأقسام'!G253","v":0},{"$f":"'حجز مواقيت الأقسام'!H261","v":""},{"$f":"'حجز مواقيت الأقسام'!G261","v":0}]
[null,"سا15 -  سا16",{"$f":"'حجز مواقيت الأقسام'!H206","v":""},{"$f":"'حجز مواقيت الأقسام'!G206","v":0},{"$f":"'حجز مواقيت الأقسام'!H214","v":""},{"$f":"'حجز مواقيت الأقسام'!G214","v":0},{"$f":"'حجز مواقيت الأقسام'!H222","v":""},{"$f":"'حجز مواقيت الأقسام'!G222","v":0},{"$f":"'حجز مواقيت الأقسام'!H230","v":""},{"$f":"'حجز مواقيت الأقسام'!G230","v":0},null,null,"سا15 -  سا16",{"$f":"'حجز مواقيت الأقسام'!H238","v":""},{"$f":"'حجز مواقيت الأقسام'!G238","v":0},{"$f":"'حجز مواقيت الأقسام'!H246","v":""},{"$f":"'حجز مواقيت الأقسام'!G246","v":0},{"$f":"'حجز مواقيت الأقسام'!H254","v":""},{"$f":"'حجز مواقيت الأقسام'!G254","v":0},{"$f":"'حجز مواقيت الأقسام'!H262","v":""},{"$f":"'حجز مواقيت الأقسام'!G262","v":0}]
[null,"سا16 -  سا17",{"$f":"'حجز مواقيت الأقسام'!H207","v":""},{"$f":"'حجز مواقيت الأقسام'!G207","v":0},{"$f":"'حجز مواقيت الأقسام'!H215","v":""},{"$f":"'حجز مواقيت الأقسام'!G215","v":0},{"$f":"'حجز مواقيت الأقسام'!H223","v":""},{"$f":"'حجز مواقيت الأقسام'!G223","v":0},{"$f":"'حجز مواقيت الأقسام'!H231","v":""},{"$f":"'حجز مواقيت الأقسام'!G231","v":0},null,null,"سا16 -  سا17",{"$f":"'حجز مواقيت الأقسام'!H239","v":""},{"$f":"'حجز مواقيت الأقسام'!G239","v":0},{"$f":"'حجز مواقيت الأقسام'!H247","v":""},{"$f":"'حجز مواقيت الأقسام'!G247","v":0},{"$f":"'حجز مواقيت الأقسام'!H255","v":""},{"$f":"'حجز مواقيت الأقسام'!G255","v":0},{"$f":"'حجز مواقيت الأقسام'!H263","v":""},{"$f":"'حجز مواقيت الأقسام'!G263","v":0}]
["الثلاثاء","سا08  - سا09",{"$f":"'حجز مواقيت الأقسام'!J200","v":""},{"$f":"'حجز مواقيت الأقسام'!I200","v":0},{"$f":"'حجز مواقيت الأقسام'!J208","v":""},{"$f":"'حجز مواقيت الأقسام'!I208","v":0},{"$f":"'حجز مواقيت الأقسام'!J216","v":""},{"$f":"'حجز مواقيت الأقسام'!I216","v":0},{"$f":"'حجز مواقيت الأقسام'!J224","v":""},{"$f":"'حجز مواقيت الأقسام'!I224","v":0},null,"الثلاثاء","سا08  - سا09",{"$f":"'حجز مواقيت الأقسام'!J232","v":""},{"$f":"'حجز مواقيت الأقسام'!I232","v":0},{"$f":"'حجز مواقيت الأقسام'!J240","v":""},{"$f":"'حجز مواقيت الأقسام'!I240","v":0},{"$f":"'حجز مواقيت الأقسام'!J248","v":""},{"$f":"'حجز مواقيت الأقسام'!I248","v":0},{"$f":"'حجز مواقيت الأقسام'!J256","v":""},{"$f":"'حجز مواقيت الأقسام'!I256","v":0}]
[null,"سا09  -  سا10",{"$f":"'حجز مواقيت الأقسام'!J201","v":""},{"$f":"'حجز مواقيت الأقسام'!I201","v":0},{"$f":"'حجز مواقيت الأقسام'!J209","v":""},{"$f":"'حجز مواقيت الأقسام'!I209","v":0},{"$f":"'حجز مواقيت الأقسام'!J217","v":""},{"$f":"'حجز مواقيت الأقسام'!I217","v":0},{"$f":"'حجز مواقيت الأقسام'!J225","v":""},{"$f":"'حجز مواقيت الأقسام'!I225","v":0},null,null,"سا09  -  سا10",{"$f":"'حجز مواقيت الأقسام'!J233","v":""},{"$f":"'حجز مواقيت الأقسام'!I233","v":0},{"$f":"'حجز مواقيت الأقسام'!J241","v":""},{"$f":"'حجز مواقيت الأقسام'!I241","v":0},{"$f":"'حجز مواقيت الأقسام'!J249","v":""},{"$f":"'حجز مواقيت الأقسام'!I249","v":0},{"$f":"'حجز مواقيت الأقسام'!J257","v":""},{"$f":"'حجز مواقيت الأقسام'!I257","v":0}]
[null,"سا10 -  سا11",{"$f":"'حجز مواقيت الأقسام'!J202","v":""},{"$f":"'حجز مواقيت الأقسام'!I202","v":0},{"$f":"'حجز مواقيت الأقسام'!J210","v":""},{"$f":"'حجز مواقيت الأقسام'!I210","v":0},{"$f":"'حجز مواقيت الأقسام'!J218","v":""},{"$f":"'حجز مواقيت الأقسام'!I218","v":0},{"$f":"'حجز مواقيت الأقسام'!J226","v":""},{"$f":"'حجز مواقيت الأقسام'!I226","v":0},null,null,"سا10 -  سا11",{"$f":"'حجز مواقيت الأقسام'!J234","v":""},{"$f":"'حجز مواقيت الأقسام'!I234","v":0},{"$f":"'حجز مواقيت الأقسام'!J242","v":""},{"$f":"'حجز مواقيت الأقسام'!I242","v":0},{"$f":"'حجز مواقيت الأقسام'!J250","v":""},{"$f":"'حجز مواقيت الأقسام'!I250","v":0},{"$f":"'حجز مواقيت الأقسام'!J258","v":""},{"$f":"'حجز مواقيت الأقسام'!I258","v":0}]
[null,"سا11 -  سا12",{"$f":"'حجز مواقيت الأقسام'!J203","v":""},{"$f":"'حجز مواقيت الأقسام'!I203","v":0},{"$f":"'حجز مواقيت الأقسام'!J211","v":""},{"$f":"'حجز مواقيت الأقسام'!I211","v":0},{"$f":"'حجز مواقيت الأقسام'!J219","v":""},{"$f":"'حجز مواقيت الأقسام'!I219","v":0},{"$f":"'حجز مواقيت الأقسام'!J227","v":""},{"$f":"'حجز مواقيت الأقسام'!I227","v":0},null,null,"سا11 -  سا12",{"$f":"'حجز مواقيت الأقسام'!J235","v":""},{"$f":"'حجز مواقيت الأقسام'!I235","v":0},{"$f":"'حجز مواقيت الأقسام'!J243","v":""},{"$f":"'حجز مواقيت الأقسام'!I243","v":0},{"$f":"'حجز مواقيت الأقسام'!J251","v":""},{"$f":"'حجز مواقيت الأقسام'!I251","v":0},{"$f":"'حجز مواقيت الأقسام'!J259","v":""},{"$f":"'حجز مواقيت الأقسام'!I259","v":0}]
[null,"سا13 -  سا14",{"$f":"'حجز مواقيت الأقسام'!J204","v":""},{"$f":"'حجز مواقيت الأقسام'!I204","v":0},{"$f":"'حجز مواقيت الأقسام'!J212","v":""},{"$f":"'حجز مواقيت الأقسام'!I212","v":0},{"$f":"'حجز مواقيت الأقسام'!J220","v":""},{"$f":"'حجز مواقيت الأقسام'!I220","v":0},{"$f":"'حجز مواقيت الأقسام'!J228","v":""},{"$f":"'حجز مواقيت الأقسام'!I228","v":0},null,null,"سا13 -  سا14",{"$f":"'حجز مواقيت الأقسام'!J236","v":""},{"$f":"'حجز مواقيت الأقسام'!I236","v":0},{"$f":"'حجز مواقيت الأقسام'!J244","v":""},{"$f":"'حجز مواقيت الأقسام'!I244","v":0},{"$f":"'حجز مواقيت الأقسام'!J252","v":""},{"$f":"'حجز مواقيت الأقسام'!I252","v":0},{"$f":"'حجز مواقيت الأقسام'!J260","v":""},{"$f":"'حجز مواقيت الأقسام'!I260","v":0}]
[null,"سا14 -  سا15",{"$f":"'حجز مواقيت الأقسام'!J205","v":""},{"$f":"'حجز مواقيت الأقسام'!I205","v":0},{"$f":"'حجز مواقيت الأقسام'!J213","v":""},{"$f":"'حجز مواقيت الأقسام'!I213","v":0},{"$f":"'حجز مواقيت الأقسام'!J221","v":""},{"$f":"'حجز مواقيت الأقسام'!I221","v":0},{"$f":"'حجز مواقيت الأقسام'!J229","v":""},{"$f":"'حجز مواقيت الأقسام'!I229","v":0},null,null,"سا14 -  سا15",{"$f":"'حجز مواقيت الأقسام'!J237","v":""},{"$f":"'حجز مواقيت الأقسام'!I237","v":0},{"$f":"'حجز مواقيت الأقسام'!J245","v":""},{"$f":"'حجز مواقيت الأقسام'!I245","v":0},{"$f":"'حجز مواقيت الأقسام'!J253","v":""},{"$f":"'حجز مواقيت الأقسام'!I253","v":0},{"$f":"'حجز مواقيت الأقسام'!J261","v":""},{"$f":"'حجز مواقيت الأقسام'!I261","v":0}]
[null,"سا15 -  سا16",{"$f":"'حجز مواقيت الأقسام'!J206","v":""},{"$f":"'حجز مواقيت الأقسام'!I206","v":0},{"$f":"'حجز مواقيت الأقسام'!J214","v":""},{"$f":"'حجز مواقيت الأقسام'!I214","v":0},{"$f":"'حجز مواقيت الأقسام'!J222","v":""},{"$f":"'حجز مواقيت الأقسام'!I222","v":0},{"$f":"'حجز مواقيت الأقسام'!J230","v":""},{"$f":"'حجز مواقيت الأقسام'!I230","v":0},null,null,"سا15 -  سا16",{"$f":"'حجز مواقيت الأقسام'!J238","v":""},{"$f":"'حجز مواقيت الأقسام'!I238","v":0},{"$f":"'حجز مواقيت الأقسام'!J246","v":""},{"$f":"'حجز مواقيت الأقسام'!I246","v":0},{"$f":"'حجز مواقيت الأقسام'!J254","v":""},{"$f":"'حجز مواقيت الأقسام'!I254","v":0},{"$f":"'حجز مواقيت الأقسام'!J262","v":""},{"$f":"'حجز مواقيت الأقسام'!I262","v":0}]
[null,"سا16 -  سا17",{"$f":"'حجز مواقيت الأقسام'!J207","v":""},{"$f":"'حجز مواقيت الأقسام'!I207","v":0},{"$f":"'حجز مواقيت الأقسام'!J215","v":""},{"$f":"'حجز مواقيت الأقسام'!I215","v":0},{"$f":"'حجز مواقيت الأقسام'!J223","v":""},{"$f":"'حجز مواقيت الأقسام'!I223","v":0},{"$f":"'حجز مواقيت الأقسام'!J231","v":""},{"$f":"'حجز مواقيت الأقسام'!I231","v":0},null,null,"سا16 -  سا17",{"$f":"'حجز مواقيت الأقسام'!J239","v":""},{"$f":"'حجز مواقيت الأقسام'!I239","v":0},{"$f":"'حجز مواقيت الأقسام'!J247","v":""},{"$f":"'حجز مواقيت الأقسام'!I247","v":0},{"$f":"'حجز مواقيت الأقسام'!J255","v":""},{"$f":"'حجز مواقيت الأقسام'!I255","v":0},{"$f":"'حجز مواقيت الأقسام'!J263","v":""},{"$f":"'حجز مواقيت الأقسام'!I263","v":0}]
["الأربعاء","سا08  - سا09",{"$f":"'حجز مواقيت الأقسام'!L200","v":""},{"$f":"'حجز مواقيت الأقسام'!K200","v":0},{"$f":"'حجز مواقيت الأقسام'!L208","v":""},{"$f":"'حجز مواقيت الأقسام'!K208","v":0},{"$f":"'حجز مواقيت الأقسام'!L216","v":""},{"$f":"'حجز مواقيت الأقسام'!K216","v":0},{"$f":"'حجز مواقيت الأقسام'!L224","v":""},{"$f":"'حجز مواقيت الأقسام'!K224","v":0},null,"الأربعاء","سا08  - سا09",{"$f":"'حجز مواقيت الأقسام'!L232","v":""},{"$f":"'حجز مواقيت الأقسام'!K232","v":0},{"$f":"'حجز مواقيت الأقسام'!L240","v":""},{"$f":"'حجز مواقيت الأقسام'!K240","v":0},{"$f":"'حجز مواقيت الأقسام'!L248","v":""},{"$f":"'حجز مواقيت الأقسام'!K248","v":0},{"$f":"'حجز مواقيت الأقسام'!L256","v":""},{"$f":"'حجز مواقيت الأقسام'!K256","v":0}]
[null,"سا09  -  سا10",{"$f":"'حجز مواقيت الأقسام'!L201","v":""},{"$f":"'حجز مواقيت الأقسام'!K201","v":0},{"$f":"'حجز مواقيت الأقسام'!L209","v":""},{"$f":"'حجز مواقيت الأقسام'!K209","v":0},{"$f":"'حجز مواقيت الأقسام'!L217","v":""},{"$f":"'حجز مواقيت الأقسام'!K217","v":0},{"$f":"'حجز مواقيت الأقسام'!L225","v":""},{"$f":"'حجز مواقيت الأقسام'!K225","v":0},null,null,"سا09  -  سا10",{"$f":"'حجز مواقيت الأقسام'!L233","v":""},{"$f":"'حجز مواقيت الأقسام'!K233","v":0},{"$f":"'حجز مواقيت الأقسام'!L241","v":""},{"$f":"'حجز مواقيت الأقسام'!K241","v":0},{"$f":"'حجز مواقيت الأقسام'!L249","v":""},{"$f":"'حجز مواقيت الأقسام'!K249","v":0},{"$f":"'حجز مواقيت الأقسام'!L257","v":""},{"$f":"'حجز مواقيت الأقسام'!K257","v":0}]
[null,"سا10 -  سا11",{"$f":"'حجز مواقيت الأقسام'!L202","v":""},{"$f":"'حجز مواقيت الأقسام'!K202","v":0},{"$f":"'حجز مواقيت الأقسام'!L210","v":""},{"$f":"'حجز مواقيت الأقسام'!K210","v":0},{"$f":"'حجز مواقيت الأقسام'!L218","v":""},{"$f":"'حجز مواقيت الأقسام'!K218","v":0},{"$f":"'حجز مواقيت الأقسام'!L226","v":""},{"$f":"'حجز مواقيت الأقسام'!K226","v":0},null,null,"سا10 -  سا11",{"$f":"'حجز مواقيت الأقسام'!L234","v":""},{"$f":"'حجز مواقيت الأقسام'!K234","v":0},{"$f":"'حجز مواقيت الأقسام'!L242","v":""},{"$f":"'حجز مواقيت الأقسام'!K242","v":0},{"$f":"'حجز مواقيت الأقسام'!L250","v":""},{"$f":"'حجز مواقيت الأقسام'!K250","v":0},{"$f":"'حجز مواقيت الأقسام'!L258","v":""},{"$f":"'حجز مواقيت الأقسام'!K258","v":0}]
[null,"سا11 -  سا12",{"$f":"'حجز مواقيت الأقسام'!L203","v":""},{"$f":"'حجز مواقيت الأقسام'!K203","v":0},{"$f":"'حجز مواقيت الأقسام'!L211","v":""},{"$f":"'حجز مواقيت الأقسام'!K211","v":0},{"$f":"'حجز مواقيت الأقسام'!L219","v":""},{"$f":"'حجز مواقيت الأقسام'!K219","v":0},{"$f":"'حجز مواقيت الأقسام'!L227","v":""},{"$f":"'حجز مواقيت الأقسام'!K227","v":0},null,null,"سا11 -  سا12",{"$f":"'حجز مواقيت الأقسام'!L235","v":""},{"$f":"'حجز مواقيت الأقسام'!K235","v":0},{"$f":"'حجز مواقيت الأقسام'!L243","v":""},{"$f":"'حجز مواقيت الأقسام'!K243","v":0},{"$f":"'حجز مواقيت الأقسام'!L251","v":""},{"$f":"'حجز مواقيت الأقسام'!K251","v":0},{"$f":"'حجز مواقيت الأقسام'!L259","v":""},{"$f":"'حجز مواقيت الأقسام'!K259","v":0}]
[null,"سا13 -  سا14",{"$f":"'حجز مواقيت الأقسام'!L204","v":""},{"$f":"'حجز مواقيت الأقسام'!K204","v":0},{"$f":"'حجز مواقيت الأقسام'!L212","v":""},{"$f":"'حجز مواقيت الأقسام'!K212","v":0},{"$f":"'حجز مواقيت الأقسام'!L220","v":""},{"$f":"'حجز مواقيت الأقسام'!K220","v":0},{"$f":"'حجز مواقيت الأقسام'!L228","v":""},{"$f":"'حجز مواقيت الأقسام'!K228","v":0},null,null,"سا13 -  سا14",{"$f":"'حجز مواقيت الأقسام'!L236","v":""},{"$f":"'حجز مواقيت الأقسام'!K236","v":0},{"$f":"'حجز مواقيت الأقسام'!L244","v":""},{"$f":"'حجز مواقيت الأقسام'!K244","v":0},{"$f":"'حجز مواقيت الأقسام'!L252","v":""},{"$f":"'حجز مواقيت الأقسام'!K252","v":0},{"$f":"'حجز مواقيت الأقسام'!L260","v":""},{"$f":"'حجز مواقيت الأقسام'!K260","v":0}]
[null,"سا14 -  سا15",{"$f":"'حجز مواقيت الأقسام'!L205","v":""},{"$f":"'حجز مواقيت الأقسام'!K205","v":0},{"$f":"'حجز مواقيت الأقسام'!L213","v":""},{"$f":"'حجز مواقيت الأقسام'!K213","v":0},{"$f":"'حجز مواقيت الأقسام'!L221","v":""},{"$f":"'حجز مواقيت الأقسام'!K221","v":0},{"$f":"'حجز مواقيت الأقسام'!L229","v":""},{"$f":"'حجز مواقيت الأقسام'!K229","v":0},null,null,"سا14 -  سا15",{"$f":"'حجز مواقيت الأقسام'!L237","v":""},{"$f":"'حجز مواقيت الأقسام'!K237","v":0},{"$f":"'حجز مواقيت الأقسام'!L245","v":""},{"$f":"'حجز مواقيت الأقسام'!K245","v":0},{"$f":"'حجز مواقيت الأقسام'!L253","v":""},{"$f":"'حجز مواقيت الأقسام'!K253","v":0},{"$f":"'حجز مواقيت الأقسام'!L261","v":""},{"$f":"'حجز مواقيت الأقسام'!K261","v":0}]
[null,"سا15 -  سا16",{"$f":"'حجز مواقيت الأقسام'!L206","v":""},{"$f":"'حجز مواقيت الأقسام'!K206","v":0},{"$f":"'حجز مواقيت الأقسام'!L214","v":""},{"$f":"'حجز مواقيت الأقسام'!K214","v":0},{"$f":"'حجز مواقيت الأقسام'!L222","v":""},{"$f":"'حجز مواقيت الأقسام'!K222","v":0},{"$f":"'حجز مواقيت الأقسام'!L230","v":""},{"$f":"'حجز مواقيت الأقسام'!K230","v":0},null,null,"سا15 -  سا16",{"$f":"'حجز مواقيت الأقسام'!L238","v":""},{"$f":"'حجز مواقيت الأقسام'!K238","v":0},{"$f":"'حجز مواقيت الأقسام'!L246","v":""},{"$f":"'حجز مواقيت الأقسام'!K246","v":0},{"$f":"'حجز مواقيت الأقسام'!L254","v":""},{"$f":"'حجز مواقيت الأقسام'!K254","v":0},{"$f":"'حجز مواقيت الأقسام'!L262","v":""},{"$f":"'حجز مواقيت الأقسام'!K262","v":0}]
[null,"سا16 -  سا17",{"$f":"'حجز مواقيت الأقسام'!L207","v":""},{"$f":"'حجز مواقيت الأقسام'!K207","v":0},{"$f":"'حجز مواقيت الأقسام'!L215","v":""},{"$f":"'حجز مواقيت الأقسام'!K215","v":0},{"$f":"'حجز مواقيت الأقسام'!L223","v":""},{"$f":"'حجز مواقيت الأقسام'!K223","v":0},{"$f":"'حجز مواقيت الأقسام'!L231","v":""},{"$f":"'حجز مواقيت الأقسام'!K231","v":0},null,null,"سا16 -  سا17",{"$f":"'حجز مواقيت الأقسام'!L239","v":""},{"$f":"'حجز مواقيت الأقسام'!K239","v":0},{"$f":"'حجز مواقيت الأقسام'!L247","v":""},{"$f":"'حجز مواقيت الأقسام'!K247","v":0},{"$f":"'حجز مواقيت الأقسام'!L255","v":""},{"$f":"'حجز مواقيت الأقسام'!K255","v":0},{"$f":"'حجز مواقيت الأقسام'!L263","v":""},{"$f":"'حجز مواقيت الأقسام'!K263","v":0}]
["الخميس","سا08  - سا09",{"$f":"'حجز مواقيت الأقسام'!N200","v":""},{"$f":"'حجز مواقيت الأقسام'!M200","v":0},{"$f":"'حجز مواقيت الأقسام'!N208","v":""},{"$f":"'حجز مواقيت الأقسام'!M208","v":0},{"$f":"'حجز مواقيت الأقسام'!N216","v":""},{"$f":"'حجز مواقيت الأقسام'!M216","v":0},{"$f":"'حجز مواقيت الأقسام'!N224","v":""},{"$f":"'حجز مواقيت الأقسام'!M224","v":0},null,"الخميس","سا08  - سا09",{"$f":"'حجز مواقيت الأقسام'!N232","v":""},{"$f":"'حجز مواقيت الأقسام'!M232","v":0},{"$f":"'حجز مواقيت الأقسام'!N240","v":""},{"$f":"'حجز مواقيت الأقسام'!M240","v":0},{"$f":"'حجز مواقيت الأقسام'!N248","v":""},{"$f":"'حجز مواقيت الأقسام'!M248","v":0},{"$f":"'حجز مواقيت الأقسام'!N256","v":""},{"$f":"'حجز مواقيت الأقسام'!M256","v":0}]
[null,"سا09  -  سا10",{"$f":"'حجز مواقيت الأقسام'!N201","v":""},{"$f":"'حجز مواقيت الأقسام'!M201","v":0},{"$f":"'حجز مواقيت الأقسام'!N209","v":""},{"$f":"'حجز مواقيت الأقسام'!M209","v":0},{"$f":"'حجز مواقيت الأقسام'!N217","v":""},{"$f":"'حجز مواقيت الأقسام'!M217","v":0},{"$f":"'حجز مواقيت الأقسام'!N225","v":""},{"$f":"'حجز مواقيت الأقسام'!M225","v":0},null,null,"سا09  -  سا10",{"$f":"'حجز مواقيت الأقسام'!N233","v":""},{"$f":"'حجز مواقيت الأقسام'!M233","v":0},{"$f":"'حجز مواقيت الأقسام'!N241","v":""},{"$f":"'حجز مواقيت الأقسام'!M241","v":0},{"$f":"'حجز مواقيت الأقسام'!N249","v":""},{"$f":"'حجز مواقيت الأقسام'!M249","v":0},{"$f":"'حجز مواقيت الأقسام'!N257","v":""},{"$f":"'حجز مواقيت الأقسام'!M257","v":0}]
[null,"سا10 -  سا11",{"$f":"'حجز مواقيت الأقسام'!N202","v":""},{"$f":"'حجز مواقيت الأقسام'!M202","v":0},{"$f":"'حجز مواقيت الأقسام'!N210","v":""},{"$f":"'حجز مواقيت الأقسام'!M210","v":0},{"$f":"'حجز مواقيت الأقسام'!N218","v":""},{"$f":"'حجز مواقيت الأقسام'!M218","v":0},{"$f":"'حجز مواقيت الأقسام'!N226","v":""},{"$f":"'حجز مواقيت الأقسام'!M226","v":0},null,null,"سا10 -  سا11",{"$f":"'حجز مواقيت الأقسام'!N234","v":""},{"$f":"'حجز مواقيت الأقسام'!M234","v":0},{"$f":"'حجز مواقيت الأقسام'!N242","v":""},{"$f":"'حجز مواقيت الأقسام'!M242","v":0},{"$f":"'حجز مواقيت الأقسام'!N250","v":""},{"$f":"'حجز مواقيت الأقسام'!M250","v":0},{"$f":"'حجز مواقيت الأقسام'!N258","v":""},{"$f":"'حجز مواقيت الأقسام'!M258","v":0}]
[null,"سا11 -  سا12",{"$f":"'حجز مواقيت الأقسام'!N203","v":""},{"$f":"'حجز مواقيت الأقسام'!M203","v":0},{"$f":"'حجز مواقيت الأقسام'!N211","v":""},{"$f":"'حجز مواقيت الأقسام'!M211","v":0},{"$f":"'حجز مواقيت الأقسام'!N219","v":""},{"$f":"'حجز مواقيت الأقسام'!M219","v":0},{"$f":"'حجز مواقيت الأقسام'!N227","v":""},{"$f":"'حجز مواقيت الأقسام'!M227","v":0},null,null,"سا11 -  سا12",{"$f":"'حجز مواقيت الأقسام'!N235","v":""},{"$f":"'حجز مواقيت الأقسام'!M235","v":0},{"$f":"'حجز مواقيت الأقسام'!N243","v":""},{"$f":"'حجز مواقيت الأقسام'!M243","v":0},{"$f":"'حجز مواقيت الأقسام'!N251","v":""},{"$f":"'حجز مواقيت الأقسام'!M251","v":0},{"$f":"'حجز مواقيت الأقسام'!N259","v":""},{"$f":"'حجز مواقيت الأقسام'!M259","v":0}]
[null,"سا13 -  سا14",{"$f":"'حجز مواقيت الأقسام'!N204","v":""},{"$f":"'حجز مواقيت الأقسام'!M204","v":0},{"$f":"'حجز مواقيت الأقسام'!N212","v":""},{"$f":"'حجز مواقيت الأقسام'!M212","v":0},{"$f":"'حجز مواقيت الأقسام'!N220","v":""},{"$f":"'حجز مواقيت الأقسام'!M220","v":0},{"$f":"'حجز مواقيت الأقسام'!N228","v":""},{"$f":"'حجز مواقيت الأقسام'!M228","v":0},null,null,"سا13 -  سا14",{"$f":"'حجز مواقيت الأقسام'!N236","v":""},{"$f":"'حجز مواقيت الأقسام'!M236","v":0},{"$f":"'حجز مواقيت الأقسام'!N244","v":""},{"$f":"'حجز مواقيت الأقسام'!M244","v":0},{"$f":"'حجز مواقيت الأقسام'!N252","v":""},{"$f":"'حجز مواقيت الأقسام'!M252","v":0},{"$f":"'حجز مواقيت الأقسام'!N260","v":""},{"$f":"'حجز مواقيت الأقسام'!M260","v":0}]
[null,"سا14 -  سا15",{"$f":"'حجز مواقيت الأقسام'!N205","v":""},{"$f":"'حجز مواقيت الأقسام'!M205","v":0},{"$f":"'حجز مواقيت الأقسام'!N213","v":""},{"$f":"'حجز مواقيت الأقسام'!M213","v":0},{"$f":"'حجز مواقيت الأقسام'!N221","v":""},{"$f":"'حجز مواقيت الأقسام'!M221","v":0},{"$f":"'حجز مواقيت الأقسام'!N229","v":""},{"$f":"'حجز مواقيت الأقسام'!M229","v":0},null,null,"سا14 -  سا15",{"$f":"'حجز مواقيت الأقسام'!N237","v":""},{"$f":"'حجز مواقيت الأقسام'!M237","v":0},{"$f":"'حجز مواقيت الأقسام'!N245","v":""},{"$f":"'حجز مواقيت الأقسام'!M245","v":0},{"$f":"'حجز مواقيت الأقسام'!N253","v":""},{"$f":"'حجز مواقيت الأقسام'!M253","v":0},{"$f":"'حجز مواقيت الأقسام'!N261","v":""},{"$f":"'حجز مواقيت الأقسام'!M261","v":0}]
[null,"سا15 -  سا16",{"$f":"'حجز مواقيت الأقسام'!N206","v":""},{"$f":"'حجز مواقيت الأقسام'!M206","v":0},{"$f":"'حجز مواقيت الأقسام'!N214","v":""},{"$f":"'حجز مواقيت الأقسام'!M214","v":0},{"$f":"'حجز مواقيت الأقسام'!N222","v":""},{"$f":"'حجز مواقيت الأقسام'!M222","v":0},{"$f":"'حجز مواقيت الأقسام'!N230","v":""},{"$f":"'حجز مواقيت الأقسام'!M230","v":0},null,null,"سا15 -  سا16",{"$f":"'حجز مواقيت الأقسام'!N238","v":""},{"$f":"'حجز مواقيت الأقسام'!M238","v":0},{"$f":"'حجز مواقيت الأقسام'!N246","v":""},{"$f":"'حجز مواقيت الأقسام'!M246","v":0},{"$f":"'حجز مواقيت الأقسام'!N254","v":""},{"$f":"'حجز مواقيت الأقسام'!M254","v":0},{"$f":"'حجز مواقيت الأقسام'!N262","v":""},{"$f":"'حجز مواقيت الأقسام'!M262","v":0}]
[null,"سا16 -  سا17",{"$f":"'حجز مواقيت الأقسام'!N207","v":""},{"$f":"'حجز مواقيت الأقسام'!M207","v":0},{"$f":"'حجز مواقيت الأقسام'!N215","v":""},{"$f":"'حجز مواقيت الأقسام'!M215","v":0},{"$f":"'حجز مواقيت الأقسام'!N223","v":""},{"$f":"'حجز مواقيت الأقسام'!M223","v":0},{"$f":"'حجز مواقيت الأقسام'!N231","v":""},{"$f":"'حجز مواقيت الأقسام'!M231","v":0},null,null,"سا16 -  سا17",{"$f":"'حجز مواقيت الأقسام'!N239","v":""},{"$f":"'حجز مواقيت الأقسام'!M239","v":0},{"$f":"'حجز مواقيت الأقسام'!N247","v":""},{"$f":"'حجز مواقيت الأقسام'!M247","v":0},{"$f":"'حجز مواقيت الأقسام'!N255","v":""},{"$f":"'حجز مواقيت الأقسام'!M255","v":0},{"$f":"'حجز مواقيت الأقسام'!N263","v":""},{"$f":"'حجز مواقيت الأقسام'!M263","v":0}]
[]
[]
["الأيام","المواقيت","القسم",{"$f":"'حجز مواقيت الأقسام'!B264","v":0},"القسم",{"$f":"'حجز مواقيت الأقسام'!B272","v":0},"القسم",{"$f":"'حجز مواقيت الأقسام'!B280","v":0},"القسم",null,null,"الأيام","المواقيت","القسم",null,"القسم",null,"القسم",null,"القسم"]
[null,null,"عدد التلاميذ",{"$f":"التعداد!L43","v":0},"عدد التلاميذ",{"$f":"التعداد!L44","v":0},"عدد التلاميذ",{"$f":"التعداد!L45","v":0},"عدد التلاميذ",null,null,null,null,"عدد التلاميذ",null,"عدد التلاميذ",null,"عدد التلاميذ",null,"عدد التلاميذ"]
[null,null,"اسم الأستاذ","المادة","اسم الأستاذ","المادة","اسم الأستاذ","المادة","اسم الأستاذ","المادة",null,null,null,"اسم الأستاذ","المادة","اسم الأستاذ","المادة","اسم الأستاذ","المادة","اسم الأستاذ","المادة"]
["الأحــــــــد","سا08  - سا09",{"$f":"'حجز مواقيت الأقسام'!F264","v":""},{"$f":"'حجز مواقيت الأقسام'!E264","v":0},{"$f":"'حجز مواقيت الأقسام'!F272","v":""},{"$f":"'حجز مواقيت الأقسام'!E272","v":0},{"$f":"'حجز مواقيت الأقسام'!F280","v":""},{"$f":"'حجز مواقيت الأقسام'!E280","v":0},null,null,null,"الأحــــــــد","سا08  - سا09"]
[null,"سا09  -  سا10",{"$f":"'حجز مواقيت الأقسام'!F265","v":""},{"$f":"'حجز مواقيت الأقسام'!E265","v":0},{"$f":"'حجز مواقيت الأقسام'!F273","v":""},{"$f":"'حجز مواقيت الأقسام'!E273","v":0},{"$f":"'حجز مواقيت الأقسام'!F281","v":""},{"$f":"'حجز مواقيت الأقسام'!E281","v":0},null,null,null,null,"سا09  -  سا10"]
[null,"سا10 -  سا11",{"$f":"'حجز مواقيت الأقسام'!F266","v":""},{"$f":"'حجز مواقيت الأقسام'!E266","v":0},{"$f":"'حجز مواقيت الأقسام'!F274","v":""},{"$f":"'حجز مواقيت الأقسام'!E274","v":0},{"$f":"'حجز مواقيت الأقسام'!F282","v":""},{"$f":"'حجز مواقيت الأقسام'!E282","v":0},null,null,null,null,"سا10 -  سا11"]
[null,"سا11 -  سا12",{"$f":"'حجز مواقيت الأقسام'!F267","v":""},{"$f":"'حجز مواقيت الأقسام'!E267","v":0},{"$f":"'حجز مواقيت الأقسام'!F275","v":""},{"$f":"'حجز مواقيت الأقسام'!E275","v":0},{"$f":"'حجز مواقيت الأقسام'!F283","v":""},{"$f":"'حجز مواقيت الأقسام'!E283","v":0},null,null,null,null,"سا11 -  سا12"]
[null,"سا13 -  سا14",{"$f":"'حجز مواقيت الأقسام'!F268","v":""},{"$f":"'حجز مواقيت الأقسام'!E268","v":0},{"$f":"'حجز مواقيت الأقسام'!F276","v":""},{"$f":"'حجز مواقيت الأقسام'!E276","v":0},{"$f":"'حجز مواقيت الأقسام'!F284","v":""},{"$f":"'حجز مواقيت الأقسام'!E284","v":0},null,null,null,null,"سا13 -  سا14"]
[null,"سا14 -  سا15",{"$f":"'حجز مواقيت الأقسام'!F269","v":""},{"$f":"'حجز مواقيت الأقسام'!E269","v":0},{"$f":"'حجز مواقيت الأقسام'!F277","v":""},{"$f":"'حجز مواقيت الأقسام'!E277","v":0},{"$f":"'حجز مواقيت الأقسام'!F285","v":""},{"$f":"'حجز مواقيت الأقسام'!E285","v":0},null,null,null,null,"سا14 -  سا15"]
[null,"سا15 -  سا16",{"$f":"'حجز مواقيت الأقسام'!F270","v":""},{"$f":"'حجز مواقيت الأقسام'!E270","v":0},{"$f":"'حجز مواقيت الأقسام'!F278","v":""},{"$f":"'حجز مواقيت الأقسام'!E278","v":0},{"$f":"'حجز مواقيت الأقسام'!F286","v":""},{"$f":"'حجز مواقيت الأقسام'!E286","v":0},null,null,null,null,"سا15 -  سا16"]
[null,"سا16 -  سا17",{"$f":"'حجز مواقيت الأقسام'!F271","v":""},{"$f":"'حجز مواقيت الأقسام'!E271","v":0},{"$f":"'حجز مواقيت الأقسام'!F279","v":""},{"$f":"'حجز مواقيت الأقسام'!E279","v":0},{"$f":"'حجز مواقيت الأقسام'!F287","v":""},{"$f":"'حجز مواقيت الأقسام'!E287","v":0},null,null,null,null,"سا16 -  سا17"]
["الاثنين","سا08  - سا09",{"$f":"'حجز مواقيت الأقسام'!H264","v":""},{"$f":"'حجز مواقيت الأقسام'!G264","v":0},{"$f":"'حجز مواقيت الأقسام'!H272","v":""},{"$f":"'حجز مواقيت الأقسام'!G272","v":0},{"$f":"'حجز مواقيت الأقسام'!H280","v":""},{"$f":"'حجز مواقيت الأقسام'!G280","v":0},null,null,null,"الاثنين","سا08  - سا09"]
[null,"سا09  -  سا10",{"$f":"'حجز مواقيت الأقسام'!H265","v":""},{"$f":"'حجز مواقيت الأقسام'!G265","v":0},{"$f":"'حجز مواقيت الأقسام'!H273","v":""},{"$f":"'حجز مواقيت الأقسام'!G273","v":0},{"$f":"'حجز مواقيت الأقسام'!H281","v":""},{"$f":"'حجز مواقيت الأقسام'!G281","v":0},null,null,null,null,"سا09  -  سا10"]
[null,"سا10 -  سا11",{"$f":"'حجز مواقيت الأقسام'!H266","v":""},{"$f":"'حجز مواقيت الأقسام'!G266","v":0},{"$f":"'حجز مواقيت الأقسام'!H274","v":""},{"$f":"'حجز مواقيت الأقسام'!G274","v":0},{"$f":"'حجز مواقيت الأقسام'!H282","v":""},{"$f":"'حجز مواقيت الأقسام'!G282","v":0},null,null,null,null,"سا10 -  سا11"]
[null,"سا11 -  سا12",{"$f":"'حجز مواقيت الأقسام'!H267","v":""},{"$f":"'حجز مواقيت الأقسام'!G267","v":0},{"$f":"'حجز مواقيت الأقسام'!H275","v":""},{"$f":"'حجز مواقيت الأقسام'!G275","v":0},{"$f":"'حجز مواقيت الأقسام'!H283","v":""},{"$f":"'حجز مواقيت الأقسام'!G283","v":0},null,null,null,null,"سا11 -  سا12"]
[null,"سا13 -  سا14",{"$f":"'حجز مواقيت الأقسام'!H268","v":""},{"$f":"'حجز مواقيت الأقسام'!G268","v":0},{"$f":"'حجز مواقيت الأقسام'!H276","v":""},{"$f":"'حجز مواقيت الأقسام'!G276","v":0},{"$f":"'حجز مواقيت الأقسام'!H284","v":""},{"$f":"'حجز مواقيت الأقسام'!G284","v":0},null,null,null,null,"سا13 -  سا14"]
[null,"سا14 -  سا15",{"$f":"'حجز مواقيت الأقسام'!H269","v":""},{"$f":"'حجز مواقيت الأقسام'!G269","v":0},{"$f":"'حجز مواقيت الأقسام'!H277","v":""},{"$f":"'حجز مواقيت الأقسام'!G277","v":0},{"$f":"'حجز مواقيت الأقسام'!H285","v":""},{"$f":"'حجز مواقيت الأقسام'!G285","v":0},null,null,null,null,"سا14 -  سا15"]
[null,"سا15 -  سا16",{"$f":"'حجز مواقيت الأقسام'!H270","v":""},{"$f":"'حجز مواقيت الأقسام'!G270","v":0},{"$f":"'حجز مواقيت الأقسام'!H278","v":""},{"$f":"'حجز مواقيت الأقسام'!G278","v":0},{"$f":"'حجز مواقيت الأقسام'!H286","v":""},{"$f":"'حجز مواقيت الأقسام'!G286","v":0},null,null,null,null,"سا15 -  سا16"]
[null,"سا16 -  سا17",{"$f":"'حجز مواقيت الأقسام'!H271","v":""},{"$f":"'حجز مواقيت الأقسام'!G271","v":0},{"$f":"'حجز مواقيت الأقسام'!H279","v":""},{"$f":"'حجز مواقيت الأقسام'!G279","v":0},{"$f":"'حجز مواقيت الأقسام'!H287","v":""},{"$f":"'حجز مواقيت الأقسام'!G287","v":0},null,null,null,null,"سا16 -  سا17"]
["الثلاثاء","سا08  - سا09",{"$f":"'حجز مواقيت الأقسام'!J264","v":""},{"$f":"'حجز مواقيت الأقسام'!I264","v":0},{"$f":"'حجز مواقيت الأقسام'!J272","v":""},{"$f":"'حجز مواقيت الأقسام'!I272","v":0},{"$f":"'حجز مواقيت الأقسام'!J280","v":""},{"$f":"'حجز مواقيت الأقسام'!I280","v":0},null,null,null,"الثلاثاء","سا08  - سا09"]
[null,"سا09  -  سا10",{"$f":"'حجز مواقيت الأقسام'!J265","v":""},{"$f":"'حجز مواقيت الأقسام'!I265","v":0},{"$f":"'حجز مواقيت الأقسام'!J273","v":""},{"$f":"'حجز مواقيت الأقسام'!I273","v":0},{"$f":"'حجز مواقيت الأقسام'!J281","v":""},{"$f":"'حجز مواقيت الأقسام'!I281","v":0},null,null,null,null,"سا09  -  سا10"]
[null,"سا10 -  سا11",{"$f":"'حجز مواقيت الأقسام'!J266","v":""},{"$f":"'حجز مواقيت الأقسام'!I266","v":0},{"$f":"'حجز مواقيت الأقسام'!J274","v":""},{"$f":"'حجز مواقيت الأقسام'!I274","v":0},{"$f":"'حجز مواقيت الأقسام'!J282","v":""},{"$f":"'حجز مواقيت الأقسام'!I282","v":0},null,null,null,null,"سا10 -  سا11"]
[null,"سا11 -  سا12",{"$f":"'حجز مواقيت الأقسام'!J267","v":""},{"$f":"'حجز مواقيت الأقسام'!I267","v":0},{"$f":"'حجز مواقيت الأقسام'!J275","v":""},{"$f":"'حجز مواقيت الأقسام'!I275","v":0},{"$f":"'حجز مواقيت الأقسام'!J283","v":""},{"$f":"'حجز مواقيت الأقسام'!I283","v":0},null,null,null,null,"سا11 -  سا12"]
[null,"سا13 -  سا14",{"$f":"'حجز مواقيت الأقسام'!J268","v":""},{"$f":"'حجز مواقيت الأقسام'!I268","v":0},{"$f":"'حجز مواقيت الأقسام'!J276","v":""},{"$f":"'حجز مواقيت الأقسام'!I276","v":0},{"$f":"'حجز مواقيت الأقسام'!J284","v":""},{"$f":"'حجز مواقيت الأقسام'!I284","v":0},null,null,null,null,"سا13 -  سا14"]
[null,"سا14 -  سا15",{"$f":"'حجز مواقيت الأقسام'!J269","v":""},{"$f":"'حجز مواقيت الأقسام'!I269","v":0},{"$f":"'حجز مواقيت الأقسام'!J277","v":""},{"$f":"'حجز مواقيت الأقسام'!I277","v":0},{"$f":"'حجز مواقيت الأقسام'!J285","v":""},{"$f":"'حجز مواقيت الأقسام'!I285","v":0},null,null,null,null,"سا14 -  سا15"]
[null,"سا15 -  سا16",{"$f":"'حجز مواقيت الأقسام'!J270","v":""},{"$f":"'حجز مواقيت الأقسام'!I270","v":0},{"$f":"'حجز مواقيت الأقسام'!J278","v":""},{"$f":"'حجز مواقيت الأقسام'!I278","v":0},{"$f":"'حجز مواقيت الأقسام'!J286","v":""},{"$f":"'حجز مواقيت الأقسام'!I286","v":0},null,null,null,null,"سا15 -  سا16"]
[null,"سا16 -  سا17",{"$f":"'حجز مواقيت الأقسام'!J271","v":""},{"$f":"'حجز مواقيت الأقسام'!I271","v":0},{"$f":"'حجز مواقيت الأقسام'!J279","v":""},{"$f":"'حجز مواقيت الأقسام'!I279","v":0},{"$f":"'حجز مواقيت الأقسام'!J287","v":""},{"$f":"'حجز مواقيت الأقسام'!I287","v":0},null,null,null,null,"سا16 -  سا17"]
["الأربعاء","سا08  - سا09",{"$f":"'حجز مواقيت الأقسام'!L264","v":""},{"$f":"'حجز مواقيت الأقسام'!K264","v":0},{"$f":"'حجز مواقيت الأقسام'!L272","v":""},{"$f":"'حجز مواقيت الأقسام'!K272","v":0},{"$f":"'حجز مواقيت الأقسام'!L280","v":""},{"$f":"'حجز مواقيت الأقسام'!K280","v":0},null,null,null,"الأربعاء","سا08  - سا09"]
[null,"سا09  -  سا10",{"$f":"'حجز مواقيت الأقسام'!L265","v":""},{"$f":"'حجز مواقيت الأقسام'!K265","v":0},{"$f":"'حجز مواقيت الأقسام'!L273","v":""},{"$f":"'حجز مواقيت الأقسام'!K273","v":0},{"$f":"'حجز مواقيت الأقسام'!L281","v":""},{"$f":"'حجز مواقيت الأقسام'!K281","v":0},null,null,null,null,"سا09  -  سا10"]
[null,"سا10 -  سا11",{"$f":"'حجز مواقيت الأقسام'!L266","v":""},{"$f":"'حجز مواقيت الأقسام'!K266","v":0},{"$f":"'حجز مواقيت الأقسام'!L274","v":""},{"$f":"'حجز مواقيت الأقسام'!K274","v":0},{"$f":"'حجز مواقيت الأقسام'!L282","v":""},{"$f":"'حجز مواقيت الأقسام'!K282","v":0},null,null,null,null,"سا10 -  سا11"]
[null,"سا11 -  سا12",{"$f":"'حجز مواقيت الأقسام'!L267","v":""},{"$f":"'حجز مواقيت الأقسام'!K267","v":0},{"$f":"'حجز مواقيت الأقسام'!L275","v":""},{"$f":"'حجز مواقيت الأقسام'!K275","v":0},{"$f":"'حجز مواقيت الأقسام'!L283","v":""},{"$f":"'حجز مواقيت الأقسام'!K283","v":0},null,null,null,null,"سا11 -  سا12"]
[null,"سا13 -  سا14",{"$f":"'حجز مواقيت الأقسام'!L268","v":""},{"$f":"'حجز مواقيت الأقسام'!K268","v":0},{"$f":"'حجز مواقيت الأقسام'!L276","v":""},{"$f":"'حجز مواقيت الأقسام'!K276","v":0},{"$f":"'حجز مواقيت الأقسام'!L284","v":""},{"$f":"'حجز مواقيت الأقسام'!K284","v":0},null,null,null,null,"سا13 -  سا14"]
[null,"سا14 -  سا15",{"$f":"'حجز مواقيت الأقسام'!L269","v":""},{"$f":"'حجز مواقيت الأقسام'!K269","v":0},{"$f":"'حجز مواقيت الأقسام'!L277","v":""},{"$f":"'حجز مواقيت الأقسام'!K277","v":0},{"$f":"'حجز مواقيت الأقسام'!L285","v":""},{"$f":"'حجز مواقيت الأقسام'!K285","v":0},null,null,null,null,"سا14 -  سا15"]
[null,"سا15 -  سا16",{"$f":"'حجز مواقيت الأقسام'!L270","v":""},{"$f":"'حجز مواقيت الأقسام'!K270","v":0},{"$f":"'حجز مواقيت الأقسام'!L278","v":""},{"$f":"'حجز مواقيت الأقسام'!K278","v":0},{"$f":"'حجز مواقيت الأقسام'!L286","v":""},{"$f":"'حجز مواقيت الأقسام'!K286","v":0},null,null,null,null,"سا15 -  سا16"]
[null,"سا16 -  سا17",{"$f":"'حجز مواقيت الأقسام'!L271","v":""},{"$f":"'حجز مواقيت الأقسام'!K271","v":0},{"$f":"'حجز مواقيت الأقسام'!L279","v":""},{"$f":"'حجز مواقيت الأقسام'!K279","v":0},{"$f":"'حجز مواقيت الأقسام'!L287","v":""},{"$f":"'حجز مواقيت الأقسام'!K287","v":0},null,null,null,null,"سا16 -  سا17"]
["الخميس","سا08  - سا09",{"$f":"'حجز مواقيت الأقسام'!N264","v":""},{"$f":"'حجز مواقيت الأقسام'!M264","v":0},{"$f":"'حجز مواقيت الأقسام'!N272","v":""},{"$f":"'حجز مواقيت الأقسام'!M272","v":0},{"$f":"'حجز مواقيت الأقسام'!N280","v":""},{"$f":"'حجز مواقيت الأقسام'!M280","v":0},null,null,null,"الخميس","سا08  - سا09"]
[null,"سا09  -  سا10",{"$f":"'حجز مواقيت الأقسام'!N265","v":""},{"$f":"'حجز مواقيت الأقسام'!M265","v":0},{"$f":"'حجز مواقيت الأقسام'!N273","v":""},{"$f":"'حجز مواقيت الأقسام'!M273","v":0},{"$f":"'حجز مواقيت الأقسام'!N281","v":""},{"$f":"'حجز مواقيت الأقسام'!M281","v":0},null,null,null,null,"سا09  -  سا10"]
[null,"سا10 -  سا11",{"$f":"'حجز مواقيت الأقسام'!N266","v":""},{"$f":"'حجز مواقيت الأقسام'!M266","v":0},{"$f":"'حجز مواقيت الأقسام'!N274","v":""},{"$f":"'حجز مواقيت الأقسام'!M274","v":0},{"$f":"'حجز مواقيت الأقسام'!N282","v":""},{"$f":"'حجز مواقيت الأقسام'!M282","v":0},null,null,null,null,"سا10 -  سا11"]
[null,"سا11 -  سا12",{"$f":"'حجز مواقيت الأقسام'!N267","v":""},{"$f":"'حجز مواقيت الأقسام'!M267","v":0},{"$f":"'حجز مواقيت الأقسام'!N275","v":""},{"$f":"'حجز مواقيت الأقسام'!M275","v":0},{"$f":"'حجز مواقيت الأقسام'!N283","v":""},{"$f":"'حجز مواقيت الأقسام'!M283","v":0},null,null,null,null,"سا11 -  سا12"]
[null,"سا13 -  سا14",{"$f":"'حجز مواقيت الأقسام'!N268","v":""},{"$f":"'حجز مواقيت الأقسام'!M268","v":0},{"$f":"'حجز مواقيت الأقسام'!N276","v":""},{"$f":"'حجز مواقيت الأقسام'!M276","v":0},{"$f":"'حجز مواقيت الأقسام'!N284","v":""},{"$f":"'حجز مواقيت الأقسام'!M284","v":0},null,null,null,null,"سا13 -  سا14"]
[null,"سا14 -  سا15",{"$f":"'حجز مواقيت الأقسام'!N269","v":""},{"$f":"'حجز مواقيت الأقسام'!M269","v":0},{"$f":"'حجز مواقيت الأقسام'!N277","v":""},{"$f":"'حجز مواقيت الأقسام'!M277","v":0},{"$f":"'حجز مواقيت الأقسام'!N285","v":""},{"$f":"'حجز مواقيت الأقسام'!M285","v":0},null,null,null,null,"سا14 -  سا15"]
[null,"سا15 -  سا16",{"$f":"'حجز مواقيت الأقسام'!N270","v":""},{"$f":"'حجز مواقيت الأقسام'!M270","v":0},{"$f":"'حجز مواقيت الأقسام'!N278","v":""},{"$f":"'حجز مواقيت الأقسام'!M278","v":0},{"$f":"'حجز مواقيت الأقسام'!N286","v":""},{"$f":"'حجز مواقيت الأقسام'!M286","v":0},null,null,null,null,"سا15 -  سا16"]
[null,"سا16 -  سا17",{"$f":"'حجز مواقيت الأقسام'!N271","v":""},{"$f":"'حجز مواقيت الأقسام'!M271","v":0},{"$f":"'حجز مواقيت الأقسام'!N279","v":""},{"$f":"'حجز مواقيت الأقسام'!M279","v":0},{"$f":"'حجز مواقيت الأقسام'!N287","v":""},{"$f":"'حجز مواقيت الأقسام'!M287","v":0},null,null,null,null,"سا16 -  سا17"]

{"sheet":"اللغات الحية","index":13,"n_rows":75,"n_cols":39,"rows_kept":75,"cut":false,"hidden":false,"merged":[[0,33,0,37],[0,22,0,26],[0,28,0,31],[2,3,3,3],[2,22,3,22],[2,4,2,6],[2,7,2,9],[2,10,2,12],[2,13,2,15],[0,2,0,6],[0,8,0,11],[0,13,0,17],[4,0,8,0],[9,0,11,0],[2,33,2,35],[2,36,2,38],[2,23,3,23],[2,24,2,26],[2,27,2,29],[2,30,2,32],[2,16,2,18],[2,2,3,2],[4,20,8,20],[9,20,11,20],[12,0,14,0],[15,0,17,0],[84,20,84,38],[85,20,85,25],[26,0,26,17],[53,0,53,17],[18,0,18,1],[19,0,19,1],[18,20,18,21],[19,20,19,21],[12,20,14,20],[15,20,17,20],[109,31,109,33],[86,20,86,26],[105,21,105,37],[73,12,73,18],[74,28,74,37],[107,22,107,30],[108,22,108,30],[109,22,109,30],[106,22,106,30],[106,31,106,33],[106,34,106,37],[107,31,107,33],[108,31,108,33],[113,31,113,33],[110,31,110,33],[111,31,111,33],[114,31,114,33],[117,22,117,30],[114,22,114,30],[115,22,115,30],[116,22,116,30],[112,22,112,30],[112,31,112,33],[113,22,113,30],[110,22,110,30],[111,22,111,30],[122,22,122,27],[119,21,119,30],[120,21,120,30],[115,31,115,33],[115,34,115,36],[116,31,116,33],[117,31,117,33]]}
[null,null,"السنة الدراسية الحالية",null,null,null,null,null,{"$f":"البداية!V3","v":"2022/2023"},null,null,null,null,"تعليم اللغات الحيـة",null,null,null,null,null,null,null,null,"السنة الدراسية المقبلة",null,null,null,null,null,{"$f":"البداية!V5","v":"2023/2024"},null,null,null,null,"تعليم اللغات الحيـة"]
[]
[null,null,"عدد الأقسام","عدد التلاميذ","الانجليزية ",null,null,"الالمانية ",null,null,"الإسبانية",null,null,"الإطالية",null,null,"الروسية",null,null,null,"*",null,"عدد الأقسام","عدد التلاميذ","الانجليزية",null,null,"الالمانية",null,null,"الإسبانية",null,null,"الإطالية",null,null,"الروسية"]
[null,null,null,null,"عدد الأفواج","عدد التلاميذ","مجموع ساعات التعليم","عدد الأفواج","عدد التلاميذ","مجموع ساعات التعليم","عدد الأفواج","عدد التلاميذ","مجموع ساعات التعليم","عدد الأفواج","عدد التلاميذ","مجموع ساعات التعليم","عدد الأفواج","عدد التلاميذ","مجموع ساعات التعليم",null,null,null,null,null,"عدد الأفواج","عدد التلاميذ","مجموع ساعات التعليم","عدد الأفواج","عدد التلاميذ","مجموع ساعات التعليم","عدد الأفواج","عدد التلاميذ","مجموع ساعات التعليم","عدد الأفواج","عدد التلاميذ","مجموع ساعات التعليم","عدد الأفواج","عدد التلاميذ","مجموع ساعات التعليم"]
["التعليم المتوسط","السنة 1 متوسط",{"$f":"التعداد!N10","v":3},{"$f":"التعداد!Q10","v":94},{"$f":"C5","v":3},94,{"$f":"C5*3","v":9},null,null,null,null,null,null,null,null,null,null,null,null,null,"التعليم المتوسط","السنة 1 متوسط",{"$f":"التعداد!R10","v":3},{"$f":"التعداد!S10","v":78},{"$f":"W5","v":3},78,{"$f":"W5*3","v":9}]
[null,"السنة 2 متوسط ",{"$f":"التعداد!N11","v":3},{"$f":"التعداد!Q11","v":81},3,81,{"$f":"C6*3","v":9},null,null,null,null,null,null,null,null,null,null,null,null,null,null,"السنة  2 متوسط",{"$f":"التعداد!R11","v":3},{"$f":"التعداد!S11","v":70},3,70,{"$f":"W6*3","v":9}]
[null,"السنة 3 متوسط ",{"$f":"التعداد!N12","v":2},{"$f":"التعداد!Q12","v":63},2,63,{"$f":"C7*4","v":8},null,null,null,null,null,null,null,null,null,null,null,null,null,null,"السنة 3 متوسط",{"$f":"التعداد!R12","v":2},{"$f":"التعداد!S12","v":66},2,66,{"$f":"W7*4","v":8}]
[null,"السنة  4 متوسط",{"$f":"التعداد!N13","v":2},{"$f":"التعداد!Q13","v":54},2,54,{"$f":"C8*4","v":8},null,null,null,null,null,null,null,null,null,null,null,null,null,null,"السنة  4 متوسط",{"$f":"التعداد!R13","v":2},{"$f":"التعداد!S13","v":100},2,100,{"$f":"W8*4","v":8}]
[null,"مجموع المتوسط",{"$f":"SUM(C5:C8)","v":10},{"$f":"SUM(D5:D8)","v":292},{"$f":"SUM(E5:E8)","v":10},{"$f":"SUM(F5:F8)","v":292},{"$f":"SUM(G5:G8)","v":34},null,null,null,null,null,null,null,null,null,null,null,null,null,null,"مجموع المتوسط",{"$f":"SUM(W5:W8)","v":10},{"$f":"SUM(X5:X8)","v":314},{"$f":"SUM(Y5:Y8)","v":10},{"$f":"SUM(Z5:Z8)","v":314},{"$f":"SUM(AA5:AA8)","v":34}]
["السنة الأولى ثانوي","رياضيات",null,null,null,null,null,null,null,null,null,null,null,null,null,null,null,null,null,null,"السنة الأولى ثانوي","رياضيات"]
[null,"علوم",null,null,null,null,null,null,null,null,null,null,null,null,null,null,null,null,null,null,null,"علوم"]
[null,"أدب",null,null,null,null,null,null,null,null,null,null,null,null,null,null,null,null,null,null,null,"أدب"]
["السنة الثانية ثانوي","رياضيات",null,null,null,null,null,null,null,null,null,null,null,null,null,null,null,null,null,null,"السنة الثانية ثانوي","رياضيات"]
[null,"علوم",null,null,null,null,null,null,null,null,null,null,null,null,null,null,null,null,null,null,null,"علوم"]
[null,"أدب",null,null,null,null,null,null,null,null,null,null,null,null,null,null,null,null,null,null,null,"أدب"]
["السنة النهائية","رياضيات",null,null,null,null,null,null,null,null,null,null,null,null,null,null,null,null,null,null,"السنة النهائية","رياضيات"]
[null,"علوم",null,null,null,null,null,null,null,null,null,null,null,null,null,null,null,null,null,null,null,"علوم"]
[null,"أدب",null,null,null,null,null,null,null,null,null,null,null,null,null,null,null,null,null,null,null,"أدب"]
["مجموع الثانوي",null,null,null,null,null,null,null,null,null,null,null,null,null,null,null,null,null,null,null,"مجموع الثانوي"]
["المجموع العام",null,{"$f":"C9","v":10},{"$f":"D9","v":292},{"$f":"E9","v":10},{"$f":"F9","v":292},{"$f":"G9","v":34},null,null,null," ",null,null,null,null,null,null,null,null,null,"المجموع العام",null,{"$f":"W9","v":10},{"$f":"X9","v":314},{"$f":"Y9","v":10},{"$f":"Z9","v":314},{"$f":"AA9","v":34}]
[]
[]
[]
[]
[]
[]
["مــلاحظــــــــــــات مــدير المؤسســـــــــــــــة"]
[]
[]
[]
[]
[]
[]
[]
[]
[]
[]
[]
[]
[]
[]
[]
[]
[]
[]
[]
[]
[]
[]
[]
[]
[]
[]
["مــلاحظـــــــــــــــات مــدير التربيـــــــــــــــة"]
[]
[]
[]
[null,null,null," "]
[]
[]
[]
[]
[]
[]
[]
[]
[]
[]
[]
[]
[]
[]
[]
[]
[null,null,null,null,null,null,null,null,null,null,null,null,null,null,null,null,null,null,null,null,null,null,null,null,null,null,null,null,"السنة الدراسية: 2011 / 2012"]

{"sheet":"المواقيت الرسمية","index":14,"n_rows":73,"n_cols":32,"rows_kept":73,"cut":false,"hidden":false,"merged":[[65,21,66,22],[65,23,66,25],[72,21,72,30],[56,18,56,30],[34,0,34,1],[35,0,35,1],[36,0,36,1],[37,21,37,28],[38,1,38,13],[56,1,56,13],[32,29,33,29],[32,30,33,30],[32,31,33,31],[32,21,33,21],[32,22,33,22],[32,23,33,23],[32,24,33,24],[32,25,33,25],[32,27,33,27],[32,28,33,28],[30,31,31,31],[30,22,31,22],[30,28,31,28],[30,29,31,29],[30,30,31,30],[32,26,33,26],[32,0,32,1],[32,17,33,17],[32,18,33,18],[32,19,33,19],[32,20,33,20],[33,0,33,1],[30,0,30,15],[31,0,31,15],[30,23,31,23],[30,24,31,24],[30,27,31,27],[30,17,31,17],[30,18,31,18],[28,31,29,31],[28,20,29,20],[28,21,29,21],[28,22,29,22],[28,23,29,23],[30,25,31,25],[30,26,31,26],[28,27,29,27],[28,28,29,28],[28,29,29,29],[28,30,29,30],[30,19,31,19],[30,20,31,20],[30,21,31,21],[26,27,27,27],[26,28,27,28],[26,29,27,29],[28,24,29,24],[28,25,29,25],[28,26,29,26],[27,0,27,1],[28,0,28,1],[28,7,28,8],[28,17,29,17],[28,18,29,18],[28,19,29,19],[29,0,29,1],[26,20,27,20],[26,21,27,21],[26,22,27,22],[26,23,27,23],[26,24,27,24],[26,25,27,25],[26,18,27,18],[26,19,27,19],[26,26,27,26],[22,30,23,30],[22,31,23,31],[24,25,25,25],[24,26,25,26],[24,0,26,0],[24,7,24,8],[24,17,25,17],[24,18,25,18],[24,19,25,19],[24,20,25,20],[26,7,26,8],[26,17,27,17],[24,27,25,27],[24,28,25,28],[24,29,25,29],[24,30,25,30],[24,31,25,31],[25,7,25,8],[24,21,25,21],[24,22,25,22],[24,23,25,23],[24,24,25,24],[26,30,27,30],[26,31,27,31],[20,27,21,27],[20,28,21,28],[20,29,21,29],[20,30,21,30],[20,31,21,31],[21,0,23,0],[21,7,21,8],[22,7,22,8],[22,17,23,17],[22,18,23,18],[22,19,23,19],[23,7,23,8],[20,18,21,18],[20,19,21,19],[22,20,23,20],[22,21,23,21],[22,22,23,22],[22,23,23,23],[22,24,23,24],[22,25,23,25],[22,26,23,26],[22,27,23,27],[22,28,23,28],[22,29,23,29],[18,27,19,27],[18,28,19,28],[18,29,19,29],[18,30,19,30],[18,31,19,31],[19,7,19,8],[18,21,19,21],[18,22,19,22],[18,23,19,23],[18,24,19,24],[18,25,19,25],[18,26,19,26],[18,0,20,0],[18,7,18,8],[18,17,19,17],[18,18,19,18],[18,19,19,19],[18,20,19,20],[20,7,20,8],[20,17,21,17],[20,20,21,20],[20,21,21,21],[20,22,21,22],[20,23,21,23],[20,24,21,24],[20,25,21,25],[20,26,21,26],[14,29,17,29],[14,30,17,30],[14,28,17,28],[11,23,13,23],[14,31,17,31],[15,0,15,1],[15,7,15,8],[17,0,17,1],[17,7,17,8],[14,21,17,21],[14,0,14,1],[14,7,14,8],[14,17,17,17],[14,18,17,18],[11,31,13,31],[12,0,12,1],[12,7,12,8],[13,0,13,1],[13,7,13,8],[11,22,13,22],[11,25,13,25],[11,26,13,26],[11,21,13,21],[11,27,13,27],[11,29,13,29],[11,30,13,30],[11,0,11,1],[11,7,11,8],[11,17,13,17],[11,18,13,18],[11,19,13,19],[11,20,13,20],[8,28,10,28],[14,20,17,20],[11,28,13,28],[14,22,17,22],[14,23,17,23],[14,24,17,24],[14,25,17,25],[14,26,17,26],[6,23,10,23],[11,24,13,24],[14,19,17,19],[14,27,17,27],[6,29,6,30],[6,31,10,31],[8,26,10,26],[8,27,10,27],[8,29,10,29],[8,30,10,30],[7,15,10,15],[6,10,6,12],[7,24,7,25],[7,26,7,28],[7,29,7,30],[8,20,10,20],[8,21,10,21],[8,22,10,22],[8,24,10,24],[8,25,10,25],[1,1,1,3],[16,0,16,1],[38,18,41,29],[2,0,4,15],[2,18,4,30],[6,2,10,2],[6,3,10,3],[6,4,10,4],[6,5,10,5],[6,6,10,6],[6,7,10,8],[6,9,10,9],[6,13,6,15],[6,17,10,17],[6,18,10,18],[6,19,10,19],[7,10,10,10],[7,12,10,12],[7,13,10,13],[7,14,10,14],[6,21,6,22],[7,21,7,22],[6,24,6,25],[6,26,6,28]]}
[]
[null,"2018/2017"]
["تطبيــــــــــــــــــــق المـــــــواقيـــــــت الــرسميـــــــــــــــــــــة",null,null,null,null,null,null,null,null,null,null,null,null,null,null,null,null,null,"تنظـــــــــــــــــيم  التعلــــــــــــــــــيم"]
[]
[]
[]
[null,null,"عدد الأقسام","رياضيــات","علوم فيزائيـة","علوم طبيعية","فلسفــــــــة","أدا ب",null,"تاريخ وجغرافيــا","لغـــــــا ت حيـــــــــة",null,null,"مـــواد أخــــــرى",null,null,null,"المــــــــواد","التعليم المتوسط","المجمــــــــوع","مناصب","أقصى علامــة",null,"مجموع التخفييظات","أقصى علامــة",null,"كيفية استعمال",null,null,"ســـاعــات",null,"ملاحظــــات"]
[null,null,null,null,null,null,null,null,null,null,"لغــة حيـــة",null,"لغــة فرنسية","ت.فنية","رياضــــــة","العاب ر.مدرسية",null,null,null,null,"مالية","واجبــــــة",null,null,"إضافيـــة",null,"هذه الساعـات",null,null,"إضافيـــة"]
[null,null,null,null,null,null,null,null,null,null,null,null,null,null,null,null,null,null,null,null,"تعليم أساسي","تعليم أساسي","المجمـــوع",null,"تعليم أساسي","المجمـــوع","في المــادة","في مواد اخرى","غير مستعملة","تعليم أساسي","المجمـــوع"]
[]
[]
["أولى متوسط",null,2,{"$f":"C12*5","v":10},{"$f":"C12*3","v":6},{"$f":"C12*3","v":6},null,{"$f":"C12*7","v":14},null,{"$f":"C12*3","v":6},{"$f":"C12*3","v":6},null,{"$f":"C12*5","v":10},{"$f":"C12*1","v":2},{"$f":"C12*2","v":4},null,null,"رياضيـات",{"$f":"'خدمات رياضيات'!H42","v":51},{"$f":"S12","v":51},3,{"$f":"U12*22","v":66},{"$f":"V12","v":66},{"$f":"'خدمات رياضيات'!O42","v":3},{"$f":"W12-X12","v":63},{"$f":"Y12","v":63},{"$f":"S12-AB12","v":51},null,{"$f":"Z12-(AA12+AB12)","v":12}]
["ثانية متوسط",null,2,{"$f":"C13*5","v":10},{"$f":"C13*3","v":6},{"$f":"C13*3","v":6},null,{"$f":"C13*7","v":14},null,{"$f":"C13*3","v":6},{"$f":"C13*3","v":6},null,{"$f":"C13*5","v":10},{"$f":"C13*1","v":2},{"$f":"C13*2","v":4}]
["الثالثة متوسط",null,2,{"$f":"C14*5","v":10},{"$f":"C14*3","v":6},{"$f":"C14*3","v":6},null,{"$f":"C14*6","v":12},null,{"$f":"C14*3","v":6},{"$f":"C14*4","v":8},null,{"$f":"C14*5","v":10},{"$f":"C14*1","v":2},{"$f":"C14*2","v":4}]
["الرابعة متوسط",null,3,{"$f":"C15*6","v":18},{"$f":"C15*3","v":9},{"$f":"C15*3","v":9},null,{"$f":"C15*7","v":21},null,{"$f":"C15*3","v":9},{"$f":"C15*4","v":12},null,{"$f":"C15*5","v":15},{"$f":"C15*1","v":3},{"$f":"C15*2","v":6},null,null,"علوم\n فيزيائيـة",{"$f":"'خدمات فيزياء'!H33","v":31},{"$f":"S15","v":31},2,{"$f":"U15*22","v":44},{"$f":"V15","v":44},{"$f":"'خدمات فيزياء'!O33","v":2},{"$f":"W15-X15","v":42},{"$f":"Y15","v":42},{"$f":"S15-AB15","v":27},4,{"$f":"Z15-(AA15+AB15)","v":11}]
["استدراك"]
["اعلام الى"]
["المجمــوع",null,{"$f":"C15+C13+C12+C14","v":9},{"$f":"D15+D13+D12+D14+D16","v":48},{"$f":"SUM(E12:E17)","v":27},{"$f":"SUM(F12:F17)","v":27},null,{"$f":"SUM(H12:I16)","v":61},null,{"$f":"J15+J13+J12+J14","v":27},32,null,{"$f":"M15+M13+M12+M14+M16","v":45},9,18]
["الاولى ثانوي","رياضيات",null,null,null,null,null,null,null,null,null,null,null,null,null,null,null,"علوم\n طبيعيـة",{"$f":"'خدمات علوم ط'!H33","v":31},{"$f":"S19","v":31},2,{"$f":"U19*22","v":44},{"$f":"V19","v":44},{"$f":"'خدمات علوم ط'!O33","v":8},{"$f":"W19-X19","v":36},36,{"$f":"S19-AB19","v":27},4,{"$f":"Z19-(AA19+AB19)","v":5}]
[null,"علوم"]
[null,"أدا ب",null,null,null,null,null,null,null,null,null,null,null,null,null,null,null,"لغـة\n عربية",{"$f":"'خدمات عربية'!H30","v":65},{"$f":"S21","v":65},4,{"$f":"U21*22","v":88},{"$f":"V21","v":88},{"$f":"'خدمات عربية'!O30","v":10},{"$f":"W21-X21","v":78},78,{"$f":"S21","v":65},null,{"$f":"Z21-(AA21+AB21)","v":13}]
["الثانية ثانـوي","رياضيات"]
[null,"علوم",null,null,null,null,null,null,null,null,null,null,null,null,null,null,null,"لغــة \nفرنسيـة",{"$f":"'خدمات فرنسية'!H42","v":48},{"$f":"S23","v":48},3,{"$f":"U23*22","v":66},{"$f":"V23","v":66},{"$f":"'خدمات فرنسية'!O42","v":9},{"$f":"W23-X23","v":57},57,{"$f":"S23","v":48},null,{"$f":"Z23-(AA23+AB23)","v":9}]
[null,"أدا ب"]
["الثالثـة ثانـوي","رياضيات",null,null,null,null,null,null,null,null,null,null,null,null,null,null,null,"تاريـخ\n وجغرافيــا",{"$f":"'خدمات اجتماعيات'!I32","v":27},{"$f":"S25","v":27},2,{"$f":"U25*22","v":44},{"$f":"V25","v":44},{"$f":"'خدمات اجتماعيات'!P32","v":8},{"$f":"W25-X25","v":36},36,{"$f":"S25","v":27},null,{"$f":"Z25-(AA25+AB25)","v":9}]
[null,"علوم"]
[null,"أدا ب",null,null,null,null,null,null,null,null,null,null,null,null,null,null,null,"إنجليــزيـة",{"$f":"'خدمات انجليزية'!I33","v":32},{"$f":"S27","v":32},2,{"$f":"U27*22","v":44},{"$f":"V27","v":44},{"$f":"'خدمات انجليزية'!O33","v":6},{"$f":"W27-X27","v":38},38,{"$f":"S27","v":32},null,{"$f":"Z27-(AA27+AB27)","v":6}]
["المجموع الثانوي"]
["المجموع العام",null,{"$f":"C18","v":9},48,27,27,0,61,null,{"$f":"J18","v":27},32,0,45,9,18,0,null,"تربيـة فنيـة",{"$f":"'خدمات موسيقى'!I43","v":13},{"$f":"S29","v":13},1,{"$f":"U29*22","v":22},{"$f":"V29","v":22},{"$f":"'خدمات موسيقى'!O43","v":6},{"$f":"W29-X29","v":16},16,{"$f":"S29","v":13},null,{"$f":"Z29-(AA29+AB29)","v":3}]
["الملاحظات:"]
[null,null,null,null,null,null,null,null,null,null,null,null,null,null,null,null,null,"تربيـة بدنيـة",{"$f":"'خدمات تربية بدنية'!I26","v":18},{"$f":"S31","v":18},1,{"$f":"U31*22","v":22},{"$f":"V31","v":22},{"$f":"'خدمات تربية بدنية'!O26","v":2},{"$f":"W31-X31","v":20},20,{"$f":"S31","v":18},null,{"$f":"Z31-(AA31+AB31)","v":2}]
[]
[null,null,null,null,null,null,null,null,null,null,null,null,null,null,null,null,null,"المجمــوع",{"$f":"SUM(S12:S32)","v":316},{"$f":"SUM(T12:T32)","v":316},20,440,{"$f":"SUM(W12:W32)","v":440},54,386,386,308,8,70,0,0]
[]
[]
[]
[]
[null,null,null,null,null,null,null,null,null,null,null,null,null,null,null,null,null,null,null,null,null,"ختم المؤسسة"]
[null,"ملاحظات مدير المؤسسـة"]
[]
[]
[]
[]
[]
[]
[]
[]
[]
[]
[]
[]
[]
[]
[]
[]
[]
[null,"ملاحظات مدير التربية",null,null,null,null,null,null,null,null,null,null,null,null,null,null,null,null,"تطبيق المواقيت الرسمية"]
[]
[]
[]
[]
[]
[]
[]
[]
[]
[]
[]
[]
[]
[]
[]
[null,null,null,null,null,null,null,null,null,null,null,null,null,null,null,null,null,null,null,null,null,"السنة الدراسية:2018/2017"]

{"sheet":"المواقيت","index":15,"n_rows":25,"n_cols":35,"rows_kept":25,"cut":false,"hidden":false,"merged":[[90,22,90,32],[36,0,36,12],[19,13,19,14],[19,15,19,16],[19,17,19,18],[19,7,19,8],[19,11,19,12],[24,32,32,34],[24,27,30,27],[24,28,30,28],[10,13,10,14],[10,15,10,16],[12,15,12,16],[12,17,12,18],[12,13,12,14],[13,15,13,16],[13,17,13,18],[59,0,59,12],[19,0,19,1],[15,17,15,18],[16,13,16,14],[16,15,16,16],[16,17,16,18],[18,13,18,14],[18,15,18,16],[18,17,18,18],[15,13,15,14],[20,0,20,1],[17,15,17,16],[17,17,17,18],[15,15,15,16],[19,9,19,10],[15,9,15,10],[15,11,15,12],[9,0,11,0],[17,7,17,8],[12,0,14,0],[7,7,7,8],[15,0,17,0],[18,0,18,1],[8,7,8,8],[18,7,18,8],[13,7,13,8],[14,7,14,8],[12,7,12,8],[11,7,11,8],[10,7,10,8],[16,7,16,8],[15,7,15,8],[9,7,9,8],[8,32,8,33],[13,32,13,34],[14,32,14,33],[3,7,3,8],[4,7,4,8],[5,7,5,8],[3,9,3,10],[4,9,4,10],[6,7,6,8],[14,13,14,14],[13,13,13,14],[9,9,9,10],[10,9,10,10],[11,9,11,10],[4,15,4,16],[4,17,4,18],[3,11,3,12],[3,15,3,16],[4,11,4,12],[3,17,3,18],[3,13,3,14],[4,13,4,14],[5,9,5,10],[12,9,12,10],[14,34,16,34],[3,32,3,34],[4,32,4,34],[5,32,5,34],[7,32,7,34],[8,34,9,34],[10,34,12,34],[9,32,9,33],[5,17,5,18],[7,13,7,14],[7,15,7,16],[7,17,7,18],[5,13,5,14],[5,15,5,16],[6,13,6,14],[6,15,6,16],[6,17,6,18],[14,15,14,16],[14,17,14,18],[8,17,8,18],[9,13,9,14],[9,15,9,16],[5,11,5,12],[6,11,6,12],[7,11,7,12],[8,11,8,12],[22,32,22,33],[15,32,15,33],[16,32,16,33],[11,32,11,33],[12,32,12,33],[9,11,9,12],[10,32,10,33],[18,32,18,33],[19,32,19,33],[20,32,20,33],[21,32,21,33],[17,32,17,33],[17,13,17,14],[9,17,9,18],[8,13,8,14],[8,15,8,16],[10,17,10,18],[11,13,11,14],[11,15,11,16],[11,17,11,18],[17,9,17,10],[17,11,17,12],[11,11,11,12],[6,9,6,10],[7,9,7,10],[8,9,8,10],[18,9,18,10],[18,11,18,12],[12,11,12,12],[10,11,10,12],[13,9,13,10],[13,11,13,12],[14,9,14,10],[14,11,14,12],[16,9,16,10],[16,11,16,12],[24,29,30,29],[6,32,6,34],[24,30,30,30],[24,31,30,31],[24,20,30,20],[24,21,30,21],[24,22,30,22],[24,23,30,23],[24,24,30,24],[24,25,30,25],[24,26,30,26],[17,34,20,34],[21,34,23,34],[23,32,23,33]]}
[]
[null,null,null,null,null,null,null,null,null,null,null,null,null,null,null,null,null,null,null,null,null,null,null,null,null,null,null,null,null,null,null,null,"*"]
[]
[null,"عدد الأقسام","رياضيات","علوم فيزيائية ","علوم.ط","لغة عربية","فرنسية ","اجتماعيات",null,"إنجليزية",null,"ت, بدنية ",null,"إعلام آلي",null,"موسيقى",null,"رسم",null,null,"المجموع","تربية بدنية","موسيقى","رسم","إعلام آلي","لغة إنجليزية","اجتماعيات","لغة فرنسية","لغة عربية","علوم.ط","تكنولوجيا","رياضيات","المواد"]
["السنة 1 متوسط",{"$f":"البداية!D10","v":3},{"$f":"$B$5*5","v":15},{"$f":"$B$5*3","v":9},{"$f":"$B$5*3","v":9},{"$f":"$B$5*7","v":21},{"$f":"$B$5*5","v":15},{"$f":"$B$5*3","v":9},null,{"$f":"$B$5*3","v":9},null,{"$f":"$B$5*2","v":6},null,{"$f":"$B$5*2","v":6},null,{"$f":"IF(البداية!J15=0,0,B5*1)","v":0},null,{"$f":"IF(البداية!L15=0,0,B5*1)","v":3},null,null,{"$f":"SUM(V5:AF5)","v":333},{"$f":"L9","v":20},{"$f":"P9","v":0},{"$f":"R9","v":10},{"$f":"N9","v":20},{"$f":"J9","v":30},{"$f":"H9","v":30},{"$f":"G24","v":50},{"$f":"G23","v":63},{"$f":"E9","v":30},{"$f":"D9","v":30},{"$f":"G22","v":50},"التعليم المتوسط"]
["السنة 2 متوسط ",{"$f":"البداية!F10","v":3},{"$f":"$B$6*5","v":15},{"$f":"$B$6*3","v":9},{"$f":"$B$6*3","v":9},{"$f":"$B$6*6","v":18},{"$f":"$B$6*5","v":15},{"$f":"$B$6*3","v":9},null,{"$f":"$B$6*3","v":9},null,{"$f":"$B$6*2","v":6},null,{"$f":"$B$6*2","v":6},null,{"$f":"IF(البداية!J15=0,0,B6*1)","v":0},null,{"$f":"IF(البداية!L15=0,0,B6*1)","v":3},null,null,null,null,null,null,null,null,null,null,null,null,null,null,"التعليم الثانوي"]
["السنة 3 متوسط ",{"$f":"البداية!H10","v":2},{"$f":"$B$7*5","v":10},{"$f":"$B$7*3","v":6},{"$f":"$B$7*3","v":6},{"$f":"$B$7*6","v":12},{"$f":"$B$7*5","v":10},{"$f":"$B$7*3","v":6},null,{"$f":"$B$7*3","v":6},null,{"$f":"$B$7*2","v":4},null,{"$f":"$B$7*2","v":4},null,{"$f":"IF(البداية!J15=0,0,B7*1)","v":0},null,{"$f":"IF(البداية!L15=0,0,B7*1)","v":2}]
["السنة 4 متوسط ",{"$f":"البداية!J10","v":2},{"$f":"$B$8*5","v":10},{"$f":"$B$8*3","v":6},{"$f":"$B$8*3","v":6},{"$f":"$B$8*6","v":12},{"$f":"$B$8*5","v":10},{"$f":"$B$8*3","v":6},null,{"$f":"$B$8*3","v":6},null,{"$f":"$B$8*2","v":4},null,{"$f":"$B$8*2","v":4},null,{"$f":"IF(البداية!J15=0,0,B8*1)","v":0},null,{"$f":"IF(البداية!L15=0,0,B8*1)","v":2},null,null,{"$f":"U5","v":333},20,0,10,20,30,30,50,63,30,30,{"$f":"AF5","v":50},"المجموع"]
["المجموع",{"$f":"SUM(B5:B8)","v":10},{"$f":"SUM(C5:C8)","v":50},30,30,63,50,30,0,30,0,20,0,20,0,0,0,10,0,null,{"$f":"SUM(V9:AF9)","v":20},{"$f":"البداية!H15","v":1},{"$f":"البداية!J15","v":0},{"$f":"البداية!L15","v":1},{"$f":"البداية!N13","v":0},{"$f":"البداية!J13","v":2},{"$f":"البداية!F15","v":2},{"$f":"البداية!H13","v":3},{"$f":"البداية!D13","v":4},{"$f":"البداية!L13","v":2},{"$f":"البداية!D15","v":2},{"$f":"البداية!F13","v":3},"التعليم المتوسط",null,"مناصب مالية"]
["الأولى ثانوي","رياضيات",null,null,null,null,null,null,null,null,null,null,null," ",null,null,null,null,null,null,null,null,null,null,null,null,null,null,null,null,null,null,"التعليم الثانوي"]
[null,"علوم",null,null,null,null,null,null,null,null,null,null,null," ",null,null,null,null,null,null,{"$f":"U9*22","v":440},22,0,22,0,44,44,66,88,44,44,66,"التعليم المتوسط",null,"أقصى علامة واجبة"]
[null,"أدب",null,null,null,null,null,null,null,null,null,null,null," ",null,null,null,null,null,null,null,null,null,null,null,null,null,null,null,null,null,null,"التعليم الثانوي"]
["الثانية ثانوي","رياضيات",null,null,null,null,null,null,null,null,null,null,null," ",null,null,null,null,null,null,{"$f":"U11","v":440},22,0,22,0,44,44,66,88,44,44,{"$f":"AF11","v":66},"المجموع"]
[null,"علوم",null,null,null,null,null,null,null,null,null,null,null," ",null,null,null,null,null,null,{"$f":"SUM(V14:AF14)","v":50},{"$f":"'خدمات تربية بدنية'!O76","v":2},{"$f":"'خدمات موسيقى'!O93","v":6},{"$f":"'خدمات رسم'!O72","v":6},{"$f":"'خدمات إعلام آلي'!O92","v":0},{"$f":"'خدمات انجليزية'!O83","v":6},{"$f":"'خدمات اجتماعيات'!P82","v":8},{"$f":"'خدمات فرنسية'!O93","v":9},{"$f":"'خدمات عربية'!O63","v":0},{"$f":"'خدمات علوم ط'!O83","v":8},{"$f":"'خدمات فيزياء'!O83","v":2},{"$f":"'خدمات رياضيات'!O94","v":3},"مجموع التخفيضات"]
[null,"أدب",null,null,null,null,null,null,null,null,null,null,null," ",null,null,null,null,null,null,{"$f":"U13-U14","v":390},{"$f":"'خدمات تربية بدنية'!Q76","v":20},{"$f":"'خدمات موسيقى'!Q93","v":16},{"$f":"'خدمات رسم'!Q72","v":16},{"$f":"'خدمات إعلام آلي'!Q92","v":0},{"$f":"'خدمات انجليزية'!Q83","v":38},{"$f":"'خدمات اجتماعيات'!R82","v":36},{"$f":"'خدمات فرنسية'!Q93","v":57},{"$f":"'خدمات عربية'!Q63","v":0},{"$f":"'خدمات علوم ط'!Q83","v":36},{"$f":"'خدمات فيزياء'!Q83","v":42},{"$f":"'خدمات رياضيات'!Q94","v":63},"التعليم المتوسط",null,"أقصى علامة إضافية"]
["الثالثة ثانوي","رياضيات",null,null,null,null,null,null,null,null,null,null,null," ",null,null,null,null,null,null,null,null,null,null,null,null,null,null,null,null,null,null,"التعليم الثانوي"]
[null,"علوم",null,null,null,null,null,null,null,null,null,null,null," ",null,null,null,null,null,null,{"$f":"U15","v":390},20,16,16,0,38,36,57,0,36,42,{"$f":"AF15","v":63},"المجموع"]
[null,"أدب",null,null,null,null,null,null,null,null,null,null,null," ",null,null,null,null,null,null,{"$f":"SUM(V18:AF18)","v":261},{"$f":"'خدمات تربية بدنية'!I76","v":18},{"$f":"'خدمات موسيقى'!I93","v":13},{"$f":"'خدمات رسم'!I72","v":10},{"$f":"'خدمات إعلام آلي'!I92","v":0},{"$f":"'خدمات انجليزية'!I83","v":32},{"$f":"'خدمات اجتماعيات'!I82","v":27},{"$f":"'خدمات فرنسية'!I93","v":48},{"$f":"'خدمات عربية'!I63","v":0},{"$f":"'خدمات علوم ط'!I83","v":31},{"$f":"'خدمات فيزياء'!I83","v":31},{"$f":"'خدمات رياضيات'!I94","v":51},"في المادة",null,"كيفية استعمال هذه الساعات"]
["المجموع الثانوي",null,null,null,null,null,null,null,null,null,null,null,null," ",null,null,null,null,null,null,null,null,null,null,null,null,null,null,null,null,null,null,"في مدارس أخرى"]
["المجموع العام",null,{"$f":"C9","v":50},30,30,63,50,30,null,{"$f":"J9","v":30},null,{"$f":"L9","v":20},null,{"$f":"N9","v":20},null,{"$f":"P9","v":0},null,{"$f":"R9","v":10},null,null,{"$f":"SUM(V20:AF20)","v":4},null,null,null,null,null,null,null,null,null,4,null,"في مواد أخرى"]
["الملاحــــــظات:",null,null,null,null,null,null,null,null,null,null,null,null,null,null,null,null,null,null,null,{"$f":"SUM(V21:AF21)","v":63},{"$f":"'خدمات تربية بدنية'!R76","v":2},{"$f":"'خدمات موسيقى'!R93","v":3},{"$f":"'خدمات رسم'!R72","v":6},{"$f":"'خدمات إعلام آلي'!R92","v":0},{"$f":"'خدمات انجليزية'!R83","v":6},{"$f":"'خدمات اجتماعيات'!S82","v":9},{"$f":"'خدمات فرنسية'!R93","v":9},{"$f":"'خدمات عربية'!R63","v":0},{"$f":"'خدمات علوم ط'!R83","v":5},{"$f":"'خدمات فيزياء'!R83","v":11},{"$f":"'خدمات رياضيات'!R94","v":12},"غير مستعملة"]
["أـ","رياضيات",{"$f":"C20","v":50},"استدراك",{"$f":"البداية!W13","v":0},"المجموع",{"$f":"C22+E22","v":50},null,null,null,null,null,null,null,null,null,null,null,null,null,{"$f":"SUM(V22:AF22)","v":0},{"$f":"'خدمات تربية بدنية'!S76","v":0},{"$f":"'خدمات موسيقى'!S93","v":0},{"$f":"'خدمات رسم'!S72","v":0},{"$f":"'خدمات إعلام آلي'!S92","v":0},{"$f":"'خدمات انجليزية'!S83","v":0},{"$f":"'خدمات اجتماعيات'!T82","v":0},{"$f":"'خدمات فرنسية'!S93","v":0},{"$f":"'خدمات عربية'!S63","v":0},{"$f":"'خدمات علوم ط'!S83","v":0},{"$f":"'خدمات فيزياء'!S83","v":0},{"$f":"'خدمات رياضيات'!S94","v":0},"التعليم المتوسط",null,"الساعات الإضافية"]
["ب ـ","عربية",{"$f":"F20","v":63},"استدراك",{"$f":"البداية!U13","v":0},"المجموع",{"$f":"C23+E23","v":63},null,null,null,null,null,null,null,null,null,null,null,null,null,null,null,null,null,null,null,null,null,null,null,null,null,"التعليم الثانوي"]
["جـ ـ","فرنسية",{"$f":"G9","v":50},"استدراك",{"$f":"البداية!Y13","v":0},"المجموع",{"$f":"C24+E24","v":50},null,null,null,null,null,null,null,null,null,null,null,null,null,{"$f":"U22","v":0},{"$f":"V22","v":0},0,0,0,0,0,0,0,0,0,{"$f":"AF22","v":0},"المجموع"]
[null,null,null,null,null,null,null,null,null,null,null,null,null,null,null,null,null,null,null,null,null,null,null,null,null,null,null,null,null,null,null,null,"ملاحـــــظات"]

{"sheet":"التجميع","index":16,"n_rows":165,"n_cols":28,"rows_kept":165,"cut":false,"hidden":false,"merged":[[122,7,122,27],[137,7,137,27],[152,7,152,27],[2,7,2,15],[17,7,17,15],[32,7,32,15],[47,7,47,15],[62,7,62,15],[77,7,77,15],[0,0,0,15],[92,7,92,15],[107,7,107,15]]}
["تجميع المعلومات"]
[null,"رياضيات"]
["الرقم","اللقب والاسم","المادة","تاريخ الميلاد","الصفة","أقصى درجة جامعية","تاريخ التعيين بالمؤسسة","الأقسام المسندة"]
[1,{"$f":"IF(ROW(1:1)<=COUNTIF('اسناد الأقسام'!$D$7:$D$78,التجميع!$B$2),INDEX('اسناد الأقسام'!C$7:C$78,SMALL(IF('اسناد الأقسام'!$D$7:$D$78=التجميع!$B$2,ROW('اسناد الأقسام'!$D$7:$D$78)-ROW('اسناد الأقسام'!$D$7)+1),ROW(1:1))),\"\")","v":"سماعيني بن يوسف"},{"$f":"IF(ROW(1:1)<=COUNTIF('اسناد الأقسام'!$D$7:$D$78,التجميع!$B$2),INDEX('اسناد الأقسام'!D$7:D$78,SMALL(IF('اسناد الأقسام'!$D$7:$D$78=التجميع!$B$2,ROW('اسناد الأقسام'!$D$7:$D$78)-ROW('اسناد الأقسام'!$D$7)+1),ROW(1:1))),\"\")","v":"رياضيات"},{"$f":"IF(ROW(1:1)<=COUNTIF('اسناد الأقسام'!$D$7:$D$78,التجميع!$B$2),INDEX('اسناد الأقسام'!E$7:E$78,SMALL(IF('اسناد الأقسام'!$D$7:$D$78=التجميع!$B$2,ROW('اسناد الأقسام'!$D$7:$D$78)-ROW('اسناد الأقسام'!$D$7)+1),ROW(1:1))),\"\")","v":"1977-05-15"},{"$f":"IF(ROW(1:1)<=COUNTIF('اسناد الأقسام'!$D$7:$D$78,التجميع!$B$2),INDEX('اسناد الأقسام'!F$7:F$78,SMALL(IF('اسناد الأقسام'!$D$7:$D$78=التجميع!$B$2,ROW('اسناد الأقسام'!$D$7:$D$78)-ROW('اسناد الأقسام'!$D$7)+1),ROW(1:1))),\"\")","v":"مرسم"},{"$f":"IF(ROW(1:1)<=COUNTIF('اسناد الأقسام'!$D$7:$D$78,التجميع!$B$2),INDEX('اسناد الأقسام'!G$7:G$78,SMALL(IF('اسناد الأقسام'!$D$7:$D$78=التجميع!$B$2,ROW('اسناد الأقسام'!$D$7:$D$78)-ROW('اسناد الأقسام'!$D$7)+1),ROW(1:1))),\"\")","v":"ليسانس"},{"$f":"IF(ROW(1:1)<=COUNTIF('اسناد الأقسام'!$D$7:$D$78,التجميع!$B$2),INDEX('اسناد الأقسام'!H$7:H$78,SMALL(IF('اسناد الأقسام'!$D$7:$D$78=التجميع!$B$2,ROW('اسناد الأقسام'!$D$7:$D$78)-ROW('اسناد الأقسام'!$D$7)+1),ROW(1:1))),\"\")","v":"2011-11-21"},{"$f":"IF(ROW(1:1)<=COUNTIF('اسناد الأقسام'!$D$7:$D$78,التجميع!$B$2),INDEX('اسناد الأقسام'!I$7:I$78,SMALL(IF('اسناد الأقسام'!$D$7:$D$78=التجميع!$B$2,ROW('اسناد الأقسام'!$D$7:$D$78)-ROW('اسناد الأقسام'!$D$7)+1),ROW(1:1))),\"\")","v":"3م1"},{"$f":"IF(ROW(1:1)<=COUNTIF('اسناد الأقسام'!$D$7:$D$78,التجميع!$B$2),INDEX('اسناد الأقسام'!J$7:J$78,SMALL(IF('اسناد الأقسام'!$D$7:$D$78=التجميع!$B$2,ROW('اسناد الأقسام'!$D$7:$D$78)-ROW('اسناد الأقسام'!$D$7)+1),ROW(1:1))),\"\")","v":"3م2"},{"$f":"IF(ROW(1:1)<=COUNTIF('اسناد الأقسام'!$D$7:$D$78,التجميع!$B$2),INDEX('اسناد الأقسام'!K$7:K$78,SMALL(IF('اسناد الأقسام'!$D$7:$D$78=التجميع!$B$2,ROW('اسناد الأقسام'!$D$7:$D$78)-ROW('اسناد الأقسام'!$D$7)+1),ROW(1:1))),\"\")","v":"2م2"},{"$f":"IF(ROW(1:1)<=COUNTIF('اسناد الأقسام'!$D$7:$D$78,التجميع!$B$2),INDEX('اسناد الأقسام'!L$7:L$78,SMALL(IF('اسناد الأقسام'!$D$7:$D$78=التجميع!$B$2,ROW('اسناد الأقسام'!$D$7:$D$78)-ROW('اسناد الأقسام'!$D$7)+1),ROW(1:1))),\"\")","v":0},{"$f":"IF(ROW(1:1)<=COUNTIF('اسناد الأقسام'!$D$7:$D$78,التجميع!$B$2),INDEX('اسناد الأقسام'!M$7:M$78,SMALL(IF('اسناد الأقسام'!$D$7:$D$78=التجميع!$B$2,ROW('اسناد الأقسام'!$D$7:$D$78)-ROW('اسناد الأقسام'!$D$7)+1),ROW(1:1))),\"\")","v":0},{"$f":"IF(ROW(1:1)<=COUNTIF('اسناد الأقسام'!$D$7:$D$78,التجميع!$B$2),INDEX('اسناد الأقسام'!N$7:N$78,SMALL(IF('اسناد الأقسام'!$D$7:$D$78=التجميع!$B$2,ROW('اسناد الأقسام'!$D$7:$D$78)-ROW('اسناد الأقسام'!$D$7)+1),ROW(1:1))),\"\")","v":0},{"$f":"IF(ROW(1:1)<=COUNTIF('اسناد الأقسام'!$D$7:$D$78,التجميع!$B$2),INDEX('اسناد الأقسام'!O$7:O$78,SMALL(IF('اسناد الأقسام'!$D$7:$D$78=التجميع!$B$2,ROW('اسناد الأقسام'!$D$7:$D$78)-ROW('اسناد الأقسام'!$D$7)+1),ROW(1:1))),\"\")","v":0},{"$f":"IF(ROW(1:1)<=COUNTIF('اسناد الأقسام'!$D$7:$D$78,التجميع!$B$2),INDEX('اسناد الأقسام'!P$7:P$78,SMALL(IF('اسناد الأقسام'!$D$7:$D$78=التجميع!$B$2,ROW('اسناد الأقسام'!$D$7:$D$78)-ROW('اسناد الأقسام'!$D$7)+1),ROW(1:1))),\"\")","v":0},{"$f":"IF(ROW(1:1)<=COUNTIF('اسناد الأقسام'!$D$7:$D$78,التجميع!$B$2),INDEX('اسناد الأقسام'!Q$7:Q$78,SMALL(IF('اسناد الأقسام'!$D$7:$D$78=التجميع!$B$2,ROW('اسناد الأقسام'!$D$7:$D$78)-ROW('اسناد الأقسام'!$D$7)+1),ROW(1:1))),\"\")","v":0},{"$f":"IF(ROW(1:1)<=COUNTIF('اسناد الأقسام'!$D$7:$D$78,التجميع!$B$2),INDEX('اسناد الأقسام'!R$7:R$78,SMALL(IF('اسناد الأقسام'!$D$7:$D$78=التجميع!$B$2,ROW('اسناد الأقسام'!$D$7:$D$78)-ROW('اسناد الأقسام'!$D$7)+1),ROW(1:1))),\"\")","v":0},{"$f":"IF(ROW(1:1)<=COUNTIF('اسناد الأقسام'!$D$7:$D$78,التجميع!$B$2),INDEX('اسناد الأقسام'!S$7:S$78,SMALL(IF('اسناد الأقسام'!$D$7:$D$78=التجميع!$B$2,ROW('اسناد الأقسام'!$D$7:$D$78)-ROW('اسناد الأقسام'!$D$7)+1),ROW(1:1))),\"\")","v":0},{"$f":"IF(ROW(1:1)<=COUNTIF('اسناد الأقسام'!$D$7:$D$78,التجميع!$B$2),INDEX('اسناد الأقسام'!T$7:T$78,SMALL(IF('اسناد الأقسام'!$D$7:$D$78=التجميع!$B$2,ROW('اسناد الأقسام'!$D$7:$D$78)-ROW('اسناد الأقسام'!$D$7)+1),ROW(1:1))),\"\")","v":0}]
[2,{"$f":"IF(ROW(2:2)<=COUNTIF('اسناد الأقسام'!$D$7:$D$78,التجميع!$B$2),INDEX('اسناد الأقسام'!C$7:C$78,SMALL(IF('اسناد الأقسام'!$D$7:$D$78=التجميع!$B$2,ROW('اسناد الأقسام'!$D$7:$D$78)-ROW('اسناد الأقسام'!$D$7)+1),ROW(2:2))),\"\")","v":"حساني عبد القادر "},{"$f":"IF(ROW(2:2)<=COUNTIF('اسناد الأقسام'!$D$7:$D$78,التجميع!$B$2),INDEX('اسناد الأقسام'!D$7:D$78,SMALL(IF('اسناد الأقسام'!$D$7:$D$78=التجميع!$B$2,ROW('اسناد الأقسام'!$D$7:$D$78)-ROW('اسناد الأقسام'!$D$7)+1),ROW(2:2))),\"\")","v":"رياضيات"},{"$f":"IF(ROW(2:2)<=COUNTIF('اسناد الأقسام'!$D$7:$D$78,التجميع!$B$2),INDEX('اسناد الأقسام'!E$7:E$78,SMALL(IF('اسناد الأقسام'!$D$7:$D$78=التجميع!$B$2,ROW('اسناد الأقسام'!$D$7:$D$78)-ROW('اسناد الأقسام'!$D$7)+1),ROW(2:2))),\"\")","v":"1988-01-20"},{"$f":"IF(ROW(2:2)<=COUNTIF('اسناد الأقسام'!$D$7:$D$78,التجميع!$B$2),INDEX('اسناد الأقسام'!F$7:F$78,SMALL(IF('اسناد الأقسام'!$D$7:$D$78=التجميع!$B$2,ROW('اسناد الأقسام'!$D$7:$D$78)-ROW('اسناد الأقسام'!$D$7)+1),ROW(2:2))),\"\")","v":"مرسمة"},{"$f":"IF(ROW(2:2)<=COUNTIF('اسناد الأقسام'!$D$7:$D$78,التجميع!$B$2),INDEX('اسناد الأقسام'!G$7:G$78,SMALL(IF('اسناد الأقسام'!$D$7:$D$78=التجميع!$B$2,ROW('اسناد الأقسام'!$D$7:$D$78)-ROW('اسناد الأقسام'!$D$7)+1),ROW(2:2))),\"\")","v":"ليسانس"},{"$f":"IF(ROW(2:2)<=COUNTIF('اسناد الأقسام'!$D$7:$D$78,التجميع!$B$2),INDEX('اسناد الأقسام'!H$7:H$78,SMALL(IF('اسناد الأقسام'!$D$7:$D$78=التجميع!$B$2,ROW('اسناد الأقسام'!$D$7:$D$78)-ROW('اسناد الأقسام'!$D$7)+1),ROW(2:2))),\"\")","v":"2007-09-05"},{"$f":"IF(ROW(2:2)<=COUNTIF('اسناد الأقسام'!$D$7:$D$78,التجميع!$B$2),INDEX('اسناد الأقسام'!I$7:I$78,SMALL(IF('اسناد الأقسام'!$D$7:$D$78=التجميع!$B$2,ROW('اسناد الأقسام'!$D$7:$D$78)-ROW('اسناد الأقسام'!$D$7)+1),ROW(2:2))),\"\")","v":"4م1"},{"$f":"IF(ROW(2:2)<=COUNTIF('اسناد الأقسام'!$D$7:$D$78,التجميع!$B$2),INDEX('اسناد الأقسام'!J$7:J$78,SMALL(IF('اسناد الأقسام'!$D$7:$D$78=التجميع!$B$2,ROW('اسناد الأقسام'!$D$7:$D$78)-ROW('اسناد الأقسام'!$D$7)+1),ROW(2:2))),\"\")","v":"4م2"},{"$f":"IF(ROW(2:2)<=COUNTIF('اسناد الأقسام'!$D$7:$D$78,التجميع!$B$2),INDEX('اسناد الأقسام'!K$7:K$78,SMALL(IF('اسناد الأقسام'!$D$7:$D$78=التجميع!$B$2,ROW('اسناد الأقسام'!$D$7:$D$78)-ROW('اسناد الأقسام'!$D$7)+1),ROW(2:2))),\"\")","v":"2م1 "},{"$f":"IF(ROW(2:2)<=COUNTIF('اسناد الأقسام'!$D$7:$D$78,التجميع!$B$2),INDEX('اسناد الأقسام'!L$7:L$78,SMALL(IF('اسناد الأقسام'!$D$7:$D$78=التجميع!$B$2,ROW('اسناد الأقسام'!$D$7:$D$78)-ROW('اسناد الأقسام'!$D$7)+1),ROW(2:2))),\"\")","v":0},{"$f":"IF(ROW(2:2)<=COUNTIF('اسناد الأقسام'!$D$7:$D$78,التجميع!$B$2),INDEX('اسناد الأقسام'!M$7:M$78,SMALL(IF('اسناد الأقسام'!$D$7:$D$78=التجميع!$B$2,ROW('اسناد الأقسام'!$D$7:$D$78)-ROW('اسناد الأقسام'!$D$7)+1),ROW(2:2))),\"\")","v":0},{"$f":"IF(ROW(2:2)<=COUNTIF('اسناد الأقسام'!$D$7:$D$78,التجميع!$B$2),INDEX('اسناد الأقسام'!N$7:N$78,SMALL(IF('اسناد الأقسام'!$D$7:$D$78=التجميع!$B$2,ROW('اسناد الأقسام'!$D$7:$D$78)-ROW('اسناد الأقسام'!$D$7)+1),ROW(2:2))),\"\")","v":0},{"$f":"IF(ROW(2:2)<=COUNTIF('اسناد الأقسام'!$D$7:$D$78,التجميع!$B$2),INDEX('اسناد الأقسام'!O$7:O$78,SMALL(IF('اسناد الأقسام'!$D$7:$D$78=التجميع!$B$2,ROW('اسناد الأقسام'!$D$7:$D$78)-ROW('اسناد الأقسام'!$D$7)+1),ROW(2:2))),\"\")","v":0},{"$f":"IF(ROW(2:2)<=COUNTIF('اسناد الأقسام'!$D$7:$D$78,التجميع!$B$2),INDEX('اسناد الأقسام'!P$7:P$78,SMALL(IF('اسناد الأقسام'!$D$7:$D$78=التجميع!$B$2,ROW('اسناد الأقسام'!$D$7:$D$78)-ROW('اسناد الأقسام'!$D$7)+1),ROW(2:2))),\"\")","v":0},{"$f":"IF(ROW(2:2)<=COUNTIF('اسناد الأقسام'!$D$7:$D$78,التجميع!$B$2),INDEX('اسناد الأقسام'!Q$7:Q$78,SMALL(IF('اسناد الأقسام'!$D$7:$D$78=التجميع!$B$2,ROW('اسناد الأقسام'!$D$7:$D$78)-ROW('اسناد الأقسام'!$D$7)+1),ROW(2:2))),\"\")","v":0}]
[3,{"$f":"IF(ROW(3:3)<=COUNTIF('اسناد الأقسام'!$D$7:$D$78,التجميع!$B$2),INDEX('اسناد الأقسام'!C$7:C$78,SMALL(IF('اسناد الأقسام'!$D$7:$D$78=التجميع!$B$2,ROW('اسناد الأقسام'!$D$7:$D$78)-ROW('اسناد الأقسام'!$D$7)+1),ROW(3:3))),\"\")","v":"حساني فاطمة "},{"$f":"IF(ROW(3:3)<=COUNTIF('اسناد الأقسام'!$D$7:$D$78,التجميع!$B$2),INDEX('اسناد الأقسام'!D$7:D$78,SMALL(IF('اسناد الأقسام'!$D$7:$D$78=التجميع!$B$2,ROW('اسناد الأقسام'!$D$7:$D$78)-ROW('اسناد الأقسام'!$D$7)+1),ROW(3:3))),\"\")","v":"رياضيات"},{"$f":"IF(ROW(3:3)<=COUNTIF('اسناد الأقسام'!$D$7:$D$78,التجميع!$B$2),INDEX('اسناد الأقسام'!E$7:E$78,SMALL(IF('اسناد الأقسام'!$D$7:$D$78=التجميع!$B$2,ROW('اسناد الأقسام'!$D$7:$D$78)-ROW('اسناد الأقسام'!$D$7)+1),ROW(3:3))),\"\")","v":"00:00:00"},{"$f":"IF(ROW(3:3)<=COUNTIF('اسناد الأقسام'!$D$7:$D$78,التجميع!$B$2),INDEX('اسناد الأقسام'!F$7:F$78,SMALL(IF('اسناد الأقسام'!$D$7:$D$78=التجميع!$B$2,ROW('اسناد الأقسام'!$D$7:$D$78)-ROW('اسناد الأقسام'!$D$7)+1),ROW(3:3))),\"\")","v":"متعاقدة"},{"$f":"IF(ROW(3:3)<=COUNTIF('اسناد الأقسام'!$D$7:$D$78,التجميع!$B$2),INDEX('اسناد الأقسام'!G$7:G$78,SMALL(IF('اسناد الأقسام'!$D$7:$D$78=التجميع!$B$2,ROW('اسناد الأقسام'!$D$7:$D$78)-ROW('اسناد الأقسام'!$D$7)+1),ROW(3:3))),\"\")","v":"ليسانس"},{"$f":"IF(ROW(3:3)<=COUNTIF('اسناد الأقسام'!$D$7:$D$78,التجميع!$B$2),INDEX('اسناد الأقسام'!H$7:H$78,SMALL(IF('اسناد الأقسام'!$D$7:$D$78=التجميع!$B$2,ROW('اسناد الأقسام'!$D$7:$D$78)-ROW('اسناد الأقسام'!$D$7)+1),ROW(3:3))),\"\")","v":"2013-10-30"},{"$f":"IF(ROW(3:3)<=COUNTIF('اسناد الأقسام'!$D$7:$D$78,التجميع!$B$2),INDEX('اسناد الأقسام'!I$7:I$78,SMALL(IF('اسناد الأقسام'!$D$7:$D$78=التجميع!$B$2,ROW('اسناد الأقسام'!$D$7:$D$78)-ROW('اسناد الأقسام'!$D$7)+1),ROW(3:3))),\"\")","v":"1م1"},{"$f":"IF(ROW(3:3)<=COUNTIF('اسناد الأقسام'!$D$7:$D$78,التجميع!$B$2),INDEX('اسناد الأقسام'!J$7:J$78,SMALL(IF('اسناد الأقسام'!$D$7:$D$78=التجميع!$B$2,ROW('اسناد الأقسام'!$D$7:$D$78)-ROW('اسناد الأقسام'!$D$7)+1),ROW(3:3))),\"\")","v":"1م2"},{"$f":"IF(ROW(3:3)<=COUNTIF('اسناد الأقسام'!$D$7:$D$78,التجميع!$B$2),INDEX('اسناد الأقسام'!K$7:K$78,SMALL(IF('اسناد الأقسام'!$D$7:$D$78=التجميع!$B$2,ROW('اسناد الأقسام'!$D$7:$D$78)-ROW('اسناد الأقسام'!$D$7)+1),ROW(3:3))),\"\")","v":"1م3"},{"$f":"IF(ROW(3:3)<=COUNTIF('اسناد الأقسام'!$D$7:$D$78,التجميع!$B$2),INDEX('اسناد الأقسام'!L$7:L$78,SMALL(IF('اسناد الأقسام'!$D$7:$D$78=التجميع!$B$2,ROW('اسناد الأقسام'!$D$7:$D$78)-ROW('اسناد الأقسام'!$D$7)+1),ROW(3:3))),\"\")","v":"2م3"},{"$f":"IF(ROW(3:3)<=COUNTIF('اسناد الأقسام'!$D$7:$D$78,التجميع!$B$2),INDEX('اسناد الأقسام'!M$7:M$78,SMALL(IF('اسناد الأقسام'!$D$7:$D$78=التجميع!$B$2,ROW('اسناد الأقسام'!$D$7:$D$78)-ROW('اسناد الأقسام'!$D$7)+1),ROW(3:3))),\"\")","v":0},{"$f":"IF(ROW(3:3)<=COUNTIF('اسناد الأقسام'!$D$7:$D$78,التجميع!$B$2),INDEX('اسناد الأقسام'!N$7:N$78,SMALL(IF('اسناد الأقسام'!$D$7:$D$78=التجميع!$B$2,ROW('اسناد الأقسام'!$D$7:$D$78)-ROW('اسناد الأقسام'!$D$7)+1),ROW(3:3))),\"\")","v":0},{"$f":"IF(ROW(3:3)<=COUNTIF('اسناد الأقسام'!$D$7:$D$78,التجميع!$B$2),INDEX('اسناد الأقسام'!O$7:O$78,SMALL(IF('اسناد الأقسام'!$D$7:$D$78=التجميع!$B$2,ROW('اسناد الأقسام'!$D$7:$D$78)-ROW('اسناد الأقسام'!$D$7)+1),ROW(3:3))),\"\")","v":0},{"$f":"IF(ROW(3:3)<=COUNTIF('اسناد الأقسام'!$D$7:$D$78,التجميع!$B$2),INDEX('اسناد الأقسام'!P$7:P$78,SMALL(IF('اسناد الأقسام'!$D$7:$D$78=التجميع!$B$2,ROW('اسناد الأقسام'!$D$7:$D$78)-ROW('اسناد الأقسام'!$D$7)+1),ROW(3:3))),\"\")","v":0},{"$f":"IF(ROW(3:3)<=COUNTIF('اسناد الأقسام'!$D$7:$D$78,التجميع!$B$2),INDEX('اسناد الأقسام'!Q$7:Q$78,SMALL(IF('اسناد الأقسام'!$D$7:$D$78=التجميع!$B$2,ROW('اسناد الأقسام'!$D$7:$D$78)-ROW('اسناد الأقسام'!$D$7)+1),ROW(3:3))),\"\")","v":0}]
[4,{"$f":"IF(ROW(4:4)<=COUNTIF('اسناد الأقسام'!$D$7:$D$78,التجميع!$B$2),INDEX('اسناد الأقسام'!C$7:C$78,SMALL(IF('اسناد الأقسام'!$D$7:$D$78=التجميع!$B$2,ROW('اسناد الأقسام'!$D$7:$D$78)-ROW('اسناد الأقسام'!$D$7)+1),ROW(4:4))),\"\")","v":""},{"$f":"IF(ROW(4:4)<=COUNTIF('اسناد الأقسام'!$D$7:$D$78,التجميع!$B$2),INDEX('اسناد الأقسام'!D$7:D$78,SMALL(IF('اسناد الأقسام'!$D$7:$D$78=التجميع!$B$2,ROW('اسناد الأقسام'!$D$7:$D$78)-ROW('اسناد الأقسام'!$D$7)+1),ROW(4:4))),\"\")","v":""},{"$f":"IF(ROW(4:4)<=COUNTIF('اسناد الأقسام'!$D$7:$D$78,التجميع!$B$2),INDEX('اسناد الأقسام'!E$7:E$78,SMALL(IF('اسناد الأقسام'!$D$7:$D$78=التجميع!$B$2,ROW('اسناد الأقسام'!$D$7:$D$78)-ROW('اسناد الأقسام'!$D$7)+1),ROW(4:4))),\"\")","v":""},{"$f":"IF(ROW(4:4)<=COUNTIF('اسناد الأقسام'!$D$7:$D$78,التجميع!$B$2),INDEX('اسناد الأقسام'!F$7:F$78,SMALL(IF('اسناد الأقسام'!$D$7:$D$78=التجميع!$B$2,ROW('اسناد الأقسام'!$D$7:$D$78)-ROW('اسناد الأقسام'!$D$7)+1),ROW(4:4))),\"\")","v":""},{"$f":"IF(ROW(4:4)<=COUNTIF('اسناد الأقسام'!$D$7:$D$78,التجميع!$B$2),INDEX('اسناد الأقسام'!G$7:G$78,SMALL(IF('اسناد الأقسام'!$D$7:$D$78=التجميع!$B$2,ROW('اسناد الأقسام'!$D$7:$D$78)-ROW('اسناد الأقسام'!$D$7)+1),ROW(4:4))),\"\")","v":""},{"$f":"IF(ROW(4:4)<=COUNTIF('اسناد الأقسام'!$D$7:$D$78,التجميع!$B$2),INDEX('اسناد الأقسام'!H$7:H$78,SMALL(IF('اسناد الأقسام'!$D$7:$D$78=التجميع!$B$2,ROW('اسناد الأقسام'!$D$7:$D$78)-ROW('اسناد الأقسام'!$D$7)+1),ROW(4:4))),\"\")","v":""},{"$f":"IF(ROW(4:4)<=COUNTIF('اسناد الأقسام'!$D$7:$D$78,التجميع!$B$2),INDEX('اسناد الأقسام'!I$7:I$78,SMALL(IF('اسناد الأقسام'!$D$7:$D$78=التجميع!$B$2,ROW('اسناد الأقسام'!$D$7:$D$78)-ROW('اسناد الأقسام'!$D$7)+1),ROW(4:4))),\"\")","v":""},{"$f":"IF(ROW(4:4)<=COUNTIF('اسناد الأقسام'!$D$7:$D$78,التجميع!$B$2),INDEX('اسناد الأقسام'!J$7:J$78,SMALL(IF('اسناد الأقسام'!$D$7:$D$78=التجميع!$B$2,ROW('اسناد الأقسام'!$D$7:$D$78)-ROW('اسناد الأقسام'!$D$7)+1),ROW(4:4))),\"\")","v":""},{"$f":"IF(ROW(4:4)<=COUNTIF('اسناد الأقسام'!$D$7:$D$78,التجميع!$B$2),INDEX('اسناد الأقسام'!K$7:K$78,SMALL(IF('اسناد الأقسام'!$D$7:$D$78=التجميع!$B$2,ROW('اسناد الأقسام'!$D$7:$D$78)-ROW('اسناد الأقسام'!$D$7)+1),ROW(4:4))),\"\")","v":""},{"$f":"IF(ROW(4:4)<=COUNTIF('اسناد الأقسام'!$D$7:$D$78,التجميع!$B$2),INDEX('اسناد الأقسام'!L$7:L$78,SMALL(IF('اسناد الأقسام'!$D$7:$D$78=التجميع!$B$2,ROW('اسناد الأقسام'!$D$7:$D$78)-ROW('اسناد الأقسام'!$D$7)+1),ROW(4:4))),\"\")","v":""},{"$f":"IF(ROW(4:4)<=COUNTIF('اسناد الأقسام'!$D$7:$D$78,التجميع!$B$2),INDEX('اسناد الأقسام'!M$7:M$78,SMALL(IF('اسناد الأقسام'!$D$7:$D$78=التجميع!$B$2,ROW('اسناد الأقسام'!$D$7:$D$78)-ROW('اسناد الأقسام'!$D$7)+1),ROW(4:4))),\"\")","v":""},{"$f":"IF(ROW(4:4)<=COUNTIF('اسناد الأقسام'!$D$7:$D$78,التجميع!$B$2),INDEX('اسناد الأقسام'!N$7:N$78,SMALL(IF('اسناد الأقسام'!$D$7:$D$78=التجميع!$B$2,ROW('اسناد الأقسام'!$D$7:$D$78)-ROW('اسناد الأقسام'!$D$7)+1),ROW(4:4))),\"\")","v":""},{"$f":"IF(ROW(4:4)<=COUNTIF('اسناد الأقسام'!$D$7:$D$78,التجميع!$B$2),INDEX('اسناد الأقسام'!O$7:O$78,SMALL(IF('اسناد الأقسام'!$D$7:$D$78=التجميع!$B$2,ROW('اسناد الأقسام'!$D$7:$D$78)-ROW('اسناد الأقسام'!$D$7)+1),ROW(4:4))),\"\")","v":""},{"$f":"IF(ROW(4:4)<=COUNTIF('اسناد الأقسام'!$D$7:$D$78,التجميع!$B$2),INDEX('اسناد الأقسام'!P$7:P$78,SMALL(IF('اسناد الأقسام'!$D$7:$D$78=التجميع!$B$2,ROW('اسناد الأقسام'!$D$7:$D$78)-ROW('اسناد الأقسام'!$D$7)+1),ROW(4:4))),\"\")","v":""},{"$f":"IF(ROW(4:4)<=COUNTIF('اسناد الأقسام'!$D$7:$D$78,التجميع!$B$2),INDEX('اسناد الأقسام'!Q$7:Q$78,SMALL(IF('اسناد الأقسام'!$D$7:$D$78=التجميع!$B$2,ROW('اسناد الأقسام'!$D$7:$D$78)-ROW('اسناد الأقسام'!$D$7)+1),ROW(4:4))),\"\")","v":""}]
[5,{"$f":"IF(ROW(5:5)<=COUNTIF('اسناد الأقسام'!$D$7:$D$78,التجميع!$B$2),INDEX('اسناد الأقسام'!C$7:C$78,SMALL(IF('اسناد الأقسام'!$D$7:$D$78=التجميع!$B$2,ROW('اسناد الأقسام'!$D$7:$D$78)-ROW('اسناد الأقسام'!$D$7)+1),ROW(5:5))),\"\")","v":""},{"$f":"IF(ROW(5:5)<=COUNTIF('اسناد الأقسام'!$D$7:$D$78,التجميع!$B$2),INDEX('اسناد الأقسام'!D$7:D$78,SMALL(IF('اسناد الأقسام'!$D$7:$D$78=التجميع!$B$2,ROW('اسناد الأقسام'!$D$7:$D$78)-ROW('اسناد الأقسام'!$D$7)+1),ROW(5:5))),\"\")","v":""},{"$f":"IF(ROW(5:5)<=COUNTIF('اسناد الأقسام'!$D$7:$D$78,التجميع!$B$2),INDEX('اسناد الأقسام'!E$7:E$78,SMALL(IF('اسناد الأقسام'!$D$7:$D$78=التجميع!$B$2,ROW('اسناد الأقسام'!$D$7:$D$78)-ROW('اسناد الأقسام'!$D$7)+1),ROW(5:5))),\"\")","v":""},{"$f":"IF(ROW(5:5)<=COUNTIF('اسناد الأقسام'!$D$7:$D$78,التجميع!$B$2),INDEX('اسناد الأقسام'!F$7:F$78,SMALL(IF('اسناد الأقسام'!$D$7:$D$78=التجميع!$B$2,ROW('اسناد الأقسام'!$D$7:$D$78)-ROW('اسناد الأقسام'!$D$7)+1),ROW(5:5))),\"\")","v":""},{"$f":"IF(ROW(5:5)<=COUNTIF('اسناد الأقسام'!$D$7:$D$78,التجميع!$B$2),INDEX('اسناد الأقسام'!G$7:G$78,SMALL(IF('اسناد الأقسام'!$D$7:$D$78=التجميع!$B$2,ROW('اسناد الأقسام'!$D$7:$D$78)-ROW('اسناد الأقسام'!$D$7)+1),ROW(5:5))),\"\")","v":""},{"$f":"IF(ROW(5:5)<=COUNTIF('اسناد الأقسام'!$D$7:$D$78,التجميع!$B$2),INDEX('اسناد الأقسام'!H$7:H$78,SMALL(IF('اسناد الأقسام'!$D$7:$D$78=التجميع!$B$2,ROW('اسناد الأقسام'!$D$7:$D$78)-ROW('اسناد الأقسام'!$D$7)+1),ROW(5:5))),\"\")","v":""},{"$f":"IF(ROW(5:5)<=COUNTIF('اسناد الأقسام'!$D$7:$D$78,التجميع!$B$2),INDEX('اسناد الأقسام'!I$7:I$78,SMALL(IF('اسناد الأقسام'!$D$7:$D$78=التجميع!$B$2,ROW('اسناد الأقسام'!$D$7:$D$78)-ROW('اسناد الأقسام'!$D$7)+1),ROW(5:5))),\"\")","v":""},{"$f":"IF(ROW(5:5)<=COUNTIF('اسناد الأقسام'!$D$7:$D$78,التجميع!$B$2),INDEX('اسناد الأقسام'!J$7:J$78,SMALL(IF('اسناد الأقسام'!$D$7:$D$78=التجميع!$B$2,ROW('اسناد الأقسام'!$D$7:$D$78)-ROW('اسناد الأقسام'!$D$7)+1),ROW(5:5))),\"\")","v":""},{"$f":"IF(ROW(5:5)<=COUNTIF('اسناد الأقسام'!$D$7:$D$78,التجميع!$B$2),INDEX('اسناد الأقسام'!K$7:K$78,SMALL(IF('اسناد الأقسام'!$D$7:$D$78=التجميع!$B$2,ROW('اسناد الأقسام'!$D$7:$D$78)-ROW('اسناد الأقسام'!$D$7)+1),ROW(5:5))),\"\")","v":""},{"$f":"IF(ROW(5:5)<=COUNTIF('اسناد الأقسام'!$D$7:$D$78,التجميع!$B$2),INDEX('اسناد الأقسام'!L$7:L$78,SMALL(IF('اسناد الأقسام'!$D$7:$D$78=التجميع!$B$2,ROW('اسناد الأقسام'!$D$7:$D$78)-ROW('اسناد الأقسام'!$D$7)+1),ROW(5:5))),\"\")","v":""},{"$f":"IF(ROW(5:5)<=COUNTIF('اسناد الأقسام'!$D$7:$D$78,التجميع!$B$2),INDEX('اسناد الأقسام'!M$7:M$78,SMALL(IF('اسناد الأقسام'!$D$7:$D$78=التجميع!$B$2,ROW('اسناد الأقسام'!$D$7:$D$78)-ROW('اسناد الأقسام'!$D$7)+1),ROW(5:5))),\"\")","v":""},{"$f":"IF(ROW(5:5)<=COUNTIF('اسناد الأقسام'!$D$7:$D$78,التجميع!$B$2),INDEX('اسناد الأقسام'!N$7:N$78,SMALL(IF('اسناد الأقسام'!$D$7:$D$78=التجميع!$B$2,ROW('اسناد الأقسام'!$D$7:$D$78)-ROW('اسناد الأقسام'!$D$7)+1),ROW(5:5))),\"\")","v":""},{"$f":"IF(ROW(5:5)<=COUNTIF('اسناد الأقسام'!$D$7:$D$78,التجميع!$B$2),INDEX('اسناد الأقسام'!O$7:O$78,SMALL(IF('اسناد الأقسام'!$D$7:$D$78=التجميع!$B$2,ROW('اسناد الأقسام'!$D$7:$D$78)-ROW('اسناد الأقسام'!$D$7)+1),ROW(5:5))),\"\")","v":""},{"$f":"IF(ROW(5:5)<=COUNTIF('اسناد الأقسام'!$D$7:$D$78,التجميع!$B$2),INDEX('اسناد الأقسام'!P$7:P$78,SMALL(IF('اسناد الأقسام'!$D$7:$D$78=التجميع!$B$2,ROW('اسناد الأقسام'!$D$7:$D$78)-ROW('اسناد الأقسام'!$D$7)+1),ROW(5:5))),\"\")","v":""},{"$f":"IF(ROW(5:5)<=COUNTIF('اسناد الأقسام'!$D$7:$D$78,التجميع!$B$2),INDEX('اسناد الأقسام'!Q$7:Q$78,SMALL(IF('اسناد الأقسام'!$D$7:$D$78=التجميع!$B$2,ROW('اسناد الأقسام'!$D$7:$D$78)-ROW('اسناد الأقسام'!$D$7)+1),ROW(5:5))),\"\")","v":""}]
[6,{"$f":"IF(ROW(6:6)<=COUNTIF('اسناد الأقسام'!$D$7:$D$78,التجميع!$B$2),INDEX('اسناد الأقسام'!C$7:C$78,SMALL(IF('اسناد الأقسام'!$D$7:$D$78=التجميع!$B$2,ROW('اسناد الأقسام'!$D$7:$D$78)-ROW('اسناد الأقسام'!$D$7)+1),ROW(6:6))),\"\")","v":""},{"$f":"IF(ROW(6:6)<=COUNTIF('اسناد الأقسام'!$D$7:$D$78,التجميع!$B$2),INDEX('اسناد الأقسام'!D$7:D$78,SMALL(IF('اسناد الأقسام'!$D$7:$D$78=التجميع!$B$2,ROW('اسناد الأقسام'!$D$7:$D$78)-ROW('اسناد الأقسام'!$D$7)+1),ROW(6:6))),\"\")","v":""},{"$f":"IF(ROW(6:6)<=COUNTIF('اسناد الأقسام'!$D$7:$D$78,التجميع!$B$2),INDEX('اسناد الأقسام'!E$7:E$78,SMALL(IF('اسناد الأقسام'!$D$7:$D$78=التجميع!$B$2,ROW('اسناد الأقسام'!$D$7:$D$78)-ROW('اسناد الأقسام'!$D$7)+1),ROW(6:6))),\"\")","v":""},{"$f":"IF(ROW(6:6)<=COUNTIF('اسناد الأقسام'!$D$7:$D$78,التجميع!$B$2),INDEX('اسناد الأقسام'!F$7:F$78,SMALL(IF('اسناد الأقسام'!$D$7:$D$78=التجميع!$B$2,ROW('اسناد الأقسام'!$D$7:$D$78)-ROW('اسناد الأقسام'!$D$7)+1),ROW(6:6))),\"\")","v":""},{"$f":"IF(ROW(6:6)<=COUNTIF('اسناد الأقسام'!$D$7:$D$78,التجميع!$B$2),INDEX('اسناد الأقسام'!G$7:G$78,SMALL(IF('اسناد الأقسام'!$D$7:$D$78=التجميع!$B$2,ROW('اسناد الأقسام'!$D$7:$D$78)-ROW('اسناد الأقسام'!$D$7)+1),ROW(6:6))),\"\")","v":""},{"$f":"IF(ROW(6:6)<=COUNTIF('اسناد الأقسام'!$D$7:$D$78,التجميع!$B$2),INDEX('اسناد الأقسام'!H$7:H$78,SMALL(IF('اسناد الأقسام'!$D$7:$D$78=التجميع!$B$2,ROW('اسناد الأقسام'!$D$7:$D$78)-ROW('اسناد الأقسام'!$D$7)+1),ROW(6:6))),\"\")","v":""},{"$f":"IF(ROW(6:6)<=COUNTIF('اسناد الأقسام'!$D$7:$D$78,التجميع!$B$2),INDEX('اسناد الأقسام'!I$7:I$78,SMALL(IF('اسناد الأقسام'!$D$7:$D$78=التجميع!$B$2,ROW('اسناد الأقسام'!$D$7:$D$78)-ROW('اسناد الأقسام'!$D$7)+1),ROW(6:6))),\"\")","v":""},{"$f":"IF(ROW(6:6)<=COUNTIF('اسناد الأقسام'!$D$7:$D$78,التجميع!$B$2),INDEX('اسناد الأقسام'!J$7:J$78,SMALL(IF('اسناد الأقسام'!$D$7:$D$78=التجميع!$B$2,ROW('اسناد الأقسام'!$D$7:$D$78)-ROW('اسناد الأقسام'!$D$7)+1),ROW(6:6))),\"\")","v":""},{"$f":"IF(ROW(6:6)<=COUNTIF('اسناد الأقسام'!$D$7:$D$78,التجميع!$B$2),INDEX('اسناد الأقسام'!K$7:K$78,SMALL(IF('اسناد الأقسام'!$D$7:$D$78=التجميع!$B$2,ROW('اسناد الأقسام'!$D$7:$D$78)-ROW('اسناد الأقسام'!$D$7)+1),ROW(6:6))),\"\")","v":""},{"$f":"IF(ROW(6:6)<=COUNTIF('اسناد الأقسام'!$D$7:$D$78,التجميع!$B$2),INDEX('اسناد الأقسام'!L$7:L$78,SMALL(IF('اسناد الأقسام'!$D$7:$D$78=التجميع!$B$2,ROW('اسناد الأقسام'!$D$7:$D$78)-ROW('اسناد الأقسام'!$D$7)+1),ROW(6:6))),\"\")","v":""},{"$f":"IF(ROW(6:6)<=COUNTIF('اسناد الأقسام'!$D$7:$D$78,التجميع!$B$2),INDEX('اسناد الأقسام'!M$7:M$78,SMALL(IF('اسناد الأقسام'!$D$7:$D$78=التجميع!$B$2,ROW('اسناد الأقسام'!$D$7:$D$78)-ROW('اسناد الأقسام'!$D$7)+1),ROW(6:6))),\"\")","v":""},{"$f":"IF(ROW(6:6)<=COUNTIF('اسناد الأقسام'!$D$7:$D$78,التجميع!$B$2),INDEX('اسناد الأقسام'!N$7:N$78,SMALL(IF('اسناد الأقسام'!$D$7:$D$78=التجميع!$B$2,ROW('اسناد الأقسام'!$D$7:$D$78)-ROW('اسناد الأقسام'!$D$7)+1),ROW(6:6))),\"\")","v":""},{"$f":"IF(ROW(6:6)<=COUNTIF('اسناد الأقسام'!$D$7:$D$78,التجميع!$B$2),INDEX('اسناد الأقسام'!O$7:O$78,SMALL(IF('اسناد الأقسام'!$D$7:$D$78=التجميع!$B$2,ROW('اسناد الأقسام'!$D$7:$D$78)-ROW('اسناد الأقسام'!$D$7)+1),ROW(6:6))),\"\")","v":""},{"$f":"IF(ROW(6:6)<=COUNTIF('اسناد الأقسام'!$D$7:$D$78,التجميع!$B$2),INDEX('اسناد الأقسام'!P$7:P$78,SMALL(IF('اسناد الأقسام'!$D$7:$D$78=التجميع!$B$2,ROW('اسناد الأقسام'!$D$7:$D$78)-ROW('اسناد الأقسام'!$D$7)+1),ROW(6:6))),\"\")","v":""},{"$f":"IF(ROW(6:6)<=COUNTIF('اسناد الأقسام'!$D$7:$D$78,التجميع!$B$2),INDEX('اسناد الأقسام'!Q$7:Q$78,SMALL(IF('اسناد الأقسام'!$D$7:$D$78=التجميع!$B$2,ROW('اسناد الأقسام'!$D$7:$D$78)-ROW('اسناد الأقسام'!$D$7)+1),ROW(6:6))),\"\")","v":""}]
[7,{"$f":"IF(ROW(7:7)<=COUNTIF('اسناد الأقسام'!$D$7:$D$78,التجميع!$B$2),INDEX('اسناد الأقسام'!C$7:C$78,SMALL(IF('اسناد الأقسام'!$D$7:$D$78=التجميع!$B$2,ROW('اسناد الأقسام'!$D$7:$D$78)-ROW('اسناد الأقسام'!$D$7)+1),ROW(7:7))),\"\")","v":""},{"$f":"IF(ROW(7:7)<=COUNTIF('اسناد الأقسام'!$D$7:$D$78,التجميع!$B$2),INDEX('اسناد الأقسام'!D$7:D$78,SMALL(IF('اسناد الأقسام'!$D$7:$D$78=التجميع!$B$2,ROW('اسناد الأقسام'!$D$7:$D$78)-ROW('اسناد الأقسام'!$D$7)+1),ROW(7:7))),\"\")","v":""},{"$f":"IF(ROW(7:7)<=COUNTIF('اسناد الأقسام'!$D$7:$D$78,التجميع!$B$2),INDEX('اسناد الأقسام'!E$7:E$78,SMALL(IF('اسناد الأقسام'!$D$7:$D$78=التجميع!$B$2,ROW('اسناد الأقسام'!$D$7:$D$78)-ROW('اسناد الأقسام'!$D$7)+1),ROW(7:7))),\"\")","v":""},{"$f":"IF(ROW(7:7)<=COUNTIF('اسناد الأقسام'!$D$7:$D$78,التجميع!$B$2),INDEX('اسناد الأقسام'!F$7:F$78,SMALL(IF('اسناد الأقسام'!$D$7:$D$78=التجميع!$B$2,ROW('اسناد الأقسام'!$D$7:$D$78)-ROW('اسناد الأقسام'!$D$7)+1),ROW(7:7))),\"\")","v":""},{"$f":"IF(ROW(7:7)<=COUNTIF('اسناد الأقسام'!$D$7:$D$78,التجميع!$B$2),INDEX('اسناد الأقسام'!G$7:G$78,SMALL(IF('اسناد الأقسام'!$D$7:$D$78=التجميع!$B$2,ROW('اسناد الأقسام'!$D$7:$D$78)-ROW('اسناد الأقسام'!$D$7)+1),ROW(7:7))),\"\")","v":""},{"$f":"IF(ROW(7:7)<=COUNTIF('اسناد الأقسام'!$D$7:$D$78,التجميع!$B$2),INDEX('اسناد الأقسام'!H$7:H$78,SMALL(IF('اسناد الأقسام'!$D$7:$D$78=التجميع!$B$2,ROW('اسناد الأقسام'!$D$7:$D$78)-ROW('اسناد الأقسام'!$D$7)+1),ROW(7:7))),\"\")","v":""},{"$f":"IF(ROW(7:7)<=COUNTIF('اسناد الأقسام'!$D$7:$D$78,التجميع!$B$2),INDEX('اسناد الأقسام'!I$7:I$78,SMALL(IF('اسناد الأقسام'!$D$7:$D$78=التجميع!$B$2,ROW('اسناد الأقسام'!$D$7:$D$78)-ROW('اسناد الأقسام'!$D$7)+1),ROW(7:7))),\"\")","v":""},{"$f":"IF(ROW(7:7)<=COUNTIF('اسناد الأقسام'!$D$7:$D$78,التجميع!$B$2),INDEX('اسناد الأقسام'!J$7:J$78,SMALL(IF('اسناد الأقسام'!$D$7:$D$78=التجميع!$B$2,ROW('اسناد الأقسام'!$D$7:$D$78)-ROW('اسناد الأقسام'!$D$7)+1),ROW(7:7))),\"\")","v":""},{"$f":"IF(ROW(7:7)<=COUNTIF('اسناد الأقسام'!$D$7:$D$78,التجميع!$B$2),INDEX('اسناد الأقسام'!K$7:K$78,SMALL(IF('اسناد الأقسام'!$D$7:$D$78=التجميع!$B$2,ROW('اسناد الأقسام'!$D$7:$D$78)-ROW('اسناد الأقسام'!$D$7)+1),ROW(7:7))),\"\")","v":""},{"$f":"IF(ROW(7:7)<=COUNTIF('اسناد الأقسام'!$D$7:$D$78,التجميع!$B$2),INDEX('اسناد الأقسام'!L$7:L$78,SMALL(IF('اسناد الأقسام'!$D$7:$D$78=التجميع!$B$2,ROW('اسناد الأقسام'!$D$7:$D$78)-ROW('اسناد الأقسام'!$D$7)+1),ROW(7:7))),\"\")","v":""},{"$f":"IF(ROW(7:7)<=COUNTIF('اسناد الأقسام'!$D$7:$D$78,التجميع!$B$2),INDEX('اسناد الأقسام'!M$7:M$78,SMALL(IF('اسناد الأقسام'!$D$7:$D$78=التجميع!$B$2,ROW('اسناد الأقسام'!$D$7:$D$78)-ROW('اسناد الأقسام'!$D$7)+1),ROW(7:7))),\"\")","v":""},{"$f":"IF(ROW(7:7)<=COUNTIF('اسناد الأقسام'!$D$7:$D$78,التجميع!$B$2),INDEX('اسناد الأقسام'!N$7:N$78,SMALL(IF('اسناد الأقسام'!$D$7:$D$78=التجميع!$B$2,ROW('اسناد الأقسام'!$D$7:$D$78)-ROW('اسناد الأقسام'!$D$7)+1),ROW(7:7))),\"\")","v":""},{"$f":"IF(ROW(7:7)<=COUNTIF('اسناد الأقسام'!$D$7:$D$78,التجميع!$B$2),INDEX('اسناد الأقسام'!O$7:O$78,SMALL(IF('اسناد الأقسام'!$D$7:$D$78=التجميع!$B$2,ROW('اسناد الأقسام'!$D$7:$D$78)-ROW('اسناد الأقسام'!$D$7)+1),ROW(7:7))),\"\")","v":""},{"$f":"IF(ROW(7:7)<=COUNTIF('اسناد الأقسام'!$D$7:$D$78,التجميع!$B$2),INDEX('اسناد الأقسام'!P$7:P$78,SMALL(IF('اسناد الأقسام'!$D$7:$D$78=التجميع!$B$2,ROW('اسناد الأقسام'!$D$7:$D$78)-ROW('اسناد الأقسام'!$D$7)+1),ROW(7:7))),\"\")","v":""},{"$f":"IF(ROW(7:7)<=COUNTIF('اسناد الأقسام'!$D$7:$D$78,التجميع!$B$2),INDEX('اسناد الأقسام'!Q$7:Q$78,SMALL(IF('اسناد الأقسام'!$D$7:$D$78=التجميع!$B$2,ROW('اسناد الأقسام'!$D$7:$D$78)-ROW('اسناد الأقسام'!$D$7)+1),ROW(7:7))),\"\")","v":""}]
[8,{"$f":"IF(ROW(8:8)<=COUNTIF('اسناد الأقسام'!$D$7:$D$78,التجميع!$B$2),INDEX('اسناد الأقسام'!C$7:C$78,SMALL(IF('اسناد الأقسام'!$D$7:$D$78=التجميع!$B$2,ROW('اسناد الأقسام'!$D$7:$D$78)-ROW('اسناد الأقسام'!$D$7)+1),ROW(8:8))),\"\")","v":""},{"$f":"IF(ROW(8:8)<=COUNTIF('اسناد الأقسام'!$D$7:$D$78,التجميع!$B$2),INDEX('اسناد الأقسام'!D$7:D$78,SMALL(IF('اسناد الأقسام'!$D$7:$D$78=التجميع!$B$2,ROW('اسناد الأقسام'!$D$7:$D$78)-ROW('اسناد الأقسام'!$D$7)+1),ROW(8:8))),\"\")","v":""},{"$f":"IF(ROW(8:8)<=COUNTIF('اسناد الأقسام'!$D$7:$D$78,التجميع!$B$2),INDEX('اسناد الأقسام'!E$7:E$78,SMALL(IF('اسناد الأقسام'!$D$7:$D$78=التجميع!$B$2,ROW('اسناد الأقسام'!$D$7:$D$78)-ROW('اسناد الأقسام'!$D$7)+1),ROW(8:8))),\"\")","v":""},{"$f":"IF(ROW(8:8)<=COUNTIF('اسناد الأقسام'!$D$7:$D$78,التجميع!$B$2),INDEX('اسناد الأقسام'!F$7:F$78,SMALL(IF('اسناد الأقسام'!$D$7:$D$78=التجميع!$B$2,ROW('اسناد الأقسام'!$D$7:$D$78)-ROW('اسناد الأقسام'!$D$7)+1),ROW(8:8))),\"\")","v":""},{"$f":"IF(ROW(8:8)<=COUNTIF('اسناد الأقسام'!$D$7:$D$78,التجميع!$B$2),INDEX('اسناد الأقسام'!G$7:G$78,SMALL(IF('اسناد الأقسام'!$D$7:$D$78=التجميع!$B$2,ROW('اسناد الأقسام'!$D$7:$D$78)-ROW('اسناد الأقسام'!$D$7)+1),ROW(8:8))),\"\")","v":""},{"$f":"IF(ROW(8:8)<=COUNTIF('اسناد الأقسام'!$D$7:$D$78,التجميع!$B$2),INDEX('اسناد الأقسام'!H$7:H$78,SMALL(IF('اسناد الأقسام'!$D$7:$D$78=التجميع!$B$2,ROW('اسناد الأقسام'!$D$7:$D$78)-ROW('اسناد الأقسام'!$D$7)+1),ROW(8:8))),\"\")","v":""},{"$f":"IF(ROW(8:8)<=COUNTIF('اسناد الأقسام'!$D$7:$D$78,التجميع!$B$2),INDEX('اسناد الأقسام'!I$7:I$78,SMALL(IF('اسناد الأقسام'!$D$7:$D$78=التجميع!$B$2,ROW('اسناد الأقسام'!$D$7:$D$78)-ROW('اسناد الأقسام'!$D$7)+1),ROW(8:8))),\"\")","v":""},{"$f":"IF(ROW(8:8)<=COUNTIF('اسناد الأقسام'!$D$7:$D$78,التجميع!$B$2),INDEX('اسناد الأقسام'!J$7:J$78,SMALL(IF('اسناد الأقسام'!$D$7:$D$78=التجميع!$B$2,ROW('اسناد الأقسام'!$D$7:$D$78)-ROW('اسناد الأقسام'!$D$7)+1),ROW(8:8))),\"\")","v":""},{"$f":"IF(ROW(8:8)<=COUNTIF('اسناد الأقسام'!$D$7:$D$78,التجميع!$B$2),INDEX('اسناد الأقسام'!K$7:K$78,SMALL(IF('اسناد الأقسام'!$D$7:$D$78=التجميع!$B$2,ROW('اسناد الأقسام'!$D$7:$D$78)-ROW('اسناد الأقسام'!$D$7)+1),ROW(8:8))),\"\")","v":""},{"$f":"IF(ROW(8:8)<=COUNTIF('اسناد الأقسام'!$D$7:$D$78,التجميع!$B$2),INDEX('اسناد الأقسام'!L$7:L$78,SMALL(IF('اسناد الأقسام'!$D$7:$D$78=التجميع!$B$2,ROW('اسناد الأقسام'!$D$7:$D$78)-ROW('اسناد الأقسام'!$D$7)+1),ROW(8:8))),\"\")","v":""},{"$f":"IF(ROW(8:8)<=COUNTIF('اسناد الأقسام'!$D$7:$D$78,التجميع!$B$2),INDEX('اسناد الأقسام'!M$7:M$78,SMALL(IF('اسناد الأقسام'!$D$7:$D$78=التجميع!$B$2,ROW('اسناد الأقسام'!$D$7:$D$78)-ROW('اسناد الأقسام'!$D$7)+1),ROW(8:8))),\"\")","v":""},{"$f":"IF(ROW(8:8)<=COUNTIF('اسناد الأقسام'!$D$7:$D$78,التجميع!$B$2),INDEX('اسناد الأقسام'!N$7:N$78,SMALL(IF('اسناد الأقسام'!$D$7:$D$78=التجميع!$B$2,ROW('اسناد الأقسام'!$D$7:$D$78)-ROW('اسناد الأقسام'!$D$7)+1),ROW(8:8))),\"\")","v":""},{"$f":"IF(ROW(8:8)<=COUNTIF('اسناد الأقسام'!$D$7:$D$78,التجميع!$B$2),INDEX('اسناد الأقسام'!O$7:O$78,SMALL(IF('اسناد الأقسام'!$D$7:$D$78=التجميع!$B$2,ROW('اسناد الأقسام'!$D$7:$D$78)-ROW('اسناد الأقسام'!$D$7)+1),ROW(8:8))),\"\")","v":""},{"$f":"IF(ROW(8:8)<=COUNTIF('اسناد الأقسام'!$D$7:$D$78,التجميع!$B$2),INDEX('اسناد الأقسام'!P$7:P$78,SMALL(IF('اسناد الأقسام'!$D$7:$D$78=التجميع!$B$2,ROW('اسناد الأقسام'!$D$7:$D$78)-ROW('اسناد الأقسام'!$D$7)+1),ROW(8:8))),\"\")","v":""},{"$f":"IF(ROW(8:8)<=COUNTIF('اسناد الأقسام'!$D$7:$D$78,التجميع!$B$2),INDEX('اسناد الأقسام'!Q$7:Q$78,SMALL(IF('اسناد الأقسام'!$D$7:$D$78=التجميع!$B$2,ROW('اسناد الأقسام'!$D$7:$D$78)-ROW('اسناد الأقسام'!$D$7)+1),ROW(8:8))),\"\")","v":""}]
[9,{"$f":"IF(ROW(9:9)<=COUNTIF('اسناد الأقسام'!$D$7:$D$78,التجميع!$B$2),INDEX('اسناد الأقسام'!C$7:C$78,SMALL(IF('اسناد الأقسام'!$D$7:$D$78=التجميع!$B$2,ROW('اسناد الأقسام'!$D$7:$D$78)-ROW('اسناد الأقسام'!$D$7)+1),ROW(9:9))),\"\")","v":""},{"$f":"IF(ROW(9:9)<=COUNTIF('اسناد الأقسام'!$D$7:$D$78,التجميع!$B$2),INDEX('اسناد الأقسام'!D$7:D$78,SMALL(IF('اسناد الأقسام'!$D$7:$D$78=التجميع!$B$2,ROW('اسناد الأقسام'!$D$7:$D$78)-ROW('اسناد الأقسام'!$D$7)+1),ROW(9:9))),\"\")","v":""},{"$f":"IF(ROW(9:9)<=COUNTIF('اسناد الأقسام'!$D$7:$D$78,التجميع!$B$2),INDEX('اسناد الأقسام'!E$7:E$78,SMALL(IF('اسناد الأقسام'!$D$7:$D$78=التجميع!$B$2,ROW('اسناد الأقسام'!$D$7:$D$78)-ROW('اسناد الأقسام'!$D$7)+1),ROW(9:9))),\"\")","v":""},{"$f":"IF(ROW(9:9)<=COUNTIF('اسناد الأقسام'!$D$7:$D$78,التجميع!$B$2),INDEX('اسناد الأقسام'!F$7:F$78,SMALL(IF('اسناد الأقسام'!$D$7:$D$78=التجميع!$B$2,ROW('اسناد الأقسام'!$D$7:$D$78)-ROW('اسناد الأقسام'!$D$7)+1),ROW(9:9))),\"\")","v":""},{"$f":"IF(ROW(9:9)<=COUNTIF('اسناد الأقسام'!$D$7:$D$78,التجميع!$B$2),INDEX('اسناد الأقسام'!G$7:G$78,SMALL(IF('اسناد الأقسام'!$D$7:$D$78=التجميع!$B$2,ROW('اسناد الأقسام'!$D$7:$D$78)-ROW('اسناد الأقسام'!$D$7)+1),ROW(9:9))),\"\")","v":""},{"$f":"IF(ROW(9:9)<=COUNTIF('اسناد الأقسام'!$D$7:$D$78,التجميع!$B$2),INDEX('اسناد الأقسام'!H$7:H$78,SMALL(IF('اسناد الأقسام'!$D$7:$D$78=التجميع!$B$2,ROW('اسناد الأقسام'!$D$7:$D$78)-ROW('اسناد الأقسام'!$D$7)+1),ROW(9:9))),\"\")","v":""},{"$f":"IF(ROW(9:9)<=COUNTIF('اسناد الأقسام'!$D$7:$D$78,التجميع!$B$2),INDEX('اسناد الأقسام'!I$7:I$78,SMALL(IF('اسناد الأقسام'!$D$7:$D$78=التجميع!$B$2,ROW('اسناد الأقسام'!$D$7:$D$78)-ROW('اسناد الأقسام'!$D$7)+1),ROW(9:9))),\"\")","v":""},{"$f":"IF(ROW(9:9)<=COUNTIF('اسناد الأقسام'!$D$7:$D$78,التجميع!$B$2),INDEX('اسناد الأقسام'!J$7:J$78,SMALL(IF('اسناد الأقسام'!$D$7:$D$78=التجميع!$B$2,ROW('اسناد الأقسام'!$D$7:$D$78)-ROW('اسناد الأقسام'!$D$7)+1),ROW(9:9))),\"\")","v":""},{"$f":"IF(ROW(9:9)<=COUNTIF('اسناد الأقسام'!$D$7:$D$78,التجميع!$B$2),INDEX('اسناد الأقسام'!K$7:K$78,SMALL(IF('اسناد الأقسام'!$D$7:$D$78=التجميع!$B$2,ROW('اسناد الأقسام'!$D$7:$D$78)-ROW('اسناد الأقسام'!$D$7)+1),ROW(9:9))),\"\")","v":""},{"$f":"IF(ROW(9:9)<=COUNTIF('اسناد الأقسام'!$D$7:$D$78,التجميع!$B$2),INDEX('اسناد الأقسام'!L$7:L$78,SMALL(IF('اسناد الأقسام'!$D$7:$D$78=التجميع!$B$2,ROW('اسناد الأقسام'!$D$7:$D$78)-ROW('اسناد الأقسام'!$D$7)+1),ROW(9:9))),\"\")","v":""},{"$f":"IF(ROW(9:9)<=COUNTIF('اسناد الأقسام'!$D$7:$D$78,التجميع!$B$2),INDEX('اسناد الأقسام'!M$7:M$78,SMALL(IF('اسناد الأقسام'!$D$7:$D$78=التجميع!$B$2,ROW('اسناد الأقسام'!$D$7:$D$78)-ROW('اسناد الأقسام'!$D$7)+1),ROW(9:9))),\"\")","v":""},{"$f":"IF(ROW(9:9)<=COUNTIF('اسناد الأقسام'!$D$7:$D$78,التجميع!$B$2),INDEX('اسناد الأقسام'!N$7:N$78,SMALL(IF('اسناد الأقسام'!$D$7:$D$78=التجميع!$B$2,ROW('اسناد الأقسام'!$D$7:$D$78)-ROW('اسناد الأقسام'!$D$7)+1),ROW(9:9))),\"\")","v":""},{"$f":"IF(ROW(9:9)<=COUNTIF('اسناد الأقسام'!$D$7:$D$78,التجميع!$B$2),INDEX('اسناد الأقسام'!O$7:O$78,SMALL(IF('اسناد الأقسام'!$D$7:$D$78=التجميع!$B$2,ROW('اسناد الأقسام'!$D$7:$D$78)-ROW('اسناد الأقسام'!$D$7)+1),ROW(9:9))),\"\")","v":""},{"$f":"IF(ROW(9:9)<=COUNTIF('اسناد الأقسام'!$D$7:$D$78,التجميع!$B$2),INDEX('اسناد الأقسام'!P$7:P$78,SMALL(IF('اسناد الأقسام'!$D$7:$D$78=التجميع!$B$2,ROW('اسناد الأقسام'!$D$7:$D$78)-ROW('اسناد الأقسام'!$D$7)+1),ROW(9:9))),\"\")","v":""},{"$f":"IF(ROW(9:9)<=COUNTIF('اسناد الأقسام'!$D$7:$D$78,التجميع!$B$2),INDEX('اسناد الأقسام'!Q$7:Q$78,SMALL(IF('اسناد الأقسام'!$D$7:$D$78=التجميع!$B$2,ROW('اسناد الأقسام'!$D$7:$D$78)-ROW('اسناد الأقسام'!$D$7)+1),ROW(9:9))),\"\")","v":""}]
[10,{"$f":"IF(ROW(10:10)<=COUNTIF('اسناد الأقسام'!$D$7:$D$78,التجميع!$B$2),INDEX('اسناد الأقسام'!C$7:C$78,SMALL(IF('اسناد الأقسام'!$D$7:$D$78=التجميع!$B$2,ROW('اسناد الأقسام'!$D$7:$D$78)-ROW('اسناد الأقسام'!$D$7)+1),ROW(10:10))),\"\")","v":""},{"$f":"IF(ROW(10:10)<=COUNTIF('اسناد الأقسام'!$D$7:$D$78,التجميع!$B$2),INDEX('اسناد الأقسام'!D$7:D$78,SMALL(IF('اسناد الأقسام'!$D$7:$D$78=التجميع!$B$2,ROW('اسناد الأقسام'!$D$7:$D$78)-ROW('اسناد الأقسام'!$D$7)+1),ROW(10:10))),\"\")","v":""},{"$f":"IF(ROW(10:10)<=COUNTIF('اسناد الأقسام'!$D$7:$D$78,التجميع!$B$2),INDEX('اسناد الأقسام'!E$7:E$78,SMALL(IF('اسناد الأقسام'!$D$7:$D$78=التجميع!$B$2,ROW('اسناد الأقسام'!$D$7:$D$78)-ROW('اسناد الأقسام'!$D$7)+1),ROW(10:10))),\"\")","v":""},{"$f":"IF(ROW(10:10)<=COUNTIF('اسناد الأقسام'!$D$7:$D$78,التجميع!$B$2),INDEX('اسناد الأقسام'!F$7:F$78,SMALL(IF('اسناد الأقسام'!$D$7:$D$78=التجميع!$B$2,ROW('اسناد الأقسام'!$D$7:$D$78)-ROW('اسناد الأقسام'!$D$7)+1),ROW(10:10))),\"\")","v":""},{"$f":"IF(ROW(10:10)<=COUNTIF('اسناد الأقسام'!$D$7:$D$78,التجميع!$B$2),INDEX('اسناد الأقسام'!G$7:G$78,SMALL(IF('اسناد الأقسام'!$D$7:$D$78=التجميع!$B$2,ROW('اسناد الأقسام'!$D$7:$D$78)-ROW('اسناد الأقسام'!$D$7)+1),ROW(10:10))),\"\")","v":""},{"$f":"IF(ROW(10:10)<=COUNTIF('اسناد الأقسام'!$D$7:$D$78,التجميع!$B$2),INDEX('اسناد الأقسام'!H$7:H$78,SMALL(IF('اسناد الأقسام'!$D$7:$D$78=التجميع!$B$2,ROW('اسناد الأقسام'!$D$7:$D$78)-ROW('اسناد الأقسام'!$D$7)+1),ROW(10:10))),\"\")","v":""},{"$f":"IF(ROW(10:10)<=COUNTIF('اسناد الأقسام'!$D$7:$D$78,التجميع!$B$2),INDEX('اسناد الأقسام'!I$7:I$78,SMALL(IF('اسناد الأقسام'!$D$7:$D$78=التجميع!$B$2,ROW('اسناد الأقسام'!$D$7:$D$78)-ROW('اسناد الأقسام'!$D$7)+1),ROW(10:10))),\"\")","v":""},{"$f":"IF(ROW(10:10)<=COUNTIF('اسناد الأقسام'!$D$7:$D$78,التجميع!$B$2),INDEX('اسناد الأقسام'!J$7:J$78,SMALL(IF('اسناد الأقسام'!$D$7:$D$78=التجميع!$B$2,ROW('اسناد الأقسام'!$D$7:$D$78)-ROW('اسناد الأقسام'!$D$7)+1),ROW(10:10))),\"\")","v":""},{"$f":"IF(ROW(10:10)<=COUNTIF('اسناد الأقسام'!$D$7:$D$78,التجميع!$B$2),INDEX('اسناد الأقسام'!K$7:K$78,SMALL(IF('اسناد الأقسام'!$D$7:$D$78=التجميع!$B$2,ROW('اسناد الأقسام'!$D$7:$D$78)-ROW('اسناد الأقسام'!$D$7)+1),ROW(10:10))),\"\")","v":""},{"$f":"IF(ROW(10:10)<=COUNTIF('اسناد الأقسام'!$D$7:$D$78,التجميع!$B$2),INDEX('اسناد الأقسام'!L$7:L$78,SMALL(IF('اسناد الأقسام'!$D$7:$D$78=التجميع!$B$2,ROW('اسناد الأقسام'!$D$7:$D$78)-ROW('اسناد الأقسام'!$D$7)+1),ROW(10:10))),\"\")","v":""},{"$f":"IF(ROW(10:10)<=COUNTIF('اسناد الأقسام'!$D$7:$D$78,التجميع!$B$2),INDEX('اسناد الأقسام'!M$7:M$78,SMALL(IF('اسناد الأقسام'!$D$7:$D$78=التجميع!$B$2,ROW('اسناد الأقسام'!$D$7:$D$78)-ROW('اسناد الأقسام'!$D$7)+1),ROW(10:10))),\"\")","v":""},{"$f":"IF(ROW(10:10)<=COUNTIF('اسناد الأقسام'!$D$7:$D$78,التجميع!$B$2),INDEX('اسناد الأقسام'!N$7:N$78,SMALL(IF('اسناد الأقسام'!$D$7:$D$78=التجميع!$B$2,ROW('اسناد الأقسام'!$D$7:$D$78)-ROW('اسناد الأقسام'!$D$7)+1),ROW(10:10))),\"\")","v":""},{"$f":"IF(ROW(10:10)<=COUNTIF('اسناد الأقسام'!$D$7:$D$78,التجميع!$B$2),INDEX('اسناد الأقسام'!O$7:O$78,SMALL(IF('اسناد الأقسام'!$D$7:$D$78=التجميع!$B$2,ROW('اسناد الأقسام'!$D$7:$D$78)-ROW('اسناد الأقسام'!$D$7)+1),ROW(10:10))),\"\")","v":""},{"$f":"IF(ROW(10:10)<=COUNTIF('اسناد الأقسام'!$D$7:$D$78,التجميع!$B$2),INDEX('اسناد الأقسام'!P$7:P$78,SMALL(IF('اسناد الأقسام'!$D$7:$D$78=التجميع!$B$2,ROW('اسناد الأقسام'!$D$7:$D$78)-ROW('اسناد الأقسام'!$D$7)+1),ROW(10:10))),\"\")","v":""},{"$f":"IF(ROW(10:10)<=COUNTIF('اسناد الأقسام'!$D$7:$D$78,التجميع!$B$2),INDEX('اسناد الأقسام'!Q$7:Q$78,SMALL(IF('اسناد الأقسام'!$D$7:$D$78=التجميع!$B$2,ROW('اسناد الأقسام'!$D$7:$D$78)-ROW('اسناد الأقسام'!$D$7)+1),ROW(10:10))),\"\")","v":""}]
[11,{"$f":"IF(ROW(11:11)<=COUNTIF('اسناد الأقسام'!$D$7:$D$78,التجميع!$B$2),INDEX('اسناد الأقسام'!C$7:C$78,SMALL(IF('اسناد الأقسام'!$D$7:$D$78=التجميع!$B$2,ROW('اسناد الأقسام'!$D$7:$D$78)-ROW('اسناد الأقسام'!$D$7)+1),ROW(11:11))),\"\")","v":""},{"$f":"IF(ROW(11:11)<=COUNTIF('اسناد الأقسام'!$D$7:$D$78,التجميع!$B$2),INDEX('اسناد الأقسام'!D$7:D$78,SMALL(IF('اسناد الأقسام'!$D$7:$D$78=التجميع!$B$2,ROW('اسناد الأقسام'!$D$7:$D$78)-ROW('اسناد الأقسام'!$D$7)+1),ROW(11:11))),\"\")","v":""},{"$f":"IF(ROW(11:11)<=COUNTIF('اسناد الأقسام'!$D$7:$D$78,التجميع!$B$2),INDEX('اسناد الأقسام'!E$7:E$78,SMALL(IF('اسناد الأقسام'!$D$7:$D$78=التجميع!$B$2,ROW('اسناد الأقسام'!$D$7:$D$78)-ROW('اسناد الأقسام'!$D$7)+1),ROW(11:11))),\"\")","v":""},{"$f":"IF(ROW(11:11)<=COUNTIF('اسناد الأقسام'!$D$7:$D$78,التجميع!$B$2),INDEX('اسناد الأقسام'!F$7:F$78,SMALL(IF('اسناد الأقسام'!$D$7:$D$78=التجميع!$B$2,ROW('اسناد الأقسام'!$D$7:$D$78)-ROW('اسناد الأقسام'!$D$7)+1),ROW(11:11))),\"\")","v":""},{"$f":"IF(ROW(11:11)<=COUNTIF('اسناد الأقسام'!$D$7:$D$78,التجميع!$B$2),INDEX('اسناد الأقسام'!G$7:G$78,SMALL(IF('اسناد الأقسام'!$D$7:$D$78=التجميع!$B$2,ROW('اسناد الأقسام'!$D$7:$D$78)-ROW('اسناد الأقسام'!$D$7)+1),ROW(11:11))),\"\")","v":""},{"$f":"IF(ROW(11:11)<=COUNTIF('اسناد الأقسام'!$D$7:$D$78,التجميع!$B$2),INDEX('اسناد الأقسام'!H$7:H$78,SMALL(IF('اسناد الأقسام'!$D$7:$D$78=التجميع!$B$2,ROW('اسناد الأقسام'!$D$7:$D$78)-ROW('اسناد الأقسام'!$D$7)+1),ROW(11:11))),\"\")","v":""},{"$f":"IF(ROW(11:11)<=COUNTIF('اسناد الأقسام'!$D$7:$D$78,التجميع!$B$2),INDEX('اسناد الأقسام'!I$7:I$78,SMALL(IF('اسناد الأقسام'!$D$7:$D$78=التجميع!$B$2,ROW('اسناد الأقسام'!$D$7:$D$78)-ROW('اسناد الأقسام'!$D$7)+1),ROW(11:11))),\"\")","v":""},{"$f":"IF(ROW(11:11)<=COUNTIF('اسناد الأقسام'!$D$7:$D$78,التجميع!$B$2),INDEX('اسناد الأقسام'!J$7:J$78,SMALL(IF('اسناد الأقسام'!$D$7:$D$78=التجميع!$B$2,ROW('اسناد الأقسام'!$D$7:$D$78)-ROW('اسناد الأقسام'!$D$7)+1),ROW(11:11))),\"\")","v":""},{"$f":"IF(ROW(11:11)<=COUNTIF('اسناد الأقسام'!$D$7:$D$78,التجميع!$B$2),INDEX('اسناد الأقسام'!K$7:K$78,SMALL(IF('اسناد الأقسام'!$D$7:$D$78=التجميع!$B$2,ROW('اسناد الأقسام'!$D$7:$D$78)-ROW('اسناد الأقسام'!$D$7)+1),ROW(11:11))),\"\")","v":""},{"$f":"IF(ROW(11:11)<=COUNTIF('اسناد الأقسام'!$D$7:$D$78,التجميع!$B$2),INDEX('اسناد الأقسام'!L$7:L$78,SMALL(IF('اسناد الأقسام'!$D$7:$D$78=التجميع!$B$2,ROW('اسناد الأقسام'!$D$7:$D$78)-ROW('اسناد الأقسام'!$D$7)+1),ROW(11:11))),\"\")","v":""},{"$f":"IF(ROW(11:11)<=COUNTIF('اسناد الأقسام'!$D$7:$D$78,التجميع!$B$2),INDEX('اسناد الأقسام'!M$7:M$78,SMALL(IF('اسناد الأقسام'!$D$7:$D$78=التجميع!$B$2,ROW('اسناد الأقسام'!$D$7:$D$78)-ROW('اسناد الأقسام'!$D$7)+1),ROW(11:11))),\"\")","v":""},{"$f":"IF(ROW(11:11)<=COUNTIF('اسناد الأقسام'!$D$7:$D$78,التجميع!$B$2),INDEX('اسناد الأقسام'!N$7:N$78,SMALL(IF('اسناد الأقسام'!$D$7:$D$78=التجميع!$B$2,ROW('اسناد الأقسام'!$D$7:$D$78)-ROW('اسناد الأقسام'!$D$7)+1),ROW(11:11))),\"\")","v":""},{"$f":"IF(ROW(11:11)<=COUNTIF('اسناد الأقسام'!$D$7:$D$78,التجميع!$B$2),INDEX('اسناد الأقسام'!O$7:O$78,SMALL(IF('اسناد الأقسام'!$D$7:$D$78=التجميع!$B$2,ROW('اسناد الأقسام'!$D$7:$D$78)-ROW('اسناد الأقسام'!$D$7)+1),ROW(11:11))),\"\")","v":""},{"$f":"IF(ROW(11:11)<=COUNTIF('اسناد الأقسام'!$D$7:$D$78,التجميع!$B$2),INDEX('اسناد الأقسام'!P$7:P$78,SMALL(IF('اسناد الأقسام'!$D$7:$D$78=التجميع!$B$2,ROW('اسناد الأقسام'!$D$7:$D$78)-ROW('اسناد الأقسام'!$D$7)+1),ROW(11:11))),\"\")","v":""},{"$f":"IF(ROW(11:11)<=COUNTIF('اسناد الأقسام'!$D$7:$D$78,التجميع!$B$2),INDEX('اسناد الأقسام'!Q$7:Q$78,SMALL(IF('اسناد الأقسام'!$D$7:$D$78=التجميع!$B$2,ROW('اسناد الأقسام'!$D$7:$D$78)-ROW('اسناد الأقسام'!$D$7)+1),ROW(11:11))),\"\")","v":""}]
[12,{"$f":"IF(ROW(12:12)<=COUNTIF('اسناد الأقسام'!$D$7:$D$78,التجميع!$B$2),INDEX('اسناد الأقسام'!C$7:C$78,SMALL(IF('اسناد الأقسام'!$D$7:$D$78=التجميع!$B$2,ROW('اسناد الأقسام'!$D$7:$D$78)-ROW('اسناد الأقسام'!$D$7)+1),ROW(12:12))),\"\")","v":""},{"$f":"IF(ROW(12:12)<=COUNTIF('اسناد الأقسام'!$D$7:$D$78,التجميع!$B$2),INDEX('اسناد الأقسام'!D$7:D$78,SMALL(IF('اسناد الأقسام'!$D$7:$D$78=التجميع!$B$2,ROW('اسناد الأقسام'!$D$7:$D$78)-ROW('اسناد الأقسام'!$D$7)+1),ROW(12:12))),\"\")","v":""},{"$f":"IF(ROW(12:12)<=COUNTIF('اسناد الأقسام'!$D$7:$D$78,التجميع!$B$2),INDEX('اسناد الأقسام'!E$7:E$78,SMALL(IF('اسناد الأقسام'!$D$7:$D$78=التجميع!$B$2,ROW('اسناد الأقسام'!$D$7:$D$78)-ROW('اسناد الأقسام'!$D$7)+1),ROW(12:12))),\"\")","v":""},{"$f":"IF(ROW(12:12)<=COUNTIF('اسناد الأقسام'!$D$7:$D$78,التجميع!$B$2),INDEX('اسناد الأقسام'!F$7:F$78,SMALL(IF('اسناد الأقسام'!$D$7:$D$78=التجميع!$B$2,ROW('اسناد الأقسام'!$D$7:$D$78)-ROW('اسناد الأقسام'!$D$7)+1),ROW(12:12))),\"\")","v":""},{"$f":"IF(ROW(12:12)<=COUNTIF('اسناد الأقسام'!$D$7:$D$78,التجميع!$B$2),INDEX('اسناد الأقسام'!G$7:G$78,SMALL(IF('اسناد الأقسام'!$D$7:$D$78=التجميع!$B$2,ROW('اسناد الأقسام'!$D$7:$D$78)-ROW('اسناد الأقسام'!$D$7)+1),ROW(12:12))),\"\")","v":""},{"$f":"IF(ROW(12:12)<=COUNTIF('اسناد الأقسام'!$D$7:$D$78,التجميع!$B$2),INDEX('اسناد الأقسام'!H$7:H$78,SMALL(IF('اسناد الأقسام'!$D$7:$D$78=التجميع!$B$2,ROW('اسناد الأقسام'!$D$7:$D$78)-ROW('اسناد الأقسام'!$D$7)+1),ROW(12:12))),\"\")","v":""},{"$f":"IF(ROW(12:12)<=COUNTIF('اسناد الأقسام'!$D$7:$D$78,التجميع!$B$2),INDEX('اسناد الأقسام'!I$7:I$78,SMALL(IF('اسناد الأقسام'!$D$7:$D$78=التجميع!$B$2,ROW('اسناد الأقسام'!$D$7:$D$78)-ROW('اسناد الأقسام'!$D$7)+1),ROW(12:12))),\"\")","v":""},{"$f":"IF(ROW(12:12)<=COUNTIF('اسناد الأقسام'!$D$7:$D$78,التجميع!$B$2),INDEX('اسناد الأقسام'!J$7:J$78,SMALL(IF('اسناد الأقسام'!$D$7:$D$78=التجميع!$B$2,ROW('اسناد الأقسام'!$D$7:$D$78)-ROW('اسناد الأقسام'!$D$7)+1),ROW(12:12))),\"\")","v":""},{"$f":"IF(ROW(12:12)<=COUNTIF('اسناد الأقسام'!$D$7:$D$78,التجميع!$B$2),INDEX('اسناد الأقسام'!K$7:K$78,SMALL(IF('اسناد الأقسام'!$D$7:$D$78=التجميع!$B$2,ROW('اسناد الأقسام'!$D$7:$D$78)-ROW('اسناد الأقسام'!$D$7)+1),ROW(12:12))),\"\")","v":""},{"$f":"IF(ROW(12:12)<=COUNTIF('اسناد الأقسام'!$D$7:$D$78,التجميع!$B$2),INDEX('اسناد الأقسام'!L$7:L$78,SMALL(IF('اسناد الأقسام'!$D$7:$D$78=التجميع!$B$2,ROW('اسناد الأقسام'!$D$7:$D$78)-ROW('اسناد الأقسام'!$D$7)+1),ROW(12:12))),\"\")","v":""},{"$f":"IF(ROW(12:12)<=COUNTIF('اسناد الأقسام'!$D$7:$D$78,التجميع!$B$2),INDEX('اسناد الأقسام'!M$7:M$78,SMALL(IF('اسناد الأقسام'!$D$7:$D$78=التجميع!$B$2,ROW('اسناد الأقسام'!$D$7:$D$78)-ROW('اسناد الأقسام'!$D$7)+1),ROW(12:12))),\"\")","v":""},{"$f":"IF(ROW(12:12)<=COUNTIF('اسناد الأقسام'!$D$7:$D$78,التجميع!$B$2),INDEX('اسناد الأقسام'!N$7:N$78,SMALL(IF('اسناد الأقسام'!$D$7:$D$78=التجميع!$B$2,ROW('اسناد الأقسام'!$D$7:$D$78)-ROW('اسناد الأقسام'!$D$7)+1),ROW(12:12))),\"\")","v":""},{"$f":"IF(ROW(12:12)<=COUNTIF('اسناد الأقسام'!$D$7:$D$78,التجميع!$B$2),INDEX('اسناد الأقسام'!O$7:O$78,SMALL(IF('اسناد الأقسام'!$D$7:$D$78=التجميع!$B$2,ROW('اسناد الأقسام'!$D$7:$D$78)-ROW('اسناد الأقسام'!$D$7)+1),ROW(12:12))),\"\")","v":""},{"$f":"IF(ROW(12:12)<=COUNTIF('اسناد الأقسام'!$D$7:$D$78,التجميع!$B$2),INDEX('اسناد الأقسام'!P$7:P$78,SMALL(IF('اسناد الأقسام'!$D$7:$D$78=التجميع!$B$2,ROW('اسناد الأقسام'!$D$7:$D$78)-ROW('اسناد الأقسام'!$D$7)+1),ROW(12:12))),\"\")","v":""},{"$f":"IF(ROW(12:12)<=COUNTIF('اسناد الأقسام'!$D$7:$D$78,التجميع!$B$2),INDEX('اسناد الأقسام'!Q$7:Q$78,SMALL(IF('اسناد الأقسام'!$D$7:$D$78=التجميع!$B$2,ROW('اسناد الأقسام'!$D$7:$D$78)-ROW('اسناد الأقسام'!$D$7)+1),ROW(12:12))),\"\")","v":""}]
[]
[null,"تكنولوجيا"]
["الرقم","اللقب والاسم","المادة","تاريخ الميلاد","الصفة","أقصى درجة جامعية","تاريخ التعيين بالمؤسسة","الأقسام المسندة"]
[1,{"$f":"IF(ROW(1:1)<=COUNTIF('اسناد الأقسام'!$D$7:$D$78,التجميع!$B$17),INDEX('اسناد الأقسام'!C$7:C$78,SMALL(IF('اسناد الأقسام'!$D$7:$D$78=التجميع!$B$17,ROW('اسناد الأقسام'!$D$7:$D$78)-ROW('اسناد الأقسام'!$D$7)+1),ROW(1:1))),\"\")","v":"داودي ميلود"},{"$f":"IF(ROW(1:1)<=COUNTIF('اسناد الأقسام'!$D$7:$D$78,التجميع!$B$17),INDEX('اسناد الأقسام'!D$7:D$78,SMALL(IF('اسناد الأقسام'!$D$7:$D$78=التجميع!$B$17,ROW('اسناد الأقسام'!$D$7:$D$78)-ROW('اسناد الأقسام'!$D$7)+1),ROW(1:1))),\"\")","v":"تكنولوجيا"},{"$f":"IF(ROW(1:1)<=COUNTIF('اسناد الأقسام'!$D$7:$D$78,التجميع!$B$17),INDEX('اسناد الأقسام'!E$7:E$78,SMALL(IF('اسناد الأقسام'!$D$7:$D$78=التجميع!$B$17,ROW('اسناد الأقسام'!$D$7:$D$78)-ROW('اسناد الأقسام'!$D$7)+1),ROW(1:1))),\"\")","v":"1975-03-19"},{"$f":"IF(ROW(1:1)<=COUNTIF('اسناد الأقسام'!$D$7:$D$78,التجميع!$B$17),INDEX('اسناد الأقسام'!F$7:F$78,SMALL(IF('اسناد الأقسام'!$D$7:$D$78=التجميع!$B$17,ROW('اسناد الأقسام'!$D$7:$D$78)-ROW('اسناد الأقسام'!$D$7)+1),ROW(1:1))),\"\")","v":"مرسم"},{"$f":"IF(ROW(1:1)<=COUNTIF('اسناد الأقسام'!$D$7:$D$78,التجميع!$B$17),INDEX('اسناد الأقسام'!G$7:G$78,SMALL(IF('اسناد الأقسام'!$D$7:$D$78=التجميع!$B$17,ROW('اسناد الأقسام'!$D$7:$D$78)-ROW('اسناد الأقسام'!$D$7)+1),ROW(1:1))),\"\")","v":"ليسانس"},{"$f":"IF(ROW(1:1)<=COUNTIF('اسناد الأقسام'!$D$7:$D$78,التجميع!$B$17),INDEX('اسناد الأقسام'!H$7:H$78,SMALL(IF('اسناد الأقسام'!$D$7:$D$78=التجميع!$B$17,ROW('اسناد الأقسام'!$D$7:$D$78)-ROW('اسناد الأقسام'!$D$7)+1),ROW(1:1))),\"\")","v":"1986-06-25"},{"$f":"IF(ROW(1:1)<=COUNTIF('اسناد الأقسام'!$D$7:$D$78,التجميع!$B$17),INDEX('اسناد الأقسام'!I$7:I$78,SMALL(IF('اسناد الأقسام'!$D$7:$D$78=التجميع!$B$17,ROW('اسناد الأقسام'!$D$7:$D$78)-ROW('اسناد الأقسام'!$D$7)+1),ROW(1:1))),\"\")","v":"4م1"},{"$f":"IF(ROW(1:1)<=COUNTIF('اسناد الأقسام'!$D$7:$D$78,التجميع!$B$17),INDEX('اسناد الأقسام'!J$7:J$78,SMALL(IF('اسناد الأقسام'!$D$7:$D$78=التجميع!$B$17,ROW('اسناد الأقسام'!$D$7:$D$78)-ROW('اسناد الأقسام'!$D$7)+1),ROW(1:1))),\"\")","v":"4م2"},{"$f":"IF(ROW(1:1)<=COUNTIF('اسناد الأقسام'!$D$7:$D$78,التجميع!$B$17),INDEX('اسناد الأقسام'!K$7:K$78,SMALL(IF('اسناد الأقسام'!$D$7:$D$78=التجميع!$B$17,ROW('اسناد الأقسام'!$D$7:$D$78)-ROW('اسناد الأقسام'!$D$7)+1),ROW(1:1))),\"\")","v":"2م1"},{"$f":"IF(ROW(1:1)<=COUNTIF('اسناد الأقسام'!$D$7:$D$78,التجميع!$B$17),INDEX('اسناد الأقسام'!L$7:L$78,SMALL(IF('اسناد الأقسام'!$D$7:$D$78=التجميع!$B$17,ROW('اسناد الأقسام'!$D$7:$D$78)-ROW('اسناد الأقسام'!$D$7)+1),ROW(1:1))),\"\")","v":"2م2"},{"$f":"IF(ROW(1:1)<=COUNTIF('اسناد الأقسام'!$D$7:$D$78,التجميع!$B$17),INDEX('اسناد الأقسام'!M$7:M$78,SMALL(IF('اسناد الأقسام'!$D$7:$D$78=التجميع!$B$17,ROW('اسناد الأقسام'!$D$7:$D$78)-ROW('اسناد الأقسام'!$D$7)+1),ROW(1:1))),\"\")","v":"2م3"},{"$f":"IF(ROW(1:1)<=COUNTIF('اسناد الأقسام'!$D$7:$D$78,التجميع!$B$17),INDEX('اسناد الأقسام'!N$7:N$78,SMALL(IF('اسناد الأقسام'!$D$7:$D$78=التجميع!$B$17,ROW('اسناد الأقسام'!$D$7:$D$78)-ROW('اسناد الأقسام'!$D$7)+1),ROW(1:1))),\"\")","v":0},{"$f":"IF(ROW(1:1)<=COUNTIF('اسناد الأقسام'!$D$7:$D$78,التجميع!$B$17),INDEX('اسناد الأقسام'!O$7:O$78,SMALL(IF('اسناد الأقسام'!$D$7:$D$78=التجميع!$B$17,ROW('اسناد الأقسام'!$D$7:$D$78)-ROW('اسناد الأقسام'!$D$7)+1),ROW(1:1))),\"\")","v":0},{"$f":"IF(ROW(1:1)<=COUNTIF('اسناد الأقسام'!$D$7:$D$78,التجميع!$B$17),INDEX('اسناد الأقسام'!P$7:P$78,SMALL(IF('اسناد الأقسام'!$D$7:$D$78=التجميع!$B$17,ROW('اسناد الأقسام'!$D$7:$D$78)-ROW('اسناد الأقسام'!$D$7)+1),ROW(1:1))),\"\")","v":0},{"$f":"IF(ROW(1:1)<=COUNTIF('اسناد الأقسام'!$D$7:$D$78,التجميع!$B$17),INDEX('اسناد الأقسام'!Q$7:Q$78,SMALL(IF('اسناد الأقسام'!$D$7:$D$78=التجميع!$B$17,ROW('اسناد الأقسام'!$D$7:$D$78)-ROW('اسناد الأقسام'!$D$7)+1),ROW(1:1))),\"\")","v":0}]
[2,{"$f":"IF(ROW(2:2)<=COUNTIF('اسناد الأقسام'!$D$7:$D$78,التجميع!$B$17),INDEX('اسناد الأقسام'!C$7:C$78,SMALL(IF('اسناد الأقسام'!$D$7:$D$78=التجميع!$B$17,ROW('اسناد الأقسام'!$D$7:$D$78)-ROW('اسناد الأقسام'!$D$7)+1),ROW(2:2))),\"\")","v":"طيبي عبد القادر "},{"$f":"IF(ROW(2:2)<=COUNTIF('اسناد الأقسام'!$D$7:$D$78,التجميع!$B$17),INDEX('اسناد الأقسام'!D$7:D$78,SMALL(IF('اسناد الأقسام'!$D$7:$D$78=التجميع!$B$17,ROW('اسناد الأقسام'!$D$7:$D$78)-ROW('اسناد الأقسام'!$D$7)+1),ROW(2:2))),\"\")","v":"تكنولوجيا"},{"$f":"IF(ROW(2:2)<=COUNTIF('اسناد الأقسام'!$D$7:$D$78,التجميع!$B$17),INDEX('اسناد الأقسام'!E$7:E$78,SMALL(IF('اسناد الأقسام'!$D$7:$D$78=التجميع!$B$17,ROW('اسناد الأقسام'!$D$7:$D$78)-ROW('اسناد الأقسام'!$D$7)+1),ROW(2:2))),\"\")","v":"1990-08-06"},{"$f":"IF(ROW(2:2)<=COUNTIF('اسناد الأقسام'!$D$7:$D$78,التجميع!$B$17),INDEX('اسناد الأقسام'!F$7:F$78,SMALL(IF('اسناد الأقسام'!$D$7:$D$78=التجميع!$B$17,ROW('اسناد الأقسام'!$D$7:$D$78)-ROW('اسناد الأقسام'!$D$7)+1),ROW(2:2))),\"\")","v":"مرسمة"},{"$f":"IF(ROW(2:2)<=COUNTIF('اسناد الأقسام'!$D$7:$D$78,التجميع!$B$17),INDEX('اسناد الأقسام'!G$7:G$78,SMALL(IF('اسناد الأقسام'!$D$7:$D$78=التجميع!$B$17,ROW('اسناد الأقسام'!$D$7:$D$78)-ROW('اسناد الأقسام'!$D$7)+1),ROW(2:2))),\"\")","v":"ليسانس"},{"$f":"IF(ROW(2:2)<=COUNTIF('اسناد الأقسام'!$D$7:$D$78,التجميع!$B$17),INDEX('اسناد الأقسام'!H$7:H$78,SMALL(IF('اسناد الأقسام'!$D$7:$D$78=التجميع!$B$17,ROW('اسناد الأقسام'!$D$7:$D$78)-ROW('اسناد الأقسام'!$D$7)+1),ROW(2:2))),\"\")","v":"2015-09-01"},{"$f":"IF(ROW(2:2)<=COUNTIF('اسناد الأقسام'!$D$7:$D$78,التجميع!$B$17),INDEX('اسناد الأقسام'!I$7:I$78,SMALL(IF('اسناد الأقسام'!$D$7:$D$78=التجميع!$B$17,ROW('اسناد الأقسام'!$D$7:$D$78)-ROW('اسناد الأقسام'!$D$7)+1),ROW(2:2))),\"\")","v":"1م1"},{"$f":"IF(ROW(2:2)<=COUNTIF('اسناد الأقسام'!$D$7:$D$78,التجميع!$B$17),INDEX('اسناد الأقسام'!J$7:J$78,SMALL(IF('اسناد الأقسام'!$D$7:$D$78=التجميع!$B$17,ROW('اسناد الأقسام'!$D$7:$D$78)-ROW('اسناد الأقسام'!$D$7)+1),ROW(2:2))),\"\")","v":"1م2"},{"$f":"IF(ROW(2:2)<=COUNTIF('اسناد الأقسام'!$D$7:$D$78,التجميع!$B$17),INDEX('اسناد الأقسام'!K$7:K$78,SMALL(IF('اسناد الأقسام'!$D$7:$D$78=التجميع!$B$17,ROW('اسناد الأقسام'!$D$7:$D$78)-ROW('اسناد الأقسام'!$D$7)+1),ROW(2:2))),\"\")","v":"1م3"},{"$f":"IF(ROW(2:2)<=COUNTIF('اسناد الأقسام'!$D$7:$D$78,التجميع!$B$17),INDEX('اسناد الأقسام'!L$7:L$78,SMALL(IF('اسناد الأقسام'!$D$7:$D$78=التجميع!$B$17,ROW('اسناد الأقسام'!$D$7:$D$78)-ROW('اسناد الأقسام'!$D$7)+1),ROW(2:2))),\"\")","v":"3م1"},{"$f":"IF(ROW(2:2)<=COUNTIF('اسناد الأقسام'!$D$7:$D$78,التجميع!$B$17),INDEX('اسناد الأقسام'!M$7:M$78,SMALL(IF('اسناد الأقسام'!$D$7:$D$78=التجميع!$B$17,ROW('اسناد الأقسام'!$D$7:$D$78)-ROW('اسناد الأقسام'!$D$7)+1),ROW(2:2))),\"\")","v":"3م2"},{"$f":"IF(ROW(2:2)<=COUNTIF('اسناد الأقسام'!$D$7:$D$78,التجميع!$B$17),INDEX('اسناد الأقسام'!N$7:N$78,SMALL(IF('اسناد الأقسام'!$D$7:$D$78=التجميع!$B$17,ROW('اسناد الأقسام'!$D$7:$D$78)-ROW('اسناد الأقسام'!$D$7)+1),ROW(2:2))),\"\")","v":0},{"$f":"IF(ROW(2:2)<=COUNTIF('اسناد الأقسام'!$D$7:$D$78,التجميع!$B$17),INDEX('اسناد الأقسام'!O$7:O$78,SMALL(IF('اسناد الأقسام'!$D$7:$D$78=التجميع!$B$17,ROW('اسناد الأقسام'!$D$7:$D$78)-ROW('اسناد الأقسام'!$D$7)+1),ROW(2:2))),\"\")","v":0},{"$f":"IF(ROW(2:2)<=COUNTIF('اسناد الأقسام'!$D$7:$D$78,التجميع!$B$17),INDEX('اسناد الأقسام'!P$7:P$78,SMALL(IF('اسناد الأقسام'!$D$7:$D$78=التجميع!$B$17,ROW('اسناد الأقسام'!$D$7:$D$78)-ROW('اسناد الأقسام'!$D$7)+1),ROW(2:2))),\"\")","v":0},{"$f":"IF(ROW(2:2)<=COUNTIF('اسناد الأقسام'!$D$7:$D$78,التجميع!$B$17),INDEX('اسناد الأقسام'!Q$7:Q$78,SMALL(IF('اسناد الأقسام'!$D$7:$D$78=التجميع!$B$17,ROW('اسناد الأقسام'!$D$7:$D$78)-ROW('اسناد الأقسام'!$D$7)+1),ROW(2:2))),\"\")","v":0}]
[3,{"$f":"IF(ROW(3:3)<=COUNTIF('اسناد الأقسام'!$D$7:$D$78,التجميع!$B$17),INDEX('اسناد الأقسام'!C$7:C$78,SMALL(IF('اسناد الأقسام'!$D$7:$D$78=التجميع!$B$17,ROW('اسناد الأقسام'!$D$7:$D$78)-ROW('اسناد الأقسام'!$D$7)+1),ROW(3:3))),\"\")","v":""},{"$f":"IF(ROW(3:3)<=COUNTIF('اسناد الأقسام'!$D$7:$D$78,التجميع!$B$17),INDEX('اسناد الأقسام'!D$7:D$78,SMALL(IF('اسناد الأقسام'!$D$7:$D$78=التجميع!$B$17,ROW('اسناد الأقسام'!$D$7:$D$78)-ROW('اسناد الأقسام'!$D$7)+1),ROW(3:3))),\"\")","v":""},{"$f":"IF(ROW(3:3)<=COUNTIF('اسناد الأقسام'!$D$7:$D$78,التجميع!$B$17),INDEX('اسناد الأقسام'!E$7:E$78,SMALL(IF('اسناد الأقسام'!$D$7:$D$78=التجميع!$B$17,ROW('اسناد الأقسام'!$D$7:$D$78)-ROW('اسناد الأقسام'!$D$7)+1),ROW(3:3))),\"\")","v":""},{"$f":"IF(ROW(3:3)<=COUNTIF('اسناد الأقسام'!$D$7:$D$78,التجميع!$B$17),INDEX('اسناد الأقسام'!F$7:F$78,SMALL(IF('اسناد الأقسام'!$D$7:$D$78=التجميع!$B$17,ROW('اسناد الأقسام'!$D$7:$D$78)-ROW('اسناد الأقسام'!$D$7)+1),ROW(3:3))),\"\")","v":""},{"$f":"IF(ROW(3:3)<=COUNTIF('اسناد الأقسام'!$D$7:$D$78,التجميع!$B$17),INDEX('اسناد الأقسام'!G$7:G$78,SMALL(IF('اسناد الأقسام'!$D$7:$D$78=التجميع!$B$17,ROW('اسناد الأقسام'!$D$7:$D$78)-ROW('اسناد الأقسام'!$D$7)+1),ROW(3:3))),\"\")","v":""},{"$f":"IF(ROW(3:3)<=COUNTIF('اسناد الأقسام'!$D$7:$D$78,التجميع!$B$17),INDEX('اسناد الأقسام'!H$7:H$78,SMALL(IF('اسناد الأقسام'!$D$7:$D$78=التجميع!$B$17,ROW('اسناد الأقسام'!$D$7:$D$78)-ROW('اسناد الأقسام'!$D$7)+1),ROW(3:3))),\"\")","v":""},{"$f":"IF(ROW(3:3)<=COUNTIF('اسناد الأقسام'!$D$7:$D$78,التجميع!$B$17),INDEX('اسناد الأقسام'!I$7:I$78,SMALL(IF('اسناد الأقسام'!$D$7:$D$78=التجميع!$B$17,ROW('اسناد الأقسام'!$D$7:$D$78)-ROW('اسناد الأقسام'!$D$7)+1),ROW(3:3))),\"\")","v":""},{"$f":"IF(ROW(3:3)<=COUNTIF('اسناد الأقسام'!$D$7:$D$78,التجميع!$B$17),INDEX('اسناد الأقسام'!J$7:J$78,SMALL(IF('اسناد الأقسام'!$D$7:$D$78=التجميع!$B$17,ROW('اسناد الأقسام'!$D$7:$D$78)-ROW('اسناد الأقسام'!$D$7)+1),ROW(3:3))),\"\")","v":""},{"$f":"IF(ROW(3:3)<=COUNTIF('اسناد الأقسام'!$D$7:$D$78,التجميع!$B$17),INDEX('اسناد الأقسام'!K$7:K$78,SMALL(IF('اسناد الأقسام'!$D$7:$D$78=التجميع!$B$17,ROW('اسناد الأقسام'!$D$7:$D$78)-ROW('اسناد الأقسام'!$D$7)+1),ROW(3:3))),\"\")","v":""},{"$f":"IF(ROW(3:3)<=COUNTIF('اسناد الأقسام'!$D$7:$D$78,التجميع!$B$17),INDEX('اسناد الأقسام'!L$7:L$78,SMALL(IF('اسناد الأقسام'!$D$7:$D$78=التجميع!$B$17,ROW('اسناد الأقسام'!$D$7:$D$78)-ROW('اسناد الأقسام'!$D$7)+1),ROW(3:3))),\"\")","v":""},{"$f":"IF(ROW(3:3)<=COUNTIF('اسناد الأقسام'!$D$7:$D$78,التجميع!$B$17),INDEX('اسناد الأقسام'!M$7:M$78,SMALL(IF('اسناد الأقسام'!$D$7:$D$78=التجميع!$B$17,ROW('اسناد الأقسام'!$D$7:$D$78)-ROW('اسناد الأقسام'!$D$7)+1),ROW(3:3))),\"\")","v":""},{"$f":"IF(ROW(3:3)<=COUNTIF('اسناد الأقسام'!$D$7:$D$78,التجميع!$B$17),INDEX('اسناد الأقسام'!N$7:N$78,SMALL(IF('اسناد الأقسام'!$D$7:$D$78=التجميع!$B$17,ROW('اسناد الأقسام'!$D$7:$D$78)-ROW('اسناد الأقسام'!$D$7)+1),ROW(3:3))),\"\")","v":""},{"$f":"IF(ROW(3:3)<=COUNTIF('اسناد الأقسام'!$D$7:$D$78,التجميع!$B$17),INDEX('اسناد الأقسام'!O$7:O$78,SMALL(IF('اسناد الأقسام'!$D$7:$D$78=التجميع!$B$17,ROW('اسناد الأقسام'!$D$7:$D$78)-ROW('اسناد الأقسام'!$D$7)+1),ROW(3:3))),\"\")","v":""},{"$f":"IF(ROW(3:3)<=COUNTIF('اسناد الأقسام'!$D$7:$D$78,التجميع!$B$17),INDEX('اسناد الأقسام'!P$7:P$78,SMALL(IF('اسناد الأقسام'!$D$7:$D$78=التجميع!$B$17,ROW('اسناد الأقسام'!$D$7:$D$78)-ROW('اسناد الأقسام'!$D$7)+1),ROW(3:3))),\"\")","v":""},{"$f":"IF(ROW(3:3)<=COUNTIF('اسناد الأقسام'!$D$7:$D$78,التجميع!$B$17),INDEX('اسناد الأقسام'!Q$7:Q$78,SMALL(IF('اسناد الأقسام'!$D$7:$D$78=التجميع!$B$17,ROW('اسناد الأقسام'!$D$7:$D$78)-ROW('اسناد الأقسام'!$D$7)+1),ROW(3:3))),\"\")","v":""}]
[4,{"$f":"IF(ROW(4:4)<=COUNTIF('اسناد الأقسام'!$D$7:$D$78,التجميع!$B$17),INDEX('اسناد الأقسام'!C$7:C$78,SMALL(IF('اسناد الأقسام'!$D$7:$D$78=التجميع!$B$17,ROW('اسناد الأقسام'!$D$7:$D$78)-ROW('اسناد الأقسام'!$D$7)+1),ROW(4:4))),\"\")","v":""},{"$f":"IF(ROW(4:4)<=COUNTIF('اسناد الأقسام'!$D$7:$D$78,التجميع!$B$17),INDEX('اسناد الأقسام'!D$7:D$78,SMALL(IF('اسناد الأقسام'!$D$7:$D$78=التجميع!$B$17,ROW('اسناد الأقسام'!$D$7:$D$78)-ROW('اسناد الأقسام'!$D$7)+1),ROW(4:4))),\"\")","v":""},{"$f":"IF(ROW(4:4)<=COUNTIF('اسناد الأقسام'!$D$7:$D$78,التجميع!$B$17),INDEX('اسناد الأقسام'!E$7:E$78,SMALL(IF('اسناد الأقسام'!$D$7:$D$78=التجميع!$B$17,ROW('اسناد الأقسام'!$D$7:$D$78)-ROW('اسناد الأقسام'!$D$7)+1),ROW(4:4))),\"\")","v":""},{"$f":"IF(ROW(4:4)<=COUNTIF('اسناد الأقسام'!$D$7:$D$78,التجميع!$B$17),INDEX('اسناد الأقسام'!F$7:F$78,SMALL(IF('اسناد الأقسام'!$D$7:$D$78=التجميع!$B$17,ROW('اسناد الأقسام'!$D$7:$D$78)-ROW('اسناد الأقسام'!$D$7)+1),ROW(4:4))),\"\")","v":""},{"$f":"IF(ROW(4:4)<=COUNTIF('اسناد الأقسام'!$D$7:$D$78,التجميع!$B$17),INDEX('اسناد الأقسام'!G$7:G$78,SMALL(IF('اسناد الأقسام'!$D$7:$D$78=التجميع!$B$17,ROW('اسناد الأقسام'!$D$7:$D$78)-ROW('اسناد الأقسام'!$D$7)+1),ROW(4:4))),\"\")","v":""},{"$f":"IF(ROW(4:4)<=COUNTIF('اسناد الأقسام'!$D$7:$D$78,التجميع!$B$17),INDEX('اسناد الأقسام'!H$7:H$78,SMALL(IF('اسناد الأقسام'!$D$7:$D$78=التجميع!$B$17,ROW('اسناد الأقسام'!$D$7:$D$78)-ROW('اسناد الأقسام'!$D$7)+1),ROW(4:4))),\"\")","v":""},{"$f":"IF(ROW(4:4)<=COUNTIF('اسناد الأقسام'!$D$7:$D$78,التجميع!$B$17),INDEX('اسناد الأقسام'!I$7:I$78,SMALL(IF('اسناد الأقسام'!$D$7:$D$78=التجميع!$B$17,ROW('اسناد الأقسام'!$D$7:$D$78)-ROW('اسناد الأقسام'!$D$7)+1),ROW(4:4))),\"\")","v":""},{"$f":"IF(ROW(4:4)<=COUNTIF('اسناد الأقسام'!$D$7:$D$78,التجميع!$B$17),INDEX('اسناد الأقسام'!J$7:J$78,SMALL(IF('اسناد الأقسام'!$D$7:$D$78=التجميع!$B$17,ROW('اسناد الأقسام'!$D$7:$D$78)-ROW('اسناد الأقسام'!$D$7)+1),ROW(4:4))),\"\")","v":""},{"$f":"IF(ROW(4:4)<=COUNTIF('اسناد الأقسام'!$D$7:$D$78,التجميع!$B$17),INDEX('اسناد الأقسام'!K$7:K$78,SMALL(IF('اسناد الأقسام'!$D$7:$D$78=التجميع!$B$17,ROW('اسناد الأقسام'!$D$7:$D$78)-ROW('اسناد الأقسام'!$D$7)+1),ROW(4:4))),\"\")","v":""},{"$f":"IF(ROW(4:4)<=COUNTIF('اسناد الأقسام'!$D$7:$D$78,التجميع!$B$17),INDEX('اسناد الأقسام'!L$7:L$78,SMALL(IF('اسناد الأقسام'!$D$7:$D$78=التجميع!$B$17,ROW('اسناد الأقسام'!$D$7:$D$78)-ROW('اسناد الأقسام'!$D$7)+1),ROW(4:4))),\"\")","v":""},{"$f":"IF(ROW(4:4)<=COUNTIF('اسناد الأقسام'!$D$7:$D$78,التجميع!$B$17),INDEX('اسناد الأقسام'!M$7:M$78,SMALL(IF('اسناد الأقسام'!$D$7:$D$78=التجميع!$B$17,ROW('اسناد الأقسام'!$D$7:$D$78)-ROW('اسناد الأقسام'!$D$7)+1),ROW(4:4))),\"\")","v":""},{"$f":"IF(ROW(4:4)<=COUNTIF('اسناد الأقسام'!$D$7:$D$78,التجميع!$B$17),INDEX('اسناد الأقسام'!N$7:N$78,SMALL(IF('اسناد الأقسام'!$D$7:$D$78=التجميع!$B$17,ROW('اسناد الأقسام'!$D$7:$D$78)-ROW('اسناد الأقسام'!$D$7)+1),ROW(4:4))),\"\")","v":""},{"$f":"IF(ROW(4:4)<=COUNTIF('اسناد الأقسام'!$D$7:$D$78,التجميع!$B$17),INDEX('اسناد الأقسام'!O$7:O$78,SMALL(IF('اسناد الأقسام'!$D$7:$D$78=التجميع!$B$17,ROW('اسناد الأقسام'!$D$7:$D$78)-ROW('اسناد الأقسام'!$D$7)+1),ROW(4:4))),\"\")","v":""},{"$f":"IF(ROW(4:4)<=COUNTIF('اسناد الأقسام'!$D$7:$D$78,التجميع!$B$17),INDEX('اسناد الأقسام'!P$7:P$78,SMALL(IF('اسناد الأقسام'!$D$7:$D$78=التجميع!$B$17,ROW('اسناد الأقسام'!$D$7:$D$78)-ROW('اسناد الأقسام'!$D$7)+1),ROW(4:4))),\"\")","v":""},{"$f":"IF(ROW(4:4)<=COUNTIF('اسناد الأقسام'!$D$7:$D$78,التجميع!$B$17),INDEX('اسناد الأقسام'!Q$7:Q$78,SMALL(IF('اسناد الأقسام'!$D$7:$D$78=التجميع!$B$17,ROW('اسناد الأقسام'!$D$7:$D$78)-ROW('اسناد الأقسام'!$D$7)+1),ROW(4:4))),\"\")","v":""}]
[5,{"$f":"IF(ROW(5:5)<=COUNTIF('اسناد الأقسام'!$D$7:$D$78,التجميع!$B$17),INDEX('اسناد الأقسام'!C$7:C$78,SMALL(IF('اسناد الأقسام'!$D$7:$D$78=التجميع!$B$17,ROW('اسناد الأقسام'!$D$7:$D$78)-ROW('اسناد الأقسام'!$D$7)+1),ROW(5:5))),\"\")","v":""},{"$f":"IF(ROW(5:5)<=COUNTIF('اسناد الأقسام'!$D$7:$D$78,التجميع!$B$17),INDEX('اسناد الأقسام'!D$7:D$78,SMALL(IF('اسناد الأقسام'!$D$7:$D$78=التجميع!$B$17,ROW('اسناد الأقسام'!$D$7:$D$78)-ROW('اسناد الأقسام'!$D$7)+1),ROW(5:5))),\"\")","v":""},{"$f":"IF(ROW(5:5)<=COUNTIF('اسناد الأقسام'!$D$7:$D$78,التجميع!$B$17),INDEX('اسناد الأقسام'!E$7:E$78,SMALL(IF('اسناد الأقسام'!$D$7:$D$78=التجميع!$B$17,ROW('اسناد الأقسام'!$D$7:$D$78)-ROW('اسناد الأقسام'!$D$7)+1),ROW(5:5))),\"\")","v":""},{"$f":"IF(ROW(5:5)<=COUNTIF('اسناد الأقسام'!$D$7:$D$78,التجميع!$B$17),INDEX('اسناد الأقسام'!F$7:F$78,SMALL(IF('اسناد الأقسام'!$D$7:$D$78=التجميع!$B$17,ROW('اسناد الأقسام'!$D$7:$D$78)-ROW('اسناد الأقسام'!$D$7)+1),ROW(5:5))),\"\")","v":""},{"$f":"IF(ROW(5:5)<=COUNTIF('اسناد الأقسام'!$D$7:$D$78,التجميع!$B$17),INDEX('اسناد الأقسام'!G$7:G$78,SMALL(IF('اسناد الأقسام'!$D$7:$D$78=التجميع!$B$17,ROW('اسناد الأقسام'!$D$7:$D$78)-ROW('اسناد الأقسام'!$D$7)+1),ROW(5:5))),\"\")","v":""},{"$f":"IF(ROW(5:5)<=COUNTIF('اسناد الأقسام'!$D$7:$D$78,التجميع!$B$17),INDEX('اسناد الأقسام'!H$7:H$78,SMALL(IF('اسناد الأقسام'!$D$7:$D$78=التجميع!$B$17,ROW('اسناد الأقسام'!$D$7:$D$78)-ROW('اسناد الأقسام'!$D$7)+1),ROW(5:5))),\"\")","v":""},{"$f":"IF(ROW(5:5)<=COUNTIF('اسناد الأقسام'!$D$7:$D$78,التجميع!$B$17),INDEX('اسناد الأقسام'!I$7:I$78,SMALL(IF('اسناد الأقسام'!$D$7:$D$78=التجميع!$B$17,ROW('اسناد الأقسام'!$D$7:$D$78)-ROW('اسناد الأقسام'!$D$7)+1),ROW(5:5))),\"\")","v":""},{"$f":"IF(ROW(5:5)<=COUNTIF('اسناد الأقسام'!$D$7:$D$78,التجميع!$B$17),INDEX('اسناد الأقسام'!J$7:J$78,SMALL(IF('اسناد الأقسام'!$D$7:$D$78=التجميع!$B$17,ROW('اسناد الأقسام'!$D$7:$D$78)-ROW('اسناد الأقسام'!$D$7)+1),ROW(5:5))),\"\")","v":""},{"$f":"IF(ROW(5:5)<=COUNTIF('اسناد الأقسام'!$D$7:$D$78,التجميع!$B$17),INDEX('اسناد الأقسام'!K$7:K$78,SMALL(IF('اسناد الأقسام'!$D$7:$D$78=التجميع!$B$17,ROW('اسناد الأقسام'!$D$7:$D$78)-ROW('اسناد الأقسام'!$D$7)+1),ROW(5:5))),\"\")","v":""},{"$f":"IF(ROW(5:5)<=COUNTIF('اسناد الأقسام'!$D$7:$D$78,التجميع!$B$17),INDEX('اسناد الأقسام'!L$7:L$78,SMALL(IF('اسناد الأقسام'!$D$7:$D$78=التجميع!$B$17,ROW('اسناد الأقسام'!$D$7:$D$78)-ROW('اسناد الأقسام'!$D$7)+1),ROW(5:5))),\"\")","v":""},{"$f":"IF(ROW(5:5)<=COUNTIF('اسناد الأقسام'!$D$7:$D$78,التجميع!$B$17),INDEX('اسناد الأقسام'!M$7:M$78,SMALL(IF('اسناد الأقسام'!$D$7:$D$78=التجميع!$B$17,ROW('اسناد الأقسام'!$D$7:$D$78)-ROW('اسناد الأقسام'!$D$7)+1),ROW(5:5))),\"\")","v":""},{"$f":"IF(ROW(5:5)<=COUNTIF('اسناد الأقسام'!$D$7:$D$78,التجميع!$B$17),INDEX('اسناد الأقسام'!N$7:N$78,SMALL(IF('اسناد الأقسام'!$D$7:$D$78=التجميع!$B$17,ROW('اسناد الأقسام'!$D$7:$D$78)-ROW('اسناد الأقسام'!$D$7)+1),ROW(5:5))),\"\")","v":""},{"$f":"IF(ROW(5:5)<=COUNTIF('اسناد الأقسام'!$D$7:$D$78,التجميع!$B$17),INDEX('اسناد الأقسام'!O$7:O$78,SMALL(IF('اسناد الأقسام'!$D$7:$D$78=التجميع!$B$17,ROW('اسناد الأقسام'!$D$7:$D$78)-ROW('اسناد الأقسام'!$D$7)+1),ROW(5:5))),\"\")","v":""},{"$f":"IF(ROW(5:5)<=COUNTIF('اسناد الأقسام'!$D$7:$D$78,التجميع!$B$17),INDEX('اسناد الأقسام'!P$7:P$78,SMALL(IF('اسناد الأقسام'!$D$7:$D$78=التجميع!$B$17,ROW('اسناد الأقسام'!$D$7:$D$78)-ROW('اسناد الأقسام'!$D$7)+1),ROW(5:5))),\"\")","v":""},{"$f":"IF(ROW(5:5)<=COUNTIF('اسناد الأقسام'!$D$7:$D$78,التجميع!$B$17),INDEX('اسناد الأقسام'!Q$7:Q$78,SMALL(IF('اسناد الأقسام'!$D$7:$D$78=التجميع!$B$17,ROW('اسناد الأقسام'!$D$7:$D$78)-ROW('اسناد الأقسام'!$D$7)+1),ROW(5:5))),\"\")","v":""}]
[6,{"$f":"IF(ROW(6:6)<=COUNTIF('اسناد الأقسام'!$D$7:$D$78,التجميع!$B$17),INDEX('اسناد الأقسام'!C$7:C$78,SMALL(IF('اسناد الأقسام'!$D$7:$D$78=التجميع!$B$17,ROW('اسناد الأقسام'!$D$7:$D$78)-ROW('اسناد الأقسام'!$D$7)+1),ROW(6:6))),\"\")","v":""},{"$f":"IF(ROW(6:6)<=COUNTIF('اسناد الأقسام'!$D$7:$D$78,التجميع!$B$17),INDEX('اسناد الأقسام'!D$7:D$78,SMALL(IF('اسناد الأقسام'!$D$7:$D$78=التجميع!$B$17,ROW('اسناد الأقسام'!$D$7:$D$78)-ROW('اسناد الأقسام'!$D$7)+1),ROW(6:6))),\"\")","v":""},{"$f":"IF(ROW(6:6)<=COUNTIF('اسناد الأقسام'!$D$7:$D$78,التجميع!$B$17),INDEX('اسناد الأقسام'!E$7:E$78,SMALL(IF('اسناد الأقسام'!$D$7:$D$78=التجميع!$B$17,ROW('اسناد الأقسام'!$D$7:$D$78)-ROW('اسناد الأقسام'!$D$7)+1),ROW(6:6))),\"\")","v":""},{"$f":"IF(ROW(6:6)<=COUNTIF('اسناد الأقسام'!$D$7:$D$78,التجميع!$B$17),INDEX('اسناد الأقسام'!F$7:F$78,SMALL(IF('اسناد الأقسام'!$D$7:$D$78=التجميع!$B$17,ROW('اسناد الأقسام'!$D$7:$D$78)-ROW('اسناد الأقسام'!$D$7)+1),ROW(6:6))),\"\")","v":""},{"$f":"IF(ROW(6:6)<=COUNTIF('اسناد الأقسام'!$D$7:$D$78,التجميع!$B$17),INDEX('اسناد الأقسام'!G$7:G$78,SMALL(IF('اسناد الأقسام'!$D$7:$D$78=التجميع!$B$17,ROW('اسناد الأقسام'!$D$7:$D$78)-ROW('اسناد الأقسام'!$D$7)+1),ROW(6:6))),\"\")","v":""},{"$f":"IF(ROW(6:6)<=COUNTIF('اسناد الأقسام'!$D$7:$D$78,التجميع!$B$17),INDEX('اسناد الأقسام'!H$7:H$78,SMALL(IF('اسناد الأقسام'!$D$7:$D$78=التجميع!$B$17,ROW('اسناد الأقسام'!$D$7:$D$78)-ROW('اسناد الأقسام'!$D$7)+1),ROW(6:6))),\"\")","v":""},{"$f":"IF(ROW(6:6)<=COUNTIF('اسناد الأقسام'!$D$7:$D$78,التجميع!$B$17),INDEX('اسناد الأقسام'!I$7:I$78,SMALL(IF('اسناد الأقسام'!$D$7:$D$78=التجميع!$B$17,ROW('اسناد الأقسام'!$D$7:$D$78)-ROW('اسناد الأقسام'!$D$7)+1),ROW(6:6))),\"\")","v":""},{"$f":"IF(ROW(6:6)<=COUNTIF('اسناد الأقسام'!$D$7:$D$78,التجميع!$B$17),INDEX('اسناد الأقسام'!J$7:J$78,SMALL(IF('اسناد الأقسام'!$D$7:$D$78=التجميع!$B$17,ROW('اسناد الأقسام'!$D$7:$D$78)-ROW('اسناد الأقسام'!$D$7)+1),ROW(6:6))),\"\")","v":""},{"$f":"IF(ROW(6:6)<=COUNTIF('اسناد الأقسام'!$D$7:$D$78,التجميع!$B$17),INDEX('اسناد الأقسام'!K$7:K$78,SMALL(IF('اسناد الأقسام'!$D$7:$D$78=التجميع!$B$17,ROW('اسناد الأقسام'!$D$7:$D$78)-ROW('اسناد الأقسام'!$D$7)+1),ROW(6:6))),\"\")","v":""},{"$f":"IF(ROW(6:6)<=COUNTIF('اسناد الأقسام'!$D$7:$D$78,التجميع!$B$17),INDEX('اسناد الأقسام'!L$7:L$78,SMALL(IF('اسناد الأقسام'!$D$7:$D$78=التجميع!$B$17,ROW('اسناد الأقسام'!$D$7:$D$78)-ROW('اسناد الأقسام'!$D$7)+1),ROW(6:6))),\"\")","v":""},{"$f":"IF(ROW(6:6)<=COUNTIF('اسناد الأقسام'!$D$7:$D$78,التجميع!$B$17),INDEX('اسناد الأقسام'!M$7:M$78,SMALL(IF('اسناد الأقسام'!$D$7:$D$78=التجميع!$B$17,ROW('اسناد الأقسام'!$D$7:$D$78)-ROW('اسناد الأقسام'!$D$7)+1),ROW(6:6))),\"\")","v":""},{"$f":"IF(ROW(6:6)<=COUNTIF('اسناد الأقسام'!$D$7:$D$78,التجميع!$B$17),INDEX('اسناد الأقسام'!N$7:N$78,SMALL(IF('اسناد الأقسام'!$D$7:$D$78=التجميع!$B$17,ROW('اسناد الأقسام'!$D$7:$D$78)-ROW('اسناد الأقسام'!$D$7)+1),ROW(6:6))),\"\")","v":""},{"$f":"IF(ROW(6:6)<=COUNTIF('اسناد الأقسام'!$D$7:$D$78,التجميع!$B$17),INDEX('اسناد الأقسام'!O$7:O$78,SMALL(IF('اسناد الأقسام'!$D$7:$D$78=التجميع!$B$17,ROW('اسناد الأقسام'!$D$7:$D$78)-ROW('اسناد الأقسام'!$D$7)+1),ROW(6:6))),\"\")","v":""},{"$f":"IF(ROW(6:6)<=COUNTIF('اسناد الأقسام'!$D$7:$D$78,التجميع!$B$17),INDEX('اسناد الأقسام'!P$7:P$78,SMALL(IF('اسناد الأقسام'!$D$7:$D$78=التجميع!$B$17,ROW('اسناد الأقسام'!$D$7:$D$78)-ROW('اسناد الأقسام'!$D$7)+1),ROW(6:6))),\"\")","v":""},{"$f":"IF(ROW(6:6)<=COUNTIF('اسناد الأقسام'!$D$7:$D$78,التجميع!$B$17),INDEX('اسناد الأقسام'!Q$7:Q$78,SMALL(IF('اسناد الأقسام'!$D$7:$D$78=التجميع!$B$17,ROW('اسناد الأقسام'!$D$7:$D$78)-ROW('اسناد الأقسام'!$D$7)+1),ROW(6:6))),\"\")","v":""}]
[7,{"$f":"IF(ROW(7:7)<=COUNTIF('اسناد الأقسام'!$D$7:$D$78,التجميع!$B$17),INDEX('اسناد الأقسام'!C$7:C$78,SMALL(IF('اسناد الأقسام'!$D$7:$D$78=التجميع!$B$17,ROW('اسناد الأقسام'!$D$7:$D$78)-ROW('اسناد الأقسام'!$D$7)+1),ROW(7:7))),\"\")","v":""},{"$f":"IF(ROW(7:7)<=COUNTIF('اسناد الأقسام'!$D$7:$D$78,التجميع!$B$17),INDEX('اسناد الأقسام'!D$7:D$78,SMALL(IF('اسناد الأقسام'!$D$7:$D$78=التجميع!$B$17,ROW('اسناد الأقسام'!$D$7:$D$78)-ROW('اسناد الأقسام'!$D$7)+1),ROW(7:7))),\"\")","v":""},{"$f":"IF(ROW(7:7)<=COUNTIF('اسناد الأقسام'!$D$7:$D$78,التجميع!$B$17),INDEX('اسناد الأقسام'!E$7:E$78,SMALL(IF('اسناد الأقسام'!$D$7:$D$78=التجميع!$B$17,ROW('اسناد الأقسام'!$D$7:$D$78)-ROW('اسناد الأقسام'!$D$7)+1),ROW(7:7))),\"\")","v":""},{"$f":"IF(ROW(7:7)<=COUNTIF('اسناد الأقسام'!$D$7:$D$78,التجميع!$B$17),INDEX('اسناد الأقسام'!F$7:F$78,SMALL(IF('اسناد الأقسام'!$D$7:$D$78=التجميع!$B$17,ROW('اسناد الأقسام'!$D$7:$D$78)-ROW('اسناد الأقسام'!$D$7)+1),ROW(7:7))),\"\")","v":""},{"$f":"IF(ROW(7:7)<=COUNTIF('اسناد الأقسام'!$D$7:$D$78,التجميع!$B$17),INDEX('اسناد الأقسام'!G$7:G$78,SMALL(IF('اسناد الأقسام'!$D$7:$D$78=التجميع!$B$17,ROW('اسناد الأقسام'!$D$7:$D$78)-ROW('اسناد الأقسام'!$D$7)+1),ROW(7:7))),\"\")","v":""},{"$f":"IF(ROW(7:7)<=COUNTIF('اسناد الأقسام'!$D$7:$D$78,التجميع!$B$17),INDEX('اسناد الأقسام'!H$7:H$78,SMALL(IF('اسناد الأقسام'!$D$7:$D$78=التجميع!$B$17,ROW('اسناد الأقسام'!$D$7:$D$78)-ROW('اسناد الأقسام'!$D$7)+1),ROW(7:7))),\"\")","v":""},{"$f":"IF(ROW(7:7)<=COUNTIF('اسناد الأقسام'!$D$7:$D$78,التجميع!$B$17),INDEX('اسناد الأقسام'!I$7:I$78,SMALL(IF('اسناد الأقسام'!$D$7:$D$78=التجميع!$B$17,ROW('اسناد الأقسام'!$D$7:$D$78)-ROW('اسناد الأقسام'!$D$7)+1),ROW(7:7))),\"\")","v":""},{"$f":"IF(ROW(7:7)<=COUNTIF('اسناد الأقسام'!$D$7:$D$78,التجميع!$B$17),INDEX('اسناد الأقسام'!J$7:J$78,SMALL(IF('اسناد الأقسام'!$D$7:$D$78=التجميع!$B$17,ROW('اسناد الأقسام'!$D$7:$D$78)-ROW('اسناد الأقسام'!$D$7)+1),ROW(7:7))),\"\")","v":""},{"$f":"IF(ROW(7:7)<=COUNTIF('اسناد الأقسام'!$D$7:$D$78,التجميع!$B$17),INDEX('اسناد الأقسام'!K$7:K$78,SMALL(IF('اسناد الأقسام'!$D$7:$D$78=التجميع!$B$17,ROW('اسناد الأقسام'!$D$7:$D$78)-ROW('اسناد الأقسام'!$D$7)+1),ROW(7:7))),\"\")","v":""},{"$f":"IF(ROW(7:7)<=COUNTIF('اسناد الأقسام'!$D$7:$D$78,التجميع!$B$17),INDEX('اسناد الأقسام'!L$7:L$78,SMALL(IF('اسناد الأقسام'!$D$7:$D$78=التجميع!$B$17,ROW('اسناد الأقسام'!$D$7:$D$78)-ROW('اسناد الأقسام'!$D$7)+1),ROW(7:7))),\"\")","v":""},{"$f":"IF(ROW(7:7)<=COUNTIF('اسناد الأقسام'!$D$7:$D$78,التجميع!$B$17),INDEX('اسناد الأقسام'!M$7:M$78,SMALL(IF('اسناد الأقسام'!$D$7:$D$78=التجميع!$B$17,ROW('اسناد الأقسام'!$D$7:$D$78)-ROW('اسناد الأقسام'!$D$7)+1),ROW(7:7))),\"\")","v":""},{"$f":"IF(ROW(7:7)<=COUNTIF('اسناد الأقسام'!$D$7:$D$78,التجميع!$B$17),INDEX('اسناد الأقسام'!N$7:N$78,SMALL(IF('اسناد الأقسام'!$D$7:$D$78=التجميع!$B$17,ROW('اسناد الأقسام'!$D$7:$D$78)-ROW('اسناد الأقسام'!$D$7)+1),ROW(7:7))),\"\")","v":""},{"$f":"IF(ROW(7:7)<=COUNTIF('اسناد الأقسام'!$D$7:$D$78,التجميع!$B$17),INDEX('اسناد الأقسام'!O$7:O$78,SMALL(IF('اسناد الأقسام'!$D$7:$D$78=التجميع!$B$17,ROW('اسناد الأقسام'!$D$7:$D$78)-ROW('اسناد الأقسام'!$D$7)+1),ROW(7:7))),\"\")","v":""},{"$f":"IF(ROW(7:7)<=COUNTIF('اسناد الأقسام'!$D$7:$D$78,التجميع!$B$17),INDEX('اسناد الأقسام'!P$7:P$78,SMALL(IF('اسناد الأقسام'!$D$7:$D$78=التجميع!$B$17,ROW('اسناد الأقسام'!$D$7:$D$78)-ROW('اسناد الأقسام'!$D$7)+1),ROW(7:7))),\"\")","v":""},{"$f":"IF(ROW(7:7)<=COUNTIF('اسناد الأقسام'!$D$7:$D$78,التجميع!$B$17),INDEX('اسناد الأقسام'!Q$7:Q$78,SMALL(IF('اسناد الأقسام'!$D$7:$D$78=التجميع!$B$17,ROW('اسناد الأقسام'!$D$7:$D$78)-ROW('اسناد الأقسام'!$D$7)+1),ROW(7:7))),\"\")","v":""}]
[8,{"$f":"IF(ROW(8:8)<=COUNTIF('اسناد الأقسام'!$D$7:$D$78,التجميع!$B$17),INDEX('اسناد الأقسام'!C$7:C$78,SMALL(IF('اسناد الأقسام'!$D$7:$D$78=التجميع!$B$17,ROW('اسناد الأقسام'!$D$7:$D$78)-ROW('اسناد الأقسام'!$D$7)+1),ROW(8:8))),\"\")","v":""},{"$f":"IF(ROW(8:8)<=COUNTIF('اسناد الأقسام'!$D$7:$D$78,التجميع!$B$17),INDEX('اسناد الأقسام'!D$7:D$78,SMALL(IF('اسناد الأقسام'!$D$7:$D$78=التجميع!$B$17,ROW('اسناد الأقسام'!$D$7:$D$78)-ROW('اسناد الأقسام'!$D$7)+1),ROW(8:8))),\"\")","v":""},{"$f":"IF(ROW(8:8)<=COUNTIF('اسناد الأقسام'!$D$7:$D$78,التجميع!$B$17),INDEX('اسناد الأقسام'!E$7:E$78,SMALL(IF('اسناد الأقسام'!$D$7:$D$78=التجميع!$B$17,ROW('اسناد الأقسام'!$D$7:$D$78)-ROW('اسناد الأقسام'!$D$7)+1),ROW(8:8))),\"\")","v":""},{"$f":"IF(ROW(8:8)<=COUNTIF('اسناد الأقسام'!$D$7:$D$78,التجميع!$B$17),INDEX('اسناد الأقسام'!F$7:F$78,SMALL(IF('اسناد الأقسام'!$D$7:$D$78=التجميع!$B$17,ROW('اسناد الأقسام'!$D$7:$D$78)-ROW('اسناد الأقسام'!$D$7)+1),ROW(8:8))),\"\")","v":""},{"$f":"IF(ROW(8:8)<=COUNTIF('اسناد الأقسام'!$D$7:$D$78,التجميع!$B$17),INDEX('اسناد الأقسام'!G$7:G$78,SMALL(IF('اسناد الأقسام'!$D$7:$D$78=التجميع!$B$17,ROW('اسناد الأقسام'!$D$7:$D$78)-ROW('اسناد الأقسام'!$D$7)+1),ROW(8:8))),\"\")","v":""},{"$f":"IF(ROW(8:8)<=COUNTIF('اسناد الأقسام'!$D$7:$D$78,التجميع!$B$17),INDEX('اسناد الأقسام'!H$7:H$78,SMALL(IF('اسناد الأقسام'!$D$7:$D$78=التجميع!$B$17,ROW('اسناد الأقسام'!$D$7:$D$78)-ROW('اسناد الأقسام'!$D$7)+1),ROW(8:8))),\"\")","v":""},{"$f":"IF(ROW(8:8)<=COUNTIF('اسناد الأقسام'!$D$7:$D$78,التجميع!$B$17),INDEX('اسناد الأقسام'!I$7:I$78,SMALL(IF('اسناد الأقسام'!$D$7:$D$78=التجميع!$B$17,ROW('اسناد الأقسام'!$D$7:$D$78)-ROW('اسناد الأقسام'!$D$7)+1),ROW(8:8))),\"\")","v":""},{"$f":"IF(ROW(8:8)<=COUNTIF('اسناد الأقسام'!$D$7:$D$78,التجميع!$B$17),INDEX('اسناد الأقسام'!J$7:J$78,SMALL(IF('اسناد الأقسام'!$D$7:$D$78=التجميع!$B$17,ROW('اسناد الأقسام'!$D$7:$D$78)-ROW('اسناد الأقسام'!$D$7)+1),ROW(8:8))),\"\")","v":""},{"$f":"IF(ROW(8:8)<=COUNTIF('اسناد الأقسام'!$D$7:$D$78,التجميع!$B$17),INDEX('اسناد الأقسام'!K$7:K$78,SMALL(IF('اسناد الأقسام'!$D$7:$D$78=التجميع!$B$17,ROW('اسناد الأقسام'!$D$7:$D$78)-ROW('اسناد الأقسام'!$D$7)+1),ROW(8:8))),\"\")","v":""},{"$f":"IF(ROW(8:8)<=COUNTIF('اسناد الأقسام'!$D$7:$D$78,التجميع!$B$17),INDEX('اسناد الأقسام'!L$7:L$78,SMALL(IF('اسناد الأقسام'!$D$7:$D$78=التجميع!$B$17,ROW('اسناد الأقسام'!$D$7:$D$78)-ROW('اسناد الأقسام'!$D$7)+1),ROW(8:8))),\"\")","v":""},{"$f":"IF(ROW(8:8)<=COUNTIF('اسناد الأقسام'!$D$7:$D$78,التجميع!$B$17),INDEX('اسناد الأقسام'!M$7:M$78,SMALL(IF('اسناد الأقسام'!$D$7:$D$78=التجميع!$B$17,ROW('اسناد الأقسام'!$D$7:$D$78)-ROW('اسناد الأقسام'!$D$7)+1),ROW(8:8))),\"\")","v":""},{"$f":"IF(ROW(8:8)<=COUNTIF('اسناد الأقسام'!$D$7:$D$78,التجميع!$B$17),INDEX('اسناد الأقسام'!N$7:N$78,SMALL(IF('اسناد الأقسام'!$D$7:$D$78=التجميع!$B$17,ROW('اسناد الأقسام'!$D$7:$D$78)-ROW('اسناد الأقسام'!$D$7)+1),ROW(8:8))),\"\")","v":""},{"$f":"IF(ROW(8:8)<=COUNTIF('اسناد الأقسام'!$D$7:$D$78,التجميع!$B$17),INDEX('اسناد الأقسام'!O$7:O$78,SMALL(IF('اسناد الأقسام'!$D$7:$D$78=التجميع!$B$17,ROW('اسناد الأقسام'!$D$7:$D$78)-ROW('اسناد الأقسام'!$D$7)+1),ROW(8:8))),\"\")","v":""},{"$f":"IF(ROW(8:8)<=COUNTIF('اسناد الأقسام'!$D$7:$D$78,التجميع!$B$17),INDEX('اسناد الأقسام'!P$7:P$78,SMALL(IF('اسناد الأقسام'!$D$7:$D$78=التجميع!$B$17,ROW('اسناد الأقسام'!$D$7:$D$78)-ROW('اسناد الأقسام'!$D$7)+1),ROW(8:8))),\"\")","v":""},{"$f":"IF(ROW(8:8)<=COUNTIF('اسناد الأقسام'!$D$7:$D$78,التجميع!$B$17),INDEX('اسناد الأقسام'!Q$7:Q$78,SMALL(IF('اسناد الأقسام'!$D$7:$D$78=التجميع!$B$17,ROW('اسناد الأقسام'!$D$7:$D$78)-ROW('اسناد الأقسام'!$D$7)+1),ROW(8:8))),\"\")","v":""}]
[9,{"$f":"IF(ROW(9:9)<=COUNTIF('اسناد الأقسام'!$D$7:$D$78,التجميع!$B$17),INDEX('اسناد الأقسام'!C$7:C$78,SMALL(IF('اسناد الأقسام'!$D$7:$D$78=التجميع!$B$17,ROW('اسناد الأقسام'!$D$7:$D$78)-ROW('اسناد الأقسام'!$D$7)+1),ROW(9:9))),\"\")","v":""},{"$f":"IF(ROW(9:9)<=COUNTIF('اسناد الأقسام'!$D$7:$D$78,التجميع!$B$17),INDEX('اسناد الأقسام'!D$7:D$78,SMALL(IF('اسناد الأقسام'!$D$7:$D$78=التجميع!$B$17,ROW('اسناد الأقسام'!$D$7:$D$78)-ROW('اسناد الأقسام'!$D$7)+1),ROW(9:9))),\"\")","v":""},{"$f":"IF(ROW(9:9)<=COUNTIF('اسناد الأقسام'!$D$7:$D$78,التجميع!$B$17),INDEX('اسناد الأقسام'!E$7:E$78,SMALL(IF('اسناد الأقسام'!$D$7:$D$78=التجميع!$B$17,ROW('اسناد الأقسام'!$D$7:$D$78)-ROW('اسناد الأقسام'!$D$7)+1),ROW(9:9))),\"\")","v":""},{"$f":"IF(ROW(9:9)<=COUNTIF('اسناد الأقسام'!$D$7:$D$78,التجميع!$B$17),INDEX('اسناد الأقسام'!F$7:F$78,SMALL(IF('اسناد الأقسام'!$D$7:$D$78=التجميع!$B$17,ROW('اسناد الأقسام'!$D$7:$D$78)-ROW('اسناد الأقسام'!$D$7)+1),ROW(9:9))),\"\")","v":""},{"$f":"IF(ROW(9:9)<=COUNTIF('اسناد الأقسام'!$D$7:$D$78,التجميع!$B$17),INDEX('اسناد الأقسام'!G$7:G$78,SMALL(IF('اسناد الأقسام'!$D$7:$D$78=التجميع!$B$17,ROW('اسناد الأقسام'!$D$7:$D$78)-ROW('اسناد الأقسام'!$D$7)+1),ROW(9:9))),\"\")","v":""},{"$f":"IF(ROW(9:9)<=COUNTIF('اسناد الأقسام'!$D$7:$D$78,التجميع!$B$17),INDEX('اسناد الأقسام'!H$7:H$78,SMALL(IF('اسناد الأقسام'!$D$7:$D$78=التجميع!$B$17,ROW('اسناد الأقسام'!$D$7:$D$78)-ROW('اسناد الأقسام'!$D$7)+1),ROW(9:9))),\"\")","v":""},{"$f":"IF(ROW(9:9)<=COUNTIF('اسناد الأقسام'!$D$7:$D$78,التجميع!$B$17),INDEX('اسناد الأقسام'!I$7:I$78,SMALL(IF('اسناد الأقسام'!$D$7:$D$78=التجميع!$B$17,ROW('اسناد الأقسام'!$D$7:$D$78)-ROW('اسناد الأقسام'!$D$7)+1),ROW(9:9))),\"\")","v":""},{"$f":"IF(ROW(9:9)<=COUNTIF('اسناد الأقسام'!$D$7:$D$78,التجميع!$B$17),INDEX('اسناد الأقسام'!J$7:J$78,SMALL(IF('اسناد الأقسام'!$D$7:$D$78=التجميع!$B$17,ROW('اسناد الأقسام'!$D$7:$D$78)-ROW('اسناد الأقسام'!$D$7)+1),ROW(9:9))),\"\")","v":""},{"$f":"IF(ROW(9:9)<=COUNTIF('اسناد الأقسام'!$D$7:$D$78,التجميع!$B$17),INDEX('اسناد الأقسام'!K$7:K$78,SMALL(IF('اسناد الأقسام'!$D$7:$D$78=التجميع!$B$17,ROW('اسناد الأقسام'!$D$7:$D$78)-ROW('اسناد الأقسام'!$D$7)+1),ROW(9:9))),\"\")","v":""},{"$f":"IF(ROW(9:9)<=COUNTIF('اسناد الأقسام'!$D$7:$D$78,التجميع!$B$17),INDEX('اسناد الأقسام'!L$7:L$78,SMALL(IF('اسناد الأقسام'!$D$7:$D$78=التجميع!$B$17,ROW('اسناد الأقسام'!$D$7:$D$78)-ROW('اسناد الأقسام'!$D$7)+1),ROW(9:9))),\"\")","v":""},{"$f":"IF(ROW(9:9)<=COUNTIF('اسناد الأقسام'!$D$7:$D$78,التجميع!$B$17),INDEX('اسناد الأقسام'!M$7:M$78,SMALL(IF('اسناد الأقسام'!$D$7:$D$78=التجميع!$B$17,ROW('اسناد الأقسام'!$D$7:$D$78)-ROW('اسناد الأقسام'!$D$7)+1),ROW(9:9))),\"\")","v":""},{"$f":"IF(ROW(9:9)<=COUNTIF('اسناد الأقسام'!$D$7:$D$78,التجميع!$B$17),INDEX('اسناد الأقسام'!N$7:N$78,SMALL(IF('اسناد الأقسام'!$D$7:$D$78=التجميع!$B$17,ROW('اسناد الأقسام'!$D$7:$D$78)-ROW('اسناد الأقسام'!$D$7)+1),ROW(9:9))),\"\")","v":""},{"$f":"IF(ROW(9:9)<=COUNTIF('اسناد الأقسام'!$D$7:$D$78,التجميع!$B$17),INDEX('اسناد الأقسام'!O$7:O$78,SMALL(IF('اسناد الأقسام'!$D$7:$D$78=التجميع!$B$17,ROW('اسناد الأقسام'!$D$7:$D$78)-ROW('اسناد الأقسام'!$D$7)+1),ROW(9:9))),\"\")","v":""},{"$f":"IF(ROW(9:9)<=COUNTIF('اسناد الأقسام'!$D$7:$D$78,التجميع!$B$17),INDEX('اسناد الأقسام'!P$7:P$78,SMALL(IF('اسناد الأقسام'!$D$7:$D$78=التجميع!$B$17,ROW('اسناد الأقسام'!$D$7:$D$78)-ROW('اسناد الأقسام'!$D$7)+1),ROW(9:9))),\"\")","v":""},{"$f":"IF(ROW(9:9)<=COUNTIF('اسناد الأقسام'!$D$7:$D$78,التجميع!$B$17),INDEX('اسناد الأقسام'!Q$7:Q$78,SMALL(IF('اسناد الأقسام'!$D$7:$D$78=التجميع!$B$17,ROW('اسناد الأقسام'!$D$7:$D$78)-ROW('اسناد الأقسام'!$D$7)+1),ROW(9:9))),\"\")","v":""}]
[10,{"$f":"IF(ROW(10:10)<=COUNTIF('اسناد الأقسام'!$D$7:$D$78,التجميع!$B$17),INDEX('اسناد الأقسام'!C$7:C$78,SMALL(IF('اسناد الأقسام'!$D$7:$D$78=التجميع!$B$17,ROW('اسناد الأقسام'!$D$7:$D$78)-ROW('اسناد الأقسام'!$D$7)+1),ROW(10:10))),\"\")","v":""},{"$f":"IF(ROW(10:10)<=COUNTIF('اسناد الأقسام'!$D$7:$D$78,التجميع!$B$17),INDEX('اسناد الأقسام'!D$7:D$78,SMALL(IF('اسناد الأقسام'!$D$7:$D$78=التجميع!$B$17,ROW('اسناد الأقسام'!$D$7:$D$78)-ROW('اسناد الأقسام'!$D$7)+1),ROW(10:10))),\"\")","v":""},{"$f":"IF(ROW(10:10)<=COUNTIF('اسناد الأقسام'!$D$7:$D$78,التجميع!$B$17),INDEX('اسناد الأقسام'!E$7:E$78,SMALL(IF('اسناد الأقسام'!$D$7:$D$78=التجميع!$B$17,ROW('اسناد الأقسام'!$D$7:$D$78)-ROW('اسناد الأقسام'!$D$7)+1),ROW(10:10))),\"\")","v":""},{"$f":"IF(ROW(10:10)<=COUNTIF('اسناد الأقسام'!$D$7:$D$78,التجميع!$B$17),INDEX('اسناد الأقسام'!F$7:F$78,SMALL(IF('اسناد الأقسام'!$D$7:$D$78=التجميع!$B$17,ROW('اسناد الأقسام'!$D$7:$D$78)-ROW('اسناد الأقسام'!$D$7)+1),ROW(10:10))),\"\")","v":""},{"$f":"IF(ROW(10:10)<=COUNTIF('اسناد الأقسام'!$D$7:$D$78,التجميع!$B$17),INDEX('اسناد الأقسام'!G$7:G$78,SMALL(IF('اسناد الأقسام'!$D$7:$D$78=التجميع!$B$17,ROW('اسناد الأقسام'!$D$7:$D$78)-ROW('اسناد الأقسام'!$D$7)+1),ROW(10:10))),\"\")","v":""},{"$f":"IF(ROW(10:10)<=COUNTIF('اسناد الأقسام'!$D$7:$D$78,التجميع!$B$17),INDEX('اسناد الأقسام'!H$7:H$78,SMALL(IF('اسناد الأقسام'!$D$7:$D$78=التجميع!$B$17,ROW('اسناد الأقسام'!$D$7:$D$78)-ROW('اسناد الأقسام'!$D$7)+1),ROW(10:10))),\"\")","v":""},{"$f":"IF(ROW(10:10)<=COUNTIF('اسناد الأقسام'!$D$7:$D$78,التجميع!$B$17),INDEX('اسناد الأقسام'!I$7:I$78,SMALL(IF('اسناد الأقسام'!$D$7:$D$78=التجميع!$B$17,ROW('اسناد الأقسام'!$D$7:$D$78)-ROW('اسناد الأقسام'!$D$7)+1),ROW(10:10))),\"\")","v":""},{"$f":"IF(ROW(10:10)<=COUNTIF('اسناد الأقسام'!$D$7:$D$78,التجميع!$B$17),INDEX('اسناد الأقسام'!J$7:J$78,SMALL(IF('اسناد الأقسام'!$D$7:$D$78=التجميع!$B$17,ROW('اسناد الأقسام'!$D$7:$D$78)-ROW('اسناد الأقسام'!$D$7)+1),ROW(10:10))),\"\")","v":""},{"$f":"IF(ROW(10:10)<=COUNTIF('اسناد الأقسام'!$D$7:$D$78,التجميع!$B$17),INDEX('اسناد الأقسام'!K$7:K$78,SMALL(IF('اسناد الأقسام'!$D$7:$D$78=التجميع!$B$17,ROW('اسناد الأقسام'!$D$7:$D$78)-ROW('اسناد الأقسام'!$D$7)+1),ROW(10:10))),\"\")","v":""},{"$f":"IF(ROW(10:10)<=COUNTIF('اسناد الأقسام'!$D$7:$D$78,التجميع!$B$17),INDEX('اسناد الأقسام'!L$7:L$78,SMALL(IF('اسناد الأقسام'!$D$7:$D$78=التجميع!$B$17,ROW('اسناد الأقسام'!$D$7:$D$78)-ROW('اسناد الأقسام'!$D$7)+1),ROW(10:10))),\"\")","v":""},{"$f":"IF(ROW(10:10)<=COUNTIF('اسناد الأقسام'!$D$7:$D$78,التجميع!$B$17),INDEX('اسناد الأقسام'!M$7:M$78,SMALL(IF('اسناد الأقسام'!$D$7:$D$78=التجميع!$B$17,ROW('اسناد الأقسام'!$D$7:$D$78)-ROW('اسناد الأقسام'!$D$7)+1),ROW(10:10))),\"\")","v":""},{"$f":"IF(ROW(10:10)<=COUNTIF('اسناد الأقسام'!$D$7:$D$78,التجميع!$B$17),INDEX('اسناد الأقسام'!N$7:N$78,SMALL(IF('اسناد الأقسام'!$D$7:$D$78=التجميع!$B$17,ROW('اسناد الأقسام'!$D$7:$D$78)-ROW('اسناد الأقسام'!$D$7)+1),ROW(10:10))),\"\")","v":""},{"$f":"IF(ROW(10:10)<=COUNTIF('اسناد الأقسام'!$D$7:$D$78,التجميع!$B$17),INDEX('اسناد الأقسام'!O$7:O$78,SMALL(IF('اسناد الأقسام'!$D$7:$D$78=التجميع!$B$17,ROW('اسناد الأقسام'!$D$7:$D$78)-ROW('اسناد الأقسام'!$D$7)+1),ROW(10:10))),\"\")","v":""},{"$f":"IF(ROW(10:10)<=COUNTIF('اسناد الأقسام'!$D$7:$D$78,التجميع!$B$17),INDEX('اسناد الأقسام'!P$7:P$78,SMALL(IF('اسناد الأقسام'!$D$7:$D$78=التجميع!$B$17,ROW('اسناد الأقسام'!$D$7:$D$78)-ROW('اسناد الأقسام'!$D$7)+1),ROW(10:10))),\"\")","v":""},{"$f":"IF(ROW(10:10)<=COUNTIF('اسناد الأقسام'!$D$7:$D$78,التجميع!$B$17),INDEX('اسناد الأقسام'!Q$7:Q$78,SMALL(IF('اسناد الأقسام'!$D$7:$D$78=التجميع!$B$17,ROW('اسناد الأقسام'!$D$7:$D$78)-ROW('اسناد الأقسام'!$D$7)+1),ROW(10:10))),\"\")","v":""}]
[11,{"$f":"IF(ROW(11:11)<=COUNTIF('اسناد الأقسام'!$D$7:$D$78,التجميع!$B$17),INDEX('اسناد الأقسام'!C$7:C$78,SMALL(IF('اسناد الأقسام'!$D$7:$D$78=التجميع!$B$17,ROW('اسناد الأقسام'!$D$7:$D$78)-ROW('اسناد الأقسام'!$D$7)+1),ROW(11:11))),\"\")","v":""},{"$f":"IF(ROW(11:11)<=COUNTIF('اسناد الأقسام'!$D$7:$D$78,التجميع!$B$17),INDEX('اسناد الأقسام'!D$7:D$78,SMALL(IF('اسناد الأقسام'!$D$7:$D$78=التجميع!$B$17,ROW('اسناد الأقسام'!$D$7:$D$78)-ROW('اسناد الأقسام'!$D$7)+1),ROW(11:11))),\"\")","v":""},{"$f":"IF(ROW(11:11)<=COUNTIF('اسناد الأقسام'!$D$7:$D$78,التجميع!$B$17),INDEX('اسناد الأقسام'!E$7:E$78,SMALL(IF('اسناد الأقسام'!$D$7:$D$78=التجميع!$B$17,ROW('اسناد الأقسام'!$D$7:$D$78)-ROW('اسناد الأقسام'!$D$7)+1),ROW(11:11))),\"\")","v":""},{"$f":"IF(ROW(11:11)<=COUNTIF('اسناد الأقسام'!$D$7:$D$78,التجميع!$B$17),INDEX('اسناد الأقسام'!F$7:F$78,SMALL(IF('اسناد الأقسام'!$D$7:$D$78=التجميع!$B$17,ROW('اسناد الأقسام'!$D$7:$D$78)-ROW('اسناد الأقسام'!$D$7)+1),ROW(11:11))),\"\")","v":""},{"$f":"IF(ROW(11:11)<=COUNTIF('اسناد الأقسام'!$D$7:$D$78,التجميع!$B$17),INDEX('اسناد الأقسام'!G$7:G$78,SMALL(IF('اسناد الأقسام'!$D$7:$D$78=التجميع!$B$17,ROW('اسناد الأقسام'!$D$7:$D$78)-ROW('اسناد الأقسام'!$D$7)+1),ROW(11:11))),\"\")","v":""},{"$f":"IF(ROW(11:11)<=COUNTIF('اسناد الأقسام'!$D$7:$D$78,التجميع!$B$17),INDEX('اسناد الأقسام'!H$7:H$78,SMALL(IF('اسناد الأقسام'!$D$7:$D$78=التجميع!$B$17,ROW('اسناد الأقسام'!$D$7:$D$78)-ROW('اسناد الأقسام'!$D$7)+1),ROW(11:11))),\"\")","v":""},{"$f":"IF(ROW(11:11)<=COUNTIF('اسناد الأقسام'!$D$7:$D$78,التجميع!$B$17),INDEX('اسناد الأقسام'!I$7:I$78,SMALL(IF('اسناد الأقسام'!$D$7:$D$78=التجميع!$B$17,ROW('اسناد الأقسام'!$D$7:$D$78)-ROW('اسناد الأقسام'!$D$7)+1),ROW(11:11))),\"\")","v":""},{"$f":"IF(ROW(11:11)<=COUNTIF('اسناد الأقسام'!$D$7:$D$78,التجميع!$B$17),INDEX('اسناد الأقسام'!J$7:J$78,SMALL(IF('اسناد الأقسام'!$D$7:$D$78=التجميع!$B$17,ROW('اسناد الأقسام'!$D$7:$D$78)-ROW('اسناد الأقسام'!$D$7)+1),ROW(11:11))),\"\")","v":""},{"$f":"IF(ROW(11:11)<=COUNTIF('اسناد الأقسام'!$D$7:$D$78,التجميع!$B$17),INDEX('اسناد الأقسام'!K$7:K$78,SMALL(IF('اسناد الأقسام'!$D$7:$D$78=التجميع!$B$17,ROW('اسناد الأقسام'!$D$7:$D$78)-ROW('اسناد الأقسام'!$D$7)+1),ROW(11:11))),\"\")","v":""},{"$f":"IF(ROW(11:11)<=COUNTIF('اسناد الأقسام'!$D$7:$D$78,التجميع!$B$17),INDEX('اسناد الأقسام'!L$7:L$78,SMALL(IF('اسناد الأقسام'!$D$7:$D$78=التجميع!$B$17,ROW('اسناد الأقسام'!$D$7:$D$78)-ROW('اسناد الأقسام'!$D$7)+1),ROW(11:11))),\"\")","v":""},{"$f":"IF(ROW(11:11)<=COUNTIF('اسناد الأقسام'!$D$7:$D$78,التجميع!$B$17),INDEX('اسناد الأقسام'!M$7:M$78,SMALL(IF('اسناد الأقسام'!$D$7:$D$78=التجميع!$B$17,ROW('اسناد الأقسام'!$D$7:$D$78)-ROW('اسناد الأقسام'!$D$7)+1),ROW(11:11))),\"\")","v":""},{"$f":"IF(ROW(11:11)<=COUNTIF('اسناد الأقسام'!$D$7:$D$78,التجميع!$B$17),INDEX('اسناد الأقسام'!N$7:N$78,SMALL(IF('اسناد الأقسام'!$D$7:$D$78=التجميع!$B$17,ROW('اسناد الأقسام'!$D$7:$D$78)-ROW('اسناد الأقسام'!$D$7)+1),ROW(11:11))),\"\")","v":""},{"$f":"IF(ROW(11:11)<=COUNTIF('اسناد الأقسام'!$D$7:$D$78,التجميع!$B$17),INDEX('اسناد الأقسام'!O$7:O$78,SMALL(IF('اسناد الأقسام'!$D$7:$D$78=التجميع!$B$17,ROW('اسناد الأقسام'!$D$7:$D$78)-ROW('اسناد الأقسام'!$D$7)+1),ROW(11:11))),\"\")","v":""},{"$f":"IF(ROW(11:11)<=COUNTIF('اسناد الأقسام'!$D$7:$D$78,التجميع!$B$17),INDEX('اسناد الأقسام'!P$7:P$78,SMALL(IF('اسناد الأقسام'!$D$7:$D$78=التجميع!$B$17,ROW('اسناد الأقسام'!$D$7:$D$78)-ROW('اسناد الأقسام'!$D$7)+1),ROW(11:11))),\"\")","v":""},{"$f":"IF(ROW(11:11)<=COUNTIF('اسناد الأقسام'!$D$7:$D$78,التجميع!$B$17),INDEX('اسناد الأقسام'!Q$7:Q$78,SMALL(IF('اسناد الأقسام'!$D$7:$D$78=التجميع!$B$17,ROW('اسناد الأقسام'!$D$7:$D$78)-ROW('اسناد الأقسام'!$D$7)+1),ROW(11:11))),\"\")","v":""}]
[12,{"$f":"IF(ROW(12:12)<=COUNTIF('اسناد الأقسام'!$D$7:$D$78,التجميع!$B$17),INDEX('اسناد الأقسام'!C$7:C$78,SMALL(IF('اسناد الأقسام'!$D$7:$D$78=التجميع!$B$17,ROW('اسناد الأقسام'!$D$7:$D$78)-ROW('اسناد الأقسام'!$D$7)+1),ROW(12:12))),\"\")","v":""},{"$f":"IF(ROW(12:12)<=COUNTIF('اسناد الأقسام'!$D$7:$D$78,التجميع!$B$17),INDEX('اسناد الأقسام'!D$7:D$78,SMALL(IF('اسناد الأقسام'!$D$7:$D$78=التجميع!$B$17,ROW('اسناد الأقسام'!$D$7:$D$78)-ROW('اسناد الأقسام'!$D$7)+1),ROW(12:12))),\"\")","v":""},{"$f":"IF(ROW(12:12)<=COUNTIF('اسناد الأقسام'!$D$7:$D$78,التجميع!$B$17),INDEX('اسناد الأقسام'!E$7:E$78,SMALL(IF('اسناد الأقسام'!$D$7:$D$78=التجميع!$B$17,ROW('اسناد الأقسام'!$D$7:$D$78)-ROW('اسناد الأقسام'!$D$7)+1),ROW(12:12))),\"\")","v":""},{"$f":"IF(ROW(12:12)<=COUNTIF('اسناد الأقسام'!$D$7:$D$78,التجميع!$B$17),INDEX('اسناد الأقسام'!F$7:F$78,SMALL(IF('اسناد الأقسام'!$D$7:$D$78=التجميع!$B$17,ROW('اسناد الأقسام'!$D$7:$D$78)-ROW('اسناد الأقسام'!$D$7)+1),ROW(12:12))),\"\")","v":""},{"$f":"IF(ROW(12:12)<=COUNTIF('اسناد الأقسام'!$D$7:$D$78,التجميع!$B$17),INDEX('اسناد الأقسام'!G$7:G$78,SMALL(IF('اسناد الأقسام'!$D$7:$D$78=التجميع!$B$17,ROW('اسناد الأقسام'!$D$7:$D$78)-ROW('اسناد الأقسام'!$D$7)+1),ROW(12:12))),\"\")","v":""},{"$f":"IF(ROW(12:12)<=COUNTIF('اسناد الأقسام'!$D$7:$D$78,التجميع!$B$17),INDEX('اسناد الأقسام'!H$7:H$78,SMALL(IF('اسناد الأقسام'!$D$7:$D$78=التجميع!$B$17,ROW('اسناد الأقسام'!$D$7:$D$78)-ROW('اسناد الأقسام'!$D$7)+1),ROW(12:12))),\"\")","v":""},{"$f":"IF(ROW(12:12)<=COUNTIF('اسناد الأقسام'!$D$7:$D$78,التجميع!$B$17),INDEX('اسناد الأقسام'!I$7:I$78,SMALL(IF('اسناد الأقسام'!$D$7:$D$78=التجميع!$B$17,ROW('اسناد الأقسام'!$D$7:$D$78)-ROW('اسناد الأقسام'!$D$7)+1),ROW(12:12))),\"\")","v":""},{"$f":"IF(ROW(12:12)<=COUNTIF('اسناد الأقسام'!$D$7:$D$78,التجميع!$B$17),INDEX('اسناد الأقسام'!J$7:J$78,SMALL(IF('اسناد الأقسام'!$D$7:$D$78=التجميع!$B$17,ROW('اسناد الأقسام'!$D$7:$D$78)-ROW('اسناد الأقسام'!$D$7)+1),ROW(12:12))),\"\")","v":""},{"$f":"IF(ROW(12:12)<=COUNTIF('اسناد الأقسام'!$D$7:$D$78,التجميع!$B$17),INDEX('اسناد الأقسام'!K$7:K$78,SMALL(IF('اسناد الأقسام'!$D$7:$D$78=التجميع!$B$17,ROW('اسناد الأقسام'!$D$7:$D$78)-ROW('اسناد الأقسام'!$D$7)+1),ROW(12:12))),\"\")","v":""},{"$f":"IF(ROW(12:12)<=COUNTIF('اسناد الأقسام'!$D$7:$D$78,التجميع!$B$17),INDEX('اسناد الأقسام'!L$7:L$78,SMALL(IF('اسناد الأقسام'!$D$7:$D$78=التجميع!$B$17,ROW('اسناد الأقسام'!$D$7:$D$78)-ROW('اسناد الأقسام'!$D$7)+1),ROW(12:12))),\"\")","v":""},{"$f":"IF(ROW(12:12)<=COUNTIF('اسناد الأقسام'!$D$7:$D$78,التجميع!$B$17),INDEX('اسناد الأقسام'!M$7:M$78,SMALL(IF('اسناد الأقسام'!$D$7:$D$78=التجميع!$B$17,ROW('اسناد الأقسام'!$D$7:$D$78)-ROW('اسناد الأقسام'!$D$7)+1),ROW(12:12))),\"\")","v":""},{"$f":"IF(ROW(12:12)<=COUNTIF('اسناد الأقسام'!$D$7:$D$78,التجميع!$B$17),INDEX('اسناد الأقسام'!N$7:N$78,SMALL(IF('اسناد الأقسام'!$D$7:$D$78=التجميع!$B$17,ROW('اسناد الأقسام'!$D$7:$D$78)-ROW('اسناد الأقسام'!$D$7)+1),ROW(12:12))),\"\")","v":""},{"$f":"IF(ROW(12:12)<=COUNTIF('اسناد الأقسام'!$D$7:$D$78,التجميع!$B$17),INDEX('اسناد الأقسام'!O$7:O$78,SMALL(IF('اسناد الأقسام'!$D$7:$D$78=التجميع!$B$17,ROW('اسناد الأقسام'!$D$7:$D$78)-ROW('اسناد الأقسام'!$D$7)+1),ROW(12:12))),\"\")","v":""},{"$f":"IF(ROW(12:12)<=COUNTIF('اسناد الأقسام'!$D$7:$D$78,التجميع!$B$17),INDEX('اسناد الأقسام'!P$7:P$78,SMALL(IF('اسناد الأقسام'!$D$7:$D$78=التجميع!$B$17,ROW('اسناد الأقسام'!$D$7:$D$78)-ROW('اسناد الأقسام'!$D$7)+1),ROW(12:12))),\"\")","v":""},{"$f":"IF(ROW(12:12)<=COUNTIF('اسناد الأقسام'!$D$7:$D$78,التجميع!$B$17),INDEX('اسناد الأقسام'!Q$7:Q$78,SMALL(IF('اسناد الأقسام'!$D$7:$D$78=التجميع!$B$17,ROW('اسناد الأقسام'!$D$7:$D$78)-ROW('اسناد الأقسام'!$D$7)+1),ROW(12:12))),\"\")","v":""}]
[]
[null,"علوم ط"]
["الرقم","اللقب والاسم","المادة","تاريخ الميلاد","الصفة","أقصى درجة جامعية","تاريخ التعيين بالمؤسسة","الأقسام المسندة"]
[1,{"$f":"IF(ROW(1:1)<=COUNTIF('اسناد الأقسام'!$D$7:$D$78,التجميع!$B$32),INDEX('اسناد الأقسام'!C$7:C$78,SMALL(IF('اسناد الأقسام'!$D$7:$D$78=التجميع!$B$32,ROW('اسناد الأقسام'!$D$7:$D$78)-ROW('اسناد الأقسام'!$D$7)+1),ROW(1:1))),\"\")","v":"حطاب رشيدة "},{"$f":"IF(ROW(1:1)<=COUNTIF('اسناد الأقسام'!$D$7:$D$78,التجميع!$B$32),INDEX('اسناد الأقسام'!D$7:D$78,SMALL(IF('اسناد الأقسام'!$D$7:$D$78=التجميع!$B$32,ROW('اسناد الأقسام'!$D$7:$D$78)-ROW('اسناد الأقسام'!$D$7)+1),ROW(1:1))),\"\")","v":"علوم ط"},{"$f":"IF(ROW(1:1)<=COUNTIF('اسناد الأقسام'!$D$7:$D$78,التجميع!$B$32),INDEX('اسناد الأقسام'!E$7:E$78,SMALL(IF('اسناد الأقسام'!$D$7:$D$78=التجميع!$B$32,ROW('اسناد الأقسام'!$D$7:$D$78)-ROW('اسناد الأقسام'!$D$7)+1),ROW(1:1))),\"\")","v":"1978-12-07"},{"$f":"IF(ROW(1:1)<=COUNTIF('اسناد الأقسام'!$D$7:$D$78,التجميع!$B$32),INDEX('اسناد الأقسام'!F$7:F$78,SMALL(IF('اسناد الأقسام'!$D$7:$D$78=التجميع!$B$32,ROW('اسناد الأقسام'!$D$7:$D$78)-ROW('اسناد الأقسام'!$D$7)+1),ROW(1:1))),\"\")","v":"مرسمة"},{"$f":"IF(ROW(1:1)<=COUNTIF('اسناد الأقسام'!$D$7:$D$78,التجميع!$B$32),INDEX('اسناد الأقسام'!G$7:G$78,SMALL(IF('اسناد الأقسام'!$D$7:$D$78=التجميع!$B$32,ROW('اسناد الأقسام'!$D$7:$D$78)-ROW('اسناد الأقسام'!$D$7)+1),ROW(1:1))),\"\")","v":"ليسانس"},{"$f":"IF(ROW(1:1)<=COUNTIF('اسناد الأقسام'!$D$7:$D$78,التجميع!$B$32),INDEX('اسناد الأقسام'!H$7:H$78,SMALL(IF('اسناد الأقسام'!$D$7:$D$78=التجميع!$B$32,ROW('اسناد الأقسام'!$D$7:$D$78)-ROW('اسناد الأقسام'!$D$7)+1),ROW(1:1))),\"\")","v":"2013-11-20"},{"$f":"IF(ROW(1:1)<=COUNTIF('اسناد الأقسام'!$D$7:$D$78,التجميع!$B$32),INDEX('اسناد الأقسام'!I$7:I$78,SMALL(IF('اسناد الأقسام'!$D$7:$D$78=التجميع!$B$32,ROW('اسناد الأقسام'!$D$7:$D$78)-ROW('اسناد الأقسام'!$D$7)+1),ROW(1:1))),\"\")","v":"1م1"},{"$f":"IF(ROW(1:1)<=COUNTIF('اسناد الأقسام'!$D$7:$D$78,التجميع!$B$32),INDEX('اسناد الأقسام'!J$7:J$78,SMALL(IF('اسناد الأقسام'!$D$7:$D$78=التجميع!$B$32,ROW('اسناد الأقسام'!$D$7:$D$78)-ROW('اسناد الأقسام'!$D$7)+1),ROW(1:1))),\"\")","v":"1م2"},{"$f":"IF(ROW(1:1)<=COUNTIF('اسناد الأقسام'!$D$7:$D$78,التجميع!$B$32),INDEX('اسناد الأقسام'!K$7:K$78,SMALL(IF('اسناد الأقسام'!$D$7:$D$78=التجميع!$B$32,ROW('اسناد الأقسام'!$D$7:$D$78)-ROW('اسناد الأقسام'!$D$7)+1),ROW(1:1))),\"\")","v":"1م3"},{"$f":"IF(ROW(1:1)<=COUNTIF('اسناد الأقسام'!$D$7:$D$78,التجميع!$B$32),INDEX('اسناد الأقسام'!L$7:L$78,SMALL(IF('اسناد الأقسام'!$D$7:$D$78=التجميع!$B$32,ROW('اسناد الأقسام'!$D$7:$D$78)-ROW('اسناد الأقسام'!$D$7)+1),ROW(1:1))),\"\")","v":"3م1"},{"$f":"IF(ROW(1:1)<=COUNTIF('اسناد الأقسام'!$D$7:$D$78,التجميع!$B$32),INDEX('اسناد الأقسام'!M$7:M$78,SMALL(IF('اسناد الأقسام'!$D$7:$D$78=التجميع!$B$32,ROW('اسناد الأقسام'!$D$7:$D$78)-ROW('اسناد الأقسام'!$D$7)+1),ROW(1:1))),\"\")","v":"3م2"},{"$f":"IF(ROW(1:1)<=COUNTIF('اسناد الأقسام'!$D$7:$D$78,التجميع!$B$32),INDEX('اسناد الأقسام'!N$7:N$78,SMALL(IF('اسناد الأقسام'!$D$7:$D$78=التجميع!$B$32,ROW('اسناد الأقسام'!$D$7:$D$78)-ROW('اسناد الأقسام'!$D$7)+1),ROW(1:1))),\"\")","v":0},{"$f":"IF(ROW(1:1)<=COUNTIF('اسناد الأقسام'!$D$7:$D$78,التجميع!$B$32),INDEX('اسناد الأقسام'!O$7:O$78,SMALL(IF('اسناد الأقسام'!$D$7:$D$78=التجميع!$B$32,ROW('اسناد الأقسام'!$D$7:$D$78)-ROW('اسناد الأقسام'!$D$7)+1),ROW(1:1))),\"\")","v":0},{"$f":"IF(ROW(1:1)<=COUNTIF('اسناد الأقسام'!$D$7:$D$78,التجميع!$B$32),INDEX('اسناد الأقسام'!P$7:P$78,SMALL(IF('اسناد الأقسام'!$D$7:$D$78=التجميع!$B$32,ROW('اسناد الأقسام'!$D$7:$D$78)-ROW('اسناد الأقسام'!$D$7)+1),ROW(1:1))),\"\")","v":0},{"$f":"IF(ROW(1:1)<=COUNTIF('اسناد الأقسام'!$D$7:$D$78,التجميع!$B$32),INDEX('اسناد الأقسام'!Q$7:Q$78,SMALL(IF('اسناد الأقسام'!$D$7:$D$78=التجميع!$B$32,ROW('اسناد الأقسام'!$D$7:$D$78)-ROW('اسناد الأقسام'!$D$7)+1),ROW(1:1))),\"\")","v":0}]
[2,{"$f":"IF(ROW(2:2)<=COUNTIF('اسناد الأقسام'!$D$7:$D$78,التجميع!$B$32),INDEX('اسناد الأقسام'!C$7:C$78,SMALL(IF('اسناد الأقسام'!$D$7:$D$78=التجميع!$B$32,ROW('اسناد الأقسام'!$D$7:$D$78)-ROW('اسناد الأقسام'!$D$7)+1),ROW(2:2))),\"\")","v":"مجدوب طلحة "},{"$f":"IF(ROW(2:2)<=COUNTIF('اسناد الأقسام'!$D$7:$D$78,التجميع!$B$32),INDEX('اسناد الأقسام'!D$7:D$78,SMALL(IF('اسناد الأقسام'!$D$7:$D$78=التجميع!$B$32,ROW('اسناد الأقسام'!$D$7:$D$78)-ROW('اسناد الأقسام'!$D$7)+1),ROW(2:2))),\"\")","v":"علوم ط"},{"$f":"IF(ROW(2:2)<=COUNTIF('اسناد الأقسام'!$D$7:$D$78,التجميع!$B$32),INDEX('اسناد الأقسام'!E$7:E$78,SMALL(IF('اسناد الأقسام'!$D$7:$D$78=التجميع!$B$32,ROW('اسناد الأقسام'!$D$7:$D$78)-ROW('اسناد الأقسام'!$D$7)+1),ROW(2:2))),\"\")","v":"1987-08-03"},{"$f":"IF(ROW(2:2)<=COUNTIF('اسناد الأقسام'!$D$7:$D$78,التجميع!$B$32),INDEX('اسناد الأقسام'!F$7:F$78,SMALL(IF('اسناد الأقسام'!$D$7:$D$78=التجميع!$B$32,ROW('اسناد الأقسام'!$D$7:$D$78)-ROW('اسناد الأقسام'!$D$7)+1),ROW(2:2))),\"\")","v":"مرسمة"},{"$f":"IF(ROW(2:2)<=COUNTIF('اسناد الأقسام'!$D$7:$D$78,التجميع!$B$32),INDEX('اسناد الأقسام'!G$7:G$78,SMALL(IF('اسناد الأقسام'!$D$7:$D$78=التجميع!$B$32,ROW('اسناد الأقسام'!$D$7:$D$78)-ROW('اسناد الأقسام'!$D$7)+1),ROW(2:2))),\"\")","v":"ليسانس"},{"$f":"IF(ROW(2:2)<=COUNTIF('اسناد الأقسام'!$D$7:$D$78,التجميع!$B$32),INDEX('اسناد الأقسام'!H$7:H$78,SMALL(IF('اسناد الأقسام'!$D$7:$D$78=التجميع!$B$32,ROW('اسناد الأقسام'!$D$7:$D$78)-ROW('اسناد الأقسام'!$D$7)+1),ROW(2:2))),\"\")","v":"2011-11-20"},{"$f":"IF(ROW(2:2)<=COUNTIF('اسناد الأقسام'!$D$7:$D$78,التجميع!$B$32),INDEX('اسناد الأقسام'!I$7:I$78,SMALL(IF('اسناد الأقسام'!$D$7:$D$78=التجميع!$B$32,ROW('اسناد الأقسام'!$D$7:$D$78)-ROW('اسناد الأقسام'!$D$7)+1),ROW(2:2))),\"\")","v":"4م1"},{"$f":"IF(ROW(2:2)<=COUNTIF('اسناد الأقسام'!$D$7:$D$78,التجميع!$B$32),INDEX('اسناد الأقسام'!J$7:J$78,SMALL(IF('اسناد الأقسام'!$D$7:$D$78=التجميع!$B$32,ROW('اسناد الأقسام'!$D$7:$D$78)-ROW('اسناد الأقسام'!$D$7)+1),ROW(2:2))),\"\")","v":"4م2"},{"$f":"IF(ROW(2:2)<=COUNTIF('اسناد الأقسام'!$D$7:$D$78,التجميع!$B$32),INDEX('اسناد الأقسام'!K$7:K$78,SMALL(IF('اسناد الأقسام'!$D$7:$D$78=التجميع!$B$32,ROW('اسناد الأقسام'!$D$7:$D$78)-ROW('اسناد الأقسام'!$D$7)+1),ROW(2:2))),\"\")","v":"2م1"},{"$f":"IF(ROW(2:2)<=COUNTIF('اسناد الأقسام'!$D$7:$D$78,التجميع!$B$32),INDEX('اسناد الأقسام'!L$7:L$78,SMALL(IF('اسناد الأقسام'!$D$7:$D$78=التجميع!$B$32,ROW('اسناد الأقسام'!$D$7:$D$78)-ROW('اسناد الأقسام'!$D$7)+1),ROW(2:2))),\"\")","v":"2م2"},{"$f":"IF(ROW(2:2)<=COUNTIF('اسناد الأقسام'!$D$7:$D$78,التجميع!$B$32),INDEX('اسناد الأقسام'!M$7:M$78,SMALL(IF('اسناد الأقسام'!$D$7:$D$78=التجميع!$B$32,ROW('اسناد الأقسام'!$D$7:$D$78)-ROW('اسناد الأقسام'!$D$7)+1),ROW(2:2))),\"\")","v":"2م3"},{"$f":"IF(ROW(2:2)<=COUNTIF('اسناد الأقسام'!$D$7:$D$78,التجميع!$B$32),INDEX('اسناد الأقسام'!N$7:N$78,SMALL(IF('اسناد الأقسام'!$D$7:$D$78=التجميع!$B$32,ROW('اسناد الأقسام'!$D$7:$D$78)-ROW('اسناد الأقسام'!$D$7)+1),ROW(2:2))),\"\")","v":0},{"$f":"IF(ROW(2:2)<=COUNTIF('اسناد الأقسام'!$D$7:$D$78,التجميع!$B$32),INDEX('اسناد الأقسام'!O$7:O$78,SMALL(IF('اسناد الأقسام'!$D$7:$D$78=التجميع!$B$32,ROW('اسناد الأقسام'!$D$7:$D$78)-ROW('اسناد الأقسام'!$D$7)+1),ROW(2:2))),\"\")","v":0},{"$f":"IF(ROW(2:2)<=COUNTIF('اسناد الأقسام'!$D$7:$D$78,التجميع!$B$32),INDEX('اسناد الأقسام'!P$7:P$78,SMALL(IF('اسناد الأقسام'!$D$7:$D$78=التجميع!$B$32,ROW('اسناد الأقسام'!$D$7:$D$78)-ROW('اسناد الأقسام'!$D$7)+1),ROW(2:2))),\"\")","v":0},{"$f":"IF(ROW(2:2)<=COUNTIF('اسناد الأقسام'!$D$7:$D$78,التجميع!$B$32),INDEX('اسناد الأقسام'!Q$7:Q$78,SMALL(IF('اسناد الأقسام'!$D$7:$D$78=التجميع!$B$32,ROW('اسناد الأقسام'!$D$7:$D$78)-ROW('اسناد الأقسام'!$D$7)+1),ROW(2:2))),\"\")","v":0}]
[3,{"$f":"IF(ROW(3:3)<=COUNTIF('اسناد الأقسام'!$D$7:$D$78,التجميع!$B$32),INDEX('اسناد الأقسام'!C$7:C$78,SMALL(IF('اسناد الأقسام'!$D$7:$D$78=التجميع!$B$32,ROW('اسناد الأقسام'!$D$7:$D$78)-ROW('اسناد الأقسام'!$D$7)+1),ROW(3:3))),\"\")","v":""},{"$f":"IF(ROW(3:3)<=COUNTIF('اسناد الأقسام'!$D$7:$D$78,التجميع!$B$32),INDEX('اسناد الأقسام'!D$7:D$78,SMALL(IF('اسناد الأقسام'!$D$7:$D$78=التجميع!$B$32,ROW('اسناد الأقسام'!$D$7:$D$78)-ROW('اسناد الأقسام'!$D$7)+1),ROW(3:3))),\"\")","v":""},{"$f":"IF(ROW(3:3)<=COUNTIF('اسناد الأقسام'!$D$7:$D$78,التجميع!$B$32),INDEX('اسناد الأقسام'!E$7:E$78,SMALL(IF('اسناد الأقسام'!$D$7:$D$78=التجميع!$B$32,ROW('اسناد الأقسام'!$D$7:$D$78)-ROW('اسناد الأقسام'!$D$7)+1),ROW(3:3))),\"\")","v":""},{"$f":"IF(ROW(3:3)<=COUNTIF('اسناد الأقسام'!$D$7:$D$78,التجميع!$B$32),INDEX('اسناد الأقسام'!F$7:F$78,SMALL(IF('اسناد الأقسام'!$D$7:$D$78=التجميع!$B$32,ROW('اسناد الأقسام'!$D$7:$D$78)-ROW('اسناد الأقسام'!$D$7)+1),ROW(3:3))),\"\")","v":""},{"$f":"IF(ROW(3:3)<=COUNTIF('اسناد الأقسام'!$D$7:$D$78,التجميع!$B$32),INDEX('اسناد الأقسام'!G$7:G$78,SMALL(IF('اسناد الأقسام'!$D$7:$D$78=التجميع!$B$32,ROW('اسناد الأقسام'!$D$7:$D$78)-ROW('اسناد الأقسام'!$D$7)+1),ROW(3:3))),\"\")","v":""},{"$f":"IF(ROW(3:3)<=COUNTIF('اسناد الأقسام'!$D$7:$D$78,التجميع!$B$32),INDEX('اسناد الأقسام'!H$7:H$78,SMALL(IF('اسناد الأقسام'!$D$7:$D$78=التجميع!$B$32,ROW('اسناد الأقسام'!$D$7:$D$78)-ROW('اسناد الأقسام'!$D$7)+1),ROW(3:3))),\"\")","v":""},{"$f":"IF(ROW(3:3)<=COUNTIF('اسناد الأقسام'!$D$7:$D$78,التجميع!$B$32),INDEX('اسناد الأقسام'!I$7:I$78,SMALL(IF('اسناد الأقسام'!$D$7:$D$78=التجميع!$B$32,ROW('اسناد الأقسام'!$D$7:$D$78)-ROW('اسناد الأقسام'!$D$7)+1),ROW(3:3))),\"\")","v":""},{"$f":"IF(ROW(3:3)<=COUNTIF('اسناد الأقسام'!$D$7:$D$78,التجميع!$B$32),INDEX('اسناد الأقسام'!J$7:J$78,SMALL(IF('اسناد الأقسام'!$D$7:$D$78=التجميع!$B$32,ROW('اسناد الأقسام'!$D$7:$D$78)-ROW('اسناد الأقسام'!$D$7)+1),ROW(3:3))),\"\")","v":""},{"$f":"IF(ROW(3:3)<=COUNTIF('اسناد الأقسام'!$D$7:$D$78,التجميع!$B$32),INDEX('اسناد الأقسام'!K$7:K$78,SMALL(IF('اسناد الأقسام'!$D$7:$D$78=التجميع!$B$32,ROW('اسناد الأقسام'!$D$7:$D$78)-ROW('اسناد الأقسام'!$D$7)+1),ROW(3:3))),\"\")","v":""},{"$f":"IF(ROW(3:3)<=COUNTIF('اسناد الأقسام'!$D$7:$D$78,التجميع!$B$32),INDEX('اسناد الأقسام'!L$7:L$78,SMALL(IF('اسناد الأقسام'!$D$7:$D$78=التجميع!$B$32,ROW('اسناد الأقسام'!$D$7:$D$78)-ROW('اسناد الأقسام'!$D$7)+1),ROW(3:3))),\"\")","v":""},{"$f":"IF(ROW(3:3)<=COUNTIF('اسناد الأقسام'!$D$7:$D$78,التجميع!$B$32),INDEX('اسناد الأقسام'!M$7:M$78,SMALL(IF('اسناد الأقسام'!$D$7:$D$78=التجميع!$B$32,ROW('اسناد الأقسام'!$D$7:$D$78)-ROW('اسناد الأقسام'!$D$7)+1),ROW(3:3))),\"\")","v":""},{"$f":"IF(ROW(3:3)<=COUNTIF('اسناد الأقسام'!$D$7:$D$78,التجميع!$B$32),INDEX('اسناد الأقسام'!N$7:N$78,SMALL(IF('اسناد الأقسام'!$D$7:$D$78=التجميع!$B$32,ROW('اسناد الأقسام'!$D$7:$D$78)-ROW('اسناد الأقسام'!$D$7)+1),ROW(3:3))),\"\")","v":""},{"$f":"IF(ROW(3:3)<=COUNTIF('اسناد الأقسام'!$D$7:$D$78,التجميع!$B$32),INDEX('اسناد الأقسام'!O$7:O$78,SMALL(IF('اسناد الأقسام'!$D$7:$D$78=التجميع!$B$32,ROW('اسناد الأقسام'!$D$7:$D$78)-ROW('اسناد الأقسام'!$D$7)+1),ROW(3:3))),\"\")","v":""},{"$f":"IF(ROW(3:3)<=COUNTIF('اسناد الأقسام'!$D$7:$D$78,التجميع!$B$32),INDEX('اسناد الأقسام'!P$7:P$78,SMALL(IF('اسناد الأقسام'!$D$7:$D$78=التجميع!$B$32,ROW('اسناد الأقسام'!$D$7:$D$78)-ROW('اسناد الأقسام'!$D$7)+1),ROW(3:3))),\"\")","v":""},{"$f":"IF(ROW(3:3)<=COUNTIF('اسناد الأقسام'!$D$7:$D$78,التجميع!$B$32),INDEX('اسناد الأقسام'!Q$7:Q$78,SMALL(IF('اسناد الأقسام'!$D$7:$D$78=التجميع!$B$32,ROW('اسناد الأقسام'!$D$7:$D$78)-ROW('اسناد الأقسام'!$D$7)+1),ROW(3:3))),\"\")","v":""}]
[4,{"$f":"IF(ROW(4:4)<=COUNTIF('اسناد الأقسام'!$D$7:$D$78,التجميع!$B$32),INDEX('اسناد الأقسام'!C$7:C$78,SMALL(IF('اسناد الأقسام'!$D$7:$D$78=التجميع!$B$32,ROW('اسناد الأقسام'!$D$7:$D$78)-ROW('اسناد الأقسام'!$D$7)+1),ROW(4:4))),\"\")","v":""},{"$f":"IF(ROW(4:4)<=COUNTIF('اسناد الأقسام'!$D$7:$D$78,التجميع!$B$32),INDEX('اسناد الأقسام'!D$7:D$78,SMALL(IF('اسناد الأقسام'!$D$7:$D$78=التجميع!$B$32,ROW('اسناد الأقسام'!$D$7:$D$78)-ROW('اسناد الأقسام'!$D$7)+1),ROW(4:4))),\"\")","v":""},{"$f":"IF(ROW(4:4)<=COUNTIF('اسناد الأقسام'!$D$7:$D$78,التجميع!$B$32),INDEX('اسناد الأقسام'!E$7:E$78,SMALL(IF('اسناد الأقسام'!$D$7:$D$78=التجميع!$B$32,ROW('اسناد الأقسام'!$D$7:$D$78)-ROW('اسناد الأقسام'!$D$7)+1),ROW(4:4))),\"\")","v":""},{"$f":"IF(ROW(4:4)<=COUNTIF('اسناد الأقسام'!$D$7:$D$78,التجميع!$B$32),INDEX('اسناد الأقسام'!F$7:F$78,SMALL(IF('اسناد الأقسام'!$D$7:$D$78=التجميع!$B$32,ROW('اسناد الأقسام'!$D$7:$D$78)-ROW('اسناد الأقسام'!$D$7)+1),ROW(4:4))),\"\")","v":""},{"$f":"IF(ROW(4:4)<=COUNTIF('اسناد الأقسام'!$D$7:$D$78,التجميع!$B$32),INDEX('اسناد الأقسام'!G$7:G$78,SMALL(IF('اسناد الأقسام'!$D$7:$D$78=التجميع!$B$32,ROW('اسناد الأقسام'!$D$7:$D$78)-ROW('اسناد الأقسام'!$D$7)+1),ROW(4:4))),\"\")","v":""},{"$f":"IF(ROW(4:4)<=COUNTIF('اسناد الأقسام'!$D$7:$D$78,التجميع!$B$32),INDEX('اسناد الأقسام'!H$7:H$78,SMALL(IF('اسناد الأقسام'!$D$7:$D$78=التجميع!$B$32,ROW('اسناد الأقسام'!$D$7:$D$78)-ROW('اسناد الأقسام'!$D$7)+1),ROW(4:4))),\"\")","v":""},{"$f":"IF(ROW(4:4)<=COUNTIF('اسناد الأقسام'!$D$7:$D$78,التجميع!$B$32),INDEX('اسناد الأقسام'!I$7:I$78,SMALL(IF('اسناد الأقسام'!$D$7:$D$78=التجميع!$B$32,ROW('اسناد الأقسام'!$D$7:$D$78)-ROW('اسناد الأقسام'!$D$7)+1),ROW(4:4))),\"\")","v":""},{"$f":"IF(ROW(4:4)<=COUNTIF('اسناد الأقسام'!$D$7:$D$78,التجميع!$B$32),INDEX('اسناد الأقسام'!J$7:J$78,SMALL(IF('اسناد الأقسام'!$D$7:$D$78=التجميع!$B$32,ROW('اسناد الأقسام'!$D$7:$D$78)-ROW('اسناد الأقسام'!$D$7)+1),ROW(4:4))),\"\")","v":""},{"$f":"IF(ROW(4:4)<=COUNTIF('اسناد الأقسام'!$D$7:$D$78,التجميع!$B$32),INDEX('اسناد الأقسام'!K$7:K$78,SMALL(IF('اسناد الأقسام'!$D$7:$D$78=التجميع!$B$32,ROW('اسناد الأقسام'!$D$7:$D$78)-ROW('اسناد الأقسام'!$D$7)+1),ROW(4:4))),\"\")","v":""},{"$f":"IF(ROW(4:4)<=COUNTIF('اسناد الأقسام'!$D$7:$D$78,التجميع!$B$32),INDEX('اسناد الأقسام'!L$7:L$78,SMALL(IF('اسناد الأقسام'!$D$7:$D$78=التجميع!$B$32,ROW('اسناد الأقسام'!$D$7:$D$78)-ROW('اسناد الأقسام'!$D$7)+1),ROW(4:4))),\"\")","v":""},{"$f":"IF(ROW(4:4)<=COUNTIF('اسناد الأقسام'!$D$7:$D$78,التجميع!$B$32),INDEX('اسناد الأقسام'!M$7:M$78,SMALL(IF('اسناد الأقسام'!$D$7:$D$78=التجميع!$B$32,ROW('اسناد الأقسام'!$D$7:$D$78)-ROW('اسناد الأقسام'!$D$7)+1),ROW(4:4))),\"\")","v":""},{"$f":"IF(ROW(4:4)<=COUNTIF('اسناد الأقسام'!$D$7:$D$78,التجميع!$B$32),INDEX('اسناد الأقسام'!N$7:N$78,SMALL(IF('اسناد الأقسام'!$D$7:$D$78=التجميع!$B$32,ROW('اسناد الأقسام'!$D$7:$D$78)-ROW('اسناد الأقسام'!$D$7)+1),ROW(4:4))),\"\")","v":""},{"$f":"IF(ROW(4:4)<=COUNTIF('اسناد الأقسام'!$D$7:$D$78,التجميع!$B$32),INDEX('اسناد الأقسام'!O$7:O$78,SMALL(IF('اسناد الأقسام'!$D$7:$D$78=التجميع!$B$32,ROW('اسناد الأقسام'!$D$7:$D$78)-ROW('اسناد الأقسام'!$D$7)+1),ROW(4:4))),\"\")","v":""},{"$f":"IF(ROW(4:4)<=COUNTIF('اسناد الأقسام'!$D$7:$D$78,التجميع!$B$32),INDEX('اسناد الأقسام'!P$7:P$78,SMALL(IF('اسناد الأقسام'!$D$7:$D$78=التجميع!$B$32,ROW('اسناد الأقسام'!$D$7:$D$78)-ROW('اسناد الأقسام'!$D$7)+1),ROW(4:4))),\"\")","v":""},{"$f":"IF(ROW(4:4)<=COUNTIF('اسناد الأقسام'!$D$7:$D$78,التجميع!$B$32),INDEX('اسناد الأقسام'!Q$7:Q$78,SMALL(IF('اسناد الأقسام'!$D$7:$D$78=التجميع!$B$32,ROW('اسناد الأقسام'!$D$7:$D$78)-ROW('اسناد الأقسام'!$D$7)+1),ROW(4:4))),\"\")","v":""}]
[5,{"$f":"IF(ROW(5:5)<=COUNTIF('اسناد الأقسام'!$D$7:$D$78,التجميع!$B$32),INDEX('اسناد الأقسام'!C$7:C$78,SMALL(IF('اسناد الأقسام'!$D$7:$D$78=التجميع!$B$32,ROW('اسناد الأقسام'!$D$7:$D$78)-ROW('اسناد الأقسام'!$D$7)+1),ROW(5:5))),\"\")","v":""},{"$f":"IF(ROW(5:5)<=COUNTIF('اسناد الأقسام'!$D$7:$D$78,التجميع!$B$32),INDEX('اسناد الأقسام'!D$7:D$78,SMALL(IF('اسناد الأقسام'!$D$7:$D$78=التجميع!$B$32,ROW('اسناد الأقسام'!$D$7:$D$78)-ROW('اسناد الأقسام'!$D$7)+1),ROW(5:5))),\"\")","v":""},{"$f":"IF(ROW(5:5)<=COUNTIF('اسناد الأقسام'!$D$7:$D$78,التجميع!$B$32),INDEX('اسناد الأقسام'!E$7:E$78,SMALL(IF('اسناد الأقسام'!$D$7:$D$78=التجميع!$B$32,ROW('اسناد الأقسام'!$D$7:$D$78)-ROW('اسناد الأقسام'!$D$7)+1),ROW(5:5))),\"\")","v":""},{"$f":"IF(ROW(5:5)<=COUNTIF('اسناد الأقسام'!$D$7:$D$78,التجميع!$B$32),INDEX('اسناد الأقسام'!F$7:F$78,SMALL(IF('اسناد الأقسام'!$D$7:$D$78=التجميع!$B$32,ROW('اسناد الأقسام'!$D$7:$D$78)-ROW('اسناد الأقسام'!$D$7)+1),ROW(5:5))),\"\")","v":""},{"$f":"IF(ROW(5:5)<=COUNTIF('اسناد الأقسام'!$D$7:$D$78,التجميع!$B$32),INDEX('اسناد الأقسام'!G$7:G$78,SMALL(IF('اسناد الأقسام'!$D$7:$D$78=التجميع!$B$32,ROW('اسناد الأقسام'!$D$7:$D$78)-ROW('اسناد الأقسام'!$D$7)+1),ROW(5:5))),\"\")","v":""},{"$f":"IF(ROW(5:5)<=COUNTIF('اسناد الأقسام'!$D$7:$D$78,التجميع!$B$32),INDEX('اسناد الأقسام'!H$7:H$78,SMALL(IF('اسناد الأقسام'!$D$7:$D$78=التجميع!$B$32,ROW('اسناد الأقسام'!$D$7:$D$78)-ROW('اسناد الأقسام'!$D$7)+1),ROW(5:5))),\"\")","v":""},{"$f":"IF(ROW(5:5)<=COUNTIF('اسناد الأقسام'!$D$7:$D$78,التجميع!$B$32),INDEX('اسناد الأقسام'!I$7:I$78,SMALL(IF('اسناد الأقسام'!$D$7:$D$78=التجميع!$B$32,ROW('اسناد الأقسام'!$D$7:$D$78)-ROW('اسناد الأقسام'!$D$7)+1),ROW(5:5))),\"\")","v":""},{"$f":"IF(ROW(5:5)<=COUNTIF('اسناد الأقسام'!$D$7:$D$78,التجميع!$B$32),INDEX('اسناد الأقسام'!J$7:J$78,SMALL(IF('اسناد الأقسام'!$D$7:$D$78=التجميع!$B$32,ROW('اسناد الأقسام'!$D$7:$D$78)-ROW('اسناد الأقسام'!$D$7)+1),ROW(5:5))),\"\")","v":""},{"$f":"IF(ROW(5:5)<=COUNTIF('اسناد الأقسام'!$D$7:$D$78,التجميع!$B$32),INDEX('اسناد الأقسام'!K$7:K$78,SMALL(IF('اسناد الأقسام'!$D$7:$D$78=التجميع!$B$32,ROW('اسناد الأقسام'!$D$7:$D$78)-ROW('اسناد الأقسام'!$D$7)+1),ROW(5:5))),\"\")","v":""},{"$f":"IF(ROW(5:5)<=COUNTIF('اسناد الأقسام'!$D$7:$D$78,التجميع!$B$32),INDEX('اسناد الأقسام'!L$7:L$78,SMALL(IF('اسناد الأقسام'!$D$7:$D$78=التجميع!$B$32,ROW('اسناد الأقسام'!$D$7:$D$78)-ROW('اسناد الأقسام'!$D$7)+1),ROW(5:5))),\"\")","v":""},{"$f":"IF(ROW(5:5)<=COUNTIF('اسناد الأقسام'!$D$7:$D$78,التجميع!$B$32),INDEX('اسناد الأقسام'!M$7:M$78,SMALL(IF('اسناد الأقسام'!$D$7:$D$78=التجميع!$B$32,ROW('اسناد الأقسام'!$D$7:$D$78)-ROW('اسناد الأقسام'!$D$7)+1),ROW(5:5))),\"\")","v":""},{"$f":"IF(ROW(5:5)<=COUNTIF('اسناد الأقسام'!$D$7:$D$78,التجميع!$B$32),INDEX('اسناد الأقسام'!N$7:N$78,SMALL(IF('اسناد الأقسام'!$D$7:$D$78=التجميع!$B$32,ROW('اسناد الأقسام'!$D$7:$D$78)-ROW('اسناد الأقسام'!$D$7)+1),ROW(5:5))),\"\")","v":""},{"$f":"IF(ROW(5:5)<=COUNTIF('اسناد الأقسام'!$D$7:$D$78,التجميع!$B$32),INDEX('اسناد الأقسام'!O$7:O$78,SMALL(IF('اسناد الأقسام'!$D$7:$D$78=التجميع!$B$32,ROW('اسناد الأقسام'!$D$7:$D$78)-ROW('اسناد الأقسام'!$D$7)+1),ROW(5:5))),\"\")","v":""},{"$f":"IF(ROW(5:5)<=COUNTIF('اسناد الأقسام'!$D$7:$D$78,التجميع!$B$32),INDEX('اسناد الأقسام'!P$7:P$78,SMALL(IF('اسناد الأقسام'!$D$7:$D$78=التجميع!$B$32,ROW('اسناد الأقسام'!$D$7:$D$78)-ROW('اسناد الأقسام'!$D$7)+1),ROW(5:5))),\"\")","v":""},{"$f":"IF(ROW(5:5)<=COUNTIF('اسناد الأقسام'!$D$7:$D$78,التجميع!$B$32),INDEX('اسناد الأقسام'!Q$7:Q$78,SMALL(IF('اسناد الأقسام'!$D$7:$D$78=التجميع!$B$32,ROW('اسناد الأقسام'!$D$7:$D$78)-ROW('اسناد الأقسام'!$D$7)+1),ROW(5:5))),\"\")","v":""}]
[6,{"$f":"IF(ROW(6:6)<=COUNTIF('اسناد الأقسام'!$D$7:$D$78,التجميع!$B$32),INDEX('اسناد الأقسام'!C$7:C$78,SMALL(IF('اسناد الأقسام'!$D$7:$D$78=التجميع!$B$32,ROW('اسناد الأقسام'!$D$7:$D$78)-ROW('اسناد الأقسام'!$D$7)+1),ROW(6:6))),\"\")","v":""},{"$f":"IF(ROW(6:6)<=COUNTIF('اسناد الأقسام'!$D$7:$D$78,التجميع!$B$32),INDEX('اسناد الأقسام'!D$7:D$78,SMALL(IF('اسناد الأقسام'!$D$7:$D$78=التجميع!$B$32,ROW('اسناد الأقسام'!$D$7:$D$78)-ROW('اسناد الأقسام'!$D$7)+1),ROW(6:6))),\"\")","v":""},{"$f":"IF(ROW(6:6)<=COUNTIF('اسناد الأقسام'!$D$7:$D$78,التجميع!$B$32),INDEX('اسناد الأقسام'!E$7:E$78,SMALL(IF('اسناد الأقسام'!$D$7:$D$78=التجميع!$B$32,ROW('اسناد الأقسام'!$D$7:$D$78)-ROW('اسناد الأقسام'!$D$7)+1),ROW(6:6))),\"\")","v":""},{"$f":"IF(ROW(6:6)<=COUNTIF('اسناد الأقسام'!$D$7:$D$78,التجميع!$B$32),INDEX('اسناد الأقسام'!F$7:F$78,SMALL(IF('اسناد الأقسام'!$D$7:$D$78=التجميع!$B$32,ROW('اسناد الأقسام'!$D$7:$D$78)-ROW('اسناد الأقسام'!$D$7)+1),ROW(6:6))),\"\")","v":""},{"$f":"IF(ROW(6:6)<=COUNTIF('اسناد الأقسام'!$D$7:$D$78,التجميع!$B$32),INDEX('اسناد الأقسام'!G$7:G$78,SMALL(IF('اسناد الأقسام'!$D$7:$D$78=التجميع!$B$32,ROW('اسناد الأقسام'!$D$7:$D$78)-ROW('اسناد الأقسام'!$D$7)+1),ROW(6:6))),\"\")","v":""},{"$f":"IF(ROW(6:6)<=COUNTIF('اسناد الأقسام'!$D$7:$D$78,التجميع!$B$32),INDEX('اسناد الأقسام'!H$7:H$78,SMALL(IF('اسناد الأقسام'!$D$7:$D$78=التجميع!$B$32,ROW('اسناد الأقسام'!$D$7:$D$78)-ROW('اسناد الأقسام'!$D$7)+1),ROW(6:6))),\"\")","v":""},{"$f":"IF(ROW(6:6)<=COUNTIF('اسناد الأقسام'!$D$7:$D$78,التجميع!$B$32),INDEX('اسناد الأقسام'!I$7:I$78,SMALL(IF('اسناد الأقسام'!$D$7:$D$78=التجميع!$B$32,ROW('اسناد الأقسام'!$D$7:$D$78)-ROW('اسناد الأقسام'!$D$7)+1),ROW(6:6))),\"\")","v":""},{"$f":"IF(ROW(6:6)<=COUNTIF('اسناد الأقسام'!$D$7:$D$78,التجميع!$B$32),INDEX('اسناد الأقسام'!J$7:J$78,SMALL(IF('اسناد الأقسام'!$D$7:$D$78=التجميع!$B$32,ROW('اسناد الأقسام'!$D$7:$D$78)-ROW('اسناد الأقسام'!$D$7)+1),ROW(6:6))),\"\")","v":""},{"$f":"IF(ROW(6:6)<=COUNTIF('اسناد الأقسام'!$D$7:$D$78,التجميع!$B$32),INDEX('اسناد الأقسام'!K$7:K$78,SMALL(IF('اسناد الأقسام'!$D$7:$D$78=التجميع!$B$32,ROW('اسناد الأقسام'!$D$7:$D$78)-ROW('اسناد الأقسام'!$D$7)+1),ROW(6:6))),\"\")","v":""},{"$f":"IF(ROW(6:6)<=COUNTIF('اسناد الأقسام'!$D$7:$D$78,التجميع!$B$32),INDEX('اسناد الأقسام'!L$7:L$78,SMALL(IF('اسناد الأقسام'!$D$7:$D$78=التجميع!$B$32,ROW('اسناد الأقسام'!$D$7:$D$78)-ROW('اسناد الأقسام'!$D$7)+1),ROW(6:6))),\"\")","v":""},{"$f":"IF(ROW(6:6)<=COUNTIF('اسناد الأقسام'!$D$7:$D$78,التجميع!$B$32),INDEX('اسناد الأقسام'!M$7:M$78,SMALL(IF('اسناد الأقسام'!$D$7:$D$78=التجميع!$B$32,ROW('اسناد الأقسام'!$D$7:$D$78)-ROW('اسناد الأقسام'!$D$7)+1),ROW(6:6))),\"\")","v":""},{"$f":"IF(ROW(6:6)<=COUNTIF('اسناد الأقسام'!$D$7:$D$78,التجميع!$B$32),INDEX('اسناد الأقسام'!N$7:N$78,SMALL(IF('اسناد الأقسام'!$D$7:$D$78=التجميع!$B$32,ROW('اسناد الأقسام'!$D$7:$D$78)-ROW('اسناد الأقسام'!$D$7)+1),ROW(6:6))),\"\")","v":""},{"$f":"IF(ROW(6:6)<=COUNTIF('اسناد الأقسام'!$D$7:$D$78,التجميع!$B$32),INDEX('اسناد الأقسام'!O$7:O$78,SMALL(IF('اسناد الأقسام'!$D$7:$D$78=التجميع!$B$32,ROW('اسناد الأقسام'!$D$7:$D$78)-ROW('اسناد الأقسام'!$D$7)+1),ROW(6:6))),\"\")","v":""},{"$f":"IF(ROW(6:6)<=COUNTIF('اسناد الأقسام'!$D$7:$D$78,التجميع!$B$32),INDEX('اسناد الأقسام'!P$7:P$78,SMALL(IF('اسناد الأقسام'!$D$7:$D$78=التجميع!$B$32,ROW('اسناد الأقسام'!$D$7:$D$78)-ROW('اسناد الأقسام'!$D$7)+1),ROW(6:6))),\"\")","v":""},{"$f":"IF(ROW(6:6)<=COUNTIF('اسناد الأقسام'!$D$7:$D$78,التجميع!$B$32),INDEX('اسناد الأقسام'!Q$7:Q$78,SMALL(IF('اسناد الأقسام'!$D$7:$D$78=التجميع!$B$32,ROW('اسناد الأقسام'!$D$7:$D$78)-ROW('اسناد الأقسام'!$D$7)+1),ROW(6:6))),\"\")","v":""}]
[7,{"$f":"IF(ROW(7:7)<=COUNTIF('اسناد الأقسام'!$D$7:$D$78,التجميع!$B$32),INDEX('اسناد الأقسام'!C$7:C$78,SMALL(IF('اسناد الأقسام'!$D$7:$D$78=التجميع!$B$32,ROW('اسناد الأقسام'!$D$7:$D$78)-ROW('اسناد الأقسام'!$D$7)+1),ROW(7:7))),\"\")","v":""},{"$f":"IF(ROW(7:7)<=COUNTIF('اسناد الأقسام'!$D$7:$D$78,التجميع!$B$32),INDEX('اسناد الأقسام'!D$7:D$78,SMALL(IF('اسناد الأقسام'!$D$7:$D$78=التجميع!$B$32,ROW('اسناد الأقسام'!$D$7:$D$78)-ROW('اسناد الأقسام'!$D$7)+1),ROW(7:7))),\"\")","v":""},{"$f":"IF(ROW(7:7)<=COUNTIF('اسناد الأقسام'!$D$7:$D$78,التجميع!$B$32),INDEX('اسناد الأقسام'!E$7:E$78,SMALL(IF('اسناد الأقسام'!$D$7:$D$78=التجميع!$B$32,ROW('اسناد الأقسام'!$D$7:$D$78)-ROW('اسناد الأقسام'!$D$7)+1),ROW(7:7))),\"\")","v":""},{"$f":"IF(ROW(7:7)<=COUNTIF('اسناد الأقسام'!$D$7:$D$78,التجميع!$B$32),INDEX('اسناد الأقسام'!F$7:F$78,SMALL(IF('اسناد الأقسام'!$D$7:$D$78=التجميع!$B$32,ROW('اسناد الأقسام'!$D$7:$D$78)-ROW('اسناد الأقسام'!$D$7)+1),ROW(7:7))),\"\")","v":""},{"$f":"IF(ROW(7:7)<=COUNTIF('اسناد الأقسام'!$D$7:$D$78,التجميع!$B$32),INDEX('اسناد الأقسام'!G$7:G$78,SMALL(IF('اسناد الأقسام'!$D$7:$D$78=التجميع!$B$32,ROW('اسناد الأقسام'!$D$7:$D$78)-ROW('اسناد الأقسام'!$D$7)+1),ROW(7:7))),\"\")","v":""},{"$f":"IF(ROW(7:7)<=COUNTIF('اسناد الأقسام'!$D$7:$D$78,التجميع!$B$32),INDEX('اسناد الأقسام'!H$7:H$78,SMALL(IF('اسناد الأقسام'!$D$7:$D$78=التجميع!$B$32,ROW('اسناد الأقسام'!$D$7:$D$78)-ROW('اسناد الأقسام'!$D$7)+1),ROW(7:7))),\"\")","v":""},{"$f":"IF(ROW(7:7)<=COUNTIF('اسناد الأقسام'!$D$7:$D$78,التجميع!$B$32),INDEX('اسناد الأقسام'!I$7:I$78,SMALL(IF('اسناد الأقسام'!$D$7:$D$78=التجميع!$B$32,ROW('اسناد الأقسام'!$D$7:$D$78)-ROW('اسناد الأقسام'!$D$7)+1),ROW(7:7))),\"\")","v":""},{"$f":"IF(ROW(7:7)<=COUNTIF('اسناد الأقسام'!$D$7:$D$78,التجميع!$B$32),INDEX('اسناد الأقسام'!J$7:J$78,SMALL(IF('اسناد الأقسام'!$D$7:$D$78=التجميع!$B$32,ROW('اسناد الأقسام'!$D$7:$D$78)-ROW('اسناد الأقسام'!$D$7)+1),ROW(7:7))),\"\")","v":""},{"$f":"IF(ROW(7:7)<=COUNTIF('اسناد الأقسام'!$D$7:$D$78,التجميع!$B$32),INDEX('اسناد الأقسام'!K$7:K$78,SMALL(IF('اسناد الأقسام'!$D$7:$D$78=التجميع!$B$32,ROW('اسناد الأقسام'!$D$7:$D$78)-ROW('اسناد الأقسام'!$D$7)+1),ROW(7:7))),\"\")","v":""},{"$f":"IF(ROW(7:7)<=COUNTIF('اسناد الأقسام'!$D$7:$D$78,التجميع!$B$32),INDEX('اسناد الأقسام'!L$7:L$78,SMALL(IF('اسناد الأقسام'!$D$7:$D$78=التجميع!$B$32,ROW('اسناد الأقسام'!$D$7:$D$78)-ROW('اسناد الأقسام'!$D$7)+1),ROW(7:7))),\"\")","v":""},{"$f":"IF(ROW(7:7)<=COUNTIF('اسناد الأقسام'!$D$7:$D$78,التجميع!$B$32),INDEX('اسناد الأقسام'!M$7:M$78,SMALL(IF('اسناد الأقسام'!$D$7:$D$78=التجميع!$B$32,ROW('اسناد الأقسام'!$D$7:$D$78)-ROW('اسناد الأقسام'!$D$7)+1),ROW(7:7))),\"\")","v":""},{"$f":"IF(ROW(7:7)<=COUNTIF('اسناد الأقسام'!$D$7:$D$78,التجميع!$B$32),INDEX('اسناد الأقسام'!N$7:N$78,SMALL(IF('اسناد الأقسام'!$D$7:$D$78=التجميع!$B$32,ROW('اسناد الأقسام'!$D$7:$D$78)-ROW('اسناد الأقسام'!$D$7)+1),ROW(7:7))),\"\")","v":""},{"$f":"IF(ROW(7:7)<=COUNTIF('اسناد الأقسام'!$D$7:$D$78,التجميع!$B$32),INDEX('اسناد الأقسام'!O$7:O$78,SMALL(IF('اسناد الأقسام'!$D$7:$D$78=التجميع!$B$32,ROW('اسناد الأقسام'!$D$7:$D$78)-ROW('اسناد الأقسام'!$D$7)+1),ROW(7:7))),\"\")","v":""},{"$f":"IF(ROW(7:7)<=COUNTIF('اسناد الأقسام'!$D$7:$D$78,التجميع!$B$32),INDEX('اسناد الأقسام'!P$7:P$78,SMALL(IF('اسناد الأقسام'!$D$7:$D$78=التجميع!$B$32,ROW('اسناد الأقسام'!$D$7:$D$78)-ROW('اسناد الأقسام'!$D$7)+1),ROW(7:7))),\"\")","v":""},{"$f":"IF(ROW(7:7)<=COUNTIF('اسناد الأقسام'!$D$7:$D$78,التجميع!$B$32),INDEX('اسناد الأقسام'!Q$7:Q$78,SMALL(IF('اسناد الأقسام'!$D$7:$D$78=التجميع!$B$32,ROW('اسناد الأقسام'!$D$7:$D$78)-ROW('اسناد الأقسام'!$D$7)+1),ROW(7:7))),\"\")","v":""}]
[8,{"$f":"IF(ROW(8:8)<=COUNTIF('اسناد الأقسام'!$D$7:$D$78,التجميع!$B$32),INDEX('اسناد الأقسام'!C$7:C$78,SMALL(IF('اسناد الأقسام'!$D$7:$D$78=التجميع!$B$32,ROW('اسناد الأقسام'!$D$7:$D$78)-ROW('اسناد الأقسام'!$D$7)+1),ROW(8:8))),\"\")","v":""},{"$f":"IF(ROW(8:8)<=COUNTIF('اسناد الأقسام'!$D$7:$D$78,التجميع!$B$32),INDEX('اسناد الأقسام'!D$7:D$78,SMALL(IF('اسناد الأقسام'!$D$7:$D$78=التجميع!$B$32,ROW('اسناد الأقسام'!$D$7:$D$78)-ROW('اسناد الأقسام'!$D$7)+1),ROW(8:8))),\"\")","v":""},{"$f":"IF(ROW(8:8)<=COUNTIF('اسناد الأقسام'!$D$7:$D$78,التجميع!$B$32),INDEX('اسناد الأقسام'!E$7:E$78,SMALL(IF('اسناد الأقسام'!$D$7:$D$78=التجميع!$B$32,ROW('اسناد الأقسام'!$D$7:$D$78)-ROW('اسناد الأقسام'!$D$7)+1),ROW(8:8))),\"\")","v":""},{"$f":"IF(ROW(8:8)<=COUNTIF('اسناد الأقسام'!$D$7:$D$78,التجميع!$B$32),INDEX('اسناد الأقسام'!F$7:F$78,SMALL(IF('اسناد الأقسام'!$D$7:$D$78=التجميع!$B$32,ROW('اسناد الأقسام'!$D$7:$D$78)-ROW('اسناد الأقسام'!$D$7)+1),ROW(8:8))),\"\")","v":""},{"$f":"IF(ROW(8:8)<=COUNTIF('اسناد الأقسام'!$D$7:$D$78,التجميع!$B$32),INDEX('اسناد الأقسام'!G$7:G$78,SMALL(IF('اسناد الأقسام'!$D$7:$D$78=التجميع!$B$32,ROW('اسناد الأقسام'!$D$7:$D$78)-ROW('اسناد الأقسام'!$D$7)+1),ROW(8:8))),\"\")","v":""},{"$f":"IF(ROW(8:8)<=COUNTIF('اسناد الأقسام'!$D$7:$D$78,التجميع!$B$32),INDEX('اسناد الأقسام'!H$7:H$78,SMALL(IF('اسناد الأقسام'!$D$7:$D$78=التجميع!$B$32,ROW('اسناد الأقسام'!$D$7:$D$78)-ROW('اسناد الأقسام'!$D$7)+1),ROW(8:8))),\"\")","v":""},{"$f":"IF(ROW(8:8)<=COUNTIF('اسناد الأقسام'!$D$7:$D$78,التجميع!$B$32),INDEX('اسناد الأقسام'!I$7:I$78,SMALL(IF('اسناد الأقسام'!$D$7:$D$78=التجميع!$B$32,ROW('اسناد الأقسام'!$D$7:$D$78)-ROW('اسناد الأقسام'!$D$7)+1),ROW(8:8))),\"\")","v":""},{"$f":"IF(ROW(8:8)<=COUNTIF('اسناد الأقسام'!$D$7:$D$78,التجميع!$B$32),INDEX('اسناد الأقسام'!J$7:J$78,SMALL(IF('اسناد الأقسام'!$D$7:$D$78=التجميع!$B$32,ROW('اسناد الأقسام'!$D$7:$D$78)-ROW('اسناد الأقسام'!$D$7)+1),ROW(8:8))),\"\")","v":""},{"$f":"IF(ROW(8:8)<=COUNTIF('اسناد الأقسام'!$D$7:$D$78,التجميع!$B$32),INDEX('اسناد الأقسام'!K$7:K$78,SMALL(IF('اسناد الأقسام'!$D$7:$D$78=التجميع!$B$32,ROW('اسناد الأقسام'!$D$7:$D$78)-ROW('اسناد الأقسام'!$D$7)+1),ROW(8:8))),\"\")","v":""},{"$f":"IF(ROW(8:8)<=COUNTIF('اسناد الأقسام'!$D$7:$D$78,التجميع!$B$32),INDEX('اسناد الأقسام'!L$7:L$78,SMALL(IF('اسناد الأقسام'!$D$7:$D$78=التجميع!$B$32,ROW('اسناد الأقسام'!$D$7:$D$78)-ROW('اسناد الأقسام'!$D$7)+1),ROW(8:8))),\"\")","v":""},{"$f":"IF(ROW(8:8)<=COUNTIF('اسناد الأقسام'!$D$7:$D$78,التجميع!$B$32),INDEX('اسناد الأقسام'!M$7:M$78,SMALL(IF('اسناد الأقسام'!$D$7:$D$78=التجميع!$B$32,ROW('اسناد الأقسام'!$D$7:$D$78)-ROW('اسناد الأقسام'!$D$7)+1),ROW(8:8))),\"\")","v":""},{"$f":"IF(ROW(8:8)<=COUNTIF('اسناد الأقسام'!$D$7:$D$78,التجميع!$B$32),INDEX('اسناد الأقسام'!N$7:N$78,SMALL(IF('اسناد الأقسام'!$D$7:$D$78=التجميع!$B$32,ROW('اسناد الأقسام'!$D$7:$D$78)-ROW('اسناد الأقسام'!$D$7)+1),ROW(8:8))),\"\")","v":""},{"$f":"IF(ROW(8:8)<=COUNTIF('اسناد الأقسام'!$D$7:$D$78,التجميع!$B$32),INDEX('اسناد الأقسام'!O$7:O$78,SMALL(IF('اسناد الأقسام'!$D$7:$D$78=التجميع!$B$32,ROW('اسناد الأقسام'!$D$7:$D$78)-ROW('اسناد الأقسام'!$D$7)+1),ROW(8:8))),\"\")","v":""},{"$f":"IF(ROW(8:8)<=COUNTIF('اسناد الأقسام'!$D$7:$D$78,التجميع!$B$32),INDEX('اسناد الأقسام'!P$7:P$78,SMALL(IF('اسناد الأقسام'!$D$7:$D$78=التجميع!$B$32,ROW('اسناد الأقسام'!$D$7:$D$78)-ROW('اسناد الأقسام'!$D$7)+1),ROW(8:8))),\"\")","v":""},{"$f":"IF(ROW(8:8)<=COUNTIF('اسناد الأقسام'!$D$7:$D$78,التجميع!$B$32),INDEX('اسناد الأقسام'!Q$7:Q$78,SMALL(IF('اسناد الأقسام'!$D$7:$D$78=التجميع!$B$32,ROW('اسناد الأقسام'!$D$7:$D$78)-ROW('اسناد الأقسام'!$D$7)+1),ROW(8:8))),\"\")","v":""}]
[9,{"$f":"IF(ROW(9:9)<=COUNTIF('اسناد الأقسام'!$D$7:$D$78,التجميع!$B$32),INDEX('اسناد الأقسام'!C$7:C$78,SMALL(IF('اسناد الأقسام'!$D$7:$D$78=التجميع!$B$32,ROW('اسناد الأقسام'!$D$7:$D$78)-ROW('اسناد الأقسام'!$D$7)+1),ROW(9:9))),\"\")","v":""},{"$f":"IF(ROW(9:9)<=COUNTIF('اسناد الأقسام'!$D$7:$D$78,التجميع!$B$32),INDEX('اسناد الأقسام'!D$7:D$78,SMALL(IF('اسناد الأقسام'!$D$7:$D$78=التجميع!$B$32,ROW('اسناد الأقسام'!$D$7:$D$78)-ROW('اسناد الأقسام'!$D$7)+1),ROW(9:9))),\"\")","v":""},{"$f":"IF(ROW(9:9)<=COUNTIF('اسناد الأقسام'!$D$7:$D$78,التجميع!$B$32),INDEX('اسناد الأقسام'!E$7:E$78,SMALL(IF('اسناد الأقسام'!$D$7:$D$78=التجميع!$B$32,ROW('اسناد الأقسام'!$D$7:$D$78)-ROW('اسناد الأقسام'!$D$7)+1),ROW(9:9))),\"\")","v":""},{"$f":"IF(ROW(9:9)<=COUNTIF('اسناد الأقسام'!$D$7:$D$78,التجميع!$B$32),INDEX('اسناد الأقسام'!F$7:F$78,SMALL(IF('اسناد الأقسام'!$D$7:$D$78=التجميع!$B$32,ROW('اسناد الأقسام'!$D$7:$D$78)-ROW('اسناد الأقسام'!$D$7)+1),ROW(9:9))),\"\")","v":""},{"$f":"IF(ROW(9:9)<=COUNTIF('اسناد الأقسام'!$D$7:$D$78,التجميع!$B$32),INDEX('اسناد الأقسام'!G$7:G$78,SMALL(IF('اسناد الأقسام'!$D$7:$D$78=التجميع!$B$32,ROW('اسناد الأقسام'!$D$7:$D$78)-ROW('اسناد الأقسام'!$D$7)+1),ROW(9:9))),\"\")","v":""},{"$f":"IF(ROW(9:9)<=COUNTIF('اسناد الأقسام'!$D$7:$D$78,التجميع!$B$32),INDEX('اسناد الأقسام'!H$7:H$78,SMALL(IF('اسناد الأقسام'!$D$7:$D$78=التجميع!$B$32,ROW('اسناد الأقسام'!$D$7:$D$78)-ROW('اسناد الأقسام'!$D$7)+1),ROW(9:9))),\"\")","v":""},{"$f":"IF(ROW(9:9)<=COUNTIF('اسناد الأقسام'!$D$7:$D$78,التجميع!$B$32),INDEX('اسناد الأقسام'!I$7:I$78,SMALL(IF('اسناد الأقسام'!$D$7:$D$78=التجميع!$B$32,ROW('اسناد الأقسام'!$D$7:$D$78)-ROW('اسناد الأقسام'!$D$7)+1),ROW(9:9))),\"\")","v":""},{"$f":"IF(ROW(9:9)<=COUNTIF('اسناد الأقسام'!$D$7:$D$78,التجميع!$B$32),INDEX('اسناد الأقسام'!J$7:J$78,SMALL(IF('اسناد الأقسام'!$D$7:$D$78=التجميع!$B$32,ROW('اسناد الأقسام'!$D$7:$D$78)-ROW('اسناد الأقسام'!$D$7)+1),ROW(9:9))),\"\")","v":""},{"$f":"IF(ROW(9:9)<=COUNTIF('اسناد الأقسام'!$D$7:$D$78,التجميع!$B$32),INDEX('اسناد الأقسام'!K$7:K$78,SMALL(IF('اسناد الأقسام'!$D$7:$D$78=التجميع!$B$32,ROW('اسناد الأقسام'!$D$7:$D$78)-ROW('اسناد الأقسام'!$D$7)+1),ROW(9:9))),\"\")","v":""},{"$f":"IF(ROW(9:9)<=COUNTIF('اسناد الأقسام'!$D$7:$D$78,التجميع!$B$32),INDEX('اسناد الأقسام'!L$7:L$78,SMALL(IF('اسناد الأقسام'!$D$7:$D$78=التجميع!$B$32,ROW('اسناد الأقسام'!$D$7:$D$78)-ROW('اسناد الأقسام'!$D$7)+1),ROW(9:9))),\"\")","v":""},{"$f":"IF(ROW(9:9)<=COUNTIF('اسناد الأقسام'!$D$7:$D$78,التجميع!$B$32),INDEX('اسناد الأقسام'!M$7:M$78,SMALL(IF('اسناد الأقسام'!$D$7:$D$78=التجميع!$B$32,ROW('اسناد الأقسام'!$D$7:$D$78)-ROW('اسناد الأقسام'!$D$7)+1),ROW(9:9))),\"\")","v":""},{"$f":"IF(ROW(9:9)<=COUNTIF('اسناد الأقسام'!$D$7:$D$78,التجميع!$B$32),INDEX('اسناد الأقسام'!N$7:N$78,SMALL(IF('اسناد الأقسام'!$D$7:$D$78=التجميع!$B$32,ROW('اسناد الأقسام'!$D$7:$D$78)-ROW('اسناد الأقسام'!$D$7)+1),ROW(9:9))),\"\")","v":""},{"$f":"IF(ROW(9:9)<=COUNTIF('اسناد الأقسام'!$D$7:$D$78,التجميع!$B$32),INDEX('اسناد الأقسام'!O$7:O$78,SMALL(IF('اسناد الأقسام'!$D$7:$D$78=التجميع!$B$32,ROW('اسناد الأقسام'!$D$7:$D$78)-ROW('اسناد الأقسام'!$D$7)+1),ROW(9:9))),\"\")","v":""},{"$f":"IF(ROW(9:9)<=COUNTIF('اسناد الأقسام'!$D$7:$D$78,التجميع!$B$32),INDEX('اسناد الأقسام'!P$7:P$78,SMALL(IF('اسناد الأقسام'!$D$7:$D$78=التجميع!$B$32,ROW('اسناد الأقسام'!$D$7:$D$78)-ROW('اسناد الأقسام'!$D$7)+1),ROW(9:9))),\"\")","v":""},{"$f":"IF(ROW(9:9)<=COUNTIF('اسناد الأقسام'!$D$7:$D$78,التجميع!$B$32),INDEX('اسناد الأقسام'!Q$7:Q$78,SMALL(IF('اسناد الأقسام'!$D$7:$D$78=التجميع!$B$32,ROW('اسناد الأقسام'!$D$7:$D$78)-ROW('اسناد الأقسام'!$D$7)+1),ROW(9:9))),\"\")","v":""}]
[10,{"$f":"IF(ROW(10:10)<=COUNTIF('اسناد الأقسام'!$D$7:$D$78,التجميع!$B$32),INDEX('اسناد الأقسام'!C$7:C$78,SMALL(IF('اسناد الأقسام'!$D$7:$D$78=التجميع!$B$32,ROW('اسناد الأقسام'!$D$7:$D$78)-ROW('اسناد الأقسام'!$D$7)+1),ROW(10:10))),\"\")","v":""},{"$f":"IF(ROW(10:10)<=COUNTIF('اسناد الأقسام'!$D$7:$D$78,التجميع!$B$32),INDEX('اسناد الأقسام'!D$7:D$78,SMALL(IF('اسناد الأقسام'!$D$7:$D$78=التجميع!$B$32,ROW('اسناد الأقسام'!$D$7:$D$78)-ROW('اسناد الأقسام'!$D$7)+1),ROW(10:10))),\"\")","v":""},{"$f":"IF(ROW(10:10)<=COUNTIF('اسناد الأقسام'!$D$7:$D$78,التجميع!$B$32),INDEX('اسناد الأقسام'!E$7:E$78,SMALL(IF('اسناد الأقسام'!$D$7:$D$78=التجميع!$B$32,ROW('اسناد الأقسام'!$D$7:$D$78)-ROW('اسناد الأقسام'!$D$7)+1),ROW(10:10))),\"\")","v":""},{"$f":"IF(ROW(10:10)<=COUNTIF('اسناد الأقسام'!$D$7:$D$78,التجميع!$B$32),INDEX('اسناد الأقسام'!F$7:F$78,SMALL(IF('اسناد الأقسام'!$D$7:$D$78=التجميع!$B$32,ROW('اسناد الأقسام'!$D$7:$D$78)-ROW('اسناد الأقسام'!$D$7)+1),ROW(10:10))),\"\")","v":""},{"$f":"IF(ROW(10:10)<=COUNTIF('اسناد الأقسام'!$D$7:$D$78,التجميع!$B$32),INDEX('اسناد الأقسام'!G$7:G$78,SMALL(IF('اسناد الأقسام'!$D$7:$D$78=التجميع!$B$32,ROW('اسناد الأقسام'!$D$7:$D$78)-ROW('اسناد الأقسام'!$D$7)+1),ROW(10:10))),\"\")","v":""},{"$f":"IF(ROW(10:10)<=COUNTIF('اسناد الأقسام'!$D$7:$D$78,التجميع!$B$32),INDEX('اسناد الأقسام'!H$7:H$78,SMALL(IF('اسناد الأقسام'!$D$7:$D$78=التجميع!$B$32,ROW('اسناد الأقسام'!$D$7:$D$78)-ROW('اسناد الأقسام'!$D$7)+1),ROW(10:10))),\"\")","v":""},{"$f":"IF(ROW(10:10)<=COUNTIF('اسناد الأقسام'!$D$7:$D$78,التجميع!$B$32),INDEX('اسناد الأقسام'!I$7:I$78,SMALL(IF('اسناد الأقسام'!$D$7:$D$78=التجميع!$B$32,ROW('اسناد الأقسام'!$D$7:$D$78)-ROW('اسناد الأقسام'!$D$7)+1),ROW(10:10))),\"\")","v":""},{"$f":"IF(ROW(10:10)<=COUNTIF('اسناد الأقسام'!$D$7:$D$78,التجميع!$B$32),INDEX('اسناد الأقسام'!J$7:J$78,SMALL(IF('اسناد الأقسام'!$D$7:$D$78=التجميع!$B$32,ROW('اسناد الأقسام'!$D$7:$D$78)-ROW('اسناد الأقسام'!$D$7)+1),ROW(10:10))),\"\")","v":""},{"$f":"IF(ROW(10:10)<=COUNTIF('اسناد الأقسام'!$D$7:$D$78,التجميع!$B$32),INDEX('اسناد الأقسام'!K$7:K$78,SMALL(IF('اسناد الأقسام'!$D$7:$D$78=التجميع!$B$32,ROW('اسناد الأقسام'!$D$7:$D$78)-ROW('اسناد الأقسام'!$D$7)+1),ROW(10:10))),\"\")","v":""},{"$f":"IF(ROW(10:10)<=COUNTIF('اسناد الأقسام'!$D$7:$D$78,التجميع!$B$32),INDEX('اسناد الأقسام'!L$7:L$78,SMALL(IF('اسناد الأقسام'!$D$7:$D$78=التجميع!$B$32,ROW('اسناد الأقسام'!$D$7:$D$78)-ROW('اسناد الأقسام'!$D$7)+1),ROW(10:10))),\"\")","v":""},{"$f":"IF(ROW(10:10)<=COUNTIF('اسناد الأقسام'!$D$7:$D$78,التجميع!$B$32),INDEX('اسناد الأقسام'!M$7:M$78,SMALL(IF('اسناد الأقسام'!$D$7:$D$78=التجميع!$B$32,ROW('اسناد الأقسام'!$D$7:$D$78)-ROW('اسناد الأقسام'!$D$7)+1),ROW(10:10))),\"\")","v":""},{"$f":"IF(ROW(10:10)<=COUNTIF('اسناد الأقسام'!$D$7:$D$78,التجميع!$B$32),INDEX('اسناد الأقسام'!N$7:N$78,SMALL(IF('اسناد الأقسام'!$D$7:$D$78=التجميع!$B$32,ROW('اسناد الأقسام'!$D$7:$D$78)-ROW('اسناد الأقسام'!$D$7)+1),ROW(10:10))),\"\")","v":""},{"$f":"IF(ROW(10:10)<=COUNTIF('اسناد الأقسام'!$D$7:$D$78,التجميع!$B$32),INDEX('اسناد الأقسام'!O$7:O$78,SMALL(IF('اسناد الأقسام'!$D$7:$D$78=التجميع!$B$32,ROW('اسناد الأقسام'!$D$7:$D$78)-ROW('اسناد الأقسام'!$D$7)+1),ROW(10:10))),\"\")","v":""},{"$f":"IF(ROW(10:10)<=COUNTIF('اسناد الأقسام'!$D$7:$D$78,التجميع!$B$32),INDEX('اسناد الأقسام'!P$7:P$78,SMALL(IF('اسناد الأقسام'!$D$7:$D$78=التجميع!$B$32,ROW('اسناد الأقسام'!$D$7:$D$78)-ROW('اسناد الأقسام'!$D$7)+1),ROW(10:10))),\"\")","v":""},{"$f":"IF(ROW(10:10)<=COUNTIF('اسناد الأقسام'!$D$7:$D$78,التجميع!$B$32),INDEX('اسناد الأقسام'!Q$7:Q$78,SMALL(IF('اسناد الأقسام'!$D$7:$D$78=التجميع!$B$32,ROW('اسناد الأقسام'!$D$7:$D$78)-ROW('اسناد الأقسام'!$D$7)+1),ROW(10:10))),\"\")","v":""}]
[11,{"$f":"IF(ROW(11:11)<=COUNTIF('اسناد الأقسام'!$D$7:$D$78,التجميع!$B$32),INDEX('اسناد الأقسام'!C$7:C$78,SMALL(IF('اسناد الأقسام'!$D$7:$D$78=التجميع!$B$32,ROW('اسناد الأقسام'!$D$7:$D$78)-ROW('اسناد الأقسام'!$D$7)+1),ROW(11:11))),\"\")","v":""},{"$f":"IF(ROW(11:11)<=COUNTIF('اسناد الأقسام'!$D$7:$D$78,التجميع!$B$32),INDEX('اسناد الأقسام'!D$7:D$78,SMALL(IF('اسناد الأقسام'!$D$7:$D$78=التجميع!$B$32,ROW('اسناد الأقسام'!$D$7:$D$78)-ROW('اسناد الأقسام'!$D$7)+1),ROW(11:11))),\"\")","v":""},{"$f":"IF(ROW(11:11)<=COUNTIF('اسناد الأقسام'!$D$7:$D$78,التجميع!$B$32),INDEX('اسناد الأقسام'!E$7:E$78,SMALL(IF('اسناد الأقسام'!$D$7:$D$78=التجميع!$B$32,ROW('اسناد الأقسام'!$D$7:$D$78)-ROW('اسناد الأقسام'!$D$7)+1),ROW(11:11))),\"\")","v":""},{"$f":"IF(ROW(11:11)<=COUNTIF('اسناد الأقسام'!$D$7:$D$78,التجميع!$B$32),INDEX('اسناد الأقسام'!F$7:F$78,SMALL(IF('اسناد الأقسام'!$D$7:$D$78=التجميع!$B$32,ROW('اسناد الأقسام'!$D$7:$D$78)-ROW('اسناد الأقسام'!$D$7)+1),ROW(11:11))),\"\")","v":""},{"$f":"IF(ROW(11:11)<=COUNTIF('اسناد الأقسام'!$D$7:$D$78,التجميع!$B$32),INDEX('اسناد الأقسام'!G$7:G$78,SMALL(IF('اسناد الأقسام'!$D$7:$D$78=التجميع!$B$32,ROW('اسناد الأقسام'!$D$7:$D$78)-ROW('اسناد الأقسام'!$D$7)+1),ROW(11:11))),\"\")","v":""},{"$f":"IF(ROW(11:11)<=COUNTIF('اسناد الأقسام'!$D$7:$D$78,التجميع!$B$32),INDEX('اسناد الأقسام'!H$7:H$78,SMALL(IF('اسناد الأقسام'!$D$7:$D$78=التجميع!$B$32,ROW('اسناد الأقسام'!$D$7:$D$78)-ROW('اسناد الأقسام'!$D$7)+1),ROW(11:11))),\"\")","v":""},{"$f":"IF(ROW(11:11)<=COUNTIF('اسناد الأقسام'!$D$7:$D$78,التجميع!$B$32),INDEX('اسناد الأقسام'!I$7:I$78,SMALL(IF('اسناد الأقسام'!$D$7:$D$78=التجميع!$B$32,ROW('اسناد الأقسام'!$D$7:$D$78)-ROW('اسناد الأقسام'!$D$7)+1),ROW(11:11))),\"\")","v":""},{"$f":"IF(ROW(11:11)<=COUNTIF('اسناد الأقسام'!$D$7:$D$78,التجميع!$B$32),INDEX('اسناد الأقسام'!J$7:J$78,SMALL(IF('اسناد الأقسام'!$D$7:$D$78=التجميع!$B$32,ROW('اسناد الأقسام'!$D$7:$D$78)-ROW('اسناد الأقسام'!$D$7)+1),ROW(11:11))),\"\")","v":""},{"$f":"IF(ROW(11:11)<=COUNTIF('اسناد الأقسام'!$D$7:$D$78,التجميع!$B$32),INDEX('اسناد الأقسام'!K$7:K$78,SMALL(IF('اسناد الأقسام'!$D$7:$D$78=التجميع!$B$32,ROW('اسناد الأقسام'!$D$7:$D$78)-ROW('اسناد الأقسام'!$D$7)+1),ROW(11:11))),\"\")","v":""},{"$f":"IF(ROW(11:11)<=COUNTIF('اسناد الأقسام'!$D$7:$D$78,التجميع!$B$32),INDEX('اسناد الأقسام'!L$7:L$78,SMALL(IF('اسناد الأقسام'!$D$7:$D$78=التجميع!$B$32,ROW('اسناد الأقسام'!$D$7:$D$78)-ROW('اسناد الأقسام'!$D$7)+1),ROW(11:11))),\"\")","v":""},{"$f":"IF(ROW(11:11)<=COUNTIF('اسناد الأقسام'!$D$7:$D$78,التجميع!$B$32),INDEX('اسناد الأقسام'!M$7:M$78,SMALL(IF('اسناد الأقسام'!$D$7:$D$78=التجميع!$B$32,ROW('اسناد الأقسام'!$D$7:$D$78)-ROW('اسناد الأقسام'!$D$7)+1),ROW(11:11))),\"\")","v":""},{"$f":"IF(ROW(11:11)<=COUNTIF('اسناد الأقسام'!$D$7:$D$78,التجميع!$B$32),INDEX('اسناد الأقسام'!N$7:N$78,SMALL(IF('اسناد الأقسام'!$D$7:$D$78=التجميع!$B$32,ROW('اسناد الأقسام'!$D$7:$D$78)-ROW('اسناد الأقسام'!$D$7)+1),ROW(11:11))),\"\")","v":""},{"$f":"IF(ROW(11:11)<=COUNTIF('اسناد الأقسام'!$D$7:$D$78,التجميع!$B$32),INDEX('اسناد الأقسام'!O$7:O$78,SMALL(IF('اسناد الأقسام'!$D$7:$D$78=التجميع!$B$32,ROW('اسناد الأقسام'!$D$7:$D$78)-ROW('اسناد الأقسام'!$D$7)+1),ROW(11:11))),\"\")","v":""},{"$f":"IF(ROW(11:11)<=COUNTIF('اسناد الأقسام'!$D$7:$D$78,التجميع!$B$32),INDEX('اسناد الأقسام'!P$7:P$78,SMALL(IF('اسناد الأقسام'!$D$7:$D$78=التجميع!$B$32,ROW('اسناد الأقسام'!$D$7:$D$78)-ROW('اسناد الأقسام'!$D$7)+1),ROW(11:11))),\"\")","v":""},{"$f":"IF(ROW(11:11)<=COUNTIF('اسناد الأقسام'!$D$7:$D$78,التجميع!$B$32),INDEX('اسناد الأقسام'!Q$7:Q$78,SMALL(IF('اسناد الأقسام'!$D$7:$D$78=التجميع!$B$32,ROW('اسناد الأقسام'!$D$7:$D$78)-ROW('اسناد الأقسام'!$D$7)+1),ROW(11:11))),\"\")","v":""}]
[12,{"$f":"IF(ROW(12:12)<=COUNTIF('اسناد الأقسام'!$D$7:$D$78,التجميع!$B$32),INDEX('اسناد الأقسام'!C$7:C$78,SMALL(IF('اسناد الأقسام'!$D$7:$D$78=التجميع!$B$32,ROW('اسناد الأقسام'!$D$7:$D$78)-ROW('اسناد الأقسام'!$D$7)+1),ROW(12:12))),\"\")","v":""},{"$f":"IF(ROW(12:12)<=COUNTIF('اسناد الأقسام'!$D$7:$D$78,التجميع!$B$32),INDEX('اسناد الأقسام'!D$7:D$78,SMALL(IF('اسناد الأقسام'!$D$7:$D$78=التجميع!$B$32,ROW('اسناد الأقسام'!$D$7:$D$78)-ROW('اسناد الأقسام'!$D$7)+1),ROW(12:12))),\"\")","v":""},{"$f":"IF(ROW(12:12)<=COUNTIF('اسناد الأقسام'!$D$7:$D$78,التجميع!$B$32),INDEX('اسناد الأقسام'!E$7:E$78,SMALL(IF('اسناد الأقسام'!$D$7:$D$78=التجميع!$B$32,ROW('اسناد الأقسام'!$D$7:$D$78)-ROW('اسناد الأقسام'!$D$7)+1),ROW(12:12))),\"\")","v":""},{"$f":"IF(ROW(12:12)<=COUNTIF('اسناد الأقسام'!$D$7:$D$78,التجميع!$B$32),INDEX('اسناد الأقسام'!F$7:F$78,SMALL(IF('اسناد الأقسام'!$D$7:$D$78=التجميع!$B$32,ROW('اسناد الأقسام'!$D$7:$D$78)-ROW('اسناد الأقسام'!$D$7)+1),ROW(12:12))),\"\")","v":""},{"$f":"IF(ROW(12:12)<=COUNTIF('اسناد الأقسام'!$D$7:$D$78,التجميع!$B$32),INDEX('اسناد الأقسام'!G$7:G$78,SMALL(IF('اسناد الأقسام'!$D$7:$D$78=التجميع!$B$32,ROW('اسناد الأقسام'!$D$7:$D$78)-ROW('اسناد الأقسام'!$D$7)+1),ROW(12:12))),\"\")","v":""},{"$f":"IF(ROW(12:12)<=COUNTIF('اسناد الأقسام'!$D$7:$D$78,التجميع!$B$32),INDEX('اسناد الأقسام'!H$7:H$78,SMALL(IF('اسناد الأقسام'!$D$7:$D$78=التجميع!$B$32,ROW('اسناد الأقسام'!$D$7:$D$78)-ROW('اسناد الأقسام'!$D$7)+1),ROW(12:12))),\"\")","v":""},{"$f":"IF(ROW(12:12)<=COUNTIF('اسناد الأقسام'!$D$7:$D$78,التجميع!$B$32),INDEX('اسناد الأقسام'!I$7:I$78,SMALL(IF('اسناد الأقسام'!$D$7:$D$78=التجميع!$B$32,ROW('اسناد الأقسام'!$D$7:$D$78)-ROW('اسناد الأقسام'!$D$7)+1),ROW(12:12))),\"\")","v":""},{"$f":"IF(ROW(12:12)<=COUNTIF('اسناد الأقسام'!$D$7:$D$78,التجميع!$B$32),INDEX('اسناد الأقسام'!J$7:J$78,SMALL(IF('اسناد الأقسام'!$D$7:$D$78=التجميع!$B$32,ROW('اسناد الأقسام'!$D$7:$D$78)-ROW('اسناد الأقسام'!$D$7)+1),ROW(12:12))),\"\")","v":""},{"$f":"IF(ROW(12:12)<=COUNTIF('اسناد الأقسام'!$D$7:$D$78,التجميع!$B$32),INDEX('اسناد الأقسام'!K$7:K$78,SMALL(IF('اسناد الأقسام'!$D$7:$D$78=التجميع!$B$32,ROW('اسناد الأقسام'!$D$7:$D$78)-ROW('اسناد الأقسام'!$D$7)+1),ROW(12:12))),\"\")","v":""},{"$f":"IF(ROW(12:12)<=COUNTIF('اسناد الأقسام'!$D$7:$D$78,التجميع!$B$32),INDEX('اسناد الأقسام'!L$7:L$78,SMALL(IF('اسناد الأقسام'!$D$7:$D$78=التجميع!$B$32,ROW('اسناد الأقسام'!$D$7:$D$78)-ROW('اسناد الأقسام'!$D$7)+1),ROW(12:12))),\"\")","v":""},{"$f":"IF(ROW(12:12)<=COUNTIF('اسناد الأقسام'!$D$7:$D$78,التجميع!$B$32),INDEX('اسناد الأقسام'!M$7:M$78,SMALL(IF('اسناد الأقسام'!$D$7:$D$78=التجميع!$B$32,ROW('اسناد الأقسام'!$D$7:$D$78)-ROW('اسناد الأقسام'!$D$7)+1),ROW(12:12))),\"\")","v":""},{"$f":"IF(ROW(12:12)<=COUNTIF('اسناد الأقسام'!$D$7:$D$78,التجميع!$B$32),INDEX('اسناد الأقسام'!N$7:N$78,SMALL(IF('اسناد الأقسام'!$D$7:$D$78=التجميع!$B$32,ROW('اسناد الأقسام'!$D$7:$D$78)-ROW('اسناد الأقسام'!$D$7)+1),ROW(12:12))),\"\")","v":""},{"$f":"IF(ROW(12:12)<=COUNTIF('اسناد الأقسام'!$D$7:$D$78,التجميع!$B$32),INDEX('اسناد الأقسام'!O$7:O$78,SMALL(IF('اسناد الأقسام'!$D$7:$D$78=التجميع!$B$32,ROW('اسناد الأقسام'!$D$7:$D$78)-ROW('اسناد الأقسام'!$D$7)+1),ROW(12:12))),\"\")","v":""},{"$f":"IF(ROW(12:12)<=COUNTIF('اسناد الأقسام'!$D$7:$D$78,التجميع!$B$32),INDEX('اسناد الأقسام'!P$7:P$78,SMALL(IF('اسناد الأقسام'!$D$7:$D$78=التجميع!$B$32,ROW('اسناد الأقسام'!$D$7:$D$78)-ROW('اسناد الأقسام'!$D$7)+1),ROW(12:12))),\"\")","v":""},{"$f":"IF(ROW(12:12)<=COUNTIF('اسناد الأقسام'!$D$7:$D$78,التجميع!$B$32),INDEX('اسناد الأقسام'!Q$7:Q$78,SMALL(IF('اسناد الأقسام'!$D$7:$D$78=التجميع!$B$32,ROW('اسناد الأقسام'!$D$7:$D$78)-ROW('اسناد الأقسام'!$D$7)+1),ROW(12:12))),\"\")","v":""}]
[]
[null,"عربية"]
["الرقم","اللقب والاسم","المادة","تاريخ الميلاد","الصفة","أقصى درجة جامعية","تاريخ التعيين بالمؤسسة","الأقسام المسندة"]
[1,{"$f":"IF(ROW(1:1)<=COUNTIF('اسناد الأقسام'!$D$7:$D$78,التجميع!$B$47),INDEX('اسناد الأقسام'!C$7:C$78,SMALL(IF('اسناد الأقسام'!$D$7:$D$78=التجميع!$B$47,ROW('اسناد الأقسام'!$D$7:$D$78)-ROW('اسناد الأقسام'!$D$7)+1),ROW(1:1))),\"\")","v":"العابد مباركة "},{"$f":"IF(ROW(1:1)<=COUNTIF('اسناد الأقسام'!$D$7:$D$78,التجميع!$B$47),INDEX('اسناد الأقسام'!D$7:D$78,SMALL(IF('اسناد الأقسام'!$D$7:$D$78=التجميع!$B$47,ROW('اسناد الأقسام'!$D$7:$D$78)-ROW('اسناد الأقسام'!$D$7)+1),ROW(1:1))),\"\")","v":"عربية"},{"$f":"IF(ROW(1:1)<=COUNTIF('اسناد الأقسام'!$D$7:$D$78,التجميع!$B$47),INDEX('اسناد الأقسام'!E$7:E$78,SMALL(IF('اسناد الأقسام'!$D$7:$D$78=التجميع!$B$47,ROW('اسناد الأقسام'!$D$7:$D$78)-ROW('اسناد الأقسام'!$D$7)+1),ROW(1:1))),\"\")","v":"1981-09-20"},{"$f":"IF(ROW(1:1)<=COUNTIF('اسناد الأقسام'!$D$7:$D$78,التجميع!$B$47),INDEX('اسناد الأقسام'!F$7:F$78,SMALL(IF('اسناد الأقسام'!$D$7:$D$78=التجميع!$B$47,ROW('اسناد الأقسام'!$D$7:$D$78)-ROW('اسناد الأقسام'!$D$7)+1),ROW(1:1))),\"\")","v":"مرسمة"},{"$f":"IF(ROW(1:1)<=COUNTIF('اسناد الأقسام'!$D$7:$D$78,التجميع!$B$47),INDEX('اسناد الأقسام'!G$7:G$78,SMALL(IF('اسناد الأقسام'!$D$7:$D$78=التجميع!$B$47,ROW('اسناد الأقسام'!$D$7:$D$78)-ROW('اسناد الأقسام'!$D$7)+1),ROW(1:1))),\"\")","v":"ليسانس"},{"$f":"IF(ROW(1:1)<=COUNTIF('اسناد الأقسام'!$D$7:$D$78,التجميع!$B$47),INDEX('اسناد الأقسام'!H$7:H$78,SMALL(IF('اسناد الأقسام'!$D$7:$D$78=التجميع!$B$47,ROW('اسناد الأقسام'!$D$7:$D$78)-ROW('اسناد الأقسام'!$D$7)+1),ROW(1:1))),\"\")","v":"2003-09-09"},{"$f":"IF(ROW(1:1)<=COUNTIF('اسناد الأقسام'!$D$7:$D$78,التجميع!$B$47),INDEX('اسناد الأقسام'!I$7:I$78,SMALL(IF('اسناد الأقسام'!$D$7:$D$78=التجميع!$B$47,ROW('اسناد الأقسام'!$D$7:$D$78)-ROW('اسناد الأقسام'!$D$7)+1),ROW(1:1))),\"\")","v":"3م1"},{"$f":"IF(ROW(1:1)<=COUNTIF('اسناد الأقسام'!$D$7:$D$78,التجميع!$B$47),INDEX('اسناد الأقسام'!J$7:J$78,SMALL(IF('اسناد الأقسام'!$D$7:$D$78=التجميع!$B$47,ROW('اسناد الأقسام'!$D$7:$D$78)-ROW('اسناد الأقسام'!$D$7)+1),ROW(1:1))),\"\")","v":"3م2"},{"$f":"IF(ROW(1:1)<=COUNTIF('اسناد الأقسام'!$D$7:$D$78,التجميع!$B$47),INDEX('اسناد الأقسام'!K$7:K$78,SMALL(IF('اسناد الأقسام'!$D$7:$D$78=التجميع!$B$47,ROW('اسناد الأقسام'!$D$7:$D$78)-ROW('اسناد الأقسام'!$D$7)+1),ROW(1:1))),\"\")","v":"1م1"},{"$f":"IF(ROW(1:1)<=COUNTIF('اسناد الأقسام'!$D$7:$D$78,التجميع!$B$47),INDEX('اسناد الأقسام'!L$7:L$78,SMALL(IF('اسناد الأقسام'!$D$7:$D$78=التجميع!$B$47,ROW('اسناد الأقسام'!$D$7:$D$78)-ROW('اسناد الأقسام'!$D$7)+1),ROW(1:1))),\"\")","v":"1م1 ت"},{"$f":"IF(ROW(1:1)<=COUNTIF('اسناد الأقسام'!$D$7:$D$78,التجميع!$B$47),INDEX('اسناد الأقسام'!M$7:M$78,SMALL(IF('اسناد الأقسام'!$D$7:$D$78=التجميع!$B$47,ROW('اسناد الأقسام'!$D$7:$D$78)-ROW('اسناد الأقسام'!$D$7)+1),ROW(1:1))),\"\")","v":"1م2 ت"},{"$f":"IF(ROW(1:1)<=COUNTIF('اسناد الأقسام'!$D$7:$D$78,التجميع!$B$47),INDEX('اسناد الأقسام'!N$7:N$78,SMALL(IF('اسناد الأقسام'!$D$7:$D$78=التجميع!$B$47,ROW('اسناد الأقسام'!$D$7:$D$78)-ROW('اسناد الأقسام'!$D$7)+1),ROW(1:1))),\"\")","v":"1م3 ت"},{"$f":"IF(ROW(1:1)<=COUNTIF('اسناد الأقسام'!$D$7:$D$78,التجميع!$B$47),INDEX('اسناد الأقسام'!O$7:O$78,SMALL(IF('اسناد الأقسام'!$D$7:$D$78=التجميع!$B$47,ROW('اسناد الأقسام'!$D$7:$D$78)-ROW('اسناد الأقسام'!$D$7)+1),ROW(1:1))),\"\")","v":"2م3 ت"},{"$f":"IF(ROW(1:1)<=COUNTIF('اسناد الأقسام'!$D$7:$D$78,التجميع!$B$47),INDEX('اسناد الأقسام'!P$7:P$78,SMALL(IF('اسناد الأقسام'!$D$7:$D$78=التجميع!$B$47,ROW('اسناد الأقسام'!$D$7:$D$78)-ROW('اسناد الأقسام'!$D$7)+1),ROW(1:1))),\"\")","v":0},{"$f":"IF(ROW(1:1)<=COUNTIF('اسناد الأقسام'!$D$7:$D$78,التجميع!$B$47),INDEX('اسناد الأقسام'!Q$7:Q$78,SMALL(IF('اسناد الأقسام'!$D$7:$D$78=التجميع!$B$47,ROW('اسناد الأقسام'!$D$7:$D$78)-ROW('اسناد الأقسام'!$D$7)+1),ROW(1:1))),\"\")","v":0}]
[2,{"$f":"IF(ROW(2:2)<=COUNTIF('اسناد الأقسام'!$D$7:$D$78,التجميع!$B$47),INDEX('اسناد الأقسام'!C$7:C$78,SMALL(IF('اسناد الأقسام'!$D$7:$D$78=التجميع!$B$47,ROW('اسناد الأقسام'!$D$7:$D$78)-ROW('اسناد الأقسام'!$D$7)+1),ROW(2:2))),\"\")","v":"سهلي بوعلام "},{"$f":"IF(ROW(2:2)<=COUNTIF('اسناد الأقسام'!$D$7:$D$78,التجميع!$B$47),INDEX('اسناد الأقسام'!D$7:D$78,SMALL(IF('اسناد الأقسام'!$D$7:$D$78=التجميع!$B$47,ROW('اسناد الأقسام'!$D$7:$D$78)-ROW('اسناد الأقسام'!$D$7)+1),ROW(2:2))),\"\")","v":"عربية"},{"$f":"IF(ROW(2:2)<=COUNTIF('اسناد الأقسام'!$D$7:$D$78,التجميع!$B$47),INDEX('اسناد الأقسام'!E$7:E$78,SMALL(IF('اسناد الأقسام'!$D$7:$D$78=التجميع!$B$47,ROW('اسناد الأقسام'!$D$7:$D$78)-ROW('اسناد الأقسام'!$D$7)+1),ROW(2:2))),\"\")","v":"1980-12-06"},{"$f":"IF(ROW(2:2)<=COUNTIF('اسناد الأقسام'!$D$7:$D$78,التجميع!$B$47),INDEX('اسناد الأقسام'!F$7:F$78,SMALL(IF('اسناد الأقسام'!$D$7:$D$78=التجميع!$B$47,ROW('اسناد الأقسام'!$D$7:$D$78)-ROW('اسناد الأقسام'!$D$7)+1),ROW(2:2))),\"\")","v":"مرسمة"},{"$f":"IF(ROW(2:2)<=COUNTIF('اسناد الأقسام'!$D$7:$D$78,التجميع!$B$47),INDEX('اسناد الأقسام'!G$7:G$78,SMALL(IF('اسناد الأقسام'!$D$7:$D$78=التجميع!$B$47,ROW('اسناد الأقسام'!$D$7:$D$78)-ROW('اسناد الأقسام'!$D$7)+1),ROW(2:2))),\"\")","v":"ليسانس"},{"$f":"IF(ROW(2:2)<=COUNTIF('اسناد الأقسام'!$D$7:$D$78,التجميع!$B$47),INDEX('اسناد الأقسام'!H$7:H$78,SMALL(IF('اسناد الأقسام'!$D$7:$D$78=التجميع!$B$47,ROW('اسناد الأقسام'!$D$7:$D$78)-ROW('اسناد الأقسام'!$D$7)+1),ROW(2:2))),\"\")","v":"2013-12-08"},{"$f":"IF(ROW(2:2)<=COUNTIF('اسناد الأقسام'!$D$7:$D$78,التجميع!$B$47),INDEX('اسناد الأقسام'!I$7:I$78,SMALL(IF('اسناد الأقسام'!$D$7:$D$78=التجميع!$B$47,ROW('اسناد الأقسام'!$D$7:$D$78)-ROW('اسناد الأقسام'!$D$7)+1),ROW(2:2))),\"\")","v":"1م1"},{"$f":"IF(ROW(2:2)<=COUNTIF('اسناد الأقسام'!$D$7:$D$78,التجميع!$B$47),INDEX('اسناد الأقسام'!J$7:J$78,SMALL(IF('اسناد الأقسام'!$D$7:$D$78=التجميع!$B$47,ROW('اسناد الأقسام'!$D$7:$D$78)-ROW('اسناد الأقسام'!$D$7)+1),ROW(2:2))),\"\")","v":"1م2"},{"$f":"IF(ROW(2:2)<=COUNTIF('اسناد الأقسام'!$D$7:$D$78,التجميع!$B$47),INDEX('اسناد الأقسام'!K$7:K$78,SMALL(IF('اسناد الأقسام'!$D$7:$D$78=التجميع!$B$47,ROW('اسناد الأقسام'!$D$7:$D$78)-ROW('اسناد الأقسام'!$D$7)+1),ROW(2:2))),\"\")","v":"1م3"},{"$f":"IF(ROW(2:2)<=COUNTIF('اسناد الأقسام'!$D$7:$D$78,التجميع!$B$47),INDEX('اسناد الأقسام'!L$7:L$78,SMALL(IF('اسناد الأقسام'!$D$7:$D$78=التجميع!$B$47,ROW('اسناد الأقسام'!$D$7:$D$78)-ROW('اسناد الأقسام'!$D$7)+1),ROW(2:2))),\"\")","v":0},{"$f":"IF(ROW(2:2)<=COUNTIF('اسناد الأقسام'!$D$7:$D$78,التجميع!$B$47),INDEX('اسناد الأقسام'!M$7:M$78,SMALL(IF('اسناد الأقسام'!$D$7:$D$78=التجميع!$B$47,ROW('اسناد الأقسام'!$D$7:$D$78)-ROW('اسناد الأقسام'!$D$7)+1),ROW(2:2))),\"\")","v":0},{"$f":"IF(ROW(2:2)<=COUNTIF('اسناد الأقسام'!$D$7:$D$78,التجميع!$B$47),INDEX('اسناد الأقسام'!N$7:N$78,SMALL(IF('اسناد الأقسام'!$D$7:$D$78=التجميع!$B$47,ROW('اسناد الأقسام'!$D$7:$D$78)-ROW('اسناد الأقسام'!$D$7)+1),ROW(2:2))),\"\")","v":0},{"$f":"IF(ROW(2:2)<=COUNTIF('اسناد الأقسام'!$D$7:$D$78,التجميع!$B$47),INDEX('اسناد الأقسام'!O$7:O$78,SMALL(IF('اسناد الأقسام'!$D$7:$D$78=التجميع!$B$47,ROW('اسناد الأقسام'!$D$7:$D$78)-ROW('اسناد الأقسام'!$D$7)+1),ROW(2:2))),\"\")","v":0},{"$f":"IF(ROW(2:2)<=COUNTIF('اسناد الأقسام'!$D$7:$D$78,التجميع!$B$47),INDEX('اسناد الأقسام'!P$7:P$78,SMALL(IF('اسناد الأقسام'!$D$7:$D$78=التجميع!$B$47,ROW('اسناد الأقسام'!$D$7:$D$78)-ROW('اسناد الأقسام'!$D$7)+1),ROW(2:2))),\"\")","v":0},{"$f":"IF(ROW(2:2)<=COUNTIF('اسناد الأقسام'!$D$7:$D$78,التجميع!$B$47),INDEX('اسناد الأقسام'!Q$7:Q$78,SMALL(IF('اسناد الأقسام'!$D$7:$D$78=التجميع!$B$47,ROW('اسناد الأقسام'!$D$7:$D$78)-ROW('اسناد الأقسام'!$D$7)+1),ROW(2:2))),\"\")","v":0}]
[3,{"$f":"IF(ROW(3:3)<=COUNTIF('اسناد الأقسام'!$D$7:$D$78,التجميع!$B$47),INDEX('اسناد الأقسام'!C$7:C$78,SMALL(IF('اسناد الأقسام'!$D$7:$D$78=التجميع!$B$47,ROW('اسناد الأقسام'!$D$7:$D$78)-ROW('اسناد الأقسام'!$D$7)+1),ROW(3:3))),\"\")","v":"بدراني خديجة "},{"$f":"IF(ROW(3:3)<=COUNTIF('اسناد الأقسام'!$D$7:$D$78,التجميع!$B$47),INDEX('اسناد الأقسام'!D$7:D$78,SMALL(IF('اسناد الأقسام'!$D$7:$D$78=التجميع!$B$47,ROW('اسناد الأقسام'!$D$7:$D$78)-ROW('اسناد الأقسام'!$D$7)+1),ROW(3:3))),\"\")","v":"عربية"},{"$f":"IF(ROW(3:3)<=COUNTIF('اسناد الأقسام'!$D$7:$D$78,التجميع!$B$47),INDEX('اسناد الأقسام'!E$7:E$78,SMALL(IF('اسناد الأقسام'!$D$7:$D$78=التجميع!$B$47,ROW('اسناد الأقسام'!$D$7:$D$78)-ROW('اسناد الأقسام'!$D$7)+1),ROW(3:3))),\"\")","v":"1991-07-01"},{"$f":"IF(ROW(3:3)<=COUNTIF('اسناد الأقسام'!$D$7:$D$78,التجميع!$B$47),INDEX('اسناد الأقسام'!F$7:F$78,SMALL(IF('اسناد الأقسام'!$D$7:$D$78=التجميع!$B$47,ROW('اسناد الأقسام'!$D$7:$D$78)-ROW('اسناد الأقسام'!$D$7)+1),ROW(3:3))),\"\")","v":"مرسمة"},{"$f":"IF(ROW(3:3)<=COUNTIF('اسناد الأقسام'!$D$7:$D$78,التجميع!$B$47),INDEX('اسناد الأقسام'!G$7:G$78,SMALL(IF('اسناد الأقسام'!$D$7:$D$78=التجميع!$B$47,ROW('اسناد الأقسام'!$D$7:$D$78)-ROW('اسناد الأقسام'!$D$7)+1),ROW(3:3))),\"\")","v":"ليسانس"},{"$f":"IF(ROW(3:3)<=COUNTIF('اسناد الأقسام'!$D$7:$D$78,التجميع!$B$47),INDEX('اسناد الأقسام'!H$7:H$78,SMALL(IF('اسناد الأقسام'!$D$7:$D$78=التجميع!$B$47,ROW('اسناد الأقسام'!$D$7:$D$78)-ROW('اسناد الأقسام'!$D$7)+1),ROW(3:3))),\"\")","v":"2016-08-03"},{"$f":"IF(ROW(3:3)<=COUNTIF('اسناد الأقسام'!$D$7:$D$78,التجميع!$B$47),INDEX('اسناد الأقسام'!I$7:I$78,SMALL(IF('اسناد الأقسام'!$D$7:$D$78=التجميع!$B$47,ROW('اسناد الأقسام'!$D$7:$D$78)-ROW('اسناد الأقسام'!$D$7)+1),ROW(3:3))),\"\")","v":"4م1"},{"$f":"IF(ROW(3:3)<=COUNTIF('اسناد الأقسام'!$D$7:$D$78,التجميع!$B$47),INDEX('اسناد الأقسام'!J$7:J$78,SMALL(IF('اسناد الأقسام'!$D$7:$D$78=التجميع!$B$47,ROW('اسناد الأقسام'!$D$7:$D$78)-ROW('اسناد الأقسام'!$D$7)+1),ROW(3:3))),\"\")","v":"4م2"},{"$f":"IF(ROW(3:3)<=COUNTIF('اسناد الأقسام'!$D$7:$D$78,التجميع!$B$47),INDEX('اسناد الأقسام'!K$7:K$78,SMALL(IF('اسناد الأقسام'!$D$7:$D$78=التجميع!$B$47,ROW('اسناد الأقسام'!$D$7:$D$78)-ROW('اسناد الأقسام'!$D$7)+1),ROW(3:3))),\"\")","v":"2م1 ت"},{"$f":"IF(ROW(3:3)<=COUNTIF('اسناد الأقسام'!$D$7:$D$78,التجميع!$B$47),INDEX('اسناد الأقسام'!L$7:L$78,SMALL(IF('اسناد الأقسام'!$D$7:$D$78=التجميع!$B$47,ROW('اسناد الأقسام'!$D$7:$D$78)-ROW('اسناد الأقسام'!$D$7)+1),ROW(3:3))),\"\")","v":"2م2 ت"},{"$f":"IF(ROW(3:3)<=COUNTIF('اسناد الأقسام'!$D$7:$D$78,التجميع!$B$47),INDEX('اسناد الأقسام'!M$7:M$78,SMALL(IF('اسناد الأقسام'!$D$7:$D$78=التجميع!$B$47,ROW('اسناد الأقسام'!$D$7:$D$78)-ROW('اسناد الأقسام'!$D$7)+1),ROW(3:3))),\"\")","v":0},{"$f":"IF(ROW(3:3)<=COUNTIF('اسناد الأقسام'!$D$7:$D$78,التجميع!$B$47),INDEX('اسناد الأقسام'!N$7:N$78,SMALL(IF('اسناد الأقسام'!$D$7:$D$78=التجميع!$B$47,ROW('اسناد الأقسام'!$D$7:$D$78)-ROW('اسناد الأقسام'!$D$7)+1),ROW(3:3))),\"\")","v":0},{"$f":"IF(ROW(3:3)<=COUNTIF('اسناد الأقسام'!$D$7:$D$78,التجميع!$B$47),INDEX('اسناد الأقسام'!O$7:O$78,SMALL(IF('اسناد الأقسام'!$D$7:$D$78=التجميع!$B$47,ROW('اسناد الأقسام'!$D$7:$D$78)-ROW('اسناد الأقسام'!$D$7)+1),ROW(3:3))),\"\")","v":0},{"$f":"IF(ROW(3:3)<=COUNTIF('اسناد الأقسام'!$D$7:$D$78,التجميع!$B$47),INDEX('اسناد الأقسام'!P$7:P$78,SMALL(IF('اسناد الأقسام'!$D$7:$D$78=التجميع!$B$47,ROW('اسناد الأقسام'!$D$7:$D$78)-ROW('اسناد الأقسام'!$D$7)+1),ROW(3:3))),\"\")","v":0},{"$f":"IF(ROW(3:3)<=COUNTIF('اسناد الأقسام'!$D$7:$D$78,التجميع!$B$47),INDEX('اسناد الأقسام'!Q$7:Q$78,SMALL(IF('اسناد الأقسام'!$D$7:$D$78=التجميع!$B$47,ROW('اسناد الأقسام'!$D$7:$D$78)-ROW('اسناد الأقسام'!$D$7)+1),ROW(3:3))),\"\")","v":0},{"$f":"IF(ROW(3:3)<=COUNTIF('اسناد الأقسام'!$D$7:$D$78,التجميع!$B$47),INDEX('اسناد الأقسام'!R$7:R$78,SMALL(IF('اسناد الأقسام'!$D$7:$D$78=التجميع!$B$47,ROW('اسناد الأقسام'!$D$7:$D$78)-ROW('اسناد الأقسام'!$D$7)+1),ROW(3:3))),\"\")","v":0},{"$f":"IF(ROW(3:3)<=COUNTIF('اسناد الأقسام'!$D$7:$D$78,التجميع!$B$47),INDEX('اسناد الأقسام'!S$7:S$78,SMALL(IF('اسناد الأقسام'!$D$7:$D$78=التجميع!$B$47,ROW('اسناد الأقسام'!$D$7:$D$78)-ROW('اسناد الأقسام'!$D$7)+1),ROW(3:3))),\"\")","v":0},{"$f":"IF(ROW(3:3)<=COUNTIF('اسناد الأقسام'!$D$7:$D$78,التجميع!$B$47),INDEX('اسناد الأقسام'!T$7:T$78,SMALL(IF('اسناد الأقسام'!$D$7:$D$78=التجميع!$B$47,ROW('اسناد الأقسام'!$D$7:$D$78)-ROW('اسناد الأقسام'!$D$7)+1),ROW(3:3))),\"\")","v":0},{"$f":"IF(ROW(3:3)<=COUNTIF('اسناد الأقسام'!$D$7:$D$78,التجميع!$B$47),INDEX('اسناد الأقسام'!U$7:U$78,SMALL(IF('اسناد الأقسام'!$D$7:$D$78=التجميع!$B$47,ROW('اسناد الأقسام'!$D$7:$D$78)-ROW('اسناد الأقسام'!$D$7)+1),ROW(3:3))),\"\")","v":0},{"$f":"IF(ROW(3:3)<=COUNTIF('اسناد الأقسام'!$D$7:$D$78,التجميع!$B$47),INDEX('اسناد الأقسام'!V$7:V$78,SMALL(IF('اسناد الأقسام'!$D$7:$D$78=التجميع!$B$47,ROW('اسناد الأقسام'!$D$7:$D$78)-ROW('اسناد الأقسام'!$D$7)+1),ROW(3:3))),\"\")","v":0},{"$f":"IF(ROW(3:3)<=COUNTIF('اسناد الأقسام'!$D$7:$D$78,التجميع!$B$47),INDEX('اسناد الأقسام'!W$7:W$78,SMALL(IF('اسناد الأقسام'!$D$7:$D$78=التجميع!$B$47,ROW('اسناد الأقسام'!$D$7:$D$78)-ROW('اسناد الأقسام'!$D$7)+1),ROW(3:3))),\"\")","v":0},{"$f":"IF(ROW(3:3)<=COUNTIF('اسناد الأقسام'!$D$7:$D$78,التجميع!$B$47),INDEX('اسناد الأقسام'!X$7:X$78,SMALL(IF('اسناد الأقسام'!$D$7:$D$78=التجميع!$B$47,ROW('اسناد الأقسام'!$D$7:$D$78)-ROW('اسناد الأقسام'!$D$7)+1),ROW(3:3))),\"\")","v":0},{"$f":"IF(ROW(3:3)<=COUNTIF('اسناد الأقسام'!$D$7:$D$78,التجميع!$B$47),INDEX('اسناد الأقسام'!Y$7:Y$78,SMALL(IF('اسناد الأقسام'!$D$7:$D$78=التجميع!$B$47,ROW('اسناد الأقسام'!$D$7:$D$78)-ROW('اسناد الأقسام'!$D$7)+1),ROW(3:3))),\"\")","v":0},{"$f":"IF(ROW(3:3)<=COUNTIF('اسناد الأقسام'!$D$7:$D$78,التجميع!$B$47),INDEX('اسناد الأقسام'!Z$7:Z$78,SMALL(IF('اسناد الأقسام'!$D$7:$D$78=التجميع!$B$47,ROW('اسناد الأقسام'!$D$7:$D$78)-ROW('اسناد الأقسام'!$D$7)+1),ROW(3:3))),\"\")","v":0},{"$f":"IF(ROW(3:3)<=COUNTIF('اسناد الأقسام'!$D$7:$D$78,التجميع!$B$47),INDEX('اسناد الأقسام'!AA$7:AA$78,SMALL(IF('اسناد الأقسام'!$D$7:$D$78=التجميع!$B$47,ROW('اسناد الأقسام'!$D$7:$D$78)-ROW('اسناد الأقسام'!$D$7)+1),ROW(3:3))),\"\")","v":0},{"$f":"IF(ROW(3:3)<=COUNTIF('اسناد الأقسام'!$D$7:$D$78,التجميع!$B$47),INDEX('اسناد الأقسام'!AB$7:AB$78,SMALL(IF('اسناد الأقسام'!$D$7:$D$78=التجميع!$B$47,ROW('اسناد الأقسام'!$D$7:$D$78)-ROW('اسناد الأقسام'!$D$7)+1),ROW(3:3))),\"\")","v":0},{"$f":"IF(ROW(3:3)<=COUNTIF('اسناد الأقسام'!$D$7:$D$78,التجميع!$B$47),INDEX('اسناد الأقسام'!AC$7:AC$78,SMALL(IF('اسناد الأقسام'!$D$7:$D$78=التجميع!$B$47,ROW('اسناد الأقسام'!$D$7:$D$78)-ROW('اسناد الأقسام'!$D$7)+1),ROW(3:3))),\"\")","v":0}]
[4,{"$f":"IF(ROW(4:4)<=COUNTIF('اسناد الأقسام'!$D$7:$D$78,التجميع!$B$47),INDEX('اسناد الأقسام'!C$7:C$78,SMALL(IF('اسناد الأقسام'!$D$7:$D$78=التجميع!$B$47,ROW('اسناد الأقسام'!$D$7:$D$78)-ROW('اسناد الأقسام'!$D$7)+1),ROW(4:4))),\"\")","v":"تهامي أم الخير "},{"$f":"IF(ROW(4:4)<=COUNTIF('اسناد الأقسام'!$D$7:$D$78,التجميع!$B$47),INDEX('اسناد الأقسام'!D$7:D$78,SMALL(IF('اسناد الأقسام'!$D$7:$D$78=التجميع!$B$47,ROW('اسناد الأقسام'!$D$7:$D$78)-ROW('اسناد الأقسام'!$D$7)+1),ROW(4:4))),\"\")","v":"عربية"},{"$f":"IF(ROW(4:4)<=COUNTIF('اسناد الأقسام'!$D$7:$D$78,التجميع!$B$47),INDEX('اسناد الأقسام'!E$7:E$78,SMALL(IF('اسناد الأقسام'!$D$7:$D$78=التجميع!$B$47,ROW('اسناد الأقسام'!$D$7:$D$78)-ROW('اسناد الأقسام'!$D$7)+1),ROW(4:4))),\"\")","v":"1986-09-10"},{"$f":"IF(ROW(4:4)<=COUNTIF('اسناد الأقسام'!$D$7:$D$78,التجميع!$B$47),INDEX('اسناد الأقسام'!F$7:F$78,SMALL(IF('اسناد الأقسام'!$D$7:$D$78=التجميع!$B$47,ROW('اسناد الأقسام'!$D$7:$D$78)-ROW('اسناد الأقسام'!$D$7)+1),ROW(4:4))),\"\")","v":"مرسم"},{"$f":"IF(ROW(4:4)<=COUNTIF('اسناد الأقسام'!$D$7:$D$78,التجميع!$B$47),INDEX('اسناد الأقسام'!G$7:G$78,SMALL(IF('اسناد الأقسام'!$D$7:$D$78=التجميع!$B$47,ROW('اسناد الأقسام'!$D$7:$D$78)-ROW('اسناد الأقسام'!$D$7)+1),ROW(4:4))),\"\")","v":"ليسانس"},{"$f":"IF(ROW(4:4)<=COUNTIF('اسناد الأقسام'!$D$7:$D$78,التجميع!$B$47),INDEX('اسناد الأقسام'!H$7:H$78,SMALL(IF('اسناد الأقسام'!$D$7:$D$78=التجميع!$B$47,ROW('اسناد الأقسام'!$D$7:$D$78)-ROW('اسناد الأقسام'!$D$7)+1),ROW(4:4))),\"\")","v":"2015-08-02"},{"$f":"IF(ROW(4:4)<=COUNTIF('اسناد الأقسام'!$D$7:$D$78,التجميع!$B$47),INDEX('اسناد الأقسام'!I$7:I$78,SMALL(IF('اسناد الأقسام'!$D$7:$D$78=التجميع!$B$47,ROW('اسناد الأقسام'!$D$7:$D$78)-ROW('اسناد الأقسام'!$D$7)+1),ROW(4:4))),\"\")","v":"2م1"},{"$f":"IF(ROW(4:4)<=COUNTIF('اسناد الأقسام'!$D$7:$D$78,التجميع!$B$47),INDEX('اسناد الأقسام'!J$7:J$78,SMALL(IF('اسناد الأقسام'!$D$7:$D$78=التجميع!$B$47,ROW('اسناد الأقسام'!$D$7:$D$78)-ROW('اسناد الأقسام'!$D$7)+1),ROW(4:4))),\"\")","v":"2م2"},{"$f":"IF(ROW(4:4)<=COUNTIF('اسناد الأقسام'!$D$7:$D$78,التجميع!$B$47),INDEX('اسناد الأقسام'!K$7:K$78,SMALL(IF('اسناد الأقسام'!$D$7:$D$78=التجميع!$B$47,ROW('اسناد الأقسام'!$D$7:$D$78)-ROW('اسناد الأقسام'!$D$7)+1),ROW(4:4))),\"\")","v":"2م3"},{"$f":"IF(ROW(4:4)<=COUNTIF('اسناد الأقسام'!$D$7:$D$78,التجميع!$B$47),INDEX('اسناد الأقسام'!L$7:L$78,SMALL(IF('اسناد الأقسام'!$D$7:$D$78=التجميع!$B$47,ROW('اسناد الأقسام'!$D$7:$D$78)-ROW('اسناد الأقسام'!$D$7)+1),ROW(4:4))),\"\")","v":0},{"$f":"IF(ROW(4:4)<=COUNTIF('اسناد الأقسام'!$D$7:$D$78,التجميع!$B$47),INDEX('اسناد الأقسام'!M$7:M$78,SMALL(IF('اسناد الأقسام'!$D$7:$D$78=التجميع!$B$47,ROW('اسناد الأقسام'!$D$7:$D$78)-ROW('اسناد الأقسام'!$D$7)+1),ROW(4:4))),\"\")","v":0},{"$f":"IF(ROW(4:4)<=COUNTIF('اسناد الأقسام'!$D$7:$D$78,التجميع!$B$47),INDEX('اسناد الأقسام'!N$7:N$78,SMALL(IF('اسناد الأقسام'!$D$7:$D$78=التجميع!$B$47,ROW('اسناد الأقسام'!$D$7:$D$78)-ROW('اسناد الأقسام'!$D$7)+1),ROW(4:4))),\"\")","v":0},{"$f":"IF(ROW(4:4)<=COUNTIF('اسناد الأقسام'!$D$7:$D$78,التجميع!$B$47),INDEX('اسناد الأقسام'!O$7:O$78,SMALL(IF('اسناد الأقسام'!$D$7:$D$78=التجميع!$B$47,ROW('اسناد الأقسام'!$D$7:$D$78)-ROW('اسناد الأقسام'!$D$7)+1),ROW(4:4))),\"\")","v":0},{"$f":"IF(ROW(4:4)<=COUNTIF('اسناد الأقسام'!$D$7:$D$78,التجميع!$B$47),INDEX('اسناد الأقسام'!P$7:P$78,SMALL(IF('اسناد الأقسام'!$D$7:$D$78=التجميع!$B$47,ROW('اسناد الأقسام'!$D$7:$D$78)-ROW('اسناد الأقسام'!$D$7)+1),ROW(4:4))),\"\")","v":0},{"$f":"IF(ROW(4:4)<=COUNTIF('اسناد الأقسام'!$D$7:$D$78,التجميع!$B$47),INDEX('اسناد الأقسام'!Q$7:Q$78,SMALL(IF('اسناد الأقسام'!$D$7:$D$78=التجميع!$B$47,ROW('اسناد الأقسام'!$D$7:$D$78)-ROW('اسناد الأقسام'!$D$7)+1),ROW(4:4))),\"\")","v":0},{"$f":"IF(ROW(4:4)<=COUNTIF('اسناد الأقسام'!$D$7:$D$78,التجميع!$B$47),INDEX('اسناد الأقسام'!R$7:R$78,SMALL(IF('اسناد الأقسام'!$D$7:$D$78=التجميع!$B$47,ROW('اسناد الأقسام'!$D$7:$D$78)-ROW('اسناد الأقسام'!$D$7)+1),ROW(4:4))),\"\")","v":0},{"$f":"IF(ROW(4:4)<=COUNTIF('اسناد الأقسام'!$D$7:$D$78,التجميع!$B$47),INDEX('اسناد الأقسام'!S$7:S$78,SMALL(IF('اسناد الأقسام'!$D$7:$D$78=التجميع!$B$47,ROW('اسناد الأقسام'!$D$7:$D$78)-ROW('اسناد الأقسام'!$D$7)+1),ROW(4:4))),\"\")","v":0},{"$f":"IF(ROW(4:4)<=COUNTIF('اسناد الأقسام'!$D$7:$D$78,التجميع!$B$47),INDEX('اسناد الأقسام'!T$7:T$78,SMALL(IF('اسناد الأقسام'!$D$7:$D$78=التجميع!$B$47,ROW('اسناد الأقسام'!$D$7:$D$78)-ROW('اسناد الأقسام'!$D$7)+1),ROW(4:4))),\"\")","v":0},{"$f":"IF(ROW(4:4)<=COUNTIF('اسناد الأقسام'!$D$7:$D$78,التجميع!$B$47),INDEX('اسناد الأقسام'!U$7:U$78,SMALL(IF('اسناد الأقسام'!$D$7:$D$78=التجميع!$B$47,ROW('اسناد الأقسام'!$D$7:$D$78)-ROW('اسناد الأقسام'!$D$7)+1),ROW(4:4))),\"\")","v":0},{"$f":"IF(ROW(4:4)<=COUNTIF('اسناد الأقسام'!$D$7:$D$78,التجميع!$B$47),INDEX('اسناد الأقسام'!V$7:V$78,SMALL(IF('اسناد الأقسام'!$D$7:$D$78=التجميع!$B$47,ROW('اسناد الأقسام'!$D$7:$D$78)-ROW('اسناد الأقسام'!$D$7)+1),ROW(4:4))),\"\")","v":0},{"$f":"IF(ROW(4:4)<=COUNTIF('اسناد الأقسام'!$D$7:$D$78,التجميع!$B$47),INDEX('اسناد الأقسام'!W$7:W$78,SMALL(IF('اسناد الأقسام'!$D$7:$D$78=التجميع!$B$47,ROW('اسناد الأقسام'!$D$7:$D$78)-ROW('اسناد الأقسام'!$D$7)+1),ROW(4:4))),\"\")","v":0}]
[5,{"$f":"IF(ROW(5:5)<=COUNTIF('اسناد الأقسام'!$D$7:$D$78,التجميع!$B$47),INDEX('اسناد الأقسام'!C$7:C$78,SMALL(IF('اسناد الأقسام'!$D$7:$D$78=التجميع!$B$47,ROW('اسناد الأقسام'!$D$7:$D$78)-ROW('اسناد الأقسام'!$D$7)+1),ROW(5:5))),\"\")","v":""},{"$f":"IF(ROW(5:5)<=COUNTIF('اسناد الأقسام'!$D$7:$D$78,التجميع!$B$47),INDEX('اسناد الأقسام'!D$7:D$78,SMALL(IF('اسناد الأقسام'!$D$7:$D$78=التجميع!$B$47,ROW('اسناد الأقسام'!$D$7:$D$78)-ROW('اسناد الأقسام'!$D$7)+1),ROW(5:5))),\"\")","v":""},{"$f":"IF(ROW(5:5)<=COUNTIF('اسناد الأقسام'!$D$7:$D$78,التجميع!$B$47),INDEX('اسناد الأقسام'!E$7:E$78,SMALL(IF('اسناد الأقسام'!$D$7:$D$78=التجميع!$B$47,ROW('اسناد الأقسام'!$D$7:$D$78)-ROW('اسناد الأقسام'!$D$7)+1),ROW(5:5))),\"\")","v":""},{"$f":"IF(ROW(5:5)<=COUNTIF('اسناد الأقسام'!$D$7:$D$78,التجميع!$B$47),INDEX('اسناد الأقسام'!F$7:F$78,SMALL(IF('اسناد الأقسام'!$D$7:$D$78=التجميع!$B$47,ROW('اسناد الأقسام'!$D$7:$D$78)-ROW('اسناد الأقسام'!$D$7)+1),ROW(5:5))),\"\")","v":""},{"$f":"IF(ROW(5:5)<=COUNTIF('اسناد الأقسام'!$D$7:$D$78,التجميع!$B$47),INDEX('اسناد الأقسام'!G$7:G$78,SMALL(IF('اسناد الأقسام'!$D$7:$D$78=التجميع!$B$47,ROW('اسناد الأقسام'!$D$7:$D$78)-ROW('اسناد الأقسام'!$D$7)+1),ROW(5:5))),\"\")","v":""},{"$f":"IF(ROW(5:5)<=COUNTIF('اسناد الأقسام'!$D$7:$D$78,التجميع!$B$47),INDEX('اسناد الأقسام'!H$7:H$78,SMALL(IF('اسناد الأقسام'!$D$7:$D$78=التجميع!$B$47,ROW('اسناد الأقسام'!$D$7:$D$78)-ROW('اسناد الأقسام'!$D$7)+1),ROW(5:5))),\"\")","v":""},{"$f":"IF(ROW(5:5)<=COUNTIF('اسناد الأقسام'!$D$7:$D$78,التجميع!$B$47),INDEX('اسناد الأقسام'!I$7:I$78,SMALL(IF('اسناد الأقسام'!$D$7:$D$78=التجميع!$B$47,ROW('اسناد الأقسام'!$D$7:$D$78)-ROW('اسناد الأقسام'!$D$7)+1),ROW(5:5))),\"\")","v":""},{"$f":"IF(ROW(5:5)<=COUNTIF('اسناد الأقسام'!$D$7:$D$78,التجميع!$B$47),INDEX('اسناد الأقسام'!J$7:J$78,SMALL(IF('اسناد الأقسام'!$D$7:$D$78=التجميع!$B$47,ROW('اسناد الأقسام'!$D$7:$D$78)-ROW('اسناد الأقسام'!$D$7)+1),ROW(5:5))),\"\")","v":""},{"$f":"IF(ROW(5:5)<=COUNTIF('اسناد الأقسام'!$D$7:$D$78,التجميع!$B$47),INDEX('اسناد الأقسام'!K$7:K$78,SMALL(IF('اسناد الأقسام'!$D$7:$D$78=التجميع!$B$47,ROW('اسناد الأقسام'!$D$7:$D$78)-ROW('اسناد الأقسام'!$D$7)+1),ROW(5:5))),\"\")","v":""},{"$f":"IF(ROW(5:5)<=COUNTIF('اسناد الأقسام'!$D$7:$D$78,التجميع!$B$47),INDEX('اسناد الأقسام'!L$7:L$78,SMALL(IF('اسناد الأقسام'!$D$7:$D$78=التجميع!$B$47,ROW('اسناد الأقسام'!$D$7:$D$78)-ROW('اسناد الأقسام'!$D$7)+1),ROW(5:5))),\"\")","v":""},{"$f":"IF(ROW(5:5)<=COUNTIF('اسناد الأقسام'!$D$7:$D$78,التجميع!$B$47),INDEX('اسناد الأقسام'!M$7:M$78,SMALL(IF('اسناد الأقسام'!$D$7:$D$78=التجميع!$B$47,ROW('اسناد الأقسام'!$D$7:$D$78)-ROW('اسناد الأقسام'!$D$7)+1),ROW(5:5))),\"\")","v":""},{"$f":"IF(ROW(5:5)<=COUNTIF('اسناد الأقسام'!$D$7:$D$78,التجميع!$B$47),INDEX('اسناد الأقسام'!N$7:N$78,SMALL(IF('اسناد الأقسام'!$D$7:$D$78=التجميع!$B$47,ROW('اسناد الأقسام'!$D$7:$D$78)-ROW('اسناد الأقسام'!$D$7)+1),ROW(5:5))),\"\")","v":""},{"$f":"IF(ROW(5:5)<=COUNTIF('اسناد الأقسام'!$D$7:$D$78,التجميع!$B$47),INDEX('اسناد الأقسام'!O$7:O$78,SMALL(IF('اسناد الأقسام'!$D$7:$D$78=التجميع!$B$47,ROW('اسناد الأقسام'!$D$7:$D$78)-ROW('اسناد الأقسام'!$D$7)+1),ROW(5:5))),\"\")","v":""},{"$f":"IF(ROW(5:5)<=COUNTIF('اسناد الأقسام'!$D$7:$D$78,التجميع!$B$47),INDEX('اسناد الأقسام'!P$7:P$78,SMALL(IF('اسناد الأقسام'!$D$7:$D$78=التجميع!$B$47,ROW('اسناد الأقسام'!$D$7:$D$78)-ROW('اسناد الأقسام'!$D$7)+1),ROW(5:5))),\"\")","v":""},{"$f":"IF(ROW(5:5)<=COUNTIF('اسناد الأقسام'!$D$7:$D$78,التجميع!$B$47),INDEX('اسناد الأقسام'!Q$7:Q$78,SMALL(IF('اسناد الأقسام'!$D$7:$D$78=التجميع!$B$47,ROW('اسناد الأقسام'!$D$7:$D$78)-ROW('اسناد الأقسام'!$D$7)+1),ROW(5:5))),\"\")","v":""}]
[6,{"$f":"IF(ROW(6:6)<=COUNTIF('اسناد الأقسام'!$D$7:$D$78,التجميع!$B$47),INDEX('اسناد الأقسام'!C$7:C$78,SMALL(IF('اسناد الأقسام'!$D$7:$D$78=التجميع!$B$47,ROW('اسناد الأقسام'!$D$7:$D$78)-ROW('اسناد الأقسام'!$D$7)+1),ROW(6:6))),\"\")","v":""},{"$f":"IF(ROW(6:6)<=COUNTIF('اسناد الأقسام'!$D$7:$D$78,التجميع!$B$47),INDEX('اسناد الأقسام'!D$7:D$78,SMALL(IF('اسناد الأقسام'!$D$7:$D$78=التجميع!$B$47,ROW('اسناد الأقسام'!$D$7:$D$78)-ROW('اسناد الأقسام'!$D$7)+1),ROW(6:6))),\"\")","v":""},{"$f":"IF(ROW(6:6)<=COUNTIF('اسناد الأقسام'!$D$7:$D$78,التجميع!$B$47),INDEX('اسناد الأقسام'!E$7:E$78,SMALL(IF('اسناد الأقسام'!$D$7:$D$78=التجميع!$B$47,ROW('اسناد الأقسام'!$D$7:$D$78)-ROW('اسناد الأقسام'!$D$7)+1),ROW(6:6))),\"\")","v":""},{"$f":"IF(ROW(6:6)<=COUNTIF('اسناد الأقسام'!$D$7:$D$78,التجميع!$B$47),INDEX('اسناد الأقسام'!F$7:F$78,SMALL(IF('اسناد الأقسام'!$D$7:$D$78=التجميع!$B$47,ROW('اسناد الأقسام'!$D$7:$D$78)-ROW('اسناد الأقسام'!$D$7)+1),ROW(6:6))),\"\")","v":""},{"$f":"IF(ROW(6:6)<=COUNTIF('اسناد الأقسام'!$D$7:$D$78,التجميع!$B$47),INDEX('اسناد الأقسام'!G$7:G$78,SMALL(IF('اسناد الأقسام'!$D$7:$D$78=التجميع!$B$47,ROW('اسناد الأقسام'!$D$7:$D$78)-ROW('اسناد الأقسام'!$D$7)+1),ROW(6:6))),\"\")","v":""},{"$f":"IF(ROW(6:6)<=COUNTIF('اسناد الأقسام'!$D$7:$D$78,التجميع!$B$47),INDEX('اسناد الأقسام'!H$7:H$78,SMALL(IF('اسناد الأقسام'!$D$7:$D$78=التجميع!$B$47,ROW('اسناد الأقسام'!$D$7:$D$78)-ROW('اسناد الأقسام'!$D$7)+1),ROW(6:6))),\"\")","v":""},{"$f":"IF(ROW(6:6)<=COUNTIF('اسناد الأقسام'!$D$7:$D$78,التجميع!$B$47),INDEX('اسناد الأقسام'!I$7:I$78,SMALL(IF('اسناد الأقسام'!$D$7:$D$78=التجميع!$B$47,ROW('اسناد الأقسام'!$D$7:$D$78)-ROW('اسناد الأقسام'!$D$7)+1),ROW(6:6))),\"\")","v":""},{"$f":"IF(ROW(6:6)<=COUNTIF('اسناد الأقسام'!$D$7:$D$78,التجميع!$B$47),INDEX('اسناد الأقسام'!J$7:J$78,SMALL(IF('اسناد الأقسام'!$D$7:$D$78=التجميع!$B$47,ROW('اسناد الأقسام'!$D$7:$D$78)-ROW('اسناد الأقسام'!$D$7)+1),ROW(6:6))),\"\")","v":""},{"$f":"IF(ROW(6:6)<=COUNTIF('اسناد الأقسام'!$D$7:$D$78,التجميع!$B$47),INDEX('اسناد الأقسام'!K$7:K$78,SMALL(IF('اسناد الأقسام'!$D$7:$D$78=التجميع!$B$47,ROW('اسناد الأقسام'!$D$7:$D$78)-ROW('اسناد الأقسام'!$D$7)+1),ROW(6:6))),\"\")","v":""},{"$f":"IF(ROW(6:6)<=COUNTIF('اسناد الأقسام'!$D$7:$D$78,التجميع!$B$47),INDEX('اسناد الأقسام'!L$7:L$78,SMALL(IF('اسناد الأقسام'!$D$7:$D$78=التجميع!$B$47,ROW('اسناد الأقسام'!$D$7:$D$78)-ROW('اسناد الأقسام'!$D$7)+1),ROW(6:6))),\"\")","v":""},{"$f":"IF(ROW(6:6)<=COUNTIF('اسناد الأقسام'!$D$7:$D$78,التجميع!$B$47),INDEX('اسناد الأقسام'!M$7:M$78,SMALL(IF('اسناد الأقسام'!$D$7:$D$78=التجميع!$B$47,ROW('اسناد الأقسام'!$D$7:$D$78)-ROW('اسناد الأقسام'!$D$7)+1),ROW(6:6))),\"\")","v":""},{"$f":"IF(ROW(6:6)<=COUNTIF('اسناد الأقسام'!$D$7:$D$78,التجميع!$B$47),INDEX('اسناد الأقسام'!N$7:N$78,SMALL(IF('اسناد الأقسام'!$D$7:$D$78=التجميع!$B$47,ROW('اسناد الأقسام'!$D$7:$D$78)-ROW('اسناد الأقسام'!$D$7)+1),ROW(6:6))),\"\")","v":""},{"$f":"IF(ROW(6:6)<=COUNTIF('اسناد الأقسام'!$D$7:$D$78,التجميع!$B$47),INDEX('اسناد الأقسام'!O$7:O$78,SMALL(IF('اسناد الأقسام'!$D$7:$D$78=التجميع!$B$47,ROW('اسناد الأقسام'!$D$7:$D$78)-ROW('اسناد الأقسام'!$D$7)+1),ROW(6:6))),\"\")","v":""},{"$f":"IF(ROW(6:6)<=COUNTIF('اسناد الأقسام'!$D$7:$D$78,التجميع!$B$47),INDEX('اسناد الأقسام'!P$7:P$78,SMALL(IF('اسناد الأقسام'!$D$7:$D$78=التجميع!$B$47,ROW('اسناد الأقسام'!$D$7:$D$78)-ROW('اسناد الأقسام'!$D$7)+1),ROW(6:6))),\"\")","v":""},{"$f":"IF(ROW(6:6)<=COUNTIF('اسناد الأقسام'!$D$7:$D$78,التجميع!$B$47),INDEX('اسناد الأقسام'!Q$7:Q$78,SMALL(IF('اسناد الأقسام'!$D$7:$D$78=التجميع!$B$47,ROW('اسناد الأقسام'!$D$7:$D$78)-ROW('اسناد الأقسام'!$D$7)+1),ROW(6:6))),\"\")","v":""}]
[7,{"$f":"IF(ROW(7:7)<=COUNTIF('اسناد الأقسام'!$D$7:$D$78,التجميع!$B$47),INDEX('اسناد الأقسام'!C$7:C$78,SMALL(IF('اسناد الأقسام'!$D$7:$D$78=التجميع!$B$47,ROW('اسناد الأقسام'!$D$7:$D$78)-ROW('اسناد الأقسام'!$D$7)+1),ROW(7:7))),\"\")","v":""},{"$f":"IF(ROW(7:7)<=COUNTIF('اسناد الأقسام'!$D$7:$D$78,التجميع!$B$47),INDEX('اسناد الأقسام'!D$7:D$78,SMALL(IF('اسناد الأقسام'!$D$7:$D$78=التجميع!$B$47,ROW('اسناد الأقسام'!$D$7:$D$78)-ROW('اسناد الأقسام'!$D$7)+1),ROW(7:7))),\"\")","v":""},{"$f":"IF(ROW(7:7)<=COUNTIF('اسناد الأقسام'!$D$7:$D$78,التجميع!$B$47),INDEX('اسناد الأقسام'!E$7:E$78,SMALL(IF('اسناد الأقسام'!$D$7:$D$78=التجميع!$B$47,ROW('اسناد الأقسام'!$D$7:$D$78)-ROW('اسناد الأقسام'!$D$7)+1),ROW(7:7))),\"\")","v":""},{"$f":"IF(ROW(7:7)<=COUNTIF('اسناد الأقسام'!$D$7:$D$78,التجميع!$B$47),INDEX('اسناد الأقسام'!F$7:F$78,SMALL(IF('اسناد الأقسام'!$D$7:$D$78=التجميع!$B$47,ROW('اسناد الأقسام'!$D$7:$D$78)-ROW('اسناد الأقسام'!$D$7)+1),ROW(7:7))),\"\")","v":""},{"$f":"IF(ROW(7:7)<=COUNTIF('اسناد الأقسام'!$D$7:$D$78,التجميع!$B$47),INDEX('اسناد الأقسام'!G$7:G$78,SMALL(IF('اسناد الأقسام'!$D$7:$D$78=التجميع!$B$47,ROW('اسناد الأقسام'!$D$7:$D$78)-ROW('اسناد الأقسام'!$D$7)+1),ROW(7:7))),\"\")","v":""},{"$f":"IF(ROW(7:7)<=COUNTIF('اسناد الأقسام'!$D$7:$D$78,التجميع!$B$47),INDEX('اسناد الأقسام'!H$7:H$78,SMALL(IF('اسناد الأقسام'!$D$7:$D$78=التجميع!$B$47,ROW('اسناد الأقسام'!$D$7:$D$78)-ROW('اسناد الأقسام'!$D$7)+1),ROW(7:7))),\"\")","v":""},{"$f":"IF(ROW(7:7)<=COUNTIF('اسناد الأقسام'!$D$7:$D$78,التجميع!$B$47),INDEX('اسناد الأقسام'!I$7:I$78,SMALL(IF('اسناد الأقسام'!$D$7:$D$78=التجميع!$B$47,ROW('اسناد الأقسام'!$D$7:$D$78)-ROW('اسناد الأقسام'!$D$7)+1),ROW(7:7))),\"\")","v":""},{"$f":"IF(ROW(7:7)<=COUNTIF('اسناد الأقسام'!$D$7:$D$78,التجميع!$B$47),INDEX('اسناد الأقسام'!J$7:J$78,SMALL(IF('اسناد الأقسام'!$D$7:$D$78=التجميع!$B$47,ROW('اسناد الأقسام'!$D$7:$D$78)-ROW('اسناد الأقسام'!$D$7)+1),ROW(7:7))),\"\")","v":""},{"$f":"IF(ROW(7:7)<=COUNTIF('اسناد الأقسام'!$D$7:$D$78,التجميع!$B$47),INDEX('اسناد الأقسام'!K$7:K$78,SMALL(IF('اسناد الأقسام'!$D$7:$D$78=التجميع!$B$47,ROW('اسناد الأقسام'!$D$7:$D$78)-ROW('اسناد الأقسام'!$D$7)+1),ROW(7:7))),\"\")","v":""},{"$f":"IF(ROW(7:7)<=COUNTIF('اسناد الأقسام'!$D$7:$D$78,التجميع!$B$47),INDEX('اسناد الأقسام'!L$7:L$78,SMALL(IF('اسناد الأقسام'!$D$7:$D$78=التجميع!$B$47,ROW('اسناد الأقسام'!$D$7:$D$78)-ROW('اسناد الأقسام'!$D$7)+1),ROW(7:7))),\"\")","v":""},{"$f":"IF(ROW(7:7)<=COUNTIF('اسناد الأقسام'!$D$7:$D$78,التجميع!$B$47),INDEX('اسناد الأقسام'!M$7:M$78,SMALL(IF('اسناد الأقسام'!$D$7:$D$78=التجميع!$B$47,ROW('اسناد الأقسام'!$D$7:$D$78)-ROW('اسناد الأقسام'!$D$7)+1),ROW(7:7))),\"\")","v":""},{"$f":"IF(ROW(7:7)<=COUNTIF('اسناد الأقسام'!$D$7:$D$78,التجميع!$B$47),INDEX('اسناد الأقسام'!N$7:N$78,SMALL(IF('اسناد الأقسام'!$D$7:$D$78=التجميع!$B$47,ROW('اسناد الأقسام'!$D$7:$D$78)-ROW('اسناد الأقسام'!$D$7)+1),ROW(7:7))),\"\")","v":""},{"$f":"IF(ROW(7:7)<=COUNTIF('اسناد الأقسام'!$D$7:$D$78,التجميع!$B$47),INDEX('اسناد الأقسام'!O$7:O$78,SMALL(IF('اسناد الأقسام'!$D$7:$D$78=التجميع!$B$47,ROW('اسناد الأقسام'!$D$7:$D$78)-ROW('اسناد الأقسام'!$D$7)+1),ROW(7:7))),\"\")","v":""},{"$f":"IF(ROW(7:7)<=COUNTIF('اسناد الأقسام'!$D$7:$D$78,التجميع!$B$47),INDEX('اسناد الأقسام'!P$7:P$78,SMALL(IF('اسناد الأقسام'!$D$7:$D$78=التجميع!$B$47,ROW('اسناد الأقسام'!$D$7:$D$78)-ROW('اسناد الأقسام'!$D$7)+1),ROW(7:7))),\"\")","v":""},{"$f":"IF(ROW(7:7)<=COUNTIF('اسناد الأقسام'!$D$7:$D$78,التجميع!$B$47),INDEX('اسناد الأقسام'!Q$7:Q$78,SMALL(IF('اسناد الأقسام'!$D$7:$D$78=التجميع!$B$47,ROW('اسناد الأقسام'!$D$7:$D$78)-ROW('اسناد الأقسام'!$D$7)+1),ROW(7:7))),\"\")","v":""}]
[8,{"$f":"IF(ROW(8:8)<=COUNTIF('اسناد الأقسام'!$D$7:$D$78,التجميع!$B$47),INDEX('اسناد الأقسام'!C$7:C$78,SMALL(IF('اسناد الأقسام'!$D$7:$D$78=التجميع!$B$47,ROW('اسناد الأقسام'!$D$7:$D$78)-ROW('اسناد الأقسام'!$D$7)+1),ROW(8:8))),\"\")","v":""},{"$f":"IF(ROW(8:8)<=COUNTIF('اسناد الأقسام'!$D$7:$D$78,التجميع!$B$47),INDEX('اسناد الأقسام'!D$7:D$78,SMALL(IF('اسناد الأقسام'!$D$7:$D$78=التجميع!$B$47,ROW('اسناد الأقسام'!$D$7:$D$78)-ROW('اسناد الأقسام'!$D$7)+1),ROW(8:8))),\"\")","v":""},{"$f":"IF(ROW(8:8)<=COUNTIF('اسناد الأقسام'!$D$7:$D$78,التجميع!$B$47),INDEX('اسناد الأقسام'!E$7:E$78,SMALL(IF('اسناد الأقسام'!$D$7:$D$78=التجميع!$B$47,ROW('اسناد الأقسام'!$D$7:$D$78)-ROW('اسناد الأقسام'!$D$7)+1),ROW(8:8))),\"\")","v":""},{"$f":"IF(ROW(8:8)<=COUNTIF('اسناد الأقسام'!$D$7:$D$78,التجميع!$B$47),INDEX('اسناد الأقسام'!F$7:F$78,SMALL(IF('اسناد الأقسام'!$D$7:$D$78=التجميع!$B$47,ROW('اسناد الأقسام'!$D$7:$D$78)-ROW('اسناد الأقسام'!$D$7)+1),ROW(8:8))),\"\")","v":""},{"$f":"IF(ROW(8:8)<=COUNTIF('اسناد الأقسام'!$D$7:$D$78,التجميع!$B$47),INDEX('اسناد الأقسام'!G$7:G$78,SMALL(IF('اسناد الأقسام'!$D$7:$D$78=التجميع!$B$47,ROW('اسناد الأقسام'!$D$7:$D$78)-ROW('اسناد الأقسام'!$D$7)+1),ROW(8:8))),\"\")","v":""},{"$f":"IF(ROW(8:8)<=COUNTIF('اسناد الأقسام'!$D$7:$D$78,التجميع!$B$47),INDEX('اسناد الأقسام'!H$7:H$78,SMALL(IF('اسناد الأقسام'!$D$7:$D$78=التجميع!$B$47,ROW('اسناد الأقسام'!$D$7:$D$78)-ROW('اسناد الأقسام'!$D$7)+1),ROW(8:8))),\"\")","v":""},{"$f":"IF(ROW(8:8)<=COUNTIF('اسناد الأقسام'!$D$7:$D$78,التجميع!$B$47),INDEX('اسناد الأقسام'!I$7:I$78,SMALL(IF('اسناد الأقسام'!$D$7:$D$78=التجميع!$B$47,ROW('اسناد الأقسام'!$D$7:$D$78)-ROW('اسناد الأقسام'!$D$7)+1),ROW(8:8))),\"\")","v":""},{"$f":"IF(ROW(8:8)<=COUNTIF('اسناد الأقسام'!$D$7:$D$78,التجميع!$B$47),INDEX('اسناد الأقسام'!J$7:J$78,SMALL(IF('اسناد الأقسام'!$D$7:$D$78=التجميع!$B$47,ROW('اسناد الأقسام'!$D$7:$D$78)-ROW('اسناد الأقسام'!$D$7)+1),ROW(8:8))),\"\")","v":""},{"$f":"IF(ROW(8:8)<=COUNTIF('اسناد الأقسام'!$D$7:$D$78,التجميع!$B$47),INDEX('اسناد الأقسام'!K$7:K$78,SMALL(IF('اسناد الأقسام'!$D$7:$D$78=التجميع!$B$47,ROW('اسناد الأقسام'!$D$7:$D$78)-ROW('اسناد الأقسام'!$D$7)+1),ROW(8:8))),\"\")","v":""},{"$f":"IF(ROW(8:8)<=COUNTIF('اسناد الأقسام'!$D$7:$D$78,التجميع!$B$47),INDEX('اسناد الأقسام'!L$7:L$78,SMALL(IF('اسناد الأقسام'!$D$7:$D$78=التجميع!$B$47,ROW('اسناد الأقسام'!$D$7:$D$78)-ROW('اسناد الأقسام'!$D$7)+1),ROW(8:8))),\"\")","v":""},{"$f":"IF(ROW(8:8)<=COUNTIF('اسناد الأقسام'!$D$7:$D$78,التجميع!$B$47),INDEX('اسناد الأقسام'!M$7:M$78,SMALL(IF('اسناد الأقسام'!$D$7:$D$78=التجميع!$B$47,ROW('اسناد الأقسام'!$D$7:$D$78)-ROW('اسناد الأقسام'!$D$7)+1),ROW(8:8))),\"\")","v":""},{"$f":"IF(ROW(8:8)<=COUNTIF('اسناد الأقسام'!$D$7:$D$78,التجميع!$B$47),INDEX('اسناد الأقسام'!N$7:N$78,SMALL(IF('اسناد الأقسام'!$D$7:$D$78=التجميع!$B$47,ROW('اسناد الأقسام'!$D$7:$D$78)-ROW('اسناد الأقسام'!$D$7)+1),ROW(8:8))),\"\")","v":""},{"$f":"IF(ROW(8:8)<=COUNTIF('اسناد الأقسام'!$D$7:$D$78,التجميع!$B$47),INDEX('اسناد الأقسام'!O$7:O$78,SMALL(IF('اسناد الأقسام'!$D$7:$D$78=التجميع!$B$47,ROW('اسناد الأقسام'!$D$7:$D$78)-ROW('اسناد الأقسام'!$D$7)+1),ROW(8:8))),\"\")","v":""},{"$f":"IF(ROW(8:8)<=COUNTIF('اسناد الأقسام'!$D$7:$D$78,التجميع!$B$47),INDEX('اسناد الأقسام'!P$7:P$78,SMALL(IF('اسناد الأقسام'!$D$7:$D$78=التجميع!$B$47,ROW('اسناد الأقسام'!$D$7:$D$78)-ROW('اسناد الأقسام'!$D$7)+1),ROW(8:8))),\"\")","v":""},{"$f":"IF(ROW(8:8)<=COUNTIF('اسناد الأقسام'!$D$7:$D$78,التجميع!$B$47),INDEX('اسناد الأقسام'!Q$7:Q$78,SMALL(IF('اسناد الأقسام'!$D$7:$D$78=التجميع!$B$47,ROW('اسناد الأقسام'!$D$7:$D$78)-ROW('اسناد الأقسام'!$D$7)+1),ROW(8:8))),\"\")","v":""}]
[9,{"$f":"IF(ROW(9:9)<=COUNTIF('اسناد الأقسام'!$D$7:$D$78,التجميع!$B$47),INDEX('اسناد الأقسام'!C$7:C$78,SMALL(IF('اسناد الأقسام'!$D$7:$D$78=التجميع!$B$47,ROW('اسناد الأقسام'!$D$7:$D$78)-ROW('اسناد الأقسام'!$D$7)+1),ROW(9:9))),\"\")","v":""},{"$f":"IF(ROW(9:9)<=COUNTIF('اسناد الأقسام'!$D$7:$D$78,التجميع!$B$47),INDEX('اسناد الأقسام'!D$7:D$78,SMALL(IF('اسناد الأقسام'!$D$7:$D$78=التجميع!$B$47,ROW('اسناد الأقسام'!$D$7:$D$78)-ROW('اسناد الأقسام'!$D$7)+1),ROW(9:9))),\"\")","v":""},{"$f":"IF(ROW(9:9)<=COUNTIF('اسناد الأقسام'!$D$7:$D$78,التجميع!$B$47),INDEX('اسناد الأقسام'!E$7:E$78,SMALL(IF('اسناد الأقسام'!$D$7:$D$78=التجميع!$B$47,ROW('اسناد الأقسام'!$D$7:$D$78)-ROW('اسناد الأقسام'!$D$7)+1),ROW(9:9))),\"\")","v":""},{"$f":"IF(ROW(9:9)<=COUNTIF('اسناد الأقسام'!$D$7:$D$78,التجميع!$B$47),INDEX('اسناد الأقسام'!F$7:F$78,SMALL(IF('اسناد الأقسام'!$D$7:$D$78=التجميع!$B$47,ROW('اسناد الأقسام'!$D$7:$D$78)-ROW('اسناد الأقسام'!$D$7)+1),ROW(9:9))),\"\")","v":""},{"$f":"IF(ROW(9:9)<=COUNTIF('اسناد الأقسام'!$D$7:$D$78,التجميع!$B$47),INDEX('اسناد الأقسام'!G$7:G$78,SMALL(IF('اسناد الأقسام'!$D$7:$D$78=التجميع!$B$47,ROW('اسناد الأقسام'!$D$7:$D$78)-ROW('اسناد الأقسام'!$D$7)+1),ROW(9:9))),\"\")","v":""},{"$f":"IF(ROW(9:9)<=COUNTIF('اسناد الأقسام'!$D$7:$D$78,التجميع!$B$47),INDEX('اسناد الأقسام'!H$7:H$78,SMALL(IF('اسناد الأقسام'!$D$7:$D$78=التجميع!$B$47,ROW('اسناد الأقسام'!$D$7:$D$78)-ROW('اسناد الأقسام'!$D$7)+1),ROW(9:9))),\"\")","v":""},{"$f":"IF(ROW(9:9)<=COUNTIF('اسناد الأقسام'!$D$7:$D$78,التجميع!$B$47),INDEX('اسناد الأقسام'!I$7:I$78,SMALL(IF('اسناد الأقسام'!$D$7:$D$78=التجميع!$B$47,ROW('اسناد الأقسام'!$D$7:$D$78)-ROW('اسناد الأقسام'!$D$7)+1),ROW(9:9))),\"\")","v":""},{"$f":"IF(ROW(9:9)<=COUNTIF('اسناد الأقسام'!$D$7:$D$78,التجميع!$B$47),INDEX('اسناد الأقسام'!J$7:J$78,SMALL(IF('اسناد الأقسام'!$D$7:$D$78=التجميع!$B$47,ROW('اسناد الأقسام'!$D$7:$D$78)-ROW('اسناد الأقسام'!$D$7)+1),ROW(9:9))),\"\")","v":""},{"$f":"IF(ROW(9:9)<=COUNTIF('اسناد الأقسام'!$D$7:$D$78,التجميع!$B$47),INDEX('اسناد الأقسام'!K$7:K$78,SMALL(IF('اسناد الأقسام'!$D$7:$D$78=التجميع!$B$47,ROW('اسناد الأقسام'!$D$7:$D$78)-ROW('اسناد الأقسام'!$D$7)+1),ROW(9:9))),\"\")","v":""},{"$f":"IF(ROW(9:9)<=COUNTIF('اسناد الأقسام'!$D$7:$D$78,التجميع!$B$47),INDEX('اسناد الأقسام'!L$7:L$78,SMALL(IF('اسناد الأقسام'!$D$7:$D$78=التجميع!$B$47,ROW('اسناد الأقسام'!$D$7:$D$78)-ROW('اسناد الأقسام'!$D$7)+1),ROW(9:9))),\"\")","v":""},{"$f":"IF(ROW(9:9)<=COUNTIF('اسناد الأقسام'!$D$7:$D$78,التجميع!$B$47),INDEX('اسناد الأقسام'!M$7:M$78,SMALL(IF('اسناد الأقسام'!$D$7:$D$78=التجميع!$B$47,ROW('اسناد الأقسام'!$D$7:$D$78)-ROW('اسناد الأقسام'!$D$7)+1),ROW(9:9))),\"\")","v":""},{"$f":"IF(ROW(9:9)<=COUNTIF('اسناد الأقسام'!$D$7:$D$78,التجميع!$B$47),INDEX('اسناد الأقسام'!N$7:N$78,SMALL(IF('اسناد الأقسام'!$D$7:$D$78=التجميع!$B$47,ROW('اسناد الأقسام'!$D$7:$D$78)-ROW('اسناد الأقسام'!$D$7)+1),ROW(9:9))),\"\")","v":""},{"$f":"IF(ROW(9:9)<=COUNTIF('اسناد الأقسام'!$D$7:$D$78,التجميع!$B$47),INDEX('اسناد الأقسام'!O$7:O$78,SMALL(IF('اسناد الأقسام'!$D$7:$D$78=التجميع!$B$47,ROW('اسناد الأقسام'!$D$7:$D$78)-ROW('اسناد الأقسام'!$D$7)+1),ROW(9:9))),\"\")","v":""},{"$f":"IF(ROW(9:9)<=COUNTIF('اسناد الأقسام'!$D$7:$D$78,التجميع!$B$47),INDEX('اسناد الأقسام'!P$7:P$78,SMALL(IF('اسناد الأقسام'!$D$7:$D$78=التجميع!$B$47,ROW('اسناد الأقسام'!$D$7:$D$78)-ROW('اسناد الأقسام'!$D$7)+1),ROW(9:9))),\"\")","v":""},{"$f":"IF(ROW(9:9)<=COUNTIF('اسناد الأقسام'!$D$7:$D$78,التجميع!$B$47),INDEX('اسناد الأقسام'!Q$7:Q$78,SMALL(IF('اسناد الأقسام'!$D$7:$D$78=التجميع!$B$47,ROW('اسناد الأقسام'!$D$7:$D$78)-ROW('اسناد الأقسام'!$D$7)+1),ROW(9:9))),\"\")","v":""}]
[10,{"$f":"IF(ROW(10:10)<=COUNTIF('اسناد الأقسام'!$D$7:$D$78,التجميع!$B$47),INDEX('اسناد الأقسام'!C$7:C$78,SMALL(IF('اسناد الأقسام'!$D$7:$D$78=التجميع!$B$47,ROW('اسناد الأقسام'!$D$7:$D$78)-ROW('اسناد الأقسام'!$D$7)+1),ROW(10:10))),\"\")","v":""},{"$f":"IF(ROW(10:10)<=COUNTIF('اسناد الأقسام'!$D$7:$D$78,التجميع!$B$47),INDEX('اسناد الأقسام'!D$7:D$78,SMALL(IF('اسناد الأقسام'!$D$7:$D$78=التجميع!$B$47,ROW('اسناد الأقسام'!$D$7:$D$78)-ROW('اسناد الأقسام'!$D$7)+1),ROW(10:10))),\"\")","v":""},{"$f":"IF(ROW(10:10)<=COUNTIF('اسناد الأقسام'!$D$7:$D$78,التجميع!$B$47),INDEX('اسناد الأقسام'!E$7:E$78,SMALL(IF('اسناد الأقسام'!$D$7:$D$78=التجميع!$B$47,ROW('اسناد الأقسام'!$D$7:$D$78)-ROW('اسناد الأقسام'!$D$7)+1),ROW(10:10))),\"\")","v":""},{"$f":"IF(ROW(10:10)<=COUNTIF('اسناد الأقسام'!$D$7:$D$78,التجميع!$B$47),INDEX('اسناد الأقسام'!F$7:F$78,SMALL(IF('اسناد الأقسام'!$D$7:$D$78=التجميع!$B$47,ROW('اسناد الأقسام'!$D$7:$D$78)-ROW('اسناد الأقسام'!$D$7)+1),ROW(10:10))),\"\")","v":""},{"$f":"IF(ROW(10:10)<=COUNTIF('اسناد الأقسام'!$D$7:$D$78,التجميع!$B$47),INDEX('اسناد الأقسام'!G$7:G$78,SMALL(IF('اسناد الأقسام'!$D$7:$D$78=التجميع!$B$47,ROW('اسناد الأقسام'!$D$7:$D$78)-ROW('اسناد الأقسام'!$D$7)+1),ROW(10:10))),\"\")","v":""},{"$f":"IF(ROW(10:10)<=COUNTIF('اسناد الأقسام'!$D$7:$D$78,التجميع!$B$47),INDEX('اسناد الأقسام'!H$7:H$78,SMALL(IF('اسناد الأقسام'!$D$7:$D$78=التجميع!$B$47,ROW('اسناد الأقسام'!$D$7:$D$78)-ROW('اسناد الأقسام'!$D$7)+1),ROW(10:10))),\"\")","v":""},{"$f":"IF(ROW(10:10)<=COUNTIF('اسناد الأقسام'!$D$7:$D$78,التجميع!$B$47),INDEX('اسناد الأقسام'!I$7:I$78,SMALL(IF('اسناد الأقسام'!$D$7:$D$78=التجميع!$B$47,ROW('اسناد الأقسام'!$D$7:$D$78)-ROW('اسناد الأقسام'!$D$7)+1),ROW(10:10))),\"\")","v":""},{"$f":"IF(ROW(10:10)<=COUNTIF('اسناد الأقسام'!$D$7:$D$78,التجميع!$B$47),INDEX('اسناد الأقسام'!J$7:J$78,SMALL(IF('اسناد الأقسام'!$D$7:$D$78=التجميع!$B$47,ROW('اسناد الأقسام'!$D$7:$D$78)-ROW('اسناد الأقسام'!$D$7)+1),ROW(10:10))),\"\")","v":""},{"$f":"IF(ROW(10:10)<=COUNTIF('اسناد الأقسام'!$D$7:$D$78,التجميع!$B$47),INDEX('اسناد الأقسام'!K$7:K$78,SMALL(IF('اسناد الأقسام'!$D$7:$D$78=التجميع!$B$47,ROW('اسناد الأقسام'!$D$7:$D$78)-ROW('اسناد الأقسام'!$D$7)+1),ROW(10:10))),\"\")","v":""},{"$f":"IF(ROW(10:10)<=COUNTIF('اسناد الأقسام'!$D$7:$D$78,التجميع!$B$47),INDEX('اسناد الأقسام'!L$7:L$78,SMALL(IF('اسناد الأقسام'!$D$7:$D$78=التجميع!$B$47,ROW('اسناد الأقسام'!$D$7:$D$78)-ROW('اسناد الأقسام'!$D$7)+1),ROW(10:10))),\"\")","v":""},{"$f":"IF(ROW(10:10)<=COUNTIF('اسناد الأقسام'!$D$7:$D$78,التجميع!$B$47),INDEX('اسناد الأقسام'!M$7:M$78,SMALL(IF('اسناد الأقسام'!$D$7:$D$78=التجميع!$B$47,ROW('اسناد الأقسام'!$D$7:$D$78)-ROW('اسناد الأقسام'!$D$7)+1),ROW(10:10))),\"\")","v":""},{"$f":"IF(ROW(10:10)<=COUNTIF('اسناد الأقسام'!$D$7:$D$78,التجميع!$B$47),INDEX('اسناد الأقسام'!N$7:N$78,SMALL(IF('اسناد الأقسام'!$D$7:$D$78=التجميع!$B$47,ROW('اسناد الأقسام'!$D$7:$D$78)-ROW('اسناد الأقسام'!$D$7)+1),ROW(10:10))),\"\")","v":""},{"$f":"IF(ROW(10:10)<=COUNTIF('اسناد الأقسام'!$D$7:$D$78,التجميع!$B$47),INDEX('اسناد الأقسام'!O$7:O$78,SMALL(IF('اسناد الأقسام'!$D$7:$D$78=التجميع!$B$47,ROW('اسناد الأقسام'!$D$7:$D$78)-ROW('اسناد الأقسام'!$D$7)+1),ROW(10:10))),\"\")","v":""},{"$f":"IF(ROW(10:10)<=COUNTIF('اسناد الأقسام'!$D$7:$D$78,التجميع!$B$47),INDEX('اسناد الأقسام'!P$7:P$78,SMALL(IF('اسناد الأقسام'!$D$7:$D$78=التجميع!$B$47,ROW('اسناد الأقسام'!$D$7:$D$78)-ROW('اسناد الأقسام'!$D$7)+1),ROW(10:10))),\"\")","v":""},{"$f":"IF(ROW(10:10)<=COUNTIF('اسناد الأقسام'!$D$7:$D$78,التجميع!$B$47),INDEX('اسناد الأقسام'!Q$7:Q$78,SMALL(IF('اسناد الأقسام'!$D$7:$D$78=التجميع!$B$47,ROW('اسناد الأقسام'!$D$7:$D$78)-ROW('اسناد الأقسام'!$D$7)+1),ROW(10:10))),\"\")","v":""}]
[11,{"$f":"IF(ROW(11:11)<=COUNTIF('اسناد الأقسام'!$D$7:$D$78,التجميع!$B$47),INDEX('اسناد الأقسام'!C$7:C$78,SMALL(IF('اسناد الأقسام'!$D$7:$D$78=التجميع!$B$47,ROW('اسناد الأقسام'!$D$7:$D$78)-ROW('اسناد الأقسام'!$D$7)+1),ROW(11:11))),\"\")","v":""},{"$f":"IF(ROW(11:11)<=COUNTIF('اسناد الأقسام'!$D$7:$D$78,التجميع!$B$47),INDEX('اسناد الأقسام'!D$7:D$78,SMALL(IF('اسناد الأقسام'!$D$7:$D$78=التجميع!$B$47,ROW('اسناد الأقسام'!$D$7:$D$78)-ROW('اسناد الأقسام'!$D$7)+1),ROW(11:11))),\"\")","v":""},{"$f":"IF(ROW(11:11)<=COUNTIF('اسناد الأقسام'!$D$7:$D$78,التجميع!$B$47),INDEX('اسناد الأقسام'!E$7:E$78,SMALL(IF('اسناد الأقسام'!$D$7:$D$78=التجميع!$B$47,ROW('اسناد الأقسام'!$D$7:$D$78)-ROW('اسناد الأقسام'!$D$7)+1),ROW(11:11))),\"\")","v":""},{"$f":"IF(ROW(11:11)<=COUNTIF('اسناد الأقسام'!$D$7:$D$78,التجميع!$B$47),INDEX('اسناد الأقسام'!F$7:F$78,SMALL(IF('اسناد الأقسام'!$D$7:$D$78=التجميع!$B$47,ROW('اسناد الأقسام'!$D$7:$D$78)-ROW('اسناد الأقسام'!$D$7)+1),ROW(11:11))),\"\")","v":""},{"$f":"IF(ROW(11:11)<=COUNTIF('اسناد الأقسام'!$D$7:$D$78,التجميع!$B$47),INDEX('اسناد الأقسام'!G$7:G$78,SMALL(IF('اسناد الأقسام'!$D$7:$D$78=التجميع!$B$47,ROW('اسناد الأقسام'!$D$7:$D$78)-ROW('اسناد الأقسام'!$D$7)+1),ROW(11:11))),\"\")","v":""},{"$f":"IF(ROW(11:11)<=COUNTIF('اسناد الأقسام'!$D$7:$D$78,التجميع!$B$47),INDEX('اسناد الأقسام'!H$7:H$78,SMALL(IF('اسناد الأقسام'!$D$7:$D$78=التجميع!$B$47,ROW('اسناد الأقسام'!$D$7:$D$78)-ROW('اسناد الأقسام'!$D$7)+1),ROW(11:11))),\"\")","v":""},{"$f":"IF(ROW(11:11)<=COUNTIF('اسناد الأقسام'!$D$7:$D$78,التجميع!$B$47),INDEX('اسناد الأقسام'!I$7:I$78,SMALL(IF('اسناد الأقسام'!$D$7:$D$78=التجميع!$B$47,ROW('اسناد الأقسام'!$D$7:$D$78)-ROW('اسناد الأقسام'!$D$7)+1),ROW(11:11))),\"\")","v":""},{"$f":"IF(ROW(11:11)<=COUNTIF('اسناد الأقسام'!$D$7:$D$78,التجميع!$B$47),INDEX('اسناد الأقسام'!J$7:J$78,SMALL(IF('اسناد الأقسام'!$D$7:$D$78=التجميع!$B$47,ROW('اسناد الأقسام'!$D$7:$D$78)-ROW('اسناد الأقسام'!$D$7)+1),ROW(11:11))),\"\")","v":""},{"$f":"IF(ROW(11:11)<=COUNTIF('اسناد الأقسام'!$D$7:$D$78,التجميع!$B$47),INDEX('اسناد الأقسام'!K$7:K$78,SMALL(IF('اسناد الأقسام'!$D$7:$D$78=التجميع!$B$47,ROW('اسناد الأقسام'!$D$7:$D$78)-ROW('اسناد الأقسام'!$D$7)+1),ROW(11:11))),\"\")","v":""},{"$f":"IF(ROW(11:11)<=COUNTIF('اسناد الأقسام'!$D$7:$D$78,التجميع!$B$47),INDEX('اسناد الأقسام'!L$7:L$78,SMALL(IF('اسناد الأقسام'!$D$7:$D$78=التجميع!$B$47,ROW('اسناد الأقسام'!$D$7:$D$78)-ROW('اسناد الأقسام'!$D$7)+1),ROW(11:11))),\"\")","v":""},{"$f":"IF(ROW(11:11)<=COUNTIF('اسناد الأقسام'!$D$7:$D$78,التجميع!$B$47),INDEX('اسناد الأقسام'!M$7:M$78,SMALL(IF('اسناد الأقسام'!$D$7:$D$78=التجميع!$B$47,ROW('اسناد الأقسام'!$D$7:$D$78)-ROW('اسناد الأقسام'!$D$7)+1),ROW(11:11))),\"\")","v":""},{"$f":"IF(ROW(11:11)<=COUNTIF('اسناد الأقسام'!$D$7:$D$78,التجميع!$B$47),INDEX('اسناد الأقسام'!N$7:N$78,SMALL(IF('اسناد الأقسام'!$D$7:$D$78=التجميع!$B$47,ROW('اسناد الأقسام'!$D$7:$D$78)-ROW('اسناد الأقسام'!$D$7)+1),ROW(11:11))),\"\")","v":""},{"$f":"IF(ROW(11:11)<=COUNTIF('اسناد الأقسام'!$D$7:$D$78,التجميع!$B$47),INDEX('اسناد الأقسام'!O$7:O$78,SMALL(IF('اسناد الأقسام'!$D$7:$D$78=التجميع!$B$47,ROW('اسناد الأقسام'!$D$7:$D$78)-ROW('اسناد الأقسام'!$D$7)+1),ROW(11:11))),\"\")","v":""},{"$f":"IF(ROW(11:11)<=COUNTIF('اسناد الأقسام'!$D$7:$D$78,التجميع!$B$47),INDEX('اسناد الأقسام'!P$7:P$78,SMALL(IF('اسناد الأقسام'!$D$7:$D$78=التجميع!$B$47,ROW('اسناد الأقسام'!$D$7:$D$78)-ROW('اسناد الأقسام'!$D$7)+1),ROW(11:11))),\"\")","v":""},{"$f":"IF(ROW(11:11)<=COUNTIF('اسناد الأقسام'!$D$7:$D$78,التجميع!$B$47),INDEX('اسناد الأقسام'!Q$7:Q$78,SMALL(IF('اسناد الأقسام'!$D$7:$D$78=التجميع!$B$47,ROW('اسناد الأقسام'!$D$7:$D$78)-ROW('اسناد الأقسام'!$D$7)+1),ROW(11:11))),\"\")","v":""}]
[12,{"$f":"IF(ROW(12:12)<=COUNTIF('اسناد الأقسام'!$D$7:$D$78,التجميع!$B$47),INDEX('اسناد الأقسام'!C$7:C$78,SMALL(IF('اسناد الأقسام'!$D$7:$D$78=التجميع!$B$47,ROW('اسناد الأقسام'!$D$7:$D$78)-ROW('اسناد الأقسام'!$D$7)+1),ROW(12:12))),\"\")","v":""},{"$f":"IF(ROW(12:12)<=COUNTIF('اسناد الأقسام'!$D$7:$D$78,التجميع!$B$47),INDEX('اسناد الأقسام'!D$7:D$78,SMALL(IF('اسناد الأقسام'!$D$7:$D$78=التجميع!$B$47,ROW('اسناد الأقسام'!$D$7:$D$78)-ROW('اسناد الأقسام'!$D$7)+1),ROW(12:12))),\"\")","v":""},{"$f":"IF(ROW(12:12)<=COUNTIF('اسناد الأقسام'!$D$7:$D$78,التجميع!$B$47),INDEX('اسناد الأقسام'!E$7:E$78,SMALL(IF('اسناد الأقسام'!$D$7:$D$78=التجميع!$B$47,ROW('اسناد الأقسام'!$D$7:$D$78)-ROW('اسناد الأقسام'!$D$7)+1),ROW(12:12))),\"\")","v":""},{"$f":"IF(ROW(12:12)<=COUNTIF('اسناد الأقسام'!$D$7:$D$78,التجميع!$B$47),INDEX('اسناد الأقسام'!F$7:F$78,SMALL(IF('اسناد الأقسام'!$D$7:$D$78=التجميع!$B$47,ROW('اسناد الأقسام'!$D$7:$D$78)-ROW('اسناد الأقسام'!$D$7)+1),ROW(12:12))),\"\")","v":""},{"$f":"IF(ROW(12:12)<=COUNTIF('اسناد الأقسام'!$D$7:$D$78,التجميع!$B$47),INDEX('اسناد الأقسام'!G$7:G$78,SMALL(IF('اسناد الأقسام'!$D$7:$D$78=التجميع!$B$47,ROW('اسناد الأقسام'!$D$7:$D$78)-ROW('اسناد الأقسام'!$D$7)+1),ROW(12:12))),\"\")","v":""},{"$f":"IF(ROW(12:12)<=COUNTIF('اسناد الأقسام'!$D$7:$D$78,التجميع!$B$47),INDEX('اسناد الأقسام'!H$7:H$78,SMALL(IF('اسناد الأقسام'!$D$7:$D$78=التجميع!$B$47,ROW('اسناد الأقسام'!$D$7:$D$78)-ROW('اسناد الأقسام'!$D$7)+1),ROW(12:12))),\"\")","v":""},{"$f":"IF(ROW(12:12)<=COUNTIF('اسناد الأقسام'!$D$7:$D$78,التجميع!$B$47),INDEX('اسناد الأقسام'!I$7:I$78,SMALL(IF('اسناد الأقسام'!$D$7:$D$78=التجميع!$B$47,ROW('اسناد الأقسام'!$D$7:$D$78)-ROW('اسناد الأقسام'!$D$7)+1),ROW(12:12))),\"\")","v":""},{"$f":"IF(ROW(12:12)<=COUNTIF('اسناد الأقسام'!$D$7:$D$78,التجميع!$B$47),INDEX('اسناد الأقسام'!J$7:J$78,SMALL(IF('اسناد الأقسام'!$D$7:$D$78=التجميع!$B$47,ROW('اسناد الأقسام'!$D$7:$D$78)-ROW('اسناد الأقسام'!$D$7)+1),ROW(12:12))),\"\")","v":""},{"$f":"IF(ROW(12:12)<=COUNTIF('اسناد الأقسام'!$D$7:$D$78,التجميع!$B$47),INDEX('اسناد الأقسام'!K$7:K$78,SMALL(IF('اسناد الأقسام'!$D$7:$D$78=التجميع!$B$47,ROW('اسناد الأقسام'!$D$7:$D$78)-ROW('اسناد الأقسام'!$D$7)+1),ROW(12:12))),\"\")","v":""},{"$f":"IF(ROW(12:12)<=COUNTIF('اسناد الأقسام'!$D$7:$D$78,التجميع!$B$47),INDEX('اسناد الأقسام'!L$7:L$78,SMALL(IF('اسناد الأقسام'!$D$7:$D$78=التجميع!$B$47,ROW('اسناد الأقسام'!$D$7:$D$78)-ROW('اسناد الأقسام'!$D$7)+1),ROW(12:12))),\"\")","v":""},{"$f":"IF(ROW(12:12)<=COUNTIF('اسناد الأقسام'!$D$7:$D$78,التجميع!$B$47),INDEX('اسناد الأقسام'!M$7:M$78,SMALL(IF('اسناد الأقسام'!$D$7:$D$78=التجميع!$B$47,ROW('اسناد الأقسام'!$D$7:$D$78)-ROW('اسناد الأقسام'!$D$7)+1),ROW(12:12))),\"\")","v":""},{"$f":"IF(ROW(12:12)<=COUNTIF('اسناد الأقسام'!$D$7:$D$78,التجميع!$B$47),INDEX('اسناد الأقسام'!N$7:N$78,SMALL(IF('اسناد الأقسام'!$D$7:$D$78=التجميع!$B$47,ROW('اسناد الأقسام'!$D$7:$D$78)-ROW('اسناد الأقسام'!$D$7)+1),ROW(12:12))),\"\")","v":""},{"$f":"IF(ROW(12:12)<=COUNTIF('اسناد الأقسام'!$D$7:$D$78,التجميع!$B$47),INDEX('اسناد الأقسام'!O$7:O$78,SMALL(IF('اسناد الأقسام'!$D$7:$D$78=التجميع!$B$47,ROW('اسناد الأقسام'!$D$7:$D$78)-ROW('اسناد الأقسام'!$D$7)+1),ROW(12:12))),\"\")","v":""},{"$f":"IF(ROW(12:12)<=COUNTIF('اسناد الأقسام'!$D$7:$D$78,التجميع!$B$47),INDEX('اسناد الأقسام'!P$7:P$78,SMALL(IF('اسناد الأقسام'!$D$7:$D$78=التجميع!$B$47,ROW('اسناد الأقسام'!$D$7:$D$78)-ROW('اسناد الأقسام'!$D$7)+1),ROW(12:12))),\"\")","v":""},{"$f":"IF(ROW(12:12)<=COUNTIF('اسناد الأقسام'!$D$7:$D$78,التجميع!$B$47),INDEX('اسناد الأقسام'!Q$7:Q$78,SMALL(IF('اسناد الأقسام'!$D$7:$D$78=التجميع!$B$47,ROW('اسناد الأقسام'!$D$7:$D$78)-ROW('اسناد الأقسام'!$D$7)+1),ROW(12:12))),\"\")","v":""}]
[]
[null,"فرنسية"]
["الرقم","اللقب والاسم","المادة","تاريخ الميلاد","الصفة","أقصى درجة جامعية","تاريخ التعيين بالمؤسسة","الأقسام المسندة"]
[1,{"$f":"IF(ROW(1:1)<=COUNTIF('اسناد الأقسام'!$D$7:$D$78,التجميع!$B$62),INDEX('اسناد الأقسام'!C$7:C$78,SMALL(IF('اسناد الأقسام'!$D$7:$D$78=التجميع!$B$62,ROW('اسناد الأقسام'!$D$7:$D$78)-ROW('اسناد الأقسام'!$D$7)+1),ROW(1:1))),\"\")","v":"مغزي محمد "},{"$f":"IF(ROW(1:1)<=COUNTIF('اسناد الأقسام'!$D$7:$D$78,التجميع!$B$62),INDEX('اسناد الأقسام'!D$7:D$78,SMALL(IF('اسناد الأقسام'!$D$7:$D$78=التجميع!$B$62,ROW('اسناد الأقسام'!$D$7:$D$78)-ROW('اسناد الأقسام'!$D$7)+1),ROW(1:1))),\"\")","v":"فرنسية"},{"$f":"IF(ROW(1:1)<=COUNTIF('اسناد الأقسام'!$D$7:$D$78,التجميع!$B$62),INDEX('اسناد الأقسام'!E$7:E$78,SMALL(IF('اسناد الأقسام'!$D$7:$D$78=التجميع!$B$62,ROW('اسناد الأقسام'!$D$7:$D$78)-ROW('اسناد الأقسام'!$D$7)+1),ROW(1:1))),\"\")","v":"1976-07-13"},{"$f":"IF(ROW(1:1)<=COUNTIF('اسناد الأقسام'!$D$7:$D$78,التجميع!$B$62),INDEX('اسناد الأقسام'!F$7:F$78,SMALL(IF('اسناد الأقسام'!$D$7:$D$78=التجميع!$B$62,ROW('اسناد الأقسام'!$D$7:$D$78)-ROW('اسناد الأقسام'!$D$7)+1),ROW(1:1))),\"\")","v":"مرسمة"},{"$f":"IF(ROW(1:1)<=COUNTIF('اسناد الأقسام'!$D$7:$D$78,التجميع!$B$62),INDEX('اسناد الأقسام'!G$7:G$78,SMALL(IF('اسناد الأقسام'!$D$7:$D$78=التجميع!$B$62,ROW('اسناد الأقسام'!$D$7:$D$78)-ROW('اسناد الأقسام'!$D$7)+1),ROW(1:1))),\"\")","v":"ليسانس"},{"$f":"IF(ROW(1:1)<=COUNTIF('اسناد الأقسام'!$D$7:$D$78,التجميع!$B$62),INDEX('اسناد الأقسام'!H$7:H$78,SMALL(IF('اسناد الأقسام'!$D$7:$D$78=التجميع!$B$62,ROW('اسناد الأقسام'!$D$7:$D$78)-ROW('اسناد الأقسام'!$D$7)+1),ROW(1:1))),\"\")","v":"2017-08-31"},{"$f":"IF(ROW(1:1)<=COUNTIF('اسناد الأقسام'!$D$7:$D$78,التجميع!$B$62),INDEX('اسناد الأقسام'!I$7:I$78,SMALL(IF('اسناد الأقسام'!$D$7:$D$78=التجميع!$B$62,ROW('اسناد الأقسام'!$D$7:$D$78)-ROW('اسناد الأقسام'!$D$7)+1),ROW(1:1))),\"\")","v":"1م1"},{"$f":"IF(ROW(1:1)<=COUNTIF('اسناد الأقسام'!$D$7:$D$78,التجميع!$B$62),INDEX('اسناد الأقسام'!J$7:J$78,SMALL(IF('اسناد الأقسام'!$D$7:$D$78=التجميع!$B$62,ROW('اسناد الأقسام'!$D$7:$D$78)-ROW('اسناد الأقسام'!$D$7)+1),ROW(1:1))),\"\")","v":"1م2"},{"$f":"IF(ROW(1:1)<=COUNTIF('اسناد الأقسام'!$D$7:$D$78,التجميع!$B$62),INDEX('اسناد الأقسام'!K$7:K$78,SMALL(IF('اسناد الأقسام'!$D$7:$D$78=التجميع!$B$62,ROW('اسناد الأقسام'!$D$7:$D$78)-ROW('اسناد الأقسام'!$D$7)+1),ROW(1:1))),\"\")","v":"1م3"},{"$f":"IF(ROW(1:1)<=COUNTIF('اسناد الأقسام'!$D$7:$D$78,التجميع!$B$62),INDEX('اسناد الأقسام'!L$7:L$78,SMALL(IF('اسناد الأقسام'!$D$7:$D$78=التجميع!$B$62,ROW('اسناد الأقسام'!$D$7:$D$78)-ROW('اسناد الأقسام'!$D$7)+1),ROW(1:1))),\"\")","v":"3م2"},{"$f":"IF(ROW(1:1)<=COUNTIF('اسناد الأقسام'!$D$7:$D$78,التجميع!$B$62),INDEX('اسناد الأقسام'!M$7:M$78,SMALL(IF('اسناد الأقسام'!$D$7:$D$78=التجميع!$B$62,ROW('اسناد الأقسام'!$D$7:$D$78)-ROW('اسناد الأقسام'!$D$7)+1),ROW(1:1))),\"\")","v":0},{"$f":"IF(ROW(1:1)<=COUNTIF('اسناد الأقسام'!$D$7:$D$78,التجميع!$B$62),INDEX('اسناد الأقسام'!N$7:N$78,SMALL(IF('اسناد الأقسام'!$D$7:$D$78=التجميع!$B$62,ROW('اسناد الأقسام'!$D$7:$D$78)-ROW('اسناد الأقسام'!$D$7)+1),ROW(1:1))),\"\")","v":0},{"$f":"IF(ROW(1:1)<=COUNTIF('اسناد الأقسام'!$D$7:$D$78,التجميع!$B$62),INDEX('اسناد الأقسام'!O$7:O$78,SMALL(IF('اسناد الأقسام'!$D$7:$D$78=التجميع!$B$62,ROW('اسناد الأقسام'!$D$7:$D$78)-ROW('اسناد الأقسام'!$D$7)+1),ROW(1:1))),\"\")","v":0},{"$f":"IF(ROW(1:1)<=COUNTIF('اسناد الأقسام'!$D$7:$D$78,التجميع!$B$62),INDEX('اسناد الأقسام'!P$7:P$78,SMALL(IF('اسناد الأقسام'!$D$7:$D$78=التجميع!$B$62,ROW('اسناد الأقسام'!$D$7:$D$78)-ROW('اسناد الأقسام'!$D$7)+1),ROW(1:1))),\"\")","v":0},{"$f":"IF(ROW(1:1)<=COUNTIF('اسناد الأقسام'!$D$7:$D$78,التجميع!$B$62),INDEX('اسناد الأقسام'!Q$7:Q$78,SMALL(IF('اسناد الأقسام'!$D$7:$D$78=التجميع!$B$62,ROW('اسناد الأقسام'!$D$7:$D$78)-ROW('اسناد الأقسام'!$D$7)+1),ROW(1:1))),\"\")","v":0}]
[2,{"$f":"IF(ROW(2:2)<=COUNTIF('اسناد الأقسام'!$D$7:$D$78,التجميع!$B$62),INDEX('اسناد الأقسام'!C$7:C$78,SMALL(IF('اسناد الأقسام'!$D$7:$D$78=التجميع!$B$62,ROW('اسناد الأقسام'!$D$7:$D$78)-ROW('اسناد الأقسام'!$D$7)+1),ROW(2:2))),\"\")","v":"كواهي يعقوب "},{"$f":"IF(ROW(2:2)<=COUNTIF('اسناد الأقسام'!$D$7:$D$78,التجميع!$B$62),INDEX('اسناد الأقسام'!D$7:D$78,SMALL(IF('اسناد الأقسام'!$D$7:$D$78=التجميع!$B$62,ROW('اسناد الأقسام'!$D$7:$D$78)-ROW('اسناد الأقسام'!$D$7)+1),ROW(2:2))),\"\")","v":"فرنسية"},{"$f":"IF(ROW(2:2)<=COUNTIF('اسناد الأقسام'!$D$7:$D$78,التجميع!$B$62),INDEX('اسناد الأقسام'!E$7:E$78,SMALL(IF('اسناد الأقسام'!$D$7:$D$78=التجميع!$B$62,ROW('اسناد الأقسام'!$D$7:$D$78)-ROW('اسناد الأقسام'!$D$7)+1),ROW(2:2))),\"\")","v":"1986-05-22"},{"$f":"IF(ROW(2:2)<=COUNTIF('اسناد الأقسام'!$D$7:$D$78,التجميع!$B$62),INDEX('اسناد الأقسام'!F$7:F$78,SMALL(IF('اسناد الأقسام'!$D$7:$D$78=التجميع!$B$62,ROW('اسناد الأقسام'!$D$7:$D$78)-ROW('اسناد الأقسام'!$D$7)+1),ROW(2:2))),\"\")","v":"مرسمة"},{"$f":"IF(ROW(2:2)<=COUNTIF('اسناد الأقسام'!$D$7:$D$78,التجميع!$B$62),INDEX('اسناد الأقسام'!G$7:G$78,SMALL(IF('اسناد الأقسام'!$D$7:$D$78=التجميع!$B$62,ROW('اسناد الأقسام'!$D$7:$D$78)-ROW('اسناد الأقسام'!$D$7)+1),ROW(2:2))),\"\")","v":"ليسانس"},{"$f":"IF(ROW(2:2)<=COUNTIF('اسناد الأقسام'!$D$7:$D$78,التجميع!$B$62),INDEX('اسناد الأقسام'!H$7:H$78,SMALL(IF('اسناد الأقسام'!$D$7:$D$78=التجميع!$B$62,ROW('اسناد الأقسام'!$D$7:$D$78)-ROW('اسناد الأقسام'!$D$7)+1),ROW(2:2))),\"\")","v":"2005-10-03"},{"$f":"IF(ROW(2:2)<=COUNTIF('اسناد الأقسام'!$D$7:$D$78,التجميع!$B$62),INDEX('اسناد الأقسام'!I$7:I$78,SMALL(IF('اسناد الأقسام'!$D$7:$D$78=التجميع!$B$62,ROW('اسناد الأقسام'!$D$7:$D$78)-ROW('اسناد الأقسام'!$D$7)+1),ROW(2:2))),\"\")","v":"4م1"},{"$f":"IF(ROW(2:2)<=COUNTIF('اسناد الأقسام'!$D$7:$D$78,التجميع!$B$62),INDEX('اسناد الأقسام'!J$7:J$78,SMALL(IF('اسناد الأقسام'!$D$7:$D$78=التجميع!$B$62,ROW('اسناد الأقسام'!$D$7:$D$78)-ROW('اسناد الأقسام'!$D$7)+1),ROW(2:2))),\"\")","v":"4م2"},{"$f":"IF(ROW(2:2)<=COUNTIF('اسناد الأقسام'!$D$7:$D$78,التجميع!$B$62),INDEX('اسناد الأقسام'!K$7:K$78,SMALL(IF('اسناد الأقسام'!$D$7:$D$78=التجميع!$B$62,ROW('اسناد الأقسام'!$D$7:$D$78)-ROW('اسناد الأقسام'!$D$7)+1),ROW(2:2))),\"\")","v":"3م1"},{"$f":"IF(ROW(2:2)<=COUNTIF('اسناد الأقسام'!$D$7:$D$78,التجميع!$B$62),INDEX('اسناد الأقسام'!L$7:L$78,SMALL(IF('اسناد الأقسام'!$D$7:$D$78=التجميع!$B$62,ROW('اسناد الأقسام'!$D$7:$D$78)-ROW('اسناد الأقسام'!$D$7)+1),ROW(2:2))),\"\")","v":0},{"$f":"IF(ROW(2:2)<=COUNTIF('اسناد الأقسام'!$D$7:$D$78,التجميع!$B$62),INDEX('اسناد الأقسام'!M$7:M$78,SMALL(IF('اسناد الأقسام'!$D$7:$D$78=التجميع!$B$62,ROW('اسناد الأقسام'!$D$7:$D$78)-ROW('اسناد الأقسام'!$D$7)+1),ROW(2:2))),\"\")","v":0},{"$f":"IF(ROW(2:2)<=COUNTIF('اسناد الأقسام'!$D$7:$D$78,التجميع!$B$62),INDEX('اسناد الأقسام'!N$7:N$78,SMALL(IF('اسناد الأقسام'!$D$7:$D$78=التجميع!$B$62,ROW('اسناد الأقسام'!$D$7:$D$78)-ROW('اسناد الأقسام'!$D$7)+1),ROW(2:2))),\"\")","v":0},{"$f":"IF(ROW(2:2)<=COUNTIF('اسناد الأقسام'!$D$7:$D$78,التجميع!$B$62),INDEX('اسناد الأقسام'!O$7:O$78,SMALL(IF('اسناد الأقسام'!$D$7:$D$78=التجميع!$B$62,ROW('اسناد الأقسام'!$D$7:$D$78)-ROW('اسناد الأقسام'!$D$7)+1),ROW(2:2))),\"\")","v":0},{"$f":"IF(ROW(2:2)<=COUNTIF('اسناد الأقسام'!$D$7:$D$78,التجميع!$B$62),INDEX('اسناد الأقسام'!P$7:P$78,SMALL(IF('اسناد الأقسام'!$D$7:$D$78=التجميع!$B$62,ROW('اسناد الأقسام'!$D$7:$D$78)-ROW('اسناد الأقسام'!$D$7)+1),ROW(2:2))),\"\")","v":0},{"$f":"IF(ROW(2:2)<=COUNTIF('اسناد الأقسام'!$D$7:$D$78,التجميع!$B$62),INDEX('اسناد الأقسام'!Q$7:Q$78,SMALL(IF('اسناد الأقسام'!$D$7:$D$78=التجميع!$B$62,ROW('اسناد الأقسام'!$D$7:$D$78)-ROW('اسناد الأقسام'!$D$7)+1),ROW(2:2))),\"\")","v":0}]
[3,{"$f":"IF(ROW(3:3)<=COUNTIF('اسناد الأقسام'!$D$7:$D$78,التجميع!$B$62),INDEX('اسناد الأقسام'!C$7:C$78,SMALL(IF('اسناد الأقسام'!$D$7:$D$78=التجميع!$B$62,ROW('اسناد الأقسام'!$D$7:$D$78)-ROW('اسناد الأقسام'!$D$7)+1),ROW(3:3))),\"\")","v":"امحمدي بوشوشة "},{"$f":"IF(ROW(3:3)<=COUNTIF('اسناد الأقسام'!$D$7:$D$78,التجميع!$B$62),INDEX('اسناد الأقسام'!D$7:D$78,SMALL(IF('اسناد الأقسام'!$D$7:$D$78=التجميع!$B$62,ROW('اسناد الأقسام'!$D$7:$D$78)-ROW('اسناد الأقسام'!$D$7)+1),ROW(3:3))),\"\")","v":"فرنسية"},{"$f":"IF(ROW(3:3)<=COUNTIF('اسناد الأقسام'!$D$7:$D$78,التجميع!$B$62),INDEX('اسناد الأقسام'!E$7:E$78,SMALL(IF('اسناد الأقسام'!$D$7:$D$78=التجميع!$B$62,ROW('اسناد الأقسام'!$D$7:$D$78)-ROW('اسناد الأقسام'!$D$7)+1),ROW(3:3))),\"\")","v":"1992-01-06"},{"$f":"IF(ROW(3:3)<=COUNTIF('اسناد الأقسام'!$D$7:$D$78,التجميع!$B$62),INDEX('اسناد الأقسام'!F$7:F$78,SMALL(IF('اسناد الأقسام'!$D$7:$D$78=التجميع!$B$62,ROW('اسناد الأقسام'!$D$7:$D$78)-ROW('اسناد الأقسام'!$D$7)+1),ROW(3:3))),\"\")","v":"مرسمة"},{"$f":"IF(ROW(3:3)<=COUNTIF('اسناد الأقسام'!$D$7:$D$78,التجميع!$B$62),INDEX('اسناد الأقسام'!G$7:G$78,SMALL(IF('اسناد الأقسام'!$D$7:$D$78=التجميع!$B$62,ROW('اسناد الأقسام'!$D$7:$D$78)-ROW('اسناد الأقسام'!$D$7)+1),ROW(3:3))),\"\")","v":"ليسانس"},{"$f":"IF(ROW(3:3)<=COUNTIF('اسناد الأقسام'!$D$7:$D$78,التجميع!$B$62),INDEX('اسناد الأقسام'!H$7:H$78,SMALL(IF('اسناد الأقسام'!$D$7:$D$78=التجميع!$B$62,ROW('اسناد الأقسام'!$D$7:$D$78)-ROW('اسناد الأقسام'!$D$7)+1),ROW(3:3))),\"\")","v":"2014-12-07"},{"$f":"IF(ROW(3:3)<=COUNTIF('اسناد الأقسام'!$D$7:$D$78,التجميع!$B$62),INDEX('اسناد الأقسام'!I$7:I$78,SMALL(IF('اسناد الأقسام'!$D$7:$D$78=التجميع!$B$62,ROW('اسناد الأقسام'!$D$7:$D$78)-ROW('اسناد الأقسام'!$D$7)+1),ROW(3:3))),\"\")","v":"2م1"},{"$f":"IF(ROW(3:3)<=COUNTIF('اسناد الأقسام'!$D$7:$D$78,التجميع!$B$62),INDEX('اسناد الأقسام'!J$7:J$78,SMALL(IF('اسناد الأقسام'!$D$7:$D$78=التجميع!$B$62,ROW('اسناد الأقسام'!$D$7:$D$78)-ROW('اسناد الأقسام'!$D$7)+1),ROW(3:3))),\"\")","v":"2م2"},{"$f":"IF(ROW(3:3)<=COUNTIF('اسناد الأقسام'!$D$7:$D$78,التجميع!$B$62),INDEX('اسناد الأقسام'!K$7:K$78,SMALL(IF('اسناد الأقسام'!$D$7:$D$78=التجميع!$B$62,ROW('اسناد الأقسام'!$D$7:$D$78)-ROW('اسناد الأقسام'!$D$7)+1),ROW(3:3))),\"\")","v":"2م3"},{"$f":"IF(ROW(3:3)<=COUNTIF('اسناد الأقسام'!$D$7:$D$78,التجميع!$B$62),INDEX('اسناد الأقسام'!L$7:L$78,SMALL(IF('اسناد الأقسام'!$D$7:$D$78=التجميع!$B$62,ROW('اسناد الأقسام'!$D$7:$D$78)-ROW('اسناد الأقسام'!$D$7)+1),ROW(3:3))),\"\")","v":0},{"$f":"IF(ROW(3:3)<=COUNTIF('اسناد الأقسام'!$D$7:$D$78,التجميع!$B$62),INDEX('اسناد الأقسام'!M$7:M$78,SMALL(IF('اسناد الأقسام'!$D$7:$D$78=التجميع!$B$62,ROW('اسناد الأقسام'!$D$7:$D$78)-ROW('اسناد الأقسام'!$D$7)+1),ROW(3:3))),\"\")","v":0},{"$f":"IF(ROW(3:3)<=COUNTIF('اسناد الأقسام'!$D$7:$D$78,التجميع!$B$62),INDEX('اسناد الأقسام'!N$7:N$78,SMALL(IF('اسناد الأقسام'!$D$7:$D$78=التجميع!$B$62,ROW('اسناد الأقسام'!$D$7:$D$78)-ROW('اسناد الأقسام'!$D$7)+1),ROW(3:3))),\"\")","v":0},{"$f":"IF(ROW(3:3)<=COUNTIF('اسناد الأقسام'!$D$7:$D$78,التجميع!$B$62),INDEX('اسناد الأقسام'!O$7:O$78,SMALL(IF('اسناد الأقسام'!$D$7:$D$78=التجميع!$B$62,ROW('اسناد الأقسام'!$D$7:$D$78)-ROW('اسناد الأقسام'!$D$7)+1),ROW(3:3))),\"\")","v":0},{"$f":"IF(ROW(3:3)<=COUNTIF('اسناد الأقسام'!$D$7:$D$78,التجميع!$B$62),INDEX('اسناد الأقسام'!P$7:P$78,SMALL(IF('اسناد الأقسام'!$D$7:$D$78=التجميع!$B$62,ROW('اسناد الأقسام'!$D$7:$D$78)-ROW('اسناد الأقسام'!$D$7)+1),ROW(3:3))),\"\")","v":0},{"$f":"IF(ROW(3:3)<=COUNTIF('اسناد الأقسام'!$D$7:$D$78,التجميع!$B$62),INDEX('اسناد الأقسام'!Q$7:Q$78,SMALL(IF('اسناد الأقسام'!$D$7:$D$78=التجميع!$B$62,ROW('اسناد الأقسام'!$D$7:$D$78)-ROW('اسناد الأقسام'!$D$7)+1),ROW(3:3))),\"\")","v":0}]
[4,{"$f":"IF(ROW(4:4)<=COUNTIF('اسناد الأقسام'!$D$7:$D$78,التجميع!$B$62),INDEX('اسناد الأقسام'!C$7:C$78,SMALL(IF('اسناد الأقسام'!$D$7:$D$78=التجميع!$B$62,ROW('اسناد الأقسام'!$D$7:$D$78)-ROW('اسناد الأقسام'!$D$7)+1),ROW(4:4))),\"\")","v":""},{"$f":"IF(ROW(4:4)<=COUNTIF('اسناد الأقسام'!$D$7:$D$78,التجميع!$B$62),INDEX('اسناد الأقسام'!D$7:D$78,SMALL(IF('اسناد الأقسام'!$D$7:$D$78=التجميع!$B$62,ROW('اسناد الأقسام'!$D$7:$D$78)-ROW('اسناد الأقسام'!$D$7)+1),ROW(4:4))),\"\")","v":""},{"$f":"IF(ROW(4:4)<=COUNTIF('اسناد الأقسام'!$D$7:$D$78,التجميع!$B$62),INDEX('اسناد الأقسام'!E$7:E$78,SMALL(IF('اسناد الأقسام'!$D$7:$D$78=التجميع!$B$62,ROW('اسناد الأقسام'!$D$7:$D$78)-ROW('اسناد الأقسام'!$D$7)+1),ROW(4:4))),\"\")","v":""},{"$f":"IF(ROW(4:4)<=COUNTIF('اسناد الأقسام'!$D$7:$D$78,التجميع!$B$62),INDEX('اسناد الأقسام'!F$7:F$78,SMALL(IF('اسناد الأقسام'!$D$7:$D$78=التجميع!$B$62,ROW('اسناد الأقسام'!$D$7:$D$78)-ROW('اسناد الأقسام'!$D$7)+1),ROW(4:4))),\"\")","v":""},{"$f":"IF(ROW(4:4)<=COUNTIF('اسناد الأقسام'!$D$7:$D$78,التجميع!$B$62),INDEX('اسناد الأقسام'!G$7:G$78,SMALL(IF('اسناد الأقسام'!$D$7:$D$78=التجميع!$B$62,ROW('اسناد الأقسام'!$D$7:$D$78)-ROW('اسناد الأقسام'!$D$7)+1),ROW(4:4))),\"\")","v":""},{"$f":"IF(ROW(4:4)<=COUNTIF('اسناد الأقسام'!$D$7:$D$78,التجميع!$B$62),INDEX('اسناد الأقسام'!H$7:H$78,SMALL(IF('اسناد الأقسام'!$D$7:$D$78=التجميع!$B$62,ROW('اسناد الأقسام'!$D$7:$D$78)-ROW('اسناد الأقسام'!$D$7)+1),ROW(4:4))),\"\")","v":""},{"$f":"IF(ROW(4:4)<=COUNTIF('اسناد الأقسام'!$D$7:$D$78,التجميع!$B$62),INDEX('اسناد الأقسام'!I$7:I$78,SMALL(IF('اسناد الأقسام'!$D$7:$D$78=التجميع!$B$62,ROW('اسناد الأقسام'!$D$7:$D$78)-ROW('اسناد الأقسام'!$D$7)+1),ROW(4:4))),\"\")","v":""},{"$f":"IF(ROW(4:4)<=COUNTIF('اسناد الأقسام'!$D$7:$D$78,التجميع!$B$62),INDEX('اسناد الأقسام'!J$7:J$78,SMALL(IF('اسناد الأقسام'!$D$7:$D$78=التجميع!$B$62,ROW('اسناد الأقسام'!$D$7:$D$78)-ROW('اسناد الأقسام'!$D$7)+1),ROW(4:4))),\"\")","v":""},{"$f":"IF(ROW(4:4)<=COUNTIF('اسناد الأقسام'!$D$7:$D$78,التجميع!$B$62),INDEX('اسناد الأقسام'!K$7:K$78,SMALL(IF('اسناد الأقسام'!$D$7:$D$78=التجميع!$B$62,ROW('اسناد الأقسام'!$D$7:$D$78)-ROW('اسناد الأقسام'!$D$7)+1),ROW(4:4))),\"\")","v":""},{"$f":"IF(ROW(4:4)<=COUNTIF('اسناد الأقسام'!$D$7:$D$78,التجميع!$B$62),INDEX('اسناد الأقسام'!L$7:L$78,SMALL(IF('اسناد الأقسام'!$D$7:$D$78=التجميع!$B$62,ROW('اسناد الأقسام'!$D$7:$D$78)-ROW('اسناد الأقسام'!$D$7)+1),ROW(4:4))),\"\")","v":""},{"$f":"IF(ROW(4:4)<=COUNTIF('اسناد الأقسام'!$D$7:$D$78,التجميع!$B$62),INDEX('اسناد الأقسام'!M$7:M$78,SMALL(IF('اسناد الأقسام'!$D$7:$D$78=التجميع!$B$62,ROW('اسناد الأقسام'!$D$7:$D$78)-ROW('اسناد الأقسام'!$D$7)+1),ROW(4:4))),\"\")","v":""},{"$f":"IF(ROW(4:4)<=COUNTIF('اسناد الأقسام'!$D$7:$D$78,التجميع!$B$62),INDEX('اسناد الأقسام'!N$7:N$78,SMALL(IF('اسناد الأقسام'!$D$7:$D$78=التجميع!$B$62,ROW('اسناد الأقسام'!$D$7:$D$78)-ROW('اسناد الأقسام'!$D$7)+1),ROW(4:4))),\"\")","v":""},{"$f":"IF(ROW(4:4)<=COUNTIF('اسناد الأقسام'!$D$7:$D$78,التجميع!$B$62),INDEX('اسناد الأقسام'!O$7:O$78,SMALL(IF('اسناد الأقسام'!$D$7:$D$78=التجميع!$B$62,ROW('اسناد الأقسام'!$D$7:$D$78)-ROW('اسناد الأقسام'!$D$7)+1),ROW(4:4))),\"\")","v":""},{"$f":"IF(ROW(4:4)<=COUNTIF('اسناد الأقسام'!$D$7:$D$78,التجميع!$B$62),INDEX('اسناد الأقسام'!P$7:P$78,SMALL(IF('اسناد الأقسام'!$D$7:$D$78=التجميع!$B$62,ROW('اسناد الأقسام'!$D$7:$D$78)-ROW('اسناد الأقسام'!$D$7)+1),ROW(4:4))),\"\")","v":""},{"$f":"IF(ROW(4:4)<=COUNTIF('اسناد الأقسام'!$D$7:$D$78,التجميع!$B$62),INDEX('اسناد الأقسام'!Q$7:Q$78,SMALL(IF('اسناد الأقسام'!$D$7:$D$78=التجميع!$B$62,ROW('اسناد الأقسام'!$D$7:$D$78)-ROW('اسناد الأقسام'!$D$7)+1),ROW(4:4))),\"\")","v":""}]
[5,{"$f":"IF(ROW(5:5)<=COUNTIF('اسناد الأقسام'!$D$7:$D$78,التجميع!$B$62),INDEX('اسناد الأقسام'!C$7:C$78,SMALL(IF('اسناد الأقسام'!$D$7:$D$78=التجميع!$B$62,ROW('اسناد الأقسام'!$D$7:$D$78)-ROW('اسناد الأقسام'!$D$7)+1),ROW(5:5))),\"\")","v":""},{"$f":"IF(ROW(5:5)<=COUNTIF('اسناد الأقسام'!$D$7:$D$78,التجميع!$B$62),INDEX('اسناد الأقسام'!D$7:D$78,SMALL(IF('اسناد الأقسام'!$D$7:$D$78=التجميع!$B$62,ROW('اسناد الأقسام'!$D$7:$D$78)-ROW('اسناد الأقسام'!$D$7)+1),ROW(5:5))),\"\")","v":""},{"$f":"IF(ROW(5:5)<=COUNTIF('اسناد الأقسام'!$D$7:$D$78,التجميع!$B$62),INDEX('اسناد الأقسام'!E$7:E$78,SMALL(IF('اسناد الأقسام'!$D$7:$D$78=التجميع!$B$62,ROW('اسناد الأقسام'!$D$7:$D$78)-ROW('اسناد الأقسام'!$D$7)+1),ROW(5:5))),\"\")","v":""},{"$f":"IF(ROW(5:5)<=COUNTIF('اسناد الأقسام'!$D$7:$D$78,التجميع!$B$62),INDEX('اسناد الأقسام'!F$7:F$78,SMALL(IF('اسناد الأقسام'!$D$7:$D$78=التجميع!$B$62,ROW('اسناد الأقسام'!$D$7:$D$78)-ROW('اسناد الأقسام'!$D$7)+1),ROW(5:5))),\"\")","v":""},{"$f":"IF(ROW(5:5)<=COUNTIF('اسناد الأقسام'!$D$7:$D$78,التجميع!$B$62),INDEX('اسناد الأقسام'!G$7:G$78,SMALL(IF('اسناد الأقسام'!$D$7:$D$78=التجميع!$B$62,ROW('اسناد الأقسام'!$D$7:$D$78)-ROW('اسناد الأقسام'!$D$7)+1),ROW(5:5))),\"\")","v":""},{"$f":"IF(ROW(5:5)<=COUNTIF('اسناد الأقسام'!$D$7:$D$78,التجميع!$B$62),INDEX('اسناد الأقسام'!H$7:H$78,SMALL(IF('اسناد الأقسام'!$D$7:$D$78=التجميع!$B$62,ROW('اسناد الأقسام'!$D$7:$D$78)-ROW('اسناد الأقسام'!$D$7)+1),ROW(5:5))),\"\")","v":""},{"$f":"IF(ROW(5:5)<=COUNTIF('اسناد الأقسام'!$D$7:$D$78,التجميع!$B$62),INDEX('اسناد الأقسام'!I$7:I$78,SMALL(IF('اسناد الأقسام'!$D$7:$D$78=التجميع!$B$62,ROW('اسناد الأقسام'!$D$7:$D$78)-ROW('اسناد الأقسام'!$D$7)+1),ROW(5:5))),\"\")","v":""},{"$f":"IF(ROW(5:5)<=COUNTIF('اسناد الأقسام'!$D$7:$D$78,التجميع!$B$62),INDEX('اسناد الأقسام'!J$7:J$78,SMALL(IF('اسناد الأقسام'!$D$7:$D$78=التجميع!$B$62,ROW('اسناد الأقسام'!$D$7:$D$78)-ROW('اسناد الأقسام'!$D$7)+1),ROW(5:5))),\"\")","v":""},{"$f":"IF(ROW(5:5)<=COUNTIF('اسناد الأقسام'!$D$7:$D$78,التجميع!$B$62),INDEX('اسناد الأقسام'!K$7:K$78,SMALL(IF('اسناد الأقسام'!$D$7:$D$78=التجميع!$B$62,ROW('اسناد الأقسام'!$D$7:$D$78)-ROW('اسناد الأقسام'!$D$7)+1),ROW(5:5))),\"\")","v":""},{"$f":"IF(ROW(5:5)<=COUNTIF('اسناد الأقسام'!$D$7:$D$78,التجميع!$B$62),INDEX('اسناد الأقسام'!L$7:L$78,SMALL(IF('اسناد الأقسام'!$D$7:$D$78=التجميع!$B$62,ROW('اسناد الأقسام'!$D$7:$D$78)-ROW('اسناد الأقسام'!$D$7)+1),ROW(5:5))),\"\")","v":""},{"$f":"IF(ROW(5:5)<=COUNTIF('اسناد الأقسام'!$D$7:$D$78,التجميع!$B$62),INDEX('اسناد الأقسام'!M$7:M$78,SMALL(IF('اسناد الأقسام'!$D$7:$D$78=التجميع!$B$62,ROW('اسناد الأقسام'!$D$7:$D$78)-ROW('اسناد الأقسام'!$D$7)+1),ROW(5:5))),\"\")","v":""},{"$f":"IF(ROW(5:5)<=COUNTIF('اسناد الأقسام'!$D$7:$D$78,التجميع!$B$62),INDEX('اسناد الأقسام'!N$7:N$78,SMALL(IF('اسناد الأقسام'!$D$7:$D$78=التجميع!$B$62,ROW('اسناد الأقسام'!$D$7:$D$78)-ROW('اسناد الأقسام'!$D$7)+1),ROW(5:5))),\"\")","v":""},{"$f":"IF(ROW(5:5)<=COUNTIF('اسناد الأقسام'!$D$7:$D$78,التجميع!$B$62),INDEX('اسناد الأقسام'!O$7:O$78,SMALL(IF('اسناد الأقسام'!$D$7:$D$78=التجميع!$B$62,ROW('اسناد الأقسام'!$D$7:$D$78)-ROW('اسناد الأقسام'!$D$7)+1),ROW(5:5))),\"\")","v":""},{"$f":"IF(ROW(5:5)<=COUNTIF('اسناد الأقسام'!$D$7:$D$78,التجميع!$B$62),INDEX('اسناد الأقسام'!P$7:P$78,SMALL(IF('اسناد الأقسام'!$D$7:$D$78=التجميع!$B$62,ROW('اسناد الأقسام'!$D$7:$D$78)-ROW('اسناد الأقسام'!$D$7)+1),ROW(5:5))),\"\")","v":""},{"$f":"IF(ROW(5:5)<=COUNTIF('اسناد الأقسام'!$D$7:$D$78,التجميع!$B$62),INDEX('اسناد الأقسام'!Q$7:Q$78,SMALL(IF('اسناد الأقسام'!$D$7:$D$78=التجميع!$B$62,ROW('اسناد الأقسام'!$D$7:$D$78)-ROW('اسناد الأقسام'!$D$7)+1),ROW(5:5))),\"\")","v":""}]
[6,{"$f":"IF(ROW(6:6)<=COUNTIF('اسناد الأقسام'!$D$7:$D$78,التجميع!$B$62),INDEX('اسناد الأقسام'!C$7:C$78,SMALL(IF('اسناد الأقسام'!$D$7:$D$78=التجميع!$B$62,ROW('اسناد الأقسام'!$D$7:$D$78)-ROW('اسناد الأقسام'!$D$7)+1),ROW(6:6))),\"\")","v":""},{"$f":"IF(ROW(6:6)<=COUNTIF('اسناد الأقسام'!$D$7:$D$78,التجميع!$B$62),INDEX('اسناد الأقسام'!D$7:D$78,SMALL(IF('اسناد الأقسام'!$D$7:$D$78=التجميع!$B$62,ROW('اسناد الأقسام'!$D$7:$D$78)-ROW('اسناد الأقسام'!$D$7)+1),ROW(6:6))),\"\")","v":""},{"$f":"IF(ROW(6:6)<=COUNTIF('اسناد الأقسام'!$D$7:$D$78,التجميع!$B$62),INDEX('اسناد الأقسام'!E$7:E$78,SMALL(IF('اسناد الأقسام'!$D$7:$D$78=التجميع!$B$62,ROW('اسناد الأقسام'!$D$7:$D$78)-ROW('اسناد الأقسام'!$D$7)+1),ROW(6:6))),\"\")","v":""},{"$f":"IF(ROW(6:6)<=COUNTIF('اسناد الأقسام'!$D$7:$D$78,التجميع!$B$62),INDEX('اسناد الأقسام'!F$7:F$78,SMALL(IF('اسناد الأقسام'!$D$7:$D$78=التجميع!$B$62,ROW('اسناد الأقسام'!$D$7:$D$78)-ROW('اسناد الأقسام'!$D$7)+1),ROW(6:6))),\"\")","v":""},{"$f":"IF(ROW(6:6)<=COUNTIF('اسناد الأقسام'!$D$7:$D$78,التجميع!$B$62),INDEX('اسناد الأقسام'!G$7:G$78,SMALL(IF('اسناد الأقسام'!$D$7:$D$78=التجميع!$B$62,ROW('اسناد الأقسام'!$D$7:$D$78)-ROW('اسناد الأقسام'!$D$7)+1),ROW(6:6))),\"\")","v":""},{"$f":"IF(ROW(6:6)<=COUNTIF('اسناد الأقسام'!$D$7:$D$78,التجميع!$B$62),INDEX('اسناد الأقسام'!H$7:H$78,SMALL(IF('اسناد الأقسام'!$D$7:$D$78=التجميع!$B$62,ROW('اسناد الأقسام'!$D$7:$D$78)-ROW('اسناد الأقسام'!$D$7)+1),ROW(6:6))),\"\")","v":""},{"$f":"IF(ROW(6:6)<=COUNTIF('اسناد الأقسام'!$D$7:$D$78,التجميع!$B$62),INDEX('اسناد الأقسام'!I$7:I$78,SMALL(IF('اسناد الأقسام'!$D$7:$D$78=التجميع!$B$62,ROW('اسناد الأقسام'!$D$7:$D$78)-ROW('اسناد الأقسام'!$D$7)+1),ROW(6:6))),\"\")","v":""},{"$f":"IF(ROW(6:6)<=COUNTIF('اسناد الأقسام'!$D$7:$D$78,التجميع!$B$62),INDEX('اسناد الأقسام'!J$7:J$78,SMALL(IF('اسناد الأقسام'!$D$7:$D$78=التجميع!$B$62,ROW('اسناد الأقسام'!$D$7:$D$78)-ROW('اسناد الأقسام'!$D$7)+1),ROW(6:6))),\"\")","v":""},{"$f":"IF(ROW(6:6)<=COUNTIF('اسناد الأقسام'!$D$7:$D$78,التجميع!$B$62),INDEX('اسناد الأقسام'!K$7:K$78,SMALL(IF('اسناد الأقسام'!$D$7:$D$78=التجميع!$B$62,ROW('اسناد الأقسام'!$D$7:$D$78)-ROW('اسناد الأقسام'!$D$7)+1),ROW(6:6))),\"\")","v":""},{"$f":"IF(ROW(6:6)<=COUNTIF('اسناد الأقسام'!$D$7:$D$78,التجميع!$B$62),INDEX('اسناد الأقسام'!L$7:L$78,SMALL(IF('اسناد الأقسام'!$D$7:$D$78=التجميع!$B$62,ROW('اسناد الأقسام'!$D$7:$D$78)-ROW('اسناد الأقسام'!$D$7)+1),ROW(6:6))),\"\")","v":""},{"$f":"IF(ROW(6:6)<=COUNTIF('اسناد الأقسام'!$D$7:$D$78,التجميع!$B$62),INDEX('اسناد الأقسام'!M$7:M$78,SMALL(IF('اسناد الأقسام'!$D$7:$D$78=التجميع!$B$62,ROW('اسناد الأقسام'!$D$7:$D$78)-ROW('اسناد الأقسام'!$D$7)+1),ROW(6:6))),\"\")","v":""},{"$f":"IF(ROW(6:6)<=COUNTIF('اسناد الأقسام'!$D$7:$D$78,التجميع!$B$62),INDEX('اسناد الأقسام'!N$7:N$78,SMALL(IF('اسناد الأقسام'!$D$7:$D$78=التجميع!$B$62,ROW('اسناد الأقسام'!$D$7:$D$78)-ROW('اسناد الأقسام'!$D$7)+1),ROW(6:6))),\"\")","v":""},{"$f":"IF(ROW(6:6)<=COUNTIF('اسناد الأقسام'!$D$7:$D$78,التجميع!$B$62),INDEX('اسناد الأقسام'!O$7:O$78,SMALL(IF('اسناد الأقسام'!$D$7:$D$78=التجميع!$B$62,ROW('اسناد الأقسام'!$D$7:$D$78)-ROW('اسناد الأقسام'!$D$7)+1),ROW(6:6))),\"\")","v":""},{"$f":"IF(ROW(6:6)<=COUNTIF('اسناد الأقسام'!$D$7:$D$78,التجميع!$B$62),INDEX('اسناد الأقسام'!P$7:P$78,SMALL(IF('اسناد الأقسام'!$D$7:$D$78=التجميع!$B$62,ROW('اسناد الأقسام'!$D$7:$D$78)-ROW('اسناد الأقسام'!$D$7)+1),ROW(6:6))),\"\")","v":""},{"$f":"IF(ROW(6:6)<=COUNTIF('اسناد الأقسام'!$D$7:$D$78,التجميع!$B$62),INDEX('اسناد الأقسام'!Q$7:Q$78,SMALL(IF('اسناد الأقسام'!$D$7:$D$78=التجميع!$B$62,ROW('اسناد الأقسام'!$D$7:$D$78)-ROW('اسناد الأقسام'!$D$7)+1),ROW(6:6))),\"\")","v":""}]
[7,{"$f":"IF(ROW(7:7)<=COUNTIF('اسناد الأقسام'!$D$7:$D$78,التجميع!$B$62),INDEX('اسناد الأقسام'!C$7:C$78,SMALL(IF('اسناد الأقسام'!$D$7:$D$78=التجميع!$B$62,ROW('اسناد الأقسام'!$D$7:$D$78)-ROW('اسناد الأقسام'!$D$7)+1),ROW(7:7))),\"\")","v":""},{"$f":"IF(ROW(7:7)<=COUNTIF('اسناد الأقسام'!$D$7:$D$78,التجميع!$B$62),INDEX('اسناد الأقسام'!D$7:D$78,SMALL(IF('اسناد الأقسام'!$D$7:$D$78=التجميع!$B$62,ROW('اسناد الأقسام'!$D$7:$D$78)-ROW('اسناد الأقسام'!$D$7)+1),ROW(7:7))),\"\")","v":""},{"$f":"IF(ROW(7:7)<=COUNTIF('اسناد الأقسام'!$D$7:$D$78,التجميع!$B$62),INDEX('اسناد الأقسام'!E$7:E$78,SMALL(IF('اسناد الأقسام'!$D$7:$D$78=التجميع!$B$62,ROW('اسناد الأقسام'!$D$7:$D$78)-ROW('اسناد الأقسام'!$D$7)+1),ROW(7:7))),\"\")","v":""},{"$f":"IF(ROW(7:7)<=COUNTIF('اسناد الأقسام'!$D$7:$D$78,التجميع!$B$62),INDEX('اسناد الأقسام'!F$7:F$78,SMALL(IF('اسناد الأقسام'!$D$7:$D$78=التجميع!$B$62,ROW('اسناد الأقسام'!$D$7:$D$78)-ROW('اسناد الأقسام'!$D$7)+1),ROW(7:7))),\"\")","v":""},{"$f":"IF(ROW(7:7)<=COUNTIF('اسناد الأقسام'!$D$7:$D$78,التجميع!$B$62),INDEX('اسناد الأقسام'!G$7:G$78,SMALL(IF('اسناد الأقسام'!$D$7:$D$78=التجميع!$B$62,ROW('اسناد الأقسام'!$D$7:$D$78)-ROW('اسناد الأقسام'!$D$7)+1),ROW(7:7))),\"\")","v":""},{"$f":"IF(ROW(7:7)<=COUNTIF('اسناد الأقسام'!$D$7:$D$78,التجميع!$B$62),INDEX('اسناد الأقسام'!H$7:H$78,SMALL(IF('اسناد الأقسام'!$D$7:$D$78=التجميع!$B$62,ROW('اسناد الأقسام'!$D$7:$D$78)-ROW('اسناد الأقسام'!$D$7)+1),ROW(7:7))),\"\")","v":""},{"$f":"IF(ROW(7:7)<=COUNTIF('اسناد الأقسام'!$D$7:$D$78,التجميع!$B$62),INDEX('اسناد الأقسام'!I$7:I$78,SMALL(IF('اسناد الأقسام'!$D$7:$D$78=التجميع!$B$62,ROW('اسناد الأقسام'!$D$7:$D$78)-ROW('اسناد الأقسام'!$D$7)+1),ROW(7:7))),\"\")","v":""},{"$f":"IF(ROW(7:7)<=COUNTIF('اسناد الأقسام'!$D$7:$D$78,التجميع!$B$62),INDEX('اسناد الأقسام'!J$7:J$78,SMALL(IF('اسناد الأقسام'!$D$7:$D$78=التجميع!$B$62,ROW('اسناد الأقسام'!$D$7:$D$78)-ROW('اسناد الأقسام'!$D$7)+1),ROW(7:7))),\"\")","v":""},{"$f":"IF(ROW(7:7)<=COUNTIF('اسناد الأقسام'!$D$7:$D$78,التجميع!$B$62),INDEX('اسناد الأقسام'!K$7:K$78,SMALL(IF('اسناد الأقسام'!$D$7:$D$78=التجميع!$B$62,ROW('اسناد الأقسام'!$D$7:$D$78)-ROW('اسناد الأقسام'!$D$7)+1),ROW(7:7))),\"\")","v":""},{"$f":"IF(ROW(7:7)<=COUNTIF('اسناد الأقسام'!$D$7:$D$78,التجميع!$B$62),INDEX('اسناد الأقسام'!L$7:L$78,SMALL(IF('اسناد الأقسام'!$D$7:$D$78=التجميع!$B$62,ROW('اسناد الأقسام'!$D$7:$D$78)-ROW('اسناد الأقسام'!$D$7)+1),ROW(7:7))),\"\")","v":""},{"$f":"IF(ROW(7:7)<=COUNTIF('اسناد الأقسام'!$D$7:$D$78,التجميع!$B$62),INDEX('اسناد الأقسام'!M$7:M$78,SMALL(IF('اسناد الأقسام'!$D$7:$D$78=التجميع!$B$62,ROW('اسناد الأقسام'!$D$7:$D$78)-ROW('اسناد الأقسام'!$D$7)+1),ROW(7:7))),\"\")","v":""},{"$f":"IF(ROW(7:7)<=COUNTIF('اسناد الأقسام'!$D$7:$D$78,التجميع!$B$62),INDEX('اسناد الأقسام'!N$7:N$78,SMALL(IF('اسناد الأقسام'!$D$7:$D$78=التجميع!$B$62,ROW('اسناد الأقسام'!$D$7:$D$78)-ROW('اسناد الأقسام'!$D$7)+1),ROW(7:7))),\"\")","v":""},{"$f":"IF(ROW(7:7)<=COUNTIF('اسناد الأقسام'!$D$7:$D$78,التجميع!$B$62),INDEX('اسناد الأقسام'!O$7:O$78,SMALL(IF('اسناد الأقسام'!$D$7:$D$78=التجميع!$B$62,ROW('اسناد الأقسام'!$D$7:$D$78)-ROW('اسناد الأقسام'!$D$7)+1),ROW(7:7))),\"\")","v":""},{"$f":"IF(ROW(7:7)<=COUNTIF('اسناد الأقسام'!$D$7:$D$78,التجميع!$B$62),INDEX('اسناد الأقسام'!P$7:P$78,SMALL(IF('اسناد الأقسام'!$D$7:$D$78=التجميع!$B$62,ROW('اسناد الأقسام'!$D$7:$D$78)-ROW('اسناد الأقسام'!$D$7)+1),ROW(7:7))),\"\")","v":""},{"$f":"IF(ROW(7:7)<=COUNTIF('اسناد الأقسام'!$D$7:$D$78,التجميع!$B$62),INDEX('اسناد الأقسام'!Q$7:Q$78,SMALL(IF('اسناد الأقسام'!$D$7:$D$78=التجميع!$B$62,ROW('اسناد الأقسام'!$D$7:$D$78)-ROW('اسناد الأقسام'!$D$7)+1),ROW(7:7))),\"\")","v":""}]
[8,{"$f":"IF(ROW(8:8)<=COUNTIF('اسناد الأقسام'!$D$7:$D$78,التجميع!$B$62),INDEX('اسناد الأقسام'!C$7:C$78,SMALL(IF('اسناد الأقسام'!$D$7:$D$78=التجميع!$B$62,ROW('اسناد الأقسام'!$D$7:$D$78)-ROW('اسناد الأقسام'!$D$7)+1),ROW(8:8))),\"\")","v":""},{"$f":"IF(ROW(8:8)<=COUNTIF('اسناد الأقسام'!$D$7:$D$78,التجميع!$B$62),INDEX('اسناد الأقسام'!D$7:D$78,SMALL(IF('اسناد الأقسام'!$D$7:$D$78=التجميع!$B$62,ROW('اسناد الأقسام'!$D$7:$D$78)-ROW('اسناد الأقسام'!$D$7)+1),ROW(8:8))),\"\")","v":""},{"$f":"IF(ROW(8:8)<=COUNTIF('اسناد الأقسام'!$D$7:$D$78,التجميع!$B$62),INDEX('اسناد الأقسام'!E$7:E$78,SMALL(IF('اسناد الأقسام'!$D$7:$D$78=التجميع!$B$62,ROW('اسناد الأقسام'!$D$7:$D$78)-ROW('اسناد الأقسام'!$D$7)+1),ROW(8:8))),\"\")","v":""},{"$f":"IF(ROW(8:8)<=COUNTIF('اسناد الأقسام'!$D$7:$D$78,التجميع!$B$62),INDEX('اسناد الأقسام'!F$7:F$78,SMALL(IF('اسناد الأقسام'!$D$7:$D$78=التجميع!$B$62,ROW('اسناد الأقسام'!$D$7:$D$78)-ROW('اسناد الأقسام'!$D$7)+1),ROW(8:8))),\"\")","v":""},{"$f":"IF(ROW(8:8)<=COUNTIF('اسناد الأقسام'!$D$7:$D$78,التجميع!$B$62),INDEX('اسناد الأقسام'!G$7:G$78,SMALL(IF('اسناد الأقسام'!$D$7:$D$78=التجميع!$B$62,ROW('اسناد الأقسام'!$D$7:$D$78)-ROW('اسناد الأقسام'!$D$7)+1),ROW(8:8))),\"\")","v":""},{"$f":"IF(ROW(8:8)<=COUNTIF('اسناد الأقسام'!$D$7:$D$78,التجميع!$B$62),INDEX('اسناد الأقسام'!H$7:H$78,SMALL(IF('اسناد الأقسام'!$D$7:$D$78=التجميع!$B$62,ROW('اسناد الأقسام'!$D$7:$D$78)-ROW('اسناد الأقسام'!$D$7)+1),ROW(8:8))),\"\")","v":""},{"$f":"IF(ROW(8:8)<=COUNTIF('اسناد الأقسام'!$D$7:$D$78,التجميع!$B$62),INDEX('اسناد الأقسام'!I$7:I$78,SMALL(IF('اسناد الأقسام'!$D$7:$D$78=التجميع!$B$62,ROW('اسناد الأقسام'!$D$7:$D$78)-ROW('اسناد الأقسام'!$D$7)+1),ROW(8:8))),\"\")","v":""},{"$f":"IF(ROW(8:8)<=COUNTIF('اسناد الأقسام'!$D$7:$D$78,التجميع!$B$62),INDEX('اسناد الأقسام'!J$7:J$78,SMALL(IF('اسناد الأقسام'!$D$7:$D$78=التجميع!$B$62,ROW('اسناد الأقسام'!$D$7:$D$78)-ROW('اسناد الأقسام'!$D$7)+1),ROW(8:8))),\"\")","v":""},{"$f":"IF(ROW(8:8)<=COUNTIF('اسناد الأقسام'!$D$7:$D$78,التجميع!$B$62),INDEX('اسناد الأقسام'!K$7:K$78,SMALL(IF('اسناد الأقسام'!$D$7:$D$78=التجميع!$B$62,ROW('اسناد الأقسام'!$D$7:$D$78)-ROW('اسناد الأقسام'!$D$7)+1),ROW(8:8))),\"\")","v":""},{"$f":"IF(ROW(8:8)<=COUNTIF('اسناد الأقسام'!$D$7:$D$78,التجميع!$B$62),INDEX('اسناد الأقسام'!L$7:L$78,SMALL(IF('اسناد الأقسام'!$D$7:$D$78=التجميع!$B$62,ROW('اسناد الأقسام'!$D$7:$D$78)-ROW('اسناد الأقسام'!$D$7)+1),ROW(8:8))),\"\")","v":""},{"$f":"IF(ROW(8:8)<=COUNTIF('اسناد الأقسام'!$D$7:$D$78,التجميع!$B$62),INDEX('اسناد الأقسام'!M$7:M$78,SMALL(IF('اسناد الأقسام'!$D$7:$D$78=التجميع!$B$62,ROW('اسناد الأقسام'!$D$7:$D$78)-ROW('اسناد الأقسام'!$D$7)+1),ROW(8:8))),\"\")","v":""},{"$f":"IF(ROW(8:8)<=COUNTIF('اسناد الأقسام'!$D$7:$D$78,التجميع!$B$62),INDEX('اسناد الأقسام'!N$7:N$78,SMALL(IF('اسناد الأقسام'!$D$7:$D$78=التجميع!$B$62,ROW('اسناد الأقسام'!$D$7:$D$78)-ROW('اسناد الأقسام'!$D$7)+1),ROW(8:8))),\"\")","v":""},{"$f":"IF(ROW(8:8)<=COUNTIF('اسناد الأقسام'!$D$7:$D$78,التجميع!$B$62),INDEX('اسناد الأقسام'!O$7:O$78,SMALL(IF('اسناد الأقسام'!$D$7:$D$78=التجميع!$B$62,ROW('اسناد الأقسام'!$D$7:$D$78)-ROW('اسناد الأقسام'!$D$7)+1),ROW(8:8))),\"\")","v":""},{"$f":"IF(ROW(8:8)<=COUNTIF('اسناد الأقسام'!$D$7:$D$78,التجميع!$B$62),INDEX('اسناد الأقسام'!P$7:P$78,SMALL(IF('اسناد الأقسام'!$D$7:$D$78=التجميع!$B$62,ROW('اسناد الأقسام'!$D$7:$D$78)-ROW('اسناد الأقسام'!$D$7)+1),ROW(8:8))),\"\")","v":""},{"$f":"IF(ROW(8:8)<=COUNTIF('اسناد الأقسام'!$D$7:$D$78,التجميع!$B$62),INDEX('اسناد الأقسام'!Q$7:Q$78,SMALL(IF('اسناد الأقسام'!$D$7:$D$78=التجميع!$B$62,ROW('اسناد الأقسام'!$D$7:$D$78)-ROW('اسناد الأقسام'!$D$7)+1),ROW(8:8))),\"\")","v":""}]
[9,{"$f":"IF(ROW(9:9)<=COUNTIF('اسناد الأقسام'!$D$7:$D$78,التجميع!$B$62),INDEX('اسناد الأقسام'!C$7:C$78,SMALL(IF('اسناد الأقسام'!$D$7:$D$78=التجميع!$B$62,ROW('اسناد الأقسام'!$D$7:$D$78)-ROW('اسناد الأقسام'!$D$7)+1),ROW(9:9))),\"\")","v":""},{"$f":"IF(ROW(9:9)<=COUNTIF('اسناد الأقسام'!$D$7:$D$78,التجميع!$B$62),INDEX('اسناد الأقسام'!D$7:D$78,SMALL(IF('اسناد الأقسام'!$D$7:$D$78=التجميع!$B$62,ROW('اسناد الأقسام'!$D$7:$D$78)-ROW('اسناد الأقسام'!$D$7)+1),ROW(9:9))),\"\")","v":""},{"$f":"IF(ROW(9:9)<=COUNTIF('اسناد الأقسام'!$D$7:$D$78,التجميع!$B$62),INDEX('اسناد الأقسام'!E$7:E$78,SMALL(IF('اسناد الأقسام'!$D$7:$D$78=التجميع!$B$62,ROW('اسناد الأقسام'!$D$7:$D$78)-ROW('اسناد الأقسام'!$D$7)+1),ROW(9:9))),\"\")","v":""},{"$f":"IF(ROW(9:9)<=COUNTIF('اسناد الأقسام'!$D$7:$D$78,التجميع!$B$62),INDEX('اسناد الأقسام'!F$7:F$78,SMALL(IF('اسناد الأقسام'!$D$7:$D$78=التجميع!$B$62,ROW('اسناد الأقسام'!$D$7:$D$78)-ROW('اسناد الأقسام'!$D$7)+1),ROW(9:9))),\"\")","v":""},{"$f":"IF(ROW(9:9)<=COUNTIF('اسناد الأقسام'!$D$7:$D$78,التجميع!$B$62),INDEX('اسناد الأقسام'!G$7:G$78,SMALL(IF('اسناد الأقسام'!$D$7:$D$78=التجميع!$B$62,ROW('اسناد الأقسام'!$D$7:$D$78)-ROW('اسناد الأقسام'!$D$7)+1),ROW(9:9))),\"\")","v":""},{"$f":"IF(ROW(9:9)<=COUNTIF('اسناد الأقسام'!$D$7:$D$78,التجميع!$B$62),INDEX('اسناد الأقسام'!H$7:H$78,SMALL(IF('اسناد الأقسام'!$D$7:$D$78=التجميع!$B$62,ROW('اسناد الأقسام'!$D$7:$D$78)-ROW('اسناد الأقسام'!$D$7)+1),ROW(9:9))),\"\")","v":""},{"$f":"IF(ROW(9:9)<=COUNTIF('اسناد الأقسام'!$D$7:$D$78,التجميع!$B$62),INDEX('اسناد الأقسام'!I$7:I$78,SMALL(IF('اسناد الأقسام'!$D$7:$D$78=التجميع!$B$62,ROW('اسناد الأقسام'!$D$7:$D$78)-ROW('اسناد الأقسام'!$D$7)+1),ROW(9:9))),\"\")","v":""},{"$f":"IF(ROW(9:9)<=COUNTIF('اسناد الأقسام'!$D$7:$D$78,التجميع!$B$62),INDEX('اسناد الأقسام'!J$7:J$78,SMALL(IF('اسناد الأقسام'!$D$7:$D$78=التجميع!$B$62,ROW('اسناد الأقسام'!$D$7:$D$78)-ROW('اسناد الأقسام'!$D$7)+1),ROW(9:9))),\"\")","v":""},{"$f":"IF(ROW(9:9)<=COUNTIF('اسناد الأقسام'!$D$7:$D$78,التجميع!$B$62),INDEX('اسناد الأقسام'!K$7:K$78,SMALL(IF('اسناد الأقسام'!$D$7:$D$78=التجميع!$B$62,ROW('اسناد الأقسام'!$D$7:$D$78)-ROW('اسناد الأقسام'!$D$7)+1),ROW(9:9))),\"\")","v":""},{"$f":"IF(ROW(9:9)<=COUNTIF('اسناد الأقسام'!$D$7:$D$78,التجميع!$B$62),INDEX('اسناد الأقسام'!L$7:L$78,SMALL(IF('اسناد الأقسام'!$D$7:$D$78=التجميع!$B$62,ROW('اسناد الأقسام'!$D$7:$D$78)-ROW('اسناد الأقسام'!$D$7)+1),ROW(9:9))),\"\")","v":""},{"$f":"IF(ROW(9:9)<=COUNTIF('اسناد الأقسام'!$D$7:$D$78,التجميع!$B$62),INDEX('اسناد الأقسام'!M$7:M$78,SMALL(IF('اسناد الأقسام'!$D$7:$D$78=التجميع!$B$62,ROW('اسناد الأقسام'!$D$7:$D$78)-ROW('اسناد الأقسام'!$D$7)+1),ROW(9:9))),\"\")","v":""},{"$f":"IF(ROW(9:9)<=COUNTIF('اسناد الأقسام'!$D$7:$D$78,التجميع!$B$62),INDEX('اسناد الأقسام'!N$7:N$78,SMALL(IF('اسناد الأقسام'!$D$7:$D$78=التجميع!$B$62,ROW('اسناد الأقسام'!$D$7:$D$78)-ROW('اسناد الأقسام'!$D$7)+1),ROW(9:9))),\"\")","v":""},{"$f":"IF(ROW(9:9)<=COUNTIF('اسناد الأقسام'!$D$7:$D$78,التجميع!$B$62),INDEX('اسناد الأقسام'!O$7:O$78,SMALL(IF('اسناد الأقسام'!$D$7:$D$78=التجميع!$B$62,ROW('اسناد الأقسام'!$D$7:$D$78)-ROW('اسناد الأقسام'!$D$7)+1),ROW(9:9))),\"\")","v":""},{"$f":"IF(ROW(9:9)<=COUNTIF('اسناد الأقسام'!$D$7:$D$78,التجميع!$B$62),INDEX('اسناد الأقسام'!P$7:P$78,SMALL(IF('اسناد الأقسام'!$D$7:$D$78=التجميع!$B$62,ROW('اسناد الأقسام'!$D$7:$D$78)-ROW('اسناد الأقسام'!$D$7)+1),ROW(9:9))),\"\")","v":""},{"$f":"IF(ROW(9:9)<=COUNTIF('اسناد الأقسام'!$D$7:$D$78,التجميع!$B$62),INDEX('اسناد الأقسام'!Q$7:Q$78,SMALL(IF('اسناد الأقسام'!$D$7:$D$78=التجميع!$B$62,ROW('اسناد الأقسام'!$D$7:$D$78)-ROW('اسناد الأقسام'!$D$7)+1),ROW(9:9))),\"\")","v":""}]
[10,{"$f":"IF(ROW(10:10)<=COUNTIF('اسناد الأقسام'!$D$7:$D$78,التجميع!$B$62),INDEX('اسناد الأقسام'!C$7:C$78,SMALL(IF('اسناد الأقسام'!$D$7:$D$78=التجميع!$B$62,ROW('اسناد الأقسام'!$D$7:$D$78)-ROW('اسناد الأقسام'!$D$7)+1),ROW(10:10))),\"\")","v":""},{"$f":"IF(ROW(10:10)<=COUNTIF('اسناد الأقسام'!$D$7:$D$78,التجميع!$B$62),INDEX('اسناد الأقسام'!D$7:D$78,SMALL(IF('اسناد الأقسام'!$D$7:$D$78=التجميع!$B$62,ROW('اسناد الأقسام'!$D$7:$D$78)-ROW('اسناد الأقسام'!$D$7)+1),ROW(10:10))),\"\")","v":""},{"$f":"IF(ROW(10:10)<=COUNTIF('اسناد الأقسام'!$D$7:$D$78,التجميع!$B$62),INDEX('اسناد الأقسام'!E$7:E$78,SMALL(IF('اسناد الأقسام'!$D$7:$D$78=التجميع!$B$62,ROW('اسناد الأقسام'!$D$7:$D$78)-ROW('اسناد الأقسام'!$D$7)+1),ROW(10:10))),\"\")","v":""},{"$f":"IF(ROW(10:10)<=COUNTIF('اسناد الأقسام'!$D$7:$D$78,التجميع!$B$62),INDEX('اسناد الأقسام'!F$7:F$78,SMALL(IF('اسناد الأقسام'!$D$7:$D$78=التجميع!$B$62,ROW('اسناد الأقسام'!$D$7:$D$78)-ROW('اسناد الأقسام'!$D$7)+1),ROW(10:10))),\"\")","v":""},{"$f":"IF(ROW(10:10)<=COUNTIF('اسناد الأقسام'!$D$7:$D$78,التجميع!$B$62),INDEX('اسناد الأقسام'!G$7:G$78,SMALL(IF('اسناد الأقسام'!$D$7:$D$78=التجميع!$B$62,ROW('اسناد الأقسام'!$D$7:$D$78)-ROW('اسناد الأقسام'!$D$7)+1),ROW(10:10))),\"\")","v":""},{"$f":"IF(ROW(10:10)<=COUNTIF('اسناد الأقسام'!$D$7:$D$78,التجميع!$B$62),INDEX('اسناد الأقسام'!H$7:H$78,SMALL(IF('اسناد الأقسام'!$D$7:$D$78=التجميع!$B$62,ROW('اسناد الأقسام'!$D$7:$D$78)-ROW('اسناد الأقسام'!$D$7)+1),ROW(10:10))),\"\")","v":""},{"$f":"IF(ROW(10:10)<=COUNTIF('اسناد الأقسام'!$D$7:$D$78,التجميع!$B$62),INDEX('اسناد الأقسام'!I$7:I$78,SMALL(IF('اسناد الأقسام'!$D$7:$D$78=التجميع!$B$62,ROW('اسناد الأقسام'!$D$7:$D$78)-ROW('اسناد الأقسام'!$D$7)+1),ROW(10:10))),\"\")","v":""},{"$f":"IF(ROW(10:10)<=COUNTIF('اسناد الأقسام'!$D$7:$D$78,التجميع!$B$62),INDEX('اسناد الأقسام'!J$7:J$78,SMALL(IF('اسناد الأقسام'!$D$7:$D$78=التجميع!$B$62,ROW('اسناد الأقسام'!$D$7:$D$78)-ROW('اسناد الأقسام'!$D$7)+1),ROW(10:10))),\"\")","v":""},{"$f":"IF(ROW(10:10)<=COUNTIF('اسناد الأقسام'!$D$7:$D$78,التجميع!$B$62),INDEX('اسناد الأقسام'!K$7:K$78,SMALL(IF('اسناد الأقسام'!$D$7:$D$78=التجميع!$B$62,ROW('اسناد الأقسام'!$D$7:$D$78)-ROW('اسناد الأقسام'!$D$7)+1),ROW(10:10))),\"\")","v":""},{"$f":"IF(ROW(10:10)<=COUNTIF('اسناد الأقسام'!$D$7:$D$78,التجميع!$B$62),INDEX('اسناد الأقسام'!L$7:L$78,SMALL(IF('اسناد الأقسام'!$D$7:$D$78=التجميع!$B$62,ROW('اسناد الأقسام'!$D$7:$D$78)-ROW('اسناد الأقسام'!$D$7)+1),ROW(10:10))),\"\")","v":""},{"$f":"IF(ROW(10:10)<=COUNTIF('اسناد الأقسام'!$D$7:$D$78,التجميع!$B$62),INDEX('اسناد الأقسام'!M$7:M$78,SMALL(IF('اسناد الأقسام'!$D$7:$D$78=التجميع!$B$62,ROW('اسناد الأقسام'!$D$7:$D$78)-ROW('اسناد الأقسام'!$D$7)+1),ROW(10:10))),\"\")","v":""},{"$f":"IF(ROW(10:10)<=COUNTIF('اسناد الأقسام'!$D$7:$D$78,التجميع!$B$62),INDEX('اسناد الأقسام'!N$7:N$78,SMALL(IF('اسناد الأقسام'!$D$7:$D$78=التجميع!$B$62,ROW('اسناد الأقسام'!$D$7:$D$78)-ROW('اسناد الأقسام'!$D$7)+1),ROW(10:10))),\"\")","v":""},{"$f":"IF(ROW(10:10)<=COUNTIF('اسناد الأقسام'!$D$7:$D$78,التجميع!$B$62),INDEX('اسناد الأقسام'!O$7:O$78,SMALL(IF('اسناد الأقسام'!$D$7:$D$78=التجميع!$B$62,ROW('اسناد الأقسام'!$D$7:$D$78)-ROW('اسناد الأقسام'!$D$7)+1),ROW(10:10))),\"\")","v":""},{"$f":"IF(ROW(10:10)<=COUNTIF('اسناد الأقسام'!$D$7:$D$78,التجميع!$B$62),INDEX('اسناد الأقسام'!P$7:P$78,SMALL(IF('اسناد الأقسام'!$D$7:$D$78=التجميع!$B$62,ROW('اسناد الأقسام'!$D$7:$D$78)-ROW('اسناد الأقسام'!$D$7)+1),ROW(10:10))),\"\")","v":""},{"$f":"IF(ROW(10:10)<=COUNTIF('اسناد الأقسام'!$D$7:$D$78,التجميع!$B$62),INDEX('اسناد الأقسام'!Q$7:Q$78,SMALL(IF('اسناد الأقسام'!$D$7:$D$78=التجميع!$B$62,ROW('اسناد الأقسام'!$D$7:$D$78)-ROW('اسناد الأقسام'!$D$7)+1),ROW(10:10))),\"\")","v":""}]
[11,{"$f":"IF(ROW(11:11)<=COUNTIF('اسناد الأقسام'!$D$7:$D$78,التجميع!$B$62),INDEX('اسناد الأقسام'!C$7:C$78,SMALL(IF('اسناد الأقسام'!$D$7:$D$78=التجميع!$B$62,ROW('اسناد الأقسام'!$D$7:$D$78)-ROW('اسناد الأقسام'!$D$7)+1),ROW(11:11))),\"\")","v":""},{"$f":"IF(ROW(11:11)<=COUNTIF('اسناد الأقسام'!$D$7:$D$78,التجميع!$B$62),INDEX('اسناد الأقسام'!D$7:D$78,SMALL(IF('اسناد الأقسام'!$D$7:$D$78=التجميع!$B$62,ROW('اسناد الأقسام'!$D$7:$D$78)-ROW('اسناد الأقسام'!$D$7)+1),ROW(11:11))),\"\")","v":""},{"$f":"IF(ROW(11:11)<=COUNTIF('اسناد الأقسام'!$D$7:$D$78,التجميع!$B$62),INDEX('اسناد الأقسام'!E$7:E$78,SMALL(IF('اسناد الأقسام'!$D$7:$D$78=التجميع!$B$62,ROW('اسناد الأقسام'!$D$7:$D$78)-ROW('اسناد الأقسام'!$D$7)+1),ROW(11:11))),\"\")","v":""},{"$f":"IF(ROW(11:11)<=COUNTIF('اسناد الأقسام'!$D$7:$D$78,التجميع!$B$62),INDEX('اسناد الأقسام'!F$7:F$78,SMALL(IF('اسناد الأقسام'!$D$7:$D$78=التجميع!$B$62,ROW('اسناد الأقسام'!$D$7:$D$78)-ROW('اسناد الأقسام'!$D$7)+1),ROW(11:11))),\"\")","v":""},{"$f":"IF(ROW(11:11)<=COUNTIF('اسناد الأقسام'!$D$7:$D$78,التجميع!$B$62),INDEX('اسناد الأقسام'!G$7:G$78,SMALL(IF('اسناد الأقسام'!$D$7:$D$78=التجميع!$B$62,ROW('اسناد الأقسام'!$D$7:$D$78)-ROW('اسناد الأقسام'!$D$7)+1),ROW(11:11))),\"\")","v":""},{"$f":"IF(ROW(11:11)<=COUNTIF('اسناد الأقسام'!$D$7:$D$78,التجميع!$B$62),INDEX('اسناد الأقسام'!H$7:H$78,SMALL(IF('اسناد الأقسام'!$D$7:$D$78=التجميع!$B$62,ROW('اسناد الأقسام'!$D$7:$D$78)-ROW('اسناد الأقسام'!$D$7)+1),ROW(11:11))),\"\")","v":""},{"$f":"IF(ROW(11:11)<=COUNTIF('اسناد الأقسام'!$D$7:$D$78,التجميع!$B$62),INDEX('اسناد الأقسام'!I$7:I$78,SMALL(IF('اسناد الأقسام'!$D$7:$D$78=التجميع!$B$62,ROW('اسناد الأقسام'!$D$7:$D$78)-ROW('اسناد الأقسام'!$D$7)+1),ROW(11:11))),\"\")","v":""},{"$f":"IF(ROW(11:11)<=COUNTIF('اسناد الأقسام'!$D$7:$D$78,التجميع!$B$62),INDEX('اسناد الأقسام'!J$7:J$78,SMALL(IF('اسناد الأقسام'!$D$7:$D$78=التجميع!$B$62,ROW('اسناد الأقسام'!$D$7:$D$78)-ROW('اسناد الأقسام'!$D$7)+1),ROW(11:11))),\"\")","v":""},{"$f":"IF(ROW(11:11)<=COUNTIF('اسناد الأقسام'!$D$7:$D$78,التجميع!$B$62),INDEX('اسناد الأقسام'!K$7:K$78,SMALL(IF('اسناد الأقسام'!$D$7:$D$78=التجميع!$B$62,ROW('اسناد الأقسام'!$D$7:$D$78)-ROW('اسناد الأقسام'!$D$7)+1),ROW(11:11))),\"\")","v":""},{"$f":"IF(ROW(11:11)<=COUNTIF('اسناد الأقسام'!$D$7:$D$78,التجميع!$B$62),INDEX('اسناد الأقسام'!L$7:L$78,SMALL(IF('اسناد الأقسام'!$D$7:$D$78=التجميع!$B$62,ROW('اسناد الأقسام'!$D$7:$D$78)-ROW('اسناد الأقسام'!$D$7)+1),ROW(11:11))),\"\")","v":""},{"$f":"IF(ROW(11:11)<=COUNTIF('اسناد الأقسام'!$D$7:$D$78,التجميع!$B$62),INDEX('اسناد الأقسام'!M$7:M$78,SMALL(IF('اسناد الأقسام'!$D$7:$D$78=التجميع!$B$62,ROW('اسناد الأقسام'!$D$7:$D$78)-ROW('اسناد الأقسام'!$D$7)+1),ROW(11:11))),\"\")","v":""},{"$f":"IF(ROW(11:11)<=COUNTIF('اسناد الأقسام'!$D$7:$D$78,التجميع!$B$62),INDEX('اسناد الأقسام'!N$7:N$78,SMALL(IF('اسناد الأقسام'!$D$7:$D$78=التجميع!$B$62,ROW('اسناد الأقسام'!$D$7:$D$78)-ROW('اسناد الأقسام'!$D$7)+1),ROW(11:11))),\"\")","v":""},{"$f":"IF(ROW(11:11)<=COUNTIF('اسناد الأقسام'!$D$7:$D$78,التجميع!$B$62),INDEX('اسناد الأقسام'!O$7:O$78,SMALL(IF('اسناد الأقسام'!$D$7:$D$78=التجميع!$B$62,ROW('اسناد الأقسام'!$D$7:$D$78)-ROW('اسناد الأقسام'!$D$7)+1),ROW(11:11))),\"\")","v":""},{"$f":"IF(ROW(11:11)<=COUNTIF('اسناد الأقسام'!$D$7:$D$78,التجميع!$B$62),INDEX('اسناد الأقسام'!P$7:P$78,SMALL(IF('اسناد الأقسام'!$D$7:$D$78=التجميع!$B$62,ROW('اسناد الأقسام'!$D$7:$D$78)-ROW('اسناد الأقسام'!$D$7)+1),ROW(11:11))),\"\")","v":""},{"$f":"IF(ROW(11:11)<=COUNTIF('اسناد الأقسام'!$D$7:$D$78,التجميع!$B$62),INDEX('اسناد الأقسام'!Q$7:Q$78,SMALL(IF('اسناد الأقسام'!$D$7:$D$78=التجميع!$B$62,ROW('اسناد الأقسام'!$D$7:$D$78)-ROW('اسناد الأقسام'!$D$7)+1),ROW(11:11))),\"\")","v":""}]
[12,{"$f":"IF(ROW(12:12)<=COUNTIF('اسناد الأقسام'!$D$7:$D$78,التجميع!$B$62),INDEX('اسناد الأقسام'!C$7:C$78,SMALL(IF('اسناد الأقسام'!$D$7:$D$78=التجميع!$B$62,ROW('اسناد الأقسام'!$D$7:$D$78)-ROW('اسناد الأقسام'!$D$7)+1),ROW(12:12))),\"\")","v":""},{"$f":"IF(ROW(12:12)<=COUNTIF('اسناد الأقسام'!$D$7:$D$78,التجميع!$B$62),INDEX('اسناد الأقسام'!D$7:D$78,SMALL(IF('اسناد الأقسام'!$D$7:$D$78=التجميع!$B$62,ROW('اسناد الأقسام'!$D$7:$D$78)-ROW('اسناد الأقسام'!$D$7)+1),ROW(12:12))),\"\")","v":""},{"$f":"IF(ROW(12:12)<=COUNTIF('اسناد الأقسام'!$D$7:$D$78,التجميع!$B$62),INDEX('اسناد الأقسام'!E$7:E$78,SMALL(IF('اسناد الأقسام'!$D$7:$D$78=التجميع!$B$62,ROW('اسناد الأقسام'!$D$7:$D$78)-ROW('اسناد الأقسام'!$D$7)+1),ROW(12:12))),\"\")","v":""},{"$f":"IF(ROW(12:12)<=COUNTIF('اسناد الأقسام'!$D$7:$D$78,التجميع!$B$62),INDEX('اسناد الأقسام'!F$7:F$78,SMALL(IF('اسناد الأقسام'!$D$7:$D$78=التجميع!$B$62,ROW('اسناد الأقسام'!$D$7:$D$78)-ROW('اسناد الأقسام'!$D$7)+1),ROW(12:12))),\"\")","v":""},{"$f":"IF(ROW(12:12)<=COUNTIF('اسناد الأقسام'!$D$7:$D$78,التجميع!$B$62),INDEX('اسناد الأقسام'!G$7:G$78,SMALL(IF('اسناد الأقسام'!$D$7:$D$78=التجميع!$B$62,ROW('اسناد الأقسام'!$D$7:$D$78)-ROW('اسناد الأقسام'!$D$7)+1),ROW(12:12))),\"\")","v":""},{"$f":"IF(ROW(12:12)<=COUNTIF('اسناد الأقسام'!$D$7:$D$78,التجميع!$B$62),INDEX('اسناد الأقسام'!H$7:H$78,SMALL(IF('اسناد الأقسام'!$D$7:$D$78=التجميع!$B$62,ROW('اسناد الأقسام'!$D$7:$D$78)-ROW('اسناد الأقسام'!$D$7)+1),ROW(12:12))),\"\")","v":""},{"$f":"IF(ROW(12:12)<=COUNTIF('اسناد الأقسام'!$D$7:$D$78,التجميع!$B$62),INDEX('اسناد الأقسام'!I$7:I$78,SMALL(IF('اسناد الأقسام'!$D$7:$D$78=التجميع!$B$62,ROW('اسناد الأقسام'!$D$7:$D$78)-ROW('اسناد الأقسام'!$D$7)+1),ROW(12:12))),\"\")","v":""},{"$f":"IF(ROW(12:12)<=COUNTIF('اسناد الأقسام'!$D$7:$D$78,التجميع!$B$62),INDEX('اسناد الأقسام'!J$7:J$78,SMALL(IF('اسناد الأقسام'!$D$7:$D$78=التجميع!$B$62,ROW('اسناد الأقسام'!$D$7:$D$78)-ROW('اسناد الأقسام'!$D$7)+1),ROW(12:12))),\"\")","v":""},{"$f":"IF(ROW(12:12)<=COUNTIF('اسناد الأقسام'!$D$7:$D$78,التجميع!$B$62),INDEX('اسناد الأقسام'!K$7:K$78,SMALL(IF('اسناد الأقسام'!$D$7:$D$78=التجميع!$B$62,ROW('اسناد الأقسام'!$D$7:$D$78)-ROW('اسناد الأقسام'!$D$7)+1),ROW(12:12))),\"\")","v":""},{"$f":"IF(ROW(12:12)<=COUNTIF('اسناد الأقسام'!$D$7:$D$78,التجميع!$B$62),INDEX('اسناد الأقسام'!L$7:L$78,SMALL(IF('اسناد الأقسام'!$D$7:$D$78=التجميع!$B$62,ROW('اسناد الأقسام'!$D$7:$D$78)-ROW('اسناد الأقسام'!$D$7)+1),ROW(12:12))),\"\")","v":""},{"$f":"IF(ROW(12:12)<=COUNTIF('اسناد الأقسام'!$D$7:$D$78,التجميع!$B$62),INDEX('اسناد الأقسام'!M$7:M$78,SMALL(IF('اسناد الأقسام'!$D$7:$D$78=التجميع!$B$62,ROW('اسناد الأقسام'!$D$7:$D$78)-ROW('اسناد الأقسام'!$D$7)+1),ROW(12:12))),\"\")","v":""},{"$f":"IF(ROW(12:12)<=COUNTIF('اسناد الأقسام'!$D$7:$D$78,التجميع!$B$62),INDEX('اسناد الأقسام'!N$7:N$78,SMALL(IF('اسناد الأقسام'!$D$7:$D$78=التجميع!$B$62,ROW('اسناد الأقسام'!$D$7:$D$78)-ROW('اسناد الأقسام'!$D$7)+1),ROW(12:12))),\"\")","v":""},{"$f":"IF(ROW(12:12)<=COUNTIF('اسناد الأقسام'!$D$7:$D$78,التجميع!$B$62),INDEX('اسناد الأقسام'!O$7:O$78,SMALL(IF('اسناد الأقسام'!$D$7:$D$78=التجميع!$B$62,ROW('اسناد الأقسام'!$D$7:$D$78)-ROW('اسناد الأقسام'!$D$7)+1),ROW(12:12))),\"\")","v":""},{"$f":"IF(ROW(12:12)<=COUNTIF('اسناد الأقسام'!$D$7:$D$78,التجميع!$B$62),INDEX('اسناد الأقسام'!P$7:P$78,SMALL(IF('اسناد الأقسام'!$D$7:$D$78=التجميع!$B$62,ROW('اسناد الأقسام'!$D$7:$D$78)-ROW('اسناد الأقسام'!$D$7)+1),ROW(12:12))),\"\")","v":""},{"$f":"IF(ROW(12:12)<=COUNTIF('اسناد الأقسام'!$D$7:$D$78,التجميع!$B$62),INDEX('اسناد الأقسام'!Q$7:Q$78,SMALL(IF('اسناد الأقسام'!$D$7:$D$78=التجميع!$B$62,ROW('اسناد الأقسام'!$D$7:$D$78)-ROW('اسناد الأقسام'!$D$7)+1),ROW(12:12))),\"\")","v":""}]
[]
[null,"انجليزية"]
["الرقم","اللقب والاسم","المادة","تاريخ الميلاد","الصفة","أقصى درجة جامعية","تاريخ التعيين بالمؤسسة","الأقسام المسندة"]
[1,{"$f":"IF(ROW(1:1)<=COUNTIF('اسناد الأقسام'!$D$7:$D$78,التجميع!$B$77),INDEX('اسناد الأقسام'!C$7:C$78,SMALL(IF('اسناد الأقسام'!$D$7:$D$78=التجميع!$B$77,ROW('اسناد الأقسام'!$D$7:$D$78)-ROW('اسناد الأقسام'!$D$7)+1),ROW(1:1))),\"\")","v":"زريفي إبراهيم"},{"$f":"IF(ROW(1:1)<=COUNTIF('اسناد الأقسام'!$D$7:$D$78,التجميع!$B$77),INDEX('اسناد الأقسام'!D$7:D$78,SMALL(IF('اسناد الأقسام'!$D$7:$D$78=التجميع!$B$77,ROW('اسناد الأقسام'!$D$7:$D$78)-ROW('اسناد الأقسام'!$D$7)+1),ROW(1:1))),\"\")","v":"انجليزية"},{"$f":"IF(ROW(1:1)<=COUNTIF('اسناد الأقسام'!$D$7:$D$78,التجميع!$B$77),INDEX('اسناد الأقسام'!E$7:E$78,SMALL(IF('اسناد الأقسام'!$D$7:$D$78=التجميع!$B$77,ROW('اسناد الأقسام'!$D$7:$D$78)-ROW('اسناد الأقسام'!$D$7)+1),ROW(1:1))),\"\")","v":"1982-03-31"},{"$f":"IF(ROW(1:1)<=COUNTIF('اسناد الأقسام'!$D$7:$D$78,التجميع!$B$77),INDEX('اسناد الأقسام'!F$7:F$78,SMALL(IF('اسناد الأقسام'!$D$7:$D$78=التجميع!$B$77,ROW('اسناد الأقسام'!$D$7:$D$78)-ROW('اسناد الأقسام'!$D$7)+1),ROW(1:1))),\"\")","v":"مرسمة"},{"$f":"IF(ROW(1:1)<=COUNTIF('اسناد الأقسام'!$D$7:$D$78,التجميع!$B$77),INDEX('اسناد الأقسام'!G$7:G$78,SMALL(IF('اسناد الأقسام'!$D$7:$D$78=التجميع!$B$77,ROW('اسناد الأقسام'!$D$7:$D$78)-ROW('اسناد الأقسام'!$D$7)+1),ROW(1:1))),\"\")","v":"ليسانس"},{"$f":"IF(ROW(1:1)<=COUNTIF('اسناد الأقسام'!$D$7:$D$78,التجميع!$B$77),INDEX('اسناد الأقسام'!H$7:H$78,SMALL(IF('اسناد الأقسام'!$D$7:$D$78=التجميع!$B$77,ROW('اسناد الأقسام'!$D$7:$D$78)-ROW('اسناد الأقسام'!$D$7)+1),ROW(1:1))),\"\")","v":"2016-09-01"},{"$f":"IF(ROW(1:1)<=COUNTIF('اسناد الأقسام'!$D$7:$D$78,التجميع!$B$77),INDEX('اسناد الأقسام'!I$7:I$78,SMALL(IF('اسناد الأقسام'!$D$7:$D$78=التجميع!$B$77,ROW('اسناد الأقسام'!$D$7:$D$78)-ROW('اسناد الأقسام'!$D$7)+1),ROW(1:1))),\"\")","v":"1م1"},{"$f":"IF(ROW(1:1)<=COUNTIF('اسناد الأقسام'!$D$7:$D$78,التجميع!$B$77),INDEX('اسناد الأقسام'!J$7:J$78,SMALL(IF('اسناد الأقسام'!$D$7:$D$78=التجميع!$B$77,ROW('اسناد الأقسام'!$D$7:$D$78)-ROW('اسناد الأقسام'!$D$7)+1),ROW(1:1))),\"\")","v":"1م2"},{"$f":"IF(ROW(1:1)<=COUNTIF('اسناد الأقسام'!$D$7:$D$78,التجميع!$B$77),INDEX('اسناد الأقسام'!K$7:K$78,SMALL(IF('اسناد الأقسام'!$D$7:$D$78=التجميع!$B$77,ROW('اسناد الأقسام'!$D$7:$D$78)-ROW('اسناد الأقسام'!$D$7)+1),ROW(1:1))),\"\")","v":"1م3"},{"$f":"IF(ROW(1:1)<=COUNTIF('اسناد الأقسام'!$D$7:$D$78,التجميع!$B$77),INDEX('اسناد الأقسام'!L$7:L$78,SMALL(IF('اسناد الأقسام'!$D$7:$D$78=التجميع!$B$77,ROW('اسناد الأقسام'!$D$7:$D$78)-ROW('اسناد الأقسام'!$D$7)+1),ROW(1:1))),\"\")","v":"3م2"},{"$f":"IF(ROW(1:1)<=COUNTIF('اسناد الأقسام'!$D$7:$D$78,التجميع!$B$77),INDEX('اسناد الأقسام'!M$7:M$78,SMALL(IF('اسناد الأقسام'!$D$7:$D$78=التجميع!$B$77,ROW('اسناد الأقسام'!$D$7:$D$78)-ROW('اسناد الأقسام'!$D$7)+1),ROW(1:1))),\"\")","v":"3م3"},{"$f":"IF(ROW(1:1)<=COUNTIF('اسناد الأقسام'!$D$7:$D$78,التجميع!$B$77),INDEX('اسناد الأقسام'!N$7:N$78,SMALL(IF('اسناد الأقسام'!$D$7:$D$78=التجميع!$B$77,ROW('اسناد الأقسام'!$D$7:$D$78)-ROW('اسناد الأقسام'!$D$7)+1),ROW(1:1))),\"\")","v":0},{"$f":"IF(ROW(1:1)<=COUNTIF('اسناد الأقسام'!$D$7:$D$78,التجميع!$B$77),INDEX('اسناد الأقسام'!O$7:O$78,SMALL(IF('اسناد الأقسام'!$D$7:$D$78=التجميع!$B$77,ROW('اسناد الأقسام'!$D$7:$D$78)-ROW('اسناد الأقسام'!$D$7)+1),ROW(1:1))),\"\")","v":0},{"$f":"IF(ROW(1:1)<=COUNTIF('اسناد الأقسام'!$D$7:$D$78,التجميع!$B$77),INDEX('اسناد الأقسام'!P$7:P$78,SMALL(IF('اسناد الأقسام'!$D$7:$D$78=التجميع!$B$77,ROW('اسناد الأقسام'!$D$7:$D$78)-ROW('اسناد الأقسام'!$D$7)+1),ROW(1:1))),\"\")","v":0},{"$f":"IF(ROW(1:1)<=COUNTIF('اسناد الأقسام'!$D$7:$D$78,التجميع!$B$77),INDEX('اسناد الأقسام'!Q$7:Q$78,SMALL(IF('اسناد الأقسام'!$D$7:$D$78=التجميع!$B$77,ROW('اسناد الأقسام'!$D$7:$D$78)-ROW('اسناد الأقسام'!$D$7)+1),ROW(1:1))),\"\")","v":0}]
[2,{"$f":"IF(ROW(2:2)<=COUNTIF('اسناد الأقسام'!$D$7:$D$78,التجميع!$B$77),INDEX('اسناد الأقسام'!C$7:C$78,SMALL(IF('اسناد الأقسام'!$D$7:$D$78=التجميع!$B$77,ROW('اسناد الأقسام'!$D$7:$D$78)-ROW('اسناد الأقسام'!$D$7)+1),ROW(2:2))),\"\")","v":"محمدي مريم "},{"$f":"IF(ROW(2:2)<=COUNTIF('اسناد الأقسام'!$D$7:$D$78,التجميع!$B$77),INDEX('اسناد الأقسام'!D$7:D$78,SMALL(IF('اسناد الأقسام'!$D$7:$D$78=التجميع!$B$77,ROW('اسناد الأقسام'!$D$7:$D$78)-ROW('اسناد الأقسام'!$D$7)+1),ROW(2:2))),\"\")","v":"انجليزية"},{"$f":"IF(ROW(2:2)<=COUNTIF('اسناد الأقسام'!$D$7:$D$78,التجميع!$B$77),INDEX('اسناد الأقسام'!E$7:E$78,SMALL(IF('اسناد الأقسام'!$D$7:$D$78=التجميع!$B$77,ROW('اسناد الأقسام'!$D$7:$D$78)-ROW('اسناد الأقسام'!$D$7)+1),ROW(2:2))),\"\")","v":"1983-12-31"},{"$f":"IF(ROW(2:2)<=COUNTIF('اسناد الأقسام'!$D$7:$D$78,التجميع!$B$77),INDEX('اسناد الأقسام'!F$7:F$78,SMALL(IF('اسناد الأقسام'!$D$7:$D$78=التجميع!$B$77,ROW('اسناد الأقسام'!$D$7:$D$78)-ROW('اسناد الأقسام'!$D$7)+1),ROW(2:2))),\"\")","v":"مرسمة"},{"$f":"IF(ROW(2:2)<=COUNTIF('اسناد الأقسام'!$D$7:$D$78,التجميع!$B$77),INDEX('اسناد الأقسام'!G$7:G$78,SMALL(IF('اسناد الأقسام'!$D$7:$D$78=التجميع!$B$77,ROW('اسناد الأقسام'!$D$7:$D$78)-ROW('اسناد الأقسام'!$D$7)+1),ROW(2:2))),\"\")","v":"ليسانس"},{"$f":"IF(ROW(2:2)<=COUNTIF('اسناد الأقسام'!$D$7:$D$78,التجميع!$B$77),INDEX('اسناد الأقسام'!H$7:H$78,SMALL(IF('اسناد الأقسام'!$D$7:$D$78=التجميع!$B$77,ROW('اسناد الأقسام'!$D$7:$D$78)-ROW('اسناد الأقسام'!$D$7)+1),ROW(2:2))),\"\")","v":"2013-12-08"},{"$f":"IF(ROW(2:2)<=COUNTIF('اسناد الأقسام'!$D$7:$D$78,التجميع!$B$77),INDEX('اسناد الأقسام'!I$7:I$78,SMALL(IF('اسناد الأقسام'!$D$7:$D$78=التجميع!$B$77,ROW('اسناد الأقسام'!$D$7:$D$78)-ROW('اسناد الأقسام'!$D$7)+1),ROW(2:2))),\"\")","v":"4م1"},{"$f":"IF(ROW(2:2)<=COUNTIF('اسناد الأقسام'!$D$7:$D$78,التجميع!$B$77),INDEX('اسناد الأقسام'!J$7:J$78,SMALL(IF('اسناد الأقسام'!$D$7:$D$78=التجميع!$B$77,ROW('اسناد الأقسام'!$D$7:$D$78)-ROW('اسناد الأقسام'!$D$7)+1),ROW(2:2))),\"\")","v":"4م2"},{"$f":"IF(ROW(2:2)<=COUNTIF('اسناد الأقسام'!$D$7:$D$78,التجميع!$B$77),INDEX('اسناد الأقسام'!K$7:K$78,SMALL(IF('اسناد الأقسام'!$D$7:$D$78=التجميع!$B$77,ROW('اسناد الأقسام'!$D$7:$D$78)-ROW('اسناد الأقسام'!$D$7)+1),ROW(2:2))),\"\")","v":"2م1"},{"$f":"IF(ROW(2:2)<=COUNTIF('اسناد الأقسام'!$D$7:$D$78,التجميع!$B$77),INDEX('اسناد الأقسام'!L$7:L$78,SMALL(IF('اسناد الأقسام'!$D$7:$D$78=التجميع!$B$77,ROW('اسناد الأقسام'!$D$7:$D$78)-ROW('اسناد الأقسام'!$D$7)+1),ROW(2:2))),\"\")","v":"2م2"},{"$f":"IF(ROW(2:2)<=COUNTIF('اسناد الأقسام'!$D$7:$D$78,التجميع!$B$77),INDEX('اسناد الأقسام'!M$7:M$78,SMALL(IF('اسناد الأقسام'!$D$7:$D$78=التجميع!$B$77,ROW('اسناد الأقسام'!$D$7:$D$78)-ROW('اسناد الأقسام'!$D$7)+1),ROW(2:2))),\"\")","v":"2م3"},{"$f":"IF(ROW(2:2)<=COUNTIF('اسناد الأقسام'!$D$7:$D$78,التجميع!$B$77),INDEX('اسناد الأقسام'!N$7:N$78,SMALL(IF('اسناد الأقسام'!$D$7:$D$78=التجميع!$B$77,ROW('اسناد الأقسام'!$D$7:$D$78)-ROW('اسناد الأقسام'!$D$7)+1),ROW(2:2))),\"\")","v":0},{"$f":"IF(ROW(2:2)<=COUNTIF('اسناد الأقسام'!$D$7:$D$78,التجميع!$B$77),INDEX('اسناد الأقسام'!O$7:O$78,SMALL(IF('اسناد الأقسام'!$D$7:$D$78=التجميع!$B$77,ROW('اسناد الأقسام'!$D$7:$D$78)-ROW('اسناد الأقسام'!$D$7)+1),ROW(2:2))),\"\")","v":0},{"$f":"IF(ROW(2:2)<=COUNTIF('اسناد الأقسام'!$D$7:$D$78,التجميع!$B$77),INDEX('اسناد الأقسام'!P$7:P$78,SMALL(IF('اسناد الأقسام'!$D$7:$D$78=التجميع!$B$77,ROW('اسناد الأقسام'!$D$7:$D$78)-ROW('اسناد الأقسام'!$D$7)+1),ROW(2:2))),\"\")","v":0},{"$f":"IF(ROW(2:2)<=COUNTIF('اسناد الأقسام'!$D$7:$D$78,التجميع!$B$77),INDEX('اسناد الأقسام'!Q$7:Q$78,SMALL(IF('اسناد الأقسام'!$D$7:$D$78=التجميع!$B$77,ROW('اسناد الأقسام'!$D$7:$D$78)-ROW('اسناد الأقسام'!$D$7)+1),ROW(2:2))),\"\")","v":0}]
[3,{"$f":"IF(ROW(3:3)<=COUNTIF('اسناد الأقسام'!$D$7:$D$78,التجميع!$B$77),INDEX('اسناد الأقسام'!C$7:C$78,SMALL(IF('اسناد الأقسام'!$D$7:$D$78=التجميع!$B$77,ROW('اسناد الأقسام'!$D$7:$D$78)-ROW('اسناد الأقسام'!$D$7)+1),ROW(3:3))),\"\")","v":""},{"$f":"IF(ROW(3:3)<=COUNTIF('اسناد الأقسام'!$D$7:$D$78,التجميع!$B$77),INDEX('اسناد الأقسام'!D$7:D$78,SMALL(IF('اسناد الأقسام'!$D$7:$D$78=التجميع!$B$77,ROW('اسناد الأقسام'!$D$7:$D$78)-ROW('اسناد الأقسام'!$D$7)+1),ROW(3:3))),\"\")","v":""},{"$f":"IF(ROW(3:3)<=COUNTIF('اسناد الأقسام'!$D$7:$D$78,التجميع!$B$77),INDEX('اسناد الأقسام'!E$7:E$78,SMALL(IF('اسناد الأقسام'!$D$7:$D$78=التجميع!$B$77,ROW('اسناد الأقسام'!$D$7:$D$78)-ROW('اسناد الأقسام'!$D$7)+1),ROW(3:3))),\"\")","v":""},{"$f":"IF(ROW(3:3)<=COUNTIF('اسناد الأقسام'!$D$7:$D$78,التجميع!$B$77),INDEX('اسناد الأقسام'!F$7:F$78,SMALL(IF('اسناد الأقسام'!$D$7:$D$78=التجميع!$B$77,ROW('اسناد الأقسام'!$D$7:$D$78)-ROW('اسناد الأقسام'!$D$7)+1),ROW(3:3))),\"\")","v":""},{"$f":"IF(ROW(3:3)<=COUNTIF('اسناد الأقسام'!$D$7:$D$78,التجميع!$B$77),INDEX('اسناد الأقسام'!G$7:G$78,SMALL(IF('اسناد الأقسام'!$D$7:$D$78=التجميع!$B$77,ROW('اسناد الأقسام'!$D$7:$D$78)-ROW('اسناد الأقسام'!$D$7)+1),ROW(3:3))),\"\")","v":""},{"$f":"IF(ROW(3:3)<=COUNTIF('اسناد الأقسام'!$D$7:$D$78,التجميع!$B$77),INDEX('اسناد الأقسام'!H$7:H$78,SMALL(IF('اسناد الأقسام'!$D$7:$D$78=التجميع!$B$77,ROW('اسناد الأقسام'!$D$7:$D$78)-ROW('اسناد الأقسام'!$D$7)+1),ROW(3:3))),\"\")","v":""},{"$f":"IF(ROW(3:3)<=COUNTIF('اسناد الأقسام'!$D$7:$D$78,التجميع!$B$77),INDEX('اسناد الأقسام'!I$7:I$78,SMALL(IF('اسناد الأقسام'!$D$7:$D$78=التجميع!$B$77,ROW('اسناد الأقسام'!$D$7:$D$78)-ROW('اسناد الأقسام'!$D$7)+1),ROW(3:3))),\"\")","v":""},{"$f":"IF(ROW(3:3)<=COUNTIF('اسناد الأقسام'!$D$7:$D$78,التجميع!$B$77),INDEX('اسناد الأقسام'!J$7:J$78,SMALL(IF('اسناد الأقسام'!$D$7:$D$78=التجميع!$B$77,ROW('اسناد الأقسام'!$D$7:$D$78)-ROW('اسناد الأقسام'!$D$7)+1),ROW(3:3))),\"\")","v":""},{"$f":"IF(ROW(3:3)<=COUNTIF('اسناد الأقسام'!$D$7:$D$78,التجميع!$B$77),INDEX('اسناد الأقسام'!K$7:K$78,SMALL(IF('اسناد الأقسام'!$D$7:$D$78=التجميع!$B$77,ROW('اسناد الأقسام'!$D$7:$D$78)-ROW('اسناد الأقسام'!$D$7)+1),ROW(3:3))),\"\")","v":""},{"$f":"IF(ROW(3:3)<=COUNTIF('اسناد الأقسام'!$D$7:$D$78,التجميع!$B$77),INDEX('اسناد الأقسام'!L$7:L$78,SMALL(IF('اسناد الأقسام'!$D$7:$D$78=التجميع!$B$77,ROW('اسناد الأقسام'!$D$7:$D$78)-ROW('اسناد الأقسام'!$D$7)+1),ROW(3:3))),\"\")","v":""},{"$f":"IF(ROW(3:3)<=COUNTIF('اسناد الأقسام'!$D$7:$D$78,التجميع!$B$77),INDEX('اسناد الأقسام'!M$7:M$78,SMALL(IF('اسناد الأقسام'!$D$7:$D$78=التجميع!$B$77,ROW('اسناد الأقسام'!$D$7:$D$78)-ROW('اسناد الأقسام'!$D$7)+1),ROW(3:3))),\"\")","v":""},{"$f":"IF(ROW(3:3)<=COUNTIF('اسناد الأقسام'!$D$7:$D$78,التجميع!$B$77),INDEX('اسناد الأقسام'!N$7:N$78,SMALL(IF('اسناد الأقسام'!$D$7:$D$78=التجميع!$B$77,ROW('اسناد الأقسام'!$D$7:$D$78)-ROW('اسناد الأقسام'!$D$7)+1),ROW(3:3))),\"\")","v":""},{"$f":"IF(ROW(3:3)<=COUNTIF('اسناد الأقسام'!$D$7:$D$78,التجميع!$B$77),INDEX('اسناد الأقسام'!O$7:O$78,SMALL(IF('اسناد الأقسام'!$D$7:$D$78=التجميع!$B$77,ROW('اسناد الأقسام'!$D$7:$D$78)-ROW('اسناد الأقسام'!$D$7)+1),ROW(3:3))),\"\")","v":""},{"$f":"IF(ROW(3:3)<=COUNTIF('اسناد الأقسام'!$D$7:$D$78,التجميع!$B$77),INDEX('اسناد الأقسام'!P$7:P$78,SMALL(IF('اسناد الأقسام'!$D$7:$D$78=التجميع!$B$77,ROW('اسناد الأقسام'!$D$7:$D$78)-ROW('اسناد الأقسام'!$D$7)+1),ROW(3:3))),\"\")","v":""},{"$f":"IF(ROW(3:3)<=COUNTIF('اسناد الأقسام'!$D$7:$D$78,التجميع!$B$77),INDEX('اسناد الأقسام'!Q$7:Q$78,SMALL(IF('اسناد الأقسام'!$D$7:$D$78=التجميع!$B$77,ROW('اسناد الأقسام'!$D$7:$D$78)-ROW('اسناد الأقسام'!$D$7)+1),ROW(3:3))),\"\")","v":""}]
[4,{"$f":"IF(ROW(4:4)<=COUNTIF('اسناد الأقسام'!$D$7:$D$78,التجميع!$B$77),INDEX('اسناد الأقسام'!C$7:C$78,SMALL(IF('اسناد الأقسام'!$D$7:$D$78=التجميع!$B$77,ROW('اسناد الأقسام'!$D$7:$D$78)-ROW('اسناد الأقسام'!$D$7)+1),ROW(4:4))),\"\")","v":""},{"$f":"IF(ROW(4:4)<=COUNTIF('اسناد الأقسام'!$D$7:$D$78,التجميع!$B$77),INDEX('اسناد الأقسام'!D$7:D$78,SMALL(IF('اسناد الأقسام'!$D$7:$D$78=التجميع!$B$77,ROW('اسناد الأقسام'!$D$7:$D$78)-ROW('اسناد الأقسام'!$D$7)+1),ROW(4:4))),\"\")","v":""},{"$f":"IF(ROW(4:4)<=COUNTIF('اسناد الأقسام'!$D$7:$D$78,التجميع!$B$77),INDEX('اسناد الأقسام'!E$7:E$78,SMALL(IF('اسناد الأقسام'!$D$7:$D$78=التجميع!$B$77,ROW('اسناد الأقسام'!$D$7:$D$78)-ROW('اسناد الأقسام'!$D$7)+1),ROW(4:4))),\"\")","v":""},{"$f":"IF(ROW(4:4)<=COUNTIF('اسناد الأقسام'!$D$7:$D$78,التجميع!$B$77),INDEX('اسناد الأقسام'!F$7:F$78,SMALL(IF('اسناد الأقسام'!$D$7:$D$78=التجميع!$B$77,ROW('اسناد الأقسام'!$D$7:$D$78)-ROW('اسناد الأقسام'!$D$7)+1),ROW(4:4))),\"\")","v":""},{"$f":"IF(ROW(4:4)<=COUNTIF('اسناد الأقسام'!$D$7:$D$78,التجميع!$B$77),INDEX('اسناد الأقسام'!G$7:G$78,SMALL(IF('اسناد الأقسام'!$D$7:$D$78=التجميع!$B$77,ROW('اسناد الأقسام'!$D$7:$D$78)-ROW('اسناد الأقسام'!$D$7)+1),ROW(4:4))),\"\")","v":""},{"$f":"IF(ROW(4:4)<=COUNTIF('اسناد الأقسام'!$D$7:$D$78,التجميع!$B$77),INDEX('اسناد الأقسام'!H$7:H$78,SMALL(IF('اسناد الأقسام'!$D$7:$D$78=التجميع!$B$77,ROW('اسناد الأقسام'!$D$7:$D$78)-ROW('اسناد الأقسام'!$D$7)+1),ROW(4:4))),\"\")","v":""},{"$f":"IF(ROW(4:4)<=COUNTIF('اسناد الأقسام'!$D$7:$D$78,التجميع!$B$77),INDEX('اسناد الأقسام'!I$7:I$78,SMALL(IF('اسناد الأقسام'!$D$7:$D$78=التجميع!$B$77,ROW('اسناد الأقسام'!$D$7:$D$78)-ROW('اسناد الأقسام'!$D$7)+1),ROW(4:4))),\"\")","v":""},{"$f":"IF(ROW(4:4)<=COUNTIF('اسناد الأقسام'!$D$7:$D$78,التجميع!$B$77),INDEX('اسناد الأقسام'!J$7:J$78,SMALL(IF('اسناد الأقسام'!$D$7:$D$78=التجميع!$B$77,ROW('اسناد الأقسام'!$D$7:$D$78)-ROW('اسناد الأقسام'!$D$7)+1),ROW(4:4))),\"\")","v":""},{"$f":"IF(ROW(4:4)<=COUNTIF('اسناد الأقسام'!$D$7:$D$78,التجميع!$B$77),INDEX('اسناد الأقسام'!K$7:K$78,SMALL(IF('اسناد الأقسام'!$D$7:$D$78=التجميع!$B$77,ROW('اسناد الأقسام'!$D$7:$D$78)-ROW('اسناد الأقسام'!$D$7)+1),ROW(4:4))),\"\")","v":""},{"$f":"IF(ROW(4:4)<=COUNTIF('اسناد الأقسام'!$D$7:$D$78,التجميع!$B$77),INDEX('اسناد الأقسام'!L$7:L$78,SMALL(IF('اسناد الأقسام'!$D$7:$D$78=التجميع!$B$77,ROW('اسناد الأقسام'!$D$7:$D$78)-ROW('اسناد الأقسام'!$D$7)+1),ROW(4:4))),\"\")","v":""},{"$f":"IF(ROW(4:4)<=COUNTIF('اسناد الأقسام'!$D$7:$D$78,التجميع!$B$77),INDEX('اسناد الأقسام'!M$7:M$78,SMALL(IF('اسناد الأقسام'!$D$7:$D$78=التجميع!$B$77,ROW('اسناد الأقسام'!$D$7:$D$78)-ROW('اسناد الأقسام'!$D$7)+1),ROW(4:4))),\"\")","v":""},{"$f":"IF(ROW(4:4)<=COUNTIF('اسناد الأقسام'!$D$7:$D$78,التجميع!$B$77),INDEX('اسناد الأقسام'!N$7:N$78,SMALL(IF('اسناد الأقسام'!$D$7:$D$78=التجميع!$B$77,ROW('اسناد الأقسام'!$D$7:$D$78)-ROW('اسناد الأقسام'!$D$7)+1),ROW(4:4))),\"\")","v":""},{"$f":"IF(ROW(4:4)<=COUNTIF('اسناد الأقسام'!$D$7:$D$78,التجميع!$B$77),INDEX('اسناد الأقسام'!O$7:O$78,SMALL(IF('اسناد الأقسام'!$D$7:$D$78=التجميع!$B$77,ROW('اسناد الأقسام'!$D$7:$D$78)-ROW('اسناد الأقسام'!$D$7)+1),ROW(4:4))),\"\")","v":""},{"$f":"IF(ROW(4:4)<=COUNTIF('اسناد الأقسام'!$D$7:$D$78,التجميع!$B$77),INDEX('اسناد الأقسام'!P$7:P$78,SMALL(IF('اسناد الأقسام'!$D$7:$D$78=التجميع!$B$77,ROW('اسناد الأقسام'!$D$7:$D$78)-ROW('اسناد الأقسام'!$D$7)+1),ROW(4:4))),\"\")","v":""},{"$f":"IF(ROW(4:4)<=COUNTIF('اسناد الأقسام'!$D$7:$D$78,التجميع!$B$77),INDEX('اسناد الأقسام'!Q$7:Q$78,SMALL(IF('اسناد الأقسام'!$D$7:$D$78=التجميع!$B$77,ROW('اسناد الأقسام'!$D$7:$D$78)-ROW('اسناد الأقسام'!$D$7)+1),ROW(4:4))),\"\")","v":""}]
[5,{"$f":"IF(ROW(5:5)<=COUNTIF('اسناد الأقسام'!$D$7:$D$78,التجميع!$B$77),INDEX('اسناد الأقسام'!C$7:C$78,SMALL(IF('اسناد الأقسام'!$D$7:$D$78=التجميع!$B$77,ROW('اسناد الأقسام'!$D$7:$D$78)-ROW('اسناد الأقسام'!$D$7)+1),ROW(5:5))),\"\")","v":""},{"$f":"IF(ROW(5:5)<=COUNTIF('اسناد الأقسام'!$D$7:$D$78,التجميع!$B$77),INDEX('اسناد الأقسام'!D$7:D$78,SMALL(IF('اسناد الأقسام'!$D$7:$D$78=التجميع!$B$77,ROW('اسناد الأقسام'!$D$7:$D$78)-ROW('اسناد الأقسام'!$D$7)+1),ROW(5:5))),\"\")","v":""},{"$f":"IF(ROW(5:5)<=COUNTIF('اسناد الأقسام'!$D$7:$D$78,التجميع!$B$77),INDEX('اسناد الأقسام'!E$7:E$78,SMALL(IF('اسناد الأقسام'!$D$7:$D$78=التجميع!$B$77,ROW('اسناد الأقسام'!$D$7:$D$78)-ROW('اسناد الأقسام'!$D$7)+1),ROW(5:5))),\"\")","v":""},{"$f":"IF(ROW(5:5)<=COUNTIF('اسناد الأقسام'!$D$7:$D$78,التجميع!$B$77),INDEX('اسناد الأقسام'!F$7:F$78,SMALL(IF('اسناد الأقسام'!$D$7:$D$78=التجميع!$B$77,ROW('اسناد الأقسام'!$D$7:$D$78)-ROW('اسناد الأقسام'!$D$7)+1),ROW(5:5))),\"\")","v":""},{"$f":"IF(ROW(5:5)<=COUNTIF('اسناد الأقسام'!$D$7:$D$78,التجميع!$B$77),INDEX('اسناد الأقسام'!G$7:G$78,SMALL(IF('اسناد الأقسام'!$D$7:$D$78=التجميع!$B$77,ROW('اسناد الأقسام'!$D$7:$D$78)-ROW('اسناد الأقسام'!$D$7)+1),ROW(5:5))),\"\")","v":""},{"$f":"IF(ROW(5:5)<=COUNTIF('اسناد الأقسام'!$D$7:$D$78,التجميع!$B$77),INDEX('اسناد الأقسام'!H$7:H$78,SMALL(IF('اسناد الأقسام'!$D$7:$D$78=التجميع!$B$77,ROW('اسناد الأقسام'!$D$7:$D$78)-ROW('اسناد الأقسام'!$D$7)+1),ROW(5:5))),\"\")","v":""},{"$f":"IF(ROW(5:5)<=COUNTIF('اسناد الأقسام'!$D$7:$D$78,التجميع!$B$77),INDEX('اسناد الأقسام'!I$7:I$78,SMALL(IF('اسناد الأقسام'!$D$7:$D$78=التجميع!$B$77,ROW('اسناد الأقسام'!$D$7:$D$78)-ROW('اسناد الأقسام'!$D$7)+1),ROW(5:5))),\"\")","v":""},{"$f":"IF(ROW(5:5)<=COUNTIF('اسناد الأقسام'!$D$7:$D$78,التجميع!$B$77),INDEX('اسناد الأقسام'!J$7:J$78,SMALL(IF('اسناد الأقسام'!$D$7:$D$78=التجميع!$B$77,ROW('اسناد الأقسام'!$D$7:$D$78)-ROW('اسناد الأقسام'!$D$7)+1),ROW(5:5))),\"\")","v":""},{"$f":"IF(ROW(5:5)<=COUNTIF('اسناد الأقسام'!$D$7:$D$78,التجميع!$B$77),INDEX('اسناد الأقسام'!K$7:K$78,SMALL(IF('اسناد الأقسام'!$D$7:$D$78=التجميع!$B$77,ROW('اسناد الأقسام'!$D$7:$D$78)-ROW('اسناد الأقسام'!$D$7)+1),ROW(5:5))),\"\")","v":""},{"$f":"IF(ROW(5:5)<=COUNTIF('اسناد الأقسام'!$D$7:$D$78,التجميع!$B$77),INDEX('اسناد الأقسام'!L$7:L$78,SMALL(IF('اسناد الأقسام'!$D$7:$D$78=التجميع!$B$77,ROW('اسناد الأقسام'!$D$7:$D$78)-ROW('اسناد الأقسام'!$D$7)+1),ROW(5:5))),\"\")","v":""},{"$f":"IF(ROW(5:5)<=COUNTIF('اسناد الأقسام'!$D$7:$D$78,التجميع!$B$77),INDEX('اسناد الأقسام'!M$7:M$78,SMALL(IF('اسناد الأقسام'!$D$7:$D$78=التجميع!$B$77,ROW('اسناد الأقسام'!$D$7:$D$78)-ROW('اسناد الأقسام'!$D$7)+1),ROW(5:5))),\"\")","v":""},{"$f":"IF(ROW(5:5)<=COUNTIF('اسناد الأقسام'!$D$7:$D$78,التجميع!$B$77),INDEX('اسناد الأقسام'!N$7:N$78,SMALL(IF('اسناد الأقسام'!$D$7:$D$78=التجميع!$B$77,ROW('اسناد الأقسام'!$D$7:$D$78)-ROW('اسناد الأقسام'!$D$7)+1),ROW(5:5))),\"\")","v":""},{"$f":"IF(ROW(5:5)<=COUNTIF('اسناد الأقسام'!$D$7:$D$78,التجميع!$B$77),INDEX('اسناد الأقسام'!O$7:O$78,SMALL(IF('اسناد الأقسام'!$D$7:$D$78=التجميع!$B$77,ROW('اسناد الأقسام'!$D$7:$D$78)-ROW('اسناد الأقسام'!$D$7)+1),ROW(5:5))),\"\")","v":""},{"$f":"IF(ROW(5:5)<=COUNTIF('اسناد الأقسام'!$D$7:$D$78,التجميع!$B$77),INDEX('اسناد الأقسام'!P$7:P$78,SMALL(IF('اسناد الأقسام'!$D$7:$D$78=التجميع!$B$77,ROW('اسناد الأقسام'!$D$7:$D$78)-ROW('اسناد الأقسام'!$D$7)+1),ROW(5:5))),\"\")","v":""},{"$f":"IF(ROW(5:5)<=COUNTIF('اسناد الأقسام'!$D$7:$D$78,التجميع!$B$77),INDEX('اسناد الأقسام'!Q$7:Q$78,SMALL(IF('اسناد الأقسام'!$D$7:$D$78=التجميع!$B$77,ROW('اسناد الأقسام'!$D$7:$D$78)-ROW('اسناد الأقسام'!$D$7)+1),ROW(5:5))),\"\")","v":""}]
[6,{"$f":"IF(ROW(6:6)<=COUNTIF('اسناد الأقسام'!$D$7:$D$78,التجميع!$B$77),INDEX('اسناد الأقسام'!C$7:C$78,SMALL(IF('اسناد الأقسام'!$D$7:$D$78=التجميع!$B$77,ROW('اسناد الأقسام'!$D$7:$D$78)-ROW('اسناد الأقسام'!$D$7)+1),ROW(6:6))),\"\")","v":""},{"$f":"IF(ROW(6:6)<=COUNTIF('اسناد الأقسام'!$D$7:$D$78,التجميع!$B$77),INDEX('اسناد الأقسام'!D$7:D$78,SMALL(IF('اسناد الأقسام'!$D$7:$D$78=التجميع!$B$77,ROW('اسناد الأقسام'!$D$7:$D$78)-ROW('اسناد الأقسام'!$D$7)+1),ROW(6:6))),\"\")","v":""},{"$f":"IF(ROW(6:6)<=COUNTIF('اسناد الأقسام'!$D$7:$D$78,التجميع!$B$77),INDEX('اسناد الأقسام'!E$7:E$78,SMALL(IF('اسناد الأقسام'!$D$7:$D$78=التجميع!$B$77,ROW('اسناد الأقسام'!$D$7:$D$78)-ROW('اسناد الأقسام'!$D$7)+1),ROW(6:6))),\"\")","v":""},{"$f":"IF(ROW(6:6)<=COUNTIF('اسناد الأقسام'!$D$7:$D$78,التجميع!$B$77),INDEX('اسناد الأقسام'!F$7:F$78,SMALL(IF('اسناد الأقسام'!$D$7:$D$78=التجميع!$B$77,ROW('اسناد الأقسام'!$D$7:$D$78)-ROW('اسناد الأقسام'!$D$7)+1),ROW(6:6))),\"\")","v":""},{"$f":"IF(ROW(6:6)<=COUNTIF('اسناد الأقسام'!$D$7:$D$78,التجميع!$B$77),INDEX('اسناد الأقسام'!G$7:G$78,SMALL(IF('اسناد الأقسام'!$D$7:$D$78=التجميع!$B$77,ROW('اسناد الأقسام'!$D$7:$D$78)-ROW('اسناد الأقسام'!$D$7)+1),ROW(6:6))),\"\")","v":""},{"$f":"IF(ROW(6:6)<=COUNTIF('اسناد الأقسام'!$D$7:$D$78,التجميع!$B$77),INDEX('اسناد الأقسام'!H$7:H$78,SMALL(IF('اسناد الأقسام'!$D$7:$D$78=التجميع!$B$77,ROW('اسناد الأقسام'!$D$7:$D$78)-ROW('اسناد الأقسام'!$D$7)+1),ROW(6:6))),\"\")","v":""},{"$f":"IF(ROW(6:6)<=COUNTIF('اسناد الأقسام'!$D$7:$D$78,التجميع!$B$77),INDEX('اسناد الأقسام'!I$7:I$78,SMALL(IF('اسناد الأقسام'!$D$7:$D$78=التجميع!$B$77,ROW('اسناد الأقسام'!$D$7:$D$78)-ROW('اسناد الأقسام'!$D$7)+1),ROW(6:6))),\"\")","v":""},{"$f":"IF(ROW(6:6)<=COUNTIF('اسناد الأقسام'!$D$7:$D$78,التجميع!$B$77),INDEX('اسناد الأقسام'!J$7:J$78,SMALL(IF('اسناد الأقسام'!$D$7:$D$78=التجميع!$B$77,ROW('اسناد الأقسام'!$D$7:$D$78)-ROW('اسناد الأقسام'!$D$7)+1),ROW(6:6))),\"\")","v":""},{"$f":"IF(ROW(6:6)<=COUNTIF('اسناد الأقسام'!$D$7:$D$78,التجميع!$B$77),INDEX('اسناد الأقسام'!K$7:K$78,SMALL(IF('اسناد الأقسام'!$D$7:$D$78=التجميع!$B$77,ROW('اسناد الأقسام'!$D$7:$D$78)-ROW('اسناد الأقسام'!$D$7)+1),ROW(6:6))),\"\")","v":""},{"$f":"IF(ROW(6:6)<=COUNTIF('اسناد الأقسام'!$D$7:$D$78,التجميع!$B$77),INDEX('اسناد الأقسام'!L$7:L$78,SMALL(IF('اسناد الأقسام'!$D$7:$D$78=التجميع!$B$77,ROW('اسناد الأقسام'!$D$7:$D$78)-ROW('اسناد الأقسام'!$D$7)+1),ROW(6:6))),\"\")","v":""},{"$f":"IF(ROW(6:6)<=COUNTIF('اسناد الأقسام'!$D$7:$D$78,التجميع!$B$77),INDEX('اسناد الأقسام'!M$7:M$78,SMALL(IF('اسناد الأقسام'!$D$7:$D$78=التجميع!$B$77,ROW('اسناد الأقسام'!$D$7:$D$78)-ROW('اسناد الأقسام'!$D$7)+1),ROW(6:6))),\"\")","v":""},{"$f":"IF(ROW(6:6)<=COUNTIF('اسناد الأقسام'!$D$7:$D$78,التجميع!$B$77),INDEX('اسناد الأقسام'!N$7:N$78,SMALL(IF('اسناد الأقسام'!$D$7:$D$78=التجميع!$B$77,ROW('اسناد الأقسام'!$D$7:$D$78)-ROW('اسناد الأقسام'!$D$7)+1),ROW(6:6))),\"\")","v":""},{"$f":"IF(ROW(6:6)<=COUNTIF('اسناد الأقسام'!$D$7:$D$78,التجميع!$B$77),INDEX('اسناد الأقسام'!O$7:O$78,SMALL(IF('اسناد الأقسام'!$D$7:$D$78=التجميع!$B$77,ROW('اسناد الأقسام'!$D$7:$D$78)-ROW('اسناد الأقسام'!$D$7)+1),ROW(6:6))),\"\")","v":""},{"$f":"IF(ROW(6:6)<=COUNTIF('اسناد الأقسام'!$D$7:$D$78,التجميع!$B$77),INDEX('اسناد الأقسام'!P$7:P$78,SMALL(IF('اسناد الأقسام'!$D$7:$D$78=التجميع!$B$77,ROW('اسناد الأقسام'!$D$7:$D$78)-ROW('اسناد الأقسام'!$D$7)+1),ROW(6:6))),\"\")","v":""},{"$f":"IF(ROW(6:6)<=COUNTIF('اسناد الأقسام'!$D$7:$D$78,التجميع!$B$77),INDEX('اسناد الأقسام'!Q$7:Q$78,SMALL(IF('اسناد الأقسام'!$D$7:$D$78=التجميع!$B$77,ROW('اسناد الأقسام'!$D$7:$D$78)-ROW('اسناد الأقسام'!$D$7)+1),ROW(6:6))),\"\")","v":""}]
[7,{"$f":"IF(ROW(7:7)<=COUNTIF('اسناد الأقسام'!$D$7:$D$78,التجميع!$B$77),INDEX('اسناد الأقسام'!C$7:C$78,SMALL(IF('اسناد الأقسام'!$D$7:$D$78=التجميع!$B$77,ROW('اسناد الأقسام'!$D$7:$D$78)-ROW('اسناد الأقسام'!$D$7)+1),ROW(7:7))),\"\")","v":""},{"$f":"IF(ROW(7:7)<=COUNTIF('اسناد الأقسام'!$D$7:$D$78,التجميع!$B$77),INDEX('اسناد الأقسام'!D$7:D$78,SMALL(IF('اسناد الأقسام'!$D$7:$D$78=التجميع!$B$77,ROW('اسناد الأقسام'!$D$7:$D$78)-ROW('اسناد الأقسام'!$D$7)+1),ROW(7:7))),\"\")","v":""},{"$f":"IF(ROW(7:7)<=COUNTIF('اسناد الأقسام'!$D$7:$D$78,التجميع!$B$77),INDEX('اسناد الأقسام'!E$7:E$78,SMALL(IF('اسناد الأقسام'!$D$7:$D$78=التجميع!$B$77,ROW('اسناد الأقسام'!$D$7:$D$78)-ROW('اسناد الأقسام'!$D$7)+1),ROW(7:7))),\"\")","v":""},{"$f":"IF(ROW(7:7)<=COUNTIF('اسناد الأقسام'!$D$7:$D$78,التجميع!$B$77),INDEX('اسناد الأقسام'!F$7:F$78,SMALL(IF('اسناد الأقسام'!$D$7:$D$78=التجميع!$B$77,ROW('اسناد الأقسام'!$D$7:$D$78)-ROW('اسناد الأقسام'!$D$7)+1),ROW(7:7))),\"\")","v":""},{"$f":"IF(ROW(7:7)<=COUNTIF('اسناد الأقسام'!$D$7:$D$78,التجميع!$B$77),INDEX('اسناد الأقسام'!G$7:G$78,SMALL(IF('اسناد الأقسام'!$D$7:$D$78=التجميع!$B$77,ROW('اسناد الأقسام'!$D$7:$D$78)-ROW('اسناد الأقسام'!$D$7)+1),ROW(7:7))),\"\")","v":""},{"$f":"IF(ROW(7:7)<=COUNTIF('اسناد الأقسام'!$D$7:$D$78,التجميع!$B$77),INDEX('اسناد الأقسام'!H$7:H$78,SMALL(IF('اسناد الأقسام'!$D$7:$D$78=التجميع!$B$77,ROW('اسناد الأقسام'!$D$7:$D$78)-ROW('اسناد الأقسام'!$D$7)+1),ROW(7:7))),\"\")","v":""},{"$f":"IF(ROW(7:7)<=COUNTIF('اسناد الأقسام'!$D$7:$D$78,التجميع!$B$77),INDEX('اسناد الأقسام'!I$7:I$78,SMALL(IF('اسناد الأقسام'!$D$7:$D$78=التجميع!$B$77,ROW('اسناد الأقسام'!$D$7:$D$78)-ROW('اسناد الأقسام'!$D$7)+1),ROW(7:7))),\"\")","v":""},{"$f":"IF(ROW(7:7)<=COUNTIF('اسناد الأقسام'!$D$7:$D$78,التجميع!$B$77),INDEX('اسناد الأقسام'!J$7:J$78,SMALL(IF('اسناد الأقسام'!$D$7:$D$78=التجميع!$B$77,ROW('اسناد الأقسام'!$D$7:$D$78)-ROW('اسناد الأقسام'!$D$7)+1),ROW(7:7))),\"\")","v":""},{"$f":"IF(ROW(7:7)<=COUNTIF('اسناد الأقسام'!$D$7:$D$78,التجميع!$B$77),INDEX('اسناد الأقسام'!K$7:K$78,SMALL(IF('اسناد الأقسام'!$D$7:$D$78=التجميع!$B$77,ROW('اسناد الأقسام'!$D$7:$D$78)-ROW('اسناد الأقسام'!$D$7)+1),ROW(7:7))),\"\")","v":""},{"$f":"IF(ROW(7:7)<=COUNTIF('اسناد الأقسام'!$D$7:$D$78,التجميع!$B$77),INDEX('اسناد الأقسام'!L$7:L$78,SMALL(IF('اسناد الأقسام'!$D$7:$D$78=التجميع!$B$77,ROW('اسناد الأقسام'!$D$7:$D$78)-ROW('اسناد الأقسام'!$D$7)+1),ROW(7:7))),\"\")","v":""},{"$f":"IF(ROW(7:7)<=COUNTIF('اسناد الأقسام'!$D$7:$D$78,التجميع!$B$77),INDEX('اسناد الأقسام'!M$7:M$78,SMALL(IF('اسناد الأقسام'!$D$7:$D$78=التجميع!$B$77,ROW('اسناد الأقسام'!$D$7:$D$78)-ROW('اسناد الأقسام'!$D$7)+1),ROW(7:7))),\"\")","v":""},{"$f":"IF(ROW(7:7)<=COUNTIF('اسناد الأقسام'!$D$7:$D$78,التجميع!$B$77),INDEX('اسناد الأقسام'!N$7:N$78,SMALL(IF('اسناد الأقسام'!$D$7:$D$78=التجميع!$B$77,ROW('اسناد الأقسام'!$D$7:$D$78)-ROW('اسناد الأقسام'!$D$7)+1),ROW(7:7))),\"\")","v":""},{"$f":"IF(ROW(7:7)<=COUNTIF('اسناد الأقسام'!$D$7:$D$78,التجميع!$B$77),INDEX('اسناد الأقسام'!O$7:O$78,SMALL(IF('اسناد الأقسام'!$D$7:$D$78=التجميع!$B$77,ROW('اسناد الأقسام'!$D$7:$D$78)-ROW('اسناد الأقسام'!$D$7)+1),ROW(7:7))),\"\")","v":""},{"$f":"IF(ROW(7:7)<=COUNTIF('اسناد الأقسام'!$D$7:$D$78,التجميع!$B$77),INDEX('اسناد الأقسام'!P$7:P$78,SMALL(IF('اسناد الأقسام'!$D$7:$D$78=التجميع!$B$77,ROW('اسناد الأقسام'!$D$7:$D$78)-ROW('اسناد الأقسام'!$D$7)+1),ROW(7:7))),\"\")","v":""},{"$f":"IF(ROW(7:7)<=COUNTIF('اسناد الأقسام'!$D$7:$D$78,التجميع!$B$77),INDEX('اسناد الأقسام'!Q$7:Q$78,SMALL(IF('اسناد الأقسام'!$D$7:$D$78=التجميع!$B$77,ROW('اسناد الأقسام'!$D$7:$D$78)-ROW('اسناد الأقسام'!$D$7)+1),ROW(7:7))),\"\")","v":""}]
[8,{"$f":"IF(ROW(8:8)<=COUNTIF('اسناد الأقسام'!$D$7:$D$78,التجميع!$B$77),INDEX('اسناد الأقسام'!C$7:C$78,SMALL(IF('اسناد الأقسام'!$D$7:$D$78=التجميع!$B$77,ROW('اسناد الأقسام'!$D$7:$D$78)-ROW('اسناد الأقسام'!$D$7)+1),ROW(8:8))),\"\")","v":""},{"$f":"IF(ROW(8:8)<=COUNTIF('اسناد الأقسام'!$D$7:$D$78,التجميع!$B$77),INDEX('اسناد الأقسام'!D$7:D$78,SMALL(IF('اسناد الأقسام'!$D$7:$D$78=التجميع!$B$77,ROW('اسناد الأقسام'!$D$7:$D$78)-ROW('اسناد الأقسام'!$D$7)+1),ROW(8:8))),\"\")","v":""},{"$f":"IF(ROW(8:8)<=COUNTIF('اسناد الأقسام'!$D$7:$D$78,التجميع!$B$77),INDEX('اسناد الأقسام'!E$7:E$78,SMALL(IF('اسناد الأقسام'!$D$7:$D$78=التجميع!$B$77,ROW('اسناد الأقسام'!$D$7:$D$78)-ROW('اسناد الأقسام'!$D$7)+1),ROW(8:8))),\"\")","v":""},{"$f":"IF(ROW(8:8)<=COUNTIF('اسناد الأقسام'!$D$7:$D$78,التجميع!$B$77),INDEX('اسناد الأقسام'!F$7:F$78,SMALL(IF('اسناد الأقسام'!$D$7:$D$78=التجميع!$B$77,ROW('اسناد الأقسام'!$D$7:$D$78)-ROW('اسناد الأقسام'!$D$7)+1),ROW(8:8))),\"\")","v":""},{"$f":"IF(ROW(8:8)<=COUNTIF('اسناد الأقسام'!$D$7:$D$78,التجميع!$B$77),INDEX('اسناد الأقسام'!G$7:G$78,SMALL(IF('اسناد الأقسام'!$D$7:$D$78=التجميع!$B$77,ROW('اسناد الأقسام'!$D$7:$D$78)-ROW('اسناد الأقسام'!$D$7)+1),ROW(8:8))),\"\")","v":""},{"$f":"IF(ROW(8:8)<=COUNTIF('اسناد الأقسام'!$D$7:$D$78,التجميع!$B$77),INDEX('اسناد الأقسام'!H$7:H$78,SMALL(IF('اسناد الأقسام'!$D$7:$D$78=التجميع!$B$77,ROW('اسناد الأقسام'!$D$7:$D$78)-ROW('اسناد الأقسام'!$D$7)+1),ROW(8:8))),\"\")","v":""},{"$f":"IF(ROW(8:8)<=COUNTIF('اسناد الأقسام'!$D$7:$D$78,التجميع!$B$77),INDEX('اسناد الأقسام'!I$7:I$78,SMALL(IF('اسناد الأقسام'!$D$7:$D$78=التجميع!$B$77,ROW('اسناد الأقسام'!$D$7:$D$78)-ROW('اسناد الأقسام'!$D$7)+1),ROW(8:8))),\"\")","v":""},{"$f":"IF(ROW(8:8)<=COUNTIF('اسناد الأقسام'!$D$7:$D$78,التجميع!$B$77),INDEX('اسناد الأقسام'!J$7:J$78,SMALL(IF('اسناد الأقسام'!$D$7:$D$78=التجميع!$B$77,ROW('اسناد الأقسام'!$D$7:$D$78)-ROW('اسناد الأقسام'!$D$7)+1),ROW(8:8))),\"\")","v":""},{"$f":"IF(ROW(8:8)<=COUNTIF('اسناد الأقسام'!$D$7:$D$78,التجميع!$B$77),INDEX('اسناد الأقسام'!K$7:K$78,SMALL(IF('اسناد الأقسام'!$D$7:$D$78=التجميع!$B$77,ROW('اسناد الأقسام'!$D$7:$D$78)-ROW('اسناد الأقسام'!$D$7)+1),ROW(8:8))),\"\")","v":""},{"$f":"IF(ROW(8:8)<=COUNTIF('اسناد الأقسام'!$D$7:$D$78,التجميع!$B$77),INDEX('اسناد الأقسام'!L$7:L$78,SMALL(IF('اسناد الأقسام'!$D$7:$D$78=التجميع!$B$77,ROW('اسناد الأقسام'!$D$7:$D$78)-ROW('اسناد الأقسام'!$D$7)+1),ROW(8:8))),\"\")","v":""},{"$f":"IF(ROW(8:8)<=COUNTIF('اسناد الأقسام'!$D$7:$D$78,التجميع!$B$77),INDEX('اسناد الأقسام'!M$7:M$78,SMALL(IF('اسناد الأقسام'!$D$7:$D$78=التجميع!$B$77,ROW('اسناد الأقسام'!$D$7:$D$78)-ROW('اسناد الأقسام'!$D$7)+1),ROW(8:8))),\"\")","v":""},{"$f":"IF(ROW(8:8)<=COUNTIF('اسناد الأقسام'!$D$7:$D$78,التجميع!$B$77),INDEX('اسناد الأقسام'!N$7:N$78,SMALL(IF('اسناد الأقسام'!$D$7:$D$78=التجميع!$B$77,ROW('اسناد الأقسام'!$D$7:$D$78)-ROW('اسناد الأقسام'!$D$7)+1),ROW(8:8))),\"\")","v":""},{"$f":"IF(ROW(8:8)<=COUNTIF('اسناد الأقسام'!$D$7:$D$78,التجميع!$B$77),INDEX('اسناد الأقسام'!O$7:O$78,SMALL(IF('اسناد الأقسام'!$D$7:$D$78=التجميع!$B$77,ROW('اسناد الأقسام'!$D$7:$D$78)-ROW('اسناد الأقسام'!$D$7)+1),ROW(8:8))),\"\")","v":""},{"$f":"IF(ROW(8:8)<=COUNTIF('اسناد الأقسام'!$D$7:$D$78,التجميع!$B$77),INDEX('اسناد الأقسام'!P$7:P$78,SMALL(IF('اسناد الأقسام'!$D$7:$D$78=التجميع!$B$77,ROW('اسناد الأقسام'!$D$7:$D$78)-ROW('اسناد الأقسام'!$D$7)+1),ROW(8:8))),\"\")","v":""},{"$f":"IF(ROW(8:8)<=COUNTIF('اسناد الأقسام'!$D$7:$D$78,التجميع!$B$77),INDEX('اسناد الأقسام'!Q$7:Q$78,SMALL(IF('اسناد الأقسام'!$D$7:$D$78=التجميع!$B$77,ROW('اسناد الأقسام'!$D$7:$D$78)-ROW('اسناد الأقسام'!$D$7)+1),ROW(8:8))),\"\")","v":""}]
[9,{"$f":"IF(ROW(9:9)<=COUNTIF('اسناد الأقسام'!$D$7:$D$78,التجميع!$B$77),INDEX('اسناد الأقسام'!C$7:C$78,SMALL(IF('اسناد الأقسام'!$D$7:$D$78=التجميع!$B$77,ROW('اسناد الأقسام'!$D$7:$D$78)-ROW('اسناد الأقسام'!$D$7)+1),ROW(9:9))),\"\")","v":""},{"$f":"IF(ROW(9:9)<=COUNTIF('اسناد الأقسام'!$D$7:$D$78,التجميع!$B$77),INDEX('اسناد الأقسام'!D$7:D$78,SMALL(IF('اسناد الأقسام'!$D$7:$D$78=التجميع!$B$77,ROW('اسناد الأقسام'!$D$7:$D$78)-ROW('اسناد الأقسام'!$D$7)+1),ROW(9:9))),\"\")","v":""},{"$f":"IF(ROW(9:9)<=COUNTIF('اسناد الأقسام'!$D$7:$D$78,التجميع!$B$77),INDEX('اسناد الأقسام'!E$7:E$78,SMALL(IF('اسناد الأقسام'!$D$7:$D$78=التجميع!$B$77,ROW('اسناد الأقسام'!$D$7:$D$78)-ROW('اسناد الأقسام'!$D$7)+1),ROW(9:9))),\"\")","v":""},{"$f":"IF(ROW(9:9)<=COUNTIF('اسناد الأقسام'!$D$7:$D$78,التجميع!$B$77),INDEX('اسناد الأقسام'!F$7:F$78,SMALL(IF('اسناد الأقسام'!$D$7:$D$78=التجميع!$B$77,ROW('اسناد الأقسام'!$D$7:$D$78)-ROW('اسناد الأقسام'!$D$7)+1),ROW(9:9))),\"\")","v":""},{"$f":"IF(ROW(9:9)<=COUNTIF('اسناد الأقسام'!$D$7:$D$78,التجميع!$B$77),INDEX('اسناد الأقسام'!G$7:G$78,SMALL(IF('اسناد الأقسام'!$D$7:$D$78=التجميع!$B$77,ROW('اسناد الأقسام'!$D$7:$D$78)-ROW('اسناد الأقسام'!$D$7)+1),ROW(9:9))),\"\")","v":""},{"$f":"IF(ROW(9:9)<=COUNTIF('اسناد الأقسام'!$D$7:$D$78,التجميع!$B$77),INDEX('اسناد الأقسام'!H$7:H$78,SMALL(IF('اسناد الأقسام'!$D$7:$D$78=التجميع!$B$77,ROW('اسناد الأقسام'!$D$7:$D$78)-ROW('اسناد الأقسام'!$D$7)+1),ROW(9:9))),\"\")","v":""},{"$f":"IF(ROW(9:9)<=COUNTIF('اسناد الأقسام'!$D$7:$D$78,التجميع!$B$77),INDEX('اسناد الأقسام'!I$7:I$78,SMALL(IF('اسناد الأقسام'!$D$7:$D$78=التجميع!$B$77,ROW('اسناد الأقسام'!$D$7:$D$78)-ROW('اسناد الأقسام'!$D$7)+1),ROW(9:9))),\"\")","v":""},{"$f":"IF(ROW(9:9)<=COUNTIF('اسناد الأقسام'!$D$7:$D$78,التجميع!$B$77),INDEX('اسناد الأقسام'!J$7:J$78,SMALL(IF('اسناد الأقسام'!$D$7:$D$78=التجميع!$B$77,ROW('اسناد الأقسام'!$D$7:$D$78)-ROW('اسناد الأقسام'!$D$7)+1),ROW(9:9))),\"\")","v":""},{"$f":"IF(ROW(9:9)<=COUNTIF('اسناد الأقسام'!$D$7:$D$78,التجميع!$B$77),INDEX('اسناد الأقسام'!K$7:K$78,SMALL(IF('اسناد الأقسام'!$D$7:$D$78=التجميع!$B$77,ROW('اسناد الأقسام'!$D$7:$D$78)-ROW('اسناد الأقسام'!$D$7)+1),ROW(9:9))),\"\")","v":""},{"$f":"IF(ROW(9:9)<=COUNTIF('اسناد الأقسام'!$D$7:$D$78,التجميع!$B$77),INDEX('اسناد الأقسام'!L$7:L$78,SMALL(IF('اسناد الأقسام'!$D$7:$D$78=التجميع!$B$77,ROW('اسناد الأقسام'!$D$7:$D$78)-ROW('اسناد الأقسام'!$D$7)+1),ROW(9:9))),\"\")","v":""},{"$f":"IF(ROW(9:9)<=COUNTIF('اسناد الأقسام'!$D$7:$D$78,التجميع!$B$77),INDEX('اسناد الأقسام'!M$7:M$78,SMALL(IF('اسناد الأقسام'!$D$7:$D$78=التجميع!$B$77,ROW('اسناد الأقسام'!$D$7:$D$78)-ROW('اسناد الأقسام'!$D$7)+1),ROW(9:9))),\"\")","v":""},{"$f":"IF(ROW(9:9)<=COUNTIF('اسناد الأقسام'!$D$7:$D$78,التجميع!$B$77),INDEX('اسناد الأقسام'!N$7:N$78,SMALL(IF('اسناد الأقسام'!$D$7:$D$78=التجميع!$B$77,ROW('اسناد الأقسام'!$D$7:$D$78)-ROW('اسناد الأقسام'!$D$7)+1),ROW(9:9))),\"\")","v":""},{"$f":"IF(ROW(9:9)<=COUNTIF('اسناد الأقسام'!$D$7:$D$78,التجميع!$B$77),INDEX('اسناد الأقسام'!O$7:O$78,SMALL(IF('اسناد الأقسام'!$D$7:$D$78=التجميع!$B$77,ROW('اسناد الأقسام'!$D$7:$D$78)-ROW('اسناد الأقسام'!$D$7)+1),ROW(9:9))),\"\")","v":""},{"$f":"IF(ROW(9:9)<=COUNTIF('اسناد الأقسام'!$D$7:$D$78,التجميع!$B$77),INDEX('اسناد الأقسام'!P$7:P$78,SMALL(IF('اسناد الأقسام'!$D$7:$D$78=التجميع!$B$77,ROW('اسناد الأقسام'!$D$7:$D$78)-ROW('اسناد الأقسام'!$D$7)+1),ROW(9:9))),\"\")","v":""},{"$f":"IF(ROW(9:9)<=COUNTIF('اسناد الأقسام'!$D$7:$D$78,التجميع!$B$77),INDEX('اسناد الأقسام'!Q$7:Q$78,SMALL(IF('اسناد الأقسام'!$D$7:$D$78=التجميع!$B$77,ROW('اسناد الأقسام'!$D$7:$D$78)-ROW('اسناد الأقسام'!$D$7)+1),ROW(9:9))),\"\")","v":""}]
[10,{"$f":"IF(ROW(10:10)<=COUNTIF('اسناد الأقسام'!$D$7:$D$78,التجميع!$B$77),INDEX('اسناد الأقسام'!C$7:C$78,SMALL(IF('اسناد الأقسام'!$D$7:$D$78=التجميع!$B$77,ROW('اسناد الأقسام'!$D$7:$D$78)-ROW('اسناد الأقسام'!$D$7)+1),ROW(10:10))),\"\")","v":""},{"$f":"IF(ROW(10:10)<=COUNTIF('اسناد الأقسام'!$D$7:$D$78,التجميع!$B$77),INDEX('اسناد الأقسام'!D$7:D$78,SMALL(IF('اسناد الأقسام'!$D$7:$D$78=التجميع!$B$77,ROW('اسناد الأقسام'!$D$7:$D$78)-ROW('اسناد الأقسام'!$D$7)+1),ROW(10:10))),\"\")","v":""},{"$f":"IF(ROW(10:10)<=COUNTIF('اسناد الأقسام'!$D$7:$D$78,التجميع!$B$77),INDEX('اسناد الأقسام'!E$7:E$78,SMALL(IF('اسناد الأقسام'!$D$7:$D$78=التجميع!$B$77,ROW('اسناد الأقسام'!$D$7:$D$78)-ROW('اسناد الأقسام'!$D$7)+1),ROW(10:10))),\"\")","v":""},{"$f":"IF(ROW(10:10)<=COUNTIF('اسناد الأقسام'!$D$7:$D$78,التجميع!$B$77),INDEX('اسناد الأقسام'!F$7:F$78,SMALL(IF('اسناد الأقسام'!$D$7:$D$78=التجميع!$B$77,ROW('اسناد الأقسام'!$D$7:$D$78)-ROW('اسناد الأقسام'!$D$7)+1),ROW(10:10))),\"\")","v":""},{"$f":"IF(ROW(10:10)<=COUNTIF('اسناد الأقسام'!$D$7:$D$78,التجميع!$B$77),INDEX('اسناد الأقسام'!G$7:G$78,SMALL(IF('اسناد الأقسام'!$D$7:$D$78=التجميع!$B$77,ROW('اسناد الأقسام'!$D$7:$D$78)-ROW('اسناد الأقسام'!$D$7)+1),ROW(10:10))),\"\")","v":""},{"$f":"IF(ROW(10:10)<=COUNTIF('اسناد الأقسام'!$D$7:$D$78,التجميع!$B$77),INDEX('اسناد الأقسام'!H$7:H$78,SMALL(IF('اسناد الأقسام'!$D$7:$D$78=التجميع!$B$77,ROW('اسناد الأقسام'!$D$7:$D$78)-ROW('اسناد الأقسام'!$D$7)+1),ROW(10:10))),\"\")","v":""},{"$f":"IF(ROW(10:10)<=COUNTIF('اسناد الأقسام'!$D$7:$D$78,التجميع!$B$77),INDEX('اسناد الأقسام'!I$7:I$78,SMALL(IF('اسناد الأقسام'!$D$7:$D$78=التجميع!$B$77,ROW('اسناد الأقسام'!$D$7:$D$78)-ROW('اسناد الأقسام'!$D$7)+1),ROW(10:10))),\"\")","v":""},{"$f":"IF(ROW(10:10)<=COUNTIF('اسناد الأقسام'!$D$7:$D$78,التجميع!$B$77),INDEX('اسناد الأقسام'!J$7:J$78,SMALL(IF('اسناد الأقسام'!$D$7:$D$78=التجميع!$B$77,ROW('اسناد الأقسام'!$D$7:$D$78)-ROW('اسناد الأقسام'!$D$7)+1),ROW(10:10))),\"\")","v":""},{"$f":"IF(ROW(10:10)<=COUNTIF('اسناد الأقسام'!$D$7:$D$78,التجميع!$B$77),INDEX('اسناد الأقسام'!K$7:K$78,SMALL(IF('اسناد الأقسام'!$D$7:$D$78=التجميع!$B$77,ROW('اسناد الأقسام'!$D$7:$D$78)-ROW('اسناد الأقسام'!$D$7)+1),ROW(10:10))),\"\")","v":""},{"$f":"IF(ROW(10:10)<=COUNTIF('اسناد الأقسام'!$D$7:$D$78,التجميع!$B$77),INDEX('اسناد الأقسام'!L$7:L$78,SMALL(IF('اسناد الأقسام'!$D$7:$D$78=التجميع!$B$77,ROW('اسناد الأقسام'!$D$7:$D$78)-ROW('اسناد الأقسام'!$D$7)+1),ROW(10:10))),\"\")","v":""},{"$f":"IF(ROW(10:10)<=COUNTIF('اسناد الأقسام'!$D$7:$D$78,التجميع!$B$77),INDEX('اسناد الأقسام'!M$7:M$78,SMALL(IF('اسناد الأقسام'!$D$7:$D$78=التجميع!$B$77,ROW('اسناد الأقسام'!$D$7:$D$78)-ROW('اسناد الأقسام'!$D$7)+1),ROW(10:10))),\"\")","v":""},{"$f":"IF(ROW(10:10)<=COUNTIF('اسناد الأقسام'!$D$7:$D$78,التجميع!$B$77),INDEX('اسناد الأقسام'!N$7:N$78,SMALL(IF('اسناد الأقسام'!$D$7:$D$78=التجميع!$B$77,ROW('اسناد الأقسام'!$D$7:$D$78)-ROW('اسناد الأقسام'!$D$7)+1),ROW(10:10))),\"\")","v":""},{"$f":"IF(ROW(10:10)<=COUNTIF('اسناد الأقسام'!$D$7:$D$78,التجميع!$B$77),INDEX('اسناد الأقسام'!O$7:O$78,SMALL(IF('اسناد الأقسام'!$D$7:$D$78=التجميع!$B$77,ROW('اسناد الأقسام'!$D$7:$D$78)-ROW('اسناد الأقسام'!$D$7)+1),ROW(10:10))),\"\")","v":""},{"$f":"IF(ROW(10:10)<=COUNTIF('اسناد الأقسام'!$D$7:$D$78,التجميع!$B$77),INDEX('اسناد الأقسام'!P$7:P$78,SMALL(IF('اسناد الأقسام'!$D$7:$D$78=التجميع!$B$77,ROW('اسناد الأقسام'!$D$7:$D$78)-ROW('اسناد الأقسام'!$D$7)+1),ROW(10:10))),\"\")","v":""},{"$f":"IF(ROW(10:10)<=COUNTIF('اسناد الأقسام'!$D$7:$D$78,التجميع!$B$77),INDEX('اسناد الأقسام'!Q$7:Q$78,SMALL(IF('اسناد الأقسام'!$D$7:$D$78=التجميع!$B$77,ROW('اسناد الأقسام'!$D$7:$D$78)-ROW('اسناد الأقسام'!$D$7)+1),ROW(10:10))),\"\")","v":""}]
[11,{"$f":"IF(ROW(11:11)<=COUNTIF('اسناد الأقسام'!$D$7:$D$78,التجميع!$B$77),INDEX('اسناد الأقسام'!C$7:C$78,SMALL(IF('اسناد الأقسام'!$D$7:$D$78=التجميع!$B$77,ROW('اسناد الأقسام'!$D$7:$D$78)-ROW('اسناد الأقسام'!$D$7)+1),ROW(11:11))),\"\")","v":""},{"$f":"IF(ROW(11:11)<=COUNTIF('اسناد الأقسام'!$D$7:$D$78,التجميع!$B$77),INDEX('اسناد الأقسام'!D$7:D$78,SMALL(IF('اسناد الأقسام'!$D$7:$D$78=التجميع!$B$77,ROW('اسناد الأقسام'!$D$7:$D$78)-ROW('اسناد الأقسام'!$D$7)+1),ROW(11:11))),\"\")","v":""},{"$f":"IF(ROW(11:11)<=COUNTIF('اسناد الأقسام'!$D$7:$D$78,التجميع!$B$77),INDEX('اسناد الأقسام'!E$7:E$78,SMALL(IF('اسناد الأقسام'!$D$7:$D$78=التجميع!$B$77,ROW('اسناد الأقسام'!$D$7:$D$78)-ROW('اسناد الأقسام'!$D$7)+1),ROW(11:11))),\"\")","v":""},{"$f":"IF(ROW(11:11)<=COUNTIF('اسناد الأقسام'!$D$7:$D$78,التجميع!$B$77),INDEX('اسناد الأقسام'!F$7:F$78,SMALL(IF('اسناد الأقسام'!$D$7:$D$78=التجميع!$B$77,ROW('اسناد الأقسام'!$D$7:$D$78)-ROW('اسناد الأقسام'!$D$7)+1),ROW(11:11))),\"\")","v":""},{"$f":"IF(ROW(11:11)<=COUNTIF('اسناد الأقسام'!$D$7:$D$78,التجميع!$B$77),INDEX('اسناد الأقسام'!G$7:G$78,SMALL(IF('اسناد الأقسام'!$D$7:$D$78=التجميع!$B$77,ROW('اسناد الأقسام'!$D$7:$D$78)-ROW('اسناد الأقسام'!$D$7)+1),ROW(11:11))),\"\")","v":""},{"$f":"IF(ROW(11:11)<=COUNTIF('اسناد الأقسام'!$D$7:$D$78,التجميع!$B$77),INDEX('اسناد الأقسام'!H$7:H$78,SMALL(IF('اسناد الأقسام'!$D$7:$D$78=التجميع!$B$77,ROW('اسناد الأقسام'!$D$7:$D$78)-ROW('اسناد الأقسام'!$D$7)+1),ROW(11:11))),\"\")","v":""},{"$f":"IF(ROW(11:11)<=COUNTIF('اسناد الأقسام'!$D$7:$D$78,التجميع!$B$77),INDEX('اسناد الأقسام'!I$7:I$78,SMALL(IF('اسناد الأقسام'!$D$7:$D$78=التجميع!$B$77,ROW('اسناد الأقسام'!$D$7:$D$78)-ROW('اسناد الأقسام'!$D$7)+1),ROW(11:11))),\"\")","v":""},{"$f":"IF(ROW(11:11)<=COUNTIF('اسناد الأقسام'!$D$7:$D$78,التجميع!$B$77),INDEX('اسناد الأقسام'!J$7:J$78,SMALL(IF('اسناد الأقسام'!$D$7:$D$78=التجميع!$B$77,ROW('اسناد الأقسام'!$D$7:$D$78)-ROW('اسناد الأقسام'!$D$7)+1),ROW(11:11))),\"\")","v":""},{"$f":"IF(ROW(11:11)<=COUNTIF('اسناد الأقسام'!$D$7:$D$78,التجميع!$B$77),INDEX('اسناد الأقسام'!K$7:K$78,SMALL(IF('اسناد الأقسام'!$D$7:$D$78=التجميع!$B$77,ROW('اسناد الأقسام'!$D$7:$D$78)-ROW('اسناد الأقسام'!$D$7)+1),ROW(11:11))),\"\")","v":""},{"$f":"IF(ROW(11:11)<=COUNTIF('اسناد الأقسام'!$D$7:$D$78,التجميع!$B$77),INDEX('اسناد الأقسام'!L$7:L$78,SMALL(IF('اسناد الأقسام'!$D$7:$D$78=التجميع!$B$77,ROW('اسناد الأقسام'!$D$7:$D$78)-ROW('اسناد الأقسام'!$D$7)+1),ROW(11:11))),\"\")","v":""},{"$f":"IF(ROW(11:11)<=COUNTIF('اسناد الأقسام'!$D$7:$D$78,التجميع!$B$77),INDEX('اسناد الأقسام'!M$7:M$78,SMALL(IF('اسناد الأقسام'!$D$7:$D$78=التجميع!$B$77,ROW('اسناد الأقسام'!$D$7:$D$78)-ROW('اسناد الأقسام'!$D$7)+1),ROW(11:11))),\"\")","v":""},{"$f":"IF(ROW(11:11)<=COUNTIF('اسناد الأقسام'!$D$7:$D$78,التجميع!$B$77),INDEX('اسناد الأقسام'!N$7:N$78,SMALL(IF('اسناد الأقسام'!$D$7:$D$78=التجميع!$B$77,ROW('اسناد الأقسام'!$D$7:$D$78)-ROW('اسناد الأقسام'!$D$7)+1),ROW(11:11))),\"\")","v":""},{"$f":"IF(ROW(11:11)<=COUNTIF('اسناد الأقسام'!$D$7:$D$78,التجميع!$B$77),INDEX('اسناد الأقسام'!O$7:O$78,SMALL(IF('اسناد الأقسام'!$D$7:$D$78=التجميع!$B$77,ROW('اسناد الأقسام'!$D$7:$D$78)-ROW('اسناد الأقسام'!$D$7)+1),ROW(11:11))),\"\")","v":""},{"$f":"IF(ROW(11:11)<=COUNTIF('اسناد الأقسام'!$D$7:$D$78,التجميع!$B$77),INDEX('اسناد الأقسام'!P$7:P$78,SMALL(IF('اسناد الأقسام'!$D$7:$D$78=التجميع!$B$77,ROW('اسناد الأقسام'!$D$7:$D$78)-ROW('اسناد الأقسام'!$D$7)+1),ROW(11:11))),\"\")","v":""},{"$f":"IF(ROW(11:11)<=COUNTIF('اسناد الأقسام'!$D$7:$D$78,التجميع!$B$77),INDEX('اسناد الأقسام'!Q$7:Q$78,SMALL(IF('اسناد الأقسام'!$D$7:$D$78=التجميع!$B$77,ROW('اسناد الأقسام'!$D$7:$D$78)-ROW('اسناد الأقسام'!$D$7)+1),ROW(11:11))),\"\")","v":""}]
[12,{"$f":"IF(ROW(12:12)<=COUNTIF('اسناد الأقسام'!$D$7:$D$78,التجميع!$B$77),INDEX('اسناد الأقسام'!C$7:C$78,SMALL(IF('اسناد الأقسام'!$D$7:$D$78=التجميع!$B$77,ROW('اسناد الأقسام'!$D$7:$D$78)-ROW('اسناد الأقسام'!$D$7)+1),ROW(12:12))),\"\")","v":""},{"$f":"IF(ROW(12:12)<=COUNTIF('اسناد الأقسام'!$D$7:$D$78,التجميع!$B$77),INDEX('اسناد الأقسام'!D$7:D$78,SMALL(IF('اسناد الأقسام'!$D$7:$D$78=التجميع!$B$77,ROW('اسناد الأقسام'!$D$7:$D$78)-ROW('اسناد الأقسام'!$D$7)+1),ROW(12:12))),\"\")","v":""},{"$f":"IF(ROW(12:12)<=COUNTIF('اسناد الأقسام'!$D$7:$D$78,التجميع!$B$77),INDEX('اسناد الأقسام'!E$7:E$78,SMALL(IF('اسناد الأقسام'!$D$7:$D$78=التجميع!$B$77,ROW('اسناد الأقسام'!$D$7:$D$78)-ROW('اسناد الأقسام'!$D$7)+1),ROW(12:12))),\"\")","v":""},{"$f":"IF(ROW(12:12)<=COUNTIF('اسناد الأقسام'!$D$7:$D$78,التجميع!$B$77),INDEX('اسناد الأقسام'!F$7:F$78,SMALL(IF('اسناد الأقسام'!$D$7:$D$78=التجميع!$B$77,ROW('اسناد الأقسام'!$D$7:$D$78)-ROW('اسناد الأقسام'!$D$7)+1),ROW(12:12))),\"\")","v":""},{"$f":"IF(ROW(12:12)<=COUNTIF('اسناد الأقسام'!$D$7:$D$78,التجميع!$B$77),INDEX('اسناد الأقسام'!G$7:G$78,SMALL(IF('اسناد الأقسام'!$D$7:$D$78=التجميع!$B$77,ROW('اسناد الأقسام'!$D$7:$D$78)-ROW('اسناد الأقسام'!$D$7)+1),ROW(12:12))),\"\")","v":""},{"$f":"IF(ROW(12:12)<=COUNTIF('اسناد الأقسام'!$D$7:$D$78,التجميع!$B$77),INDEX('اسناد الأقسام'!H$7:H$78,SMALL(IF('اسناد الأقسام'!$D$7:$D$78=التجميع!$B$77,ROW('اسناد الأقسام'!$D$7:$D$78)-ROW('اسناد الأقسام'!$D$7)+1),ROW(12:12))),\"\")","v":""},{"$f":"IF(ROW(12:12)<=COUNTIF('اسناد الأقسام'!$D$7:$D$78,التجميع!$B$77),INDEX('اسناد الأقسام'!I$7:I$78,SMALL(IF('اسناد الأقسام'!$D$7:$D$78=التجميع!$B$77,ROW('اسناد الأقسام'!$D$7:$D$78)-ROW('اسناد الأقسام'!$D$7)+1),ROW(12:12))),\"\")","v":""},{"$f":"IF(ROW(12:12)<=COUNTIF('اسناد الأقسام'!$D$7:$D$78,التجميع!$B$77),INDEX('اسناد الأقسام'!J$7:J$78,SMALL(IF('اسناد الأقسام'!$D$7:$D$78=التجميع!$B$77,ROW('اسناد الأقسام'!$D$7:$D$78)-ROW('اسناد الأقسام'!$D$7)+1),ROW(12:12))),\"\")","v":""},{"$f":"IF(ROW(12:12)<=COUNTIF('اسناد الأقسام'!$D$7:$D$78,التجميع!$B$77),INDEX('اسناد الأقسام'!K$7:K$78,SMALL(IF('اسناد الأقسام'!$D$7:$D$78=التجميع!$B$77,ROW('اسناد الأقسام'!$D$7:$D$78)-ROW('اسناد الأقسام'!$D$7)+1),ROW(12:12))),\"\")","v":""},{"$f":"IF(ROW(12:12)<=COUNTIF('اسناد الأقسام'!$D$7:$D$78,التجميع!$B$77),INDEX('اسناد الأقسام'!L$7:L$78,SMALL(IF('اسناد الأقسام'!$D$7:$D$78=التجميع!$B$77,ROW('اسناد الأقسام'!$D$7:$D$78)-ROW('اسناد الأقسام'!$D$7)+1),ROW(12:12))),\"\")","v":""},{"$f":"IF(ROW(12:12)<=COUNTIF('اسناد الأقسام'!$D$7:$D$78,التجميع!$B$77),INDEX('اسناد الأقسام'!M$7:M$78,SMALL(IF('اسناد الأقسام'!$D$7:$D$78=التجميع!$B$77,ROW('اسناد الأقسام'!$D$7:$D$78)-ROW('اسناد الأقسام'!$D$7)+1),ROW(12:12))),\"\")","v":""},{"$f":"IF(ROW(12:12)<=COUNTIF('اسناد الأقسام'!$D$7:$D$78,التجميع!$B$77),INDEX('اسناد الأقسام'!N$7:N$78,SMALL(IF('اسناد الأقسام'!$D$7:$D$78=التجميع!$B$77,ROW('اسناد الأقسام'!$D$7:$D$78)-ROW('اسناد الأقسام'!$D$7)+1),ROW(12:12))),\"\")","v":""},{"$f":"IF(ROW(12:12)<=COUNTIF('اسناد الأقسام'!$D$7:$D$78,التجميع!$B$77),INDEX('اسناد الأقسام'!O$7:O$78,SMALL(IF('اسناد الأقسام'!$D$7:$D$78=التجميع!$B$77,ROW('اسناد الأقسام'!$D$7:$D$78)-ROW('اسناد الأقسام'!$D$7)+1),ROW(12:12))),\"\")","v":""},{"$f":"IF(ROW(12:12)<=COUNTIF('اسناد الأقسام'!$D$7:$D$78,التجميع!$B$77),INDEX('اسناد الأقسام'!P$7:P$78,SMALL(IF('اسناد الأقسام'!$D$7:$D$78=التجميع!$B$77,ROW('اسناد الأقسام'!$D$7:$D$78)-ROW('اسناد الأقسام'!$D$7)+1),ROW(12:12))),\"\")","v":""},{"$f":"IF(ROW(12:12)<=COUNTIF('اسناد الأقسام'!$D$7:$D$78,التجميع!$B$77),INDEX('اسناد الأقسام'!Q$7:Q$78,SMALL(IF('اسناد الأقسام'!$D$7:$D$78=التجميع!$B$77,ROW('اسناد الأقسام'!$D$7:$D$78)-ROW('اسناد الأقسام'!$D$7)+1),ROW(12:12))),\"\")","v":""}]
[]
[null,"اجتماعيات"]
["الرقم","اللقب والاسم","المادة","تاريخ الميلاد","الصفة","أقصى درجة جامعية","تاريخ التعيين بالمؤسسة","الأقسام المسندة"]
[1,{"$f":"IF(ROW(1:1)<=COUNTIF('اسناد الأقسام'!$D$7:$D$78,التجميع!$B$92),INDEX('اسناد الأقسام'!C$7:C$78,SMALL(IF('اسناد الأقسام'!$D$7:$D$78=التجميع!$B$92,ROW('اسناد الأقسام'!$D$7:$D$78)-ROW('اسناد الأقسام'!$D$7)+1),ROW(1:1))),\"\")","v":"مشارة محمد "},{"$f":"IF(ROW(1:1)<=COUNTIF('اسناد الأقسام'!$D$7:$D$78,التجميع!$B$92),INDEX('اسناد الأقسام'!D$7:D$78,SMALL(IF('اسناد الأقسام'!$D$7:$D$78=التجميع!$B$92,ROW('اسناد الأقسام'!$D$7:$D$78)-ROW('اسناد الأقسام'!$D$7)+1),ROW(1:1))),\"\")","v":"اجتماعيات"},{"$f":"IF(ROW(1:1)<=COUNTIF('اسناد الأقسام'!$D$7:$D$78,التجميع!$B$92),INDEX('اسناد الأقسام'!E$7:E$78,SMALL(IF('اسناد الأقسام'!$D$7:$D$78=التجميع!$B$92,ROW('اسناد الأقسام'!$D$7:$D$78)-ROW('اسناد الأقسام'!$D$7)+1),ROW(1:1))),\"\")","v":"1990-07-04"},{"$f":"IF(ROW(1:1)<=COUNTIF('اسناد الأقسام'!$D$7:$D$78,التجميع!$B$92),INDEX('اسناد الأقسام'!F$7:F$78,SMALL(IF('اسناد الأقسام'!$D$7:$D$78=التجميع!$B$92,ROW('اسناد الأقسام'!$D$7:$D$78)-ROW('اسناد الأقسام'!$D$7)+1),ROW(1:1))),\"\")","v":"مرسمة"},{"$f":"IF(ROW(1:1)<=COUNTIF('اسناد الأقسام'!$D$7:$D$78,التجميع!$B$92),INDEX('اسناد الأقسام'!G$7:G$78,SMALL(IF('اسناد الأقسام'!$D$7:$D$78=التجميع!$B$92,ROW('اسناد الأقسام'!$D$7:$D$78)-ROW('اسناد الأقسام'!$D$7)+1),ROW(1:1))),\"\")","v":"ليسانس"},{"$f":"IF(ROW(1:1)<=COUNTIF('اسناد الأقسام'!$D$7:$D$78,التجميع!$B$92),INDEX('اسناد الأقسام'!H$7:H$78,SMALL(IF('اسناد الأقسام'!$D$7:$D$78=التجميع!$B$92,ROW('اسناد الأقسام'!$D$7:$D$78)-ROW('اسناد الأقسام'!$D$7)+1),ROW(1:1))),\"\")","v":"2017-09-30"},{"$f":"IF(ROW(1:1)<=COUNTIF('اسناد الأقسام'!$D$7:$D$78,التجميع!$B$92),INDEX('اسناد الأقسام'!I$7:I$78,SMALL(IF('اسناد الأقسام'!$D$7:$D$78=التجميع!$B$92,ROW('اسناد الأقسام'!$D$7:$D$78)-ROW('اسناد الأقسام'!$D$7)+1),ROW(1:1))),\"\")","v":"1م1"},{"$f":"IF(ROW(1:1)<=COUNTIF('اسناد الأقسام'!$D$7:$D$78,التجميع!$B$92),INDEX('اسناد الأقسام'!J$7:J$78,SMALL(IF('اسناد الأقسام'!$D$7:$D$78=التجميع!$B$92,ROW('اسناد الأقسام'!$D$7:$D$78)-ROW('اسناد الأقسام'!$D$7)+1),ROW(1:1))),\"\")","v":"1م2"},{"$f":"IF(ROW(1:1)<=COUNTIF('اسناد الأقسام'!$D$7:$D$78,التجميع!$B$92),INDEX('اسناد الأقسام'!K$7:K$78,SMALL(IF('اسناد الأقسام'!$D$7:$D$78=التجميع!$B$92,ROW('اسناد الأقسام'!$D$7:$D$78)-ROW('اسناد الأقسام'!$D$7)+1),ROW(1:1))),\"\")","v":"1م3"},{"$f":"IF(ROW(1:1)<=COUNTIF('اسناد الأقسام'!$D$7:$D$78,التجميع!$B$92),INDEX('اسناد الأقسام'!L$7:L$78,SMALL(IF('اسناد الأقسام'!$D$7:$D$78=التجميع!$B$92,ROW('اسناد الأقسام'!$D$7:$D$78)-ROW('اسناد الأقسام'!$D$7)+1),ROW(1:1))),\"\")","v":"3م1"},{"$f":"IF(ROW(1:1)<=COUNTIF('اسناد الأقسام'!$D$7:$D$78,التجميع!$B$92),INDEX('اسناد الأقسام'!M$7:M$78,SMALL(IF('اسناد الأقسام'!$D$7:$D$78=التجميع!$B$92,ROW('اسناد الأقسام'!$D$7:$D$78)-ROW('اسناد الأقسام'!$D$7)+1),ROW(1:1))),\"\")","v":"3م2"},{"$f":"IF(ROW(1:1)<=COUNTIF('اسناد الأقسام'!$D$7:$D$78,التجميع!$B$92),INDEX('اسناد الأقسام'!N$7:N$78,SMALL(IF('اسناد الأقسام'!$D$7:$D$78=التجميع!$B$92,ROW('اسناد الأقسام'!$D$7:$D$78)-ROW('اسناد الأقسام'!$D$7)+1),ROW(1:1))),\"\")","v":0},{"$f":"IF(ROW(1:1)<=COUNTIF('اسناد الأقسام'!$D$7:$D$78,التجميع!$B$92),INDEX('اسناد الأقسام'!O$7:O$78,SMALL(IF('اسناد الأقسام'!$D$7:$D$78=التجميع!$B$92,ROW('اسناد الأقسام'!$D$7:$D$78)-ROW('اسناد الأقسام'!$D$7)+1),ROW(1:1))),\"\")","v":0},{"$f":"IF(ROW(1:1)<=COUNTIF('اسناد الأقسام'!$D$7:$D$78,التجميع!$B$92),INDEX('اسناد الأقسام'!P$7:P$78,SMALL(IF('اسناد الأقسام'!$D$7:$D$78=التجميع!$B$92,ROW('اسناد الأقسام'!$D$7:$D$78)-ROW('اسناد الأقسام'!$D$7)+1),ROW(1:1))),\"\")","v":0},{"$f":"IF(ROW(1:1)<=COUNTIF('اسناد الأقسام'!$D$7:$D$78,التجميع!$B$92),INDEX('اسناد الأقسام'!Q$7:Q$78,SMALL(IF('اسناد الأقسام'!$D$7:$D$78=التجميع!$B$92,ROW('اسناد الأقسام'!$D$7:$D$78)-ROW('اسناد الأقسام'!$D$7)+1),ROW(1:1))),\"\")","v":0}]
[2,{"$f":"IF(ROW(2:2)<=COUNTIF('اسناد الأقسام'!$D$7:$D$78,التجميع!$B$92),INDEX('اسناد الأقسام'!C$7:C$78,SMALL(IF('اسناد الأقسام'!$D$7:$D$78=التجميع!$B$92,ROW('اسناد الأقسام'!$D$7:$D$78)-ROW('اسناد الأقسام'!$D$7)+1),ROW(2:2))),\"\")","v":"بدراني شريف"},{"$f":"IF(ROW(2:2)<=COUNTIF('اسناد الأقسام'!$D$7:$D$78,التجميع!$B$92),INDEX('اسناد الأقسام'!D$7:D$78,SMALL(IF('اسناد الأقسام'!$D$7:$D$78=التجميع!$B$92,ROW('اسناد الأقسام'!$D$7:$D$78)-ROW('اسناد الأقسام'!$D$7)+1),ROW(2:2))),\"\")","v":"اجتماعيات"},{"$f":"IF(ROW(2:2)<=COUNTIF('اسناد الأقسام'!$D$7:$D$78,التجميع!$B$92),INDEX('اسناد الأقسام'!E$7:E$78,SMALL(IF('اسناد الأقسام'!$D$7:$D$78=التجميع!$B$92,ROW('اسناد الأقسام'!$D$7:$D$78)-ROW('اسناد الأقسام'!$D$7)+1),ROW(2:2))),\"\")","v":"1986-01-21"},{"$f":"IF(ROW(2:2)<=COUNTIF('اسناد الأقسام'!$D$7:$D$78,التجميع!$B$92),INDEX('اسناد الأقسام'!F$7:F$78,SMALL(IF('اسناد الأقسام'!$D$7:$D$78=التجميع!$B$92,ROW('اسناد الأقسام'!$D$7:$D$78)-ROW('اسناد الأقسام'!$D$7)+1),ROW(2:2))),\"\")","v":"متربص"},{"$f":"IF(ROW(2:2)<=COUNTIF('اسناد الأقسام'!$D$7:$D$78,التجميع!$B$92),INDEX('اسناد الأقسام'!G$7:G$78,SMALL(IF('اسناد الأقسام'!$D$7:$D$78=التجميع!$B$92,ROW('اسناد الأقسام'!$D$7:$D$78)-ROW('اسناد الأقسام'!$D$7)+1),ROW(2:2))),\"\")","v":"ليسانس"},{"$f":"IF(ROW(2:2)<=COUNTIF('اسناد الأقسام'!$D$7:$D$78,التجميع!$B$92),INDEX('اسناد الأقسام'!H$7:H$78,SMALL(IF('اسناد الأقسام'!$D$7:$D$78=التجميع!$B$92,ROW('اسناد الأقسام'!$D$7:$D$78)-ROW('اسناد الأقسام'!$D$7)+1),ROW(2:2))),\"\")","v":"2016-07-31"},{"$f":"IF(ROW(2:2)<=COUNTIF('اسناد الأقسام'!$D$7:$D$78,التجميع!$B$92),INDEX('اسناد الأقسام'!I$7:I$78,SMALL(IF('اسناد الأقسام'!$D$7:$D$78=التجميع!$B$92,ROW('اسناد الأقسام'!$D$7:$D$78)-ROW('اسناد الأقسام'!$D$7)+1),ROW(2:2))),\"\")","v":"4م1"},{"$f":"IF(ROW(2:2)<=COUNTIF('اسناد الأقسام'!$D$7:$D$78,التجميع!$B$92),INDEX('اسناد الأقسام'!J$7:J$78,SMALL(IF('اسناد الأقسام'!$D$7:$D$78=التجميع!$B$92,ROW('اسناد الأقسام'!$D$7:$D$78)-ROW('اسناد الأقسام'!$D$7)+1),ROW(2:2))),\"\")","v":"4م2"},{"$f":"IF(ROW(2:2)<=COUNTIF('اسناد الأقسام'!$D$7:$D$78,التجميع!$B$92),INDEX('اسناد الأقسام'!K$7:K$78,SMALL(IF('اسناد الأقسام'!$D$7:$D$78=التجميع!$B$92,ROW('اسناد الأقسام'!$D$7:$D$78)-ROW('اسناد الأقسام'!$D$7)+1),ROW(2:2))),\"\")","v":"2م1"},{"$f":"IF(ROW(2:2)<=COUNTIF('اسناد الأقسام'!$D$7:$D$78,التجميع!$B$92),INDEX('اسناد الأقسام'!L$7:L$78,SMALL(IF('اسناد الأقسام'!$D$7:$D$78=التجميع!$B$92,ROW('اسناد الأقسام'!$D$7:$D$78)-ROW('اسناد الأقسام'!$D$7)+1),ROW(2:2))),\"\")","v":"2م2"},{"$f":"IF(ROW(2:2)<=COUNTIF('اسناد الأقسام'!$D$7:$D$78,التجميع!$B$92),INDEX('اسناد الأقسام'!M$7:M$78,SMALL(IF('اسناد الأقسام'!$D$7:$D$78=التجميع!$B$92,ROW('اسناد الأقسام'!$D$7:$D$78)-ROW('اسناد الأقسام'!$D$7)+1),ROW(2:2))),\"\")","v":"2م3"},{"$f":"IF(ROW(2:2)<=COUNTIF('اسناد الأقسام'!$D$7:$D$78,التجميع!$B$92),INDEX('اسناد الأقسام'!N$7:N$78,SMALL(IF('اسناد الأقسام'!$D$7:$D$78=التجميع!$B$92,ROW('اسناد الأقسام'!$D$7:$D$78)-ROW('اسناد الأقسام'!$D$7)+1),ROW(2:2))),\"\")","v":0},{"$f":"IF(ROW(2:2)<=COUNTIF('اسناد الأقسام'!$D$7:$D$78,التجميع!$B$92),INDEX('اسناد الأقسام'!O$7:O$78,SMALL(IF('اسناد الأقسام'!$D$7:$D$78=التجميع!$B$92,ROW('اسناد الأقسام'!$D$7:$D$78)-ROW('اسناد الأقسام'!$D$7)+1),ROW(2:2))),\"\")","v":0},{"$f":"IF(ROW(2:2)<=COUNTIF('اسناد الأقسام'!$D$7:$D$78,التجميع!$B$92),INDEX('اسناد الأقسام'!P$7:P$78,SMALL(IF('اسناد الأقسام'!$D$7:$D$78=التجميع!$B$92,ROW('اسناد الأقسام'!$D$7:$D$78)-ROW('اسناد الأقسام'!$D$7)+1),ROW(2:2))),\"\")","v":0},{"$f":"IF(ROW(2:2)<=COUNTIF('اسناد الأقسام'!$D$7:$D$78,التجميع!$B$92),INDEX('اسناد الأقسام'!Q$7:Q$78,SMALL(IF('اسناد الأقسام'!$D$7:$D$78=التجميع!$B$92,ROW('اسناد الأقسام'!$D$7:$D$78)-ROW('اسناد الأقسام'!$D$7)+1),ROW(2:2))),\"\")","v":0}]
[3,{"$f":"IF(ROW(3:3)<=COUNTIF('اسناد الأقسام'!$D$7:$D$78,التجميع!$B$92),INDEX('اسناد الأقسام'!C$7:C$78,SMALL(IF('اسناد الأقسام'!$D$7:$D$78=التجميع!$B$92,ROW('اسناد الأقسام'!$D$7:$D$78)-ROW('اسناد الأقسام'!$D$7)+1),ROW(3:3))),\"\")","v":""},{"$f":"IF(ROW(3:3)<=COUNTIF('اسناد الأقسام'!$D$7:$D$78,التجميع!$B$92),INDEX('اسناد الأقسام'!D$7:D$78,SMALL(IF('اسناد الأقسام'!$D$7:$D$78=التجميع!$B$92,ROW('اسناد الأقسام'!$D$7:$D$78)-ROW('اسناد الأقسام'!$D$7)+1),ROW(3:3))),\"\")","v":""},{"$f":"IF(ROW(3:3)<=COUNTIF('اسناد الأقسام'!$D$7:$D$78,التجميع!$B$92),INDEX('اسناد الأقسام'!E$7:E$78,SMALL(IF('اسناد الأقسام'!$D$7:$D$78=التجميع!$B$92,ROW('اسناد الأقسام'!$D$7:$D$78)-ROW('اسناد الأقسام'!$D$7)+1),ROW(3:3))),\"\")","v":""},{"$f":"IF(ROW(3:3)<=COUNTIF('اسناد الأقسام'!$D$7:$D$78,التجميع!$B$92),INDEX('اسناد الأقسام'!F$7:F$78,SMALL(IF('اسناد الأقسام'!$D$7:$D$78=التجميع!$B$92,ROW('اسناد الأقسام'!$D$7:$D$78)-ROW('اسناد الأقسام'!$D$7)+1),ROW(3:3))),\"\")","v":""},{"$f":"IF(ROW(3:3)<=COUNTIF('اسناد الأقسام'!$D$7:$D$78,التجميع!$B$92),INDEX('اسناد الأقسام'!G$7:G$78,SMALL(IF('اسناد الأقسام'!$D$7:$D$78=التجميع!$B$92,ROW('اسناد الأقسام'!$D$7:$D$78)-ROW('اسناد الأقسام'!$D$7)+1),ROW(3:3))),\"\")","v":""},{"$f":"IF(ROW(3:3)<=COUNTIF('اسناد الأقسام'!$D$7:$D$78,التجميع!$B$92),INDEX('اسناد الأقسام'!H$7:H$78,SMALL(IF('اسناد الأقسام'!$D$7:$D$78=التجميع!$B$92,ROW('اسناد الأقسام'!$D$7:$D$78)-ROW('اسناد الأقسام'!$D$7)+1),ROW(3:3))),\"\")","v":""},{"$f":"IF(ROW(3:3)<=COUNTIF('اسناد الأقسام'!$D$7:$D$78,التجميع!$B$92),INDEX('اسناد الأقسام'!I$7:I$78,SMALL(IF('اسناد الأقسام'!$D$7:$D$78=التجميع!$B$92,ROW('اسناد الأقسام'!$D$7:$D$78)-ROW('اسناد الأقسام'!$D$7)+1),ROW(3:3))),\"\")","v":""},{"$f":"IF(ROW(3:3)<=COUNTIF('اسناد الأقسام'!$D$7:$D$78,التجميع!$B$92),INDEX('اسناد الأقسام'!J$7:J$78,SMALL(IF('اسناد الأقسام'!$D$7:$D$78=التجميع!$B$92,ROW('اسناد الأقسام'!$D$7:$D$78)-ROW('اسناد الأقسام'!$D$7)+1),ROW(3:3))),\"\")","v":""},{"$f":"IF(ROW(3:3)<=COUNTIF('اسناد الأقسام'!$D$7:$D$78,التجميع!$B$92),INDEX('اسناد الأقسام'!K$7:K$78,SMALL(IF('اسناد الأقسام'!$D$7:$D$78=التجميع!$B$92,ROW('اسناد الأقسام'!$D$7:$D$78)-ROW('اسناد الأقسام'!$D$7)+1),ROW(3:3))),\"\")","v":""},{"$f":"IF(ROW(3:3)<=COUNTIF('اسناد الأقسام'!$D$7:$D$78,التجميع!$B$92),INDEX('اسناد الأقسام'!L$7:L$78,SMALL(IF('اسناد الأقسام'!$D$7:$D$78=التجميع!$B$92,ROW('اسناد الأقسام'!$D$7:$D$78)-ROW('اسناد الأقسام'!$D$7)+1),ROW(3:3))),\"\")","v":""},{"$f":"IF(ROW(3:3)<=COUNTIF('اسناد الأقسام'!$D$7:$D$78,التجميع!$B$92),INDEX('اسناد الأقسام'!M$7:M$78,SMALL(IF('اسناد الأقسام'!$D$7:$D$78=التجميع!$B$92,ROW('اسناد الأقسام'!$D$7:$D$78)-ROW('اسناد الأقسام'!$D$7)+1),ROW(3:3))),\"\")","v":""},{"$f":"IF(ROW(3:3)<=COUNTIF('اسناد الأقسام'!$D$7:$D$78,التجميع!$B$92),INDEX('اسناد الأقسام'!N$7:N$78,SMALL(IF('اسناد الأقسام'!$D$7:$D$78=التجميع!$B$92,ROW('اسناد الأقسام'!$D$7:$D$78)-ROW('اسناد الأقسام'!$D$7)+1),ROW(3:3))),\"\")","v":""},{"$f":"IF(ROW(3:3)<=COUNTIF('اسناد الأقسام'!$D$7:$D$78,التجميع!$B$92),INDEX('اسناد الأقسام'!O$7:O$78,SMALL(IF('اسناد الأقسام'!$D$7:$D$78=التجميع!$B$92,ROW('اسناد الأقسام'!$D$7:$D$78)-ROW('اسناد الأقسام'!$D$7)+1),ROW(3:3))),\"\")","v":""},{"$f":"IF(ROW(3:3)<=COUNTIF('اسناد الأقسام'!$D$7:$D$78,التجميع!$B$92),INDEX('اسناد الأقسام'!P$7:P$78,SMALL(IF('اسناد الأقسام'!$D$7:$D$78=التجميع!$B$92,ROW('اسناد الأقسام'!$D$7:$D$78)-ROW('اسناد الأقسام'!$D$7)+1),ROW(3:3))),\"\")","v":""},{"$f":"IF(ROW(3:3)<=COUNTIF('اسناد الأقسام'!$D$7:$D$78,التجميع!$B$92),INDEX('اسناد الأقسام'!Q$7:Q$78,SMALL(IF('اسناد الأقسام'!$D$7:$D$78=التجميع!$B$92,ROW('اسناد الأقسام'!$D$7:$D$78)-ROW('اسناد الأقسام'!$D$7)+1),ROW(3:3))),\"\")","v":""}]
[4,{"$f":"IF(ROW(4:4)<=COUNTIF('اسناد الأقسام'!$D$7:$D$78,التجميع!$B$92),INDEX('اسناد الأقسام'!C$7:C$78,SMALL(IF('اسناد الأقسام'!$D$7:$D$78=التجميع!$B$92,ROW('اسناد الأقسام'!$D$7:$D$78)-ROW('اسناد الأقسام'!$D$7)+1),ROW(4:4))),\"\")","v":""},{"$f":"IF(ROW(4:4)<=COUNTIF('اسناد الأقسام'!$D$7:$D$78,التجميع!$B$92),INDEX('اسناد الأقسام'!D$7:D$78,SMALL(IF('اسناد الأقسام'!$D$7:$D$78=التجميع!$B$92,ROW('اسناد الأقسام'!$D$7:$D$78)-ROW('اسناد الأقسام'!$D$7)+1),ROW(4:4))),\"\")","v":""},{"$f":"IF(ROW(4:4)<=COUNTIF('اسناد الأقسام'!$D$7:$D$78,التجميع!$B$92),INDEX('اسناد الأقسام'!E$7:E$78,SMALL(IF('اسناد الأقسام'!$D$7:$D$78=التجميع!$B$92,ROW('اسناد الأقسام'!$D$7:$D$78)-ROW('اسناد الأقسام'!$D$7)+1),ROW(4:4))),\"\")","v":""},{"$f":"IF(ROW(4:4)<=COUNTIF('اسناد الأقسام'!$D$7:$D$78,التجميع!$B$92),INDEX('اسناد الأقسام'!F$7:F$78,SMALL(IF('اسناد الأقسام'!$D$7:$D$78=التجميع!$B$92,ROW('اسناد الأقسام'!$D$7:$D$78)-ROW('اسناد الأقسام'!$D$7)+1),ROW(4:4))),\"\")","v":""},{"$f":"IF(ROW(4:4)<=COUNTIF('اسناد الأقسام'!$D$7:$D$78,التجميع!$B$92),INDEX('اسناد الأقسام'!G$7:G$78,SMALL(IF('اسناد الأقسام'!$D$7:$D$78=التجميع!$B$92,ROW('اسناد الأقسام'!$D$7:$D$78)-ROW('اسناد الأقسام'!$D$7)+1),ROW(4:4))),\"\")","v":""},{"$f":"IF(ROW(4:4)<=COUNTIF('اسناد الأقسام'!$D$7:$D$78,التجميع!$B$92),INDEX('اسناد الأقسام'!H$7:H$78,SMALL(IF('اسناد الأقسام'!$D$7:$D$78=التجميع!$B$92,ROW('اسناد الأقسام'!$D$7:$D$78)-ROW('اسناد الأقسام'!$D$7)+1),ROW(4:4))),\"\")","v":""},{"$f":"IF(ROW(4:4)<=COUNTIF('اسناد الأقسام'!$D$7:$D$78,التجميع!$B$92),INDEX('اسناد الأقسام'!I$7:I$78,SMALL(IF('اسناد الأقسام'!$D$7:$D$78=التجميع!$B$92,ROW('اسناد الأقسام'!$D$7:$D$78)-ROW('اسناد الأقسام'!$D$7)+1),ROW(4:4))),\"\")","v":""},{"$f":"IF(ROW(4:4)<=COUNTIF('اسناد الأقسام'!$D$7:$D$78,التجميع!$B$92),INDEX('اسناد الأقسام'!J$7:J$78,SMALL(IF('اسناد الأقسام'!$D$7:$D$78=التجميع!$B$92,ROW('اسناد الأقسام'!$D$7:$D$78)-ROW('اسناد الأقسام'!$D$7)+1),ROW(4:4))),\"\")","v":""},{"$f":"IF(ROW(4:4)<=COUNTIF('اسناد الأقسام'!$D$7:$D$78,التجميع!$B$92),INDEX('اسناد الأقسام'!K$7:K$78,SMALL(IF('اسناد الأقسام'!$D$7:$D$78=التجميع!$B$92,ROW('اسناد الأقسام'!$D$7:$D$78)-ROW('اسناد الأقسام'!$D$7)+1),ROW(4:4))),\"\")","v":""},{"$f":"IF(ROW(4:4)<=COUNTIF('اسناد الأقسام'!$D$7:$D$78,التجميع!$B$92),INDEX('اسناد الأقسام'!L$7:L$78,SMALL(IF('اسناد الأقسام'!$D$7:$D$78=التجميع!$B$92,ROW('اسناد الأقسام'!$D$7:$D$78)-ROW('اسناد الأقسام'!$D$7)+1),ROW(4:4))),\"\")","v":""},{"$f":"IF(ROW(4:4)<=COUNTIF('اسناد الأقسام'!$D$7:$D$78,التجميع!$B$92),INDEX('اسناد الأقسام'!M$7:M$78,SMALL(IF('اسناد الأقسام'!$D$7:$D$78=التجميع!$B$92,ROW('اسناد الأقسام'!$D$7:$D$78)-ROW('اسناد الأقسام'!$D$7)+1),ROW(4:4))),\"\")","v":""},{"$f":"IF(ROW(4:4)<=COUNTIF('اسناد الأقسام'!$D$7:$D$78,التجميع!$B$92),INDEX('اسناد الأقسام'!N$7:N$78,SMALL(IF('اسناد الأقسام'!$D$7:$D$78=التجميع!$B$92,ROW('اسناد الأقسام'!$D$7:$D$78)-ROW('اسناد الأقسام'!$D$7)+1),ROW(4:4))),\"\")","v":""},{"$f":"IF(ROW(4:4)<=COUNTIF('اسناد الأقسام'!$D$7:$D$78,التجميع!$B$92),INDEX('اسناد الأقسام'!O$7:O$78,SMALL(IF('اسناد الأقسام'!$D$7:$D$78=التجميع!$B$92,ROW('اسناد الأقسام'!$D$7:$D$78)-ROW('اسناد الأقسام'!$D$7)+1),ROW(4:4))),\"\")","v":""},{"$f":"IF(ROW(4:4)<=COUNTIF('اسناد الأقسام'!$D$7:$D$78,التجميع!$B$92),INDEX('اسناد الأقسام'!P$7:P$78,SMALL(IF('اسناد الأقسام'!$D$7:$D$78=التجميع!$B$92,ROW('اسناد الأقسام'!$D$7:$D$78)-ROW('اسناد الأقسام'!$D$7)+1),ROW(4:4))),\"\")","v":""},{"$f":"IF(ROW(4:4)<=COUNTIF('اسناد الأقسام'!$D$7:$D$78,التجميع!$B$92),INDEX('اسناد الأقسام'!Q$7:Q$78,SMALL(IF('اسناد الأقسام'!$D$7:$D$78=التجميع!$B$92,ROW('اسناد الأقسام'!$D$7:$D$78)-ROW('اسناد الأقسام'!$D$7)+1),ROW(4:4))),\"\")","v":""}]
[5,{"$f":"IF(ROW(5:5)<=COUNTIF('اسناد الأقسام'!$D$7:$D$78,التجميع!$B$92),INDEX('اسناد الأقسام'!C$7:C$78,SMALL(IF('اسناد الأقسام'!$D$7:$D$78=التجميع!$B$92,ROW('اسناد الأقسام'!$D$7:$D$78)-ROW('اسناد الأقسام'!$D$7)+1),ROW(5:5))),\"\")","v":""},{"$f":"IF(ROW(5:5)<=COUNTIF('اسناد الأقسام'!$D$7:$D$78,التجميع!$B$92),INDEX('اسناد الأقسام'!D$7:D$78,SMALL(IF('اسناد الأقسام'!$D$7:$D$78=التجميع!$B$92,ROW('اسناد الأقسام'!$D$7:$D$78)-ROW('اسناد الأقسام'!$D$7)+1),ROW(5:5))),\"\")","v":""},{"$f":"IF(ROW(5:5)<=COUNTIF('اسناد الأقسام'!$D$7:$D$78,التجميع!$B$92),INDEX('اسناد الأقسام'!E$7:E$78,SMALL(IF('اسناد الأقسام'!$D$7:$D$78=التجميع!$B$92,ROW('اسناد الأقسام'!$D$7:$D$78)-ROW('اسناد الأقسام'!$D$7)+1),ROW(5:5))),\"\")","v":""},{"$f":"IF(ROW(5:5)<=COUNTIF('اسناد الأقسام'!$D$7:$D$78,التجميع!$B$92),INDEX('اسناد الأقسام'!F$7:F$78,SMALL(IF('اسناد الأقسام'!$D$7:$D$78=التجميع!$B$92,ROW('اسناد الأقسام'!$D$7:$D$78)-ROW('اسناد الأقسام'!$D$7)+1),ROW(5:5))),\"\")","v":""},{"$f":"IF(ROW(5:5)<=COUNTIF('اسناد الأقسام'!$D$7:$D$78,التجميع!$B$92),INDEX('اسناد الأقسام'!G$7:G$78,SMALL(IF('اسناد الأقسام'!$D$7:$D$78=التجميع!$B$92,ROW('اسناد الأقسام'!$D$7:$D$78)-ROW('اسناد الأقسام'!$D$7)+1),ROW(5:5))),\"\")","v":""},{"$f":"IF(ROW(5:5)<=COUNTIF('اسناد الأقسام'!$D$7:$D$78,التجميع!$B$92),INDEX('اسناد الأقسام'!H$7:H$78,SMALL(IF('اسناد الأقسام'!$D$7:$D$78=التجميع!$B$92,ROW('اسناد الأقسام'!$D$7:$D$78)-ROW('اسناد الأقسام'!$D$7)+1),ROW(5:5))),\"\")","v":""},{"$f":"IF(ROW(5:5)<=COUNTIF('اسناد الأقسام'!$D$7:$D$78,التجميع!$B$92),INDEX('اسناد الأقسام'!I$7:I$78,SMALL(IF('اسناد الأقسام'!$D$7:$D$78=التجميع!$B$92,ROW('اسناد الأقسام'!$D$7:$D$78)-ROW('اسناد الأقسام'!$D$7)+1),ROW(5:5))),\"\")","v":""},{"$f":"IF(ROW(5:5)<=COUNTIF('اسناد الأقسام'!$D$7:$D$78,التجميع!$B$92),INDEX('اسناد الأقسام'!J$7:J$78,SMALL(IF('اسناد الأقسام'!$D$7:$D$78=التجميع!$B$92,ROW('اسناد الأقسام'!$D$7:$D$78)-ROW('اسناد الأقسام'!$D$7)+1),ROW(5:5))),\"\")","v":""},{"$f":"IF(ROW(5:5)<=COUNTIF('اسناد الأقسام'!$D$7:$D$78,التجميع!$B$92),INDEX('اسناد الأقسام'!K$7:K$78,SMALL(IF('اسناد الأقسام'!$D$7:$D$78=التجميع!$B$92,ROW('اسناد الأقسام'!$D$7:$D$78)-ROW('اسناد الأقسام'!$D$7)+1),ROW(5:5))),\"\")","v":""},{"$f":"IF(ROW(5:5)<=COUNTIF('اسناد الأقسام'!$D$7:$D$78,التجميع!$B$92),INDEX('اسناد الأقسام'!L$7:L$78,SMALL(IF('اسناد الأقسام'!$D$7:$D$78=التجميع!$B$92,ROW('اسناد الأقسام'!$D$7:$D$78)-ROW('اسناد الأقسام'!$D$7)+1),ROW(5:5))),\"\")","v":""},{"$f":"IF(ROW(5:5)<=COUNTIF('اسناد الأقسام'!$D$7:$D$78,التجميع!$B$92),INDEX('اسناد الأقسام'!M$7:M$78,SMALL(IF('اسناد الأقسام'!$D$7:$D$78=التجميع!$B$92,ROW('اسناد الأقسام'!$D$7:$D$78)-ROW('اسناد الأقسام'!$D$7)+1),ROW(5:5))),\"\")","v":""},{"$f":"IF(ROW(5:5)<=COUNTIF('اسناد الأقسام'!$D$7:$D$78,التجميع!$B$92),INDEX('اسناد الأقسام'!N$7:N$78,SMALL(IF('اسناد الأقسام'!$D$7:$D$78=التجميع!$B$92,ROW('اسناد الأقسام'!$D$7:$D$78)-ROW('اسناد الأقسام'!$D$7)+1),ROW(5:5))),\"\")","v":""},{"$f":"IF(ROW(5:5)<=COUNTIF('اسناد الأقسام'!$D$7:$D$78,التجميع!$B$92),INDEX('اسناد الأقسام'!O$7:O$78,SMALL(IF('اسناد الأقسام'!$D$7:$D$78=التجميع!$B$92,ROW('اسناد الأقسام'!$D$7:$D$78)-ROW('اسناد الأقسام'!$D$7)+1),ROW(5:5))),\"\")","v":""},{"$f":"IF(ROW(5:5)<=COUNTIF('اسناد الأقسام'!$D$7:$D$78,التجميع!$B$92),INDEX('اسناد الأقسام'!P$7:P$78,SMALL(IF('اسناد الأقسام'!$D$7:$D$78=التجميع!$B$92,ROW('اسناد الأقسام'!$D$7:$D$78)-ROW('اسناد الأقسام'!$D$7)+1),ROW(5:5))),\"\")","v":""},{"$f":"IF(ROW(5:5)<=COUNTIF('اسناد الأقسام'!$D$7:$D$78,التجميع!$B$92),INDEX('اسناد الأقسام'!Q$7:Q$78,SMALL(IF('اسناد الأقسام'!$D$7:$D$78=التجميع!$B$92,ROW('اسناد الأقسام'!$D$7:$D$78)-ROW('اسناد الأقسام'!$D$7)+1),ROW(5:5))),\"\")","v":""}]
[6,{"$f":"IF(ROW(6:6)<=COUNTIF('اسناد الأقسام'!$D$7:$D$78,التجميع!$B$92),INDEX('اسناد الأقسام'!C$7:C$78,SMALL(IF('اسناد الأقسام'!$D$7:$D$78=التجميع!$B$92,ROW('اسناد الأقسام'!$D$7:$D$78)-ROW('اسناد الأقسام'!$D$7)+1),ROW(6:6))),\"\")","v":""},{"$f":"IF(ROW(6:6)<=COUNTIF('اسناد الأقسام'!$D$7:$D$78,التجميع!$B$92),INDEX('اسناد الأقسام'!D$7:D$78,SMALL(IF('اسناد الأقسام'!$D$7:$D$78=التجميع!$B$92,ROW('اسناد الأقسام'!$D$7:$D$78)-ROW('اسناد الأقسام'!$D$7)+1),ROW(6:6))),\"\")","v":""},{"$f":"IF(ROW(6:6)<=COUNTIF('اسناد الأقسام'!$D$7:$D$78,التجميع!$B$92),INDEX('اسناد الأقسام'!E$7:E$78,SMALL(IF('اسناد الأقسام'!$D$7:$D$78=التجميع!$B$92,ROW('اسناد الأقسام'!$D$7:$D$78)-ROW('اسناد الأقسام'!$D$7)+1),ROW(6:6))),\"\")","v":""},{"$f":"IF(ROW(6:6)<=COUNTIF('اسناد الأقسام'!$D$7:$D$78,التجميع!$B$92),INDEX('اسناد الأقسام'!F$7:F$78,SMALL(IF('اسناد الأقسام'!$D$7:$D$78=التجميع!$B$92,ROW('اسناد الأقسام'!$D$7:$D$78)-ROW('اسناد الأقسام'!$D$7)+1),ROW(6:6))),\"\")","v":""},{"$f":"IF(ROW(6:6)<=COUNTIF('اسناد الأقسام'!$D$7:$D$78,التجميع!$B$92),INDEX('اسناد الأقسام'!G$7:G$78,SMALL(IF('اسناد الأقسام'!$D$7:$D$78=التجميع!$B$92,ROW('اسناد الأقسام'!$D$7:$D$78)-ROW('اسناد الأقسام'!$D$7)+1),ROW(6:6))),\"\")","v":""},{"$f":"IF(ROW(6:6)<=COUNTIF('اسناد الأقسام'!$D$7:$D$78,التجميع!$B$92),INDEX('اسناد الأقسام'!H$7:H$78,SMALL(IF('اسناد الأقسام'!$D$7:$D$78=التجميع!$B$92,ROW('اسناد الأقسام'!$D$7:$D$78)-ROW('اسناد الأقسام'!$D$7)+1),ROW(6:6))),\"\")","v":""},{"$f":"IF(ROW(6:6)<=COUNTIF('اسناد الأقسام'!$D$7:$D$78,التجميع!$B$92),INDEX('اسناد الأقسام'!I$7:I$78,SMALL(IF('اسناد الأقسام'!$D$7:$D$78=التجميع!$B$92,ROW('اسناد الأقسام'!$D$7:$D$78)-ROW('اسناد الأقسام'!$D$7)+1),ROW(6:6))),\"\")","v":""},{"$f":"IF(ROW(6:6)<=COUNTIF('اسناد الأقسام'!$D$7:$D$78,التجميع!$B$92),INDEX('اسناد الأقسام'!J$7:J$78,SMALL(IF('اسناد الأقسام'!$D$7:$D$78=التجميع!$B$92,ROW('اسناد الأقسام'!$D$7:$D$78)-ROW('اسناد الأقسام'!$D$7)+1),ROW(6:6))),\"\")","v":""},{"$f":"IF(ROW(6:6)<=COUNTIF('اسناد الأقسام'!$D$7:$D$78,التجميع!$B$92),INDEX('اسناد الأقسام'!K$7:K$78,SMALL(IF('اسناد الأقسام'!$D$7:$D$78=التجميع!$B$92,ROW('اسناد الأقسام'!$D$7:$D$78)-ROW('اسناد الأقسام'!$D$7)+1),ROW(6:6))),\"\")","v":""},{"$f":"IF(ROW(6:6)<=COUNTIF('اسناد الأقسام'!$D$7:$D$78,التجميع!$B$92),INDEX('اسناد الأقسام'!L$7:L$78,SMALL(IF('اسناد الأقسام'!$D$7:$D$78=التجميع!$B$92,ROW('اسناد الأقسام'!$D$7:$D$78)-ROW('اسناد الأقسام'!$D$7)+1),ROW(6:6))),\"\")","v":""},{"$f":"IF(ROW(6:6)<=COUNTIF('اسناد الأقسام'!$D$7:$D$78,التجميع!$B$92),INDEX('اسناد الأقسام'!M$7:M$78,SMALL(IF('اسناد الأقسام'!$D$7:$D$78=التجميع!$B$92,ROW('اسناد الأقسام'!$D$7:$D$78)-ROW('اسناد الأقسام'!$D$7)+1),ROW(6:6))),\"\")","v":""},{"$f":"IF(ROW(6:6)<=COUNTIF('اسناد الأقسام'!$D$7:$D$78,التجميع!$B$92),INDEX('اسناد الأقسام'!N$7:N$78,SMALL(IF('اسناد الأقسام'!$D$7:$D$78=التجميع!$B$92,ROW('اسناد الأقسام'!$D$7:$D$78)-ROW('اسناد الأقسام'!$D$7)+1),ROW(6:6))),\"\")","v":""},{"$f":"IF(ROW(6:6)<=COUNTIF('اسناد الأقسام'!$D$7:$D$78,التجميع!$B$92),INDEX('اسناد الأقسام'!O$7:O$78,SMALL(IF('اسناد الأقسام'!$D$7:$D$78=التجميع!$B$92,ROW('اسناد الأقسام'!$D$7:$D$78)-ROW('اسناد الأقسام'!$D$7)+1),ROW(6:6))),\"\")","v":""},{"$f":"IF(ROW(6:6)<=COUNTIF('اسناد الأقسام'!$D$7:$D$78,التجميع!$B$92),INDEX('اسناد الأقسام'!P$7:P$78,SMALL(IF('اسناد الأقسام'!$D$7:$D$78=التجميع!$B$92,ROW('اسناد الأقسام'!$D$7:$D$78)-ROW('اسناد الأقسام'!$D$7)+1),ROW(6:6))),\"\")","v":""},{"$f":"IF(ROW(6:6)<=COUNTIF('اسناد الأقسام'!$D$7:$D$78,التجميع!$B$92),INDEX('اسناد الأقسام'!Q$7:Q$78,SMALL(IF('اسناد الأقسام'!$D$7:$D$78=التجميع!$B$92,ROW('اسناد الأقسام'!$D$7:$D$78)-ROW('اسناد الأقسام'!$D$7)+1),ROW(6:6))),\"\")","v":""}]
[7,{"$f":"IF(ROW(7:7)<=COUNTIF('اسناد الأقسام'!$D$7:$D$78,التجميع!$B$92),INDEX('اسناد الأقسام'!C$7:C$78,SMALL(IF('اسناد الأقسام'!$D$7:$D$78=التجميع!$B$92,ROW('اسناد الأقسام'!$D$7:$D$78)-ROW('اسناد الأقسام'!$D$7)+1),ROW(7:7))),\"\")","v":""},{"$f":"IF(ROW(7:7)<=COUNTIF('اسناد الأقسام'!$D$7:$D$78,التجميع!$B$92),INDEX('اسناد الأقسام'!D$7:D$78,SMALL(IF('اسناد الأقسام'!$D$7:$D$78=التجميع!$B$92,ROW('اسناد الأقسام'!$D$7:$D$78)-ROW('اسناد الأقسام'!$D$7)+1),ROW(7:7))),\"\")","v":""},{"$f":"IF(ROW(7:7)<=COUNTIF('اسناد الأقسام'!$D$7:$D$78,التجميع!$B$92),INDEX('اسناد الأقسام'!E$7:E$78,SMALL(IF('اسناد الأقسام'!$D$7:$D$78=التجميع!$B$92,ROW('اسناد الأقسام'!$D$7:$D$78)-ROW('اسناد الأقسام'!$D$7)+1),ROW(7:7))),\"\")","v":""},{"$f":"IF(ROW(7:7)<=COUNTIF('اسناد الأقسام'!$D$7:$D$78,التجميع!$B$92),INDEX('اسناد الأقسام'!F$7:F$78,SMALL(IF('اسناد الأقسام'!$D$7:$D$78=التجميع!$B$92,ROW('اسناد الأقسام'!$D$7:$D$78)-ROW('اسناد الأقسام'!$D$7)+1),ROW(7:7))),\"\")","v":""},{"$f":"IF(ROW(7:7)<=COUNTIF('اسناد الأقسام'!$D$7:$D$78,التجميع!$B$92),INDEX('اسناد الأقسام'!G$7:G$78,SMALL(IF('اسناد الأقسام'!$D$7:$D$78=التجميع!$B$92,ROW('اسناد الأقسام'!$D$7:$D$78)-ROW('اسناد الأقسام'!$D$7)+1),ROW(7:7))),\"\")","v":""},{"$f":"IF(ROW(7:7)<=COUNTIF('اسناد الأقسام'!$D$7:$D$78,التجميع!$B$92),INDEX('اسناد الأقسام'!H$7:H$78,SMALL(IF('اسناد الأقسام'!$D$7:$D$78=التجميع!$B$92,ROW('اسناد الأقسام'!$D$7:$D$78)-ROW('اسناد الأقسام'!$D$7)+1),ROW(7:7))),\"\")","v":""},{"$f":"IF(ROW(7:7)<=COUNTIF('اسناد الأقسام'!$D$7:$D$78,التجميع!$B$92),INDEX('اسناد الأقسام'!I$7:I$78,SMALL(IF('اسناد الأقسام'!$D$7:$D$78=التجميع!$B$92,ROW('اسناد الأقسام'!$D$7:$D$78)-ROW('اسناد الأقسام'!$D$7)+1),ROW(7:7))),\"\")","v":""},{"$f":"IF(ROW(7:7)<=COUNTIF('اسناد الأقسام'!$D$7:$D$78,التجميع!$B$92),INDEX('اسناد الأقسام'!J$7:J$78,SMALL(IF('اسناد الأقسام'!$D$7:$D$78=التجميع!$B$92,ROW('اسناد الأقسام'!$D$7:$D$78)-ROW('اسناد الأقسام'!$D$7)+1),ROW(7:7))),\"\")","v":""},{"$f":"IF(ROW(7:7)<=COUNTIF('اسناد الأقسام'!$D$7:$D$78,التجميع!$B$92),INDEX('اسناد الأقسام'!K$7:K$78,SMALL(IF('اسناد الأقسام'!$D$7:$D$78=التجميع!$B$92,ROW('اسناد الأقسام'!$D$7:$D$78)-ROW('اسناد الأقسام'!$D$7)+1),ROW(7:7))),\"\")","v":""},{"$f":"IF(ROW(7:7)<=COUNTIF('اسناد الأقسام'!$D$7:$D$78,التجميع!$B$92),INDEX('اسناد الأقسام'!L$7:L$78,SMALL(IF('اسناد الأقسام'!$D$7:$D$78=التجميع!$B$92,ROW('اسناد الأقسام'!$D$7:$D$78)-ROW('اسناد الأقسام'!$D$7)+1),ROW(7:7))),\"\")","v":""},{"$f":"IF(ROW(7:7)<=COUNTIF('اسناد الأقسام'!$D$7:$D$78,التجميع!$B$92),INDEX('اسناد الأقسام'!M$7:M$78,SMALL(IF('اسناد الأقسام'!$D$7:$D$78=التجميع!$B$92,ROW('اسناد الأقسام'!$D$7:$D$78)-ROW('اسناد الأقسام'!$D$7)+1),ROW(7:7))),\"\")","v":""},{"$f":"IF(ROW(7:7)<=COUNTIF('اسناد الأقسام'!$D$7:$D$78,التجميع!$B$92),INDEX('اسناد الأقسام'!N$7:N$78,SMALL(IF('اسناد الأقسام'!$D$7:$D$78=التجميع!$B$92,ROW('اسناد الأقسام'!$D$7:$D$78)-ROW('اسناد الأقسام'!$D$7)+1),ROW(7:7))),\"\")","v":""},{"$f":"IF(ROW(7:7)<=COUNTIF('اسناد الأقسام'!$D$7:$D$78,التجميع!$B$92),INDEX('اسناد الأقسام'!O$7:O$78,SMALL(IF('اسناد الأقسام'!$D$7:$D$78=التجميع!$B$92,ROW('اسناد الأقسام'!$D$7:$D$78)-ROW('اسناد الأقسام'!$D$7)+1),ROW(7:7))),\"\")","v":""},{"$f":"IF(ROW(7:7)<=COUNTIF('اسناد الأقسام'!$D$7:$D$78,التجميع!$B$92),INDEX('اسناد الأقسام'!P$7:P$78,SMALL(IF('اسناد الأقسام'!$D$7:$D$78=التجميع!$B$92,ROW('اسناد الأقسام'!$D$7:$D$78)-ROW('اسناد الأقسام'!$D$7)+1),ROW(7:7))),\"\")","v":""},{"$f":"IF(ROW(7:7)<=COUNTIF('اسناد الأقسام'!$D$7:$D$78,التجميع!$B$92),INDEX('اسناد الأقسام'!Q$7:Q$78,SMALL(IF('اسناد الأقسام'!$D$7:$D$78=التجميع!$B$92,ROW('اسناد الأقسام'!$D$7:$D$78)-ROW('اسناد الأقسام'!$D$7)+1),ROW(7:7))),\"\")","v":""}]
[8,{"$f":"IF(ROW(8:8)<=COUNTIF('اسناد الأقسام'!$D$7:$D$78,التجميع!$B$92),INDEX('اسناد الأقسام'!C$7:C$78,SMALL(IF('اسناد الأقسام'!$D$7:$D$78=التجميع!$B$92,ROW('اسناد الأقسام'!$D$7:$D$78)-ROW('اسناد الأقسام'!$D$7)+1),ROW(8:8))),\"\")","v":""},{"$f":"IF(ROW(8:8)<=COUNTIF('اسناد الأقسام'!$D$7:$D$78,التجميع!$B$92),INDEX('اسناد الأقسام'!D$7:D$78,SMALL(IF('اسناد الأقسام'!$D$7:$D$78=التجميع!$B$92,ROW('اسناد الأقسام'!$D$7:$D$78)-ROW('اسناد الأقسام'!$D$7)+1),ROW(8:8))),\"\")","v":""},{"$f":"IF(ROW(8:8)<=COUNTIF('اسناد الأقسام'!$D$7:$D$78,التجميع!$B$92),INDEX('اسناد الأقسام'!E$7:E$78,SMALL(IF('اسناد الأقسام'!$D$7:$D$78=التجميع!$B$92,ROW('اسناد الأقسام'!$D$7:$D$78)-ROW('اسناد الأقسام'!$D$7)+1),ROW(8:8))),\"\")","v":""},{"$f":"IF(ROW(8:8)<=COUNTIF('اسناد الأقسام'!$D$7:$D$78,التجميع!$B$92),INDEX('اسناد الأقسام'!F$7:F$78,SMALL(IF('اسناد الأقسام'!$D$7:$D$78=التجميع!$B$92,ROW('اسناد الأقسام'!$D$7:$D$78)-ROW('اسناد الأقسام'!$D$7)+1),ROW(8:8))),\"\")","v":""},{"$f":"IF(ROW(8:8)<=COUNTIF('اسناد الأقسام'!$D$7:$D$78,التجميع!$B$92),INDEX('اسناد الأقسام'!G$7:G$78,SMALL(IF('اسناد الأقسام'!$D$7:$D$78=التجميع!$B$92,ROW('اسناد الأقسام'!$D$7:$D$78)-ROW('اسناد الأقسام'!$D$7)+1),ROW(8:8))),\"\")","v":""},{"$f":"IF(ROW(8:8)<=COUNTIF('اسناد الأقسام'!$D$7:$D$78,التجميع!$B$92),INDEX('اسناد الأقسام'!H$7:H$78,SMALL(IF('اسناد الأقسام'!$D$7:$D$78=التجميع!$B$92,ROW('اسناد الأقسام'!$D$7:$D$78)-ROW('اسناد الأقسام'!$D$7)+1),ROW(8:8))),\"\")","v":""},{"$f":"IF(ROW(8:8)<=COUNTIF('اسناد الأقسام'!$D$7:$D$78,التجميع!$B$92),INDEX('اسناد الأقسام'!I$7:I$78,SMALL(IF('اسناد الأقسام'!$D$7:$D$78=التجميع!$B$92,ROW('اسناد الأقسام'!$D$7:$D$78)-ROW('اسناد الأقسام'!$D$7)+1),ROW(8:8))),\"\")","v":""},{"$f":"IF(ROW(8:8)<=COUNTIF('اسناد الأقسام'!$D$7:$D$78,التجميع!$B$92),INDEX('اسناد الأقسام'!J$7:J$78,SMALL(IF('اسناد الأقسام'!$D$7:$D$78=التجميع!$B$92,ROW('اسناد الأقسام'!$D$7:$D$78)-ROW('اسناد الأقسام'!$D$7)+1),ROW(8:8))),\"\")","v":""},{"$f":"IF(ROW(8:8)<=COUNTIF('اسناد الأقسام'!$D$7:$D$78,التجميع!$B$92),INDEX('اسناد الأقسام'!K$7:K$78,SMALL(IF('اسناد الأقسام'!$D$7:$D$78=التجميع!$B$92,ROW('اسناد الأقسام'!$D$7:$D$78)-ROW('اسناد الأقسام'!$D$7)+1),ROW(8:8))),\"\")","v":""},{"$f":"IF(ROW(8:8)<=COUNTIF('اسناد الأقسام'!$D$7:$D$78,التجميع!$B$92),INDEX('اسناد الأقسام'!L$7:L$78,SMALL(IF('اسناد الأقسام'!$D$7:$D$78=التجميع!$B$92,ROW('اسناد الأقسام'!$D$7:$D$78)-ROW('اسناد الأقسام'!$D$7)+1),ROW(8:8))),\"\")","v":""},{"$f":"IF(ROW(8:8)<=COUNTIF('اسناد الأقسام'!$D$7:$D$78,التجميع!$B$92),INDEX('اسناد الأقسام'!M$7:M$78,SMALL(IF('اسناد الأقسام'!$D$7:$D$78=التجميع!$B$92,ROW('اسناد الأقسام'!$D$7:$D$78)-ROW('اسناد الأقسام'!$D$7)+1),ROW(8:8))),\"\")","v":""},{"$f":"IF(ROW(8:8)<=COUNTIF('اسناد الأقسام'!$D$7:$D$78,التجميع!$B$92),INDEX('اسناد الأقسام'!N$7:N$78,SMALL(IF('اسناد الأقسام'!$D$7:$D$78=التجميع!$B$92,ROW('اسناد الأقسام'!$D$7:$D$78)-ROW('اسناد الأقسام'!$D$7)+1),ROW(8:8))),\"\")","v":""},{"$f":"IF(ROW(8:8)<=COUNTIF('اسناد الأقسام'!$D$7:$D$78,التجميع!$B$92),INDEX('اسناد الأقسام'!O$7:O$78,SMALL(IF('اسناد الأقسام'!$D$7:$D$78=التجميع!$B$92,ROW('اسناد الأقسام'!$D$7:$D$78)-ROW('اسناد الأقسام'!$D$7)+1),ROW(8:8))),\"\")","v":""},{"$f":"IF(ROW(8:8)<=COUNTIF('اسناد الأقسام'!$D$7:$D$78,التجميع!$B$92),INDEX('اسناد الأقسام'!P$7:P$78,SMALL(IF('اسناد الأقسام'!$D$7:$D$78=التجميع!$B$92,ROW('اسناد الأقسام'!$D$7:$D$78)-ROW('اسناد الأقسام'!$D$7)+1),ROW(8:8))),\"\")","v":""},{"$f":"IF(ROW(8:8)<=COUNTIF('اسناد الأقسام'!$D$7:$D$78,التجميع!$B$92),INDEX('اسناد الأقسام'!Q$7:Q$78,SMALL(IF('اسناد الأقسام'!$D$7:$D$78=التجميع!$B$92,ROW('اسناد الأقسام'!$D$7:$D$78)-ROW('اسناد الأقسام'!$D$7)+1),ROW(8:8))),\"\")","v":""}]
[9,{"$f":"IF(ROW(9:9)<=COUNTIF('اسناد الأقسام'!$D$7:$D$78,التجميع!$B$92),INDEX('اسناد الأقسام'!C$7:C$78,SMALL(IF('اسناد الأقسام'!$D$7:$D$78=التجميع!$B$92,ROW('اسناد الأقسام'!$D$7:$D$78)-ROW('اسناد الأقسام'!$D$7)+1),ROW(9:9))),\"\")","v":""},{"$f":"IF(ROW(9:9)<=COUNTIF('اسناد الأقسام'!$D$7:$D$78,التجميع!$B$92),INDEX('اسناد الأقسام'!D$7:D$78,SMALL(IF('اسناد الأقسام'!$D$7:$D$78=التجميع!$B$92,ROW('اسناد الأقسام'!$D$7:$D$78)-ROW('اسناد الأقسام'!$D$7)+1),ROW(9:9))),\"\")","v":""},{"$f":"IF(ROW(9:9)<=COUNTIF('اسناد الأقسام'!$D$7:$D$78,التجميع!$B$92),INDEX('اسناد الأقسام'!E$7:E$78,SMALL(IF('اسناد الأقسام'!$D$7:$D$78=التجميع!$B$92,ROW('اسناد الأقسام'!$D$7:$D$78)-ROW('اسناد الأقسام'!$D$7)+1),ROW(9:9))),\"\")","v":""},{"$f":"IF(ROW(9:9)<=COUNTIF('اسناد الأقسام'!$D$7:$D$78,التجميع!$B$92),INDEX('اسناد الأقسام'!F$7:F$78,SMALL(IF('اسناد الأقسام'!$D$7:$D$78=التجميع!$B$92,ROW('اسناد الأقسام'!$D$7:$D$78)-ROW('اسناد الأقسام'!$D$7)+1),ROW(9:9))),\"\")","v":""},{"$f":"IF(ROW(9:9)<=COUNTIF('اسناد الأقسام'!$D$7:$D$78,التجميع!$B$92),INDEX('اسناد الأقسام'!G$7:G$78,SMALL(IF('اسناد الأقسام'!$D$7:$D$78=التجميع!$B$92,ROW('اسناد الأقسام'!$D$7:$D$78)-ROW('اسناد الأقسام'!$D$7)+1),ROW(9:9))),\"\")","v":""},{"$f":"IF(ROW(9:9)<=COUNTIF('اسناد الأقسام'!$D$7:$D$78,التجميع!$B$92),INDEX('اسناد الأقسام'!H$7:H$78,SMALL(IF('اسناد الأقسام'!$D$7:$D$78=التجميع!$B$92,ROW('اسناد الأقسام'!$D$7:$D$78)-ROW('اسناد الأقسام'!$D$7)+1),ROW(9:9))),\"\")","v":""},{"$f":"IF(ROW(9:9)<=COUNTIF('اسناد الأقسام'!$D$7:$D$78,التجميع!$B$92),INDEX('اسناد الأقسام'!I$7:I$78,SMALL(IF('اسناد الأقسام'!$D$7:$D$78=التجميع!$B$92,ROW('اسناد الأقسام'!$D$7:$D$78)-ROW('اسناد الأقسام'!$D$7)+1),ROW(9:9))),\"\")","v":""},{"$f":"IF(ROW(9:9)<=COUNTIF('اسناد الأقسام'!$D$7:$D$78,التجميع!$B$92),INDEX('اسناد الأقسام'!J$7:J$78,SMALL(IF('اسناد الأقسام'!$D$7:$D$78=التجميع!$B$92,ROW('اسناد الأقسام'!$D$7:$D$78)-ROW('اسناد الأقسام'!$D$7)+1),ROW(9:9))),\"\")","v":""},{"$f":"IF(ROW(9:9)<=COUNTIF('اسناد الأقسام'!$D$7:$D$78,التجميع!$B$92),INDEX('اسناد الأقسام'!K$7:K$78,SMALL(IF('اسناد الأقسام'!$D$7:$D$78=التجميع!$B$92,ROW('اسناد الأقسام'!$D$7:$D$78)-ROW('اسناد الأقسام'!$D$7)+1),ROW(9:9))),\"\")","v":""},{"$f":"IF(ROW(9:9)<=COUNTIF('اسناد الأقسام'!$D$7:$D$78,التجميع!$B$92),INDEX('اسناد الأقسام'!L$7:L$78,SMALL(IF('اسناد الأقسام'!$D$7:$D$78=التجميع!$B$92,ROW('اسناد الأقسام'!$D$7:$D$78)-ROW('اسناد الأقسام'!$D$7)+1),ROW(9:9))),\"\")","v":""},{"$f":"IF(ROW(9:9)<=COUNTIF('اسناد الأقسام'!$D$7:$D$78,التجميع!$B$92),INDEX('اسناد الأقسام'!M$7:M$78,SMALL(IF('اسناد الأقسام'!$D$7:$D$78=التجميع!$B$92,ROW('اسناد الأقسام'!$D$7:$D$78)-ROW('اسناد الأقسام'!$D$7)+1),ROW(9:9))),\"\")","v":""},{"$f":"IF(ROW(9:9)<=COUNTIF('اسناد الأقسام'!$D$7:$D$78,التجميع!$B$92),INDEX('اسناد الأقسام'!N$7:N$78,SMALL(IF('اسناد الأقسام'!$D$7:$D$78=التجميع!$B$92,ROW('اسناد الأقسام'!$D$7:$D$78)-ROW('اسناد الأقسام'!$D$7)+1),ROW(9:9))),\"\")","v":""},{"$f":"IF(ROW(9:9)<=COUNTIF('اسناد الأقسام'!$D$7:$D$78,التجميع!$B$92),INDEX('اسناد الأقسام'!O$7:O$78,SMALL(IF('اسناد الأقسام'!$D$7:$D$78=التجميع!$B$92,ROW('اسناد الأقسام'!$D$7:$D$78)-ROW('اسناد الأقسام'!$D$7)+1),ROW(9:9))),\"\")","v":""},{"$f":"IF(ROW(9:9)<=COUNTIF('اسناد الأقسام'!$D$7:$D$78,التجميع!$B$92),INDEX('اسناد الأقسام'!P$7:P$78,SMALL(IF('اسناد الأقسام'!$D$7:$D$78=التجميع!$B$92,ROW('اسناد الأقسام'!$D$7:$D$78)-ROW('اسناد الأقسام'!$D$7)+1),ROW(9:9))),\"\")","v":""},{"$f":"IF(ROW(9:9)<=COUNTIF('اسناد الأقسام'!$D$7:$D$78,التجميع!$B$92),INDEX('اسناد الأقسام'!Q$7:Q$78,SMALL(IF('اسناد الأقسام'!$D$7:$D$78=التجميع!$B$92,ROW('اسناد الأقسام'!$D$7:$D$78)-ROW('اسناد الأقسام'!$D$7)+1),ROW(9:9))),\"\")","v":""}]
[10,{"$f":"IF(ROW(10:10)<=COUNTIF('اسناد الأقسام'!$D$7:$D$78,التجميع!$B$92),INDEX('اسناد الأقسام'!C$7:C$78,SMALL(IF('اسناد الأقسام'!$D$7:$D$78=التجميع!$B$92,ROW('اسناد الأقسام'!$D$7:$D$78)-ROW('اسناد الأقسام'!$D$7)+1),ROW(10:10))),\"\")","v":""},{"$f":"IF(ROW(10:10)<=COUNTIF('اسناد الأقسام'!$D$7:$D$78,التجميع!$B$92),INDEX('اسناد الأقسام'!D$7:D$78,SMALL(IF('اسناد الأقسام'!$D$7:$D$78=التجميع!$B$92,ROW('اسناد الأقسام'!$D$7:$D$78)-ROW('اسناد الأقسام'!$D$7)+1),ROW(10:10))),\"\")","v":""},{"$f":"IF(ROW(10:10)<=COUNTIF('اسناد الأقسام'!$D$7:$D$78,التجميع!$B$92),INDEX('اسناد الأقسام'!E$7:E$78,SMALL(IF('اسناد الأقسام'!$D$7:$D$78=التجميع!$B$92,ROW('اسناد الأقسام'!$D$7:$D$78)-ROW('اسناد الأقسام'!$D$7)+1),ROW(10:10))),\"\")","v":""},{"$f":"IF(ROW(10:10)<=COUNTIF('اسناد الأقسام'!$D$7:$D$78,التجميع!$B$92),INDEX('اسناد الأقسام'!F$7:F$78,SMALL(IF('اسناد الأقسام'!$D$7:$D$78=التجميع!$B$92,ROW('اسناد الأقسام'!$D$7:$D$78)-ROW('اسناد الأقسام'!$D$7)+1),ROW(10:10))),\"\")","v":""},{"$f":"IF(ROW(10:10)<=COUNTIF('اسناد الأقسام'!$D$7:$D$78,التجميع!$B$92),INDEX('اسناد الأقسام'!G$7:G$78,SMALL(IF('اسناد الأقسام'!$D$7:$D$78=التجميع!$B$92,ROW('اسناد الأقسام'!$D$7:$D$78)-ROW('اسناد الأقسام'!$D$7)+1),ROW(10:10))),\"\")","v":""},{"$f":"IF(ROW(10:10)<=COUNTIF('اسناد الأقسام'!$D$7:$D$78,التجميع!$B$92),INDEX('اسناد الأقسام'!H$7:H$78,SMALL(IF('اسناد الأقسام'!$D$7:$D$78=التجميع!$B$92,ROW('اسناد الأقسام'!$D$7:$D$78)-ROW('اسناد الأقسام'!$D$7)+1),ROW(10:10))),\"\")","v":""},{"$f":"IF(ROW(10:10)<=COUNTIF('اسناد الأقسام'!$D$7:$D$78,التجميع!$B$92),INDEX('اسناد الأقسام'!I$7:I$78,SMALL(IF('اسناد الأقسام'!$D$7:$D$78=التجميع!$B$92,ROW('اسناد الأقسام'!$D$7:$D$78)-ROW('اسناد الأقسام'!$D$7)+1),ROW(10:10))),\"\")","v":""},{"$f":"IF(ROW(10:10)<=COUNTIF('اسناد الأقسام'!$D$7:$D$78,التجميع!$B$92),INDEX('اسناد الأقسام'!J$7:J$78,SMALL(IF('اسناد الأقسام'!$D$7:$D$78=التجميع!$B$92,ROW('اسناد الأقسام'!$D$7:$D$78)-ROW('اسناد الأقسام'!$D$7)+1),ROW(10:10))),\"\")","v":""},{"$f":"IF(ROW(10:10)<=COUNTIF('اسناد الأقسام'!$D$7:$D$78,التجميع!$B$92),INDEX('اسناد الأقسام'!K$7:K$78,SMALL(IF('اسناد الأقسام'!$D$7:$D$78=التجميع!$B$92,ROW('اسناد الأقسام'!$D$7:$D$78)-ROW('اسناد الأقسام'!$D$7)+1),ROW(10:10))),\"\")","v":""},{"$f":"IF(ROW(10:10)<=COUNTIF('اسناد الأقسام'!$D$7:$D$78,التجميع!$B$92),INDEX('اسناد الأقسام'!L$7:L$78,SMALL(IF('اسناد الأقسام'!$D$7:$D$78=التجميع!$B$92,ROW('اسناد الأقسام'!$D$7:$D$78)-ROW('اسناد الأقسام'!$D$7)+1),ROW(10:10))),\"\")","v":""},{"$f":"IF(ROW(10:10)<=COUNTIF('اسناد الأقسام'!$D$7:$D$78,التجميع!$B$92),INDEX('اسناد الأقسام'!M$7:M$78,SMALL(IF('اسناد الأقسام'!$D$7:$D$78=التجميع!$B$92,ROW('اسناد الأقسام'!$D$7:$D$78)-ROW('اسناد الأقسام'!$D$7)+1),ROW(10:10))),\"\")","v":""},{"$f":"IF(ROW(10:10)<=COUNTIF('اسناد الأقسام'!$D$7:$D$78,التجميع!$B$92),INDEX('اسناد الأقسام'!N$7:N$78,SMALL(IF('اسناد الأقسام'!$D$7:$D$78=التجميع!$B$92,ROW('اسناد الأقسام'!$D$7:$D$78)-ROW('اسناد الأقسام'!$D$7)+1),ROW(10:10))),\"\")","v":""},{"$f":"IF(ROW(10:10)<=COUNTIF('اسناد الأقسام'!$D$7:$D$78,التجميع!$B$92),INDEX('اسناد الأقسام'!O$7:O$78,SMALL(IF('اسناد الأقسام'!$D$7:$D$78=التجميع!$B$92,ROW('اسناد الأقسام'!$D$7:$D$78)-ROW('اسناد الأقسام'!$D$7)+1),ROW(10:10))),\"\")","v":""},{"$f":"IF(ROW(10:10)<=COUNTIF('اسناد الأقسام'!$D$7:$D$78,التجميع!$B$92),INDEX('اسناد الأقسام'!P$7:P$78,SMALL(IF('اسناد الأقسام'!$D$7:$D$78=التجميع!$B$92,ROW('اسناد الأقسام'!$D$7:$D$78)-ROW('اسناد الأقسام'!$D$7)+1),ROW(10:10))),\"\")","v":""},{"$f":"IF(ROW(10:10)<=COUNTIF('اسناد الأقسام'!$D$7:$D$78,التجميع!$B$92),INDEX('اسناد الأقسام'!Q$7:Q$78,SMALL(IF('اسناد الأقسام'!$D$7:$D$78=التجميع!$B$92,ROW('اسناد الأقسام'!$D$7:$D$78)-ROW('اسناد الأقسام'!$D$7)+1),ROW(10:10))),\"\")","v":""}]
[11,{"$f":"IF(ROW(11:11)<=COUNTIF('اسناد الأقسام'!$D$7:$D$78,التجميع!$B$92),INDEX('اسناد الأقسام'!C$7:C$78,SMALL(IF('اسناد الأقسام'!$D$7:$D$78=التجميع!$B$92,ROW('اسناد الأقسام'!$D$7:$D$78)-ROW('اسناد الأقسام'!$D$7)+1),ROW(11:11))),\"\")","v":""},{"$f":"IF(ROW(11:11)<=COUNTIF('اسناد الأقسام'!$D$7:$D$78,التجميع!$B$92),INDEX('اسناد الأقسام'!D$7:D$78,SMALL(IF('اسناد الأقسام'!$D$7:$D$78=التجميع!$B$92,ROW('اسناد الأقسام'!$D$7:$D$78)-ROW('اسناد الأقسام'!$D$7)+1),ROW(11:11))),\"\")","v":""},{"$f":"IF(ROW(11:11)<=COUNTIF('اسناد الأقسام'!$D$7:$D$78,التجميع!$B$92),INDEX('اسناد الأقسام'!E$7:E$78,SMALL(IF('اسناد الأقسام'!$D$7:$D$78=التجميع!$B$92,ROW('اسناد الأقسام'!$D$7:$D$78)-ROW('اسناد الأقسام'!$D$7)+1),ROW(11:11))),\"\")","v":""},{"$f":"IF(ROW(11:11)<=COUNTIF('اسناد الأقسام'!$D$7:$D$78,التجميع!$B$92),INDEX('اسناد الأقسام'!F$7:F$78,SMALL(IF('اسناد الأقسام'!$D$7:$D$78=التجميع!$B$92,ROW('اسناد الأقسام'!$D$7:$D$78)-ROW('اسناد الأقسام'!$D$7)+1),ROW(11:11))),\"\")","v":""},{"$f":"IF(ROW(11:11)<=COUNTIF('اسناد الأقسام'!$D$7:$D$78,التجميع!$B$92),INDEX('اسناد الأقسام'!G$7:G$78,SMALL(IF('اسناد الأقسام'!$D$7:$D$78=التجميع!$B$92,ROW('اسناد الأقسام'!$D$7:$D$78)-ROW('اسناد الأقسام'!$D$7)+1),ROW(11:11))),\"\")","v":""},{"$f":"IF(ROW(11:11)<=COUNTIF('اسناد الأقسام'!$D$7:$D$78,التجميع!$B$92),INDEX('اسناد الأقسام'!H$7:H$78,SMALL(IF('اسناد الأقسام'!$D$7:$D$78=التجميع!$B$92,ROW('اسناد الأقسام'!$D$7:$D$78)-ROW('اسناد الأقسام'!$D$7)+1),ROW(11:11))),\"\")","v":""},{"$f":"IF(ROW(11:11)<=COUNTIF('اسناد الأقسام'!$D$7:$D$78,التجميع!$B$92),INDEX('اسناد الأقسام'!I$7:I$78,SMALL(IF('اسناد الأقسام'!$D$7:$D$78=التجميع!$B$92,ROW('اسناد الأقسام'!$D$7:$D$78)-ROW('اسناد الأقسام'!$D$7)+1),ROW(11:11))),\"\")","v":""},{"$f":"IF(ROW(11:11)<=COUNTIF('اسناد الأقسام'!$D$7:$D$78,التجميع!$B$92),INDEX('اسناد الأقسام'!J$7:J$78,SMALL(IF('اسناد الأقسام'!$D$7:$D$78=التجميع!$B$92,ROW('اسناد الأقسام'!$D$7:$D$78)-ROW('اسناد الأقسام'!$D$7)+1),ROW(11:11))),\"\")","v":""},{"$f":"IF(ROW(11:11)<=COUNTIF('اسناد الأقسام'!$D$7:$D$78,التجميع!$B$92),INDEX('اسناد الأقسام'!K$7:K$78,SMALL(IF('اسناد الأقسام'!$D$7:$D$78=التجميع!$B$92,ROW('اسناد الأقسام'!$D$7:$D$78)-ROW('اسناد الأقسام'!$D$7)+1),ROW(11:11))),\"\")","v":""},{"$f":"IF(ROW(11:11)<=COUNTIF('اسناد الأقسام'!$D$7:$D$78,التجميع!$B$92),INDEX('اسناد الأقسام'!L$7:L$78,SMALL(IF('اسناد الأقسام'!$D$7:$D$78=التجميع!$B$92,ROW('اسناد الأقسام'!$D$7:$D$78)-ROW('اسناد الأقسام'!$D$7)+1),ROW(11:11))),\"\")","v":""},{"$f":"IF(ROW(11:11)<=COUNTIF('اسناد الأقسام'!$D$7:$D$78,التجميع!$B$92),INDEX('اسناد الأقسام'!M$7:M$78,SMALL(IF('اسناد الأقسام'!$D$7:$D$78=التجميع!$B$92,ROW('اسناد الأقسام'!$D$7:$D$78)-ROW('اسناد الأقسام'!$D$7)+1),ROW(11:11))),\"\")","v":""},{"$f":"IF(ROW(11:11)<=COUNTIF('اسناد الأقسام'!$D$7:$D$78,التجميع!$B$92),INDEX('اسناد الأقسام'!N$7:N$78,SMALL(IF('اسناد الأقسام'!$D$7:$D$78=التجميع!$B$92,ROW('اسناد الأقسام'!$D$7:$D$78)-ROW('اسناد الأقسام'!$D$7)+1),ROW(11:11))),\"\")","v":""},{"$f":"IF(ROW(11:11)<=COUNTIF('اسناد الأقسام'!$D$7:$D$78,التجميع!$B$92),INDEX('اسناد الأقسام'!O$7:O$78,SMALL(IF('اسناد الأقسام'!$D$7:$D$78=التجميع!$B$92,ROW('اسناد الأقسام'!$D$7:$D$78)-ROW('اسناد الأقسام'!$D$7)+1),ROW(11:11))),\"\")","v":""},{"$f":"IF(ROW(11:11)<=COUNTIF('اسناد الأقسام'!$D$7:$D$78,التجميع!$B$92),INDEX('اسناد الأقسام'!P$7:P$78,SMALL(IF('اسناد الأقسام'!$D$7:$D$78=التجميع!$B$92,ROW('اسناد الأقسام'!$D$7:$D$78)-ROW('اسناد الأقسام'!$D$7)+1),ROW(11:11))),\"\")","v":""},{"$f":"IF(ROW(11:11)<=COUNTIF('اسناد الأقسام'!$D$7:$D$78,التجميع!$B$92),INDEX('اسناد الأقسام'!Q$7:Q$78,SMALL(IF('اسناد الأقسام'!$D$7:$D$78=التجميع!$B$92,ROW('اسناد الأقسام'!$D$7:$D$78)-ROW('اسناد الأقسام'!$D$7)+1),ROW(11:11))),\"\")","v":""}]
[12,{"$f":"IF(ROW(12:12)<=COUNTIF('اسناد الأقسام'!$D$7:$D$78,التجميع!$B$92),INDEX('اسناد الأقسام'!C$7:C$78,SMALL(IF('اسناد الأقسام'!$D$7:$D$78=التجميع!$B$92,ROW('اسناد الأقسام'!$D$7:$D$78)-ROW('اسناد الأقسام'!$D$7)+1),ROW(12:12))),\"\")","v":""},{"$f":"IF(ROW(12:12)<=COUNTIF('اسناد الأقسام'!$D$7:$D$78,التجميع!$B$92),INDEX('اسناد الأقسام'!D$7:D$78,SMALL(IF('اسناد الأقسام'!$D$7:$D$78=التجميع!$B$92,ROW('اسناد الأقسام'!$D$7:$D$78)-ROW('اسناد الأقسام'!$D$7)+1),ROW(12:12))),\"\")","v":""},{"$f":"IF(ROW(12:12)<=COUNTIF('اسناد الأقسام'!$D$7:$D$78,التجميع!$B$92),INDEX('اسناد الأقسام'!E$7:E$78,SMALL(IF('اسناد الأقسام'!$D$7:$D$78=التجميع!$B$92,ROW('اسناد الأقسام'!$D$7:$D$78)-ROW('اسناد الأقسام'!$D$7)+1),ROW(12:12))),\"\")","v":""},{"$f":"IF(ROW(12:12)<=COUNTIF('اسناد الأقسام'!$D$7:$D$78,التجميع!$B$92),INDEX('اسناد الأقسام'!F$7:F$78,SMALL(IF('اسناد الأقسام'!$D$7:$D$78=التجميع!$B$92,ROW('اسناد الأقسام'!$D$7:$D$78)-ROW('اسناد الأقسام'!$D$7)+1),ROW(12:12))),\"\")","v":""},{"$f":"IF(ROW(12:12)<=COUNTIF('اسناد الأقسام'!$D$7:$D$78,التجميع!$B$92),INDEX('اسناد الأقسام'!G$7:G$78,SMALL(IF('اسناد الأقسام'!$D$7:$D$78=التجميع!$B$92,ROW('اسناد الأقسام'!$D$7:$D$78)-ROW('اسناد الأقسام'!$D$7)+1),ROW(12:12))),\"\")","v":""},{"$f":"IF(ROW(12:12)<=COUNTIF('اسناد الأقسام'!$D$7:$D$78,التجميع!$B$92),INDEX('اسناد الأقسام'!H$7:H$78,SMALL(IF('اسناد الأقسام'!$D$7:$D$78=التجميع!$B$92,ROW('اسناد الأقسام'!$D$7:$D$78)-ROW('اسناد الأقسام'!$D$7)+1),ROW(12:12))),\"\")","v":""},{"$f":"IF(ROW(12:12)<=COUNTIF('اسناد الأقسام'!$D$7:$D$78,التجميع!$B$92),INDEX('اسناد الأقسام'!I$7:I$78,SMALL(IF('اسناد الأقسام'!$D$7:$D$78=التجميع!$B$92,ROW('اسناد الأقسام'!$D$7:$D$78)-ROW('اسناد الأقسام'!$D$7)+1),ROW(12:12))),\"\")","v":""},{"$f":"IF(ROW(12:12)<=COUNTIF('اسناد الأقسام'!$D$7:$D$78,التجميع!$B$92),INDEX('اسناد الأقسام'!J$7:J$78,SMALL(IF('اسناد الأقسام'!$D$7:$D$78=التجميع!$B$92,ROW('اسناد الأقسام'!$D$7:$D$78)-ROW('اسناد الأقسام'!$D$7)+1),ROW(12:12))),\"\")","v":""},{"$f":"IF(ROW(12:12)<=COUNTIF('اسناد الأقسام'!$D$7:$D$78,التجميع!$B$92),INDEX('اسناد الأقسام'!K$7:K$78,SMALL(IF('اسناد الأقسام'!$D$7:$D$78=التجميع!$B$92,ROW('اسناد الأقسام'!$D$7:$D$78)-ROW('اسناد الأقسام'!$D$7)+1),ROW(12:12))),\"\")","v":""},{"$f":"IF(ROW(12:12)<=COUNTIF('اسناد الأقسام'!$D$7:$D$78,التجميع!$B$92),INDEX('اسناد الأقسام'!L$7:L$78,SMALL(IF('اسناد الأقسام'!$D$7:$D$78=التجميع!$B$92,ROW('اسناد الأقسام'!$D$7:$D$78)-ROW('اسناد الأقسام'!$D$7)+1),ROW(12:12))),\"\")","v":""},{"$f":"IF(ROW(12:12)<=COUNTIF('اسناد الأقسام'!$D$7:$D$78,التجميع!$B$92),INDEX('اسناد الأقسام'!M$7:M$78,SMALL(IF('اسناد الأقسام'!$D$7:$D$78=التجميع!$B$92,ROW('اسناد الأقسام'!$D$7:$D$78)-ROW('اسناد الأقسام'!$D$7)+1),ROW(12:12))),\"\")","v":""},{"$f":"IF(ROW(12:12)<=COUNTIF('اسناد الأقسام'!$D$7:$D$78,التجميع!$B$92),INDEX('اسناد الأقسام'!N$7:N$78,SMALL(IF('اسناد الأقسام'!$D$7:$D$78=التجميع!$B$92,ROW('اسناد الأقسام'!$D$7:$D$78)-ROW('اسناد الأقسام'!$D$7)+1),ROW(12:12))),\"\")","v":""},{"$f":"IF(ROW(12:12)<=COUNTIF('اسناد الأقسام'!$D$7:$D$78,التجميع!$B$92),INDEX('اسناد الأقسام'!O$7:O$78,SMALL(IF('اسناد الأقسام'!$D$7:$D$78=التجميع!$B$92,ROW('اسناد الأقسام'!$D$7:$D$78)-ROW('اسناد الأقسام'!$D$7)+1),ROW(12:12))),\"\")","v":""},{"$f":"IF(ROW(12:12)<=COUNTIF('اسناد الأقسام'!$D$7:$D$78,التجميع!$B$92),INDEX('اسناد الأقسام'!P$7:P$78,SMALL(IF('اسناد الأقسام'!$D$7:$D$78=التجميع!$B$92,ROW('اسناد الأقسام'!$D$7:$D$78)-ROW('اسناد الأقسام'!$D$7)+1),ROW(12:12))),\"\")","v":""},{"$f":"IF(ROW(12:12)<=COUNTIF('اسناد الأقسام'!$D$7:$D$78,التجميع!$B$92),INDEX('اسناد الأقسام'!Q$7:Q$78,SMALL(IF('اسناد الأقسام'!$D$7:$D$78=التجميع!$B$92,ROW('اسناد الأقسام'!$D$7:$D$78)-ROW('اسناد الأقسام'!$D$7)+1),ROW(12:12))),\"\")","v":""}]
[]
[null,"ت.بدنية"]
["الرقم","اللقب والاسم","المادة","تاريخ الميلاد","الصفة","أقصى درجة جامعية","تاريخ التعيين بالمؤسسة","الأقسام المسندة"]
[1,{"$f":"IF(ROW(1:1)<=COUNTIF('اسناد الأقسام'!$D$7:$D$78,التجميع!$B$107),INDEX('اسناد الأقسام'!C$7:C$78,SMALL(IF('اسناد الأقسام'!$D$7:$D$78=التجميع!$B$107,ROW('اسناد الأقسام'!$D$7:$D$78)-ROW('اسناد الأقسام'!$D$7)+1),ROW(1:1))),\"\")","v":"قرمان البشير "},{"$f":"IF(ROW(1:1)<=COUNTIF('اسناد الأقسام'!$D$7:$D$78,التجميع!$B$107),INDEX('اسناد الأقسام'!D$7:D$78,SMALL(IF('اسناد الأقسام'!$D$7:$D$78=التجميع!$B$107,ROW('اسناد الأقسام'!$D$7:$D$78)-ROW('اسناد الأقسام'!$D$7)+1),ROW(1:1))),\"\")","v":"ت.بدنية"},{"$f":"IF(ROW(1:1)<=COUNTIF('اسناد الأقسام'!$D$7:$D$78,التجميع!$B$107),INDEX('اسناد الأقسام'!E$7:E$78,SMALL(IF('اسناد الأقسام'!$D$7:$D$78=التجميع!$B$107,ROW('اسناد الأقسام'!$D$7:$D$78)-ROW('اسناد الأقسام'!$D$7)+1),ROW(1:1))),\"\")","v":"1982-01-16"},{"$f":"IF(ROW(1:1)<=COUNTIF('اسناد الأقسام'!$D$7:$D$78,التجميع!$B$107),INDEX('اسناد الأقسام'!F$7:F$78,SMALL(IF('اسناد الأقسام'!$D$7:$D$78=التجميع!$B$107,ROW('اسناد الأقسام'!$D$7:$D$78)-ROW('اسناد الأقسام'!$D$7)+1),ROW(1:1))),\"\")","v":"مرسم"},{"$f":"IF(ROW(1:1)<=COUNTIF('اسناد الأقسام'!$D$7:$D$78,التجميع!$B$107),INDEX('اسناد الأقسام'!G$7:G$78,SMALL(IF('اسناد الأقسام'!$D$7:$D$78=التجميع!$B$107,ROW('اسناد الأقسام'!$D$7:$D$78)-ROW('اسناد الأقسام'!$D$7)+1),ROW(1:1))),\"\")","v":"ليسانس"},{"$f":"IF(ROW(1:1)<=COUNTIF('اسناد الأقسام'!$D$7:$D$78,التجميع!$B$107),INDEX('اسناد الأقسام'!H$7:H$78,SMALL(IF('اسناد الأقسام'!$D$7:$D$78=التجميع!$B$107,ROW('اسناد الأقسام'!$D$7:$D$78)-ROW('اسناد الأقسام'!$D$7)+1),ROW(1:1))),\"\")","v":"1999-10-13"},{"$f":"IF(ROW(1:1)<=COUNTIF('اسناد الأقسام'!$D$7:$D$78,التجميع!$B$107),INDEX('اسناد الأقسام'!I$7:I$78,SMALL(IF('اسناد الأقسام'!$D$7:$D$78=التجميع!$B$107,ROW('اسناد الأقسام'!$D$7:$D$78)-ROW('اسناد الأقسام'!$D$7)+1),ROW(1:1))),\"\")","v":"4م1"},{"$f":"IF(ROW(1:1)<=COUNTIF('اسناد الأقسام'!$D$7:$D$78,التجميع!$B$107),INDEX('اسناد الأقسام'!J$7:J$78,SMALL(IF('اسناد الأقسام'!$D$7:$D$78=التجميع!$B$107,ROW('اسناد الأقسام'!$D$7:$D$78)-ROW('اسناد الأقسام'!$D$7)+1),ROW(1:1))),\"\")","v":"4م2"},{"$f":"IF(ROW(1:1)<=COUNTIF('اسناد الأقسام'!$D$7:$D$78,التجميع!$B$107),INDEX('اسناد الأقسام'!K$7:K$78,SMALL(IF('اسناد الأقسام'!$D$7:$D$78=التجميع!$B$107,ROW('اسناد الأقسام'!$D$7:$D$78)-ROW('اسناد الأقسام'!$D$7)+1),ROW(1:1))),\"\")","v":"3م1"},{"$f":"IF(ROW(1:1)<=COUNTIF('اسناد الأقسام'!$D$7:$D$78,التجميع!$B$107),INDEX('اسناد الأقسام'!L$7:L$78,SMALL(IF('اسناد الأقسام'!$D$7:$D$78=التجميع!$B$107,ROW('اسناد الأقسام'!$D$7:$D$78)-ROW('اسناد الأقسام'!$D$7)+1),ROW(1:1))),\"\")","v":"3م2"},{"$f":"IF(ROW(1:1)<=COUNTIF('اسناد الأقسام'!$D$7:$D$78,التجميع!$B$107),INDEX('اسناد الأقسام'!M$7:M$78,SMALL(IF('اسناد الأقسام'!$D$7:$D$78=التجميع!$B$107,ROW('اسناد الأقسام'!$D$7:$D$78)-ROW('اسناد الأقسام'!$D$7)+1),ROW(1:1))),\"\")","v":"2م1"},{"$f":"IF(ROW(1:1)<=COUNTIF('اسناد الأقسام'!$D$7:$D$78,التجميع!$B$107),INDEX('اسناد الأقسام'!N$7:N$78,SMALL(IF('اسناد الأقسام'!$D$7:$D$78=التجميع!$B$107,ROW('اسناد الأقسام'!$D$7:$D$78)-ROW('اسناد الأقسام'!$D$7)+1),ROW(1:1))),\"\")","v":"2م2"},{"$f":"IF(ROW(1:1)<=COUNTIF('اسناد الأقسام'!$D$7:$D$78,التجميع!$B$107),INDEX('اسناد الأقسام'!O$7:O$78,SMALL(IF('اسناد الأقسام'!$D$7:$D$78=التجميع!$B$107,ROW('اسناد الأقسام'!$D$7:$D$78)-ROW('اسناد الأقسام'!$D$7)+1),ROW(1:1))),\"\")","v":"2م3"},{"$f":"IF(ROW(1:1)<=COUNTIF('اسناد الأقسام'!$D$7:$D$78,التجميع!$B$107),INDEX('اسناد الأقسام'!P$7:P$78,SMALL(IF('اسناد الأقسام'!$D$7:$D$78=التجميع!$B$107,ROW('اسناد الأقسام'!$D$7:$D$78)-ROW('اسناد الأقسام'!$D$7)+1),ROW(1:1))),\"\")","v":"1م1"},{"$f":"IF(ROW(1:1)<=COUNTIF('اسناد الأقسام'!$D$7:$D$78,التجميع!$B$107),INDEX('اسناد الأقسام'!Q$7:Q$78,SMALL(IF('اسناد الأقسام'!$D$7:$D$78=التجميع!$B$107,ROW('اسناد الأقسام'!$D$7:$D$78)-ROW('اسناد الأقسام'!$D$7)+1),ROW(1:1))),\"\")","v":"1م2"},{"$f":"IF(ROW(1:1)<=COUNTIF('اسناد الأقسام'!$D$7:$D$78,التجميع!$B$107),INDEX('اسناد الأقسام'!R$7:R$78,SMALL(IF('اسناد الأقسام'!$D$7:$D$78=التجميع!$B$107,ROW('اسناد الأقسام'!$D$7:$D$78)-ROW('اسناد الأقسام'!$D$7)+1),ROW(1:1))),\"\")","v":"1م3"},{"$f":"IF(ROW(1:1)<=COUNTIF('اسناد الأقسام'!$D$7:$D$78,التجميع!$B$107),INDEX('اسناد الأقسام'!S$7:S$78,SMALL(IF('اسناد الأقسام'!$D$7:$D$78=التجميع!$B$107,ROW('اسناد الأقسام'!$D$7:$D$78)-ROW('اسناد الأقسام'!$D$7)+1),ROW(1:1))),\"\")","v":0},{"$f":"IF(ROW(1:1)<=COUNTIF('اسناد الأقسام'!$D$7:$D$78,التجميع!$B$107),INDEX('اسناد الأقسام'!T$7:T$78,SMALL(IF('اسناد الأقسام'!$D$7:$D$78=التجميع!$B$107,ROW('اسناد الأقسام'!$D$7:$D$78)-ROW('اسناد الأقسام'!$D$7)+1),ROW(1:1))),\"\")","v":0},{"$f":"IF(ROW(1:1)<=COUNTIF('اسناد الأقسام'!$D$7:$D$78,التجميع!$B$107),INDEX('اسناد الأقسام'!U$7:U$78,SMALL(IF('اسناد الأقسام'!$D$7:$D$78=التجميع!$B$107,ROW('اسناد الأقسام'!$D$7:$D$78)-ROW('اسناد الأقسام'!$D$7)+1),ROW(1:1))),\"\")","v":0},{"$f":"IF(ROW(1:1)<=COUNTIF('اسناد الأقسام'!$D$7:$D$78,التجميع!$B$107),INDEX('اسناد الأقسام'!V$7:V$78,SMALL(IF('اسناد الأقسام'!$D$7:$D$78=التجميع!$B$107,ROW('اسناد الأقسام'!$D$7:$D$78)-ROW('اسناد الأقسام'!$D$7)+1),ROW(1:1))),\"\")","v":0},{"$f":"IF(ROW(1:1)<=COUNTIF('اسناد الأقسام'!$D$7:$D$78,التجميع!$B$107),INDEX('اسناد الأقسام'!W$7:W$78,SMALL(IF('اسناد الأقسام'!$D$7:$D$78=التجميع!$B$107,ROW('اسناد الأقسام'!$D$7:$D$78)-ROW('اسناد الأقسام'!$D$7)+1),ROW(1:1))),\"\")","v":0},{"$f":"IF(ROW(1:1)<=COUNTIF('اسناد الأقسام'!$D$7:$D$78,التجميع!$B$107),INDEX('اسناد الأقسام'!X$7:X$78,SMALL(IF('اسناد الأقسام'!$D$7:$D$78=التجميع!$B$107,ROW('اسناد الأقسام'!$D$7:$D$78)-ROW('اسناد الأقسام'!$D$7)+1),ROW(1:1))),\"\")","v":0},{"$f":"IF(ROW(1:1)<=COUNTIF('اسناد الأقسام'!$D$7:$D$78,التجميع!$B$107),INDEX('اسناد الأقسام'!Y$7:Y$78,SMALL(IF('اسناد الأقسام'!$D$7:$D$78=التجميع!$B$107,ROW('اسناد الأقسام'!$D$7:$D$78)-ROW('اسناد الأقسام'!$D$7)+1),ROW(1:1))),\"\")","v":0},{"$f":"IF(ROW(1:1)<=COUNTIF('اسناد الأقسام'!$D$7:$D$78,التجميع!$B$107),INDEX('اسناد الأقسام'!Z$7:Z$78,SMALL(IF('اسناد الأقسام'!$D$7:$D$78=التجميع!$B$107,ROW('اسناد الأقسام'!$D$7:$D$78)-ROW('اسناد الأقسام'!$D$7)+1),ROW(1:1))),\"\")","v":0},{"$f":"IF(ROW(1:1)<=COUNTIF('اسناد الأقسام'!$D$7:$D$78,التجميع!$B$107),INDEX('اسناد الأقسام'!AA$7:AA$78,SMALL(IF('اسناد الأقسام'!$D$7:$D$78=التجميع!$B$107,ROW('اسناد الأقسام'!$D$7:$D$78)-ROW('اسناد الأقسام'!$D$7)+1),ROW(1:1))),\"\")","v":0},{"$f":"IF(ROW(1:1)<=COUNTIF('اسناد الأقسام'!$D$7:$D$78,التجميع!$B$107),INDEX('اسناد الأقسام'!AB$7:AB$78,SMALL(IF('اسناد الأقسام'!$D$7:$D$78=التجميع!$B$107,ROW('اسناد الأقسام'!$D$7:$D$78)-ROW('اسناد الأقسام'!$D$7)+1),ROW(1:1))),\"\")","v":0},{"$f":"IF(ROW(1:1)<=COUNTIF('اسناد الأقسام'!$D$7:$D$78,التجميع!$B$107),INDEX('اسناد الأقسام'!AC$7:AC$78,SMALL(IF('اسناد الأقسام'!$D$7:$D$78=التجميع!$B$107,ROW('اسناد الأقسام'!$D$7:$D$78)-ROW('اسناد الأقسام'!$D$7)+1),ROW(1:1))),\"\")","v":0}]
[2,{"$f":"IF(ROW(2:2)<=COUNTIF('اسناد الأقسام'!$D$7:$D$78,التجميع!$B$107),INDEX('اسناد الأقسام'!C$7:C$78,SMALL(IF('اسناد الأقسام'!$D$7:$D$78=التجميع!$B$107,ROW('اسناد الأقسام'!$D$7:$D$78)-ROW('اسناد الأقسام'!$D$7)+1),ROW(2:2))),\"\")","v":""},{"$f":"IF(ROW(2:2)<=COUNTIF('اسناد الأقسام'!$D$7:$D$78,التجميع!$B$107),INDEX('اسناد الأقسام'!D$7:D$78,SMALL(IF('اسناد الأقسام'!$D$7:$D$78=التجميع!$B$107,ROW('اسناد الأقسام'!$D$7:$D$78)-ROW('اسناد الأقسام'!$D$7)+1),ROW(2:2))),\"\")","v":""},{"$f":"IF(ROW(2:2)<=COUNTIF('اسناد الأقسام'!$D$7:$D$78,التجميع!$B$107),INDEX('اسناد الأقسام'!E$7:E$78,SMALL(IF('اسناد الأقسام'!$D$7:$D$78=التجميع!$B$107,ROW('اسناد الأقسام'!$D$7:$D$78)-ROW('اسناد الأقسام'!$D$7)+1),ROW(2:2))),\"\")","v":""},{"$f":"IF(ROW(2:2)<=COUNTIF('اسناد الأقسام'!$D$7:$D$78,التجميع!$B$107),INDEX('اسناد الأقسام'!F$7:F$78,SMALL(IF('اسناد الأقسام'!$D$7:$D$78=التجميع!$B$107,ROW('اسناد الأقسام'!$D$7:$D$78)-ROW('اسناد الأقسام'!$D$7)+1),ROW(2:2))),\"\")","v":""},{"$f":"IF(ROW(2:2)<=COUNTIF('اسناد الأقسام'!$D$7:$D$78,التجميع!$B$107),INDEX('اسناد الأقسام'!G$7:G$78,SMALL(IF('اسناد الأقسام'!$D$7:$D$78=التجميع!$B$107,ROW('اسناد الأقسام'!$D$7:$D$78)-ROW('اسناد الأقسام'!$D$7)+1),ROW(2:2))),\"\")","v":""},{"$f":"IF(ROW(2:2)<=COUNTIF('اسناد الأقسام'!$D$7:$D$78,التجميع!$B$107),INDEX('اسناد الأقسام'!H$7:H$78,SMALL(IF('اسناد الأقسام'!$D$7:$D$78=التجميع!$B$107,ROW('اسناد الأقسام'!$D$7:$D$78)-ROW('اسناد الأقسام'!$D$7)+1),ROW(2:2))),\"\")","v":""},{"$f":"IF(ROW(2:2)<=COUNTIF('اسناد الأقسام'!$D$7:$D$78,التجميع!$B$107),INDEX('اسناد الأقسام'!I$7:I$78,SMALL(IF('اسناد الأقسام'!$D$7:$D$78=التجميع!$B$107,ROW('اسناد الأقسام'!$D$7:$D$78)-ROW('اسناد الأقسام'!$D$7)+1),ROW(2:2))),\"\")","v":""},{"$f":"IF(ROW(2:2)<=COUNTIF('اسناد الأقسام'!$D$7:$D$78,التجميع!$B$107),INDEX('اسناد الأقسام'!J$7:J$78,SMALL(IF('اسناد الأقسام'!$D$7:$D$78=التجميع!$B$107,ROW('اسناد الأقسام'!$D$7:$D$78)-ROW('اسناد الأقسام'!$D$7)+1),ROW(2:2))),\"\")","v":""},{"$f":"IF(ROW(2:2)<=COUNTIF('اسناد الأقسام'!$D$7:$D$78,التجميع!$B$107),INDEX('اسناد الأقسام'!K$7:K$78,SMALL(IF('اسناد الأقسام'!$D$7:$D$78=التجميع!$B$107,ROW('اسناد الأقسام'!$D$7:$D$78)-ROW('اسناد الأقسام'!$D$7)+1),ROW(2:2))),\"\")","v":""},{"$f":"IF(ROW(2:2)<=COUNTIF('اسناد الأقسام'!$D$7:$D$78,التجميع!$B$107),INDEX('اسناد الأقسام'!L$7:L$78,SMALL(IF('اسناد الأقسام'!$D$7:$D$78=التجميع!$B$107,ROW('اسناد الأقسام'!$D$7:$D$78)-ROW('اسناد الأقسام'!$D$7)+1),ROW(2:2))),\"\")","v":""},{"$f":"IF(ROW(2:2)<=COUNTIF('اسناد الأقسام'!$D$7:$D$78,التجميع!$B$107),INDEX('اسناد الأقسام'!M$7:M$78,SMALL(IF('اسناد الأقسام'!$D$7:$D$78=التجميع!$B$107,ROW('اسناد الأقسام'!$D$7:$D$78)-ROW('اسناد الأقسام'!$D$7)+1),ROW(2:2))),\"\")","v":""},{"$f":"IF(ROW(2:2)<=COUNTIF('اسناد الأقسام'!$D$7:$D$78,التجميع!$B$107),INDEX('اسناد الأقسام'!N$7:N$78,SMALL(IF('اسناد الأقسام'!$D$7:$D$78=التجميع!$B$107,ROW('اسناد الأقسام'!$D$7:$D$78)-ROW('اسناد الأقسام'!$D$7)+1),ROW(2:2))),\"\")","v":""},{"$f":"IF(ROW(2:2)<=COUNTIF('اسناد الأقسام'!$D$7:$D$78,التجميع!$B$107),INDEX('اسناد الأقسام'!O$7:O$78,SMALL(IF('اسناد الأقسام'!$D$7:$D$78=التجميع!$B$107,ROW('اسناد الأقسام'!$D$7:$D$78)-ROW('اسناد الأقسام'!$D$7)+1),ROW(2:2))),\"\")","v":""},{"$f":"IF(ROW(2:2)<=COUNTIF('اسناد الأقسام'!$D$7:$D$78,التجميع!$B$107),INDEX('اسناد الأقسام'!P$7:P$78,SMALL(IF('اسناد الأقسام'!$D$7:$D$78=التجميع!$B$107,ROW('اسناد الأقسام'!$D$7:$D$78)-ROW('اسناد الأقسام'!$D$7)+1),ROW(2:2))),\"\")","v":""},{"$f":"IF(ROW(2:2)<=COUNTIF('اسناد الأقسام'!$D$7:$D$78,التجميع!$B$107),INDEX('اسناد الأقسام'!Q$7:Q$78,SMALL(IF('اسناد الأقسام'!$D$7:$D$78=التجميع!$B$107,ROW('اسناد الأقسام'!$D$7:$D$78)-ROW('اسناد الأقسام'!$D$7)+1),ROW(2:2))),\"\")","v":""},{"$f":"IF(ROW(2:2)<=COUNTIF('اسناد الأقسام'!$D$7:$D$78,التجميع!$B$107),INDEX('اسناد الأقسام'!R$7:R$78,SMALL(IF('اسناد الأقسام'!$D$7:$D$78=التجميع!$B$107,ROW('اسناد الأقسام'!$D$7:$D$78)-ROW('اسناد الأقسام'!$D$7)+1),ROW(2:2))),\"\")","v":""},{"$f":"IF(ROW(2:2)<=COUNTIF('اسناد الأقسام'!$D$7:$D$78,التجميع!$B$107),INDEX('اسناد الأقسام'!S$7:S$78,SMALL(IF('اسناد الأقسام'!$D$7:$D$78=التجميع!$B$107,ROW('اسناد الأقسام'!$D$7:$D$78)-ROW('اسناد الأقسام'!$D$7)+1),ROW(2:2))),\"\")","v":""}]
[3,{"$f":"IF(ROW(3:3)<=COUNTIF('اسناد الأقسام'!$D$7:$D$78,التجميع!$B$107),INDEX('اسناد الأقسام'!C$7:C$78,SMALL(IF('اسناد الأقسام'!$D$7:$D$78=التجميع!$B$107,ROW('اسناد الأقسام'!$D$7:$D$78)-ROW('اسناد الأقسام'!$D$7)+1),ROW(3:3))),\"\")","v":""},{"$f":"IF(ROW(3:3)<=COUNTIF('اسناد الأقسام'!$D$7:$D$78,التجميع!$B$107),INDEX('اسناد الأقسام'!D$7:D$78,SMALL(IF('اسناد الأقسام'!$D$7:$D$78=التجميع!$B$107,ROW('اسناد الأقسام'!$D$7:$D$78)-ROW('اسناد الأقسام'!$D$7)+1),ROW(3:3))),\"\")","v":""},{"$f":"IF(ROW(3:3)<=COUNTIF('اسناد الأقسام'!$D$7:$D$78,التجميع!$B$107),INDEX('اسناد الأقسام'!E$7:E$78,SMALL(IF('اسناد الأقسام'!$D$7:$D$78=التجميع!$B$107,ROW('اسناد الأقسام'!$D$7:$D$78)-ROW('اسناد الأقسام'!$D$7)+1),ROW(3:3))),\"\")","v":""},{"$f":"IF(ROW(3:3)<=COUNTIF('اسناد الأقسام'!$D$7:$D$78,التجميع!$B$107),INDEX('اسناد الأقسام'!F$7:F$78,SMALL(IF('اسناد الأقسام'!$D$7:$D$78=التجميع!$B$107,ROW('اسناد الأقسام'!$D$7:$D$78)-ROW('اسناد الأقسام'!$D$7)+1),ROW(3:3))),\"\")","v":""},{"$f":"IF(ROW(3:3)<=COUNTIF('اسناد الأقسام'!$D$7:$D$78,التجميع!$B$107),INDEX('اسناد الأقسام'!G$7:G$78,SMALL(IF('اسناد الأقسام'!$D$7:$D$78=التجميع!$B$107,ROW('اسناد الأقسام'!$D$7:$D$78)-ROW('اسناد الأقسام'!$D$7)+1),ROW(3:3))),\"\")","v":""},{"$f":"IF(ROW(3:3)<=COUNTIF('اسناد الأقسام'!$D$7:$D$78,التجميع!$B$107),INDEX('اسناد الأقسام'!H$7:H$78,SMALL(IF('اسناد الأقسام'!$D$7:$D$78=التجميع!$B$107,ROW('اسناد الأقسام'!$D$7:$D$78)-ROW('اسناد الأقسام'!$D$7)+1),ROW(3:3))),\"\")","v":""},{"$f":"IF(ROW(3:3)<=COUNTIF('اسناد الأقسام'!$D$7:$D$78,التجميع!$B$107),INDEX('اسناد الأقسام'!I$7:I$78,SMALL(IF('اسناد الأقسام'!$D$7:$D$78=التجميع!$B$107,ROW('اسناد الأقسام'!$D$7:$D$78)-ROW('اسناد الأقسام'!$D$7)+1),ROW(3:3))),\"\")","v":""},{"$f":"IF(ROW(3:3)<=COUNTIF('اسناد الأقسام'!$D$7:$D$78,التجميع!$B$107),INDEX('اسناد الأقسام'!J$7:J$78,SMALL(IF('اسناد الأقسام'!$D$7:$D$78=التجميع!$B$107,ROW('اسناد الأقسام'!$D$7:$D$78)-ROW('اسناد الأقسام'!$D$7)+1),ROW(3:3))),\"\")","v":""},{"$f":"IF(ROW(3:3)<=COUNTIF('اسناد الأقسام'!$D$7:$D$78,التجميع!$B$107),INDEX('اسناد الأقسام'!K$7:K$78,SMALL(IF('اسناد الأقسام'!$D$7:$D$78=التجميع!$B$107,ROW('اسناد الأقسام'!$D$7:$D$78)-ROW('اسناد الأقسام'!$D$7)+1),ROW(3:3))),\"\")","v":""},{"$f":"IF(ROW(3:3)<=COUNTIF('اسناد الأقسام'!$D$7:$D$78,التجميع!$B$107),INDEX('اسناد الأقسام'!L$7:L$78,SMALL(IF('اسناد الأقسام'!$D$7:$D$78=التجميع!$B$107,ROW('اسناد الأقسام'!$D$7:$D$78)-ROW('اسناد الأقسام'!$D$7)+1),ROW(3:3))),\"\")","v":""},{"$f":"IF(ROW(3:3)<=COUNTIF('اسناد الأقسام'!$D$7:$D$78,التجميع!$B$107),INDEX('اسناد الأقسام'!M$7:M$78,SMALL(IF('اسناد الأقسام'!$D$7:$D$78=التجميع!$B$107,ROW('اسناد الأقسام'!$D$7:$D$78)-ROW('اسناد الأقسام'!$D$7)+1),ROW(3:3))),\"\")","v":""},{"$f":"IF(ROW(3:3)<=COUNTIF('اسناد الأقسام'!$D$7:$D$78,التجميع!$B$107),INDEX('اسناد الأقسام'!N$7:N$78,SMALL(IF('اسناد الأقسام'!$D$7:$D$78=التجميع!$B$107,ROW('اسناد الأقسام'!$D$7:$D$78)-ROW('اسناد الأقسام'!$D$7)+1),ROW(3:3))),\"\")","v":""},{"$f":"IF(ROW(3:3)<=COUNTIF('اسناد الأقسام'!$D$7:$D$78,التجميع!$B$107),INDEX('اسناد الأقسام'!O$7:O$78,SMALL(IF('اسناد الأقسام'!$D$7:$D$78=التجميع!$B$107,ROW('اسناد الأقسام'!$D$7:$D$78)-ROW('اسناد الأقسام'!$D$7)+1),ROW(3:3))),\"\")","v":""},{"$f":"IF(ROW(3:3)<=COUNTIF('اسناد الأقسام'!$D$7:$D$78,التجميع!$B$107),INDEX('اسناد الأقسام'!P$7:P$78,SMALL(IF('اسناد الأقسام'!$D$7:$D$78=التجميع!$B$107,ROW('اسناد الأقسام'!$D$7:$D$78)-ROW('اسناد الأقسام'!$D$7)+1),ROW(3:3))),\"\")","v":""},{"$f":"IF(ROW(3:3)<=COUNTIF('اسناد الأقسام'!$D$7:$D$78,التجميع!$B$107),INDEX('اسناد الأقسام'!Q$7:Q$78,SMALL(IF('اسناد الأقسام'!$D$7:$D$78=التجميع!$B$107,ROW('اسناد الأقسام'!$D$7:$D$78)-ROW('اسناد الأقسام'!$D$7)+1),ROW(3:3))),\"\")","v":""}]
[4,{"$f":"IF(ROW(4:4)<=COUNTIF('اسناد الأقسام'!$D$7:$D$78,التجميع!$B$107),INDEX('اسناد الأقسام'!C$7:C$78,SMALL(IF('اسناد الأقسام'!$D$7:$D$78=التجميع!$B$107,ROW('اسناد الأقسام'!$D$7:$D$78)-ROW('اسناد الأقسام'!$D$7)+1),ROW(4:4))),\"\")","v":""},{"$f":"IF(ROW(4:4)<=COUNTIF('اسناد الأقسام'!$D$7:$D$78,التجميع!$B$107),INDEX('اسناد الأقسام'!D$7:D$78,SMALL(IF('اسناد الأقسام'!$D$7:$D$78=التجميع!$B$107,ROW('اسناد الأقسام'!$D$7:$D$78)-ROW('اسناد الأقسام'!$D$7)+1),ROW(4:4))),\"\")","v":""},{"$f":"IF(ROW(4:4)<=COUNTIF('اسناد الأقسام'!$D$7:$D$78,التجميع!$B$107),INDEX('اسناد الأقسام'!E$7:E$78,SMALL(IF('اسناد الأقسام'!$D$7:$D$78=التجميع!$B$107,ROW('اسناد الأقسام'!$D$7:$D$78)-ROW('اسناد الأقسام'!$D$7)+1),ROW(4:4))),\"\")","v":""},{"$f":"IF(ROW(4:4)<=COUNTIF('اسناد الأقسام'!$D$7:$D$78,التجميع!$B$107),INDEX('اسناد الأقسام'!F$7:F$78,SMALL(IF('اسناد الأقسام'!$D$7:$D$78=التجميع!$B$107,ROW('اسناد الأقسام'!$D$7:$D$78)-ROW('اسناد الأقسام'!$D$7)+1),ROW(4:4))),\"\")","v":""},{"$f":"IF(ROW(4:4)<=COUNTIF('اسناد الأقسام'!$D$7:$D$78,التجميع!$B$107),INDEX('اسناد الأقسام'!G$7:G$78,SMALL(IF('اسناد الأقسام'!$D$7:$D$78=التجميع!$B$107,ROW('اسناد الأقسام'!$D$7:$D$78)-ROW('اسناد الأقسام'!$D$7)+1),ROW(4:4))),\"\")","v":""},{"$f":"IF(ROW(4:4)<=COUNTIF('اسناد الأقسام'!$D$7:$D$78,التجميع!$B$107),INDEX('اسناد الأقسام'!H$7:H$78,SMALL(IF('اسناد الأقسام'!$D$7:$D$78=التجميع!$B$107,ROW('اسناد الأقسام'!$D$7:$D$78)-ROW('اسناد الأقسام'!$D$7)+1),ROW(4:4))),\"\")","v":""},{"$f":"IF(ROW(4:4)<=COUNTIF('اسناد الأقسام'!$D$7:$D$78,التجميع!$B$107),INDEX('اسناد الأقسام'!I$7:I$78,SMALL(IF('اسناد الأقسام'!$D$7:$D$78=التجميع!$B$107,ROW('اسناد الأقسام'!$D$7:$D$78)-ROW('اسناد الأقسام'!$D$7)+1),ROW(4:4))),\"\")","v":""},{"$f":"IF(ROW(4:4)<=COUNTIF('اسناد الأقسام'!$D$7:$D$78,التجميع!$B$107),INDEX('اسناد الأقسام'!J$7:J$78,SMALL(IF('اسناد الأقسام'!$D$7:$D$78=التجميع!$B$107,ROW('اسناد الأقسام'!$D$7:$D$78)-ROW('اسناد الأقسام'!$D$7)+1),ROW(4:4))),\"\")","v":""},{"$f":"IF(ROW(4:4)<=COUNTIF('اسناد الأقسام'!$D$7:$D$78,التجميع!$B$107),INDEX('اسناد الأقسام'!K$7:K$78,SMALL(IF('اسناد الأقسام'!$D$7:$D$78=التجميع!$B$107,ROW('اسناد الأقسام'!$D$7:$D$78)-ROW('اسناد الأقسام'!$D$7)+1),ROW(4:4))),\"\")","v":""},{"$f":"IF(ROW(4:4)<=COUNTIF('اسناد الأقسام'!$D$7:$D$78,التجميع!$B$107),INDEX('اسناد الأقسام'!L$7:L$78,SMALL(IF('اسناد الأقسام'!$D$7:$D$78=التجميع!$B$107,ROW('اسناد الأقسام'!$D$7:$D$78)-ROW('اسناد الأقسام'!$D$7)+1),ROW(4:4))),\"\")","v":""},{"$f":"IF(ROW(4:4)<=COUNTIF('اسناد الأقسام'!$D$7:$D$78,التجميع!$B$107),INDEX('اسناد الأقسام'!M$7:M$78,SMALL(IF('اسناد الأقسام'!$D$7:$D$78=التجميع!$B$107,ROW('اسناد الأقسام'!$D$7:$D$78)-ROW('اسناد الأقسام'!$D$7)+1),ROW(4:4))),\"\")","v":""},{"$f":"IF(ROW(4:4)<=COUNTIF('اسناد الأقسام'!$D$7:$D$78,التجميع!$B$107),INDEX('اسناد الأقسام'!N$7:N$78,SMALL(IF('اسناد الأقسام'!$D$7:$D$78=التجميع!$B$107,ROW('اسناد الأقسام'!$D$7:$D$78)-ROW('اسناد الأقسام'!$D$7)+1),ROW(4:4))),\"\")","v":""},{"$f":"IF(ROW(4:4)<=COUNTIF('اسناد الأقسام'!$D$7:$D$78,التجميع!$B$107),INDEX('اسناد الأقسام'!O$7:O$78,SMALL(IF('اسناد الأقسام'!$D$7:$D$78=التجميع!$B$107,ROW('اسناد الأقسام'!$D$7:$D$78)-ROW('اسناد الأقسام'!$D$7)+1),ROW(4:4))),\"\")","v":""},{"$f":"IF(ROW(4:4)<=COUNTIF('اسناد الأقسام'!$D$7:$D$78,التجميع!$B$107),INDEX('اسناد الأقسام'!P$7:P$78,SMALL(IF('اسناد الأقسام'!$D$7:$D$78=التجميع!$B$107,ROW('اسناد الأقسام'!$D$7:$D$78)-ROW('اسناد الأقسام'!$D$7)+1),ROW(4:4))),\"\")","v":""},{"$f":"IF(ROW(4:4)<=COUNTIF('اسناد الأقسام'!$D$7:$D$78,التجميع!$B$107),INDEX('اسناد الأقسام'!Q$7:Q$78,SMALL(IF('اسناد الأقسام'!$D$7:$D$78=التجميع!$B$107,ROW('اسناد الأقسام'!$D$7:$D$78)-ROW('اسناد الأقسام'!$D$7)+1),ROW(4:4))),\"\")","v":""}]
[5,{"$f":"IF(ROW(5:5)<=COUNTIF('اسناد الأقسام'!$D$7:$D$78,التجميع!$B$107),INDEX('اسناد الأقسام'!C$7:C$78,SMALL(IF('اسناد الأقسام'!$D$7:$D$78=التجميع!$B$107,ROW('اسناد الأقسام'!$D$7:$D$78)-ROW('اسناد الأقسام'!$D$7)+1),ROW(5:5))),\"\")","v":""},{"$f":"IF(ROW(5:5)<=COUNTIF('اسناد الأقسام'!$D$7:$D$78,التجميع!$B$107),INDEX('اسناد الأقسام'!D$7:D$78,SMALL(IF('اسناد الأقسام'!$D$7:$D$78=التجميع!$B$107,ROW('اسناد الأقسام'!$D$7:$D$78)-ROW('اسناد الأقسام'!$D$7)+1),ROW(5:5))),\"\")","v":""},{"$f":"IF(ROW(5:5)<=COUNTIF('اسناد الأقسام'!$D$7:$D$78,التجميع!$B$107),INDEX('اسناد الأقسام'!E$7:E$78,SMALL(IF('اسناد الأقسام'!$D$7:$D$78=التجميع!$B$107,ROW('اسناد الأقسام'!$D$7:$D$78)-ROW('اسناد الأقسام'!$D$7)+1),ROW(5:5))),\"\")","v":""},{"$f":"IF(ROW(5:5)<=COUNTIF('اسناد الأقسام'!$D$7:$D$78,التجميع!$B$107),INDEX('اسناد الأقسام'!F$7:F$78,SMALL(IF('اسناد الأقسام'!$D$7:$D$78=التجميع!$B$107,ROW('اسناد الأقسام'!$D$7:$D$78)-ROW('اسناد الأقسام'!$D$7)+1),ROW(5:5))),\"\")","v":""},{"$f":"IF(ROW(5:5)<=COUNTIF('اسناد الأقسام'!$D$7:$D$78,التجميع!$B$107),INDEX('اسناد الأقسام'!G$7:G$78,SMALL(IF('اسناد الأقسام'!$D$7:$D$78=التجميع!$B$107,ROW('اسناد الأقسام'!$D$7:$D$78)-ROW('اسناد الأقسام'!$D$7)+1),ROW(5:5))),\"\")","v":""},{"$f":"IF(ROW(5:5)<=COUNTIF('اسناد الأقسام'!$D$7:$D$78,التجميع!$B$107),INDEX('اسناد الأقسام'!H$7:H$78,SMALL(IF('اسناد الأقسام'!$D$7:$D$78=التجميع!$B$107,ROW('اسناد الأقسام'!$D$7:$D$78)-ROW('اسناد الأقسام'!$D$7)+1),ROW(5:5))),\"\")","v":""},{"$f":"IF(ROW(5:5)<=COUNTIF('اسناد الأقسام'!$D$7:$D$78,التجميع!$B$107),INDEX('اسناد الأقسام'!I$7:I$78,SMALL(IF('اسناد الأقسام'!$D$7:$D$78=التجميع!$B$107,ROW('اسناد الأقسام'!$D$7:$D$78)-ROW('اسناد الأقسام'!$D$7)+1),ROW(5:5))),\"\")","v":""},{"$f":"IF(ROW(5:5)<=COUNTIF('اسناد الأقسام'!$D$7:$D$78,التجميع!$B$107),INDEX('اسناد الأقسام'!J$7:J$78,SMALL(IF('اسناد الأقسام'!$D$7:$D$78=التجميع!$B$107,ROW('اسناد الأقسام'!$D$7:$D$78)-ROW('اسناد الأقسام'!$D$7)+1),ROW(5:5))),\"\")","v":""},{"$f":"IF(ROW(5:5)<=COUNTIF('اسناد الأقسام'!$D$7:$D$78,التجميع!$B$107),INDEX('اسناد الأقسام'!K$7:K$78,SMALL(IF('اسناد الأقسام'!$D$7:$D$78=التجميع!$B$107,ROW('اسناد الأقسام'!$D$7:$D$78)-ROW('اسناد الأقسام'!$D$7)+1),ROW(5:5))),\"\")","v":""},{"$f":"IF(ROW(5:5)<=COUNTIF('اسناد الأقسام'!$D$7:$D$78,التجميع!$B$107),INDEX('اسناد الأقسام'!L$7:L$78,SMALL(IF('اسناد الأقسام'!$D$7:$D$78=التجميع!$B$107,ROW('اسناد الأقسام'!$D$7:$D$78)-ROW('اسناد الأقسام'!$D$7)+1),ROW(5:5))),\"\")","v":""},{"$f":"IF(ROW(5:5)<=COUNTIF('اسناد الأقسام'!$D$7:$D$78,التجميع!$B$107),INDEX('اسناد الأقسام'!M$7:M$78,SMALL(IF('اسناد الأقسام'!$D$7:$D$78=التجميع!$B$107,ROW('اسناد الأقسام'!$D$7:$D$78)-ROW('اسناد الأقسام'!$D$7)+1),ROW(5:5))),\"\")","v":""},{"$f":"IF(ROW(5:5)<=COUNTIF('اسناد الأقسام'!$D$7:$D$78,التجميع!$B$107),INDEX('اسناد الأقسام'!N$7:N$78,SMALL(IF('اسناد الأقسام'!$D$7:$D$78=التجميع!$B$107,ROW('اسناد الأقسام'!$D$7:$D$78)-ROW('اسناد الأقسام'!$D$7)+1),ROW(5:5))),\"\")","v":""},{"$f":"IF(ROW(5:5)<=COUNTIF('اسناد الأقسام'!$D$7:$D$78,التجميع!$B$107),INDEX('اسناد الأقسام'!O$7:O$78,SMALL(IF('اسناد الأقسام'!$D$7:$D$78=التجميع!$B$107,ROW('اسناد الأقسام'!$D$7:$D$78)-ROW('اسناد الأقسام'!$D$7)+1),ROW(5:5))),\"\")","v":""},{"$f":"IF(ROW(5:5)<=COUNTIF('اسناد الأقسام'!$D$7:$D$78,التجميع!$B$107),INDEX('اسناد الأقسام'!P$7:P$78,SMALL(IF('اسناد الأقسام'!$D$7:$D$78=التجميع!$B$107,ROW('اسناد الأقسام'!$D$7:$D$78)-ROW('اسناد الأقسام'!$D$7)+1),ROW(5:5))),\"\")","v":""},{"$f":"IF(ROW(5:5)<=COUNTIF('اسناد الأقسام'!$D$7:$D$78,التجميع!$B$107),INDEX('اسناد الأقسام'!Q$7:Q$78,SMALL(IF('اسناد الأقسام'!$D$7:$D$78=التجميع!$B$107,ROW('اسناد الأقسام'!$D$7:$D$78)-ROW('اسناد الأقسام'!$D$7)+1),ROW(5:5))),\"\")","v":""}]
[6,{"$f":"IF(ROW(6:6)<=COUNTIF('اسناد الأقسام'!$D$7:$D$78,التجميع!$B$107),INDEX('اسناد الأقسام'!C$7:C$78,SMALL(IF('اسناد الأقسام'!$D$7:$D$78=التجميع!$B$107,ROW('اسناد الأقسام'!$D$7:$D$78)-ROW('اسناد الأقسام'!$D$7)+1),ROW(6:6))),\"\")","v":""},{"$f":"IF(ROW(6:6)<=COUNTIF('اسناد الأقسام'!$D$7:$D$78,التجميع!$B$107),INDEX('اسناد الأقسام'!D$7:D$78,SMALL(IF('اسناد الأقسام'!$D$7:$D$78=التجميع!$B$107,ROW('اسناد الأقسام'!$D$7:$D$78)-ROW('اسناد الأقسام'!$D$7)+1),ROW(6:6))),\"\")","v":""},{"$f":"IF(ROW(6:6)<=COUNTIF('اسناد الأقسام'!$D$7:$D$78,التجميع!$B$107),INDEX('اسناد الأقسام'!E$7:E$78,SMALL(IF('اسناد الأقسام'!$D$7:$D$78=التجميع!$B$107,ROW('اسناد الأقسام'!$D$7:$D$78)-ROW('اسناد الأقسام'!$D$7)+1),ROW(6:6))),\"\")","v":""},{"$f":"IF(ROW(6:6)<=COUNTIF('اسناد الأقسام'!$D$7:$D$78,التجميع!$B$107),INDEX('اسناد الأقسام'!F$7:F$78,SMALL(IF('اسناد الأقسام'!$D$7:$D$78=التجميع!$B$107,ROW('اسناد الأقسام'!$D$7:$D$78)-ROW('اسناد الأقسام'!$D$7)+1),ROW(6:6))),\"\")","v":""},{"$f":"IF(ROW(6:6)<=COUNTIF('اسناد الأقسام'!$D$7:$D$78,التجميع!$B$107),INDEX('اسناد الأقسام'!G$7:G$78,SMALL(IF('اسناد الأقسام'!$D$7:$D$78=التجميع!$B$107,ROW('اسناد الأقسام'!$D$7:$D$78)-ROW('اسناد الأقسام'!$D$7)+1),ROW(6:6))),\"\")","v":""},{"$f":"IF(ROW(6:6)<=COUNTIF('اسناد الأقسام'!$D$7:$D$78,التجميع!$B$107),INDEX('اسناد الأقسام'!H$7:H$78,SMALL(IF('اسناد الأقسام'!$D$7:$D$78=التجميع!$B$107,ROW('اسناد الأقسام'!$D$7:$D$78)-ROW('اسناد الأقسام'!$D$7)+1),ROW(6:6))),\"\")","v":""},{"$f":"IF(ROW(6:6)<=COUNTIF('اسناد الأقسام'!$D$7:$D$78,التجميع!$B$107),INDEX('اسناد الأقسام'!I$7:I$78,SMALL(IF('اسناد الأقسام'!$D$7:$D$78=التجميع!$B$107,ROW('اسناد الأقسام'!$D$7:$D$78)-ROW('اسناد الأقسام'!$D$7)+1),ROW(6:6))),\"\")","v":""},{"$f":"IF(ROW(6:6)<=COUNTIF('اسناد الأقسام'!$D$7:$D$78,التجميع!$B$107),INDEX('اسناد الأقسام'!J$7:J$78,SMALL(IF('اسناد الأقسام'!$D$7:$D$78=التجميع!$B$107,ROW('اسناد الأقسام'!$D$7:$D$78)-ROW('اسناد الأقسام'!$D$7)+1),ROW(6:6))),\"\")","v":""},{"$f":"IF(ROW(6:6)<=COUNTIF('اسناد الأقسام'!$D$7:$D$78,التجميع!$B$107),INDEX('اسناد الأقسام'!K$7:K$78,SMALL(IF('اسناد الأقسام'!$D$7:$D$78=التجميع!$B$107,ROW('اسناد الأقسام'!$D$7:$D$78)-ROW('اسناد الأقسام'!$D$7)+1),ROW(6:6))),\"\")","v":""},{"$f":"IF(ROW(6:6)<=COUNTIF('اسناد الأقسام'!$D$7:$D$78,التجميع!$B$107),INDEX('اسناد الأقسام'!L$7:L$78,SMALL(IF('اسناد الأقسام'!$D$7:$D$78=التجميع!$B$107,ROW('اسناد الأقسام'!$D$7:$D$78)-ROW('اسناد الأقسام'!$D$7)+1),ROW(6:6))),\"\")","v":""},{"$f":"IF(ROW(6:6)<=COUNTIF('اسناد الأقسام'!$D$7:$D$78,التجميع!$B$107),INDEX('اسناد الأقسام'!M$7:M$78,SMALL(IF('اسناد الأقسام'!$D$7:$D$78=التجميع!$B$107,ROW('اسناد الأقسام'!$D$7:$D$78)-ROW('اسناد الأقسام'!$D$7)+1),ROW(6:6))),\"\")","v":""},{"$f":"IF(ROW(6:6)<=COUNTIF('اسناد الأقسام'!$D$7:$D$78,التجميع!$B$107),INDEX('اسناد الأقسام'!N$7:N$78,SMALL(IF('اسناد الأقسام'!$D$7:$D$78=التجميع!$B$107,ROW('اسناد الأقسام'!$D$7:$D$78)-ROW('اسناد الأقسام'!$D$7)+1),ROW(6:6))),\"\")","v":""},{"$f":"IF(ROW(6:6)<=COUNTIF('اسناد الأقسام'!$D$7:$D$78,التجميع!$B$107),INDEX('اسناد الأقسام'!O$7:O$78,SMALL(IF('اسناد الأقسام'!$D$7:$D$78=التجميع!$B$107,ROW('اسناد الأقسام'!$D$7:$D$78)-ROW('اسناد الأقسام'!$D$7)+1),ROW(6:6))),\"\")","v":""},{"$f":"IF(ROW(6:6)<=COUNTIF('اسناد الأقسام'!$D$7:$D$78,التجميع!$B$107),INDEX('اسناد الأقسام'!P$7:P$78,SMALL(IF('اسناد الأقسام'!$D$7:$D$78=التجميع!$B$107,ROW('اسناد الأقسام'!$D$7:$D$78)-ROW('اسناد الأقسام'!$D$7)+1),ROW(6:6))),\"\")","v":""},{"$f":"IF(ROW(6:6)<=COUNTIF('اسناد الأقسام'!$D$7:$D$78,التجميع!$B$107),INDEX('اسناد الأقسام'!Q$7:Q$78,SMALL(IF('اسناد الأقسام'!$D$7:$D$78=التجميع!$B$107,ROW('اسناد الأقسام'!$D$7:$D$78)-ROW('اسناد الأقسام'!$D$7)+1),ROW(6:6))),\"\")","v":""}]
[7,{"$f":"IF(ROW(7:7)<=COUNTIF('اسناد الأقسام'!$D$7:$D$78,التجميع!$B$107),INDEX('اسناد الأقسام'!C$7:C$78,SMALL(IF('اسناد الأقسام'!$D$7:$D$78=التجميع!$B$107,ROW('اسناد الأقسام'!$D$7:$D$78)-ROW('اسناد الأقسام'!$D$7)+1),ROW(7:7))),\"\")","v":""},{"$f":"IF(ROW(7:7)<=COUNTIF('اسناد الأقسام'!$D$7:$D$78,التجميع!$B$107),INDEX('اسناد الأقسام'!D$7:D$78,SMALL(IF('اسناد الأقسام'!$D$7:$D$78=التجميع!$B$107,ROW('اسناد الأقسام'!$D$7:$D$78)-ROW('اسناد الأقسام'!$D$7)+1),ROW(7:7))),\"\")","v":""},{"$f":"IF(ROW(7:7)<=COUNTIF('اسناد الأقسام'!$D$7:$D$78,التجميع!$B$107),INDEX('اسناد الأقسام'!E$7:E$78,SMALL(IF('اسناد الأقسام'!$D$7:$D$78=التجميع!$B$107,ROW('اسناد الأقسام'!$D$7:$D$78)-ROW('اسناد الأقسام'!$D$7)+1),ROW(7:7))),\"\")","v":""},{"$f":"IF(ROW(7:7)<=COUNTIF('اسناد الأقسام'!$D$7:$D$78,التجميع!$B$107),INDEX('اسناد الأقسام'!F$7:F$78,SMALL(IF('اسناد الأقسام'!$D$7:$D$78=التجميع!$B$107,ROW('اسناد الأقسام'!$D$7:$D$78)-ROW('اسناد الأقسام'!$D$7)+1),ROW(7:7))),\"\")","v":""},{"$f":"IF(ROW(7:7)<=COUNTIF('اسناد الأقسام'!$D$7:$D$78,التجميع!$B$107),INDEX('اسناد الأقسام'!G$7:G$78,SMALL(IF('اسناد الأقسام'!$D$7:$D$78=التجميع!$B$107,ROW('اسناد الأقسام'!$D$7:$D$78)-ROW('اسناد الأقسام'!$D$7)+1),ROW(7:7))),\"\")","v":""},{"$f":"IF(ROW(7:7)<=COUNTIF('اسناد الأقسام'!$D$7:$D$78,التجميع!$B$107),INDEX('اسناد الأقسام'!H$7:H$78,SMALL(IF('اسناد الأقسام'!$D$7:$D$78=التجميع!$B$107,ROW('اسناد الأقسام'!$D$7:$D$78)-ROW('اسناد الأقسام'!$D$7)+1),ROW(7:7))),\"\")","v":""},{"$f":"IF(ROW(7:7)<=COUNTIF('اسناد الأقسام'!$D$7:$D$78,التجميع!$B$107),INDEX('اسناد الأقسام'!I$7:I$78,SMALL(IF('اسناد الأقسام'!$D$7:$D$78=التجميع!$B$107,ROW('اسناد الأقسام'!$D$7:$D$78)-ROW('اسناد الأقسام'!$D$7)+1),ROW(7:7))),\"\")","v":""},{"$f":"IF(ROW(7:7)<=COUNTIF('اسناد الأقسام'!$D$7:$D$78,التجميع!$B$107),INDEX('اسناد الأقسام'!J$7:J$78,SMALL(IF('اسناد الأقسام'!$D$7:$D$78=التجميع!$B$107,ROW('اسناد الأقسام'!$D$7:$D$78)-ROW('اسناد الأقسام'!$D$7)+1),ROW(7:7))),\"\")","v":""},{"$f":"IF(ROW(7:7)<=COUNTIF('اسناد الأقسام'!$D$7:$D$78,التجميع!$B$107),INDEX('اسناد الأقسام'!K$7:K$78,SMALL(IF('اسناد الأقسام'!$D$7:$D$78=التجميع!$B$107,ROW('اسناد الأقسام'!$D$7:$D$78)-ROW('اسناد الأقسام'!$D$7)+1),ROW(7:7))),\"\")","v":""},{"$f":"IF(ROW(7:7)<=COUNTIF('اسناد الأقسام'!$D$7:$D$78,التجميع!$B$107),INDEX('اسناد الأقسام'!L$7:L$78,SMALL(IF('اسناد الأقسام'!$D$7:$D$78=التجميع!$B$107,ROW('اسناد الأقسام'!$D$7:$D$78)-ROW('اسناد الأقسام'!$D$7)+1),ROW(7:7))),\"\")","v":""},{"$f":"IF(ROW(7:7)<=COUNTIF('اسناد الأقسام'!$D$7:$D$78,التجميع!$B$107),INDEX('اسناد الأقسام'!M$7:M$78,SMALL(IF('اسناد الأقسام'!$D$7:$D$78=التجميع!$B$107,ROW('اسناد الأقسام'!$D$7:$D$78)-ROW('اسناد الأقسام'!$D$7)+1),ROW(7:7))),\"\")","v":""},{"$f":"IF(ROW(7:7)<=COUNTIF('اسناد الأقسام'!$D$7:$D$78,التجميع!$B$107),INDEX('اسناد الأقسام'!N$7:N$78,SMALL(IF('اسناد الأقسام'!$D$7:$D$78=التجميع!$B$107,ROW('اسناد الأقسام'!$D$7:$D$78)-ROW('اسناد الأقسام'!$D$7)+1),ROW(7:7))),\"\")","v":""},{"$f":"IF(ROW(7:7)<=COUNTIF('اسناد الأقسام'!$D$7:$D$78,التجميع!$B$107),INDEX('اسناد الأقسام'!O$7:O$78,SMALL(IF('اسناد الأقسام'!$D$7:$D$78=التجميع!$B$107,ROW('اسناد الأقسام'!$D$7:$D$78)-ROW('اسناد الأقسام'!$D$7)+1),ROW(7:7))),\"\")","v":""},{"$f":"IF(ROW(7:7)<=COUNTIF('اسناد الأقسام'!$D$7:$D$78,التجميع!$B$107),INDEX('اسناد الأقسام'!P$7:P$78,SMALL(IF('اسناد الأقسام'!$D$7:$D$78=التجميع!$B$107,ROW('اسناد الأقسام'!$D$7:$D$78)-ROW('اسناد الأقسام'!$D$7)+1),ROW(7:7))),\"\")","v":""},{"$f":"IF(ROW(7:7)<=COUNTIF('اسناد الأقسام'!$D$7:$D$78,التجميع!$B$107),INDEX('اسناد الأقسام'!Q$7:Q$78,SMALL(IF('اسناد الأقسام'!$D$7:$D$78=التجميع!$B$107,ROW('اسناد الأقسام'!$D$7:$D$78)-ROW('اسناد الأقسام'!$D$7)+1),ROW(7:7))),\"\")","v":""}]
[8,{"$f":"IF(ROW(8:8)<=COUNTIF('اسناد الأقسام'!$D$7:$D$78,التجميع!$B$107),INDEX('اسناد الأقسام'!C$7:C$78,SMALL(IF('اسناد الأقسام'!$D$7:$D$78=التجميع!$B$107,ROW('اسناد الأقسام'!$D$7:$D$78)-ROW('اسناد الأقسام'!$D$7)+1),ROW(8:8))),\"\")","v":""},{"$f":"IF(ROW(8:8)<=COUNTIF('اسناد الأقسام'!$D$7:$D$78,التجميع!$B$107),INDEX('اسناد الأقسام'!D$7:D$78,SMALL(IF('اسناد الأقسام'!$D$7:$D$78=التجميع!$B$107,ROW('اسناد الأقسام'!$D$7:$D$78)-ROW('اسناد الأقسام'!$D$7)+1),ROW(8:8))),\"\")","v":""},{"$f":"IF(ROW(8:8)<=COUNTIF('اسناد الأقسام'!$D$7:$D$78,التجميع!$B$107),INDEX('اسناد الأقسام'!E$7:E$78,SMALL(IF('اسناد الأقسام'!$D$7:$D$78=التجميع!$B$107,ROW('اسناد الأقسام'!$D$7:$D$78)-ROW('اسناد الأقسام'!$D$7)+1),ROW(8:8))),\"\")","v":""},{"$f":"IF(ROW(8:8)<=COUNTIF('اسناد الأقسام'!$D$7:$D$78,التجميع!$B$107),INDEX('اسناد الأقسام'!F$7:F$78,SMALL(IF('اسناد الأقسام'!$D$7:$D$78=التجميع!$B$107,ROW('اسناد الأقسام'!$D$7:$D$78)-ROW('اسناد الأقسام'!$D$7)+1),ROW(8:8))),\"\")","v":""},{"$f":"IF(ROW(8:8)<=COUNTIF('اسناد الأقسام'!$D$7:$D$78,التجميع!$B$107),INDEX('اسناد الأقسام'!G$7:G$78,SMALL(IF('اسناد الأقسام'!$D$7:$D$78=التجميع!$B$107,ROW('اسناد الأقسام'!$D$7:$D$78)-ROW('اسناد الأقسام'!$D$7)+1),ROW(8:8))),\"\")","v":""},{"$f":"IF(ROW(8:8)<=COUNTIF('اسناد الأقسام'!$D$7:$D$78,التجميع!$B$107),INDEX('اسناد الأقسام'!H$7:H$78,SMALL(IF('اسناد الأقسام'!$D$7:$D$78=التجميع!$B$107,ROW('اسناد الأقسام'!$D$7:$D$78)-ROW('اسناد الأقسام'!$D$7)+1),ROW(8:8))),\"\")","v":""},{"$f":"IF(ROW(8:8)<=COUNTIF('اسناد الأقسام'!$D$7:$D$78,التجميع!$B$107),INDEX('اسناد الأقسام'!I$7:I$78,SMALL(IF('اسناد الأقسام'!$D$7:$D$78=التجميع!$B$107,ROW('اسناد الأقسام'!$D$7:$D$78)-ROW('اسناد الأقسام'!$D$7)+1),ROW(8:8))),\"\")","v":""},{"$f":"IF(ROW(8:8)<=COUNTIF('اسناد الأقسام'!$D$7:$D$78,التجميع!$B$107),INDEX('اسناد الأقسام'!J$7:J$78,SMALL(IF('اسناد الأقسام'!$D$7:$D$78=التجميع!$B$107,ROW('اسناد الأقسام'!$D$7:$D$78)-ROW('اسناد الأقسام'!$D$7)+1),ROW(8:8))),\"\")","v":""},{"$f":"IF(ROW(8:8)<=COUNTIF('اسناد الأقسام'!$D$7:$D$78,التجميع!$B$107),INDEX('اسناد الأقسام'!K$7:K$78,SMALL(IF('اسناد الأقسام'!$D$7:$D$78=التجميع!$B$107,ROW('اسناد الأقسام'!$D$7:$D$78)-ROW('اسناد الأقسام'!$D$7)+1),ROW(8:8))),\"\")","v":""},{"$f":"IF(ROW(8:8)<=COUNTIF('اسناد الأقسام'!$D$7:$D$78,التجميع!$B$107),INDEX('اسناد الأقسام'!L$7:L$78,SMALL(IF('اسناد الأقسام'!$D$7:$D$78=التجميع!$B$107,ROW('اسناد الأقسام'!$D$7:$D$78)-ROW('اسناد الأقسام'!$D$7)+1),ROW(8:8))),\"\")","v":""},{"$f":"IF(ROW(8:8)<=COUNTIF('اسناد الأقسام'!$D$7:$D$78,التجميع!$B$107),INDEX('اسناد الأقسام'!M$7:M$78,SMALL(IF('اسناد الأقسام'!$D$7:$D$78=التجميع!$B$107,ROW('اسناد الأقسام'!$D$7:$D$78)-ROW('اسناد الأقسام'!$D$7)+1),ROW(8:8))),\"\")","v":""},{"$f":"IF(ROW(8:8)<=COUNTIF('اسناد الأقسام'!$D$7:$D$78,التجميع!$B$107),INDEX('اسناد الأقسام'!N$7:N$78,SMALL(IF('اسناد الأقسام'!$D$7:$D$78=التجميع!$B$107,ROW('اسناد الأقسام'!$D$7:$D$78)-ROW('اسناد الأقسام'!$D$7)+1),ROW(8:8))),\"\")","v":""},{"$f":"IF(ROW(8:8)<=COUNTIF('اسناد الأقسام'!$D$7:$D$78,التجميع!$B$107),INDEX('اسناد الأقسام'!O$7:O$78,SMALL(IF('اسناد الأقسام'!$D$7:$D$78=التجميع!$B$107,ROW('اسناد الأقسام'!$D$7:$D$78)-ROW('اسناد الأقسام'!$D$7)+1),ROW(8:8))),\"\")","v":""},{"$f":"IF(ROW(8:8)<=COUNTIF('اسناد الأقسام'!$D$7:$D$78,التجميع!$B$107),INDEX('اسناد الأقسام'!P$7:P$78,SMALL(IF('اسناد الأقسام'!$D$7:$D$78=التجميع!$B$107,ROW('اسناد الأقسام'!$D$7:$D$78)-ROW('اسناد الأقسام'!$D$7)+1),ROW(8:8))),\"\")","v":""},{"$f":"IF(ROW(8:8)<=COUNTIF('اسناد الأقسام'!$D$7:$D$78,التجميع!$B$107),INDEX('اسناد الأقسام'!Q$7:Q$78,SMALL(IF('اسناد الأقسام'!$D$7:$D$78=التجميع!$B$107,ROW('اسناد الأقسام'!$D$7:$D$78)-ROW('اسناد الأقسام'!$D$7)+1),ROW(8:8))),\"\")","v":""}]
[9,{"$f":"IF(ROW(9:9)<=COUNTIF('اسناد الأقسام'!$D$7:$D$78,التجميع!$B$107),INDEX('اسناد الأقسام'!C$7:C$78,SMALL(IF('اسناد الأقسام'!$D$7:$D$78=التجميع!$B$107,ROW('اسناد الأقسام'!$D$7:$D$78)-ROW('اسناد الأقسام'!$D$7)+1),ROW(9:9))),\"\")","v":""},{"$f":"IF(ROW(9:9)<=COUNTIF('اسناد الأقسام'!$D$7:$D$78,التجميع!$B$107),INDEX('اسناد الأقسام'!D$7:D$78,SMALL(IF('اسناد الأقسام'!$D$7:$D$78=التجميع!$B$107,ROW('اسناد الأقسام'!$D$7:$D$78)-ROW('اسناد الأقسام'!$D$7)+1),ROW(9:9))),\"\")","v":""},{"$f":"IF(ROW(9:9)<=COUNTIF('اسناد الأقسام'!$D$7:$D$78,التجميع!$B$107),INDEX('اسناد الأقسام'!E$7:E$78,SMALL(IF('اسناد الأقسام'!$D$7:$D$78=التجميع!$B$107,ROW('اسناد الأقسام'!$D$7:$D$78)-ROW('اسناد الأقسام'!$D$7)+1),ROW(9:9))),\"\")","v":""},{"$f":"IF(ROW(9:9)<=COUNTIF('اسناد الأقسام'!$D$7:$D$78,التجميع!$B$107),INDEX('اسناد الأقسام'!F$7:F$78,SMALL(IF('اسناد الأقسام'!$D$7:$D$78=التجميع!$B$107,ROW('اسناد الأقسام'!$D$7:$D$78)-ROW('اسناد الأقسام'!$D$7)+1),ROW(9:9))),\"\")","v":""},{"$f":"IF(ROW(9:9)<=COUNTIF('اسناد الأقسام'!$D$7:$D$78,التجميع!$B$107),INDEX('اسناد الأقسام'!G$7:G$78,SMALL(IF('اسناد الأقسام'!$D$7:$D$78=التجميع!$B$107,ROW('اسناد الأقسام'!$D$7:$D$78)-ROW('اسناد الأقسام'!$D$7)+1),ROW(9:9))),\"\")","v":""},{"$f":"IF(ROW(9:9)<=COUNTIF('اسناد الأقسام'!$D$7:$D$78,التجميع!$B$107),INDEX('اسناد الأقسام'!H$7:H$78,SMALL(IF('اسناد الأقسام'!$D$7:$D$78=التجميع!$B$107,ROW('اسناد الأقسام'!$D$7:$D$78)-ROW('اسناد الأقسام'!$D$7)+1),ROW(9:9))),\"\")","v":""},{"$f":"IF(ROW(9:9)<=COUNTIF('اسناد الأقسام'!$D$7:$D$78,التجميع!$B$107),INDEX('اسناد الأقسام'!I$7:I$78,SMALL(IF('اسناد الأقسام'!$D$7:$D$78=التجميع!$B$107,ROW('اسناد الأقسام'!$D$7:$D$78)-ROW('اسناد الأقسام'!$D$7)+1),ROW(9:9))),\"\")","v":""},{"$f":"IF(ROW(9:9)<=COUNTIF('اسناد الأقسام'!$D$7:$D$78,التجميع!$B$107),INDEX('اسناد الأقسام'!J$7:J$78,SMALL(IF('اسناد الأقسام'!$D$7:$D$78=التجميع!$B$107,ROW('اسناد الأقسام'!$D$7:$D$78)-ROW('اسناد الأقسام'!$D$7)+1),ROW(9:9))),\"\")","v":""},{"$f":"IF(ROW(9:9)<=COUNTIF('اسناد الأقسام'!$D$7:$D$78,التجميع!$B$107),INDEX('اسناد الأقسام'!K$7:K$78,SMALL(IF('اسناد الأقسام'!$D$7:$D$78=التجميع!$B$107,ROW('اسناد الأقسام'!$D$7:$D$78)-ROW('اسناد الأقسام'!$D$7)+1),ROW(9:9))),\"\")","v":""},{"$f":"IF(ROW(9:9)<=COUNTIF('اسناد الأقسام'!$D$7:$D$78,التجميع!$B$107),INDEX('اسناد الأقسام'!L$7:L$78,SMALL(IF('اسناد الأقسام'!$D$7:$D$78=التجميع!$B$107,ROW('اسناد الأقسام'!$D$7:$D$78)-ROW('اسناد الأقسام'!$D$7)+1),ROW(9:9))),\"\")","v":""},{"$f":"IF(ROW(9:9)<=COUNTIF('اسناد الأقسام'!$D$7:$D$78,التجميع!$B$107),INDEX('اسناد الأقسام'!M$7:M$78,SMALL(IF('اسناد الأقسام'!$D$7:$D$78=التجميع!$B$107,ROW('اسناد الأقسام'!$D$7:$D$78)-ROW('اسناد الأقسام'!$D$7)+1),ROW(9:9))),\"\")","v":""},{"$f":"IF(ROW(9:9)<=COUNTIF('اسناد الأقسام'!$D$7:$D$78,التجميع!$B$107),INDEX('اسناد الأقسام'!N$7:N$78,SMALL(IF('اسناد الأقسام'!$D$7:$D$78=التجميع!$B$107,ROW('اسناد الأقسام'!$D$7:$D$78)-ROW('اسناد الأقسام'!$D$7)+1),ROW(9:9))),\"\")","v":""},{"$f":"IF(ROW(9:9)<=COUNTIF('اسناد الأقسام'!$D$7:$D$78,التجميع!$B$107),INDEX('اسناد الأقسام'!O$7:O$78,SMALL(IF('اسناد الأقسام'!$D$7:$D$78=التجميع!$B$107,ROW('اسناد الأقسام'!$D$7:$D$78)-ROW('اسناد الأقسام'!$D$7)+1),ROW(9:9))),\"\")","v":""},{"$f":"IF(ROW(9:9)<=COUNTIF('اسناد الأقسام'!$D$7:$D$78,التجميع!$B$107),INDEX('اسناد الأقسام'!P$7:P$78,SMALL(IF('اسناد الأقسام'!$D$7:$D$78=التجميع!$B$107,ROW('اسناد الأقسام'!$D$7:$D$78)-ROW('اسناد الأقسام'!$D$7)+1),ROW(9:9))),\"\")","v":""},{"$f":"IF(ROW(9:9)<=COUNTIF('اسناد الأقسام'!$D$7:$D$78,التجميع!$B$107),INDEX('اسناد الأقسام'!Q$7:Q$78,SMALL(IF('اسناد الأقسام'!$D$7:$D$78=التجميع!$B$107,ROW('اسناد الأقسام'!$D$7:$D$78)-ROW('اسناد الأقسام'!$D$7)+1),ROW(9:9))),\"\")","v":""}]
[10,{"$f":"IF(ROW(10:10)<=COUNTIF('اسناد الأقسام'!$D$7:$D$78,التجميع!$B$107),INDEX('اسناد الأقسام'!C$7:C$78,SMALL(IF('اسناد الأقسام'!$D$7:$D$78=التجميع!$B$107,ROW('اسناد الأقسام'!$D$7:$D$78)-ROW('اسناد الأقسام'!$D$7)+1),ROW(10:10))),\"\")","v":""},{"$f":"IF(ROW(10:10)<=COUNTIF('اسناد الأقسام'!$D$7:$D$78,التجميع!$B$107),INDEX('اسناد الأقسام'!D$7:D$78,SMALL(IF('اسناد الأقسام'!$D$7:$D$78=التجميع!$B$107,ROW('اسناد الأقسام'!$D$7:$D$78)-ROW('اسناد الأقسام'!$D$7)+1),ROW(10:10))),\"\")","v":""},{"$f":"IF(ROW(10:10)<=COUNTIF('اسناد الأقسام'!$D$7:$D$78,التجميع!$B$107),INDEX('اسناد الأقسام'!E$7:E$78,SMALL(IF('اسناد الأقسام'!$D$7:$D$78=التجميع!$B$107,ROW('اسناد الأقسام'!$D$7:$D$78)-ROW('اسناد الأقسام'!$D$7)+1),ROW(10:10))),\"\")","v":""},{"$f":"IF(ROW(10:10)<=COUNTIF('اسناد الأقسام'!$D$7:$D$78,التجميع!$B$107),INDEX('اسناد الأقسام'!F$7:F$78,SMALL(IF('اسناد الأقسام'!$D$7:$D$78=التجميع!$B$107,ROW('اسناد الأقسام'!$D$7:$D$78)-ROW('اسناد الأقسام'!$D$7)+1),ROW(10:10))),\"\")","v":""},{"$f":"IF(ROW(10:10)<=COUNTIF('اسناد الأقسام'!$D$7:$D$78,التجميع!$B$107),INDEX('اسناد الأقسام'!G$7:G$78,SMALL(IF('اسناد الأقسام'!$D$7:$D$78=التجميع!$B$107,ROW('اسناد الأقسام'!$D$7:$D$78)-ROW('اسناد الأقسام'!$D$7)+1),ROW(10:10))),\"\")","v":""},{"$f":"IF(ROW(10:10)<=COUNTIF('اسناد الأقسام'!$D$7:$D$78,التجميع!$B$107),INDEX('اسناد الأقسام'!H$7:H$78,SMALL(IF('اسناد الأقسام'!$D$7:$D$78=التجميع!$B$107,ROW('اسناد الأقسام'!$D$7:$D$78)-ROW('اسناد الأقسام'!$D$7)+1),ROW(10:10))),\"\")","v":""},{"$f":"IF(ROW(10:10)<=COUNTIF('اسناد الأقسام'!$D$7:$D$78,التجميع!$B$107),INDEX('اسناد الأقسام'!I$7:I$78,SMALL(IF('اسناد الأقسام'!$D$7:$D$78=التجميع!$B$107,ROW('اسناد الأقسام'!$D$7:$D$78)-ROW('اسناد الأقسام'!$D$7)+1),ROW(10:10))),\"\")","v":""},{"$f":"IF(ROW(10:10)<=COUNTIF('اسناد الأقسام'!$D$7:$D$78,التجميع!$B$107),INDEX('اسناد الأقسام'!J$7:J$78,SMALL(IF('اسناد الأقسام'!$D$7:$D$78=التجميع!$B$107,ROW('اسناد الأقسام'!$D$7:$D$78)-ROW('اسناد الأقسام'!$D$7)+1),ROW(10:10))),\"\")","v":""},{"$f":"IF(ROW(10:10)<=COUNTIF('اسناد الأقسام'!$D$7:$D$78,التجميع!$B$107),INDEX('اسناد الأقسام'!K$7:K$78,SMALL(IF('اسناد الأقسام'!$D$7:$D$78=التجميع!$B$107,ROW('اسناد الأقسام'!$D$7:$D$78)-ROW('اسناد الأقسام'!$D$7)+1),ROW(10:10))),\"\")","v":""},{"$f":"IF(ROW(10:10)<=COUNTIF('اسناد الأقسام'!$D$7:$D$78,التجميع!$B$107),INDEX('اسناد الأقسام'!L$7:L$78,SMALL(IF('اسناد الأقسام'!$D$7:$D$78=التجميع!$B$107,ROW('اسناد الأقسام'!$D$7:$D$78)-ROW('اسناد الأقسام'!$D$7)+1),ROW(10:10))),\"\")","v":""},{"$f":"IF(ROW(10:10)<=COUNTIF('اسناد الأقسام'!$D$7:$D$78,التجميع!$B$107),INDEX('اسناد الأقسام'!M$7:M$78,SMALL(IF('اسناد الأقسام'!$D$7:$D$78=التجميع!$B$107,ROW('اسناد الأقسام'!$D$7:$D$78)-ROW('اسناد الأقسام'!$D$7)+1),ROW(10:10))),\"\")","v":""},{"$f":"IF(ROW(10:10)<=COUNTIF('اسناد الأقسام'!$D$7:$D$78,التجميع!$B$107),INDEX('اسناد الأقسام'!N$7:N$78,SMALL(IF('اسناد الأقسام'!$D$7:$D$78=التجميع!$B$107,ROW('اسناد الأقسام'!$D$7:$D$78)-ROW('اسناد الأقسام'!$D$7)+1),ROW(10:10))),\"\")","v":""},{"$f":"IF(ROW(10:10)<=COUNTIF('اسناد الأقسام'!$D$7:$D$78,التجميع!$B$107),INDEX('اسناد الأقسام'!O$7:O$78,SMALL(IF('اسناد الأقسام'!$D$7:$D$78=التجميع!$B$107,ROW('اسناد الأقسام'!$D$7:$D$78)-ROW('اسناد الأقسام'!$D$7)+1),ROW(10:10))),\"\")","v":""},{"$f":"IF(ROW(10:10)<=COUNTIF('اسناد الأقسام'!$D$7:$D$78,التجميع!$B$107),INDEX('اسناد الأقسام'!P$7:P$78,SMALL(IF('اسناد الأقسام'!$D$7:$D$78=التجميع!$B$107,ROW('اسناد الأقسام'!$D$7:$D$78)-ROW('اسناد الأقسام'!$D$7)+1),ROW(10:10))),\"\")","v":""},{"$f":"IF(ROW(10:10)<=COUNTIF('اسناد الأقسام'!$D$7:$D$78,التجميع!$B$107),INDEX('اسناد الأقسام'!Q$7:Q$78,SMALL(IF('اسناد الأقسام'!$D$7:$D$78=التجميع!$B$107,ROW('اسناد الأقسام'!$D$7:$D$78)-ROW('اسناد الأقسام'!$D$7)+1),ROW(10:10))),\"\")","v":""}]
[11,{"$f":"IF(ROW(11:11)<=COUNTIF('اسناد الأقسام'!$D$7:$D$78,التجميع!$B$107),INDEX('اسناد الأقسام'!C$7:C$78,SMALL(IF('اسناد الأقسام'!$D$7:$D$78=التجميع!$B$107,ROW('اسناد الأقسام'!$D$7:$D$78)-ROW('اسناد الأقسام'!$D$7)+1),ROW(11:11))),\"\")","v":""},{"$f":"IF(ROW(11:11)<=COUNTIF('اسناد الأقسام'!$D$7:$D$78,التجميع!$B$107),INDEX('اسناد الأقسام'!D$7:D$78,SMALL(IF('اسناد الأقسام'!$D$7:$D$78=التجميع!$B$107,ROW('اسناد الأقسام'!$D$7:$D$78)-ROW('اسناد الأقسام'!$D$7)+1),ROW(11:11))),\"\")","v":""},{"$f":"IF(ROW(11:11)<=COUNTIF('اسناد الأقسام'!$D$7:$D$78,التجميع!$B$107),INDEX('اسناد الأقسام'!E$7:E$78,SMALL(IF('اسناد الأقسام'!$D$7:$D$78=التجميع!$B$107,ROW('اسناد الأقسام'!$D$7:$D$78)-ROW('اسناد الأقسام'!$D$7)+1),ROW(11:11))),\"\")","v":""},{"$f":"IF(ROW(11:11)<=COUNTIF('اسناد الأقسام'!$D$7:$D$78,التجميع!$B$107),INDEX('اسناد الأقسام'!F$7:F$78,SMALL(IF('اسناد الأقسام'!$D$7:$D$78=التجميع!$B$107,ROW('اسناد الأقسام'!$D$7:$D$78)-ROW('اسناد الأقسام'!$D$7)+1),ROW(11:11))),\"\")","v":""},{"$f":"IF(ROW(11:11)<=COUNTIF('اسناد الأقسام'!$D$7:$D$78,التجميع!$B$107),INDEX('اسناد الأقسام'!G$7:G$78,SMALL(IF('اسناد الأقسام'!$D$7:$D$78=التجميع!$B$107,ROW('اسناد الأقسام'!$D$7:$D$78)-ROW('اسناد الأقسام'!$D$7)+1),ROW(11:11))),\"\")","v":""},{"$f":"IF(ROW(11:11)<=COUNTIF('اسناد الأقسام'!$D$7:$D$78,التجميع!$B$107),INDEX('اسناد الأقسام'!H$7:H$78,SMALL(IF('اسناد الأقسام'!$D$7:$D$78=التجميع!$B$107,ROW('اسناد الأقسام'!$D$7:$D$78)-ROW('اسناد الأقسام'!$D$7)+1),ROW(11:11))),\"\")","v":""},{"$f":"IF(ROW(11:11)<=COUNTIF('اسناد الأقسام'!$D$7:$D$78,التجميع!$B$107),INDEX('اسناد الأقسام'!I$7:I$78,SMALL(IF('اسناد الأقسام'!$D$7:$D$78=التجميع!$B$107,ROW('اسناد الأقسام'!$D$7:$D$78)-ROW('اسناد الأقسام'!$D$7)+1),ROW(11:11))),\"\")","v":""},{"$f":"IF(ROW(11:11)<=COUNTIF('اسناد الأقسام'!$D$7:$D$78,التجميع!$B$107),INDEX('اسناد الأقسام'!J$7:J$78,SMALL(IF('اسناد الأقسام'!$D$7:$D$78=التجميع!$B$107,ROW('اسناد الأقسام'!$D$7:$D$78)-ROW('اسناد الأقسام'!$D$7)+1),ROW(11:11))),\"\")","v":""},{"$f":"IF(ROW(11:11)<=COUNTIF('اسناد الأقسام'!$D$7:$D$78,التجميع!$B$107),INDEX('اسناد الأقسام'!K$7:K$78,SMALL(IF('اسناد الأقسام'!$D$7:$D$78=التجميع!$B$107,ROW('اسناد الأقسام'!$D$7:$D$78)-ROW('اسناد الأقسام'!$D$7)+1),ROW(11:11))),\"\")","v":""},{"$f":"IF(ROW(11:11)<=COUNTIF('اسناد الأقسام'!$D$7:$D$78,التجميع!$B$107),INDEX('اسناد الأقسام'!L$7:L$78,SMALL(IF('اسناد الأقسام'!$D$7:$D$78=التجميع!$B$107,ROW('اسناد الأقسام'!$D$7:$D$78)-ROW('اسناد الأقسام'!$D$7)+1),ROW(11:11))),\"\")","v":""},{"$f":"IF(ROW(11:11)<=COUNTIF('اسناد الأقسام'!$D$7:$D$78,التجميع!$B$107),INDEX('اسناد الأقسام'!M$7:M$78,SMALL(IF('اسناد الأقسام'!$D$7:$D$78=التجميع!$B$107,ROW('اسناد الأقسام'!$D$7:$D$78)-ROW('اسناد الأقسام'!$D$7)+1),ROW(11:11))),\"\")","v":""},{"$f":"IF(ROW(11:11)<=COUNTIF('اسناد الأقسام'!$D$7:$D$78,التجميع!$B$107),INDEX('اسناد الأقسام'!N$7:N$78,SMALL(IF('اسناد الأقسام'!$D$7:$D$78=التجميع!$B$107,ROW('اسناد الأقسام'!$D$7:$D$78)-ROW('اسناد الأقسام'!$D$7)+1),ROW(11:11))),\"\")","v":""},{"$f":"IF(ROW(11:11)<=COUNTIF('اسناد الأقسام'!$D$7:$D$78,التجميع!$B$107),INDEX('اسناد الأقسام'!O$7:O$78,SMALL(IF('اسناد الأقسام'!$D$7:$D$78=التجميع!$B$107,ROW('اسناد الأقسام'!$D$7:$D$78)-ROW('اسناد الأقسام'!$D$7)+1),ROW(11:11))),\"\")","v":""},{"$f":"IF(ROW(11:11)<=COUNTIF('اسناد الأقسام'!$D$7:$D$78,التجميع!$B$107),INDEX('اسناد الأقسام'!P$7:P$78,SMALL(IF('اسناد الأقسام'!$D$7:$D$78=التجميع!$B$107,ROW('اسناد الأقسام'!$D$7:$D$78)-ROW('اسناد الأقسام'!$D$7)+1),ROW(11:11))),\"\")","v":""},{"$f":"IF(ROW(11:11)<=COUNTIF('اسناد الأقسام'!$D$7:$D$78,التجميع!$B$107),INDEX('اسناد الأقسام'!Q$7:Q$78,SMALL(IF('اسناد الأقسام'!$D$7:$D$78=التجميع!$B$107,ROW('اسناد الأقسام'!$D$7:$D$78)-ROW('اسناد الأقسام'!$D$7)+1),ROW(11:11))),\"\")","v":""}]
[12,{"$f":"IF(ROW(12:12)<=COUNTIF('اسناد الأقسام'!$D$7:$D$78,التجميع!$B$107),INDEX('اسناد الأقسام'!C$7:C$78,SMALL(IF('اسناد الأقسام'!$D$7:$D$78=التجميع!$B$107,ROW('اسناد الأقسام'!$D$7:$D$78)-ROW('اسناد الأقسام'!$D$7)+1),ROW(12:12))),\"\")","v":""},{"$f":"IF(ROW(12:12)<=COUNTIF('اسناد الأقسام'!$D$7:$D$78,التجميع!$B$107),INDEX('اسناد الأقسام'!D$7:D$78,SMALL(IF('اسناد الأقسام'!$D$7:$D$78=التجميع!$B$107,ROW('اسناد الأقسام'!$D$7:$D$78)-ROW('اسناد الأقسام'!$D$7)+1),ROW(12:12))),\"\")","v":""},{"$f":"IF(ROW(12:12)<=COUNTIF('اسناد الأقسام'!$D$7:$D$78,التجميع!$B$107),INDEX('اسناد الأقسام'!E$7:E$78,SMALL(IF('اسناد الأقسام'!$D$7:$D$78=التجميع!$B$107,ROW('اسناد الأقسام'!$D$7:$D$78)-ROW('اسناد الأقسام'!$D$7)+1),ROW(12:12))),\"\")","v":""},{"$f":"IF(ROW(12:12)<=COUNTIF('اسناد الأقسام'!$D$7:$D$78,التجميع!$B$107),INDEX('اسناد الأقسام'!F$7:F$78,SMALL(IF('اسناد الأقسام'!$D$7:$D$78=التجميع!$B$107,ROW('اسناد الأقسام'!$D$7:$D$78)-ROW('اسناد الأقسام'!$D$7)+1),ROW(12:12))),\"\")","v":""},{"$f":"IF(ROW(12:12)<=COUNTIF('اسناد الأقسام'!$D$7:$D$78,التجميع!$B$107),INDEX('اسناد الأقسام'!G$7:G$78,SMALL(IF('اسناد الأقسام'!$D$7:$D$78=التجميع!$B$107,ROW('اسناد الأقسام'!$D$7:$D$78)-ROW('اسناد الأقسام'!$D$7)+1),ROW(12:12))),\"\")","v":""},{"$f":"IF(ROW(12:12)<=COUNTIF('اسناد الأقسام'!$D$7:$D$78,التجميع!$B$107),INDEX('اسناد الأقسام'!H$7:H$78,SMALL(IF('اسناد الأقسام'!$D$7:$D$78=التجميع!$B$107,ROW('اسناد الأقسام'!$D$7:$D$78)-ROW('اسناد الأقسام'!$D$7)+1),ROW(12:12))),\"\")","v":""},{"$f":"IF(ROW(12:12)<=COUNTIF('اسناد الأقسام'!$D$7:$D$78,التجميع!$B$107),INDEX('اسناد الأقسام'!I$7:I$78,SMALL(IF('اسناد الأقسام'!$D$7:$D$78=التجميع!$B$107,ROW('اسناد الأقسام'!$D$7:$D$78)-ROW('اسناد الأقسام'!$D$7)+1),ROW(12:12))),\"\")","v":""},{"$f":"IF(ROW(12:12)<=COUNTIF('اسناد الأقسام'!$D$7:$D$78,التجميع!$B$107),INDEX('اسناد الأقسام'!J$7:J$78,SMALL(IF('اسناد الأقسام'!$D$7:$D$78=التجميع!$B$107,ROW('اسناد الأقسام'!$D$7:$D$78)-ROW('اسناد الأقسام'!$D$7)+1),ROW(12:12))),\"\")","v":""},{"$f":"IF(ROW(12:12)<=COUNTIF('اسناد الأقسام'!$D$7:$D$78,التجميع!$B$107),INDEX('اسناد الأقسام'!K$7:K$78,SMALL(IF('اسناد الأقسام'!$D$7:$D$78=التجميع!$B$107,ROW('اسناد الأقسام'!$D$7:$D$78)-ROW('اسناد الأقسام'!$D$7)+1),ROW(12:12))),\"\")","v":""},{"$f":"IF(ROW(12:12)<=COUNTIF('اسناد الأقسام'!$D$7:$D$78,التجميع!$B$107),INDEX('اسناد الأقسام'!L$7:L$78,SMALL(IF('اسناد الأقسام'!$D$7:$D$78=التجميع!$B$107,ROW('اسناد الأقسام'!$D$7:$D$78)-ROW('اسناد الأقسام'!$D$7)+1),ROW(12:12))),\"\")","v":""},{"$f":"IF(ROW(12:12)<=COUNTIF('اسناد الأقسام'!$D$7:$D$78,التجميع!$B$107),INDEX('اسناد الأقسام'!M$7:M$78,SMALL(IF('اسناد الأقسام'!$D$7:$D$78=التجميع!$B$107,ROW('اسناد الأقسام'!$D$7:$D$78)-ROW('اسناد الأقسام'!$D$7)+1),ROW(12:12))),\"\")","v":""},{"$f":"IF(ROW(12:12)<=COUNTIF('اسناد الأقسام'!$D$7:$D$78,التجميع!$B$107),INDEX('اسناد الأقسام'!N$7:N$78,SMALL(IF('اسناد الأقسام'!$D$7:$D$78=التجميع!$B$107,ROW('اسناد الأقسام'!$D$7:$D$78)-ROW('اسناد الأقسام'!$D$7)+1),ROW(12:12))),\"\")","v":""},{"$f":"IF(ROW(12:12)<=COUNTIF('اسناد الأقسام'!$D$7:$D$78,التجميع!$B$107),INDEX('اسناد الأقسام'!O$7:O$78,SMALL(IF('اسناد الأقسام'!$D$7:$D$78=التجميع!$B$107,ROW('اسناد الأقسام'!$D$7:$D$78)-ROW('اسناد الأقسام'!$D$7)+1),ROW(12:12))),\"\")","v":""},{"$f":"IF(ROW(12:12)<=COUNTIF('اسناد الأقسام'!$D$7:$D$78,التجميع!$B$107),INDEX('اسناد الأقسام'!P$7:P$78,SMALL(IF('اسناد الأقسام'!$D$7:$D$78=التجميع!$B$107,ROW('اسناد الأقسام'!$D$7:$D$78)-ROW('اسناد الأقسام'!$D$7)+1),ROW(12:12))),\"\")","v":""},{"$f":"IF(ROW(12:12)<=COUNTIF('اسناد الأقسام'!$D$7:$D$78,التجميع!$B$107),INDEX('اسناد الأقسام'!Q$7:Q$78,SMALL(IF('اسناد الأقسام'!$D$7:$D$78=التجميع!$B$107,ROW('اسناد الأقسام'!$D$7:$D$78)-ROW('اسناد الأقسام'!$D$7)+1),ROW(12:12))),\"\")","v":""}]
[]
[null,"رسم"]
["الرقم","اللقب والاسم","المادة","تاريخ الميلاد","الصفة","أقصى درجة جامعية","تاريخ التعيين بالمؤسسة","الأقسام المسندة"]
[1,{"$f":"IF(ROW(1:1)<=COUNTIF('اسناد الأقسام'!$D$7:$D$78,التجميع!$B$122),INDEX('اسناد الأقسام'!C$7:C$78,SMALL(IF('اسناد الأقسام'!$D$7:$D$78=التجميع!$B$122,ROW('اسناد الأقسام'!$D$7:$D$78)-ROW('اسناد الأقسام'!$D$7)+1),ROW(1:1))),\"\")","v":"جليد الميلود"},{"$f":"IF(ROW(1:1)<=COUNTIF('اسناد الأقسام'!$D$7:$D$78,التجميع!$B$122),INDEX('اسناد الأقسام'!D$7:D$78,SMALL(IF('اسناد الأقسام'!$D$7:$D$78=التجميع!$B$122,ROW('اسناد الأقسام'!$D$7:$D$78)-ROW('اسناد الأقسام'!$D$7)+1),ROW(1:1))),\"\")","v":"رسم"},{"$f":"IF(ROW(1:1)<=COUNTIF('اسناد الأقسام'!$D$7:$D$78,التجميع!$B$122),INDEX('اسناد الأقسام'!E$7:E$78,SMALL(IF('اسناد الأقسام'!$D$7:$D$78=التجميع!$B$122,ROW('اسناد الأقسام'!$D$7:$D$78)-ROW('اسناد الأقسام'!$D$7)+1),ROW(1:1))),\"\")","v":"1975-04-27"},{"$f":"IF(ROW(1:1)<=COUNTIF('اسناد الأقسام'!$D$7:$D$78,التجميع!$B$122),INDEX('اسناد الأقسام'!F$7:F$78,SMALL(IF('اسناد الأقسام'!$D$7:$D$78=التجميع!$B$122,ROW('اسناد الأقسام'!$D$7:$D$78)-ROW('اسناد الأقسام'!$D$7)+1),ROW(1:1))),\"\")","v":"مرسمة"},{"$f":"IF(ROW(1:1)<=COUNTIF('اسناد الأقسام'!$D$7:$D$78,التجميع!$B$122),INDEX('اسناد الأقسام'!G$7:G$78,SMALL(IF('اسناد الأقسام'!$D$7:$D$78=التجميع!$B$122,ROW('اسناد الأقسام'!$D$7:$D$78)-ROW('اسناد الأقسام'!$D$7)+1),ROW(1:1))),\"\")","v":"ليسانس"},{"$f":"IF(ROW(1:1)<=COUNTIF('اسناد الأقسام'!$D$7:$D$78,التجميع!$B$122),INDEX('اسناد الأقسام'!H$7:H$78,SMALL(IF('اسناد الأقسام'!$D$7:$D$78=التجميع!$B$122,ROW('اسناد الأقسام'!$D$7:$D$78)-ROW('اسناد الأقسام'!$D$7)+1),ROW(1:1))),\"\")","v":"1985-06-16"},{"$f":"IF(ROW(1:1)<=COUNTIF('اسناد الأقسام'!$D$7:$D$78,التجميع!$B$122),INDEX('اسناد الأقسام'!I$7:I$78,SMALL(IF('اسناد الأقسام'!$D$7:$D$78=التجميع!$B$122,ROW('اسناد الأقسام'!$D$7:$D$78)-ROW('اسناد الأقسام'!$D$7)+1),ROW(1:1))),\"\")","v":"4م1"},{"$f":"IF(ROW(1:1)<=COUNTIF('اسناد الأقسام'!$D$7:$D$78,التجميع!$B$122),INDEX('اسناد الأقسام'!J$7:J$78,SMALL(IF('اسناد الأقسام'!$D$7:$D$78=التجميع!$B$122,ROW('اسناد الأقسام'!$D$7:$D$78)-ROW('اسناد الأقسام'!$D$7)+1),ROW(1:1))),\"\")","v":"4م2"},{"$f":"IF(ROW(1:1)<=COUNTIF('اسناد الأقسام'!$D$7:$D$78,التجميع!$B$122),INDEX('اسناد الأقسام'!K$7:K$78,SMALL(IF('اسناد الأقسام'!$D$7:$D$78=التجميع!$B$122,ROW('اسناد الأقسام'!$D$7:$D$78)-ROW('اسناد الأقسام'!$D$7)+1),ROW(1:1))),\"\")","v":"3م1"},{"$f":"IF(ROW(1:1)<=COUNTIF('اسناد الأقسام'!$D$7:$D$78,التجميع!$B$122),INDEX('اسناد الأقسام'!L$7:L$78,SMALL(IF('اسناد الأقسام'!$D$7:$D$78=التجميع!$B$122,ROW('اسناد الأقسام'!$D$7:$D$78)-ROW('اسناد الأقسام'!$D$7)+1),ROW(1:1))),\"\")","v":"3م2"},{"$f":"IF(ROW(1:1)<=COUNTIF('اسناد الأقسام'!$D$7:$D$78,التجميع!$B$122),INDEX('اسناد الأقسام'!M$7:M$78,SMALL(IF('اسناد الأقسام'!$D$7:$D$78=التجميع!$B$122,ROW('اسناد الأقسام'!$D$7:$D$78)-ROW('اسناد الأقسام'!$D$7)+1),ROW(1:1))),\"\")","v":"2م1"},{"$f":"IF(ROW(1:1)<=COUNTIF('اسناد الأقسام'!$D$7:$D$78,التجميع!$B$122),INDEX('اسناد الأقسام'!N$7:N$78,SMALL(IF('اسناد الأقسام'!$D$7:$D$78=التجميع!$B$122,ROW('اسناد الأقسام'!$D$7:$D$78)-ROW('اسناد الأقسام'!$D$7)+1),ROW(1:1))),\"\")","v":"2م2"},{"$f":"IF(ROW(1:1)<=COUNTIF('اسناد الأقسام'!$D$7:$D$78,التجميع!$B$122),INDEX('اسناد الأقسام'!O$7:O$78,SMALL(IF('اسناد الأقسام'!$D$7:$D$78=التجميع!$B$122,ROW('اسناد الأقسام'!$D$7:$D$78)-ROW('اسناد الأقسام'!$D$7)+1),ROW(1:1))),\"\")","v":"2م3"},{"$f":"IF(ROW(1:1)<=COUNTIF('اسناد الأقسام'!$D$7:$D$78,التجميع!$B$122),INDEX('اسناد الأقسام'!P$7:P$78,SMALL(IF('اسناد الأقسام'!$D$7:$D$78=التجميع!$B$122,ROW('اسناد الأقسام'!$D$7:$D$78)-ROW('اسناد الأقسام'!$D$7)+1),ROW(1:1))),\"\")","v":"1م1"},{"$f":"IF(ROW(1:1)<=COUNTIF('اسناد الأقسام'!$D$7:$D$78,التجميع!$B$122),INDEX('اسناد الأقسام'!Q$7:Q$78,SMALL(IF('اسناد الأقسام'!$D$7:$D$78=التجميع!$B$122,ROW('اسناد الأقسام'!$D$7:$D$78)-ROW('اسناد الأقسام'!$D$7)+1),ROW(1:1))),\"\")","v":"1م2"},{"$f":"IF(ROW(1:1)<=COUNTIF('اسناد الأقسام'!$D$7:$D$78,التجميع!$B$122),INDEX('اسناد الأقسام'!R$7:R$78,SMALL(IF('اسناد الأقسام'!$D$7:$D$78=التجميع!$B$122,ROW('اسناد الأقسام'!$D$7:$D$78)-ROW('اسناد الأقسام'!$D$7)+1),ROW(1:1))),\"\")","v":"1م3"},{"$f":"IF(ROW(1:1)<=COUNTIF('اسناد الأقسام'!$D$7:$D$78,التجميع!$B$122),INDEX('اسناد الأقسام'!S$7:S$78,SMALL(IF('اسناد الأقسام'!$D$7:$D$78=التجميع!$B$122,ROW('اسناد الأقسام'!$D$7:$D$78)-ROW('اسناد الأقسام'!$D$7)+1),ROW(1:1))),\"\")","v":0},{"$f":"IF(ROW(1:1)<=COUNTIF('اسناد الأقسام'!$D$7:$D$78,التجميع!$B$122),INDEX('اسناد الأقسام'!T$7:T$78,SMALL(IF('اسناد الأقسام'!$D$7:$D$78=التجميع!$B$122,ROW('اسناد الأقسام'!$D$7:$D$78)-ROW('اسناد الأقسام'!$D$7)+1),ROW(1:1))),\"\")","v":0},{"$f":"IF(ROW(1:1)<=COUNTIF('اسناد الأقسام'!$D$7:$D$78,التجميع!$B$122),INDEX('اسناد الأقسام'!U$7:U$78,SMALL(IF('اسناد الأقسام'!$D$7:$D$78=التجميع!$B$122,ROW('اسناد الأقسام'!$D$7:$D$78)-ROW('اسناد الأقسام'!$D$7)+1),ROW(1:1))),\"\")","v":0},{"$f":"IF(ROW(1:1)<=COUNTIF('اسناد الأقسام'!$D$7:$D$78,التجميع!$B$122),INDEX('اسناد الأقسام'!V$7:V$78,SMALL(IF('اسناد الأقسام'!$D$7:$D$78=التجميع!$B$122,ROW('اسناد الأقسام'!$D$7:$D$78)-ROW('اسناد الأقسام'!$D$7)+1),ROW(1:1))),\"\")","v":0},{"$f":"IF(ROW(1:1)<=COUNTIF('اسناد الأقسام'!$D$7:$D$78,التجميع!$B$122),INDEX('اسناد الأقسام'!W$7:W$78,SMALL(IF('اسناد الأقسام'!$D$7:$D$78=التجميع!$B$122,ROW('اسناد الأقسام'!$D$7:$D$78)-ROW('اسناد الأقسام'!$D$7)+1),ROW(1:1))),\"\")","v":0},{"$f":"IF(ROW(1:1)<=COUNTIF('اسناد الأقسام'!$D$7:$D$78,التجميع!$B$122),INDEX('اسناد الأقسام'!X$7:X$78,SMALL(IF('اسناد الأقسام'!$D$7:$D$78=التجميع!$B$122,ROW('اسناد الأقسام'!$D$7:$D$78)-ROW('اسناد الأقسام'!$D$7)+1),ROW(1:1))),\"\")","v":0},{"$f":"IF(ROW(1:1)<=COUNTIF('اسناد الأقسام'!$D$7:$D$78,التجميع!$B$122),INDEX('اسناد الأقسام'!Y$7:Y$78,SMALL(IF('اسناد الأقسام'!$D$7:$D$78=التجميع!$B$122,ROW('اسناد الأقسام'!$D$7:$D$78)-ROW('اسناد الأقسام'!$D$7)+1),ROW(1:1))),\"\")","v":0},{"$f":"IF(ROW(1:1)<=COUNTIF('اسناد الأقسام'!$D$7:$D$78,التجميع!$B$122),INDEX('اسناد الأقسام'!Z$7:Z$78,SMALL(IF('اسناد الأقسام'!$D$7:$D$78=التجميع!$B$122,ROW('اسناد الأقسام'!$D$7:$D$78)-ROW('اسناد الأقسام'!$D$7)+1),ROW(1:1))),\"\")","v":0},{"$f":"IF(ROW(1:1)<=COUNTIF('اسناد الأقسام'!$D$7:$D$78,التجميع!$B$122),INDEX('اسناد الأقسام'!AA$7:AA$78,SMALL(IF('اسناد الأقسام'!$D$7:$D$78=التجميع!$B$122,ROW('اسناد الأقسام'!$D$7:$D$78)-ROW('اسناد الأقسام'!$D$7)+1),ROW(1:1))),\"\")","v":0},{"$f":"IF(ROW(1:1)<=COUNTIF('اسناد الأقسام'!$D$7:$D$78,التجميع!$B$122),INDEX('اسناد الأقسام'!AB$7:AB$78,SMALL(IF('اسناد الأقسام'!$D$7:$D$78=التجميع!$B$122,ROW('اسناد الأقسام'!$D$7:$D$78)-ROW('اسناد الأقسام'!$D$7)+1),ROW(1:1))),\"\")","v":0},{"$f":"IF(ROW(1:1)<=COUNTIF('اسناد الأقسام'!$D$7:$D$78,التجميع!$B$122),INDEX('اسناد الأقسام'!AC$7:AC$78,SMALL(IF('اسناد الأقسام'!$D$7:$D$78=التجميع!$B$122,ROW('اسناد الأقسام'!$D$7:$D$78)-ROW('اسناد الأقسام'!$D$7)+1),ROW(1:1))),\"\")","v":0}]
[2,{"$f":"IF(ROW(2:2)<=COUNTIF('اسناد الأقسام'!$D$7:$D$78,التجميع!$B$122),INDEX('اسناد الأقسام'!C$7:C$78,SMALL(IF('اسناد الأقسام'!$D$7:$D$78=التجميع!$B$122,ROW('اسناد الأقسام'!$D$7:$D$78)-ROW('اسناد الأقسام'!$D$7)+1),ROW(2:2))),\"\")","v":""},{"$f":"IF(ROW(2:2)<=COUNTIF('اسناد الأقسام'!$D$7:$D$78,التجميع!$B$122),INDEX('اسناد الأقسام'!D$7:D$78,SMALL(IF('اسناد الأقسام'!$D$7:$D$78=التجميع!$B$122,ROW('اسناد الأقسام'!$D$7:$D$78)-ROW('اسناد الأقسام'!$D$7)+1),ROW(2:2))),\"\")","v":""},{"$f":"IF(ROW(2:2)<=COUNTIF('اسناد الأقسام'!$D$7:$D$78,التجميع!$B$122),INDEX('اسناد الأقسام'!E$7:E$78,SMALL(IF('اسناد الأقسام'!$D$7:$D$78=التجميع!$B$122,ROW('اسناد الأقسام'!$D$7:$D$78)-ROW('اسناد الأقسام'!$D$7)+1),ROW(2:2))),\"\")","v":""},{"$f":"IF(ROW(2:2)<=COUNTIF('اسناد الأقسام'!$D$7:$D$78,التجميع!$B$122),INDEX('اسناد الأقسام'!F$7:F$78,SMALL(IF('اسناد الأقسام'!$D$7:$D$78=التجميع!$B$122,ROW('اسناد الأقسام'!$D$7:$D$78)-ROW('اسناد الأقسام'!$D$7)+1),ROW(2:2))),\"\")","v":""},{"$f":"IF(ROW(2:2)<=COUNTIF('اسناد الأقسام'!$D$7:$D$78,التجميع!$B$122),INDEX('اسناد الأقسام'!G$7:G$78,SMALL(IF('اسناد الأقسام'!$D$7:$D$78=التجميع!$B$122,ROW('اسناد الأقسام'!$D$7:$D$78)-ROW('اسناد الأقسام'!$D$7)+1),ROW(2:2))),\"\")","v":""},{"$f":"IF(ROW(2:2)<=COUNTIF('اسناد الأقسام'!$D$7:$D$78,التجميع!$B$122),INDEX('اسناد الأقسام'!H$7:H$78,SMALL(IF('اسناد الأقسام'!$D$7:$D$78=التجميع!$B$122,ROW('اسناد الأقسام'!$D$7:$D$78)-ROW('اسناد الأقسام'!$D$7)+1),ROW(2:2))),\"\")","v":""},{"$f":"IF(ROW(2:2)<=COUNTIF('اسناد الأقسام'!$D$7:$D$78,التجميع!$B$122),INDEX('اسناد الأقسام'!I$7:I$78,SMALL(IF('اسناد الأقسام'!$D$7:$D$78=التجميع!$B$122,ROW('اسناد الأقسام'!$D$7:$D$78)-ROW('اسناد الأقسام'!$D$7)+1),ROW(2:2))),\"\")","v":""},{"$f":"IF(ROW(2:2)<=COUNTIF('اسناد الأقسام'!$D$7:$D$78,التجميع!$B$122),INDEX('اسناد الأقسام'!J$7:J$78,SMALL(IF('اسناد الأقسام'!$D$7:$D$78=التجميع!$B$122,ROW('اسناد الأقسام'!$D$7:$D$78)-ROW('اسناد الأقسام'!$D$7)+1),ROW(2:2))),\"\")","v":""},{"$f":"IF(ROW(2:2)<=COUNTIF('اسناد الأقسام'!$D$7:$D$78,التجميع!$B$122),INDEX('اسناد الأقسام'!K$7:K$78,SMALL(IF('اسناد الأقسام'!$D$7:$D$78=التجميع!$B$122,ROW('اسناد الأقسام'!$D$7:$D$78)-ROW('اسناد الأقسام'!$D$7)+1),ROW(2:2))),\"\")","v":""},{"$f":"IF(ROW(2:2)<=COUNTIF('اسناد الأقسام'!$D$7:$D$78,التجميع!$B$122),INDEX('اسناد الأقسام'!L$7:L$78,SMALL(IF('اسناد الأقسام'!$D$7:$D$78=التجميع!$B$122,ROW('اسناد الأقسام'!$D$7:$D$78)-ROW('اسناد الأقسام'!$D$7)+1),ROW(2:2))),\"\")","v":""},{"$f":"IF(ROW(2:2)<=COUNTIF('اسناد الأقسام'!$D$7:$D$78,التجميع!$B$122),INDEX('اسناد الأقسام'!M$7:M$78,SMALL(IF('اسناد الأقسام'!$D$7:$D$78=التجميع!$B$122,ROW('اسناد الأقسام'!$D$7:$D$78)-ROW('اسناد الأقسام'!$D$7)+1),ROW(2:2))),\"\")","v":""},{"$f":"IF(ROW(2:2)<=COUNTIF('اسناد الأقسام'!$D$7:$D$78,التجميع!$B$122),INDEX('اسناد الأقسام'!N$7:N$78,SMALL(IF('اسناد الأقسام'!$D$7:$D$78=التجميع!$B$122,ROW('اسناد الأقسام'!$D$7:$D$78)-ROW('اسناد الأقسام'!$D$7)+1),ROW(2:2))),\"\")","v":""},{"$f":"IF(ROW(2:2)<=COUNTIF('اسناد الأقسام'!$D$7:$D$78,التجميع!$B$122),INDEX('اسناد الأقسام'!O$7:O$78,SMALL(IF('اسناد الأقسام'!$D$7:$D$78=التجميع!$B$122,ROW('اسناد الأقسام'!$D$7:$D$78)-ROW('اسناد الأقسام'!$D$7)+1),ROW(2:2))),\"\")","v":""},{"$f":"IF(ROW(2:2)<=COUNTIF('اسناد الأقسام'!$D$7:$D$78,التجميع!$B$122),INDEX('اسناد الأقسام'!P$7:P$78,SMALL(IF('اسناد الأقسام'!$D$7:$D$78=التجميع!$B$122,ROW('اسناد الأقسام'!$D$7:$D$78)-ROW('اسناد الأقسام'!$D$7)+1),ROW(2:2))),\"\")","v":""},{"$f":"IF(ROW(2:2)<=COUNTIF('اسناد الأقسام'!$D$7:$D$78,التجميع!$B$122),INDEX('اسناد الأقسام'!Q$7:Q$78,SMALL(IF('اسناد الأقسام'!$D$7:$D$78=التجميع!$B$122,ROW('اسناد الأقسام'!$D$7:$D$78)-ROW('اسناد الأقسام'!$D$7)+1),ROW(2:2))),\"\")","v":""},{"$f":"IF(ROW(2:2)<=COUNTIF('اسناد الأقسام'!$D$7:$D$78,التجميع!$B$122),INDEX('اسناد الأقسام'!R$7:R$78,SMALL(IF('اسناد الأقسام'!$D$7:$D$78=التجميع!$B$122,ROW('اسناد الأقسام'!$D$7:$D$78)-ROW('اسناد الأقسام'!$D$7)+1),ROW(2:2))),\"\")","v":""},{"$f":"IF(ROW(2:2)<=COUNTIF('اسناد الأقسام'!$D$7:$D$78,التجميع!$B$122),INDEX('اسناد الأقسام'!S$7:S$78,SMALL(IF('اسناد الأقسام'!$D$7:$D$78=التجميع!$B$122,ROW('اسناد الأقسام'!$D$7:$D$78)-ROW('اسناد الأقسام'!$D$7)+1),ROW(2:2))),\"\")","v":""},{"$f":"IF(ROW(2:2)<=COUNTIF('اسناد الأقسام'!$D$7:$D$78,التجميع!$B$122),INDEX('اسناد الأقسام'!T$7:T$78,SMALL(IF('اسناد الأقسام'!$D$7:$D$78=التجميع!$B$122,ROW('اسناد الأقسام'!$D$7:$D$78)-ROW('اسناد الأقسام'!$D$7)+1),ROW(2:2))),\"\")","v":""},{"$f":"IF(ROW(2:2)<=COUNTIF('اسناد الأقسام'!$D$7:$D$78,التجميع!$B$122),INDEX('اسناد الأقسام'!U$7:U$78,SMALL(IF('اسناد الأقسام'!$D$7:$D$78=التجميع!$B$122,ROW('اسناد الأقسام'!$D$7:$D$78)-ROW('اسناد الأقسام'!$D$7)+1),ROW(2:2))),\"\")","v":""},{"$f":"IF(ROW(2:2)<=COUNTIF('اسناد الأقسام'!$D$7:$D$78,التجميع!$B$122),INDEX('اسناد الأقسام'!V$7:V$78,SMALL(IF('اسناد الأقسام'!$D$7:$D$78=التجميع!$B$122,ROW('اسناد الأقسام'!$D$7:$D$78)-ROW('اسناد الأقسام'!$D$7)+1),ROW(2:2))),\"\")","v":""},{"$f":"IF(ROW(2:2)<=COUNTIF('اسناد الأقسام'!$D$7:$D$78,التجميع!$B$122),INDEX('اسناد الأقسام'!W$7:W$78,SMALL(IF('اسناد الأقسام'!$D$7:$D$78=التجميع!$B$122,ROW('اسناد الأقسام'!$D$7:$D$78)-ROW('اسناد الأقسام'!$D$7)+1),ROW(2:2))),\"\")","v":""},{"$f":"IF(ROW(2:2)<=COUNTIF('اسناد الأقسام'!$D$7:$D$78,التجميع!$B$122),INDEX('اسناد الأقسام'!X$7:X$78,SMALL(IF('اسناد الأقسام'!$D$7:$D$78=التجميع!$B$122,ROW('اسناد الأقسام'!$D$7:$D$78)-ROW('اسناد الأقسام'!$D$7)+1),ROW(2:2))),\"\")","v":""},{"$f":"IF(ROW(2:2)<=COUNTIF('اسناد الأقسام'!$D$7:$D$78,التجميع!$B$122),INDEX('اسناد الأقسام'!Y$7:Y$78,SMALL(IF('اسناد الأقسام'!$D$7:$D$78=التجميع!$B$122,ROW('اسناد الأقسام'!$D$7:$D$78)-ROW('اسناد الأقسام'!$D$7)+1),ROW(2:2))),\"\")","v":""},{"$f":"IF(ROW(2:2)<=COUNTIF('اسناد الأقسام'!$D$7:$D$78,التجميع!$B$122),INDEX('اسناد الأقسام'!Z$7:Z$78,SMALL(IF('اسناد الأقسام'!$D$7:$D$78=التجميع!$B$122,ROW('اسناد الأقسام'!$D$7:$D$78)-ROW('اسناد الأقسام'!$D$7)+1),ROW(2:2))),\"\")","v":""},{"$f":"IF(ROW(2:2)<=COUNTIF('اسناد الأقسام'!$D$7:$D$78,التجميع!$B$122),INDEX('اسناد الأقسام'!AA$7:AA$78,SMALL(IF('اسناد الأقسام'!$D$7:$D$78=التجميع!$B$122,ROW('اسناد الأقسام'!$D$7:$D$78)-ROW('اسناد الأقسام'!$D$7)+1),ROW(2:2))),\"\")","v":""},{"$f":"IF(ROW(2:2)<=COUNTIF('اسناد الأقسام'!$D$7:$D$78,التجميع!$B$122),INDEX('اسناد الأقسام'!AB$7:AB$78,SMALL(IF('اسناد الأقسام'!$D$7:$D$78=التجميع!$B$122,ROW('اسناد الأقسام'!$D$7:$D$78)-ROW('اسناد الأقسام'!$D$7)+1),ROW(2:2))),\"\")","v":""},{"$f":"IF(ROW(2:2)<=COUNTIF('اسناد الأقسام'!$D$7:$D$78,التجميع!$B$122),INDEX('اسناد الأقسام'!AC$7:AC$78,SMALL(IF('اسناد الأقسام'!$D$7:$D$78=التجميع!$B$122,ROW('اسناد الأقسام'!$D$7:$D$78)-ROW('اسناد الأقسام'!$D$7)+1),ROW(2:2))),\"\")","v":""}]
[3,{"$f":"IF(ROW(3:3)<=COUNTIF('اسناد الأقسام'!$D$7:$D$78,التجميع!$B$122),INDEX('اسناد الأقسام'!C$7:C$78,SMALL(IF('اسناد الأقسام'!$D$7:$D$78=التجميع!$B$122,ROW('اسناد الأقسام'!$D$7:$D$78)-ROW('اسناد الأقسام'!$D$7)+1),ROW(3:3))),\"\")","v":""},{"$f":"IF(ROW(3:3)<=COUNTIF('اسناد الأقسام'!$D$7:$D$78,التجميع!$B$122),INDEX('اسناد الأقسام'!D$7:D$78,SMALL(IF('اسناد الأقسام'!$D$7:$D$78=التجميع!$B$122,ROW('اسناد الأقسام'!$D$7:$D$78)-ROW('اسناد الأقسام'!$D$7)+1),ROW(3:3))),\"\")","v":""},{"$f":"IF(ROW(3:3)<=COUNTIF('اسناد الأقسام'!$D$7:$D$78,التجميع!$B$122),INDEX('اسناد الأقسام'!E$7:E$78,SMALL(IF('اسناد الأقسام'!$D$7:$D$78=التجميع!$B$122,ROW('اسناد الأقسام'!$D$7:$D$78)-ROW('اسناد الأقسام'!$D$7)+1),ROW(3:3))),\"\")","v":""},{"$f":"IF(ROW(3:3)<=COUNTIF('اسناد الأقسام'!$D$7:$D$78,التجميع!$B$122),INDEX('اسناد الأقسام'!F$7:F$78,SMALL(IF('اسناد الأقسام'!$D$7:$D$78=التجميع!$B$122,ROW('اسناد الأقسام'!$D$7:$D$78)-ROW('اسناد الأقسام'!$D$7)+1),ROW(3:3))),\"\")","v":""},{"$f":"IF(ROW(3:3)<=COUNTIF('اسناد الأقسام'!$D$7:$D$78,التجميع!$B$122),INDEX('اسناد الأقسام'!G$7:G$78,SMALL(IF('اسناد الأقسام'!$D$7:$D$78=التجميع!$B$122,ROW('اسناد الأقسام'!$D$7:$D$78)-ROW('اسناد الأقسام'!$D$7)+1),ROW(3:3))),\"\")","v":""},{"$f":"IF(ROW(3:3)<=COUNTIF('اسناد الأقسام'!$D$7:$D$78,التجميع!$B$122),INDEX('اسناد الأقسام'!H$7:H$78,SMALL(IF('اسناد الأقسام'!$D$7:$D$78=التجميع!$B$122,ROW('اسناد الأقسام'!$D$7:$D$78)-ROW('اسناد الأقسام'!$D$7)+1),ROW(3:3))),\"\")","v":""},{"$f":"IF(ROW(3:3)<=COUNTIF('اسناد الأقسام'!$D$7:$D$78,التجميع!$B$122),INDEX('اسناد الأقسام'!I$7:I$78,SMALL(IF('اسناد الأقسام'!$D$7:$D$78=التجميع!$B$122,ROW('اسناد الأقسام'!$D$7:$D$78)-ROW('اسناد الأقسام'!$D$7)+1),ROW(3:3))),\"\")","v":""},{"$f":"IF(ROW(3:3)<=COUNTIF('اسناد الأقسام'!$D$7:$D$78,التجميع!$B$122),INDEX('اسناد الأقسام'!J$7:J$78,SMALL(IF('اسناد الأقسام'!$D$7:$D$78=التجميع!$B$122,ROW('اسناد الأقسام'!$D$7:$D$78)-ROW('اسناد الأقسام'!$D$7)+1),ROW(3:3))),\"\")","v":""},{"$f":"IF(ROW(3:3)<=COUNTIF('اسناد الأقسام'!$D$7:$D$78,التجميع!$B$122),INDEX('اسناد الأقسام'!K$7:K$78,SMALL(IF('اسناد الأقسام'!$D$7:$D$78=التجميع!$B$122,ROW('اسناد الأقسام'!$D$7:$D$78)-ROW('اسناد الأقسام'!$D$7)+1),ROW(3:3))),\"\")","v":""},{"$f":"IF(ROW(3:3)<=COUNTIF('اسناد الأقسام'!$D$7:$D$78,التجميع!$B$122),INDEX('اسناد الأقسام'!L$7:L$78,SMALL(IF('اسناد الأقسام'!$D$7:$D$78=التجميع!$B$122,ROW('اسناد الأقسام'!$D$7:$D$78)-ROW('اسناد الأقسام'!$D$7)+1),ROW(3:3))),\"\")","v":""},{"$f":"IF(ROW(3:3)<=COUNTIF('اسناد الأقسام'!$D$7:$D$78,التجميع!$B$122),INDEX('اسناد الأقسام'!M$7:M$78,SMALL(IF('اسناد الأقسام'!$D$7:$D$78=التجميع!$B$122,ROW('اسناد الأقسام'!$D$7:$D$78)-ROW('اسناد الأقسام'!$D$7)+1),ROW(3:3))),\"\")","v":""},{"$f":"IF(ROW(3:3)<=COUNTIF('اسناد الأقسام'!$D$7:$D$78,التجميع!$B$122),INDEX('اسناد الأقسام'!N$7:N$78,SMALL(IF('اسناد الأقسام'!$D$7:$D$78=التجميع!$B$122,ROW('اسناد الأقسام'!$D$7:$D$78)-ROW('اسناد الأقسام'!$D$7)+1),ROW(3:3))),\"\")","v":""},{"$f":"IF(ROW(3:3)<=COUNTIF('اسناد الأقسام'!$D$7:$D$78,التجميع!$B$122),INDEX('اسناد الأقسام'!O$7:O$78,SMALL(IF('اسناد الأقسام'!$D$7:$D$78=التجميع!$B$122,ROW('اسناد الأقسام'!$D$7:$D$78)-ROW('اسناد الأقسام'!$D$7)+1),ROW(3:3))),\"\")","v":""},{"$f":"IF(ROW(3:3)<=COUNTIF('اسناد الأقسام'!$D$7:$D$78,التجميع!$B$122),INDEX('اسناد الأقسام'!P$7:P$78,SMALL(IF('اسناد الأقسام'!$D$7:$D$78=التجميع!$B$122,ROW('اسناد الأقسام'!$D$7:$D$78)-ROW('اسناد الأقسام'!$D$7)+1),ROW(3:3))),\"\")","v":""},{"$f":"IF(ROW(3:3)<=COUNTIF('اسناد الأقسام'!$D$7:$D$78,التجميع!$B$122),INDEX('اسناد الأقسام'!Q$7:Q$78,SMALL(IF('اسناد الأقسام'!$D$7:$D$78=التجميع!$B$122,ROW('اسناد الأقسام'!$D$7:$D$78)-ROW('اسناد الأقسام'!$D$7)+1),ROW(3:3))),\"\")","v":""},{"$f":"IF(ROW(3:3)<=COUNTIF('اسناد الأقسام'!$D$7:$D$78,التجميع!$B$122),INDEX('اسناد الأقسام'!R$7:R$78,SMALL(IF('اسناد الأقسام'!$D$7:$D$78=التجميع!$B$122,ROW('اسناد الأقسام'!$D$7:$D$78)-ROW('اسناد الأقسام'!$D$7)+1),ROW(3:3))),\"\")","v":""},{"$f":"IF(ROW(3:3)<=COUNTIF('اسناد الأقسام'!$D$7:$D$78,التجميع!$B$122),INDEX('اسناد الأقسام'!S$7:S$78,SMALL(IF('اسناد الأقسام'!$D$7:$D$78=التجميع!$B$122,ROW('اسناد الأقسام'!$D$7:$D$78)-ROW('اسناد الأقسام'!$D$7)+1),ROW(3:3))),\"\")","v":""},{"$f":"IF(ROW(3:3)<=COUNTIF('اسناد الأقسام'!$D$7:$D$78,التجميع!$B$122),INDEX('اسناد الأقسام'!T$7:T$78,SMALL(IF('اسناد الأقسام'!$D$7:$D$78=التجميع!$B$122,ROW('اسناد الأقسام'!$D$7:$D$78)-ROW('اسناد الأقسام'!$D$7)+1),ROW(3:3))),\"\")","v":""},{"$f":"IF(ROW(3:3)<=COUNTIF('اسناد الأقسام'!$D$7:$D$78,التجميع!$B$122),INDEX('اسناد الأقسام'!U$7:U$78,SMALL(IF('اسناد الأقسام'!$D$7:$D$78=التجميع!$B$122,ROW('اسناد الأقسام'!$D$7:$D$78)-ROW('اسناد الأقسام'!$D$7)+1),ROW(3:3))),\"\")","v":""},{"$f":"IF(ROW(3:3)<=COUNTIF('اسناد الأقسام'!$D$7:$D$78,التجميع!$B$122),INDEX('اسناد الأقسام'!V$7:V$78,SMALL(IF('اسناد الأقسام'!$D$7:$D$78=التجميع!$B$122,ROW('اسناد الأقسام'!$D$7:$D$78)-ROW('اسناد الأقسام'!$D$7)+1),ROW(3:3))),\"\")","v":""},{"$f":"IF(ROW(3:3)<=COUNTIF('اسناد الأقسام'!$D$7:$D$78,التجميع!$B$122),INDEX('اسناد الأقسام'!W$7:W$78,SMALL(IF('اسناد الأقسام'!$D$7:$D$78=التجميع!$B$122,ROW('اسناد الأقسام'!$D$7:$D$78)-ROW('اسناد الأقسام'!$D$7)+1),ROW(3:3))),\"\")","v":""},{"$f":"IF(ROW(3:3)<=COUNTIF('اسناد الأقسام'!$D$7:$D$78,التجميع!$B$122),INDEX('اسناد الأقسام'!X$7:X$78,SMALL(IF('اسناد الأقسام'!$D$7:$D$78=التجميع!$B$122,ROW('اسناد الأقسام'!$D$7:$D$78)-ROW('اسناد الأقسام'!$D$7)+1),ROW(3:3))),\"\")","v":""},{"$f":"IF(ROW(3:3)<=COUNTIF('اسناد الأقسام'!$D$7:$D$78,التجميع!$B$122),INDEX('اسناد الأقسام'!Y$7:Y$78,SMALL(IF('اسناد الأقسام'!$D$7:$D$78=التجميع!$B$122,ROW('اسناد الأقسام'!$D$7:$D$78)-ROW('اسناد الأقسام'!$D$7)+1),ROW(3:3))),\"\")","v":""},{"$f":"IF(ROW(3:3)<=COUNTIF('اسناد الأقسام'!$D$7:$D$78,التجميع!$B$122),INDEX('اسناد الأقسام'!Z$7:Z$78,SMALL(IF('اسناد الأقسام'!$D$7:$D$78=التجميع!$B$122,ROW('اسناد الأقسام'!$D$7:$D$78)-ROW('اسناد الأقسام'!$D$7)+1),ROW(3:3))),\"\")","v":""},{"$f":"IF(ROW(3:3)<=COUNTIF('اسناد الأقسام'!$D$7:$D$78,التجميع!$B$122),INDEX('اسناد الأقسام'!AA$7:AA$78,SMALL(IF('اسناد الأقسام'!$D$7:$D$78=التجميع!$B$122,ROW('اسناد الأقسام'!$D$7:$D$78)-ROW('اسناد الأقسام'!$D$7)+1),ROW(3:3))),\"\")","v":""},{"$f":"IF(ROW(3:3)<=COUNTIF('اسناد الأقسام'!$D$7:$D$78,التجميع!$B$122),INDEX('اسناد الأقسام'!AB$7:AB$78,SMALL(IF('اسناد الأقسام'!$D$7:$D$78=التجميع!$B$122,ROW('اسناد الأقسام'!$D$7:$D$78)-ROW('اسناد الأقسام'!$D$7)+1),ROW(3:3))),\"\")","v":""},{"$f":"IF(ROW(3:3)<=COUNTIF('اسناد الأقسام'!$D$7:$D$78,التجميع!$B$122),INDEX('اسناد الأقسام'!AC$7:AC$78,SMALL(IF('اسناد الأقسام'!$D$7:$D$78=التجميع!$B$122,ROW('اسناد الأقسام'!$D$7:$D$78)-ROW('اسناد الأقسام'!$D$7)+1),ROW(3:3))),\"\")","v":""}]
[4,{"$f":"IF(ROW(4:4)<=COUNTIF('اسناد الأقسام'!$D$7:$D$78,التجميع!$B$122),INDEX('اسناد الأقسام'!C$7:C$78,SMALL(IF('اسناد الأقسام'!$D$7:$D$78=التجميع!$B$122,ROW('اسناد الأقسام'!$D$7:$D$78)-ROW('اسناد الأقسام'!$D$7)+1),ROW(4:4))),\"\")","v":""},{"$f":"IF(ROW(4:4)<=COUNTIF('اسناد الأقسام'!$D$7:$D$78,التجميع!$B$122),INDEX('اسناد الأقسام'!D$7:D$78,SMALL(IF('اسناد الأقسام'!$D$7:$D$78=التجميع!$B$122,ROW('اسناد الأقسام'!$D$7:$D$78)-ROW('اسناد الأقسام'!$D$7)+1),ROW(4:4))),\"\")","v":""},{"$f":"IF(ROW(4:4)<=COUNTIF('اسناد الأقسام'!$D$7:$D$78,التجميع!$B$122),INDEX('اسناد الأقسام'!E$7:E$78,SMALL(IF('اسناد الأقسام'!$D$7:$D$78=التجميع!$B$122,ROW('اسناد الأقسام'!$D$7:$D$78)-ROW('اسناد الأقسام'!$D$7)+1),ROW(4:4))),\"\")","v":""},{"$f":"IF(ROW(4:4)<=COUNTIF('اسناد الأقسام'!$D$7:$D$78,التجميع!$B$122),INDEX('اسناد الأقسام'!F$7:F$78,SMALL(IF('اسناد الأقسام'!$D$7:$D$78=التجميع!$B$122,ROW('اسناد الأقسام'!$D$7:$D$78)-ROW('اسناد الأقسام'!$D$7)+1),ROW(4:4))),\"\")","v":""},{"$f":"IF(ROW(4:4)<=COUNTIF('اسناد الأقسام'!$D$7:$D$78,التجميع!$B$122),INDEX('اسناد الأقسام'!G$7:G$78,SMALL(IF('اسناد الأقسام'!$D$7:$D$78=التجميع!$B$122,ROW('اسناد الأقسام'!$D$7:$D$78)-ROW('اسناد الأقسام'!$D$7)+1),ROW(4:4))),\"\")","v":""},{"$f":"IF(ROW(4:4)<=COUNTIF('اسناد الأقسام'!$D$7:$D$78,التجميع!$B$122),INDEX('اسناد الأقسام'!H$7:H$78,SMALL(IF('اسناد الأقسام'!$D$7:$D$78=التجميع!$B$122,ROW('اسناد الأقسام'!$D$7:$D$78)-ROW('اسناد الأقسام'!$D$7)+1),ROW(4:4))),\"\")","v":""},{"$f":"IF(ROW(4:4)<=COUNTIF('اسناد الأقسام'!$D$7:$D$78,التجميع!$B$122),INDEX('اسناد الأقسام'!I$7:I$78,SMALL(IF('اسناد الأقسام'!$D$7:$D$78=التجميع!$B$122,ROW('اسناد الأقسام'!$D$7:$D$78)-ROW('اسناد الأقسام'!$D$7)+1),ROW(4:4))),\"\")","v":""},{"$f":"IF(ROW(4:4)<=COUNTIF('اسناد الأقسام'!$D$7:$D$78,التجميع!$B$122),INDEX('اسناد الأقسام'!J$7:J$78,SMALL(IF('اسناد الأقسام'!$D$7:$D$78=التجميع!$B$122,ROW('اسناد الأقسام'!$D$7:$D$78)-ROW('اسناد الأقسام'!$D$7)+1),ROW(4:4))),\"\")","v":""},{"$f":"IF(ROW(4:4)<=COUNTIF('اسناد الأقسام'!$D$7:$D$78,التجميع!$B$122),INDEX('اسناد الأقسام'!K$7:K$78,SMALL(IF('اسناد الأقسام'!$D$7:$D$78=التجميع!$B$122,ROW('اسناد الأقسام'!$D$7:$D$78)-ROW('اسناد الأقسام'!$D$7)+1),ROW(4:4))),\"\")","v":""},{"$f":"IF(ROW(4:4)<=COUNTIF('اسناد الأقسام'!$D$7:$D$78,التجميع!$B$122),INDEX('اسناد الأقسام'!L$7:L$78,SMALL(IF('اسناد الأقسام'!$D$7:$D$78=التجميع!$B$122,ROW('اسناد الأقسام'!$D$7:$D$78)-ROW('اسناد الأقسام'!$D$7)+1),ROW(4:4))),\"\")","v":""},{"$f":"IF(ROW(4:4)<=COUNTIF('اسناد الأقسام'!$D$7:$D$78,التجميع!$B$122),INDEX('اسناد الأقسام'!M$7:M$78,SMALL(IF('اسناد الأقسام'!$D$7:$D$78=التجميع!$B$122,ROW('اسناد الأقسام'!$D$7:$D$78)-ROW('اسناد الأقسام'!$D$7)+1),ROW(4:4))),\"\")","v":""},{"$f":"IF(ROW(4:4)<=COUNTIF('اسناد الأقسام'!$D$7:$D$78,التجميع!$B$122),INDEX('اسناد الأقسام'!N$7:N$78,SMALL(IF('اسناد الأقسام'!$D$7:$D$78=التجميع!$B$122,ROW('اسناد الأقسام'!$D$7:$D$78)-ROW('اسناد الأقسام'!$D$7)+1),ROW(4:4))),\"\")","v":""},{"$f":"IF(ROW(4:4)<=COUNTIF('اسناد الأقسام'!$D$7:$D$78,التجميع!$B$122),INDEX('اسناد الأقسام'!O$7:O$78,SMALL(IF('اسناد الأقسام'!$D$7:$D$78=التجميع!$B$122,ROW('اسناد الأقسام'!$D$7:$D$78)-ROW('اسناد الأقسام'!$D$7)+1),ROW(4:4))),\"\")","v":""},{"$f":"IF(ROW(4:4)<=COUNTIF('اسناد الأقسام'!$D$7:$D$78,التجميع!$B$122),INDEX('اسناد الأقسام'!P$7:P$78,SMALL(IF('اسناد الأقسام'!$D$7:$D$78=التجميع!$B$122,ROW('اسناد الأقسام'!$D$7:$D$78)-ROW('اسناد الأقسام'!$D$7)+1),ROW(4:4))),\"\")","v":""},{"$f":"IF(ROW(4:4)<=COUNTIF('اسناد الأقسام'!$D$7:$D$78,التجميع!$B$122),INDEX('اسناد الأقسام'!Q$7:Q$78,SMALL(IF('اسناد الأقسام'!$D$7:$D$78=التجميع!$B$122,ROW('اسناد الأقسام'!$D$7:$D$78)-ROW('اسناد الأقسام'!$D$7)+1),ROW(4:4))),\"\")","v":""},{"$f":"IF(ROW(4:4)<=COUNTIF('اسناد الأقسام'!$D$7:$D$78,التجميع!$B$122),INDEX('اسناد الأقسام'!R$7:R$78,SMALL(IF('اسناد الأقسام'!$D$7:$D$78=التجميع!$B$122,ROW('اسناد الأقسام'!$D$7:$D$78)-ROW('اسناد الأقسام'!$D$7)+1),ROW(4:4))),\"\")","v":""},{"$f":"IF(ROW(4:4)<=COUNTIF('اسناد الأقسام'!$D$7:$D$78,التجميع!$B$122),INDEX('اسناد الأقسام'!S$7:S$78,SMALL(IF('اسناد الأقسام'!$D$7:$D$78=التجميع!$B$122,ROW('اسناد الأقسام'!$D$7:$D$78)-ROW('اسناد الأقسام'!$D$7)+1),ROW(4:4))),\"\")","v":""},{"$f":"IF(ROW(4:4)<=COUNTIF('اسناد الأقسام'!$D$7:$D$78,التجميع!$B$122),INDEX('اسناد الأقسام'!T$7:T$78,SMALL(IF('اسناد الأقسام'!$D$7:$D$78=التجميع!$B$122,ROW('اسناد الأقسام'!$D$7:$D$78)-ROW('اسناد الأقسام'!$D$7)+1),ROW(4:4))),\"\")","v":""},{"$f":"IF(ROW(4:4)<=COUNTIF('اسناد الأقسام'!$D$7:$D$78,التجميع!$B$122),INDEX('اسناد الأقسام'!U$7:U$78,SMALL(IF('اسناد الأقسام'!$D$7:$D$78=التجميع!$B$122,ROW('اسناد الأقسام'!$D$7:$D$78)-ROW('اسناد الأقسام'!$D$7)+1),ROW(4:4))),\"\")","v":""},{"$f":"IF(ROW(4:4)<=COUNTIF('اسناد الأقسام'!$D$7:$D$78,التجميع!$B$122),INDEX('اسناد الأقسام'!V$7:V$78,SMALL(IF('اسناد الأقسام'!$D$7:$D$78=التجميع!$B$122,ROW('اسناد الأقسام'!$D$7:$D$78)-ROW('اسناد الأقسام'!$D$7)+1),ROW(4:4))),\"\")","v":""},{"$f":"IF(ROW(4:4)<=COUNTIF('اسناد الأقسام'!$D$7:$D$78,التجميع!$B$122),INDEX('اسناد الأقسام'!W$7:W$78,SMALL(IF('اسناد الأقسام'!$D$7:$D$78=التجميع!$B$122,ROW('اسناد الأقسام'!$D$7:$D$78)-ROW('اسناد الأقسام'!$D$7)+1),ROW(4:4))),\"\")","v":""},{"$f":"IF(ROW(4:4)<=COUNTIF('اسناد الأقسام'!$D$7:$D$78,التجميع!$B$122),INDEX('اسناد الأقسام'!X$7:X$78,SMALL(IF('اسناد الأقسام'!$D$7:$D$78=التجميع!$B$122,ROW('اسناد الأقسام'!$D$7:$D$78)-ROW('اسناد الأقسام'!$D$7)+1),ROW(4:4))),\"\")","v":""},{"$f":"IF(ROW(4:4)<=COUNTIF('اسناد الأقسام'!$D$7:$D$78,التجميع!$B$122),INDEX('اسناد الأقسام'!Y$7:Y$78,SMALL(IF('اسناد الأقسام'!$D$7:$D$78=التجميع!$B$122,ROW('اسناد الأقسام'!$D$7:$D$78)-ROW('اسناد الأقسام'!$D$7)+1),ROW(4:4))),\"\")","v":""},{"$f":"IF(ROW(4:4)<=COUNTIF('اسناد الأقسام'!$D$7:$D$78,التجميع!$B$122),INDEX('اسناد الأقسام'!Z$7:Z$78,SMALL(IF('اسناد الأقسام'!$D$7:$D$78=التجميع!$B$122,ROW('اسناد الأقسام'!$D$7:$D$78)-ROW('اسناد الأقسام'!$D$7)+1),ROW(4:4))),\"\")","v":""},{"$f":"IF(ROW(4:4)<=COUNTIF('اسناد الأقسام'!$D$7:$D$78,التجميع!$B$122),INDEX('اسناد الأقسام'!AA$7:AA$78,SMALL(IF('اسناد الأقسام'!$D$7:$D$78=التجميع!$B$122,ROW('اسناد الأقسام'!$D$7:$D$78)-ROW('اسناد الأقسام'!$D$7)+1),ROW(4:4))),\"\")","v":""},{"$f":"IF(ROW(4:4)<=COUNTIF('اسناد الأقسام'!$D$7:$D$78,التجميع!$B$122),INDEX('اسناد الأقسام'!AB$7:AB$78,SMALL(IF('اسناد الأقسام'!$D$7:$D$78=التجميع!$B$122,ROW('اسناد الأقسام'!$D$7:$D$78)-ROW('اسناد الأقسام'!$D$7)+1),ROW(4:4))),\"\")","v":""},{"$f":"IF(ROW(4:4)<=COUNTIF('اسناد الأقسام'!$D$7:$D$78,التجميع!$B$122),INDEX('اسناد الأقسام'!AC$7:AC$78,SMALL(IF('اسناد الأقسام'!$D$7:$D$78=التجميع!$B$122,ROW('اسناد الأقسام'!$D$7:$D$78)-ROW('اسناد الأقسام'!$D$7)+1),ROW(4:4))),\"\")","v":""}]
[5,{"$f":"IF(ROW(5:5)<=COUNTIF('اسناد الأقسام'!$D$7:$D$78,التجميع!$B$122),INDEX('اسناد الأقسام'!C$7:C$78,SMALL(IF('اسناد الأقسام'!$D$7:$D$78=التجميع!$B$122,ROW('اسناد الأقسام'!$D$7:$D$78)-ROW('اسناد الأقسام'!$D$7)+1),ROW(5:5))),\"\")","v":""},{"$f":"IF(ROW(5:5)<=COUNTIF('اسناد الأقسام'!$D$7:$D$78,التجميع!$B$122),INDEX('اسناد الأقسام'!D$7:D$78,SMALL(IF('اسناد الأقسام'!$D$7:$D$78=التجميع!$B$122,ROW('اسناد الأقسام'!$D$7:$D$78)-ROW('اسناد الأقسام'!$D$7)+1),ROW(5:5))),\"\")","v":""},{"$f":"IF(ROW(5:5)<=COUNTIF('اسناد الأقسام'!$D$7:$D$78,التجميع!$B$122),INDEX('اسناد الأقسام'!E$7:E$78,SMALL(IF('اسناد الأقسام'!$D$7:$D$78=التجميع!$B$122,ROW('اسناد الأقسام'!$D$7:$D$78)-ROW('اسناد الأقسام'!$D$7)+1),ROW(5:5))),\"\")","v":""},{"$f":"IF(ROW(5:5)<=COUNTIF('اسناد الأقسام'!$D$7:$D$78,التجميع!$B$122),INDEX('اسناد الأقسام'!F$7:F$78,SMALL(IF('اسناد الأقسام'!$D$7:$D$78=التجميع!$B$122,ROW('اسناد الأقسام'!$D$7:$D$78)-ROW('اسناد الأقسام'!$D$7)+1),ROW(5:5))),\"\")","v":""},{"$f":"IF(ROW(5:5)<=COUNTIF('اسناد الأقسام'!$D$7:$D$78,التجميع!$B$122),INDEX('اسناد الأقسام'!G$7:G$78,SMALL(IF('اسناد الأقسام'!$D$7:$D$78=التجميع!$B$122,ROW('اسناد الأقسام'!$D$7:$D$78)-ROW('اسناد الأقسام'!$D$7)+1),ROW(5:5))),\"\")","v":""},{"$f":"IF(ROW(5:5)<=COUNTIF('اسناد الأقسام'!$D$7:$D$78,التجميع!$B$122),INDEX('اسناد الأقسام'!H$7:H$78,SMALL(IF('اسناد الأقسام'!$D$7:$D$78=التجميع!$B$122,ROW('اسناد الأقسام'!$D$7:$D$78)-ROW('اسناد الأقسام'!$D$7)+1),ROW(5:5))),\"\")","v":""},{"$f":"IF(ROW(5:5)<=COUNTIF('اسناد الأقسام'!$D$7:$D$78,التجميع!$B$122),INDEX('اسناد الأقسام'!I$7:I$78,SMALL(IF('اسناد الأقسام'!$D$7:$D$78=التجميع!$B$122,ROW('اسناد الأقسام'!$D$7:$D$78)-ROW('اسناد الأقسام'!$D$7)+1),ROW(5:5))),\"\")","v":""},{"$f":"IF(ROW(5:5)<=COUNTIF('اسناد الأقسام'!$D$7:$D$78,التجميع!$B$122),INDEX('اسناد الأقسام'!J$7:J$78,SMALL(IF('اسناد الأقسام'!$D$7:$D$78=التجميع!$B$122,ROW('اسناد الأقسام'!$D$7:$D$78)-ROW('اسناد الأقسام'!$D$7)+1),ROW(5:5))),\"\")","v":""},{"$f":"IF(ROW(5:5)<=COUNTIF('اسناد الأقسام'!$D$7:$D$78,التجميع!$B$122),INDEX('اسناد الأقسام'!K$7:K$78,SMALL(IF('اسناد الأقسام'!$D$7:$D$78=التجميع!$B$122,ROW('اسناد الأقسام'!$D$7:$D$78)-ROW('اسناد الأقسام'!$D$7)+1),ROW(5:5))),\"\")","v":""},{"$f":"IF(ROW(5:5)<=COUNTIF('اسناد الأقسام'!$D$7:$D$78,التجميع!$B$122),INDEX('اسناد الأقسام'!L$7:L$78,SMALL(IF('اسناد الأقسام'!$D$7:$D$78=التجميع!$B$122,ROW('اسناد الأقسام'!$D$7:$D$78)-ROW('اسناد الأقسام'!$D$7)+1),ROW(5:5))),\"\")","v":""},{"$f":"IF(ROW(5:5)<=COUNTIF('اسناد الأقسام'!$D$7:$D$78,التجميع!$B$122),INDEX('اسناد الأقسام'!M$7:M$78,SMALL(IF('اسناد الأقسام'!$D$7:$D$78=التجميع!$B$122,ROW('اسناد الأقسام'!$D$7:$D$78)-ROW('اسناد الأقسام'!$D$7)+1),ROW(5:5))),\"\")","v":""},{"$f":"IF(ROW(5:5)<=COUNTIF('اسناد الأقسام'!$D$7:$D$78,التجميع!$B$122),INDEX('اسناد الأقسام'!N$7:N$78,SMALL(IF('اسناد الأقسام'!$D$7:$D$78=التجميع!$B$122,ROW('اسناد الأقسام'!$D$7:$D$78)-ROW('اسناد الأقسام'!$D$7)+1),ROW(5:5))),\"\")","v":""},{"$f":"IF(ROW(5:5)<=COUNTIF('اسناد الأقسام'!$D$7:$D$78,التجميع!$B$122),INDEX('اسناد الأقسام'!O$7:O$78,SMALL(IF('اسناد الأقسام'!$D$7:$D$78=التجميع!$B$122,ROW('اسناد الأقسام'!$D$7:$D$78)-ROW('اسناد الأقسام'!$D$7)+1),ROW(5:5))),\"\")","v":""},{"$f":"IF(ROW(5:5)<=COUNTIF('اسناد الأقسام'!$D$7:$D$78,التجميع!$B$122),INDEX('اسناد الأقسام'!P$7:P$78,SMALL(IF('اسناد الأقسام'!$D$7:$D$78=التجميع!$B$122,ROW('اسناد الأقسام'!$D$7:$D$78)-ROW('اسناد الأقسام'!$D$7)+1),ROW(5:5))),\"\")","v":""},{"$f":"IF(ROW(5:5)<=COUNTIF('اسناد الأقسام'!$D$7:$D$78,التجميع!$B$122),INDEX('اسناد الأقسام'!Q$7:Q$78,SMALL(IF('اسناد الأقسام'!$D$7:$D$78=التجميع!$B$122,ROW('اسناد الأقسام'!$D$7:$D$78)-ROW('اسناد الأقسام'!$D$7)+1),ROW(5:5))),\"\")","v":""},{"$f":"IF(ROW(5:5)<=COUNTIF('اسناد الأقسام'!$D$7:$D$78,التجميع!$B$122),INDEX('اسناد الأقسام'!R$7:R$78,SMALL(IF('اسناد الأقسام'!$D$7:$D$78=التجميع!$B$122,ROW('اسناد الأقسام'!$D$7:$D$78)-ROW('اسناد الأقسام'!$D$7)+1),ROW(5:5))),\"\")","v":""},{"$f":"IF(ROW(5:5)<=COUNTIF('اسناد الأقسام'!$D$7:$D$78,التجميع!$B$122),INDEX('اسناد الأقسام'!S$7:S$78,SMALL(IF('اسناد الأقسام'!$D$7:$D$78=التجميع!$B$122,ROW('اسناد الأقسام'!$D$7:$D$78)-ROW('اسناد الأقسام'!$D$7)+1),ROW(5:5))),\"\")","v":""},{"$f":"IF(ROW(5:5)<=COUNTIF('اسناد الأقسام'!$D$7:$D$78,التجميع!$B$122),INDEX('اسناد الأقسام'!T$7:T$78,SMALL(IF('اسناد الأقسام'!$D$7:$D$78=التجميع!$B$122,ROW('اسناد الأقسام'!$D$7:$D$78)-ROW('اسناد الأقسام'!$D$7)+1),ROW(5:5))),\"\")","v":""},{"$f":"IF(ROW(5:5)<=COUNTIF('اسناد الأقسام'!$D$7:$D$78,التجميع!$B$122),INDEX('اسناد الأقسام'!U$7:U$78,SMALL(IF('اسناد الأقسام'!$D$7:$D$78=التجميع!$B$122,ROW('اسناد الأقسام'!$D$7:$D$78)-ROW('اسناد الأقسام'!$D$7)+1),ROW(5:5))),\"\")","v":""},{"$f":"IF(ROW(5:5)<=COUNTIF('اسناد الأقسام'!$D$7:$D$78,التجميع!$B$122),INDEX('اسناد الأقسام'!V$7:V$78,SMALL(IF('اسناد الأقسام'!$D$7:$D$78=التجميع!$B$122,ROW('اسناد الأقسام'!$D$7:$D$78)-ROW('اسناد الأقسام'!$D$7)+1),ROW(5:5))),\"\")","v":""},{"$f":"IF(ROW(5:5)<=COUNTIF('اسناد الأقسام'!$D$7:$D$78,التجميع!$B$122),INDEX('اسناد الأقسام'!W$7:W$78,SMALL(IF('اسناد الأقسام'!$D$7:$D$78=التجميع!$B$122,ROW('اسناد الأقسام'!$D$7:$D$78)-ROW('اسناد الأقسام'!$D$7)+1),ROW(5:5))),\"\")","v":""},{"$f":"IF(ROW(5:5)<=COUNTIF('اسناد الأقسام'!$D$7:$D$78,التجميع!$B$122),INDEX('اسناد الأقسام'!X$7:X$78,SMALL(IF('اسناد الأقسام'!$D$7:$D$78=التجميع!$B$122,ROW('اسناد الأقسام'!$D$7:$D$78)-ROW('اسناد الأقسام'!$D$7)+1),ROW(5:5))),\"\")","v":""},{"$f":"IF(ROW(5:5)<=COUNTIF('اسناد الأقسام'!$D$7:$D$78,التجميع!$B$122),INDEX('اسناد الأقسام'!Y$7:Y$78,SMALL(IF('اسناد الأقسام'!$D$7:$D$78=التجميع!$B$122,ROW('اسناد الأقسام'!$D$7:$D$78)-ROW('اسناد الأقسام'!$D$7)+1),ROW(5:5))),\"\")","v":""},{"$f":"IF(ROW(5:5)<=COUNTIF('اسناد الأقسام'!$D$7:$D$78,التجميع!$B$122),INDEX('اسناد الأقسام'!Z$7:Z$78,SMALL(IF('اسناد الأقسام'!$D$7:$D$78=التجميع!$B$122,ROW('اسناد الأقسام'!$D$7:$D$78)-ROW('اسناد الأقسام'!$D$7)+1),ROW(5:5))),\"\")","v":""},{"$f":"IF(ROW(5:5)<=COUNTIF('اسناد الأقسام'!$D$7:$D$78,التجميع!$B$122),INDEX('اسناد الأقسام'!AA$7:AA$78,SMALL(IF('اسناد الأقسام'!$D$7:$D$78=التجميع!$B$122,ROW('اسناد الأقسام'!$D$7:$D$78)-ROW('اسناد الأقسام'!$D$7)+1),ROW(5:5))),\"\")","v":""},{"$f":"IF(ROW(5:5)<=COUNTIF('اسناد الأقسام'!$D$7:$D$78,التجميع!$B$122),INDEX('اسناد الأقسام'!AB$7:AB$78,SMALL(IF('اسناد الأقسام'!$D$7:$D$78=التجميع!$B$122,ROW('اسناد الأقسام'!$D$7:$D$78)-ROW('اسناد الأقسام'!$D$7)+1),ROW(5:5))),\"\")","v":""},{"$f":"IF(ROW(5:5)<=COUNTIF('اسناد الأقسام'!$D$7:$D$78,التجميع!$B$122),INDEX('اسناد الأقسام'!AC$7:AC$78,SMALL(IF('اسناد الأقسام'!$D$7:$D$78=التجميع!$B$122,ROW('اسناد الأقسام'!$D$7:$D$78)-ROW('اسناد الأقسام'!$D$7)+1),ROW(5:5))),\"\")","v":""}]
[6,{"$f":"IF(ROW(6:6)<=COUNTIF('اسناد الأقسام'!$D$7:$D$78,التجميع!$B$122),INDEX('اسناد الأقسام'!C$7:C$78,SMALL(IF('اسناد الأقسام'!$D$7:$D$78=التجميع!$B$122,ROW('اسناد الأقسام'!$D$7:$D$78)-ROW('اسناد الأقسام'!$D$7)+1),ROW(6:6))),\"\")","v":""},{"$f":"IF(ROW(6:6)<=COUNTIF('اسناد الأقسام'!$D$7:$D$78,التجميع!$B$122),INDEX('اسناد الأقسام'!D$7:D$78,SMALL(IF('اسناد الأقسام'!$D$7:$D$78=التجميع!$B$122,ROW('اسناد الأقسام'!$D$7:$D$78)-ROW('اسناد الأقسام'!$D$7)+1),ROW(6:6))),\"\")","v":""},{"$f":"IF(ROW(6:6)<=COUNTIF('اسناد الأقسام'!$D$7:$D$78,التجميع!$B$122),INDEX('اسناد الأقسام'!E$7:E$78,SMALL(IF('اسناد الأقسام'!$D$7:$D$78=التجميع!$B$122,ROW('اسناد الأقسام'!$D$7:$D$78)-ROW('اسناد الأقسام'!$D$7)+1),ROW(6:6))),\"\")","v":""},{"$f":"IF(ROW(6:6)<=COUNTIF('اسناد الأقسام'!$D$7:$D$78,التجميع!$B$122),INDEX('اسناد الأقسام'!F$7:F$78,SMALL(IF('اسناد الأقسام'!$D$7:$D$78=التجميع!$B$122,ROW('اسناد الأقسام'!$D$7:$D$78)-ROW('اسناد الأقسام'!$D$7)+1),ROW(6:6))),\"\")","v":""},{"$f":"IF(ROW(6:6)<=COUNTIF('اسناد الأقسام'!$D$7:$D$78,التجميع!$B$122),INDEX('اسناد الأقسام'!G$7:G$78,SMALL(IF('اسناد الأقسام'!$D$7:$D$78=التجميع!$B$122,ROW('اسناد الأقسام'!$D$7:$D$78)-ROW('اسناد الأقسام'!$D$7)+1),ROW(6:6))),\"\")","v":""},{"$f":"IF(ROW(6:6)<=COUNTIF('اسناد الأقسام'!$D$7:$D$78,التجميع!$B$122),INDEX('اسناد الأقسام'!H$7:H$78,SMALL(IF('اسناد الأقسام'!$D$7:$D$78=التجميع!$B$122,ROW('اسناد الأقسام'!$D$7:$D$78)-ROW('اسناد الأقسام'!$D$7)+1),ROW(6:6))),\"\")","v":""},{"$f":"IF(ROW(6:6)<=COUNTIF('اسناد الأقسام'!$D$7:$D$78,التجميع!$B$122),INDEX('اسناد الأقسام'!I$7:I$78,SMALL(IF('اسناد الأقسام'!$D$7:$D$78=التجميع!$B$122,ROW('اسناد الأقسام'!$D$7:$D$78)-ROW('اسناد الأقسام'!$D$7)+1),ROW(6:6))),\"\")","v":""},{"$f":"IF(ROW(6:6)<=COUNTIF('اسناد الأقسام'!$D$7:$D$78,التجميع!$B$122),INDEX('اسناد الأقسام'!J$7:J$78,SMALL(IF('اسناد الأقسام'!$D$7:$D$78=التجميع!$B$122,ROW('اسناد الأقسام'!$D$7:$D$78)-ROW('اسناد الأقسام'!$D$7)+1),ROW(6:6))),\"\")","v":""},{"$f":"IF(ROW(6:6)<=COUNTIF('اسناد الأقسام'!$D$7:$D$78,التجميع!$B$122),INDEX('اسناد الأقسام'!K$7:K$78,SMALL(IF('اسناد الأقسام'!$D$7:$D$78=التجميع!$B$122,ROW('اسناد الأقسام'!$D$7:$D$78)-ROW('اسناد الأقسام'!$D$7)+1),ROW(6:6))),\"\")","v":""},{"$f":"IF(ROW(6:6)<=COUNTIF('اسناد الأقسام'!$D$7:$D$78,التجميع!$B$122),INDEX('اسناد الأقسام'!L$7:L$78,SMALL(IF('اسناد الأقسام'!$D$7:$D$78=التجميع!$B$122,ROW('اسناد الأقسام'!$D$7:$D$78)-ROW('اسناد الأقسام'!$D$7)+1),ROW(6:6))),\"\")","v":""},{"$f":"IF(ROW(6:6)<=COUNTIF('اسناد الأقسام'!$D$7:$D$78,التجميع!$B$122),INDEX('اسناد الأقسام'!M$7:M$78,SMALL(IF('اسناد الأقسام'!$D$7:$D$78=التجميع!$B$122,ROW('اسناد الأقسام'!$D$7:$D$78)-ROW('اسناد الأقسام'!$D$7)+1),ROW(6:6))),\"\")","v":""},{"$f":"IF(ROW(6:6)<=COUNTIF('اسناد الأقسام'!$D$7:$D$78,التجميع!$B$122),INDEX('اسناد الأقسام'!N$7:N$78,SMALL(IF('اسناد الأقسام'!$D$7:$D$78=التجميع!$B$122,ROW('اسناد الأقسام'!$D$7:$D$78)-ROW('اسناد الأقسام'!$D$7)+1),ROW(6:6))),\"\")","v":""},{"$f":"IF(ROW(6:6)<=COUNTIF('اسناد الأقسام'!$D$7:$D$78,التجميع!$B$122),INDEX('اسناد الأقسام'!O$7:O$78,SMALL(IF('اسناد الأقسام'!$D$7:$D$78=التجميع!$B$122,ROW('اسناد الأقسام'!$D$7:$D$78)-ROW('اسناد الأقسام'!$D$7)+1),ROW(6:6))),\"\")","v":""},{"$f":"IF(ROW(6:6)<=COUNTIF('اسناد الأقسام'!$D$7:$D$78,التجميع!$B$122),INDEX('اسناد الأقسام'!P$7:P$78,SMALL(IF('اسناد الأقسام'!$D$7:$D$78=التجميع!$B$122,ROW('اسناد الأقسام'!$D$7:$D$78)-ROW('اسناد الأقسام'!$D$7)+1),ROW(6:6))),\"\")","v":""},{"$f":"IF(ROW(6:6)<=COUNTIF('اسناد الأقسام'!$D$7:$D$78,التجميع!$B$122),INDEX('اسناد الأقسام'!Q$7:Q$78,SMALL(IF('اسناد الأقسام'!$D$7:$D$78=التجميع!$B$122,ROW('اسناد الأقسام'!$D$7:$D$78)-ROW('اسناد الأقسام'!$D$7)+1),ROW(6:6))),\"\")","v":""},{"$f":"IF(ROW(6:6)<=COUNTIF('اسناد الأقسام'!$D$7:$D$78,التجميع!$B$122),INDEX('اسناد الأقسام'!R$7:R$78,SMALL(IF('اسناد الأقسام'!$D$7:$D$78=التجميع!$B$122,ROW('اسناد الأقسام'!$D$7:$D$78)-ROW('اسناد الأقسام'!$D$7)+1),ROW(6:6))),\"\")","v":""},{"$f":"IF(ROW(6:6)<=COUNTIF('اسناد الأقسام'!$D$7:$D$78,التجميع!$B$122),INDEX('اسناد الأقسام'!S$7:S$78,SMALL(IF('اسناد الأقسام'!$D$7:$D$78=التجميع!$B$122,ROW('اسناد الأقسام'!$D$7:$D$78)-ROW('اسناد الأقسام'!$D$7)+1),ROW(6:6))),\"\")","v":""},{"$f":"IF(ROW(6:6)<=COUNTIF('اسناد الأقسام'!$D$7:$D$78,التجميع!$B$122),INDEX('اسناد الأقسام'!T$7:T$78,SMALL(IF('اسناد الأقسام'!$D$7:$D$78=التجميع!$B$122,ROW('اسناد الأقسام'!$D$7:$D$78)-ROW('اسناد الأقسام'!$D$7)+1),ROW(6:6))),\"\")","v":""},{"$f":"IF(ROW(6:6)<=COUNTIF('اسناد الأقسام'!$D$7:$D$78,التجميع!$B$122),INDEX('اسناد الأقسام'!U$7:U$78,SMALL(IF('اسناد الأقسام'!$D$7:$D$78=التجميع!$B$122,ROW('اسناد الأقسام'!$D$7:$D$78)-ROW('اسناد الأقسام'!$D$7)+1),ROW(6:6))),\"\")","v":""},{"$f":"IF(ROW(6:6)<=COUNTIF('اسناد الأقسام'!$D$7:$D$78,التجميع!$B$122),INDEX('اسناد الأقسام'!V$7:V$78,SMALL(IF('اسناد الأقسام'!$D$7:$D$78=التجميع!$B$122,ROW('اسناد الأقسام'!$D$7:$D$78)-ROW('اسناد الأقسام'!$D$7)+1),ROW(6:6))),\"\")","v":""},{"$f":"IF(ROW(6:6)<=COUNTIF('اسناد الأقسام'!$D$7:$D$78,التجميع!$B$122),INDEX('اسناد الأقسام'!W$7:W$78,SMALL(IF('اسناد الأقسام'!$D$7:$D$78=التجميع!$B$122,ROW('اسناد الأقسام'!$D$7:$D$78)-ROW('اسناد الأقسام'!$D$7)+1),ROW(6:6))),\"\")","v":""},{"$f":"IF(ROW(6:6)<=COUNTIF('اسناد الأقسام'!$D$7:$D$78,التجميع!$B$122),INDEX('اسناد الأقسام'!X$7:X$78,SMALL(IF('اسناد الأقسام'!$D$7:$D$78=التجميع!$B$122,ROW('اسناد الأقسام'!$D$7:$D$78)-ROW('اسناد الأقسام'!$D$7)+1),ROW(6:6))),\"\")","v":""},{"$f":"IF(ROW(6:6)<=COUNTIF('اسناد الأقسام'!$D$7:$D$78,التجميع!$B$122),INDEX('اسناد الأقسام'!Y$7:Y$78,SMALL(IF('اسناد الأقسام'!$D$7:$D$78=التجميع!$B$122,ROW('اسناد الأقسام'!$D$7:$D$78)-ROW('اسناد الأقسام'!$D$7)+1),ROW(6:6))),\"\")","v":""},{"$f":"IF(ROW(6:6)<=COUNTIF('اسناد الأقسام'!$D$7:$D$78,التجميع!$B$122),INDEX('اسناد الأقسام'!Z$7:Z$78,SMALL(IF('اسناد الأقسام'!$D$7:$D$78=التجميع!$B$122,ROW('اسناد الأقسام'!$D$7:$D$78)-ROW('اسناد الأقسام'!$D$7)+1),ROW(6:6))),\"\")","v":""},{"$f":"IF(ROW(6:6)<=COUNTIF('اسناد الأقسام'!$D$7:$D$78,التجميع!$B$122),INDEX('اسناد الأقسام'!AA$7:AA$78,SMALL(IF('اسناد الأقسام'!$D$7:$D$78=التجميع!$B$122,ROW('اسناد الأقسام'!$D$7:$D$78)-ROW('اسناد الأقسام'!$D$7)+1),ROW(6:6))),\"\")","v":""},{"$f":"IF(ROW(6:6)<=COUNTIF('اسناد الأقسام'!$D$7:$D$78,التجميع!$B$122),INDEX('اسناد الأقسام'!AB$7:AB$78,SMALL(IF('اسناد الأقسام'!$D$7:$D$78=التجميع!$B$122,ROW('اسناد الأقسام'!$D$7:$D$78)-ROW('اسناد الأقسام'!$D$7)+1),ROW(6:6))),\"\")","v":""},{"$f":"IF(ROW(6:6)<=COUNTIF('اسناد الأقسام'!$D$7:$D$78,التجميع!$B$122),INDEX('اسناد الأقسام'!AC$7:AC$78,SMALL(IF('اسناد الأقسام'!$D$7:$D$78=التجميع!$B$122,ROW('اسناد الأقسام'!$D$7:$D$78)-ROW('اسناد الأقسام'!$D$7)+1),ROW(6:6))),\"\")","v":""}]
[7,{"$f":"IF(ROW(7:7)<=COUNTIF('اسناد الأقسام'!$D$7:$D$78,التجميع!$B$122),INDEX('اسناد الأقسام'!C$7:C$78,SMALL(IF('اسناد الأقسام'!$D$7:$D$78=التجميع!$B$122,ROW('اسناد الأقسام'!$D$7:$D$78)-ROW('اسناد الأقسام'!$D$7)+1),ROW(7:7))),\"\")","v":""},{"$f":"IF(ROW(7:7)<=COUNTIF('اسناد الأقسام'!$D$7:$D$78,التجميع!$B$122),INDEX('اسناد الأقسام'!D$7:D$78,SMALL(IF('اسناد الأقسام'!$D$7:$D$78=التجميع!$B$122,ROW('اسناد الأقسام'!$D$7:$D$78)-ROW('اسناد الأقسام'!$D$7)+1),ROW(7:7))),\"\")","v":""},{"$f":"IF(ROW(7:7)<=COUNTIF('اسناد الأقسام'!$D$7:$D$78,التجميع!$B$122),INDEX('اسناد الأقسام'!E$7:E$78,SMALL(IF('اسناد الأقسام'!$D$7:$D$78=التجميع!$B$122,ROW('اسناد الأقسام'!$D$7:$D$78)-ROW('اسناد الأقسام'!$D$7)+1),ROW(7:7))),\"\")","v":""},{"$f":"IF(ROW(7:7)<=COUNTIF('اسناد الأقسام'!$D$7:$D$78,التجميع!$B$122),INDEX('اسناد الأقسام'!F$7:F$78,SMALL(IF('اسناد الأقسام'!$D$7:$D$78=التجميع!$B$122,ROW('اسناد الأقسام'!$D$7:$D$78)-ROW('اسناد الأقسام'!$D$7)+1),ROW(7:7))),\"\")","v":""},{"$f":"IF(ROW(7:7)<=COUNTIF('اسناد الأقسام'!$D$7:$D$78,التجميع!$B$122),INDEX('اسناد الأقسام'!G$7:G$78,SMALL(IF('اسناد الأقسام'!$D$7:$D$78=التجميع!$B$122,ROW('اسناد الأقسام'!$D$7:$D$78)-ROW('اسناد الأقسام'!$D$7)+1),ROW(7:7))),\"\")","v":""},{"$f":"IF(ROW(7:7)<=COUNTIF('اسناد الأقسام'!$D$7:$D$78,التجميع!$B$122),INDEX('اسناد الأقسام'!H$7:H$78,SMALL(IF('اسناد الأقسام'!$D$7:$D$78=التجميع!$B$122,ROW('اسناد الأقسام'!$D$7:$D$78)-ROW('اسناد الأقسام'!$D$7)+1),ROW(7:7))),\"\")","v":""},{"$f":"IF(ROW(7:7)<=COUNTIF('اسناد الأقسام'!$D$7:$D$78,التجميع!$B$122),INDEX('اسناد الأقسام'!I$7:I$78,SMALL(IF('اسناد الأقسام'!$D$7:$D$78=التجميع!$B$122,ROW('اسناد الأقسام'!$D$7:$D$78)-ROW('اسناد الأقسام'!$D$7)+1),ROW(7:7))),\"\")","v":""},{"$f":"IF(ROW(7:7)<=COUNTIF('اسناد الأقسام'!$D$7:$D$78,التجميع!$B$122),INDEX('اسناد الأقسام'!J$7:J$78,SMALL(IF('اسناد الأقسام'!$D$7:$D$78=التجميع!$B$122,ROW('اسناد الأقسام'!$D$7:$D$78)-ROW('اسناد الأقسام'!$D$7)+1),ROW(7:7))),\"\")","v":""},{"$f":"IF(ROW(7:7)<=COUNTIF('اسناد الأقسام'!$D$7:$D$78,التجميع!$B$122),INDEX('اسناد الأقسام'!K$7:K$78,SMALL(IF('اسناد الأقسام'!$D$7:$D$78=التجميع!$B$122,ROW('اسناد الأقسام'!$D$7:$D$78)-ROW('اسناد الأقسام'!$D$7)+1),ROW(7:7))),\"\")","v":""},{"$f":"IF(ROW(7:7)<=COUNTIF('اسناد الأقسام'!$D$7:$D$78,التجميع!$B$122),INDEX('اسناد الأقسام'!L$7:L$78,SMALL(IF('اسناد الأقسام'!$D$7:$D$78=التجميع!$B$122,ROW('اسناد الأقسام'!$D$7:$D$78)-ROW('اسناد الأقسام'!$D$7)+1),ROW(7:7))),\"\")","v":""},{"$f":"IF(ROW(7:7)<=COUNTIF('اسناد الأقسام'!$D$7:$D$78,التجميع!$B$122),INDEX('اسناد الأقسام'!M$7:M$78,SMALL(IF('اسناد الأقسام'!$D$7:$D$78=التجميع!$B$122,ROW('اسناد الأقسام'!$D$7:$D$78)-ROW('اسناد الأقسام'!$D$7)+1),ROW(7:7))),\"\")","v":""},{"$f":"IF(ROW(7:7)<=COUNTIF('اسناد الأقسام'!$D$7:$D$78,التجميع!$B$122),INDEX('اسناد الأقسام'!N$7:N$78,SMALL(IF('اسناد الأقسام'!$D$7:$D$78=التجميع!$B$122,ROW('اسناد الأقسام'!$D$7:$D$78)-ROW('اسناد الأقسام'!$D$7)+1),ROW(7:7))),\"\")","v":""},{"$f":"IF(ROW(7:7)<=COUNTIF('اسناد الأقسام'!$D$7:$D$78,التجميع!$B$122),INDEX('اسناد الأقسام'!O$7:O$78,SMALL(IF('اسناد الأقسام'!$D$7:$D$78=التجميع!$B$122,ROW('اسناد الأقسام'!$D$7:$D$78)-ROW('اسناد الأقسام'!$D$7)+1),ROW(7:7))),\"\")","v":""},{"$f":"IF(ROW(7:7)<=COUNTIF('اسناد الأقسام'!$D$7:$D$78,التجميع!$B$122),INDEX('اسناد الأقسام'!P$7:P$78,SMALL(IF('اسناد الأقسام'!$D$7:$D$78=التجميع!$B$122,ROW('اسناد الأقسام'!$D$7:$D$78)-ROW('اسناد الأقسام'!$D$7)+1),ROW(7:7))),\"\")","v":""},{"$f":"IF(ROW(7:7)<=COUNTIF('اسناد الأقسام'!$D$7:$D$78,التجميع!$B$122),INDEX('اسناد الأقسام'!Q$7:Q$78,SMALL(IF('اسناد الأقسام'!$D$7:$D$78=التجميع!$B$122,ROW('اسناد الأقسام'!$D$7:$D$78)-ROW('اسناد الأقسام'!$D$7)+1),ROW(7:7))),\"\")","v":""},{"$f":"IF(ROW(7:7)<=COUNTIF('اسناد الأقسام'!$D$7:$D$78,التجميع!$B$122),INDEX('اسناد الأقسام'!R$7:R$78,SMALL(IF('اسناد الأقسام'!$D$7:$D$78=التجميع!$B$122,ROW('اسناد الأقسام'!$D$7:$D$78)-ROW('اسناد الأقسام'!$D$7)+1),ROW(7:7))),\"\")","v":""},{"$f":"IF(ROW(7:7)<=COUNTIF('اسناد الأقسام'!$D$7:$D$78,التجميع!$B$122),INDEX('اسناد الأقسام'!S$7:S$78,SMALL(IF('اسناد الأقسام'!$D$7:$D$78=التجميع!$B$122,ROW('اسناد الأقسام'!$D$7:$D$78)-ROW('اسناد الأقسام'!$D$7)+1),ROW(7:7))),\"\")","v":""},{"$f":"IF(ROW(7:7)<=COUNTIF('اسناد الأقسام'!$D$7:$D$78,التجميع!$B$122),INDEX('اسناد الأقسام'!T$7:T$78,SMALL(IF('اسناد الأقسام'!$D$7:$D$78=التجميع!$B$122,ROW('اسناد الأقسام'!$D$7:$D$78)-ROW('اسناد الأقسام'!$D$7)+1),ROW(7:7))),\"\")","v":""},{"$f":"IF(ROW(7:7)<=COUNTIF('اسناد الأقسام'!$D$7:$D$78,التجميع!$B$122),INDEX('اسناد الأقسام'!U$7:U$78,SMALL(IF('اسناد الأقسام'!$D$7:$D$78=التجميع!$B$122,ROW('اسناد الأقسام'!$D$7:$D$78)-ROW('اسناد الأقسام'!$D$7)+1),ROW(7:7))),\"\")","v":""},{"$f":"IF(ROW(7:7)<=COUNTIF('اسناد الأقسام'!$D$7:$D$78,التجميع!$B$122),INDEX('اسناد الأقسام'!V$7:V$78,SMALL(IF('اسناد الأقسام'!$D$7:$D$78=التجميع!$B$122,ROW('اسناد الأقسام'!$D$7:$D$78)-ROW('اسناد الأقسام'!$D$7)+1),ROW(7:7))),\"\")","v":""},{"$f":"IF(ROW(7:7)<=COUNTIF('اسناد الأقسام'!$D$7:$D$78,التجميع!$B$122),INDEX('اسناد الأقسام'!W$7:W$78,SMALL(IF('اسناد الأقسام'!$D$7:$D$78=التجميع!$B$122,ROW('اسناد الأقسام'!$D$7:$D$78)-ROW('اسناد الأقسام'!$D$7)+1),ROW(7:7))),\"\")","v":""},{"$f":"IF(ROW(7:7)<=COUNTIF('اسناد الأقسام'!$D$7:$D$78,التجميع!$B$122),INDEX('اسناد الأقسام'!X$7:X$78,SMALL(IF('اسناد الأقسام'!$D$7:$D$78=التجميع!$B$122,ROW('اسناد الأقسام'!$D$7:$D$78)-ROW('اسناد الأقسام'!$D$7)+1),ROW(7:7))),\"\")","v":""},{"$f":"IF(ROW(7:7)<=COUNTIF('اسناد الأقسام'!$D$7:$D$78,التجميع!$B$122),INDEX('اسناد الأقسام'!Y$7:Y$78,SMALL(IF('اسناد الأقسام'!$D$7:$D$78=التجميع!$B$122,ROW('اسناد الأقسام'!$D$7:$D$78)-ROW('اسناد الأقسام'!$D$7)+1),ROW(7:7))),\"\")","v":""},{"$f":"IF(ROW(7:7)<=COUNTIF('اسناد الأقسام'!$D$7:$D$78,التجميع!$B$122),INDEX('اسناد الأقسام'!Z$7:Z$78,SMALL(IF('اسناد الأقسام'!$D$7:$D$78=التجميع!$B$122,ROW('اسناد الأقسام'!$D$7:$D$78)-ROW('اسناد الأقسام'!$D$7)+1),ROW(7:7))),\"\")","v":""},{"$f":"IF(ROW(7:7)<=COUNTIF('اسناد الأقسام'!$D$7:$D$78,التجميع!$B$122),INDEX('اسناد الأقسام'!AA$7:AA$78,SMALL(IF('اسناد الأقسام'!$D$7:$D$78=التجميع!$B$122,ROW('اسناد الأقسام'!$D$7:$D$78)-ROW('اسناد الأقسام'!$D$7)+1),ROW(7:7))),\"\")","v":""},{"$f":"IF(ROW(7:7)<=COUNTIF('اسناد الأقسام'!$D$7:$D$78,التجميع!$B$122),INDEX('اسناد الأقسام'!AB$7:AB$78,SMALL(IF('اسناد الأقسام'!$D$7:$D$78=التجميع!$B$122,ROW('اسناد الأقسام'!$D$7:$D$78)-ROW('اسناد الأقسام'!$D$7)+1),ROW(7:7))),\"\")","v":""},{"$f":"IF(ROW(7:7)<=COUNTIF('اسناد الأقسام'!$D$7:$D$78,التجميع!$B$122),INDEX('اسناد الأقسام'!AC$7:AC$78,SMALL(IF('اسناد الأقسام'!$D$7:$D$78=التجميع!$B$122,ROW('اسناد الأقسام'!$D$7:$D$78)-ROW('اسناد الأقسام'!$D$7)+1),ROW(7:7))),\"\")","v":""}]
[8,{"$f":"IF(ROW(8:8)<=COUNTIF('اسناد الأقسام'!$D$7:$D$78,التجميع!$B$122),INDEX('اسناد الأقسام'!C$7:C$78,SMALL(IF('اسناد الأقسام'!$D$7:$D$78=التجميع!$B$122,ROW('اسناد الأقسام'!$D$7:$D$78)-ROW('اسناد الأقسام'!$D$7)+1),ROW(8:8))),\"\")","v":""},{"$f":"IF(ROW(8:8)<=COUNTIF('اسناد الأقسام'!$D$7:$D$78,التجميع!$B$122),INDEX('اسناد الأقسام'!D$7:D$78,SMALL(IF('اسناد الأقسام'!$D$7:$D$78=التجميع!$B$122,ROW('اسناد الأقسام'!$D$7:$D$78)-ROW('اسناد الأقسام'!$D$7)+1),ROW(8:8))),\"\")","v":""},{"$f":"IF(ROW(8:8)<=COUNTIF('اسناد الأقسام'!$D$7:$D$78,التجميع!$B$122),INDEX('اسناد الأقسام'!E$7:E$78,SMALL(IF('اسناد الأقسام'!$D$7:$D$78=التجميع!$B$122,ROW('اسناد الأقسام'!$D$7:$D$78)-ROW('اسناد الأقسام'!$D$7)+1),ROW(8:8))),\"\")","v":""},{"$f":"IF(ROW(8:8)<=COUNTIF('اسناد الأقسام'!$D$7:$D$78,التجميع!$B$122),INDEX('اسناد الأقسام'!F$7:F$78,SMALL(IF('اسناد الأقسام'!$D$7:$D$78=التجميع!$B$122,ROW('اسناد الأقسام'!$D$7:$D$78)-ROW('اسناد الأقسام'!$D$7)+1),ROW(8:8))),\"\")","v":""},{"$f":"IF(ROW(8:8)<=COUNTIF('اسناد الأقسام'!$D$7:$D$78,التجميع!$B$122),INDEX('اسناد الأقسام'!G$7:G$78,SMALL(IF('اسناد الأقسام'!$D$7:$D$78=التجميع!$B$122,ROW('اسناد الأقسام'!$D$7:$D$78)-ROW('اسناد الأقسام'!$D$7)+1),ROW(8:8))),\"\")","v":""},{"$f":"IF(ROW(8:8)<=COUNTIF('اسناد الأقسام'!$D$7:$D$78,التجميع!$B$122),INDEX('اسناد الأقسام'!H$7:H$78,SMALL(IF('اسناد الأقسام'!$D$7:$D$78=التجميع!$B$122,ROW('اسناد الأقسام'!$D$7:$D$78)-ROW('اسناد الأقسام'!$D$7)+1),ROW(8:8))),\"\")","v":""},{"$f":"IF(ROW(8:8)<=COUNTIF('اسناد الأقسام'!$D$7:$D$78,التجميع!$B$122),INDEX('اسناد الأقسام'!I$7:I$78,SMALL(IF('اسناد الأقسام'!$D$7:$D$78=التجميع!$B$122,ROW('اسناد الأقسام'!$D$7:$D$78)-ROW('اسناد الأقسام'!$D$7)+1),ROW(8:8))),\"\")","v":""},{"$f":"IF(ROW(8:8)<=COUNTIF('اسناد الأقسام'!$D$7:$D$78,التجميع!$B$122),INDEX('اسناد الأقسام'!J$7:J$78,SMALL(IF('اسناد الأقسام'!$D$7:$D$78=التجميع!$B$122,ROW('اسناد الأقسام'!$D$7:$D$78)-ROW('اسناد الأقسام'!$D$7)+1),ROW(8:8))),\"\")","v":""},{"$f":"IF(ROW(8:8)<=COUNTIF('اسناد الأقسام'!$D$7:$D$78,التجميع!$B$122),INDEX('اسناد الأقسام'!K$7:K$78,SMALL(IF('اسناد الأقسام'!$D$7:$D$78=التجميع!$B$122,ROW('اسناد الأقسام'!$D$7:$D$78)-ROW('اسناد الأقسام'!$D$7)+1),ROW(8:8))),\"\")","v":""},{"$f":"IF(ROW(8:8)<=COUNTIF('اسناد الأقسام'!$D$7:$D$78,التجميع!$B$122),INDEX('اسناد الأقسام'!L$7:L$78,SMALL(IF('اسناد الأقسام'!$D$7:$D$78=التجميع!$B$122,ROW('اسناد الأقسام'!$D$7:$D$78)-ROW('اسناد الأقسام'!$D$7)+1),ROW(8:8))),\"\")","v":""},{"$f":"IF(ROW(8:8)<=COUNTIF('اسناد الأقسام'!$D$7:$D$78,التجميع!$B$122),INDEX('اسناد الأقسام'!M$7:M$78,SMALL(IF('اسناد الأقسام'!$D$7:$D$78=التجميع!$B$122,ROW('اسناد الأقسام'!$D$7:$D$78)-ROW('اسناد الأقسام'!$D$7)+1),ROW(8:8))),\"\")","v":""},{"$f":"IF(ROW(8:8)<=COUNTIF('اسناد الأقسام'!$D$7:$D$78,التجميع!$B$122),INDEX('اسناد الأقسام'!N$7:N$78,SMALL(IF('اسناد الأقسام'!$D$7:$D$78=التجميع!$B$122,ROW('اسناد الأقسام'!$D$7:$D$78)-ROW('اسناد الأقسام'!$D$7)+1),ROW(8:8))),\"\")","v":""},{"$f":"IF(ROW(8:8)<=COUNTIF('اسناد الأقسام'!$D$7:$D$78,التجميع!$B$122),INDEX('اسناد الأقسام'!O$7:O$78,SMALL(IF('اسناد الأقسام'!$D$7:$D$78=التجميع!$B$122,ROW('اسناد الأقسام'!$D$7:$D$78)-ROW('اسناد الأقسام'!$D$7)+1),ROW(8:8))),\"\")","v":""},{"$f":"IF(ROW(8:8)<=COUNTIF('اسناد الأقسام'!$D$7:$D$78,التجميع!$B$122),INDEX('اسناد الأقسام'!P$7:P$78,SMALL(IF('اسناد الأقسام'!$D$7:$D$78=التجميع!$B$122,ROW('اسناد الأقسام'!$D$7:$D$78)-ROW('اسناد الأقسام'!$D$7)+1),ROW(8:8))),\"\")","v":""},{"$f":"IF(ROW(8:8)<=COUNTIF('اسناد الأقسام'!$D$7:$D$78,التجميع!$B$122),INDEX('اسناد الأقسام'!Q$7:Q$78,SMALL(IF('اسناد الأقسام'!$D$7:$D$78=التجميع!$B$122,ROW('اسناد الأقسام'!$D$7:$D$78)-ROW('اسناد الأقسام'!$D$7)+1),ROW(8:8))),\"\")","v":""},{"$f":"IF(ROW(8:8)<=COUNTIF('اسناد الأقسام'!$D$7:$D$78,التجميع!$B$122),INDEX('اسناد الأقسام'!R$7:R$78,SMALL(IF('اسناد الأقسام'!$D$7:$D$78=التجميع!$B$122,ROW('اسناد الأقسام'!$D$7:$D$78)-ROW('اسناد الأقسام'!$D$7)+1),ROW(8:8))),\"\")","v":""},{"$f":"IF(ROW(8:8)<=COUNTIF('اسناد الأقسام'!$D$7:$D$78,التجميع!$B$122),INDEX('اسناد الأقسام'!S$7:S$78,SMALL(IF('اسناد الأقسام'!$D$7:$D$78=التجميع!$B$122,ROW('اسناد الأقسام'!$D$7:$D$78)-ROW('اسناد الأقسام'!$D$7)+1),ROW(8:8))),\"\")","v":""},{"$f":"IF(ROW(8:8)<=COUNTIF('اسناد الأقسام'!$D$7:$D$78,التجميع!$B$122),INDEX('اسناد الأقسام'!T$7:T$78,SMALL(IF('اسناد الأقسام'!$D$7:$D$78=التجميع!$B$122,ROW('اسناد الأقسام'!$D$7:$D$78)-ROW('اسناد الأقسام'!$D$7)+1),ROW(8:8))),\"\")","v":""},{"$f":"IF(ROW(8:8)<=COUNTIF('اسناد الأقسام'!$D$7:$D$78,التجميع!$B$122),INDEX('اسناد الأقسام'!U$7:U$78,SMALL(IF('اسناد الأقسام'!$D$7:$D$78=التجميع!$B$122,ROW('اسناد الأقسام'!$D$7:$D$78)-ROW('اسناد الأقسام'!$D$7)+1),ROW(8:8))),\"\")","v":""},{"$f":"IF(ROW(8:8)<=COUNTIF('اسناد الأقسام'!$D$7:$D$78,التجميع!$B$122),INDEX('اسناد الأقسام'!V$7:V$78,SMALL(IF('اسناد الأقسام'!$D$7:$D$78=التجميع!$B$122,ROW('اسناد الأقسام'!$D$7:$D$78)-ROW('اسناد الأقسام'!$D$7)+1),ROW(8:8))),\"\")","v":""},{"$f":"IF(ROW(8:8)<=COUNTIF('اسناد الأقسام'!$D$7:$D$78,التجميع!$B$122),INDEX('اسناد الأقسام'!W$7:W$78,SMALL(IF('اسناد الأقسام'!$D$7:$D$78=التجميع!$B$122,ROW('اسناد الأقسام'!$D$7:$D$78)-ROW('اسناد الأقسام'!$D$7)+1),ROW(8:8))),\"\")","v":""},{"$f":"IF(ROW(8:8)<=COUNTIF('اسناد الأقسام'!$D$7:$D$78,التجميع!$B$122),INDEX('اسناد الأقسام'!X$7:X$78,SMALL(IF('اسناد الأقسام'!$D$7:$D$78=التجميع!$B$122,ROW('اسناد الأقسام'!$D$7:$D$78)-ROW('اسناد الأقسام'!$D$7)+1),ROW(8:8))),\"\")","v":""},{"$f":"IF(ROW(8:8)<=COUNTIF('اسناد الأقسام'!$D$7:$D$78,التجميع!$B$122),INDEX('اسناد الأقسام'!Y$7:Y$78,SMALL(IF('اسناد الأقسام'!$D$7:$D$78=التجميع!$B$122,ROW('اسناد الأقسام'!$D$7:$D$78)-ROW('اسناد الأقسام'!$D$7)+1),ROW(8:8))),\"\")","v":""},{"$f":"IF(ROW(8:8)<=COUNTIF('اسناد الأقسام'!$D$7:$D$78,التجميع!$B$122),INDEX('اسناد الأقسام'!Z$7:Z$78,SMALL(IF('اسناد الأقسام'!$D$7:$D$78=التجميع!$B$122,ROW('اسناد الأقسام'!$D$7:$D$78)-ROW('اسناد الأقسام'!$D$7)+1),ROW(8:8))),\"\")","v":""},{"$f":"IF(ROW(8:8)<=COUNTIF('اسناد الأقسام'!$D$7:$D$78,التجميع!$B$122),INDEX('اسناد الأقسام'!AA$7:AA$78,SMALL(IF('اسناد الأقسام'!$D$7:$D$78=التجميع!$B$122,ROW('اسناد الأقسام'!$D$7:$D$78)-ROW('اسناد الأقسام'!$D$7)+1),ROW(8:8))),\"\")","v":""},{"$f":"IF(ROW(8:8)<=COUNTIF('اسناد الأقسام'!$D$7:$D$78,التجميع!$B$122),INDEX('اسناد الأقسام'!AB$7:AB$78,SMALL(IF('اسناد الأقسام'!$D$7:$D$78=التجميع!$B$122,ROW('اسناد الأقسام'!$D$7:$D$78)-ROW('اسناد الأقسام'!$D$7)+1),ROW(8:8))),\"\")","v":""},{"$f":"IF(ROW(8:8)<=COUNTIF('اسناد الأقسام'!$D$7:$D$78,التجميع!$B$122),INDEX('اسناد الأقسام'!AC$7:AC$78,SMALL(IF('اسناد الأقسام'!$D$7:$D$78=التجميع!$B$122,ROW('اسناد الأقسام'!$D$7:$D$78)-ROW('اسناد الأقسام'!$D$7)+1),ROW(8:8))),\"\")","v":""}]
[9,{"$f":"IF(ROW(9:9)<=COUNTIF('اسناد الأقسام'!$D$7:$D$78,التجميع!$B$122),INDEX('اسناد الأقسام'!C$7:C$78,SMALL(IF('اسناد الأقسام'!$D$7:$D$78=التجميع!$B$122,ROW('اسناد الأقسام'!$D$7:$D$78)-ROW('اسناد الأقسام'!$D$7)+1),ROW(9:9))),\"\")","v":""},{"$f":"IF(ROW(9:9)<=COUNTIF('اسناد الأقسام'!$D$7:$D$78,التجميع!$B$122),INDEX('اسناد الأقسام'!D$7:D$78,SMALL(IF('اسناد الأقسام'!$D$7:$D$78=التجميع!$B$122,ROW('اسناد الأقسام'!$D$7:$D$78)-ROW('اسناد الأقسام'!$D$7)+1),ROW(9:9))),\"\")","v":""},{"$f":"IF(ROW(9:9)<=COUNTIF('اسناد الأقسام'!$D$7:$D$78,التجميع!$B$122),INDEX('اسناد الأقسام'!E$7:E$78,SMALL(IF('اسناد الأقسام'!$D$7:$D$78=التجميع!$B$122,ROW('اسناد الأقسام'!$D$7:$D$78)-ROW('اسناد الأقسام'!$D$7)+1),ROW(9:9))),\"\")","v":""},{"$f":"IF(ROW(9:9)<=COUNTIF('اسناد الأقسام'!$D$7:$D$78,التجميع!$B$122),INDEX('اسناد الأقسام'!F$7:F$78,SMALL(IF('اسناد الأقسام'!$D$7:$D$78=التجميع!$B$122,ROW('اسناد الأقسام'!$D$7:$D$78)-ROW('اسناد الأقسام'!$D$7)+1),ROW(9:9))),\"\")","v":""},{"$f":"IF(ROW(9:9)<=COUNTIF('اسناد الأقسام'!$D$7:$D$78,التجميع!$B$122),INDEX('اسناد الأقسام'!G$7:G$78,SMALL(IF('اسناد الأقسام'!$D$7:$D$78=التجميع!$B$122,ROW('اسناد الأقسام'!$D$7:$D$78)-ROW('اسناد الأقسام'!$D$7)+1),ROW(9:9))),\"\")","v":""},{"$f":"IF(ROW(9:9)<=COUNTIF('اسناد الأقسام'!$D$7:$D$78,التجميع!$B$122),INDEX('اسناد الأقسام'!H$7:H$78,SMALL(IF('اسناد الأقسام'!$D$7:$D$78=التجميع!$B$122,ROW('اسناد الأقسام'!$D$7:$D$78)-ROW('اسناد الأقسام'!$D$7)+1),ROW(9:9))),\"\")","v":""},{"$f":"IF(ROW(9:9)<=COUNTIF('اسناد الأقسام'!$D$7:$D$78,التجميع!$B$122),INDEX('اسناد الأقسام'!I$7:I$78,SMALL(IF('اسناد الأقسام'!$D$7:$D$78=التجميع!$B$122,ROW('اسناد الأقسام'!$D$7:$D$78)-ROW('اسناد الأقسام'!$D$7)+1),ROW(9:9))),\"\")","v":""},{"$f":"IF(ROW(9:9)<=COUNTIF('اسناد الأقسام'!$D$7:$D$78,التجميع!$B$122),INDEX('اسناد الأقسام'!J$7:J$78,SMALL(IF('اسناد الأقسام'!$D$7:$D$78=التجميع!$B$122,ROW('اسناد الأقسام'!$D$7:$D$78)-ROW('اسناد الأقسام'!$D$7)+1),ROW(9:9))),\"\")","v":""},{"$f":"IF(ROW(9:9)<=COUNTIF('اسناد الأقسام'!$D$7:$D$78,التجميع!$B$122),INDEX('اسناد الأقسام'!K$7:K$78,SMALL(IF('اسناد الأقسام'!$D$7:$D$78=التجميع!$B$122,ROW('اسناد الأقسام'!$D$7:$D$78)-ROW('اسناد الأقسام'!$D$7)+1),ROW(9:9))),\"\")","v":""},{"$f":"IF(ROW(9:9)<=COUNTIF('اسناد الأقسام'!$D$7:$D$78,التجميع!$B$122),INDEX('اسناد الأقسام'!L$7:L$78,SMALL(IF('اسناد الأقسام'!$D$7:$D$78=التجميع!$B$122,ROW('اسناد الأقسام'!$D$7:$D$78)-ROW('اسناد الأقسام'!$D$7)+1),ROW(9:9))),\"\")","v":""},{"$f":"IF(ROW(9:9)<=COUNTIF('اسناد الأقسام'!$D$7:$D$78,التجميع!$B$122),INDEX('اسناد الأقسام'!M$7:M$78,SMALL(IF('اسناد الأقسام'!$D$7:$D$78=التجميع!$B$122,ROW('اسناد الأقسام'!$D$7:$D$78)-ROW('اسناد الأقسام'!$D$7)+1),ROW(9:9))),\"\")","v":""},{"$f":"IF(ROW(9:9)<=COUNTIF('اسناد الأقسام'!$D$7:$D$78,التجميع!$B$122),INDEX('اسناد الأقسام'!N$7:N$78,SMALL(IF('اسناد الأقسام'!$D$7:$D$78=التجميع!$B$122,ROW('اسناد الأقسام'!$D$7:$D$78)-ROW('اسناد الأقسام'!$D$7)+1),ROW(9:9))),\"\")","v":""},{"$f":"IF(ROW(9:9)<=COUNTIF('اسناد الأقسام'!$D$7:$D$78,التجميع!$B$122),INDEX('اسناد الأقسام'!O$7:O$78,SMALL(IF('اسناد الأقسام'!$D$7:$D$78=التجميع!$B$122,ROW('اسناد الأقسام'!$D$7:$D$78)-ROW('اسناد الأقسام'!$D$7)+1),ROW(9:9))),\"\")","v":""},{"$f":"IF(ROW(9:9)<=COUNTIF('اسناد الأقسام'!$D$7:$D$78,التجميع!$B$122),INDEX('اسناد الأقسام'!P$7:P$78,SMALL(IF('اسناد الأقسام'!$D$7:$D$78=التجميع!$B$122,ROW('اسناد الأقسام'!$D$7:$D$78)-ROW('اسناد الأقسام'!$D$7)+1),ROW(9:9))),\"\")","v":""},{"$f":"IF(ROW(9:9)<=COUNTIF('اسناد الأقسام'!$D$7:$D$78,التجميع!$B$122),INDEX('اسناد الأقسام'!Q$7:Q$78,SMALL(IF('اسناد الأقسام'!$D$7:$D$78=التجميع!$B$122,ROW('اسناد الأقسام'!$D$7:$D$78)-ROW('اسناد الأقسام'!$D$7)+1),ROW(9:9))),\"\")","v":""},{"$f":"IF(ROW(9:9)<=COUNTIF('اسناد الأقسام'!$D$7:$D$78,التجميع!$B$122),INDEX('اسناد الأقسام'!R$7:R$78,SMALL(IF('اسناد الأقسام'!$D$7:$D$78=التجميع!$B$122,ROW('اسناد الأقسام'!$D$7:$D$78)-ROW('اسناد الأقسام'!$D$7)+1),ROW(9:9))),\"\")","v":""},{"$f":"IF(ROW(9:9)<=COUNTIF('اسناد الأقسام'!$D$7:$D$78,التجميع!$B$122),INDEX('اسناد الأقسام'!S$7:S$78,SMALL(IF('اسناد الأقسام'!$D$7:$D$78=التجميع!$B$122,ROW('اسناد الأقسام'!$D$7:$D$78)-ROW('اسناد الأقسام'!$D$7)+1),ROW(9:9))),\"\")","v":""},{"$f":"IF(ROW(9:9)<=COUNTIF('اسناد الأقسام'!$D$7:$D$78,التجميع!$B$122),INDEX('اسناد الأقسام'!T$7:T$78,SMALL(IF('اسناد الأقسام'!$D$7:$D$78=التجميع!$B$122,ROW('اسناد الأقسام'!$D$7:$D$78)-ROW('اسناد الأقسام'!$D$7)+1),ROW(9:9))),\"\")","v":""},{"$f":"IF(ROW(9:9)<=COUNTIF('اسناد الأقسام'!$D$7:$D$78,التجميع!$B$122),INDEX('اسناد الأقسام'!U$7:U$78,SMALL(IF('اسناد الأقسام'!$D$7:$D$78=التجميع!$B$122,ROW('اسناد الأقسام'!$D$7:$D$78)-ROW('اسناد الأقسام'!$D$7)+1),ROW(9:9))),\"\")","v":""},{"$f":"IF(ROW(9:9)<=COUNTIF('اسناد الأقسام'!$D$7:$D$78,التجميع!$B$122),INDEX('اسناد الأقسام'!V$7:V$78,SMALL(IF('اسناد الأقسام'!$D$7:$D$78=التجميع!$B$122,ROW('اسناد الأقسام'!$D$7:$D$78)-ROW('اسناد الأقسام'!$D$7)+1),ROW(9:9))),\"\")","v":""},{"$f":"IF(ROW(9:9)<=COUNTIF('اسناد الأقسام'!$D$7:$D$78,التجميع!$B$122),INDEX('اسناد الأقسام'!W$7:W$78,SMALL(IF('اسناد الأقسام'!$D$7:$D$78=التجميع!$B$122,ROW('اسناد الأقسام'!$D$7:$D$78)-ROW('اسناد الأقسام'!$D$7)+1),ROW(9:9))),\"\")","v":""},{"$f":"IF(ROW(9:9)<=COUNTIF('اسناد الأقسام'!$D$7:$D$78,التجميع!$B$122),INDEX('اسناد الأقسام'!X$7:X$78,SMALL(IF('اسناد الأقسام'!$D$7:$D$78=التجميع!$B$122,ROW('اسناد الأقسام'!$D$7:$D$78)-ROW('اسناد الأقسام'!$D$7)+1),ROW(9:9))),\"\")","v":""},{"$f":"IF(ROW(9:9)<=COUNTIF('اسناد الأقسام'!$D$7:$D$78,التجميع!$B$122),INDEX('اسناد الأقسام'!Y$7:Y$78,SMALL(IF('اسناد الأقسام'!$D$7:$D$78=التجميع!$B$122,ROW('اسناد الأقسام'!$D$7:$D$78)-ROW('اسناد الأقسام'!$D$7)+1),ROW(9:9))),\"\")","v":""},{"$f":"IF(ROW(9:9)<=COUNTIF('اسناد الأقسام'!$D$7:$D$78,التجميع!$B$122),INDEX('اسناد الأقسام'!Z$7:Z$78,SMALL(IF('اسناد الأقسام'!$D$7:$D$78=التجميع!$B$122,ROW('اسناد الأقسام'!$D$7:$D$78)-ROW('اسناد الأقسام'!$D$7)+1),ROW(9:9))),\"\")","v":""},{"$f":"IF(ROW(9:9)<=COUNTIF('اسناد الأقسام'!$D$7:$D$78,التجميع!$B$122),INDEX('اسناد الأقسام'!AA$7:AA$78,SMALL(IF('اسناد الأقسام'!$D$7:$D$78=التجميع!$B$122,ROW('اسناد الأقسام'!$D$7:$D$78)-ROW('اسناد الأقسام'!$D$7)+1),ROW(9:9))),\"\")","v":""},{"$f":"IF(ROW(9:9)<=COUNTIF('اسناد الأقسام'!$D$7:$D$78,التجميع!$B$122),INDEX('اسناد الأقسام'!AB$7:AB$78,SMALL(IF('اسناد الأقسام'!$D$7:$D$78=التجميع!$B$122,ROW('اسناد الأقسام'!$D$7:$D$78)-ROW('اسناد الأقسام'!$D$7)+1),ROW(9:9))),\"\")","v":""},{"$f":"IF(ROW(9:9)<=COUNTIF('اسناد الأقسام'!$D$7:$D$78,التجميع!$B$122),INDEX('اسناد الأقسام'!AC$7:AC$78,SMALL(IF('اسناد الأقسام'!$D$7:$D$78=التجميع!$B$122,ROW('اسناد الأقسام'!$D$7:$D$78)-ROW('اسناد الأقسام'!$D$7)+1),ROW(9:9))),\"\")","v":""}]
[10,{"$f":"IF(ROW(10:10)<=COUNTIF('اسناد الأقسام'!$D$7:$D$78,التجميع!$B$122),INDEX('اسناد الأقسام'!C$7:C$78,SMALL(IF('اسناد الأقسام'!$D$7:$D$78=التجميع!$B$122,ROW('اسناد الأقسام'!$D$7:$D$78)-ROW('اسناد الأقسام'!$D$7)+1),ROW(10:10))),\"\")","v":""},{"$f":"IF(ROW(10:10)<=COUNTIF('اسناد الأقسام'!$D$7:$D$78,التجميع!$B$122),INDEX('اسناد الأقسام'!D$7:D$78,SMALL(IF('اسناد الأقسام'!$D$7:$D$78=التجميع!$B$122,ROW('اسناد الأقسام'!$D$7:$D$78)-ROW('اسناد الأقسام'!$D$7)+1),ROW(10:10))),\"\")","v":""},{"$f":"IF(ROW(10:10)<=COUNTIF('اسناد الأقسام'!$D$7:$D$78,التجميع!$B$122),INDEX('اسناد الأقسام'!E$7:E$78,SMALL(IF('اسناد الأقسام'!$D$7:$D$78=التجميع!$B$122,ROW('اسناد الأقسام'!$D$7:$D$78)-ROW('اسناد الأقسام'!$D$7)+1),ROW(10:10))),\"\")","v":""},{"$f":"IF(ROW(10:10)<=COUNTIF('اسناد الأقسام'!$D$7:$D$78,التجميع!$B$122),INDEX('اسناد الأقسام'!F$7:F$78,SMALL(IF('اسناد الأقسام'!$D$7:$D$78=التجميع!$B$122,ROW('اسناد الأقسام'!$D$7:$D$78)-ROW('اسناد الأقسام'!$D$7)+1),ROW(10:10))),\"\")","v":""},{"$f":"IF(ROW(10:10)<=COUNTIF('اسناد الأقسام'!$D$7:$D$78,التجميع!$B$122),INDEX('اسناد الأقسام'!G$7:G$78,SMALL(IF('اسناد الأقسام'!$D$7:$D$78=التجميع!$B$122,ROW('اسناد الأقسام'!$D$7:$D$78)-ROW('اسناد الأقسام'!$D$7)+1),ROW(10:10))),\"\")","v":""},{"$f":"IF(ROW(10:10)<=COUNTIF('اسناد الأقسام'!$D$7:$D$78,التجميع!$B$122),INDEX('اسناد الأقسام'!H$7:H$78,SMALL(IF('اسناد الأقسام'!$D$7:$D$78=التجميع!$B$122,ROW('اسناد الأقسام'!$D$7:$D$78)-ROW('اسناد الأقسام'!$D$7)+1),ROW(10:10))),\"\")","v":""},{"$f":"IF(ROW(10:10)<=COUNTIF('اسناد الأقسام'!$D$7:$D$78,التجميع!$B$122),INDEX('اسناد الأقسام'!I$7:I$78,SMALL(IF('اسناد الأقسام'!$D$7:$D$78=التجميع!$B$122,ROW('اسناد الأقسام'!$D$7:$D$78)-ROW('اسناد الأقسام'!$D$7)+1),ROW(10:10))),\"\")","v":""},{"$f":"IF(ROW(10:10)<=COUNTIF('اسناد الأقسام'!$D$7:$D$78,التجميع!$B$122),INDEX('اسناد الأقسام'!J$7:J$78,SMALL(IF('اسناد الأقسام'!$D$7:$D$78=التجميع!$B$122,ROW('اسناد الأقسام'!$D$7:$D$78)-ROW('اسناد الأقسام'!$D$7)+1),ROW(10:10))),\"\")","v":""},{"$f":"IF(ROW(10:10)<=COUNTIF('اسناد الأقسام'!$D$7:$D$78,التجميع!$B$122),INDEX('اسناد الأقسام'!K$7:K$78,SMALL(IF('اسناد الأقسام'!$D$7:$D$78=التجميع!$B$122,ROW('اسناد الأقسام'!$D$7:$D$78)-ROW('اسناد الأقسام'!$D$7)+1),ROW(10:10))),\"\")","v":""},{"$f":"IF(ROW(10:10)<=COUNTIF('اسناد الأقسام'!$D$7:$D$78,التجميع!$B$122),INDEX('اسناد الأقسام'!L$7:L$78,SMALL(IF('اسناد الأقسام'!$D$7:$D$78=التجميع!$B$122,ROW('اسناد الأقسام'!$D$7:$D$78)-ROW('اسناد الأقسام'!$D$7)+1),ROW(10:10))),\"\")","v":""},{"$f":"IF(ROW(10:10)<=COUNTIF('اسناد الأقسام'!$D$7:$D$78,التجميع!$B$122),INDEX('اسناد الأقسام'!M$7:M$78,SMALL(IF('اسناد الأقسام'!$D$7:$D$78=التجميع!$B$122,ROW('اسناد الأقسام'!$D$7:$D$78)-ROW('اسناد الأقسام'!$D$7)+1),ROW(10:10))),\"\")","v":""},{"$f":"IF(ROW(10:10)<=COUNTIF('اسناد الأقسام'!$D$7:$D$78,التجميع!$B$122),INDEX('اسناد الأقسام'!N$7:N$78,SMALL(IF('اسناد الأقسام'!$D$7:$D$78=التجميع!$B$122,ROW('اسناد الأقسام'!$D$7:$D$78)-ROW('اسناد الأقسام'!$D$7)+1),ROW(10:10))),\"\")","v":""},{"$f":"IF(ROW(10:10)<=COUNTIF('اسناد الأقسام'!$D$7:$D$78,التجميع!$B$122),INDEX('اسناد الأقسام'!O$7:O$78,SMALL(IF('اسناد الأقسام'!$D$7:$D$78=التجميع!$B$122,ROW('اسناد الأقسام'!$D$7:$D$78)-ROW('اسناد الأقسام'!$D$7)+1),ROW(10:10))),\"\")","v":""},{"$f":"IF(ROW(10:10)<=COUNTIF('اسناد الأقسام'!$D$7:$D$78,التجميع!$B$122),INDEX('اسناد الأقسام'!P$7:P$78,SMALL(IF('اسناد الأقسام'!$D$7:$D$78=التجميع!$B$122,ROW('اسناد الأقسام'!$D$7:$D$78)-ROW('اسناد الأقسام'!$D$7)+1),ROW(10:10))),\"\")","v":""},{"$f":"IF(ROW(10:10)<=COUNTIF('اسناد الأقسام'!$D$7:$D$78,التجميع!$B$122),INDEX('اسناد الأقسام'!Q$7:Q$78,SMALL(IF('اسناد الأقسام'!$D$7:$D$78=التجميع!$B$122,ROW('اسناد الأقسام'!$D$7:$D$78)-ROW('اسناد الأقسام'!$D$7)+1),ROW(10:10))),\"\")","v":""},{"$f":"IF(ROW(10:10)<=COUNTIF('اسناد الأقسام'!$D$7:$D$78,التجميع!$B$122),INDEX('اسناد الأقسام'!R$7:R$78,SMALL(IF('اسناد الأقسام'!$D$7:$D$78=التجميع!$B$122,ROW('اسناد الأقسام'!$D$7:$D$78)-ROW('اسناد الأقسام'!$D$7)+1),ROW(10:10))),\"\")","v":""},{"$f":"IF(ROW(10:10)<=COUNTIF('اسناد الأقسام'!$D$7:$D$78,التجميع!$B$122),INDEX('اسناد الأقسام'!S$7:S$78,SMALL(IF('اسناد الأقسام'!$D$7:$D$78=التجميع!$B$122,ROW('اسناد الأقسام'!$D$7:$D$78)-ROW('اسناد الأقسام'!$D$7)+1),ROW(10:10))),\"\")","v":""},{"$f":"IF(ROW(10:10)<=COUNTIF('اسناد الأقسام'!$D$7:$D$78,التجميع!$B$122),INDEX('اسناد الأقسام'!T$7:T$78,SMALL(IF('اسناد الأقسام'!$D$7:$D$78=التجميع!$B$122,ROW('اسناد الأقسام'!$D$7:$D$78)-ROW('اسناد الأقسام'!$D$7)+1),ROW(10:10))),\"\")","v":""},{"$f":"IF(ROW(10:10)<=COUNTIF('اسناد الأقسام'!$D$7:$D$78,التجميع!$B$122),INDEX('اسناد الأقسام'!U$7:U$78,SMALL(IF('اسناد الأقسام'!$D$7:$D$78=التجميع!$B$122,ROW('اسناد الأقسام'!$D$7:$D$78)-ROW('اسناد الأقسام'!$D$7)+1),ROW(10:10))),\"\")","v":""},{"$f":"IF(ROW(10:10)<=COUNTIF('اسناد الأقسام'!$D$7:$D$78,التجميع!$B$122),INDEX('اسناد الأقسام'!V$7:V$78,SMALL(IF('اسناد الأقسام'!$D$7:$D$78=التجميع!$B$122,ROW('اسناد الأقسام'!$D$7:$D$78)-ROW('اسناد الأقسام'!$D$7)+1),ROW(10:10))),\"\")","v":""},{"$f":"IF(ROW(10:10)<=COUNTIF('اسناد الأقسام'!$D$7:$D$78,التجميع!$B$122),INDEX('اسناد الأقسام'!W$7:W$78,SMALL(IF('اسناد الأقسام'!$D$7:$D$78=التجميع!$B$122,ROW('اسناد الأقسام'!$D$7:$D$78)-ROW('اسناد الأقسام'!$D$7)+1),ROW(10:10))),\"\")","v":""},{"$f":"IF(ROW(10:10)<=COUNTIF('اسناد الأقسام'!$D$7:$D$78,التجميع!$B$122),INDEX('اسناد الأقسام'!X$7:X$78,SMALL(IF('اسناد الأقسام'!$D$7:$D$78=التجميع!$B$122,ROW('اسناد الأقسام'!$D$7:$D$78)-ROW('اسناد الأقسام'!$D$7)+1),ROW(10:10))),\"\")","v":""},{"$f":"IF(ROW(10:10)<=COUNTIF('اسناد الأقسام'!$D$7:$D$78,التجميع!$B$122),INDEX('اسناد الأقسام'!Y$7:Y$78,SMALL(IF('اسناد الأقسام'!$D$7:$D$78=التجميع!$B$122,ROW('اسناد الأقسام'!$D$7:$D$78)-ROW('اسناد الأقسام'!$D$7)+1),ROW(10:10))),\"\")","v":""},{"$f":"IF(ROW(10:10)<=COUNTIF('اسناد الأقسام'!$D$7:$D$78,التجميع!$B$122),INDEX('اسناد الأقسام'!Z$7:Z$78,SMALL(IF('اسناد الأقسام'!$D$7:$D$78=التجميع!$B$122,ROW('اسناد الأقسام'!$D$7:$D$78)-ROW('اسناد الأقسام'!$D$7)+1),ROW(10:10))),\"\")","v":""},{"$f":"IF(ROW(10:10)<=COUNTIF('اسناد الأقسام'!$D$7:$D$78,التجميع!$B$122),INDEX('اسناد الأقسام'!AA$7:AA$78,SMALL(IF('اسناد الأقسام'!$D$7:$D$78=التجميع!$B$122,ROW('اسناد الأقسام'!$D$7:$D$78)-ROW('اسناد الأقسام'!$D$7)+1),ROW(10:10))),\"\")","v":""},{"$f":"IF(ROW(10:10)<=COUNTIF('اسناد الأقسام'!$D$7:$D$78,التجميع!$B$122),INDEX('اسناد الأقسام'!AB$7:AB$78,SMALL(IF('اسناد الأقسام'!$D$7:$D$78=التجميع!$B$122,ROW('اسناد الأقسام'!$D$7:$D$78)-ROW('اسناد الأقسام'!$D$7)+1),ROW(10:10))),\"\")","v":""},{"$f":"IF(ROW(10:10)<=COUNTIF('اسناد الأقسام'!$D$7:$D$78,التجميع!$B$122),INDEX('اسناد الأقسام'!AC$7:AC$78,SMALL(IF('اسناد الأقسام'!$D$7:$D$78=التجميع!$B$122,ROW('اسناد الأقسام'!$D$7:$D$78)-ROW('اسناد الأقسام'!$D$7)+1),ROW(10:10))),\"\")","v":""}]
[11,{"$f":"IF(ROW(11:11)<=COUNTIF('اسناد الأقسام'!$D$7:$D$78,التجميع!$B$122),INDEX('اسناد الأقسام'!C$7:C$78,SMALL(IF('اسناد الأقسام'!$D$7:$D$78=التجميع!$B$122,ROW('اسناد الأقسام'!$D$7:$D$78)-ROW('اسناد الأقسام'!$D$7)+1),ROW(11:11))),\"\")","v":""},{"$f":"IF(ROW(11:11)<=COUNTIF('اسناد الأقسام'!$D$7:$D$78,التجميع!$B$122),INDEX('اسناد الأقسام'!D$7:D$78,SMALL(IF('اسناد الأقسام'!$D$7:$D$78=التجميع!$B$122,ROW('اسناد الأقسام'!$D$7:$D$78)-ROW('اسناد الأقسام'!$D$7)+1),ROW(11:11))),\"\")","v":""},{"$f":"IF(ROW(11:11)<=COUNTIF('اسناد الأقسام'!$D$7:$D$78,التجميع!$B$122),INDEX('اسناد الأقسام'!E$7:E$78,SMALL(IF('اسناد الأقسام'!$D$7:$D$78=التجميع!$B$122,ROW('اسناد الأقسام'!$D$7:$D$78)-ROW('اسناد الأقسام'!$D$7)+1),ROW(11:11))),\"\")","v":""},{"$f":"IF(ROW(11:11)<=COUNTIF('اسناد الأقسام'!$D$7:$D$78,التجميع!$B$122),INDEX('اسناد الأقسام'!F$7:F$78,SMALL(IF('اسناد الأقسام'!$D$7:$D$78=التجميع!$B$122,ROW('اسناد الأقسام'!$D$7:$D$78)-ROW('اسناد الأقسام'!$D$7)+1),ROW(11:11))),\"\")","v":""},{"$f":"IF(ROW(11:11)<=COUNTIF('اسناد الأقسام'!$D$7:$D$78,التجميع!$B$122),INDEX('اسناد الأقسام'!G$7:G$78,SMALL(IF('اسناد الأقسام'!$D$7:$D$78=التجميع!$B$122,ROW('اسناد الأقسام'!$D$7:$D$78)-ROW('اسناد الأقسام'!$D$7)+1),ROW(11:11))),\"\")","v":""},{"$f":"IF(ROW(11:11)<=COUNTIF('اسناد الأقسام'!$D$7:$D$78,التجميع!$B$122),INDEX('اسناد الأقسام'!H$7:H$78,SMALL(IF('اسناد الأقسام'!$D$7:$D$78=التجميع!$B$122,ROW('اسناد الأقسام'!$D$7:$D$78)-ROW('اسناد الأقسام'!$D$7)+1),ROW(11:11))),\"\")","v":""},{"$f":"IF(ROW(11:11)<=COUNTIF('اسناد الأقسام'!$D$7:$D$78,التجميع!$B$122),INDEX('اسناد الأقسام'!I$7:I$78,SMALL(IF('اسناد الأقسام'!$D$7:$D$78=التجميع!$B$122,ROW('اسناد الأقسام'!$D$7:$D$78)-ROW('اسناد الأقسام'!$D$7)+1),ROW(11:11))),\"\")","v":""},{"$f":"IF(ROW(11:11)<=COUNTIF('اسناد الأقسام'!$D$7:$D$78,التجميع!$B$122),INDEX('اسناد الأقسام'!J$7:J$78,SMALL(IF('اسناد الأقسام'!$D$7:$D$78=التجميع!$B$122,ROW('اسناد الأقسام'!$D$7:$D$78)-ROW('اسناد الأقسام'!$D$7)+1),ROW(11:11))),\"\")","v":""},{"$f":"IF(ROW(11:11)<=COUNTIF('اسناد الأقسام'!$D$7:$D$78,التجميع!$B$122),INDEX('اسناد الأقسام'!K$7:K$78,SMALL(IF('اسناد الأقسام'!$D$7:$D$78=التجميع!$B$122,ROW('اسناد الأقسام'!$D$7:$D$78)-ROW('اسناد الأقسام'!$D$7)+1),ROW(11:11))),\"\")","v":""},{"$f":"IF(ROW(11:11)<=COUNTIF('اسناد الأقسام'!$D$7:$D$78,التجميع!$B$122),INDEX('اسناد الأقسام'!L$7:L$78,SMALL(IF('اسناد الأقسام'!$D$7:$D$78=التجميع!$B$122,ROW('اسناد الأقسام'!$D$7:$D$78)-ROW('اسناد الأقسام'!$D$7)+1),ROW(11:11))),\"\")","v":""},{"$f":"IF(ROW(11:11)<=COUNTIF('اسناد الأقسام'!$D$7:$D$78,التجميع!$B$122),INDEX('اسناد الأقسام'!M$7:M$78,SMALL(IF('اسناد الأقسام'!$D$7:$D$78=التجميع!$B$122,ROW('اسناد الأقسام'!$D$7:$D$78)-ROW('اسناد الأقسام'!$D$7)+1),ROW(11:11))),\"\")","v":""},{"$f":"IF(ROW(11:11)<=COUNTIF('اسناد الأقسام'!$D$7:$D$78,التجميع!$B$122),INDEX('اسناد الأقسام'!N$7:N$78,SMALL(IF('اسناد الأقسام'!$D$7:$D$78=التجميع!$B$122,ROW('اسناد الأقسام'!$D$7:$D$78)-ROW('اسناد الأقسام'!$D$7)+1),ROW(11:11))),\"\")","v":""},{"$f":"IF(ROW(11:11)<=COUNTIF('اسناد الأقسام'!$D$7:$D$78,التجميع!$B$122),INDEX('اسناد الأقسام'!O$7:O$78,SMALL(IF('اسناد الأقسام'!$D$7:$D$78=التجميع!$B$122,ROW('اسناد الأقسام'!$D$7:$D$78)-ROW('اسناد الأقسام'!$D$7)+1),ROW(11:11))),\"\")","v":""},{"$f":"IF(ROW(11:11)<=COUNTIF('اسناد الأقسام'!$D$7:$D$78,التجميع!$B$122),INDEX('اسناد الأقسام'!P$7:P$78,SMALL(IF('اسناد الأقسام'!$D$7:$D$78=التجميع!$B$122,ROW('اسناد الأقسام'!$D$7:$D$78)-ROW('اسناد الأقسام'!$D$7)+1),ROW(11:11))),\"\")","v":""},{"$f":"IF(ROW(11:11)<=COUNTIF('اسناد الأقسام'!$D$7:$D$78,التجميع!$B$122),INDEX('اسناد الأقسام'!Q$7:Q$78,SMALL(IF('اسناد الأقسام'!$D$7:$D$78=التجميع!$B$122,ROW('اسناد الأقسام'!$D$7:$D$78)-ROW('اسناد الأقسام'!$D$7)+1),ROW(11:11))),\"\")","v":""},{"$f":"IF(ROW(11:11)<=COUNTIF('اسناد الأقسام'!$D$7:$D$78,التجميع!$B$122),INDEX('اسناد الأقسام'!R$7:R$78,SMALL(IF('اسناد الأقسام'!$D$7:$D$78=التجميع!$B$122,ROW('اسناد الأقسام'!$D$7:$D$78)-ROW('اسناد الأقسام'!$D$7)+1),ROW(11:11))),\"\")","v":""},{"$f":"IF(ROW(11:11)<=COUNTIF('اسناد الأقسام'!$D$7:$D$78,التجميع!$B$122),INDEX('اسناد الأقسام'!S$7:S$78,SMALL(IF('اسناد الأقسام'!$D$7:$D$78=التجميع!$B$122,ROW('اسناد الأقسام'!$D$7:$D$78)-ROW('اسناد الأقسام'!$D$7)+1),ROW(11:11))),\"\")","v":""},{"$f":"IF(ROW(11:11)<=COUNTIF('اسناد الأقسام'!$D$7:$D$78,التجميع!$B$122),INDEX('اسناد الأقسام'!T$7:T$78,SMALL(IF('اسناد الأقسام'!$D$7:$D$78=التجميع!$B$122,ROW('اسناد الأقسام'!$D$7:$D$78)-ROW('اسناد الأقسام'!$D$7)+1),ROW(11:11))),\"\")","v":""},{"$f":"IF(ROW(11:11)<=COUNTIF('اسناد الأقسام'!$D$7:$D$78,التجميع!$B$122),INDEX('اسناد الأقسام'!U$7:U$78,SMALL(IF('اسناد الأقسام'!$D$7:$D$78=التجميع!$B$122,ROW('اسناد الأقسام'!$D$7:$D$78)-ROW('اسناد الأقسام'!$D$7)+1),ROW(11:11))),\"\")","v":""},{"$f":"IF(ROW(11:11)<=COUNTIF('اسناد الأقسام'!$D$7:$D$78,التجميع!$B$122),INDEX('اسناد الأقسام'!V$7:V$78,SMALL(IF('اسناد الأقسام'!$D$7:$D$78=التجميع!$B$122,ROW('اسناد الأقسام'!$D$7:$D$78)-ROW('اسناد الأقسام'!$D$7)+1),ROW(11:11))),\"\")","v":""},{"$f":"IF(ROW(11:11)<=COUNTIF('اسناد الأقسام'!$D$7:$D$78,التجميع!$B$122),INDEX('اسناد الأقسام'!W$7:W$78,SMALL(IF('اسناد الأقسام'!$D$7:$D$78=التجميع!$B$122,ROW('اسناد الأقسام'!$D$7:$D$78)-ROW('اسناد الأقسام'!$D$7)+1),ROW(11:11))),\"\")","v":""},{"$f":"IF(ROW(11:11)<=COUNTIF('اسناد الأقسام'!$D$7:$D$78,التجميع!$B$122),INDEX('اسناد الأقسام'!X$7:X$78,SMALL(IF('اسناد الأقسام'!$D$7:$D$78=التجميع!$B$122,ROW('اسناد الأقسام'!$D$7:$D$78)-ROW('اسناد الأقسام'!$D$7)+1),ROW(11:11))),\"\")","v":""},{"$f":"IF(ROW(11:11)<=COUNTIF('اسناد الأقسام'!$D$7:$D$78,التجميع!$B$122),INDEX('اسناد الأقسام'!Y$7:Y$78,SMALL(IF('اسناد الأقسام'!$D$7:$D$78=التجميع!$B$122,ROW('اسناد الأقسام'!$D$7:$D$78)-ROW('اسناد الأقسام'!$D$7)+1),ROW(11:11))),\"\")","v":""},{"$f":"IF(ROW(11:11)<=COUNTIF('اسناد الأقسام'!$D$7:$D$78,التجميع!$B$122),INDEX('اسناد الأقسام'!Z$7:Z$78,SMALL(IF('اسناد الأقسام'!$D$7:$D$78=التجميع!$B$122,ROW('اسناد الأقسام'!$D$7:$D$78)-ROW('اسناد الأقسام'!$D$7)+1),ROW(11:11))),\"\")","v":""},{"$f":"IF(ROW(11:11)<=COUNTIF('اسناد الأقسام'!$D$7:$D$78,التجميع!$B$122),INDEX('اسناد الأقسام'!AA$7:AA$78,SMALL(IF('اسناد الأقسام'!$D$7:$D$78=التجميع!$B$122,ROW('اسناد الأقسام'!$D$7:$D$78)-ROW('اسناد الأقسام'!$D$7)+1),ROW(11:11))),\"\")","v":""},{"$f":"IF(ROW(11:11)<=COUNTIF('اسناد الأقسام'!$D$7:$D$78,التجميع!$B$122),INDEX('اسناد الأقسام'!AB$7:AB$78,SMALL(IF('اسناد الأقسام'!$D$7:$D$78=التجميع!$B$122,ROW('اسناد الأقسام'!$D$7:$D$78)-ROW('اسناد الأقسام'!$D$7)+1),ROW(11:11))),\"\")","v":""},{"$f":"IF(ROW(11:11)<=COUNTIF('اسناد الأقسام'!$D$7:$D$78,التجميع!$B$122),INDEX('اسناد الأقسام'!AC$7:AC$78,SMALL(IF('اسناد الأقسام'!$D$7:$D$78=التجميع!$B$122,ROW('اسناد الأقسام'!$D$7:$D$78)-ROW('اسناد الأقسام'!$D$7)+1),ROW(11:11))),\"\")","v":""}]
[12,{"$f":"IF(ROW(12:12)<=COUNTIF('اسناد الأقسام'!$D$7:$D$78,التجميع!$B$122),INDEX('اسناد الأقسام'!C$7:C$78,SMALL(IF('اسناد الأقسام'!$D$7:$D$78=التجميع!$B$122,ROW('اسناد الأقسام'!$D$7:$D$78)-ROW('اسناد الأقسام'!$D$7)+1),ROW(12:12))),\"\")","v":""},{"$f":"IF(ROW(12:12)<=COUNTIF('اسناد الأقسام'!$D$7:$D$78,التجميع!$B$122),INDEX('اسناد الأقسام'!D$7:D$78,SMALL(IF('اسناد الأقسام'!$D$7:$D$78=التجميع!$B$122,ROW('اسناد الأقسام'!$D$7:$D$78)-ROW('اسناد الأقسام'!$D$7)+1),ROW(12:12))),\"\")","v":""},{"$f":"IF(ROW(12:12)<=COUNTIF('اسناد الأقسام'!$D$7:$D$78,التجميع!$B$122),INDEX('اسناد الأقسام'!E$7:E$78,SMALL(IF('اسناد الأقسام'!$D$7:$D$78=التجميع!$B$122,ROW('اسناد الأقسام'!$D$7:$D$78)-ROW('اسناد الأقسام'!$D$7)+1),ROW(12:12))),\"\")","v":""},{"$f":"IF(ROW(12:12)<=COUNTIF('اسناد الأقسام'!$D$7:$D$78,التجميع!$B$122),INDEX('اسناد الأقسام'!F$7:F$78,SMALL(IF('اسناد الأقسام'!$D$7:$D$78=التجميع!$B$122,ROW('اسناد الأقسام'!$D$7:$D$78)-ROW('اسناد الأقسام'!$D$7)+1),ROW(12:12))),\"\")","v":""},{"$f":"IF(ROW(12:12)<=COUNTIF('اسناد الأقسام'!$D$7:$D$78,التجميع!$B$122),INDEX('اسناد الأقسام'!G$7:G$78,SMALL(IF('اسناد الأقسام'!$D$7:$D$78=التجميع!$B$122,ROW('اسناد الأقسام'!$D$7:$D$78)-ROW('اسناد الأقسام'!$D$7)+1),ROW(12:12))),\"\")","v":""},{"$f":"IF(ROW(12:12)<=COUNTIF('اسناد الأقسام'!$D$7:$D$78,التجميع!$B$122),INDEX('اسناد الأقسام'!H$7:H$78,SMALL(IF('اسناد الأقسام'!$D$7:$D$78=التجميع!$B$122,ROW('اسناد الأقسام'!$D$7:$D$78)-ROW('اسناد الأقسام'!$D$7)+1),ROW(12:12))),\"\")","v":""},{"$f":"IF(ROW(12:12)<=COUNTIF('اسناد الأقسام'!$D$7:$D$78,التجميع!$B$122),INDEX('اسناد الأقسام'!I$7:I$78,SMALL(IF('اسناد الأقسام'!$D$7:$D$78=التجميع!$B$122,ROW('اسناد الأقسام'!$D$7:$D$78)-ROW('اسناد الأقسام'!$D$7)+1),ROW(12:12))),\"\")","v":""},{"$f":"IF(ROW(12:12)<=COUNTIF('اسناد الأقسام'!$D$7:$D$78,التجميع!$B$122),INDEX('اسناد الأقسام'!J$7:J$78,SMALL(IF('اسناد الأقسام'!$D$7:$D$78=التجميع!$B$122,ROW('اسناد الأقسام'!$D$7:$D$78)-ROW('اسناد الأقسام'!$D$7)+1),ROW(12:12))),\"\")","v":""},{"$f":"IF(ROW(12:12)<=COUNTIF('اسناد الأقسام'!$D$7:$D$78,التجميع!$B$122),INDEX('اسناد الأقسام'!K$7:K$78,SMALL(IF('اسناد الأقسام'!$D$7:$D$78=التجميع!$B$122,ROW('اسناد الأقسام'!$D$7:$D$78)-ROW('اسناد الأقسام'!$D$7)+1),ROW(12:12))),\"\")","v":""},{"$f":"IF(ROW(12:12)<=COUNTIF('اسناد الأقسام'!$D$7:$D$78,التجميع!$B$122),INDEX('اسناد الأقسام'!L$7:L$78,SMALL(IF('اسناد الأقسام'!$D$7:$D$78=التجميع!$B$122,ROW('اسناد الأقسام'!$D$7:$D$78)-ROW('اسناد الأقسام'!$D$7)+1),ROW(12:12))),\"\")","v":""},{"$f":"IF(ROW(12:12)<=COUNTIF('اسناد الأقسام'!$D$7:$D$78,التجميع!$B$122),INDEX('اسناد الأقسام'!M$7:M$78,SMALL(IF('اسناد الأقسام'!$D$7:$D$78=التجميع!$B$122,ROW('اسناد الأقسام'!$D$7:$D$78)-ROW('اسناد الأقسام'!$D$7)+1),ROW(12:12))),\"\")","v":""},{"$f":"IF(ROW(12:12)<=COUNTIF('اسناد الأقسام'!$D$7:$D$78,التجميع!$B$122),INDEX('اسناد الأقسام'!N$7:N$78,SMALL(IF('اسناد الأقسام'!$D$7:$D$78=التجميع!$B$122,ROW('اسناد الأقسام'!$D$7:$D$78)-ROW('اسناد الأقسام'!$D$7)+1),ROW(12:12))),\"\")","v":""},{"$f":"IF(ROW(12:12)<=COUNTIF('اسناد الأقسام'!$D$7:$D$78,التجميع!$B$122),INDEX('اسناد الأقسام'!O$7:O$78,SMALL(IF('اسناد الأقسام'!$D$7:$D$78=التجميع!$B$122,ROW('اسناد الأقسام'!$D$7:$D$78)-ROW('اسناد الأقسام'!$D$7)+1),ROW(12:12))),\"\")","v":""},{"$f":"IF(ROW(12:12)<=COUNTIF('اسناد الأقسام'!$D$7:$D$78,التجميع!$B$122),INDEX('اسناد الأقسام'!P$7:P$78,SMALL(IF('اسناد الأقسام'!$D$7:$D$78=التجميع!$B$122,ROW('اسناد الأقسام'!$D$7:$D$78)-ROW('اسناد الأقسام'!$D$7)+1),ROW(12:12))),\"\")","v":""},{"$f":"IF(ROW(12:12)<=COUNTIF('اسناد الأقسام'!$D$7:$D$78,التجميع!$B$122),INDEX('اسناد الأقسام'!Q$7:Q$78,SMALL(IF('اسناد الأقسام'!$D$7:$D$78=التجميع!$B$122,ROW('اسناد الأقسام'!$D$7:$D$78)-ROW('اسناد الأقسام'!$D$7)+1),ROW(12:12))),\"\")","v":""},{"$f":"IF(ROW(12:12)<=COUNTIF('اسناد الأقسام'!$D$7:$D$78,التجميع!$B$122),INDEX('اسناد الأقسام'!R$7:R$78,SMALL(IF('اسناد الأقسام'!$D$7:$D$78=التجميع!$B$122,ROW('اسناد الأقسام'!$D$7:$D$78)-ROW('اسناد الأقسام'!$D$7)+1),ROW(12:12))),\"\")","v":""},{"$f":"IF(ROW(12:12)<=COUNTIF('اسناد الأقسام'!$D$7:$D$78,التجميع!$B$122),INDEX('اسناد الأقسام'!S$7:S$78,SMALL(IF('اسناد الأقسام'!$D$7:$D$78=التجميع!$B$122,ROW('اسناد الأقسام'!$D$7:$D$78)-ROW('اسناد الأقسام'!$D$7)+1),ROW(12:12))),\"\")","v":""},{"$f":"IF(ROW(12:12)<=COUNTIF('اسناد الأقسام'!$D$7:$D$78,التجميع!$B$122),INDEX('اسناد الأقسام'!T$7:T$78,SMALL(IF('اسناد الأقسام'!$D$7:$D$78=التجميع!$B$122,ROW('اسناد الأقسام'!$D$7:$D$78)-ROW('اسناد الأقسام'!$D$7)+1),ROW(12:12))),\"\")","v":""},{"$f":"IF(ROW(12:12)<=COUNTIF('اسناد الأقسام'!$D$7:$D$78,التجميع!$B$122),INDEX('اسناد الأقسام'!U$7:U$78,SMALL(IF('اسناد الأقسام'!$D$7:$D$78=التجميع!$B$122,ROW('اسناد الأقسام'!$D$7:$D$78)-ROW('اسناد الأقسام'!$D$7)+1),ROW(12:12))),\"\")","v":""},{"$f":"IF(ROW(12:12)<=COUNTIF('اسناد الأقسام'!$D$7:$D$78,التجميع!$B$122),INDEX('اسناد الأقسام'!V$7:V$78,SMALL(IF('اسناد الأقسام'!$D$7:$D$78=التجميع!$B$122,ROW('اسناد الأقسام'!$D$7:$D$78)-ROW('اسناد الأقسام'!$D$7)+1),ROW(12:12))),\"\")","v":""},{"$f":"IF(ROW(12:12)<=COUNTIF('اسناد الأقسام'!$D$7:$D$78,التجميع!$B$122),INDEX('اسناد الأقسام'!W$7:W$78,SMALL(IF('اسناد الأقسام'!$D$7:$D$78=التجميع!$B$122,ROW('اسناد الأقسام'!$D$7:$D$78)-ROW('اسناد الأقسام'!$D$7)+1),ROW(12:12))),\"\")","v":""},{"$f":"IF(ROW(12:12)<=COUNTIF('اسناد الأقسام'!$D$7:$D$78,التجميع!$B$122),INDEX('اسناد الأقسام'!X$7:X$78,SMALL(IF('اسناد الأقسام'!$D$7:$D$78=التجميع!$B$122,ROW('اسناد الأقسام'!$D$7:$D$78)-ROW('اسناد الأقسام'!$D$7)+1),ROW(12:12))),\"\")","v":""},{"$f":"IF(ROW(12:12)<=COUNTIF('اسناد الأقسام'!$D$7:$D$78,التجميع!$B$122),INDEX('اسناد الأقسام'!Y$7:Y$78,SMALL(IF('اسناد الأقسام'!$D$7:$D$78=التجميع!$B$122,ROW('اسناد الأقسام'!$D$7:$D$78)-ROW('اسناد الأقسام'!$D$7)+1),ROW(12:12))),\"\")","v":""},{"$f":"IF(ROW(12:12)<=COUNTIF('اسناد الأقسام'!$D$7:$D$78,التجميع!$B$122),INDEX('اسناد الأقسام'!Z$7:Z$78,SMALL(IF('اسناد الأقسام'!$D$7:$D$78=التجميع!$B$122,ROW('اسناد الأقسام'!$D$7:$D$78)-ROW('اسناد الأقسام'!$D$7)+1),ROW(12:12))),\"\")","v":""},{"$f":"IF(ROW(12:12)<=COUNTIF('اسناد الأقسام'!$D$7:$D$78,التجميع!$B$122),INDEX('اسناد الأقسام'!AA$7:AA$78,SMALL(IF('اسناد الأقسام'!$D$7:$D$78=التجميع!$B$122,ROW('اسناد الأقسام'!$D$7:$D$78)-ROW('اسناد الأقسام'!$D$7)+1),ROW(12:12))),\"\")","v":""},{"$f":"IF(ROW(12:12)<=COUNTIF('اسناد الأقسام'!$D$7:$D$78,التجميع!$B$122),INDEX('اسناد الأقسام'!AB$7:AB$78,SMALL(IF('اسناد الأقسام'!$D$7:$D$78=التجميع!$B$122,ROW('اسناد الأقسام'!$D$7:$D$78)-ROW('اسناد الأقسام'!$D$7)+1),ROW(12:12))),\"\")","v":""},{"$f":"IF(ROW(12:12)<=COUNTIF('اسناد الأقسام'!$D$7:$D$78,التجميع!$B$122),INDEX('اسناد الأقسام'!AC$7:AC$78,SMALL(IF('اسناد الأقسام'!$D$7:$D$78=التجميع!$B$122,ROW('اسناد الأقسام'!$D$7:$D$78)-ROW('اسناد الأقسام'!$D$7)+1),ROW(12:12))),\"\")","v":""}]
[]
[null,"موسيقى"]
["الرقم","اللقب والاسم","المادة","تاريخ الميلاد","الصفة","أقصى درجة جامعية","تاريخ التعيين بالمؤسسة","الأقسام المسندة"]
[1,{"$f":"IF(ROW(1:1)<=COUNTIF('اسناد الأقسام'!$D$7:$D$78,التجميع!$B$137),INDEX('اسناد الأقسام'!C$7:C$78,SMALL(IF('اسناد الأقسام'!$D$7:$D$78=التجميع!$B$137,ROW('اسناد الأقسام'!$D$7:$D$78)-ROW('اسناد الأقسام'!$D$7)+1),ROW(1:1))),\"\")","v":""},{"$f":"IF(ROW(1:1)<=COUNTIF('اسناد الأقسام'!$D$7:$D$78,التجميع!$B$137),INDEX('اسناد الأقسام'!D$7:D$78,SMALL(IF('اسناد الأقسام'!$D$7:$D$78=التجميع!$B$137,ROW('اسناد الأقسام'!$D$7:$D$78)-ROW('اسناد الأقسام'!$D$7)+1),ROW(1:1))),\"\")","v":""},{"$f":"IF(ROW(1:1)<=COUNTIF('اسناد الأقسام'!$D$7:$D$78,التجميع!$B$137),INDEX('اسناد الأقسام'!E$7:E$78,SMALL(IF('اسناد الأقسام'!$D$7:$D$78=التجميع!$B$137,ROW('اسناد الأقسام'!$D$7:$D$78)-ROW('اسناد الأقسام'!$D$7)+1),ROW(1:1))),\"\")","v":""},{"$f":"IF(ROW(1:1)<=COUNTIF('اسناد الأقسام'!$D$7:$D$78,التجميع!$B$137),INDEX('اسناد الأقسام'!F$7:F$78,SMALL(IF('اسناد الأقسام'!$D$7:$D$78=التجميع!$B$137,ROW('اسناد الأقسام'!$D$7:$D$78)-ROW('اسناد الأقسام'!$D$7)+1),ROW(1:1))),\"\")","v":""},{"$f":"IF(ROW(1:1)<=COUNTIF('اسناد الأقسام'!$D$7:$D$78,التجميع!$B$137),INDEX('اسناد الأقسام'!G$7:G$78,SMALL(IF('اسناد الأقسام'!$D$7:$D$78=التجميع!$B$137,ROW('اسناد الأقسام'!$D$7:$D$78)-ROW('اسناد الأقسام'!$D$7)+1),ROW(1:1))),\"\")","v":""},{"$f":"IF(ROW(1:1)<=COUNTIF('اسناد الأقسام'!$D$7:$D$78,التجميع!$B$137),INDEX('اسناد الأقسام'!H$7:H$78,SMALL(IF('اسناد الأقسام'!$D$7:$D$78=التجميع!$B$137,ROW('اسناد الأقسام'!$D$7:$D$78)-ROW('اسناد الأقسام'!$D$7)+1),ROW(1:1))),\"\")","v":""},{"$f":"IF(ROW(1:1)<=COUNTIF('اسناد الأقسام'!$D$7:$D$78,التجميع!$B$137),INDEX('اسناد الأقسام'!I$7:I$78,SMALL(IF('اسناد الأقسام'!$D$7:$D$78=التجميع!$B$137,ROW('اسناد الأقسام'!$D$7:$D$78)-ROW('اسناد الأقسام'!$D$7)+1),ROW(1:1))),\"\")","v":""},{"$f":"IF(ROW(1:1)<=COUNTIF('اسناد الأقسام'!$D$7:$D$78,التجميع!$B$137),INDEX('اسناد الأقسام'!J$7:J$78,SMALL(IF('اسناد الأقسام'!$D$7:$D$78=التجميع!$B$137,ROW('اسناد الأقسام'!$D$7:$D$78)-ROW('اسناد الأقسام'!$D$7)+1),ROW(1:1))),\"\")","v":""},{"$f":"IF(ROW(1:1)<=COUNTIF('اسناد الأقسام'!$D$7:$D$78,التجميع!$B$137),INDEX('اسناد الأقسام'!K$7:K$78,SMALL(IF('اسناد الأقسام'!$D$7:$D$78=التجميع!$B$137,ROW('اسناد الأقسام'!$D$7:$D$78)-ROW('اسناد الأقسام'!$D$7)+1),ROW(1:1))),\"\")","v":""},{"$f":"IF(ROW(1:1)<=COUNTIF('اسناد الأقسام'!$D$7:$D$78,التجميع!$B$137),INDEX('اسناد الأقسام'!L$7:L$78,SMALL(IF('اسناد الأقسام'!$D$7:$D$78=التجميع!$B$137,ROW('اسناد الأقسام'!$D$7:$D$78)-ROW('اسناد الأقسام'!$D$7)+1),ROW(1:1))),\"\")","v":""},{"$f":"IF(ROW(1:1)<=COUNTIF('اسناد الأقسام'!$D$7:$D$78,التجميع!$B$137),INDEX('اسناد الأقسام'!M$7:M$78,SMALL(IF('اسناد الأقسام'!$D$7:$D$78=التجميع!$B$137,ROW('اسناد الأقسام'!$D$7:$D$78)-ROW('اسناد الأقسام'!$D$7)+1),ROW(1:1))),\"\")","v":""},{"$f":"IF(ROW(1:1)<=COUNTIF('اسناد الأقسام'!$D$7:$D$78,التجميع!$B$137),INDEX('اسناد الأقسام'!N$7:N$78,SMALL(IF('اسناد الأقسام'!$D$7:$D$78=التجميع!$B$137,ROW('اسناد الأقسام'!$D$7:$D$78)-ROW('اسناد الأقسام'!$D$7)+1),ROW(1:1))),\"\")","v":""},{"$f":"IF(ROW(1:1)<=COUNTIF('اسناد الأقسام'!$D$7:$D$78,التجميع!$B$137),INDEX('اسناد الأقسام'!O$7:O$78,SMALL(IF('اسناد الأقسام'!$D$7:$D$78=التجميع!$B$137,ROW('اسناد الأقسام'!$D$7:$D$78)-ROW('اسناد الأقسام'!$D$7)+1),ROW(1:1))),\"\")","v":""},{"$f":"IF(ROW(1:1)<=COUNTIF('اسناد الأقسام'!$D$7:$D$78,التجميع!$B$137),INDEX('اسناد الأقسام'!P$7:P$78,SMALL(IF('اسناد الأقسام'!$D$7:$D$78=التجميع!$B$137,ROW('اسناد الأقسام'!$D$7:$D$78)-ROW('اسناد الأقسام'!$D$7)+1),ROW(1:1))),\"\")","v":""},{"$f":"IF(ROW(1:1)<=COUNTIF('اسناد الأقسام'!$D$7:$D$78,التجميع!$B$137),INDEX('اسناد الأقسام'!Q$7:Q$78,SMALL(IF('اسناد الأقسام'!$D$7:$D$78=التجميع!$B$137,ROW('اسناد الأقسام'!$D$7:$D$78)-ROW('اسناد الأقسام'!$D$7)+1),ROW(1:1))),\"\")","v":""},{"$f":"IF(ROW(1:1)<=COUNTIF('اسناد الأقسام'!$D$7:$D$78,التجميع!$B$137),INDEX('اسناد الأقسام'!R$7:R$78,SMALL(IF('اسناد الأقسام'!$D$7:$D$78=التجميع!$B$137,ROW('اسناد الأقسام'!$D$7:$D$78)-ROW('اسناد الأقسام'!$D$7)+1),ROW(1:1))),\"\")","v":""},{"$f":"IF(ROW(1:1)<=COUNTIF('اسناد الأقسام'!$D$7:$D$78,التجميع!$B$137),INDEX('اسناد الأقسام'!S$7:S$78,SMALL(IF('اسناد الأقسام'!$D$7:$D$78=التجميع!$B$137,ROW('اسناد الأقسام'!$D$7:$D$78)-ROW('اسناد الأقسام'!$D$7)+1),ROW(1:1))),\"\")","v":""},{"$f":"IF(ROW(1:1)<=COUNTIF('اسناد الأقسام'!$D$7:$D$78,التجميع!$B$137),INDEX('اسناد الأقسام'!T$7:T$78,SMALL(IF('اسناد الأقسام'!$D$7:$D$78=التجميع!$B$137,ROW('اسناد الأقسام'!$D$7:$D$78)-ROW('اسناد الأقسام'!$D$7)+1),ROW(1:1))),\"\")","v":""},{"$f":"IF(ROW(1:1)<=COUNTIF('اسناد الأقسام'!$D$7:$D$78,التجميع!$B$137),INDEX('اسناد الأقسام'!U$7:U$78,SMALL(IF('اسناد الأقسام'!$D$7:$D$78=التجميع!$B$137,ROW('اسناد الأقسام'!$D$7:$D$78)-ROW('اسناد الأقسام'!$D$7)+1),ROW(1:1))),\"\")","v":""},{"$f":"IF(ROW(1:1)<=COUNTIF('اسناد الأقسام'!$D$7:$D$78,التجميع!$B$137),INDEX('اسناد الأقسام'!V$7:V$78,SMALL(IF('اسناد الأقسام'!$D$7:$D$78=التجميع!$B$137,ROW('اسناد الأقسام'!$D$7:$D$78)-ROW('اسناد الأقسام'!$D$7)+1),ROW(1:1))),\"\")","v":""},{"$f":"IF(ROW(1:1)<=COUNTIF('اسناد الأقسام'!$D$7:$D$78,التجميع!$B$137),INDEX('اسناد الأقسام'!W$7:W$78,SMALL(IF('اسناد الأقسام'!$D$7:$D$78=التجميع!$B$137,ROW('اسناد الأقسام'!$D$7:$D$78)-ROW('اسناد الأقسام'!$D$7)+1),ROW(1:1))),\"\")","v":""},{"$f":"IF(ROW(1:1)<=COUNTIF('اسناد الأقسام'!$D$7:$D$78,التجميع!$B$137),INDEX('اسناد الأقسام'!X$7:X$78,SMALL(IF('اسناد الأقسام'!$D$7:$D$78=التجميع!$B$137,ROW('اسناد الأقسام'!$D$7:$D$78)-ROW('اسناد الأقسام'!$D$7)+1),ROW(1:1))),\"\")","v":""},{"$f":"IF(ROW(1:1)<=COUNTIF('اسناد الأقسام'!$D$7:$D$78,التجميع!$B$137),INDEX('اسناد الأقسام'!Y$7:Y$78,SMALL(IF('اسناد الأقسام'!$D$7:$D$78=التجميع!$B$137,ROW('اسناد الأقسام'!$D$7:$D$78)-ROW('اسناد الأقسام'!$D$7)+1),ROW(1:1))),\"\")","v":""},{"$f":"IF(ROW(1:1)<=COUNTIF('اسناد الأقسام'!$D$7:$D$78,التجميع!$B$137),INDEX('اسناد الأقسام'!Z$7:Z$78,SMALL(IF('اسناد الأقسام'!$D$7:$D$78=التجميع!$B$137,ROW('اسناد الأقسام'!$D$7:$D$78)-ROW('اسناد الأقسام'!$D$7)+1),ROW(1:1))),\"\")","v":""},{"$f":"IF(ROW(1:1)<=COUNTIF('اسناد الأقسام'!$D$7:$D$78,التجميع!$B$137),INDEX('اسناد الأقسام'!AA$7:AA$78,SMALL(IF('اسناد الأقسام'!$D$7:$D$78=التجميع!$B$137,ROW('اسناد الأقسام'!$D$7:$D$78)-ROW('اسناد الأقسام'!$D$7)+1),ROW(1:1))),\"\")","v":""},{"$f":"IF(ROW(1:1)<=COUNTIF('اسناد الأقسام'!$D$7:$D$78,التجميع!$B$137),INDEX('اسناد الأقسام'!AB$7:AB$78,SMALL(IF('اسناد الأقسام'!$D$7:$D$78=التجميع!$B$137,ROW('اسناد الأقسام'!$D$7:$D$78)-ROW('اسناد الأقسام'!$D$7)+1),ROW(1:1))),\"\")","v":""},{"$f":"IF(ROW(1:1)<=COUNTIF('اسناد الأقسام'!$D$7:$D$78,التجميع!$B$137),INDEX('اسناد الأقسام'!AC$7:AC$78,SMALL(IF('اسناد الأقسام'!$D$7:$D$78=التجميع!$B$137,ROW('اسناد الأقسام'!$D$7:$D$78)-ROW('اسناد الأقسام'!$D$7)+1),ROW(1:1))),\"\")","v":""}]
[2,{"$f":"IF(ROW(2:2)<=COUNTIF('اسناد الأقسام'!$D$7:$D$78,التجميع!$B$137),INDEX('اسناد الأقسام'!C$7:C$78,SMALL(IF('اسناد الأقسام'!$D$7:$D$78=التجميع!$B$137,ROW('اسناد الأقسام'!$D$7:$D$78)-ROW('اسناد الأقسام'!$D$7)+1),ROW(2:2))),\"\")","v":""},{"$f":"IF(ROW(2:2)<=COUNTIF('اسناد الأقسام'!$D$7:$D$78,التجميع!$B$137),INDEX('اسناد الأقسام'!D$7:D$78,SMALL(IF('اسناد الأقسام'!$D$7:$D$78=التجميع!$B$137,ROW('اسناد الأقسام'!$D$7:$D$78)-ROW('اسناد الأقسام'!$D$7)+1),ROW(2:2))),\"\")","v":""},{"$f":"IF(ROW(2:2)<=COUNTIF('اسناد الأقسام'!$D$7:$D$78,التجميع!$B$137),INDEX('اسناد الأقسام'!E$7:E$78,SMALL(IF('اسناد الأقسام'!$D$7:$D$78=التجميع!$B$137,ROW('اسناد الأقسام'!$D$7:$D$78)-ROW('اسناد الأقسام'!$D$7)+1),ROW(2:2))),\"\")","v":""},{"$f":"IF(ROW(2:2)<=COUNTIF('اسناد الأقسام'!$D$7:$D$78,التجميع!$B$137),INDEX('اسناد الأقسام'!F$7:F$78,SMALL(IF('اسناد الأقسام'!$D$7:$D$78=التجميع!$B$137,ROW('اسناد الأقسام'!$D$7:$D$78)-ROW('اسناد الأقسام'!$D$7)+1),ROW(2:2))),\"\")","v":""},{"$f":"IF(ROW(2:2)<=COUNTIF('اسناد الأقسام'!$D$7:$D$78,التجميع!$B$137),INDEX('اسناد الأقسام'!G$7:G$78,SMALL(IF('اسناد الأقسام'!$D$7:$D$78=التجميع!$B$137,ROW('اسناد الأقسام'!$D$7:$D$78)-ROW('اسناد الأقسام'!$D$7)+1),ROW(2:2))),\"\")","v":""},{"$f":"IF(ROW(2:2)<=COUNTIF('اسناد الأقسام'!$D$7:$D$78,التجميع!$B$137),INDEX('اسناد الأقسام'!H$7:H$78,SMALL(IF('اسناد الأقسام'!$D$7:$D$78=التجميع!$B$137,ROW('اسناد الأقسام'!$D$7:$D$78)-ROW('اسناد الأقسام'!$D$7)+1),ROW(2:2))),\"\")","v":""},{"$f":"IF(ROW(2:2)<=COUNTIF('اسناد الأقسام'!$D$7:$D$78,التجميع!$B$137),INDEX('اسناد الأقسام'!I$7:I$78,SMALL(IF('اسناد الأقسام'!$D$7:$D$78=التجميع!$B$137,ROW('اسناد الأقسام'!$D$7:$D$78)-ROW('اسناد الأقسام'!$D$7)+1),ROW(2:2))),\"\")","v":""},{"$f":"IF(ROW(2:2)<=COUNTIF('اسناد الأقسام'!$D$7:$D$78,التجميع!$B$137),INDEX('اسناد الأقسام'!J$7:J$78,SMALL(IF('اسناد الأقسام'!$D$7:$D$78=التجميع!$B$137,ROW('اسناد الأقسام'!$D$7:$D$78)-ROW('اسناد الأقسام'!$D$7)+1),ROW(2:2))),\"\")","v":""},{"$f":"IF(ROW(2:2)<=COUNTIF('اسناد الأقسام'!$D$7:$D$78,التجميع!$B$137),INDEX('اسناد الأقسام'!K$7:K$78,SMALL(IF('اسناد الأقسام'!$D$7:$D$78=التجميع!$B$137,ROW('اسناد الأقسام'!$D$7:$D$78)-ROW('اسناد الأقسام'!$D$7)+1),ROW(2:2))),\"\")","v":""},{"$f":"IF(ROW(2:2)<=COUNTIF('اسناد الأقسام'!$D$7:$D$78,التجميع!$B$137),INDEX('اسناد الأقسام'!L$7:L$78,SMALL(IF('اسناد الأقسام'!$D$7:$D$78=التجميع!$B$137,ROW('اسناد الأقسام'!$D$7:$D$78)-ROW('اسناد الأقسام'!$D$7)+1),ROW(2:2))),\"\")","v":""},{"$f":"IF(ROW(2:2)<=COUNTIF('اسناد الأقسام'!$D$7:$D$78,التجميع!$B$137),INDEX('اسناد الأقسام'!M$7:M$78,SMALL(IF('اسناد الأقسام'!$D$7:$D$78=التجميع!$B$137,ROW('اسناد الأقسام'!$D$7:$D$78)-ROW('اسناد الأقسام'!$D$7)+1),ROW(2:2))),\"\")","v":""},{"$f":"IF(ROW(2:2)<=COUNTIF('اسناد الأقسام'!$D$7:$D$78,التجميع!$B$137),INDEX('اسناد الأقسام'!N$7:N$78,SMALL(IF('اسناد الأقسام'!$D$7:$D$78=التجميع!$B$137,ROW('اسناد الأقسام'!$D$7:$D$78)-ROW('اسناد الأقسام'!$D$7)+1),ROW(2:2))),\"\")","v":""},{"$f":"IF(ROW(2:2)<=COUNTIF('اسناد الأقسام'!$D$7:$D$78,التجميع!$B$137),INDEX('اسناد الأقسام'!O$7:O$78,SMALL(IF('اسناد الأقسام'!$D$7:$D$78=التجميع!$B$137,ROW('اسناد الأقسام'!$D$7:$D$78)-ROW('اسناد الأقسام'!$D$7)+1),ROW(2:2))),\"\")","v":""},{"$f":"IF(ROW(2:2)<=COUNTIF('اسناد الأقسام'!$D$7:$D$78,التجميع!$B$137),INDEX('اسناد الأقسام'!P$7:P$78,SMALL(IF('اسناد الأقسام'!$D$7:$D$78=التجميع!$B$137,ROW('اسناد الأقسام'!$D$7:$D$78)-ROW('اسناد الأقسام'!$D$7)+1),ROW(2:2))),\"\")","v":""},{"$f":"IF(ROW(2:2)<=COUNTIF('اسناد الأقسام'!$D$7:$D$78,التجميع!$B$137),INDEX('اسناد الأقسام'!Q$7:Q$78,SMALL(IF('اسناد الأقسام'!$D$7:$D$78=التجميع!$B$137,ROW('اسناد الأقسام'!$D$7:$D$78)-ROW('اسناد الأقسام'!$D$7)+1),ROW(2:2))),\"\")","v":""},{"$f":"IF(ROW(2:2)<=COUNTIF('اسناد الأقسام'!$D$7:$D$78,التجميع!$B$137),INDEX('اسناد الأقسام'!R$7:R$78,SMALL(IF('اسناد الأقسام'!$D$7:$D$78=التجميع!$B$137,ROW('اسناد الأقسام'!$D$7:$D$78)-ROW('اسناد الأقسام'!$D$7)+1),ROW(2:2))),\"\")","v":""},{"$f":"IF(ROW(2:2)<=COUNTIF('اسناد الأقسام'!$D$7:$D$78,التجميع!$B$137),INDEX('اسناد الأقسام'!S$7:S$78,SMALL(IF('اسناد الأقسام'!$D$7:$D$78=التجميع!$B$137,ROW('اسناد الأقسام'!$D$7:$D$78)-ROW('اسناد الأقسام'!$D$7)+1),ROW(2:2))),\"\")","v":""},{"$f":"IF(ROW(2:2)<=COUNTIF('اسناد الأقسام'!$D$7:$D$78,التجميع!$B$137),INDEX('اسناد الأقسام'!T$7:T$78,SMALL(IF('اسناد الأقسام'!$D$7:$D$78=التجميع!$B$137,ROW('اسناد الأقسام'!$D$7:$D$78)-ROW('اسناد الأقسام'!$D$7)+1),ROW(2:2))),\"\")","v":""},{"$f":"IF(ROW(2:2)<=COUNTIF('اسناد الأقسام'!$D$7:$D$78,التجميع!$B$137),INDEX('اسناد الأقسام'!U$7:U$78,SMALL(IF('اسناد الأقسام'!$D$7:$D$78=التجميع!$B$137,ROW('اسناد الأقسام'!$D$7:$D$78)-ROW('اسناد الأقسام'!$D$7)+1),ROW(2:2))),\"\")","v":""},{"$f":"IF(ROW(2:2)<=COUNTIF('اسناد الأقسام'!$D$7:$D$78,التجميع!$B$137),INDEX('اسناد الأقسام'!V$7:V$78,SMALL(IF('اسناد الأقسام'!$D$7:$D$78=التجميع!$B$137,ROW('اسناد الأقسام'!$D$7:$D$78)-ROW('اسناد الأقسام'!$D$7)+1),ROW(2:2))),\"\")","v":""},{"$f":"IF(ROW(2:2)<=COUNTIF('اسناد الأقسام'!$D$7:$D$78,التجميع!$B$137),INDEX('اسناد الأقسام'!W$7:W$78,SMALL(IF('اسناد الأقسام'!$D$7:$D$78=التجميع!$B$137,ROW('اسناد الأقسام'!$D$7:$D$78)-ROW('اسناد الأقسام'!$D$7)+1),ROW(2:2))),\"\")","v":""},{"$f":"IF(ROW(2:2)<=COUNTIF('اسناد الأقسام'!$D$7:$D$78,التجميع!$B$137),INDEX('اسناد الأقسام'!X$7:X$78,SMALL(IF('اسناد الأقسام'!$D$7:$D$78=التجميع!$B$137,ROW('اسناد الأقسام'!$D$7:$D$78)-ROW('اسناد الأقسام'!$D$7)+1),ROW(2:2))),\"\")","v":""},{"$f":"IF(ROW(2:2)<=COUNTIF('اسناد الأقسام'!$D$7:$D$78,التجميع!$B$137),INDEX('اسناد الأقسام'!Y$7:Y$78,SMALL(IF('اسناد الأقسام'!$D$7:$D$78=التجميع!$B$137,ROW('اسناد الأقسام'!$D$7:$D$78)-ROW('اسناد الأقسام'!$D$7)+1),ROW(2:2))),\"\")","v":""},{"$f":"IF(ROW(2:2)<=COUNTIF('اسناد الأقسام'!$D$7:$D$78,التجميع!$B$137),INDEX('اسناد الأقسام'!Z$7:Z$78,SMALL(IF('اسناد الأقسام'!$D$7:$D$78=التجميع!$B$137,ROW('اسناد الأقسام'!$D$7:$D$78)-ROW('اسناد الأقسام'!$D$7)+1),ROW(2:2))),\"\")","v":""},{"$f":"IF(ROW(2:2)<=COUNTIF('اسناد الأقسام'!$D$7:$D$78,التجميع!$B$137),INDEX('اسناد الأقسام'!AA$7:AA$78,SMALL(IF('اسناد الأقسام'!$D$7:$D$78=التجميع!$B$137,ROW('اسناد الأقسام'!$D$7:$D$78)-ROW('اسناد الأقسام'!$D$7)+1),ROW(2:2))),\"\")","v":""},{"$f":"IF(ROW(2:2)<=COUNTIF('اسناد الأقسام'!$D$7:$D$78,التجميع!$B$137),INDEX('اسناد الأقسام'!AB$7:AB$78,SMALL(IF('اسناد الأقسام'!$D$7:$D$78=التجميع!$B$137,ROW('اسناد الأقسام'!$D$7:$D$78)-ROW('اسناد الأقسام'!$D$7)+1),ROW(2:2))),\"\")","v":""},{"$f":"IF(ROW(2:2)<=COUNTIF('اسناد الأقسام'!$D$7:$D$78,التجميع!$B$137),INDEX('اسناد الأقسام'!AC$7:AC$78,SMALL(IF('اسناد الأقسام'!$D$7:$D$78=التجميع!$B$137,ROW('اسناد الأقسام'!$D$7:$D$78)-ROW('اسناد الأقسام'!$D$7)+1),ROW(2:2))),\"\")","v":""}]
[3,{"$f":"IF(ROW(3:3)<=COUNTIF('اسناد الأقسام'!$D$7:$D$78,التجميع!$B$137),INDEX('اسناد الأقسام'!C$7:C$78,SMALL(IF('اسناد الأقسام'!$D$7:$D$78=التجميع!$B$137,ROW('اسناد الأقسام'!$D$7:$D$78)-ROW('اسناد الأقسام'!$D$7)+1),ROW(3:3))),\"\")","v":""},{"$f":"IF(ROW(3:3)<=COUNTIF('اسناد الأقسام'!$D$7:$D$78,التجميع!$B$137),INDEX('اسناد الأقسام'!D$7:D$78,SMALL(IF('اسناد الأقسام'!$D$7:$D$78=التجميع!$B$137,ROW('اسناد الأقسام'!$D$7:$D$78)-ROW('اسناد الأقسام'!$D$7)+1),ROW(3:3))),\"\")","v":""},{"$f":"IF(ROW(3:3)<=COUNTIF('اسناد الأقسام'!$D$7:$D$78,التجميع!$B$137),INDEX('اسناد الأقسام'!E$7:E$78,SMALL(IF('اسناد الأقسام'!$D$7:$D$78=التجميع!$B$137,ROW('اسناد الأقسام'!$D$7:$D$78)-ROW('اسناد الأقسام'!$D$7)+1),ROW(3:3))),\"\")","v":""},{"$f":"IF(ROW(3:3)<=COUNTIF('اسناد الأقسام'!$D$7:$D$78,التجميع!$B$137),INDEX('اسناد الأقسام'!F$7:F$78,SMALL(IF('اسناد الأقسام'!$D$7:$D$78=التجميع!$B$137,ROW('اسناد الأقسام'!$D$7:$D$78)-ROW('اسناد الأقسام'!$D$7)+1),ROW(3:3))),\"\")","v":""},{"$f":"IF(ROW(3:3)<=COUNTIF('اسناد الأقسام'!$D$7:$D$78,التجميع!$B$137),INDEX('اسناد الأقسام'!G$7:G$78,SMALL(IF('اسناد الأقسام'!$D$7:$D$78=التجميع!$B$137,ROW('اسناد الأقسام'!$D$7:$D$78)-ROW('اسناد الأقسام'!$D$7)+1),ROW(3:3))),\"\")","v":""},{"$f":"IF(ROW(3:3)<=COUNTIF('اسناد الأقسام'!$D$7:$D$78,التجميع!$B$137),INDEX('اسناد الأقسام'!H$7:H$78,SMALL(IF('اسناد الأقسام'!$D$7:$D$78=التجميع!$B$137,ROW('اسناد الأقسام'!$D$7:$D$78)-ROW('اسناد الأقسام'!$D$7)+1),ROW(3:3))),\"\")","v":""},{"$f":"IF(ROW(3:3)<=COUNTIF('اسناد الأقسام'!$D$7:$D$78,التجميع!$B$137),INDEX('اسناد الأقسام'!I$7:I$78,SMALL(IF('اسناد الأقسام'!$D$7:$D$78=التجميع!$B$137,ROW('اسناد الأقسام'!$D$7:$D$78)-ROW('اسناد الأقسام'!$D$7)+1),ROW(3:3))),\"\")","v":""},{"$f":"IF(ROW(3:3)<=COUNTIF('اسناد الأقسام'!$D$7:$D$78,التجميع!$B$137),INDEX('اسناد الأقسام'!J$7:J$78,SMALL(IF('اسناد الأقسام'!$D$7:$D$78=التجميع!$B$137,ROW('اسناد الأقسام'!$D$7:$D$78)-ROW('اسناد الأقسام'!$D$7)+1),ROW(3:3))),\"\")","v":""},{"$f":"IF(ROW(3:3)<=COUNTIF('اسناد الأقسام'!$D$7:$D$78,التجميع!$B$137),INDEX('اسناد الأقسام'!K$7:K$78,SMALL(IF('اسناد الأقسام'!$D$7:$D$78=التجميع!$B$137,ROW('اسناد الأقسام'!$D$7:$D$78)-ROW('اسناد الأقسام'!$D$7)+1),ROW(3:3))),\"\")","v":""},{"$f":"IF(ROW(3:3)<=COUNTIF('اسناد الأقسام'!$D$7:$D$78,التجميع!$B$137),INDEX('اسناد الأقسام'!L$7:L$78,SMALL(IF('اسناد الأقسام'!$D$7:$D$78=التجميع!$B$137,ROW('اسناد الأقسام'!$D$7:$D$78)-ROW('اسناد الأقسام'!$D$7)+1),ROW(3:3))),\"\")","v":""},{"$f":"IF(ROW(3:3)<=COUNTIF('اسناد الأقسام'!$D$7:$D$78,التجميع!$B$137),INDEX('اسناد الأقسام'!M$7:M$78,SMALL(IF('اسناد الأقسام'!$D$7:$D$78=التجميع!$B$137,ROW('اسناد الأقسام'!$D$7:$D$78)-ROW('اسناد الأقسام'!$D$7)+1),ROW(3:3))),\"\")","v":""},{"$f":"IF(ROW(3:3)<=COUNTIF('اسناد الأقسام'!$D$7:$D$78,التجميع!$B$137),INDEX('اسناد الأقسام'!N$7:N$78,SMALL(IF('اسناد الأقسام'!$D$7:$D$78=التجميع!$B$137,ROW('اسناد الأقسام'!$D$7:$D$78)-ROW('اسناد الأقسام'!$D$7)+1),ROW(3:3))),\"\")","v":""},{"$f":"IF(ROW(3:3)<=COUNTIF('اسناد الأقسام'!$D$7:$D$78,التجميع!$B$137),INDEX('اسناد الأقسام'!O$7:O$78,SMALL(IF('اسناد الأقسام'!$D$7:$D$78=التجميع!$B$137,ROW('اسناد الأقسام'!$D$7:$D$78)-ROW('اسناد الأقسام'!$D$7)+1),ROW(3:3))),\"\")","v":""},{"$f":"IF(ROW(3:3)<=COUNTIF('اسناد الأقسام'!$D$7:$D$78,التجميع!$B$137),INDEX('اسناد الأقسام'!P$7:P$78,SMALL(IF('اسناد الأقسام'!$D$7:$D$78=التجميع!$B$137,ROW('اسناد الأقسام'!$D$7:$D$78)-ROW('اسناد الأقسام'!$D$7)+1),ROW(3:3))),\"\")","v":""},{"$f":"IF(ROW(3:3)<=COUNTIF('اسناد الأقسام'!$D$7:$D$78,التجميع!$B$137),INDEX('اسناد الأقسام'!Q$7:Q$78,SMALL(IF('اسناد الأقسام'!$D$7:$D$78=التجميع!$B$137,ROW('اسناد الأقسام'!$D$7:$D$78)-ROW('اسناد الأقسام'!$D$7)+1),ROW(3:3))),\"\")","v":""},{"$f":"IF(ROW(3:3)<=COUNTIF('اسناد الأقسام'!$D$7:$D$78,التجميع!$B$137),INDEX('اسناد الأقسام'!R$7:R$78,SMALL(IF('اسناد الأقسام'!$D$7:$D$78=التجميع!$B$137,ROW('اسناد الأقسام'!$D$7:$D$78)-ROW('اسناد الأقسام'!$D$7)+1),ROW(3:3))),\"\")","v":""},{"$f":"IF(ROW(3:3)<=COUNTIF('اسناد الأقسام'!$D$7:$D$78,التجميع!$B$137),INDEX('اسناد الأقسام'!S$7:S$78,SMALL(IF('اسناد الأقسام'!$D$7:$D$78=التجميع!$B$137,ROW('اسناد الأقسام'!$D$7:$D$78)-ROW('اسناد الأقسام'!$D$7)+1),ROW(3:3))),\"\")","v":""},{"$f":"IF(ROW(3:3)<=COUNTIF('اسناد الأقسام'!$D$7:$D$78,التجميع!$B$137),INDEX('اسناد الأقسام'!T$7:T$78,SMALL(IF('اسناد الأقسام'!$D$7:$D$78=التجميع!$B$137,ROW('اسناد الأقسام'!$D$7:$D$78)-ROW('اسناد الأقسام'!$D$7)+1),ROW(3:3))),\"\")","v":""},{"$f":"IF(ROW(3:3)<=COUNTIF('اسناد الأقسام'!$D$7:$D$78,التجميع!$B$137),INDEX('اسناد الأقسام'!U$7:U$78,SMALL(IF('اسناد الأقسام'!$D$7:$D$78=التجميع!$B$137,ROW('اسناد الأقسام'!$D$7:$D$78)-ROW('اسناد الأقسام'!$D$7)+1),ROW(3:3))),\"\")","v":""},{"$f":"IF(ROW(3:3)<=COUNTIF('اسناد الأقسام'!$D$7:$D$78,التجميع!$B$137),INDEX('اسناد الأقسام'!V$7:V$78,SMALL(IF('اسناد الأقسام'!$D$7:$D$78=التجميع!$B$137,ROW('اسناد الأقسام'!$D$7:$D$78)-ROW('اسناد الأقسام'!$D$7)+1),ROW(3:3))),\"\")","v":""},{"$f":"IF(ROW(3:3)<=COUNTIF('اسناد الأقسام'!$D$7:$D$78,التجميع!$B$137),INDEX('اسناد الأقسام'!W$7:W$78,SMALL(IF('اسناد الأقسام'!$D$7:$D$78=التجميع!$B$137,ROW('اسناد الأقسام'!$D$7:$D$78)-ROW('اسناد الأقسام'!$D$7)+1),ROW(3:3))),\"\")","v":""},{"$f":"IF(ROW(3:3)<=COUNTIF('اسناد الأقسام'!$D$7:$D$78,التجميع!$B$137),INDEX('اسناد الأقسام'!X$7:X$78,SMALL(IF('اسناد الأقسام'!$D$7:$D$78=التجميع!$B$137,ROW('اسناد الأقسام'!$D$7:$D$78)-ROW('اسناد الأقسام'!$D$7)+1),ROW(3:3))),\"\")","v":""},{"$f":"IF(ROW(3:3)<=COUNTIF('اسناد الأقسام'!$D$7:$D$78,التجميع!$B$137),INDEX('اسناد الأقسام'!Y$7:Y$78,SMALL(IF('اسناد الأقسام'!$D$7:$D$78=التجميع!$B$137,ROW('اسناد الأقسام'!$D$7:$D$78)-ROW('اسناد الأقسام'!$D$7)+1),ROW(3:3))),\"\")","v":""},{"$f":"IF(ROW(3:3)<=COUNTIF('اسناد الأقسام'!$D$7:$D$78,التجميع!$B$137),INDEX('اسناد الأقسام'!Z$7:Z$78,SMALL(IF('اسناد الأقسام'!$D$7:$D$78=التجميع!$B$137,ROW('اسناد الأقسام'!$D$7:$D$78)-ROW('اسناد الأقسام'!$D$7)+1),ROW(3:3))),\"\")","v":""},{"$f":"IF(ROW(3:3)<=COUNTIF('اسناد الأقسام'!$D$7:$D$78,التجميع!$B$137),INDEX('اسناد الأقسام'!AA$7:AA$78,SMALL(IF('اسناد الأقسام'!$D$7:$D$78=التجميع!$B$137,ROW('اسناد الأقسام'!$D$7:$D$78)-ROW('اسناد الأقسام'!$D$7)+1),ROW(3:3))),\"\")","v":""},{"$f":"IF(ROW(3:3)<=COUNTIF('اسناد الأقسام'!$D$7:$D$78,التجميع!$B$137),INDEX('اسناد الأقسام'!AB$7:AB$78,SMALL(IF('اسناد الأقسام'!$D$7:$D$78=التجميع!$B$137,ROW('اسناد الأقسام'!$D$7:$D$78)-ROW('اسناد الأقسام'!$D$7)+1),ROW(3:3))),\"\")","v":""},{"$f":"IF(ROW(3:3)<=COUNTIF('اسناد الأقسام'!$D$7:$D$78,التجميع!$B$137),INDEX('اسناد الأقسام'!AC$7:AC$78,SMALL(IF('اسناد الأقسام'!$D$7:$D$78=التجميع!$B$137,ROW('اسناد الأقسام'!$D$7:$D$78)-ROW('اسناد الأقسام'!$D$7)+1),ROW(3:3))),\"\")","v":""}]
[4,{"$f":"IF(ROW(4:4)<=COUNTIF('اسناد الأقسام'!$D$7:$D$78,التجميع!$B$137),INDEX('اسناد الأقسام'!C$7:C$78,SMALL(IF('اسناد الأقسام'!$D$7:$D$78=التجميع!$B$137,ROW('اسناد الأقسام'!$D$7:$D$78)-ROW('اسناد الأقسام'!$D$7)+1),ROW(4:4))),\"\")","v":""},{"$f":"IF(ROW(4:4)<=COUNTIF('اسناد الأقسام'!$D$7:$D$78,التجميع!$B$137),INDEX('اسناد الأقسام'!D$7:D$78,SMALL(IF('اسناد الأقسام'!$D$7:$D$78=التجميع!$B$137,ROW('اسناد الأقسام'!$D$7:$D$78)-ROW('اسناد الأقسام'!$D$7)+1),ROW(4:4))),\"\")","v":""},{"$f":"IF(ROW(4:4)<=COUNTIF('اسناد الأقسام'!$D$7:$D$78,التجميع!$B$137),INDEX('اسناد الأقسام'!E$7:E$78,SMALL(IF('اسناد الأقسام'!$D$7:$D$78=التجميع!$B$137,ROW('اسناد الأقسام'!$D$7:$D$78)-ROW('اسناد الأقسام'!$D$7)+1),ROW(4:4))),\"\")","v":""},{"$f":"IF(ROW(4:4)<=COUNTIF('اسناد الأقسام'!$D$7:$D$78,التجميع!$B$137),INDEX('اسناد الأقسام'!F$7:F$78,SMALL(IF('اسناد الأقسام'!$D$7:$D$78=التجميع!$B$137,ROW('اسناد الأقسام'!$D$7:$D$78)-ROW('اسناد الأقسام'!$D$7)+1),ROW(4:4))),\"\")","v":""},{"$f":"IF(ROW(4:4)<=COUNTIF('اسناد الأقسام'!$D$7:$D$78,التجميع!$B$137),INDEX('اسناد الأقسام'!G$7:G$78,SMALL(IF('اسناد الأقسام'!$D$7:$D$78=التجميع!$B$137,ROW('اسناد الأقسام'!$D$7:$D$78)-ROW('اسناد الأقسام'!$D$7)+1),ROW(4:4))),\"\")","v":""},{"$f":"IF(ROW(4:4)<=COUNTIF('اسناد الأقسام'!$D$7:$D$78,التجميع!$B$137),INDEX('اسناد الأقسام'!H$7:H$78,SMALL(IF('اسناد الأقسام'!$D$7:$D$78=التجميع!$B$137,ROW('اسناد الأقسام'!$D$7:$D$78)-ROW('اسناد الأقسام'!$D$7)+1),ROW(4:4))),\"\")","v":""},{"$f":"IF(ROW(4:4)<=COUNTIF('اسناد الأقسام'!$D$7:$D$78,التجميع!$B$137),INDEX('اسناد الأقسام'!I$7:I$78,SMALL(IF('اسناد الأقسام'!$D$7:$D$78=التجميع!$B$137,ROW('اسناد الأقسام'!$D$7:$D$78)-ROW('اسناد الأقسام'!$D$7)+1),ROW(4:4))),\"\")","v":""},{"$f":"IF(ROW(4:4)<=COUNTIF('اسناد الأقسام'!$D$7:$D$78,التجميع!$B$137),INDEX('اسناد الأقسام'!J$7:J$78,SMALL(IF('اسناد الأقسام'!$D$7:$D$78=التجميع!$B$137,ROW('اسناد الأقسام'!$D$7:$D$78)-ROW('اسناد الأقسام'!$D$7)+1),ROW(4:4))),\"\")","v":""},{"$f":"IF(ROW(4:4)<=COUNTIF('اسناد الأقسام'!$D$7:$D$78,التجميع!$B$137),INDEX('اسناد الأقسام'!K$7:K$78,SMALL(IF('اسناد الأقسام'!$D$7:$D$78=التجميع!$B$137,ROW('اسناد الأقسام'!$D$7:$D$78)-ROW('اسناد الأقسام'!$D$7)+1),ROW(4:4))),\"\")","v":""},{"$f":"IF(ROW(4:4)<=COUNTIF('اسناد الأقسام'!$D$7:$D$78,التجميع!$B$137),INDEX('اسناد الأقسام'!L$7:L$78,SMALL(IF('اسناد الأقسام'!$D$7:$D$78=التجميع!$B$137,ROW('اسناد الأقسام'!$D$7:$D$78)-ROW('اسناد الأقسام'!$D$7)+1),ROW(4:4))),\"\")","v":""},{"$f":"IF(ROW(4:4)<=COUNTIF('اسناد الأقسام'!$D$7:$D$78,التجميع!$B$137),INDEX('اسناد الأقسام'!M$7:M$78,SMALL(IF('اسناد الأقسام'!$D$7:$D$78=التجميع!$B$137,ROW('اسناد الأقسام'!$D$7:$D$78)-ROW('اسناد الأقسام'!$D$7)+1),ROW(4:4))),\"\")","v":""},{"$f":"IF(ROW(4:4)<=COUNTIF('اسناد الأقسام'!$D$7:$D$78,التجميع!$B$137),INDEX('اسناد الأقسام'!N$7:N$78,SMALL(IF('اسناد الأقسام'!$D$7:$D$78=التجميع!$B$137,ROW('اسناد الأقسام'!$D$7:$D$78)-ROW('اسناد الأقسام'!$D$7)+1),ROW(4:4))),\"\")","v":""},{"$f":"IF(ROW(4:4)<=COUNTIF('اسناد الأقسام'!$D$7:$D$78,التجميع!$B$137),INDEX('اسناد الأقسام'!O$7:O$78,SMALL(IF('اسناد الأقسام'!$D$7:$D$78=التجميع!$B$137,ROW('اسناد الأقسام'!$D$7:$D$78)-ROW('اسناد الأقسام'!$D$7)+1),ROW(4:4))),\"\")","v":""},{"$f":"IF(ROW(4:4)<=COUNTIF('اسناد الأقسام'!$D$7:$D$78,التجميع!$B$137),INDEX('اسناد الأقسام'!P$7:P$78,SMALL(IF('اسناد الأقسام'!$D$7:$D$78=التجميع!$B$137,ROW('اسناد الأقسام'!$D$7:$D$78)-ROW('اسناد الأقسام'!$D$7)+1),ROW(4:4))),\"\")","v":""},{"$f":"IF(ROW(4:4)<=COUNTIF('اسناد الأقسام'!$D$7:$D$78,التجميع!$B$137),INDEX('اسناد الأقسام'!Q$7:Q$78,SMALL(IF('اسناد الأقسام'!$D$7:$D$78=التجميع!$B$137,ROW('اسناد الأقسام'!$D$7:$D$78)-ROW('اسناد الأقسام'!$D$7)+1),ROW(4:4))),\"\")","v":""},{"$f":"IF(ROW(4:4)<=COUNTIF('اسناد الأقسام'!$D$7:$D$78,التجميع!$B$137),INDEX('اسناد الأقسام'!R$7:R$78,SMALL(IF('اسناد الأقسام'!$D$7:$D$78=التجميع!$B$137,ROW('اسناد الأقسام'!$D$7:$D$78)-ROW('اسناد الأقسام'!$D$7)+1),ROW(4:4))),\"\")","v":""},{"$f":"IF(ROW(4:4)<=COUNTIF('اسناد الأقسام'!$D$7:$D$78,التجميع!$B$137),INDEX('اسناد الأقسام'!S$7:S$78,SMALL(IF('اسناد الأقسام'!$D$7:$D$78=التجميع!$B$137,ROW('اسناد الأقسام'!$D$7:$D$78)-ROW('اسناد الأقسام'!$D$7)+1),ROW(4:4))),\"\")","v":""},{"$f":"IF(ROW(4:4)<=COUNTIF('اسناد الأقسام'!$D$7:$D$78,التجميع!$B$137),INDEX('اسناد الأقسام'!T$7:T$78,SMALL(IF('اسناد الأقسام'!$D$7:$D$78=التجميع!$B$137,ROW('اسناد الأقسام'!$D$7:$D$78)-ROW('اسناد الأقسام'!$D$7)+1),ROW(4:4))),\"\")","v":""},{"$f":"IF(ROW(4:4)<=COUNTIF('اسناد الأقسام'!$D$7:$D$78,التجميع!$B$137),INDEX('اسناد الأقسام'!U$7:U$78,SMALL(IF('اسناد الأقسام'!$D$7:$D$78=التجميع!$B$137,ROW('اسناد الأقسام'!$D$7:$D$78)-ROW('اسناد الأقسام'!$D$7)+1),ROW(4:4))),\"\")","v":""},{"$f":"IF(ROW(4:4)<=COUNTIF('اسناد الأقسام'!$D$7:$D$78,التجميع!$B$137),INDEX('اسناد الأقسام'!V$7:V$78,SMALL(IF('اسناد الأقسام'!$D$7:$D$78=التجميع!$B$137,ROW('اسناد الأقسام'!$D$7:$D$78)-ROW('اسناد الأقسام'!$D$7)+1),ROW(4:4))),\"\")","v":""},{"$f":"IF(ROW(4:4)<=COUNTIF('اسناد الأقسام'!$D$7:$D$78,التجميع!$B$137),INDEX('اسناد الأقسام'!W$7:W$78,SMALL(IF('اسناد الأقسام'!$D$7:$D$78=التجميع!$B$137,ROW('اسناد الأقسام'!$D$7:$D$78)-ROW('اسناد الأقسام'!$D$7)+1),ROW(4:4))),\"\")","v":""},{"$f":"IF(ROW(4:4)<=COUNTIF('اسناد الأقسام'!$D$7:$D$78,التجميع!$B$137),INDEX('اسناد الأقسام'!X$7:X$78,SMALL(IF('اسناد الأقسام'!$D$7:$D$78=التجميع!$B$137,ROW('اسناد الأقسام'!$D$7:$D$78)-ROW('اسناد الأقسام'!$D$7)+1),ROW(4:4))),\"\")","v":""},{"$f":"IF(ROW(4:4)<=COUNTIF('اسناد الأقسام'!$D$7:$D$78,التجميع!$B$137),INDEX('اسناد الأقسام'!Y$7:Y$78,SMALL(IF('اسناد الأقسام'!$D$7:$D$78=التجميع!$B$137,ROW('اسناد الأقسام'!$D$7:$D$78)-ROW('اسناد الأقسام'!$D$7)+1),ROW(4:4))),\"\")","v":""},{"$f":"IF(ROW(4:4)<=COUNTIF('اسناد الأقسام'!$D$7:$D$78,التجميع!$B$137),INDEX('اسناد الأقسام'!Z$7:Z$78,SMALL(IF('اسناد الأقسام'!$D$7:$D$78=التجميع!$B$137,ROW('اسناد الأقسام'!$D$7:$D$78)-ROW('اسناد الأقسام'!$D$7)+1),ROW(4:4))),\"\")","v":""},{"$f":"IF(ROW(4:4)<=COUNTIF('اسناد الأقسام'!$D$7:$D$78,التجميع!$B$137),INDEX('اسناد الأقسام'!AA$7:AA$78,SMALL(IF('اسناد الأقسام'!$D$7:$D$78=التجميع!$B$137,ROW('اسناد الأقسام'!$D$7:$D$78)-ROW('اسناد الأقسام'!$D$7)+1),ROW(4:4))),\"\")","v":""},{"$f":"IF(ROW(4:4)<=COUNTIF('اسناد الأقسام'!$D$7:$D$78,التجميع!$B$137),INDEX('اسناد الأقسام'!AB$7:AB$78,SMALL(IF('اسناد الأقسام'!$D$7:$D$78=التجميع!$B$137,ROW('اسناد الأقسام'!$D$7:$D$78)-ROW('اسناد الأقسام'!$D$7)+1),ROW(4:4))),\"\")","v":""},{"$f":"IF(ROW(4:4)<=COUNTIF('اسناد الأقسام'!$D$7:$D$78,التجميع!$B$137),INDEX('اسناد الأقسام'!AC$7:AC$78,SMALL(IF('اسناد الأقسام'!$D$7:$D$78=التجميع!$B$137,ROW('اسناد الأقسام'!$D$7:$D$78)-ROW('اسناد الأقسام'!$D$7)+1),ROW(4:4))),\"\")","v":""}]
[5,{"$f":"IF(ROW(5:5)<=COUNTIF('اسناد الأقسام'!$D$7:$D$78,التجميع!$B$137),INDEX('اسناد الأقسام'!C$7:C$78,SMALL(IF('اسناد الأقسام'!$D$7:$D$78=التجميع!$B$137,ROW('اسناد الأقسام'!$D$7:$D$78)-ROW('اسناد الأقسام'!$D$7)+1),ROW(5:5))),\"\")","v":""},{"$f":"IF(ROW(5:5)<=COUNTIF('اسناد الأقسام'!$D$7:$D$78,التجميع!$B$137),INDEX('اسناد الأقسام'!D$7:D$78,SMALL(IF('اسناد الأقسام'!$D$7:$D$78=التجميع!$B$137,ROW('اسناد الأقسام'!$D$7:$D$78)-ROW('اسناد الأقسام'!$D$7)+1),ROW(5:5))),\"\")","v":""},{"$f":"IF(ROW(5:5)<=COUNTIF('اسناد الأقسام'!$D$7:$D$78,التجميع!$B$137),INDEX('اسناد الأقسام'!E$7:E$78,SMALL(IF('اسناد الأقسام'!$D$7:$D$78=التجميع!$B$137,ROW('اسناد الأقسام'!$D$7:$D$78)-ROW('اسناد الأقسام'!$D$7)+1),ROW(5:5))),\"\")","v":""},{"$f":"IF(ROW(5:5)<=COUNTIF('اسناد الأقسام'!$D$7:$D$78,التجميع!$B$137),INDEX('اسناد الأقسام'!F$7:F$78,SMALL(IF('اسناد الأقسام'!$D$7:$D$78=التجميع!$B$137,ROW('اسناد الأقسام'!$D$7:$D$78)-ROW('اسناد الأقسام'!$D$7)+1),ROW(5:5))),\"\")","v":""},{"$f":"IF(ROW(5:5)<=COUNTIF('اسناد الأقسام'!$D$7:$D$78,التجميع!$B$137),INDEX('اسناد الأقسام'!G$7:G$78,SMALL(IF('اسناد الأقسام'!$D$7:$D$78=التجميع!$B$137,ROW('اسناد الأقسام'!$D$7:$D$78)-ROW('اسناد الأقسام'!$D$7)+1),ROW(5:5))),\"\")","v":""},{"$f":"IF(ROW(5:5)<=COUNTIF('اسناد الأقسام'!$D$7:$D$78,التجميع!$B$137),INDEX('اسناد الأقسام'!H$7:H$78,SMALL(IF('اسناد الأقسام'!$D$7:$D$78=التجميع!$B$137,ROW('اسناد الأقسام'!$D$7:$D$78)-ROW('اسناد الأقسام'!$D$7)+1),ROW(5:5))),\"\")","v":""},{"$f":"IF(ROW(5:5)<=COUNTIF('اسناد الأقسام'!$D$7:$D$78,التجميع!$B$137),INDEX('اسناد الأقسام'!I$7:I$78,SMALL(IF('اسناد الأقسام'!$D$7:$D$78=التجميع!$B$137,ROW('اسناد الأقسام'!$D$7:$D$78)-ROW('اسناد الأقسام'!$D$7)+1),ROW(5:5))),\"\")","v":""},{"$f":"IF(ROW(5:5)<=COUNTIF('اسناد الأقسام'!$D$7:$D$78,التجميع!$B$137),INDEX('اسناد الأقسام'!J$7:J$78,SMALL(IF('اسناد الأقسام'!$D$7:$D$78=التجميع!$B$137,ROW('اسناد الأقسام'!$D$7:$D$78)-ROW('اسناد الأقسام'!$D$7)+1),ROW(5:5))),\"\")","v":""},{"$f":"IF(ROW(5:5)<=COUNTIF('اسناد الأقسام'!$D$7:$D$78,التجميع!$B$137),INDEX('اسناد الأقسام'!K$7:K$78,SMALL(IF('اسناد الأقسام'!$D$7:$D$78=التجميع!$B$137,ROW('اسناد الأقسام'!$D$7:$D$78)-ROW('اسناد الأقسام'!$D$7)+1),ROW(5:5))),\"\")","v":""},{"$f":"IF(ROW(5:5)<=COUNTIF('اسناد الأقسام'!$D$7:$D$78,التجميع!$B$137),INDEX('اسناد الأقسام'!L$7:L$78,SMALL(IF('اسناد الأقسام'!$D$7:$D$78=التجميع!$B$137,ROW('اسناد الأقسام'!$D$7:$D$78)-ROW('اسناد الأقسام'!$D$7)+1),ROW(5:5))),\"\")","v":""},{"$f":"IF(ROW(5:5)<=COUNTIF('اسناد الأقسام'!$D$7:$D$78,التجميع!$B$137),INDEX('اسناد الأقسام'!M$7:M$78,SMALL(IF('اسناد الأقسام'!$D$7:$D$78=التجميع!$B$137,ROW('اسناد الأقسام'!$D$7:$D$78)-ROW('اسناد الأقسام'!$D$7)+1),ROW(5:5))),\"\")","v":""},{"$f":"IF(ROW(5:5)<=COUNTIF('اسناد الأقسام'!$D$7:$D$78,التجميع!$B$137),INDEX('اسناد الأقسام'!N$7:N$78,SMALL(IF('اسناد الأقسام'!$D$7:$D$78=التجميع!$B$137,ROW('اسناد الأقسام'!$D$7:$D$78)-ROW('اسناد الأقسام'!$D$7)+1),ROW(5:5))),\"\")","v":""},{"$f":"IF(ROW(5:5)<=COUNTIF('اسناد الأقسام'!$D$7:$D$78,التجميع!$B$137),INDEX('اسناد الأقسام'!O$7:O$78,SMALL(IF('اسناد الأقسام'!$D$7:$D$78=التجميع!$B$137,ROW('اسناد الأقسام'!$D$7:$D$78)-ROW('اسناد الأقسام'!$D$7)+1),ROW(5:5))),\"\")","v":""},{"$f":"IF(ROW(5:5)<=COUNTIF('اسناد الأقسام'!$D$7:$D$78,التجميع!$B$137),INDEX('اسناد الأقسام'!P$7:P$78,SMALL(IF('اسناد الأقسام'!$D$7:$D$78=التجميع!$B$137,ROW('اسناد الأقسام'!$D$7:$D$78)-ROW('اسناد الأقسام'!$D$7)+1),ROW(5:5))),\"\")","v":""},{"$f":"IF(ROW(5:5)<=COUNTIF('اسناد الأقسام'!$D$7:$D$78,التجميع!$B$137),INDEX('اسناد الأقسام'!Q$7:Q$78,SMALL(IF('اسناد الأقسام'!$D$7:$D$78=التجميع!$B$137,ROW('اسناد الأقسام'!$D$7:$D$78)-ROW('اسناد الأقسام'!$D$7)+1),ROW(5:5))),\"\")","v":""},{"$f":"IF(ROW(5:5)<=COUNTIF('اسناد الأقسام'!$D$7:$D$78,التجميع!$B$137),INDEX('اسناد الأقسام'!R$7:R$78,SMALL(IF('اسناد الأقسام'!$D$7:$D$78=التجميع!$B$137,ROW('اسناد الأقسام'!$D$7:$D$78)-ROW('اسناد الأقسام'!$D$7)+1),ROW(5:5))),\"\")","v":""},{"$f":"IF(ROW(5:5)<=COUNTIF('اسناد الأقسام'!$D$7:$D$78,التجميع!$B$137),INDEX('اسناد الأقسام'!S$7:S$78,SMALL(IF('اسناد الأقسام'!$D$7:$D$78=التجميع!$B$137,ROW('اسناد الأقسام'!$D$7:$D$78)-ROW('اسناد الأقسام'!$D$7)+1),ROW(5:5))),\"\")","v":""},{"$f":"IF(ROW(5:5)<=COUNTIF('اسناد الأقسام'!$D$7:$D$78,التجميع!$B$137),INDEX('اسناد الأقسام'!T$7:T$78,SMALL(IF('اسناد الأقسام'!$D$7:$D$78=التجميع!$B$137,ROW('اسناد الأقسام'!$D$7:$D$78)-ROW('اسناد الأقسام'!$D$7)+1),ROW(5:5))),\"\")","v":""},{"$f":"IF(ROW(5:5)<=COUNTIF('اسناد الأقسام'!$D$7:$D$78,التجميع!$B$137),INDEX('اسناد الأقسام'!U$7:U$78,SMALL(IF('اسناد الأقسام'!$D$7:$D$78=التجميع!$B$137,ROW('اسناد الأقسام'!$D$7:$D$78)-ROW('اسناد الأقسام'!$D$7)+1),ROW(5:5))),\"\")","v":""},{"$f":"IF(ROW(5:5)<=COUNTIF('اسناد الأقسام'!$D$7:$D$78,التجميع!$B$137),INDEX('اسناد الأقسام'!V$7:V$78,SMALL(IF('اسناد الأقسام'!$D$7:$D$78=التجميع!$B$137,ROW('اسناد الأقسام'!$D$7:$D$78)-ROW('اسناد الأقسام'!$D$7)+1),ROW(5:5))),\"\")","v":""},{"$f":"IF(ROW(5:5)<=COUNTIF('اسناد الأقسام'!$D$7:$D$78,التجميع!$B$137),INDEX('اسناد الأقسام'!W$7:W$78,SMALL(IF('اسناد الأقسام'!$D$7:$D$78=التجميع!$B$137,ROW('اسناد الأقسام'!$D$7:$D$78)-ROW('اسناد الأقسام'!$D$7)+1),ROW(5:5))),\"\")","v":""},{"$f":"IF(ROW(5:5)<=COUNTIF('اسناد الأقسام'!$D$7:$D$78,التجميع!$B$137),INDEX('اسناد الأقسام'!X$7:X$78,SMALL(IF('اسناد الأقسام'!$D$7:$D$78=التجميع!$B$137,ROW('اسناد الأقسام'!$D$7:$D$78)-ROW('اسناد الأقسام'!$D$7)+1),ROW(5:5))),\"\")","v":""},{"$f":"IF(ROW(5:5)<=COUNTIF('اسناد الأقسام'!$D$7:$D$78,التجميع!$B$137),INDEX('اسناد الأقسام'!Y$7:Y$78,SMALL(IF('اسناد الأقسام'!$D$7:$D$78=التجميع!$B$137,ROW('اسناد الأقسام'!$D$7:$D$78)-ROW('اسناد الأقسام'!$D$7)+1),ROW(5:5))),\"\")","v":""},{"$f":"IF(ROW(5:5)<=COUNTIF('اسناد الأقسام'!$D$7:$D$78,التجميع!$B$137),INDEX('اسناد الأقسام'!Z$7:Z$78,SMALL(IF('اسناد الأقسام'!$D$7:$D$78=التجميع!$B$137,ROW('اسناد الأقسام'!$D$7:$D$78)-ROW('اسناد الأقسام'!$D$7)+1),ROW(5:5))),\"\")","v":""},{"$f":"IF(ROW(5:5)<=COUNTIF('اسناد الأقسام'!$D$7:$D$78,التجميع!$B$137),INDEX('اسناد الأقسام'!AA$7:AA$78,SMALL(IF('اسناد الأقسام'!$D$7:$D$78=التجميع!$B$137,ROW('اسناد الأقسام'!$D$7:$D$78)-ROW('اسناد الأقسام'!$D$7)+1),ROW(5:5))),\"\")","v":""},{"$f":"IF(ROW(5:5)<=COUNTIF('اسناد الأقسام'!$D$7:$D$78,التجميع!$B$137),INDEX('اسناد الأقسام'!AB$7:AB$78,SMALL(IF('اسناد الأقسام'!$D$7:$D$78=التجميع!$B$137,ROW('اسناد الأقسام'!$D$7:$D$78)-ROW('اسناد الأقسام'!$D$7)+1),ROW(5:5))),\"\")","v":""},{"$f":"IF(ROW(5:5)<=COUNTIF('اسناد الأقسام'!$D$7:$D$78,التجميع!$B$137),INDEX('اسناد الأقسام'!AC$7:AC$78,SMALL(IF('اسناد الأقسام'!$D$7:$D$78=التجميع!$B$137,ROW('اسناد الأقسام'!$D$7:$D$78)-ROW('اسناد الأقسام'!$D$7)+1),ROW(5:5))),\"\")","v":""}]
[6,{"$f":"IF(ROW(6:6)<=COUNTIF('اسناد الأقسام'!$D$7:$D$78,التجميع!$B$137),INDEX('اسناد الأقسام'!C$7:C$78,SMALL(IF('اسناد الأقسام'!$D$7:$D$78=التجميع!$B$137,ROW('اسناد الأقسام'!$D$7:$D$78)-ROW('اسناد الأقسام'!$D$7)+1),ROW(6:6))),\"\")","v":""},{"$f":"IF(ROW(6:6)<=COUNTIF('اسناد الأقسام'!$D$7:$D$78,التجميع!$B$137),INDEX('اسناد الأقسام'!D$7:D$78,SMALL(IF('اسناد الأقسام'!$D$7:$D$78=التجميع!$B$137,ROW('اسناد الأقسام'!$D$7:$D$78)-ROW('اسناد الأقسام'!$D$7)+1),ROW(6:6))),\"\")","v":""},{"$f":"IF(ROW(6:6)<=COUNTIF('اسناد الأقسام'!$D$7:$D$78,التجميع!$B$137),INDEX('اسناد الأقسام'!E$7:E$78,SMALL(IF('اسناد الأقسام'!$D$7:$D$78=التجميع!$B$137,ROW('اسناد الأقسام'!$D$7:$D$78)-ROW('اسناد الأقسام'!$D$7)+1),ROW(6:6))),\"\")","v":""},{"$f":"IF(ROW(6:6)<=COUNTIF('اسناد الأقسام'!$D$7:$D$78,التجميع!$B$137),INDEX('اسناد الأقسام'!F$7:F$78,SMALL(IF('اسناد الأقسام'!$D$7:$D$78=التجميع!$B$137,ROW('اسناد الأقسام'!$D$7:$D$78)-ROW('اسناد الأقسام'!$D$7)+1),ROW(6:6))),\"\")","v":""},{"$f":"IF(ROW(6:6)<=COUNTIF('اسناد الأقسام'!$D$7:$D$78,التجميع!$B$137),INDEX('اسناد الأقسام'!G$7:G$78,SMALL(IF('اسناد الأقسام'!$D$7:$D$78=التجميع!$B$137,ROW('اسناد الأقسام'!$D$7:$D$78)-ROW('اسناد الأقسام'!$D$7)+1),ROW(6:6))),\"\")","v":""},{"$f":"IF(ROW(6:6)<=COUNTIF('اسناد الأقسام'!$D$7:$D$78,التجميع!$B$137),INDEX('اسناد الأقسام'!H$7:H$78,SMALL(IF('اسناد الأقسام'!$D$7:$D$78=التجميع!$B$137,ROW('اسناد الأقسام'!$D$7:$D$78)-ROW('اسناد الأقسام'!$D$7)+1),ROW(6:6))),\"\")","v":""},{"$f":"IF(ROW(6:6)<=COUNTIF('اسناد الأقسام'!$D$7:$D$78,التجميع!$B$137),INDEX('اسناد الأقسام'!I$7:I$78,SMALL(IF('اسناد الأقسام'!$D$7:$D$78=التجميع!$B$137,ROW('اسناد الأقسام'!$D$7:$D$78)-ROW('اسناد الأقسام'!$D$7)+1),ROW(6:6))),\"\")","v":""},{"$f":"IF(ROW(6:6)<=COUNTIF('اسناد الأقسام'!$D$7:$D$78,التجميع!$B$137),INDEX('اسناد الأقسام'!J$7:J$78,SMALL(IF('اسناد الأقسام'!$D$7:$D$78=التجميع!$B$137,ROW('اسناد الأقسام'!$D$7:$D$78)-ROW('اسناد الأقسام'!$D$7)+1),ROW(6:6))),\"\")","v":""},{"$f":"IF(ROW(6:6)<=COUNTIF('اسناد الأقسام'!$D$7:$D$78,التجميع!$B$137),INDEX('اسناد الأقسام'!K$7:K$78,SMALL(IF('اسناد الأقسام'!$D$7:$D$78=التجميع!$B$137,ROW('اسناد الأقسام'!$D$7:$D$78)-ROW('اسناد الأقسام'!$D$7)+1),ROW(6:6))),\"\")","v":""},{"$f":"IF(ROW(6:6)<=COUNTIF('اسناد الأقسام'!$D$7:$D$78,التجميع!$B$137),INDEX('اسناد الأقسام'!L$7:L$78,SMALL(IF('اسناد الأقسام'!$D$7:$D$78=التجميع!$B$137,ROW('اسناد الأقسام'!$D$7:$D$78)-ROW('اسناد الأقسام'!$D$7)+1),ROW(6:6))),\"\")","v":""},{"$f":"IF(ROW(6:6)<=COUNTIF('اسناد الأقسام'!$D$7:$D$78,التجميع!$B$137),INDEX('اسناد الأقسام'!M$7:M$78,SMALL(IF('اسناد الأقسام'!$D$7:$D$78=التجميع!$B$137,ROW('اسناد الأقسام'!$D$7:$D$78)-ROW('اسناد الأقسام'!$D$7)+1),ROW(6:6))),\"\")","v":""},{"$f":"IF(ROW(6:6)<=COUNTIF('اسناد الأقسام'!$D$7:$D$78,التجميع!$B$137),INDEX('اسناد الأقسام'!N$7:N$78,SMALL(IF('اسناد الأقسام'!$D$7:$D$78=التجميع!$B$137,ROW('اسناد الأقسام'!$D$7:$D$78)-ROW('اسناد الأقسام'!$D$7)+1),ROW(6:6))),\"\")","v":""},{"$f":"IF(ROW(6:6)<=COUNTIF('اسناد الأقسام'!$D$7:$D$78,التجميع!$B$137),INDEX('اسناد الأقسام'!O$7:O$78,SMALL(IF('اسناد الأقسام'!$D$7:$D$78=التجميع!$B$137,ROW('اسناد الأقسام'!$D$7:$D$78)-ROW('اسناد الأقسام'!$D$7)+1),ROW(6:6))),\"\")","v":""},{"$f":"IF(ROW(6:6)<=COUNTIF('اسناد الأقسام'!$D$7:$D$78,التجميع!$B$137),INDEX('اسناد الأقسام'!P$7:P$78,SMALL(IF('اسناد الأقسام'!$D$7:$D$78=التجميع!$B$137,ROW('اسناد الأقسام'!$D$7:$D$78)-ROW('اسناد الأقسام'!$D$7)+1),ROW(6:6))),\"\")","v":""},{"$f":"IF(ROW(6:6)<=COUNTIF('اسناد الأقسام'!$D$7:$D$78,التجميع!$B$137),INDEX('اسناد الأقسام'!Q$7:Q$78,SMALL(IF('اسناد الأقسام'!$D$7:$D$78=التجميع!$B$137,ROW('اسناد الأقسام'!$D$7:$D$78)-ROW('اسناد الأقسام'!$D$7)+1),ROW(6:6))),\"\")","v":""},{"$f":"IF(ROW(6:6)<=COUNTIF('اسناد الأقسام'!$D$7:$D$78,التجميع!$B$137),INDEX('اسناد الأقسام'!R$7:R$78,SMALL(IF('اسناد الأقسام'!$D$7:$D$78=التجميع!$B$137,ROW('اسناد الأقسام'!$D$7:$D$78)-ROW('اسناد الأقسام'!$D$7)+1),ROW(6:6))),\"\")","v":""},{"$f":"IF(ROW(6:6)<=COUNTIF('اسناد الأقسام'!$D$7:$D$78,التجميع!$B$137),INDEX('اسناد الأقسام'!S$7:S$78,SMALL(IF('اسناد الأقسام'!$D$7:$D$78=التجميع!$B$137,ROW('اسناد الأقسام'!$D$7:$D$78)-ROW('اسناد الأقسام'!$D$7)+1),ROW(6:6))),\"\")","v":""},{"$f":"IF(ROW(6:6)<=COUNTIF('اسناد الأقسام'!$D$7:$D$78,التجميع!$B$137),INDEX('اسناد الأقسام'!T$7:T$78,SMALL(IF('اسناد الأقسام'!$D$7:$D$78=التجميع!$B$137,ROW('اسناد الأقسام'!$D$7:$D$78)-ROW('اسناد الأقسام'!$D$7)+1),ROW(6:6))),\"\")","v":""},{"$f":"IF(ROW(6:6)<=COUNTIF('اسناد الأقسام'!$D$7:$D$78,التجميع!$B$137),INDEX('اسناد الأقسام'!U$7:U$78,SMALL(IF('اسناد الأقسام'!$D$7:$D$78=التجميع!$B$137,ROW('اسناد الأقسام'!$D$7:$D$78)-ROW('اسناد الأقسام'!$D$7)+1),ROW(6:6))),\"\")","v":""},{"$f":"IF(ROW(6:6)<=COUNTIF('اسناد الأقسام'!$D$7:$D$78,التجميع!$B$137),INDEX('اسناد الأقسام'!V$7:V$78,SMALL(IF('اسناد الأقسام'!$D$7:$D$78=التجميع!$B$137,ROW('اسناد الأقسام'!$D$7:$D$78)-ROW('اسناد الأقسام'!$D$7)+1),ROW(6:6))),\"\")","v":""},{"$f":"IF(ROW(6:6)<=COUNTIF('اسناد الأقسام'!$D$7:$D$78,التجميع!$B$137),INDEX('اسناد الأقسام'!W$7:W$78,SMALL(IF('اسناد الأقسام'!$D$7:$D$78=التجميع!$B$137,ROW('اسناد الأقسام'!$D$7:$D$78)-ROW('اسناد الأقسام'!$D$7)+1),ROW(6:6))),\"\")","v":""},{"$f":"IF(ROW(6:6)<=COUNTIF('اسناد الأقسام'!$D$7:$D$78,التجميع!$B$137),INDEX('اسناد الأقسام'!X$7:X$78,SMALL(IF('اسناد الأقسام'!$D$7:$D$78=التجميع!$B$137,ROW('اسناد الأقسام'!$D$7:$D$78)-ROW('اسناد الأقسام'!$D$7)+1),ROW(6:6))),\"\")","v":""},{"$f":"IF(ROW(6:6)<=COUNTIF('اسناد الأقسام'!$D$7:$D$78,التجميع!$B$137),INDEX('اسناد الأقسام'!Y$7:Y$78,SMALL(IF('اسناد الأقسام'!$D$7:$D$78=التجميع!$B$137,ROW('اسناد الأقسام'!$D$7:$D$78)-ROW('اسناد الأقسام'!$D$7)+1),ROW(6:6))),\"\")","v":""},{"$f":"IF(ROW(6:6)<=COUNTIF('اسناد الأقسام'!$D$7:$D$78,التجميع!$B$137),INDEX('اسناد الأقسام'!Z$7:Z$78,SMALL(IF('اسناد الأقسام'!$D$7:$D$78=التجميع!$B$137,ROW('اسناد الأقسام'!$D$7:$D$78)-ROW('اسناد الأقسام'!$D$7)+1),ROW(6:6))),\"\")","v":""},{"$f":"IF(ROW(6:6)<=COUNTIF('اسناد الأقسام'!$D$7:$D$78,التجميع!$B$137),INDEX('اسناد الأقسام'!AA$7:AA$78,SMALL(IF('اسناد الأقسام'!$D$7:$D$78=التجميع!$B$137,ROW('اسناد الأقسام'!$D$7:$D$78)-ROW('اسناد الأقسام'!$D$7)+1),ROW(6:6))),\"\")","v":""},{"$f":"IF(ROW(6:6)<=COUNTIF('اسناد الأقسام'!$D$7:$D$78,التجميع!$B$137),INDEX('اسناد الأقسام'!AB$7:AB$78,SMALL(IF('اسناد الأقسام'!$D$7:$D$78=التجميع!$B$137,ROW('اسناد الأقسام'!$D$7:$D$78)-ROW('اسناد الأقسام'!$D$7)+1),ROW(6:6))),\"\")","v":""},{"$f":"IF(ROW(6:6)<=COUNTIF('اسناد الأقسام'!$D$7:$D$78,التجميع!$B$137),INDEX('اسناد الأقسام'!AC$7:AC$78,SMALL(IF('اسناد الأقسام'!$D$7:$D$78=التجميع!$B$137,ROW('اسناد الأقسام'!$D$7:$D$78)-ROW('اسناد الأقسام'!$D$7)+1),ROW(6:6))),\"\")","v":""}]
[7,{"$f":"IF(ROW(7:7)<=COUNTIF('اسناد الأقسام'!$D$7:$D$78,التجميع!$B$137),INDEX('اسناد الأقسام'!C$7:C$78,SMALL(IF('اسناد الأقسام'!$D$7:$D$78=التجميع!$B$137,ROW('اسناد الأقسام'!$D$7:$D$78)-ROW('اسناد الأقسام'!$D$7)+1),ROW(7:7))),\"\")","v":""},{"$f":"IF(ROW(7:7)<=COUNTIF('اسناد الأقسام'!$D$7:$D$78,التجميع!$B$137),INDEX('اسناد الأقسام'!D$7:D$78,SMALL(IF('اسناد الأقسام'!$D$7:$D$78=التجميع!$B$137,ROW('اسناد الأقسام'!$D$7:$D$78)-ROW('اسناد الأقسام'!$D$7)+1),ROW(7:7))),\"\")","v":""},{"$f":"IF(ROW(7:7)<=COUNTIF('اسناد الأقسام'!$D$7:$D$78,التجميع!$B$137),INDEX('اسناد الأقسام'!E$7:E$78,SMALL(IF('اسناد الأقسام'!$D$7:$D$78=التجميع!$B$137,ROW('اسناد الأقسام'!$D$7:$D$78)-ROW('اسناد الأقسام'!$D$7)+1),ROW(7:7))),\"\")","v":""},{"$f":"IF(ROW(7:7)<=COUNTIF('اسناد الأقسام'!$D$7:$D$78,التجميع!$B$137),INDEX('اسناد الأقسام'!F$7:F$78,SMALL(IF('اسناد الأقسام'!$D$7:$D$78=التجميع!$B$137,ROW('اسناد الأقسام'!$D$7:$D$78)-ROW('اسناد الأقسام'!$D$7)+1),ROW(7:7))),\"\")","v":""},{"$f":"IF(ROW(7:7)<=COUNTIF('اسناد الأقسام'!$D$7:$D$78,التجميع!$B$137),INDEX('اسناد الأقسام'!G$7:G$78,SMALL(IF('اسناد الأقسام'!$D$7:$D$78=التجميع!$B$137,ROW('اسناد الأقسام'!$D$7:$D$78)-ROW('اسناد الأقسام'!$D$7)+1),ROW(7:7))),\"\")","v":""},{"$f":"IF(ROW(7:7)<=COUNTIF('اسناد الأقسام'!$D$7:$D$78,التجميع!$B$137),INDEX('اسناد الأقسام'!H$7:H$78,SMALL(IF('اسناد الأقسام'!$D$7:$D$78=التجميع!$B$137,ROW('اسناد الأقسام'!$D$7:$D$78)-ROW('اسناد الأقسام'!$D$7)+1),ROW(7:7))),\"\")","v":""},{"$f":"IF(ROW(7:7)<=COUNTIF('اسناد الأقسام'!$D$7:$D$78,التجميع!$B$137),INDEX('اسناد الأقسام'!I$7:I$78,SMALL(IF('اسناد الأقسام'!$D$7:$D$78=التجميع!$B$137,ROW('اسناد الأقسام'!$D$7:$D$78)-ROW('اسناد الأقسام'!$D$7)+1),ROW(7:7))),\"\")","v":""},{"$f":"IF(ROW(7:7)<=COUNTIF('اسناد الأقسام'!$D$7:$D$78,التجميع!$B$137),INDEX('اسناد الأقسام'!J$7:J$78,SMALL(IF('اسناد الأقسام'!$D$7:$D$78=التجميع!$B$137,ROW('اسناد الأقسام'!$D$7:$D$78)-ROW('اسناد الأقسام'!$D$7)+1),ROW(7:7))),\"\")","v":""},{"$f":"IF(ROW(7:7)<=COUNTIF('اسناد الأقسام'!$D$7:$D$78,التجميع!$B$137),INDEX('اسناد الأقسام'!K$7:K$78,SMALL(IF('اسناد الأقسام'!$D$7:$D$78=التجميع!$B$137,ROW('اسناد الأقسام'!$D$7:$D$78)-ROW('اسناد الأقسام'!$D$7)+1),ROW(7:7))),\"\")","v":""},{"$f":"IF(ROW(7:7)<=COUNTIF('اسناد الأقسام'!$D$7:$D$78,التجميع!$B$137),INDEX('اسناد الأقسام'!L$7:L$78,SMALL(IF('اسناد الأقسام'!$D$7:$D$78=التجميع!$B$137,ROW('اسناد الأقسام'!$D$7:$D$78)-ROW('اسناد الأقسام'!$D$7)+1),ROW(7:7))),\"\")","v":""},{"$f":"IF(ROW(7:7)<=COUNTIF('اسناد الأقسام'!$D$7:$D$78,التجميع!$B$137),INDEX('اسناد الأقسام'!M$7:M$78,SMALL(IF('اسناد الأقسام'!$D$7:$D$78=التجميع!$B$137,ROW('اسناد الأقسام'!$D$7:$D$78)-ROW('اسناد الأقسام'!$D$7)+1),ROW(7:7))),\"\")","v":""},{"$f":"IF(ROW(7:7)<=COUNTIF('اسناد الأقسام'!$D$7:$D$78,التجميع!$B$137),INDEX('اسناد الأقسام'!N$7:N$78,SMALL(IF('اسناد الأقسام'!$D$7:$D$78=التجميع!$B$137,ROW('اسناد الأقسام'!$D$7:$D$78)-ROW('اسناد الأقسام'!$D$7)+1),ROW(7:7))),\"\")","v":""},{"$f":"IF(ROW(7:7)<=COUNTIF('اسناد الأقسام'!$D$7:$D$78,التجميع!$B$137),INDEX('اسناد الأقسام'!O$7:O$78,SMALL(IF('اسناد الأقسام'!$D$7:$D$78=التجميع!$B$137,ROW('اسناد الأقسام'!$D$7:$D$78)-ROW('اسناد الأقسام'!$D$7)+1),ROW(7:7))),\"\")","v":""},{"$f":"IF(ROW(7:7)<=COUNTIF('اسناد الأقسام'!$D$7:$D$78,التجميع!$B$137),INDEX('اسناد الأقسام'!P$7:P$78,SMALL(IF('اسناد الأقسام'!$D$7:$D$78=التجميع!$B$137,ROW('اسناد الأقسام'!$D$7:$D$78)-ROW('اسناد الأقسام'!$D$7)+1),ROW(7:7))),\"\")","v":""},{"$f":"IF(ROW(7:7)<=COUNTIF('اسناد الأقسام'!$D$7:$D$78,التجميع!$B$137),INDEX('اسناد الأقسام'!Q$7:Q$78,SMALL(IF('اسناد الأقسام'!$D$7:$D$78=التجميع!$B$137,ROW('اسناد الأقسام'!$D$7:$D$78)-ROW('اسناد الأقسام'!$D$7)+1),ROW(7:7))),\"\")","v":""},{"$f":"IF(ROW(7:7)<=COUNTIF('اسناد الأقسام'!$D$7:$D$78,التجميع!$B$137),INDEX('اسناد الأقسام'!R$7:R$78,SMALL(IF('اسناد الأقسام'!$D$7:$D$78=التجميع!$B$137,ROW('اسناد الأقسام'!$D$7:$D$78)-ROW('اسناد الأقسام'!$D$7)+1),ROW(7:7))),\"\")","v":""},{"$f":"IF(ROW(7:7)<=COUNTIF('اسناد الأقسام'!$D$7:$D$78,التجميع!$B$137),INDEX('اسناد الأقسام'!S$7:S$78,SMALL(IF('اسناد الأقسام'!$D$7:$D$78=التجميع!$B$137,ROW('اسناد الأقسام'!$D$7:$D$78)-ROW('اسناد الأقسام'!$D$7)+1),ROW(7:7))),\"\")","v":""},{"$f":"IF(ROW(7:7)<=COUNTIF('اسناد الأقسام'!$D$7:$D$78,التجميع!$B$137),INDEX('اسناد الأقسام'!T$7:T$78,SMALL(IF('اسناد الأقسام'!$D$7:$D$78=التجميع!$B$137,ROW('اسناد الأقسام'!$D$7:$D$78)-ROW('اسناد الأقسام'!$D$7)+1),ROW(7:7))),\"\")","v":""},{"$f":"IF(ROW(7:7)<=COUNTIF('اسناد الأقسام'!$D$7:$D$78,التجميع!$B$137),INDEX('اسناد الأقسام'!U$7:U$78,SMALL(IF('اسناد الأقسام'!$D$7:$D$78=التجميع!$B$137,ROW('اسناد الأقسام'!$D$7:$D$78)-ROW('اسناد الأقسام'!$D$7)+1),ROW(7:7))),\"\")","v":""},{"$f":"IF(ROW(7:7)<=COUNTIF('اسناد الأقسام'!$D$7:$D$78,التجميع!$B$137),INDEX('اسناد الأقسام'!V$7:V$78,SMALL(IF('اسناد الأقسام'!$D$7:$D$78=التجميع!$B$137,ROW('اسناد الأقسام'!$D$7:$D$78)-ROW('اسناد الأقسام'!$D$7)+1),ROW(7:7))),\"\")","v":""},{"$f":"IF(ROW(7:7)<=COUNTIF('اسناد الأقسام'!$D$7:$D$78,التجميع!$B$137),INDEX('اسناد الأقسام'!W$7:W$78,SMALL(IF('اسناد الأقسام'!$D$7:$D$78=التجميع!$B$137,ROW('اسناد الأقسام'!$D$7:$D$78)-ROW('اسناد الأقسام'!$D$7)+1),ROW(7:7))),\"\")","v":""},{"$f":"IF(ROW(7:7)<=COUNTIF('اسناد الأقسام'!$D$7:$D$78,التجميع!$B$137),INDEX('اسناد الأقسام'!X$7:X$78,SMALL(IF('اسناد الأقسام'!$D$7:$D$78=التجميع!$B$137,ROW('اسناد الأقسام'!$D$7:$D$78)-ROW('اسناد الأقسام'!$D$7)+1),ROW(7:7))),\"\")","v":""},{"$f":"IF(ROW(7:7)<=COUNTIF('اسناد الأقسام'!$D$7:$D$78,التجميع!$B$137),INDEX('اسناد الأقسام'!Y$7:Y$78,SMALL(IF('اسناد الأقسام'!$D$7:$D$78=التجميع!$B$137,ROW('اسناد الأقسام'!$D$7:$D$78)-ROW('اسناد الأقسام'!$D$7)+1),ROW(7:7))),\"\")","v":""},{"$f":"IF(ROW(7:7)<=COUNTIF('اسناد الأقسام'!$D$7:$D$78,التجميع!$B$137),INDEX('اسناد الأقسام'!Z$7:Z$78,SMALL(IF('اسناد الأقسام'!$D$7:$D$78=التجميع!$B$137,ROW('اسناد الأقسام'!$D$7:$D$78)-ROW('اسناد الأقسام'!$D$7)+1),ROW(7:7))),\"\")","v":""},{"$f":"IF(ROW(7:7)<=COUNTIF('اسناد الأقسام'!$D$7:$D$78,التجميع!$B$137),INDEX('اسناد الأقسام'!AA$7:AA$78,SMALL(IF('اسناد الأقسام'!$D$7:$D$78=التجميع!$B$137,ROW('اسناد الأقسام'!$D$7:$D$78)-ROW('اسناد الأقسام'!$D$7)+1),ROW(7:7))),\"\")","v":""},{"$f":"IF(ROW(7:7)<=COUNTIF('اسناد الأقسام'!$D$7:$D$78,التجميع!$B$137),INDEX('اسناد الأقسام'!AB$7:AB$78,SMALL(IF('اسناد الأقسام'!$D$7:$D$78=التجميع!$B$137,ROW('اسناد الأقسام'!$D$7:$D$78)-ROW('اسناد الأقسام'!$D$7)+1),ROW(7:7))),\"\")","v":""},{"$f":"IF(ROW(7:7)<=COUNTIF('اسناد الأقسام'!$D$7:$D$78,التجميع!$B$137),INDEX('اسناد الأقسام'!AC$7:AC$78,SMALL(IF('اسناد الأقسام'!$D$7:$D$78=التجميع!$B$137,ROW('اسناد الأقسام'!$D$7:$D$78)-ROW('اسناد الأقسام'!$D$7)+1),ROW(7:7))),\"\")","v":""}]
[8,{"$f":"IF(ROW(8:8)<=COUNTIF('اسناد الأقسام'!$D$7:$D$78,التجميع!$B$137),INDEX('اسناد الأقسام'!C$7:C$78,SMALL(IF('اسناد الأقسام'!$D$7:$D$78=التجميع!$B$137,ROW('اسناد الأقسام'!$D$7:$D$78)-ROW('اسناد الأقسام'!$D$7)+1),ROW(8:8))),\"\")","v":""},{"$f":"IF(ROW(8:8)<=COUNTIF('اسناد الأقسام'!$D$7:$D$78,التجميع!$B$137),INDEX('اسناد الأقسام'!D$7:D$78,SMALL(IF('اسناد الأقسام'!$D$7:$D$78=التجميع!$B$137,ROW('اسناد الأقسام'!$D$7:$D$78)-ROW('اسناد الأقسام'!$D$7)+1),ROW(8:8))),\"\")","v":""},{"$f":"IF(ROW(8:8)<=COUNTIF('اسناد الأقسام'!$D$7:$D$78,التجميع!$B$137),INDEX('اسناد الأقسام'!E$7:E$78,SMALL(IF('اسناد الأقسام'!$D$7:$D$78=التجميع!$B$137,ROW('اسناد الأقسام'!$D$7:$D$78)-ROW('اسناد الأقسام'!$D$7)+1),ROW(8:8))),\"\")","v":""},{"$f":"IF(ROW(8:8)<=COUNTIF('اسناد الأقسام'!$D$7:$D$78,التجميع!$B$137),INDEX('اسناد الأقسام'!F$7:F$78,SMALL(IF('اسناد الأقسام'!$D$7:$D$78=التجميع!$B$137,ROW('اسناد الأقسام'!$D$7:$D$78)-ROW('اسناد الأقسام'!$D$7)+1),ROW(8:8))),\"\")","v":""},{"$f":"IF(ROW(8:8)<=COUNTIF('اسناد الأقسام'!$D$7:$D$78,التجميع!$B$137),INDEX('اسناد الأقسام'!G$7:G$78,SMALL(IF('اسناد الأقسام'!$D$7:$D$78=التجميع!$B$137,ROW('اسناد الأقسام'!$D$7:$D$78)-ROW('اسناد الأقسام'!$D$7)+1),ROW(8:8))),\"\")","v":""},{"$f":"IF(ROW(8:8)<=COUNTIF('اسناد الأقسام'!$D$7:$D$78,التجميع!$B$137),INDEX('اسناد الأقسام'!H$7:H$78,SMALL(IF('اسناد الأقسام'!$D$7:$D$78=التجميع!$B$137,ROW('اسناد الأقسام'!$D$7:$D$78)-ROW('اسناد الأقسام'!$D$7)+1),ROW(8:8))),\"\")","v":""},{"$f":"IF(ROW(8:8)<=COUNTIF('اسناد الأقسام'!$D$7:$D$78,التجميع!$B$137),INDEX('اسناد الأقسام'!I$7:I$78,SMALL(IF('اسناد الأقسام'!$D$7:$D$78=التجميع!$B$137,ROW('اسناد الأقسام'!$D$7:$D$78)-ROW('اسناد الأقسام'!$D$7)+1),ROW(8:8))),\"\")","v":""},{"$f":"IF(ROW(8:8)<=COUNTIF('اسناد الأقسام'!$D$7:$D$78,التجميع!$B$137),INDEX('اسناد الأقسام'!J$7:J$78,SMALL(IF('اسناد الأقسام'!$D$7:$D$78=التجميع!$B$137,ROW('اسناد الأقسام'!$D$7:$D$78)-ROW('اسناد الأقسام'!$D$7)+1),ROW(8:8))),\"\")","v":""},{"$f":"IF(ROW(8:8)<=COUNTIF('اسناد الأقسام'!$D$7:$D$78,التجميع!$B$137),INDEX('اسناد الأقسام'!K$7:K$78,SMALL(IF('اسناد الأقسام'!$D$7:$D$78=التجميع!$B$137,ROW('اسناد الأقسام'!$D$7:$D$78)-ROW('اسناد الأقسام'!$D$7)+1),ROW(8:8))),\"\")","v":""},{"$f":"IF(ROW(8:8)<=COUNTIF('اسناد الأقسام'!$D$7:$D$78,التجميع!$B$137),INDEX('اسناد الأقسام'!L$7:L$78,SMALL(IF('اسناد الأقسام'!$D$7:$D$78=التجميع!$B$137,ROW('اسناد الأقسام'!$D$7:$D$78)-ROW('اسناد الأقسام'!$D$7)+1),ROW(8:8))),\"\")","v":""},{"$f":"IF(ROW(8:8)<=COUNTIF('اسناد الأقسام'!$D$7:$D$78,التجميع!$B$137),INDEX('اسناد الأقسام'!M$7:M$78,SMALL(IF('اسناد الأقسام'!$D$7:$D$78=التجميع!$B$137,ROW('اسناد الأقسام'!$D$7:$D$78)-ROW('اسناد الأقسام'!$D$7)+1),ROW(8:8))),\"\")","v":""},{"$f":"IF(ROW(8:8)<=COUNTIF('اسناد الأقسام'!$D$7:$D$78,التجميع!$B$137),INDEX('اسناد الأقسام'!N$7:N$78,SMALL(IF('اسناد الأقسام'!$D$7:$D$78=التجميع!$B$137,ROW('اسناد الأقسام'!$D$7:$D$78)-ROW('اسناد الأقسام'!$D$7)+1),ROW(8:8))),\"\")","v":""},{"$f":"IF(ROW(8:8)<=COUNTIF('اسناد الأقسام'!$D$7:$D$78,التجميع!$B$137),INDEX('اسناد الأقسام'!O$7:O$78,SMALL(IF('اسناد الأقسام'!$D$7:$D$78=التجميع!$B$137,ROW('اسناد الأقسام'!$D$7:$D$78)-ROW('اسناد الأقسام'!$D$7)+1),ROW(8:8))),\"\")","v":""},{"$f":"IF(ROW(8:8)<=COUNTIF('اسناد الأقسام'!$D$7:$D$78,التجميع!$B$137),INDEX('اسناد الأقسام'!P$7:P$78,SMALL(IF('اسناد الأقسام'!$D$7:$D$78=التجميع!$B$137,ROW('اسناد الأقسام'!$D$7:$D$78)-ROW('اسناد الأقسام'!$D$7)+1),ROW(8:8))),\"\")","v":""},{"$f":"IF(ROW(8:8)<=COUNTIF('اسناد الأقسام'!$D$7:$D$78,التجميع!$B$137),INDEX('اسناد الأقسام'!Q$7:Q$78,SMALL(IF('اسناد الأقسام'!$D$7:$D$78=التجميع!$B$137,ROW('اسناد الأقسام'!$D$7:$D$78)-ROW('اسناد الأقسام'!$D$7)+1),ROW(8:8))),\"\")","v":""},{"$f":"IF(ROW(8:8)<=COUNTIF('اسناد الأقسام'!$D$7:$D$78,التجميع!$B$137),INDEX('اسناد الأقسام'!R$7:R$78,SMALL(IF('اسناد الأقسام'!$D$7:$D$78=التجميع!$B$137,ROW('اسناد الأقسام'!$D$7:$D$78)-ROW('اسناد الأقسام'!$D$7)+1),ROW(8:8))),\"\")","v":""},{"$f":"IF(ROW(8:8)<=COUNTIF('اسناد الأقسام'!$D$7:$D$78,التجميع!$B$137),INDEX('اسناد الأقسام'!S$7:S$78,SMALL(IF('اسناد الأقسام'!$D$7:$D$78=التجميع!$B$137,ROW('اسناد الأقسام'!$D$7:$D$78)-ROW('اسناد الأقسام'!$D$7)+1),ROW(8:8))),\"\")","v":""},{"$f":"IF(ROW(8:8)<=COUNTIF('اسناد الأقسام'!$D$7:$D$78,التجميع!$B$137),INDEX('اسناد الأقسام'!T$7:T$78,SMALL(IF('اسناد الأقسام'!$D$7:$D$78=التجميع!$B$137,ROW('اسناد الأقسام'!$D$7:$D$78)-ROW('اسناد الأقسام'!$D$7)+1),ROW(8:8))),\"\")","v":""},{"$f":"IF(ROW(8:8)<=COUNTIF('اسناد الأقسام'!$D$7:$D$78,التجميع!$B$137),INDEX('اسناد الأقسام'!U$7:U$78,SMALL(IF('اسناد الأقسام'!$D$7:$D$78=التجميع!$B$137,ROW('اسناد الأقسام'!$D$7:$D$78)-ROW('اسناد الأقسام'!$D$7)+1),ROW(8:8))),\"\")","v":""},{"$f":"IF(ROW(8:8)<=COUNTIF('اسناد الأقسام'!$D$7:$D$78,التجميع!$B$137),INDEX('اسناد الأقسام'!V$7:V$78,SMALL(IF('اسناد الأقسام'!$D$7:$D$78=التجميع!$B$137,ROW('اسناد الأقسام'!$D$7:$D$78)-ROW('اسناد الأقسام'!$D$7)+1),ROW(8:8))),\"\")","v":""},{"$f":"IF(ROW(8:8)<=COUNTIF('اسناد الأقسام'!$D$7:$D$78,التجميع!$B$137),INDEX('اسناد الأقسام'!W$7:W$78,SMALL(IF('اسناد الأقسام'!$D$7:$D$78=التجميع!$B$137,ROW('اسناد الأقسام'!$D$7:$D$78)-ROW('اسناد الأقسام'!$D$7)+1),ROW(8:8))),\"\")","v":""},{"$f":"IF(ROW(8:8)<=COUNTIF('اسناد الأقسام'!$D$7:$D$78,التجميع!$B$137),INDEX('اسناد الأقسام'!X$7:X$78,SMALL(IF('اسناد الأقسام'!$D$7:$D$78=التجميع!$B$137,ROW('اسناد الأقسام'!$D$7:$D$78)-ROW('اسناد الأقسام'!$D$7)+1),ROW(8:8))),\"\")","v":""},{"$f":"IF(ROW(8:8)<=COUNTIF('اسناد الأقسام'!$D$7:$D$78,التجميع!$B$137),INDEX('اسناد الأقسام'!Y$7:Y$78,SMALL(IF('اسناد الأقسام'!$D$7:$D$78=التجميع!$B$137,ROW('اسناد الأقسام'!$D$7:$D$78)-ROW('اسناد الأقسام'!$D$7)+1),ROW(8:8))),\"\")","v":""},{"$f":"IF(ROW(8:8)<=COUNTIF('اسناد الأقسام'!$D$7:$D$78,التجميع!$B$137),INDEX('اسناد الأقسام'!Z$7:Z$78,SMALL(IF('اسناد الأقسام'!$D$7:$D$78=التجميع!$B$137,ROW('اسناد الأقسام'!$D$7:$D$78)-ROW('اسناد الأقسام'!$D$7)+1),ROW(8:8))),\"\")","v":""},{"$f":"IF(ROW(8:8)<=COUNTIF('اسناد الأقسام'!$D$7:$D$78,التجميع!$B$137),INDEX('اسناد الأقسام'!AA$7:AA$78,SMALL(IF('اسناد الأقسام'!$D$7:$D$78=التجميع!$B$137,ROW('اسناد الأقسام'!$D$7:$D$78)-ROW('اسناد الأقسام'!$D$7)+1),ROW(8:8))),\"\")","v":""},{"$f":"IF(ROW(8:8)<=COUNTIF('اسناد الأقسام'!$D$7:$D$78,التجميع!$B$137),INDEX('اسناد الأقسام'!AB$7:AB$78,SMALL(IF('اسناد الأقسام'!$D$7:$D$78=التجميع!$B$137,ROW('اسناد الأقسام'!$D$7:$D$78)-ROW('اسناد الأقسام'!$D$7)+1),ROW(8:8))),\"\")","v":""},{"$f":"IF(ROW(8:8)<=COUNTIF('اسناد الأقسام'!$D$7:$D$78,التجميع!$B$137),INDEX('اسناد الأقسام'!AC$7:AC$78,SMALL(IF('اسناد الأقسام'!$D$7:$D$78=التجميع!$B$137,ROW('اسناد الأقسام'!$D$7:$D$78)-ROW('اسناد الأقسام'!$D$7)+1),ROW(8:8))),\"\")","v":""}]
[9,{"$f":"IF(ROW(9:9)<=COUNTIF('اسناد الأقسام'!$D$7:$D$78,التجميع!$B$137),INDEX('اسناد الأقسام'!C$7:C$78,SMALL(IF('اسناد الأقسام'!$D$7:$D$78=التجميع!$B$137,ROW('اسناد الأقسام'!$D$7:$D$78)-ROW('اسناد الأقسام'!$D$7)+1),ROW(9:9))),\"\")","v":""},{"$f":"IF(ROW(9:9)<=COUNTIF('اسناد الأقسام'!$D$7:$D$78,التجميع!$B$137),INDEX('اسناد الأقسام'!D$7:D$78,SMALL(IF('اسناد الأقسام'!$D$7:$D$78=التجميع!$B$137,ROW('اسناد الأقسام'!$D$7:$D$78)-ROW('اسناد الأقسام'!$D$7)+1),ROW(9:9))),\"\")","v":""},{"$f":"IF(ROW(9:9)<=COUNTIF('اسناد الأقسام'!$D$7:$D$78,التجميع!$B$137),INDEX('اسناد الأقسام'!E$7:E$78,SMALL(IF('اسناد الأقسام'!$D$7:$D$78=التجميع!$B$137,ROW('اسناد الأقسام'!$D$7:$D$78)-ROW('اسناد الأقسام'!$D$7)+1),ROW(9:9))),\"\")","v":""},{"$f":"IF(ROW(9:9)<=COUNTIF('اسناد الأقسام'!$D$7:$D$78,التجميع!$B$137),INDEX('اسناد الأقسام'!F$7:F$78,SMALL(IF('اسناد الأقسام'!$D$7:$D$78=التجميع!$B$137,ROW('اسناد الأقسام'!$D$7:$D$78)-ROW('اسناد الأقسام'!$D$7)+1),ROW(9:9))),\"\")","v":""},{"$f":"IF(ROW(9:9)<=COUNTIF('اسناد الأقسام'!$D$7:$D$78,التجميع!$B$137),INDEX('اسناد الأقسام'!G$7:G$78,SMALL(IF('اسناد الأقسام'!$D$7:$D$78=التجميع!$B$137,ROW('اسناد الأقسام'!$D$7:$D$78)-ROW('اسناد الأقسام'!$D$7)+1),ROW(9:9))),\"\")","v":""},{"$f":"IF(ROW(9:9)<=COUNTIF('اسناد الأقسام'!$D$7:$D$78,التجميع!$B$137),INDEX('اسناد الأقسام'!H$7:H$78,SMALL(IF('اسناد الأقسام'!$D$7:$D$78=التجميع!$B$137,ROW('اسناد الأقسام'!$D$7:$D$78)-ROW('اسناد الأقسام'!$D$7)+1),ROW(9:9))),\"\")","v":""},{"$f":"IF(ROW(9:9)<=COUNTIF('اسناد الأقسام'!$D$7:$D$78,التجميع!$B$137),INDEX('اسناد الأقسام'!I$7:I$78,SMALL(IF('اسناد الأقسام'!$D$7:$D$78=التجميع!$B$137,ROW('اسناد الأقسام'!$D$7:$D$78)-ROW('اسناد الأقسام'!$D$7)+1),ROW(9:9))),\"\")","v":""},{"$f":"IF(ROW(9:9)<=COUNTIF('اسناد الأقسام'!$D$7:$D$78,التجميع!$B$137),INDEX('اسناد الأقسام'!J$7:J$78,SMALL(IF('اسناد الأقسام'!$D$7:$D$78=التجميع!$B$137,ROW('اسناد الأقسام'!$D$7:$D$78)-ROW('اسناد الأقسام'!$D$7)+1),ROW(9:9))),\"\")","v":""},{"$f":"IF(ROW(9:9)<=COUNTIF('اسناد الأقسام'!$D$7:$D$78,التجميع!$B$137),INDEX('اسناد الأقسام'!K$7:K$78,SMALL(IF('اسناد الأقسام'!$D$7:$D$78=التجميع!$B$137,ROW('اسناد الأقسام'!$D$7:$D$78)-ROW('اسناد الأقسام'!$D$7)+1),ROW(9:9))),\"\")","v":""},{"$f":"IF(ROW(9:9)<=COUNTIF('اسناد الأقسام'!$D$7:$D$78,التجميع!$B$137),INDEX('اسناد الأقسام'!L$7:L$78,SMALL(IF('اسناد الأقسام'!$D$7:$D$78=التجميع!$B$137,ROW('اسناد الأقسام'!$D$7:$D$78)-ROW('اسناد الأقسام'!$D$7)+1),ROW(9:9))),\"\")","v":""},{"$f":"IF(ROW(9:9)<=COUNTIF('اسناد الأقسام'!$D$7:$D$78,التجميع!$B$137),INDEX('اسناد الأقسام'!M$7:M$78,SMALL(IF('اسناد الأقسام'!$D$7:$D$78=التجميع!$B$137,ROW('اسناد الأقسام'!$D$7:$D$78)-ROW('اسناد الأقسام'!$D$7)+1),ROW(9:9))),\"\")","v":""},{"$f":"IF(ROW(9:9)<=COUNTIF('اسناد الأقسام'!$D$7:$D$78,التجميع!$B$137),INDEX('اسناد الأقسام'!N$7:N$78,SMALL(IF('اسناد الأقسام'!$D$7:$D$78=التجميع!$B$137,ROW('اسناد الأقسام'!$D$7:$D$78)-ROW('اسناد الأقسام'!$D$7)+1),ROW(9:9))),\"\")","v":""},{"$f":"IF(ROW(9:9)<=COUNTIF('اسناد الأقسام'!$D$7:$D$78,التجميع!$B$137),INDEX('اسناد الأقسام'!O$7:O$78,SMALL(IF('اسناد الأقسام'!$D$7:$D$78=التجميع!$B$137,ROW('اسناد الأقسام'!$D$7:$D$78)-ROW('اسناد الأقسام'!$D$7)+1),ROW(9:9))),\"\")","v":""},{"$f":"IF(ROW(9:9)<=COUNTIF('اسناد الأقسام'!$D$7:$D$78,التجميع!$B$137),INDEX('اسناد الأقسام'!P$7:P$78,SMALL(IF('اسناد الأقسام'!$D$7:$D$78=التجميع!$B$137,ROW('اسناد الأقسام'!$D$7:$D$78)-ROW('اسناد الأقسام'!$D$7)+1),ROW(9:9))),\"\")","v":""},{"$f":"IF(ROW(9:9)<=COUNTIF('اسناد الأقسام'!$D$7:$D$78,التجميع!$B$137),INDEX('اسناد الأقسام'!Q$7:Q$78,SMALL(IF('اسناد الأقسام'!$D$7:$D$78=التجميع!$B$137,ROW('اسناد الأقسام'!$D$7:$D$78)-ROW('اسناد الأقسام'!$D$7)+1),ROW(9:9))),\"\")","v":""},{"$f":"IF(ROW(9:9)<=COUNTIF('اسناد الأقسام'!$D$7:$D$78,التجميع!$B$137),INDEX('اسناد الأقسام'!R$7:R$78,SMALL(IF('اسناد الأقسام'!$D$7:$D$78=التجميع!$B$137,ROW('اسناد الأقسام'!$D$7:$D$78)-ROW('اسناد الأقسام'!$D$7)+1),ROW(9:9))),\"\")","v":""},{"$f":"IF(ROW(9:9)<=COUNTIF('اسناد الأقسام'!$D$7:$D$78,التجميع!$B$137),INDEX('اسناد الأقسام'!S$7:S$78,SMALL(IF('اسناد الأقسام'!$D$7:$D$78=التجميع!$B$137,ROW('اسناد الأقسام'!$D$7:$D$78)-ROW('اسناد الأقسام'!$D$7)+1),ROW(9:9))),\"\")","v":""},{"$f":"IF(ROW(9:9)<=COUNTIF('اسناد الأقسام'!$D$7:$D$78,التجميع!$B$137),INDEX('اسناد الأقسام'!T$7:T$78,SMALL(IF('اسناد الأقسام'!$D$7:$D$78=التجميع!$B$137,ROW('اسناد الأقسام'!$D$7:$D$78)-ROW('اسناد الأقسام'!$D$7)+1),ROW(9:9))),\"\")","v":""},{"$f":"IF(ROW(9:9)<=COUNTIF('اسناد الأقسام'!$D$7:$D$78,التجميع!$B$137),INDEX('اسناد الأقسام'!U$7:U$78,SMALL(IF('اسناد الأقسام'!$D$7:$D$78=التجميع!$B$137,ROW('اسناد الأقسام'!$D$7:$D$78)-ROW('اسناد الأقسام'!$D$7)+1),ROW(9:9))),\"\")","v":""},{"$f":"IF(ROW(9:9)<=COUNTIF('اسناد الأقسام'!$D$7:$D$78,التجميع!$B$137),INDEX('اسناد الأقسام'!V$7:V$78,SMALL(IF('اسناد الأقسام'!$D$7:$D$78=التجميع!$B$137,ROW('اسناد الأقسام'!$D$7:$D$78)-ROW('اسناد الأقسام'!$D$7)+1),ROW(9:9))),\"\")","v":""},{"$f":"IF(ROW(9:9)<=COUNTIF('اسناد الأقسام'!$D$7:$D$78,التجميع!$B$137),INDEX('اسناد الأقسام'!W$7:W$78,SMALL(IF('اسناد الأقسام'!$D$7:$D$78=التجميع!$B$137,ROW('اسناد الأقسام'!$D$7:$D$78)-ROW('اسناد الأقسام'!$D$7)+1),ROW(9:9))),\"\")","v":""},{"$f":"IF(ROW(9:9)<=COUNTIF('اسناد الأقسام'!$D$7:$D$78,التجميع!$B$137),INDEX('اسناد الأقسام'!X$7:X$78,SMALL(IF('اسناد الأقسام'!$D$7:$D$78=التجميع!$B$137,ROW('اسناد الأقسام'!$D$7:$D$78)-ROW('اسناد الأقسام'!$D$7)+1),ROW(9:9))),\"\")","v":""},{"$f":"IF(ROW(9:9)<=COUNTIF('اسناد الأقسام'!$D$7:$D$78,التجميع!$B$137),INDEX('اسناد الأقسام'!Y$7:Y$78,SMALL(IF('اسناد الأقسام'!$D$7:$D$78=التجميع!$B$137,ROW('اسناد الأقسام'!$D$7:$D$78)-ROW('اسناد الأقسام'!$D$7)+1),ROW(9:9))),\"\")","v":""},{"$f":"IF(ROW(9:9)<=COUNTIF('اسناد الأقسام'!$D$7:$D$78,التجميع!$B$137),INDEX('اسناد الأقسام'!Z$7:Z$78,SMALL(IF('اسناد الأقسام'!$D$7:$D$78=التجميع!$B$137,ROW('اسناد الأقسام'!$D$7:$D$78)-ROW('اسناد الأقسام'!$D$7)+1),ROW(9:9))),\"\")","v":""},{"$f":"IF(ROW(9:9)<=COUNTIF('اسناد الأقسام'!$D$7:$D$78,التجميع!$B$137),INDEX('اسناد الأقسام'!AA$7:AA$78,SMALL(IF('اسناد الأقسام'!$D$7:$D$78=التجميع!$B$137,ROW('اسناد الأقسام'!$D$7:$D$78)-ROW('اسناد الأقسام'!$D$7)+1),ROW(9:9))),\"\")","v":""},{"$f":"IF(ROW(9:9)<=COUNTIF('اسناد الأقسام'!$D$7:$D$78,التجميع!$B$137),INDEX('اسناد الأقسام'!AB$7:AB$78,SMALL(IF('اسناد الأقسام'!$D$7:$D$78=التجميع!$B$137,ROW('اسناد الأقسام'!$D$7:$D$78)-ROW('اسناد الأقسام'!$D$7)+1),ROW(9:9))),\"\")","v":""},{"$f":"IF(ROW(9:9)<=COUNTIF('اسناد الأقسام'!$D$7:$D$78,التجميع!$B$137),INDEX('اسناد الأقسام'!AC$7:AC$78,SMALL(IF('اسناد الأقسام'!$D$7:$D$78=التجميع!$B$137,ROW('اسناد الأقسام'!$D$7:$D$78)-ROW('اسناد الأقسام'!$D$7)+1),ROW(9:9))),\"\")","v":""}]
[10,{"$f":"IF(ROW(10:10)<=COUNTIF('اسناد الأقسام'!$D$7:$D$78,التجميع!$B$137),INDEX('اسناد الأقسام'!C$7:C$78,SMALL(IF('اسناد الأقسام'!$D$7:$D$78=التجميع!$B$137,ROW('اسناد الأقسام'!$D$7:$D$78)-ROW('اسناد الأقسام'!$D$7)+1),ROW(10:10))),\"\")","v":""},{"$f":"IF(ROW(10:10)<=COUNTIF('اسناد الأقسام'!$D$7:$D$78,التجميع!$B$137),INDEX('اسناد الأقسام'!D$7:D$78,SMALL(IF('اسناد الأقسام'!$D$7:$D$78=التجميع!$B$137,ROW('اسناد الأقسام'!$D$7:$D$78)-ROW('اسناد الأقسام'!$D$7)+1),ROW(10:10))),\"\")","v":""},{"$f":"IF(ROW(10:10)<=COUNTIF('اسناد الأقسام'!$D$7:$D$78,التجميع!$B$137),INDEX('اسناد الأقسام'!E$7:E$78,SMALL(IF('اسناد الأقسام'!$D$7:$D$78=التجميع!$B$137,ROW('اسناد الأقسام'!$D$7:$D$78)-ROW('اسناد الأقسام'!$D$7)+1),ROW(10:10))),\"\")","v":""},{"$f":"IF(ROW(10:10)<=COUNTIF('اسناد الأقسام'!$D$7:$D$78,التجميع!$B$137),INDEX('اسناد الأقسام'!F$7:F$78,SMALL(IF('اسناد الأقسام'!$D$7:$D$78=التجميع!$B$137,ROW('اسناد الأقسام'!$D$7:$D$78)-ROW('اسناد الأقسام'!$D$7)+1),ROW(10:10))),\"\")","v":""},{"$f":"IF(ROW(10:10)<=COUNTIF('اسناد الأقسام'!$D$7:$D$78,التجميع!$B$137),INDEX('اسناد الأقسام'!G$7:G$78,SMALL(IF('اسناد الأقسام'!$D$7:$D$78=التجميع!$B$137,ROW('اسناد الأقسام'!$D$7:$D$78)-ROW('اسناد الأقسام'!$D$7)+1),ROW(10:10))),\"\")","v":""},{"$f":"IF(ROW(10:10)<=COUNTIF('اسناد الأقسام'!$D$7:$D$78,التجميع!$B$137),INDEX('اسناد الأقسام'!H$7:H$78,SMALL(IF('اسناد الأقسام'!$D$7:$D$78=التجميع!$B$137,ROW('اسناد الأقسام'!$D$7:$D$78)-ROW('اسناد الأقسام'!$D$7)+1),ROW(10:10))),\"\")","v":""},{"$f":"IF(ROW(10:10)<=COUNTIF('اسناد الأقسام'!$D$7:$D$78,التجميع!$B$137),INDEX('اسناد الأقسام'!I$7:I$78,SMALL(IF('اسناد الأقسام'!$D$7:$D$78=التجميع!$B$137,ROW('اسناد الأقسام'!$D$7:$D$78)-ROW('اسناد الأقسام'!$D$7)+1),ROW(10:10))),\"\")","v":""},{"$f":"IF(ROW(10:10)<=COUNTIF('اسناد الأقسام'!$D$7:$D$78,التجميع!$B$137),INDEX('اسناد الأقسام'!J$7:J$78,SMALL(IF('اسناد الأقسام'!$D$7:$D$78=التجميع!$B$137,ROW('اسناد الأقسام'!$D$7:$D$78)-ROW('اسناد الأقسام'!$D$7)+1),ROW(10:10))),\"\")","v":""},{"$f":"IF(ROW(10:10)<=COUNTIF('اسناد الأقسام'!$D$7:$D$78,التجميع!$B$137),INDEX('اسناد الأقسام'!K$7:K$78,SMALL(IF('اسناد الأقسام'!$D$7:$D$78=التجميع!$B$137,ROW('اسناد الأقسام'!$D$7:$D$78)-ROW('اسناد الأقسام'!$D$7)+1),ROW(10:10))),\"\")","v":""},{"$f":"IF(ROW(10:10)<=COUNTIF('اسناد الأقسام'!$D$7:$D$78,التجميع!$B$137),INDEX('اسناد الأقسام'!L$7:L$78,SMALL(IF('اسناد الأقسام'!$D$7:$D$78=التجميع!$B$137,ROW('اسناد الأقسام'!$D$7:$D$78)-ROW('اسناد الأقسام'!$D$7)+1),ROW(10:10))),\"\")","v":""},{"$f":"IF(ROW(10:10)<=COUNTIF('اسناد الأقسام'!$D$7:$D$78,التجميع!$B$137),INDEX('اسناد الأقسام'!M$7:M$78,SMALL(IF('اسناد الأقسام'!$D$7:$D$78=التجميع!$B$137,ROW('اسناد الأقسام'!$D$7:$D$78)-ROW('اسناد الأقسام'!$D$7)+1),ROW(10:10))),\"\")","v":""},{"$f":"IF(ROW(10:10)<=COUNTIF('اسناد الأقسام'!$D$7:$D$78,التجميع!$B$137),INDEX('اسناد الأقسام'!N$7:N$78,SMALL(IF('اسناد الأقسام'!$D$7:$D$78=التجميع!$B$137,ROW('اسناد الأقسام'!$D$7:$D$78)-ROW('اسناد الأقسام'!$D$7)+1),ROW(10:10))),\"\")","v":""},{"$f":"IF(ROW(10:10)<=COUNTIF('اسناد الأقسام'!$D$7:$D$78,التجميع!$B$137),INDEX('اسناد الأقسام'!O$7:O$78,SMALL(IF('اسناد الأقسام'!$D$7:$D$78=التجميع!$B$137,ROW('اسناد الأقسام'!$D$7:$D$78)-ROW('اسناد الأقسام'!$D$7)+1),ROW(10:10))),\"\")","v":""},{"$f":"IF(ROW(10:10)<=COUNTIF('اسناد الأقسام'!$D$7:$D$78,التجميع!$B$137),INDEX('اسناد الأقسام'!P$7:P$78,SMALL(IF('اسناد الأقسام'!$D$7:$D$78=التجميع!$B$137,ROW('اسناد الأقسام'!$D$7:$D$78)-ROW('اسناد الأقسام'!$D$7)+1),ROW(10:10))),\"\")","v":""},{"$f":"IF(ROW(10:10)<=COUNTIF('اسناد الأقسام'!$D$7:$D$78,التجميع!$B$137),INDEX('اسناد الأقسام'!Q$7:Q$78,SMALL(IF('اسناد الأقسام'!$D$7:$D$78=التجميع!$B$137,ROW('اسناد الأقسام'!$D$7:$D$78)-ROW('اسناد الأقسام'!$D$7)+1),ROW(10:10))),\"\")","v":""},{"$f":"IF(ROW(10:10)<=COUNTIF('اسناد الأقسام'!$D$7:$D$78,التجميع!$B$137),INDEX('اسناد الأقسام'!R$7:R$78,SMALL(IF('اسناد الأقسام'!$D$7:$D$78=التجميع!$B$137,ROW('اسناد الأقسام'!$D$7:$D$78)-ROW('اسناد الأقسام'!$D$7)+1),ROW(10:10))),\"\")","v":""},{"$f":"IF(ROW(10:10)<=COUNTIF('اسناد الأقسام'!$D$7:$D$78,التجميع!$B$137),INDEX('اسناد الأقسام'!S$7:S$78,SMALL(IF('اسناد الأقسام'!$D$7:$D$78=التجميع!$B$137,ROW('اسناد الأقسام'!$D$7:$D$78)-ROW('اسناد الأقسام'!$D$7)+1),ROW(10:10))),\"\")","v":""},{"$f":"IF(ROW(10:10)<=COUNTIF('اسناد الأقسام'!$D$7:$D$78,التجميع!$B$137),INDEX('اسناد الأقسام'!T$7:T$78,SMALL(IF('اسناد الأقسام'!$D$7:$D$78=التجميع!$B$137,ROW('اسناد الأقسام'!$D$7:$D$78)-ROW('اسناد الأقسام'!$D$7)+1),ROW(10:10))),\"\")","v":""},{"$f":"IF(ROW(10:10)<=COUNTIF('اسناد الأقسام'!$D$7:$D$78,التجميع!$B$137),INDEX('اسناد الأقسام'!U$7:U$78,SMALL(IF('اسناد الأقسام'!$D$7:$D$78=التجميع!$B$137,ROW('اسناد الأقسام'!$D$7:$D$78)-ROW('اسناد الأقسام'!$D$7)+1),ROW(10:10))),\"\")","v":""},{"$f":"IF(ROW(10:10)<=COUNTIF('اسناد الأقسام'!$D$7:$D$78,التجميع!$B$137),INDEX('اسناد الأقسام'!V$7:V$78,SMALL(IF('اسناد الأقسام'!$D$7:$D$78=التجميع!$B$137,ROW('اسناد الأقسام'!$D$7:$D$78)-ROW('اسناد الأقسام'!$D$7)+1),ROW(10:10))),\"\")","v":""},{"$f":"IF(ROW(10:10)<=COUNTIF('اسناد الأقسام'!$D$7:$D$78,التجميع!$B$137),INDEX('اسناد الأقسام'!W$7:W$78,SMALL(IF('اسناد الأقسام'!$D$7:$D$78=التجميع!$B$137,ROW('اسناد الأقسام'!$D$7:$D$78)-ROW('اسناد الأقسام'!$D$7)+1),ROW(10:10))),\"\")","v":""},{"$f":"IF(ROW(10:10)<=COUNTIF('اسناد الأقسام'!$D$7:$D$78,التجميع!$B$137),INDEX('اسناد الأقسام'!X$7:X$78,SMALL(IF('اسناد الأقسام'!$D$7:$D$78=التجميع!$B$137,ROW('اسناد الأقسام'!$D$7:$D$78)-ROW('اسناد الأقسام'!$D$7)+1),ROW(10:10))),\"\")","v":""},{"$f":"IF(ROW(10:10)<=COUNTIF('اسناد الأقسام'!$D$7:$D$78,التجميع!$B$137),INDEX('اسناد الأقسام'!Y$7:Y$78,SMALL(IF('اسناد الأقسام'!$D$7:$D$78=التجميع!$B$137,ROW('اسناد الأقسام'!$D$7:$D$78)-ROW('اسناد الأقسام'!$D$7)+1),ROW(10:10))),\"\")","v":""},{"$f":"IF(ROW(10:10)<=COUNTIF('اسناد الأقسام'!$D$7:$D$78,التجميع!$B$137),INDEX('اسناد الأقسام'!Z$7:Z$78,SMALL(IF('اسناد الأقسام'!$D$7:$D$78=التجميع!$B$137,ROW('اسناد الأقسام'!$D$7:$D$78)-ROW('اسناد الأقسام'!$D$7)+1),ROW(10:10))),\"\")","v":""},{"$f":"IF(ROW(10:10)<=COUNTIF('اسناد الأقسام'!$D$7:$D$78,التجميع!$B$137),INDEX('اسناد الأقسام'!AA$7:AA$78,SMALL(IF('اسناد الأقسام'!$D$7:$D$78=التجميع!$B$137,ROW('اسناد الأقسام'!$D$7:$D$78)-ROW('اسناد الأقسام'!$D$7)+1),ROW(10:10))),\"\")","v":""},{"$f":"IF(ROW(10:10)<=COUNTIF('اسناد الأقسام'!$D$7:$D$78,التجميع!$B$137),INDEX('اسناد الأقسام'!AB$7:AB$78,SMALL(IF('اسناد الأقسام'!$D$7:$D$78=التجميع!$B$137,ROW('اسناد الأقسام'!$D$7:$D$78)-ROW('اسناد الأقسام'!$D$7)+1),ROW(10:10))),\"\")","v":""},{"$f":"IF(ROW(10:10)<=COUNTIF('اسناد الأقسام'!$D$7:$D$78,التجميع!$B$137),INDEX('اسناد الأقسام'!AC$7:AC$78,SMALL(IF('اسناد الأقسام'!$D$7:$D$78=التجميع!$B$137,ROW('اسناد الأقسام'!$D$7:$D$78)-ROW('اسناد الأقسام'!$D$7)+1),ROW(10:10))),\"\")","v":""}]
[11,{"$f":"IF(ROW(11:11)<=COUNTIF('اسناد الأقسام'!$D$7:$D$78,التجميع!$B$137),INDEX('اسناد الأقسام'!C$7:C$78,SMALL(IF('اسناد الأقسام'!$D$7:$D$78=التجميع!$B$137,ROW('اسناد الأقسام'!$D$7:$D$78)-ROW('اسناد الأقسام'!$D$7)+1),ROW(11:11))),\"\")","v":""},{"$f":"IF(ROW(11:11)<=COUNTIF('اسناد الأقسام'!$D$7:$D$78,التجميع!$B$137),INDEX('اسناد الأقسام'!D$7:D$78,SMALL(IF('اسناد الأقسام'!$D$7:$D$78=التجميع!$B$137,ROW('اسناد الأقسام'!$D$7:$D$78)-ROW('اسناد الأقسام'!$D$7)+1),ROW(11:11))),\"\")","v":""},{"$f":"IF(ROW(11:11)<=COUNTIF('اسناد الأقسام'!$D$7:$D$78,التجميع!$B$137),INDEX('اسناد الأقسام'!E$7:E$78,SMALL(IF('اسناد الأقسام'!$D$7:$D$78=التجميع!$B$137,ROW('اسناد الأقسام'!$D$7:$D$78)-ROW('اسناد الأقسام'!$D$7)+1),ROW(11:11))),\"\")","v":""},{"$f":"IF(ROW(11:11)<=COUNTIF('اسناد الأقسام'!$D$7:$D$78,التجميع!$B$137),INDEX('اسناد الأقسام'!F$7:F$78,SMALL(IF('اسناد الأقسام'!$D$7:$D$78=التجميع!$B$137,ROW('اسناد الأقسام'!$D$7:$D$78)-ROW('اسناد الأقسام'!$D$7)+1),ROW(11:11))),\"\")","v":""},{"$f":"IF(ROW(11:11)<=COUNTIF('اسناد الأقسام'!$D$7:$D$78,التجميع!$B$137),INDEX('اسناد الأقسام'!G$7:G$78,SMALL(IF('اسناد الأقسام'!$D$7:$D$78=التجميع!$B$137,ROW('اسناد الأقسام'!$D$7:$D$78)-ROW('اسناد الأقسام'!$D$7)+1),ROW(11:11))),\"\")","v":""},{"$f":"IF(ROW(11:11)<=COUNTIF('اسناد الأقسام'!$D$7:$D$78,التجميع!$B$137),INDEX('اسناد الأقسام'!H$7:H$78,SMALL(IF('اسناد الأقسام'!$D$7:$D$78=التجميع!$B$137,ROW('اسناد الأقسام'!$D$7:$D$78)-ROW('اسناد الأقسام'!$D$7)+1),ROW(11:11))),\"\")","v":""},{"$f":"IF(ROW(11:11)<=COUNTIF('اسناد الأقسام'!$D$7:$D$78,التجميع!$B$137),INDEX('اسناد الأقسام'!I$7:I$78,SMALL(IF('اسناد الأقسام'!$D$7:$D$78=التجميع!$B$137,ROW('اسناد الأقسام'!$D$7:$D$78)-ROW('اسناد الأقسام'!$D$7)+1),ROW(11:11))),\"\")","v":""},{"$f":"IF(ROW(11:11)<=COUNTIF('اسناد الأقسام'!$D$7:$D$78,التجميع!$B$137),INDEX('اسناد الأقسام'!J$7:J$78,SMALL(IF('اسناد الأقسام'!$D$7:$D$78=التجميع!$B$137,ROW('اسناد الأقسام'!$D$7:$D$78)-ROW('اسناد الأقسام'!$D$7)+1),ROW(11:11))),\"\")","v":""},{"$f":"IF(ROW(11:11)<=COUNTIF('اسناد الأقسام'!$D$7:$D$78,التجميع!$B$137),INDEX('اسناد الأقسام'!K$7:K$78,SMALL(IF('اسناد الأقسام'!$D$7:$D$78=التجميع!$B$137,ROW('اسناد الأقسام'!$D$7:$D$78)-ROW('اسناد الأقسام'!$D$7)+1),ROW(11:11))),\"\")","v":""},{"$f":"IF(ROW(11:11)<=COUNTIF('اسناد الأقسام'!$D$7:$D$78,التجميع!$B$137),INDEX('اسناد الأقسام'!L$7:L$78,SMALL(IF('اسناد الأقسام'!$D$7:$D$78=التجميع!$B$137,ROW('اسناد الأقسام'!$D$7:$D$78)-ROW('اسناد الأقسام'!$D$7)+1),ROW(11:11))),\"\")","v":""},{"$f":"IF(ROW(11:11)<=COUNTIF('اسناد الأقسام'!$D$7:$D$78,التجميع!$B$137),INDEX('اسناد الأقسام'!M$7:M$78,SMALL(IF('اسناد الأقسام'!$D$7:$D$78=التجميع!$B$137,ROW('اسناد الأقسام'!$D$7:$D$78)-ROW('اسناد الأقسام'!$D$7)+1),ROW(11:11))),\"\")","v":""},{"$f":"IF(ROW(11:11)<=COUNTIF('اسناد الأقسام'!$D$7:$D$78,التجميع!$B$137),INDEX('اسناد الأقسام'!N$7:N$78,SMALL(IF('اسناد الأقسام'!$D$7:$D$78=التجميع!$B$137,ROW('اسناد الأقسام'!$D$7:$D$78)-ROW('اسناد الأقسام'!$D$7)+1),ROW(11:11))),\"\")","v":""},{"$f":"IF(ROW(11:11)<=COUNTIF('اسناد الأقسام'!$D$7:$D$78,التجميع!$B$137),INDEX('اسناد الأقسام'!O$7:O$78,SMALL(IF('اسناد الأقسام'!$D$7:$D$78=التجميع!$B$137,ROW('اسناد الأقسام'!$D$7:$D$78)-ROW('اسناد الأقسام'!$D$7)+1),ROW(11:11))),\"\")","v":""},{"$f":"IF(ROW(11:11)<=COUNTIF('اسناد الأقسام'!$D$7:$D$78,التجميع!$B$137),INDEX('اسناد الأقسام'!P$7:P$78,SMALL(IF('اسناد الأقسام'!$D$7:$D$78=التجميع!$B$137,ROW('اسناد الأقسام'!$D$7:$D$78)-ROW('اسناد الأقسام'!$D$7)+1),ROW(11:11))),\"\")","v":""},{"$f":"IF(ROW(11:11)<=COUNTIF('اسناد الأقسام'!$D$7:$D$78,التجميع!$B$137),INDEX('اسناد الأقسام'!Q$7:Q$78,SMALL(IF('اسناد الأقسام'!$D$7:$D$78=التجميع!$B$137,ROW('اسناد الأقسام'!$D$7:$D$78)-ROW('اسناد الأقسام'!$D$7)+1),ROW(11:11))),\"\")","v":""},{"$f":"IF(ROW(11:11)<=COUNTIF('اسناد الأقسام'!$D$7:$D$78,التجميع!$B$137),INDEX('اسناد الأقسام'!R$7:R$78,SMALL(IF('اسناد الأقسام'!$D$7:$D$78=التجميع!$B$137,ROW('اسناد الأقسام'!$D$7:$D$78)-ROW('اسناد الأقسام'!$D$7)+1),ROW(11:11))),\"\")","v":""},{"$f":"IF(ROW(11:11)<=COUNTIF('اسناد الأقسام'!$D$7:$D$78,التجميع!$B$137),INDEX('اسناد الأقسام'!S$7:S$78,SMALL(IF('اسناد الأقسام'!$D$7:$D$78=التجميع!$B$137,ROW('اسناد الأقسام'!$D$7:$D$78)-ROW('اسناد الأقسام'!$D$7)+1),ROW(11:11))),\"\")","v":""},{"$f":"IF(ROW(11:11)<=COUNTIF('اسناد الأقسام'!$D$7:$D$78,التجميع!$B$137),INDEX('اسناد الأقسام'!T$7:T$78,SMALL(IF('اسناد الأقسام'!$D$7:$D$78=التجميع!$B$137,ROW('اسناد الأقسام'!$D$7:$D$78)-ROW('اسناد الأقسام'!$D$7)+1),ROW(11:11))),\"\")","v":""},{"$f":"IF(ROW(11:11)<=COUNTIF('اسناد الأقسام'!$D$7:$D$78,التجميع!$B$137),INDEX('اسناد الأقسام'!U$7:U$78,SMALL(IF('اسناد الأقسام'!$D$7:$D$78=التجميع!$B$137,ROW('اسناد الأقسام'!$D$7:$D$78)-ROW('اسناد الأقسام'!$D$7)+1),ROW(11:11))),\"\")","v":""},{"$f":"IF(ROW(11:11)<=COUNTIF('اسناد الأقسام'!$D$7:$D$78,التجميع!$B$137),INDEX('اسناد الأقسام'!V$7:V$78,SMALL(IF('اسناد الأقسام'!$D$7:$D$78=التجميع!$B$137,ROW('اسناد الأقسام'!$D$7:$D$78)-ROW('اسناد الأقسام'!$D$7)+1),ROW(11:11))),\"\")","v":""},{"$f":"IF(ROW(11:11)<=COUNTIF('اسناد الأقسام'!$D$7:$D$78,التجميع!$B$137),INDEX('اسناد الأقسام'!W$7:W$78,SMALL(IF('اسناد الأقسام'!$D$7:$D$78=التجميع!$B$137,ROW('اسناد الأقسام'!$D$7:$D$78)-ROW('اسناد الأقسام'!$D$7)+1),ROW(11:11))),\"\")","v":""},{"$f":"IF(ROW(11:11)<=COUNTIF('اسناد الأقسام'!$D$7:$D$78,التجميع!$B$137),INDEX('اسناد الأقسام'!X$7:X$78,SMALL(IF('اسناد الأقسام'!$D$7:$D$78=التجميع!$B$137,ROW('اسناد الأقسام'!$D$7:$D$78)-ROW('اسناد الأقسام'!$D$7)+1),ROW(11:11))),\"\")","v":""},{"$f":"IF(ROW(11:11)<=COUNTIF('اسناد الأقسام'!$D$7:$D$78,التجميع!$B$137),INDEX('اسناد الأقسام'!Y$7:Y$78,SMALL(IF('اسناد الأقسام'!$D$7:$D$78=التجميع!$B$137,ROW('اسناد الأقسام'!$D$7:$D$78)-ROW('اسناد الأقسام'!$D$7)+1),ROW(11:11))),\"\")","v":""},{"$f":"IF(ROW(11:11)<=COUNTIF('اسناد الأقسام'!$D$7:$D$78,التجميع!$B$137),INDEX('اسناد الأقسام'!Z$7:Z$78,SMALL(IF('اسناد الأقسام'!$D$7:$D$78=التجميع!$B$137,ROW('اسناد الأقسام'!$D$7:$D$78)-ROW('اسناد الأقسام'!$D$7)+1),ROW(11:11))),\"\")","v":""},{"$f":"IF(ROW(11:11)<=COUNTIF('اسناد الأقسام'!$D$7:$D$78,التجميع!$B$137),INDEX('اسناد الأقسام'!AA$7:AA$78,SMALL(IF('اسناد الأقسام'!$D$7:$D$78=التجميع!$B$137,ROW('اسناد الأقسام'!$D$7:$D$78)-ROW('اسناد الأقسام'!$D$7)+1),ROW(11:11))),\"\")","v":""},{"$f":"IF(ROW(11:11)<=COUNTIF('اسناد الأقسام'!$D$7:$D$78,التجميع!$B$137),INDEX('اسناد الأقسام'!AB$7:AB$78,SMALL(IF('اسناد الأقسام'!$D$7:$D$78=التجميع!$B$137,ROW('اسناد الأقسام'!$D$7:$D$78)-ROW('اسناد الأقسام'!$D$7)+1),ROW(11:11))),\"\")","v":""},{"$f":"IF(ROW(11:11)<=COUNTIF('اسناد الأقسام'!$D$7:$D$78,التجميع!$B$137),INDEX('اسناد الأقسام'!AC$7:AC$78,SMALL(IF('اسناد الأقسام'!$D$7:$D$78=التجميع!$B$137,ROW('اسناد الأقسام'!$D$7:$D$78)-ROW('اسناد الأقسام'!$D$7)+1),ROW(11:11))),\"\")","v":""}]
[12,{"$f":"IF(ROW(12:12)<=COUNTIF('اسناد الأقسام'!$D$7:$D$78,التجميع!$B$137),INDEX('اسناد الأقسام'!C$7:C$78,SMALL(IF('اسناد الأقسام'!$D$7:$D$78=التجميع!$B$137,ROW('اسناد الأقسام'!$D$7:$D$78)-ROW('اسناد الأقسام'!$D$7)+1),ROW(12:12))),\"\")","v":""},{"$f":"IF(ROW(12:12)<=COUNTIF('اسناد الأقسام'!$D$7:$D$78,التجميع!$B$137),INDEX('اسناد الأقسام'!D$7:D$78,SMALL(IF('اسناد الأقسام'!$D$7:$D$78=التجميع!$B$137,ROW('اسناد الأقسام'!$D$7:$D$78)-ROW('اسناد الأقسام'!$D$7)+1),ROW(12:12))),\"\")","v":""},{"$f":"IF(ROW(12:12)<=COUNTIF('اسناد الأقسام'!$D$7:$D$78,التجميع!$B$137),INDEX('اسناد الأقسام'!E$7:E$78,SMALL(IF('اسناد الأقسام'!$D$7:$D$78=التجميع!$B$137,ROW('اسناد الأقسام'!$D$7:$D$78)-ROW('اسناد الأقسام'!$D$7)+1),ROW(12:12))),\"\")","v":""},{"$f":"IF(ROW(12:12)<=COUNTIF('اسناد الأقسام'!$D$7:$D$78,التجميع!$B$137),INDEX('اسناد الأقسام'!F$7:F$78,SMALL(IF('اسناد الأقسام'!$D$7:$D$78=التجميع!$B$137,ROW('اسناد الأقسام'!$D$7:$D$78)-ROW('اسناد الأقسام'!$D$7)+1),ROW(12:12))),\"\")","v":""},{"$f":"IF(ROW(12:12)<=COUNTIF('اسناد الأقسام'!$D$7:$D$78,التجميع!$B$137),INDEX('اسناد الأقسام'!G$7:G$78,SMALL(IF('اسناد الأقسام'!$D$7:$D$78=التجميع!$B$137,ROW('اسناد الأقسام'!$D$7:$D$78)-ROW('اسناد الأقسام'!$D$7)+1),ROW(12:12))),\"\")","v":""},{"$f":"IF(ROW(12:12)<=COUNTIF('اسناد الأقسام'!$D$7:$D$78,التجميع!$B$137),INDEX('اسناد الأقسام'!H$7:H$78,SMALL(IF('اسناد الأقسام'!$D$7:$D$78=التجميع!$B$137,ROW('اسناد الأقسام'!$D$7:$D$78)-ROW('اسناد الأقسام'!$D$7)+1),ROW(12:12))),\"\")","v":""},{"$f":"IF(ROW(12:12)<=COUNTIF('اسناد الأقسام'!$D$7:$D$78,التجميع!$B$137),INDEX('اسناد الأقسام'!I$7:I$78,SMALL(IF('اسناد الأقسام'!$D$7:$D$78=التجميع!$B$137,ROW('اسناد الأقسام'!$D$7:$D$78)-ROW('اسناد الأقسام'!$D$7)+1),ROW(12:12))),\"\")","v":""},{"$f":"IF(ROW(12:12)<=COUNTIF('اسناد الأقسام'!$D$7:$D$78,التجميع!$B$137),INDEX('اسناد الأقسام'!J$7:J$78,SMALL(IF('اسناد الأقسام'!$D$7:$D$78=التجميع!$B$137,ROW('اسناد الأقسام'!$D$7:$D$78)-ROW('اسناد الأقسام'!$D$7)+1),ROW(12:12))),\"\")","v":""},{"$f":"IF(ROW(12:12)<=COUNTIF('اسناد الأقسام'!$D$7:$D$78,التجميع!$B$137),INDEX('اسناد الأقسام'!K$7:K$78,SMALL(IF('اسناد الأقسام'!$D$7:$D$78=التجميع!$B$137,ROW('اسناد الأقسام'!$D$7:$D$78)-ROW('اسناد الأقسام'!$D$7)+1),ROW(12:12))),\"\")","v":""},{"$f":"IF(ROW(12:12)<=COUNTIF('اسناد الأقسام'!$D$7:$D$78,التجميع!$B$137),INDEX('اسناد الأقسام'!L$7:L$78,SMALL(IF('اسناد الأقسام'!$D$7:$D$78=التجميع!$B$137,ROW('اسناد الأقسام'!$D$7:$D$78)-ROW('اسناد الأقسام'!$D$7)+1),ROW(12:12))),\"\")","v":""},{"$f":"IF(ROW(12:12)<=COUNTIF('اسناد الأقسام'!$D$7:$D$78,التجميع!$B$137),INDEX('اسناد الأقسام'!M$7:M$78,SMALL(IF('اسناد الأقسام'!$D$7:$D$78=التجميع!$B$137,ROW('اسناد الأقسام'!$D$7:$D$78)-ROW('اسناد الأقسام'!$D$7)+1),ROW(12:12))),\"\")","v":""},{"$f":"IF(ROW(12:12)<=COUNTIF('اسناد الأقسام'!$D$7:$D$78,التجميع!$B$137),INDEX('اسناد الأقسام'!N$7:N$78,SMALL(IF('اسناد الأقسام'!$D$7:$D$78=التجميع!$B$137,ROW('اسناد الأقسام'!$D$7:$D$78)-ROW('اسناد الأقسام'!$D$7)+1),ROW(12:12))),\"\")","v":""},{"$f":"IF(ROW(12:12)<=COUNTIF('اسناد الأقسام'!$D$7:$D$78,التجميع!$B$137),INDEX('اسناد الأقسام'!O$7:O$78,SMALL(IF('اسناد الأقسام'!$D$7:$D$78=التجميع!$B$137,ROW('اسناد الأقسام'!$D$7:$D$78)-ROW('اسناد الأقسام'!$D$7)+1),ROW(12:12))),\"\")","v":""},{"$f":"IF(ROW(12:12)<=COUNTIF('اسناد الأقسام'!$D$7:$D$78,التجميع!$B$137),INDEX('اسناد الأقسام'!P$7:P$78,SMALL(IF('اسناد الأقسام'!$D$7:$D$78=التجميع!$B$137,ROW('اسناد الأقسام'!$D$7:$D$78)-ROW('اسناد الأقسام'!$D$7)+1),ROW(12:12))),\"\")","v":""},{"$f":"IF(ROW(12:12)<=COUNTIF('اسناد الأقسام'!$D$7:$D$78,التجميع!$B$137),INDEX('اسناد الأقسام'!Q$7:Q$78,SMALL(IF('اسناد الأقسام'!$D$7:$D$78=التجميع!$B$137,ROW('اسناد الأقسام'!$D$7:$D$78)-ROW('اسناد الأقسام'!$D$7)+1),ROW(12:12))),\"\")","v":""},{"$f":"IF(ROW(12:12)<=COUNTIF('اسناد الأقسام'!$D$7:$D$78,التجميع!$B$137),INDEX('اسناد الأقسام'!R$7:R$78,SMALL(IF('اسناد الأقسام'!$D$7:$D$78=التجميع!$B$137,ROW('اسناد الأقسام'!$D$7:$D$78)-ROW('اسناد الأقسام'!$D$7)+1),ROW(12:12))),\"\")","v":""},{"$f":"IF(ROW(12:12)<=COUNTIF('اسناد الأقسام'!$D$7:$D$78,التجميع!$B$137),INDEX('اسناد الأقسام'!S$7:S$78,SMALL(IF('اسناد الأقسام'!$D$7:$D$78=التجميع!$B$137,ROW('اسناد الأقسام'!$D$7:$D$78)-ROW('اسناد الأقسام'!$D$7)+1),ROW(12:12))),\"\")","v":""},{"$f":"IF(ROW(12:12)<=COUNTIF('اسناد الأقسام'!$D$7:$D$78,التجميع!$B$137),INDEX('اسناد الأقسام'!T$7:T$78,SMALL(IF('اسناد الأقسام'!$D$7:$D$78=التجميع!$B$137,ROW('اسناد الأقسام'!$D$7:$D$78)-ROW('اسناد الأقسام'!$D$7)+1),ROW(12:12))),\"\")","v":""},{"$f":"IF(ROW(12:12)<=COUNTIF('اسناد الأقسام'!$D$7:$D$78,التجميع!$B$137),INDEX('اسناد الأقسام'!U$7:U$78,SMALL(IF('اسناد الأقسام'!$D$7:$D$78=التجميع!$B$137,ROW('اسناد الأقسام'!$D$7:$D$78)-ROW('اسناد الأقسام'!$D$7)+1),ROW(12:12))),\"\")","v":""},{"$f":"IF(ROW(12:12)<=COUNTIF('اسناد الأقسام'!$D$7:$D$78,التجميع!$B$137),INDEX('اسناد الأقسام'!V$7:V$78,SMALL(IF('اسناد الأقسام'!$D$7:$D$78=التجميع!$B$137,ROW('اسناد الأقسام'!$D$7:$D$78)-ROW('اسناد الأقسام'!$D$7)+1),ROW(12:12))),\"\")","v":""},{"$f":"IF(ROW(12:12)<=COUNTIF('اسناد الأقسام'!$D$7:$D$78,التجميع!$B$137),INDEX('اسناد الأقسام'!W$7:W$78,SMALL(IF('اسناد الأقسام'!$D$7:$D$78=التجميع!$B$137,ROW('اسناد الأقسام'!$D$7:$D$78)-ROW('اسناد الأقسام'!$D$7)+1),ROW(12:12))),\"\")","v":""},{"$f":"IF(ROW(12:12)<=COUNTIF('اسناد الأقسام'!$D$7:$D$78,التجميع!$B$137),INDEX('اسناد الأقسام'!X$7:X$78,SMALL(IF('اسناد الأقسام'!$D$7:$D$78=التجميع!$B$137,ROW('اسناد الأقسام'!$D$7:$D$78)-ROW('اسناد الأقسام'!$D$7)+1),ROW(12:12))),\"\")","v":""},{"$f":"IF(ROW(12:12)<=COUNTIF('اسناد الأقسام'!$D$7:$D$78,التجميع!$B$137),INDEX('اسناد الأقسام'!Y$7:Y$78,SMALL(IF('اسناد الأقسام'!$D$7:$D$78=التجميع!$B$137,ROW('اسناد الأقسام'!$D$7:$D$78)-ROW('اسناد الأقسام'!$D$7)+1),ROW(12:12))),\"\")","v":""},{"$f":"IF(ROW(12:12)<=COUNTIF('اسناد الأقسام'!$D$7:$D$78,التجميع!$B$137),INDEX('اسناد الأقسام'!Z$7:Z$78,SMALL(IF('اسناد الأقسام'!$D$7:$D$78=التجميع!$B$137,ROW('اسناد الأقسام'!$D$7:$D$78)-ROW('اسناد الأقسام'!$D$7)+1),ROW(12:12))),\"\")","v":""},{"$f":"IF(ROW(12:12)<=COUNTIF('اسناد الأقسام'!$D$7:$D$78,التجميع!$B$137),INDEX('اسناد الأقسام'!AA$7:AA$78,SMALL(IF('اسناد الأقسام'!$D$7:$D$78=التجميع!$B$137,ROW('اسناد الأقسام'!$D$7:$D$78)-ROW('اسناد الأقسام'!$D$7)+1),ROW(12:12))),\"\")","v":""},{"$f":"IF(ROW(12:12)<=COUNTIF('اسناد الأقسام'!$D$7:$D$78,التجميع!$B$137),INDEX('اسناد الأقسام'!AB$7:AB$78,SMALL(IF('اسناد الأقسام'!$D$7:$D$78=التجميع!$B$137,ROW('اسناد الأقسام'!$D$7:$D$78)-ROW('اسناد الأقسام'!$D$7)+1),ROW(12:12))),\"\")","v":""},{"$f":"IF(ROW(12:12)<=COUNTIF('اسناد الأقسام'!$D$7:$D$78,التجميع!$B$137),INDEX('اسناد الأقسام'!AC$7:AC$78,SMALL(IF('اسناد الأقسام'!$D$7:$D$78=التجميع!$B$137,ROW('اسناد الأقسام'!$D$7:$D$78)-ROW('اسناد الأقسام'!$D$7)+1),ROW(12:12))),\"\")","v":""}]
[]
[null,"اعلام آلي"]
["الرقم","اللقب والاسم","المادة","تاريخ الميلاد","الصفة","أقصى درجة جامعية","تاريخ التعيين بالمؤسسة","الأقسام المسندة"]
[1,{"$f":"IF(ROW(1:1)<=COUNTIF('اسناد الأقسام'!$D$7:$D$78,التجميع!$B$152),INDEX('اسناد الأقسام'!C$7:C$78,SMALL(IF('اسناد الأقسام'!$D$7:$D$78=التجميع!$B$152,ROW('اسناد الأقسام'!$D$7:$D$78)-ROW('اسناد الأقسام'!$D$7)+1),ROW(1:1))),\"\")","v":""},{"$f":"IF(ROW(1:1)<=COUNTIF('اسناد الأقسام'!$D$7:$D$78,التجميع!$B$152),INDEX('اسناد الأقسام'!D$7:D$78,SMALL(IF('اسناد الأقسام'!$D$7:$D$78=التجميع!$B$152,ROW('اسناد الأقسام'!$D$7:$D$78)-ROW('اسناد الأقسام'!$D$7)+1),ROW(1:1))),\"\")","v":""},{"$f":"IF(ROW(1:1)<=COUNTIF('اسناد الأقسام'!$D$7:$D$78,التجميع!$B$152),INDEX('اسناد الأقسام'!E$7:E$78,SMALL(IF('اسناد الأقسام'!$D$7:$D$78=التجميع!$B$152,ROW('اسناد الأقسام'!$D$7:$D$78)-ROW('اسناد الأقسام'!$D$7)+1),ROW(1:1))),\"\")","v":""},{"$f":"IF(ROW(1:1)<=COUNTIF('اسناد الأقسام'!$D$7:$D$78,التجميع!$B$152),INDEX('اسناد الأقسام'!F$7:F$78,SMALL(IF('اسناد الأقسام'!$D$7:$D$78=التجميع!$B$152,ROW('اسناد الأقسام'!$D$7:$D$78)-ROW('اسناد الأقسام'!$D$7)+1),ROW(1:1))),\"\")","v":""},{"$f":"IF(ROW(1:1)<=COUNTIF('اسناد الأقسام'!$D$7:$D$78,التجميع!$B$152),INDEX('اسناد الأقسام'!G$7:G$78,SMALL(IF('اسناد الأقسام'!$D$7:$D$78=التجميع!$B$152,ROW('اسناد الأقسام'!$D$7:$D$78)-ROW('اسناد الأقسام'!$D$7)+1),ROW(1:1))),\"\")","v":""},{"$f":"IF(ROW(1:1)<=COUNTIF('اسناد الأقسام'!$D$7:$D$78,التجميع!$B$152),INDEX('اسناد الأقسام'!H$7:H$78,SMALL(IF('اسناد الأقسام'!$D$7:$D$78=التجميع!$B$152,ROW('اسناد الأقسام'!$D$7:$D$78)-ROW('اسناد الأقسام'!$D$7)+1),ROW(1:1))),\"\")","v":""},{"$f":"IF(ROW(1:1)<=COUNTIF('اسناد الأقسام'!$D$7:$D$78,التجميع!$B$152),INDEX('اسناد الأقسام'!I$7:I$78,SMALL(IF('اسناد الأقسام'!$D$7:$D$78=التجميع!$B$152,ROW('اسناد الأقسام'!$D$7:$D$78)-ROW('اسناد الأقسام'!$D$7)+1),ROW(1:1))),\"\")","v":""},{"$f":"IF(ROW(1:1)<=COUNTIF('اسناد الأقسام'!$D$7:$D$78,التجميع!$B$152),INDEX('اسناد الأقسام'!J$7:J$78,SMALL(IF('اسناد الأقسام'!$D$7:$D$78=التجميع!$B$152,ROW('اسناد الأقسام'!$D$7:$D$78)-ROW('اسناد الأقسام'!$D$7)+1),ROW(1:1))),\"\")","v":""},{"$f":"IF(ROW(1:1)<=COUNTIF('اسناد الأقسام'!$D$7:$D$78,التجميع!$B$152),INDEX('اسناد الأقسام'!K$7:K$78,SMALL(IF('اسناد الأقسام'!$D$7:$D$78=التجميع!$B$152,ROW('اسناد الأقسام'!$D$7:$D$78)-ROW('اسناد الأقسام'!$D$7)+1),ROW(1:1))),\"\")","v":""},{"$f":"IF(ROW(1:1)<=COUNTIF('اسناد الأقسام'!$D$7:$D$78,التجميع!$B$152),INDEX('اسناد الأقسام'!L$7:L$78,SMALL(IF('اسناد الأقسام'!$D$7:$D$78=التجميع!$B$152,ROW('اسناد الأقسام'!$D$7:$D$78)-ROW('اسناد الأقسام'!$D$7)+1),ROW(1:1))),\"\")","v":""},{"$f":"IF(ROW(1:1)<=COUNTIF('اسناد الأقسام'!$D$7:$D$78,التجميع!$B$152),INDEX('اسناد الأقسام'!M$7:M$78,SMALL(IF('اسناد الأقسام'!$D$7:$D$78=التجميع!$B$152,ROW('اسناد الأقسام'!$D$7:$D$78)-ROW('اسناد الأقسام'!$D$7)+1),ROW(1:1))),\"\")","v":""},{"$f":"IF(ROW(1:1)<=COUNTIF('اسناد الأقسام'!$D$7:$D$78,التجميع!$B$152),INDEX('اسناد الأقسام'!N$7:N$78,SMALL(IF('اسناد الأقسام'!$D$7:$D$78=التجميع!$B$152,ROW('اسناد الأقسام'!$D$7:$D$78)-ROW('اسناد الأقسام'!$D$7)+1),ROW(1:1))),\"\")","v":""},{"$f":"IF(ROW(1:1)<=COUNTIF('اسناد الأقسام'!$D$7:$D$78,التجميع!$B$152),INDEX('اسناد الأقسام'!O$7:O$78,SMALL(IF('اسناد الأقسام'!$D$7:$D$78=التجميع!$B$152,ROW('اسناد الأقسام'!$D$7:$D$78)-ROW('اسناد الأقسام'!$D$7)+1),ROW(1:1))),\"\")","v":""},{"$f":"IF(ROW(1:1)<=COUNTIF('اسناد الأقسام'!$D$7:$D$78,التجميع!$B$152),INDEX('اسناد الأقسام'!P$7:P$78,SMALL(IF('اسناد الأقسام'!$D$7:$D$78=التجميع!$B$152,ROW('اسناد الأقسام'!$D$7:$D$78)-ROW('اسناد الأقسام'!$D$7)+1),ROW(1:1))),\"\")","v":""},{"$f":"IF(ROW(1:1)<=COUNTIF('اسناد الأقسام'!$D$7:$D$78,التجميع!$B$152),INDEX('اسناد الأقسام'!Q$7:Q$78,SMALL(IF('اسناد الأقسام'!$D$7:$D$78=التجميع!$B$152,ROW('اسناد الأقسام'!$D$7:$D$78)-ROW('اسناد الأقسام'!$D$7)+1),ROW(1:1))),\"\")","v":""},{"$f":"IF(ROW(1:1)<=COUNTIF('اسناد الأقسام'!$D$7:$D$78,التجميع!$B$152),INDEX('اسناد الأقسام'!R$7:R$78,SMALL(IF('اسناد الأقسام'!$D$7:$D$78=التجميع!$B$152,ROW('اسناد الأقسام'!$D$7:$D$78)-ROW('اسناد الأقسام'!$D$7)+1),ROW(1:1))),\"\")","v":""},{"$f":"IF(ROW(1:1)<=COUNTIF('اسناد الأقسام'!$D$7:$D$78,التجميع!$B$152),INDEX('اسناد الأقسام'!S$7:S$78,SMALL(IF('اسناد الأقسام'!$D$7:$D$78=التجميع!$B$152,ROW('اسناد الأقسام'!$D$7:$D$78)-ROW('اسناد الأقسام'!$D$7)+1),ROW(1:1))),\"\")","v":""},{"$f":"IF(ROW(1:1)<=COUNTIF('اسناد الأقسام'!$D$7:$D$78,التجميع!$B$152),INDEX('اسناد الأقسام'!T$7:T$78,SMALL(IF('اسناد الأقسام'!$D$7:$D$78=التجميع!$B$152,ROW('اسناد الأقسام'!$D$7:$D$78)-ROW('اسناد الأقسام'!$D$7)+1),ROW(1:1))),\"\")","v":""},{"$f":"IF(ROW(1:1)<=COUNTIF('اسناد الأقسام'!$D$7:$D$78,التجميع!$B$152),INDEX('اسناد الأقسام'!U$7:U$78,SMALL(IF('اسناد الأقسام'!$D$7:$D$78=التجميع!$B$152,ROW('اسناد الأقسام'!$D$7:$D$78)-ROW('اسناد الأقسام'!$D$7)+1),ROW(1:1))),\"\")","v":""},{"$f":"IF(ROW(1:1)<=COUNTIF('اسناد الأقسام'!$D$7:$D$78,التجميع!$B$152),INDEX('اسناد الأقسام'!V$7:V$78,SMALL(IF('اسناد الأقسام'!$D$7:$D$78=التجميع!$B$152,ROW('اسناد الأقسام'!$D$7:$D$78)-ROW('اسناد الأقسام'!$D$7)+1),ROW(1:1))),\"\")","v":""},{"$f":"IF(ROW(1:1)<=COUNTIF('اسناد الأقسام'!$D$7:$D$78,التجميع!$B$152),INDEX('اسناد الأقسام'!W$7:W$78,SMALL(IF('اسناد الأقسام'!$D$7:$D$78=التجميع!$B$152,ROW('اسناد الأقسام'!$D$7:$D$78)-ROW('اسناد الأقسام'!$D$7)+1),ROW(1:1))),\"\")","v":""},{"$f":"IF(ROW(1:1)<=COUNTIF('اسناد الأقسام'!$D$7:$D$78,التجميع!$B$152),INDEX('اسناد الأقسام'!X$7:X$78,SMALL(IF('اسناد الأقسام'!$D$7:$D$78=التجميع!$B$152,ROW('اسناد الأقسام'!$D$7:$D$78)-ROW('اسناد الأقسام'!$D$7)+1),ROW(1:1))),\"\")","v":""},{"$f":"IF(ROW(1:1)<=COUNTIF('اسناد الأقسام'!$D$7:$D$78,التجميع!$B$152),INDEX('اسناد الأقسام'!Y$7:Y$78,SMALL(IF('اسناد الأقسام'!$D$7:$D$78=التجميع!$B$152,ROW('اسناد الأقسام'!$D$7:$D$78)-ROW('اسناد الأقسام'!$D$7)+1),ROW(1:1))),\"\")","v":""},{"$f":"IF(ROW(1:1)<=COUNTIF('اسناد الأقسام'!$D$7:$D$78,التجميع!$B$152),INDEX('اسناد الأقسام'!Z$7:Z$78,SMALL(IF('اسناد الأقسام'!$D$7:$D$78=التجميع!$B$152,ROW('اسناد الأقسام'!$D$7:$D$78)-ROW('اسناد الأقسام'!$D$7)+1),ROW(1:1))),\"\")","v":""},{"$f":"IF(ROW(1:1)<=COUNTIF('اسناد الأقسام'!$D$7:$D$78,التجميع!$B$152),INDEX('اسناد الأقسام'!AA$7:AA$78,SMALL(IF('اسناد الأقسام'!$D$7:$D$78=التجميع!$B$152,ROW('اسناد الأقسام'!$D$7:$D$78)-ROW('اسناد الأقسام'!$D$7)+1),ROW(1:1))),\"\")","v":""},{"$f":"IF(ROW(1:1)<=COUNTIF('اسناد الأقسام'!$D$7:$D$78,التجميع!$B$152),INDEX('اسناد الأقسام'!AB$7:AB$78,SMALL(IF('اسناد الأقسام'!$D$7:$D$78=التجميع!$B$152,ROW('اسناد الأقسام'!$D$7:$D$78)-ROW('اسناد الأقسام'!$D$7)+1),ROW(1:1))),\"\")","v":""},{"$f":"IF(ROW(1:1)<=COUNTIF('اسناد الأقسام'!$D$7:$D$78,التجميع!$B$152),INDEX('اسناد الأقسام'!AC$7:AC$78,SMALL(IF('اسناد الأقسام'!$D$7:$D$78=التجميع!$B$152,ROW('اسناد الأقسام'!$D$7:$D$78)-ROW('اسناد الأقسام'!$D$7)+1),ROW(1:1))),\"\")","v":""}]
[2,{"$f":"IF(ROW(2:2)<=COUNTIF('اسناد الأقسام'!$D$7:$D$78,التجميع!$B$152),INDEX('اسناد الأقسام'!C$7:C$78,SMALL(IF('اسناد الأقسام'!$D$7:$D$78=التجميع!$B$152,ROW('اسناد الأقسام'!$D$7:$D$78)-ROW('اسناد الأقسام'!$D$7)+1),ROW(2:2))),\"\")","v":""},{"$f":"IF(ROW(2:2)<=COUNTIF('اسناد الأقسام'!$D$7:$D$78,التجميع!$B$152),INDEX('اسناد الأقسام'!D$7:D$78,SMALL(IF('اسناد الأقسام'!$D$7:$D$78=التجميع!$B$152,ROW('اسناد الأقسام'!$D$7:$D$78)-ROW('اسناد الأقسام'!$D$7)+1),ROW(2:2))),\"\")","v":""},{"$f":"IF(ROW(2:2)<=COUNTIF('اسناد الأقسام'!$D$7:$D$78,التجميع!$B$152),INDEX('اسناد الأقسام'!E$7:E$78,SMALL(IF('اسناد الأقسام'!$D$7:$D$78=التجميع!$B$152,ROW('اسناد الأقسام'!$D$7:$D$78)-ROW('اسناد الأقسام'!$D$7)+1),ROW(2:2))),\"\")","v":""},{"$f":"IF(ROW(2:2)<=COUNTIF('اسناد الأقسام'!$D$7:$D$78,التجميع!$B$152),INDEX('اسناد الأقسام'!F$7:F$78,SMALL(IF('اسناد الأقسام'!$D$7:$D$78=التجميع!$B$152,ROW('اسناد الأقسام'!$D$7:$D$78)-ROW('اسناد الأقسام'!$D$7)+1),ROW(2:2))),\"\")","v":""},{"$f":"IF(ROW(2:2)<=COUNTIF('اسناد الأقسام'!$D$7:$D$78,التجميع!$B$152),INDEX('اسناد الأقسام'!G$7:G$78,SMALL(IF('اسناد الأقسام'!$D$7:$D$78=التجميع!$B$152,ROW('اسناد الأقسام'!$D$7:$D$78)-ROW('اسناد الأقسام'!$D$7)+1),ROW(2:2))),\"\")","v":""},{"$f":"IF(ROW(2:2)<=COUNTIF('اسناد الأقسام'!$D$7:$D$78,التجميع!$B$152),INDEX('اسناد الأقسام'!H$7:H$78,SMALL(IF('اسناد الأقسام'!$D$7:$D$78=التجميع!$B$152,ROW('اسناد الأقسام'!$D$7:$D$78)-ROW('اسناد الأقسام'!$D$7)+1),ROW(2:2))),\"\")","v":""},{"$f":"IF(ROW(2:2)<=COUNTIF('اسناد الأقسام'!$D$7:$D$78,التجميع!$B$152),INDEX('اسناد الأقسام'!I$7:I$78,SMALL(IF('اسناد الأقسام'!$D$7:$D$78=التجميع!$B$152,ROW('اسناد الأقسام'!$D$7:$D$78)-ROW('اسناد الأقسام'!$D$7)+1),ROW(2:2))),\"\")","v":""},{"$f":"IF(ROW(2:2)<=COUNTIF('اسناد الأقسام'!$D$7:$D$78,التجميع!$B$152),INDEX('اسناد الأقسام'!J$7:J$78,SMALL(IF('اسناد الأقسام'!$D$7:$D$78=التجميع!$B$152,ROW('اسناد الأقسام'!$D$7:$D$78)-ROW('اسناد الأقسام'!$D$7)+1),ROW(2:2))),\"\")","v":""},{"$f":"IF(ROW(2:2)<=COUNTIF('اسناد الأقسام'!$D$7:$D$78,التجميع!$B$152),INDEX('اسناد الأقسام'!K$7:K$78,SMALL(IF('اسناد الأقسام'!$D$7:$D$78=التجميع!$B$152,ROW('اسناد الأقسام'!$D$7:$D$78)-ROW('اسناد الأقسام'!$D$7)+1),ROW(2:2))),\"\")","v":""},{"$f":"IF(ROW(2:2)<=COUNTIF('اسناد الأقسام'!$D$7:$D$78,التجميع!$B$152),INDEX('اسناد الأقسام'!L$7:L$78,SMALL(IF('اسناد الأقسام'!$D$7:$D$78=التجميع!$B$152,ROW('اسناد الأقسام'!$D$7:$D$78)-ROW('اسناد الأقسام'!$D$7)+1),ROW(2:2))),\"\")","v":""},{"$f":"IF(ROW(2:2)<=COUNTIF('اسناد الأقسام'!$D$7:$D$78,التجميع!$B$152),INDEX('اسناد الأقسام'!M$7:M$78,SMALL(IF('اسناد الأقسام'!$D$7:$D$78=التجميع!$B$152,ROW('اسناد الأقسام'!$D$7:$D$78)-ROW('اسناد الأقسام'!$D$7)+1),ROW(2:2))),\"\")","v":""},{"$f":"IF(ROW(2:2)<=COUNTIF('اسناد الأقسام'!$D$7:$D$78,التجميع!$B$152),INDEX('اسناد الأقسام'!N$7:N$78,SMALL(IF('اسناد الأقسام'!$D$7:$D$78=التجميع!$B$152,ROW('اسناد الأقسام'!$D$7:$D$78)-ROW('اسناد الأقسام'!$D$7)+1),ROW(2:2))),\"\")","v":""},{"$f":"IF(ROW(2:2)<=COUNTIF('اسناد الأقسام'!$D$7:$D$78,التجميع!$B$152),INDEX('اسناد الأقسام'!O$7:O$78,SMALL(IF('اسناد الأقسام'!$D$7:$D$78=التجميع!$B$152,ROW('اسناد الأقسام'!$D$7:$D$78)-ROW('اسناد الأقسام'!$D$7)+1),ROW(2:2))),\"\")","v":""},{"$f":"IF(ROW(2:2)<=COUNTIF('اسناد الأقسام'!$D$7:$D$78,التجميع!$B$152),INDEX('اسناد الأقسام'!P$7:P$78,SMALL(IF('اسناد الأقسام'!$D$7:$D$78=التجميع!$B$152,ROW('اسناد الأقسام'!$D$7:$D$78)-ROW('اسناد الأقسام'!$D$7)+1),ROW(2:2))),\"\")","v":""},{"$f":"IF(ROW(2:2)<=COUNTIF('اسناد الأقسام'!$D$7:$D$78,التجميع!$B$152),INDEX('اسناد الأقسام'!Q$7:Q$78,SMALL(IF('اسناد الأقسام'!$D$7:$D$78=التجميع!$B$152,ROW('اسناد الأقسام'!$D$7:$D$78)-ROW('اسناد الأقسام'!$D$7)+1),ROW(2:2))),\"\")","v":""},{"$f":"IF(ROW(2:2)<=COUNTIF('اسناد الأقسام'!$D$7:$D$78,التجميع!$B$152),INDEX('اسناد الأقسام'!R$7:R$78,SMALL(IF('اسناد الأقسام'!$D$7:$D$78=التجميع!$B$152,ROW('اسناد الأقسام'!$D$7:$D$78)-ROW('اسناد الأقسام'!$D$7)+1),ROW(2:2))),\"\")","v":""},{"$f":"IF(ROW(2:2)<=COUNTIF('اسناد الأقسام'!$D$7:$D$78,التجميع!$B$152),INDEX('اسناد الأقسام'!S$7:S$78,SMALL(IF('اسناد الأقسام'!$D$7:$D$78=التجميع!$B$152,ROW('اسناد الأقسام'!$D$7:$D$78)-ROW('اسناد الأقسام'!$D$7)+1),ROW(2:2))),\"\")","v":""},{"$f":"IF(ROW(2:2)<=COUNTIF('اسناد الأقسام'!$D$7:$D$78,التجميع!$B$152),INDEX('اسناد الأقسام'!T$7:T$78,SMALL(IF('اسناد الأقسام'!$D$7:$D$78=التجميع!$B$152,ROW('اسناد الأقسام'!$D$7:$D$78)-ROW('اسناد الأقسام'!$D$7)+1),ROW(2:2))),\"\")","v":""},{"$f":"IF(ROW(2:2)<=COUNTIF('اسناد الأقسام'!$D$7:$D$78,التجميع!$B$152),INDEX('اسناد الأقسام'!U$7:U$78,SMALL(IF('اسناد الأقسام'!$D$7:$D$78=التجميع!$B$152,ROW('اسناد الأقسام'!$D$7:$D$78)-ROW('اسناد الأقسام'!$D$7)+1),ROW(2:2))),\"\")","v":""},{"$f":"IF(ROW(2:2)<=COUNTIF('اسناد الأقسام'!$D$7:$D$78,التجميع!$B$152),INDEX('اسناد الأقسام'!V$7:V$78,SMALL(IF('اسناد الأقسام'!$D$7:$D$78=التجميع!$B$152,ROW('اسناد الأقسام'!$D$7:$D$78)-ROW('اسناد الأقسام'!$D$7)+1),ROW(2:2))),\"\")","v":""},{"$f":"IF(ROW(2:2)<=COUNTIF('اسناد الأقسام'!$D$7:$D$78,التجميع!$B$152),INDEX('اسناد الأقسام'!W$7:W$78,SMALL(IF('اسناد الأقسام'!$D$7:$D$78=التجميع!$B$152,ROW('اسناد الأقسام'!$D$7:$D$78)-ROW('اسناد الأقسام'!$D$7)+1),ROW(2:2))),\"\")","v":""},{"$f":"IF(ROW(2:2)<=COUNTIF('اسناد الأقسام'!$D$7:$D$78,التجميع!$B$152),INDEX('اسناد الأقسام'!X$7:X$78,SMALL(IF('اسناد الأقسام'!$D$7:$D$78=التجميع!$B$152,ROW('اسناد الأقسام'!$D$7:$D$78)-ROW('اسناد الأقسام'!$D$7)+1),ROW(2:2))),\"\")","v":""},{"$f":"IF(ROW(2:2)<=COUNTIF('اسناد الأقسام'!$D$7:$D$78,التجميع!$B$152),INDEX('اسناد الأقسام'!Y$7:Y$78,SMALL(IF('اسناد الأقسام'!$D$7:$D$78=التجميع!$B$152,ROW('اسناد الأقسام'!$D$7:$D$78)-ROW('اسناد الأقسام'!$D$7)+1),ROW(2:2))),\"\")","v":""},{"$f":"IF(ROW(2:2)<=COUNTIF('اسناد الأقسام'!$D$7:$D$78,التجميع!$B$152),INDEX('اسناد الأقسام'!Z$7:Z$78,SMALL(IF('اسناد الأقسام'!$D$7:$D$78=التجميع!$B$152,ROW('اسناد الأقسام'!$D$7:$D$78)-ROW('اسناد الأقسام'!$D$7)+1),ROW(2:2))),\"\")","v":""},{"$f":"IF(ROW(2:2)<=COUNTIF('اسناد الأقسام'!$D$7:$D$78,التجميع!$B$152),INDEX('اسناد الأقسام'!AA$7:AA$78,SMALL(IF('اسناد الأقسام'!$D$7:$D$78=التجميع!$B$152,ROW('اسناد الأقسام'!$D$7:$D$78)-ROW('اسناد الأقسام'!$D$7)+1),ROW(2:2))),\"\")","v":""},{"$f":"IF(ROW(2:2)<=COUNTIF('اسناد الأقسام'!$D$7:$D$78,التجميع!$B$152),INDEX('اسناد الأقسام'!AB$7:AB$78,SMALL(IF('اسناد الأقسام'!$D$7:$D$78=التجميع!$B$152,ROW('اسناد الأقسام'!$D$7:$D$78)-ROW('اسناد الأقسام'!$D$7)+1),ROW(2:2))),\"\")","v":""},{"$f":"IF(ROW(2:2)<=COUNTIF('اسناد الأقسام'!$D$7:$D$78,التجميع!$B$152),INDEX('اسناد الأقسام'!AC$7:AC$78,SMALL(IF('اسناد الأقسام'!$D$7:$D$78=التجميع!$B$152,ROW('اسناد الأقسام'!$D$7:$D$78)-ROW('اسناد الأقسام'!$D$7)+1),ROW(2:2))),\"\")","v":""}]
[3,{"$f":"IF(ROW(3:3)<=COUNTIF('اسناد الأقسام'!$D$7:$D$78,التجميع!$B$152),INDEX('اسناد الأقسام'!C$7:C$78,SMALL(IF('اسناد الأقسام'!$D$7:$D$78=التجميع!$B$152,ROW('اسناد الأقسام'!$D$7:$D$78)-ROW('اسناد الأقسام'!$D$7)+1),ROW(3:3))),\"\")","v":""},{"$f":"IF(ROW(3:3)<=COUNTIF('اسناد الأقسام'!$D$7:$D$78,التجميع!$B$152),INDEX('اسناد الأقسام'!D$7:D$78,SMALL(IF('اسناد الأقسام'!$D$7:$D$78=التجميع!$B$152,ROW('اسناد الأقسام'!$D$7:$D$78)-ROW('اسناد الأقسام'!$D$7)+1),ROW(3:3))),\"\")","v":""},{"$f":"IF(ROW(3:3)<=COUNTIF('اسناد الأقسام'!$D$7:$D$78,التجميع!$B$152),INDEX('اسناد الأقسام'!E$7:E$78,SMALL(IF('اسناد الأقسام'!$D$7:$D$78=التجميع!$B$152,ROW('اسناد الأقسام'!$D$7:$D$78)-ROW('اسناد الأقسام'!$D$7)+1),ROW(3:3))),\"\")","v":""},{"$f":"IF(ROW(3:3)<=COUNTIF('اسناد الأقسام'!$D$7:$D$78,التجميع!$B$152),INDEX('اسناد الأقسام'!F$7:F$78,SMALL(IF('اسناد الأقسام'!$D$7:$D$78=التجميع!$B$152,ROW('اسناد الأقسام'!$D$7:$D$78)-ROW('اسناد الأقسام'!$D$7)+1),ROW(3:3))),\"\")","v":""},{"$f":"IF(ROW(3:3)<=COUNTIF('اسناد الأقسام'!$D$7:$D$78,التجميع!$B$152),INDEX('اسناد الأقسام'!G$7:G$78,SMALL(IF('اسناد الأقسام'!$D$7:$D$78=التجميع!$B$152,ROW('اسناد الأقسام'!$D$7:$D$78)-ROW('اسناد الأقسام'!$D$7)+1),ROW(3:3))),\"\")","v":""},{"$f":"IF(ROW(3:3)<=COUNTIF('اسناد الأقسام'!$D$7:$D$78,التجميع!$B$152),INDEX('اسناد الأقسام'!H$7:H$78,SMALL(IF('اسناد الأقسام'!$D$7:$D$78=التجميع!$B$152,ROW('اسناد الأقسام'!$D$7:$D$78)-ROW('اسناد الأقسام'!$D$7)+1),ROW(3:3))),\"\")","v":""},{"$f":"IF(ROW(3:3)<=COUNTIF('اسناد الأقسام'!$D$7:$D$78,التجميع!$B$152),INDEX('اسناد الأقسام'!I$7:I$78,SMALL(IF('اسناد الأقسام'!$D$7:$D$78=التجميع!$B$152,ROW('اسناد الأقسام'!$D$7:$D$78)-ROW('اسناد الأقسام'!$D$7)+1),ROW(3:3))),\"\")","v":""},{"$f":"IF(ROW(3:3)<=COUNTIF('اسناد الأقسام'!$D$7:$D$78,التجميع!$B$152),INDEX('اسناد الأقسام'!J$7:J$78,SMALL(IF('اسناد الأقسام'!$D$7:$D$78=التجميع!$B$152,ROW('اسناد الأقسام'!$D$7:$D$78)-ROW('اسناد الأقسام'!$D$7)+1),ROW(3:3))),\"\")","v":""},{"$f":"IF(ROW(3:3)<=COUNTIF('اسناد الأقسام'!$D$7:$D$78,التجميع!$B$152),INDEX('اسناد الأقسام'!K$7:K$78,SMALL(IF('اسناد الأقسام'!$D$7:$D$78=التجميع!$B$152,ROW('اسناد الأقسام'!$D$7:$D$78)-ROW('اسناد الأقسام'!$D$7)+1),ROW(3:3))),\"\")","v":""},{"$f":"IF(ROW(3:3)<=COUNTIF('اسناد الأقسام'!$D$7:$D$78,التجميع!$B$152),INDEX('اسناد الأقسام'!L$7:L$78,SMALL(IF('اسناد الأقسام'!$D$7:$D$78=التجميع!$B$152,ROW('اسناد الأقسام'!$D$7:$D$78)-ROW('اسناد الأقسام'!$D$7)+1),ROW(3:3))),\"\")","v":""},{"$f":"IF(ROW(3:3)<=COUNTIF('اسناد الأقسام'!$D$7:$D$78,التجميع!$B$152),INDEX('اسناد الأقسام'!M$7:M$78,SMALL(IF('اسناد الأقسام'!$D$7:$D$78=التجميع!$B$152,ROW('اسناد الأقسام'!$D$7:$D$78)-ROW('اسناد الأقسام'!$D$7)+1),ROW(3:3))),\"\")","v":""},{"$f":"IF(ROW(3:3)<=COUNTIF('اسناد الأقسام'!$D$7:$D$78,التجميع!$B$152),INDEX('اسناد الأقسام'!N$7:N$78,SMALL(IF('اسناد الأقسام'!$D$7:$D$78=التجميع!$B$152,ROW('اسناد الأقسام'!$D$7:$D$78)-ROW('اسناد الأقسام'!$D$7)+1),ROW(3:3))),\"\")","v":""},{"$f":"IF(ROW(3:3)<=COUNTIF('اسناد الأقسام'!$D$7:$D$78,التجميع!$B$152),INDEX('اسناد الأقسام'!O$7:O$78,SMALL(IF('اسناد الأقسام'!$D$7:$D$78=التجميع!$B$152,ROW('اسناد الأقسام'!$D$7:$D$78)-ROW('اسناد الأقسام'!$D$7)+1),ROW(3:3))),\"\")","v":""},{"$f":"IF(ROW(3:3)<=COUNTIF('اسناد الأقسام'!$D$7:$D$78,التجميع!$B$152),INDEX('اسناد الأقسام'!P$7:P$78,SMALL(IF('اسناد الأقسام'!$D$7:$D$78=التجميع!$B$152,ROW('اسناد الأقسام'!$D$7:$D$78)-ROW('اسناد الأقسام'!$D$7)+1),ROW(3:3))),\"\")","v":""},{"$f":"IF(ROW(3:3)<=COUNTIF('اسناد الأقسام'!$D$7:$D$78,التجميع!$B$152),INDEX('اسناد الأقسام'!Q$7:Q$78,SMALL(IF('اسناد الأقسام'!$D$7:$D$78=التجميع!$B$152,ROW('اسناد الأقسام'!$D$7:$D$78)-ROW('اسناد الأقسام'!$D$7)+1),ROW(3:3))),\"\")","v":""},{"$f":"IF(ROW(3:3)<=COUNTIF('اسناد الأقسام'!$D$7:$D$78,التجميع!$B$152),INDEX('اسناد الأقسام'!R$7:R$78,SMALL(IF('اسناد الأقسام'!$D$7:$D$78=التجميع!$B$152,ROW('اسناد الأقسام'!$D$7:$D$78)-ROW('اسناد الأقسام'!$D$7)+1),ROW(3:3))),\"\")","v":""},{"$f":"IF(ROW(3:3)<=COUNTIF('اسناد الأقسام'!$D$7:$D$78,التجميع!$B$152),INDEX('اسناد الأقسام'!S$7:S$78,SMALL(IF('اسناد الأقسام'!$D$7:$D$78=التجميع!$B$152,ROW('اسناد الأقسام'!$D$7:$D$78)-ROW('اسناد الأقسام'!$D$7)+1),ROW(3:3))),\"\")","v":""},{"$f":"IF(ROW(3:3)<=COUNTIF('اسناد الأقسام'!$D$7:$D$78,التجميع!$B$152),INDEX('اسناد الأقسام'!T$7:T$78,SMALL(IF('اسناد الأقسام'!$D$7:$D$78=التجميع!$B$152,ROW('اسناد الأقسام'!$D$7:$D$78)-ROW('اسناد الأقسام'!$D$7)+1),ROW(3:3))),\"\")","v":""},{"$f":"IF(ROW(3:3)<=COUNTIF('اسناد الأقسام'!$D$7:$D$78,التجميع!$B$152),INDEX('اسناد الأقسام'!U$7:U$78,SMALL(IF('اسناد الأقسام'!$D$7:$D$78=التجميع!$B$152,ROW('اسناد الأقسام'!$D$7:$D$78)-ROW('اسناد الأقسام'!$D$7)+1),ROW(3:3))),\"\")","v":""},{"$f":"IF(ROW(3:3)<=COUNTIF('اسناد الأقسام'!$D$7:$D$78,التجميع!$B$152),INDEX('اسناد الأقسام'!V$7:V$78,SMALL(IF('اسناد الأقسام'!$D$7:$D$78=التجميع!$B$152,ROW('اسناد الأقسام'!$D$7:$D$78)-ROW('اسناد الأقسام'!$D$7)+1),ROW(3:3))),\"\")","v":""},{"$f":"IF(ROW(3:3)<=COUNTIF('اسناد الأقسام'!$D$7:$D$78,التجميع!$B$152),INDEX('اسناد الأقسام'!W$7:W$78,SMALL(IF('اسناد الأقسام'!$D$7:$D$78=التجميع!$B$152,ROW('اسناد الأقسام'!$D$7:$D$78)-ROW('اسناد الأقسام'!$D$7)+1),ROW(3:3))),\"\")","v":""},{"$f":"IF(ROW(3:3)<=COUNTIF('اسناد الأقسام'!$D$7:$D$78,التجميع!$B$152),INDEX('اسناد الأقسام'!X$7:X$78,SMALL(IF('اسناد الأقسام'!$D$7:$D$78=التجميع!$B$152,ROW('اسناد الأقسام'!$D$7:$D$78)-ROW('اسناد الأقسام'!$D$7)+1),ROW(3:3))),\"\")","v":""},{"$f":"IF(ROW(3:3)<=COUNTIF('اسناد الأقسام'!$D$7:$D$78,التجميع!$B$152),INDEX('اسناد الأقسام'!Y$7:Y$78,SMALL(IF('اسناد الأقسام'!$D$7:$D$78=التجميع!$B$152,ROW('اسناد الأقسام'!$D$7:$D$78)-ROW('اسناد الأقسام'!$D$7)+1),ROW(3:3))),\"\")","v":""},{"$f":"IF(ROW(3:3)<=COUNTIF('اسناد الأقسام'!$D$7:$D$78,التجميع!$B$152),INDEX('اسناد الأقسام'!Z$7:Z$78,SMALL(IF('اسناد الأقسام'!$D$7:$D$78=التجميع!$B$152,ROW('اسناد الأقسام'!$D$7:$D$78)-ROW('اسناد الأقسام'!$D$7)+1),ROW(3:3))),\"\")","v":""},{"$f":"IF(ROW(3:3)<=COUNTIF('اسناد الأقسام'!$D$7:$D$78,التجميع!$B$152),INDEX('اسناد الأقسام'!AA$7:AA$78,SMALL(IF('اسناد الأقسام'!$D$7:$D$78=التجميع!$B$152,ROW('اسناد الأقسام'!$D$7:$D$78)-ROW('اسناد الأقسام'!$D$7)+1),ROW(3:3))),\"\")","v":""},{"$f":"IF(ROW(3:3)<=COUNTIF('اسناد الأقسام'!$D$7:$D$78,التجميع!$B$152),INDEX('اسناد الأقسام'!AB$7:AB$78,SMALL(IF('اسناد الأقسام'!$D$7:$D$78=التجميع!$B$152,ROW('اسناد الأقسام'!$D$7:$D$78)-ROW('اسناد الأقسام'!$D$7)+1),ROW(3:3))),\"\")","v":""},{"$f":"IF(ROW(3:3)<=COUNTIF('اسناد الأقسام'!$D$7:$D$78,التجميع!$B$152),INDEX('اسناد الأقسام'!AC$7:AC$78,SMALL(IF('اسناد الأقسام'!$D$7:$D$78=التجميع!$B$152,ROW('اسناد الأقسام'!$D$7:$D$78)-ROW('اسناد الأقسام'!$D$7)+1),ROW(3:3))),\"\")","v":""}]
[4,{"$f":"IF(ROW(4:4)<=COUNTIF('اسناد الأقسام'!$D$7:$D$78,التجميع!$B$152),INDEX('اسناد الأقسام'!C$7:C$78,SMALL(IF('اسناد الأقسام'!$D$7:$D$78=التجميع!$B$152,ROW('اسناد الأقسام'!$D$7:$D$78)-ROW('اسناد الأقسام'!$D$7)+1),ROW(4:4))),\"\")","v":""},{"$f":"IF(ROW(4:4)<=COUNTIF('اسناد الأقسام'!$D$7:$D$78,التجميع!$B$152),INDEX('اسناد الأقسام'!D$7:D$78,SMALL(IF('اسناد الأقسام'!$D$7:$D$78=التجميع!$B$152,ROW('اسناد الأقسام'!$D$7:$D$78)-ROW('اسناد الأقسام'!$D$7)+1),ROW(4:4))),\"\")","v":""},{"$f":"IF(ROW(4:4)<=COUNTIF('اسناد الأقسام'!$D$7:$D$78,التجميع!$B$152),INDEX('اسناد الأقسام'!E$7:E$78,SMALL(IF('اسناد الأقسام'!$D$7:$D$78=التجميع!$B$152,ROW('اسناد الأقسام'!$D$7:$D$78)-ROW('اسناد الأقسام'!$D$7)+1),ROW(4:4))),\"\")","v":""},{"$f":"IF(ROW(4:4)<=COUNTIF('اسناد الأقسام'!$D$7:$D$78,التجميع!$B$152),INDEX('اسناد الأقسام'!F$7:F$78,SMALL(IF('اسناد الأقسام'!$D$7:$D$78=التجميع!$B$152,ROW('اسناد الأقسام'!$D$7:$D$78)-ROW('اسناد الأقسام'!$D$7)+1),ROW(4:4))),\"\")","v":""},{"$f":"IF(ROW(4:4)<=COUNTIF('اسناد الأقسام'!$D$7:$D$78,التجميع!$B$152),INDEX('اسناد الأقسام'!G$7:G$78,SMALL(IF('اسناد الأقسام'!$D$7:$D$78=التجميع!$B$152,ROW('اسناد الأقسام'!$D$7:$D$78)-ROW('اسناد الأقسام'!$D$7)+1),ROW(4:4))),\"\")","v":""},{"$f":"IF(ROW(4:4)<=COUNTIF('اسناد الأقسام'!$D$7:$D$78,التجميع!$B$152),INDEX('اسناد الأقسام'!H$7:H$78,SMALL(IF('اسناد الأقسام'!$D$7:$D$78=التجميع!$B$152,ROW('اسناد الأقسام'!$D$7:$D$78)-ROW('اسناد الأقسام'!$D$7)+1),ROW(4:4))),\"\")","v":""},{"$f":"IF(ROW(4:4)<=COUNTIF('اسناد الأقسام'!$D$7:$D$78,التجميع!$B$152),INDEX('اسناد الأقسام'!I$7:I$78,SMALL(IF('اسناد الأقسام'!$D$7:$D$78=التجميع!$B$152,ROW('اسناد الأقسام'!$D$7:$D$78)-ROW('اسناد الأقسام'!$D$7)+1),ROW(4:4))),\"\")","v":""},{"$f":"IF(ROW(4:4)<=COUNTIF('اسناد الأقسام'!$D$7:$D$78,التجميع!$B$152),INDEX('اسناد الأقسام'!J$7:J$78,SMALL(IF('اسناد الأقسام'!$D$7:$D$78=التجميع!$B$152,ROW('اسناد الأقسام'!$D$7:$D$78)-ROW('اسناد الأقسام'!$D$7)+1),ROW(4:4))),\"\")","v":""},{"$f":"IF(ROW(4:4)<=COUNTIF('اسناد الأقسام'!$D$7:$D$78,التجميع!$B$152),INDEX('اسناد الأقسام'!K$7:K$78,SMALL(IF('اسناد الأقسام'!$D$7:$D$78=التجميع!$B$152,ROW('اسناد الأقسام'!$D$7:$D$78)-ROW('اسناد الأقسام'!$D$7)+1),ROW(4:4))),\"\")","v":""},{"$f":"IF(ROW(4:4)<=COUNTIF('اسناد الأقسام'!$D$7:$D$78,التجميع!$B$152),INDEX('اسناد الأقسام'!L$7:L$78,SMALL(IF('اسناد الأقسام'!$D$7:$D$78=التجميع!$B$152,ROW('اسناد الأقسام'!$D$7:$D$78)-ROW('اسناد الأقسام'!$D$7)+1),ROW(4:4))),\"\")","v":""},{"$f":"IF(ROW(4:4)<=COUNTIF('اسناد الأقسام'!$D$7:$D$78,التجميع!$B$152),INDEX('اسناد الأقسام'!M$7:M$78,SMALL(IF('اسناد الأقسام'!$D$7:$D$78=التجميع!$B$152,ROW('اسناد الأقسام'!$D$7:$D$78)-ROW('اسناد الأقسام'!$D$7)+1),ROW(4:4))),\"\")","v":""},{"$f":"IF(ROW(4:4)<=COUNTIF('اسناد الأقسام'!$D$7:$D$78,التجميع!$B$152),INDEX('اسناد الأقسام'!N$7:N$78,SMALL(IF('اسناد الأقسام'!$D$7:$D$78=التجميع!$B$152,ROW('اسناد الأقسام'!$D$7:$D$78)-ROW('اسناد الأقسام'!$D$7)+1),ROW(4:4))),\"\")","v":""},{"$f":"IF(ROW(4:4)<=COUNTIF('اسناد الأقسام'!$D$7:$D$78,التجميع!$B$152),INDEX('اسناد الأقسام'!O$7:O$78,SMALL(IF('اسناد الأقسام'!$D$7:$D$78=التجميع!$B$152,ROW('اسناد الأقسام'!$D$7:$D$78)-ROW('اسناد الأقسام'!$D$7)+1),ROW(4:4))),\"\")","v":""},{"$f":"IF(ROW(4:4)<=COUNTIF('اسناد الأقسام'!$D$7:$D$78,التجميع!$B$152),INDEX('اسناد الأقسام'!P$7:P$78,SMALL(IF('اسناد الأقسام'!$D$7:$D$78=التجميع!$B$152,ROW('اسناد الأقسام'!$D$7:$D$78)-ROW('اسناد الأقسام'!$D$7)+1),ROW(4:4))),\"\")","v":""},{"$f":"IF(ROW(4:4)<=COUNTIF('اسناد الأقسام'!$D$7:$D$78,التجميع!$B$152),INDEX('اسناد الأقسام'!Q$7:Q$78,SMALL(IF('اسناد الأقسام'!$D$7:$D$78=التجميع!$B$152,ROW('اسناد الأقسام'!$D$7:$D$78)-ROW('اسناد الأقسام'!$D$7)+1),ROW(4:4))),\"\")","v":""},{"$f":"IF(ROW(4:4)<=COUNTIF('اسناد الأقسام'!$D$7:$D$78,التجميع!$B$152),INDEX('اسناد الأقسام'!R$7:R$78,SMALL(IF('اسناد الأقسام'!$D$7:$D$78=التجميع!$B$152,ROW('اسناد الأقسام'!$D$7:$D$78)-ROW('اسناد الأقسام'!$D$7)+1),ROW(4:4))),\"\")","v":""},{"$f":"IF(ROW(4:4)<=COUNTIF('اسناد الأقسام'!$D$7:$D$78,التجميع!$B$152),INDEX('اسناد الأقسام'!S$7:S$78,SMALL(IF('اسناد الأقسام'!$D$7:$D$78=التجميع!$B$152,ROW('اسناد الأقسام'!$D$7:$D$78)-ROW('اسناد الأقسام'!$D$7)+1),ROW(4:4))),\"\")","v":""},{"$f":"IF(ROW(4:4)<=COUNTIF('اسناد الأقسام'!$D$7:$D$78,التجميع!$B$152),INDEX('اسناد الأقسام'!T$7:T$78,SMALL(IF('اسناد الأقسام'!$D$7:$D$78=التجميع!$B$152,ROW('اسناد الأقسام'!$D$7:$D$78)-ROW('اسناد الأقسام'!$D$7)+1),ROW(4:4))),\"\")","v":""},{"$f":"IF(ROW(4:4)<=COUNTIF('اسناد الأقسام'!$D$7:$D$78,التجميع!$B$152),INDEX('اسناد الأقسام'!U$7:U$78,SMALL(IF('اسناد الأقسام'!$D$7:$D$78=التجميع!$B$152,ROW('اسناد الأقسام'!$D$7:$D$78)-ROW('اسناد الأقسام'!$D$7)+1),ROW(4:4))),\"\")","v":""},{"$f":"IF(ROW(4:4)<=COUNTIF('اسناد الأقسام'!$D$7:$D$78,التجميع!$B$152),INDEX('اسناد الأقسام'!V$7:V$78,SMALL(IF('اسناد الأقسام'!$D$7:$D$78=التجميع!$B$152,ROW('اسناد الأقسام'!$D$7:$D$78)-ROW('اسناد الأقسام'!$D$7)+1),ROW(4:4))),\"\")","v":""},{"$f":"IF(ROW(4:4)<=COUNTIF('اسناد الأقسام'!$D$7:$D$78,التجميع!$B$152),INDEX('اسناد الأقسام'!W$7:W$78,SMALL(IF('اسناد الأقسام'!$D$7:$D$78=التجميع!$B$152,ROW('اسناد الأقسام'!$D$7:$D$78)-ROW('اسناد الأقسام'!$D$7)+1),ROW(4:4))),\"\")","v":""},{"$f":"IF(ROW(4:4)<=COUNTIF('اسناد الأقسام'!$D$7:$D$78,التجميع!$B$152),INDEX('اسناد الأقسام'!X$7:X$78,SMALL(IF('اسناد الأقسام'!$D$7:$D$78=التجميع!$B$152,ROW('اسناد الأقسام'!$D$7:$D$78)-ROW('اسناد الأقسام'!$D$7)+1),ROW(4:4))),\"\")","v":""},{"$f":"IF(ROW(4:4)<=COUNTIF('اسناد الأقسام'!$D$7:$D$78,التجميع!$B$152),INDEX('اسناد الأقسام'!Y$7:Y$78,SMALL(IF('اسناد الأقسام'!$D$7:$D$78=التجميع!$B$152,ROW('اسناد الأقسام'!$D$7:$D$78)-ROW('اسناد الأقسام'!$D$7)+1),ROW(4:4))),\"\")","v":""},{"$f":"IF(ROW(4:4)<=COUNTIF('اسناد الأقسام'!$D$7:$D$78,التجميع!$B$152),INDEX('اسناد الأقسام'!Z$7:Z$78,SMALL(IF('اسناد الأقسام'!$D$7:$D$78=التجميع!$B$152,ROW('اسناد الأقسام'!$D$7:$D$78)-ROW('اسناد الأقسام'!$D$7)+1),ROW(4:4))),\"\")","v":""},{"$f":"IF(ROW(4:4)<=COUNTIF('اسناد الأقسام'!$D$7:$D$78,التجميع!$B$152),INDEX('اسناد الأقسام'!AA$7:AA$78,SMALL(IF('اسناد الأقسام'!$D$7:$D$78=التجميع!$B$152,ROW('اسناد الأقسام'!$D$7:$D$78)-ROW('اسناد الأقسام'!$D$7)+1),ROW(4:4))),\"\")","v":""},{"$f":"IF(ROW(4:4)<=COUNTIF('اسناد الأقسام'!$D$7:$D$78,التجميع!$B$152),INDEX('اسناد الأقسام'!AB$7:AB$78,SMALL(IF('اسناد الأقسام'!$D$7:$D$78=التجميع!$B$152,ROW('اسناد الأقسام'!$D$7:$D$78)-ROW('اسناد الأقسام'!$D$7)+1),ROW(4:4))),\"\")","v":""},{"$f":"IF(ROW(4:4)<=COUNTIF('اسناد الأقسام'!$D$7:$D$78,التجميع!$B$152),INDEX('اسناد الأقسام'!AC$7:AC$78,SMALL(IF('اسناد الأقسام'!$D$7:$D$78=التجميع!$B$152,ROW('اسناد الأقسام'!$D$7:$D$78)-ROW('اسناد الأقسام'!$D$7)+1),ROW(4:4))),\"\")","v":""}]
[5,{"$f":"IF(ROW(5:5)<=COUNTIF('اسناد الأقسام'!$D$7:$D$78,التجميع!$B$152),INDEX('اسناد الأقسام'!C$7:C$78,SMALL(IF('اسناد الأقسام'!$D$7:$D$78=التجميع!$B$152,ROW('اسناد الأقسام'!$D$7:$D$78)-ROW('اسناد الأقسام'!$D$7)+1),ROW(5:5))),\"\")","v":""},{"$f":"IF(ROW(5:5)<=COUNTIF('اسناد الأقسام'!$D$7:$D$78,التجميع!$B$152),INDEX('اسناد الأقسام'!D$7:D$78,SMALL(IF('اسناد الأقسام'!$D$7:$D$78=التجميع!$B$152,ROW('اسناد الأقسام'!$D$7:$D$78)-ROW('اسناد الأقسام'!$D$7)+1),ROW(5:5))),\"\")","v":""},{"$f":"IF(ROW(5:5)<=COUNTIF('اسناد الأقسام'!$D$7:$D$78,التجميع!$B$152),INDEX('اسناد الأقسام'!E$7:E$78,SMALL(IF('اسناد الأقسام'!$D$7:$D$78=التجميع!$B$152,ROW('اسناد الأقسام'!$D$7:$D$78)-ROW('اسناد الأقسام'!$D$7)+1),ROW(5:5))),\"\")","v":""},{"$f":"IF(ROW(5:5)<=COUNTIF('اسناد الأقسام'!$D$7:$D$78,التجميع!$B$152),INDEX('اسناد الأقسام'!F$7:F$78,SMALL(IF('اسناد الأقسام'!$D$7:$D$78=التجميع!$B$152,ROW('اسناد الأقسام'!$D$7:$D$78)-ROW('اسناد الأقسام'!$D$7)+1),ROW(5:5))),\"\")","v":""},{"$f":"IF(ROW(5:5)<=COUNTIF('اسناد الأقسام'!$D$7:$D$78,التجميع!$B$152),INDEX('اسناد الأقسام'!G$7:G$78,SMALL(IF('اسناد الأقسام'!$D$7:$D$78=التجميع!$B$152,ROW('اسناد الأقسام'!$D$7:$D$78)-ROW('اسناد الأقسام'!$D$7)+1),ROW(5:5))),\"\")","v":""},{"$f":"IF(ROW(5:5)<=COUNTIF('اسناد الأقسام'!$D$7:$D$78,التجميع!$B$152),INDEX('اسناد الأقسام'!H$7:H$78,SMALL(IF('اسناد الأقسام'!$D$7:$D$78=التجميع!$B$152,ROW('اسناد الأقسام'!$D$7:$D$78)-ROW('اسناد الأقسام'!$D$7)+1),ROW(5:5))),\"\")","v":""},{"$f":"IF(ROW(5:5)<=COUNTIF('اسناد الأقسام'!$D$7:$D$78,التجميع!$B$152),INDEX('اسناد الأقسام'!I$7:I$78,SMALL(IF('اسناد الأقسام'!$D$7:$D$78=التجميع!$B$152,ROW('اسناد الأقسام'!$D$7:$D$78)-ROW('اسناد الأقسام'!$D$7)+1),ROW(5:5))),\"\")","v":""},{"$f":"IF(ROW(5:5)<=COUNTIF('اسناد الأقسام'!$D$7:$D$78,التجميع!$B$152),INDEX('اسناد الأقسام'!J$7:J$78,SMALL(IF('اسناد الأقسام'!$D$7:$D$78=التجميع!$B$152,ROW('اسناد الأقسام'!$D$7:$D$78)-ROW('اسناد الأقسام'!$D$7)+1),ROW(5:5))),\"\")","v":""},{"$f":"IF(ROW(5:5)<=COUNTIF('اسناد الأقسام'!$D$7:$D$78,التجميع!$B$152),INDEX('اسناد الأقسام'!K$7:K$78,SMALL(IF('اسناد الأقسام'!$D$7:$D$78=التجميع!$B$152,ROW('اسناد الأقسام'!$D$7:$D$78)-ROW('اسناد الأقسام'!$D$7)+1),ROW(5:5))),\"\")","v":""},{"$f":"IF(ROW(5:5)<=COUNTIF('اسناد الأقسام'!$D$7:$D$78,التجميع!$B$152),INDEX('اسناد الأقسام'!L$7:L$78,SMALL(IF('اسناد الأقسام'!$D$7:$D$78=التجميع!$B$152,ROW('اسناد الأقسام'!$D$7:$D$78)-ROW('اسناد الأقسام'!$D$7)+1),ROW(5:5))),\"\")","v":""},{"$f":"IF(ROW(5:5)<=COUNTIF('اسناد الأقسام'!$D$7:$D$78,التجميع!$B$152),INDEX('اسناد الأقسام'!M$7:M$78,SMALL(IF('اسناد الأقسام'!$D$7:$D$78=التجميع!$B$152,ROW('اسناد الأقسام'!$D$7:$D$78)-ROW('اسناد الأقسام'!$D$7)+1),ROW(5:5))),\"\")","v":""},{"$f":"IF(ROW(5:5)<=COUNTIF('اسناد الأقسام'!$D$7:$D$78,التجميع!$B$152),INDEX('اسناد الأقسام'!N$7:N$78,SMALL(IF('اسناد الأقسام'!$D$7:$D$78=التجميع!$B$152,ROW('اسناد الأقسام'!$D$7:$D$78)-ROW('اسناد الأقسام'!$D$7)+1),ROW(5:5))),\"\")","v":""},{"$f":"IF(ROW(5:5)<=COUNTIF('اسناد الأقسام'!$D$7:$D$78,التجميع!$B$152),INDEX('اسناد الأقسام'!O$7:O$78,SMALL(IF('اسناد الأقسام'!$D$7:$D$78=التجميع!$B$152,ROW('اسناد الأقسام'!$D$7:$D$78)-ROW('اسناد الأقسام'!$D$7)+1),ROW(5:5))),\"\")","v":""},{"$f":"IF(ROW(5:5)<=COUNTIF('اسناد الأقسام'!$D$7:$D$78,التجميع!$B$152),INDEX('اسناد الأقسام'!P$7:P$78,SMALL(IF('اسناد الأقسام'!$D$7:$D$78=التجميع!$B$152,ROW('اسناد الأقسام'!$D$7:$D$78)-ROW('اسناد الأقسام'!$D$7)+1),ROW(5:5))),\"\")","v":""},{"$f":"IF(ROW(5:5)<=COUNTIF('اسناد الأقسام'!$D$7:$D$78,التجميع!$B$152),INDEX('اسناد الأقسام'!Q$7:Q$78,SMALL(IF('اسناد الأقسام'!$D$7:$D$78=التجميع!$B$152,ROW('اسناد الأقسام'!$D$7:$D$78)-ROW('اسناد الأقسام'!$D$7)+1),ROW(5:5))),\"\")","v":""},{"$f":"IF(ROW(5:5)<=COUNTIF('اسناد الأقسام'!$D$7:$D$78,التجميع!$B$152),INDEX('اسناد الأقسام'!R$7:R$78,SMALL(IF('اسناد الأقسام'!$D$7:$D$78=التجميع!$B$152,ROW('اسناد الأقسام'!$D$7:$D$78)-ROW('اسناد الأقسام'!$D$7)+1),ROW(5:5))),\"\")","v":""},{"$f":"IF(ROW(5:5)<=COUNTIF('اسناد الأقسام'!$D$7:$D$78,التجميع!$B$152),INDEX('اسناد الأقسام'!S$7:S$78,SMALL(IF('اسناد الأقسام'!$D$7:$D$78=التجميع!$B$152,ROW('اسناد الأقسام'!$D$7:$D$78)-ROW('اسناد الأقسام'!$D$7)+1),ROW(5:5))),\"\")","v":""},{"$f":"IF(ROW(5:5)<=COUNTIF('اسناد الأقسام'!$D$7:$D$78,التجميع!$B$152),INDEX('اسناد الأقسام'!T$7:T$78,SMALL(IF('اسناد الأقسام'!$D$7:$D$78=التجميع!$B$152,ROW('اسناد الأقسام'!$D$7:$D$78)-ROW('اسناد الأقسام'!$D$7)+1),ROW(5:5))),\"\")","v":""},{"$f":"IF(ROW(5:5)<=COUNTIF('اسناد الأقسام'!$D$7:$D$78,التجميع!$B$152),INDEX('اسناد الأقسام'!U$7:U$78,SMALL(IF('اسناد الأقسام'!$D$7:$D$78=التجميع!$B$152,ROW('اسناد الأقسام'!$D$7:$D$78)-ROW('اسناد الأقسام'!$D$7)+1),ROW(5:5))),\"\")","v":""},{"$f":"IF(ROW(5:5)<=COUNTIF('اسناد الأقسام'!$D$7:$D$78,التجميع!$B$152),INDEX('اسناد الأقسام'!V$7:V$78,SMALL(IF('اسناد الأقسام'!$D$7:$D$78=التجميع!$B$152,ROW('اسناد الأقسام'!$D$7:$D$78)-ROW('اسناد الأقسام'!$D$7)+1),ROW(5:5))),\"\")","v":""},{"$f":"IF(ROW(5:5)<=COUNTIF('اسناد الأقسام'!$D$7:$D$78,التجميع!$B$152),INDEX('اسناد الأقسام'!W$7:W$78,SMALL(IF('اسناد الأقسام'!$D$7:$D$78=التجميع!$B$152,ROW('اسناد الأقسام'!$D$7:$D$78)-ROW('اسناد الأقسام'!$D$7)+1),ROW(5:5))),\"\")","v":""},{"$f":"IF(ROW(5:5)<=COUNTIF('اسناد الأقسام'!$D$7:$D$78,التجميع!$B$152),INDEX('اسناد الأقسام'!X$7:X$78,SMALL(IF('اسناد الأقسام'!$D$7:$D$78=التجميع!$B$152,ROW('اسناد الأقسام'!$D$7:$D$78)-ROW('اسناد الأقسام'!$D$7)+1),ROW(5:5))),\"\")","v":""},{"$f":"IF(ROW(5:5)<=COUNTIF('اسناد الأقسام'!$D$7:$D$78,التجميع!$B$152),INDEX('اسناد الأقسام'!Y$7:Y$78,SMALL(IF('اسناد الأقسام'!$D$7:$D$78=التجميع!$B$152,ROW('اسناد الأقسام'!$D$7:$D$78)-ROW('اسناد الأقسام'!$D$7)+1),ROW(5:5))),\"\")","v":""},{"$f":"IF(ROW(5:5)<=COUNTIF('اسناد الأقسام'!$D$7:$D$78,التجميع!$B$152),INDEX('اسناد الأقسام'!Z$7:Z$78,SMALL(IF('اسناد الأقسام'!$D$7:$D$78=التجميع!$B$152,ROW('اسناد الأقسام'!$D$7:$D$78)-ROW('اسناد الأقسام'!$D$7)+1),ROW(5:5))),\"\")","v":""},{"$f":"IF(ROW(5:5)<=COUNTIF('اسناد الأقسام'!$D$7:$D$78,التجميع!$B$152),INDEX('اسناد الأقسام'!AA$7:AA$78,SMALL(IF('اسناد الأقسام'!$D$7:$D$78=التجميع!$B$152,ROW('اسناد الأقسام'!$D$7:$D$78)-ROW('اسناد الأقسام'!$D$7)+1),ROW(5:5))),\"\")","v":""},{"$f":"IF(ROW(5:5)<=COUNTIF('اسناد الأقسام'!$D$7:$D$78,التجميع!$B$152),INDEX('اسناد الأقسام'!AB$7:AB$78,SMALL(IF('اسناد الأقسام'!$D$7:$D$78=التجميع!$B$152,ROW('اسناد الأقسام'!$D$7:$D$78)-ROW('اسناد الأقسام'!$D$7)+1),ROW(5:5))),\"\")","v":""},{"$f":"IF(ROW(5:5)<=COUNTIF('اسناد الأقسام'!$D$7:$D$78,التجميع!$B$152),INDEX('اسناد الأقسام'!AC$7:AC$78,SMALL(IF('اسناد الأقسام'!$D$7:$D$78=التجميع!$B$152,ROW('اسناد الأقسام'!$D$7:$D$78)-ROW('اسناد الأقسام'!$D$7)+1),ROW(5:5))),\"\")","v":""}]
[6,{"$f":"IF(ROW(6:6)<=COUNTIF('اسناد الأقسام'!$D$7:$D$78,التجميع!$B$152),INDEX('اسناد الأقسام'!C$7:C$78,SMALL(IF('اسناد الأقسام'!$D$7:$D$78=التجميع!$B$152,ROW('اسناد الأقسام'!$D$7:$D$78)-ROW('اسناد الأقسام'!$D$7)+1),ROW(6:6))),\"\")","v":""},{"$f":"IF(ROW(6:6)<=COUNTIF('اسناد الأقسام'!$D$7:$D$78,التجميع!$B$152),INDEX('اسناد الأقسام'!D$7:D$78,SMALL(IF('اسناد الأقسام'!$D$7:$D$78=التجميع!$B$152,ROW('اسناد الأقسام'!$D$7:$D$78)-ROW('اسناد الأقسام'!$D$7)+1),ROW(6:6))),\"\")","v":""},{"$f":"IF(ROW(6:6)<=COUNTIF('اسناد الأقسام'!$D$7:$D$78,التجميع!$B$152),INDEX('اسناد الأقسام'!E$7:E$78,SMALL(IF('اسناد الأقسام'!$D$7:$D$78=التجميع!$B$152,ROW('اسناد الأقسام'!$D$7:$D$78)-ROW('اسناد الأقسام'!$D$7)+1),ROW(6:6))),\"\")","v":""},{"$f":"IF(ROW(6:6)<=COUNTIF('اسناد الأقسام'!$D$7:$D$78,التجميع!$B$152),INDEX('اسناد الأقسام'!F$7:F$78,SMALL(IF('اسناد الأقسام'!$D$7:$D$78=التجميع!$B$152,ROW('اسناد الأقسام'!$D$7:$D$78)-ROW('اسناد الأقسام'!$D$7)+1),ROW(6:6))),\"\")","v":""},{"$f":"IF(ROW(6:6)<=COUNTIF('اسناد الأقسام'!$D$7:$D$78,التجميع!$B$152),INDEX('اسناد الأقسام'!G$7:G$78,SMALL(IF('اسناد الأقسام'!$D$7:$D$78=التجميع!$B$152,ROW('اسناد الأقسام'!$D$7:$D$78)-ROW('اسناد الأقسام'!$D$7)+1),ROW(6:6))),\"\")","v":""},{"$f":"IF(ROW(6:6)<=COUNTIF('اسناد الأقسام'!$D$7:$D$78,التجميع!$B$152),INDEX('اسناد الأقسام'!H$7:H$78,SMALL(IF('اسناد الأقسام'!$D$7:$D$78=التجميع!$B$152,ROW('اسناد الأقسام'!$D$7:$D$78)-ROW('اسناد الأقسام'!$D$7)+1),ROW(6:6))),\"\")","v":""},{"$f":"IF(ROW(6:6)<=COUNTIF('اسناد الأقسام'!$D$7:$D$78,التجميع!$B$152),INDEX('اسناد الأقسام'!I$7:I$78,SMALL(IF('اسناد الأقسام'!$D$7:$D$78=التجميع!$B$152,ROW('اسناد الأقسام'!$D$7:$D$78)-ROW('اسناد الأقسام'!$D$7)+1),ROW(6:6))),\"\")","v":""},{"$f":"IF(ROW(6:6)<=COUNTIF('اسناد الأقسام'!$D$7:$D$78,التجميع!$B$152),INDEX('اسناد الأقسام'!J$7:J$78,SMALL(IF('اسناد الأقسام'!$D$7:$D$78=التجميع!$B$152,ROW('اسناد الأقسام'!$D$7:$D$78)-ROW('اسناد الأقسام'!$D$7)+1),ROW(6:6))),\"\")","v":""},{"$f":"IF(ROW(6:6)<=COUNTIF('اسناد الأقسام'!$D$7:$D$78,التجميع!$B$152),INDEX('اسناد الأقسام'!K$7:K$78,SMALL(IF('اسناد الأقسام'!$D$7:$D$78=التجميع!$B$152,ROW('اسناد الأقسام'!$D$7:$D$78)-ROW('اسناد الأقسام'!$D$7)+1),ROW(6:6))),\"\")","v":""},{"$f":"IF(ROW(6:6)<=COUNTIF('اسناد الأقسام'!$D$7:$D$78,التجميع!$B$152),INDEX('اسناد الأقسام'!L$7:L$78,SMALL(IF('اسناد الأقسام'!$D$7:$D$78=التجميع!$B$152,ROW('اسناد الأقسام'!$D$7:$D$78)-ROW('اسناد الأقسام'!$D$7)+1),ROW(6:6))),\"\")","v":""},{"$f":"IF(ROW(6:6)<=COUNTIF('اسناد الأقسام'!$D$7:$D$78,التجميع!$B$152),INDEX('اسناد الأقسام'!M$7:M$78,SMALL(IF('اسناد الأقسام'!$D$7:$D$78=التجميع!$B$152,ROW('اسناد الأقسام'!$D$7:$D$78)-ROW('اسناد الأقسام'!$D$7)+1),ROW(6:6))),\"\")","v":""},{"$f":"IF(ROW(6:6)<=COUNTIF('اسناد الأقسام'!$D$7:$D$78,التجميع!$B$152),INDEX('اسناد الأقسام'!N$7:N$78,SMALL(IF('اسناد الأقسام'!$D$7:$D$78=التجميع!$B$152,ROW('اسناد الأقسام'!$D$7:$D$78)-ROW('اسناد الأقسام'!$D$7)+1),ROW(6:6))),\"\")","v":""},{"$f":"IF(ROW(6:6)<=COUNTIF('اسناد الأقسام'!$D$7:$D$78,التجميع!$B$152),INDEX('اسناد الأقسام'!O$7:O$78,SMALL(IF('اسناد الأقسام'!$D$7:$D$78=التجميع!$B$152,ROW('اسناد الأقسام'!$D$7:$D$78)-ROW('اسناد الأقسام'!$D$7)+1),ROW(6:6))),\"\")","v":""},{"$f":"IF(ROW(6:6)<=COUNTIF('اسناد الأقسام'!$D$7:$D$78,التجميع!$B$152),INDEX('اسناد الأقسام'!P$7:P$78,SMALL(IF('اسناد الأقسام'!$D$7:$D$78=التجميع!$B$152,ROW('اسناد الأقسام'!$D$7:$D$78)-ROW('اسناد الأقسام'!$D$7)+1),ROW(6:6))),\"\")","v":""},{"$f":"IF(ROW(6:6)<=COUNTIF('اسناد الأقسام'!$D$7:$D$78,التجميع!$B$152),INDEX('اسناد الأقسام'!Q$7:Q$78,SMALL(IF('اسناد الأقسام'!$D$7:$D$78=التجميع!$B$152,ROW('اسناد الأقسام'!$D$7:$D$78)-ROW('اسناد الأقسام'!$D$7)+1),ROW(6:6))),\"\")","v":""},{"$f":"IF(ROW(6:6)<=COUNTIF('اسناد الأقسام'!$D$7:$D$78,التجميع!$B$152),INDEX('اسناد الأقسام'!R$7:R$78,SMALL(IF('اسناد الأقسام'!$D$7:$D$78=التجميع!$B$152,ROW('اسناد الأقسام'!$D$7:$D$78)-ROW('اسناد الأقسام'!$D$7)+1),ROW(6:6))),\"\")","v":""},{"$f":"IF(ROW(6:6)<=COUNTIF('اسناد الأقسام'!$D$7:$D$78,التجميع!$B$152),INDEX('اسناد الأقسام'!S$7:S$78,SMALL(IF('اسناد الأقسام'!$D$7:$D$78=التجميع!$B$152,ROW('اسناد الأقسام'!$D$7:$D$78)-ROW('اسناد الأقسام'!$D$7)+1),ROW(6:6))),\"\")","v":""},{"$f":"IF(ROW(6:6)<=COUNTIF('اسناد الأقسام'!$D$7:$D$78,التجميع!$B$152),INDEX('اسناد الأقسام'!T$7:T$78,SMALL(IF('اسناد الأقسام'!$D$7:$D$78=التجميع!$B$152,ROW('اسناد الأقسام'!$D$7:$D$78)-ROW('اسناد الأقسام'!$D$7)+1),ROW(6:6))),\"\")","v":""},{"$f":"IF(ROW(6:6)<=COUNTIF('اسناد الأقسام'!$D$7:$D$78,التجميع!$B$152),INDEX('اسناد الأقسام'!U$7:U$78,SMALL(IF('اسناد الأقسام'!$D$7:$D$78=التجميع!$B$152,ROW('اسناد الأقسام'!$D$7:$D$78)-ROW('اسناد الأقسام'!$D$7)+1),ROW(6:6))),\"\")","v":""},{"$f":"IF(ROW(6:6)<=COUNTIF('اسناد الأقسام'!$D$7:$D$78,التجميع!$B$152),INDEX('اسناد الأقسام'!V$7:V$78,SMALL(IF('اسناد الأقسام'!$D$7:$D$78=التجميع!$B$152,ROW('اسناد الأقسام'!$D$7:$D$78)-ROW('اسناد الأقسام'!$D$7)+1),ROW(6:6))),\"\")","v":""},{"$f":"IF(ROW(6:6)<=COUNTIF('اسناد الأقسام'!$D$7:$D$78,التجميع!$B$152),INDEX('اسناد الأقسام'!W$7:W$78,SMALL(IF('اسناد الأقسام'!$D$7:$D$78=التجميع!$B$152,ROW('اسناد الأقسام'!$D$7:$D$78)-ROW('اسناد الأقسام'!$D$7)+1),ROW(6:6))),\"\")","v":""},{"$f":"IF(ROW(6:6)<=COUNTIF('اسناد الأقسام'!$D$7:$D$78,التجميع!$B$152),INDEX('اسناد الأقسام'!X$7:X$78,SMALL(IF('اسناد الأقسام'!$D$7:$D$78=التجميع!$B$152,ROW('اسناد الأقسام'!$D$7:$D$78)-ROW('اسناد الأقسام'!$D$7)+1),ROW(6:6))),\"\")","v":""},{"$f":"IF(ROW(6:6)<=COUNTIF('اسناد الأقسام'!$D$7:$D$78,التجميع!$B$152),INDEX('اسناد الأقسام'!Y$7:Y$78,SMALL(IF('اسناد الأقسام'!$D$7:$D$78=التجميع!$B$152,ROW('اسناد الأقسام'!$D$7:$D$78)-ROW('اسناد الأقسام'!$D$7)+1),ROW(6:6))),\"\")","v":""},{"$f":"IF(ROW(6:6)<=COUNTIF('اسناد الأقسام'!$D$7:$D$78,التجميع!$B$152),INDEX('اسناد الأقسام'!Z$7:Z$78,SMALL(IF('اسناد الأقسام'!$D$7:$D$78=التجميع!$B$152,ROW('اسناد الأقسام'!$D$7:$D$78)-ROW('اسناد الأقسام'!$D$7)+1),ROW(6:6))),\"\")","v":""},{"$f":"IF(ROW(6:6)<=COUNTIF('اسناد الأقسام'!$D$7:$D$78,التجميع!$B$152),INDEX('اسناد الأقسام'!AA$7:AA$78,SMALL(IF('اسناد الأقسام'!$D$7:$D$78=التجميع!$B$152,ROW('اسناد الأقسام'!$D$7:$D$78)-ROW('اسناد الأقسام'!$D$7)+1),ROW(6:6))),\"\")","v":""},{"$f":"IF(ROW(6:6)<=COUNTIF('اسناد الأقسام'!$D$7:$D$78,التجميع!$B$152),INDEX('اسناد الأقسام'!AB$7:AB$78,SMALL(IF('اسناد الأقسام'!$D$7:$D$78=التجميع!$B$152,ROW('اسناد الأقسام'!$D$7:$D$78)-ROW('اسناد الأقسام'!$D$7)+1),ROW(6:6))),\"\")","v":""},{"$f":"IF(ROW(6:6)<=COUNTIF('اسناد الأقسام'!$D$7:$D$78,التجميع!$B$152),INDEX('اسناد الأقسام'!AC$7:AC$78,SMALL(IF('اسناد الأقسام'!$D$7:$D$78=التجميع!$B$152,ROW('اسناد الأقسام'!$D$7:$D$78)-ROW('اسناد الأقسام'!$D$7)+1),ROW(6:6))),\"\")","v":""}]
[7,{"$f":"IF(ROW(7:7)<=COUNTIF('اسناد الأقسام'!$D$7:$D$78,التجميع!$B$152),INDEX('اسناد الأقسام'!C$7:C$78,SMALL(IF('اسناد الأقسام'!$D$7:$D$78=التجميع!$B$152,ROW('اسناد الأقسام'!$D$7:$D$78)-ROW('اسناد الأقسام'!$D$7)+1),ROW(7:7))),\"\")","v":""},{"$f":"IF(ROW(7:7)<=COUNTIF('اسناد الأقسام'!$D$7:$D$78,التجميع!$B$152),INDEX('اسناد الأقسام'!D$7:D$78,SMALL(IF('اسناد الأقسام'!$D$7:$D$78=التجميع!$B$152,ROW('اسناد الأقسام'!$D$7:$D$78)-ROW('اسناد الأقسام'!$D$7)+1),ROW(7:7))),\"\")","v":""},{"$f":"IF(ROW(7:7)<=COUNTIF('اسناد الأقسام'!$D$7:$D$78,التجميع!$B$152),INDEX('اسناد الأقسام'!E$7:E$78,SMALL(IF('اسناد الأقسام'!$D$7:$D$78=التجميع!$B$152,ROW('اسناد الأقسام'!$D$7:$D$78)-ROW('اسناد الأقسام'!$D$7)+1),ROW(7:7))),\"\")","v":""},{"$f":"IF(ROW(7:7)<=COUNTIF('اسناد الأقسام'!$D$7:$D$78,التجميع!$B$152),INDEX('اسناد الأقسام'!F$7:F$78,SMALL(IF('اسناد الأقسام'!$D$7:$D$78=التجميع!$B$152,ROW('اسناد الأقسام'!$D$7:$D$78)-ROW('اسناد الأقسام'!$D$7)+1),ROW(7:7))),\"\")","v":""},{"$f":"IF(ROW(7:7)<=COUNTIF('اسناد الأقسام'!$D$7:$D$78,التجميع!$B$152),INDEX('اسناد الأقسام'!G$7:G$78,SMALL(IF('اسناد الأقسام'!$D$7:$D$78=التجميع!$B$152,ROW('اسناد الأقسام'!$D$7:$D$78)-ROW('اسناد الأقسام'!$D$7)+1),ROW(7:7))),\"\")","v":""},{"$f":"IF(ROW(7:7)<=COUNTIF('اسناد الأقسام'!$D$7:$D$78,التجميع!$B$152),INDEX('اسناد الأقسام'!H$7:H$78,SMALL(IF('اسناد الأقسام'!$D$7:$D$78=التجميع!$B$152,ROW('اسناد الأقسام'!$D$7:$D$78)-ROW('اسناد الأقسام'!$D$7)+1),ROW(7:7))),\"\")","v":""},{"$f":"IF(ROW(7:7)<=COUNTIF('اسناد الأقسام'!$D$7:$D$78,التجميع!$B$152),INDEX('اسناد الأقسام'!I$7:I$78,SMALL(IF('اسناد الأقسام'!$D$7:$D$78=التجميع!$B$152,ROW('اسناد الأقسام'!$D$7:$D$78)-ROW('اسناد الأقسام'!$D$7)+1),ROW(7:7))),\"\")","v":""},{"$f":"IF(ROW(7:7)<=COUNTIF('اسناد الأقسام'!$D$7:$D$78,التجميع!$B$152),INDEX('اسناد الأقسام'!J$7:J$78,SMALL(IF('اسناد الأقسام'!$D$7:$D$78=التجميع!$B$152,ROW('اسناد الأقسام'!$D$7:$D$78)-ROW('اسناد الأقسام'!$D$7)+1),ROW(7:7))),\"\")","v":""},{"$f":"IF(ROW(7:7)<=COUNTIF('اسناد الأقسام'!$D$7:$D$78,التجميع!$B$152),INDEX('اسناد الأقسام'!K$7:K$78,SMALL(IF('اسناد الأقسام'!$D$7:$D$78=التجميع!$B$152,ROW('اسناد الأقسام'!$D$7:$D$78)-ROW('اسناد الأقسام'!$D$7)+1),ROW(7:7))),\"\")","v":""},{"$f":"IF(ROW(7:7)<=COUNTIF('اسناد الأقسام'!$D$7:$D$78,التجميع!$B$152),INDEX('اسناد الأقسام'!L$7:L$78,SMALL(IF('اسناد الأقسام'!$D$7:$D$78=التجميع!$B$152,ROW('اسناد الأقسام'!$D$7:$D$78)-ROW('اسناد الأقسام'!$D$7)+1),ROW(7:7))),\"\")","v":""},{"$f":"IF(ROW(7:7)<=COUNTIF('اسناد الأقسام'!$D$7:$D$78,التجميع!$B$152),INDEX('اسناد الأقسام'!M$7:M$78,SMALL(IF('اسناد الأقسام'!$D$7:$D$78=التجميع!$B$152,ROW('اسناد الأقسام'!$D$7:$D$78)-ROW('اسناد الأقسام'!$D$7)+1),ROW(7:7))),\"\")","v":""},{"$f":"IF(ROW(7:7)<=COUNTIF('اسناد الأقسام'!$D$7:$D$78,التجميع!$B$152),INDEX('اسناد الأقسام'!N$7:N$78,SMALL(IF('اسناد الأقسام'!$D$7:$D$78=التجميع!$B$152,ROW('اسناد الأقسام'!$D$7:$D$78)-ROW('اسناد الأقسام'!$D$7)+1),ROW(7:7))),\"\")","v":""},{"$f":"IF(ROW(7:7)<=COUNTIF('اسناد الأقسام'!$D$7:$D$78,التجميع!$B$152),INDEX('اسناد الأقسام'!O$7:O$78,SMALL(IF('اسناد الأقسام'!$D$7:$D$78=التجميع!$B$152,ROW('اسناد الأقسام'!$D$7:$D$78)-ROW('اسناد الأقسام'!$D$7)+1),ROW(7:7))),\"\")","v":""},{"$f":"IF(ROW(7:7)<=COUNTIF('اسناد الأقسام'!$D$7:$D$78,التجميع!$B$152),INDEX('اسناد الأقسام'!P$7:P$78,SMALL(IF('اسناد الأقسام'!$D$7:$D$78=التجميع!$B$152,ROW('اسناد الأقسام'!$D$7:$D$78)-ROW('اسناد الأقسام'!$D$7)+1),ROW(7:7))),\"\")","v":""},{"$f":"IF(ROW(7:7)<=COUNTIF('اسناد الأقسام'!$D$7:$D$78,التجميع!$B$152),INDEX('اسناد الأقسام'!Q$7:Q$78,SMALL(IF('اسناد الأقسام'!$D$7:$D$78=التجميع!$B$152,ROW('اسناد الأقسام'!$D$7:$D$78)-ROW('اسناد الأقسام'!$D$7)+1),ROW(7:7))),\"\")","v":""},{"$f":"IF(ROW(7:7)<=COUNTIF('اسناد الأقسام'!$D$7:$D$78,التجميع!$B$152),INDEX('اسناد الأقسام'!R$7:R$78,SMALL(IF('اسناد الأقسام'!$D$7:$D$78=التجميع!$B$152,ROW('اسناد الأقسام'!$D$7:$D$78)-ROW('اسناد الأقسام'!$D$7)+1),ROW(7:7))),\"\")","v":""},{"$f":"IF(ROW(7:7)<=COUNTIF('اسناد الأقسام'!$D$7:$D$78,التجميع!$B$152),INDEX('اسناد الأقسام'!S$7:S$78,SMALL(IF('اسناد الأقسام'!$D$7:$D$78=التجميع!$B$152,ROW('اسناد الأقسام'!$D$7:$D$78)-ROW('اسناد الأقسام'!$D$7)+1),ROW(7:7))),\"\")","v":""},{"$f":"IF(ROW(7:7)<=COUNTIF('اسناد الأقسام'!$D$7:$D$78,التجميع!$B$152),INDEX('اسناد الأقسام'!T$7:T$78,SMALL(IF('اسناد الأقسام'!$D$7:$D$78=التجميع!$B$152,ROW('اسناد الأقسام'!$D$7:$D$78)-ROW('اسناد الأقسام'!$D$7)+1),ROW(7:7))),\"\")","v":""},{"$f":"IF(ROW(7:7)<=COUNTIF('اسناد الأقسام'!$D$7:$D$78,التجميع!$B$152),INDEX('اسناد الأقسام'!U$7:U$78,SMALL(IF('اسناد الأقسام'!$D$7:$D$78=التجميع!$B$152,ROW('اسناد الأقسام'!$D$7:$D$78)-ROW('اسناد الأقسام'!$D$7)+1),ROW(7:7))),\"\")","v":""},{"$f":"IF(ROW(7:7)<=COUNTIF('اسناد الأقسام'!$D$7:$D$78,التجميع!$B$152),INDEX('اسناد الأقسام'!V$7:V$78,SMALL(IF('اسناد الأقسام'!$D$7:$D$78=التجميع!$B$152,ROW('اسناد الأقسام'!$D$7:$D$78)-ROW('اسناد الأقسام'!$D$7)+1),ROW(7:7))),\"\")","v":""},{"$f":"IF(ROW(7:7)<=COUNTIF('اسناد الأقسام'!$D$7:$D$78,التجميع!$B$152),INDEX('اسناد الأقسام'!W$7:W$78,SMALL(IF('اسناد الأقسام'!$D$7:$D$78=التجميع!$B$152,ROW('اسناد الأقسام'!$D$7:$D$78)-ROW('اسناد الأقسام'!$D$7)+1),ROW(7:7))),\"\")","v":""},{"$f":"IF(ROW(7:7)<=COUNTIF('اسناد الأقسام'!$D$7:$D$78,التجميع!$B$152),INDEX('اسناد الأقسام'!X$7:X$78,SMALL(IF('اسناد الأقسام'!$D$7:$D$78=التجميع!$B$152,ROW('اسناد الأقسام'!$D$7:$D$78)-ROW('اسناد الأقسام'!$D$7)+1),ROW(7:7))),\"\")","v":""},{"$f":"IF(ROW(7:7)<=COUNTIF('اسناد الأقسام'!$D$7:$D$78,التجميع!$B$152),INDEX('اسناد الأقسام'!Y$7:Y$78,SMALL(IF('اسناد الأقسام'!$D$7:$D$78=التجميع!$B$152,ROW('اسناد الأقسام'!$D$7:$D$78)-ROW('اسناد الأقسام'!$D$7)+1),ROW(7:7))),\"\")","v":""},{"$f":"IF(ROW(7:7)<=COUNTIF('اسناد الأقسام'!$D$7:$D$78,التجميع!$B$152),INDEX('اسناد الأقسام'!Z$7:Z$78,SMALL(IF('اسناد الأقسام'!$D$7:$D$78=التجميع!$B$152,ROW('اسناد الأقسام'!$D$7:$D$78)-ROW('اسناد الأقسام'!$D$7)+1),ROW(7:7))),\"\")","v":""},{"$f":"IF(ROW(7:7)<=COUNTIF('اسناد الأقسام'!$D$7:$D$78,التجميع!$B$152),INDEX('اسناد الأقسام'!AA$7:AA$78,SMALL(IF('اسناد الأقسام'!$D$7:$D$78=التجميع!$B$152,ROW('اسناد الأقسام'!$D$7:$D$78)-ROW('اسناد الأقسام'!$D$7)+1),ROW(7:7))),\"\")","v":""},{"$f":"IF(ROW(7:7)<=COUNTIF('اسناد الأقسام'!$D$7:$D$78,التجميع!$B$152),INDEX('اسناد الأقسام'!AB$7:AB$78,SMALL(IF('اسناد الأقسام'!$D$7:$D$78=التجميع!$B$152,ROW('اسناد الأقسام'!$D$7:$D$78)-ROW('اسناد الأقسام'!$D$7)+1),ROW(7:7))),\"\")","v":""},{"$f":"IF(ROW(7:7)<=COUNTIF('اسناد الأقسام'!$D$7:$D$78,التجميع!$B$152),INDEX('اسناد الأقسام'!AC$7:AC$78,SMALL(IF('اسناد الأقسام'!$D$7:$D$78=التجميع!$B$152,ROW('اسناد الأقسام'!$D$7:$D$78)-ROW('اسناد الأقسام'!$D$7)+1),ROW(7:7))),\"\")","v":""}]
[8,{"$f":"IF(ROW(8:8)<=COUNTIF('اسناد الأقسام'!$D$7:$D$78,التجميع!$B$152),INDEX('اسناد الأقسام'!C$7:C$78,SMALL(IF('اسناد الأقسام'!$D$7:$D$78=التجميع!$B$152,ROW('اسناد الأقسام'!$D$7:$D$78)-ROW('اسناد الأقسام'!$D$7)+1),ROW(8:8))),\"\")","v":""},{"$f":"IF(ROW(8:8)<=COUNTIF('اسناد الأقسام'!$D$7:$D$78,التجميع!$B$152),INDEX('اسناد الأقسام'!D$7:D$78,SMALL(IF('اسناد الأقسام'!$D$7:$D$78=التجميع!$B$152,ROW('اسناد الأقسام'!$D$7:$D$78)-ROW('اسناد الأقسام'!$D$7)+1),ROW(8:8))),\"\")","v":""},{"$f":"IF(ROW(8:8)<=COUNTIF('اسناد الأقسام'!$D$7:$D$78,التجميع!$B$152),INDEX('اسناد الأقسام'!E$7:E$78,SMALL(IF('اسناد الأقسام'!$D$7:$D$78=التجميع!$B$152,ROW('اسناد الأقسام'!$D$7:$D$78)-ROW('اسناد الأقسام'!$D$7)+1),ROW(8:8))),\"\")","v":""},{"$f":"IF(ROW(8:8)<=COUNTIF('اسناد الأقسام'!$D$7:$D$78,التجميع!$B$152),INDEX('اسناد الأقسام'!F$7:F$78,SMALL(IF('اسناد الأقسام'!$D$7:$D$78=التجميع!$B$152,ROW('اسناد الأقسام'!$D$7:$D$78)-ROW('اسناد الأقسام'!$D$7)+1),ROW(8:8))),\"\")","v":""},{"$f":"IF(ROW(8:8)<=COUNTIF('اسناد الأقسام'!$D$7:$D$78,التجميع!$B$152),INDEX('اسناد الأقسام'!G$7:G$78,SMALL(IF('اسناد الأقسام'!$D$7:$D$78=التجميع!$B$152,ROW('اسناد الأقسام'!$D$7:$D$78)-ROW('اسناد الأقسام'!$D$7)+1),ROW(8:8))),\"\")","v":""},{"$f":"IF(ROW(8:8)<=COUNTIF('اسناد الأقسام'!$D$7:$D$78,التجميع!$B$152),INDEX('اسناد الأقسام'!H$7:H$78,SMALL(IF('اسناد الأقسام'!$D$7:$D$78=التجميع!$B$152,ROW('اسناد الأقسام'!$D$7:$D$78)-ROW('اسناد الأقسام'!$D$7)+1),ROW(8:8))),\"\")","v":""},{"$f":"IF(ROW(8:8)<=COUNTIF('اسناد الأقسام'!$D$7:$D$78,التجميع!$B$152),INDEX('اسناد الأقسام'!I$7:I$78,SMALL(IF('اسناد الأقسام'!$D$7:$D$78=التجميع!$B$152,ROW('اسناد الأقسام'!$D$7:$D$78)-ROW('اسناد الأقسام'!$D$7)+1),ROW(8:8))),\"\")","v":""},{"$f":"IF(ROW(8:8)<=COUNTIF('اسناد الأقسام'!$D$7:$D$78,التجميع!$B$152),INDEX('اسناد الأقسام'!J$7:J$78,SMALL(IF('اسناد الأقسام'!$D$7:$D$78=التجميع!$B$152,ROW('اسناد الأقسام'!$D$7:$D$78)-ROW('اسناد الأقسام'!$D$7)+1),ROW(8:8))),\"\")","v":""},{"$f":"IF(ROW(8:8)<=COUNTIF('اسناد الأقسام'!$D$7:$D$78,التجميع!$B$152),INDEX('اسناد الأقسام'!K$7:K$78,SMALL(IF('اسناد الأقسام'!$D$7:$D$78=التجميع!$B$152,ROW('اسناد الأقسام'!$D$7:$D$78)-ROW('اسناد الأقسام'!$D$7)+1),ROW(8:8))),\"\")","v":""},{"$f":"IF(ROW(8:8)<=COUNTIF('اسناد الأقسام'!$D$7:$D$78,التجميع!$B$152),INDEX('اسناد الأقسام'!L$7:L$78,SMALL(IF('اسناد الأقسام'!$D$7:$D$78=التجميع!$B$152,ROW('اسناد الأقسام'!$D$7:$D$78)-ROW('اسناد الأقسام'!$D$7)+1),ROW(8:8))),\"\")","v":""},{"$f":"IF(ROW(8:8)<=COUNTIF('اسناد الأقسام'!$D$7:$D$78,التجميع!$B$152),INDEX('اسناد الأقسام'!M$7:M$78,SMALL(IF('اسناد الأقسام'!$D$7:$D$78=التجميع!$B$152,ROW('اسناد الأقسام'!$D$7:$D$78)-ROW('اسناد الأقسام'!$D$7)+1),ROW(8:8))),\"\")","v":""},{"$f":"IF(ROW(8:8)<=COUNTIF('اسناد الأقسام'!$D$7:$D$78,التجميع!$B$152),INDEX('اسناد الأقسام'!N$7:N$78,SMALL(IF('اسناد الأقسام'!$D$7:$D$78=التجميع!$B$152,ROW('اسناد الأقسام'!$D$7:$D$78)-ROW('اسناد الأقسام'!$D$7)+1),ROW(8:8))),\"\")","v":""},{"$f":"IF(ROW(8:8)<=COUNTIF('اسناد الأقسام'!$D$7:$D$78,التجميع!$B$152),INDEX('اسناد الأقسام'!O$7:O$78,SMALL(IF('اسناد الأقسام'!$D$7:$D$78=التجميع!$B$152,ROW('اسناد الأقسام'!$D$7:$D$78)-ROW('اسناد الأقسام'!$D$7)+1),ROW(8:8))),\"\")","v":""},{"$f":"IF(ROW(8:8)<=COUNTIF('اسناد الأقسام'!$D$7:$D$78,التجميع!$B$152),INDEX('اسناد الأقسام'!P$7:P$78,SMALL(IF('اسناد الأقسام'!$D$7:$D$78=التجميع!$B$152,ROW('اسناد الأقسام'!$D$7:$D$78)-ROW('اسناد الأقسام'!$D$7)+1),ROW(8:8))),\"\")","v":""},{"$f":"IF(ROW(8:8)<=COUNTIF('اسناد الأقسام'!$D$7:$D$78,التجميع!$B$152),INDEX('اسناد الأقسام'!Q$7:Q$78,SMALL(IF('اسناد الأقسام'!$D$7:$D$78=التجميع!$B$152,ROW('اسناد الأقسام'!$D$7:$D$78)-ROW('اسناد الأقسام'!$D$7)+1),ROW(8:8))),\"\")","v":""},{"$f":"IF(ROW(8:8)<=COUNTIF('اسناد الأقسام'!$D$7:$D$78,التجميع!$B$152),INDEX('اسناد الأقسام'!R$7:R$78,SMALL(IF('اسناد الأقسام'!$D$7:$D$78=التجميع!$B$152,ROW('اسناد الأقسام'!$D$7:$D$78)-ROW('اسناد الأقسام'!$D$7)+1),ROW(8:8))),\"\")","v":""},{"$f":"IF(ROW(8:8)<=COUNTIF('اسناد الأقسام'!$D$7:$D$78,التجميع!$B$152),INDEX('اسناد الأقسام'!S$7:S$78,SMALL(IF('اسناد الأقسام'!$D$7:$D$78=التجميع!$B$152,ROW('اسناد الأقسام'!$D$7:$D$78)-ROW('اسناد الأقسام'!$D$7)+1),ROW(8:8))),\"\")","v":""},{"$f":"IF(ROW(8:8)<=COUNTIF('اسناد الأقسام'!$D$7:$D$78,التجميع!$B$152),INDEX('اسناد الأقسام'!T$7:T$78,SMALL(IF('اسناد الأقسام'!$D$7:$D$78=التجميع!$B$152,ROW('اسناد الأقسام'!$D$7:$D$78)-ROW('اسناد الأقسام'!$D$7)+1),ROW(8:8))),\"\")","v":""},{"$f":"IF(ROW(8:8)<=COUNTIF('اسناد الأقسام'!$D$7:$D$78,التجميع!$B$152),INDEX('اسناد الأقسام'!U$7:U$78,SMALL(IF('اسناد الأقسام'!$D$7:$D$78=التجميع!$B$152,ROW('اسناد الأقسام'!$D$7:$D$78)-ROW('اسناد الأقسام'!$D$7)+1),ROW(8:8))),\"\")","v":""},{"$f":"IF(ROW(8:8)<=COUNTIF('اسناد الأقسام'!$D$7:$D$78,التجميع!$B$152),INDEX('اسناد الأقسام'!V$7:V$78,SMALL(IF('اسناد الأقسام'!$D$7:$D$78=التجميع!$B$152,ROW('اسناد الأقسام'!$D$7:$D$78)-ROW('اسناد الأقسام'!$D$7)+1),ROW(8:8))),\"\")","v":""},{"$f":"IF(ROW(8:8)<=COUNTIF('اسناد الأقسام'!$D$7:$D$78,التجميع!$B$152),INDEX('اسناد الأقسام'!W$7:W$78,SMALL(IF('اسناد الأقسام'!$D$7:$D$78=التجميع!$B$152,ROW('اسناد الأقسام'!$D$7:$D$78)-ROW('اسناد الأقسام'!$D$7)+1),ROW(8:8))),\"\")","v":""},{"$f":"IF(ROW(8:8)<=COUNTIF('اسناد الأقسام'!$D$7:$D$78,التجميع!$B$152),INDEX('اسناد الأقسام'!X$7:X$78,SMALL(IF('اسناد الأقسام'!$D$7:$D$78=التجميع!$B$152,ROW('اسناد الأقسام'!$D$7:$D$78)-ROW('اسناد الأقسام'!$D$7)+1),ROW(8:8))),\"\")","v":""},{"$f":"IF(ROW(8:8)<=COUNTIF('اسناد الأقسام'!$D$7:$D$78,التجميع!$B$152),INDEX('اسناد الأقسام'!Y$7:Y$78,SMALL(IF('اسناد الأقسام'!$D$7:$D$78=التجميع!$B$152,ROW('اسناد الأقسام'!$D$7:$D$78)-ROW('اسناد الأقسام'!$D$7)+1),ROW(8:8))),\"\")","v":""},{"$f":"IF(ROW(8:8)<=COUNTIF('اسناد الأقسام'!$D$7:$D$78,التجميع!$B$152),INDEX('اسناد الأقسام'!Z$7:Z$78,SMALL(IF('اسناد الأقسام'!$D$7:$D$78=التجميع!$B$152,ROW('اسناد الأقسام'!$D$7:$D$78)-ROW('اسناد الأقسام'!$D$7)+1),ROW(8:8))),\"\")","v":""},{"$f":"IF(ROW(8:8)<=COUNTIF('اسناد الأقسام'!$D$7:$D$78,التجميع!$B$152),INDEX('اسناد الأقسام'!AA$7:AA$78,SMALL(IF('اسناد الأقسام'!$D$7:$D$78=التجميع!$B$152,ROW('اسناد الأقسام'!$D$7:$D$78)-ROW('اسناد الأقسام'!$D$7)+1),ROW(8:8))),\"\")","v":""},{"$f":"IF(ROW(8:8)<=COUNTIF('اسناد الأقسام'!$D$7:$D$78,التجميع!$B$152),INDEX('اسناد الأقسام'!AB$7:AB$78,SMALL(IF('اسناد الأقسام'!$D$7:$D$78=التجميع!$B$152,ROW('اسناد الأقسام'!$D$7:$D$78)-ROW('اسناد الأقسام'!$D$7)+1),ROW(8:8))),\"\")","v":""},{"$f":"IF(ROW(8:8)<=COUNTIF('اسناد الأقسام'!$D$7:$D$78,التجميع!$B$152),INDEX('اسناد الأقسام'!AC$7:AC$78,SMALL(IF('اسناد الأقسام'!$D$7:$D$78=التجميع!$B$152,ROW('اسناد الأقسام'!$D$7:$D$78)-ROW('اسناد الأقسام'!$D$7)+1),ROW(8:8))),\"\")","v":""}]
[9,{"$f":"IF(ROW(9:9)<=COUNTIF('اسناد الأقسام'!$D$7:$D$78,التجميع!$B$152),INDEX('اسناد الأقسام'!C$7:C$78,SMALL(IF('اسناد الأقسام'!$D$7:$D$78=التجميع!$B$152,ROW('اسناد الأقسام'!$D$7:$D$78)-ROW('اسناد الأقسام'!$D$7)+1),ROW(9:9))),\"\")","v":""},{"$f":"IF(ROW(9:9)<=COUNTIF('اسناد الأقسام'!$D$7:$D$78,التجميع!$B$152),INDEX('اسناد الأقسام'!D$7:D$78,SMALL(IF('اسناد الأقسام'!$D$7:$D$78=التجميع!$B$152,ROW('اسناد الأقسام'!$D$7:$D$78)-ROW('اسناد الأقسام'!$D$7)+1),ROW(9:9))),\"\")","v":""},{"$f":"IF(ROW(9:9)<=COUNTIF('اسناد الأقسام'!$D$7:$D$78,التجميع!$B$152),INDEX('اسناد الأقسام'!E$7:E$78,SMALL(IF('اسناد الأقسام'!$D$7:$D$78=التجميع!$B$152,ROW('اسناد الأقسام'!$D$7:$D$78)-ROW('اسناد الأقسام'!$D$7)+1),ROW(9:9))),\"\")","v":""},{"$f":"IF(ROW(9:9)<=COUNTIF('اسناد الأقسام'!$D$7:$D$78,التجميع!$B$152),INDEX('اسناد الأقسام'!F$7:F$78,SMALL(IF('اسناد الأقسام'!$D$7:$D$78=التجميع!$B$152,ROW('اسناد الأقسام'!$D$7:$D$78)-ROW('اسناد الأقسام'!$D$7)+1),ROW(9:9))),\"\")","v":""},{"$f":"IF(ROW(9:9)<=COUNTIF('اسناد الأقسام'!$D$7:$D$78,التجميع!$B$152),INDEX('اسناد الأقسام'!G$7:G$78,SMALL(IF('اسناد الأقسام'!$D$7:$D$78=التجميع!$B$152,ROW('اسناد الأقسام'!$D$7:$D$78)-ROW('اسناد الأقسام'!$D$7)+1),ROW(9:9))),\"\")","v":""},{"$f":"IF(ROW(9:9)<=COUNTIF('اسناد الأقسام'!$D$7:$D$78,التجميع!$B$152),INDEX('اسناد الأقسام'!H$7:H$78,SMALL(IF('اسناد الأقسام'!$D$7:$D$78=التجميع!$B$152,ROW('اسناد الأقسام'!$D$7:$D$78)-ROW('اسناد الأقسام'!$D$7)+1),ROW(9:9))),\"\")","v":""},{"$f":"IF(ROW(9:9)<=COUNTIF('اسناد الأقسام'!$D$7:$D$78,التجميع!$B$152),INDEX('اسناد الأقسام'!I$7:I$78,SMALL(IF('اسناد الأقسام'!$D$7:$D$78=التجميع!$B$152,ROW('اسناد الأقسام'!$D$7:$D$78)-ROW('اسناد الأقسام'!$D$7)+1),ROW(9:9))),\"\")","v":""},{"$f":"IF(ROW(9:9)<=COUNTIF('اسناد الأقسام'!$D$7:$D$78,التجميع!$B$152),INDEX('اسناد الأقسام'!J$7:J$78,SMALL(IF('اسناد الأقسام'!$D$7:$D$78=التجميع!$B$152,ROW('اسناد الأقسام'!$D$7:$D$78)-ROW('اسناد الأقسام'!$D$7)+1),ROW(9:9))),\"\")","v":""},{"$f":"IF(ROW(9:9)<=COUNTIF('اسناد الأقسام'!$D$7:$D$78,التجميع!$B$152),INDEX('اسناد الأقسام'!K$7:K$78,SMALL(IF('اسناد الأقسام'!$D$7:$D$78=التجميع!$B$152,ROW('اسناد الأقسام'!$D$7:$D$78)-ROW('اسناد الأقسام'!$D$7)+1),ROW(9:9))),\"\")","v":""},{"$f":"IF(ROW(9:9)<=COUNTIF('اسناد الأقسام'!$D$7:$D$78,التجميع!$B$152),INDEX('اسناد الأقسام'!L$7:L$78,SMALL(IF('اسناد الأقسام'!$D$7:$D$78=التجميع!$B$152,ROW('اسناد الأقسام'!$D$7:$D$78)-ROW('اسناد الأقسام'!$D$7)+1),ROW(9:9))),\"\")","v":""},{"$f":"IF(ROW(9:9)<=COUNTIF('اسناد الأقسام'!$D$7:$D$78,التجميع!$B$152),INDEX('اسناد الأقسام'!M$7:M$78,SMALL(IF('اسناد الأقسام'!$D$7:$D$78=التجميع!$B$152,ROW('اسناد الأقسام'!$D$7:$D$78)-ROW('اسناد الأقسام'!$D$7)+1),ROW(9:9))),\"\")","v":""},{"$f":"IF(ROW(9:9)<=COUNTIF('اسناد الأقسام'!$D$7:$D$78,التجميع!$B$152),INDEX('اسناد الأقسام'!N$7:N$78,SMALL(IF('اسناد الأقسام'!$D$7:$D$78=التجميع!$B$152,ROW('اسناد الأقسام'!$D$7:$D$78)-ROW('اسناد الأقسام'!$D$7)+1),ROW(9:9))),\"\")","v":""},{"$f":"IF(ROW(9:9)<=COUNTIF('اسناد الأقسام'!$D$7:$D$78,التجميع!$B$152),INDEX('اسناد الأقسام'!O$7:O$78,SMALL(IF('اسناد الأقسام'!$D$7:$D$78=التجميع!$B$152,ROW('اسناد الأقسام'!$D$7:$D$78)-ROW('اسناد الأقسام'!$D$7)+1),ROW(9:9))),\"\")","v":""},{"$f":"IF(ROW(9:9)<=COUNTIF('اسناد الأقسام'!$D$7:$D$78,التجميع!$B$152),INDEX('اسناد الأقسام'!P$7:P$78,SMALL(IF('اسناد الأقسام'!$D$7:$D$78=التجميع!$B$152,ROW('اسناد الأقسام'!$D$7:$D$78)-ROW('اسناد الأقسام'!$D$7)+1),ROW(9:9))),\"\")","v":""},{"$f":"IF(ROW(9:9)<=COUNTIF('اسناد الأقسام'!$D$7:$D$78,التجميع!$B$152),INDEX('اسناد الأقسام'!Q$7:Q$78,SMALL(IF('اسناد الأقسام'!$D$7:$D$78=التجميع!$B$152,ROW('اسناد الأقسام'!$D$7:$D$78)-ROW('اسناد الأقسام'!$D$7)+1),ROW(9:9))),\"\")","v":""},{"$f":"IF(ROW(9:9)<=COUNTIF('اسناد الأقسام'!$D$7:$D$78,التجميع!$B$152),INDEX('اسناد الأقسام'!R$7:R$78,SMALL(IF('اسناد الأقسام'!$D$7:$D$78=التجميع!$B$152,ROW('اسناد الأقسام'!$D$7:$D$78)-ROW('اسناد الأقسام'!$D$7)+1),ROW(9:9))),\"\")","v":""},{"$f":"IF(ROW(9:9)<=COUNTIF('اسناد الأقسام'!$D$7:$D$78,التجميع!$B$152),INDEX('اسناد الأقسام'!S$7:S$78,SMALL(IF('اسناد الأقسام'!$D$7:$D$78=التجميع!$B$152,ROW('اسناد الأقسام'!$D$7:$D$78)-ROW('اسناد الأقسام'!$D$7)+1),ROW(9:9))),\"\")","v":""},{"$f":"IF(ROW(9:9)<=COUNTIF('اسناد الأقسام'!$D$7:$D$78,التجميع!$B$152),INDEX('اسناد الأقسام'!T$7:T$78,SMALL(IF('اسناد الأقسام'!$D$7:$D$78=التجميع!$B$152,ROW('اسناد الأقسام'!$D$7:$D$78)-ROW('اسناد الأقسام'!$D$7)+1),ROW(9:9))),\"\")","v":""},{"$f":"IF(ROW(9:9)<=COUNTIF('اسناد الأقسام'!$D$7:$D$78,التجميع!$B$152),INDEX('اسناد الأقسام'!U$7:U$78,SMALL(IF('اسناد الأقسام'!$D$7:$D$78=التجميع!$B$152,ROW('اسناد الأقسام'!$D$7:$D$78)-ROW('اسناد الأقسام'!$D$7)+1),ROW(9:9))),\"\")","v":""},{"$f":"IF(ROW(9:9)<=COUNTIF('اسناد الأقسام'!$D$7:$D$78,التجميع!$B$152),INDEX('اسناد الأقسام'!V$7:V$78,SMALL(IF('اسناد الأقسام'!$D$7:$D$78=التجميع!$B$152,ROW('اسناد الأقسام'!$D$7:$D$78)-ROW('اسناد الأقسام'!$D$7)+1),ROW(9:9))),\"\")","v":""},{"$f":"IF(ROW(9:9)<=COUNTIF('اسناد الأقسام'!$D$7:$D$78,التجميع!$B$152),INDEX('اسناد الأقسام'!W$7:W$78,SMALL(IF('اسناد الأقسام'!$D$7:$D$78=التجميع!$B$152,ROW('اسناد الأقسام'!$D$7:$D$78)-ROW('اسناد الأقسام'!$D$7)+1),ROW(9:9))),\"\")","v":""},{"$f":"IF(ROW(9:9)<=COUNTIF('اسناد الأقسام'!$D$7:$D$78,التجميع!$B$152),INDEX('اسناد الأقسام'!X$7:X$78,SMALL(IF('اسناد الأقسام'!$D$7:$D$78=التجميع!$B$152,ROW('اسناد الأقسام'!$D$7:$D$78)-ROW('اسناد الأقسام'!$D$7)+1),ROW(9:9))),\"\")","v":""},{"$f":"IF(ROW(9:9)<=COUNTIF('اسناد الأقسام'!$D$7:$D$78,التجميع!$B$152),INDEX('اسناد الأقسام'!Y$7:Y$78,SMALL(IF('اسناد الأقسام'!$D$7:$D$78=التجميع!$B$152,ROW('اسناد الأقسام'!$D$7:$D$78)-ROW('اسناد الأقسام'!$D$7)+1),ROW(9:9))),\"\")","v":""},{"$f":"IF(ROW(9:9)<=COUNTIF('اسناد الأقسام'!$D$7:$D$78,التجميع!$B$152),INDEX('اسناد الأقسام'!Z$7:Z$78,SMALL(IF('اسناد الأقسام'!$D$7:$D$78=التجميع!$B$152,ROW('اسناد الأقسام'!$D$7:$D$78)-ROW('اسناد الأقسام'!$D$7)+1),ROW(9:9))),\"\")","v":""},{"$f":"IF(ROW(9:9)<=COUNTIF('اسناد الأقسام'!$D$7:$D$78,التجميع!$B$152),INDEX('اسناد الأقسام'!AA$7:AA$78,SMALL(IF('اسناد الأقسام'!$D$7:$D$78=التجميع!$B$152,ROW('اسناد الأقسام'!$D$7:$D$78)-ROW('اسناد الأقسام'!$D$7)+1),ROW(9:9))),\"\")","v":""},{"$f":"IF(ROW(9:9)<=COUNTIF('اسناد الأقسام'!$D$7:$D$78,التجميع!$B$152),INDEX('اسناد الأقسام'!AB$7:AB$78,SMALL(IF('اسناد الأقسام'!$D$7:$D$78=التجميع!$B$152,ROW('اسناد الأقسام'!$D$7:$D$78)-ROW('اسناد الأقسام'!$D$7)+1),ROW(9:9))),\"\")","v":""},{"$f":"IF(ROW(9:9)<=COUNTIF('اسناد الأقسام'!$D$7:$D$78,التجميع!$B$152),INDEX('اسناد الأقسام'!AC$7:AC$78,SMALL(IF('اسناد الأقسام'!$D$7:$D$78=التجميع!$B$152,ROW('اسناد الأقسام'!$D$7:$D$78)-ROW('اسناد الأقسام'!$D$7)+1),ROW(9:9))),\"\")","v":""}]
[10,{"$f":"IF(ROW(10:10)<=COUNTIF('اسناد الأقسام'!$D$7:$D$78,التجميع!$B$152),INDEX('اسناد الأقسام'!C$7:C$78,SMALL(IF('اسناد الأقسام'!$D$7:$D$78=التجميع!$B$152,ROW('اسناد الأقسام'!$D$7:$D$78)-ROW('اسناد الأقسام'!$D$7)+1),ROW(10:10))),\"\")","v":""},{"$f":"IF(ROW(10:10)<=COUNTIF('اسناد الأقسام'!$D$7:$D$78,التجميع!$B$152),INDEX('اسناد الأقسام'!D$7:D$78,SMALL(IF('اسناد الأقسام'!$D$7:$D$78=التجميع!$B$152,ROW('اسناد الأقسام'!$D$7:$D$78)-ROW('اسناد الأقسام'!$D$7)+1),ROW(10:10))),\"\")","v":""},{"$f":"IF(ROW(10:10)<=COUNTIF('اسناد الأقسام'!$D$7:$D$78,التجميع!$B$152),INDEX('اسناد الأقسام'!E$7:E$78,SMALL(IF('اسناد الأقسام'!$D$7:$D$78=التجميع!$B$152,ROW('اسناد الأقسام'!$D$7:$D$78)-ROW('اسناد الأقسام'!$D$7)+1),ROW(10:10))),\"\")","v":""},{"$f":"IF(ROW(10:10)<=COUNTIF('اسناد الأقسام'!$D$7:$D$78,التجميع!$B$152),INDEX('اسناد الأقسام'!F$7:F$78,SMALL(IF('اسناد الأقسام'!$D$7:$D$78=التجميع!$B$152,ROW('اسناد الأقسام'!$D$7:$D$78)-ROW('اسناد الأقسام'!$D$7)+1),ROW(10:10))),\"\")","v":""},{"$f":"IF(ROW(10:10)<=COUNTIF('اسناد الأقسام'!$D$7:$D$78,التجميع!$B$152),INDEX('اسناد الأقسام'!G$7:G$78,SMALL(IF('اسناد الأقسام'!$D$7:$D$78=التجميع!$B$152,ROW('اسناد الأقسام'!$D$7:$D$78)-ROW('اسناد الأقسام'!$D$7)+1),ROW(10:10))),\"\")","v":""},{"$f":"IF(ROW(10:10)<=COUNTIF('اسناد الأقسام'!$D$7:$D$78,التجميع!$B$152),INDEX('اسناد الأقسام'!H$7:H$78,SMALL(IF('اسناد الأقسام'!$D$7:$D$78=التجميع!$B$152,ROW('اسناد الأقسام'!$D$7:$D$78)-ROW('اسناد الأقسام'!$D$7)+1),ROW(10:10))),\"\")","v":""},{"$f":"IF(ROW(10:10)<=COUNTIF('اسناد الأقسام'!$D$7:$D$78,التجميع!$B$152),INDEX('اسناد الأقسام'!I$7:I$78,SMALL(IF('اسناد الأقسام'!$D$7:$D$78=التجميع!$B$152,ROW('اسناد الأقسام'!$D$7:$D$78)-ROW('اسناد الأقسام'!$D$7)+1),ROW(10:10))),\"\")","v":""},{"$f":"IF(ROW(10:10)<=COUNTIF('اسناد الأقسام'!$D$7:$D$78,التجميع!$B$152),INDEX('اسناد الأقسام'!J$7:J$78,SMALL(IF('اسناد الأقسام'!$D$7:$D$78=التجميع!$B$152,ROW('اسناد الأقسام'!$D$7:$D$78)-ROW('اسناد الأقسام'!$D$7)+1),ROW(10:10))),\"\")","v":""},{"$f":"IF(ROW(10:10)<=COUNTIF('اسناد الأقسام'!$D$7:$D$78,التجميع!$B$152),INDEX('اسناد الأقسام'!K$7:K$78,SMALL(IF('اسناد الأقسام'!$D$7:$D$78=التجميع!$B$152,ROW('اسناد الأقسام'!$D$7:$D$78)-ROW('اسناد الأقسام'!$D$7)+1),ROW(10:10))),\"\")","v":""},{"$f":"IF(ROW(10:10)<=COUNTIF('اسناد الأقسام'!$D$7:$D$78,التجميع!$B$152),INDEX('اسناد الأقسام'!L$7:L$78,SMALL(IF('اسناد الأقسام'!$D$7:$D$78=التجميع!$B$152,ROW('اسناد الأقسام'!$D$7:$D$78)-ROW('اسناد الأقسام'!$D$7)+1),ROW(10:10))),\"\")","v":""},{"$f":"IF(ROW(10:10)<=COUNTIF('اسناد الأقسام'!$D$7:$D$78,التجميع!$B$152),INDEX('اسناد الأقسام'!M$7:M$78,SMALL(IF('اسناد الأقسام'!$D$7:$D$78=التجميع!$B$152,ROW('اسناد الأقسام'!$D$7:$D$78)-ROW('اسناد الأقسام'!$D$7)+1),ROW(10:10))),\"\")","v":""},{"$f":"IF(ROW(10:10)<=COUNTIF('اسناد الأقسام'!$D$7:$D$78,التجميع!$B$152),INDEX('اسناد الأقسام'!N$7:N$78,SMALL(IF('اسناد الأقسام'!$D$7:$D$78=التجميع!$B$152,ROW('اسناد الأقسام'!$D$7:$D$78)-ROW('اسناد الأقسام'!$D$7)+1),ROW(10:10))),\"\")","v":""},{"$f":"IF(ROW(10:10)<=COUNTIF('اسناد الأقسام'!$D$7:$D$78,التجميع!$B$152),INDEX('اسناد الأقسام'!O$7:O$78,SMALL(IF('اسناد الأقسام'!$D$7:$D$78=التجميع!$B$152,ROW('اسناد الأقسام'!$D$7:$D$78)-ROW('اسناد الأقسام'!$D$7)+1),ROW(10:10))),\"\")","v":""},{"$f":"IF(ROW(10:10)<=COUNTIF('اسناد الأقسام'!$D$7:$D$78,التجميع!$B$152),INDEX('اسناد الأقسام'!P$7:P$78,SMALL(IF('اسناد الأقسام'!$D$7:$D$78=التجميع!$B$152,ROW('اسناد الأقسام'!$D$7:$D$78)-ROW('اسناد الأقسام'!$D$7)+1),ROW(10:10))),\"\")","v":""},{"$f":"IF(ROW(10:10)<=COUNTIF('اسناد الأقسام'!$D$7:$D$78,التجميع!$B$152),INDEX('اسناد الأقسام'!Q$7:Q$78,SMALL(IF('اسناد الأقسام'!$D$7:$D$78=التجميع!$B$152,ROW('اسناد الأقسام'!$D$7:$D$78)-ROW('اسناد الأقسام'!$D$7)+1),ROW(10:10))),\"\")","v":""},{"$f":"IF(ROW(10:10)<=COUNTIF('اسناد الأقسام'!$D$7:$D$78,التجميع!$B$152),INDEX('اسناد الأقسام'!R$7:R$78,SMALL(IF('اسناد الأقسام'!$D$7:$D$78=التجميع!$B$152,ROW('اسناد الأقسام'!$D$7:$D$78)-ROW('اسناد الأقسام'!$D$7)+1),ROW(10:10))),\"\")","v":""},{"$f":"IF(ROW(10:10)<=COUNTIF('اسناد الأقسام'!$D$7:$D$78,التجميع!$B$152),INDEX('اسناد الأقسام'!S$7:S$78,SMALL(IF('اسناد الأقسام'!$D$7:$D$78=التجميع!$B$152,ROW('اسناد الأقسام'!$D$7:$D$78)-ROW('اسناد الأقسام'!$D$7)+1),ROW(10:10))),\"\")","v":""},{"$f":"IF(ROW(10:10)<=COUNTIF('اسناد الأقسام'!$D$7:$D$78,التجميع!$B$152),INDEX('اسناد الأقسام'!T$7:T$78,SMALL(IF('اسناد الأقسام'!$D$7:$D$78=التجميع!$B$152,ROW('اسناد الأقسام'!$D$7:$D$78)-ROW('اسناد الأقسام'!$D$7)+1),ROW(10:10))),\"\")","v":""},{"$f":"IF(ROW(10:10)<=COUNTIF('اسناد الأقسام'!$D$7:$D$78,التجميع!$B$152),INDEX('اسناد الأقسام'!U$7:U$78,SMALL(IF('اسناد الأقسام'!$D$7:$D$78=التجميع!$B$152,ROW('اسناد الأقسام'!$D$7:$D$78)-ROW('اسناد الأقسام'!$D$7)+1),ROW(10:10))),\"\")","v":""},{"$f":"IF(ROW(10:10)<=COUNTIF('اسناد الأقسام'!$D$7:$D$78,التجميع!$B$152),INDEX('اسناد الأقسام'!V$7:V$78,SMALL(IF('اسناد الأقسام'!$D$7:$D$78=التجميع!$B$152,ROW('اسناد الأقسام'!$D$7:$D$78)-ROW('اسناد الأقسام'!$D$7)+1),ROW(10:10))),\"\")","v":""},{"$f":"IF(ROW(10:10)<=COUNTIF('اسناد الأقسام'!$D$7:$D$78,التجميع!$B$152),INDEX('اسناد الأقسام'!W$7:W$78,SMALL(IF('اسناد الأقسام'!$D$7:$D$78=التجميع!$B$152,ROW('اسناد الأقسام'!$D$7:$D$78)-ROW('اسناد الأقسام'!$D$7)+1),ROW(10:10))),\"\")","v":""},{"$f":"IF(ROW(10:10)<=COUNTIF('اسناد الأقسام'!$D$7:$D$78,التجميع!$B$152),INDEX('اسناد الأقسام'!X$7:X$78,SMALL(IF('اسناد الأقسام'!$D$7:$D$78=التجميع!$B$152,ROW('اسناد الأقسام'!$D$7:$D$78)-ROW('اسناد الأقسام'!$D$7)+1),ROW(10:10))),\"\")","v":""},{"$f":"IF(ROW(10:10)<=COUNTIF('اسناد الأقسام'!$D$7:$D$78,التجميع!$B$152),INDEX('اسناد الأقسام'!Y$7:Y$78,SMALL(IF('اسناد الأقسام'!$D$7:$D$78=التجميع!$B$152,ROW('اسناد الأقسام'!$D$7:$D$78)-ROW('اسناد الأقسام'!$D$7)+1),ROW(10:10))),\"\")","v":""},{"$f":"IF(ROW(10:10)<=COUNTIF('اسناد الأقسام'!$D$7:$D$78,التجميع!$B$152),INDEX('اسناد الأقسام'!Z$7:Z$78,SMALL(IF('اسناد الأقسام'!$D$7:$D$78=التجميع!$B$152,ROW('اسناد الأقسام'!$D$7:$D$78)-ROW('اسناد الأقسام'!$D$7)+1),ROW(10:10))),\"\")","v":""},{"$f":"IF(ROW(10:10)<=COUNTIF('اسناد الأقسام'!$D$7:$D$78,التجميع!$B$152),INDEX('اسناد الأقسام'!AA$7:AA$78,SMALL(IF('اسناد الأقسام'!$D$7:$D$78=التجميع!$B$152,ROW('اسناد الأقسام'!$D$7:$D$78)-ROW('اسناد الأقسام'!$D$7)+1),ROW(10:10))),\"\")","v":""},{"$f":"IF(ROW(10:10)<=COUNTIF('اسناد الأقسام'!$D$7:$D$78,التجميع!$B$152),INDEX('اسناد الأقسام'!AB$7:AB$78,SMALL(IF('اسناد الأقسام'!$D$7:$D$78=التجميع!$B$152,ROW('اسناد الأقسام'!$D$7:$D$78)-ROW('اسناد الأقسام'!$D$7)+1),ROW(10:10))),\"\")","v":""},{"$f":"IF(ROW(10:10)<=COUNTIF('اسناد الأقسام'!$D$7:$D$78,التجميع!$B$152),INDEX('اسناد الأقسام'!AC$7:AC$78,SMALL(IF('اسناد الأقسام'!$D$7:$D$78=التجميع!$B$152,ROW('اسناد الأقسام'!$D$7:$D$78)-ROW('اسناد الأقسام'!$D$7)+1),ROW(10:10))),\"\")","v":""}]
[11,{"$f":"IF(ROW(11:11)<=COUNTIF('اسناد الأقسام'!$D$7:$D$78,التجميع!$B$152),INDEX('اسناد الأقسام'!C$7:C$78,SMALL(IF('اسناد الأقسام'!$D$7:$D$78=التجميع!$B$152,ROW('اسناد الأقسام'!$D$7:$D$78)-ROW('اسناد الأقسام'!$D$7)+1),ROW(11:11))),\"\")","v":""},{"$f":"IF(ROW(11:11)<=COUNTIF('اسناد الأقسام'!$D$7:$D$78,التجميع!$B$152),INDEX('اسناد الأقسام'!D$7:D$78,SMALL(IF('اسناد الأقسام'!$D$7:$D$78=التجميع!$B$152,ROW('اسناد الأقسام'!$D$7:$D$78)-ROW('اسناد الأقسام'!$D$7)+1),ROW(11:11))),\"\")","v":""},{"$f":"IF(ROW(11:11)<=COUNTIF('اسناد الأقسام'!$D$7:$D$78,التجميع!$B$152),INDEX('اسناد الأقسام'!E$7:E$78,SMALL(IF('اسناد الأقسام'!$D$7:$D$78=التجميع!$B$152,ROW('اسناد الأقسام'!$D$7:$D$78)-ROW('اسناد الأقسام'!$D$7)+1),ROW(11:11))),\"\")","v":""},{"$f":"IF(ROW(11:11)<=COUNTIF('اسناد الأقسام'!$D$7:$D$78,التجميع!$B$152),INDEX('اسناد الأقسام'!F$7:F$78,SMALL(IF('اسناد الأقسام'!$D$7:$D$78=التجميع!$B$152,ROW('اسناد الأقسام'!$D$7:$D$78)-ROW('اسناد الأقسام'!$D$7)+1),ROW(11:11))),\"\")","v":""},{"$f":"IF(ROW(11:11)<=COUNTIF('اسناد الأقسام'!$D$7:$D$78,التجميع!$B$152),INDEX('اسناد الأقسام'!G$7:G$78,SMALL(IF('اسناد الأقسام'!$D$7:$D$78=التجميع!$B$152,ROW('اسناد الأقسام'!$D$7:$D$78)-ROW('اسناد الأقسام'!$D$7)+1),ROW(11:11))),\"\")","v":""},{"$f":"IF(ROW(11:11)<=COUNTIF('اسناد الأقسام'!$D$7:$D$78,التجميع!$B$152),INDEX('اسناد الأقسام'!H$7:H$78,SMALL(IF('اسناد الأقسام'!$D$7:$D$78=التجميع!$B$152,ROW('اسناد الأقسام'!$D$7:$D$78)-ROW('اسناد الأقسام'!$D$7)+1),ROW(11:11))),\"\")","v":""},{"$f":"IF(ROW(11:11)<=COUNTIF('اسناد الأقسام'!$D$7:$D$78,التجميع!$B$152),INDEX('اسناد الأقسام'!I$7:I$78,SMALL(IF('اسناد الأقسام'!$D$7:$D$78=التجميع!$B$152,ROW('اسناد الأقسام'!$D$7:$D$78)-ROW('اسناد الأقسام'!$D$7)+1),ROW(11:11))),\"\")","v":""},{"$f":"IF(ROW(11:11)<=COUNTIF('اسناد الأقسام'!$D$7:$D$78,التجميع!$B$152),INDEX('اسناد الأقسام'!J$7:J$78,SMALL(IF('اسناد الأقسام'!$D$7:$D$78=التجميع!$B$152,ROW('اسناد الأقسام'!$D$7:$D$78)-ROW('اسناد الأقسام'!$D$7)+1),ROW(11:11))),\"\")","v":""},{"$f":"IF(ROW(11:11)<=COUNTIF('اسناد الأقسام'!$D$7:$D$78,التجميع!$B$152),INDEX('اسناد الأقسام'!K$7:K$78,SMALL(IF('اسناد الأقسام'!$D$7:$D$78=التجميع!$B$152,ROW('اسناد الأقسام'!$D$7:$D$78)-ROW('اسناد الأقسام'!$D$7)+1),ROW(11:11))),\"\")","v":""},{"$f":"IF(ROW(11:11)<=COUNTIF('اسناد الأقسام'!$D$7:$D$78,التجميع!$B$152),INDEX('اسناد الأقسام'!L$7:L$78,SMALL(IF('اسناد الأقسام'!$D$7:$D$78=التجميع!$B$152,ROW('اسناد الأقسام'!$D$7:$D$78)-ROW('اسناد الأقسام'!$D$7)+1),ROW(11:11))),\"\")","v":""},{"$f":"IF(ROW(11:11)<=COUNTIF('اسناد الأقسام'!$D$7:$D$78,التجميع!$B$152),INDEX('اسناد الأقسام'!M$7:M$78,SMALL(IF('اسناد الأقسام'!$D$7:$D$78=التجميع!$B$152,ROW('اسناد الأقسام'!$D$7:$D$78)-ROW('اسناد الأقسام'!$D$7)+1),ROW(11:11))),\"\")","v":""},{"$f":"IF(ROW(11:11)<=COUNTIF('اسناد الأقسام'!$D$7:$D$78,التجميع!$B$152),INDEX('اسناد الأقسام'!N$7:N$78,SMALL(IF('اسناد الأقسام'!$D$7:$D$78=التجميع!$B$152,ROW('اسناد الأقسام'!$D$7:$D$78)-ROW('اسناد الأقسام'!$D$7)+1),ROW(11:11))),\"\")","v":""},{"$f":"IF(ROW(11:11)<=COUNTIF('اسناد الأقسام'!$D$7:$D$78,التجميع!$B$152),INDEX('اسناد الأقسام'!O$7:O$78,SMALL(IF('اسناد الأقسام'!$D$7:$D$78=التجميع!$B$152,ROW('اسناد الأقسام'!$D$7:$D$78)-ROW('اسناد الأقسام'!$D$7)+1),ROW(11:11))),\"\")","v":""},{"$f":"IF(ROW(11:11)<=COUNTIF('اسناد الأقسام'!$D$7:$D$78,التجميع!$B$152),INDEX('اسناد الأقسام'!P$7:P$78,SMALL(IF('اسناد الأقسام'!$D$7:$D$78=التجميع!$B$152,ROW('اسناد الأقسام'!$D$7:$D$78)-ROW('اسناد الأقسام'!$D$7)+1),ROW(11:11))),\"\")","v":""},{"$f":"IF(ROW(11:11)<=COUNTIF('اسناد الأقسام'!$D$7:$D$78,التجميع!$B$152),INDEX('اسناد الأقسام'!Q$7:Q$78,SMALL(IF('اسناد الأقسام'!$D$7:$D$78=التجميع!$B$152,ROW('اسناد الأقسام'!$D$7:$D$78)-ROW('اسناد الأقسام'!$D$7)+1),ROW(11:11))),\"\")","v":""},{"$f":"IF(ROW(11:11)<=COUNTIF('اسناد الأقسام'!$D$7:$D$78,التجميع!$B$152),INDEX('اسناد الأقسام'!R$7:R$78,SMALL(IF('اسناد الأقسام'!$D$7:$D$78=التجميع!$B$152,ROW('اسناد الأقسام'!$D$7:$D$78)-ROW('اسناد الأقسام'!$D$7)+1),ROW(11:11))),\"\")","v":""},{"$f":"IF(ROW(11:11)<=COUNTIF('اسناد الأقسام'!$D$7:$D$78,التجميع!$B$152),INDEX('اسناد الأقسام'!S$7:S$78,SMALL(IF('اسناد الأقسام'!$D$7:$D$78=التجميع!$B$152,ROW('اسناد الأقسام'!$D$7:$D$78)-ROW('اسناد الأقسام'!$D$7)+1),ROW(11:11))),\"\")","v":""},{"$f":"IF(ROW(11:11)<=COUNTIF('اسناد الأقسام'!$D$7:$D$78,التجميع!$B$152),INDEX('اسناد الأقسام'!T$7:T$78,SMALL(IF('اسناد الأقسام'!$D$7:$D$78=التجميع!$B$152,ROW('اسناد الأقسام'!$D$7:$D$78)-ROW('اسناد الأقسام'!$D$7)+1),ROW(11:11))),\"\")","v":""},{"$f":"IF(ROW(11:11)<=COUNTIF('اسناد الأقسام'!$D$7:$D$78,التجميع!$B$152),INDEX('اسناد الأقسام'!U$7:U$78,SMALL(IF('اسناد الأقسام'!$D$7:$D$78=التجميع!$B$152,ROW('اسناد الأقسام'!$D$7:$D$78)-ROW('اسناد الأقسام'!$D$7)+1),ROW(11:11))),\"\")","v":""},{"$f":"IF(ROW(11:11)<=COUNTIF('اسناد الأقسام'!$D$7:$D$78,التجميع!$B$152),INDEX('اسناد الأقسام'!V$7:V$78,SMALL(IF('اسناد الأقسام'!$D$7:$D$78=التجميع!$B$152,ROW('اسناد الأقسام'!$D$7:$D$78)-ROW('اسناد الأقسام'!$D$7)+1),ROW(11:11))),\"\")","v":""},{"$f":"IF(ROW(11:11)<=COUNTIF('اسناد الأقسام'!$D$7:$D$78,التجميع!$B$152),INDEX('اسناد الأقسام'!W$7:W$78,SMALL(IF('اسناد الأقسام'!$D$7:$D$78=التجميع!$B$152,ROW('اسناد الأقسام'!$D$7:$D$78)-ROW('اسناد الأقسام'!$D$7)+1),ROW(11:11))),\"\")","v":""},{"$f":"IF(ROW(11:11)<=COUNTIF('اسناد الأقسام'!$D$7:$D$78,التجميع!$B$152),INDEX('اسناد الأقسام'!X$7:X$78,SMALL(IF('اسناد الأقسام'!$D$7:$D$78=التجميع!$B$152,ROW('اسناد الأقسام'!$D$7:$D$78)-ROW('اسناد الأقسام'!$D$7)+1),ROW(11:11))),\"\")","v":""},{"$f":"IF(ROW(11:11)<=COUNTIF('اسناد الأقسام'!$D$7:$D$78,التجميع!$B$152),INDEX('اسناد الأقسام'!Y$7:Y$78,SMALL(IF('اسناد الأقسام'!$D$7:$D$78=التجميع!$B$152,ROW('اسناد الأقسام'!$D$7:$D$78)-ROW('اسناد الأقسام'!$D$7)+1),ROW(11:11))),\"\")","v":""},{"$f":"IF(ROW(11:11)<=COUNTIF('اسناد الأقسام'!$D$7:$D$78,التجميع!$B$152),INDEX('اسناد الأقسام'!Z$7:Z$78,SMALL(IF('اسناد الأقسام'!$D$7:$D$78=التجميع!$B$152,ROW('اسناد الأقسام'!$D$7:$D$78)-ROW('اسناد الأقسام'!$D$7)+1),ROW(11:11))),\"\")","v":""},{"$f":"IF(ROW(11:11)<=COUNTIF('اسناد الأقسام'!$D$7:$D$78,التجميع!$B$152),INDEX('اسناد الأقسام'!AA$7:AA$78,SMALL(IF('اسناد الأقسام'!$D$7:$D$78=التجميع!$B$152,ROW('اسناد الأقسام'!$D$7:$D$78)-ROW('اسناد الأقسام'!$D$7)+1),ROW(11:11))),\"\")","v":""},{"$f":"IF(ROW(11:11)<=COUNTIF('اسناد الأقسام'!$D$7:$D$78,التجميع!$B$152),INDEX('اسناد الأقسام'!AB$7:AB$78,SMALL(IF('اسناد الأقسام'!$D$7:$D$78=التجميع!$B$152,ROW('اسناد الأقسام'!$D$7:$D$78)-ROW('اسناد الأقسام'!$D$7)+1),ROW(11:11))),\"\")","v":""},{"$f":"IF(ROW(11:11)<=COUNTIF('اسناد الأقسام'!$D$7:$D$78,التجميع!$B$152),INDEX('اسناد الأقسام'!AC$7:AC$78,SMALL(IF('اسناد الأقسام'!$D$7:$D$78=التجميع!$B$152,ROW('اسناد الأقسام'!$D$7:$D$78)-ROW('اسناد الأقسام'!$D$7)+1),ROW(11:11))),\"\")","v":""}]
[12,{"$f":"IF(ROW(12:12)<=COUNTIF('اسناد الأقسام'!$D$7:$D$78,التجميع!$B$152),INDEX('اسناد الأقسام'!C$7:C$78,SMALL(IF('اسناد الأقسام'!$D$7:$D$78=التجميع!$B$152,ROW('اسناد الأقسام'!$D$7:$D$78)-ROW('اسناد الأقسام'!$D$7)+1),ROW(12:12))),\"\")","v":""},{"$f":"IF(ROW(12:12)<=COUNTIF('اسناد الأقسام'!$D$7:$D$78,التجميع!$B$152),INDEX('اسناد الأقسام'!D$7:D$78,SMALL(IF('اسناد الأقسام'!$D$7:$D$78=التجميع!$B$152,ROW('اسناد الأقسام'!$D$7:$D$78)-ROW('اسناد الأقسام'!$D$7)+1),ROW(12:12))),\"\")","v":""},{"$f":"IF(ROW(12:12)<=COUNTIF('اسناد الأقسام'!$D$7:$D$78,التجميع!$B$152),INDEX('اسناد الأقسام'!E$7:E$78,SMALL(IF('اسناد الأقسام'!$D$7:$D$78=التجميع!$B$152,ROW('اسناد الأقسام'!$D$7:$D$78)-ROW('اسناد الأقسام'!$D$7)+1),ROW(12:12))),\"\")","v":""},{"$f":"IF(ROW(12:12)<=COUNTIF('اسناد الأقسام'!$D$7:$D$78,التجميع!$B$152),INDEX('اسناد الأقسام'!F$7:F$78,SMALL(IF('اسناد الأقسام'!$D$7:$D$78=التجميع!$B$152,ROW('اسناد الأقسام'!$D$7:$D$78)-ROW('اسناد الأقسام'!$D$7)+1),ROW(12:12))),\"\")","v":""},{"$f":"IF(ROW(12:12)<=COUNTIF('اسناد الأقسام'!$D$7:$D$78,التجميع!$B$152),INDEX('اسناد الأقسام'!G$7:G$78,SMALL(IF('اسناد الأقسام'!$D$7:$D$78=التجميع!$B$152,ROW('اسناد الأقسام'!$D$7:$D$78)-ROW('اسناد الأقسام'!$D$7)+1),ROW(12:12))),\"\")","v":""},{"$f":"IF(ROW(12:12)<=COUNTIF('اسناد الأقسام'!$D$7:$D$78,التجميع!$B$152),INDEX('اسناد الأقسام'!H$7:H$78,SMALL(IF('اسناد الأقسام'!$D$7:$D$78=التجميع!$B$152,ROW('اسناد الأقسام'!$D$7:$D$78)-ROW('اسناد الأقسام'!$D$7)+1),ROW(12:12))),\"\")","v":""},{"$f":"IF(ROW(12:12)<=COUNTIF('اسناد الأقسام'!$D$7:$D$78,التجميع!$B$152),INDEX('اسناد الأقسام'!I$7:I$78,SMALL(IF('اسناد الأقسام'!$D$7:$D$78=التجميع!$B$152,ROW('اسناد الأقسام'!$D$7:$D$78)-ROW('اسناد الأقسام'!$D$7)+1),ROW(12:12))),\"\")","v":""},{"$f":"IF(ROW(12:12)<=COUNTIF('اسناد الأقسام'!$D$7:$D$78,التجميع!$B$152),INDEX('اسناد الأقسام'!J$7:J$78,SMALL(IF('اسناد الأقسام'!$D$7:$D$78=التجميع!$B$152,ROW('اسناد الأقسام'!$D$7:$D$78)-ROW('اسناد الأقسام'!$D$7)+1),ROW(12:12))),\"\")","v":""},{"$f":"IF(ROW(12:12)<=COUNTIF('اسناد الأقسام'!$D$7:$D$78,التجميع!$B$152),INDEX('اسناد الأقسام'!K$7:K$78,SMALL(IF('اسناد الأقسام'!$D$7:$D$78=التجميع!$B$152,ROW('اسناد الأقسام'!$D$7:$D$78)-ROW('اسناد الأقسام'!$D$7)+1),ROW(12:12))),\"\")","v":""},{"$f":"IF(ROW(12:12)<=COUNTIF('اسناد الأقسام'!$D$7:$D$78,التجميع!$B$152),INDEX('اسناد الأقسام'!L$7:L$78,SMALL(IF('اسناد الأقسام'!$D$7:$D$78=التجميع!$B$152,ROW('اسناد الأقسام'!$D$7:$D$78)-ROW('اسناد الأقسام'!$D$7)+1),ROW(12:12))),\"\")","v":""},{"$f":"IF(ROW(12:12)<=COUNTIF('اسناد الأقسام'!$D$7:$D$78,التجميع!$B$152),INDEX('اسناد الأقسام'!M$7:M$78,SMALL(IF('اسناد الأقسام'!$D$7:$D$78=التجميع!$B$152,ROW('اسناد الأقسام'!$D$7:$D$78)-ROW('اسناد الأقسام'!$D$7)+1),ROW(12:12))),\"\")","v":""},{"$f":"IF(ROW(12:12)<=COUNTIF('اسناد الأقسام'!$D$7:$D$78,التجميع!$B$152),INDEX('اسناد الأقسام'!N$7:N$78,SMALL(IF('اسناد الأقسام'!$D$7:$D$78=التجميع!$B$152,ROW('اسناد الأقسام'!$D$7:$D$78)-ROW('اسناد الأقسام'!$D$7)+1),ROW(12:12))),\"\")","v":""},{"$f":"IF(ROW(12:12)<=COUNTIF('اسناد الأقسام'!$D$7:$D$78,التجميع!$B$152),INDEX('اسناد الأقسام'!O$7:O$78,SMALL(IF('اسناد الأقسام'!$D$7:$D$78=التجميع!$B$152,ROW('اسناد الأقسام'!$D$7:$D$78)-ROW('اسناد الأقسام'!$D$7)+1),ROW(12:12))),\"\")","v":""},{"$f":"IF(ROW(12:12)<=COUNTIF('اسناد الأقسام'!$D$7:$D$78,التجميع!$B$152),INDEX('اسناد الأقسام'!P$7:P$78,SMALL(IF('اسناد الأقسام'!$D$7:$D$78=التجميع!$B$152,ROW('اسناد الأقسام'!$D$7:$D$78)-ROW('اسناد الأقسام'!$D$7)+1),ROW(12:12))),\"\")","v":""},{"$f":"IF(ROW(12:12)<=COUNTIF('اسناد الأقسام'!$D$7:$D$78,التجميع!$B$152),INDEX('اسناد الأقسام'!Q$7:Q$78,SMALL(IF('اسناد الأقسام'!$D$7:$D$78=التجميع!$B$152,ROW('اسناد الأقسام'!$D$7:$D$78)-ROW('اسناد الأقسام'!$D$7)+1),ROW(12:12))),\"\")","v":""},{"$f":"IF(ROW(12:12)<=COUNTIF('اسناد الأقسام'!$D$7:$D$78,التجميع!$B$152),INDEX('اسناد الأقسام'!R$7:R$78,SMALL(IF('اسناد الأقسام'!$D$7:$D$78=التجميع!$B$152,ROW('اسناد الأقسام'!$D$7:$D$78)-ROW('اسناد الأقسام'!$D$7)+1),ROW(12:12))),\"\")","v":""},{"$f":"IF(ROW(12:12)<=COUNTIF('اسناد الأقسام'!$D$7:$D$78,التجميع!$B$152),INDEX('اسناد الأقسام'!S$7:S$78,SMALL(IF('اسناد الأقسام'!$D$7:$D$78=التجميع!$B$152,ROW('اسناد الأقسام'!$D$7:$D$78)-ROW('اسناد الأقسام'!$D$7)+1),ROW(12:12))),\"\")","v":""},{"$f":"IF(ROW(12:12)<=COUNTIF('اسناد الأقسام'!$D$7:$D$78,التجميع!$B$152),INDEX('اسناد الأقسام'!T$7:T$78,SMALL(IF('اسناد الأقسام'!$D$7:$D$78=التجميع!$B$152,ROW('اسناد الأقسام'!$D$7:$D$78)-ROW('اسناد الأقسام'!$D$7)+1),ROW(12:12))),\"\")","v":""},{"$f":"IF(ROW(12:12)<=COUNTIF('اسناد الأقسام'!$D$7:$D$78,التجميع!$B$152),INDEX('اسناد الأقسام'!U$7:U$78,SMALL(IF('اسناد الأقسام'!$D$7:$D$78=التجميع!$B$152,ROW('اسناد الأقسام'!$D$7:$D$78)-ROW('اسناد الأقسام'!$D$7)+1),ROW(12:12))),\"\")","v":""},{"$f":"IF(ROW(12:12)<=COUNTIF('اسناد الأقسام'!$D$7:$D$78,التجميع!$B$152),INDEX('اسناد الأقسام'!V$7:V$78,SMALL(IF('اسناد الأقسام'!$D$7:$D$78=التجميع!$B$152,ROW('اسناد الأقسام'!$D$7:$D$78)-ROW('اسناد الأقسام'!$D$7)+1),ROW(12:12))),\"\")","v":""},{"$f":"IF(ROW(12:12)<=COUNTIF('اسناد الأقسام'!$D$7:$D$78,التجميع!$B$152),INDEX('اسناد الأقسام'!W$7:W$78,SMALL(IF('اسناد الأقسام'!$D$7:$D$78=التجميع!$B$152,ROW('اسناد الأقسام'!$D$7:$D$78)-ROW('اسناد الأقسام'!$D$7)+1),ROW(12:12))),\"\")","v":""},{"$f":"IF(ROW(12:12)<=COUNTIF('اسناد الأقسام'!$D$7:$D$78,التجميع!$B$152),INDEX('اسناد الأقسام'!X$7:X$78,SMALL(IF('اسناد الأقسام'!$D$7:$D$78=التجميع!$B$152,ROW('اسناد الأقسام'!$D$7:$D$78)-ROW('اسناد الأقسام'!$D$7)+1),ROW(12:12))),\"\")","v":""},{"$f":"IF(ROW(12:12)<=COUNTIF('اسناد الأقسام'!$D$7:$D$78,التجميع!$B$152),INDEX('اسناد الأقسام'!Y$7:Y$78,SMALL(IF('اسناد الأقسام'!$D$7:$D$78=التجميع!$B$152,ROW('اسناد الأقسام'!$D$7:$D$78)-ROW('اسناد الأقسام'!$D$7)+1),ROW(12:12))),\"\")","v":""},{"$f":"IF(ROW(12:12)<=COUNTIF('اسناد الأقسام'!$D$7:$D$78,التجميع!$B$152),INDEX('اسناد الأقسام'!Z$7:Z$78,SMALL(IF('اسناد الأقسام'!$D$7:$D$78=التجميع!$B$152,ROW('اسناد الأقسام'!$D$7:$D$78)-ROW('اسناد الأقسام'!$D$7)+1),ROW(12:12))),\"\")","v":""},{"$f":"IF(ROW(12:12)<=COUNTIF('اسناد الأقسام'!$D$7:$D$78,التجميع!$B$152),INDEX('اسناد الأقسام'!AA$7:AA$78,SMALL(IF('اسناد الأقسام'!$D$7:$D$78=التجميع!$B$152,ROW('اسناد الأقسام'!$D$7:$D$78)-ROW('اسناد الأقسام'!$D$7)+1),ROW(12:12))),\"\")","v":""},{"$f":"IF(ROW(12:12)<=COUNTIF('اسناد الأقسام'!$D$7:$D$78,التجميع!$B$152),INDEX('اسناد الأقسام'!AB$7:AB$78,SMALL(IF('اسناد الأقسام'!$D$7:$D$78=التجميع!$B$152,ROW('اسناد الأقسام'!$D$7:$D$78)-ROW('اسناد الأقسام'!$D$7)+1),ROW(12:12))),\"\")","v":""},{"$f":"IF(ROW(12:12)<=COUNTIF('اسناد الأقسام'!$D$7:$D$78,التجميع!$B$152),INDEX('اسناد الأقسام'!AC$7:AC$78,SMALL(IF('اسناد الأقسام'!$D$7:$D$78=التجميع!$B$152,ROW('اسناد الأقسام'!$D$7:$D$78)-ROW('اسناد الأقسام'!$D$7)+1),ROW(12:12))),\"\")","v":""}]

{"sheet":"خدمات رياضيات","index":17,"n_rows":94,"n_cols":22,"rows_kept":94,"cut":false,"hidden":false,"merged":[[66,0,71,0],[72,0,77,0],[78,0,83,0],[84,0,84,5],[0,11,0,12],[2,5,2,8],[2,11,2,14],[8,1,9,1],[5,4,12,4],[48,9,53,9],[54,0,59,0],[60,0,65,0],[45,0,47,0],[45,1,46,1],[45,3,47,3],[45,5,45,8],[54,2,59,2],[54,3,59,3],[54,4,59,4],[49,1,50,1],[0,0,0,2],[46,5,47,5],[46,13,47,13],[48,0,53,0],[0,14,0,19],[43,11,43,12],[43,14,43,19],[41,0,41,5],[31,0,35,0],[36,0,40,0],[3,13,4,13],[2,0,4,0],[2,1,3,1],[2,3,4,3],[26,0,30,0],[6,1,7,1],[5,0,12,0],[5,2,12,2],[5,3,12,3],[5,9,12,9],[5,8,12,8],[2,17,2,18],[2,19,4,19],[3,5,4,5],[13,0,18,0],[19,0,25,0],[5,11,12,11],[5,12,12,12],[5,13,12,13],[5,14,12,14],[5,15,12,15],[5,16,12,16],[5,17,12,17],[5,18,12,18],[5,19,12,19],[13,2,18,2],[13,3,18,3],[13,4,18,4],[13,8,18,8],[13,9,18,9],[13,11,18,11],[13,18,18,18],[13,19,18,19],[14,1,15,1],[16,1,17,1],[19,2,25,2],[19,3,25,3],[19,4,25,4],[19,8,25,8],[19,9,25,9],[19,11,25,11],[13,12,18,12],[13,13,18,13],[13,14,18,14],[13,15,18,15],[13,16,18,16],[13,17,18,17],[19,18,25,18],[19,19,25,19],[20,1,21,1],[22,1,23,1],[26,2,30,2],[26,3,30,3],[26,4,30,4],[26,8,30,8],[26,9,30,9],[26,11,30,11],[19,12,25,12],[19,13,25,13],[19,14,25,14],[19,15,25,15],[19,16,25,16],[19,17,25,17],[26,18,30,18],[26,19,30,19],[27,1,28,1],[29,1,30,1],[31,2,35,2],[31,3,35,3],[31,4,35,4],[31,8,35,8],[31,9,35,9],[26,12,30,12],[26,13,30,13],[26,14,30,14],[26,15,30,15],[26,16,30,16],[26,17,30,17],[31,18,35,18],[31,19,35,19],[32,1,33,1],[34,1,35,1],[36,2,40,2],[36,3,40,3],[36,4,40,4],[36,8,40,8],[31,12,35,12],[31,13,35,13],[31,14,35,14],[31,15,35,15],[31,16,35,16],[31,11,35,11],[36,12,40,12],[36,13,40,13],[36,14,40,14],[31,17,35,17],[36,15,40,15],[36,9,40,9],[36,11,40,11],[51,1,52,1],[36,18,40,18],[36,19,40,19],[37,1,38,1],[39,1,40,1],[48,2,53,2],[48,3,53,3],[45,11,45,14],[36,16,40,16],[36,17,40,17],[45,17,45,18],[45,19,47,19],[48,12,53,12],[48,13,53,13],[48,14,53,14],[48,15,53,15],[48,19,53,19],[54,16,59,16],[54,17,59,17],[54,18,59,18],[54,19,59,19],[48,4,53,4],[48,8,53,8],[48,11,53,11],[54,14,59,14],[54,15,59,15],[48,16,53,16],[55,1,56,1],[57,1,58,1],[54,9,59,9],[54,11,59,11],[54,12,59,12],[54,13,59,13],[54,8,59,8],[48,17,53,17],[48,18,53,18],[60,18,65,18],[60,19,65,19],[61,1,62,1],[63,1,64,1],[66,2,71,2],[66,3,71,3],[66,4,71,4],[66,8,71,8],[66,9,71,9],[66,11,71,11],[60,12,65,12],[60,13,65,13],[60,14,65,14],[60,15,65,15],[60,16,65,16],[60,17,65,17],[60,2,65,2],[60,3,65,3],[60,4,65,4],[60,8,65,8],[60,9,65,9],[60,11,65,11],[66,19,71,19],[67,1,68,1],[69,1,70,1],[72,2,77,2],[72,3,77,3],[72,4,77,4],[66,12,71,12],[66,13,71,13],[66,14,71,14],[66,15,71,15],[66,16,71,16],[66,17,71,17],[78,11,83,11],[72,12,77,12],[72,13,77,13],[72,14,77,14],[72,8,77,8],[72,9,77,9],[72,11,77,11],[78,14,83,14],[66,18,71,18],[4,23,9,23],[4,25,9,25],[93,0,93,5],[78,18,83,18],[78,19,83,19],[79,1,80,1],[81,1,82,1],[78,12,83,12],[78,13,83,13],[78,15,83,15],[78,16,83,16],[78,17,83,17],[72,18,77,18],[72,19,77,19],[72,15,77,15],[72,16,77,16],[72,17,77,17],[73,1,74,1],[75,1,76,1],[78,2,83,2],[78,3,83,3],[78,4,83,4],[78,8,83,8],[78,9,83,9]]}
["السنة الدراسية : 2023/2022",null,null,null,null,null,null,null,null,null,null,"المادة",null,null,"رياضيات"]
[]
["المناصب","اللقب والاســم   ","أقصى","الصفة","تـــــــاريـــخ","الخدمة المؤداة أسبوعيا",null,null,null,"أقصى",null,"تعديل الخدمة الواجبة  ( تخفيض )",null,null,null,"خدمة","أقصــــى","الفروق",null,"ملاحظات"]
[null,null,"درجــة",null,"التعييــن","الأقسام","عدد ","عدد  ","مجموع  ","خدمة",null,"عدد التلاميذ   ","صيانة  ","دعم","مجموع  ","صافية","خدمـة","ساعات","ساعات  "]
[null,"تاريخ  الميلاد","جامعية",null,"بالمؤسسة",null,"التلاميذ","الحصص","التوقيت","واجبة",null,"فوق 35","العتاد",null,"التخفيضات",null,"صافية","فائضة","إضافية"]
["1/3",{"$f":"IF(ROW(1:1)<=COUNTIF('اسناد الأقسام'!$D$7:$D$78,خدمات [1]رياضيات!$O$1),INDEX('اسناد الأقسام'!C$7:C$78,SMALL(IF('اسناد الأقسام'!$D$7:$D$78=خدمات [1]رياضيات!$O$1,ROW('اسناد الأقسام'!$D$7:$D$78)-ROW('اسناد الأقسام'!$D$7)+1),ROW(1:1))),\"\")","v":""},{"$f":"التجميع!F4","v":"ليسانس"},{"$f":"التجميع!E4","v":"مرسم"},{"$f":"التجميع!G4","v":"2011-11-21"},{"$f":"التجميع!H4","v":"3م1"},{"$f":"((IF(ISERROR(VLOOKUP(F6,التعداد!$C$10:$L$45,10,0)),\"\",VLOOKUP(F6,التعداد!$C$10:$L$45,10,0))))","v":31},6,{"$f":"SUM(H6:H13)","v":19},{"$f":"IF(B7=\"\",\"\",22)","v":22},null,null,null,1,{"$f":"SUM(L6:N13)","v":1},{"$f":"((IF(ISERROR(J6-O6),,(J6-O6))))","v":21},{"$f":"P6+L6","v":21},{"$f":"IF($I6-$Q6>=0,\"\",$Q6-$I6)","v":2},{"$f":"IF($I6-$Q6>0,$I6-$Q6,\"\")","v":""}]
[null,{"$f":"التجميع!B4","v":"سماعيني بن يوسف"},null,null,null,{"$f":"التجميع!I4","v":"3م2"},{"$f":"((IF(ISERROR(VLOOKUP(F7,التعداد!$C$10:$L$45,10,0)),\"\",VLOOKUP(F7,التعداد!$C$10:$L$45,10,0))))","v":32},6]
[null,null,null,null,null,{"$f":"التجميع!J4","v":"2م2"},{"$f":"((IF(ISERROR(VLOOKUP(F8,التعداد!$C$10:$L$45,10,0)),\"\",VLOOKUP(F8,التعداد!$C$10:$L$45,10,0))))","v":27},6,null,null,null,null,null,null,null,null,null,null,null,null,null,16]
[null,{"$f":"التجميع!D4","v":"1977-05-15"},null,null,null,{"$f":"التجميع!K4","v":0},{"$f":"((IF(ISERROR(VLOOKUP(F9,التعداد!$C$10:$L$45,10,0)),\"\",VLOOKUP(F9,التعداد!$C$10:$L$45,10,0))))","v":""},1,null,null,null,null,null,null,null,null,null,null,null,null,null,16]
[null,null,null,null,null,{"$f":"التجميع!L4","v":0},{"$f":"((IF(ISERROR(VLOOKUP(F10,التعداد!$C$10:$L$45,10,0)),\"\",VLOOKUP(F10,التعداد!$C$10:$L$45,10,0))))","v":""},null,null,null,null,null,null,null,null,null,null,null,null,null,null,16]
[null,null,null,null,null,{"$f":"التجميع!M4","v":0},{"$f":"((IF(ISERROR(VLOOKUP(F11,التعداد!$C$10:$L$45,10,0)),\"\",VLOOKUP(F11,التعداد!$C$10:$L$45,10,0))))","v":""},null,null,null,null,null,null,null,null,null,null,null,null,null,null,18]
[null,null,null,null,null,{"$f":"التجميع!N4","v":0},{"$f":"((IF(ISERROR(VLOOKUP(F12,التعداد!$C$10:$L$45,10,0)),\"\",VLOOKUP(F12,التعداد!$C$10:$L$45,10,0))))","v":""},null,null,null,null,null,null,null,null,null,null,null,null,null,null,18]
[null,null,null,null,null,{"$f":"التجميع!O4","v":0},{"$f":"((IF(ISERROR(VLOOKUP(F13,التعداد!$C$10:$L$45,10,0)),\"\",VLOOKUP(F13,التعداد!$C$10:$L$45,10,0))))","v":""},null,null,null,null,null,null,null,null,null,null,null,null,null,null,7]
["2/3",null,{"$f":"التجميع!F5","v":"ليسانس"},{"$f":"التجميع!E5","v":"مرسمة"},{"$f":"التجميع!G5","v":"2007-09-05"},{"$f":"التجميع!H5","v":"4م1"},{"$f":"((IF(ISERROR(VLOOKUP(F14,التعداد!$C$10:$L$45,10,0)),\"\",VLOOKUP(F14,التعداد!$C$10:$L$45,10,0))))","v":26},5,{"$f":"SUM(H14:H19)","v":16},{"$f":"IF(B15=\"\",\"\",22)","v":22},null,null,null,1,{"$f":"SUM(L14:N19)","v":1},{"$f":"((IF(ISERROR(J14-O14),,(J14-O14))))","v":21},{"$f":"P14+L14","v":21},{"$f":"IF($I14-$Q14>=0,\"\",$Q14-$I14)","v":5},{"$f":"IF($I14-$Q14>0,$I14-$Q14,\"\")","v":""}]
[null,{"$f":"التجميع!B5","v":"حساني عبد القادر "},null,null,null,{"$f":"التجميع!I5","v":"4م2"},{"$f":"((IF(ISERROR(VLOOKUP(F15,التعداد!$C$10:$L$45,10,0)),\"\",VLOOKUP(F15,التعداد!$C$10:$L$45,10,0))))","v":28},5]
[null,null,null,null,null,{"$f":"التجميع!J5","v":"2م1 "},{"$f":"((IF(ISERROR(VLOOKUP(F16,التعداد!$C$10:$L$45,10,0)),\"\",VLOOKUP(F16,التعداد!$C$10:$L$45,10,0))))","v":""},5]
[null,{"$f":"التجميع!D5","v":"1988-01-20"},null,null,null,{"$f":"التجميع!K5","v":0},{"$f":"((IF(ISERROR(VLOOKUP(F17,التعداد!$C$10:$L$45,10,0)),\"\",VLOOKUP(F17,التعداد!$C$10:$L$45,10,0))))","v":""},1]
[null,null,null,null,null,{"$f":"التجميع!L5","v":0},{"$f":"((IF(ISERROR(VLOOKUP(F18,التعداد!$C$10:$L$45,10,0)),\"\",VLOOKUP(F18,التعداد!$C$10:$L$45,10,0))))","v":""}]
[null,null,null,null,null,{"$f":"التجميع!M5","v":0},{"$f":"((IF(ISERROR(VLOOKUP(F19,التعداد!$C$10:$L$45,10,0)),\"\",VLOOKUP(F19,التعداد!$C$10:$L$45,10,0))))","v":""}]
["3/3",null,{"$f":"التجميع!F6","v":"ليسانس"},{"$f":"التجميع!E6","v":"متعاقدة"},{"$f":"التجميع!G6","v":"2013-10-30"},{"$f":"التجميع!H6","v":"1م1"},{"$f":"((IF(ISERROR(VLOOKUP(F20,التعداد!$C$10:$L$45,10,0)),\"\",VLOOKUP(F20,التعداد!$C$10:$L$45,10,0))))","v":31},5,{"$f":"SUM(H20:H26)","v":16},{"$f":"IF(B21=\"\",\"\",22)","v":22},null,null,null,1,{"$f":"SUM(L20:N26)","v":1},{"$f":"((IF(ISERROR(J20-O20),,(J20-O20))))","v":21},{"$f":"P20+L20","v":21},{"$f":"IF($I20-$Q20>=0,\"\",$Q20-$I20)","v":5},{"$f":"IF($I20-$Q20>0,$I20-$Q20,\"\")","v":""}]
[null,{"$f":"التجميع!B6","v":"حساني فاطمة "},null,null,null,{"$f":"التجميع!I6","v":"1م2"},{"$f":"((IF(ISERROR(VLOOKUP(F21,التعداد!$C$10:$L$45,10,0)),\"\",VLOOKUP(F21,التعداد!$C$10:$L$45,10,0))))","v":31},5]
[null,null,null,null,null,{"$f":"التجميع!J6","v":"1م3"},{"$f":"((IF(ISERROR(VLOOKUP(F22,التعداد!$C$10:$L$45,10,0)),\"\",VLOOKUP(F22,التعداد!$C$10:$L$45,10,0))))","v":32},5]
[null,{"$f":"التجميع!D6","v":"00:00:00"},null,null,null,{"$f":"التجميع!K6","v":"2م3"},{"$f":"((IF(ISERROR(VLOOKUP(F23,التعداد!$C$10:$L$45,10,0)),\"\",VLOOKUP(F23,التعداد!$C$10:$L$45,10,0))))","v":26},1]
[null,null,null,null,null,null,{"$f":"((IF(ISERROR(VLOOKUP(F24,التعداد!$C$10:$L$45,10,0)),\"\",VLOOKUP(F24,التعداد!$C$10:$L$45,10,0))))","v":""}]
[]
[null,null,null,null,null,{"$f":"التجميع!M6","v":0},{"$f":"((IF(ISERROR(VLOOKUP(F26,التعداد!$C$10:$L$45,10,0)),\"\",VLOOKUP(F26,التعداد!$C$10:$L$45,10,0))))","v":""}]
[null,null,{"$f":"التجميع!F7","v":""},{"$f":"التجميع!E7","v":""},{"$f":"التجميع!G7","v":""},{"$f":"التجميع!H7","v":""},{"$f":"((IF(ISERROR(VLOOKUP(F27,التعداد!$C$10:$L$45,10,0)),\"\",VLOOKUP(F27,التعداد!$C$10:$L$45,10,0))))","v":""},null,{"$f":"SUM(H27:H31)","v":0},{"$f":"IF(B28=\"\",\"\",22)","v":""},null,null,null,null,null,{"$f":"((IF(ISERROR(J27-O27),,(J27-O27))))","v":0},{"$f":"P27+L27","v":0},{"$f":"IF($I27-$Q27>=0,\"\",$Q27-$I27)","v":""},{"$f":"IF($I27-$Q27>0,$I27-$Q27,\"\")","v":""}]
[null,{"$f":"التجميع!B7","v":""},null,null,null,{"$f":"التجميع!I7","v":""},{"$f":"((IF(ISERROR(VLOOKUP(F28,التعداد!$C$10:$L$45,10,0)),\"\",VLOOKUP(F28,التعداد!$C$10:$L$45,10,0))))","v":""}]
[null,null,null,null,null,{"$f":"التجميع!J7","v":""},{"$f":"((IF(ISERROR(VLOOKUP(F29,التعداد!$C$10:$L$45,10,0)),\"\",VLOOKUP(F29,التعداد!$C$10:$L$45,10,0))))","v":""}]
[null,{"$f":"التجميع!D7","v":""},null,null,null,null,{"$f":"((IF(ISERROR(VLOOKUP(F30,التعداد!$C$10:$L$45,10,0)),\"\",VLOOKUP(F30,التعداد!$C$10:$L$45,10,0))))","v":""}]
[null,null,null,null,null,{"$f":"التجميع!L7","v":""},{"$f":"((IF(ISERROR(VLOOKUP(F31,التعداد!$C$10:$L$45,10,0)),\"\",VLOOKUP(F31,التعداد!$C$10:$L$45,10,0))))","v":""}]
[null,null,{"$f":"التجميع!F8","v":""},{"$f":"التجميع!E8","v":""},{"$f":"التجميع!G8","v":""},{"$f":"التجميع!H8","v":""},{"$f":"((IF(ISERROR(VLOOKUP(F32,التعداد!$C$10:$L$45,10,0)),\"\",VLOOKUP(F32,التعداد!$C$10:$L$45,10,0))))","v":""},null,{"$f":"SUM(H32:H36)","v":0},{"$f":"IF(B33=\"\",\"\",22)","v":""},null,null,null,null,null,{"$f":"((IF(ISERROR(J32-O32),,(J32-O32))))","v":0},{"$f":"P32+L32","v":0},{"$f":"IF($I32-$Q32>=0,\"\",$Q32-$I32)","v":""},{"$f":"IF($I32-$Q32>0,$I32-$Q32,\"\")","v":""}]
[null,{"$f":"التجميع!B8","v":""},null,null,null,{"$f":"التجميع!I8","v":""},{"$f":"((IF(ISERROR(VLOOKUP(F33,التعداد!$C$10:$L$45,10,0)),\"\",VLOOKUP(F33,التعداد!$C$10:$L$45,10,0))))","v":""}]
[null,null,null,null,null,{"$f":"التجميع!J8","v":""},{"$f":"((IF(ISERROR(VLOOKUP(F34,التعداد!$C$10:$L$45,10,0)),\"\",VLOOKUP(F34,التعداد!$C$10:$L$45,10,0))))","v":""}]
[null,{"$f":"التجميع!D8","v":""},null,null,null,null,{"$f":"((IF(ISERROR(VLOOKUP(F35,التعداد!$C$10:$L$45,10,0)),\"\",VLOOKUP(F35,التعداد!$C$10:$L$45,10,0))))","v":""}]
[null,null,null,null,null,null,{"$f":"((IF(ISERROR(VLOOKUP(F36,التعداد!$C$10:$L$45,10,0)),\"\",VLOOKUP(F36,التعداد!$C$10:$L$45,10,0))))","v":""}]
[null,null,{"$f":"التجميع!F9","v":""},{"$f":"التجميع!E9","v":""},{"$f":"التجميع!G9","v":""},{"$f":"التجميع!H9","v":""},{"$f":"((IF(ISERROR(VLOOKUP(F37,التعداد!$C$10:$L$45,10,0)),\"\",VLOOKUP(F37,التعداد!$C$10:$L$45,10,0))))","v":""},null,{"$f":"SUM(H37:H41)","v":0},{"$f":"IF(B38=\"\",\"\",22)","v":""},null,null,null,null,null,{"$f":"((IF(ISERROR(J37-O37),,(J37-O37))))","v":0},{"$f":"P37+L37","v":0},{"$f":"IF($I37-$Q37>=0,\"\",$Q37-$I37)","v":""},{"$f":"IF($I37-$Q37>0,$I37-$Q37,\"\")","v":""}]
[null,{"$f":"التجميع!B9","v":""},null,null,null,{"$f":"التجميع!I9","v":""},{"$f":"((IF(ISERROR(VLOOKUP(F38,التعداد!$C$10:$L$45,10,0)),\"\",VLOOKUP(F38,التعداد!$C$10:$L$45,10,0))))","v":""}]
[null,null,null,null,null,{"$f":"التجميع!J9","v":""},{"$f":"((IF(ISERROR(VLOOKUP(F39,التعداد!$C$10:$L$45,10,0)),\"\",VLOOKUP(F39,التعداد!$C$10:$L$45,10,0))))","v":""}]
[null,{"$f":"التجميع!D9","v":""},null,null,null,null,{"$f":"((IF(ISERROR(VLOOKUP(F40,التعداد!$C$10:$L$45,10,0)),\"\",VLOOKUP(F40,التعداد!$C$10:$L$45,10,0))))","v":""}]
[null,null,null,null,null,{"$f":"التجميع!L9","v":""},{"$f":"((IF(ISERROR(VLOOKUP(F41,التعداد!$C$10:$L$45,10,0)),\"\",VLOOKUP(F41,التعداد!$C$10:$L$45,10,0))))","v":""}]
["المجموع",null,null,null,null,null,{"$f":"التعداد!Q14","v":292},{"$f":"SUM(H6:H41)","v":51},{"$f":"SUM(I6:I41)","v":51},{"$f":"SUM(J6:J41)","v":66},null,{"$f":"SUM(L6:L41)","v":0},0,3,3,63,63,12,0]
[]
[null,null,null,null,null,null,null,null,null,null,null,"المادة",null,null,"رياضيات"]
[]
["المناصب","اللقب والاســم   ","أقصى","الصفة","تـــــــاريـــخ","الخدمة المؤداة أسبوعيا",null,null,null,"أقصى",null,"تعديل الخدمة الواجبة  ( تخفيض )",null,null,null,"خدمة","أقصــــى","الفروق",null,"ملاحظات"]
[null,null,"درجــة",null,"التعييــن","الأقسام","عدد ","عدد  ","مجموع  ","خدمة",null,"عدد التلاميذ   ","صيانة  ","التنسيق","مجموع  ","صافية","خدمـة","ساعات","ساعات  "]
[null,"تاريخ  الميلاد","جامعية",null,"بالمؤسسة",null,"التلاميذ","الحصص","التوقيت","واجبة",null,"فوق 35","العتاد",null,"التخفيضات",null,"صافية","فائضة","إضافية"]
[7,null,{"$f":"التجميع!F10","v":""},{"$f":"التجميع!E10","v":""},{"$f":"التجميع!G10","v":""},{"$f":"التجميع!H10","v":""},{"$f":"((IF(ISERROR(VLOOKUP(F49,التعداد!$C$10:$L$45,10,0)),\"\",VLOOKUP(F49,التعداد!$C$10:$L$45,10,0))))","v":""},null,{"$f":"SUM(H49:H54)","v":0},{"$f":"IF(B50=\"\",\"\",22)","v":""},null,null,null,{"$f":"IF(B50=\"\",\"\",1)","v":""},{"$f":"SUM(L49:N54)","v":0},{"$f":"((IF(ISERROR(J49-O49),,(J49-O49))))","v":0},{"$f":"P49+L49","v":0},{"$f":"IF($I49-$Q49>=0,\"\",$Q49-$I49)","v":""},{"$f":"IF($I49-$Q49>0,$I49-$Q49,\"\")","v":""}]
[null,{"$f":"التجميع!B10","v":""},null,null,null,{"$f":"التجميع!I10","v":""},{"$f":"((IF(ISERROR(VLOOKUP(F50,التعداد!$C$10:$L$45,10,0)),\"\",VLOOKUP(F50,التعداد!$C$10:$L$45,10,0))))","v":""}]
[null,null,null,null,null,{"$f":"التجميع!J10","v":""},{"$f":"((IF(ISERROR(VLOOKUP(F51,التعداد!$C$10:$L$45,10,0)),\"\",VLOOKUP(F51,التعداد!$C$10:$L$45,10,0))))","v":""}]
[null,{"$f":"التجميع!D10","v":""},null,null,null,{"$f":"التجميع!K10","v":""},{"$f":"((IF(ISERROR(VLOOKUP(F52,التعداد!$C$10:$L$45,10,0)),\"\",VLOOKUP(F52,التعداد!$C$10:$L$45,10,0))))","v":""}]
[null,null,null,null,null,{"$f":"التجميع!L10","v":""},{"$f":"((IF(ISERROR(VLOOKUP(F53,التعداد!$C$10:$L$45,10,0)),\"\",VLOOKUP(F53,التعداد!$C$10:$L$45,10,0))))","v":""}]
[null,null,null,null,null,{"$f":"التجميع!M10","v":""},{"$f":"((IF(ISERROR(VLOOKUP(F54,التعداد!$C$10:$L$45,10,0)),\"\",VLOOKUP(F54,التعداد!$C$10:$L$45,10,0))))","v":""}]
[8,null,{"$f":"التجميع!F11","v":""},{"$f":"التجميع!E11","v":""},{"$f":"التجميع!G11","v":""},{"$f":"التجميع!H11","v":""},{"$f":"((IF(ISERROR(VLOOKUP(F55,التعداد!$C$10:$L$45,10,0)),\"\",VLOOKUP(F55,التعداد!$C$10:$L$45,10,0))))","v":""},null,{"$f":"SUM(H55:H60)","v":0},{"$f":"IF(B56=\"\",\"\",22)","v":""},null,null,null,{"$f":"IF(B56=\"\",\"\",1)","v":""},{"$f":"SUM(L55:N60)","v":0},{"$f":"((IF(ISERROR(J55-O55),,(J55-O55))))","v":0},{"$f":"P55+L55","v":0},{"$f":"IF($I55-$Q55>=0,\"\",$Q55-$I55)","v":""},{"$f":"IF($I55-$Q55>0,$I55-$Q55,\"\")","v":""}]
[null,{"$f":"التجميع!B11","v":""},null,null,null,{"$f":"التجميع!I11","v":""},{"$f":"((IF(ISERROR(VLOOKUP(F56,التعداد!$C$10:$L$45,10,0)),\"\",VLOOKUP(F56,التعداد!$C$10:$L$45,10,0))))","v":""}]
[null,null,null,null,null,{"$f":"التجميع!J11","v":""},{"$f":"((IF(ISERROR(VLOOKUP(F57,التعداد!$C$10:$L$45,10,0)),\"\",VLOOKUP(F57,التعداد!$C$10:$L$45,10,0))))","v":""}]
[null,{"$f":"التجميع!D11","v":""},null,null,null,{"$f":"التجميع!K11","v":""},{"$f":"((IF(ISERROR(VLOOKUP(F58,التعداد!$C$10:$L$45,10,0)),\"\",VLOOKUP(F58,التعداد!$C$10:$L$45,10,0))))","v":""}]
[null,null,null,null,null,{"$f":"التجميع!L11","v":""},{"$f":"((IF(ISERROR(VLOOKUP(F59,التعداد!$C$10:$L$45,10,0)),\"\",VLOOKUP(F59,التعداد!$C$10:$L$45,10,0))))","v":""}]
[null,null,null,null,null,{"$f":"التجميع!M11","v":""},{"$f":"((IF(ISERROR(VLOOKUP(F60,التعداد!$C$10:$L$45,10,0)),\"\",VLOOKUP(F60,التعداد!$C$10:$L$45,10,0))))","v":""}]
[9,null,{"$f":"التجميع!F12","v":""},{"$f":"التجميع!E12","v":""},{"$f":"التجميع!G12","v":""},{"$f":"التجميع!H12","v":""},{"$f":"((IF(ISERROR(VLOOKUP(F61,التعداد!$C$10:$L$45,10,0)),\"\",VLOOKUP(F61,التعداد!$C$10:$L$45,10,0))))","v":""},null,{"$f":"SUM(H61:H66)","v":0},{"$f":"IF(B62=\"\",\"\",22)","v":""},null,null,null,{"$f":"IF(B62=\"\",\"\",1)","v":""},{"$f":"SUM(L61:N66)","v":0},{"$f":"((IF(ISERROR(J61-O61),,(J61-O61))))","v":0},{"$f":"P61+L61","v":0},{"$f":"IF($I61-$Q61>=0,\"\",$Q61-$I61)","v":""},{"$f":"IF($I61-$Q61>0,$I61-$Q61,\"\")","v":""}]
[null,{"$f":"التجميع!B12","v":""},null,null,null,{"$f":"التجميع!I12","v":""},{"$f":"((IF(ISERROR(VLOOKUP(F62,التعداد!$C$10:$L$45,10,0)),\"\",VLOOKUP(F62,التعداد!$C$10:$L$45,10,0))))","v":""}]
[null,null,null,null,null,{"$f":"التجميع!J12","v":""},{"$f":"((IF(ISERROR(VLOOKUP(F63,التعداد!$C$10:$L$45,10,0)),\"\",VLOOKUP(F63,التعداد!$C$10:$L$45,10,0))))","v":""}]
[null,{"$f":"التجميع!D12","v":""},null,null,null,{"$f":"التجميع!K12","v":""},{"$f":"((IF(ISERROR(VLOOKUP(F64,التعداد!$C$10:$L$45,10,0)),\"\",VLOOKUP(F64,التعداد!$C$10:$L$45,10,0))))","v":""}]
[null,null,null,null,null,{"$f":"التجميع!L12","v":""},{"$f":"((IF(ISERROR(VLOOKUP(F65,التعداد!$C$10:$L$45,10,0)),\"\",VLOOKUP(F65,التعداد!$C$10:$L$45,10,0))))","v":""}]
[null,null,null,null,null,{"$f":"التجميع!M12","v":""},{"$f":"((IF(ISERROR(VLOOKUP(F66,التعداد!$C$10:$L$45,10,0)),\"\",VLOOKUP(F66,التعداد!$C$10:$L$45,10,0))))","v":""}]
[10,null,{"$f":"التجميع!F13","v":""},{"$f":"التجميع!E13","v":""},{"$f":"التجميع!G13","v":""},{"$f":"التجميع!H13","v":""},{"$f":"((IF(ISERROR(VLOOKUP(F67,التعداد!$C$10:$L$45,10,0)),\"\",VLOOKUP(F67,التعداد!$C$10:$L$45,10,0))))","v":""},null,{"$f":"SUM(H67:H72)","v":0},{"$f":"IF(B68=\"\",\"\",22)","v":""},null,null,null,{"$f":"IF(B68=\"\",\"\",1)","v":""},{"$f":"SUM(L67:N72)","v":0},{"$f":"((IF(ISERROR(J67-O67),,(J67-O67))))","v":0},{"$f":"P67+L67","v":0},{"$f":"IF($I67-$Q67>=0,\"\",$Q67-$I67)","v":""},{"$f":"IF($I67-$Q67>0,$I67-$Q67,\"\")","v":""}]
[null,{"$f":"التجميع!B13","v":""},null,null,null,{"$f":"التجميع!I13","v":""},{"$f":"((IF(ISERROR(VLOOKUP(F68,التعداد!$C$10:$L$45,10,0)),\"\",VLOOKUP(F68,التعداد!$C$10:$L$45,10,0))))","v":""}]
[null,null,null,null,null,{"$f":"التجميع!J13","v":""},{"$f":"((IF(ISERROR(VLOOKUP(F69,التعداد!$C$10:$L$45,10,0)),\"\",VLOOKUP(F69,التعداد!$C$10:$L$45,10,0))))","v":""}]
[null,{"$f":"التجميع!D13","v":""},null,null,null,{"$f":"التجميع!K13","v":""},{"$f":"((IF(ISERROR(VLOOKUP(F70,التعداد!$C$10:$L$45,10,0)),\"\",VLOOKUP(F70,التعداد!$C$10:$L$45,10,0))))","v":""}]
[null,null,null,null,null,{"$f":"التجميع!L13","v":""},{"$f":"((IF(ISERROR(VLOOKUP(F71,التعداد!$C$10:$L$45,10,0)),\"\",VLOOKUP(F71,التعداد!$C$10:$L$45,10,0))))","v":""}]
[null,null,null,null,null,{"$f":"التجميع!M13","v":""},{"$f":"((IF(ISERROR(VLOOKUP(F72,التعداد!$C$10:$L$45,10,0)),\"\",VLOOKUP(F72,التعداد!$C$10:$L$45,10,0))))","v":""}]
[11,null,{"$f":"التجميع!F14","v":""},{"$f":"التجميع!E14","v":""},{"$f":"التجميع!G14","v":""},{"$f":"التجميع!H14","v":""},{"$f":"((IF(ISERROR(VLOOKUP(F73,التعداد!$C$10:$L$45,10,0)),\"\",VLOOKUP(F73,التعداد!$C$10:$L$45,10,0))))","v":""},null,{"$f":"SUM(H73:H78)","v":0},{"$f":"IF(B74=\"\",\"\",22)","v":""},null,null,null,{"$f":"IF(B74=\"\",\"\",1)","v":""},{"$f":"SUM(L73:N78)","v":0},{"$f":"((IF(ISERROR(J73-O73),,(J73-O73))))","v":0},{"$f":"P73+L73","v":0},{"$f":"IF($I73-$Q73>=0,\"\",$Q73-$I73)","v":""},{"$f":"IF($I73-$Q73>0,$I73-$Q73,\"\")","v":""}]
[null,{"$f":"التجميع!B14","v":""},null,null,null,{"$f":"التجميع!I14","v":""},{"$f":"((IF(ISERROR(VLOOKUP(F74,التعداد!$C$10:$L$45,10,0)),\"\",VLOOKUP(F74,التعداد!$C$10:$L$45,10,0))))","v":""}]
[null,null,null,null,null,{"$f":"التجميع!J14","v":""},{"$f":"((IF(ISERROR(VLOOKUP(F75,التعداد!$C$10:$L$45,10,0)),\"\",VLOOKUP(F75,التعداد!$C$10:$L$45,10,0))))","v":""}]
[null,{"$f":"التجميع!D14","v":""},null,null,null,{"$f":"التجميع!K14","v":""},{"$f":"((IF(ISERROR(VLOOKUP(F76,التعداد!$C$10:$L$45,10,0)),\"\",VLOOKUP(F76,التعداد!$C$10:$L$45,10,0))))","v":""}]
[null,null,null,null,null,{"$f":"التجميع!L14","v":""},{"$f":"((IF(ISERROR(VLOOKUP(F77,التعداد!$C$10:$L$45,10,0)),\"\",VLOOKUP(F77,التعداد!$C$10:$L$45,10,0))))","v":""}]
[null,null,null,null,null,{"$f":"التجميع!M14","v":""},{"$f":"((IF(ISERROR(VLOOKUP(F78,التعداد!$C$10:$L$45,10,0)),\"\",VLOOKUP(F78,التعداد!$C$10:$L$45,10,0))))","v":""}]
[12,null,{"$f":"التجميع!F15","v":""},{"$f":"التجميع!E15","v":""},{"$f":"التجميع!G15","v":""},{"$f":"التجميع!H15","v":""},{"$f":"((IF(ISERROR(VLOOKUP(F79,التعداد!$C$10:$L$45,10,0)),\"\",VLOOKUP(F79,التعداد!$C$10:$L$45,10,0))))","v":""},null,{"$f":"SUM(H79:H84)","v":0},{"$f":"IF(B80=\"\",\"\",22)","v":""},null,null,null,{"$f":"IF(B80=\"\",\"\",1)","v":""},{"$f":"SUM(L79:N84)","v":0},{"$f":"((IF(ISERROR(J79-O79),,(J79-O79))))","v":0},{"$f":"P79+L79","v":0},{"$f":"IF($I79-$Q79>=0,\"\",$Q79-$I79)","v":""},{"$f":"IF($I79-$Q79>0,$I79-$Q79,\"\")","v":""}]
[null,{"$f":"التجميع!B15","v":""},null,null,null,{"$f":"التجميع!I15","v":""},{"$f":"((IF(ISERROR(VLOOKUP(F80,التعداد!$C$10:$L$45,10,0)),\"\",VLOOKUP(F80,التعداد!$C$10:$L$45,10,0))))","v":""}]
[null,null,null,null,null,{"$f":"التجميع!J15","v":""},{"$f":"((IF(ISERROR(VLOOKUP(F81,التعداد!$C$10:$L$45,10,0)),\"\",VLOOKUP(F81,التعداد!$C$10:$L$45,10,0))))","v":""}]
[null,{"$f":"التجميع!D15","v":""},null,null,null,{"$f":"التجميع!K15","v":""},{"$f":"((IF(ISERROR(VLOOKUP(F82,التعداد!$C$10:$L$45,10,0)),\"\",VLOOKUP(F82,التعداد!$C$10:$L$45,10,0))))","v":""}]
[null,null,null,null,null,{"$f":"التجميع!L15","v":""},{"$f":"((IF(ISERROR(VLOOKUP(F83,التعداد!$C$10:$L$45,10,0)),\"\",VLOOKUP(F83,التعداد!$C$10:$L$45,10,0))))","v":""}]
[null,null,null,null,null,{"$f":"التجميع!M15","v":""},{"$f":"((IF(ISERROR(VLOOKUP(F84,التعداد!$C$10:$L$45,10,0)),\"\",VLOOKUP(F84,التعداد!$C$10:$L$45,10,0))))","v":""}]
["المجموع",null,null,null,null,null,{"$f":"SUM(G49:G84)","v":0},{"$f":"SUM(H49:H84)","v":0},{"$f":"SUM(I49:I84)","v":0},{"$f":"SUM(J49:J84)","v":0},null,{"$f":"SUM(L49:L84)","v":0},0,0,0,0,0,0,0]
[]
[]
[]
[]
[]
[]
[]
[]
["المجموع العام",null,null,null,null,null,{"$f":"G42+G85","v":292},{"$f":"H42+H85","v":51},{"$f":"I42+I85","v":51},{"$f":"J42+J85","v":66},null,{"$f":"L42+L85","v":0},0,3,3,63,63,12,0]

{"sheet":"خدمات عربية","index":18,"n_rows":67,"n_cols":23,"rows_kept":67,"cut":false,"hidden":false,"merged":[[0,0,0,3],[4,14,8,14],[4,15,8,15],[4,16,8,16],[4,17,8,17],[4,18,8,18],[4,11,8,11],[5,1,6,1],[7,1,8,1],[4,4,8,4],[4,19,8,19],[53,17,58,17],[53,11,58,11],[53,18,58,18],[53,19,58,19],[54,1,55,1],[56,1,57,1],[53,12,58,12],[53,13,58,13],[53,14,58,14],[53,16,58,16],[47,17,52,17],[47,18,52,18],[47,19,52,19],[48,1,49,1],[50,1,51,1],[53,2,58,2],[53,3,58,3],[53,4,58,4],[53,8,58,8],[53,9,58,9],[47,11,52,11],[47,12,52,12],[47,13,52,13],[47,14,52,14],[47,8,52,8],[47,9,52,9],[53,15,58,15],[41,19,46,19],[42,1,43,1],[44,1,45,1],[47,2,52,2],[47,3,52,3],[47,4,52,4],[41,13,46,13],[41,14,46,14],[41,15,46,15],[35,11,40,11],[41,16,46,16],[47,16,52,16],[47,15,52,15],[35,18,40,18],[35,13,40,13],[35,14,40,14],[35,15,40,15],[35,16,40,16],[41,17,46,17],[41,18,46,18],[23,14,28,14],[23,18,28,18],[23,19,28,19],[23,15,28,15],[23,16,28,16],[23,17,28,17],[41,12,46,12],[30,1,31,1],[32,1,33,1],[35,2,40,2],[35,3,40,3],[35,8,40,8],[35,9,40,9],[36,1,37,1],[38,1,39,1],[35,19,40,19],[35,17,40,17],[35,12,40,12],[41,2,46,2],[41,3,46,3],[41,4,46,4],[41,8,46,8],[41,9,46,9],[41,11,46,11],[9,17,15,17],[9,11,15,11],[9,10,15,10],[53,0,58,0],[59,0,59,5],[35,0,40,0],[35,4,40,4],[1,19,3,19],[9,15,15,15],[9,14,15,14],[9,18,15,18],[29,0,29,4],[4,13,8,13],[4,3,8,3],[4,8,8,8],[4,9,8,9],[4,10,8,10],[41,0,46,0],[47,0,52,0],[9,4,15,4],[16,8,22,8],[16,9,22,9],[16,10,22,10],[23,8,28,8],[66,0,66,5],[0,11,0,12],[0,14,0,19],[1,1,2,1],[1,3,3,3],[1,5,1,8],[1,11,1,14],[1,17,1,18],[16,1,20,1],[21,1,22,1],[24,1,25,1],[26,1,28,1],[10,1,11,1],[9,2,15,2],[9,3,15,3],[16,4,22,4],[23,2,28,2],[23,3,28,3],[23,4,28,4],[9,12,15,12],[9,13,15,13],[9,9,15,9],[9,19,15,19],[9,16,15,16],[16,18,22,18],[16,19,22,19],[16,11,22,11],[16,12,22,12],[16,13,22,13],[16,14,22,14],[16,15,22,15],[16,16,22,16],[16,17,22,17],[2,5,3,5],[2,13,3,13],[4,0,8,0],[9,0,15,0],[23,0,28,0],[4,2,8,2],[1,0,3,0],[16,0,22,0],[16,2,22,2],[9,8,15,8],[23,9,28,9],[16,3,22,3],[23,12,28,12],[23,10,28,10],[23,13,28,13]]}
["السنة الدراسية : 2023/2022",null,null,null,null,null,null,null,null,null,null,"المادة",null,null,"لغة عربية"]
["المناصب","اللقب والاســم   ","أقصى","الصفة","تـــــــاريـــخ","الخدمة المؤداة أسبوعيا",null,null,null,"أقصى",null,"تعديل الخدمة الواجبة  ( تخفيض )",null,null,null,"خدمة","أقصــــى","الفروق",null,"ملاحظات"]
[null,null,"درجــة",null,"التعييــن","الأقسام","عدد ","عدد  ","مجموع  ","خدمة",null,"عدد التلاميذ   ","صيانة  ","دعم \nاستدراك","مجموع  ","صافية","خدمـة","ساعات","ساعات  "]
[null,"تاريخ  الميلاد","جامعية",null,"بالمؤسسة",null,"التلاميذ","الحصص","التوقيت","واجبة",null,"فوق 35","العتاد",null,"التخفيضات",null,"صافية","فائضة","إضافية"]
[1,null,{"$f":"التجميع!F49","v":"ليسانس"},{"$f":"التجميع!E49","v":"مرسمة"},{"$f":"التجميع!G49","v":"2003-09-09"},{"$f":"التجميع!H49","v":"3م1"},{"$f":"((IF(ISERROR(VLOOKUP(F5,التعداد!$C$10:$L$45,10,0)),\"\",VLOOKUP(F5,التعداد!$C$10:$L$45,10,0))))","v":31},6,{"$f":"SUM(H5:H9)","v":15},{"$f":"IF(B6=\"\",\"\",22)","v":22},null,null,null,2,{"$f":"SUM(L5:N9)","v":2},{"$f":"((IF(ISERROR(J5-O5),,(J5-O5))))","v":20},{"$f":"P5+L5","v":20},{"$f":"IF($I5-$Q5>=0,\"\",$Q5-$I5)","v":5},{"$f":"IF($I5-$Q5>0,$I5-$Q5,\"\")","v":""}]
[null,{"$f":"التجميع!B49","v":"العابد مباركة "},null,null,null,{"$f":"التجميع!I49","v":"3م2"},{"$f":"((IF(ISERROR(VLOOKUP(F6,التعداد!$C$10:$L$45,10,0)),\"\",VLOOKUP(F6,التعداد!$C$10:$L$45,10,0))))","v":32},6]
[null,null,null,null,null,{"$f":"التجميع!J49","v":"1م1"},28,1]
[null,{"$f":"التجميع!D49","v":"1981-09-20"},null,null,null,{"$f":"التجميع!K49","v":"1م1 ت"},38,1]
[null,null,null,null,null,{"$f":"التجميع!L49","v":"1م2 ت"},{"$f":"((IF(ISERROR(VLOOKUP(F9,التعداد!$C$10:$L$45,10,0)),\"\",VLOOKUP(F9,التعداد!$C$10:$L$45,10,0))))","v":""},1]
[2,null,{"$f":"التجميع!F50","v":"ليسانس"},{"$f":"التجميع!E50","v":"مرسمة"},{"$f":"التجميع!G50","v":"2013-12-08"},{"$f":"التجميع!H50","v":"1م1"},{"$f":"((IF(ISERROR(VLOOKUP(F10,التعداد!$C$10:$L$45,10,0)),\"\",VLOOKUP(F10,التعداد!$C$10:$L$45,10,0))))","v":31},6,{"$f":"SUM(H10:H16)","v":17},{"$f":"IF(B11=\"\",\"\",22)","v":22},null,null,null,3,{"$f":"SUM(L10:N16)","v":3},{"$f":"((IF(ISERROR(J10-O10),,(J10-O10))))","v":19},{"$f":"P10+L10","v":19},{"$f":"IF($I10-$Q10>=0,\"\",$Q10-$I10)","v":2},{"$f":"IF($I10-$Q10>0,$I10-$Q10,\"\")","v":""},null,null,2]
[null,{"$f":"التجميع!B50","v":"سهلي بوعلام "},null,null,null,{"$f":"التجميع!I50","v":"1م2"},{"$f":"((IF(ISERROR(VLOOKUP(F11,التعداد!$C$10:$L$45,10,0)),\"\",VLOOKUP(F11,التعداد!$C$10:$L$45,10,0))))","v":31},6,null,null,null,null,null,null,null,null,null,null,null,null,null,18]
[null,null,null,null,null,{"$f":"التجميع!J50","v":"1م3"},30,1,null,null,null,null,null,null,null,null,null,null,null,null,null,18]
[null,{"$f":"التجميع!D50","v":"1980-12-06"},null,null,null,{"$f":"التجميع!K50","v":0},30,1,null,null,null,null,null,null,null,null,null,null,null,null,null,18]
[null,null,null,null,null,{"$f":"التجميع!L50","v":0},32,1]
[null,null,null,null,null,{"$f":"التجميع!M50","v":0},33,1]
[null,null,null,null,null,{"$f":"التجميع!N50","v":0},{"$f":"((IF(ISERROR(VLOOKUP(F16,التعداد!$C$10:$L$45,10,0)),\"\",VLOOKUP(F16,التعداد!$C$10:$L$45,10,0))))","v":""},1]
[3,{"$f":"التجميع!B51","v":"بدراني خديجة "},{"$f":"التجميع!F51","v":"ليسانس"},{"$f":"التجميع!E51","v":"مرسمة"},{"$f":"التجميع!G51","v":"2016-08-03"},{"$f":"التجميع!H51","v":"4م1"},{"$f":"((IF(ISERROR(VLOOKUP(F17,التعداد!$C$10:$L$45,10,0)),\"\",VLOOKUP(F17,التعداد!$C$10:$L$45,10,0))))","v":26},6,{"$f":"SUM(H17:H23)","v":16},{"$f":"IF(B17=\"\",\"\",22)","v":22},null,null,null,2,{"$f":"SUM(L17:N23)","v":2},{"$f":"((IF(ISERROR(J17-O17),,(J17-O17))))","v":20},{"$f":"P17+L22","v":20},{"$f":"IF($I17-$Q17>=0,\"\",$Q17-$I17)","v":4},{"$f":"IF($I17-$Q17>0,$I17-$Q17,\"\")","v":""},null,null,{"$f":"SUM(V10:V16)","v":56}]
[null,null,null,null,null,{"$f":"التجميع!I51","v":"4م2"},31,6]
[null,null,null,null,null,{"$f":"التجميع!J51","v":"2م1 ت"},29,1]
[null,null,null,null,null,{"$f":"التجميع!K51","v":"2م2 ت"},32,1]
[null,null,null,null,null,{"$f":"التجميع!L51","v":0},31,1,null,null,null,null,null,null,null,null,null,null,null,null,null,null,2016]
[null,{"$f":"التجميع!D51","v":"1991-07-01"},null,null,null,{"$f":"التجميع!M51","v":0},null,1]
[null,null,null,null,null,{"$f":"التجميع!K54","v":""}]
[4,null,{"$f":"التجميع!F52","v":"ليسانس"},{"$f":"التجميع!E52","v":"مرسم"},{"$f":"التجميع!G52","v":"2015-08-02"},{"$f":"التجميع!H52","v":"2م1"},{"$f":"((IF(ISERROR(VLOOKUP(F24,التعداد!$C$10:$L$45,10,0)),\"\",VLOOKUP(F24,التعداد!$C$10:$L$45,10,0))))","v":28},5,{"$f":"SUM(H24:H29)","v":17},{"$f":"IF(B25=\"\",\"\",22)","v":22},null,null,null,3,{"$f":"SUM(L24:N29)","v":3},{"$f":"((IF(ISERROR(J24-O24),,(J24-O24))))","v":19},{"$f":"P24+L24","v":19},{"$f":"IF($I24-$Q24>=0,\"\",$Q24-$I24)","v":2},{"$f":"IF($I24-$Q24>0,$I24-$Q24,\"\")","v":""}]
[null,{"$f":"التجميع!B52","v":"تهامي أم الخير "},null,null,null,{"$f":"التجميع!I52","v":"2م2"},{"$f":"((IF(ISERROR(VLOOKUP(F25,التعداد!$C$10:$L$45,10,0)),\"\",VLOOKUP(F25,التعداد!$C$10:$L$45,10,0))))","v":27},5]
[null,null,null,null,null,{"$f":"التجميع!J52","v":"2م3"},{"$f":"((IF(ISERROR(VLOOKUP(F26,التعداد!$C$10:$L$45,10,0)),\"\",VLOOKUP(F26,التعداد!$C$10:$L$45,10,0))))","v":26},6]
[null,{"$f":"التجميع!D52","v":"1986-09-10"},null,null,null,{"$f":"التجميع!K52","v":0},{"$f":"((IF(ISERROR(VLOOKUP(F27,التعداد!$C$10:$L$45,10,0)),\"\",VLOOKUP(F27,التعداد!$C$10:$L$45,10,0))))","v":""},1]
[null,null,null,null,null,{"$f":"التجميع!L52","v":0},{"$f":"((IF(ISERROR(VLOOKUP(F28,التعداد!$C$10:$L$45,10,0)),\"\",VLOOKUP(F28,التعداد!$C$10:$L$45,10,0))))","v":""}]
[null,null,null,null,null,null,{"$f":"((IF(ISERROR(VLOOKUP(F29,التعداد!$C$10:$L$45,10,0)),\"\",VLOOKUP(F29,التعداد!$C$10:$L$45,10,0))))","v":""}]
["المجموع",null,null,null,null,{"$f":"التجميع!H56","v":""},{"$f":"التعداد!Q14","v":292},{"$f":"SUM(H5:H29)","v":65},65,88,0,0,0,10,10,{"$f":"((IF(ISERROR(J30-O30),,(J30-O30))))","v":78},{"$f":"P30+L30","v":78},{"$f":"SUM(R5:R29)","v":13},{"$f":"IF($I30-$Q30>0,$I30-$Q30,\"\")","v":""}]
[null,{"$f":"التجميع!B56","v":""},null,null,null,{"$f":"التجميع!I56","v":""},{"$f":"((IF(ISERROR(VLOOKUP(F31,التعداد!$C$10:$L$45,10,0)),\"\",VLOOKUP(F31,التعداد!$C$10:$L$45,10,0))))","v":""}]
[null,null,null,null,null,{"$f":"التجميع!J56","v":""},{"$f":"((IF(ISERROR(VLOOKUP(F32,التعداد!$C$10:$L$45,10,0)),\"\",VLOOKUP(F32,التعداد!$C$10:$L$45,10,0))))","v":""}]
[null,{"$f":"التجميع!D56","v":""},null,null,null,{"$f":"التجميع!K56","v":""},{"$f":"((IF(ISERROR(VLOOKUP(F33,التعداد!$C$10:$L$45,10,0)),\"\",VLOOKUP(F33,التعداد!$C$10:$L$45,10,0))))","v":""}]
[null,null,null,null,null,{"$f":"التجميع!L56","v":""},{"$f":"((IF(ISERROR(VLOOKUP(F34,التعداد!$C$10:$L$45,10,0)),\"\",VLOOKUP(F34,التعداد!$C$10:$L$45,10,0))))","v":""}]
[null,null,null,null,null,{"$f":"التجميع!M56","v":""},{"$f":"((IF(ISERROR(VLOOKUP(F35,التعداد!$C$10:$L$45,10,0)),\"\",VLOOKUP(F35,التعداد!$C$10:$L$45,10,0))))","v":""}]
[9,null,{"$f":"التجميع!F57","v":""},{"$f":"التجميع!E57","v":""},{"$f":"التجميع!G57","v":""},{"$f":"التجميع!H57","v":""},{"$f":"((IF(ISERROR(VLOOKUP(F36,التعداد!$C$10:$L$45,10,0)),\"\",VLOOKUP(F36,التعداد!$C$10:$L$45,10,0))))","v":""},null,{"$f":"SUM(H36:H41)","v":0},{"$f":"IF(B37=\"\",\"\",22)","v":""},null,null,null,{"$f":"IF(B37=\"\",\"\",1)","v":""},{"$f":"SUM(L36:N41)","v":0},{"$f":"((IF(ISERROR(J36-O36),,(J36-O36))))","v":0},{"$f":"P36+L36","v":0},{"$f":"IF($I36-$Q36>=0,\"\",$Q36-$I36)","v":""},{"$f":"IF($I36-$Q36>0,$I36-$Q36,\"\")","v":""}]
[null,{"$f":"التجميع!B57","v":""},null,null,null,{"$f":"التجميع!I57","v":""},{"$f":"((IF(ISERROR(VLOOKUP(F37,التعداد!$C$10:$L$45,10,0)),\"\",VLOOKUP(F37,التعداد!$C$10:$L$45,10,0))))","v":""}]
[null,null,null,null,null,{"$f":"التجميع!J57","v":""},{"$f":"((IF(ISERROR(VLOOKUP(F38,التعداد!$C$10:$L$45,10,0)),\"\",VLOOKUP(F38,التعداد!$C$10:$L$45,10,0))))","v":""}]
[null,{"$f":"التجميع!D57","v":""},null,null,null,{"$f":"التجميع!K57","v":""},{"$f":"((IF(ISERROR(VLOOKUP(F39,التعداد!$C$10:$L$45,10,0)),\"\",VLOOKUP(F39,التعداد!$C$10:$L$45,10,0))))","v":""}]
[null,null,null,null,null,{"$f":"التجميع!L57","v":""},{"$f":"((IF(ISERROR(VLOOKUP(F40,التعداد!$C$10:$L$45,10,0)),\"\",VLOOKUP(F40,التعداد!$C$10:$L$45,10,0))))","v":""}]
[null,null,null,null,null,{"$f":"التجميع!M57","v":""},{"$f":"((IF(ISERROR(VLOOKUP(F41,التعداد!$C$10:$L$45,10,0)),\"\",VLOOKUP(F41,التعداد!$C$10:$L$45,10,0))))","v":""}]
[10,null,{"$f":"التجميع!F58","v":""},{"$f":"التجميع!E58","v":""},{"$f":"التجميع!G58","v":""},{"$f":"التجميع!H58","v":""},{"$f":"((IF(ISERROR(VLOOKUP(F42,التعداد!$C$10:$L$45,10,0)),\"\",VLOOKUP(F42,التعداد!$C$10:$L$45,10,0))))","v":""},null,{"$f":"SUM(H42:H47)","v":0},{"$f":"IF(B43=\"\",\"\",22)","v":""},null,null,null,{"$f":"IF(B43=\"\",\"\",1)","v":""},{"$f":"SUM(L42:N47)","v":0},{"$f":"((IF(ISERROR(J42-O42),,(J42-O42))))","v":0},{"$f":"P42+L42","v":0},{"$f":"IF($I42-$Q42>=0,\"\",$Q42-$I42)","v":""},{"$f":"IF($I42-$Q42>0,$I42-$Q42,\"\")","v":""}]
[null,{"$f":"التجميع!B58","v":""},null,null,null,{"$f":"التجميع!I58","v":""},{"$f":"((IF(ISERROR(VLOOKUP(F43,التعداد!$C$10:$L$45,10,0)),\"\",VLOOKUP(F43,التعداد!$C$10:$L$45,10,0))))","v":""}]
[null,null,null,null,null,{"$f":"التجميع!J58","v":""},{"$f":"((IF(ISERROR(VLOOKUP(F44,التعداد!$C$10:$L$45,10,0)),\"\",VLOOKUP(F44,التعداد!$C$10:$L$45,10,0))))","v":""}]
[null,{"$f":"التجميع!D58","v":""},null,null,null,{"$f":"التجميع!K58","v":""},{"$f":"((IF(ISERROR(VLOOKUP(F45,التعداد!$C$10:$L$45,10,0)),\"\",VLOOKUP(F45,التعداد!$C$10:$L$45,10,0))))","v":""}]
[null,null,null,null,null,{"$f":"التجميع!L58","v":""},{"$f":"((IF(ISERROR(VLOOKUP(F46,التعداد!$C$10:$L$45,10,0)),\"\",VLOOKUP(F46,التعداد!$C$10:$L$45,10,0))))","v":""}]
[null,null,null,null,null,{"$f":"التجميع!M58","v":""},{"$f":"((IF(ISERROR(VLOOKUP(F47,التعداد!$C$10:$L$45,10,0)),\"\",VLOOKUP(F47,التعداد!$C$10:$L$45,10,0))))","v":""}]
[11,null,{"$f":"التجميع!F59","v":""},{"$f":"التجميع!E59","v":""},{"$f":"التجميع!G59","v":""},{"$f":"التجميع!H59","v":""},{"$f":"((IF(ISERROR(VLOOKUP(F48,التعداد!$C$10:$L$45,10,0)),\"\",VLOOKUP(F48,التعداد!$C$10:$L$45,10,0))))","v":""},null,{"$f":"SUM(H48:H53)","v":0},{"$f":"IF(B49=\"\",\"\",22)","v":""},null,null,null,{"$f":"IF(B49=\"\",\"\",1)","v":""},{"$f":"SUM(L48:N53)","v":0},{"$f":"((IF(ISERROR(J48-O48),,(J48-O48))))","v":0},{"$f":"P48+L48","v":0},{"$f":"IF($I48-$Q48>=0,\"\",$Q48-$I48)","v":""},{"$f":"IF($I48-$Q48>0,$I48-$Q48,\"\")","v":""}]
[null,{"$f":"التجميع!B59","v":""},null,null,null,{"$f":"التجميع!I59","v":""},{"$f":"((IF(ISERROR(VLOOKUP(F49,التعداد!$C$10:$L$45,10,0)),\"\",VLOOKUP(F49,التعداد!$C$10:$L$45,10,0))))","v":""}]
[null,null,null,null,null,{"$f":"التجميع!J59","v":""},{"$f":"((IF(ISERROR(VLOOKUP(F50,التعداد!$C$10:$L$45,10,0)),\"\",VLOOKUP(F50,التعداد!$C$10:$L$45,10,0))))","v":""}]
[null,{"$f":"التجميع!D59","v":""},null,null,null,{"$f":"التجميع!K59","v":""},{"$f":"((IF(ISERROR(VLOOKUP(F51,التعداد!$C$10:$L$45,10,0)),\"\",VLOOKUP(F51,التعداد!$C$10:$L$45,10,0))))","v":""}]
[null,null,null,null,null,{"$f":"التجميع!L59","v":""},{"$f":"((IF(ISERROR(VLOOKUP(F52,التعداد!$C$10:$L$45,10,0)),\"\",VLOOKUP(F52,التعداد!$C$10:$L$45,10,0))))","v":""}]
[null,null,null,null,null,{"$f":"التجميع!M59","v":""},{"$f":"((IF(ISERROR(VLOOKUP(F53,التعداد!$C$10:$L$45,10,0)),\"\",VLOOKUP(F53,التعداد!$C$10:$L$45,10,0))))","v":""}]
[12,null,{"$f":"التجميع!F60","v":""},{"$f":"التجميع!E60","v":""},{"$f":"التجميع!G60","v":""},{"$f":"التجميع!H60","v":""},{"$f":"((IF(ISERROR(VLOOKUP(F54,التعداد!$C$10:$L$45,10,0)),\"\",VLOOKUP(F54,التعداد!$C$10:$L$45,10,0))))","v":""},null,{"$f":"SUM(H54:H59)","v":0},{"$f":"IF(B55=\"\",\"\",22)","v":""},null,null,null,{"$f":"IF(B55=\"\",\"\",1)","v":""},{"$f":"SUM(L54:N59)","v":0},{"$f":"((IF(ISERROR(J54-O54),,(J54-O54))))","v":0},{"$f":"P54+L54","v":0},{"$f":"IF($I54-$Q54>=0,\"\",$Q54-$I54)","v":""},{"$f":"IF($I54-$Q54>0,$I54-$Q54,\"\")","v":""}]
[null,{"$f":"التجميع!B60","v":""},null,null,null,{"$f":"التجميع!I60","v":""},{"$f":"((IF(ISERROR(VLOOKUP(F55,التعداد!$C$10:$L$45,10,0)),\"\",VLOOKUP(F55,التعداد!$C$10:$L$45,10,0))))","v":""}]
[null,null,null,null,null,{"$f":"التجميع!J60","v":""},{"$f":"((IF(ISERROR(VLOOKUP(F56,التعداد!$C$10:$L$45,10,0)),\"\",VLOOKUP(F56,التعداد!$C$10:$L$45,10,0))))","v":""}]
[null,{"$f":"التجميع!D60","v":""},null,null,null,{"$f":"التجميع!K60","v":""},{"$f":"((IF(ISERROR(VLOOKUP(F57,التعداد!$C$10:$L$45,10,0)),\"\",VLOOKUP(F57,التعداد!$C$10:$L$45,10,0))))","v":""}]
[null,null,null,null,null,{"$f":"التجميع!L60","v":""},{"$f":"((IF(ISERROR(VLOOKUP(F58,التعداد!$C$10:$L$45,10,0)),\"\",VLOOKUP(F58,التعداد!$C$10:$L$45,10,0))))","v":""}]
[null,null,null,null,null,{"$f":"التجميع!M60","v":""},{"$f":"((IF(ISERROR(VLOOKUP(F59,التعداد!$C$10:$L$45,10,0)),\"\",VLOOKUP(F59,التعداد!$C$10:$L$45,10,0))))","v":""}]
["المجموع",null,null,null,null,null,{"$f":"SUM(G30:G59)","v":292},{"$f":"SUM(H30:H59)","v":65},{"$f":"SUM(I30:I59)","v":65},{"$f":"SUM(J30:J59)","v":88},null,{"$f":"SUM(L30:L59)","v":0},0,10,10,78,78,13,0]
[]
[]
[]
[]
[]
[]
["المجموع العام",null,null,null,null,null,{"$f":"#REF!+G60","v":{"$error":"#REF!"}},{"$f":"#REF!+H60","v":{"$error":"#REF!"}},{"$f":"#REF!+I60","v":{"$error":"#REF!"}},{"$f":"#REF!+J60","v":{"$error":"#REF!"}},null,{"$f":"#REF!+L60","v":{"$error":"#REF!"}},{"$f":"#REF!+M60","v":{"$error":"#REF!"}},{"$f":"#REF!+N60","v":{"$error":"#REF!"}},{"$f":"#REF!+O60","v":{"$error":"#REF!"}},{"$f":"#REF!+P60","v":{"$error":"#REF!"}},{"$f":"#REF!+Q60","v":{"$error":"#REF!"}},{"$f":"#REF!+R60","v":{"$error":"#REF!"}},{"$f":"#REF!+S60","v":{"$error":"#REF!"}}]

{"sheet":"خدمات فرنسية","index":19,"n_rows":93,"n_cols":20,"rows_kept":93,"cut":false,"hidden":false,"merged":[[78,8,83,8],[78,9,83,9],[0,0,0,3],[78,18,83,18],[78,19,83,19],[79,1,80,1],[81,1,82,1],[78,12,83,12],[78,13,83,13],[78,14,83,14],[78,15,83,15],[78,16,83,16],[78,11,83,11],[72,12,77,12],[72,13,77,13],[72,14,77,14],[72,15,77,15],[72,16,77,16],[72,11,77,11],[78,17,83,17],[72,18,77,18],[72,17,77,17],[66,18,71,18],[66,19,71,19],[67,1,68,1],[69,1,70,1],[72,2,77,2],[72,3,77,3],[72,4,77,4],[72,8,77,8],[72,9,77,9],[72,19,77,19],[73,1,74,1],[75,1,76,1],[66,8,71,8],[66,9,71,9],[66,11,71,11],[66,12,71,12],[66,13,71,13],[66,14,71,14],[66,15,71,15],[66,16,71,16],[66,17,71,17],[54,18,59,18],[54,19,59,19],[55,1,56,1],[57,1,58,1],[60,2,65,2],[60,3,65,3],[60,4,65,4],[60,8,65,8],[60,9,65,9],[60,11,65,11],[60,12,65,12],[60,13,65,13],[60,14,65,14],[60,15,65,15],[60,16,65,16],[60,17,65,17],[60,18,65,18],[60,19,65,19],[61,1,62,1],[63,1,64,1],[54,8,59,8],[54,9,59,9],[54,11,59,11],[54,12,59,12],[54,13,59,13],[54,14,59,14],[54,15,59,15],[54,16,59,16],[54,17,59,17],[35,18,40,18],[35,19,40,19],[36,1,37,1],[38,1,39,1],[48,2,53,2],[48,3,53,3],[48,4,53,4],[48,8,53,8],[48,9,53,9],[48,11,53,11],[48,12,53,12],[48,13,53,13],[48,14,53,14],[48,15,53,15],[48,16,53,16],[48,17,53,17],[48,18,53,18],[48,19,53,19],[49,1,50,1],[51,1,52,1],[35,8,40,8],[35,9,40,9],[35,11,40,11],[35,12,40,12],[35,13,40,13],[35,14,40,14],[35,15,40,15],[35,16,40,16],[35,17,40,17],[23,15,28,15],[23,16,28,16],[23,17,28,17],[23,18,28,18],[23,19,28,19],[24,1,25,1],[26,1,27,1],[29,2,34,2],[29,3,34,3],[29,4,34,4],[29,8,34,8],[29,9,34,9],[29,11,34,11],[29,12,34,12],[29,13,34,13],[29,14,34,14],[29,15,34,15],[29,16,34,16],[29,17,34,17],[29,18,34,18],[29,19,34,19],[30,1,31,1],[32,1,33,1],[23,2,28,2],[23,3,28,3],[23,4,28,4],[23,8,28,8],[23,9,28,9],[23,11,28,11],[23,12,28,12],[23,13,28,13],[23,14,28,14],[17,17,22,17],[17,18,22,18],[17,19,22,19],[18,1,19,1],[20,1,21,1],[17,2,22,2],[17,3,22,3],[17,4,22,4],[17,8,22,8],[17,9,22,9],[17,11,22,11],[12,1,13,1],[14,1,15,1],[11,2,16,2],[11,3,16,3],[11,4,16,4],[11,8,16,8],[17,16,22,16],[11,17,16,17],[11,18,16,18],[6,1,7,1],[8,1,9,1],[5,9,10,9],[5,11,10,11],[5,4,10,4],[5,8,10,8],[5,3,10,3],[66,0,71,0],[72,0,77,0],[78,0,83,0],[84,0,84,5],[35,0,40,0],[41,0,41,5],[60,0,65,0],[45,0,47,0],[45,1,46,1],[45,3,47,3],[35,2,40,2],[35,3,40,3],[35,4,40,4],[54,2,59,2],[54,3,59,3],[54,4,59,4],[66,2,71,2],[66,3,71,3],[66,4,71,4],[78,2,83,2],[78,3,83,3],[78,4,83,4],[11,19,16,19],[17,12,22,12],[17,13,22,13],[17,14,22,14],[43,14,43,19],[17,15,22,15],[2,19,4,19],[54,0,59,0],[11,15,16,15],[5,12,10,12],[5,13,10,13],[5,16,10,16],[45,5,45,8],[11,14,16,14],[45,11,45,14],[43,11,43,12],[5,17,10,17],[5,18,10,18],[5,19,10,19],[11,12,16,12],[11,13,16,13],[11,9,16,9],[11,11,16,11],[11,16,16,16],[92,0,92,5],[0,11,0,12],[0,14,0,19],[5,14,10,14],[5,15,10,15],[2,1,3,1],[2,3,4,3],[2,5,2,8],[2,11,2,14],[2,17,2,18],[3,5,4,5],[45,17,45,18],[3,13,4,13],[5,0,10,0],[11,0,16,0],[17,0,22,0],[23,0,28,0],[29,0,34,0],[5,2,10,2],[2,0,4,0],[45,19,47,19],[46,5,47,5],[46,13,47,13],[48,0,53,0]]}
["السنة الدراسية : 2023/2022",null,null,null,null,null,null,null,null,null,null,"المادة",null,null,"لغة فرنسية"]
[]
["المناصب","اللقب والاســم   ","أقصى","الصفة","تـــــــاريـــخ","الخدمة المؤداة أسبوعيا",null,null,null,"أقصى",null,"تعديل الخدمة الواجبة  ( تخفيض )",null,null,null,"خدمة","أقصــــى","الفروق",null,"ملاحظات"]
[null,null,"درجــة",null,"التعييــن","الأقسام","عدد ","عدد  ","مجموع  ","خدمة",null,"عدد التلاميذ   ","صيانة  ","دعم","مجموع  ","صافية","خدمـة","ساعات","ساعات  "]
[null,"تاريخ  الميلاد","جامعية",null,"بالمؤسسة",null,"التلاميذ","الحصص","التوقيت","واجبة",null,"فوق 35","العتاد",null,"التخفيضات",null,"صافية","فائضة","إضافية"]
["1/3",null,{"$f":"التجميع!F64","v":"ليسانس"},{"$f":"التجميع!E64","v":"مرسمة"},{"$f":"التجميع!G64","v":"2017-08-31"},{"$f":"التجميع!H64","v":"1م1"},{"$f":"((IF(ISERROR(VLOOKUP(F6,التعداد!$C$10:$L$45,10,0)),\"\",VLOOKUP(F6,التعداد!$C$10:$L$45,10,0))))","v":31},5,{"$f":"SUM(H6:H11)","v":16},{"$f":"IF(B7=\"\",\"\",22)","v":22},null,null,null,3,{"$f":"SUM(L6:N11)","v":3},{"$f":"((IF(ISERROR(J6-O6),,(J6-O6))))","v":19},{"$f":"P6+L6","v":19},{"$f":"IF($I6-$Q6>=0,\"\",$Q6-$I6)","v":3},{"$f":"IF($I6-$Q6>0,$I6-$Q6,\"\")","v":""}]
[null,{"$f":"التجميع!B64","v":"مغزي محمد "},null,null,null,{"$f":"التجميع!I64","v":"1م2"},{"$f":"((IF(ISERROR(VLOOKUP(F7,التعداد!$C$10:$L$45,10,0)),\"\",VLOOKUP(F7,التعداد!$C$10:$L$45,10,0))))","v":31},5]
[null,null,null,null,null,{"$f":"التجميع!J64","v":"1م3"},{"$f":"((IF(ISERROR(VLOOKUP(F8,التعداد!$C$10:$L$45,10,0)),\"\",VLOOKUP(F8,التعداد!$C$10:$L$45,10,0))))","v":32},5]
[null,{"$f":"التجميع!D64","v":"1976-07-13"},null,null,null,{"$f":"التجميع!K64","v":"3م2"},{"$f":"((IF(ISERROR(VLOOKUP(F9,التعداد!$C$10:$L$45,10,0)),\"\",VLOOKUP(F9,التعداد!$C$10:$L$45,10,0))))","v":32},1]
[null,null,null,null,null,{"$f":"التجميع!L64","v":0},{"$f":"((IF(ISERROR(VLOOKUP(F10,التعداد!$C$10:$L$45,10,0)),\"\",VLOOKUP(F10,التعداد!$C$10:$L$45,10,0))))","v":""}]
[null,null,null,null,null,{"$f":"التجميع!M64","v":0},{"$f":"((IF(ISERROR(VLOOKUP(F11,التعداد!$C$10:$L$45,10,0)),\"\",VLOOKUP(F11,التعداد!$C$10:$L$45,10,0))))","v":""}]
["2/3",null,{"$f":"التجميع!F65","v":"ليسانس"},{"$f":"التجميع!E65","v":"مرسمة"},{"$f":"التجميع!G65","v":"2005-10-03"},{"$f":"التجميع!H65","v":"4م1"},{"$f":"((IF(ISERROR(VLOOKUP(F12,التعداد!$C$10:$L$45,10,0)),\"\",VLOOKUP(F12,التعداد!$C$10:$L$45,10,0))))","v":26},5,{"$f":"SUM(H12:H17)","v":16},{"$f":"IF(B13=\"\",\"\",22)","v":22},null,null,null,3,{"$f":"SUM(L12:N17)","v":3},{"$f":"((IF(ISERROR(J12-O12),,(J12-O12))))","v":19},{"$f":"P12+L12","v":19},{"$f":"IF($I12-$Q12>=0,\"\",$Q12-$I12)","v":3},{"$f":"IF($I12-$Q12>0,$I12-$Q12,\"\")","v":""}]
[null,{"$f":"التجميع!B65","v":"كواهي يعقوب "},null,null,null,{"$f":"التجميع!I65","v":"4م2"},{"$f":"((IF(ISERROR(VLOOKUP(F13,التعداد!$C$10:$L$45,10,0)),\"\",VLOOKUP(F13,التعداد!$C$10:$L$45,10,0))))","v":28},5]
[null,null,null,null,null,{"$f":"التجميع!J65","v":"3م1"},{"$f":"((IF(ISERROR(VLOOKUP(F14,التعداد!$C$10:$L$45,10,0)),\"\",VLOOKUP(F14,التعداد!$C$10:$L$45,10,0))))","v":31},5]
[null,{"$f":"التجميع!D65","v":"1986-05-22"},null,null,null,{"$f":"التجميع!K65","v":0},{"$f":"((IF(ISERROR(VLOOKUP(F15,التعداد!$C$10:$L$45,10,0)),\"\",VLOOKUP(F15,التعداد!$C$10:$L$45,10,0))))","v":""},1]
[null,null,null,null,null,{"$f":"التجميع!L65","v":0},{"$f":"((IF(ISERROR(VLOOKUP(F16,التعداد!$C$10:$L$45,10,0)),\"\",VLOOKUP(F16,التعداد!$C$10:$L$45,10,0))))","v":""}]
[null,null,null,null,null,{"$f":"التجميع!M65","v":0},{"$f":"((IF(ISERROR(VLOOKUP(F17,التعداد!$C$10:$L$45,10,0)),\"\",VLOOKUP(F17,التعداد!$C$10:$L$45,10,0))))","v":""}]
["3/3",null,{"$f":"التجميع!F66","v":"ليسانس"},{"$f":"التجميع!E66","v":"مرسمة"},{"$f":"التجميع!G66","v":"2014-12-07"},{"$f":"التجميع!H66","v":"2م1"},{"$f":"((IF(ISERROR(VLOOKUP(F18,التعداد!$C$10:$L$45,10,0)),\"\",VLOOKUP(F18,التعداد!$C$10:$L$45,10,0))))","v":28},5,{"$f":"SUM(H18:H23)","v":16},{"$f":"IF(B19=\"\",\"\",22)","v":22},null,null,null,3,{"$f":"SUM(L18:N23)","v":3},{"$f":"((IF(ISERROR(J18-O18),,(J18-O18))))","v":19},{"$f":"P18+L18","v":19},{"$f":"IF($I18-$Q18>=0,\"\",$Q18-$I18)","v":3},{"$f":"IF($I18-$Q18>0,$I18-$Q18,\"\")","v":""}]
[null,{"$f":"التجميع!B66","v":"امحمدي بوشوشة "},null,null,null,{"$f":"التجميع!I66","v":"2م2"},{"$f":"((IF(ISERROR(VLOOKUP(F19,التعداد!$C$10:$L$45,10,0)),\"\",VLOOKUP(F19,التعداد!$C$10:$L$45,10,0))))","v":27},5]
[null,null,null,null,null,{"$f":"التجميع!J66","v":"2م3"},{"$f":"((IF(ISERROR(VLOOKUP(F20,التعداد!$C$10:$L$45,10,0)),\"\",VLOOKUP(F20,التعداد!$C$10:$L$45,10,0))))","v":26},5]
[null,{"$f":"التجميع!D66","v":"1992-01-06"},null,null,null,{"$f":"التجميع!K66","v":0},{"$f":"((IF(ISERROR(VLOOKUP(F21,التعداد!$C$10:$L$45,10,0)),\"\",VLOOKUP(F21,التعداد!$C$10:$L$45,10,0))))","v":""},1]
[null,null,null,null,null,{"$f":"التجميع!L66","v":0},{"$f":"((IF(ISERROR(VLOOKUP(F22,التعداد!$C$10:$L$45,10,0)),\"\",VLOOKUP(F22,التعداد!$C$10:$L$45,10,0))))","v":""}]
[null,null,null,null,null,{"$f":"التجميع!M66","v":0},{"$f":"((IF(ISERROR(VLOOKUP(F23,التعداد!$C$10:$L$45,10,0)),\"\",VLOOKUP(F23,التعداد!$C$10:$L$45,10,0))))","v":""}]
[null,null,{"$f":"التجميع!F67","v":""},{"$f":"التجميع!E67","v":""},{"$f":"التجميع!G67","v":""},{"$f":"التجميع!H67","v":""},{"$f":"((IF(ISERROR(VLOOKUP(F24,التعداد!$C$10:$L$45,10,0)),\"\",VLOOKUP(F24,التعداد!$C$10:$L$45,10,0))))","v":""},null,{"$f":"SUM(H24:H29)","v":0},{"$f":"IF(B25=\"\",\"\",22)","v":""},null,null,null,null,null,{"$f":"((IF(ISERROR(J24-O24),,(J24-O24))))","v":0},{"$f":"P24+L24","v":0},{"$f":"IF($I24-$Q24>=0,\"\",$Q24-$I24)","v":""},{"$f":"IF($I24-$Q24>0,$I24-$Q24,\"\")","v":""}]
[null,{"$f":"التجميع!B67","v":""},null,null,null,{"$f":"التجميع!I67","v":""},{"$f":"((IF(ISERROR(VLOOKUP(F25,التعداد!$C$10:$L$45,10,0)),\"\",VLOOKUP(F25,التعداد!$C$10:$L$45,10,0))))","v":""}]
[null,null,null,null,null,{"$f":"التجميع!J67","v":""},{"$f":"((IF(ISERROR(VLOOKUP(F26,التعداد!$C$10:$L$45,10,0)),\"\",VLOOKUP(F26,التعداد!$C$10:$L$45,10,0))))","v":""}]
[null,{"$f":"التجميع!D67","v":""},null,null,null,{"$f":"التجميع!K67","v":""},{"$f":"((IF(ISERROR(VLOOKUP(F27,التعداد!$C$10:$L$45,10,0)),\"\",VLOOKUP(F27,التعداد!$C$10:$L$45,10,0))))","v":""}]
[null,null,null,null,null,{"$f":"التجميع!L67","v":""},{"$f":"((IF(ISERROR(VLOOKUP(F28,التعداد!$C$10:$L$45,10,0)),\"\",VLOOKUP(F28,التعداد!$C$10:$L$45,10,0))))","v":""}]
[null,null,null,null,null,{"$f":"التجميع!M67","v":""},{"$f":"((IF(ISERROR(VLOOKUP(F29,التعداد!$C$10:$L$45,10,0)),\"\",VLOOKUP(F29,التعداد!$C$10:$L$45,10,0))))","v":""}]
[null,null,{"$f":"التجميع!F68","v":""},{"$f":"التجميع!E68","v":""},{"$f":"التجميع!G68","v":""},{"$f":"التجميع!H68","v":""},{"$f":"((IF(ISERROR(VLOOKUP(F30,التعداد!$C$10:$L$45,10,0)),\"\",VLOOKUP(F30,التعداد!$C$10:$L$45,10,0))))","v":""},null,{"$f":"SUM(H30:H35)","v":0},{"$f":"IF(B31=\"\",\"\",22)","v":""},null,null,null,null,null,{"$f":"((IF(ISERROR(J30-O30),,(J30-O30))))","v":0},{"$f":"P30+L30","v":0},{"$f":"IF($I30-$Q30>=0,\"\",$Q30-$I30)","v":""},{"$f":"IF($I30-$Q30>0,$I30-$Q30,\"\")","v":""}]
[null,{"$f":"التجميع!B68","v":""},null,null,null,{"$f":"التجميع!I68","v":""},{"$f":"((IF(ISERROR(VLOOKUP(F31,التعداد!$C$10:$L$45,10,0)),\"\",VLOOKUP(F31,التعداد!$C$10:$L$45,10,0))))","v":""}]
[null,null,null,null,null,{"$f":"التجميع!J68","v":""},{"$f":"((IF(ISERROR(VLOOKUP(F32,التعداد!$C$10:$L$45,10,0)),\"\",VLOOKUP(F32,التعداد!$C$10:$L$45,10,0))))","v":""}]
[null,{"$f":"التجميع!D68","v":""},null,null,null,{"$f":"التجميع!K68","v":""},{"$f":"((IF(ISERROR(VLOOKUP(F33,التعداد!$C$10:$L$45,10,0)),\"\",VLOOKUP(F33,التعداد!$C$10:$L$45,10,0))))","v":""}]
[null,null,null,null,null,{"$f":"التجميع!L68","v":""},{"$f":"((IF(ISERROR(VLOOKUP(F34,التعداد!$C$10:$L$45,10,0)),\"\",VLOOKUP(F34,التعداد!$C$10:$L$45,10,0))))","v":""}]
[null,null,null,null,null,{"$f":"التجميع!M68","v":""},{"$f":"((IF(ISERROR(VLOOKUP(F35,التعداد!$C$10:$L$45,10,0)),\"\",VLOOKUP(F35,التعداد!$C$10:$L$45,10,0))))","v":""}]
[null,null,{"$f":"التجميع!F69","v":""},{"$f":"التجميع!E69","v":""},{"$f":"التجميع!G69","v":""},{"$f":"التجميع!H69","v":""},{"$f":"((IF(ISERROR(VLOOKUP(F36,التعداد!$C$10:$L$45,10,0)),\"\",VLOOKUP(F36,التعداد!$C$10:$L$45,10,0))))","v":""},null,{"$f":"SUM(H36:H41)","v":0},{"$f":"IF(B37=\"\",\"\",22)","v":""},null,null,null,null,null,{"$f":"((IF(ISERROR(J36-O36),,(J36-O36))))","v":0},{"$f":"P36+L36","v":0},{"$f":"IF($I36-$Q36>=0,\"\",$Q36-$I36)","v":""},{"$f":"IF($I36-$Q36>0,$I36-$Q36,\"\")","v":""}]
[null,{"$f":"التجميع!B69","v":""},null,null,null,{"$f":"التجميع!I69","v":""},{"$f":"((IF(ISERROR(VLOOKUP(F37,التعداد!$C$10:$L$45,10,0)),\"\",VLOOKUP(F37,التعداد!$C$10:$L$45,10,0))))","v":""}]
[null,null,null,null,null,{"$f":"التجميع!J69","v":""},{"$f":"((IF(ISERROR(VLOOKUP(F38,التعداد!$C$10:$L$45,10,0)),\"\",VLOOKUP(F38,التعداد!$C$10:$L$45,10,0))))","v":""}]
[null,{"$f":"التجميع!D69","v":""},null,null,null,{"$f":"التجميع!K69","v":""},{"$f":"((IF(ISERROR(VLOOKUP(F39,التعداد!$C$10:$L$45,10,0)),\"\",VLOOKUP(F39,التعداد!$C$10:$L$45,10,0))))","v":""}]
[null,null,null,null,null,{"$f":"التجميع!L69","v":""},{"$f":"((IF(ISERROR(VLOOKUP(F40,التعداد!$C$10:$L$45,10,0)),\"\",VLOOKUP(F40,التعداد!$C$10:$L$45,10,0))))","v":""}]
[null,null,null,null,null,{"$f":"التجميع!M69","v":""},{"$f":"((IF(ISERROR(VLOOKUP(F41,التعداد!$C$10:$L$45,10,0)),\"\",VLOOKUP(F41,التعداد!$C$10:$L$45,10,0))))","v":""}]
["المجموع",null,null,null,null,null,{"$f":"SUM(G6:G41)","v":292},{"$f":"SUM(H6:H41)","v":48},{"$f":"SUM(I6:I41)","v":48},{"$f":"SUM(J6:J41)","v":66},null,{"$f":"SUM(L6:L41)","v":0},0,9,9,57,57,9,0]
[]
[null,null,null,null,null,null,null,null,null,null,null,"المادة",null,null,"لغة فرنسية"]
[]
["المناصب","اللقب والاســم   ","أقصى","الصفة","تـــــــاريـــخ","الخدمة المؤداة أسبوعيا",null,null,null,"أقصى",null,"تعديل الخدمة الواجبة  ( تخفيض )",null,null,null,"خدمة","أقصــــى","الفروق",null,"ملاحظات"]
[null,null,"درجــة",null,"التعييــن","الأقسام","عدد ","عدد  ","مجموع  ","خدمة",null,"عدد التلاميذ   ","صيانة  ","التنسيق","مجموع  ","صافية","خدمـة","ساعات","ساعات  "]
[null,"تاريخ  الميلاد","جامعية",null,"بالمؤسسة",null,"التلاميذ","الحصص","التوقيت","واجبة",null,"فوق 35","العتاد",null,"التخفيضات",null,"صافية","فائضة","إضافية"]
[7,null,{"$f":"التجميع!F70","v":""},{"$f":"التجميع!E70","v":""},{"$f":"التجميع!G70","v":""},{"$f":"التجميع!H70","v":""},{"$f":"((IF(ISERROR(VLOOKUP(F49,التعداد!$C$10:$L$45,10,0)),\"\",VLOOKUP(F49,التعداد!$C$10:$L$45,10,0))))","v":""},null,{"$f":"SUM(H49:H54)","v":0},{"$f":"IF(B50=\"\",\"\",22)","v":""},null,null,null,{"$f":"IF(B50=\"\",\"\",1)","v":""},{"$f":"SUM(L49:N54)","v":0},{"$f":"((IF(ISERROR(J49-O49),,(J49-O49))))","v":0},{"$f":"P49+L49","v":0},{"$f":"IF($I49-$Q49>=0,\"\",$Q49-$I49)","v":""},{"$f":"IF($I49-$Q49>0,$I49-$Q49,\"\")","v":""}]
[null,{"$f":"التجميع!B70","v":""},null,null,null,{"$f":"التجميع!I70","v":""},{"$f":"((IF(ISERROR(VLOOKUP(F50,التعداد!$C$10:$L$45,10,0)),\"\",VLOOKUP(F50,التعداد!$C$10:$L$45,10,0))))","v":""}]
[null,null,null,null,null,{"$f":"التجميع!J70","v":""},{"$f":"((IF(ISERROR(VLOOKUP(F51,التعداد!$C$10:$L$45,10,0)),\"\",VLOOKUP(F51,التعداد!$C$10:$L$45,10,0))))","v":""}]
[null,{"$f":"التجميع!D70","v":""},null,null,null,{"$f":"التجميع!K70","v":""},{"$f":"((IF(ISERROR(VLOOKUP(F52,التعداد!$C$10:$L$45,10,0)),\"\",VLOOKUP(F52,التعداد!$C$10:$L$45,10,0))))","v":""}]
[null,null,null,null,null,{"$f":"التجميع!L70","v":""},{"$f":"((IF(ISERROR(VLOOKUP(F53,التعداد!$C$10:$L$45,10,0)),\"\",VLOOKUP(F53,التعداد!$C$10:$L$45,10,0))))","v":""}]
[null,null,null,null,null,{"$f":"التجميع!M70","v":""},{"$f":"((IF(ISERROR(VLOOKUP(F54,التعداد!$C$10:$L$45,10,0)),\"\",VLOOKUP(F54,التعداد!$C$10:$L$45,10,0))))","v":""}]
[8,null,{"$f":"التجميع!F71","v":""},{"$f":"التجميع!E71","v":""},{"$f":"التجميع!G71","v":""},{"$f":"التجميع!H71","v":""},{"$f":"((IF(ISERROR(VLOOKUP(F55,التعداد!$C$10:$L$45,10,0)),\"\",VLOOKUP(F55,التعداد!$C$10:$L$45,10,0))))","v":""},null,{"$f":"SUM(H55:H60)","v":0},{"$f":"IF(B56=\"\",\"\",22)","v":""},null,null,null,{"$f":"IF(B56=\"\",\"\",1)","v":""},{"$f":"SUM(L55:N60)","v":0},{"$f":"((IF(ISERROR(J55-O55),,(J55-O55))))","v":0},{"$f":"P55+L55","v":0},{"$f":"IF($I55-$Q55>=0,\"\",$Q55-$I55)","v":""},{"$f":"IF($I55-$Q55>0,$I55-$Q55,\"\")","v":""}]
[null,{"$f":"التجميع!B71","v":""},null,null,null,{"$f":"التجميع!I71","v":""},{"$f":"((IF(ISERROR(VLOOKUP(F56,التعداد!$C$10:$L$45,10,0)),\"\",VLOOKUP(F56,التعداد!$C$10:$L$45,10,0))))","v":""}]
[null,null,null,null,null,{"$f":"التجميع!J71","v":""},{"$f":"((IF(ISERROR(VLOOKUP(F57,التعداد!$C$10:$L$45,10,0)),\"\",VLOOKUP(F57,التعداد!$C$10:$L$45,10,0))))","v":""}]
[null,{"$f":"التجميع!D71","v":""},null,null,null,{"$f":"التجميع!K71","v":""},{"$f":"((IF(ISERROR(VLOOKUP(F58,التعداد!$C$10:$L$45,10,0)),\"\",VLOOKUP(F58,التعداد!$C$10:$L$45,10,0))))","v":""}]
[null,null,null,null,null,{"$f":"التجميع!L71","v":""},{"$f":"((IF(ISERROR(VLOOKUP(F59,التعداد!$C$10:$L$45,10,0)),\"\",VLOOKUP(F59,التعداد!$C$10:$L$45,10,0))))","v":""}]
[null,null,null,null,null,{"$f":"التجميع!M71","v":""},{"$f":"((IF(ISERROR(VLOOKUP(F60,التعداد!$C$10:$L$45,10,0)),\"\",VLOOKUP(F60,التعداد!$C$10:$L$45,10,0))))","v":""}]
[9,null,{"$f":"التجميع!F72","v":""},{"$f":"التجميع!E72","v":""},{"$f":"التجميع!G72","v":""},{"$f":"التجميع!H72","v":""},{"$f":"((IF(ISERROR(VLOOKUP(F61,التعداد!$C$10:$L$45,10,0)),\"\",VLOOKUP(F61,التعداد!$C$10:$L$45,10,0))))","v":""},null,{"$f":"SUM(H61:H66)","v":0},{"$f":"IF(B62=\"\",\"\",22)","v":""},null,null,null,{"$f":"IF(B62=\"\",\"\",1)","v":""},{"$f":"SUM(L61:N66)","v":0},{"$f":"((IF(ISERROR(J61-O61),,(J61-O61))))","v":0},{"$f":"P61+L61","v":0},{"$f":"IF($I61-$Q61>=0,\"\",$Q61-$I61)","v":""},{"$f":"IF($I61-$Q61>0,$I61-$Q61,\"\")","v":""}]
[null,{"$f":"التجميع!B72","v":""},null,null,null,{"$f":"التجميع!I72","v":""},{"$f":"((IF(ISERROR(VLOOKUP(F62,التعداد!$C$10:$L$45,10,0)),\"\",VLOOKUP(F62,التعداد!$C$10:$L$45,10,0))))","v":""}]
[null,null,null,null,null,{"$f":"التجميع!J72","v":""},{"$f":"((IF(ISERROR(VLOOKUP(F63,التعداد!$C$10:$L$45,10,0)),\"\",VLOOKUP(F63,التعداد!$C$10:$L$45,10,0))))","v":""}]
[null,{"$f":"التجميع!D72","v":""},null,null,null,{"$f":"التجميع!K72","v":""},{"$f":"((IF(ISERROR(VLOOKUP(F64,التعداد!$C$10:$L$45,10,0)),\"\",VLOOKUP(F64,التعداد!$C$10:$L$45,10,0))))","v":""}]
[null,null,null,null,null,{"$f":"التجميع!L72","v":""},{"$f":"((IF(ISERROR(VLOOKUP(F65,التعداد!$C$10:$L$45,10,0)),\"\",VLOOKUP(F65,التعداد!$C$10:$L$45,10,0))))","v":""}]
[null,null,null,null,null,{"$f":"التجميع!M72","v":""},{"$f":"((IF(ISERROR(VLOOKUP(F66,التعداد!$C$10:$L$45,10,0)),\"\",VLOOKUP(F66,التعداد!$C$10:$L$45,10,0))))","v":""}]
[10,null,{"$f":"التجميع!F73","v":""},{"$f":"التجميع!E73","v":""},{"$f":"التجميع!G73","v":""},{"$f":"التجميع!H73","v":""},{"$f":"((IF(ISERROR(VLOOKUP(F67,التعداد!$C$10:$L$45,10,0)),\"\",VLOOKUP(F67,التعداد!$C$10:$L$45,10,0))))","v":""},null,{"$f":"SUM(H67:H72)","v":0},{"$f":"IF(B68=\"\",\"\",22)","v":""},null,null,null,{"$f":"IF(B68=\"\",\"\",1)","v":""},{"$f":"SUM(L67:N72)","v":0},{"$f":"((IF(ISERROR(J67-O67),,(J67-O67))))","v":0},{"$f":"P67+L67","v":0},{"$f":"IF($I67-$Q67>=0,\"\",$Q67-$I67)","v":""},{"$f":"IF($I67-$Q67>0,$I67-$Q67,\"\")","v":""}]
[null,{"$f":"التجميع!B73","v":""},null,null,null,{"$f":"التجميع!I73","v":""},{"$f":"((IF(ISERROR(VLOOKUP(F68,التعداد!$C$10:$L$45,10,0)),\"\",VLOOKUP(F68,التعداد!$C$10:$L$45,10,0))))","v":""}]
[null,null,null,null,null,{"$f":"التجميع!J73","v":""},{"$f":"((IF(ISERROR(VLOOKUP(F69,التعداد!$C$10:$L$45,10,0)),\"\",VLOOKUP(F69,التعداد!$C$10:$L$45,10,0))))","v":""}]
[null,{"$f":"التجميع!D73","v":""},null,null,null,{"$f":"التجميع!K73","v":""},{"$f":"((IF(ISERROR(VLOOKUP(F70,التعداد!$C$10:$L$45,10,0)),\"\",VLOOKUP(F70,التعداد!$C$10:$L$45,10,0))))","v":""}]
[null,null,null,null,null,{"$f":"التجميع!L73","v":""},{"$f":"((IF(ISERROR(VLOOKUP(F71,التعداد!$C$10:$L$45,10,0)),\"\",VLOOKUP(F71,التعداد!$C$10:$L$45,10,0))))","v":""}]
[null,null,null,null,null,{"$f":"التجميع!M73","v":""},{"$f":"((IF(ISERROR(VLOOKUP(F72,التعداد!$C$10:$L$45,10,0)),\"\",VLOOKUP(F72,التعداد!$C$10:$L$45,10,0))))","v":""}]
[11,null,{"$f":"التجميع!F74","v":""},{"$f":"التجميع!E74","v":""},{"$f":"التجميع!G74","v":""},{"$f":"التجميع!H74","v":""},{"$f":"((IF(ISERROR(VLOOKUP(F73,التعداد!$C$10:$L$45,10,0)),\"\",VLOOKUP(F73,التعداد!$C$10:$L$45,10,0))))","v":""},null,{"$f":"SUM(H73:H78)","v":0},{"$f":"IF(B74=\"\",\"\",22)","v":""},null,null,null,{"$f":"IF(B74=\"\",\"\",1)","v":""},{"$f":"SUM(L73:N78)","v":0},{"$f":"((IF(ISERROR(J73-O73),,(J73-O73))))","v":0},{"$f":"P73+L73","v":0},{"$f":"IF($I73-$Q73>=0,\"\",$Q73-$I73)","v":""},{"$f":"IF($I73-$Q73>0,$I73-$Q73,\"\")","v":""}]
[null,{"$f":"التجميع!B74","v":""},null,null,null,{"$f":"التجميع!I74","v":""},{"$f":"((IF(ISERROR(VLOOKUP(F74,التعداد!$C$10:$L$45,10,0)),\"\",VLOOKUP(F74,التعداد!$C$10:$L$45,10,0))))","v":""}]
[null,null,null,null,null,{"$f":"التجميع!J74","v":""},{"$f":"((IF(ISERROR(VLOOKUP(F75,التعداد!$C$10:$L$45,10,0)),\"\",VLOOKUP(F75,التعداد!$C$10:$L$45,10,0))))","v":""}]
[null,{"$f":"التجميع!D74","v":""},null,null,null,{"$f":"التجميع!K74","v":""},{"$f":"((IF(ISERROR(VLOOKUP(F76,التعداد!$C$10:$L$45,10,0)),\"\",VLOOKUP(F76,التعداد!$C$10:$L$45,10,0))))","v":""}]
[null,null,null,null,null,{"$f":"التجميع!L74","v":""},{"$f":"((IF(ISERROR(VLOOKUP(F77,التعداد!$C$10:$L$45,10,0)),\"\",VLOOKUP(F77,التعداد!$C$10:$L$45,10,0))))","v":""}]
[null,null,null,null,null,{"$f":"التجميع!M74","v":""},{"$f":"((IF(ISERROR(VLOOKUP(F78,التعداد!$C$10:$L$45,10,0)),\"\",VLOOKUP(F78,التعداد!$C$10:$L$45,10,0))))","v":""}]
[12,null,{"$f":"التجميع!F75","v":""},{"$f":"التجميع!E75","v":""},{"$f":"التجميع!G75","v":""},{"$f":"التجميع!H75","v":""},{"$f":"((IF(ISERROR(VLOOKUP(F79,التعداد!$C$10:$L$45,10,0)),\"\",VLOOKUP(F79,التعداد!$C$10:$L$45,10,0))))","v":""},null,{"$f":"SUM(H79:H84)","v":0},{"$f":"IF(B80=\"\",\"\",22)","v":""},null,null,null,{"$f":"IF(B80=\"\",\"\",1)","v":""},{"$f":"SUM(L79:N84)","v":0},{"$f":"((IF(ISERROR(J79-O79),,(J79-O79))))","v":0},{"$f":"P79+L79","v":0},{"$f":"IF($I79-$Q79>=0,\"\",$Q79-$I79)","v":""},{"$f":"IF($I79-$Q79>0,$I79-$Q79,\"\")","v":""}]
[null,{"$f":"التجميع!B75","v":""},null,null,null,{"$f":"التجميع!I75","v":""},{"$f":"((IF(ISERROR(VLOOKUP(F80,التعداد!$C$10:$L$45,10,0)),\"\",VLOOKUP(F80,التعداد!$C$10:$L$45,10,0))))","v":""}]
[null,null,null,null,null,{"$f":"التجميع!J75","v":""},{"$f":"((IF(ISERROR(VLOOKUP(F81,التعداد!$C$10:$L$45,10,0)),\"\",VLOOKUP(F81,التعداد!$C$10:$L$45,10,0))))","v":""}]
[null,{"$f":"التجميع!D75","v":""},null,null,null,{"$f":"التجميع!K75","v":""},{"$f":"((IF(ISERROR(VLOOKUP(F82,التعداد!$C$10:$L$45,10,0)),\"\",VLOOKUP(F82,التعداد!$C$10:$L$45,10,0))))","v":""}]
[null,null,null,null,null,{"$f":"التجميع!L75","v":""},{"$f":"((IF(ISERROR(VLOOKUP(F83,التعداد!$C$10:$L$45,10,0)),\"\",VLOOKUP(F83,التعداد!$C$10:$L$45,10,0))))","v":""}]
[null,null,null,null,null,{"$f":"التجميع!M75","v":""},{"$f":"((IF(ISERROR(VLOOKUP(F84,التعداد!$C$10:$L$45,10,0)),\"\",VLOOKUP(F84,التعداد!$C$10:$L$45,10,0))))","v":""}]
["المجموع",null,null,null,null,null,{"$f":"SUM(G49:G84)","v":0},{"$f":"SUM(H49:H84)","v":0},{"$f":"SUM(I49:I84)","v":0},{"$f":"SUM(J49:J84)","v":0},null,{"$f":"SUM(L49:L84)","v":0},0,0,0,0,0,0,0]
[]
[]
[]
[]
[]
[]
[]
["المجموع العام",null,null,null,null,null,{"$f":"G42+G85","v":292},{"$f":"H42+H85","v":48},{"$f":"I42+I85","v":48},{"$f":"J42+J85","v":66},null,{"$f":"L42+L85","v":0},0,9,9,57,57,9,0]

{"sheet":"خدمات انجليزية","index":20,"n_rows":83,"n_cols":20,"rows_kept":83,"cut":false,"hidden":false,"merged":[[57,14,65,14],[57,15,65,15],[57,16,65,16],[57,17,65,17],[57,18,65,18],[57,19,65,19],[58,1,60,1],[62,1,64,1],[66,2,74,2],[66,3,74,3],[66,4,74,4],[66,8,74,8],[66,9,74,9],[66,11,74,11],[66,18,74,18],[66,19,74,19],[67,1,69,1],[71,1,73,1],[66,12,74,12],[66,13,74,13],[66,14,74,14],[66,15,74,15],[66,16,74,16],[66,17,74,17],[53,1,55,1],[48,9,56,9],[48,11,56,11],[48,12,56,12],[48,13,56,13],[48,8,56,8],[57,2,65,2],[57,3,65,3],[57,4,65,4],[57,8,65,8],[57,9,65,9],[57,11,65,11],[57,12,65,12],[57,13,65,13],[39,17,47,17],[23,19,31,19],[24,1,26,1],[28,1,30,1],[39,9,47,9],[39,11,47,11],[39,19,47,19],[36,19,38,19],[48,14,56,14],[48,15,56,15],[40,1,42,1],[44,1,46,1],[48,2,56,2],[48,3,56,3],[48,4,56,4],[39,4,47,4],[39,14,47,14],[39,15,47,15],[48,16,56,16],[48,17,56,17],[48,18,56,18],[39,18,47,18],[48,19,56,19],[49,1,51,1],[5,19,13,19],[14,2,22,2],[14,3,22,3],[14,4,22,4],[14,8,22,8],[14,9,22,9],[14,11,22,11],[14,12,22,12],[14,13,22,13],[14,14,22,14],[14,19,22,19],[75,0,75,5],[36,1,37,1],[36,3,38,3],[36,5,36,8],[36,0,38,0],[39,0,47,0],[5,14,13,14],[5,15,13,15],[5,16,13,16],[14,15,22,15],[14,16,22,16],[15,1,17,1],[19,1,21,1],[23,2,31,2],[23,3,31,3],[23,4,31,4],[23,8,31,8],[23,14,31,14],[23,15,31,15],[23,16,31,16],[37,13,38,13],[39,13,47,13],[39,12,47,12],[39,2,47,2],[36,11,36,14],[6,1,8,1],[10,1,12,1],[5,9,13,9],[5,11,13,11],[5,12,13,12],[5,13,13,13],[66,0,74,0],[36,17,36,18],[5,17,13,17],[5,18,13,18],[14,17,22,17],[14,18,22,18],[23,17,31,17],[23,18,31,18],[39,3,47,3],[23,13,31,13],[23,9,31,9],[23,11,31,11],[23,12,31,12],[39,8,47,8],[37,5,38,5],[32,0,32,5],[39,16,47,16],[0,0,0,2],[82,0,82,5],[2,17,2,18],[3,5,4,5],[14,0,22,0],[23,0,31,0],[0,11,0,12],[0,14,0,19],[2,0,4,0],[2,1,3,1],[2,3,4,3],[2,19,4,19],[2,5,2,8],[2,11,2,14],[57,0,65,0],[48,0,56,0],[3,13,4,13],[5,2,13,2],[5,3,13,3],[5,4,13,4],[5,8,13,8],[5,0,13,0],[34,11,34,12],[34,14,34,19]]}
["السنة الدراسية 2023/2022",null,null,null,null,null,null,null,null,null,null,"المادة",null,null,"لغة انجليزية"]
[]
["المناصب","اللقب والاســم   ","أقصى","الصفة","تـــــــاريـــخ","الخدمة المؤداة أسبوعيا",null,null,null,"أقصى",null,"تعديل الخدمة الواجبة  ( تخفيض )",null,null,null,"خدمة","أقصــــى","الفروق",null,"ملاحظات"]
[null,null,"درجــة",null,"التعييــن","الأقسام","عدد ","عدد  ","مجموع  ","خدمة",null,"عدد التلاميذ   ","صيانة  ","دعم","مجموع  ","صافية","خدمـة","ساعات","ساعات  "]
[null,"تاريخ  الميلاد","جامعية",null,"بالمؤسسة",null,"التلاميذ","الحصص","التوقيت","واجبة",null,"فوق 35","العتاد",null,"التخفيضات",null,"صافية","فائضة","إضافية"]
["1/2",null,{"$f":"التجميع!F79","v":"ليسانس"},{"$f":"التجميع!E79","v":"مرسمة"},{"$f":"التجميع!G79","v":"2016-09-01"},{"$f":"التجميع!H79","v":"1م1"},{"$f":"((IF(ISERROR(VLOOKUP(F6,التعداد!$C$10:$L$45,10,0)),\"\",VLOOKUP(F6,التعداد!$C$10:$L$45,10,0))))","v":31},4,{"$f":"SUM(H6:H14)","v":14},{"$f":"IF(B7=\"\",\"\",22)","v":22},null,null,null,3,{"$f":"SUM(L6:N14)","v":3},{"$f":"((IF(ISERROR(J6-O6),,(J6-O6))))","v":19},{"$f":"P6+L6","v":19},{"$f":"IF($I6-$Q6>=0,\"\",$Q6-$I6)","v":5},{"$f":"IF($I6-$Q6>0,$I6-$Q6,\"\")","v":""}]
[null,{"$f":"التجميع!B79","v":"زريفي إبراهيم"},null,null,null,{"$f":"التجميع!I79","v":"1م2"},{"$f":"((IF(ISERROR(VLOOKUP(F7,التعداد!$C$10:$L$45,10,0)),\"\",VLOOKUP(F7,التعداد!$C$10:$L$45,10,0))))","v":31},4]
[null,null,null,null,null,{"$f":"التجميع!J79","v":"1م3"},{"$f":"((IF(ISERROR(VLOOKUP(F8,التعداد!$C$10:$L$45,10,0)),\"\",VLOOKUP(F8,التعداد!$C$10:$L$45,10,0))))","v":32},3]
[null,null,null,null,null,{"$f":"التجميع!K79","v":"3م2"},{"$f":"((IF(ISERROR(VLOOKUP(F9,التعداد!$C$10:$L$45,10,0)),\"\",VLOOKUP(F9,التعداد!$C$10:$L$45,10,0))))","v":32},3]
[null,null,null,null,null,{"$f":"التجميع!L79","v":"3م3"},{"$f":"((IF(ISERROR(VLOOKUP(F10,التعداد!$C$10:$L$45,10,0)),\"\",VLOOKUP(F10,التعداد!$C$10:$L$45,10,0))))","v":""}]
[null,{"$f":"التجميع!D79","v":"1982-03-31"},null,null,null,{"$f":"التجميع!M79","v":0},{"$f":"((IF(ISERROR(VLOOKUP(F11,التعداد!$C$10:$L$45,10,0)),\"\",VLOOKUP(F11,التعداد!$C$10:$L$45,10,0))))","v":""}]
[null,null,null,null,null,{"$f":"التجميع!N79","v":0},{"$f":"((IF(ISERROR(VLOOKUP(F12,التعداد!$C$10:$L$45,10,0)),\"\",VLOOKUP(F12,التعداد!$C$10:$L$45,10,0))))","v":""}]
[null,null,null,null,null,{"$f":"التجميع!O79","v":0},{"$f":"((IF(ISERROR(VLOOKUP(F13,التعداد!$C$10:$L$45,10,0)),\"\",VLOOKUP(F13,التعداد!$C$10:$L$45,10,0))))","v":""}]
[null,null,null,null,null,{"$f":"التجميع!P79","v":0},{"$f":"((IF(ISERROR(VLOOKUP(F14,التعداد!$C$10:$L$45,10,0)),\"\",VLOOKUP(F14,التعداد!$C$10:$L$45,10,0))))","v":""}]
[1,null,{"$f":"التجميع!F80","v":"ليسانس"},{"$f":"التجميع!E80","v":"مرسمة"},{"$f":"التجميع!G80","v":"2013-12-08"},{"$f":"التجميع!H80","v":"4م1"},{"$f":"((IF(ISERROR(VLOOKUP(F15,التعداد!$C$10:$L$45,10,0)),\"\",VLOOKUP(F15,التعداد!$C$10:$L$45,10,0))))","v":26},4,{"$f":"SUM(H15:H23)","v":18},{"$f":"IF(B16=\"\",\"\",22)","v":22},null,null,null,3,{"$f":"SUM(L15:N23)","v":3},{"$f":"((IF(ISERROR(J15-O15),,(J15-O15))))","v":19},{"$f":"P15+L15","v":19},{"$f":"IF($I15-$Q15>=0,\"\",$Q15-$I15)","v":1},{"$f":"IF($I15-$Q15>0,$I15-$Q15,\"\")","v":""}]
[null,{"$f":"التجميع!B80","v":"محمدي مريم "},null,null,null,{"$f":"التجميع!I80","v":"4م2"},{"$f":"((IF(ISERROR(VLOOKUP(F16,التعداد!$C$10:$L$45,10,0)),\"\",VLOOKUP(F16,التعداد!$C$10:$L$45,10,0))))","v":28},4]
[null,null,null,null,null,{"$f":"التجميع!J80","v":"2م1"},{"$f":"((IF(ISERROR(VLOOKUP(F17,التعداد!$C$10:$L$45,10,0)),\"\",VLOOKUP(F17,التعداد!$C$10:$L$45,10,0))))","v":28},4]
[null,null,null,null,null,{"$f":"التجميع!K80","v":"2م2"},{"$f":"((IF(ISERROR(VLOOKUP(F18,التعداد!$C$10:$L$45,10,0)),\"\",VLOOKUP(F18,التعداد!$C$10:$L$45,10,0))))","v":27},3]
[null,null,null,null,null,{"$f":"التجميع!L80","v":"2م3"},{"$f":"((IF(ISERROR(VLOOKUP(F19,التعداد!$C$10:$L$45,10,0)),\"\",VLOOKUP(F19,التعداد!$C$10:$L$45,10,0))))","v":26},3]
[null,{"$f":"التجميع!D80","v":"1983-12-31"},null,null,null,{"$f":"التجميع!M80","v":0},{"$f":"((IF(ISERROR(VLOOKUP(F20,التعداد!$C$10:$L$45,10,0)),\"\",VLOOKUP(F20,التعداد!$C$10:$L$45,10,0))))","v":""}]
[null,null,null,null,null,{"$f":"التجميع!N80","v":0},{"$f":"((IF(ISERROR(VLOOKUP(F21,التعداد!$C$10:$L$45,10,0)),\"\",VLOOKUP(F21,التعداد!$C$10:$L$45,10,0))))","v":""}]
[null,null,null,null,null,{"$f":"التجميع!O80","v":0},{"$f":"((IF(ISERROR(VLOOKUP(F22,التعداد!$C$10:$L$45,10,0)),\"\",VLOOKUP(F22,التعداد!$C$10:$L$45,10,0))))","v":""}]
[null,null,null,null,null,{"$f":"التجميع!P80","v":0},{"$f":"((IF(ISERROR(VLOOKUP(F23,التعداد!$C$10:$L$45,10,0)),\"\",VLOOKUP(F23,التعداد!$C$10:$L$45,10,0))))","v":""}]
[null,null,{"$f":"التجميع!F81","v":""},{"$f":"التجميع!E81","v":""},{"$f":"التجميع!G81","v":""},{"$f":"التجميع!H81","v":""},{"$f":"((IF(ISERROR(VLOOKUP(F24,التعداد!$C$10:$L$45,10,0)),\"\",VLOOKUP(F24,التعداد!$C$10:$L$45,10,0))))","v":""},null,{"$f":"SUM(H24:H32)","v":0},{"$f":"IF(B25=\"\",\"\",22)","v":""},null,null,null,null,null,{"$f":"((IF(ISERROR(J24-O24),,(J24-O24))))","v":0},{"$f":"P24+L24","v":0},{"$f":"IF($I24-$Q24>=0,\"\",$Q24-$I24)","v":""},{"$f":"IF($I24-$Q24>0,$I24-$Q24,\"\")","v":""}]
[null,{"$f":"التجميع!B81","v":""},null,null,null,{"$f":"التجميع!I81","v":""},{"$f":"((IF(ISERROR(VLOOKUP(F25,التعداد!$C$10:$L$45,10,0)),\"\",VLOOKUP(F25,التعداد!$C$10:$L$45,10,0))))","v":""}]
[null,null,null,null,null,{"$f":"التجميع!J81","v":""},{"$f":"((IF(ISERROR(VLOOKUP(F26,التعداد!$C$10:$L$45,10,0)),\"\",VLOOKUP(F26,التعداد!$C$10:$L$45,10,0))))","v":""}]
[null,null,null,null,null,{"$f":"التجميع!K81","v":""},{"$f":"((IF(ISERROR(VLOOKUP(F27,التعداد!$C$10:$L$45,10,0)),\"\",VLOOKUP(F27,التعداد!$C$10:$L$45,10,0))))","v":""}]
[null,null,null,null,null,{"$f":"التجميع!L81","v":""},{"$f":"((IF(ISERROR(VLOOKUP(F28,التعداد!$C$10:$L$45,10,0)),\"\",VLOOKUP(F28,التعداد!$C$10:$L$45,10,0))))","v":""}]
[null,{"$f":"التجميع!D81","v":""},null,null,null,{"$f":"التجميع!M81","v":""},{"$f":"((IF(ISERROR(VLOOKUP(F29,التعداد!$C$10:$L$45,10,0)),\"\",VLOOKUP(F29,التعداد!$C$10:$L$45,10,0))))","v":""}]
[null,null,null,null,null,{"$f":"التجميع!N81","v":""},{"$f":"((IF(ISERROR(VLOOKUP(F30,التعداد!$C$10:$L$45,10,0)),\"\",VLOOKUP(F30,التعداد!$C$10:$L$45,10,0))))","v":""}]
[null,null,null,null,null,{"$f":"التجميع!O81","v":""},{"$f":"((IF(ISERROR(VLOOKUP(F31,التعداد!$C$10:$L$45,10,0)),\"\",VLOOKUP(F31,التعداد!$C$10:$L$45,10,0))))","v":""}]
[null,null,null,null,null,{"$f":"التجميع!P81","v":""},{"$f":"((IF(ISERROR(VLOOKUP(F32,التعداد!$C$10:$L$45,10,0)),\"\",VLOOKUP(F32,التعداد!$C$10:$L$45,10,0))))","v":""}]
["المجموع",null,null,null,null,null,{"$f":"SUM(G6:G32)","v":261},{"$f":"SUM(H6:H32)","v":32},{"$f":"SUM(I6:I32)","v":32},{"$f":"SUM(J6:J32)","v":44},null,{"$f":"SUM(L6:L32)","v":0},0,6,6,38,38,6,0]
[]
[null,null,null,null,null,null,null,null,null,null,null,"المادة",null,null,"لغة انجليزية"]
[]
["المناصب","اللقب والاســم   ","أقصى","الصفة","تـــــــاريـــخ","الخدمة المؤداة أسبوعيا",null,null,null,"أقصى",null,"تعديل الخدمة الواجبة  ( تخفيض )",null,null,null,"خدمة","أقصــــى","الفروق",null,"ملاحظات"]
[null,null,"درجــة",null,"التعييــن","الأقسام","عدد ","عدد  ","مجموع  ","خدمة",null,"عدد التلاميذ   ","صيانة  ","التنسيق","مجموع  ","صافية","خدمـة","ساعات","ساعات  "]
[null,"تاريخ  الميلاد","جامعية",null,"بالمؤسسة",null,"التلاميذ","الحصص","التوقيت","واجبة",null,"فوق 35","العتاد",null,"التخفيضات",null,"صافية","فائضة","إضافية"]
[5,null,{"$f":"التجميع!F83","v":""},{"$f":"التجميع!E83","v":""},{"$f":"التجميع!G83","v":""},{"$f":"التجميع!H83","v":""},{"$f":"((IF(ISERROR(VLOOKUP(F40,التعداد!$C$10:$L$45,10,0)),\"\",VLOOKUP(F40,التعداد!$C$10:$L$45,10,0))))","v":""},null,{"$f":"SUM(H40:H48)","v":0},{"$f":"IF(B41=\"\",\"\",22)","v":""},null,null,null,{"$f":"IF(B41=\"\",\"\",1)","v":""},{"$f":"SUM(L40:N48)","v":0},{"$f":"((IF(ISERROR(J40-O40),,(J40-O40))))","v":0},{"$f":"P40+L40","v":0},{"$f":"IF($I40-$Q40>=0,\"\",$Q40-$I40)","v":""},{"$f":"IF($I40-$Q40>0,$I40-$Q40,\"\")","v":""}]
[null,{"$f":"التجميع!B83","v":""},null,null,null,{"$f":"التجميع!I83","v":""},{"$f":"((IF(ISERROR(VLOOKUP(F41,التعداد!$C$10:$L$45,10,0)),\"\",VLOOKUP(F41,التعداد!$C$10:$L$45,10,0))))","v":""}]
[null,null,null,null,null,{"$f":"التجميع!J83","v":""},{"$f":"((IF(ISERROR(VLOOKUP(F42,التعداد!$C$10:$L$45,10,0)),\"\",VLOOKUP(F42,التعداد!$C$10:$L$45,10,0))))","v":""}]
[null,null,null,null,null,{"$f":"التجميع!K83","v":""},{"$f":"((IF(ISERROR(VLOOKUP(F43,التعداد!$C$10:$L$45,10,0)),\"\",VLOOKUP(F43,التعداد!$C$10:$L$45,10,0))))","v":""}]
[null,null,null,null,null,{"$f":"التجميع!L83","v":""},{"$f":"((IF(ISERROR(VLOOKUP(F44,التعداد!$C$10:$L$45,10,0)),\"\",VLOOKUP(F44,التعداد!$C$10:$L$45,10,0))))","v":""}]
[null,{"$f":"التجميع!D83","v":""},null,null,null,{"$f":"التجميع!M83","v":""},{"$f":"((IF(ISERROR(VLOOKUP(F45,التعداد!$C$10:$L$45,10,0)),\"\",VLOOKUP(F45,التعداد!$C$10:$L$45,10,0))))","v":""}]
[null,null,null,null,null,{"$f":"التجميع!N83","v":""},{"$f":"((IF(ISERROR(VLOOKUP(F46,التعداد!$C$10:$L$45,10,0)),\"\",VLOOKUP(F46,التعداد!$C$10:$L$45,10,0))))","v":""}]
[null,null,null,null,null,{"$f":"التجميع!O83","v":""},{"$f":"((IF(ISERROR(VLOOKUP(F47,التعداد!$C$10:$L$45,10,0)),\"\",VLOOKUP(F47,التعداد!$C$10:$L$45,10,0))))","v":""}]
[null,null,null,null,null,{"$f":"التجميع!P83","v":""},{"$f":"((IF(ISERROR(VLOOKUP(F48,التعداد!$C$10:$L$45,10,0)),\"\",VLOOKUP(F48,التعداد!$C$10:$L$45,10,0))))","v":""}]
[6,null,{"$f":"التجميع!F84","v":""},{"$f":"التجميع!E84","v":""},{"$f":"التجميع!G84","v":""},{"$f":"التجميع!H84","v":""},{"$f":"((IF(ISERROR(VLOOKUP(F49,التعداد!$C$10:$L$45,10,0)),\"\",VLOOKUP(F49,التعداد!$C$10:$L$45,10,0))))","v":""},null,{"$f":"SUM(H49:H57)","v":0},{"$f":"IF(B50=\"\",\"\",22)","v":""},null,null,null,{"$f":"IF(B50=\"\",\"\",1)","v":""},{"$f":"SUM(L49:N57)","v":0},{"$f":"((IF(ISERROR(J49-O49),,(J49-O49))))","v":0},{"$f":"P49+L49","v":0},{"$f":"IF($I49-$Q49>=0,\"\",$Q49-$I49)","v":""},{"$f":"IF($I49-$Q49>0,$I49-$Q49,\"\")","v":""}]
[null,{"$f":"التجميع!B84","v":""},null,null,null,{"$f":"التجميع!I84","v":""},{"$f":"((IF(ISERROR(VLOOKUP(F50,التعداد!$C$10:$L$45,10,0)),\"\",VLOOKUP(F50,التعداد!$C$10:$L$45,10,0))))","v":""}]
[null,null,null,null,null,{"$f":"التجميع!J84","v":""},{"$f":"((IF(ISERROR(VLOOKUP(F51,التعداد!$C$10:$L$45,10,0)),\"\",VLOOKUP(F51,التعداد!$C$10:$L$45,10,0))))","v":""}]
[null,null,null,null,null,{"$f":"التجميع!K84","v":""},{"$f":"((IF(ISERROR(VLOOKUP(F52,التعداد!$C$10:$L$45,10,0)),\"\",VLOOKUP(F52,التعداد!$C$10:$L$45,10,0))))","v":""}]
[null,null,null,null,null,{"$f":"التجميع!L84","v":""},{"$f":"((IF(ISERROR(VLOOKUP(F53,التعداد!$C$10:$L$45,10,0)),\"\",VLOOKUP(F53,التعداد!$C$10:$L$45,10,0))))","v":""}]
[null,{"$f":"التجميع!D84","v":""},null,null,null,{"$f":"التجميع!M84","v":""},{"$f":"((IF(ISERROR(VLOOKUP(F54,التعداد!$C$10:$L$45,10,0)),\"\",VLOOKUP(F54,التعداد!$C$10:$L$45,10,0))))","v":""}]
[null,null,null,null,null,{"$f":"التجميع!N84","v":""},{"$f":"((IF(ISERROR(VLOOKUP(F55,التعداد!$C$10:$L$45,10,0)),\"\",VLOOKUP(F55,التعداد!$C$10:$L$45,10,0))))","v":""}]
[null,null,null,null,null,{"$f":"التجميع!O84","v":""},{"$f":"((IF(ISERROR(VLOOKUP(F56,التعداد!$C$10:$L$45,10,0)),\"\",VLOOKUP(F56,التعداد!$C$10:$L$45,10,0))))","v":""}]
[null,null,null,null,null,{"$f":"التجميع!P84","v":""},{"$f":"((IF(ISERROR(VLOOKUP(F57,التعداد!$C$10:$L$45,10,0)),\"\",VLOOKUP(F57,التعداد!$C$10:$L$45,10,0))))","v":""}]
[7,null,{"$f":"التجميع!F85","v":""},{"$f":"التجميع!E85","v":""},{"$f":"التجميع!G85","v":""},{"$f":"التجميع!H85","v":""},{"$f":"((IF(ISERROR(VLOOKUP(F58,التعداد!$C$10:$L$45,10,0)),\"\",VLOOKUP(F58,التعداد!$C$10:$L$45,10,0))))","v":""},null,{"$f":"SUM(H58:H66)","v":0},{"$f":"IF(B59=\"\",\"\",22)","v":""},null,null,null,{"$f":"IF(B59=\"\",\"\",1)","v":""},{"$f":"SUM(L58:N66)","v":0},{"$f":"((IF(ISERROR(J58-O58),,(J58-O58))))","v":0},{"$f":"P58+L58","v":0},{"$f":"IF($I58-$Q58>=0,\"\",$Q58-$I58)","v":""},{"$f":"IF($I58-$Q58>0,$I58-$Q58,\"\")","v":""}]
[null,{"$f":"التجميع!B85","v":""},null,null,null,{"$f":"التجميع!I85","v":""},{"$f":"((IF(ISERROR(VLOOKUP(F59,التعداد!$C$10:$L$45,10,0)),\"\",VLOOKUP(F59,التعداد!$C$10:$L$45,10,0))))","v":""}]
[null,null,null,null,null,{"$f":"التجميع!J85","v":""},{"$f":"((IF(ISERROR(VLOOKUP(F60,التعداد!$C$10:$L$45,10,0)),\"\",VLOOKUP(F60,التعداد!$C$10:$L$45,10,0))))","v":""}]
[null,null,null,null,null,{"$f":"التجميع!K85","v":""},{"$f":"((IF(ISERROR(VLOOKUP(F61,التعداد!$C$10:$L$45,10,0)),\"\",VLOOKUP(F61,التعداد!$C$10:$L$45,10,0))))","v":""}]
[null,null,null,null,null,{"$f":"التجميع!L85","v":""},{"$f":"((IF(ISERROR(VLOOKUP(F62,التعداد!$C$10:$L$45,10,0)),\"\",VLOOKUP(F62,التعداد!$C$10:$L$45,10,0))))","v":""}]
[null,{"$f":"التجميع!D85","v":""},null,null,null,{"$f":"التجميع!M85","v":""},{"$f":"((IF(ISERROR(VLOOKUP(F63,التعداد!$C$10:$L$45,10,0)),\"\",VLOOKUP(F63,التعداد!$C$10:$L$45,10,0))))","v":""}]
[null,null,null,null,null,{"$f":"التجميع!N85","v":""},{"$f":"((IF(ISERROR(VLOOKUP(F64,التعداد!$C$10:$L$45,10,0)),\"\",VLOOKUP(F64,التعداد!$C$10:$L$45,10,0))))","v":""}]
[null,null,null,null,null,{"$f":"التجميع!O85","v":""},{"$f":"((IF(ISERROR(VLOOKUP(F65,التعداد!$C$10:$L$45,10,0)),\"\",VLOOKUP(F65,التعداد!$C$10:$L$45,10,0))))","v":""}]
[null,null,null,null,null,{"$f":"التجميع!P85","v":""},{"$f":"((IF(ISERROR(VLOOKUP(F66,التعداد!$C$10:$L$45,10,0)),\"\",VLOOKUP(F66,التعداد!$C$10:$L$45,10,0))))","v":""}]
[8,null,{"$f":"التجميع!F86","v":""},{"$f":"التجميع!E86","v":""},{"$f":"التجميع!G86","v":""},{"$f":"التجميع!H86","v":""},{"$f":"((IF(ISERROR(VLOOKUP(F67,التعداد!$C$10:$L$45,10,0)),\"\",VLOOKUP(F67,التعداد!$C$10:$L$45,10,0))))","v":""},null,{"$f":"SUM(H67:H75)","v":0},{"$f":"IF(B68=\"\",\"\",22)","v":""},null,null,null,{"$f":"IF(B68=\"\",\"\",1)","v":""},{"$f":"SUM(L67:N75)","v":0},{"$f":"((IF(ISERROR(J67-O67),,(J67-O67))))","v":0},{"$f":"P67+L67","v":0},{"$f":"IF($I67-$Q67>=0,\"\",$Q67-$I67)","v":""},{"$f":"IF($I67-$Q67>0,$I67-$Q67,\"\")","v":""}]
[null,{"$f":"التجميع!B86","v":""},null,null,null,{"$f":"التجميع!I86","v":""},{"$f":"((IF(ISERROR(VLOOKUP(F68,التعداد!$C$10:$L$45,10,0)),\"\",VLOOKUP(F68,التعداد!$C$10:$L$45,10,0))))","v":""}]
[null,null,null,null,null,{"$f":"التجميع!J86","v":""},{"$f":"((IF(ISERROR(VLOOKUP(F69,التعداد!$C$10:$L$45,10,0)),\"\",VLOOKUP(F69,التعداد!$C$10:$L$45,10,0))))","v":""}]
[null,null,null,null,null,{"$f":"التجميع!K86","v":""},{"$f":"((IF(ISERROR(VLOOKUP(F70,التعداد!$C$10:$L$45,10,0)),\"\",VLOOKUP(F70,التعداد!$C$10:$L$45,10,0))))","v":""}]
[null,null,null,null,null,{"$f":"التجميع!L86","v":""},{"$f":"((IF(ISERROR(VLOOKUP(F71,التعداد!$C$10:$L$45,10,0)),\"\",VLOOKUP(F71,التعداد!$C$10:$L$45,10,0))))","v":""}]
[null,{"$f":"التجميع!D86","v":""},null,null,null,{"$f":"التجميع!M86","v":""},{"$f":"((IF(ISERROR(VLOOKUP(F72,التعداد!$C$10:$L$45,10,0)),\"\",VLOOKUP(F72,التعداد!$C$10:$L$45,10,0))))","v":""}]
[null,null,null,null,null,{"$f":"التجميع!N86","v":""},{"$f":"((IF(ISERROR(VLOOKUP(F73,التعداد!$C$10:$L$45,10,0)),\"\",VLOOKUP(F73,التعداد!$C$10:$L$45,10,0))))","v":""}]
[null,null,null,null,null,{"$f":"التجميع!O86","v":""},{"$f":"((IF(ISERROR(VLOOKUP(F74,التعداد!$C$10:$L$45,10,0)),\"\",VLOOKUP(F74,التعداد!$C$10:$L$45,10,0))))","v":""}]
[null,null,null,null,null,{"$f":"التجميع!P86","v":""},{"$f":"((IF(ISERROR(VLOOKUP(F75,التعداد!$C$10:$L$45,10,0)),\"\",VLOOKUP(F75,التعداد!$C$10:$L$45,10,0))))","v":""}]
["المجموع",null,null,null,null,null,{"$f":"SUM(G40:G75)","v":0},{"$f":"SUM(H40:H75)","v":0},{"$f":"SUM(I40:I75)","v":0},{"$f":"SUM(J40:J75)","v":0},null,{"$f":"SUM(L40:L75)","v":0},0,0,0,0,0,0,0]
[]
[]
[]
[]
[]
[]
["المجموع العام",null,null,null,null,null,{"$f":"G33+G76","v":261},{"$f":"H33+H76","v":32},{"$f":"I33+I76","v":32},{"$f":"J33+J76","v":44},null,{"$f":"L33+L76","v":0},0,6,6,38,38,6,0]

{"sheet":"خدمات فيزياء","index":21,"n_rows":83,"n_cols":20,"rows_kept":83,"cut":false,"hidden":false,"merged":[[66,19,74,19],[66,13,74,13],[66,14,74,14],[66,15,74,15],[66,16,74,16],[66,17,74,17],[66,18,74,18],[57,13,65,13],[57,14,65,14],[57,15,65,15],[57,16,65,16],[57,17,65,17],[57,18,65,18],[57,19,65,19],[58,1,60,1],[62,1,64,1],[39,19,47,19],[40,1,42,1],[44,1,46,1],[48,2,56,2],[48,3,56,3],[48,4,56,4],[48,8,56,8],[48,9,56,9],[48,11,56,11],[48,12,56,12],[48,13,56,13],[48,14,56,14],[48,15,56,15],[48,16,56,16],[48,17,56,17],[48,18,56,18],[48,19,56,19],[49,1,51,1],[53,1,55,1],[14,19,22,19],[15,1,17,1],[19,1,21,1],[14,9,22,9],[14,11,22,11],[14,12,22,12],[14,13,22,13],[23,13,31,13],[23,14,31,14],[23,15,31,15],[23,16,31,16],[23,17,31,17],[23,18,31,18],[23,19,31,19],[24,1,26,1],[28,1,30,1],[75,0,75,5],[36,3,38,3],[36,5,36,8],[36,0,38,0],[5,2,13,2],[5,3,13,3],[5,4,13,4],[5,8,13,8],[23,2,31,2],[23,3,31,3],[39,2,47,2],[39,3,47,3],[39,4,47,4],[39,8,47,8],[57,2,65,2],[57,3,65,3],[57,4,65,4],[57,8,65,8],[66,2,74,2],[66,3,74,3],[66,4,74,4],[66,8,74,8],[67,1,69,1],[23,8,31,8],[23,9,31,9],[23,11,31,11],[23,12,31,12],[71,1,73,1],[2,3,4,3],[5,0,13,0],[14,0,22,0],[32,0,32,5],[36,1,37,1],[66,0,74,0],[3,5,4,5],[6,1,8,1],[23,4,31,4],[39,9,47,9],[39,11,47,11],[39,12,47,12],[57,9,65,9],[57,11,65,11],[57,12,65,12],[66,9,74,9],[66,11,74,11],[66,12,74,12],[5,9,13,9],[10,1,12,1],[14,2,22,2],[5,13,13,13],[14,3,22,3],[5,18,13,18],[23,0,31,0],[57,0,65,0],[39,0,47,0],[48,0,56,0],[34,11,34,12],[5,14,13,14],[5,15,13,15],[5,16,13,16],[5,17,13,17],[14,16,22,16],[14,17,22,17],[14,18,22,18],[39,13,47,13],[39,14,47,14],[39,15,47,15],[39,16,47,16],[39,17,47,17],[39,18,47,18],[2,17,2,18],[36,17,36,18],[5,11,13,11],[5,12,13,12],[0,0,0,2],[82,0,82,5],[0,11,0,12],[36,11,36,14],[0,14,0,19],[2,0,4,0],[2,1,3,1],[2,11,2,14],[14,4,22,4],[14,8,22,8],[2,19,4,19],[34,14,34,19],[3,13,4,13],[5,19,13,19],[14,14,22,14],[14,15,22,15],[36,19,38,19],[2,5,2,8],[37,13,38,13],[37,5,38,5]]}
["السنة الدراسية 2023/2022",null,null,null,null,null,null,null,null,null,null,"المادة",null,null,"علوم فيزيائية وتكنولوجية"]
[]
["المناصب","اللقب والاســم   ","أقصى","الصفة","تـــــــاريـــخ","الخدمة المؤداة أسبوعيا",null,null,null,"أقصى",null,"تعديل الخدمة الواجبة  ( تخفيض )",null,null,null,"خدمة","أقصــــى","الفروق",null,"ملاحظات"]
[null,null,"درجــة",null,"التعييــن","الأقسام","عدد ","عدد  ","مجموع  ","خدمة",null,"عدد التلاميذ   ","صيانة  ","دعم ","مجموع  ","صافية","خدمـة","ساعات","ساعات  "]
[null,"تاريخ  الميلاد","جامعية",null,"بالمؤسسة",null,"التلاميذ","الحصص","التوقيت","واجبة",null,"فوق 35","العتاد",null,"التخفيضات",null,"صافية","فائضة","إضافية"]
["1/2",null,{"$f":"التجميع!F19","v":"ليسانس"},{"$f":"التجميع!E19","v":"مرسم"},{"$f":"التجميع!G19","v":"1986-06-25"},{"$f":"التجميع!H19","v":"4م1"},{"$f":"((IF(ISERROR(VLOOKUP(F6,التعداد!$C$10:$L$45,10,0)),\"\",VLOOKUP(F6,التعداد!$C$10:$L$45,10,0))))","v":26},3,{"$f":"SUM(H6:H14)","v":16},{"$f":"IF(B7=\"\",\"\",22)","v":22},null,null,null,null,{"$f":"SUM(L6:N14)","v":0},{"$f":"((IF(ISERROR(J6-O6),,(J6-O6))))","v":22},{"$f":"P6+L6","v":22},{"$f":"IF($I6-$Q6>=0,\"\",$Q6-$I6)","v":6},{"$f":"IF($I6-$Q6>0,$I6-$Q6,\"\")","v":""},"02 ساعتان اعلام الي "]
[null,{"$f":"التجميع!B19","v":"داودي ميلود"},null,null,null,{"$f":"التجميع!I19","v":"4م2"},{"$f":"((IF(ISERROR(VLOOKUP(F7,التعداد!$C$10:$L$45,10,0)),\"\",VLOOKUP(F7,التعداد!$C$10:$L$45,10,0))))","v":28},3]
[null,null,null,null,null,{"$f":"التجميع!J19","v":"2م1"},{"$f":"((IF(ISERROR(VLOOKUP(F8,التعداد!$C$10:$L$45,10,0)),\"\",VLOOKUP(F8,التعداد!$C$10:$L$45,10,0))))","v":28},3]
[null,null,null,null,null,{"$f":"التجميع!K19","v":"2م2"},{"$f":"((IF(ISERROR(VLOOKUP(F9,التعداد!$C$10:$L$45,10,0)),\"\",VLOOKUP(F9,التعداد!$C$10:$L$45,10,0))))","v":27},3]
[null,null,null,null,null,{"$f":"التجميع!L19","v":"2م3"},{"$f":"((IF(ISERROR(VLOOKUP(F10,التعداد!$C$10:$L$45,10,0)),\"\",VLOOKUP(F10,التعداد!$C$10:$L$45,10,0))))","v":26},2]
[null,{"$f":"التجميع!D19","v":"1975-03-19"},null,null,null,{"$f":"التجميع!M19","v":0},null,2]
[null,null,null,null,null,{"$f":"التجميع!N19","v":0}]
[null,null,null,null,null,{"$f":"التجميع!O19","v":0}]
[null,null,null,null,null,{"$f":"التجميع!P19","v":0},{"$f":"((IF(ISERROR(VLOOKUP(F14,التعداد!$C$10:$L$45,10,0)),\"\",VLOOKUP(F14,التعداد!$C$10:$L$45,10,0))))","v":""}]
["2/2",null,{"$f":"التجميع!F20","v":"ليسانس"},{"$f":"التجميع!E20","v":"مرسمة"},{"$f":"التجميع!G20","v":"2015-09-01"},{"$f":"التجميع!H20","v":"1م1"},{"$f":"((IF(ISERROR(VLOOKUP(F15,التعداد!$C$10:$L$45,10,0)),\"\",VLOOKUP(F15,التعداد!$C$10:$L$45,10,0))))","v":31},3,{"$f":"SUM(H15:H23)","v":15},{"$f":"IF(B16=\"\",\"\",22)","v":22},null,null,2,null,{"$f":"SUM(L15:N23)","v":2},{"$f":"((IF(ISERROR(J15-O15),,(J15-O15))))","v":20},{"$f":"P15+L15","v":20},{"$f":"IF($I15-$Q15>=0,\"\",$Q15-$I15)","v":5},{"$f":"IF($I15-$Q15>0,$I15-$Q15,\"\")","v":""}]
[null,{"$f":"التجميع!B20","v":"طيبي عبد القادر "},null,null,null,{"$f":"التجميع!I20","v":"1م2"},{"$f":"((IF(ISERROR(VLOOKUP(F16,التعداد!$C$10:$L$45,10,0)),\"\",VLOOKUP(F16,التعداد!$C$10:$L$45,10,0))))","v":31},3]
[null,null,null,null,null,{"$f":"التجميع!J20","v":"1م3"},{"$f":"((IF(ISERROR(VLOOKUP(F17,التعداد!$C$10:$L$45,10,0)),\"\",VLOOKUP(F17,التعداد!$C$10:$L$45,10,0))))","v":32},3]
[null,null,null,null,null,{"$f":"التجميع!K20","v":"3م1"},{"$f":"((IF(ISERROR(VLOOKUP(F18,التعداد!$C$10:$L$45,10,0)),\"\",VLOOKUP(F18,التعداد!$C$10:$L$45,10,0))))","v":31},3]
[null,null,null,null,null,{"$f":"التجميع!L20","v":"3م2"},{"$f":"((IF(ISERROR(VLOOKUP(F19,التعداد!$C$10:$L$45,10,0)),\"\",VLOOKUP(F19,التعداد!$C$10:$L$45,10,0))))","v":32},3]
[null,{"$f":"التجميع!D20","v":"1990-08-06"},null,null,null,{"$f":"التجميع!M20","v":0}]
[null,null,null,null,null,{"$f":"التجميع!N20","v":0}]
[null,null,null,null,null,{"$f":"التجميع!O20","v":0},{"$f":"((IF(ISERROR(VLOOKUP(F22,التعداد!$C$10:$L$45,10,0)),\"\",VLOOKUP(F22,التعداد!$C$10:$L$45,10,0))))","v":""}]
[null,null,null,null,null,{"$f":"التجميع!P20","v":0},{"$f":"((IF(ISERROR(VLOOKUP(F23,التعداد!$C$10:$L$45,10,0)),\"\",VLOOKUP(F23,التعداد!$C$10:$L$45,10,0))))","v":""}]
[4,null,{"$f":"التجميع!F22","v":""},{"$f":"التجميع!E22","v":""},{"$f":"التجميع!G22","v":""},{"$f":"التجميع!H22","v":""},{"$f":"((IF(ISERROR(VLOOKUP(F24,التعداد!$C$10:$L$45,10,0)),\"\",VLOOKUP(F24,التعداد!$C$10:$L$45,10,0))))","v":""},null,".......",{"$f":"IF(B25=\"\",\"\",22)","v":""},null,null,null,null,{"$f":"SUM(L24:N32)","v":0},{"$f":"((IF(ISERROR(J24-O24),,(J24-O24))))","v":0},{"$f":"P24+L24","v":0}]
[null,{"$f":"التجميع!B22","v":""},null,null,null,{"$f":"التجميع!I22","v":""},{"$f":"((IF(ISERROR(VLOOKUP(F25,التعداد!$C$10:$L$45,10,0)),\"\",VLOOKUP(F25,التعداد!$C$10:$L$45,10,0))))","v":""}]
[null,null,null,null,null,{"$f":"التجميع!J22","v":""},{"$f":"((IF(ISERROR(VLOOKUP(F26,التعداد!$C$10:$L$45,10,0)),\"\",VLOOKUP(F26,التعداد!$C$10:$L$45,10,0))))","v":""}]
[null,null,null,null,null,{"$f":"التجميع!K22","v":""},{"$f":"((IF(ISERROR(VLOOKUP(F27,التعداد!$C$10:$L$45,10,0)),\"\",VLOOKUP(F27,التعداد!$C$10:$L$45,10,0))))","v":""}]
[null,null,null,null,null,{"$f":"التجميع!L22","v":""},{"$f":"((IF(ISERROR(VLOOKUP(F28,التعداد!$C$10:$L$45,10,0)),\"\",VLOOKUP(F28,التعداد!$C$10:$L$45,10,0))))","v":""}]
[null,{"$f":"التجميع!D22","v":""},null,null,null,{"$f":"التجميع!M22","v":""},{"$f":"((IF(ISERROR(VLOOKUP(F29,التعداد!$C$10:$L$45,10,0)),\"\",VLOOKUP(F29,التعداد!$C$10:$L$45,10,0))))","v":""}]
[null,null,null,null,null,{"$f":"التجميع!N22","v":""},{"$f":"((IF(ISERROR(VLOOKUP(F30,التعداد!$C$10:$L$45,10,0)),\"\",VLOOKUP(F30,التعداد!$C$10:$L$45,10,0))))","v":""}]
[null,null,null,null,null,{"$f":"التجميع!O22","v":""},{"$f":"((IF(ISERROR(VLOOKUP(F31,التعداد!$C$10:$L$45,10,0)),\"\",VLOOKUP(F31,التعداد!$C$10:$L$45,10,0))))","v":""}]
[null,null,null,null,null,{"$f":"التجميع!P22","v":""},{"$f":"((IF(ISERROR(VLOOKUP(F32,التعداد!$C$10:$L$45,10,0)),\"\",VLOOKUP(F32,التعداد!$C$10:$L$45,10,0))))","v":""}]
["المجموع",null,null,null,null,null,{"$f":"التعداد!Q14","v":292},{"$f":"SUM(H6:H32)","v":31},{"$f":"SUM(I6:I32)","v":31},{"$f":"SUM(J6:J32)","v":44},null,{"$f":"SUM(L6:L32)","v":0},2,0,2,42,{"$f":"SUM(Q6:Q32)","v":42},{"$f":"SUM(R6:R32)","v":11},0]
[]
[null,null,null,null,null,null,null,null,null,null,null,"المادة",null,null,"علوم فيزيائية وتكنولوجية"]
[]
["المناصب","اللقب والاســم   ","أقصى","الصفة","تـــــــاريـــخ","الخدمة المؤداة أسبوعيا",null,null,null,"أقصى",null,"تعديل الخدمة الواجبة  ( تخفيض )",null,null,null,"خدمة","أقصــــى","الفروق",null,"ملاحظات"]
[null,null,"درجــة",null,"التعييــن","الأقسام","عدد ","عدد  ","مجموع  ","خدمة",null,"عدد التلاميذ   ","صيانة  ","التنسيق","مجموع  ","صافية","خدمـة","ساعات","ساعات  "]
[null,"تاريخ  الميلاد","جامعية",null,"بالمؤسسة",null,"التلاميذ","الحصص","التوقيت","واجبة",null,"فوق 35","العتاد",null,"التخفيضات",null,"صافية","فائضة","إضافية"]
[5,null,{"$f":"التجميع!F23","v":""},{"$f":"التجميع!E23","v":""},{"$f":"التجميع!G23","v":""},{"$f":"التجميع!H23","v":""},{"$f":"((IF(ISERROR(VLOOKUP(F40,التعداد!$C$10:$L$45,10,0)),\"\",VLOOKUP(F40,التعداد!$C$10:$L$45,10,0))))","v":""},null,{"$f":"SUM(H40:H48)","v":0},{"$f":"IF(B41=\"\",\"\",22)","v":""},null,null,null,{"$f":"IF(B41=\"\",\"\",1)","v":""},{"$f":"SUM(L40:N48)","v":0},{"$f":"((IF(ISERROR(J40-O40),,(J40-O40))))","v":0},{"$f":"P40+L40","v":0},{"$f":"IF($I40-$Q40>=0,\"\",$Q40-$I40)","v":""},{"$f":"IF($I40-$Q40>0,$I40-$Q40,\"\")","v":""}]
[null,{"$f":"التجميع!B23","v":""},null,null,null,{"$f":"التجميع!I23","v":""},{"$f":"((IF(ISERROR(VLOOKUP(F41,التعداد!$C$10:$L$45,10,0)),\"\",VLOOKUP(F41,التعداد!$C$10:$L$45,10,0))))","v":""}]
[null,null,null,null,null,{"$f":"التجميع!J23","v":""},{"$f":"((IF(ISERROR(VLOOKUP(F42,التعداد!$C$10:$L$45,10,0)),\"\",VLOOKUP(F42,التعداد!$C$10:$L$45,10,0))))","v":""}]
[null,null,null,null,null,{"$f":"التجميع!K23","v":""},{"$f":"((IF(ISERROR(VLOOKUP(F43,التعداد!$C$10:$L$45,10,0)),\"\",VLOOKUP(F43,التعداد!$C$10:$L$45,10,0))))","v":""}]
[null,null,null,null,null,{"$f":"التجميع!L23","v":""},{"$f":"((IF(ISERROR(VLOOKUP(F44,التعداد!$C$10:$L$45,10,0)),\"\",VLOOKUP(F44,التعداد!$C$10:$L$45,10,0))))","v":""}]
[null,{"$f":"التجميع!D23","v":""},null,null,null,{"$f":"التجميع!M23","v":""},{"$f":"((IF(ISERROR(VLOOKUP(F45,التعداد!$C$10:$L$45,10,0)),\"\",VLOOKUP(F45,التعداد!$C$10:$L$45,10,0))))","v":""}]
[null,null,null,null,null,{"$f":"التجميع!N23","v":""},{"$f":"((IF(ISERROR(VLOOKUP(F46,التعداد!$C$10:$L$45,10,0)),\"\",VLOOKUP(F46,التعداد!$C$10:$L$45,10,0))))","v":""}]
[null,null,null,null,null,{"$f":"التجميع!O23","v":""},{"$f":"((IF(ISERROR(VLOOKUP(F47,التعداد!$C$10:$L$45,10,0)),\"\",VLOOKUP(F47,التعداد!$C$10:$L$45,10,0))))","v":""}]
[null,null,null,null,null,{"$f":"التجميع!P23","v":""},{"$f":"((IF(ISERROR(VLOOKUP(F48,التعداد!$C$10:$L$45,10,0)),\"\",VLOOKUP(F48,التعداد!$C$10:$L$45,10,0))))","v":""}]
[6,null,{"$f":"التجميع!F24","v":""},{"$f":"التجميع!E24","v":""},{"$f":"التجميع!G24","v":""},{"$f":"التجميع!H24","v":""},{"$f":"((IF(ISERROR(VLOOKUP(F49,التعداد!$C$10:$L$45,10,0)),\"\",VLOOKUP(F49,التعداد!$C$10:$L$45,10,0))))","v":""},null,{"$f":"SUM(H49:H57)","v":0},{"$f":"IF(B50=\"\",\"\",22)","v":""},null,null,null,{"$f":"IF(B50=\"\",\"\",1)","v":""},{"$f":"SUM(L49:N57)","v":0},{"$f":"((IF(ISERROR(J49-O49),,(J49-O49))))","v":0},{"$f":"P49+L49","v":0},{"$f":"IF($I49-$Q49>=0,\"\",$Q49-$I49)","v":""},{"$f":"IF($I49-$Q49>0,$I49-$Q49,\"\")","v":""}]
[null,{"$f":"التجميع!B24","v":""},null,null,null,{"$f":"التجميع!I24","v":""},{"$f":"((IF(ISERROR(VLOOKUP(F50,التعداد!$C$10:$L$45,10,0)),\"\",VLOOKUP(F50,التعداد!$C$10:$L$45,10,0))))","v":""}]
[null,null,null,null,null,{"$f":"التجميع!J24","v":""},{"$f":"((IF(ISERROR(VLOOKUP(F51,التعداد!$C$10:$L$45,10,0)),\"\",VLOOKUP(F51,التعداد!$C$10:$L$45,10,0))))","v":""}]
[null,null,null,null,null,{"$f":"التجميع!K24","v":""},{"$f":"((IF(ISERROR(VLOOKUP(F52,التعداد!$C$10:$L$45,10,0)),\"\",VLOOKUP(F52,التعداد!$C$10:$L$45,10,0))))","v":""}]
[null,null,null,null,null,{"$f":"التجميع!L24","v":""},{"$f":"((IF(ISERROR(VLOOKUP(F53,التعداد!$C$10:$L$45,10,0)),\"\",VLOOKUP(F53,التعداد!$C$10:$L$45,10,0))))","v":""}]
[null,{"$f":"التجميع!D24","v":""},null,null,null,{"$f":"التجميع!M24","v":""},{"$f":"((IF(ISERROR(VLOOKUP(F54,التعداد!$C$10:$L$45,10,0)),\"\",VLOOKUP(F54,التعداد!$C$10:$L$45,10,0))))","v":""}]
[null,null,null,null,null,{"$f":"التجميع!N24","v":""},{"$f":"((IF(ISERROR(VLOOKUP(F55,التعداد!$C$10:$L$45,10,0)),\"\",VLOOKUP(F55,التعداد!$C$10:$L$45,10,0))))","v":""}]
[null,null,null,null,null,{"$f":"التجميع!O24","v":""},{"$f":"((IF(ISERROR(VLOOKUP(F56,التعداد!$C$10:$L$45,10,0)),\"\",VLOOKUP(F56,التعداد!$C$10:$L$45,10,0))))","v":""}]
[null,null,null,null,null,{"$f":"التجميع!P24","v":""},{"$f":"((IF(ISERROR(VLOOKUP(F57,التعداد!$C$10:$L$45,10,0)),\"\",VLOOKUP(F57,التعداد!$C$10:$L$45,10,0))))","v":""}]
[7,null,{"$f":"التجميع!F25","v":""},{"$f":"التجميع!E25","v":""},{"$f":"التجميع!G25","v":""},{"$f":"التجميع!H25","v":""},{"$f":"((IF(ISERROR(VLOOKUP(F58,التعداد!$C$10:$L$45,10,0)),\"\",VLOOKUP(F58,التعداد!$C$10:$L$45,10,0))))","v":""},null,{"$f":"SUM(H58:H66)","v":0},{"$f":"IF(B59=\"\",\"\",22)","v":""},null,null,null,{"$f":"IF(B59=\"\",\"\",1)","v":""},{"$f":"SUM(L58:N66)","v":0},{"$f":"((IF(ISERROR(J58-O58),,(J58-O58))))","v":0},{"$f":"P58+L58","v":0},{"$f":"IF($I58-$Q58>=0,\"\",$Q58-$I58)","v":""},{"$f":"IF($I58-$Q58>0,$I58-$Q58,\"\")","v":""}]
[null,{"$f":"التجميع!B25","v":""},null,null,null,{"$f":"التجميع!I25","v":""},{"$f":"((IF(ISERROR(VLOOKUP(F59,التعداد!$C$10:$L$45,10,0)),\"\",VLOOKUP(F59,التعداد!$C$10:$L$45,10,0))))","v":""}]
[null,null,null,null,null,{"$f":"التجميع!J25","v":""},{"$f":"((IF(ISERROR(VLOOKUP(F60,التعداد!$C$10:$L$45,10,0)),\"\",VLOOKUP(F60,التعداد!$C$10:$L$45,10,0))))","v":""}]
[null,null,null,null,null,{"$f":"التجميع!K25","v":""},{"$f":"((IF(ISERROR(VLOOKUP(F61,التعداد!$C$10:$L$45,10,0)),\"\",VLOOKUP(F61,التعداد!$C$10:$L$45,10,0))))","v":""}]
[null,null,null,null,null,{"$f":"التجميع!L25","v":""},{"$f":"((IF(ISERROR(VLOOKUP(F62,التعداد!$C$10:$L$45,10,0)),\"\",VLOOKUP(F62,التعداد!$C$10:$L$45,10,0))))","v":""}]
[null,{"$f":"التجميع!D25","v":""},null,null,null,{"$f":"التجميع!M25","v":""},{"$f":"((IF(ISERROR(VLOOKUP(F63,التعداد!$C$10:$L$45,10,0)),\"\",VLOOKUP(F63,التعداد!$C$10:$L$45,10,0))))","v":""}]
[null,null,null,null,null,{"$f":"التجميع!N25","v":""},{"$f":"((IF(ISERROR(VLOOKUP(F64,التعداد!$C$10:$L$45,10,0)),\"\",VLOOKUP(F64,التعداد!$C$10:$L$45,10,0))))","v":""}]
[null,null,null,null,null,{"$f":"التجميع!O25","v":""},{"$f":"((IF(ISERROR(VLOOKUP(F65,التعداد!$C$10:$L$45,10,0)),\"\",VLOOKUP(F65,التعداد!$C$10:$L$45,10,0))))","v":""}]
[null,null,null,null,null,{"$f":"التجميع!P25","v":""},{"$f":"((IF(ISERROR(VLOOKUP(F66,التعداد!$C$10:$L$45,10,0)),\"\",VLOOKUP(F66,التعداد!$C$10:$L$45,10,0))))","v":""}]
[8,null,{"$f":"التجميع!F26","v":""},{"$f":"التجميع!E26","v":""},{"$f":"التجميع!G26","v":""},{"$f":"التجميع!H26","v":""},{"$f":"((IF(ISERROR(VLOOKUP(F67,التعداد!$C$10:$L$45,10,0)),\"\",VLOOKUP(F67,التعداد!$C$10:$L$45,10,0))))","v":""},null,{"$f":"SUM(H67:H75)","v":0},{"$f":"IF(B68=\"\",\"\",22)","v":""},null,null,null,{"$f":"IF(B68=\"\",\"\",1)","v":""},{"$f":"SUM(L67:N75)","v":0},{"$f":"((IF(ISERROR(J67-O67),,(J67-O67))))","v":0},{"$f":"P67+L67","v":0},{"$f":"IF($I67-$Q67>=0,\"\",$Q67-$I67)","v":""},{"$f":"IF($I67-$Q67>0,$I67-$Q67,\"\")","v":""}]
[null,{"$f":"التجميع!B26","v":""},null,null,null,{"$f":"التجميع!I26","v":""},{"$f":"((IF(ISERROR(VLOOKUP(F68,التعداد!$C$10:$L$45,10,0)),\"\",VLOOKUP(F68,التعداد!$C$10:$L$45,10,0))))","v":""}]
[null,null,null,null,null,{"$f":"التجميع!J26","v":""},{"$f":"((IF(ISERROR(VLOOKUP(F69,التعداد!$C$10:$L$45,10,0)),\"\",VLOOKUP(F69,التعداد!$C$10:$L$45,10,0))))","v":""}]
[null,null,null,null,null,{"$f":"التجميع!K26","v":""},{"$f":"((IF(ISERROR(VLOOKUP(F70,التعداد!$C$10:$L$45,10,0)),\"\",VLOOKUP(F70,التعداد!$C$10:$L$45,10,0))))","v":""}]
[null,null,null,null,null,{"$f":"التجميع!L26","v":""},{"$f":"((IF(ISERROR(VLOOKUP(F71,التعداد!$C$10:$L$45,10,0)),\"\",VLOOKUP(F71,التعداد!$C$10:$L$45,10,0))))","v":""}]
[null,{"$f":"التجميع!D26","v":""},null,null,null,{"$f":"التجميع!M26","v":""},{"$f":"((IF(ISERROR(VLOOKUP(F72,التعداد!$C$10:$L$45,10,0)),\"\",VLOOKUP(F72,التعداد!$C$10:$L$45,10,0))))","v":""}]
[null,null,null,null,null,{"$f":"التجميع!N26","v":""},{"$f":"((IF(ISERROR(VLOOKUP(F73,التعداد!$C$10:$L$45,10,0)),\"\",VLOOKUP(F73,التعداد!$C$10:$L$45,10,0))))","v":""}]
[null,null,null,null,null,{"$f":"التجميع!O26","v":""},{"$f":"((IF(ISERROR(VLOOKUP(F74,التعداد!$C$10:$L$45,10,0)),\"\",VLOOKUP(F74,التعداد!$C$10:$L$45,10,0))))","v":""}]
[null,null,null,null,null,{"$f":"التجميع!P26","v":""},{"$f":"((IF(ISERROR(VLOOKUP(F75,التعداد!$C$10:$L$45,10,0)),\"\",VLOOKUP(F75,التعداد!$C$10:$L$45,10,0))))","v":""}]
["المجموع",null,null,null,null,null,{"$f":"SUM(G40:G75)","v":0},{"$f":"SUM(H40:H75)","v":0},{"$f":"SUM(I40:I75)","v":0},{"$f":"SUM(J40:J75)","v":0},null,{"$f":"SUM(L40:L75)","v":0},0,0,0,0,0,0,0]
[]
[]
[]
[]
[]
[]
["المجموع العام",null,null,null,null,null,{"$f":"G33+G76","v":292},{"$f":"H33+H76","v":31},{"$f":"I33+I76","v":31},{"$f":"J33+J76","v":44},null,{"$f":"L33+L76","v":0},2,0,2,42,42,11,0]

{"sheet":"خدمات علوم ط","index":22,"n_rows":83,"n_cols":21,"rows_kept":83,"cut":false,"hidden":false,"merged":[[2,19,4,20],[5,19,13,20],[14,19,22,20],[23,19,31,20],[24,1,26,1],[14,8,22,8],[14,4,22,4],[14,9,22,9],[57,20,65,20],[58,1,60,1],[62,1,64,1],[66,2,74,2],[66,3,74,3],[66,4,74,4],[66,8,74,8],[66,9,74,9],[66,11,74,11],[66,12,74,12],[66,20,74,20],[67,1,69,1],[71,1,73,1],[66,13,74,13],[66,14,74,14],[66,15,74,15],[66,16,74,16],[66,17,74,17],[66,18,74,18],[57,9,65,9],[57,11,65,11],[57,12,65,12],[57,13,65,13],[57,14,65,14],[57,15,65,15],[57,16,65,16],[57,17,65,17],[57,18,65,18],[48,16,56,16],[48,17,56,17],[48,18,56,18],[39,8,47,8],[39,9,47,9],[39,11,47,11],[48,14,56,14],[48,15,56,15],[48,20,56,20],[48,9,56,9],[48,11,56,11],[48,12,56,12],[48,13,56,13],[48,8,56,8],[39,20,47,20],[36,20,38,20],[32,19,32,20],[23,13,31,13],[23,14,31,14],[23,15,31,15],[23,16,31,16],[23,17,31,17],[23,18,31,18],[37,13,38,13],[34,14,34,20],[39,13,47,13],[39,16,47,16],[39,17,47,17],[39,18,47,18],[39,14,47,14],[39,15,47,15],[34,11,34,12],[23,11,31,11],[23,12,31,12],[39,12,47,12],[39,2,47,2],[39,3,47,3],[39,4,47,4],[3,13,4,13],[23,3,31,3],[23,4,31,4],[23,8,31,8],[23,9,31,9],[14,13,22,13],[2,3,4,3],[2,5,2,8],[5,13,13,13],[75,0,75,5],[36,3,38,3],[36,5,36,8],[36,0,38,0],[5,2,13,2],[5,3,13,3],[5,4,13,4],[6,1,8,1],[14,2,22,2],[57,0,65,0],[66,0,74,0],[39,0,47,0],[48,0,56,0],[40,1,42,1],[44,1,46,1],[48,2,56,2],[48,3,56,3],[48,4,56,4],[49,1,51,1],[53,1,55,1],[57,2,65,2],[57,3,65,3],[57,4,65,4],[57,8,65,8],[23,2,31,2],[15,1,17,1],[9,1,13,1],[5,14,13,14],[14,17,22,17],[14,18,22,18],[5,16,13,16],[5,15,13,15],[5,17,13,17],[5,18,13,18],[14,16,22,16],[14,14,22,14],[14,15,22,15],[18,1,22,1],[27,1,30,1],[0,0,0,2],[82,0,82,5],[0,11,0,12],[36,11,36,14],[0,14,0,20],[2,0,4,0],[2,1,3,1],[2,11,2,14],[2,17,2,18],[36,17,36,18],[37,5,38,5],[5,9,13,9],[5,11,13,11],[5,12,13,12],[14,11,22,11],[14,12,22,12],[5,8,13,8],[5,0,13,0],[14,0,22,0],[32,0,32,5],[36,1,37,1],[3,5,4,5],[23,0,31,0],[14,3,22,3]]}
["السنة الدراسية 2023/2022",null,null,null,null,null,null,null,null,null,null,"المادة",null,null,"علوم الطبيعة والحياة"]
[]
["المناصب","اللقب والاســم   ","أقصى","الصفة","تـــــــاريـــخ","الخدمة المؤداة أسبوعيا",null,null,null,"أقصى",null,"تعديل الخدمة الواجبة  ( تخفيض )",null,null,null,"خدمة","أقصــــى","الفروق",null,"ملاحظات"]
[null,null,"درجــة",null,"التعييــن","الأقسام","عدد ","عدد  ","مجموع  ","خدمة",null,"عدد التلاميذ   ","صيانة  ","دعم ","مجموع  ","صافية","خدمـة","ساعات","ساعات  "]
[null,"تاريخ  الميلاد","جامعية",null,"بالمؤسسة",null,"التلاميذ","الحصص","التوقيت","واجبة",null,"فوق 35","العتاد",null,"التخفيضات",null,"صافية","فائضة","إضافية"]
["1/2",null,{"$f":"التجميع!F34","v":"ليسانس"},{"$f":"التجميع!E34","v":"مرسمة"},{"$f":"التجميع!G34","v":"2013-11-20"},{"$f":"التجميع!H34","v":"1م1"},{"$f":"((IF(ISERROR(VLOOKUP(F6,التعداد!$C$10:$L$45,10,0)),\"\",VLOOKUP(F6,التعداد!$C$10:$L$45,10,0))))","v":31},3,{"$f":"SUM(H6:H14)","v":16},{"$f":"IF(B7=\"\",\"\",22)","v":22},null,null,2,2,{"$f":"SUM(L6:N14)","v":4},{"$f":"((IF(ISERROR(J6-O6),,(J6-O6))))","v":18},{"$f":"P6+L6","v":18},{"$f":"IF($I6-$Q6>=0,\"\",$Q6-$I6)","v":2},{"$f":"IF($I6-$Q6>0,$I6-$Q6,\"\")","v":""}]
[null,{"$f":"التجميع!B34","v":"حطاب رشيدة "},null,null,null,{"$f":"التجميع!I34","v":"1م2"},{"$f":"((IF(ISERROR(VLOOKUP(F7,التعداد!$C$10:$L$45,10,0)),\"\",VLOOKUP(F7,التعداد!$C$10:$L$45,10,0))))","v":31},3]
[null,null,null,null,null,{"$f":"التجميع!J34","v":"1م3"},{"$f":"((IF(ISERROR(VLOOKUP(F8,التعداد!$C$10:$L$45,10,0)),\"\",VLOOKUP(F8,التعداد!$C$10:$L$45,10,0))))","v":32},3]
[null,null,null,null,null,{"$f":"التجميع!K34","v":"3م1"},{"$f":"((IF(ISERROR(VLOOKUP(F9,التعداد!$C$10:$L$45,10,0)),\"\",VLOOKUP(F9,التعداد!$C$10:$L$45,10,0))))","v":31},3]
[null,{"$f":"التجميع!D34","v":"1978-12-07"},null,null,null,{"$f":"التجميع!L34","v":"3م2"},{"$f":"((IF(ISERROR(VLOOKUP(F10,التعداد!$C$10:$L$45,10,0)),\"\",VLOOKUP(F10,التعداد!$C$10:$L$45,10,0))))","v":32},2]
[null,null,null,null,null,{"$f":"التجميع!M34","v":0},{"$f":"((IF(ISERROR(VLOOKUP(F11,التعداد!$C$10:$L$45,10,0)),\"\",VLOOKUP(F11,التعداد!$C$10:$L$45,10,0))))","v":""},2]
[null,null,null,null,null,{"$f":"التجميع!N34","v":0},{"$f":"((IF(ISERROR(VLOOKUP(F12,التعداد!$C$10:$L$45,10,0)),\"\",VLOOKUP(F12,التعداد!$C$10:$L$45,10,0))))","v":""}]
[null,null,null,null,null,{"$f":"التجميع!O34","v":0},{"$f":"((IF(ISERROR(VLOOKUP(F13,التعداد!$C$10:$L$45,10,0)),\"\",VLOOKUP(F13,التعداد!$C$10:$L$45,10,0))))","v":""}]
[null,null,null,null,null,{"$f":"التجميع!P34","v":0},{"$f":"((IF(ISERROR(VLOOKUP(F14,التعداد!$C$10:$L$45,10,0)),\"\",VLOOKUP(F14,التعداد!$C$10:$L$45,10,0))))","v":""}]
["2/2",null,{"$f":"التجميع!F35","v":"ليسانس"},{"$f":"التجميع!E35","v":"مرسمة"},{"$f":"التجميع!G35","v":"2011-11-20"},{"$f":"التجميع!H35","v":"4م1"},{"$f":"((IF(ISERROR(VLOOKUP(F15,التعداد!$C$10:$L$45,10,0)),\"\",VLOOKUP(F15,التعداد!$C$10:$L$45,10,0))))","v":26},3,{"$f":"SUM(H15:H23)","v":15},{"$f":"IF(B16=\"\",\"\",22)","v":22},null,null,2,2,{"$f":"SUM(L15:N23)","v":4},{"$f":"((IF(ISERROR(J15-O15),,(J15-O15))))","v":18},{"$f":"P15+L15","v":18},{"$f":"IF($I15-$Q15>=0,\"\",$Q15-$I15)","v":3},{"$f":"IF($I15-$Q15>0,$I15-$Q15,\"\")","v":""}]
[null,{"$f":"التجميع!B35","v":"مجدوب طلحة "},null,null,null,{"$f":"التجميع!I35","v":"4م2"},{"$f":"((IF(ISERROR(VLOOKUP(F16,التعداد!$C$10:$L$45,10,0)),\"\",VLOOKUP(F16,التعداد!$C$10:$L$45,10,0))))","v":28},3]
[null,null,null,null,null,{"$f":"التجميع!J35","v":"2م1"},{"$f":"((IF(ISERROR(VLOOKUP(F17,التعداد!$C$10:$L$45,10,0)),\"\",VLOOKUP(F17,التعداد!$C$10:$L$45,10,0))))","v":28},3]
[null,null,null,null,null,{"$f":"التجميع!K35","v":"2م2"},{"$f":"((IF(ISERROR(VLOOKUP(F18,التعداد!$C$10:$L$45,10,0)),\"\",VLOOKUP(F18,التعداد!$C$10:$L$45,10,0))))","v":27},3]
[null,{"$f":"التجميع!D35","v":"1987-08-03"},null,null,null,{"$f":"التجميع!L35","v":"2م3"},{"$f":"((IF(ISERROR(VLOOKUP(F19,التعداد!$C$10:$L$45,10,0)),\"\",VLOOKUP(F19,التعداد!$C$10:$L$45,10,0))))","v":26},3]
[null,null,null,null,null,{"$f":"التجميع!M35","v":0},{"$f":"((IF(ISERROR(VLOOKUP(F20,التعداد!$C$10:$L$45,10,0)),\"\",VLOOKUP(F20,التعداد!$C$10:$L$45,10,0))))","v":""}]
[null,null,null,null,null,{"$f":"التجميع!N35","v":0},{"$f":"((IF(ISERROR(VLOOKUP(F21,التعداد!$C$10:$L$45,10,0)),\"\",VLOOKUP(F21,التعداد!$C$10:$L$45,10,0))))","v":""}]
[null,null,null,null,null,{"$f":"التجميع!O35","v":0},{"$f":"((IF(ISERROR(VLOOKUP(F22,التعداد!$C$10:$L$45,10,0)),\"\",VLOOKUP(F22,التعداد!$C$10:$L$45,10,0))))","v":""}]
[null,null,null,null,null,{"$f":"التجميع!P35","v":0},{"$f":"((IF(ISERROR(VLOOKUP(F23,التعداد!$C$10:$L$45,10,0)),\"\",VLOOKUP(F23,التعداد!$C$10:$L$45,10,0))))","v":""}]
[null,null,{"$f":"التجميع!F37","v":""},{"$f":"التجميع!E37","v":""},{"$f":"التجميع!G37","v":""},{"$f":"التجميع!H37","v":""},{"$f":"((IF(ISERROR(VLOOKUP(F24,التعداد!$C$10:$L$45,10,0)),\"\",VLOOKUP(F24,التعداد!$C$10:$L$45,10,0))))","v":""},null,{"$f":"SUM(H24:H32)","v":0},{"$f":"IF(B25=\"\",\"\",22)","v":""},null,null,null,null,{"$f":"SUM(L24:N32)","v":0},{"$f":"((IF(ISERROR(J24-O24),,(J24-O24))))","v":0},{"$f":"P24+L24","v":0},{"$f":"IF($I24-$Q24>=0,\"\",$Q24-$I24)","v":""},{"$f":"IF($I24-$Q24>0,$I24-$Q24,\"\")","v":""}]
[null,{"$f":"التجميع!B37","v":""},null,null,null,{"$f":"التجميع!I37","v":""},{"$f":"((IF(ISERROR(VLOOKUP(F25,التعداد!$C$10:$L$45,10,0)),\"\",VLOOKUP(F25,التعداد!$C$10:$L$45,10,0))))","v":""}]
[null,null,null,null,null,{"$f":"التجميع!J37","v":""},{"$f":"((IF(ISERROR(VLOOKUP(F26,التعداد!$C$10:$L$45,10,0)),\"\",VLOOKUP(F26,التعداد!$C$10:$L$45,10,0))))","v":""}]
[null,null,null,null,null,{"$f":"التجميع!K37","v":""},{"$f":"((IF(ISERROR(VLOOKUP(F27,التعداد!$C$10:$L$45,10,0)),\"\",VLOOKUP(F27,التعداد!$C$10:$L$45,10,0))))","v":""}]
[null,{"$f":"التجميع!D37","v":""},null,null,null,{"$f":"التجميع!L37","v":""},{"$f":"((IF(ISERROR(VLOOKUP(F28,التعداد!$C$10:$L$45,10,0)),\"\",VLOOKUP(F28,التعداد!$C$10:$L$45,10,0))))","v":""}]
[null,null,null,null,null,{"$f":"التجميع!M37","v":""},{"$f":"((IF(ISERROR(VLOOKUP(F29,التعداد!$C$10:$L$45,10,0)),\"\",VLOOKUP(F29,التعداد!$C$10:$L$45,10,0))))","v":""}]
[null,null,null,null,null,{"$f":"التجميع!N37","v":""},{"$f":"((IF(ISERROR(VLOOKUP(F30,التعداد!$C$10:$L$45,10,0)),\"\",VLOOKUP(F30,التعداد!$C$10:$L$45,10,0))))","v":""}]
[null,null,null,null,null,{"$f":"التجميع!O37","v":""},{"$f":"((IF(ISERROR(VLOOKUP(F31,التعداد!$C$10:$L$45,10,0)),\"\",VLOOKUP(F31,التعداد!$C$10:$L$45,10,0))))","v":""}]
[null,null,null,null,null,{"$f":"التجميع!P37","v":""},{"$f":"((IF(ISERROR(VLOOKUP(F32,التعداد!$C$10:$L$45,10,0)),\"\",VLOOKUP(F32,التعداد!$C$10:$L$45,10,0))))","v":""}]
["المجموع",null,null,null,null,null,{"$f":"SUM(G6:G32)","v":292},{"$f":"SUM(H6:H32)","v":31},{"$f":"SUM(I6:I32)","v":31},{"$f":"SUM(J6:J32)","v":44},null,{"$f":"SUM(L6:L32)","v":0},4,4,8,36,36,5,0]
[]
[null,null,null,null,null,null,null,null,null,null,null,"المادة",null,null,"علوم الطبيعة والحياة"]
[]
["المناصب","اللقب والاســم   ","أقصى","الصفة","تـــــــاريـــخ","الخدمة المؤداة أسبوعيا",null,null,null,"أقصى",null,"تعديل الخدمة الواجبة  ( تخفيض )",null,null,null,"خدمة","أقصــــى","الفروق",null,null,"ملاحظات"]
[null,null,"درجــة",null,"التعييــن","الأقسام","عدد ","عدد  ","مجموع  ","خدمة",null,"عدد التلاميذ   ","صيانة  ","التنسيق","مجموع  ","صافية","خدمـة","ساعات","ساعات  "]
[null,"تاريخ  الميلاد","جامعية",null,"بالمؤسسة",null,"التلاميذ","الحصص","التوقيت","واجبة",null,"فوق 35","العتاد",null,"التخفيضات",null,"صافية","فائضة","إضافية"]
[5,null,{"$f":"التجميع!F38","v":""},{"$f":"التجميع!E38","v":""},{"$f":"التجميع!G38","v":""},{"$f":"التجميع!H77","v":0},{"$f":"((IF(ISERROR(VLOOKUP(F40,التعداد!$C$10:$L$45,10,0)),\"\",VLOOKUP(F40,التعداد!$C$10:$L$45,10,0))))","v":""},null,{"$f":"SUM(H40:H48)","v":0},{"$f":"IF(B41=\"\",\"\",22)","v":""},null,null,null,{"$f":"IF(B41=\"\",\"\",1)","v":""},{"$f":"SUM(L40:N48)","v":0},{"$f":"((IF(ISERROR(J40-O40),,(J40-O40))))","v":0},{"$f":"P40+L40","v":0},{"$f":"IF($I40-$Q40>=0,\"\",$Q40-$I40)","v":""},{"$f":"IF($I40-$Q40>0,$I40-$Q40,\"\")","v":""}]
[null,{"$f":"التجميع!B38","v":""},null,null,null,{"$f":"التجميع!I77","v":0},{"$f":"((IF(ISERROR(VLOOKUP(F41,التعداد!$C$10:$L$45,10,0)),\"\",VLOOKUP(F41,التعداد!$C$10:$L$45,10,0))))","v":""}]
[null,null,null,null,null,{"$f":"التجميع!J77","v":0},{"$f":"((IF(ISERROR(VLOOKUP(F42,التعداد!$C$10:$L$45,10,0)),\"\",VLOOKUP(F42,التعداد!$C$10:$L$45,10,0))))","v":""}]
[null,null,null,null,null,{"$f":"التجميع!K77","v":0},{"$f":"((IF(ISERROR(VLOOKUP(F43,التعداد!$C$10:$L$45,10,0)),\"\",VLOOKUP(F43,التعداد!$C$10:$L$45,10,0))))","v":""}]
[null,null,null,null,null,{"$f":"التجميع!L77","v":0},{"$f":"((IF(ISERROR(VLOOKUP(F44,التعداد!$C$10:$L$45,10,0)),\"\",VLOOKUP(F44,التعداد!$C$10:$L$45,10,0))))","v":""}]
[null,{"$f":"التجميع!D38","v":""},null,null,null,{"$f":"التجميع!M77","v":0},{"$f":"((IF(ISERROR(VLOOKUP(F45,التعداد!$C$10:$L$45,10,0)),\"\",VLOOKUP(F45,التعداد!$C$10:$L$45,10,0))))","v":""}]
[null,null,null,null,null,{"$f":"التجميع!N77","v":0},{"$f":"((IF(ISERROR(VLOOKUP(F46,التعداد!$C$10:$L$45,10,0)),\"\",VLOOKUP(F46,التعداد!$C$10:$L$45,10,0))))","v":""}]
[null,null,null,null,null,{"$f":"التجميع!O77","v":0},{"$f":"((IF(ISERROR(VLOOKUP(F47,التعداد!$C$10:$L$45,10,0)),\"\",VLOOKUP(F47,التعداد!$C$10:$L$45,10,0))))","v":""}]
[null,null,null,null,null,{"$f":"التجميع!P77","v":0},{"$f":"((IF(ISERROR(VLOOKUP(F48,التعداد!$C$10:$L$45,10,0)),\"\",VLOOKUP(F48,التعداد!$C$10:$L$45,10,0))))","v":""}]
[6,null,{"$f":"التجميع!F39","v":""},{"$f":"التجميع!E39","v":""},{"$f":"التجميع!G39","v":""},{"$f":"التجميع!H86","v":""},{"$f":"((IF(ISERROR(VLOOKUP(F49,التعداد!$C$10:$L$45,10,0)),\"\",VLOOKUP(F49,التعداد!$C$10:$L$45,10,0))))","v":""},null,{"$f":"SUM(H49:H57)","v":0},{"$f":"IF(B50=\"\",\"\",22)","v":""},null,null,null,{"$f":"IF(B50=\"\",\"\",1)","v":""},{"$f":"SUM(L49:N57)","v":0},{"$f":"((IF(ISERROR(J49-O49),,(J49-O49))))","v":0},{"$f":"P49+L49","v":0},{"$f":"IF($I49-$Q49>=0,\"\",$Q49-$I49)","v":""},{"$f":"IF($I49-$Q49>0,$I49-$Q49,\"\")","v":""}]
[null,{"$f":"التجميع!B39","v":""},null,null,null,{"$f":"التجميع!I86","v":""},{"$f":"((IF(ISERROR(VLOOKUP(F50,التعداد!$C$10:$L$45,10,0)),\"\",VLOOKUP(F50,التعداد!$C$10:$L$45,10,0))))","v":""}]
[null,null,null,null,null,{"$f":"التجميع!J86","v":""},{"$f":"((IF(ISERROR(VLOOKUP(F51,التعداد!$C$10:$L$45,10,0)),\"\",VLOOKUP(F51,التعداد!$C$10:$L$45,10,0))))","v":""}]
[null,null,null,null,null,{"$f":"التجميع!K86","v":""},{"$f":"((IF(ISERROR(VLOOKUP(F52,التعداد!$C$10:$L$45,10,0)),\"\",VLOOKUP(F52,التعداد!$C$10:$L$45,10,0))))","v":""}]
[null,null,null,null,null,{"$f":"التجميع!L86","v":""},{"$f":"((IF(ISERROR(VLOOKUP(F53,التعداد!$C$10:$L$45,10,0)),\"\",VLOOKUP(F53,التعداد!$C$10:$L$45,10,0))))","v":""}]
[null,{"$f":"التجميع!D39","v":""},null,null,null,{"$f":"التجميع!M86","v":""},{"$f":"((IF(ISERROR(VLOOKUP(F54,التعداد!$C$10:$L$45,10,0)),\"\",VLOOKUP(F54,التعداد!$C$10:$L$45,10,0))))","v":""}]
[null,null,null,null,null,{"$f":"التجميع!N86","v":""},{"$f":"((IF(ISERROR(VLOOKUP(F55,التعداد!$C$10:$L$45,10,0)),\"\",VLOOKUP(F55,التعداد!$C$10:$L$45,10,0))))","v":""}]
[null,null,null,null,null,{"$f":"التجميع!O86","v":""},{"$f":"((IF(ISERROR(VLOOKUP(F56,التعداد!$C$10:$L$45,10,0)),\"\",VLOOKUP(F56,التعداد!$C$10:$L$45,10,0))))","v":""}]
[null,null,null,null,null,{"$f":"التجميع!P86","v":""},{"$f":"((IF(ISERROR(VLOOKUP(F57,التعداد!$C$10:$L$45,10,0)),\"\",VLOOKUP(F57,التعداد!$C$10:$L$45,10,0))))","v":""}]
[7,null,{"$f":"التجميع!F40","v":""},{"$f":"التجميع!E40","v":""},{"$f":"التجميع!G40","v":""},{"$f":"التجميع!H95","v":"4م1"},{"$f":"((IF(ISERROR(VLOOKUP(F58,التعداد!$C$10:$L$45,10,0)),\"\",VLOOKUP(F58,التعداد!$C$10:$L$45,10,0))))","v":26},null,{"$f":"SUM(H58:H66)","v":0},{"$f":"IF(B59=\"\",\"\",22)","v":""},null,null,null,{"$f":"IF(B59=\"\",\"\",1)","v":""},{"$f":"SUM(L58:N66)","v":0},{"$f":"((IF(ISERROR(J58-O58),,(J58-O58))))","v":0},{"$f":"P58+L58","v":0},{"$f":"IF($I58-$Q58>=0,\"\",$Q58-$I58)","v":""},{"$f":"IF($I58-$Q58>0,$I58-$Q58,\"\")","v":""}]
[null,{"$f":"التجميع!B40","v":""},null,null,null,{"$f":"التجميع!I95","v":"4م2"},{"$f":"((IF(ISERROR(VLOOKUP(F59,التعداد!$C$10:$L$45,10,0)),\"\",VLOOKUP(F59,التعداد!$C$10:$L$45,10,0))))","v":28}]
[null,null,null,null,null,{"$f":"التجميع!J95","v":"2م1"},{"$f":"((IF(ISERROR(VLOOKUP(F60,التعداد!$C$10:$L$45,10,0)),\"\",VLOOKUP(F60,التعداد!$C$10:$L$45,10,0))))","v":28}]
[null,null,null,null,null,{"$f":"التجميع!K95","v":"2م2"},{"$f":"((IF(ISERROR(VLOOKUP(F61,التعداد!$C$10:$L$45,10,0)),\"\",VLOOKUP(F61,التعداد!$C$10:$L$45,10,0))))","v":27}]
[null,null,null,null,null,{"$f":"التجميع!L95","v":"2م3"},{"$f":"((IF(ISERROR(VLOOKUP(F62,التعداد!$C$10:$L$45,10,0)),\"\",VLOOKUP(F62,التعداد!$C$10:$L$45,10,0))))","v":26}]
[null,{"$f":"التجميع!D40","v":""},null,null,null,{"$f":"التجميع!M95","v":0},{"$f":"((IF(ISERROR(VLOOKUP(F63,التعداد!$C$10:$L$45,10,0)),\"\",VLOOKUP(F63,التعداد!$C$10:$L$45,10,0))))","v":""}]
[null,null,null,null,null,{"$f":"التجميع!N95","v":0},{"$f":"((IF(ISERROR(VLOOKUP(F64,التعداد!$C$10:$L$45,10,0)),\"\",VLOOKUP(F64,التعداد!$C$10:$L$45,10,0))))","v":""}]
[null,null,null,null,null,{"$f":"التجميع!O95","v":0},{"$f":"((IF(ISERROR(VLOOKUP(F65,التعداد!$C$10:$L$45,10,0)),\"\",VLOOKUP(F65,التعداد!$C$10:$L$45,10,0))))","v":""}]
[null,null,null,null,null,{"$f":"التجميع!P95","v":0},{"$f":"((IF(ISERROR(VLOOKUP(F66,التعداد!$C$10:$L$45,10,0)),\"\",VLOOKUP(F66,التعداد!$C$10:$L$45,10,0))))","v":""}]
[8,null,{"$f":"التجميع!F41","v":""},{"$f":"التجميع!E41","v":""},{"$f":"التجميع!G41","v":""},{"$f":"التجميع!H104","v":""},{"$f":"((IF(ISERROR(VLOOKUP(F67,التعداد!$C$10:$L$45,10,0)),\"\",VLOOKUP(F67,التعداد!$C$10:$L$45,10,0))))","v":""},null,{"$f":"SUM(H67:H75)","v":0},{"$f":"IF(B68=\"\",\"\",22)","v":""},null,null,null,{"$f":"IF(B68=\"\",\"\",1)","v":""},{"$f":"SUM(L67:N75)","v":0},{"$f":"((IF(ISERROR(J67-O67),,(J67-O67))))","v":0},{"$f":"P67+L67","v":0},{"$f":"IF($I67-$Q67>=0,\"\",$Q67-$I67)","v":""},{"$f":"IF($I67-$Q67>0,$I67-$Q67,\"\")","v":""}]
[null,{"$f":"التجميع!B41","v":""},null,null,null,{"$f":"التجميع!I104","v":""},{"$f":"((IF(ISERROR(VLOOKUP(F68,التعداد!$C$10:$L$45,10,0)),\"\",VLOOKUP(F68,التعداد!$C$10:$L$45,10,0))))","v":""}]
[null,null,null,null,null,{"$f":"التجميع!J104","v":""},{"$f":"((IF(ISERROR(VLOOKUP(F69,التعداد!$C$10:$L$45,10,0)),\"\",VLOOKUP(F69,التعداد!$C$10:$L$45,10,0))))","v":""}]
[null,null,null,null,null,{"$f":"التجميع!K104","v":""},{"$f":"((IF(ISERROR(VLOOKUP(F70,التعداد!$C$10:$L$45,10,0)),\"\",VLOOKUP(F70,التعداد!$C$10:$L$45,10,0))))","v":""}]
[null,null,null,null,null,{"$f":"التجميع!L104","v":""},{"$f":"((IF(ISERROR(VLOOKUP(F71,التعداد!$C$10:$L$45,10,0)),\"\",VLOOKUP(F71,التعداد!$C$10:$L$45,10,0))))","v":""}]
[null,{"$f":"التجميع!D41","v":""},null,null,null,{"$f":"التجميع!M104","v":""},{"$f":"((IF(ISERROR(VLOOKUP(F72,التعداد!$C$10:$L$45,10,0)),\"\",VLOOKUP(F72,التعداد!$C$10:$L$45,10,0))))","v":""}]
[null,null,null,null,null,{"$f":"التجميع!N104","v":""},{"$f":"((IF(ISERROR(VLOOKUP(F73,التعداد!$C$10:$L$45,10,0)),\"\",VLOOKUP(F73,التعداد!$C$10:$L$45,10,0))))","v":""}]
[null,null,null,null,null,{"$f":"التجميع!O104","v":""},{"$f":"((IF(ISERROR(VLOOKUP(F74,التعداد!$C$10:$L$45,10,0)),\"\",VLOOKUP(F74,التعداد!$C$10:$L$45,10,0))))","v":""}]
[null,null,null,null,null,{"$f":"التجميع!P104","v":""},{"$f":"((IF(ISERROR(VLOOKUP(F75,التعداد!$C$10:$L$45,10,0)),\"\",VLOOKUP(F75,التعداد!$C$10:$L$45,10,0))))","v":""}]
["المجموع",null,null,null,null,null,{"$f":"SUM(G40:G75)","v":135},{"$f":"SUM(H40:H75)","v":0},{"$f":"SUM(I40:I75)","v":0},{"$f":"SUM(J40:J75)","v":0},null,{"$f":"SUM(L40:L75)","v":0},0,0,0,0,0,0,0]
[]
[]
[]
[]
[]
[]
["المجموع العام",null,null,null,null,null,{"$f":"G33+G76","v":427},{"$f":"H33+H76","v":31},{"$f":"I33+I76","v":31},{"$f":"J33+J76","v":44},null,{"$f":"L33+L76","v":0},4,4,8,36,36,5,0]

{"sheet":"خدمات اجتماعيات","index":23,"n_rows":82,"n_cols":21,"rows_kept":82,"cut":false,"hidden":false,"merged":[[57,1,59,1],[61,1,63,1],[65,3,73,3],[65,4,73,4],[66,1,68,1],[65,20,73,20],[65,15,73,15],[65,16,73,16],[56,17,64,17],[65,17,73,17],[65,2,73,2],[56,16,64,16],[56,9,64,9],[65,18,73,18],[65,9,73,9],[65,12,73,12],[65,13,73,13],[65,14,73,14],[56,20,64,20],[56,2,64,2],[56,3,64,3],[56,4,64,4],[56,8,64,8],[56,12,64,12],[56,15,64,15],[65,19,73,19],[56,14,64,14],[56,13,64,13],[56,18,64,18],[56,19,64,19],[47,17,55,17],[35,18,35,19],[23,20,30,20],[24,1,26,1],[27,1,29,1],[38,2,46,2],[38,3,46,3],[38,4,46,4],[38,14,46,14],[38,15,46,15],[38,12,46,12],[38,20,46,20],[39,1,41,1],[43,1,45,1],[47,2,55,2],[47,3,55,3],[47,4,55,4],[47,9,55,9],[38,8,46,8],[47,20,55,20],[47,18,55,18],[47,15,55,15],[47,19,55,19],[70,1,72,1],[3,5,4,5],[5,20,13,20],[6,1,8,1],[14,2,22,2],[14,3,22,3],[14,4,22,4],[14,8,22,8],[14,9,22,9],[14,20,22,20],[2,20,4,20],[14,19,22,19],[23,14,30,14],[23,15,30,15],[23,16,30,16],[23,17,30,17],[23,18,30,18],[14,15,22,15],[23,19,30,19],[14,17,22,17],[38,18,46,18],[38,19,46,19],[38,16,46,16],[38,17,46,17],[5,0,13,0],[14,0,22,0],[31,0,31,5],[35,1,36,1],[48,1,50,1],[23,2,30,2],[23,0,30,0],[9,1,13,1],[74,0,74,5],[35,3,37,3],[35,5,35,8],[35,0,37,0],[5,2,13,2],[5,3,13,3],[5,4,13,4],[56,0,64,0],[38,0,46,0],[47,0,55,0],[65,0,73,0],[5,8,13,8],[23,3,30,3],[23,4,30,4],[52,1,54,1],[65,8,73,8],[5,9,13,9],[18,1,22,1],[15,1,17,1],[2,3,4,3],[5,16,13,16],[2,1,3,1],[38,9,46,9],[33,12,33,13],[47,8,55,8],[47,12,55,12],[47,13,55,13],[23,12,30,12],[23,13,30,13],[38,13,46,13],[23,9,30,9],[23,8,30,8],[14,14,22,14],[5,14,13,14],[47,14,55,14],[47,16,55,16],[14,13,22,13],[5,12,13,12],[5,13,13,13],[0,0,0,2],[81,0,81,5],[0,12,0,13],[35,12,35,15],[0,15,0,20],[2,0,4,0],[33,15,33,20],[3,14,4,14],[5,17,13,17],[5,18,13,18],[14,18,22,18],[2,18,2,19],[2,12,2,15],[5,19,13,19],[5,15,13,15],[14,12,22,12],[14,16,22,16],[35,20,37,20],[2,5,2,8],[36,14,37,14],[36,5,37,5]]}
["السنة الدراسية 2023/2022",null,null,null,null,null,null,null,null,null,null,null,"المادة",null,null,"اجتماعيات"]
[]
["المناصب","اللقب والاســم   ","أقصى","الصفة","تـــــــاريـــخ","الخدمة المؤداة أسبوعيا",null,null,null,"أقصى",null,null,"تعديل الخدمة الواجبة  ( تخفيض )",null,null,null,"خدمة","أقصــــى","الفروق",null,"ملاحظات"]
[null,null,"درجــة",null,"التعييــن","الأقسام","عدد ","عدد  ","مجموع  ","خدمة",null,null,"عدد التلاميذ   ","صيانة  ","دعم","مجموع  ","صافية","خدمـة","ساعات","ساعات  "]
[null,"تاريخ  الميلاد","جامعية",null,"بالمؤسسة",null,"التلاميذ","الحصص","التوقيت","واجبة",null,null,"فوق 35","رسم الخرائط",null,"التخفيضات",null,"صافية","فائضة","إضافية"]
["1/2",null,{"$f":"التجميع!F94","v":"ليسانس"},{"$f":"التجميع!E94","v":"مرسمة"},{"$f":"التجميع!G94","v":"2017-09-30"},{"$f":"التجميع!H94","v":"1م1"},{"$f":"((IF(ISERROR(VLOOKUP(F6,التعداد!$C$10:$L$45,10,0)),\"\",VLOOKUP(F6,التعداد!$C$10:$L$45,10,0))))","v":31},3,{"$f":"SUM(H6:H14)","v":12},{"$f":"IF(B7=\"\",\"\",22)","v":22},null,null,null,2,2,{"$f":"SUM(M6:O14)","v":4},{"$f":"((IF(ISERROR(J6-P6),,(J6-P6))))","v":18},{"$f":"Q6+M6","v":18},{"$f":"IF($I6-$R6>=0,\"\",$R6-$I6)","v":6},{"$f":"IF($I6-$R6>0,$I6-$R6,\"\")","v":""}]
[null,{"$f":"التجميع!B94","v":"مشارة محمد "},null,null,null,{"$f":"التجميع!I94","v":"1م2"},{"$f":"((IF(ISERROR(VLOOKUP(F7,التعداد!$C$10:$L$45,10,0)),\"\",VLOOKUP(F7,التعداد!$C$10:$L$45,10,0))))","v":31},3]
[null,null,null,null,null,{"$f":"التجميع!J94","v":"1م3"},{"$f":"((IF(ISERROR(VLOOKUP(F8,التعداد!$C$10:$L$45,10,0)),\"\",VLOOKUP(F8,التعداد!$C$10:$L$45,10,0))))","v":32},3]
[null,null,null,null,null,{"$f":"التجميع!K94","v":"3م1"},{"$f":"((IF(ISERROR(VLOOKUP(F9,التعداد!$C$10:$L$45,10,0)),\"\",VLOOKUP(F9,التعداد!$C$10:$L$45,10,0))))","v":31},3]
[null,{"$f":"التجميع!D94","v":"1990-07-04"},null,null,null,{"$f":"التجميع!L94","v":"3م2"},{"$f":"((IF(ISERROR(VLOOKUP(F10,التعداد!$C$10:$L$45,10,0)),\"\",VLOOKUP(F10,التعداد!$C$10:$L$45,10,0))))","v":32}]
[null,null,null,null,null,{"$f":"التجميع!M94","v":0},{"$f":"((IF(ISERROR(VLOOKUP(F11,التعداد!$C$10:$L$45,10,0)),\"\",VLOOKUP(F11,التعداد!$C$10:$L$45,10,0))))","v":""}]
[null,null,null,null,null,{"$f":"التجميع!N94","v":0},{"$f":"((IF(ISERROR(VLOOKUP(F12,التعداد!$C$10:$L$45,10,0)),\"\",VLOOKUP(F12,التعداد!$C$10:$L$45,10,0))))","v":""}]
[null,null,null,null,null,{"$f":"التجميع!O94","v":0},{"$f":"((IF(ISERROR(VLOOKUP(F13,التعداد!$C$10:$L$45,10,0)),\"\",VLOOKUP(F13,التعداد!$C$10:$L$45,10,0))))","v":""}]
[null,null,null,null,null,{"$f":"التجميع!P94","v":0},{"$f":"((IF(ISERROR(VLOOKUP(F14,التعداد!$C$10:$L$45,10,0)),\"\",VLOOKUP(F14,التعداد!$C$10:$L$45,10,0))))","v":""}]
["2/2",null,{"$f":"التجميع!F95","v":"ليسانس"},{"$f":"التجميع!E95","v":"متربص"},{"$f":"التجميع!G95","v":"2016-07-31"},{"$f":"التجميع!H95","v":"4م1"},{"$f":"((IF(ISERROR(VLOOKUP(F15,التعداد!$C$10:$L$45,10,0)),\"\",VLOOKUP(F15,التعداد!$C$10:$L$45,10,0))))","v":26},3,{"$f":"SUM(H15:H23)","v":15},{"$f":"IF(B16=\"\",\"\",22)","v":22},null,null,null,2,2,{"$f":"SUM(M15:O23)","v":4},{"$f":"((IF(ISERROR(J15-P15),,(J15-P15))))","v":18},{"$f":"Q15+M15","v":18},{"$f":"IF($I15-$R15>=0,\"\",$R15-$I15)","v":3},{"$f":"IF($I15-$R15>0,$I15-$R15,\"\")","v":""}]
[null,{"$f":"التجميع!B95","v":"بدراني شريف"},null,null,null,{"$f":"التجميع!I95","v":"4م2"},{"$f":"((IF(ISERROR(VLOOKUP(F16,التعداد!$C$10:$L$45,10,0)),\"\",VLOOKUP(F16,التعداد!$C$10:$L$45,10,0))))","v":28},3]
[null,null,null,null,null,{"$f":"التجميع!J95","v":"2م1"},{"$f":"((IF(ISERROR(VLOOKUP(F17,التعداد!$C$10:$L$45,10,0)),\"\",VLOOKUP(F17,التعداد!$C$10:$L$45,10,0))))","v":28},3]
[null,null,null,null,null,{"$f":"التجميع!K95","v":"2م2"},{"$f":"((IF(ISERROR(VLOOKUP(F18,التعداد!$C$10:$L$45,10,0)),\"\",VLOOKUP(F18,التعداد!$C$10:$L$45,10,0))))","v":27},3]
[null,{"$f":"التجميع!D95","v":"1986-01-21"},null,null,null,{"$f":"التجميع!L95","v":"2م3"},{"$f":"((IF(ISERROR(VLOOKUP(F19,التعداد!$C$10:$L$45,10,0)),\"\",VLOOKUP(F19,التعداد!$C$10:$L$45,10,0))))","v":26},3]
[null,null,null,null,null,{"$f":"التجميع!M95","v":0},{"$f":"((IF(ISERROR(VLOOKUP(F20,التعداد!$C$10:$L$45,10,0)),\"\",VLOOKUP(F20,التعداد!$C$10:$L$45,10,0))))","v":""}]
[null,null,null,null,null,{"$f":"التجميع!N95","v":0},{"$f":"((IF(ISERROR(VLOOKUP(F21,التعداد!$C$10:$L$45,10,0)),\"\",VLOOKUP(F21,التعداد!$C$10:$L$45,10,0))))","v":""}]
[null,null,null,null,null,{"$f":"التجميع!O95","v":0},{"$f":"((IF(ISERROR(VLOOKUP(F22,التعداد!$C$10:$L$45,10,0)),\"\",VLOOKUP(F22,التعداد!$C$10:$L$45,10,0))))","v":""}]
[null,null,null,null,null,{"$f":"التجميع!P95","v":0},{"$f":"((IF(ISERROR(VLOOKUP(F23,التعداد!$C$10:$L$45,10,0)),\"\",VLOOKUP(F23,التعداد!$C$10:$L$45,10,0))))","v":""}]
[null,null,{"$f":"التجميع!F97","v":""},{"$f":"التجميع!E97","v":""},{"$f":"التجميع!G97","v":""},{"$f":"التجميع!H97","v":""},{"$f":"((IF(ISERROR(VLOOKUP(F24,التعداد!$C$10:$L$45,10,0)),\"\",VLOOKUP(F24,التعداد!$C$10:$L$45,10,0))))","v":""},null,{"$f":"SUM(H24:H31)","v":0},{"$f":"IF(B25=\"\",\"\",22)","v":""},null,null,null,null,{"$f":"IF(B25=\"\",\"\",1)","v":""},{"$f":"SUM(M24:O31)","v":0},{"$f":"((IF(ISERROR(J24-P24),,(J24-P24))))","v":0},{"$f":"Q24+M24","v":0},{"$f":"IF($I24-$R24>=0,\"\",$R24-$I24)","v":""},{"$f":"IF($I24-$R24>0,$I24-$R24,\"\")","v":""}]
[null,{"$f":"التجميع!B97","v":""},null,null,null,{"$f":"التجميع!I97","v":""},{"$f":"((IF(ISERROR(VLOOKUP(F25,التعداد!$C$10:$L$45,10,0)),\"\",VLOOKUP(F25,التعداد!$C$10:$L$45,10,0))))","v":""}]
[null,null,null,null,null,{"$f":"التجميع!J97","v":""},{"$f":"((IF(ISERROR(VLOOKUP(F26,التعداد!$C$10:$L$45,10,0)),\"\",VLOOKUP(F26,التعداد!$C$10:$L$45,10,0))))","v":""}]
[null,null,null,null,null,{"$f":"التجميع!K97","v":""},{"$f":"((IF(ISERROR(VLOOKUP(F27,التعداد!$C$10:$L$45,10,0)),\"\",VLOOKUP(F27,التعداد!$C$10:$L$45,10,0))))","v":""}]
[null,{"$f":"التجميع!D97","v":""},null,null,null,{"$f":"التجميع!M97","v":""},{"$f":"((IF(ISERROR(VLOOKUP(F28,التعداد!$C$10:$L$45,10,0)),\"\",VLOOKUP(F28,التعداد!$C$10:$L$45,10,0))))","v":""}]
[null,null,null,null,null,{"$f":"التجميع!N97","v":""},{"$f":"((IF(ISERROR(VLOOKUP(F29,التعداد!$C$10:$L$45,10,0)),\"\",VLOOKUP(F29,التعداد!$C$10:$L$45,10,0))))","v":""}]
[null,null,null,null,null,{"$f":"التجميع!O97","v":""},{"$f":"((IF(ISERROR(VLOOKUP(F30,التعداد!$C$10:$L$45,10,0)),\"\",VLOOKUP(F30,التعداد!$C$10:$L$45,10,0))))","v":""}]
[null,null,null,null,null,{"$f":"التجميع!P97","v":""},{"$f":"((IF(ISERROR(VLOOKUP(F31,التعداد!$C$10:$L$45,10,0)),\"\",VLOOKUP(F31,التعداد!$C$10:$L$45,10,0))))","v":""}]
["المجموع",null,null,null,null,null,{"$f":"SUM(G6:G31)","v":292},{"$f":"SUM(H6:H31)","v":27},{"$f":"SUM(I6:I31)","v":27},{"$f":"SUM(J6:J31)","v":44},null,null,{"$f":"SUM(M6:M31)","v":0},4,4,8,36,36,9,0]
[]
[null,null,null,null,null,null,null,null,null,null,null,null,"المادة",null,null,"اجتماعيات"]
[]
["المناصب","اللقب والاســم   ","أقصى","الصفة","تـــــــاريـــخ","الخدمة المؤداة أسبوعيا",null,null,null,"أقصى",null,null,"تعديل الخدمة الواجبة  ( تخفيض )",null,null,null,"خدمة","أقصــــى","الفروق",null,"ملاحظات"]
[null,null,"درجــة",null,"التعييــن","الأقسام","عدد ","عدد  ","مجموع  ","خدمة",null,null,"عدد التلاميذ   ","صيانة  ","التنسيق","مجموع  ","صافية","خدمـة","ساعات","ساعات  "]
[null,"تاريخ  الميلاد","جامعية",null,"بالمؤسسة",null,"التلاميذ","الحصص","التوقيت","واجبة",null,null,"فوق 35","العتاد",null,"التخفيضات",null,"صافية","فائضة","إضافية"]
[5,null,{"$f":"التجميع!F98","v":""},{"$f":"التجميع!E98","v":""},{"$f":"التجميع!G98","v":""},{"$f":"التجميع!H98","v":""},{"$f":"((IF(ISERROR(VLOOKUP(F39,التعداد!$C$10:$L$45,10,0)),\"\",VLOOKUP(F39,التعداد!$C$10:$L$45,10,0))))","v":""},null,{"$f":"SUM(H39:H47)","v":0},{"$f":"IF(B40=\"\",\"\",22)","v":""},null,null,null,null,{"$f":"IF(B40=\"\",\"\",1)","v":""},{"$f":"SUM(M39:O47)","v":0},{"$f":"((IF(ISERROR(J39-P39),,(J39-P39))))","v":0},{"$f":"Q39+M39","v":0},{"$f":"IF($I39-$R39>=0,\"\",$R39-$I39)","v":""},{"$f":"IF($I39-$R39>0,$I39-$R39,\"\")","v":""}]
[null,{"$f":"التجميع!B98","v":""},null,null,null,{"$f":"التجميع!I98","v":""},{"$f":"((IF(ISERROR(VLOOKUP(F40,التعداد!$C$10:$L$45,10,0)),\"\",VLOOKUP(F40,التعداد!$C$10:$L$45,10,0))))","v":""}]
[null,null,null,null,null,{"$f":"التجميع!J98","v":""},{"$f":"((IF(ISERROR(VLOOKUP(F41,التعداد!$C$10:$L$45,10,0)),\"\",VLOOKUP(F41,التعداد!$C$10:$L$45,10,0))))","v":""}]
[null,null,null,null,null,{"$f":"التجميع!K98","v":""},{"$f":"((IF(ISERROR(VLOOKUP(F42,التعداد!$C$10:$L$45,10,0)),\"\",VLOOKUP(F42,التعداد!$C$10:$L$45,10,0))))","v":""}]
[null,null,null,null,null,{"$f":"التجميع!L98","v":""},{"$f":"((IF(ISERROR(VLOOKUP(F43,التعداد!$C$10:$L$45,10,0)),\"\",VLOOKUP(F43,التعداد!$C$10:$L$45,10,0))))","v":""}]
[null,{"$f":"التجميع!D98","v":""},null,null,null,{"$f":"التجميع!M98","v":""},{"$f":"((IF(ISERROR(VLOOKUP(F44,التعداد!$C$10:$L$45,10,0)),\"\",VLOOKUP(F44,التعداد!$C$10:$L$45,10,0))))","v":""}]
[null,null,null,null,null,{"$f":"التجميع!N98","v":""},{"$f":"((IF(ISERROR(VLOOKUP(F45,التعداد!$C$10:$L$45,10,0)),\"\",VLOOKUP(F45,التعداد!$C$10:$L$45,10,0))))","v":""}]
[null,null,null,null,null,{"$f":"التجميع!O98","v":""},{"$f":"((IF(ISERROR(VLOOKUP(F46,التعداد!$C$10:$L$45,10,0)),\"\",VLOOKUP(F46,التعداد!$C$10:$L$45,10,0))))","v":""}]
[null,null,null,null,null,{"$f":"التجميع!P98","v":""},{"$f":"((IF(ISERROR(VLOOKUP(F47,التعداد!$C$10:$L$45,10,0)),\"\",VLOOKUP(F47,التعداد!$C$10:$L$45,10,0))))","v":""}]
[6,null,{"$f":"التجميع!F99","v":""},{"$f":"التجميع!E99","v":""},{"$f":"التجميع!G99","v":""},{"$f":"التجميع!H99","v":""},{"$f":"((IF(ISERROR(VLOOKUP(F48,التعداد!$C$10:$L$45,10,0)),\"\",VLOOKUP(F48,التعداد!$C$10:$L$45,10,0))))","v":""},null,{"$f":"SUM(H48:H56)","v":0},{"$f":"IF(B49=\"\",\"\",22)","v":""},null,null,null,null,{"$f":"IF(B49=\"\",\"\",1)","v":""},{"$f":"SUM(M48:O56)","v":0},{"$f":"((IF(ISERROR(J48-P48),,(J48-P48))))","v":0},{"$f":"Q48+M48","v":0},{"$f":"IF($I48-$R48>=0,\"\",$R48-$I48)","v":""},{"$f":"IF($I48-$R48>0,$I48-$R48,\"\")","v":""}]
[null,{"$f":"التجميع!B99","v":""},null,null,null,{"$f":"التجميع!I99","v":""},{"$f":"((IF(ISERROR(VLOOKUP(F49,التعداد!$C$10:$L$45,10,0)),\"\",VLOOKUP(F49,التعداد!$C$10:$L$45,10,0))))","v":""}]
[null,null,null,null,null,{"$f":"التجميع!J99","v":""},{"$f":"((IF(ISERROR(VLOOKUP(F50,التعداد!$C$10:$L$45,10,0)),\"\",VLOOKUP(F50,التعداد!$C$10:$L$45,10,0))))","v":""}]
[null,null,null,null,null,{"$f":"التجميع!K99","v":""},{"$f":"((IF(ISERROR(VLOOKUP(F51,التعداد!$C$10:$L$45,10,0)),\"\",VLOOKUP(F51,التعداد!$C$10:$L$45,10,0))))","v":""}]
[null,null,null,null,null,{"$f":"التجميع!L99","v":""},{"$f":"((IF(ISERROR(VLOOKUP(F52,التعداد!$C$10:$L$45,10,0)),\"\",VLOOKUP(F52,التعداد!$C$10:$L$45,10,0))))","v":""}]
[null,{"$f":"التجميع!D99","v":""},null,null,null,{"$f":"التجميع!M99","v":""},{"$f":"((IF(ISERROR(VLOOKUP(F53,التعداد!$C$10:$L$45,10,0)),\"\",VLOOKUP(F53,التعداد!$C$10:$L$45,10,0))))","v":""}]
[null,null,null,null,null,{"$f":"التجميع!N99","v":""},{"$f":"((IF(ISERROR(VLOOKUP(F54,التعداد!$C$10:$L$45,10,0)),\"\",VLOOKUP(F54,التعداد!$C$10:$L$45,10,0))))","v":""}]
[null,null,null,null,null,{"$f":"التجميع!O99","v":""},{"$f":"((IF(ISERROR(VLOOKUP(F55,التعداد!$C$10:$L$45,10,0)),\"\",VLOOKUP(F55,التعداد!$C$10:$L$45,10,0))))","v":""}]
[null,null,null,null,null,{"$f":"التجميع!P99","v":""},{"$f":"((IF(ISERROR(VLOOKUP(F56,التعداد!$C$10:$L$45,10,0)),\"\",VLOOKUP(F56,التعداد!$C$10:$L$45,10,0))))","v":""}]
[7,null,{"$f":"التجميع!F100","v":""},{"$f":"التجميع!E100","v":""},{"$f":"التجميع!G100","v":""},{"$f":"التجميع!H100","v":""},{"$f":"((IF(ISERROR(VLOOKUP(F57,التعداد!$C$10:$L$45,10,0)),\"\",VLOOKUP(F57,التعداد!$C$10:$L$45,10,0))))","v":""},null,{"$f":"SUM(H57:H65)","v":0},{"$f":"IF(B58=\"\",\"\",22)","v":""},null,null,null,null,{"$f":"IF(B58=\"\",\"\",1)","v":""},{"$f":"SUM(M57:O65)","v":0},{"$f":"((IF(ISERROR(J57-P57),,(J57-P57))))","v":0},{"$f":"Q57+M57","v":0},{"$f":"IF($I57-$R57>=0,\"\",$R57-$I57)","v":""},{"$f":"IF($I57-$R57>0,$I57-$R57,\"\")","v":""}]
[null,{"$f":"التجميع!B100","v":""},null,null,null,{"$f":"التجميع!I100","v":""},{"$f":"((IF(ISERROR(VLOOKUP(F58,التعداد!$C$10:$L$45,10,0)),\"\",VLOOKUP(F58,التعداد!$C$10:$L$45,10,0))))","v":""}]
[null,null,null,null,null,{"$f":"التجميع!J100","v":""},{"$f":"((IF(ISERROR(VLOOKUP(F59,التعداد!$C$10:$L$45,10,0)),\"\",VLOOKUP(F59,التعداد!$C$10:$L$45,10,0))))","v":""}]
[null,null,null,null,null,{"$f":"التجميع!K100","v":""},{"$f":"((IF(ISERROR(VLOOKUP(F60,التعداد!$C$10:$L$45,10,0)),\"\",VLOOKUP(F60,التعداد!$C$10:$L$45,10,0))))","v":""}]
[null,null,null,null,null,{"$f":"التجميع!L100","v":""},{"$f":"((IF(ISERROR(VLOOKUP(F61,التعداد!$C$10:$L$45,10,0)),\"\",VLOOKUP(F61,التعداد!$C$10:$L$45,10,0))))","v":""}]
[null,{"$f":"التجميع!D100","v":""},null,null,null,{"$f":"التجميع!M100","v":""},{"$f":"((IF(ISERROR(VLOOKUP(F62,التعداد!$C$10:$L$45,10,0)),\"\",VLOOKUP(F62,التعداد!$C$10:$L$45,10,0))))","v":""}]
[null,null,null,null,null,{"$f":"التجميع!N100","v":""},{"$f":"((IF(ISERROR(VLOOKUP(F63,التعداد!$C$10:$L$45,10,0)),\"\",VLOOKUP(F63,التعداد!$C$10:$L$45,10,0))))","v":""}]
[null,null,null,null,null,{"$f":"التجميع!O100","v":""},{"$f":"((IF(ISERROR(VLOOKUP(F64,التعداد!$C$10:$L$45,10,0)),\"\",VLOOKUP(F64,التعداد!$C$10:$L$45,10,0))))","v":""}]
[null,null,null,null,null,{"$f":"التجميع!P100","v":""},{"$f":"((IF(ISERROR(VLOOKUP(F65,التعداد!$C$10:$L$45,10,0)),\"\",VLOOKUP(F65,التعداد!$C$10:$L$45,10,0))))","v":""}]
[8,null,{"$f":"التجميع!F101","v":""},{"$f":"التجميع!E101","v":""},{"$f":"التجميع!G101","v":""},{"$f":"التجميع!H101","v":""},{"$f":"((IF(ISERROR(VLOOKUP(F66,التعداد!$C$10:$L$45,10,0)),\"\",VLOOKUP(F66,التعداد!$C$10:$L$45,10,0))))","v":""},null,{"$f":"SUM(H66:H74)","v":0},{"$f":"IF(B67=\"\",\"\",22)","v":""},null,null,null,null,{"$f":"IF(B67=\"\",\"\",1)","v":""},{"$f":"SUM(M66:O74)","v":0},{"$f":"((IF(ISERROR(J66-P66),,(J66-P66))))","v":0},{"$f":"Q66+M66","v":0},{"$f":"IF($I66-$R66>=0,\"\",$R66-$I66)","v":""},{"$f":"IF($I66-$R66>0,$I66-$R66,\"\")","v":""}]
[null,{"$f":"التجميع!B101","v":""},null,null,null,{"$f":"التجميع!I101","v":""},{"$f":"((IF(ISERROR(VLOOKUP(F67,التعداد!$C$10:$L$45,10,0)),\"\",VLOOKUP(F67,التعداد!$C$10:$L$45,10,0))))","v":""}]
[null,null,null,null,null,{"$f":"التجميع!J101","v":""},{"$f":"((IF(ISERROR(VLOOKUP(F68,التعداد!$C$10:$L$45,10,0)),\"\",VLOOKUP(F68,التعداد!$C$10:$L$45,10,0))))","v":""}]
[null,null,null,null,null,{"$f":"التجميع!K101","v":""},{"$f":"((IF(ISERROR(VLOOKUP(F69,التعداد!$C$10:$L$45,10,0)),\"\",VLOOKUP(F69,التعداد!$C$10:$L$45,10,0))))","v":""}]
[null,null,null,null,null,{"$f":"التجميع!L101","v":""},{"$f":"((IF(ISERROR(VLOOKUP(F70,التعداد!$C$10:$L$45,10,0)),\"\",VLOOKUP(F70,التعداد!$C$10:$L$45,10,0))))","v":""}]
[null,{"$f":"التجميع!D101","v":""},null,null,null,{"$f":"التجميع!M101","v":""},{"$f":"((IF(ISERROR(VLOOKUP(F71,التعداد!$C$10:$L$45,10,0)),\"\",VLOOKUP(F71,التعداد!$C$10:$L$45,10,0))))","v":""}]
[null,null,null,null,null,{"$f":"التجميع!N101","v":""},{"$f":"((IF(ISERROR(VLOOKUP(F72,التعداد!$C$10:$L$45,10,0)),\"\",VLOOKUP(F72,التعداد!$C$10:$L$45,10,0))))","v":""}]
[null,null,null,null,null,{"$f":"التجميع!O101","v":""},{"$f":"((IF(ISERROR(VLOOKUP(F73,التعداد!$C$10:$L$45,10,0)),\"\",VLOOKUP(F73,التعداد!$C$10:$L$45,10,0))))","v":""}]
[null,null,null,null,null,{"$f":"التجميع!P101","v":""},{"$f":"((IF(ISERROR(VLOOKUP(F74,التعداد!$C$10:$L$45,10,0)),\"\",VLOOKUP(F74,التعداد!$C$10:$L$45,10,0))))","v":""}]
["المجموع",null,null,null,null,null,{"$f":"SUM(G39:G74)","v":0},{"$f":"SUM(H39:H74)","v":0},{"$f":"SUM(I39:I74)","v":0},{"$f":"SUM(J39:J74)","v":0},null,null,{"$f":"SUM(M39:M74)","v":0},0,0,0,0,0,0,0]
[]
[]
[]
[]
[]
[]
["المجموع العام",null,null,null,null,null,{"$f":"G32+G75","v":292},{"$f":"H32+H75","v":27},{"$f":"I32+I75","v":27},{"$f":"J32+J75","v":44},null,null,{"$f":"M32+M75","v":0},4,4,8,36,36,9,0]

{"sheet":"خدمات تربية بدنية","index":24,"n_rows":76,"n_cols":20,"rows_kept":76,"cut":false,"hidden":false,"merged":[[5,17,16,17],[32,16,49,16],[32,17,49,17],[5,2,16,2],[5,3,16,3],[5,4,16,4],[5,8,16,8],[5,9,16,9],[5,12,16,12],[5,19,16,19],[32,15,49,15],[5,18,16,18],[50,8,67,8],[50,9,67,9],[50,11,67,11],[50,18,67,18],[50,19,67,19],[50,12,67,12],[50,13,67,13],[50,14,67,14],[50,15,67,15],[50,16,67,16],[50,17,67,17],[5,15,16,15],[5,16,16,16],[29,11,29,14],[32,18,49,18],[32,19,49,19],[29,19,31,19],[29,17,29,18],[68,0,68,5],[5,0,16,0],[17,0,24,0],[32,0,49,0],[50,0,67,0],[32,2,49,2],[29,5,29,8],[50,2,67,2],[50,3,67,3],[50,4,67,4],[32,4,49,4],[32,8,49,8],[30,5,31,5],[52,1,56,1],[60,1,64,1],[32,12,49,12],[30,13,31,13],[5,13,16,13],[32,3,49,3],[2,17,2,18],[3,5,4,5],[27,14,27,19],[2,19,4,19],[32,11,49,11],[25,0,25,5],[27,11,27,12],[7,1,11,1],[32,13,49,13],[32,14,49,14],[32,9,49,9],[5,11,16,11],[75,0,75,5],[0,11,0,12],[0,14,0,19],[2,0,4,0],[2,1,3,1],[2,3,4,3],[2,5,2,8],[29,0,31,0],[29,1,30,1],[29,3,31,3],[0,0,0,2],[3,13,4,13],[34,1,38,1],[42,1,46,1],[2,11,2,14],[5,14,16,14]]}
["السنة الدراسية 2023/2022",null,null,null,null,null,null,null,null,null,null,"المادة",null,null,"تربية بدنية"]
[]
["المناصب","اللقب والاســم   ","أقصى","الصفة","تـــــــاريـــخ","الخدمة المؤداة أسبوعيا",null,null,null,"أقصى",null,"تعديل الخدمة الواجبة  ( تخفيض )",null,null,null,"خدمة","أقصــــى","الفروق",null,"ملاحظات"]
[null,null,"درجــة",null,"التعييــن","الأقسام","عدد ","عدد  ","مجموع  ","خدمة",null,"عدد التلاميذ   ","صيانة  ","رياضة \nالمدرسية","مجموع  ","صافية","خدمـة","ساعات","ساعات  "]
[null,"تاريخ  الميلاد","جامعية",null,"بالمؤسسة",null,"التلاميذ","الحصص","التوقيت","واجبة",null,"فوق 35","العتاد",null,"التخفيضات",null,"صافية","فائضة","إضافية"]
["1/1",null,{"$f":"التجميع!F109","v":"ليسانس"},{"$f":"التجميع!E109","v":"مرسم"},{"$f":"التجميع!G109","v":"1999-10-13"},{"$f":"التجميع!H109","v":"4م1"},{"$f":"((IF(ISERROR(VLOOKUP(F6,التعداد!$C$10:$L$45,10,0)),\"\",VLOOKUP(F6,التعداد!$C$10:$L$45,10,0))))","v":26},2,{"$f":"SUM(H6:H17)","v":18},{"$f":"IF(B8=\"\",\"\",22)","v":22},null,null,null,2,{"$f":"SUM(L6:N14)","v":2},{"$f":"((IF(ISERROR(J6-O6),,(J6-O6))))","v":20},{"$f":"P6+L6","v":20},{"$f":"IF($I6-$Q6>=0,\"\",$Q6-$I6)","v":2},{"$f":"IF($I6-$Q6>0,$I6-$Q6,\"\")","v":""}]
[null,null,null,null,null,{"$f":"التجميع!I109","v":"4م2"},{"$f":"((IF(ISERROR(VLOOKUP(F7,التعداد!$C$10:$L$45,10,0)),\"\",VLOOKUP(F7,التعداد!$C$10:$L$45,10,0))))","v":28},2]
[null,{"$f":"التجميع!B109","v":"قرمان البشير "},null,null,null,{"$f":"التجميع!J109","v":"3م1"},{"$f":"((IF(ISERROR(VLOOKUP(F8,التعداد!$C$10:$L$45,10,0)),\"\",VLOOKUP(F8,التعداد!$C$10:$L$45,10,0))))","v":31},2]
[null,null,null,null,null,{"$f":"التجميع!K109","v":"3م2"},{"$f":"((IF(ISERROR(VLOOKUP(F9,التعداد!$C$10:$L$45,10,0)),\"\",VLOOKUP(F9,التعداد!$C$10:$L$45,10,0))))","v":32},2]
[null,null,null,null,null,{"$f":"التجميع!L109","v":"2م1"},{"$f":"((IF(ISERROR(VLOOKUP(F10,التعداد!$C$10:$L$45,10,0)),\"\",VLOOKUP(F10,التعداد!$C$10:$L$45,10,0))))","v":28},2]
[null,null,null,null,null,{"$f":"التجميع!M109","v":"2م2"},{"$f":"((IF(ISERROR(VLOOKUP(F11,التعداد!$C$10:$L$45,10,0)),\"\",VLOOKUP(F11,التعداد!$C$10:$L$45,10,0))))","v":27},2]
[null,null,null,null,null,{"$f":"التجميع!N109","v":"2م3"},{"$f":"((IF(ISERROR(VLOOKUP(F12,التعداد!$C$10:$L$45,10,0)),\"\",VLOOKUP(F12,التعداد!$C$10:$L$45,10,0))))","v":26},2]
[null,{"$f":"التجميع!D109","v":"1982-01-16"},null,null,null,{"$f":"التجميع!O109","v":"1م1"},{"$f":"((IF(ISERROR(VLOOKUP(F13,التعداد!$C$10:$L$45,10,0)),\"\",VLOOKUP(F13,التعداد!$C$10:$L$45,10,0))))","v":31},2]
[null,null,null,null,null,{"$f":"التجميع!P109","v":"1م2"},{"$f":"((IF(ISERROR(VLOOKUP(F14,التعداد!$C$10:$L$45,10,0)),\"\",VLOOKUP(F14,التعداد!$C$10:$L$45,10,0))))","v":31},2]
[null,null,null,null,null,{"$f":"التجميع!Q109","v":"1م3"},{"$f":"((IF(ISERROR(VLOOKUP(F15,التعداد!$C$10:$L$45,10,0)),\"\",VLOOKUP(F15,التعداد!$C$10:$L$45,10,0))))","v":32}]
[null,null,null,null,null,{"$f":"التجميع!R109","v":0},{"$f":"((IF(ISERROR(VLOOKUP(F16,التعداد!$C$10:$L$45,10,0)),\"\",VLOOKUP(F16,التعداد!$C$10:$L$45,10,0))))","v":""}]
[null,null,null,null,null,{"$f":"التجميع!Y109","v":0},{"$f":"((IF(ISERROR(VLOOKUP(F17,التعداد!$C$10:$L$45,10,0)),\"\",VLOOKUP(F17,التعداد!$C$10:$L$45,10,0))))","v":""}]
[null,null,{"$f":"التجميع!F110","v":""},{"$f":"التجميع!E110","v":""},{"$f":"التجميع!G110","v":""},{"$f":"التجميع!H110","v":""},{"$f":"((IF(ISERROR(VLOOKUP(F18,التعداد!$C$10:$L$45,10,0)),\"\",VLOOKUP(F18,التعداد!$C$10:$L$45,10,0))))","v":""},null,{"$f":"SUM(H18:H25)","v":0},{"$f":"IF(B20=\"\",\"\",22)","v":""},null,null,null,null,{"$f":"SUM(L18:N25)","v":0},{"$f":"((IF(ISERROR(J18-O18),,(J18-O18))))","v":0},{"$f":"P18+L18","v":0},{"$f":"IF($I18-$Q18>=0,\"\",$Q18-$I18)","v":""},{"$f":"IF($I18-$Q18>0,$I18-$Q18,\"\")","v":""}]
[null,null,null,null,null,{"$f":"التجميع!I110","v":""},{"$f":"((IF(ISERROR(VLOOKUP(F19,التعداد!$C$10:$L$45,10,0)),\"\",VLOOKUP(F19,التعداد!$C$10:$L$45,10,0))))","v":""}]
[null,{"$f":"التجميع!B110","v":""},null,null,null,{"$f":"التجميع!J110","v":""},{"$f":"((IF(ISERROR(VLOOKUP(F20,التعداد!$C$10:$L$45,10,0)),\"\",VLOOKUP(F20,التعداد!$C$10:$L$45,10,0))))","v":""}]
[null,null,null,null,null,{"$f":"التجميع!K110","v":""},{"$f":"((IF(ISERROR(VLOOKUP(F21,التعداد!$C$10:$L$45,10,0)),\"\",VLOOKUP(F21,التعداد!$C$10:$L$45,10,0))))","v":""}]
[null,null,null,null,null,{"$f":"التجميع!L110","v":""},{"$f":"((IF(ISERROR(VLOOKUP(F22,التعداد!$C$10:$L$45,10,0)),\"\",VLOOKUP(F22,التعداد!$C$10:$L$45,10,0))))","v":""}]
[null,null,null,null,null,{"$f":"التجميع!M110","v":""},{"$f":"((IF(ISERROR(VLOOKUP(F23,التعداد!$C$10:$L$45,10,0)),\"\",VLOOKUP(F23,التعداد!$C$10:$L$45,10,0))))","v":""}]
[null,null,null,null,null,{"$f":"التجميع!N110","v":""},{"$f":"((IF(ISERROR(VLOOKUP(F24,التعداد!$C$10:$L$45,10,0)),\"\",VLOOKUP(F24,التعداد!$C$10:$L$45,10,0))))","v":""}]
[null,{"$f":"التجميع!D110","v":""},null,null,null,{"$f":"التجميع!O110","v":""},{"$f":"((IF(ISERROR(VLOOKUP(F25,التعداد!$C$10:$L$45,10,0)),\"\",VLOOKUP(F25,التعداد!$C$10:$L$45,10,0))))","v":""}]
["المجموع",null,null,null,null,null,{"$f":"SUM(G6:G25)","v":292},{"$f":"SUM(H6:H25)","v":18},{"$f":"SUM(I6:I25)","v":18},{"$f":"SUM(J6:J25)","v":22},null,{"$f":"SUM(L6:L25)","v":0},0,2,2,20,20,2,0]
[]
[null,null,null,null,null,null,null,null,null,null,null,"المادة",null,null,"تربية بدنية"]
[]
["المناصب","اللقب والاســم   ","أقصى","الصفة","تـــــــاريـــخ","الخدمة المؤداة أسبوعيا",null,null,null,"أقصى",null,"تعديل الخدمة الواجبة  ( تخفيض )",null,null,null,"خدمة","أقصــــى","الفروق",null,"ملاحظات"]
[null,null,"درجــة",null,"التعييــن","الأقسام","عدد ","عدد  ","مجموع  ","خدمة",null,"عدد التلاميذ   ","صيانة  ","التنسيق","مجموع  ","صافية","خدمـة","ساعات","ساعات  "]
[null,"تاريخ  الميلاد","جامعية",null,"بالمؤسسة",null,"التلاميذ","الحصص","التوقيت","واجبة",null,"فوق 35","العتاد",null,"التخفيضات",null,"صافية","فائضة","إضافية"]
[3,null,{"$f":"التجميع!F111","v":""},{"$f":"التجميع!E111","v":""},{"$f":"التجميع!G111","v":""},{"$f":"التجميع!H111","v":""},{"$f":"((IF(ISERROR(VLOOKUP(F33,التعداد!$C$10:$L$45,10,0)),\"\",VLOOKUP(F33,التعداد!$C$10:$L$45,10,0))))","v":""},null,{"$f":"SUM(H33:H50)","v":0},{"$f":"IF(B35=\"\",\"\",22)","v":""},null,null,null,{"$f":"IF(B35=\"\",\"\",1)","v":""},{"$f":"SUM(L33:N41)","v":0},{"$f":"((IF(ISERROR(J33-O33),,(J33-O33))))","v":0},{"$f":"P33+L33","v":0},{"$f":"IF($I33-$Q33>=0,\"\",$Q33-$I33)","v":""},{"$f":"IF($I33-$Q33>0,$I33-$Q33,\"\")","v":""}]
[null,null,null,null,null,{"$f":"التجميع!I111","v":""},{"$f":"((IF(ISERROR(VLOOKUP(F34,التعداد!$C$10:$L$45,10,0)),\"\",VLOOKUP(F34,التعداد!$C$10:$L$45,10,0))))","v":""}]
[null,{"$f":"التجميع!B111","v":""},null,null,null,{"$f":"التجميع!J111","v":""},{"$f":"((IF(ISERROR(VLOOKUP(F35,التعداد!$C$10:$L$45,10,0)),\"\",VLOOKUP(F35,التعداد!$C$10:$L$45,10,0))))","v":""}]
[null,null,null,null,null,{"$f":"التجميع!K111","v":""},{"$f":"((IF(ISERROR(VLOOKUP(F36,التعداد!$C$10:$L$45,10,0)),\"\",VLOOKUP(F36,التعداد!$C$10:$L$45,10,0))))","v":""}]
[null,null,null,null,null,{"$f":"التجميع!L111","v":""},{"$f":"((IF(ISERROR(VLOOKUP(F37,التعداد!$C$10:$L$45,10,0)),\"\",VLOOKUP(F37,التعداد!$C$10:$L$45,10,0))))","v":""}]
[null,null,null,null,null,{"$f":"التجميع!M111","v":""},{"$f":"((IF(ISERROR(VLOOKUP(F38,التعداد!$C$10:$L$45,10,0)),\"\",VLOOKUP(F38,التعداد!$C$10:$L$45,10,0))))","v":""}]
[null,null,null,null,null,{"$f":"التجميع!N111","v":""},{"$f":"((IF(ISERROR(VLOOKUP(F39,التعداد!$C$10:$L$45,10,0)),\"\",VLOOKUP(F39,التعداد!$C$10:$L$45,10,0))))","v":""}]
[null,null,null,null,null,{"$f":"التجميع!O111","v":""},{"$f":"((IF(ISERROR(VLOOKUP(F40,التعداد!$C$10:$L$45,10,0)),\"\",VLOOKUP(F40,التعداد!$C$10:$L$45,10,0))))","v":""}]
[null,null,null,null,null,{"$f":"التجميع!P111","v":""},{"$f":"((IF(ISERROR(VLOOKUP(F41,التعداد!$C$10:$L$45,10,0)),\"\",VLOOKUP(F41,التعداد!$C$10:$L$45,10,0))))","v":""}]
[null,null,null,null,null,{"$f":"التجميع!Q111","v":0},{"$f":"((IF(ISERROR(VLOOKUP(F42,التعداد!$C$10:$L$45,10,0)),\"\",VLOOKUP(F42,التعداد!$C$10:$L$45,10,0))))","v":""}]
[null,{"$f":"التجميع!D111","v":""},null,null,null,{"$f":"التجميع!R111","v":0},{"$f":"((IF(ISERROR(VLOOKUP(F43,التعداد!$C$10:$L$45,10,0)),\"\",VLOOKUP(F43,التعداد!$C$10:$L$45,10,0))))","v":""}]
[null,null,null,null,null,{"$f":"التجميع!S111","v":0},{"$f":"((IF(ISERROR(VLOOKUP(F44,التعداد!$C$10:$L$45,10,0)),\"\",VLOOKUP(F44,التعداد!$C$10:$L$45,10,0))))","v":""}]
[null,null,null,null,null,{"$f":"التجميع!T111","v":0},{"$f":"((IF(ISERROR(VLOOKUP(F45,التعداد!$C$10:$L$45,10,0)),\"\",VLOOKUP(F45,التعداد!$C$10:$L$45,10,0))))","v":""}]
[null,null,null,null,null,{"$f":"التجميع!U111","v":0},{"$f":"((IF(ISERROR(VLOOKUP(F46,التعداد!$C$10:$L$45,10,0)),\"\",VLOOKUP(F46,التعداد!$C$10:$L$45,10,0))))","v":""}]
[null,null,null,null,null,{"$f":"التجميع!V111","v":0},{"$f":"((IF(ISERROR(VLOOKUP(F47,التعداد!$C$10:$L$45,10,0)),\"\",VLOOKUP(F47,التعداد!$C$10:$L$45,10,0))))","v":""}]
[null,null,null,null,null,{"$f":"التجميع!W111","v":0},{"$f":"((IF(ISERROR(VLOOKUP(F48,التعداد!$C$10:$L$45,10,0)),\"\",VLOOKUP(F48,التعداد!$C$10:$L$45,10,0))))","v":""}]
[null,null,null,null,null,{"$f":"التجميع!X111","v":0},{"$f":"((IF(ISERROR(VLOOKUP(F49,التعداد!$C$10:$L$45,10,0)),\"\",VLOOKUP(F49,التعداد!$C$10:$L$45,10,0))))","v":""}]
[null,null,null,null,null,{"$f":"التجميع!Y111","v":0},{"$f":"((IF(ISERROR(VLOOKUP(F50,التعداد!$C$10:$L$45,10,0)),\"\",VLOOKUP(F50,التعداد!$C$10:$L$45,10,0))))","v":""}]
[4,null,{"$f":"التجميع!F112","v":""},{"$f":"التجميع!E112","v":""},{"$f":"التجميع!G112","v":""},{"$f":"التجميع!H112","v":""},{"$f":"((IF(ISERROR(VLOOKUP(F51,التعداد!$C$10:$L$45,10,0)),\"\",VLOOKUP(F51,التعداد!$C$10:$L$45,10,0))))","v":""},null,{"$f":"SUM(H51:H68)","v":0},{"$f":"IF(B53=\"\",\"\",22)","v":""},null,null,null,{"$f":"IF(B53=\"\",\"\",1)","v":""},{"$f":"SUM(L51:N59)","v":0},{"$f":"((IF(ISERROR(J51-O51),,(J51-O51))))","v":0},{"$f":"P51+L51","v":0},{"$f":"IF($I51-$Q51>=0,\"\",$Q51-$I51)","v":""},{"$f":"IF($I51-$Q51>0,$I51-$Q51,\"\")","v":""}]
[null,null,null,null,null,{"$f":"التجميع!I112","v":""},{"$f":"((IF(ISERROR(VLOOKUP(F52,التعداد!$C$10:$L$45,10,0)),\"\",VLOOKUP(F52,التعداد!$C$10:$L$45,10,0))))","v":""}]
[null,{"$f":"التجميع!B112","v":""},null,null,null,{"$f":"التجميع!J112","v":""},{"$f":"((IF(ISERROR(VLOOKUP(F53,التعداد!$C$10:$L$45,10,0)),\"\",VLOOKUP(F53,التعداد!$C$10:$L$45,10,0))))","v":""}]
[null,null,null,null,null,{"$f":"التجميع!K112","v":""},{"$f":"((IF(ISERROR(VLOOKUP(F54,التعداد!$C$10:$L$45,10,0)),\"\",VLOOKUP(F54,التعداد!$C$10:$L$45,10,0))))","v":""}]
[null,null,null,null,null,{"$f":"التجميع!L112","v":""},{"$f":"((IF(ISERROR(VLOOKUP(F55,التعداد!$C$10:$L$45,10,0)),\"\",VLOOKUP(F55,التعداد!$C$10:$L$45,10,0))))","v":""}]
[null,null,null,null,null,{"$f":"التجميع!M112","v":""},{"$f":"((IF(ISERROR(VLOOKUP(F56,التعداد!$C$10:$L$45,10,0)),\"\",VLOOKUP(F56,التعداد!$C$10:$L$45,10,0))))","v":""}]
[null,null,null,null,null,{"$f":"التجميع!N112","v":""},{"$f":"((IF(ISERROR(VLOOKUP(F57,التعداد!$C$10:$L$45,10,0)),\"\",VLOOKUP(F57,التعداد!$C$10:$L$45,10,0))))","v":""}]
[null,null,null,null,null,{"$f":"التجميع!O112","v":""},{"$f":"((IF(ISERROR(VLOOKUP(F58,التعداد!$C$10:$L$45,10,0)),\"\",VLOOKUP(F58,التعداد!$C$10:$L$45,10,0))))","v":""}]
[null,null,null,null,null,{"$f":"التجميع!P112","v":""},{"$f":"((IF(ISERROR(VLOOKUP(F59,التعداد!$C$10:$L$45,10,0)),\"\",VLOOKUP(F59,التعداد!$C$10:$L$45,10,0))))","v":""}]
[null,null,null,null,null,{"$f":"التجميع!Q112","v":0},{"$f":"((IF(ISERROR(VLOOKUP(F60,التعداد!$C$10:$L$45,10,0)),\"\",VLOOKUP(F60,التعداد!$C$10:$L$45,10,0))))","v":""}]
[null,{"$f":"التجميع!D112","v":""},null,null,null,{"$f":"التجميع!R112","v":0},{"$f":"((IF(ISERROR(VLOOKUP(F61,التعداد!$C$10:$L$45,10,0)),\"\",VLOOKUP(F61,التعداد!$C$10:$L$45,10,0))))","v":""}]
[null,null,null,null,null,{"$f":"التجميع!S112","v":0},{"$f":"((IF(ISERROR(VLOOKUP(F62,التعداد!$C$10:$L$45,10,0)),\"\",VLOOKUP(F62,التعداد!$C$10:$L$45,10,0))))","v":""}]
[null,null,null,null,null,{"$f":"التجميع!T112","v":0},{"$f":"((IF(ISERROR(VLOOKUP(F63,التعداد!$C$10:$L$45,10,0)),\"\",VLOOKUP(F63,التعداد!$C$10:$L$45,10,0))))","v":""}]
[null,null,null,null,null,{"$f":"التجميع!U112","v":0},{"$f":"((IF(ISERROR(VLOOKUP(F64,التعداد!$C$10:$L$45,10,0)),\"\",VLOOKUP(F64,التعداد!$C$10:$L$45,10,0))))","v":""}]
[null,null,null,null,null,{"$f":"التجميع!V112","v":0},{"$f":"((IF(ISERROR(VLOOKUP(F65,التعداد!$C$10:$L$45,10,0)),\"\",VLOOKUP(F65,التعداد!$C$10:$L$45,10,0))))","v":""}]
[null,null,null,null,null,{"$f":"التجميع!W112","v":0},{"$f":"((IF(ISERROR(VLOOKUP(F66,التعداد!$C$10:$L$45,10,0)),\"\",VLOOKUP(F66,التعداد!$C$10:$L$45,10,0))))","v":""}]
[null,null,null,null,null,{"$f":"التجميع!X112","v":0},{"$f":"((IF(ISERROR(VLOOKUP(F67,التعداد!$C$10:$L$45,10,0)),\"\",VLOOKUP(F67,التعداد!$C$10:$L$45,10,0))))","v":""}]
[null,null,null,null,null,{"$f":"التجميع!Y112","v":0},{"$f":"((IF(ISERROR(VLOOKUP(F68,التعداد!$C$10:$L$45,10,0)),\"\",VLOOKUP(F68,التعداد!$C$10:$L$45,10,0))))","v":""}]
["المجموع",null,null,null,null,null,{"$f":"SUM(G33:G68)","v":0},{"$f":"SUM(H33:H68)","v":0},{"$f":"SUM(I33:I68)","v":0},{"$f":"SUM(J33:J68)","v":0},null,{"$f":"SUM(L33:L68)","v":0},0,0,0,0,0,0,0]
[]
[]
[]
[]
[]
[]
["المجموع العام",null,null,null,null,null,{"$f":"G26+G69","v":292},{"$f":"H26+H69","v":18},{"$f":"I26+I69","v":18},{"$f":"J26+J69","v":22},null,{"$f":"L26+L69","v":0},0,2,2,20,20,2,0]

{"sheet":"خدمات إعلام آلي","index":25,"n_rows":92,"n_cols":20,"rows_kept":92,"cut":false,"hidden":false,"merged":[[84,0,84,5],[66,12,83,12],[66,13,83,13],[66,14,83,14],[66,15,83,15],[66,9,83,9],[0,1,0,3],[66,19,83,19],[68,1,72,1],[76,1,80,1],[66,16,83,16],[66,0,83,0],[66,2,83,2],[66,3,83,3],[66,4,83,4],[66,8,83,8],[66,17,83,17],[48,18,65,18],[46,5,47,5],[46,13,47,13],[48,0,65,0],[48,2,65,2],[48,3,65,3],[48,4,65,4],[48,8,65,8],[66,18,83,18],[48,13,65,13],[48,14,65,14],[48,15,65,15],[48,16,65,16],[48,17,65,17],[66,11,83,11],[48,9,65,9],[48,11,65,11],[41,0,41,5],[43,11,43,12],[43,14,43,19],[45,0,47,0],[45,1,46,1],[45,3,47,3],[45,5,45,8],[45,11,45,14],[48,12,65,12],[48,19,65,19],[50,1,54,1],[58,1,62,1],[45,17,45,18],[45,19,47,19],[23,19,40,19],[25,1,29,1],[33,1,37,1],[23,8,40,8],[23,9,40,9],[23,11,40,11],[23,0,40,0],[23,2,40,2],[23,3,40,3],[23,4,40,4],[5,14,22,14],[5,0,22,0],[5,2,22,2],[5,3,22,3],[5,4,22,4],[7,1,11,1],[15,1,19,1],[23,16,40,16],[23,17,40,17],[23,18,40,18],[23,15,40,15],[0,11,0,12],[0,14,0,19],[2,0,4,0],[2,1,3,1],[2,3,4,3],[2,5,2,8],[2,11,2,14],[2,17,2,18],[3,13,4,13],[91,0,91,5],[2,19,4,19],[3,5,4,5],[5,11,22,11],[5,12,22,12],[5,13,22,13],[5,15,22,15],[5,16,22,16],[5,17,22,17],[5,18,22,18],[5,8,22,8],[5,9,22,9],[5,19,22,19],[23,12,40,12],[23,13,40,13],[23,14,40,14]]}
[null,"السنة الدراسية 2023/2022",null,null,null,null,null,null,null,null,null,"المادة",null,null,"إعلام آلي"]
[]
["المناصب","اللقب والاســم   ","أقصى","الصفة","تـــــــاريـــخ","الخدمة المؤداة أسبوعيا",null,null,null,"أقصى",null,"تعديل الخدمة الواجبة  ( تخفيض )",null,null,null,"خدمة","أقصــــى","الفروق",null,"ملاحظات"]
[null,null,"درجــة",null,"التعييــن","الأقسام","عدد ","عدد  ","مجموع  ","خدمة",null,"عدد التلاميذ   ","صيانة  ","التنسيق","مجموع  ","صافية","خدمـة","ساعات","ساعات  "]
[null,"تاريخ  الميلاد","جامعية",null,"بالمؤسسة",null,"التلاميذ","الحصص","التوقيت","واجبة",null,"فوق 35","العتاد",null,"التخفيضات",null,"صافية","فائضة","إضافية"]
[1,null,{"$f":"التجميع!F154","v":""},{"$f":"التجميع!E154","v":""},{"$f":"التجميع!G154","v":""},{"$f":"التجميع!H154","v":""},{"$f":"((IF(ISERROR(VLOOKUP(F6,التعداد!$C$10:$L$45,10,0)),\"\",VLOOKUP(F6,التعداد!$C$10:$L$45,10,0))))","v":""},null,{"$f":"SUM(H6:H23)","v":0},{"$f":"IF(B8=\"\",\"\",22)","v":""},null,null,null,{"$f":"IF(B8=\"\",\"\",1)","v":""},{"$f":"SUM(L6:N23)","v":0},{"$f":"((IF(ISERROR(J6-O6),,(J6-O6))))","v":0},{"$f":"P6+L6","v":0},{"$f":"IF($I6-$Q6>=0,\"\",$Q6-$I6)","v":""},{"$f":"IF($I6-$Q6>0,$I6-$Q6,\"\")","v":""}]
[null,null,null,null,null,{"$f":"التجميع!I154","v":""},{"$f":"((IF(ISERROR(VLOOKUP(F7,التعداد!$C$10:$L$45,10,0)),\"\",VLOOKUP(F7,التعداد!$C$10:$L$45,10,0))))","v":""}]
[null,{"$f":"التجميع!B154","v":""},null,null,null,{"$f":"التجميع!J154","v":""},{"$f":"((IF(ISERROR(VLOOKUP(F8,التعداد!$C$10:$L$45,10,0)),\"\",VLOOKUP(F8,التعداد!$C$10:$L$45,10,0))))","v":""}]
[null,null,null,null,null,{"$f":"التجميع!K154","v":""},{"$f":"((IF(ISERROR(VLOOKUP(F9,التعداد!$C$10:$L$45,10,0)),\"\",VLOOKUP(F9,التعداد!$C$10:$L$45,10,0))))","v":""}]
[null,null,null,null,null,{"$f":"التجميع!L154","v":""},{"$f":"((IF(ISERROR(VLOOKUP(F10,التعداد!$C$10:$L$45,10,0)),\"\",VLOOKUP(F10,التعداد!$C$10:$L$45,10,0))))","v":""}]
[null,null,null,null,null,{"$f":"التجميع!M154","v":""},{"$f":"((IF(ISERROR(VLOOKUP(F11,التعداد!$C$10:$L$45,10,0)),\"\",VLOOKUP(F11,التعداد!$C$10:$L$45,10,0))))","v":""}]
[null,null,null,null,null,{"$f":"التجميع!N154","v":""},{"$f":"((IF(ISERROR(VLOOKUP(F12,التعداد!$C$10:$L$45,10,0)),\"\",VLOOKUP(F12,التعداد!$C$10:$L$45,10,0))))","v":""}]
[null,null,null,null,null,{"$f":"التجميع!O154","v":""},{"$f":"((IF(ISERROR(VLOOKUP(F13,التعداد!$C$10:$L$45,10,0)),\"\",VLOOKUP(F13,التعداد!$C$10:$L$45,10,0))))","v":""}]
[null,null,null,null,null,{"$f":"التجميع!P154","v":""},{"$f":"((IF(ISERROR(VLOOKUP(F14,التعداد!$C$10:$L$45,10,0)),\"\",VLOOKUP(F14,التعداد!$C$10:$L$45,10,0))))","v":""}]
[null,null,null,null,null,{"$f":"التجميع!Q154","v":""},{"$f":"((IF(ISERROR(VLOOKUP(F15,التعداد!$C$10:$L$45,10,0)),\"\",VLOOKUP(F15,التعداد!$C$10:$L$45,10,0))))","v":""}]
[null,{"$f":"التجميع!D154","v":""},null,null,null,{"$f":"التجميع!R154","v":""},{"$f":"((IF(ISERROR(VLOOKUP(F16,التعداد!$C$10:$L$45,10,0)),\"\",VLOOKUP(F16,التعداد!$C$10:$L$45,10,0))))","v":""}]
[null,null,null,null,null,{"$f":"التجميع!S154","v":""},{"$f":"((IF(ISERROR(VLOOKUP(F17,التعداد!$C$10:$L$45,10,0)),\"\",VLOOKUP(F17,التعداد!$C$10:$L$45,10,0))))","v":""}]
[null,null,null,null,null,{"$f":"التجميع!T154","v":""},{"$f":"((IF(ISERROR(VLOOKUP(F18,التعداد!$C$10:$L$45,10,0)),\"\",VLOOKUP(F18,التعداد!$C$10:$L$45,10,0))))","v":""}]
[null,null,null,null,null,{"$f":"التجميع!U154","v":""},{"$f":"((IF(ISERROR(VLOOKUP(F19,التعداد!$C$10:$L$45,10,0)),\"\",VLOOKUP(F19,التعداد!$C$10:$L$45,10,0))))","v":""}]
[null,null,null,null,null,{"$f":"التجميع!V154","v":""},{"$f":"((IF(ISERROR(VLOOKUP(F20,التعداد!$C$10:$L$45,10,0)),\"\",VLOOKUP(F20,التعداد!$C$10:$L$45,10,0))))","v":""}]
[null,null,null,null,null,{"$f":"التجميع!W154","v":""},{"$f":"((IF(ISERROR(VLOOKUP(F21,التعداد!$C$10:$L$45,10,0)),\"\",VLOOKUP(F21,التعداد!$C$10:$L$45,10,0))))","v":""}]
[null,null,null,null,null,{"$f":"التجميع!X154","v":""},{"$f":"((IF(ISERROR(VLOOKUP(F22,التعداد!$C$10:$L$45,10,0)),\"\",VLOOKUP(F22,التعداد!$C$10:$L$45,10,0))))","v":""}]
[null,null,null,null,null,{"$f":"التجميع!Y154","v":""},{"$f":"((IF(ISERROR(VLOOKUP(F23,التعداد!$C$10:$L$45,10,0)),\"\",VLOOKUP(F23,التعداد!$C$10:$L$45,10,0))))","v":""}]
[2,null,{"$f":"التجميع!F155","v":""},{"$f":"التجميع!E155","v":""},{"$f":"التجميع!G155","v":""},{"$f":"التجميع!H155","v":""},{"$f":"((IF(ISERROR(VLOOKUP(F24,التعداد!$C$10:$L$45,10,0)),\"\",VLOOKUP(F24,التعداد!$C$10:$L$45,10,0))))","v":""},null,{"$f":"SUM(H24:H41)","v":0},{"$f":"IF(B26=\"\",\"\",22)","v":""},null,null,null,{"$f":"IF(B26=\"\",\"\",1)","v":""},{"$f":"SUM(L24:N41)","v":0},{"$f":"((IF(ISERROR(J24-O24),,(J24-O24))))","v":0},{"$f":"P24+L24","v":0},{"$f":"IF($I24-$Q24>=0,\"\",$Q24-$I24)","v":""},{"$f":"IF($I24-$Q24>0,$I24-$Q24,\"\")","v":""}]
[null,null,null,null,null,{"$f":"التجميع!I155","v":""},{"$f":"((IF(ISERROR(VLOOKUP(F25,التعداد!$C$10:$L$45,10,0)),\"\",VLOOKUP(F25,التعداد!$C$10:$L$45,10,0))))","v":""}]
[null,{"$f":"التجميع!B155","v":""},null,null,null,{"$f":"التجميع!J155","v":""},{"$f":"((IF(ISERROR(VLOOKUP(F26,التعداد!$C$10:$L$45,10,0)),\"\",VLOOKUP(F26,التعداد!$C$10:$L$45,10,0))))","v":""}]
[null,null,null,null,null,{"$f":"التجميع!K155","v":""},{"$f":"((IF(ISERROR(VLOOKUP(F27,التعداد!$C$10:$L$45,10,0)),\"\",VLOOKUP(F27,التعداد!$C$10:$L$45,10,0))))","v":""}]
[null,null,null,null,null,{"$f":"التجميع!L155","v":""},{"$f":"((IF(ISERROR(VLOOKUP(F28,التعداد!$C$10:$L$45,10,0)),\"\",VLOOKUP(F28,التعداد!$C$10:$L$45,10,0))))","v":""}]
[null,null,null,null,null,{"$f":"التجميع!M155","v":""},{"$f":"((IF(ISERROR(VLOOKUP(F29,التعداد!$C$10:$L$45,10,0)),\"\",VLOOKUP(F29,التعداد!$C$10:$L$45,10,0))))","v":""}]
[null,null,null,null,null,{"$f":"التجميع!N155","v":""},{"$f":"((IF(ISERROR(VLOOKUP(F30,التعداد!$C$10:$L$45,10,0)),\"\",VLOOKUP(F30,التعداد!$C$10:$L$45,10,0))))","v":""}]
[null,null,null,null,null,{"$f":"التجميع!O155","v":""},{"$f":"((IF(ISERROR(VLOOKUP(F31,التعداد!$C$10:$L$45,10,0)),\"\",VLOOKUP(F31,التعداد!$C$10:$L$45,10,0))))","v":""}]
[null,null,null,null,null,{"$f":"التجميع!P155","v":""},{"$f":"((IF(ISERROR(VLOOKUP(F32,التعداد!$C$10:$L$45,10,0)),\"\",VLOOKUP(F32,التعداد!$C$10:$L$45,10,0))))","v":""}]
[null,null,null,null,null,{"$f":"التجميع!Q155","v":""},{"$f":"((IF(ISERROR(VLOOKUP(F33,التعداد!$C$10:$L$45,10,0)),\"\",VLOOKUP(F33,التعداد!$C$10:$L$45,10,0))))","v":""}]
[null,{"$f":"التجميع!D155","v":""},null,null,null,{"$f":"التجميع!R155","v":""},{"$f":"((IF(ISERROR(VLOOKUP(F34,التعداد!$C$10:$L$45,10,0)),\"\",VLOOKUP(F34,التعداد!$C$10:$L$45,10,0))))","v":""}]
[null,null,null,null,null,{"$f":"التجميع!S155","v":""},{"$f":"((IF(ISERROR(VLOOKUP(F35,التعداد!$C$10:$L$45,10,0)),\"\",VLOOKUP(F35,التعداد!$C$10:$L$45,10,0))))","v":""}]
[null,null,null,null,null,{"$f":"التجميع!T155","v":""},{"$f":"((IF(ISERROR(VLOOKUP(F36,التعداد!$C$10:$L$45,10,0)),\"\",VLOOKUP(F36,التعداد!$C$10:$L$45,10,0))))","v":""}]
[null,null,null,null,null,{"$f":"التجميع!U155","v":""},{"$f":"((IF(ISERROR(VLOOKUP(F37,التعداد!$C$10:$L$45,10,0)),\"\",VLOOKUP(F37,التعداد!$C$10:$L$45,10,0))))","v":""}]
[null,null,null,null,null,{"$f":"التجميع!V155","v":""},{"$f":"((IF(ISERROR(VLOOKUP(F38,التعداد!$C$10:$L$45,10,0)),\"\",VLOOKUP(F38,التعداد!$C$10:$L$45,10,0))))","v":""}]
[null,null,null,null,null,{"$f":"التجميع!W155","v":""},{"$f":"((IF(ISERROR(VLOOKUP(F39,التعداد!$C$10:$L$45,10,0)),\"\",VLOOKUP(F39,التعداد!$C$10:$L$45,10,0))))","v":""}]
[null,null,null,null,null,{"$f":"التجميع!X155","v":""},{"$f":"((IF(ISERROR(VLOOKUP(F40,التعداد!$C$10:$L$45,10,0)),\"\",VLOOKUP(F40,التعداد!$C$10:$L$45,10,0))))","v":""}]
[null,null,null,null,null,{"$f":"التجميع!Y155","v":""},{"$f":"((IF(ISERROR(VLOOKUP(F41,التعداد!$C$10:$L$45,10,0)),\"\",VLOOKUP(F41,التعداد!$C$10:$L$45,10,0))))","v":""}]
["المجموع",null,null,null,null,null,{"$f":"SUM(G6:G41)","v":0},{"$f":"SUM(H6:H41)","v":0},{"$f":"SUM(I6:I41)","v":0},{"$f":"SUM(J6:J41)","v":0},null,{"$f":"SUM(L6:L41)","v":0},0,0,0,0,0,0,0]
[]
[null,null,null,null,null,null,null,null,null,null,null,"المادة",null,null,"إعلام آلي"]
[]
["المناصب","اللقب والاســم   ","أقصى","الصفة","تـــــــاريـــخ","الخدمة المؤداة أسبوعيا",null,null,null,"أقصى",null,"تعديل الخدمة الواجبة  ( تخفيض )",null,null,null,"خدمة","أقصــــى","الفروق",null,"ملاحظات"]
[null,null,"درجــة",null,"التعييــن","الأقسام","عدد ","عدد  ","مجموع  ","خدمة",null,"عدد التلاميذ   ","صيانة  ","التنسيق","مجموع  ","صافية","خدمـة","ساعات","ساعات  "]
[null,"تاريخ  الميلاد","جامعية",null,"بالمؤسسة",null,"التلاميذ","الحصص","التوقيت","واجبة",null,"فوق 35","العتاد",null,"التخفيضات",null,"صافية","فائضة","إضافية"]
[3,null,{"$f":"التجميع!F156","v":""},{"$f":"التجميع!E156","v":""},{"$f":"التجميع!G156","v":""},{"$f":"التجميع!H156","v":""},{"$f":"((IF(ISERROR(VLOOKUP(F49,التعداد!$C$10:$L$45,10,0)),\"\",VLOOKUP(F49,التعداد!$C$10:$L$45,10,0))))","v":""},null,{"$f":"SUM(H49:H66)","v":0},{"$f":"IF(B51=\"\",\"\",22)","v":""},null,null,null,{"$f":"IF(B51=\"\",\"\",1)","v":""},{"$f":"SUM(L49:N66)","v":0},{"$f":"((IF(ISERROR(J49-O49),,(J49-O49))))","v":0},{"$f":"P49+L49","v":0},{"$f":"IF($I49-$Q49>=0,\"\",$Q49-$I49)","v":""},{"$f":"IF($I49-$Q49>0,$I49-$Q49,\"\")","v":""}]
[null,null,null,null,null,{"$f":"التجميع!I156","v":""},{"$f":"((IF(ISERROR(VLOOKUP(F50,التعداد!$C$10:$L$45,10,0)),\"\",VLOOKUP(F50,التعداد!$C$10:$L$45,10,0))))","v":""}]
[null,{"$f":"التجميع!B156","v":""},null,null,null,{"$f":"التجميع!J156","v":""},{"$f":"((IF(ISERROR(VLOOKUP(F51,التعداد!$C$10:$L$45,10,0)),\"\",VLOOKUP(F51,التعداد!$C$10:$L$45,10,0))))","v":""}]
[null,null,null,null,null,{"$f":"التجميع!K156","v":""},{"$f":"((IF(ISERROR(VLOOKUP(F52,التعداد!$C$10:$L$45,10,0)),\"\",VLOOKUP(F52,التعداد!$C$10:$L$45,10,0))))","v":""}]
[null,null,null,null,null,{"$f":"التجميع!L156","v":""},{"$f":"((IF(ISERROR(VLOOKUP(F53,التعداد!$C$10:$L$45,10,0)),\"\",VLOOKUP(F53,التعداد!$C$10:$L$45,10,0))))","v":""}]
[null,null,null,null,null,{"$f":"التجميع!M156","v":""},{"$f":"((IF(ISERROR(VLOOKUP(F54,التعداد!$C$10:$L$45,10,0)),\"\",VLOOKUP(F54,التعداد!$C$10:$L$45,10,0))))","v":""}]
[null,null,null,null,null,{"$f":"التجميع!N156","v":""},{"$f":"((IF(ISERROR(VLOOKUP(F55,التعداد!$C$10:$L$45,10,0)),\"\",VLOOKUP(F55,التعداد!$C$10:$L$45,10,0))))","v":""}]
[null,null,null,null,null,{"$f":"التجميع!O156","v":""},{"$f":"((IF(ISERROR(VLOOKUP(F56,التعداد!$C$10:$L$45,10,0)),\"\",VLOOKUP(F56,التعداد!$C$10:$L$45,10,0))))","v":""}]
[null,null,null,null,null,{"$f":"التجميع!P156","v":""},{"$f":"((IF(ISERROR(VLOOKUP(F57,التعداد!$C$10:$L$45,10,0)),\"\",VLOOKUP(F57,التعداد!$C$10:$L$45,10,0))))","v":""}]
[null,null,null,null,null,{"$f":"التجميع!Q156","v":""},{"$f":"((IF(ISERROR(VLOOKUP(F58,التعداد!$C$10:$L$45,10,0)),\"\",VLOOKUP(F58,التعداد!$C$10:$L$45,10,0))))","v":""}]
[null,{"$f":"التجميع!D156","v":""},null,null,null,{"$f":"التجميع!R156","v":""},{"$f":"((IF(ISERROR(VLOOKUP(F59,التعداد!$C$10:$L$45,10,0)),\"\",VLOOKUP(F59,التعداد!$C$10:$L$45,10,0))))","v":""}]
[null,null,null,null,null,{"$f":"التجميع!S156","v":""},{"$f":"((IF(ISERROR(VLOOKUP(F60,التعداد!$C$10:$L$45,10,0)),\"\",VLOOKUP(F60,التعداد!$C$10:$L$45,10,0))))","v":""}]
[null,null,null,null,null,{"$f":"التجميع!T156","v":""},{"$f":"((IF(ISERROR(VLOOKUP(F61,التعداد!$C$10:$L$45,10,0)),\"\",VLOOKUP(F61,التعداد!$C$10:$L$45,10,0))))","v":""}]
[null,null,null,null,null,{"$f":"التجميع!U156","v":""},{"$f":"((IF(ISERROR(VLOOKUP(F62,التعداد!$C$10:$L$45,10,0)),\"\",VLOOKUP(F62,التعداد!$C$10:$L$45,10,0))))","v":""}]
[null,null,null,null,null,{"$f":"التجميع!V156","v":""},{"$f":"((IF(ISERROR(VLOOKUP(F63,التعداد!$C$10:$L$45,10,0)),\"\",VLOOKUP(F63,التعداد!$C$10:$L$45,10,0))))","v":""}]
[null,null,null,null,null,{"$f":"التجميع!W156","v":""},{"$f":"((IF(ISERROR(VLOOKUP(F64,التعداد!$C$10:$L$45,10,0)),\"\",VLOOKUP(F64,التعداد!$C$10:$L$45,10,0))))","v":""}]
[null,null,null,null,null,{"$f":"التجميع!X156","v":""},{"$f":"((IF(ISERROR(VLOOKUP(F65,التعداد!$C$10:$L$45,10,0)),\"\",VLOOKUP(F65,التعداد!$C$10:$L$45,10,0))))","v":""}]
[null,null,null,null,null,{"$f":"التجميع!Y156","v":""},{"$f":"((IF(ISERROR(VLOOKUP(F66,التعداد!$C$10:$L$45,10,0)),\"\",VLOOKUP(F66,التعداد!$C$10:$L$45,10,0))))","v":""}]
[4,null,{"$f":"التجميع!F157","v":""},{"$f":"التجميع!E157","v":""},{"$f":"التجميع!G157","v":""},{"$f":"التجميع!H157","v":""},{"$f":"((IF(ISERROR(VLOOKUP(F67,التعداد!$C$10:$L$45,10,0)),\"\",VLOOKUP(F67,التعداد!$C$10:$L$45,10,0))))","v":""},null,{"$f":"SUM(H67:H84)","v":0},{"$f":"IF(B69=\"\",\"\",22)","v":""},null,null,null,{"$f":"IF(B69=\"\",\"\",1)","v":""},{"$f":"SUM(L67:N84)","v":0},{"$f":"((IF(ISERROR(J67-O67),,(J67-O67))))","v":0},{"$f":"P67+L67","v":0},{"$f":"IF($I67-$Q67>=0,\"\",$Q67-$I67)","v":""},{"$f":"IF($I67-$Q67>0,$I67-$Q67,\"\")","v":""}]
[null,null,null,null,null,{"$f":"التجميع!I157","v":""},{"$f":"((IF(ISERROR(VLOOKUP(F68,التعداد!$C$10:$L$45,10,0)),\"\",VLOOKUP(F68,التعداد!$C$10:$L$45,10,0))))","v":""}]
[null,{"$f":"التجميع!B157","v":""},null,null,null,{"$f":"التجميع!J157","v":""},{"$f":"((IF(ISERROR(VLOOKUP(F69,التعداد!$C$10:$L$45,10,0)),\"\",VLOOKUP(F69,التعداد!$C$10:$L$45,10,0))))","v":""}]
[null,null,null,null,null,{"$f":"التجميع!K157","v":""},{"$f":"((IF(ISERROR(VLOOKUP(F70,التعداد!$C$10:$L$45,10,0)),\"\",VLOOKUP(F70,التعداد!$C$10:$L$45,10,0))))","v":""}]
[null,null,null,null,null,{"$f":"التجميع!L157","v":""},{"$f":"((IF(ISERROR(VLOOKUP(F71,التعداد!$C$10:$L$45,10,0)),\"\",VLOOKUP(F71,التعداد!$C$10:$L$45,10,0))))","v":""}]
[null,null,null,null,null,{"$f":"التجميع!M157","v":""},{"$f":"((IF(ISERROR(VLOOKUP(F72,التعداد!$C$10:$L$45,10,0)),\"\",VLOOKUP(F72,التعداد!$C$10:$L$45,10,0))))","v":""}]
[null,null,null,null,null,{"$f":"التجميع!N157","v":""},{"$f":"((IF(ISERROR(VLOOKUP(F73,التعداد!$C$10:$L$45,10,0)),\"\",VLOOKUP(F73,التعداد!$C$10:$L$45,10,0))))","v":""}]
[null,null,null,null,null,{"$f":"التجميع!O157","v":""},{"$f":"((IF(ISERROR(VLOOKUP(F74,التعداد!$C$10:$L$45,10,0)),\"\",VLOOKUP(F74,التعداد!$C$10:$L$45,10,0))))","v":""}]
[null,null,null,null,null,{"$f":"التجميع!P157","v":""},{"$f":"((IF(ISERROR(VLOOKUP(F75,التعداد!$C$10:$L$45,10,0)),\"\",VLOOKUP(F75,التعداد!$C$10:$L$45,10,0))))","v":""}]
[null,null,null,null,null,{"$f":"التجميع!Q157","v":""},{"$f":"((IF(ISERROR(VLOOKUP(F76,التعداد!$C$10:$L$45,10,0)),\"\",VLOOKUP(F76,التعداد!$C$10:$L$45,10,0))))","v":""}]
[null,{"$f":"التجميع!D157","v":""},null,null,null,{"$f":"التجميع!R157","v":""},{"$f":"((IF(ISERROR(VLOOKUP(F77,التعداد!$C$10:$L$45,10,0)),\"\",VLOOKUP(F77,التعداد!$C$10:$L$45,10,0))))","v":""}]
[null,null,null,null,null,{"$f":"التجميع!S157","v":""},{"$f":"((IF(ISERROR(VLOOKUP(F78,التعداد!$C$10:$L$45,10,0)),\"\",VLOOKUP(F78,التعداد!$C$10:$L$45,10,0))))","v":""}]
[null,null,null,null,null,{"$f":"التجميع!T157","v":""},{"$f":"((IF(ISERROR(VLOOKUP(F79,التعداد!$C$10:$L$45,10,0)),\"\",VLOOKUP(F79,التعداد!$C$10:$L$45,10,0))))","v":""}]
[null,null,null,null,null,{"$f":"التجميع!U157","v":""},{"$f":"((IF(ISERROR(VLOOKUP(F80,التعداد!$C$10:$L$45,10,0)),\"\",VLOOKUP(F80,التعداد!$C$10:$L$45,10,0))))","v":""}]
[null,null,null,null,null,{"$f":"التجميع!V157","v":""},{"$f":"((IF(ISERROR(VLOOKUP(F81,التعداد!$C$10:$L$45,10,0)),\"\",VLOOKUP(F81,التعداد!$C$10:$L$45,10,0))))","v":""}]
[null,null,null,null,null,{"$f":"التجميع!W157","v":""},{"$f":"((IF(ISERROR(VLOOKUP(F82,التعداد!$C$10:$L$45,10,0)),\"\",VLOOKUP(F82,التعداد!$C$10:$L$45,10,0))))","v":""}]
[null,null,null,null,null,{"$f":"التجميع!X157","v":""},{"$f":"((IF(ISERROR(VLOOKUP(F83,التعداد!$C$10:$L$45,10,0)),\"\",VLOOKUP(F83,التعداد!$C$10:$L$45,10,0))))","v":""}]
[null,null,null,null,null,{"$f":"التجميع!Y157","v":""},{"$f":"((IF(ISERROR(VLOOKUP(F84,التعداد!$C$10:$L$45,10,0)),\"\",VLOOKUP(F84,التعداد!$C$10:$L$45,10,0))))","v":""}]
["المجموع",null,null,null,null,null,{"$f":"SUM(G49:G84)","v":0},{"$f":"SUM(H49:H84)","v":0},{"$f":"SUM(I49:I84)","v":0},{"$f":"SUM(J49:J84)","v":0},null,{"$f":"SUM(L49:L84)","v":0},0,0,0,0,0,0,0]
[]
[]
[]
[]
[]
[]
["المجموع العام",null,null,null,null,null,{"$f":"G42+G85","v":0},{"$f":"H42+H85","v":0},{"$f":"I42+I85","v":0},{"$f":"J42+J85","v":0},null,{"$f":"L42+L85","v":0},0,0,0,0,0,0,0]

{"sheet":"خدمات موسيقى","index":26,"n_rows":93,"n_cols":20,"rows_kept":93,"cut":false,"hidden":false,"merged":[[67,17,84,17],[67,9,84,9],[67,11,84,11],[67,18,84,18],[67,19,84,19],[67,12,84,12],[67,13,84,13],[67,14,84,14],[67,15,84,15],[67,16,84,16],[51,1,55,1],[59,1,63,1],[67,2,84,2],[67,3,84,3],[67,4,84,4],[67,8,84,8],[49,4,66,4],[49,8,66,8],[49,3,66,3],[77,1,81,1],[49,19,66,19],[49,9,66,9],[49,11,66,11],[49,12,66,12],[49,13,66,13],[49,14,66,14],[49,15,66,15],[49,16,66,16],[49,17,66,17],[49,18,66,18],[5,9,23,9],[5,19,23,19],[24,2,41,2],[24,3,41,3],[24,4,41,4],[24,8,41,8],[24,14,41,14],[24,17,41,17],[24,13,41,13],[24,18,41,18],[24,19,41,19],[24,15,41,15],[24,16,41,16],[24,9,41,9],[24,11,41,11],[24,12,41,12],[85,0,85,5],[5,0,23,0],[24,0,41,0],[49,0,66,0],[67,0,84,0],[47,5,48,5],[5,1,14,1],[15,1,23,1],[49,2,66,2],[42,0,42,5],[5,2,23,2],[5,3,23,3],[5,4,23,4],[26,1,30,1],[34,1,38,1],[69,1,73,1],[46,5,46,8],[46,11,46,14],[46,17,46,18],[46,19,48,19],[3,13,4,13],[5,12,23,12],[5,16,23,16],[5,17,23,17],[5,18,23,18],[47,13,48,13],[44,11,44,12],[5,11,23,11],[5,13,23,13],[5,14,23,14],[5,15,23,15],[5,8,23,8],[0,0,0,2],[92,0,92,5],[0,11,0,12],[0,14,0,19],[2,0,4,0],[2,1,3,1],[2,3,4,3],[2,5,2,8],[2,11,2,14],[2,17,2,18],[2,19,4,19],[3,5,4,5],[44,14,44,19],[46,0,48,0],[46,1,47,1],[46,3,48,3]]}
["السنة الدراسية 2023/2022",null,null,null,null,null,null,null,null,null,null,"المادة",null,null,"تربية فنية "]
[]
["المناصب","اللقب والاســم   ","أقصى","الصفة","تـــــــاريـــخ","الخدمة المؤداة أسبوعيا",null,null,null,"أقصى",null,"تعديل الخدمة الواجبة  ( تخفيض )",null,null,null,"خدمة","أقصــــى","الفروق",null,"ملاحظات"]
[null,null,"درجــة",null,"التعييــن","الأقسام","عدد ","عدد  ","مجموع  ","خدمة",null,"عدد التلاميذ   ","صيانة  ","نشاط\nثقافي","مجموع  ","صافية","خدمـة","ساعات","ساعات  "]
[null,"تاريخ  الميلاد","جامعية",null,"بالمؤسسة",null,"التلاميذ","الحصص","التوقيت","واجبة",null,"فوق 35","العتاد",null,"التخفيضات",null,"صافية","فائضة","إضافية"]
[1,{"$f":"التجميع!B124","v":"جليد الميلود"},{"$f":"التجميع!F124","v":"ليسانس"},{"$f":"التجميع!E124","v":"مرسمة"},{"$f":"التجميع!G124","v":"1985-06-16"},{"$f":"التجميع!H124","v":"4م1"},{"$f":"((IF(ISERROR(VLOOKUP(F6,التعداد!$C$10:$L$45,10,0)),\"\",VLOOKUP(F6,التعداد!$C$10:$L$45,10,0))))","v":26},1,{"$f":"SUM(H6:H24)","v":13},{"$f":"IF(B6=\"\",\"\",22)","v":22},null,null,2,4,{"$f":"SUM(L6:N24)","v":6},{"$f":"((IF(ISERROR(J6-O6),,(J6-O6))))","v":16},{"$f":"P6+L6","v":16},{"$f":"IF($I6-$Q6>=0,\"\",$Q6-$I6)","v":3},{"$f":"IF($I6-$Q6>0,$I6-$Q6,\"\")","v":""}]
[null,null,null,null,null,{"$f":"التجميع!I124","v":"4م2"},{"$f":"((IF(ISERROR(VLOOKUP(F7,التعداد!$C$10:$L$45,10,0)),\"\",VLOOKUP(F7,التعداد!$C$10:$L$45,10,0))))","v":28},1]
[null,null,null,null,null,{"$f":"التجميع!J124","v":"3م1"},{"$f":"((IF(ISERROR(VLOOKUP(F8,التعداد!$C$10:$L$45,10,0)),\"\",VLOOKUP(F8,التعداد!$C$10:$L$45,10,0))))","v":31},1]
[null,null,null,null,null,{"$f":"التجميع!K124","v":"3م2"},{"$f":"((IF(ISERROR(VLOOKUP(F9,التعداد!$C$10:$L$45,10,0)),\"\",VLOOKUP(F9,التعداد!$C$10:$L$45,10,0))))","v":32},2]
[null,null,null,null,null,{"$f":"التجميع!L124","v":"2م1"},{"$f":"((IF(ISERROR(VLOOKUP(F10,التعداد!$C$10:$L$45,10,0)),\"\",VLOOKUP(F10,التعداد!$C$10:$L$45,10,0))))","v":28},2]
[null,null,null,null,null,{"$f":"التجميع!M124","v":"2م2"},{"$f":"((IF(ISERROR(VLOOKUP(F11,التعداد!$C$10:$L$45,10,0)),\"\",VLOOKUP(F11,التعداد!$C$10:$L$45,10,0))))","v":27},1]
[null,null,null,null,null,{"$f":"التجميع!N124","v":"2م3"},{"$f":"((IF(ISERROR(VLOOKUP(F12,التعداد!$C$10:$L$45,10,0)),\"\",VLOOKUP(F12,التعداد!$C$10:$L$45,10,0))))","v":26},1]
[null,null,null,null,null,{"$f":"التجميع!O124","v":"1م1"},{"$f":"((IF(ISERROR(VLOOKUP(F13,التعداد!$C$10:$L$45,10,0)),\"\",VLOOKUP(F13,التعداد!$C$10:$L$45,10,0))))","v":31},2]
[null,null,null,null,null,{"$f":"التجميع!P124","v":"1م2"},{"$f":"((IF(ISERROR(VLOOKUP(F14,التعداد!$C$10:$L$45,10,0)),\"\",VLOOKUP(F14,التعداد!$C$10:$L$45,10,0))))","v":31},2]
[null,null,null,null,null,{"$f":"التجميع!Q124","v":"1م3"},{"$f":"((IF(ISERROR(VLOOKUP(F15,التعداد!$C$10:$L$45,10,0)),\"\",VLOOKUP(F15,التعداد!$C$10:$L$45,10,0))))","v":32}]
[null,{"$f":"التجميع!D124","v":"1975-04-27"},null,null,null,{"$f":"التجميع!R124","v":0},{"$f":"((IF(ISERROR(VLOOKUP(F16,التعداد!$C$10:$L$45,10,0)),\"\",VLOOKUP(F16,التعداد!$C$10:$L$45,10,0))))","v":""}]
[null,null,null,null,null,{"$f":"التجميع!S124","v":0},{"$f":"((IF(ISERROR(VLOOKUP(F17,التعداد!$C$10:$L$45,10,0)),\"\",VLOOKUP(F17,التعداد!$C$10:$L$45,10,0))))","v":""}]
[null,null,null,null,null,{"$f":"التجميع!T124","v":0},{"$f":"((IF(ISERROR(VLOOKUP(F18,التعداد!$C$10:$L$45,10,0)),\"\",VLOOKUP(F18,التعداد!$C$10:$L$45,10,0))))","v":""}]
[null,null,null,null,null,{"$f":"التجميع!U124","v":0},{"$f":"((IF(ISERROR(VLOOKUP(F19,التعداد!$C$10:$L$45,10,0)),\"\",VLOOKUP(F19,التعداد!$C$10:$L$45,10,0))))","v":""}]
[null,null,null,null,null,{"$f":"التجميع!V124","v":0},{"$f":"((IF(ISERROR(VLOOKUP(F20,التعداد!$C$10:$L$45,10,0)),\"\",VLOOKUP(F20,التعداد!$C$10:$L$45,10,0))))","v":""}]
[null,null,null,null,null,{"$f":"التجميع!W124","v":0},{"$f":"((IF(ISERROR(VLOOKUP(F21,التعداد!$C$10:$L$45,10,0)),\"\",VLOOKUP(F21,التعداد!$C$10:$L$45,10,0))))","v":""}]
[null,null,null,null,null,{"$f":"التجميع!X124","v":0},{"$f":"((IF(ISERROR(VLOOKUP(F22,التعداد!$C$10:$L$45,10,0)),\"\",VLOOKUP(F22,التعداد!$C$10:$L$45,10,0))))","v":""}]
[null,null,null,null,null,{"$f":"التجميع!Y124","v":0},{"$f":"((IF(ISERROR(VLOOKUP(F23,التعداد!$C$10:$L$45,10,0)),\"\",VLOOKUP(F23,التعداد!$C$10:$L$45,10,0))))","v":""}]
[null,null,null,null,null,{"$f":"التجميع!Z124","v":0},{"$f":"((IF(ISERROR(VLOOKUP(F24,التعداد!$C$10:$L$45,10,0)),\"\",VLOOKUP(F24,التعداد!$C$10:$L$45,10,0))))","v":""}]
[2,null,{"$f":"التجميع!F140","v":""},{"$f":"التجميع!E140","v":""},{"$f":"التجميع!G140","v":""},{"$f":"التجميع!H140","v":""},{"$f":"((IF(ISERROR(VLOOKUP(F25,التعداد!$C$10:$L$45,10,0)),\"\",VLOOKUP(F25,التعداد!$C$10:$L$45,10,0))))","v":""},null,{"$f":"SUM(H25:H42)","v":0},{"$f":"IF(B27=\"\",\"\",22)","v":""},null,null,null,{"$f":"IF(B27=\"\",\"\",1)","v":""},{"$f":"SUM(L25:N42)","v":0},{"$f":"((IF(ISERROR(J25-O25),,(J25-O25))))","v":0},{"$f":"P25+L25","v":0},{"$f":"IF($I25-$Q25>=0,\"\",$Q25-$I25)","v":""},{"$f":"IF($I25-$Q25>0,$I25-$Q25,\"\")","v":""}]
[null,null,null,null,null,{"$f":"التجميع!I140","v":""},{"$f":"((IF(ISERROR(VLOOKUP(F26,التعداد!$C$10:$L$45,10,0)),\"\",VLOOKUP(F26,التعداد!$C$10:$L$45,10,0))))","v":""}]
[null,{"$f":"التجميع!B140","v":""},null,null,null,{"$f":"التجميع!J140","v":""},{"$f":"((IF(ISERROR(VLOOKUP(F27,التعداد!$C$10:$L$45,10,0)),\"\",VLOOKUP(F27,التعداد!$C$10:$L$45,10,0))))","v":""}]
[null,null,null,null,null,{"$f":"التجميع!K140","v":""},{"$f":"((IF(ISERROR(VLOOKUP(F28,التعداد!$C$10:$L$45,10,0)),\"\",VLOOKUP(F28,التعداد!$C$10:$L$45,10,0))))","v":""}]
[null,null,null,null,null,{"$f":"التجميع!L140","v":""},{"$f":"((IF(ISERROR(VLOOKUP(F29,التعداد!$C$10:$L$45,10,0)),\"\",VLOOKUP(F29,التعداد!$C$10:$L$45,10,0))))","v":""}]
[null,null,null,null,null,{"$f":"التجميع!M140","v":""},{"$f":"((IF(ISERROR(VLOOKUP(F30,التعداد!$C$10:$L$45,10,0)),\"\",VLOOKUP(F30,التعداد!$C$10:$L$45,10,0))))","v":""}]
[null,null,null,null,null,{"$f":"التجميع!N140","v":""},{"$f":"((IF(ISERROR(VLOOKUP(F31,التعداد!$C$10:$L$45,10,0)),\"\",VLOOKUP(F31,التعداد!$C$10:$L$45,10,0))))","v":""}]
[null,null,null,null,null,{"$f":"التجميع!O140","v":""},{"$f":"((IF(ISERROR(VLOOKUP(F32,التعداد!$C$10:$L$45,10,0)),\"\",VLOOKUP(F32,التعداد!$C$10:$L$45,10,0))))","v":""}]
[null,null,null,null,null,{"$f":"التجميع!P140","v":""},{"$f":"((IF(ISERROR(VLOOKUP(F33,التعداد!$C$10:$L$45,10,0)),\"\",VLOOKUP(F33,التعداد!$C$10:$L$45,10,0))))","v":""}]
[null,null,null,null,null,{"$f":"التجميع!Q140","v":""},{"$f":"((IF(ISERROR(VLOOKUP(F34,التعداد!$C$10:$L$45,10,0)),\"\",VLOOKUP(F34,التعداد!$C$10:$L$45,10,0))))","v":""}]
[null,{"$f":"التجميع!D140","v":""},null,null,null,{"$f":"التجميع!R140","v":""},{"$f":"((IF(ISERROR(VLOOKUP(F35,التعداد!$C$10:$L$45,10,0)),\"\",VLOOKUP(F35,التعداد!$C$10:$L$45,10,0))))","v":""}]
[null,null,null,null,null,{"$f":"التجميع!S140","v":""},{"$f":"((IF(ISERROR(VLOOKUP(F36,التعداد!$C$10:$L$45,10,0)),\"\",VLOOKUP(F36,التعداد!$C$10:$L$45,10,0))))","v":""}]
[null,null,null,null,null,{"$f":"التجميع!T140","v":""},{"$f":"((IF(ISERROR(VLOOKUP(F37,التعداد!$C$10:$L$45,10,0)),\"\",VLOOKUP(F37,التعداد!$C$10:$L$45,10,0))))","v":""}]
[null,null,null,null,null,{"$f":"التجميع!U140","v":""},{"$f":"((IF(ISERROR(VLOOKUP(F38,التعداد!$C$10:$L$45,10,0)),\"\",VLOOKUP(F38,التعداد!$C$10:$L$45,10,0))))","v":""}]
[null,null,null,null,null,{"$f":"التجميع!V140","v":""},{"$f":"((IF(ISERROR(VLOOKUP(F39,التعداد!$C$10:$L$45,10,0)),\"\",VLOOKUP(F39,التعداد!$C$10:$L$45,10,0))))","v":""}]
[null,null,null,null,null,{"$f":"التجميع!W140","v":""},{"$f":"((IF(ISERROR(VLOOKUP(F40,التعداد!$C$10:$L$45,10,0)),\"\",VLOOKUP(F40,التعداد!$C$10:$L$45,10,0))))","v":""}]
[null,null,null,null,null,{"$f":"التجميع!X140","v":""},{"$f":"((IF(ISERROR(VLOOKUP(F41,التعداد!$C$10:$L$45,10,0)),\"\",VLOOKUP(F41,التعداد!$C$10:$L$45,10,0))))","v":""}]
[null,null,null,null,null,{"$f":"التجميع!Y140","v":""},{"$f":"((IF(ISERROR(VLOOKUP(F42,التعداد!$C$10:$L$45,10,0)),\"\",VLOOKUP(F42,التعداد!$C$10:$L$45,10,0))))","v":""}]
["المجموع",null,null,null,null,null,{"$f":"SUM(G6:G42)","v":292},{"$f":"SUM(H6:H42)","v":13},{"$f":"SUM(I6:I42)","v":13},{"$f":"SUM(J6:J42)","v":22},null,{"$f":"SUM(L6:L42)","v":0},2,4,6,16,16,3,0]
[]
[null,null,null,null,null,null,null,null,null,null,null,"المادة",null,null,"تربية موسيقية"]
[]
["المناصب","اللقب والاســم   ","أقصى","الصفة","تـــــــاريـــخ","الخدمة المؤداة أسبوعيا",null,null,null,"أقصى",null,"تعديل الخدمة الواجبة  ( تخفيض )",null,null,null,"خدمة","أقصــــى","الفروق",null,"ملاحظات"]
[null,null,"درجــة",null,"التعييــن","الأقسام","عدد ","عدد  ","مجموع  ","خدمة",null,"عدد التلاميذ   ","صيانة  ","التنسيق","مجموع  ","صافية","خدمـة","ساعات","ساعات  "]
[null,"تاريخ  الميلاد","جامعية",null,"بالمؤسسة",null,"التلاميذ","الحصص","التوقيت","واجبة",null,"فوق 35","العتاد",null,"التخفيضات",null,"صافية","فائضة","إضافية"]
[3,null,{"$f":"التجميع!F141","v":""},{"$f":"التجميع!E141","v":""},{"$f":"التجميع!G141","v":""},{"$f":"التجميع!H141","v":""},{"$f":"((IF(ISERROR(VLOOKUP(F50,التعداد!$C$10:$L$45,10,0)),\"\",VLOOKUP(F50,التعداد!$C$10:$L$45,10,0))))","v":""},null,{"$f":"SUM(H50:H67)","v":0},{"$f":"IF(B52=\"\",\"\",22)","v":""},null,null,null,{"$f":"IF(B52=\"\",\"\",1)","v":""},{"$f":"SUM(L50:N67)","v":0},{"$f":"((IF(ISERROR(J50-O50),,(J50-O50))))","v":0},{"$f":"P50+L50","v":0},{"$f":"IF($I50-$Q50>=0,\"\",$Q50-$I50)","v":""},{"$f":"IF($I50-$Q50>0,$I50-$Q50,\"\")","v":""}]
[null,null,null,null,null,{"$f":"التجميع!I141","v":""},{"$f":"((IF(ISERROR(VLOOKUP(F51,التعداد!$C$10:$L$45,10,0)),\"\",VLOOKUP(F51,التعداد!$C$10:$L$45,10,0))))","v":""}]
[null,{"$f":"التجميع!B141","v":""},null,null,null,{"$f":"التجميع!J141","v":""},{"$f":"((IF(ISERROR(VLOOKUP(F52,التعداد!$C$10:$L$45,10,0)),\"\",VLOOKUP(F52,التعداد!$C$10:$L$45,10,0))))","v":""}]
[null,null,null,null,null,{"$f":"التجميع!K141","v":""},{"$f":"((IF(ISERROR(VLOOKUP(F53,التعداد!$C$10:$L$45,10,0)),\"\",VLOOKUP(F53,التعداد!$C$10:$L$45,10,0))))","v":""}]
[null,null,null,null,null,{"$f":"التجميع!L141","v":""},{"$f":"((IF(ISERROR(VLOOKUP(F54,التعداد!$C$10:$L$45,10,0)),\"\",VLOOKUP(F54,التعداد!$C$10:$L$45,10,0))))","v":""}]
[null,null,null,null,null,{"$f":"التجميع!M141","v":""},{"$f":"((IF(ISERROR(VLOOKUP(F55,التعداد!$C$10:$L$45,10,0)),\"\",VLOOKUP(F55,التعداد!$C$10:$L$45,10,0))))","v":""}]
[null,null,null,null,null,{"$f":"التجميع!N141","v":""},{"$f":"((IF(ISERROR(VLOOKUP(F56,التعداد!$C$10:$L$45,10,0)),\"\",VLOOKUP(F56,التعداد!$C$10:$L$45,10,0))))","v":""}]
[null,null,null,null,null,{"$f":"التجميع!O141","v":""},{"$f":"((IF(ISERROR(VLOOKUP(F57,التعداد!$C$10:$L$45,10,0)),\"\",VLOOKUP(F57,التعداد!$C$10:$L$45,10,0))))","v":""}]
[null,null,null,null,null,{"$f":"التجميع!P141","v":""},{"$f":"((IF(ISERROR(VLOOKUP(F58,التعداد!$C$10:$L$45,10,0)),\"\",VLOOKUP(F58,التعداد!$C$10:$L$45,10,0))))","v":""}]
[null,null,null,null,null,{"$f":"التجميع!Q141","v":""},{"$f":"((IF(ISERROR(VLOOKUP(F59,التعداد!$C$10:$L$45,10,0)),\"\",VLOOKUP(F59,التعداد!$C$10:$L$45,10,0))))","v":""}]
[null,{"$f":"التجميع!D141","v":""},null,null,null,{"$f":"التجميع!R141","v":""},{"$f":"((IF(ISERROR(VLOOKUP(F60,التعداد!$C$10:$L$45,10,0)),\"\",VLOOKUP(F60,التعداد!$C$10:$L$45,10,0))))","v":""}]
[null,null,null,null,null,{"$f":"التجميع!S141","v":""},{"$f":"((IF(ISERROR(VLOOKUP(F61,التعداد!$C$10:$L$45,10,0)),\"\",VLOOKUP(F61,التعداد!$C$10:$L$45,10,0))))","v":""}]
[null,null,null,null,null,{"$f":"التجميع!T141","v":""},{"$f":"((IF(ISERROR(VLOOKUP(F62,التعداد!$C$10:$L$45,10,0)),\"\",VLOOKUP(F62,التعداد!$C$10:$L$45,10,0))))","v":""}]
[null,null,null,null,null,{"$f":"التجميع!U141","v":""},{"$f":"((IF(ISERROR(VLOOKUP(F63,التعداد!$C$10:$L$45,10,0)),\"\",VLOOKUP(F63,التعداد!$C$10:$L$45,10,0))))","v":""}]
[null,null,null,null,null,{"$f":"التجميع!V141","v":""},{"$f":"((IF(ISERROR(VLOOKUP(F64,التعداد!$C$10:$L$45,10,0)),\"\",VLOOKUP(F64,التعداد!$C$10:$L$45,10,0))))","v":""}]
[null,null,null,null,null,{"$f":"التجميع!W141","v":""},{"$f":"((IF(ISERROR(VLOOKUP(F65,التعداد!$C$10:$L$45,10,0)),\"\",VLOOKUP(F65,التعداد!$C$10:$L$45,10,0))))","v":""}]
[null,null,null,null,null,{"$f":"التجميع!X141","v":""},{"$f":"((IF(ISERROR(VLOOKUP(F66,التعداد!$C$10:$L$45,10,0)),\"\",VLOOKUP(F66,التعداد!$C$10:$L$45,10,0))))","v":""}]
[null,null,null,null,null,{"$f":"التجميع!Y141","v":""},{"$f":"((IF(ISERROR(VLOOKUP(F67,التعداد!$C$10:$L$45,10,0)),\"\",VLOOKUP(F67,التعداد!$C$10:$L$45,10,0))))","v":""}]
[4,null,{"$f":"التجميع!F142","v":""},{"$f":"التجميع!E142","v":""},{"$f":"التجميع!G142","v":""},{"$f":"التجميع!H142","v":""},{"$f":"((IF(ISERROR(VLOOKUP(F68,التعداد!$C$10:$L$45,10,0)),\"\",VLOOKUP(F68,التعداد!$C$10:$L$45,10,0))))","v":""},null,{"$f":"SUM(H68:H85)","v":0},{"$f":"IF(B70=\"\",\"\",22)","v":""},null,null,null,{"$f":"IF(B70=\"\",\"\",1)","v":""},{"$f":"SUM(L68:N85)","v":0},{"$f":"((IF(ISERROR(J68-O68),,(J68-O68))))","v":0},{"$f":"P68+L68","v":0},{"$f":"IF($I68-$Q68>=0,\"\",$Q68-$I68)","v":""},{"$f":"IF($I68-$Q68>0,$I68-$Q68,\"\")","v":""}]
[null,null,null,null,null,{"$f":"التجميع!I142","v":""},{"$f":"((IF(ISERROR(VLOOKUP(F69,التعداد!$C$10:$L$45,10,0)),\"\",VLOOKUP(F69,التعداد!$C$10:$L$45,10,0))))","v":""}]
[null,{"$f":"التجميع!B142","v":""},null,null,null,{"$f":"التجميع!J142","v":""},{"$f":"((IF(ISERROR(VLOOKUP(F70,التعداد!$C$10:$L$45,10,0)),\"\",VLOOKUP(F70,التعداد!$C$10:$L$45,10,0))))","v":""}]
[null,null,null,null,null,{"$f":"التجميع!K142","v":""},{"$f":"((IF(ISERROR(VLOOKUP(F71,التعداد!$C$10:$L$45,10,0)),\"\",VLOOKUP(F71,التعداد!$C$10:$L$45,10,0))))","v":""}]
[null,null,null,null,null,{"$f":"التجميع!L142","v":""},{"$f":"((IF(ISERROR(VLOOKUP(F72,التعداد!$C$10:$L$45,10,0)),\"\",VLOOKUP(F72,التعداد!$C$10:$L$45,10,0))))","v":""}]
[null,null,null,null,null,{"$f":"التجميع!M142","v":""},{"$f":"((IF(ISERROR(VLOOKUP(F73,التعداد!$C$10:$L$45,10,0)),\"\",VLOOKUP(F73,التعداد!$C$10:$L$45,10,0))))","v":""}]
[null,null,null,null,null,{"$f":"التجميع!N142","v":""},{"$f":"((IF(ISERROR(VLOOKUP(F74,التعداد!$C$10:$L$45,10,0)),\"\",VLOOKUP(F74,التعداد!$C$10:$L$45,10,0))))","v":""}]
[null,null,null,null,null,{"$f":"التجميع!O142","v":""},{"$f":"((IF(ISERROR(VLOOKUP(F75,التعداد!$C$10:$L$45,10,0)),\"\",VLOOKUP(F75,التعداد!$C$10:$L$45,10,0))))","v":""}]
[null,null,null,null,null,{"$f":"التجميع!P142","v":""},{"$f":"((IF(ISERROR(VLOOKUP(F76,التعداد!$C$10:$L$45,10,0)),\"\",VLOOKUP(F76,التعداد!$C$10:$L$45,10,0))))","v":""}]
[null,null,null,null,null,{"$f":"التجميع!Q142","v":""},{"$f":"((IF(ISERROR(VLOOKUP(F77,التعداد!$C$10:$L$45,10,0)),\"\",VLOOKUP(F77,التعداد!$C$10:$L$45,10,0))))","v":""}]
[null,{"$f":"التجميع!D142","v":""},null,null,null,{"$f":"التجميع!R142","v":""},{"$f":"((IF(ISERROR(VLOOKUP(F78,التعداد!$C$10:$L$45,10,0)),\"\",VLOOKUP(F78,التعداد!$C$10:$L$45,10,0))))","v":""}]
[null,null,null,null,null,{"$f":"التجميع!S142","v":""},{"$f":"((IF(ISERROR(VLOOKUP(F79,التعداد!$C$10:$L$45,10,0)),\"\",VLOOKUP(F79,التعداد!$C$10:$L$45,10,0))))","v":""}]
[null,null,null,null,null,{"$f":"التجميع!T142","v":""},{"$f":"((IF(ISERROR(VLOOKUP(F80,التعداد!$C$10:$L$45,10,0)),\"\",VLOOKUP(F80,التعداد!$C$10:$L$45,10,0))))","v":""}]
[null,null,null,null,null,{"$f":"التجميع!U142","v":""},{"$f":"((IF(ISERROR(VLOOKUP(F81,التعداد!$C$10:$L$45,10,0)),\"\",VLOOKUP(F81,التعداد!$C$10:$L$45,10,0))))","v":""}]
[null,null,null,null,null,{"$f":"التجميع!V142","v":""},{"$f":"((IF(ISERROR(VLOOKUP(F82,التعداد!$C$10:$L$45,10,0)),\"\",VLOOKUP(F82,التعداد!$C$10:$L$45,10,0))))","v":""}]
[null,null,null,null,null,{"$f":"التجميع!W142","v":""},{"$f":"((IF(ISERROR(VLOOKUP(F83,التعداد!$C$10:$L$45,10,0)),\"\",VLOOKUP(F83,التعداد!$C$10:$L$45,10,0))))","v":""}]
[null,null,null,null,null,{"$f":"التجميع!X142","v":""},{"$f":"((IF(ISERROR(VLOOKUP(F84,التعداد!$C$10:$L$45,10,0)),\"\",VLOOKUP(F84,التعداد!$C$10:$L$45,10,0))))","v":""}]
[null,null,null,null,null,{"$f":"التجميع!Y142","v":""},{"$f":"((IF(ISERROR(VLOOKUP(F85,التعداد!$C$10:$L$45,10,0)),\"\",VLOOKUP(F85,التعداد!$C$10:$L$45,10,0))))","v":""}]
["المجموع",null,null,null,null,null,{"$f":"SUM(G50:G85)","v":0},{"$f":"SUM(H50:H85)","v":0},{"$f":"SUM(I50:I85)","v":0},{"$f":"SUM(J50:J85)","v":0},null,{"$f":"SUM(L50:L85)","v":0},0,0,0,0,0,0,0]
[]
[]
[]
[]
[]
[]
["المجموع العام",null,null,null,null,null,{"$f":"G43+G86","v":292},{"$f":"H43+H86","v":13},{"$f":"I43+I86","v":13},{"$f":"J43+J86","v":22},null,{"$f":"L43+L86","v":0},2,4,6,16,16,3,0]

{"sheet":"خدمات رسم","index":27,"n_rows":72,"n_cols":20,"rows_kept":72,"cut":false,"hidden":false,"merged":[[56,1,60,1],[30,1,34,1],[38,1,42,1],[5,17,14,17],[5,18,14,18],[46,18,63,18],[46,12,63,12],[46,13,63,13],[46,14,63,14],[46,15,63,15],[46,16,63,16],[28,17,45,17],[28,18,45,18],[28,19,45,19],[46,17,63,17],[46,2,63,2],[46,3,63,3],[46,4,63,4],[46,8,63,8],[46,9,63,9],[28,11,45,11],[46,11,63,11],[46,19,63,19],[28,16,45,16],[5,13,14,13],[5,14,14,14],[5,15,14,15],[5,16,14,16],[28,12,45,12],[28,13,45,13],[5,9,14,9],[28,14,45,14],[28,15,45,15],[15,0,20,0],[28,0,45,0],[46,0,63,0],[26,5,27,5],[5,11,14,11],[28,2,45,2],[28,3,45,3],[28,4,45,4],[28,8,45,8],[28,9,45,9],[5,1,11,1],[5,2,14,2],[5,3,14,3],[5,4,14,4],[5,8,14,8],[48,1,52,1],[0,0,0,2],[71,0,71,5],[0,11,0,12],[0,14,0,19],[2,0,4,0],[2,1,3,1],[2,3,4,3],[26,13,27,13],[21,0,21,5],[23,11,23,12],[25,0,27,0],[25,1,26,1],[25,3,27,3],[25,5,25,8],[64,0,64,5],[5,0,14,0],[25,19,27,19],[2,19,4,19],[3,5,4,5],[23,14,23,19],[5,12,14,12],[3,13,4,13],[5,19,14,19],[2,5,2,8],[2,11,2,14],[2,17,2,18],[25,11,25,14],[25,17,25,18]]}
["السنة الدراسية 2023/2022",null,null,null,null,null,null,null,null,null,null,"المادة",null,null,"تربية فنية"]
[]
["المناصب","اللقب والاســم   ","أقصى","الصفة","تـــــــاريـــخ","الخدمة المؤداة أسبوعيا",null,null,null,"أقصى",null,"تعديل الخدمة الواجبة  ( تخفيض )",null,null,null,"خدمة","أقصــــى","الفروق",null,"ملاحظات"]
[null,null,"درجــة",null,"التعييــن","الأقسام","عدد ","عدد  ","مجموع  ","خدمة",null,"عدد التلاميذ   ","صيانة  ","التنسيق","مجموع  ","صافية","خدمـة","ساعات","ساعات  "]
[null,"تاريخ  الميلاد","جامعية",null,"بالمؤسسة",null,"التلاميذ","الحصص","التوقيت","واجبة",null,"فوق 35","العتاد",null,"التخفيضات",null,"صافية","فائضة","إضافية"]
["1/1",{"$f":"التجميع!B124","v":"جليد الميلود"},{"$f":"التجميع!F124","v":"ليسانس"},{"$f":"التجميع!E124","v":"مرسمة"},{"$f":"التجميع!G124","v":"1985-06-16"},{"$f":"التجميع!H124","v":"4م1"},{"$f":"((IF(ISERROR(VLOOKUP(F6,التعداد!$C$10:$L$45,10,0)),\"\",VLOOKUP(F6,التعداد!$C$10:$L$45,10,0))))","v":26},1,{"$f":"SUM(H6:H15)","v":10},{"$f":"IF(B6=\"\",\"\",22)","v":22},null,null,2,4,{"$f":"SUM(L6:N15)","v":6},{"$f":"((IF(ISERROR(J6-O6),,(J6-O6))))","v":16},{"$f":"P6+L6","v":16},{"$f":"IF($I6-$Q6>=0,\"\",$Q6-$I6)","v":6},{"$f":"IF($I6-$Q6>0,$I6-$Q6,\"\")","v":""}]
[null,null,null,null,null,{"$f":"التجميع!I124","v":"4م2"},{"$f":"((IF(ISERROR(VLOOKUP(F7,التعداد!$C$10:$L$45,10,0)),\"\",VLOOKUP(F7,التعداد!$C$10:$L$45,10,0))))","v":28},1]
[null,null,null,null,null,{"$f":"التجميع!J124","v":"3م1"},{"$f":"((IF(ISERROR(VLOOKUP(F8,التعداد!$C$10:$L$45,10,0)),\"\",VLOOKUP(F8,التعداد!$C$10:$L$45,10,0))))","v":31},1]
[null,null,null,null,null,{"$f":"التجميع!K124","v":"3م2"},{"$f":"((IF(ISERROR(VLOOKUP(F9,التعداد!$C$10:$L$45,10,0)),\"\",VLOOKUP(F9,التعداد!$C$10:$L$45,10,0))))","v":32},1]
[null,null,null,null,null,{"$f":"التجميع!L124","v":"2م1"},{"$f":"((IF(ISERROR(VLOOKUP(F10,التعداد!$C$10:$L$45,10,0)),\"\",VLOOKUP(F10,التعداد!$C$10:$L$45,10,0))))","v":28},1]
[null,null,null,null,null,{"$f":"التجميع!M124","v":"2م2"},{"$f":"((IF(ISERROR(VLOOKUP(F11,التعداد!$C$10:$L$45,10,0)),\"\",VLOOKUP(F11,التعداد!$C$10:$L$45,10,0))))","v":27},1]
[null,null,null,null,null,{"$f":"التجميع!N124","v":"2م3"},{"$f":"((IF(ISERROR(VLOOKUP(F12,التعداد!$C$10:$L$45,10,0)),\"\",VLOOKUP(F12,التعداد!$C$10:$L$45,10,0))))","v":26},1]
[null,{"$f":"التجميع!D124","v":"1975-04-27"},null,null,null,{"$f":"التجميع!O124","v":"1م1"},{"$f":"((IF(ISERROR(VLOOKUP(F13,التعداد!$C$10:$L$45,10,0)),\"\",VLOOKUP(F13,التعداد!$C$10:$L$45,10,0))))","v":31},1]
[null,null,null,null,null,{"$f":"التجميع!P124","v":"1م2"},{"$f":"((IF(ISERROR(VLOOKUP(F14,التعداد!$C$10:$L$45,10,0)),\"\",VLOOKUP(F14,التعداد!$C$10:$L$45,10,0))))","v":31},1]
[null,null,null,null,null,{"$f":"التجميع!Q124","v":"1م3"},{"$f":"((IF(ISERROR(VLOOKUP(F15,التعداد!$C$10:$L$45,10,0)),\"\",VLOOKUP(F15,التعداد!$C$10:$L$45,10,0))))","v":32},1]
[null,null,{"$f":"التجميع!F125","v":""},{"$f":"التجميع!E125","v":""},{"$f":"التجميع!G125","v":""},{"$f":"التجميع!H125","v":""},{"$f":"((IF(ISERROR(VLOOKUP(F16,التعداد!$C$10:$L$45,10,0)),\"\",VLOOKUP(F16,التعداد!$C$10:$L$45,10,0))))","v":""},null,{"$f":"SUM(H16:H21)","v":0},{"$f":"IF(B18=\"\",\"\",22)","v":""},null,null,null,{"$f":"IF(B18=\"\",\"\",1)","v":""},{"$f":"SUM(L16:N21)","v":0},{"$f":"((IF(ISERROR(J16-O16),,(J16-O16))))","v":0},{"$f":"P16+L16","v":0},{"$f":"IF($I16-$Q16>=0,\"\",$Q16-$I16)","v":""},{"$f":"IF($I16-$Q16>0,$I16-$Q16,\"\")","v":""}]
[null,null,null,null,null,{"$f":"التجميع!I125","v":""},{"$f":"((IF(ISERROR(VLOOKUP(F17,التعداد!$C$10:$L$45,10,0)),\"\",VLOOKUP(F17,التعداد!$C$10:$L$45,10,0))))","v":""}]
[null,{"$f":"التجميع!B125","v":""},null,null,null,{"$f":"التجميع!J125","v":""},{"$f":"((IF(ISERROR(VLOOKUP(F18,التعداد!$C$10:$L$45,10,0)),\"\",VLOOKUP(F18,التعداد!$C$10:$L$45,10,0))))","v":""}]
[null,null,null,null,null,{"$f":"التجميع!L125","v":""},{"$f":"((IF(ISERROR(VLOOKUP(F19,التعداد!$C$10:$L$45,10,0)),\"\",VLOOKUP(F19,التعداد!$C$10:$L$45,10,0))))","v":""}]
[null,null,null,null,null,{"$f":"التجميع!M125","v":""},{"$f":"((IF(ISERROR(VLOOKUP(F20,التعداد!$C$10:$L$45,10,0)),\"\",VLOOKUP(F20,التعداد!$C$10:$L$45,10,0))))","v":""}]
[null,null,null,null,null,{"$f":"التجميع!N125","v":""},{"$f":"((IF(ISERROR(VLOOKUP(F21,التعداد!$C$10:$L$45,10,0)),\"\",VLOOKUP(F21,التعداد!$C$10:$L$45,10,0))))","v":""}]
["المجموع",null,null,null,null,null,{"$f":"SUM(G6:G21)","v":292},{"$f":"SUM(H6:H21)","v":10},{"$f":"SUM(I6:I21)","v":10},{"$f":"SUM(J6:J21)","v":22},null,{"$f":"SUM(L6:L21)","v":0},2,4,6,16,16,6,0]
[]
[null,null,null,null,null,null,null,null,null,null,null,"المادة",null,null,"تربية فنية"]
[]
["المناصب","اللقب والاســم   ","أقصى","الصفة","تـــــــاريـــخ","الخدمة المؤداة أسبوعيا",null,null,null,"أقصى",null,"تعديل الخدمة الواجبة  ( تخفيض )",null,null,null,"خدمة","أقصــــى","الفروق",null,"ملاحظات"]
[null,null,"درجــة",null,"التعييــن","الأقسام","عدد ","عدد  ","مجموع  ","خدمة",null,"عدد التلاميذ   ","صيانة  ","التنسيق","مجموع  ","صافية","خدمـة","ساعات","ساعات  "]
[null,"تاريخ  الميلاد","جامعية",null,"بالمؤسسة",null,"التلاميذ","الحصص","التوقيت","واجبة",null,"فوق 35","العتاد",null,"التخفيضات",null,"صافية","فائضة","إضافية"]
[3,null,{"$f":"التجميع!F126","v":""},{"$f":"التجميع!E126","v":""},{"$f":"التجميع!G126","v":""},{"$f":"التجميع!H126","v":""},{"$f":"((IF(ISERROR(VLOOKUP(F29,التعداد!$C$10:$L$45,10,0)),\"\",VLOOKUP(F29,التعداد!$C$10:$L$45,10,0))))","v":""},null,{"$f":"SUM(H29:H46)","v":0},{"$f":"IF(B31=\"\",\"\",22)","v":""},null,null,null,{"$f":"IF(B31=\"\",\"\",1)","v":""},{"$f":"SUM(L29:N46)","v":0},{"$f":"((IF(ISERROR(J29-O29),,(J29-O29))))","v":0},{"$f":"P29+L29","v":0},{"$f":"IF($I29-$Q29>=0,\"\",$Q29-$I29)","v":""},{"$f":"IF($I29-$Q29>0,$I29-$Q29,\"\")","v":""}]
[null,null,null,null,null,{"$f":"التجميع!I126","v":""},{"$f":"((IF(ISERROR(VLOOKUP(F30,التعداد!$C$10:$L$45,10,0)),\"\",VLOOKUP(F30,التعداد!$C$10:$L$45,10,0))))","v":""}]
[null,{"$f":"التجميع!B126","v":""},null,null,null,{"$f":"التجميع!J126","v":""},{"$f":"((IF(ISERROR(VLOOKUP(F31,التعداد!$C$10:$L$45,10,0)),\"\",VLOOKUP(F31,التعداد!$C$10:$L$45,10,0))))","v":""}]
[null,null,null,null,null,{"$f":"التجميع!K126","v":""},{"$f":"((IF(ISERROR(VLOOKUP(F32,التعداد!$C$10:$L$45,10,0)),\"\",VLOOKUP(F32,التعداد!$C$10:$L$45,10,0))))","v":""}]
[null,null,null,null,null,{"$f":"التجميع!L126","v":""},{"$f":"((IF(ISERROR(VLOOKUP(F33,التعداد!$C$10:$L$45,10,0)),\"\",VLOOKUP(F33,التعداد!$C$10:$L$45,10,0))))","v":""}]
[null,null,null,null,null,{"$f":"التجميع!M126","v":""},{"$f":"((IF(ISERROR(VLOOKUP(F34,التعداد!$C$10:$L$45,10,0)),\"\",VLOOKUP(F34,التعداد!$C$10:$L$45,10,0))))","v":""}]
[null,null,null,null,null,{"$f":"التجميع!N126","v":""},{"$f":"((IF(ISERROR(VLOOKUP(F35,التعداد!$C$10:$L$45,10,0)),\"\",VLOOKUP(F35,التعداد!$C$10:$L$45,10,0))))","v":""}]
[null,null,null,null,null,{"$f":"التجميع!O126","v":""},{"$f":"((IF(ISERROR(VLOOKUP(F36,التعداد!$C$10:$L$45,10,0)),\"\",VLOOKUP(F36,التعداد!$C$10:$L$45,10,0))))","v":""}]
[null,null,null,null,null,{"$f":"التجميع!P126","v":""},{"$f":"((IF(ISERROR(VLOOKUP(F37,التعداد!$C$10:$L$45,10,0)),\"\",VLOOKUP(F37,التعداد!$C$10:$L$45,10,0))))","v":""}]
[null,null,null,null,null,{"$f":"التجميع!Q126","v":""},{"$f":"((IF(ISERROR(VLOOKUP(F38,التعداد!$C$10:$L$45,10,0)),\"\",VLOOKUP(F38,التعداد!$C$10:$L$45,10,0))))","v":""}]
[null,{"$f":"التجميع!D126","v":""},null,null,null,{"$f":"التجميع!R126","v":""},{"$f":"((IF(ISERROR(VLOOKUP(F39,التعداد!$C$10:$L$45,10,0)),\"\",VLOOKUP(F39,التعداد!$C$10:$L$45,10,0))))","v":""}]
[null,null,null,null,null,{"$f":"التجميع!S126","v":""},{"$f":"((IF(ISERROR(VLOOKUP(F40,التعداد!$C$10:$L$45,10,0)),\"\",VLOOKUP(F40,التعداد!$C$10:$L$45,10,0))))","v":""}]
[null,null,null,null,null,{"$f":"التجميع!T126","v":""},{"$f":"((IF(ISERROR(VLOOKUP(F41,التعداد!$C$10:$L$45,10,0)),\"\",VLOOKUP(F41,التعداد!$C$10:$L$45,10,0))))","v":""}]
[null,null,null,null,null,{"$f":"التجميع!U126","v":""},{"$f":"((IF(ISERROR(VLOOKUP(F42,التعداد!$C$10:$L$45,10,0)),\"\",VLOOKUP(F42,التعداد!$C$10:$L$45,10,0))))","v":""}]
[null,null,null,null,null,{"$f":"التجميع!V126","v":""},{"$f":"((IF(ISERROR(VLOOKUP(F43,التعداد!$C$10:$L$45,10,0)),\"\",VLOOKUP(F43,التعداد!$C$10:$L$45,10,0))))","v":""}]
[null,null,null,null,null,{"$f":"التجميع!W126","v":""},{"$f":"((IF(ISERROR(VLOOKUP(F44,التعداد!$C$10:$L$45,10,0)),\"\",VLOOKUP(F44,التعداد!$C$10:$L$45,10,0))))","v":""}]
[null,null,null,null,null,{"$f":"التجميع!X126","v":""},{"$f":"((IF(ISERROR(VLOOKUP(F45,التعداد!$C$10:$L$45,10,0)),\"\",VLOOKUP(F45,التعداد!$C$10:$L$45,10,0))))","v":""}]
[null,null,null,null,null,{"$f":"التجميع!Y126","v":""},{"$f":"((IF(ISERROR(VLOOKUP(F46,التعداد!$C$10:$L$45,10,0)),\"\",VLOOKUP(F46,التعداد!$C$10:$L$45,10,0))))","v":""}]
[4,null,{"$f":"التجميع!F127","v":""},{"$f":"التجميع!E127","v":""},{"$f":"التجميع!G127","v":""},{"$f":"التجميع!H127","v":""},{"$f":"((IF(ISERROR(VLOOKUP(F47,التعداد!$C$10:$L$45,10,0)),\"\",VLOOKUP(F47,التعداد!$C$10:$L$45,10,0))))","v":""},null,{"$f":"SUM(H47:H64)","v":0},{"$f":"IF(B49=\"\",\"\",22)","v":""},null,null,null,{"$f":"IF(B49=\"\",\"\",1)","v":""},{"$f":"SUM(L47:N64)","v":0},{"$f":"((IF(ISERROR(J47-O47),,(J47-O47))))","v":0},{"$f":"P47+L47","v":0},{"$f":"IF($I47-$Q47>=0,\"\",$Q47-$I47)","v":""},{"$f":"IF($I47-$Q47>0,$I47-$Q47,\"\")","v":""}]
[null,null,null,null,null,{"$f":"التجميع!I127","v":""},{"$f":"((IF(ISERROR(VLOOKUP(F48,التعداد!$C$10:$L$45,10,0)),\"\",VLOOKUP(F48,التعداد!$C$10:$L$45,10,0))))","v":""}]
[null,{"$f":"التجميع!B127","v":""},null,null,null,{"$f":"التجميع!J127","v":""},{"$f":"((IF(ISERROR(VLOOKUP(F49,التعداد!$C$10:$L$45,10,0)),\"\",VLOOKUP(F49,التعداد!$C$10:$L$45,10,0))))","v":""}]
[null,null,null,null,null,{"$f":"التجميع!K127","v":""},{"$f":"((IF(ISERROR(VLOOKUP(F50,التعداد!$C$10:$L$45,10,0)),\"\",VLOOKUP(F50,التعداد!$C$10:$L$45,10,0))))","v":""}]
[null,null,null,null,null,{"$f":"التجميع!L127","v":""},{"$f":"((IF(ISERROR(VLOOKUP(F51,التعداد!$C$10:$L$45,10,0)),\"\",VLOOKUP(F51,التعداد!$C$10:$L$45,10,0))))","v":""}]
[null,null,null,null,null,{"$f":"التجميع!M127","v":""},{"$f":"((IF(ISERROR(VLOOKUP(F52,التعداد!$C$10:$L$45,10,0)),\"\",VLOOKUP(F52,التعداد!$C$10:$L$45,10,0))))","v":""}]
[null,null,null,null,null,{"$f":"التجميع!N127","v":""},{"$f":"((IF(ISERROR(VLOOKUP(F53,التعداد!$C$10:$L$45,10,0)),\"\",VLOOKUP(F53,التعداد!$C$10:$L$45,10,0))))","v":""}]
[null,null,null,null,null,{"$f":"التجميع!O127","v":""},{"$f":"((IF(ISERROR(VLOOKUP(F54,التعداد!$C$10:$L$45,10,0)),\"\",VLOOKUP(F54,التعداد!$C$10:$L$45,10,0))))","v":""}]
[null,null,null,null,null,{"$f":"التجميع!P127","v":""},{"$f":"((IF(ISERROR(VLOOKUP(F55,التعداد!$C$10:$L$45,10,0)),\"\",VLOOKUP(F55,التعداد!$C$10:$L$45,10,0))))","v":""}]
[null,null,null,null,null,{"$f":"التجميع!Q127","v":""},{"$f":"((IF(ISERROR(VLOOKUP(F56,التعداد!$C$10:$L$45,10,0)),\"\",VLOOKUP(F56,التعداد!$C$10:$L$45,10,0))))","v":""}]
[null,{"$f":"التجميع!D127","v":""},null,null,null,{"$f":"التجميع!R127","v":""},{"$f":"((IF(ISERROR(VLOOKUP(F57,التعداد!$C$10:$L$45,10,0)),\"\",VLOOKUP(F57,التعداد!$C$10:$L$45,10,0))))","v":""}]
[null,null,null,null,null,{"$f":"التجميع!S127","v":""},{"$f":"((IF(ISERROR(VLOOKUP(F58,التعداد!$C$10:$L$45,10,0)),\"\",VLOOKUP(F58,التعداد!$C$10:$L$45,10,0))))","v":""}]
[null,null,null,null,null,{"$f":"التجميع!T127","v":""},{"$f":"((IF(ISERROR(VLOOKUP(F59,التعداد!$C$10:$L$45,10,0)),\"\",VLOOKUP(F59,التعداد!$C$10:$L$45,10,0))))","v":""}]
[null,null,null,null,null,{"$f":"التجميع!U127","v":""},{"$f":"((IF(ISERROR(VLOOKUP(F60,التعداد!$C$10:$L$45,10,0)),\"\",VLOOKUP(F60,التعداد!$C$10:$L$45,10,0))))","v":""}]
[null,null,null,null,null,{"$f":"التجميع!V127","v":""},{"$f":"((IF(ISERROR(VLOOKUP(F61,التعداد!$C$10:$L$45,10,0)),\"\",VLOOKUP(F61,التعداد!$C$10:$L$45,10,0))))","v":""}]
[null,null,null,null,null,{"$f":"التجميع!W127","v":""},{"$f":"((IF(ISERROR(VLOOKUP(F62,التعداد!$C$10:$L$45,10,0)),\"\",VLOOKUP(F62,التعداد!$C$10:$L$45,10,0))))","v":""}]
[null,null,null,null,null,{"$f":"التجميع!X127","v":""},{"$f":"((IF(ISERROR(VLOOKUP(F63,التعداد!$C$10:$L$45,10,0)),\"\",VLOOKUP(F63,التعداد!$C$10:$L$45,10,0))))","v":""}]
[null,null,null,null,null,{"$f":"التجميع!Y127","v":""},{"$f":"((IF(ISERROR(VLOOKUP(F64,التعداد!$C$10:$L$45,10,0)),\"\",VLOOKUP(F64,التعداد!$C$10:$L$45,10,0))))","v":""}]
["المجموع",null,null,null,null,null,{"$f":"SUM(G29:G64)","v":0},{"$f":"SUM(H29:H64)","v":0},{"$f":"SUM(I29:I64)","v":0},{"$f":"SUM(J29:J64)","v":0},null,{"$f":"SUM(L29:L64)","v":0},0,0,0,0,0,0,0]
[]
[]
[]
[]
[]
[]
["المجموع العام",null,null,null,null,null,{"$f":"G22+G65","v":292},{"$f":"H22+H65","v":10},{"$f":"I22+I65","v":10},{"$f":"J22+J65","v":22},null,{"$f":"L22+L65","v":0},2,4,6,16,16,6,0]

{"sheet":"كشفالتلاميذ","index":28,"n_rows":74,"n_cols":15,"rows_kept":74,"cut":false,"hidden":false,"merged":[[7,0,7,7],[7,9,7,16],[8,0,9,0],[8,9,9,9],[8,10,8,11],[8,12,8,13],[8,1,8,2],[8,3,8,4],[8,5,8,6],[89,9,89,15],[48,0,49,0],[45,1,47,1],[45,2,47,2],[45,3,47,3],[45,4,47,4],[88,11,88,17],[48,4,49,4],[50,1,52,1],[73,10,73,16],[42,1,44,1],[42,2,44,2],[42,3,44,3],[42,4,44,4],[8,14,8,15],[13,11,15,11],[13,12,15,12],[8,7,9,7],[53,1,55,1],[53,2,55,2],[53,3,55,3],[53,4,55,4],[48,1,49,1],[50,2,52,2],[48,2,49,2],[48,3,49,3],[8,16,9,16],[40,0,40,7],[11,9,11,16],[12,14,12,16],[13,10,15,10],[83,9,83,15],[82,2,82,6],[41,5,41,7],[42,5,44,7],[45,5,47,7],[48,5,49,7],[50,5,52,7],[53,5,55,7],[50,3,52,3],[50,4,52,4],[19,14,20,16],[13,13,15,13],[13,14,15,16],[16,10,18,10],[16,11,18,11],[16,12,18,12],[16,13,18,13],[16,14,18,16],[19,9,20,9],[19,10,20,10],[19,11,20,11],[19,12,20,12],[19,13,20,13],[24,10,26,10],[24,11,26,11],[24,12,26,12],[24,13,26,13],[24,14,26,16],[21,10,23,10],[21,11,23,11],[21,12,23,12],[21,13,23,13],[21,14,23,16]]}
[]
[]
[]
[]
[]
[]
[]
["التعليم المتوسط"]
["الأقسام","داخلي",null,"نصف داخلي",null,"خارجي",null,"المجموع"]
[null,"ذكور","إناث","ذكور","إناث","ذكور","إناث"]
[{"$f":"التعداد!C10","v":"4م1"},{"$f":"التعداد!D10","v":0},{"$f":"التعداد!E10","v":0},{"$f":"التعداد!F10","v":9},{"$f":"التعداد!G10","v":13},{"$f":"التعداد!H10","v":3},{"$f":"التعداد!I10","v":1},{"$f":"SUM(B11:G11)","v":26}]
[{"$f":"التعداد!C11","v":"4م2"},{"$f":"التعداد!D11","v":0},{"$f":"التعداد!E11","v":0},{"$f":"التعداد!F11","v":12},{"$f":"التعداد!G11","v":12},{"$f":"التعداد!H11","v":2},{"$f":"التعداد!I11","v":2},{"$f":"SUM(B12:G12)","v":28},null,"عدد التلاميذ الحاضرين"]
[{"$f":"التعداد!C12","v":"3م1"},{"$f":"التعداد!D12","v":0},{"$f":"التعداد!E12","v":0},{"$f":"التعداد!F12","v":11},{"$f":"التعداد!G12","v":18},{"$f":"التعداد!H12","v":1},{"$f":"التعداد!I12","v":1},31,null,null,"داخلي","ن.داخلي","خارجي","المجموع","ملاحظات"]
[{"$f":"التعداد!C13","v":"3م2"},{"$f":"التعداد!D13","v":0},{"$f":"التعداد!E13","v":0},{"$f":"التعداد!F13","v":12},{"$f":"التعداد!G13","v":19},{"$f":"التعداد!H13","v":0},{"$f":"التعداد!I13","v":1},32," ","عــدد  التلاميــــذ",{"$f":"B36+C36","v":0},{"$f":"D36+E36","v":227},{"$f":"F36+G36","v":39},{"$f":"SUM(K14:M16)","v":266}]
[{"$f":"التعداد!C14","v":"2م1"},{"$f":"التعداد!D14","v":0},{"$f":"التعداد!E14","v":0},{"$f":"التعداد!F14","v":14},{"$f":"التعداد!G14","v":12},{"$f":"التعداد!H14","v":2},{"$f":"التعداد!I14","v":0},28,null,"الحاضـرين في  "]
[{"$f":"التعداد!C15","v":"2م2"},{"$f":"التعداد!D15","v":0},{"$f":"التعداد!E15","v":0},{"$f":"التعداد!F15","v":11},{"$f":"التعداد!G15","v":13},{"$f":"التعداد!H15","v":3},{"$f":"التعداد!I15","v":0},27,null,"آخر الشهر السابق"]
[{"$f":"التعداد!C17","v":"1م1"},{"$f":"التعداد!D17","v":0},{"$f":"التعداد!E17","v":0},{"$f":"التعداد!F17","v":9},{"$f":"التعداد!G17","v":12},{"$f":"التعداد!H17","v":9},{"$f":"التعداد!I17","v":1},31,null,"عــدد  التلاميــــذ",0,{"$f":"التعداد!T10","v":0},{"$f":"التعداد!U10","v":0},{"$f":"SUM(K17:M19)","v":0}]
[{"$f":"التعداد!C18","v":"1م2"},{"$f":"التعداد!D18","v":0},{"$f":"التعداد!E18","v":0},{"$f":"التعداد!F18","v":11},{"$f":"التعداد!G18","v":15},{"$f":"التعداد!H18","v":4},{"$f":"التعداد!I18","v":1},31,null,"المسجلين"]
[{"$f":"التعداد!C19","v":"1م3"},{"$f":"التعداد!D19","v":0},{"$f":"التعداد!E19","v":0},{"$f":"التعداد!F19","v":9},{"$f":"التعداد!G19","v":15},{"$f":"التعداد!H19","v":7},{"$f":"التعداد!I19","v":1},32,null,"خلال الشهـر"]
[{"$f":"التعداد!C20","v":0},{"$f":"التعداد!D20","v":0},{"$f":"التعداد!E20","v":0},{"$f":"التعداد!F20","v":0},{"$f":"التعداد!G20","v":0},{"$f":"التعداد!H20","v":0},{"$f":"التعداد!I20","v":0},0,null,"المجموع",{"$f":"SUM(K14:K19)","v":0},{"$f":"SUM(L14:L19)","v":227},{"$f":"SUM(M14:M19)","v":39},{"$f":"SUM(N14:N19)","v":266}]
[{"$f":"التعداد!C21","v":0},{"$f":"التعداد!D21","v":0},{"$f":"التعداد!E21","v":0},{"$f":"التعداد!F21","v":0},{"$f":"التعداد!G21","v":0},{"$f":"التعداد!H21","v":0},{"$f":"التعداد!I21","v":0},0]
[{"$f":"التعداد!C22","v":0},{"$f":"التعداد!D22","v":0},{"$f":"التعداد!E22","v":0},{"$f":"التعداد!F22","v":0},{"$f":"التعداد!G22","v":0},{"$f":"التعداد!H22","v":0},{"$f":"التعداد!I22","v":0},0,null,"عــدد التلاميــذ",0,{"$f":"التعداد!V10","v":0},{"$f":"التعداد!W10","v":0},{"$f":"SUM(K22:M24)","v":0}]
[{"$f":"التعداد!C23","v":0},{"$f":"التعداد!D23","v":0},{"$f":"التعداد!E23","v":0},{"$f":"التعداد!F23","v":0},{"$f":"التعداد!G23","v":0},{"$f":"التعداد!H23","v":0},{"$f":"التعداد!I23","v":0},0,null,"المنصرفين"]
[{"$f":"التعداد!C24","v":0},{"$f":"التعداد!D24","v":0},{"$f":"التعداد!E24","v":0},{"$f":"التعداد!F24","v":0},{"$f":"التعداد!G24","v":0},{"$f":"التعداد!H24","v":0},{"$f":"التعداد!I24","v":0},0,null,"خلال الشهـر"]
[{"$f":"التعداد!C25","v":0},{"$f":"التعداد!D25","v":0},{"$f":"التعداد!E25","v":0},{"$f":"التعداد!F25","v":0},{"$f":"التعداد!G25","v":0},{"$f":"التعداد!H25","v":0},{"$f":"التعداد!I25","v":0},0,null,"عــدد التلاميــذ",{"$f":"K20-K22","v":0},{"$f":"L20-L22","v":227},{"$f":"M20-M22","v":39},{"$f":"N20-N22","v":266}]
[{"$f":"التعداد!C26","v":0},{"$f":"التعداد!D26","v":0},{"$f":"التعداد!E26","v":0},{"$f":"التعداد!F26","v":0},{"$f":"التعداد!G26","v":0},{"$f":"التعداد!H26","v":0},{"$f":"التعداد!I26","v":0},0,null,"المسجلين"]
[{"$f":"التعداد!C27","v":0},{"$f":"التعداد!D27","v":0},{"$f":"التعداد!E27","v":0},{"$f":"التعداد!F27","v":0},{"$f":"التعداد!G27","v":0},{"$f":"التعداد!H27","v":0},{"$f":"التعداد!I27","v":0},0,null,"في آخـر الشهر"]
[{"$f":"التعداد!C28","v":0},{"$f":"التعداد!D28","v":0},{"$f":"التعداد!E28","v":0},{"$f":"التعداد!F28","v":0},{"$f":"التعداد!G28","v":0},{"$f":"التعداد!H28","v":0},{"$f":"التعداد!I28","v":0},0]
[{"$f":"التعداد!C29","v":0},{"$f":"التعداد!D29","v":0},{"$f":"التعداد!E29","v":0},{"$f":"التعداد!F29","v":0},{"$f":"التعداد!G29","v":0},{"$f":"التعداد!H29","v":0},{"$f":"التعداد!I29","v":0},0]
[{"$f":"التعداد!C30","v":0},{"$f":"التعداد!D30","v":0},{"$f":"التعداد!E30","v":0},{"$f":"التعداد!F30","v":0},{"$f":"التعداد!G30","v":0},{"$f":"التعداد!H30","v":0},{"$f":"التعداد!I30","v":0},0]
[{"$f":"التعداد!C31","v":0},{"$f":"التعداد!D31","v":0},{"$f":"التعداد!E31","v":0},{"$f":"التعداد!F31","v":0},{"$f":"التعداد!G31","v":0},{"$f":"التعداد!H31","v":0},{"$f":"التعداد!I31","v":0},0]
[{"$f":"التعداد!C32","v":0},{"$f":"التعداد!D32","v":0},{"$f":"التعداد!E32","v":0},{"$f":"التعداد!F32","v":0},{"$f":"التعداد!G32","v":0},{"$f":"التعداد!H32","v":0},{"$f":"التعداد!I32","v":0},0]
[{"$f":"التعداد!C33","v":0},{"$f":"التعداد!D33","v":0},{"$f":"التعداد!E33","v":0},{"$f":"التعداد!F33","v":0},{"$f":"التعداد!G33","v":0},{"$f":"التعداد!H33","v":0},{"$f":"التعداد!I33","v":0},0]
[{"$f":"التعداد!C34","v":0},{"$f":"التعداد!D34","v":0},{"$f":"التعداد!E34","v":0},{"$f":"التعداد!F34","v":0},{"$f":"التعداد!G34","v":0},{"$f":"التعداد!H34","v":0},{"$f":"التعداد!I34","v":0},0]
[{"$f":"التعداد!C35","v":0},{"$f":"التعداد!D35","v":0},{"$f":"التعداد!E35","v":0},{"$f":"التعداد!F35","v":0},{"$f":"التعداد!G35","v":0},{"$f":"التعداد!H35","v":0},{"$f":"التعداد!I35","v":0},0]
["المجموع",{"$f":"SUM(B11:B35)","v":0},{"$f":"SUM(C11:C35)","v":0},98,129,31,8,266]
[]
[]
[]
[]
["عدد التلاميذ الحاضرين"]
[null,"داخلي","ن.داخلي","خارجي","المجموع","ملاحظات"]
["عــدد  التلاميــــذ",{"$f":"K14","v":0},{"$f":"L14","v":227},{"$f":"M14","v":39},{"$f":"SUM(B43:D45)","v":266}]
["الحاضـرين في  "]
["آخر الشهر السابق"]
["عــدد  التلاميــــذ",0,{"$f":"L17","v":0},{"$f":"M17","v":0},{"$f":"N17","v":0}]
["المسجلين"]
["خلال الشهـر"]
["المجموع",{"$f":"SUM(B43:B48)","v":0},{"$f":"SUM(C43:C48)","v":227},{"$f":"SUM(D43:D48)","v":39},{"$f":"SUM(E43:E48)","v":266}]
[]
["عــدد التلاميــذ",0,{"$f":"L22","v":0},{"$f":"M22","v":0},{"$f":"N22","v":0}]
["المنصرفين"]
["خلال الشهـر"]
["عــدد التلاميــذ",{"$f":"B49-B51","v":0},{"$f":"C49-C51","v":227},{"$f":"D49-D51","v":39},{"$f":"E49-E51","v":266}]
["المسجلين"]
["في آخـر الشهر"]
[]
[]
[]
[]
[]
[]
[]
[]
[]
[]
[]
[]
[]
[]
[]
[]
[null,null," "]
[null,null,null,null,null,null,null,null,null,null,"السنة الدراسية: 2017/ 2018"]

{"sheet":"الموظفين","index":29,"n_rows":100,"n_cols":15,"rows_kept":100,"cut":false,"hidden":false,"merged":[[10,14,11,14],[12,13,13,13],[12,14,13,14],[32,12,33,12],[34,12,35,12],[36,14,37,14],[24,14,25,14],[42,8,43,8],[42,9,43,9],[18,8,19,8],[18,9,19,9],[26,9,27,9],[24,9,25,9],[26,8,27,8],[36,8,37,8],[36,9,37,9],[38,8,39,8],[38,9,39,9],[40,8,41,8],[40,9,41,9],[99,9,99,13],[34,4,35,4],[36,4,37,4],[38,4,39,4],[40,4,41,4],[44,4,45,4],[46,4,47,4],[34,11,35,11],[36,11,37,11],[98,12,98,18],[40,12,41,12],[42,12,43,12],[44,12,45,12],[36,12,37,12],[38,12,39,12],[44,8,45,8],[44,9,45,9],[51,0,51,6],[78,0,78,6],[40,6,41,6],[44,6,45,6],[32,5,33,5],[26,6,27,6],[40,5,41,5],[46,6,47,6],[42,0,43,0],[40,0,41,0],[2,8,3,8],[2,9,3,9],[12,3,13,3],[14,3,15,3],[16,3,17,3],[18,3,19,3],[8,6,9,6],[6,6,7,6],[4,5,5,5],[10,9,11,9],[2,3,3,3],[4,3,5,3],[6,3,7,3],[14,5,15,5],[10,3,11,3],[16,6,17,6],[4,9,5,9],[6,8,7,8],[6,9,7,9],[8,8,9,8],[8,9,9,9],[46,14,47,14],[46,5,47,5],[46,11,47,11],[46,12,47,12],[46,0,47,0],[46,13,47,13],[46,8,47,8],[46,9,47,9],[46,3,47,3],[2,11,3,11],[4,11,5,11],[6,11,7,11],[8,11,9,11],[10,11,11,11],[42,13,43,13],[36,13,37,13],[24,11,25,11],[26,11,27,11],[28,11,29,11],[18,12,19,12],[20,12,21,12],[22,12,23,12],[24,12,25,12],[26,12,27,12],[28,12,29,12],[30,12,31,12],[10,13,11,13],[44,0,45,0],[42,5,43,5],[42,6,43,6],[44,13,45,13],[44,14,45,14],[44,5,45,5],[42,11,43,11],[44,11,45,11],[42,3,43,3],[12,11,13,11],[14,11,15,11],[16,11,17,11],[18,11,19,11],[20,11,21,11],[22,11,23,11],[32,4,33,4],[12,8,13,8],[12,9,13,9],[32,6,33,6],[30,5,31,5],[24,5,25,5],[30,6,31,6],[28,5,29,5],[20,5,21,5],[26,5,27,5],[32,0,33,0],[30,4,31,4],[30,3,31,3],[32,3,33,3],[40,14,41,14],[38,13,39,13],[38,14,39,14],[40,13,41,13],[38,0,39,0],[36,0,37,0],[36,5,37,5],[36,6,37,6],[40,11,41,11],[38,11,39,11],[38,6,39,6],[38,5,39,5],[26,0,27,0],[26,4,27,4],[24,1,25,1],[26,1,27,1],[24,8,25,8],[38,3,39,3],[28,1,29,1],[34,1,35,1],[36,1,37,1],[38,1,39,1],[28,0,29,0],[28,4,29,4],[34,3,35,3],[34,8,35,8],[30,8,31,8],[32,8,33,8],[28,3,29,3],[28,8,29,8],[28,6,29,6],[34,0,35,0],[34,5,35,5],[34,6,35,6],[30,0,31,0],[30,1,31,1],[40,1,41,1],[42,1,43,1],[44,1,45,1],[46,1,47,1],[40,3,41,3],[22,13,23,13],[30,11,31,11],[32,11,33,11],[36,3,37,3],[26,3,27,3],[30,9,31,9],[32,9,33,9],[34,9,35,9],[28,9,29,9],[30,13,31,13],[28,13,29,13],[34,13,35,13],[32,13,33,13],[32,1,33,1],[42,4,43,4],[22,14,23,14],[20,13,21,13],[22,8,23,8],[22,9,23,9],[44,3,45,3],[24,6,25,6],[26,13,27,13],[26,14,27,14],[24,13,25,13],[32,14,33,14],[34,14,35,14],[28,14,29,14],[30,14,31,14],[42,14,43,14],[14,1,15,1],[8,3,9,3],[10,4,11,4],[12,4,13,4],[22,0,23,0],[22,4,23,4],[22,6,23,6],[22,1,23,1],[24,0,25,0],[24,4,25,4],[22,5,23,5],[24,3,25,3],[22,3,23,3],[14,0,15,0],[16,14,17,14],[14,14,15,14],[20,4,21,4],[14,13,15,13],[16,8,17,8],[16,9,17,9],[20,14,21,14],[20,6,21,6],[16,12,17,12],[20,8,21,8],[18,14,19,14],[14,6,15,6],[18,6,19,6],[16,5,17,5],[18,5,19,5],[14,12,15,12],[18,1,19,1],[20,1,21,1],[16,1,17,1],[6,13,7,13],[8,5,9,5],[6,5,7,5],[20,0,21,0],[18,0,19,0],[18,13,19,13],[14,4,15,4],[16,4,17,4],[14,9,15,9],[20,3,21,3],[16,0,17,0],[18,4,19,4],[14,8,15,8],[16,13,17,13],[20,9,21,9],[10,5,11,5],[10,8,11,8],[10,12,11,12],[12,12,13,12],[8,1,9,1],[10,1,11,1],[4,14,5,14],[4,13,5,13],[4,6,5,6],[6,14,7,14],[8,14,9,14],[8,13,9,13],[4,12,5,12],[6,12,7,12],[8,12,9,12],[4,8,5,8],[0,0,1,6],[10,6,11,6],[12,5,13,5],[12,6,13,6],[8,0,9,0],[4,0,5,0],[6,0,7,0],[4,4,5,4],[6,4,7,4],[8,4,9,4],[10,0,11,0],[12,0,13,0],[12,1,13,1],[2,0,3,0],[2,1,3,1],[4,1,5,1],[6,1,7,1]]}
["كشف مفصل للموظفين الإداريين والمستخدمين"]
[]
["الرقــــــم","المناصب","اللقب والاسم","الوظيفة","الصفة","تاريخ أول تعيين","تاريخ التعيين",null,"الرقــــــم","المناصب","اللقب والاسم","الوظيفة","الصفة","تاريخ أول تعيين","تاريخ التعيين"]
[null,null,"تاريخ الميلاد",null,"مرسم- متربص","بهذه الصفة","بالمؤسسة",null,null,null,"تاريخ الميلاد",null,"مرسم- متربص","بهذه الصفة","بالمؤسسة"]
[1,null,{"$f":"'حجز الإداريين'!B6","v":"جامد خليل"},{"$f":"'حجز الإداريين'!F6","v":"مدير "},{"$f":"'حجز الإداريين'!H6","v":"مرسم"},{"$f":"'حجز الإداريين'!K6","v":"2015-09-01"},{"$f":"'حجز الإداريين'!I6","v":"2018-08-26"},null,23,null,{"$f":"'حجز الإداريين'!B31","v":"جبالي إبراهيم "},{"$f":"'حجز الإداريين'!F31","v":"عامل مهني بتوقيت كامل"},{"$f":"'حجز الإداريين'!H31","v":"متعاقد"},{"$f":"'حجز الإداريين'!K31","v":"00:00:00"},{"$f":"'حجز الإداريين'!I31","v":"00:00:00"}]
[null,null,{"$f":"'حجز الإداريين'!D6","v":"1969-12-05"},null,null,null,null,null,null,null,{"$f":"'حجز الإداريين'!D31","v":"00:00:00"}]
[2,null,{"$f":"'حجز الإداريين'!B7","v":"بدراني عبدالقادر "},{"$f":"'حجز الإداريين'!F7","v":"مقتصد "},{"$f":"'حجز الإداريين'!H7","v":"مرسم"},{"$f":"'حجز الإداريين'!K7","v":"2014-11-01"},{"$f":"'حجز الإداريين'!I7","v":"1994-09-26"},null,24,null,{"$f":"'حجز الإداريين'!B32","v":"بدراني محمد أمين "},{"$f":"'حجز الإداريين'!F32","v":"عامل مهني بتوقيت كامل"},{"$f":"'حجز الإداريين'!H32","v":"متعاقد"},{"$f":"'حجز الإداريين'!K32","v":"00:00:00"},{"$f":"'حجز الإداريين'!I32","v":"00:00:00"}]
[null,null,{"$f":"'حجز الإداريين'!D7","v":"1968-03-15"},null,null,null,null,null,null,null,{"$f":"'حجز الإداريين'!D32","v":"00:00:00"}]
[3,null,{"$f":"'حجز الإداريين'!B8","v":"شنافي أحمد"},{"$f":"'حجز الإداريين'!F8","v":"كاتب "},{"$f":"'حجز الإداريين'!H8","v":"مرسم"},{"$f":"'حجز الإداريين'!K8","v":"00:00:00"},{"$f":"'حجز الإداريين'!I8","v":"1994-09-05"},null,25,null,{"$f":"'حجز الإداريين'!B33","v":"قرمان حسين "},{"$f":"'حجز الإداريين'!F33","v":"سائق "},{"$f":"'حجز الإداريين'!H33","v":"متعاقد"},{"$f":"'حجز الإداريين'!K33","v":"00:00:00"},{"$f":"'حجز الإداريين'!I33","v":"00:00:00"}]
[null,null,{"$f":"'حجز الإداريين'!D8","v":"1973-09-12"},null,null,null,null,null,null,null,{"$f":"'حجز الإداريين'!D33","v":"00:00:00"}]
[4,null,{"$f":"'حجز الإداريين'!B9","v":"بومريزيقة فاطمة"},{"$f":"'حجز الإداريين'!F9","v":"مستشارة توجيه"},{"$f":"'حجز الإداريين'!H9","v":"متربصة"},{"$f":"'حجز الإداريين'!K9","v":"2021-07-07"},{"$f":"'حجز الإداريين'!I9","v":"2021-09-12"},null,26,null,{"$f":"'حجز الإداريين'!B34","v":0},{"$f":"'حجز الإداريين'!F34","v":0},{"$f":"'حجز الإداريين'!H34","v":0},{"$f":"'حجز الإداريين'!K34","v":"00:00:00"},{"$f":"'حجز الإداريين'!I34","v":"00:00:00"}]
[null,null,{"$f":"'حجز الإداريين'!D9","v":"1988-04-23"},null,null,null,null,null,null,null,{"$f":"'حجز الإداريين'!D34","v":"00:00:00"}]
[5,null,{"$f":"'حجز الإداريين'!B10","v":"شنافي نورالهدي"},{"$f":"'حجز الإداريين'!F10","v":"عون ادارة "},{"$f":"'حجز الإداريين'!H10","v":"مرسمة"},{"$f":"'حجز الإداريين'!K19","v":"2013-12-01"},{"$f":"'حجز الإداريين'!I10","v":"1999-07-03"},null,27,null,{"$f":"'حجز الإداريين'!B35","v":0},{"$f":"'حجز الإداريين'!F35","v":0},{"$f":"'حجز الإداريين'!H395","v":0},{"$f":"'حجز الإداريين'!K35","v":"00:00:00"},{"$f":"'حجز الإداريين'!I35","v":"00:00:00"}]
[null,null,{"$f":"'حجز الإداريين'!D10","v":"1975-04-07"},null,null,null,null,null,null,null,{"$f":"'حجز الإداريين'!D35","v":"00:00:00"}]
[6,null,{"$f":"'حجز الإداريين'!B11","v":"شنافي محمد"},{"$f":"'حجز الإداريين'!F11","v":"عون ادارة "},{"$f":"'حجز الإداريين'!H11","v":"مرسم"},{"$f":"'حجز الإداريين'!K11","v":"2011-09-15"},{"$f":"'حجز الإداريين'!I11","v":"2016-07-17"},null,28,null,{"$f":"'حجز الإداريين'!B36","v":0},{"$f":"'حجز الإداريين'!F36","v":0},{"$f":"'حجز الإداريين'!H36","v":0},{"$f":"'حجز الإداريين'!K36","v":"00:00:00"},{"$f":"'حجز الإداريين'!I36","v":"00:00:00"}]
[null,null,{"$f":"'حجز الإداريين'!D11","v":"1966-10-19"},null,null,null,null,null,null,null,{"$f":"'حجز الإداريين'!D36","v":"00:00:00"}]
[7,null,{"$f":"'حجز الإداريين'!B12","v":0},{"$f":"'حجز الإداريين'!F12","v":"عون ادارة "},{"$f":"'حجز الإداريين'!H12","v":"مرسمة"},{"$f":"'حجز الإداريين'!K12","v":"00:00:00"},{"$f":"'حجز الإداريين'!I12","v":"2013-12-15"},null,29,null,{"$f":"'حجز الإداريين'!B37","v":0},{"$f":"'حجز الإداريين'!F37","v":0},{"$f":"'حجز الإداريين'!H37","v":0},{"$f":"'حجز الإداريين'!K37","v":"00:00:00"},{"$f":"'حجز الإداريين'!I37","v":"00:00:00"}]
[null,null,{"$f":"'حجز الإداريين'!D12","v":"00:00:00"},null,null,null,null,null,null,null,{"$f":"'حجز الإداريين'!D37","v":"00:00:00"}]
[8,null,{"$f":"'حجز الإداريين'!B13","v":"طيفوري محمد"},{"$f":"'حجز الإداريين'!F13","v":"مشرف تربوي"},{"$f":"'حجز الإداريين'!H13","v":"مرسم"},{"$f":"'حجز الإداريين'!K13","v":"00:00:00"},{"$f":"'حجز الإداريين'!I13","v":"00:00:00"},null,30,null,{"$f":"'حجز الإداريين'!B38","v":0},{"$f":"'حجز الإداريين'!F38","v":0},{"$f":"'حجز الإداريين'!H38","v":0},{"$f":"'حجز الإداريين'!K38","v":"00:00:00"},{"$f":"'حجز الإداريين'!I38","v":"00:00:00"}]
[null,null,{"$f":"'حجز الإداريين'!D13","v":"00:00:00"},null,null,null,null,null,null,null,{"$f":"'حجز الإداريين'!D38","v":"00:00:00"}]
[9,null,{"$f":"'حجز الإداريين'!B14","v":"قمقام دربالي"},{"$f":"'حجز الإداريين'!F14","v":"مشرف تربوي"},{"$f":"'حجز الإداريين'!H14","v":"مرسم"},{"$f":"'حجز الإداريين'!K14","v":"00:00:00"},{"$f":"'حجز الإداريين'!I14","v":"00:00:00"},null,31,null,{"$f":"'حجز الإداريين'!B39","v":0},{"$f":"'حجز الإداريين'!F39","v":0},{"$f":"'حجز الإداريين'!H39","v":0},{"$f":"'حجز الإداريين'!K39","v":"00:00:00"},{"$f":"'حجز الإداريين'!I39","v":"00:00:00"}]
[null,null,{"$f":"'حجز الإداريين'!D14","v":"00:00:00"},null,null,null,null,null,null,null,{"$f":"'حجز الإداريين'!D39","v":"00:00:00"}]
[10,null,{"$f":"'حجز الإداريين'!B15","v":"دهكل أحمد"},{"$f":"'حجز الإداريين'!F15","v":"مساعد تربوي رئيسي"},{"$f":"'حجز الإداريين'!H15","v":"مرسم"},{"$f":"'حجز الإداريين'!K15","v":"00:00:00"},{"$f":"'حجز الإداريين'!I15","v":"00:00:00"},null,32,null,{"$f":"'حجز الإداريين'!B40","v":0},{"$f":"'حجز الإداريين'!F40","v":0},{"$f":"'حجز الإداريين'!H40","v":0},{"$f":"'حجز الإداريين'!K40","v":"00:00:00"},{"$f":"'حجز الإداريين'!I40","v":"00:00:00"}]
[null,null,{"$f":"'حجز الإداريين'!D15","v":"00:00:00"},null,null,null,null,null,null,null,{"$f":"'حجز الإداريين'!D40","v":"00:00:00"}]
[11,null,{"$f":"'حجز الإداريين'!B16","v":0},{"$f":"'حجز الإداريين'!F16","v":0},{"$f":"'حجز الإداريين'!H16","v":0},{"$f":"'حجز الإداريين'!K16","v":"00:00:00"},{"$f":"'حجز الإداريين'!I16","v":"00:00:00"},null,33,null,{"$f":"'حجز الإداريين'!B41","v":0},{"$f":"'حجز الإداريين'!F41","v":0},{"$f":"'حجز الإداريين'!H41","v":0},{"$f":"'حجز الإداريين'!K41","v":"00:00:00"},{"$f":"'حجز الإداريين'!I41","v":"00:00:00"}]
[null,null,{"$f":"'حجز الإداريين'!D16","v":"00:00:00"},null,null,null,null,null,null,null,{"$f":"'حجز الإداريين'!D41","v":"00:00:00"}]
[12,null,{"$f":"'حجز الإداريين'!B17","v":0},{"$f":"'حجز الإداريين'!F17","v":0},{"$f":"'حجز الإداريين'!H17","v":"مرسمة"},{"$f":"'حجز الإداريين'!K17","v":"00:00:00"},{"$f":"'حجز الإداريين'!I17","v":"00:00:00"},null,34,null,{"$f":"'حجز الإداريين'!B42","v":0},{"$f":"'حجز الإداريين'!F42","v":0},{"$f":"'حجز الإداريين'!H42","v":0},{"$f":"'حجز الإداريين'!K42","v":"00:00:00"},{"$f":"'حجز الإداريين'!I42","v":"00:00:00"}]
[null,null,{"$f":"'حجز الإداريين'!D17","v":"00:00:00"},null,null,null,null,null,null,null,{"$f":"'حجز الإداريين'!D42","v":"00:00:00"}]
[13,null,{"$f":"'حجز الإداريين'!B18","v":0},{"$f":"'حجز الإداريين'!F18","v":0},{"$f":"'حجز الإداريين'!H18","v":0},{"$f":"'حجز الإداريين'!K18","v":"00:00:00"},{"$f":"'حجز الإداريين'!I18","v":"00:00:00"},null,35,null,{"$f":"'حجز الإداريين'!B43","v":0},{"$f":"'حجز الإداريين'!F43","v":0},{"$f":"'حجز الإداريين'!H43","v":0},{"$f":"'حجز الإداريين'!K43","v":"00:00:00"},{"$f":"'حجز الإداريين'!I43","v":"00:00:00"}]
[null,null,{"$f":"'حجز الإداريين'!D18","v":"00:00:00"},null,null,null,null,null,null,null,{"$f":"'حجز الإداريين'!D43","v":"00:00:00"}]
[14,null,{"$f":"'حجز الإداريين'!B19","v":"حساني عبد القادر"},{"$f":"'حجز الإداريين'!F19","v":"عامل مهني ص 02"},{"$f":"'حجز الإداريين'!H19","v":"مرسم"},{"$f":"'حجز الإداريين'!K20","v":"2013-12-02"},{"$f":"'حجز الإداريين'!I19","v":"1993-11-22"},null,36,null,{"$f":"'حجز الإداريين'!B44","v":0},{"$f":"'حجز الإداريين'!F44","v":0},{"$f":"'حجز الإداريين'!H44","v":0},{"$f":"'حجز الإداريين'!K44","v":"00:00:00"},{"$f":"'حجز الإداريين'!I44","v":"00:00:00"}]
[null,null,{"$f":"'حجز الإداريين'!D19","v":"1970-02-13"},null,null,null,null,null,null,null,{"$f":"'حجز الإداريين'!D44","v":"00:00:00"}]
[15,null,{"$f":"'حجز الإداريين'!B20","v":"شنافي عبد القادر"},{"$f":"'حجز الإداريين'!F20","v":"عامل مهني ص 03"},{"$f":"'حجز الإداريين'!H20","v":"مرسم"},{"$f":"'حجز الإداريين'!K20","v":"2013-12-02"},{"$f":"'حجز الإداريين'!I20","v":"1996-09-16"},null,37,null,{"$f":"'حجز الإداريين'!B45","v":0},{"$f":"'حجز الإداريين'!F45","v":0},{"$f":"'حجز الإداريين'!H45","v":0},{"$f":"'حجز الإداريين'!K45","v":"00:00:00"},{"$f":"'حجز الإداريين'!I45","v":"00:00:00"}]
[null,null,{"$f":"'حجز الإداريين'!D20","v":"1973-04-14"},null,null,null,null,null,null,null,{"$f":"'حجز الإداريين'!D45","v":"00:00:00"}]
[16,null,{"$f":"'حجز الإداريين'!B21","v":"حساني محمود"},{"$f":"'حجز الإداريين'!F21","v":"عامل مهني ص 04"},{"$f":"'حجز الإداريين'!H21","v":"مرسم"},{"$f":"'حجز الإداريين'!K21","v":"2007-12-31"},{"$f":"'حجز الإداريين'!I21","v":"2007-12-31"},null,38,null,{"$f":"'حجز الإداريين'!B46","v":0},{"$f":"'حجز الإداريين'!F46","v":0},{"$f":"'حجز الإداريين'!H46","v":0},{"$f":"'حجز الإداريين'!K46","v":"00:00:00"},{"$f":"'حجز الإداريين'!I46","v":"00:00:00"}]
[null,null,{"$f":"'حجز الإداريين'!D21","v":"1964-09-21"},null,null,null,null,null,null,null,{"$f":"'حجز الإداريين'!D46","v":"00:00:00"}]
[17,null,{"$f":"'حجز الإداريين'!B22","v":"قرمان الميلود"},{"$f":"'حجز الإداريين'!F22","v":"عامل مهني م 1 "},{"$f":"'حجز الإداريين'!H22","v":"متربص"},{"$f":"'حجز الإداريين'!K22","v":"2007-12-31"},{"$f":"'حجز الإداريين'!I22","v":"2007-12-31"},null,39,null,{"$f":"'حجز الإداريين'!B47","v":0},{"$f":"'حجز الإداريين'!F47","v":0},{"$f":"'حجز الإداريين'!H47","v":0},{"$f":"'حجز الإداريين'!K47","v":"00:00:00"},{"$f":"'حجز الإداريين'!I47","v":"00:00:00"}]
[null,null,{"$f":"'حجز الإداريين'!D22","v":"1969-01-01"},null,null,null,null,null,null,null,{"$f":"'حجز الإداريين'!D47","v":"00:00:00"}]
[18,null,{"$f":"'حجز الإداريين'!B23","v":"طيفوري لخضر"},{"$f":"'حجز الإداريين'!F23","v":"عامل مهني بتوقيت كامل"},{"$f":"'حجز الإداريين'!H23","v":"متعاقد"},{"$f":"'حجز الإداريين'!K23","v":"2013-10-22"},{"$f":"'حجز الإداريين'!I23","v":"2013-10-22"},null,40,null,{"$f":"'حجز الإداريين'!B48","v":0},{"$f":"'حجز الإداريين'!F48","v":0},{"$f":"'حجز الإداريين'!H48","v":0},{"$f":"'حجز الإداريين'!K48","v":"00:00:00"},{"$f":"'حجز الإداريين'!I48","v":"00:00:00"}]
[null,null,{"$f":"'حجز الإداريين'!D23","v":"1971-11-11"},null,null,null,null,null,null,null,{"$f":"'حجز الإداريين'!D48","v":"00:00:00"}]
[19,null,{"$f":"'حجز الإداريين'!B24","v":"حساني عبد القادر"},{"$f":"'حجز الإداريين'!F24","v":"عامل مهني بتوقيت كامل"},{"$f":"'حجز الإداريين'!H24","v":"متعاقد"},{"$f":"'حجز الإداريين'!K24","v":"2015-08-02"},{"$f":"'حجز الإداريين'!I24","v":"2015-08-02"},null,41,null,{"$f":"'حجز الإداريين'!B49","v":0},{"$f":"'حجز الإداريين'!F49","v":0},{"$f":"'حجز الإداريين'!H49","v":0},{"$f":"'حجز الإداريين'!K49","v":"00:00:00"},{"$f":"'حجز الإداريين'!I49","v":"00:00:00"}]
[null,null,{"$f":"'حجز الإداريين'!D24","v":"1980-05-29"},null,null,null,null,null,null,null,{"$f":"'حجز الإداريين'!D49","v":"00:00:00"}]
[20,null,{"$f":"'حجز الإداريين'!B25","v":"ماحي لخضر"},{"$f":"'حجز الإداريين'!F25","v":"عامل مهني بتوقيت كامل"},{"$f":"'حجز الإداريين'!H25","v":"متعاقد"},{"$f":"'حجز الإداريين'!K25","v":"00:00:00"},{"$f":"'حجز الإداريين'!I25","v":"00:00:00"},null,42,null,{"$f":"'حجز الإداريين'!B50","v":0},{"$f":"'حجز الإداريين'!F50","v":0},{"$f":"'حجز الإداريين'!H50","v":0},{"$f":"'حجز الإداريين'!K50","v":"00:00:00"},{"$f":"'حجز الإداريين'!I50","v":"00:00:00"}]
[null,null,{"$f":"'حجز الإداريين'!D25","v":"00:00:00"},null,null,null,null,null,null,null,{"$f":"'حجز الإداريين'!D50","v":"00:00:00"}]
[21,null,{"$f":"'حجز الإداريين'!B26","v":"بكي بن مهرية "},{"$f":"'حجز الإداريين'!F26","v":"عامل مهني بتوقيت كامل"},{"$f":"'حجز الإداريين'!H26","v":"متعاقد"},{"$f":"'حجز الإداريين'!K26","v":"00:00:00"},{"$f":"'حجز الإداريين'!I26","v":"00:00:00"},null,43,null,{"$f":"'حجز الإداريين'!B51","v":0},{"$f":"'حجز الإداريين'!F51","v":0},{"$f":"'حجز الإداريين'!H51","v":0},{"$f":"'حجز الإداريين'!K51","v":"00:00:00"},{"$f":"'حجز الإداريين'!I51","v":"00:00:00"}]
[null,null,{"$f":"'حجز الإداريين'!D26","v":"00:00:00"},null,null,null,null,null,null,null,{"$f":"'حجز الإداريين'!D51","v":"00:00:00"}]
[22,null,{"$f":"'حجز الإداريين'!B27","v":"بعيط بومدين"},{"$f":"'حجز الإداريين'!F27","v":"عامل مهني بتوقيت كامل"},{"$f":"'حجز الإداريين'!H27","v":"متعاقد"},{"$f":"'حجز الإداريين'!K27","v":"00:00:00"},{"$f":"'حجز الإداريين'!I27","v":"00:00:00"},null,44,null,{"$f":"'حجز الإداريين'!B52","v":0},{"$f":"'حجز الإداريين'!F52","v":0},{"$f":"'حجز الإداريين'!H52","v":0},{"$f":"'حجز الإداريين'!K52","v":"00:00:00"},{"$f":"'حجز الإداريين'!I52","v":"00:00:00"}]
[null,null,{"$f":"'حجز الإداريين'!D27","v":"00:00:00"},null,null,null,null,null,null,null,{"$f":"'حجز الإداريين'!D52","v":"00:00:00"}]
[]
[]
[]
["مــــــــــــــــــلاحظــــــــــــات مــدير المؤسســـــــــــــــة"]
[]
[]
[]
[]
[]
[]
[]
[]
[]
[]
[]
[]
[]
[]
[]
[]
[]
[]
[]
[]
[]
[]
[]
[]
[]
[]
["مــــــــــــــــــلاحظــــــــــــات مــدير التربيـــــــــــــــة"]
[]
[]
[]
[null,null,null," "]
[]
[]
[]
[]
[]
[]
[]
[]
[]
[]
[]
[]
[]
[]
[]
[]
[null,null,null,null,null,null,null,null,null,"السنة الدراسية: 2016 / 2017"]

{"sheet":"الغلاف","index":30,"n_rows":34,"n_cols":35,"rows_kept":34,"cut":false,"hidden":false,"merged":[[1,20,1,38],[18,21,18,37],[19,22,19,30],[19,31,19,33],[19,34,19,37],[3,21,3,23],[3,24,3,27],[6,21,6,22],[6,23,6,36],[8,23,8,35],[24,22,24,30],[24,31,24,33],[25,22,25,30],[25,31,25,33],[20,22,20,30],[20,31,20,33],[21,22,21,30],[21,31,21,33],[22,22,22,30],[22,31,22,33],[33,33,33,35],[8,21,8,22],[11,21,11,22],[13,21,13,22],[16,21,16,22],[11,23,11,26],[13,23,13,26],[16,23,16,26],[26,22,26,30],[26,31,26,33],[27,22,27,30],[27,31,27,33],[30,21,30,39],[29,21,29,36],[23,22,23,30],[23,31,23,33]]}
[]
[null,null,null,null,null,null,null,null,null,null,null,null,null,null,null,null,null,null,null,null,"الجمهورية الجزائرية الديمقراطية الشعبية"]
[null,null,null,null,null,null,null,null,null,null,null,null,null,null,null,null,null,null,null,null,null,"وزارة التربية الوطنية"]
[null,null,null,null,null,null,null,null,null,null,null,null,null,null,null,null,null,null,null,null,null,"مديرية التربية لولاية",null,null,{"$f":"البداية!E3","v":"الاغواط"}]
[]
[]
[null,null,null,null,null,null,null,null,null,null,null,null,null,null,null,null,null,null,null,null,null,"المؤسسة :",null,{"$f":"البداية!E4","v":"متوسطة :سماعيني معمر تاجرونة "}]
[]
[null,null,null,null,null,null,null,null,null,null,null,null,null,null,null,null,null,null,null,null,null,"العنوان :",null,"بلدية تاجرونة ولاية الاغواط "]
[]
[]
[null,null,null,null,null,null,null,null,null,null,null,null,null,null,null,null,null,null,null,null,null,"الرمز البريدي :",null,{"$f":"البداية!M4","v":3011}]
[]
[null,null,null,null,null,null,null,null,null,null,null,null,null,null,null,null,null,null,null,null,null,"الهاتف :",null,{"$f":"البداية!M5","v":"029 14 02 53"}]
[]
[]
[null,null,null,null,null,null,null,null,null,null,null,null,null,null,null,null,null,null,null,null,null,"الولاية :",null,{"$f":"Y4","v":"الاغواط"}]
[]
[null,null,null,null,null,null,null,null,null,null,null,null,null,null,null,null,null,null,null,null,null,"التقرير العام عن تسيير المؤسسة"]
[null,null,null,null,null,null,null,null,null,null,null,null,null,null,null,null,null,null,null,null,null,"رقم","تعييــــــــن",null,null,null,null,null,null,null,null,"العدد",null,null,"ملاحظات"]
[null,null,null,null,null,null,null,null,null,null,null,null,null,null,null,null,null,null,null,null,null,1,"كشف مفصل للموظفين الإداريين",null,null,null,null,null,null,null,null,1]
[null,null,null,null,null,null,null,null,null,null,null,null,null,null,null,null,null,null,null,null,null,2,"كشف مفصل للتلاميذ الحاضرين",null,null,null,null,null,null,null,null,1]
[null,null,null,null,null,null,null,null,null,null,null,null,null,null,null,null,null,null,null,null,null,3,"خدمـــــات  الأســـاتذة",null,null,null,null,null,null,null,null,9]
[null,null,null,null,null,null,null,null,null,null,null,null,null,null,null,null,null,null,null,null,null,4,"تطبيق المواقيت الرسمية",null,null,null,null,null,null,null,null,1]
[null,null,null,null,null,null,null,null,null,null,null,null,null,null,null,null,null,null,null,null,null,5,"مواقيت الأقسام",null,null,null,null,null,null,null,null,1]
[null,null,null,null,null,null,null,null,null,null,null,null,null,null,null,null,null,null,null,null,null,6,"مواقيت الأساتذة",null,null,null,null,null,null,null,null,1]
[null,null,null,null,null,null,null,null,null,null,null,null,null,null,null,null,null,null,null,null,null,7,"استعمال المحلات المتخصصة",null,null,null,null,null,null,null,null,1]
[null,null,null,null,null,null,null,null,null,null,null,null,null,null,null,null,null,null,null,null,null,8,"تعليم اللغات الحية",null,null,null,null,null,null,null,null,1]
[]
[null,null,null,null,null,null,null,null,null,null,null,null,null,null,null,null,null,null,null,null,null,"                                                   الاغواط  في 15 نوفمبر 2017"]
[null,null,null,null,null,null,null,null,null,null,null,null,null,null,null,null,null,null,null,null,null,"                                                         مدير المؤسسة"]
[]
[]
[null,null,null,null,null,null,null,null,null,null,null,null,null,null,null,null,null,null,null,null,null,null,null,null,null,null,null,null,null,null,null,null,null,{"$f":"البداية!E5","v":"جامد خليل"}]

{"sheet":"استعمال المحلات المتخصصة","index":31,"n_rows":39,"n_cols":25,"rows_kept":39,"cut":false,"hidden":false,"merged":[[31,0,38,0],[31,14,38,14],[39,14,42,14],[0,16,0,18],[3,0,10,0],[3,14,10,14],[11,0,18,0],[11,14,18,14],[19,0,22,0],[19,14,22,14],[0,1,2,1],[0,2,0,4],[0,5,0,7],[0,8,0,10],[0,11,0,12],[1,2,1,4],[23,0,30,0],[23,14,30,14],[0,14,2,14],[0,15,2,15],[0,0,2,0],[1,5,1,7],[1,8,1,10],[1,11,1,12],[0,19,0,21],[0,22,0,24],[1,16,1,18],[1,19,1,21],[1,22,1,24]]}
["الأيام","المواقيت","تعيين 01",null,null,"تعيين 01",null,null,"تعيين 01",null,null,null,null,null,"الأيام","المواقيت","تعيين 01",null,null,"تعيين 01",null,null,"تعيين 01"]
[null,null,"المخبر 01",null,null,"المخبر 02",null,null,"الورشة 01",null,null,null,null,null,null,null,"الورشة 02",null,null,"مخبر الإعلام الآلي",null,null,"............................."]
[null,null,"النشاط","القسم","الفوج","النشاط","القسم","الفوج","النشاط","القسم","الفوج",null,null,null,null,null,"النشاط","القسم","الفوج","النشاط","القسم","الفوج","النشاط","القسم","الفوج"]
["الأحــــــــد","سا08  - سا09",{"$f":"IF(E4=\"ف1\",\"عملي\",\"\")&IF(E4=\"ف2\",\"عملي\",\"\")","v":"عملي"},{"$f":"التفويج!E8","v":0},"ف1",{"$f":"IF(H4=\"ف1\",\"عملي\",\"\")&IF(H4=\"ف2\",\"عملي\",\"\")","v":"عملي"},{"$f":"التفويج!E16","v":0},"ف1",{"$f":"IF(K4=\"ف1\",\"عملي\",\"\")&IF(K4=\"ف2\",\"عملي\",\"\")","v":"عملي"},{"$f":"D4","v":0},{"$f":"IF(E4=\"ف1\",\"ف2\",\"\")&IF(E4=\"ف2\",\"ف1\",\"\")","v":"ف2"},null,null,null,"الأحــــــــد","سا08  - سا09",{"$f":"IF(S4=\"ف1\",\"عملي\",\"\")&IF(S4=\"ف2\",\"عملي\",\"\")","v":""},{"$f":"G4","v":0}]
[null,"سا09  -  سا10",{"$f":"IF(E5=\"ف1\",\"عملي\",\"\")&IF(E5=\"ف2\",\"عملي\",\"\")","v":"عملي"},{"$f":"التفويج!E9","v":0},"ف2",{"$f":"IF(H5=\"ف1\",\"عملي\",\"\")&IF(H5=\"ف2\",\"عملي\",\"\")","v":"عملي"},{"$f":"التفويج!E17","v":0},"ف2",{"$f":"IF(K5=\"ف1\",\"عملي\",\"\")&IF(K5=\"ف2\",\"عملي\",\"\")","v":"عملي"},{"$f":"D5","v":0},{"$f":"IF(E5=\"ف1\",\"ف2\",\"\")&IF(E5=\"ف2\",\"ف1\",\"\")","v":"ف1"},null,null,null,null,"سا09  -  سا10",{"$f":"IF(S5=\"ف1\",\"عملي\",\"\")&IF(S5=\"ف2\",\"عملي\",\"\")","v":""},{"$f":"G5","v":0}]
[null,"سا10 -  سا11",{"$f":"IF(E6=\"ف1\",\"عملي\",\"\")&IF(E6=\"ف2\",\"عملي\",\"\")","v":"عملي"},{"$f":"التفويج!E10","v":"3م2"},"ف1",{"$f":"IF(H6=\"ف1\",\"عملي\",\"\")&IF(H6=\"ف2\",\"عملي\",\"\")","v":"عملي"},{"$f":"التفويج!E18","v":"3م2"},"ف1",{"$f":"IF(K6=\"ف1\",\"عملي\",\"\")&IF(K6=\"ف2\",\"عملي\",\"\")","v":"عملي"},"3م2","ف2",null,null,null,null,"سا10 -  سا11","","3م2"]
[null,"سا11 -  سا12",{"$f":"IF(E7=\"ف1\",\"عملي\",\"\")&IF(E7=\"ف2\",\"عملي\",\"\")","v":"عملي"},{"$f":"التفويج!E11","v":"3م2"},"ف2",{"$f":"IF(H7=\"ف1\",\"عملي\",\"\")&IF(H7=\"ف2\",\"عملي\",\"\")","v":"عملي"},{"$f":"التفويج!E19","v":"3م2"},"ف2",{"$f":"IF(K7=\"ف1\",\"عملي\",\"\")&IF(K7=\"ف2\",\"عملي\",\"\")","v":"عملي"},"3م2","ف1",null,null,null,null,"سا11 -  سا12","","3م2"]
[null,"سا13 -  سا14",null,null,null,null,{"$f":"التفويج!E20","v":0},null,null,null,null,null,null,null,null,"سا13 -  سا14","",0]
[null,"سا14 -  سا15",{"$f":"IF(E9=\"ف1\",\"عملي\",\"\")&IF(E9=\"ف2\",\"عملي\",\"\")","v":""},{"$f":"التفويج!E13","v":"2م1"},null,null,{"$f":"التفويج!E21","v":"2م1"},null,{"$f":"IF(K9=\"ف1\",\"عملي\",\"\")&IF(K9=\"ف2\",\"عملي\",\"\")","v":""},"2م1","",null,null,null,null,"سا14 -  سا15","","2م1"]
[null,"سا15 -  سا16","عملي",{"$f":"التفويج!E14","v":"2م1"},"ف1",{"$f":"IF(H10=\"ف1\",\"عملي\",\"\")&IF(H10=\"ف2\",\"عملي\",\"\")","v":"عملي"},{"$f":"التفويج!E22","v":"2م1"},"ف2","عملي","2م1","ف2",null,null,null,null,"سا15 -  سا16","","2م1"]
[null,"سا16 -  سا17","عملي",{"$f":"التفويج!E15","v":0},"ف2","",{"$f":"التفويج!E23","v":0},null,"عملي",0,"ف1",null,null,null,null,"سا16 -  سا17","",0]
["الاثنين","سا08  - سا09","عملي",{"$f":"التفويج!F8","v":"1م1"},"ف1","عملي",{"$f":"التفويج!F16","v":"1م1"},"ف1","عملي","1م1","ف2",null,null,null,"الاثنين","سا08  - سا09","","1م1"]
[null,"سا09  -  سا10","عملي",{"$f":"التفويج!F9","v":"1م1"},"ف2","عملي",{"$f":"التفويج!F17","v":"1م1"},"ف2","عملي","1م1","ف1",null,null,null,null,"سا09  -  سا10","","1م1"]
[null,"سا10 -  سا11","عملي",{"$f":"التفويج!F10","v":"2م2"},"ف1","عملي",{"$f":"التفويج!F18","v":"2م2"},"ف1","عملي","2م2","ف2",null,null,null,null,"سا10 -  سا11","","2م2"]
[null,"سا11 -  سا12","عملي",{"$f":"التفويج!F11","v":"2م2"},"ف2","عملي",{"$f":"التفويج!F19","v":"2م2"},"ف2","عملي","2م2","ف1",null,null,null,null,"سا11 -  سا12","","2م2"]
[null,"سا13 -  سا14","",{"$f":"التفويج!F12","v":0},null,"",{"$f":"التفويج!F20","v":0},null,"",0,"",null,null,null,null,"سا13 -  سا14","",0]
[null,"سا14 -  سا15","عملي",{"$f":"التفويج!F13","v":0},"ف1","عملي",{"$f":"التفويج!F21","v":0},"ف1","عملي",0,"ف2",null,null,null,null,"سا14 -  سا15","",0]
[null,"سا15 -  سا16","عملي",{"$f":"التفويج!F14","v":"2م3"},"ف2","عملي",{"$f":"التفويج!F22","v":0},"ف2","عملي","2م3","ف1",null,null,null,null,"سا15 -  سا16","",0]
[null,"سا16 -  سا17",{"$f":"IF(E19=\"ف1\",\"عملي\",\"\")&IF(E19=\"ف2\",\"عملي\",\"\")","v":""},{"$f":"التفويج!F15","v":"2م3"},null,"",{"$f":"التفويج!F23","v":0},null,"","2م3","",null,null,null,null,"سا16 -  سا17","",0]
["الثلاثاء","سا08  - سا09",{"$f":"IF(E20=\"ف1\",\"عملي\",\"\")&IF(E20=\"ف2\",\"عملي\",\"\")","v":"عملي"},{"$f":"التفويج!G8","v":"4م2"},"ف1","عملي",{"$f":"التفويج!G16","v":"4م2"},"ف1","عملي","4م2","ف2",null,null,null,"الثلاثاء","سا08  - سا09","","4م2"]
[null,"سا09  -  سا10",{"$f":"IF(E21=\"ف1\",\"عملي\",\"\")&IF(E21=\"ف2\",\"عملي\",\"\")","v":"عملي"},{"$f":"التفويج!G9","v":"4م2"},"ف2","عملي",{"$f":"التفويج!G17","v":"4م2"},"ف2","عملي","4م2","ف1",null,null,null,null,"سا09  -  سا10","","4م2"]
[null,"سا10 -  سا11",{"$f":"IF(E22=\"ف1\",\"عملي\",\"\")&IF(E22=\"ف2\",\"عملي\",\"\")","v":"عملي"},{"$f":"التفويج!G10","v":"3م1"},"ف1","عملي",{"$f":"التفويج!G18","v":"3م1"},"ف1","عملي","3م1","ف2",null,null,null,null,"سا10 -  سا11","","3م1"]
[null,"سا11 -  سا12",{"$f":"IF(E23=\"ف1\",\"عملي\",\"\")&IF(E23=\"ف2\",\"عملي\",\"\")","v":"عملي"},{"$f":"التفويج!G11","v":"3م1"},"ف2","عملي",{"$f":"التفويج!G19","v":"3م1"},"ف2","عملي","3م1","ف1",null,null,null,null,"سا11 -  سا12","","3م1"]
["الأربعاء","سا08  - سا09","عملي",{"$f":"التفويج!H8","v":0},"ف1",null,{"$f":"التفويج!H16","v":0},"ف1","عملي",0,"ف2",null,null,null,"الأربعاء","سا08  - سا09","",0]
[null,"سا09  -  سا10","عملي",{"$f":"التفويج!H9","v":0},"ف2",{"$f":"IF(H25=\"ف1\",\"عملي\",\"\")&IF(H25=\"ف2\",\"عملي\",\"\")","v":"عملي"},{"$f":"التفويج!H17","v":0},"ف2","عملي",0,"ف1",null,null,null,null,"سا09  -  سا10","",0]
[null,"سا10 -  سا11","عملي",{"$f":"التفويج!H10","v":0},"ف1","عملي",{"$f":"التفويج!H18","v":0},"ف1","عملي",0,"ف2",null,null,null,null,"سا10 -  سا11","",0]
[null,"سا11 -  سا12","عملي",{"$f":"التفويج!H11","v":0},"ف2","عملي",{"$f":"التفويج!H19","v":0},"ف2","عملي",0,"ف1",null,null,null,null,"سا11 -  سا12","",0]
[null,"سا13 -  سا14",null,{"$f":"التفويج!H12","v":0},null,"",{"$f":"التفويج!H20","v":0},null,null,0,null,null,null,null,null,"سا13 -  سا14","",0]
[null,"سا14 -  سا15",{"$f":"IF(E29=\"ف1\",\"عملي\",\"\")&IF(E29=\"ف2\",\"عملي\",\"\")","v":"عملي"},{"$f":"التفويج!H13","v":0},"ف1","عملي",{"$f":"التفويج!H21","v":0},"ف1",{"$f":"IF(K29=\"ف1\",\"عملي\",\"\")&IF(K29=\"ف2\",\"عملي\",\"\")","v":"عملي"},0,"ف2",null,null,null,null,"سا14 -  سا15","",0]
[null,"سا15 -  سا16","عملي",{"$f":"التفويج!H14","v":0},"ف2","عملي",{"$f":"التفويج!H22","v":0},"ف2","عملي",0,"ف2",null,null,null,null,"سا15 -  سا16","",0]
[null,"سا16 -  سا17","",{"$f":"التفويج!H15","v":0},null,"",{"$f":"التفويج!H23","v":0},null,"",0,"",null,null,null,null,"سا16 -  سا17","",0]
["الخميس","سا08  - سا09","عملي",{"$f":"التفويج!I8","v":"1م3"},"ف1","عملي",{"$f":"التفويج!I8","v":"1م3"},"ف1","عملي","1م3","ف2",null,null,null,"الخميس","سا08  - سا09","","1م3"]
[null,"سا09  -  سا10","عملي",{"$f":"التفويج!I9","v":"1م3"},"ف2","عملي",{"$f":"التفويج!I9","v":"1م3"},"ف2","عملي","1م3","ف1",null,null,null,null,"سا09  -  سا10","","1م3"]
[null,"سا10 -  سا11","عملي",{"$f":"التفويج!I10","v":"1م2"},"ف1","عملي",{"$f":"التفويج!I18","v":"1م2"},"ف1","عملي","1م2","ف2",null,null,null,null,"سا10 -  سا11","","1م2"]
[null,"سا11 -  سا12","عملي",{"$f":"التفويج!I11","v":"1م2"},"ف2",null,{"$f":"التفويج!I19","v":"1م2"},"ف2","عملي","1م2","ف1",null,null,null,null,"سا11 -  سا12","","1م2"]
[null,"سا13 -  سا14","",{"$f":"التفويج!I12","v":0},null,{"$f":"IF(H36=\"ف1\",\"عملي\",\"\")&IF(H36=\"ف2\",\"عملي\",\"\")","v":""},{"$f":"التفويج!I20","v":0},null,"",0,"",null,null,null,null,"سا13 -  سا14","",0]
[null,"سا14 -  سا15","عملي",{"$f":"IF(F37=\"ف1\",\"عملي\",\"\")&IF(F37=\"ف2\",\"عملي\",\"\")","v":""},"ف1",{"$f":"IF(H37=\"ف1\",\"عملي\",\"\")&IF(H37=\"ف2\",\"عملي\",\"\")","v":"عملي"},{"$f":"التفويج!I21","v":0},"ف1","عملي","","ف2",null,null,null,null,"سا14 -  سا15","",0]
[null,"سا15 -  سا16","عملي",{"$f":"التفويج!I14","v":0},"ف2",{"$f":"IF(H38=\"ف1\",\"عملي\",\"\")&IF(H38=\"ف2\",\"عملي\",\"\")","v":"عملي"},{"$f":"التفويج!I22","v":0},"ف2","عملي",0,"ف1",null,null,null,null,"سا15 -  سا16","",0]
[null,"سا16 -  سا17","",{"$f":"التفويج!I15","v":0},"ف3",{"$f":"IF(H39=\"ف1\",\"عملي\",\"\")&IF(H39=\"ف2\",\"عملي\",\"\")","v":""},{"$f":"التفويج!I23","v":0},null,"",0,"",null,null,null,null,"سا16 -  سا17","",0,{"$f":"IF(H39=\"ف1\",\"ف2\",\"\")&IF(H39=\"ف2\",\"ف1\",\"\")","v":""},{"$f":"IF(V39=\"ف1\",\"عملي\",\"\")&IF(V39=\"ف2\",\"عملي\",\"\")","v":""},{"$f":"التفويج!I31","v":0}]

{"sheet":"دليل الاستخدام","index":32,"n_rows":0,"n_cols":0,"rows_kept":0,"cut":false,"hidden":false,"merged":[]}