{"text_format":"1","workbook":"xlsx","n_sheets":1,"sheets":["طباعة الجلوس "],"not_rendered":{"charts":0,"images":0,"macros":1,"external_links":4,"defined_names":8,"comments":0,"pivot_tables":0},"unopened":[],"bounds":{"document_bytes":16777216,"sheet_cells":100000,"rows_first":2000,"rows_last":500,"rows_between":2000,"halvings":0,"cell_chars":16384,"cell_head_chars":4096},"cells_cut":0,"cells_raw":0,"read":"whole","date_system":"1900"}

{"sheet":"طباعة الجلوس ","index":0,"n_rows":39,"n_cols":20,"rows_kept":39,"cut":false,"hidden":false,"merged":[[7,0,7,1],[7,2,7,4],[7,7,7,8],[7,9,7,11],[0,0,0,2],[0,3,0,4],[0,5,8,6],[0,7,0,9],[0,10,0,11],[1,0,1,2],[1,3,1,4],[1,7,1,9],[1,10,1,11],[2,0,3,4],[2,7,3,11],[4,1,4,4],[4,8,4,11],[5,3,5,4],[5,10,5,11],[10,0,10,2],[10,3,10,4],[10,5,18,6],[10,7,10,9],[10,10,10,11],[8,0,8,1],[8,2,8,4],[8,7,8,8],[8,9,8,11],[9,0,9,11],[11,0,11,2],[11,3,11,4],[11,7,11,9],[11,10,11,11],[12,0,13,4],[12,7,13,11],[14,1,14,4],[14,8,14,11],[15,3,15,4],[15,10,15,11],[17,0,17,1],[17,2,17,4],[17,7,17,8],[17,9,17,11],[20,0,20,2],[20,3,20,4],[20,5,28,6],[20,7,20,9],[20,10,20,11],[18,0,18,1],[18,2,18,4],[18,7,18,8],[18,9,18,11],[19,0,19,11],[21,0,21,2],[21,3,21,4],[21,7,21,9],[21,10,21,11],[22,0,23,4],[22,7,23,11],[24,1,24,4],[24,8,24,11],[25,3,25,4],[25,10,25,11],[27,0,27,1],[27,2,27,4],[27,7,27,8],[27,9,27,11],[30,0,30,2],[30,3,30,4],[30,5,38,6],[30,7,30,9],[30,10,30,11],[28,0,28,1],[28,2,28,4],[28,7,28,8],[28,9,28,11],[29,0,29,11],[31,0,31,2],[31,3,31,4],[31,7,31,9],[31,10,31,11],[32,0,33,4],[32,7,33,11],[38,0,38,1],[38,2,38,4],[38,7,38,8],[38,9,38,11],[34,1,34,4],[34,8,34,11],[35,3,35,4],[35,10,35,11],[37,0,37,1],[37,2,37,4],[37,7,37,8],[37,9,37,11]]}
["إدارة ",null,null,"الصف الأول",null,null,null,"إدارة ",null,null,"الصف الأول",null,null,null,null,null,null,null,"من","إلى"]
["مدرسة ",null,null,{"$f":"IFERROR(VLOOKUP($B$6,'[4]لأرقام الجلوس'!A4:D307,4,0),\"\")","v":1},null,null,null,"مدرسة ",null,null,{"$f":"IFERROR(VLOOKUP($I$6,'[4]لأرقام الجلوس'!A4:D307,4,0),\"\")","v":5},null,null,null,null,null,null,null,{"$f":"MIN('[4]لأرقام الجلوس'!$A$4:$A$307)","v":101},{"$f":"MAX('[4]لأرقام الجلوس'!$A$4:$A$307)","v":404}]
["امتحان الفصل الدراسى الأول   2022 / 2023 ",null,null,null,null,null,null,"امتحان الفصل الدراسى الأول 2022 / 2023 "]
[null,null,null,null,null,null,null,null,null,101]
["الاســـــــــم :",{"$f":"IFERROR(VLOOKUP($B$6,'[4]لأرقام الجلوس'!A4:C307,2,0),\"\")","v":"R1"},null,null,null,null,null,"الاســـــــــم :",{"$f":"IFERROR(VLOOKUP($I$6,'[4]لأرقام الجلوس'!A4:C307,2,0),\"\")","v":"R2"}]
["رقم الجلوس :",101,"لجنة رقم : ",{"$f":"IFERROR(VLOOKUP($B$6,'[4]لأرقام الجلوس'!A4:C307,3,0),\"\")","v":1},null,null,null,"رقم الجلوس :",{"$f":"IF(B6=N6,N7,\"\")","v":102},"لجنة رقم : ",{"$f":"IFERROR(VLOOKUP($I$6,'[4]لأرقام الجلوس'!A4:C307,3,0),\"\")","v":1},null,null,{"$f":"B6","v":101}]
[null,null,null,null,null,null,null,null,null,null,null,null,null,{"$f":"N6+1","v":102}]
["   لجنة النظام والمراقبة ",null,"مدير المدرسة",null,null,null,null,"   لجنة النظام والمراقبة ",null,"مدير المدرسة",null,null,null,{"$f":"N7+1","v":103}]
["   أ /",null,"أ / ",null,null,null,null,"   أ /",null,"أ / ",null,null,null,104]
[null,null,null,null,null,null,null,null,null,null,null,null,null,105]
["إدارة ",null,null,"الصف الأول",null,null,null,"إدارة ",null,null,"الصف الأول",null,null,106]
["مدرسة ",null,null,{"$f":"IFERROR(VLOOKUP($B$16,'[4]لأرقام الجلوس'!A4:D307,4,0),\"\")","v":1},null,null,null,"مدرسة ",null,null,{"$f":"IFERROR(VLOOKUP($I$16,'[4]لأرقام الجلوس'!A4:D307,4,0),\"\")","v":1},null,null,107]
["امتحان الفصل الدراسى الأول 2022 / 2023 ",null,null,null,null,null,null,"امتحان الفصل الدراسى الأول 2022 / 2023 ",null,null,null,null,null,108]
[]
["الاســـــــــم :",{"$f":"IFERROR(VLOOKUP($B$16,'[4]لأرقام الجلوس'!A4:C307,2,0),\"\")","v":"R3"},null,null,null,null,null,"الاســـــــــم :",{"$f":"IFERROR(VLOOKUP($I$16,'[4]لأرقام الجلوس'!A4:C307,2,0),\"\")","v":"R4"}]
["رقم الجلوس :",{"$f":"IF(I6=N7,N8,\"\")","v":103},"لجنة رقم : ",{"$f":"IFERROR(VLOOKUP(B16,'[4]لأرقام الجلوس'!A4:C307,3,0),\"\")","v":1},null,null,null,"رقم الجلوس :",{"$f":"IF(B16=N8,N9,\"\")","v":104},"لجنة رقم : ",{"$f":"IFERROR(VLOOKUP($I$16,'[4]لأرقام الجلوس'!A4:C307,3,0),\"\")","v":1}]
[]
["   لجنة النظام والمراقبة ",null,"مدير المدرسة",null,null,null,null,"   لجنة النظام والمراقبة ",null,"مدير المدرسة"]
["   أ /",null,"أ / ",null,null,null,null,"   أ /",null,"أ / "]
[]
["إدارة ",null,null,"الصف الأول",null,null,null,"إدارة ",null,null,"الصف الأول"]
["مدرسة ",null,null,{"$f":"IFERROR(VLOOKUP($B$26,'[4]لأرقام الجلوس'!A4:D307,4,0),\"\")","v":3},null,null,null,"مدرسة ",null,null,{"$f":"IFERROR(VLOOKUP($I$26,'[4]لأرقام الجلوس'!A4:D307,4,0),\"\")","v":1}]
["امتحان الفصل الدراسى الأول 2022 / 2023 ",null,null,null,null,null,null,"امتحان الفصل الدراسى الأول 2022 / 2023 "]
[]
["الاســـــــــم :",{"$f":"IFERROR(VLOOKUP($B$26,'[4]لأرقام الجلوس'!A4:C307,2,0),\"\")","v":"R5"},null,null,null,null,null,"الاســـــــــم :",{"$f":"IFERROR(VLOOKUP($I$26,'[4]لأرقام الجلوس'!A4:C307,2,0),\"\")","v":"R6"}]
["رقم الجلوس :",{"$f":"IF(I16=N9,N10,\"\")","v":105},"لجنة رقم : ",{"$f":"IFERROR(VLOOKUP($B$26,'[4]لأرقام الجلوس'!A4:C307,3,0),\"\")","v":1},null,null,null,"رقم الجلوس :",{"$f":"IF(B26=N10,N11,\"\")","v":106},"لجنة رقم : ",{"$f":"IFERROR(VLOOKUP($I$26,'[4]لأرقام الجلوس'!A4:C307,3,0),\"\")","v":1}]
[]
["   لجنة النظام والمراقبة ",null,"مدير المدرسة",null,null,null,null,"   لجنة النظام والمراقبة ",null,"مدير المدرسة"]
["   أ /",null,"أ / ",null,null,null,null,"   أ /",null,"أ / "]
[]
["إدارة ",null,null,"الصف الأول",null,null,null,"إدارة ",null,null,"الصف الأول"]
["مدرسة ",null,null,{"$f":"IFERROR(VLOOKUP($B$36,'[4]لأرقام الجلوس'!A4:D307,4,0),\"\")","v":4},null,null,null,"مدرسة ",null,null,{"$f":"IFERROR(VLOOKUP($I$36,'[4]لأرقام الجلوس'!A4:D307,4,0),\"\")","v":4}]
["امتحان الفصل الدراسى الأول 2022 / 2023 ",null,null,null,null,null,null,"امتحان الفصل الدراسى الأول 2022 / 2023 "]
[]
["الاســـــــــم :",{"$f":"IFERROR(VLOOKUP($B$36,'[4]لأرقام الجلوس'!A4:C307,2,0),\"\")","v":"R7"},null,null,null,null,null,"الاســـــــــم :",{"$f":"IFERROR(VLOOKUP($I$36,'[4]لأرقام الجلوس'!A4:C307,2,0),\"\")","v":"R8"}]
["رقم الجلوس :",{"$f":"IF(I26=N11,N12,\"\")","v":107},"لجنة رقم : ",{"$f":"IFERROR(VLOOKUP($B$36,'[4]لأرقام الجلوس'!A4:C307,3,0),\"\")","v":1},null,null,null,"رقم الجلوس :",{"$f":"IF(B36=N12,N13,\"\")","v":108},"لجنة رقم : ",{"$f":"IFERROR(VLOOKUP($I$36,'[4]لأرقام الجلوس'!A4:C307,3,0),\"\")","v":1}]
[]
["   لجنة النظام والمراقبة ",null,"مدير المدرسة",null,null,null,null,"   لجنة النظام والمراقبة ",null,"مدير المدرسة"]
["   أ /",null,"أ / ",null,null,null,null,"   أ /",null,"أ / "]