{"text_format":"1","workbook":"xlsx","n_sheets":7,"sheets":["مكتب ","قائمة ","1","2","3","4","5"],"not_rendered":{"charts":0,"images":1,"macros":1,"external_links":0,"defined_names":1,"comments":0,"pivot_tables":0},"unopened":[],"bounds":{"document_bytes":16777216,"sheet_cells":100000,"rows_first":2000,"rows_last":500,"rows_between":2000,"halvings":0,"cell_chars":16384,"cell_head_chars":4096},"cells_cut":0,"cells_raw":0,"read":"whole","date_system":"1900"}

{"sheet":"مكتب ","index":0,"n_rows":216,"n_cols":16,"rows_kept":216,"cut":false,"hidden":false,"merged":[[16,0,17,1],[16,2,17,2],[9,5,9,7],[14,0,15,1],[14,2,15,2],[0,1,2,3],[12,0,13,1],[9,0,9,1],[5,0,5,1],[12,2,13,2],[11,0,11,1]]}
[null,null,null,null,null,null,null,null,null,null,null,"التحقق ",null,"الاسم "]
[null,null,null,null,null,null,null,null,null,{"$f":"OFFSET($P$2,,,COUNTIF($P$2:P96,\"?*\"))","v":{"$error":"#REF!"}},null,null,{"$f":"IF(ISNUMBER(SEARCH($C$6,#REF!)),MAX($M$1:M1)+1,0)","v":0},null,{"$f":"#REF!","v":{"$error":"#REF!"}},{"$f":"IFERROR(VLOOKUP(ROWS($P$2:P2),$M:$O,3,0),\"\")","v":""}]
[null,null,null,null,null,null,null,null,null,null,null,null,{"$f":"IF(ISNUMBER(SEARCH($C$6,#REF!)),MAX($M$1:M2)+1,0)","v":0},null,{"$f":"#REF!","v":{"$error":"#REF!"}},{"$f":"IFERROR(VLOOKUP(ROWS($P$2:P3),$M:$O,3,0),\"\")","v":""}]
[null,null,null,null,null,null,null,null,null,null,null,null,{"$f":"IF(ISNUMBER(SEARCH($C$6,#REF!)),MAX($M$1:M3)+1,0)","v":0},null,{"$f":"#REF!","v":{"$error":"#REF!"}},{"$f":"IFERROR(VLOOKUP(ROWS($P$2:P4),$M:$O,3,0),\"\")","v":""}]
[null,null,null,null,null,null,null,null,null,null,null,null,{"$f":"IF(ISNUMBER(SEARCH($C$6,#REF!)),MAX($M$1:M4)+1,0)","v":0},null,{"$f":"#REF!","v":{"$error":"#REF!"}},{"$f":"IFERROR(VLOOKUP(ROWS($P$2:P5),$M:$O,3,0),\"\")","v":""}]
[]
[null,null,null,null,null,null,null,null,null,null,null,null,{"$f":"IF(ISNUMBER(SEARCH($C$6,#REF!)),MAX($M$1:M6)+1,0)","v":0},null,{"$f":"#REF!","v":{"$error":"#REF!"}},{"$f":"IFERROR(VLOOKUP(ROWS($P$2:P7),$M:$O,3,0),\"\")","v":""}]
[null,null,null,null,null,null,null,null,null,null,null,null,{"$f":"IF(ISNUMBER(SEARCH($C$6,#REF!)),MAX($M$1:M7)+1,0)","v":0},null,{"$f":"#REF!","v":{"$error":"#REF!"}},{"$f":"IFERROR(VLOOKUP(ROWS($P$2:P8),$M:$O,3,0),\"\")","v":""}]
[null,null,null,null,null,null,null,null,null,null,null,null,{"$f":"IF(ISNUMBER(SEARCH($C$6,#REF!)),MAX($M$1:M8)+1,0)","v":0},null,{"$f":"#REF!","v":{"$error":"#REF!"}},{"$f":"IFERROR(VLOOKUP(ROWS($P$2:P9),$M:$O,3,0),\"\")","v":""}]
[null,null,null,null,null,null,null,null,null,null,null,null,{"$f":"IF(ISNUMBER(SEARCH($C$6,#REF!)),MAX($M$1:M9)+1,0)","v":0},null,{"$f":"#REF!","v":{"$error":"#REF!"}},{"$f":"IFERROR(VLOOKUP(ROWS($P$2:P10),$M:$O,3,0),\"\")","v":""}]
[]
["الطالب ",null,"قاسم "]
["رقم الجوال ",null,null,null,null,null,null,null,null,null,null,null,{"$f":"IF(ISNUMBER(SEARCH($C$6,#REF!)),MAX($M$1:M12)+1,0)","v":0},null,{"$f":"#REF!","v":{"$error":"#REF!"}},{"$f":"IFERROR(VLOOKUP(ROWS($P$2:P13),$M:$O,3,0),\"\")","v":""}]
[null,null,null,null,null,null,null,null,null,null,null,null,{"$f":"IF(ISNUMBER(SEARCH($C$6,#REF!)),MAX($M$1:M13)+1,0)","v":0},null,{"$f":"#REF!","v":{"$error":"#REF!"}},{"$f":"IFERROR(VLOOKUP(ROWS($P$2:P14),$M:$O,3,0),\"\")","v":""}]
["الهوية ",null,null,null,null,null,null,null,null,null,null,null,{"$f":"IF(ISNUMBER(SEARCH($C$6,#REF!)),MAX($M$1:M14)+1,0)","v":0},null,{"$f":"#REF!","v":{"$error":"#REF!"}},{"$f":"IFERROR(VLOOKUP(ROWS($P$2:P15),$M:$O,3,0),\"\")","v":""}]
[]
["الرقم ",null,{"$f":"IFERROR(VLOOKUP(C12,'قائمة '!1:1048576,2,0),\"\")","v":4}]
[null,null,null,null,null,null,null,null,null,null,null,null,{"$f":"IF(ISNUMBER(SEARCH($C$6,#REF!)),MAX($M$1:M17)+1,0)","v":0},null,{"$f":"#REF!","v":{"$error":"#REF!"}},{"$f":"IFERROR(VLOOKUP(ROWS($P$2:P18),$M:$O,3,0),\"\")","v":""}]
[null,null,null,null,null,null,null,null,null,null,null,null,{"$f":"IF(ISNUMBER(SEARCH($C$6,#REF!)),MAX($M$1:M18)+1,0)","v":0},null,{"$f":"#REF!","v":{"$error":"#REF!"}},{"$f":"IFERROR(VLOOKUP(ROWS($P$2:P19),$M:$O,3,0),\"\")","v":""}]
[null,null,null,null,null,null,null,null,null,null,null,null,{"$f":"IF(ISNUMBER(SEARCH($C$6,#REF!)),MAX($M$1:M19)+1,0)","v":0},null,{"$f":"#REF!","v":{"$error":"#REF!"}},{"$f":"IFERROR(VLOOKUP(ROWS($P$2:P20),$M:$O,3,0),\"\")","v":""}]
[null,null,null,null,null,null,null,null,null,null,null,null,{"$f":"IF(ISNUMBER(SEARCH($C$6,#REF!)),MAX($M$1:M20)+1,0)","v":0},null,{"$f":"#REF!","v":{"$error":"#REF!"}},{"$f":"IFERROR(VLOOKUP(ROWS($P$2:P21),$M:$O,3,0),\"\")","v":""}]
[null,null,null,null,null,null,null,null,null,null,null,null,{"$f":"IF(ISNUMBER(SEARCH($C$6,#REF!)),MAX($M$1:M21)+1,0)","v":0},null,{"$f":"#REF!","v":{"$error":"#REF!"}},{"$f":"IFERROR(VLOOKUP(ROWS($P$2:P22),$M:$O,3,0),\"\")","v":""}]
[null,null,null,null,null,null,null,null,null,null,null,null,{"$f":"IF(ISNUMBER(SEARCH($C$6,#REF!)),MAX($M$1:M22)+1,0)","v":0},null,{"$f":"#REF!","v":{"$error":"#REF!"}},{"$f":"IFERROR(VLOOKUP(ROWS($P$2:P23),$M:$O,3,0),\"\")","v":""}]
[null,null,null,null,null,null,null,null,null,null,null,null,{"$f":"IF(ISNUMBER(SEARCH($C$6,#REF!)),MAX($M$1:M23)+1,0)","v":0},null,{"$f":"#REF!","v":{"$error":"#REF!"}},{"$f":"IFERROR(VLOOKUP(ROWS($P$2:P24),$M:$O,3,0),\"\")","v":""}]
[null,null,null,null,null,null,null,null,null,null,null,null,{"$f":"IF(ISNUMBER(SEARCH($C$6,#REF!)),MAX($M$1:M24)+1,0)","v":0},null,{"$f":"#REF!","v":{"$error":"#REF!"}},{"$f":"IFERROR(VLOOKUP(ROWS($P$2:P25),$M:$O,3,0),\"\")","v":""}]
[null,null,null,null,null,null,null,null,null,null,null,null,{"$f":"IF(ISNUMBER(SEARCH($C$6,#REF!)),MAX($M$1:M25)+1,0)","v":0},null,{"$f":"#REF!","v":{"$error":"#REF!"}},{"$f":"IFERROR(VLOOKUP(ROWS($P$2:P26),$M:$O,3,0),\"\")","v":""}]
[null,null,null,null,null,null,null,null,null,null,null,null,{"$f":"IF(ISNUMBER(SEARCH($C$6,#REF!)),MAX($M$1:M26)+1,0)","v":0},null,{"$f":"#REF!","v":{"$error":"#REF!"}},{"$f":"IFERROR(VLOOKUP(ROWS($P$2:P27),$M:$O,3,0),\"\")","v":""}]
[null,null,null,null,null,null,null,null,null,null,null,null,{"$f":"IF(ISNUMBER(SEARCH($C$6,#REF!)),MAX($M$1:M27)+1,0)","v":0},null,{"$f":"#REF!","v":{"$error":"#REF!"}},{"$f":"IFERROR(VLOOKUP(ROWS($P$2:P28),$M:$O,3,0),\"\")","v":""}]
[null,null,null,null,null,null,null,null,null,null,null,null,{"$f":"IF(ISNUMBER(SEARCH($C$6,#REF!)),MAX($M$1:M28)+1,0)","v":0},null,{"$f":"#REF!","v":{"$error":"#REF!"}},{"$f":"IFERROR(VLOOKUP(ROWS($P$2:P29),$M:$O,3,0),\"\")","v":""}]
[null,null,null,null,null,null,null,null,null,null,null,null,{"$f":"IF(ISNUMBER(SEARCH($C$6,#REF!)),MAX($M$1:M29)+1,0)","v":0},null,{"$f":"#REF!","v":{"$error":"#REF!"}},{"$f":"IFERROR(VLOOKUP(ROWS($P$2:P30),$M:$O,3,0),\"\")","v":""}]
[null,null,null,null,null,null,null,null,null,null,null,null,{"$f":"IF(ISNUMBER(SEARCH($C$6,#REF!)),MAX($M$1:M30)+1,0)","v":0},null,{"$f":"#REF!","v":{"$error":"#REF!"}},{"$f":"IFERROR(VLOOKUP(ROWS($P$2:P31),$M:$O,3,0),\"\")","v":""}]
[null,null,null,null,null,null,null,null,null,null,null,null,{"$f":"IF(ISNUMBER(SEARCH($C$6,#REF!)),MAX($M$1:M31)+1,0)","v":0},null,{"$f":"#REF!","v":{"$error":"#REF!"}},{"$f":"IFERROR(VLOOKUP(ROWS($P$2:P32),$M:$O,3,0),\"\")","v":""}]
[null,null,null,null,null,null,null,null,null,null,null,null,{"$f":"IF(ISNUMBER(SEARCH($C$6,#REF!)),MAX($M$1:M32)+1,0)","v":0},null,{"$f":"#REF!","v":{"$error":"#REF!"}},{"$f":"IFERROR(VLOOKUP(ROWS($P$2:P33),$M:$O,3,0),\"\")","v":""}]
[null,null,null,null,null,null,null,null,null,null,null,null,{"$f":"IF(ISNUMBER(SEARCH($C$6,#REF!)),MAX($M$1:M33)+1,0)","v":0},null,{"$f":"#REF!","v":{"$error":"#REF!"}},{"$f":"IFERROR(VLOOKUP(ROWS($P$2:P34),$M:$O,3,0),\"\")","v":""}]
[null,null,null,null,null,null,null,null,null,null,null,null,{"$f":"IF(ISNUMBER(SEARCH($C$6,#REF!)),MAX($M$1:M34)+1,0)","v":0},null,{"$f":"#REF!","v":{"$error":"#REF!"}},{"$f":"IFERROR(VLOOKUP(ROWS($P$2:P35),$M:$O,3,0),\"\")","v":""}]
[null,null,null,null,null,null,null,null,null,null,null,null,{"$f":"IF(ISNUMBER(SEARCH($C$6,#REF!)),MAX($M$1:M35)+1,0)","v":0},null,{"$f":"#REF!","v":{"$error":"#REF!"}},{"$f":"IFERROR(VLOOKUP(ROWS($P$2:P36),$M:$O,3,0),\"\")","v":""}]
[null,null,null,null,null,null,null,null,null,null,null,null,{"$f":"IF(ISNUMBER(SEARCH($C$6,#REF!)),MAX($M$1:M36)+1,0)","v":0},null,{"$f":"#REF!","v":{"$error":"#REF!"}},{"$f":"IFERROR(VLOOKUP(ROWS($P$2:P37),$M:$O,3,0),\"\")","v":""}]
[null,null,null,null,null,null,null,null,null,null,null,null,{"$f":"IF(ISNUMBER(SEARCH($C$6,#REF!)),MAX($M$1:M37)+1,0)","v":0},null,{"$f":"#REF!","v":{"$error":"#REF!"}},{"$f":"IFERROR(VLOOKUP(ROWS($P$2:P38),$M:$O,3,0),\"\")","v":""}]
[null,null,null,null,null,null,null,null,null,null,null,null,{"$f":"IF(ISNUMBER(SEARCH($C$6,#REF!)),MAX($M$1:M38)+1,0)","v":0},null,{"$f":"#REF!","v":{"$error":"#REF!"}},{"$f":"IFERROR(VLOOKUP(ROWS($P$2:P39),$M:$O,3,0),\"\")","v":""}]
[null,null,null,null,null,null,null,null,null,null,null,null,{"$f":"IF(ISNUMBER(SEARCH($C$6,#REF!)),MAX($M$1:M39)+1,0)","v":0},null,{"$f":"#REF!","v":{"$error":"#REF!"}},{"$f":"IFERROR(VLOOKUP(ROWS($P$2:P40),$M:$O,3,0),\"\")","v":""}]
[null,null,null,null,null,null,null,null,null,null,null,null,{"$f":"IF(ISNUMBER(SEARCH($C$6,#REF!)),MAX($M$1:M40)+1,0)","v":0},null,{"$f":"#REF!","v":{"$error":"#REF!"}},{"$f":"IFERROR(VLOOKUP(ROWS($P$2:P41),$M:$O,3,0),\"\")","v":""}]
[null,null,null,null,null,null,null,null,null,null,null,null,{"$f":"IF(ISNUMBER(SEARCH($C$6,#REF!)),MAX($M$1:M41)+1,0)","v":0},null,{"$f":"#REF!","v":{"$error":"#REF!"}},{"$f":"IFERROR(VLOOKUP(ROWS($P$2:P42),$M:$O,3,0),\"\")","v":""}]
[null,null,null,null,null,null,null,null,null,null,null,null,{"$f":"IF(ISNUMBER(SEARCH($C$6,#REF!)),MAX($M$1:M42)+1,0)","v":0},null,{"$f":"#REF!","v":{"$error":"#REF!"}},{"$f":"IFERROR(VLOOKUP(ROWS($P$2:P43),$M:$O,3,0),\"\")","v":""}]
[null,null,null,null,null,null,null,null,null,null,null,null,{"$f":"IF(ISNUMBER(SEARCH($C$6,#REF!)),MAX($M$1:M43)+1,0)","v":0},null,{"$f":"#REF!","v":{"$error":"#REF!"}},{"$f":"IFERROR(VLOOKUP(ROWS($P$2:P44),$M:$O,3,0),\"\")","v":""}]
[null,null,null,null,null,null,null,null,null,null,null,null,{"$f":"IF(ISNUMBER(SEARCH($C$6,#REF!)),MAX($M$1:M44)+1,0)","v":0},null,{"$f":"#REF!","v":{"$error":"#REF!"}},{"$f":"IFERROR(VLOOKUP(ROWS($P$2:P45),$M:$O,3,0),\"\")","v":""}]
[null,null,null,null,null,null,null,null,null,null,null,null,{"$f":"IF(ISNUMBER(SEARCH($C$6,#REF!)),MAX($M$1:M45)+1,0)","v":0},null,{"$f":"#REF!","v":{"$error":"#REF!"}},{"$f":"IFERROR(VLOOKUP(ROWS($P$2:P46),$M:$O,3,0),\"\")","v":""}]
[null,null,null,null,null,null,null,null,null,null,null,null,{"$f":"IF(ISNUMBER(SEARCH($C$6,#REF!)),MAX($M$1:M46)+1,0)","v":0},null,{"$f":"#REF!","v":{"$error":"#REF!"}},{"$f":"IFERROR(VLOOKUP(ROWS($P$2:P47),$M:$O,3,0),\"\")","v":""}]
[null,null,null,null,null,null,null,null,null,null,null,null,{"$f":"IF(ISNUMBER(SEARCH($C$6,#REF!)),MAX($M$1:M47)+1,0)","v":0},null,{"$f":"#REF!","v":{"$error":"#REF!"}},{"$f":"IFERROR(VLOOKUP(ROWS($P$2:P48),$M:$O,3,0),\"\")","v":""}]
[null,null,null,null,null,null,null,null,null,null,null,null,{"$f":"IF(ISNUMBER(SEARCH($C$6,#REF!)),MAX($M$1:M48)+1,0)","v":0},null,{"$f":"#REF!","v":{"$error":"#REF!"}},{"$f":"IFERROR(VLOOKUP(ROWS($P$2:P49),$M:$O,3,0),\"\")","v":""}]
[null,null,null,null,null,null,null,null,null,null,null,null,{"$f":"IF(ISNUMBER(SEARCH($C$6,#REF!)),MAX($M$1:M49)+1,0)","v":0},null,{"$f":"#REF!","v":{"$error":"#REF!"}},{"$f":"IFERROR(VLOOKUP(ROWS($P$2:P50),$M:$O,3,0),\"\")","v":""}]
[null,null,null,null,null,null,null,null,null,null,null,null,{"$f":"IF(ISNUMBER(SEARCH($C$6,#REF!)),MAX($M$1:M50)+1,0)","v":0},null,{"$f":"#REF!","v":{"$error":"#REF!"}},{"$f":"IFERROR(VLOOKUP(ROWS($P$2:P51),$M:$O,3,0),\"\")","v":""}]
[null,null,null,null,null,null,null,null,null,null,null,null,{"$f":"IF(ISNUMBER(SEARCH($C$6,#REF!)),MAX($M$1:M51)+1,0)","v":0},null,{"$f":"#REF!","v":{"$error":"#REF!"}},{"$f":"IFERROR(VLOOKUP(ROWS($P$2:P52),$M:$O,3,0),\"\")","v":""}]
[null,null,null,null,null,null,null,null,null,null,null,null,{"$f":"IF(ISNUMBER(SEARCH($C$6,#REF!)),MAX($M$1:M52)+1,0)","v":0},null,{"$f":"#REF!","v":{"$error":"#REF!"}},{"$f":"IFERROR(VLOOKUP(ROWS($P$2:P53),$M:$O,3,0),\"\")","v":""}]
[null,null,null,null,null,null,null,null,null,null,null,null,{"$f":"IF(ISNUMBER(SEARCH($C$6,#REF!)),MAX($M$1:M53)+1,0)","v":0},null,{"$f":"#REF!","v":{"$error":"#REF!"}},{"$f":"IFERROR(VLOOKUP(ROWS($P$2:P54),$M:$O,3,0),\"\")","v":""}]
[null,null,null,null,null,null,null,null,null,null,null,null,{"$f":"IF(ISNUMBER(SEARCH($C$6,#REF!)),MAX($M$1:M54)+1,0)","v":0},null,{"$f":"#REF!","v":{"$error":"#REF!"}},{"$f":"IFERROR(VLOOKUP(ROWS($P$2:P55),$M:$O,3,0),\"\")","v":""}]
[null,null,null,null,null,null,null,null,null,null,null,null,{"$f":"IF(ISNUMBER(SEARCH($C$6,#REF!)),MAX($M$1:M55)+1,0)","v":0},null,{"$f":"#REF!","v":{"$error":"#REF!"}},{"$f":"IFERROR(VLOOKUP(ROWS($P$2:P56),$M:$O,3,0),\"\")","v":""}]
[null,null,null,null,null,null,null,null,null,null,null,null,{"$f":"IF(ISNUMBER(SEARCH($C$6,#REF!)),MAX($M$1:M56)+1,0)","v":0},null,{"$f":"#REF!","v":{"$error":"#REF!"}},{"$f":"IFERROR(VLOOKUP(ROWS($P$2:P57),$M:$O,3,0),\"\")","v":""}]
[null,null,null,null,null,null,null,null,null,null,null,null,{"$f":"IF(ISNUMBER(SEARCH($C$6,#REF!)),MAX($M$1:M57)+1,0)","v":0},null,{"$f":"#REF!","v":{"$error":"#REF!"}},{"$f":"IFERROR(VLOOKUP(ROWS($P$2:P58),$M:$O,3,0),\"\")","v":""}]
[null,null,null,null,null,null,null,null,null,null,null,null,{"$f":"IF(ISNUMBER(SEARCH($C$6,#REF!)),MAX($M$1:M58)+1,0)","v":0},null,{"$f":"#REF!","v":{"$error":"#REF!"}},{"$f":"IFERROR(VLOOKUP(ROWS($P$2:P59),$M:$O,3,0),\"\")","v":""}]
[null,null,null,null,null,null,null,null,null,null,null,null,{"$f":"IF(ISNUMBER(SEARCH($C$6,#REF!)),MAX($M$1:M59)+1,0)","v":0},null,{"$f":"#REF!","v":{"$error":"#REF!"}},{"$f":"IFERROR(VLOOKUP(ROWS($P$2:P60),$M:$O,3,0),\"\")","v":""}]
[null,null,null,null,null,null,null,null,null,null,null,null,{"$f":"IF(ISNUMBER(SEARCH($C$6,#REF!)),MAX($M$1:M60)+1,0)","v":0},null,{"$f":"#REF!","v":{"$error":"#REF!"}},{"$f":"IFERROR(VLOOKUP(ROWS($P$2:P61),$M:$O,3,0),\"\")","v":""}]
[null,null,null,null,null,null,null,null,null,null,null,null,{"$f":"IF(ISNUMBER(SEARCH($C$6,#REF!)),MAX($M$1:M61)+1,0)","v":0},null,{"$f":"#REF!","v":{"$error":"#REF!"}},{"$f":"IFERROR(VLOOKUP(ROWS($P$2:P62),$M:$O,3,0),\"\")","v":""}]
[null,null,null,null,null,null,null,null,null,null,null,null,{"$f":"IF(ISNUMBER(SEARCH($C$6,#REF!)),MAX($M$1:M62)+1,0)","v":0},null,{"$f":"#REF!","v":{"$error":"#REF!"}},{"$f":"IFERROR(VLOOKUP(ROWS($P$2:P63),$M:$O,3,0),\"\")","v":""}]
[null,null,null,null,null,null,null,null,null,null,null,null,{"$f":"IF(ISNUMBER(SEARCH($C$6,#REF!)),MAX($M$1:M63)+1,0)","v":0},null,{"$f":"#REF!","v":{"$error":"#REF!"}},{"$f":"IFERROR(VLOOKUP(ROWS($P$2:P64),$M:$O,3,0),\"\")","v":""}]
[null,null,null,null,null,null,null,null,null,null,null,null,{"$f":"IF(ISNUMBER(SEARCH($C$6,#REF!)),MAX($M$1:M64)+1,0)","v":0},null,{"$f":"#REF!","v":{"$error":"#REF!"}},{"$f":"IFERROR(VLOOKUP(ROWS($P$2:P65),$M:$O,3,0),\"\")","v":""}]
[null,null,null,null,null,null,null,null,null,null,null,null,{"$f":"IF(ISNUMBER(SEARCH($C$6,#REF!)),MAX($M$1:M65)+1,0)","v":0},null,{"$f":"#REF!","v":{"$error":"#REF!"}},{"$f":"IFERROR(VLOOKUP(ROWS($P$2:P66),$M:$O,3,0),\"\")","v":""}]
[null,null,null,null,null,null,null,null,null,null,null,null,{"$f":"IF(ISNUMBER(SEARCH($C$6,#REF!)),MAX($M$1:M66)+1,0)","v":0},null,{"$f":"#REF!","v":{"$error":"#REF!"}},{"$f":"IFERROR(VLOOKUP(ROWS($P$2:P67),$M:$O,3,0),\"\")","v":""}]
[null,null,null,null,null,null,null,null,null,null,null,null,{"$f":"IF(ISNUMBER(SEARCH($C$6,#REF!)),MAX($M$1:M67)+1,0)","v":0},null,{"$f":"#REF!","v":{"$error":"#REF!"}},{"$f":"IFERROR(VLOOKUP(ROWS($P$2:P68),$M:$O,3,0),\"\")","v":""}]
[null,null,null,null,null,null,null,null,null,null,null,null,{"$f":"IF(ISNUMBER(SEARCH($C$6,#REF!)),MAX($M$1:M68)+1,0)","v":0},null,{"$f":"#REF!","v":{"$error":"#REF!"}},{"$f":"IFERROR(VLOOKUP(ROWS($P$2:P69),$M:$O,3,0),\"\")","v":""}]
[null,null,null,null,null,null,null,null,null,null,null,null,{"$f":"IF(ISNUMBER(SEARCH($C$6,#REF!)),MAX($M$1:M69)+1,0)","v":0},null,{"$f":"#REF!","v":{"$error":"#REF!"}},{"$f":"IFERROR(VLOOKUP(ROWS($P$2:P70),$M:$O,3,0),\"\")","v":""}]
[null,null,null,null,null,null,null,null,null,null,null,null,{"$f":"IF(ISNUMBER(SEARCH($C$6,#REF!)),MAX($M$1:M70)+1,0)","v":0},null,{"$f":"#REF!","v":{"$error":"#REF!"}},{"$f":"IFERROR(VLOOKUP(ROWS($P$2:P71),$M:$O,3,0),\"\")","v":""}]
[null,null,null,null,null,null,null,null,null,null,null,null,{"$f":"IF(ISNUMBER(SEARCH($C$6,#REF!)),MAX($M$1:M71)+1,0)","v":0},null,{"$f":"#REF!","v":{"$error":"#REF!"}},{"$f":"IFERROR(VLOOKUP(ROWS($P$2:P72),$M:$O,3,0),\"\")","v":""}]
[null,null,null,null,null,null,null,null,null,null,null,null,{"$f":"IF(ISNUMBER(SEARCH($C$6,#REF!)),MAX($M$1:M72)+1,0)","v":0},null,{"$f":"#REF!","v":{"$error":"#REF!"}},{"$f":"IFERROR(VLOOKUP(ROWS($P$2:P73),$M:$O,3,0),\"\")","v":""}]
[null,null,null,null,null,null,null,null,null,null,null,null,{"$f":"IF(ISNUMBER(SEARCH($C$6,#REF!)),MAX($M$1:M73)+1,0)","v":0},null,{"$f":"#REF!","v":{"$error":"#REF!"}},{"$f":"IFERROR(VLOOKUP(ROWS($P$2:P74),$M:$O,3,0),\"\")","v":""}]
[null,null,null,null,null,null,null,null,null,null,null,null,{"$f":"IF(ISNUMBER(SEARCH($C$6,#REF!)),MAX($M$1:M74)+1,0)","v":0},null,{"$f":"#REF!","v":{"$error":"#REF!"}},{"$f":"IFERROR(VLOOKUP(ROWS($P$2:P75),$M:$O,3,0),\"\")","v":""}]
[null,null,null,null,null,null,null,null,null,null,null,null,{"$f":"IF(ISNUMBER(SEARCH($C$6,#REF!)),MAX($M$1:M75)+1,0)","v":0},null,{"$f":"#REF!","v":{"$error":"#REF!"}},{"$f":"IFERROR(VLOOKUP(ROWS($P$2:P76),$M:$O,3,0),\"\")","v":""}]
[null,null,null,null,null,null,null,null,null,null,null,null,{"$f":"IF(ISNUMBER(SEARCH($C$6,#REF!)),MAX($M$1:M76)+1,0)","v":0},null,{"$f":"#REF!","v":{"$error":"#REF!"}},{"$f":"IFERROR(VLOOKUP(ROWS($P$2:P77),$M:$O,3,0),\"\")","v":""}]
[null,null,null,null,null,null,null,null,null,null,null,null,{"$f":"IF(ISNUMBER(SEARCH($C$6,#REF!)),MAX($M$1:M77)+1,0)","v":0},null,{"$f":"#REF!","v":{"$error":"#REF!"}},{"$f":"IFERROR(VLOOKUP(ROWS($P$2:P78),$M:$O,3,0),\"\")","v":""}]
[null,null,null,null,null,null,null,null,null,null,null,null,{"$f":"IF(ISNUMBER(SEARCH($C$6,#REF!)),MAX($M$1:M78)+1,0)","v":0},null,{"$f":"#REF!","v":{"$error":"#REF!"}},{"$f":"IFERROR(VLOOKUP(ROWS($P$2:P79),$M:$O,3,0),\"\")","v":""}]
[null,null,null,null,null,null,null,null,null,null,null,null,{"$f":"IF(ISNUMBER(SEARCH($C$6,#REF!)),MAX($M$1:M79)+1,0)","v":0},null,{"$f":"#REF!","v":{"$error":"#REF!"}},{"$f":"IFERROR(VLOOKUP(ROWS($P$2:P80),$M:$O,3,0),\"\")","v":""}]
[null,null,null,null,null,null,null,null,null,null,null,null,{"$f":"IF(ISNUMBER(SEARCH($C$6,#REF!)),MAX($M$1:M80)+1,0)","v":0},null,{"$f":"#REF!","v":{"$error":"#REF!"}},{"$f":"IFERROR(VLOOKUP(ROWS($P$2:P81),$M:$O,3,0),\"\")","v":""}]
[null,null,null,null,null,null,null,null,null,null,null,null,{"$f":"IF(ISNUMBER(SEARCH($C$6,#REF!)),MAX($M$1:M81)+1,0)","v":0},null,{"$f":"#REF!","v":{"$error":"#REF!"}},{"$f":"IFERROR(VLOOKUP(ROWS($P$2:P82),$M:$O,3,0),\"\")","v":""}]
[null,null,null,null,null,null,null,null,null,null,null,null,{"$f":"IF(ISNUMBER(SEARCH($C$6,#REF!)),MAX($M$1:M82)+1,0)","v":0},null,{"$f":"#REF!","v":{"$error":"#REF!"}},{"$f":"IFERROR(VLOOKUP(ROWS($P$2:P83),$M:$O,3,0),\"\")","v":""}]
[null,null,null,null,null,null,null,null,null,null,null,null,{"$f":"IF(ISNUMBER(SEARCH($C$6,#REF!)),MAX($M$1:M83)+1,0)","v":0},null,{"$f":"#REF!","v":{"$error":"#REF!"}},{"$f":"IFERROR(VLOOKUP(ROWS($P$2:P84),$M:$O,3,0),\"\")","v":""}]
[null,null,null,null,null,null,null,null,null,null,null,null,{"$f":"IF(ISNUMBER(SEARCH($C$6,#REF!)),MAX($M$1:M84)+1,0)","v":0},null,{"$f":"#REF!","v":{"$error":"#REF!"}},{"$f":"IFERROR(VLOOKUP(ROWS($P$2:P85),$M:$O,3,0),\"\")","v":""}]
[null,null,null,null,null,null,null,null,null,null,null,null,{"$f":"IF(ISNUMBER(SEARCH($C$6,#REF!)),MAX($M$1:M85)+1,0)","v":0},null,{"$f":"#REF!","v":{"$error":"#REF!"}},{"$f":"IFERROR(VLOOKUP(ROWS($P$2:P86),$M:$O,3,0),\"\")","v":""}]
[null,null,null,null,null,null,null,null,null,null,null,null,{"$f":"IF(ISNUMBER(SEARCH($C$6,#REF!)),MAX($M$1:M86)+1,0)","v":0},null,{"$f":"#REF!","v":{"$error":"#REF!"}},{"$f":"IFERROR(VLOOKUP(ROWS($P$2:P87),$M:$O,3,0),\"\")","v":""}]
[null,null,null,null,null,null,null,null,null,null,null,null,{"$f":"IF(ISNUMBER(SEARCH($C$6,#REF!)),MAX($M$1:M87)+1,0)","v":0},null,{"$f":"#REF!","v":{"$error":"#REF!"}},{"$f":"IFERROR(VLOOKUP(ROWS($P$2:P88),$M:$O,3,0),\"\")","v":""}]
[null,null,null,null,null,null,null,null,null,null,null,null,{"$f":"IF(ISNUMBER(SEARCH($C$6,#REF!)),MAX($M$1:M88)+1,0)","v":0},null,{"$f":"#REF!","v":{"$error":"#REF!"}},{"$f":"IFERROR(VLOOKUP(ROWS($P$2:P89),$M:$O,3,0),\"\")","v":""}]
[null,null,null,null,null,null,null,null,null,null,null,null,{"$f":"IF(ISNUMBER(SEARCH($C$6,#REF!)),MAX($M$1:M89)+1,0)","v":0},null,{"$f":"#REF!","v":{"$error":"#REF!"}},{"$f":"IFERROR(VLOOKUP(ROWS($P$2:P90),$M:$O,3,0),\"\")","v":""}]
[null,null,null,null,null,null,null,null,null,null,null,null,{"$f":"IF(ISNUMBER(SEARCH($C$6,#REF!)),MAX($M$1:M90)+1,0)","v":0},null,{"$f":"#REF!","v":{"$error":"#REF!"}},{"$f":"IFERROR(VLOOKUP(ROWS($P$2:P91),$M:$O,3,0),\"\")","v":""}]
[null,null,null,null,null,null,null,null,null,null,null,null,{"$f":"IF(ISNUMBER(SEARCH($C$6,#REF!)),MAX($M$1:M91)+1,0)","v":0},null,{"$f":"#REF!","v":{"$error":"#REF!"}},{"$f":"IFERROR(VLOOKUP(ROWS($P$2:P92),$M:$O,3,0),\"\")","v":""}]
[null,null,null,null,null,null,null,null,null,null,null,null,{"$f":"IF(ISNUMBER(SEARCH($C$6,#REF!)),MAX($M$1:M92)+1,0)","v":0},null,{"$f":"#REF!","v":{"$error":"#REF!"}},{"$f":"IFERROR(VLOOKUP(ROWS($P$2:P93),$M:$O,3,0),\"\")","v":""}]
[null,null,null,null,null,null,null,null,null,null,null,null,{"$f":"IF(ISNUMBER(SEARCH($C$6,#REF!)),MAX($M$1:M93)+1,0)","v":0},null,{"$f":"#REF!","v":{"$error":"#REF!"}},{"$f":"IFERROR(VLOOKUP(ROWS($P$2:P94),$M:$O,3,0),\"\")","v":""}]
[null,null,null,null,null,null,null,null,null,null,null,null,{"$f":"IF(ISNUMBER(SEARCH($C$6,#REF!)),MAX($M$1:M94)+1,0)","v":0},null,{"$f":"#REF!","v":{"$error":"#REF!"}},{"$f":"IFERROR(VLOOKUP(ROWS($P$2:P95),$M:$O,3,0),\"\")","v":""}]
[null,null,null,null,null,null,null,null,null,null,null,null,{"$f":"IF(ISNUMBER(SEARCH($C$6,#REF!)),MAX($M$1:M95)+1,0)","v":0},null,{"$f":"#REF!","v":{"$error":"#REF!"}},{"$f":"IFERROR(VLOOKUP(ROWS($P$2:P96),$M:$O,3,0),\"\")","v":""}]
[null,null,null,null,null,null,null,null,null,null,null,null,{"$f":"IF(ISNUMBER(SEARCH($C$6,#REF!)),MAX($M$1:M96)+1,0)","v":0},null,{"$f":"#REF!","v":{"$error":"#REF!"}},{"$f":"IFERROR(VLOOKUP(ROWS($P$2:P97),$M:$O,3,0),\"\")","v":""}]
[null,null,null,null,null,null,null,null,null,null,null,null,{"$f":"IF(ISNUMBER(SEARCH($C$6,#REF!)),MAX($M$1:M97)+1,0)","v":0},null,{"$f":"#REF!","v":{"$error":"#REF!"}},{"$f":"IFERROR(VLOOKUP(ROWS($P$2:P98),$M:$O,3,0),\"\")","v":""}]
[null,null,null,null,null,null,null,null,null,null,null,null,{"$f":"IF(ISNUMBER(SEARCH($C$6,#REF!)),MAX($M$1:M98)+1,0)","v":0},null,{"$f":"#REF!","v":{"$error":"#REF!"}},{"$f":"IFERROR(VLOOKUP(ROWS($P$2:P99),$M:$O,3,0),\"\")","v":""}]
[null,null,null,null,null,null,null,null,null,null,null,null,{"$f":"IF(ISNUMBER(SEARCH($C$6,#REF!)),MAX($M$1:M99)+1,0)","v":0},null,{"$f":"#REF!","v":{"$error":"#REF!"}},{"$f":"IFERROR(VLOOKUP(ROWS($P$2:P100),$M:$O,3,0),\"\")","v":""}]
[null,null,null,null,null,null,null,null,null,null,null,null,{"$f":"IF(ISNUMBER(SEARCH($C$6,#REF!)),MAX($M$1:M100)+1,0)","v":0},null,{"$f":"#REF!","v":{"$error":"#REF!"}},{"$f":"IFERROR(VLOOKUP(ROWS($P$2:P101),$M:$O,3,0),\"\")","v":""}]
[null,null,null,null,null,null,null,null,null,null,null,null,{"$f":"IF(ISNUMBER(SEARCH($C$6,#REF!)),MAX($M$1:M101)+1,0)","v":0},null,{"$f":"#REF!","v":{"$error":"#REF!"}},{"$f":"IFERROR(VLOOKUP(ROWS($P$2:P102),$M:$O,3,0),\"\")","v":""}]
[null,null,null,null,null,null,null,null,null,null,null,null,{"$f":"IF(ISNUMBER(SEARCH($C$6,#REF!)),MAX($M$1:M102)+1,0)","v":0},null,{"$f":"#REF!","v":{"$error":"#REF!"}},{"$f":"IFERROR(VLOOKUP(ROWS($P$2:P103),$M:$O,3,0),\"\")","v":""}]
[null,null,null,null,null,null,null,null,null,null,null,null,{"$f":"IF(ISNUMBER(SEARCH($C$6,#REF!)),MAX($M$1:M103)+1,0)","v":0},null,{"$f":"#REF!","v":{"$error":"#REF!"}},{"$f":"IFERROR(VLOOKUP(ROWS($P$2:P104),$M:$O,3,0),\"\")","v":""}]
[null,null,null,null,null,null,null,null,null,null,null,null,{"$f":"IF(ISNUMBER(SEARCH($C$6,#REF!)),MAX($M$1:M104)+1,0)","v":0},null,{"$f":"#REF!","v":{"$error":"#REF!"}},{"$f":"IFERROR(VLOOKUP(ROWS($P$2:P105),$M:$O,3,0),\"\")","v":""}]
[null,null,null,null,null,null,null,null,null,null,null,null,{"$f":"IF(ISNUMBER(SEARCH($C$6,#REF!)),MAX($M$1:M105)+1,0)","v":0},null,{"$f":"#REF!","v":{"$error":"#REF!"}},{"$f":"IFERROR(VLOOKUP(ROWS($P$2:P106),$M:$O,3,0),\"\")","v":""}]
[null,null,null,null,null,null,null,null,null,null,null,null,{"$f":"IF(ISNUMBER(SEARCH($C$6,#REF!)),MAX($M$1:M106)+1,0)","v":0},null,{"$f":"#REF!","v":{"$error":"#REF!"}},{"$f":"IFERROR(VLOOKUP(ROWS($P$2:P107),$M:$O,3,0),\"\")","v":""}]
[null,null,null,null,null,null,null,null,null,null,null,null,{"$f":"IF(ISNUMBER(SEARCH($C$6,#REF!)),MAX($M$1:M107)+1,0)","v":0},null,{"$f":"#REF!","v":{"$error":"#REF!"}},{"$f":"IFERROR(VLOOKUP(ROWS($P$2:P108),$M:$O,3,0),\"\")","v":""}]
[null,null,null,null,null,null,null,null,null,null,null,null,{"$f":"IF(ISNUMBER(SEARCH($C$6,#REF!)),MAX($M$1:M108)+1,0)","v":0},null,{"$f":"#REF!","v":{"$error":"#REF!"}},{"$f":"IFERROR(VLOOKUP(ROWS($P$2:P109),$M:$O,3,0),\"\")","v":""}]
[null,null,null,null,null,null,null,null,null,null,null,null,{"$f":"IF(ISNUMBER(SEARCH($C$6,#REF!)),MAX($M$1:M109)+1,0)","v":0},null,{"$f":"#REF!","v":{"$error":"#REF!"}},{"$f":"IFERROR(VLOOKUP(ROWS($P$2:P110),$M:$O,3,0),\"\")","v":""}]
[null,null,null,null,null,null,null,null,null,null,null,null,{"$f":"IF(ISNUMBER(SEARCH($C$6,#REF!)),MAX($M$1:M110)+1,0)","v":0},null,{"$f":"#REF!","v":{"$error":"#REF!"}},{"$f":"IFERROR(VLOOKUP(ROWS($P$2:P111),$M:$O,3,0),\"\")","v":""}]
[null,null,null,null,null,null,null,null,null,null,null,null,{"$f":"IF(ISNUMBER(SEARCH($C$6,#REF!)),MAX($M$1:M111)+1,0)","v":0},null,{"$f":"#REF!","v":{"$error":"#REF!"}},{"$f":"IFERROR(VLOOKUP(ROWS($P$2:P112),$M:$O,3,0),\"\")","v":""}]
[null,null,null,null,null,null,null,null,null,null,null,null,{"$f":"IF(ISNUMBER(SEARCH($C$6,#REF!)),MAX($M$1:M112)+1,0)","v":0},null,{"$f":"#REF!","v":{"$error":"#REF!"}},{"$f":"IFERROR(VLOOKUP(ROWS($P$2:P113),$M:$O,3,0),\"\")","v":""}]
[null,null,null,null,null,null,null,null,null,null,null,null,{"$f":"IF(ISNUMBER(SEARCH($C$6,#REF!)),MAX($M$1:M113)+1,0)","v":0},null,{"$f":"#REF!","v":{"$error":"#REF!"}},{"$f":"IFERROR(VLOOKUP(ROWS($P$2:P114),$M:$O,3,0),\"\")","v":""}]
[null,null,null,null,null,null,null,null,null,null,null,null,{"$f":"IF(ISNUMBER(SEARCH($C$6,#REF!)),MAX($M$1:M114)+1,0)","v":0},null,{"$f":"#REF!","v":{"$error":"#REF!"}},{"$f":"IFERROR(VLOOKUP(ROWS($P$2:P115),$M:$O,3,0),\"\")","v":""}]
[null,null,null,null,null,null,null,null,null,null,null,null,{"$f":"IF(ISNUMBER(SEARCH($C$6,#REF!)),MAX($M$1:M115)+1,0)","v":0},null,{"$f":"#REF!","v":{"$error":"#REF!"}},{"$f":"IFERROR(VLOOKUP(ROWS($P$2:P116),$M:$O,3,0),\"\")","v":""}]
[null,null,null,null,null,null,null,null,null,null,null,null,{"$f":"IF(ISNUMBER(SEARCH($C$6,#REF!)),MAX($M$1:M116)+1,0)","v":0},null,{"$f":"#REF!","v":{"$error":"#REF!"}},{"$f":"IFERROR(VLOOKUP(ROWS($P$2:P117),$M:$O,3,0),\"\")","v":""}]
[null,null,null,null,null,null,null,null,null,null,null,null,{"$f":"IF(ISNUMBER(SEARCH($C$6,#REF!)),MAX($M$1:M117)+1,0)","v":0},null,{"$f":"#REF!","v":{"$error":"#REF!"}},{"$f":"IFERROR(VLOOKUP(ROWS($P$2:P118),$M:$O,3,0),\"\")","v":""}]
[null,null,null,null,null,null,null,null,null,null,null,null,{"$f":"IF(ISNUMBER(SEARCH($C$6,#REF!)),MAX($M$1:M118)+1,0)","v":0},null,{"$f":"#REF!","v":{"$error":"#REF!"}},{"$f":"IFERROR(VLOOKUP(ROWS($P$2:P119),$M:$O,3,0),\"\")","v":""}]
[null,null,null,null,null,null,null,null,null,null,null,null,{"$f":"IF(ISNUMBER(SEARCH($C$6,#REF!)),MAX($M$1:M119)+1,0)","v":0},null,{"$f":"#REF!","v":{"$error":"#REF!"}},{"$f":"IFERROR(VLOOKUP(ROWS($P$2:P120),$M:$O,3,0),\"\")","v":""}]
[null,null,null,null,null,null,null,null,null,null,null,null,{"$f":"IF(ISNUMBER(SEARCH($C$6,#REF!)),MAX($M$1:M120)+1,0)","v":0},null,{"$f":"#REF!","v":{"$error":"#REF!"}},{"$f":"IFERROR(VLOOKUP(ROWS($P$2:P121),$M:$O,3,0),\"\")","v":""}]
[null,null,null,null,null,null,null,null,null,null,null,null,{"$f":"IF(ISNUMBER(SEARCH($C$6,#REF!)),MAX($M$1:M121)+1,0)","v":0},null,{"$f":"#REF!","v":{"$error":"#REF!"}},{"$f":"IFERROR(VLOOKUP(ROWS($P$2:P122),$M:$O,3,0),\"\")","v":""}]
[null,null,null,null,null,null,null,null,null,null,null,null,{"$f":"IF(ISNUMBER(SEARCH($C$6,#REF!)),MAX($M$1:M122)+1,0)","v":0},null,{"$f":"#REF!","v":{"$error":"#REF!"}},{"$f":"IFERROR(VLOOKUP(ROWS($P$2:P123),$M:$O,3,0),\"\")","v":""}]
[null,null,null,null,null,null,null,null,null,null,null,null,{"$f":"IF(ISNUMBER(SEARCH($C$6,#REF!)),MAX($M$1:M123)+1,0)","v":0},null,{"$f":"#REF!","v":{"$error":"#REF!"}},{"$f":"IFERROR(VLOOKUP(ROWS($P$2:P124),$M:$O,3,0),\"\")","v":""}]
[null,null,null,null,null,null,null,null,null,null,null,null,{"$f":"IF(ISNUMBER(SEARCH($C$6,#REF!)),MAX($M$1:M124)+1,0)","v":0},null,{"$f":"#REF!","v":{"$error":"#REF!"}},{"$f":"IFERROR(VLOOKUP(ROWS($P$2:P125),$M:$O,3,0),\"\")","v":""}]
[null,null,null,null,null,null,null,null,null,null,null,null,{"$f":"IF(ISNUMBER(SEARCH($C$6,#REF!)),MAX($M$1:M125)+1,0)","v":0},null,{"$f":"#REF!","v":{"$error":"#REF!"}},{"$f":"IFERROR(VLOOKUP(ROWS($P$2:P126),$M:$O,3,0),\"\")","v":""}]
[null,null,null,null,null,null,null,null,null,null,null,null,{"$f":"IF(ISNUMBER(SEARCH($C$6,#REF!)),MAX($M$1:M126)+1,0)","v":0},null,{"$f":"#REF!","v":{"$error":"#REF!"}},{"$f":"IFERROR(VLOOKUP(ROWS($P$2:P127),$M:$O,3,0),\"\")","v":""}]
[null,null,null,null,null,null,null,null,null,null,null,null,{"$f":"IF(ISNUMBER(SEARCH($C$6,#REF!)),MAX($M$1:M127)+1,0)","v":0},null,{"$f":"#REF!","v":{"$error":"#REF!"}},{"$f":"IFERROR(VLOOKUP(ROWS($P$2:P128),$M:$O,3,0),\"\")","v":""}]
[null,null,null,null,null,null,null,null,null,null,null,null,{"$f":"IF(ISNUMBER(SEARCH($C$6,#REF!)),MAX($M$1:M128)+1,0)","v":0},null,{"$f":"#REF!","v":{"$error":"#REF!"}},{"$f":"IFERROR(VLOOKUP(ROWS($P$2:P129),$M:$O,3,0),\"\")","v":""}]
[null,null,null,null,null,null,null,null,null,null,null,null,{"$f":"IF(ISNUMBER(SEARCH($C$6,#REF!)),MAX($M$1:M129)+1,0)","v":0},null,{"$f":"#REF!","v":{"$error":"#REF!"}},{"$f":"IFERROR(VLOOKUP(ROWS($P$2:P130),$M:$O,3,0),\"\")","v":""}]
[null,null,null,null,null,null,null,null,null,null,null,null,{"$f":"IF(ISNUMBER(SEARCH($C$6,#REF!)),MAX($M$1:M130)+1,0)","v":0},null,{"$f":"#REF!","v":{"$error":"#REF!"}},{"$f":"IFERROR(VLOOKUP(ROWS($P$2:P131),$M:$O,3,0),\"\")","v":""}]
[null,null,null,null,null,null,null,null,null,null,null,null,{"$f":"IF(ISNUMBER(SEARCH($C$6,#REF!)),MAX($M$1:M131)+1,0)","v":0},null,{"$f":"#REF!","v":{"$error":"#REF!"}},{"$f":"IFERROR(VLOOKUP(ROWS($P$2:P132),$M:$O,3,0),\"\")","v":""}]
[null,null,null,null,null,null,null,null,null,null,null,null,{"$f":"IF(ISNUMBER(SEARCH($C$6,#REF!)),MAX($M$1:M132)+1,0)","v":0},null,{"$f":"#REF!","v":{"$error":"#REF!"}},{"$f":"IFERROR(VLOOKUP(ROWS($P$2:P133),$M:$O,3,0),\"\")","v":""}]
[null,null,null,null,null,null,null,null,null,null,null,null,{"$f":"IF(ISNUMBER(SEARCH($C$6,#REF!)),MAX($M$1:M133)+1,0)","v":0},null,{"$f":"#REF!","v":{"$error":"#REF!"}},{"$f":"IFERROR(VLOOKUP(ROWS($P$2:P134),$M:$O,3,0),\"\")","v":""}]
[null,null,null,null,null,null,null,null,null,null,null,null,{"$f":"IF(ISNUMBER(SEARCH($C$6,#REF!)),MAX($M$1:M134)+1,0)","v":0},null,{"$f":"#REF!","v":{"$error":"#REF!"}},{"$f":"IFERROR(VLOOKUP(ROWS($P$2:P135),$M:$O,3,0),\"\")","v":""}]
[null,null,null,null,null,null,null,null,null,null,null,null,{"$f":"IF(ISNUMBER(SEARCH($C$6,#REF!)),MAX($M$1:M135)+1,0)","v":0},null,{"$f":"#REF!","v":{"$error":"#REF!"}},{"$f":"IFERROR(VLOOKUP(ROWS($P$2:P136),$M:$O,3,0),\"\")","v":""}]
[null,null,null,null,null,null,null,null,null,null,null,null,{"$f":"IF(ISNUMBER(SEARCH($C$6,#REF!)),MAX($M$1:M136)+1,0)","v":0},null,{"$f":"#REF!","v":{"$error":"#REF!"}},{"$f":"IFERROR(VLOOKUP(ROWS($P$2:P137),$M:$O,3,0),\"\")","v":""}]
[null,null,null,null,null,null,null,null,null,null,null,null,{"$f":"IF(ISNUMBER(SEARCH($C$6,#REF!)),MAX($M$1:M137)+1,0)","v":0},null,{"$f":"#REF!","v":{"$error":"#REF!"}},{"$f":"IFERROR(VLOOKUP(ROWS($P$2:P138),$M:$O,3,0),\"\")","v":""}]
[null,null,null,null,null,null,null,null,null,null,null,null,{"$f":"IF(ISNUMBER(SEARCH($C$6,#REF!)),MAX($M$1:M138)+1,0)","v":0},null,{"$f":"#REF!","v":{"$error":"#REF!"}},{"$f":"IFERROR(VLOOKUP(ROWS($P$2:P139),$M:$O,3,0),\"\")","v":""}]
[null,null,null,null,null,null,null,null,null,null,null,null,{"$f":"IF(ISNUMBER(SEARCH($C$6,#REF!)),MAX($M$1:M139)+1,0)","v":0},null,{"$f":"#REF!","v":{"$error":"#REF!"}},{"$f":"IFERROR(VLOOKUP(ROWS($P$2:P140),$M:$O,3,0),\"\")","v":""}]
[null,null,null,null,null,null,null,null,null,null,null,null,{"$f":"IF(ISNUMBER(SEARCH($C$6,#REF!)),MAX($M$1:M140)+1,0)","v":0},null,{"$f":"#REF!","v":{"$error":"#REF!"}},{"$f":"IFERROR(VLOOKUP(ROWS($P$2:P141),$M:$O,3,0),\"\")","v":""}]
[null,null,null,null,null,null,null,null,null,null,null,null,{"$f":"IF(ISNUMBER(SEARCH($C$6,#REF!)),MAX($M$1:M141)+1,0)","v":0},null,{"$f":"#REF!","v":{"$error":"#REF!"}},{"$f":"IFERROR(VLOOKUP(ROWS($P$2:P142),$M:$O,3,0),\"\")","v":""}]
[null,null,null,null,null,null,null,null,null,null,null,null,{"$f":"IF(ISNUMBER(SEARCH($C$6,#REF!)),MAX($M$1:M142)+1,0)","v":0},null,{"$f":"#REF!","v":{"$error":"#REF!"}},{"$f":"IFERROR(VLOOKUP(ROWS($P$2:P143),$M:$O,3,0),\"\")","v":""}]
[null,null,null,null,null,null,null,null,null,null,null,null,{"$f":"IF(ISNUMBER(SEARCH($C$6,#REF!)),MAX($M$1:M143)+1,0)","v":0},null,{"$f":"#REF!","v":{"$error":"#REF!"}},{"$f":"IFERROR(VLOOKUP(ROWS($P$2:P144),$M:$O,3,0),\"\")","v":""}]
[null,null,null,null,null,null,null,null,null,null,null,null,{"$f":"IF(ISNUMBER(SEARCH($C$6,#REF!)),MAX($M$1:M144)+1,0)","v":0},null,{"$f":"#REF!","v":{"$error":"#REF!"}},{"$f":"IFERROR(VLOOKUP(ROWS($P$2:P145),$M:$O,3,0),\"\")","v":""}]
[null,null,null,null,null,null,null,null,null,null,null,null,{"$f":"IF(ISNUMBER(SEARCH($C$6,#REF!)),MAX($M$1:M145)+1,0)","v":0},null,{"$f":"#REF!","v":{"$error":"#REF!"}},{"$f":"IFERROR(VLOOKUP(ROWS($P$2:P146),$M:$O,3,0),\"\")","v":""}]
[null,null,null,null,null,null,null,null,null,null,null,null,{"$f":"IF(ISNUMBER(SEARCH($C$6,#REF!)),MAX($M$1:M146)+1,0)","v":0},null,{"$f":"#REF!","v":{"$error":"#REF!"}},{"$f":"IFERROR(VLOOKUP(ROWS($P$2:P147),$M:$O,3,0),\"\")","v":""}]
[null,null,null,null,null,null,null,null,null,null,null,null,{"$f":"IF(ISNUMBER(SEARCH($C$6,#REF!)),MAX($M$1:M147)+1,0)","v":0},null,{"$f":"#REF!","v":{"$error":"#REF!"}},{"$f":"IFERROR(VLOOKUP(ROWS($P$2:P148),$M:$O,3,0),\"\")","v":""}]
[null,null,null,null,null,null,null,null,null,null,null,null,{"$f":"IF(ISNUMBER(SEARCH($C$6,#REF!)),MAX($M$1:M148)+1,0)","v":0},null,{"$f":"#REF!","v":{"$error":"#REF!"}},{"$f":"IFERROR(VLOOKUP(ROWS($P$2:P149),$M:$O,3,0),\"\")","v":""}]
[null,null,null,null,null,null,null,null,null,null,null,null,{"$f":"IF(ISNUMBER(SEARCH($C$6,#REF!)),MAX($M$1:M149)+1,0)","v":0},null,{"$f":"#REF!","v":{"$error":"#REF!"}},{"$f":"IFERROR(VLOOKUP(ROWS($P$2:P150),$M:$O,3,0),\"\")","v":""}]
[null,null,null,null,null,null,null,null,null,null,null,null,{"$f":"IF(ISNUMBER(SEARCH($C$6,#REF!)),MAX($M$1:M150)+1,0)","v":0},null,{"$f":"#REF!","v":{"$error":"#REF!"}},{"$f":"IFERROR(VLOOKUP(ROWS($P$2:P151),$M:$O,3,0),\"\")","v":""}]
[null,null,null,null,null,null,null,null,null,null,null,null,{"$f":"IF(ISNUMBER(SEARCH($C$6,#REF!)),MAX($M$1:M151)+1,0)","v":0},null,{"$f":"#REF!","v":{"$error":"#REF!"}},{"$f":"IFERROR(VLOOKUP(ROWS($P$2:P152),$M:$O,3,0),\"\")","v":""}]
[null,null,null,null,null,null,null,null,null,null,null,null,{"$f":"IF(ISNUMBER(SEARCH($C$6,#REF!)),MAX($M$1:M152)+1,0)","v":0},null,{"$f":"#REF!","v":{"$error":"#REF!"}},{"$f":"IFERROR(VLOOKUP(ROWS($P$2:P153),$M:$O,3,0),\"\")","v":""}]
[null,null,null,null,null,null,null,null,null,null,null,null,{"$f":"IF(ISNUMBER(SEARCH($C$6,#REF!)),MAX($M$1:M153)+1,0)","v":0},null,{"$f":"#REF!","v":{"$error":"#REF!"}},{"$f":"IFERROR(VLOOKUP(ROWS($P$2:P154),$M:$O,3,0),\"\")","v":""}]
[null,null,null,null,null,null,null,null,null,null,null,null,{"$f":"IF(ISNUMBER(SEARCH($C$6,#REF!)),MAX($M$1:M154)+1,0)","v":0},null,{"$f":"#REF!","v":{"$error":"#REF!"}},{"$f":"IFERROR(VLOOKUP(ROWS($P$2:P155),$M:$O,3,0),\"\")","v":""}]
[null,null,null,null,null,null,null,null,null,null,null,null,{"$f":"IF(ISNUMBER(SEARCH($C$6,#REF!)),MAX($M$1:M155)+1,0)","v":0},null,{"$f":"#REF!","v":{"$error":"#REF!"}},{"$f":"IFERROR(VLOOKUP(ROWS($P$2:P156),$M:$O,3,0),\"\")","v":""}]
[null,null,null,null,null,null,null,null,null,null,null,null,{"$f":"IF(ISNUMBER(SEARCH($C$6,#REF!)),MAX($M$1:M156)+1,0)","v":0},null,{"$f":"#REF!","v":{"$error":"#REF!"}},{"$f":"IFERROR(VLOOKUP(ROWS($P$2:P157),$M:$O,3,0),\"\")","v":""}]
[null,null,null,null,null,null,null,null,null,null,null,null,{"$f":"IF(ISNUMBER(SEARCH($C$6,#REF!)),MAX($M$1:M157)+1,0)","v":0},null,{"$f":"#REF!","v":{"$error":"#REF!"}},{"$f":"IFERROR(VLOOKUP(ROWS($P$2:P158),$M:$O,3,0),\"\")","v":""}]
[null,null,null,null,null,null,null,null,null,null,null,null,{"$f":"IF(ISNUMBER(SEARCH($C$6,#REF!)),MAX($M$1:M158)+1,0)","v":0},null,{"$f":"#REF!","v":{"$error":"#REF!"}},{"$f":"IFERROR(VLOOKUP(ROWS($P$2:P159),$M:$O,3,0),\"\")","v":""}]
[null,null,null,null,null,null,null,null,null,null,null,null,{"$f":"IF(ISNUMBER(SEARCH($C$6,#REF!)),MAX($M$1:M159)+1,0)","v":0},null,{"$f":"#REF!","v":{"$error":"#REF!"}},{"$f":"IFERROR(VLOOKUP(ROWS($P$2:P160),$M:$O,3,0),\"\")","v":""}]
[null,null,null,null,null,null,null,null,null,null,null,null,{"$f":"IF(ISNUMBER(SEARCH($C$6,#REF!)),MAX($M$1:M160)+1,0)","v":0},null,{"$f":"#REF!","v":{"$error":"#REF!"}},{"$f":"IFERROR(VLOOKUP(ROWS($P$2:P161),$M:$O,3,0),\"\")","v":""}]
[null,null,null,null,null,null,null,null,null,null,null,null,{"$f":"IF(ISNUMBER(SEARCH($C$6,#REF!)),MAX($M$1:M161)+1,0)","v":0},null,{"$f":"#REF!","v":{"$error":"#REF!"}},{"$f":"IFERROR(VLOOKUP(ROWS($P$2:P162),$M:$O,3,0),\"\")","v":""}]
[null,null,null,null,null,null,null,null,null,null,null,null,{"$f":"IF(ISNUMBER(SEARCH($C$6,#REF!)),MAX($M$1:M162)+1,0)","v":0},null,{"$f":"#REF!","v":{"$error":"#REF!"}},{"$f":"IFERROR(VLOOKUP(ROWS($P$2:P163),$M:$O,3,0),\"\")","v":""}]
[null,null,null,null,null,null,null,null,null,null,null,null,{"$f":"IF(ISNUMBER(SEARCH($C$6,#REF!)),MAX($M$1:M163)+1,0)","v":0},null,{"$f":"#REF!","v":{"$error":"#REF!"}},{"$f":"IFERROR(VLOOKUP(ROWS($P$2:P164),$M:$O,3,0),\"\")","v":""}]
[null,null,null,null,null,null,null,null,null,null,null,null,{"$f":"IF(ISNUMBER(SEARCH($C$6,#REF!)),MAX($M$1:M164)+1,0)","v":0},null,{"$f":"#REF!","v":{"$error":"#REF!"}},{"$f":"IFERROR(VLOOKUP(ROWS($P$2:P165),$M:$O,3,0),\"\")","v":""}]
[null,null,null,null,null,null,null,null,null,null,null,null,{"$f":"IF(ISNUMBER(SEARCH($C$6,#REF!)),MAX($M$1:M165)+1,0)","v":0},null,{"$f":"#REF!","v":{"$error":"#REF!"}},{"$f":"IFERROR(VLOOKUP(ROWS($P$2:P166),$M:$O,3,0),\"\")","v":""}]
[null,null,null,null,null,null,null,null,null,null,null,null,{"$f":"IF(ISNUMBER(SEARCH($C$6,#REF!)),MAX($M$1:M166)+1,0)","v":0},null,{"$f":"#REF!","v":{"$error":"#REF!"}},{"$f":"IFERROR(VLOOKUP(ROWS($P$2:P167),$M:$O,3,0),\"\")","v":""}]
[null,null,null,null,null,null,null,null,null,null,null,null,{"$f":"IF(ISNUMBER(SEARCH($C$6,#REF!)),MAX($M$1:M167)+1,0)","v":0},null,{"$f":"#REF!","v":{"$error":"#REF!"}},{"$f":"IFERROR(VLOOKUP(ROWS($P$2:P168),$M:$O,3,0),\"\")","v":""}]
[null,null,null,null,null,null,null,null,null,null,null,null,{"$f":"IF(ISNUMBER(SEARCH($C$6,#REF!)),MAX($M$1:M168)+1,0)","v":0},null,{"$f":"#REF!","v":{"$error":"#REF!"}},{"$f":"IFERROR(VLOOKUP(ROWS($P$2:P169),$M:$O,3,0),\"\")","v":""}]
[null,null,null,null,null,null,null,null,null,null,null,null,{"$f":"IF(ISNUMBER(SEARCH($C$6,#REF!)),MAX($M$1:M169)+1,0)","v":0},null,{"$f":"#REF!","v":{"$error":"#REF!"}},{"$f":"IFERROR(VLOOKUP(ROWS($P$2:P170),$M:$O,3,0),\"\")","v":""}]
[null,null,null,null,null,null,null,null,null,null,null,null,{"$f":"IF(ISNUMBER(SEARCH($C$6,#REF!)),MAX($M$1:M170)+1,0)","v":0},null,{"$f":"#REF!","v":{"$error":"#REF!"}},{"$f":"IFERROR(VLOOKUP(ROWS($P$2:P171),$M:$O,3,0),\"\")","v":""}]
[null,null,null,null,null,null,null,null,null,null,null,null,{"$f":"IF(ISNUMBER(SEARCH($C$6,#REF!)),MAX($M$1:M171)+1,0)","v":0},null,{"$f":"#REF!","v":{"$error":"#REF!"}},{"$f":"IFERROR(VLOOKUP(ROWS($P$2:P172),$M:$O,3,0),\"\")","v":""}]
[null,null,null,null,null,null,null,null,null,null,null,null,{"$f":"IF(ISNUMBER(SEARCH($C$6,#REF!)),MAX($M$1:M172)+1,0)","v":0},null,{"$f":"#REF!","v":{"$error":"#REF!"}},{"$f":"IFERROR(VLOOKUP(ROWS($P$2:P173),$M:$O,3,0),\"\")","v":""}]
[null,null,null,null,null,null,null,null,null,null,null,null,{"$f":"IF(ISNUMBER(SEARCH($C$6,#REF!)),MAX($M$1:M173)+1,0)","v":0},null,{"$f":"#REF!","v":{"$error":"#REF!"}},{"$f":"IFERROR(VLOOKUP(ROWS($P$2:P174),$M:$O,3,0),\"\")","v":""}]
[null,null,null,null,null,null,null,null,null,null,null,null,{"$f":"IF(ISNUMBER(SEARCH($C$6,#REF!)),MAX($M$1:M174)+1,0)","v":0},null,{"$f":"#REF!","v":{"$error":"#REF!"}},{"$f":"IFERROR(VLOOKUP(ROWS($P$2:P175),$M:$O,3,0),\"\")","v":""}]
[null,null,null,null,null,null,null,null,null,null,null,null,{"$f":"IF(ISNUMBER(SEARCH($C$6,#REF!)),MAX($M$1:M175)+1,0)","v":0},null,{"$f":"#REF!","v":{"$error":"#REF!"}},{"$f":"IFERROR(VLOOKUP(ROWS($P$2:P176),$M:$O,3,0),\"\")","v":""}]
[null,null,null,null,null,null,null,null,null,null,null,null,{"$f":"IF(ISNUMBER(SEARCH($C$6,#REF!)),MAX($M$1:M176)+1,0)","v":0},null,{"$f":"#REF!","v":{"$error":"#REF!"}},{"$f":"IFERROR(VLOOKUP(ROWS($P$2:P177),$M:$O,3,0),\"\")","v":""}]
[null,null,null,null,null,null,null,null,null,null,null,null,{"$f":"IF(ISNUMBER(SEARCH($C$6,#REF!)),MAX($M$1:M177)+1,0)","v":0},null,{"$f":"#REF!","v":{"$error":"#REF!"}},{"$f":"IFERROR(VLOOKUP(ROWS($P$2:P178),$M:$O,3,0),\"\")","v":""}]
[null,null,null,null,null,null,null,null,null,null,null,null,{"$f":"IF(ISNUMBER(SEARCH($C$6,#REF!)),MAX($M$1:M178)+1,0)","v":0},null,{"$f":"#REF!","v":{"$error":"#REF!"}},{"$f":"IFERROR(VLOOKUP(ROWS($P$2:P179),$M:$O,3,0),\"\")","v":""}]
[null,null,null,null,null,null,null,null,null,null,null,null,{"$f":"IF(ISNUMBER(SEARCH($C$6,#REF!)),MAX($M$1:M179)+1,0)","v":0},null,{"$f":"#REF!","v":{"$error":"#REF!"}},{"$f":"IFERROR(VLOOKUP(ROWS($P$2:P180),$M:$O,3,0),\"\")","v":""}]
[null,null,null,null,null,null,null,null,null,null,null,null,{"$f":"IF(ISNUMBER(SEARCH($C$6,#REF!)),MAX($M$1:M180)+1,0)","v":0},null,{"$f":"#REF!","v":{"$error":"#REF!"}},{"$f":"IFERROR(VLOOKUP(ROWS($P$2:P181),$M:$O,3,0),\"\")","v":""}]
[null,null,null,null,null,null,null,null,null,null,null,null,{"$f":"IF(ISNUMBER(SEARCH($C$6,#REF!)),MAX($M$1:M181)+1,0)","v":0},null,{"$f":"#REF!","v":{"$error":"#REF!"}},{"$f":"IFERROR(VLOOKUP(ROWS($P$2:P182),$M:$O,3,0),\"\")","v":""}]
[null,null,null,null,null,null,null,null,null,null,null,null,{"$f":"IF(ISNUMBER(SEARCH($C$6,#REF!)),MAX($M$1:M182)+1,0)","v":0},null,{"$f":"#REF!","v":{"$error":"#REF!"}},{"$f":"IFERROR(VLOOKUP(ROWS($P$2:P183),$M:$O,3,0),\"\")","v":""}]
[null,null,null,null,null,null,null,null,null,null,null,null,{"$f":"IF(ISNUMBER(SEARCH($C$6,#REF!)),MAX($M$1:M183)+1,0)","v":0},null,{"$f":"#REF!","v":{"$error":"#REF!"}},{"$f":"IFERROR(VLOOKUP(ROWS($P$2:P184),$M:$O,3,0),\"\")","v":""}]
[null,null,null,null,null,null,null,null,null,null,null,null,{"$f":"IF(ISNUMBER(SEARCH($C$6,#REF!)),MAX($M$1:M184)+1,0)","v":0},null,{"$f":"#REF!","v":{"$error":"#REF!"}},{"$f":"IFERROR(VLOOKUP(ROWS($P$2:P185),$M:$O,3,0),\"\")","v":""}]
[null,null,null,null,null,null,null,null,null,null,null,null,{"$f":"IF(ISNUMBER(SEARCH($C$6,#REF!)),MAX($M$1:M185)+1,0)","v":0},null,{"$f":"#REF!","v":{"$error":"#REF!"}},{"$f":"IFERROR(VLOOKUP(ROWS($P$2:P186),$M:$O,3,0),\"\")","v":""}]
[null,null,null,null,null,null,null,null,null,null,null,null,{"$f":"IF(ISNUMBER(SEARCH($C$6,#REF!)),MAX($M$1:M186)+1,0)","v":0},null,{"$f":"#REF!","v":{"$error":"#REF!"}},{"$f":"IFERROR(VLOOKUP(ROWS($P$2:P187),$M:$O,3,0),\"\")","v":""}]
[null,null,null,null,null,null,null,null,null,null,null,null,{"$f":"IF(ISNUMBER(SEARCH($C$6,#REF!)),MAX($M$1:M187)+1,0)","v":0},null,{"$f":"#REF!","v":{"$error":"#REF!"}},{"$f":"IFERROR(VLOOKUP(ROWS($P$2:P188),$M:$O,3,0),\"\")","v":""}]
[null,null,null,null,null,null,null,null,null,null,null,null,{"$f":"IF(ISNUMBER(SEARCH($C$6,#REF!)),MAX($M$1:M188)+1,0)","v":0},null,{"$f":"#REF!","v":{"$error":"#REF!"}},{"$f":"IFERROR(VLOOKUP(ROWS($P$2:P189),$M:$O,3,0),\"\")","v":""}]
[null,null,null,null,null,null,null,null,null,null,null,null,{"$f":"IF(ISNUMBER(SEARCH($C$6,#REF!)),MAX($M$1:M189)+1,0)","v":0},null,{"$f":"#REF!","v":{"$error":"#REF!"}},{"$f":"IFERROR(VLOOKUP(ROWS($P$2:P190),$M:$O,3,0),\"\")","v":""}]
[null,null,null,null,null,null,null,null,null,null,null,null,{"$f":"IF(ISNUMBER(SEARCH($C$6,#REF!)),MAX($M$1:M190)+1,0)","v":0},null,{"$f":"#REF!","v":{"$error":"#REF!"}},{"$f":"IFERROR(VLOOKUP(ROWS($P$2:P191),$M:$O,3,0),\"\")","v":""}]
[null,null,null,null,null,null,null,null,null,null,null,null,{"$f":"IF(ISNUMBER(SEARCH($C$6,#REF!)),MAX($M$1:M191)+1,0)","v":0},null,{"$f":"#REF!","v":{"$error":"#REF!"}},{"$f":"IFERROR(VLOOKUP(ROWS($P$2:P192),$M:$O,3,0),\"\")","v":""}]
[null,null,null,null,null,null,null,null,null,null,null,null,{"$f":"IF(ISNUMBER(SEARCH($C$6,#REF!)),MAX($M$1:M192)+1,0)","v":0},null,{"$f":"#REF!","v":{"$error":"#REF!"}},{"$f":"IFERROR(VLOOKUP(ROWS($P$2:P193),$M:$O,3,0),\"\")","v":""}]
[null,null,null,null,null,null,null,null,null,null,null,null,{"$f":"IF(ISNUMBER(SEARCH($C$6,#REF!)),MAX($M$1:M193)+1,0)","v":0},null,{"$f":"#REF!","v":{"$error":"#REF!"}},{"$f":"IFERROR(VLOOKUP(ROWS($P$2:P194),$M:$O,3,0),\"\")","v":""}]
[null,null,null,null,null,null,null,null,null,null,null,null,{"$f":"IF(ISNUMBER(SEARCH($C$6,#REF!)),MAX($M$1:M194)+1,0)","v":0},null,{"$f":"#REF!","v":{"$error":"#REF!"}},{"$f":"IFERROR(VLOOKUP(ROWS($P$2:P195),$M:$O,3,0),\"\")","v":""}]
[null,null,null,null,null,null,null,null,null,null,null,null,{"$f":"IF(ISNUMBER(SEARCH($C$6,#REF!)),MAX($M$1:M195)+1,0)","v":0},null,{"$f":"#REF!","v":{"$error":"#REF!"}},{"$f":"IFERROR(VLOOKUP(ROWS($P$2:P196),$M:$O,3,0),\"\")","v":""}]
[null,null,null,null,null,null,null,null,null,null,null,null,{"$f":"IF(ISNUMBER(SEARCH($C$6,#REF!)),MAX($M$1:M196)+1,0)","v":0},null,{"$f":"#REF!","v":{"$error":"#REF!"}},{"$f":"IFERROR(VLOOKUP(ROWS($P$2:P197),$M:$O,3,0),\"\")","v":""}]
[null,null,null,null,null,null,null,null,null,null,null,null,{"$f":"IF(ISNUMBER(SEARCH($C$6,#REF!)),MAX($M$1:M197)+1,0)","v":0},null,{"$f":"#REF!","v":{"$error":"#REF!"}},{"$f":"IFERROR(VLOOKUP(ROWS($P$2:P198),$M:$O,3,0),\"\")","v":""}]
[null,null,null,null,null,null,null,null,null,null,null,null,{"$f":"IF(ISNUMBER(SEARCH($C$6,#REF!)),MAX($M$1:M198)+1,0)","v":0},null,{"$f":"#REF!","v":{"$error":"#REF!"}},{"$f":"IFERROR(VLOOKUP(ROWS($P$2:P199),$M:$O,3,0),\"\")","v":""}]
[null,null,null,null,null,null,null,null,null,null,null,null,{"$f":"IF(ISNUMBER(SEARCH($C$6,#REF!)),MAX($M$1:M199)+1,0)","v":0},null,{"$f":"#REF!","v":{"$error":"#REF!"}},{"$f":"IFERROR(VLOOKUP(ROWS($P$2:P200),$M:$O,3,0),\"\")","v":""}]
[null,null,null,null,null,null,null,null,null,null,null,null,{"$f":"IF(ISNUMBER(SEARCH($C$6,#REF!)),MAX($M$1:M200)+1,0)","v":0},null,{"$f":"#REF!","v":{"$error":"#REF!"}},{"$f":"IFERROR(VLOOKUP(ROWS($P$2:P201),$M:$O,3,0),\"\")","v":""}]
[null,null,null,null,null,null,null,null,null,null,null,null,{"$f":"IF(ISNUMBER(SEARCH($C$6,#REF!)),MAX($M$1:M201)+1,0)","v":0},null,{"$f":"#REF!","v":{"$error":"#REF!"}},{"$f":"IFERROR(VLOOKUP(ROWS($P$2:P202),$M:$O,3,0),\"\")","v":""}]
[null,null,null,null,null,null,null,null,null,null,null,null,{"$f":"IF(ISNUMBER(SEARCH($C$6,#REF!)),MAX($M$1:M202)+1,0)","v":0},null,{"$f":"#REF!","v":{"$error":"#REF!"}},{"$f":"IFERROR(VLOOKUP(ROWS($P$2:P203),$M:$O,3,0),\"\")","v":""}]
[null,null,null,null,null,null,null,null,null,null,null,null,{"$f":"IF(ISNUMBER(SEARCH($C$6,#REF!)),MAX($M$1:M203)+1,0)","v":0},null,{"$f":"#REF!","v":{"$error":"#REF!"}},{"$f":"IFERROR(VLOOKUP(ROWS($P$2:P204),$M:$O,3,0),\"\")","v":""}]
[null,null,null,null,null,null,null,null,null,null,null,null,{"$f":"IF(ISNUMBER(SEARCH($C$6,#REF!)),MAX($M$1:M204)+1,0)","v":0},null,{"$f":"#REF!","v":{"$error":"#REF!"}},{"$f":"IFERROR(VLOOKUP(ROWS($P$2:P205),$M:$O,3,0),\"\")","v":""}]
[null,null,null,null,null,null,null,null,null,null,null,null,{"$f":"IF(ISNUMBER(SEARCH($C$6,#REF!)),MAX($M$1:M205)+1,0)","v":0},null,{"$f":"#REF!","v":{"$error":"#REF!"}},{"$f":"IFERROR(VLOOKUP(ROWS($P$2:P206),$M:$O,3,0),\"\")","v":""}]
[null,null,null,null,null,null,null,null,null,null,null,null,{"$f":"IF(ISNUMBER(SEARCH($C$6,#REF!)),MAX($M$1:M206)+1,0)","v":0},null,{"$f":"#REF!","v":{"$error":"#REF!"}},{"$f":"IFERROR(VLOOKUP(ROWS($P$2:P207),$M:$O,3,0),\"\")","v":""}]
[null,null,null,null,null,null,null,null,null,null,null,null,{"$f":"IF(ISNUMBER(SEARCH($C$6,#REF!)),MAX($M$1:M207)+1,0)","v":0},null,{"$f":"#REF!","v":{"$error":"#REF!"}},{"$f":"IFERROR(VLOOKUP(ROWS($P$2:P208),$M:$O,3,0),\"\")","v":""}]
[null,null,null,null,null,null,null,null,null,null,null,null,{"$f":"IF(ISNUMBER(SEARCH($C$6,#REF!)),MAX($M$1:M208)+1,0)","v":0},null,{"$f":"#REF!","v":{"$error":"#REF!"}},{"$f":"IFERROR(VLOOKUP(ROWS($P$2:P209),$M:$O,3,0),\"\")","v":""}]
[null,null,null,null,null,null,null,null,null,null,null,null,{"$f":"IF(ISNUMBER(SEARCH($C$6,#REF!)),MAX($M$1:M209)+1,0)","v":0},null,{"$f":"#REF!","v":{"$error":"#REF!"}},{"$f":"IFERROR(VLOOKUP(ROWS($P$2:P210),$M:$O,3,0),\"\")","v":""}]
[null,null,null,null,null,null,null,null,null,null,null,null,{"$f":"IF(ISNUMBER(SEARCH($C$6,#REF!)),MAX($M$1:M210)+1,0)","v":0},null,{"$f":"#REF!","v":{"$error":"#REF!"}},{"$f":"IFERROR(VLOOKUP(ROWS($P$2:P211),$M:$O,3,0),\"\")","v":""}]
[null,null,null,null,null,null,null,null,null,null,null,null,{"$f":"IF(ISNUMBER(SEARCH($C$6,#REF!)),MAX($M$1:M211)+1,0)","v":0},null,{"$f":"#REF!","v":{"$error":"#REF!"}},{"$f":"IFERROR(VLOOKUP(ROWS($P$2:P212),$M:$O,3,0),\"\")","v":""}]
[null,null,null,null,null,null,null,null,null,null,null,null,{"$f":"IF(ISNUMBER(SEARCH($C$6,#REF!)),MAX($M$1:M212)+1,0)","v":0},null,{"$f":"#REF!","v":{"$error":"#REF!"}},{"$f":"IFERROR(VLOOKUP(ROWS($P$2:P213),$M:$O,3,0),\"\")","v":""}]
[null,null,null,null,null,null,null,null,null,null,null,null,{"$f":"IF(ISNUMBER(SEARCH($C$6,#REF!)),MAX($M$1:M213)+1,0)","v":0},null,{"$f":"#REF!","v":{"$error":"#REF!"}},{"$f":"IFERROR(VLOOKUP(ROWS($P$2:P214),$M:$O,3,0),\"\")","v":""}]
[null,null,null,null,null,null,null,null,null,null,null,null,{"$f":"IF(ISNUMBER(SEARCH($C$6,#REF!)),MAX($M$1:M214)+1,0)","v":0},null,{"$f":"#REF!","v":{"$error":"#REF!"}},{"$f":"IFERROR(VLOOKUP(ROWS($P$2:P215),$M:$O,3,0),\"\")","v":""}]
[null,null,null,null,null,null,null,null,null,null,null,null,{"$f":"IF(ISNUMBER(SEARCH($C$6,#REF!)),MAX($M$1:M215)+1,0)","v":0},null,{"$f":"#REF!","v":{"$error":"#REF!"}},{"$f":"IFERROR(VLOOKUP(ROWS($P$2:P216),$M:$O,3,0),\"\")","v":""}]

{"sheet":"قائمة ","index":1,"n_rows":5,"n_cols":2,"rows_kept":5,"cut":false,"hidden":false,"merged":[]}
["احمد ",1]
["علي ",2]
["جاسم ",3]
["قاسم ",4]
["محمد ",5]

{"sheet":"1","index":2,"n_rows":0,"n_cols":0,"rows_kept":0,"cut":false,"hidden":false,"merged":[]}

{"sheet":"2","index":3,"n_rows":0,"n_cols":0,"rows_kept":0,"cut":false,"hidden":false,"merged":[]}

{"sheet":"3","index":4,"n_rows":0,"n_cols":0,"rows_kept":0,"cut":false,"hidden":false,"merged":[]}

{"sheet":"4","index":5,"n_rows":0,"n_cols":0,"rows_kept":0,"cut":false,"hidden":false,"merged":[]}

{"sheet":"5","index":6,"n_rows":0,"n_cols":0,"rows_kept":0,"cut":false,"hidden":false,"merged":[]}