{"text_format":"1","workbook":"xlsx","n_sheets":2,"sheets":["بيانات","الصحيفة"],"not_rendered":{"charts":0,"images":3,"macros":1,"external_links":0,"defined_names":1,"comments":0,"pivot_tables":0},"unopened":[],"bounds":{"document_bytes":16777216,"sheet_cells":100000,"rows_first":2000,"rows_last":500,"rows_between":2000,"halvings":0,"cell_chars":16384,"cell_head_chars":4096},"cells_cut":0,"cells_raw":0,"read":"whole","date_system":"1900"}

{"sheet":"بيانات","index":0,"n_rows":60,"n_cols":23,"rows_kept":60,"cut":false,"hidden":false,"merged":[[1,1,1,6],[1,9,1,17],[1,18,1,22]]}
[]
["م","البيانات الشخصية",null,null,null,null,null,"الاصلية","انتداب","البيانات الوظيفية",null,null,null,null,null,null,null,null,"بيانات مؤهل التعيين "]
[{"$f":"IF(B3=\"\",\"\",SUBTOTAL(3,B$3:B3))","v":1},401649,27203211802973,"1972-03-21","شحاته محمود نصر الدين سالم","م+3","ذكر","الشهيد حسن عبدالقادر الثانوية بنات",null,"على راس عمله","1992-09-01","1992-10-26","كبير معلمين",63,"18 /01//2021","2020-01-01","رياضيات","رياضيات","عليا","جامعة الاسكندرية","بكالوريوس تربية عامة","جيد جدا","1992-09-01"]
[{"$f":"IF(B4=\"\",\"\",SUBTOTAL(3,B$3:B4))","v":""}]
[{"$f":"IF(B5=\"\",\"\",SUBTOTAL(3,B$3:B5))","v":""}]
[{"$f":"IF(B6=\"\",\"\",SUBTOTAL(3,B$3:B6))","v":""}]
[{"$f":"IF(B7=\"\",\"\",SUBTOTAL(3,B$3:B7))","v":""}]
[{"$f":"IF(B8=\"\",\"\",SUBTOTAL(3,B$3:B8))","v":""}]
[{"$f":"IF(B9=\"\",\"\",SUBTOTAL(3,B$3:B9))","v":""}]
[{"$f":"IF(B10=\"\",\"\",SUBTOTAL(3,B$3:B10))","v":""}]
[{"$f":"IF(B11=\"\",\"\",SUBTOTAL(3,B$3:B11))","v":""}]
[{"$f":"IF(B12=\"\",\"\",SUBTOTAL(3,B$3:B12))","v":""}]
[{"$f":"IF(B13=\"\",\"\",SUBTOTAL(3,B$3:B13))","v":""}]
[{"$f":"IF(B14=\"\",\"\",SUBTOTAL(3,B$3:B14))","v":""}]
[{"$f":"IF(B15=\"\",\"\",SUBTOTAL(3,B$3:B15))","v":""}]
[{"$f":"IF(B16=\"\",\"\",SUBTOTAL(3,B$3:B16))","v":""}]
[{"$f":"IF(B17=\"\",\"\",SUBTOTAL(3,B$3:B17))","v":""}]
[{"$f":"IF(B18=\"\",\"\",SUBTOTAL(3,B$3:B18))","v":""}]
[{"$f":"IF(B19=\"\",\"\",SUBTOTAL(3,B$3:B19))","v":""}]
[{"$f":"IF(B20=\"\",\"\",SUBTOTAL(3,B$3:B20))","v":""}]
[{"$f":"IF(B21=\"\",\"\",SUBTOTAL(3,B$3:B21))","v":""}]
[{"$f":"IF(B22=\"\",\"\",SUBTOTAL(3,B$3:B22))","v":""}]
[{"$f":"IF(B23=\"\",\"\",SUBTOTAL(3,B$3:B23))","v":""}]
[{"$f":"IF(B24=\"\",\"\",SUBTOTAL(3,B$3:B24))","v":""}]
[{"$f":"IF(B25=\"\",\"\",SUBTOTAL(3,B$3:B25))","v":""}]
[{"$f":"IF(B26=\"\",\"\",SUBTOTAL(3,B$3:B26))","v":""}]
[{"$f":"IF(B27=\"\",\"\",SUBTOTAL(3,B$3:B27))","v":""}]
[{"$f":"IF(B28=\"\",\"\",SUBTOTAL(3,B$3:B28))","v":""}]
[{"$f":"IF(B29=\"\",\"\",SUBTOTAL(3,B$3:B29))","v":""}]
[{"$f":"IF(B30=\"\",\"\",SUBTOTAL(3,B$3:B30))","v":""}]
[{"$f":"IF(B31=\"\",\"\",SUBTOTAL(3,B$3:B31))","v":""}]
[{"$f":"IF(B32=\"\",\"\",SUBTOTAL(3,B$3:B32))","v":""}]
[{"$f":"IF(B33=\"\",\"\",SUBTOTAL(3,B$3:B33))","v":""}]
[{"$f":"IF(B34=\"\",\"\",SUBTOTAL(3,B$3:B34))","v":""}]
[{"$f":"IF(B35=\"\",\"\",SUBTOTAL(3,B$3:B35))","v":""}]
[{"$f":"IF(B36=\"\",\"\",SUBTOTAL(3,B$3:B36))","v":""}]
[{"$f":"IF(B37=\"\",\"\",SUBTOTAL(3,B$3:B37))","v":""}]
[{"$f":"IF(B38=\"\",\"\",SUBTOTAL(3,B$3:B38))","v":""}]
[{"$f":"IF(B39=\"\",\"\",SUBTOTAL(3,B$3:B39))","v":""}]
[{"$f":"IF(B40=\"\",\"\",SUBTOTAL(3,B$3:B40))","v":""}]
[{"$f":"IF(B41=\"\",\"\",SUBTOTAL(3,B$3:B41))","v":""}]
[{"$f":"IF(B42=\"\",\"\",SUBTOTAL(3,B$3:B42))","v":""}]
[{"$f":"IF(B43=\"\",\"\",SUBTOTAL(3,B$3:B43))","v":""}]
[{"$f":"IF(B44=\"\",\"\",SUBTOTAL(3,B$3:B44))","v":""}]
[{"$f":"IF(B45=\"\",\"\",SUBTOTAL(3,B$3:B45))","v":""}]
[{"$f":"IF(B46=\"\",\"\",SUBTOTAL(3,B$3:B46))","v":""}]
[{"$f":"IF(B47=\"\",\"\",SUBTOTAL(3,B$3:B47))","v":""}]
[{"$f":"IF(B48=\"\",\"\",SUBTOTAL(3,B$3:B48))","v":""}]
[{"$f":"IF(B49=\"\",\"\",SUBTOTAL(3,B$3:B49))","v":""}]
[{"$f":"IF(B50=\"\",\"\",SUBTOTAL(3,B$3:B50))","v":""}]
[{"$f":"IF(B51=\"\",\"\",SUBTOTAL(3,B$3:B51))","v":""}]
[{"$f":"IF(B52=\"\",\"\",SUBTOTAL(3,B$3:B52))","v":""}]
[{"$f":"IF(B53=\"\",\"\",SUBTOTAL(3,B$3:B53))","v":""}]
[{"$f":"IF(B54=\"\",\"\",SUBTOTAL(3,B$3:B54))","v":""}]
[{"$f":"IF(B55=\"\",\"\",SUBTOTAL(3,B$3:B55))","v":""}]
[{"$f":"IF(B56=\"\",\"\",SUBTOTAL(3,B$3:B56))","v":""}]
[{"$f":"IF(B57=\"\",\"\",SUBTOTAL(3,B$3:B57))","v":""}]
[{"$f":"IF(B58=\"\",\"\",SUBTOTAL(3,B$3:B58))","v":""}]
[{"$f":"IF(B59=\"\",\"\",SUBTOTAL(3,B$3:B59))","v":""}]
[{"$f":"IF(B60=\"\",\"\",SUBTOTAL(3,B$3:B60))","v":""}]

{"sheet":"الصحيفة","index":1,"n_rows":46,"n_cols":18,"rows_kept":46,"cut":false,"hidden":false,"merged":[[31,7,31,8],[29,6,29,7],[34,2,34,11],[35,2,35,11],[33,2,33,11],[36,2,36,11],[41,8,41,10],[42,2,42,3],[42,4,42,5],[42,6,42,7],[42,8,42,10],[10,2,10,11],[14,2,14,11],[22,2,22,11],[28,2,28,11],[32,2,32,11],[11,6,11,7],[11,10,11,11],[12,9,12,10],[11,3,11,4],[23,7,23,8],[24,3,24,4],[24,8,24,9],[24,6,24,7],[26,8,26,9],[26,5,26,6],[31,9,31,10]]}
[null,null,null,null,null,null,null,null,401649]
[]
[]
[]
[]
[]
[]
[]
[]
[null,null,null,null,null,null,null,null,null,null,null,null,null,null,null,"معاينة طباعة",null,"طباعة"]
[null,null,"البيانات الشخصية"]
[null,null,"الكود :",{"$f":"IFERROR(VLOOKUP($I$1,بيانات!$B$3:$W$61,1,0),\"\")","v":401649},null,"الرقم القومى :",{"$f":"IFERROR(VLOOKUP($I$1,بيانات!$B$3:$W$61,2,0),\"\")","v":27203211802973},null,null,"تاريخ الميلاد :",{"$f":"IFERROR(VLOOKUP($I$1,بيانات!$B$3:$W$61,3,0),\"\")","v":"1972-03-21"}]
[null,null,"الاسم الرباعى :",{"$f":"IFERROR(VLOOKUP($I$1,بيانات!$B$3:$W$61,4,0),\"\")","v":"شحاته محمود نصر الدين سالم"},null,null,null,null,null,"الحالة الاجتماعية :",null,{"$f":"IFERROR(VLOOKUP($I$1,بيانات!$B$3:$W$61,5,0),\"\")","v":"م+3"}]
[null,null,"محافظة الميلاد :","البحيرة",null,"النوع : ",{"$f":"IFERROR(VLOOKUP($I$1,بيانات!$B$3:$W$61,6,0),\"\")","v":"ذكر"},"الديانة :","مسلم","الجنسية :","مصرى"]
[null,null,"بيانات جهة العمل"]
[null,null,"الجهة الاصلية :"]
[null,null,"المديرية :","البحيرة",null,"الادارة : ","بندردمنهور "]
[null,null,"المرحلة : ","ثانوى",null,"حهة العمل :",{"$f":"IFERROR(VLOOKUP($I$1,بيانات!$B$3:$W$61,7,0),\"\")","v":"الشهيد حسن عبدالقادر الثانوية بنات"}]
[null,null,"جهة الانتداب :"]
[null,null,"المديرية :","البحيرة",null,"الادارة : ","مركز دمنهور "]
[null,null,"المرحلة : ","ابتدائى",null,"حهة العمل :",{"$f":"IFERROR(VLOOKUP($I$1,بيانات!$B$3:$W$61,8,0),\"\")","v":0}]
[]
[null,null,"البيانات الوظيفية"]
[null,null,"المجموعة النوعية : ","المجموعة النوعية لوظائف أعضاء هيئة التعليم ",null,null,null,"الموقف من العمل : ",null,{"$f":"IFERROR(VLOOKUP($I$1,بيانات!$B$3:$W$61,9,0),\"\")","v":"على راس عمله"}]
[null,null,"تاريخ التعيين :",{"$f":"IFERROR(VLOOKUP($I$1,بيانات!$B$3:$W$61,10,0),\"\")","v":"1992-09-01"},null,null,"تاريخ استلام العمل : ",null,{"$f":"IFERROR(VLOOKUP($I$1,بيانات!$B$3:$W$61,11,0),\"\")","v":"1992-10-26"}]
[null,null,"الوظيفة الحالية :",{"$f":"IFERROR(VLOOKUP($I$1,بيانات!$B$3:$W$61,12,0),\"\")","v":"كبير معلمين"}]
[null,null,"رقم القرار :",{"$f":"IFERROR(VLOOKUP($I$1,بيانات!$B$3:$W$61,13,0),\"\")","v":63},"تاريخ القرار :",{"$f":"IFERROR(VLOOKUP($I$1,بيانات!$B$3:$W$61,14,0),\"\")","v":"18 /01//2021"},null,"اعتبارا من : ",{"$f":"IFERROR(VLOOKUP($I$1,بيانات!$B$3:$W$61,15,0),\"\")","v":"2020-01-01"}]
[null,null,"مادة التدريس : ",{"$f":"IFERROR(VLOOKUP($I$1,بيانات!$B$3:$W$61,16,0),\"\")","v":"رياضيات"},null,null,"التخصص على الكادر : ",null,{"$f":"IFERROR(VLOOKUP($I$1,بيانات!$B$3:$W$61,17,0),\"\")","v":"رياضيات"}]
[null,null,"بيانات مؤهل التعيين أول مرة"]
[null,null,"نوع المؤهل :",{"$f":"IFERROR(VLOOKUP($I$1,بيانات!$B$3:$W$61,18,0),\"\")","v":"عليا"},null,null,"جهة الحصول عليه :",null,{"$f":"IFERROR(VLOOKUP($I$1,بيانات!$B$3:$W$61,19,0),\"\")","v":"جامعة الاسكندرية"}]
[null,null,"اسم المؤهل :",{"$f":"IFERROR(VLOOKUP($I$1,بيانات!$B$3:$W$61,20,0),\"\")","v":"بكالوريوس تربية عامة"}]
[null,null,"تقدير المؤهل :",{"$f":"IFERROR(VLOOKUP($I$1,بيانات!$B$3:$W$61,21,0),\"\")","v":"جيد جدا"},null,null,null,"تاريخ الحصول عليه : ",null,{"$f":"IFERROR(VLOOKUP($I$1,بيانات!$B$3:$W$61,22,0),\"\")","v":"1992-09-01"}]
[null,null,"الجزاءات"]
[null,null,"...................................................................................................................................................................................................................................."]
[null,null,"...................................................................................................................................................................................................................................."]
[null,null,"...................................................................................................................................................................................................................................."]
[null,null,"...................................................................................................................................................................................................................................."]
[]
[]
[]
[]
[null,null,"توقيع المعلم",null,"قسم الملفات ",null,"قسم الاحصاء",null,"يعتمد &\nمدير شئون العاملين بالادارة"]
[null,null,"............................",null,"..............................",null,".............................",null,"..............................................................",null,null,"خاتم الشعار"]
[]
[]
[null,null,null,null,null,null,null,null,null,null,null,{"$f":"TODAY()","v":"2023-06-14"}]