{"text_format":"1","workbook":"xlsx","n_sheets":2,"sheets":["الرصيد الثابت","الدخول"],"not_rendered":{"charts":0,"images":0,"macros":1,"external_links":0,"defined_names":8,"comments":0,"pivot_tables":0},"unopened":[],"bounds":{"document_bytes":16777216,"sheet_cells":100000,"rows_first":2000,"rows_last":500,"rows_between":2000,"halvings":0,"cell_chars":16384,"cell_head_chars":4096},"cells_cut":0,"cells_raw":0,"read":"whole","date_system":"1900"}

{"sheet":"الرصيد الثابت","index":0,"n_rows":104,"n_cols":10,"rows_kept":104,"cut":false,"hidden":false,"merged":[]}
["اللون","الوصف","المقاس","اللون","رصيد اقتتاحي بالكيلو","رصيد اقتتاحي بالمتر","رصيد اقتتاحي بالقطع","رصيد ختامي يالكيلو","رصيد ختامي يالمتر","رصيد ختامي يالقطع"]
["ابيض","كروشيه","5.8cm",{"$f":"A2&\" \"&B2&\" \"&C2","v":"ابيض كروشيه 5.8cm"},1000,3000,15000,{"$f":"IF(E2=\"\",\"\",SUMIF(الدخول!$B$3:$B$37,D2,الدخول!$F$3:$F$37)+SUMIF(الدخول!$B$3:$B$37,D2,الدخول!$Q$3:$Q$37)+E2-SUMIF(الدخول!$B$3:$B$37,D2,الدخول!$K$3:$K$37))","v":1008},{"$f":"IF(F2=\"\",\"\",SUMIF(الدخول!$B$3:$B$37,D2,الدخول!$G$3:$G$37)+SUMIF(الدخول!$B$3:$B$37,D2,الدخول!$R$3:$R$37)+F2-SUMIF(الدخول!$B$3:$B$37,D2,الدخول!$L$3:$L$37))","v":3016},{"$f":"IF(G2=\"\",\"\",SUMIF(الدخول!$B$3:$B$37,D2,الدخول!$I$3:$I$37)+SUMIF(الدخول!$B$3:$B$37,D2,الدخول!$T$3:$T$37)+G2-SUMIF(الدخول!$B$3:$B$37,D2,الدخول!$N$3:$N$37))","v":15003}]
["ابيض","كروشيه","5.5cm",{"$f":"A3&\" \"&B3&\" \"&C3","v":"ابيض كروشيه 5.5cm"},9000,2500,5000,{"$f":"IF(E3=\"\",\"\",SUMIF(الدخول!$B$3:$B$37,D3,الدخول!$F$3:$F$37)+SUMIF(الدخول!$B$3:$B$37,D3,الدخول!$Q$3:$Q$37)+E3-SUMIF(الدخول!$B$3:$B$37,D3,الدخول!$K$3:$K$37))","v":9000},{"$f":"IF(F3=\"\",\"\",SUMIF(الدخول!$B$3:$B$37,D3,الدخول!$G$3:$G$37)+SUMIF(الدخول!$B$3:$B$37,D3,الدخول!$R$3:$R$37)+F3-SUMIF(الدخول!$B$3:$B$37,D3,الدخول!$L$3:$L$37))","v":2500},{"$f":"IF(G3=\"\",\"\",SUMIF(الدخول!$B$3:$B$37,D3,الدخول!$I$3:$I$37)+SUMIF(الدخول!$B$3:$B$37,D3,الدخول!$T$3:$T$37)+G3-SUMIF(الدخول!$B$3:$B$37,D3,الدخول!$N$3:$N$37))","v":5000}]
["ابيض","كروشيه","5.3cm","ابيض كروشيه 5.3cm",null,null,null,{"$f":"IF(E4=\"\",\"\",SUMIF(الدخول!$B$3:$B$37,D4,الدخول!$F$3:$F$37)+SUMIF(الدخول!$B$3:$B$37,D4,الدخول!$Q$3:$Q$37)+E4-SUMIF(الدخول!$B$3:$B$37,D4,الدخول!$K$3:$K$37))","v":""},{"$f":"IF(F4=\"\",\"\",SUMIF(الدخول!$B$3:$B$37,D4,الدخول!$G$3:$G$37)+SUMIF(الدخول!$B$3:$B$37,D4,الدخول!$R$3:$R$37)+F4-SUMIF(الدخول!$B$3:$B$37,D4,الدخول!$L$3:$L$37))","v":""},{"$f":"IF(G4=\"\",\"\",SUMIF(الدخول!$B$3:$B$37,D4,الدخول!$I$3:$I$37)+SUMIF(الدخول!$B$3:$B$37,D4,الدخول!$T$3:$T$37)+G4-SUMIF(الدخول!$B$3:$B$37,D4,الدخول!$N$3:$N$37))","v":""}]
["ابيض","كروشيه","5cm","ابيض كروشيه 5cm",null,null,null,{"$f":"IF(E5=\"\",\"\",SUMIF(الدخول!$B$3:$B$37,D5,الدخول!$F$3:$F$37)+SUMIF(الدخول!$B$3:$B$37,D5,الدخول!$Q$3:$Q$37)+E5-SUMIF(الدخول!$B$3:$B$37,D5,الدخول!$K$3:$K$37))","v":""},{"$f":"IF(F5=\"\",\"\",SUMIF(الدخول!$B$3:$B$37,D5,الدخول!$G$3:$G$37)+SUMIF(الدخول!$B$3:$B$37,D5,الدخول!$R$3:$R$37)+F5-SUMIF(الدخول!$B$3:$B$37,D5,الدخول!$L$3:$L$37))","v":""},{"$f":"IF(G5=\"\",\"\",SUMIF(الدخول!$B$3:$B$37,D5,الدخول!$I$3:$I$37)+SUMIF(الدخول!$B$3:$B$37,D5,الدخول!$T$3:$T$37)+G5-SUMIF(الدخول!$B$3:$B$37,D5,الدخول!$N$3:$N$37))","v":""}]
["ابيض","كروشيه","4.5cm","ابيض كروشيه 4.5cm",null,null,null,{"$f":"IF(E6=\"\",\"\",SUMIF(الدخول!$B$3:$B$37,D6,الدخول!$F$3:$F$37)+SUMIF(الدخول!$B$3:$B$37,D6,الدخول!$Q$3:$Q$37)+E6-SUMIF(الدخول!$B$3:$B$37,D6,الدخول!$K$3:$K$37))","v":""},{"$f":"IF(F6=\"\",\"\",SUMIF(الدخول!$B$3:$B$37,D6,الدخول!$G$3:$G$37)+SUMIF(الدخول!$B$3:$B$37,D6,الدخول!$R$3:$R$37)+F6-SUMIF(الدخول!$B$3:$B$37,D6,الدخول!$L$3:$L$37))","v":""},{"$f":"IF(G6=\"\",\"\",SUMIF(الدخول!$B$3:$B$37,D6,الدخول!$I$3:$I$37)+SUMIF(الدخول!$B$3:$B$37,D6,الدخول!$T$3:$T$37)+G6-SUMIF(الدخول!$B$3:$B$37,D6,الدخول!$N$3:$N$37))","v":""}]
["ابيض","كروشيه","4cm","ابيض كروشيه 4cm",null,null,null,{"$f":"IF(E7=\"\",\"\",SUMIF(الدخول!$B$3:$B$37,D7,الدخول!$F$3:$F$37)+SUMIF(الدخول!$B$3:$B$37,D7,الدخول!$Q$3:$Q$37)+E7-SUMIF(الدخول!$B$3:$B$37,D7,الدخول!$K$3:$K$37))","v":""},{"$f":"IF(F7=\"\",\"\",SUMIF(الدخول!$B$3:$B$37,D7,الدخول!$G$3:$G$37)+SUMIF(الدخول!$B$3:$B$37,D7,الدخول!$R$3:$R$37)+F7-SUMIF(الدخول!$B$3:$B$37,D7,الدخول!$L$3:$L$37))","v":""},{"$f":"IF(G7=\"\",\"\",SUMIF(الدخول!$B$3:$B$37,D7,الدخول!$I$3:$I$37)+SUMIF(الدخول!$B$3:$B$37,D7,الدخول!$T$3:$T$37)+G7-SUMIF(الدخول!$B$3:$B$37,D7,الدخول!$N$3:$N$37))","v":""}]
["ابيض","كروشيه","3.5cm","ابيض كروشيه 3.5cm",null,null,null,{"$f":"IF(E8=\"\",\"\",SUMIF(الدخول!$B$3:$B$37,D8,الدخول!$F$3:$F$37)+SUMIF(الدخول!$B$3:$B$37,D8,الدخول!$Q$3:$Q$37)+E8-SUMIF(الدخول!$B$3:$B$37,D8,الدخول!$K$3:$K$37))","v":""},{"$f":"IF(F8=\"\",\"\",SUMIF(الدخول!$B$3:$B$37,D8,الدخول!$G$3:$G$37)+SUMIF(الدخول!$B$3:$B$37,D8,الدخول!$R$3:$R$37)+F8-SUMIF(الدخول!$B$3:$B$37,D8,الدخول!$L$3:$L$37))","v":""},{"$f":"IF(G8=\"\",\"\",SUMIF(الدخول!$B$3:$B$37,D8,الدخول!$I$3:$I$37)+SUMIF(الدخول!$B$3:$B$37,D8,الدخول!$T$3:$T$37)+G8-SUMIF(الدخول!$B$3:$B$37,D8,الدخول!$N$3:$N$37))","v":""}]
["ابيض","كروشيه","3.2cm","ابيض كروشيه 3.2cm",null,null,null,{"$f":"IF(E9=\"\",\"\",SUMIF(الدخول!$B$3:$B$37,D9,الدخول!$F$3:$F$37)+SUMIF(الدخول!$B$3:$B$37,D9,الدخول!$Q$3:$Q$37)+E9-SUMIF(الدخول!$B$3:$B$37,D9,الدخول!$K$3:$K$37))","v":""},{"$f":"IF(F9=\"\",\"\",SUMIF(الدخول!$B$3:$B$37,D9,الدخول!$G$3:$G$37)+SUMIF(الدخول!$B$3:$B$37,D9,الدخول!$R$3:$R$37)+F9-SUMIF(الدخول!$B$3:$B$37,D9,الدخول!$L$3:$L$37))","v":""},{"$f":"IF(G9=\"\",\"\",SUMIF(الدخول!$B$3:$B$37,D9,الدخول!$I$3:$I$37)+SUMIF(الدخول!$B$3:$B$37,D9,الدخول!$T$3:$T$37)+G9-SUMIF(الدخول!$B$3:$B$37,D9,الدخول!$N$3:$N$37))","v":""}]
["ابيض","كروشيه","3cm","ابيض كروشيه 3cm",null,null,null,{"$f":"IF(E10=\"\",\"\",SUMIF(الدخول!$B$3:$B$37,D10,الدخول!$F$3:$F$37)+SUMIF(الدخول!$B$3:$B$37,D10,الدخول!$Q$3:$Q$37)+E10-SUMIF(الدخول!$B$3:$B$37,D10,الدخول!$K$3:$K$37))","v":""},{"$f":"IF(F10=\"\",\"\",SUMIF(الدخول!$B$3:$B$37,D10,الدخول!$G$3:$G$37)+SUMIF(الدخول!$B$3:$B$37,D10,الدخول!$R$3:$R$37)+F10-SUMIF(الدخول!$B$3:$B$37,D10,الدخول!$L$3:$L$37))","v":""},{"$f":"IF(G10=\"\",\"\",SUMIF(الدخول!$B$3:$B$37,D10,الدخول!$I$3:$I$37)+SUMIF(الدخول!$B$3:$B$37,D10,الدخول!$T$3:$T$37)+G10-SUMIF(الدخول!$B$3:$B$37,D10,الدخول!$N$3:$N$37))","v":""}]
["ابيض","كروشيه","2.2cm","ابيض كروشيه 2.2cm",null,null,null,{"$f":"IF(E11=\"\",\"\",SUMIF(الدخول!$B$3:$B$37,D11,الدخول!$F$3:$F$37)+SUMIF(الدخول!$B$3:$B$37,D11,الدخول!$Q$3:$Q$37)+E11-SUMIF(الدخول!$B$3:$B$37,D11,الدخول!$K$3:$K$37))","v":""},{"$f":"IF(F11=\"\",\"\",SUMIF(الدخول!$B$3:$B$37,D11,الدخول!$G$3:$G$37)+SUMIF(الدخول!$B$3:$B$37,D11,الدخول!$R$3:$R$37)+F11-SUMIF(الدخول!$B$3:$B$37,D11,الدخول!$L$3:$L$37))","v":""},{"$f":"IF(G11=\"\",\"\",SUMIF(الدخول!$B$3:$B$37,D11,الدخول!$I$3:$I$37)+SUMIF(الدخول!$B$3:$B$37,D11,الدخول!$T$3:$T$37)+G11-SUMIF(الدخول!$B$3:$B$37,D11,الدخول!$N$3:$N$37))","v":""}]
["ابيض","كروشيه","2cm","ابيض كروشيه 2cm",null,null,null,{"$f":"IF(E12=\"\",\"\",SUMIF(الدخول!$B$3:$B$37,D12,الدخول!$F$3:$F$37)+SUMIF(الدخول!$B$3:$B$37,D12,الدخول!$Q$3:$Q$37)+E12-SUMIF(الدخول!$B$3:$B$37,D12,الدخول!$K$3:$K$37))","v":""},{"$f":"IF(F12=\"\",\"\",SUMIF(الدخول!$B$3:$B$37,D12,الدخول!$G$3:$G$37)+SUMIF(الدخول!$B$3:$B$37,D12,الدخول!$R$3:$R$37)+F12-SUMIF(الدخول!$B$3:$B$37,D12,الدخول!$L$3:$L$37))","v":""},{"$f":"IF(G12=\"\",\"\",SUMIF(الدخول!$B$3:$B$37,D12,الدخول!$I$3:$I$37)+SUMIF(الدخول!$B$3:$B$37,D12,الدخول!$T$3:$T$37)+G12-SUMIF(الدخول!$B$3:$B$37,D12,الدخول!$N$3:$N$37))","v":""}]
["ابيض","كروشيه","1.5cm","ابيض كروشيه 1.5cm",null,null,null,{"$f":"IF(E13=\"\",\"\",SUMIF(الدخول!$B$3:$B$37,D13,الدخول!$F$3:$F$37)+SUMIF(الدخول!$B$3:$B$37,D13,الدخول!$Q$3:$Q$37)+E13-SUMIF(الدخول!$B$3:$B$37,D13,الدخول!$K$3:$K$37))","v":""},{"$f":"IF(F13=\"\",\"\",SUMIF(الدخول!$B$3:$B$37,D13,الدخول!$G$3:$G$37)+SUMIF(الدخول!$B$3:$B$37,D13,الدخول!$R$3:$R$37)+F13-SUMIF(الدخول!$B$3:$B$37,D13,الدخول!$L$3:$L$37))","v":""},{"$f":"IF(G13=\"\",\"\",SUMIF(الدخول!$B$3:$B$37,D13,الدخول!$I$3:$I$37)+SUMIF(الدخول!$B$3:$B$37,D13,الدخول!$T$3:$T$37)+G13-SUMIF(الدخول!$B$3:$B$37,D13,الدخول!$N$3:$N$37))","v":""}]
["ابيض","كروشيه","1.2cm","ابيض كروشيه 1.2cm",null,null,null,{"$f":"IF(E14=\"\",\"\",SUMIF(الدخول!$B$3:$B$37,D14,الدخول!$F$3:$F$37)+SUMIF(الدخول!$B$3:$B$37,D14,الدخول!$Q$3:$Q$37)+E14-SUMIF(الدخول!$B$3:$B$37,D14,الدخول!$K$3:$K$37))","v":""},{"$f":"IF(F14=\"\",\"\",SUMIF(الدخول!$B$3:$B$37,D14,الدخول!$G$3:$G$37)+SUMIF(الدخول!$B$3:$B$37,D14,الدخول!$R$3:$R$37)+F14-SUMIF(الدخول!$B$3:$B$37,D14,الدخول!$L$3:$L$37))","v":""},{"$f":"IF(G14=\"\",\"\",SUMIF(الدخول!$B$3:$B$37,D14,الدخول!$I$3:$I$37)+SUMIF(الدخول!$B$3:$B$37,D14,الدخول!$T$3:$T$37)+G14-SUMIF(الدخول!$B$3:$B$37,D14,الدخول!$N$3:$N$37))","v":""}]
["ابيض","كروشيه","1cm","ابيض كروشيه 1cm",null,null,null,{"$f":"IF(E15=\"\",\"\",SUMIF(الدخول!$B$3:$B$37,D15,الدخول!$F$3:$F$37)+SUMIF(الدخول!$B$3:$B$37,D15,الدخول!$Q$3:$Q$37)+E15-SUMIF(الدخول!$B$3:$B$37,D15,الدخول!$K$3:$K$37))","v":""},{"$f":"IF(F15=\"\",\"\",SUMIF(الدخول!$B$3:$B$37,D15,الدخول!$G$3:$G$37)+SUMIF(الدخول!$B$3:$B$37,D15,الدخول!$R$3:$R$37)+F15-SUMIF(الدخول!$B$3:$B$37,D15,الدخول!$L$3:$L$37))","v":""},{"$f":"IF(G15=\"\",\"\",SUMIF(الدخول!$B$3:$B$37,D15,الدخول!$I$3:$I$37)+SUMIF(الدخول!$B$3:$B$37,D15,الدخول!$T$3:$T$37)+G15-SUMIF(الدخول!$B$3:$B$37,D15,الدخول!$N$3:$N$37))","v":""}]
["ابيض","كروشيه","8mm","ابيض كروشيه 8mm",null,null,null,{"$f":"IF(E16=\"\",\"\",SUMIF(الدخول!$B$3:$B$37,D16,الدخول!$F$3:$F$37)+SUMIF(الدخول!$B$3:$B$37,D16,الدخول!$Q$3:$Q$37)+E16-SUMIF(الدخول!$B$3:$B$37,D16,الدخول!$K$3:$K$37))","v":""},{"$f":"IF(F16=\"\",\"\",SUMIF(الدخول!$B$3:$B$37,D16,الدخول!$G$3:$G$37)+SUMIF(الدخول!$B$3:$B$37,D16,الدخول!$R$3:$R$37)+F16-SUMIF(الدخول!$B$3:$B$37,D16,الدخول!$L$3:$L$37))","v":""},{"$f":"IF(G16=\"\",\"\",SUMIF(الدخول!$B$3:$B$37,D16,الدخول!$I$3:$I$37)+SUMIF(الدخول!$B$3:$B$37,D16,الدخول!$T$3:$T$37)+G16-SUMIF(الدخول!$B$3:$B$37,D16,الدخول!$N$3:$N$37))","v":""}]
["ابيض","كروشيه","7mm","ابيض كروشيه 7mm",null,null,null,{"$f":"IF(E17=\"\",\"\",SUMIF(الدخول!$B$3:$B$37,D17,الدخول!$F$3:$F$37)+SUMIF(الدخول!$B$3:$B$37,D17,الدخول!$Q$3:$Q$37)+E17-SUMIF(الدخول!$B$3:$B$37,D17,الدخول!$K$3:$K$37))","v":""},{"$f":"IF(F17=\"\",\"\",SUMIF(الدخول!$B$3:$B$37,D17,الدخول!$G$3:$G$37)+SUMIF(الدخول!$B$3:$B$37,D17,الدخول!$R$3:$R$37)+F17-SUMIF(الدخول!$B$3:$B$37,D17,الدخول!$L$3:$L$37))","v":""},{"$f":"IF(G17=\"\",\"\",SUMIF(الدخول!$B$3:$B$37,D17,الدخول!$I$3:$I$37)+SUMIF(الدخول!$B$3:$B$37,D17,الدخول!$T$3:$T$37)+G17-SUMIF(الدخول!$B$3:$B$37,D17,الدخول!$N$3:$N$37))","v":""}]
["ابيض","كروشيه","6mm","ابيض كروشيه 6mm",null,null,null,{"$f":"IF(E18=\"\",\"\",SUMIF(الدخول!$B$3:$B$37,D18,الدخول!$F$3:$F$37)+SUMIF(الدخول!$B$3:$B$37,D18,الدخول!$Q$3:$Q$37)+E18-SUMIF(الدخول!$B$3:$B$37,D18,الدخول!$K$3:$K$37))","v":""},{"$f":"IF(F18=\"\",\"\",SUMIF(الدخول!$B$3:$B$37,D18,الدخول!$G$3:$G$37)+SUMIF(الدخول!$B$3:$B$37,D18,الدخول!$R$3:$R$37)+F18-SUMIF(الدخول!$B$3:$B$37,D18,الدخول!$L$3:$L$37))","v":""},{"$f":"IF(G18=\"\",\"\",SUMIF(الدخول!$B$3:$B$37,D18,الدخول!$I$3:$I$37)+SUMIF(الدخول!$B$3:$B$37,D18,الدخول!$T$3:$T$37)+G18-SUMIF(الدخول!$B$3:$B$37,D18,الدخول!$N$3:$N$37))","v":""}]
["ابيض","كروشيه","5mm","ابيض كروشيه 5mm",null,null,null,{"$f":"IF(E19=\"\",\"\",SUMIF(الدخول!$B$3:$B$37,D19,الدخول!$F$3:$F$37)+SUMIF(الدخول!$B$3:$B$37,D19,الدخول!$Q$3:$Q$37)+E19-SUMIF(الدخول!$B$3:$B$37,D19,الدخول!$K$3:$K$37))","v":""},{"$f":"IF(F19=\"\",\"\",SUMIF(الدخول!$B$3:$B$37,D19,الدخول!$G$3:$G$37)+SUMIF(الدخول!$B$3:$B$37,D19,الدخول!$R$3:$R$37)+F19-SUMIF(الدخول!$B$3:$B$37,D19,الدخول!$L$3:$L$37))","v":""},{"$f":"IF(G19=\"\",\"\",SUMIF(الدخول!$B$3:$B$37,D19,الدخول!$I$3:$I$37)+SUMIF(الدخول!$B$3:$B$37,D19,الدخول!$T$3:$T$37)+G19-SUMIF(الدخول!$B$3:$B$37,D19,الدخول!$N$3:$N$37))","v":""}]
["ابيض","كروشيه","2.5cm","ابيض كروشيه 2.5cm",null,null,null,{"$f":"IF(E20=\"\",\"\",SUMIF(الدخول!$B$3:$B$37,D20,الدخول!$F$3:$F$37)+SUMIF(الدخول!$B$3:$B$37,D20,الدخول!$Q$3:$Q$37)+E20-SUMIF(الدخول!$B$3:$B$37,D20,الدخول!$K$3:$K$37))","v":""},{"$f":"IF(F20=\"\",\"\",SUMIF(الدخول!$B$3:$B$37,D20,الدخول!$G$3:$G$37)+SUMIF(الدخول!$B$3:$B$37,D20,الدخول!$R$3:$R$37)+F20-SUMIF(الدخول!$B$3:$B$37,D20,الدخول!$L$3:$L$37))","v":""},{"$f":"IF(G20=\"\",\"\",SUMIF(الدخول!$B$3:$B$37,D20,الدخول!$I$3:$I$37)+SUMIF(الدخول!$B$3:$B$37,D20,الدخول!$T$3:$T$37)+G20-SUMIF(الدخول!$B$3:$B$37,D20,الدخول!$N$3:$N$37))","v":""}]
["ابيض","كروشيه","6.5cm","ابيض كروشيه 6.5cm",null,null,null,{"$f":"IF(E21=\"\",\"\",SUMIF(الدخول!$B$3:$B$37,D21,الدخول!$F$3:$F$37)+SUMIF(الدخول!$B$3:$B$37,D21,الدخول!$Q$3:$Q$37)+E21-SUMIF(الدخول!$B$3:$B$37,D21,الدخول!$K$3:$K$37))","v":""},{"$f":"IF(F21=\"\",\"\",SUMIF(الدخول!$B$3:$B$37,D21,الدخول!$G$3:$G$37)+SUMIF(الدخول!$B$3:$B$37,D21,الدخول!$R$3:$R$37)+F21-SUMIF(الدخول!$B$3:$B$37,D21,الدخول!$L$3:$L$37))","v":""},{"$f":"IF(G21=\"\",\"\",SUMIF(الدخول!$B$3:$B$37,D21,الدخول!$I$3:$I$37)+SUMIF(الدخول!$B$3:$B$37,D21,الدخول!$T$3:$T$37)+G21-SUMIF(الدخول!$B$3:$B$37,D21,الدخول!$N$3:$N$37))","v":""}]
["ابيض","كروشيه","1.8cm","ابيض كروشيه 1.8cm",null,null,null,{"$f":"IF(E22=\"\",\"\",SUMIF(الدخول!$B$3:$B$37,D22,الدخول!$F$3:$F$37)+SUMIF(الدخول!$B$3:$B$37,D22,الدخول!$Q$3:$Q$37)+E22-SUMIF(الدخول!$B$3:$B$37,D22,الدخول!$K$3:$K$37))","v":""},{"$f":"IF(F22=\"\",\"\",SUMIF(الدخول!$B$3:$B$37,D22,الدخول!$G$3:$G$37)+SUMIF(الدخول!$B$3:$B$37,D22,الدخول!$R$3:$R$37)+F22-SUMIF(الدخول!$B$3:$B$37,D22,الدخول!$L$3:$L$37))","v":""},{"$f":"IF(G22=\"\",\"\",SUMIF(الدخول!$B$3:$B$37,D22,الدخول!$I$3:$I$37)+SUMIF(الدخول!$B$3:$B$37,D22,الدخول!$T$3:$T$37)+G22-SUMIF(الدخول!$B$3:$B$37,D22,الدخول!$N$3:$N$37))","v":""}]
["ابيض","كروشيه",1.8,"ابيض كروشيه 1.8",null,null,null,{"$f":"IF(E23=\"\",\"\",SUMIF(الدخول!$B$3:$B$37,D23,الدخول!$F$3:$F$37)+SUMIF(الدخول!$B$3:$B$37,D23,الدخول!$Q$3:$Q$37)+E23-SUMIF(الدخول!$B$3:$B$37,D23,الدخول!$K$3:$K$37))","v":""},{"$f":"IF(F23=\"\",\"\",SUMIF(الدخول!$B$3:$B$37,D23,الدخول!$G$3:$G$37)+SUMIF(الدخول!$B$3:$B$37,D23,الدخول!$R$3:$R$37)+F23-SUMIF(الدخول!$B$3:$B$37,D23,الدخول!$L$3:$L$37))","v":""},{"$f":"IF(G23=\"\",\"\",SUMIF(الدخول!$B$3:$B$37,D23,الدخول!$I$3:$I$37)+SUMIF(الدخول!$B$3:$B$37,D23,الدخول!$T$3:$T$37)+G23-SUMIF(الدخول!$B$3:$B$37,D23,الدخول!$N$3:$N$37))","v":""}]
["ابيض","كروشيه",".8m","ابيض كروشيه .8m",null,null,null,{"$f":"IF(E24=\"\",\"\",SUMIF(الدخول!$B$3:$B$37,D24,الدخول!$F$3:$F$37)+SUMIF(الدخول!$B$3:$B$37,D24,الدخول!$Q$3:$Q$37)+E24-SUMIF(الدخول!$B$3:$B$37,D24,الدخول!$K$3:$K$37))","v":""},{"$f":"IF(F24=\"\",\"\",SUMIF(الدخول!$B$3:$B$37,D24,الدخول!$G$3:$G$37)+SUMIF(الدخول!$B$3:$B$37,D24,الدخول!$R$3:$R$37)+F24-SUMIF(الدخول!$B$3:$B$37,D24,الدخول!$L$3:$L$37))","v":""},{"$f":"IF(G24=\"\",\"\",SUMIF(الدخول!$B$3:$B$37,D24,الدخول!$I$3:$I$37)+SUMIF(الدخول!$B$3:$B$37,D24,الدخول!$T$3:$T$37)+G24-SUMIF(الدخول!$B$3:$B$37,D24,الدخول!$N$3:$N$37))","v":""}]
["ابيض","كروشيه","7cm","ابيض كروشيه 7cm",null,null,null,{"$f":"IF(E25=\"\",\"\",SUMIF(الدخول!$B$3:$B$37,D25,الدخول!$F$3:$F$37)+SUMIF(الدخول!$B$3:$B$37,D25,الدخول!$Q$3:$Q$37)+E25-SUMIF(الدخول!$B$3:$B$37,D25,الدخول!$K$3:$K$37))","v":""},{"$f":"IF(F25=\"\",\"\",SUMIF(الدخول!$B$3:$B$37,D25,الدخول!$G$3:$G$37)+SUMIF(الدخول!$B$3:$B$37,D25,الدخول!$R$3:$R$37)+F25-SUMIF(الدخول!$B$3:$B$37,D25,الدخول!$L$3:$L$37))","v":""},{"$f":"IF(G25=\"\",\"\",SUMIF(الدخول!$B$3:$B$37,D25,الدخول!$I$3:$I$37)+SUMIF(الدخول!$B$3:$B$37,D25,الدخول!$T$3:$T$37)+G25-SUMIF(الدخول!$B$3:$B$37,D25,الدخول!$N$3:$N$37))","v":""}]
["ابيض","كروشيه","6.3cm","ابيض كروشيه 6.3cm",null,null,null,{"$f":"IF(E26=\"\",\"\",SUMIF(الدخول!$B$3:$B$37,D26,الدخول!$F$3:$F$37)+SUMIF(الدخول!$B$3:$B$37,D26,الدخول!$Q$3:$Q$37)+E26-SUMIF(الدخول!$B$3:$B$37,D26,الدخول!$K$3:$K$37))","v":""},{"$f":"IF(F26=\"\",\"\",SUMIF(الدخول!$B$3:$B$37,D26,الدخول!$G$3:$G$37)+SUMIF(الدخول!$B$3:$B$37,D26,الدخول!$R$3:$R$37)+F26-SUMIF(الدخول!$B$3:$B$37,D26,الدخول!$L$3:$L$37))","v":""},{"$f":"IF(G26=\"\",\"\",SUMIF(الدخول!$B$3:$B$37,D26,الدخول!$I$3:$I$37)+SUMIF(الدخول!$B$3:$B$37,D26,الدخول!$T$3:$T$37)+G26-SUMIF(الدخول!$B$3:$B$37,D26,الدخول!$N$3:$N$37))","v":""}]
["ابيض","كروشيه","0.2m","ابيض كروشيه 0.2m",null,null,null,{"$f":"IF(E27=\"\",\"\",SUMIF(الدخول!$B$3:$B$37,D27,الدخول!$F$3:$F$37)+SUMIF(الدخول!$B$3:$B$37,D27,الدخول!$Q$3:$Q$37)+E27-SUMIF(الدخول!$B$3:$B$37,D27,الدخول!$K$3:$K$37))","v":""},{"$f":"IF(F27=\"\",\"\",SUMIF(الدخول!$B$3:$B$37,D27,الدخول!$G$3:$G$37)+SUMIF(الدخول!$B$3:$B$37,D27,الدخول!$R$3:$R$37)+F27-SUMIF(الدخول!$B$3:$B$37,D27,الدخول!$L$3:$L$37))","v":""},{"$f":"IF(G27=\"\",\"\",SUMIF(الدخول!$B$3:$B$37,D27,الدخول!$I$3:$I$37)+SUMIF(الدخول!$B$3:$B$37,D27,الدخول!$T$3:$T$37)+G27-SUMIF(الدخول!$B$3:$B$37,D27,الدخول!$N$3:$N$37))","v":""}]
["ابيض","كروشيه",".5m","ابيض كروشيه .5m",null,null,null,{"$f":"IF(E28=\"\",\"\",SUMIF(الدخول!$B$3:$B$37,D28,الدخول!$F$3:$F$37)+SUMIF(الدخول!$B$3:$B$37,D28,الدخول!$Q$3:$Q$37)+E28-SUMIF(الدخول!$B$3:$B$37,D28,الدخول!$K$3:$K$37))","v":""},{"$f":"IF(F28=\"\",\"\",SUMIF(الدخول!$B$3:$B$37,D28,الدخول!$G$3:$G$37)+SUMIF(الدخول!$B$3:$B$37,D28,الدخول!$R$3:$R$37)+F28-SUMIF(الدخول!$B$3:$B$37,D28,الدخول!$L$3:$L$37))","v":""},{"$f":"IF(G28=\"\",\"\",SUMIF(الدخول!$B$3:$B$37,D28,الدخول!$I$3:$I$37)+SUMIF(الدخول!$B$3:$B$37,D28,الدخول!$T$3:$T$37)+G28-SUMIF(الدخول!$B$3:$B$37,D28,الدخول!$N$3:$N$37))","v":""}]
["ابيض","كروشيه",".6m","ابيض كروشيه .6m",null,null,null,{"$f":"IF(E29=\"\",\"\",SUMIF(الدخول!$B$3:$B$37,D29,الدخول!$F$3:$F$37)+SUMIF(الدخول!$B$3:$B$37,D29,الدخول!$Q$3:$Q$37)+E29-SUMIF(الدخول!$B$3:$B$37,D29,الدخول!$K$3:$K$37))","v":""},{"$f":"IF(F29=\"\",\"\",SUMIF(الدخول!$B$3:$B$37,D29,الدخول!$G$3:$G$37)+SUMIF(الدخول!$B$3:$B$37,D29,الدخول!$R$3:$R$37)+F29-SUMIF(الدخول!$B$3:$B$37,D29,الدخول!$L$3:$L$37))","v":""},{"$f":"IF(G29=\"\",\"\",SUMIF(الدخول!$B$3:$B$37,D29,الدخول!$I$3:$I$37)+SUMIF(الدخول!$B$3:$B$37,D29,الدخول!$T$3:$T$37)+G29-SUMIF(الدخول!$B$3:$B$37,D29,الدخول!$N$3:$N$37))","v":""}]
["ابيض","كروشيه",".7m","ابيض كروشيه .7m",null,null,null,{"$f":"IF(E30=\"\",\"\",SUMIF(الدخول!$B$3:$B$37,D30,الدخول!$F$3:$F$37)+SUMIF(الدخول!$B$3:$B$37,D30,الدخول!$Q$3:$Q$37)+E30-SUMIF(الدخول!$B$3:$B$37,D30,الدخول!$K$3:$K$37))","v":""},{"$f":"IF(F30=\"\",\"\",SUMIF(الدخول!$B$3:$B$37,D30,الدخول!$G$3:$G$37)+SUMIF(الدخول!$B$3:$B$37,D30,الدخول!$R$3:$R$37)+F30-SUMIF(الدخول!$B$3:$B$37,D30,الدخول!$L$3:$L$37))","v":""},{"$f":"IF(G30=\"\",\"\",SUMIF(الدخول!$B$3:$B$37,D30,الدخول!$I$3:$I$37)+SUMIF(الدخول!$B$3:$B$37,D30,الدخول!$T$3:$T$37)+G30-SUMIF(الدخول!$B$3:$B$37,D30,الدخول!$N$3:$N$37))","v":""}]
["ابيض","كروشيه","1.6cm","ابيض كروشيه 1.6cm",null,null,null,{"$f":"IF(E31=\"\",\"\",SUMIF(الدخول!$B$3:$B$37,D31,الدخول!$F$3:$F$37)+SUMIF(الدخول!$B$3:$B$37,D31,الدخول!$Q$3:$Q$37)+E31-SUMIF(الدخول!$B$3:$B$37,D31,الدخول!$K$3:$K$37))","v":""},{"$f":"IF(F31=\"\",\"\",SUMIF(الدخول!$B$3:$B$37,D31,الدخول!$G$3:$G$37)+SUMIF(الدخول!$B$3:$B$37,D31,الدخول!$R$3:$R$37)+F31-SUMIF(الدخول!$B$3:$B$37,D31,الدخول!$L$3:$L$37))","v":""},{"$f":"IF(G31=\"\",\"\",SUMIF(الدخول!$B$3:$B$37,D31,الدخول!$I$3:$I$37)+SUMIF(الدخول!$B$3:$B$37,D31,الدخول!$T$3:$T$37)+G31-SUMIF(الدخول!$B$3:$B$37,D31,الدخول!$N$3:$N$37))","v":""}]
["ابيض","كروشيه","1.3cm","ابيض كروشيه 1.3cm",null,null,null,{"$f":"IF(E32=\"\",\"\",SUMIF(الدخول!$B$3:$B$37,D32,الدخول!$F$3:$F$37)+SUMIF(الدخول!$B$3:$B$37,D32,الدخول!$Q$3:$Q$37)+E32-SUMIF(الدخول!$B$3:$B$37,D32,الدخول!$K$3:$K$37))","v":""},{"$f":"IF(F32=\"\",\"\",SUMIF(الدخول!$B$3:$B$37,D32,الدخول!$G$3:$G$37)+SUMIF(الدخول!$B$3:$B$37,D32,الدخول!$R$3:$R$37)+F32-SUMIF(الدخول!$B$3:$B$37,D32,الدخول!$L$3:$L$37))","v":""},{"$f":"IF(G32=\"\",\"\",SUMIF(الدخول!$B$3:$B$37,D32,الدخول!$I$3:$I$37)+SUMIF(الدخول!$B$3:$B$37,D32,الدخول!$T$3:$T$37)+G32-SUMIF(الدخول!$B$3:$B$37,D32,الدخول!$N$3:$N$37))","v":""}]
["ابيض","كروشيه","1.8.cm","ابيض كروشيه 1.8.cm",null,null,null,{"$f":"IF(E33=\"\",\"\",SUMIF(الدخول!$B$3:$B$37,D33,الدخول!$F$3:$F$37)+SUMIF(الدخول!$B$3:$B$37,D33,الدخول!$Q$3:$Q$37)+E33-SUMIF(الدخول!$B$3:$B$37,D33,الدخول!$K$3:$K$37))","v":""},{"$f":"IF(F33=\"\",\"\",SUMIF(الدخول!$B$3:$B$37,D33,الدخول!$G$3:$G$37)+SUMIF(الدخول!$B$3:$B$37,D33,الدخول!$R$3:$R$37)+F33-SUMIF(الدخول!$B$3:$B$37,D33,الدخول!$L$3:$L$37))","v":""},{"$f":"IF(G33=\"\",\"\",SUMIF(الدخول!$B$3:$B$37,D33,الدخول!$I$3:$I$37)+SUMIF(الدخول!$B$3:$B$37,D33,الدخول!$T$3:$T$37)+G33-SUMIF(الدخول!$B$3:$B$37,D33,الدخول!$N$3:$N$37))","v":""}]
["ابيض","ووفين فستون","1cm","ابيض ووفين فستون 1cm",null,null,null,{"$f":"IF(E34=\"\",\"\",SUMIF(الدخول!$B$3:$B$37,D34,الدخول!$F$3:$F$37)+SUMIF(الدخول!$B$3:$B$37,D34,الدخول!$Q$3:$Q$37)+E34-SUMIF(الدخول!$B$3:$B$37,D34,الدخول!$K$3:$K$37))","v":""},{"$f":"IF(F34=\"\",\"\",SUMIF(الدخول!$B$3:$B$37,D34,الدخول!$G$3:$G$37)+SUMIF(الدخول!$B$3:$B$37,D34,الدخول!$R$3:$R$37)+F34-SUMIF(الدخول!$B$3:$B$37,D34,الدخول!$L$3:$L$37))","v":""},{"$f":"IF(G34=\"\",\"\",SUMIF(الدخول!$B$3:$B$37,D34,الدخول!$I$3:$I$37)+SUMIF(الدخول!$B$3:$B$37,D34,الدخول!$T$3:$T$37)+G34-SUMIF(الدخول!$B$3:$B$37,D34,الدخول!$N$3:$N$37))","v":""}]
["ابيض","استك طبي",3.18,"ابيض استك طبي 3.18",null,null,null,{"$f":"IF(E35=\"\",\"\",SUMIF(الدخول!$B$3:$B$37,D35,الدخول!$F$3:$F$37)+SUMIF(الدخول!$B$3:$B$37,D35,الدخول!$Q$3:$Q$37)+E35-SUMIF(الدخول!$B$3:$B$37,D35,الدخول!$K$3:$K$37))","v":""},{"$f":"IF(F35=\"\",\"\",SUMIF(الدخول!$B$3:$B$37,D35,الدخول!$G$3:$G$37)+SUMIF(الدخول!$B$3:$B$37,D35,الدخول!$R$3:$R$37)+F35-SUMIF(الدخول!$B$3:$B$37,D35,الدخول!$L$3:$L$37))","v":""},{"$f":"IF(G35=\"\",\"\",SUMIF(الدخول!$B$3:$B$37,D35,الدخول!$I$3:$I$37)+SUMIF(الدخول!$B$3:$B$37,D35,الدخول!$T$3:$T$37)+G35-SUMIF(الدخول!$B$3:$B$37,D35,الدخول!$N$3:$N$37))","v":""}]
["ابيض","استك طبي",4.1399999999999997,"ابيض استك طبي 4.14",null,null,null,{"$f":"IF(E36=\"\",\"\",SUMIF(الدخول!$B$3:$B$37,D36,الدخول!$F$3:$F$37)+SUMIF(الدخول!$B$3:$B$37,D36,الدخول!$Q$3:$Q$37)+E36-SUMIF(الدخول!$B$3:$B$37,D36,الدخول!$K$3:$K$37))","v":""},{"$f":"IF(F36=\"\",\"\",SUMIF(الدخول!$B$3:$B$37,D36,الدخول!$G$3:$G$37)+SUMIF(الدخول!$B$3:$B$37,D36,الدخول!$R$3:$R$37)+F36-SUMIF(الدخول!$B$3:$B$37,D36,الدخول!$L$3:$L$37))","v":""},{"$f":"IF(G36=\"\",\"\",SUMIF(الدخول!$B$3:$B$37,D36,الدخول!$I$3:$I$37)+SUMIF(الدخول!$B$3:$B$37,D36,الدخول!$T$3:$T$37)+G36-SUMIF(الدخول!$B$3:$B$37,D36,الدخول!$N$3:$N$37))","v":""}]
["ابيض","استك طبي",2.78,"ابيض استك طبي 2.78",null,null,null,{"$f":"IF(E37=\"\",\"\",SUMIF(الدخول!$B$3:$B$37,D37,الدخول!$F$3:$F$37)+SUMIF(الدخول!$B$3:$B$37,D37,الدخول!$Q$3:$Q$37)+E37-SUMIF(الدخول!$B$3:$B$37,D37,الدخول!$K$3:$K$37))","v":""},{"$f":"IF(F37=\"\",\"\",SUMIF(الدخول!$B$3:$B$37,D37,الدخول!$G$3:$G$37)+SUMIF(الدخول!$B$3:$B$37,D37,الدخول!$R$3:$R$37)+F37-SUMIF(الدخول!$B$3:$B$37,D37,الدخول!$L$3:$L$37))","v":""},{"$f":"IF(G37=\"\",\"\",SUMIF(الدخول!$B$3:$B$37,D37,الدخول!$I$3:$I$37)+SUMIF(الدخول!$B$3:$B$37,D37,الدخول!$T$3:$T$37)+G37-SUMIF(الدخول!$B$3:$B$37,D37,الدخول!$N$3:$N$37))","v":""}]
["ابيض","استك طبي",7.52,"ابيض استك طبي 7.52",null,null,null,{"$f":"IF(E38=\"\",\"\",SUMIF(الدخول!$B$3:$B$37,D38,الدخول!$F$3:$F$37)+SUMIF(الدخول!$B$3:$B$37,D38,الدخول!$Q$3:$Q$37)+E38-SUMIF(الدخول!$B$3:$B$37,D38,الدخول!$K$3:$K$37))","v":""},{"$f":"IF(F38=\"\",\"\",SUMIF(الدخول!$B$3:$B$37,D38,الدخول!$G$3:$G$37)+SUMIF(الدخول!$B$3:$B$37,D38,الدخول!$R$3:$R$37)+F38-SUMIF(الدخول!$B$3:$B$37,D38,الدخول!$L$3:$L$37))","v":""},{"$f":"IF(G38=\"\",\"\",SUMIF(الدخول!$B$3:$B$37,D38,الدخول!$I$3:$I$37)+SUMIF(الدخول!$B$3:$B$37,D38,الدخول!$T$3:$T$37)+G38-SUMIF(الدخول!$B$3:$B$37,D38,الدخول!$N$3:$N$37))","v":""}]
["ابيض","استك طبي",3.5,"ابيض استك طبي 3.5",null,null,null,{"$f":"IF(E39=\"\",\"\",SUMIF(الدخول!$B$3:$B$37,D39,الدخول!$F$3:$F$37)+SUMIF(الدخول!$B$3:$B$37,D39,الدخول!$Q$3:$Q$37)+E39-SUMIF(الدخول!$B$3:$B$37,D39,الدخول!$K$3:$K$37))","v":""},{"$f":"IF(F39=\"\",\"\",SUMIF(الدخول!$B$3:$B$37,D39,الدخول!$G$3:$G$37)+SUMIF(الدخول!$B$3:$B$37,D39,الدخول!$R$3:$R$37)+F39-SUMIF(الدخول!$B$3:$B$37,D39,الدخول!$L$3:$L$37))","v":""},{"$f":"IF(G39=\"\",\"\",SUMIF(الدخول!$B$3:$B$37,D39,الدخول!$I$3:$I$37)+SUMIF(الدخول!$B$3:$B$37,D39,الدخول!$T$3:$T$37)+G39-SUMIF(الدخول!$B$3:$B$37,D39,الدخول!$N$3:$N$37))","v":""}]
["ابيض","استك طبي",3.3,"ابيض استك طبي 3.3",null,null,null,{"$f":"IF(E40=\"\",\"\",SUMIF(الدخول!$B$3:$B$37,D40,الدخول!$F$3:$F$37)+SUMIF(الدخول!$B$3:$B$37,D40,الدخول!$Q$3:$Q$37)+E40-SUMIF(الدخول!$B$3:$B$37,D40,الدخول!$K$3:$K$37))","v":""},{"$f":"IF(F40=\"\",\"\",SUMIF(الدخول!$B$3:$B$37,D40,الدخول!$G$3:$G$37)+SUMIF(الدخول!$B$3:$B$37,D40,الدخول!$R$3:$R$37)+F40-SUMIF(الدخول!$B$3:$B$37,D40,الدخول!$L$3:$L$37))","v":""},{"$f":"IF(G40=\"\",\"\",SUMIF(الدخول!$B$3:$B$37,D40,الدخول!$I$3:$I$37)+SUMIF(الدخول!$B$3:$B$37,D40,الدخول!$T$3:$T$37)+G40-SUMIF(الدخول!$B$3:$B$37,D40,الدخول!$N$3:$N$37))","v":""}]
["ابيض","استك طبي",3.36,"ابيض استك طبي 3.36",null,null,null,{"$f":"IF(E41=\"\",\"\",SUMIF(الدخول!$B$3:$B$37,D41,الدخول!$F$3:$F$37)+SUMIF(الدخول!$B$3:$B$37,D41,الدخول!$Q$3:$Q$37)+E41-SUMIF(الدخول!$B$3:$B$37,D41,الدخول!$K$3:$K$37))","v":""},{"$f":"IF(F41=\"\",\"\",SUMIF(الدخول!$B$3:$B$37,D41,الدخول!$G$3:$G$37)+SUMIF(الدخول!$B$3:$B$37,D41,الدخول!$R$3:$R$37)+F41-SUMIF(الدخول!$B$3:$B$37,D41,الدخول!$L$3:$L$37))","v":""},{"$f":"IF(G41=\"\",\"\",SUMIF(الدخول!$B$3:$B$37,D41,الدخول!$I$3:$I$37)+SUMIF(الدخول!$B$3:$B$37,D41,الدخول!$T$3:$T$37)+G41-SUMIF(الدخول!$B$3:$B$37,D41,الدخول!$N$3:$N$37))","v":""}]
["ابيض","استك طبي",2.58,"ابيض استك طبي 2.58",null,null,null,{"$f":"IF(E42=\"\",\"\",SUMIF(الدخول!$B$3:$B$37,D42,الدخول!$F$3:$F$37)+SUMIF(الدخول!$B$3:$B$37,D42,الدخول!$Q$3:$Q$37)+E42-SUMIF(الدخول!$B$3:$B$37,D42,الدخول!$K$3:$K$37))","v":""},{"$f":"IF(F42=\"\",\"\",SUMIF(الدخول!$B$3:$B$37,D42,الدخول!$G$3:$G$37)+SUMIF(الدخول!$B$3:$B$37,D42,الدخول!$R$3:$R$37)+F42-SUMIF(الدخول!$B$3:$B$37,D42,الدخول!$L$3:$L$37))","v":""},{"$f":"IF(G42=\"\",\"\",SUMIF(الدخول!$B$3:$B$37,D42,الدخول!$I$3:$I$37)+SUMIF(الدخول!$B$3:$B$37,D42,الدخول!$T$3:$T$37)+G42-SUMIF(الدخول!$B$3:$B$37,D42,الدخول!$N$3:$N$37))","v":""}]
["ابيض","استك طبي",3.02,"ابيض استك طبي 3.02",null,null,null,{"$f":"IF(E43=\"\",\"\",SUMIF(الدخول!$B$3:$B$37,D43,الدخول!$F$3:$F$37)+SUMIF(الدخول!$B$3:$B$37,D43,الدخول!$Q$3:$Q$37)+E43-SUMIF(الدخول!$B$3:$B$37,D43,الدخول!$K$3:$K$37))","v":""},{"$f":"IF(F43=\"\",\"\",SUMIF(الدخول!$B$3:$B$37,D43,الدخول!$G$3:$G$37)+SUMIF(الدخول!$B$3:$B$37,D43,الدخول!$R$3:$R$37)+F43-SUMIF(الدخول!$B$3:$B$37,D43,الدخول!$L$3:$L$37))","v":""},{"$f":"IF(G43=\"\",\"\",SUMIF(الدخول!$B$3:$B$37,D43,الدخول!$I$3:$I$37)+SUMIF(الدخول!$B$3:$B$37,D43,الدخول!$T$3:$T$37)+G43-SUMIF(الدخول!$B$3:$B$37,D43,الدخول!$N$3:$N$37))","v":""}]
["ابيض","استك طبي",4.92,"ابيض استك طبي 4.92",null,null,null,{"$f":"IF(E44=\"\",\"\",SUMIF(الدخول!$B$3:$B$37,D44,الدخول!$F$3:$F$37)+SUMIF(الدخول!$B$3:$B$37,D44,الدخول!$Q$3:$Q$37)+E44-SUMIF(الدخول!$B$3:$B$37,D44,الدخول!$K$3:$K$37))","v":""},{"$f":"IF(F44=\"\",\"\",SUMIF(الدخول!$B$3:$B$37,D44,الدخول!$G$3:$G$37)+SUMIF(الدخول!$B$3:$B$37,D44,الدخول!$R$3:$R$37)+F44-SUMIF(الدخول!$B$3:$B$37,D44,الدخول!$L$3:$L$37))","v":""},{"$f":"IF(G44=\"\",\"\",SUMIF(الدخول!$B$3:$B$37,D44,الدخول!$I$3:$I$37)+SUMIF(الدخول!$B$3:$B$37,D44,الدخول!$T$3:$T$37)+G44-SUMIF(الدخول!$B$3:$B$37,D44,الدخول!$N$3:$N$37))","v":""}]
["ابيض فلاش","كروشيه","5cm","ابيض فلاش كروشيه 5cm",null,null,null,{"$f":"IF(E45=\"\",\"\",SUMIF(الدخول!$B$3:$B$37,D45,الدخول!$F$3:$F$37)+SUMIF(الدخول!$B$3:$B$37,D45,الدخول!$Q$3:$Q$37)+E45-SUMIF(الدخول!$B$3:$B$37,D45,الدخول!$K$3:$K$37))","v":""},{"$f":"IF(F45=\"\",\"\",SUMIF(الدخول!$B$3:$B$37,D45,الدخول!$G$3:$G$37)+SUMIF(الدخول!$B$3:$B$37,D45,الدخول!$R$3:$R$37)+F45-SUMIF(الدخول!$B$3:$B$37,D45,الدخول!$L$3:$L$37))","v":""},{"$f":"IF(G45=\"\",\"\",SUMIF(الدخول!$B$3:$B$37,D45,الدخول!$I$3:$I$37)+SUMIF(الدخول!$B$3:$B$37,D45,الدخول!$T$3:$T$37)+G45-SUMIF(الدخول!$B$3:$B$37,D45,الدخول!$N$3:$N$37))","v":""}]
["ابيض فلاش","كروشيه","4.5cm","ابيض فلاش كروشيه 4.5cm",null,null,null,{"$f":"IF(E46=\"\",\"\",SUMIF(الدخول!$B$3:$B$37,D46,الدخول!$F$3:$F$37)+SUMIF(الدخول!$B$3:$B$37,D46,الدخول!$Q$3:$Q$37)+E46-SUMIF(الدخول!$B$3:$B$37,D46,الدخول!$K$3:$K$37))","v":""},{"$f":"IF(F46=\"\",\"\",SUMIF(الدخول!$B$3:$B$37,D46,الدخول!$G$3:$G$37)+SUMIF(الدخول!$B$3:$B$37,D46,الدخول!$R$3:$R$37)+F46-SUMIF(الدخول!$B$3:$B$37,D46,الدخول!$L$3:$L$37))","v":""},{"$f":"IF(G46=\"\",\"\",SUMIF(الدخول!$B$3:$B$37,D46,الدخول!$I$3:$I$37)+SUMIF(الدخول!$B$3:$B$37,D46,الدخول!$T$3:$T$37)+G46-SUMIF(الدخول!$B$3:$B$37,D46,الدخول!$N$3:$N$37))","v":""}]
["ابيض فلاش","كروشيه","3.5cm","ابيض فلاش كروشيه 3.5cm",null,null,null,{"$f":"IF(E47=\"\",\"\",SUMIF(الدخول!$B$3:$B$37,D47,الدخول!$F$3:$F$37)+SUMIF(الدخول!$B$3:$B$37,D47,الدخول!$Q$3:$Q$37)+E47-SUMIF(الدخول!$B$3:$B$37,D47,الدخول!$K$3:$K$37))","v":""},{"$f":"IF(F47=\"\",\"\",SUMIF(الدخول!$B$3:$B$37,D47,الدخول!$G$3:$G$37)+SUMIF(الدخول!$B$3:$B$37,D47,الدخول!$R$3:$R$37)+F47-SUMIF(الدخول!$B$3:$B$37,D47,الدخول!$L$3:$L$37))","v":""},{"$f":"IF(G47=\"\",\"\",SUMIF(الدخول!$B$3:$B$37,D47,الدخول!$I$3:$I$37)+SUMIF(الدخول!$B$3:$B$37,D47,الدخول!$T$3:$T$37)+G47-SUMIF(الدخول!$B$3:$B$37,D47,الدخول!$N$3:$N$37))","v":""}]
["ابيض فلاش","كروشيه","2cm","ابيض فلاش كروشيه 2cm",null,null,null,{"$f":"IF(E48=\"\",\"\",SUMIF(الدخول!$B$3:$B$37,D48,الدخول!$F$3:$F$37)+SUMIF(الدخول!$B$3:$B$37,D48,الدخول!$Q$3:$Q$37)+E48-SUMIF(الدخول!$B$3:$B$37,D48,الدخول!$K$3:$K$37))","v":""},{"$f":"IF(F48=\"\",\"\",SUMIF(الدخول!$B$3:$B$37,D48,الدخول!$G$3:$G$37)+SUMIF(الدخول!$B$3:$B$37,D48,الدخول!$R$3:$R$37)+F48-SUMIF(الدخول!$B$3:$B$37,D48,الدخول!$L$3:$L$37))","v":""},{"$f":"IF(G48=\"\",\"\",SUMIF(الدخول!$B$3:$B$37,D48,الدخول!$I$3:$I$37)+SUMIF(الدخول!$B$3:$B$37,D48,الدخول!$T$3:$T$37)+G48-SUMIF(الدخول!$B$3:$B$37,D48,الدخول!$N$3:$N$37))","v":""}]
["ابيض كانون","كروشيه","5.5cm","ابيض كانون كروشيه 5.5cm",null,null,null,{"$f":"IF(E49=\"\",\"\",SUMIF(الدخول!$B$3:$B$37,D49,الدخول!$F$3:$F$37)+SUMIF(الدخول!$B$3:$B$37,D49,الدخول!$Q$3:$Q$37)+E49-SUMIF(الدخول!$B$3:$B$37,D49,الدخول!$K$3:$K$37))","v":""},{"$f":"IF(F49=\"\",\"\",SUMIF(الدخول!$B$3:$B$37,D49,الدخول!$G$3:$G$37)+SUMIF(الدخول!$B$3:$B$37,D49,الدخول!$R$3:$R$37)+F49-SUMIF(الدخول!$B$3:$B$37,D49,الدخول!$L$3:$L$37))","v":""},{"$f":"IF(G49=\"\",\"\",SUMIF(الدخول!$B$3:$B$37,D49,الدخول!$I$3:$I$37)+SUMIF(الدخول!$B$3:$B$37,D49,الدخول!$T$3:$T$37)+G49-SUMIF(الدخول!$B$3:$B$37,D49,الدخول!$N$3:$N$37))","v":""}]
["ابيض كانون","كروشيه","4.5cm","ابيض كانون كروشيه 4.5cm",null,null,null,{"$f":"IF(E50=\"\",\"\",SUMIF(الدخول!$B$3:$B$37,D50,الدخول!$F$3:$F$37)+SUMIF(الدخول!$B$3:$B$37,D50,الدخول!$Q$3:$Q$37)+E50-SUMIF(الدخول!$B$3:$B$37,D50,الدخول!$K$3:$K$37))","v":""},{"$f":"IF(F50=\"\",\"\",SUMIF(الدخول!$B$3:$B$37,D50,الدخول!$G$3:$G$37)+SUMIF(الدخول!$B$3:$B$37,D50,الدخول!$R$3:$R$37)+F50-SUMIF(الدخول!$B$3:$B$37,D50,الدخول!$L$3:$L$37))","v":""},{"$f":"IF(G50=\"\",\"\",SUMIF(الدخول!$B$3:$B$37,D50,الدخول!$I$3:$I$37)+SUMIF(الدخول!$B$3:$B$37,D50,الدخول!$T$3:$T$37)+G50-SUMIF(الدخول!$B$3:$B$37,D50,الدخول!$N$3:$N$37))","v":""}]
["ابيض510","كروشيه","3cm","ابيض510 كروشيه 3cm",null,null,null,{"$f":"IF(E51=\"\",\"\",SUMIF(الدخول!$B$3:$B$37,D51,الدخول!$F$3:$F$37)+SUMIF(الدخول!$B$3:$B$37,D51,الدخول!$Q$3:$Q$37)+E51-SUMIF(الدخول!$B$3:$B$37,D51,الدخول!$K$3:$K$37))","v":""},{"$f":"IF(F51=\"\",\"\",SUMIF(الدخول!$B$3:$B$37,D51,الدخول!$G$3:$G$37)+SUMIF(الدخول!$B$3:$B$37,D51,الدخول!$R$3:$R$37)+F51-SUMIF(الدخول!$B$3:$B$37,D51,الدخول!$L$3:$L$37))","v":""},{"$f":"IF(G51=\"\",\"\",SUMIF(الدخول!$B$3:$B$37,D51,الدخول!$I$3:$I$37)+SUMIF(الدخول!$B$3:$B$37,D51,الدخول!$T$3:$T$37)+G51-SUMIF(الدخول!$B$3:$B$37,D51,الدخول!$N$3:$N$37))","v":""}]
["ابيض510","كروشيه","4cm","ابيض510 كروشيه 4cm",null,null,null,{"$f":"IF(E52=\"\",\"\",SUMIF(الدخول!$B$3:$B$37,D52,الدخول!$F$3:$F$37)+SUMIF(الدخول!$B$3:$B$37,D52,الدخول!$Q$3:$Q$37)+E52-SUMIF(الدخول!$B$3:$B$37,D52,الدخول!$K$3:$K$37))","v":""},{"$f":"IF(F52=\"\",\"\",SUMIF(الدخول!$B$3:$B$37,D52,الدخول!$G$3:$G$37)+SUMIF(الدخول!$B$3:$B$37,D52,الدخول!$R$3:$R$37)+F52-SUMIF(الدخول!$B$3:$B$37,D52,الدخول!$L$3:$L$37))","v":""},{"$f":"IF(G52=\"\",\"\",SUMIF(الدخول!$B$3:$B$37,D52,الدخول!$I$3:$I$37)+SUMIF(الدخول!$B$3:$B$37,D52,الدخول!$T$3:$T$37)+G52-SUMIF(الدخول!$B$3:$B$37,D52,الدخول!$N$3:$N$37))","v":""}]
["احمر","كورد","مبطط","احمر كورد مبطط",null,null,null,{"$f":"IF(E53=\"\",\"\",SUMIF(الدخول!$B$3:$B$37,D53,الدخول!$F$3:$F$37)+SUMIF(الدخول!$B$3:$B$37,D53,الدخول!$Q$3:$Q$37)+E53-SUMIF(الدخول!$B$3:$B$37,D53,الدخول!$K$3:$K$37))","v":""},{"$f":"IF(F53=\"\",\"\",SUMIF(الدخول!$B$3:$B$37,D53,الدخول!$G$3:$G$37)+SUMIF(الدخول!$B$3:$B$37,D53,الدخول!$R$3:$R$37)+F53-SUMIF(الدخول!$B$3:$B$37,D53,الدخول!$L$3:$L$37))","v":""},{"$f":"IF(G53=\"\",\"\",SUMIF(الدخول!$B$3:$B$37,D53,الدخول!$I$3:$I$37)+SUMIF(الدخول!$B$3:$B$37,D53,الدخول!$T$3:$T$37)+G53-SUMIF(الدخول!$B$3:$B$37,D53,الدخول!$N$3:$N$37))","v":""}]
["احمر","كورد","كبسله بلاستك ","احمر كورد كبسله بلاستك ",null,null,null,{"$f":"IF(E54=\"\",\"\",SUMIF(الدخول!$B$3:$B$37,D54,الدخول!$F$3:$F$37)+SUMIF(الدخول!$B$3:$B$37,D54,الدخول!$Q$3:$Q$37)+E54-SUMIF(الدخول!$B$3:$B$37,D54,الدخول!$K$3:$K$37))","v":""},{"$f":"IF(F54=\"\",\"\",SUMIF(الدخول!$B$3:$B$37,D54,الدخول!$G$3:$G$37)+SUMIF(الدخول!$B$3:$B$37,D54,الدخول!$R$3:$R$37)+F54-SUMIF(الدخول!$B$3:$B$37,D54,الدخول!$L$3:$L$37))","v":""},{"$f":"IF(G54=\"\",\"\",SUMIF(الدخول!$B$3:$B$37,D54,الدخول!$I$3:$I$37)+SUMIF(الدخول!$B$3:$B$37,D54,الدخول!$T$3:$T$37)+G54-SUMIF(الدخول!$B$3:$B$37,D54,الدخول!$N$3:$N$37))","v":""}]
["اخضر","كورد","مبطط","اخضر كورد مبطط",null,null,null,{"$f":"IF(E55=\"\",\"\",SUMIF(الدخول!$B$3:$B$37,D55,الدخول!$F$3:$F$37)+SUMIF(الدخول!$B$3:$B$37,D55,الدخول!$Q$3:$Q$37)+E55-SUMIF(الدخول!$B$3:$B$37,D55,الدخول!$K$3:$K$37))","v":""},{"$f":"IF(F55=\"\",\"\",SUMIF(الدخول!$B$3:$B$37,D55,الدخول!$G$3:$G$37)+SUMIF(الدخول!$B$3:$B$37,D55,الدخول!$R$3:$R$37)+F55-SUMIF(الدخول!$B$3:$B$37,D55,الدخول!$L$3:$L$37))","v":""},{"$f":"IF(G55=\"\",\"\",SUMIF(الدخول!$B$3:$B$37,D55,الدخول!$I$3:$I$37)+SUMIF(الدخول!$B$3:$B$37,D55,الدخول!$T$3:$T$37)+G55-SUMIF(الدخول!$B$3:$B$37,D55,الدخول!$N$3:$N$37))","v":""}]
["اسود","كروشيه","5.8cm","اسود كروشيه 5.8cm",null,null,null,{"$f":"IF(E56=\"\",\"\",SUMIF(الدخول!$B$3:$B$37,D56,الدخول!$F$3:$F$37)+SUMIF(الدخول!$B$3:$B$37,D56,الدخول!$Q$3:$Q$37)+E56-SUMIF(الدخول!$B$3:$B$37,D56,الدخول!$K$3:$K$37))","v":""},{"$f":"IF(F56=\"\",\"\",SUMIF(الدخول!$B$3:$B$37,D56,الدخول!$G$3:$G$37)+SUMIF(الدخول!$B$3:$B$37,D56,الدخول!$R$3:$R$37)+F56-SUMIF(الدخول!$B$3:$B$37,D56,الدخول!$L$3:$L$37))","v":""},{"$f":"IF(G56=\"\",\"\",SUMIF(الدخول!$B$3:$B$37,D56,الدخول!$I$3:$I$37)+SUMIF(الدخول!$B$3:$B$37,D56,الدخول!$T$3:$T$37)+G56-SUMIF(الدخول!$B$3:$B$37,D56,الدخول!$N$3:$N$37))","v":""}]
["اسود","كروشيه","5.5cm","اسود كروشيه 5.5cm",null,null,null,{"$f":"IF(E57=\"\",\"\",SUMIF(الدخول!$B$3:$B$37,D57,الدخول!$F$3:$F$37)+SUMIF(الدخول!$B$3:$B$37,D57,الدخول!$Q$3:$Q$37)+E57-SUMIF(الدخول!$B$3:$B$37,D57,الدخول!$K$3:$K$37))","v":""},{"$f":"IF(F57=\"\",\"\",SUMIF(الدخول!$B$3:$B$37,D57,الدخول!$G$3:$G$37)+SUMIF(الدخول!$B$3:$B$37,D57,الدخول!$R$3:$R$37)+F57-SUMIF(الدخول!$B$3:$B$37,D57,الدخول!$L$3:$L$37))","v":""},{"$f":"IF(G57=\"\",\"\",SUMIF(الدخول!$B$3:$B$37,D57,الدخول!$I$3:$I$37)+SUMIF(الدخول!$B$3:$B$37,D57,الدخول!$T$3:$T$37)+G57-SUMIF(الدخول!$B$3:$B$37,D57,الدخول!$N$3:$N$37))","v":""}]
["اسود","كروشيه","5cm","اسود كروشيه 5cm",null,null,null,{"$f":"IF(E58=\"\",\"\",SUMIF(الدخول!$B$3:$B$37,D58,الدخول!$F$3:$F$37)+SUMIF(الدخول!$B$3:$B$37,D58,الدخول!$Q$3:$Q$37)+E58-SUMIF(الدخول!$B$3:$B$37,D58,الدخول!$K$3:$K$37))","v":""},{"$f":"IF(F58=\"\",\"\",SUMIF(الدخول!$B$3:$B$37,D58,الدخول!$G$3:$G$37)+SUMIF(الدخول!$B$3:$B$37,D58,الدخول!$R$3:$R$37)+F58-SUMIF(الدخول!$B$3:$B$37,D58,الدخول!$L$3:$L$37))","v":""},{"$f":"IF(G58=\"\",\"\",SUMIF(الدخول!$B$3:$B$37,D58,الدخول!$I$3:$I$37)+SUMIF(الدخول!$B$3:$B$37,D58,الدخول!$T$3:$T$37)+G58-SUMIF(الدخول!$B$3:$B$37,D58,الدخول!$N$3:$N$37))","v":""}]
["اسود","كروشيه","4.8cm","اسود كروشيه 4.8cm",null,null,null,{"$f":"IF(E59=\"\",\"\",SUMIF(الدخول!$B$3:$B$37,D59,الدخول!$F$3:$F$37)+SUMIF(الدخول!$B$3:$B$37,D59,الدخول!$Q$3:$Q$37)+E59-SUMIF(الدخول!$B$3:$B$37,D59,الدخول!$K$3:$K$37))","v":""},{"$f":"IF(F59=\"\",\"\",SUMIF(الدخول!$B$3:$B$37,D59,الدخول!$G$3:$G$37)+SUMIF(الدخول!$B$3:$B$37,D59,الدخول!$R$3:$R$37)+F59-SUMIF(الدخول!$B$3:$B$37,D59,الدخول!$L$3:$L$37))","v":""},{"$f":"IF(G59=\"\",\"\",SUMIF(الدخول!$B$3:$B$37,D59,الدخول!$I$3:$I$37)+SUMIF(الدخول!$B$3:$B$37,D59,الدخول!$T$3:$T$37)+G59-SUMIF(الدخول!$B$3:$B$37,D59,الدخول!$N$3:$N$37))","v":""}]
["اسود","كروشيه","4.5cm","اسود كروشيه 4.5cm",null,null,null,{"$f":"IF(E60=\"\",\"\",SUMIF(الدخول!$B$3:$B$37,D60,الدخول!$F$3:$F$37)+SUMIF(الدخول!$B$3:$B$37,D60,الدخول!$Q$3:$Q$37)+E60-SUMIF(الدخول!$B$3:$B$37,D60,الدخول!$K$3:$K$37))","v":""},{"$f":"IF(F60=\"\",\"\",SUMIF(الدخول!$B$3:$B$37,D60,الدخول!$G$3:$G$37)+SUMIF(الدخول!$B$3:$B$37,D60,الدخول!$R$3:$R$37)+F60-SUMIF(الدخول!$B$3:$B$37,D60,الدخول!$L$3:$L$37))","v":""},{"$f":"IF(G60=\"\",\"\",SUMIF(الدخول!$B$3:$B$37,D60,الدخول!$I$3:$I$37)+SUMIF(الدخول!$B$3:$B$37,D60,الدخول!$T$3:$T$37)+G60-SUMIF(الدخول!$B$3:$B$37,D60,الدخول!$N$3:$N$37))","v":""}]
["اسود","كروشيه","4cm","اسود كروشيه 4cm",null,null,null,{"$f":"IF(E61=\"\",\"\",SUMIF(الدخول!$B$3:$B$37,D61,الدخول!$F$3:$F$37)+SUMIF(الدخول!$B$3:$B$37,D61,الدخول!$Q$3:$Q$37)+E61-SUMIF(الدخول!$B$3:$B$37,D61,الدخول!$K$3:$K$37))","v":""},{"$f":"IF(F61=\"\",\"\",SUMIF(الدخول!$B$3:$B$37,D61,الدخول!$G$3:$G$37)+SUMIF(الدخول!$B$3:$B$37,D61,الدخول!$R$3:$R$37)+F61-SUMIF(الدخول!$B$3:$B$37,D61,الدخول!$L$3:$L$37))","v":""},{"$f":"IF(G61=\"\",\"\",SUMIF(الدخول!$B$3:$B$37,D61,الدخول!$I$3:$I$37)+SUMIF(الدخول!$B$3:$B$37,D61,الدخول!$T$3:$T$37)+G61-SUMIF(الدخول!$B$3:$B$37,D61,الدخول!$N$3:$N$37))","v":""}]
["اسود","كروشيه","3.5cm","اسود كروشيه 3.5cm",null,null,null,{"$f":"IF(E62=\"\",\"\",SUMIF(الدخول!$B$3:$B$37,D62,الدخول!$F$3:$F$37)+SUMIF(الدخول!$B$3:$B$37,D62,الدخول!$Q$3:$Q$37)+E62-SUMIF(الدخول!$B$3:$B$37,D62,الدخول!$K$3:$K$37))","v":""},{"$f":"IF(F62=\"\",\"\",SUMIF(الدخول!$B$3:$B$37,D62,الدخول!$G$3:$G$37)+SUMIF(الدخول!$B$3:$B$37,D62,الدخول!$R$3:$R$37)+F62-SUMIF(الدخول!$B$3:$B$37,D62,الدخول!$L$3:$L$37))","v":""},{"$f":"IF(G62=\"\",\"\",SUMIF(الدخول!$B$3:$B$37,D62,الدخول!$I$3:$I$37)+SUMIF(الدخول!$B$3:$B$37,D62,الدخول!$T$3:$T$37)+G62-SUMIF(الدخول!$B$3:$B$37,D62,الدخول!$N$3:$N$37))","v":""}]
["اسود","كروشيه","3cm","اسود كروشيه 3cm",null,null,null,{"$f":"IF(E63=\"\",\"\",SUMIF(الدخول!$B$3:$B$37,D63,الدخول!$F$3:$F$37)+SUMIF(الدخول!$B$3:$B$37,D63,الدخول!$Q$3:$Q$37)+E63-SUMIF(الدخول!$B$3:$B$37,D63,الدخول!$K$3:$K$37))","v":""},{"$f":"IF(F63=\"\",\"\",SUMIF(الدخول!$B$3:$B$37,D63,الدخول!$G$3:$G$37)+SUMIF(الدخول!$B$3:$B$37,D63,الدخول!$R$3:$R$37)+F63-SUMIF(الدخول!$B$3:$B$37,D63,الدخول!$L$3:$L$37))","v":""},{"$f":"IF(G63=\"\",\"\",SUMIF(الدخول!$B$3:$B$37,D63,الدخول!$I$3:$I$37)+SUMIF(الدخول!$B$3:$B$37,D63,الدخول!$T$3:$T$37)+G63-SUMIF(الدخول!$B$3:$B$37,D63,الدخول!$N$3:$N$37))","v":""}]
["اسود","كروشيه","2.5cm","اسود كروشيه 2.5cm",null,null,null,{"$f":"IF(E64=\"\",\"\",SUMIF(الدخول!$B$3:$B$37,D64,الدخول!$F$3:$F$37)+SUMIF(الدخول!$B$3:$B$37,D64,الدخول!$Q$3:$Q$37)+E64-SUMIF(الدخول!$B$3:$B$37,D64,الدخول!$K$3:$K$37))","v":""},{"$f":"IF(F64=\"\",\"\",SUMIF(الدخول!$B$3:$B$37,D64,الدخول!$G$3:$G$37)+SUMIF(الدخول!$B$3:$B$37,D64,الدخول!$R$3:$R$37)+F64-SUMIF(الدخول!$B$3:$B$37,D64,الدخول!$L$3:$L$37))","v":""},{"$f":"IF(G64=\"\",\"\",SUMIF(الدخول!$B$3:$B$37,D64,الدخول!$I$3:$I$37)+SUMIF(الدخول!$B$3:$B$37,D64,الدخول!$T$3:$T$37)+G64-SUMIF(الدخول!$B$3:$B$37,D64,الدخول!$N$3:$N$37))","v":""}]
["اسود","كروشيه","2cm","اسود كروشيه 2cm",null,null,null,{"$f":"IF(E65=\"\",\"\",SUMIF(الدخول!$B$3:$B$37,D65,الدخول!$F$3:$F$37)+SUMIF(الدخول!$B$3:$B$37,D65,الدخول!$Q$3:$Q$37)+E65-SUMIF(الدخول!$B$3:$B$37,D65,الدخول!$K$3:$K$37))","v":""},{"$f":"IF(F65=\"\",\"\",SUMIF(الدخول!$B$3:$B$37,D65,الدخول!$G$3:$G$37)+SUMIF(الدخول!$B$3:$B$37,D65,الدخول!$R$3:$R$37)+F65-SUMIF(الدخول!$B$3:$B$37,D65,الدخول!$L$3:$L$37))","v":""},{"$f":"IF(G65=\"\",\"\",SUMIF(الدخول!$B$3:$B$37,D65,الدخول!$I$3:$I$37)+SUMIF(الدخول!$B$3:$B$37,D65,الدخول!$T$3:$T$37)+G65-SUMIF(الدخول!$B$3:$B$37,D65,الدخول!$N$3:$N$37))","v":""}]
["اسود","كروشيه","1.7cm",{"$f":"A66&\" \"&B66&\" \"&C66","v":"اسود كروشيه 1.7cm"},null,null,null,{"$f":"IF(E66=\"\",\"\",SUMIF(الدخول!$B$3:$B$37,D66,الدخول!$F$3:$F$37)+SUMIF(الدخول!$B$3:$B$37,D66,الدخول!$Q$3:$Q$37)+E66-SUMIF(الدخول!$B$3:$B$37,D66,الدخول!$K$3:$K$37))","v":""},{"$f":"IF(F66=\"\",\"\",SUMIF(الدخول!$B$3:$B$37,D66,الدخول!$G$3:$G$37)+SUMIF(الدخول!$B$3:$B$37,D66,الدخول!$R$3:$R$37)+F66-SUMIF(الدخول!$B$3:$B$37,D66,الدخول!$L$3:$L$37))","v":""},{"$f":"IF(G66=\"\",\"\",SUMIF(الدخول!$B$3:$B$37,D66,الدخول!$I$3:$I$37)+SUMIF(الدخول!$B$3:$B$37,D66,الدخول!$T$3:$T$37)+G66-SUMIF(الدخول!$B$3:$B$37,D66,الدخول!$N$3:$N$37))","v":""}]
["اسود","كروشيه","1.5cm","اسود كروشيه 1.5cm",null,null,null,{"$f":"IF(E67=\"\",\"\",SUMIF(الدخول!$B$3:$B$37,D67,الدخول!$F$3:$F$37)+SUMIF(الدخول!$B$3:$B$37,D67,الدخول!$Q$3:$Q$37)+E67-SUMIF(الدخول!$B$3:$B$37,D67,الدخول!$K$3:$K$37))","v":""},{"$f":"IF(F67=\"\",\"\",SUMIF(الدخول!$B$3:$B$37,D67,الدخول!$G$3:$G$37)+SUMIF(الدخول!$B$3:$B$37,D67,الدخول!$R$3:$R$37)+F67-SUMIF(الدخول!$B$3:$B$37,D67,الدخول!$L$3:$L$37))","v":""},{"$f":"IF(G67=\"\",\"\",SUMIF(الدخول!$B$3:$B$37,D67,الدخول!$I$3:$I$37)+SUMIF(الدخول!$B$3:$B$37,D67,الدخول!$T$3:$T$37)+G67-SUMIF(الدخول!$B$3:$B$37,D67,الدخول!$N$3:$N$37))","v":""}]
["اسود","كروشيه","1.3cm","اسود كروشيه 1.3cm",null,null,null,{"$f":"IF(E68=\"\",\"\",SUMIF(الدخول!$B$3:$B$37,D68,الدخول!$F$3:$F$37)+SUMIF(الدخول!$B$3:$B$37,D68,الدخول!$Q$3:$Q$37)+E68-SUMIF(الدخول!$B$3:$B$37,D68,الدخول!$K$3:$K$37))","v":""},{"$f":"IF(F68=\"\",\"\",SUMIF(الدخول!$B$3:$B$37,D68,الدخول!$G$3:$G$37)+SUMIF(الدخول!$B$3:$B$37,D68,الدخول!$R$3:$R$37)+F68-SUMIF(الدخول!$B$3:$B$37,D68,الدخول!$L$3:$L$37))","v":""},{"$f":"IF(G68=\"\",\"\",SUMIF(الدخول!$B$3:$B$37,D68,الدخول!$I$3:$I$37)+SUMIF(الدخول!$B$3:$B$37,D68,الدخول!$T$3:$T$37)+G68-SUMIF(الدخول!$B$3:$B$37,D68,الدخول!$N$3:$N$37))","v":""}]
["اسود","كروشيه","1cm","اسود كروشيه 1cm",null,null,null,{"$f":"IF(E69=\"\",\"\",SUMIF(الدخول!$B$3:$B$37,D69,الدخول!$F$3:$F$37)+SUMIF(الدخول!$B$3:$B$37,D69,الدخول!$Q$3:$Q$37)+E69-SUMIF(الدخول!$B$3:$B$37,D69,الدخول!$K$3:$K$37))","v":""},{"$f":"IF(F69=\"\",\"\",SUMIF(الدخول!$B$3:$B$37,D69,الدخول!$G$3:$G$37)+SUMIF(الدخول!$B$3:$B$37,D69,الدخول!$R$3:$R$37)+F69-SUMIF(الدخول!$B$3:$B$37,D69,الدخول!$L$3:$L$37))","v":""},{"$f":"IF(G69=\"\",\"\",SUMIF(الدخول!$B$3:$B$37,D69,الدخول!$I$3:$I$37)+SUMIF(الدخول!$B$3:$B$37,D69,الدخول!$T$3:$T$37)+G69-SUMIF(الدخول!$B$3:$B$37,D69,الدخول!$N$3:$N$37))","v":""}]
["اسود","كروشيه","8mm","اسود كروشيه 8mm",null,null,null,{"$f":"IF(E70=\"\",\"\",SUMIF(الدخول!$B$3:$B$37,D70,الدخول!$F$3:$F$37)+SUMIF(الدخول!$B$3:$B$37,D70,الدخول!$Q$3:$Q$37)+E70-SUMIF(الدخول!$B$3:$B$37,D70,الدخول!$K$3:$K$37))","v":""},{"$f":"IF(F70=\"\",\"\",SUMIF(الدخول!$B$3:$B$37,D70,الدخول!$G$3:$G$37)+SUMIF(الدخول!$B$3:$B$37,D70,الدخول!$R$3:$R$37)+F70-SUMIF(الدخول!$B$3:$B$37,D70,الدخول!$L$3:$L$37))","v":""},{"$f":"IF(G70=\"\",\"\",SUMIF(الدخول!$B$3:$B$37,D70,الدخول!$I$3:$I$37)+SUMIF(الدخول!$B$3:$B$37,D70,الدخول!$T$3:$T$37)+G70-SUMIF(الدخول!$B$3:$B$37,D70,الدخول!$N$3:$N$37))","v":""}]
["اسود","كروشيه","3.8cm","اسود كروشيه 3.8cm",null,null,null,{"$f":"IF(E71=\"\",\"\",SUMIF(الدخول!$B$3:$B$37,D71,الدخول!$F$3:$F$37)+SUMIF(الدخول!$B$3:$B$37,D71,الدخول!$Q$3:$Q$37)+E71-SUMIF(الدخول!$B$3:$B$37,D71,الدخول!$K$3:$K$37))","v":""},{"$f":"IF(F71=\"\",\"\",SUMIF(الدخول!$B$3:$B$37,D71,الدخول!$G$3:$G$37)+SUMIF(الدخول!$B$3:$B$37,D71,الدخول!$R$3:$R$37)+F71-SUMIF(الدخول!$B$3:$B$37,D71,الدخول!$L$3:$L$37))","v":""},{"$f":"IF(G71=\"\",\"\",SUMIF(الدخول!$B$3:$B$37,D71,الدخول!$I$3:$I$37)+SUMIF(الدخول!$B$3:$B$37,D71,الدخول!$T$3:$T$37)+G71-SUMIF(الدخول!$B$3:$B$37,D71,الدخول!$N$3:$N$37))","v":""}]
["اسود","كروشيه",".8m","اسود كروشيه .8m",null,null,null,{"$f":"IF(E72=\"\",\"\",SUMIF(الدخول!$B$3:$B$37,D72,الدخول!$F$3:$F$37)+SUMIF(الدخول!$B$3:$B$37,D72,الدخول!$Q$3:$Q$37)+E72-SUMIF(الدخول!$B$3:$B$37,D72,الدخول!$K$3:$K$37))","v":""},{"$f":"IF(F72=\"\",\"\",SUMIF(الدخول!$B$3:$B$37,D72,الدخول!$G$3:$G$37)+SUMIF(الدخول!$B$3:$B$37,D72,الدخول!$R$3:$R$37)+F72-SUMIF(الدخول!$B$3:$B$37,D72,الدخول!$L$3:$L$37))","v":""},{"$f":"IF(G72=\"\",\"\",SUMIF(الدخول!$B$3:$B$37,D72,الدخول!$I$3:$I$37)+SUMIF(الدخول!$B$3:$B$37,D72,الدخول!$T$3:$T$37)+G72-SUMIF(الدخول!$B$3:$B$37,D72,الدخول!$N$3:$N$37))","v":""}]
["اسود","كروشيه","1.2cm","اسود كروشيه 1.2cm",null,null,null,{"$f":"IF(E73=\"\",\"\",SUMIF(الدخول!$B$3:$B$37,D73,الدخول!$F$3:$F$37)+SUMIF(الدخول!$B$3:$B$37,D73,الدخول!$Q$3:$Q$37)+E73-SUMIF(الدخول!$B$3:$B$37,D73,الدخول!$K$3:$K$37))","v":""},{"$f":"IF(F73=\"\",\"\",SUMIF(الدخول!$B$3:$B$37,D73,الدخول!$G$3:$G$37)+SUMIF(الدخول!$B$3:$B$37,D73,الدخول!$R$3:$R$37)+F73-SUMIF(الدخول!$B$3:$B$37,D73,الدخول!$L$3:$L$37))","v":""},{"$f":"IF(G73=\"\",\"\",SUMIF(الدخول!$B$3:$B$37,D73,الدخول!$I$3:$I$37)+SUMIF(الدخول!$B$3:$B$37,D73,الدخول!$T$3:$T$37)+G73-SUMIF(الدخول!$B$3:$B$37,D73,الدخول!$N$3:$N$37))","v":""}]
["اسود","كروشيه",".4m","اسود كروشيه .4m",null,null,null,{"$f":"IF(E74=\"\",\"\",SUMIF(الدخول!$B$3:$B$37,D74,الدخول!$F$3:$F$37)+SUMIF(الدخول!$B$3:$B$37,D74,الدخول!$Q$3:$Q$37)+E74-SUMIF(الدخول!$B$3:$B$37,D74,الدخول!$K$3:$K$37))","v":""},{"$f":"IF(F74=\"\",\"\",SUMIF(الدخول!$B$3:$B$37,D74,الدخول!$G$3:$G$37)+SUMIF(الدخول!$B$3:$B$37,D74,الدخول!$R$3:$R$37)+F74-SUMIF(الدخول!$B$3:$B$37,D74,الدخول!$L$3:$L$37))","v":""},{"$f":"IF(G74=\"\",\"\",SUMIF(الدخول!$B$3:$B$37,D74,الدخول!$I$3:$I$37)+SUMIF(الدخول!$B$3:$B$37,D74,الدخول!$T$3:$T$37)+G74-SUMIF(الدخول!$B$3:$B$37,D74,الدخول!$N$3:$N$37))","v":""}]
["اسود","كروشيه","1.4cm","اسود كروشيه 1.4cm",null,null,null,{"$f":"IF(E75=\"\",\"\",SUMIF(الدخول!$B$3:$B$37,D75,الدخول!$F$3:$F$37)+SUMIF(الدخول!$B$3:$B$37,D75,الدخول!$Q$3:$Q$37)+E75-SUMIF(الدخول!$B$3:$B$37,D75,الدخول!$K$3:$K$37))","v":""},{"$f":"IF(F75=\"\",\"\",SUMIF(الدخول!$B$3:$B$37,D75,الدخول!$G$3:$G$37)+SUMIF(الدخول!$B$3:$B$37,D75,الدخول!$R$3:$R$37)+F75-SUMIF(الدخول!$B$3:$B$37,D75,الدخول!$L$3:$L$37))","v":""},{"$f":"IF(G75=\"\",\"\",SUMIF(الدخول!$B$3:$B$37,D75,الدخول!$I$3:$I$37)+SUMIF(الدخول!$B$3:$B$37,D75,الدخول!$T$3:$T$37)+G75-SUMIF(الدخول!$B$3:$B$37,D75,الدخول!$N$3:$N$37))","v":""}]
["اسود","كروشيه","2.2cm","اسود كروشيه 2.2cm",null,null,null,{"$f":"IF(E76=\"\",\"\",SUMIF(الدخول!$B$3:$B$37,D76,الدخول!$F$3:$F$37)+SUMIF(الدخول!$B$3:$B$37,D76,الدخول!$Q$3:$Q$37)+E76-SUMIF(الدخول!$B$3:$B$37,D76,الدخول!$K$3:$K$37))","v":""},{"$f":"IF(F76=\"\",\"\",SUMIF(الدخول!$B$3:$B$37,D76,الدخول!$G$3:$G$37)+SUMIF(الدخول!$B$3:$B$37,D76,الدخول!$R$3:$R$37)+F76-SUMIF(الدخول!$B$3:$B$37,D76,الدخول!$L$3:$L$37))","v":""},{"$f":"IF(G76=\"\",\"\",SUMIF(الدخول!$B$3:$B$37,D76,الدخول!$I$3:$I$37)+SUMIF(الدخول!$B$3:$B$37,D76,الدخول!$T$3:$T$37)+G76-SUMIF(الدخول!$B$3:$B$37,D76,الدخول!$N$3:$N$37))","v":""}]
["اسود","كورد","1cm","اسود كورد 1cm",null,null,null,{"$f":"IF(E77=\"\",\"\",SUMIF(الدخول!$B$3:$B$37,D77,الدخول!$F$3:$F$37)+SUMIF(الدخول!$B$3:$B$37,D77,الدخول!$Q$3:$Q$37)+E77-SUMIF(الدخول!$B$3:$B$37,D77,الدخول!$K$3:$K$37))","v":""},{"$f":"IF(F77=\"\",\"\",SUMIF(الدخول!$B$3:$B$37,D77,الدخول!$G$3:$G$37)+SUMIF(الدخول!$B$3:$B$37,D77,الدخول!$R$3:$R$37)+F77-SUMIF(الدخول!$B$3:$B$37,D77,الدخول!$L$3:$L$37))","v":""},{"$f":"IF(G77=\"\",\"\",SUMIF(الدخول!$B$3:$B$37,D77,الدخول!$I$3:$I$37)+SUMIF(الدخول!$B$3:$B$37,D77,الدخول!$T$3:$T$37)+G77-SUMIF(الدخول!$B$3:$B$37,D77,الدخول!$N$3:$N$37))","v":""}]
["اسود","كورد","مبطط","اسود كورد مبطط",null,null,null,{"$f":"IF(E78=\"\",\"\",SUMIF(الدخول!$B$3:$B$37,D78,الدخول!$F$3:$F$37)+SUMIF(الدخول!$B$3:$B$37,D78,الدخول!$Q$3:$Q$37)+E78-SUMIF(الدخول!$B$3:$B$37,D78,الدخول!$K$3:$K$37))","v":""},{"$f":"IF(F78=\"\",\"\",SUMIF(الدخول!$B$3:$B$37,D78,الدخول!$G$3:$G$37)+SUMIF(الدخول!$B$3:$B$37,D78,الدخول!$R$3:$R$37)+F78-SUMIF(الدخول!$B$3:$B$37,D78,الدخول!$L$3:$L$37))","v":""},{"$f":"IF(G78=\"\",\"\",SUMIF(الدخول!$B$3:$B$37,D78,الدخول!$I$3:$I$37)+SUMIF(الدخول!$B$3:$B$37,D78,الدخول!$T$3:$T$37)+G78-SUMIF(الدخول!$B$3:$B$37,D78,الدخول!$N$3:$N$37))","v":""}]
["اسود","كورد","مبروم","اسود كورد مبروم",null,null,null,{"$f":"IF(E79=\"\",\"\",SUMIF(الدخول!$B$3:$B$37,D79,الدخول!$F$3:$F$37)+SUMIF(الدخول!$B$3:$B$37,D79,الدخول!$Q$3:$Q$37)+E79-SUMIF(الدخول!$B$3:$B$37,D79,الدخول!$K$3:$K$37))","v":""},{"$f":"IF(F79=\"\",\"\",SUMIF(الدخول!$B$3:$B$37,D79,الدخول!$G$3:$G$37)+SUMIF(الدخول!$B$3:$B$37,D79,الدخول!$R$3:$R$37)+F79-SUMIF(الدخول!$B$3:$B$37,D79,الدخول!$L$3:$L$37))","v":""},{"$f":"IF(G79=\"\",\"\",SUMIF(الدخول!$B$3:$B$37,D79,الدخول!$I$3:$I$37)+SUMIF(الدخول!$B$3:$B$37,D79,الدخول!$T$3:$T$37)+G79-SUMIF(الدخول!$B$3:$B$37,D79,الدخول!$N$3:$N$37))","v":""}]
["اسود","ووفين ساندوتش","1.5cm","اسود ووفين ساندوتش 1.5cm",null,null,null,{"$f":"IF(E80=\"\",\"\",SUMIF(الدخول!$B$3:$B$37,D80,الدخول!$F$3:$F$37)+SUMIF(الدخول!$B$3:$B$37,D80,الدخول!$Q$3:$Q$37)+E80-SUMIF(الدخول!$B$3:$B$37,D80,الدخول!$K$3:$K$37))","v":""},{"$f":"IF(F80=\"\",\"\",SUMIF(الدخول!$B$3:$B$37,D80,الدخول!$G$3:$G$37)+SUMIF(الدخول!$B$3:$B$37,D80,الدخول!$R$3:$R$37)+F80-SUMIF(الدخول!$B$3:$B$37,D80,الدخول!$L$3:$L$37))","v":""},{"$f":"IF(G80=\"\",\"\",SUMIF(الدخول!$B$3:$B$37,D80,الدخول!$I$3:$I$37)+SUMIF(الدخول!$B$3:$B$37,D80,الدخول!$T$3:$T$37)+G80-SUMIF(الدخول!$B$3:$B$37,D80,الدخول!$N$3:$N$37))","v":""}]
["اسود","ووفين ساندوتش","1.8cm","اسود ووفين ساندوتش 1.8cm",null,null,null,{"$f":"IF(E81=\"\",\"\",SUMIF(الدخول!$B$3:$B$37,D81,الدخول!$F$3:$F$37)+SUMIF(الدخول!$B$3:$B$37,D81,الدخول!$Q$3:$Q$37)+E81-SUMIF(الدخول!$B$3:$B$37,D81,الدخول!$K$3:$K$37))","v":""},{"$f":"IF(F81=\"\",\"\",SUMIF(الدخول!$B$3:$B$37,D81,الدخول!$G$3:$G$37)+SUMIF(الدخول!$B$3:$B$37,D81,الدخول!$R$3:$R$37)+F81-SUMIF(الدخول!$B$3:$B$37,D81,الدخول!$L$3:$L$37))","v":""},{"$f":"IF(G81=\"\",\"\",SUMIF(الدخول!$B$3:$B$37,D81,الدخول!$I$3:$I$37)+SUMIF(الدخول!$B$3:$B$37,D81,الدخول!$T$3:$T$37)+G81-SUMIF(الدخول!$B$3:$B$37,D81,الدخول!$N$3:$N$37))","v":""}]
["اسود","ووفين ساندوتش","1.7cm","اسود ووفين ساندوتش 1.7cm",null,null,null,{"$f":"IF(E82=\"\",\"\",SUMIF(الدخول!$B$3:$B$37,D82,الدخول!$F$3:$F$37)+SUMIF(الدخول!$B$3:$B$37,D82,الدخول!$Q$3:$Q$37)+E82-SUMIF(الدخول!$B$3:$B$37,D82,الدخول!$K$3:$K$37))","v":""},{"$f":"IF(F82=\"\",\"\",SUMIF(الدخول!$B$3:$B$37,D82,الدخول!$G$3:$G$37)+SUMIF(الدخول!$B$3:$B$37,D82,الدخول!$R$3:$R$37)+F82-SUMIF(الدخول!$B$3:$B$37,D82,الدخول!$L$3:$L$37))","v":""},{"$f":"IF(G82=\"\",\"\",SUMIF(الدخول!$B$3:$B$37,D82,الدخول!$I$3:$I$37)+SUMIF(الدخول!$B$3:$B$37,D82,الدخول!$T$3:$T$37)+G82-SUMIF(الدخول!$B$3:$B$37,D82,الدخول!$N$3:$N$37))","v":""}]
["اسود","ووفين ساندوتش","2cm","اسود ووفين ساندوتش 2cm",null,null,null,{"$f":"IF(E83=\"\",\"\",SUMIF(الدخول!$B$3:$B$37,D83,الدخول!$F$3:$F$37)+SUMIF(الدخول!$B$3:$B$37,D83,الدخول!$Q$3:$Q$37)+E83-SUMIF(الدخول!$B$3:$B$37,D83,الدخول!$K$3:$K$37))","v":""},{"$f":"IF(F83=\"\",\"\",SUMIF(الدخول!$B$3:$B$37,D83,الدخول!$G$3:$G$37)+SUMIF(الدخول!$B$3:$B$37,D83,الدخول!$R$3:$R$37)+F83-SUMIF(الدخول!$B$3:$B$37,D83,الدخول!$L$3:$L$37))","v":""},{"$f":"IF(G83=\"\",\"\",SUMIF(الدخول!$B$3:$B$37,D83,الدخول!$I$3:$I$37)+SUMIF(الدخول!$B$3:$B$37,D83,الدخول!$T$3:$T$37)+G83-SUMIF(الدخول!$B$3:$B$37,D83,الدخول!$N$3:$N$37))","v":""}]
["اسود","استك طبي",2.98,"اسود استك طبي 2.98",null,null,null,{"$f":"IF(E84=\"\",\"\",SUMIF(الدخول!$B$3:$B$37,D84,الدخول!$F$3:$F$37)+SUMIF(الدخول!$B$3:$B$37,D84,الدخول!$Q$3:$Q$37)+E84-SUMIF(الدخول!$B$3:$B$37,D84,الدخول!$K$3:$K$37))","v":""},{"$f":"IF(F84=\"\",\"\",SUMIF(الدخول!$B$3:$B$37,D84,الدخول!$G$3:$G$37)+SUMIF(الدخول!$B$3:$B$37,D84,الدخول!$R$3:$R$37)+F84-SUMIF(الدخول!$B$3:$B$37,D84,الدخول!$L$3:$L$37))","v":""},{"$f":"IF(G84=\"\",\"\",SUMIF(الدخول!$B$3:$B$37,D84,الدخول!$I$3:$I$37)+SUMIF(الدخول!$B$3:$B$37,D84,الدخول!$T$3:$T$37)+G84-SUMIF(الدخول!$B$3:$B$37,D84,الدخول!$N$3:$N$37))","v":""}]
["اسود","استك طبي",2.2599999999999998,"اسود استك طبي 2.26",null,null,null,{"$f":"IF(E85=\"\",\"\",SUMIF(الدخول!$B$3:$B$37,D85,الدخول!$F$3:$F$37)+SUMIF(الدخول!$B$3:$B$37,D85,الدخول!$Q$3:$Q$37)+E85-SUMIF(الدخول!$B$3:$B$37,D85,الدخول!$K$3:$K$37))","v":""},{"$f":"IF(F85=\"\",\"\",SUMIF(الدخول!$B$3:$B$37,D85,الدخول!$G$3:$G$37)+SUMIF(الدخول!$B$3:$B$37,D85,الدخول!$R$3:$R$37)+F85-SUMIF(الدخول!$B$3:$B$37,D85,الدخول!$L$3:$L$37))","v":""},{"$f":"IF(G85=\"\",\"\",SUMIF(الدخول!$B$3:$B$37,D85,الدخول!$I$3:$I$37)+SUMIF(الدخول!$B$3:$B$37,D85,الدخول!$T$3:$T$37)+G85-SUMIF(الدخول!$B$3:$B$37,D85,الدخول!$N$3:$N$37))","v":""}]
["اسود  ","كروشيه","5.8cm","اسود   كروشيه 5.8cm",null,null,null,{"$f":"IF(E86=\"\",\"\",SUMIF(الدخول!$B$3:$B$37,D86,الدخول!$F$3:$F$37)+SUMIF(الدخول!$B$3:$B$37,D86,الدخول!$Q$3:$Q$37)+E86-SUMIF(الدخول!$B$3:$B$37,D86,الدخول!$K$3:$K$37))","v":""},{"$f":"IF(F86=\"\",\"\",SUMIF(الدخول!$B$3:$B$37,D86,الدخول!$G$3:$G$37)+SUMIF(الدخول!$B$3:$B$37,D86,الدخول!$R$3:$R$37)+F86-SUMIF(الدخول!$B$3:$B$37,D86,الدخول!$L$3:$L$37))","v":""},{"$f":"IF(G86=\"\",\"\",SUMIF(الدخول!$B$3:$B$37,D86,الدخول!$I$3:$I$37)+SUMIF(الدخول!$B$3:$B$37,D86,الدخول!$T$3:$T$37)+G86-SUMIF(الدخول!$B$3:$B$37,D86,الدخول!$N$3:$N$37))","v":""}]
["اسود استريب","كروشيه","3cm","اسود استريب كروشيه 3cm",null,null,null,{"$f":"IF(E87=\"\",\"\",SUMIF(الدخول!$B$3:$B$37,D87,الدخول!$F$3:$F$37)+SUMIF(الدخول!$B$3:$B$37,D87,الدخول!$Q$3:$Q$37)+E87-SUMIF(الدخول!$B$3:$B$37,D87,الدخول!$K$3:$K$37))","v":""},{"$f":"IF(F87=\"\",\"\",SUMIF(الدخول!$B$3:$B$37,D87,الدخول!$G$3:$G$37)+SUMIF(الدخول!$B$3:$B$37,D87,الدخول!$R$3:$R$37)+F87-SUMIF(الدخول!$B$3:$B$37,D87,الدخول!$L$3:$L$37))","v":""},{"$f":"IF(G87=\"\",\"\",SUMIF(الدخول!$B$3:$B$37,D87,الدخول!$I$3:$I$37)+SUMIF(الدخول!$B$3:$B$37,D87,الدخول!$T$3:$T$37)+G87-SUMIF(الدخول!$B$3:$B$37,D87,الدخول!$N$3:$N$37))","v":""}]
["اسود فلاش","كروشيه","5.5cm","اسود فلاش كروشيه 5.5cm",null,null,null,{"$f":"IF(E88=\"\",\"\",SUMIF(الدخول!$B$3:$B$37,D88,الدخول!$F$3:$F$37)+SUMIF(الدخول!$B$3:$B$37,D88,الدخول!$Q$3:$Q$37)+E88-SUMIF(الدخول!$B$3:$B$37,D88,الدخول!$K$3:$K$37))","v":""},{"$f":"IF(F88=\"\",\"\",SUMIF(الدخول!$B$3:$B$37,D88,الدخول!$G$3:$G$37)+SUMIF(الدخول!$B$3:$B$37,D88,الدخول!$R$3:$R$37)+F88-SUMIF(الدخول!$B$3:$B$37,D88,الدخول!$L$3:$L$37))","v":""},{"$f":"IF(G88=\"\",\"\",SUMIF(الدخول!$B$3:$B$37,D88,الدخول!$I$3:$I$37)+SUMIF(الدخول!$B$3:$B$37,D88,الدخول!$T$3:$T$37)+G88-SUMIF(الدخول!$B$3:$B$37,D88,الدخول!$N$3:$N$37))","v":""}]
["اسود فلاش","كروشيه","5cm","اسود فلاش كروشيه 5cm",null,null,null,{"$f":"IF(E89=\"\",\"\",SUMIF(الدخول!$B$3:$B$37,D89,الدخول!$F$3:$F$37)+SUMIF(الدخول!$B$3:$B$37,D89,الدخول!$Q$3:$Q$37)+E89-SUMIF(الدخول!$B$3:$B$37,D89,الدخول!$K$3:$K$37))","v":""},{"$f":"IF(F89=\"\",\"\",SUMIF(الدخول!$B$3:$B$37,D89,الدخول!$G$3:$G$37)+SUMIF(الدخول!$B$3:$B$37,D89,الدخول!$R$3:$R$37)+F89-SUMIF(الدخول!$B$3:$B$37,D89,الدخول!$L$3:$L$37))","v":""},{"$f":"IF(G89=\"\",\"\",SUMIF(الدخول!$B$3:$B$37,D89,الدخول!$I$3:$I$37)+SUMIF(الدخول!$B$3:$B$37,D89,الدخول!$T$3:$T$37)+G89-SUMIF(الدخول!$B$3:$B$37,D89,الدخول!$N$3:$N$37))","v":""}]
["اسود فلاش","كروشيه","3.5cm","اسود فلاش كروشيه 3.5cm",null,null,null,{"$f":"IF(E90=\"\",\"\",SUMIF(الدخول!$B$3:$B$37,D90,الدخول!$F$3:$F$37)+SUMIF(الدخول!$B$3:$B$37,D90,الدخول!$Q$3:$Q$37)+E90-SUMIF(الدخول!$B$3:$B$37,D90,الدخول!$K$3:$K$37))","v":""},{"$f":"IF(F90=\"\",\"\",SUMIF(الدخول!$B$3:$B$37,D90,الدخول!$G$3:$G$37)+SUMIF(الدخول!$B$3:$B$37,D90,الدخول!$R$3:$R$37)+F90-SUMIF(الدخول!$B$3:$B$37,D90,الدخول!$L$3:$L$37))","v":""},{"$f":"IF(G90=\"\",\"\",SUMIF(الدخول!$B$3:$B$37,D90,الدخول!$I$3:$I$37)+SUMIF(الدخول!$B$3:$B$37,D90,الدخول!$T$3:$T$37)+G90-SUMIF(الدخول!$B$3:$B$37,D90,الدخول!$N$3:$N$37))","v":""}]
["اسود510","كروشيه","5cm","اسود510 كروشيه 5cm",null,null,null,{"$f":"IF(E91=\"\",\"\",SUMIF(الدخول!$B$3:$B$37,D91,الدخول!$F$3:$F$37)+SUMIF(الدخول!$B$3:$B$37,D91,الدخول!$Q$3:$Q$37)+E91-SUMIF(الدخول!$B$3:$B$37,D91,الدخول!$K$3:$K$37))","v":""},{"$f":"IF(F91=\"\",\"\",SUMIF(الدخول!$B$3:$B$37,D91,الدخول!$G$3:$G$37)+SUMIF(الدخول!$B$3:$B$37,D91,الدخول!$R$3:$R$37)+F91-SUMIF(الدخول!$B$3:$B$37,D91,الدخول!$L$3:$L$37))","v":""},{"$f":"IF(G91=\"\",\"\",SUMIF(الدخول!$B$3:$B$37,D91,الدخول!$I$3:$I$37)+SUMIF(الدخول!$B$3:$B$37,D91,الدخول!$T$3:$T$37)+G91-SUMIF(الدخول!$B$3:$B$37,D91,الدخول!$N$3:$N$37))","v":""}]
["اسود510","كروشيه","3.5cm","اسود510 كروشيه 3.5cm",null,null,null,{"$f":"IF(E92=\"\",\"\",SUMIF(الدخول!$B$3:$B$37,D92,الدخول!$F$3:$F$37)+SUMIF(الدخول!$B$3:$B$37,D92,الدخول!$Q$3:$Q$37)+E92-SUMIF(الدخول!$B$3:$B$37,D92,الدخول!$K$3:$K$37))","v":""},{"$f":"IF(F92=\"\",\"\",SUMIF(الدخول!$B$3:$B$37,D92,الدخول!$G$3:$G$37)+SUMIF(الدخول!$B$3:$B$37,D92,الدخول!$R$3:$R$37)+F92-SUMIF(الدخول!$B$3:$B$37,D92,الدخول!$L$3:$L$37))","v":""},{"$f":"IF(G92=\"\",\"\",SUMIF(الدخول!$B$3:$B$37,D92,الدخول!$I$3:$I$37)+SUMIF(الدخول!$B$3:$B$37,D92,الدخول!$T$3:$T$37)+G92-SUMIF(الدخول!$B$3:$B$37,D92,الدخول!$N$3:$N$37))","v":""}]
["الالوان","كورد","1.2cm","الالوان كورد 1.2cm",null,null,null,{"$f":"IF(E93=\"\",\"\",SUMIF(الدخول!$B$3:$B$37,D93,الدخول!$F$3:$F$37)+SUMIF(الدخول!$B$3:$B$37,D93,الدخول!$Q$3:$Q$37)+E93-SUMIF(الدخول!$B$3:$B$37,D93,الدخول!$K$3:$K$37))","v":""},{"$f":"IF(F93=\"\",\"\",SUMIF(الدخول!$B$3:$B$37,D93,الدخول!$G$3:$G$37)+SUMIF(الدخول!$B$3:$B$37,D93,الدخول!$R$3:$R$37)+F93-SUMIF(الدخول!$B$3:$B$37,D93,الدخول!$L$3:$L$37))","v":""},{"$f":"IF(G93=\"\",\"\",SUMIF(الدخول!$B$3:$B$37,D93,الدخول!$I$3:$I$37)+SUMIF(الدخول!$B$3:$B$37,D93,الدخول!$T$3:$T$37)+G93-SUMIF(الدخول!$B$3:$B$37,D93,الدخول!$N$3:$N$37))","v":""}]
["اورنج","كورد","1.2cm","اورنج كورد 1.2cm",null,null,null,{"$f":"IF(E94=\"\",\"\",SUMIF(الدخول!$B$3:$B$37,D94,الدخول!$F$3:$F$37)+SUMIF(الدخول!$B$3:$B$37,D94,الدخول!$Q$3:$Q$37)+E94-SUMIF(الدخول!$B$3:$B$37,D94,الدخول!$K$3:$K$37))","v":""},{"$f":"IF(F94=\"\",\"\",SUMIF(الدخول!$B$3:$B$37,D94,الدخول!$G$3:$G$37)+SUMIF(الدخول!$B$3:$B$37,D94,الدخول!$R$3:$R$37)+F94-SUMIF(الدخول!$B$3:$B$37,D94,الدخول!$L$3:$L$37))","v":""},{"$f":"IF(G94=\"\",\"\",SUMIF(الدخول!$B$3:$B$37,D94,الدخول!$I$3:$I$37)+SUMIF(الدخول!$B$3:$B$37,D94,الدخول!$T$3:$T$37)+G94-SUMIF(الدخول!$B$3:$B$37,D94,الدخول!$N$3:$N$37))","v":""}]
["اورنح","كورد","مبطط","اورنح كورد مبطط",null,null,null,{"$f":"IF(E95=\"\",\"\",SUMIF(الدخول!$B$3:$B$37,D95,الدخول!$F$3:$F$37)+SUMIF(الدخول!$B$3:$B$37,D95,الدخول!$Q$3:$Q$37)+E95-SUMIF(الدخول!$B$3:$B$37,D95,الدخول!$K$3:$K$37))","v":""},{"$f":"IF(F95=\"\",\"\",SUMIF(الدخول!$B$3:$B$37,D95,الدخول!$G$3:$G$37)+SUMIF(الدخول!$B$3:$B$37,D95,الدخول!$R$3:$R$37)+F95-SUMIF(الدخول!$B$3:$B$37,D95,الدخول!$L$3:$L$37))","v":""},{"$f":"IF(G95=\"\",\"\",SUMIF(الدخول!$B$3:$B$37,D95,الدخول!$I$3:$I$37)+SUMIF(الدخول!$B$3:$B$37,D95,الدخول!$T$3:$T$37)+G95-SUMIF(الدخول!$B$3:$B$37,D95,الدخول!$N$3:$N$37))","v":""}]
["بينك","ووفين فستون","1cm","بينك ووفين فستون 1cm",null,null,null,{"$f":"IF(E96=\"\",\"\",SUMIF(الدخول!$B$3:$B$37,D96,الدخول!$F$3:$F$37)+SUMIF(الدخول!$B$3:$B$37,D96,الدخول!$Q$3:$Q$37)+E96-SUMIF(الدخول!$B$3:$B$37,D96,الدخول!$K$3:$K$37))","v":""},{"$f":"IF(F96=\"\",\"\",SUMIF(الدخول!$B$3:$B$37,D96,الدخول!$G$3:$G$37)+SUMIF(الدخول!$B$3:$B$37,D96,الدخول!$R$3:$R$37)+F96-SUMIF(الدخول!$B$3:$B$37,D96,الدخول!$L$3:$L$37))","v":""},{"$f":"IF(G96=\"\",\"\",SUMIF(الدخول!$B$3:$B$37,D96,الدخول!$I$3:$I$37)+SUMIF(الدخول!$B$3:$B$37,D96,الدخول!$T$3:$T$37)+G96-SUMIF(الدخول!$B$3:$B$37,D96,الدخول!$N$3:$N$37))","v":""}]
["بينك","ووفين فستون","1.3cm","بينك ووفين فستون 1.3cm",null,null,null,{"$f":"IF(E97=\"\",\"\",SUMIF(الدخول!$B$3:$B$37,D97,الدخول!$F$3:$F$37)+SUMIF(الدخول!$B$3:$B$37,D97,الدخول!$Q$3:$Q$37)+E97-SUMIF(الدخول!$B$3:$B$37,D97,الدخول!$K$3:$K$37))","v":""},{"$f":"IF(F97=\"\",\"\",SUMIF(الدخول!$B$3:$B$37,D97,الدخول!$G$3:$G$37)+SUMIF(الدخول!$B$3:$B$37,D97,الدخول!$R$3:$R$37)+F97-SUMIF(الدخول!$B$3:$B$37,D97,الدخول!$L$3:$L$37))","v":""},{"$f":"IF(G97=\"\",\"\",SUMIF(الدخول!$B$3:$B$37,D97,الدخول!$I$3:$I$37)+SUMIF(الدخول!$B$3:$B$37,D97,الدخول!$T$3:$T$37)+G97-SUMIF(الدخول!$B$3:$B$37,D97,الدخول!$N$3:$N$37))","v":""}]
["رصاصي استريب","كروشيه","3cm","رصاصي استريب كروشيه 3cm",null,null,null,{"$f":"IF(E98=\"\",\"\",SUMIF(الدخول!$B$3:$B$37,D98,الدخول!$F$3:$F$37)+SUMIF(الدخول!$B$3:$B$37,D98,الدخول!$Q$3:$Q$37)+E98-SUMIF(الدخول!$B$3:$B$37,D98,الدخول!$K$3:$K$37))","v":""},{"$f":"IF(F98=\"\",\"\",SUMIF(الدخول!$B$3:$B$37,D98,الدخول!$G$3:$G$37)+SUMIF(الدخول!$B$3:$B$37,D98,الدخول!$R$3:$R$37)+F98-SUMIF(الدخول!$B$3:$B$37,D98,الدخول!$L$3:$L$37))","v":""},{"$f":"IF(G98=\"\",\"\",SUMIF(الدخول!$B$3:$B$37,D98,الدخول!$I$3:$I$37)+SUMIF(الدخول!$B$3:$B$37,D98,الدخول!$T$3:$T$37)+G98-SUMIF(الدخول!$B$3:$B$37,D98,الدخول!$N$3:$N$37))","v":""}]
["زهري","كورد","مبطط","زهري كورد مبطط",null,null,null,{"$f":"IF(E99=\"\",\"\",SUMIF(الدخول!$B$3:$B$37,D99,الدخول!$F$3:$F$37)+SUMIF(الدخول!$B$3:$B$37,D99,الدخول!$Q$3:$Q$37)+E99-SUMIF(الدخول!$B$3:$B$37,D99,الدخول!$K$3:$K$37))","v":""},{"$f":"IF(F99=\"\",\"\",SUMIF(الدخول!$B$3:$B$37,D99,الدخول!$G$3:$G$37)+SUMIF(الدخول!$B$3:$B$37,D99,الدخول!$R$3:$R$37)+F99-SUMIF(الدخول!$B$3:$B$37,D99,الدخول!$L$3:$L$37))","v":""},{"$f":"IF(G99=\"\",\"\",SUMIF(الدخول!$B$3:$B$37,D99,الدخول!$I$3:$I$37)+SUMIF(الدخول!$B$3:$B$37,D99,الدخول!$T$3:$T$37)+G99-SUMIF(الدخول!$B$3:$B$37,D99,الدخول!$N$3:$N$37))","v":""}]
["شاركول","كورد","مبطط","شاركول كورد مبطط",null,null,null,{"$f":"IF(E100=\"\",\"\",SUMIF(الدخول!$B$3:$B$37,D100,الدخول!$F$3:$F$37)+SUMIF(الدخول!$B$3:$B$37,D100,الدخول!$Q$3:$Q$37)+E100-SUMIF(الدخول!$B$3:$B$37,D100,الدخول!$K$3:$K$37))","v":""},{"$f":"IF(F100=\"\",\"\",SUMIF(الدخول!$B$3:$B$37,D100,الدخول!$G$3:$G$37)+SUMIF(الدخول!$B$3:$B$37,D100,الدخول!$R$3:$R$37)+F100-SUMIF(الدخول!$B$3:$B$37,D100,الدخول!$L$3:$L$37))","v":""},{"$f":"IF(G100=\"\",\"\",SUMIF(الدخول!$B$3:$B$37,D100,الدخول!$I$3:$I$37)+SUMIF(الدخول!$B$3:$B$37,D100,الدخول!$T$3:$T$37)+G100-SUMIF(الدخول!$B$3:$B$37,D100,الدخول!$N$3:$N$37))","v":""}]
["موف غامق","كروشيه","1.6cm","موف غامق كروشيه 1.6cm",null,null,null,{"$f":"IF(E101=\"\",\"\",SUMIF(الدخول!$B$3:$B$37,D101,الدخول!$F$3:$F$37)+SUMIF(الدخول!$B$3:$B$37,D101,الدخول!$Q$3:$Q$37)+E101-SUMIF(الدخول!$B$3:$B$37,D101,الدخول!$K$3:$K$37))","v":""},{"$f":"IF(F101=\"\",\"\",SUMIF(الدخول!$B$3:$B$37,D101,الدخول!$G$3:$G$37)+SUMIF(الدخول!$B$3:$B$37,D101,الدخول!$R$3:$R$37)+F101-SUMIF(الدخول!$B$3:$B$37,D101,الدخول!$L$3:$L$37))","v":""},{"$f":"IF(G101=\"\",\"\",SUMIF(الدخول!$B$3:$B$37,D101,الدخول!$I$3:$I$37)+SUMIF(الدخول!$B$3:$B$37,D101,الدخول!$T$3:$T$37)+G101-SUMIF(الدخول!$B$3:$B$37,D101,الدخول!$N$3:$N$37))","v":""}]
[null,"كروشيه","1.8cm"," كروشيه 1.8cm",null,null,null,{"$f":"IF(E102=\"\",\"\",SUMIF(الدخول!$B$3:$B$37,D102,الدخول!$F$3:$F$37)+SUMIF(الدخول!$B$3:$B$37,D102,الدخول!$Q$3:$Q$37)+E102-SUMIF(الدخول!$B$3:$B$37,D102,الدخول!$K$3:$K$37))","v":""},{"$f":"IF(F102=\"\",\"\",SUMIF(الدخول!$B$3:$B$37,D102,الدخول!$G$3:$G$37)+SUMIF(الدخول!$B$3:$B$37,D102,الدخول!$R$3:$R$37)+F102-SUMIF(الدخول!$B$3:$B$37,D102,الدخول!$L$3:$L$37))","v":""},{"$f":"IF(G102=\"\",\"\",SUMIF(الدخول!$B$3:$B$37,D102,الدخول!$I$3:$I$37)+SUMIF(الدخول!$B$3:$B$37,D102,الدخول!$T$3:$T$37)+G102-SUMIF(الدخول!$B$3:$B$37,D102,الدخول!$N$3:$N$37))","v":""}]
[null,"كروشيه","1.9cm"," كروشيه 1.9cm",null,null,null,{"$f":"IF(E103=\"\",\"\",SUMIF(الدخول!$B$3:$B$37,D103,الدخول!$F$3:$F$37)+SUMIF(الدخول!$B$3:$B$37,D103,الدخول!$Q$3:$Q$37)+E103-SUMIF(الدخول!$B$3:$B$37,D103,الدخول!$K$3:$K$37))","v":""},{"$f":"IF(F103=\"\",\"\",SUMIF(الدخول!$B$3:$B$37,D103,الدخول!$G$3:$G$37)+SUMIF(الدخول!$B$3:$B$37,D103,الدخول!$R$3:$R$37)+F103-SUMIF(الدخول!$B$3:$B$37,D103,الدخول!$L$3:$L$37))","v":""},{"$f":"IF(G103=\"\",\"\",SUMIF(الدخول!$B$3:$B$37,D103,الدخول!$I$3:$I$37)+SUMIF(الدخول!$B$3:$B$37,D103,الدخول!$T$3:$T$37)+G103-SUMIF(الدخول!$B$3:$B$37,D103,الدخول!$N$3:$N$37))","v":""}]
["موف فاتح","كروشيه",4.5999999999999996,"موف فاتح كروشيه 4.6",null,null,null,{"$f":"IF(E104=\"\",\"\",SUMIF(الدخول!$B$3:$B$37,D104,الدخول!$F$3:$F$37)+SUMIF(الدخول!$B$3:$B$37,D104,الدخول!$Q$3:$Q$37)+E104-SUMIF(الدخول!$B$3:$B$37,D104,الدخول!$K$3:$K$37))","v":""},{"$f":"IF(F104=\"\",\"\",SUMIF(الدخول!$B$3:$B$37,D104,الدخول!$G$3:$G$37)+SUMIF(الدخول!$B$3:$B$37,D104,الدخول!$R$3:$R$37)+F104-SUMIF(الدخول!$B$3:$B$37,D104,الدخول!$L$3:$L$37))","v":""},{"$f":"IF(G104=\"\",\"\",SUMIF(الدخول!$B$3:$B$37,D104,الدخول!$I$3:$I$37)+SUMIF(الدخول!$B$3:$B$37,D104,الدخول!$T$3:$T$37)+G104-SUMIF(الدخول!$B$3:$B$37,D104,الدخول!$N$3:$N$37))","v":""}]

{"sheet":"الدخول","index":1,"n_rows":37,"n_cols":87,"rows_kept":37,"cut":false,"hidden":false,"merged":[[0,15,1,15],[0,21,1,21],[0,16,0,17],[0,20,1,20],[0,18,1,18],[0,19,1,19],[0,14,1,14],[0,5,0,6],[0,10,0,11],[0,0,1,0],[0,1,1,1],[0,2,1,2],[0,9,1,9],[0,3,1,3],[0,4,1,4],[0,7,1,7],[0,12,1,12],[0,8,1,8],[0,13,1,13]]}
["التاريخ","اللون","رصيد ختامي بالكيلو","رصيد ختامي بالمتر","رصيد ختامي بالقطع","أضافة",null,"وزن المتر","اجمالي القطع","رقم اذن اضافة","صرف",null,"وزن المتر","اجمالي القطع","رقم اذن صرف","جرد","مرتجع",null,"وزن المتر","اجمالي القطع","رقم اذن المرتجع","ملاحظات "]
[null,null,null,null,null,"كيلو","متر",null,null,null,"كيلو","متر",null,null,null,null,"كيلو","متر"]
[{"$f":"IF(B3<>\"\",IF(A3=\"\",NOW(),A3),\"\")","v":"2023-07-04T15:17:09.450"},"ابيض كروشيه 5.8cm",{"$f":"IF(B3=\"\",\"\",SUMIF('الرصيد الثابت'!$D$2:$D$104,B3,'الرصيد الثابت'!$H$2:$H$104))","v":1008},{"$f":"IF(B3=\"\",\"\",SUMIF('الرصيد الثابت'!$D$2:$D$104,B3,'الرصيد الثابت'!$I$2:$I$104))","v":3016},{"$f":"IF(B3=\"\",\"\",SUMIF('الرصيد الثابت'!$D$2:$D$104,B3,'الرصيد الثابت'!$J$2:$J$104))","v":15003},5,{"$f":"SUM(H3*F3)","v":10},2,2,111,null,{"$f":"SUM(M3*K3)","v":0},null,null,null,null,null,{"$f":"SUM(S3*Q3)","v":0},null,null,null,null,null,null,null,null,null,null,null,null,null,null,null,null,null,null,null,null,null,null,null,null,null,null,null,null,null,null,null,null,null,null,null,null,null,null,null,null,null,null,null,null,null,null,null,null,null,null,null,null,null,null,null,null,null,null,null,null,null,null,null,null,null,{"$f":"IFERROR(VLOOKUP(ROWS($CF$3:CF3),$CH$3:$CI$37,2,FALSE),\"\")","v":"ابيض كروشيه 5.8cm"},{"$f":"OFFSET($CF$3,,,COUNTIF($CF$3:CF37,\"?*\"))","v":"ابيض كروشيه 5.8cm"},{"$f":"IF(ISNUMBER(SEARCH(B3,CI3)),MAX($CH$2:CH2)+1,0)","v":1},{"$f":"'الرصيد الثابت'!D2","v":"ابيض كروشيه 5.8cm"}]
[{"$f":"IF(B4<>\"\",IF(A4=\"\",NOW(),A4),\"\")","v":"2023-07-04T15:19:21.170"},"ابيض كروشيه 5.8cm",{"$f":"IF(B4=\"\",\"\",SUMIF('الرصيد الثابت'!$D$2:$D$104,B4,'الرصيد الثابت'!$H$2:$H$104))","v":1008},{"$f":"IF(B4=\"\",\"\",SUMIF('الرصيد الثابت'!$D$2:$D$104,B4,'الرصيد الثابت'!$I$2:$I$104))","v":3016},{"$f":"IF(B4=\"\",\"\",SUMIF('الرصيد الثابت'!$D$2:$D$104,B4,'الرصيد الثابت'!$J$2:$J$104))","v":15003},3,6,2,1,2222,null,{"$f":"SUM(M4*K4)","v":0},null,null,null,null,null,0,null,null,null,null,null,null,null,null,null,null,null,null,null,null,null,null,null,null,null,null,null,null,null,null,null,null,null,null,null,null,null,null,null,null,null,null,null,null,null,null,null,null,null,null,null,null,null,null,null,null,null,null,null,null,null,null,null,null,null,null,null,null,null,null,null,{"$f":"IFERROR(VLOOKUP(ROWS($CF$3:CF4),$CH$3:$CI$37,2,FALSE),\"\")","v":"ابيض كروشيه 5.3cm"},null,{"$f":"IF(ISNUMBER(SEARCH(B4,CI4)),MAX($CH$2:CH3)+1,0)","v":0},{"$f":"'الرصيد الثابت'!D3","v":"ابيض كروشيه 5.5cm"}]
[{"$f":"IF(B5<>\"\",IF(A5=\"\",NOW(),A5),\"\")","v":""},null,{"$f":"IF(B5=\"\",\"\",SUMIF('الرصيد الثابت'!$D$2:$D$104,B5,'الرصيد الثابت'!$H$2:$H$104))","v":""},{"$f":"IF(B5=\"\",\"\",SUMIF('الرصيد الثابت'!$D$2:$D$104,B5,'الرصيد الثابت'!$I$2:$I$104))","v":""},{"$f":"IF(B5=\"\",\"\",SUMIF('الرصيد الثابت'!$D$2:$D$104,B5,'الرصيد الثابت'!$J$2:$J$104))","v":""},null,0,null,null,null,null,0,null,null,null,1,null,0,null,null,null,null,null,null,null,null,null,null,null,null,null,null,null,null,null,null,null,null,null,null,null,null,null,null,null,null,null,null,null,null,null,null,null,null,null,null,null,null,null,null,null,null,null,null,null,null,null,null,null,null,null,null,null,null,null,null,null,null,null,null,null,null,null,{"$f":"IFERROR(VLOOKUP(ROWS($CF$3:CF5),$CH$3:$CI$37,2,FALSE),\"\")","v":"ابيض كروشيه 5cm"},null,{"$f":"IF(ISNUMBER(SEARCH(B5,CI5)),MAX($CH$2:CH4)+1,0)","v":2},{"$f":"'الرصيد الثابت'!D4","v":"ابيض كروشيه 5.3cm"}]
["",null,{"$f":"IF(B6=\"\",\"\",SUMIF('الرصيد الثابت'!$D$2:$D$104,B6,'الرصيد الثابت'!$H$2:$H$104))","v":""},{"$f":"IF(B6=\"\",\"\",SUMIF('الرصيد الثابت'!$D$2:$D$104,B6,'الرصيد الثابت'!$I$2:$I$104))","v":""},{"$f":"IF(B6=\"\",\"\",SUMIF('الرصيد الثابت'!$D$2:$D$104,B6,'الرصيد الثابت'!$J$2:$J$104))","v":""},null,null,null,null,null,null,null,null,null,null,null,null,0,null,null,null,null,null,null,null,null,null,null,null,null,null,null,null,null,null,null,null,null,null,null,null,null,null,null,null,null,null,null,null,null,null,null,null,null,null,null,null,null,null,null,null,null,null,null,null,null,null,null,null,null,null,null,null,null,null,null,null,null,null,null,null,null,null,{"$f":"IFERROR(VLOOKUP(ROWS($CF$3:CF6),$CH$3:$CI$37,2,FALSE),\"\")","v":"ابيض كروشيه 4.5cm"},null,{"$f":"IF(ISNUMBER(SEARCH(B6,CI6)),MAX($CH$2:CH5)+1,0)","v":3},{"$f":"'الرصيد الثابت'!D5","v":"ابيض كروشيه 5cm"}]
["",null,{"$f":"IF(B7=\"\",\"\",SUMIF('الرصيد الثابت'!$D$2:$D$104,B7,'الرصيد الثابت'!$H$2:$H$104))","v":""},{"$f":"IF(B7=\"\",\"\",SUMIF('الرصيد الثابت'!$D$2:$D$104,B7,'الرصيد الثابت'!$I$2:$I$104))","v":""},{"$f":"IF(B7=\"\",\"\",SUMIF('الرصيد الثابت'!$D$2:$D$104,B7,'الرصيد الثابت'!$J$2:$J$104))","v":""},null,0,null,null,null,null,0,null,null,null,{"$f":"SUM(F7-K7)","v":0},null,{"$f":"SUM(S7*Q7)","v":0},null,null,null,null,null,null,null,null,null,null,null,null,null,null,null,null,null,null,null,null,null,null,null,null,null,null,null,null,null,null,null,null,null,null,null,null,null,null,null,null,null,null,null,null,null,null,null,null,null,null,null,null,null,null,null,null,null,null,null,null,null,null,null,null,null,{"$f":"IFERROR(VLOOKUP(ROWS($CF$3:CF7),$CH$3:$CI$37,2,FALSE),\"\")","v":"ابيض كروشيه 4cm"},null,{"$f":"IF(ISNUMBER(SEARCH(B7,CI7)),MAX($CH$2:CH6)+1,0)","v":4},{"$f":"'الرصيد الثابت'!D6","v":"ابيض كروشيه 4.5cm"}]
["",null,{"$f":"IF(B8=\"\",\"\",SUMIF('الرصيد الثابت'!$D$2:$D$104,B8,'الرصيد الثابت'!$H$2:$H$104))","v":""},{"$f":"IF(B8=\"\",\"\",SUMIF('الرصيد الثابت'!$D$2:$D$104,B8,'الرصيد الثابت'!$I$2:$I$104))","v":""},{"$f":"IF(B8=\"\",\"\",SUMIF('الرصيد الثابت'!$D$2:$D$104,B8,'الرصيد الثابت'!$J$2:$J$104))","v":""},null,0,null,null,null,null,0,null,null,null,0,null,0,null,null,null,null,null,null,null,null,null,null,null,null,null,null,null,null,null,null,null,null,null,null,null,null,null,null,null,null,null,null,null,null,null,null,null,null,null,null,null,null,null,null,null,null,null,null,null,null,null,null,null,null,null,null,null,null,null,null,null,null,null,null,null,null,null,{"$f":"IFERROR(VLOOKUP(ROWS($CF$3:CF8),$CH$3:$CI$37,2,FALSE),\"\")","v":"ابيض كروشيه 3.5cm"},null,{"$f":"IF(ISNUMBER(SEARCH(B8,CI8)),MAX($CH$2:CH7)+1,0)","v":5},{"$f":"'الرصيد الثابت'!D7","v":"ابيض كروشيه 4cm"}]
["",null,{"$f":"IF(B9=\"\",\"\",SUMIF('الرصيد الثابت'!$D$2:$D$104,B9,'الرصيد الثابت'!$H$2:$H$104))","v":""},{"$f":"IF(B9=\"\",\"\",SUMIF('الرصيد الثابت'!$D$2:$D$104,B9,'الرصيد الثابت'!$I$2:$I$104))","v":""},{"$f":"IF(B9=\"\",\"\",SUMIF('الرصيد الثابت'!$D$2:$D$104,B9,'الرصيد الثابت'!$J$2:$J$104))","v":""},null,0,null,null,null,null,0,null,null,null,0,null,0,null,null,null,null,null,null,null,null,null,null,null,null,null,null,null,null,null,null,null,null,null,null,null,null,null,null,null,null,null,null,null,null,null,null,null,null,null,null,null,null,null,null,null,null,null,null,null,null,null,null,null,null,null,null,null,null,null,null,null,null,null,null,null,null,null,{"$f":"IFERROR(VLOOKUP(ROWS($CF$3:CF9),$CH$3:$CI$37,2,FALSE),\"\")","v":"ابيض كروشيه 3.2cm"},null,{"$f":"IF(ISNUMBER(SEARCH(B9,CI9)),MAX($CH$2:CH8)+1,0)","v":6},{"$f":"'الرصيد الثابت'!D8","v":"ابيض كروشيه 3.5cm"}]
["",null,{"$f":"IF(B10=\"\",\"\",SUMIF('الرصيد الثابت'!$D$2:$D$104,B10,'الرصيد الثابت'!$H$2:$H$104))","v":""},null,{"$f":"IF(B10=\"\",\"\",SUMIF('الرصيد الثابت'!$D$2:$D$104,B10,'الرصيد الثابت'!$J$2:$J$104))","v":""},null,0,null,null,null,null,0,null,null,null,0,null,0,null,null,null,null,null,null,null,null,null,null,null,null,null,null,null,null,null,null,null,null,null,null,null,null,null,null,null,null,null,null,null,null,null,null,null,null,null,null,null,null,null,null,null,null,null,null,null,null,null,null,null,null,null,null,null,null,null,null,null,null,null,null,null,null,null,{"$f":"IFERROR(VLOOKUP(ROWS($CF$3:CF10),$CH$3:$CI$37,2,FALSE),\"\")","v":"ابيض كروشيه 3cm"},null,{"$f":"IF(ISNUMBER(SEARCH(B10,CI10)),MAX($CH$2:CH9)+1,0)","v":7},{"$f":"'الرصيد الثابت'!D9","v":"ابيض كروشيه 3.2cm"}]
["",null,{"$f":"IF(B11=\"\",\"\",SUMIF('الرصيد الثابت'!$D$2:$D$104,B11,'الرصيد الثابت'!$H$2:$H$104))","v":""},{"$f":"IF(B11=\"\",\"\",SUMIF('الرصيد الثابت'!$D$2:$D$104,B11,'الرصيد الثابت'!$I$2:$I$104))","v":""},null,null,0,null,null,null,null,0,null,null,null,0,null,0,null,null,null,null,null,null,null,null,null,null,null,null,null,null,null,null,null,null,null,null,null,null,null,null,null,null,null,null,null,null,null,null,null,null,null,null,null,null,null,null,null,null,null,null,null,null,null,null,null,null,null,null,null,null,null,null,null,null,null,null,null,null,null,null,null,{"$f":"IFERROR(VLOOKUP(ROWS($CF$3:CF11),$CH$3:$CI$37,2,FALSE),\"\")","v":"ابيض كروشيه 2.2cm"},null,{"$f":"IF(ISNUMBER(SEARCH(B11,CI11)),MAX($CH$2:CH10)+1,0)","v":8},{"$f":"'الرصيد الثابت'!D10","v":"ابيض كروشيه 3cm"}]
["",null,{"$f":"IF(B12=\"\",\"\",SUMIF('الرصيد الثابت'!$D$2:$D$104,B12,'الرصيد الثابت'!$H$2:$H$104))","v":""},{"$f":"IF(B12=\"\",\"\",SUMIF('الرصيد الثابت'!$D$2:$D$104,B12,'الرصيد الثابت'!$I$2:$I$104))","v":""},{"$f":"IF(B12=\"\",\"\",SUMIF('الرصيد الثابت'!$D$2:$D$104,B12,'الرصيد الثابت'!$J$2:$J$104))","v":""},null,0,null,null,null,null,0,null,null,null,0,null,0,null,null,null,null,null,null,null,null,null,null,null,null,null,null,null,null,null,null,null,null,null,null,null,null,null,null,null,null,null,null,null,null,null,null,null,null,null,null,null,null,null,null,null,null,null,null,null,null,null,null,null,null,null,null,null,null,null,null,null,null,null,null,null,null,null,{"$f":"IFERROR(VLOOKUP(ROWS($CF$3:CF12),$CH$3:$CI$37,2,FALSE),\"\")","v":"ابيض كروشيه 2cm"},null,{"$f":"IF(ISNUMBER(SEARCH(B12,CI12)),MAX($CH$2:CH11)+1,0)","v":9},{"$f":"'الرصيد الثابت'!D11","v":"ابيض كروشيه 2.2cm"}]
["",null,{"$f":"IF(B13=\"\",\"\",SUMIF('الرصيد الثابت'!$D$2:$D$104,B13,'الرصيد الثابت'!$H$2:$H$104))","v":""},{"$f":"IF(B13=\"\",\"\",SUMIF('الرصيد الثابت'!$D$2:$D$104,B13,'الرصيد الثابت'!$I$2:$I$104))","v":""},{"$f":"IF(B13=\"\",\"\",SUMIF('الرصيد الثابت'!$D$2:$D$104,B13,'الرصيد الثابت'!$J$2:$J$104))","v":""},null,0,null,null,null,null,0,null,null,null,0,null,0,null,null,null,null,null,null,null,null,null,null,null,null,null,null,null,null,null,null,null,null,null,null,null,null,null,null,null,null,null,null,null,null,null,null,null,null,null,null,null,null,null,null,null,null,null,null,null,null,null,null,null,null,null,null,null,null,null,null,null,null,null,null,null,null,null,{"$f":"IFERROR(VLOOKUP(ROWS($CF$3:CF13),$CH$3:$CI$37,2,FALSE),\"\")","v":"ابيض كروشيه 1.5cm"},null,{"$f":"IF(ISNUMBER(SEARCH(B13,CI13)),MAX($CH$2:CH12)+1,0)","v":10},{"$f":"'الرصيد الثابت'!D12","v":"ابيض كروشيه 2cm"}]
["",null,{"$f":"IF(B14=\"\",\"\",SUMIF('الرصيد الثابت'!$D$2:$D$104,B14,'الرصيد الثابت'!$H$2:$H$104))","v":""},{"$f":"IF(B14=\"\",\"\",SUMIF('الرصيد الثابت'!$D$2:$D$104,B14,'الرصيد الثابت'!$I$2:$I$104))","v":""},{"$f":"IF(B14=\"\",\"\",SUMIF('الرصيد الثابت'!$D$2:$D$104,B14,'الرصيد الثابت'!$J$2:$J$104))","v":""},null,0,null,null,null,null,0,null,null,null,0,null,0,null,null,null,null,null,null,null,null,null,null,null,null,null,null,null,null,null,null,null,null,null,null,null,null,null,null,null,null,null,null,null,null,null,null,null,null,null,null,null,null,null,null,null,null,null,null,null,null,null,null,null,null,null,null,null,null,null,null,null,null,null,null,null,null,null,{"$f":"IFERROR(VLOOKUP(ROWS($CF$3:CF14),$CH$3:$CI$37,2,FALSE),\"\")","v":"ابيض كروشيه 1.2cm"},null,{"$f":"IF(ISNUMBER(SEARCH(B14,CI14)),MAX($CH$2:CH13)+1,0)","v":11},{"$f":"'الرصيد الثابت'!D13","v":"ابيض كروشيه 1.5cm"}]
["",null,{"$f":"IF(B15=\"\",\"\",SUMIF('الرصيد الثابت'!$D$2:$D$104,B15,'الرصيد الثابت'!$H$2:$H$104))","v":""},{"$f":"IF(B15=\"\",\"\",SUMIF('الرصيد الثابت'!$D$2:$D$104,B15,'الرصيد الثابت'!$I$2:$I$104))","v":""},{"$f":"IF(B15=\"\",\"\",SUMIF('الرصيد الثابت'!$D$2:$D$104,B15,'الرصيد الثابت'!$J$2:$J$104))","v":""},null,0,null,null,null,null,0,null,null,null,0,null,0,null,null,null,null,null,null,null,null,null,null,null,null,null,null,null,null,null,null,null,null,null,null,null,null,null,null,null,null,null,null,null,null,null,null,null,null,null,null,null,null,null,null,null,null,null,null,null,null,null,null,null,null,null,null,null,null,null,null,null,null,null,null,null,null,null,{"$f":"IFERROR(VLOOKUP(ROWS($CF$3:CF15),$CH$3:$CI$37,2,FALSE),\"\")","v":"ابيض كروشيه 1cm"},null,{"$f":"IF(ISNUMBER(SEARCH(B15,CI15)),MAX($CH$2:CH14)+1,0)","v":12},{"$f":"'الرصيد الثابت'!D14","v":"ابيض كروشيه 1.2cm"}]
["",null,{"$f":"IF(B16=\"\",\"\",SUMIF('الرصيد الثابت'!$D$2:$D$104,B16,'الرصيد الثابت'!$H$2:$H$104))","v":""},{"$f":"IF(B16=\"\",\"\",SUMIF('الرصيد الثابت'!$D$2:$D$104,B16,'الرصيد الثابت'!$I$2:$I$104))","v":""},{"$f":"IF(B16=\"\",\"\",SUMIF('الرصيد الثابت'!$D$2:$D$104,B16,'الرصيد الثابت'!$J$2:$J$104))","v":""},null,0,null,null,null,null,0,null,null,null,0,null,0,null,null,null,null,null,null,null,null,null,null,null,null,null,null,null,null,null,null,null,null,null,null,null,null,null,null,null,null,null,null,null,null,null,null,null,null,null,null,null,null,null,null,null,null,null,null,null,null,null,null,null,null,null,null,null,null,null,null,null,null,null,null,null,null,null,{"$f":"IFERROR(VLOOKUP(ROWS($CF$3:CF16),$CH$3:$CI$37,2,FALSE),\"\")","v":"ابيض كروشيه 8mm"},null,{"$f":"IF(ISNUMBER(SEARCH(B16,CI16)),MAX($CH$2:CH15)+1,0)","v":13},{"$f":"'الرصيد الثابت'!D15","v":"ابيض كروشيه 1cm"}]
["",null,{"$f":"IF(B17=\"\",\"\",SUMIF('الرصيد الثابت'!$D$2:$D$104,B17,'الرصيد الثابت'!$H$2:$H$104))","v":""},{"$f":"IF(B17=\"\",\"\",SUMIF('الرصيد الثابت'!$D$2:$D$104,B17,'الرصيد الثابت'!$I$2:$I$104))","v":""},{"$f":"IF(B17=\"\",\"\",SUMIF('الرصيد الثابت'!$D$2:$D$104,B17,'الرصيد الثابت'!$J$2:$J$104))","v":""},null,0,null,null,null,null,0,null,null,null,0,null,0,null,null,null,null,null,null,null,null,null,null,null,null,null,null,null,null,null,null,null,null,null,null,null,null,null,null,null,null,null,null,null,null,null,null,null,null,null,null,null,null,null,null,null,null,null,null,null,null,null,null,null,null,null,null,null,null,null,null,null,null,null,null,null,null,null,{"$f":"IFERROR(VLOOKUP(ROWS($CF$3:CF17),$CH$3:$CI$37,2,FALSE),\"\")","v":"ابيض كروشيه 7mm"},null,{"$f":"IF(ISNUMBER(SEARCH(B17,CI17)),MAX($CH$2:CH16)+1,0)","v":14},{"$f":"'الرصيد الثابت'!D16","v":"ابيض كروشيه 8mm"}]
["",null,{"$f":"IF(B18=\"\",\"\",SUMIF('الرصيد الثابت'!$D$2:$D$104,B18,'الرصيد الثابت'!$H$2:$H$104))","v":""},{"$f":"IF(B18=\"\",\"\",SUMIF('الرصيد الثابت'!$D$2:$D$104,B18,'الرصيد الثابت'!$I$2:$I$104))","v":""},{"$f":"IF(B18=\"\",\"\",SUMIF('الرصيد الثابت'!$D$2:$D$104,B18,'الرصيد الثابت'!$J$2:$J$104))","v":""},null,0,null,null,null,null,0,null,null,null,0,null,0,null,null,null,null,null,null,null,null,null,null,null,null,null,null,null,null,null,null,null,null,null,null,null,null,null,null,null,null,null,null,null,null,null,null,null,null,null,null,null,null,null,null,null,null,null,null,null,null,null,null,null,null,null,null,null,null,null,null,null,null,null,null,null,null,null,{"$f":"IFERROR(VLOOKUP(ROWS($CF$3:CF18),$CH$3:$CI$37,2,FALSE),\"\")","v":"ابيض كروشيه 6mm"},null,{"$f":"IF(ISNUMBER(SEARCH(B18,CI18)),MAX($CH$2:CH17)+1,0)","v":15},{"$f":"'الرصيد الثابت'!D17","v":"ابيض كروشيه 7mm"}]
["",null,{"$f":"IF(B19=\"\",\"\",SUMIF('الرصيد الثابت'!$D$2:$D$104,B19,'الرصيد الثابت'!$H$2:$H$104))","v":""},{"$f":"IF(B19=\"\",\"\",SUMIF('الرصيد الثابت'!$D$2:$D$104,B19,'الرصيد الثابت'!$I$2:$I$104))","v":""},{"$f":"IF(B19=\"\",\"\",SUMIF('الرصيد الثابت'!$D$2:$D$104,B19,'الرصيد الثابت'!$J$2:$J$104))","v":""},null,0,null,null,null,null,0,null,null,null,0,null,0,null,null,null,null,null,null,null,null,null,null,null,null,null,null,null,null,null,null,null,null,null,null,null,null,null,null,null,null,null,null,null,null,null,null,null,null,null,null,null,null,null,null,null,null,null,null,null,null,null,null,null,null,null,null,null,null,null,null,null,null,null,null,null,null,null,{"$f":"IFERROR(VLOOKUP(ROWS($CF$3:CF19),$CH$3:$CI$37,2,FALSE),\"\")","v":"ابيض كروشيه 5mm"},null,{"$f":"IF(ISNUMBER(SEARCH(B19,CI19)),MAX($CH$2:CH18)+1,0)","v":16},{"$f":"'الرصيد الثابت'!D18","v":"ابيض كروشيه 6mm"}]
["",null,{"$f":"IF(B20=\"\",\"\",SUMIF('الرصيد الثابت'!$D$2:$D$104,B20,'الرصيد الثابت'!$H$2:$H$104))","v":""},{"$f":"IF(B20=\"\",\"\",SUMIF('الرصيد الثابت'!$D$2:$D$104,B20,'الرصيد الثابت'!$I$2:$I$104))","v":""},{"$f":"IF(B20=\"\",\"\",SUMIF('الرصيد الثابت'!$D$2:$D$104,B20,'الرصيد الثابت'!$J$2:$J$104))","v":""},null,0,null,null,null,null,0,null,null,null,0,null,0,null,null,null,null,null,null,null,null,null,null,null,null,null,null,null,null,null,null,null,null,null,null,null,null,null,null,null,null,null,null,null,null,null,null,null,null,null,null,null,null,null,null,null,null,null,null,null,null,null,null,null,null,null,null,null,null,null,null,null,null,null,null,null,null,null,{"$f":"IFERROR(VLOOKUP(ROWS($CF$3:CF20),$CH$3:$CI$37,2,FALSE),\"\")","v":"ابيض كروشيه 2.5cm"},null,{"$f":"IF(ISNUMBER(SEARCH(B20,CI20)),MAX($CH$2:CH19)+1,0)","v":17},{"$f":"'الرصيد الثابت'!D19","v":"ابيض كروشيه 5mm"}]
["",null,{"$f":"IF(B21=\"\",\"\",SUMIF('الرصيد الثابت'!$D$2:$D$104,B21,'الرصيد الثابت'!$H$2:$H$104))","v":""},{"$f":"IF(B21=\"\",\"\",SUMIF('الرصيد الثابت'!$D$2:$D$104,B21,'الرصيد الثابت'!$I$2:$I$104))","v":""},{"$f":"IF(B21=\"\",\"\",SUMIF('الرصيد الثابت'!$D$2:$D$104,B21,'الرصيد الثابت'!$J$2:$J$104))","v":""},null,0,null,null,null,null,0,null,null,null,0,null,0,null,null,null,null,null,null,null,null,null,null,null,null,null,null,null,null,null,null,null,null,null,null,null,null,null,null,null,null,null,null,null,null,null,null,null,null,null,null,null,null,null,null,null,null,null,null,null,null,null,null,null,null,null,null,null,null,null,null,null,null,null,null,null,null,null,{"$f":"IFERROR(VLOOKUP(ROWS($CF$3:CF21),$CH$3:$CI$37,2,FALSE),\"\")","v":"ابيض كروشيه 6.5cm"},null,{"$f":"IF(ISNUMBER(SEARCH(B21,CI21)),MAX($CH$2:CH20)+1,0)","v":18},{"$f":"'الرصيد الثابت'!D20","v":"ابيض كروشيه 2.5cm"}]
["",null,{"$f":"IF(B22=\"\",\"\",SUMIF('الرصيد الثابت'!$D$2:$D$104,B22,'الرصيد الثابت'!$H$2:$H$104))","v":""},{"$f":"IF(B22=\"\",\"\",SUMIF('الرصيد الثابت'!$D$2:$D$104,B22,'الرصيد الثابت'!$I$2:$I$104))","v":""},{"$f":"IF(B22=\"\",\"\",SUMIF('الرصيد الثابت'!$D$2:$D$104,B22,'الرصيد الثابت'!$J$2:$J$104))","v":""},null,0,null,null,null,null,0,null,null,null,0,null,0,null,null,null,null,null,null,null,null,null,null,null,null,null,null,null,null,null,null,null,null,null,null,null,null,null,null,null,null,null,null,null,null,null,null,null,null,null,null,null,null,null,null,null,null,null,null,null,null,null,null,null,null,null,null,null,null,null,null,null,null,null,null,null,null,null,{"$f":"IFERROR(VLOOKUP(ROWS($CF$3:CF22),$CH$3:$CI$37,2,FALSE),\"\")","v":"ابيض كروشيه 1.8cm"},null,{"$f":"IF(ISNUMBER(SEARCH(B22,CI22)),MAX($CH$2:CH21)+1,0)","v":19},{"$f":"'الرصيد الثابت'!D21","v":"ابيض كروشيه 6.5cm"}]
["",null,{"$f":"IF(B23=\"\",\"\",SUMIF('الرصيد الثابت'!$D$2:$D$104,B23,'الرصيد الثابت'!$H$2:$H$104))","v":""},{"$f":"IF(B23=\"\",\"\",SUMIF('الرصيد الثابت'!$D$2:$D$104,B23,'الرصيد الثابت'!$I$2:$I$104))","v":""},{"$f":"IF(B23=\"\",\"\",SUMIF('الرصيد الثابت'!$D$2:$D$104,B23,'الرصيد الثابت'!$J$2:$J$104))","v":""},null,0,null,null,null,null,0,null,null,null,0,null,0,null,null,null,null,null,null,null,null,null,null,null,null,null,null,null,null,null,null,null,null,null,null,null,null,null,null,null,null,null,null,null,null,null,null,null,null,null,null,null,null,null,null,null,null,null,null,null,null,null,null,null,null,null,null,null,null,null,null,null,null,null,null,null,null,null,{"$f":"IFERROR(VLOOKUP(ROWS($CF$3:CF23),$CH$3:$CI$37,2,FALSE),\"\")","v":"ابيض كروشيه 1.8"},null,{"$f":"IF(ISNUMBER(SEARCH(B23,CI23)),MAX($CH$2:CH22)+1,0)","v":20},{"$f":"'الرصيد الثابت'!D22","v":"ابيض كروشيه 1.8cm"}]
["",null,{"$f":"IF(B24=\"\",\"\",SUMIF('الرصيد الثابت'!$D$2:$D$104,B24,'الرصيد الثابت'!$H$2:$H$104))","v":""},{"$f":"IF(B24=\"\",\"\",SUMIF('الرصيد الثابت'!$D$2:$D$104,B24,'الرصيد الثابت'!$I$2:$I$104))","v":""},{"$f":"IF(B24=\"\",\"\",SUMIF('الرصيد الثابت'!$D$2:$D$104,B24,'الرصيد الثابت'!$J$2:$J$104))","v":""},null,0,null,null,null,null,0,null,null,null,0,null,0,null,null,null,null,null,null,null,null,null,null,null,null,null,null,null,null,null,null,null,null,null,null,null,null,null,null,null,null,null,null,null,null,null,null,null,null,null,null,null,null,null,null,null,null,null,null,null,null,null,null,null,null,null,null,null,null,null,null,null,null,null,null,null,null,null,{"$f":"IFERROR(VLOOKUP(ROWS($CF$3:CF24),$CH$3:$CI$37,2,FALSE),\"\")","v":"ابيض كروشيه .8m"},null,{"$f":"IF(ISNUMBER(SEARCH(B24,CI24)),MAX($CH$2:CH23)+1,0)","v":21},{"$f":"'الرصيد الثابت'!D23","v":"ابيض كروشيه 1.8"}]
["",null,{"$f":"IF(B25=\"\",\"\",SUMIF('الرصيد الثابت'!$D$2:$D$104,B25,'الرصيد الثابت'!$H$2:$H$104))","v":""},{"$f":"IF(B25=\"\",\"\",SUMIF('الرصيد الثابت'!$D$2:$D$104,B25,'الرصيد الثابت'!$I$2:$I$104))","v":""},{"$f":"IF(B25=\"\",\"\",SUMIF('الرصيد الثابت'!$D$2:$D$104,B25,'الرصيد الثابت'!$J$2:$J$104))","v":""},null,0,null,null,null,null,0,null,null,null,0,null,0,null,null,null,null,null,null,null,null,null,null,null,null,null,null,null,null,null,null,null,null,null,null,null,null,null,null,null,null,null,null,null,null,null,null,null,null,null,null,null,null,null,null,null,null,null,null,null,null,null,null,null,null,null,null,null,null,null,null,null,null,null,null,null,null,null,{"$f":"IFERROR(VLOOKUP(ROWS($CF$3:CF25),$CH$3:$CI$37,2,FALSE),\"\")","v":"ابيض كروشيه 7cm"},null,{"$f":"IF(ISNUMBER(SEARCH(B25,CI25)),MAX($CH$2:CH24)+1,0)","v":22},{"$f":"'الرصيد الثابت'!D24","v":"ابيض كروشيه .8m"}]
["",null,{"$f":"IF(B26=\"\",\"\",SUMIF('الرصيد الثابت'!$D$2:$D$104,B26,'الرصيد الثابت'!$H$2:$H$104))","v":""},{"$f":"IF(B26=\"\",\"\",SUMIF('الرصيد الثابت'!$D$2:$D$104,B26,'الرصيد الثابت'!$I$2:$I$104))","v":""},{"$f":"IF(B26=\"\",\"\",SUMIF('الرصيد الثابت'!$D$2:$D$104,B26,'الرصيد الثابت'!$J$2:$J$104))","v":""},null,0,null,null,null,null,0,null,null,null,0,null,0,null,null,null,null,null,null,null,null,null,null,null,null,null,null,null,null,null,null,null,null,null,null,null,null,null,null,null,null,null,null,null,null,null,null,null,null,null,null,null,null,null,null,null,null,null,null,null,null,null,null,null,null,null,null,null,null,null,null,null,null,null,null,null,null,null,{"$f":"IFERROR(VLOOKUP(ROWS($CF$3:CF26),$CH$3:$CI$37,2,FALSE),\"\")","v":"ابيض كروشيه 6.3cm"},null,{"$f":"IF(ISNUMBER(SEARCH(B26,CI26)),MAX($CH$2:CH25)+1,0)","v":23},{"$f":"'الرصيد الثابت'!D25","v":"ابيض كروشيه 7cm"}]
["",null,{"$f":"IF(B27=\"\",\"\",SUMIF('الرصيد الثابت'!$D$2:$D$104,B27,'الرصيد الثابت'!$H$2:$H$104))","v":""},{"$f":"IF(B27=\"\",\"\",SUMIF('الرصيد الثابت'!$D$2:$D$104,B27,'الرصيد الثابت'!$I$2:$I$104))","v":""},{"$f":"IF(B27=\"\",\"\",SUMIF('الرصيد الثابت'!$D$2:$D$104,B27,'الرصيد الثابت'!$J$2:$J$104))","v":""},null,0,null,null,null,null,0,null,null,null,0,null,0,null,null,null,null,null,null,null,null,null,null,null,null,null,null,null,null,null,null,null,null,null,null,null,null,null,null,null,null,null,null,null,null,null,null,null,null,null,null,null,null,null,null,null,null,null,null,null,null,null,null,null,null,null,null,null,null,null,null,null,null,null,null,null,null,null,{"$f":"IFERROR(VLOOKUP(ROWS($CF$3:CF27),$CH$3:$CI$37,2,FALSE),\"\")","v":"ابيض كروشيه 0.2m"},null,{"$f":"IF(ISNUMBER(SEARCH(B27,CI27)),MAX($CH$2:CH26)+1,0)","v":24},{"$f":"'الرصيد الثابت'!D26","v":"ابيض كروشيه 6.3cm"}]
["",null,{"$f":"IF(B28=\"\",\"\",SUMIF('الرصيد الثابت'!$D$2:$D$104,B28,'الرصيد الثابت'!$H$2:$H$104))","v":""},{"$f":"IF(B28=\"\",\"\",SUMIF('الرصيد الثابت'!$D$2:$D$104,B28,'الرصيد الثابت'!$I$2:$I$104))","v":""},{"$f":"IF(B28=\"\",\"\",SUMIF('الرصيد الثابت'!$D$2:$D$104,B28,'الرصيد الثابت'!$J$2:$J$104))","v":""},null,0,null,null,null,null,0,null,null,null,0,null,0,null,null,null,null,null,null,null,null,null,null,null,null,null,null,null,null,null,null,null,null,null,null,null,null,null,null,null,null,null,null,null,null,null,null,null,null,null,null,null,null,null,null,null,null,null,null,null,null,null,null,null,null,null,null,null,null,null,null,null,null,null,null,null,null,null,{"$f":"IFERROR(VLOOKUP(ROWS($CF$3:CF28),$CH$3:$CI$37,2,FALSE),\"\")","v":"ابيض كروشيه .5m"},null,{"$f":"IF(ISNUMBER(SEARCH(B28,CI28)),MAX($CH$2:CH27)+1,0)","v":25},{"$f":"'الرصيد الثابت'!D27","v":"ابيض كروشيه 0.2m"}]
["",null,{"$f":"IF(B29=\"\",\"\",SUMIF('الرصيد الثابت'!$D$2:$D$104,B29,'الرصيد الثابت'!$H$2:$H$104))","v":""},{"$f":"IF(B29=\"\",\"\",SUMIF('الرصيد الثابت'!$D$2:$D$104,B29,'الرصيد الثابت'!$I$2:$I$104))","v":""},{"$f":"IF(B29=\"\",\"\",SUMIF('الرصيد الثابت'!$D$2:$D$104,B29,'الرصيد الثابت'!$J$2:$J$104))","v":""},null,0,null,null,null,null,0,null,null,null,0,null,0,null,null,null,null,null,null,null,null,null,null,null,null,null,null,null,null,null,null,null,null,null,null,null,null,null,null,null,null,null,null,null,null,null,null,null,null,null,null,null,null,null,null,null,null,null,null,null,null,null,null,null,null,null,null,null,null,null,null,null,null,null,null,null,null,null,{"$f":"IFERROR(VLOOKUP(ROWS($CF$3:CF29),$CH$3:$CI$37,2,FALSE),\"\")","v":"ابيض كروشيه .6m"},null,{"$f":"IF(ISNUMBER(SEARCH(B29,CI29)),MAX($CH$2:CH28)+1,0)","v":26},{"$f":"'الرصيد الثابت'!D28","v":"ابيض كروشيه .5m"}]
["",null,{"$f":"IF(B30=\"\",\"\",SUMIF('الرصيد الثابت'!$D$2:$D$104,B30,'الرصيد الثابت'!$H$2:$H$104))","v":""},{"$f":"IF(B30=\"\",\"\",SUMIF('الرصيد الثابت'!$D$2:$D$104,B30,'الرصيد الثابت'!$I$2:$I$104))","v":""},{"$f":"IF(B30=\"\",\"\",SUMIF('الرصيد الثابت'!$D$2:$D$104,B30,'الرصيد الثابت'!$J$2:$J$104))","v":""},null,0,null,null,null,null,0,null,null,null,0,null,0,null,null,null,null,null,null,null,null,null,null,null,null,null,null,null,null,null,null,null,null,null,null,null,null,null,null,null,null,null,null,null,null,null,null,null,null,null,null,null,null,null,null,null,null,null,null,null,null,null,null,null,null,null,null,null,null,null,null,null,null,null,null,null,null,null,{"$f":"IFERROR(VLOOKUP(ROWS($CF$3:CF30),$CH$3:$CI$37,2,FALSE),\"\")","v":"ابيض كروشيه .7m"},null,{"$f":"IF(ISNUMBER(SEARCH(B30,CI30)),MAX($CH$2:CH29)+1,0)","v":27},{"$f":"'الرصيد الثابت'!D29","v":"ابيض كروشيه .6m"}]
["",null,{"$f":"IF(B31=\"\",\"\",SUMIF('الرصيد الثابت'!$D$2:$D$104,B31,'الرصيد الثابت'!$H$2:$H$104))","v":""},{"$f":"IF(B31=\"\",\"\",SUMIF('الرصيد الثابت'!$D$2:$D$104,B31,'الرصيد الثابت'!$I$2:$I$104))","v":""},{"$f":"IF(B31=\"\",\"\",SUMIF('الرصيد الثابت'!$D$2:$D$104,B31,'الرصيد الثابت'!$J$2:$J$104))","v":""},null,0,null,null,null,null,0,null,null,null,0,null,0,null,null,null,null,null,null,null,null,null,null,null,null,null,null,null,null,null,null,null,null,null,null,null,null,null,null,null,null,null,null,null,null,null,null,null,null,null,null,null,null,null,null,null,null,null,null,null,null,null,null,null,null,null,null,null,null,null,null,null,null,null,null,null,null,null,{"$f":"IFERROR(VLOOKUP(ROWS($CF$3:CF31),$CH$3:$CI$37,2,FALSE),\"\")","v":"ابيض كروشيه 1.6cm"},null,{"$f":"IF(ISNUMBER(SEARCH(B31,CI31)),MAX($CH$2:CH30)+1,0)","v":28},{"$f":"'الرصيد الثابت'!D30","v":"ابيض كروشيه .7m"}]
["",null,{"$f":"IF(B32=\"\",\"\",SUMIF('الرصيد الثابت'!$D$2:$D$104,B32,'الرصيد الثابت'!$H$2:$H$104))","v":""},{"$f":"IF(B32=\"\",\"\",SUMIF('الرصيد الثابت'!$D$2:$D$104,B32,'الرصيد الثابت'!$I$2:$I$104))","v":""},{"$f":"IF(B32=\"\",\"\",SUMIF('الرصيد الثابت'!$D$2:$D$104,B32,'الرصيد الثابت'!$J$2:$J$104))","v":""},null,0,null,null,null,null,0,null,null,null,0,null,0,null,null,null,null,null,null,null,null,null,null,null,null,null,null,null,null,null,null,null,null,null,null,null,null,null,null,null,null,null,null,null,null,null,null,null,null,null,null,null,null,null,null,null,null,null,null,null,null,null,null,null,null,null,null,null,null,null,null,null,null,null,null,null,null,null,{"$f":"IFERROR(VLOOKUP(ROWS($CF$3:CF32),$CH$3:$CI$37,2,FALSE),\"\")","v":"ابيض كروشيه 1.3cm"},null,{"$f":"IF(ISNUMBER(SEARCH(B32,CI32)),MAX($CH$2:CH31)+1,0)","v":29},{"$f":"'الرصيد الثابت'!D31","v":"ابيض كروشيه 1.6cm"}]
["",null,{"$f":"IF(B33=\"\",\"\",SUMIF('الرصيد الثابت'!$D$2:$D$104,B33,'الرصيد الثابت'!$H$2:$H$104))","v":""},{"$f":"IF(B33=\"\",\"\",SUMIF('الرصيد الثابت'!$D$2:$D$104,B33,'الرصيد الثابت'!$I$2:$I$104))","v":""},{"$f":"IF(B33=\"\",\"\",SUMIF('الرصيد الثابت'!$D$2:$D$104,B33,'الرصيد الثابت'!$J$2:$J$104))","v":""},null,0,null,null,null,null,0,null,null,null,0,null,0,null,null,null,null,null,null,null,null,null,null,null,null,null,null,null,null,null,null,null,null,null,null,null,null,null,null,null,null,null,null,null,null,null,null,null,null,null,null,null,null,null,null,null,null,null,null,null,null,null,null,null,null,null,null,null,null,null,null,null,null,null,null,null,null,null,{"$f":"IFERROR(VLOOKUP(ROWS($CF$3:CF33),$CH$3:$CI$37,2,FALSE),\"\")","v":"ابيض كروشيه 1.8.cm"},null,{"$f":"IF(ISNUMBER(SEARCH(B33,CI33)),MAX($CH$2:CH32)+1,0)","v":30},{"$f":"'الرصيد الثابت'!D32","v":"ابيض كروشيه 1.3cm"}]
["",null,{"$f":"IF(B34=\"\",\"\",SUMIF('الرصيد الثابت'!$D$2:$D$104,B34,'الرصيد الثابت'!$H$2:$H$104))","v":""},{"$f":"IF(B34=\"\",\"\",SUMIF('الرصيد الثابت'!$D$2:$D$104,B34,'الرصيد الثابت'!$I$2:$I$104))","v":""},{"$f":"IF(B34=\"\",\"\",SUMIF('الرصيد الثابت'!$D$2:$D$104,B34,'الرصيد الثابت'!$J$2:$J$104))","v":""},null,0,null,null,null,null,0,null,null,null,0,null,0,null,null,null,null,null,null,null,null,null,null,null,null,null,null,null,null,null,null,null,null,null,null,null,null,null,null,null,null,null,null,null,null,null,null,null,null,null,null,null,null,null,null,null,null,null,null,null,null,null,null,null,null,null,null,null,null,null,null,null,null,null,null,null,null,null,{"$f":"IFERROR(VLOOKUP(ROWS($CF$3:CF34),$CH$3:$CI$37,2,FALSE),\"\")","v":"ابيض ووفين فستون 1cm"},null,{"$f":"IF(ISNUMBER(SEARCH(B34,CI34)),MAX($CH$2:CH33)+1,0)","v":31},{"$f":"'الرصيد الثابت'!D33","v":"ابيض كروشيه 1.8.cm"}]
["",null,{"$f":"IF(B35=\"\",\"\",SUMIF('الرصيد الثابت'!$D$2:$D$104,B35,'الرصيد الثابت'!$H$2:$H$104))","v":""},{"$f":"IF(B35=\"\",\"\",SUMIF('الرصيد الثابت'!$D$2:$D$104,B35,'الرصيد الثابت'!$I$2:$I$104))","v":""},{"$f":"IF(B35=\"\",\"\",SUMIF('الرصيد الثابت'!$D$2:$D$104,B35,'الرصيد الثابت'!$J$2:$J$104))","v":""},null,0,null,null,null,null,0,null,null,null,0,null,0,null,null,null,null,null,null,null,null,null,null,null,null,null,null,null,null,null,null,null,null,null,null,null,null,null,null,null,null,null,null,null,null,null,null,null,null,null,null,null,null,null,null,null,null,null,null,null,null,null,null,null,null,null,null,null,null,null,null,null,null,null,null,null,null,null,{"$f":"IFERROR(VLOOKUP(ROWS($CF$3:CF35),$CH$3:$CI$37,2,FALSE),\"\")","v":"ابيض استك طبي 3.18"},null,{"$f":"IF(ISNUMBER(SEARCH(B35,CI35)),MAX($CH$2:CH34)+1,0)","v":32},{"$f":"'الرصيد الثابت'!D34","v":"ابيض ووفين فستون 1cm"}]
["",null,{"$f":"IF(B36=\"\",\"\",SUMIF('الرصيد الثابت'!$D$2:$D$104,B36,'الرصيد الثابت'!$H$2:$H$104))","v":""},{"$f":"IF(B36=\"\",\"\",SUMIF('الرصيد الثابت'!$D$2:$D$104,B36,'الرصيد الثابت'!$I$2:$I$104))","v":""},{"$f":"IF(B36=\"\",\"\",SUMIF('الرصيد الثابت'!$D$2:$D$104,B36,'الرصيد الثابت'!$J$2:$J$104))","v":""},null,0,null,null,null,null,0,null,null,null,0,null,0,null,null,null,null,null,null,null,null,null,null,null,null,null,null,null,null,null,null,null,null,null,null,null,null,null,null,null,null,null,null,null,null,null,null,null,null,null,null,null,null,null,null,null,null,null,null,null,null,null,null,null,null,null,null,null,null,null,null,null,null,null,null,null,null,null,{"$f":"IFERROR(VLOOKUP(ROWS($CF$3:CF36),$CH$3:$CI$37,2,FALSE),\"\")","v":"ابيض استك طبي 4.14"},null,{"$f":"IF(ISNUMBER(SEARCH(B36,CI36)),MAX($CH$2:CH35)+1,0)","v":33},{"$f":"'الرصيد الثابت'!D35","v":"ابيض استك طبي 3.18"}]
["",null,{"$f":"IF(B37=\"\",\"\",SUMIF('الرصيد الثابت'!$D$2:$D$104,B37,'الرصيد الثابت'!$H$2:$H$104))","v":""},{"$f":"IF(B37=\"\",\"\",SUMIF('الرصيد الثابت'!$D$2:$D$104,B37,'الرصيد الثابت'!$I$2:$I$104))","v":""},{"$f":"IF(B37=\"\",\"\",SUMIF('الرصيد الثابت'!$D$2:$D$104,B37,'الرصيد الثابت'!$J$2:$J$104))","v":""},null,0,null,null,null,null,0,null,null,null,0,null,0,null,null,null,null,null,null,null,null,null,null,null,null,null,null,null,null,null,null,null,null,null,null,null,null,null,null,null,null,null,null,null,null,null,null,null,null,null,null,null,null,null,null,null,null,null,null,null,null,null,null,null,null,null,null,null,null,null,null,null,null,null,null,null,null,null,{"$f":"IFERROR(VLOOKUP(ROWS($CF$3:CF37),$CH$3:$CI$37,2,FALSE),\"\")","v":""},null,{"$f":"IF(ISNUMBER(SEARCH(B37,CI37)),MAX($CH$2:CH36)+1,0)","v":34},{"$f":"'الرصيد الثابت'!D36","v":"ابيض استك طبي 4.14"}]