{"text_format":"1","workbook":"xlsx","n_sheets":2,"sheets":["الرصيد الثابت","الدخول"],"not_rendered":{"charts":0,"images":0,"macros":1,"external_links":0,"defined_names":8,"comments":0,"pivot_tables":0},"unopened":[],"bounds":{"document_bytes":16777216,"sheet_cells":100000,"rows_first":2000,"rows_last":500,"rows_between":2000,"halvings":0,"cell_chars":16384,"cell_head_chars":4096},"cells_cut":0,"cells_raw":0,"read":"whole","date_system":"1900"}

{"sheet":"الرصيد الثابت","index":0,"n_rows":106,"n_cols":10,"rows_kept":106,"cut":false,"hidden":false,"merged":[]}
["اللون","الوصف","المقاس","اللون","رصيد اقتتاحي بالكيلو","رصيد اقتتاحي بالمتر","رصيد اقتتاحي بالقطع","رصيد ختامي يالكيلو","رصيد ختامي يالمتر","رصيد ختامي يالقطع"]
["ابيض","كروشيه","5.8cm",{"$f":"A2&\" \"&B2&\" \"&C2","v":"ابيض كروشيه 5.8cm"},1000,3000,15000,{"$f":"IF(E2=\"\",\"\",SUMIF(الدخول!$B$3:$B$1311,D2,الدخول!$F$3:$F$1311)+SUMIF(الدخول!$B$3:$B$1311,D2,الدخول!$Q$3:$Q$1311)+E2-SUMIF(الدخول!$B$3:$B$1311,D2,الدخول!$K$3:$K$1311))","v":1002},{"$f":"IF(F2=\"\",\"\",SUMIF(الدخول!$B$3:$B$1311,D2,الدخول!$G$3:$G$1311)+SUMIF(الدخول!$B$3:$B$1311,D2,الدخول!$R$3:$R$1311)+F2-SUMIF(الدخول!$B$3:$B$1311,D2,الدخول!$L$3:$L$1311))","v":3006},{"$f":"IF(G2=\"\",\"\",SUMIF(الدخول!$B$3:$B$1311,D2,الدخول!$I$3:$I$1311)+SUMIF(الدخول!$B$3:$B$1311,D2,الدخول!$T$3:$T$1311)+G2-SUMIF(الدخول!$B$3:$B$1311,D2,الدخول!$N$3:$N$1311))","v":15005}]
["ابيض","كروشيه","5.5cm",{"$f":"A3&\" \"&B3&\" \"&C3","v":"ابيض كروشيه 5.5cm"},9000,2500,5000,{"$f":"IF(E3=\"\",\"\",SUMIF(الدخول!$B$3:$B$1311,D3,الدخول!$F$3:$F$1311)+SUMIF(الدخول!$B$3:$B$1311,D3,الدخول!$Q$3:$Q$1311)+E3-SUMIF(الدخول!$B$3:$B$1311,D3,الدخول!$K$3:$K$1311))","v":9005},{"$f":"IF(F3=\"\",\"\",SUMIF(الدخول!$B$3:$B$1311,D3,الدخول!$G$3:$G$1311)+SUMIF(الدخول!$B$3:$B$1311,D3,الدخول!$R$3:$R$1311)+F3-SUMIF(الدخول!$B$3:$B$1311,D3,الدخول!$L$3:$L$1311))","v":2510},{"$f":"IF(G3=\"\",\"\",SUMIF(الدخول!$B$3:$B$1311,D3,الدخول!$I$3:$I$1311)+SUMIF(الدخول!$B$3:$B$1311,D3,الدخول!$T$3:$T$1311)+G3-SUMIF(الدخول!$B$3:$B$1311,D3,الدخول!$N$3:$N$1311))","v":5010}]
["ابيض","كروشيه","5.3cm","ابيض كروشيه 5.3cm",6000,4000,300,{"$f":"IF(E4=\"\",\"\",SUMIF(الدخول!$B$3:$B$1311,D4,الدخول!$F$3:$F$1311)+SUMIF(الدخول!$B$3:$B$1311,D4,الدخول!$Q$3:$Q$1311)+E4-SUMIF(الدخول!$B$3:$B$1311,D4,الدخول!$K$3:$K$1311))","v":6000},{"$f":"IF(F4=\"\",\"\",SUMIF(الدخول!$B$3:$B$1311,D4,الدخول!$G$3:$G$1311)+SUMIF(الدخول!$B$3:$B$1311,D4,الدخول!$R$3:$R$1311)+F4-SUMIF(الدخول!$B$3:$B$1311,D4,الدخول!$L$3:$L$1311))","v":4000},{"$f":"IF(G4=\"\",\"\",SUMIF(الدخول!$B$3:$B$1311,D4,الدخول!$I$3:$I$1311)+SUMIF(الدخول!$B$3:$B$1311,D4,الدخول!$T$3:$T$1311)+G4-SUMIF(الدخول!$B$3:$B$1311,D4,الدخول!$N$3:$N$1311))","v":300}]
["ابيض","كروشيه","5cm","ابيض كروشيه 5cm",null,null,null,null,{"$f":"IF(F5=\"\",\"\",SUMIF(الدخول!$B$3:$B$1311,D5,الدخول!$G$3:$G$1311)+SUMIF(الدخول!$B$3:$B$1311,D5,الدخول!$R$3:$R$1311)+F5-SUMIF(الدخول!$B$3:$B$1311,D5,الدخول!$L$3:$L$1311))","v":""},{"$f":"IF(G5=\"\",\"\",SUMIF(الدخول!$B$3:$B$1311,D5,الدخول!$I$3:$I$1311)+SUMIF(الدخول!$B$3:$B$1311,D5,الدخول!$T$3:$T$1311)+G5-SUMIF(الدخول!$B$3:$B$1311,D5,الدخول!$N$3:$N$1311))","v":""}]
["ابيض","كروشيه","4.5cm","ابيض كروشيه 4.5cm",null,null,null,{"$f":"IF(E6=\"\",\"\",SUMIF(الدخول!$B$3:$B$1311,D6,الدخول!$F$3:$F$1311)+SUMIF(الدخول!$B$3:$B$1311,D6,الدخول!$Q$3:$Q$1311)+E6-SUMIF(الدخول!$B$3:$B$1311,D6,الدخول!$K$3:$K$1311))","v":""},{"$f":"IF(F6=\"\",\"\",SUMIF(الدخول!$B$3:$B$1311,D6,الدخول!$G$3:$G$1311)+SUMIF(الدخول!$B$3:$B$1311,D6,الدخول!$R$3:$R$1311)+F6-SUMIF(الدخول!$B$3:$B$1311,D6,الدخول!$L$3:$L$1311))","v":""},{"$f":"IF(G6=\"\",\"\",SUMIF(الدخول!$B$3:$B$1311,D6,الدخول!$I$3:$I$1311)+SUMIF(الدخول!$B$3:$B$1311,D6,الدخول!$T$3:$T$1311)+G6-SUMIF(الدخول!$B$3:$B$1311,D6,الدخول!$N$3:$N$1311))","v":""}]
["ابيض","كروشيه","4cm","ابيض كروشيه 4cm",null,null,null,{"$f":"IF(E7=\"\",\"\",SUMIF(الدخول!$B$3:$B$1311,D7,الدخول!$F$3:$F$1311)+SUMIF(الدخول!$B$3:$B$1311,D7,الدخول!$Q$3:$Q$1311)+E7-SUMIF(الدخول!$B$3:$B$1311,D7,الدخول!$K$3:$K$1311))","v":""},{"$f":"IF(F7=\"\",\"\",SUMIF(الدخول!$B$3:$B$1311,D7,الدخول!$G$3:$G$1311)+SUMIF(الدخول!$B$3:$B$1311,D7,الدخول!$R$3:$R$1311)+F7-SUMIF(الدخول!$B$3:$B$1311,D7,الدخول!$L$3:$L$1311))","v":""},{"$f":"IF(G7=\"\",\"\",SUMIF(الدخول!$B$3:$B$1311,D7,الدخول!$I$3:$I$1311)+SUMIF(الدخول!$B$3:$B$1311,D7,الدخول!$T$3:$T$1311)+G7-SUMIF(الدخول!$B$3:$B$1311,D7,الدخول!$N$3:$N$1311))","v":""}]
["ابيض","كروشيه","3.5cm","ابيض كروشيه 3.5cm",null,null,null,{"$f":"IF(E8=\"\",\"\",SUMIF(الدخول!$B$3:$B$1311,D8,الدخول!$F$3:$F$1311)+SUMIF(الدخول!$B$3:$B$1311,D8,الدخول!$Q$3:$Q$1311)+E8-SUMIF(الدخول!$B$3:$B$1311,D8,الدخول!$K$3:$K$1311))","v":""},{"$f":"IF(F8=\"\",\"\",SUMIF(الدخول!$B$3:$B$1311,D8,الدخول!$G$3:$G$1311)+SUMIF(الدخول!$B$3:$B$1311,D8,الدخول!$R$3:$R$1311)+F8-SUMIF(الدخول!$B$3:$B$1311,D8,الدخول!$L$3:$L$1311))","v":""},{"$f":"IF(G8=\"\",\"\",SUMIF(الدخول!$B$3:$B$1311,D8,الدخول!$I$3:$I$1311)+SUMIF(الدخول!$B$3:$B$1311,D8,الدخول!$T$3:$T$1311)+G8-SUMIF(الدخول!$B$3:$B$1311,D8,الدخول!$N$3:$N$1311))","v":""}]
["ابيض","كروشيه","3.2cm","ابيض كروشيه 3.2cm",null,null,null,{"$f":"IF(E9=\"\",\"\",SUMIF(الدخول!$B$3:$B$1311,D9,الدخول!$F$3:$F$1311)+SUMIF(الدخول!$B$3:$B$1311,D9,الدخول!$Q$3:$Q$1311)+E9-SUMIF(الدخول!$B$3:$B$1311,D9,الدخول!$K$3:$K$1311))","v":""},{"$f":"IF(F9=\"\",\"\",SUMIF(الدخول!$B$3:$B$1311,D9,الدخول!$G$3:$G$1311)+SUMIF(الدخول!$B$3:$B$1311,D9,الدخول!$R$3:$R$1311)+F9-SUMIF(الدخول!$B$3:$B$1311,D9,الدخول!$L$3:$L$1311))","v":""},{"$f":"IF(G9=\"\",\"\",SUMIF(الدخول!$B$3:$B$1311,D9,الدخول!$I$3:$I$1311)+SUMIF(الدخول!$B$3:$B$1311,D9,الدخول!$T$3:$T$1311)+G9-SUMIF(الدخول!$B$3:$B$1311,D9,الدخول!$N$3:$N$1311))","v":""}]
["ابيض","كروشيه","3cm","ابيض كروشيه 3cm",null,null,null,{"$f":"IF(E10=\"\",\"\",SUMIF(الدخول!$B$3:$B$1311,D10,الدخول!$F$3:$F$1311)+SUMIF(الدخول!$B$3:$B$1311,D10,الدخول!$Q$3:$Q$1311)+E10-SUMIF(الدخول!$B$3:$B$1311,D10,الدخول!$K$3:$K$1311))","v":""},{"$f":"IF(F10=\"\",\"\",SUMIF(الدخول!$B$3:$B$1311,D10,الدخول!$G$3:$G$1311)+SUMIF(الدخول!$B$3:$B$1311,D10,الدخول!$R$3:$R$1311)+F10-SUMIF(الدخول!$B$3:$B$1311,D10,الدخول!$L$3:$L$1311))","v":""},{"$f":"IF(G10=\"\",\"\",SUMIF(الدخول!$B$3:$B$1311,D10,الدخول!$I$3:$I$1311)+SUMIF(الدخول!$B$3:$B$1311,D10,الدخول!$T$3:$T$1311)+G10-SUMIF(الدخول!$B$3:$B$1311,D10,الدخول!$N$3:$N$1311))","v":""}]
["ابيض","كروشيه","2.2cm","ابيض كروشيه 2.2cm",null,null,null,{"$f":"IF(E11=\"\",\"\",SUMIF(الدخول!$B$3:$B$1311,D11,الدخول!$F$3:$F$1311)+SUMIF(الدخول!$B$3:$B$1311,D11,الدخول!$Q$3:$Q$1311)+E11-SUMIF(الدخول!$B$3:$B$1311,D11,الدخول!$K$3:$K$1311))","v":""},{"$f":"IF(F11=\"\",\"\",SUMIF(الدخول!$B$3:$B$1311,D11,الدخول!$G$3:$G$1311)+SUMIF(الدخول!$B$3:$B$1311,D11,الدخول!$R$3:$R$1311)+F11-SUMIF(الدخول!$B$3:$B$1311,D11,الدخول!$L$3:$L$1311))","v":""},{"$f":"IF(G11=\"\",\"\",SUMIF(الدخول!$B$3:$B$1311,D11,الدخول!$I$3:$I$1311)+SUMIF(الدخول!$B$3:$B$1311,D11,الدخول!$T$3:$T$1311)+G11-SUMIF(الدخول!$B$3:$B$1311,D11,الدخول!$N$3:$N$1311))","v":""}]
["ابيض","كروشيه","2cm","ابيض كروشيه 2cm",null,null,null,{"$f":"IF(E12=\"\",\"\",SUMIF(الدخول!$B$3:$B$1311,D12,الدخول!$F$3:$F$1311)+SUMIF(الدخول!$B$3:$B$1311,D12,الدخول!$Q$3:$Q$1311)+E12-SUMIF(الدخول!$B$3:$B$1311,D12,الدخول!$K$3:$K$1311))","v":""},{"$f":"IF(F12=\"\",\"\",SUMIF(الدخول!$B$3:$B$1311,D12,الدخول!$G$3:$G$1311)+SUMIF(الدخول!$B$3:$B$1311,D12,الدخول!$R$3:$R$1311)+F12-SUMIF(الدخول!$B$3:$B$1311,D12,الدخول!$L$3:$L$1311))","v":""},{"$f":"IF(G12=\"\",\"\",SUMIF(الدخول!$B$3:$B$1311,D12,الدخول!$I$3:$I$1311)+SUMIF(الدخول!$B$3:$B$1311,D12,الدخول!$T$3:$T$1311)+G12-SUMIF(الدخول!$B$3:$B$1311,D12,الدخول!$N$3:$N$1311))","v":""}]
["ابيض","كروشيه","1.5cm","ابيض كروشيه 1.5cm",null,null,null,{"$f":"IF(E13=\"\",\"\",SUMIF(الدخول!$B$3:$B$1311,D13,الدخول!$F$3:$F$1311)+SUMIF(الدخول!$B$3:$B$1311,D13,الدخول!$Q$3:$Q$1311)+E13-SUMIF(الدخول!$B$3:$B$1311,D13,الدخول!$K$3:$K$1311))","v":""},{"$f":"IF(F13=\"\",\"\",SUMIF(الدخول!$B$3:$B$1311,D13,الدخول!$G$3:$G$1311)+SUMIF(الدخول!$B$3:$B$1311,D13,الدخول!$R$3:$R$1311)+F13-SUMIF(الدخول!$B$3:$B$1311,D13,الدخول!$L$3:$L$1311))","v":""},{"$f":"IF(G13=\"\",\"\",SUMIF(الدخول!$B$3:$B$1311,D13,الدخول!$I$3:$I$1311)+SUMIF(الدخول!$B$3:$B$1311,D13,الدخول!$T$3:$T$1311)+G13-SUMIF(الدخول!$B$3:$B$1311,D13,الدخول!$N$3:$N$1311))","v":""}]
["ابيض","كروشيه","1.2cm","ابيض كروشيه 1.2cm",null,null,null,{"$f":"IF(E14=\"\",\"\",SUMIF(الدخول!$B$3:$B$1311,D14,الدخول!$F$3:$F$1311)+SUMIF(الدخول!$B$3:$B$1311,D14,الدخول!$Q$3:$Q$1311)+E14-SUMIF(الدخول!$B$3:$B$1311,D14,الدخول!$K$3:$K$1311))","v":""},{"$f":"IF(F14=\"\",\"\",SUMIF(الدخول!$B$3:$B$1311,D14,الدخول!$G$3:$G$1311)+SUMIF(الدخول!$B$3:$B$1311,D14,الدخول!$R$3:$R$1311)+F14-SUMIF(الدخول!$B$3:$B$1311,D14,الدخول!$L$3:$L$1311))","v":""},{"$f":"IF(G14=\"\",\"\",SUMIF(الدخول!$B$3:$B$1311,D14,الدخول!$I$3:$I$1311)+SUMIF(الدخول!$B$3:$B$1311,D14,الدخول!$T$3:$T$1311)+G14-SUMIF(الدخول!$B$3:$B$1311,D14,الدخول!$N$3:$N$1311))","v":""}]
["ابيض","كروشيه","1cm","ابيض كروشيه 1cm",null,null,null,{"$f":"IF(E15=\"\",\"\",SUMIF(الدخول!$B$3:$B$1311,D15,الدخول!$F$3:$F$1311)+SUMIF(الدخول!$B$3:$B$1311,D15,الدخول!$Q$3:$Q$1311)+E15-SUMIF(الدخول!$B$3:$B$1311,D15,الدخول!$K$3:$K$1311))","v":""},{"$f":"IF(F15=\"\",\"\",SUMIF(الدخول!$B$3:$B$1311,D15,الدخول!$G$3:$G$1311)+SUMIF(الدخول!$B$3:$B$1311,D15,الدخول!$R$3:$R$1311)+F15-SUMIF(الدخول!$B$3:$B$1311,D15,الدخول!$L$3:$L$1311))","v":""},{"$f":"IF(G15=\"\",\"\",SUMIF(الدخول!$B$3:$B$1311,D15,الدخول!$I$3:$I$1311)+SUMIF(الدخول!$B$3:$B$1311,D15,الدخول!$T$3:$T$1311)+G15-SUMIF(الدخول!$B$3:$B$1311,D15,الدخول!$N$3:$N$1311))","v":""}]
["ابيض","كروشيه","8mm","ابيض كروشيه 8mm",null,null,null,{"$f":"IF(E16=\"\",\"\",SUMIF(الدخول!$B$3:$B$1311,D16,الدخول!$F$3:$F$1311)+SUMIF(الدخول!$B$3:$B$1311,D16,الدخول!$Q$3:$Q$1311)+E16-SUMIF(الدخول!$B$3:$B$1311,D16,الدخول!$K$3:$K$1311))","v":""},{"$f":"IF(F16=\"\",\"\",SUMIF(الدخول!$B$3:$B$1311,D16,الدخول!$G$3:$G$1311)+SUMIF(الدخول!$B$3:$B$1311,D16,الدخول!$R$3:$R$1311)+F16-SUMIF(الدخول!$B$3:$B$1311,D16,الدخول!$L$3:$L$1311))","v":""},{"$f":"IF(G16=\"\",\"\",SUMIF(الدخول!$B$3:$B$1311,D16,الدخول!$I$3:$I$1311)+SUMIF(الدخول!$B$3:$B$1311,D16,الدخول!$T$3:$T$1311)+G16-SUMIF(الدخول!$B$3:$B$1311,D16,الدخول!$N$3:$N$1311))","v":""}]
["ابيض","كروشيه","7mm","ابيض كروشيه 7mm",null,null,null,{"$f":"IF(E17=\"\",\"\",SUMIF(الدخول!$B$3:$B$1311,D17,الدخول!$F$3:$F$1311)+SUMIF(الدخول!$B$3:$B$1311,D17,الدخول!$Q$3:$Q$1311)+E17-SUMIF(الدخول!$B$3:$B$1311,D17,الدخول!$K$3:$K$1311))","v":""},{"$f":"IF(F17=\"\",\"\",SUMIF(الدخول!$B$3:$B$1311,D17,الدخول!$G$3:$G$1311)+SUMIF(الدخول!$B$3:$B$1311,D17,الدخول!$R$3:$R$1311)+F17-SUMIF(الدخول!$B$3:$B$1311,D17,الدخول!$L$3:$L$1311))","v":""},{"$f":"IF(G17=\"\",\"\",SUMIF(الدخول!$B$3:$B$1311,D17,الدخول!$I$3:$I$1311)+SUMIF(الدخول!$B$3:$B$1311,D17,الدخول!$T$3:$T$1311)+G17-SUMIF(الدخول!$B$3:$B$1311,D17,الدخول!$N$3:$N$1311))","v":""}]
["ابيض","كروشيه","6mm","ابيض كروشيه 6mm",null,null,null,{"$f":"IF(E18=\"\",\"\",SUMIF(الدخول!$B$3:$B$1311,D18,الدخول!$F$3:$F$1311)+SUMIF(الدخول!$B$3:$B$1311,D18,الدخول!$Q$3:$Q$1311)+E18-SUMIF(الدخول!$B$3:$B$1311,D18,الدخول!$K$3:$K$1311))","v":""},{"$f":"IF(F18=\"\",\"\",SUMIF(الدخول!$B$3:$B$1311,D18,الدخول!$G$3:$G$1311)+SUMIF(الدخول!$B$3:$B$1311,D18,الدخول!$R$3:$R$1311)+F18-SUMIF(الدخول!$B$3:$B$1311,D18,الدخول!$L$3:$L$1311))","v":""},{"$f":"IF(G18=\"\",\"\",SUMIF(الدخول!$B$3:$B$1311,D18,الدخول!$I$3:$I$1311)+SUMIF(الدخول!$B$3:$B$1311,D18,الدخول!$T$3:$T$1311)+G18-SUMIF(الدخول!$B$3:$B$1311,D18,الدخول!$N$3:$N$1311))","v":""}]
["ابيض","كروشيه","5mm","ابيض كروشيه 5mm",null,null,null,{"$f":"IF(E19=\"\",\"\",SUMIF(الدخول!$B$3:$B$1311,D19,الدخول!$F$3:$F$1311)+SUMIF(الدخول!$B$3:$B$1311,D19,الدخول!$Q$3:$Q$1311)+E19-SUMIF(الدخول!$B$3:$B$1311,D19,الدخول!$K$3:$K$1311))","v":""},{"$f":"IF(F19=\"\",\"\",SUMIF(الدخول!$B$3:$B$1311,D19,الدخول!$G$3:$G$1311)+SUMIF(الدخول!$B$3:$B$1311,D19,الدخول!$R$3:$R$1311)+F19-SUMIF(الدخول!$B$3:$B$1311,D19,الدخول!$L$3:$L$1311))","v":""},{"$f":"IF(G19=\"\",\"\",SUMIF(الدخول!$B$3:$B$1311,D19,الدخول!$I$3:$I$1311)+SUMIF(الدخول!$B$3:$B$1311,D19,الدخول!$T$3:$T$1311)+G19-SUMIF(الدخول!$B$3:$B$1311,D19,الدخول!$N$3:$N$1311))","v":""}]
["ابيض","كروشيه","2.5cm","ابيض كروشيه 2.5cm",null,null,null,{"$f":"IF(E20=\"\",\"\",SUMIF(الدخول!$B$3:$B$1311,D20,الدخول!$F$3:$F$1311)+SUMIF(الدخول!$B$3:$B$1311,D20,الدخول!$Q$3:$Q$1311)+E20-SUMIF(الدخول!$B$3:$B$1311,D20,الدخول!$K$3:$K$1311))","v":""},{"$f":"IF(F20=\"\",\"\",SUMIF(الدخول!$B$3:$B$1311,D20,الدخول!$G$3:$G$1311)+SUMIF(الدخول!$B$3:$B$1311,D20,الدخول!$R$3:$R$1311)+F20-SUMIF(الدخول!$B$3:$B$1311,D20,الدخول!$L$3:$L$1311))","v":""},{"$f":"IF(G20=\"\",\"\",SUMIF(الدخول!$B$3:$B$1311,D20,الدخول!$I$3:$I$1311)+SUMIF(الدخول!$B$3:$B$1311,D20,الدخول!$T$3:$T$1311)+G20-SUMIF(الدخول!$B$3:$B$1311,D20,الدخول!$N$3:$N$1311))","v":""}]
["ابيض","كروشيه","6.5cm","ابيض كروشيه 6.5cm",null,null,null,{"$f":"IF(E21=\"\",\"\",SUMIF(الدخول!$B$3:$B$1311,D21,الدخول!$F$3:$F$1311)+SUMIF(الدخول!$B$3:$B$1311,D21,الدخول!$Q$3:$Q$1311)+E21-SUMIF(الدخول!$B$3:$B$1311,D21,الدخول!$K$3:$K$1311))","v":""},{"$f":"IF(F21=\"\",\"\",SUMIF(الدخول!$B$3:$B$1311,D21,الدخول!$G$3:$G$1311)+SUMIF(الدخول!$B$3:$B$1311,D21,الدخول!$R$3:$R$1311)+F21-SUMIF(الدخول!$B$3:$B$1311,D21,الدخول!$L$3:$L$1311))","v":""},{"$f":"IF(G21=\"\",\"\",SUMIF(الدخول!$B$3:$B$1311,D21,الدخول!$I$3:$I$1311)+SUMIF(الدخول!$B$3:$B$1311,D21,الدخول!$T$3:$T$1311)+G21-SUMIF(الدخول!$B$3:$B$1311,D21,الدخول!$N$3:$N$1311))","v":""}]
["ابيض","كروشيه","1.8cm","ابيض كروشيه 1.8cm",null,null,null,{"$f":"IF(E22=\"\",\"\",SUMIF(الدخول!$B$3:$B$1311,D22,الدخول!$F$3:$F$1311)+SUMIF(الدخول!$B$3:$B$1311,D22,الدخول!$Q$3:$Q$1311)+E22-SUMIF(الدخول!$B$3:$B$1311,D22,الدخول!$K$3:$K$1311))","v":""},{"$f":"IF(F22=\"\",\"\",SUMIF(الدخول!$B$3:$B$1311,D22,الدخول!$G$3:$G$1311)+SUMIF(الدخول!$B$3:$B$1311,D22,الدخول!$R$3:$R$1311)+F22-SUMIF(الدخول!$B$3:$B$1311,D22,الدخول!$L$3:$L$1311))","v":""},{"$f":"IF(G22=\"\",\"\",SUMIF(الدخول!$B$3:$B$1311,D22,الدخول!$I$3:$I$1311)+SUMIF(الدخول!$B$3:$B$1311,D22,الدخول!$T$3:$T$1311)+G22-SUMIF(الدخول!$B$3:$B$1311,D22,الدخول!$N$3:$N$1311))","v":""}]
["ابيض","كروشيه",1.8,"ابيض كروشيه 1.8",null,null,null,{"$f":"IF(E23=\"\",\"\",SUMIF(الدخول!$B$3:$B$1311,D23,الدخول!$F$3:$F$1311)+SUMIF(الدخول!$B$3:$B$1311,D23,الدخول!$Q$3:$Q$1311)+E23-SUMIF(الدخول!$B$3:$B$1311,D23,الدخول!$K$3:$K$1311))","v":""},{"$f":"IF(F23=\"\",\"\",SUMIF(الدخول!$B$3:$B$1311,D23,الدخول!$G$3:$G$1311)+SUMIF(الدخول!$B$3:$B$1311,D23,الدخول!$R$3:$R$1311)+F23-SUMIF(الدخول!$B$3:$B$1311,D23,الدخول!$L$3:$L$1311))","v":""},{"$f":"IF(G23=\"\",\"\",SUMIF(الدخول!$B$3:$B$1311,D23,الدخول!$I$3:$I$1311)+SUMIF(الدخول!$B$3:$B$1311,D23,الدخول!$T$3:$T$1311)+G23-SUMIF(الدخول!$B$3:$B$1311,D23,الدخول!$N$3:$N$1311))","v":""}]
["ابيض","كروشيه",".8m","ابيض كروشيه .8m",null,null,null,{"$f":"IF(E24=\"\",\"\",SUMIF(الدخول!$B$3:$B$1311,D24,الدخول!$F$3:$F$1311)+SUMIF(الدخول!$B$3:$B$1311,D24,الدخول!$Q$3:$Q$1311)+E24-SUMIF(الدخول!$B$3:$B$1311,D24,الدخول!$K$3:$K$1311))","v":""},{"$f":"IF(F24=\"\",\"\",SUMIF(الدخول!$B$3:$B$1311,D24,الدخول!$G$3:$G$1311)+SUMIF(الدخول!$B$3:$B$1311,D24,الدخول!$R$3:$R$1311)+F24-SUMIF(الدخول!$B$3:$B$1311,D24,الدخول!$L$3:$L$1311))","v":""},{"$f":"IF(G24=\"\",\"\",SUMIF(الدخول!$B$3:$B$1311,D24,الدخول!$I$3:$I$1311)+SUMIF(الدخول!$B$3:$B$1311,D24,الدخول!$T$3:$T$1311)+G24-SUMIF(الدخول!$B$3:$B$1311,D24,الدخول!$N$3:$N$1311))","v":""}]
["ابيض","كروشيه","7cm","ابيض كروشيه 7cm",null,null,null,{"$f":"IF(E25=\"\",\"\",SUMIF(الدخول!$B$3:$B$1311,D25,الدخول!$F$3:$F$1311)+SUMIF(الدخول!$B$3:$B$1311,D25,الدخول!$Q$3:$Q$1311)+E25-SUMIF(الدخول!$B$3:$B$1311,D25,الدخول!$K$3:$K$1311))","v":""},{"$f":"IF(F25=\"\",\"\",SUMIF(الدخول!$B$3:$B$1311,D25,الدخول!$G$3:$G$1311)+SUMIF(الدخول!$B$3:$B$1311,D25,الدخول!$R$3:$R$1311)+F25-SUMIF(الدخول!$B$3:$B$1311,D25,الدخول!$L$3:$L$1311))","v":""},{"$f":"IF(G25=\"\",\"\",SUMIF(الدخول!$B$3:$B$1311,D25,الدخول!$I$3:$I$1311)+SUMIF(الدخول!$B$3:$B$1311,D25,الدخول!$T$3:$T$1311)+G25-SUMIF(الدخول!$B$3:$B$1311,D25,الدخول!$N$3:$N$1311))","v":""}]
["ابيض","كروشيه","6.3cm","ابيض كروشيه 6.3cm",null,null,null,{"$f":"IF(E26=\"\",\"\",SUMIF(الدخول!$B$3:$B$1311,D26,الدخول!$F$3:$F$1311)+SUMIF(الدخول!$B$3:$B$1311,D26,الدخول!$Q$3:$Q$1311)+E26-SUMIF(الدخول!$B$3:$B$1311,D26,الدخول!$K$3:$K$1311))","v":""},{"$f":"IF(F26=\"\",\"\",SUMIF(الدخول!$B$3:$B$1311,D26,الدخول!$G$3:$G$1311)+SUMIF(الدخول!$B$3:$B$1311,D26,الدخول!$R$3:$R$1311)+F26-SUMIF(الدخول!$B$3:$B$1311,D26,الدخول!$L$3:$L$1311))","v":""},{"$f":"IF(G26=\"\",\"\",SUMIF(الدخول!$B$3:$B$1311,D26,الدخول!$I$3:$I$1311)+SUMIF(الدخول!$B$3:$B$1311,D26,الدخول!$T$3:$T$1311)+G26-SUMIF(الدخول!$B$3:$B$1311,D26,الدخول!$N$3:$N$1311))","v":""}]
["ابيض","كروشيه","0.2m","ابيض كروشيه 0.2m",null,null,null,{"$f":"IF(E27=\"\",\"\",SUMIF(الدخول!$B$3:$B$1311,D27,الدخول!$F$3:$F$1311)+SUMIF(الدخول!$B$3:$B$1311,D27,الدخول!$Q$3:$Q$1311)+E27-SUMIF(الدخول!$B$3:$B$1311,D27,الدخول!$K$3:$K$1311))","v":""},{"$f":"IF(F27=\"\",\"\",SUMIF(الدخول!$B$3:$B$1311,D27,الدخول!$G$3:$G$1311)+SUMIF(الدخول!$B$3:$B$1311,D27,الدخول!$R$3:$R$1311)+F27-SUMIF(الدخول!$B$3:$B$1311,D27,الدخول!$L$3:$L$1311))","v":""},{"$f":"IF(G27=\"\",\"\",SUMIF(الدخول!$B$3:$B$1311,D27,الدخول!$I$3:$I$1311)+SUMIF(الدخول!$B$3:$B$1311,D27,الدخول!$T$3:$T$1311)+G27-SUMIF(الدخول!$B$3:$B$1311,D27,الدخول!$N$3:$N$1311))","v":""}]
["ابيض","كروشيه",".5m","ابيض كروشيه .5m",null,null,null,{"$f":"IF(E28=\"\",\"\",SUMIF(الدخول!$B$3:$B$1311,D28,الدخول!$F$3:$F$1311)+SUMIF(الدخول!$B$3:$B$1311,D28,الدخول!$Q$3:$Q$1311)+E28-SUMIF(الدخول!$B$3:$B$1311,D28,الدخول!$K$3:$K$1311))","v":""},{"$f":"IF(F28=\"\",\"\",SUMIF(الدخول!$B$3:$B$1311,D28,الدخول!$G$3:$G$1311)+SUMIF(الدخول!$B$3:$B$1311,D28,الدخول!$R$3:$R$1311)+F28-SUMIF(الدخول!$B$3:$B$1311,D28,الدخول!$L$3:$L$1311))","v":""},{"$f":"IF(G28=\"\",\"\",SUMIF(الدخول!$B$3:$B$1311,D28,الدخول!$I$3:$I$1311)+SUMIF(الدخول!$B$3:$B$1311,D28,الدخول!$T$3:$T$1311)+G28-SUMIF(الدخول!$B$3:$B$1311,D28,الدخول!$N$3:$N$1311))","v":""}]
["ابيض","كروشيه",".6m","ابيض كروشيه .6m",null,null,null,{"$f":"IF(E29=\"\",\"\",SUMIF(الدخول!$B$3:$B$1311,D29,الدخول!$F$3:$F$1311)+SUMIF(الدخول!$B$3:$B$1311,D29,الدخول!$Q$3:$Q$1311)+E29-SUMIF(الدخول!$B$3:$B$1311,D29,الدخول!$K$3:$K$1311))","v":""},{"$f":"IF(F29=\"\",\"\",SUMIF(الدخول!$B$3:$B$1311,D29,الدخول!$G$3:$G$1311)+SUMIF(الدخول!$B$3:$B$1311,D29,الدخول!$R$3:$R$1311)+F29-SUMIF(الدخول!$B$3:$B$1311,D29,الدخول!$L$3:$L$1311))","v":""},{"$f":"IF(G29=\"\",\"\",SUMIF(الدخول!$B$3:$B$1311,D29,الدخول!$I$3:$I$1311)+SUMIF(الدخول!$B$3:$B$1311,D29,الدخول!$T$3:$T$1311)+G29-SUMIF(الدخول!$B$3:$B$1311,D29,الدخول!$N$3:$N$1311))","v":""}]
["ابيض","كروشيه",".7m","ابيض كروشيه .7m",null,null,null,{"$f":"IF(E30=\"\",\"\",SUMIF(الدخول!$B$3:$B$1311,D30,الدخول!$F$3:$F$1311)+SUMIF(الدخول!$B$3:$B$1311,D30,الدخول!$Q$3:$Q$1311)+E30-SUMIF(الدخول!$B$3:$B$1311,D30,الدخول!$K$3:$K$1311))","v":""},{"$f":"IF(F30=\"\",\"\",SUMIF(الدخول!$B$3:$B$1311,D30,الدخول!$G$3:$G$1311)+SUMIF(الدخول!$B$3:$B$1311,D30,الدخول!$R$3:$R$1311)+F30-SUMIF(الدخول!$B$3:$B$1311,D30,الدخول!$L$3:$L$1311))","v":""},{"$f":"IF(G30=\"\",\"\",SUMIF(الدخول!$B$3:$B$1311,D30,الدخول!$I$3:$I$1311)+SUMIF(الدخول!$B$3:$B$1311,D30,الدخول!$T$3:$T$1311)+G30-SUMIF(الدخول!$B$3:$B$1311,D30,الدخول!$N$3:$N$1311))","v":""}]
["ابيض","كروشيه","1.6cm","ابيض كروشيه 1.6cm",null,null,null,{"$f":"IF(E31=\"\",\"\",SUMIF(الدخول!$B$3:$B$1311,D31,الدخول!$F$3:$F$1311)+SUMIF(الدخول!$B$3:$B$1311,D31,الدخول!$Q$3:$Q$1311)+E31-SUMIF(الدخول!$B$3:$B$1311,D31,الدخول!$K$3:$K$1311))","v":""},{"$f":"IF(F31=\"\",\"\",SUMIF(الدخول!$B$3:$B$1311,D31,الدخول!$G$3:$G$1311)+SUMIF(الدخول!$B$3:$B$1311,D31,الدخول!$R$3:$R$1311)+F31-SUMIF(الدخول!$B$3:$B$1311,D31,الدخول!$L$3:$L$1311))","v":""},{"$f":"IF(G31=\"\",\"\",SUMIF(الدخول!$B$3:$B$1311,D31,الدخول!$I$3:$I$1311)+SUMIF(الدخول!$B$3:$B$1311,D31,الدخول!$T$3:$T$1311)+G31-SUMIF(الدخول!$B$3:$B$1311,D31,الدخول!$N$3:$N$1311))","v":""}]
["ابيض","كروشيه","1.3cm","ابيض كروشيه 1.3cm",null,null,null,{"$f":"IF(E32=\"\",\"\",SUMIF(الدخول!$B$3:$B$1311,D32,الدخول!$F$3:$F$1311)+SUMIF(الدخول!$B$3:$B$1311,D32,الدخول!$Q$3:$Q$1311)+E32-SUMIF(الدخول!$B$3:$B$1311,D32,الدخول!$K$3:$K$1311))","v":""},{"$f":"IF(F32=\"\",\"\",SUMIF(الدخول!$B$3:$B$1311,D32,الدخول!$G$3:$G$1311)+SUMIF(الدخول!$B$3:$B$1311,D32,الدخول!$R$3:$R$1311)+F32-SUMIF(الدخول!$B$3:$B$1311,D32,الدخول!$L$3:$L$1311))","v":""},{"$f":"IF(G32=\"\",\"\",SUMIF(الدخول!$B$3:$B$1311,D32,الدخول!$I$3:$I$1311)+SUMIF(الدخول!$B$3:$B$1311,D32,الدخول!$T$3:$T$1311)+G32-SUMIF(الدخول!$B$3:$B$1311,D32,الدخول!$N$3:$N$1311))","v":""}]
["ابيض","كروشيه","1.8.cm","ابيض كروشيه 1.8.cm",null,null,null,{"$f":"IF(E33=\"\",\"\",SUMIF(الدخول!$B$3:$B$1311,D33,الدخول!$F$3:$F$1311)+SUMIF(الدخول!$B$3:$B$1311,D33,الدخول!$Q$3:$Q$1311)+E33-SUMIF(الدخول!$B$3:$B$1311,D33,الدخول!$K$3:$K$1311))","v":""},{"$f":"IF(F33=\"\",\"\",SUMIF(الدخول!$B$3:$B$1311,D33,الدخول!$G$3:$G$1311)+SUMIF(الدخول!$B$3:$B$1311,D33,الدخول!$R$3:$R$1311)+F33-SUMIF(الدخول!$B$3:$B$1311,D33,الدخول!$L$3:$L$1311))","v":""},{"$f":"IF(G33=\"\",\"\",SUMIF(الدخول!$B$3:$B$1311,D33,الدخول!$I$3:$I$1311)+SUMIF(الدخول!$B$3:$B$1311,D33,الدخول!$T$3:$T$1311)+G33-SUMIF(الدخول!$B$3:$B$1311,D33,الدخول!$N$3:$N$1311))","v":""}]
["ابيض","ووفين فستون","1cm","ابيض ووفين فستون 1cm",null,null,null,{"$f":"IF(E34=\"\",\"\",SUMIF(الدخول!$B$3:$B$1311,D34,الدخول!$F$3:$F$1311)+SUMIF(الدخول!$B$3:$B$1311,D34,الدخول!$Q$3:$Q$1311)+E34-SUMIF(الدخول!$B$3:$B$1311,D34,الدخول!$K$3:$K$1311))","v":""},{"$f":"IF(F34=\"\",\"\",SUMIF(الدخول!$B$3:$B$1311,D34,الدخول!$G$3:$G$1311)+SUMIF(الدخول!$B$3:$B$1311,D34,الدخول!$R$3:$R$1311)+F34-SUMIF(الدخول!$B$3:$B$1311,D34,الدخول!$L$3:$L$1311))","v":""},{"$f":"IF(G34=\"\",\"\",SUMIF(الدخول!$B$3:$B$1311,D34,الدخول!$I$3:$I$1311)+SUMIF(الدخول!$B$3:$B$1311,D34,الدخول!$T$3:$T$1311)+G34-SUMIF(الدخول!$B$3:$B$1311,D34,الدخول!$N$3:$N$1311))","v":""}]
["ابيض","استك طبي",3.18,"ابيض استك طبي 3.18",null,null,null,{"$f":"IF(E35=\"\",\"\",SUMIF(الدخول!$B$3:$B$1311,D35,الدخول!$F$3:$F$1311)+SUMIF(الدخول!$B$3:$B$1311,D35,الدخول!$Q$3:$Q$1311)+E35-SUMIF(الدخول!$B$3:$B$1311,D35,الدخول!$K$3:$K$1311))","v":""},{"$f":"IF(F35=\"\",\"\",SUMIF(الدخول!$B$3:$B$1311,D35,الدخول!$G$3:$G$1311)+SUMIF(الدخول!$B$3:$B$1311,D35,الدخول!$R$3:$R$1311)+F35-SUMIF(الدخول!$B$3:$B$1311,D35,الدخول!$L$3:$L$1311))","v":""},{"$f":"IF(G35=\"\",\"\",SUMIF(الدخول!$B$3:$B$1311,D35,الدخول!$I$3:$I$1311)+SUMIF(الدخول!$B$3:$B$1311,D35,الدخول!$T$3:$T$1311)+G35-SUMIF(الدخول!$B$3:$B$1311,D35,الدخول!$N$3:$N$1311))","v":""}]
["ابيض","استك طبي",4.1399999999999997,"ابيض استك طبي 4.14",null,null,null,{"$f":"IF(E36=\"\",\"\",SUMIF(الدخول!$B$3:$B$1311,D36,الدخول!$F$3:$F$1311)+SUMIF(الدخول!$B$3:$B$1311,D36,الدخول!$Q$3:$Q$1311)+E36-SUMIF(الدخول!$B$3:$B$1311,D36,الدخول!$K$3:$K$1311))","v":""},{"$f":"IF(F36=\"\",\"\",SUMIF(الدخول!$B$3:$B$1311,D36,الدخول!$G$3:$G$1311)+SUMIF(الدخول!$B$3:$B$1311,D36,الدخول!$R$3:$R$1311)+F36-SUMIF(الدخول!$B$3:$B$1311,D36,الدخول!$L$3:$L$1311))","v":""},{"$f":"IF(G36=\"\",\"\",SUMIF(الدخول!$B$3:$B$1311,D36,الدخول!$I$3:$I$1311)+SUMIF(الدخول!$B$3:$B$1311,D36,الدخول!$T$3:$T$1311)+G36-SUMIF(الدخول!$B$3:$B$1311,D36,الدخول!$N$3:$N$1311))","v":""}]
["ابيض","استك طبي",2.78,"ابيض استك طبي 2.78",null,null,null,{"$f":"IF(E37=\"\",\"\",SUMIF(الدخول!$B$3:$B$1311,D37,الدخول!$F$3:$F$1311)+SUMIF(الدخول!$B$3:$B$1311,D37,الدخول!$Q$3:$Q$1311)+E37-SUMIF(الدخول!$B$3:$B$1311,D37,الدخول!$K$3:$K$1311))","v":""},{"$f":"IF(F37=\"\",\"\",SUMIF(الدخول!$B$3:$B$1311,D37,الدخول!$G$3:$G$1311)+SUMIF(الدخول!$B$3:$B$1311,D37,الدخول!$R$3:$R$1311)+F37-SUMIF(الدخول!$B$3:$B$1311,D37,الدخول!$L$3:$L$1311))","v":""},{"$f":"IF(G37=\"\",\"\",SUMIF(الدخول!$B$3:$B$1311,D37,الدخول!$I$3:$I$1311)+SUMIF(الدخول!$B$3:$B$1311,D37,الدخول!$T$3:$T$1311)+G37-SUMIF(الدخول!$B$3:$B$1311,D37,الدخول!$N$3:$N$1311))","v":""}]
["ابيض","استك طبي",7.52,"ابيض استك طبي 7.52",null,null,null,{"$f":"IF(E38=\"\",\"\",SUMIF(الدخول!$B$3:$B$1311,D38,الدخول!$F$3:$F$1311)+SUMIF(الدخول!$B$3:$B$1311,D38,الدخول!$Q$3:$Q$1311)+E38-SUMIF(الدخول!$B$3:$B$1311,D38,الدخول!$K$3:$K$1311))","v":""},{"$f":"IF(F38=\"\",\"\",SUMIF(الدخول!$B$3:$B$1311,D38,الدخول!$G$3:$G$1311)+SUMIF(الدخول!$B$3:$B$1311,D38,الدخول!$R$3:$R$1311)+F38-SUMIF(الدخول!$B$3:$B$1311,D38,الدخول!$L$3:$L$1311))","v":""},{"$f":"IF(G38=\"\",\"\",SUMIF(الدخول!$B$3:$B$1311,D38,الدخول!$I$3:$I$1311)+SUMIF(الدخول!$B$3:$B$1311,D38,الدخول!$T$3:$T$1311)+G38-SUMIF(الدخول!$B$3:$B$1311,D38,الدخول!$N$3:$N$1311))","v":""}]
["ابيض","استك طبي",3.5,"ابيض استك طبي 3.5",null,null,null,{"$f":"IF(E39=\"\",\"\",SUMIF(الدخول!$B$3:$B$1311,D39,الدخول!$F$3:$F$1311)+SUMIF(الدخول!$B$3:$B$1311,D39,الدخول!$Q$3:$Q$1311)+E39-SUMIF(الدخول!$B$3:$B$1311,D39,الدخول!$K$3:$K$1311))","v":""},{"$f":"IF(F39=\"\",\"\",SUMIF(الدخول!$B$3:$B$1311,D39,الدخول!$G$3:$G$1311)+SUMIF(الدخول!$B$3:$B$1311,D39,الدخول!$R$3:$R$1311)+F39-SUMIF(الدخول!$B$3:$B$1311,D39,الدخول!$L$3:$L$1311))","v":""},{"$f":"IF(G39=\"\",\"\",SUMIF(الدخول!$B$3:$B$1311,D39,الدخول!$I$3:$I$1311)+SUMIF(الدخول!$B$3:$B$1311,D39,الدخول!$T$3:$T$1311)+G39-SUMIF(الدخول!$B$3:$B$1311,D39,الدخول!$N$3:$N$1311))","v":""}]
["ابيض","استك طبي",3.3,"ابيض استك طبي 3.3",null,null,null,{"$f":"IF(E40=\"\",\"\",SUMIF(الدخول!$B$3:$B$1311,D40,الدخول!$F$3:$F$1311)+SUMIF(الدخول!$B$3:$B$1311,D40,الدخول!$Q$3:$Q$1311)+E40-SUMIF(الدخول!$B$3:$B$1311,D40,الدخول!$K$3:$K$1311))","v":""},{"$f":"IF(F40=\"\",\"\",SUMIF(الدخول!$B$3:$B$1311,D40,الدخول!$G$3:$G$1311)+SUMIF(الدخول!$B$3:$B$1311,D40,الدخول!$R$3:$R$1311)+F40-SUMIF(الدخول!$B$3:$B$1311,D40,الدخول!$L$3:$L$1311))","v":""},{"$f":"IF(G40=\"\",\"\",SUMIF(الدخول!$B$3:$B$1311,D40,الدخول!$I$3:$I$1311)+SUMIF(الدخول!$B$3:$B$1311,D40,الدخول!$T$3:$T$1311)+G40-SUMIF(الدخول!$B$3:$B$1311,D40,الدخول!$N$3:$N$1311))","v":""}]
["ابيض","استك طبي",3.36,"ابيض استك طبي 3.36",null,null,null,{"$f":"IF(E41=\"\",\"\",SUMIF(الدخول!$B$3:$B$1311,D41,الدخول!$F$3:$F$1311)+SUMIF(الدخول!$B$3:$B$1311,D41,الدخول!$Q$3:$Q$1311)+E41-SUMIF(الدخول!$B$3:$B$1311,D41,الدخول!$K$3:$K$1311))","v":""},{"$f":"IF(F41=\"\",\"\",SUMIF(الدخول!$B$3:$B$1311,D41,الدخول!$G$3:$G$1311)+SUMIF(الدخول!$B$3:$B$1311,D41,الدخول!$R$3:$R$1311)+F41-SUMIF(الدخول!$B$3:$B$1311,D41,الدخول!$L$3:$L$1311))","v":""},{"$f":"IF(G41=\"\",\"\",SUMIF(الدخول!$B$3:$B$1311,D41,الدخول!$I$3:$I$1311)+SUMIF(الدخول!$B$3:$B$1311,D41,الدخول!$T$3:$T$1311)+G41-SUMIF(الدخول!$B$3:$B$1311,D41,الدخول!$N$3:$N$1311))","v":""}]
["ابيض","استك طبي",2.58,"ابيض استك طبي 2.58",null,null,null,{"$f":"IF(E42=\"\",\"\",SUMIF(الدخول!$B$3:$B$1311,D42,الدخول!$F$3:$F$1311)+SUMIF(الدخول!$B$3:$B$1311,D42,الدخول!$Q$3:$Q$1311)+E42-SUMIF(الدخول!$B$3:$B$1311,D42,الدخول!$K$3:$K$1311))","v":""},{"$f":"IF(F42=\"\",\"\",SUMIF(الدخول!$B$3:$B$1311,D42,الدخول!$G$3:$G$1311)+SUMIF(الدخول!$B$3:$B$1311,D42,الدخول!$R$3:$R$1311)+F42-SUMIF(الدخول!$B$3:$B$1311,D42,الدخول!$L$3:$L$1311))","v":""},{"$f":"IF(G42=\"\",\"\",SUMIF(الدخول!$B$3:$B$1311,D42,الدخول!$I$3:$I$1311)+SUMIF(الدخول!$B$3:$B$1311,D42,الدخول!$T$3:$T$1311)+G42-SUMIF(الدخول!$B$3:$B$1311,D42,الدخول!$N$3:$N$1311))","v":""}]
["ابيض","استك طبي",3.02,"ابيض استك طبي 3.02",null,null,null,{"$f":"IF(E43=\"\",\"\",SUMIF(الدخول!$B$3:$B$1311,D43,الدخول!$F$3:$F$1311)+SUMIF(الدخول!$B$3:$B$1311,D43,الدخول!$Q$3:$Q$1311)+E43-SUMIF(الدخول!$B$3:$B$1311,D43,الدخول!$K$3:$K$1311))","v":""},{"$f":"IF(F43=\"\",\"\",SUMIF(الدخول!$B$3:$B$1311,D43,الدخول!$G$3:$G$1311)+SUMIF(الدخول!$B$3:$B$1311,D43,الدخول!$R$3:$R$1311)+F43-SUMIF(الدخول!$B$3:$B$1311,D43,الدخول!$L$3:$L$1311))","v":""},{"$f":"IF(G43=\"\",\"\",SUMIF(الدخول!$B$3:$B$1311,D43,الدخول!$I$3:$I$1311)+SUMIF(الدخول!$B$3:$B$1311,D43,الدخول!$T$3:$T$1311)+G43-SUMIF(الدخول!$B$3:$B$1311,D43,الدخول!$N$3:$N$1311))","v":""}]
["ابيض","استك طبي",4.92,"ابيض استك طبي 4.92",null,null,null,{"$f":"IF(E44=\"\",\"\",SUMIF(الدخول!$B$3:$B$1311,D44,الدخول!$F$3:$F$1311)+SUMIF(الدخول!$B$3:$B$1311,D44,الدخول!$Q$3:$Q$1311)+E44-SUMIF(الدخول!$B$3:$B$1311,D44,الدخول!$K$3:$K$1311))","v":""},{"$f":"IF(F44=\"\",\"\",SUMIF(الدخول!$B$3:$B$1311,D44,الدخول!$G$3:$G$1311)+SUMIF(الدخول!$B$3:$B$1311,D44,الدخول!$R$3:$R$1311)+F44-SUMIF(الدخول!$B$3:$B$1311,D44,الدخول!$L$3:$L$1311))","v":""},{"$f":"IF(G44=\"\",\"\",SUMIF(الدخول!$B$3:$B$1311,D44,الدخول!$I$3:$I$1311)+SUMIF(الدخول!$B$3:$B$1311,D44,الدخول!$T$3:$T$1311)+G44-SUMIF(الدخول!$B$3:$B$1311,D44,الدخول!$N$3:$N$1311))","v":""}]
["ابيض فلاش","كروشيه","5cm","ابيض فلاش كروشيه 5cm",null,null,null,{"$f":"IF(E45=\"\",\"\",SUMIF(الدخول!$B$3:$B$1311,D45,الدخول!$F$3:$F$1311)+SUMIF(الدخول!$B$3:$B$1311,D45,الدخول!$Q$3:$Q$1311)+E45-SUMIF(الدخول!$B$3:$B$1311,D45,الدخول!$K$3:$K$1311))","v":""},{"$f":"IF(F45=\"\",\"\",SUMIF(الدخول!$B$3:$B$1311,D45,الدخول!$G$3:$G$1311)+SUMIF(الدخول!$B$3:$B$1311,D45,الدخول!$R$3:$R$1311)+F45-SUMIF(الدخول!$B$3:$B$1311,D45,الدخول!$L$3:$L$1311))","v":""},{"$f":"IF(G45=\"\",\"\",SUMIF(الدخول!$B$3:$B$1311,D45,الدخول!$I$3:$I$1311)+SUMIF(الدخول!$B$3:$B$1311,D45,الدخول!$T$3:$T$1311)+G45-SUMIF(الدخول!$B$3:$B$1311,D45,الدخول!$N$3:$N$1311))","v":""}]
["ابيض فلاش","كروشيه","4.5cm","ابيض فلاش كروشيه 4.5cm",null,null,null,{"$f":"IF(E46=\"\",\"\",SUMIF(الدخول!$B$3:$B$1311,D46,الدخول!$F$3:$F$1311)+SUMIF(الدخول!$B$3:$B$1311,D46,الدخول!$Q$3:$Q$1311)+E46-SUMIF(الدخول!$B$3:$B$1311,D46,الدخول!$K$3:$K$1311))","v":""},{"$f":"IF(F46=\"\",\"\",SUMIF(الدخول!$B$3:$B$1311,D46,الدخول!$G$3:$G$1311)+SUMIF(الدخول!$B$3:$B$1311,D46,الدخول!$R$3:$R$1311)+F46-SUMIF(الدخول!$B$3:$B$1311,D46,الدخول!$L$3:$L$1311))","v":""},{"$f":"IF(G46=\"\",\"\",SUMIF(الدخول!$B$3:$B$1311,D46,الدخول!$I$3:$I$1311)+SUMIF(الدخول!$B$3:$B$1311,D46,الدخول!$T$3:$T$1311)+G46-SUMIF(الدخول!$B$3:$B$1311,D46,الدخول!$N$3:$N$1311))","v":""}]
["ابيض فلاش","كروشيه","3.5cm","ابيض فلاش كروشيه 3.5cm",null,null,null,{"$f":"IF(E47=\"\",\"\",SUMIF(الدخول!$B$3:$B$1311,D47,الدخول!$F$3:$F$1311)+SUMIF(الدخول!$B$3:$B$1311,D47,الدخول!$Q$3:$Q$1311)+E47-SUMIF(الدخول!$B$3:$B$1311,D47,الدخول!$K$3:$K$1311))","v":""},{"$f":"IF(F47=\"\",\"\",SUMIF(الدخول!$B$3:$B$1311,D47,الدخول!$G$3:$G$1311)+SUMIF(الدخول!$B$3:$B$1311,D47,الدخول!$R$3:$R$1311)+F47-SUMIF(الدخول!$B$3:$B$1311,D47,الدخول!$L$3:$L$1311))","v":""},{"$f":"IF(G47=\"\",\"\",SUMIF(الدخول!$B$3:$B$1311,D47,الدخول!$I$3:$I$1311)+SUMIF(الدخول!$B$3:$B$1311,D47,الدخول!$T$3:$T$1311)+G47-SUMIF(الدخول!$B$3:$B$1311,D47,الدخول!$N$3:$N$1311))","v":""}]
["ابيض فلاش","كروشيه","2cm","ابيض فلاش كروشيه 2cm",null,null,null,{"$f":"IF(E48=\"\",\"\",SUMIF(الدخول!$B$3:$B$1311,D48,الدخول!$F$3:$F$1311)+SUMIF(الدخول!$B$3:$B$1311,D48,الدخول!$Q$3:$Q$1311)+E48-SUMIF(الدخول!$B$3:$B$1311,D48,الدخول!$K$3:$K$1311))","v":""},{"$f":"IF(F48=\"\",\"\",SUMIF(الدخول!$B$3:$B$1311,D48,الدخول!$G$3:$G$1311)+SUMIF(الدخول!$B$3:$B$1311,D48,الدخول!$R$3:$R$1311)+F48-SUMIF(الدخول!$B$3:$B$1311,D48,الدخول!$L$3:$L$1311))","v":""},{"$f":"IF(G48=\"\",\"\",SUMIF(الدخول!$B$3:$B$1311,D48,الدخول!$I$3:$I$1311)+SUMIF(الدخول!$B$3:$B$1311,D48,الدخول!$T$3:$T$1311)+G48-SUMIF(الدخول!$B$3:$B$1311,D48,الدخول!$N$3:$N$1311))","v":""}]
["ابيض كانون","كروشيه","5.5cm","ابيض كانون كروشيه 5.5cm",null,null,null,{"$f":"IF(E49=\"\",\"\",SUMIF(الدخول!$B$3:$B$1311,D49,الدخول!$F$3:$F$1311)+SUMIF(الدخول!$B$3:$B$1311,D49,الدخول!$Q$3:$Q$1311)+E49-SUMIF(الدخول!$B$3:$B$1311,D49,الدخول!$K$3:$K$1311))","v":""},{"$f":"IF(F49=\"\",\"\",SUMIF(الدخول!$B$3:$B$1311,D49,الدخول!$G$3:$G$1311)+SUMIF(الدخول!$B$3:$B$1311,D49,الدخول!$R$3:$R$1311)+F49-SUMIF(الدخول!$B$3:$B$1311,D49,الدخول!$L$3:$L$1311))","v":""},{"$f":"IF(G49=\"\",\"\",SUMIF(الدخول!$B$3:$B$1311,D49,الدخول!$I$3:$I$1311)+SUMIF(الدخول!$B$3:$B$1311,D49,الدخول!$T$3:$T$1311)+G49-SUMIF(الدخول!$B$3:$B$1311,D49,الدخول!$N$3:$N$1311))","v":""}]
["ابيض كانون","كروشيه","4.5cm","ابيض كانون كروشيه 4.5cm",null,null,null,{"$f":"IF(E50=\"\",\"\",SUMIF(الدخول!$B$3:$B$1311,D50,الدخول!$F$3:$F$1311)+SUMIF(الدخول!$B$3:$B$1311,D50,الدخول!$Q$3:$Q$1311)+E50-SUMIF(الدخول!$B$3:$B$1311,D50,الدخول!$K$3:$K$1311))","v":""},{"$f":"IF(F50=\"\",\"\",SUMIF(الدخول!$B$3:$B$1311,D50,الدخول!$G$3:$G$1311)+SUMIF(الدخول!$B$3:$B$1311,D50,الدخول!$R$3:$R$1311)+F50-SUMIF(الدخول!$B$3:$B$1311,D50,الدخول!$L$3:$L$1311))","v":""},{"$f":"IF(G50=\"\",\"\",SUMIF(الدخول!$B$3:$B$1311,D50,الدخول!$I$3:$I$1311)+SUMIF(الدخول!$B$3:$B$1311,D50,الدخول!$T$3:$T$1311)+G50-SUMIF(الدخول!$B$3:$B$1311,D50,الدخول!$N$3:$N$1311))","v":""}]
["ابيض510","كروشيه","3cm","ابيض510 كروشيه 3cm",null,null,null,{"$f":"IF(E51=\"\",\"\",SUMIF(الدخول!$B$3:$B$1311,D51,الدخول!$F$3:$F$1311)+SUMIF(الدخول!$B$3:$B$1311,D51,الدخول!$Q$3:$Q$1311)+E51-SUMIF(الدخول!$B$3:$B$1311,D51,الدخول!$K$3:$K$1311))","v":""},{"$f":"IF(F51=\"\",\"\",SUMIF(الدخول!$B$3:$B$1311,D51,الدخول!$G$3:$G$1311)+SUMIF(الدخول!$B$3:$B$1311,D51,الدخول!$R$3:$R$1311)+F51-SUMIF(الدخول!$B$3:$B$1311,D51,الدخول!$L$3:$L$1311))","v":""},{"$f":"IF(G51=\"\",\"\",SUMIF(الدخول!$B$3:$B$1311,D51,الدخول!$I$3:$I$1311)+SUMIF(الدخول!$B$3:$B$1311,D51,الدخول!$T$3:$T$1311)+G51-SUMIF(الدخول!$B$3:$B$1311,D51,الدخول!$N$3:$N$1311))","v":""}]
["ابيض510","كروشيه","4cm","ابيض510 كروشيه 4cm",null,null,null,{"$f":"IF(E52=\"\",\"\",SUMIF(الدخول!$B$3:$B$1311,D52,الدخول!$F$3:$F$1311)+SUMIF(الدخول!$B$3:$B$1311,D52,الدخول!$Q$3:$Q$1311)+E52-SUMIF(الدخول!$B$3:$B$1311,D52,الدخول!$K$3:$K$1311))","v":""},{"$f":"IF(F52=\"\",\"\",SUMIF(الدخول!$B$3:$B$1311,D52,الدخول!$G$3:$G$1311)+SUMIF(الدخول!$B$3:$B$1311,D52,الدخول!$R$3:$R$1311)+F52-SUMIF(الدخول!$B$3:$B$1311,D52,الدخول!$L$3:$L$1311))","v":""},{"$f":"IF(G52=\"\",\"\",SUMIF(الدخول!$B$3:$B$1311,D52,الدخول!$I$3:$I$1311)+SUMIF(الدخول!$B$3:$B$1311,D52,الدخول!$T$3:$T$1311)+G52-SUMIF(الدخول!$B$3:$B$1311,D52,الدخول!$N$3:$N$1311))","v":""}]
["احمر","كورد","مبطط","احمر كورد مبطط",null,null,null,{"$f":"IF(E53=\"\",\"\",SUMIF(الدخول!$B$3:$B$1311,D53,الدخول!$F$3:$F$1311)+SUMIF(الدخول!$B$3:$B$1311,D53,الدخول!$Q$3:$Q$1311)+E53-SUMIF(الدخول!$B$3:$B$1311,D53,الدخول!$K$3:$K$1311))","v":""},{"$f":"IF(F53=\"\",\"\",SUMIF(الدخول!$B$3:$B$1311,D53,الدخول!$G$3:$G$1311)+SUMIF(الدخول!$B$3:$B$1311,D53,الدخول!$R$3:$R$1311)+F53-SUMIF(الدخول!$B$3:$B$1311,D53,الدخول!$L$3:$L$1311))","v":""},{"$f":"IF(G53=\"\",\"\",SUMIF(الدخول!$B$3:$B$1311,D53,الدخول!$I$3:$I$1311)+SUMIF(الدخول!$B$3:$B$1311,D53,الدخول!$T$3:$T$1311)+G53-SUMIF(الدخول!$B$3:$B$1311,D53,الدخول!$N$3:$N$1311))","v":""}]
["احمر","كورد","كبسله بلاستك ","احمر كورد كبسله بلاستك ",null,null,null,{"$f":"IF(E54=\"\",\"\",SUMIF(الدخول!$B$3:$B$1311,D54,الدخول!$F$3:$F$1311)+SUMIF(الدخول!$B$3:$B$1311,D54,الدخول!$Q$3:$Q$1311)+E54-SUMIF(الدخول!$B$3:$B$1311,D54,الدخول!$K$3:$K$1311))","v":""},{"$f":"IF(F54=\"\",\"\",SUMIF(الدخول!$B$3:$B$1311,D54,الدخول!$G$3:$G$1311)+SUMIF(الدخول!$B$3:$B$1311,D54,الدخول!$R$3:$R$1311)+F54-SUMIF(الدخول!$B$3:$B$1311,D54,الدخول!$L$3:$L$1311))","v":""},{"$f":"IF(G54=\"\",\"\",SUMIF(الدخول!$B$3:$B$1311,D54,الدخول!$I$3:$I$1311)+SUMIF(الدخول!$B$3:$B$1311,D54,الدخول!$T$3:$T$1311)+G54-SUMIF(الدخول!$B$3:$B$1311,D54,الدخول!$N$3:$N$1311))","v":""}]
["اخضر","كورد","مبطط","اخضر كورد مبطط",null,null,null,{"$f":"IF(E55=\"\",\"\",SUMIF(الدخول!$B$3:$B$1311,D55,الدخول!$F$3:$F$1311)+SUMIF(الدخول!$B$3:$B$1311,D55,الدخول!$Q$3:$Q$1311)+E55-SUMIF(الدخول!$B$3:$B$1311,D55,الدخول!$K$3:$K$1311))","v":""},{"$f":"IF(F55=\"\",\"\",SUMIF(الدخول!$B$3:$B$1311,D55,الدخول!$G$3:$G$1311)+SUMIF(الدخول!$B$3:$B$1311,D55,الدخول!$R$3:$R$1311)+F55-SUMIF(الدخول!$B$3:$B$1311,D55,الدخول!$L$3:$L$1311))","v":""},{"$f":"IF(G55=\"\",\"\",SUMIF(الدخول!$B$3:$B$1311,D55,الدخول!$I$3:$I$1311)+SUMIF(الدخول!$B$3:$B$1311,D55,الدخول!$T$3:$T$1311)+G55-SUMIF(الدخول!$B$3:$B$1311,D55,الدخول!$N$3:$N$1311))","v":""}]
["اسود","كروشيه","5.8cm","اسود كروشيه 5.8cm",null,null,null,{"$f":"IF(E56=\"\",\"\",SUMIF(الدخول!$B$3:$B$1311,D56,الدخول!$F$3:$F$1311)+SUMIF(الدخول!$B$3:$B$1311,D56,الدخول!$Q$3:$Q$1311)+E56-SUMIF(الدخول!$B$3:$B$1311,D56,الدخول!$K$3:$K$1311))","v":""},{"$f":"IF(F56=\"\",\"\",SUMIF(الدخول!$B$3:$B$1311,D56,الدخول!$G$3:$G$1311)+SUMIF(الدخول!$B$3:$B$1311,D56,الدخول!$R$3:$R$1311)+F56-SUMIF(الدخول!$B$3:$B$1311,D56,الدخول!$L$3:$L$1311))","v":""},{"$f":"IF(G56=\"\",\"\",SUMIF(الدخول!$B$3:$B$1311,D56,الدخول!$I$3:$I$1311)+SUMIF(الدخول!$B$3:$B$1311,D56,الدخول!$T$3:$T$1311)+G56-SUMIF(الدخول!$B$3:$B$1311,D56,الدخول!$N$3:$N$1311))","v":""}]
["اسود","كروشيه","5.5cm","اسود كروشيه 5.5cm",null,null,null,{"$f":"IF(E57=\"\",\"\",SUMIF(الدخول!$B$3:$B$1311,D57,الدخول!$F$3:$F$1311)+SUMIF(الدخول!$B$3:$B$1311,D57,الدخول!$Q$3:$Q$1311)+E57-SUMIF(الدخول!$B$3:$B$1311,D57,الدخول!$K$3:$K$1311))","v":""},{"$f":"IF(F57=\"\",\"\",SUMIF(الدخول!$B$3:$B$1311,D57,الدخول!$G$3:$G$1311)+SUMIF(الدخول!$B$3:$B$1311,D57,الدخول!$R$3:$R$1311)+F57-SUMIF(الدخول!$B$3:$B$1311,D57,الدخول!$L$3:$L$1311))","v":""},{"$f":"IF(G57=\"\",\"\",SUMIF(الدخول!$B$3:$B$1311,D57,الدخول!$I$3:$I$1311)+SUMIF(الدخول!$B$3:$B$1311,D57,الدخول!$T$3:$T$1311)+G57-SUMIF(الدخول!$B$3:$B$1311,D57,الدخول!$N$3:$N$1311))","v":""}]
["اسود","كروشيه","5cm","اسود كروشيه 5cm",null,null,null,{"$f":"IF(E58=\"\",\"\",SUMIF(الدخول!$B$3:$B$1311,D58,الدخول!$F$3:$F$1311)+SUMIF(الدخول!$B$3:$B$1311,D58,الدخول!$Q$3:$Q$1311)+E58-SUMIF(الدخول!$B$3:$B$1311,D58,الدخول!$K$3:$K$1311))","v":""},{"$f":"IF(F58=\"\",\"\",SUMIF(الدخول!$B$3:$B$1311,D58,الدخول!$G$3:$G$1311)+SUMIF(الدخول!$B$3:$B$1311,D58,الدخول!$R$3:$R$1311)+F58-SUMIF(الدخول!$B$3:$B$1311,D58,الدخول!$L$3:$L$1311))","v":""},{"$f":"IF(G58=\"\",\"\",SUMIF(الدخول!$B$3:$B$1311,D58,الدخول!$I$3:$I$1311)+SUMIF(الدخول!$B$3:$B$1311,D58,الدخول!$T$3:$T$1311)+G58-SUMIF(الدخول!$B$3:$B$1311,D58,الدخول!$N$3:$N$1311))","v":""}]
["اسود","كروشيه","4.8cm","اسود كروشيه 4.8cm",null,null,null,{"$f":"IF(E59=\"\",\"\",SUMIF(الدخول!$B$3:$B$1311,D59,الدخول!$F$3:$F$1311)+SUMIF(الدخول!$B$3:$B$1311,D59,الدخول!$Q$3:$Q$1311)+E59-SUMIF(الدخول!$B$3:$B$1311,D59,الدخول!$K$3:$K$1311))","v":""},{"$f":"IF(F59=\"\",\"\",SUMIF(الدخول!$B$3:$B$1311,D59,الدخول!$G$3:$G$1311)+SUMIF(الدخول!$B$3:$B$1311,D59,الدخول!$R$3:$R$1311)+F59-SUMIF(الدخول!$B$3:$B$1311,D59,الدخول!$L$3:$L$1311))","v":""},{"$f":"IF(G59=\"\",\"\",SUMIF(الدخول!$B$3:$B$1311,D59,الدخول!$I$3:$I$1311)+SUMIF(الدخول!$B$3:$B$1311,D59,الدخول!$T$3:$T$1311)+G59-SUMIF(الدخول!$B$3:$B$1311,D59,الدخول!$N$3:$N$1311))","v":""}]
["اسود","كروشيه","4.5cm","اسود كروشيه 4.5cm",null,null,null,{"$f":"IF(E60=\"\",\"\",SUMIF(الدخول!$B$3:$B$1311,D60,الدخول!$F$3:$F$1311)+SUMIF(الدخول!$B$3:$B$1311,D60,الدخول!$Q$3:$Q$1311)+E60-SUMIF(الدخول!$B$3:$B$1311,D60,الدخول!$K$3:$K$1311))","v":""},{"$f":"IF(F60=\"\",\"\",SUMIF(الدخول!$B$3:$B$1311,D60,الدخول!$G$3:$G$1311)+SUMIF(الدخول!$B$3:$B$1311,D60,الدخول!$R$3:$R$1311)+F60-SUMIF(الدخول!$B$3:$B$1311,D60,الدخول!$L$3:$L$1311))","v":""},{"$f":"IF(G60=\"\",\"\",SUMIF(الدخول!$B$3:$B$1311,D60,الدخول!$I$3:$I$1311)+SUMIF(الدخول!$B$3:$B$1311,D60,الدخول!$T$3:$T$1311)+G60-SUMIF(الدخول!$B$3:$B$1311,D60,الدخول!$N$3:$N$1311))","v":""}]
["اسود","كروشيه","4cm","اسود كروشيه 4cm",null,null,null,{"$f":"IF(E61=\"\",\"\",SUMIF(الدخول!$B$3:$B$1311,D61,الدخول!$F$3:$F$1311)+SUMIF(الدخول!$B$3:$B$1311,D61,الدخول!$Q$3:$Q$1311)+E61-SUMIF(الدخول!$B$3:$B$1311,D61,الدخول!$K$3:$K$1311))","v":""},{"$f":"IF(F61=\"\",\"\",SUMIF(الدخول!$B$3:$B$1311,D61,الدخول!$G$3:$G$1311)+SUMIF(الدخول!$B$3:$B$1311,D61,الدخول!$R$3:$R$1311)+F61-SUMIF(الدخول!$B$3:$B$1311,D61,الدخول!$L$3:$L$1311))","v":""},{"$f":"IF(G61=\"\",\"\",SUMIF(الدخول!$B$3:$B$1311,D61,الدخول!$I$3:$I$1311)+SUMIF(الدخول!$B$3:$B$1311,D61,الدخول!$T$3:$T$1311)+G61-SUMIF(الدخول!$B$3:$B$1311,D61,الدخول!$N$3:$N$1311))","v":""}]
["اسود","كروشيه","3.5cm","اسود كروشيه 3.5cm",null,null,null,{"$f":"IF(E62=\"\",\"\",SUMIF(الدخول!$B$3:$B$1311,D62,الدخول!$F$3:$F$1311)+SUMIF(الدخول!$B$3:$B$1311,D62,الدخول!$Q$3:$Q$1311)+E62-SUMIF(الدخول!$B$3:$B$1311,D62,الدخول!$K$3:$K$1311))","v":""},{"$f":"IF(F62=\"\",\"\",SUMIF(الدخول!$B$3:$B$1311,D62,الدخول!$G$3:$G$1311)+SUMIF(الدخول!$B$3:$B$1311,D62,الدخول!$R$3:$R$1311)+F62-SUMIF(الدخول!$B$3:$B$1311,D62,الدخول!$L$3:$L$1311))","v":""},{"$f":"IF(G62=\"\",\"\",SUMIF(الدخول!$B$3:$B$1311,D62,الدخول!$I$3:$I$1311)+SUMIF(الدخول!$B$3:$B$1311,D62,الدخول!$T$3:$T$1311)+G62-SUMIF(الدخول!$B$3:$B$1311,D62,الدخول!$N$3:$N$1311))","v":""}]
["اسود","كروشيه","3cm","اسود كروشيه 3cm",null,null,null,{"$f":"IF(E63=\"\",\"\",SUMIF(الدخول!$B$3:$B$1311,D63,الدخول!$F$3:$F$1311)+SUMIF(الدخول!$B$3:$B$1311,D63,الدخول!$Q$3:$Q$1311)+E63-SUMIF(الدخول!$B$3:$B$1311,D63,الدخول!$K$3:$K$1311))","v":""},{"$f":"IF(F63=\"\",\"\",SUMIF(الدخول!$B$3:$B$1311,D63,الدخول!$G$3:$G$1311)+SUMIF(الدخول!$B$3:$B$1311,D63,الدخول!$R$3:$R$1311)+F63-SUMIF(الدخول!$B$3:$B$1311,D63,الدخول!$L$3:$L$1311))","v":""},{"$f":"IF(G63=\"\",\"\",SUMIF(الدخول!$B$3:$B$1311,D63,الدخول!$I$3:$I$1311)+SUMIF(الدخول!$B$3:$B$1311,D63,الدخول!$T$3:$T$1311)+G63-SUMIF(الدخول!$B$3:$B$1311,D63,الدخول!$N$3:$N$1311))","v":""}]
["اسود","كروشيه","2.5cm","اسود كروشيه 2.5cm",null,null,null,{"$f":"IF(E64=\"\",\"\",SUMIF(الدخول!$B$3:$B$1311,D64,الدخول!$F$3:$F$1311)+SUMIF(الدخول!$B$3:$B$1311,D64,الدخول!$Q$3:$Q$1311)+E64-SUMIF(الدخول!$B$3:$B$1311,D64,الدخول!$K$3:$K$1311))","v":""},{"$f":"IF(F64=\"\",\"\",SUMIF(الدخول!$B$3:$B$1311,D64,الدخول!$G$3:$G$1311)+SUMIF(الدخول!$B$3:$B$1311,D64,الدخول!$R$3:$R$1311)+F64-SUMIF(الدخول!$B$3:$B$1311,D64,الدخول!$L$3:$L$1311))","v":""},{"$f":"IF(G64=\"\",\"\",SUMIF(الدخول!$B$3:$B$1311,D64,الدخول!$I$3:$I$1311)+SUMIF(الدخول!$B$3:$B$1311,D64,الدخول!$T$3:$T$1311)+G64-SUMIF(الدخول!$B$3:$B$1311,D64,الدخول!$N$3:$N$1311))","v":""}]
["اسود","كروشيه","2cm","اسود كروشيه 2cm",null,null,null,{"$f":"IF(E65=\"\",\"\",SUMIF(الدخول!$B$3:$B$1311,D65,الدخول!$F$3:$F$1311)+SUMIF(الدخول!$B$3:$B$1311,D65,الدخول!$Q$3:$Q$1311)+E65-SUMIF(الدخول!$B$3:$B$1311,D65,الدخول!$K$3:$K$1311))","v":""},{"$f":"IF(F65=\"\",\"\",SUMIF(الدخول!$B$3:$B$1311,D65,الدخول!$G$3:$G$1311)+SUMIF(الدخول!$B$3:$B$1311,D65,الدخول!$R$3:$R$1311)+F65-SUMIF(الدخول!$B$3:$B$1311,D65,الدخول!$L$3:$L$1311))","v":""},{"$f":"IF(G65=\"\",\"\",SUMIF(الدخول!$B$3:$B$1311,D65,الدخول!$I$3:$I$1311)+SUMIF(الدخول!$B$3:$B$1311,D65,الدخول!$T$3:$T$1311)+G65-SUMIF(الدخول!$B$3:$B$1311,D65,الدخول!$N$3:$N$1311))","v":""}]
["اسود","كروشيه","1.7cm",{"$f":"A66&\" \"&B66&\" \"&C66","v":"اسود كروشيه 1.7cm"},null,null,null,{"$f":"IF(E66=\"\",\"\",SUMIF(الدخول!$B$3:$B$1311,D66,الدخول!$F$3:$F$1311)+SUMIF(الدخول!$B$3:$B$1311,D66,الدخول!$Q$3:$Q$1311)+E66-SUMIF(الدخول!$B$3:$B$1311,D66,الدخول!$K$3:$K$1311))","v":""},{"$f":"IF(F66=\"\",\"\",SUMIF(الدخول!$B$3:$B$1311,D66,الدخول!$G$3:$G$1311)+SUMIF(الدخول!$B$3:$B$1311,D66,الدخول!$R$3:$R$1311)+F66-SUMIF(الدخول!$B$3:$B$1311,D66,الدخول!$L$3:$L$1311))","v":""},{"$f":"IF(G66=\"\",\"\",SUMIF(الدخول!$B$3:$B$1311,D66,الدخول!$I$3:$I$1311)+SUMIF(الدخول!$B$3:$B$1311,D66,الدخول!$T$3:$T$1311)+G66-SUMIF(الدخول!$B$3:$B$1311,D66,الدخول!$N$3:$N$1311))","v":""}]
["اسود","كروشيه","1.5cm","اسود كروشيه 1.5cm",null,null,null,{"$f":"IF(E67=\"\",\"\",SUMIF(الدخول!$B$3:$B$1311,D67,الدخول!$F$3:$F$1311)+SUMIF(الدخول!$B$3:$B$1311,D67,الدخول!$Q$3:$Q$1311)+E67-SUMIF(الدخول!$B$3:$B$1311,D67,الدخول!$K$3:$K$1311))","v":""},{"$f":"IF(F67=\"\",\"\",SUMIF(الدخول!$B$3:$B$1311,D67,الدخول!$G$3:$G$1311)+SUMIF(الدخول!$B$3:$B$1311,D67,الدخول!$R$3:$R$1311)+F67-SUMIF(الدخول!$B$3:$B$1311,D67,الدخول!$L$3:$L$1311))","v":""},{"$f":"IF(G67=\"\",\"\",SUMIF(الدخول!$B$3:$B$1311,D67,الدخول!$I$3:$I$1311)+SUMIF(الدخول!$B$3:$B$1311,D67,الدخول!$T$3:$T$1311)+G67-SUMIF(الدخول!$B$3:$B$1311,D67,الدخول!$N$3:$N$1311))","v":""}]
["اسود","كروشيه","1.3cm","اسود كروشيه 1.3cm",null,null,null,{"$f":"IF(E68=\"\",\"\",SUMIF(الدخول!$B$3:$B$1311,D68,الدخول!$F$3:$F$1311)+SUMIF(الدخول!$B$3:$B$1311,D68,الدخول!$Q$3:$Q$1311)+E68-SUMIF(الدخول!$B$3:$B$1311,D68,الدخول!$K$3:$K$1311))","v":""},{"$f":"IF(F68=\"\",\"\",SUMIF(الدخول!$B$3:$B$1311,D68,الدخول!$G$3:$G$1311)+SUMIF(الدخول!$B$3:$B$1311,D68,الدخول!$R$3:$R$1311)+F68-SUMIF(الدخول!$B$3:$B$1311,D68,الدخول!$L$3:$L$1311))","v":""},{"$f":"IF(G68=\"\",\"\",SUMIF(الدخول!$B$3:$B$1311,D68,الدخول!$I$3:$I$1311)+SUMIF(الدخول!$B$3:$B$1311,D68,الدخول!$T$3:$T$1311)+G68-SUMIF(الدخول!$B$3:$B$1311,D68,الدخول!$N$3:$N$1311))","v":""}]
["اسود","كروشيه","1cm","اسود كروشيه 1cm",null,null,null,{"$f":"IF(E69=\"\",\"\",SUMIF(الدخول!$B$3:$B$1311,D69,الدخول!$F$3:$F$1311)+SUMIF(الدخول!$B$3:$B$1311,D69,الدخول!$Q$3:$Q$1311)+E69-SUMIF(الدخول!$B$3:$B$1311,D69,الدخول!$K$3:$K$1311))","v":""},{"$f":"IF(F69=\"\",\"\",SUMIF(الدخول!$B$3:$B$1311,D69,الدخول!$G$3:$G$1311)+SUMIF(الدخول!$B$3:$B$1311,D69,الدخول!$R$3:$R$1311)+F69-SUMIF(الدخول!$B$3:$B$1311,D69,الدخول!$L$3:$L$1311))","v":""},{"$f":"IF(G69=\"\",\"\",SUMIF(الدخول!$B$3:$B$1311,D69,الدخول!$I$3:$I$1311)+SUMIF(الدخول!$B$3:$B$1311,D69,الدخول!$T$3:$T$1311)+G69-SUMIF(الدخول!$B$3:$B$1311,D69,الدخول!$N$3:$N$1311))","v":""}]
["اسود","كروشيه","8mm","اسود كروشيه 8mm",null,null,null,{"$f":"IF(E70=\"\",\"\",SUMIF(الدخول!$B$3:$B$1311,D70,الدخول!$F$3:$F$1311)+SUMIF(الدخول!$B$3:$B$1311,D70,الدخول!$Q$3:$Q$1311)+E70-SUMIF(الدخول!$B$3:$B$1311,D70,الدخول!$K$3:$K$1311))","v":""},{"$f":"IF(F70=\"\",\"\",SUMIF(الدخول!$B$3:$B$1311,D70,الدخول!$G$3:$G$1311)+SUMIF(الدخول!$B$3:$B$1311,D70,الدخول!$R$3:$R$1311)+F70-SUMIF(الدخول!$B$3:$B$1311,D70,الدخول!$L$3:$L$1311))","v":""},{"$f":"IF(G70=\"\",\"\",SUMIF(الدخول!$B$3:$B$1311,D70,الدخول!$I$3:$I$1311)+SUMIF(الدخول!$B$3:$B$1311,D70,الدخول!$T$3:$T$1311)+G70-SUMIF(الدخول!$B$3:$B$1311,D70,الدخول!$N$3:$N$1311))","v":""}]
["اسود","كروشيه","3.8cm","اسود كروشيه 3.8cm",null,null,null,{"$f":"IF(E71=\"\",\"\",SUMIF(الدخول!$B$3:$B$1311,D71,الدخول!$F$3:$F$1311)+SUMIF(الدخول!$B$3:$B$1311,D71,الدخول!$Q$3:$Q$1311)+E71-SUMIF(الدخول!$B$3:$B$1311,D71,الدخول!$K$3:$K$1311))","v":""},{"$f":"IF(F71=\"\",\"\",SUMIF(الدخول!$B$3:$B$1311,D71,الدخول!$G$3:$G$1311)+SUMIF(الدخول!$B$3:$B$1311,D71,الدخول!$R$3:$R$1311)+F71-SUMIF(الدخول!$B$3:$B$1311,D71,الدخول!$L$3:$L$1311))","v":""},{"$f":"IF(G71=\"\",\"\",SUMIF(الدخول!$B$3:$B$1311,D71,الدخول!$I$3:$I$1311)+SUMIF(الدخول!$B$3:$B$1311,D71,الدخول!$T$3:$T$1311)+G71-SUMIF(الدخول!$B$3:$B$1311,D71,الدخول!$N$3:$N$1311))","v":""}]
["اسود","كروشيه",".8m","اسود كروشيه .8m",null,null,null,{"$f":"IF(E72=\"\",\"\",SUMIF(الدخول!$B$3:$B$1311,D72,الدخول!$F$3:$F$1311)+SUMIF(الدخول!$B$3:$B$1311,D72,الدخول!$Q$3:$Q$1311)+E72-SUMIF(الدخول!$B$3:$B$1311,D72,الدخول!$K$3:$K$1311))","v":""},{"$f":"IF(F72=\"\",\"\",SUMIF(الدخول!$B$3:$B$1311,D72,الدخول!$G$3:$G$1311)+SUMIF(الدخول!$B$3:$B$1311,D72,الدخول!$R$3:$R$1311)+F72-SUMIF(الدخول!$B$3:$B$1311,D72,الدخول!$L$3:$L$1311))","v":""},{"$f":"IF(G72=\"\",\"\",SUMIF(الدخول!$B$3:$B$1311,D72,الدخول!$I$3:$I$1311)+SUMIF(الدخول!$B$3:$B$1311,D72,الدخول!$T$3:$T$1311)+G72-SUMIF(الدخول!$B$3:$B$1311,D72,الدخول!$N$3:$N$1311))","v":""}]
["اسود","كروشيه","1.2cm","اسود كروشيه 1.2cm",null,null,null,{"$f":"IF(E73=\"\",\"\",SUMIF(الدخول!$B$3:$B$1311,D73,الدخول!$F$3:$F$1311)+SUMIF(الدخول!$B$3:$B$1311,D73,الدخول!$Q$3:$Q$1311)+E73-SUMIF(الدخول!$B$3:$B$1311,D73,الدخول!$K$3:$K$1311))","v":""},{"$f":"IF(F73=\"\",\"\",SUMIF(الدخول!$B$3:$B$1311,D73,الدخول!$G$3:$G$1311)+SUMIF(الدخول!$B$3:$B$1311,D73,الدخول!$R$3:$R$1311)+F73-SUMIF(الدخول!$B$3:$B$1311,D73,الدخول!$L$3:$L$1311))","v":""},{"$f":"IF(G73=\"\",\"\",SUMIF(الدخول!$B$3:$B$1311,D73,الدخول!$I$3:$I$1311)+SUMIF(الدخول!$B$3:$B$1311,D73,الدخول!$T$3:$T$1311)+G73-SUMIF(الدخول!$B$3:$B$1311,D73,الدخول!$N$3:$N$1311))","v":""}]
["اسود","كروشيه",".4m","اسود كروشيه .4m",null,null,null,{"$f":"IF(E74=\"\",\"\",SUMIF(الدخول!$B$3:$B$1311,D74,الدخول!$F$3:$F$1311)+SUMIF(الدخول!$B$3:$B$1311,D74,الدخول!$Q$3:$Q$1311)+E74-SUMIF(الدخول!$B$3:$B$1311,D74,الدخول!$K$3:$K$1311))","v":""},{"$f":"IF(F74=\"\",\"\",SUMIF(الدخول!$B$3:$B$1311,D74,الدخول!$G$3:$G$1311)+SUMIF(الدخول!$B$3:$B$1311,D74,الدخول!$R$3:$R$1311)+F74-SUMIF(الدخول!$B$3:$B$1311,D74,الدخول!$L$3:$L$1311))","v":""},{"$f":"IF(G74=\"\",\"\",SUMIF(الدخول!$B$3:$B$1311,D74,الدخول!$I$3:$I$1311)+SUMIF(الدخول!$B$3:$B$1311,D74,الدخول!$T$3:$T$1311)+G74-SUMIF(الدخول!$B$3:$B$1311,D74,الدخول!$N$3:$N$1311))","v":""}]
["اسود","كروشيه","1.4cm","اسود كروشيه 1.4cm",null,null,null,{"$f":"IF(E75=\"\",\"\",SUMIF(الدخول!$B$3:$B$1311,D75,الدخول!$F$3:$F$1311)+SUMIF(الدخول!$B$3:$B$1311,D75,الدخول!$Q$3:$Q$1311)+E75-SUMIF(الدخول!$B$3:$B$1311,D75,الدخول!$K$3:$K$1311))","v":""},{"$f":"IF(F75=\"\",\"\",SUMIF(الدخول!$B$3:$B$1311,D75,الدخول!$G$3:$G$1311)+SUMIF(الدخول!$B$3:$B$1311,D75,الدخول!$R$3:$R$1311)+F75-SUMIF(الدخول!$B$3:$B$1311,D75,الدخول!$L$3:$L$1311))","v":""},{"$f":"IF(G75=\"\",\"\",SUMIF(الدخول!$B$3:$B$1311,D75,الدخول!$I$3:$I$1311)+SUMIF(الدخول!$B$3:$B$1311,D75,الدخول!$T$3:$T$1311)+G75-SUMIF(الدخول!$B$3:$B$1311,D75,الدخول!$N$3:$N$1311))","v":""}]
["اسود","كروشيه","2.2cm","اسود كروشيه 2.2cm",null,null,null,{"$f":"IF(E76=\"\",\"\",SUMIF(الدخول!$B$3:$B$1311,D76,الدخول!$F$3:$F$1311)+SUMIF(الدخول!$B$3:$B$1311,D76,الدخول!$Q$3:$Q$1311)+E76-SUMIF(الدخول!$B$3:$B$1311,D76,الدخول!$K$3:$K$1311))","v":""},{"$f":"IF(F76=\"\",\"\",SUMIF(الدخول!$B$3:$B$1311,D76,الدخول!$G$3:$G$1311)+SUMIF(الدخول!$B$3:$B$1311,D76,الدخول!$R$3:$R$1311)+F76-SUMIF(الدخول!$B$3:$B$1311,D76,الدخول!$L$3:$L$1311))","v":""},{"$f":"IF(G76=\"\",\"\",SUMIF(الدخول!$B$3:$B$1311,D76,الدخول!$I$3:$I$1311)+SUMIF(الدخول!$B$3:$B$1311,D76,الدخول!$T$3:$T$1311)+G76-SUMIF(الدخول!$B$3:$B$1311,D76,الدخول!$N$3:$N$1311))","v":""}]
["اسود","كورد","1cm","اسود كورد 1cm",null,null,null,{"$f":"IF(E77=\"\",\"\",SUMIF(الدخول!$B$3:$B$1311,D77,الدخول!$F$3:$F$1311)+SUMIF(الدخول!$B$3:$B$1311,D77,الدخول!$Q$3:$Q$1311)+E77-SUMIF(الدخول!$B$3:$B$1311,D77,الدخول!$K$3:$K$1311))","v":""},{"$f":"IF(F77=\"\",\"\",SUMIF(الدخول!$B$3:$B$1311,D77,الدخول!$G$3:$G$1311)+SUMIF(الدخول!$B$3:$B$1311,D77,الدخول!$R$3:$R$1311)+F77-SUMIF(الدخول!$B$3:$B$1311,D77,الدخول!$L$3:$L$1311))","v":""},{"$f":"IF(G77=\"\",\"\",SUMIF(الدخول!$B$3:$B$1311,D77,الدخول!$I$3:$I$1311)+SUMIF(الدخول!$B$3:$B$1311,D77,الدخول!$T$3:$T$1311)+G77-SUMIF(الدخول!$B$3:$B$1311,D77,الدخول!$N$3:$N$1311))","v":""}]
["اسود","كورد","مبطط","اسود كورد مبطط",null,null,null,{"$f":"IF(E78=\"\",\"\",SUMIF(الدخول!$B$3:$B$1311,D78,الدخول!$F$3:$F$1311)+SUMIF(الدخول!$B$3:$B$1311,D78,الدخول!$Q$3:$Q$1311)+E78-SUMIF(الدخول!$B$3:$B$1311,D78,الدخول!$K$3:$K$1311))","v":""},{"$f":"IF(F78=\"\",\"\",SUMIF(الدخول!$B$3:$B$1311,D78,الدخول!$G$3:$G$1311)+SUMIF(الدخول!$B$3:$B$1311,D78,الدخول!$R$3:$R$1311)+F78-SUMIF(الدخول!$B$3:$B$1311,D78,الدخول!$L$3:$L$1311))","v":""},{"$f":"IF(G78=\"\",\"\",SUMIF(الدخول!$B$3:$B$1311,D78,الدخول!$I$3:$I$1311)+SUMIF(الدخول!$B$3:$B$1311,D78,الدخول!$T$3:$T$1311)+G78-SUMIF(الدخول!$B$3:$B$1311,D78,الدخول!$N$3:$N$1311))","v":""}]
["اسود","كورد","مبروم","اسود كورد مبروم",null,null,null,{"$f":"IF(E79=\"\",\"\",SUMIF(الدخول!$B$3:$B$1311,D79,الدخول!$F$3:$F$1311)+SUMIF(الدخول!$B$3:$B$1311,D79,الدخول!$Q$3:$Q$1311)+E79-SUMIF(الدخول!$B$3:$B$1311,D79,الدخول!$K$3:$K$1311))","v":""},{"$f":"IF(F79=\"\",\"\",SUMIF(الدخول!$B$3:$B$1311,D79,الدخول!$G$3:$G$1311)+SUMIF(الدخول!$B$3:$B$1311,D79,الدخول!$R$3:$R$1311)+F79-SUMIF(الدخول!$B$3:$B$1311,D79,الدخول!$L$3:$L$1311))","v":""},{"$f":"IF(G79=\"\",\"\",SUMIF(الدخول!$B$3:$B$1311,D79,الدخول!$I$3:$I$1311)+SUMIF(الدخول!$B$3:$B$1311,D79,الدخول!$T$3:$T$1311)+G79-SUMIF(الدخول!$B$3:$B$1311,D79,الدخول!$N$3:$N$1311))","v":""}]
["اسود","ووفين ساندوتش","1.5cm","اسود ووفين ساندوتش 1.5cm",null,null,null,{"$f":"IF(E80=\"\",\"\",SUMIF(الدخول!$B$3:$B$1311,D80,الدخول!$F$3:$F$1311)+SUMIF(الدخول!$B$3:$B$1311,D80,الدخول!$Q$3:$Q$1311)+E80-SUMIF(الدخول!$B$3:$B$1311,D80,الدخول!$K$3:$K$1311))","v":""},{"$f":"IF(F80=\"\",\"\",SUMIF(الدخول!$B$3:$B$1311,D80,الدخول!$G$3:$G$1311)+SUMIF(الدخول!$B$3:$B$1311,D80,الدخول!$R$3:$R$1311)+F80-SUMIF(الدخول!$B$3:$B$1311,D80,الدخول!$L$3:$L$1311))","v":""},{"$f":"IF(G80=\"\",\"\",SUMIF(الدخول!$B$3:$B$1311,D80,الدخول!$I$3:$I$1311)+SUMIF(الدخول!$B$3:$B$1311,D80,الدخول!$T$3:$T$1311)+G80-SUMIF(الدخول!$B$3:$B$1311,D80,الدخول!$N$3:$N$1311))","v":""}]
["اسود","ووفين ساندوتش","1.8cm","اسود ووفين ساندوتش 1.8cm",null,null,null,{"$f":"IF(E81=\"\",\"\",SUMIF(الدخول!$B$3:$B$1311,D81,الدخول!$F$3:$F$1311)+SUMIF(الدخول!$B$3:$B$1311,D81,الدخول!$Q$3:$Q$1311)+E81-SUMIF(الدخول!$B$3:$B$1311,D81,الدخول!$K$3:$K$1311))","v":""},{"$f":"IF(F81=\"\",\"\",SUMIF(الدخول!$B$3:$B$1311,D81,الدخول!$G$3:$G$1311)+SUMIF(الدخول!$B$3:$B$1311,D81,الدخول!$R$3:$R$1311)+F81-SUMIF(الدخول!$B$3:$B$1311,D81,الدخول!$L$3:$L$1311))","v":""},{"$f":"IF(G81=\"\",\"\",SUMIF(الدخول!$B$3:$B$1311,D81,الدخول!$I$3:$I$1311)+SUMIF(الدخول!$B$3:$B$1311,D81,الدخول!$T$3:$T$1311)+G81-SUMIF(الدخول!$B$3:$B$1311,D81,الدخول!$N$3:$N$1311))","v":""}]
["اسود","ووفين ساندوتش","1.7cm","اسود ووفين ساندوتش 1.7cm",null,null,null,{"$f":"IF(E82=\"\",\"\",SUMIF(الدخول!$B$3:$B$1311,D82,الدخول!$F$3:$F$1311)+SUMIF(الدخول!$B$3:$B$1311,D82,الدخول!$Q$3:$Q$1311)+E82-SUMIF(الدخول!$B$3:$B$1311,D82,الدخول!$K$3:$K$1311))","v":""},{"$f":"IF(F82=\"\",\"\",SUMIF(الدخول!$B$3:$B$1311,D82,الدخول!$G$3:$G$1311)+SUMIF(الدخول!$B$3:$B$1311,D82,الدخول!$R$3:$R$1311)+F82-SUMIF(الدخول!$B$3:$B$1311,D82,الدخول!$L$3:$L$1311))","v":""},{"$f":"IF(G82=\"\",\"\",SUMIF(الدخول!$B$3:$B$1311,D82,الدخول!$I$3:$I$1311)+SUMIF(الدخول!$B$3:$B$1311,D82,الدخول!$T$3:$T$1311)+G82-SUMIF(الدخول!$B$3:$B$1311,D82,الدخول!$N$3:$N$1311))","v":""}]
["اسود","ووفين ساندوتش","2cm","اسود ووفين ساندوتش 2cm",null,null,null,{"$f":"IF(E83=\"\",\"\",SUMIF(الدخول!$B$3:$B$1311,D83,الدخول!$F$3:$F$1311)+SUMIF(الدخول!$B$3:$B$1311,D83,الدخول!$Q$3:$Q$1311)+E83-SUMIF(الدخول!$B$3:$B$1311,D83,الدخول!$K$3:$K$1311))","v":""},{"$f":"IF(F83=\"\",\"\",SUMIF(الدخول!$B$3:$B$1311,D83,الدخول!$G$3:$G$1311)+SUMIF(الدخول!$B$3:$B$1311,D83,الدخول!$R$3:$R$1311)+F83-SUMIF(الدخول!$B$3:$B$1311,D83,الدخول!$L$3:$L$1311))","v":""},{"$f":"IF(G83=\"\",\"\",SUMIF(الدخول!$B$3:$B$1311,D83,الدخول!$I$3:$I$1311)+SUMIF(الدخول!$B$3:$B$1311,D83,الدخول!$T$3:$T$1311)+G83-SUMIF(الدخول!$B$3:$B$1311,D83,الدخول!$N$3:$N$1311))","v":""}]
["اسود","استك طبي",2.98,"اسود استك طبي 2.98",null,null,null,{"$f":"IF(E84=\"\",\"\",SUMIF(الدخول!$B$3:$B$1311,D84,الدخول!$F$3:$F$1311)+SUMIF(الدخول!$B$3:$B$1311,D84,الدخول!$Q$3:$Q$1311)+E84-SUMIF(الدخول!$B$3:$B$1311,D84,الدخول!$K$3:$K$1311))","v":""},{"$f":"IF(F84=\"\",\"\",SUMIF(الدخول!$B$3:$B$1311,D84,الدخول!$G$3:$G$1311)+SUMIF(الدخول!$B$3:$B$1311,D84,الدخول!$R$3:$R$1311)+F84-SUMIF(الدخول!$B$3:$B$1311,D84,الدخول!$L$3:$L$1311))","v":""},{"$f":"IF(G84=\"\",\"\",SUMIF(الدخول!$B$3:$B$1311,D84,الدخول!$I$3:$I$1311)+SUMIF(الدخول!$B$3:$B$1311,D84,الدخول!$T$3:$T$1311)+G84-SUMIF(الدخول!$B$3:$B$1311,D84,الدخول!$N$3:$N$1311))","v":""}]
["اسود","استك طبي",2.2599999999999998,"اسود استك طبي 2.26",null,null,null,{"$f":"IF(E85=\"\",\"\",SUMIF(الدخول!$B$3:$B$1311,D85,الدخول!$F$3:$F$1311)+SUMIF(الدخول!$B$3:$B$1311,D85,الدخول!$Q$3:$Q$1311)+E85-SUMIF(الدخول!$B$3:$B$1311,D85,الدخول!$K$3:$K$1311))","v":""},{"$f":"IF(F85=\"\",\"\",SUMIF(الدخول!$B$3:$B$1311,D85,الدخول!$G$3:$G$1311)+SUMIF(الدخول!$B$3:$B$1311,D85,الدخول!$R$3:$R$1311)+F85-SUMIF(الدخول!$B$3:$B$1311,D85,الدخول!$L$3:$L$1311))","v":""},{"$f":"IF(G85=\"\",\"\",SUMIF(الدخول!$B$3:$B$1311,D85,الدخول!$I$3:$I$1311)+SUMIF(الدخول!$B$3:$B$1311,D85,الدخول!$T$3:$T$1311)+G85-SUMIF(الدخول!$B$3:$B$1311,D85,الدخول!$N$3:$N$1311))","v":""}]
["اسود  ","كروشيه","5.8cm","اسود   كروشيه 5.8cm",null,null,null,{"$f":"IF(E86=\"\",\"\",SUMIF(الدخول!$B$3:$B$1311,D86,الدخول!$F$3:$F$1311)+SUMIF(الدخول!$B$3:$B$1311,D86,الدخول!$Q$3:$Q$1311)+E86-SUMIF(الدخول!$B$3:$B$1311,D86,الدخول!$K$3:$K$1311))","v":""},{"$f":"IF(F86=\"\",\"\",SUMIF(الدخول!$B$3:$B$1311,D86,الدخول!$G$3:$G$1311)+SUMIF(الدخول!$B$3:$B$1311,D86,الدخول!$R$3:$R$1311)+F86-SUMIF(الدخول!$B$3:$B$1311,D86,الدخول!$L$3:$L$1311))","v":""},{"$f":"IF(G86=\"\",\"\",SUMIF(الدخول!$B$3:$B$1311,D86,الدخول!$I$3:$I$1311)+SUMIF(الدخول!$B$3:$B$1311,D86,الدخول!$T$3:$T$1311)+G86-SUMIF(الدخول!$B$3:$B$1311,D86,الدخول!$N$3:$N$1311))","v":""}]
["اسود استريب","كروشيه","3cm","اسود استريب كروشيه 3cm",null,null,null,{"$f":"IF(E87=\"\",\"\",SUMIF(الدخول!$B$3:$B$1311,D87,الدخول!$F$3:$F$1311)+SUMIF(الدخول!$B$3:$B$1311,D87,الدخول!$Q$3:$Q$1311)+E87-SUMIF(الدخول!$B$3:$B$1311,D87,الدخول!$K$3:$K$1311))","v":""},{"$f":"IF(F87=\"\",\"\",SUMIF(الدخول!$B$3:$B$1311,D87,الدخول!$G$3:$G$1311)+SUMIF(الدخول!$B$3:$B$1311,D87,الدخول!$R$3:$R$1311)+F87-SUMIF(الدخول!$B$3:$B$1311,D87,الدخول!$L$3:$L$1311))","v":""},{"$f":"IF(G87=\"\",\"\",SUMIF(الدخول!$B$3:$B$1311,D87,الدخول!$I$3:$I$1311)+SUMIF(الدخول!$B$3:$B$1311,D87,الدخول!$T$3:$T$1311)+G87-SUMIF(الدخول!$B$3:$B$1311,D87,الدخول!$N$3:$N$1311))","v":""}]
["اسود فلاش","كروشيه","5.5cm","اسود فلاش كروشيه 5.5cm",null,null,null,{"$f":"IF(E88=\"\",\"\",SUMIF(الدخول!$B$3:$B$1311,D88,الدخول!$F$3:$F$1311)+SUMIF(الدخول!$B$3:$B$1311,D88,الدخول!$Q$3:$Q$1311)+E88-SUMIF(الدخول!$B$3:$B$1311,D88,الدخول!$K$3:$K$1311))","v":""},{"$f":"IF(F88=\"\",\"\",SUMIF(الدخول!$B$3:$B$1311,D88,الدخول!$G$3:$G$1311)+SUMIF(الدخول!$B$3:$B$1311,D88,الدخول!$R$3:$R$1311)+F88-SUMIF(الدخول!$B$3:$B$1311,D88,الدخول!$L$3:$L$1311))","v":""},{"$f":"IF(G88=\"\",\"\",SUMIF(الدخول!$B$3:$B$1311,D88,الدخول!$I$3:$I$1311)+SUMIF(الدخول!$B$3:$B$1311,D88,الدخول!$T$3:$T$1311)+G88-SUMIF(الدخول!$B$3:$B$1311,D88,الدخول!$N$3:$N$1311))","v":""}]
["اسود فلاش","كروشيه","5cm","اسود فلاش كروشيه 5cm",null,null,null,{"$f":"IF(E89=\"\",\"\",SUMIF(الدخول!$B$3:$B$1311,D89,الدخول!$F$3:$F$1311)+SUMIF(الدخول!$B$3:$B$1311,D89,الدخول!$Q$3:$Q$1311)+E89-SUMIF(الدخول!$B$3:$B$1311,D89,الدخول!$K$3:$K$1311))","v":""},{"$f":"IF(F89=\"\",\"\",SUMIF(الدخول!$B$3:$B$1311,D89,الدخول!$G$3:$G$1311)+SUMIF(الدخول!$B$3:$B$1311,D89,الدخول!$R$3:$R$1311)+F89-SUMIF(الدخول!$B$3:$B$1311,D89,الدخول!$L$3:$L$1311))","v":""},{"$f":"IF(G89=\"\",\"\",SUMIF(الدخول!$B$3:$B$1311,D89,الدخول!$I$3:$I$1311)+SUMIF(الدخول!$B$3:$B$1311,D89,الدخول!$T$3:$T$1311)+G89-SUMIF(الدخول!$B$3:$B$1311,D89,الدخول!$N$3:$N$1311))","v":""}]
["اسود فلاش","كروشيه","3.5cm","اسود فلاش كروشيه 3.5cm",null,null,null,{"$f":"IF(E90=\"\",\"\",SUMIF(الدخول!$B$3:$B$1311,D90,الدخول!$F$3:$F$1311)+SUMIF(الدخول!$B$3:$B$1311,D90,الدخول!$Q$3:$Q$1311)+E90-SUMIF(الدخول!$B$3:$B$1311,D90,الدخول!$K$3:$K$1311))","v":""},{"$f":"IF(F90=\"\",\"\",SUMIF(الدخول!$B$3:$B$1311,D90,الدخول!$G$3:$G$1311)+SUMIF(الدخول!$B$3:$B$1311,D90,الدخول!$R$3:$R$1311)+F90-SUMIF(الدخول!$B$3:$B$1311,D90,الدخول!$L$3:$L$1311))","v":""},{"$f":"IF(G90=\"\",\"\",SUMIF(الدخول!$B$3:$B$1311,D90,الدخول!$I$3:$I$1311)+SUMIF(الدخول!$B$3:$B$1311,D90,الدخول!$T$3:$T$1311)+G90-SUMIF(الدخول!$B$3:$B$1311,D90,الدخول!$N$3:$N$1311))","v":""}]
["اسود510","كروشيه","5cm","اسود510 كروشيه 5cm",null,null,null,{"$f":"IF(E91=\"\",\"\",SUMIF(الدخول!$B$3:$B$1311,D91,الدخول!$F$3:$F$1311)+SUMIF(الدخول!$B$3:$B$1311,D91,الدخول!$Q$3:$Q$1311)+E91-SUMIF(الدخول!$B$3:$B$1311,D91,الدخول!$K$3:$K$1311))","v":""},{"$f":"IF(F91=\"\",\"\",SUMIF(الدخول!$B$3:$B$1311,D91,الدخول!$G$3:$G$1311)+SUMIF(الدخول!$B$3:$B$1311,D91,الدخول!$R$3:$R$1311)+F91-SUMIF(الدخول!$B$3:$B$1311,D91,الدخول!$L$3:$L$1311))","v":""},{"$f":"IF(G91=\"\",\"\",SUMIF(الدخول!$B$3:$B$1311,D91,الدخول!$I$3:$I$1311)+SUMIF(الدخول!$B$3:$B$1311,D91,الدخول!$T$3:$T$1311)+G91-SUMIF(الدخول!$B$3:$B$1311,D91,الدخول!$N$3:$N$1311))","v":""}]
["اسود510","كروشيه","3.5cm","اسود510 كروشيه 3.5cm",null,null,null,{"$f":"IF(E92=\"\",\"\",SUMIF(الدخول!$B$3:$B$1311,D92,الدخول!$F$3:$F$1311)+SUMIF(الدخول!$B$3:$B$1311,D92,الدخول!$Q$3:$Q$1311)+E92-SUMIF(الدخول!$B$3:$B$1311,D92,الدخول!$K$3:$K$1311))","v":""},{"$f":"IF(F92=\"\",\"\",SUMIF(الدخول!$B$3:$B$1311,D92,الدخول!$G$3:$G$1311)+SUMIF(الدخول!$B$3:$B$1311,D92,الدخول!$R$3:$R$1311)+F92-SUMIF(الدخول!$B$3:$B$1311,D92,الدخول!$L$3:$L$1311))","v":""},{"$f":"IF(G92=\"\",\"\",SUMIF(الدخول!$B$3:$B$1311,D92,الدخول!$I$3:$I$1311)+SUMIF(الدخول!$B$3:$B$1311,D92,الدخول!$T$3:$T$1311)+G92-SUMIF(الدخول!$B$3:$B$1311,D92,الدخول!$N$3:$N$1311))","v":""}]
["الالوان","كورد","1.2cm","الالوان كورد 1.2cm",null,null,null,{"$f":"IF(E93=\"\",\"\",SUMIF(الدخول!$B$3:$B$1311,D93,الدخول!$F$3:$F$1311)+SUMIF(الدخول!$B$3:$B$1311,D93,الدخول!$Q$3:$Q$1311)+E93-SUMIF(الدخول!$B$3:$B$1311,D93,الدخول!$K$3:$K$1311))","v":""},{"$f":"IF(F93=\"\",\"\",SUMIF(الدخول!$B$3:$B$1311,D93,الدخول!$G$3:$G$1311)+SUMIF(الدخول!$B$3:$B$1311,D93,الدخول!$R$3:$R$1311)+F93-SUMIF(الدخول!$B$3:$B$1311,D93,الدخول!$L$3:$L$1311))","v":""},{"$f":"IF(G93=\"\",\"\",SUMIF(الدخول!$B$3:$B$1311,D93,الدخول!$I$3:$I$1311)+SUMIF(الدخول!$B$3:$B$1311,D93,الدخول!$T$3:$T$1311)+G93-SUMIF(الدخول!$B$3:$B$1311,D93,الدخول!$N$3:$N$1311))","v":""}]
["اورنج","كورد","1.2cm","اورنج كورد 1.2cm",null,null,null,{"$f":"IF(E94=\"\",\"\",SUMIF(الدخول!$B$3:$B$1311,D94,الدخول!$F$3:$F$1311)+SUMIF(الدخول!$B$3:$B$1311,D94,الدخول!$Q$3:$Q$1311)+E94-SUMIF(الدخول!$B$3:$B$1311,D94,الدخول!$K$3:$K$1311))","v":""},{"$f":"IF(F94=\"\",\"\",SUMIF(الدخول!$B$3:$B$1311,D94,الدخول!$G$3:$G$1311)+SUMIF(الدخول!$B$3:$B$1311,D94,الدخول!$R$3:$R$1311)+F94-SUMIF(الدخول!$B$3:$B$1311,D94,الدخول!$L$3:$L$1311))","v":""},{"$f":"IF(G94=\"\",\"\",SUMIF(الدخول!$B$3:$B$1311,D94,الدخول!$I$3:$I$1311)+SUMIF(الدخول!$B$3:$B$1311,D94,الدخول!$T$3:$T$1311)+G94-SUMIF(الدخول!$B$3:$B$1311,D94,الدخول!$N$3:$N$1311))","v":""}]
["اورنح","كورد","مبطط","اورنح كورد مبطط",null,null,null,{"$f":"IF(E95=\"\",\"\",SUMIF(الدخول!$B$3:$B$1311,D95,الدخول!$F$3:$F$1311)+SUMIF(الدخول!$B$3:$B$1311,D95,الدخول!$Q$3:$Q$1311)+E95-SUMIF(الدخول!$B$3:$B$1311,D95,الدخول!$K$3:$K$1311))","v":""},{"$f":"IF(F95=\"\",\"\",SUMIF(الدخول!$B$3:$B$1311,D95,الدخول!$G$3:$G$1311)+SUMIF(الدخول!$B$3:$B$1311,D95,الدخول!$R$3:$R$1311)+F95-SUMIF(الدخول!$B$3:$B$1311,D95,الدخول!$L$3:$L$1311))","v":""},{"$f":"IF(G95=\"\",\"\",SUMIF(الدخول!$B$3:$B$1311,D95,الدخول!$I$3:$I$1311)+SUMIF(الدخول!$B$3:$B$1311,D95,الدخول!$T$3:$T$1311)+G95-SUMIF(الدخول!$B$3:$B$1311,D95,الدخول!$N$3:$N$1311))","v":""}]
["بينك","ووفين فستون","1cm","بينك ووفين فستون 1cm",null,null,null,{"$f":"IF(E96=\"\",\"\",SUMIF(الدخول!$B$3:$B$1311,D96,الدخول!$F$3:$F$1311)+SUMIF(الدخول!$B$3:$B$1311,D96,الدخول!$Q$3:$Q$1311)+E96-SUMIF(الدخول!$B$3:$B$1311,D96,الدخول!$K$3:$K$1311))","v":""},{"$f":"IF(F96=\"\",\"\",SUMIF(الدخول!$B$3:$B$1311,D96,الدخول!$G$3:$G$1311)+SUMIF(الدخول!$B$3:$B$1311,D96,الدخول!$R$3:$R$1311)+F96-SUMIF(الدخول!$B$3:$B$1311,D96,الدخول!$L$3:$L$1311))","v":""},{"$f":"IF(G96=\"\",\"\",SUMIF(الدخول!$B$3:$B$1311,D96,الدخول!$I$3:$I$1311)+SUMIF(الدخول!$B$3:$B$1311,D96,الدخول!$T$3:$T$1311)+G96-SUMIF(الدخول!$B$3:$B$1311,D96,الدخول!$N$3:$N$1311))","v":""}]
["بينك","ووفين فستون","1.3cm","بينك ووفين فستون 1.3cm",null,null,null,{"$f":"IF(E97=\"\",\"\",SUMIF(الدخول!$B$3:$B$1311,D97,الدخول!$F$3:$F$1311)+SUMIF(الدخول!$B$3:$B$1311,D97,الدخول!$Q$3:$Q$1311)+E97-SUMIF(الدخول!$B$3:$B$1311,D97,الدخول!$K$3:$K$1311))","v":""},{"$f":"IF(F97=\"\",\"\",SUMIF(الدخول!$B$3:$B$1311,D97,الدخول!$G$3:$G$1311)+SUMIF(الدخول!$B$3:$B$1311,D97,الدخول!$R$3:$R$1311)+F97-SUMIF(الدخول!$B$3:$B$1311,D97,الدخول!$L$3:$L$1311))","v":""},{"$f":"IF(G97=\"\",\"\",SUMIF(الدخول!$B$3:$B$1311,D97,الدخول!$I$3:$I$1311)+SUMIF(الدخول!$B$3:$B$1311,D97,الدخول!$T$3:$T$1311)+G97-SUMIF(الدخول!$B$3:$B$1311,D97,الدخول!$N$3:$N$1311))","v":""}]
["رصاصي استريب","كروشيه","3cm","رصاصي استريب كروشيه 3cm",null,null,null,{"$f":"IF(E98=\"\",\"\",SUMIF(الدخول!$B$3:$B$1311,D98,الدخول!$F$3:$F$1311)+SUMIF(الدخول!$B$3:$B$1311,D98,الدخول!$Q$3:$Q$1311)+E98-SUMIF(الدخول!$B$3:$B$1311,D98,الدخول!$K$3:$K$1311))","v":""},{"$f":"IF(F98=\"\",\"\",SUMIF(الدخول!$B$3:$B$1311,D98,الدخول!$G$3:$G$1311)+SUMIF(الدخول!$B$3:$B$1311,D98,الدخول!$R$3:$R$1311)+F98-SUMIF(الدخول!$B$3:$B$1311,D98,الدخول!$L$3:$L$1311))","v":""},{"$f":"IF(G98=\"\",\"\",SUMIF(الدخول!$B$3:$B$1311,D98,الدخول!$I$3:$I$1311)+SUMIF(الدخول!$B$3:$B$1311,D98,الدخول!$T$3:$T$1311)+G98-SUMIF(الدخول!$B$3:$B$1311,D98,الدخول!$N$3:$N$1311))","v":""}]
["زهري","كورد","مبطط","زهري كورد مبطط",null,null,null,{"$f":"IF(E99=\"\",\"\",SUMIF(الدخول!$B$3:$B$1311,D99,الدخول!$F$3:$F$1311)+SUMIF(الدخول!$B$3:$B$1311,D99,الدخول!$Q$3:$Q$1311)+E99-SUMIF(الدخول!$B$3:$B$1311,D99,الدخول!$K$3:$K$1311))","v":""},{"$f":"IF(F99=\"\",\"\",SUMIF(الدخول!$B$3:$B$1311,D99,الدخول!$G$3:$G$1311)+SUMIF(الدخول!$B$3:$B$1311,D99,الدخول!$R$3:$R$1311)+F99-SUMIF(الدخول!$B$3:$B$1311,D99,الدخول!$L$3:$L$1311))","v":""},{"$f":"IF(G99=\"\",\"\",SUMIF(الدخول!$B$3:$B$1311,D99,الدخول!$I$3:$I$1311)+SUMIF(الدخول!$B$3:$B$1311,D99,الدخول!$T$3:$T$1311)+G99-SUMIF(الدخول!$B$3:$B$1311,D99,الدخول!$N$3:$N$1311))","v":""}]
["شاركول","كورد","مبطط","شاركول كورد مبطط",null,null,null,{"$f":"IF(E100=\"\",\"\",SUMIF(الدخول!$B$3:$B$1311,D100,الدخول!$F$3:$F$1311)+SUMIF(الدخول!$B$3:$B$1311,D100,الدخول!$Q$3:$Q$1311)+E100-SUMIF(الدخول!$B$3:$B$1311,D100,الدخول!$K$3:$K$1311))","v":""},{"$f":"IF(F100=\"\",\"\",SUMIF(الدخول!$B$3:$B$1311,D100,الدخول!$G$3:$G$1311)+SUMIF(الدخول!$B$3:$B$1311,D100,الدخول!$R$3:$R$1311)+F100-SUMIF(الدخول!$B$3:$B$1311,D100,الدخول!$L$3:$L$1311))","v":""},{"$f":"IF(G100=\"\",\"\",SUMIF(الدخول!$B$3:$B$1311,D100,الدخول!$I$3:$I$1311)+SUMIF(الدخول!$B$3:$B$1311,D100,الدخول!$T$3:$T$1311)+G100-SUMIF(الدخول!$B$3:$B$1311,D100,الدخول!$N$3:$N$1311))","v":""}]
["موف غامق","كروشيه","1.6cm","موف غامق كروشيه 1.6cm",null,null,null,{"$f":"IF(E101=\"\",\"\",SUMIF(الدخول!$B$3:$B$1311,D101,الدخول!$F$3:$F$1311)+SUMIF(الدخول!$B$3:$B$1311,D101,الدخول!$Q$3:$Q$1311)+E101-SUMIF(الدخول!$B$3:$B$1311,D101,الدخول!$K$3:$K$1311))","v":""},{"$f":"IF(F101=\"\",\"\",SUMIF(الدخول!$B$3:$B$1311,D101,الدخول!$G$3:$G$1311)+SUMIF(الدخول!$B$3:$B$1311,D101,الدخول!$R$3:$R$1311)+F101-SUMIF(الدخول!$B$3:$B$1311,D101,الدخول!$L$3:$L$1311))","v":""},{"$f":"IF(G101=\"\",\"\",SUMIF(الدخول!$B$3:$B$1311,D101,الدخول!$I$3:$I$1311)+SUMIF(الدخول!$B$3:$B$1311,D101,الدخول!$T$3:$T$1311)+G101-SUMIF(الدخول!$B$3:$B$1311,D101,الدخول!$N$3:$N$1311))","v":""}]
[null,null,null,"  ",null,null,null,{"$f":"IF(E102=\"\",\"\",SUMIF(الدخول!$B$3:$B$1311,D102,الدخول!$F$3:$F$1311)+SUMIF(الدخول!$B$3:$B$1311,D102,الدخول!$Q$3:$Q$1311)+E102-SUMIF(الدخول!$B$3:$B$1311,D102,الدخول!$K$3:$K$1311))","v":""},{"$f":"IF(F102=\"\",\"\",SUMIF(الدخول!$B$3:$B$1311,D102,الدخول!$G$3:$G$1311)+SUMIF(الدخول!$B$3:$B$1311,D102,الدخول!$R$3:$R$1311)+F102-SUMIF(الدخول!$B$3:$B$1311,D102,الدخول!$L$3:$L$1311))","v":""},{"$f":"IF(G102=\"\",\"\",SUMIF(الدخول!$B$3:$B$1311,D102,الدخول!$I$3:$I$1311)+SUMIF(الدخول!$B$3:$B$1311,D102,الدخول!$T$3:$T$1311)+G102-SUMIF(الدخول!$B$3:$B$1311,D102,الدخول!$N$3:$N$1311))","v":""}]
[null,null,null,"  ",null,null,null,{"$f":"IF(E103=\"\",\"\",SUMIF(الدخول!$B$3:$B$1311,D103,الدخول!$F$3:$F$1311)+SUMIF(الدخول!$B$3:$B$1311,D103,الدخول!$Q$3:$Q$1311)+E103-SUMIF(الدخول!$B$3:$B$1311,D103,الدخول!$K$3:$K$1311))","v":""},{"$f":"IF(F103=\"\",\"\",SUMIF(الدخول!$B$3:$B$1311,D103,الدخول!$G$3:$G$1311)+SUMIF(الدخول!$B$3:$B$1311,D103,الدخول!$R$3:$R$1311)+F103-SUMIF(الدخول!$B$3:$B$1311,D103,الدخول!$L$3:$L$1311))","v":""},{"$f":"IF(G103=\"\",\"\",SUMIF(الدخول!$B$3:$B$1311,D103,الدخول!$I$3:$I$1311)+SUMIF(الدخول!$B$3:$B$1311,D103,الدخول!$T$3:$T$1311)+G103-SUMIF(الدخول!$B$3:$B$1311,D103,الدخول!$N$3:$N$1311))","v":""}]
[null,null,null,"  ",null,null,null,{"$f":"IF(E104=\"\",\"\",SUMIF(الدخول!$B$3:$B$1311,D104,الدخول!$F$3:$F$1311)+SUMIF(الدخول!$B$3:$B$1311,D104,الدخول!$Q$3:$Q$1311)+E104-SUMIF(الدخول!$B$3:$B$1311,D104,الدخول!$K$3:$K$1311))","v":""},{"$f":"IF(F104=\"\",\"\",SUMIF(الدخول!$B$3:$B$1311,D104,الدخول!$G$3:$G$1311)+SUMIF(الدخول!$B$3:$B$1311,D104,الدخول!$R$3:$R$1311)+F104-SUMIF(الدخول!$B$3:$B$1311,D104,الدخول!$L$3:$L$1311))","v":""},{"$f":"IF(G104=\"\",\"\",SUMIF(الدخول!$B$3:$B$1311,D104,الدخول!$I$3:$I$1311)+SUMIF(الدخول!$B$3:$B$1311,D104,الدخول!$T$3:$T$1311)+G104-SUMIF(الدخول!$B$3:$B$1311,D104,الدخول!$N$3:$N$1311))","v":""}]
[null,null,null,"  ",null,null,null,{"$f":"IF(E105=\"\",\"\",SUMIF(الدخول!$B$3:$B$1311,D105,الدخول!$F$3:$F$1311)+SUMIF(الدخول!$B$3:$B$1311,D105,الدخول!$Q$3:$Q$1311)+E105-SUMIF(الدخول!$B$3:$B$1311,D105,الدخول!$K$3:$K$1311))","v":""},{"$f":"IF(F105=\"\",\"\",SUMIF(الدخول!$B$3:$B$1311,D105,الدخول!$G$3:$G$1311)+SUMIF(الدخول!$B$3:$B$1311,D105,الدخول!$R$3:$R$1311)+F105-SUMIF(الدخول!$B$3:$B$1311,D105,الدخول!$L$3:$L$1311))","v":""},{"$f":"IF(G105=\"\",\"\",SUMIF(الدخول!$B$3:$B$1311,D105,الدخول!$I$3:$I$1311)+SUMIF(الدخول!$B$3:$B$1311,D105,الدخول!$T$3:$T$1311)+G105-SUMIF(الدخول!$B$3:$B$1311,D105,الدخول!$N$3:$N$1311))","v":""}]
[null,null,null,"  ",null,null,null,{"$f":"IF(E106=\"\",\"\",SUMIF(الدخول!$B$3:$B$1311,D106,الدخول!$F$3:$F$1311)+SUMIF(الدخول!$B$3:$B$1311,D106,الدخول!$Q$3:$Q$1311)+E106-SUMIF(الدخول!$B$3:$B$1311,D106,الدخول!$K$3:$K$1311))","v":""},{"$f":"IF(F106=\"\",\"\",SUMIF(الدخول!$B$3:$B$1311,D106,الدخول!$G$3:$G$1311)+SUMIF(الدخول!$B$3:$B$1311,D106,الدخول!$R$3:$R$1311)+F106-SUMIF(الدخول!$B$3:$B$1311,D106,الدخول!$L$3:$L$1311))","v":""},{"$f":"IF(G106=\"\",\"\",SUMIF(الدخول!$B$3:$B$1311,D106,الدخول!$I$3:$I$1311)+SUMIF(الدخول!$B$3:$B$1311,D106,الدخول!$T$3:$T$1311)+G106-SUMIF(الدخول!$B$3:$B$1311,D106,الدخول!$N$3:$N$1311))","v":""}]

{"sheet":"الدخول","index":1,"n_rows":2590,"n_cols":87,"rows_kept":1125,"cut":true,"hidden":false,"merged":[[0,15,1,15],[0,21,1,21],[0,16,0,17],[0,20,1,20],[0,18,1,18],[0,19,1,19],[0,14,1,14],[0,5,0,6],[0,10,0,11],[0,0,1,0],[0,1,1,1],[0,2,1,2],[0,9,1,9],[0,3,1,3],[0,4,1,4],[0,7,1,7],[0,12,1,12],[0,8,1,8],[0,13,1,13]],"bounds":{"rows_first":500,"rows_last":125,"rows_between":500,"halvings":2}}
["التاريخ","اللون","رصيد ختامي بالكيلو","رصيد ختامي بالمتر","رصيد ختامي بالقطع","أضافة",null,"وزن المتر","اجمالي القطع","رقم اذن اضافة","صرف",null,"وزن المتر","اجمالي القطع","رقم اذن صرف","جرد","مرتجع",null,"وزن المتر","اجمالي القطع","رقم اذن المرتجع","ملاحظات "]
[null,null,null,null,null,"كيلو","متر",null,null,null,"كيلو","متر",null,null,null,null,"كيلو","متر"]
[{"$f":"IF(B3<>\"\",IF(A3=\"\",NOW(),A3),\"\")","v":"2023-07-05T14:05:37.290"},"ابيض كروشيه 5.8cm",{"$f":"IF(B3=\"\",\"\",SUMIF('الرصيد الثابت'!$D$2:$D$106,B3,'الرصيد الثابت'!$H$2:$H$106))","v":1002},{"$f":"IF(B3=\"\",\"\",SUMIF('الرصيد الثابت'!$D$2:$D$106,B3,'الرصيد الثابت'!$I$2:$I$106))","v":3006},{"$f":"IF(B3=\"\",\"\",SUMIF('الرصيد الثابت'!$D$2:$D$106,B3,'الرصيد الثابت'!$J$2:$J$106))","v":15005},null,{"$f":"SUM(H3*F3)","v":0},null,null,null,null,{"$f":"SUM(M3*K3)","v":0},null,null,null,null,2,{"$f":"SUM(S3*Q3)","v":6},3,5,16,null,null,null,null,null,null,null,null,null,null,null,null,null,null,null,null,null,null,null,null,null,null,null,null,null,null,null,null,null,null,null,null,null,null,null,null,null,null,null,null,null,null,null,null,null,null,null,null,null,null,null,null,null,null,null,null,null,null,null,null,null,null,{"$f":"IFERROR(VLOOKUP(ROWS($CF$3:CF3),$CH$3:$CI$2001,2,FALSE),\"\")","v":"ابيض كروشيه 5.8cm"},{"$f":"OFFSET($CF$3,,,COUNTIF($CF$3:CF2590,\"?*\"))","v":"ابيض كروشيه 5.8cm"},{"$f":"IF(ISNUMBER(SEARCH(B3,CI3)),MAX($CH$2:CH2)+1,0)","v":1},{"$f":"'الرصيد الثابت'!D2","v":"ابيض كروشيه 5.8cm"}]
[{"$f":"IF(B4<>\"\",IF(A4=\"\",NOW(),A4),\"\")","v":"2023-07-05T14:05:43.310"},"ابيض كروشيه 5.5cm",{"$f":"IF(B4=\"\",\"\",SUMIF('الرصيد الثابت'!$D$2:$D$106,B4,'الرصيد الثابت'!$H$2:$H$106))","v":9005},{"$f":"IF(B4=\"\",\"\",SUMIF('الرصيد الثابت'!$D$2:$D$106,B4,'الرصيد الثابت'!$I$2:$I$106))","v":2510},{"$f":"IF(B4=\"\",\"\",SUMIF('الرصيد الثابت'!$D$2:$D$106,B4,'الرصيد الثابت'!$J$2:$J$106))","v":5010},null,0,null,null,null,null,{"$f":"SUM(M4*K4)","v":0},null,null,null,null,5,10,2,10,17,null,null,null,null,null,null,null,null,null,null,null,null,null,null,null,null,null,null,null,null,null,null,null,null,null,null,null,null,null,null,null,null,null,null,null,null,null,null,null,null,null,null,null,null,null,null,null,null,null,null,null,null,null,null,null,null,null,null,null,null,null,null,{"$f":"IFERROR(VLOOKUP(ROWS($CF$3:CF4),$CH$3:$CI$2001,2,FALSE),\"\")","v":"ابيض كروشيه 5.5cm"},null,{"$f":"IF(ISNUMBER(SEARCH(B4,CI4)),MAX($CH$2:CH3)+1,0)","v":2},{"$f":"'الرصيد الثابت'!D3","v":"ابيض كروشيه 5.5cm"}]
[{"$f":"IF(B5<>\"\",IF(A5=\"\",NOW(),A5),\"\")","v":"2023-07-05T14:14:19.880"},"ابيض كروشيه 5.8cm",{"$f":"IF(B5=\"\",\"\",SUMIF('الرصيد الثابت'!$D$2:$D$106,B5,'الرصيد الثابت'!$H$2:$H$106))","v":1002},{"$f":"IF(B5=\"\",\"\",SUMIF('الرصيد الثابت'!$D$2:$D$106,B5,'الرصيد الثابت'!$I$2:$I$106))","v":3006},{"$f":"IF(B5=\"\",\"\",SUMIF('الرصيد الثابت'!$D$2:$D$106,B5,'الرصيد الثابت'!$J$2:$J$106))","v":15005},null,0,null,null,null,null,0,null,null,null,1,null,0,null,null,null,null,null,null,null,null,null,null,null,null,null,null,null,null,null,null,null,null,null,null,null,null,null,null,null,null,null,null,null,null,null,null,null,null,null,null,null,null,null,null,null,null,null,null,null,null,null,null,null,null,null,null,null,null,null,null,null,null,null,null,null,null,null,{"$f":"IFERROR(VLOOKUP(ROWS($CF$3:CF5),$CH$3:$CI$2001,2,FALSE),\"\")","v":"ابيض كروشيه 5cm"},null,{"$f":"IF(ISNUMBER(SEARCH(B5,CI5)),MAX($CH$2:CH4)+1,0)","v":0},{"$f":"'الرصيد الثابت'!D4","v":"ابيض كروشيه 5.3cm"}]
["",null,{"$f":"IF(B6=\"\",\"\",SUMIF('الرصيد الثابت'!$D$2:$D$106,B6,'الرصيد الثابت'!$H$2:$H$106))","v":""},{"$f":"IF(B6=\"\",\"\",SUMIF('الرصيد الثابت'!$D$2:$D$106,B6,'الرصيد الثابت'!$I$2:$I$106))","v":""},{"$f":"IF(B6=\"\",\"\",SUMIF('الرصيد الثابت'!$D$2:$D$106,B6,'الرصيد الثابت'!$J$2:$J$106))","v":""},null,0,null,null,null,null,null,null,null,null,null,null,0,null,null,null,null,null,null,null,null,null,null,null,null,null,null,null,null,null,null,null,null,null,null,null,null,null,null,null,null,null,null,null,null,null,null,null,null,null,null,null,null,null,null,null,null,null,null,null,null,null,null,null,null,null,null,null,null,null,null,null,null,null,null,null,null,null,{"$f":"IFERROR(VLOOKUP(ROWS($CF$3:CF6),$CH$3:$CI$2001,2,FALSE),\"\")","v":"ابيض كروشيه 4.5cm"},null,{"$f":"IF(ISNUMBER(SEARCH(B6,CI6)),MAX($CH$2:CH5)+1,0)","v":3},{"$f":"'الرصيد الثابت'!D5","v":"ابيض كروشيه 5cm"}]
["",null,{"$f":"IF(B7=\"\",\"\",SUMIF('الرصيد الثابت'!$D$2:$D$106,B7,'الرصيد الثابت'!$H$2:$H$106))","v":""},{"$f":"IF(B7=\"\",\"\",SUMIF('الرصيد الثابت'!$D$2:$D$106,B7,'الرصيد الثابت'!$I$2:$I$106))","v":""},{"$f":"IF(B7=\"\",\"\",SUMIF('الرصيد الثابت'!$D$2:$D$106,B7,'الرصيد الثابت'!$J$2:$J$106))","v":""},null,0,null,null,null,null,0,null,null,null,{"$f":"SUM(F7-K7)","v":0},null,{"$f":"SUM(S7*Q7)","v":0},null,null,null,null,null,null,null,null,null,null,null,null,null,null,null,null,null,null,null,null,null,null,null,null,null,null,null,null,null,null,null,null,null,null,null,null,null,null,null,null,null,null,null,null,null,null,null,null,null,null,null,null,null,null,null,null,null,null,null,null,null,null,null,null,null,{"$f":"IFERROR(VLOOKUP(ROWS($CF$3:CF7),$CH$3:$CI$2001,2,FALSE),\"\")","v":"ابيض كروشيه 4cm"},null,{"$f":"IF(ISNUMBER(SEARCH(B7,CI7)),MAX($CH$2:CH6)+1,0)","v":4},{"$f":"'الرصيد الثابت'!D6","v":"ابيض كروشيه 4.5cm"}]
["",null,{"$f":"IF(B8=\"\",\"\",SUMIF('الرصيد الثابت'!$D$2:$D$106,B8,'الرصيد الثابت'!$H$2:$H$106))","v":""},{"$f":"IF(B8=\"\",\"\",SUMIF('الرصيد الثابت'!$D$2:$D$106,B8,'الرصيد الثابت'!$I$2:$I$106))","v":""},{"$f":"IF(B8=\"\",\"\",SUMIF('الرصيد الثابت'!$D$2:$D$106,B8,'الرصيد الثابت'!$J$2:$J$106))","v":""},null,0,null,null,null,null,0,null,null,null,0,null,0,null,null,null,null,null,null,null,null,null,null,null,null,null,null,null,null,null,null,null,null,null,null,null,null,null,null,null,null,null,null,null,null,null,null,null,null,null,null,null,null,null,null,null,null,null,null,null,null,null,null,null,null,null,null,null,null,null,null,null,null,null,null,null,null,null,{"$f":"IFERROR(VLOOKUP(ROWS($CF$3:CF8),$CH$3:$CI$2001,2,FALSE),\"\")","v":"ابيض كروشيه 3.5cm"},null,{"$f":"IF(ISNUMBER(SEARCH(B8,CI8)),MAX($CH$2:CH7)+1,0)","v":5},{"$f":"'الرصيد الثابت'!D7","v":"ابيض كروشيه 4cm"}]
["",null,{"$f":"IF(B9=\"\",\"\",SUMIF('الرصيد الثابت'!$D$2:$D$106,B9,'الرصيد الثابت'!$H$2:$H$106))","v":""},{"$f":"IF(B9=\"\",\"\",SUMIF('الرصيد الثابت'!$D$2:$D$106,B9,'الرصيد الثابت'!$I$2:$I$106))","v":""},{"$f":"IF(B9=\"\",\"\",SUMIF('الرصيد الثابت'!$D$2:$D$106,B9,'الرصيد الثابت'!$J$2:$J$106))","v":""},null,0,null,null,null,null,0,null,null,null,0,null,0,null,null,null,null,null,null,null,null,null,null,null,null,null,null,null,null,null,null,null,null,null,null,null,null,null,null,null,null,null,null,null,null,null,null,null,null,null,null,null,null,null,null,null,null,null,null,null,null,null,null,null,null,null,null,null,null,null,null,null,null,null,null,null,null,null,{"$f":"IFERROR(VLOOKUP(ROWS($CF$3:CF9),$CH$3:$CI$2001,2,FALSE),\"\")","v":"ابيض كروشيه 3.2cm"},null,{"$f":"IF(ISNUMBER(SEARCH(B9,CI9)),MAX($CH$2:CH8)+1,0)","v":6},{"$f":"'الرصيد الثابت'!D8","v":"ابيض كروشيه 3.5cm"}]
["",null,{"$f":"IF(B10=\"\",\"\",SUMIF('الرصيد الثابت'!$D$2:$D$106,B10,'الرصيد الثابت'!$H$2:$H$106))","v":""},null,{"$f":"IF(B10=\"\",\"\",SUMIF('الرصيد الثابت'!$D$2:$D$106,B10,'الرصيد الثابت'!$J$2:$J$106))","v":""},null,0,null,null,null,null,0,null,null,null,0,null,0,null,null,null,null,null,null,null,null,null,null,null,null,null,null,null,null,null,null,null,null,null,null,null,null,null,null,null,null,null,null,null,null,null,null,null,null,null,null,null,null,null,null,null,null,null,null,null,null,null,null,null,null,null,null,null,null,null,null,null,null,null,null,null,null,null,{"$f":"IFERROR(VLOOKUP(ROWS($CF$3:CF10),$CH$3:$CI$2001,2,FALSE),\"\")","v":"ابيض كروشيه 3cm"},null,{"$f":"IF(ISNUMBER(SEARCH(B10,CI10)),MAX($CH$2:CH9)+1,0)","v":7},{"$f":"'الرصيد الثابت'!D9","v":"ابيض كروشيه 3.2cm"}]
["",null,{"$f":"IF(B11=\"\",\"\",SUMIF('الرصيد الثابت'!$D$2:$D$106,B11,'الرصيد الثابت'!$H$2:$H$106))","v":""},{"$f":"IF(B11=\"\",\"\",SUMIF('الرصيد الثابت'!$D$2:$D$106,B11,'الرصيد الثابت'!$I$2:$I$106))","v":""},null,null,0,null,null,null,null,0,null,null,null,0,null,0,null,null,null,null,null,null,null,null,null,null,null,null,null,null,null,null,null,null,null,null,null,null,null,null,null,null,null,null,null,null,null,null,null,null,null,null,null,null,null,null,null,null,null,null,null,null,null,null,null,null,null,null,null,null,null,null,null,null,null,null,null,null,null,null,null,{"$f":"IFERROR(VLOOKUP(ROWS($CF$3:CF11),$CH$3:$CI$2001,2,FALSE),\"\")","v":"ابيض كروشيه 2.2cm"},null,{"$f":"IF(ISNUMBER(SEARCH(B11,CI11)),MAX($CH$2:CH10)+1,0)","v":8},{"$f":"'الرصيد الثابت'!D10","v":"ابيض كروشيه 3cm"}]
["",null,{"$f":"IF(B12=\"\",\"\",SUMIF('الرصيد الثابت'!$D$2:$D$106,B12,'الرصيد الثابت'!$H$2:$H$106))","v":""},{"$f":"IF(B12=\"\",\"\",SUMIF('الرصيد الثابت'!$D$2:$D$106,B12,'الرصيد الثابت'!$I$2:$I$106))","v":""},{"$f":"IF(B12=\"\",\"\",SUMIF('الرصيد الثابت'!$D$2:$D$106,B12,'الرصيد الثابت'!$J$2:$J$106))","v":""},null,0,null,null,null,null,0,null,null,null,0,null,0,null,null,null,null,null,null,null,null,null,null,null,null,null,null,null,null,null,null,null,null,null,null,null,null,null,null,null,null,null,null,null,null,null,null,null,null,null,null,null,null,null,null,null,null,null,null,null,null,null,null,null,null,null,null,null,null,null,null,null,null,null,null,null,null,null,{"$f":"IFERROR(VLOOKUP(ROWS($CF$3:CF12),$CH$3:$CI$2001,2,FALSE),\"\")","v":"ابيض كروشيه 2cm"},null,{"$f":"IF(ISNUMBER(SEARCH(B12,CI12)),MAX($CH$2:CH11)+1,0)","v":9},{"$f":"'الرصيد الثابت'!D11","v":"ابيض كروشيه 2.2cm"}]
["",null,{"$f":"IF(B13=\"\",\"\",SUMIF('الرصيد الثابت'!$D$2:$D$106,B13,'الرصيد الثابت'!$H$2:$H$106))","v":""},{"$f":"IF(B13=\"\",\"\",SUMIF('الرصيد الثابت'!$D$2:$D$106,B13,'الرصيد الثابت'!$I$2:$I$106))","v":""},{"$f":"IF(B13=\"\",\"\",SUMIF('الرصيد الثابت'!$D$2:$D$106,B13,'الرصيد الثابت'!$J$2:$J$106))","v":""},null,0,null,null,null,null,0,null,null,null,0,null,0,null,null,null,null,null,null,null,null,null,null,null,null,null,null,null,null,null,null,null,null,null,null,null,null,null,null,null,null,null,null,null,null,null,null,null,null,null,null,null,null,null,null,null,null,null,null,null,null,null,null,null,null,null,null,null,null,null,null,null,null,null,null,null,null,null,{"$f":"IFERROR(VLOOKUP(ROWS($CF$3:CF13),$CH$3:$CI$2001,2,FALSE),\"\")","v":"ابيض كروشيه 1.5cm"},null,{"$f":"IF(ISNUMBER(SEARCH(B13,CI13)),MAX($CH$2:CH12)+1,0)","v":10},{"$f":"'الرصيد الثابت'!D12","v":"ابيض كروشيه 2cm"}]
["",null,{"$f":"IF(B14=\"\",\"\",SUMIF('الرصيد الثابت'!$D$2:$D$106,B14,'الرصيد الثابت'!$H$2:$H$106))","v":""},{"$f":"IF(B14=\"\",\"\",SUMIF('الرصيد الثابت'!$D$2:$D$106,B14,'الرصيد الثابت'!$I$2:$I$106))","v":""},{"$f":"IF(B14=\"\",\"\",SUMIF('الرصيد الثابت'!$D$2:$D$106,B14,'الرصيد الثابت'!$J$2:$J$106))","v":""},null,0,null,null,null,null,0,null,null,null,0,null,0,null,null,null,null,null,null,null,null,null,null,null,null,null,null,null,null,null,null,null,null,null,null,null,null,null,null,null,null,null,null,null,null,null,null,null,null,null,null,null,null,null,null,null,null,null,null,null,null,null,null,null,null,null,null,null,null,null,null,null,null,null,null,null,null,null,{"$f":"IFERROR(VLOOKUP(ROWS($CF$3:CF14),$CH$3:$CI$2001,2,FALSE),\"\")","v":"ابيض كروشيه 1.2cm"},null,{"$f":"IF(ISNUMBER(SEARCH(B14,CI14)),MAX($CH$2:CH13)+1,0)","v":11},{"$f":"'الرصيد الثابت'!D13","v":"ابيض كروشيه 1.5cm"}]
["",null,{"$f":"IF(B15=\"\",\"\",SUMIF('الرصيد الثابت'!$D$2:$D$106,B15,'الرصيد الثابت'!$H$2:$H$106))","v":""},{"$f":"IF(B15=\"\",\"\",SUMIF('الرصيد الثابت'!$D$2:$D$106,B15,'الرصيد الثابت'!$I$2:$I$106))","v":""},{"$f":"IF(B15=\"\",\"\",SUMIF('الرصيد الثابت'!$D$2:$D$106,B15,'الرصيد الثابت'!$J$2:$J$106))","v":""},null,0,null,null,null,null,0,null,null,null,0,null,0,null,null,null,null,null,null,null,null,null,null,null,null,null,null,null,null,null,null,null,null,null,null,null,null,null,null,null,null,null,null,null,null,null,null,null,null,null,null,null,null,null,null,null,null,null,null,null,null,null,null,null,null,null,null,null,null,null,null,null,null,null,null,null,null,null,{"$f":"IFERROR(VLOOKUP(ROWS($CF$3:CF15),$CH$3:$CI$2001,2,FALSE),\"\")","v":"ابيض كروشيه 1cm"},null,{"$f":"IF(ISNUMBER(SEARCH(B15,CI15)),MAX($CH$2:CH14)+1,0)","v":12},{"$f":"'الرصيد الثابت'!D14","v":"ابيض كروشيه 1.2cm"}]
["",null,{"$f":"IF(B16=\"\",\"\",SUMIF('الرصيد الثابت'!$D$2:$D$106,B16,'الرصيد الثابت'!$H$2:$H$106))","v":""},{"$f":"IF(B16=\"\",\"\",SUMIF('الرصيد الثابت'!$D$2:$D$106,B16,'الرصيد الثابت'!$I$2:$I$106))","v":""},{"$f":"IF(B16=\"\",\"\",SUMIF('الرصيد الثابت'!$D$2:$D$106,B16,'الرصيد الثابت'!$J$2:$J$106))","v":""},null,0,null,null,null,null,0,null,null,null,0,null,0,null,null,null,null,null,null,null,null,null,null,null,null,null,null,null,null,null,null,null,null,null,null,null,null,null,null,null,null,null,null,null,null,null,null,null,null,null,null,null,null,null,null,null,null,null,null,null,null,null,null,null,null,null,null,null,null,null,null,null,null,null,null,null,null,null,{"$f":"IFERROR(VLOOKUP(ROWS($CF$3:CF16),$CH$3:$CI$2001,2,FALSE),\"\")","v":"ابيض كروشيه 8mm"},null,{"$f":"IF(ISNUMBER(SEARCH(B16,CI16)),MAX($CH$2:CH15)+1,0)","v":13},{"$f":"'الرصيد الثابت'!D15","v":"ابيض كروشيه 1cm"}]
["",null,{"$f":"IF(B17=\"\",\"\",SUMIF('الرصيد الثابت'!$D$2:$D$106,B17,'الرصيد الثابت'!$H$2:$H$106))","v":""},{"$f":"IF(B17=\"\",\"\",SUMIF('الرصيد الثابت'!$D$2:$D$106,B17,'الرصيد الثابت'!$I$2:$I$106))","v":""},{"$f":"IF(B17=\"\",\"\",SUMIF('الرصيد الثابت'!$D$2:$D$106,B17,'الرصيد الثابت'!$J$2:$J$106))","v":""},null,0,null,null,null,null,0,null,null,null,0,null,0,null,null,null,null,null,null,null,null,null,null,null,null,null,null,null,null,null,null,null,null,null,null,null,null,null,null,null,null,null,null,null,null,null,null,null,null,null,null,null,null,null,null,null,null,null,null,null,null,null,null,null,null,null,null,null,null,null,null,null,null,null,null,null,null,null,{"$f":"IFERROR(VLOOKUP(ROWS($CF$3:CF17),$CH$3:$CI$2001,2,FALSE),\"\")","v":"ابيض كروشيه 7mm"},null,{"$f":"IF(ISNUMBER(SEARCH(B17,CI17)),MAX($CH$2:CH16)+1,0)","v":14},{"$f":"'الرصيد الثابت'!D16","v":"ابيض كروشيه 8mm"}]
["",null,{"$f":"IF(B18=\"\",\"\",SUMIF('الرصيد الثابت'!$D$2:$D$106,B18,'الرصيد الثابت'!$H$2:$H$106))","v":""},{"$f":"IF(B18=\"\",\"\",SUMIF('الرصيد الثابت'!$D$2:$D$106,B18,'الرصيد الثابت'!$I$2:$I$106))","v":""},{"$f":"IF(B18=\"\",\"\",SUMIF('الرصيد الثابت'!$D$2:$D$106,B18,'الرصيد الثابت'!$J$2:$J$106))","v":""},null,0,null,null,null,null,0,null,null,null,0,null,0,null,null,null,null,null,null,null,null,null,null,null,null,null,null,null,null,null,null,null,null,null,null,null,null,null,null,null,null,null,null,null,null,null,null,null,null,null,null,null,null,null,null,null,null,null,null,null,null,null,null,null,null,null,null,null,null,null,null,null,null,null,null,null,null,null,{"$f":"IFERROR(VLOOKUP(ROWS($CF$3:CF18),$CH$3:$CI$2001,2,FALSE),\"\")","v":"ابيض كروشيه 6mm"},null,{"$f":"IF(ISNUMBER(SEARCH(B18,CI18)),MAX($CH$2:CH17)+1,0)","v":15},{"$f":"'الرصيد الثابت'!D17","v":"ابيض كروشيه 7mm"}]
["",null,{"$f":"IF(B19=\"\",\"\",SUMIF('الرصيد الثابت'!$D$2:$D$106,B19,'الرصيد الثابت'!$H$2:$H$106))","v":""},{"$f":"IF(B19=\"\",\"\",SUMIF('الرصيد الثابت'!$D$2:$D$106,B19,'الرصيد الثابت'!$I$2:$I$106))","v":""},{"$f":"IF(B19=\"\",\"\",SUMIF('الرصيد الثابت'!$D$2:$D$106,B19,'الرصيد الثابت'!$J$2:$J$106))","v":""},null,0,null,null,null,null,0,null,null,null,0,null,0,null,null,null,null,null,null,null,null,null,null,null,null,null,null,null,null,null,null,null,null,null,null,null,null,null,null,null,null,null,null,null,null,null,null,null,null,null,null,null,null,null,null,null,null,null,null,null,null,null,null,null,null,null,null,null,null,null,null,null,null,null,null,null,null,null,{"$f":"IFERROR(VLOOKUP(ROWS($CF$3:CF19),$CH$3:$CI$2001,2,FALSE),\"\")","v":"ابيض كروشيه 5mm"},null,{"$f":"IF(ISNUMBER(SEARCH(B19,CI19)),MAX($CH$2:CH18)+1,0)","v":16},{"$f":"'الرصيد الثابت'!D18","v":"ابيض كروشيه 6mm"}]
["",null,{"$f":"IF(B20=\"\",\"\",SUMIF('الرصيد الثابت'!$D$2:$D$106,B20,'الرصيد الثابت'!$H$2:$H$106))","v":""},{"$f":"IF(B20=\"\",\"\",SUMIF('الرصيد الثابت'!$D$2:$D$106,B20,'الرصيد الثابت'!$I$2:$I$106))","v":""},{"$f":"IF(B20=\"\",\"\",SUMIF('الرصيد الثابت'!$D$2:$D$106,B20,'الرصيد الثابت'!$J$2:$J$106))","v":""},null,0,null,null,null,null,0,null,null,null,0,null,0,null,null,null,null,null,null,null,null,null,null,null,null,null,null,null,null,null,null,null,null,null,null,null,null,null,null,null,null,null,null,null,null,null,null,null,null,null,null,null,null,null,null,null,null,null,null,null,null,null,null,null,null,null,null,null,null,null,null,null,null,null,null,null,null,null,{"$f":"IFERROR(VLOOKUP(ROWS($CF$3:CF20),$CH$3:$CI$2001,2,FALSE),\"\")","v":"ابيض كروشيه 2.5cm"},null,{"$f":"IF(ISNUMBER(SEARCH(B20,CI20)),MAX($CH$2:CH19)+1,0)","v":17},{"$f":"'الرصيد الثابت'!D19","v":"ابيض كروشيه 5mm"}]
["",null,{"$f":"IF(B21=\"\",\"\",SUMIF('الرصيد الثابت'!$D$2:$D$106,B21,'الرصيد الثابت'!$H$2:$H$106))","v":""},{"$f":"IF(B21=\"\",\"\",SUMIF('الرصيد الثابت'!$D$2:$D$106,B21,'الرصيد الثابت'!$I$2:$I$106))","v":""},{"$f":"IF(B21=\"\",\"\",SUMIF('الرصيد الثابت'!$D$2:$D$106,B21,'الرصيد الثابت'!$J$2:$J$106))","v":""},null,0,null,null,null,null,0,null,null,null,0,null,0,null,null,null,null,null,null,null,null,null,null,null,null,null,null,null,null,null,null,null,null,null,null,null,null,null,null,null,null,null,null,null,null,null,null,null,null,null,null,null,null,null,null,null,null,null,null,null,null,null,null,null,null,null,null,null,null,null,null,null,null,null,null,null,null,null,{"$f":"IFERROR(VLOOKUP(ROWS($CF$3:CF21),$CH$3:$CI$2001,2,FALSE),\"\")","v":"ابيض كروشيه 6.5cm"},null,{"$f":"IF(ISNUMBER(SEARCH(B21,CI21)),MAX($CH$2:CH20)+1,0)","v":18},{"$f":"'الرصيد الثابت'!D20","v":"ابيض كروشيه 2.5cm"}]
["",null,{"$f":"IF(B22=\"\",\"\",SUMIF('الرصيد الثابت'!$D$2:$D$106,B22,'الرصيد الثابت'!$H$2:$H$106))","v":""},{"$f":"IF(B22=\"\",\"\",SUMIF('الرصيد الثابت'!$D$2:$D$106,B22,'الرصيد الثابت'!$I$2:$I$106))","v":""},{"$f":"IF(B22=\"\",\"\",SUMIF('الرصيد الثابت'!$D$2:$D$106,B22,'الرصيد الثابت'!$J$2:$J$106))","v":""},null,0,null,null,null,null,0,null,null,null,0,null,0,null,null,null,null,null,null,null,null,null,null,null,null,null,null,null,null,null,null,null,null,null,null,null,null,null,null,null,null,null,null,null,null,null,null,null,null,null,null,null,null,null,null,null,null,null,null,null,null,null,null,null,null,null,null,null,null,null,null,null,null,null,null,null,null,null,{"$f":"IFERROR(VLOOKUP(ROWS($CF$3:CF22),$CH$3:$CI$2001,2,FALSE),\"\")","v":"ابيض كروشيه 1.8cm"},null,{"$f":"IF(ISNUMBER(SEARCH(B22,CI22)),MAX($CH$2:CH21)+1,0)","v":19},{"$f":"'الرصيد الثابت'!D21","v":"ابيض كروشيه 6.5cm"}]
["",null,{"$f":"IF(B23=\"\",\"\",SUMIF('الرصيد الثابت'!$D$2:$D$106,B23,'الرصيد الثابت'!$H$2:$H$106))","v":""},{"$f":"IF(B23=\"\",\"\",SUMIF('الرصيد الثابت'!$D$2:$D$106,B23,'الرصيد الثابت'!$I$2:$I$106))","v":""},{"$f":"IF(B23=\"\",\"\",SUMIF('الرصيد الثابت'!$D$2:$D$106,B23,'الرصيد الثابت'!$J$2:$J$106))","v":""},null,0,null,null,null,null,0,null,null,null,0,null,0,null,null,null,null,null,null,null,null,null,null,null,null,null,null,null,null,null,null,null,null,null,null,null,null,null,null,null,null,null,null,null,null,null,null,null,null,null,null,null,null,null,null,null,null,null,null,null,null,null,null,null,null,null,null,null,null,null,null,null,null,null,null,null,null,null,{"$f":"IFERROR(VLOOKUP(ROWS($CF$3:CF23),$CH$3:$CI$2001,2,FALSE),\"\")","v":"ابيض كروشيه 1.8"},null,{"$f":"IF(ISNUMBER(SEARCH(B23,CI23)),MAX($CH$2:CH22)+1,0)","v":20},{"$f":"'الرصيد الثابت'!D22","v":"ابيض كروشيه 1.8cm"}]
["",null,{"$f":"IF(B24=\"\",\"\",SUMIF('الرصيد الثابت'!$D$2:$D$106,B24,'الرصيد الثابت'!$H$2:$H$106))","v":""},{"$f":"IF(B24=\"\",\"\",SUMIF('الرصيد الثابت'!$D$2:$D$106,B24,'الرصيد الثابت'!$I$2:$I$106))","v":""},{"$f":"IF(B24=\"\",\"\",SUMIF('الرصيد الثابت'!$D$2:$D$106,B24,'الرصيد الثابت'!$J$2:$J$106))","v":""},null,0,null,null,null,null,0,null,null,null,0,null,0,null,null,null,null,null,null,null,null,null,null,null,null,null,null,null,null,null,null,null,null,null,null,null,null,null,null,null,null,null,null,null,null,null,null,null,null,null,null,null,null,null,null,null,null,null,null,null,null,null,null,null,null,null,null,null,null,null,null,null,null,null,null,null,null,null,{"$f":"IFERROR(VLOOKUP(ROWS($CF$3:CF24),$CH$3:$CI$2001,2,FALSE),\"\")","v":"ابيض كروشيه .8m"},null,{"$f":"IF(ISNUMBER(SEARCH(B24,CI24)),MAX($CH$2:CH23)+1,0)","v":21},{"$f":"'الرصيد الثابت'!D23","v":"ابيض كروشيه 1.8"}]
["",null,{"$f":"IF(B25=\"\",\"\",SUMIF('الرصيد الثابت'!$D$2:$D$106,B25,'الرصيد الثابت'!$H$2:$H$106))","v":""},{"$f":"IF(B25=\"\",\"\",SUMIF('الرصيد الثابت'!$D$2:$D$106,B25,'الرصيد الثابت'!$I$2:$I$106))","v":""},{"$f":"IF(B25=\"\",\"\",SUMIF('الرصيد الثابت'!$D$2:$D$106,B25,'الرصيد الثابت'!$J$2:$J$106))","v":""},null,0,null,null,null,null,0,null,null,null,0,null,0,null,null,null,null,null,null,null,null,null,null,null,null,null,null,null,null,null,null,null,null,null,null,null,null,null,null,null,null,null,null,null,null,null,null,null,null,null,null,null,null,null,null,null,null,null,null,null,null,null,null,null,null,null,null,null,null,null,null,null,null,null,null,null,null,null,{"$f":"IFERROR(VLOOKUP(ROWS($CF$3:CF25),$CH$3:$CI$2001,2,FALSE),\"\")","v":"ابيض كروشيه 7cm"},null,{"$f":"IF(ISNUMBER(SEARCH(B25,CI25)),MAX($CH$2:CH24)+1,0)","v":22},{"$f":"'الرصيد الثابت'!D24","v":"ابيض كروشيه .8m"}]
["",null,{"$f":"IF(B26=\"\",\"\",SUMIF('الرصيد الثابت'!$D$2:$D$106,B26,'الرصيد الثابت'!$H$2:$H$106))","v":""},{"$f":"IF(B26=\"\",\"\",SUMIF('الرصيد الثابت'!$D$2:$D$106,B26,'الرصيد الثابت'!$I$2:$I$106))","v":""},{"$f":"IF(B26=\"\",\"\",SUMIF('الرصيد الثابت'!$D$2:$D$106,B26,'الرصيد الثابت'!$J$2:$J$106))","v":""},null,0,null,null,null,null,0,null,null,null,0,null,0,null,null,null,null,null,null,null,null,null,null,null,null,null,null,null,null,null,null,null,null,null,null,null,null,null,null,null,null,null,null,null,null,null,null,null,null,null,null,null,null,null,null,null,null,null,null,null,null,null,null,null,null,null,null,null,null,null,null,null,null,null,null,null,null,null,{"$f":"IFERROR(VLOOKUP(ROWS($CF$3:CF26),$CH$3:$CI$2001,2,FALSE),\"\")","v":"ابيض كروشيه 6.3cm"},null,{"$f":"IF(ISNUMBER(SEARCH(B26,CI26)),MAX($CH$2:CH25)+1,0)","v":23},{"$f":"'الرصيد الثابت'!D25","v":"ابيض كروشيه 7cm"}]
["",null,{"$f":"IF(B27=\"\",\"\",SUMIF('الرصيد الثابت'!$D$2:$D$106,B27,'الرصيد الثابت'!$H$2:$H$106))","v":""},{"$f":"IF(B27=\"\",\"\",SUMIF('الرصيد الثابت'!$D$2:$D$106,B27,'الرصيد الثابت'!$I$2:$I$106))","v":""},{"$f":"IF(B27=\"\",\"\",SUMIF('الرصيد الثابت'!$D$2:$D$106,B27,'الرصيد الثابت'!$J$2:$J$106))","v":""},null,0,null,null,null,null,0,null,null,null,0,null,0,null,null,null,null,null,null,null,null,null,null,null,null,null,null,null,null,null,null,null,null,null,null,null,null,null,null,null,null,null,null,null,null,null,null,null,null,null,null,null,null,null,null,null,null,null,null,null,null,null,null,null,null,null,null,null,null,null,null,null,null,null,null,null,null,null,{"$f":"IFERROR(VLOOKUP(ROWS($CF$3:CF27),$CH$3:$CI$2001,2,FALSE),\"\")","v":"ابيض كروشيه 0.2m"},null,{"$f":"IF(ISNUMBER(SEARCH(B27,CI27)),MAX($CH$2:CH26)+1,0)","v":24},{"$f":"'الرصيد الثابت'!D26","v":"ابيض كروشيه 6.3cm"}]
["",null,{"$f":"IF(B28=\"\",\"\",SUMIF('الرصيد الثابت'!$D$2:$D$106,B28,'الرصيد الثابت'!$H$2:$H$106))","v":""},{"$f":"IF(B28=\"\",\"\",SUMIF('الرصيد الثابت'!$D$2:$D$106,B28,'الرصيد الثابت'!$I$2:$I$106))","v":""},{"$f":"IF(B28=\"\",\"\",SUMIF('الرصيد الثابت'!$D$2:$D$106,B28,'الرصيد الثابت'!$J$2:$J$106))","v":""},null,0,null,null,null,null,0,null,null,null,0,null,0,null,null,null,null,null,null,null,null,null,null,null,null,null,null,null,null,null,null,null,null,null,null,null,null,null,null,null,null,null,null,null,null,null,null,null,null,null,null,null,null,null,null,null,null,null,null,null,null,null,null,null,null,null,null,null,null,null,null,null,null,null,null,null,null,null,{"$f":"IFERROR(VLOOKUP(ROWS($CF$3:CF28),$CH$3:$CI$2001,2,FALSE),\"\")","v":"ابيض كروشيه .5m"},null,{"$f":"IF(ISNUMBER(SEARCH(B28,CI28)),MAX($CH$2:CH27)+1,0)","v":25},{"$f":"'الرصيد الثابت'!D27","v":"ابيض كروشيه 0.2m"}]
["",null,{"$f":"IF(B29=\"\",\"\",SUMIF('الرصيد الثابت'!$D$2:$D$106,B29,'الرصيد الثابت'!$H$2:$H$106))","v":""},{"$f":"IF(B29=\"\",\"\",SUMIF('الرصيد الثابت'!$D$2:$D$106,B29,'الرصيد الثابت'!$I$2:$I$106))","v":""},{"$f":"IF(B29=\"\",\"\",SUMIF('الرصيد الثابت'!$D$2:$D$106,B29,'الرصيد الثابت'!$J$2:$J$106))","v":""},null,0,null,null,null,null,0,null,null,null,0,null,0,null,null,null,null,null,null,null,null,null,null,null,null,null,null,null,null,null,null,null,null,null,null,null,null,null,null,null,null,null,null,null,null,null,null,null,null,null,null,null,null,null,null,null,null,null,null,null,null,null,null,null,null,null,null,null,null,null,null,null,null,null,null,null,null,null,{"$f":"IFERROR(VLOOKUP(ROWS($CF$3:CF29),$CH$3:$CI$2001,2,FALSE),\"\")","v":"ابيض كروشيه .6m"},null,{"$f":"IF(ISNUMBER(SEARCH(B29,CI29)),MAX($CH$2:CH28)+1,0)","v":26},{"$f":"'الرصيد الثابت'!D28","v":"ابيض كروشيه .5m"}]
["",null,{"$f":"IF(B30=\"\",\"\",SUMIF('الرصيد الثابت'!$D$2:$D$106,B30,'الرصيد الثابت'!$H$2:$H$106))","v":""},{"$f":"IF(B30=\"\",\"\",SUMIF('الرصيد الثابت'!$D$2:$D$106,B30,'الرصيد الثابت'!$I$2:$I$106))","v":""},{"$f":"IF(B30=\"\",\"\",SUMIF('الرصيد الثابت'!$D$2:$D$106,B30,'الرصيد الثابت'!$J$2:$J$106))","v":""},null,0,null,null,null,null,0,null,null,null,0,null,0,null,null,null,null,null,null,null,null,null,null,null,null,null,null,null,null,null,null,null,null,null,null,null,null,null,null,null,null,null,null,null,null,null,null,null,null,null,null,null,null,null,null,null,null,null,null,null,null,null,null,null,null,null,null,null,null,null,null,null,null,null,null,null,null,null,{"$f":"IFERROR(VLOOKUP(ROWS($CF$3:CF30),$CH$3:$CI$2001,2,FALSE),\"\")","v":"ابيض كروشيه .7m"},null,{"$f":"IF(ISNUMBER(SEARCH(B30,CI30)),MAX($CH$2:CH29)+1,0)","v":27},{"$f":"'الرصيد الثابت'!D29","v":"ابيض كروشيه .6m"}]
["",null,{"$f":"IF(B31=\"\",\"\",SUMIF('الرصيد الثابت'!$D$2:$D$106,B31,'الرصيد الثابت'!$H$2:$H$106))","v":""},{"$f":"IF(B31=\"\",\"\",SUMIF('الرصيد الثابت'!$D$2:$D$106,B31,'الرصيد الثابت'!$I$2:$I$106))","v":""},{"$f":"IF(B31=\"\",\"\",SUMIF('الرصيد الثابت'!$D$2:$D$106,B31,'الرصيد الثابت'!$J$2:$J$106))","v":""},null,0,null,null,null,null,0,null,null,null,0,null,0,null,null,null,null,null,null,null,null,null,null,null,null,null,null,null,null,null,null,null,null,null,null,null,null,null,null,null,null,null,null,null,null,null,null,null,null,null,null,null,null,null,null,null,null,null,null,null,null,null,null,null,null,null,null,null,null,null,null,null,null,null,null,null,null,null,{"$f":"IFERROR(VLOOKUP(ROWS($CF$3:CF31),$CH$3:$CI$2001,2,FALSE),\"\")","v":"ابيض كروشيه 1.6cm"},null,{"$f":"IF(ISNUMBER(SEARCH(B31,CI31)),MAX($CH$2:CH30)+1,0)","v":28},{"$f":"'الرصيد الثابت'!D30","v":"ابيض كروشيه .7m"}]
["",null,{"$f":"IF(B32=\"\",\"\",SUMIF('الرصيد الثابت'!$D$2:$D$106,B32,'الرصيد الثابت'!$H$2:$H$106))","v":""},{"$f":"IF(B32=\"\",\"\",SUMIF('الرصيد الثابت'!$D$2:$D$106,B32,'الرصيد الثابت'!$I$2:$I$106))","v":""},{"$f":"IF(B32=\"\",\"\",SUMIF('الرصيد الثابت'!$D$2:$D$106,B32,'الرصيد الثابت'!$J$2:$J$106))","v":""},null,0,null,null,null,null,0,null,null,null,0,null,0,null,null,null,null,null,null,null,null,null,null,null,null,null,null,null,null,null,null,null,null,null,null,null,null,null,null,null,null,null,null,null,null,null,null,null,null,null,null,null,null,null,null,null,null,null,null,null,null,null,null,null,null,null,null,null,null,null,null,null,null,null,null,null,null,null,{"$f":"IFERROR(VLOOKUP(ROWS($CF$3:CF32),$CH$3:$CI$2001,2,FALSE),\"\")","v":"ابيض كروشيه 1.3cm"},null,{"$f":"IF(ISNUMBER(SEARCH(B32,CI32)),MAX($CH$2:CH31)+1,0)","v":29},{"$f":"'الرصيد الثابت'!D31","v":"ابيض كروشيه 1.6cm"}]
["",null,{"$f":"IF(B33=\"\",\"\",SUMIF('الرصيد الثابت'!$D$2:$D$106,B33,'الرصيد الثابت'!$H$2:$H$106))","v":""},{"$f":"IF(B33=\"\",\"\",SUMIF('الرصيد الثابت'!$D$2:$D$106,B33,'الرصيد الثابت'!$I$2:$I$106))","v":""},{"$f":"IF(B33=\"\",\"\",SUMIF('الرصيد الثابت'!$D$2:$D$106,B33,'الرصيد الثابت'!$J$2:$J$106))","v":""},null,0,null,null,null,null,0,null,null,null,0,null,0,null,null,null,null,null,null,null,null,null,null,null,null,null,null,null,null,null,null,null,null,null,null,null,null,null,null,null,null,null,null,null,null,null,null,null,null,null,null,null,null,null,null,null,null,null,null,null,null,null,null,null,null,null,null,null,null,null,null,null,null,null,null,null,null,null,{"$f":"IFERROR(VLOOKUP(ROWS($CF$3:CF33),$CH$3:$CI$2001,2,FALSE),\"\")","v":"ابيض كروشيه 1.8.cm"},null,{"$f":"IF(ISNUMBER(SEARCH(B33,CI33)),MAX($CH$2:CH32)+1,0)","v":30},{"$f":"'الرصيد الثابت'!D32","v":"ابيض كروشيه 1.3cm"}]
["",null,{"$f":"IF(B34=\"\",\"\",SUMIF('الرصيد الثابت'!$D$2:$D$106,B34,'الرصيد الثابت'!$H$2:$H$106))","v":""},{"$f":"IF(B34=\"\",\"\",SUMIF('الرصيد الثابت'!$D$2:$D$106,B34,'الرصيد الثابت'!$I$2:$I$106))","v":""},{"$f":"IF(B34=\"\",\"\",SUMIF('الرصيد الثابت'!$D$2:$D$106,B34,'الرصيد الثابت'!$J$2:$J$106))","v":""},null,0,null,null,null,null,0,null,null,null,0,null,0,null,null,null,null,null,null,null,null,null,null,null,null,null,null,null,null,null,null,null,null,null,null,null,null,null,null,null,null,null,null,null,null,null,null,null,null,null,null,null,null,null,null,null,null,null,null,null,null,null,null,null,null,null,null,null,null,null,null,null,null,null,null,null,null,null,{"$f":"IFERROR(VLOOKUP(ROWS($CF$3:CF34),$CH$3:$CI$2001,2,FALSE),\"\")","v":"ابيض ووفين فستون 1cm"},null,{"$f":"IF(ISNUMBER(SEARCH(B34,CI34)),MAX($CH$2:CH33)+1,0)","v":31},{"$f":"'الرصيد الثابت'!D33","v":"ابيض كروشيه 1.8.cm"}]
["",null,{"$f":"IF(B35=\"\",\"\",SUMIF('الرصيد الثابت'!$D$2:$D$106,B35,'الرصيد الثابت'!$H$2:$H$106))","v":""},{"$f":"IF(B35=\"\",\"\",SUMIF('الرصيد الثابت'!$D$2:$D$106,B35,'الرصيد الثابت'!$I$2:$I$106))","v":""},{"$f":"IF(B35=\"\",\"\",SUMIF('الرصيد الثابت'!$D$2:$D$106,B35,'الرصيد الثابت'!$J$2:$J$106))","v":""},null,0,null,null,null,null,0,null,null,null,0,null,0,null,null,null,null,null,null,null,null,null,null,null,null,null,null,null,null,null,null,null,null,null,null,null,null,null,null,null,null,null,null,null,null,null,null,null,null,null,null,null,null,null,null,null,null,null,null,null,null,null,null,null,null,null,null,null,null,null,null,null,null,null,null,null,null,null,{"$f":"IFERROR(VLOOKUP(ROWS($CF$3:CF35),$CH$3:$CI$2001,2,FALSE),\"\")","v":"ابيض استك طبي 3.18"},null,{"$f":"IF(ISNUMBER(SEARCH(B35,CI35)),MAX($CH$2:CH34)+1,0)","v":32},{"$f":"'الرصيد الثابت'!D34","v":"ابيض ووفين فستون 1cm"}]
["",null,{"$f":"IF(B36=\"\",\"\",SUMIF('الرصيد الثابت'!$D$2:$D$106,B36,'الرصيد الثابت'!$H$2:$H$106))","v":""},{"$f":"IF(B36=\"\",\"\",SUMIF('الرصيد الثابت'!$D$2:$D$106,B36,'الرصيد الثابت'!$I$2:$I$106))","v":""},{"$f":"IF(B36=\"\",\"\",SUMIF('الرصيد الثابت'!$D$2:$D$106,B36,'الرصيد الثابت'!$J$2:$J$106))","v":""},null,0,null,null,null,null,0,null,null,null,0,null,0,null,null,null,null,null,null,null,null,null,null,null,null,null,null,null,null,null,null,null,null,null,null,null,null,null,null,null,null,null,null,null,null,null,null,null,null,null,null,null,null,null,null,null,null,null,null,null,null,null,null,null,null,null,null,null,null,null,null,null,null,null,null,null,null,null,{"$f":"IFERROR(VLOOKUP(ROWS($CF$3:CF36),$CH$3:$CI$2001,2,FALSE),\"\")","v":"ابيض استك طبي 4.14"},null,{"$f":"IF(ISNUMBER(SEARCH(B36,CI36)),MAX($CH$2:CH35)+1,0)","v":33},{"$f":"'الرصيد الثابت'!D35","v":"ابيض استك طبي 3.18"}]
["",null,{"$f":"IF(B37=\"\",\"\",SUMIF('الرصيد الثابت'!$D$2:$D$106,B37,'الرصيد الثابت'!$H$2:$H$106))","v":""},{"$f":"IF(B37=\"\",\"\",SUMIF('الرصيد الثابت'!$D$2:$D$106,B37,'الرصيد الثابت'!$I$2:$I$106))","v":""},{"$f":"IF(B37=\"\",\"\",SUMIF('الرصيد الثابت'!$D$2:$D$106,B37,'الرصيد الثابت'!$J$2:$J$106))","v":""},null,0,null,null,null,null,0,null,null,null,0,null,0,null,null,null,null,null,null,null,null,null,null,null,null,null,null,null,null,null,null,null,null,null,null,null,null,null,null,null,null,null,null,null,null,null,null,null,null,null,null,null,null,null,null,null,null,null,null,null,null,null,null,null,null,null,null,null,null,null,null,null,null,null,null,null,null,null,{"$f":"IFERROR(VLOOKUP(ROWS($CF$3:CF37),$CH$3:$CI$2001,2,FALSE),\"\")","v":"ابيض استك طبي 2.78"},null,{"$f":"IF(ISNUMBER(SEARCH(B37,CI37)),MAX($CH$2:CH36)+1,0)","v":34},{"$f":"'الرصيد الثابت'!D36","v":"ابيض استك طبي 4.14"}]
["",null,{"$f":"IF(B38=\"\",\"\",SUMIF('الرصيد الثابت'!$D$2:$D$106,B38,'الرصيد الثابت'!$H$2:$H$106))","v":""},{"$f":"IF(B38=\"\",\"\",SUMIF('الرصيد الثابت'!$D$2:$D$106,B38,'الرصيد الثابت'!$I$2:$I$106))","v":""},{"$f":"IF(B38=\"\",\"\",SUMIF('الرصيد الثابت'!$D$2:$D$106,B38,'الرصيد الثابت'!$J$2:$J$106))","v":""},null,0,null,null,null,null,0,null,null,null,0,null,0,null,null,null,null,null,null,null,null,null,null,null,null,null,null,null,null,null,null,null,null,null,null,null,null,null,null,null,null,null,null,null,null,null,null,null,null,null,null,null,null,null,null,null,null,null,null,null,null,null,null,null,null,null,null,null,null,null,null,null,null,null,null,null,null,null,{"$f":"IFERROR(VLOOKUP(ROWS($CF$3:CF38),$CH$3:$CI$2001,2,FALSE),\"\")","v":"ابيض استك طبي 7.52"},null,{"$f":"IF(ISNUMBER(SEARCH(B38,CI38)),MAX($CH$2:CH37)+1,0)","v":35},{"$f":"'الرصيد الثابت'!D37","v":"ابيض استك طبي 2.78"}]
["",null,{"$f":"IF(B39=\"\",\"\",SUMIF('الرصيد الثابت'!$D$2:$D$106,B39,'الرصيد الثابت'!$H$2:$H$106))","v":""},{"$f":"IF(B39=\"\",\"\",SUMIF('الرصيد الثابت'!$D$2:$D$106,B39,'الرصيد الثابت'!$I$2:$I$106))","v":""},{"$f":"IF(B39=\"\",\"\",SUMIF('الرصيد الثابت'!$D$2:$D$106,B39,'الرصيد الثابت'!$J$2:$J$106))","v":""},null,0,null,null,null,null,0,null,null,null,0,null,0,null,null,null,null,null,null,null,null,null,null,null,null,null,null,null,null,null,null,null,null,null,null,null,null,null,null,null,null,null,null,null,null,null,null,null,null,null,null,null,null,null,null,null,null,null,null,null,null,null,null,null,null,null,null,null,null,null,null,null,null,null,null,null,null,null,{"$f":"IFERROR(VLOOKUP(ROWS($CF$3:CF39),$CH$3:$CI$2001,2,FALSE),\"\")","v":"ابيض استك طبي 3.5"},null,{"$f":"IF(ISNUMBER(SEARCH(B39,CI39)),MAX($CH$2:CH38)+1,0)","v":36},{"$f":"'الرصيد الثابت'!D38","v":"ابيض استك طبي 7.52"}]
["",null,{"$f":"IF(B40=\"\",\"\",SUMIF('الرصيد الثابت'!$D$2:$D$106,B40,'الرصيد الثابت'!$H$2:$H$106))","v":""},{"$f":"IF(B40=\"\",\"\",SUMIF('الرصيد الثابت'!$D$2:$D$106,B40,'الرصيد الثابت'!$I$2:$I$106))","v":""},{"$f":"IF(B40=\"\",\"\",SUMIF('الرصيد الثابت'!$D$2:$D$106,B40,'الرصيد الثابت'!$J$2:$J$106))","v":""},null,0,null,null,null,null,0,null,null,null,0,null,0,null,null,null,null,null,null,null,null,null,null,null,null,null,null,null,null,null,null,null,null,null,null,null,null,null,null,null,null,null,null,null,null,null,null,null,null,null,null,null,null,null,null,null,null,null,null,null,null,null,null,null,null,null,null,null,null,null,null,null,null,null,null,null,null,null,{"$f":"IFERROR(VLOOKUP(ROWS($CF$3:CF40),$CH$3:$CI$2001,2,FALSE),\"\")","v":"ابيض استك طبي 3.3"},null,{"$f":"IF(ISNUMBER(SEARCH(B40,CI40)),MAX($CH$2:CH39)+1,0)","v":37},{"$f":"'الرصيد الثابت'!D39","v":"ابيض استك طبي 3.5"}]
["",null,{"$f":"IF(B41=\"\",\"\",SUMIF('الرصيد الثابت'!$D$2:$D$106,B41,'الرصيد الثابت'!$H$2:$H$106))","v":""},{"$f":"IF(B41=\"\",\"\",SUMIF('الرصيد الثابت'!$D$2:$D$106,B41,'الرصيد الثابت'!$I$2:$I$106))","v":""},{"$f":"IF(B41=\"\",\"\",SUMIF('الرصيد الثابت'!$D$2:$D$106,B41,'الرصيد الثابت'!$J$2:$J$106))","v":""},null,0,null,null,null,null,0,null,null,null,0,null,0,null,null,null,null,null,null,null,null,null,null,null,null,null,null,null,null,null,null,null,null,null,null,null,null,null,null,null,null,null,null,null,null,null,null,null,null,null,null,null,null,null,null,null,null,null,null,null,null,null,null,null,null,null,null,null,null,null,null,null,null,null,null,null,null,null,{"$f":"IFERROR(VLOOKUP(ROWS($CF$3:CF41),$CH$3:$CI$2001,2,FALSE),\"\")","v":"ابيض استك طبي 3.36"},null,{"$f":"IF(ISNUMBER(SEARCH(B41,CI41)),MAX($CH$2:CH40)+1,0)","v":38},{"$f":"'الرصيد الثابت'!D40","v":"ابيض استك طبي 3.3"}]
["",null,{"$f":"IF(B42=\"\",\"\",SUMIF('الرصيد الثابت'!$D$2:$D$106,B42,'الرصيد الثابت'!$H$2:$H$106))","v":""},{"$f":"IF(B42=\"\",\"\",SUMIF('الرصيد الثابت'!$D$2:$D$106,B42,'الرصيد الثابت'!$I$2:$I$106))","v":""},{"$f":"IF(B42=\"\",\"\",SUMIF('الرصيد الثابت'!$D$2:$D$106,B42,'الرصيد الثابت'!$J$2:$J$106))","v":""},null,0,null,null,null,null,0,null,null,null,0,null,0,null,null,null,null,null,null,null,null,null,null,null,null,null,null,null,null,null,null,null,null,null,null,null,null,null,null,null,null,null,null,null,null,null,null,null,null,null,null,null,null,null,null,null,null,null,null,null,null,null,null,null,null,null,null,null,null,null,null,null,null,null,null,null,null,null,{"$f":"IFERROR(VLOOKUP(ROWS($CF$3:CF42),$CH$3:$CI$2001,2,FALSE),\"\")","v":"ابيض استك طبي 2.58"},null,{"$f":"IF(ISNUMBER(SEARCH(B42,CI42)),MAX($CH$2:CH41)+1,0)","v":39},{"$f":"'الرصيد الثابت'!D41","v":"ابيض استك طبي 3.36"}]
["",null,{"$f":"IF(B43=\"\",\"\",SUMIF('الرصيد الثابت'!$D$2:$D$106,B43,'الرصيد الثابت'!$H$2:$H$106))","v":""},{"$f":"IF(B43=\"\",\"\",SUMIF('الرصيد الثابت'!$D$2:$D$106,B43,'الرصيد الثابت'!$I$2:$I$106))","v":""},{"$f":"IF(B43=\"\",\"\",SUMIF('الرصيد الثابت'!$D$2:$D$106,B43,'الرصيد الثابت'!$J$2:$J$106))","v":""},null,0,null,null,null,null,0,null,null,null,0,null,0,null,null,null,null,null,null,null,null,null,null,null,null,null,null,null,null,null,null,null,null,null,null,null,null,null,null,null,null,null,null,null,null,null,null,null,null,null,null,null,null,null,null,null,null,null,null,null,null,null,null,null,null,null,null,null,null,null,null,null,null,null,null,null,null,null,{"$f":"IFERROR(VLOOKUP(ROWS($CF$3:CF43),$CH$3:$CI$2001,2,FALSE),\"\")","v":"ابيض استك طبي 3.02"},null,{"$f":"IF(ISNUMBER(SEARCH(B43,CI43)),MAX($CH$2:CH42)+1,0)","v":40},{"$f":"'الرصيد الثابت'!D42","v":"ابيض استك طبي 2.58"}]
["",null,{"$f":"IF(B44=\"\",\"\",SUMIF('الرصيد الثابت'!$D$2:$D$106,B44,'الرصيد الثابت'!$H$2:$H$106))","v":""},{"$f":"IF(B44=\"\",\"\",SUMIF('الرصيد الثابت'!$D$2:$D$106,B44,'الرصيد الثابت'!$I$2:$I$106))","v":""},{"$f":"IF(B44=\"\",\"\",SUMIF('الرصيد الثابت'!$D$2:$D$106,B44,'الرصيد الثابت'!$J$2:$J$106))","v":""},null,0,null,null,null,null,0,null,null,null,0,null,0,null,null,null,null,null,null,null,null,null,null,null,null,null,null,null,null,null,null,null,null,null,null,null,null,null,null,null,null,null,null,null,null,null,null,null,null,null,null,null,null,null,null,null,null,null,null,null,null,null,null,null,null,null,null,null,null,null,null,null,null,null,null,null,null,null,{"$f":"IFERROR(VLOOKUP(ROWS($CF$3:CF44),$CH$3:$CI$2001,2,FALSE),\"\")","v":"ابيض استك طبي 4.92"},null,{"$f":"IF(ISNUMBER(SEARCH(B44,CI44)),MAX($CH$2:CH43)+1,0)","v":41},{"$f":"'الرصيد الثابت'!D43","v":"ابيض استك طبي 3.02"}]
["",null,{"$f":"IF(B45=\"\",\"\",SUMIF('الرصيد الثابت'!$D$2:$D$106,B45,'الرصيد الثابت'!$H$2:$H$106))","v":""},{"$f":"IF(B45=\"\",\"\",SUMIF('الرصيد الثابت'!$D$2:$D$106,B45,'الرصيد الثابت'!$I$2:$I$106))","v":""},{"$f":"IF(B45=\"\",\"\",SUMIF('الرصيد الثابت'!$D$2:$D$106,B45,'الرصيد الثابت'!$J$2:$J$106))","v":""},null,0,null,null,null,null,0,null,null,null,0,null,0,null,null,null,null,null,null,null,null,null,null,null,null,null,null,null,null,null,null,null,null,null,null,null,null,null,null,null,null,null,null,null,null,null,null,null,null,null,null,null,null,null,null,null,null,null,null,null,null,null,null,null,null,null,null,null,null,null,null,null,null,null,null,null,null,null,{"$f":"IFERROR(VLOOKUP(ROWS($CF$3:CF45),$CH$3:$CI$2001,2,FALSE),\"\")","v":"ابيض فلاش كروشيه 5cm"},null,{"$f":"IF(ISNUMBER(SEARCH(B45,CI45)),MAX($CH$2:CH44)+1,0)","v":42},{"$f":"'الرصيد الثابت'!D44","v":"ابيض استك طبي 4.92"}]
["",null,{"$f":"IF(B46=\"\",\"\",SUMIF('الرصيد الثابت'!$D$2:$D$106,B46,'الرصيد الثابت'!$H$2:$H$106))","v":""},{"$f":"IF(B46=\"\",\"\",SUMIF('الرصيد الثابت'!$D$2:$D$106,B46,'الرصيد الثابت'!$I$2:$I$106))","v":""},{"$f":"IF(B46=\"\",\"\",SUMIF('الرصيد الثابت'!$D$2:$D$106,B46,'الرصيد الثابت'!$J$2:$J$106))","v":""},null,0,null,null,null,null,0,null,null,null,0,null,0,null,null,null,null,null,null,null,null,null,null,null,null,null,null,null,null,null,null,null,null,null,null,null,null,null,null,null,null,null,null,null,null,null,null,null,null,null,null,null,null,null,null,null,null,null,null,null,null,null,null,null,null,null,null,null,null,null,null,null,null,null,null,null,null,null,{"$f":"IFERROR(VLOOKUP(ROWS($CF$3:CF46),$CH$3:$CI$2001,2,FALSE),\"\")","v":"ابيض فلاش كروشيه 4.5cm"},null,{"$f":"IF(ISNUMBER(SEARCH(B46,CI46)),MAX($CH$2:CH45)+1,0)","v":43},{"$f":"'الرصيد الثابت'!D45","v":"ابيض فلاش كروشيه 5cm"}]
["",null,{"$f":"IF(B47=\"\",\"\",SUMIF('الرصيد الثابت'!$D$2:$D$106,B47,'الرصيد الثابت'!$H$2:$H$106))","v":""},{"$f":"IF(B47=\"\",\"\",SUMIF('الرصيد الثابت'!$D$2:$D$106,B47,'الرصيد الثابت'!$I$2:$I$106))","v":""},{"$f":"IF(B47=\"\",\"\",SUMIF('الرصيد الثابت'!$D$2:$D$106,B47,'الرصيد الثابت'!$J$2:$J$106))","v":""},null,0,null,null,null,null,0,null,null,null,0,null,0,null,null,null,null,null,null,null,null,null,null,null,null,null,null,null,null,null,null,null,null,null,null,null,null,null,null,null,null,null,null,null,null,null,null,null,null,null,null,null,null,null,null,null,null,null,null,null,null,null,null,null,null,null,null,null,null,null,null,null,null,null,null,null,null,null,{"$f":"IFERROR(VLOOKUP(ROWS($CF$3:CF47),$CH$3:$CI$2001,2,FALSE),\"\")","v":"ابيض فلاش كروشيه 3.5cm"},null,{"$f":"IF(ISNUMBER(SEARCH(B47,CI47)),MAX($CH$2:CH46)+1,0)","v":44},{"$f":"'الرصيد الثابت'!D46","v":"ابيض فلاش كروشيه 4.5cm"}]
["",null,{"$f":"IF(B48=\"\",\"\",SUMIF('الرصيد الثابت'!$D$2:$D$106,B48,'الرصيد الثابت'!$H$2:$H$106))","v":""},{"$f":"IF(B48=\"\",\"\",SUMIF('الرصيد الثابت'!$D$2:$D$106,B48,'الرصيد الثابت'!$I$2:$I$106))","v":""},{"$f":"IF(B48=\"\",\"\",SUMIF('الرصيد الثابت'!$D$2:$D$106,B48,'الرصيد الثابت'!$J$2:$J$106))","v":""},null,0,null,null,null,null,0,null,null,null,0,null,0,null,null,null,null,null,null,null,null,null,null,null,null,null,null,null,null,null,null,null,null,null,null,null,null,null,null,null,null,null,null,null,null,null,null,null,null,null,null,null,null,null,null,null,null,null,null,null,null,null,null,null,null,null,null,null,null,null,null,null,null,null,null,null,null,null,{"$f":"IFERROR(VLOOKUP(ROWS($CF$3:CF48),$CH$3:$CI$2001,2,FALSE),\"\")","v":"ابيض فلاش كروشيه 2cm"},null,{"$f":"IF(ISNUMBER(SEARCH(B48,CI48)),MAX($CH$2:CH47)+1,0)","v":45},{"$f":"'الرصيد الثابت'!D47","v":"ابيض فلاش كروشيه 3.5cm"}]
["",null,{"$f":"IF(B49=\"\",\"\",SUMIF('الرصيد الثابت'!$D$2:$D$106,B49,'الرصيد الثابت'!$H$2:$H$106))","v":""},{"$f":"IF(B49=\"\",\"\",SUMIF('الرصيد الثابت'!$D$2:$D$106,B49,'الرصيد الثابت'!$I$2:$I$106))","v":""},{"$f":"IF(B49=\"\",\"\",SUMIF('الرصيد الثابت'!$D$2:$D$106,B49,'الرصيد الثابت'!$J$2:$J$106))","v":""},null,0,null,null,null,null,0,null,null,null,0,null,0,null,null,null,null,null,null,null,null,null,null,null,null,null,null,null,null,null,null,null,null,null,null,null,null,null,null,null,null,null,null,null,null,null,null,null,null,null,null,null,null,null,null,null,null,null,null,null,null,null,null,null,null,null,null,null,null,null,null,null,null,null,null,null,null,null,{"$f":"IFERROR(VLOOKUP(ROWS($CF$3:CF49),$CH$3:$CI$2001,2,FALSE),\"\")","v":"ابيض كانون كروشيه 5.5cm"},null,{"$f":"IF(ISNUMBER(SEARCH(B49,CI49)),MAX($CH$2:CH48)+1,0)","v":46},{"$f":"'الرصيد الثابت'!D48","v":"ابيض فلاش كروشيه 2cm"}]
["",null,{"$f":"IF(B50=\"\",\"\",SUMIF('الرصيد الثابت'!$D$2:$D$106,B50,'الرصيد الثابت'!$H$2:$H$106))","v":""},{"$f":"IF(B50=\"\",\"\",SUMIF('الرصيد الثابت'!$D$2:$D$106,B50,'الرصيد الثابت'!$I$2:$I$106))","v":""},{"$f":"IF(B50=\"\",\"\",SUMIF('الرصيد الثابت'!$D$2:$D$106,B50,'الرصيد الثابت'!$J$2:$J$106))","v":""},null,0,null,null,null,null,0,null,null,null,0,null,0,null,null,null,null,null,null,null,null,null,null,null,null,null,null,null,null,null,null,null,null,null,null,null,null,null,null,null,null,null,null,null,null,null,null,null,null,null,null,null,null,null,null,null,null,null,null,null,null,null,null,null,null,null,null,null,null,null,null,null,null,null,null,null,null,null,{"$f":"IFERROR(VLOOKUP(ROWS($CF$3:CF50),$CH$3:$CI$2001,2,FALSE),\"\")","v":"ابيض كانون كروشيه 4.5cm"},null,{"$f":"IF(ISNUMBER(SEARCH(B50,CI50)),MAX($CH$2:CH49)+1,0)","v":47},{"$f":"'الرصيد الثابت'!D49","v":"ابيض كانون كروشيه 5.5cm"}]
["",null,{"$f":"IF(B51=\"\",\"\",SUMIF('الرصيد الثابت'!$D$2:$D$106,B51,'الرصيد الثابت'!$H$2:$H$106))","v":""},{"$f":"IF(B51=\"\",\"\",SUMIF('الرصيد الثابت'!$D$2:$D$106,B51,'الرصيد الثابت'!$I$2:$I$106))","v":""},{"$f":"IF(B51=\"\",\"\",SUMIF('الرصيد الثابت'!$D$2:$D$106,B51,'الرصيد الثابت'!$J$2:$J$106))","v":""},null,0,null,null,null,null,0,null,null,null,0,null,0,null,null,null,null,null,null,null,null,null,null,null,null,null,null,null,null,null,null,null,null,null,null,null,null,null,null,null,null,null,null,null,null,null,null,null,null,null,null,null,null,null,null,null,null,null,null,null,null,null,null,null,null,null,null,null,null,null,null,null,null,null,null,null,null,null,{"$f":"IFERROR(VLOOKUP(ROWS($CF$3:CF51),$CH$3:$CI$2001,2,FALSE),\"\")","v":"ابيض510 كروشيه 3cm"},null,{"$f":"IF(ISNUMBER(SEARCH(B51,CI51)),MAX($CH$2:CH50)+1,0)","v":48},{"$f":"'الرصيد الثابت'!D50","v":"ابيض كانون كروشيه 4.5cm"}]
["",null,{"$f":"IF(B52=\"\",\"\",SUMIF('الرصيد الثابت'!$D$2:$D$106,B52,'الرصيد الثابت'!$H$2:$H$106))","v":""},{"$f":"IF(B52=\"\",\"\",SUMIF('الرصيد الثابت'!$D$2:$D$106,B52,'الرصيد الثابت'!$I$2:$I$106))","v":""},{"$f":"IF(B52=\"\",\"\",SUMIF('الرصيد الثابت'!$D$2:$D$106,B52,'الرصيد الثابت'!$J$2:$J$106))","v":""},null,0,null,null,null,null,0,null,null,null,{"$f":"SUM(F2000-K2000)","v":0},null,{"$f":"SUM(S2000*Q2000)","v":0},null,null,null,null,null,null,null,null,null,null,null,null,null,null,null,null,null,null,null,null,null,null,null,null,null,null,null,null,null,null,null,null,null,null,null,null,null,null,null,null,null,null,null,null,null,null,null,null,null,null,null,null,null,null,null,null,null,null,null,null,null,null,null,null,null,{"$f":"IFERROR(VLOOKUP(ROWS($CF$3:CF52),$CH$3:$CI$2001,2,FALSE),\"\")","v":"ابيض510 كروشيه 4cm"},null,{"$f":"IF(ISNUMBER(SEARCH(B52,CI52)),MAX($CH$2:CH51)+1,0)","v":49},{"$f":"'الرصيد الثابت'!D51","v":"ابيض510 كروشيه 3cm"}]
["",null,{"$f":"IF(B53=\"\",\"\",SUMIF('الرصيد الثابت'!$D$2:$D$106,B53,'الرصيد الثابت'!$H$2:$H$106))","v":""},{"$f":"IF(B53=\"\",\"\",SUMIF('الرصيد الثابت'!$D$2:$D$106,B53,'الرصيد الثابت'!$I$2:$I$106))","v":""},{"$f":"IF(B53=\"\",\"\",SUMIF('الرصيد الثابت'!$D$2:$D$106,B53,'الرصيد الثابت'!$J$2:$J$106))","v":""},null,0,null,null,null,null,0,null,null,null,0,null,0,null,null,null,null,null,null,null,null,null,null,null,null,null,null,null,null,null,null,null,null,null,null,null,null,null,null,null,null,null,null,null,null,null,null,null,null,null,null,null,null,null,null,null,null,null,null,null,null,null,null,null,null,null,null,null,null,null,null,null,null,null,null,null,null,null,{"$f":"IFERROR(VLOOKUP(ROWS($CF$3:CF53),$CH$3:$CI$2001,2,FALSE),\"\")","v":"احمر كورد مبطط"},null,{"$f":"IF(ISNUMBER(SEARCH(B53,CI53)),MAX($CH$2:CH52)+1,0)","v":50},{"$f":"'الرصيد الثابت'!D52","v":"ابيض510 كروشيه 4cm"}]
["",null,{"$f":"IF(B54=\"\",\"\",SUMIF('الرصيد الثابت'!$D$2:$D$106,B54,'الرصيد الثابت'!$H$2:$H$106))","v":""},{"$f":"IF(B54=\"\",\"\",SUMIF('الرصيد الثابت'!$D$2:$D$106,B54,'الرصيد الثابت'!$I$2:$I$106))","v":""},{"$f":"IF(B54=\"\",\"\",SUMIF('الرصيد الثابت'!$D$2:$D$106,B54,'الرصيد الثابت'!$J$2:$J$106))","v":""},null,0,null,null,null,null,0,null,null,null,0,null,0,null,null,null,null,null,null,null,null,null,null,null,null,null,null,null,null,null,null,null,null,null,null,null,null,null,null,null,null,null,null,null,null,null,null,null,null,null,null,null,null,null,null,null,null,null,null,null,null,null,null,null,null,null,null,null,null,null,null,null,null,null,null,null,null,null,{"$f":"IFERROR(VLOOKUP(ROWS($CF$3:CF54),$CH$3:$CI$2001,2,FALSE),\"\")","v":"احمر كورد كبسله بلاستك "},null,{"$f":"IF(ISNUMBER(SEARCH(B54,CI54)),MAX($CH$2:CH53)+1,0)","v":51},{"$f":"'الرصيد الثابت'!D53","v":"احمر كورد مبطط"}]
["",null,{"$f":"IF(B55=\"\",\"\",SUMIF('الرصيد الثابت'!$D$2:$D$106,B55,'الرصيد الثابت'!$H$2:$H$106))","v":""},{"$f":"IF(B55=\"\",\"\",SUMIF('الرصيد الثابت'!$D$2:$D$106,B55,'الرصيد الثابت'!$I$2:$I$106))","v":""},{"$f":"IF(B55=\"\",\"\",SUMIF('الرصيد الثابت'!$D$2:$D$106,B55,'الرصيد الثابت'!$J$2:$J$106))","v":""},null,0,null,null,null,null,0,null,null,null,0,null,0,null,null,null,null,null,null,null,null,null,null,null,null,null,null,null,null,null,null,null,null,null,null,null,null,null,null,null,null,null,null,null,null,null,null,null,null,null,null,null,null,null,null,null,null,null,null,null,null,null,null,null,null,null,null,null,null,null,null,null,null,null,null,null,null,null,{"$f":"IFERROR(VLOOKUP(ROWS($CF$3:CF55),$CH$3:$CI$2001,2,FALSE),\"\")","v":"اخضر كورد مبطط"},null,{"$f":"IF(ISNUMBER(SEARCH(B55,CI55)),MAX($CH$2:CH54)+1,0)","v":52},{"$f":"'الرصيد الثابت'!D54","v":"احمر كورد كبسله بلاستك "}]
["",null,{"$f":"IF(B56=\"\",\"\",SUMIF('الرصيد الثابت'!$D$2:$D$106,B56,'الرصيد الثابت'!$H$2:$H$106))","v":""},{"$f":"IF(B56=\"\",\"\",SUMIF('الرصيد الثابت'!$D$2:$D$106,B56,'الرصيد الثابت'!$I$2:$I$106))","v":""},{"$f":"IF(B56=\"\",\"\",SUMIF('الرصيد الثابت'!$D$2:$D$106,B56,'الرصيد الثابت'!$J$2:$J$106))","v":""},null,0,null,null,null,null,0,null,null,null,0,null,0,null,null,null,null,null,null,null,null,null,null,null,null,null,null,null,null,null,null,null,null,null,null,null,null,null,null,null,null,null,null,null,null,null,null,null,null,null,null,null,null,null,null,null,null,null,null,null,null,null,null,null,null,null,null,null,null,null,null,null,null,null,null,null,null,null,{"$f":"IFERROR(VLOOKUP(ROWS($CF$3:CF56),$CH$3:$CI$2001,2,FALSE),\"\")","v":"اسود كروشيه 5.8cm"},null,{"$f":"IF(ISNUMBER(SEARCH(B56,CI56)),MAX($CH$2:CH55)+1,0)","v":53},{"$f":"'الرصيد الثابت'!D55","v":"اخضر كورد مبطط"}]
["",null,{"$f":"IF(B57=\"\",\"\",SUMIF('الرصيد الثابت'!$D$2:$D$106,B57,'الرصيد الثابت'!$H$2:$H$106))","v":""},{"$f":"IF(B57=\"\",\"\",SUMIF('الرصيد الثابت'!$D$2:$D$106,B57,'الرصيد الثابت'!$I$2:$I$106))","v":""},{"$f":"IF(B57=\"\",\"\",SUMIF('الرصيد الثابت'!$D$2:$D$106,B57,'الرصيد الثابت'!$J$2:$J$106))","v":""},null,0,null,null,null,null,0,null,null,null,0,null,0,null,null,null,null,null,null,null,null,null,null,null,null,null,null,null,null,null,null,null,null,null,null,null,null,null,null,null,null,null,null,null,null,null,null,null,null,null,null,null,null,null,null,null,null,null,null,null,null,null,null,null,null,null,null,null,null,null,null,null,null,null,null,null,null,null,{"$f":"IFERROR(VLOOKUP(ROWS($CF$3:CF57),$CH$3:$CI$2001,2,FALSE),\"\")","v":"اسود كروشيه 5.5cm"},null,{"$f":"IF(ISNUMBER(SEARCH(B57,CI57)),MAX($CH$2:CH56)+1,0)","v":54},{"$f":"'الرصيد الثابت'!D56","v":"اسود كروشيه 5.8cm"}]
["",null,{"$f":"IF(B58=\"\",\"\",SUMIF('الرصيد الثابت'!$D$2:$D$106,B58,'الرصيد الثابت'!$H$2:$H$106))","v":""},{"$f":"IF(B58=\"\",\"\",SUMIF('الرصيد الثابت'!$D$2:$D$106,B58,'الرصيد الثابت'!$I$2:$I$106))","v":""},{"$f":"IF(B58=\"\",\"\",SUMIF('الرصيد الثابت'!$D$2:$D$106,B58,'الرصيد الثابت'!$J$2:$J$106))","v":""},null,0,null,null,null,null,0,null,null,null,0,null,0,null,null,null,null,null,null,null,null,null,null,null,null,null,null,null,null,null,null,null,null,null,null,null,null,null,null,null,null,null,null,null,null,null,null,null,null,null,null,null,null,null,null,null,null,null,null,null,null,null,null,null,null,null,null,null,null,null,null,null,null,null,null,null,null,null,{"$f":"IFERROR(VLOOKUP(ROWS($CF$3:CF58),$CH$3:$CI$2001,2,FALSE),\"\")","v":"اسود كروشيه 5cm"},null,{"$f":"IF(ISNUMBER(SEARCH(B58,CI58)),MAX($CH$2:CH57)+1,0)","v":55},{"$f":"'الرصيد الثابت'!D57","v":"اسود كروشيه 5.5cm"}]
["",null,{"$f":"IF(B59=\"\",\"\",SUMIF('الرصيد الثابت'!$D$2:$D$106,B59,'الرصيد الثابت'!$H$2:$H$106))","v":""},{"$f":"IF(B59=\"\",\"\",SUMIF('الرصيد الثابت'!$D$2:$D$106,B59,'الرصيد الثابت'!$I$2:$I$106))","v":""},{"$f":"IF(B59=\"\",\"\",SUMIF('الرصيد الثابت'!$D$2:$D$106,B59,'الرصيد الثابت'!$J$2:$J$106))","v":""},null,0,null,null,null,null,0,null,null,null,0,null,0,null,null,null,null,null,null,null,null,null,null,null,null,null,null,null,null,null,null,null,null,null,null,null,null,null,null,null,null,null,null,null,null,null,null,null,null,null,null,null,null,null,null,null,null,null,null,null,null,null,null,null,null,null,null,null,null,null,null,null,null,null,null,null,null,null,{"$f":"IFERROR(VLOOKUP(ROWS($CF$3:CF59),$CH$3:$CI$2001,2,FALSE),\"\")","v":"اسود كروشيه 4.8cm"},null,{"$f":"IF(ISNUMBER(SEARCH(B59,CI59)),MAX($CH$2:CH58)+1,0)","v":56},{"$f":"'الرصيد الثابت'!D58","v":"اسود كروشيه 5cm"}]
["",null,{"$f":"IF(B60=\"\",\"\",SUMIF('الرصيد الثابت'!$D$2:$D$106,B60,'الرصيد الثابت'!$H$2:$H$106))","v":""},{"$f":"IF(B60=\"\",\"\",SUMIF('الرصيد الثابت'!$D$2:$D$106,B60,'الرصيد الثابت'!$I$2:$I$106))","v":""},{"$f":"IF(B60=\"\",\"\",SUMIF('الرصيد الثابت'!$D$2:$D$106,B60,'الرصيد الثابت'!$J$2:$J$106))","v":""},null,0,null,null,null,null,0,null,null,null,0,null,0,null,null,null,null,null,null,null,null,null,null,null,null,null,null,null,null,null,null,null,null,null,null,null,null,null,null,null,null,null,null,null,null,null,null,null,null,null,null,null,null,null,null,null,null,null,null,null,null,null,null,null,null,null,null,null,null,null,null,null,null,null,null,null,null,null,{"$f":"IFERROR(VLOOKUP(ROWS($CF$3:CF60),$CH$3:$CI$2001,2,FALSE),\"\")","v":"اسود كروشيه 4.5cm"},null,{"$f":"IF(ISNUMBER(SEARCH(B60,CI60)),MAX($CH$2:CH59)+1,0)","v":57},{"$f":"'الرصيد الثابت'!D59","v":"اسود كروشيه 4.8cm"}]
["",null,{"$f":"IF(B61=\"\",\"\",SUMIF('الرصيد الثابت'!$D$2:$D$106,B61,'الرصيد الثابت'!$H$2:$H$106))","v":""},{"$f":"IF(B61=\"\",\"\",SUMIF('الرصيد الثابت'!$D$2:$D$106,B61,'الرصيد الثابت'!$I$2:$I$106))","v":""},{"$f":"IF(B61=\"\",\"\",SUMIF('الرصيد الثابت'!$D$2:$D$106,B61,'الرصيد الثابت'!$J$2:$J$106))","v":""},null,0,null,null,null,null,0,null,null,null,0,null,0,null,null,null,null,null,null,null,null,null,null,null,null,null,null,null,null,null,null,null,null,null,null,null,null,null,null,null,null,null,null,null,null,null,null,null,null,null,null,null,null,null,null,null,null,null,null,null,null,null,null,null,null,null,null,null,null,null,null,null,null,null,null,null,null,null,{"$f":"IFERROR(VLOOKUP(ROWS($CF$3:CF61),$CH$3:$CI$2001,2,FALSE),\"\")","v":"اسود كروشيه 4cm"},null,{"$f":"IF(ISNUMBER(SEARCH(B61,CI61)),MAX($CH$2:CH60)+1,0)","v":58},{"$f":"'الرصيد الثابت'!D60","v":"اسود كروشيه 4.5cm"}]
["",null,{"$f":"IF(B62=\"\",\"\",SUMIF('الرصيد الثابت'!$D$2:$D$106,B62,'الرصيد الثابت'!$H$2:$H$106))","v":""},{"$f":"IF(B62=\"\",\"\",SUMIF('الرصيد الثابت'!$D$2:$D$106,B62,'الرصيد الثابت'!$I$2:$I$106))","v":""},{"$f":"IF(B62=\"\",\"\",SUMIF('الرصيد الثابت'!$D$2:$D$106,B62,'الرصيد الثابت'!$J$2:$J$106))","v":""},null,0,null,null,null,null,0,null,null,null,0,null,0,null,null,null,null,null,null,null,null,null,null,null,null,null,null,null,null,null,null,null,null,null,null,null,null,null,null,null,null,null,null,null,null,null,null,null,null,null,null,null,null,null,null,null,null,null,null,null,null,null,null,null,null,null,null,null,null,null,null,null,null,null,null,null,null,null,{"$f":"IFERROR(VLOOKUP(ROWS($CF$3:CF62),$CH$3:$CI$2001,2,FALSE),\"\")","v":"اسود كروشيه 3.5cm"},null,{"$f":"IF(ISNUMBER(SEARCH(B62,CI62)),MAX($CH$2:CH61)+1,0)","v":59},{"$f":"'الرصيد الثابت'!D61","v":"اسود كروشيه 4cm"}]
["",null,{"$f":"IF(B63=\"\",\"\",SUMIF('الرصيد الثابت'!$D$2:$D$106,B63,'الرصيد الثابت'!$H$2:$H$106))","v":""},{"$f":"IF(B63=\"\",\"\",SUMIF('الرصيد الثابت'!$D$2:$D$106,B63,'الرصيد الثابت'!$I$2:$I$106))","v":""},{"$f":"IF(B63=\"\",\"\",SUMIF('الرصيد الثابت'!$D$2:$D$106,B63,'الرصيد الثابت'!$J$2:$J$106))","v":""},null,0,null,null,null,null,0,null,null,null,0,null,0,null,null,null,null,null,null,null,null,null,null,null,null,null,null,null,null,null,null,null,null,null,null,null,null,null,null,null,null,null,null,null,null,null,null,null,null,null,null,null,null,null,null,null,null,null,null,null,null,null,null,null,null,null,null,null,null,null,null,null,null,null,null,null,null,null,{"$f":"IFERROR(VLOOKUP(ROWS($CF$3:CF63),$CH$3:$CI$2001,2,FALSE),\"\")","v":"اسود كروشيه 3cm"},null,{"$f":"IF(ISNUMBER(SEARCH(B63,CI63)),MAX($CH$2:CH62)+1,0)","v":60},{"$f":"'الرصيد الثابت'!D62","v":"اسود كروشيه 3.5cm"}]
["",null,{"$f":"IF(B64=\"\",\"\",SUMIF('الرصيد الثابت'!$D$2:$D$106,B64,'الرصيد الثابت'!$H$2:$H$106))","v":""},{"$f":"IF(B64=\"\",\"\",SUMIF('الرصيد الثابت'!$D$2:$D$106,B64,'الرصيد الثابت'!$I$2:$I$106))","v":""},{"$f":"IF(B64=\"\",\"\",SUMIF('الرصيد الثابت'!$D$2:$D$106,B64,'الرصيد الثابت'!$J$2:$J$106))","v":""},null,0,null,null,null,null,0,null,null,null,0,null,0,null,null,null,null,null,null,null,null,null,null,null,null,null,null,null,null,null,null,null,null,null,null,null,null,null,null,null,null,null,null,null,null,null,null,null,null,null,null,null,null,null,null,null,null,null,null,null,null,null,null,null,null,null,null,null,null,null,null,null,null,null,null,null,null,null,{"$f":"IFERROR(VLOOKUP(ROWS($CF$3:CF64),$CH$3:$CI$2001,2,FALSE),\"\")","v":"اسود كروشيه 2.5cm"},null,{"$f":"IF(ISNUMBER(SEARCH(B64,CI64)),MAX($CH$2:CH63)+1,0)","v":61},{"$f":"'الرصيد الثابت'!D63","v":"اسود كروشيه 3cm"}]
["",null,{"$f":"IF(B65=\"\",\"\",SUMIF('الرصيد الثابت'!$D$2:$D$106,B65,'الرصيد الثابت'!$H$2:$H$106))","v":""},{"$f":"IF(B65=\"\",\"\",SUMIF('الرصيد الثابت'!$D$2:$D$106,B65,'الرصيد الثابت'!$I$2:$I$106))","v":""},{"$f":"IF(B65=\"\",\"\",SUMIF('الرصيد الثابت'!$D$2:$D$106,B65,'الرصيد الثابت'!$J$2:$J$106))","v":""},null,0,null,null,null,null,0,null,null,null,0,null,0,null,null,null,null,null,null,null,null,null,null,null,null,null,null,null,null,null,null,null,null,null,null,null,null,null,null,null,null,null,null,null,null,null,null,null,null,null,null,null,null,null,null,null,null,null,null,null,null,null,null,null,null,null,null,null,null,null,null,null,null,null,null,null,null,null,{"$f":"IFERROR(VLOOKUP(ROWS($CF$3:CF65),$CH$3:$CI$2001,2,FALSE),\"\")","v":"اسود كروشيه 2cm"},null,{"$f":"IF(ISNUMBER(SEARCH(B65,CI65)),MAX($CH$2:CH64)+1,0)","v":62},{"$f":"'الرصيد الثابت'!D64","v":"اسود كروشيه 2.5cm"}]
["",null,{"$f":"IF(B66=\"\",\"\",SUMIF('الرصيد الثابت'!$D$2:$D$106,B66,'الرصيد الثابت'!$H$2:$H$106))","v":""},{"$f":"IF(B66=\"\",\"\",SUMIF('الرصيد الثابت'!$D$2:$D$106,B66,'الرصيد الثابت'!$I$2:$I$106))","v":""},{"$f":"IF(B66=\"\",\"\",SUMIF('الرصيد الثابت'!$D$2:$D$106,B66,'الرصيد الثابت'!$J$2:$J$106))","v":""},null,0,null,null,null,null,0,null,null,null,0,null,0,null,null,null,null,null,null,null,null,null,null,null,null,null,null,null,null,null,null,null,null,null,null,null,null,null,null,null,null,null,null,null,null,null,null,null,null,null,null,null,null,null,null,null,null,null,null,null,null,null,null,null,null,null,null,null,null,null,null,null,null,null,null,null,null,null,{"$f":"IFERROR(VLOOKUP(ROWS($CF$3:CF66),$CH$3:$CI$2001,2,FALSE),\"\")","v":"اسود كروشيه 1.7cm"},null,{"$f":"IF(ISNUMBER(SEARCH(B66,CI66)),MAX($CH$2:CH65)+1,0)","v":63},{"$f":"'الرصيد الثابت'!D65","v":"اسود كروشيه 2cm"}]
["",null,{"$f":"IF(B67=\"\",\"\",SUMIF('الرصيد الثابت'!$D$2:$D$106,B67,'الرصيد الثابت'!$H$2:$H$106))","v":""},{"$f":"IF(B67=\"\",\"\",SUMIF('الرصيد الثابت'!$D$2:$D$106,B67,'الرصيد الثابت'!$I$2:$I$106))","v":""},{"$f":"IF(B67=\"\",\"\",SUMIF('الرصيد الثابت'!$D$2:$D$106,B67,'الرصيد الثابت'!$J$2:$J$106))","v":""},null,0,null,null,null,null,0,null,null,null,0,null,0,null,null,null,null,null,null,null,null,null,null,null,null,null,null,null,null,null,null,null,null,null,null,null,null,null,null,null,null,null,null,null,null,null,null,null,null,null,null,null,null,null,null,null,null,null,null,null,null,null,null,null,null,null,null,null,null,null,null,null,null,null,null,null,null,null,{"$f":"IFERROR(VLOOKUP(ROWS($CF$3:CF67),$CH$3:$CI$2001,2,FALSE),\"\")","v":"اسود كروشيه 1.5cm"},null,{"$f":"IF(ISNUMBER(SEARCH(B67,CI67)),MAX($CH$2:CH66)+1,0)","v":64},{"$f":"'الرصيد الثابت'!D66","v":"اسود كروشيه 1.7cm"}]
[{"$f":"IF(B68<>\"\",IF(A68=\"\",NOW(),A68),\"\")","v":""},null,{"$f":"IF(B68=\"\",\"\",SUMIF('الرصيد الثابت'!$D$2:$D$106,B68,'الرصيد الثابت'!$H$2:$H$106))","v":""},{"$f":"IF(B68=\"\",\"\",SUMIF('الرصيد الثابت'!$D$2:$D$106,B68,'الرصيد الثابت'!$I$2:$I$106))","v":""},{"$f":"IF(B68=\"\",\"\",SUMIF('الرصيد الثابت'!$D$2:$D$106,B68,'الرصيد الثابت'!$J$2:$J$106))","v":""},null,{"$f":"SUM(H68*F68)","v":0},null,null,null,null,{"$f":"SUM(M68*K68)","v":0},null,null,null,{"$f":"SUM(F68-K68)","v":0},null,{"$f":"SUM(S68*Q68)","v":0},null,null,null,null,null,null,null,null,null,null,null,null,null,null,null,null,null,null,null,null,null,null,null,null,null,null,null,null,null,null,null,null,null,null,null,null,null,null,null,null,null,null,null,null,null,null,null,null,null,null,null,null,null,null,null,null,null,null,null,null,null,null,null,null,null,{"$f":"IFERROR(VLOOKUP(ROWS($CF$3:CF68),$CH$3:$CI$2001,2,FALSE),\"\")","v":"اسود كروشيه 1.3cm"},null,{"$f":"IF(ISNUMBER(SEARCH(B68,CI68)),MAX($CH$2:CH67)+1,0)","v":65},{"$f":"'الرصيد الثابت'!D67","v":"اسود كروشيه 1.5cm"}]
["",null,{"$f":"IF(B69=\"\",\"\",SUMIF('الرصيد الثابت'!$D$2:$D$106,B69,'الرصيد الثابت'!$H$2:$H$106))","v":""},{"$f":"IF(B69=\"\",\"\",SUMIF('الرصيد الثابت'!$D$2:$D$106,B69,'الرصيد الثابت'!$I$2:$I$106))","v":""},{"$f":"IF(B69=\"\",\"\",SUMIF('الرصيد الثابت'!$D$2:$D$106,B69,'الرصيد الثابت'!$J$2:$J$106))","v":""},null,0,null,null,null,null,0,null,null,null,0,null,0,null,null,null,null,null,null,null,null,null,null,null,null,null,null,null,null,null,null,null,null,null,null,null,null,null,null,null,null,null,null,null,null,null,null,null,null,null,null,null,null,null,null,null,null,null,null,null,null,null,null,null,null,null,null,null,null,null,null,null,null,null,null,null,null,null,{"$f":"IFERROR(VLOOKUP(ROWS($CF$3:CF69),$CH$3:$CI$2001,2,FALSE),\"\")","v":"اسود كروشيه 1cm"},null,{"$f":"IF(ISNUMBER(SEARCH(B69,CI69)),MAX($CH$2:CH68)+1,0)","v":66},{"$f":"'الرصيد الثابت'!D68","v":"اسود كروشيه 1.3cm"}]
["",null,{"$f":"IF(B70=\"\",\"\",SUMIF('الرصيد الثابت'!$D$2:$D$106,B70,'الرصيد الثابت'!$H$2:$H$106))","v":""},{"$f":"IF(B70=\"\",\"\",SUMIF('الرصيد الثابت'!$D$2:$D$106,B70,'الرصيد الثابت'!$I$2:$I$106))","v":""},{"$f":"IF(B70=\"\",\"\",SUMIF('الرصيد الثابت'!$D$2:$D$106,B70,'الرصيد الثابت'!$J$2:$J$106))","v":""},null,0,null,null,null,null,0,null,null,null,0,null,0,null,null,null,null,null,null,null,null,null,null,null,null,null,null,null,null,null,null,null,null,null,null,null,null,null,null,null,null,null,null,null,null,null,null,null,null,null,null,null,null,null,null,null,null,null,null,null,null,null,null,null,null,null,null,null,null,null,null,null,null,null,null,null,null,null,{"$f":"IFERROR(VLOOKUP(ROWS($CF$3:CF70),$CH$3:$CI$2001,2,FALSE),\"\")","v":"اسود كروشيه 8mm"},null,{"$f":"IF(ISNUMBER(SEARCH(B70,CI70)),MAX($CH$2:CH69)+1,0)","v":67},{"$f":"'الرصيد الثابت'!D69","v":"اسود كروشيه 1cm"}]
["",null,{"$f":"IF(B71=\"\",\"\",SUMIF('الرصيد الثابت'!$D$2:$D$106,B71,'الرصيد الثابت'!$H$2:$H$106))","v":""},{"$f":"IF(B71=\"\",\"\",SUMIF('الرصيد الثابت'!$D$2:$D$106,B71,'الرصيد الثابت'!$I$2:$I$106))","v":""},{"$f":"IF(B71=\"\",\"\",SUMIF('الرصيد الثابت'!$D$2:$D$106,B71,'الرصيد الثابت'!$J$2:$J$106))","v":""},null,0,null,null,null,null,0,null,null,null,0,null,0,null,null,null,null,null,null,null,null,null,null,null,null,null,null,null,null,null,null,null,null,null,null,null,null,null,null,null,null,null,null,null,null,null,null,null,null,null,null,null,null,null,null,null,null,null,null,null,null,null,null,null,null,null,null,null,null,null,null,null,null,null,null,null,null,null,{"$f":"IFERROR(VLOOKUP(ROWS($CF$3:CF71),$CH$3:$CI$2001,2,FALSE),\"\")","v":"اسود كروشيه 3.8cm"},null,{"$f":"IF(ISNUMBER(SEARCH(B71,CI71)),MAX($CH$2:CH70)+1,0)","v":68},{"$f":"'الرصيد الثابت'!D70","v":"اسود كروشيه 8mm"}]
["",null,{"$f":"IF(B72=\"\",\"\",SUMIF('الرصيد الثابت'!$D$2:$D$106,B72,'الرصيد الثابت'!$H$2:$H$106))","v":""},{"$f":"IF(B72=\"\",\"\",SUMIF('الرصيد الثابت'!$D$2:$D$106,B72,'الرصيد الثابت'!$I$2:$I$106))","v":""},{"$f":"IF(B72=\"\",\"\",SUMIF('الرصيد الثابت'!$D$2:$D$106,B72,'الرصيد الثابت'!$J$2:$J$106))","v":""},null,0,null,null,null,null,0,null,null,null,0,null,0,null,null,null,null,null,null,null,null,null,null,null,null,null,null,null,null,null,null,null,null,null,null,null,null,null,null,null,null,null,null,null,null,null,null,null,null,null,null,null,null,null,null,null,null,null,null,null,null,null,null,null,null,null,null,null,null,null,null,null,null,null,null,null,null,null,{"$f":"IFERROR(VLOOKUP(ROWS($CF$3:CF72),$CH$3:$CI$2001,2,FALSE),\"\")","v":"اسود كروشيه .8m"},null,{"$f":"IF(ISNUMBER(SEARCH(B72,CI72)),MAX($CH$2:CH71)+1,0)","v":69},{"$f":"'الرصيد الثابت'!D71","v":"اسود كروشيه 3.8cm"}]
["",null,{"$f":"IF(B73=\"\",\"\",SUMIF('الرصيد الثابت'!$D$2:$D$106,B73,'الرصيد الثابت'!$H$2:$H$106))","v":""},{"$f":"IF(B73=\"\",\"\",SUMIF('الرصيد الثابت'!$D$2:$D$106,B73,'الرصيد الثابت'!$I$2:$I$106))","v":""},{"$f":"IF(B73=\"\",\"\",SUMIF('الرصيد الثابت'!$D$2:$D$106,B73,'الرصيد الثابت'!$J$2:$J$106))","v":""},null,0,null,null,null,null,0,null,null,null,0,null,0,null,null,null,null,null,null,null,null,null,null,null,null,null,null,null,null,null,null,null,null,null,null,null,null,null,null,null,null,null,null,null,null,null,null,null,null,null,null,null,null,null,null,null,null,null,null,null,null,null,null,null,null,null,null,null,null,null,null,null,null,null,null,null,null,null,{"$f":"IFERROR(VLOOKUP(ROWS($CF$3:CF73),$CH$3:$CI$2001,2,FALSE),\"\")","v":"اسود كروشيه 1.2cm"},null,{"$f":"IF(ISNUMBER(SEARCH(B73,CI73)),MAX($CH$2:CH72)+1,0)","v":70},{"$f":"'الرصيد الثابت'!D72","v":"اسود كروشيه .8m"}]
["",null,{"$f":"IF(B74=\"\",\"\",SUMIF('الرصيد الثابت'!$D$2:$D$106,B74,'الرصيد الثابت'!$H$2:$H$106))","v":""},{"$f":"IF(B74=\"\",\"\",SUMIF('الرصيد الثابت'!$D$2:$D$106,B74,'الرصيد الثابت'!$I$2:$I$106))","v":""},{"$f":"IF(B74=\"\",\"\",SUMIF('الرصيد الثابت'!$D$2:$D$106,B74,'الرصيد الثابت'!$J$2:$J$106))","v":""},null,0,null,null,null,null,0,null,null,null,0,null,0,null,null,null,null,null,null,null,null,null,null,null,null,null,null,null,null,null,null,null,null,null,null,null,null,null,null,null,null,null,null,null,null,null,null,null,null,null,null,null,null,null,null,null,null,null,null,null,null,null,null,null,null,null,null,null,null,null,null,null,null,null,null,null,null,null,{"$f":"IFERROR(VLOOKUP(ROWS($CF$3:CF74),$CH$3:$CI$2001,2,FALSE),\"\")","v":"اسود كروشيه .4m"},null,{"$f":"IF(ISNUMBER(SEARCH(B74,CI74)),MAX($CH$2:CH73)+1,0)","v":71},{"$f":"'الرصيد الثابت'!D73","v":"اسود كروشيه 1.2cm"}]
["",null,{"$f":"IF(B75=\"\",\"\",SUMIF('الرصيد الثابت'!$D$2:$D$106,B75,'الرصيد الثابت'!$H$2:$H$106))","v":""},{"$f":"IF(B75=\"\",\"\",SUMIF('الرصيد الثابت'!$D$2:$D$106,B75,'الرصيد الثابت'!$I$2:$I$106))","v":""},{"$f":"IF(B75=\"\",\"\",SUMIF('الرصيد الثابت'!$D$2:$D$106,B75,'الرصيد الثابت'!$J$2:$J$106))","v":""},null,0,null,null,null,null,0,null,null,null,0,null,0,null,null,null,null,null,null,null,null,null,null,null,null,null,null,null,null,null,null,null,null,null,null,null,null,null,null,null,null,null,null,null,null,null,null,null,null,null,null,null,null,null,null,null,null,null,null,null,null,null,null,null,null,null,null,null,null,null,null,null,null,null,null,null,null,null,{"$f":"IFERROR(VLOOKUP(ROWS($CF$3:CF75),$CH$3:$CI$2001,2,FALSE),\"\")","v":"اسود كروشيه 1.4cm"},null,{"$f":"IF(ISNUMBER(SEARCH(B75,CI75)),MAX($CH$2:CH74)+1,0)","v":72},{"$f":"'الرصيد الثابت'!D74","v":"اسود كروشيه .4m"}]
["",null,{"$f":"IF(B76=\"\",\"\",SUMIF('الرصيد الثابت'!$D$2:$D$106,B76,'الرصيد الثابت'!$H$2:$H$106))","v":""},{"$f":"IF(B76=\"\",\"\",SUMIF('الرصيد الثابت'!$D$2:$D$106,B76,'الرصيد الثابت'!$I$2:$I$106))","v":""},{"$f":"IF(B76=\"\",\"\",SUMIF('الرصيد الثابت'!$D$2:$D$106,B76,'الرصيد الثابت'!$J$2:$J$106))","v":""},null,0,null,null,null,null,0,null,null,null,0,null,0,null,null,null,null,null,null,null,null,null,null,null,null,null,null,null,null,null,null,null,null,null,null,null,null,null,null,null,null,null,null,null,null,null,null,null,null,null,null,null,null,null,null,null,null,null,null,null,null,null,null,null,null,null,null,null,null,null,null,null,null,null,null,null,null,null,{"$f":"IFERROR(VLOOKUP(ROWS($CF$3:CF76),$CH$3:$CI$2001,2,FALSE),\"\")","v":"اسود كروشيه 2.2cm"},null,{"$f":"IF(ISNUMBER(SEARCH(B76,CI76)),MAX($CH$2:CH75)+1,0)","v":73},{"$f":"'الرصيد الثابت'!D75","v":"اسود كروشيه 1.4cm"}]
["",null,{"$f":"IF(B77=\"\",\"\",SUMIF('الرصيد الثابت'!$D$2:$D$106,B77,'الرصيد الثابت'!$H$2:$H$106))","v":""},{"$f":"IF(B77=\"\",\"\",SUMIF('الرصيد الثابت'!$D$2:$D$106,B77,'الرصيد الثابت'!$I$2:$I$106))","v":""},{"$f":"IF(B77=\"\",\"\",SUMIF('الرصيد الثابت'!$D$2:$D$106,B77,'الرصيد الثابت'!$J$2:$J$106))","v":""},null,0,null,null,null,null,0,null,null,null,0,null,0,null,null,null,null,null,null,null,null,null,null,null,null,null,null,null,null,null,null,null,null,null,null,null,null,null,null,null,null,null,null,null,null,null,null,null,null,null,null,null,null,null,null,null,null,null,null,null,null,null,null,null,null,null,null,null,null,null,null,null,null,null,null,null,null,null,{"$f":"IFERROR(VLOOKUP(ROWS($CF$3:CF77),$CH$3:$CI$2001,2,FALSE),\"\")","v":"اسود كورد 1cm"},null,{"$f":"IF(ISNUMBER(SEARCH(B77,CI77)),MAX($CH$2:CH76)+1,0)","v":74},{"$f":"'الرصيد الثابت'!D76","v":"اسود كروشيه 2.2cm"}]
["",null,{"$f":"IF(B78=\"\",\"\",SUMIF('الرصيد الثابت'!$D$2:$D$106,B78,'الرصيد الثابت'!$H$2:$H$106))","v":""},{"$f":"IF(B78=\"\",\"\",SUMIF('الرصيد الثابت'!$D$2:$D$106,B78,'الرصيد الثابت'!$I$2:$I$106))","v":""},{"$f":"IF(B78=\"\",\"\",SUMIF('الرصيد الثابت'!$D$2:$D$106,B78,'الرصيد الثابت'!$J$2:$J$106))","v":""},null,0,null,null,null,null,0,null,null,null,0,null,0,null,null,null,null,null,null,null,null,null,null,null,null,null,null,null,null,null,null,null,null,null,null,null,null,null,null,null,null,null,null,null,null,null,null,null,null,null,null,null,null,null,null,null,null,null,null,null,null,null,null,null,null,null,null,null,null,null,null,null,null,null,null,null,null,null,{"$f":"IFERROR(VLOOKUP(ROWS($CF$3:CF78),$CH$3:$CI$2001,2,FALSE),\"\")","v":"اسود كورد مبطط"},null,{"$f":"IF(ISNUMBER(SEARCH(B78,CI78)),MAX($CH$2:CH77)+1,0)","v":75},{"$f":"'الرصيد الثابت'!D77","v":"اسود كورد 1cm"}]
["",null,{"$f":"IF(B79=\"\",\"\",SUMIF('الرصيد الثابت'!$D$2:$D$106,B79,'الرصيد الثابت'!$H$2:$H$106))","v":""},{"$f":"IF(B79=\"\",\"\",SUMIF('الرصيد الثابت'!$D$2:$D$106,B79,'الرصيد الثابت'!$I$2:$I$106))","v":""},{"$f":"IF(B79=\"\",\"\",SUMIF('الرصيد الثابت'!$D$2:$D$106,B79,'الرصيد الثابت'!$J$2:$J$106))","v":""},null,0,null,null,null,null,0,null,null,null,0,null,0,null,null,null,null,null,null,null,null,null,null,null,null,null,null,null,null,null,null,null,null,null,null,null,null,null,null,null,null,null,null,null,null,null,null,null,null,null,null,null,null,null,null,null,null,null,null,null,null,null,null,null,null,null,null,null,null,null,null,null,null,null,null,null,null,null,{"$f":"IFERROR(VLOOKUP(ROWS($CF$3:CF79),$CH$3:$CI$2001,2,FALSE),\"\")","v":"اسود كورد مبروم"},null,{"$f":"IF(ISNUMBER(SEARCH(B79,CI79)),MAX($CH$2:CH78)+1,0)","v":76},{"$f":"'الرصيد الثابت'!D78","v":"اسود كورد مبطط"}]
["",null,{"$f":"IF(B80=\"\",\"\",SUMIF('الرصيد الثابت'!$D$2:$D$106,B80,'الرصيد الثابت'!$H$2:$H$106))","v":""},{"$f":"IF(B80=\"\",\"\",SUMIF('الرصيد الثابت'!$D$2:$D$106,B80,'الرصيد الثابت'!$I$2:$I$106))","v":""},{"$f":"IF(B80=\"\",\"\",SUMIF('الرصيد الثابت'!$D$2:$D$106,B80,'الرصيد الثابت'!$J$2:$J$106))","v":""},null,0,null,null,null,null,0,null,null,null,0,null,0,null,null,null,null,null,null,null,null,null,null,null,null,null,null,null,null,null,null,null,null,null,null,null,null,null,null,null,null,null,null,null,null,null,null,null,null,null,null,null,null,null,null,null,null,null,null,null,null,null,null,null,null,null,null,null,null,null,null,null,null,null,null,null,null,null,{"$f":"IFERROR(VLOOKUP(ROWS($CF$3:CF80),$CH$3:$CI$2001,2,FALSE),\"\")","v":"اسود ووفين ساندوتش 1.5cm"},null,{"$f":"IF(ISNUMBER(SEARCH(B80,CI80)),MAX($CH$2:CH79)+1,0)","v":77},{"$f":"'الرصيد الثابت'!D79","v":"اسود كورد مبروم"}]
["",null,{"$f":"IF(B81=\"\",\"\",SUMIF('الرصيد الثابت'!$D$2:$D$106,B81,'الرصيد الثابت'!$H$2:$H$106))","v":""},{"$f":"IF(B81=\"\",\"\",SUMIF('الرصيد الثابت'!$D$2:$D$106,B81,'الرصيد الثابت'!$I$2:$I$106))","v":""},{"$f":"IF(B81=\"\",\"\",SUMIF('الرصيد الثابت'!$D$2:$D$106,B81,'الرصيد الثابت'!$J$2:$J$106))","v":""},null,0,null,null,null,null,0,null,null,null,0,null,0,null,null,null,null,null,null,null,null,null,null,null,null,null,null,null,null,null,null,null,null,null,null,null,null,null,null,null,null,null,null,null,null,null,null,null,null,null,null,null,null,null,null,null,null,null,null,null,null,null,null,null,null,null,null,null,null,null,null,null,null,null,null,null,null,null,{"$f":"IFERROR(VLOOKUP(ROWS($CF$3:CF81),$CH$3:$CI$2001,2,FALSE),\"\")","v":"اسود ووفين ساندوتش 1.8cm"},null,{"$f":"IF(ISNUMBER(SEARCH(B81,CI81)),MAX($CH$2:CH80)+1,0)","v":78},{"$f":"'الرصيد الثابت'!D80","v":"اسود ووفين ساندوتش 1.5cm"}]
["",null,{"$f":"IF(B82=\"\",\"\",SUMIF('الرصيد الثابت'!$D$2:$D$106,B82,'الرصيد الثابت'!$H$2:$H$106))","v":""},{"$f":"IF(B82=\"\",\"\",SUMIF('الرصيد الثابت'!$D$2:$D$106,B82,'الرصيد الثابت'!$I$2:$I$106))","v":""},{"$f":"IF(B82=\"\",\"\",SUMIF('الرصيد الثابت'!$D$2:$D$106,B82,'الرصيد الثابت'!$J$2:$J$106))","v":""},null,0,null,null,null,null,0,null,null,null,0,null,0,null,null,null,null,null,null,null,null,null,null,null,null,null,null,null,null,null,null,null,null,null,null,null,null,null,null,null,null,null,null,null,null,null,null,null,null,null,null,null,null,null,null,null,null,null,null,null,null,null,null,null,null,null,null,null,null,null,null,null,null,null,null,null,null,null,{"$f":"IFERROR(VLOOKUP(ROWS($CF$3:CF82),$CH$3:$CI$2001,2,FALSE),\"\")","v":"اسود ووفين ساندوتش 1.7cm"},null,{"$f":"IF(ISNUMBER(SEARCH(B82,CI82)),MAX($CH$2:CH81)+1,0)","v":79},{"$f":"'الرصيد الثابت'!D81","v":"اسود ووفين ساندوتش 1.8cm"}]
["",null,{"$f":"IF(B83=\"\",\"\",SUMIF('الرصيد الثابت'!$D$2:$D$106,B83,'الرصيد الثابت'!$H$2:$H$106))","v":""},{"$f":"IF(B83=\"\",\"\",SUMIF('الرصيد الثابت'!$D$2:$D$106,B83,'الرصيد الثابت'!$I$2:$I$106))","v":""},{"$f":"IF(B83=\"\",\"\",SUMIF('الرصيد الثابت'!$D$2:$D$106,B83,'الرصيد الثابت'!$J$2:$J$106))","v":""},null,0,null,null,null,null,0,null,null,null,0,null,0,null,null,null,null,null,null,null,null,null,null,null,null,null,null,null,null,null,null,null,null,null,null,null,null,null,null,null,null,null,null,null,null,null,null,null,null,null,null,null,null,null,null,null,null,null,null,null,null,null,null,null,null,null,null,null,null,null,null,null,null,null,null,null,null,null,{"$f":"IFERROR(VLOOKUP(ROWS($CF$3:CF83),$CH$3:$CI$2001,2,FALSE),\"\")","v":"اسود ووفين ساندوتش 2cm"},null,{"$f":"IF(ISNUMBER(SEARCH(B83,CI83)),MAX($CH$2:CH82)+1,0)","v":80},{"$f":"'الرصيد الثابت'!D82","v":"اسود ووفين ساندوتش 1.7cm"}]
["",null,{"$f":"IF(B84=\"\",\"\",SUMIF('الرصيد الثابت'!$D$2:$D$106,B84,'الرصيد الثابت'!$H$2:$H$106))","v":""},{"$f":"IF(B84=\"\",\"\",SUMIF('الرصيد الثابت'!$D$2:$D$106,B84,'الرصيد الثابت'!$I$2:$I$106))","v":""},{"$f":"IF(B84=\"\",\"\",SUMIF('الرصيد الثابت'!$D$2:$D$106,B84,'الرصيد الثابت'!$J$2:$J$106))","v":""},null,0,null,null,null,null,0,null,null,null,0,null,0,null,null,null,null,null,null,null,null,null,null,null,null,null,null,null,null,null,null,null,null,null,null,null,null,null,null,null,null,null,null,null,null,null,null,null,null,null,null,null,null,null,null,null,null,null,null,null,null,null,null,null,null,null,null,null,null,null,null,null,null,null,null,null,null,null,{"$f":"IFERROR(VLOOKUP(ROWS($CF$3:CF84),$CH$3:$CI$2001,2,FALSE),\"\")","v":"اسود استك طبي 2.98"},null,{"$f":"IF(ISNUMBER(SEARCH(B84,CI84)),MAX($CH$2:CH83)+1,0)","v":81},{"$f":"'الرصيد الثابت'!D83","v":"اسود ووفين ساندوتش 2cm"}]
["",null,{"$f":"IF(B85=\"\",\"\",SUMIF('الرصيد الثابت'!$D$2:$D$106,B85,'الرصيد الثابت'!$H$2:$H$106))","v":""},{"$f":"IF(B85=\"\",\"\",SUMIF('الرصيد الثابت'!$D$2:$D$106,B85,'الرصيد الثابت'!$I$2:$I$106))","v":""},{"$f":"IF(B85=\"\",\"\",SUMIF('الرصيد الثابت'!$D$2:$D$106,B85,'الرصيد الثابت'!$J$2:$J$106))","v":""},null,0,null,null,null,null,0,null,null,null,0,null,0,null,null,null,null,null,null,null,null,null,null,null,null,null,null,null,null,null,null,null,null,null,null,null,null,null,null,null,null,null,null,null,null,null,null,null,null,null,null,null,null,null,null,null,null,null,null,null,null,null,null,null,null,null,null,null,null,null,null,null,null,null,null,null,null,null,{"$f":"IFERROR(VLOOKUP(ROWS($CF$3:CF85),$CH$3:$CI$2001,2,FALSE),\"\")","v":"اسود استك طبي 2.26"},null,{"$f":"IF(ISNUMBER(SEARCH(B85,CI85)),MAX($CH$2:CH84)+1,0)","v":82},{"$f":"'الرصيد الثابت'!D84","v":"اسود استك طبي 2.98"}]
["",null,{"$f":"IF(B86=\"\",\"\",SUMIF('الرصيد الثابت'!$D$2:$D$106,B86,'الرصيد الثابت'!$H$2:$H$106))","v":""},{"$f":"IF(B86=\"\",\"\",SUMIF('الرصيد الثابت'!$D$2:$D$106,B86,'الرصيد الثابت'!$I$2:$I$106))","v":""},{"$f":"IF(B86=\"\",\"\",SUMIF('الرصيد الثابت'!$D$2:$D$106,B86,'الرصيد الثابت'!$J$2:$J$106))","v":""},null,0,null,null,null,null,0,null,null,null,0,null,0,null,null,null,null,null,null,null,null,null,null,null,null,null,null,null,null,null,null,null,null,null,null,null,null,null,null,null,null,null,null,null,null,null,null,null,null,null,null,null,null,null,null,null,null,null,null,null,null,null,null,null,null,null,null,null,null,null,null,null,null,null,null,null,null,null,{"$f":"IFERROR(VLOOKUP(ROWS($CF$3:CF86),$CH$3:$CI$2001,2,FALSE),\"\")","v":"اسود   كروشيه 5.8cm"},null,{"$f":"IF(ISNUMBER(SEARCH(B86,CI86)),MAX($CH$2:CH85)+1,0)","v":83},{"$f":"'الرصيد الثابت'!D85","v":"اسود استك طبي 2.26"}]
["",null,{"$f":"IF(B87=\"\",\"\",SUMIF('الرصيد الثابت'!$D$2:$D$106,B87,'الرصيد الثابت'!$H$2:$H$106))","v":""},{"$f":"IF(B87=\"\",\"\",SUMIF('الرصيد الثابت'!$D$2:$D$106,B87,'الرصيد الثابت'!$I$2:$I$106))","v":""},{"$f":"IF(B87=\"\",\"\",SUMIF('الرصيد الثابت'!$D$2:$D$106,B87,'الرصيد الثابت'!$J$2:$J$106))","v":""},null,0,null,null,null,null,0,null,null,null,0,null,0,null,null,null,null,null,null,null,null,null,null,null,null,null,null,null,null,null,null,null,null,null,null,null,null,null,null,null,null,null,null,null,null,null,null,null,null,null,null,null,null,null,null,null,null,null,null,null,null,null,null,null,null,null,null,null,null,null,null,null,null,null,null,null,null,null,{"$f":"IFERROR(VLOOKUP(ROWS($CF$3:CF87),$CH$3:$CI$2001,2,FALSE),\"\")","v":"اسود استريب كروشيه 3cm"},null,{"$f":"IF(ISNUMBER(SEARCH(B87,CI87)),MAX($CH$2:CH86)+1,0)","v":84},{"$f":"'الرصيد الثابت'!D86","v":"اسود   كروشيه 5.8cm"}]
["",null,{"$f":"IF(B88=\"\",\"\",SUMIF('الرصيد الثابت'!$D$2:$D$106,B88,'الرصيد الثابت'!$H$2:$H$106))","v":""},{"$f":"IF(B88=\"\",\"\",SUMIF('الرصيد الثابت'!$D$2:$D$106,B88,'الرصيد الثابت'!$I$2:$I$106))","v":""},{"$f":"IF(B88=\"\",\"\",SUMIF('الرصيد الثابت'!$D$2:$D$106,B88,'الرصيد الثابت'!$J$2:$J$106))","v":""},null,0,null,null,null,null,0,null,null,null,0,null,0,null,null,null,null,null,null,null,null,null,null,null,null,null,null,null,null,null,null,null,null,null,null,null,null,null,null,null,null,null,null,null,null,null,null,null,null,null,null,null,null,null,null,null,null,null,null,null,null,null,null,null,null,null,null,null,null,null,null,null,null,null,null,null,null,null,{"$f":"IFERROR(VLOOKUP(ROWS($CF$3:CF88),$CH$3:$CI$2001,2,FALSE),\"\")","v":"اسود فلاش كروشيه 5.5cm"},null,{"$f":"IF(ISNUMBER(SEARCH(B88,CI88)),MAX($CH$2:CH87)+1,0)","v":85},{"$f":"'الرصيد الثابت'!D87","v":"اسود استريب كروشيه 3cm"}]
["",null,{"$f":"IF(B89=\"\",\"\",SUMIF('الرصيد الثابت'!$D$2:$D$106,B89,'الرصيد الثابت'!$H$2:$H$106))","v":""},{"$f":"IF(B89=\"\",\"\",SUMIF('الرصيد الثابت'!$D$2:$D$106,B89,'الرصيد الثابت'!$I$2:$I$106))","v":""},{"$f":"IF(B89=\"\",\"\",SUMIF('الرصيد الثابت'!$D$2:$D$106,B89,'الرصيد الثابت'!$J$2:$J$106))","v":""},null,0,null,null,null,null,0,null,null,null,0,null,0,null,null,null,null,null,null,null,null,null,null,null,null,null,null,null,null,null,null,null,null,null,null,null,null,null,null,null,null,null,null,null,null,null,null,null,null,null,null,null,null,null,null,null,null,null,null,null,null,null,null,null,null,null,null,null,null,null,null,null,null,null,null,null,null,null,{"$f":"IFERROR(VLOOKUP(ROWS($CF$3:CF89),$CH$3:$CI$2001,2,FALSE),\"\")","v":"اسود فلاش كروشيه 5cm"},null,{"$f":"IF(ISNUMBER(SEARCH(B89,CI89)),MAX($CH$2:CH88)+1,0)","v":86},{"$f":"'الرصيد الثابت'!D88","v":"اسود فلاش كروشيه 5.5cm"}]
["",null,{"$f":"IF(B90=\"\",\"\",SUMIF('الرصيد الثابت'!$D$2:$D$106,B90,'الرصيد الثابت'!$H$2:$H$106))","v":""},{"$f":"IF(B90=\"\",\"\",SUMIF('الرصيد الثابت'!$D$2:$D$106,B90,'الرصيد الثابت'!$I$2:$I$106))","v":""},{"$f":"IF(B90=\"\",\"\",SUMIF('الرصيد الثابت'!$D$2:$D$106,B90,'الرصيد الثابت'!$J$2:$J$106))","v":""},null,0,null,null,null,null,0,null,null,null,0,null,0,null,null,null,null,null,null,null,null,null,null,null,null,null,null,null,null,null,null,null,null,null,null,null,null,null,null,null,null,null,null,null,null,null,null,null,null,null,null,null,null,null,null,null,null,null,null,null,null,null,null,null,null,null,null,null,null,null,null,null,null,null,null,null,null,null,{"$f":"IFERROR(VLOOKUP(ROWS($CF$3:CF90),$CH$3:$CI$2001,2,FALSE),\"\")","v":"اسود فلاش كروشيه 3.5cm"},null,{"$f":"IF(ISNUMBER(SEARCH(B90,CI90)),MAX($CH$2:CH89)+1,0)","v":87},{"$f":"'الرصيد الثابت'!D89","v":"اسود فلاش كروشيه 5cm"}]
["",null,{"$f":"IF(B91=\"\",\"\",SUMIF('الرصيد الثابت'!$D$2:$D$106,B91,'الرصيد الثابت'!$H$2:$H$106))","v":""},{"$f":"IF(B91=\"\",\"\",SUMIF('الرصيد الثابت'!$D$2:$D$106,B91,'الرصيد الثابت'!$I$2:$I$106))","v":""},{"$f":"IF(B91=\"\",\"\",SUMIF('الرصيد الثابت'!$D$2:$D$106,B91,'الرصيد الثابت'!$J$2:$J$106))","v":""},null,0,null,null,null,null,0,null,null,null,0,null,0,null,null,null,null,null,null,null,null,null,null,null,null,null,null,null,null,null,null,null,null,null,null,null,null,null,null,null,null,null,null,null,null,null,null,null,null,null,null,null,null,null,null,null,null,null,null,null,null,null,null,null,null,null,null,null,null,null,null,null,null,null,null,null,null,null,{"$f":"IFERROR(VLOOKUP(ROWS($CF$3:CF91),$CH$3:$CI$2001,2,FALSE),\"\")","v":"اسود510 كروشيه 5cm"},null,{"$f":"IF(ISNUMBER(SEARCH(B91,CI91)),MAX($CH$2:CH90)+1,0)","v":88},{"$f":"'الرصيد الثابت'!D90","v":"اسود فلاش كروشيه 3.5cm"}]
["",null,{"$f":"IF(B92=\"\",\"\",SUMIF('الرصيد الثابت'!$D$2:$D$106,B92,'الرصيد الثابت'!$H$2:$H$106))","v":""},{"$f":"IF(B92=\"\",\"\",SUMIF('الرصيد الثابت'!$D$2:$D$106,B92,'الرصيد الثابت'!$I$2:$I$106))","v":""},{"$f":"IF(B92=\"\",\"\",SUMIF('الرصيد الثابت'!$D$2:$D$106,B92,'الرصيد الثابت'!$J$2:$J$106))","v":""},null,0,null,null,null,null,0,null,null,null,0,null,0,null,null,null,null,null,null,null,null,null,null,null,null,null,null,null,null,null,null,null,null,null,null,null,null,null,null,null,null,null,null,null,null,null,null,null,null,null,null,null,null,null,null,null,null,null,null,null,null,null,null,null,null,null,null,null,null,null,null,null,null,null,null,null,null,null,{"$f":"IFERROR(VLOOKUP(ROWS($CF$3:CF92),$CH$3:$CI$2001,2,FALSE),\"\")","v":"اسود510 كروشيه 3.5cm"},null,{"$f":"IF(ISNUMBER(SEARCH(B92,CI92)),MAX($CH$2:CH91)+1,0)","v":89},{"$f":"'الرصيد الثابت'!D91","v":"اسود510 كروشيه 5cm"}]
["",null,{"$f":"IF(B93=\"\",\"\",SUMIF('الرصيد الثابت'!$D$2:$D$106,B93,'الرصيد الثابت'!$H$2:$H$106))","v":""},{"$f":"IF(B93=\"\",\"\",SUMIF('الرصيد الثابت'!$D$2:$D$106,B93,'الرصيد الثابت'!$I$2:$I$106))","v":""},{"$f":"IF(B93=\"\",\"\",SUMIF('الرصيد الثابت'!$D$2:$D$106,B93,'الرصيد الثابت'!$J$2:$J$106))","v":""},null,0,null,null,null,null,0,null,null,null,0,null,0,null,null,null,null,null,null,null,null,null,null,null,null,null,null,null,null,null,null,null,null,null,null,null,null,null,null,null,null,null,null,null,null,null,null,null,null,null,null,null,null,null,null,null,null,null,null,null,null,null,null,null,null,null,null,null,null,null,null,null,null,null,null,null,null,null,{"$f":"IFERROR(VLOOKUP(ROWS($CF$3:CF93),$CH$3:$CI$2001,2,FALSE),\"\")","v":"الالوان كورد 1.2cm"},null,{"$f":"IF(ISNUMBER(SEARCH(B93,CI93)),MAX($CH$2:CH92)+1,0)","v":90},{"$f":"'الرصيد الثابت'!D92","v":"اسود510 كروشيه 3.5cm"}]
["",null,{"$f":"IF(B94=\"\",\"\",SUMIF('الرصيد الثابت'!$D$2:$D$106,B94,'الرصيد الثابت'!$H$2:$H$106))","v":""},{"$f":"IF(B94=\"\",\"\",SUMIF('الرصيد الثابت'!$D$2:$D$106,B94,'الرصيد الثابت'!$I$2:$I$106))","v":""},{"$f":"IF(B94=\"\",\"\",SUMIF('الرصيد الثابت'!$D$2:$D$106,B94,'الرصيد الثابت'!$J$2:$J$106))","v":""},null,0,null,null,null,null,0,null,null,null,0,null,0,null,null,null,null,null,null,null,null,null,null,null,null,null,null,null,null,null,null,null,null,null,null,null,null,null,null,null,null,null,null,null,null,null,null,null,null,null,null,null,null,null,null,null,null,null,null,null,null,null,null,null,null,null,null,null,null,null,null,null,null,null,null,null,null,null,{"$f":"IFERROR(VLOOKUP(ROWS($CF$3:CF94),$CH$3:$CI$2001,2,FALSE),\"\")","v":"اورنج كورد 1.2cm"},null,{"$f":"IF(ISNUMBER(SEARCH(B94,CI94)),MAX($CH$2:CH93)+1,0)","v":91},{"$f":"'الرصيد الثابت'!D93","v":"الالوان كورد 1.2cm"}]
["",null,{"$f":"IF(B95=\"\",\"\",SUMIF('الرصيد الثابت'!$D$2:$D$106,B95,'الرصيد الثابت'!$H$2:$H$106))","v":""},{"$f":"IF(B95=\"\",\"\",SUMIF('الرصيد الثابت'!$D$2:$D$106,B95,'الرصيد الثابت'!$I$2:$I$106))","v":""},{"$f":"IF(B95=\"\",\"\",SUMIF('الرصيد الثابت'!$D$2:$D$106,B95,'الرصيد الثابت'!$J$2:$J$106))","v":""},null,0,null,null,null,null,0,null,null,null,0,null,0,null,null,null,null,null,null,null,null,null,null,null,null,null,null,null,null,null,null,null,null,null,null,null,null,null,null,null,null,null,null,null,null,null,null,null,null,null,null,null,null,null,null,null,null,null,null,null,null,null,null,null,null,null,null,null,null,null,null,null,null,null,null,null,null,null,{"$f":"IFERROR(VLOOKUP(ROWS($CF$3:CF95),$CH$3:$CI$2001,2,FALSE),\"\")","v":"اورنح كورد مبطط"},null,{"$f":"IF(ISNUMBER(SEARCH(B95,CI95)),MAX($CH$2:CH94)+1,0)","v":92},{"$f":"'الرصيد الثابت'!D94","v":"اورنج كورد 1.2cm"}]
["",null,{"$f":"IF(B96=\"\",\"\",SUMIF('الرصيد الثابت'!$D$2:$D$106,B96,'الرصيد الثابت'!$H$2:$H$106))","v":""},{"$f":"IF(B96=\"\",\"\",SUMIF('الرصيد الثابت'!$D$2:$D$106,B96,'الرصيد الثابت'!$I$2:$I$106))","v":""},{"$f":"IF(B96=\"\",\"\",SUMIF('الرصيد الثابت'!$D$2:$D$106,B96,'الرصيد الثابت'!$J$2:$J$106))","v":""},null,0,null,null,null,null,0,null,null,null,0,null,0,null,null,null,null,null,null,null,null,null,null,null,null,null,null,null,null,null,null,null,null,null,null,null,null,null,null,null,null,null,null,null,null,null,null,null,null,null,null,null,null,null,null,null,null,null,null,null,null,null,null,null,null,null,null,null,null,null,null,null,null,null,null,null,null,null,{"$f":"IFERROR(VLOOKUP(ROWS($CF$3:CF96),$CH$3:$CI$2001,2,FALSE),\"\")","v":"بينك ووفين فستون 1cm"},null,{"$f":"IF(ISNUMBER(SEARCH(B96,CI96)),MAX($CH$2:CH95)+1,0)","v":93},{"$f":"'الرصيد الثابت'!D95","v":"اورنح كورد مبطط"}]
["",null,{"$f":"IF(B97=\"\",\"\",SUMIF('الرصيد الثابت'!$D$2:$D$106,B97,'الرصيد الثابت'!$H$2:$H$106))","v":""},{"$f":"IF(B97=\"\",\"\",SUMIF('الرصيد الثابت'!$D$2:$D$106,B97,'الرصيد الثابت'!$I$2:$I$106))","v":""},{"$f":"IF(B97=\"\",\"\",SUMIF('الرصيد الثابت'!$D$2:$D$106,B97,'الرصيد الثابت'!$J$2:$J$106))","v":""},null,0,null,null,null,null,0,null,null,null,0,null,0,null,null,null,null,null,null,null,null,null,null,null,null,null,null,null,null,null,null,null,null,null,null,null,null,null,null,null,null,null,null,null,null,null,null,null,null,null,null,null,null,null,null,null,null,null,null,null,null,null,null,null,null,null,null,null,null,null,null,null,null,null,null,null,null,null,{"$f":"IFERROR(VLOOKUP(ROWS($CF$3:CF97),$CH$3:$CI$2001,2,FALSE),\"\")","v":"بينك ووفين فستون 1.3cm"},null,{"$f":"IF(ISNUMBER(SEARCH(B97,CI97)),MAX($CH$2:CH96)+1,0)","v":94},{"$f":"'الرصيد الثابت'!D96","v":"بينك ووفين فستون 1cm"}]
["",null,{"$f":"IF(B98=\"\",\"\",SUMIF('الرصيد الثابت'!$D$2:$D$106,B98,'الرصيد الثابت'!$H$2:$H$106))","v":""},{"$f":"IF(B98=\"\",\"\",SUMIF('الرصيد الثابت'!$D$2:$D$106,B98,'الرصيد الثابت'!$I$2:$I$106))","v":""},{"$f":"IF(B98=\"\",\"\",SUMIF('الرصيد الثابت'!$D$2:$D$106,B98,'الرصيد الثابت'!$J$2:$J$106))","v":""},null,0,null,null,null,null,0,null,null,null,0,null,0,null,null,null,null,null,null,null,null,null,null,null,null,null,null,null,null,null,null,null,null,null,null,null,null,null,null,null,null,null,null,null,null,null,null,null,null,null,null,null,null,null,null,null,null,null,null,null,null,null,null,null,null,null,null,null,null,null,null,null,null,null,null,null,null,null,{"$f":"IFERROR(VLOOKUP(ROWS($CF$3:CF98),$CH$3:$CI$2001,2,FALSE),\"\")","v":"رصاصي استريب كروشيه 3cm"},null,{"$f":"IF(ISNUMBER(SEARCH(B98,CI98)),MAX($CH$2:CH97)+1,0)","v":95},{"$f":"'الرصيد الثابت'!D97","v":"بينك ووفين فستون 1.3cm"}]
["",null,{"$f":"IF(B99=\"\",\"\",SUMIF('الرصيد الثابت'!$D$2:$D$106,B99,'الرصيد الثابت'!$H$2:$H$106))","v":""},{"$f":"IF(B99=\"\",\"\",SUMIF('الرصيد الثابت'!$D$2:$D$106,B99,'الرصيد الثابت'!$I$2:$I$106))","v":""},{"$f":"IF(B99=\"\",\"\",SUMIF('الرصيد الثابت'!$D$2:$D$106,B99,'الرصيد الثابت'!$J$2:$J$106))","v":""},null,0,null,null,null,null,0,null,null,null,0,null,0,null,null,null,null,null,null,null,null,null,null,null,null,null,null,null,null,null,null,null,null,null,null,null,null,null,null,null,null,null,null,null,null,null,null,null,null,null,null,null,null,null,null,null,null,null,null,null,null,null,null,null,null,null,null,null,null,null,null,null,null,null,null,null,null,null,{"$f":"IFERROR(VLOOKUP(ROWS($CF$3:CF99),$CH$3:$CI$2001,2,FALSE),\"\")","v":"زهري كورد مبطط"},null,{"$f":"IF(ISNUMBER(SEARCH(B99,CI99)),MAX($CH$2:CH98)+1,0)","v":96},{"$f":"'الرصيد الثابت'!D98","v":"رصاصي استريب كروشيه 3cm"}]
["",null,{"$f":"IF(B100=\"\",\"\",SUMIF('الرصيد الثابت'!$D$2:$D$106,B100,'الرصيد الثابت'!$H$2:$H$106))","v":""},{"$f":"IF(B100=\"\",\"\",SUMIF('الرصيد الثابت'!$D$2:$D$106,B100,'الرصيد الثابت'!$I$2:$I$106))","v":""},{"$f":"IF(B100=\"\",\"\",SUMIF('الرصيد الثابت'!$D$2:$D$106,B100,'الرصيد الثابت'!$J$2:$J$106))","v":""},null,0,null,null,null,null,0,null,null,null,0,null,0,null,null,null,null,null,null,null,null,null,null,null,null,null,null,null,null,null,null,null,null,null,null,null,null,null,null,null,null,null,null,null,null,null,null,null,null,null,null,null,null,null,null,null,null,null,null,null,null,null,null,null,null,null,null,null,null,null,null,null,null,null,null,null,null,null,{"$f":"IFERROR(VLOOKUP(ROWS($CF$3:CF100),$CH$3:$CI$2001,2,FALSE),\"\")","v":"شاركول كورد مبطط"},null,{"$f":"IF(ISNUMBER(SEARCH(B100,CI100)),MAX($CH$2:CH99)+1,0)","v":97},{"$f":"'الرصيد الثابت'!D99","v":"زهري كورد مبطط"}]
["",null,{"$f":"IF(B101=\"\",\"\",SUMIF('الرصيد الثابت'!$D$2:$D$106,B101,'الرصيد الثابت'!$H$2:$H$106))","v":""},{"$f":"IF(B101=\"\",\"\",SUMIF('الرصيد الثابت'!$D$2:$D$106,B101,'الرصيد الثابت'!$I$2:$I$106))","v":""},{"$f":"IF(B101=\"\",\"\",SUMIF('الرصيد الثابت'!$D$2:$D$106,B101,'الرصيد الثابت'!$J$2:$J$106))","v":""},null,0,null,null,null,null,0,null,null,null,0,null,0,null,null,null,null,null,null,null,null,null,null,null,null,null,null,null,null,null,null,null,null,null,null,null,null,null,null,null,null,null,null,null,null,null,null,null,null,null,null,null,null,null,null,null,null,null,null,null,null,null,null,null,null,null,null,null,null,null,null,null,null,null,null,null,null,null,{"$f":"IFERROR(VLOOKUP(ROWS($CF$3:CF101),$CH$3:$CI$2001,2,FALSE),\"\")","v":"موف غامق كروشيه 1.6cm"},null,{"$f":"IF(ISNUMBER(SEARCH(B101,CI101)),MAX($CH$2:CH100)+1,0)","v":98},{"$f":"'الرصيد الثابت'!D100","v":"شاركول كورد مبطط"}]
["",null,{"$f":"IF(B102=\"\",\"\",SUMIF('الرصيد الثابت'!$D$2:$D$106,B102,'الرصيد الثابت'!$H$2:$H$106))","v":""},{"$f":"IF(B102=\"\",\"\",SUMIF('الرصيد الثابت'!$D$2:$D$106,B102,'الرصيد الثابت'!$I$2:$I$106))","v":""},{"$f":"IF(B102=\"\",\"\",SUMIF('الرصيد الثابت'!$D$2:$D$106,B102,'الرصيد الثابت'!$J$2:$J$106))","v":""},null,0,null,null,null,null,0,null,null,null,0,null,0,null,null,null,null,null,null,null,null,null,null,null,null,null,null,null,null,null,null,null,null,null,null,null,null,null,null,null,null,null,null,null,null,null,null,null,null,null,null,null,null,null,null,null,null,null,null,null,null,null,null,null,null,null,null,null,null,null,null,null,null,null,null,null,null,null,{"$f":"IFERROR(VLOOKUP(ROWS($CF$3:CF102),$CH$3:$CI$2001,2,FALSE),\"\")","v":"  "},null,{"$f":"IF(ISNUMBER(SEARCH(B102,CI102)),MAX($CH$2:CH101)+1,0)","v":99},{"$f":"'الرصيد الثابت'!D101","v":"موف غامق كروشيه 1.6cm"}]
["",null,{"$f":"IF(B103=\"\",\"\",SUMIF('الرصيد الثابت'!$D$2:$D$106,B103,'الرصيد الثابت'!$H$2:$H$106))","v":""},{"$f":"IF(B103=\"\",\"\",SUMIF('الرصيد الثابت'!$D$2:$D$106,B103,'الرصيد الثابت'!$I$2:$I$106))","v":""},{"$f":"IF(B103=\"\",\"\",SUMIF('الرصيد الثابت'!$D$2:$D$106,B103,'الرصيد الثابت'!$J$2:$J$106))","v":""},null,0,null,null,null,null,0,null,null,null,0,null,0,null,null,null,null,null,null,null,null,null,null,null,null,null,null,null,null,null,null,null,null,null,null,null,null,null,null,null,null,null,null,null,null,null,null,null,null,null,null,null,null,null,null,null,null,null,null,null,null,null,null,null,null,null,null,null,null,null,null,null,null,null,null,null,null,null,{"$f":"IFERROR(VLOOKUP(ROWS($CF$3:CF103),$CH$3:$CI$2001,2,FALSE),\"\")","v":"  "},null,{"$f":"IF(ISNUMBER(SEARCH(B103,CI103)),MAX($CH$2:CH102)+1,0)","v":100},{"$f":"'الرصيد الثابت'!D102","v":"  "}]
["",null,{"$f":"IF(B104=\"\",\"\",SUMIF('الرصيد الثابت'!$D$2:$D$106,B104,'الرصيد الثابت'!$H$2:$H$106))","v":""},{"$f":"IF(B104=\"\",\"\",SUMIF('الرصيد الثابت'!$D$2:$D$106,B104,'الرصيد الثابت'!$I$2:$I$106))","v":""},{"$f":"IF(B104=\"\",\"\",SUMIF('الرصيد الثابت'!$D$2:$D$106,B104,'الرصيد الثابت'!$J$2:$J$106))","v":""},null,0,null,null,null,null,0,null,null,null,0,null,0,null,null,null,null,null,null,null,null,null,null,null,null,null,null,null,null,null,null,null,null,null,null,null,null,null,null,null,null,null,null,null,null,null,null,null,null,null,null,null,null,null,null,null,null,null,null,null,null,null,null,null,null,null,null,null,null,null,null,null,null,null,null,null,null,null,{"$f":"IFERROR(VLOOKUP(ROWS($CF$3:CF104),$CH$3:$CI$2001,2,FALSE),\"\")","v":"  "},null,{"$f":"IF(ISNUMBER(SEARCH(B104,CI104)),MAX($CH$2:CH103)+1,0)","v":101},{"$f":"'الرصيد الثابت'!D103","v":"  "}]
["",null,{"$f":"IF(B105=\"\",\"\",SUMIF('الرصيد الثابت'!$D$2:$D$106,B105,'الرصيد الثابت'!$H$2:$H$106))","v":""},{"$f":"IF(B105=\"\",\"\",SUMIF('الرصيد الثابت'!$D$2:$D$106,B105,'الرصيد الثابت'!$I$2:$I$106))","v":""},{"$f":"IF(B105=\"\",\"\",SUMIF('الرصيد الثابت'!$D$2:$D$106,B105,'الرصيد الثابت'!$J$2:$J$106))","v":""},null,0,null,null,null,null,0,null,null,null,0,null,0,null,null,null,null,null,null,null,null,null,null,null,null,null,null,null,null,null,null,null,null,null,null,null,null,null,null,null,null,null,null,null,null,null,null,null,null,null,null,null,null,null,null,null,null,null,null,null,null,null,null,null,null,null,null,null,null,null,null,null,null,null,null,null,null,null,{"$f":"IFERROR(VLOOKUP(ROWS($CF$3:CF105),$CH$3:$CI$2001,2,FALSE),\"\")","v":"  "},null,{"$f":"IF(ISNUMBER(SEARCH(B105,CI105)),MAX($CH$2:CH104)+1,0)","v":102},{"$f":"'الرصيد الثابت'!D104","v":"  "}]
["",null,{"$f":"IF(B106=\"\",\"\",SUMIF('الرصيد الثابت'!$D$2:$D$106,B106,'الرصيد الثابت'!$H$2:$H$106))","v":""},{"$f":"IF(B106=\"\",\"\",SUMIF('الرصيد الثابت'!$D$2:$D$106,B106,'الرصيد الثابت'!$I$2:$I$106))","v":""},{"$f":"IF(B106=\"\",\"\",SUMIF('الرصيد الثابت'!$D$2:$D$106,B106,'الرصيد الثابت'!$J$2:$J$106))","v":""},null,0,null,null,null,null,0,null,null,null,0,null,0,null,null,null,null,null,null,null,null,null,null,null,null,null,null,null,null,null,null,null,null,null,null,null,null,null,null,null,null,null,null,null,null,null,null,null,null,null,null,null,null,null,null,null,null,null,null,null,null,null,null,null,null,null,null,null,null,null,null,null,null,null,null,null,null,null,{"$f":"IFERROR(VLOOKUP(ROWS($CF$3:CF106),$CH$3:$CI$2001,2,FALSE),\"\")","v":"  "},null,{"$f":"IF(ISNUMBER(SEARCH(B106,CI106)),MAX($CH$2:CH105)+1,0)","v":103},{"$f":"'الرصيد الثابت'!D105","v":"  "}]
["",null,{"$f":"IF(B107=\"\",\"\",SUMIF('الرصيد الثابت'!$D$2:$D$106,B107,'الرصيد الثابت'!$H$2:$H$106))","v":""},{"$f":"IF(B107=\"\",\"\",SUMIF('الرصيد الثابت'!$D$2:$D$106,B107,'الرصيد الثابت'!$I$2:$I$106))","v":""},{"$f":"IF(B107=\"\",\"\",SUMIF('الرصيد الثابت'!$D$2:$D$106,B107,'الرصيد الثابت'!$J$2:$J$106))","v":""},null,0,null,null,null,null,0,null,null,null,0,null,0,null,null,null,null,null,null,null,null,null,null,null,null,null,null,null,null,null,null,null,null,null,null,null,null,null,null,null,null,null,null,null,null,null,null,null,null,null,null,null,null,null,null,null,null,null,null,null,null,null,null,null,null,null,null,null,null,null,null,null,null,null,null,null,null,null,{"$f":"IFERROR(VLOOKUP(ROWS($CF$3:CF107),$CH$3:$CI$2001,2,FALSE),\"\")","v":""},null,{"$f":"IF(ISNUMBER(SEARCH(B107,CI107)),MAX($CH$2:CH106)+1,0)","v":104},{"$f":"'الرصيد الثابت'!D106","v":"  "}]
["",null,{"$f":"IF(B108=\"\",\"\",SUMIF('الرصيد الثابت'!$D$2:$D$106,B108,'الرصيد الثابت'!$H$2:$H$106))","v":""},{"$f":"IF(B108=\"\",\"\",SUMIF('الرصيد الثابت'!$D$2:$D$106,B108,'الرصيد الثابت'!$I$2:$I$106))","v":""},{"$f":"IF(B108=\"\",\"\",SUMIF('الرصيد الثابت'!$D$2:$D$106,B108,'الرصيد الثابت'!$J$2:$J$106))","v":""},null,0,null,null,null,null,0,null,null,null,0,null,0,null,null,null,null,null,null,null,null,null,null,null,null,null,null,null,null,null,null,null,null,null,null,null,null,null,null,null,null,null,null,null,null,null,null,null,null,null,null,null,null,null,null,null,null,null,null,null,null,null,null,null,null,null,null,null,null,null,null,null,null,null,null,null,null,null,{"$f":"IFERROR(VLOOKUP(ROWS($CF$3:CF108),$CH$3:$CI$2001,2,FALSE),\"\")","v":""},null,{"$f":"IF(ISNUMBER(SEARCH(B108,CI108)),MAX($CH$2:CH107)+1,0)","v":0},{"$f":"'الرصيد الثابت'!#REF!","v":{"$error":"#REF!"}}]
["",null,{"$f":"IF(B109=\"\",\"\",SUMIF('الرصيد الثابت'!$D$2:$D$106,B109,'الرصيد الثابت'!$H$2:$H$106))","v":""},{"$f":"IF(B109=\"\",\"\",SUMIF('الرصيد الثابت'!$D$2:$D$106,B109,'الرصيد الثابت'!$I$2:$I$106))","v":""},{"$f":"IF(B109=\"\",\"\",SUMIF('الرصيد الثابت'!$D$2:$D$106,B109,'الرصيد الثابت'!$J$2:$J$106))","v":""},null,0,null,null,null,null,0,null,null,null,0,null,0,null,null,null,null,null,null,null,null,null,null,null,null,null,null,null,null,null,null,null,null,null,null,null,null,null,null,null,null,null,null,null,null,null,null,null,null,null,null,null,null,null,null,null,null,null,null,null,null,null,null,null,null,null,null,null,null,null,null,null,null,null,null,null,null,null,{"$f":"IFERROR(VLOOKUP(ROWS($CF$3:CF109),$CH$3:$CI$2001,2,FALSE),\"\")","v":""},null,{"$f":"IF(ISNUMBER(SEARCH(B109,CI109)),MAX($CH$2:CH108)+1,0)","v":0},{"$f":"'الرصيد الثابت'!#REF!","v":{"$error":"#REF!"}}]
["",null,{"$f":"IF(B110=\"\",\"\",SUMIF('الرصيد الثابت'!$D$2:$D$106,B110,'الرصيد الثابت'!$H$2:$H$106))","v":""},{"$f":"IF(B110=\"\",\"\",SUMIF('الرصيد الثابت'!$D$2:$D$106,B110,'الرصيد الثابت'!$I$2:$I$106))","v":""},{"$f":"IF(B110=\"\",\"\",SUMIF('الرصيد الثابت'!$D$2:$D$106,B110,'الرصيد الثابت'!$J$2:$J$106))","v":""},null,0,null,null,null,null,0,null,null,null,0,null,0,null,null,null,null,null,null,null,null,null,null,null,null,null,null,null,null,null,null,null,null,null,null,null,null,null,null,null,null,null,null,null,null,null,null,null,null,null,null,null,null,null,null,null,null,null,null,null,null,null,null,null,null,null,null,null,null,null,null,null,null,null,null,null,null,null,{"$f":"IFERROR(VLOOKUP(ROWS($CF$3:CF110),$CH$3:$CI$2001,2,FALSE),\"\")","v":""},null,{"$f":"IF(ISNUMBER(SEARCH(B110,CI110)),MAX($CH$2:CH109)+1,0)","v":0},{"$f":"'الرصيد الثابت'!#REF!","v":{"$error":"#REF!"}}]
["",null,{"$f":"IF(B111=\"\",\"\",SUMIF('الرصيد الثابت'!$D$2:$D$106,B111,'الرصيد الثابت'!$H$2:$H$106))","v":""},{"$f":"IF(B111=\"\",\"\",SUMIF('الرصيد الثابت'!$D$2:$D$106,B111,'الرصيد الثابت'!$I$2:$I$106))","v":""},{"$f":"IF(B111=\"\",\"\",SUMIF('الرصيد الثابت'!$D$2:$D$106,B111,'الرصيد الثابت'!$J$2:$J$106))","v":""},null,0,null,null,null,null,0,null,null,null,0,null,0,null,null,null,null,null,null,null,null,null,null,null,null,null,null,null,null,null,null,null,null,null,null,null,null,null,null,null,null,null,null,null,null,null,null,null,null,null,null,null,null,null,null,null,null,null,null,null,null,null,null,null,null,null,null,null,null,null,null,null,null,null,null,null,null,null,{"$f":"IFERROR(VLOOKUP(ROWS($CF$3:CF111),$CH$3:$CI$2001,2,FALSE),\"\")","v":""},null,{"$f":"IF(ISNUMBER(SEARCH(B111,CI111)),MAX($CH$2:CH110)+1,0)","v":0},{"$f":"'الرصيد الثابت'!#REF!","v":{"$error":"#REF!"}}]
["",null,{"$f":"IF(B112=\"\",\"\",SUMIF('الرصيد الثابت'!$D$2:$D$106,B112,'الرصيد الثابت'!$H$2:$H$106))","v":""},{"$f":"IF(B112=\"\",\"\",SUMIF('الرصيد الثابت'!$D$2:$D$106,B112,'الرصيد الثابت'!$I$2:$I$106))","v":""},{"$f":"IF(B112=\"\",\"\",SUMIF('الرصيد الثابت'!$D$2:$D$106,B112,'الرصيد الثابت'!$J$2:$J$106))","v":""},null,0,null,null,null,null,0,null,null,null,0,null,0,null,null,null,null,null,null,null,null,null,null,null,null,null,null,null,null,null,null,null,null,null,null,null,null,null,null,null,null,null,null,null,null,null,null,null,null,null,null,null,null,null,null,null,null,null,null,null,null,null,null,null,null,null,null,null,null,null,null,null,null,null,null,null,null,null,{"$f":"IFERROR(VLOOKUP(ROWS($CF$3:CF112),$CH$3:$CI$2001,2,FALSE),\"\")","v":""},null,{"$f":"IF(ISNUMBER(SEARCH(B112,CI112)),MAX($CH$2:CH111)+1,0)","v":0},{"$f":"'الرصيد الثابت'!#REF!","v":{"$error":"#REF!"}}]
["",null,{"$f":"IF(B113=\"\",\"\",SUMIF('الرصيد الثابت'!$D$2:$D$106,B113,'الرصيد الثابت'!$H$2:$H$106))","v":""},{"$f":"IF(B113=\"\",\"\",SUMIF('الرصيد الثابت'!$D$2:$D$106,B113,'الرصيد الثابت'!$I$2:$I$106))","v":""},{"$f":"IF(B113=\"\",\"\",SUMIF('الرصيد الثابت'!$D$2:$D$106,B113,'الرصيد الثابت'!$J$2:$J$106))","v":""},null,0,null,null,null,null,0,null,null,null,0,null,0,null,null,null,null,null,null,null,null,null,null,null,null,null,null,null,null,null,null,null,null,null,null,null,null,null,null,null,null,null,null,null,null,null,null,null,null,null,null,null,null,null,null,null,null,null,null,null,null,null,null,null,null,null,null,null,null,null,null,null,null,null,null,null,null,null,{"$f":"IFERROR(VLOOKUP(ROWS($CF$3:CF113),$CH$3:$CI$2001,2,FALSE),\"\")","v":""},null,{"$f":"IF(ISNUMBER(SEARCH(B113,CI113)),MAX($CH$2:CH112)+1,0)","v":0},{"$f":"'الرصيد الثابت'!#REF!","v":{"$error":"#REF!"}}]
["",null,{"$f":"IF(B114=\"\",\"\",SUMIF('الرصيد الثابت'!$D$2:$D$106,B114,'الرصيد الثابت'!$H$2:$H$106))","v":""},{"$f":"IF(B114=\"\",\"\",SUMIF('الرصيد الثابت'!$D$2:$D$106,B114,'الرصيد الثابت'!$I$2:$I$106))","v":""},{"$f":"IF(B114=\"\",\"\",SUMIF('الرصيد الثابت'!$D$2:$D$106,B114,'الرصيد الثابت'!$J$2:$J$106))","v":""},null,0,null,null,null,null,0,null,null,null,0,null,0,null,null,null,null,null,null,null,null,null,null,null,null,null,null,null,null,null,null,null,null,null,null,null,null,null,null,null,null,null,null,null,null,null,null,null,null,null,null,null,null,null,null,null,null,null,null,null,null,null,null,null,null,null,null,null,null,null,null,null,null,null,null,null,null,null,{"$f":"IFERROR(VLOOKUP(ROWS($CF$3:CF114),$CH$3:$CI$2001,2,FALSE),\"\")","v":""},null,{"$f":"IF(ISNUMBER(SEARCH(B114,CI114)),MAX($CH$2:CH113)+1,0)","v":0},{"$f":"'الرصيد الثابت'!#REF!","v":{"$error":"#REF!"}}]
["",null,{"$f":"IF(B115=\"\",\"\",SUMIF('الرصيد الثابت'!$D$2:$D$106,B115,'الرصيد الثابت'!$H$2:$H$106))","v":""},{"$f":"IF(B115=\"\",\"\",SUMIF('الرصيد الثابت'!$D$2:$D$106,B115,'الرصيد الثابت'!$I$2:$I$106))","v":""},{"$f":"IF(B115=\"\",\"\",SUMIF('الرصيد الثابت'!$D$2:$D$106,B115,'الرصيد الثابت'!$J$2:$J$106))","v":""},null,0,null,null,null,null,0,null,null,null,0,null,0,null,null,null,null,null,null,null,null,null,null,null,null,null,null,null,null,null,null,null,null,null,null,null,null,null,null,null,null,null,null,null,null,null,null,null,null,null,null,null,null,null,null,null,null,null,null,null,null,null,null,null,null,null,null,null,null,null,null,null,null,null,null,null,null,null,{"$f":"IFERROR(VLOOKUP(ROWS($CF$3:CF115),$CH$3:$CI$2001,2,FALSE),\"\")","v":""},null,{"$f":"IF(ISNUMBER(SEARCH(B115,CI115)),MAX($CH$2:CH114)+1,0)","v":0},{"$f":"'الرصيد الثابت'!#REF!","v":{"$error":"#REF!"}}]
["",null,{"$f":"IF(B116=\"\",\"\",SUMIF('الرصيد الثابت'!$D$2:$D$106,B116,'الرصيد الثابت'!$H$2:$H$106))","v":""},{"$f":"IF(B116=\"\",\"\",SUMIF('الرصيد الثابت'!$D$2:$D$106,B116,'الرصيد الثابت'!$I$2:$I$106))","v":""},{"$f":"IF(B116=\"\",\"\",SUMIF('الرصيد الثابت'!$D$2:$D$106,B116,'الرصيد الثابت'!$J$2:$J$106))","v":""},null,0,null,null,null,null,0,null,null,null,0,null,0,null,null,null,null,null,null,null,null,null,null,null,null,null,null,null,null,null,null,null,null,null,null,null,null,null,null,null,null,null,null,null,null,null,null,null,null,null,null,null,null,null,null,null,null,null,null,null,null,null,null,null,null,null,null,null,null,null,null,null,null,null,null,null,null,null,{"$f":"IFERROR(VLOOKUP(ROWS($CF$3:CF116),$CH$3:$CI$2001,2,FALSE),\"\")","v":""},null,{"$f":"IF(ISNUMBER(SEARCH(B116,CI116)),MAX($CH$2:CH115)+1,0)","v":0},{"$f":"'الرصيد الثابت'!#REF!","v":{"$error":"#REF!"}}]
["",null,{"$f":"IF(B117=\"\",\"\",SUMIF('الرصيد الثابت'!$D$2:$D$106,B117,'الرصيد الثابت'!$H$2:$H$106))","v":""},{"$f":"IF(B117=\"\",\"\",SUMIF('الرصيد الثابت'!$D$2:$D$106,B117,'الرصيد الثابت'!$I$2:$I$106))","v":""},{"$f":"IF(B117=\"\",\"\",SUMIF('الرصيد الثابت'!$D$2:$D$106,B117,'الرصيد الثابت'!$J$2:$J$106))","v":""},null,0,null,null,null,null,0,null,null,null,0,null,0,null,null,null,null,null,null,null,null,null,null,null,null,null,null,null,null,null,null,null,null,null,null,null,null,null,null,null,null,null,null,null,null,null,null,null,null,null,null,null,null,null,null,null,null,null,null,null,null,null,null,null,null,null,null,null,null,null,null,null,null,null,null,null,null,null,{"$f":"IFERROR(VLOOKUP(ROWS($CF$3:CF117),$CH$3:$CI$2001,2,FALSE),\"\")","v":""},null,{"$f":"IF(ISNUMBER(SEARCH(B117,CI117)),MAX($CH$2:CH116)+1,0)","v":0},{"$f":"'الرصيد الثابت'!#REF!","v":{"$error":"#REF!"}}]
["",null,{"$f":"IF(B118=\"\",\"\",SUMIF('الرصيد الثابت'!$D$2:$D$106,B118,'الرصيد الثابت'!$H$2:$H$106))","v":""},{"$f":"IF(B118=\"\",\"\",SUMIF('الرصيد الثابت'!$D$2:$D$106,B118,'الرصيد الثابت'!$I$2:$I$106))","v":""},{"$f":"IF(B118=\"\",\"\",SUMIF('الرصيد الثابت'!$D$2:$D$106,B118,'الرصيد الثابت'!$J$2:$J$106))","v":""},null,0,null,null,null,null,0,null,null,null,0,null,0,null,null,null,null,null,null,null,null,null,null,null,null,null,null,null,null,null,null,null,null,null,null,null,null,null,null,null,null,null,null,null,null,null,null,null,null,null,null,null,null,null,null,null,null,null,null,null,null,null,null,null,null,null,null,null,null,null,null,null,null,null,null,null,null,null,{"$f":"IFERROR(VLOOKUP(ROWS($CF$3:CF118),$CH$3:$CI$2001,2,FALSE),\"\")","v":""},null,{"$f":"IF(ISNUMBER(SEARCH(B118,CI118)),MAX($CH$2:CH117)+1,0)","v":0},{"$f":"'الرصيد الثابت'!#REF!","v":{"$error":"#REF!"}}]
["",null,{"$f":"IF(B119=\"\",\"\",SUMIF('الرصيد الثابت'!$D$2:$D$106,B119,'الرصيد الثابت'!$H$2:$H$106))","v":""},{"$f":"IF(B119=\"\",\"\",SUMIF('الرصيد الثابت'!$D$2:$D$106,B119,'الرصيد الثابت'!$I$2:$I$106))","v":""},{"$f":"IF(B119=\"\",\"\",SUMIF('الرصيد الثابت'!$D$2:$D$106,B119,'الرصيد الثابت'!$J$2:$J$106))","v":""},null,0,null,null,null,null,0,null,null,null,0,null,0,null,null,null,null,null,null,null,null,null,null,null,null,null,null,null,null,null,null,null,null,null,null,null,null,null,null,null,null,null,null,null,null,null,null,null,null,null,null,null,null,null,null,null,null,null,null,null,null,null,null,null,null,null,null,null,null,null,null,null,null,null,null,null,null,null,{"$f":"IFERROR(VLOOKUP(ROWS($CF$3:CF119),$CH$3:$CI$2001,2,FALSE),\"\")","v":""},null,{"$f":"IF(ISNUMBER(SEARCH(B119,CI119)),MAX($CH$2:CH118)+1,0)","v":0},{"$f":"'الرصيد الثابت'!#REF!","v":{"$error":"#REF!"}}]
["",null,{"$f":"IF(B120=\"\",\"\",SUMIF('الرصيد الثابت'!$D$2:$D$106,B120,'الرصيد الثابت'!$H$2:$H$106))","v":""},{"$f":"IF(B120=\"\",\"\",SUMIF('الرصيد الثابت'!$D$2:$D$106,B120,'الرصيد الثابت'!$I$2:$I$106))","v":""},{"$f":"IF(B120=\"\",\"\",SUMIF('الرصيد الثابت'!$D$2:$D$106,B120,'الرصيد الثابت'!$J$2:$J$106))","v":""},null,0,null,null,null,null,0,null,null,null,0,null,0,null,null,null,null,null,null,null,null,null,null,null,null,null,null,null,null,null,null,null,null,null,null,null,null,null,null,null,null,null,null,null,null,null,null,null,null,null,null,null,null,null,null,null,null,null,null,null,null,null,null,null,null,null,null,null,null,null,null,null,null,null,null,null,null,null,{"$f":"IFERROR(VLOOKUP(ROWS($CF$3:CF120),$CH$3:$CI$2001,2,FALSE),\"\")","v":""},null,{"$f":"IF(ISNUMBER(SEARCH(B120,CI120)),MAX($CH$2:CH119)+1,0)","v":0},{"$f":"'الرصيد الثابت'!#REF!","v":{"$error":"#REF!"}}]
["",null,{"$f":"IF(B121=\"\",\"\",SUMIF('الرصيد الثابت'!$D$2:$D$106,B121,'الرصيد الثابت'!$H$2:$H$106))","v":""},{"$f":"IF(B121=\"\",\"\",SUMIF('الرصيد الثابت'!$D$2:$D$106,B121,'الرصيد الثابت'!$I$2:$I$106))","v":""},{"$f":"IF(B121=\"\",\"\",SUMIF('الرصيد الثابت'!$D$2:$D$106,B121,'الرصيد الثابت'!$J$2:$J$106))","v":""},null,0,null,null,null,null,0,null,null,null,0,null,0,null,null,null,null,null,null,null,null,null,null,null,null,null,null,null,null,null,null,null,null,null,null,null,null,null,null,null,null,null,null,null,null,null,null,null,null,null,null,null,null,null,null,null,null,null,null,null,null,null,null,null,null,null,null,null,null,null,null,null,null,null,null,null,null,null,{"$f":"IFERROR(VLOOKUP(ROWS($CF$3:CF121),$CH$3:$CI$2001,2,FALSE),\"\")","v":""},null,{"$f":"IF(ISNUMBER(SEARCH(B121,CI121)),MAX($CH$2:CH120)+1,0)","v":0},{"$f":"'الرصيد الثابت'!#REF!","v":{"$error":"#REF!"}}]
["",null,{"$f":"IF(B122=\"\",\"\",SUMIF('الرصيد الثابت'!$D$2:$D$106,B122,'الرصيد الثابت'!$H$2:$H$106))","v":""},{"$f":"IF(B122=\"\",\"\",SUMIF('الرصيد الثابت'!$D$2:$D$106,B122,'الرصيد الثابت'!$I$2:$I$106))","v":""},{"$f":"IF(B122=\"\",\"\",SUMIF('الرصيد الثابت'!$D$2:$D$106,B122,'الرصيد الثابت'!$J$2:$J$106))","v":""},null,0,null,null,null,null,0,null,null,null,0,null,0,null,null,null,null,null,null,null,null,null,null,null,null,null,null,null,null,null,null,null,null,null,null,null,null,null,null,null,null,null,null,null,null,null,null,null,null,null,null,null,null,null,null,null,null,null,null,null,null,null,null,null,null,null,null,null,null,null,null,null,null,null,null,null,null,null,{"$f":"IFERROR(VLOOKUP(ROWS($CF$3:CF122),$CH$3:$CI$2001,2,FALSE),\"\")","v":""},null,{"$f":"IF(ISNUMBER(SEARCH(B122,CI122)),MAX($CH$2:CH121)+1,0)","v":0},{"$f":"'الرصيد الثابت'!#REF!","v":{"$error":"#REF!"}}]
["",null,{"$f":"IF(B123=\"\",\"\",SUMIF('الرصيد الثابت'!$D$2:$D$106,B123,'الرصيد الثابت'!$H$2:$H$106))","v":""},{"$f":"IF(B123=\"\",\"\",SUMIF('الرصيد الثابت'!$D$2:$D$106,B123,'الرصيد الثابت'!$I$2:$I$106))","v":""},{"$f":"IF(B123=\"\",\"\",SUMIF('الرصيد الثابت'!$D$2:$D$106,B123,'الرصيد الثابت'!$J$2:$J$106))","v":""},null,0,null,null,null,null,0,null,null,null,0,null,0,null,null,null,null,null,null,null,null,null,null,null,null,null,null,null,null,null,null,null,null,null,null,null,null,null,null,null,null,null,null,null,null,null,null,null,null,null,null,null,null,null,null,null,null,null,null,null,null,null,null,null,null,null,null,null,null,null,null,null,null,null,null,null,null,null,{"$f":"IFERROR(VLOOKUP(ROWS($CF$3:CF123),$CH$3:$CI$2001,2,FALSE),\"\")","v":""},null,{"$f":"IF(ISNUMBER(SEARCH(B123,CI123)),MAX($CH$2:CH122)+1,0)","v":0},{"$f":"'الرصيد الثابت'!#REF!","v":{"$error":"#REF!"}}]
["",null,{"$f":"IF(B124=\"\",\"\",SUMIF('الرصيد الثابت'!$D$2:$D$106,B124,'الرصيد الثابت'!$H$2:$H$106))","v":""},{"$f":"IF(B124=\"\",\"\",SUMIF('الرصيد الثابت'!$D$2:$D$106,B124,'الرصيد الثابت'!$I$2:$I$106))","v":""},{"$f":"IF(B124=\"\",\"\",SUMIF('الرصيد الثابت'!$D$2:$D$106,B124,'الرصيد الثابت'!$J$2:$J$106))","v":""},null,0,null,null,null,null,0,null,null,null,0,null,0,null,null,null,null,null,null,null,null,null,null,null,null,null,null,null,null,null,null,null,null,null,null,null,null,null,null,null,null,null,null,null,null,null,null,null,null,null,null,null,null,null,null,null,null,null,null,null,null,null,null,null,null,null,null,null,null,null,null,null,null,null,null,null,null,null,{"$f":"IFERROR(VLOOKUP(ROWS($CF$3:CF124),$CH$3:$CI$2001,2,FALSE),\"\")","v":""},null,{"$f":"IF(ISNUMBER(SEARCH(B124,CI124)),MAX($CH$2:CH123)+1,0)","v":0},{"$f":"'الرصيد الثابت'!#REF!","v":{"$error":"#REF!"}}]
["",null,{"$f":"IF(B125=\"\",\"\",SUMIF('الرصيد الثابت'!$D$2:$D$106,B125,'الرصيد الثابت'!$H$2:$H$106))","v":""},{"$f":"IF(B125=\"\",\"\",SUMIF('الرصيد الثابت'!$D$2:$D$106,B125,'الرصيد الثابت'!$I$2:$I$106))","v":""},{"$f":"IF(B125=\"\",\"\",SUMIF('الرصيد الثابت'!$D$2:$D$106,B125,'الرصيد الثابت'!$J$2:$J$106))","v":""},null,0,null,null,null,null,0,null,null,null,0,null,0,null,null,null,null,null,null,null,null,null,null,null,null,null,null,null,null,null,null,null,null,null,null,null,null,null,null,null,null,null,null,null,null,null,null,null,null,null,null,null,null,null,null,null,null,null,null,null,null,null,null,null,null,null,null,null,null,null,null,null,null,null,null,null,null,null,{"$f":"IFERROR(VLOOKUP(ROWS($CF$3:CF125),$CH$3:$CI$2001,2,FALSE),\"\")","v":""},null,{"$f":"IF(ISNUMBER(SEARCH(B125,CI125)),MAX($CH$2:CH124)+1,0)","v":0},{"$f":"'الرصيد الثابت'!#REF!","v":{"$error":"#REF!"}}]
["",null,{"$f":"IF(B126=\"\",\"\",SUMIF('الرصيد الثابت'!$D$2:$D$106,B126,'الرصيد الثابت'!$H$2:$H$106))","v":""},{"$f":"IF(B126=\"\",\"\",SUMIF('الرصيد الثابت'!$D$2:$D$106,B126,'الرصيد الثابت'!$I$2:$I$106))","v":""},{"$f":"IF(B126=\"\",\"\",SUMIF('الرصيد الثابت'!$D$2:$D$106,B126,'الرصيد الثابت'!$J$2:$J$106))","v":""},null,0,null,null,null,null,0,null,null,null,0,null,0,null,null,null,null,null,null,null,null,null,null,null,null,null,null,null,null,null,null,null,null,null,null,null,null,null,null,null,null,null,null,null,null,null,null,null,null,null,null,null,null,null,null,null,null,null,null,null,null,null,null,null,null,null,null,null,null,null,null,null,null,null,null,null,null,null,{"$f":"IFERROR(VLOOKUP(ROWS($CF$3:CF126),$CH$3:$CI$2001,2,FALSE),\"\")","v":""},null,{"$f":"IF(ISNUMBER(SEARCH(B126,CI126)),MAX($CH$2:CH125)+1,0)","v":0},{"$f":"'الرصيد الثابت'!#REF!","v":{"$error":"#REF!"}}]
["",null,{"$f":"IF(B127=\"\",\"\",SUMIF('الرصيد الثابت'!$D$2:$D$106,B127,'الرصيد الثابت'!$H$2:$H$106))","v":""},{"$f":"IF(B127=\"\",\"\",SUMIF('الرصيد الثابت'!$D$2:$D$106,B127,'الرصيد الثابت'!$I$2:$I$106))","v":""},{"$f":"IF(B127=\"\",\"\",SUMIF('الرصيد الثابت'!$D$2:$D$106,B127,'الرصيد الثابت'!$J$2:$J$106))","v":""},null,0,null,null,null,null,0,null,null,null,0,null,0,null,null,null,null,null,null,null,null,null,null,null,null,null,null,null,null,null,null,null,null,null,null,null,null,null,null,null,null,null,null,null,null,null,null,null,null,null,null,null,null,null,null,null,null,null,null,null,null,null,null,null,null,null,null,null,null,null,null,null,null,null,null,null,null,null,{"$f":"IFERROR(VLOOKUP(ROWS($CF$3:CF127),$CH$3:$CI$2001,2,FALSE),\"\")","v":""},null,{"$f":"IF(ISNUMBER(SEARCH(B127,CI127)),MAX($CH$2:CH126)+1,0)","v":0},{"$f":"'الرصيد الثابت'!#REF!","v":{"$error":"#REF!"}}]
["",null,{"$f":"IF(B128=\"\",\"\",SUMIF('الرصيد الثابت'!$D$2:$D$106,B128,'الرصيد الثابت'!$H$2:$H$106))","v":""},{"$f":"IF(B128=\"\",\"\",SUMIF('الرصيد الثابت'!$D$2:$D$106,B128,'الرصيد الثابت'!$I$2:$I$106))","v":""},{"$f":"IF(B128=\"\",\"\",SUMIF('الرصيد الثابت'!$D$2:$D$106,B128,'الرصيد الثابت'!$J$2:$J$106))","v":""},null,0,null,null,null,null,0,null,null,null,0,null,0,null,null,null,null,null,null,null,null,null,null,null,null,null,null,null,null,null,null,null,null,null,null,null,null,null,null,null,null,null,null,null,null,null,null,null,null,null,null,null,null,null,null,null,null,null,null,null,null,null,null,null,null,null,null,null,null,null,null,null,null,null,null,null,null,null,{"$f":"IFERROR(VLOOKUP(ROWS($CF$3:CF128),$CH$3:$CI$2001,2,FALSE),\"\")","v":""},null,{"$f":"IF(ISNUMBER(SEARCH(B128,CI128)),MAX($CH$2:CH127)+1,0)","v":0},{"$f":"'الرصيد الثابت'!#REF!","v":{"$error":"#REF!"}}]
["",null,{"$f":"IF(B129=\"\",\"\",SUMIF('الرصيد الثابت'!$D$2:$D$106,B129,'الرصيد الثابت'!$H$2:$H$106))","v":""},{"$f":"IF(B129=\"\",\"\",SUMIF('الرصيد الثابت'!$D$2:$D$106,B129,'الرصيد الثابت'!$I$2:$I$106))","v":""},{"$f":"IF(B129=\"\",\"\",SUMIF('الرصيد الثابت'!$D$2:$D$106,B129,'الرصيد الثابت'!$J$2:$J$106))","v":""},null,0,null,null,null,null,0,null,null,null,0,null,0,null,null,null,null,null,null,null,null,null,null,null,null,null,null,null,null,null,null,null,null,null,null,null,null,null,null,null,null,null,null,null,null,null,null,null,null,null,null,null,null,null,null,null,null,null,null,null,null,null,null,null,null,null,null,null,null,null,null,null,null,null,null,null,null,null,{"$f":"IFERROR(VLOOKUP(ROWS($CF$3:CF129),$CH$3:$CI$2001,2,FALSE),\"\")","v":""},null,{"$f":"IF(ISNUMBER(SEARCH(B129,CI129)),MAX($CH$2:CH128)+1,0)","v":0},{"$f":"'الرصيد الثابت'!#REF!","v":{"$error":"#REF!"}}]
["",null,{"$f":"IF(B130=\"\",\"\",SUMIF('الرصيد الثابت'!$D$2:$D$106,B130,'الرصيد الثابت'!$H$2:$H$106))","v":""},{"$f":"IF(B130=\"\",\"\",SUMIF('الرصيد الثابت'!$D$2:$D$106,B130,'الرصيد الثابت'!$I$2:$I$106))","v":""},{"$f":"IF(B130=\"\",\"\",SUMIF('الرصيد الثابت'!$D$2:$D$106,B130,'الرصيد الثابت'!$J$2:$J$106))","v":""},null,0,null,null,null,null,0,null,null,null,0,null,0,null,null,null,null,null,null,null,null,null,null,null,null,null,null,null,null,null,null,null,null,null,null,null,null,null,null,null,null,null,null,null,null,null,null,null,null,null,null,null,null,null,null,null,null,null,null,null,null,null,null,null,null,null,null,null,null,null,null,null,null,null,null,null,null,null,{"$f":"IFERROR(VLOOKUP(ROWS($CF$3:CF130),$CH$3:$CI$2001,2,FALSE),\"\")","v":""},null,{"$f":"IF(ISNUMBER(SEARCH(B130,CI130)),MAX($CH$2:CH129)+1,0)","v":0},{"$f":"'الرصيد الثابت'!#REF!","v":{"$error":"#REF!"}}]
["",null,{"$f":"IF(B131=\"\",\"\",SUMIF('الرصيد الثابت'!$D$2:$D$106,B131,'الرصيد الثابت'!$H$2:$H$106))","v":""},{"$f":"IF(B131=\"\",\"\",SUMIF('الرصيد الثابت'!$D$2:$D$106,B131,'الرصيد الثابت'!$I$2:$I$106))","v":""},{"$f":"IF(B131=\"\",\"\",SUMIF('الرصيد الثابت'!$D$2:$D$106,B131,'الرصيد الثابت'!$J$2:$J$106))","v":""},null,0,null,null,null,null,0,null,null,null,0,null,0,null,null,null,null,null,null,null,null,null,null,null,null,null,null,null,null,null,null,null,null,null,null,null,null,null,null,null,null,null,null,null,null,null,null,null,null,null,null,null,null,null,null,null,null,null,null,null,null,null,null,null,null,null,null,null,null,null,null,null,null,null,null,null,null,null,{"$f":"IFERROR(VLOOKUP(ROWS($CF$3:CF131),$CH$3:$CI$2001,2,FALSE),\"\")","v":""},null,{"$f":"IF(ISNUMBER(SEARCH(B131,CI131)),MAX($CH$2:CH130)+1,0)","v":0},{"$f":"'الرصيد الثابت'!#REF!","v":{"$error":"#REF!"}}]
[{"$f":"IF(B132<>\"\",IF(A132=\"\",NOW(),A132),\"\")","v":""},null,{"$f":"IF(B132=\"\",\"\",SUMIF('الرصيد الثابت'!$D$2:$D$106,B132,'الرصيد الثابت'!$H$2:$H$106))","v":""},{"$f":"IF(B132=\"\",\"\",SUMIF('الرصيد الثابت'!$D$2:$D$106,B132,'الرصيد الثابت'!$I$2:$I$106))","v":""},{"$f":"IF(B132=\"\",\"\",SUMIF('الرصيد الثابت'!$D$2:$D$106,B132,'الرصيد الثابت'!$J$2:$J$106))","v":""},null,{"$f":"SUM(H132*F132)","v":0},null,null,null,null,{"$f":"SUM(M132*K132)","v":0},null,null,null,{"$f":"SUM(F132-K132)","v":0},null,{"$f":"SUM(S132*Q132)","v":0},null,null,null,null,null,null,null,null,null,null,null,null,null,null,null,null,null,null,null,null,null,null,null,null,null,null,null,null,null,null,null,null,null,null,null,null,null,null,null,null,null,null,null,null,null,null,null,null,null,null,null,null,null,null,null,null,null,null,null,null,null,null,null,null,null,{"$f":"IFERROR(VLOOKUP(ROWS($CF$3:CF132),$CH$3:$CI$2001,2,FALSE),\"\")","v":""},null,{"$f":"IF(ISNUMBER(SEARCH(B132,CI132)),MAX($CH$2:CH131)+1,0)","v":0},{"$f":"'الرصيد الثابت'!#REF!","v":{"$error":"#REF!"}}]
["",null,{"$f":"IF(B133=\"\",\"\",SUMIF('الرصيد الثابت'!$D$2:$D$106,B133,'الرصيد الثابت'!$H$2:$H$106))","v":""},{"$f":"IF(B133=\"\",\"\",SUMIF('الرصيد الثابت'!$D$2:$D$106,B133,'الرصيد الثابت'!$I$2:$I$106))","v":""},{"$f":"IF(B133=\"\",\"\",SUMIF('الرصيد الثابت'!$D$2:$D$106,B133,'الرصيد الثابت'!$J$2:$J$106))","v":""},null,0,null,null,null,null,0,null,null,null,0,null,0,null,null,null,null,null,null,null,null,null,null,null,null,null,null,null,null,null,null,null,null,null,null,null,null,null,null,null,null,null,null,null,null,null,null,null,null,null,null,null,null,null,null,null,null,null,null,null,null,null,null,null,null,null,null,null,null,null,null,null,null,null,null,null,null,null,{"$f":"IFERROR(VLOOKUP(ROWS($CF$3:CF133),$CH$3:$CI$2001,2,FALSE),\"\")","v":""},null,{"$f":"IF(ISNUMBER(SEARCH(B133,CI133)),MAX($CH$2:CH132)+1,0)","v":0},{"$f":"'الرصيد الثابت'!#REF!","v":{"$error":"#REF!"}}]
["",null,{"$f":"IF(B134=\"\",\"\",SUMIF('الرصيد الثابت'!$D$2:$D$106,B134,'الرصيد الثابت'!$H$2:$H$106))","v":""},{"$f":"IF(B134=\"\",\"\",SUMIF('الرصيد الثابت'!$D$2:$D$106,B134,'الرصيد الثابت'!$I$2:$I$106))","v":""},{"$f":"IF(B134=\"\",\"\",SUMIF('الرصيد الثابت'!$D$2:$D$106,B134,'الرصيد الثابت'!$J$2:$J$106))","v":""},null,0,null,null,null,null,0,null,null,null,0,null,0,null,null,null,null,null,null,null,null,null,null,null,null,null,null,null,null,null,null,null,null,null,null,null,null,null,null,null,null,null,null,null,null,null,null,null,null,null,null,null,null,null,null,null,null,null,null,null,null,null,null,null,null,null,null,null,null,null,null,null,null,null,null,null,null,null,{"$f":"IFERROR(VLOOKUP(ROWS($CF$3:CF134),$CH$3:$CI$2001,2,FALSE),\"\")","v":""},null,{"$f":"IF(ISNUMBER(SEARCH(B134,CI134)),MAX($CH$2:CH133)+1,0)","v":0},{"$f":"'الرصيد الثابت'!#REF!","v":{"$error":"#REF!"}}]
["",null,{"$f":"IF(B135=\"\",\"\",SUMIF('الرصيد الثابت'!$D$2:$D$106,B135,'الرصيد الثابت'!$H$2:$H$106))","v":""},{"$f":"IF(B135=\"\",\"\",SUMIF('الرصيد الثابت'!$D$2:$D$106,B135,'الرصيد الثابت'!$I$2:$I$106))","v":""},{"$f":"IF(B135=\"\",\"\",SUMIF('الرصيد الثابت'!$D$2:$D$106,B135,'الرصيد الثابت'!$J$2:$J$106))","v":""},null,0,null,null,null,null,0,null,null,null,0,null,0,null,null,null,null,null,null,null,null,null,null,null,null,null,null,null,null,null,null,null,null,null,null,null,null,null,null,null,null,null,null,null,null,null,null,null,null,null,null,null,null,null,null,null,null,null,null,null,null,null,null,null,null,null,null,null,null,null,null,null,null,null,null,null,null,null,{"$f":"IFERROR(VLOOKUP(ROWS($CF$3:CF135),$CH$3:$CI$2001,2,FALSE),\"\")","v":""},null,{"$f":"IF(ISNUMBER(SEARCH(B135,CI135)),MAX($CH$2:CH134)+1,0)","v":0},{"$f":"'الرصيد الثابت'!#REF!","v":{"$error":"#REF!"}}]
["",null,{"$f":"IF(B136=\"\",\"\",SUMIF('الرصيد الثابت'!$D$2:$D$106,B136,'الرصيد الثابت'!$H$2:$H$106))","v":""},{"$f":"IF(B136=\"\",\"\",SUMIF('الرصيد الثابت'!$D$2:$D$106,B136,'الرصيد الثابت'!$I$2:$I$106))","v":""},{"$f":"IF(B136=\"\",\"\",SUMIF('الرصيد الثابت'!$D$2:$D$106,B136,'الرصيد الثابت'!$J$2:$J$106))","v":""},null,0,null,null,null,null,0,null,null,null,0,null,0,null,null,null,null,null,null,null,null,null,null,null,null,null,null,null,null,null,null,null,null,null,null,null,null,null,null,null,null,null,null,null,null,null,null,null,null,null,null,null,null,null,null,null,null,null,null,null,null,null,null,null,null,null,null,null,null,null,null,null,null,null,null,null,null,null,{"$f":"IFERROR(VLOOKUP(ROWS($CF$3:CF136),$CH$3:$CI$2001,2,FALSE),\"\")","v":""},null,{"$f":"IF(ISNUMBER(SEARCH(B136,CI136)),MAX($CH$2:CH135)+1,0)","v":0},{"$f":"'الرصيد الثابت'!#REF!","v":{"$error":"#REF!"}}]
["",null,{"$f":"IF(B137=\"\",\"\",SUMIF('الرصيد الثابت'!$D$2:$D$106,B137,'الرصيد الثابت'!$H$2:$H$106))","v":""},{"$f":"IF(B137=\"\",\"\",SUMIF('الرصيد الثابت'!$D$2:$D$106,B137,'الرصيد الثابت'!$I$2:$I$106))","v":""},{"$f":"IF(B137=\"\",\"\",SUMIF('الرصيد الثابت'!$D$2:$D$106,B137,'الرصيد الثابت'!$J$2:$J$106))","v":""},null,0,null,null,null,null,0,null,null,null,0,null,0,null,null,null,null,null,null,null,null,null,null,null,null,null,null,null,null,null,null,null,null,null,null,null,null,null,null,null,null,null,null,null,null,null,null,null,null,null,null,null,null,null,null,null,null,null,null,null,null,null,null,null,null,null,null,null,null,null,null,null,null,null,null,null,null,null,{"$f":"IFERROR(VLOOKUP(ROWS($CF$3:CF137),$CH$3:$CI$2001,2,FALSE),\"\")","v":""},null,{"$f":"IF(ISNUMBER(SEARCH(B137,CI137)),MAX($CH$2:CH136)+1,0)","v":0},{"$f":"'الرصيد الثابت'!#REF!","v":{"$error":"#REF!"}}]
["",null,{"$f":"IF(B138=\"\",\"\",SUMIF('الرصيد الثابت'!$D$2:$D$106,B138,'الرصيد الثابت'!$H$2:$H$106))","v":""},{"$f":"IF(B138=\"\",\"\",SUMIF('الرصيد الثابت'!$D$2:$D$106,B138,'الرصيد الثابت'!$I$2:$I$106))","v":""},{"$f":"IF(B138=\"\",\"\",SUMIF('الرصيد الثابت'!$D$2:$D$106,B138,'الرصيد الثابت'!$J$2:$J$106))","v":""},null,0,null,null,null,null,0,null,null,null,0,null,0,null,null,null,null,null,null,null,null,null,null,null,null,null,null,null,null,null,null,null,null,null,null,null,null,null,null,null,null,null,null,null,null,null,null,null,null,null,null,null,null,null,null,null,null,null,null,null,null,null,null,null,null,null,null,null,null,null,null,null,null,null,null,null,null,null,{"$f":"IFERROR(VLOOKUP(ROWS($CF$3:CF138),$CH$3:$CI$2001,2,FALSE),\"\")","v":""},null,{"$f":"IF(ISNUMBER(SEARCH(B138,CI138)),MAX($CH$2:CH137)+1,0)","v":0},{"$f":"'الرصيد الثابت'!#REF!","v":{"$error":"#REF!"}}]
["",null,{"$f":"IF(B139=\"\",\"\",SUMIF('الرصيد الثابت'!$D$2:$D$106,B139,'الرصيد الثابت'!$H$2:$H$106))","v":""},{"$f":"IF(B139=\"\",\"\",SUMIF('الرصيد الثابت'!$D$2:$D$106,B139,'الرصيد الثابت'!$I$2:$I$106))","v":""},{"$f":"IF(B139=\"\",\"\",SUMIF('الرصيد الثابت'!$D$2:$D$106,B139,'الرصيد الثابت'!$J$2:$J$106))","v":""},null,0,null,null,null,null,0,null,null,null,0,null,0,null,null,null,null,null,null,null,null,null,null,null,null,null,null,null,null,null,null,null,null,null,null,null,null,null,null,null,null,null,null,null,null,null,null,null,null,null,null,null,null,null,null,null,null,null,null,null,null,null,null,null,null,null,null,null,null,null,null,null,null,null,null,null,null,null,{"$f":"IFERROR(VLOOKUP(ROWS($CF$3:CF139),$CH$3:$CI$2001,2,FALSE),\"\")","v":""},null,{"$f":"IF(ISNUMBER(SEARCH(B139,CI139)),MAX($CH$2:CH138)+1,0)","v":0},{"$f":"'الرصيد الثابت'!#REF!","v":{"$error":"#REF!"}}]
["",null,{"$f":"IF(B140=\"\",\"\",SUMIF('الرصيد الثابت'!$D$2:$D$106,B140,'الرصيد الثابت'!$H$2:$H$106))","v":""},{"$f":"IF(B140=\"\",\"\",SUMIF('الرصيد الثابت'!$D$2:$D$106,B140,'الرصيد الثابت'!$I$2:$I$106))","v":""},{"$f":"IF(B140=\"\",\"\",SUMIF('الرصيد الثابت'!$D$2:$D$106,B140,'الرصيد الثابت'!$J$2:$J$106))","v":""},null,0,null,null,null,null,0,null,null,null,0,null,0,null,null,null,null,null,null,null,null,null,null,null,null,null,null,null,null,null,null,null,null,null,null,null,null,null,null,null,null,null,null,null,null,null,null,null,null,null,null,null,null,null,null,null,null,null,null,null,null,null,null,null,null,null,null,null,null,null,null,null,null,null,null,null,null,null,{"$f":"IFERROR(VLOOKUP(ROWS($CF$3:CF140),$CH$3:$CI$2001,2,FALSE),\"\")","v":""},null,{"$f":"IF(ISNUMBER(SEARCH(B140,CI140)),MAX($CH$2:CH139)+1,0)","v":0},{"$f":"'الرصيد الثابت'!#REF!","v":{"$error":"#REF!"}}]
["",null,{"$f":"IF(B141=\"\",\"\",SUMIF('الرصيد الثابت'!$D$2:$D$106,B141,'الرصيد الثابت'!$H$2:$H$106))","v":""},{"$f":"IF(B141=\"\",\"\",SUMIF('الرصيد الثابت'!$D$2:$D$106,B141,'الرصيد الثابت'!$I$2:$I$106))","v":""},{"$f":"IF(B141=\"\",\"\",SUMIF('الرصيد الثابت'!$D$2:$D$106,B141,'الرصيد الثابت'!$J$2:$J$106))","v":""},null,0,null,null,null,null,0,null,null,null,0,null,0,null,null,null,null,null,null,null,null,null,null,null,null,null,null,null,null,null,null,null,null,null,null,null,null,null,null,null,null,null,null,null,null,null,null,null,null,null,null,null,null,null,null,null,null,null,null,null,null,null,null,null,null,null,null,null,null,null,null,null,null,null,null,null,null,null,{"$f":"IFERROR(VLOOKUP(ROWS($CF$3:CF141),$CH$3:$CI$2001,2,FALSE),\"\")","v":""},null,{"$f":"IF(ISNUMBER(SEARCH(B141,CI141)),MAX($CH$2:CH140)+1,0)","v":0},{"$f":"'الرصيد الثابت'!#REF!","v":{"$error":"#REF!"}}]
["",null,{"$f":"IF(B142=\"\",\"\",SUMIF('الرصيد الثابت'!$D$2:$D$106,B142,'الرصيد الثابت'!$H$2:$H$106))","v":""},{"$f":"IF(B142=\"\",\"\",SUMIF('الرصيد الثابت'!$D$2:$D$106,B142,'الرصيد الثابت'!$I$2:$I$106))","v":""},{"$f":"IF(B142=\"\",\"\",SUMIF('الرصيد الثابت'!$D$2:$D$106,B142,'الرصيد الثابت'!$J$2:$J$106))","v":""},null,0,null,null,null,null,0,null,null,null,0,null,0,null,null,null,null,null,null,null,null,null,null,null,null,null,null,null,null,null,null,null,null,null,null,null,null,null,null,null,null,null,null,null,null,null,null,null,null,null,null,null,null,null,null,null,null,null,null,null,null,null,null,null,null,null,null,null,null,null,null,null,null,null,null,null,null,null,{"$f":"IFERROR(VLOOKUP(ROWS($CF$3:CF142),$CH$3:$CI$2001,2,FALSE),\"\")","v":""},null,{"$f":"IF(ISNUMBER(SEARCH(B142,CI142)),MAX($CH$2:CH141)+1,0)","v":0},{"$f":"'الرصيد الثابت'!#REF!","v":{"$error":"#REF!"}}]
["",null,{"$f":"IF(B143=\"\",\"\",SUMIF('الرصيد الثابت'!$D$2:$D$106,B143,'الرصيد الثابت'!$H$2:$H$106))","v":""},{"$f":"IF(B143=\"\",\"\",SUMIF('الرصيد الثابت'!$D$2:$D$106,B143,'الرصيد الثابت'!$I$2:$I$106))","v":""},{"$f":"IF(B143=\"\",\"\",SUMIF('الرصيد الثابت'!$D$2:$D$106,B143,'الرصيد الثابت'!$J$2:$J$106))","v":""},null,0,null,null,null,null,0,null,null,null,0,null,0,null,null,null,null,null,null,null,null,null,null,null,null,null,null,null,null,null,null,null,null,null,null,null,null,null,null,null,null,null,null,null,null,null,null,null,null,null,null,null,null,null,null,null,null,null,null,null,null,null,null,null,null,null,null,null,null,null,null,null,null,null,null,null,null,null,{"$f":"IFERROR(VLOOKUP(ROWS($CF$3:CF143),$CH$3:$CI$2001,2,FALSE),\"\")","v":""},null,{"$f":"IF(ISNUMBER(SEARCH(B143,CI143)),MAX($CH$2:CH142)+1,0)","v":0},{"$f":"'الرصيد الثابت'!#REF!","v":{"$error":"#REF!"}}]
["",null,{"$f":"IF(B144=\"\",\"\",SUMIF('الرصيد الثابت'!$D$2:$D$106,B144,'الرصيد الثابت'!$H$2:$H$106))","v":""},{"$f":"IF(B144=\"\",\"\",SUMIF('الرصيد الثابت'!$D$2:$D$106,B144,'الرصيد الثابت'!$I$2:$I$106))","v":""},{"$f":"IF(B144=\"\",\"\",SUMIF('الرصيد الثابت'!$D$2:$D$106,B144,'الرصيد الثابت'!$J$2:$J$106))","v":""},null,0,null,null,null,null,0,null,null,null,0,null,0,null,null,null,null,null,null,null,null,null,null,null,null,null,null,null,null,null,null,null,null,null,null,null,null,null,null,null,null,null,null,null,null,null,null,null,null,null,null,null,null,null,null,null,null,null,null,null,null,null,null,null,null,null,null,null,null,null,null,null,null,null,null,null,null,null,{"$f":"IFERROR(VLOOKUP(ROWS($CF$3:CF144),$CH$3:$CI$2001,2,FALSE),\"\")","v":""},null,{"$f":"IF(ISNUMBER(SEARCH(B144,CI144)),MAX($CH$2:CH143)+1,0)","v":0},{"$f":"'الرصيد الثابت'!#REF!","v":{"$error":"#REF!"}}]
["",null,{"$f":"IF(B145=\"\",\"\",SUMIF('الرصيد الثابت'!$D$2:$D$106,B145,'الرصيد الثابت'!$H$2:$H$106))","v":""},{"$f":"IF(B145=\"\",\"\",SUMIF('الرصيد الثابت'!$D$2:$D$106,B145,'الرصيد الثابت'!$I$2:$I$106))","v":""},{"$f":"IF(B145=\"\",\"\",SUMIF('الرصيد الثابت'!$D$2:$D$106,B145,'الرصيد الثابت'!$J$2:$J$106))","v":""},null,0,null,null,null,null,0,null,null,null,0,null,0,null,null,null,null,null,null,null,null,null,null,null,null,null,null,null,null,null,null,null,null,null,null,null,null,null,null,null,null,null,null,null,null,null,null,null,null,null,null,null,null,null,null,null,null,null,null,null,null,null,null,null,null,null,null,null,null,null,null,null,null,null,null,null,null,null,{"$f":"IFERROR(VLOOKUP(ROWS($CF$3:CF145),$CH$3:$CI$2001,2,FALSE),\"\")","v":""},null,{"$f":"IF(ISNUMBER(SEARCH(B145,CI145)),MAX($CH$2:CH144)+1,0)","v":0},{"$f":"'الرصيد الثابت'!#REF!","v":{"$error":"#REF!"}}]
["",null,{"$f":"IF(B146=\"\",\"\",SUMIF('الرصيد الثابت'!$D$2:$D$106,B146,'الرصيد الثابت'!$H$2:$H$106))","v":""},{"$f":"IF(B146=\"\",\"\",SUMIF('الرصيد الثابت'!$D$2:$D$106,B146,'الرصيد الثابت'!$I$2:$I$106))","v":""},{"$f":"IF(B146=\"\",\"\",SUMIF('الرصيد الثابت'!$D$2:$D$106,B146,'الرصيد الثابت'!$J$2:$J$106))","v":""},null,0,null,null,null,null,0,null,null,null,0,null,0,null,null,null,null,null,null,null,null,null,null,null,null,null,null,null,null,null,null,null,null,null,null,null,null,null,null,null,null,null,null,null,null,null,null,null,null,null,null,null,null,null,null,null,null,null,null,null,null,null,null,null,null,null,null,null,null,null,null,null,null,null,null,null,null,null,{"$f":"IFERROR(VLOOKUP(ROWS($CF$3:CF146),$CH$3:$CI$2001,2,FALSE),\"\")","v":""},null,{"$f":"IF(ISNUMBER(SEARCH(B146,CI146)),MAX($CH$2:CH145)+1,0)","v":0},{"$f":"'الرصيد الثابت'!#REF!","v":{"$error":"#REF!"}}]
["",null,{"$f":"IF(B147=\"\",\"\",SUMIF('الرصيد الثابت'!$D$2:$D$106,B147,'الرصيد الثابت'!$H$2:$H$106))","v":""},{"$f":"IF(B147=\"\",\"\",SUMIF('الرصيد الثابت'!$D$2:$D$106,B147,'الرصيد الثابت'!$I$2:$I$106))","v":""},{"$f":"IF(B147=\"\",\"\",SUMIF('الرصيد الثابت'!$D$2:$D$106,B147,'الرصيد الثابت'!$J$2:$J$106))","v":""},null,0,null,null,null,null,0,null,null,null,0,null,0,null,null,null,null,null,null,null,null,null,null,null,null,null,null,null,null,null,null,null,null,null,null,null,null,null,null,null,null,null,null,null,null,null,null,null,null,null,null,null,null,null,null,null,null,null,null,null,null,null,null,null,null,null,null,null,null,null,null,null,null,null,null,null,null,null,{"$f":"IFERROR(VLOOKUP(ROWS($CF$3:CF147),$CH$3:$CI$2001,2,FALSE),\"\")","v":""},null,{"$f":"IF(ISNUMBER(SEARCH(B147,CI147)),MAX($CH$2:CH146)+1,0)","v":0},{"$f":"'الرصيد الثابت'!#REF!","v":{"$error":"#REF!"}}]
["",null,{"$f":"IF(B148=\"\",\"\",SUMIF('الرصيد الثابت'!$D$2:$D$106,B148,'الرصيد الثابت'!$H$2:$H$106))","v":""},{"$f":"IF(B148=\"\",\"\",SUMIF('الرصيد الثابت'!$D$2:$D$106,B148,'الرصيد الثابت'!$I$2:$I$106))","v":""},{"$f":"IF(B148=\"\",\"\",SUMIF('الرصيد الثابت'!$D$2:$D$106,B148,'الرصيد الثابت'!$J$2:$J$106))","v":""},null,0,null,null,null,null,0,null,null,null,0,null,0,null,null,null,null,null,null,null,null,null,null,null,null,null,null,null,null,null,null,null,null,null,null,null,null,null,null,null,null,null,null,null,null,null,null,null,null,null,null,null,null,null,null,null,null,null,null,null,null,null,null,null,null,null,null,null,null,null,null,null,null,null,null,null,null,null,{"$f":"IFERROR(VLOOKUP(ROWS($CF$3:CF148),$CH$3:$CI$2001,2,FALSE),\"\")","v":""},null,{"$f":"IF(ISNUMBER(SEARCH(B148,CI148)),MAX($CH$2:CH147)+1,0)","v":0},{"$f":"'الرصيد الثابت'!#REF!","v":{"$error":"#REF!"}}]
["",null,{"$f":"IF(B149=\"\",\"\",SUMIF('الرصيد الثابت'!$D$2:$D$106,B149,'الرصيد الثابت'!$H$2:$H$106))","v":""},{"$f":"IF(B149=\"\",\"\",SUMIF('الرصيد الثابت'!$D$2:$D$106,B149,'الرصيد الثابت'!$I$2:$I$106))","v":""},{"$f":"IF(B149=\"\",\"\",SUMIF('الرصيد الثابت'!$D$2:$D$106,B149,'الرصيد الثابت'!$J$2:$J$106))","v":""},null,0,null,null,null,null,0,null,null,null,0,null,0,null,null,null,null,null,null,null,null,null,null,null,null,null,null,null,null,null,null,null,null,null,null,null,null,null,null,null,null,null,null,null,null,null,null,null,null,null,null,null,null,null,null,null,null,null,null,null,null,null,null,null,null,null,null,null,null,null,null,null,null,null,null,null,null,null,{"$f":"IFERROR(VLOOKUP(ROWS($CF$3:CF149),$CH$3:$CI$2001,2,FALSE),\"\")","v":""},null,{"$f":"IF(ISNUMBER(SEARCH(B149,CI149)),MAX($CH$2:CH148)+1,0)","v":0},{"$f":"'الرصيد الثابت'!#REF!","v":{"$error":"#REF!"}}]
["",null,{"$f":"IF(B150=\"\",\"\",SUMIF('الرصيد الثابت'!$D$2:$D$106,B150,'الرصيد الثابت'!$H$2:$H$106))","v":""},{"$f":"IF(B150=\"\",\"\",SUMIF('الرصيد الثابت'!$D$2:$D$106,B150,'الرصيد الثابت'!$I$2:$I$106))","v":""},{"$f":"IF(B150=\"\",\"\",SUMIF('الرصيد الثابت'!$D$2:$D$106,B150,'الرصيد الثابت'!$J$2:$J$106))","v":""},null,0,null,null,null,null,0,null,null,null,0,null,0,null,null,null,null,null,null,null,null,null,null,null,null,null,null,null,null,null,null,null,null,null,null,null,null,null,null,null,null,null,null,null,null,null,null,null,null,null,null,null,null,null,null,null,null,null,null,null,null,null,null,null,null,null,null,null,null,null,null,null,null,null,null,null,null,null,{"$f":"IFERROR(VLOOKUP(ROWS($CF$3:CF150),$CH$3:$CI$2001,2,FALSE),\"\")","v":""},null,{"$f":"IF(ISNUMBER(SEARCH(B150,CI150)),MAX($CH$2:CH149)+1,0)","v":0},{"$f":"'الرصيد الثابت'!#REF!","v":{"$error":"#REF!"}}]
["",null,{"$f":"IF(B151=\"\",\"\",SUMIF('الرصيد الثابت'!$D$2:$D$106,B151,'الرصيد الثابت'!$H$2:$H$106))","v":""},{"$f":"IF(B151=\"\",\"\",SUMIF('الرصيد الثابت'!$D$2:$D$106,B151,'الرصيد الثابت'!$I$2:$I$106))","v":""},{"$f":"IF(B151=\"\",\"\",SUMIF('الرصيد الثابت'!$D$2:$D$106,B151,'الرصيد الثابت'!$J$2:$J$106))","v":""},null,0,null,null,null,null,0,null,null,null,0,null,0,null,null,null,null,null,null,null,null,null,null,null,null,null,null,null,null,null,null,null,null,null,null,null,null,null,null,null,null,null,null,null,null,null,null,null,null,null,null,null,null,null,null,null,null,null,null,null,null,null,null,null,null,null,null,null,null,null,null,null,null,null,null,null,null,null,{"$f":"IFERROR(VLOOKUP(ROWS($CF$3:CF151),$CH$3:$CI$2001,2,FALSE),\"\")","v":""},null,{"$f":"IF(ISNUMBER(SEARCH(B151,CI151)),MAX($CH$2:CH150)+1,0)","v":0},{"$f":"'الرصيد الثابت'!#REF!","v":{"$error":"#REF!"}}]
[{"$f":"IF(B4590<>\"\",IF(A4590=\"\",NOW(),A4590),\"\")","v":""},null,{"$f":"IF(B152=\"\",\"\",SUMIF('الرصيد الثابت'!$D$2:$D$106,B152,'الرصيد الثابت'!$H$2:$H$106))","v":""},{"$f":"IF(B152=\"\",\"\",SUMIF('الرصيد الثابت'!$D$2:$D$106,B152,'الرصيد الثابت'!$I$2:$I$106))","v":""},{"$f":"IF(B152=\"\",\"\",SUMIF('الرصيد الثابت'!$D$2:$D$106,B152,'الرصيد الثابت'!$J$2:$J$106))","v":""},null,{"$f":"SUM(H4590*F4590)","v":0},null,null,null,null,0,null,null,null,{"$f":"SUM(F4590-K4590)","v":0},null,{"$f":"SUM(S4590*Q4590)","v":0},null,null,null,null,null,null,null,null,null,null,null,null,null,null,null,null,null,null,null,null,null,null,null,null,null,null,null,null,null,null,null,null,null,null,null,null,null,null,null,null,null,null,null,null,null,null,null,null,null,null,null,null,null,null,null,null,null,null,null,null,null,null,null,null,null,{"$f":"IFERROR(VLOOKUP(ROWS($CF$3:CF152),$CH$3:$CI$2001,2,FALSE),\"\")","v":""},null,{"$f":"IF(ISNUMBER(SEARCH(B152,CI152)),MAX($CH$2:CH151)+1,0)","v":0},{"$f":"'الرصيد الثابت'!#REF!","v":{"$error":"#REF!"}}]
["",null,{"$f":"IF(B153=\"\",\"\",SUMIF('الرصيد الثابت'!$D$2:$D$106,B153,'الرصيد الثابت'!$H$2:$H$106))","v":""},{"$f":"IF(B153=\"\",\"\",SUMIF('الرصيد الثابت'!$D$2:$D$106,B153,'الرصيد الثابت'!$I$2:$I$106))","v":""},{"$f":"IF(B153=\"\",\"\",SUMIF('الرصيد الثابت'!$D$2:$D$106,B153,'الرصيد الثابت'!$J$2:$J$106))","v":""},null,0,null,null,null,null,0,null,null,null,0,null,0,null,null,null,null,null,null,null,null,null,null,null,null,null,null,null,null,null,null,null,null,null,null,null,null,null,null,null,null,null,null,null,null,null,null,null,null,null,null,null,null,null,null,null,null,null,null,null,null,null,null,null,null,null,null,null,null,null,null,null,null,null,null,null,null,null,{"$f":"IFERROR(VLOOKUP(ROWS($CF$3:CF153),$CH$3:$CI$2001,2,FALSE),\"\")","v":""},null,{"$f":"IF(ISNUMBER(SEARCH(B153,CI153)),MAX($CH$2:CH152)+1,0)","v":0},{"$f":"'الرصيد الثابت'!#REF!","v":{"$error":"#REF!"}}]
["",null,{"$f":"IF(B154=\"\",\"\",SUMIF('الرصيد الثابت'!$D$2:$D$106,B154,'الرصيد الثابت'!$H$2:$H$106))","v":""},{"$f":"IF(B154=\"\",\"\",SUMIF('الرصيد الثابت'!$D$2:$D$106,B154,'الرصيد الثابت'!$I$2:$I$106))","v":""},{"$f":"IF(B154=\"\",\"\",SUMIF('الرصيد الثابت'!$D$2:$D$106,B154,'الرصيد الثابت'!$J$2:$J$106))","v":""},null,0,null,null,null,null,0,null,null,null,0,null,0,null,null,null,null,null,null,null,null,null,null,null,null,null,null,null,null,null,null,null,null,null,null,null,null,null,null,null,null,null,null,null,null,null,null,null,null,null,null,null,null,null,null,null,null,null,null,null,null,null,null,null,null,null,null,null,null,null,null,null,null,null,null,null,null,null,{"$f":"IFERROR(VLOOKUP(ROWS($CF$3:CF154),$CH$3:$CI$2001,2,FALSE),\"\")","v":""},null,{"$f":"IF(ISNUMBER(SEARCH(B154,CI154)),MAX($CH$2:CH153)+1,0)","v":0},{"$f":"'الرصيد الثابت'!#REF!","v":{"$error":"#REF!"}}]
["",null,{"$f":"IF(B155=\"\",\"\",SUMIF('الرصيد الثابت'!$D$2:$D$106,B155,'الرصيد الثابت'!$H$2:$H$106))","v":""},{"$f":"IF(B155=\"\",\"\",SUMIF('الرصيد الثابت'!$D$2:$D$106,B155,'الرصيد الثابت'!$I$2:$I$106))","v":""},{"$f":"IF(B155=\"\",\"\",SUMIF('الرصيد الثابت'!$D$2:$D$106,B155,'الرصيد الثابت'!$J$2:$J$106))","v":""},null,0,null,null,null,null,0,null,null,null,0,null,0,null,null,null,null,null,null,null,null,null,null,null,null,null,null,null,null,null,null,null,null,null,null,null,null,null,null,null,null,null,null,null,null,null,null,null,null,null,null,null,null,null,null,null,null,null,null,null,null,null,null,null,null,null,null,null,null,null,null,null,null,null,null,null,null,null,{"$f":"IFERROR(VLOOKUP(ROWS($CF$3:CF155),$CH$3:$CI$2001,2,FALSE),\"\")","v":""},null,{"$f":"IF(ISNUMBER(SEARCH(B155,CI155)),MAX($CH$2:CH154)+1,0)","v":0},{"$f":"'الرصيد الثابت'!#REF!","v":{"$error":"#REF!"}}]
["",null,{"$f":"IF(B156=\"\",\"\",SUMIF('الرصيد الثابت'!$D$2:$D$106,B156,'الرصيد الثابت'!$H$2:$H$106))","v":""},{"$f":"IF(B156=\"\",\"\",SUMIF('الرصيد الثابت'!$D$2:$D$106,B156,'الرصيد الثابت'!$I$2:$I$106))","v":""},{"$f":"IF(B156=\"\",\"\",SUMIF('الرصيد الثابت'!$D$2:$D$106,B156,'الرصيد الثابت'!$J$2:$J$106))","v":""},null,0,null,null,null,null,0,null,null,null,0,null,0,null,null,null,null,null,null,null,null,null,null,null,null,null,null,null,null,null,null,null,null,null,null,null,null,null,null,null,null,null,null,null,null,null,null,null,null,null,null,null,null,null,null,null,null,null,null,null,null,null,null,null,null,null,null,null,null,null,null,null,null,null,null,null,null,null,{"$f":"IFERROR(VLOOKUP(ROWS($CF$3:CF156),$CH$3:$CI$2001,2,FALSE),\"\")","v":""},null,{"$f":"IF(ISNUMBER(SEARCH(B156,CI156)),MAX($CH$2:CH155)+1,0)","v":0},{"$f":"'الرصيد الثابت'!#REF!","v":{"$error":"#REF!"}}]
["",null,{"$f":"IF(B157=\"\",\"\",SUMIF('الرصيد الثابت'!$D$2:$D$106,B157,'الرصيد الثابت'!$H$2:$H$106))","v":""},{"$f":"IF(B157=\"\",\"\",SUMIF('الرصيد الثابت'!$D$2:$D$106,B157,'الرصيد الثابت'!$I$2:$I$106))","v":""},{"$f":"IF(B157=\"\",\"\",SUMIF('الرصيد الثابت'!$D$2:$D$106,B157,'الرصيد الثابت'!$J$2:$J$106))","v":""},null,0,null,null,null,null,0,null,null,null,0,null,0,null,null,null,null,null,null,null,null,null,null,null,null,null,null,null,null,null,null,null,null,null,null,null,null,null,null,null,null,null,null,null,null,null,null,null,null,null,null,null,null,null,null,null,null,null,null,null,null,null,null,null,null,null,null,null,null,null,null,null,null,null,null,null,null,null,{"$f":"IFERROR(VLOOKUP(ROWS($CF$3:CF157),$CH$3:$CI$2001,2,FALSE),\"\")","v":""},null,{"$f":"IF(ISNUMBER(SEARCH(B157,CI157)),MAX($CH$2:CH156)+1,0)","v":0},{"$f":"'الرصيد الثابت'!#REF!","v":{"$error":"#REF!"}}]
["",null,{"$f":"IF(B158=\"\",\"\",SUMIF('الرصيد الثابت'!$D$2:$D$106,B158,'الرصيد الثابت'!$H$2:$H$106))","v":""},{"$f":"IF(B158=\"\",\"\",SUMIF('الرصيد الثابت'!$D$2:$D$106,B158,'الرصيد الثابت'!$I$2:$I$106))","v":""},{"$f":"IF(B158=\"\",\"\",SUMIF('الرصيد الثابت'!$D$2:$D$106,B158,'الرصيد الثابت'!$J$2:$J$106))","v":""},null,0,null,null,null,null,0,null,null,null,0,null,0,null,null,null,null,null,null,null,null,null,null,null,null,null,null,null,null,null,null,null,null,null,null,null,null,null,null,null,null,null,null,null,null,null,null,null,null,null,null,null,null,null,null,null,null,null,null,null,null,null,null,null,null,null,null,null,null,null,null,null,null,null,null,null,null,null,{"$f":"IFERROR(VLOOKUP(ROWS($CF$3:CF158),$CH$3:$CI$2001,2,FALSE),\"\")","v":""},null,{"$f":"IF(ISNUMBER(SEARCH(B158,CI158)),MAX($CH$2:CH157)+1,0)","v":0},{"$f":"'الرصيد الثابت'!#REF!","v":{"$error":"#REF!"}}]
["",null,{"$f":"IF(B159=\"\",\"\",SUMIF('الرصيد الثابت'!$D$2:$D$106,B159,'الرصيد الثابت'!$H$2:$H$106))","v":""},{"$f":"IF(B159=\"\",\"\",SUMIF('الرصيد الثابت'!$D$2:$D$106,B159,'الرصيد الثابت'!$I$2:$I$106))","v":""},{"$f":"IF(B159=\"\",\"\",SUMIF('الرصيد الثابت'!$D$2:$D$106,B159,'الرصيد الثابت'!$J$2:$J$106))","v":""},null,0,null,null,null,null,0,null,null,null,0,null,0,null,null,null,null,null,null,null,null,null,null,null,null,null,null,null,null,null,null,null,null,null,null,null,null,null,null,null,null,null,null,null,null,null,null,null,null,null,null,null,null,null,null,null,null,null,null,null,null,null,null,null,null,null,null,null,null,null,null,null,null,null,null,null,null,null,{"$f":"IFERROR(VLOOKUP(ROWS($CF$3:CF159),$CH$3:$CI$2001,2,FALSE),\"\")","v":""},null,{"$f":"IF(ISNUMBER(SEARCH(B159,CI159)),MAX($CH$2:CH158)+1,0)","v":0},{"$f":"'الرصيد الثابت'!#REF!","v":{"$error":"#REF!"}}]
["",null,{"$f":"IF(B160=\"\",\"\",SUMIF('الرصيد الثابت'!$D$2:$D$106,B160,'الرصيد الثابت'!$H$2:$H$106))","v":""},{"$f":"IF(B160=\"\",\"\",SUMIF('الرصيد الثابت'!$D$2:$D$106,B160,'الرصيد الثابت'!$I$2:$I$106))","v":""},{"$f":"IF(B160=\"\",\"\",SUMIF('الرصيد الثابت'!$D$2:$D$106,B160,'الرصيد الثابت'!$J$2:$J$106))","v":""},null,0,null,null,null,null,0,null,null,null,0,null,0,null,null,null,null,null,null,null,null,null,null,null,null,null,null,null,null,null,null,null,null,null,null,null,null,null,null,null,null,null,null,null,null,null,null,null,null,null,null,null,null,null,null,null,null,null,null,null,null,null,null,null,null,null,null,null,null,null,null,null,null,null,null,null,null,null,{"$f":"IFERROR(VLOOKUP(ROWS($CF$3:CF160),$CH$3:$CI$2001,2,FALSE),\"\")","v":""},null,{"$f":"IF(ISNUMBER(SEARCH(B160,CI160)),MAX($CH$2:CH159)+1,0)","v":0},{"$f":"'الرصيد الثابت'!#REF!","v":{"$error":"#REF!"}}]
["",null,{"$f":"IF(B161=\"\",\"\",SUMIF('الرصيد الثابت'!$D$2:$D$106,B161,'الرصيد الثابت'!$H$2:$H$106))","v":""},{"$f":"IF(B161=\"\",\"\",SUMIF('الرصيد الثابت'!$D$2:$D$106,B161,'الرصيد الثابت'!$I$2:$I$106))","v":""},{"$f":"IF(B161=\"\",\"\",SUMIF('الرصيد الثابت'!$D$2:$D$106,B161,'الرصيد الثابت'!$J$2:$J$106))","v":""},null,0,null,null,null,null,0,null,null,null,0,null,0,null,null,null,null,null,null,null,null,null,null,null,null,null,null,null,null,null,null,null,null,null,null,null,null,null,null,null,null,null,null,null,null,null,null,null,null,null,null,null,null,null,null,null,null,null,null,null,null,null,null,null,null,null,null,null,null,null,null,null,null,null,null,null,null,null,{"$f":"IFERROR(VLOOKUP(ROWS($CF$3:CF161),$CH$3:$CI$2001,2,FALSE),\"\")","v":""},null,{"$f":"IF(ISNUMBER(SEARCH(B161,CI161)),MAX($CH$2:CH160)+1,0)","v":0},{"$f":"'الرصيد الثابت'!#REF!","v":{"$error":"#REF!"}}]
["",null,{"$f":"IF(B162=\"\",\"\",SUMIF('الرصيد الثابت'!$D$2:$D$106,B162,'الرصيد الثابت'!$H$2:$H$106))","v":""},{"$f":"IF(B162=\"\",\"\",SUMIF('الرصيد الثابت'!$D$2:$D$106,B162,'الرصيد الثابت'!$I$2:$I$106))","v":""},{"$f":"IF(B162=\"\",\"\",SUMIF('الرصيد الثابت'!$D$2:$D$106,B162,'الرصيد الثابت'!$J$2:$J$106))","v":""},null,0,null,null,null,null,0,null,null,null,0,null,0,null,null,null,null,null,null,null,null,null,null,null,null,null,null,null,null,null,null,null,null,null,null,null,null,null,null,null,null,null,null,null,null,null,null,null,null,null,null,null,null,null,null,null,null,null,null,null,null,null,null,null,null,null,null,null,null,null,null,null,null,null,null,null,null,null,{"$f":"IFERROR(VLOOKUP(ROWS($CF$3:CF162),$CH$3:$CI$2001,2,FALSE),\"\")","v":""},null,{"$f":"IF(ISNUMBER(SEARCH(B162,CI162)),MAX($CH$2:CH161)+1,0)","v":0},{"$f":"'الرصيد الثابت'!#REF!","v":{"$error":"#REF!"}}]
["",null,{"$f":"IF(B163=\"\",\"\",SUMIF('الرصيد الثابت'!$D$2:$D$106,B163,'الرصيد الثابت'!$H$2:$H$106))","v":""},{"$f":"IF(B163=\"\",\"\",SUMIF('الرصيد الثابت'!$D$2:$D$106,B163,'الرصيد الثابت'!$I$2:$I$106))","v":""},{"$f":"IF(B163=\"\",\"\",SUMIF('الرصيد الثابت'!$D$2:$D$106,B163,'الرصيد الثابت'!$J$2:$J$106))","v":""},null,0,null,null,null,null,0,null,null,null,0,null,0,null,null,null,null,null,null,null,null,null,null,null,null,null,null,null,null,null,null,null,null,null,null,null,null,null,null,null,null,null,null,null,null,null,null,null,null,null,null,null,null,null,null,null,null,null,null,null,null,null,null,null,null,null,null,null,null,null,null,null,null,null,null,null,null,null,{"$f":"IFERROR(VLOOKUP(ROWS($CF$3:CF163),$CH$3:$CI$2001,2,FALSE),\"\")","v":""},null,{"$f":"IF(ISNUMBER(SEARCH(B163,CI163)),MAX($CH$2:CH162)+1,0)","v":0},{"$f":"'الرصيد الثابت'!#REF!","v":{"$error":"#REF!"}}]
["",null,{"$f":"IF(B164=\"\",\"\",SUMIF('الرصيد الثابت'!$D$2:$D$106,B164,'الرصيد الثابت'!$H$2:$H$106))","v":""},{"$f":"IF(B164=\"\",\"\",SUMIF('الرصيد الثابت'!$D$2:$D$106,B164,'الرصيد الثابت'!$I$2:$I$106))","v":""},{"$f":"IF(B164=\"\",\"\",SUMIF('الرصيد الثابت'!$D$2:$D$106,B164,'الرصيد الثابت'!$J$2:$J$106))","v":""},null,0,null,null,null,null,0,null,null,null,0,null,0,null,null,null,null,null,null,null,null,null,null,null,null,null,null,null,null,null,null,null,null,null,null,null,null,null,null,null,null,null,null,null,null,null,null,null,null,null,null,null,null,null,null,null,null,null,null,null,null,null,null,null,null,null,null,null,null,null,null,null,null,null,null,null,null,null,{"$f":"IFERROR(VLOOKUP(ROWS($CF$3:CF164),$CH$3:$CI$2001,2,FALSE),\"\")","v":""},null,{"$f":"IF(ISNUMBER(SEARCH(B164,CI164)),MAX($CH$2:CH163)+1,0)","v":0},{"$f":"'الرصيد الثابت'!#REF!","v":{"$error":"#REF!"}}]
["",null,{"$f":"IF(B165=\"\",\"\",SUMIF('الرصيد الثابت'!$D$2:$D$106,B165,'الرصيد الثابت'!$H$2:$H$106))","v":""},{"$f":"IF(B165=\"\",\"\",SUMIF('الرصيد الثابت'!$D$2:$D$106,B165,'الرصيد الثابت'!$I$2:$I$106))","v":""},{"$f":"IF(B165=\"\",\"\",SUMIF('الرصيد الثابت'!$D$2:$D$106,B165,'الرصيد الثابت'!$J$2:$J$106))","v":""},null,0,null,null,null,null,0,null,null,null,0,null,0,null,null,null,null,null,null,null,null,null,null,null,null,null,null,null,null,null,null,null,null,null,null,null,null,null,null,null,null,null,null,null,null,null,null,null,null,null,null,null,null,null,null,null,null,null,null,null,null,null,null,null,null,null,null,null,null,null,null,null,null,null,null,null,null,null,{"$f":"IFERROR(VLOOKUP(ROWS($CF$3:CF165),$CH$3:$CI$2001,2,FALSE),\"\")","v":""},null,{"$f":"IF(ISNUMBER(SEARCH(B165,CI165)),MAX($CH$2:CH164)+1,0)","v":0},{"$f":"'الرصيد الثابت'!#REF!","v":{"$error":"#REF!"}}]
["",null,{"$f":"IF(B166=\"\",\"\",SUMIF('الرصيد الثابت'!$D$2:$D$106,B166,'الرصيد الثابت'!$H$2:$H$106))","v":""},{"$f":"IF(B166=\"\",\"\",SUMIF('الرصيد الثابت'!$D$2:$D$106,B166,'الرصيد الثابت'!$I$2:$I$106))","v":""},{"$f":"IF(B166=\"\",\"\",SUMIF('الرصيد الثابت'!$D$2:$D$106,B166,'الرصيد الثابت'!$J$2:$J$106))","v":""},null,0,null,null,null,null,0,null,null,null,0,null,0,null,null,null,null,null,null,null,null,null,null,null,null,null,null,null,null,null,null,null,null,null,null,null,null,null,null,null,null,null,null,null,null,null,null,null,null,null,null,null,null,null,null,null,null,null,null,null,null,null,null,null,null,null,null,null,null,null,null,null,null,null,null,null,null,null,{"$f":"IFERROR(VLOOKUP(ROWS($CF$3:CF166),$CH$3:$CI$2001,2,FALSE),\"\")","v":""},null,{"$f":"IF(ISNUMBER(SEARCH(B166,CI166)),MAX($CH$2:CH165)+1,0)","v":0},{"$f":"'الرصيد الثابت'!#REF!","v":{"$error":"#REF!"}}]
["",null,{"$f":"IF(B167=\"\",\"\",SUMIF('الرصيد الثابت'!$D$2:$D$106,B167,'الرصيد الثابت'!$H$2:$H$106))","v":""},{"$f":"IF(B167=\"\",\"\",SUMIF('الرصيد الثابت'!$D$2:$D$106,B167,'الرصيد الثابت'!$I$2:$I$106))","v":""},{"$f":"IF(B167=\"\",\"\",SUMIF('الرصيد الثابت'!$D$2:$D$106,B167,'الرصيد الثابت'!$J$2:$J$106))","v":""},null,0,null,null,null,null,0,null,null,null,0,null,0,null,null,null,null,null,null,null,null,null,null,null,null,null,null,null,null,null,null,null,null,null,null,null,null,null,null,null,null,null,null,null,null,null,null,null,null,null,null,null,null,null,null,null,null,null,null,null,null,null,null,null,null,null,null,null,null,null,null,null,null,null,null,null,null,null,{"$f":"IFERROR(VLOOKUP(ROWS($CF$3:CF167),$CH$3:$CI$2001,2,FALSE),\"\")","v":""},null,{"$f":"IF(ISNUMBER(SEARCH(B167,CI167)),MAX($CH$2:CH166)+1,0)","v":0},{"$f":"'الرصيد الثابت'!#REF!","v":{"$error":"#REF!"}}]
["",null,{"$f":"IF(B168=\"\",\"\",SUMIF('الرصيد الثابت'!$D$2:$D$106,B168,'الرصيد الثابت'!$H$2:$H$106))","v":""},{"$f":"IF(B168=\"\",\"\",SUMIF('الرصيد الثابت'!$D$2:$D$106,B168,'الرصيد الثابت'!$I$2:$I$106))","v":""},{"$f":"IF(B168=\"\",\"\",SUMIF('الرصيد الثابت'!$D$2:$D$106,B168,'الرصيد الثابت'!$J$2:$J$106))","v":""},null,0,null,null,null,null,0,null,null,null,0,null,0,null,null,null,null,null,null,null,null,null,null,null,null,null,null,null,null,null,null,null,null,null,null,null,null,null,null,null,null,null,null,null,null,null,null,null,null,null,null,null,null,null,null,null,null,null,null,null,null,null,null,null,null,null,null,null,null,null,null,null,null,null,null,null,null,null,{"$f":"IFERROR(VLOOKUP(ROWS($CF$3:CF168),$CH$3:$CI$2001,2,FALSE),\"\")","v":""},null,{"$f":"IF(ISNUMBER(SEARCH(B168,CI168)),MAX($CH$2:CH167)+1,0)","v":0},{"$f":"'الرصيد الثابت'!#REF!","v":{"$error":"#REF!"}}]
["",null,{"$f":"IF(B169=\"\",\"\",SUMIF('الرصيد الثابت'!$D$2:$D$106,B169,'الرصيد الثابت'!$H$2:$H$106))","v":""},{"$f":"IF(B169=\"\",\"\",SUMIF('الرصيد الثابت'!$D$2:$D$106,B169,'الرصيد الثابت'!$I$2:$I$106))","v":""},{"$f":"IF(B169=\"\",\"\",SUMIF('الرصيد الثابت'!$D$2:$D$106,B169,'الرصيد الثابت'!$J$2:$J$106))","v":""},null,0,null,null,null,null,0,null,null,null,0,null,0,null,null,null,null,null,null,null,null,null,null,null,null,null,null,null,null,null,null,null,null,null,null,null,null,null,null,null,null,null,null,null,null,null,null,null,null,null,null,null,null,null,null,null,null,null,null,null,null,null,null,null,null,null,null,null,null,null,null,null,null,null,null,null,null,null,{"$f":"IFERROR(VLOOKUP(ROWS($CF$3:CF169),$CH$3:$CI$2001,2,FALSE),\"\")","v":""},null,{"$f":"IF(ISNUMBER(SEARCH(B169,CI169)),MAX($CH$2:CH168)+1,0)","v":0},{"$f":"'الرصيد الثابت'!#REF!","v":{"$error":"#REF!"}}]
["",null,{"$f":"IF(B170=\"\",\"\",SUMIF('الرصيد الثابت'!$D$2:$D$106,B170,'الرصيد الثابت'!$H$2:$H$106))","v":""},{"$f":"IF(B170=\"\",\"\",SUMIF('الرصيد الثابت'!$D$2:$D$106,B170,'الرصيد الثابت'!$I$2:$I$106))","v":""},{"$f":"IF(B170=\"\",\"\",SUMIF('الرصيد الثابت'!$D$2:$D$106,B170,'الرصيد الثابت'!$J$2:$J$106))","v":""},null,0,null,null,null,null,0,null,null,null,0,null,0,null,null,null,null,null,null,null,null,null,null,null,null,null,null,null,null,null,null,null,null,null,null,null,null,null,null,null,null,null,null,null,null,null,null,null,null,null,null,null,null,null,null,null,null,null,null,null,null,null,null,null,null,null,null,null,null,null,null,null,null,null,null,null,null,null,{"$f":"IFERROR(VLOOKUP(ROWS($CF$3:CF170),$CH$3:$CI$2001,2,FALSE),\"\")","v":""},null,{"$f":"IF(ISNUMBER(SEARCH(B170,CI170)),MAX($CH$2:CH169)+1,0)","v":0},{"$f":"'الرصيد الثابت'!#REF!","v":{"$error":"#REF!"}}]
["",null,{"$f":"IF(B171=\"\",\"\",SUMIF('الرصيد الثابت'!$D$2:$D$106,B171,'الرصيد الثابت'!$H$2:$H$106))","v":""},{"$f":"IF(B171=\"\",\"\",SUMIF('الرصيد الثابت'!$D$2:$D$106,B171,'الرصيد الثابت'!$I$2:$I$106))","v":""},{"$f":"IF(B171=\"\",\"\",SUMIF('الرصيد الثابت'!$D$2:$D$106,B171,'الرصيد الثابت'!$J$2:$J$106))","v":""},null,0,null,null,null,null,0,null,null,null,0,null,0,null,null,null,null,null,null,null,null,null,null,null,null,null,null,null,null,null,null,null,null,null,null,null,null,null,null,null,null,null,null,null,null,null,null,null,null,null,null,null,null,null,null,null,null,null,null,null,null,null,null,null,null,null,null,null,null,null,null,null,null,null,null,null,null,null,{"$f":"IFERROR(VLOOKUP(ROWS($CF$3:CF171),$CH$3:$CI$2001,2,FALSE),\"\")","v":""},null,{"$f":"IF(ISNUMBER(SEARCH(B171,CI171)),MAX($CH$2:CH170)+1,0)","v":0},{"$f":"'الرصيد الثابت'!#REF!","v":{"$error":"#REF!"}}]
["",null,{"$f":"IF(B172=\"\",\"\",SUMIF('الرصيد الثابت'!$D$2:$D$106,B172,'الرصيد الثابت'!$H$2:$H$106))","v":""},{"$f":"IF(B172=\"\",\"\",SUMIF('الرصيد الثابت'!$D$2:$D$106,B172,'الرصيد الثابت'!$I$2:$I$106))","v":""},{"$f":"IF(B172=\"\",\"\",SUMIF('الرصيد الثابت'!$D$2:$D$106,B172,'الرصيد الثابت'!$J$2:$J$106))","v":""},null,0,null,null,null,null,0,null,null,null,0,null,0,null,null,null,null,null,null,null,null,null,null,null,null,null,null,null,null,null,null,null,null,null,null,null,null,null,null,null,null,null,null,null,null,null,null,null,null,null,null,null,null,null,null,null,null,null,null,null,null,null,null,null,null,null,null,null,null,null,null,null,null,null,null,null,null,null,{"$f":"IFERROR(VLOOKUP(ROWS($CF$3:CF172),$CH$3:$CI$2001,2,FALSE),\"\")","v":""},null,{"$f":"IF(ISNUMBER(SEARCH(B172,CI172)),MAX($CH$2:CH171)+1,0)","v":0},{"$f":"'الرصيد الثابت'!#REF!","v":{"$error":"#REF!"}}]
["",null,{"$f":"IF(B173=\"\",\"\",SUMIF('الرصيد الثابت'!$D$2:$D$106,B173,'الرصيد الثابت'!$H$2:$H$106))","v":""},{"$f":"IF(B173=\"\",\"\",SUMIF('الرصيد الثابت'!$D$2:$D$106,B173,'الرصيد الثابت'!$I$2:$I$106))","v":""},{"$f":"IF(B173=\"\",\"\",SUMIF('الرصيد الثابت'!$D$2:$D$106,B173,'الرصيد الثابت'!$J$2:$J$106))","v":""},null,0,null,null,null,null,0,null,null,null,0,null,0,null,null,null,null,null,null,null,null,null,null,null,null,null,null,null,null,null,null,null,null,null,null,null,null,null,null,null,null,null,null,null,null,null,null,null,null,null,null,null,null,null,null,null,null,null,null,null,null,null,null,null,null,null,null,null,null,null,null,null,null,null,null,null,null,null,{"$f":"IFERROR(VLOOKUP(ROWS($CF$3:CF173),$CH$3:$CI$2001,2,FALSE),\"\")","v":""},null,{"$f":"IF(ISNUMBER(SEARCH(B173,CI173)),MAX($CH$2:CH172)+1,0)","v":0},{"$f":"'الرصيد الثابت'!#REF!","v":{"$error":"#REF!"}}]
["",null,{"$f":"IF(B174=\"\",\"\",SUMIF('الرصيد الثابت'!$D$2:$D$106,B174,'الرصيد الثابت'!$H$2:$H$106))","v":""},{"$f":"IF(B174=\"\",\"\",SUMIF('الرصيد الثابت'!$D$2:$D$106,B174,'الرصيد الثابت'!$I$2:$I$106))","v":""},{"$f":"IF(B174=\"\",\"\",SUMIF('الرصيد الثابت'!$D$2:$D$106,B174,'الرصيد الثابت'!$J$2:$J$106))","v":""},null,0,null,null,null,null,0,null,null,null,0,null,0,null,null,null,null,null,null,null,null,null,null,null,null,null,null,null,null,null,null,null,null,null,null,null,null,null,null,null,null,null,null,null,null,null,null,null,null,null,null,null,null,null,null,null,null,null,null,null,null,null,null,null,null,null,null,null,null,null,null,null,null,null,null,null,null,null,{"$f":"IFERROR(VLOOKUP(ROWS($CF$3:CF174),$CH$3:$CI$2001,2,FALSE),\"\")","v":""},null,{"$f":"IF(ISNUMBER(SEARCH(B174,CI174)),MAX($CH$2:CH173)+1,0)","v":0},{"$f":"'الرصيد الثابت'!#REF!","v":{"$error":"#REF!"}}]
["",null,{"$f":"IF(B175=\"\",\"\",SUMIF('الرصيد الثابت'!$D$2:$D$106,B175,'الرصيد الثابت'!$H$2:$H$106))","v":""},{"$f":"IF(B175=\"\",\"\",SUMIF('الرصيد الثابت'!$D$2:$D$106,B175,'الرصيد الثابت'!$I$2:$I$106))","v":""},{"$f":"IF(B175=\"\",\"\",SUMIF('الرصيد الثابت'!$D$2:$D$106,B175,'الرصيد الثابت'!$J$2:$J$106))","v":""},null,0,null,null,null,null,0,null,null,null,0,null,0,null,null,null,null,null,null,null,null,null,null,null,null,null,null,null,null,null,null,null,null,null,null,null,null,null,null,null,null,null,null,null,null,null,null,null,null,null,null,null,null,null,null,null,null,null,null,null,null,null,null,null,null,null,null,null,null,null,null,null,null,null,null,null,null,null,{"$f":"IFERROR(VLOOKUP(ROWS($CF$3:CF175),$CH$3:$CI$2001,2,FALSE),\"\")","v":""},null,{"$f":"IF(ISNUMBER(SEARCH(B175,CI175)),MAX($CH$2:CH174)+1,0)","v":0},{"$f":"'الرصيد الثابت'!#REF!","v":{"$error":"#REF!"}}]
["",null,{"$f":"IF(B176=\"\",\"\",SUMIF('الرصيد الثابت'!$D$2:$D$106,B176,'الرصيد الثابت'!$H$2:$H$106))","v":""},{"$f":"IF(B176=\"\",\"\",SUMIF('الرصيد الثابت'!$D$2:$D$106,B176,'الرصيد الثابت'!$I$2:$I$106))","v":""},{"$f":"IF(B176=\"\",\"\",SUMIF('الرصيد الثابت'!$D$2:$D$106,B176,'الرصيد الثابت'!$J$2:$J$106))","v":""},null,0,null,null,null,null,0,null,null,null,0,null,0,null,null,null,null,null,null,null,null,null,null,null,null,null,null,null,null,null,null,null,null,null,null,null,null,null,null,null,null,null,null,null,null,null,null,null,null,null,null,null,null,null,null,null,null,null,null,null,null,null,null,null,null,null,null,null,null,null,null,null,null,null,null,null,null,null,{"$f":"IFERROR(VLOOKUP(ROWS($CF$3:CF176),$CH$3:$CI$2001,2,FALSE),\"\")","v":""},null,{"$f":"IF(ISNUMBER(SEARCH(B176,CI176)),MAX($CH$2:CH175)+1,0)","v":0},{"$f":"'الرصيد الثابت'!#REF!","v":{"$error":"#REF!"}}]
["",null,{"$f":"IF(B177=\"\",\"\",SUMIF('الرصيد الثابت'!$D$2:$D$106,B177,'الرصيد الثابت'!$H$2:$H$106))","v":""},{"$f":"IF(B177=\"\",\"\",SUMIF('الرصيد الثابت'!$D$2:$D$106,B177,'الرصيد الثابت'!$I$2:$I$106))","v":""},{"$f":"IF(B177=\"\",\"\",SUMIF('الرصيد الثابت'!$D$2:$D$106,B177,'الرصيد الثابت'!$J$2:$J$106))","v":""},null,0,null,null,null,null,0,null,null,null,0,null,0,null,null,null,null,null,null,null,null,null,null,null,null,null,null,null,null,null,null,null,null,null,null,null,null,null,null,null,null,null,null,null,null,null,null,null,null,null,null,null,null,null,null,null,null,null,null,null,null,null,null,null,null,null,null,null,null,null,null,null,null,null,null,null,null,null,{"$f":"IFERROR(VLOOKUP(ROWS($CF$3:CF177),$CH$3:$CI$2001,2,FALSE),\"\")","v":""},null,{"$f":"IF(ISNUMBER(SEARCH(B177,CI177)),MAX($CH$2:CH176)+1,0)","v":0},{"$f":"'الرصيد الثابت'!#REF!","v":{"$error":"#REF!"}}]
["",null,{"$f":"IF(B178=\"\",\"\",SUMIF('الرصيد الثابت'!$D$2:$D$106,B178,'الرصيد الثابت'!$H$2:$H$106))","v":""},{"$f":"IF(B178=\"\",\"\",SUMIF('الرصيد الثابت'!$D$2:$D$106,B178,'الرصيد الثابت'!$I$2:$I$106))","v":""},{"$f":"IF(B178=\"\",\"\",SUMIF('الرصيد الثابت'!$D$2:$D$106,B178,'الرصيد الثابت'!$J$2:$J$106))","v":""},null,0,null,null,null,null,0,null,null,null,0,null,0,null,null,null,null,null,null,null,null,null,null,null,null,null,null,null,null,null,null,null,null,null,null,null,null,null,null,null,null,null,null,null,null,null,null,null,null,null,null,null,null,null,null,null,null,null,null,null,null,null,null,null,null,null,null,null,null,null,null,null,null,null,null,null,null,null,{"$f":"IFERROR(VLOOKUP(ROWS($CF$3:CF178),$CH$3:$CI$2001,2,FALSE),\"\")","v":""},null,{"$f":"IF(ISNUMBER(SEARCH(B178,CI178)),MAX($CH$2:CH177)+1,0)","v":0},{"$f":"'الرصيد الثابت'!#REF!","v":{"$error":"#REF!"}}]
["",null,{"$f":"IF(B179=\"\",\"\",SUMIF('الرصيد الثابت'!$D$2:$D$106,B179,'الرصيد الثابت'!$H$2:$H$106))","v":""},{"$f":"IF(B179=\"\",\"\",SUMIF('الرصيد الثابت'!$D$2:$D$106,B179,'الرصيد الثابت'!$I$2:$I$106))","v":""},{"$f":"IF(B179=\"\",\"\",SUMIF('الرصيد الثابت'!$D$2:$D$106,B179,'الرصيد الثابت'!$J$2:$J$106))","v":""},null,0,null,null,null,null,0,null,null,null,0,null,0,null,null,null,null,null,null,null,null,null,null,null,null,null,null,null,null,null,null,null,null,null,null,null,null,null,null,null,null,null,null,null,null,null,null,null,null,null,null,null,null,null,null,null,null,null,null,null,null,null,null,null,null,null,null,null,null,null,null,null,null,null,null,null,null,null,{"$f":"IFERROR(VLOOKUP(ROWS($CF$3:CF179),$CH$3:$CI$2001,2,FALSE),\"\")","v":""},null,{"$f":"IF(ISNUMBER(SEARCH(B179,CI179)),MAX($CH$2:CH178)+1,0)","v":0},{"$f":"'الرصيد الثابت'!#REF!","v":{"$error":"#REF!"}}]
["",null,{"$f":"IF(B180=\"\",\"\",SUMIF('الرصيد الثابت'!$D$2:$D$106,B180,'الرصيد الثابت'!$H$2:$H$106))","v":""},{"$f":"IF(B180=\"\",\"\",SUMIF('الرصيد الثابت'!$D$2:$D$106,B180,'الرصيد الثابت'!$I$2:$I$106))","v":""},{"$f":"IF(B180=\"\",\"\",SUMIF('الرصيد الثابت'!$D$2:$D$106,B180,'الرصيد الثابت'!$J$2:$J$106))","v":""},null,0,null,null,null,null,0,null,null,null,0,null,0,null,null,null,null,null,null,null,null,null,null,null,null,null,null,null,null,null,null,null,null,null,null,null,null,null,null,null,null,null,null,null,null,null,null,null,null,null,null,null,null,null,null,null,null,null,null,null,null,null,null,null,null,null,null,null,null,null,null,null,null,null,null,null,null,null,{"$f":"IFERROR(VLOOKUP(ROWS($CF$3:CF180),$CH$3:$CI$2001,2,FALSE),\"\")","v":""},null,{"$f":"IF(ISNUMBER(SEARCH(B180,CI180)),MAX($CH$2:CH179)+1,0)","v":0},{"$f":"'الرصيد الثابت'!#REF!","v":{"$error":"#REF!"}}]
["",null,{"$f":"IF(B181=\"\",\"\",SUMIF('الرصيد الثابت'!$D$2:$D$106,B181,'الرصيد الثابت'!$H$2:$H$106))","v":""},{"$f":"IF(B181=\"\",\"\",SUMIF('الرصيد الثابت'!$D$2:$D$106,B181,'الرصيد الثابت'!$I$2:$I$106))","v":""},{"$f":"IF(B181=\"\",\"\",SUMIF('الرصيد الثابت'!$D$2:$D$106,B181,'الرصيد الثابت'!$J$2:$J$106))","v":""},null,0,null,null,null,null,0,null,null,null,0,null,0,null,null,null,null,null,null,null,null,null,null,null,null,null,null,null,null,null,null,null,null,null,null,null,null,null,null,null,null,null,null,null,null,null,null,null,null,null,null,null,null,null,null,null,null,null,null,null,null,null,null,null,null,null,null,null,null,null,null,null,null,null,null,null,null,null,{"$f":"IFERROR(VLOOKUP(ROWS($CF$3:CF181),$CH$3:$CI$2001,2,FALSE),\"\")","v":""},null,{"$f":"IF(ISNUMBER(SEARCH(B181,CI181)),MAX($CH$2:CH180)+1,0)","v":0},{"$f":"'الرصيد الثابت'!#REF!","v":{"$error":"#REF!"}}]
["",null,{"$f":"IF(B182=\"\",\"\",SUMIF('الرصيد الثابت'!$D$2:$D$106,B182,'الرصيد الثابت'!$H$2:$H$106))","v":""},{"$f":"IF(B182=\"\",\"\",SUMIF('الرصيد الثابت'!$D$2:$D$106,B182,'الرصيد الثابت'!$I$2:$I$106))","v":""},{"$f":"IF(B182=\"\",\"\",SUMIF('الرصيد الثابت'!$D$2:$D$106,B182,'الرصيد الثابت'!$J$2:$J$106))","v":""},null,0,null,null,null,null,0,null,null,null,0,null,0,null,null,null,null,null,null,null,null,null,null,null,null,null,null,null,null,null,null,null,null,null,null,null,null,null,null,null,null,null,null,null,null,null,null,null,null,null,null,null,null,null,null,null,null,null,null,null,null,null,null,null,null,null,null,null,null,null,null,null,null,null,null,null,null,null,{"$f":"IFERROR(VLOOKUP(ROWS($CF$3:CF182),$CH$3:$CI$2001,2,FALSE),\"\")","v":""},null,{"$f":"IF(ISNUMBER(SEARCH(B182,CI182)),MAX($CH$2:CH181)+1,0)","v":0},{"$f":"'الرصيد الثابت'!#REF!","v":{"$error":"#REF!"}}]
["",null,{"$f":"IF(B183=\"\",\"\",SUMIF('الرصيد الثابت'!$D$2:$D$106,B183,'الرصيد الثابت'!$H$2:$H$106))","v":""},{"$f":"IF(B183=\"\",\"\",SUMIF('الرصيد الثابت'!$D$2:$D$106,B183,'الرصيد الثابت'!$I$2:$I$106))","v":""},{"$f":"IF(B183=\"\",\"\",SUMIF('الرصيد الثابت'!$D$2:$D$106,B183,'الرصيد الثابت'!$J$2:$J$106))","v":""},null,0,null,null,null,null,0,null,null,null,0,null,0,null,null,null,null,null,null,null,null,null,null,null,null,null,null,null,null,null,null,null,null,null,null,null,null,null,null,null,null,null,null,null,null,null,null,null,null,null,null,null,null,null,null,null,null,null,null,null,null,null,null,null,null,null,null,null,null,null,null,null,null,null,null,null,null,null,{"$f":"IFERROR(VLOOKUP(ROWS($CF$3:CF183),$CH$3:$CI$2001,2,FALSE),\"\")","v":""},null,{"$f":"IF(ISNUMBER(SEARCH(B183,CI183)),MAX($CH$2:CH182)+1,0)","v":0},{"$f":"'الرصيد الثابت'!#REF!","v":{"$error":"#REF!"}}]
["",null,{"$f":"IF(B184=\"\",\"\",SUMIF('الرصيد الثابت'!$D$2:$D$106,B184,'الرصيد الثابت'!$H$2:$H$106))","v":""},{"$f":"IF(B184=\"\",\"\",SUMIF('الرصيد الثابت'!$D$2:$D$106,B184,'الرصيد الثابت'!$I$2:$I$106))","v":""},{"$f":"IF(B184=\"\",\"\",SUMIF('الرصيد الثابت'!$D$2:$D$106,B184,'الرصيد الثابت'!$J$2:$J$106))","v":""},null,0,null,null,null,null,0,null,null,null,0,null,0,null,null,null,null,null,null,null,null,null,null,null,null,null,null,null,null,null,null,null,null,null,null,null,null,null,null,null,null,null,null,null,null,null,null,null,null,null,null,null,null,null,null,null,null,null,null,null,null,null,null,null,null,null,null,null,null,null,null,null,null,null,null,null,null,null,{"$f":"IFERROR(VLOOKUP(ROWS($CF$3:CF184),$CH$3:$CI$2001,2,FALSE),\"\")","v":""},null,{"$f":"IF(ISNUMBER(SEARCH(B184,CI184)),MAX($CH$2:CH183)+1,0)","v":0},{"$f":"'الرصيد الثابت'!#REF!","v":{"$error":"#REF!"}}]
["",null,{"$f":"IF(B185=\"\",\"\",SUMIF('الرصيد الثابت'!$D$2:$D$106,B185,'الرصيد الثابت'!$H$2:$H$106))","v":""},{"$f":"IF(B185=\"\",\"\",SUMIF('الرصيد الثابت'!$D$2:$D$106,B185,'الرصيد الثابت'!$I$2:$I$106))","v":""},{"$f":"IF(B185=\"\",\"\",SUMIF('الرصيد الثابت'!$D$2:$D$106,B185,'الرصيد الثابت'!$J$2:$J$106))","v":""},null,0,null,null,null,null,0,null,null,null,0,null,0,null,null,null,null,null,null,null,null,null,null,null,null,null,null,null,null,null,null,null,null,null,null,null,null,null,null,null,null,null,null,null,null,null,null,null,null,null,null,null,null,null,null,null,null,null,null,null,null,null,null,null,null,null,null,null,null,null,null,null,null,null,null,null,null,null,{"$f":"IFERROR(VLOOKUP(ROWS($CF$3:CF185),$CH$3:$CI$2001,2,FALSE),\"\")","v":""},null,{"$f":"IF(ISNUMBER(SEARCH(B185,CI185)),MAX($CH$2:CH184)+1,0)","v":0},{"$f":"'الرصيد الثابت'!#REF!","v":{"$error":"#REF!"}}]
["",null,{"$f":"IF(B186=\"\",\"\",SUMIF('الرصيد الثابت'!$D$2:$D$106,B186,'الرصيد الثابت'!$H$2:$H$106))","v":""},{"$f":"IF(B186=\"\",\"\",SUMIF('الرصيد الثابت'!$D$2:$D$106,B186,'الرصيد الثابت'!$I$2:$I$106))","v":""},{"$f":"IF(B186=\"\",\"\",SUMIF('الرصيد الثابت'!$D$2:$D$106,B186,'الرصيد الثابت'!$J$2:$J$106))","v":""},null,0,null,null,null,null,0,null,null,null,0,null,0,null,null,null,null,null,null,null,null,null,null,null,null,null,null,null,null,null,null,null,null,null,null,null,null,null,null,null,null,null,null,null,null,null,null,null,null,null,null,null,null,null,null,null,null,null,null,null,null,null,null,null,null,null,null,null,null,null,null,null,null,null,null,null,null,null,{"$f":"IFERROR(VLOOKUP(ROWS($CF$3:CF186),$CH$3:$CI$2001,2,FALSE),\"\")","v":""},null,{"$f":"IF(ISNUMBER(SEARCH(B186,CI186)),MAX($CH$2:CH185)+1,0)","v":0},{"$f":"'الرصيد الثابت'!#REF!","v":{"$error":"#REF!"}}]
["",null,{"$f":"IF(B187=\"\",\"\",SUMIF('الرصيد الثابت'!$D$2:$D$106,B187,'الرصيد الثابت'!$H$2:$H$106))","v":""},{"$f":"IF(B187=\"\",\"\",SUMIF('الرصيد الثابت'!$D$2:$D$106,B187,'الرصيد الثابت'!$I$2:$I$106))","v":""},{"$f":"IF(B187=\"\",\"\",SUMIF('الرصيد الثابت'!$D$2:$D$106,B187,'الرصيد الثابت'!$J$2:$J$106))","v":""},null,0,null,null,null,null,0,null,null,null,0,null,0,null,null,null,null,null,null,null,null,null,null,null,null,null,null,null,null,null,null,null,null,null,null,null,null,null,null,null,null,null,null,null,null,null,null,null,null,null,null,null,null,null,null,null,null,null,null,null,null,null,null,null,null,null,null,null,null,null,null,null,null,null,null,null,null,null,{"$f":"IFERROR(VLOOKUP(ROWS($CF$3:CF187),$CH$3:$CI$2001,2,FALSE),\"\")","v":""},null,{"$f":"IF(ISNUMBER(SEARCH(B187,CI187)),MAX($CH$2:CH186)+1,0)","v":0},{"$f":"'الرصيد الثابت'!#REF!","v":{"$error":"#REF!"}}]
["",null,{"$f":"IF(B188=\"\",\"\",SUMIF('الرصيد الثابت'!$D$2:$D$106,B188,'الرصيد الثابت'!$H$2:$H$106))","v":""},{"$f":"IF(B188=\"\",\"\",SUMIF('الرصيد الثابت'!$D$2:$D$106,B188,'الرصيد الثابت'!$I$2:$I$106))","v":""},{"$f":"IF(B188=\"\",\"\",SUMIF('الرصيد الثابت'!$D$2:$D$106,B188,'الرصيد الثابت'!$J$2:$J$106))","v":""},null,0,null,null,null,null,0,null,null,null,0,null,0,null,null,null,null,null,null,null,null,null,null,null,null,null,null,null,null,null,null,null,null,null,null,null,null,null,null,null,null,null,null,null,null,null,null,null,null,null,null,null,null,null,null,null,null,null,null,null,null,null,null,null,null,null,null,null,null,null,null,null,null,null,null,null,null,null,{"$f":"IFERROR(VLOOKUP(ROWS($CF$3:CF188),$CH$3:$CI$2001,2,FALSE),\"\")","v":""},null,{"$f":"IF(ISNUMBER(SEARCH(B188,CI188)),MAX($CH$2:CH187)+1,0)","v":0},{"$f":"'الرصيد الثابت'!#REF!","v":{"$error":"#REF!"}}]
["",null,{"$f":"IF(B189=\"\",\"\",SUMIF('الرصيد الثابت'!$D$2:$D$106,B189,'الرصيد الثابت'!$H$2:$H$106))","v":""},{"$f":"IF(B189=\"\",\"\",SUMIF('الرصيد الثابت'!$D$2:$D$106,B189,'الرصيد الثابت'!$I$2:$I$106))","v":""},{"$f":"IF(B189=\"\",\"\",SUMIF('الرصيد الثابت'!$D$2:$D$106,B189,'الرصيد الثابت'!$J$2:$J$106))","v":""},null,0,null,null,null,null,0,null,null,null,0,null,0,null,null,null,null,null,null,null,null,null,null,null,null,null,null,null,null,null,null,null,null,null,null,null,null,null,null,null,null,null,null,null,null,null,null,null,null,null,null,null,null,null,null,null,null,null,null,null,null,null,null,null,null,null,null,null,null,null,null,null,null,null,null,null,null,null,{"$f":"IFERROR(VLOOKUP(ROWS($CF$3:CF189),$CH$3:$CI$2001,2,FALSE),\"\")","v":""},null,{"$f":"IF(ISNUMBER(SEARCH(B189,CI189)),MAX($CH$2:CH188)+1,0)","v":0},{"$f":"'الرصيد الثابت'!#REF!","v":{"$error":"#REF!"}}]
["",null,{"$f":"IF(B190=\"\",\"\",SUMIF('الرصيد الثابت'!$D$2:$D$106,B190,'الرصيد الثابت'!$H$2:$H$106))","v":""},{"$f":"IF(B190=\"\",\"\",SUMIF('الرصيد الثابت'!$D$2:$D$106,B190,'الرصيد الثابت'!$I$2:$I$106))","v":""},{"$f":"IF(B190=\"\",\"\",SUMIF('الرصيد الثابت'!$D$2:$D$106,B190,'الرصيد الثابت'!$J$2:$J$106))","v":""},null,0,null,null,null,null,0,null,null,null,0,null,0,null,null,null,null,null,null,null,null,null,null,null,null,null,null,null,null,null,null,null,null,null,null,null,null,null,null,null,null,null,null,null,null,null,null,null,null,null,null,null,null,null,null,null,null,null,null,null,null,null,null,null,null,null,null,null,null,null,null,null,null,null,null,null,null,null,{"$f":"IFERROR(VLOOKUP(ROWS($CF$3:CF190),$CH$3:$CI$2001,2,FALSE),\"\")","v":""},null,{"$f":"IF(ISNUMBER(SEARCH(B190,CI190)),MAX($CH$2:CH189)+1,0)","v":0},{"$f":"'الرصيد الثابت'!#REF!","v":{"$error":"#REF!"}}]
["",null,{"$f":"IF(B191=\"\",\"\",SUMIF('الرصيد الثابت'!$D$2:$D$106,B191,'الرصيد الثابت'!$H$2:$H$106))","v":""},{"$f":"IF(B191=\"\",\"\",SUMIF('الرصيد الثابت'!$D$2:$D$106,B191,'الرصيد الثابت'!$I$2:$I$106))","v":""},{"$f":"IF(B191=\"\",\"\",SUMIF('الرصيد الثابت'!$D$2:$D$106,B191,'الرصيد الثابت'!$J$2:$J$106))","v":""},null,0,null,null,null,null,0,null,null,null,0,null,0,null,null,null,null,null,null,null,null,null,null,null,null,null,null,null,null,null,null,null,null,null,null,null,null,null,null,null,null,null,null,null,null,null,null,null,null,null,null,null,null,null,null,null,null,null,null,null,null,null,null,null,null,null,null,null,null,null,null,null,null,null,null,null,null,null,{"$f":"IFERROR(VLOOKUP(ROWS($CF$3:CF191),$CH$3:$CI$2001,2,FALSE),\"\")","v":""},null,{"$f":"IF(ISNUMBER(SEARCH(B191,CI191)),MAX($CH$2:CH190)+1,0)","v":0},{"$f":"'الرصيد الثابت'!#REF!","v":{"$error":"#REF!"}}]
["",null,{"$f":"IF(B192=\"\",\"\",SUMIF('الرصيد الثابت'!$D$2:$D$106,B192,'الرصيد الثابت'!$H$2:$H$106))","v":""},{"$f":"IF(B192=\"\",\"\",SUMIF('الرصيد الثابت'!$D$2:$D$106,B192,'الرصيد الثابت'!$I$2:$I$106))","v":""},{"$f":"IF(B192=\"\",\"\",SUMIF('الرصيد الثابت'!$D$2:$D$106,B192,'الرصيد الثابت'!$J$2:$J$106))","v":""},null,0,null,null,null,null,0,null,null,null,0,null,0,null,null,null,null,null,null,null,null,null,null,null,null,null,null,null,null,null,null,null,null,null,null,null,null,null,null,null,null,null,null,null,null,null,null,null,null,null,null,null,null,null,null,null,null,null,null,null,null,null,null,null,null,null,null,null,null,null,null,null,null,null,null,null,null,null,{"$f":"IFERROR(VLOOKUP(ROWS($CF$3:CF192),$CH$3:$CI$2001,2,FALSE),\"\")","v":""},null,{"$f":"IF(ISNUMBER(SEARCH(B192,CI192)),MAX($CH$2:CH191)+1,0)","v":0},{"$f":"'الرصيد الثابت'!#REF!","v":{"$error":"#REF!"}}]
["",null,{"$f":"IF(B193=\"\",\"\",SUMIF('الرصيد الثابت'!$D$2:$D$106,B193,'الرصيد الثابت'!$H$2:$H$106))","v":""},{"$f":"IF(B193=\"\",\"\",SUMIF('الرصيد الثابت'!$D$2:$D$106,B193,'الرصيد الثابت'!$I$2:$I$106))","v":""},{"$f":"IF(B193=\"\",\"\",SUMIF('الرصيد الثابت'!$D$2:$D$106,B193,'الرصيد الثابت'!$J$2:$J$106))","v":""},null,0,null,null,null,null,0,null,null,null,0,null,0,null,null,null,null,null,null,null,null,null,null,null,null,null,null,null,null,null,null,null,null,null,null,null,null,null,null,null,null,null,null,null,null,null,null,null,null,null,null,null,null,null,null,null,null,null,null,null,null,null,null,null,null,null,null,null,null,null,null,null,null,null,null,null,null,null,{"$f":"IFERROR(VLOOKUP(ROWS($CF$3:CF193),$CH$3:$CI$2001,2,FALSE),\"\")","v":""},null,{"$f":"IF(ISNUMBER(SEARCH(B193,CI193)),MAX($CH$2:CH192)+1,0)","v":0},{"$f":"'الرصيد الثابت'!#REF!","v":{"$error":"#REF!"}}]
["",null,{"$f":"IF(B194=\"\",\"\",SUMIF('الرصيد الثابت'!$D$2:$D$106,B194,'الرصيد الثابت'!$H$2:$H$106))","v":""},{"$f":"IF(B194=\"\",\"\",SUMIF('الرصيد الثابت'!$D$2:$D$106,B194,'الرصيد الثابت'!$I$2:$I$106))","v":""},{"$f":"IF(B194=\"\",\"\",SUMIF('الرصيد الثابت'!$D$2:$D$106,B194,'الرصيد الثابت'!$J$2:$J$106))","v":""},null,0,null,null,null,null,0,null,null,null,0,null,0,null,null,null,null,null,null,null,null,null,null,null,null,null,null,null,null,null,null,null,null,null,null,null,null,null,null,null,null,null,null,null,null,null,null,null,null,null,null,null,null,null,null,null,null,null,null,null,null,null,null,null,null,null,null,null,null,null,null,null,null,null,null,null,null,null,{"$f":"IFERROR(VLOOKUP(ROWS($CF$3:CF194),$CH$3:$CI$2001,2,FALSE),\"\")","v":""},null,{"$f":"IF(ISNUMBER(SEARCH(B194,CI194)),MAX($CH$2:CH193)+1,0)","v":0},{"$f":"'الرصيد الثابت'!#REF!","v":{"$error":"#REF!"}}]
["",null,{"$f":"IF(B195=\"\",\"\",SUMIF('الرصيد الثابت'!$D$2:$D$106,B195,'الرصيد الثابت'!$H$2:$H$106))","v":""},{"$f":"IF(B195=\"\",\"\",SUMIF('الرصيد الثابت'!$D$2:$D$106,B195,'الرصيد الثابت'!$I$2:$I$106))","v":""},{"$f":"IF(B195=\"\",\"\",SUMIF('الرصيد الثابت'!$D$2:$D$106,B195,'الرصيد الثابت'!$J$2:$J$106))","v":""},null,0,null,null,null,null,0,null,null,null,0,null,0,null,null,null,null,null,null,null,null,null,null,null,null,null,null,null,null,null,null,null,null,null,null,null,null,null,null,null,null,null,null,null,null,null,null,null,null,null,null,null,null,null,null,null,null,null,null,null,null,null,null,null,null,null,null,null,null,null,null,null,null,null,null,null,null,null,{"$f":"IFERROR(VLOOKUP(ROWS($CF$3:CF195),$CH$3:$CI$2001,2,FALSE),\"\")","v":""},null,{"$f":"IF(ISNUMBER(SEARCH(B195,CI195)),MAX($CH$2:CH194)+1,0)","v":0},{"$f":"'الرصيد الثابت'!#REF!","v":{"$error":"#REF!"}}]
[{"$f":"IF(B196<>\"\",IF(A196=\"\",NOW(),A196),\"\")","v":""},null,{"$f":"IF(B196=\"\",\"\",SUMIF('الرصيد الثابت'!$D$2:$D$106,B196,'الرصيد الثابت'!$H$2:$H$106))","v":""},{"$f":"IF(B196=\"\",\"\",SUMIF('الرصيد الثابت'!$D$2:$D$106,B196,'الرصيد الثابت'!$I$2:$I$106))","v":""},{"$f":"IF(B196=\"\",\"\",SUMIF('الرصيد الثابت'!$D$2:$D$106,B196,'الرصيد الثابت'!$J$2:$J$106))","v":""},null,{"$f":"SUM(H196*F196)","v":0},null,null,null,null,{"$f":"SUM(M196*K196)","v":0},null,null,null,{"$f":"SUM(F196-K196)","v":0},null,{"$f":"SUM(S196*Q196)","v":0},null,null,null,null,null,null,null,null,null,null,null,null,null,null,null,null,null,null,null,null,null,null,null,null,null,null,null,null,null,null,null,null,null,null,null,null,null,null,null,null,null,null,null,null,null,null,null,null,null,null,null,null,null,null,null,null,null,null,null,null,null,null,null,null,null,{"$f":"IFERROR(VLOOKUP(ROWS($CF$3:CF196),$CH$3:$CI$2001,2,FALSE),\"\")","v":""},null,{"$f":"IF(ISNUMBER(SEARCH(B196,CI196)),MAX($CH$2:CH195)+1,0)","v":0},{"$f":"'الرصيد الثابت'!#REF!","v":{"$error":"#REF!"}}]
["",null,{"$f":"IF(B197=\"\",\"\",SUMIF('الرصيد الثابت'!$D$2:$D$106,B197,'الرصيد الثابت'!$H$2:$H$106))","v":""},{"$f":"IF(B197=\"\",\"\",SUMIF('الرصيد الثابت'!$D$2:$D$106,B197,'الرصيد الثابت'!$I$2:$I$106))","v":""},{"$f":"IF(B197=\"\",\"\",SUMIF('الرصيد الثابت'!$D$2:$D$106,B197,'الرصيد الثابت'!$J$2:$J$106))","v":""},null,0,null,null,null,null,0,null,null,null,0,null,0,null,null,null,null,null,null,null,null,null,null,null,null,null,null,null,null,null,null,null,null,null,null,null,null,null,null,null,null,null,null,null,null,null,null,null,null,null,null,null,null,null,null,null,null,null,null,null,null,null,null,null,null,null,null,null,null,null,null,null,null,null,null,null,null,null,{"$f":"IFERROR(VLOOKUP(ROWS($CF$3:CF197),$CH$3:$CI$2001,2,FALSE),\"\")","v":""},null,{"$f":"IF(ISNUMBER(SEARCH(B197,CI197)),MAX($CH$2:CH196)+1,0)","v":0},{"$f":"'الرصيد الثابت'!#REF!","v":{"$error":"#REF!"}}]
["",null,{"$f":"IF(B198=\"\",\"\",SUMIF('الرصيد الثابت'!$D$2:$D$106,B198,'الرصيد الثابت'!$H$2:$H$106))","v":""},{"$f":"IF(B198=\"\",\"\",SUMIF('الرصيد الثابت'!$D$2:$D$106,B198,'الرصيد الثابت'!$I$2:$I$106))","v":""},{"$f":"IF(B198=\"\",\"\",SUMIF('الرصيد الثابت'!$D$2:$D$106,B198,'الرصيد الثابت'!$J$2:$J$106))","v":""},null,0,null,null,null,null,0,null,null,null,0,null,0,null,null,null,null,null,null,null,null,null,null,null,null,null,null,null,null,null,null,null,null,null,null,null,null,null,null,null,null,null,null,null,null,null,null,null,null,null,null,null,null,null,null,null,null,null,null,null,null,null,null,null,null,null,null,null,null,null,null,null,null,null,null,null,null,null,{"$f":"IFERROR(VLOOKUP(ROWS($CF$3:CF198),$CH$3:$CI$2001,2,FALSE),\"\")","v":""},null,{"$f":"IF(ISNUMBER(SEARCH(B198,CI198)),MAX($CH$2:CH197)+1,0)","v":0},{"$f":"'الرصيد الثابت'!#REF!","v":{"$error":"#REF!"}}]
["",null,{"$f":"IF(B199=\"\",\"\",SUMIF('الرصيد الثابت'!$D$2:$D$106,B199,'الرصيد الثابت'!$H$2:$H$106))","v":""},{"$f":"IF(B199=\"\",\"\",SUMIF('الرصيد الثابت'!$D$2:$D$106,B199,'الرصيد الثابت'!$I$2:$I$106))","v":""},{"$f":"IF(B199=\"\",\"\",SUMIF('الرصيد الثابت'!$D$2:$D$106,B199,'الرصيد الثابت'!$J$2:$J$106))","v":""},null,0,null,null,null,null,0,null,null,null,0,null,0,null,null,null,null,null,null,null,null,null,null,null,null,null,null,null,null,null,null,null,null,null,null,null,null,null,null,null,null,null,null,null,null,null,null,null,null,null,null,null,null,null,null,null,null,null,null,null,null,null,null,null,null,null,null,null,null,null,null,null,null,null,null,null,null,null,{"$f":"IFERROR(VLOOKUP(ROWS($CF$3:CF199),$CH$3:$CI$2001,2,FALSE),\"\")","v":""},null,{"$f":"IF(ISNUMBER(SEARCH(B199,CI199)),MAX($CH$2:CH198)+1,0)","v":0},{"$f":"'الرصيد الثابت'!#REF!","v":{"$error":"#REF!"}}]
["",null,{"$f":"IF(B200=\"\",\"\",SUMIF('الرصيد الثابت'!$D$2:$D$106,B200,'الرصيد الثابت'!$H$2:$H$106))","v":""},{"$f":"IF(B200=\"\",\"\",SUMIF('الرصيد الثابت'!$D$2:$D$106,B200,'الرصيد الثابت'!$I$2:$I$106))","v":""},{"$f":"IF(B200=\"\",\"\",SUMIF('الرصيد الثابت'!$D$2:$D$106,B200,'الرصيد الثابت'!$J$2:$J$106))","v":""},null,0,null,null,null,null,0,null,null,null,0,null,0,null,null,null,null,null,null,null,null,null,null,null,null,null,null,null,null,null,null,null,null,null,null,null,null,null,null,null,null,null,null,null,null,null,null,null,null,null,null,null,null,null,null,null,null,null,null,null,null,null,null,null,null,null,null,null,null,null,null,null,null,null,null,null,null,null,{"$f":"IFERROR(VLOOKUP(ROWS($CF$3:CF200),$CH$3:$CI$2001,2,FALSE),\"\")","v":""},null,{"$f":"IF(ISNUMBER(SEARCH(B200,CI200)),MAX($CH$2:CH199)+1,0)","v":0},{"$f":"'الرصيد الثابت'!#REF!","v":{"$error":"#REF!"}}]
["",null,{"$f":"IF(B201=\"\",\"\",SUMIF('الرصيد الثابت'!$D$2:$D$106,B201,'الرصيد الثابت'!$H$2:$H$106))","v":""},{"$f":"IF(B201=\"\",\"\",SUMIF('الرصيد الثابت'!$D$2:$D$106,B201,'الرصيد الثابت'!$I$2:$I$106))","v":""},{"$f":"IF(B201=\"\",\"\",SUMIF('الرصيد الثابت'!$D$2:$D$106,B201,'الرصيد الثابت'!$J$2:$J$106))","v":""},null,0,null,null,null,null,0,null,null,null,0,null,0,null,null,null,null,null,null,null,null,null,null,null,null,null,null,null,null,null,null,null,null,null,null,null,null,null,null,null,null,null,null,null,null,null,null,null,null,null,null,null,null,null,null,null,null,null,null,null,null,null,null,null,null,null,null,null,null,null,null,null,null,null,null,null,null,null,{"$f":"IFERROR(VLOOKUP(ROWS($CF$3:CF201),$CH$3:$CI$2001,2,FALSE),\"\")","v":""},null,{"$f":"IF(ISNUMBER(SEARCH(B201,CI201)),MAX($CH$2:CH200)+1,0)","v":0},{"$f":"'الرصيد الثابت'!#REF!","v":{"$error":"#REF!"}}]
["",null,{"$f":"IF(B202=\"\",\"\",SUMIF('الرصيد الثابت'!$D$2:$D$106,B202,'الرصيد الثابت'!$H$2:$H$106))","v":""},{"$f":"IF(B202=\"\",\"\",SUMIF('الرصيد الثابت'!$D$2:$D$106,B202,'الرصيد الثابت'!$I$2:$I$106))","v":""},{"$f":"IF(B202=\"\",\"\",SUMIF('الرصيد الثابت'!$D$2:$D$106,B202,'الرصيد الثابت'!$J$2:$J$106))","v":""},null,0,null,null,null,null,0,null,null,null,0,null,0,null,null,null,null,null,null,null,null,null,null,null,null,null,null,null,null,null,null,null,null,null,null,null,null,null,null,null,null,null,null,null,null,null,null,null,null,null,null,null,null,null,null,null,null,null,null,null,null,null,null,null,null,null,null,null,null,null,null,null,null,null,null,null,null,null,{"$f":"IFERROR(VLOOKUP(ROWS($CF$3:CF202),$CH$3:$CI$2001,2,FALSE),\"\")","v":""},null,{"$f":"IF(ISNUMBER(SEARCH(B202,CI202)),MAX($CH$2:CH201)+1,0)","v":0},{"$f":"'الرصيد الثابت'!#REF!","v":{"$error":"#REF!"}}]
["",null,{"$f":"IF(B203=\"\",\"\",SUMIF('الرصيد الثابت'!$D$2:$D$106,B203,'الرصيد الثابت'!$H$2:$H$106))","v":""},{"$f":"IF(B203=\"\",\"\",SUMIF('الرصيد الثابت'!$D$2:$D$106,B203,'الرصيد الثابت'!$I$2:$I$106))","v":""},{"$f":"IF(B203=\"\",\"\",SUMIF('الرصيد الثابت'!$D$2:$D$106,B203,'الرصيد الثابت'!$J$2:$J$106))","v":""},null,0,null,null,null,null,0,null,null,null,0,null,0,null,null,null,null,null,null,null,null,null,null,null,null,null,null,null,null,null,null,null,null,null,null,null,null,null,null,null,null,null,null,null,null,null,null,null,null,null,null,null,null,null,null,null,null,null,null,null,null,null,null,null,null,null,null,null,null,null,null,null,null,null,null,null,null,null,{"$f":"IFERROR(VLOOKUP(ROWS($CF$3:CF203),$CH$3:$CI$2001,2,FALSE),\"\")","v":""},null,{"$f":"IF(ISNUMBER(SEARCH(B203,CI203)),MAX($CH$2:CH202)+1,0)","v":0},{"$f":"'الرصيد الثابت'!#REF!","v":{"$error":"#REF!"}}]
["",null,{"$f":"IF(B204=\"\",\"\",SUMIF('الرصيد الثابت'!$D$2:$D$106,B204,'الرصيد الثابت'!$H$2:$H$106))","v":""},{"$f":"IF(B204=\"\",\"\",SUMIF('الرصيد الثابت'!$D$2:$D$106,B204,'الرصيد الثابت'!$I$2:$I$106))","v":""},{"$f":"IF(B204=\"\",\"\",SUMIF('الرصيد الثابت'!$D$2:$D$106,B204,'الرصيد الثابت'!$J$2:$J$106))","v":""},null,0,null,null,null,null,0,null,null,null,0,null,0,null,null,null,null,null,null,null,null,null,null,null,null,null,null,null,null,null,null,null,null,null,null,null,null,null,null,null,null,null,null,null,null,null,null,null,null,null,null,null,null,null,null,null,null,null,null,null,null,null,null,null,null,null,null,null,null,null,null,null,null,null,null,null,null,null,{"$f":"IFERROR(VLOOKUP(ROWS($CF$3:CF204),$CH$3:$CI$2001,2,FALSE),\"\")","v":""},null,{"$f":"IF(ISNUMBER(SEARCH(B204,CI204)),MAX($CH$2:CH203)+1,0)","v":0},{"$f":"'الرصيد الثابت'!#REF!","v":{"$error":"#REF!"}}]
["",null,{"$f":"IF(B205=\"\",\"\",SUMIF('الرصيد الثابت'!$D$2:$D$106,B205,'الرصيد الثابت'!$H$2:$H$106))","v":""},{"$f":"IF(B205=\"\",\"\",SUMIF('الرصيد الثابت'!$D$2:$D$106,B205,'الرصيد الثابت'!$I$2:$I$106))","v":""},{"$f":"IF(B205=\"\",\"\",SUMIF('الرصيد الثابت'!$D$2:$D$106,B205,'الرصيد الثابت'!$J$2:$J$106))","v":""},null,0,null,null,null,null,0,null,null,null,0,null,0,null,null,null,null,null,null,null,null,null,null,null,null,null,null,null,null,null,null,null,null,null,null,null,null,null,null,null,null,null,null,null,null,null,null,null,null,null,null,null,null,null,null,null,null,null,null,null,null,null,null,null,null,null,null,null,null,null,null,null,null,null,null,null,null,null,{"$f":"IFERROR(VLOOKUP(ROWS($CF$3:CF205),$CH$3:$CI$2001,2,FALSE),\"\")","v":""},null,{"$f":"IF(ISNUMBER(SEARCH(B205,CI205)),MAX($CH$2:CH204)+1,0)","v":0},{"$f":"'الرصيد الثابت'!#REF!","v":{"$error":"#REF!"}}]
["",null,{"$f":"IF(B206=\"\",\"\",SUMIF('الرصيد الثابت'!$D$2:$D$106,B206,'الرصيد الثابت'!$H$2:$H$106))","v":""},{"$f":"IF(B206=\"\",\"\",SUMIF('الرصيد الثابت'!$D$2:$D$106,B206,'الرصيد الثابت'!$I$2:$I$106))","v":""},{"$f":"IF(B206=\"\",\"\",SUMIF('الرصيد الثابت'!$D$2:$D$106,B206,'الرصيد الثابت'!$J$2:$J$106))","v":""},null,0,null,null,null,null,0,null,null,null,0,null,0,null,null,null,null,null,null,null,null,null,null,null,null,null,null,null,null,null,null,null,null,null,null,null,null,null,null,null,null,null,null,null,null,null,null,null,null,null,null,null,null,null,null,null,null,null,null,null,null,null,null,null,null,null,null,null,null,null,null,null,null,null,null,null,null,null,{"$f":"IFERROR(VLOOKUP(ROWS($CF$3:CF206),$CH$3:$CI$2001,2,FALSE),\"\")","v":""},null,{"$f":"IF(ISNUMBER(SEARCH(B206,CI206)),MAX($CH$2:CH205)+1,0)","v":0},{"$f":"'الرصيد الثابت'!#REF!","v":{"$error":"#REF!"}}]
["",null,{"$f":"IF(B207=\"\",\"\",SUMIF('الرصيد الثابت'!$D$2:$D$106,B207,'الرصيد الثابت'!$H$2:$H$106))","v":""},{"$f":"IF(B207=\"\",\"\",SUMIF('الرصيد الثابت'!$D$2:$D$106,B207,'الرصيد الثابت'!$I$2:$I$106))","v":""},{"$f":"IF(B207=\"\",\"\",SUMIF('الرصيد الثابت'!$D$2:$D$106,B207,'الرصيد الثابت'!$J$2:$J$106))","v":""},null,0,null,null,null,null,0,null,null,null,0,null,0,null,null,null,null,null,null,null,null,null,null,null,null,null,null,null,null,null,null,null,null,null,null,null,null,null,null,null,null,null,null,null,null,null,null,null,null,null,null,null,null,null,null,null,null,null,null,null,null,null,null,null,null,null,null,null,null,null,null,null,null,null,null,null,null,null,{"$f":"IFERROR(VLOOKUP(ROWS($CF$3:CF207),$CH$3:$CI$2001,2,FALSE),\"\")","v":""},null,{"$f":"IF(ISNUMBER(SEARCH(B207,CI207)),MAX($CH$2:CH206)+1,0)","v":0},{"$f":"'الرصيد الثابت'!#REF!","v":{"$error":"#REF!"}}]
["",null,{"$f":"IF(B208=\"\",\"\",SUMIF('الرصيد الثابت'!$D$2:$D$106,B208,'الرصيد الثابت'!$H$2:$H$106))","v":""},{"$f":"IF(B208=\"\",\"\",SUMIF('الرصيد الثابت'!$D$2:$D$106,B208,'الرصيد الثابت'!$I$2:$I$106))","v":""},{"$f":"IF(B208=\"\",\"\",SUMIF('الرصيد الثابت'!$D$2:$D$106,B208,'الرصيد الثابت'!$J$2:$J$106))","v":""},null,0,null,null,null,null,0,null,null,null,0,null,0,null,null,null,null,null,null,null,null,null,null,null,null,null,null,null,null,null,null,null,null,null,null,null,null,null,null,null,null,null,null,null,null,null,null,null,null,null,null,null,null,null,null,null,null,null,null,null,null,null,null,null,null,null,null,null,null,null,null,null,null,null,null,null,null,null,{"$f":"IFERROR(VLOOKUP(ROWS($CF$3:CF208),$CH$3:$CI$2001,2,FALSE),\"\")","v":""},null,{"$f":"IF(ISNUMBER(SEARCH(B208,CI208)),MAX($CH$2:CH207)+1,0)","v":0},{"$f":"'الرصيد الثابت'!#REF!","v":{"$error":"#REF!"}}]
["",null,{"$f":"IF(B209=\"\",\"\",SUMIF('الرصيد الثابت'!$D$2:$D$106,B209,'الرصيد الثابت'!$H$2:$H$106))","v":""},{"$f":"IF(B209=\"\",\"\",SUMIF('الرصيد الثابت'!$D$2:$D$106,B209,'الرصيد الثابت'!$I$2:$I$106))","v":""},{"$f":"IF(B209=\"\",\"\",SUMIF('الرصيد الثابت'!$D$2:$D$106,B209,'الرصيد الثابت'!$J$2:$J$106))","v":""},null,0,null,null,null,null,0,null,null,null,0,null,0,null,null,null,null,null,null,null,null,null,null,null,null,null,null,null,null,null,null,null,null,null,null,null,null,null,null,null,null,null,null,null,null,null,null,null,null,null,null,null,null,null,null,null,null,null,null,null,null,null,null,null,null,null,null,null,null,null,null,null,null,null,null,null,null,null,{"$f":"IFERROR(VLOOKUP(ROWS($CF$3:CF209),$CH$3:$CI$2001,2,FALSE),\"\")","v":""},null,{"$f":"IF(ISNUMBER(SEARCH(B209,CI209)),MAX($CH$2:CH208)+1,0)","v":0},{"$f":"'الرصيد الثابت'!#REF!","v":{"$error":"#REF!"}}]
["",null,{"$f":"IF(B210=\"\",\"\",SUMIF('الرصيد الثابت'!$D$2:$D$106,B210,'الرصيد الثابت'!$H$2:$H$106))","v":""},{"$f":"IF(B210=\"\",\"\",SUMIF('الرصيد الثابت'!$D$2:$D$106,B210,'الرصيد الثابت'!$I$2:$I$106))","v":""},{"$f":"IF(B210=\"\",\"\",SUMIF('الرصيد الثابت'!$D$2:$D$106,B210,'الرصيد الثابت'!$J$2:$J$106))","v":""},null,0,null,null,null,null,0,null,null,null,0,null,0,null,null,null,null,null,null,null,null,null,null,null,null,null,null,null,null,null,null,null,null,null,null,null,null,null,null,null,null,null,null,null,null,null,null,null,null,null,null,null,null,null,null,null,null,null,null,null,null,null,null,null,null,null,null,null,null,null,null,null,null,null,null,null,null,null,{"$f":"IFERROR(VLOOKUP(ROWS($CF$3:CF210),$CH$3:$CI$2001,2,FALSE),\"\")","v":""},null,{"$f":"IF(ISNUMBER(SEARCH(B210,CI210)),MAX($CH$2:CH209)+1,0)","v":0},{"$f":"'الرصيد الثابت'!#REF!","v":{"$error":"#REF!"}}]
["",null,{"$f":"IF(B211=\"\",\"\",SUMIF('الرصيد الثابت'!$D$2:$D$106,B211,'الرصيد الثابت'!$H$2:$H$106))","v":""},{"$f":"IF(B211=\"\",\"\",SUMIF('الرصيد الثابت'!$D$2:$D$106,B211,'الرصيد الثابت'!$I$2:$I$106))","v":""},{"$f":"IF(B211=\"\",\"\",SUMIF('الرصيد الثابت'!$D$2:$D$106,B211,'الرصيد الثابت'!$J$2:$J$106))","v":""},null,0,null,null,null,null,0,null,null,null,0,null,0,null,null,null,null,null,null,null,null,null,null,null,null,null,null,null,null,null,null,null,null,null,null,null,null,null,null,null,null,null,null,null,null,null,null,null,null,null,null,null,null,null,null,null,null,null,null,null,null,null,null,null,null,null,null,null,null,null,null,null,null,null,null,null,null,null,{"$f":"IFERROR(VLOOKUP(ROWS($CF$3:CF211),$CH$3:$CI$2001,2,FALSE),\"\")","v":""},null,{"$f":"IF(ISNUMBER(SEARCH(B211,CI211)),MAX($CH$2:CH210)+1,0)","v":0},{"$f":"'الرصيد الثابت'!#REF!","v":{"$error":"#REF!"}}]
["",null,{"$f":"IF(B212=\"\",\"\",SUMIF('الرصيد الثابت'!$D$2:$D$106,B212,'الرصيد الثابت'!$H$2:$H$106))","v":""},{"$f":"IF(B212=\"\",\"\",SUMIF('الرصيد الثابت'!$D$2:$D$106,B212,'الرصيد الثابت'!$I$2:$I$106))","v":""},{"$f":"IF(B212=\"\",\"\",SUMIF('الرصيد الثابت'!$D$2:$D$106,B212,'الرصيد الثابت'!$J$2:$J$106))","v":""},null,0,null,null,null,null,0,null,null,null,0,null,0,null,null,null,null,null,null,null,null,null,null,null,null,null,null,null,null,null,null,null,null,null,null,null,null,null,null,null,null,null,null,null,null,null,null,null,null,null,null,null,null,null,null,null,null,null,null,null,null,null,null,null,null,null,null,null,null,null,null,null,null,null,null,null,null,null,{"$f":"IFERROR(VLOOKUP(ROWS($CF$3:CF212),$CH$3:$CI$2001,2,FALSE),\"\")","v":""},null,{"$f":"IF(ISNUMBER(SEARCH(B212,CI212)),MAX($CH$2:CH211)+1,0)","v":0},{"$f":"'الرصيد الثابت'!#REF!","v":{"$error":"#REF!"}}]
["",null,{"$f":"IF(B213=\"\",\"\",SUMIF('الرصيد الثابت'!$D$2:$D$106,B213,'الرصيد الثابت'!$H$2:$H$106))","v":""},{"$f":"IF(B213=\"\",\"\",SUMIF('الرصيد الثابت'!$D$2:$D$106,B213,'الرصيد الثابت'!$I$2:$I$106))","v":""},{"$f":"IF(B213=\"\",\"\",SUMIF('الرصيد الثابت'!$D$2:$D$106,B213,'الرصيد الثابت'!$J$2:$J$106))","v":""},null,0,null,null,null,null,0,null,null,null,0,null,0,null,null,null,null,null,null,null,null,null,null,null,null,null,null,null,null,null,null,null,null,null,null,null,null,null,null,null,null,null,null,null,null,null,null,null,null,null,null,null,null,null,null,null,null,null,null,null,null,null,null,null,null,null,null,null,null,null,null,null,null,null,null,null,null,null,{"$f":"IFERROR(VLOOKUP(ROWS($CF$3:CF213),$CH$3:$CI$2001,2,FALSE),\"\")","v":""},null,{"$f":"IF(ISNUMBER(SEARCH(B213,CI213)),MAX($CH$2:CH212)+1,0)","v":0},{"$f":"'الرصيد الثابت'!#REF!","v":{"$error":"#REF!"}}]
["",null,{"$f":"IF(B214=\"\",\"\",SUMIF('الرصيد الثابت'!$D$2:$D$106,B214,'الرصيد الثابت'!$H$2:$H$106))","v":""},{"$f":"IF(B214=\"\",\"\",SUMIF('الرصيد الثابت'!$D$2:$D$106,B214,'الرصيد الثابت'!$I$2:$I$106))","v":""},{"$f":"IF(B214=\"\",\"\",SUMIF('الرصيد الثابت'!$D$2:$D$106,B214,'الرصيد الثابت'!$J$2:$J$106))","v":""},null,0,null,null,null,null,0,null,null,null,0,null,0,null,null,null,null,null,null,null,null,null,null,null,null,null,null,null,null,null,null,null,null,null,null,null,null,null,null,null,null,null,null,null,null,null,null,null,null,null,null,null,null,null,null,null,null,null,null,null,null,null,null,null,null,null,null,null,null,null,null,null,null,null,null,null,null,null,{"$f":"IFERROR(VLOOKUP(ROWS($CF$3:CF214),$CH$3:$CI$2001,2,FALSE),\"\")","v":""},null,{"$f":"IF(ISNUMBER(SEARCH(B214,CI214)),MAX($CH$2:CH213)+1,0)","v":0},{"$f":"'الرصيد الثابت'!#REF!","v":{"$error":"#REF!"}}]
["",null,{"$f":"IF(B215=\"\",\"\",SUMIF('الرصيد الثابت'!$D$2:$D$106,B215,'الرصيد الثابت'!$H$2:$H$106))","v":""},{"$f":"IF(B215=\"\",\"\",SUMIF('الرصيد الثابت'!$D$2:$D$106,B215,'الرصيد الثابت'!$I$2:$I$106))","v":""},{"$f":"IF(B215=\"\",\"\",SUMIF('الرصيد الثابت'!$D$2:$D$106,B215,'الرصيد الثابت'!$J$2:$J$106))","v":""},null,0,null,null,null,null,0,null,null,null,0,null,0,null,null,null,null,null,null,null,null,null,null,null,null,null,null,null,null,null,null,null,null,null,null,null,null,null,null,null,null,null,null,null,null,null,null,null,null,null,null,null,null,null,null,null,null,null,null,null,null,null,null,null,null,null,null,null,null,null,null,null,null,null,null,null,null,null,{"$f":"IFERROR(VLOOKUP(ROWS($CF$3:CF215),$CH$3:$CI$2001,2,FALSE),\"\")","v":""},null,{"$f":"IF(ISNUMBER(SEARCH(B215,CI215)),MAX($CH$2:CH214)+1,0)","v":0},{"$f":"'الرصيد الثابت'!#REF!","v":{"$error":"#REF!"}}]
["",null,{"$f":"IF(B216=\"\",\"\",SUMIF('الرصيد الثابت'!$D$2:$D$106,B216,'الرصيد الثابت'!$H$2:$H$106))","v":""},{"$f":"IF(B216=\"\",\"\",SUMIF('الرصيد الثابت'!$D$2:$D$106,B216,'الرصيد الثابت'!$I$2:$I$106))","v":""},{"$f":"IF(B216=\"\",\"\",SUMIF('الرصيد الثابت'!$D$2:$D$106,B216,'الرصيد الثابت'!$J$2:$J$106))","v":""},null,0,null,null,null,null,0,null,null,null,0,null,0,null,null,null,null,null,null,null,null,null,null,null,null,null,null,null,null,null,null,null,null,null,null,null,null,null,null,null,null,null,null,null,null,null,null,null,null,null,null,null,null,null,null,null,null,null,null,null,null,null,null,null,null,null,null,null,null,null,null,null,null,null,null,null,null,null,{"$f":"IFERROR(VLOOKUP(ROWS($CF$3:CF216),$CH$3:$CI$2001,2,FALSE),\"\")","v":""},null,{"$f":"IF(ISNUMBER(SEARCH(B216,CI216)),MAX($CH$2:CH215)+1,0)","v":0},{"$f":"'الرصيد الثابت'!#REF!","v":{"$error":"#REF!"}}]
["",null,{"$f":"IF(B217=\"\",\"\",SUMIF('الرصيد الثابت'!$D$2:$D$106,B217,'الرصيد الثابت'!$H$2:$H$106))","v":""},{"$f":"IF(B217=\"\",\"\",SUMIF('الرصيد الثابت'!$D$2:$D$106,B217,'الرصيد الثابت'!$I$2:$I$106))","v":""},{"$f":"IF(B217=\"\",\"\",SUMIF('الرصيد الثابت'!$D$2:$D$106,B217,'الرصيد الثابت'!$J$2:$J$106))","v":""},null,0,null,null,null,null,0,null,null,null,0,null,0,null,null,null,null,null,null,null,null,null,null,null,null,null,null,null,null,null,null,null,null,null,null,null,null,null,null,null,null,null,null,null,null,null,null,null,null,null,null,null,null,null,null,null,null,null,null,null,null,null,null,null,null,null,null,null,null,null,null,null,null,null,null,null,null,null,{"$f":"IFERROR(VLOOKUP(ROWS($CF$3:CF217),$CH$3:$CI$2001,2,FALSE),\"\")","v":""},null,{"$f":"IF(ISNUMBER(SEARCH(B217,CI217)),MAX($CH$2:CH216)+1,0)","v":0},{"$f":"'الرصيد الثابت'!#REF!","v":{"$error":"#REF!"}}]
["",null,{"$f":"IF(B218=\"\",\"\",SUMIF('الرصيد الثابت'!$D$2:$D$106,B218,'الرصيد الثابت'!$H$2:$H$106))","v":""},{"$f":"IF(B218=\"\",\"\",SUMIF('الرصيد الثابت'!$D$2:$D$106,B218,'الرصيد الثابت'!$I$2:$I$106))","v":""},{"$f":"IF(B218=\"\",\"\",SUMIF('الرصيد الثابت'!$D$2:$D$106,B218,'الرصيد الثابت'!$J$2:$J$106))","v":""},null,0,null,null,null,null,0,null,null,null,0,null,0,null,null,null,null,null,null,null,null,null,null,null,null,null,null,null,null,null,null,null,null,null,null,null,null,null,null,null,null,null,null,null,null,null,null,null,null,null,null,null,null,null,null,null,null,null,null,null,null,null,null,null,null,null,null,null,null,null,null,null,null,null,null,null,null,null,{"$f":"IFERROR(VLOOKUP(ROWS($CF$3:CF218),$CH$3:$CI$2001,2,FALSE),\"\")","v":""},null,{"$f":"IF(ISNUMBER(SEARCH(B218,CI218)),MAX($CH$2:CH217)+1,0)","v":0},{"$f":"'الرصيد الثابت'!#REF!","v":{"$error":"#REF!"}}]
["",null,{"$f":"IF(B219=\"\",\"\",SUMIF('الرصيد الثابت'!$D$2:$D$106,B219,'الرصيد الثابت'!$H$2:$H$106))","v":""},{"$f":"IF(B219=\"\",\"\",SUMIF('الرصيد الثابت'!$D$2:$D$106,B219,'الرصيد الثابت'!$I$2:$I$106))","v":""},{"$f":"IF(B219=\"\",\"\",SUMIF('الرصيد الثابت'!$D$2:$D$106,B219,'الرصيد الثابت'!$J$2:$J$106))","v":""},null,0,null,null,null,null,0,null,null,null,0,null,0,null,null,null,null,null,null,null,null,null,null,null,null,null,null,null,null,null,null,null,null,null,null,null,null,null,null,null,null,null,null,null,null,null,null,null,null,null,null,null,null,null,null,null,null,null,null,null,null,null,null,null,null,null,null,null,null,null,null,null,null,null,null,null,null,null,{"$f":"IFERROR(VLOOKUP(ROWS($CF$3:CF219),$CH$3:$CI$2001,2,FALSE),\"\")","v":""},null,{"$f":"IF(ISNUMBER(SEARCH(B219,CI219)),MAX($CH$2:CH218)+1,0)","v":0},{"$f":"'الرصيد الثابت'!#REF!","v":{"$error":"#REF!"}}]
["",null,{"$f":"IF(B220=\"\",\"\",SUMIF('الرصيد الثابت'!$D$2:$D$106,B220,'الرصيد الثابت'!$H$2:$H$106))","v":""},{"$f":"IF(B220=\"\",\"\",SUMIF('الرصيد الثابت'!$D$2:$D$106,B220,'الرصيد الثابت'!$I$2:$I$106))","v":""},{"$f":"IF(B220=\"\",\"\",SUMIF('الرصيد الثابت'!$D$2:$D$106,B220,'الرصيد الثابت'!$J$2:$J$106))","v":""},null,0,null,null,null,null,0,null,null,null,0,null,0,null,null,null,null,null,null,null,null,null,null,null,null,null,null,null,null,null,null,null,null,null,null,null,null,null,null,null,null,null,null,null,null,null,null,null,null,null,null,null,null,null,null,null,null,null,null,null,null,null,null,null,null,null,null,null,null,null,null,null,null,null,null,null,null,null,{"$f":"IFERROR(VLOOKUP(ROWS($CF$3:CF220),$CH$3:$CI$2001,2,FALSE),\"\")","v":""},null,{"$f":"IF(ISNUMBER(SEARCH(B220,CI220)),MAX($CH$2:CH219)+1,0)","v":0},{"$f":"'الرصيد الثابت'!#REF!","v":{"$error":"#REF!"}}]
["",null,{"$f":"IF(B221=\"\",\"\",SUMIF('الرصيد الثابت'!$D$2:$D$106,B221,'الرصيد الثابت'!$H$2:$H$106))","v":""},{"$f":"IF(B221=\"\",\"\",SUMIF('الرصيد الثابت'!$D$2:$D$106,B221,'الرصيد الثابت'!$I$2:$I$106))","v":""},{"$f":"IF(B221=\"\",\"\",SUMIF('الرصيد الثابت'!$D$2:$D$106,B221,'الرصيد الثابت'!$J$2:$J$106))","v":""},null,0,null,null,null,null,0,null,null,null,0,null,0,null,null,null,null,null,null,null,null,null,null,null,null,null,null,null,null,null,null,null,null,null,null,null,null,null,null,null,null,null,null,null,null,null,null,null,null,null,null,null,null,null,null,null,null,null,null,null,null,null,null,null,null,null,null,null,null,null,null,null,null,null,null,null,null,null,{"$f":"IFERROR(VLOOKUP(ROWS($CF$3:CF221),$CH$3:$CI$2001,2,FALSE),\"\")","v":""},null,{"$f":"IF(ISNUMBER(SEARCH(B221,CI221)),MAX($CH$2:CH220)+1,0)","v":0},{"$f":"'الرصيد الثابت'!#REF!","v":{"$error":"#REF!"}}]
["",null,{"$f":"IF(B222=\"\",\"\",SUMIF('الرصيد الثابت'!$D$2:$D$106,B222,'الرصيد الثابت'!$H$2:$H$106))","v":""},{"$f":"IF(B222=\"\",\"\",SUMIF('الرصيد الثابت'!$D$2:$D$106,B222,'الرصيد الثابت'!$I$2:$I$106))","v":""},{"$f":"IF(B222=\"\",\"\",SUMIF('الرصيد الثابت'!$D$2:$D$106,B222,'الرصيد الثابت'!$J$2:$J$106))","v":""},null,0,null,null,null,null,0,null,null,null,0,null,0,null,null,null,null,null,null,null,null,null,null,null,null,null,null,null,null,null,null,null,null,null,null,null,null,null,null,null,null,null,null,null,null,null,null,null,null,null,null,null,null,null,null,null,null,null,null,null,null,null,null,null,null,null,null,null,null,null,null,null,null,null,null,null,null,null,{"$f":"IFERROR(VLOOKUP(ROWS($CF$3:CF222),$CH$3:$CI$2001,2,FALSE),\"\")","v":""},null,{"$f":"IF(ISNUMBER(SEARCH(B222,CI222)),MAX($CH$2:CH221)+1,0)","v":0},{"$f":"'الرصيد الثابت'!#REF!","v":{"$error":"#REF!"}}]
["",null,{"$f":"IF(B223=\"\",\"\",SUMIF('الرصيد الثابت'!$D$2:$D$106,B223,'الرصيد الثابت'!$H$2:$H$106))","v":""},{"$f":"IF(B223=\"\",\"\",SUMIF('الرصيد الثابت'!$D$2:$D$106,B223,'الرصيد الثابت'!$I$2:$I$106))","v":""},{"$f":"IF(B223=\"\",\"\",SUMIF('الرصيد الثابت'!$D$2:$D$106,B223,'الرصيد الثابت'!$J$2:$J$106))","v":""},null,0,null,null,null,null,0,null,null,null,0,null,0,null,null,null,null,null,null,null,null,null,null,null,null,null,null,null,null,null,null,null,null,null,null,null,null,null,null,null,null,null,null,null,null,null,null,null,null,null,null,null,null,null,null,null,null,null,null,null,null,null,null,null,null,null,null,null,null,null,null,null,null,null,null,null,null,null,{"$f":"IFERROR(VLOOKUP(ROWS($CF$3:CF223),$CH$3:$CI$2001,2,FALSE),\"\")","v":""},null,{"$f":"IF(ISNUMBER(SEARCH(B223,CI223)),MAX($CH$2:CH222)+1,0)","v":0},{"$f":"'الرصيد الثابت'!#REF!","v":{"$error":"#REF!"}}]
["",null,{"$f":"IF(B224=\"\",\"\",SUMIF('الرصيد الثابت'!$D$2:$D$106,B224,'الرصيد الثابت'!$H$2:$H$106))","v":""},{"$f":"IF(B224=\"\",\"\",SUMIF('الرصيد الثابت'!$D$2:$D$106,B224,'الرصيد الثابت'!$I$2:$I$106))","v":""},{"$f":"IF(B224=\"\",\"\",SUMIF('الرصيد الثابت'!$D$2:$D$106,B224,'الرصيد الثابت'!$J$2:$J$106))","v":""},null,0,null,null,null,null,0,null,null,null,0,null,0,null,null,null,null,null,null,null,null,null,null,null,null,null,null,null,null,null,null,null,null,null,null,null,null,null,null,null,null,null,null,null,null,null,null,null,null,null,null,null,null,null,null,null,null,null,null,null,null,null,null,null,null,null,null,null,null,null,null,null,null,null,null,null,null,null,{"$f":"IFERROR(VLOOKUP(ROWS($CF$3:CF224),$CH$3:$CI$2001,2,FALSE),\"\")","v":""},null,{"$f":"IF(ISNUMBER(SEARCH(B224,CI224)),MAX($CH$2:CH223)+1,0)","v":0},{"$f":"'الرصيد الثابت'!#REF!","v":{"$error":"#REF!"}}]
["",null,{"$f":"IF(B225=\"\",\"\",SUMIF('الرصيد الثابت'!$D$2:$D$106,B225,'الرصيد الثابت'!$H$2:$H$106))","v":""},{"$f":"IF(B225=\"\",\"\",SUMIF('الرصيد الثابت'!$D$2:$D$106,B225,'الرصيد الثابت'!$I$2:$I$106))","v":""},{"$f":"IF(B225=\"\",\"\",SUMIF('الرصيد الثابت'!$D$2:$D$106,B225,'الرصيد الثابت'!$J$2:$J$106))","v":""},null,0,null,null,null,null,0,null,null,null,0,null,0,null,null,null,null,null,null,null,null,null,null,null,null,null,null,null,null,null,null,null,null,null,null,null,null,null,null,null,null,null,null,null,null,null,null,null,null,null,null,null,null,null,null,null,null,null,null,null,null,null,null,null,null,null,null,null,null,null,null,null,null,null,null,null,null,null,{"$f":"IFERROR(VLOOKUP(ROWS($CF$3:CF225),$CH$3:$CI$2001,2,FALSE),\"\")","v":""},null,{"$f":"IF(ISNUMBER(SEARCH(B225,CI225)),MAX($CH$2:CH224)+1,0)","v":0},{"$f":"'الرصيد الثابت'!#REF!","v":{"$error":"#REF!"}}]
["",null,{"$f":"IF(B226=\"\",\"\",SUMIF('الرصيد الثابت'!$D$2:$D$106,B226,'الرصيد الثابت'!$H$2:$H$106))","v":""},{"$f":"IF(B226=\"\",\"\",SUMIF('الرصيد الثابت'!$D$2:$D$106,B226,'الرصيد الثابت'!$I$2:$I$106))","v":""},{"$f":"IF(B226=\"\",\"\",SUMIF('الرصيد الثابت'!$D$2:$D$106,B226,'الرصيد الثابت'!$J$2:$J$106))","v":""},null,0,null,null,null,null,0,null,null,null,0,null,0,null,null,null,null,null,null,null,null,null,null,null,null,null,null,null,null,null,null,null,null,null,null,null,null,null,null,null,null,null,null,null,null,null,null,null,null,null,null,null,null,null,null,null,null,null,null,null,null,null,null,null,null,null,null,null,null,null,null,null,null,null,null,null,null,null,{"$f":"IFERROR(VLOOKUP(ROWS($CF$3:CF226),$CH$3:$CI$2001,2,FALSE),\"\")","v":""},null,{"$f":"IF(ISNUMBER(SEARCH(B226,CI226)),MAX($CH$2:CH225)+1,0)","v":0},{"$f":"'الرصيد الثابت'!#REF!","v":{"$error":"#REF!"}}]
["",null,{"$f":"IF(B227=\"\",\"\",SUMIF('الرصيد الثابت'!$D$2:$D$106,B227,'الرصيد الثابت'!$H$2:$H$106))","v":""},{"$f":"IF(B227=\"\",\"\",SUMIF('الرصيد الثابت'!$D$2:$D$106,B227,'الرصيد الثابت'!$I$2:$I$106))","v":""},{"$f":"IF(B227=\"\",\"\",SUMIF('الرصيد الثابت'!$D$2:$D$106,B227,'الرصيد الثابت'!$J$2:$J$106))","v":""},null,0,null,null,null,null,0,null,null,null,0,null,0,null,null,null,null,null,null,null,null,null,null,null,null,null,null,null,null,null,null,null,null,null,null,null,null,null,null,null,null,null,null,null,null,null,null,null,null,null,null,null,null,null,null,null,null,null,null,null,null,null,null,null,null,null,null,null,null,null,null,null,null,null,null,null,null,null,{"$f":"IFERROR(VLOOKUP(ROWS($CF$3:CF227),$CH$3:$CI$2001,2,FALSE),\"\")","v":""},null,{"$f":"IF(ISNUMBER(SEARCH(B227,CI227)),MAX($CH$2:CH226)+1,0)","v":0},{"$f":"'الرصيد الثابت'!#REF!","v":{"$error":"#REF!"}}]
["",null,{"$f":"IF(B228=\"\",\"\",SUMIF('الرصيد الثابت'!$D$2:$D$106,B228,'الرصيد الثابت'!$H$2:$H$106))","v":""},{"$f":"IF(B228=\"\",\"\",SUMIF('الرصيد الثابت'!$D$2:$D$106,B228,'الرصيد الثابت'!$I$2:$I$106))","v":""},{"$f":"IF(B228=\"\",\"\",SUMIF('الرصيد الثابت'!$D$2:$D$106,B228,'الرصيد الثابت'!$J$2:$J$106))","v":""},null,0,null,null,null,null,0,null,null,null,0,null,0,null,null,null,null,null,null,null,null,null,null,null,null,null,null,null,null,null,null,null,null,null,null,null,null,null,null,null,null,null,null,null,null,null,null,null,null,null,null,null,null,null,null,null,null,null,null,null,null,null,null,null,null,null,null,null,null,null,null,null,null,null,null,null,null,null,{"$f":"IFERROR(VLOOKUP(ROWS($CF$3:CF228),$CH$3:$CI$2001,2,FALSE),\"\")","v":""},null,{"$f":"IF(ISNUMBER(SEARCH(B228,CI228)),MAX($CH$2:CH227)+1,0)","v":0},{"$f":"'الرصيد الثابت'!#REF!","v":{"$error":"#REF!"}}]
["",null,{"$f":"IF(B229=\"\",\"\",SUMIF('الرصيد الثابت'!$D$2:$D$106,B229,'الرصيد الثابت'!$H$2:$H$106))","v":""},{"$f":"IF(B229=\"\",\"\",SUMIF('الرصيد الثابت'!$D$2:$D$106,B229,'الرصيد الثابت'!$I$2:$I$106))","v":""},{"$f":"IF(B229=\"\",\"\",SUMIF('الرصيد الثابت'!$D$2:$D$106,B229,'الرصيد الثابت'!$J$2:$J$106))","v":""},null,0,null,null,null,null,0,null,null,null,0,null,0,null,null,null,null,null,null,null,null,null,null,null,null,null,null,null,null,null,null,null,null,null,null,null,null,null,null,null,null,null,null,null,null,null,null,null,null,null,null,null,null,null,null,null,null,null,null,null,null,null,null,null,null,null,null,null,null,null,null,null,null,null,null,null,null,null,{"$f":"IFERROR(VLOOKUP(ROWS($CF$3:CF229),$CH$3:$CI$2001,2,FALSE),\"\")","v":""},null,{"$f":"IF(ISNUMBER(SEARCH(B229,CI229)),MAX($CH$2:CH228)+1,0)","v":0},{"$f":"'الرصيد الثابت'!#REF!","v":{"$error":"#REF!"}}]
["",null,{"$f":"IF(B230=\"\",\"\",SUMIF('الرصيد الثابت'!$D$2:$D$106,B230,'الرصيد الثابت'!$H$2:$H$106))","v":""},{"$f":"IF(B230=\"\",\"\",SUMIF('الرصيد الثابت'!$D$2:$D$106,B230,'الرصيد الثابت'!$I$2:$I$106))","v":""},{"$f":"IF(B230=\"\",\"\",SUMIF('الرصيد الثابت'!$D$2:$D$106,B230,'الرصيد الثابت'!$J$2:$J$106))","v":""},null,0,null,null,null,null,0,null,null,null,0,null,0,null,null,null,null,null,null,null,null,null,null,null,null,null,null,null,null,null,null,null,null,null,null,null,null,null,null,null,null,null,null,null,null,null,null,null,null,null,null,null,null,null,null,null,null,null,null,null,null,null,null,null,null,null,null,null,null,null,null,null,null,null,null,null,null,null,{"$f":"IFERROR(VLOOKUP(ROWS($CF$3:CF230),$CH$3:$CI$2001,2,FALSE),\"\")","v":""},null,{"$f":"IF(ISNUMBER(SEARCH(B230,CI230)),MAX($CH$2:CH229)+1,0)","v":0},{"$f":"'الرصيد الثابت'!#REF!","v":{"$error":"#REF!"}}]
["",null,{"$f":"IF(B231=\"\",\"\",SUMIF('الرصيد الثابت'!$D$2:$D$106,B231,'الرصيد الثابت'!$H$2:$H$106))","v":""},{"$f":"IF(B231=\"\",\"\",SUMIF('الرصيد الثابت'!$D$2:$D$106,B231,'الرصيد الثابت'!$I$2:$I$106))","v":""},{"$f":"IF(B231=\"\",\"\",SUMIF('الرصيد الثابت'!$D$2:$D$106,B231,'الرصيد الثابت'!$J$2:$J$106))","v":""},null,0,null,null,null,null,0,null,null,null,0,null,0,null,null,null,null,null,null,null,null,null,null,null,null,null,null,null,null,null,null,null,null,null,null,null,null,null,null,null,null,null,null,null,null,null,null,null,null,null,null,null,null,null,null,null,null,null,null,null,null,null,null,null,null,null,null,null,null,null,null,null,null,null,null,null,null,null,{"$f":"IFERROR(VLOOKUP(ROWS($CF$3:CF231),$CH$3:$CI$2001,2,FALSE),\"\")","v":""},null,{"$f":"IF(ISNUMBER(SEARCH(B231,CI231)),MAX($CH$2:CH230)+1,0)","v":0},{"$f":"'الرصيد الثابت'!#REF!","v":{"$error":"#REF!"}}]
["",null,{"$f":"IF(B232=\"\",\"\",SUMIF('الرصيد الثابت'!$D$2:$D$106,B232,'الرصيد الثابت'!$H$2:$H$106))","v":""},{"$f":"IF(B232=\"\",\"\",SUMIF('الرصيد الثابت'!$D$2:$D$106,B232,'الرصيد الثابت'!$I$2:$I$106))","v":""},{"$f":"IF(B232=\"\",\"\",SUMIF('الرصيد الثابت'!$D$2:$D$106,B232,'الرصيد الثابت'!$J$2:$J$106))","v":""},null,0,null,null,null,null,0,null,null,null,0,null,0,null,null,null,null,null,null,null,null,null,null,null,null,null,null,null,null,null,null,null,null,null,null,null,null,null,null,null,null,null,null,null,null,null,null,null,null,null,null,null,null,null,null,null,null,null,null,null,null,null,null,null,null,null,null,null,null,null,null,null,null,null,null,null,null,null,{"$f":"IFERROR(VLOOKUP(ROWS($CF$3:CF232),$CH$3:$CI$2001,2,FALSE),\"\")","v":""},null,{"$f":"IF(ISNUMBER(SEARCH(B232,CI232)),MAX($CH$2:CH231)+1,0)","v":0},{"$f":"'الرصيد الثابت'!#REF!","v":{"$error":"#REF!"}}]
["",null,{"$f":"IF(B233=\"\",\"\",SUMIF('الرصيد الثابت'!$D$2:$D$106,B233,'الرصيد الثابت'!$H$2:$H$106))","v":""},{"$f":"IF(B233=\"\",\"\",SUMIF('الرصيد الثابت'!$D$2:$D$106,B233,'الرصيد الثابت'!$I$2:$I$106))","v":""},{"$f":"IF(B233=\"\",\"\",SUMIF('الرصيد الثابت'!$D$2:$D$106,B233,'الرصيد الثابت'!$J$2:$J$106))","v":""},null,0,null,null,null,null,0,null,null,null,0,null,0,null,null,null,null,null,null,null,null,null,null,null,null,null,null,null,null,null,null,null,null,null,null,null,null,null,null,null,null,null,null,null,null,null,null,null,null,null,null,null,null,null,null,null,null,null,null,null,null,null,null,null,null,null,null,null,null,null,null,null,null,null,null,null,null,null,{"$f":"IFERROR(VLOOKUP(ROWS($CF$3:CF233),$CH$3:$CI$2001,2,FALSE),\"\")","v":""},null,{"$f":"IF(ISNUMBER(SEARCH(B233,CI233)),MAX($CH$2:CH232)+1,0)","v":0},{"$f":"'الرصيد الثابت'!#REF!","v":{"$error":"#REF!"}}]
["",null,{"$f":"IF(B234=\"\",\"\",SUMIF('الرصيد الثابت'!$D$2:$D$106,B234,'الرصيد الثابت'!$H$2:$H$106))","v":""},{"$f":"IF(B234=\"\",\"\",SUMIF('الرصيد الثابت'!$D$2:$D$106,B234,'الرصيد الثابت'!$I$2:$I$106))","v":""},{"$f":"IF(B234=\"\",\"\",SUMIF('الرصيد الثابت'!$D$2:$D$106,B234,'الرصيد الثابت'!$J$2:$J$106))","v":""},null,0,null,null,null,null,0,null,null,null,0,null,0,null,null,null,null,null,null,null,null,null,null,null,null,null,null,null,null,null,null,null,null,null,null,null,null,null,null,null,null,null,null,null,null,null,null,null,null,null,null,null,null,null,null,null,null,null,null,null,null,null,null,null,null,null,null,null,null,null,null,null,null,null,null,null,null,null,{"$f":"IFERROR(VLOOKUP(ROWS($CF$3:CF234),$CH$3:$CI$2001,2,FALSE),\"\")","v":""},null,{"$f":"IF(ISNUMBER(SEARCH(B234,CI234)),MAX($CH$2:CH233)+1,0)","v":0},{"$f":"'الرصيد الثابت'!#REF!","v":{"$error":"#REF!"}}]
["",null,{"$f":"IF(B235=\"\",\"\",SUMIF('الرصيد الثابت'!$D$2:$D$106,B235,'الرصيد الثابت'!$H$2:$H$106))","v":""},{"$f":"IF(B235=\"\",\"\",SUMIF('الرصيد الثابت'!$D$2:$D$106,B235,'الرصيد الثابت'!$I$2:$I$106))","v":""},{"$f":"IF(B235=\"\",\"\",SUMIF('الرصيد الثابت'!$D$2:$D$106,B235,'الرصيد الثابت'!$J$2:$J$106))","v":""},null,0,null,null,null,null,0,null,null,null,0,null,0,null,null,null,null,null,null,null,null,null,null,null,null,null,null,null,null,null,null,null,null,null,null,null,null,null,null,null,null,null,null,null,null,null,null,null,null,null,null,null,null,null,null,null,null,null,null,null,null,null,null,null,null,null,null,null,null,null,null,null,null,null,null,null,null,null,{"$f":"IFERROR(VLOOKUP(ROWS($CF$3:CF235),$CH$3:$CI$2001,2,FALSE),\"\")","v":""},null,{"$f":"IF(ISNUMBER(SEARCH(B235,CI235)),MAX($CH$2:CH234)+1,0)","v":0},{"$f":"'الرصيد الثابت'!#REF!","v":{"$error":"#REF!"}}]
["",null,{"$f":"IF(B236=\"\",\"\",SUMIF('الرصيد الثابت'!$D$2:$D$106,B236,'الرصيد الثابت'!$H$2:$H$106))","v":""},{"$f":"IF(B236=\"\",\"\",SUMIF('الرصيد الثابت'!$D$2:$D$106,B236,'الرصيد الثابت'!$I$2:$I$106))","v":""},{"$f":"IF(B236=\"\",\"\",SUMIF('الرصيد الثابت'!$D$2:$D$106,B236,'الرصيد الثابت'!$J$2:$J$106))","v":""},null,0,null,null,null,null,0,null,null,null,0,null,0,null,null,null,null,null,null,null,null,null,null,null,null,null,null,null,null,null,null,null,null,null,null,null,null,null,null,null,null,null,null,null,null,null,null,null,null,null,null,null,null,null,null,null,null,null,null,null,null,null,null,null,null,null,null,null,null,null,null,null,null,null,null,null,null,null,{"$f":"IFERROR(VLOOKUP(ROWS($CF$3:CF236),$CH$3:$CI$2001,2,FALSE),\"\")","v":""},null,{"$f":"IF(ISNUMBER(SEARCH(B236,CI236)),MAX($CH$2:CH235)+1,0)","v":0},{"$f":"'الرصيد الثابت'!#REF!","v":{"$error":"#REF!"}}]
["",null,{"$f":"IF(B237=\"\",\"\",SUMIF('الرصيد الثابت'!$D$2:$D$106,B237,'الرصيد الثابت'!$H$2:$H$106))","v":""},{"$f":"IF(B237=\"\",\"\",SUMIF('الرصيد الثابت'!$D$2:$D$106,B237,'الرصيد الثابت'!$I$2:$I$106))","v":""},{"$f":"IF(B237=\"\",\"\",SUMIF('الرصيد الثابت'!$D$2:$D$106,B237,'الرصيد الثابت'!$J$2:$J$106))","v":""},null,0,null,null,null,null,0,null,null,null,0,null,0,null,null,null,null,null,null,null,null,null,null,null,null,null,null,null,null,null,null,null,null,null,null,null,null,null,null,null,null,null,null,null,null,null,null,null,null,null,null,null,null,null,null,null,null,null,null,null,null,null,null,null,null,null,null,null,null,null,null,null,null,null,null,null,null,null,{"$f":"IFERROR(VLOOKUP(ROWS($CF$3:CF237),$CH$3:$CI$2001,2,FALSE),\"\")","v":""},null,{"$f":"IF(ISNUMBER(SEARCH(B237,CI237)),MAX($CH$2:CH236)+1,0)","v":0},{"$f":"'الرصيد الثابت'!#REF!","v":{"$error":"#REF!"}}]
["",null,{"$f":"IF(B238=\"\",\"\",SUMIF('الرصيد الثابت'!$D$2:$D$106,B238,'الرصيد الثابت'!$H$2:$H$106))","v":""},{"$f":"IF(B238=\"\",\"\",SUMIF('الرصيد الثابت'!$D$2:$D$106,B238,'الرصيد الثابت'!$I$2:$I$106))","v":""},{"$f":"IF(B238=\"\",\"\",SUMIF('الرصيد الثابت'!$D$2:$D$106,B238,'الرصيد الثابت'!$J$2:$J$106))","v":""},null,0,null,null,null,null,0,null,null,null,0,null,0,null,null,null,null,null,null,null,null,null,null,null,null,null,null,null,null,null,null,null,null,null,null,null,null,null,null,null,null,null,null,null,null,null,null,null,null,null,null,null,null,null,null,null,null,null,null,null,null,null,null,null,null,null,null,null,null,null,null,null,null,null,null,null,null,null,{"$f":"IFERROR(VLOOKUP(ROWS($CF$3:CF238),$CH$3:$CI$2001,2,FALSE),\"\")","v":""},null,{"$f":"IF(ISNUMBER(SEARCH(B238,CI238)),MAX($CH$2:CH237)+1,0)","v":0},{"$f":"'الرصيد الثابت'!#REF!","v":{"$error":"#REF!"}}]
["",null,{"$f":"IF(B239=\"\",\"\",SUMIF('الرصيد الثابت'!$D$2:$D$106,B239,'الرصيد الثابت'!$H$2:$H$106))","v":""},{"$f":"IF(B239=\"\",\"\",SUMIF('الرصيد الثابت'!$D$2:$D$106,B239,'الرصيد الثابت'!$I$2:$I$106))","v":""},{"$f":"IF(B239=\"\",\"\",SUMIF('الرصيد الثابت'!$D$2:$D$106,B239,'الرصيد الثابت'!$J$2:$J$106))","v":""},null,0,null,null,null,null,0,null,null,null,0,null,0,null,null,null,null,null,null,null,null,null,null,null,null,null,null,null,null,null,null,null,null,null,null,null,null,null,null,null,null,null,null,null,null,null,null,null,null,null,null,null,null,null,null,null,null,null,null,null,null,null,null,null,null,null,null,null,null,null,null,null,null,null,null,null,null,null,{"$f":"IFERROR(VLOOKUP(ROWS($CF$3:CF239),$CH$3:$CI$2001,2,FALSE),\"\")","v":""},null,{"$f":"IF(ISNUMBER(SEARCH(B239,CI239)),MAX($CH$2:CH238)+1,0)","v":0},{"$f":"'الرصيد الثابت'!#REF!","v":{"$error":"#REF!"}}]
["",null,{"$f":"IF(B240=\"\",\"\",SUMIF('الرصيد الثابت'!$D$2:$D$106,B240,'الرصيد الثابت'!$H$2:$H$106))","v":""},{"$f":"IF(B240=\"\",\"\",SUMIF('الرصيد الثابت'!$D$2:$D$106,B240,'الرصيد الثابت'!$I$2:$I$106))","v":""},{"$f":"IF(B240=\"\",\"\",SUMIF('الرصيد الثابت'!$D$2:$D$106,B240,'الرصيد الثابت'!$J$2:$J$106))","v":""},null,0,null,null,null,null,0,null,null,null,0,null,0,null,null,null,null,null,null,null,null,null,null,null,null,null,null,null,null,null,null,null,null,null,null,null,null,null,null,null,null,null,null,null,null,null,null,null,null,null,null,null,null,null,null,null,null,null,null,null,null,null,null,null,null,null,null,null,null,null,null,null,null,null,null,null,null,null,{"$f":"IFERROR(VLOOKUP(ROWS($CF$3:CF240),$CH$3:$CI$2001,2,FALSE),\"\")","v":""},null,{"$f":"IF(ISNUMBER(SEARCH(B240,CI240)),MAX($CH$2:CH239)+1,0)","v":0},{"$f":"'الرصيد الثابت'!#REF!","v":{"$error":"#REF!"}}]
["",null,{"$f":"IF(B241=\"\",\"\",SUMIF('الرصيد الثابت'!$D$2:$D$106,B241,'الرصيد الثابت'!$H$2:$H$106))","v":""},{"$f":"IF(B241=\"\",\"\",SUMIF('الرصيد الثابت'!$D$2:$D$106,B241,'الرصيد الثابت'!$I$2:$I$106))","v":""},{"$f":"IF(B241=\"\",\"\",SUMIF('الرصيد الثابت'!$D$2:$D$106,B241,'الرصيد الثابت'!$J$2:$J$106))","v":""},null,0,null,null,null,null,0,null,null,null,0,null,0,null,null,null,null,null,null,null,null,null,null,null,null,null,null,null,null,null,null,null,null,null,null,null,null,null,null,null,null,null,null,null,null,null,null,null,null,null,null,null,null,null,null,null,null,null,null,null,null,null,null,null,null,null,null,null,null,null,null,null,null,null,null,null,null,null,{"$f":"IFERROR(VLOOKUP(ROWS($CF$3:CF241),$CH$3:$CI$2001,2,FALSE),\"\")","v":""},null,{"$f":"IF(ISNUMBER(SEARCH(B241,CI241)),MAX($CH$2:CH240)+1,0)","v":0},{"$f":"'الرصيد الثابت'!#REF!","v":{"$error":"#REF!"}}]
["",null,{"$f":"IF(B242=\"\",\"\",SUMIF('الرصيد الثابت'!$D$2:$D$106,B242,'الرصيد الثابت'!$H$2:$H$106))","v":""},{"$f":"IF(B242=\"\",\"\",SUMIF('الرصيد الثابت'!$D$2:$D$106,B242,'الرصيد الثابت'!$I$2:$I$106))","v":""},{"$f":"IF(B242=\"\",\"\",SUMIF('الرصيد الثابت'!$D$2:$D$106,B242,'الرصيد الثابت'!$J$2:$J$106))","v":""},null,0,null,null,null,null,0,null,null,null,0,null,0,null,null,null,null,null,null,null,null,null,null,null,null,null,null,null,null,null,null,null,null,null,null,null,null,null,null,null,null,null,null,null,null,null,null,null,null,null,null,null,null,null,null,null,null,null,null,null,null,null,null,null,null,null,null,null,null,null,null,null,null,null,null,null,null,null,{"$f":"IFERROR(VLOOKUP(ROWS($CF$3:CF242),$CH$3:$CI$2001,2,FALSE),\"\")","v":""},null,{"$f":"IF(ISNUMBER(SEARCH(B242,CI242)),MAX($CH$2:CH241)+1,0)","v":0},{"$f":"'الرصيد الثابت'!#REF!","v":{"$error":"#REF!"}}]
["",null,{"$f":"IF(B243=\"\",\"\",SUMIF('الرصيد الثابت'!$D$2:$D$106,B243,'الرصيد الثابت'!$H$2:$H$106))","v":""},{"$f":"IF(B243=\"\",\"\",SUMIF('الرصيد الثابت'!$D$2:$D$106,B243,'الرصيد الثابت'!$I$2:$I$106))","v":""},{"$f":"IF(B243=\"\",\"\",SUMIF('الرصيد الثابت'!$D$2:$D$106,B243,'الرصيد الثابت'!$J$2:$J$106))","v":""},null,0,null,null,null,null,0,null,null,null,0,null,0,null,null,null,null,null,null,null,null,null,null,null,null,null,null,null,null,null,null,null,null,null,null,null,null,null,null,null,null,null,null,null,null,null,null,null,null,null,null,null,null,null,null,null,null,null,null,null,null,null,null,null,null,null,null,null,null,null,null,null,null,null,null,null,null,null,{"$f":"IFERROR(VLOOKUP(ROWS($CF$3:CF243),$CH$3:$CI$2001,2,FALSE),\"\")","v":""},null,{"$f":"IF(ISNUMBER(SEARCH(B243,CI243)),MAX($CH$2:CH242)+1,0)","v":0},{"$f":"'الرصيد الثابت'!#REF!","v":{"$error":"#REF!"}}]
["",null,{"$f":"IF(B244=\"\",\"\",SUMIF('الرصيد الثابت'!$D$2:$D$106,B244,'الرصيد الثابت'!$H$2:$H$106))","v":""},{"$f":"IF(B244=\"\",\"\",SUMIF('الرصيد الثابت'!$D$2:$D$106,B244,'الرصيد الثابت'!$I$2:$I$106))","v":""},{"$f":"IF(B244=\"\",\"\",SUMIF('الرصيد الثابت'!$D$2:$D$106,B244,'الرصيد الثابت'!$J$2:$J$106))","v":""},null,0,null,null,null,null,0,null,null,null,0,null,0,null,null,null,null,null,null,null,null,null,null,null,null,null,null,null,null,null,null,null,null,null,null,null,null,null,null,null,null,null,null,null,null,null,null,null,null,null,null,null,null,null,null,null,null,null,null,null,null,null,null,null,null,null,null,null,null,null,null,null,null,null,null,null,null,null,{"$f":"IFERROR(VLOOKUP(ROWS($CF$3:CF244),$CH$3:$CI$2001,2,FALSE),\"\")","v":""},null,{"$f":"IF(ISNUMBER(SEARCH(B244,CI244)),MAX($CH$2:CH243)+1,0)","v":0},{"$f":"'الرصيد الثابت'!#REF!","v":{"$error":"#REF!"}}]
["",null,{"$f":"IF(B245=\"\",\"\",SUMIF('الرصيد الثابت'!$D$2:$D$106,B245,'الرصيد الثابت'!$H$2:$H$106))","v":""},{"$f":"IF(B245=\"\",\"\",SUMIF('الرصيد الثابت'!$D$2:$D$106,B245,'الرصيد الثابت'!$I$2:$I$106))","v":""},{"$f":"IF(B245=\"\",\"\",SUMIF('الرصيد الثابت'!$D$2:$D$106,B245,'الرصيد الثابت'!$J$2:$J$106))","v":""},null,0,null,null,null,null,0,null,null,null,0,null,0,null,null,null,null,null,null,null,null,null,null,null,null,null,null,null,null,null,null,null,null,null,null,null,null,null,null,null,null,null,null,null,null,null,null,null,null,null,null,null,null,null,null,null,null,null,null,null,null,null,null,null,null,null,null,null,null,null,null,null,null,null,null,null,null,null,{"$f":"IFERROR(VLOOKUP(ROWS($CF$3:CF245),$CH$3:$CI$2001,2,FALSE),\"\")","v":""},null,{"$f":"IF(ISNUMBER(SEARCH(B245,CI245)),MAX($CH$2:CH244)+1,0)","v":0},{"$f":"'الرصيد الثابت'!#REF!","v":{"$error":"#REF!"}}]
["",null,{"$f":"IF(B246=\"\",\"\",SUMIF('الرصيد الثابت'!$D$2:$D$106,B246,'الرصيد الثابت'!$H$2:$H$106))","v":""},{"$f":"IF(B246=\"\",\"\",SUMIF('الرصيد الثابت'!$D$2:$D$106,B246,'الرصيد الثابت'!$I$2:$I$106))","v":""},{"$f":"IF(B246=\"\",\"\",SUMIF('الرصيد الثابت'!$D$2:$D$106,B246,'الرصيد الثابت'!$J$2:$J$106))","v":""},null,0,null,null,null,null,0,null,null,null,0,null,0,null,null,null,null,null,null,null,null,null,null,null,null,null,null,null,null,null,null,null,null,null,null,null,null,null,null,null,null,null,null,null,null,null,null,null,null,null,null,null,null,null,null,null,null,null,null,null,null,null,null,null,null,null,null,null,null,null,null,null,null,null,null,null,null,null,{"$f":"IFERROR(VLOOKUP(ROWS($CF$3:CF246),$CH$3:$CI$2001,2,FALSE),\"\")","v":""},null,{"$f":"IF(ISNUMBER(SEARCH(B246,CI246)),MAX($CH$2:CH245)+1,0)","v":0},{"$f":"'الرصيد الثابت'!#REF!","v":{"$error":"#REF!"}}]
["",null,{"$f":"IF(B247=\"\",\"\",SUMIF('الرصيد الثابت'!$D$2:$D$106,B247,'الرصيد الثابت'!$H$2:$H$106))","v":""},{"$f":"IF(B247=\"\",\"\",SUMIF('الرصيد الثابت'!$D$2:$D$106,B247,'الرصيد الثابت'!$I$2:$I$106))","v":""},{"$f":"IF(B247=\"\",\"\",SUMIF('الرصيد الثابت'!$D$2:$D$106,B247,'الرصيد الثابت'!$J$2:$J$106))","v":""},null,0,null,null,null,null,0,null,null,null,0,null,0,null,null,null,null,null,null,null,null,null,null,null,null,null,null,null,null,null,null,null,null,null,null,null,null,null,null,null,null,null,null,null,null,null,null,null,null,null,null,null,null,null,null,null,null,null,null,null,null,null,null,null,null,null,null,null,null,null,null,null,null,null,null,null,null,null,{"$f":"IFERROR(VLOOKUP(ROWS($CF$3:CF247),$CH$3:$CI$2001,2,FALSE),\"\")","v":""},null,{"$f":"IF(ISNUMBER(SEARCH(B247,CI247)),MAX($CH$2:CH246)+1,0)","v":0},{"$f":"'الرصيد الثابت'!#REF!","v":{"$error":"#REF!"}}]
["",null,{"$f":"IF(B248=\"\",\"\",SUMIF('الرصيد الثابت'!$D$2:$D$106,B248,'الرصيد الثابت'!$H$2:$H$106))","v":""},{"$f":"IF(B248=\"\",\"\",SUMIF('الرصيد الثابت'!$D$2:$D$106,B248,'الرصيد الثابت'!$I$2:$I$106))","v":""},{"$f":"IF(B248=\"\",\"\",SUMIF('الرصيد الثابت'!$D$2:$D$106,B248,'الرصيد الثابت'!$J$2:$J$106))","v":""},null,0,null,null,null,null,0,null,null,null,0,null,0,null,null,null,null,null,null,null,null,null,null,null,null,null,null,null,null,null,null,null,null,null,null,null,null,null,null,null,null,null,null,null,null,null,null,null,null,null,null,null,null,null,null,null,null,null,null,null,null,null,null,null,null,null,null,null,null,null,null,null,null,null,null,null,null,null,{"$f":"IFERROR(VLOOKUP(ROWS($CF$3:CF248),$CH$3:$CI$2001,2,FALSE),\"\")","v":""},null,{"$f":"IF(ISNUMBER(SEARCH(B248,CI248)),MAX($CH$2:CH247)+1,0)","v":0},{"$f":"'الرصيد الثابت'!#REF!","v":{"$error":"#REF!"}}]
["",null,{"$f":"IF(B249=\"\",\"\",SUMIF('الرصيد الثابت'!$D$2:$D$106,B249,'الرصيد الثابت'!$H$2:$H$106))","v":""},{"$f":"IF(B249=\"\",\"\",SUMIF('الرصيد الثابت'!$D$2:$D$106,B249,'الرصيد الثابت'!$I$2:$I$106))","v":""},{"$f":"IF(B249=\"\",\"\",SUMIF('الرصيد الثابت'!$D$2:$D$106,B249,'الرصيد الثابت'!$J$2:$J$106))","v":""},null,0,null,null,null,null,0,null,null,null,0,null,0,null,null,null,null,null,null,null,null,null,null,null,null,null,null,null,null,null,null,null,null,null,null,null,null,null,null,null,null,null,null,null,null,null,null,null,null,null,null,null,null,null,null,null,null,null,null,null,null,null,null,null,null,null,null,null,null,null,null,null,null,null,null,null,null,null,{"$f":"IFERROR(VLOOKUP(ROWS($CF$3:CF249),$CH$3:$CI$2001,2,FALSE),\"\")","v":""},null,{"$f":"IF(ISNUMBER(SEARCH(B249,CI249)),MAX($CH$2:CH248)+1,0)","v":0},{"$f":"'الرصيد الثابت'!#REF!","v":{"$error":"#REF!"}}]
["",null,{"$f":"IF(B250=\"\",\"\",SUMIF('الرصيد الثابت'!$D$2:$D$106,B250,'الرصيد الثابت'!$H$2:$H$106))","v":""},{"$f":"IF(B250=\"\",\"\",SUMIF('الرصيد الثابت'!$D$2:$D$106,B250,'الرصيد الثابت'!$I$2:$I$106))","v":""},{"$f":"IF(B250=\"\",\"\",SUMIF('الرصيد الثابت'!$D$2:$D$106,B250,'الرصيد الثابت'!$J$2:$J$106))","v":""},null,0,null,null,null,null,0,null,null,null,0,null,0,null,null,null,null,null,null,null,null,null,null,null,null,null,null,null,null,null,null,null,null,null,null,null,null,null,null,null,null,null,null,null,null,null,null,null,null,null,null,null,null,null,null,null,null,null,null,null,null,null,null,null,null,null,null,null,null,null,null,null,null,null,null,null,null,null,{"$f":"IFERROR(VLOOKUP(ROWS($CF$3:CF250),$CH$3:$CI$2001,2,FALSE),\"\")","v":""},null,{"$f":"IF(ISNUMBER(SEARCH(B250,CI250)),MAX($CH$2:CH249)+1,0)","v":0},{"$f":"'الرصيد الثابت'!#REF!","v":{"$error":"#REF!"}}]
["",null,{"$f":"IF(B251=\"\",\"\",SUMIF('الرصيد الثابت'!$D$2:$D$106,B251,'الرصيد الثابت'!$H$2:$H$106))","v":""},{"$f":"IF(B251=\"\",\"\",SUMIF('الرصيد الثابت'!$D$2:$D$106,B251,'الرصيد الثابت'!$I$2:$I$106))","v":""},{"$f":"IF(B251=\"\",\"\",SUMIF('الرصيد الثابت'!$D$2:$D$106,B251,'الرصيد الثابت'!$J$2:$J$106))","v":""},null,0,null,null,null,null,0,null,null,null,0,null,0,null,null,null,null,null,null,null,null,null,null,null,null,null,null,null,null,null,null,null,null,null,null,null,null,null,null,null,null,null,null,null,null,null,null,null,null,null,null,null,null,null,null,null,null,null,null,null,null,null,null,null,null,null,null,null,null,null,null,null,null,null,null,null,null,null,{"$f":"IFERROR(VLOOKUP(ROWS($CF$3:CF251),$CH$3:$CI$2001,2,FALSE),\"\")","v":""},null,{"$f":"IF(ISNUMBER(SEARCH(B251,CI251)),MAX($CH$2:CH250)+1,0)","v":0},{"$f":"'الرصيد الثابت'!#REF!","v":{"$error":"#REF!"}}]
[{"$f":"IF(B14590<>\"\",IF(A14590=\"\",NOW(),A14590),\"\")","v":""},null,{"$f":"IF(B252=\"\",\"\",SUMIF('الرصيد الثابت'!$D$2:$D$106,B252,'الرصيد الثابت'!$H$2:$H$106))","v":""},{"$f":"IF(B252=\"\",\"\",SUMIF('الرصيد الثابت'!$D$2:$D$106,B252,'الرصيد الثابت'!$I$2:$I$106))","v":""},{"$f":"IF(B252=\"\",\"\",SUMIF('الرصيد الثابت'!$D$2:$D$106,B252,'الرصيد الثابت'!$J$2:$J$106))","v":""},null,{"$f":"SUM(H14590*F14590)","v":0},null,null,null,null,0,null,null,null,{"$f":"SUM(F14590-K14590)","v":0},null,{"$f":"SUM(S14590*Q14590)","v":0},null,null,null,null,null,null,null,null,null,null,null,null,null,null,null,null,null,null,null,null,null,null,null,null,null,null,null,null,null,null,null,null,null,null,null,null,null,null,null,null,null,null,null,null,null,null,null,null,null,null,null,null,null,null,null,null,null,null,null,null,null,null,null,null,null,{"$f":"IFERROR(VLOOKUP(ROWS($CF$3:CF252),$CH$3:$CI$2001,2,FALSE),\"\")","v":""},null,{"$f":"IF(ISNUMBER(SEARCH(B252,CI252)),MAX($CH$2:CH251)+1,0)","v":0},{"$f":"'الرصيد الثابت'!#REF!","v":{"$error":"#REF!"}}]
["",null,{"$f":"IF(B253=\"\",\"\",SUMIF('الرصيد الثابت'!$D$2:$D$106,B253,'الرصيد الثابت'!$H$2:$H$106))","v":""},{"$f":"IF(B253=\"\",\"\",SUMIF('الرصيد الثابت'!$D$2:$D$106,B253,'الرصيد الثابت'!$I$2:$I$106))","v":""},{"$f":"IF(B253=\"\",\"\",SUMIF('الرصيد الثابت'!$D$2:$D$106,B253,'الرصيد الثابت'!$J$2:$J$106))","v":""},null,0,null,null,null,null,0,null,null,null,0,null,0,null,null,null,null,null,null,null,null,null,null,null,null,null,null,null,null,null,null,null,null,null,null,null,null,null,null,null,null,null,null,null,null,null,null,null,null,null,null,null,null,null,null,null,null,null,null,null,null,null,null,null,null,null,null,null,null,null,null,null,null,null,null,null,null,null,{"$f":"IFERROR(VLOOKUP(ROWS($CF$3:CF253),$CH$3:$CI$2001,2,FALSE),\"\")","v":""},null,{"$f":"IF(ISNUMBER(SEARCH(B253,CI253)),MAX($CH$2:CH252)+1,0)","v":0},{"$f":"'الرصيد الثابت'!#REF!","v":{"$error":"#REF!"}}]
["",null,{"$f":"IF(B254=\"\",\"\",SUMIF('الرصيد الثابت'!$D$2:$D$106,B254,'الرصيد الثابت'!$H$2:$H$106))","v":""},{"$f":"IF(B254=\"\",\"\",SUMIF('الرصيد الثابت'!$D$2:$D$106,B254,'الرصيد الثابت'!$I$2:$I$106))","v":""},{"$f":"IF(B254=\"\",\"\",SUMIF('الرصيد الثابت'!$D$2:$D$106,B254,'الرصيد الثابت'!$J$2:$J$106))","v":""},null,0,null,null,null,null,0,null,null,null,0,null,0,null,null,null,null,null,null,null,null,null,null,null,null,null,null,null,null,null,null,null,null,null,null,null,null,null,null,null,null,null,null,null,null,null,null,null,null,null,null,null,null,null,null,null,null,null,null,null,null,null,null,null,null,null,null,null,null,null,null,null,null,null,null,null,null,null,{"$f":"IFERROR(VLOOKUP(ROWS($CF$3:CF254),$CH$3:$CI$2001,2,FALSE),\"\")","v":""},null,{"$f":"IF(ISNUMBER(SEARCH(B254,CI254)),MAX($CH$2:CH253)+1,0)","v":0},{"$f":"'الرصيد الثابت'!#REF!","v":{"$error":"#REF!"}}]
["",null,{"$f":"IF(B255=\"\",\"\",SUMIF('الرصيد الثابت'!$D$2:$D$106,B255,'الرصيد الثابت'!$H$2:$H$106))","v":""},{"$f":"IF(B255=\"\",\"\",SUMIF('الرصيد الثابت'!$D$2:$D$106,B255,'الرصيد الثابت'!$I$2:$I$106))","v":""},{"$f":"IF(B255=\"\",\"\",SUMIF('الرصيد الثابت'!$D$2:$D$106,B255,'الرصيد الثابت'!$J$2:$J$106))","v":""},null,0,null,null,null,null,0,null,null,null,0,null,0,null,null,null,null,null,null,null,null,null,null,null,null,null,null,null,null,null,null,null,null,null,null,null,null,null,null,null,null,null,null,null,null,null,null,null,null,null,null,null,null,null,null,null,null,null,null,null,null,null,null,null,null,null,null,null,null,null,null,null,null,null,null,null,null,null,{"$f":"IFERROR(VLOOKUP(ROWS($CF$3:CF255),$CH$3:$CI$2001,2,FALSE),\"\")","v":""},null,{"$f":"IF(ISNUMBER(SEARCH(B255,CI255)),MAX($CH$2:CH254)+1,0)","v":0},{"$f":"'الرصيد الثابت'!#REF!","v":{"$error":"#REF!"}}]
["",null,{"$f":"IF(B256=\"\",\"\",SUMIF('الرصيد الثابت'!$D$2:$D$106,B256,'الرصيد الثابت'!$H$2:$H$106))","v":""},{"$f":"IF(B256=\"\",\"\",SUMIF('الرصيد الثابت'!$D$2:$D$106,B256,'الرصيد الثابت'!$I$2:$I$106))","v":""},{"$f":"IF(B256=\"\",\"\",SUMIF('الرصيد الثابت'!$D$2:$D$106,B256,'الرصيد الثابت'!$J$2:$J$106))","v":""},null,0,null,null,null,null,0,null,null,null,0,null,0,null,null,null,null,null,null,null,null,null,null,null,null,null,null,null,null,null,null,null,null,null,null,null,null,null,null,null,null,null,null,null,null,null,null,null,null,null,null,null,null,null,null,null,null,null,null,null,null,null,null,null,null,null,null,null,null,null,null,null,null,null,null,null,null,null,{"$f":"IFERROR(VLOOKUP(ROWS($CF$3:CF256),$CH$3:$CI$2001,2,FALSE),\"\")","v":""},null,{"$f":"IF(ISNUMBER(SEARCH(B256,CI256)),MAX($CH$2:CH255)+1,0)","v":0},{"$f":"'الرصيد الثابت'!#REF!","v":{"$error":"#REF!"}}]
["",null,{"$f":"IF(B257=\"\",\"\",SUMIF('الرصيد الثابت'!$D$2:$D$106,B257,'الرصيد الثابت'!$H$2:$H$106))","v":""},{"$f":"IF(B257=\"\",\"\",SUMIF('الرصيد الثابت'!$D$2:$D$106,B257,'الرصيد الثابت'!$I$2:$I$106))","v":""},{"$f":"IF(B257=\"\",\"\",SUMIF('الرصيد الثابت'!$D$2:$D$106,B257,'الرصيد الثابت'!$J$2:$J$106))","v":""},null,0,null,null,null,null,0,null,null,null,0,null,0,null,null,null,null,null,null,null,null,null,null,null,null,null,null,null,null,null,null,null,null,null,null,null,null,null,null,null,null,null,null,null,null,null,null,null,null,null,null,null,null,null,null,null,null,null,null,null,null,null,null,null,null,null,null,null,null,null,null,null,null,null,null,null,null,null,{"$f":"IFERROR(VLOOKUP(ROWS($CF$3:CF257),$CH$3:$CI$2001,2,FALSE),\"\")","v":""},null,{"$f":"IF(ISNUMBER(SEARCH(B257,CI257)),MAX($CH$2:CH256)+1,0)","v":0},{"$f":"'الرصيد الثابت'!#REF!","v":{"$error":"#REF!"}}]
["",null,{"$f":"IF(B258=\"\",\"\",SUMIF('الرصيد الثابت'!$D$2:$D$106,B258,'الرصيد الثابت'!$H$2:$H$106))","v":""},{"$f":"IF(B258=\"\",\"\",SUMIF('الرصيد الثابت'!$D$2:$D$106,B258,'الرصيد الثابت'!$I$2:$I$106))","v":""},{"$f":"IF(B258=\"\",\"\",SUMIF('الرصيد الثابت'!$D$2:$D$106,B258,'الرصيد الثابت'!$J$2:$J$106))","v":""},null,0,null,null,null,null,0,null,null,null,0,null,0,null,null,null,null,null,null,null,null,null,null,null,null,null,null,null,null,null,null,null,null,null,null,null,null,null,null,null,null,null,null,null,null,null,null,null,null,null,null,null,null,null,null,null,null,null,null,null,null,null,null,null,null,null,null,null,null,null,null,null,null,null,null,null,null,null,{"$f":"IFERROR(VLOOKUP(ROWS($CF$3:CF258),$CH$3:$CI$2001,2,FALSE),\"\")","v":""},null,{"$f":"IF(ISNUMBER(SEARCH(B258,CI258)),MAX($CH$2:CH257)+1,0)","v":0},{"$f":"'الرصيد الثابت'!#REF!","v":{"$error":"#REF!"}}]
["",null,{"$f":"IF(B259=\"\",\"\",SUMIF('الرصيد الثابت'!$D$2:$D$106,B259,'الرصيد الثابت'!$H$2:$H$106))","v":""},{"$f":"IF(B259=\"\",\"\",SUMIF('الرصيد الثابت'!$D$2:$D$106,B259,'الرصيد الثابت'!$I$2:$I$106))","v":""},{"$f":"IF(B259=\"\",\"\",SUMIF('الرصيد الثابت'!$D$2:$D$106,B259,'الرصيد الثابت'!$J$2:$J$106))","v":""},null,0,null,null,null,null,0,null,null,null,0,null,0,null,null,null,null,null,null,null,null,null,null,null,null,null,null,null,null,null,null,null,null,null,null,null,null,null,null,null,null,null,null,null,null,null,null,null,null,null,null,null,null,null,null,null,null,null,null,null,null,null,null,null,null,null,null,null,null,null,null,null,null,null,null,null,null,null,{"$f":"IFERROR(VLOOKUP(ROWS($CF$3:CF259),$CH$3:$CI$2001,2,FALSE),\"\")","v":""},null,{"$f":"IF(ISNUMBER(SEARCH(B259,CI259)),MAX($CH$2:CH258)+1,0)","v":0},{"$f":"'الرصيد الثابت'!#REF!","v":{"$error":"#REF!"}}]
[{"$f":"IF(B260<>\"\",IF(A260=\"\",NOW(),A260),\"\")","v":""},null,{"$f":"IF(B260=\"\",\"\",SUMIF('الرصيد الثابت'!$D$2:$D$106,B260,'الرصيد الثابت'!$H$2:$H$106))","v":""},{"$f":"IF(B260=\"\",\"\",SUMIF('الرصيد الثابت'!$D$2:$D$106,B260,'الرصيد الثابت'!$I$2:$I$106))","v":""},{"$f":"IF(B260=\"\",\"\",SUMIF('الرصيد الثابت'!$D$2:$D$106,B260,'الرصيد الثابت'!$J$2:$J$106))","v":""},null,{"$f":"SUM(H260*F260)","v":0},null,null,null,null,{"$f":"SUM(M260*K260)","v":0},null,null,null,{"$f":"SUM(F260-K260)","v":0},null,{"$f":"SUM(S260*Q260)","v":0},null,null,null,null,null,null,null,null,null,null,null,null,null,null,null,null,null,null,null,null,null,null,null,null,null,null,null,null,null,null,null,null,null,null,null,null,null,null,null,null,null,null,null,null,null,null,null,null,null,null,null,null,null,null,null,null,null,null,null,null,null,null,null,null,null,{"$f":"IFERROR(VLOOKUP(ROWS($CF$3:CF260),$CH$3:$CI$2001,2,FALSE),\"\")","v":""},null,{"$f":"IF(ISNUMBER(SEARCH(B260,CI260)),MAX($CH$2:CH259)+1,0)","v":0},{"$f":"'الرصيد الثابت'!#REF!","v":{"$error":"#REF!"}}]
["",null,{"$f":"IF(B261=\"\",\"\",SUMIF('الرصيد الثابت'!$D$2:$D$106,B261,'الرصيد الثابت'!$H$2:$H$106))","v":""},{"$f":"IF(B261=\"\",\"\",SUMIF('الرصيد الثابت'!$D$2:$D$106,B261,'الرصيد الثابت'!$I$2:$I$106))","v":""},{"$f":"IF(B261=\"\",\"\",SUMIF('الرصيد الثابت'!$D$2:$D$106,B261,'الرصيد الثابت'!$J$2:$J$106))","v":""},null,0,null,null,null,null,0,null,null,null,0,null,0,null,null,null,null,null,null,null,null,null,null,null,null,null,null,null,null,null,null,null,null,null,null,null,null,null,null,null,null,null,null,null,null,null,null,null,null,null,null,null,null,null,null,null,null,null,null,null,null,null,null,null,null,null,null,null,null,null,null,null,null,null,null,null,null,null,{"$f":"IFERROR(VLOOKUP(ROWS($CF$3:CF261),$CH$3:$CI$2001,2,FALSE),\"\")","v":""},null,{"$f":"IF(ISNUMBER(SEARCH(B261,CI261)),MAX($CH$2:CH260)+1,0)","v":0},{"$f":"'الرصيد الثابت'!#REF!","v":{"$error":"#REF!"}}]
["",null,{"$f":"IF(B262=\"\",\"\",SUMIF('الرصيد الثابت'!$D$2:$D$106,B262,'الرصيد الثابت'!$H$2:$H$106))","v":""},{"$f":"IF(B262=\"\",\"\",SUMIF('الرصيد الثابت'!$D$2:$D$106,B262,'الرصيد الثابت'!$I$2:$I$106))","v":""},{"$f":"IF(B262=\"\",\"\",SUMIF('الرصيد الثابت'!$D$2:$D$106,B262,'الرصيد الثابت'!$J$2:$J$106))","v":""},null,0,null,null,null,null,0,null,null,null,0,null,0,null,null,null,null,null,null,null,null,null,null,null,null,null,null,null,null,null,null,null,null,null,null,null,null,null,null,null,null,null,null,null,null,null,null,null,null,null,null,null,null,null,null,null,null,null,null,null,null,null,null,null,null,null,null,null,null,null,null,null,null,null,null,null,null,null,{"$f":"IFERROR(VLOOKUP(ROWS($CF$3:CF262),$CH$3:$CI$2001,2,FALSE),\"\")","v":""},null,{"$f":"IF(ISNUMBER(SEARCH(B262,CI262)),MAX($CH$2:CH261)+1,0)","v":0},{"$f":"'الرصيد الثابت'!#REF!","v":{"$error":"#REF!"}}]
["",null,{"$f":"IF(B263=\"\",\"\",SUMIF('الرصيد الثابت'!$D$2:$D$106,B263,'الرصيد الثابت'!$H$2:$H$106))","v":""},{"$f":"IF(B263=\"\",\"\",SUMIF('الرصيد الثابت'!$D$2:$D$106,B263,'الرصيد الثابت'!$I$2:$I$106))","v":""},{"$f":"IF(B263=\"\",\"\",SUMIF('الرصيد الثابت'!$D$2:$D$106,B263,'الرصيد الثابت'!$J$2:$J$106))","v":""},null,0,null,null,null,null,0,null,null,null,0,null,0,null,null,null,null,null,null,null,null,null,null,null,null,null,null,null,null,null,null,null,null,null,null,null,null,null,null,null,null,null,null,null,null,null,null,null,null,null,null,null,null,null,null,null,null,null,null,null,null,null,null,null,null,null,null,null,null,null,null,null,null,null,null,null,null,null,{"$f":"IFERROR(VLOOKUP(ROWS($CF$3:CF263),$CH$3:$CI$2001,2,FALSE),\"\")","v":""},null,{"$f":"IF(ISNUMBER(SEARCH(B263,CI263)),MAX($CH$2:CH262)+1,0)","v":0},{"$f":"'الرصيد الثابت'!#REF!","v":{"$error":"#REF!"}}]
["",null,{"$f":"IF(B264=\"\",\"\",SUMIF('الرصيد الثابت'!$D$2:$D$106,B264,'الرصيد الثابت'!$H$2:$H$106))","v":""},{"$f":"IF(B264=\"\",\"\",SUMIF('الرصيد الثابت'!$D$2:$D$106,B264,'الرصيد الثابت'!$I$2:$I$106))","v":""},{"$f":"IF(B264=\"\",\"\",SUMIF('الرصيد الثابت'!$D$2:$D$106,B264,'الرصيد الثابت'!$J$2:$J$106))","v":""},null,0,null,null,null,null,0,null,null,null,0,null,0,null,null,null,null,null,null,null,null,null,null,null,null,null,null,null,null,null,null,null,null,null,null,null,null,null,null,null,null,null,null,null,null,null,null,null,null,null,null,null,null,null,null,null,null,null,null,null,null,null,null,null,null,null,null,null,null,null,null,null,null,null,null,null,null,null,{"$f":"IFERROR(VLOOKUP(ROWS($CF$3:CF264),$CH$3:$CI$2001,2,FALSE),\"\")","v":""},null,{"$f":"IF(ISNUMBER(SEARCH(B264,CI264)),MAX($CH$2:CH263)+1,0)","v":0},{"$f":"'الرصيد الثابت'!#REF!","v":{"$error":"#REF!"}}]
["",null,{"$f":"IF(B265=\"\",\"\",SUMIF('الرصيد الثابت'!$D$2:$D$106,B265,'الرصيد الثابت'!$H$2:$H$106))","v":""},{"$f":"IF(B265=\"\",\"\",SUMIF('الرصيد الثابت'!$D$2:$D$106,B265,'الرصيد الثابت'!$I$2:$I$106))","v":""},{"$f":"IF(B265=\"\",\"\",SUMIF('الرصيد الثابت'!$D$2:$D$106,B265,'الرصيد الثابت'!$J$2:$J$106))","v":""},null,0,null,null,null,null,0,null,null,null,0,null,0,null,null,null,null,null,null,null,null,null,null,null,null,null,null,null,null,null,null,null,null,null,null,null,null,null,null,null,null,null,null,null,null,null,null,null,null,null,null,null,null,null,null,null,null,null,null,null,null,null,null,null,null,null,null,null,null,null,null,null,null,null,null,null,null,null,{"$f":"IFERROR(VLOOKUP(ROWS($CF$3:CF265),$CH$3:$CI$2001,2,FALSE),\"\")","v":""},null,{"$f":"IF(ISNUMBER(SEARCH(B265,CI265)),MAX($CH$2:CH264)+1,0)","v":0},{"$f":"'الرصيد الثابت'!#REF!","v":{"$error":"#REF!"}}]
["",null,{"$f":"IF(B266=\"\",\"\",SUMIF('الرصيد الثابت'!$D$2:$D$106,B266,'الرصيد الثابت'!$H$2:$H$106))","v":""},{"$f":"IF(B266=\"\",\"\",SUMIF('الرصيد الثابت'!$D$2:$D$106,B266,'الرصيد الثابت'!$I$2:$I$106))","v":""},{"$f":"IF(B266=\"\",\"\",SUMIF('الرصيد الثابت'!$D$2:$D$106,B266,'الرصيد الثابت'!$J$2:$J$106))","v":""},null,0,null,null,null,null,0,null,null,null,0,null,0,null,null,null,null,null,null,null,null,null,null,null,null,null,null,null,null,null,null,null,null,null,null,null,null,null,null,null,null,null,null,null,null,null,null,null,null,null,null,null,null,null,null,null,null,null,null,null,null,null,null,null,null,null,null,null,null,null,null,null,null,null,null,null,null,null,{"$f":"IFERROR(VLOOKUP(ROWS($CF$3:CF266),$CH$3:$CI$2001,2,FALSE),\"\")","v":""},null,{"$f":"IF(ISNUMBER(SEARCH(B266,CI266)),MAX($CH$2:CH265)+1,0)","v":0},{"$f":"'الرصيد الثابت'!#REF!","v":{"$error":"#REF!"}}]
["",null,{"$f":"IF(B267=\"\",\"\",SUMIF('الرصيد الثابت'!$D$2:$D$106,B267,'الرصيد الثابت'!$H$2:$H$106))","v":""},{"$f":"IF(B267=\"\",\"\",SUMIF('الرصيد الثابت'!$D$2:$D$106,B267,'الرصيد الثابت'!$I$2:$I$106))","v":""},{"$f":"IF(B267=\"\",\"\",SUMIF('الرصيد الثابت'!$D$2:$D$106,B267,'الرصيد الثابت'!$J$2:$J$106))","v":""},null,0,null,null,null,null,0,null,null,null,0,null,0,null,null,null,null,null,null,null,null,null,null,null,null,null,null,null,null,null,null,null,null,null,null,null,null,null,null,null,null,null,null,null,null,null,null,null,null,null,null,null,null,null,null,null,null,null,null,null,null,null,null,null,null,null,null,null,null,null,null,null,null,null,null,null,null,null,{"$f":"IFERROR(VLOOKUP(ROWS($CF$3:CF267),$CH$3:$CI$2001,2,FALSE),\"\")","v":""},null,{"$f":"IF(ISNUMBER(SEARCH(B267,CI267)),MAX($CH$2:CH266)+1,0)","v":0},{"$f":"'الرصيد الثابت'!#REF!","v":{"$error":"#REF!"}}]
["",null,{"$f":"IF(B268=\"\",\"\",SUMIF('الرصيد الثابت'!$D$2:$D$106,B268,'الرصيد الثابت'!$H$2:$H$106))","v":""},{"$f":"IF(B268=\"\",\"\",SUMIF('الرصيد الثابت'!$D$2:$D$106,B268,'الرصيد الثابت'!$I$2:$I$106))","v":""},{"$f":"IF(B268=\"\",\"\",SUMIF('الرصيد الثابت'!$D$2:$D$106,B268,'الرصيد الثابت'!$J$2:$J$106))","v":""},null,0,null,null,null,null,0,null,null,null,0,null,0,null,null,null,null,null,null,null,null,null,null,null,null,null,null,null,null,null,null,null,null,null,null,null,null,null,null,null,null,null,null,null,null,null,null,null,null,null,null,null,null,null,null,null,null,null,null,null,null,null,null,null,null,null,null,null,null,null,null,null,null,null,null,null,null,null,{"$f":"IFERROR(VLOOKUP(ROWS($CF$3:CF268),$CH$3:$CI$2001,2,FALSE),\"\")","v":""},null,{"$f":"IF(ISNUMBER(SEARCH(B268,CI268)),MAX($CH$2:CH267)+1,0)","v":0},{"$f":"'الرصيد الثابت'!#REF!","v":{"$error":"#REF!"}}]
["",null,{"$f":"IF(B269=\"\",\"\",SUMIF('الرصيد الثابت'!$D$2:$D$106,B269,'الرصيد الثابت'!$H$2:$H$106))","v":""},{"$f":"IF(B269=\"\",\"\",SUMIF('الرصيد الثابت'!$D$2:$D$106,B269,'الرصيد الثابت'!$I$2:$I$106))","v":""},{"$f":"IF(B269=\"\",\"\",SUMIF('الرصيد الثابت'!$D$2:$D$106,B269,'الرصيد الثابت'!$J$2:$J$106))","v":""},null,0,null,null,null,null,0,null,null,null,0,null,0,null,null,null,null,null,null,null,null,null,null,null,null,null,null,null,null,null,null,null,null,null,null,null,null,null,null,null,null,null,null,null,null,null,null,null,null,null,null,null,null,null,null,null,null,null,null,null,null,null,null,null,null,null,null,null,null,null,null,null,null,null,null,null,null,null,{"$f":"IFERROR(VLOOKUP(ROWS($CF$3:CF269),$CH$3:$CI$2001,2,FALSE),\"\")","v":""},null,{"$f":"IF(ISNUMBER(SEARCH(B269,CI269)),MAX($CH$2:CH268)+1,0)","v":0},{"$f":"'الرصيد الثابت'!#REF!","v":{"$error":"#REF!"}}]
["",null,{"$f":"IF(B270=\"\",\"\",SUMIF('الرصيد الثابت'!$D$2:$D$106,B270,'الرصيد الثابت'!$H$2:$H$106))","v":""},{"$f":"IF(B270=\"\",\"\",SUMIF('الرصيد الثابت'!$D$2:$D$106,B270,'الرصيد الثابت'!$I$2:$I$106))","v":""},{"$f":"IF(B270=\"\",\"\",SUMIF('الرصيد الثابت'!$D$2:$D$106,B270,'الرصيد الثابت'!$J$2:$J$106))","v":""},null,0,null,null,null,null,0,null,null,null,0,null,0,null,null,null,null,null,null,null,null,null,null,null,null,null,null,null,null,null,null,null,null,null,null,null,null,null,null,null,null,null,null,null,null,null,null,null,null,null,null,null,null,null,null,null,null,null,null,null,null,null,null,null,null,null,null,null,null,null,null,null,null,null,null,null,null,null,{"$f":"IFERROR(VLOOKUP(ROWS($CF$3:CF270),$CH$3:$CI$2001,2,FALSE),\"\")","v":""},null,{"$f":"IF(ISNUMBER(SEARCH(B270,CI270)),MAX($CH$2:CH269)+1,0)","v":0},{"$f":"'الرصيد الثابت'!#REF!","v":{"$error":"#REF!"}}]
["",null,{"$f":"IF(B271=\"\",\"\",SUMIF('الرصيد الثابت'!$D$2:$D$106,B271,'الرصيد الثابت'!$H$2:$H$106))","v":""},{"$f":"IF(B271=\"\",\"\",SUMIF('الرصيد الثابت'!$D$2:$D$106,B271,'الرصيد الثابت'!$I$2:$I$106))","v":""},{"$f":"IF(B271=\"\",\"\",SUMIF('الرصيد الثابت'!$D$2:$D$106,B271,'الرصيد الثابت'!$J$2:$J$106))","v":""},null,0,null,null,null,null,0,null,null,null,0,null,0,null,null,null,null,null,null,null,null,null,null,null,null,null,null,null,null,null,null,null,null,null,null,null,null,null,null,null,null,null,null,null,null,null,null,null,null,null,null,null,null,null,null,null,null,null,null,null,null,null,null,null,null,null,null,null,null,null,null,null,null,null,null,null,null,null,{"$f":"IFERROR(VLOOKUP(ROWS($CF$3:CF271),$CH$3:$CI$2001,2,FALSE),\"\")","v":""},null,{"$f":"IF(ISNUMBER(SEARCH(B271,CI271)),MAX($CH$2:CH270)+1,0)","v":0},{"$f":"'الرصيد الثابت'!#REF!","v":{"$error":"#REF!"}}]
["",null,{"$f":"IF(B272=\"\",\"\",SUMIF('الرصيد الثابت'!$D$2:$D$106,B272,'الرصيد الثابت'!$H$2:$H$106))","v":""},{"$f":"IF(B272=\"\",\"\",SUMIF('الرصيد الثابت'!$D$2:$D$106,B272,'الرصيد الثابت'!$I$2:$I$106))","v":""},{"$f":"IF(B272=\"\",\"\",SUMIF('الرصيد الثابت'!$D$2:$D$106,B272,'الرصيد الثابت'!$J$2:$J$106))","v":""},null,0,null,null,null,null,0,null,null,null,0,null,0,null,null,null,null,null,null,null,null,null,null,null,null,null,null,null,null,null,null,null,null,null,null,null,null,null,null,null,null,null,null,null,null,null,null,null,null,null,null,null,null,null,null,null,null,null,null,null,null,null,null,null,null,null,null,null,null,null,null,null,null,null,null,null,null,null,{"$f":"IFERROR(VLOOKUP(ROWS($CF$3:CF272),$CH$3:$CI$2001,2,FALSE),\"\")","v":""},null,{"$f":"IF(ISNUMBER(SEARCH(B272,CI272)),MAX($CH$2:CH271)+1,0)","v":0},{"$f":"'الرصيد الثابت'!#REF!","v":{"$error":"#REF!"}}]
["",null,{"$f":"IF(B273=\"\",\"\",SUMIF('الرصيد الثابت'!$D$2:$D$106,B273,'الرصيد الثابت'!$H$2:$H$106))","v":""},{"$f":"IF(B273=\"\",\"\",SUMIF('الرصيد الثابت'!$D$2:$D$106,B273,'الرصيد الثابت'!$I$2:$I$106))","v":""},{"$f":"IF(B273=\"\",\"\",SUMIF('الرصيد الثابت'!$D$2:$D$106,B273,'الرصيد الثابت'!$J$2:$J$106))","v":""},null,0,null,null,null,null,0,null,null,null,0,null,0,null,null,null,null,null,null,null,null,null,null,null,null,null,null,null,null,null,null,null,null,null,null,null,null,null,null,null,null,null,null,null,null,null,null,null,null,null,null,null,null,null,null,null,null,null,null,null,null,null,null,null,null,null,null,null,null,null,null,null,null,null,null,null,null,null,{"$f":"IFERROR(VLOOKUP(ROWS($CF$3:CF273),$CH$3:$CI$2001,2,FALSE),\"\")","v":""},null,{"$f":"IF(ISNUMBER(SEARCH(B273,CI273)),MAX($CH$2:CH272)+1,0)","v":0},{"$f":"'الرصيد الثابت'!#REF!","v":{"$error":"#REF!"}}]
["",null,{"$f":"IF(B274=\"\",\"\",SUMIF('الرصيد الثابت'!$D$2:$D$106,B274,'الرصيد الثابت'!$H$2:$H$106))","v":""},{"$f":"IF(B274=\"\",\"\",SUMIF('الرصيد الثابت'!$D$2:$D$106,B274,'الرصيد الثابت'!$I$2:$I$106))","v":""},{"$f":"IF(B274=\"\",\"\",SUMIF('الرصيد الثابت'!$D$2:$D$106,B274,'الرصيد الثابت'!$J$2:$J$106))","v":""},null,0,null,null,null,null,0,null,null,null,0,null,0,null,null,null,null,null,null,null,null,null,null,null,null,null,null,null,null,null,null,null,null,null,null,null,null,null,null,null,null,null,null,null,null,null,null,null,null,null,null,null,null,null,null,null,null,null,null,null,null,null,null,null,null,null,null,null,null,null,null,null,null,null,null,null,null,null,{"$f":"IFERROR(VLOOKUP(ROWS($CF$3:CF274),$CH$3:$CI$2001,2,FALSE),\"\")","v":""},null,{"$f":"IF(ISNUMBER(SEARCH(B274,CI274)),MAX($CH$2:CH273)+1,0)","v":0},{"$f":"'الرصيد الثابت'!#REF!","v":{"$error":"#REF!"}}]
["",null,{"$f":"IF(B275=\"\",\"\",SUMIF('الرصيد الثابت'!$D$2:$D$106,B275,'الرصيد الثابت'!$H$2:$H$106))","v":""},{"$f":"IF(B275=\"\",\"\",SUMIF('الرصيد الثابت'!$D$2:$D$106,B275,'الرصيد الثابت'!$I$2:$I$106))","v":""},{"$f":"IF(B275=\"\",\"\",SUMIF('الرصيد الثابت'!$D$2:$D$106,B275,'الرصيد الثابت'!$J$2:$J$106))","v":""},null,0,null,null,null,null,0,null,null,null,0,null,0,null,null,null,null,null,null,null,null,null,null,null,null,null,null,null,null,null,null,null,null,null,null,null,null,null,null,null,null,null,null,null,null,null,null,null,null,null,null,null,null,null,null,null,null,null,null,null,null,null,null,null,null,null,null,null,null,null,null,null,null,null,null,null,null,null,{"$f":"IFERROR(VLOOKUP(ROWS($CF$3:CF275),$CH$3:$CI$2001,2,FALSE),\"\")","v":""},null,{"$f":"IF(ISNUMBER(SEARCH(B275,CI275)),MAX($CH$2:CH274)+1,0)","v":0},{"$f":"'الرصيد الثابت'!#REF!","v":{"$error":"#REF!"}}]
["",null,{"$f":"IF(B276=\"\",\"\",SUMIF('الرصيد الثابت'!$D$2:$D$106,B276,'الرصيد الثابت'!$H$2:$H$106))","v":""},{"$f":"IF(B276=\"\",\"\",SUMIF('الرصيد الثابت'!$D$2:$D$106,B276,'الرصيد الثابت'!$I$2:$I$106))","v":""},{"$f":"IF(B276=\"\",\"\",SUMIF('الرصيد الثابت'!$D$2:$D$106,B276,'الرصيد الثابت'!$J$2:$J$106))","v":""},null,0,null,null,null,null,0,null,null,null,0,null,0,null,null,null,null,null,null,null,null,null,null,null,null,null,null,null,null,null,null,null,null,null,null,null,null,null,null,null,null,null,null,null,null,null,null,null,null,null,null,null,null,null,null,null,null,null,null,null,null,null,null,null,null,null,null,null,null,null,null,null,null,null,null,null,null,null,{"$f":"IFERROR(VLOOKUP(ROWS($CF$3:CF276),$CH$3:$CI$2001,2,FALSE),\"\")","v":""},null,{"$f":"IF(ISNUMBER(SEARCH(B276,CI276)),MAX($CH$2:CH275)+1,0)","v":0},{"$f":"'الرصيد الثابت'!#REF!","v":{"$error":"#REF!"}}]
["",null,{"$f":"IF(B277=\"\",\"\",SUMIF('الرصيد الثابت'!$D$2:$D$106,B277,'الرصيد الثابت'!$H$2:$H$106))","v":""},{"$f":"IF(B277=\"\",\"\",SUMIF('الرصيد الثابت'!$D$2:$D$106,B277,'الرصيد الثابت'!$I$2:$I$106))","v":""},{"$f":"IF(B277=\"\",\"\",SUMIF('الرصيد الثابت'!$D$2:$D$106,B277,'الرصيد الثابت'!$J$2:$J$106))","v":""},null,0,null,null,null,null,0,null,null,null,0,null,0,null,null,null,null,null,null,null,null,null,null,null,null,null,null,null,null,null,null,null,null,null,null,null,null,null,null,null,null,null,null,null,null,null,null,null,null,null,null,null,null,null,null,null,null,null,null,null,null,null,null,null,null,null,null,null,null,null,null,null,null,null,null,null,null,null,{"$f":"IFERROR(VLOOKUP(ROWS($CF$3:CF277),$CH$3:$CI$2001,2,FALSE),\"\")","v":""},null,{"$f":"IF(ISNUMBER(SEARCH(B277,CI277)),MAX($CH$2:CH276)+1,0)","v":0},{"$f":"'الرصيد الثابت'!#REF!","v":{"$error":"#REF!"}}]
["",null,{"$f":"IF(B278=\"\",\"\",SUMIF('الرصيد الثابت'!$D$2:$D$106,B278,'الرصيد الثابت'!$H$2:$H$106))","v":""},{"$f":"IF(B278=\"\",\"\",SUMIF('الرصيد الثابت'!$D$2:$D$106,B278,'الرصيد الثابت'!$I$2:$I$106))","v":""},{"$f":"IF(B278=\"\",\"\",SUMIF('الرصيد الثابت'!$D$2:$D$106,B278,'الرصيد الثابت'!$J$2:$J$106))","v":""},null,0,null,null,null,null,0,null,null,null,0,null,0,null,null,null,null,null,null,null,null,null,null,null,null,null,null,null,null,null,null,null,null,null,null,null,null,null,null,null,null,null,null,null,null,null,null,null,null,null,null,null,null,null,null,null,null,null,null,null,null,null,null,null,null,null,null,null,null,null,null,null,null,null,null,null,null,null,{"$f":"IFERROR(VLOOKUP(ROWS($CF$3:CF278),$CH$3:$CI$2001,2,FALSE),\"\")","v":""},null,{"$f":"IF(ISNUMBER(SEARCH(B278,CI278)),MAX($CH$2:CH277)+1,0)","v":0},{"$f":"'الرصيد الثابت'!#REF!","v":{"$error":"#REF!"}}]
["",null,{"$f":"IF(B279=\"\",\"\",SUMIF('الرصيد الثابت'!$D$2:$D$106,B279,'الرصيد الثابت'!$H$2:$H$106))","v":""},{"$f":"IF(B279=\"\",\"\",SUMIF('الرصيد الثابت'!$D$2:$D$106,B279,'الرصيد الثابت'!$I$2:$I$106))","v":""},{"$f":"IF(B279=\"\",\"\",SUMIF('الرصيد الثابت'!$D$2:$D$106,B279,'الرصيد الثابت'!$J$2:$J$106))","v":""},null,0,null,null,null,null,0,null,null,null,0,null,0,null,null,null,null,null,null,null,null,null,null,null,null,null,null,null,null,null,null,null,null,null,null,null,null,null,null,null,null,null,null,null,null,null,null,null,null,null,null,null,null,null,null,null,null,null,null,null,null,null,null,null,null,null,null,null,null,null,null,null,null,null,null,null,null,null,{"$f":"IFERROR(VLOOKUP(ROWS($CF$3:CF279),$CH$3:$CI$2001,2,FALSE),\"\")","v":""},null,{"$f":"IF(ISNUMBER(SEARCH(B279,CI279)),MAX($CH$2:CH278)+1,0)","v":0},{"$f":"'الرصيد الثابت'!#REF!","v":{"$error":"#REF!"}}]
["",null,{"$f":"IF(B280=\"\",\"\",SUMIF('الرصيد الثابت'!$D$2:$D$106,B280,'الرصيد الثابت'!$H$2:$H$106))","v":""},{"$f":"IF(B280=\"\",\"\",SUMIF('الرصيد الثابت'!$D$2:$D$106,B280,'الرصيد الثابت'!$I$2:$I$106))","v":""},{"$f":"IF(B280=\"\",\"\",SUMIF('الرصيد الثابت'!$D$2:$D$106,B280,'الرصيد الثابت'!$J$2:$J$106))","v":""},null,0,null,null,null,null,0,null,null,null,0,null,0,null,null,null,null,null,null,null,null,null,null,null,null,null,null,null,null,null,null,null,null,null,null,null,null,null,null,null,null,null,null,null,null,null,null,null,null,null,null,null,null,null,null,null,null,null,null,null,null,null,null,null,null,null,null,null,null,null,null,null,null,null,null,null,null,null,{"$f":"IFERROR(VLOOKUP(ROWS($CF$3:CF280),$CH$3:$CI$2001,2,FALSE),\"\")","v":""},null,{"$f":"IF(ISNUMBER(SEARCH(B280,CI280)),MAX($CH$2:CH279)+1,0)","v":0},{"$f":"'الرصيد الثابت'!#REF!","v":{"$error":"#REF!"}}]
["",null,{"$f":"IF(B281=\"\",\"\",SUMIF('الرصيد الثابت'!$D$2:$D$106,B281,'الرصيد الثابت'!$H$2:$H$106))","v":""},{"$f":"IF(B281=\"\",\"\",SUMIF('الرصيد الثابت'!$D$2:$D$106,B281,'الرصيد الثابت'!$I$2:$I$106))","v":""},{"$f":"IF(B281=\"\",\"\",SUMIF('الرصيد الثابت'!$D$2:$D$106,B281,'الرصيد الثابت'!$J$2:$J$106))","v":""},null,0,null,null,null,null,0,null,null,null,0,null,0,null,null,null,null,null,null,null,null,null,null,null,null,null,null,null,null,null,null,null,null,null,null,null,null,null,null,null,null,null,null,null,null,null,null,null,null,null,null,null,null,null,null,null,null,null,null,null,null,null,null,null,null,null,null,null,null,null,null,null,null,null,null,null,null,null,{"$f":"IFERROR(VLOOKUP(ROWS($CF$3:CF281),$CH$3:$CI$2001,2,FALSE),\"\")","v":""},null,{"$f":"IF(ISNUMBER(SEARCH(B281,CI281)),MAX($CH$2:CH280)+1,0)","v":0},{"$f":"'الرصيد الثابت'!#REF!","v":{"$error":"#REF!"}}]
["",null,{"$f":"IF(B282=\"\",\"\",SUMIF('الرصيد الثابت'!$D$2:$D$106,B282,'الرصيد الثابت'!$H$2:$H$106))","v":""},{"$f":"IF(B282=\"\",\"\",SUMIF('الرصيد الثابت'!$D$2:$D$106,B282,'الرصيد الثابت'!$I$2:$I$106))","v":""},{"$f":"IF(B282=\"\",\"\",SUMIF('الرصيد الثابت'!$D$2:$D$106,B282,'الرصيد الثابت'!$J$2:$J$106))","v":""},null,0,null,null,null,null,0,null,null,null,0,null,0,null,null,null,null,null,null,null,null,null,null,null,null,null,null,null,null,null,null,null,null,null,null,null,null,null,null,null,null,null,null,null,null,null,null,null,null,null,null,null,null,null,null,null,null,null,null,null,null,null,null,null,null,null,null,null,null,null,null,null,null,null,null,null,null,null,{"$f":"IFERROR(VLOOKUP(ROWS($CF$3:CF282),$CH$3:$CI$2001,2,FALSE),\"\")","v":""},null,{"$f":"IF(ISNUMBER(SEARCH(B282,CI282)),MAX($CH$2:CH281)+1,0)","v":0},{"$f":"'الرصيد الثابت'!#REF!","v":{"$error":"#REF!"}}]
["",null,{"$f":"IF(B283=\"\",\"\",SUMIF('الرصيد الثابت'!$D$2:$D$106,B283,'الرصيد الثابت'!$H$2:$H$106))","v":""},{"$f":"IF(B283=\"\",\"\",SUMIF('الرصيد الثابت'!$D$2:$D$106,B283,'الرصيد الثابت'!$I$2:$I$106))","v":""},{"$f":"IF(B283=\"\",\"\",SUMIF('الرصيد الثابت'!$D$2:$D$106,B283,'الرصيد الثابت'!$J$2:$J$106))","v":""},null,0,null,null,null,null,0,null,null,null,0,null,0,null,null,null,null,null,null,null,null,null,null,null,null,null,null,null,null,null,null,null,null,null,null,null,null,null,null,null,null,null,null,null,null,null,null,null,null,null,null,null,null,null,null,null,null,null,null,null,null,null,null,null,null,null,null,null,null,null,null,null,null,null,null,null,null,null,{"$f":"IFERROR(VLOOKUP(ROWS($CF$3:CF283),$CH$3:$CI$2001,2,FALSE),\"\")","v":""},null,{"$f":"IF(ISNUMBER(SEARCH(B283,CI283)),MAX($CH$2:CH282)+1,0)","v":0},{"$f":"'الرصيد الثابت'!#REF!","v":{"$error":"#REF!"}}]
["",null,{"$f":"IF(B284=\"\",\"\",SUMIF('الرصيد الثابت'!$D$2:$D$106,B284,'الرصيد الثابت'!$H$2:$H$106))","v":""},{"$f":"IF(B284=\"\",\"\",SUMIF('الرصيد الثابت'!$D$2:$D$106,B284,'الرصيد الثابت'!$I$2:$I$106))","v":""},{"$f":"IF(B284=\"\",\"\",SUMIF('الرصيد الثابت'!$D$2:$D$106,B284,'الرصيد الثابت'!$J$2:$J$106))","v":""},null,0,null,null,null,null,0,null,null,null,0,null,0,null,null,null,null,null,null,null,null,null,null,null,null,null,null,null,null,null,null,null,null,null,null,null,null,null,null,null,null,null,null,null,null,null,null,null,null,null,null,null,null,null,null,null,null,null,null,null,null,null,null,null,null,null,null,null,null,null,null,null,null,null,null,null,null,null,{"$f":"IFERROR(VLOOKUP(ROWS($CF$3:CF284),$CH$3:$CI$2001,2,FALSE),\"\")","v":""},null,{"$f":"IF(ISNUMBER(SEARCH(B284,CI284)),MAX($CH$2:CH283)+1,0)","v":0},{"$f":"'الرصيد الثابت'!#REF!","v":{"$error":"#REF!"}}]
["",null,{"$f":"IF(B285=\"\",\"\",SUMIF('الرصيد الثابت'!$D$2:$D$106,B285,'الرصيد الثابت'!$H$2:$H$106))","v":""},{"$f":"IF(B285=\"\",\"\",SUMIF('الرصيد الثابت'!$D$2:$D$106,B285,'الرصيد الثابت'!$I$2:$I$106))","v":""},{"$f":"IF(B285=\"\",\"\",SUMIF('الرصيد الثابت'!$D$2:$D$106,B285,'الرصيد الثابت'!$J$2:$J$106))","v":""},null,0,null,null,null,null,0,null,null,null,0,null,0,null,null,null,null,null,null,null,null,null,null,null,null,null,null,null,null,null,null,null,null,null,null,null,null,null,null,null,null,null,null,null,null,null,null,null,null,null,null,null,null,null,null,null,null,null,null,null,null,null,null,null,null,null,null,null,null,null,null,null,null,null,null,null,null,null,{"$f":"IFERROR(VLOOKUP(ROWS($CF$3:CF285),$CH$3:$CI$2001,2,FALSE),\"\")","v":""},null,{"$f":"IF(ISNUMBER(SEARCH(B285,CI285)),MAX($CH$2:CH284)+1,0)","v":0},{"$f":"'الرصيد الثابت'!#REF!","v":{"$error":"#REF!"}}]
["",null,{"$f":"IF(B286=\"\",\"\",SUMIF('الرصيد الثابت'!$D$2:$D$106,B286,'الرصيد الثابت'!$H$2:$H$106))","v":""},{"$f":"IF(B286=\"\",\"\",SUMIF('الرصيد الثابت'!$D$2:$D$106,B286,'الرصيد الثابت'!$I$2:$I$106))","v":""},{"$f":"IF(B286=\"\",\"\",SUMIF('الرصيد الثابت'!$D$2:$D$106,B286,'الرصيد الثابت'!$J$2:$J$106))","v":""},null,0,null,null,null,null,0,null,null,null,0,null,0,null,null,null,null,null,null,null,null,null,null,null,null,null,null,null,null,null,null,null,null,null,null,null,null,null,null,null,null,null,null,null,null,null,null,null,null,null,null,null,null,null,null,null,null,null,null,null,null,null,null,null,null,null,null,null,null,null,null,null,null,null,null,null,null,null,{"$f":"IFERROR(VLOOKUP(ROWS($CF$3:CF286),$CH$3:$CI$2001,2,FALSE),\"\")","v":""},null,{"$f":"IF(ISNUMBER(SEARCH(B286,CI286)),MAX($CH$2:CH285)+1,0)","v":0},{"$f":"'الرصيد الثابت'!#REF!","v":{"$error":"#REF!"}}]
["",null,{"$f":"IF(B287=\"\",\"\",SUMIF('الرصيد الثابت'!$D$2:$D$106,B287,'الرصيد الثابت'!$H$2:$H$106))","v":""},{"$f":"IF(B287=\"\",\"\",SUMIF('الرصيد الثابت'!$D$2:$D$106,B287,'الرصيد الثابت'!$I$2:$I$106))","v":""},{"$f":"IF(B287=\"\",\"\",SUMIF('الرصيد الثابت'!$D$2:$D$106,B287,'الرصيد الثابت'!$J$2:$J$106))","v":""},null,0,null,null,null,null,0,null,null,null,0,null,0,null,null,null,null,null,null,null,null,null,null,null,null,null,null,null,null,null,null,null,null,null,null,null,null,null,null,null,null,null,null,null,null,null,null,null,null,null,null,null,null,null,null,null,null,null,null,null,null,null,null,null,null,null,null,null,null,null,null,null,null,null,null,null,null,null,{"$f":"IFERROR(VLOOKUP(ROWS($CF$3:CF287),$CH$3:$CI$2001,2,FALSE),\"\")","v":""},null,{"$f":"IF(ISNUMBER(SEARCH(B287,CI287)),MAX($CH$2:CH286)+1,0)","v":0},{"$f":"'الرصيد الثابت'!#REF!","v":{"$error":"#REF!"}}]
["",null,{"$f":"IF(B288=\"\",\"\",SUMIF('الرصيد الثابت'!$D$2:$D$106,B288,'الرصيد الثابت'!$H$2:$H$106))","v":""},{"$f":"IF(B288=\"\",\"\",SUMIF('الرصيد الثابت'!$D$2:$D$106,B288,'الرصيد الثابت'!$I$2:$I$106))","v":""},{"$f":"IF(B288=\"\",\"\",SUMIF('الرصيد الثابت'!$D$2:$D$106,B288,'الرصيد الثابت'!$J$2:$J$106))","v":""},null,0,null,null,null,null,0,null,null,null,0,null,0,null,null,null,null,null,null,null,null,null,null,null,null,null,null,null,null,null,null,null,null,null,null,null,null,null,null,null,null,null,null,null,null,null,null,null,null,null,null,null,null,null,null,null,null,null,null,null,null,null,null,null,null,null,null,null,null,null,null,null,null,null,null,null,null,null,{"$f":"IFERROR(VLOOKUP(ROWS($CF$3:CF288),$CH$3:$CI$2001,2,FALSE),\"\")","v":""},null,{"$f":"IF(ISNUMBER(SEARCH(B288,CI288)),MAX($CH$2:CH287)+1,0)","v":0},{"$f":"'الرصيد الثابت'!#REF!","v":{"$error":"#REF!"}}]
["",null,{"$f":"IF(B289=\"\",\"\",SUMIF('الرصيد الثابت'!$D$2:$D$106,B289,'الرصيد الثابت'!$H$2:$H$106))","v":""},{"$f":"IF(B289=\"\",\"\",SUMIF('الرصيد الثابت'!$D$2:$D$106,B289,'الرصيد الثابت'!$I$2:$I$106))","v":""},{"$f":"IF(B289=\"\",\"\",SUMIF('الرصيد الثابت'!$D$2:$D$106,B289,'الرصيد الثابت'!$J$2:$J$106))","v":""},null,0,null,null,null,null,0,null,null,null,0,null,0,null,null,null,null,null,null,null,null,null,null,null,null,null,null,null,null,null,null,null,null,null,null,null,null,null,null,null,null,null,null,null,null,null,null,null,null,null,null,null,null,null,null,null,null,null,null,null,null,null,null,null,null,null,null,null,null,null,null,null,null,null,null,null,null,null,{"$f":"IFERROR(VLOOKUP(ROWS($CF$3:CF289),$CH$3:$CI$2001,2,FALSE),\"\")","v":""},null,{"$f":"IF(ISNUMBER(SEARCH(B289,CI289)),MAX($CH$2:CH288)+1,0)","v":0},{"$f":"'الرصيد الثابت'!#REF!","v":{"$error":"#REF!"}}]
["",null,{"$f":"IF(B290=\"\",\"\",SUMIF('الرصيد الثابت'!$D$2:$D$106,B290,'الرصيد الثابت'!$H$2:$H$106))","v":""},{"$f":"IF(B290=\"\",\"\",SUMIF('الرصيد الثابت'!$D$2:$D$106,B290,'الرصيد الثابت'!$I$2:$I$106))","v":""},{"$f":"IF(B290=\"\",\"\",SUMIF('الرصيد الثابت'!$D$2:$D$106,B290,'الرصيد الثابت'!$J$2:$J$106))","v":""},null,0,null,null,null,null,0,null,null,null,0,null,0,null,null,null,null,null,null,null,null,null,null,null,null,null,null,null,null,null,null,null,null,null,null,null,null,null,null,null,null,null,null,null,null,null,null,null,null,null,null,null,null,null,null,null,null,null,null,null,null,null,null,null,null,null,null,null,null,null,null,null,null,null,null,null,null,null,{"$f":"IFERROR(VLOOKUP(ROWS($CF$3:CF290),$CH$3:$CI$2001,2,FALSE),\"\")","v":""},null,{"$f":"IF(ISNUMBER(SEARCH(B290,CI290)),MAX($CH$2:CH289)+1,0)","v":0},{"$f":"'الرصيد الثابت'!#REF!","v":{"$error":"#REF!"}}]
["",null,{"$f":"IF(B291=\"\",\"\",SUMIF('الرصيد الثابت'!$D$2:$D$106,B291,'الرصيد الثابت'!$H$2:$H$106))","v":""},{"$f":"IF(B291=\"\",\"\",SUMIF('الرصيد الثابت'!$D$2:$D$106,B291,'الرصيد الثابت'!$I$2:$I$106))","v":""},{"$f":"IF(B291=\"\",\"\",SUMIF('الرصيد الثابت'!$D$2:$D$106,B291,'الرصيد الثابت'!$J$2:$J$106))","v":""},null,0,null,null,null,null,0,null,null,null,0,null,0,null,null,null,null,null,null,null,null,null,null,null,null,null,null,null,null,null,null,null,null,null,null,null,null,null,null,null,null,null,null,null,null,null,null,null,null,null,null,null,null,null,null,null,null,null,null,null,null,null,null,null,null,null,null,null,null,null,null,null,null,null,null,null,null,null,{"$f":"IFERROR(VLOOKUP(ROWS($CF$3:CF291),$CH$3:$CI$2001,2,FALSE),\"\")","v":""},null,{"$f":"IF(ISNUMBER(SEARCH(B291,CI291)),MAX($CH$2:CH290)+1,0)","v":0},{"$f":"'الرصيد الثابت'!#REF!","v":{"$error":"#REF!"}}]
["",null,{"$f":"IF(B292=\"\",\"\",SUMIF('الرصيد الثابت'!$D$2:$D$106,B292,'الرصيد الثابت'!$H$2:$H$106))","v":""},{"$f":"IF(B292=\"\",\"\",SUMIF('الرصيد الثابت'!$D$2:$D$106,B292,'الرصيد الثابت'!$I$2:$I$106))","v":""},{"$f":"IF(B292=\"\",\"\",SUMIF('الرصيد الثابت'!$D$2:$D$106,B292,'الرصيد الثابت'!$J$2:$J$106))","v":""},null,0,null,null,null,null,0,null,null,null,0,null,0,null,null,null,null,null,null,null,null,null,null,null,null,null,null,null,null,null,null,null,null,null,null,null,null,null,null,null,null,null,null,null,null,null,null,null,null,null,null,null,null,null,null,null,null,null,null,null,null,null,null,null,null,null,null,null,null,null,null,null,null,null,null,null,null,null,{"$f":"IFERROR(VLOOKUP(ROWS($CF$3:CF292),$CH$3:$CI$2001,2,FALSE),\"\")","v":""},null,{"$f":"IF(ISNUMBER(SEARCH(B292,CI292)),MAX($CH$2:CH291)+1,0)","v":0},{"$f":"'الرصيد الثابت'!#REF!","v":{"$error":"#REF!"}}]
["",null,{"$f":"IF(B293=\"\",\"\",SUMIF('الرصيد الثابت'!$D$2:$D$106,B293,'الرصيد الثابت'!$H$2:$H$106))","v":""},{"$f":"IF(B293=\"\",\"\",SUMIF('الرصيد الثابت'!$D$2:$D$106,B293,'الرصيد الثابت'!$I$2:$I$106))","v":""},{"$f":"IF(B293=\"\",\"\",SUMIF('الرصيد الثابت'!$D$2:$D$106,B293,'الرصيد الثابت'!$J$2:$J$106))","v":""},null,0,null,null,null,null,0,null,null,null,0,null,0,null,null,null,null,null,null,null,null,null,null,null,null,null,null,null,null,null,null,null,null,null,null,null,null,null,null,null,null,null,null,null,null,null,null,null,null,null,null,null,null,null,null,null,null,null,null,null,null,null,null,null,null,null,null,null,null,null,null,null,null,null,null,null,null,null,{"$f":"IFERROR(VLOOKUP(ROWS($CF$3:CF293),$CH$3:$CI$2001,2,FALSE),\"\")","v":""},null,{"$f":"IF(ISNUMBER(SEARCH(B293,CI293)),MAX($CH$2:CH292)+1,0)","v":0},{"$f":"'الرصيد الثابت'!#REF!","v":{"$error":"#REF!"}}]
["",null,{"$f":"IF(B294=\"\",\"\",SUMIF('الرصيد الثابت'!$D$2:$D$106,B294,'الرصيد الثابت'!$H$2:$H$106))","v":""},{"$f":"IF(B294=\"\",\"\",SUMIF('الرصيد الثابت'!$D$2:$D$106,B294,'الرصيد الثابت'!$I$2:$I$106))","v":""},{"$f":"IF(B294=\"\",\"\",SUMIF('الرصيد الثابت'!$D$2:$D$106,B294,'الرصيد الثابت'!$J$2:$J$106))","v":""},null,0,null,null,null,null,0,null,null,null,0,null,0,null,null,null,null,null,null,null,null,null,null,null,null,null,null,null,null,null,null,null,null,null,null,null,null,null,null,null,null,null,null,null,null,null,null,null,null,null,null,null,null,null,null,null,null,null,null,null,null,null,null,null,null,null,null,null,null,null,null,null,null,null,null,null,null,null,{"$f":"IFERROR(VLOOKUP(ROWS($CF$3:CF294),$CH$3:$CI$2001,2,FALSE),\"\")","v":""},null,{"$f":"IF(ISNUMBER(SEARCH(B294,CI294)),MAX($CH$2:CH293)+1,0)","v":0},{"$f":"'الرصيد الثابت'!#REF!","v":{"$error":"#REF!"}}]
["",null,{"$f":"IF(B295=\"\",\"\",SUMIF('الرصيد الثابت'!$D$2:$D$106,B295,'الرصيد الثابت'!$H$2:$H$106))","v":""},{"$f":"IF(B295=\"\",\"\",SUMIF('الرصيد الثابت'!$D$2:$D$106,B295,'الرصيد الثابت'!$I$2:$I$106))","v":""},{"$f":"IF(B295=\"\",\"\",SUMIF('الرصيد الثابت'!$D$2:$D$106,B295,'الرصيد الثابت'!$J$2:$J$106))","v":""},null,0,null,null,null,null,0,null,null,null,0,null,0,null,null,null,null,null,null,null,null,null,null,null,null,null,null,null,null,null,null,null,null,null,null,null,null,null,null,null,null,null,null,null,null,null,null,null,null,null,null,null,null,null,null,null,null,null,null,null,null,null,null,null,null,null,null,null,null,null,null,null,null,null,null,null,null,null,{"$f":"IFERROR(VLOOKUP(ROWS($CF$3:CF295),$CH$3:$CI$2001,2,FALSE),\"\")","v":""},null,{"$f":"IF(ISNUMBER(SEARCH(B295,CI295)),MAX($CH$2:CH294)+1,0)","v":0},{"$f":"'الرصيد الثابت'!#REF!","v":{"$error":"#REF!"}}]
["",null,{"$f":"IF(B296=\"\",\"\",SUMIF('الرصيد الثابت'!$D$2:$D$106,B296,'الرصيد الثابت'!$H$2:$H$106))","v":""},{"$f":"IF(B296=\"\",\"\",SUMIF('الرصيد الثابت'!$D$2:$D$106,B296,'الرصيد الثابت'!$I$2:$I$106))","v":""},{"$f":"IF(B296=\"\",\"\",SUMIF('الرصيد الثابت'!$D$2:$D$106,B296,'الرصيد الثابت'!$J$2:$J$106))","v":""},null,0,null,null,null,null,0,null,null,null,0,null,0,null,null,null,null,null,null,null,null,null,null,null,null,null,null,null,null,null,null,null,null,null,null,null,null,null,null,null,null,null,null,null,null,null,null,null,null,null,null,null,null,null,null,null,null,null,null,null,null,null,null,null,null,null,null,null,null,null,null,null,null,null,null,null,null,null,{"$f":"IFERROR(VLOOKUP(ROWS($CF$3:CF296),$CH$3:$CI$2001,2,FALSE),\"\")","v":""},null,{"$f":"IF(ISNUMBER(SEARCH(B296,CI296)),MAX($CH$2:CH295)+1,0)","v":0},{"$f":"'الرصيد الثابت'!#REF!","v":{"$error":"#REF!"}}]
["",null,{"$f":"IF(B297=\"\",\"\",SUMIF('الرصيد الثابت'!$D$2:$D$106,B297,'الرصيد الثابت'!$H$2:$H$106))","v":""},{"$f":"IF(B297=\"\",\"\",SUMIF('الرصيد الثابت'!$D$2:$D$106,B297,'الرصيد الثابت'!$I$2:$I$106))","v":""},{"$f":"IF(B297=\"\",\"\",SUMIF('الرصيد الثابت'!$D$2:$D$106,B297,'الرصيد الثابت'!$J$2:$J$106))","v":""},null,0,null,null,null,null,0,null,null,null,0,null,0,null,null,null,null,null,null,null,null,null,null,null,null,null,null,null,null,null,null,null,null,null,null,null,null,null,null,null,null,null,null,null,null,null,null,null,null,null,null,null,null,null,null,null,null,null,null,null,null,null,null,null,null,null,null,null,null,null,null,null,null,null,null,null,null,null,{"$f":"IFERROR(VLOOKUP(ROWS($CF$3:CF297),$CH$3:$CI$2001,2,FALSE),\"\")","v":""},null,{"$f":"IF(ISNUMBER(SEARCH(B297,CI297)),MAX($CH$2:CH296)+1,0)","v":0},{"$f":"'الرصيد الثابت'!#REF!","v":{"$error":"#REF!"}}]
["",null,{"$f":"IF(B298=\"\",\"\",SUMIF('الرصيد الثابت'!$D$2:$D$106,B298,'الرصيد الثابت'!$H$2:$H$106))","v":""},{"$f":"IF(B298=\"\",\"\",SUMIF('الرصيد الثابت'!$D$2:$D$106,B298,'الرصيد الثابت'!$I$2:$I$106))","v":""},{"$f":"IF(B298=\"\",\"\",SUMIF('الرصيد الثابت'!$D$2:$D$106,B298,'الرصيد الثابت'!$J$2:$J$106))","v":""},null,0,null,null,null,null,0,null,null,null,0,null,0,null,null,null,null,null,null,null,null,null,null,null,null,null,null,null,null,null,null,null,null,null,null,null,null,null,null,null,null,null,null,null,null,null,null,null,null,null,null,null,null,null,null,null,null,null,null,null,null,null,null,null,null,null,null,null,null,null,null,null,null,null,null,null,null,null,{"$f":"IFERROR(VLOOKUP(ROWS($CF$3:CF298),$CH$3:$CI$2001,2,FALSE),\"\")","v":""},null,{"$f":"IF(ISNUMBER(SEARCH(B298,CI298)),MAX($CH$2:CH297)+1,0)","v":0},{"$f":"'الرصيد الثابت'!#REF!","v":{"$error":"#REF!"}}]
["",null,{"$f":"IF(B299=\"\",\"\",SUMIF('الرصيد الثابت'!$D$2:$D$106,B299,'الرصيد الثابت'!$H$2:$H$106))","v":""},{"$f":"IF(B299=\"\",\"\",SUMIF('الرصيد الثابت'!$D$2:$D$106,B299,'الرصيد الثابت'!$I$2:$I$106))","v":""},{"$f":"IF(B299=\"\",\"\",SUMIF('الرصيد الثابت'!$D$2:$D$106,B299,'الرصيد الثابت'!$J$2:$J$106))","v":""},null,0,null,null,null,null,0,null,null,null,0,null,0,null,null,null,null,null,null,null,null,null,null,null,null,null,null,null,null,null,null,null,null,null,null,null,null,null,null,null,null,null,null,null,null,null,null,null,null,null,null,null,null,null,null,null,null,null,null,null,null,null,null,null,null,null,null,null,null,null,null,null,null,null,null,null,null,null,{"$f":"IFERROR(VLOOKUP(ROWS($CF$3:CF299),$CH$3:$CI$2001,2,FALSE),\"\")","v":""},null,{"$f":"IF(ISNUMBER(SEARCH(B299,CI299)),MAX($CH$2:CH298)+1,0)","v":0},{"$f":"'الرصيد الثابت'!#REF!","v":{"$error":"#REF!"}}]
["",null,{"$f":"IF(B300=\"\",\"\",SUMIF('الرصيد الثابت'!$D$2:$D$106,B300,'الرصيد الثابت'!$H$2:$H$106))","v":""},{"$f":"IF(B300=\"\",\"\",SUMIF('الرصيد الثابت'!$D$2:$D$106,B300,'الرصيد الثابت'!$I$2:$I$106))","v":""},{"$f":"IF(B300=\"\",\"\",SUMIF('الرصيد الثابت'!$D$2:$D$106,B300,'الرصيد الثابت'!$J$2:$J$106))","v":""},null,0,null,null,null,null,0,null,null,null,0,null,0,null,null,null,null,null,null,null,null,null,null,null,null,null,null,null,null,null,null,null,null,null,null,null,null,null,null,null,null,null,null,null,null,null,null,null,null,null,null,null,null,null,null,null,null,null,null,null,null,null,null,null,null,null,null,null,null,null,null,null,null,null,null,null,null,null,{"$f":"IFERROR(VLOOKUP(ROWS($CF$3:CF300),$CH$3:$CI$2001,2,FALSE),\"\")","v":""},null,{"$f":"IF(ISNUMBER(SEARCH(B300,CI300)),MAX($CH$2:CH299)+1,0)","v":0},{"$f":"'الرصيد الثابت'!#REF!","v":{"$error":"#REF!"}}]
["",null,{"$f":"IF(B301=\"\",\"\",SUMIF('الرصيد الثابت'!$D$2:$D$106,B301,'الرصيد الثابت'!$H$2:$H$106))","v":""},{"$f":"IF(B301=\"\",\"\",SUMIF('الرصيد الثابت'!$D$2:$D$106,B301,'الرصيد الثابت'!$I$2:$I$106))","v":""},{"$f":"IF(B301=\"\",\"\",SUMIF('الرصيد الثابت'!$D$2:$D$106,B301,'الرصيد الثابت'!$J$2:$J$106))","v":""},null,0,null,null,null,null,0,null,null,null,0,null,0,null,null,null,null,null,null,null,null,null,null,null,null,null,null,null,null,null,null,null,null,null,null,null,null,null,null,null,null,null,null,null,null,null,null,null,null,null,null,null,null,null,null,null,null,null,null,null,null,null,null,null,null,null,null,null,null,null,null,null,null,null,null,null,null,null,{"$f":"IFERROR(VLOOKUP(ROWS($CF$3:CF301),$CH$3:$CI$2001,2,FALSE),\"\")","v":""},null,{"$f":"IF(ISNUMBER(SEARCH(B301,CI301)),MAX($CH$2:CH300)+1,0)","v":0},{"$f":"'الرصيد الثابت'!#REF!","v":{"$error":"#REF!"}}]
["",null,{"$f":"IF(B302=\"\",\"\",SUMIF('الرصيد الثابت'!$D$2:$D$106,B302,'الرصيد الثابت'!$H$2:$H$106))","v":""},{"$f":"IF(B302=\"\",\"\",SUMIF('الرصيد الثابت'!$D$2:$D$106,B302,'الرصيد الثابت'!$I$2:$I$106))","v":""},{"$f":"IF(B302=\"\",\"\",SUMIF('الرصيد الثابت'!$D$2:$D$106,B302,'الرصيد الثابت'!$J$2:$J$106))","v":""},null,0,null,null,null,null,0,null,null,null,0,null,0,null,null,null,null,null,null,null,null,null,null,null,null,null,null,null,null,null,null,null,null,null,null,null,null,null,null,null,null,null,null,null,null,null,null,null,null,null,null,null,null,null,null,null,null,null,null,null,null,null,null,null,null,null,null,null,null,null,null,null,null,null,null,null,null,null,{"$f":"IFERROR(VLOOKUP(ROWS($CF$3:CF302),$CH$3:$CI$2001,2,FALSE),\"\")","v":""},null,{"$f":"IF(ISNUMBER(SEARCH(B302,CI302)),MAX($CH$2:CH301)+1,0)","v":0},{"$f":"'الرصيد الثابت'!#REF!","v":{"$error":"#REF!"}}]
["",null,{"$f":"IF(B303=\"\",\"\",SUMIF('الرصيد الثابت'!$D$2:$D$106,B303,'الرصيد الثابت'!$H$2:$H$106))","v":""},{"$f":"IF(B303=\"\",\"\",SUMIF('الرصيد الثابت'!$D$2:$D$106,B303,'الرصيد الثابت'!$I$2:$I$106))","v":""},{"$f":"IF(B303=\"\",\"\",SUMIF('الرصيد الثابت'!$D$2:$D$106,B303,'الرصيد الثابت'!$J$2:$J$106))","v":""},null,0,null,null,null,null,0,null,null,null,0,null,0,null,null,null,null,null,null,null,null,null,null,null,null,null,null,null,null,null,null,null,null,null,null,null,null,null,null,null,null,null,null,null,null,null,null,null,null,null,null,null,null,null,null,null,null,null,null,null,null,null,null,null,null,null,null,null,null,null,null,null,null,null,null,null,null,null,{"$f":"IFERROR(VLOOKUP(ROWS($CF$3:CF303),$CH$3:$CI$2001,2,FALSE),\"\")","v":""},null,{"$f":"IF(ISNUMBER(SEARCH(B303,CI303)),MAX($CH$2:CH302)+1,0)","v":0},{"$f":"'الرصيد الثابت'!#REF!","v":{"$error":"#REF!"}}]
["",null,{"$f":"IF(B304=\"\",\"\",SUMIF('الرصيد الثابت'!$D$2:$D$106,B304,'الرصيد الثابت'!$H$2:$H$106))","v":""},{"$f":"IF(B304=\"\",\"\",SUMIF('الرصيد الثابت'!$D$2:$D$106,B304,'الرصيد الثابت'!$I$2:$I$106))","v":""},{"$f":"IF(B304=\"\",\"\",SUMIF('الرصيد الثابت'!$D$2:$D$106,B304,'الرصيد الثابت'!$J$2:$J$106))","v":""},null,0,null,null,null,null,0,null,null,null,0,null,0,null,null,null,null,null,null,null,null,null,null,null,null,null,null,null,null,null,null,null,null,null,null,null,null,null,null,null,null,null,null,null,null,null,null,null,null,null,null,null,null,null,null,null,null,null,null,null,null,null,null,null,null,null,null,null,null,null,null,null,null,null,null,null,null,null,{"$f":"IFERROR(VLOOKUP(ROWS($CF$3:CF304),$CH$3:$CI$2001,2,FALSE),\"\")","v":""},null,{"$f":"IF(ISNUMBER(SEARCH(B304,CI304)),MAX($CH$2:CH303)+1,0)","v":0},{"$f":"'الرصيد الثابت'!#REF!","v":{"$error":"#REF!"}}]
["",null,{"$f":"IF(B305=\"\",\"\",SUMIF('الرصيد الثابت'!$D$2:$D$106,B305,'الرصيد الثابت'!$H$2:$H$106))","v":""},{"$f":"IF(B305=\"\",\"\",SUMIF('الرصيد الثابت'!$D$2:$D$106,B305,'الرصيد الثابت'!$I$2:$I$106))","v":""},{"$f":"IF(B305=\"\",\"\",SUMIF('الرصيد الثابت'!$D$2:$D$106,B305,'الرصيد الثابت'!$J$2:$J$106))","v":""},null,0,null,null,null,null,0,null,null,null,0,null,0,null,null,null,null,null,null,null,null,null,null,null,null,null,null,null,null,null,null,null,null,null,null,null,null,null,null,null,null,null,null,null,null,null,null,null,null,null,null,null,null,null,null,null,null,null,null,null,null,null,null,null,null,null,null,null,null,null,null,null,null,null,null,null,null,null,{"$f":"IFERROR(VLOOKUP(ROWS($CF$3:CF305),$CH$3:$CI$2001,2,FALSE),\"\")","v":""},null,{"$f":"IF(ISNUMBER(SEARCH(B305,CI305)),MAX($CH$2:CH304)+1,0)","v":0},{"$f":"'الرصيد الثابت'!#REF!","v":{"$error":"#REF!"}}]
["",null,{"$f":"IF(B306=\"\",\"\",SUMIF('الرصيد الثابت'!$D$2:$D$106,B306,'الرصيد الثابت'!$H$2:$H$106))","v":""},{"$f":"IF(B306=\"\",\"\",SUMIF('الرصيد الثابت'!$D$2:$D$106,B306,'الرصيد الثابت'!$I$2:$I$106))","v":""},{"$f":"IF(B306=\"\",\"\",SUMIF('الرصيد الثابت'!$D$2:$D$106,B306,'الرصيد الثابت'!$J$2:$J$106))","v":""},null,0,null,null,null,null,0,null,null,null,0,null,0,null,null,null,null,null,null,null,null,null,null,null,null,null,null,null,null,null,null,null,null,null,null,null,null,null,null,null,null,null,null,null,null,null,null,null,null,null,null,null,null,null,null,null,null,null,null,null,null,null,null,null,null,null,null,null,null,null,null,null,null,null,null,null,null,null,{"$f":"IFERROR(VLOOKUP(ROWS($CF$3:CF306),$CH$3:$CI$2001,2,FALSE),\"\")","v":""},null,{"$f":"IF(ISNUMBER(SEARCH(B306,CI306)),MAX($CH$2:CH305)+1,0)","v":0},{"$f":"'الرصيد الثابت'!#REF!","v":{"$error":"#REF!"}}]
["",null,{"$f":"IF(B307=\"\",\"\",SUMIF('الرصيد الثابت'!$D$2:$D$106,B307,'الرصيد الثابت'!$H$2:$H$106))","v":""},{"$f":"IF(B307=\"\",\"\",SUMIF('الرصيد الثابت'!$D$2:$D$106,B307,'الرصيد الثابت'!$I$2:$I$106))","v":""},{"$f":"IF(B307=\"\",\"\",SUMIF('الرصيد الثابت'!$D$2:$D$106,B307,'الرصيد الثابت'!$J$2:$J$106))","v":""},null,0,null,null,null,null,0,null,null,null,0,null,0,null,null,null,null,null,null,null,null,null,null,null,null,null,null,null,null,null,null,null,null,null,null,null,null,null,null,null,null,null,null,null,null,null,null,null,null,null,null,null,null,null,null,null,null,null,null,null,null,null,null,null,null,null,null,null,null,null,null,null,null,null,null,null,null,null,{"$f":"IFERROR(VLOOKUP(ROWS($CF$3:CF307),$CH$3:$CI$2001,2,FALSE),\"\")","v":""},null,{"$f":"IF(ISNUMBER(SEARCH(B307,CI307)),MAX($CH$2:CH306)+1,0)","v":0},{"$f":"'الرصيد الثابت'!#REF!","v":{"$error":"#REF!"}}]
["",null,{"$f":"IF(B308=\"\",\"\",SUMIF('الرصيد الثابت'!$D$2:$D$106,B308,'الرصيد الثابت'!$H$2:$H$106))","v":""},{"$f":"IF(B308=\"\",\"\",SUMIF('الرصيد الثابت'!$D$2:$D$106,B308,'الرصيد الثابت'!$I$2:$I$106))","v":""},{"$f":"IF(B308=\"\",\"\",SUMIF('الرصيد الثابت'!$D$2:$D$106,B308,'الرصيد الثابت'!$J$2:$J$106))","v":""},null,0,null,null,null,null,0,null,null,null,0,null,0,null,null,null,null,null,null,null,null,null,null,null,null,null,null,null,null,null,null,null,null,null,null,null,null,null,null,null,null,null,null,null,null,null,null,null,null,null,null,null,null,null,null,null,null,null,null,null,null,null,null,null,null,null,null,null,null,null,null,null,null,null,null,null,null,null,{"$f":"IFERROR(VLOOKUP(ROWS($CF$3:CF308),$CH$3:$CI$2001,2,FALSE),\"\")","v":""},null,{"$f":"IF(ISNUMBER(SEARCH(B308,CI308)),MAX($CH$2:CH307)+1,0)","v":0},{"$f":"'الرصيد الثابت'!#REF!","v":{"$error":"#REF!"}}]
["",null,{"$f":"IF(B309=\"\",\"\",SUMIF('الرصيد الثابت'!$D$2:$D$106,B309,'الرصيد الثابت'!$H$2:$H$106))","v":""},{"$f":"IF(B309=\"\",\"\",SUMIF('الرصيد الثابت'!$D$2:$D$106,B309,'الرصيد الثابت'!$I$2:$I$106))","v":""},{"$f":"IF(B309=\"\",\"\",SUMIF('الرصيد الثابت'!$D$2:$D$106,B309,'الرصيد الثابت'!$J$2:$J$106))","v":""},null,0,null,null,null,null,0,null,null,null,0,null,0,null,null,null,null,null,null,null,null,null,null,null,null,null,null,null,null,null,null,null,null,null,null,null,null,null,null,null,null,null,null,null,null,null,null,null,null,null,null,null,null,null,null,null,null,null,null,null,null,null,null,null,null,null,null,null,null,null,null,null,null,null,null,null,null,null,{"$f":"IFERROR(VLOOKUP(ROWS($CF$3:CF309),$CH$3:$CI$2001,2,FALSE),\"\")","v":""},null,{"$f":"IF(ISNUMBER(SEARCH(B309,CI309)),MAX($CH$2:CH308)+1,0)","v":0},{"$f":"'الرصيد الثابت'!#REF!","v":{"$error":"#REF!"}}]
["",null,{"$f":"IF(B310=\"\",\"\",SUMIF('الرصيد الثابت'!$D$2:$D$106,B310,'الرصيد الثابت'!$H$2:$H$106))","v":""},{"$f":"IF(B310=\"\",\"\",SUMIF('الرصيد الثابت'!$D$2:$D$106,B310,'الرصيد الثابت'!$I$2:$I$106))","v":""},{"$f":"IF(B310=\"\",\"\",SUMIF('الرصيد الثابت'!$D$2:$D$106,B310,'الرصيد الثابت'!$J$2:$J$106))","v":""},null,0,null,null,null,null,0,null,null,null,0,null,0,null,null,null,null,null,null,null,null,null,null,null,null,null,null,null,null,null,null,null,null,null,null,null,null,null,null,null,null,null,null,null,null,null,null,null,null,null,null,null,null,null,null,null,null,null,null,null,null,null,null,null,null,null,null,null,null,null,null,null,null,null,null,null,null,null,{"$f":"IFERROR(VLOOKUP(ROWS($CF$3:CF310),$CH$3:$CI$2001,2,FALSE),\"\")","v":""},null,{"$f":"IF(ISNUMBER(SEARCH(B310,CI310)),MAX($CH$2:CH309)+1,0)","v":0},{"$f":"'الرصيد الثابت'!#REF!","v":{"$error":"#REF!"}}]
["",null,{"$f":"IF(B311=\"\",\"\",SUMIF('الرصيد الثابت'!$D$2:$D$106,B311,'الرصيد الثابت'!$H$2:$H$106))","v":""},{"$f":"IF(B311=\"\",\"\",SUMIF('الرصيد الثابت'!$D$2:$D$106,B311,'الرصيد الثابت'!$I$2:$I$106))","v":""},{"$f":"IF(B311=\"\",\"\",SUMIF('الرصيد الثابت'!$D$2:$D$106,B311,'الرصيد الثابت'!$J$2:$J$106))","v":""},null,0,null,null,null,null,0,null,null,null,0,null,0,null,null,null,null,null,null,null,null,null,null,null,null,null,null,null,null,null,null,null,null,null,null,null,null,null,null,null,null,null,null,null,null,null,null,null,null,null,null,null,null,null,null,null,null,null,null,null,null,null,null,null,null,null,null,null,null,null,null,null,null,null,null,null,null,null,{"$f":"IFERROR(VLOOKUP(ROWS($CF$3:CF311),$CH$3:$CI$2001,2,FALSE),\"\")","v":""},null,{"$f":"IF(ISNUMBER(SEARCH(B311,CI311)),MAX($CH$2:CH310)+1,0)","v":0},{"$f":"'الرصيد الثابت'!#REF!","v":{"$error":"#REF!"}}]
["",null,{"$f":"IF(B312=\"\",\"\",SUMIF('الرصيد الثابت'!$D$2:$D$106,B312,'الرصيد الثابت'!$H$2:$H$106))","v":""},{"$f":"IF(B312=\"\",\"\",SUMIF('الرصيد الثابت'!$D$2:$D$106,B312,'الرصيد الثابت'!$I$2:$I$106))","v":""},{"$f":"IF(B312=\"\",\"\",SUMIF('الرصيد الثابت'!$D$2:$D$106,B312,'الرصيد الثابت'!$J$2:$J$106))","v":""},null,0,null,null,null,null,0,null,null,null,0,null,0,null,null,null,null,null,null,null,null,null,null,null,null,null,null,null,null,null,null,null,null,null,null,null,null,null,null,null,null,null,null,null,null,null,null,null,null,null,null,null,null,null,null,null,null,null,null,null,null,null,null,null,null,null,null,null,null,null,null,null,null,null,null,null,null,null,{"$f":"IFERROR(VLOOKUP(ROWS($CF$3:CF312),$CH$3:$CI$2001,2,FALSE),\"\")","v":""},null,{"$f":"IF(ISNUMBER(SEARCH(B312,CI312)),MAX($CH$2:CH311)+1,0)","v":0},{"$f":"'الرصيد الثابت'!#REF!","v":{"$error":"#REF!"}}]
["",null,{"$f":"IF(B313=\"\",\"\",SUMIF('الرصيد الثابت'!$D$2:$D$106,B313,'الرصيد الثابت'!$H$2:$H$106))","v":""},{"$f":"IF(B313=\"\",\"\",SUMIF('الرصيد الثابت'!$D$2:$D$106,B313,'الرصيد الثابت'!$I$2:$I$106))","v":""},{"$f":"IF(B313=\"\",\"\",SUMIF('الرصيد الثابت'!$D$2:$D$106,B313,'الرصيد الثابت'!$J$2:$J$106))","v":""},null,0,null,null,null,null,0,null,null,null,0,null,0,null,null,null,null,null,null,null,null,null,null,null,null,null,null,null,null,null,null,null,null,null,null,null,null,null,null,null,null,null,null,null,null,null,null,null,null,null,null,null,null,null,null,null,null,null,null,null,null,null,null,null,null,null,null,null,null,null,null,null,null,null,null,null,null,null,{"$f":"IFERROR(VLOOKUP(ROWS($CF$3:CF313),$CH$3:$CI$2001,2,FALSE),\"\")","v":""},null,{"$f":"IF(ISNUMBER(SEARCH(B313,CI313)),MAX($CH$2:CH312)+1,0)","v":0},{"$f":"'الرصيد الثابت'!#REF!","v":{"$error":"#REF!"}}]
["",null,{"$f":"IF(B314=\"\",\"\",SUMIF('الرصيد الثابت'!$D$2:$D$106,B314,'الرصيد الثابت'!$H$2:$H$106))","v":""},{"$f":"IF(B314=\"\",\"\",SUMIF('الرصيد الثابت'!$D$2:$D$106,B314,'الرصيد الثابت'!$I$2:$I$106))","v":""},{"$f":"IF(B314=\"\",\"\",SUMIF('الرصيد الثابت'!$D$2:$D$106,B314,'الرصيد الثابت'!$J$2:$J$106))","v":""},null,0,null,null,null,null,0,null,null,null,0,null,0,null,null,null,null,null,null,null,null,null,null,null,null,null,null,null,null,null,null,null,null,null,null,null,null,null,null,null,null,null,null,null,null,null,null,null,null,null,null,null,null,null,null,null,null,null,null,null,null,null,null,null,null,null,null,null,null,null,null,null,null,null,null,null,null,null,{"$f":"IFERROR(VLOOKUP(ROWS($CF$3:CF314),$CH$3:$CI$2001,2,FALSE),\"\")","v":""},null,{"$f":"IF(ISNUMBER(SEARCH(B314,CI314)),MAX($CH$2:CH313)+1,0)","v":0},{"$f":"'الرصيد الثابت'!#REF!","v":{"$error":"#REF!"}}]
["",null,{"$f":"IF(B315=\"\",\"\",SUMIF('الرصيد الثابت'!$D$2:$D$106,B315,'الرصيد الثابت'!$H$2:$H$106))","v":""},{"$f":"IF(B315=\"\",\"\",SUMIF('الرصيد الثابت'!$D$2:$D$106,B315,'الرصيد الثابت'!$I$2:$I$106))","v":""},{"$f":"IF(B315=\"\",\"\",SUMIF('الرصيد الثابت'!$D$2:$D$106,B315,'الرصيد الثابت'!$J$2:$J$106))","v":""},null,0,null,null,null,null,0,null,null,null,0,null,0,null,null,null,null,null,null,null,null,null,null,null,null,null,null,null,null,null,null,null,null,null,null,null,null,null,null,null,null,null,null,null,null,null,null,null,null,null,null,null,null,null,null,null,null,null,null,null,null,null,null,null,null,null,null,null,null,null,null,null,null,null,null,null,null,null,{"$f":"IFERROR(VLOOKUP(ROWS($CF$3:CF315),$CH$3:$CI$2001,2,FALSE),\"\")","v":""},null,{"$f":"IF(ISNUMBER(SEARCH(B315,CI315)),MAX($CH$2:CH314)+1,0)","v":0},{"$f":"'الرصيد الثابت'!#REF!","v":{"$error":"#REF!"}}]
["",null,{"$f":"IF(B316=\"\",\"\",SUMIF('الرصيد الثابت'!$D$2:$D$106,B316,'الرصيد الثابت'!$H$2:$H$106))","v":""},{"$f":"IF(B316=\"\",\"\",SUMIF('الرصيد الثابت'!$D$2:$D$106,B316,'الرصيد الثابت'!$I$2:$I$106))","v":""},{"$f":"IF(B316=\"\",\"\",SUMIF('الرصيد الثابت'!$D$2:$D$106,B316,'الرصيد الثابت'!$J$2:$J$106))","v":""},null,0,null,null,null,null,0,null,null,null,0,null,0,null,null,null,null,null,null,null,null,null,null,null,null,null,null,null,null,null,null,null,null,null,null,null,null,null,null,null,null,null,null,null,null,null,null,null,null,null,null,null,null,null,null,null,null,null,null,null,null,null,null,null,null,null,null,null,null,null,null,null,null,null,null,null,null,null,{"$f":"IFERROR(VLOOKUP(ROWS($CF$3:CF316),$CH$3:$CI$2001,2,FALSE),\"\")","v":""},null,{"$f":"IF(ISNUMBER(SEARCH(B316,CI316)),MAX($CH$2:CH315)+1,0)","v":0},{"$f":"'الرصيد الثابت'!#REF!","v":{"$error":"#REF!"}}]
["",null,{"$f":"IF(B317=\"\",\"\",SUMIF('الرصيد الثابت'!$D$2:$D$106,B317,'الرصيد الثابت'!$H$2:$H$106))","v":""},{"$f":"IF(B317=\"\",\"\",SUMIF('الرصيد الثابت'!$D$2:$D$106,B317,'الرصيد الثابت'!$I$2:$I$106))","v":""},{"$f":"IF(B317=\"\",\"\",SUMIF('الرصيد الثابت'!$D$2:$D$106,B317,'الرصيد الثابت'!$J$2:$J$106))","v":""},null,0,null,null,null,null,0,null,null,null,0,null,0,null,null,null,null,null,null,null,null,null,null,null,null,null,null,null,null,null,null,null,null,null,null,null,null,null,null,null,null,null,null,null,null,null,null,null,null,null,null,null,null,null,null,null,null,null,null,null,null,null,null,null,null,null,null,null,null,null,null,null,null,null,null,null,null,null,{"$f":"IFERROR(VLOOKUP(ROWS($CF$3:CF317),$CH$3:$CI$2001,2,FALSE),\"\")","v":""},null,{"$f":"IF(ISNUMBER(SEARCH(B317,CI317)),MAX($CH$2:CH316)+1,0)","v":0},{"$f":"'الرصيد الثابت'!#REF!","v":{"$error":"#REF!"}}]
["",null,{"$f":"IF(B318=\"\",\"\",SUMIF('الرصيد الثابت'!$D$2:$D$106,B318,'الرصيد الثابت'!$H$2:$H$106))","v":""},{"$f":"IF(B318=\"\",\"\",SUMIF('الرصيد الثابت'!$D$2:$D$106,B318,'الرصيد الثابت'!$I$2:$I$106))","v":""},{"$f":"IF(B318=\"\",\"\",SUMIF('الرصيد الثابت'!$D$2:$D$106,B318,'الرصيد الثابت'!$J$2:$J$106))","v":""},null,0,null,null,null,null,0,null,null,null,0,null,0,null,null,null,null,null,null,null,null,null,null,null,null,null,null,null,null,null,null,null,null,null,null,null,null,null,null,null,null,null,null,null,null,null,null,null,null,null,null,null,null,null,null,null,null,null,null,null,null,null,null,null,null,null,null,null,null,null,null,null,null,null,null,null,null,null,{"$f":"IFERROR(VLOOKUP(ROWS($CF$3:CF318),$CH$3:$CI$2001,2,FALSE),\"\")","v":""},null,{"$f":"IF(ISNUMBER(SEARCH(B318,CI318)),MAX($CH$2:CH317)+1,0)","v":0},{"$f":"'الرصيد الثابت'!#REF!","v":{"$error":"#REF!"}}]
["",null,{"$f":"IF(B319=\"\",\"\",SUMIF('الرصيد الثابت'!$D$2:$D$106,B319,'الرصيد الثابت'!$H$2:$H$106))","v":""},{"$f":"IF(B319=\"\",\"\",SUMIF('الرصيد الثابت'!$D$2:$D$106,B319,'الرصيد الثابت'!$I$2:$I$106))","v":""},{"$f":"IF(B319=\"\",\"\",SUMIF('الرصيد الثابت'!$D$2:$D$106,B319,'الرصيد الثابت'!$J$2:$J$106))","v":""},null,0,null,null,null,null,0,null,null,null,0,null,0,null,null,null,null,null,null,null,null,null,null,null,null,null,null,null,null,null,null,null,null,null,null,null,null,null,null,null,null,null,null,null,null,null,null,null,null,null,null,null,null,null,null,null,null,null,null,null,null,null,null,null,null,null,null,null,null,null,null,null,null,null,null,null,null,null,{"$f":"IFERROR(VLOOKUP(ROWS($CF$3:CF319),$CH$3:$CI$2001,2,FALSE),\"\")","v":""},null,{"$f":"IF(ISNUMBER(SEARCH(B319,CI319)),MAX($CH$2:CH318)+1,0)","v":0},{"$f":"'الرصيد الثابت'!#REF!","v":{"$error":"#REF!"}}]
["",null,{"$f":"IF(B320=\"\",\"\",SUMIF('الرصيد الثابت'!$D$2:$D$106,B320,'الرصيد الثابت'!$H$2:$H$106))","v":""},{"$f":"IF(B320=\"\",\"\",SUMIF('الرصيد الثابت'!$D$2:$D$106,B320,'الرصيد الثابت'!$I$2:$I$106))","v":""},{"$f":"IF(B320=\"\",\"\",SUMIF('الرصيد الثابت'!$D$2:$D$106,B320,'الرصيد الثابت'!$J$2:$J$106))","v":""},null,0,null,null,null,null,0,null,null,null,0,null,0,null,null,null,null,null,null,null,null,null,null,null,null,null,null,null,null,null,null,null,null,null,null,null,null,null,null,null,null,null,null,null,null,null,null,null,null,null,null,null,null,null,null,null,null,null,null,null,null,null,null,null,null,null,null,null,null,null,null,null,null,null,null,null,null,null,{"$f":"IFERROR(VLOOKUP(ROWS($CF$3:CF320),$CH$3:$CI$2001,2,FALSE),\"\")","v":""},null,{"$f":"IF(ISNUMBER(SEARCH(B320,CI320)),MAX($CH$2:CH319)+1,0)","v":0},{"$f":"'الرصيد الثابت'!#REF!","v":{"$error":"#REF!"}}]
["",null,{"$f":"IF(B321=\"\",\"\",SUMIF('الرصيد الثابت'!$D$2:$D$106,B321,'الرصيد الثابت'!$H$2:$H$106))","v":""},{"$f":"IF(B321=\"\",\"\",SUMIF('الرصيد الثابت'!$D$2:$D$106,B321,'الرصيد الثابت'!$I$2:$I$106))","v":""},{"$f":"IF(B321=\"\",\"\",SUMIF('الرصيد الثابت'!$D$2:$D$106,B321,'الرصيد الثابت'!$J$2:$J$106))","v":""},null,0,null,null,null,null,0,null,null,null,0,null,0,null,null,null,null,null,null,null,null,null,null,null,null,null,null,null,null,null,null,null,null,null,null,null,null,null,null,null,null,null,null,null,null,null,null,null,null,null,null,null,null,null,null,null,null,null,null,null,null,null,null,null,null,null,null,null,null,null,null,null,null,null,null,null,null,null,{"$f":"IFERROR(VLOOKUP(ROWS($CF$3:CF321),$CH$3:$CI$2001,2,FALSE),\"\")","v":""},null,{"$f":"IF(ISNUMBER(SEARCH(B321,CI321)),MAX($CH$2:CH320)+1,0)","v":0},{"$f":"'الرصيد الثابت'!#REF!","v":{"$error":"#REF!"}}]
["",null,{"$f":"IF(B322=\"\",\"\",SUMIF('الرصيد الثابت'!$D$2:$D$106,B322,'الرصيد الثابت'!$H$2:$H$106))","v":""},{"$f":"IF(B322=\"\",\"\",SUMIF('الرصيد الثابت'!$D$2:$D$106,B322,'الرصيد الثابت'!$I$2:$I$106))","v":""},{"$f":"IF(B322=\"\",\"\",SUMIF('الرصيد الثابت'!$D$2:$D$106,B322,'الرصيد الثابت'!$J$2:$J$106))","v":""},null,0,null,null,null,null,0,null,null,null,0,null,0,null,null,null,null,null,null,null,null,null,null,null,null,null,null,null,null,null,null,null,null,null,null,null,null,null,null,null,null,null,null,null,null,null,null,null,null,null,null,null,null,null,null,null,null,null,null,null,null,null,null,null,null,null,null,null,null,null,null,null,null,null,null,null,null,null,{"$f":"IFERROR(VLOOKUP(ROWS($CF$3:CF322),$CH$3:$CI$2001,2,FALSE),\"\")","v":""},null,{"$f":"IF(ISNUMBER(SEARCH(B322,CI322)),MAX($CH$2:CH321)+1,0)","v":0},{"$f":"'الرصيد الثابت'!#REF!","v":{"$error":"#REF!"}}]
["",null,{"$f":"IF(B323=\"\",\"\",SUMIF('الرصيد الثابت'!$D$2:$D$106,B323,'الرصيد الثابت'!$H$2:$H$106))","v":""},{"$f":"IF(B323=\"\",\"\",SUMIF('الرصيد الثابت'!$D$2:$D$106,B323,'الرصيد الثابت'!$I$2:$I$106))","v":""},{"$f":"IF(B323=\"\",\"\",SUMIF('الرصيد الثابت'!$D$2:$D$106,B323,'الرصيد الثابت'!$J$2:$J$106))","v":""},null,0,null,null,null,null,0,null,null,null,0,null,0,null,null,null,null,null,null,null,null,null,null,null,null,null,null,null,null,null,null,null,null,null,null,null,null,null,null,null,null,null,null,null,null,null,null,null,null,null,null,null,null,null,null,null,null,null,null,null,null,null,null,null,null,null,null,null,null,null,null,null,null,null,null,null,null,null,{"$f":"IFERROR(VLOOKUP(ROWS($CF$3:CF323),$CH$3:$CI$2001,2,FALSE),\"\")","v":""},null,{"$f":"IF(ISNUMBER(SEARCH(B323,CI323)),MAX($CH$2:CH322)+1,0)","v":0},{"$f":"'الرصيد الثابت'!#REF!","v":{"$error":"#REF!"}}]
[{"$f":"IF(B324<>\"\",IF(A324=\"\",NOW(),A324),\"\")","v":""},null,{"$f":"IF(B324=\"\",\"\",SUMIF('الرصيد الثابت'!$D$2:$D$106,B324,'الرصيد الثابت'!$H$2:$H$106))","v":""},{"$f":"IF(B324=\"\",\"\",SUMIF('الرصيد الثابت'!$D$2:$D$106,B324,'الرصيد الثابت'!$I$2:$I$106))","v":""},{"$f":"IF(B324=\"\",\"\",SUMIF('الرصيد الثابت'!$D$2:$D$106,B324,'الرصيد الثابت'!$J$2:$J$106))","v":""},null,{"$f":"SUM(H324*F324)","v":0},null,null,null,null,{"$f":"SUM(M324*K324)","v":0},null,null,null,{"$f":"SUM(F324-K324)","v":0},null,{"$f":"SUM(S324*Q324)","v":0},null,null,null,null,null,null,null,null,null,null,null,null,null,null,null,null,null,null,null,null,null,null,null,null,null,null,null,null,null,null,null,null,null,null,null,null,null,null,null,null,null,null,null,null,null,null,null,null,null,null,null,null,null,null,null,null,null,null,null,null,null,null,null,null,null,{"$f":"IFERROR(VLOOKUP(ROWS($CF$3:CF324),$CH$3:$CI$2001,2,FALSE),\"\")","v":""},null,{"$f":"IF(ISNUMBER(SEARCH(B324,CI324)),MAX($CH$2:CH323)+1,0)","v":0},{"$f":"'الرصيد الثابت'!#REF!","v":{"$error":"#REF!"}}]
["",null,{"$f":"IF(B325=\"\",\"\",SUMIF('الرصيد الثابت'!$D$2:$D$106,B325,'الرصيد الثابت'!$H$2:$H$106))","v":""},{"$f":"IF(B325=\"\",\"\",SUMIF('الرصيد الثابت'!$D$2:$D$106,B325,'الرصيد الثابت'!$I$2:$I$106))","v":""},{"$f":"IF(B325=\"\",\"\",SUMIF('الرصيد الثابت'!$D$2:$D$106,B325,'الرصيد الثابت'!$J$2:$J$106))","v":""},null,0,null,null,null,null,0,null,null,null,0,null,0,null,null,null,null,null,null,null,null,null,null,null,null,null,null,null,null,null,null,null,null,null,null,null,null,null,null,null,null,null,null,null,null,null,null,null,null,null,null,null,null,null,null,null,null,null,null,null,null,null,null,null,null,null,null,null,null,null,null,null,null,null,null,null,null,null,{"$f":"IFERROR(VLOOKUP(ROWS($CF$3:CF325),$CH$3:$CI$2001,2,FALSE),\"\")","v":""},null,{"$f":"IF(ISNUMBER(SEARCH(B325,CI325)),MAX($CH$2:CH324)+1,0)","v":0},{"$f":"'الرصيد الثابت'!#REF!","v":{"$error":"#REF!"}}]
["",null,{"$f":"IF(B326=\"\",\"\",SUMIF('الرصيد الثابت'!$D$2:$D$106,B326,'الرصيد الثابت'!$H$2:$H$106))","v":""},{"$f":"IF(B326=\"\",\"\",SUMIF('الرصيد الثابت'!$D$2:$D$106,B326,'الرصيد الثابت'!$I$2:$I$106))","v":""},{"$f":"IF(B326=\"\",\"\",SUMIF('الرصيد الثابت'!$D$2:$D$106,B326,'الرصيد الثابت'!$J$2:$J$106))","v":""},null,0,null,null,null,null,0,null,null,null,0,null,0,null,null,null,null,null,null,null,null,null,null,null,null,null,null,null,null,null,null,null,null,null,null,null,null,null,null,null,null,null,null,null,null,null,null,null,null,null,null,null,null,null,null,null,null,null,null,null,null,null,null,null,null,null,null,null,null,null,null,null,null,null,null,null,null,null,{"$f":"IFERROR(VLOOKUP(ROWS($CF$3:CF326),$CH$3:$CI$2001,2,FALSE),\"\")","v":""},null,{"$f":"IF(ISNUMBER(SEARCH(B326,CI326)),MAX($CH$2:CH325)+1,0)","v":0},{"$f":"'الرصيد الثابت'!#REF!","v":{"$error":"#REF!"}}]
["",null,{"$f":"IF(B327=\"\",\"\",SUMIF('الرصيد الثابت'!$D$2:$D$106,B327,'الرصيد الثابت'!$H$2:$H$106))","v":""},{"$f":"IF(B327=\"\",\"\",SUMIF('الرصيد الثابت'!$D$2:$D$106,B327,'الرصيد الثابت'!$I$2:$I$106))","v":""},{"$f":"IF(B327=\"\",\"\",SUMIF('الرصيد الثابت'!$D$2:$D$106,B327,'الرصيد الثابت'!$J$2:$J$106))","v":""},null,0,null,null,null,null,0,null,null,null,0,null,0,null,null,null,null,null,null,null,null,null,null,null,null,null,null,null,null,null,null,null,null,null,null,null,null,null,null,null,null,null,null,null,null,null,null,null,null,null,null,null,null,null,null,null,null,null,null,null,null,null,null,null,null,null,null,null,null,null,null,null,null,null,null,null,null,null,{"$f":"IFERROR(VLOOKUP(ROWS($CF$3:CF327),$CH$3:$CI$2001,2,FALSE),\"\")","v":""},null,{"$f":"IF(ISNUMBER(SEARCH(B327,CI327)),MAX($CH$2:CH326)+1,0)","v":0},{"$f":"'الرصيد الثابت'!#REF!","v":{"$error":"#REF!"}}]
["",null,{"$f":"IF(B328=\"\",\"\",SUMIF('الرصيد الثابت'!$D$2:$D$106,B328,'الرصيد الثابت'!$H$2:$H$106))","v":""},{"$f":"IF(B328=\"\",\"\",SUMIF('الرصيد الثابت'!$D$2:$D$106,B328,'الرصيد الثابت'!$I$2:$I$106))","v":""},{"$f":"IF(B328=\"\",\"\",SUMIF('الرصيد الثابت'!$D$2:$D$106,B328,'الرصيد الثابت'!$J$2:$J$106))","v":""},null,0,null,null,null,null,0,null,null,null,0,null,0,null,null,null,null,null,null,null,null,null,null,null,null,null,null,null,null,null,null,null,null,null,null,null,null,null,null,null,null,null,null,null,null,null,null,null,null,null,null,null,null,null,null,null,null,null,null,null,null,null,null,null,null,null,null,null,null,null,null,null,null,null,null,null,null,null,{"$f":"IFERROR(VLOOKUP(ROWS($CF$3:CF328),$CH$3:$CI$2001,2,FALSE),\"\")","v":""},null,{"$f":"IF(ISNUMBER(SEARCH(B328,CI328)),MAX($CH$2:CH327)+1,0)","v":0},{"$f":"'الرصيد الثابت'!#REF!","v":{"$error":"#REF!"}}]
["",null,{"$f":"IF(B329=\"\",\"\",SUMIF('الرصيد الثابت'!$D$2:$D$106,B329,'الرصيد الثابت'!$H$2:$H$106))","v":""},{"$f":"IF(B329=\"\",\"\",SUMIF('الرصيد الثابت'!$D$2:$D$106,B329,'الرصيد الثابت'!$I$2:$I$106))","v":""},{"$f":"IF(B329=\"\",\"\",SUMIF('الرصيد الثابت'!$D$2:$D$106,B329,'الرصيد الثابت'!$J$2:$J$106))","v":""},null,0,null,null,null,null,0,null,null,null,0,null,0,null,null,null,null,null,null,null,null,null,null,null,null,null,null,null,null,null,null,null,null,null,null,null,null,null,null,null,null,null,null,null,null,null,null,null,null,null,null,null,null,null,null,null,null,null,null,null,null,null,null,null,null,null,null,null,null,null,null,null,null,null,null,null,null,null,{"$f":"IFERROR(VLOOKUP(ROWS($CF$3:CF329),$CH$3:$CI$2001,2,FALSE),\"\")","v":""},null,{"$f":"IF(ISNUMBER(SEARCH(B329,CI329)),MAX($CH$2:CH328)+1,0)","v":0},{"$f":"'الرصيد الثابت'!#REF!","v":{"$error":"#REF!"}}]
["",null,{"$f":"IF(B330=\"\",\"\",SUMIF('الرصيد الثابت'!$D$2:$D$106,B330,'الرصيد الثابت'!$H$2:$H$106))","v":""},{"$f":"IF(B330=\"\",\"\",SUMIF('الرصيد الثابت'!$D$2:$D$106,B330,'الرصيد الثابت'!$I$2:$I$106))","v":""},{"$f":"IF(B330=\"\",\"\",SUMIF('الرصيد الثابت'!$D$2:$D$106,B330,'الرصيد الثابت'!$J$2:$J$106))","v":""},null,0,null,null,null,null,0,null,null,null,0,null,0,null,null,null,null,null,null,null,null,null,null,null,null,null,null,null,null,null,null,null,null,null,null,null,null,null,null,null,null,null,null,null,null,null,null,null,null,null,null,null,null,null,null,null,null,null,null,null,null,null,null,null,null,null,null,null,null,null,null,null,null,null,null,null,null,null,{"$f":"IFERROR(VLOOKUP(ROWS($CF$3:CF330),$CH$3:$CI$2001,2,FALSE),\"\")","v":""},null,{"$f":"IF(ISNUMBER(SEARCH(B330,CI330)),MAX($CH$2:CH329)+1,0)","v":0},{"$f":"'الرصيد الثابت'!#REF!","v":{"$error":"#REF!"}}]
["",null,{"$f":"IF(B331=\"\",\"\",SUMIF('الرصيد الثابت'!$D$2:$D$106,B331,'الرصيد الثابت'!$H$2:$H$106))","v":""},{"$f":"IF(B331=\"\",\"\",SUMIF('الرصيد الثابت'!$D$2:$D$106,B331,'الرصيد الثابت'!$I$2:$I$106))","v":""},{"$f":"IF(B331=\"\",\"\",SUMIF('الرصيد الثابت'!$D$2:$D$106,B331,'الرصيد الثابت'!$J$2:$J$106))","v":""},null,0,null,null,null,null,0,null,null,null,0,null,0,null,null,null,null,null,null,null,null,null,null,null,null,null,null,null,null,null,null,null,null,null,null,null,null,null,null,null,null,null,null,null,null,null,null,null,null,null,null,null,null,null,null,null,null,null,null,null,null,null,null,null,null,null,null,null,null,null,null,null,null,null,null,null,null,null,{"$f":"IFERROR(VLOOKUP(ROWS($CF$3:CF331),$CH$3:$CI$2001,2,FALSE),\"\")","v":""},null,{"$f":"IF(ISNUMBER(SEARCH(B331,CI331)),MAX($CH$2:CH330)+1,0)","v":0},{"$f":"'الرصيد الثابت'!#REF!","v":{"$error":"#REF!"}}]
["",null,{"$f":"IF(B332=\"\",\"\",SUMIF('الرصيد الثابت'!$D$2:$D$106,B332,'الرصيد الثابت'!$H$2:$H$106))","v":""},{"$f":"IF(B332=\"\",\"\",SUMIF('الرصيد الثابت'!$D$2:$D$106,B332,'الرصيد الثابت'!$I$2:$I$106))","v":""},{"$f":"IF(B332=\"\",\"\",SUMIF('الرصيد الثابت'!$D$2:$D$106,B332,'الرصيد الثابت'!$J$2:$J$106))","v":""},null,0,null,null,null,null,0,null,null,null,0,null,0,null,null,null,null,null,null,null,null,null,null,null,null,null,null,null,null,null,null,null,null,null,null,null,null,null,null,null,null,null,null,null,null,null,null,null,null,null,null,null,null,null,null,null,null,null,null,null,null,null,null,null,null,null,null,null,null,null,null,null,null,null,null,null,null,null,{"$f":"IFERROR(VLOOKUP(ROWS($CF$3:CF332),$CH$3:$CI$2001,2,FALSE),\"\")","v":""},null,{"$f":"IF(ISNUMBER(SEARCH(B332,CI332)),MAX($CH$2:CH331)+1,0)","v":0},{"$f":"'الرصيد الثابت'!#REF!","v":{"$error":"#REF!"}}]
["",null,{"$f":"IF(B333=\"\",\"\",SUMIF('الرصيد الثابت'!$D$2:$D$106,B333,'الرصيد الثابت'!$H$2:$H$106))","v":""},{"$f":"IF(B333=\"\",\"\",SUMIF('الرصيد الثابت'!$D$2:$D$106,B333,'الرصيد الثابت'!$I$2:$I$106))","v":""},{"$f":"IF(B333=\"\",\"\",SUMIF('الرصيد الثابت'!$D$2:$D$106,B333,'الرصيد الثابت'!$J$2:$J$106))","v":""},null,0,null,null,null,null,0,null,null,null,0,null,0,null,null,null,null,null,null,null,null,null,null,null,null,null,null,null,null,null,null,null,null,null,null,null,null,null,null,null,null,null,null,null,null,null,null,null,null,null,null,null,null,null,null,null,null,null,null,null,null,null,null,null,null,null,null,null,null,null,null,null,null,null,null,null,null,null,{"$f":"IFERROR(VLOOKUP(ROWS($CF$3:CF333),$CH$3:$CI$2001,2,FALSE),\"\")","v":""},null,{"$f":"IF(ISNUMBER(SEARCH(B333,CI333)),MAX($CH$2:CH332)+1,0)","v":0},{"$f":"'الرصيد الثابت'!#REF!","v":{"$error":"#REF!"}}]
["",null,{"$f":"IF(B334=\"\",\"\",SUMIF('الرصيد الثابت'!$D$2:$D$106,B334,'الرصيد الثابت'!$H$2:$H$106))","v":""},{"$f":"IF(B334=\"\",\"\",SUMIF('الرصيد الثابت'!$D$2:$D$106,B334,'الرصيد الثابت'!$I$2:$I$106))","v":""},{"$f":"IF(B334=\"\",\"\",SUMIF('الرصيد الثابت'!$D$2:$D$106,B334,'الرصيد الثابت'!$J$2:$J$106))","v":""},null,0,null,null,null,null,0,null,null,null,0,null,0,null,null,null,null,null,null,null,null,null,null,null,null,null,null,null,null,null,null,null,null,null,null,null,null,null,null,null,null,null,null,null,null,null,null,null,null,null,null,null,null,null,null,null,null,null,null,null,null,null,null,null,null,null,null,null,null,null,null,null,null,null,null,null,null,null,{"$f":"IFERROR(VLOOKUP(ROWS($CF$3:CF334),$CH$3:$CI$2001,2,FALSE),\"\")","v":""},null,{"$f":"IF(ISNUMBER(SEARCH(B334,CI334)),MAX($CH$2:CH333)+1,0)","v":0},{"$f":"'الرصيد الثابت'!#REF!","v":{"$error":"#REF!"}}]
["",null,{"$f":"IF(B335=\"\",\"\",SUMIF('الرصيد الثابت'!$D$2:$D$106,B335,'الرصيد الثابت'!$H$2:$H$106))","v":""},{"$f":"IF(B335=\"\",\"\",SUMIF('الرصيد الثابت'!$D$2:$D$106,B335,'الرصيد الثابت'!$I$2:$I$106))","v":""},{"$f":"IF(B335=\"\",\"\",SUMIF('الرصيد الثابت'!$D$2:$D$106,B335,'الرصيد الثابت'!$J$2:$J$106))","v":""},null,0,null,null,null,null,0,null,null,null,0,null,0,null,null,null,null,null,null,null,null,null,null,null,null,null,null,null,null,null,null,null,null,null,null,null,null,null,null,null,null,null,null,null,null,null,null,null,null,null,null,null,null,null,null,null,null,null,null,null,null,null,null,null,null,null,null,null,null,null,null,null,null,null,null,null,null,null,{"$f":"IFERROR(VLOOKUP(ROWS($CF$3:CF335),$CH$3:$CI$2001,2,FALSE),\"\")","v":""},null,{"$f":"IF(ISNUMBER(SEARCH(B335,CI335)),MAX($CH$2:CH334)+1,0)","v":0},{"$f":"'الرصيد الثابت'!#REF!","v":{"$error":"#REF!"}}]
["",null,{"$f":"IF(B336=\"\",\"\",SUMIF('الرصيد الثابت'!$D$2:$D$106,B336,'الرصيد الثابت'!$H$2:$H$106))","v":""},{"$f":"IF(B336=\"\",\"\",SUMIF('الرصيد الثابت'!$D$2:$D$106,B336,'الرصيد الثابت'!$I$2:$I$106))","v":""},{"$f":"IF(B336=\"\",\"\",SUMIF('الرصيد الثابت'!$D$2:$D$106,B336,'الرصيد الثابت'!$J$2:$J$106))","v":""},null,0,null,null,null,null,0,null,null,null,0,null,0,null,null,null,null,null,null,null,null,null,null,null,null,null,null,null,null,null,null,null,null,null,null,null,null,null,null,null,null,null,null,null,null,null,null,null,null,null,null,null,null,null,null,null,null,null,null,null,null,null,null,null,null,null,null,null,null,null,null,null,null,null,null,null,null,null,{"$f":"IFERROR(VLOOKUP(ROWS($CF$3:CF336),$CH$3:$CI$2001,2,FALSE),\"\")","v":""},null,{"$f":"IF(ISNUMBER(SEARCH(B336,CI336)),MAX($CH$2:CH335)+1,0)","v":0},{"$f":"'الرصيد الثابت'!#REF!","v":{"$error":"#REF!"}}]
["",null,{"$f":"IF(B337=\"\",\"\",SUMIF('الرصيد الثابت'!$D$2:$D$106,B337,'الرصيد الثابت'!$H$2:$H$106))","v":""},{"$f":"IF(B337=\"\",\"\",SUMIF('الرصيد الثابت'!$D$2:$D$106,B337,'الرصيد الثابت'!$I$2:$I$106))","v":""},{"$f":"IF(B337=\"\",\"\",SUMIF('الرصيد الثابت'!$D$2:$D$106,B337,'الرصيد الثابت'!$J$2:$J$106))","v":""},null,0,null,null,null,null,0,null,null,null,0,null,0,null,null,null,null,null,null,null,null,null,null,null,null,null,null,null,null,null,null,null,null,null,null,null,null,null,null,null,null,null,null,null,null,null,null,null,null,null,null,null,null,null,null,null,null,null,null,null,null,null,null,null,null,null,null,null,null,null,null,null,null,null,null,null,null,null,{"$f":"IFERROR(VLOOKUP(ROWS($CF$3:CF337),$CH$3:$CI$2001,2,FALSE),\"\")","v":""},null,{"$f":"IF(ISNUMBER(SEARCH(B337,CI337)),MAX($CH$2:CH336)+1,0)","v":0},{"$f":"'الرصيد الثابت'!#REF!","v":{"$error":"#REF!"}}]
["",null,{"$f":"IF(B338=\"\",\"\",SUMIF('الرصيد الثابت'!$D$2:$D$106,B338,'الرصيد الثابت'!$H$2:$H$106))","v":""},{"$f":"IF(B338=\"\",\"\",SUMIF('الرصيد الثابت'!$D$2:$D$106,B338,'الرصيد الثابت'!$I$2:$I$106))","v":""},{"$f":"IF(B338=\"\",\"\",SUMIF('الرصيد الثابت'!$D$2:$D$106,B338,'الرصيد الثابت'!$J$2:$J$106))","v":""},null,0,null,null,null,null,0,null,null,null,0,null,0,null,null,null,null,null,null,null,null,null,null,null,null,null,null,null,null,null,null,null,null,null,null,null,null,null,null,null,null,null,null,null,null,null,null,null,null,null,null,null,null,null,null,null,null,null,null,null,null,null,null,null,null,null,null,null,null,null,null,null,null,null,null,null,null,null,{"$f":"IFERROR(VLOOKUP(ROWS($CF$3:CF338),$CH$3:$CI$2001,2,FALSE),\"\")","v":""},null,{"$f":"IF(ISNUMBER(SEARCH(B338,CI338)),MAX($CH$2:CH337)+1,0)","v":0},{"$f":"'الرصيد الثابت'!#REF!","v":{"$error":"#REF!"}}]
["",null,{"$f":"IF(B339=\"\",\"\",SUMIF('الرصيد الثابت'!$D$2:$D$106,B339,'الرصيد الثابت'!$H$2:$H$106))","v":""},{"$f":"IF(B339=\"\",\"\",SUMIF('الرصيد الثابت'!$D$2:$D$106,B339,'الرصيد الثابت'!$I$2:$I$106))","v":""},{"$f":"IF(B339=\"\",\"\",SUMIF('الرصيد الثابت'!$D$2:$D$106,B339,'الرصيد الثابت'!$J$2:$J$106))","v":""},null,0,null,null,null,null,0,null,null,null,0,null,0,null,null,null,null,null,null,null,null,null,null,null,null,null,null,null,null,null,null,null,null,null,null,null,null,null,null,null,null,null,null,null,null,null,null,null,null,null,null,null,null,null,null,null,null,null,null,null,null,null,null,null,null,null,null,null,null,null,null,null,null,null,null,null,null,null,{"$f":"IFERROR(VLOOKUP(ROWS($CF$3:CF339),$CH$3:$CI$2001,2,FALSE),\"\")","v":""},null,{"$f":"IF(ISNUMBER(SEARCH(B339,CI339)),MAX($CH$2:CH338)+1,0)","v":0},{"$f":"'الرصيد الثابت'!#REF!","v":{"$error":"#REF!"}}]
["",null,{"$f":"IF(B340=\"\",\"\",SUMIF('الرصيد الثابت'!$D$2:$D$106,B340,'الرصيد الثابت'!$H$2:$H$106))","v":""},{"$f":"IF(B340=\"\",\"\",SUMIF('الرصيد الثابت'!$D$2:$D$106,B340,'الرصيد الثابت'!$I$2:$I$106))","v":""},{"$f":"IF(B340=\"\",\"\",SUMIF('الرصيد الثابت'!$D$2:$D$106,B340,'الرصيد الثابت'!$J$2:$J$106))","v":""},null,0,null,null,null,null,0,null,null,null,0,null,0,null,null,null,null,null,null,null,null,null,null,null,null,null,null,null,null,null,null,null,null,null,null,null,null,null,null,null,null,null,null,null,null,null,null,null,null,null,null,null,null,null,null,null,null,null,null,null,null,null,null,null,null,null,null,null,null,null,null,null,null,null,null,null,null,null,{"$f":"IFERROR(VLOOKUP(ROWS($CF$3:CF340),$CH$3:$CI$2001,2,FALSE),\"\")","v":""},null,{"$f":"IF(ISNUMBER(SEARCH(B340,CI340)),MAX($CH$2:CH339)+1,0)","v":0},{"$f":"'الرصيد الثابت'!#REF!","v":{"$error":"#REF!"}}]
["",null,{"$f":"IF(B341=\"\",\"\",SUMIF('الرصيد الثابت'!$D$2:$D$106,B341,'الرصيد الثابت'!$H$2:$H$106))","v":""},{"$f":"IF(B341=\"\",\"\",SUMIF('الرصيد الثابت'!$D$2:$D$106,B341,'الرصيد الثابت'!$I$2:$I$106))","v":""},{"$f":"IF(B341=\"\",\"\",SUMIF('الرصيد الثابت'!$D$2:$D$106,B341,'الرصيد الثابت'!$J$2:$J$106))","v":""},null,0,null,null,null,null,0,null,null,null,0,null,0,null,null,null,null,null,null,null,null,null,null,null,null,null,null,null,null,null,null,null,null,null,null,null,null,null,null,null,null,null,null,null,null,null,null,null,null,null,null,null,null,null,null,null,null,null,null,null,null,null,null,null,null,null,null,null,null,null,null,null,null,null,null,null,null,null,{"$f":"IFERROR(VLOOKUP(ROWS($CF$3:CF341),$CH$3:$CI$2001,2,FALSE),\"\")","v":""},null,{"$f":"IF(ISNUMBER(SEARCH(B341,CI341)),MAX($CH$2:CH340)+1,0)","v":0},{"$f":"'الرصيد الثابت'!#REF!","v":{"$error":"#REF!"}}]
["",null,{"$f":"IF(B342=\"\",\"\",SUMIF('الرصيد الثابت'!$D$2:$D$106,B342,'الرصيد الثابت'!$H$2:$H$106))","v":""},{"$f":"IF(B342=\"\",\"\",SUMIF('الرصيد الثابت'!$D$2:$D$106,B342,'الرصيد الثابت'!$I$2:$I$106))","v":""},{"$f":"IF(B342=\"\",\"\",SUMIF('الرصيد الثابت'!$D$2:$D$106,B342,'الرصيد الثابت'!$J$2:$J$106))","v":""},null,0,null,null,null,null,0,null,null,null,0,null,0,null,null,null,null,null,null,null,null,null,null,null,null,null,null,null,null,null,null,null,null,null,null,null,null,null,null,null,null,null,null,null,null,null,null,null,null,null,null,null,null,null,null,null,null,null,null,null,null,null,null,null,null,null,null,null,null,null,null,null,null,null,null,null,null,null,{"$f":"IFERROR(VLOOKUP(ROWS($CF$3:CF342),$CH$3:$CI$2001,2,FALSE),\"\")","v":""},null,{"$f":"IF(ISNUMBER(SEARCH(B342,CI342)),MAX($CH$2:CH341)+1,0)","v":0},{"$f":"'الرصيد الثابت'!#REF!","v":{"$error":"#REF!"}}]
["",null,{"$f":"IF(B343=\"\",\"\",SUMIF('الرصيد الثابت'!$D$2:$D$106,B343,'الرصيد الثابت'!$H$2:$H$106))","v":""},{"$f":"IF(B343=\"\",\"\",SUMIF('الرصيد الثابت'!$D$2:$D$106,B343,'الرصيد الثابت'!$I$2:$I$106))","v":""},{"$f":"IF(B343=\"\",\"\",SUMIF('الرصيد الثابت'!$D$2:$D$106,B343,'الرصيد الثابت'!$J$2:$J$106))","v":""},null,0,null,null,null,null,0,null,null,null,0,null,0,null,null,null,null,null,null,null,null,null,null,null,null,null,null,null,null,null,null,null,null,null,null,null,null,null,null,null,null,null,null,null,null,null,null,null,null,null,null,null,null,null,null,null,null,null,null,null,null,null,null,null,null,null,null,null,null,null,null,null,null,null,null,null,null,null,{"$f":"IFERROR(VLOOKUP(ROWS($CF$3:CF343),$CH$3:$CI$2001,2,FALSE),\"\")","v":""},null,{"$f":"IF(ISNUMBER(SEARCH(B343,CI343)),MAX($CH$2:CH342)+1,0)","v":0},{"$f":"'الرصيد الثابت'!#REF!","v":{"$error":"#REF!"}}]
["",null,{"$f":"IF(B344=\"\",\"\",SUMIF('الرصيد الثابت'!$D$2:$D$106,B344,'الرصيد الثابت'!$H$2:$H$106))","v":""},{"$f":"IF(B344=\"\",\"\",SUMIF('الرصيد الثابت'!$D$2:$D$106,B344,'الرصيد الثابت'!$I$2:$I$106))","v":""},{"$f":"IF(B344=\"\",\"\",SUMIF('الرصيد الثابت'!$D$2:$D$106,B344,'الرصيد الثابت'!$J$2:$J$106))","v":""},null,0,null,null,null,null,0,null,null,null,0,null,0,null,null,null,null,null,null,null,null,null,null,null,null,null,null,null,null,null,null,null,null,null,null,null,null,null,null,null,null,null,null,null,null,null,null,null,null,null,null,null,null,null,null,null,null,null,null,null,null,null,null,null,null,null,null,null,null,null,null,null,null,null,null,null,null,null,{"$f":"IFERROR(VLOOKUP(ROWS($CF$3:CF344),$CH$3:$CI$2001,2,FALSE),\"\")","v":""},null,{"$f":"IF(ISNUMBER(SEARCH(B344,CI344)),MAX($CH$2:CH343)+1,0)","v":0},{"$f":"'الرصيد الثابت'!#REF!","v":{"$error":"#REF!"}}]
["",null,{"$f":"IF(B345=\"\",\"\",SUMIF('الرصيد الثابت'!$D$2:$D$106,B345,'الرصيد الثابت'!$H$2:$H$106))","v":""},{"$f":"IF(B345=\"\",\"\",SUMIF('الرصيد الثابت'!$D$2:$D$106,B345,'الرصيد الثابت'!$I$2:$I$106))","v":""},{"$f":"IF(B345=\"\",\"\",SUMIF('الرصيد الثابت'!$D$2:$D$106,B345,'الرصيد الثابت'!$J$2:$J$106))","v":""},null,0,null,null,null,null,0,null,null,null,0,null,0,null,null,null,null,null,null,null,null,null,null,null,null,null,null,null,null,null,null,null,null,null,null,null,null,null,null,null,null,null,null,null,null,null,null,null,null,null,null,null,null,null,null,null,null,null,null,null,null,null,null,null,null,null,null,null,null,null,null,null,null,null,null,null,null,null,{"$f":"IFERROR(VLOOKUP(ROWS($CF$3:CF345),$CH$3:$CI$2001,2,FALSE),\"\")","v":""},null,{"$f":"IF(ISNUMBER(SEARCH(B345,CI345)),MAX($CH$2:CH344)+1,0)","v":0},{"$f":"'الرصيد الثابت'!#REF!","v":{"$error":"#REF!"}}]
["",null,{"$f":"IF(B346=\"\",\"\",SUMIF('الرصيد الثابت'!$D$2:$D$106,B346,'الرصيد الثابت'!$H$2:$H$106))","v":""},{"$f":"IF(B346=\"\",\"\",SUMIF('الرصيد الثابت'!$D$2:$D$106,B346,'الرصيد الثابت'!$I$2:$I$106))","v":""},{"$f":"IF(B346=\"\",\"\",SUMIF('الرصيد الثابت'!$D$2:$D$106,B346,'الرصيد الثابت'!$J$2:$J$106))","v":""},null,0,null,null,null,null,0,null,null,null,0,null,0,null,null,null,null,null,null,null,null,null,null,null,null,null,null,null,null,null,null,null,null,null,null,null,null,null,null,null,null,null,null,null,null,null,null,null,null,null,null,null,null,null,null,null,null,null,null,null,null,null,null,null,null,null,null,null,null,null,null,null,null,null,null,null,null,null,{"$f":"IFERROR(VLOOKUP(ROWS($CF$3:CF346),$CH$3:$CI$2001,2,FALSE),\"\")","v":""},null,{"$f":"IF(ISNUMBER(SEARCH(B346,CI346)),MAX($CH$2:CH345)+1,0)","v":0},{"$f":"'الرصيد الثابت'!#REF!","v":{"$error":"#REF!"}}]
["",null,{"$f":"IF(B347=\"\",\"\",SUMIF('الرصيد الثابت'!$D$2:$D$106,B347,'الرصيد الثابت'!$H$2:$H$106))","v":""},{"$f":"IF(B347=\"\",\"\",SUMIF('الرصيد الثابت'!$D$2:$D$106,B347,'الرصيد الثابت'!$I$2:$I$106))","v":""},{"$f":"IF(B347=\"\",\"\",SUMIF('الرصيد الثابت'!$D$2:$D$106,B347,'الرصيد الثابت'!$J$2:$J$106))","v":""},null,0,null,null,null,null,0,null,null,null,0,null,0,null,null,null,null,null,null,null,null,null,null,null,null,null,null,null,null,null,null,null,null,null,null,null,null,null,null,null,null,null,null,null,null,null,null,null,null,null,null,null,null,null,null,null,null,null,null,null,null,null,null,null,null,null,null,null,null,null,null,null,null,null,null,null,null,null,{"$f":"IFERROR(VLOOKUP(ROWS($CF$3:CF347),$CH$3:$CI$2001,2,FALSE),\"\")","v":""},null,{"$f":"IF(ISNUMBER(SEARCH(B347,CI347)),MAX($CH$2:CH346)+1,0)","v":0},{"$f":"'الرصيد الثابت'!#REF!","v":{"$error":"#REF!"}}]
["",null,{"$f":"IF(B348=\"\",\"\",SUMIF('الرصيد الثابت'!$D$2:$D$106,B348,'الرصيد الثابت'!$H$2:$H$106))","v":""},{"$f":"IF(B348=\"\",\"\",SUMIF('الرصيد الثابت'!$D$2:$D$106,B348,'الرصيد الثابت'!$I$2:$I$106))","v":""},{"$f":"IF(B348=\"\",\"\",SUMIF('الرصيد الثابت'!$D$2:$D$106,B348,'الرصيد الثابت'!$J$2:$J$106))","v":""},null,0,null,null,null,null,0,null,null,null,0,null,0,null,null,null,null,null,null,null,null,null,null,null,null,null,null,null,null,null,null,null,null,null,null,null,null,null,null,null,null,null,null,null,null,null,null,null,null,null,null,null,null,null,null,null,null,null,null,null,null,null,null,null,null,null,null,null,null,null,null,null,null,null,null,null,null,null,{"$f":"IFERROR(VLOOKUP(ROWS($CF$3:CF348),$CH$3:$CI$2001,2,FALSE),\"\")","v":""},null,{"$f":"IF(ISNUMBER(SEARCH(B348,CI348)),MAX($CH$2:CH347)+1,0)","v":0},{"$f":"'الرصيد الثابت'!#REF!","v":{"$error":"#REF!"}}]
["",null,{"$f":"IF(B349=\"\",\"\",SUMIF('الرصيد الثابت'!$D$2:$D$106,B349,'الرصيد الثابت'!$H$2:$H$106))","v":""},{"$f":"IF(B349=\"\",\"\",SUMIF('الرصيد الثابت'!$D$2:$D$106,B349,'الرصيد الثابت'!$I$2:$I$106))","v":""},{"$f":"IF(B349=\"\",\"\",SUMIF('الرصيد الثابت'!$D$2:$D$106,B349,'الرصيد الثابت'!$J$2:$J$106))","v":""},null,0,null,null,null,null,0,null,null,null,0,null,0,null,null,null,null,null,null,null,null,null,null,null,null,null,null,null,null,null,null,null,null,null,null,null,null,null,null,null,null,null,null,null,null,null,null,null,null,null,null,null,null,null,null,null,null,null,null,null,null,null,null,null,null,null,null,null,null,null,null,null,null,null,null,null,null,null,{"$f":"IFERROR(VLOOKUP(ROWS($CF$3:CF349),$CH$3:$CI$2001,2,FALSE),\"\")","v":""},null,{"$f":"IF(ISNUMBER(SEARCH(B349,CI349)),MAX($CH$2:CH348)+1,0)","v":0},{"$f":"'الرصيد الثابت'!#REF!","v":{"$error":"#REF!"}}]
["",null,{"$f":"IF(B350=\"\",\"\",SUMIF('الرصيد الثابت'!$D$2:$D$106,B350,'الرصيد الثابت'!$H$2:$H$106))","v":""},{"$f":"IF(B350=\"\",\"\",SUMIF('الرصيد الثابت'!$D$2:$D$106,B350,'الرصيد الثابت'!$I$2:$I$106))","v":""},{"$f":"IF(B350=\"\",\"\",SUMIF('الرصيد الثابت'!$D$2:$D$106,B350,'الرصيد الثابت'!$J$2:$J$106))","v":""},null,0,null,null,null,null,0,null,null,null,0,null,0,null,null,null,null,null,null,null,null,null,null,null,null,null,null,null,null,null,null,null,null,null,null,null,null,null,null,null,null,null,null,null,null,null,null,null,null,null,null,null,null,null,null,null,null,null,null,null,null,null,null,null,null,null,null,null,null,null,null,null,null,null,null,null,null,null,{"$f":"IFERROR(VLOOKUP(ROWS($CF$3:CF350),$CH$3:$CI$2001,2,FALSE),\"\")","v":""},null,{"$f":"IF(ISNUMBER(SEARCH(B350,CI350)),MAX($CH$2:CH349)+1,0)","v":0},{"$f":"'الرصيد الثابت'!#REF!","v":{"$error":"#REF!"}}]
["",null,{"$f":"IF(B351=\"\",\"\",SUMIF('الرصيد الثابت'!$D$2:$D$106,B351,'الرصيد الثابت'!$H$2:$H$106))","v":""},{"$f":"IF(B351=\"\",\"\",SUMIF('الرصيد الثابت'!$D$2:$D$106,B351,'الرصيد الثابت'!$I$2:$I$106))","v":""},{"$f":"IF(B351=\"\",\"\",SUMIF('الرصيد الثابت'!$D$2:$D$106,B351,'الرصيد الثابت'!$J$2:$J$106))","v":""},null,0,null,null,null,null,0,null,null,null,0,null,0,null,null,null,null,null,null,null,null,null,null,null,null,null,null,null,null,null,null,null,null,null,null,null,null,null,null,null,null,null,null,null,null,null,null,null,null,null,null,null,null,null,null,null,null,null,null,null,null,null,null,null,null,null,null,null,null,null,null,null,null,null,null,null,null,null,{"$f":"IFERROR(VLOOKUP(ROWS($CF$3:CF351),$CH$3:$CI$2001,2,FALSE),\"\")","v":""},null,{"$f":"IF(ISNUMBER(SEARCH(B351,CI351)),MAX($CH$2:CH350)+1,0)","v":0},{"$f":"'الرصيد الثابت'!#REF!","v":{"$error":"#REF!"}}]
[{"$f":"IF(B24590<>\"\",IF(A24590=\"\",NOW(),A24590),\"\")","v":""},null,{"$f":"IF(B352=\"\",\"\",SUMIF('الرصيد الثابت'!$D$2:$D$106,B352,'الرصيد الثابت'!$H$2:$H$106))","v":""},{"$f":"IF(B352=\"\",\"\",SUMIF('الرصيد الثابت'!$D$2:$D$106,B352,'الرصيد الثابت'!$I$2:$I$106))","v":""},{"$f":"IF(B352=\"\",\"\",SUMIF('الرصيد الثابت'!$D$2:$D$106,B352,'الرصيد الثابت'!$J$2:$J$106))","v":""},null,{"$f":"SUM(H24590*F24590)","v":0},null,null,null,null,0,null,null,null,{"$f":"SUM(F24590-K24590)","v":0},null,{"$f":"SUM(S24590*Q24590)","v":0},null,null,null,null,null,null,null,null,null,null,null,null,null,null,null,null,null,null,null,null,null,null,null,null,null,null,null,null,null,null,null,null,null,null,null,null,null,null,null,null,null,null,null,null,null,null,null,null,null,null,null,null,null,null,null,null,null,null,null,null,null,null,null,null,null,{"$f":"IFERROR(VLOOKUP(ROWS($CF$3:CF352),$CH$3:$CI$2001,2,FALSE),\"\")","v":""},null,{"$f":"IF(ISNUMBER(SEARCH(B352,CI352)),MAX($CH$2:CH351)+1,0)","v":0},{"$f":"'الرصيد الثابت'!#REF!","v":{"$error":"#REF!"}}]
["",null,{"$f":"IF(B353=\"\",\"\",SUMIF('الرصيد الثابت'!$D$2:$D$106,B353,'الرصيد الثابت'!$H$2:$H$106))","v":""},{"$f":"IF(B353=\"\",\"\",SUMIF('الرصيد الثابت'!$D$2:$D$106,B353,'الرصيد الثابت'!$I$2:$I$106))","v":""},{"$f":"IF(B353=\"\",\"\",SUMIF('الرصيد الثابت'!$D$2:$D$106,B353,'الرصيد الثابت'!$J$2:$J$106))","v":""},null,0,null,null,null,null,0,null,null,null,0,null,0,null,null,null,null,null,null,null,null,null,null,null,null,null,null,null,null,null,null,null,null,null,null,null,null,null,null,null,null,null,null,null,null,null,null,null,null,null,null,null,null,null,null,null,null,null,null,null,null,null,null,null,null,null,null,null,null,null,null,null,null,null,null,null,null,null,{"$f":"IFERROR(VLOOKUP(ROWS($CF$3:CF353),$CH$3:$CI$2001,2,FALSE),\"\")","v":""},null,{"$f":"IF(ISNUMBER(SEARCH(B353,CI353)),MAX($CH$2:CH352)+1,0)","v":0},{"$f":"'الرصيد الثابت'!#REF!","v":{"$error":"#REF!"}}]
["",null,{"$f":"IF(B354=\"\",\"\",SUMIF('الرصيد الثابت'!$D$2:$D$106,B354,'الرصيد الثابت'!$H$2:$H$106))","v":""},{"$f":"IF(B354=\"\",\"\",SUMIF('الرصيد الثابت'!$D$2:$D$106,B354,'الرصيد الثابت'!$I$2:$I$106))","v":""},{"$f":"IF(B354=\"\",\"\",SUMIF('الرصيد الثابت'!$D$2:$D$106,B354,'الرصيد الثابت'!$J$2:$J$106))","v":""},null,0,null,null,null,null,0,null,null,null,0,null,0,null,null,null,null,null,null,null,null,null,null,null,null,null,null,null,null,null,null,null,null,null,null,null,null,null,null,null,null,null,null,null,null,null,null,null,null,null,null,null,null,null,null,null,null,null,null,null,null,null,null,null,null,null,null,null,null,null,null,null,null,null,null,null,null,null,{"$f":"IFERROR(VLOOKUP(ROWS($CF$3:CF354),$CH$3:$CI$2001,2,FALSE),\"\")","v":""},null,{"$f":"IF(ISNUMBER(SEARCH(B354,CI354)),MAX($CH$2:CH353)+1,0)","v":0},{"$f":"'الرصيد الثابت'!#REF!","v":{"$error":"#REF!"}}]
["",null,{"$f":"IF(B355=\"\",\"\",SUMIF('الرصيد الثابت'!$D$2:$D$106,B355,'الرصيد الثابت'!$H$2:$H$106))","v":""},{"$f":"IF(B355=\"\",\"\",SUMIF('الرصيد الثابت'!$D$2:$D$106,B355,'الرصيد الثابت'!$I$2:$I$106))","v":""},{"$f":"IF(B355=\"\",\"\",SUMIF('الرصيد الثابت'!$D$2:$D$106,B355,'الرصيد الثابت'!$J$2:$J$106))","v":""},null,0,null,null,null,null,0,null,null,null,0,null,0,null,null,null,null,null,null,null,null,null,null,null,null,null,null,null,null,null,null,null,null,null,null,null,null,null,null,null,null,null,null,null,null,null,null,null,null,null,null,null,null,null,null,null,null,null,null,null,null,null,null,null,null,null,null,null,null,null,null,null,null,null,null,null,null,null,{"$f":"IFERROR(VLOOKUP(ROWS($CF$3:CF355),$CH$3:$CI$2001,2,FALSE),\"\")","v":""},null,{"$f":"IF(ISNUMBER(SEARCH(B355,CI355)),MAX($CH$2:CH354)+1,0)","v":0},{"$f":"'الرصيد الثابت'!#REF!","v":{"$error":"#REF!"}}]
["",null,{"$f":"IF(B356=\"\",\"\",SUMIF('الرصيد الثابت'!$D$2:$D$106,B356,'الرصيد الثابت'!$H$2:$H$106))","v":""},{"$f":"IF(B356=\"\",\"\",SUMIF('الرصيد الثابت'!$D$2:$D$106,B356,'الرصيد الثابت'!$I$2:$I$106))","v":""},{"$f":"IF(B356=\"\",\"\",SUMIF('الرصيد الثابت'!$D$2:$D$106,B356,'الرصيد الثابت'!$J$2:$J$106))","v":""},null,0,null,null,null,null,0,null,null,null,0,null,0,null,null,null,null,null,null,null,null,null,null,null,null,null,null,null,null,null,null,null,null,null,null,null,null,null,null,null,null,null,null,null,null,null,null,null,null,null,null,null,null,null,null,null,null,null,null,null,null,null,null,null,null,null,null,null,null,null,null,null,null,null,null,null,null,null,{"$f":"IFERROR(VLOOKUP(ROWS($CF$3:CF356),$CH$3:$CI$2001,2,FALSE),\"\")","v":""},null,{"$f":"IF(ISNUMBER(SEARCH(B356,CI356)),MAX($CH$2:CH355)+1,0)","v":0},{"$f":"'الرصيد الثابت'!#REF!","v":{"$error":"#REF!"}}]
["",null,{"$f":"IF(B357=\"\",\"\",SUMIF('الرصيد الثابت'!$D$2:$D$106,B357,'الرصيد الثابت'!$H$2:$H$106))","v":""},{"$f":"IF(B357=\"\",\"\",SUMIF('الرصيد الثابت'!$D$2:$D$106,B357,'الرصيد الثابت'!$I$2:$I$106))","v":""},{"$f":"IF(B357=\"\",\"\",SUMIF('الرصيد الثابت'!$D$2:$D$106,B357,'الرصيد الثابت'!$J$2:$J$106))","v":""},null,0,null,null,null,null,0,null,null,null,0,null,0,null,null,null,null,null,null,null,null,null,null,null,null,null,null,null,null,null,null,null,null,null,null,null,null,null,null,null,null,null,null,null,null,null,null,null,null,null,null,null,null,null,null,null,null,null,null,null,null,null,null,null,null,null,null,null,null,null,null,null,null,null,null,null,null,null,{"$f":"IFERROR(VLOOKUP(ROWS($CF$3:CF357),$CH$3:$CI$2001,2,FALSE),\"\")","v":""},null,{"$f":"IF(ISNUMBER(SEARCH(B357,CI357)),MAX($CH$2:CH356)+1,0)","v":0},{"$f":"'الرصيد الثابت'!#REF!","v":{"$error":"#REF!"}}]
["",null,{"$f":"IF(B358=\"\",\"\",SUMIF('الرصيد الثابت'!$D$2:$D$106,B358,'الرصيد الثابت'!$H$2:$H$106))","v":""},{"$f":"IF(B358=\"\",\"\",SUMIF('الرصيد الثابت'!$D$2:$D$106,B358,'الرصيد الثابت'!$I$2:$I$106))","v":""},{"$f":"IF(B358=\"\",\"\",SUMIF('الرصيد الثابت'!$D$2:$D$106,B358,'الرصيد الثابت'!$J$2:$J$106))","v":""},null,0,null,null,null,null,0,null,null,null,0,null,0,null,null,null,null,null,null,null,null,null,null,null,null,null,null,null,null,null,null,null,null,null,null,null,null,null,null,null,null,null,null,null,null,null,null,null,null,null,null,null,null,null,null,null,null,null,null,null,null,null,null,null,null,null,null,null,null,null,null,null,null,null,null,null,null,null,{"$f":"IFERROR(VLOOKUP(ROWS($CF$3:CF358),$CH$3:$CI$2001,2,FALSE),\"\")","v":""},null,{"$f":"IF(ISNUMBER(SEARCH(B358,CI358)),MAX($CH$2:CH357)+1,0)","v":0},{"$f":"'الرصيد الثابت'!#REF!","v":{"$error":"#REF!"}}]
["",null,{"$f":"IF(B359=\"\",\"\",SUMIF('الرصيد الثابت'!$D$2:$D$106,B359,'الرصيد الثابت'!$H$2:$H$106))","v":""},{"$f":"IF(B359=\"\",\"\",SUMIF('الرصيد الثابت'!$D$2:$D$106,B359,'الرصيد الثابت'!$I$2:$I$106))","v":""},{"$f":"IF(B359=\"\",\"\",SUMIF('الرصيد الثابت'!$D$2:$D$106,B359,'الرصيد الثابت'!$J$2:$J$106))","v":""},null,0,null,null,null,null,0,null,null,null,0,null,0,null,null,null,null,null,null,null,null,null,null,null,null,null,null,null,null,null,null,null,null,null,null,null,null,null,null,null,null,null,null,null,null,null,null,null,null,null,null,null,null,null,null,null,null,null,null,null,null,null,null,null,null,null,null,null,null,null,null,null,null,null,null,null,null,null,{"$f":"IFERROR(VLOOKUP(ROWS($CF$3:CF359),$CH$3:$CI$2001,2,FALSE),\"\")","v":""},null,{"$f":"IF(ISNUMBER(SEARCH(B359,CI359)),MAX($CH$2:CH358)+1,0)","v":0},{"$f":"'الرصيد الثابت'!#REF!","v":{"$error":"#REF!"}}]
["",null,{"$f":"IF(B360=\"\",\"\",SUMIF('الرصيد الثابت'!$D$2:$D$106,B360,'الرصيد الثابت'!$H$2:$H$106))","v":""},{"$f":"IF(B360=\"\",\"\",SUMIF('الرصيد الثابت'!$D$2:$D$106,B360,'الرصيد الثابت'!$I$2:$I$106))","v":""},{"$f":"IF(B360=\"\",\"\",SUMIF('الرصيد الثابت'!$D$2:$D$106,B360,'الرصيد الثابت'!$J$2:$J$106))","v":""},null,0,null,null,null,null,0,null,null,null,0,null,0,null,null,null,null,null,null,null,null,null,null,null,null,null,null,null,null,null,null,null,null,null,null,null,null,null,null,null,null,null,null,null,null,null,null,null,null,null,null,null,null,null,null,null,null,null,null,null,null,null,null,null,null,null,null,null,null,null,null,null,null,null,null,null,null,null,{"$f":"IFERROR(VLOOKUP(ROWS($CF$3:CF360),$CH$3:$CI$2001,2,FALSE),\"\")","v":""},null,{"$f":"IF(ISNUMBER(SEARCH(B360,CI360)),MAX($CH$2:CH359)+1,0)","v":0},{"$f":"'الرصيد الثابت'!#REF!","v":{"$error":"#REF!"}}]
["",null,{"$f":"IF(B361=\"\",\"\",SUMIF('الرصيد الثابت'!$D$2:$D$106,B361,'الرصيد الثابت'!$H$2:$H$106))","v":""},{"$f":"IF(B361=\"\",\"\",SUMIF('الرصيد الثابت'!$D$2:$D$106,B361,'الرصيد الثابت'!$I$2:$I$106))","v":""},{"$f":"IF(B361=\"\",\"\",SUMIF('الرصيد الثابت'!$D$2:$D$106,B361,'الرصيد الثابت'!$J$2:$J$106))","v":""},null,0,null,null,null,null,0,null,null,null,0,null,0,null,null,null,null,null,null,null,null,null,null,null,null,null,null,null,null,null,null,null,null,null,null,null,null,null,null,null,null,null,null,null,null,null,null,null,null,null,null,null,null,null,null,null,null,null,null,null,null,null,null,null,null,null,null,null,null,null,null,null,null,null,null,null,null,null,{"$f":"IFERROR(VLOOKUP(ROWS($CF$3:CF361),$CH$3:$CI$2001,2,FALSE),\"\")","v":""},null,{"$f":"IF(ISNUMBER(SEARCH(B361,CI361)),MAX($CH$2:CH360)+1,0)","v":0},{"$f":"'الرصيد الثابت'!#REF!","v":{"$error":"#REF!"}}]
["",null,{"$f":"IF(B362=\"\",\"\",SUMIF('الرصيد الثابت'!$D$2:$D$106,B362,'الرصيد الثابت'!$H$2:$H$106))","v":""},{"$f":"IF(B362=\"\",\"\",SUMIF('الرصيد الثابت'!$D$2:$D$106,B362,'الرصيد الثابت'!$I$2:$I$106))","v":""},{"$f":"IF(B362=\"\",\"\",SUMIF('الرصيد الثابت'!$D$2:$D$106,B362,'الرصيد الثابت'!$J$2:$J$106))","v":""},null,0,null,null,null,null,0,null,null,null,0,null,0,null,null,null,null,null,null,null,null,null,null,null,null,null,null,null,null,null,null,null,null,null,null,null,null,null,null,null,null,null,null,null,null,null,null,null,null,null,null,null,null,null,null,null,null,null,null,null,null,null,null,null,null,null,null,null,null,null,null,null,null,null,null,null,null,null,{"$f":"IFERROR(VLOOKUP(ROWS($CF$3:CF362),$CH$3:$CI$2001,2,FALSE),\"\")","v":""},null,{"$f":"IF(ISNUMBER(SEARCH(B362,CI362)),MAX($CH$2:CH361)+1,0)","v":0},{"$f":"'الرصيد الثابت'!#REF!","v":{"$error":"#REF!"}}]
["",null,{"$f":"IF(B363=\"\",\"\",SUMIF('الرصيد الثابت'!$D$2:$D$106,B363,'الرصيد الثابت'!$H$2:$H$106))","v":""},{"$f":"IF(B363=\"\",\"\",SUMIF('الرصيد الثابت'!$D$2:$D$106,B363,'الرصيد الثابت'!$I$2:$I$106))","v":""},{"$f":"IF(B363=\"\",\"\",SUMIF('الرصيد الثابت'!$D$2:$D$106,B363,'الرصيد الثابت'!$J$2:$J$106))","v":""},null,0,null,null,null,null,0,null,null,null,0,null,0,null,null,null,null,null,null,null,null,null,null,null,null,null,null,null,null,null,null,null,null,null,null,null,null,null,null,null,null,null,null,null,null,null,null,null,null,null,null,null,null,null,null,null,null,null,null,null,null,null,null,null,null,null,null,null,null,null,null,null,null,null,null,null,null,null,{"$f":"IFERROR(VLOOKUP(ROWS($CF$3:CF363),$CH$3:$CI$2001,2,FALSE),\"\")","v":""},null,{"$f":"IF(ISNUMBER(SEARCH(B363,CI363)),MAX($CH$2:CH362)+1,0)","v":0},{"$f":"'الرصيد الثابت'!#REF!","v":{"$error":"#REF!"}}]
["",null,{"$f":"IF(B364=\"\",\"\",SUMIF('الرصيد الثابت'!$D$2:$D$106,B364,'الرصيد الثابت'!$H$2:$H$106))","v":""},{"$f":"IF(B364=\"\",\"\",SUMIF('الرصيد الثابت'!$D$2:$D$106,B364,'الرصيد الثابت'!$I$2:$I$106))","v":""},{"$f":"IF(B364=\"\",\"\",SUMIF('الرصيد الثابت'!$D$2:$D$106,B364,'الرصيد الثابت'!$J$2:$J$106))","v":""},null,0,null,null,null,null,0,null,null,null,0,null,0,null,null,null,null,null,null,null,null,null,null,null,null,null,null,null,null,null,null,null,null,null,null,null,null,null,null,null,null,null,null,null,null,null,null,null,null,null,null,null,null,null,null,null,null,null,null,null,null,null,null,null,null,null,null,null,null,null,null,null,null,null,null,null,null,null,{"$f":"IFERROR(VLOOKUP(ROWS($CF$3:CF364),$CH$3:$CI$2001,2,FALSE),\"\")","v":""},null,{"$f":"IF(ISNUMBER(SEARCH(B364,CI364)),MAX($CH$2:CH363)+1,0)","v":0},{"$f":"'الرصيد الثابت'!#REF!","v":{"$error":"#REF!"}}]
["",null,{"$f":"IF(B365=\"\",\"\",SUMIF('الرصيد الثابت'!$D$2:$D$106,B365,'الرصيد الثابت'!$H$2:$H$106))","v":""},{"$f":"IF(B365=\"\",\"\",SUMIF('الرصيد الثابت'!$D$2:$D$106,B365,'الرصيد الثابت'!$I$2:$I$106))","v":""},{"$f":"IF(B365=\"\",\"\",SUMIF('الرصيد الثابت'!$D$2:$D$106,B365,'الرصيد الثابت'!$J$2:$J$106))","v":""},null,0,null,null,null,null,0,null,null,null,0,null,0,null,null,null,null,null,null,null,null,null,null,null,null,null,null,null,null,null,null,null,null,null,null,null,null,null,null,null,null,null,null,null,null,null,null,null,null,null,null,null,null,null,null,null,null,null,null,null,null,null,null,null,null,null,null,null,null,null,null,null,null,null,null,null,null,null,{"$f":"IFERROR(VLOOKUP(ROWS($CF$3:CF365),$CH$3:$CI$2001,2,FALSE),\"\")","v":""},null,{"$f":"IF(ISNUMBER(SEARCH(B365,CI365)),MAX($CH$2:CH364)+1,0)","v":0},{"$f":"'الرصيد الثابت'!#REF!","v":{"$error":"#REF!"}}]
["",null,{"$f":"IF(B366=\"\",\"\",SUMIF('الرصيد الثابت'!$D$2:$D$106,B366,'الرصيد الثابت'!$H$2:$H$106))","v":""},{"$f":"IF(B366=\"\",\"\",SUMIF('الرصيد الثابت'!$D$2:$D$106,B366,'الرصيد الثابت'!$I$2:$I$106))","v":""},{"$f":"IF(B366=\"\",\"\",SUMIF('الرصيد الثابت'!$D$2:$D$106,B366,'الرصيد الثابت'!$J$2:$J$106))","v":""},null,0,null,null,null,null,0,null,null,null,0,null,0,null,null,null,null,null,null,null,null,null,null,null,null,null,null,null,null,null,null,null,null,null,null,null,null,null,null,null,null,null,null,null,null,null,null,null,null,null,null,null,null,null,null,null,null,null,null,null,null,null,null,null,null,null,null,null,null,null,null,null,null,null,null,null,null,null,{"$f":"IFERROR(VLOOKUP(ROWS($CF$3:CF366),$CH$3:$CI$2001,2,FALSE),\"\")","v":""},null,{"$f":"IF(ISNUMBER(SEARCH(B366,CI366)),MAX($CH$2:CH365)+1,0)","v":0},{"$f":"'الرصيد الثابت'!#REF!","v":{"$error":"#REF!"}}]
["",null,{"$f":"IF(B367=\"\",\"\",SUMIF('الرصيد الثابت'!$D$2:$D$106,B367,'الرصيد الثابت'!$H$2:$H$106))","v":""},{"$f":"IF(B367=\"\",\"\",SUMIF('الرصيد الثابت'!$D$2:$D$106,B367,'الرصيد الثابت'!$I$2:$I$106))","v":""},{"$f":"IF(B367=\"\",\"\",SUMIF('الرصيد الثابت'!$D$2:$D$106,B367,'الرصيد الثابت'!$J$2:$J$106))","v":""},null,0,null,null,null,null,0,null,null,null,0,null,0,null,null,null,null,null,null,null,null,null,null,null,null,null,null,null,null,null,null,null,null,null,null,null,null,null,null,null,null,null,null,null,null,null,null,null,null,null,null,null,null,null,null,null,null,null,null,null,null,null,null,null,null,null,null,null,null,null,null,null,null,null,null,null,null,null,{"$f":"IFERROR(VLOOKUP(ROWS($CF$3:CF367),$CH$3:$CI$2001,2,FALSE),\"\")","v":""},null,{"$f":"IF(ISNUMBER(SEARCH(B367,CI367)),MAX($CH$2:CH366)+1,0)","v":0},{"$f":"'الرصيد الثابت'!#REF!","v":{"$error":"#REF!"}}]
["",null,{"$f":"IF(B368=\"\",\"\",SUMIF('الرصيد الثابت'!$D$2:$D$106,B368,'الرصيد الثابت'!$H$2:$H$106))","v":""},{"$f":"IF(B368=\"\",\"\",SUMIF('الرصيد الثابت'!$D$2:$D$106,B368,'الرصيد الثابت'!$I$2:$I$106))","v":""},{"$f":"IF(B368=\"\",\"\",SUMIF('الرصيد الثابت'!$D$2:$D$106,B368,'الرصيد الثابت'!$J$2:$J$106))","v":""},null,0,null,null,null,null,0,null,null,null,0,null,0,null,null,null,null,null,null,null,null,null,null,null,null,null,null,null,null,null,null,null,null,null,null,null,null,null,null,null,null,null,null,null,null,null,null,null,null,null,null,null,null,null,null,null,null,null,null,null,null,null,null,null,null,null,null,null,null,null,null,null,null,null,null,null,null,null,{"$f":"IFERROR(VLOOKUP(ROWS($CF$3:CF368),$CH$3:$CI$2001,2,FALSE),\"\")","v":""},null,{"$f":"IF(ISNUMBER(SEARCH(B368,CI368)),MAX($CH$2:CH367)+1,0)","v":0},{"$f":"'الرصيد الثابت'!#REF!","v":{"$error":"#REF!"}}]
["",null,{"$f":"IF(B369=\"\",\"\",SUMIF('الرصيد الثابت'!$D$2:$D$106,B369,'الرصيد الثابت'!$H$2:$H$106))","v":""},{"$f":"IF(B369=\"\",\"\",SUMIF('الرصيد الثابت'!$D$2:$D$106,B369,'الرصيد الثابت'!$I$2:$I$106))","v":""},{"$f":"IF(B369=\"\",\"\",SUMIF('الرصيد الثابت'!$D$2:$D$106,B369,'الرصيد الثابت'!$J$2:$J$106))","v":""},null,0,null,null,null,null,0,null,null,null,0,null,0,null,null,null,null,null,null,null,null,null,null,null,null,null,null,null,null,null,null,null,null,null,null,null,null,null,null,null,null,null,null,null,null,null,null,null,null,null,null,null,null,null,null,null,null,null,null,null,null,null,null,null,null,null,null,null,null,null,null,null,null,null,null,null,null,null,{"$f":"IFERROR(VLOOKUP(ROWS($CF$3:CF369),$CH$3:$CI$2001,2,FALSE),\"\")","v":""},null,{"$f":"IF(ISNUMBER(SEARCH(B369,CI369)),MAX($CH$2:CH368)+1,0)","v":0},{"$f":"'الرصيد الثابت'!#REF!","v":{"$error":"#REF!"}}]
["",null,{"$f":"IF(B370=\"\",\"\",SUMIF('الرصيد الثابت'!$D$2:$D$106,B370,'الرصيد الثابت'!$H$2:$H$106))","v":""},{"$f":"IF(B370=\"\",\"\",SUMIF('الرصيد الثابت'!$D$2:$D$106,B370,'الرصيد الثابت'!$I$2:$I$106))","v":""},{"$f":"IF(B370=\"\",\"\",SUMIF('الرصيد الثابت'!$D$2:$D$106,B370,'الرصيد الثابت'!$J$2:$J$106))","v":""},null,0,null,null,null,null,0,null,null,null,0,null,0,null,null,null,null,null,null,null,null,null,null,null,null,null,null,null,null,null,null,null,null,null,null,null,null,null,null,null,null,null,null,null,null,null,null,null,null,null,null,null,null,null,null,null,null,null,null,null,null,null,null,null,null,null,null,null,null,null,null,null,null,null,null,null,null,null,{"$f":"IFERROR(VLOOKUP(ROWS($CF$3:CF370),$CH$3:$CI$2001,2,FALSE),\"\")","v":""},null,{"$f":"IF(ISNUMBER(SEARCH(B370,CI370)),MAX($CH$2:CH369)+1,0)","v":0},{"$f":"'الرصيد الثابت'!#REF!","v":{"$error":"#REF!"}}]
["",null,{"$f":"IF(B371=\"\",\"\",SUMIF('الرصيد الثابت'!$D$2:$D$106,B371,'الرصيد الثابت'!$H$2:$H$106))","v":""},{"$f":"IF(B371=\"\",\"\",SUMIF('الرصيد الثابت'!$D$2:$D$106,B371,'الرصيد الثابت'!$I$2:$I$106))","v":""},{"$f":"IF(B371=\"\",\"\",SUMIF('الرصيد الثابت'!$D$2:$D$106,B371,'الرصيد الثابت'!$J$2:$J$106))","v":""},null,0,null,null,null,null,0,null,null,null,0,null,0,null,null,null,null,null,null,null,null,null,null,null,null,null,null,null,null,null,null,null,null,null,null,null,null,null,null,null,null,null,null,null,null,null,null,null,null,null,null,null,null,null,null,null,null,null,null,null,null,null,null,null,null,null,null,null,null,null,null,null,null,null,null,null,null,null,{"$f":"IFERROR(VLOOKUP(ROWS($CF$3:CF371),$CH$3:$CI$2001,2,FALSE),\"\")","v":""},null,{"$f":"IF(ISNUMBER(SEARCH(B371,CI371)),MAX($CH$2:CH370)+1,0)","v":0},{"$f":"'الرصيد الثابت'!#REF!","v":{"$error":"#REF!"}}]
["",null,{"$f":"IF(B372=\"\",\"\",SUMIF('الرصيد الثابت'!$D$2:$D$106,B372,'الرصيد الثابت'!$H$2:$H$106))","v":""},{"$f":"IF(B372=\"\",\"\",SUMIF('الرصيد الثابت'!$D$2:$D$106,B372,'الرصيد الثابت'!$I$2:$I$106))","v":""},{"$f":"IF(B372=\"\",\"\",SUMIF('الرصيد الثابت'!$D$2:$D$106,B372,'الرصيد الثابت'!$J$2:$J$106))","v":""},null,0,null,null,null,null,0,null,null,null,0,null,0,null,null,null,null,null,null,null,null,null,null,null,null,null,null,null,null,null,null,null,null,null,null,null,null,null,null,null,null,null,null,null,null,null,null,null,null,null,null,null,null,null,null,null,null,null,null,null,null,null,null,null,null,null,null,null,null,null,null,null,null,null,null,null,null,null,{"$f":"IFERROR(VLOOKUP(ROWS($CF$3:CF372),$CH$3:$CI$2001,2,FALSE),\"\")","v":""},null,{"$f":"IF(ISNUMBER(SEARCH(B372,CI372)),MAX($CH$2:CH371)+1,0)","v":0},{"$f":"'الرصيد الثابت'!#REF!","v":{"$error":"#REF!"}}]
["",null,{"$f":"IF(B373=\"\",\"\",SUMIF('الرصيد الثابت'!$D$2:$D$106,B373,'الرصيد الثابت'!$H$2:$H$106))","v":""},{"$f":"IF(B373=\"\",\"\",SUMIF('الرصيد الثابت'!$D$2:$D$106,B373,'الرصيد الثابت'!$I$2:$I$106))","v":""},{"$f":"IF(B373=\"\",\"\",SUMIF('الرصيد الثابت'!$D$2:$D$106,B373,'الرصيد الثابت'!$J$2:$J$106))","v":""},null,0,null,null,null,null,0,null,null,null,0,null,0,null,null,null,null,null,null,null,null,null,null,null,null,null,null,null,null,null,null,null,null,null,null,null,null,null,null,null,null,null,null,null,null,null,null,null,null,null,null,null,null,null,null,null,null,null,null,null,null,null,null,null,null,null,null,null,null,null,null,null,null,null,null,null,null,null,{"$f":"IFERROR(VLOOKUP(ROWS($CF$3:CF373),$CH$3:$CI$2001,2,FALSE),\"\")","v":""},null,{"$f":"IF(ISNUMBER(SEARCH(B373,CI373)),MAX($CH$2:CH372)+1,0)","v":0},{"$f":"'الرصيد الثابت'!#REF!","v":{"$error":"#REF!"}}]
["",null,{"$f":"IF(B374=\"\",\"\",SUMIF('الرصيد الثابت'!$D$2:$D$106,B374,'الرصيد الثابت'!$H$2:$H$106))","v":""},{"$f":"IF(B374=\"\",\"\",SUMIF('الرصيد الثابت'!$D$2:$D$106,B374,'الرصيد الثابت'!$I$2:$I$106))","v":""},{"$f":"IF(B374=\"\",\"\",SUMIF('الرصيد الثابت'!$D$2:$D$106,B374,'الرصيد الثابت'!$J$2:$J$106))","v":""},null,0,null,null,null,null,0,null,null,null,0,null,0,null,null,null,null,null,null,null,null,null,null,null,null,null,null,null,null,null,null,null,null,null,null,null,null,null,null,null,null,null,null,null,null,null,null,null,null,null,null,null,null,null,null,null,null,null,null,null,null,null,null,null,null,null,null,null,null,null,null,null,null,null,null,null,null,null,{"$f":"IFERROR(VLOOKUP(ROWS($CF$3:CF374),$CH$3:$CI$2001,2,FALSE),\"\")","v":""},null,{"$f":"IF(ISNUMBER(SEARCH(B374,CI374)),MAX($CH$2:CH373)+1,0)","v":0},{"$f":"'الرصيد الثابت'!#REF!","v":{"$error":"#REF!"}}]
["",null,{"$f":"IF(B375=\"\",\"\",SUMIF('الرصيد الثابت'!$D$2:$D$106,B375,'الرصيد الثابت'!$H$2:$H$106))","v":""},{"$f":"IF(B375=\"\",\"\",SUMIF('الرصيد الثابت'!$D$2:$D$106,B375,'الرصيد الثابت'!$I$2:$I$106))","v":""},{"$f":"IF(B375=\"\",\"\",SUMIF('الرصيد الثابت'!$D$2:$D$106,B375,'الرصيد الثابت'!$J$2:$J$106))","v":""},null,0,null,null,null,null,0,null,null,null,0,null,0,null,null,null,null,null,null,null,null,null,null,null,null,null,null,null,null,null,null,null,null,null,null,null,null,null,null,null,null,null,null,null,null,null,null,null,null,null,null,null,null,null,null,null,null,null,null,null,null,null,null,null,null,null,null,null,null,null,null,null,null,null,null,null,null,null,{"$f":"IFERROR(VLOOKUP(ROWS($CF$3:CF375),$CH$3:$CI$2001,2,FALSE),\"\")","v":""},null,{"$f":"IF(ISNUMBER(SEARCH(B375,CI375)),MAX($CH$2:CH374)+1,0)","v":0},{"$f":"'الرصيد الثابت'!#REF!","v":{"$error":"#REF!"}}]
["",null,{"$f":"IF(B376=\"\",\"\",SUMIF('الرصيد الثابت'!$D$2:$D$106,B376,'الرصيد الثابت'!$H$2:$H$106))","v":""},{"$f":"IF(B376=\"\",\"\",SUMIF('الرصيد الثابت'!$D$2:$D$106,B376,'الرصيد الثابت'!$I$2:$I$106))","v":""},{"$f":"IF(B376=\"\",\"\",SUMIF('الرصيد الثابت'!$D$2:$D$106,B376,'الرصيد الثابت'!$J$2:$J$106))","v":""},null,0,null,null,null,null,0,null,null,null,0,null,0,null,null,null,null,null,null,null,null,null,null,null,null,null,null,null,null,null,null,null,null,null,null,null,null,null,null,null,null,null,null,null,null,null,null,null,null,null,null,null,null,null,null,null,null,null,null,null,null,null,null,null,null,null,null,null,null,null,null,null,null,null,null,null,null,null,{"$f":"IFERROR(VLOOKUP(ROWS($CF$3:CF376),$CH$3:$CI$2001,2,FALSE),\"\")","v":""},null,{"$f":"IF(ISNUMBER(SEARCH(B376,CI376)),MAX($CH$2:CH375)+1,0)","v":0},{"$f":"'الرصيد الثابت'!#REF!","v":{"$error":"#REF!"}}]
["",null,{"$f":"IF(B377=\"\",\"\",SUMIF('الرصيد الثابت'!$D$2:$D$106,B377,'الرصيد الثابت'!$H$2:$H$106))","v":""},{"$f":"IF(B377=\"\",\"\",SUMIF('الرصيد الثابت'!$D$2:$D$106,B377,'الرصيد الثابت'!$I$2:$I$106))","v":""},{"$f":"IF(B377=\"\",\"\",SUMIF('الرصيد الثابت'!$D$2:$D$106,B377,'الرصيد الثابت'!$J$2:$J$106))","v":""},null,0,null,null,null,null,0,null,null,null,0,null,0,null,null,null,null,null,null,null,null,null,null,null,null,null,null,null,null,null,null,null,null,null,null,null,null,null,null,null,null,null,null,null,null,null,null,null,null,null,null,null,null,null,null,null,null,null,null,null,null,null,null,null,null,null,null,null,null,null,null,null,null,null,null,null,null,null,{"$f":"IFERROR(VLOOKUP(ROWS($CF$3:CF377),$CH$3:$CI$2001,2,FALSE),\"\")","v":""},null,{"$f":"IF(ISNUMBER(SEARCH(B377,CI377)),MAX($CH$2:CH376)+1,0)","v":0},{"$f":"'الرصيد الثابت'!#REF!","v":{"$error":"#REF!"}}]
["",null,{"$f":"IF(B378=\"\",\"\",SUMIF('الرصيد الثابت'!$D$2:$D$106,B378,'الرصيد الثابت'!$H$2:$H$106))","v":""},{"$f":"IF(B378=\"\",\"\",SUMIF('الرصيد الثابت'!$D$2:$D$106,B378,'الرصيد الثابت'!$I$2:$I$106))","v":""},{"$f":"IF(B378=\"\",\"\",SUMIF('الرصيد الثابت'!$D$2:$D$106,B378,'الرصيد الثابت'!$J$2:$J$106))","v":""},null,0,null,null,null,null,0,null,null,null,0,null,0,null,null,null,null,null,null,null,null,null,null,null,null,null,null,null,null,null,null,null,null,null,null,null,null,null,null,null,null,null,null,null,null,null,null,null,null,null,null,null,null,null,null,null,null,null,null,null,null,null,null,null,null,null,null,null,null,null,null,null,null,null,null,null,null,null,{"$f":"IFERROR(VLOOKUP(ROWS($CF$3:CF378),$CH$3:$CI$2001,2,FALSE),\"\")","v":""},null,{"$f":"IF(ISNUMBER(SEARCH(B378,CI378)),MAX($CH$2:CH377)+1,0)","v":0},{"$f":"'الرصيد الثابت'!#REF!","v":{"$error":"#REF!"}}]
["",null,{"$f":"IF(B379=\"\",\"\",SUMIF('الرصيد الثابت'!$D$2:$D$106,B379,'الرصيد الثابت'!$H$2:$H$106))","v":""},{"$f":"IF(B379=\"\",\"\",SUMIF('الرصيد الثابت'!$D$2:$D$106,B379,'الرصيد الثابت'!$I$2:$I$106))","v":""},{"$f":"IF(B379=\"\",\"\",SUMIF('الرصيد الثابت'!$D$2:$D$106,B379,'الرصيد الثابت'!$J$2:$J$106))","v":""},null,0,null,null,null,null,0,null,null,null,0,null,0,null,null,null,null,null,null,null,null,null,null,null,null,null,null,null,null,null,null,null,null,null,null,null,null,null,null,null,null,null,null,null,null,null,null,null,null,null,null,null,null,null,null,null,null,null,null,null,null,null,null,null,null,null,null,null,null,null,null,null,null,null,null,null,null,null,{"$f":"IFERROR(VLOOKUP(ROWS($CF$3:CF379),$CH$3:$CI$2001,2,FALSE),\"\")","v":""},null,{"$f":"IF(ISNUMBER(SEARCH(B379,CI379)),MAX($CH$2:CH378)+1,0)","v":0},{"$f":"'الرصيد الثابت'!#REF!","v":{"$error":"#REF!"}}]
["",null,{"$f":"IF(B380=\"\",\"\",SUMIF('الرصيد الثابت'!$D$2:$D$106,B380,'الرصيد الثابت'!$H$2:$H$106))","v":""},{"$f":"IF(B380=\"\",\"\",SUMIF('الرصيد الثابت'!$D$2:$D$106,B380,'الرصيد الثابت'!$I$2:$I$106))","v":""},{"$f":"IF(B380=\"\",\"\",SUMIF('الرصيد الثابت'!$D$2:$D$106,B380,'الرصيد الثابت'!$J$2:$J$106))","v":""},null,0,null,null,null,null,0,null,null,null,0,null,0,null,null,null,null,null,null,null,null,null,null,null,null,null,null,null,null,null,null,null,null,null,null,null,null,null,null,null,null,null,null,null,null,null,null,null,null,null,null,null,null,null,null,null,null,null,null,null,null,null,null,null,null,null,null,null,null,null,null,null,null,null,null,null,null,null,{"$f":"IFERROR(VLOOKUP(ROWS($CF$3:CF380),$CH$3:$CI$2001,2,FALSE),\"\")","v":""},null,{"$f":"IF(ISNUMBER(SEARCH(B380,CI380)),MAX($CH$2:CH379)+1,0)","v":0},{"$f":"'الرصيد الثابت'!#REF!","v":{"$error":"#REF!"}}]
["",null,{"$f":"IF(B381=\"\",\"\",SUMIF('الرصيد الثابت'!$D$2:$D$106,B381,'الرصيد الثابت'!$H$2:$H$106))","v":""},{"$f":"IF(B381=\"\",\"\",SUMIF('الرصيد الثابت'!$D$2:$D$106,B381,'الرصيد الثابت'!$I$2:$I$106))","v":""},{"$f":"IF(B381=\"\",\"\",SUMIF('الرصيد الثابت'!$D$2:$D$106,B381,'الرصيد الثابت'!$J$2:$J$106))","v":""},null,0,null,null,null,null,0,null,null,null,0,null,0,null,null,null,null,null,null,null,null,null,null,null,null,null,null,null,null,null,null,null,null,null,null,null,null,null,null,null,null,null,null,null,null,null,null,null,null,null,null,null,null,null,null,null,null,null,null,null,null,null,null,null,null,null,null,null,null,null,null,null,null,null,null,null,null,null,{"$f":"IFERROR(VLOOKUP(ROWS($CF$3:CF381),$CH$3:$CI$2001,2,FALSE),\"\")","v":""},null,{"$f":"IF(ISNUMBER(SEARCH(B381,CI381)),MAX($CH$2:CH380)+1,0)","v":0},{"$f":"'الرصيد الثابت'!#REF!","v":{"$error":"#REF!"}}]
["",null,{"$f":"IF(B382=\"\",\"\",SUMIF('الرصيد الثابت'!$D$2:$D$106,B382,'الرصيد الثابت'!$H$2:$H$106))","v":""},{"$f":"IF(B382=\"\",\"\",SUMIF('الرصيد الثابت'!$D$2:$D$106,B382,'الرصيد الثابت'!$I$2:$I$106))","v":""},{"$f":"IF(B382=\"\",\"\",SUMIF('الرصيد الثابت'!$D$2:$D$106,B382,'الرصيد الثابت'!$J$2:$J$106))","v":""},null,0,null,null,null,null,0,null,null,null,0,null,0,null,null,null,null,null,null,null,null,null,null,null,null,null,null,null,null,null,null,null,null,null,null,null,null,null,null,null,null,null,null,null,null,null,null,null,null,null,null,null,null,null,null,null,null,null,null,null,null,null,null,null,null,null,null,null,null,null,null,null,null,null,null,null,null,null,{"$f":"IFERROR(VLOOKUP(ROWS($CF$3:CF382),$CH$3:$CI$2001,2,FALSE),\"\")","v":""},null,{"$f":"IF(ISNUMBER(SEARCH(B382,CI382)),MAX($CH$2:CH381)+1,0)","v":0},{"$f":"'الرصيد الثابت'!#REF!","v":{"$error":"#REF!"}}]
["",null,{"$f":"IF(B383=\"\",\"\",SUMIF('الرصيد الثابت'!$D$2:$D$106,B383,'الرصيد الثابت'!$H$2:$H$106))","v":""},{"$f":"IF(B383=\"\",\"\",SUMIF('الرصيد الثابت'!$D$2:$D$106,B383,'الرصيد الثابت'!$I$2:$I$106))","v":""},{"$f":"IF(B383=\"\",\"\",SUMIF('الرصيد الثابت'!$D$2:$D$106,B383,'الرصيد الثابت'!$J$2:$J$106))","v":""},null,0,null,null,null,null,0,null,null,null,0,null,0,null,null,null,null,null,null,null,null,null,null,null,null,null,null,null,null,null,null,null,null,null,null,null,null,null,null,null,null,null,null,null,null,null,null,null,null,null,null,null,null,null,null,null,null,null,null,null,null,null,null,null,null,null,null,null,null,null,null,null,null,null,null,null,null,null,{"$f":"IFERROR(VLOOKUP(ROWS($CF$3:CF383),$CH$3:$CI$2001,2,FALSE),\"\")","v":""},null,{"$f":"IF(ISNUMBER(SEARCH(B383,CI383)),MAX($CH$2:CH382)+1,0)","v":0},{"$f":"'الرصيد الثابت'!#REF!","v":{"$error":"#REF!"}}]
["",null,{"$f":"IF(B384=\"\",\"\",SUMIF('الرصيد الثابت'!$D$2:$D$106,B384,'الرصيد الثابت'!$H$2:$H$106))","v":""},{"$f":"IF(B384=\"\",\"\",SUMIF('الرصيد الثابت'!$D$2:$D$106,B384,'الرصيد الثابت'!$I$2:$I$106))","v":""},{"$f":"IF(B384=\"\",\"\",SUMIF('الرصيد الثابت'!$D$2:$D$106,B384,'الرصيد الثابت'!$J$2:$J$106))","v":""},null,0,null,null,null,null,0,null,null,null,0,null,0,null,null,null,null,null,null,null,null,null,null,null,null,null,null,null,null,null,null,null,null,null,null,null,null,null,null,null,null,null,null,null,null,null,null,null,null,null,null,null,null,null,null,null,null,null,null,null,null,null,null,null,null,null,null,null,null,null,null,null,null,null,null,null,null,null,{"$f":"IFERROR(VLOOKUP(ROWS($CF$3:CF384),$CH$3:$CI$2001,2,FALSE),\"\")","v":""},null,{"$f":"IF(ISNUMBER(SEARCH(B384,CI384)),MAX($CH$2:CH383)+1,0)","v":0},{"$f":"'الرصيد الثابت'!#REF!","v":{"$error":"#REF!"}}]
["",null,{"$f":"IF(B385=\"\",\"\",SUMIF('الرصيد الثابت'!$D$2:$D$106,B385,'الرصيد الثابت'!$H$2:$H$106))","v":""},{"$f":"IF(B385=\"\",\"\",SUMIF('الرصيد الثابت'!$D$2:$D$106,B385,'الرصيد الثابت'!$I$2:$I$106))","v":""},{"$f":"IF(B385=\"\",\"\",SUMIF('الرصيد الثابت'!$D$2:$D$106,B385,'الرصيد الثابت'!$J$2:$J$106))","v":""},null,0,null,null,null,null,0,null,null,null,0,null,0,null,null,null,null,null,null,null,null,null,null,null,null,null,null,null,null,null,null,null,null,null,null,null,null,null,null,null,null,null,null,null,null,null,null,null,null,null,null,null,null,null,null,null,null,null,null,null,null,null,null,null,null,null,null,null,null,null,null,null,null,null,null,null,null,null,{"$f":"IFERROR(VLOOKUP(ROWS($CF$3:CF385),$CH$3:$CI$2001,2,FALSE),\"\")","v":""},null,{"$f":"IF(ISNUMBER(SEARCH(B385,CI385)),MAX($CH$2:CH384)+1,0)","v":0},{"$f":"'الرصيد الثابت'!#REF!","v":{"$error":"#REF!"}}]
["",null,{"$f":"IF(B386=\"\",\"\",SUMIF('الرصيد الثابت'!$D$2:$D$106,B386,'الرصيد الثابت'!$H$2:$H$106))","v":""},{"$f":"IF(B386=\"\",\"\",SUMIF('الرصيد الثابت'!$D$2:$D$106,B386,'الرصيد الثابت'!$I$2:$I$106))","v":""},{"$f":"IF(B386=\"\",\"\",SUMIF('الرصيد الثابت'!$D$2:$D$106,B386,'الرصيد الثابت'!$J$2:$J$106))","v":""},null,0,null,null,null,null,0,null,null,null,0,null,0,null,null,null,null,null,null,null,null,null,null,null,null,null,null,null,null,null,null,null,null,null,null,null,null,null,null,null,null,null,null,null,null,null,null,null,null,null,null,null,null,null,null,null,null,null,null,null,null,null,null,null,null,null,null,null,null,null,null,null,null,null,null,null,null,null,{"$f":"IFERROR(VLOOKUP(ROWS($CF$3:CF386),$CH$3:$CI$2001,2,FALSE),\"\")","v":""},null,{"$f":"IF(ISNUMBER(SEARCH(B386,CI386)),MAX($CH$2:CH385)+1,0)","v":0},{"$f":"'الرصيد الثابت'!#REF!","v":{"$error":"#REF!"}}]
["",null,{"$f":"IF(B387=\"\",\"\",SUMIF('الرصيد الثابت'!$D$2:$D$106,B387,'الرصيد الثابت'!$H$2:$H$106))","v":""},{"$f":"IF(B387=\"\",\"\",SUMIF('الرصيد الثابت'!$D$2:$D$106,B387,'الرصيد الثابت'!$I$2:$I$106))","v":""},{"$f":"IF(B387=\"\",\"\",SUMIF('الرصيد الثابت'!$D$2:$D$106,B387,'الرصيد الثابت'!$J$2:$J$106))","v":""},null,0,null,null,null,null,0,null,null,null,0,null,0,null,null,null,null,null,null,null,null,null,null,null,null,null,null,null,null,null,null,null,null,null,null,null,null,null,null,null,null,null,null,null,null,null,null,null,null,null,null,null,null,null,null,null,null,null,null,null,null,null,null,null,null,null,null,null,null,null,null,null,null,null,null,null,null,null,{"$f":"IFERROR(VLOOKUP(ROWS($CF$3:CF387),$CH$3:$CI$2001,2,FALSE),\"\")","v":""},null,{"$f":"IF(ISNUMBER(SEARCH(B387,CI387)),MAX($CH$2:CH386)+1,0)","v":0},{"$f":"'الرصيد الثابت'!#REF!","v":{"$error":"#REF!"}}]
[{"$f":"IF(B388<>\"\",IF(A388=\"\",NOW(),A388),\"\")","v":""},null,{"$f":"IF(B388=\"\",\"\",SUMIF('الرصيد الثابت'!$D$2:$D$106,B388,'الرصيد الثابت'!$H$2:$H$106))","v":""},{"$f":"IF(B388=\"\",\"\",SUMIF('الرصيد الثابت'!$D$2:$D$106,B388,'الرصيد الثابت'!$I$2:$I$106))","v":""},{"$f":"IF(B388=\"\",\"\",SUMIF('الرصيد الثابت'!$D$2:$D$106,B388,'الرصيد الثابت'!$J$2:$J$106))","v":""},null,{"$f":"SUM(H388*F388)","v":0},null,null,null,null,{"$f":"SUM(M388*K388)","v":0},null,null,null,{"$f":"SUM(F388-K388)","v":0},null,{"$f":"SUM(S388*Q388)","v":0},null,null,null,null,null,null,null,null,null,null,null,null,null,null,null,null,null,null,null,null,null,null,null,null,null,null,null,null,null,null,null,null,null,null,null,null,null,null,null,null,null,null,null,null,null,null,null,null,null,null,null,null,null,null,null,null,null,null,null,null,null,null,null,null,null,{"$f":"IFERROR(VLOOKUP(ROWS($CF$3:CF388),$CH$3:$CI$2001,2,FALSE),\"\")","v":""},null,{"$f":"IF(ISNUMBER(SEARCH(B388,CI388)),MAX($CH$2:CH387)+1,0)","v":0},{"$f":"'الرصيد الثابت'!#REF!","v":{"$error":"#REF!"}}]
["",null,{"$f":"IF(B389=\"\",\"\",SUMIF('الرصيد الثابت'!$D$2:$D$106,B389,'الرصيد الثابت'!$H$2:$H$106))","v":""},{"$f":"IF(B389=\"\",\"\",SUMIF('الرصيد الثابت'!$D$2:$D$106,B389,'الرصيد الثابت'!$I$2:$I$106))","v":""},{"$f":"IF(B389=\"\",\"\",SUMIF('الرصيد الثابت'!$D$2:$D$106,B389,'الرصيد الثابت'!$J$2:$J$106))","v":""},null,0,null,null,null,null,0,null,null,null,0,null,0,null,null,null,null,null,null,null,null,null,null,null,null,null,null,null,null,null,null,null,null,null,null,null,null,null,null,null,null,null,null,null,null,null,null,null,null,null,null,null,null,null,null,null,null,null,null,null,null,null,null,null,null,null,null,null,null,null,null,null,null,null,null,null,null,null,{"$f":"IFERROR(VLOOKUP(ROWS($CF$3:CF389),$CH$3:$CI$2001,2,FALSE),\"\")","v":""},null,{"$f":"IF(ISNUMBER(SEARCH(B389,CI389)),MAX($CH$2:CH388)+1,0)","v":0},{"$f":"'الرصيد الثابت'!#REF!","v":{"$error":"#REF!"}}]
["",null,{"$f":"IF(B390=\"\",\"\",SUMIF('الرصيد الثابت'!$D$2:$D$106,B390,'الرصيد الثابت'!$H$2:$H$106))","v":""},{"$f":"IF(B390=\"\",\"\",SUMIF('الرصيد الثابت'!$D$2:$D$106,B390,'الرصيد الثابت'!$I$2:$I$106))","v":""},{"$f":"IF(B390=\"\",\"\",SUMIF('الرصيد الثابت'!$D$2:$D$106,B390,'الرصيد الثابت'!$J$2:$J$106))","v":""},null,0,null,null,null,null,0,null,null,null,0,null,0,null,null,null,null,null,null,null,null,null,null,null,null,null,null,null,null,null,null,null,null,null,null,null,null,null,null,null,null,null,null,null,null,null,null,null,null,null,null,null,null,null,null,null,null,null,null,null,null,null,null,null,null,null,null,null,null,null,null,null,null,null,null,null,null,null,{"$f":"IFERROR(VLOOKUP(ROWS($CF$3:CF390),$CH$3:$CI$2001,2,FALSE),\"\")","v":""},null,{"$f":"IF(ISNUMBER(SEARCH(B390,CI390)),MAX($CH$2:CH389)+1,0)","v":0},{"$f":"'الرصيد الثابت'!#REF!","v":{"$error":"#REF!"}}]
["",null,{"$f":"IF(B391=\"\",\"\",SUMIF('الرصيد الثابت'!$D$2:$D$106,B391,'الرصيد الثابت'!$H$2:$H$106))","v":""},{"$f":"IF(B391=\"\",\"\",SUMIF('الرصيد الثابت'!$D$2:$D$106,B391,'الرصيد الثابت'!$I$2:$I$106))","v":""},{"$f":"IF(B391=\"\",\"\",SUMIF('الرصيد الثابت'!$D$2:$D$106,B391,'الرصيد الثابت'!$J$2:$J$106))","v":""},null,0,null,null,null,null,0,null,null,null,0,null,0,null,null,null,null,null,null,null,null,null,null,null,null,null,null,null,null,null,null,null,null,null,null,null,null,null,null,null,null,null,null,null,null,null,null,null,null,null,null,null,null,null,null,null,null,null,null,null,null,null,null,null,null,null,null,null,null,null,null,null,null,null,null,null,null,null,{"$f":"IFERROR(VLOOKUP(ROWS($CF$3:CF391),$CH$3:$CI$2001,2,FALSE),\"\")","v":""},null,{"$f":"IF(ISNUMBER(SEARCH(B391,CI391)),MAX($CH$2:CH390)+1,0)","v":0},{"$f":"'الرصيد الثابت'!#REF!","v":{"$error":"#REF!"}}]
["",null,{"$f":"IF(B392=\"\",\"\",SUMIF('الرصيد الثابت'!$D$2:$D$106,B392,'الرصيد الثابت'!$H$2:$H$106))","v":""},{"$f":"IF(B392=\"\",\"\",SUMIF('الرصيد الثابت'!$D$2:$D$106,B392,'الرصيد الثابت'!$I$2:$I$106))","v":""},{"$f":"IF(B392=\"\",\"\",SUMIF('الرصيد الثابت'!$D$2:$D$106,B392,'الرصيد الثابت'!$J$2:$J$106))","v":""},null,0,null,null,null,null,0,null,null,null,0,null,0,null,null,null,null,null,null,null,null,null,null,null,null,null,null,null,null,null,null,null,null,null,null,null,null,null,null,null,null,null,null,null,null,null,null,null,null,null,null,null,null,null,null,null,null,null,null,null,null,null,null,null,null,null,null,null,null,null,null,null,null,null,null,null,null,null,{"$f":"IFERROR(VLOOKUP(ROWS($CF$3:CF392),$CH$3:$CI$2001,2,FALSE),\"\")","v":""},null,{"$f":"IF(ISNUMBER(SEARCH(B392,CI392)),MAX($CH$2:CH391)+1,0)","v":0},{"$f":"'الرصيد الثابت'!#REF!","v":{"$error":"#REF!"}}]
["",null,{"$f":"IF(B393=\"\",\"\",SUMIF('الرصيد الثابت'!$D$2:$D$106,B393,'الرصيد الثابت'!$H$2:$H$106))","v":""},{"$f":"IF(B393=\"\",\"\",SUMIF('الرصيد الثابت'!$D$2:$D$106,B393,'الرصيد الثابت'!$I$2:$I$106))","v":""},{"$f":"IF(B393=\"\",\"\",SUMIF('الرصيد الثابت'!$D$2:$D$106,B393,'الرصيد الثابت'!$J$2:$J$106))","v":""},null,0,null,null,null,null,0,null,null,null,0,null,0,null,null,null,null,null,null,null,null,null,null,null,null,null,null,null,null,null,null,null,null,null,null,null,null,null,null,null,null,null,null,null,null,null,null,null,null,null,null,null,null,null,null,null,null,null,null,null,null,null,null,null,null,null,null,null,null,null,null,null,null,null,null,null,null,null,{"$f":"IFERROR(VLOOKUP(ROWS($CF$3:CF393),$CH$3:$CI$2001,2,FALSE),\"\")","v":""},null,{"$f":"IF(ISNUMBER(SEARCH(B393,CI393)),MAX($CH$2:CH392)+1,0)","v":0},{"$f":"'الرصيد الثابت'!#REF!","v":{"$error":"#REF!"}}]
["",null,{"$f":"IF(B394=\"\",\"\",SUMIF('الرصيد الثابت'!$D$2:$D$106,B394,'الرصيد الثابت'!$H$2:$H$106))","v":""},{"$f":"IF(B394=\"\",\"\",SUMIF('الرصيد الثابت'!$D$2:$D$106,B394,'الرصيد الثابت'!$I$2:$I$106))","v":""},{"$f":"IF(B394=\"\",\"\",SUMIF('الرصيد الثابت'!$D$2:$D$106,B394,'الرصيد الثابت'!$J$2:$J$106))","v":""},null,0,null,null,null,null,0,null,null,null,0,null,0,null,null,null,null,null,null,null,null,null,null,null,null,null,null,null,null,null,null,null,null,null,null,null,null,null,null,null,null,null,null,null,null,null,null,null,null,null,null,null,null,null,null,null,null,null,null,null,null,null,null,null,null,null,null,null,null,null,null,null,null,null,null,null,null,null,{"$f":"IFERROR(VLOOKUP(ROWS($CF$3:CF394),$CH$3:$CI$2001,2,FALSE),\"\")","v":""},null,{"$f":"IF(ISNUMBER(SEARCH(B394,CI394)),MAX($CH$2:CH393)+1,0)","v":0},{"$f":"'الرصيد الثابت'!#REF!","v":{"$error":"#REF!"}}]
["",null,{"$f":"IF(B395=\"\",\"\",SUMIF('الرصيد الثابت'!$D$2:$D$106,B395,'الرصيد الثابت'!$H$2:$H$106))","v":""},{"$f":"IF(B395=\"\",\"\",SUMIF('الرصيد الثابت'!$D$2:$D$106,B395,'الرصيد الثابت'!$I$2:$I$106))","v":""},{"$f":"IF(B395=\"\",\"\",SUMIF('الرصيد الثابت'!$D$2:$D$106,B395,'الرصيد الثابت'!$J$2:$J$106))","v":""},null,0,null,null,null,null,0,null,null,null,0,null,0,null,null,null,null,null,null,null,null,null,null,null,null,null,null,null,null,null,null,null,null,null,null,null,null,null,null,null,null,null,null,null,null,null,null,null,null,null,null,null,null,null,null,null,null,null,null,null,null,null,null,null,null,null,null,null,null,null,null,null,null,null,null,null,null,null,{"$f":"IFERROR(VLOOKUP(ROWS($CF$3:CF395),$CH$3:$CI$2001,2,FALSE),\"\")","v":""},null,{"$f":"IF(ISNUMBER(SEARCH(B395,CI395)),MAX($CH$2:CH394)+1,0)","v":0},{"$f":"'الرصيد الثابت'!#REF!","v":{"$error":"#REF!"}}]
["",null,{"$f":"IF(B396=\"\",\"\",SUMIF('الرصيد الثابت'!$D$2:$D$106,B396,'الرصيد الثابت'!$H$2:$H$106))","v":""},{"$f":"IF(B396=\"\",\"\",SUMIF('الرصيد الثابت'!$D$2:$D$106,B396,'الرصيد الثابت'!$I$2:$I$106))","v":""},{"$f":"IF(B396=\"\",\"\",SUMIF('الرصيد الثابت'!$D$2:$D$106,B396,'الرصيد الثابت'!$J$2:$J$106))","v":""},null,0,null,null,null,null,0,null,null,null,0,null,0,null,null,null,null,null,null,null,null,null,null,null,null,null,null,null,null,null,null,null,null,null,null,null,null,null,null,null,null,null,null,null,null,null,null,null,null,null,null,null,null,null,null,null,null,null,null,null,null,null,null,null,null,null,null,null,null,null,null,null,null,null,null,null,null,null,{"$f":"IFERROR(VLOOKUP(ROWS($CF$3:CF396),$CH$3:$CI$2001,2,FALSE),\"\")","v":""},null,{"$f":"IF(ISNUMBER(SEARCH(B396,CI396)),MAX($CH$2:CH395)+1,0)","v":0},{"$f":"'الرصيد الثابت'!#REF!","v":{"$error":"#REF!"}}]
["",null,{"$f":"IF(B397=\"\",\"\",SUMIF('الرصيد الثابت'!$D$2:$D$106,B397,'الرصيد الثابت'!$H$2:$H$106))","v":""},{"$f":"IF(B397=\"\",\"\",SUMIF('الرصيد الثابت'!$D$2:$D$106,B397,'الرصيد الثابت'!$I$2:$I$106))","v":""},{"$f":"IF(B397=\"\",\"\",SUMIF('الرصيد الثابت'!$D$2:$D$106,B397,'الرصيد الثابت'!$J$2:$J$106))","v":""},null,0,null,null,null,null,0,null,null,null,0,null,0,null,null,null,null,null,null,null,null,null,null,null,null,null,null,null,null,null,null,null,null,null,null,null,null,null,null,null,null,null,null,null,null,null,null,null,null,null,null,null,null,null,null,null,null,null,null,null,null,null,null,null,null,null,null,null,null,null,null,null,null,null,null,null,null,null,{"$f":"IFERROR(VLOOKUP(ROWS($CF$3:CF397),$CH$3:$CI$2001,2,FALSE),\"\")","v":""},null,{"$f":"IF(ISNUMBER(SEARCH(B397,CI397)),MAX($CH$2:CH396)+1,0)","v":0},{"$f":"'الرصيد الثابت'!#REF!","v":{"$error":"#REF!"}}]
["",null,{"$f":"IF(B398=\"\",\"\",SUMIF('الرصيد الثابت'!$D$2:$D$106,B398,'الرصيد الثابت'!$H$2:$H$106))","v":""},{"$f":"IF(B398=\"\",\"\",SUMIF('الرصيد الثابت'!$D$2:$D$106,B398,'الرصيد الثابت'!$I$2:$I$106))","v":""},{"$f":"IF(B398=\"\",\"\",SUMIF('الرصيد الثابت'!$D$2:$D$106,B398,'الرصيد الثابت'!$J$2:$J$106))","v":""},null,0,null,null,null,null,0,null,null,null,0,null,0,null,null,null,null,null,null,null,null,null,null,null,null,null,null,null,null,null,null,null,null,null,null,null,null,null,null,null,null,null,null,null,null,null,null,null,null,null,null,null,null,null,null,null,null,null,null,null,null,null,null,null,null,null,null,null,null,null,null,null,null,null,null,null,null,null,{"$f":"IFERROR(VLOOKUP(ROWS($CF$3:CF398),$CH$3:$CI$2001,2,FALSE),\"\")","v":""},null,{"$f":"IF(ISNUMBER(SEARCH(B398,CI398)),MAX($CH$2:CH397)+1,0)","v":0},{"$f":"'الرصيد الثابت'!#REF!","v":{"$error":"#REF!"}}]
["",null,{"$f":"IF(B399=\"\",\"\",SUMIF('الرصيد الثابت'!$D$2:$D$106,B399,'الرصيد الثابت'!$H$2:$H$106))","v":""},{"$f":"IF(B399=\"\",\"\",SUMIF('الرصيد الثابت'!$D$2:$D$106,B399,'الرصيد الثابت'!$I$2:$I$106))","v":""},{"$f":"IF(B399=\"\",\"\",SUMIF('الرصيد الثابت'!$D$2:$D$106,B399,'الرصيد الثابت'!$J$2:$J$106))","v":""},null,0,null,null,null,null,0,null,null,null,0,null,0,null,null,null,null,null,null,null,null,null,null,null,null,null,null,null,null,null,null,null,null,null,null,null,null,null,null,null,null,null,null,null,null,null,null,null,null,null,null,null,null,null,null,null,null,null,null,null,null,null,null,null,null,null,null,null,null,null,null,null,null,null,null,null,null,null,{"$f":"IFERROR(VLOOKUP(ROWS($CF$3:CF399),$CH$3:$CI$2001,2,FALSE),\"\")","v":""},null,{"$f":"IF(ISNUMBER(SEARCH(B399,CI399)),MAX($CH$2:CH398)+1,0)","v":0},{"$f":"'الرصيد الثابت'!#REF!","v":{"$error":"#REF!"}}]
["",null,{"$f":"IF(B400=\"\",\"\",SUMIF('الرصيد الثابت'!$D$2:$D$106,B400,'الرصيد الثابت'!$H$2:$H$106))","v":""},{"$f":"IF(B400=\"\",\"\",SUMIF('الرصيد الثابت'!$D$2:$D$106,B400,'الرصيد الثابت'!$I$2:$I$106))","v":""},{"$f":"IF(B400=\"\",\"\",SUMIF('الرصيد الثابت'!$D$2:$D$106,B400,'الرصيد الثابت'!$J$2:$J$106))","v":""},null,0,null,null,null,null,0,null,null,null,0,null,0,null,null,null,null,null,null,null,null,null,null,null,null,null,null,null,null,null,null,null,null,null,null,null,null,null,null,null,null,null,null,null,null,null,null,null,null,null,null,null,null,null,null,null,null,null,null,null,null,null,null,null,null,null,null,null,null,null,null,null,null,null,null,null,null,null,{"$f":"IFERROR(VLOOKUP(ROWS($CF$3:CF400),$CH$3:$CI$2001,2,FALSE),\"\")","v":""},null,{"$f":"IF(ISNUMBER(SEARCH(B400,CI400)),MAX($CH$2:CH399)+1,0)","v":0},{"$f":"'الرصيد الثابت'!#REF!","v":{"$error":"#REF!"}}]
["",null,{"$f":"IF(B401=\"\",\"\",SUMIF('الرصيد الثابت'!$D$2:$D$106,B401,'الرصيد الثابت'!$H$2:$H$106))","v":""},{"$f":"IF(B401=\"\",\"\",SUMIF('الرصيد الثابت'!$D$2:$D$106,B401,'الرصيد الثابت'!$I$2:$I$106))","v":""},{"$f":"IF(B401=\"\",\"\",SUMIF('الرصيد الثابت'!$D$2:$D$106,B401,'الرصيد الثابت'!$J$2:$J$106))","v":""},null,0,null,null,null,null,0,null,null,null,0,null,0,null,null,null,null,null,null,null,null,null,null,null,null,null,null,null,null,null,null,null,null,null,null,null,null,null,null,null,null,null,null,null,null,null,null,null,null,null,null,null,null,null,null,null,null,null,null,null,null,null,null,null,null,null,null,null,null,null,null,null,null,null,null,null,null,null,{"$f":"IFERROR(VLOOKUP(ROWS($CF$3:CF401),$CH$3:$CI$2001,2,FALSE),\"\")","v":""},null,{"$f":"IF(ISNUMBER(SEARCH(B401,CI401)),MAX($CH$2:CH400)+1,0)","v":0},{"$f":"'الرصيد الثابت'!#REF!","v":{"$error":"#REF!"}}]
["",null,{"$f":"IF(B402=\"\",\"\",SUMIF('الرصيد الثابت'!$D$2:$D$106,B402,'الرصيد الثابت'!$H$2:$H$106))","v":""},{"$f":"IF(B402=\"\",\"\",SUMIF('الرصيد الثابت'!$D$2:$D$106,B402,'الرصيد الثابت'!$I$2:$I$106))","v":""},{"$f":"IF(B402=\"\",\"\",SUMIF('الرصيد الثابت'!$D$2:$D$106,B402,'الرصيد الثابت'!$J$2:$J$106))","v":""},null,0,null,null,null,null,0,null,null,null,0,null,0,null,null,null,null,null,null,null,null,null,null,null,null,null,null,null,null,null,null,null,null,null,null,null,null,null,null,null,null,null,null,null,null,null,null,null,null,null,null,null,null,null,null,null,null,null,null,null,null,null,null,null,null,null,null,null,null,null,null,null,null,null,null,null,null,null,{"$f":"IFERROR(VLOOKUP(ROWS($CF$3:CF402),$CH$3:$CI$2001,2,FALSE),\"\")","v":""},null,{"$f":"IF(ISNUMBER(SEARCH(B402,CI402)),MAX($CH$2:CH401)+1,0)","v":0},{"$f":"'الرصيد الثابت'!#REF!","v":{"$error":"#REF!"}}]
["",null,{"$f":"IF(B403=\"\",\"\",SUMIF('الرصيد الثابت'!$D$2:$D$106,B403,'الرصيد الثابت'!$H$2:$H$106))","v":""},{"$f":"IF(B403=\"\",\"\",SUMIF('الرصيد الثابت'!$D$2:$D$106,B403,'الرصيد الثابت'!$I$2:$I$106))","v":""},{"$f":"IF(B403=\"\",\"\",SUMIF('الرصيد الثابت'!$D$2:$D$106,B403,'الرصيد الثابت'!$J$2:$J$106))","v":""},null,0,null,null,null,null,0,null,null,null,0,null,0,null,null,null,null,null,null,null,null,null,null,null,null,null,null,null,null,null,null,null,null,null,null,null,null,null,null,null,null,null,null,null,null,null,null,null,null,null,null,null,null,null,null,null,null,null,null,null,null,null,null,null,null,null,null,null,null,null,null,null,null,null,null,null,null,null,{"$f":"IFERROR(VLOOKUP(ROWS($CF$3:CF403),$CH$3:$CI$2001,2,FALSE),\"\")","v":""},null,{"$f":"IF(ISNUMBER(SEARCH(B403,CI403)),MAX($CH$2:CH402)+1,0)","v":0},{"$f":"'الرصيد الثابت'!#REF!","v":{"$error":"#REF!"}}]
["",null,{"$f":"IF(B404=\"\",\"\",SUMIF('الرصيد الثابت'!$D$2:$D$106,B404,'الرصيد الثابت'!$H$2:$H$106))","v":""},{"$f":"IF(B404=\"\",\"\",SUMIF('الرصيد الثابت'!$D$2:$D$106,B404,'الرصيد الثابت'!$I$2:$I$106))","v":""},{"$f":"IF(B404=\"\",\"\",SUMIF('الرصيد الثابت'!$D$2:$D$106,B404,'الرصيد الثابت'!$J$2:$J$106))","v":""},null,0,null,null,null,null,0,null,null,null,0,null,0,null,null,null,null,null,null,null,null,null,null,null,null,null,null,null,null,null,null,null,null,null,null,null,null,null,null,null,null,null,null,null,null,null,null,null,null,null,null,null,null,null,null,null,null,null,null,null,null,null,null,null,null,null,null,null,null,null,null,null,null,null,null,null,null,null,{"$f":"IFERROR(VLOOKUP(ROWS($CF$3:CF404),$CH$3:$CI$2001,2,FALSE),\"\")","v":""},null,{"$f":"IF(ISNUMBER(SEARCH(B404,CI404)),MAX($CH$2:CH403)+1,0)","v":0},{"$f":"'الرصيد الثابت'!#REF!","v":{"$error":"#REF!"}}]
["",null,{"$f":"IF(B405=\"\",\"\",SUMIF('الرصيد الثابت'!$D$2:$D$106,B405,'الرصيد الثابت'!$H$2:$H$106))","v":""},{"$f":"IF(B405=\"\",\"\",SUMIF('الرصيد الثابت'!$D$2:$D$106,B405,'الرصيد الثابت'!$I$2:$I$106))","v":""},{"$f":"IF(B405=\"\",\"\",SUMIF('الرصيد الثابت'!$D$2:$D$106,B405,'الرصيد الثابت'!$J$2:$J$106))","v":""},null,0,null,null,null,null,0,null,null,null,0,null,0,null,null,null,null,null,null,null,null,null,null,null,null,null,null,null,null,null,null,null,null,null,null,null,null,null,null,null,null,null,null,null,null,null,null,null,null,null,null,null,null,null,null,null,null,null,null,null,null,null,null,null,null,null,null,null,null,null,null,null,null,null,null,null,null,null,{"$f":"IFERROR(VLOOKUP(ROWS($CF$3:CF405),$CH$3:$CI$2001,2,FALSE),\"\")","v":""},null,{"$f":"IF(ISNUMBER(SEARCH(B405,CI405)),MAX($CH$2:CH404)+1,0)","v":0},{"$f":"'الرصيد الثابت'!#REF!","v":{"$error":"#REF!"}}]
["",null,{"$f":"IF(B406=\"\",\"\",SUMIF('الرصيد الثابت'!$D$2:$D$106,B406,'الرصيد الثابت'!$H$2:$H$106))","v":""},{"$f":"IF(B406=\"\",\"\",SUMIF('الرصيد الثابت'!$D$2:$D$106,B406,'الرصيد الثابت'!$I$2:$I$106))","v":""},{"$f":"IF(B406=\"\",\"\",SUMIF('الرصيد الثابت'!$D$2:$D$106,B406,'الرصيد الثابت'!$J$2:$J$106))","v":""},null,0,null,null,null,null,0,null,null,null,0,null,0,null,null,null,null,null,null,null,null,null,null,null,null,null,null,null,null,null,null,null,null,null,null,null,null,null,null,null,null,null,null,null,null,null,null,null,null,null,null,null,null,null,null,null,null,null,null,null,null,null,null,null,null,null,null,null,null,null,null,null,null,null,null,null,null,null,{"$f":"IFERROR(VLOOKUP(ROWS($CF$3:CF406),$CH$3:$CI$2001,2,FALSE),\"\")","v":""},null,{"$f":"IF(ISNUMBER(SEARCH(B406,CI406)),MAX($CH$2:CH405)+1,0)","v":0},{"$f":"'الرصيد الثابت'!#REF!","v":{"$error":"#REF!"}}]
["",null,{"$f":"IF(B407=\"\",\"\",SUMIF('الرصيد الثابت'!$D$2:$D$106,B407,'الرصيد الثابت'!$H$2:$H$106))","v":""},{"$f":"IF(B407=\"\",\"\",SUMIF('الرصيد الثابت'!$D$2:$D$106,B407,'الرصيد الثابت'!$I$2:$I$106))","v":""},{"$f":"IF(B407=\"\",\"\",SUMIF('الرصيد الثابت'!$D$2:$D$106,B407,'الرصيد الثابت'!$J$2:$J$106))","v":""},null,0,null,null,null,null,0,null,null,null,0,null,0,null,null,null,null,null,null,null,null,null,null,null,null,null,null,null,null,null,null,null,null,null,null,null,null,null,null,null,null,null,null,null,null,null,null,null,null,null,null,null,null,null,null,null,null,null,null,null,null,null,null,null,null,null,null,null,null,null,null,null,null,null,null,null,null,null,{"$f":"IFERROR(VLOOKUP(ROWS($CF$3:CF407),$CH$3:$CI$2001,2,FALSE),\"\")","v":""},null,{"$f":"IF(ISNUMBER(SEARCH(B407,CI407)),MAX($CH$2:CH406)+1,0)","v":0},{"$f":"'الرصيد الثابت'!#REF!","v":{"$error":"#REF!"}}]
["",null,{"$f":"IF(B408=\"\",\"\",SUMIF('الرصيد الثابت'!$D$2:$D$106,B408,'الرصيد الثابت'!$H$2:$H$106))","v":""},{"$f":"IF(B408=\"\",\"\",SUMIF('الرصيد الثابت'!$D$2:$D$106,B408,'الرصيد الثابت'!$I$2:$I$106))","v":""},{"$f":"IF(B408=\"\",\"\",SUMIF('الرصيد الثابت'!$D$2:$D$106,B408,'الرصيد الثابت'!$J$2:$J$106))","v":""},null,0,null,null,null,null,0,null,null,null,0,null,0,null,null,null,null,null,null,null,null,null,null,null,null,null,null,null,null,null,null,null,null,null,null,null,null,null,null,null,null,null,null,null,null,null,null,null,null,null,null,null,null,null,null,null,null,null,null,null,null,null,null,null,null,null,null,null,null,null,null,null,null,null,null,null,null,null,{"$f":"IFERROR(VLOOKUP(ROWS($CF$3:CF408),$CH$3:$CI$2001,2,FALSE),\"\")","v":""},null,{"$f":"IF(ISNUMBER(SEARCH(B408,CI408)),MAX($CH$2:CH407)+1,0)","v":0},{"$f":"'الرصيد الثابت'!#REF!","v":{"$error":"#REF!"}}]
["",null,{"$f":"IF(B409=\"\",\"\",SUMIF('الرصيد الثابت'!$D$2:$D$106,B409,'الرصيد الثابت'!$H$2:$H$106))","v":""},{"$f":"IF(B409=\"\",\"\",SUMIF('الرصيد الثابت'!$D$2:$D$106,B409,'الرصيد الثابت'!$I$2:$I$106))","v":""},{"$f":"IF(B409=\"\",\"\",SUMIF('الرصيد الثابت'!$D$2:$D$106,B409,'الرصيد الثابت'!$J$2:$J$106))","v":""},null,0,null,null,null,null,0,null,null,null,0,null,0,null,null,null,null,null,null,null,null,null,null,null,null,null,null,null,null,null,null,null,null,null,null,null,null,null,null,null,null,null,null,null,null,null,null,null,null,null,null,null,null,null,null,null,null,null,null,null,null,null,null,null,null,null,null,null,null,null,null,null,null,null,null,null,null,null,{"$f":"IFERROR(VLOOKUP(ROWS($CF$3:CF409),$CH$3:$CI$2001,2,FALSE),\"\")","v":""},null,{"$f":"IF(ISNUMBER(SEARCH(B409,CI409)),MAX($CH$2:CH408)+1,0)","v":0},{"$f":"'الرصيد الثابت'!#REF!","v":{"$error":"#REF!"}}]
["",null,{"$f":"IF(B410=\"\",\"\",SUMIF('الرصيد الثابت'!$D$2:$D$106,B410,'الرصيد الثابت'!$H$2:$H$106))","v":""},{"$f":"IF(B410=\"\",\"\",SUMIF('الرصيد الثابت'!$D$2:$D$106,B410,'الرصيد الثابت'!$I$2:$I$106))","v":""},{"$f":"IF(B410=\"\",\"\",SUMIF('الرصيد الثابت'!$D$2:$D$106,B410,'الرصيد الثابت'!$J$2:$J$106))","v":""},null,0,null,null,null,null,0,null,null,null,0,null,0,null,null,null,null,null,null,null,null,null,null,null,null,null,null,null,null,null,null,null,null,null,null,null,null,null,null,null,null,null,null,null,null,null,null,null,null,null,null,null,null,null,null,null,null,null,null,null,null,null,null,null,null,null,null,null,null,null,null,null,null,null,null,null,null,null,{"$f":"IFERROR(VLOOKUP(ROWS($CF$3:CF410),$CH$3:$CI$2001,2,FALSE),\"\")","v":""},null,{"$f":"IF(ISNUMBER(SEARCH(B410,CI410)),MAX($CH$2:CH409)+1,0)","v":0},{"$f":"'الرصيد الثابت'!#REF!","v":{"$error":"#REF!"}}]
["",null,{"$f":"IF(B411=\"\",\"\",SUMIF('الرصيد الثابت'!$D$2:$D$106,B411,'الرصيد الثابت'!$H$2:$H$106))","v":""},{"$f":"IF(B411=\"\",\"\",SUMIF('الرصيد الثابت'!$D$2:$D$106,B411,'الرصيد الثابت'!$I$2:$I$106))","v":""},{"$f":"IF(B411=\"\",\"\",SUMIF('الرصيد الثابت'!$D$2:$D$106,B411,'الرصيد الثابت'!$J$2:$J$106))","v":""},null,0,null,null,null,null,0,null,null,null,0,null,0,null,null,null,null,null,null,null,null,null,null,null,null,null,null,null,null,null,null,null,null,null,null,null,null,null,null,null,null,null,null,null,null,null,null,null,null,null,null,null,null,null,null,null,null,null,null,null,null,null,null,null,null,null,null,null,null,null,null,null,null,null,null,null,null,null,{"$f":"IFERROR(VLOOKUP(ROWS($CF$3:CF411),$CH$3:$CI$2001,2,FALSE),\"\")","v":""},null,{"$f":"IF(ISNUMBER(SEARCH(B411,CI411)),MAX($CH$2:CH410)+1,0)","v":0},{"$f":"'الرصيد الثابت'!#REF!","v":{"$error":"#REF!"}}]
["",null,{"$f":"IF(B412=\"\",\"\",SUMIF('الرصيد الثابت'!$D$2:$D$106,B412,'الرصيد الثابت'!$H$2:$H$106))","v":""},{"$f":"IF(B412=\"\",\"\",SUMIF('الرصيد الثابت'!$D$2:$D$106,B412,'الرصيد الثابت'!$I$2:$I$106))","v":""},{"$f":"IF(B412=\"\",\"\",SUMIF('الرصيد الثابت'!$D$2:$D$106,B412,'الرصيد الثابت'!$J$2:$J$106))","v":""},null,0,null,null,null,null,0,null,null,null,0,null,0,null,null,null,null,null,null,null,null,null,null,null,null,null,null,null,null,null,null,null,null,null,null,null,null,null,null,null,null,null,null,null,null,null,null,null,null,null,null,null,null,null,null,null,null,null,null,null,null,null,null,null,null,null,null,null,null,null,null,null,null,null,null,null,null,null,{"$f":"IFERROR(VLOOKUP(ROWS($CF$3:CF412),$CH$3:$CI$2001,2,FALSE),\"\")","v":""},null,{"$f":"IF(ISNUMBER(SEARCH(B412,CI412)),MAX($CH$2:CH411)+1,0)","v":0},{"$f":"'الرصيد الثابت'!#REF!","v":{"$error":"#REF!"}}]
["",null,{"$f":"IF(B413=\"\",\"\",SUMIF('الرصيد الثابت'!$D$2:$D$106,B413,'الرصيد الثابت'!$H$2:$H$106))","v":""},{"$f":"IF(B413=\"\",\"\",SUMIF('الرصيد الثابت'!$D$2:$D$106,B413,'الرصيد الثابت'!$I$2:$I$106))","v":""},{"$f":"IF(B413=\"\",\"\",SUMIF('الرصيد الثابت'!$D$2:$D$106,B413,'الرصيد الثابت'!$J$2:$J$106))","v":""},null,0,null,null,null,null,0,null,null,null,0,null,0,null,null,null,null,null,null,null,null,null,null,null,null,null,null,null,null,null,null,null,null,null,null,null,null,null,null,null,null,null,null,null,null,null,null,null,null,null,null,null,null,null,null,null,null,null,null,null,null,null,null,null,null,null,null,null,null,null,null,null,null,null,null,null,null,null,{"$f":"IFERROR(VLOOKUP(ROWS($CF$3:CF413),$CH$3:$CI$2001,2,FALSE),\"\")","v":""},null,{"$f":"IF(ISNUMBER(SEARCH(B413,CI413)),MAX($CH$2:CH412)+1,0)","v":0},{"$f":"'الرصيد الثابت'!#REF!","v":{"$error":"#REF!"}}]
["",null,{"$f":"IF(B414=\"\",\"\",SUMIF('الرصيد الثابت'!$D$2:$D$106,B414,'الرصيد الثابت'!$H$2:$H$106))","v":""},{"$f":"IF(B414=\"\",\"\",SUMIF('الرصيد الثابت'!$D$2:$D$106,B414,'الرصيد الثابت'!$I$2:$I$106))","v":""},{"$f":"IF(B414=\"\",\"\",SUMIF('الرصيد الثابت'!$D$2:$D$106,B414,'الرصيد الثابت'!$J$2:$J$106))","v":""},null,0,null,null,null,null,0,null,null,null,0,null,0,null,null,null,null,null,null,null,null,null,null,null,null,null,null,null,null,null,null,null,null,null,null,null,null,null,null,null,null,null,null,null,null,null,null,null,null,null,null,null,null,null,null,null,null,null,null,null,null,null,null,null,null,null,null,null,null,null,null,null,null,null,null,null,null,null,{"$f":"IFERROR(VLOOKUP(ROWS($CF$3:CF414),$CH$3:$CI$2001,2,FALSE),\"\")","v":""},null,{"$f":"IF(ISNUMBER(SEARCH(B414,CI414)),MAX($CH$2:CH413)+1,0)","v":0},{"$f":"'الرصيد الثابت'!#REF!","v":{"$error":"#REF!"}}]
["",null,{"$f":"IF(B415=\"\",\"\",SUMIF('الرصيد الثابت'!$D$2:$D$106,B415,'الرصيد الثابت'!$H$2:$H$106))","v":""},{"$f":"IF(B415=\"\",\"\",SUMIF('الرصيد الثابت'!$D$2:$D$106,B415,'الرصيد الثابت'!$I$2:$I$106))","v":""},{"$f":"IF(B415=\"\",\"\",SUMIF('الرصيد الثابت'!$D$2:$D$106,B415,'الرصيد الثابت'!$J$2:$J$106))","v":""},null,0,null,null,null,null,0,null,null,null,0,null,0,null,null,null,null,null,null,null,null,null,null,null,null,null,null,null,null,null,null,null,null,null,null,null,null,null,null,null,null,null,null,null,null,null,null,null,null,null,null,null,null,null,null,null,null,null,null,null,null,null,null,null,null,null,null,null,null,null,null,null,null,null,null,null,null,null,{"$f":"IFERROR(VLOOKUP(ROWS($CF$3:CF415),$CH$3:$CI$2001,2,FALSE),\"\")","v":""},null,{"$f":"IF(ISNUMBER(SEARCH(B415,CI415)),MAX($CH$2:CH414)+1,0)","v":0},{"$f":"'الرصيد الثابت'!#REF!","v":{"$error":"#REF!"}}]
["",null,{"$f":"IF(B416=\"\",\"\",SUMIF('الرصيد الثابت'!$D$2:$D$106,B416,'الرصيد الثابت'!$H$2:$H$106))","v":""},{"$f":"IF(B416=\"\",\"\",SUMIF('الرصيد الثابت'!$D$2:$D$106,B416,'الرصيد الثابت'!$I$2:$I$106))","v":""},{"$f":"IF(B416=\"\",\"\",SUMIF('الرصيد الثابت'!$D$2:$D$106,B416,'الرصيد الثابت'!$J$2:$J$106))","v":""},null,0,null,null,null,null,0,null,null,null,0,null,0,null,null,null,null,null,null,null,null,null,null,null,null,null,null,null,null,null,null,null,null,null,null,null,null,null,null,null,null,null,null,null,null,null,null,null,null,null,null,null,null,null,null,null,null,null,null,null,null,null,null,null,null,null,null,null,null,null,null,null,null,null,null,null,null,null,{"$f":"IFERROR(VLOOKUP(ROWS($CF$3:CF416),$CH$3:$CI$2001,2,FALSE),\"\")","v":""},null,{"$f":"IF(ISNUMBER(SEARCH(B416,CI416)),MAX($CH$2:CH415)+1,0)","v":0},{"$f":"'الرصيد الثابت'!#REF!","v":{"$error":"#REF!"}}]
["",null,{"$f":"IF(B417=\"\",\"\",SUMIF('الرصيد الثابت'!$D$2:$D$106,B417,'الرصيد الثابت'!$H$2:$H$106))","v":""},{"$f":"IF(B417=\"\",\"\",SUMIF('الرصيد الثابت'!$D$2:$D$106,B417,'الرصيد الثابت'!$I$2:$I$106))","v":""},{"$f":"IF(B417=\"\",\"\",SUMIF('الرصيد الثابت'!$D$2:$D$106,B417,'الرصيد الثابت'!$J$2:$J$106))","v":""},null,0,null,null,null,null,0,null,null,null,0,null,0,null,null,null,null,null,null,null,null,null,null,null,null,null,null,null,null,null,null,null,null,null,null,null,null,null,null,null,null,null,null,null,null,null,null,null,null,null,null,null,null,null,null,null,null,null,null,null,null,null,null,null,null,null,null,null,null,null,null,null,null,null,null,null,null,null,{"$f":"IFERROR(VLOOKUP(ROWS($CF$3:CF417),$CH$3:$CI$2001,2,FALSE),\"\")","v":""},null,{"$f":"IF(ISNUMBER(SEARCH(B417,CI417)),MAX($CH$2:CH416)+1,0)","v":0},{"$f":"'الرصيد الثابت'!#REF!","v":{"$error":"#REF!"}}]
["",null,{"$f":"IF(B418=\"\",\"\",SUMIF('الرصيد الثابت'!$D$2:$D$106,B418,'الرصيد الثابت'!$H$2:$H$106))","v":""},{"$f":"IF(B418=\"\",\"\",SUMIF('الرصيد الثابت'!$D$2:$D$106,B418,'الرصيد الثابت'!$I$2:$I$106))","v":""},{"$f":"IF(B418=\"\",\"\",SUMIF('الرصيد الثابت'!$D$2:$D$106,B418,'الرصيد الثابت'!$J$2:$J$106))","v":""},null,0,null,null,null,null,0,null,null,null,0,null,0,null,null,null,null,null,null,null,null,null,null,null,null,null,null,null,null,null,null,null,null,null,null,null,null,null,null,null,null,null,null,null,null,null,null,null,null,null,null,null,null,null,null,null,null,null,null,null,null,null,null,null,null,null,null,null,null,null,null,null,null,null,null,null,null,null,{"$f":"IFERROR(VLOOKUP(ROWS($CF$3:CF418),$CH$3:$CI$2001,2,FALSE),\"\")","v":""},null,{"$f":"IF(ISNUMBER(SEARCH(B418,CI418)),MAX($CH$2:CH417)+1,0)","v":0},{"$f":"'الرصيد الثابت'!#REF!","v":{"$error":"#REF!"}}]
["",null,{"$f":"IF(B419=\"\",\"\",SUMIF('الرصيد الثابت'!$D$2:$D$106,B419,'الرصيد الثابت'!$H$2:$H$106))","v":""},{"$f":"IF(B419=\"\",\"\",SUMIF('الرصيد الثابت'!$D$2:$D$106,B419,'الرصيد الثابت'!$I$2:$I$106))","v":""},{"$f":"IF(B419=\"\",\"\",SUMIF('الرصيد الثابت'!$D$2:$D$106,B419,'الرصيد الثابت'!$J$2:$J$106))","v":""},null,0,null,null,null,null,0,null,null,null,0,null,0,null,null,null,null,null,null,null,null,null,null,null,null,null,null,null,null,null,null,null,null,null,null,null,null,null,null,null,null,null,null,null,null,null,null,null,null,null,null,null,null,null,null,null,null,null,null,null,null,null,null,null,null,null,null,null,null,null,null,null,null,null,null,null,null,null,{"$f":"IFERROR(VLOOKUP(ROWS($CF$3:CF419),$CH$3:$CI$2001,2,FALSE),\"\")","v":""},null,{"$f":"IF(ISNUMBER(SEARCH(B419,CI419)),MAX($CH$2:CH418)+1,0)","v":0},{"$f":"'الرصيد الثابت'!#REF!","v":{"$error":"#REF!"}}]
["",null,{"$f":"IF(B420=\"\",\"\",SUMIF('الرصيد الثابت'!$D$2:$D$106,B420,'الرصيد الثابت'!$H$2:$H$106))","v":""},{"$f":"IF(B420=\"\",\"\",SUMIF('الرصيد الثابت'!$D$2:$D$106,B420,'الرصيد الثابت'!$I$2:$I$106))","v":""},{"$f":"IF(B420=\"\",\"\",SUMIF('الرصيد الثابت'!$D$2:$D$106,B420,'الرصيد الثابت'!$J$2:$J$106))","v":""},null,0,null,null,null,null,0,null,null,null,0,null,0,null,null,null,null,null,null,null,null,null,null,null,null,null,null,null,null,null,null,null,null,null,null,null,null,null,null,null,null,null,null,null,null,null,null,null,null,null,null,null,null,null,null,null,null,null,null,null,null,null,null,null,null,null,null,null,null,null,null,null,null,null,null,null,null,null,{"$f":"IFERROR(VLOOKUP(ROWS($CF$3:CF420),$CH$3:$CI$2001,2,FALSE),\"\")","v":""},null,{"$f":"IF(ISNUMBER(SEARCH(B420,CI420)),MAX($CH$2:CH419)+1,0)","v":0},{"$f":"'الرصيد الثابت'!#REF!","v":{"$error":"#REF!"}}]
["",null,{"$f":"IF(B421=\"\",\"\",SUMIF('الرصيد الثابت'!$D$2:$D$106,B421,'الرصيد الثابت'!$H$2:$H$106))","v":""},{"$f":"IF(B421=\"\",\"\",SUMIF('الرصيد الثابت'!$D$2:$D$106,B421,'الرصيد الثابت'!$I$2:$I$106))","v":""},{"$f":"IF(B421=\"\",\"\",SUMIF('الرصيد الثابت'!$D$2:$D$106,B421,'الرصيد الثابت'!$J$2:$J$106))","v":""},null,0,null,null,null,null,0,null,null,null,0,null,0,null,null,null,null,null,null,null,null,null,null,null,null,null,null,null,null,null,null,null,null,null,null,null,null,null,null,null,null,null,null,null,null,null,null,null,null,null,null,null,null,null,null,null,null,null,null,null,null,null,null,null,null,null,null,null,null,null,null,null,null,null,null,null,null,null,{"$f":"IFERROR(VLOOKUP(ROWS($CF$3:CF421),$CH$3:$CI$2001,2,FALSE),\"\")","v":""},null,{"$f":"IF(ISNUMBER(SEARCH(B421,CI421)),MAX($CH$2:CH420)+1,0)","v":0},{"$f":"'الرصيد الثابت'!#REF!","v":{"$error":"#REF!"}}]
["",null,{"$f":"IF(B422=\"\",\"\",SUMIF('الرصيد الثابت'!$D$2:$D$106,B422,'الرصيد الثابت'!$H$2:$H$106))","v":""},{"$f":"IF(B422=\"\",\"\",SUMIF('الرصيد الثابت'!$D$2:$D$106,B422,'الرصيد الثابت'!$I$2:$I$106))","v":""},{"$f":"IF(B422=\"\",\"\",SUMIF('الرصيد الثابت'!$D$2:$D$106,B422,'الرصيد الثابت'!$J$2:$J$106))","v":""},null,0,null,null,null,null,0,null,null,null,0,null,0,null,null,null,null,null,null,null,null,null,null,null,null,null,null,null,null,null,null,null,null,null,null,null,null,null,null,null,null,null,null,null,null,null,null,null,null,null,null,null,null,null,null,null,null,null,null,null,null,null,null,null,null,null,null,null,null,null,null,null,null,null,null,null,null,null,{"$f":"IFERROR(VLOOKUP(ROWS($CF$3:CF422),$CH$3:$CI$2001,2,FALSE),\"\")","v":""},null,{"$f":"IF(ISNUMBER(SEARCH(B422,CI422)),MAX($CH$2:CH421)+1,0)","v":0},{"$f":"'الرصيد الثابت'!#REF!","v":{"$error":"#REF!"}}]
["",null,{"$f":"IF(B423=\"\",\"\",SUMIF('الرصيد الثابت'!$D$2:$D$106,B423,'الرصيد الثابت'!$H$2:$H$106))","v":""},{"$f":"IF(B423=\"\",\"\",SUMIF('الرصيد الثابت'!$D$2:$D$106,B423,'الرصيد الثابت'!$I$2:$I$106))","v":""},{"$f":"IF(B423=\"\",\"\",SUMIF('الرصيد الثابت'!$D$2:$D$106,B423,'الرصيد الثابت'!$J$2:$J$106))","v":""},null,0,null,null,null,null,0,null,null,null,0,null,0,null,null,null,null,null,null,null,null,null,null,null,null,null,null,null,null,null,null,null,null,null,null,null,null,null,null,null,null,null,null,null,null,null,null,null,null,null,null,null,null,null,null,null,null,null,null,null,null,null,null,null,null,null,null,null,null,null,null,null,null,null,null,null,null,null,{"$f":"IFERROR(VLOOKUP(ROWS($CF$3:CF423),$CH$3:$CI$2001,2,FALSE),\"\")","v":""},null,{"$f":"IF(ISNUMBER(SEARCH(B423,CI423)),MAX($CH$2:CH422)+1,0)","v":0},{"$f":"'الرصيد الثابت'!#REF!","v":{"$error":"#REF!"}}]
["",null,{"$f":"IF(B424=\"\",\"\",SUMIF('الرصيد الثابت'!$D$2:$D$106,B424,'الرصيد الثابت'!$H$2:$H$106))","v":""},{"$f":"IF(B424=\"\",\"\",SUMIF('الرصيد الثابت'!$D$2:$D$106,B424,'الرصيد الثابت'!$I$2:$I$106))","v":""},{"$f":"IF(B424=\"\",\"\",SUMIF('الرصيد الثابت'!$D$2:$D$106,B424,'الرصيد الثابت'!$J$2:$J$106))","v":""},null,0,null,null,null,null,0,null,null,null,0,null,0,null,null,null,null,null,null,null,null,null,null,null,null,null,null,null,null,null,null,null,null,null,null,null,null,null,null,null,null,null,null,null,null,null,null,null,null,null,null,null,null,null,null,null,null,null,null,null,null,null,null,null,null,null,null,null,null,null,null,null,null,null,null,null,null,null,{"$f":"IFERROR(VLOOKUP(ROWS($CF$3:CF424),$CH$3:$CI$2001,2,FALSE),\"\")","v":""},null,{"$f":"IF(ISNUMBER(SEARCH(B424,CI424)),MAX($CH$2:CH423)+1,0)","v":0},{"$f":"'الرصيد الثابت'!#REF!","v":{"$error":"#REF!"}}]
["",null,{"$f":"IF(B425=\"\",\"\",SUMIF('الرصيد الثابت'!$D$2:$D$106,B425,'الرصيد الثابت'!$H$2:$H$106))","v":""},{"$f":"IF(B425=\"\",\"\",SUMIF('الرصيد الثابت'!$D$2:$D$106,B425,'الرصيد الثابت'!$I$2:$I$106))","v":""},{"$f":"IF(B425=\"\",\"\",SUMIF('الرصيد الثابت'!$D$2:$D$106,B425,'الرصيد الثابت'!$J$2:$J$106))","v":""},null,0,null,null,null,null,0,null,null,null,0,null,0,null,null,null,null,null,null,null,null,null,null,null,null,null,null,null,null,null,null,null,null,null,null,null,null,null,null,null,null,null,null,null,null,null,null,null,null,null,null,null,null,null,null,null,null,null,null,null,null,null,null,null,null,null,null,null,null,null,null,null,null,null,null,null,null,null,{"$f":"IFERROR(VLOOKUP(ROWS($CF$3:CF425),$CH$3:$CI$2001,2,FALSE),\"\")","v":""},null,{"$f":"IF(ISNUMBER(SEARCH(B425,CI425)),MAX($CH$2:CH424)+1,0)","v":0},{"$f":"'الرصيد الثابت'!#REF!","v":{"$error":"#REF!"}}]
["",null,{"$f":"IF(B426=\"\",\"\",SUMIF('الرصيد الثابت'!$D$2:$D$106,B426,'الرصيد الثابت'!$H$2:$H$106))","v":""},{"$f":"IF(B426=\"\",\"\",SUMIF('الرصيد الثابت'!$D$2:$D$106,B426,'الرصيد الثابت'!$I$2:$I$106))","v":""},{"$f":"IF(B426=\"\",\"\",SUMIF('الرصيد الثابت'!$D$2:$D$106,B426,'الرصيد الثابت'!$J$2:$J$106))","v":""},null,0,null,null,null,null,0,null,null,null,0,null,0,null,null,null,null,null,null,null,null,null,null,null,null,null,null,null,null,null,null,null,null,null,null,null,null,null,null,null,null,null,null,null,null,null,null,null,null,null,null,null,null,null,null,null,null,null,null,null,null,null,null,null,null,null,null,null,null,null,null,null,null,null,null,null,null,null,{"$f":"IFERROR(VLOOKUP(ROWS($CF$3:CF426),$CH$3:$CI$2001,2,FALSE),\"\")","v":""},null,{"$f":"IF(ISNUMBER(SEARCH(B426,CI426)),MAX($CH$2:CH425)+1,0)","v":0},{"$f":"'الرصيد الثابت'!#REF!","v":{"$error":"#REF!"}}]
["",null,{"$f":"IF(B427=\"\",\"\",SUMIF('الرصيد الثابت'!$D$2:$D$106,B427,'الرصيد الثابت'!$H$2:$H$106))","v":""},{"$f":"IF(B427=\"\",\"\",SUMIF('الرصيد الثابت'!$D$2:$D$106,B427,'الرصيد الثابت'!$I$2:$I$106))","v":""},{"$f":"IF(B427=\"\",\"\",SUMIF('الرصيد الثابت'!$D$2:$D$106,B427,'الرصيد الثابت'!$J$2:$J$106))","v":""},null,0,null,null,null,null,0,null,null,null,0,null,0,null,null,null,null,null,null,null,null,null,null,null,null,null,null,null,null,null,null,null,null,null,null,null,null,null,null,null,null,null,null,null,null,null,null,null,null,null,null,null,null,null,null,null,null,null,null,null,null,null,null,null,null,null,null,null,null,null,null,null,null,null,null,null,null,null,{"$f":"IFERROR(VLOOKUP(ROWS($CF$3:CF427),$CH$3:$CI$2001,2,FALSE),\"\")","v":""},null,{"$f":"IF(ISNUMBER(SEARCH(B427,CI427)),MAX($CH$2:CH426)+1,0)","v":0},{"$f":"'الرصيد الثابت'!#REF!","v":{"$error":"#REF!"}}]
["",null,{"$f":"IF(B428=\"\",\"\",SUMIF('الرصيد الثابت'!$D$2:$D$106,B428,'الرصيد الثابت'!$H$2:$H$106))","v":""},{"$f":"IF(B428=\"\",\"\",SUMIF('الرصيد الثابت'!$D$2:$D$106,B428,'الرصيد الثابت'!$I$2:$I$106))","v":""},{"$f":"IF(B428=\"\",\"\",SUMIF('الرصيد الثابت'!$D$2:$D$106,B428,'الرصيد الثابت'!$J$2:$J$106))","v":""},null,0,null,null,null,null,0,null,null,null,0,null,0,null,null,null,null,null,null,null,null,null,null,null,null,null,null,null,null,null,null,null,null,null,null,null,null,null,null,null,null,null,null,null,null,null,null,null,null,null,null,null,null,null,null,null,null,null,null,null,null,null,null,null,null,null,null,null,null,null,null,null,null,null,null,null,null,null,{"$f":"IFERROR(VLOOKUP(ROWS($CF$3:CF428),$CH$3:$CI$2001,2,FALSE),\"\")","v":""},null,{"$f":"IF(ISNUMBER(SEARCH(B428,CI428)),MAX($CH$2:CH427)+1,0)","v":0},{"$f":"'الرصيد الثابت'!#REF!","v":{"$error":"#REF!"}}]
["",null,{"$f":"IF(B429=\"\",\"\",SUMIF('الرصيد الثابت'!$D$2:$D$106,B429,'الرصيد الثابت'!$H$2:$H$106))","v":""},{"$f":"IF(B429=\"\",\"\",SUMIF('الرصيد الثابت'!$D$2:$D$106,B429,'الرصيد الثابت'!$I$2:$I$106))","v":""},{"$f":"IF(B429=\"\",\"\",SUMIF('الرصيد الثابت'!$D$2:$D$106,B429,'الرصيد الثابت'!$J$2:$J$106))","v":""},null,0,null,null,null,null,0,null,null,null,0,null,0,null,null,null,null,null,null,null,null,null,null,null,null,null,null,null,null,null,null,null,null,null,null,null,null,null,null,null,null,null,null,null,null,null,null,null,null,null,null,null,null,null,null,null,null,null,null,null,null,null,null,null,null,null,null,null,null,null,null,null,null,null,null,null,null,null,{"$f":"IFERROR(VLOOKUP(ROWS($CF$3:CF429),$CH$3:$CI$2001,2,FALSE),\"\")","v":""},null,{"$f":"IF(ISNUMBER(SEARCH(B429,CI429)),MAX($CH$2:CH428)+1,0)","v":0},{"$f":"'الرصيد الثابت'!#REF!","v":{"$error":"#REF!"}}]
["",null,{"$f":"IF(B430=\"\",\"\",SUMIF('الرصيد الثابت'!$D$2:$D$106,B430,'الرصيد الثابت'!$H$2:$H$106))","v":""},{"$f":"IF(B430=\"\",\"\",SUMIF('الرصيد الثابت'!$D$2:$D$106,B430,'الرصيد الثابت'!$I$2:$I$106))","v":""},{"$f":"IF(B430=\"\",\"\",SUMIF('الرصيد الثابت'!$D$2:$D$106,B430,'الرصيد الثابت'!$J$2:$J$106))","v":""},null,0,null,null,null,null,0,null,null,null,0,null,0,null,null,null,null,null,null,null,null,null,null,null,null,null,null,null,null,null,null,null,null,null,null,null,null,null,null,null,null,null,null,null,null,null,null,null,null,null,null,null,null,null,null,null,null,null,null,null,null,null,null,null,null,null,null,null,null,null,null,null,null,null,null,null,null,null,{"$f":"IFERROR(VLOOKUP(ROWS($CF$3:CF430),$CH$3:$CI$2001,2,FALSE),\"\")","v":""},null,{"$f":"IF(ISNUMBER(SEARCH(B430,CI430)),MAX($CH$2:CH429)+1,0)","v":0},{"$f":"'الرصيد الثابت'!#REF!","v":{"$error":"#REF!"}}]
["",null,{"$f":"IF(B431=\"\",\"\",SUMIF('الرصيد الثابت'!$D$2:$D$106,B431,'الرصيد الثابت'!$H$2:$H$106))","v":""},{"$f":"IF(B431=\"\",\"\",SUMIF('الرصيد الثابت'!$D$2:$D$106,B431,'الرصيد الثابت'!$I$2:$I$106))","v":""},{"$f":"IF(B431=\"\",\"\",SUMIF('الرصيد الثابت'!$D$2:$D$106,B431,'الرصيد الثابت'!$J$2:$J$106))","v":""},null,0,null,null,null,null,0,null,null,null,0,null,0,null,null,null,null,null,null,null,null,null,null,null,null,null,null,null,null,null,null,null,null,null,null,null,null,null,null,null,null,null,null,null,null,null,null,null,null,null,null,null,null,null,null,null,null,null,null,null,null,null,null,null,null,null,null,null,null,null,null,null,null,null,null,null,null,null,{"$f":"IFERROR(VLOOKUP(ROWS($CF$3:CF431),$CH$3:$CI$2001,2,FALSE),\"\")","v":""},null,{"$f":"IF(ISNUMBER(SEARCH(B431,CI431)),MAX($CH$2:CH430)+1,0)","v":0},{"$f":"'الرصيد الثابت'!#REF!","v":{"$error":"#REF!"}}]
["",null,{"$f":"IF(B432=\"\",\"\",SUMIF('الرصيد الثابت'!$D$2:$D$106,B432,'الرصيد الثابت'!$H$2:$H$106))","v":""},{"$f":"IF(B432=\"\",\"\",SUMIF('الرصيد الثابت'!$D$2:$D$106,B432,'الرصيد الثابت'!$I$2:$I$106))","v":""},{"$f":"IF(B432=\"\",\"\",SUMIF('الرصيد الثابت'!$D$2:$D$106,B432,'الرصيد الثابت'!$J$2:$J$106))","v":""},null,0,null,null,null,null,0,null,null,null,0,null,0,null,null,null,null,null,null,null,null,null,null,null,null,null,null,null,null,null,null,null,null,null,null,null,null,null,null,null,null,null,null,null,null,null,null,null,null,null,null,null,null,null,null,null,null,null,null,null,null,null,null,null,null,null,null,null,null,null,null,null,null,null,null,null,null,null,{"$f":"IFERROR(VLOOKUP(ROWS($CF$3:CF432),$CH$3:$CI$2001,2,FALSE),\"\")","v":""},null,{"$f":"IF(ISNUMBER(SEARCH(B432,CI432)),MAX($CH$2:CH431)+1,0)","v":0},{"$f":"'الرصيد الثابت'!#REF!","v":{"$error":"#REF!"}}]
["",null,{"$f":"IF(B433=\"\",\"\",SUMIF('الرصيد الثابت'!$D$2:$D$106,B433,'الرصيد الثابت'!$H$2:$H$106))","v":""},{"$f":"IF(B433=\"\",\"\",SUMIF('الرصيد الثابت'!$D$2:$D$106,B433,'الرصيد الثابت'!$I$2:$I$106))","v":""},{"$f":"IF(B433=\"\",\"\",SUMIF('الرصيد الثابت'!$D$2:$D$106,B433,'الرصيد الثابت'!$J$2:$J$106))","v":""},null,0,null,null,null,null,0,null,null,null,0,null,0,null,null,null,null,null,null,null,null,null,null,null,null,null,null,null,null,null,null,null,null,null,null,null,null,null,null,null,null,null,null,null,null,null,null,null,null,null,null,null,null,null,null,null,null,null,null,null,null,null,null,null,null,null,null,null,null,null,null,null,null,null,null,null,null,null,{"$f":"IFERROR(VLOOKUP(ROWS($CF$3:CF433),$CH$3:$CI$2001,2,FALSE),\"\")","v":""},null,{"$f":"IF(ISNUMBER(SEARCH(B433,CI433)),MAX($CH$2:CH432)+1,0)","v":0},{"$f":"'الرصيد الثابت'!#REF!","v":{"$error":"#REF!"}}]
["",null,{"$f":"IF(B434=\"\",\"\",SUMIF('الرصيد الثابت'!$D$2:$D$106,B434,'الرصيد الثابت'!$H$2:$H$106))","v":""},{"$f":"IF(B434=\"\",\"\",SUMIF('الرصيد الثابت'!$D$2:$D$106,B434,'الرصيد الثابت'!$I$2:$I$106))","v":""},{"$f":"IF(B434=\"\",\"\",SUMIF('الرصيد الثابت'!$D$2:$D$106,B434,'الرصيد الثابت'!$J$2:$J$106))","v":""},null,0,null,null,null,null,0,null,null,null,0,null,0,null,null,null,null,null,null,null,null,null,null,null,null,null,null,null,null,null,null,null,null,null,null,null,null,null,null,null,null,null,null,null,null,null,null,null,null,null,null,null,null,null,null,null,null,null,null,null,null,null,null,null,null,null,null,null,null,null,null,null,null,null,null,null,null,null,{"$f":"IFERROR(VLOOKUP(ROWS($CF$3:CF434),$CH$3:$CI$2001,2,FALSE),\"\")","v":""},null,{"$f":"IF(ISNUMBER(SEARCH(B434,CI434)),MAX($CH$2:CH433)+1,0)","v":0},{"$f":"'الرصيد الثابت'!#REF!","v":{"$error":"#REF!"}}]
["",null,{"$f":"IF(B435=\"\",\"\",SUMIF('الرصيد الثابت'!$D$2:$D$106,B435,'الرصيد الثابت'!$H$2:$H$106))","v":""},{"$f":"IF(B435=\"\",\"\",SUMIF('الرصيد الثابت'!$D$2:$D$106,B435,'الرصيد الثابت'!$I$2:$I$106))","v":""},{"$f":"IF(B435=\"\",\"\",SUMIF('الرصيد الثابت'!$D$2:$D$106,B435,'الرصيد الثابت'!$J$2:$J$106))","v":""},null,0,null,null,null,null,0,null,null,null,0,null,0,null,null,null,null,null,null,null,null,null,null,null,null,null,null,null,null,null,null,null,null,null,null,null,null,null,null,null,null,null,null,null,null,null,null,null,null,null,null,null,null,null,null,null,null,null,null,null,null,null,null,null,null,null,null,null,null,null,null,null,null,null,null,null,null,null,{"$f":"IFERROR(VLOOKUP(ROWS($CF$3:CF435),$CH$3:$CI$2001,2,FALSE),\"\")","v":""},null,{"$f":"IF(ISNUMBER(SEARCH(B435,CI435)),MAX($CH$2:CH434)+1,0)","v":0},{"$f":"'الرصيد الثابت'!#REF!","v":{"$error":"#REF!"}}]
["",null,{"$f":"IF(B436=\"\",\"\",SUMIF('الرصيد الثابت'!$D$2:$D$106,B436,'الرصيد الثابت'!$H$2:$H$106))","v":""},{"$f":"IF(B436=\"\",\"\",SUMIF('الرصيد الثابت'!$D$2:$D$106,B436,'الرصيد الثابت'!$I$2:$I$106))","v":""},{"$f":"IF(B436=\"\",\"\",SUMIF('الرصيد الثابت'!$D$2:$D$106,B436,'الرصيد الثابت'!$J$2:$J$106))","v":""},null,0,null,null,null,null,0,null,null,null,0,null,0,null,null,null,null,null,null,null,null,null,null,null,null,null,null,null,null,null,null,null,null,null,null,null,null,null,null,null,null,null,null,null,null,null,null,null,null,null,null,null,null,null,null,null,null,null,null,null,null,null,null,null,null,null,null,null,null,null,null,null,null,null,null,null,null,null,{"$f":"IFERROR(VLOOKUP(ROWS($CF$3:CF436),$CH$3:$CI$2001,2,FALSE),\"\")","v":""},null,{"$f":"IF(ISNUMBER(SEARCH(B436,CI436)),MAX($CH$2:CH435)+1,0)","v":0},{"$f":"'الرصيد الثابت'!#REF!","v":{"$error":"#REF!"}}]
["",null,{"$f":"IF(B437=\"\",\"\",SUMIF('الرصيد الثابت'!$D$2:$D$106,B437,'الرصيد الثابت'!$H$2:$H$106))","v":""},{"$f":"IF(B437=\"\",\"\",SUMIF('الرصيد الثابت'!$D$2:$D$106,B437,'الرصيد الثابت'!$I$2:$I$106))","v":""},{"$f":"IF(B437=\"\",\"\",SUMIF('الرصيد الثابت'!$D$2:$D$106,B437,'الرصيد الثابت'!$J$2:$J$106))","v":""},null,0,null,null,null,null,0,null,null,null,0,null,0,null,null,null,null,null,null,null,null,null,null,null,null,null,null,null,null,null,null,null,null,null,null,null,null,null,null,null,null,null,null,null,null,null,null,null,null,null,null,null,null,null,null,null,null,null,null,null,null,null,null,null,null,null,null,null,null,null,null,null,null,null,null,null,null,null,{"$f":"IFERROR(VLOOKUP(ROWS($CF$3:CF437),$CH$3:$CI$2001,2,FALSE),\"\")","v":""},null,{"$f":"IF(ISNUMBER(SEARCH(B437,CI437)),MAX($CH$2:CH436)+1,0)","v":0},{"$f":"'الرصيد الثابت'!#REF!","v":{"$error":"#REF!"}}]
["",null,{"$f":"IF(B438=\"\",\"\",SUMIF('الرصيد الثابت'!$D$2:$D$106,B438,'الرصيد الثابت'!$H$2:$H$106))","v":""},{"$f":"IF(B438=\"\",\"\",SUMIF('الرصيد الثابت'!$D$2:$D$106,B438,'الرصيد الثابت'!$I$2:$I$106))","v":""},{"$f":"IF(B438=\"\",\"\",SUMIF('الرصيد الثابت'!$D$2:$D$106,B438,'الرصيد الثابت'!$J$2:$J$106))","v":""},null,0,null,null,null,null,0,null,null,null,0,null,0,null,null,null,null,null,null,null,null,null,null,null,null,null,null,null,null,null,null,null,null,null,null,null,null,null,null,null,null,null,null,null,null,null,null,null,null,null,null,null,null,null,null,null,null,null,null,null,null,null,null,null,null,null,null,null,null,null,null,null,null,null,null,null,null,null,{"$f":"IFERROR(VLOOKUP(ROWS($CF$3:CF438),$CH$3:$CI$2001,2,FALSE),\"\")","v":""},null,{"$f":"IF(ISNUMBER(SEARCH(B438,CI438)),MAX($CH$2:CH437)+1,0)","v":0},{"$f":"'الرصيد الثابت'!#REF!","v":{"$error":"#REF!"}}]
["",null,{"$f":"IF(B439=\"\",\"\",SUMIF('الرصيد الثابت'!$D$2:$D$106,B439,'الرصيد الثابت'!$H$2:$H$106))","v":""},{"$f":"IF(B439=\"\",\"\",SUMIF('الرصيد الثابت'!$D$2:$D$106,B439,'الرصيد الثابت'!$I$2:$I$106))","v":""},{"$f":"IF(B439=\"\",\"\",SUMIF('الرصيد الثابت'!$D$2:$D$106,B439,'الرصيد الثابت'!$J$2:$J$106))","v":""},null,0,null,null,null,null,0,null,null,null,0,null,0,null,null,null,null,null,null,null,null,null,null,null,null,null,null,null,null,null,null,null,null,null,null,null,null,null,null,null,null,null,null,null,null,null,null,null,null,null,null,null,null,null,null,null,null,null,null,null,null,null,null,null,null,null,null,null,null,null,null,null,null,null,null,null,null,null,{"$f":"IFERROR(VLOOKUP(ROWS($CF$3:CF439),$CH$3:$CI$2001,2,FALSE),\"\")","v":""},null,{"$f":"IF(ISNUMBER(SEARCH(B439,CI439)),MAX($CH$2:CH438)+1,0)","v":0},{"$f":"'الرصيد الثابت'!#REF!","v":{"$error":"#REF!"}}]
["",null,{"$f":"IF(B440=\"\",\"\",SUMIF('الرصيد الثابت'!$D$2:$D$106,B440,'الرصيد الثابت'!$H$2:$H$106))","v":""},{"$f":"IF(B440=\"\",\"\",SUMIF('الرصيد الثابت'!$D$2:$D$106,B440,'الرصيد الثابت'!$I$2:$I$106))","v":""},{"$f":"IF(B440=\"\",\"\",SUMIF('الرصيد الثابت'!$D$2:$D$106,B440,'الرصيد الثابت'!$J$2:$J$106))","v":""},null,0,null,null,null,null,0,null,null,null,0,null,0,null,null,null,null,null,null,null,null,null,null,null,null,null,null,null,null,null,null,null,null,null,null,null,null,null,null,null,null,null,null,null,null,null,null,null,null,null,null,null,null,null,null,null,null,null,null,null,null,null,null,null,null,null,null,null,null,null,null,null,null,null,null,null,null,null,{"$f":"IFERROR(VLOOKUP(ROWS($CF$3:CF440),$CH$3:$CI$2001,2,FALSE),\"\")","v":""},null,{"$f":"IF(ISNUMBER(SEARCH(B440,CI440)),MAX($CH$2:CH439)+1,0)","v":0},{"$f":"'الرصيد الثابت'!#REF!","v":{"$error":"#REF!"}}]
["",null,{"$f":"IF(B441=\"\",\"\",SUMIF('الرصيد الثابت'!$D$2:$D$106,B441,'الرصيد الثابت'!$H$2:$H$106))","v":""},{"$f":"IF(B441=\"\",\"\",SUMIF('الرصيد الثابت'!$D$2:$D$106,B441,'الرصيد الثابت'!$I$2:$I$106))","v":""},{"$f":"IF(B441=\"\",\"\",SUMIF('الرصيد الثابت'!$D$2:$D$106,B441,'الرصيد الثابت'!$J$2:$J$106))","v":""},null,0,null,null,null,null,0,null,null,null,0,null,0,null,null,null,null,null,null,null,null,null,null,null,null,null,null,null,null,null,null,null,null,null,null,null,null,null,null,null,null,null,null,null,null,null,null,null,null,null,null,null,null,null,null,null,null,null,null,null,null,null,null,null,null,null,null,null,null,null,null,null,null,null,null,null,null,null,{"$f":"IFERROR(VLOOKUP(ROWS($CF$3:CF441),$CH$3:$CI$2001,2,FALSE),\"\")","v":""},null,{"$f":"IF(ISNUMBER(SEARCH(B441,CI441)),MAX($CH$2:CH440)+1,0)","v":0},{"$f":"'الرصيد الثابت'!#REF!","v":{"$error":"#REF!"}}]
["",null,{"$f":"IF(B442=\"\",\"\",SUMIF('الرصيد الثابت'!$D$2:$D$106,B442,'الرصيد الثابت'!$H$2:$H$106))","v":""},{"$f":"IF(B442=\"\",\"\",SUMIF('الرصيد الثابت'!$D$2:$D$106,B442,'الرصيد الثابت'!$I$2:$I$106))","v":""},{"$f":"IF(B442=\"\",\"\",SUMIF('الرصيد الثابت'!$D$2:$D$106,B442,'الرصيد الثابت'!$J$2:$J$106))","v":""},null,0,null,null,null,null,0,null,null,null,0,null,0,null,null,null,null,null,null,null,null,null,null,null,null,null,null,null,null,null,null,null,null,null,null,null,null,null,null,null,null,null,null,null,null,null,null,null,null,null,null,null,null,null,null,null,null,null,null,null,null,null,null,null,null,null,null,null,null,null,null,null,null,null,null,null,null,null,{"$f":"IFERROR(VLOOKUP(ROWS($CF$3:CF442),$CH$3:$CI$2001,2,FALSE),\"\")","v":""},null,{"$f":"IF(ISNUMBER(SEARCH(B442,CI442)),MAX($CH$2:CH441)+1,0)","v":0},{"$f":"'الرصيد الثابت'!#REF!","v":{"$error":"#REF!"}}]
["",null,{"$f":"IF(B443=\"\",\"\",SUMIF('الرصيد الثابت'!$D$2:$D$106,B443,'الرصيد الثابت'!$H$2:$H$106))","v":""},{"$f":"IF(B443=\"\",\"\",SUMIF('الرصيد الثابت'!$D$2:$D$106,B443,'الرصيد الثابت'!$I$2:$I$106))","v":""},{"$f":"IF(B443=\"\",\"\",SUMIF('الرصيد الثابت'!$D$2:$D$106,B443,'الرصيد الثابت'!$J$2:$J$106))","v":""},null,0,null,null,null,null,0,null,null,null,0,null,0,null,null,null,null,null,null,null,null,null,null,null,null,null,null,null,null,null,null,null,null,null,null,null,null,null,null,null,null,null,null,null,null,null,null,null,null,null,null,null,null,null,null,null,null,null,null,null,null,null,null,null,null,null,null,null,null,null,null,null,null,null,null,null,null,null,{"$f":"IFERROR(VLOOKUP(ROWS($CF$3:CF443),$CH$3:$CI$2001,2,FALSE),\"\")","v":""},null,{"$f":"IF(ISNUMBER(SEARCH(B443,CI443)),MAX($CH$2:CH442)+1,0)","v":0},{"$f":"'الرصيد الثابت'!#REF!","v":{"$error":"#REF!"}}]
["",null,{"$f":"IF(B444=\"\",\"\",SUMIF('الرصيد الثابت'!$D$2:$D$106,B444,'الرصيد الثابت'!$H$2:$H$106))","v":""},{"$f":"IF(B444=\"\",\"\",SUMIF('الرصيد الثابت'!$D$2:$D$106,B444,'الرصيد الثابت'!$I$2:$I$106))","v":""},{"$f":"IF(B444=\"\",\"\",SUMIF('الرصيد الثابت'!$D$2:$D$106,B444,'الرصيد الثابت'!$J$2:$J$106))","v":""},null,0,null,null,null,null,0,null,null,null,0,null,0,null,null,null,null,null,null,null,null,null,null,null,null,null,null,null,null,null,null,null,null,null,null,null,null,null,null,null,null,null,null,null,null,null,null,null,null,null,null,null,null,null,null,null,null,null,null,null,null,null,null,null,null,null,null,null,null,null,null,null,null,null,null,null,null,null,{"$f":"IFERROR(VLOOKUP(ROWS($CF$3:CF444),$CH$3:$CI$2001,2,FALSE),\"\")","v":""},null,{"$f":"IF(ISNUMBER(SEARCH(B444,CI444)),MAX($CH$2:CH443)+1,0)","v":0},{"$f":"'الرصيد الثابت'!#REF!","v":{"$error":"#REF!"}}]
["",null,{"$f":"IF(B445=\"\",\"\",SUMIF('الرصيد الثابت'!$D$2:$D$106,B445,'الرصيد الثابت'!$H$2:$H$106))","v":""},{"$f":"IF(B445=\"\",\"\",SUMIF('الرصيد الثابت'!$D$2:$D$106,B445,'الرصيد الثابت'!$I$2:$I$106))","v":""},{"$f":"IF(B445=\"\",\"\",SUMIF('الرصيد الثابت'!$D$2:$D$106,B445,'الرصيد الثابت'!$J$2:$J$106))","v":""},null,0,null,null,null,null,0,null,null,null,0,null,0,null,null,null,null,null,null,null,null,null,null,null,null,null,null,null,null,null,null,null,null,null,null,null,null,null,null,null,null,null,null,null,null,null,null,null,null,null,null,null,null,null,null,null,null,null,null,null,null,null,null,null,null,null,null,null,null,null,null,null,null,null,null,null,null,null,{"$f":"IFERROR(VLOOKUP(ROWS($CF$3:CF445),$CH$3:$CI$2001,2,FALSE),\"\")","v":""},null,{"$f":"IF(ISNUMBER(SEARCH(B445,CI445)),MAX($CH$2:CH444)+1,0)","v":0},{"$f":"'الرصيد الثابت'!#REF!","v":{"$error":"#REF!"}}]
["",null,{"$f":"IF(B446=\"\",\"\",SUMIF('الرصيد الثابت'!$D$2:$D$106,B446,'الرصيد الثابت'!$H$2:$H$106))","v":""},{"$f":"IF(B446=\"\",\"\",SUMIF('الرصيد الثابت'!$D$2:$D$106,B446,'الرصيد الثابت'!$I$2:$I$106))","v":""},{"$f":"IF(B446=\"\",\"\",SUMIF('الرصيد الثابت'!$D$2:$D$106,B446,'الرصيد الثابت'!$J$2:$J$106))","v":""},null,0,null,null,null,null,0,null,null,null,0,null,0,null,null,null,null,null,null,null,null,null,null,null,null,null,null,null,null,null,null,null,null,null,null,null,null,null,null,null,null,null,null,null,null,null,null,null,null,null,null,null,null,null,null,null,null,null,null,null,null,null,null,null,null,null,null,null,null,null,null,null,null,null,null,null,null,null,{"$f":"IFERROR(VLOOKUP(ROWS($CF$3:CF446),$CH$3:$CI$2001,2,FALSE),\"\")","v":""},null,{"$f":"IF(ISNUMBER(SEARCH(B446,CI446)),MAX($CH$2:CH445)+1,0)","v":0},{"$f":"'الرصيد الثابت'!#REF!","v":{"$error":"#REF!"}}]
["",null,{"$f":"IF(B447=\"\",\"\",SUMIF('الرصيد الثابت'!$D$2:$D$106,B447,'الرصيد الثابت'!$H$2:$H$106))","v":""},{"$f":"IF(B447=\"\",\"\",SUMIF('الرصيد الثابت'!$D$2:$D$106,B447,'الرصيد الثابت'!$I$2:$I$106))","v":""},{"$f":"IF(B447=\"\",\"\",SUMIF('الرصيد الثابت'!$D$2:$D$106,B447,'الرصيد الثابت'!$J$2:$J$106))","v":""},null,0,null,null,null,null,0,null,null,null,0,null,0,null,null,null,null,null,null,null,null,null,null,null,null,null,null,null,null,null,null,null,null,null,null,null,null,null,null,null,null,null,null,null,null,null,null,null,null,null,null,null,null,null,null,null,null,null,null,null,null,null,null,null,null,null,null,null,null,null,null,null,null,null,null,null,null,null,{"$f":"IFERROR(VLOOKUP(ROWS($CF$3:CF447),$CH$3:$CI$2001,2,FALSE),\"\")","v":""},null,{"$f":"IF(ISNUMBER(SEARCH(B447,CI447)),MAX($CH$2:CH446)+1,0)","v":0},{"$f":"'الرصيد الثابت'!#REF!","v":{"$error":"#REF!"}}]
["",null,{"$f":"IF(B448=\"\",\"\",SUMIF('الرصيد الثابت'!$D$2:$D$106,B448,'الرصيد الثابت'!$H$2:$H$106))","v":""},{"$f":"IF(B448=\"\",\"\",SUMIF('الرصيد الثابت'!$D$2:$D$106,B448,'الرصيد الثابت'!$I$2:$I$106))","v":""},{"$f":"IF(B448=\"\",\"\",SUMIF('الرصيد الثابت'!$D$2:$D$106,B448,'الرصيد الثابت'!$J$2:$J$106))","v":""},null,0,null,null,null,null,0,null,null,null,0,null,0,null,null,null,null,null,null,null,null,null,null,null,null,null,null,null,null,null,null,null,null,null,null,null,null,null,null,null,null,null,null,null,null,null,null,null,null,null,null,null,null,null,null,null,null,null,null,null,null,null,null,null,null,null,null,null,null,null,null,null,null,null,null,null,null,null,{"$f":"IFERROR(VLOOKUP(ROWS($CF$3:CF448),$CH$3:$CI$2001,2,FALSE),\"\")","v":""},null,{"$f":"IF(ISNUMBER(SEARCH(B448,CI448)),MAX($CH$2:CH447)+1,0)","v":0},{"$f":"'الرصيد الثابت'!#REF!","v":{"$error":"#REF!"}}]
["",null,{"$f":"IF(B449=\"\",\"\",SUMIF('الرصيد الثابت'!$D$2:$D$106,B449,'الرصيد الثابت'!$H$2:$H$106))","v":""},{"$f":"IF(B449=\"\",\"\",SUMIF('الرصيد الثابت'!$D$2:$D$106,B449,'الرصيد الثابت'!$I$2:$I$106))","v":""},{"$f":"IF(B449=\"\",\"\",SUMIF('الرصيد الثابت'!$D$2:$D$106,B449,'الرصيد الثابت'!$J$2:$J$106))","v":""},null,0,null,null,null,null,0,null,null,null,0,null,0,null,null,null,null,null,null,null,null,null,null,null,null,null,null,null,null,null,null,null,null,null,null,null,null,null,null,null,null,null,null,null,null,null,null,null,null,null,null,null,null,null,null,null,null,null,null,null,null,null,null,null,null,null,null,null,null,null,null,null,null,null,null,null,null,null,{"$f":"IFERROR(VLOOKUP(ROWS($CF$3:CF449),$CH$3:$CI$2001,2,FALSE),\"\")","v":""},null,{"$f":"IF(ISNUMBER(SEARCH(B449,CI449)),MAX($CH$2:CH448)+1,0)","v":0},{"$f":"'الرصيد الثابت'!#REF!","v":{"$error":"#REF!"}}]
["",null,{"$f":"IF(B450=\"\",\"\",SUMIF('الرصيد الثابت'!$D$2:$D$106,B450,'الرصيد الثابت'!$H$2:$H$106))","v":""},{"$f":"IF(B450=\"\",\"\",SUMIF('الرصيد الثابت'!$D$2:$D$106,B450,'الرصيد الثابت'!$I$2:$I$106))","v":""},{"$f":"IF(B450=\"\",\"\",SUMIF('الرصيد الثابت'!$D$2:$D$106,B450,'الرصيد الثابت'!$J$2:$J$106))","v":""},null,0,null,null,null,null,0,null,null,null,0,null,0,null,null,null,null,null,null,null,null,null,null,null,null,null,null,null,null,null,null,null,null,null,null,null,null,null,null,null,null,null,null,null,null,null,null,null,null,null,null,null,null,null,null,null,null,null,null,null,null,null,null,null,null,null,null,null,null,null,null,null,null,null,null,null,null,null,{"$f":"IFERROR(VLOOKUP(ROWS($CF$3:CF450),$CH$3:$CI$2001,2,FALSE),\"\")","v":""},null,{"$f":"IF(ISNUMBER(SEARCH(B450,CI450)),MAX($CH$2:CH449)+1,0)","v":0},{"$f":"'الرصيد الثابت'!#REF!","v":{"$error":"#REF!"}}]
["",null,{"$f":"IF(B451=\"\",\"\",SUMIF('الرصيد الثابت'!$D$2:$D$106,B451,'الرصيد الثابت'!$H$2:$H$106))","v":""},{"$f":"IF(B451=\"\",\"\",SUMIF('الرصيد الثابت'!$D$2:$D$106,B451,'الرصيد الثابت'!$I$2:$I$106))","v":""},{"$f":"IF(B451=\"\",\"\",SUMIF('الرصيد الثابت'!$D$2:$D$106,B451,'الرصيد الثابت'!$J$2:$J$106))","v":""},null,0,null,null,null,null,0,null,null,null,0,null,0,null,null,null,null,null,null,null,null,null,null,null,null,null,null,null,null,null,null,null,null,null,null,null,null,null,null,null,null,null,null,null,null,null,null,null,null,null,null,null,null,null,null,null,null,null,null,null,null,null,null,null,null,null,null,null,null,null,null,null,null,null,null,null,null,null,{"$f":"IFERROR(VLOOKUP(ROWS($CF$3:CF451),$CH$3:$CI$2001,2,FALSE),\"\")","v":""},null,{"$f":"IF(ISNUMBER(SEARCH(B451,CI451)),MAX($CH$2:CH450)+1,0)","v":0},{"$f":"'الرصيد الثابت'!#REF!","v":{"$error":"#REF!"}}]
[{"$f":"IF(B34590<>\"\",IF(A34590=\"\",NOW(),A34590),\"\")","v":""},null,{"$f":"IF(B452=\"\",\"\",SUMIF('الرصيد الثابت'!$D$2:$D$106,B452,'الرصيد الثابت'!$H$2:$H$106))","v":""},{"$f":"IF(B452=\"\",\"\",SUMIF('الرصيد الثابت'!$D$2:$D$106,B452,'الرصيد الثابت'!$I$2:$I$106))","v":""},{"$f":"IF(B452=\"\",\"\",SUMIF('الرصيد الثابت'!$D$2:$D$106,B452,'الرصيد الثابت'!$J$2:$J$106))","v":""},null,{"$f":"SUM(H34590*F34590)","v":0},null,null,null,null,{"$f":"SUM(M452*K452)","v":0},null,null,null,{"$f":"SUM(F34590-K34590)","v":0},null,{"$f":"SUM(S34590*Q34590)","v":0},null,null,null,null,null,null,null,null,null,null,null,null,null,null,null,null,null,null,null,null,null,null,null,null,null,null,null,null,null,null,null,null,null,null,null,null,null,null,null,null,null,null,null,null,null,null,null,null,null,null,null,null,null,null,null,null,null,null,null,null,null,null,null,null,null,{"$f":"IFERROR(VLOOKUP(ROWS($CF$3:CF452),$CH$3:$CI$2001,2,FALSE),\"\")","v":""},null,{"$f":"IF(ISNUMBER(SEARCH(B452,CI452)),MAX($CH$2:CH451)+1,0)","v":0},{"$f":"'الرصيد الثابت'!#REF!","v":{"$error":"#REF!"}}]
[{"$f":"IF(B453<>\"\",IF(A453=\"\",NOW(),A453),\"\")","v":""},null,{"$f":"IF(B453=\"\",\"\",SUMIF('الرصيد الثابت'!$D$2:$D$106,B453,'الرصيد الثابت'!$H$2:$H$106))","v":""},{"$f":"IF(B453=\"\",\"\",SUMIF('الرصيد الثابت'!$D$2:$D$106,B453,'الرصيد الثابت'!$I$2:$I$106))","v":""},{"$f":"IF(B453=\"\",\"\",SUMIF('الرصيد الثابت'!$D$2:$D$106,B453,'الرصيد الثابت'!$J$2:$J$106))","v":""},null,{"$f":"SUM(H453*F453)","v":0},null,null,null,null,0,null,null,null,{"$f":"SUM(F453-K453)","v":0},null,{"$f":"SUM(S453*Q453)","v":0},null,null,null,null,null,null,null,null,null,null,null,null,null,null,null,null,null,null,null,null,null,null,null,null,null,null,null,null,null,null,null,null,null,null,null,null,null,null,null,null,null,null,null,null,null,null,null,null,null,null,null,null,null,null,null,null,null,null,null,null,null,null,null,null,null,{"$f":"IFERROR(VLOOKUP(ROWS($CF$3:CF453),$CH$3:$CI$2001,2,FALSE),\"\")","v":""},null,{"$f":"IF(ISNUMBER(SEARCH(B453,CI453)),MAX($CH$2:CH452)+1,0)","v":0},{"$f":"'الرصيد الثابت'!#REF!","v":{"$error":"#REF!"}}]
["",null,{"$f":"IF(B454=\"\",\"\",SUMIF('الرصيد الثابت'!$D$2:$D$106,B454,'الرصيد الثابت'!$H$2:$H$106))","v":""},{"$f":"IF(B454=\"\",\"\",SUMIF('الرصيد الثابت'!$D$2:$D$106,B454,'الرصيد الثابت'!$I$2:$I$106))","v":""},{"$f":"IF(B454=\"\",\"\",SUMIF('الرصيد الثابت'!$D$2:$D$106,B454,'الرصيد الثابت'!$J$2:$J$106))","v":""},null,0,null,null,null,null,0,null,null,null,0,null,0,null,null,null,null,null,null,null,null,null,null,null,null,null,null,null,null,null,null,null,null,null,null,null,null,null,null,null,null,null,null,null,null,null,null,null,null,null,null,null,null,null,null,null,null,null,null,null,null,null,null,null,null,null,null,null,null,null,null,null,null,null,null,null,null,null,{"$f":"IFERROR(VLOOKUP(ROWS($CF$3:CF454),$CH$3:$CI$2001,2,FALSE),\"\")","v":""},null,{"$f":"IF(ISNUMBER(SEARCH(B454,CI454)),MAX($CH$2:CH453)+1,0)","v":0},{"$f":"'الرصيد الثابت'!#REF!","v":{"$error":"#REF!"}}]
["",null,{"$f":"IF(B455=\"\",\"\",SUMIF('الرصيد الثابت'!$D$2:$D$106,B455,'الرصيد الثابت'!$H$2:$H$106))","v":""},{"$f":"IF(B455=\"\",\"\",SUMIF('الرصيد الثابت'!$D$2:$D$106,B455,'الرصيد الثابت'!$I$2:$I$106))","v":""},{"$f":"IF(B455=\"\",\"\",SUMIF('الرصيد الثابت'!$D$2:$D$106,B455,'الرصيد الثابت'!$J$2:$J$106))","v":""},null,0,null,null,null,null,0,null,null,null,0,null,0,null,null,null,null,null,null,null,null,null,null,null,null,null,null,null,null,null,null,null,null,null,null,null,null,null,null,null,null,null,null,null,null,null,null,null,null,null,null,null,null,null,null,null,null,null,null,null,null,null,null,null,null,null,null,null,null,null,null,null,null,null,null,null,null,null,{"$f":"IFERROR(VLOOKUP(ROWS($CF$3:CF455),$CH$3:$CI$2001,2,FALSE),\"\")","v":""},null,{"$f":"IF(ISNUMBER(SEARCH(B455,CI455)),MAX($CH$2:CH454)+1,0)","v":0},{"$f":"'الرصيد الثابت'!#REF!","v":{"$error":"#REF!"}}]
["",null,{"$f":"IF(B456=\"\",\"\",SUMIF('الرصيد الثابت'!$D$2:$D$106,B456,'الرصيد الثابت'!$H$2:$H$106))","v":""},{"$f":"IF(B456=\"\",\"\",SUMIF('الرصيد الثابت'!$D$2:$D$106,B456,'الرصيد الثابت'!$I$2:$I$106))","v":""},{"$f":"IF(B456=\"\",\"\",SUMIF('الرصيد الثابت'!$D$2:$D$106,B456,'الرصيد الثابت'!$J$2:$J$106))","v":""},null,0,null,null,null,null,0,null,null,null,0,null,0,null,null,null,null,null,null,null,null,null,null,null,null,null,null,null,null,null,null,null,null,null,null,null,null,null,null,null,null,null,null,null,null,null,null,null,null,null,null,null,null,null,null,null,null,null,null,null,null,null,null,null,null,null,null,null,null,null,null,null,null,null,null,null,null,null,{"$f":"IFERROR(VLOOKUP(ROWS($CF$3:CF456),$CH$3:$CI$2001,2,FALSE),\"\")","v":""},null,{"$f":"IF(ISNUMBER(SEARCH(B456,CI456)),MAX($CH$2:CH455)+1,0)","v":0},{"$f":"'الرصيد الثابت'!#REF!","v":{"$error":"#REF!"}}]
["",null,{"$f":"IF(B457=\"\",\"\",SUMIF('الرصيد الثابت'!$D$2:$D$106,B457,'الرصيد الثابت'!$H$2:$H$106))","v":""},{"$f":"IF(B457=\"\",\"\",SUMIF('الرصيد الثابت'!$D$2:$D$106,B457,'الرصيد الثابت'!$I$2:$I$106))","v":""},{"$f":"IF(B457=\"\",\"\",SUMIF('الرصيد الثابت'!$D$2:$D$106,B457,'الرصيد الثابت'!$J$2:$J$106))","v":""},null,0,null,null,null,null,0,null,null,null,0,null,0,null,null,null,null,null,null,null,null,null,null,null,null,null,null,null,null,null,null,null,null,null,null,null,null,null,null,null,null,null,null,null,null,null,null,null,null,null,null,null,null,null,null,null,null,null,null,null,null,null,null,null,null,null,null,null,null,null,null,null,null,null,null,null,null,null,{"$f":"IFERROR(VLOOKUP(ROWS($CF$3:CF457),$CH$3:$CI$2001,2,FALSE),\"\")","v":""},null,{"$f":"IF(ISNUMBER(SEARCH(B457,CI457)),MAX($CH$2:CH456)+1,0)","v":0},{"$f":"'الرصيد الثابت'!#REF!","v":{"$error":"#REF!"}}]
["",null,{"$f":"IF(B458=\"\",\"\",SUMIF('الرصيد الثابت'!$D$2:$D$106,B458,'الرصيد الثابت'!$H$2:$H$106))","v":""},{"$f":"IF(B458=\"\",\"\",SUMIF('الرصيد الثابت'!$D$2:$D$106,B458,'الرصيد الثابت'!$I$2:$I$106))","v":""},{"$f":"IF(B458=\"\",\"\",SUMIF('الرصيد الثابت'!$D$2:$D$106,B458,'الرصيد الثابت'!$J$2:$J$106))","v":""},null,0,null,null,null,null,0,null,null,null,0,null,0,null,null,null,null,null,null,null,null,null,null,null,null,null,null,null,null,null,null,null,null,null,null,null,null,null,null,null,null,null,null,null,null,null,null,null,null,null,null,null,null,null,null,null,null,null,null,null,null,null,null,null,null,null,null,null,null,null,null,null,null,null,null,null,null,null,{"$f":"IFERROR(VLOOKUP(ROWS($CF$3:CF458),$CH$3:$CI$2001,2,FALSE),\"\")","v":""},null,{"$f":"IF(ISNUMBER(SEARCH(B458,CI458)),MAX($CH$2:CH457)+1,0)","v":0},{"$f":"'الرصيد الثابت'!#REF!","v":{"$error":"#REF!"}}]
["",null,{"$f":"IF(B459=\"\",\"\",SUMIF('الرصيد الثابت'!$D$2:$D$106,B459,'الرصيد الثابت'!$H$2:$H$106))","v":""},{"$f":"IF(B459=\"\",\"\",SUMIF('الرصيد الثابت'!$D$2:$D$106,B459,'الرصيد الثابت'!$I$2:$I$106))","v":""},{"$f":"IF(B459=\"\",\"\",SUMIF('الرصيد الثابت'!$D$2:$D$106,B459,'الرصيد الثابت'!$J$2:$J$106))","v":""},null,0,null,null,null,null,0,null,null,null,0,null,0,null,null,null,null,null,null,null,null,null,null,null,null,null,null,null,null,null,null,null,null,null,null,null,null,null,null,null,null,null,null,null,null,null,null,null,null,null,null,null,null,null,null,null,null,null,null,null,null,null,null,null,null,null,null,null,null,null,null,null,null,null,null,null,null,null,{"$f":"IFERROR(VLOOKUP(ROWS($CF$3:CF459),$CH$3:$CI$2001,2,FALSE),\"\")","v":""},null,{"$f":"IF(ISNUMBER(SEARCH(B459,CI459)),MAX($CH$2:CH458)+1,0)","v":0},{"$f":"'الرصيد الثابت'!#REF!","v":{"$error":"#REF!"}}]
["",null,{"$f":"IF(B460=\"\",\"\",SUMIF('الرصيد الثابت'!$D$2:$D$106,B460,'الرصيد الثابت'!$H$2:$H$106))","v":""},{"$f":"IF(B460=\"\",\"\",SUMIF('الرصيد الثابت'!$D$2:$D$106,B460,'الرصيد الثابت'!$I$2:$I$106))","v":""},{"$f":"IF(B460=\"\",\"\",SUMIF('الرصيد الثابت'!$D$2:$D$106,B460,'الرصيد الثابت'!$J$2:$J$106))","v":""},null,0,null,null,null,null,0,null,null,null,0,null,0,null,null,null,null,null,null,null,null,null,null,null,null,null,null,null,null,null,null,null,null,null,null,null,null,null,null,null,null,null,null,null,null,null,null,null,null,null,null,null,null,null,null,null,null,null,null,null,null,null,null,null,null,null,null,null,null,null,null,null,null,null,null,null,null,null,{"$f":"IFERROR(VLOOKUP(ROWS($CF$3:CF460),$CH$3:$CI$2001,2,FALSE),\"\")","v":""},null,{"$f":"IF(ISNUMBER(SEARCH(B460,CI460)),MAX($CH$2:CH459)+1,0)","v":0},{"$f":"'الرصيد الثابت'!#REF!","v":{"$error":"#REF!"}}]
["",null,{"$f":"IF(B461=\"\",\"\",SUMIF('الرصيد الثابت'!$D$2:$D$106,B461,'الرصيد الثابت'!$H$2:$H$106))","v":""},{"$f":"IF(B461=\"\",\"\",SUMIF('الرصيد الثابت'!$D$2:$D$106,B461,'الرصيد الثابت'!$I$2:$I$106))","v":""},{"$f":"IF(B461=\"\",\"\",SUMIF('الرصيد الثابت'!$D$2:$D$106,B461,'الرصيد الثابت'!$J$2:$J$106))","v":""},null,0,null,null,null,null,0,null,null,null,0,null,0,null,null,null,null,null,null,null,null,null,null,null,null,null,null,null,null,null,null,null,null,null,null,null,null,null,null,null,null,null,null,null,null,null,null,null,null,null,null,null,null,null,null,null,null,null,null,null,null,null,null,null,null,null,null,null,null,null,null,null,null,null,null,null,null,null,{"$f":"IFERROR(VLOOKUP(ROWS($CF$3:CF461),$CH$3:$CI$2001,2,FALSE),\"\")","v":""},null,{"$f":"IF(ISNUMBER(SEARCH(B461,CI461)),MAX($CH$2:CH460)+1,0)","v":0},{"$f":"'الرصيد الثابت'!#REF!","v":{"$error":"#REF!"}}]
["",null,{"$f":"IF(B462=\"\",\"\",SUMIF('الرصيد الثابت'!$D$2:$D$106,B462,'الرصيد الثابت'!$H$2:$H$106))","v":""},{"$f":"IF(B462=\"\",\"\",SUMIF('الرصيد الثابت'!$D$2:$D$106,B462,'الرصيد الثابت'!$I$2:$I$106))","v":""},{"$f":"IF(B462=\"\",\"\",SUMIF('الرصيد الثابت'!$D$2:$D$106,B462,'الرصيد الثابت'!$J$2:$J$106))","v":""},null,0,null,null,null,null,0,null,null,null,0,null,0,null,null,null,null,null,null,null,null,null,null,null,null,null,null,null,null,null,null,null,null,null,null,null,null,null,null,null,null,null,null,null,null,null,null,null,null,null,null,null,null,null,null,null,null,null,null,null,null,null,null,null,null,null,null,null,null,null,null,null,null,null,null,null,null,null,{"$f":"IFERROR(VLOOKUP(ROWS($CF$3:CF462),$CH$3:$CI$2001,2,FALSE),\"\")","v":""},null,{"$f":"IF(ISNUMBER(SEARCH(B462,CI462)),MAX($CH$2:CH461)+1,0)","v":0},{"$f":"'الرصيد الثابت'!#REF!","v":{"$error":"#REF!"}}]
["",null,{"$f":"IF(B463=\"\",\"\",SUMIF('الرصيد الثابت'!$D$2:$D$106,B463,'الرصيد الثابت'!$H$2:$H$106))","v":""},{"$f":"IF(B463=\"\",\"\",SUMIF('الرصيد الثابت'!$D$2:$D$106,B463,'الرصيد الثابت'!$I$2:$I$106))","v":""},{"$f":"IF(B463=\"\",\"\",SUMIF('الرصيد الثابت'!$D$2:$D$106,B463,'الرصيد الثابت'!$J$2:$J$106))","v":""},null,0,null,null,null,null,0,null,null,null,0,null,0,null,null,null,null,null,null,null,null,null,null,null,null,null,null,null,null,null,null,null,null,null,null,null,null,null,null,null,null,null,null,null,null,null,null,null,null,null,null,null,null,null,null,null,null,null,null,null,null,null,null,null,null,null,null,null,null,null,null,null,null,null,null,null,null,null,{"$f":"IFERROR(VLOOKUP(ROWS($CF$3:CF463),$CH$3:$CI$2001,2,FALSE),\"\")","v":""},null,{"$f":"IF(ISNUMBER(SEARCH(B463,CI463)),MAX($CH$2:CH462)+1,0)","v":0},{"$f":"'الرصيد الثابت'!#REF!","v":{"$error":"#REF!"}}]
["",null,{"$f":"IF(B464=\"\",\"\",SUMIF('الرصيد الثابت'!$D$2:$D$106,B464,'الرصيد الثابت'!$H$2:$H$106))","v":""},{"$f":"IF(B464=\"\",\"\",SUMIF('الرصيد الثابت'!$D$2:$D$106,B464,'الرصيد الثابت'!$I$2:$I$106))","v":""},{"$f":"IF(B464=\"\",\"\",SUMIF('الرصيد الثابت'!$D$2:$D$106,B464,'الرصيد الثابت'!$J$2:$J$106))","v":""},null,0,null,null,null,null,0,null,null,null,0,null,0,null,null,null,null,null,null,null,null,null,null,null,null,null,null,null,null,null,null,null,null,null,null,null,null,null,null,null,null,null,null,null,null,null,null,null,null,null,null,null,null,null,null,null,null,null,null,null,null,null,null,null,null,null,null,null,null,null,null,null,null,null,null,null,null,null,{"$f":"IFERROR(VLOOKUP(ROWS($CF$3:CF464),$CH$3:$CI$2001,2,FALSE),\"\")","v":""},null,{"$f":"IF(ISNUMBER(SEARCH(B464,CI464)),MAX($CH$2:CH463)+1,0)","v":0},{"$f":"'الرصيد الثابت'!#REF!","v":{"$error":"#REF!"}}]
["",null,{"$f":"IF(B465=\"\",\"\",SUMIF('الرصيد الثابت'!$D$2:$D$106,B465,'الرصيد الثابت'!$H$2:$H$106))","v":""},{"$f":"IF(B465=\"\",\"\",SUMIF('الرصيد الثابت'!$D$2:$D$106,B465,'الرصيد الثابت'!$I$2:$I$106))","v":""},{"$f":"IF(B465=\"\",\"\",SUMIF('الرصيد الثابت'!$D$2:$D$106,B465,'الرصيد الثابت'!$J$2:$J$106))","v":""},null,0,null,null,null,null,0,null,null,null,0,null,0,null,null,null,null,null,null,null,null,null,null,null,null,null,null,null,null,null,null,null,null,null,null,null,null,null,null,null,null,null,null,null,null,null,null,null,null,null,null,null,null,null,null,null,null,null,null,null,null,null,null,null,null,null,null,null,null,null,null,null,null,null,null,null,null,null,{"$f":"IFERROR(VLOOKUP(ROWS($CF$3:CF465),$CH$3:$CI$2001,2,FALSE),\"\")","v":""},null,{"$f":"IF(ISNUMBER(SEARCH(B465,CI465)),MAX($CH$2:CH464)+1,0)","v":0},{"$f":"'الرصيد الثابت'!#REF!","v":{"$error":"#REF!"}}]
["",null,{"$f":"IF(B466=\"\",\"\",SUMIF('الرصيد الثابت'!$D$2:$D$106,B466,'الرصيد الثابت'!$H$2:$H$106))","v":""},{"$f":"IF(B466=\"\",\"\",SUMIF('الرصيد الثابت'!$D$2:$D$106,B466,'الرصيد الثابت'!$I$2:$I$106))","v":""},{"$f":"IF(B466=\"\",\"\",SUMIF('الرصيد الثابت'!$D$2:$D$106,B466,'الرصيد الثابت'!$J$2:$J$106))","v":""},null,0,null,null,null,null,0,null,null,null,0,null,0,null,null,null,null,null,null,null,null,null,null,null,null,null,null,null,null,null,null,null,null,null,null,null,null,null,null,null,null,null,null,null,null,null,null,null,null,null,null,null,null,null,null,null,null,null,null,null,null,null,null,null,null,null,null,null,null,null,null,null,null,null,null,null,null,null,{"$f":"IFERROR(VLOOKUP(ROWS($CF$3:CF466),$CH$3:$CI$2001,2,FALSE),\"\")","v":""},null,{"$f":"IF(ISNUMBER(SEARCH(B466,CI466)),MAX($CH$2:CH465)+1,0)","v":0},{"$f":"'الرصيد الثابت'!#REF!","v":{"$error":"#REF!"}}]
["",null,{"$f":"IF(B467=\"\",\"\",SUMIF('الرصيد الثابت'!$D$2:$D$106,B467,'الرصيد الثابت'!$H$2:$H$106))","v":""},{"$f":"IF(B467=\"\",\"\",SUMIF('الرصيد الثابت'!$D$2:$D$106,B467,'الرصيد الثابت'!$I$2:$I$106))","v":""},{"$f":"IF(B467=\"\",\"\",SUMIF('الرصيد الثابت'!$D$2:$D$106,B467,'الرصيد الثابت'!$J$2:$J$106))","v":""},null,0,null,null,null,null,0,null,null,null,0,null,0,null,null,null,null,null,null,null,null,null,null,null,null,null,null,null,null,null,null,null,null,null,null,null,null,null,null,null,null,null,null,null,null,null,null,null,null,null,null,null,null,null,null,null,null,null,null,null,null,null,null,null,null,null,null,null,null,null,null,null,null,null,null,null,null,null,{"$f":"IFERROR(VLOOKUP(ROWS($CF$3:CF467),$CH$3:$CI$2001,2,FALSE),\"\")","v":""},null,{"$f":"IF(ISNUMBER(SEARCH(B467,CI467)),MAX($CH$2:CH466)+1,0)","v":0},{"$f":"'الرصيد الثابت'!#REF!","v":{"$error":"#REF!"}}]
["",null,{"$f":"IF(B468=\"\",\"\",SUMIF('الرصيد الثابت'!$D$2:$D$106,B468,'الرصيد الثابت'!$H$2:$H$106))","v":""},{"$f":"IF(B468=\"\",\"\",SUMIF('الرصيد الثابت'!$D$2:$D$106,B468,'الرصيد الثابت'!$I$2:$I$106))","v":""},{"$f":"IF(B468=\"\",\"\",SUMIF('الرصيد الثابت'!$D$2:$D$106,B468,'الرصيد الثابت'!$J$2:$J$106))","v":""},null,0,null,null,null,null,0,null,null,null,0,null,0,null,null,null,null,null,null,null,null,null,null,null,null,null,null,null,null,null,null,null,null,null,null,null,null,null,null,null,null,null,null,null,null,null,null,null,null,null,null,null,null,null,null,null,null,null,null,null,null,null,null,null,null,null,null,null,null,null,null,null,null,null,null,null,null,null,{"$f":"IFERROR(VLOOKUP(ROWS($CF$3:CF468),$CH$3:$CI$2001,2,FALSE),\"\")","v":""},null,{"$f":"IF(ISNUMBER(SEARCH(B468,CI468)),MAX($CH$2:CH467)+1,0)","v":0},{"$f":"'الرصيد الثابت'!#REF!","v":{"$error":"#REF!"}}]
["",null,{"$f":"IF(B469=\"\",\"\",SUMIF('الرصيد الثابت'!$D$2:$D$106,B469,'الرصيد الثابت'!$H$2:$H$106))","v":""},{"$f":"IF(B469=\"\",\"\",SUMIF('الرصيد الثابت'!$D$2:$D$106,B469,'الرصيد الثابت'!$I$2:$I$106))","v":""},{"$f":"IF(B469=\"\",\"\",SUMIF('الرصيد الثابت'!$D$2:$D$106,B469,'الرصيد الثابت'!$J$2:$J$106))","v":""},null,0,null,null,null,null,0,null,null,null,0,null,0,null,null,null,null,null,null,null,null,null,null,null,null,null,null,null,null,null,null,null,null,null,null,null,null,null,null,null,null,null,null,null,null,null,null,null,null,null,null,null,null,null,null,null,null,null,null,null,null,null,null,null,null,null,null,null,null,null,null,null,null,null,null,null,null,null,{"$f":"IFERROR(VLOOKUP(ROWS($CF$3:CF469),$CH$3:$CI$2001,2,FALSE),\"\")","v":""},null,{"$f":"IF(ISNUMBER(SEARCH(B469,CI469)),MAX($CH$2:CH468)+1,0)","v":0},{"$f":"'الرصيد الثابت'!#REF!","v":{"$error":"#REF!"}}]
["",null,{"$f":"IF(B470=\"\",\"\",SUMIF('الرصيد الثابت'!$D$2:$D$106,B470,'الرصيد الثابت'!$H$2:$H$106))","v":""},{"$f":"IF(B470=\"\",\"\",SUMIF('الرصيد الثابت'!$D$2:$D$106,B470,'الرصيد الثابت'!$I$2:$I$106))","v":""},{"$f":"IF(B470=\"\",\"\",SUMIF('الرصيد الثابت'!$D$2:$D$106,B470,'الرصيد الثابت'!$J$2:$J$106))","v":""},null,0,null,null,null,null,0,null,null,null,0,null,0,null,null,null,null,null,null,null,null,null,null,null,null,null,null,null,null,null,null,null,null,null,null,null,null,null,null,null,null,null,null,null,null,null,null,null,null,null,null,null,null,null,null,null,null,null,null,null,null,null,null,null,null,null,null,null,null,null,null,null,null,null,null,null,null,null,{"$f":"IFERROR(VLOOKUP(ROWS($CF$3:CF470),$CH$3:$CI$2001,2,FALSE),\"\")","v":""},null,{"$f":"IF(ISNUMBER(SEARCH(B470,CI470)),MAX($CH$2:CH469)+1,0)","v":0},{"$f":"'الرصيد الثابت'!#REF!","v":{"$error":"#REF!"}}]
["",null,{"$f":"IF(B471=\"\",\"\",SUMIF('الرصيد الثابت'!$D$2:$D$106,B471,'الرصيد الثابت'!$H$2:$H$106))","v":""},{"$f":"IF(B471=\"\",\"\",SUMIF('الرصيد الثابت'!$D$2:$D$106,B471,'الرصيد الثابت'!$I$2:$I$106))","v":""},{"$f":"IF(B471=\"\",\"\",SUMIF('الرصيد الثابت'!$D$2:$D$106,B471,'الرصيد الثابت'!$J$2:$J$106))","v":""},null,0,null,null,null,null,0,null,null,null,0,null,0,null,null,null,null,null,null,null,null,null,null,null,null,null,null,null,null,null,null,null,null,null,null,null,null,null,null,null,null,null,null,null,null,null,null,null,null,null,null,null,null,null,null,null,null,null,null,null,null,null,null,null,null,null,null,null,null,null,null,null,null,null,null,null,null,null,{"$f":"IFERROR(VLOOKUP(ROWS($CF$3:CF471),$CH$3:$CI$2001,2,FALSE),\"\")","v":""},null,{"$f":"IF(ISNUMBER(SEARCH(B471,CI471)),MAX($CH$2:CH470)+1,0)","v":0},{"$f":"'الرصيد الثابت'!#REF!","v":{"$error":"#REF!"}}]
["",null,{"$f":"IF(B472=\"\",\"\",SUMIF('الرصيد الثابت'!$D$2:$D$106,B472,'الرصيد الثابت'!$H$2:$H$106))","v":""},{"$f":"IF(B472=\"\",\"\",SUMIF('الرصيد الثابت'!$D$2:$D$106,B472,'الرصيد الثابت'!$I$2:$I$106))","v":""},{"$f":"IF(B472=\"\",\"\",SUMIF('الرصيد الثابت'!$D$2:$D$106,B472,'الرصيد الثابت'!$J$2:$J$106))","v":""},null,0,null,null,null,null,0,null,null,null,0,null,0,null,null,null,null,null,null,null,null,null,null,null,null,null,null,null,null,null,null,null,null,null,null,null,null,null,null,null,null,null,null,null,null,null,null,null,null,null,null,null,null,null,null,null,null,null,null,null,null,null,null,null,null,null,null,null,null,null,null,null,null,null,null,null,null,null,{"$f":"IFERROR(VLOOKUP(ROWS($CF$3:CF472),$CH$3:$CI$2001,2,FALSE),\"\")","v":""},null,{"$f":"IF(ISNUMBER(SEARCH(B472,CI472)),MAX($CH$2:CH471)+1,0)","v":0},{"$f":"'الرصيد الثابت'!#REF!","v":{"$error":"#REF!"}}]
["",null,{"$f":"IF(B473=\"\",\"\",SUMIF('الرصيد الثابت'!$D$2:$D$106,B473,'الرصيد الثابت'!$H$2:$H$106))","v":""},{"$f":"IF(B473=\"\",\"\",SUMIF('الرصيد الثابت'!$D$2:$D$106,B473,'الرصيد الثابت'!$I$2:$I$106))","v":""},{"$f":"IF(B473=\"\",\"\",SUMIF('الرصيد الثابت'!$D$2:$D$106,B473,'الرصيد الثابت'!$J$2:$J$106))","v":""},null,0,null,null,null,null,0,null,null,null,0,null,0,null,null,null,null,null,null,null,null,null,null,null,null,null,null,null,null,null,null,null,null,null,null,null,null,null,null,null,null,null,null,null,null,null,null,null,null,null,null,null,null,null,null,null,null,null,null,null,null,null,null,null,null,null,null,null,null,null,null,null,null,null,null,null,null,null,{"$f":"IFERROR(VLOOKUP(ROWS($CF$3:CF473),$CH$3:$CI$2001,2,FALSE),\"\")","v":""},null,{"$f":"IF(ISNUMBER(SEARCH(B473,CI473)),MAX($CH$2:CH472)+1,0)","v":0},{"$f":"'الرصيد الثابت'!#REF!","v":{"$error":"#REF!"}}]
["",null,{"$f":"IF(B474=\"\",\"\",SUMIF('الرصيد الثابت'!$D$2:$D$106,B474,'الرصيد الثابت'!$H$2:$H$106))","v":""},{"$f":"IF(B474=\"\",\"\",SUMIF('الرصيد الثابت'!$D$2:$D$106,B474,'الرصيد الثابت'!$I$2:$I$106))","v":""},{"$f":"IF(B474=\"\",\"\",SUMIF('الرصيد الثابت'!$D$2:$D$106,B474,'الرصيد الثابت'!$J$2:$J$106))","v":""},null,0,null,null,null,null,0,null,null,null,0,null,0,null,null,null,null,null,null,null,null,null,null,null,null,null,null,null,null,null,null,null,null,null,null,null,null,null,null,null,null,null,null,null,null,null,null,null,null,null,null,null,null,null,null,null,null,null,null,null,null,null,null,null,null,null,null,null,null,null,null,null,null,null,null,null,null,null,{"$f":"IFERROR(VLOOKUP(ROWS($CF$3:CF474),$CH$3:$CI$2001,2,FALSE),\"\")","v":""},null,{"$f":"IF(ISNUMBER(SEARCH(B474,CI474)),MAX($CH$2:CH473)+1,0)","v":0},{"$f":"'الرصيد الثابت'!#REF!","v":{"$error":"#REF!"}}]
["",null,{"$f":"IF(B475=\"\",\"\",SUMIF('الرصيد الثابت'!$D$2:$D$106,B475,'الرصيد الثابت'!$H$2:$H$106))","v":""},{"$f":"IF(B475=\"\",\"\",SUMIF('الرصيد الثابت'!$D$2:$D$106,B475,'الرصيد الثابت'!$I$2:$I$106))","v":""},{"$f":"IF(B475=\"\",\"\",SUMIF('الرصيد الثابت'!$D$2:$D$106,B475,'الرصيد الثابت'!$J$2:$J$106))","v":""},null,0,null,null,null,null,0,null,null,null,0,null,0,null,null,null,null,null,null,null,null,null,null,null,null,null,null,null,null,null,null,null,null,null,null,null,null,null,null,null,null,null,null,null,null,null,null,null,null,null,null,null,null,null,null,null,null,null,null,null,null,null,null,null,null,null,null,null,null,null,null,null,null,null,null,null,null,null,{"$f":"IFERROR(VLOOKUP(ROWS($CF$3:CF475),$CH$3:$CI$2001,2,FALSE),\"\")","v":""},null,{"$f":"IF(ISNUMBER(SEARCH(B475,CI475)),MAX($CH$2:CH474)+1,0)","v":0},{"$f":"'الرصيد الثابت'!#REF!","v":{"$error":"#REF!"}}]
["",null,{"$f":"IF(B476=\"\",\"\",SUMIF('الرصيد الثابت'!$D$2:$D$106,B476,'الرصيد الثابت'!$H$2:$H$106))","v":""},{"$f":"IF(B476=\"\",\"\",SUMIF('الرصيد الثابت'!$D$2:$D$106,B476,'الرصيد الثابت'!$I$2:$I$106))","v":""},{"$f":"IF(B476=\"\",\"\",SUMIF('الرصيد الثابت'!$D$2:$D$106,B476,'الرصيد الثابت'!$J$2:$J$106))","v":""},null,0,null,null,null,null,0,null,null,null,0,null,0,null,null,null,null,null,null,null,null,null,null,null,null,null,null,null,null,null,null,null,null,null,null,null,null,null,null,null,null,null,null,null,null,null,null,null,null,null,null,null,null,null,null,null,null,null,null,null,null,null,null,null,null,null,null,null,null,null,null,null,null,null,null,null,null,null,{"$f":"IFERROR(VLOOKUP(ROWS($CF$3:CF476),$CH$3:$CI$2001,2,FALSE),\"\")","v":""},null,{"$f":"IF(ISNUMBER(SEARCH(B476,CI476)),MAX($CH$2:CH475)+1,0)","v":0},{"$f":"'الرصيد الثابت'!#REF!","v":{"$error":"#REF!"}}]
["",null,{"$f":"IF(B477=\"\",\"\",SUMIF('الرصيد الثابت'!$D$2:$D$106,B477,'الرصيد الثابت'!$H$2:$H$106))","v":""},{"$f":"IF(B477=\"\",\"\",SUMIF('الرصيد الثابت'!$D$2:$D$106,B477,'الرصيد الثابت'!$I$2:$I$106))","v":""},{"$f":"IF(B477=\"\",\"\",SUMIF('الرصيد الثابت'!$D$2:$D$106,B477,'الرصيد الثابت'!$J$2:$J$106))","v":""},null,0,null,null,null,null,0,null,null,null,0,null,0,null,null,null,null,null,null,null,null,null,null,null,null,null,null,null,null,null,null,null,null,null,null,null,null,null,null,null,null,null,null,null,null,null,null,null,null,null,null,null,null,null,null,null,null,null,null,null,null,null,null,null,null,null,null,null,null,null,null,null,null,null,null,null,null,null,{"$f":"IFERROR(VLOOKUP(ROWS($CF$3:CF477),$CH$3:$CI$2001,2,FALSE),\"\")","v":""},null,{"$f":"IF(ISNUMBER(SEARCH(B477,CI477)),MAX($CH$2:CH476)+1,0)","v":0},{"$f":"'الرصيد الثابت'!#REF!","v":{"$error":"#REF!"}}]
["",null,{"$f":"IF(B478=\"\",\"\",SUMIF('الرصيد الثابت'!$D$2:$D$106,B478,'الرصيد الثابت'!$H$2:$H$106))","v":""},{"$f":"IF(B478=\"\",\"\",SUMIF('الرصيد الثابت'!$D$2:$D$106,B478,'الرصيد الثابت'!$I$2:$I$106))","v":""},{"$f":"IF(B478=\"\",\"\",SUMIF('الرصيد الثابت'!$D$2:$D$106,B478,'الرصيد الثابت'!$J$2:$J$106))","v":""},null,0,null,null,null,null,0,null,null,null,0,null,0,null,null,null,null,null,null,null,null,null,null,null,null,null,null,null,null,null,null,null,null,null,null,null,null,null,null,null,null,null,null,null,null,null,null,null,null,null,null,null,null,null,null,null,null,null,null,null,null,null,null,null,null,null,null,null,null,null,null,null,null,null,null,null,null,null,{"$f":"IFERROR(VLOOKUP(ROWS($CF$3:CF478),$CH$3:$CI$2001,2,FALSE),\"\")","v":""},null,{"$f":"IF(ISNUMBER(SEARCH(B478,CI478)),MAX($CH$2:CH477)+1,0)","v":0},{"$f":"'الرصيد الثابت'!#REF!","v":{"$error":"#REF!"}}]
["",null,{"$f":"IF(B479=\"\",\"\",SUMIF('الرصيد الثابت'!$D$2:$D$106,B479,'الرصيد الثابت'!$H$2:$H$106))","v":""},{"$f":"IF(B479=\"\",\"\",SUMIF('الرصيد الثابت'!$D$2:$D$106,B479,'الرصيد الثابت'!$I$2:$I$106))","v":""},{"$f":"IF(B479=\"\",\"\",SUMIF('الرصيد الثابت'!$D$2:$D$106,B479,'الرصيد الثابت'!$J$2:$J$106))","v":""},null,0,null,null,null,null,0,null,null,null,0,null,0,null,null,null,null,null,null,null,null,null,null,null,null,null,null,null,null,null,null,null,null,null,null,null,null,null,null,null,null,null,null,null,null,null,null,null,null,null,null,null,null,null,null,null,null,null,null,null,null,null,null,null,null,null,null,null,null,null,null,null,null,null,null,null,null,null,{"$f":"IFERROR(VLOOKUP(ROWS($CF$3:CF479),$CH$3:$CI$2001,2,FALSE),\"\")","v":""},null,{"$f":"IF(ISNUMBER(SEARCH(B479,CI479)),MAX($CH$2:CH478)+1,0)","v":0},{"$f":"'الرصيد الثابت'!#REF!","v":{"$error":"#REF!"}}]
["",null,{"$f":"IF(B480=\"\",\"\",SUMIF('الرصيد الثابت'!$D$2:$D$106,B480,'الرصيد الثابت'!$H$2:$H$106))","v":""},{"$f":"IF(B480=\"\",\"\",SUMIF('الرصيد الثابت'!$D$2:$D$106,B480,'الرصيد الثابت'!$I$2:$I$106))","v":""},{"$f":"IF(B480=\"\",\"\",SUMIF('الرصيد الثابت'!$D$2:$D$106,B480,'الرصيد الثابت'!$J$2:$J$106))","v":""},null,0,null,null,null,null,0,null,null,null,0,null,0,null,null,null,null,null,null,null,null,null,null,null,null,null,null,null,null,null,null,null,null,null,null,null,null,null,null,null,null,null,null,null,null,null,null,null,null,null,null,null,null,null,null,null,null,null,null,null,null,null,null,null,null,null,null,null,null,null,null,null,null,null,null,null,null,null,{"$f":"IFERROR(VLOOKUP(ROWS($CF$3:CF480),$CH$3:$CI$2001,2,FALSE),\"\")","v":""},null,{"$f":"IF(ISNUMBER(SEARCH(B480,CI480)),MAX($CH$2:CH479)+1,0)","v":0},{"$f":"'الرصيد الثابت'!#REF!","v":{"$error":"#REF!"}}]
["",null,{"$f":"IF(B481=\"\",\"\",SUMIF('الرصيد الثابت'!$D$2:$D$106,B481,'الرصيد الثابت'!$H$2:$H$106))","v":""},{"$f":"IF(B481=\"\",\"\",SUMIF('الرصيد الثابت'!$D$2:$D$106,B481,'الرصيد الثابت'!$I$2:$I$106))","v":""},{"$f":"IF(B481=\"\",\"\",SUMIF('الرصيد الثابت'!$D$2:$D$106,B481,'الرصيد الثابت'!$J$2:$J$106))","v":""},null,0,null,null,null,null,0,null,null,null,0,null,0,null,null,null,null,null,null,null,null,null,null,null,null,null,null,null,null,null,null,null,null,null,null,null,null,null,null,null,null,null,null,null,null,null,null,null,null,null,null,null,null,null,null,null,null,null,null,null,null,null,null,null,null,null,null,null,null,null,null,null,null,null,null,null,null,null,{"$f":"IFERROR(VLOOKUP(ROWS($CF$3:CF481),$CH$3:$CI$2001,2,FALSE),\"\")","v":""},null,{"$f":"IF(ISNUMBER(SEARCH(B481,CI481)),MAX($CH$2:CH480)+1,0)","v":0},{"$f":"'الرصيد الثابت'!#REF!","v":{"$error":"#REF!"}}]
["",null,{"$f":"IF(B482=\"\",\"\",SUMIF('الرصيد الثابت'!$D$2:$D$106,B482,'الرصيد الثابت'!$H$2:$H$106))","v":""},{"$f":"IF(B482=\"\",\"\",SUMIF('الرصيد الثابت'!$D$2:$D$106,B482,'الرصيد الثابت'!$I$2:$I$106))","v":""},{"$f":"IF(B482=\"\",\"\",SUMIF('الرصيد الثابت'!$D$2:$D$106,B482,'الرصيد الثابت'!$J$2:$J$106))","v":""},null,0,null,null,null,null,0,null,null,null,0,null,0,null,null,null,null,null,null,null,null,null,null,null,null,null,null,null,null,null,null,null,null,null,null,null,null,null,null,null,null,null,null,null,null,null,null,null,null,null,null,null,null,null,null,null,null,null,null,null,null,null,null,null,null,null,null,null,null,null,null,null,null,null,null,null,null,null,{"$f":"IFERROR(VLOOKUP(ROWS($CF$3:CF482),$CH$3:$CI$2001,2,FALSE),\"\")","v":""},null,{"$f":"IF(ISNUMBER(SEARCH(B482,CI482)),MAX($CH$2:CH481)+1,0)","v":0},{"$f":"'الرصيد الثابت'!#REF!","v":{"$error":"#REF!"}}]
["",null,{"$f":"IF(B483=\"\",\"\",SUMIF('الرصيد الثابت'!$D$2:$D$106,B483,'الرصيد الثابت'!$H$2:$H$106))","v":""},{"$f":"IF(B483=\"\",\"\",SUMIF('الرصيد الثابت'!$D$2:$D$106,B483,'الرصيد الثابت'!$I$2:$I$106))","v":""},{"$f":"IF(B483=\"\",\"\",SUMIF('الرصيد الثابت'!$D$2:$D$106,B483,'الرصيد الثابت'!$J$2:$J$106))","v":""},null,0,null,null,null,null,0,null,null,null,0,null,0,null,null,null,null,null,null,null,null,null,null,null,null,null,null,null,null,null,null,null,null,null,null,null,null,null,null,null,null,null,null,null,null,null,null,null,null,null,null,null,null,null,null,null,null,null,null,null,null,null,null,null,null,null,null,null,null,null,null,null,null,null,null,null,null,null,{"$f":"IFERROR(VLOOKUP(ROWS($CF$3:CF483),$CH$3:$CI$2001,2,FALSE),\"\")","v":""},null,{"$f":"IF(ISNUMBER(SEARCH(B483,CI483)),MAX($CH$2:CH482)+1,0)","v":0},{"$f":"'الرصيد الثابت'!#REF!","v":{"$error":"#REF!"}}]
["",null,{"$f":"IF(B484=\"\",\"\",SUMIF('الرصيد الثابت'!$D$2:$D$106,B484,'الرصيد الثابت'!$H$2:$H$106))","v":""},{"$f":"IF(B484=\"\",\"\",SUMIF('الرصيد الثابت'!$D$2:$D$106,B484,'الرصيد الثابت'!$I$2:$I$106))","v":""},{"$f":"IF(B484=\"\",\"\",SUMIF('الرصيد الثابت'!$D$2:$D$106,B484,'الرصيد الثابت'!$J$2:$J$106))","v":""},null,0,null,null,null,null,0,null,null,null,0,null,0,null,null,null,null,null,null,null,null,null,null,null,null,null,null,null,null,null,null,null,null,null,null,null,null,null,null,null,null,null,null,null,null,null,null,null,null,null,null,null,null,null,null,null,null,null,null,null,null,null,null,null,null,null,null,null,null,null,null,null,null,null,null,null,null,null,{"$f":"IFERROR(VLOOKUP(ROWS($CF$3:CF484),$CH$3:$CI$2001,2,FALSE),\"\")","v":""},null,{"$f":"IF(ISNUMBER(SEARCH(B484,CI484)),MAX($CH$2:CH483)+1,0)","v":0},{"$f":"'الرصيد الثابت'!#REF!","v":{"$error":"#REF!"}}]
["",null,{"$f":"IF(B485=\"\",\"\",SUMIF('الرصيد الثابت'!$D$2:$D$106,B485,'الرصيد الثابت'!$H$2:$H$106))","v":""},{"$f":"IF(B485=\"\",\"\",SUMIF('الرصيد الثابت'!$D$2:$D$106,B485,'الرصيد الثابت'!$I$2:$I$106))","v":""},{"$f":"IF(B485=\"\",\"\",SUMIF('الرصيد الثابت'!$D$2:$D$106,B485,'الرصيد الثابت'!$J$2:$J$106))","v":""},null,0,null,null,null,null,0,null,null,null,0,null,0,null,null,null,null,null,null,null,null,null,null,null,null,null,null,null,null,null,null,null,null,null,null,null,null,null,null,null,null,null,null,null,null,null,null,null,null,null,null,null,null,null,null,null,null,null,null,null,null,null,null,null,null,null,null,null,null,null,null,null,null,null,null,null,null,null,{"$f":"IFERROR(VLOOKUP(ROWS($CF$3:CF485),$CH$3:$CI$2001,2,FALSE),\"\")","v":""},null,{"$f":"IF(ISNUMBER(SEARCH(B485,CI485)),MAX($CH$2:CH484)+1,0)","v":0},{"$f":"'الرصيد الثابت'!#REF!","v":{"$error":"#REF!"}}]
["",null,{"$f":"IF(B486=\"\",\"\",SUMIF('الرصيد الثابت'!$D$2:$D$106,B486,'الرصيد الثابت'!$H$2:$H$106))","v":""},{"$f":"IF(B486=\"\",\"\",SUMIF('الرصيد الثابت'!$D$2:$D$106,B486,'الرصيد الثابت'!$I$2:$I$106))","v":""},{"$f":"IF(B486=\"\",\"\",SUMIF('الرصيد الثابت'!$D$2:$D$106,B486,'الرصيد الثابت'!$J$2:$J$106))","v":""},null,0,null,null,null,null,0,null,null,null,0,null,0,null,null,null,null,null,null,null,null,null,null,null,null,null,null,null,null,null,null,null,null,null,null,null,null,null,null,null,null,null,null,null,null,null,null,null,null,null,null,null,null,null,null,null,null,null,null,null,null,null,null,null,null,null,null,null,null,null,null,null,null,null,null,null,null,null,{"$f":"IFERROR(VLOOKUP(ROWS($CF$3:CF486),$CH$3:$CI$2001,2,FALSE),\"\")","v":""},null,{"$f":"IF(ISNUMBER(SEARCH(B486,CI486)),MAX($CH$2:CH485)+1,0)","v":0},{"$f":"'الرصيد الثابت'!#REF!","v":{"$error":"#REF!"}}]
["",null,{"$f":"IF(B487=\"\",\"\",SUMIF('الرصيد الثابت'!$D$2:$D$106,B487,'الرصيد الثابت'!$H$2:$H$106))","v":""},{"$f":"IF(B487=\"\",\"\",SUMIF('الرصيد الثابت'!$D$2:$D$106,B487,'الرصيد الثابت'!$I$2:$I$106))","v":""},{"$f":"IF(B487=\"\",\"\",SUMIF('الرصيد الثابت'!$D$2:$D$106,B487,'الرصيد الثابت'!$J$2:$J$106))","v":""},null,0,null,null,null,null,0,null,null,null,0,null,0,null,null,null,null,null,null,null,null,null,null,null,null,null,null,null,null,null,null,null,null,null,null,null,null,null,null,null,null,null,null,null,null,null,null,null,null,null,null,null,null,null,null,null,null,null,null,null,null,null,null,null,null,null,null,null,null,null,null,null,null,null,null,null,null,null,{"$f":"IFERROR(VLOOKUP(ROWS($CF$3:CF487),$CH$3:$CI$2001,2,FALSE),\"\")","v":""},null,{"$f":"IF(ISNUMBER(SEARCH(B487,CI487)),MAX($CH$2:CH486)+1,0)","v":0},{"$f":"'الرصيد الثابت'!#REF!","v":{"$error":"#REF!"}}]
["",null,{"$f":"IF(B488=\"\",\"\",SUMIF('الرصيد الثابت'!$D$2:$D$106,B488,'الرصيد الثابت'!$H$2:$H$106))","v":""},{"$f":"IF(B488=\"\",\"\",SUMIF('الرصيد الثابت'!$D$2:$D$106,B488,'الرصيد الثابت'!$I$2:$I$106))","v":""},{"$f":"IF(B488=\"\",\"\",SUMIF('الرصيد الثابت'!$D$2:$D$106,B488,'الرصيد الثابت'!$J$2:$J$106))","v":""},null,0,null,null,null,null,0,null,null,null,0,null,0,null,null,null,null,null,null,null,null,null,null,null,null,null,null,null,null,null,null,null,null,null,null,null,null,null,null,null,null,null,null,null,null,null,null,null,null,null,null,null,null,null,null,null,null,null,null,null,null,null,null,null,null,null,null,null,null,null,null,null,null,null,null,null,null,null,{"$f":"IFERROR(VLOOKUP(ROWS($CF$3:CF488),$CH$3:$CI$2001,2,FALSE),\"\")","v":""},null,{"$f":"IF(ISNUMBER(SEARCH(B488,CI488)),MAX($CH$2:CH487)+1,0)","v":0},{"$f":"'الرصيد الثابت'!#REF!","v":{"$error":"#REF!"}}]
["",null,{"$f":"IF(B489=\"\",\"\",SUMIF('الرصيد الثابت'!$D$2:$D$106,B489,'الرصيد الثابت'!$H$2:$H$106))","v":""},{"$f":"IF(B489=\"\",\"\",SUMIF('الرصيد الثابت'!$D$2:$D$106,B489,'الرصيد الثابت'!$I$2:$I$106))","v":""},{"$f":"IF(B489=\"\",\"\",SUMIF('الرصيد الثابت'!$D$2:$D$106,B489,'الرصيد الثابت'!$J$2:$J$106))","v":""},null,0,null,null,null,null,0,null,null,null,0,null,0,null,null,null,null,null,null,null,null,null,null,null,null,null,null,null,null,null,null,null,null,null,null,null,null,null,null,null,null,null,null,null,null,null,null,null,null,null,null,null,null,null,null,null,null,null,null,null,null,null,null,null,null,null,null,null,null,null,null,null,null,null,null,null,null,null,{"$f":"IFERROR(VLOOKUP(ROWS($CF$3:CF489),$CH$3:$CI$2001,2,FALSE),\"\")","v":""},null,{"$f":"IF(ISNUMBER(SEARCH(B489,CI489)),MAX($CH$2:CH488)+1,0)","v":0},{"$f":"'الرصيد الثابت'!#REF!","v":{"$error":"#REF!"}}]
["",null,{"$f":"IF(B490=\"\",\"\",SUMIF('الرصيد الثابت'!$D$2:$D$106,B490,'الرصيد الثابت'!$H$2:$H$106))","v":""},{"$f":"IF(B490=\"\",\"\",SUMIF('الرصيد الثابت'!$D$2:$D$106,B490,'الرصيد الثابت'!$I$2:$I$106))","v":""},{"$f":"IF(B490=\"\",\"\",SUMIF('الرصيد الثابت'!$D$2:$D$106,B490,'الرصيد الثابت'!$J$2:$J$106))","v":""},null,0,null,null,null,null,0,null,null,null,0,null,0,null,null,null,null,null,null,null,null,null,null,null,null,null,null,null,null,null,null,null,null,null,null,null,null,null,null,null,null,null,null,null,null,null,null,null,null,null,null,null,null,null,null,null,null,null,null,null,null,null,null,null,null,null,null,null,null,null,null,null,null,null,null,null,null,null,{"$f":"IFERROR(VLOOKUP(ROWS($CF$3:CF490),$CH$3:$CI$2001,2,FALSE),\"\")","v":""},null,{"$f":"IF(ISNUMBER(SEARCH(B490,CI490)),MAX($CH$2:CH489)+1,0)","v":0},{"$f":"'الرصيد الثابت'!#REF!","v":{"$error":"#REF!"}}]
["",null,{"$f":"IF(B491=\"\",\"\",SUMIF('الرصيد الثابت'!$D$2:$D$106,B491,'الرصيد الثابت'!$H$2:$H$106))","v":""},{"$f":"IF(B491=\"\",\"\",SUMIF('الرصيد الثابت'!$D$2:$D$106,B491,'الرصيد الثابت'!$I$2:$I$106))","v":""},{"$f":"IF(B491=\"\",\"\",SUMIF('الرصيد الثابت'!$D$2:$D$106,B491,'الرصيد الثابت'!$J$2:$J$106))","v":""},null,0,null,null,null,null,0,null,null,null,0,null,0,null,null,null,null,null,null,null,null,null,null,null,null,null,null,null,null,null,null,null,null,null,null,null,null,null,null,null,null,null,null,null,null,null,null,null,null,null,null,null,null,null,null,null,null,null,null,null,null,null,null,null,null,null,null,null,null,null,null,null,null,null,null,null,null,null,{"$f":"IFERROR(VLOOKUP(ROWS($CF$3:CF491),$CH$3:$CI$2001,2,FALSE),\"\")","v":""},null,{"$f":"IF(ISNUMBER(SEARCH(B491,CI491)),MAX($CH$2:CH490)+1,0)","v":0},{"$f":"'الرصيد الثابت'!#REF!","v":{"$error":"#REF!"}}]
["",null,{"$f":"IF(B492=\"\",\"\",SUMIF('الرصيد الثابت'!$D$2:$D$106,B492,'الرصيد الثابت'!$H$2:$H$106))","v":""},{"$f":"IF(B492=\"\",\"\",SUMIF('الرصيد الثابت'!$D$2:$D$106,B492,'الرصيد الثابت'!$I$2:$I$106))","v":""},{"$f":"IF(B492=\"\",\"\",SUMIF('الرصيد الثابت'!$D$2:$D$106,B492,'الرصيد الثابت'!$J$2:$J$106))","v":""},null,0,null,null,null,null,0,null,null,null,0,null,0,null,null,null,null,null,null,null,null,null,null,null,null,null,null,null,null,null,null,null,null,null,null,null,null,null,null,null,null,null,null,null,null,null,null,null,null,null,null,null,null,null,null,null,null,null,null,null,null,null,null,null,null,null,null,null,null,null,null,null,null,null,null,null,null,null,{"$f":"IFERROR(VLOOKUP(ROWS($CF$3:CF492),$CH$3:$CI$2001,2,FALSE),\"\")","v":""},null,{"$f":"IF(ISNUMBER(SEARCH(B492,CI492)),MAX($CH$2:CH491)+1,0)","v":0},{"$f":"'الرصيد الثابت'!#REF!","v":{"$error":"#REF!"}}]
["",null,{"$f":"IF(B493=\"\",\"\",SUMIF('الرصيد الثابت'!$D$2:$D$106,B493,'الرصيد الثابت'!$H$2:$H$106))","v":""},{"$f":"IF(B493=\"\",\"\",SUMIF('الرصيد الثابت'!$D$2:$D$106,B493,'الرصيد الثابت'!$I$2:$I$106))","v":""},{"$f":"IF(B493=\"\",\"\",SUMIF('الرصيد الثابت'!$D$2:$D$106,B493,'الرصيد الثابت'!$J$2:$J$106))","v":""},null,0,null,null,null,null,0,null,null,null,0,null,0,null,null,null,null,null,null,null,null,null,null,null,null,null,null,null,null,null,null,null,null,null,null,null,null,null,null,null,null,null,null,null,null,null,null,null,null,null,null,null,null,null,null,null,null,null,null,null,null,null,null,null,null,null,null,null,null,null,null,null,null,null,null,null,null,null,{"$f":"IFERROR(VLOOKUP(ROWS($CF$3:CF493),$CH$3:$CI$2001,2,FALSE),\"\")","v":""},null,{"$f":"IF(ISNUMBER(SEARCH(B493,CI493)),MAX($CH$2:CH492)+1,0)","v":0},{"$f":"'الرصيد الثابت'!#REF!","v":{"$error":"#REF!"}}]
["",null,{"$f":"IF(B494=\"\",\"\",SUMIF('الرصيد الثابت'!$D$2:$D$106,B494,'الرصيد الثابت'!$H$2:$H$106))","v":""},{"$f":"IF(B494=\"\",\"\",SUMIF('الرصيد الثابت'!$D$2:$D$106,B494,'الرصيد الثابت'!$I$2:$I$106))","v":""},{"$f":"IF(B494=\"\",\"\",SUMIF('الرصيد الثابت'!$D$2:$D$106,B494,'الرصيد الثابت'!$J$2:$J$106))","v":""},null,0,null,null,null,null,0,null,null,null,0,null,0,null,null,null,null,null,null,null,null,null,null,null,null,null,null,null,null,null,null,null,null,null,null,null,null,null,null,null,null,null,null,null,null,null,null,null,null,null,null,null,null,null,null,null,null,null,null,null,null,null,null,null,null,null,null,null,null,null,null,null,null,null,null,null,null,null,{"$f":"IFERROR(VLOOKUP(ROWS($CF$3:CF494),$CH$3:$CI$2001,2,FALSE),\"\")","v":""},null,{"$f":"IF(ISNUMBER(SEARCH(B494,CI494)),MAX($CH$2:CH493)+1,0)","v":0},{"$f":"'الرصيد الثابت'!#REF!","v":{"$error":"#REF!"}}]
["",null,{"$f":"IF(B495=\"\",\"\",SUMIF('الرصيد الثابت'!$D$2:$D$106,B495,'الرصيد الثابت'!$H$2:$H$106))","v":""},{"$f":"IF(B495=\"\",\"\",SUMIF('الرصيد الثابت'!$D$2:$D$106,B495,'الرصيد الثابت'!$I$2:$I$106))","v":""},{"$f":"IF(B495=\"\",\"\",SUMIF('الرصيد الثابت'!$D$2:$D$106,B495,'الرصيد الثابت'!$J$2:$J$106))","v":""},null,0,null,null,null,null,0,null,null,null,0,null,0,null,null,null,null,null,null,null,null,null,null,null,null,null,null,null,null,null,null,null,null,null,null,null,null,null,null,null,null,null,null,null,null,null,null,null,null,null,null,null,null,null,null,null,null,null,null,null,null,null,null,null,null,null,null,null,null,null,null,null,null,null,null,null,null,null,{"$f":"IFERROR(VLOOKUP(ROWS($CF$3:CF495),$CH$3:$CI$2001,2,FALSE),\"\")","v":""},null,{"$f":"IF(ISNUMBER(SEARCH(B495,CI495)),MAX($CH$2:CH494)+1,0)","v":0},{"$f":"'الرصيد الثابت'!#REF!","v":{"$error":"#REF!"}}]
["",null,{"$f":"IF(B496=\"\",\"\",SUMIF('الرصيد الثابت'!$D$2:$D$106,B496,'الرصيد الثابت'!$H$2:$H$106))","v":""},{"$f":"IF(B496=\"\",\"\",SUMIF('الرصيد الثابت'!$D$2:$D$106,B496,'الرصيد الثابت'!$I$2:$I$106))","v":""},{"$f":"IF(B496=\"\",\"\",SUMIF('الرصيد الثابت'!$D$2:$D$106,B496,'الرصيد الثابت'!$J$2:$J$106))","v":""},null,0,null,null,null,null,0,null,null,null,0,null,0,null,null,null,null,null,null,null,null,null,null,null,null,null,null,null,null,null,null,null,null,null,null,null,null,null,null,null,null,null,null,null,null,null,null,null,null,null,null,null,null,null,null,null,null,null,null,null,null,null,null,null,null,null,null,null,null,null,null,null,null,null,null,null,null,null,{"$f":"IFERROR(VLOOKUP(ROWS($CF$3:CF496),$CH$3:$CI$2001,2,FALSE),\"\")","v":""},null,{"$f":"IF(ISNUMBER(SEARCH(B496,CI496)),MAX($CH$2:CH495)+1,0)","v":0},{"$f":"'الرصيد الثابت'!#REF!","v":{"$error":"#REF!"}}]
["",null,{"$f":"IF(B497=\"\",\"\",SUMIF('الرصيد الثابت'!$D$2:$D$106,B497,'الرصيد الثابت'!$H$2:$H$106))","v":""},{"$f":"IF(B497=\"\",\"\",SUMIF('الرصيد الثابت'!$D$2:$D$106,B497,'الرصيد الثابت'!$I$2:$I$106))","v":""},{"$f":"IF(B497=\"\",\"\",SUMIF('الرصيد الثابت'!$D$2:$D$106,B497,'الرصيد الثابت'!$J$2:$J$106))","v":""},null,0,null,null,null,null,0,null,null,null,0,null,0,null,null,null,null,null,null,null,null,null,null,null,null,null,null,null,null,null,null,null,null,null,null,null,null,null,null,null,null,null,null,null,null,null,null,null,null,null,null,null,null,null,null,null,null,null,null,null,null,null,null,null,null,null,null,null,null,null,null,null,null,null,null,null,null,null,{"$f":"IFERROR(VLOOKUP(ROWS($CF$3:CF497),$CH$3:$CI$2001,2,FALSE),\"\")","v":""},null,{"$f":"IF(ISNUMBER(SEARCH(B497,CI497)),MAX($CH$2:CH496)+1,0)","v":0},{"$f":"'الرصيد الثابت'!#REF!","v":{"$error":"#REF!"}}]
["",null,{"$f":"IF(B498=\"\",\"\",SUMIF('الرصيد الثابت'!$D$2:$D$106,B498,'الرصيد الثابت'!$H$2:$H$106))","v":""},{"$f":"IF(B498=\"\",\"\",SUMIF('الرصيد الثابت'!$D$2:$D$106,B498,'الرصيد الثابت'!$I$2:$I$106))","v":""},{"$f":"IF(B498=\"\",\"\",SUMIF('الرصيد الثابت'!$D$2:$D$106,B498,'الرصيد الثابت'!$J$2:$J$106))","v":""},null,0,null,null,null,null,0,null,null,null,0,null,0,null,null,null,null,null,null,null,null,null,null,null,null,null,null,null,null,null,null,null,null,null,null,null,null,null,null,null,null,null,null,null,null,null,null,null,null,null,null,null,null,null,null,null,null,null,null,null,null,null,null,null,null,null,null,null,null,null,null,null,null,null,null,null,null,null,{"$f":"IFERROR(VLOOKUP(ROWS($CF$3:CF498),$CH$3:$CI$2001,2,FALSE),\"\")","v":""},null,{"$f":"IF(ISNUMBER(SEARCH(B498,CI498)),MAX($CH$2:CH497)+1,0)","v":0},{"$f":"'الرصيد الثابت'!#REF!","v":{"$error":"#REF!"}}]
["",null,{"$f":"IF(B499=\"\",\"\",SUMIF('الرصيد الثابت'!$D$2:$D$106,B499,'الرصيد الثابت'!$H$2:$H$106))","v":""},{"$f":"IF(B499=\"\",\"\",SUMIF('الرصيد الثابت'!$D$2:$D$106,B499,'الرصيد الثابت'!$I$2:$I$106))","v":""},{"$f":"IF(B499=\"\",\"\",SUMIF('الرصيد الثابت'!$D$2:$D$106,B499,'الرصيد الثابت'!$J$2:$J$106))","v":""},null,0,null,null,null,null,0,null,null,null,0,null,0,null,null,null,null,null,null,null,null,null,null,null,null,null,null,null,null,null,null,null,null,null,null,null,null,null,null,null,null,null,null,null,null,null,null,null,null,null,null,null,null,null,null,null,null,null,null,null,null,null,null,null,null,null,null,null,null,null,null,null,null,null,null,null,null,null,{"$f":"IFERROR(VLOOKUP(ROWS($CF$3:CF499),$CH$3:$CI$2001,2,FALSE),\"\")","v":""},null,{"$f":"IF(ISNUMBER(SEARCH(B499,CI499)),MAX($CH$2:CH498)+1,0)","v":0},{"$f":"'الرصيد الثابت'!#REF!","v":{"$error":"#REF!"}}]
["",null,{"$f":"IF(B500=\"\",\"\",SUMIF('الرصيد الثابت'!$D$2:$D$106,B500,'الرصيد الثابت'!$H$2:$H$106))","v":""},{"$f":"IF(B500=\"\",\"\",SUMIF('الرصيد الثابت'!$D$2:$D$106,B500,'الرصيد الثابت'!$I$2:$I$106))","v":""},{"$f":"IF(B500=\"\",\"\",SUMIF('الرصيد الثابت'!$D$2:$D$106,B500,'الرصيد الثابت'!$J$2:$J$106))","v":""},null,0,null,null,null,null,0,null,null,null,0,null,0,null,null,null,null,null,null,null,null,null,null,null,null,null,null,null,null,null,null,null,null,null,null,null,null,null,null,null,null,null,null,null,null,null,null,null,null,null,null,null,null,null,null,null,null,null,null,null,null,null,null,null,null,null,null,null,null,null,null,null,null,null,null,null,null,null,{"$f":"IFERROR(VLOOKUP(ROWS($CF$3:CF500),$CH$3:$CI$2001,2,FALSE),\"\")","v":""},null,{"$f":"IF(ISNUMBER(SEARCH(B500,CI500)),MAX($CH$2:CH499)+1,0)","v":0},{"$f":"'الرصيد الثابت'!#REF!","v":{"$error":"#REF!"}}]
["",null,{"$f":"IF(B501=\"\",\"\",SUMIF('الرصيد الثابت'!$D$2:$D$106,B501,'الرصيد الثابت'!$H$2:$H$106))","v":""},{"$f":"IF(B501=\"\",\"\",SUMIF('الرصيد الثابت'!$D$2:$D$106,B501,'الرصيد الثابت'!$I$2:$I$106))","v":""},{"$f":"IF(B501=\"\",\"\",SUMIF('الرصيد الثابت'!$D$2:$D$106,B501,'الرصيد الثابت'!$J$2:$J$106))","v":""},null,0,null,null,null,null,0,null,null,null,0,null,0,null,null,null,null,null,null,null,null,null,null,null,null,null,null,null,null,null,null,null,null,null,null,null,null,null,null,null,null,null,null,null,null,null,null,null,null,null,null,null,null,null,null,null,null,null,null,null,null,null,null,null,null,null,null,null,null,null,null,null,null,null,null,null,null,null,{"$f":"IFERROR(VLOOKUP(ROWS($CF$3:CF501),$CH$3:$CI$2001,2,FALSE),\"\")","v":""},null,{"$f":"IF(ISNUMBER(SEARCH(B501,CI501)),MAX($CH$2:CH500)+1,0)","v":0},{"$f":"'الرصيد الثابت'!#REF!","v":{"$error":"#REF!"}}]
["",null,{"$f":"IF(B506=\"\",\"\",SUMIF('الرصيد الثابت'!$D$2:$D$106,B506,'الرصيد الثابت'!$H$2:$H$106))","v":""},{"$f":"IF(B506=\"\",\"\",SUMIF('الرصيد الثابت'!$D$2:$D$106,B506,'الرصيد الثابت'!$I$2:$I$106))","v":""},{"$f":"IF(B506=\"\",\"\",SUMIF('الرصيد الثابت'!$D$2:$D$106,B506,'الرصيد الثابت'!$J$2:$J$106))","v":""},null,0,null,null,null,null,0,null,null,null,0,null,0,null,null,null,null,null,null,null,null,null,null,null,null,null,null,null,null,null,null,null,null,null,null,null,null,null,null,null,null,null,null,null,null,null,null,null,null,null,null,null,null,null,null,null,null,null,null,null,null,null,null,null,null,null,null,null,null,null,null,null,null,null,null,null,null,null,{"$f":"IFERROR(VLOOKUP(ROWS($CF$3:CF506),$CH$3:$CI$2001,2,FALSE),\"\")","v":""},null,{"$f":"IF(ISNUMBER(SEARCH(B506,CI506)),MAX($CH$2:CH505)+1,0)","v":0},{"$f":"'الرصيد الثابت'!#REF!","v":{"$error":"#REF!"}}]
["",null,{"$f":"IF(B511=\"\",\"\",SUMIF('الرصيد الثابت'!$D$2:$D$106,B511,'الرصيد الثابت'!$H$2:$H$106))","v":""},{"$f":"IF(B511=\"\",\"\",SUMIF('الرصيد الثابت'!$D$2:$D$106,B511,'الرصيد الثابت'!$I$2:$I$106))","v":""},{"$f":"IF(B511=\"\",\"\",SUMIF('الرصيد الثابت'!$D$2:$D$106,B511,'الرصيد الثابت'!$J$2:$J$106))","v":""},null,0,null,null,null,null,0,null,null,null,0,null,0,null,null,null,null,null,null,null,null,null,null,null,null,null,null,null,null,null,null,null,null,null,null,null,null,null,null,null,null,null,null,null,null,null,null,null,null,null,null,null,null,null,null,null,null,null,null,null,null,null,null,null,null,null,null,null,null,null,null,null,null,null,null,null,null,null,{"$f":"IFERROR(VLOOKUP(ROWS($CF$3:CF511),$CH$3:$CI$2001,2,FALSE),\"\")","v":""},null,{"$f":"IF(ISNUMBER(SEARCH(B511,CI511)),MAX($CH$2:CH510)+1,0)","v":0},{"$f":"'الرصيد الثابت'!#REF!","v":{"$error":"#REF!"}}]
["",null,{"$f":"IF(B512=\"\",\"\",SUMIF('الرصيد الثابت'!$D$2:$D$106,B512,'الرصيد الثابت'!$H$2:$H$106))","v":""},{"$f":"IF(B512=\"\",\"\",SUMIF('الرصيد الثابت'!$D$2:$D$106,B512,'الرصيد الثابت'!$I$2:$I$106))","v":""},{"$f":"IF(B512=\"\",\"\",SUMIF('الرصيد الثابت'!$D$2:$D$106,B512,'الرصيد الثابت'!$J$2:$J$106))","v":""},null,0,null,null,null,null,0,null,null,null,0,null,0,null,null,null,null,null,null,null,null,null,null,null,null,null,null,null,null,null,null,null,null,null,null,null,null,null,null,null,null,null,null,null,null,null,null,null,null,null,null,null,null,null,null,null,null,null,null,null,null,null,null,null,null,null,null,null,null,null,null,null,null,null,null,null,null,null,{"$f":"IFERROR(VLOOKUP(ROWS($CF$3:CF512),$CH$3:$CI$2001,2,FALSE),\"\")","v":""},null,{"$f":"IF(ISNUMBER(SEARCH(B512,CI512)),MAX($CH$2:CH511)+1,0)","v":0},{"$f":"'الرصيد الثابت'!#REF!","v":{"$error":"#REF!"}}]
["",null,{"$f":"IF(B517=\"\",\"\",SUMIF('الرصيد الثابت'!$D$2:$D$106,B517,'الرصيد الثابت'!$H$2:$H$106))","v":""},{"$f":"IF(B517=\"\",\"\",SUMIF('الرصيد الثابت'!$D$2:$D$106,B517,'الرصيد الثابت'!$I$2:$I$106))","v":""},{"$f":"IF(B517=\"\",\"\",SUMIF('الرصيد الثابت'!$D$2:$D$106,B517,'الرصيد الثابت'!$J$2:$J$106))","v":""},null,0,null,null,null,null,0,null,null,null,0,null,0,null,null,null,null,null,null,null,null,null,null,null,null,null,null,null,null,null,null,null,null,null,null,null,null,null,null,null,null,null,null,null,null,null,null,null,null,null,null,null,null,null,null,null,null,null,null,null,null,null,null,null,null,null,null,null,null,null,null,null,null,null,null,null,null,null,{"$f":"IFERROR(VLOOKUP(ROWS($CF$3:CF517),$CH$3:$CI$2001,2,FALSE),\"\")","v":""},null,{"$f":"IF(ISNUMBER(SEARCH(B517,CI517)),MAX($CH$2:CH516)+1,0)","v":0},{"$f":"'الرصيد الثابت'!#REF!","v":{"$error":"#REF!"}}]
["",null,{"$f":"IF(B522=\"\",\"\",SUMIF('الرصيد الثابت'!$D$2:$D$106,B522,'الرصيد الثابت'!$H$2:$H$106))","v":""},{"$f":"IF(B522=\"\",\"\",SUMIF('الرصيد الثابت'!$D$2:$D$106,B522,'الرصيد الثابت'!$I$2:$I$106))","v":""},{"$f":"IF(B522=\"\",\"\",SUMIF('الرصيد الثابت'!$D$2:$D$106,B522,'الرصيد الثابت'!$J$2:$J$106))","v":""},null,0,null,null,null,null,0,null,null,null,0,null,0,null,null,null,null,null,null,null,null,null,null,null,null,null,null,null,null,null,null,null,null,null,null,null,null,null,null,null,null,null,null,null,null,null,null,null,null,null,null,null,null,null,null,null,null,null,null,null,null,null,null,null,null,null,null,null,null,null,null,null,null,null,null,null,null,null,{"$f":"IFERROR(VLOOKUP(ROWS($CF$3:CF522),$CH$3:$CI$2001,2,FALSE),\"\")","v":""},null,{"$f":"IF(ISNUMBER(SEARCH(B522,CI522)),MAX($CH$2:CH521)+1,0)","v":0},{"$f":"'الرصيد الثابت'!#REF!","v":{"$error":"#REF!"}}]
["",null,{"$f":"IF(B527=\"\",\"\",SUMIF('الرصيد الثابت'!$D$2:$D$106,B527,'الرصيد الثابت'!$H$2:$H$106))","v":""},{"$f":"IF(B527=\"\",\"\",SUMIF('الرصيد الثابت'!$D$2:$D$106,B527,'الرصيد الثابت'!$I$2:$I$106))","v":""},{"$f":"IF(B527=\"\",\"\",SUMIF('الرصيد الثابت'!$D$2:$D$106,B527,'الرصيد الثابت'!$J$2:$J$106))","v":""},null,0,null,null,null,null,0,null,null,null,0,null,0,null,null,null,null,null,null,null,null,null,null,null,null,null,null,null,null,null,null,null,null,null,null,null,null,null,null,null,null,null,null,null,null,null,null,null,null,null,null,null,null,null,null,null,null,null,null,null,null,null,null,null,null,null,null,null,null,null,null,null,null,null,null,null,null,null,{"$f":"IFERROR(VLOOKUP(ROWS($CF$3:CF527),$CH$3:$CI$2001,2,FALSE),\"\")","v":""},null,{"$f":"IF(ISNUMBER(SEARCH(B527,CI527)),MAX($CH$2:CH526)+1,0)","v":0},{"$f":"'الرصيد الثابت'!#REF!","v":{"$error":"#REF!"}}]
["",null,{"$f":"IF(B528=\"\",\"\",SUMIF('الرصيد الثابت'!$D$2:$D$106,B528,'الرصيد الثابت'!$H$2:$H$106))","v":""},{"$f":"IF(B528=\"\",\"\",SUMIF('الرصيد الثابت'!$D$2:$D$106,B528,'الرصيد الثابت'!$I$2:$I$106))","v":""},{"$f":"IF(B528=\"\",\"\",SUMIF('الرصيد الثابت'!$D$2:$D$106,B528,'الرصيد الثابت'!$J$2:$J$106))","v":""},null,0,null,null,null,null,0,null,null,null,0,null,0,null,null,null,null,null,null,null,null,null,null,null,null,null,null,null,null,null,null,null,null,null,null,null,null,null,null,null,null,null,null,null,null,null,null,null,null,null,null,null,null,null,null,null,null,null,null,null,null,null,null,null,null,null,null,null,null,null,null,null,null,null,null,null,null,null,{"$f":"IFERROR(VLOOKUP(ROWS($CF$3:CF528),$CH$3:$CI$2001,2,FALSE),\"\")","v":""},null,{"$f":"IF(ISNUMBER(SEARCH(B528,CI528)),MAX($CH$2:CH527)+1,0)","v":0},{"$f":"'الرصيد الثابت'!#REF!","v":{"$error":"#REF!"}}]
["",null,{"$f":"IF(B533=\"\",\"\",SUMIF('الرصيد الثابت'!$D$2:$D$106,B533,'الرصيد الثابت'!$H$2:$H$106))","v":""},{"$f":"IF(B533=\"\",\"\",SUMIF('الرصيد الثابت'!$D$2:$D$106,B533,'الرصيد الثابت'!$I$2:$I$106))","v":""},{"$f":"IF(B533=\"\",\"\",SUMIF('الرصيد الثابت'!$D$2:$D$106,B533,'الرصيد الثابت'!$J$2:$J$106))","v":""},null,0,null,null,null,null,0,null,null,null,0,null,0,null,null,null,null,null,null,null,null,null,null,null,null,null,null,null,null,null,null,null,null,null,null,null,null,null,null,null,null,null,null,null,null,null,null,null,null,null,null,null,null,null,null,null,null,null,null,null,null,null,null,null,null,null,null,null,null,null,null,null,null,null,null,null,null,null,{"$f":"IFERROR(VLOOKUP(ROWS($CF$3:CF533),$CH$3:$CI$2001,2,FALSE),\"\")","v":""},null,{"$f":"IF(ISNUMBER(SEARCH(B533,CI533)),MAX($CH$2:CH532)+1,0)","v":0},{"$f":"'الرصيد الثابت'!#REF!","v":{"$error":"#REF!"}}]
["",null,{"$f":"IF(B538=\"\",\"\",SUMIF('الرصيد الثابت'!$D$2:$D$106,B538,'الرصيد الثابت'!$H$2:$H$106))","v":""},{"$f":"IF(B538=\"\",\"\",SUMIF('الرصيد الثابت'!$D$2:$D$106,B538,'الرصيد الثابت'!$I$2:$I$106))","v":""},{"$f":"IF(B538=\"\",\"\",SUMIF('الرصيد الثابت'!$D$2:$D$106,B538,'الرصيد الثابت'!$J$2:$J$106))","v":""},null,0,null,null,null,null,0,null,null,null,0,null,0,null,null,null,null,null,null,null,null,null,null,null,null,null,null,null,null,null,null,null,null,null,null,null,null,null,null,null,null,null,null,null,null,null,null,null,null,null,null,null,null,null,null,null,null,null,null,null,null,null,null,null,null,null,null,null,null,null,null,null,null,null,null,null,null,null,{"$f":"IFERROR(VLOOKUP(ROWS($CF$3:CF538),$CH$3:$CI$2001,2,FALSE),\"\")","v":""},null,{"$f":"IF(ISNUMBER(SEARCH(B538,CI538)),MAX($CH$2:CH537)+1,0)","v":0},{"$f":"'الرصيد الثابت'!#REF!","v":{"$error":"#REF!"}}]
["",null,{"$f":"IF(B543=\"\",\"\",SUMIF('الرصيد الثابت'!$D$2:$D$106,B543,'الرصيد الثابت'!$H$2:$H$106))","v":""},{"$f":"IF(B543=\"\",\"\",SUMIF('الرصيد الثابت'!$D$2:$D$106,B543,'الرصيد الثابت'!$I$2:$I$106))","v":""},{"$f":"IF(B543=\"\",\"\",SUMIF('الرصيد الثابت'!$D$2:$D$106,B543,'الرصيد الثابت'!$J$2:$J$106))","v":""},null,0,null,null,null,null,0,null,null,null,0,null,0,null,null,null,null,null,null,null,null,null,null,null,null,null,null,null,null,null,null,null,null,null,null,null,null,null,null,null,null,null,null,null,null,null,null,null,null,null,null,null,null,null,null,null,null,null,null,null,null,null,null,null,null,null,null,null,null,null,null,null,null,null,null,null,null,null,{"$f":"IFERROR(VLOOKUP(ROWS($CF$3:CF543),$CH$3:$CI$2001,2,FALSE),\"\")","v":""},null,{"$f":"IF(ISNUMBER(SEARCH(B543,CI543)),MAX($CH$2:CH542)+1,0)","v":0},{"$f":"'الرصيد الثابت'!#REF!","v":{"$error":"#REF!"}}]
["",null,{"$f":"IF(B544=\"\",\"\",SUMIF('الرصيد الثابت'!$D$2:$D$106,B544,'الرصيد الثابت'!$H$2:$H$106))","v":""},{"$f":"IF(B544=\"\",\"\",SUMIF('الرصيد الثابت'!$D$2:$D$106,B544,'الرصيد الثابت'!$I$2:$I$106))","v":""},{"$f":"IF(B544=\"\",\"\",SUMIF('الرصيد الثابت'!$D$2:$D$106,B544,'الرصيد الثابت'!$J$2:$J$106))","v":""},null,0,null,null,null,null,0,null,null,null,0,null,0,null,null,null,null,null,null,null,null,null,null,null,null,null,null,null,null,null,null,null,null,null,null,null,null,null,null,null,null,null,null,null,null,null,null,null,null,null,null,null,null,null,null,null,null,null,null,null,null,null,null,null,null,null,null,null,null,null,null,null,null,null,null,null,null,null,{"$f":"IFERROR(VLOOKUP(ROWS($CF$3:CF544),$CH$3:$CI$2001,2,FALSE),\"\")","v":""},null,{"$f":"IF(ISNUMBER(SEARCH(B544,CI544)),MAX($CH$2:CH543)+1,0)","v":0},{"$f":"'الرصيد الثابت'!#REF!","v":{"$error":"#REF!"}}]
["",null,{"$f":"IF(B549=\"\",\"\",SUMIF('الرصيد الثابت'!$D$2:$D$106,B549,'الرصيد الثابت'!$H$2:$H$106))","v":""},{"$f":"IF(B549=\"\",\"\",SUMIF('الرصيد الثابت'!$D$2:$D$106,B549,'الرصيد الثابت'!$I$2:$I$106))","v":""},{"$f":"IF(B549=\"\",\"\",SUMIF('الرصيد الثابت'!$D$2:$D$106,B549,'الرصيد الثابت'!$J$2:$J$106))","v":""},null,0,null,null,null,null,0,null,null,null,0,null,0,null,null,null,null,null,null,null,null,null,null,null,null,null,null,null,null,null,null,null,null,null,null,null,null,null,null,null,null,null,null,null,null,null,null,null,null,null,null,null,null,null,null,null,null,null,null,null,null,null,null,null,null,null,null,null,null,null,null,null,null,null,null,null,null,null,{"$f":"IFERROR(VLOOKUP(ROWS($CF$3:CF549),$CH$3:$CI$2001,2,FALSE),\"\")","v":""},null,{"$f":"IF(ISNUMBER(SEARCH(B549,CI549)),MAX($CH$2:CH548)+1,0)","v":0},{"$f":"'الرصيد الثابت'!#REF!","v":{"$error":"#REF!"}}]
["",null,{"$f":"IF(B554=\"\",\"\",SUMIF('الرصيد الثابت'!$D$2:$D$106,B554,'الرصيد الثابت'!$H$2:$H$106))","v":""},{"$f":"IF(B554=\"\",\"\",SUMIF('الرصيد الثابت'!$D$2:$D$106,B554,'الرصيد الثابت'!$I$2:$I$106))","v":""},{"$f":"IF(B554=\"\",\"\",SUMIF('الرصيد الثابت'!$D$2:$D$106,B554,'الرصيد الثابت'!$J$2:$J$106))","v":""},null,0,null,null,null,null,0,null,null,null,0,null,0,null,null,null,null,null,null,null,null,null,null,null,null,null,null,null,null,null,null,null,null,null,null,null,null,null,null,null,null,null,null,null,null,null,null,null,null,null,null,null,null,null,null,null,null,null,null,null,null,null,null,null,null,null,null,null,null,null,null,null,null,null,null,null,null,null,{"$f":"IFERROR(VLOOKUP(ROWS($CF$3:CF554),$CH$3:$CI$2001,2,FALSE),\"\")","v":""},null,{"$f":"IF(ISNUMBER(SEARCH(B554,CI554)),MAX($CH$2:CH553)+1,0)","v":0},{"$f":"'الرصيد الثابت'!#REF!","v":{"$error":"#REF!"}}]
["",null,{"$f":"IF(B556=\"\",\"\",SUMIF('الرصيد الثابت'!$D$2:$D$106,B556,'الرصيد الثابت'!$H$2:$H$106))","v":""},{"$f":"IF(B556=\"\",\"\",SUMIF('الرصيد الثابت'!$D$2:$D$106,B556,'الرصيد الثابت'!$I$2:$I$106))","v":""},{"$f":"IF(B556=\"\",\"\",SUMIF('الرصيد الثابت'!$D$2:$D$106,B556,'الرصيد الثابت'!$J$2:$J$106))","v":""},null,0,null,null,null,null,0,null,null,null,0,null,0,null,null,null,null,null,null,null,null,null,null,null,null,null,null,null,null,null,null,null,null,null,null,null,null,null,null,null,null,null,null,null,null,null,null,null,null,null,null,null,null,null,null,null,null,null,null,null,null,null,null,null,null,null,null,null,null,null,null,null,null,null,null,null,null,null,{"$f":"IFERROR(VLOOKUP(ROWS($CF$3:CF556),$CH$3:$CI$2001,2,FALSE),\"\")","v":""},null,{"$f":"IF(ISNUMBER(SEARCH(B556,CI556)),MAX($CH$2:CH555)+1,0)","v":0},{"$f":"'الرصيد الثابت'!#REF!","v":{"$error":"#REF!"}}]
["",null,{"$f":"IF(B559=\"\",\"\",SUMIF('الرصيد الثابت'!$D$2:$D$106,B559,'الرصيد الثابت'!$H$2:$H$106))","v":""},{"$f":"IF(B559=\"\",\"\",SUMIF('الرصيد الثابت'!$D$2:$D$106,B559,'الرصيد الثابت'!$I$2:$I$106))","v":""},{"$f":"IF(B559=\"\",\"\",SUMIF('الرصيد الثابت'!$D$2:$D$106,B559,'الرصيد الثابت'!$J$2:$J$106))","v":""},null,0,null,null,null,null,0,null,null,null,0,null,0,null,null,null,null,null,null,null,null,null,null,null,null,null,null,null,null,null,null,null,null,null,null,null,null,null,null,null,null,null,null,null,null,null,null,null,null,null,null,null,null,null,null,null,null,null,null,null,null,null,null,null,null,null,null,null,null,null,null,null,null,null,null,null,null,null,{"$f":"IFERROR(VLOOKUP(ROWS($CF$3:CF559),$CH$3:$CI$2001,2,FALSE),\"\")","v":""},null,{"$f":"IF(ISNUMBER(SEARCH(B559,CI559)),MAX($CH$2:CH558)+1,0)","v":0},{"$f":"'الرصيد الثابت'!#REF!","v":{"$error":"#REF!"}}]
["",null,{"$f":"IF(B564=\"\",\"\",SUMIF('الرصيد الثابت'!$D$2:$D$106,B564,'الرصيد الثابت'!$H$2:$H$106))","v":""},{"$f":"IF(B564=\"\",\"\",SUMIF('الرصيد الثابت'!$D$2:$D$106,B564,'الرصيد الثابت'!$I$2:$I$106))","v":""},{"$f":"IF(B564=\"\",\"\",SUMIF('الرصيد الثابت'!$D$2:$D$106,B564,'الرصيد الثابت'!$J$2:$J$106))","v":""},null,0,null,null,null,null,0,null,null,null,0,null,0,null,null,null,null,null,null,null,null,null,null,null,null,null,null,null,null,null,null,null,null,null,null,null,null,null,null,null,null,null,null,null,null,null,null,null,null,null,null,null,null,null,null,null,null,null,null,null,null,null,null,null,null,null,null,null,null,null,null,null,null,null,null,null,null,null,{"$f":"IFERROR(VLOOKUP(ROWS($CF$3:CF564),$CH$3:$CI$2001,2,FALSE),\"\")","v":""},null,{"$f":"IF(ISNUMBER(SEARCH(B564,CI564)),MAX($CH$2:CH563)+1,0)","v":0},{"$f":"'الرصيد الثابت'!#REF!","v":{"$error":"#REF!"}}]
["",null,{"$f":"IF(B569=\"\",\"\",SUMIF('الرصيد الثابت'!$D$2:$D$106,B569,'الرصيد الثابت'!$H$2:$H$106))","v":""},{"$f":"IF(B569=\"\",\"\",SUMIF('الرصيد الثابت'!$D$2:$D$106,B569,'الرصيد الثابت'!$I$2:$I$106))","v":""},{"$f":"IF(B569=\"\",\"\",SUMIF('الرصيد الثابت'!$D$2:$D$106,B569,'الرصيد الثابت'!$J$2:$J$106))","v":""},null,0,null,null,null,null,0,null,null,null,0,null,0,null,null,null,null,null,null,null,null,null,null,null,null,null,null,null,null,null,null,null,null,null,null,null,null,null,null,null,null,null,null,null,null,null,null,null,null,null,null,null,null,null,null,null,null,null,null,null,null,null,null,null,null,null,null,null,null,null,null,null,null,null,null,null,null,null,{"$f":"IFERROR(VLOOKUP(ROWS($CF$3:CF569),$CH$3:$CI$2001,2,FALSE),\"\")","v":""},null,{"$f":"IF(ISNUMBER(SEARCH(B569,CI569)),MAX($CH$2:CH568)+1,0)","v":0},{"$f":"'الرصيد الثابت'!#REF!","v":{"$error":"#REF!"}}]
["",null,{"$f":"IF(B574=\"\",\"\",SUMIF('الرصيد الثابت'!$D$2:$D$106,B574,'الرصيد الثابت'!$H$2:$H$106))","v":""},{"$f":"IF(B574=\"\",\"\",SUMIF('الرصيد الثابت'!$D$2:$D$106,B574,'الرصيد الثابت'!$I$2:$I$106))","v":""},{"$f":"IF(B574=\"\",\"\",SUMIF('الرصيد الثابت'!$D$2:$D$106,B574,'الرصيد الثابت'!$J$2:$J$106))","v":""},null,0,null,null,null,null,0,null,null,null,0,null,0,null,null,null,null,null,null,null,null,null,null,null,null,null,null,null,null,null,null,null,null,null,null,null,null,null,null,null,null,null,null,null,null,null,null,null,null,null,null,null,null,null,null,null,null,null,null,null,null,null,null,null,null,null,null,null,null,null,null,null,null,null,null,null,null,null,{"$f":"IFERROR(VLOOKUP(ROWS($CF$3:CF574),$CH$3:$CI$2001,2,FALSE),\"\")","v":""},null,{"$f":"IF(ISNUMBER(SEARCH(B574,CI574)),MAX($CH$2:CH573)+1,0)","v":0},{"$f":"'الرصيد الثابت'!#REF!","v":{"$error":"#REF!"}}]
["",null,{"$f":"IF(B575=\"\",\"\",SUMIF('الرصيد الثابت'!$D$2:$D$106,B575,'الرصيد الثابت'!$H$2:$H$106))","v":""},{"$f":"IF(B575=\"\",\"\",SUMIF('الرصيد الثابت'!$D$2:$D$106,B575,'الرصيد الثابت'!$I$2:$I$106))","v":""},{"$f":"IF(B575=\"\",\"\",SUMIF('الرصيد الثابت'!$D$2:$D$106,B575,'الرصيد الثابت'!$J$2:$J$106))","v":""},null,0,null,null,null,null,0,null,null,null,0,null,0,null,null,null,null,null,null,null,null,null,null,null,null,null,null,null,null,null,null,null,null,null,null,null,null,null,null,null,null,null,null,null,null,null,null,null,null,null,null,null,null,null,null,null,null,null,null,null,null,null,null,null,null,null,null,null,null,null,null,null,null,null,null,null,null,null,{"$f":"IFERROR(VLOOKUP(ROWS($CF$3:CF575),$CH$3:$CI$2001,2,FALSE),\"\")","v":""},null,{"$f":"IF(ISNUMBER(SEARCH(B575,CI575)),MAX($CH$2:CH574)+1,0)","v":0},{"$f":"'الرصيد الثابت'!#REF!","v":{"$error":"#REF!"}}]
[{"$f":"IF(B580<>\"\",IF(A580=\"\",NOW(),A580),\"\")","v":""},null,{"$f":"IF(B580=\"\",\"\",SUMIF('الرصيد الثابت'!$D$2:$D$106,B580,'الرصيد الثابت'!$H$2:$H$106))","v":""},{"$f":"IF(B580=\"\",\"\",SUMIF('الرصيد الثابت'!$D$2:$D$106,B580,'الرصيد الثابت'!$I$2:$I$106))","v":""},{"$f":"IF(B580=\"\",\"\",SUMIF('الرصيد الثابت'!$D$2:$D$106,B580,'الرصيد الثابت'!$J$2:$J$106))","v":""},null,{"$f":"SUM(H580*F580)","v":0},null,null,null,null,{"$f":"SUM(M580*K580)","v":0},null,null,null,{"$f":"SUM(F580-K580)","v":0},null,{"$f":"SUM(S580*Q580)","v":0},null,null,null,null,null,null,null,null,null,null,null,null,null,null,null,null,null,null,null,null,null,null,null,null,null,null,null,null,null,null,null,null,null,null,null,null,null,null,null,null,null,null,null,null,null,null,null,null,null,null,null,null,null,null,null,null,null,null,null,null,null,null,null,null,null,{"$f":"IFERROR(VLOOKUP(ROWS($CF$3:CF580),$CH$3:$CI$2001,2,FALSE),\"\")","v":""},null,{"$f":"IF(ISNUMBER(SEARCH(B580,CI580)),MAX($CH$2:CH579)+1,0)","v":0},{"$f":"'الرصيد الثابت'!#REF!","v":{"$error":"#REF!"}}]
["",null,{"$f":"IF(B585=\"\",\"\",SUMIF('الرصيد الثابت'!$D$2:$D$106,B585,'الرصيد الثابت'!$H$2:$H$106))","v":""},{"$f":"IF(B585=\"\",\"\",SUMIF('الرصيد الثابت'!$D$2:$D$106,B585,'الرصيد الثابت'!$I$2:$I$106))","v":""},{"$f":"IF(B585=\"\",\"\",SUMIF('الرصيد الثابت'!$D$2:$D$106,B585,'الرصيد الثابت'!$J$2:$J$106))","v":""},null,0,null,null,null,null,0,null,null,null,0,null,0,null,null,null,null,null,null,null,null,null,null,null,null,null,null,null,null,null,null,null,null,null,null,null,null,null,null,null,null,null,null,null,null,null,null,null,null,null,null,null,null,null,null,null,null,null,null,null,null,null,null,null,null,null,null,null,null,null,null,null,null,null,null,null,null,null,{"$f":"IFERROR(VLOOKUP(ROWS($CF$3:CF585),$CH$3:$CI$2001,2,FALSE),\"\")","v":""},null,{"$f":"IF(ISNUMBER(SEARCH(B585,CI585)),MAX($CH$2:CH584)+1,0)","v":0},{"$f":"'الرصيد الثابت'!#REF!","v":{"$error":"#REF!"}}]
["",null,{"$f":"IF(B590=\"\",\"\",SUMIF('الرصيد الثابت'!$D$2:$D$106,B590,'الرصيد الثابت'!$H$2:$H$106))","v":""},{"$f":"IF(B590=\"\",\"\",SUMIF('الرصيد الثابت'!$D$2:$D$106,B590,'الرصيد الثابت'!$I$2:$I$106))","v":""},{"$f":"IF(B590=\"\",\"\",SUMIF('الرصيد الثابت'!$D$2:$D$106,B590,'الرصيد الثابت'!$J$2:$J$106))","v":""},null,0,null,null,null,null,0,null,null,null,0,null,0,null,null,null,null,null,null,null,null,null,null,null,null,null,null,null,null,null,null,null,null,null,null,null,null,null,null,null,null,null,null,null,null,null,null,null,null,null,null,null,null,null,null,null,null,null,null,null,null,null,null,null,null,null,null,null,null,null,null,null,null,null,null,null,null,null,{"$f":"IFERROR(VLOOKUP(ROWS($CF$3:CF590),$CH$3:$CI$2001,2,FALSE),\"\")","v":""},null,{"$f":"IF(ISNUMBER(SEARCH(B590,CI590)),MAX($CH$2:CH589)+1,0)","v":0},{"$f":"'الرصيد الثابت'!#REF!","v":{"$error":"#REF!"}}]
["",null,{"$f":"IF(B591=\"\",\"\",SUMIF('الرصيد الثابت'!$D$2:$D$106,B591,'الرصيد الثابت'!$H$2:$H$106))","v":""},{"$f":"IF(B591=\"\",\"\",SUMIF('الرصيد الثابت'!$D$2:$D$106,B591,'الرصيد الثابت'!$I$2:$I$106))","v":""},{"$f":"IF(B591=\"\",\"\",SUMIF('الرصيد الثابت'!$D$2:$D$106,B591,'الرصيد الثابت'!$J$2:$J$106))","v":""},null,0,null,null,null,null,0,null,null,null,0,null,0,null,null,null,null,null,null,null,null,null,null,null,null,null,null,null,null,null,null,null,null,null,null,null,null,null,null,null,null,null,null,null,null,null,null,null,null,null,null,null,null,null,null,null,null,null,null,null,null,null,null,null,null,null,null,null,null,null,null,null,null,null,null,null,null,null,{"$f":"IFERROR(VLOOKUP(ROWS($CF$3:CF591),$CH$3:$CI$2001,2,FALSE),\"\")","v":""},null,{"$f":"IF(ISNUMBER(SEARCH(B591,CI591)),MAX($CH$2:CH590)+1,0)","v":0},{"$f":"'الرصيد الثابت'!#REF!","v":{"$error":"#REF!"}}]
["",null,{"$f":"IF(B596=\"\",\"\",SUMIF('الرصيد الثابت'!$D$2:$D$106,B596,'الرصيد الثابت'!$H$2:$H$106))","v":""},{"$f":"IF(B596=\"\",\"\",SUMIF('الرصيد الثابت'!$D$2:$D$106,B596,'الرصيد الثابت'!$I$2:$I$106))","v":""},{"$f":"IF(B596=\"\",\"\",SUMIF('الرصيد الثابت'!$D$2:$D$106,B596,'الرصيد الثابت'!$J$2:$J$106))","v":""},null,0,null,null,null,null,0,null,null,null,0,null,0,null,null,null,null,null,null,null,null,null,null,null,null,null,null,null,null,null,null,null,null,null,null,null,null,null,null,null,null,null,null,null,null,null,null,null,null,null,null,null,null,null,null,null,null,null,null,null,null,null,null,null,null,null,null,null,null,null,null,null,null,null,null,null,null,null,{"$f":"IFERROR(VLOOKUP(ROWS($CF$3:CF596),$CH$3:$CI$2001,2,FALSE),\"\")","v":""},null,{"$f":"IF(ISNUMBER(SEARCH(B596,CI596)),MAX($CH$2:CH595)+1,0)","v":0},{"$f":"'الرصيد الثابت'!#REF!","v":{"$error":"#REF!"}}]
["",null,{"$f":"IF(B601=\"\",\"\",SUMIF('الرصيد الثابت'!$D$2:$D$106,B601,'الرصيد الثابت'!$H$2:$H$106))","v":""},{"$f":"IF(B601=\"\",\"\",SUMIF('الرصيد الثابت'!$D$2:$D$106,B601,'الرصيد الثابت'!$I$2:$I$106))","v":""},{"$f":"IF(B601=\"\",\"\",SUMIF('الرصيد الثابت'!$D$2:$D$106,B601,'الرصيد الثابت'!$J$2:$J$106))","v":""},null,0,null,null,null,null,0,null,null,null,0,null,0,null,null,null,null,null,null,null,null,null,null,null,null,null,null,null,null,null,null,null,null,null,null,null,null,null,null,null,null,null,null,null,null,null,null,null,null,null,null,null,null,null,null,null,null,null,null,null,null,null,null,null,null,null,null,null,null,null,null,null,null,null,null,null,null,null,{"$f":"IFERROR(VLOOKUP(ROWS($CF$3:CF601),$CH$3:$CI$2001,2,FALSE),\"\")","v":""},null,{"$f":"IF(ISNUMBER(SEARCH(B601,CI601)),MAX($CH$2:CH600)+1,0)","v":0},{"$f":"'الرصيد الثابت'!#REF!","v":{"$error":"#REF!"}}]
["",null,{"$f":"IF(B606=\"\",\"\",SUMIF('الرصيد الثابت'!$D$2:$D$106,B606,'الرصيد الثابت'!$H$2:$H$106))","v":""},{"$f":"IF(B606=\"\",\"\",SUMIF('الرصيد الثابت'!$D$2:$D$106,B606,'الرصيد الثابت'!$I$2:$I$106))","v":""},{"$f":"IF(B606=\"\",\"\",SUMIF('الرصيد الثابت'!$D$2:$D$106,B606,'الرصيد الثابت'!$J$2:$J$106))","v":""},null,0,null,null,null,null,0,null,null,null,0,null,0,null,null,null,null,null,null,null,null,null,null,null,null,null,null,null,null,null,null,null,null,null,null,null,null,null,null,null,null,null,null,null,null,null,null,null,null,null,null,null,null,null,null,null,null,null,null,null,null,null,null,null,null,null,null,null,null,null,null,null,null,null,null,null,null,null,{"$f":"IFERROR(VLOOKUP(ROWS($CF$3:CF606),$CH$3:$CI$2001,2,FALSE),\"\")","v":""},null,{"$f":"IF(ISNUMBER(SEARCH(B606,CI606)),MAX($CH$2:CH605)+1,0)","v":0},{"$f":"'الرصيد الثابت'!#REF!","v":{"$error":"#REF!"}}]
["",null,{"$f":"IF(B607=\"\",\"\",SUMIF('الرصيد الثابت'!$D$2:$D$106,B607,'الرصيد الثابت'!$H$2:$H$106))","v":""},{"$f":"IF(B607=\"\",\"\",SUMIF('الرصيد الثابت'!$D$2:$D$106,B607,'الرصيد الثابت'!$I$2:$I$106))","v":""},{"$f":"IF(B607=\"\",\"\",SUMIF('الرصيد الثابت'!$D$2:$D$106,B607,'الرصيد الثابت'!$J$2:$J$106))","v":""},null,0,null,null,null,null,0,null,null,null,0,null,0,null,null,null,null,null,null,null,null,null,null,null,null,null,null,null,null,null,null,null,null,null,null,null,null,null,null,null,null,null,null,null,null,null,null,null,null,null,null,null,null,null,null,null,null,null,null,null,null,null,null,null,null,null,null,null,null,null,null,null,null,null,null,null,null,null,{"$f":"IFERROR(VLOOKUP(ROWS($CF$3:CF607),$CH$3:$CI$2001,2,FALSE),\"\")","v":""},null,{"$f":"IF(ISNUMBER(SEARCH(B607,CI607)),MAX($CH$2:CH606)+1,0)","v":0},{"$f":"'الرصيد الثابت'!#REF!","v":{"$error":"#REF!"}}]
["",null,{"$f":"IF(B613=\"\",\"\",SUMIF('الرصيد الثابت'!$D$2:$D$106,B613,'الرصيد الثابت'!$H$2:$H$106))","v":""},{"$f":"IF(B613=\"\",\"\",SUMIF('الرصيد الثابت'!$D$2:$D$106,B613,'الرصيد الثابت'!$I$2:$I$106))","v":""},{"$f":"IF(B613=\"\",\"\",SUMIF('الرصيد الثابت'!$D$2:$D$106,B613,'الرصيد الثابت'!$J$2:$J$106))","v":""},null,0,null,null,null,null,0,null,null,null,0,null,0,null,null,null,null,null,null,null,null,null,null,null,null,null,null,null,null,null,null,null,null,null,null,null,null,null,null,null,null,null,null,null,null,null,null,null,null,null,null,null,null,null,null,null,null,null,null,null,null,null,null,null,null,null,null,null,null,null,null,null,null,null,null,null,null,null,{"$f":"IFERROR(VLOOKUP(ROWS($CF$3:CF613),$CH$3:$CI$2001,2,FALSE),\"\")","v":""},null,{"$f":"IF(ISNUMBER(SEARCH(B613,CI613)),MAX($CH$2:CH612)+1,0)","v":0},{"$f":"'الرصيد الثابت'!#REF!","v":{"$error":"#REF!"}}]
["",null,{"$f":"IF(B616=\"\",\"\",SUMIF('الرصيد الثابت'!$D$2:$D$106,B616,'الرصيد الثابت'!$H$2:$H$106))","v":""},{"$f":"IF(B616=\"\",\"\",SUMIF('الرصيد الثابت'!$D$2:$D$106,B616,'الرصيد الثابت'!$I$2:$I$106))","v":""},{"$f":"IF(B616=\"\",\"\",SUMIF('الرصيد الثابت'!$D$2:$D$106,B616,'الرصيد الثابت'!$J$2:$J$106))","v":""},null,0,null,null,null,null,0,null,null,null,0,null,0,null,null,null,null,null,null,null,null,null,null,null,null,null,null,null,null,null,null,null,null,null,null,null,null,null,null,null,null,null,null,null,null,null,null,null,null,null,null,null,null,null,null,null,null,null,null,null,null,null,null,null,null,null,null,null,null,null,null,null,null,null,null,null,null,null,{"$f":"IFERROR(VLOOKUP(ROWS($CF$3:CF616),$CH$3:$CI$2001,2,FALSE),\"\")","v":""},null,{"$f":"IF(ISNUMBER(SEARCH(B616,CI616)),MAX($CH$2:CH615)+1,0)","v":0},{"$f":"'الرصيد الثابت'!#REF!","v":{"$error":"#REF!"}}]
["",null,{"$f":"IF(B621=\"\",\"\",SUMIF('الرصيد الثابت'!$D$2:$D$106,B621,'الرصيد الثابت'!$H$2:$H$106))","v":""},{"$f":"IF(B621=\"\",\"\",SUMIF('الرصيد الثابت'!$D$2:$D$106,B621,'الرصيد الثابت'!$I$2:$I$106))","v":""},{"$f":"IF(B621=\"\",\"\",SUMIF('الرصيد الثابت'!$D$2:$D$106,B621,'الرصيد الثابت'!$J$2:$J$106))","v":""},null,0,null,null,null,null,0,null,null,null,0,null,0,null,null,null,null,null,null,null,null,null,null,null,null,null,null,null,null,null,null,null,null,null,null,null,null,null,null,null,null,null,null,null,null,null,null,null,null,null,null,null,null,null,null,null,null,null,null,null,null,null,null,null,null,null,null,null,null,null,null,null,null,null,null,null,null,null,{"$f":"IFERROR(VLOOKUP(ROWS($CF$3:CF621),$CH$3:$CI$2001,2,FALSE),\"\")","v":""},null,{"$f":"IF(ISNUMBER(SEARCH(B621,CI621)),MAX($CH$2:CH620)+1,0)","v":0},{"$f":"'الرصيد الثابت'!#REF!","v":{"$error":"#REF!"}}]
["",null,{"$f":"IF(B622=\"\",\"\",SUMIF('الرصيد الثابت'!$D$2:$D$106,B622,'الرصيد الثابت'!$H$2:$H$106))","v":""},{"$f":"IF(B622=\"\",\"\",SUMIF('الرصيد الثابت'!$D$2:$D$106,B622,'الرصيد الثابت'!$I$2:$I$106))","v":""},{"$f":"IF(B622=\"\",\"\",SUMIF('الرصيد الثابت'!$D$2:$D$106,B622,'الرصيد الثابت'!$J$2:$J$106))","v":""},null,0,null,null,null,null,0,null,null,null,0,null,0,null,null,null,null,null,null,null,null,null,null,null,null,null,null,null,null,null,null,null,null,null,null,null,null,null,null,null,null,null,null,null,null,null,null,null,null,null,null,null,null,null,null,null,null,null,null,null,null,null,null,null,null,null,null,null,null,null,null,null,null,null,null,null,null,null,{"$f":"IFERROR(VLOOKUP(ROWS($CF$3:CF622),$CH$3:$CI$2001,2,FALSE),\"\")","v":""},null,{"$f":"IF(ISNUMBER(SEARCH(B622,CI622)),MAX($CH$2:CH621)+1,0)","v":0},{"$f":"'الرصيد الثابت'!#REF!","v":{"$error":"#REF!"}}]
["",null,{"$f":"IF(B627=\"\",\"\",SUMIF('الرصيد الثابت'!$D$2:$D$106,B627,'الرصيد الثابت'!$H$2:$H$106))","v":""},{"$f":"IF(B627=\"\",\"\",SUMIF('الرصيد الثابت'!$D$2:$D$106,B627,'الرصيد الثابت'!$I$2:$I$106))","v":""},{"$f":"IF(B627=\"\",\"\",SUMIF('الرصيد الثابت'!$D$2:$D$106,B627,'الرصيد الثابت'!$J$2:$J$106))","v":""},null,0,null,null,null,null,0,null,null,null,0,null,0,null,null,null,null,null,null,null,null,null,null,null,null,null,null,null,null,null,null,null,null,null,null,null,null,null,null,null,null,null,null,null,null,null,null,null,null,null,null,null,null,null,null,null,null,null,null,null,null,null,null,null,null,null,null,null,null,null,null,null,null,null,null,null,null,null,{"$f":"IFERROR(VLOOKUP(ROWS($CF$3:CF627),$CH$3:$CI$2001,2,FALSE),\"\")","v":""},null,{"$f":"IF(ISNUMBER(SEARCH(B627,CI627)),MAX($CH$2:CH626)+1,0)","v":0},{"$f":"'الرصيد الثابت'!#REF!","v":{"$error":"#REF!"}}]
["",null,{"$f":"IF(B632=\"\",\"\",SUMIF('الرصيد الثابت'!$D$2:$D$106,B632,'الرصيد الثابت'!$H$2:$H$106))","v":""},{"$f":"IF(B632=\"\",\"\",SUMIF('الرصيد الثابت'!$D$2:$D$106,B632,'الرصيد الثابت'!$I$2:$I$106))","v":""},{"$f":"IF(B632=\"\",\"\",SUMIF('الرصيد الثابت'!$D$2:$D$106,B632,'الرصيد الثابت'!$J$2:$J$106))","v":""},null,0,null,null,null,null,0,null,null,null,0,null,0,null,null,null,null,null,null,null,null,null,null,null,null,null,null,null,null,null,null,null,null,null,null,null,null,null,null,null,null,null,null,null,null,null,null,null,null,null,null,null,null,null,null,null,null,null,null,null,null,null,null,null,null,null,null,null,null,null,null,null,null,null,null,null,null,null,{"$f":"IFERROR(VLOOKUP(ROWS($CF$3:CF632),$CH$3:$CI$2001,2,FALSE),\"\")","v":""},null,{"$f":"IF(ISNUMBER(SEARCH(B632,CI632)),MAX($CH$2:CH631)+1,0)","v":0},{"$f":"'الرصيد الثابت'!#REF!","v":{"$error":"#REF!"}}]
["",null,{"$f":"IF(B637=\"\",\"\",SUMIF('الرصيد الثابت'!$D$2:$D$106,B637,'الرصيد الثابت'!$H$2:$H$106))","v":""},{"$f":"IF(B637=\"\",\"\",SUMIF('الرصيد الثابت'!$D$2:$D$106,B637,'الرصيد الثابت'!$I$2:$I$106))","v":""},{"$f":"IF(B637=\"\",\"\",SUMIF('الرصيد الثابت'!$D$2:$D$106,B637,'الرصيد الثابت'!$J$2:$J$106))","v":""},null,0,null,null,null,null,0,null,null,null,0,null,0,null,null,null,null,null,null,null,null,null,null,null,null,null,null,null,null,null,null,null,null,null,null,null,null,null,null,null,null,null,null,null,null,null,null,null,null,null,null,null,null,null,null,null,null,null,null,null,null,null,null,null,null,null,null,null,null,null,null,null,null,null,null,null,null,null,{"$f":"IFERROR(VLOOKUP(ROWS($CF$3:CF637),$CH$3:$CI$2001,2,FALSE),\"\")","v":""},null,{"$f":"IF(ISNUMBER(SEARCH(B637,CI637)),MAX($CH$2:CH636)+1,0)","v":0},{"$f":"'الرصيد الثابت'!#REF!","v":{"$error":"#REF!"}}]
["",null,{"$f":"IF(B638=\"\",\"\",SUMIF('الرصيد الثابت'!$D$2:$D$106,B638,'الرصيد الثابت'!$H$2:$H$106))","v":""},{"$f":"IF(B638=\"\",\"\",SUMIF('الرصيد الثابت'!$D$2:$D$106,B638,'الرصيد الثابت'!$I$2:$I$106))","v":""},{"$f":"IF(B638=\"\",\"\",SUMIF('الرصيد الثابت'!$D$2:$D$106,B638,'الرصيد الثابت'!$J$2:$J$106))","v":""},null,0,null,null,null,null,0,null,null,null,0,null,0,null,null,null,null,null,null,null,null,null,null,null,null,null,null,null,null,null,null,null,null,null,null,null,null,null,null,null,null,null,null,null,null,null,null,null,null,null,null,null,null,null,null,null,null,null,null,null,null,null,null,null,null,null,null,null,null,null,null,null,null,null,null,null,null,null,{"$f":"IFERROR(VLOOKUP(ROWS($CF$3:CF638),$CH$3:$CI$2001,2,FALSE),\"\")","v":""},null,{"$f":"IF(ISNUMBER(SEARCH(B638,CI638)),MAX($CH$2:CH637)+1,0)","v":0},{"$f":"'الرصيد الثابت'!#REF!","v":{"$error":"#REF!"}}]
["",null,{"$f":"IF(B643=\"\",\"\",SUMIF('الرصيد الثابت'!$D$2:$D$106,B643,'الرصيد الثابت'!$H$2:$H$106))","v":""},{"$f":"IF(B643=\"\",\"\",SUMIF('الرصيد الثابت'!$D$2:$D$106,B643,'الرصيد الثابت'!$I$2:$I$106))","v":""},{"$f":"IF(B643=\"\",\"\",SUMIF('الرصيد الثابت'!$D$2:$D$106,B643,'الرصيد الثابت'!$J$2:$J$106))","v":""},null,0,null,null,null,null,0,null,null,null,0,null,0,null,null,null,null,null,null,null,null,null,null,null,null,null,null,null,null,null,null,null,null,null,null,null,null,null,null,null,null,null,null,null,null,null,null,null,null,null,null,null,null,null,null,null,null,null,null,null,null,null,null,null,null,null,null,null,null,null,null,null,null,null,null,null,null,null,{"$f":"IFERROR(VLOOKUP(ROWS($CF$3:CF643),$CH$3:$CI$2001,2,FALSE),\"\")","v":""},null,{"$f":"IF(ISNUMBER(SEARCH(B643,CI643)),MAX($CH$2:CH642)+1,0)","v":0},{"$f":"'الرصيد الثابت'!#REF!","v":{"$error":"#REF!"}}]
["",null,{"$f":"IF(B648=\"\",\"\",SUMIF('الرصيد الثابت'!$D$2:$D$106,B648,'الرصيد الثابت'!$H$2:$H$106))","v":""},{"$f":"IF(B648=\"\",\"\",SUMIF('الرصيد الثابت'!$D$2:$D$106,B648,'الرصيد الثابت'!$I$2:$I$106))","v":""},{"$f":"IF(B648=\"\",\"\",SUMIF('الرصيد الثابت'!$D$2:$D$106,B648,'الرصيد الثابت'!$J$2:$J$106))","v":""},null,0,null,null,null,null,0,null,null,null,0,null,0,null,null,null,null,null,null,null,null,null,null,null,null,null,null,null,null,null,null,null,null,null,null,null,null,null,null,null,null,null,null,null,null,null,null,null,null,null,null,null,null,null,null,null,null,null,null,null,null,null,null,null,null,null,null,null,null,null,null,null,null,null,null,null,null,null,{"$f":"IFERROR(VLOOKUP(ROWS($CF$3:CF648),$CH$3:$CI$2001,2,FALSE),\"\")","v":""},null,{"$f":"IF(ISNUMBER(SEARCH(B648,CI648)),MAX($CH$2:CH647)+1,0)","v":0},{"$f":"'الرصيد الثابت'!#REF!","v":{"$error":"#REF!"}}]
["",null,{"$f":"IF(B653=\"\",\"\",SUMIF('الرصيد الثابت'!$D$2:$D$106,B653,'الرصيد الثابت'!$H$2:$H$106))","v":""},{"$f":"IF(B653=\"\",\"\",SUMIF('الرصيد الثابت'!$D$2:$D$106,B653,'الرصيد الثابت'!$I$2:$I$106))","v":""},{"$f":"IF(B653=\"\",\"\",SUMIF('الرصيد الثابت'!$D$2:$D$106,B653,'الرصيد الثابت'!$J$2:$J$106))","v":""},null,0,null,null,null,null,0,null,null,null,0,null,0,null,null,null,null,null,null,null,null,null,null,null,null,null,null,null,null,null,null,null,null,null,null,null,null,null,null,null,null,null,null,null,null,null,null,null,null,null,null,null,null,null,null,null,null,null,null,null,null,null,null,null,null,null,null,null,null,null,null,null,null,null,null,null,null,null,{"$f":"IFERROR(VLOOKUP(ROWS($CF$3:CF653),$CH$3:$CI$2001,2,FALSE),\"\")","v":""},null,{"$f":"IF(ISNUMBER(SEARCH(B653,CI653)),MAX($CH$2:CH652)+1,0)","v":0},{"$f":"'الرصيد الثابت'!#REF!","v":{"$error":"#REF!"}}]
["",null,{"$f":"IF(B654=\"\",\"\",SUMIF('الرصيد الثابت'!$D$2:$D$106,B654,'الرصيد الثابت'!$H$2:$H$106))","v":""},{"$f":"IF(B654=\"\",\"\",SUMIF('الرصيد الثابت'!$D$2:$D$106,B654,'الرصيد الثابت'!$I$2:$I$106))","v":""},{"$f":"IF(B654=\"\",\"\",SUMIF('الرصيد الثابت'!$D$2:$D$106,B654,'الرصيد الثابت'!$J$2:$J$106))","v":""},null,0,null,null,null,null,0,null,null,null,0,null,0,null,null,null,null,null,null,null,null,null,null,null,null,null,null,null,null,null,null,null,null,null,null,null,null,null,null,null,null,null,null,null,null,null,null,null,null,null,null,null,null,null,null,null,null,null,null,null,null,null,null,null,null,null,null,null,null,null,null,null,null,null,null,null,null,null,{"$f":"IFERROR(VLOOKUP(ROWS($CF$3:CF654),$CH$3:$CI$2001,2,FALSE),\"\")","v":""},null,{"$f":"IF(ISNUMBER(SEARCH(B654,CI654)),MAX($CH$2:CH653)+1,0)","v":0},{"$f":"'الرصيد الثابت'!#REF!","v":{"$error":"#REF!"}}]
["",null,{"$f":"IF(B659=\"\",\"\",SUMIF('الرصيد الثابت'!$D$2:$D$106,B659,'الرصيد الثابت'!$H$2:$H$106))","v":""},{"$f":"IF(B659=\"\",\"\",SUMIF('الرصيد الثابت'!$D$2:$D$106,B659,'الرصيد الثابت'!$I$2:$I$106))","v":""},{"$f":"IF(B659=\"\",\"\",SUMIF('الرصيد الثابت'!$D$2:$D$106,B659,'الرصيد الثابت'!$J$2:$J$106))","v":""},null,0,null,null,null,null,0,null,null,null,0,null,0,null,null,null,null,null,null,null,null,null,null,null,null,null,null,null,null,null,null,null,null,null,null,null,null,null,null,null,null,null,null,null,null,null,null,null,null,null,null,null,null,null,null,null,null,null,null,null,null,null,null,null,null,null,null,null,null,null,null,null,null,null,null,null,null,null,{"$f":"IFERROR(VLOOKUP(ROWS($CF$3:CF659),$CH$3:$CI$2001,2,FALSE),\"\")","v":""},null,{"$f":"IF(ISNUMBER(SEARCH(B659,CI659)),MAX($CH$2:CH658)+1,0)","v":0},{"$f":"'الرصيد الثابت'!#REF!","v":{"$error":"#REF!"}}]
["",null,{"$f":"IF(B664=\"\",\"\",SUMIF('الرصيد الثابت'!$D$2:$D$106,B664,'الرصيد الثابت'!$H$2:$H$106))","v":""},{"$f":"IF(B664=\"\",\"\",SUMIF('الرصيد الثابت'!$D$2:$D$106,B664,'الرصيد الثابت'!$I$2:$I$106))","v":""},{"$f":"IF(B664=\"\",\"\",SUMIF('الرصيد الثابت'!$D$2:$D$106,B664,'الرصيد الثابت'!$J$2:$J$106))","v":""},null,0,null,null,null,null,0,null,null,null,0,null,0,null,null,null,null,null,null,null,null,null,null,null,null,null,null,null,null,null,null,null,null,null,null,null,null,null,null,null,null,null,null,null,null,null,null,null,null,null,null,null,null,null,null,null,null,null,null,null,null,null,null,null,null,null,null,null,null,null,null,null,null,null,null,null,null,null,{"$f":"IFERROR(VLOOKUP(ROWS($CF$3:CF664),$CH$3:$CI$2001,2,FALSE),\"\")","v":""},null,{"$f":"IF(ISNUMBER(SEARCH(B664,CI664)),MAX($CH$2:CH663)+1,0)","v":0},{"$f":"'الرصيد الثابت'!#REF!","v":{"$error":"#REF!"}}]
["",null,{"$f":"IF(B668=\"\",\"\",SUMIF('الرصيد الثابت'!$D$2:$D$106,B668,'الرصيد الثابت'!$H$2:$H$106))","v":""},{"$f":"IF(B668=\"\",\"\",SUMIF('الرصيد الثابت'!$D$2:$D$106,B668,'الرصيد الثابت'!$I$2:$I$106))","v":""},{"$f":"IF(B668=\"\",\"\",SUMIF('الرصيد الثابت'!$D$2:$D$106,B668,'الرصيد الثابت'!$J$2:$J$106))","v":""},null,0,null,null,null,null,0,null,null,null,0,null,0,null,null,null,null,null,null,null,null,null,null,null,null,null,null,null,null,null,null,null,null,null,null,null,null,null,null,null,null,null,null,null,null,null,null,null,null,null,null,null,null,null,null,null,null,null,null,null,null,null,null,null,null,null,null,null,null,null,null,null,null,null,null,null,null,null,{"$f":"IFERROR(VLOOKUP(ROWS($CF$3:CF668),$CH$3:$CI$2001,2,FALSE),\"\")","v":""},null,{"$f":"IF(ISNUMBER(SEARCH(B668,CI668)),MAX($CH$2:CH667)+1,0)","v":0},{"$f":"'الرصيد الثابت'!#REF!","v":{"$error":"#REF!"}}]
["",null,{"$f":"IF(B669=\"\",\"\",SUMIF('الرصيد الثابت'!$D$2:$D$106,B669,'الرصيد الثابت'!$H$2:$H$106))","v":""},{"$f":"IF(B669=\"\",\"\",SUMIF('الرصيد الثابت'!$D$2:$D$106,B669,'الرصيد الثابت'!$I$2:$I$106))","v":""},{"$f":"IF(B669=\"\",\"\",SUMIF('الرصيد الثابت'!$D$2:$D$106,B669,'الرصيد الثابت'!$J$2:$J$106))","v":""},null,0,null,null,null,null,0,null,null,null,0,null,0,null,null,null,null,null,null,null,null,null,null,null,null,null,null,null,null,null,null,null,null,null,null,null,null,null,null,null,null,null,null,null,null,null,null,null,null,null,null,null,null,null,null,null,null,null,null,null,null,null,null,null,null,null,null,null,null,null,null,null,null,null,null,null,null,null,{"$f":"IFERROR(VLOOKUP(ROWS($CF$3:CF669),$CH$3:$CI$2001,2,FALSE),\"\")","v":""},null,{"$f":"IF(ISNUMBER(SEARCH(B669,CI669)),MAX($CH$2:CH668)+1,0)","v":0},{"$f":"'الرصيد الثابت'!#REF!","v":{"$error":"#REF!"}}]
["",null,{"$f":"IF(B674=\"\",\"\",SUMIF('الرصيد الثابت'!$D$2:$D$106,B674,'الرصيد الثابت'!$H$2:$H$106))","v":""},{"$f":"IF(B674=\"\",\"\",SUMIF('الرصيد الثابت'!$D$2:$D$106,B674,'الرصيد الثابت'!$I$2:$I$106))","v":""},{"$f":"IF(B674=\"\",\"\",SUMIF('الرصيد الثابت'!$D$2:$D$106,B674,'الرصيد الثابت'!$J$2:$J$106))","v":""},null,0,null,null,null,null,0,null,null,null,0,null,0,null,null,null,null,null,null,null,null,null,null,null,null,null,null,null,null,null,null,null,null,null,null,null,null,null,null,null,null,null,null,null,null,null,null,null,null,null,null,null,null,null,null,null,null,null,null,null,null,null,null,null,null,null,null,null,null,null,null,null,null,null,null,null,null,null,{"$f":"IFERROR(VLOOKUP(ROWS($CF$3:CF674),$CH$3:$CI$2001,2,FALSE),\"\")","v":""},null,{"$f":"IF(ISNUMBER(SEARCH(B674,CI674)),MAX($CH$2:CH673)+1,0)","v":0},{"$f":"'الرصيد الثابت'!#REF!","v":{"$error":"#REF!"}}]
["",null,{"$f":"IF(B679=\"\",\"\",SUMIF('الرصيد الثابت'!$D$2:$D$106,B679,'الرصيد الثابت'!$H$2:$H$106))","v":""},{"$f":"IF(B679=\"\",\"\",SUMIF('الرصيد الثابت'!$D$2:$D$106,B679,'الرصيد الثابت'!$I$2:$I$106))","v":""},{"$f":"IF(B679=\"\",\"\",SUMIF('الرصيد الثابت'!$D$2:$D$106,B679,'الرصيد الثابت'!$J$2:$J$106))","v":""},null,0,null,null,null,null,0,null,null,null,0,null,0,null,null,null,null,null,null,null,null,null,null,null,null,null,null,null,null,null,null,null,null,null,null,null,null,null,null,null,null,null,null,null,null,null,null,null,null,null,null,null,null,null,null,null,null,null,null,null,null,null,null,null,null,null,null,null,null,null,null,null,null,null,null,null,null,null,{"$f":"IFERROR(VLOOKUP(ROWS($CF$3:CF679),$CH$3:$CI$2001,2,FALSE),\"\")","v":""},null,{"$f":"IF(ISNUMBER(SEARCH(B679,CI679)),MAX($CH$2:CH678)+1,0)","v":0},{"$f":"'الرصيد الثابت'!#REF!","v":{"$error":"#REF!"}}]
["",null,{"$f":"IF(B684=\"\",\"\",SUMIF('الرصيد الثابت'!$D$2:$D$106,B684,'الرصيد الثابت'!$H$2:$H$106))","v":""},{"$f":"IF(B684=\"\",\"\",SUMIF('الرصيد الثابت'!$D$2:$D$106,B684,'الرصيد الثابت'!$I$2:$I$106))","v":""},{"$f":"IF(B684=\"\",\"\",SUMIF('الرصيد الثابت'!$D$2:$D$106,B684,'الرصيد الثابت'!$J$2:$J$106))","v":""},null,0,null,null,null,null,0,null,null,null,0,null,0,null,null,null,null,null,null,null,null,null,null,null,null,null,null,null,null,null,null,null,null,null,null,null,null,null,null,null,null,null,null,null,null,null,null,null,null,null,null,null,null,null,null,null,null,null,null,null,null,null,null,null,null,null,null,null,null,null,null,null,null,null,null,null,null,null,{"$f":"IFERROR(VLOOKUP(ROWS($CF$3:CF684),$CH$3:$CI$2001,2,FALSE),\"\")","v":""},null,{"$f":"IF(ISNUMBER(SEARCH(B684,CI684)),MAX($CH$2:CH683)+1,0)","v":0},{"$f":"'الرصيد الثابت'!#REF!","v":{"$error":"#REF!"}}]
["",null,{"$f":"IF(B685=\"\",\"\",SUMIF('الرصيد الثابت'!$D$2:$D$106,B685,'الرصيد الثابت'!$H$2:$H$106))","v":""},{"$f":"IF(B685=\"\",\"\",SUMIF('الرصيد الثابت'!$D$2:$D$106,B685,'الرصيد الثابت'!$I$2:$I$106))","v":""},{"$f":"IF(B685=\"\",\"\",SUMIF('الرصيد الثابت'!$D$2:$D$106,B685,'الرصيد الثابت'!$J$2:$J$106))","v":""},null,0,null,null,null,null,0,null,null,null,0,null,0,null,null,null,null,null,null,null,null,null,null,null,null,null,null,null,null,null,null,null,null,null,null,null,null,null,null,null,null,null,null,null,null,null,null,null,null,null,null,null,null,null,null,null,null,null,null,null,null,null,null,null,null,null,null,null,null,null,null,null,null,null,null,null,null,null,{"$f":"IFERROR(VLOOKUP(ROWS($CF$3:CF685),$CH$3:$CI$2001,2,FALSE),\"\")","v":""},null,{"$f":"IF(ISNUMBER(SEARCH(B685,CI685)),MAX($CH$2:CH684)+1,0)","v":0},{"$f":"'الرصيد الثابت'!#REF!","v":{"$error":"#REF!"}}]
["",null,{"$f":"IF(B690=\"\",\"\",SUMIF('الرصيد الثابت'!$D$2:$D$106,B690,'الرصيد الثابت'!$H$2:$H$106))","v":""},{"$f":"IF(B690=\"\",\"\",SUMIF('الرصيد الثابت'!$D$2:$D$106,B690,'الرصيد الثابت'!$I$2:$I$106))","v":""},{"$f":"IF(B690=\"\",\"\",SUMIF('الرصيد الثابت'!$D$2:$D$106,B690,'الرصيد الثابت'!$J$2:$J$106))","v":""},null,0,null,null,null,null,0,null,null,null,0,null,0,null,null,null,null,null,null,null,null,null,null,null,null,null,null,null,null,null,null,null,null,null,null,null,null,null,null,null,null,null,null,null,null,null,null,null,null,null,null,null,null,null,null,null,null,null,null,null,null,null,null,null,null,null,null,null,null,null,null,null,null,null,null,null,null,null,{"$f":"IFERROR(VLOOKUP(ROWS($CF$3:CF690),$CH$3:$CI$2001,2,FALSE),\"\")","v":""},null,{"$f":"IF(ISNUMBER(SEARCH(B690,CI690)),MAX($CH$2:CH689)+1,0)","v":0},{"$f":"'الرصيد الثابت'!#REF!","v":{"$error":"#REF!"}}]
["",null,{"$f":"IF(B695=\"\",\"\",SUMIF('الرصيد الثابت'!$D$2:$D$106,B695,'الرصيد الثابت'!$H$2:$H$106))","v":""},{"$f":"IF(B695=\"\",\"\",SUMIF('الرصيد الثابت'!$D$2:$D$106,B695,'الرصيد الثابت'!$I$2:$I$106))","v":""},{"$f":"IF(B695=\"\",\"\",SUMIF('الرصيد الثابت'!$D$2:$D$106,B695,'الرصيد الثابت'!$J$2:$J$106))","v":""},null,0,null,null,null,null,0,null,null,null,0,null,0,null,null,null,null,null,null,null,null,null,null,null,null,null,null,null,null,null,null,null,null,null,null,null,null,null,null,null,null,null,null,null,null,null,null,null,null,null,null,null,null,null,null,null,null,null,null,null,null,null,null,null,null,null,null,null,null,null,null,null,null,null,null,null,null,null,{"$f":"IFERROR(VLOOKUP(ROWS($CF$3:CF695),$CH$3:$CI$2001,2,FALSE),\"\")","v":""},null,{"$f":"IF(ISNUMBER(SEARCH(B695,CI695)),MAX($CH$2:CH694)+1,0)","v":0},{"$f":"'الرصيد الثابت'!#REF!","v":{"$error":"#REF!"}}]
["",null,{"$f":"IF(B700=\"\",\"\",SUMIF('الرصيد الثابت'!$D$2:$D$106,B700,'الرصيد الثابت'!$H$2:$H$106))","v":""},{"$f":"IF(B700=\"\",\"\",SUMIF('الرصيد الثابت'!$D$2:$D$106,B700,'الرصيد الثابت'!$I$2:$I$106))","v":""},{"$f":"IF(B700=\"\",\"\",SUMIF('الرصيد الثابت'!$D$2:$D$106,B700,'الرصيد الثابت'!$J$2:$J$106))","v":""},null,0,null,null,null,null,0,null,null,null,0,null,0,null,null,null,null,null,null,null,null,null,null,null,null,null,null,null,null,null,null,null,null,null,null,null,null,null,null,null,null,null,null,null,null,null,null,null,null,null,null,null,null,null,null,null,null,null,null,null,null,null,null,null,null,null,null,null,null,null,null,null,null,null,null,null,null,null,{"$f":"IFERROR(VLOOKUP(ROWS($CF$3:CF700),$CH$3:$CI$2001,2,FALSE),\"\")","v":""},null,{"$f":"IF(ISNUMBER(SEARCH(B700,CI700)),MAX($CH$2:CH699)+1,0)","v":0},{"$f":"'الرصيد الثابت'!#REF!","v":{"$error":"#REF!"}}]
["",null,{"$f":"IF(B701=\"\",\"\",SUMIF('الرصيد الثابت'!$D$2:$D$106,B701,'الرصيد الثابت'!$H$2:$H$106))","v":""},{"$f":"IF(B701=\"\",\"\",SUMIF('الرصيد الثابت'!$D$2:$D$106,B701,'الرصيد الثابت'!$I$2:$I$106))","v":""},{"$f":"IF(B701=\"\",\"\",SUMIF('الرصيد الثابت'!$D$2:$D$106,B701,'الرصيد الثابت'!$J$2:$J$106))","v":""},null,0,null,null,null,null,0,null,null,null,0,null,0,null,null,null,null,null,null,null,null,null,null,null,null,null,null,null,null,null,null,null,null,null,null,null,null,null,null,null,null,null,null,null,null,null,null,null,null,null,null,null,null,null,null,null,null,null,null,null,null,null,null,null,null,null,null,null,null,null,null,null,null,null,null,null,null,null,{"$f":"IFERROR(VLOOKUP(ROWS($CF$3:CF701),$CH$3:$CI$2001,2,FALSE),\"\")","v":""},null,{"$f":"IF(ISNUMBER(SEARCH(B701,CI701)),MAX($CH$2:CH700)+1,0)","v":0},{"$f":"'الرصيد الثابت'!#REF!","v":{"$error":"#REF!"}}]
["",null,{"$f":"IF(B706=\"\",\"\",SUMIF('الرصيد الثابت'!$D$2:$D$106,B706,'الرصيد الثابت'!$H$2:$H$106))","v":""},{"$f":"IF(B706=\"\",\"\",SUMIF('الرصيد الثابت'!$D$2:$D$106,B706,'الرصيد الثابت'!$I$2:$I$106))","v":""},{"$f":"IF(B706=\"\",\"\",SUMIF('الرصيد الثابت'!$D$2:$D$106,B706,'الرصيد الثابت'!$J$2:$J$106))","v":""},null,0,null,null,null,null,0,null,null,null,0,null,0,null,null,null,null,null,null,null,null,null,null,null,null,null,null,null,null,null,null,null,null,null,null,null,null,null,null,null,null,null,null,null,null,null,null,null,null,null,null,null,null,null,null,null,null,null,null,null,null,null,null,null,null,null,null,null,null,null,null,null,null,null,null,null,null,null,{"$f":"IFERROR(VLOOKUP(ROWS($CF$3:CF706),$CH$3:$CI$2001,2,FALSE),\"\")","v":""},null,{"$f":"IF(ISNUMBER(SEARCH(B706,CI706)),MAX($CH$2:CH705)+1,0)","v":0},{"$f":"'الرصيد الثابت'!#REF!","v":{"$error":"#REF!"}}]
["",null,{"$f":"IF(B711=\"\",\"\",SUMIF('الرصيد الثابت'!$D$2:$D$106,B711,'الرصيد الثابت'!$H$2:$H$106))","v":""},{"$f":"IF(B711=\"\",\"\",SUMIF('الرصيد الثابت'!$D$2:$D$106,B711,'الرصيد الثابت'!$I$2:$I$106))","v":""},{"$f":"IF(B711=\"\",\"\",SUMIF('الرصيد الثابت'!$D$2:$D$106,B711,'الرصيد الثابت'!$J$2:$J$106))","v":""},null,0,null,null,null,null,0,null,null,null,0,null,0,null,null,null,null,null,null,null,null,null,null,null,null,null,null,null,null,null,null,null,null,null,null,null,null,null,null,null,null,null,null,null,null,null,null,null,null,null,null,null,null,null,null,null,null,null,null,null,null,null,null,null,null,null,null,null,null,null,null,null,null,null,null,null,null,null,{"$f":"IFERROR(VLOOKUP(ROWS($CF$3:CF711),$CH$3:$CI$2001,2,FALSE),\"\")","v":""},null,{"$f":"IF(ISNUMBER(SEARCH(B711,CI711)),MAX($CH$2:CH710)+1,0)","v":0},{"$f":"'الرصيد الثابت'!#REF!","v":{"$error":"#REF!"}}]
["",null,{"$f":"IF(B716=\"\",\"\",SUMIF('الرصيد الثابت'!$D$2:$D$106,B716,'الرصيد الثابت'!$H$2:$H$106))","v":""},{"$f":"IF(B716=\"\",\"\",SUMIF('الرصيد الثابت'!$D$2:$D$106,B716,'الرصيد الثابت'!$I$2:$I$106))","v":""},{"$f":"IF(B716=\"\",\"\",SUMIF('الرصيد الثابت'!$D$2:$D$106,B716,'الرصيد الثابت'!$J$2:$J$106))","v":""},null,0,null,null,null,null,0,null,null,null,0,null,0,null,null,null,null,null,null,null,null,null,null,null,null,null,null,null,null,null,null,null,null,null,null,null,null,null,null,null,null,null,null,null,null,null,null,null,null,null,null,null,null,null,null,null,null,null,null,null,null,null,null,null,null,null,null,null,null,null,null,null,null,null,null,null,null,null,{"$f":"IFERROR(VLOOKUP(ROWS($CF$3:CF716),$CH$3:$CI$2001,2,FALSE),\"\")","v":""},null,{"$f":"IF(ISNUMBER(SEARCH(B716,CI716)),MAX($CH$2:CH715)+1,0)","v":0},{"$f":"'الرصيد الثابت'!#REF!","v":{"$error":"#REF!"}}]
["",null,{"$f":"IF(B717=\"\",\"\",SUMIF('الرصيد الثابت'!$D$2:$D$106,B717,'الرصيد الثابت'!$H$2:$H$106))","v":""},{"$f":"IF(B717=\"\",\"\",SUMIF('الرصيد الثابت'!$D$2:$D$106,B717,'الرصيد الثابت'!$I$2:$I$106))","v":""},{"$f":"IF(B717=\"\",\"\",SUMIF('الرصيد الثابت'!$D$2:$D$106,B717,'الرصيد الثابت'!$J$2:$J$106))","v":""},null,0,null,null,null,null,0,null,null,null,0,null,0,null,null,null,null,null,null,null,null,null,null,null,null,null,null,null,null,null,null,null,null,null,null,null,null,null,null,null,null,null,null,null,null,null,null,null,null,null,null,null,null,null,null,null,null,null,null,null,null,null,null,null,null,null,null,null,null,null,null,null,null,null,null,null,null,null,{"$f":"IFERROR(VLOOKUP(ROWS($CF$3:CF717),$CH$3:$CI$2001,2,FALSE),\"\")","v":""},null,{"$f":"IF(ISNUMBER(SEARCH(B717,CI717)),MAX($CH$2:CH716)+1,0)","v":0},{"$f":"'الرصيد الثابت'!#REF!","v":{"$error":"#REF!"}}]
["",null,{"$f":"IF(B722=\"\",\"\",SUMIF('الرصيد الثابت'!$D$2:$D$106,B722,'الرصيد الثابت'!$H$2:$H$106))","v":""},{"$f":"IF(B722=\"\",\"\",SUMIF('الرصيد الثابت'!$D$2:$D$106,B722,'الرصيد الثابت'!$I$2:$I$106))","v":""},{"$f":"IF(B722=\"\",\"\",SUMIF('الرصيد الثابت'!$D$2:$D$106,B722,'الرصيد الثابت'!$J$2:$J$106))","v":""},null,0,null,null,null,null,0,null,null,null,0,null,0,null,null,null,null,null,null,null,null,null,null,null,null,null,null,null,null,null,null,null,null,null,null,null,null,null,null,null,null,null,null,null,null,null,null,null,null,null,null,null,null,null,null,null,null,null,null,null,null,null,null,null,null,null,null,null,null,null,null,null,null,null,null,null,null,null,{"$f":"IFERROR(VLOOKUP(ROWS($CF$3:CF722),$CH$3:$CI$2001,2,FALSE),\"\")","v":""},null,{"$f":"IF(ISNUMBER(SEARCH(B722,CI722)),MAX($CH$2:CH721)+1,0)","v":0},{"$f":"'الرصيد الثابت'!#REF!","v":{"$error":"#REF!"}}]
["",null,{"$f":"IF(B726=\"\",\"\",SUMIF('الرصيد الثابت'!$D$2:$D$106,B726,'الرصيد الثابت'!$H$2:$H$106))","v":""},{"$f":"IF(B726=\"\",\"\",SUMIF('الرصيد الثابت'!$D$2:$D$106,B726,'الرصيد الثابت'!$I$2:$I$106))","v":""},{"$f":"IF(B726=\"\",\"\",SUMIF('الرصيد الثابت'!$D$2:$D$106,B726,'الرصيد الثابت'!$J$2:$J$106))","v":""},null,0,null,null,null,null,0,null,null,null,0,null,0,null,null,null,null,null,null,null,null,null,null,null,null,null,null,null,null,null,null,null,null,null,null,null,null,null,null,null,null,null,null,null,null,null,null,null,null,null,null,null,null,null,null,null,null,null,null,null,null,null,null,null,null,null,null,null,null,null,null,null,null,null,null,null,null,null,{"$f":"IFERROR(VLOOKUP(ROWS($CF$3:CF726),$CH$3:$CI$2001,2,FALSE),\"\")","v":""},null,{"$f":"IF(ISNUMBER(SEARCH(B726,CI726)),MAX($CH$2:CH725)+1,0)","v":0},{"$f":"'الرصيد الثابت'!#REF!","v":{"$error":"#REF!"}}]
["",null,{"$f":"IF(B731=\"\",\"\",SUMIF('الرصيد الثابت'!$D$2:$D$106,B731,'الرصيد الثابت'!$H$2:$H$106))","v":""},{"$f":"IF(B731=\"\",\"\",SUMIF('الرصيد الثابت'!$D$2:$D$106,B731,'الرصيد الثابت'!$I$2:$I$106))","v":""},{"$f":"IF(B731=\"\",\"\",SUMIF('الرصيد الثابت'!$D$2:$D$106,B731,'الرصيد الثابت'!$J$2:$J$106))","v":""},null,0,null,null,null,null,0,null,null,null,0,null,0,null,null,null,null,null,null,null,null,null,null,null,null,null,null,null,null,null,null,null,null,null,null,null,null,null,null,null,null,null,null,null,null,null,null,null,null,null,null,null,null,null,null,null,null,null,null,null,null,null,null,null,null,null,null,null,null,null,null,null,null,null,null,null,null,null,{"$f":"IFERROR(VLOOKUP(ROWS($CF$3:CF731),$CH$3:$CI$2001,2,FALSE),\"\")","v":""},null,{"$f":"IF(ISNUMBER(SEARCH(B731,CI731)),MAX($CH$2:CH730)+1,0)","v":0},{"$f":"'الرصيد الثابت'!#REF!","v":{"$error":"#REF!"}}]
["",null,{"$f":"IF(B732=\"\",\"\",SUMIF('الرصيد الثابت'!$D$2:$D$106,B732,'الرصيد الثابت'!$H$2:$H$106))","v":""},{"$f":"IF(B732=\"\",\"\",SUMIF('الرصيد الثابت'!$D$2:$D$106,B732,'الرصيد الثابت'!$I$2:$I$106))","v":""},{"$f":"IF(B732=\"\",\"\",SUMIF('الرصيد الثابت'!$D$2:$D$106,B732,'الرصيد الثابت'!$J$2:$J$106))","v":""},null,0,null,null,null,null,0,null,null,null,0,null,0,null,null,null,null,null,null,null,null,null,null,null,null,null,null,null,null,null,null,null,null,null,null,null,null,null,null,null,null,null,null,null,null,null,null,null,null,null,null,null,null,null,null,null,null,null,null,null,null,null,null,null,null,null,null,null,null,null,null,null,null,null,null,null,null,null,{"$f":"IFERROR(VLOOKUP(ROWS($CF$3:CF732),$CH$3:$CI$2001,2,FALSE),\"\")","v":""},null,{"$f":"IF(ISNUMBER(SEARCH(B732,CI732)),MAX($CH$2:CH731)+1,0)","v":0},{"$f":"'الرصيد الثابت'!#REF!","v":{"$error":"#REF!"}}]
["",null,{"$f":"IF(B737=\"\",\"\",SUMIF('الرصيد الثابت'!$D$2:$D$106,B737,'الرصيد الثابت'!$H$2:$H$106))","v":""},{"$f":"IF(B737=\"\",\"\",SUMIF('الرصيد الثابت'!$D$2:$D$106,B737,'الرصيد الثابت'!$I$2:$I$106))","v":""},{"$f":"IF(B737=\"\",\"\",SUMIF('الرصيد الثابت'!$D$2:$D$106,B737,'الرصيد الثابت'!$J$2:$J$106))","v":""},null,0,null,null,null,null,0,null,null,null,0,null,0,null,null,null,null,null,null,null,null,null,null,null,null,null,null,null,null,null,null,null,null,null,null,null,null,null,null,null,null,null,null,null,null,null,null,null,null,null,null,null,null,null,null,null,null,null,null,null,null,null,null,null,null,null,null,null,null,null,null,null,null,null,null,null,null,null,{"$f":"IFERROR(VLOOKUP(ROWS($CF$3:CF737),$CH$3:$CI$2001,2,FALSE),\"\")","v":""},null,{"$f":"IF(ISNUMBER(SEARCH(B737,CI737)),MAX($CH$2:CH736)+1,0)","v":0},{"$f":"'الرصيد الثابت'!#REF!","v":{"$error":"#REF!"}}]
["",null,{"$f":"IF(B742=\"\",\"\",SUMIF('الرصيد الثابت'!$D$2:$D$106,B742,'الرصيد الثابت'!$H$2:$H$106))","v":""},{"$f":"IF(B742=\"\",\"\",SUMIF('الرصيد الثابت'!$D$2:$D$106,B742,'الرصيد الثابت'!$I$2:$I$106))","v":""},{"$f":"IF(B742=\"\",\"\",SUMIF('الرصيد الثابت'!$D$2:$D$106,B742,'الرصيد الثابت'!$J$2:$J$106))","v":""},null,0,null,null,null,null,0,null,null,null,0,null,0,null,null,null,null,null,null,null,null,null,null,null,null,null,null,null,null,null,null,null,null,null,null,null,null,null,null,null,null,null,null,null,null,null,null,null,null,null,null,null,null,null,null,null,null,null,null,null,null,null,null,null,null,null,null,null,null,null,null,null,null,null,null,null,null,null,{"$f":"IFERROR(VLOOKUP(ROWS($CF$3:CF742),$CH$3:$CI$2001,2,FALSE),\"\")","v":""},null,{"$f":"IF(ISNUMBER(SEARCH(B742,CI742)),MAX($CH$2:CH741)+1,0)","v":0},{"$f":"'الرصيد الثابت'!#REF!","v":{"$error":"#REF!"}}]
["",null,{"$f":"IF(B747=\"\",\"\",SUMIF('الرصيد الثابت'!$D$2:$D$106,B747,'الرصيد الثابت'!$H$2:$H$106))","v":""},{"$f":"IF(B747=\"\",\"\",SUMIF('الرصيد الثابت'!$D$2:$D$106,B747,'الرصيد الثابت'!$I$2:$I$106))","v":""},{"$f":"IF(B747=\"\",\"\",SUMIF('الرصيد الثابت'!$D$2:$D$106,B747,'الرصيد الثابت'!$J$2:$J$106))","v":""},null,0,null,null,null,null,0,null,null,null,0,null,0,null,null,null,null,null,null,null,null,null,null,null,null,null,null,null,null,null,null,null,null,null,null,null,null,null,null,null,null,null,null,null,null,null,null,null,null,null,null,null,null,null,null,null,null,null,null,null,null,null,null,null,null,null,null,null,null,null,null,null,null,null,null,null,null,null,{"$f":"IFERROR(VLOOKUP(ROWS($CF$3:CF747),$CH$3:$CI$2001,2,FALSE),\"\")","v":""},null,{"$f":"IF(ISNUMBER(SEARCH(B747,CI747)),MAX($CH$2:CH746)+1,0)","v":0},{"$f":"'الرصيد الثابت'!#REF!","v":{"$error":"#REF!"}}]
["",null,{"$f":"IF(B748=\"\",\"\",SUMIF('الرصيد الثابت'!$D$2:$D$106,B748,'الرصيد الثابت'!$H$2:$H$106))","v":""},{"$f":"IF(B748=\"\",\"\",SUMIF('الرصيد الثابت'!$D$2:$D$106,B748,'الرصيد الثابت'!$I$2:$I$106))","v":""},{"$f":"IF(B748=\"\",\"\",SUMIF('الرصيد الثابت'!$D$2:$D$106,B748,'الرصيد الثابت'!$J$2:$J$106))","v":""},null,0,null,null,null,null,0,null,null,null,0,null,0,null,null,null,null,null,null,null,null,null,null,null,null,null,null,null,null,null,null,null,null,null,null,null,null,null,null,null,null,null,null,null,null,null,null,null,null,null,null,null,null,null,null,null,null,null,null,null,null,null,null,null,null,null,null,null,null,null,null,null,null,null,null,null,null,null,{"$f":"IFERROR(VLOOKUP(ROWS($CF$3:CF748),$CH$3:$CI$2001,2,FALSE),\"\")","v":""},null,{"$f":"IF(ISNUMBER(SEARCH(B748,CI748)),MAX($CH$2:CH747)+1,0)","v":0},{"$f":"'الرصيد الثابت'!#REF!","v":{"$error":"#REF!"}}]
["",null,{"$f":"IF(B753=\"\",\"\",SUMIF('الرصيد الثابت'!$D$2:$D$106,B753,'الرصيد الثابت'!$H$2:$H$106))","v":""},{"$f":"IF(B753=\"\",\"\",SUMIF('الرصيد الثابت'!$D$2:$D$106,B753,'الرصيد الثابت'!$I$2:$I$106))","v":""},{"$f":"IF(B753=\"\",\"\",SUMIF('الرصيد الثابت'!$D$2:$D$106,B753,'الرصيد الثابت'!$J$2:$J$106))","v":""},null,0,null,null,null,null,0,null,null,null,0,null,0,null,null,null,null,null,null,null,null,null,null,null,null,null,null,null,null,null,null,null,null,null,null,null,null,null,null,null,null,null,null,null,null,null,null,null,null,null,null,null,null,null,null,null,null,null,null,null,null,null,null,null,null,null,null,null,null,null,null,null,null,null,null,null,null,null,{"$f":"IFERROR(VLOOKUP(ROWS($CF$3:CF753),$CH$3:$CI$2001,2,FALSE),\"\")","v":""},null,{"$f":"IF(ISNUMBER(SEARCH(B753,CI753)),MAX($CH$2:CH752)+1,0)","v":0},{"$f":"'الرصيد الثابت'!#REF!","v":{"$error":"#REF!"}}]
["",null,{"$f":"IF(B758=\"\",\"\",SUMIF('الرصيد الثابت'!$D$2:$D$106,B758,'الرصيد الثابت'!$H$2:$H$106))","v":""},{"$f":"IF(B758=\"\",\"\",SUMIF('الرصيد الثابت'!$D$2:$D$106,B758,'الرصيد الثابت'!$I$2:$I$106))","v":""},{"$f":"IF(B758=\"\",\"\",SUMIF('الرصيد الثابت'!$D$2:$D$106,B758,'الرصيد الثابت'!$J$2:$J$106))","v":""},null,0,null,null,null,null,0,null,null,null,0,null,0,null,null,null,null,null,null,null,null,null,null,null,null,null,null,null,null,null,null,null,null,null,null,null,null,null,null,null,null,null,null,null,null,null,null,null,null,null,null,null,null,null,null,null,null,null,null,null,null,null,null,null,null,null,null,null,null,null,null,null,null,null,null,null,null,null,{"$f":"IFERROR(VLOOKUP(ROWS($CF$3:CF758),$CH$3:$CI$2001,2,FALSE),\"\")","v":""},null,{"$f":"IF(ISNUMBER(SEARCH(B758,CI758)),MAX($CH$2:CH757)+1,0)","v":0},{"$f":"'الرصيد الثابت'!#REF!","v":{"$error":"#REF!"}}]
["",null,{"$f":"IF(B763=\"\",\"\",SUMIF('الرصيد الثابت'!$D$2:$D$106,B763,'الرصيد الثابت'!$H$2:$H$106))","v":""},{"$f":"IF(B763=\"\",\"\",SUMIF('الرصيد الثابت'!$D$2:$D$106,B763,'الرصيد الثابت'!$I$2:$I$106))","v":""},{"$f":"IF(B763=\"\",\"\",SUMIF('الرصيد الثابت'!$D$2:$D$106,B763,'الرصيد الثابت'!$J$2:$J$106))","v":""},null,0,null,null,null,null,0,null,null,null,0,null,0,null,null,null,null,null,null,null,null,null,null,null,null,null,null,null,null,null,null,null,null,null,null,null,null,null,null,null,null,null,null,null,null,null,null,null,null,null,null,null,null,null,null,null,null,null,null,null,null,null,null,null,null,null,null,null,null,null,null,null,null,null,null,null,null,null,{"$f":"IFERROR(VLOOKUP(ROWS($CF$3:CF763),$CH$3:$CI$2001,2,FALSE),\"\")","v":""},null,{"$f":"IF(ISNUMBER(SEARCH(B763,CI763)),MAX($CH$2:CH762)+1,0)","v":0},{"$f":"'الرصيد الثابت'!#REF!","v":{"$error":"#REF!"}}]
["",null,{"$f":"IF(B764=\"\",\"\",SUMIF('الرصيد الثابت'!$D$2:$D$106,B764,'الرصيد الثابت'!$H$2:$H$106))","v":""},{"$f":"IF(B764=\"\",\"\",SUMIF('الرصيد الثابت'!$D$2:$D$106,B764,'الرصيد الثابت'!$I$2:$I$106))","v":""},{"$f":"IF(B764=\"\",\"\",SUMIF('الرصيد الثابت'!$D$2:$D$106,B764,'الرصيد الثابت'!$J$2:$J$106))","v":""},null,0,null,null,null,null,0,null,null,null,0,null,0,null,null,null,null,null,null,null,null,null,null,null,null,null,null,null,null,null,null,null,null,null,null,null,null,null,null,null,null,null,null,null,null,null,null,null,null,null,null,null,null,null,null,null,null,null,null,null,null,null,null,null,null,null,null,null,null,null,null,null,null,null,null,null,null,null,{"$f":"IFERROR(VLOOKUP(ROWS($CF$3:CF764),$CH$3:$CI$2001,2,FALSE),\"\")","v":""},null,{"$f":"IF(ISNUMBER(SEARCH(B764,CI764)),MAX($CH$2:CH763)+1,0)","v":0},{"$f":"'الرصيد الثابت'!#REF!","v":{"$error":"#REF!"}}]
["",null,{"$f":"IF(B769=\"\",\"\",SUMIF('الرصيد الثابت'!$D$2:$D$106,B769,'الرصيد الثابت'!$H$2:$H$106))","v":""},{"$f":"IF(B769=\"\",\"\",SUMIF('الرصيد الثابت'!$D$2:$D$106,B769,'الرصيد الثابت'!$I$2:$I$106))","v":""},{"$f":"IF(B769=\"\",\"\",SUMIF('الرصيد الثابت'!$D$2:$D$106,B769,'الرصيد الثابت'!$J$2:$J$106))","v":""},null,0,null,null,null,null,0,null,null,null,0,null,0,null,null,null,null,null,null,null,null,null,null,null,null,null,null,null,null,null,null,null,null,null,null,null,null,null,null,null,null,null,null,null,null,null,null,null,null,null,null,null,null,null,null,null,null,null,null,null,null,null,null,null,null,null,null,null,null,null,null,null,null,null,null,null,null,null,{"$f":"IFERROR(VLOOKUP(ROWS($CF$3:CF769),$CH$3:$CI$2001,2,FALSE),\"\")","v":""},null,{"$f":"IF(ISNUMBER(SEARCH(B769,CI769)),MAX($CH$2:CH768)+1,0)","v":0},{"$f":"'الرصيد الثابت'!#REF!","v":{"$error":"#REF!"}}]
["",null,{"$f":"IF(B774=\"\",\"\",SUMIF('الرصيد الثابت'!$D$2:$D$106,B774,'الرصيد الثابت'!$H$2:$H$106))","v":""},{"$f":"IF(B774=\"\",\"\",SUMIF('الرصيد الثابت'!$D$2:$D$106,B774,'الرصيد الثابت'!$I$2:$I$106))","v":""},{"$f":"IF(B774=\"\",\"\",SUMIF('الرصيد الثابت'!$D$2:$D$106,B774,'الرصيد الثابت'!$J$2:$J$106))","v":""},null,0,null,null,null,null,0,null,null,null,0,null,0,null,null,null,null,null,null,null,null,null,null,null,null,null,null,null,null,null,null,null,null,null,null,null,null,null,null,null,null,null,null,null,null,null,null,null,null,null,null,null,null,null,null,null,null,null,null,null,null,null,null,null,null,null,null,null,null,null,null,null,null,null,null,null,null,null,{"$f":"IFERROR(VLOOKUP(ROWS($CF$3:CF774),$CH$3:$CI$2001,2,FALSE),\"\")","v":""},null,{"$f":"IF(ISNUMBER(SEARCH(B774,CI774)),MAX($CH$2:CH773)+1,0)","v":0},{"$f":"'الرصيد الثابت'!#REF!","v":{"$error":"#REF!"}}]
["",null,{"$f":"IF(B779=\"\",\"\",SUMIF('الرصيد الثابت'!$D$2:$D$106,B779,'الرصيد الثابت'!$H$2:$H$106))","v":""},{"$f":"IF(B779=\"\",\"\",SUMIF('الرصيد الثابت'!$D$2:$D$106,B779,'الرصيد الثابت'!$I$2:$I$106))","v":""},{"$f":"IF(B779=\"\",\"\",SUMIF('الرصيد الثابت'!$D$2:$D$106,B779,'الرصيد الثابت'!$J$2:$J$106))","v":""},null,0,null,null,null,null,0,null,null,null,0,null,0,null,null,null,null,null,null,null,null,null,null,null,null,null,null,null,null,null,null,null,null,null,null,null,null,null,null,null,null,null,null,null,null,null,null,null,null,null,null,null,null,null,null,null,null,null,null,null,null,null,null,null,null,null,null,null,null,null,null,null,null,null,null,null,null,null,{"$f":"IFERROR(VLOOKUP(ROWS($CF$3:CF779),$CH$3:$CI$2001,2,FALSE),\"\")","v":""},null,{"$f":"IF(ISNUMBER(SEARCH(B779,CI779)),MAX($CH$2:CH778)+1,0)","v":0},{"$f":"'الرصيد الثابت'!#REF!","v":{"$error":"#REF!"}}]
["",null,{"$f":"IF(B781=\"\",\"\",SUMIF('الرصيد الثابت'!$D$2:$D$106,B781,'الرصيد الثابت'!$H$2:$H$106))","v":""},{"$f":"IF(B781=\"\",\"\",SUMIF('الرصيد الثابت'!$D$2:$D$106,B781,'الرصيد الثابت'!$I$2:$I$106))","v":""},{"$f":"IF(B781=\"\",\"\",SUMIF('الرصيد الثابت'!$D$2:$D$106,B781,'الرصيد الثابت'!$J$2:$J$106))","v":""},null,0,null,null,null,null,0,null,null,null,0,null,0,null,null,null,null,null,null,null,null,null,null,null,null,null,null,null,null,null,null,null,null,null,null,null,null,null,null,null,null,null,null,null,null,null,null,null,null,null,null,null,null,null,null,null,null,null,null,null,null,null,null,null,null,null,null,null,null,null,null,null,null,null,null,null,null,null,{"$f":"IFERROR(VLOOKUP(ROWS($CF$3:CF781),$CH$3:$CI$2001,2,FALSE),\"\")","v":""},null,{"$f":"IF(ISNUMBER(SEARCH(B781,CI781)),MAX($CH$2:CH780)+1,0)","v":0},{"$f":"'الرصيد الثابت'!#REF!","v":{"$error":"#REF!"}}]
["",null,{"$f":"IF(B784=\"\",\"\",SUMIF('الرصيد الثابت'!$D$2:$D$106,B784,'الرصيد الثابت'!$H$2:$H$106))","v":""},{"$f":"IF(B784=\"\",\"\",SUMIF('الرصيد الثابت'!$D$2:$D$106,B784,'الرصيد الثابت'!$I$2:$I$106))","v":""},{"$f":"IF(B784=\"\",\"\",SUMIF('الرصيد الثابت'!$D$2:$D$106,B784,'الرصيد الثابت'!$J$2:$J$106))","v":""},null,0,null,null,null,null,0,null,null,null,0,null,0,null,null,null,null,null,null,null,null,null,null,null,null,null,null,null,null,null,null,null,null,null,null,null,null,null,null,null,null,null,null,null,null,null,null,null,null,null,null,null,null,null,null,null,null,null,null,null,null,null,null,null,null,null,null,null,null,null,null,null,null,null,null,null,null,null,{"$f":"IFERROR(VLOOKUP(ROWS($CF$3:CF784),$CH$3:$CI$2001,2,FALSE),\"\")","v":""},null,{"$f":"IF(ISNUMBER(SEARCH(B784,CI784)),MAX($CH$2:CH783)+1,0)","v":0},{"$f":"'الرصيد الثابت'!#REF!","v":{"$error":"#REF!"}}]
["",null,{"$f":"IF(B789=\"\",\"\",SUMIF('الرصيد الثابت'!$D$2:$D$106,B789,'الرصيد الثابت'!$H$2:$H$106))","v":""},{"$f":"IF(B789=\"\",\"\",SUMIF('الرصيد الثابت'!$D$2:$D$106,B789,'الرصيد الثابت'!$I$2:$I$106))","v":""},{"$f":"IF(B789=\"\",\"\",SUMIF('الرصيد الثابت'!$D$2:$D$106,B789,'الرصيد الثابت'!$J$2:$J$106))","v":""},null,0,null,null,null,null,0,null,null,null,0,null,0,null,null,null,null,null,null,null,null,null,null,null,null,null,null,null,null,null,null,null,null,null,null,null,null,null,null,null,null,null,null,null,null,null,null,null,null,null,null,null,null,null,null,null,null,null,null,null,null,null,null,null,null,null,null,null,null,null,null,null,null,null,null,null,null,null,{"$f":"IFERROR(VLOOKUP(ROWS($CF$3:CF789),$CH$3:$CI$2001,2,FALSE),\"\")","v":""},null,{"$f":"IF(ISNUMBER(SEARCH(B789,CI789)),MAX($CH$2:CH788)+1,0)","v":0},{"$f":"'الرصيد الثابت'!#REF!","v":{"$error":"#REF!"}}]
["",null,{"$f":"IF(B794=\"\",\"\",SUMIF('الرصيد الثابت'!$D$2:$D$106,B794,'الرصيد الثابت'!$H$2:$H$106))","v":""},{"$f":"IF(B794=\"\",\"\",SUMIF('الرصيد الثابت'!$D$2:$D$106,B794,'الرصيد الثابت'!$I$2:$I$106))","v":""},{"$f":"IF(B794=\"\",\"\",SUMIF('الرصيد الثابت'!$D$2:$D$106,B794,'الرصيد الثابت'!$J$2:$J$106))","v":""},null,0,null,null,null,null,0,null,null,null,0,null,0,null,null,null,null,null,null,null,null,null,null,null,null,null,null,null,null,null,null,null,null,null,null,null,null,null,null,null,null,null,null,null,null,null,null,null,null,null,null,null,null,null,null,null,null,null,null,null,null,null,null,null,null,null,null,null,null,null,null,null,null,null,null,null,null,null,{"$f":"IFERROR(VLOOKUP(ROWS($CF$3:CF794),$CH$3:$CI$2001,2,FALSE),\"\")","v":""},null,{"$f":"IF(ISNUMBER(SEARCH(B794,CI794)),MAX($CH$2:CH793)+1,0)","v":0},{"$f":"'الرصيد الثابت'!#REF!","v":{"$error":"#REF!"}}]
["",null,{"$f":"IF(B795=\"\",\"\",SUMIF('الرصيد الثابت'!$D$2:$D$106,B795,'الرصيد الثابت'!$H$2:$H$106))","v":""},{"$f":"IF(B795=\"\",\"\",SUMIF('الرصيد الثابت'!$D$2:$D$106,B795,'الرصيد الثابت'!$I$2:$I$106))","v":""},{"$f":"IF(B795=\"\",\"\",SUMIF('الرصيد الثابت'!$D$2:$D$106,B795,'الرصيد الثابت'!$J$2:$J$106))","v":""},null,0,null,null,null,null,0,null,null,null,0,null,0,null,null,null,null,null,null,null,null,null,null,null,null,null,null,null,null,null,null,null,null,null,null,null,null,null,null,null,null,null,null,null,null,null,null,null,null,null,null,null,null,null,null,null,null,null,null,null,null,null,null,null,null,null,null,null,null,null,null,null,null,null,null,null,null,null,{"$f":"IFERROR(VLOOKUP(ROWS($CF$3:CF795),$CH$3:$CI$2001,2,FALSE),\"\")","v":""},null,{"$f":"IF(ISNUMBER(SEARCH(B795,CI795)),MAX($CH$2:CH794)+1,0)","v":0},{"$f":"'الرصيد الثابت'!#REF!","v":{"$error":"#REF!"}}]
["",null,{"$f":"IF(B800=\"\",\"\",SUMIF('الرصيد الثابت'!$D$2:$D$106,B800,'الرصيد الثابت'!$H$2:$H$106))","v":""},{"$f":"IF(B800=\"\",\"\",SUMIF('الرصيد الثابت'!$D$2:$D$106,B800,'الرصيد الثابت'!$I$2:$I$106))","v":""},{"$f":"IF(B800=\"\",\"\",SUMIF('الرصيد الثابت'!$D$2:$D$106,B800,'الرصيد الثابت'!$J$2:$J$106))","v":""},null,0,null,null,null,null,0,null,null,null,0,null,0,null,null,null,null,null,null,null,null,null,null,null,null,null,null,null,null,null,null,null,null,null,null,null,null,null,null,null,null,null,null,null,null,null,null,null,null,null,null,null,null,null,null,null,null,null,null,null,null,null,null,null,null,null,null,null,null,null,null,null,null,null,null,null,null,null,{"$f":"IFERROR(VLOOKUP(ROWS($CF$3:CF800),$CH$3:$CI$2001,2,FALSE),\"\")","v":""},null,{"$f":"IF(ISNUMBER(SEARCH(B800,CI800)),MAX($CH$2:CH799)+1,0)","v":0},{"$f":"'الرصيد الثابت'!#REF!","v":{"$error":"#REF!"}}]
["",null,{"$f":"IF(B805=\"\",\"\",SUMIF('الرصيد الثابت'!$D$2:$D$106,B805,'الرصيد الثابت'!$H$2:$H$106))","v":""},{"$f":"IF(B805=\"\",\"\",SUMIF('الرصيد الثابت'!$D$2:$D$106,B805,'الرصيد الثابت'!$I$2:$I$106))","v":""},{"$f":"IF(B805=\"\",\"\",SUMIF('الرصيد الثابت'!$D$2:$D$106,B805,'الرصيد الثابت'!$J$2:$J$106))","v":""},null,0,null,null,null,null,0,null,null,null,0,null,0,null,null,null,null,null,null,null,null,null,null,null,null,null,null,null,null,null,null,null,null,null,null,null,null,null,null,null,null,null,null,null,null,null,null,null,null,null,null,null,null,null,null,null,null,null,null,null,null,null,null,null,null,null,null,null,null,null,null,null,null,null,null,null,null,null,{"$f":"IFERROR(VLOOKUP(ROWS($CF$3:CF805),$CH$3:$CI$2001,2,FALSE),\"\")","v":""},null,{"$f":"IF(ISNUMBER(SEARCH(B805,CI805)),MAX($CH$2:CH804)+1,0)","v":0},{"$f":"'الرصيد الثابت'!#REF!","v":{"$error":"#REF!"}}]
["",null,{"$f":"IF(B810=\"\",\"\",SUMIF('الرصيد الثابت'!$D$2:$D$106,B810,'الرصيد الثابت'!$H$2:$H$106))","v":""},{"$f":"IF(B810=\"\",\"\",SUMIF('الرصيد الثابت'!$D$2:$D$106,B810,'الرصيد الثابت'!$I$2:$I$106))","v":""},{"$f":"IF(B810=\"\",\"\",SUMIF('الرصيد الثابت'!$D$2:$D$106,B810,'الرصيد الثابت'!$J$2:$J$106))","v":""},null,0,null,null,null,null,0,null,null,null,0,null,0,null,null,null,null,null,null,null,null,null,null,null,null,null,null,null,null,null,null,null,null,null,null,null,null,null,null,null,null,null,null,null,null,null,null,null,null,null,null,null,null,null,null,null,null,null,null,null,null,null,null,null,null,null,null,null,null,null,null,null,null,null,null,null,null,null,{"$f":"IFERROR(VLOOKUP(ROWS($CF$3:CF810),$CH$3:$CI$2001,2,FALSE),\"\")","v":""},null,{"$f":"IF(ISNUMBER(SEARCH(B810,CI810)),MAX($CH$2:CH809)+1,0)","v":0},{"$f":"'الرصيد الثابت'!#REF!","v":{"$error":"#REF!"}}]
["",null,{"$f":"IF(B811=\"\",\"\",SUMIF('الرصيد الثابت'!$D$2:$D$106,B811,'الرصيد الثابت'!$H$2:$H$106))","v":""},{"$f":"IF(B811=\"\",\"\",SUMIF('الرصيد الثابت'!$D$2:$D$106,B811,'الرصيد الثابت'!$I$2:$I$106))","v":""},{"$f":"IF(B811=\"\",\"\",SUMIF('الرصيد الثابت'!$D$2:$D$106,B811,'الرصيد الثابت'!$J$2:$J$106))","v":""},null,0,null,null,null,null,0,null,null,null,0,null,0,null,null,null,null,null,null,null,null,null,null,null,null,null,null,null,null,null,null,null,null,null,null,null,null,null,null,null,null,null,null,null,null,null,null,null,null,null,null,null,null,null,null,null,null,null,null,null,null,null,null,null,null,null,null,null,null,null,null,null,null,null,null,null,null,null,{"$f":"IFERROR(VLOOKUP(ROWS($CF$3:CF811),$CH$3:$CI$2001,2,FALSE),\"\")","v":""},null,{"$f":"IF(ISNUMBER(SEARCH(B811,CI811)),MAX($CH$2:CH810)+1,0)","v":0},{"$f":"'الرصيد الثابت'!#REF!","v":{"$error":"#REF!"}}]
["",null,{"$f":"IF(B816=\"\",\"\",SUMIF('الرصيد الثابت'!$D$2:$D$106,B816,'الرصيد الثابت'!$H$2:$H$106))","v":""},{"$f":"IF(B816=\"\",\"\",SUMIF('الرصيد الثابت'!$D$2:$D$106,B816,'الرصيد الثابت'!$I$2:$I$106))","v":""},{"$f":"IF(B816=\"\",\"\",SUMIF('الرصيد الثابت'!$D$2:$D$106,B816,'الرصيد الثابت'!$J$2:$J$106))","v":""},null,0,null,null,null,null,0,null,null,null,0,null,0,null,null,null,null,null,null,null,null,null,null,null,null,null,null,null,null,null,null,null,null,null,null,null,null,null,null,null,null,null,null,null,null,null,null,null,null,null,null,null,null,null,null,null,null,null,null,null,null,null,null,null,null,null,null,null,null,null,null,null,null,null,null,null,null,null,{"$f":"IFERROR(VLOOKUP(ROWS($CF$3:CF816),$CH$3:$CI$2001,2,FALSE),\"\")","v":""},null,{"$f":"IF(ISNUMBER(SEARCH(B816,CI816)),MAX($CH$2:CH815)+1,0)","v":0},{"$f":"'الرصيد الثابت'!#REF!","v":{"$error":"#REF!"}}]
["",null,{"$f":"IF(B821=\"\",\"\",SUMIF('الرصيد الثابت'!$D$2:$D$106,B821,'الرصيد الثابت'!$H$2:$H$106))","v":""},{"$f":"IF(B821=\"\",\"\",SUMIF('الرصيد الثابت'!$D$2:$D$106,B821,'الرصيد الثابت'!$I$2:$I$106))","v":""},{"$f":"IF(B821=\"\",\"\",SUMIF('الرصيد الثابت'!$D$2:$D$106,B821,'الرصيد الثابت'!$J$2:$J$106))","v":""},null,0,null,null,null,null,0,null,null,null,0,null,0,null,null,null,null,null,null,null,null,null,null,null,null,null,null,null,null,null,null,null,null,null,null,null,null,null,null,null,null,null,null,null,null,null,null,null,null,null,null,null,null,null,null,null,null,null,null,null,null,null,null,null,null,null,null,null,null,null,null,null,null,null,null,null,null,null,{"$f":"IFERROR(VLOOKUP(ROWS($CF$3:CF821),$CH$3:$CI$2001,2,FALSE),\"\")","v":""},null,{"$f":"IF(ISNUMBER(SEARCH(B821,CI821)),MAX($CH$2:CH820)+1,0)","v":0},{"$f":"'الرصيد الثابت'!#REF!","v":{"$error":"#REF!"}}]
["",null,{"$f":"IF(B826=\"\",\"\",SUMIF('الرصيد الثابت'!$D$2:$D$106,B826,'الرصيد الثابت'!$H$2:$H$106))","v":""},{"$f":"IF(B826=\"\",\"\",SUMIF('الرصيد الثابت'!$D$2:$D$106,B826,'الرصيد الثابت'!$I$2:$I$106))","v":""},{"$f":"IF(B826=\"\",\"\",SUMIF('الرصيد الثابت'!$D$2:$D$106,B826,'الرصيد الثابت'!$J$2:$J$106))","v":""},null,0,null,null,null,null,0,null,null,null,0,null,0,null,null,null,null,null,null,null,null,null,null,null,null,null,null,null,null,null,null,null,null,null,null,null,null,null,null,null,null,null,null,null,null,null,null,null,null,null,null,null,null,null,null,null,null,null,null,null,null,null,null,null,null,null,null,null,null,null,null,null,null,null,null,null,null,null,{"$f":"IFERROR(VLOOKUP(ROWS($CF$3:CF826),$CH$3:$CI$2001,2,FALSE),\"\")","v":""},null,{"$f":"IF(ISNUMBER(SEARCH(B826,CI826)),MAX($CH$2:CH825)+1,0)","v":0},{"$f":"'الرصيد الثابت'!#REF!","v":{"$error":"#REF!"}}]
["",null,{"$f":"IF(B827=\"\",\"\",SUMIF('الرصيد الثابت'!$D$2:$D$106,B827,'الرصيد الثابت'!$H$2:$H$106))","v":""},{"$f":"IF(B827=\"\",\"\",SUMIF('الرصيد الثابت'!$D$2:$D$106,B827,'الرصيد الثابت'!$I$2:$I$106))","v":""},{"$f":"IF(B827=\"\",\"\",SUMIF('الرصيد الثابت'!$D$2:$D$106,B827,'الرصيد الثابت'!$J$2:$J$106))","v":""},null,0,null,null,null,null,0,null,null,null,0,null,0,null,null,null,null,null,null,null,null,null,null,null,null,null,null,null,null,null,null,null,null,null,null,null,null,null,null,null,null,null,null,null,null,null,null,null,null,null,null,null,null,null,null,null,null,null,null,null,null,null,null,null,null,null,null,null,null,null,null,null,null,null,null,null,null,null,{"$f":"IFERROR(VLOOKUP(ROWS($CF$3:CF827),$CH$3:$CI$2001,2,FALSE),\"\")","v":""},null,{"$f":"IF(ISNUMBER(SEARCH(B827,CI827)),MAX($CH$2:CH826)+1,0)","v":0},{"$f":"'الرصيد الثابت'!#REF!","v":{"$error":"#REF!"}}]
["",null,{"$f":"IF(B832=\"\",\"\",SUMIF('الرصيد الثابت'!$D$2:$D$106,B832,'الرصيد الثابت'!$H$2:$H$106))","v":""},{"$f":"IF(B832=\"\",\"\",SUMIF('الرصيد الثابت'!$D$2:$D$106,B832,'الرصيد الثابت'!$I$2:$I$106))","v":""},{"$f":"IF(B832=\"\",\"\",SUMIF('الرصيد الثابت'!$D$2:$D$106,B832,'الرصيد الثابت'!$J$2:$J$106))","v":""},null,0,null,null,null,null,0,null,null,null,0,null,0,null,null,null,null,null,null,null,null,null,null,null,null,null,null,null,null,null,null,null,null,null,null,null,null,null,null,null,null,null,null,null,null,null,null,null,null,null,null,null,null,null,null,null,null,null,null,null,null,null,null,null,null,null,null,null,null,null,null,null,null,null,null,null,null,null,{"$f":"IFERROR(VLOOKUP(ROWS($CF$3:CF832),$CH$3:$CI$2001,2,FALSE),\"\")","v":""},null,{"$f":"IF(ISNUMBER(SEARCH(B832,CI832)),MAX($CH$2:CH831)+1,0)","v":0},{"$f":"'الرصيد الثابت'!#REF!","v":{"$error":"#REF!"}}]
["",null,{"$f":"IF(B835=\"\",\"\",SUMIF('الرصيد الثابت'!$D$2:$D$106,B835,'الرصيد الثابت'!$H$2:$H$106))","v":""},{"$f":"IF(B835=\"\",\"\",SUMIF('الرصيد الثابت'!$D$2:$D$106,B835,'الرصيد الثابت'!$I$2:$I$106))","v":""},{"$f":"IF(B835=\"\",\"\",SUMIF('الرصيد الثابت'!$D$2:$D$106,B835,'الرصيد الثابت'!$J$2:$J$106))","v":""},null,0,null,null,null,null,0,null,null,null,0,null,0,null,null,null,null,null,null,null,null,null,null,null,null,null,null,null,null,null,null,null,null,null,null,null,null,null,null,null,null,null,null,null,null,null,null,null,null,null,null,null,null,null,null,null,null,null,null,null,null,null,null,null,null,null,null,null,null,null,null,null,null,null,null,null,null,null,{"$f":"IFERROR(VLOOKUP(ROWS($CF$3:CF835),$CH$3:$CI$2001,2,FALSE),\"\")","v":""},null,{"$f":"IF(ISNUMBER(SEARCH(B835,CI835)),MAX($CH$2:CH834)+1,0)","v":0},{"$f":"'الرصيد الثابت'!#REF!","v":{"$error":"#REF!"}}]
["",null,{"$f":"IF(B841=\"\",\"\",SUMIF('الرصيد الثابت'!$D$2:$D$106,B841,'الرصيد الثابت'!$H$2:$H$106))","v":""},{"$f":"IF(B841=\"\",\"\",SUMIF('الرصيد الثابت'!$D$2:$D$106,B841,'الرصيد الثابت'!$I$2:$I$106))","v":""},{"$f":"IF(B841=\"\",\"\",SUMIF('الرصيد الثابت'!$D$2:$D$106,B841,'الرصيد الثابت'!$J$2:$J$106))","v":""},null,0,null,null,null,null,0,null,null,null,0,null,0,null,null,null,null,null,null,null,null,null,null,null,null,null,null,null,null,null,null,null,null,null,null,null,null,null,null,null,null,null,null,null,null,null,null,null,null,null,null,null,null,null,null,null,null,null,null,null,null,null,null,null,null,null,null,null,null,null,null,null,null,null,null,null,null,null,{"$f":"IFERROR(VLOOKUP(ROWS($CF$3:CF841),$CH$3:$CI$2001,2,FALSE),\"\")","v":""},null,{"$f":"IF(ISNUMBER(SEARCH(B841,CI841)),MAX($CH$2:CH840)+1,0)","v":0},{"$f":"'الرصيد الثابت'!#REF!","v":{"$error":"#REF!"}}]
["",null,{"$f":"IF(B842=\"\",\"\",SUMIF('الرصيد الثابت'!$D$2:$D$106,B842,'الرصيد الثابت'!$H$2:$H$106))","v":""},{"$f":"IF(B842=\"\",\"\",SUMIF('الرصيد الثابت'!$D$2:$D$106,B842,'الرصيد الثابت'!$I$2:$I$106))","v":""},{"$f":"IF(B842=\"\",\"\",SUMIF('الرصيد الثابت'!$D$2:$D$106,B842,'الرصيد الثابت'!$J$2:$J$106))","v":""},null,0,null,null,null,null,0,null,null,null,0,null,0,null,null,null,null,null,null,null,null,null,null,null,null,null,null,null,null,null,null,null,null,null,null,null,null,null,null,null,null,null,null,null,null,null,null,null,null,null,null,null,null,null,null,null,null,null,null,null,null,null,null,null,null,null,null,null,null,null,null,null,null,null,null,null,null,null,{"$f":"IFERROR(VLOOKUP(ROWS($CF$3:CF842),$CH$3:$CI$2001,2,FALSE),\"\")","v":""},null,{"$f":"IF(ISNUMBER(SEARCH(B842,CI842)),MAX($CH$2:CH841)+1,0)","v":0},{"$f":"'الرصيد الثابت'!#REF!","v":{"$error":"#REF!"}}]
["",null,{"$f":"IF(B847=\"\",\"\",SUMIF('الرصيد الثابت'!$D$2:$D$106,B847,'الرصيد الثابت'!$H$2:$H$106))","v":""},{"$f":"IF(B847=\"\",\"\",SUMIF('الرصيد الثابت'!$D$2:$D$106,B847,'الرصيد الثابت'!$I$2:$I$106))","v":""},{"$f":"IF(B847=\"\",\"\",SUMIF('الرصيد الثابت'!$D$2:$D$106,B847,'الرصيد الثابت'!$J$2:$J$106))","v":""},null,0,null,null,null,null,0,null,null,null,0,null,0,null,null,null,null,null,null,null,null,null,null,null,null,null,null,null,null,null,null,null,null,null,null,null,null,null,null,null,null,null,null,null,null,null,null,null,null,null,null,null,null,null,null,null,null,null,null,null,null,null,null,null,null,null,null,null,null,null,null,null,null,null,null,null,null,null,{"$f":"IFERROR(VLOOKUP(ROWS($CF$3:CF847),$CH$3:$CI$2001,2,FALSE),\"\")","v":""},null,{"$f":"IF(ISNUMBER(SEARCH(B847,CI847)),MAX($CH$2:CH846)+1,0)","v":0},{"$f":"'الرصيد الثابت'!#REF!","v":{"$error":"#REF!"}}]
[{"$f":"IF(B74590<>\"\",IF(A74590=\"\",NOW(),A74590),\"\")","v":""},null,{"$f":"IF(B852=\"\",\"\",SUMIF('الرصيد الثابت'!$D$2:$D$106,B852,'الرصيد الثابت'!$H$2:$H$106))","v":""},{"$f":"IF(B852=\"\",\"\",SUMIF('الرصيد الثابت'!$D$2:$D$106,B852,'الرصيد الثابت'!$I$2:$I$106))","v":""},{"$f":"IF(B852=\"\",\"\",SUMIF('الرصيد الثابت'!$D$2:$D$106,B852,'الرصيد الثابت'!$J$2:$J$106))","v":""},null,{"$f":"SUM(H74590*F74590)","v":0},null,null,null,null,0,null,null,null,{"$f":"SUM(F74590-K74590)","v":0},null,{"$f":"SUM(S74590*Q74590)","v":0},null,null,null,null,null,null,null,null,null,null,null,null,null,null,null,null,null,null,null,null,null,null,null,null,null,null,null,null,null,null,null,null,null,null,null,null,null,null,null,null,null,null,null,null,null,null,null,null,null,null,null,null,null,null,null,null,null,null,null,null,null,null,null,null,null,{"$f":"IFERROR(VLOOKUP(ROWS($CF$3:CF852),$CH$3:$CI$2001,2,FALSE),\"\")","v":""},null,{"$f":"IF(ISNUMBER(SEARCH(B852,CI852)),MAX($CH$2:CH851)+1,0)","v":0},{"$f":"'الرصيد الثابت'!#REF!","v":{"$error":"#REF!"}}]
["",null,{"$f":"IF(B857=\"\",\"\",SUMIF('الرصيد الثابت'!$D$2:$D$106,B857,'الرصيد الثابت'!$H$2:$H$106))","v":""},{"$f":"IF(B857=\"\",\"\",SUMIF('الرصيد الثابت'!$D$2:$D$106,B857,'الرصيد الثابت'!$I$2:$I$106))","v":""},{"$f":"IF(B857=\"\",\"\",SUMIF('الرصيد الثابت'!$D$2:$D$106,B857,'الرصيد الثابت'!$J$2:$J$106))","v":""},null,0,null,null,null,null,0,null,null,null,0,null,0,null,null,null,null,null,null,null,null,null,null,null,null,null,null,null,null,null,null,null,null,null,null,null,null,null,null,null,null,null,null,null,null,null,null,null,null,null,null,null,null,null,null,null,null,null,null,null,null,null,null,null,null,null,null,null,null,null,null,null,null,null,null,null,null,null,{"$f":"IFERROR(VLOOKUP(ROWS($CF$3:CF857),$CH$3:$CI$2001,2,FALSE),\"\")","v":""},null,{"$f":"IF(ISNUMBER(SEARCH(B857,CI857)),MAX($CH$2:CH856)+1,0)","v":0},{"$f":"'الرصيد الثابت'!#REF!","v":{"$error":"#REF!"}}]
["",null,{"$f":"IF(B858=\"\",\"\",SUMIF('الرصيد الثابت'!$D$2:$D$106,B858,'الرصيد الثابت'!$H$2:$H$106))","v":""},{"$f":"IF(B858=\"\",\"\",SUMIF('الرصيد الثابت'!$D$2:$D$106,B858,'الرصيد الثابت'!$I$2:$I$106))","v":""},{"$f":"IF(B858=\"\",\"\",SUMIF('الرصيد الثابت'!$D$2:$D$106,B858,'الرصيد الثابت'!$J$2:$J$106))","v":""},null,0,null,null,null,null,0,null,null,null,0,null,0,null,null,null,null,null,null,null,null,null,null,null,null,null,null,null,null,null,null,null,null,null,null,null,null,null,null,null,null,null,null,null,null,null,null,null,null,null,null,null,null,null,null,null,null,null,null,null,null,null,null,null,null,null,null,null,null,null,null,null,null,null,null,null,null,null,{"$f":"IFERROR(VLOOKUP(ROWS($CF$3:CF858),$CH$3:$CI$2001,2,FALSE),\"\")","v":""},null,{"$f":"IF(ISNUMBER(SEARCH(B858,CI858)),MAX($CH$2:CH857)+1,0)","v":0},{"$f":"'الرصيد الثابت'!#REF!","v":{"$error":"#REF!"}}]
["",null,{"$f":"IF(B863=\"\",\"\",SUMIF('الرصيد الثابت'!$D$2:$D$106,B863,'الرصيد الثابت'!$H$2:$H$106))","v":""},{"$f":"IF(B863=\"\",\"\",SUMIF('الرصيد الثابت'!$D$2:$D$106,B863,'الرصيد الثابت'!$I$2:$I$106))","v":""},{"$f":"IF(B863=\"\",\"\",SUMIF('الرصيد الثابت'!$D$2:$D$106,B863,'الرصيد الثابت'!$J$2:$J$106))","v":""},null,0,null,null,null,null,0,null,null,null,0,null,0,null,null,null,null,null,null,null,null,null,null,null,null,null,null,null,null,null,null,null,null,null,null,null,null,null,null,null,null,null,null,null,null,null,null,null,null,null,null,null,null,null,null,null,null,null,null,null,null,null,null,null,null,null,null,null,null,null,null,null,null,null,null,null,null,null,{"$f":"IFERROR(VLOOKUP(ROWS($CF$3:CF863),$CH$3:$CI$2001,2,FALSE),\"\")","v":""},null,{"$f":"IF(ISNUMBER(SEARCH(B863,CI863)),MAX($CH$2:CH862)+1,0)","v":0},{"$f":"'الرصيد الثابت'!#REF!","v":{"$error":"#REF!"}}]
["",null,{"$f":"IF(B868=\"\",\"\",SUMIF('الرصيد الثابت'!$D$2:$D$106,B868,'الرصيد الثابت'!$H$2:$H$106))","v":""},{"$f":"IF(B868=\"\",\"\",SUMIF('الرصيد الثابت'!$D$2:$D$106,B868,'الرصيد الثابت'!$I$2:$I$106))","v":""},{"$f":"IF(B868=\"\",\"\",SUMIF('الرصيد الثابت'!$D$2:$D$106,B868,'الرصيد الثابت'!$J$2:$J$106))","v":""},null,0,null,null,null,null,0,null,null,null,0,null,0,null,null,null,null,null,null,null,null,null,null,null,null,null,null,null,null,null,null,null,null,null,null,null,null,null,null,null,null,null,null,null,null,null,null,null,null,null,null,null,null,null,null,null,null,null,null,null,null,null,null,null,null,null,null,null,null,null,null,null,null,null,null,null,null,null,{"$f":"IFERROR(VLOOKUP(ROWS($CF$3:CF868),$CH$3:$CI$2001,2,FALSE),\"\")","v":""},null,{"$f":"IF(ISNUMBER(SEARCH(B868,CI868)),MAX($CH$2:CH867)+1,0)","v":0},{"$f":"'الرصيد الثابت'!#REF!","v":{"$error":"#REF!"}}]
["",null,{"$f":"IF(B873=\"\",\"\",SUMIF('الرصيد الثابت'!$D$2:$D$106,B873,'الرصيد الثابت'!$H$2:$H$106))","v":""},{"$f":"IF(B873=\"\",\"\",SUMIF('الرصيد الثابت'!$D$2:$D$106,B873,'الرصيد الثابت'!$I$2:$I$106))","v":""},{"$f":"IF(B873=\"\",\"\",SUMIF('الرصيد الثابت'!$D$2:$D$106,B873,'الرصيد الثابت'!$J$2:$J$106))","v":""},null,0,null,null,null,null,0,null,null,null,0,null,0,null,null,null,null,null,null,null,null,null,null,null,null,null,null,null,null,null,null,null,null,null,null,null,null,null,null,null,null,null,null,null,null,null,null,null,null,null,null,null,null,null,null,null,null,null,null,null,null,null,null,null,null,null,null,null,null,null,null,null,null,null,null,null,null,null,{"$f":"IFERROR(VLOOKUP(ROWS($CF$3:CF873),$CH$3:$CI$2001,2,FALSE),\"\")","v":""},null,{"$f":"IF(ISNUMBER(SEARCH(B873,CI873)),MAX($CH$2:CH872)+1,0)","v":0},{"$f":"'الرصيد الثابت'!#REF!","v":{"$error":"#REF!"}}]
["",null,{"$f":"IF(B874=\"\",\"\",SUMIF('الرصيد الثابت'!$D$2:$D$106,B874,'الرصيد الثابت'!$H$2:$H$106))","v":""},{"$f":"IF(B874=\"\",\"\",SUMIF('الرصيد الثابت'!$D$2:$D$106,B874,'الرصيد الثابت'!$I$2:$I$106))","v":""},{"$f":"IF(B874=\"\",\"\",SUMIF('الرصيد الثابت'!$D$2:$D$106,B874,'الرصيد الثابت'!$J$2:$J$106))","v":""},null,0,null,null,null,null,0,null,null,null,0,null,0,null,null,null,null,null,null,null,null,null,null,null,null,null,null,null,null,null,null,null,null,null,null,null,null,null,null,null,null,null,null,null,null,null,null,null,null,null,null,null,null,null,null,null,null,null,null,null,null,null,null,null,null,null,null,null,null,null,null,null,null,null,null,null,null,null,{"$f":"IFERROR(VLOOKUP(ROWS($CF$3:CF874),$CH$3:$CI$2001,2,FALSE),\"\")","v":""},null,{"$f":"IF(ISNUMBER(SEARCH(B874,CI874)),MAX($CH$2:CH873)+1,0)","v":0},{"$f":"'الرصيد الثابت'!#REF!","v":{"$error":"#REF!"}}]
["",null,{"$f":"IF(B879=\"\",\"\",SUMIF('الرصيد الثابت'!$D$2:$D$106,B879,'الرصيد الثابت'!$H$2:$H$106))","v":""},{"$f":"IF(B879=\"\",\"\",SUMIF('الرصيد الثابت'!$D$2:$D$106,B879,'الرصيد الثابت'!$I$2:$I$106))","v":""},{"$f":"IF(B879=\"\",\"\",SUMIF('الرصيد الثابت'!$D$2:$D$106,B879,'الرصيد الثابت'!$J$2:$J$106))","v":""},null,0,null,null,null,null,0,null,null,null,0,null,0,null,null,null,null,null,null,null,null,null,null,null,null,null,null,null,null,null,null,null,null,null,null,null,null,null,null,null,null,null,null,null,null,null,null,null,null,null,null,null,null,null,null,null,null,null,null,null,null,null,null,null,null,null,null,null,null,null,null,null,null,null,null,null,null,null,{"$f":"IFERROR(VLOOKUP(ROWS($CF$3:CF879),$CH$3:$CI$2001,2,FALSE),\"\")","v":""},null,{"$f":"IF(ISNUMBER(SEARCH(B879,CI879)),MAX($CH$2:CH878)+1,0)","v":0},{"$f":"'الرصيد الثابت'!#REF!","v":{"$error":"#REF!"}}]
["",null,{"$f":"IF(B884=\"\",\"\",SUMIF('الرصيد الثابت'!$D$2:$D$106,B884,'الرصيد الثابت'!$H$2:$H$106))","v":""},{"$f":"IF(B884=\"\",\"\",SUMIF('الرصيد الثابت'!$D$2:$D$106,B884,'الرصيد الثابت'!$I$2:$I$106))","v":""},{"$f":"IF(B884=\"\",\"\",SUMIF('الرصيد الثابت'!$D$2:$D$106,B884,'الرصيد الثابت'!$J$2:$J$106))","v":""},null,0,null,null,null,null,0,null,null,null,0,null,0,null,null,null,null,null,null,null,null,null,null,null,null,null,null,null,null,null,null,null,null,null,null,null,null,null,null,null,null,null,null,null,null,null,null,null,null,null,null,null,null,null,null,null,null,null,null,null,null,null,null,null,null,null,null,null,null,null,null,null,null,null,null,null,null,null,{"$f":"IFERROR(VLOOKUP(ROWS($CF$3:CF884),$CH$3:$CI$2001,2,FALSE),\"\")","v":""},null,{"$f":"IF(ISNUMBER(SEARCH(B884,CI884)),MAX($CH$2:CH883)+1,0)","v":0},{"$f":"'الرصيد الثابت'!#REF!","v":{"$error":"#REF!"}}]
["",null,{"$f":"IF(B889=\"\",\"\",SUMIF('الرصيد الثابت'!$D$2:$D$106,B889,'الرصيد الثابت'!$H$2:$H$106))","v":""},{"$f":"IF(B889=\"\",\"\",SUMIF('الرصيد الثابت'!$D$2:$D$106,B889,'الرصيد الثابت'!$I$2:$I$106))","v":""},{"$f":"IF(B889=\"\",\"\",SUMIF('الرصيد الثابت'!$D$2:$D$106,B889,'الرصيد الثابت'!$J$2:$J$106))","v":""},null,0,null,null,null,null,0,null,null,null,0,null,0,null,null,null,null,null,null,null,null,null,null,null,null,null,null,null,null,null,null,null,null,null,null,null,null,null,null,null,null,null,null,null,null,null,null,null,null,null,null,null,null,null,null,null,null,null,null,null,null,null,null,null,null,null,null,null,null,null,null,null,null,null,null,null,null,null,{"$f":"IFERROR(VLOOKUP(ROWS($CF$3:CF889),$CH$3:$CI$2001,2,FALSE),\"\")","v":""},null,{"$f":"IF(ISNUMBER(SEARCH(B889,CI889)),MAX($CH$2:CH888)+1,0)","v":0},{"$f":"'الرصيد الثابت'!#REF!","v":{"$error":"#REF!"}}]
["",null,{"$f":"IF(B890=\"\",\"\",SUMIF('الرصيد الثابت'!$D$2:$D$106,B890,'الرصيد الثابت'!$H$2:$H$106))","v":""},{"$f":"IF(B890=\"\",\"\",SUMIF('الرصيد الثابت'!$D$2:$D$106,B890,'الرصيد الثابت'!$I$2:$I$106))","v":""},{"$f":"IF(B890=\"\",\"\",SUMIF('الرصيد الثابت'!$D$2:$D$106,B890,'الرصيد الثابت'!$J$2:$J$106))","v":""},null,0,null,null,null,null,0,null,null,null,0,null,0,null,null,null,null,null,null,null,null,null,null,null,null,null,null,null,null,null,null,null,null,null,null,null,null,null,null,null,null,null,null,null,null,null,null,null,null,null,null,null,null,null,null,null,null,null,null,null,null,null,null,null,null,null,null,null,null,null,null,null,null,null,null,null,null,null,{"$f":"IFERROR(VLOOKUP(ROWS($CF$3:CF890),$CH$3:$CI$2001,2,FALSE),\"\")","v":""},null,{"$f":"IF(ISNUMBER(SEARCH(B890,CI890)),MAX($CH$2:CH889)+1,0)","v":0},{"$f":"'الرصيد الثابت'!#REF!","v":{"$error":"#REF!"}}]
["",null,{"$f":"IF(B894=\"\",\"\",SUMIF('الرصيد الثابت'!$D$2:$D$106,B894,'الرصيد الثابت'!$H$2:$H$106))","v":""},{"$f":"IF(B894=\"\",\"\",SUMIF('الرصيد الثابت'!$D$2:$D$106,B894,'الرصيد الثابت'!$I$2:$I$106))","v":""},{"$f":"IF(B894=\"\",\"\",SUMIF('الرصيد الثابت'!$D$2:$D$106,B894,'الرصيد الثابت'!$J$2:$J$106))","v":""},null,0,null,null,null,null,0,null,null,null,0,null,0,null,null,null,null,null,null,null,null,null,null,null,null,null,null,null,null,null,null,null,null,null,null,null,null,null,null,null,null,null,null,null,null,null,null,null,null,null,null,null,null,null,null,null,null,null,null,null,null,null,null,null,null,null,null,null,null,null,null,null,null,null,null,null,null,null,{"$f":"IFERROR(VLOOKUP(ROWS($CF$3:CF894),$CH$3:$CI$2001,2,FALSE),\"\")","v":""},null,{"$f":"IF(ISNUMBER(SEARCH(B894,CI894)),MAX($CH$2:CH893)+1,0)","v":0},{"$f":"'الرصيد الثابت'!#REF!","v":{"$error":"#REF!"}}]
["",null,{"$f":"IF(B899=\"\",\"\",SUMIF('الرصيد الثابت'!$D$2:$D$106,B899,'الرصيد الثابت'!$H$2:$H$106))","v":""},{"$f":"IF(B899=\"\",\"\",SUMIF('الرصيد الثابت'!$D$2:$D$106,B899,'الرصيد الثابت'!$I$2:$I$106))","v":""},{"$f":"IF(B899=\"\",\"\",SUMIF('الرصيد الثابت'!$D$2:$D$106,B899,'الرصيد الثابت'!$J$2:$J$106))","v":""},null,0,null,null,null,null,0,null,null,null,0,null,0,null,null,null,null,null,null,null,null,null,null,null,null,null,null,null,null,null,null,null,null,null,null,null,null,null,null,null,null,null,null,null,null,null,null,null,null,null,null,null,null,null,null,null,null,null,null,null,null,null,null,null,null,null,null,null,null,null,null,null,null,null,null,null,null,null,{"$f":"IFERROR(VLOOKUP(ROWS($CF$3:CF899),$CH$3:$CI$2001,2,FALSE),\"\")","v":""},null,{"$f":"IF(ISNUMBER(SEARCH(B899,CI899)),MAX($CH$2:CH898)+1,0)","v":0},{"$f":"'الرصيد الثابت'!#REF!","v":{"$error":"#REF!"}}]
["",null,{"$f":"IF(B904=\"\",\"\",SUMIF('الرصيد الثابت'!$D$2:$D$106,B904,'الرصيد الثابت'!$H$2:$H$106))","v":""},{"$f":"IF(B904=\"\",\"\",SUMIF('الرصيد الثابت'!$D$2:$D$106,B904,'الرصيد الثابت'!$I$2:$I$106))","v":""},{"$f":"IF(B904=\"\",\"\",SUMIF('الرصيد الثابت'!$D$2:$D$106,B904,'الرصيد الثابت'!$J$2:$J$106))","v":""},null,0,null,null,null,null,0,null,null,null,0,null,0,null,null,null,null,null,null,null,null,null,null,null,null,null,null,null,null,null,null,null,null,null,null,null,null,null,null,null,null,null,null,null,null,null,null,null,null,null,null,null,null,null,null,null,null,null,null,null,null,null,null,null,null,null,null,null,null,null,null,null,null,null,null,null,null,null,{"$f":"IFERROR(VLOOKUP(ROWS($CF$3:CF904),$CH$3:$CI$2001,2,FALSE),\"\")","v":""},null,{"$f":"IF(ISNUMBER(SEARCH(B904,CI904)),MAX($CH$2:CH903)+1,0)","v":0},{"$f":"'الرصيد الثابت'!#REF!","v":{"$error":"#REF!"}}]
["",null,{"$f":"IF(B905=\"\",\"\",SUMIF('الرصيد الثابت'!$D$2:$D$106,B905,'الرصيد الثابت'!$H$2:$H$106))","v":""},{"$f":"IF(B905=\"\",\"\",SUMIF('الرصيد الثابت'!$D$2:$D$106,B905,'الرصيد الثابت'!$I$2:$I$106))","v":""},{"$f":"IF(B905=\"\",\"\",SUMIF('الرصيد الثابت'!$D$2:$D$106,B905,'الرصيد الثابت'!$J$2:$J$106))","v":""},null,0,null,null,null,null,0,null,null,null,0,null,0,null,null,null,null,null,null,null,null,null,null,null,null,null,null,null,null,null,null,null,null,null,null,null,null,null,null,null,null,null,null,null,null,null,null,null,null,null,null,null,null,null,null,null,null,null,null,null,null,null,null,null,null,null,null,null,null,null,null,null,null,null,null,null,null,null,{"$f":"IFERROR(VLOOKUP(ROWS($CF$3:CF905),$CH$3:$CI$2001,2,FALSE),\"\")","v":""},null,{"$f":"IF(ISNUMBER(SEARCH(B905,CI905)),MAX($CH$2:CH904)+1,0)","v":0},{"$f":"'الرصيد الثابت'!#REF!","v":{"$error":"#REF!"}}]
["",null,{"$f":"IF(B910=\"\",\"\",SUMIF('الرصيد الثابت'!$D$2:$D$106,B910,'الرصيد الثابت'!$H$2:$H$106))","v":""},{"$f":"IF(B910=\"\",\"\",SUMIF('الرصيد الثابت'!$D$2:$D$106,B910,'الرصيد الثابت'!$I$2:$I$106))","v":""},{"$f":"IF(B910=\"\",\"\",SUMIF('الرصيد الثابت'!$D$2:$D$106,B910,'الرصيد الثابت'!$J$2:$J$106))","v":""},null,0,null,null,null,null,0,null,null,null,0,null,0,null,null,null,null,null,null,null,null,null,null,null,null,null,null,null,null,null,null,null,null,null,null,null,null,null,null,null,null,null,null,null,null,null,null,null,null,null,null,null,null,null,null,null,null,null,null,null,null,null,null,null,null,null,null,null,null,null,null,null,null,null,null,null,null,null,{"$f":"IFERROR(VLOOKUP(ROWS($CF$3:CF910),$CH$3:$CI$2001,2,FALSE),\"\")","v":""},null,{"$f":"IF(ISNUMBER(SEARCH(B910,CI910)),MAX($CH$2:CH909)+1,0)","v":0},{"$f":"'الرصيد الثابت'!#REF!","v":{"$error":"#REF!"}}]
["",null,{"$f":"IF(B915=\"\",\"\",SUMIF('الرصيد الثابت'!$D$2:$D$106,B915,'الرصيد الثابت'!$H$2:$H$106))","v":""},{"$f":"IF(B915=\"\",\"\",SUMIF('الرصيد الثابت'!$D$2:$D$106,B915,'الرصيد الثابت'!$I$2:$I$106))","v":""},{"$f":"IF(B915=\"\",\"\",SUMIF('الرصيد الثابت'!$D$2:$D$106,B915,'الرصيد الثابت'!$J$2:$J$106))","v":""},null,0,null,null,null,null,0,null,null,null,0,null,0,null,null,null,null,null,null,null,null,null,null,null,null,null,null,null,null,null,null,null,null,null,null,null,null,null,null,null,null,null,null,null,null,null,null,null,null,null,null,null,null,null,null,null,null,null,null,null,null,null,null,null,null,null,null,null,null,null,null,null,null,null,null,null,null,null,{"$f":"IFERROR(VLOOKUP(ROWS($CF$3:CF915),$CH$3:$CI$2001,2,FALSE),\"\")","v":""},null,{"$f":"IF(ISNUMBER(SEARCH(B915,CI915)),MAX($CH$2:CH914)+1,0)","v":0},{"$f":"'الرصيد الثابت'!#REF!","v":{"$error":"#REF!"}}]
["",null,{"$f":"IF(B920=\"\",\"\",SUMIF('الرصيد الثابت'!$D$2:$D$106,B920,'الرصيد الثابت'!$H$2:$H$106))","v":""},{"$f":"IF(B920=\"\",\"\",SUMIF('الرصيد الثابت'!$D$2:$D$106,B920,'الرصيد الثابت'!$I$2:$I$106))","v":""},{"$f":"IF(B920=\"\",\"\",SUMIF('الرصيد الثابت'!$D$2:$D$106,B920,'الرصيد الثابت'!$J$2:$J$106))","v":""},null,0,null,null,null,null,0,null,null,null,0,null,0,null,null,null,null,null,null,null,null,null,null,null,null,null,null,null,null,null,null,null,null,null,null,null,null,null,null,null,null,null,null,null,null,null,null,null,null,null,null,null,null,null,null,null,null,null,null,null,null,null,null,null,null,null,null,null,null,null,null,null,null,null,null,null,null,null,{"$f":"IFERROR(VLOOKUP(ROWS($CF$3:CF920),$CH$3:$CI$2001,2,FALSE),\"\")","v":""},null,{"$f":"IF(ISNUMBER(SEARCH(B920,CI920)),MAX($CH$2:CH919)+1,0)","v":0},{"$f":"'الرصيد الثابت'!#REF!","v":{"$error":"#REF!"}}]
["",null,{"$f":"IF(B921=\"\",\"\",SUMIF('الرصيد الثابت'!$D$2:$D$106,B921,'الرصيد الثابت'!$H$2:$H$106))","v":""},{"$f":"IF(B921=\"\",\"\",SUMIF('الرصيد الثابت'!$D$2:$D$106,B921,'الرصيد الثابت'!$I$2:$I$106))","v":""},{"$f":"IF(B921=\"\",\"\",SUMIF('الرصيد الثابت'!$D$2:$D$106,B921,'الرصيد الثابت'!$J$2:$J$106))","v":""},null,0,null,null,null,null,0,null,null,null,0,null,0,null,null,null,null,null,null,null,null,null,null,null,null,null,null,null,null,null,null,null,null,null,null,null,null,null,null,null,null,null,null,null,null,null,null,null,null,null,null,null,null,null,null,null,null,null,null,null,null,null,null,null,null,null,null,null,null,null,null,null,null,null,null,null,null,null,{"$f":"IFERROR(VLOOKUP(ROWS($CF$3:CF921),$CH$3:$CI$2001,2,FALSE),\"\")","v":""},null,{"$f":"IF(ISNUMBER(SEARCH(B921,CI921)),MAX($CH$2:CH920)+1,0)","v":0},{"$f":"'الرصيد الثابت'!#REF!","v":{"$error":"#REF!"}}]
["",null,{"$f":"IF(B926=\"\",\"\",SUMIF('الرصيد الثابت'!$D$2:$D$106,B926,'الرصيد الثابت'!$H$2:$H$106))","v":""},{"$f":"IF(B926=\"\",\"\",SUMIF('الرصيد الثابت'!$D$2:$D$106,B926,'الرصيد الثابت'!$I$2:$I$106))","v":""},{"$f":"IF(B926=\"\",\"\",SUMIF('الرصيد الثابت'!$D$2:$D$106,B926,'الرصيد الثابت'!$J$2:$J$106))","v":""},null,0,null,null,null,null,0,null,null,null,0,null,0,null,null,null,null,null,null,null,null,null,null,null,null,null,null,null,null,null,null,null,null,null,null,null,null,null,null,null,null,null,null,null,null,null,null,null,null,null,null,null,null,null,null,null,null,null,null,null,null,null,null,null,null,null,null,null,null,null,null,null,null,null,null,null,null,null,{"$f":"IFERROR(VLOOKUP(ROWS($CF$3:CF926),$CH$3:$CI$2001,2,FALSE),\"\")","v":""},null,{"$f":"IF(ISNUMBER(SEARCH(B926,CI926)),MAX($CH$2:CH925)+1,0)","v":0},{"$f":"'الرصيد الثابت'!#REF!","v":{"$error":"#REF!"}}]
["",null,{"$f":"IF(B931=\"\",\"\",SUMIF('الرصيد الثابت'!$D$2:$D$106,B931,'الرصيد الثابت'!$H$2:$H$106))","v":""},{"$f":"IF(B931=\"\",\"\",SUMIF('الرصيد الثابت'!$D$2:$D$106,B931,'الرصيد الثابت'!$I$2:$I$106))","v":""},{"$f":"IF(B931=\"\",\"\",SUMIF('الرصيد الثابت'!$D$2:$D$106,B931,'الرصيد الثابت'!$J$2:$J$106))","v":""},null,0,null,null,null,null,0,null,null,null,0,null,0,null,null,null,null,null,null,null,null,null,null,null,null,null,null,null,null,null,null,null,null,null,null,null,null,null,null,null,null,null,null,null,null,null,null,null,null,null,null,null,null,null,null,null,null,null,null,null,null,null,null,null,null,null,null,null,null,null,null,null,null,null,null,null,null,null,{"$f":"IFERROR(VLOOKUP(ROWS($CF$3:CF931),$CH$3:$CI$2001,2,FALSE),\"\")","v":""},null,{"$f":"IF(ISNUMBER(SEARCH(B931,CI931)),MAX($CH$2:CH930)+1,0)","v":0},{"$f":"'الرصيد الثابت'!#REF!","v":{"$error":"#REF!"}}]
["",null,{"$f":"IF(B936=\"\",\"\",SUMIF('الرصيد الثابت'!$D$2:$D$106,B936,'الرصيد الثابت'!$H$2:$H$106))","v":""},{"$f":"IF(B936=\"\",\"\",SUMIF('الرصيد الثابت'!$D$2:$D$106,B936,'الرصيد الثابت'!$I$2:$I$106))","v":""},{"$f":"IF(B936=\"\",\"\",SUMIF('الرصيد الثابت'!$D$2:$D$106,B936,'الرصيد الثابت'!$J$2:$J$106))","v":""},null,0,null,null,null,null,0,null,null,null,0,null,0,null,null,null,null,null,null,null,null,null,null,null,null,null,null,null,null,null,null,null,null,null,null,null,null,null,null,null,null,null,null,null,null,null,null,null,null,null,null,null,null,null,null,null,null,null,null,null,null,null,null,null,null,null,null,null,null,null,null,null,null,null,null,null,null,null,{"$f":"IFERROR(VLOOKUP(ROWS($CF$3:CF936),$CH$3:$CI$2001,2,FALSE),\"\")","v":""},null,{"$f":"IF(ISNUMBER(SEARCH(B936,CI936)),MAX($CH$2:CH935)+1,0)","v":0},{"$f":"'الرصيد الثابت'!#REF!","v":{"$error":"#REF!"}}]
["",null,{"$f":"IF(B937=\"\",\"\",SUMIF('الرصيد الثابت'!$D$2:$D$106,B937,'الرصيد الثابت'!$H$2:$H$106))","v":""},{"$f":"IF(B937=\"\",\"\",SUMIF('الرصيد الثابت'!$D$2:$D$106,B937,'الرصيد الثابت'!$I$2:$I$106))","v":""},{"$f":"IF(B937=\"\",\"\",SUMIF('الرصيد الثابت'!$D$2:$D$106,B937,'الرصيد الثابت'!$J$2:$J$106))","v":""},null,0,null,null,null,null,0,null,null,null,0,null,0,null,null,null,null,null,null,null,null,null,null,null,null,null,null,null,null,null,null,null,null,null,null,null,null,null,null,null,null,null,null,null,null,null,null,null,null,null,null,null,null,null,null,null,null,null,null,null,null,null,null,null,null,null,null,null,null,null,null,null,null,null,null,null,null,null,{"$f":"IFERROR(VLOOKUP(ROWS($CF$3:CF937),$CH$3:$CI$2001,2,FALSE),\"\")","v":""},null,{"$f":"IF(ISNUMBER(SEARCH(B937,CI937)),MAX($CH$2:CH936)+1,0)","v":0},{"$f":"'الرصيد الثابت'!#REF!","v":{"$error":"#REF!"}}]
["",null,{"$f":"IF(B942=\"\",\"\",SUMIF('الرصيد الثابت'!$D$2:$D$106,B942,'الرصيد الثابت'!$H$2:$H$106))","v":""},{"$f":"IF(B942=\"\",\"\",SUMIF('الرصيد الثابت'!$D$2:$D$106,B942,'الرصيد الثابت'!$I$2:$I$106))","v":""},{"$f":"IF(B942=\"\",\"\",SUMIF('الرصيد الثابت'!$D$2:$D$106,B942,'الرصيد الثابت'!$J$2:$J$106))","v":""},null,0,null,null,null,null,0,null,null,null,0,null,0,null,null,null,null,null,null,null,null,null,null,null,null,null,null,null,null,null,null,null,null,null,null,null,null,null,null,null,null,null,null,null,null,null,null,null,null,null,null,null,null,null,null,null,null,null,null,null,null,null,null,null,null,null,null,null,null,null,null,null,null,null,null,null,null,null,{"$f":"IFERROR(VLOOKUP(ROWS($CF$3:CF942),$CH$3:$CI$2001,2,FALSE),\"\")","v":""},null,{"$f":"IF(ISNUMBER(SEARCH(B942,CI942)),MAX($CH$2:CH941)+1,0)","v":0},{"$f":"'الرصيد الثابت'!#REF!","v":{"$error":"#REF!"}}]
["",null,{"$f":"IF(B947=\"\",\"\",SUMIF('الرصيد الثابت'!$D$2:$D$106,B947,'الرصيد الثابت'!$H$2:$H$106))","v":""},{"$f":"IF(B947=\"\",\"\",SUMIF('الرصيد الثابت'!$D$2:$D$106,B947,'الرصيد الثابت'!$I$2:$I$106))","v":""},{"$f":"IF(B947=\"\",\"\",SUMIF('الرصيد الثابت'!$D$2:$D$106,B947,'الرصيد الثابت'!$J$2:$J$106))","v":""},null,0,null,null,null,null,0,null,null,null,0,null,0,null,null,null,null,null,null,null,null,null,null,null,null,null,null,null,null,null,null,null,null,null,null,null,null,null,null,null,null,null,null,null,null,null,null,null,null,null,null,null,null,null,null,null,null,null,null,null,null,null,null,null,null,null,null,null,null,null,null,null,null,null,null,null,null,null,{"$f":"IFERROR(VLOOKUP(ROWS($CF$3:CF947),$CH$3:$CI$2001,2,FALSE),\"\")","v":""},null,{"$f":"IF(ISNUMBER(SEARCH(B947,CI947)),MAX($CH$2:CH946)+1,0)","v":0},{"$f":"'الرصيد الثابت'!#REF!","v":{"$error":"#REF!"}}]
["",null,{"$f":"IF(B951=\"\",\"\",SUMIF('الرصيد الثابت'!$D$2:$D$106,B951,'الرصيد الثابت'!$H$2:$H$106))","v":""},{"$f":"IF(B951=\"\",\"\",SUMIF('الرصيد الثابت'!$D$2:$D$106,B951,'الرصيد الثابت'!$I$2:$I$106))","v":""},{"$f":"IF(B951=\"\",\"\",SUMIF('الرصيد الثابت'!$D$2:$D$106,B951,'الرصيد الثابت'!$J$2:$J$106))","v":""},null,0,null,null,null,null,0,null,null,null,0,null,0,null,null,null,null,null,null,null,null,null,null,null,null,null,null,null,null,null,null,null,null,null,null,null,null,null,null,null,null,null,null,null,null,null,null,null,null,null,null,null,null,null,null,null,null,null,null,null,null,null,null,null,null,null,null,null,null,null,null,null,null,null,null,null,null,null,{"$f":"IFERROR(VLOOKUP(ROWS($CF$3:CF951),$CH$3:$CI$2001,2,FALSE),\"\")","v":""},null,{"$f":"IF(ISNUMBER(SEARCH(B951,CI951)),MAX($CH$2:CH950)+1,0)","v":0},{"$f":"'الرصيد الثابت'!#REF!","v":{"$error":"#REF!"}}]
[{"$f":"IF(B84590<>\"\",IF(A84590=\"\",NOW(),A84590),\"\")","v":""},null,{"$f":"IF(B952=\"\",\"\",SUMIF('الرصيد الثابت'!$D$2:$D$106,B952,'الرصيد الثابت'!$H$2:$H$106))","v":""},{"$f":"IF(B952=\"\",\"\",SUMIF('الرصيد الثابت'!$D$2:$D$106,B952,'الرصيد الثابت'!$I$2:$I$106))","v":""},{"$f":"IF(B952=\"\",\"\",SUMIF('الرصيد الثابت'!$D$2:$D$106,B952,'الرصيد الثابت'!$J$2:$J$106))","v":""},null,{"$f":"SUM(H84590*F84590)","v":0},null,null,null,null,0,null,null,null,{"$f":"SUM(F84590-K84590)","v":0},null,{"$f":"SUM(S84590*Q84590)","v":0},null,null,null,null,null,null,null,null,null,null,null,null,null,null,null,null,null,null,null,null,null,null,null,null,null,null,null,null,null,null,null,null,null,null,null,null,null,null,null,null,null,null,null,null,null,null,null,null,null,null,null,null,null,null,null,null,null,null,null,null,null,null,null,null,null,{"$f":"IFERROR(VLOOKUP(ROWS($CF$3:CF952),$CH$3:$CI$2001,2,FALSE),\"\")","v":""},null,{"$f":"IF(ISNUMBER(SEARCH(B952,CI952)),MAX($CH$2:CH951)+1,0)","v":0},{"$f":"'الرصيد الثابت'!#REF!","v":{"$error":"#REF!"}}]
["",null,{"$f":"IF(B957=\"\",\"\",SUMIF('الرصيد الثابت'!$D$2:$D$106,B957,'الرصيد الثابت'!$H$2:$H$106))","v":""},{"$f":"IF(B957=\"\",\"\",SUMIF('الرصيد الثابت'!$D$2:$D$106,B957,'الرصيد الثابت'!$I$2:$I$106))","v":""},{"$f":"IF(B957=\"\",\"\",SUMIF('الرصيد الثابت'!$D$2:$D$106,B957,'الرصيد الثابت'!$J$2:$J$106))","v":""},null,0,null,null,null,null,0,null,null,null,0,null,0,null,null,null,null,null,null,null,null,null,null,null,null,null,null,null,null,null,null,null,null,null,null,null,null,null,null,null,null,null,null,null,null,null,null,null,null,null,null,null,null,null,null,null,null,null,null,null,null,null,null,null,null,null,null,null,null,null,null,null,null,null,null,null,null,null,{"$f":"IFERROR(VLOOKUP(ROWS($CF$3:CF957),$CH$3:$CI$2001,2,FALSE),\"\")","v":""},null,{"$f":"IF(ISNUMBER(SEARCH(B957,CI957)),MAX($CH$2:CH956)+1,0)","v":0},{"$f":"'الرصيد الثابت'!#REF!","v":{"$error":"#REF!"}}]
["",null,{"$f":"IF(B962=\"\",\"\",SUMIF('الرصيد الثابت'!$D$2:$D$106,B962,'الرصيد الثابت'!$H$2:$H$106))","v":""},{"$f":"IF(B962=\"\",\"\",SUMIF('الرصيد الثابت'!$D$2:$D$106,B962,'الرصيد الثابت'!$I$2:$I$106))","v":""},{"$f":"IF(B962=\"\",\"\",SUMIF('الرصيد الثابت'!$D$2:$D$106,B962,'الرصيد الثابت'!$J$2:$J$106))","v":""},null,0,null,null,null,null,0,null,null,null,0,null,0,null,null,null,null,null,null,null,null,null,null,null,null,null,null,null,null,null,null,null,null,null,null,null,null,null,null,null,null,null,null,null,null,null,null,null,null,null,null,null,null,null,null,null,null,null,null,null,null,null,null,null,null,null,null,null,null,null,null,null,null,null,null,null,null,null,{"$f":"IFERROR(VLOOKUP(ROWS($CF$3:CF962),$CH$3:$CI$2001,2,FALSE),\"\")","v":""},null,{"$f":"IF(ISNUMBER(SEARCH(B962,CI962)),MAX($CH$2:CH961)+1,0)","v":0},{"$f":"'الرصيد الثابت'!#REF!","v":{"$error":"#REF!"}}]
["",null,{"$f":"IF(B967=\"\",\"\",SUMIF('الرصيد الثابت'!$D$2:$D$106,B967,'الرصيد الثابت'!$H$2:$H$106))","v":""},{"$f":"IF(B967=\"\",\"\",SUMIF('الرصيد الثابت'!$D$2:$D$106,B967,'الرصيد الثابت'!$I$2:$I$106))","v":""},{"$f":"IF(B967=\"\",\"\",SUMIF('الرصيد الثابت'!$D$2:$D$106,B967,'الرصيد الثابت'!$J$2:$J$106))","v":""},null,0,null,null,null,null,0,null,null,null,0,null,0,null,null,null,null,null,null,null,null,null,null,null,null,null,null,null,null,null,null,null,null,null,null,null,null,null,null,null,null,null,null,null,null,null,null,null,null,null,null,null,null,null,null,null,null,null,null,null,null,null,null,null,null,null,null,null,null,null,null,null,null,null,null,null,null,null,{"$f":"IFERROR(VLOOKUP(ROWS($CF$3:CF967),$CH$3:$CI$2001,2,FALSE),\"\")","v":""},null,{"$f":"IF(ISNUMBER(SEARCH(B967,CI967)),MAX($CH$2:CH966)+1,0)","v":0},{"$f":"'الرصيد الثابت'!#REF!","v":{"$error":"#REF!"}}]
["",null,{"$f":"IF(B968=\"\",\"\",SUMIF('الرصيد الثابت'!$D$2:$D$106,B968,'الرصيد الثابت'!$H$2:$H$106))","v":""},{"$f":"IF(B968=\"\",\"\",SUMIF('الرصيد الثابت'!$D$2:$D$106,B968,'الرصيد الثابت'!$I$2:$I$106))","v":""},{"$f":"IF(B968=\"\",\"\",SUMIF('الرصيد الثابت'!$D$2:$D$106,B968,'الرصيد الثابت'!$J$2:$J$106))","v":""},null,0,null,null,null,null,0,null,null,null,0,null,0,null,null,null,null,null,null,null,null,null,null,null,null,null,null,null,null,null,null,null,null,null,null,null,null,null,null,null,null,null,null,null,null,null,null,null,null,null,null,null,null,null,null,null,null,null,null,null,null,null,null,null,null,null,null,null,null,null,null,null,null,null,null,null,null,null,{"$f":"IFERROR(VLOOKUP(ROWS($CF$3:CF968),$CH$3:$CI$2001,2,FALSE),\"\")","v":""},null,{"$f":"IF(ISNUMBER(SEARCH(B968,CI968)),MAX($CH$2:CH967)+1,0)","v":0},{"$f":"'الرصيد الثابت'!#REF!","v":{"$error":"#REF!"}}]
["",null,{"$f":"IF(B973=\"\",\"\",SUMIF('الرصيد الثابت'!$D$2:$D$106,B973,'الرصيد الثابت'!$H$2:$H$106))","v":""},{"$f":"IF(B973=\"\",\"\",SUMIF('الرصيد الثابت'!$D$2:$D$106,B973,'الرصيد الثابت'!$I$2:$I$106))","v":""},{"$f":"IF(B973=\"\",\"\",SUMIF('الرصيد الثابت'!$D$2:$D$106,B973,'الرصيد الثابت'!$J$2:$J$106))","v":""},null,0,null,null,null,null,0,null,null,null,0,null,0,null,null,null,null,null,null,null,null,null,null,null,null,null,null,null,null,null,null,null,null,null,null,null,null,null,null,null,null,null,null,null,null,null,null,null,null,null,null,null,null,null,null,null,null,null,null,null,null,null,null,null,null,null,null,null,null,null,null,null,null,null,null,null,null,null,{"$f":"IFERROR(VLOOKUP(ROWS($CF$3:CF973),$CH$3:$CI$2001,2,FALSE),\"\")","v":""},null,{"$f":"IF(ISNUMBER(SEARCH(B973,CI973)),MAX($CH$2:CH972)+1,0)","v":0},{"$f":"'الرصيد الثابت'!#REF!","v":{"$error":"#REF!"}}]
["",null,{"$f":"IF(B978=\"\",\"\",SUMIF('الرصيد الثابت'!$D$2:$D$106,B978,'الرصيد الثابت'!$H$2:$H$106))","v":""},{"$f":"IF(B978=\"\",\"\",SUMIF('الرصيد الثابت'!$D$2:$D$106,B978,'الرصيد الثابت'!$I$2:$I$106))","v":""},{"$f":"IF(B978=\"\",\"\",SUMIF('الرصيد الثابت'!$D$2:$D$106,B978,'الرصيد الثابت'!$J$2:$J$106))","v":""},null,0,null,null,null,null,0,null,null,null,0,null,0,null,null,null,null,null,null,null,null,null,null,null,null,null,null,null,null,null,null,null,null,null,null,null,null,null,null,null,null,null,null,null,null,null,null,null,null,null,null,null,null,null,null,null,null,null,null,null,null,null,null,null,null,null,null,null,null,null,null,null,null,null,null,null,null,null,{"$f":"IFERROR(VLOOKUP(ROWS($CF$3:CF978),$CH$3:$CI$2001,2,FALSE),\"\")","v":""},null,{"$f":"IF(ISNUMBER(SEARCH(B978,CI978)),MAX($CH$2:CH977)+1,0)","v":0},{"$f":"'الرصيد الثابت'!#REF!","v":{"$error":"#REF!"}}]
["",null,{"$f":"IF(B983=\"\",\"\",SUMIF('الرصيد الثابت'!$D$2:$D$106,B983,'الرصيد الثابت'!$H$2:$H$106))","v":""},{"$f":"IF(B983=\"\",\"\",SUMIF('الرصيد الثابت'!$D$2:$D$106,B983,'الرصيد الثابت'!$I$2:$I$106))","v":""},{"$f":"IF(B983=\"\",\"\",SUMIF('الرصيد الثابت'!$D$2:$D$106,B983,'الرصيد الثابت'!$J$2:$J$106))","v":""},null,0,null,null,null,null,0,null,null,null,0,null,0,null,null,null,null,null,null,null,null,null,null,null,null,null,null,null,null,null,null,null,null,null,null,null,null,null,null,null,null,null,null,null,null,null,null,null,null,null,null,null,null,null,null,null,null,null,null,null,null,null,null,null,null,null,null,null,null,null,null,null,null,null,null,null,null,null,{"$f":"IFERROR(VLOOKUP(ROWS($CF$3:CF983),$CH$3:$CI$2001,2,FALSE),\"\")","v":""},null,{"$f":"IF(ISNUMBER(SEARCH(B983,CI983)),MAX($CH$2:CH982)+1,0)","v":0},{"$f":"'الرصيد الثابت'!#REF!","v":{"$error":"#REF!"}}]
["",null,{"$f":"IF(B984=\"\",\"\",SUMIF('الرصيد الثابت'!$D$2:$D$106,B984,'الرصيد الثابت'!$H$2:$H$106))","v":""},{"$f":"IF(B984=\"\",\"\",SUMIF('الرصيد الثابت'!$D$2:$D$106,B984,'الرصيد الثابت'!$I$2:$I$106))","v":""},{"$f":"IF(B984=\"\",\"\",SUMIF('الرصيد الثابت'!$D$2:$D$106,B984,'الرصيد الثابت'!$J$2:$J$106))","v":""},null,0,null,null,null,null,0,null,null,null,0,null,0,null,null,null,null,null,null,null,null,null,null,null,null,null,null,null,null,null,null,null,null,null,null,null,null,null,null,null,null,null,null,null,null,null,null,null,null,null,null,null,null,null,null,null,null,null,null,null,null,null,null,null,null,null,null,null,null,null,null,null,null,null,null,null,null,null,{"$f":"IFERROR(VLOOKUP(ROWS($CF$3:CF984),$CH$3:$CI$2001,2,FALSE),\"\")","v":""},null,{"$f":"IF(ISNUMBER(SEARCH(B984,CI984)),MAX($CH$2:CH983)+1,0)","v":0},{"$f":"'الرصيد الثابت'!#REF!","v":{"$error":"#REF!"}}]
["",null,{"$f":"IF(B989=\"\",\"\",SUMIF('الرصيد الثابت'!$D$2:$D$106,B989,'الرصيد الثابت'!$H$2:$H$106))","v":""},{"$f":"IF(B989=\"\",\"\",SUMIF('الرصيد الثابت'!$D$2:$D$106,B989,'الرصيد الثابت'!$I$2:$I$106))","v":""},{"$f":"IF(B989=\"\",\"\",SUMIF('الرصيد الثابت'!$D$2:$D$106,B989,'الرصيد الثابت'!$J$2:$J$106))","v":""},null,0,null,null,null,null,0,null,null,null,0,null,0,null,null,null,null,null,null,null,null,null,null,null,null,null,null,null,null,null,null,null,null,null,null,null,null,null,null,null,null,null,null,null,null,null,null,null,null,null,null,null,null,null,null,null,null,null,null,null,null,null,null,null,null,null,null,null,null,null,null,null,null,null,null,null,null,null,{"$f":"IFERROR(VLOOKUP(ROWS($CF$3:CF989),$CH$3:$CI$2001,2,FALSE),\"\")","v":""},null,{"$f":"IF(ISNUMBER(SEARCH(B989,CI989)),MAX($CH$2:CH988)+1,0)","v":0},{"$f":"'الرصيد الثابت'!#REF!","v":{"$error":"#REF!"}}]
["",null,{"$f":"IF(B994=\"\",\"\",SUMIF('الرصيد الثابت'!$D$2:$D$106,B994,'الرصيد الثابت'!$H$2:$H$106))","v":""},{"$f":"IF(B994=\"\",\"\",SUMIF('الرصيد الثابت'!$D$2:$D$106,B994,'الرصيد الثابت'!$I$2:$I$106))","v":""},{"$f":"IF(B994=\"\",\"\",SUMIF('الرصيد الثابت'!$D$2:$D$106,B994,'الرصيد الثابت'!$J$2:$J$106))","v":""},null,0,null,null,null,null,0,null,null,null,0,null,0,null,null,null,null,null,null,null,null,null,null,null,null,null,null,null,null,null,null,null,null,null,null,null,null,null,null,null,null,null,null,null,null,null,null,null,null,null,null,null,null,null,null,null,null,null,null,null,null,null,null,null,null,null,null,null,null,null,null,null,null,null,null,null,null,null,{"$f":"IFERROR(VLOOKUP(ROWS($CF$3:CF994),$CH$3:$CI$2001,2,FALSE),\"\")","v":""},null,{"$f":"IF(ISNUMBER(SEARCH(B994,CI994)),MAX($CH$2:CH993)+1,0)","v":0},{"$f":"'الرصيد الثابت'!#REF!","v":{"$error":"#REF!"}}]
["",null,{"$f":"IF(B999=\"\",\"\",SUMIF('الرصيد الثابت'!$D$2:$D$106,B999,'الرصيد الثابت'!$H$2:$H$106))","v":""},{"$f":"IF(B999=\"\",\"\",SUMIF('الرصيد الثابت'!$D$2:$D$106,B999,'الرصيد الثابت'!$I$2:$I$106))","v":""},{"$f":"IF(B999=\"\",\"\",SUMIF('الرصيد الثابت'!$D$2:$D$106,B999,'الرصيد الثابت'!$J$2:$J$106))","v":""},null,0,null,null,null,null,0,null,null,null,0,null,0,null,null,null,null,null,null,null,null,null,null,null,null,null,null,null,null,null,null,null,null,null,null,null,null,null,null,null,null,null,null,null,null,null,null,null,null,null,null,null,null,null,null,null,null,null,null,null,null,null,null,null,null,null,null,null,null,null,null,null,null,null,null,null,null,null,{"$f":"IFERROR(VLOOKUP(ROWS($CF$3:CF999),$CH$3:$CI$2001,2,FALSE),\"\")","v":""},null,{"$f":"IF(ISNUMBER(SEARCH(B999,CI999)),MAX($CH$2:CH998)+1,0)","v":0},{"$f":"'الرصيد الثابت'!#REF!","v":{"$error":"#REF!"}}]
["",null,{"$f":"IF(B1000=\"\",\"\",SUMIF('الرصيد الثابت'!$D$2:$D$106,B1000,'الرصيد الثابت'!$H$2:$H$106))","v":""},{"$f":"IF(B1000=\"\",\"\",SUMIF('الرصيد الثابت'!$D$2:$D$106,B1000,'الرصيد الثابت'!$I$2:$I$106))","v":""},{"$f":"IF(B1000=\"\",\"\",SUMIF('الرصيد الثابت'!$D$2:$D$106,B1000,'الرصيد الثابت'!$J$2:$J$106))","v":""},null,0,null,null,null,null,0,null,null,null,0,null,0,null,null,null,null,null,null,null,null,null,null,null,null,null,null,null,null,null,null,null,null,null,null,null,null,null,null,null,null,null,null,null,null,null,null,null,null,null,null,null,null,null,null,null,null,null,null,null,null,null,null,null,null,null,null,null,null,null,null,null,null,null,null,null,null,null,{"$f":"IFERROR(VLOOKUP(ROWS($CF$3:CF1000),$CH$3:$CI$2001,2,FALSE),\"\")","v":""},null,{"$f":"IF(ISNUMBER(SEARCH(B1000,CI1000)),MAX($CH$2:CH999)+1,0)","v":0},{"$f":"'الرصيد الثابت'!#REF!","v":{"$error":"#REF!"}}]
["",null,{"$f":"IF(B1005=\"\",\"\",SUMIF('الرصيد الثابت'!$D$2:$D$106,B1005,'الرصيد الثابت'!$H$2:$H$106))","v":""},{"$f":"IF(B1005=\"\",\"\",SUMIF('الرصيد الثابت'!$D$2:$D$106,B1005,'الرصيد الثابت'!$I$2:$I$106))","v":""},{"$f":"IF(B1005=\"\",\"\",SUMIF('الرصيد الثابت'!$D$2:$D$106,B1005,'الرصيد الثابت'!$J$2:$J$106))","v":""},null,0,null,null,null,null,0,null,null,null,0,null,0,null,null,null,null,null,null,null,null,null,null,null,null,null,null,null,null,null,null,null,null,null,null,null,null,null,null,null,null,null,null,null,null,null,null,null,null,null,null,null,null,null,null,null,null,null,null,null,null,null,null,null,null,null,null,null,null,null,null,null,null,null,null,null,null,null,{"$f":"IFERROR(VLOOKUP(ROWS($CF$3:CF1005),$CH$3:$CI$2001,2,FALSE),\"\")","v":""},null,{"$f":"IF(ISNUMBER(SEARCH(B1005,CI1005)),MAX($CH$2:CH1004)+1,0)","v":0},{"$f":"'الرصيد الثابت'!#REF!","v":{"$error":"#REF!"}}]
["",null,{"$f":"IF(B1009=\"\",\"\",SUMIF('الرصيد الثابت'!$D$2:$D$106,B1009,'الرصيد الثابت'!$H$2:$H$106))","v":""},{"$f":"IF(B1009=\"\",\"\",SUMIF('الرصيد الثابت'!$D$2:$D$106,B1009,'الرصيد الثابت'!$I$2:$I$106))","v":""},{"$f":"IF(B1009=\"\",\"\",SUMIF('الرصيد الثابت'!$D$2:$D$106,B1009,'الرصيد الثابت'!$J$2:$J$106))","v":""},null,0,null,null,null,null,0,null,null,null,0,null,0,null,null,null,null,null,null,null,null,null,null,null,null,null,null,null,null,null,null,null,null,null,null,null,null,null,null,null,null,null,null,null,null,null,null,null,null,null,null,null,null,null,null,null,null,null,null,null,null,null,null,null,null,null,null,null,null,null,null,null,null,null,null,null,null,null,{"$f":"IFERROR(VLOOKUP(ROWS($CF$3:CF1009),$CH$3:$CI$2001,2,FALSE),\"\")","v":""},null,{"$f":"IF(ISNUMBER(SEARCH(B1009,CI1009)),MAX($CH$2:CH1008)+1,0)","v":0},{"$f":"'الرصيد الثابت'!#REF!","v":{"$error":"#REF!"}}]
["",null,{"$f":"IF(B1014=\"\",\"\",SUMIF('الرصيد الثابت'!$D$2:$D$106,B1014,'الرصيد الثابت'!$H$2:$H$106))","v":""},{"$f":"IF(B1014=\"\",\"\",SUMIF('الرصيد الثابت'!$D$2:$D$106,B1014,'الرصيد الثابت'!$I$2:$I$106))","v":""},{"$f":"IF(B1014=\"\",\"\",SUMIF('الرصيد الثابت'!$D$2:$D$106,B1014,'الرصيد الثابت'!$J$2:$J$106))","v":""},null,0,null,null,null,null,0,null,null,null,0,null,0,null,null,null,null,null,null,null,null,null,null,null,null,null,null,null,null,null,null,null,null,null,null,null,null,null,null,null,null,null,null,null,null,null,null,null,null,null,null,null,null,null,null,null,null,null,null,null,null,null,null,null,null,null,null,null,null,null,null,null,null,null,null,null,null,null,{"$f":"IFERROR(VLOOKUP(ROWS($CF$3:CF1014),$CH$3:$CI$2001,2,FALSE),\"\")","v":""},null,{"$f":"IF(ISNUMBER(SEARCH(B1014,CI1014)),MAX($CH$2:CH1013)+1,0)","v":0},{"$f":"'الرصيد الثابت'!#REF!","v":{"$error":"#REF!"}}]
["",null,{"$f":"IF(B1015=\"\",\"\",SUMIF('الرصيد الثابت'!$D$2:$D$106,B1015,'الرصيد الثابت'!$H$2:$H$106))","v":""},{"$f":"IF(B1015=\"\",\"\",SUMIF('الرصيد الثابت'!$D$2:$D$106,B1015,'الرصيد الثابت'!$I$2:$I$106))","v":""},{"$f":"IF(B1015=\"\",\"\",SUMIF('الرصيد الثابت'!$D$2:$D$106,B1015,'الرصيد الثابت'!$J$2:$J$106))","v":""},null,0,null,null,null,null,0,null,null,null,0,null,0,null,null,null,null,null,null,null,null,null,null,null,null,null,null,null,null,null,null,null,null,null,null,null,null,null,null,null,null,null,null,null,null,null,null,null,null,null,null,null,null,null,null,null,null,null,null,null,null,null,null,null,null,null,null,null,null,null,null,null,null,null,null,null,null,null,{"$f":"IFERROR(VLOOKUP(ROWS($CF$3:CF1015),$CH$3:$CI$2001,2,FALSE),\"\")","v":""},null,{"$f":"IF(ISNUMBER(SEARCH(B1015,CI1015)),MAX($CH$2:CH1014)+1,0)","v":0},{"$f":"'الرصيد الثابت'!#REF!","v":{"$error":"#REF!"}}]
["",null,{"$f":"IF(B1020=\"\",\"\",SUMIF('الرصيد الثابت'!$D$2:$D$106,B1020,'الرصيد الثابت'!$H$2:$H$106))","v":""},{"$f":"IF(B1020=\"\",\"\",SUMIF('الرصيد الثابت'!$D$2:$D$106,B1020,'الرصيد الثابت'!$I$2:$I$106))","v":""},{"$f":"IF(B1020=\"\",\"\",SUMIF('الرصيد الثابت'!$D$2:$D$106,B1020,'الرصيد الثابت'!$J$2:$J$106))","v":""},null,0,null,null,null,null,0,null,null,null,0,null,0,null,null,null,null,null,null,null,null,null,null,null,null,null,null,null,null,null,null,null,null,null,null,null,null,null,null,null,null,null,null,null,null,null,null,null,null,null,null,null,null,null,null,null,null,null,null,null,null,null,null,null,null,null,null,null,null,null,null,null,null,null,null,null,null,null,{"$f":"IFERROR(VLOOKUP(ROWS($CF$3:CF1020),$CH$3:$CI$2001,2,FALSE),\"\")","v":""},null,{"$f":"IF(ISNUMBER(SEARCH(B1020,CI1020)),MAX($CH$2:CH1019)+1,0)","v":0},{"$f":"'الرصيد الثابت'!#REF!","v":{"$error":"#REF!"}}]
["",null,{"$f":"IF(B1025=\"\",\"\",SUMIF('الرصيد الثابت'!$D$2:$D$106,B1025,'الرصيد الثابت'!$H$2:$H$106))","v":""},{"$f":"IF(B1025=\"\",\"\",SUMIF('الرصيد الثابت'!$D$2:$D$106,B1025,'الرصيد الثابت'!$I$2:$I$106))","v":""},{"$f":"IF(B1025=\"\",\"\",SUMIF('الرصيد الثابت'!$D$2:$D$106,B1025,'الرصيد الثابت'!$J$2:$J$106))","v":""},null,0,null,null,null,null,0,null,null,null,0,null,0,null,null,null,null,null,null,null,null,null,null,null,null,null,null,null,null,null,null,null,null,null,null,null,null,null,null,null,null,null,null,null,null,null,null,null,null,null,null,null,null,null,null,null,null,null,null,null,null,null,null,null,null,null,null,null,null,null,null,null,null,null,null,null,null,null,{"$f":"IFERROR(VLOOKUP(ROWS($CF$3:CF1025),$CH$3:$CI$2001,2,FALSE),\"\")","v":""},null,{"$f":"IF(ISNUMBER(SEARCH(B1025,CI1025)),MAX($CH$2:CH1024)+1,0)","v":0},{"$f":"'الرصيد الثابت'!#REF!","v":{"$error":"#REF!"}}]
["",null,{"$f":"IF(B1030=\"\",\"\",SUMIF('الرصيد الثابت'!$D$2:$D$106,B1030,'الرصيد الثابت'!$H$2:$H$106))","v":""},{"$f":"IF(B1030=\"\",\"\",SUMIF('الرصيد الثابت'!$D$2:$D$106,B1030,'الرصيد الثابت'!$I$2:$I$106))","v":""},{"$f":"IF(B1030=\"\",\"\",SUMIF('الرصيد الثابت'!$D$2:$D$106,B1030,'الرصيد الثابت'!$J$2:$J$106))","v":""},null,0,null,null,null,null,0,null,null,null,0,null,0,null,null,null,null,null,null,null,null,null,null,null,null,null,null,null,null,null,null,null,null,null,null,null,null,null,null,null,null,null,null,null,null,null,null,null,null,null,null,null,null,null,null,null,null,null,null,null,null,null,null,null,null,null,null,null,null,null,null,null,null,null,null,null,null,null,{"$f":"IFERROR(VLOOKUP(ROWS($CF$3:CF1030),$CH$3:$CI$2001,2,FALSE),\"\")","v":""},null,{"$f":"IF(ISNUMBER(SEARCH(B1030,CI1030)),MAX($CH$2:CH1029)+1,0)","v":0},{"$f":"'الرصيد الثابت'!#REF!","v":{"$error":"#REF!"}}]
["",null,{"$f":"IF(B1031=\"\",\"\",SUMIF('الرصيد الثابت'!$D$2:$D$106,B1031,'الرصيد الثابت'!$H$2:$H$106))","v":""},{"$f":"IF(B1031=\"\",\"\",SUMIF('الرصيد الثابت'!$D$2:$D$106,B1031,'الرصيد الثابت'!$I$2:$I$106))","v":""},{"$f":"IF(B1031=\"\",\"\",SUMIF('الرصيد الثابت'!$D$2:$D$106,B1031,'الرصيد الثابت'!$J$2:$J$106))","v":""},null,0,null,null,null,null,0,null,null,null,0,null,0,null,null,null,null,null,null,null,null,null,null,null,null,null,null,null,null,null,null,null,null,null,null,null,null,null,null,null,null,null,null,null,null,null,null,null,null,null,null,null,null,null,null,null,null,null,null,null,null,null,null,null,null,null,null,null,null,null,null,null,null,null,null,null,null,null,{"$f":"IFERROR(VLOOKUP(ROWS($CF$3:CF1031),$CH$3:$CI$2001,2,FALSE),\"\")","v":""},null,{"$f":"IF(ISNUMBER(SEARCH(B1031,CI1031)),MAX($CH$2:CH1030)+1,0)","v":0},{"$f":"'الرصيد الثابت'!#REF!","v":{"$error":"#REF!"}}]
["",null,{"$f":"IF(B1036=\"\",\"\",SUMIF('الرصيد الثابت'!$D$2:$D$106,B1036,'الرصيد الثابت'!$H$2:$H$106))","v":""},{"$f":"IF(B1036=\"\",\"\",SUMIF('الرصيد الثابت'!$D$2:$D$106,B1036,'الرصيد الثابت'!$I$2:$I$106))","v":""},{"$f":"IF(B1036=\"\",\"\",SUMIF('الرصيد الثابت'!$D$2:$D$106,B1036,'الرصيد الثابت'!$J$2:$J$106))","v":""},null,0,null,null,null,null,0,null,null,null,0,null,0,null,null,null,null,null,null,null,null,null,null,null,null,null,null,null,null,null,null,null,null,null,null,null,null,null,null,null,null,null,null,null,null,null,null,null,null,null,null,null,null,null,null,null,null,null,null,null,null,null,null,null,null,null,null,null,null,null,null,null,null,null,null,null,null,null,{"$f":"IFERROR(VLOOKUP(ROWS($CF$3:CF1036),$CH$3:$CI$2001,2,FALSE),\"\")","v":""},null,{"$f":"IF(ISNUMBER(SEARCH(B1036,CI1036)),MAX($CH$2:CH1035)+1,0)","v":0},{"$f":"'الرصيد الثابت'!#REF!","v":{"$error":"#REF!"}}]
["",null,{"$f":"IF(B1041=\"\",\"\",SUMIF('الرصيد الثابت'!$D$2:$D$106,B1041,'الرصيد الثابت'!$H$2:$H$106))","v":""},{"$f":"IF(B1041=\"\",\"\",SUMIF('الرصيد الثابت'!$D$2:$D$106,B1041,'الرصيد الثابت'!$I$2:$I$106))","v":""},{"$f":"IF(B1041=\"\",\"\",SUMIF('الرصيد الثابت'!$D$2:$D$106,B1041,'الرصيد الثابت'!$J$2:$J$106))","v":""},null,0,null,null,null,null,0,null,null,null,0,null,0,null,null,null,null,null,null,null,null,null,null,null,null,null,null,null,null,null,null,null,null,null,null,null,null,null,null,null,null,null,null,null,null,null,null,null,null,null,null,null,null,null,null,null,null,null,null,null,null,null,null,null,null,null,null,null,null,null,null,null,null,null,null,null,null,null,{"$f":"IFERROR(VLOOKUP(ROWS($CF$3:CF1041),$CH$3:$CI$2001,2,FALSE),\"\")","v":""},null,{"$f":"IF(ISNUMBER(SEARCH(B1041,CI1041)),MAX($CH$2:CH1040)+1,0)","v":0},{"$f":"'الرصيد الثابت'!#REF!","v":{"$error":"#REF!"}}]
["",null,{"$f":"IF(B1046=\"\",\"\",SUMIF('الرصيد الثابت'!$D$2:$D$106,B1046,'الرصيد الثابت'!$H$2:$H$106))","v":""},{"$f":"IF(B1046=\"\",\"\",SUMIF('الرصيد الثابت'!$D$2:$D$106,B1046,'الرصيد الثابت'!$I$2:$I$106))","v":""},{"$f":"IF(B1046=\"\",\"\",SUMIF('الرصيد الثابت'!$D$2:$D$106,B1046,'الرصيد الثابت'!$J$2:$J$106))","v":""},null,0,null,null,null,null,0,null,null,null,0,null,0,null,null,null,null,null,null,null,null,null,null,null,null,null,null,null,null,null,null,null,null,null,null,null,null,null,null,null,null,null,null,null,null,null,null,null,null,null,null,null,null,null,null,null,null,null,null,null,null,null,null,null,null,null,null,null,null,null,null,null,null,null,null,null,null,null,{"$f":"IFERROR(VLOOKUP(ROWS($CF$3:CF1046),$CH$3:$CI$2001,2,FALSE),\"\")","v":""},null,{"$f":"IF(ISNUMBER(SEARCH(B1046,CI1046)),MAX($CH$2:CH1045)+1,0)","v":0},{"$f":"'الرصيد الثابت'!#REF!","v":{"$error":"#REF!"}}]
["",null,{"$f":"IF(B1047=\"\",\"\",SUMIF('الرصيد الثابت'!$D$2:$D$106,B1047,'الرصيد الثابت'!$H$2:$H$106))","v":""},{"$f":"IF(B1047=\"\",\"\",SUMIF('الرصيد الثابت'!$D$2:$D$106,B1047,'الرصيد الثابت'!$I$2:$I$106))","v":""},{"$f":"IF(B1047=\"\",\"\",SUMIF('الرصيد الثابت'!$D$2:$D$106,B1047,'الرصيد الثابت'!$J$2:$J$106))","v":""},null,0,null,null,null,null,0,null,null,null,0,null,0,null,null,null,null,null,null,null,null,null,null,null,null,null,null,null,null,null,null,null,null,null,null,null,null,null,null,null,null,null,null,null,null,null,null,null,null,null,null,null,null,null,null,null,null,null,null,null,null,null,null,null,null,null,null,null,null,null,null,null,null,null,null,null,null,null,{"$f":"IFERROR(VLOOKUP(ROWS($CF$3:CF1047),$CH$3:$CI$2001,2,FALSE),\"\")","v":""},null,{"$f":"IF(ISNUMBER(SEARCH(B1047,CI1047)),MAX($CH$2:CH1046)+1,0)","v":0},{"$f":"'الرصيد الثابت'!#REF!","v":{"$error":"#REF!"}}]
[{"$f":"IF(B94590<>\"\",IF(A94590=\"\",NOW(),A94590),\"\")","v":""},null,{"$f":"IF(B1052=\"\",\"\",SUMIF('الرصيد الثابت'!$D$2:$D$106,B1052,'الرصيد الثابت'!$H$2:$H$106))","v":""},{"$f":"IF(B1052=\"\",\"\",SUMIF('الرصيد الثابت'!$D$2:$D$106,B1052,'الرصيد الثابت'!$I$2:$I$106))","v":""},{"$f":"IF(B1052=\"\",\"\",SUMIF('الرصيد الثابت'!$D$2:$D$106,B1052,'الرصيد الثابت'!$J$2:$J$106))","v":""},null,{"$f":"SUM(H94590*F94590)","v":0},null,null,null,null,0,null,null,null,{"$f":"SUM(F94590-K94590)","v":0},null,{"$f":"SUM(S94590*Q94590)","v":0},null,null,null,null,null,null,null,null,null,null,null,null,null,null,null,null,null,null,null,null,null,null,null,null,null,null,null,null,null,null,null,null,null,null,null,null,null,null,null,null,null,null,null,null,null,null,null,null,null,null,null,null,null,null,null,null,null,null,null,null,null,null,null,null,null,{"$f":"IFERROR(VLOOKUP(ROWS($CF$3:CF1052),$CH$3:$CI$2001,2,FALSE),\"\")","v":""},null,{"$f":"IF(ISNUMBER(SEARCH(B1052,CI1052)),MAX($CH$2:CH1051)+1,0)","v":0},{"$f":"'الرصيد الثابت'!#REF!","v":{"$error":"#REF!"}}]
["",null,{"$f":"IF(B1057=\"\",\"\",SUMIF('الرصيد الثابت'!$D$2:$D$106,B1057,'الرصيد الثابت'!$H$2:$H$106))","v":""},{"$f":"IF(B1057=\"\",\"\",SUMIF('الرصيد الثابت'!$D$2:$D$106,B1057,'الرصيد الثابت'!$I$2:$I$106))","v":""},{"$f":"IF(B1057=\"\",\"\",SUMIF('الرصيد الثابت'!$D$2:$D$106,B1057,'الرصيد الثابت'!$J$2:$J$106))","v":""},null,0,null,null,null,null,0,null,null,null,0,null,0,null,null,null,null,null,null,null,null,null,null,null,null,null,null,null,null,null,null,null,null,null,null,null,null,null,null,null,null,null,null,null,null,null,null,null,null,null,null,null,null,null,null,null,null,null,null,null,null,null,null,null,null,null,null,null,null,null,null,null,null,null,null,null,null,null,{"$f":"IFERROR(VLOOKUP(ROWS($CF$3:CF1057),$CH$3:$CI$2001,2,FALSE),\"\")","v":""},null,{"$f":"IF(ISNUMBER(SEARCH(B1057,CI1057)),MAX($CH$2:CH1056)+1,0)","v":0},{"$f":"'الرصيد الثابت'!#REF!","v":{"$error":"#REF!"}}]
["",null,{"$f":"IF(B1060=\"\",\"\",SUMIF('الرصيد الثابت'!$D$2:$D$106,B1060,'الرصيد الثابت'!$H$2:$H$106))","v":""},{"$f":"IF(B1060=\"\",\"\",SUMIF('الرصيد الثابت'!$D$2:$D$106,B1060,'الرصيد الثابت'!$I$2:$I$106))","v":""},{"$f":"IF(B1060=\"\",\"\",SUMIF('الرصيد الثابت'!$D$2:$D$106,B1060,'الرصيد الثابت'!$J$2:$J$106))","v":""},null,0,null,null,null,null,0,null,null,null,0,null,0,null,null,null,null,null,null,null,null,null,null,null,null,null,null,null,null,null,null,null,null,null,null,null,null,null,null,null,null,null,null,null,null,null,null,null,null,null,null,null,null,null,null,null,null,null,null,null,null,null,null,null,null,null,null,null,null,null,null,null,null,null,null,null,null,null,{"$f":"IFERROR(VLOOKUP(ROWS($CF$3:CF1060),$CH$3:$CI$2001,2,FALSE),\"\")","v":""},null,{"$f":"IF(ISNUMBER(SEARCH(B1060,CI1060)),MAX($CH$2:CH1059)+1,0)","v":0},{"$f":"'الرصيد الثابت'!#REF!","v":{"$error":"#REF!"}}]
["",null,{"$f":"IF(B1062=\"\",\"\",SUMIF('الرصيد الثابت'!$D$2:$D$106,B1062,'الرصيد الثابت'!$H$2:$H$106))","v":""},{"$f":"IF(B1062=\"\",\"\",SUMIF('الرصيد الثابت'!$D$2:$D$106,B1062,'الرصيد الثابت'!$I$2:$I$106))","v":""},{"$f":"IF(B1062=\"\",\"\",SUMIF('الرصيد الثابت'!$D$2:$D$106,B1062,'الرصيد الثابت'!$J$2:$J$106))","v":""},null,0,null,null,null,null,0,null,null,null,0,null,0,null,null,null,null,null,null,null,null,null,null,null,null,null,null,null,null,null,null,null,null,null,null,null,null,null,null,null,null,null,null,null,null,null,null,null,null,null,null,null,null,null,null,null,null,null,null,null,null,null,null,null,null,null,null,null,null,null,null,null,null,null,null,null,null,null,{"$f":"IFERROR(VLOOKUP(ROWS($CF$3:CF1062),$CH$3:$CI$2001,2,FALSE),\"\")","v":""},null,{"$f":"IF(ISNUMBER(SEARCH(B1062,CI1062)),MAX($CH$2:CH1061)+1,0)","v":0},{"$f":"'الرصيد الثابت'!#REF!","v":{"$error":"#REF!"}}]
["",null,{"$f":"IF(B1067=\"\",\"\",SUMIF('الرصيد الثابت'!$D$2:$D$106,B1067,'الرصيد الثابت'!$H$2:$H$106))","v":""},{"$f":"IF(B1067=\"\",\"\",SUMIF('الرصيد الثابت'!$D$2:$D$106,B1067,'الرصيد الثابت'!$I$2:$I$106))","v":""},{"$f":"IF(B1067=\"\",\"\",SUMIF('الرصيد الثابت'!$D$2:$D$106,B1067,'الرصيد الثابت'!$J$2:$J$106))","v":""},null,0,null,null,null,null,0,null,null,null,0,null,0,null,null,null,null,null,null,null,null,null,null,null,null,null,null,null,null,null,null,null,null,null,null,null,null,null,null,null,null,null,null,null,null,null,null,null,null,null,null,null,null,null,null,null,null,null,null,null,null,null,null,null,null,null,null,null,null,null,null,null,null,null,null,null,null,null,{"$f":"IFERROR(VLOOKUP(ROWS($CF$3:CF1067),$CH$3:$CI$2001,2,FALSE),\"\")","v":""},null,{"$f":"IF(ISNUMBER(SEARCH(B1067,CI1067)),MAX($CH$2:CH1066)+1,0)","v":0},{"$f":"'الرصيد الثابت'!#REF!","v":{"$error":"#REF!"}}]
["",null,{"$f":"IF(B1072=\"\",\"\",SUMIF('الرصيد الثابت'!$D$2:$D$106,B1072,'الرصيد الثابت'!$H$2:$H$106))","v":""},{"$f":"IF(B1072=\"\",\"\",SUMIF('الرصيد الثابت'!$D$2:$D$106,B1072,'الرصيد الثابت'!$I$2:$I$106))","v":""},{"$f":"IF(B1072=\"\",\"\",SUMIF('الرصيد الثابت'!$D$2:$D$106,B1072,'الرصيد الثابت'!$J$2:$J$106))","v":""},null,0,null,null,null,null,0,null,null,null,0,null,0,null,null,null,null,null,null,null,null,null,null,null,null,null,null,null,null,null,null,null,null,null,null,null,null,null,null,null,null,null,null,null,null,null,null,null,null,null,null,null,null,null,null,null,null,null,null,null,null,null,null,null,null,null,null,null,null,null,null,null,null,null,null,null,null,null,{"$f":"IFERROR(VLOOKUP(ROWS($CF$3:CF1072),$CH$3:$CI$2001,2,FALSE),\"\")","v":""},null,{"$f":"IF(ISNUMBER(SEARCH(B1072,CI1072)),MAX($CH$2:CH1071)+1,0)","v":0},{"$f":"'الرصيد الثابت'!#REF!","v":{"$error":"#REF!"}}]
["",null,{"$f":"IF(B1077=\"\",\"\",SUMIF('الرصيد الثابت'!$D$2:$D$106,B1077,'الرصيد الثابت'!$H$2:$H$106))","v":""},{"$f":"IF(B1077=\"\",\"\",SUMIF('الرصيد الثابت'!$D$2:$D$106,B1077,'الرصيد الثابت'!$I$2:$I$106))","v":""},{"$f":"IF(B1077=\"\",\"\",SUMIF('الرصيد الثابت'!$D$2:$D$106,B1077,'الرصيد الثابت'!$J$2:$J$106))","v":""},null,0,null,null,null,null,0,null,null,null,0,null,0,null,null,null,null,null,null,null,null,null,null,null,null,null,null,null,null,null,null,null,null,null,null,null,null,null,null,null,null,null,null,null,null,null,null,null,null,null,null,null,null,null,null,null,null,null,null,null,null,null,null,null,null,null,null,null,null,null,null,null,null,null,null,null,null,null,{"$f":"IFERROR(VLOOKUP(ROWS($CF$3:CF1077),$CH$3:$CI$2001,2,FALSE),\"\")","v":""},null,{"$f":"IF(ISNUMBER(SEARCH(B1077,CI1077)),MAX($CH$2:CH1076)+1,0)","v":0},{"$f":"'الرصيد الثابت'!#REF!","v":{"$error":"#REF!"}}]
["",null,{"$f":"IF(B1078=\"\",\"\",SUMIF('الرصيد الثابت'!$D$2:$D$106,B1078,'الرصيد الثابت'!$H$2:$H$106))","v":""},{"$f":"IF(B1078=\"\",\"\",SUMIF('الرصيد الثابت'!$D$2:$D$106,B1078,'الرصيد الثابت'!$I$2:$I$106))","v":""},{"$f":"IF(B1078=\"\",\"\",SUMIF('الرصيد الثابت'!$D$2:$D$106,B1078,'الرصيد الثابت'!$J$2:$J$106))","v":""},null,0,null,null,null,null,0,null,null,null,0,null,0,null,null,null,null,null,null,null,null,null,null,null,null,null,null,null,null,null,null,null,null,null,null,null,null,null,null,null,null,null,null,null,null,null,null,null,null,null,null,null,null,null,null,null,null,null,null,null,null,null,null,null,null,null,null,null,null,null,null,null,null,null,null,null,null,null,{"$f":"IFERROR(VLOOKUP(ROWS($CF$3:CF1078),$CH$3:$CI$2001,2,FALSE),\"\")","v":""},null,{"$f":"IF(ISNUMBER(SEARCH(B1078,CI1078)),MAX($CH$2:CH1077)+1,0)","v":0},{"$f":"'الرصيد الثابت'!#REF!","v":{"$error":"#REF!"}}]
["",null,{"$f":"IF(B1083=\"\",\"\",SUMIF('الرصيد الثابت'!$D$2:$D$106,B1083,'الرصيد الثابت'!$H$2:$H$106))","v":""},{"$f":"IF(B1083=\"\",\"\",SUMIF('الرصيد الثابت'!$D$2:$D$106,B1083,'الرصيد الثابت'!$I$2:$I$106))","v":""},{"$f":"IF(B1083=\"\",\"\",SUMIF('الرصيد الثابت'!$D$2:$D$106,B1083,'الرصيد الثابت'!$J$2:$J$106))","v":""},null,0,null,null,null,null,0,null,null,null,0,null,0,null,null,null,null,null,null,null,null,null,null,null,null,null,null,null,null,null,null,null,null,null,null,null,null,null,null,null,null,null,null,null,null,null,null,null,null,null,null,null,null,null,null,null,null,null,null,null,null,null,null,null,null,null,null,null,null,null,null,null,null,null,null,null,null,null,{"$f":"IFERROR(VLOOKUP(ROWS($CF$3:CF1083),$CH$3:$CI$2001,2,FALSE),\"\")","v":""},null,{"$f":"IF(ISNUMBER(SEARCH(B1083,CI1083)),MAX($CH$2:CH1082)+1,0)","v":0},{"$f":"'الرصيد الثابت'!#REF!","v":{"$error":"#REF!"}}]
["",null,{"$f":"IF(B1088=\"\",\"\",SUMIF('الرصيد الثابت'!$D$2:$D$106,B1088,'الرصيد الثابت'!$H$2:$H$106))","v":""},{"$f":"IF(B1088=\"\",\"\",SUMIF('الرصيد الثابت'!$D$2:$D$106,B1088,'الرصيد الثابت'!$I$2:$I$106))","v":""},{"$f":"IF(B1088=\"\",\"\",SUMIF('الرصيد الثابت'!$D$2:$D$106,B1088,'الرصيد الثابت'!$J$2:$J$106))","v":""},null,0,null,null,null,null,0,null,null,null,0,null,0,null,null,null,null,null,null,null,null,null,null,null,null,null,null,null,null,null,null,null,null,null,null,null,null,null,null,null,null,null,null,null,null,null,null,null,null,null,null,null,null,null,null,null,null,null,null,null,null,null,null,null,null,null,null,null,null,null,null,null,null,null,null,null,null,null,{"$f":"IFERROR(VLOOKUP(ROWS($CF$3:CF1088),$CH$3:$CI$2001,2,FALSE),\"\")","v":""},null,{"$f":"IF(ISNUMBER(SEARCH(B1088,CI1088)),MAX($CH$2:CH1087)+1,0)","v":0},{"$f":"'الرصيد الثابت'!#REF!","v":{"$error":"#REF!"}}]
["",null,{"$f":"IF(B1093=\"\",\"\",SUMIF('الرصيد الثابت'!$D$2:$D$106,B1093,'الرصيد الثابت'!$H$2:$H$106))","v":""},{"$f":"IF(B1093=\"\",\"\",SUMIF('الرصيد الثابت'!$D$2:$D$106,B1093,'الرصيد الثابت'!$I$2:$I$106))","v":""},{"$f":"IF(B1093=\"\",\"\",SUMIF('الرصيد الثابت'!$D$2:$D$106,B1093,'الرصيد الثابت'!$J$2:$J$106))","v":""},null,0,null,null,null,null,0,null,null,null,0,null,0,null,null,null,null,null,null,null,null,null,null,null,null,null,null,null,null,null,null,null,null,null,null,null,null,null,null,null,null,null,null,null,null,null,null,null,null,null,null,null,null,null,null,null,null,null,null,null,null,null,null,null,null,null,null,null,null,null,null,null,null,null,null,null,null,null,{"$f":"IFERROR(VLOOKUP(ROWS($CF$3:CF1093),$CH$3:$CI$2001,2,FALSE),\"\")","v":""},null,{"$f":"IF(ISNUMBER(SEARCH(B1093,CI1093)),MAX($CH$2:CH1092)+1,0)","v":0},{"$f":"'الرصيد الثابت'!#REF!","v":{"$error":"#REF!"}}]
["",null,{"$f":"IF(B1094=\"\",\"\",SUMIF('الرصيد الثابت'!$D$2:$D$106,B1094,'الرصيد الثابت'!$H$2:$H$106))","v":""},{"$f":"IF(B1094=\"\",\"\",SUMIF('الرصيد الثابت'!$D$2:$D$106,B1094,'الرصيد الثابت'!$I$2:$I$106))","v":""},{"$f":"IF(B1094=\"\",\"\",SUMIF('الرصيد الثابت'!$D$2:$D$106,B1094,'الرصيد الثابت'!$J$2:$J$106))","v":""},null,0,null,null,null,null,0,null,null,null,0,null,0,null,null,null,null,null,null,null,null,null,null,null,null,null,null,null,null,null,null,null,null,null,null,null,null,null,null,null,null,null,null,null,null,null,null,null,null,null,null,null,null,null,null,null,null,null,null,null,null,null,null,null,null,null,null,null,null,null,null,null,null,null,null,null,null,null,{"$f":"IFERROR(VLOOKUP(ROWS($CF$3:CF1094),$CH$3:$CI$2001,2,FALSE),\"\")","v":""},null,{"$f":"IF(ISNUMBER(SEARCH(B1094,CI1094)),MAX($CH$2:CH1093)+1,0)","v":0},{"$f":"'الرصيد الثابت'!#REF!","v":{"$error":"#REF!"}}]
["",null,{"$f":"IF(B1099=\"\",\"\",SUMIF('الرصيد الثابت'!$D$2:$D$106,B1099,'الرصيد الثابت'!$H$2:$H$106))","v":""},{"$f":"IF(B1099=\"\",\"\",SUMIF('الرصيد الثابت'!$D$2:$D$106,B1099,'الرصيد الثابت'!$I$2:$I$106))","v":""},{"$f":"IF(B1099=\"\",\"\",SUMIF('الرصيد الثابت'!$D$2:$D$106,B1099,'الرصيد الثابت'!$J$2:$J$106))","v":""},null,0,null,null,null,null,0,null,null,null,0,null,0,null,null,null,null,null,null,null,null,null,null,null,null,null,null,null,null,null,null,null,null,null,null,null,null,null,null,null,null,null,null,null,null,null,null,null,null,null,null,null,null,null,null,null,null,null,null,null,null,null,null,null,null,null,null,null,null,null,null,null,null,null,null,null,null,null,{"$f":"IFERROR(VLOOKUP(ROWS($CF$3:CF1099),$CH$3:$CI$2001,2,FALSE),\"\")","v":""},null,{"$f":"IF(ISNUMBER(SEARCH(B1099,CI1099)),MAX($CH$2:CH1098)+1,0)","v":0},{"$f":"'الرصيد الثابت'!#REF!","v":{"$error":"#REF!"}}]
["",null,{"$f":"IF(B1104=\"\",\"\",SUMIF('الرصيد الثابت'!$D$2:$D$106,B1104,'الرصيد الثابت'!$H$2:$H$106))","v":""},{"$f":"IF(B1104=\"\",\"\",SUMIF('الرصيد الثابت'!$D$2:$D$106,B1104,'الرصيد الثابت'!$I$2:$I$106))","v":""},{"$f":"IF(B1104=\"\",\"\",SUMIF('الرصيد الثابت'!$D$2:$D$106,B1104,'الرصيد الثابت'!$J$2:$J$106))","v":""},null,0,null,null,null,null,0,null,null,null,0,null,0,null,null,null,null,null,null,null,null,null,null,null,null,null,null,null,null,null,null,null,null,null,null,null,null,null,null,null,null,null,null,null,null,null,null,null,null,null,null,null,null,null,null,null,null,null,null,null,null,null,null,null,null,null,null,null,null,null,null,null,null,null,null,null,null,null,{"$f":"IFERROR(VLOOKUP(ROWS($CF$3:CF1104),$CH$3:$CI$2001,2,FALSE),\"\")","v":""},null,{"$f":"IF(ISNUMBER(SEARCH(B1104,CI1104)),MAX($CH$2:CH1103)+1,0)","v":0},{"$f":"'الرصيد الثابت'!#REF!","v":{"$error":"#REF!"}}]
["",null,{"$f":"IF(B1109=\"\",\"\",SUMIF('الرصيد الثابت'!$D$2:$D$106,B1109,'الرصيد الثابت'!$H$2:$H$106))","v":""},{"$f":"IF(B1109=\"\",\"\",SUMIF('الرصيد الثابت'!$D$2:$D$106,B1109,'الرصيد الثابت'!$I$2:$I$106))","v":""},{"$f":"IF(B1109=\"\",\"\",SUMIF('الرصيد الثابت'!$D$2:$D$106,B1109,'الرصيد الثابت'!$J$2:$J$106))","v":""},null,0,null,null,null,null,0,null,null,null,0,null,0,null,null,null,null,null,null,null,null,null,null,null,null,null,null,null,null,null,null,null,null,null,null,null,null,null,null,null,null,null,null,null,null,null,null,null,null,null,null,null,null,null,null,null,null,null,null,null,null,null,null,null,null,null,null,null,null,null,null,null,null,null,null,null,null,null,{"$f":"IFERROR(VLOOKUP(ROWS($CF$3:CF1109),$CH$3:$CI$2001,2,FALSE),\"\")","v":""},null,{"$f":"IF(ISNUMBER(SEARCH(B1109,CI1109)),MAX($CH$2:CH1108)+1,0)","v":0},{"$f":"'الرصيد الثابت'!#REF!","v":{"$error":"#REF!"}}]
["",null,{"$f":"IF(B1110=\"\",\"\",SUMIF('الرصيد الثابت'!$D$2:$D$106,B1110,'الرصيد الثابت'!$H$2:$H$106))","v":""},{"$f":"IF(B1110=\"\",\"\",SUMIF('الرصيد الثابت'!$D$2:$D$106,B1110,'الرصيد الثابت'!$I$2:$I$106))","v":""},{"$f":"IF(B1110=\"\",\"\",SUMIF('الرصيد الثابت'!$D$2:$D$106,B1110,'الرصيد الثابت'!$J$2:$J$106))","v":""},null,0,null,null,null,null,0,null,null,null,0,null,0,null,null,null,null,null,null,null,null,null,null,null,null,null,null,null,null,null,null,null,null,null,null,null,null,null,null,null,null,null,null,null,null,null,null,null,null,null,null,null,null,null,null,null,null,null,null,null,null,null,null,null,null,null,null,null,null,null,null,null,null,null,null,null,null,null,{"$f":"IFERROR(VLOOKUP(ROWS($CF$3:CF1110),$CH$3:$CI$2001,2,FALSE),\"\")","v":""},null,{"$f":"IF(ISNUMBER(SEARCH(B1110,CI1110)),MAX($CH$2:CH1109)+1,0)","v":0},{"$f":"'الرصيد الثابت'!#REF!","v":{"$error":"#REF!"}}]
["",null,{"$f":"IF(B1115=\"\",\"\",SUMIF('الرصيد الثابت'!$D$2:$D$106,B1115,'الرصيد الثابت'!$H$2:$H$106))","v":""},{"$f":"IF(B1115=\"\",\"\",SUMIF('الرصيد الثابت'!$D$2:$D$106,B1115,'الرصيد الثابت'!$I$2:$I$106))","v":""},{"$f":"IF(B1115=\"\",\"\",SUMIF('الرصيد الثابت'!$D$2:$D$106,B1115,'الرصيد الثابت'!$J$2:$J$106))","v":""},null,0,null,null,null,null,0,null,null,null,0,null,0,null,null,null,null,null,null,null,null,null,null,null,null,null,null,null,null,null,null,null,null,null,null,null,null,null,null,null,null,null,null,null,null,null,null,null,null,null,null,null,null,null,null,null,null,null,null,null,null,null,null,null,null,null,null,null,null,null,null,null,null,null,null,null,null,null,{"$f":"IFERROR(VLOOKUP(ROWS($CF$3:CF1115),$CH$3:$CI$2001,2,FALSE),\"\")","v":""},null,{"$f":"IF(ISNUMBER(SEARCH(B1115,CI1115)),MAX($CH$2:CH1114)+1,0)","v":0},{"$f":"'الرصيد الثابت'!#REF!","v":{"$error":"#REF!"}}]
["",null,{"$f":"IF(B1118=\"\",\"\",SUMIF('الرصيد الثابت'!$D$2:$D$106,B1118,'الرصيد الثابت'!$H$2:$H$106))","v":""},{"$f":"IF(B1118=\"\",\"\",SUMIF('الرصيد الثابت'!$D$2:$D$106,B1118,'الرصيد الثابت'!$I$2:$I$106))","v":""},{"$f":"IF(B1118=\"\",\"\",SUMIF('الرصيد الثابت'!$D$2:$D$106,B1118,'الرصيد الثابت'!$J$2:$J$106))","v":""},null,0,null,null,null,null,0,null,null,null,0,null,0,null,null,null,null,null,null,null,null,null,null,null,null,null,null,null,null,null,null,null,null,null,null,null,null,null,null,null,null,null,null,null,null,null,null,null,null,null,null,null,null,null,null,null,null,null,null,null,null,null,null,null,null,null,null,null,null,null,null,null,null,null,null,null,null,null,{"$f":"IFERROR(VLOOKUP(ROWS($CF$3:CF1118),$CH$3:$CI$2001,2,FALSE),\"\")","v":""},null,{"$f":"IF(ISNUMBER(SEARCH(B1118,CI1118)),MAX($CH$2:CH1117)+1,0)","v":0},{"$f":"'الرصيد الثابت'!#REF!","v":{"$error":"#REF!"}}]
["",null,{"$f":"IF(B1124=\"\",\"\",SUMIF('الرصيد الثابت'!$D$2:$D$106,B1124,'الرصيد الثابت'!$H$2:$H$106))","v":""},{"$f":"IF(B1124=\"\",\"\",SUMIF('الرصيد الثابت'!$D$2:$D$106,B1124,'الرصيد الثابت'!$I$2:$I$106))","v":""},{"$f":"IF(B1124=\"\",\"\",SUMIF('الرصيد الثابت'!$D$2:$D$106,B1124,'الرصيد الثابت'!$J$2:$J$106))","v":""},null,0,null,null,null,null,0,null,null,null,0,null,0,null,null,null,null,null,null,null,null,null,null,null,null,null,null,null,null,null,null,null,null,null,null,null,null,null,null,null,null,null,null,null,null,null,null,null,null,null,null,null,null,null,null,null,null,null,null,null,null,null,null,null,null,null,null,null,null,null,null,null,null,null,null,null,null,null,{"$f":"IFERROR(VLOOKUP(ROWS($CF$3:CF1124),$CH$3:$CI$2001,2,FALSE),\"\")","v":""},null,{"$f":"IF(ISNUMBER(SEARCH(B1124,CI1124)),MAX($CH$2:CH1123)+1,0)","v":0},{"$f":"'الرصيد الثابت'!#REF!","v":{"$error":"#REF!"}}]
["",null,{"$f":"IF(B1125=\"\",\"\",SUMIF('الرصيد الثابت'!$D$2:$D$106,B1125,'الرصيد الثابت'!$H$2:$H$106))","v":""},{"$f":"IF(B1125=\"\",\"\",SUMIF('الرصيد الثابت'!$D$2:$D$106,B1125,'الرصيد الثابت'!$I$2:$I$106))","v":""},{"$f":"IF(B1125=\"\",\"\",SUMIF('الرصيد الثابت'!$D$2:$D$106,B1125,'الرصيد الثابت'!$J$2:$J$106))","v":""},null,0,null,null,null,null,0,null,null,null,0,null,0,null,null,null,null,null,null,null,null,null,null,null,null,null,null,null,null,null,null,null,null,null,null,null,null,null,null,null,null,null,null,null,null,null,null,null,null,null,null,null,null,null,null,null,null,null,null,null,null,null,null,null,null,null,null,null,null,null,null,null,null,null,null,null,null,null,{"$f":"IFERROR(VLOOKUP(ROWS($CF$3:CF1125),$CH$3:$CI$2001,2,FALSE),\"\")","v":""},null,{"$f":"IF(ISNUMBER(SEARCH(B1125,CI1125)),MAX($CH$2:CH1124)+1,0)","v":0},{"$f":"'الرصيد الثابت'!#REF!","v":{"$error":"#REF!"}}]
["",null,{"$f":"IF(B1130=\"\",\"\",SUMIF('الرصيد الثابت'!$D$2:$D$106,B1130,'الرصيد الثابت'!$H$2:$H$106))","v":""},{"$f":"IF(B1130=\"\",\"\",SUMIF('الرصيد الثابت'!$D$2:$D$106,B1130,'الرصيد الثابت'!$I$2:$I$106))","v":""},{"$f":"IF(B1130=\"\",\"\",SUMIF('الرصيد الثابت'!$D$2:$D$106,B1130,'الرصيد الثابت'!$J$2:$J$106))","v":""},null,0,null,null,null,null,0,null,null,null,0,null,0,null,null,null,null,null,null,null,null,null,null,null,null,null,null,null,null,null,null,null,null,null,null,null,null,null,null,null,null,null,null,null,null,null,null,null,null,null,null,null,null,null,null,null,null,null,null,null,null,null,null,null,null,null,null,null,null,null,null,null,null,null,null,null,null,null,{"$f":"IFERROR(VLOOKUP(ROWS($CF$3:CF1130),$CH$3:$CI$2001,2,FALSE),\"\")","v":""},null,{"$f":"IF(ISNUMBER(SEARCH(B1130,CI1130)),MAX($CH$2:CH1129)+1,0)","v":0},{"$f":"'الرصيد الثابت'!#REF!","v":{"$error":"#REF!"}}]
["",null,{"$f":"IF(B1135=\"\",\"\",SUMIF('الرصيد الثابت'!$D$2:$D$106,B1135,'الرصيد الثابت'!$H$2:$H$106))","v":""},{"$f":"IF(B1135=\"\",\"\",SUMIF('الرصيد الثابت'!$D$2:$D$106,B1135,'الرصيد الثابت'!$I$2:$I$106))","v":""},{"$f":"IF(B1135=\"\",\"\",SUMIF('الرصيد الثابت'!$D$2:$D$106,B1135,'الرصيد الثابت'!$J$2:$J$106))","v":""},null,0,null,null,null,null,0,null,null,null,0,null,0,null,null,null,null,null,null,null,null,null,null,null,null,null,null,null,null,null,null,null,null,null,null,null,null,null,null,null,null,null,null,null,null,null,null,null,null,null,null,null,null,null,null,null,null,null,null,null,null,null,null,null,null,null,null,null,null,null,null,null,null,null,null,null,null,null,{"$f":"IFERROR(VLOOKUP(ROWS($CF$3:CF1135),$CH$3:$CI$2001,2,FALSE),\"\")","v":""},null,{"$f":"IF(ISNUMBER(SEARCH(B1135,CI1135)),MAX($CH$2:CH1134)+1,0)","v":0},{"$f":"'الرصيد الثابت'!#REF!","v":{"$error":"#REF!"}}]
["",null,{"$f":"IF(B1140=\"\",\"\",SUMIF('الرصيد الثابت'!$D$2:$D$106,B1140,'الرصيد الثابت'!$H$2:$H$106))","v":""},{"$f":"IF(B1140=\"\",\"\",SUMIF('الرصيد الثابت'!$D$2:$D$106,B1140,'الرصيد الثابت'!$I$2:$I$106))","v":""},{"$f":"IF(B1140=\"\",\"\",SUMIF('الرصيد الثابت'!$D$2:$D$106,B1140,'الرصيد الثابت'!$J$2:$J$106))","v":""},null,0,null,null,null,null,0,null,null,null,0,null,0,null,null,null,null,null,null,null,null,null,null,null,null,null,null,null,null,null,null,null,null,null,null,null,null,null,null,null,null,null,null,null,null,null,null,null,null,null,null,null,null,null,null,null,null,null,null,null,null,null,null,null,null,null,null,null,null,null,null,null,null,null,null,null,null,null,{"$f":"IFERROR(VLOOKUP(ROWS($CF$3:CF1140),$CH$3:$CI$2001,2,FALSE),\"\")","v":""},null,{"$f":"IF(ISNUMBER(SEARCH(B1140,CI1140)),MAX($CH$2:CH1139)+1,0)","v":0},{"$f":"'الرصيد الثابت'!#REF!","v":{"$error":"#REF!"}}]
["",null,{"$f":"IF(B1141=\"\",\"\",SUMIF('الرصيد الثابت'!$D$2:$D$106,B1141,'الرصيد الثابت'!$H$2:$H$106))","v":""},{"$f":"IF(B1141=\"\",\"\",SUMIF('الرصيد الثابت'!$D$2:$D$106,B1141,'الرصيد الثابت'!$I$2:$I$106))","v":""},{"$f":"IF(B1141=\"\",\"\",SUMIF('الرصيد الثابت'!$D$2:$D$106,B1141,'الرصيد الثابت'!$J$2:$J$106))","v":""},null,0,null,null,null,null,0,null,null,null,0,null,0,null,null,null,null,null,null,null,null,null,null,null,null,null,null,null,null,null,null,null,null,null,null,null,null,null,null,null,null,null,null,null,null,null,null,null,null,null,null,null,null,null,null,null,null,null,null,null,null,null,null,null,null,null,null,null,null,null,null,null,null,null,null,null,null,null,{"$f":"IFERROR(VLOOKUP(ROWS($CF$3:CF1141),$CH$3:$CI$2001,2,FALSE),\"\")","v":""},null,{"$f":"IF(ISNUMBER(SEARCH(B1141,CI1141)),MAX($CH$2:CH1140)+1,0)","v":0},{"$f":"'الرصيد الثابت'!#REF!","v":{"$error":"#REF!"}}]
["",null,{"$f":"IF(B1146=\"\",\"\",SUMIF('الرصيد الثابت'!$D$2:$D$106,B1146,'الرصيد الثابت'!$H$2:$H$106))","v":""},{"$f":"IF(B1146=\"\",\"\",SUMIF('الرصيد الثابت'!$D$2:$D$106,B1146,'الرصيد الثابت'!$I$2:$I$106))","v":""},{"$f":"IF(B1146=\"\",\"\",SUMIF('الرصيد الثابت'!$D$2:$D$106,B1146,'الرصيد الثابت'!$J$2:$J$106))","v":""},null,0,null,null,null,null,0,null,null,null,0,null,0,null,null,null,null,null,null,null,null,null,null,null,null,null,null,null,null,null,null,null,null,null,null,null,null,null,null,null,null,null,null,null,null,null,null,null,null,null,null,null,null,null,null,null,null,null,null,null,null,null,null,null,null,null,null,null,null,null,null,null,null,null,null,null,null,null,{"$f":"IFERROR(VLOOKUP(ROWS($CF$3:CF1146),$CH$3:$CI$2001,2,FALSE),\"\")","v":""},null,{"$f":"IF(ISNUMBER(SEARCH(B1146,CI1146)),MAX($CH$2:CH1145)+1,0)","v":0},{"$f":"'الرصيد الثابت'!#REF!","v":{"$error":"#REF!"}}]
["",null,{"$f":"IF(B1151=\"\",\"\",SUMIF('الرصيد الثابت'!$D$2:$D$106,B1151,'الرصيد الثابت'!$H$2:$H$106))","v":""},{"$f":"IF(B1151=\"\",\"\",SUMIF('الرصيد الثابت'!$D$2:$D$106,B1151,'الرصيد الثابت'!$I$2:$I$106))","v":""},{"$f":"IF(B1151=\"\",\"\",SUMIF('الرصيد الثابت'!$D$2:$D$106,B1151,'الرصيد الثابت'!$J$2:$J$106))","v":""},null,0,null,null,null,null,0,null,null,null,0,null,0,null,null,null,null,null,null,null,null,null,null,null,null,null,null,null,null,null,null,null,null,null,null,null,null,null,null,null,null,null,null,null,null,null,null,null,null,null,null,null,null,null,null,null,null,null,null,null,null,null,null,null,null,null,null,null,null,null,null,null,null,null,null,null,null,null,{"$f":"IFERROR(VLOOKUP(ROWS($CF$3:CF1151),$CH$3:$CI$2001,2,FALSE),\"\")","v":""},null,{"$f":"IF(ISNUMBER(SEARCH(B1151,CI1151)),MAX($CH$2:CH1150)+1,0)","v":0},{"$f":"'الرصيد الثابت'!#REF!","v":{"$error":"#REF!"}}]
[{"$f":"IF(B1156<>\"\",IF(A1156=\"\",NOW(),A1156),\"\")","v":""},null,{"$f":"IF(B1156=\"\",\"\",SUMIF('الرصيد الثابت'!$D$2:$D$106,B1156,'الرصيد الثابت'!$H$2:$H$106))","v":""},{"$f":"IF(B1156=\"\",\"\",SUMIF('الرصيد الثابت'!$D$2:$D$106,B1156,'الرصيد الثابت'!$I$2:$I$106))","v":""},{"$f":"IF(B1156=\"\",\"\",SUMIF('الرصيد الثابت'!$D$2:$D$106,B1156,'الرصيد الثابت'!$J$2:$J$106))","v":""},null,{"$f":"SUM(H1156*F1156)","v":0},null,null,null,null,{"$f":"SUM(M1156*K1156)","v":0},null,null,null,0,null,{"$f":"SUM(S1156*Q1156)","v":0},null,null,null,null,null,null,null,null,null,null,null,null,null,null,null,null,null,null,null,null,null,null,null,null,null,null,null,null,null,null,null,null,null,null,null,null,null,null,null,null,null,null,null,null,null,null,null,null,null,null,null,null,null,null,null,null,null,null,null,null,null,null,null,null,null,{"$f":"IFERROR(VLOOKUP(ROWS($CF$3:CF1156),$CH$3:$CI$2001,2,FALSE),\"\")","v":""},null,{"$f":"IF(ISNUMBER(SEARCH(B1156,CI1156)),MAX($CH$2:CH1155)+1,0)","v":0},{"$f":"'الرصيد الثابت'!#REF!","v":{"$error":"#REF!"}}]
["",null,{"$f":"IF(B1157=\"\",\"\",SUMIF('الرصيد الثابت'!$D$2:$D$106,B1157,'الرصيد الثابت'!$H$2:$H$106))","v":""},{"$f":"IF(B1157=\"\",\"\",SUMIF('الرصيد الثابت'!$D$2:$D$106,B1157,'الرصيد الثابت'!$I$2:$I$106))","v":""},{"$f":"IF(B1157=\"\",\"\",SUMIF('الرصيد الثابت'!$D$2:$D$106,B1157,'الرصيد الثابت'!$J$2:$J$106))","v":""},null,0,null,null,null,null,0,null,null,null,0,null,0,null,null,null,null,null,null,null,null,null,null,null,null,null,null,null,null,null,null,null,null,null,null,null,null,null,null,null,null,null,null,null,null,null,null,null,null,null,null,null,null,null,null,null,null,null,null,null,null,null,null,null,null,null,null,null,null,null,null,null,null,null,null,null,null,null,{"$f":"IFERROR(VLOOKUP(ROWS($CF$3:CF1157),$CH$3:$CI$2001,2,FALSE),\"\")","v":""},null,{"$f":"IF(ISNUMBER(SEARCH(B1157,CI1157)),MAX($CH$2:CH1156)+1,0)","v":0},{"$f":"'الرصيد الثابت'!#REF!","v":{"$error":"#REF!"}}]
["",null,{"$f":"IF(B1162=\"\",\"\",SUMIF('الرصيد الثابت'!$D$2:$D$106,B1162,'الرصيد الثابت'!$H$2:$H$106))","v":""},{"$f":"IF(B1162=\"\",\"\",SUMIF('الرصيد الثابت'!$D$2:$D$106,B1162,'الرصيد الثابت'!$I$2:$I$106))","v":""},{"$f":"IF(B1162=\"\",\"\",SUMIF('الرصيد الثابت'!$D$2:$D$106,B1162,'الرصيد الثابت'!$J$2:$J$106))","v":""},null,0,null,null,null,null,0,null,null,null,0,null,0,null,null,null,null,null,null,null,null,null,null,null,null,null,null,null,null,null,null,null,null,null,null,null,null,null,null,null,null,null,null,null,null,null,null,null,null,null,null,null,null,null,null,null,null,null,null,null,null,null,null,null,null,null,null,null,null,null,null,null,null,null,null,null,null,null,{"$f":"IFERROR(VLOOKUP(ROWS($CF$3:CF1162),$CH$3:$CI$2001,2,FALSE),\"\")","v":""},null,{"$f":"IF(ISNUMBER(SEARCH(B1162,CI1162)),MAX($CH$2:CH1161)+1,0)","v":0},{"$f":"'الرصيد الثابت'!#REF!","v":{"$error":"#REF!"}}]
["",null,{"$f":"IF(B1167=\"\",\"\",SUMIF('الرصيد الثابت'!$D$2:$D$106,B1167,'الرصيد الثابت'!$H$2:$H$106))","v":""},{"$f":"IF(B1167=\"\",\"\",SUMIF('الرصيد الثابت'!$D$2:$D$106,B1167,'الرصيد الثابت'!$I$2:$I$106))","v":""},{"$f":"IF(B1167=\"\",\"\",SUMIF('الرصيد الثابت'!$D$2:$D$106,B1167,'الرصيد الثابت'!$J$2:$J$106))","v":""},null,0,null,null,null,null,0,null,null,null,0,null,0,null,null,null,null,null,null,null,null,null,null,null,null,null,null,null,null,null,null,null,null,null,null,null,null,null,null,null,null,null,null,null,null,null,null,null,null,null,null,null,null,null,null,null,null,null,null,null,null,null,null,null,null,null,null,null,null,null,null,null,null,null,null,null,null,null,{"$f":"IFERROR(VLOOKUP(ROWS($CF$3:CF1167),$CH$3:$CI$2001,2,FALSE),\"\")","v":""},null,{"$f":"IF(ISNUMBER(SEARCH(B1167,CI1167)),MAX($CH$2:CH1166)+1,0)","v":0},{"$f":"'الرصيد الثابت'!#REF!","v":{"$error":"#REF!"}}]
["",null,{"$f":"IF(B1172=\"\",\"\",SUMIF('الرصيد الثابت'!$D$2:$D$106,B1172,'الرصيد الثابت'!$H$2:$H$106))","v":""},{"$f":"IF(B1172=\"\",\"\",SUMIF('الرصيد الثابت'!$D$2:$D$106,B1172,'الرصيد الثابت'!$I$2:$I$106))","v":""},{"$f":"IF(B1172=\"\",\"\",SUMIF('الرصيد الثابت'!$D$2:$D$106,B1172,'الرصيد الثابت'!$J$2:$J$106))","v":""},null,0,null,null,null,null,0,null,null,null,0,null,0,null,null,null,null,null,null,null,null,null,null,null,null,null,null,null,null,null,null,null,null,null,null,null,null,null,null,null,null,null,null,null,null,null,null,null,null,null,null,null,null,null,null,null,null,null,null,null,null,null,null,null,null,null,null,null,null,null,null,null,null,null,null,null,null,null,{"$f":"IFERROR(VLOOKUP(ROWS($CF$3:CF1172),$CH$3:$CI$2001,2,FALSE),\"\")","v":""},null,{"$f":"IF(ISNUMBER(SEARCH(B1172,CI1172)),MAX($CH$2:CH1171)+1,0)","v":0},{"$f":"'الرصيد الثابت'!#REF!","v":{"$error":"#REF!"}}]
["",null,{"$f":"IF(B1173=\"\",\"\",SUMIF('الرصيد الثابت'!$D$2:$D$106,B1173,'الرصيد الثابت'!$H$2:$H$106))","v":""},{"$f":"IF(B1173=\"\",\"\",SUMIF('الرصيد الثابت'!$D$2:$D$106,B1173,'الرصيد الثابت'!$I$2:$I$106))","v":""},{"$f":"IF(B1173=\"\",\"\",SUMIF('الرصيد الثابت'!$D$2:$D$106,B1173,'الرصيد الثابت'!$J$2:$J$106))","v":""},null,0,null,null,null,null,0,null,null,null,0,null,0,null,null,null,null,null,null,null,null,null,null,null,null,null,null,null,null,null,null,null,null,null,null,null,null,null,null,null,null,null,null,null,null,null,null,null,null,null,null,null,null,null,null,null,null,null,null,null,null,null,null,null,null,null,null,null,null,null,null,null,null,null,null,null,null,null,{"$f":"IFERROR(VLOOKUP(ROWS($CF$3:CF1173),$CH$3:$CI$2001,2,FALSE),\"\")","v":""},null,{"$f":"IF(ISNUMBER(SEARCH(B1173,CI1173)),MAX($CH$2:CH1172)+1,0)","v":0},{"$f":"'الرصيد الثابت'!#REF!","v":{"$error":"#REF!"}}]
["",null,{"$f":"IF(B1177=\"\",\"\",SUMIF('الرصيد الثابت'!$D$2:$D$106,B1177,'الرصيد الثابت'!$H$2:$H$106))","v":""},{"$f":"IF(B1177=\"\",\"\",SUMIF('الرصيد الثابت'!$D$2:$D$106,B1177,'الرصيد الثابت'!$I$2:$I$106))","v":""},{"$f":"IF(B1177=\"\",\"\",SUMIF('الرصيد الثابت'!$D$2:$D$106,B1177,'الرصيد الثابت'!$J$2:$J$106))","v":""},null,0,null,null,null,null,0,null,null,null,0,null,0,null,null,null,null,null,null,null,null,null,null,null,null,null,null,null,null,null,null,null,null,null,null,null,null,null,null,null,null,null,null,null,null,null,null,null,null,null,null,null,null,null,null,null,null,null,null,null,null,null,null,null,null,null,null,null,null,null,null,null,null,null,null,null,null,null,{"$f":"IFERROR(VLOOKUP(ROWS($CF$3:CF1177),$CH$3:$CI$2001,2,FALSE),\"\")","v":""},null,{"$f":"IF(ISNUMBER(SEARCH(B1177,CI1177)),MAX($CH$2:CH1176)+1,0)","v":0},{"$f":"'الرصيد الثابت'!#REF!","v":{"$error":"#REF!"}}]
["",null,{"$f":"IF(B1182=\"\",\"\",SUMIF('الرصيد الثابت'!$D$2:$D$106,B1182,'الرصيد الثابت'!$H$2:$H$106))","v":""},{"$f":"IF(B1182=\"\",\"\",SUMIF('الرصيد الثابت'!$D$2:$D$106,B1182,'الرصيد الثابت'!$I$2:$I$106))","v":""},{"$f":"IF(B1182=\"\",\"\",SUMIF('الرصيد الثابت'!$D$2:$D$106,B1182,'الرصيد الثابت'!$J$2:$J$106))","v":""},null,0,null,null,null,null,0,null,null,null,0,null,0,null,null,null,null,null,null,null,null,null,null,null,null,null,null,null,null,null,null,null,null,null,null,null,null,null,null,null,null,null,null,null,null,null,null,null,null,null,null,null,null,null,null,null,null,null,null,null,null,null,null,null,null,null,null,null,null,null,null,null,null,null,null,null,null,null,{"$f":"IFERROR(VLOOKUP(ROWS($CF$3:CF1182),$CH$3:$CI$2001,2,FALSE),\"\")","v":""},null,{"$f":"IF(ISNUMBER(SEARCH(B1182,CI1182)),MAX($CH$2:CH1181)+1,0)","v":0},{"$f":"'الرصيد الثابت'!#REF!","v":{"$error":"#REF!"}}]
["",null,{"$f":"IF(B1187=\"\",\"\",SUMIF('الرصيد الثابت'!$D$2:$D$106,B1187,'الرصيد الثابت'!$H$2:$H$106))","v":""},{"$f":"IF(B1187=\"\",\"\",SUMIF('الرصيد الثابت'!$D$2:$D$106,B1187,'الرصيد الثابت'!$I$2:$I$106))","v":""},{"$f":"IF(B1187=\"\",\"\",SUMIF('الرصيد الثابت'!$D$2:$D$106,B1187,'الرصيد الثابت'!$J$2:$J$106))","v":""},null,0,null,null,null,null,0,null,null,null,0,null,0,null,null,null,null,null,null,null,null,null,null,null,null,null,null,null,null,null,null,null,null,null,null,null,null,null,null,null,null,null,null,null,null,null,null,null,null,null,null,null,null,null,null,null,null,null,null,null,null,null,null,null,null,null,null,null,null,null,null,null,null,null,null,null,null,null,{"$f":"IFERROR(VLOOKUP(ROWS($CF$3:CF1187),$CH$3:$CI$2001,2,FALSE),\"\")","v":""},null,{"$f":"IF(ISNUMBER(SEARCH(B1187,CI1187)),MAX($CH$2:CH1186)+1,0)","v":0},{"$f":"'الرصيد الثابت'!#REF!","v":{"$error":"#REF!"}}]
["",null,{"$f":"IF(B1188=\"\",\"\",SUMIF('الرصيد الثابت'!$D$2:$D$106,B1188,'الرصيد الثابت'!$H$2:$H$106))","v":""},{"$f":"IF(B1188=\"\",\"\",SUMIF('الرصيد الثابت'!$D$2:$D$106,B1188,'الرصيد الثابت'!$I$2:$I$106))","v":""},{"$f":"IF(B1188=\"\",\"\",SUMIF('الرصيد الثابت'!$D$2:$D$106,B1188,'الرصيد الثابت'!$J$2:$J$106))","v":""},null,0,null,null,null,null,0,null,null,null,0,null,0,null,null,null,null,null,null,null,null,null,null,null,null,null,null,null,null,null,null,null,null,null,null,null,null,null,null,null,null,null,null,null,null,null,null,null,null,null,null,null,null,null,null,null,null,null,null,null,null,null,null,null,null,null,null,null,null,null,null,null,null,null,null,null,null,null,{"$f":"IFERROR(VLOOKUP(ROWS($CF$3:CF1188),$CH$3:$CI$2001,2,FALSE),\"\")","v":""},null,{"$f":"IF(ISNUMBER(SEARCH(B1188,CI1188)),MAX($CH$2:CH1187)+1,0)","v":0},{"$f":"'الرصيد الثابت'!#REF!","v":{"$error":"#REF!"}}]
["",null,{"$f":"IF(B1193=\"\",\"\",SUMIF('الرصيد الثابت'!$D$2:$D$106,B1193,'الرصيد الثابت'!$H$2:$H$106))","v":""},{"$f":"IF(B1193=\"\",\"\",SUMIF('الرصيد الثابت'!$D$2:$D$106,B1193,'الرصيد الثابت'!$I$2:$I$106))","v":""},{"$f":"IF(B1193=\"\",\"\",SUMIF('الرصيد الثابت'!$D$2:$D$106,B1193,'الرصيد الثابت'!$J$2:$J$106))","v":""},null,0,null,null,null,null,0,null,null,null,0,null,0,null,null,null,null,null,null,null,null,null,null,null,null,null,null,null,null,null,null,null,null,null,null,null,null,null,null,null,null,null,null,null,null,null,null,null,null,null,null,null,null,null,null,null,null,null,null,null,null,null,null,null,null,null,null,null,null,null,null,null,null,null,null,null,null,null,{"$f":"IFERROR(VLOOKUP(ROWS($CF$3:CF1193),$CH$3:$CI$2001,2,FALSE),\"\")","v":""},null,{"$f":"IF(ISNUMBER(SEARCH(B1193,CI1193)),MAX($CH$2:CH1192)+1,0)","v":0},{"$f":"'الرصيد الثابت'!#REF!","v":{"$error":"#REF!"}}]
["",null,{"$f":"IF(B1198=\"\",\"\",SUMIF('الرصيد الثابت'!$D$2:$D$106,B1198,'الرصيد الثابت'!$H$2:$H$106))","v":""},{"$f":"IF(B1198=\"\",\"\",SUMIF('الرصيد الثابت'!$D$2:$D$106,B1198,'الرصيد الثابت'!$I$2:$I$106))","v":""},{"$f":"IF(B1198=\"\",\"\",SUMIF('الرصيد الثابت'!$D$2:$D$106,B1198,'الرصيد الثابت'!$J$2:$J$106))","v":""},null,0,null,null,null,null,0,null,null,null,0,null,0,null,null,null,null,null,null,null,null,null,null,null,null,null,null,null,null,null,null,null,null,null,null,null,null,null,null,null,null,null,null,null,null,null,null,null,null,null,null,null,null,null,null,null,null,null,null,null,null,null,null,null,null,null,null,null,null,null,null,null,null,null,null,null,null,null,{"$f":"IFERROR(VLOOKUP(ROWS($CF$3:CF1198),$CH$3:$CI$2001,2,FALSE),\"\")","v":""},null,{"$f":"IF(ISNUMBER(SEARCH(B1198,CI1198)),MAX($CH$2:CH1197)+1,0)","v":0},{"$f":"'الرصيد الثابت'!#REF!","v":{"$error":"#REF!"}}]
["",null,{"$f":"IF(B1203=\"\",\"\",SUMIF('الرصيد الثابت'!$D$2:$D$106,B1203,'الرصيد الثابت'!$H$2:$H$106))","v":""},{"$f":"IF(B1203=\"\",\"\",SUMIF('الرصيد الثابت'!$D$2:$D$106,B1203,'الرصيد الثابت'!$I$2:$I$106))","v":""},{"$f":"IF(B1203=\"\",\"\",SUMIF('الرصيد الثابت'!$D$2:$D$106,B1203,'الرصيد الثابت'!$J$2:$J$106))","v":""},null,0,null,null,null,null,0,null,null,null,0,null,0,null,null,null,null,null,null,null,null,null,null,null,null,null,null,null,null,null,null,null,null,null,null,null,null,null,null,null,null,null,null,null,null,null,null,null,null,null,null,null,null,null,null,null,null,null,null,null,null,null,null,null,null,null,null,null,null,null,null,null,null,null,null,null,null,null,{"$f":"IFERROR(VLOOKUP(ROWS($CF$3:CF1203),$CH$3:$CI$2001,2,FALSE),\"\")","v":""},null,{"$f":"IF(ISNUMBER(SEARCH(B1203,CI1203)),MAX($CH$2:CH1202)+1,0)","v":0},{"$f":"'الرصيد الثابت'!#REF!","v":{"$error":"#REF!"}}]
["",null,{"$f":"IF(B1204=\"\",\"\",SUMIF('الرصيد الثابت'!$D$2:$D$106,B1204,'الرصيد الثابت'!$H$2:$H$106))","v":""},{"$f":"IF(B1204=\"\",\"\",SUMIF('الرصيد الثابت'!$D$2:$D$106,B1204,'الرصيد الثابت'!$I$2:$I$106))","v":""},{"$f":"IF(B1204=\"\",\"\",SUMIF('الرصيد الثابت'!$D$2:$D$106,B1204,'الرصيد الثابت'!$J$2:$J$106))","v":""},null,0,null,null,null,null,0,null,null,null,0,null,0,null,null,null,null,null,null,null,null,null,null,null,null,null,null,null,null,null,null,null,null,null,null,null,null,null,null,null,null,null,null,null,null,null,null,null,null,null,null,null,null,null,null,null,null,null,null,null,null,null,null,null,null,null,null,null,null,null,null,null,null,null,null,null,null,null,{"$f":"IFERROR(VLOOKUP(ROWS($CF$3:CF1204),$CH$3:$CI$2001,2,FALSE),\"\")","v":""},null,{"$f":"IF(ISNUMBER(SEARCH(B1204,CI1204)),MAX($CH$2:CH1203)+1,0)","v":0},{"$f":"'الرصيد الثابت'!#REF!","v":{"$error":"#REF!"}}]
["",null,{"$f":"IF(B1209=\"\",\"\",SUMIF('الرصيد الثابت'!$D$2:$D$106,B1209,'الرصيد الثابت'!$H$2:$H$106))","v":""},{"$f":"IF(B1209=\"\",\"\",SUMIF('الرصيد الثابت'!$D$2:$D$106,B1209,'الرصيد الثابت'!$I$2:$I$106))","v":""},{"$f":"IF(B1209=\"\",\"\",SUMIF('الرصيد الثابت'!$D$2:$D$106,B1209,'الرصيد الثابت'!$J$2:$J$106))","v":""},null,0,null,null,null,null,0,null,null,null,0,null,0,null,null,null,null,null,null,null,null,null,null,null,null,null,null,null,null,null,null,null,null,null,null,null,null,null,null,null,null,null,null,null,null,null,null,null,null,null,null,null,null,null,null,null,null,null,null,null,null,null,null,null,null,null,null,null,null,null,null,null,null,null,null,null,null,null,{"$f":"IFERROR(VLOOKUP(ROWS($CF$3:CF1209),$CH$3:$CI$2001,2,FALSE),\"\")","v":""},null,{"$f":"IF(ISNUMBER(SEARCH(B1209,CI1209)),MAX($CH$2:CH1208)+1,0)","v":0},{"$f":"'الرصيد الثابت'!#REF!","v":{"$error":"#REF!"}}]
["",null,{"$f":"IF(B1214=\"\",\"\",SUMIF('الرصيد الثابت'!$D$2:$D$106,B1214,'الرصيد الثابت'!$H$2:$H$106))","v":""},{"$f":"IF(B1214=\"\",\"\",SUMIF('الرصيد الثابت'!$D$2:$D$106,B1214,'الرصيد الثابت'!$I$2:$I$106))","v":""},{"$f":"IF(B1214=\"\",\"\",SUMIF('الرصيد الثابت'!$D$2:$D$106,B1214,'الرصيد الثابت'!$J$2:$J$106))","v":""},null,0,null,null,null,null,0,null,null,null,0,null,0,null,null,null,null,null,null,null,null,null,null,null,null,null,null,null,null,null,null,null,null,null,null,null,null,null,null,null,null,null,null,null,null,null,null,null,null,null,null,null,null,null,null,null,null,null,null,null,null,null,null,null,null,null,null,null,null,null,null,null,null,null,null,null,null,null,{"$f":"IFERROR(VLOOKUP(ROWS($CF$3:CF1214),$CH$3:$CI$2001,2,FALSE),\"\")","v":""},null,{"$f":"IF(ISNUMBER(SEARCH(B1214,CI1214)),MAX($CH$2:CH1213)+1,0)","v":0},{"$f":"'الرصيد الثابت'!#REF!","v":{"$error":"#REF!"}}]
["",null,{"$f":"IF(B1219=\"\",\"\",SUMIF('الرصيد الثابت'!$D$2:$D$106,B1219,'الرصيد الثابت'!$H$2:$H$106))","v":""},{"$f":"IF(B1219=\"\",\"\",SUMIF('الرصيد الثابت'!$D$2:$D$106,B1219,'الرصيد الثابت'!$I$2:$I$106))","v":""},{"$f":"IF(B1219=\"\",\"\",SUMIF('الرصيد الثابت'!$D$2:$D$106,B1219,'الرصيد الثابت'!$J$2:$J$106))","v":""},null,0,null,null,null,null,0,null,null,null,0,null,0,null,null,null,null,null,null,null,null,null,null,null,null,null,null,null,null,null,null,null,null,null,null,null,null,null,null,null,null,null,null,null,null,null,null,null,null,null,null,null,null,null,null,null,null,null,null,null,null,null,null,null,null,null,null,null,null,null,null,null,null,null,null,null,null,null,{"$f":"IFERROR(VLOOKUP(ROWS($CF$3:CF1219),$CH$3:$CI$2001,2,FALSE),\"\")","v":""},null,{"$f":"IF(ISNUMBER(SEARCH(B1219,CI1219)),MAX($CH$2:CH1218)+1,0)","v":0},{"$f":"'الرصيد الثابت'!#REF!","v":{"$error":"#REF!"}}]
[{"$f":"IF(B1220<>\"\",IF(A1220=\"\",NOW(),A1220),\"\")","v":""},null,{"$f":"IF(B1220=\"\",\"\",SUMIF('الرصيد الثابت'!$D$2:$D$106,B1220,'الرصيد الثابت'!$H$2:$H$106))","v":""},{"$f":"IF(B1220=\"\",\"\",SUMIF('الرصيد الثابت'!$D$2:$D$106,B1220,'الرصيد الثابت'!$I$2:$I$106))","v":""},{"$f":"IF(B1220=\"\",\"\",SUMIF('الرصيد الثابت'!$D$2:$D$106,B1220,'الرصيد الثابت'!$J$2:$J$106))","v":""},null,{"$f":"SUM(H1220*F1220)","v":0},null,null,null,null,{"$f":"SUM(M1220*K1220)","v":0},null,null,null,0,null,{"$f":"SUM(S1220*Q1220)","v":0},null,null,null,null,null,null,null,null,null,null,null,null,null,null,null,null,null,null,null,null,null,null,null,null,null,null,null,null,null,null,null,null,null,null,null,null,null,null,null,null,null,null,null,null,null,null,null,null,null,null,null,null,null,null,null,null,null,null,null,null,null,null,null,null,null,{"$f":"IFERROR(VLOOKUP(ROWS($CF$3:CF1220),$CH$3:$CI$2001,2,FALSE),\"\")","v":""},null,{"$f":"IF(ISNUMBER(SEARCH(B1220,CI1220)),MAX($CH$2:CH1219)+1,0)","v":0},{"$f":"'الرصيد الثابت'!#REF!","v":{"$error":"#REF!"}}]
["",null,{"$f":"IF(B1225=\"\",\"\",SUMIF('الرصيد الثابت'!$D$2:$D$106,B1225,'الرصيد الثابت'!$H$2:$H$106))","v":""},{"$f":"IF(B1225=\"\",\"\",SUMIF('الرصيد الثابت'!$D$2:$D$106,B1225,'الرصيد الثابت'!$I$2:$I$106))","v":""},{"$f":"IF(B1225=\"\",\"\",SUMIF('الرصيد الثابت'!$D$2:$D$106,B1225,'الرصيد الثابت'!$J$2:$J$106))","v":""},null,0,null,null,null,null,0,null,null,null,0,null,0,null,null,null,null,null,null,null,null,null,null,null,null,null,null,null,null,null,null,null,null,null,null,null,null,null,null,null,null,null,null,null,null,null,null,null,null,null,null,null,null,null,null,null,null,null,null,null,null,null,null,null,null,null,null,null,null,null,null,null,null,null,null,null,null,null,{"$f":"IFERROR(VLOOKUP(ROWS($CF$3:CF1225),$CH$3:$CI$2001,2,FALSE),\"\")","v":""},null,{"$f":"IF(ISNUMBER(SEARCH(B1225,CI1225)),MAX($CH$2:CH1224)+1,0)","v":0},{"$f":"'الرصيد الثابت'!#REF!","v":{"$error":"#REF!"}}]
["",null,{"$f":"IF(B1230=\"\",\"\",SUMIF('الرصيد الثابت'!$D$2:$D$106,B1230,'الرصيد الثابت'!$H$2:$H$106))","v":""},{"$f":"IF(B1230=\"\",\"\",SUMIF('الرصيد الثابت'!$D$2:$D$106,B1230,'الرصيد الثابت'!$I$2:$I$106))","v":""},{"$f":"IF(B1230=\"\",\"\",SUMIF('الرصيد الثابت'!$D$2:$D$106,B1230,'الرصيد الثابت'!$J$2:$J$106))","v":""},null,0,null,null,null,null,0,null,null,null,0,null,0,null,null,null,null,null,null,null,null,null,null,null,null,null,null,null,null,null,null,null,null,null,null,null,null,null,null,null,null,null,null,null,null,null,null,null,null,null,null,null,null,null,null,null,null,null,null,null,null,null,null,null,null,null,null,null,null,null,null,null,null,null,null,null,null,null,{"$f":"IFERROR(VLOOKUP(ROWS($CF$3:CF1230),$CH$3:$CI$2001,2,FALSE),\"\")","v":""},null,{"$f":"IF(ISNUMBER(SEARCH(B1230,CI1230)),MAX($CH$2:CH1229)+1,0)","v":0},{"$f":"'الرصيد الثابت'!#REF!","v":{"$error":"#REF!"}}]
["",null,{"$f":"IF(B1234=\"\",\"\",SUMIF('الرصيد الثابت'!$D$2:$D$106,B1234,'الرصيد الثابت'!$H$2:$H$106))","v":""},{"$f":"IF(B1234=\"\",\"\",SUMIF('الرصيد الثابت'!$D$2:$D$106,B1234,'الرصيد الثابت'!$I$2:$I$106))","v":""},{"$f":"IF(B1234=\"\",\"\",SUMIF('الرصيد الثابت'!$D$2:$D$106,B1234,'الرصيد الثابت'!$J$2:$J$106))","v":""},null,0,null,null,null,null,0,null,null,null,0,null,0,null,null,null,null,null,null,null,null,null,null,null,null,null,null,null,null,null,null,null,null,null,null,null,null,null,null,null,null,null,null,null,null,null,null,null,null,null,null,null,null,null,null,null,null,null,null,null,null,null,null,null,null,null,null,null,null,null,null,null,null,null,null,null,null,null,{"$f":"IFERROR(VLOOKUP(ROWS($CF$3:CF1234),$CH$3:$CI$2001,2,FALSE),\"\")","v":""},null,{"$f":"IF(ISNUMBER(SEARCH(B1234,CI1234)),MAX($CH$2:CH1233)+1,0)","v":0},{"$f":"'الرصيد الثابت'!#REF!","v":{"$error":"#REF!"}}]
["",null,{"$f":"IF(B1235=\"\",\"\",SUMIF('الرصيد الثابت'!$D$2:$D$106,B1235,'الرصيد الثابت'!$H$2:$H$106))","v":""},{"$f":"IF(B1235=\"\",\"\",SUMIF('الرصيد الثابت'!$D$2:$D$106,B1235,'الرصيد الثابت'!$I$2:$I$106))","v":""},{"$f":"IF(B1235=\"\",\"\",SUMIF('الرصيد الثابت'!$D$2:$D$106,B1235,'الرصيد الثابت'!$J$2:$J$106))","v":""},null,0,null,null,null,null,0,null,null,null,0,null,0,null,null,null,null,null,null,null,null,null,null,null,null,null,null,null,null,null,null,null,null,null,null,null,null,null,null,null,null,null,null,null,null,null,null,null,null,null,null,null,null,null,null,null,null,null,null,null,null,null,null,null,null,null,null,null,null,null,null,null,null,null,null,null,null,null,{"$f":"IFERROR(VLOOKUP(ROWS($CF$3:CF1235),$CH$3:$CI$2001,2,FALSE),\"\")","v":""},null,{"$f":"IF(ISNUMBER(SEARCH(B1235,CI1235)),MAX($CH$2:CH1234)+1,0)","v":0},{"$f":"'الرصيد الثابت'!#REF!","v":{"$error":"#REF!"}}]
["",null,{"$f":"IF(B1240=\"\",\"\",SUMIF('الرصيد الثابت'!$D$2:$D$106,B1240,'الرصيد الثابت'!$H$2:$H$106))","v":""},{"$f":"IF(B1240=\"\",\"\",SUMIF('الرصيد الثابت'!$D$2:$D$106,B1240,'الرصيد الثابت'!$I$2:$I$106))","v":""},{"$f":"IF(B1240=\"\",\"\",SUMIF('الرصيد الثابت'!$D$2:$D$106,B1240,'الرصيد الثابت'!$J$2:$J$106))","v":""},null,0,null,null,null,null,0,null,null,null,0,null,0,null,null,null,null,null,null,null,null,null,null,null,null,null,null,null,null,null,null,null,null,null,null,null,null,null,null,null,null,null,null,null,null,null,null,null,null,null,null,null,null,null,null,null,null,null,null,null,null,null,null,null,null,null,null,null,null,null,null,null,null,null,null,null,null,null,{"$f":"IFERROR(VLOOKUP(ROWS($CF$3:CF1240),$CH$3:$CI$2001,2,FALSE),\"\")","v":""},null,{"$f":"IF(ISNUMBER(SEARCH(B1240,CI1240)),MAX($CH$2:CH1239)+1,0)","v":0},{"$f":"'الرصيد الثابت'!#REF!","v":{"$error":"#REF!"}}]
["",null,{"$f":"IF(B1245=\"\",\"\",SUMIF('الرصيد الثابت'!$D$2:$D$106,B1245,'الرصيد الثابت'!$H$2:$H$106))","v":""},{"$f":"IF(B1245=\"\",\"\",SUMIF('الرصيد الثابت'!$D$2:$D$106,B1245,'الرصيد الثابت'!$I$2:$I$106))","v":""},{"$f":"IF(B1245=\"\",\"\",SUMIF('الرصيد الثابت'!$D$2:$D$106,B1245,'الرصيد الثابت'!$J$2:$J$106))","v":""},null,0,null,null,null,null,0,null,null,null,0,null,0,null,null,null,null,null,null,null,null,null,null,null,null,null,null,null,null,null,null,null,null,null,null,null,null,null,null,null,null,null,null,null,null,null,null,null,null,null,null,null,null,null,null,null,null,null,null,null,null,null,null,null,null,null,null,null,null,null,null,null,null,null,null,null,null,null,{"$f":"IFERROR(VLOOKUP(ROWS($CF$3:CF1245),$CH$3:$CI$2001,2,FALSE),\"\")","v":""},null,{"$f":"IF(ISNUMBER(SEARCH(B1245,CI1245)),MAX($CH$2:CH1244)+1,0)","v":0},{"$f":"'الرصيد الثابت'!#REF!","v":{"$error":"#REF!"}}]
["",null,{"$f":"IF(B1250=\"\",\"\",SUMIF('الرصيد الثابت'!$D$2:$D$106,B1250,'الرصيد الثابت'!$H$2:$H$106))","v":""},{"$f":"IF(B1250=\"\",\"\",SUMIF('الرصيد الثابت'!$D$2:$D$106,B1250,'الرصيد الثابت'!$I$2:$I$106))","v":""},{"$f":"IF(B1250=\"\",\"\",SUMIF('الرصيد الثابت'!$D$2:$D$106,B1250,'الرصيد الثابت'!$J$2:$J$106))","v":""},null,0,null,null,null,null,0,null,null,null,0,null,0,null,null,null,null,null,null,null,null,null,null,null,null,null,null,null,null,null,null,null,null,null,null,null,null,null,null,null,null,null,null,null,null,null,null,null,null,null,null,null,null,null,null,null,null,null,null,null,null,null,null,null,null,null,null,null,null,null,null,null,null,null,null,null,null,null,{"$f":"IFERROR(VLOOKUP(ROWS($CF$3:CF1250),$CH$3:$CI$2001,2,FALSE),\"\")","v":""},null,{"$f":"IF(ISNUMBER(SEARCH(B1250,CI1250)),MAX($CH$2:CH1249)+1,0)","v":0},{"$f":"'الرصيد الثابت'!#REF!","v":{"$error":"#REF!"}}]
["",null,{"$f":"IF(B1251=\"\",\"\",SUMIF('الرصيد الثابت'!$D$2:$D$106,B1251,'الرصيد الثابت'!$H$2:$H$106))","v":""},{"$f":"IF(B1251=\"\",\"\",SUMIF('الرصيد الثابت'!$D$2:$D$106,B1251,'الرصيد الثابت'!$I$2:$I$106))","v":""},{"$f":"IF(B1251=\"\",\"\",SUMIF('الرصيد الثابت'!$D$2:$D$106,B1251,'الرصيد الثابت'!$J$2:$J$106))","v":""},null,0,null,null,null,null,0,null,null,null,0,null,0,null,null,null,null,null,null,null,null,null,null,null,null,null,null,null,null,null,null,null,null,null,null,null,null,null,null,null,null,null,null,null,null,null,null,null,null,null,null,null,null,null,null,null,null,null,null,null,null,null,null,null,null,null,null,null,null,null,null,null,null,null,null,null,null,null,{"$f":"IFERROR(VLOOKUP(ROWS($CF$3:CF1251),$CH$3:$CI$2001,2,FALSE),\"\")","v":""},null,{"$f":"IF(ISNUMBER(SEARCH(B1251,CI1251)),MAX($CH$2:CH1250)+1,0)","v":0},{"$f":"'الرصيد الثابت'!#REF!","v":{"$error":"#REF!"}}]
["",null,{"$f":"IF(B1256=\"\",\"\",SUMIF('الرصيد الثابت'!$D$2:$D$106,B1256,'الرصيد الثابت'!$H$2:$H$106))","v":""},{"$f":"IF(B1256=\"\",\"\",SUMIF('الرصيد الثابت'!$D$2:$D$106,B1256,'الرصيد الثابت'!$I$2:$I$106))","v":""},{"$f":"IF(B1256=\"\",\"\",SUMIF('الرصيد الثابت'!$D$2:$D$106,B1256,'الرصيد الثابت'!$J$2:$J$106))","v":""},null,0,null,null,null,null,0,null,null,null,0,null,0,null,null,null,null,null,null,null,null,null,null,null,null,null,null,null,null,null,null,null,null,null,null,null,null,null,null,null,null,null,null,null,null,null,null,null,null,null,null,null,null,null,null,null,null,null,null,null,null,null,null,null,null,null,null,null,null,null,null,null,null,null,null,null,null,null,{"$f":"IFERROR(VLOOKUP(ROWS($CF$3:CF1256),$CH$3:$CI$2001,2,FALSE),\"\")","v":""},null,{"$f":"IF(ISNUMBER(SEARCH(B1256,CI1256)),MAX($CH$2:CH1255)+1,0)","v":0},{"$f":"'الرصيد الثابت'!#REF!","v":{"$error":"#REF!"}}]
["",null,{"$f":"IF(B1261=\"\",\"\",SUMIF('الرصيد الثابت'!$D$2:$D$106,B1261,'الرصيد الثابت'!$H$2:$H$106))","v":""},{"$f":"IF(B1261=\"\",\"\",SUMIF('الرصيد الثابت'!$D$2:$D$106,B1261,'الرصيد الثابت'!$I$2:$I$106))","v":""},{"$f":"IF(B1261=\"\",\"\",SUMIF('الرصيد الثابت'!$D$2:$D$106,B1261,'الرصيد الثابت'!$J$2:$J$106))","v":""},null,0,null,null,null,null,0,null,null,null,0,null,0,null,null,null,null,null,null,null,null,null,null,null,null,null,null,null,null,null,null,null,null,null,null,null,null,null,null,null,null,null,null,null,null,null,null,null,null,null,null,null,null,null,null,null,null,null,null,null,null,null,null,null,null,null,null,null,null,null,null,null,null,null,null,null,null,null,{"$f":"IFERROR(VLOOKUP(ROWS($CF$3:CF1261),$CH$3:$CI$2001,2,FALSE),\"\")","v":""},null,{"$f":"IF(ISNUMBER(SEARCH(B1261,CI1261)),MAX($CH$2:CH1260)+1,0)","v":0},{"$f":"'الرصيد الثابت'!#REF!","v":{"$error":"#REF!"}}]
["",null,{"$f":"IF(B1266=\"\",\"\",SUMIF('الرصيد الثابت'!$D$2:$D$106,B1266,'الرصيد الثابت'!$H$2:$H$106))","v":""},{"$f":"IF(B1266=\"\",\"\",SUMIF('الرصيد الثابت'!$D$2:$D$106,B1266,'الرصيد الثابت'!$I$2:$I$106))","v":""},{"$f":"IF(B1266=\"\",\"\",SUMIF('الرصيد الثابت'!$D$2:$D$106,B1266,'الرصيد الثابت'!$J$2:$J$106))","v":""},null,0,null,null,null,null,0,null,null,null,0,null,0,null,null,null,null,null,null,null,null,null,null,null,null,null,null,null,null,null,null,null,null,null,null,null,null,null,null,null,null,null,null,null,null,null,null,null,null,null,null,null,null,null,null,null,null,null,null,null,null,null,null,null,null,null,null,null,null,null,null,null,null,null,null,null,null,null,{"$f":"IFERROR(VLOOKUP(ROWS($CF$3:CF1266),$CH$3:$CI$2001,2,FALSE),\"\")","v":""},null,{"$f":"IF(ISNUMBER(SEARCH(B1266,CI1266)),MAX($CH$2:CH1265)+1,0)","v":0},{"$f":"'الرصيد الثابت'!#REF!","v":{"$error":"#REF!"}}]
["",null,{"$f":"IF(B1267=\"\",\"\",SUMIF('الرصيد الثابت'!$D$2:$D$106,B1267,'الرصيد الثابت'!$H$2:$H$106))","v":""},{"$f":"IF(B1267=\"\",\"\",SUMIF('الرصيد الثابت'!$D$2:$D$106,B1267,'الرصيد الثابت'!$I$2:$I$106))","v":""},{"$f":"IF(B1267=\"\",\"\",SUMIF('الرصيد الثابت'!$D$2:$D$106,B1267,'الرصيد الثابت'!$J$2:$J$106))","v":""},null,0,null,null,null,null,0,null,null,null,0,null,0,null,null,null,null,null,null,null,null,null,null,null,null,null,null,null,null,null,null,null,null,null,null,null,null,null,null,null,null,null,null,null,null,null,null,null,null,null,null,null,null,null,null,null,null,null,null,null,null,null,null,null,null,null,null,null,null,null,null,null,null,null,null,null,null,null,{"$f":"IFERROR(VLOOKUP(ROWS($CF$3:CF1267),$CH$3:$CI$2001,2,FALSE),\"\")","v":""},null,{"$f":"IF(ISNUMBER(SEARCH(B1267,CI1267)),MAX($CH$2:CH1266)+1,0)","v":0},{"$f":"'الرصيد الثابت'!#REF!","v":{"$error":"#REF!"}}]
["",null,{"$f":"IF(B1272=\"\",\"\",SUMIF('الرصيد الثابت'!$D$2:$D$106,B1272,'الرصيد الثابت'!$H$2:$H$106))","v":""},{"$f":"IF(B1272=\"\",\"\",SUMIF('الرصيد الثابت'!$D$2:$D$106,B1272,'الرصيد الثابت'!$I$2:$I$106))","v":""},{"$f":"IF(B1272=\"\",\"\",SUMIF('الرصيد الثابت'!$D$2:$D$106,B1272,'الرصيد الثابت'!$J$2:$J$106))","v":""},null,0,null,null,null,null,0,null,null,null,0,null,0,null,null,null,null,null,null,null,null,null,null,null,null,null,null,null,null,null,null,null,null,null,null,null,null,null,null,null,null,null,null,null,null,null,null,null,null,null,null,null,null,null,null,null,null,null,null,null,null,null,null,null,null,null,null,null,null,null,null,null,null,null,null,null,null,null,{"$f":"IFERROR(VLOOKUP(ROWS($CF$3:CF1272),$CH$3:$CI$2001,2,FALSE),\"\")","v":""},null,{"$f":"IF(ISNUMBER(SEARCH(B1272,CI1272)),MAX($CH$2:CH1271)+1,0)","v":0},{"$f":"'الرصيد الثابت'!#REF!","v":{"$error":"#REF!"}}]
["",null,{"$f":"IF(B1277=\"\",\"\",SUMIF('الرصيد الثابت'!$D$2:$D$106,B1277,'الرصيد الثابت'!$H$2:$H$106))","v":""},{"$f":"IF(B1277=\"\",\"\",SUMIF('الرصيد الثابت'!$D$2:$D$106,B1277,'الرصيد الثابت'!$I$2:$I$106))","v":""},{"$f":"IF(B1277=\"\",\"\",SUMIF('الرصيد الثابت'!$D$2:$D$106,B1277,'الرصيد الثابت'!$J$2:$J$106))","v":""},null,0,null,null,null,null,0,null,null,null,0,null,0,null,null,null,null,null,null,null,null,null,null,null,null,null,null,null,null,null,null,null,null,null,null,null,null,null,null,null,null,null,null,null,null,null,null,null,null,null,null,null,null,null,null,null,null,null,null,null,null,null,null,null,null,null,null,null,null,null,null,null,null,null,null,null,null,null,{"$f":"IFERROR(VLOOKUP(ROWS($CF$3:CF1277),$CH$3:$CI$2001,2,FALSE),\"\")","v":""},null,{"$f":"IF(ISNUMBER(SEARCH(B1277,CI1277)),MAX($CH$2:CH1276)+1,0)","v":0},{"$f":"'الرصيد الثابت'!#REF!","v":{"$error":"#REF!"}}]
["",null,{"$f":"IF(B1282=\"\",\"\",SUMIF('الرصيد الثابت'!$D$2:$D$106,B1282,'الرصيد الثابت'!$H$2:$H$106))","v":""},{"$f":"IF(B1282=\"\",\"\",SUMIF('الرصيد الثابت'!$D$2:$D$106,B1282,'الرصيد الثابت'!$I$2:$I$106))","v":""},{"$f":"IF(B1282=\"\",\"\",SUMIF('الرصيد الثابت'!$D$2:$D$106,B1282,'الرصيد الثابت'!$J$2:$J$106))","v":""},null,0,null,null,null,null,0,null,null,null,0,null,0,null,null,null,null,null,null,null,null,null,null,null,null,null,null,null,null,null,null,null,null,null,null,null,null,null,null,null,null,null,null,null,null,null,null,null,null,null,null,null,null,null,null,null,null,null,null,null,null,null,null,null,null,null,null,null,null,null,null,null,null,null,null,null,null,null,{"$f":"IFERROR(VLOOKUP(ROWS($CF$3:CF1282),$CH$3:$CI$2001,2,FALSE),\"\")","v":""},null,{"$f":"IF(ISNUMBER(SEARCH(B1282,CI1282)),MAX($CH$2:CH1281)+1,0)","v":0},{"$f":"'الرصيد الثابت'!#REF!","v":{"$error":"#REF!"}}]
["",null,{"$f":"IF(B1283=\"\",\"\",SUMIF('الرصيد الثابت'!$D$2:$D$106,B1283,'الرصيد الثابت'!$H$2:$H$106))","v":""},{"$f":"IF(B1283=\"\",\"\",SUMIF('الرصيد الثابت'!$D$2:$D$106,B1283,'الرصيد الثابت'!$I$2:$I$106))","v":""},{"$f":"IF(B1283=\"\",\"\",SUMIF('الرصيد الثابت'!$D$2:$D$106,B1283,'الرصيد الثابت'!$J$2:$J$106))","v":""},null,0,null,null,null,null,0,null,null,null,0,null,0,null,null,null,null,null,null,null,null,null,null,null,null,null,null,null,null,null,null,null,null,null,null,null,null,null,null,null,null,null,null,null,null,null,null,null,null,null,null,null,null,null,null,null,null,null,null,null,null,null,null,null,null,null,null,null,null,null,null,null,null,null,null,null,null,null,{"$f":"IFERROR(VLOOKUP(ROWS($CF$3:CF1283),$CH$3:$CI$2001,2,FALSE),\"\")","v":""},null,{"$f":"IF(ISNUMBER(SEARCH(B1283,CI1283)),MAX($CH$2:CH1282)+1,0)","v":0},{"$f":"'الرصيد الثابت'!#REF!","v":{"$error":"#REF!"}}]
["",null,{"$f":"IF(B1289=\"\",\"\",SUMIF('الرصيد الثابت'!$D$2:$D$106,B1289,'الرصيد الثابت'!$H$2:$H$106))","v":""},{"$f":"IF(B1289=\"\",\"\",SUMIF('الرصيد الثابت'!$D$2:$D$106,B1289,'الرصيد الثابت'!$I$2:$I$106))","v":""},{"$f":"IF(B1289=\"\",\"\",SUMIF('الرصيد الثابت'!$D$2:$D$106,B1289,'الرصيد الثابت'!$J$2:$J$106))","v":""},null,0,null,null,null,null,0,null,null,null,0,null,0,null,null,null,null,null,null,null,null,null,null,null,null,null,null,null,null,null,null,null,null,null,null,null,null,null,null,null,null,null,null,null,null,null,null,null,null,null,null,null,null,null,null,null,null,null,null,null,null,null,null,null,null,null,null,null,null,null,null,null,null,null,null,null,null,null,{"$f":"IFERROR(VLOOKUP(ROWS($CF$3:CF1289),$CH$3:$CI$2001,2,FALSE),\"\")","v":""},null,{"$f":"IF(ISNUMBER(SEARCH(B1289,CI1289)),MAX($CH$2:CH1288)+1,0)","v":0},{"$f":"'الرصيد الثابت'!#REF!","v":{"$error":"#REF!"}}]
["",null,{"$f":"IF(B1292=\"\",\"\",SUMIF('الرصيد الثابت'!$D$2:$D$106,B1292,'الرصيد الثابت'!$H$2:$H$106))","v":""},{"$f":"IF(B1292=\"\",\"\",SUMIF('الرصيد الثابت'!$D$2:$D$106,B1292,'الرصيد الثابت'!$I$2:$I$106))","v":""},{"$f":"IF(B1292=\"\",\"\",SUMIF('الرصيد الثابت'!$D$2:$D$106,B1292,'الرصيد الثابت'!$J$2:$J$106))","v":""},null,0,null,null,null,null,0,null,null,null,{"$f":"SUM(F1292-K1292)","v":0},null,0,null,null,null,null,null,null,null,null,null,null,null,null,null,null,null,null,null,null,null,null,null,null,null,null,null,null,null,null,null,null,null,null,null,null,null,null,null,null,null,null,null,null,null,null,null,null,null,null,null,null,null,null,null,null,null,null,null,null,null,null,null,null,null,null,null,{"$f":"IFERROR(VLOOKUP(ROWS($CF$3:CF1292),$CH$3:$CI$2001,2,FALSE),\"\")","v":""},null,{"$f":"IF(ISNUMBER(SEARCH(B1292,CI1292)),MAX($CH$2:CH1291)+1,0)","v":0},{"$f":"'الرصيد الثابت'!#REF!","v":{"$error":"#REF!"}}]
["",null,{"$f":"IF(B1297=\"\",\"\",SUMIF('الرصيد الثابت'!$D$2:$D$106,B1297,'الرصيد الثابت'!$H$2:$H$106))","v":""},{"$f":"IF(B1297=\"\",\"\",SUMIF('الرصيد الثابت'!$D$2:$D$106,B1297,'الرصيد الثابت'!$I$2:$I$106))","v":""},{"$f":"IF(B1297=\"\",\"\",SUMIF('الرصيد الثابت'!$D$2:$D$106,B1297,'الرصيد الثابت'!$J$2:$J$106))","v":""},null,0,null,null,null,null,0,null,null,null,0,null,0,null,null,null,null,null,null,null,null,null,null,null,null,null,null,null,null,null,null,null,null,null,null,null,null,null,null,null,null,null,null,null,null,null,null,null,null,null,null,null,null,null,null,null,null,null,null,null,null,null,null,null,null,null,null,null,null,null,null,null,null,null,null,null,null,null,{"$f":"IFERROR(VLOOKUP(ROWS($CF$3:CF1297),$CH$3:$CI$2001,2,FALSE),\"\")","v":""},null,{"$f":"IF(ISNUMBER(SEARCH(B1297,CI1297)),MAX($CH$2:CH1296)+1,0)","v":0},{"$f":"'الرصيد الثابت'!#REF!","v":{"$error":"#REF!"}}]
["",null,{"$f":"IF(B1298=\"\",\"\",SUMIF('الرصيد الثابت'!$D$2:$D$106,B1298,'الرصيد الثابت'!$H$2:$H$106))","v":""},{"$f":"IF(B1298=\"\",\"\",SUMIF('الرصيد الثابت'!$D$2:$D$106,B1298,'الرصيد الثابت'!$I$2:$I$106))","v":""},{"$f":"IF(B1298=\"\",\"\",SUMIF('الرصيد الثابت'!$D$2:$D$106,B1298,'الرصيد الثابت'!$J$2:$J$106))","v":""},null,0,null,null,null,null,0,null,null,null,0,null,0,null,null,null,null,null,null,null,null,null,null,null,null,null,null,null,null,null,null,null,null,null,null,null,null,null,null,null,null,null,null,null,null,null,null,null,null,null,null,null,null,null,null,null,null,null,null,null,null,null,null,null,null,null,null,null,null,null,null,null,null,null,null,null,null,null,{"$f":"IFERROR(VLOOKUP(ROWS($CF$3:CF1298),$CH$3:$CI$2001,2,FALSE),\"\")","v":""},null,{"$f":"IF(ISNUMBER(SEARCH(B1298,CI1298)),MAX($CH$2:CH1297)+1,0)","v":0},{"$f":"'الرصيد الثابت'!#REF!","v":{"$error":"#REF!"}}]
["",null,{"$f":"IF(B1303=\"\",\"\",SUMIF('الرصيد الثابت'!$D$2:$D$106,B1303,'الرصيد الثابت'!$H$2:$H$106))","v":""},{"$f":"IF(B1303=\"\",\"\",SUMIF('الرصيد الثابت'!$D$2:$D$106,B1303,'الرصيد الثابت'!$I$2:$I$106))","v":""},{"$f":"IF(B1303=\"\",\"\",SUMIF('الرصيد الثابت'!$D$2:$D$106,B1303,'الرصيد الثابت'!$J$2:$J$106))","v":""},null,0,null,null,null,null,0,null,null,null,0,null,0,null,null,null,null,null,null,null,null,null,null,null,null,null,null,null,null,null,null,null,null,null,null,null,null,null,null,null,null,null,null,null,null,null,null,null,null,null,null,null,null,null,null,null,null,null,null,null,null,null,null,null,null,null,null,null,null,null,null,null,null,null,null,null,null,null,{"$f":"IFERROR(VLOOKUP(ROWS($CF$3:CF1303),$CH$3:$CI$2001,2,FALSE),\"\")","v":""},null,{"$f":"IF(ISNUMBER(SEARCH(B1303,CI1303)),MAX($CH$2:CH1302)+1,0)","v":0},{"$f":"'الرصيد الثابت'!#REF!","v":{"$error":"#REF!"}}]
["",null,{"$f":"IF(B1308=\"\",\"\",SUMIF('الرصيد الثابت'!$D$2:$D$106,B1308,'الرصيد الثابت'!$H$2:$H$106))","v":""},{"$f":"IF(B1308=\"\",\"\",SUMIF('الرصيد الثابت'!$D$2:$D$106,B1308,'الرصيد الثابت'!$I$2:$I$106))","v":""},{"$f":"IF(B1308=\"\",\"\",SUMIF('الرصيد الثابت'!$D$2:$D$106,B1308,'الرصيد الثابت'!$J$2:$J$106))","v":""},null,0,null,null,null,null,0,null,null,null,0,null,0,null,null,null,null,null,null,null,null,null,null,null,null,null,null,null,null,null,null,null,null,null,null,null,null,null,null,null,null,null,null,null,null,null,null,null,null,null,null,null,null,null,null,null,null,null,null,null,null,null,null,null,null,null,null,null,null,null,null,null,null,null,null,null,null,null,{"$f":"IFERROR(VLOOKUP(ROWS($CF$3:CF1308),$CH$3:$CI$2001,2,FALSE),\"\")","v":""},null,{"$f":"IF(ISNUMBER(SEARCH(B1308,CI1308)),MAX($CH$2:CH1307)+1,0)","v":0},{"$f":"'الرصيد الثابت'!#REF!","v":{"$error":"#REF!"}}]
["",null,{"$f":"IF(B1313=\"\",\"\",SUMIF('الرصيد الثابت'!$D$2:$D$106,B1313,'الرصيد الثابت'!$H$2:$H$106))","v":""},{"$f":"IF(B1313=\"\",\"\",SUMIF('الرصيد الثابت'!$D$2:$D$106,B1313,'الرصيد الثابت'!$I$2:$I$106))","v":""},{"$f":"IF(B1313=\"\",\"\",SUMIF('الرصيد الثابت'!$D$2:$D$106,B1313,'الرصيد الثابت'!$J$2:$J$106))","v":""},null,0,null,null,null,null,0,null,null,null,0,null,0,null,null,null,null,null,null,null,null,null,null,null,null,null,null,null,null,null,null,null,null,null,null,null,null,null,null,null,null,null,null,null,null,null,null,null,null,null,null,null,null,null,null,null,null,null,null,null,null,null,null,null,null,null,null,null,null,null,null,null,null,null,null,null,null,null,{"$f":"IFERROR(VLOOKUP(ROWS($CF$3:CF1313),$CH$3:$CI$2001,2,FALSE),\"\")","v":""},null,{"$f":"IF(ISNUMBER(SEARCH(B1313,CI1313)),MAX($CH$2:CH1312)+1,0)","v":0},{"$f":"'الرصيد الثابت'!#REF!","v":{"$error":"#REF!"}}]
["",null,{"$f":"IF(B1314=\"\",\"\",SUMIF('الرصيد الثابت'!$D$2:$D$106,B1314,'الرصيد الثابت'!$H$2:$H$106))","v":""},{"$f":"IF(B1314=\"\",\"\",SUMIF('الرصيد الثابت'!$D$2:$D$106,B1314,'الرصيد الثابت'!$I$2:$I$106))","v":""},{"$f":"IF(B1314=\"\",\"\",SUMIF('الرصيد الثابت'!$D$2:$D$106,B1314,'الرصيد الثابت'!$J$2:$J$106))","v":""},null,0,null,null,null,null,0,null,null,null,0,null,0,null,null,null,null,null,null,null,null,null,null,null,null,null,null,null,null,null,null,null,null,null,null,null,null,null,null,null,null,null,null,null,null,null,null,null,null,null,null,null,null,null,null,null,null,null,null,null,null,null,null,null,null,null,null,null,null,null,null,null,null,null,null,null,null,null,{"$f":"IFERROR(VLOOKUP(ROWS($CF$3:CF1314),$CH$3:$CI$2001,2,FALSE),\"\")","v":""},null,{"$f":"IF(ISNUMBER(SEARCH(B1314,CI1314)),MAX($CH$2:CH1313)+1,0)","v":0},{"$f":"'الرصيد الثابت'!#REF!","v":{"$error":"#REF!"}}]
["",null,{"$f":"IF(B1319=\"\",\"\",SUMIF('الرصيد الثابت'!$D$2:$D$106,B1319,'الرصيد الثابت'!$H$2:$H$106))","v":""},{"$f":"IF(B1319=\"\",\"\",SUMIF('الرصيد الثابت'!$D$2:$D$106,B1319,'الرصيد الثابت'!$I$2:$I$106))","v":""},{"$f":"IF(B1319=\"\",\"\",SUMIF('الرصيد الثابت'!$D$2:$D$106,B1319,'الرصيد الثابت'!$J$2:$J$106))","v":""},null,0,null,null,null,null,0,null,null,null,0,null,0,null,null,null,null,null,null,null,null,null,null,null,null,null,null,null,null,null,null,null,null,null,null,null,null,null,null,null,null,null,null,null,null,null,null,null,null,null,null,null,null,null,null,null,null,null,null,null,null,null,null,null,null,null,null,null,null,null,null,null,null,null,null,null,null,null,{"$f":"IFERROR(VLOOKUP(ROWS($CF$3:CF1319),$CH$3:$CI$2001,2,FALSE),\"\")","v":""},null,{"$f":"IF(ISNUMBER(SEARCH(B1319,CI1319)),MAX($CH$2:CH1318)+1,0)","v":0},{"$f":"'الرصيد الثابت'!#REF!","v":{"$error":"#REF!"}}]
["",null,{"$f":"IF(B1324=\"\",\"\",SUMIF('الرصيد الثابت'!$D$2:$D$106,B1324,'الرصيد الثابت'!$H$2:$H$106))","v":""},{"$f":"IF(B1324=\"\",\"\",SUMIF('الرصيد الثابت'!$D$2:$D$106,B1324,'الرصيد الثابت'!$I$2:$I$106))","v":""},{"$f":"IF(B1324=\"\",\"\",SUMIF('الرصيد الثابت'!$D$2:$D$106,B1324,'الرصيد الثابت'!$J$2:$J$106))","v":""},null,0,null,null,null,null,0,null,null,null,0,null,0,null,null,null,null,null,null,null,null,null,null,null,null,null,null,null,null,null,null,null,null,null,null,null,null,null,null,null,null,null,null,null,null,null,null,null,null,null,null,null,null,null,null,null,null,null,null,null,null,null,null,null,null,null,null,null,null,null,null,null,null,null,null,null,null,null,{"$f":"IFERROR(VLOOKUP(ROWS($CF$3:CF1324),$CH$3:$CI$2001,2,FALSE),\"\")","v":""},null,{"$f":"IF(ISNUMBER(SEARCH(B1324,CI1324)),MAX($CH$2:CH1323)+1,0)","v":0},{"$f":"'الرصيد الثابت'!#REF!","v":{"$error":"#REF!"}}]
["",null,{"$f":"IF(B1329=\"\",\"\",SUMIF('الرصيد الثابت'!$D$2:$D$106,B1329,'الرصيد الثابت'!$H$2:$H$106))","v":""},{"$f":"IF(B1329=\"\",\"\",SUMIF('الرصيد الثابت'!$D$2:$D$106,B1329,'الرصيد الثابت'!$I$2:$I$106))","v":""},{"$f":"IF(B1329=\"\",\"\",SUMIF('الرصيد الثابت'!$D$2:$D$106,B1329,'الرصيد الثابت'!$J$2:$J$106))","v":""},null,0,null,null,null,null,0,null,null,null,0,null,0,null,null,null,null,null,null,null,null,null,null,null,null,null,null,null,null,null,null,null,null,null,null,null,null,null,null,null,null,null,null,null,null,null,null,null,null,null,null,null,null,null,null,null,null,null,null,null,null,null,null,null,null,null,null,null,null,null,null,null,null,null,null,null,null,null,{"$f":"IFERROR(VLOOKUP(ROWS($CF$3:CF1329),$CH$3:$CI$2001,2,FALSE),\"\")","v":""},null,{"$f":"IF(ISNUMBER(SEARCH(B1329,CI1329)),MAX($CH$2:CH1328)+1,0)","v":0},{"$f":"'الرصيد الثابت'!#REF!","v":{"$error":"#REF!"}}]
["",null,{"$f":"IF(B1330=\"\",\"\",SUMIF('الرصيد الثابت'!$D$2:$D$106,B1330,'الرصيد الثابت'!$H$2:$H$106))","v":""},{"$f":"IF(B1330=\"\",\"\",SUMIF('الرصيد الثابت'!$D$2:$D$106,B1330,'الرصيد الثابت'!$I$2:$I$106))","v":""},{"$f":"IF(B1330=\"\",\"\",SUMIF('الرصيد الثابت'!$D$2:$D$106,B1330,'الرصيد الثابت'!$J$2:$J$106))","v":""},null,0,null,null,null,null,0,null,null,null,0,null,0,null,null,null,null,null,null,null,null,null,null,null,null,null,null,null,null,null,null,null,null,null,null,null,null,null,null,null,null,null,null,null,null,null,null,null,null,null,null,null,null,null,null,null,null,null,null,null,null,null,null,null,null,null,null,null,null,null,null,null,null,null,null,null,null,null,{"$f":"IFERROR(VLOOKUP(ROWS($CF$3:CF1330),$CH$3:$CI$2001,2,FALSE),\"\")","v":""},null,{"$f":"IF(ISNUMBER(SEARCH(B1330,CI1330)),MAX($CH$2:CH1329)+1,0)","v":0},{"$f":"'الرصيد الثابت'!#REF!","v":{"$error":"#REF!"}}]
["",null,{"$f":"IF(B1335=\"\",\"\",SUMIF('الرصيد الثابت'!$D$2:$D$106,B1335,'الرصيد الثابت'!$H$2:$H$106))","v":""},{"$f":"IF(B1335=\"\",\"\",SUMIF('الرصيد الثابت'!$D$2:$D$106,B1335,'الرصيد الثابت'!$I$2:$I$106))","v":""},{"$f":"IF(B1335=\"\",\"\",SUMIF('الرصيد الثابت'!$D$2:$D$106,B1335,'الرصيد الثابت'!$J$2:$J$106))","v":""},null,0,null,null,null,null,0,null,null,null,0,null,0,null,null,null,null,null,null,null,null,null,null,null,null,null,null,null,null,null,null,null,null,null,null,null,null,null,null,null,null,null,null,null,null,null,null,null,null,null,null,null,null,null,null,null,null,null,null,null,null,null,null,null,null,null,null,null,null,null,null,null,null,null,null,null,null,null,{"$f":"IFERROR(VLOOKUP(ROWS($CF$3:CF1335),$CH$3:$CI$2001,2,FALSE),\"\")","v":""},null,{"$f":"IF(ISNUMBER(SEARCH(B1335,CI1335)),MAX($CH$2:CH1334)+1,0)","v":0},{"$f":"'الرصيد الثابت'!#REF!","v":{"$error":"#REF!"}}]
["",null,{"$f":"IF(B1340=\"\",\"\",SUMIF('الرصيد الثابت'!$D$2:$D$106,B1340,'الرصيد الثابت'!$H$2:$H$106))","v":""},{"$f":"IF(B1340=\"\",\"\",SUMIF('الرصيد الثابت'!$D$2:$D$106,B1340,'الرصيد الثابت'!$I$2:$I$106))","v":""},{"$f":"IF(B1340=\"\",\"\",SUMIF('الرصيد الثابت'!$D$2:$D$106,B1340,'الرصيد الثابت'!$J$2:$J$106))","v":""},null,0,null,null,null,null,0,null,null,null,0,null,0,null,null,null,null,null,null,null,null,null,null,null,null,null,null,null,null,null,null,null,null,null,null,null,null,null,null,null,null,null,null,null,null,null,null,null,null,null,null,null,null,null,null,null,null,null,null,null,null,null,null,null,null,null,null,null,null,null,null,null,null,null,null,null,null,null,{"$f":"IFERROR(VLOOKUP(ROWS($CF$3:CF1340),$CH$3:$CI$2001,2,FALSE),\"\")","v":""},null,{"$f":"IF(ISNUMBER(SEARCH(B1340,CI1340)),MAX($CH$2:CH1339)+1,0)","v":0},{"$f":"'الرصيد الثابت'!#REF!","v":{"$error":"#REF!"}}]
["",null,{"$f":"IF(B1343=\"\",\"\",SUMIF('الرصيد الثابت'!$D$2:$D$106,B1343,'الرصيد الثابت'!$H$2:$H$106))","v":""},{"$f":"IF(B1343=\"\",\"\",SUMIF('الرصيد الثابت'!$D$2:$D$106,B1343,'الرصيد الثابت'!$I$2:$I$106))","v":""},{"$f":"IF(B1343=\"\",\"\",SUMIF('الرصيد الثابت'!$D$2:$D$106,B1343,'الرصيد الثابت'!$J$2:$J$106))","v":""},null,0,null,null,null,null,0,null,null,null,0,null,0,null,null,null,null,null,null,null,null,null,null,null,null,null,null,null,null,null,null,null,null,null,null,null,null,null,null,null,null,null,null,null,null,null,null,null,null,null,null,null,null,null,null,null,null,null,null,null,null,null,null,null,null,null,null,null,null,null,null,null,null,null,null,null,null,null,{"$f":"IFERROR(VLOOKUP(ROWS($CF$3:CF1343),$CH$3:$CI$2001,2,FALSE),\"\")","v":""},null,{"$f":"IF(ISNUMBER(SEARCH(B1343,CI1343)),MAX($CH$2:CH1342)+1,0)","v":0},{"$f":"'الرصيد الثابت'!#REF!","v":{"$error":"#REF!"}}]
["",null,{"$f":"IF(B1345=\"\",\"\",SUMIF('الرصيد الثابت'!$D$2:$D$106,B1345,'الرصيد الثابت'!$H$2:$H$106))","v":""},{"$f":"IF(B1345=\"\",\"\",SUMIF('الرصيد الثابت'!$D$2:$D$106,B1345,'الرصيد الثابت'!$I$2:$I$106))","v":""},{"$f":"IF(B1345=\"\",\"\",SUMIF('الرصيد الثابت'!$D$2:$D$106,B1345,'الرصيد الثابت'!$J$2:$J$106))","v":""},null,0,null,null,null,null,0,null,null,null,0,null,0,null,null,null,null,null,null,null,null,null,null,null,null,null,null,null,null,null,null,null,null,null,null,null,null,null,null,null,null,null,null,null,null,null,null,null,null,null,null,null,null,null,null,null,null,null,null,null,null,null,null,null,null,null,null,null,null,null,null,null,null,null,null,null,null,null,{"$f":"IFERROR(VLOOKUP(ROWS($CF$3:CF1345),$CH$3:$CI$2001,2,FALSE),\"\")","v":""},null,{"$f":"IF(ISNUMBER(SEARCH(B1345,CI1345)),MAX($CH$2:CH1344)+1,0)","v":0},{"$f":"'الرصيد الثابت'!#REF!","v":{"$error":"#REF!"}}]
["",null,{"$f":"IF(B1350=\"\",\"\",SUMIF('الرصيد الثابت'!$D$2:$D$106,B1350,'الرصيد الثابت'!$H$2:$H$106))","v":""},{"$f":"IF(B1350=\"\",\"\",SUMIF('الرصيد الثابت'!$D$2:$D$106,B1350,'الرصيد الثابت'!$I$2:$I$106))","v":""},{"$f":"IF(B1350=\"\",\"\",SUMIF('الرصيد الثابت'!$D$2:$D$106,B1350,'الرصيد الثابت'!$J$2:$J$106))","v":""},null,0,null,null,null,null,0,null,null,null,0,null,0,null,null,null,null,null,null,null,null,null,null,null,null,null,null,null,null,null,null,null,null,null,null,null,null,null,null,null,null,null,null,null,null,null,null,null,null,null,null,null,null,null,null,null,null,null,null,null,null,null,null,null,null,null,null,null,null,null,null,null,null,null,null,null,null,null,{"$f":"IFERROR(VLOOKUP(ROWS($CF$3:CF1350),$CH$3:$CI$2001,2,FALSE),\"\")","v":""},null,{"$f":"IF(ISNUMBER(SEARCH(B1350,CI1350)),MAX($CH$2:CH1349)+1,0)","v":0},{"$f":"'الرصيد الثابت'!#REF!","v":{"$error":"#REF!"}}]
["",null,{"$f":"IF(B1355=\"\",\"\",SUMIF('الرصيد الثابت'!$D$2:$D$106,B1355,'الرصيد الثابت'!$H$2:$H$106))","v":""},{"$f":"IF(B1355=\"\",\"\",SUMIF('الرصيد الثابت'!$D$2:$D$106,B1355,'الرصيد الثابت'!$I$2:$I$106))","v":""},{"$f":"IF(B1355=\"\",\"\",SUMIF('الرصيد الثابت'!$D$2:$D$106,B1355,'الرصيد الثابت'!$J$2:$J$106))","v":""},null,0,null,null,null,null,0,null,null,null,0,null,0,null,null,null,null,null,null,null,null,null,null,null,null,null,null,null,null,null,null,null,null,null,null,null,null,null,null,null,null,null,null,null,null,null,null,null,null,null,null,null,null,null,null,null,null,null,null,null,null,null,null,null,null,null,null,null,null,null,null,null,null,null,null,null,null,null,{"$f":"IFERROR(VLOOKUP(ROWS($CF$3:CF1355),$CH$3:$CI$2001,2,FALSE),\"\")","v":""},null,{"$f":"IF(ISNUMBER(SEARCH(B1355,CI1355)),MAX($CH$2:CH1354)+1,0)","v":0},{"$f":"'الرصيد الثابت'!#REF!","v":{"$error":"#REF!"}}]
["",null,{"$f":"IF(B1360=\"\",\"\",SUMIF('الرصيد الثابت'!$D$2:$D$106,B1360,'الرصيد الثابت'!$H$2:$H$106))","v":""},{"$f":"IF(B1360=\"\",\"\",SUMIF('الرصيد الثابت'!$D$2:$D$106,B1360,'الرصيد الثابت'!$I$2:$I$106))","v":""},{"$f":"IF(B1360=\"\",\"\",SUMIF('الرصيد الثابت'!$D$2:$D$106,B1360,'الرصيد الثابت'!$J$2:$J$106))","v":""},null,0,null,null,null,null,0,null,null,null,0,null,0,null,null,null,null,null,null,null,null,null,null,null,null,null,null,null,null,null,null,null,null,null,null,null,null,null,null,null,null,null,null,null,null,null,null,null,null,null,null,null,null,null,null,null,null,null,null,null,null,null,null,null,null,null,null,null,null,null,null,null,null,null,null,null,null,null,{"$f":"IFERROR(VLOOKUP(ROWS($CF$3:CF1360),$CH$3:$CI$2001,2,FALSE),\"\")","v":""},null,{"$f":"IF(ISNUMBER(SEARCH(B1360,CI1360)),MAX($CH$2:CH1359)+1,0)","v":0},{"$f":"'الرصيد الثابت'!#REF!","v":{"$error":"#REF!"}}]
["",null,{"$f":"IF(B1361=\"\",\"\",SUMIF('الرصيد الثابت'!$D$2:$D$106,B1361,'الرصيد الثابت'!$H$2:$H$106))","v":""},{"$f":"IF(B1361=\"\",\"\",SUMIF('الرصيد الثابت'!$D$2:$D$106,B1361,'الرصيد الثابت'!$I$2:$I$106))","v":""},{"$f":"IF(B1361=\"\",\"\",SUMIF('الرصيد الثابت'!$D$2:$D$106,B1361,'الرصيد الثابت'!$J$2:$J$106))","v":""},null,0,null,null,null,null,0,null,null,null,0,null,0,null,null,null,null,null,null,null,null,null,null,null,null,null,null,null,null,null,null,null,null,null,null,null,null,null,null,null,null,null,null,null,null,null,null,null,null,null,null,null,null,null,null,null,null,null,null,null,null,null,null,null,null,null,null,null,null,null,null,null,null,null,null,null,null,null,{"$f":"IFERROR(VLOOKUP(ROWS($CF$3:CF1361),$CH$3:$CI$2001,2,FALSE),\"\")","v":""},null,{"$f":"IF(ISNUMBER(SEARCH(B1361,CI1361)),MAX($CH$2:CH1360)+1,0)","v":0},{"$f":"'الرصيد الثابت'!#REF!","v":{"$error":"#REF!"}}]
["",null,{"$f":"IF(B1366=\"\",\"\",SUMIF('الرصيد الثابت'!$D$2:$D$106,B1366,'الرصيد الثابت'!$H$2:$H$106))","v":""},{"$f":"IF(B1366=\"\",\"\",SUMIF('الرصيد الثابت'!$D$2:$D$106,B1366,'الرصيد الثابت'!$I$2:$I$106))","v":""},{"$f":"IF(B1366=\"\",\"\",SUMIF('الرصيد الثابت'!$D$2:$D$106,B1366,'الرصيد الثابت'!$J$2:$J$106))","v":""},null,0,null,null,null,null,0,null,null,null,0,null,0,null,null,null,null,null,null,null,null,null,null,null,null,null,null,null,null,null,null,null,null,null,null,null,null,null,null,null,null,null,null,null,null,null,null,null,null,null,null,null,null,null,null,null,null,null,null,null,null,null,null,null,null,null,null,null,null,null,null,null,null,null,null,null,null,null,{"$f":"IFERROR(VLOOKUP(ROWS($CF$3:CF1366),$CH$3:$CI$2001,2,FALSE),\"\")","v":""},null,{"$f":"IF(ISNUMBER(SEARCH(B1366,CI1366)),MAX($CH$2:CH1365)+1,0)","v":0},{"$f":"'الرصيد الثابت'!#REF!","v":{"$error":"#REF!"}}]
["",null,{"$f":"IF(B1371=\"\",\"\",SUMIF('الرصيد الثابت'!$D$2:$D$106,B1371,'الرصيد الثابت'!$H$2:$H$106))","v":""},{"$f":"IF(B1371=\"\",\"\",SUMIF('الرصيد الثابت'!$D$2:$D$106,B1371,'الرصيد الثابت'!$I$2:$I$106))","v":""},{"$f":"IF(B1371=\"\",\"\",SUMIF('الرصيد الثابت'!$D$2:$D$106,B1371,'الرصيد الثابت'!$J$2:$J$106))","v":""},null,0,null,null,null,null,0,null,null,null,0,null,0,null,null,null,null,null,null,null,null,null,null,null,null,null,null,null,null,null,null,null,null,null,null,null,null,null,null,null,null,null,null,null,null,null,null,null,null,null,null,null,null,null,null,null,null,null,null,null,null,null,null,null,null,null,null,null,null,null,null,null,null,null,null,null,null,null,{"$f":"IFERROR(VLOOKUP(ROWS($CF$3:CF1371),$CH$3:$CI$2001,2,FALSE),\"\")","v":""},null,{"$f":"IF(ISNUMBER(SEARCH(B1371,CI1371)),MAX($CH$2:CH1370)+1,0)","v":0},{"$f":"'الرصيد الثابت'!#REF!","v":{"$error":"#REF!"}}]
[{"$f":"IF(B1376<>\"\",IF(A1376=\"\",NOW(),A1376),\"\")","v":""},null,{"$f":"IF(B1376=\"\",\"\",SUMIF('الرصيد الثابت'!$D$2:$D$106,B1376,'الرصيد الثابت'!$H$2:$H$106))","v":""},{"$f":"IF(B1376=\"\",\"\",SUMIF('الرصيد الثابت'!$D$2:$D$106,B1376,'الرصيد الثابت'!$I$2:$I$106))","v":""},{"$f":"IF(B1376=\"\",\"\",SUMIF('الرصيد الثابت'!$D$2:$D$106,B1376,'الرصيد الثابت'!$J$2:$J$106))","v":""},null,{"$f":"SUM(H1376*F1376)","v":0},null,null,null,null,0,null,null,null,{"$f":"SUM(F1376-K1376)","v":0},null,{"$f":"SUM(S1376*Q1376)","v":0},null,null,null,null,null,null,null,null,null,null,null,null,null,null,null,null,null,null,null,null,null,null,null,null,null,null,null,null,null,null,null,null,null,null,null,null,null,null,null,null,null,null,null,null,null,null,null,null,null,null,null,null,null,null,null,null,null,null,null,null,null,null,null,null,null,{"$f":"IFERROR(VLOOKUP(ROWS($CF$3:CF1376),$CH$3:$CI$2001,2,FALSE),\"\")","v":""},null,{"$f":"IF(ISNUMBER(SEARCH(B1376,CI1376)),MAX($CH$2:CH1375)+1,0)","v":0},{"$f":"'الرصيد الثابت'!#REF!","v":{"$error":"#REF!"}}]
["",null,{"$f":"IF(B1377=\"\",\"\",SUMIF('الرصيد الثابت'!$D$2:$D$106,B1377,'الرصيد الثابت'!$H$2:$H$106))","v":""},{"$f":"IF(B1377=\"\",\"\",SUMIF('الرصيد الثابت'!$D$2:$D$106,B1377,'الرصيد الثابت'!$I$2:$I$106))","v":""},{"$f":"IF(B1377=\"\",\"\",SUMIF('الرصيد الثابت'!$D$2:$D$106,B1377,'الرصيد الثابت'!$J$2:$J$106))","v":""},null,0,null,null,null,null,0,null,null,null,0,null,0,null,null,null,null,null,null,null,null,null,null,null,null,null,null,null,null,null,null,null,null,null,null,null,null,null,null,null,null,null,null,null,null,null,null,null,null,null,null,null,null,null,null,null,null,null,null,null,null,null,null,null,null,null,null,null,null,null,null,null,null,null,null,null,null,null,{"$f":"IFERROR(VLOOKUP(ROWS($CF$3:CF1377),$CH$3:$CI$2001,2,FALSE),\"\")","v":""},null,{"$f":"IF(ISNUMBER(SEARCH(B1377,CI1377)),MAX($CH$2:CH1376)+1,0)","v":0},{"$f":"'الرصيد الثابت'!#REF!","v":{"$error":"#REF!"}}]
["",null,{"$f":"IF(B1382=\"\",\"\",SUMIF('الرصيد الثابت'!$D$2:$D$106,B1382,'الرصيد الثابت'!$H$2:$H$106))","v":""},{"$f":"IF(B1382=\"\",\"\",SUMIF('الرصيد الثابت'!$D$2:$D$106,B1382,'الرصيد الثابت'!$I$2:$I$106))","v":""},{"$f":"IF(B1382=\"\",\"\",SUMIF('الرصيد الثابت'!$D$2:$D$106,B1382,'الرصيد الثابت'!$J$2:$J$106))","v":""},null,0,null,null,null,null,0,null,null,null,0,null,0,null,null,null,null,null,null,null,null,null,null,null,null,null,null,null,null,null,null,null,null,null,null,null,null,null,null,null,null,null,null,null,null,null,null,null,null,null,null,null,null,null,null,null,null,null,null,null,null,null,null,null,null,null,null,null,null,null,null,null,null,null,null,null,null,null,{"$f":"IFERROR(VLOOKUP(ROWS($CF$3:CF1382),$CH$3:$CI$2001,2,FALSE),\"\")","v":""},null,{"$f":"IF(ISNUMBER(SEARCH(B1382,CI1382)),MAX($CH$2:CH1381)+1,0)","v":0},{"$f":"'الرصيد الثابت'!#REF!","v":{"$error":"#REF!"}}]
["",null,{"$f":"IF(B1387=\"\",\"\",SUMIF('الرصيد الثابت'!$D$2:$D$106,B1387,'الرصيد الثابت'!$H$2:$H$106))","v":""},{"$f":"IF(B1387=\"\",\"\",SUMIF('الرصيد الثابت'!$D$2:$D$106,B1387,'الرصيد الثابت'!$I$2:$I$106))","v":""},{"$f":"IF(B1387=\"\",\"\",SUMIF('الرصيد الثابت'!$D$2:$D$106,B1387,'الرصيد الثابت'!$J$2:$J$106))","v":""},null,0,null,null,null,null,0,null,null,null,0,null,0,null,null,null,null,null,null,null,null,null,null,null,null,null,null,null,null,null,null,null,null,null,null,null,null,null,null,null,null,null,null,null,null,null,null,null,null,null,null,null,null,null,null,null,null,null,null,null,null,null,null,null,null,null,null,null,null,null,null,null,null,null,null,null,null,null,{"$f":"IFERROR(VLOOKUP(ROWS($CF$3:CF1387),$CH$3:$CI$2001,2,FALSE),\"\")","v":""},null,{"$f":"IF(ISNUMBER(SEARCH(B1387,CI1387)),MAX($CH$2:CH1386)+1,0)","v":0},{"$f":"'الرصيد الثابت'!#REF!","v":{"$error":"#REF!"}}]
["",null,{"$f":"IF(B1392=\"\",\"\",SUMIF('الرصيد الثابت'!$D$2:$D$106,B1392,'الرصيد الثابت'!$H$2:$H$106))","v":""},{"$f":"IF(B1392=\"\",\"\",SUMIF('الرصيد الثابت'!$D$2:$D$106,B1392,'الرصيد الثابت'!$I$2:$I$106))","v":""},{"$f":"IF(B1392=\"\",\"\",SUMIF('الرصيد الثابت'!$D$2:$D$106,B1392,'الرصيد الثابت'!$J$2:$J$106))","v":""},null,0,null,null,null,null,0,null,null,null,0,null,0,null,null,null,null,null,null,null,null,null,null,null,null,null,null,null,null,null,null,null,null,null,null,null,null,null,null,null,null,null,null,null,null,null,null,null,null,null,null,null,null,null,null,null,null,null,null,null,null,null,null,null,null,null,null,null,null,null,null,null,null,null,null,null,null,null,{"$f":"IFERROR(VLOOKUP(ROWS($CF$3:CF1392),$CH$3:$CI$2001,2,FALSE),\"\")","v":""},null,{"$f":"IF(ISNUMBER(SEARCH(B1392,CI1392)),MAX($CH$2:CH1391)+1,0)","v":0},{"$f":"'الرصيد الثابت'!#REF!","v":{"$error":"#REF!"}}]
["",null,{"$f":"IF(B1393=\"\",\"\",SUMIF('الرصيد الثابت'!$D$2:$D$106,B1393,'الرصيد الثابت'!$H$2:$H$106))","v":""},{"$f":"IF(B1393=\"\",\"\",SUMIF('الرصيد الثابت'!$D$2:$D$106,B1393,'الرصيد الثابت'!$I$2:$I$106))","v":""},{"$f":"IF(B1393=\"\",\"\",SUMIF('الرصيد الثابت'!$D$2:$D$106,B1393,'الرصيد الثابت'!$J$2:$J$106))","v":""},null,0,null,null,null,null,0,null,null,null,0,null,0,null,null,null,null,null,null,null,null,null,null,null,null,null,null,null,null,null,null,null,null,null,null,null,null,null,null,null,null,null,null,null,null,null,null,null,null,null,null,null,null,null,null,null,null,null,null,null,null,null,null,null,null,null,null,null,null,null,null,null,null,null,null,null,null,null,{"$f":"IFERROR(VLOOKUP(ROWS($CF$3:CF1393),$CH$3:$CI$2001,2,FALSE),\"\")","v":""},null,{"$f":"IF(ISNUMBER(SEARCH(B1393,CI1393)),MAX($CH$2:CH1392)+1,0)","v":0},{"$f":"'الرصيد الثابت'!#REF!","v":{"$error":"#REF!"}}]
["",null,{"$f":"IF(B1398=\"\",\"\",SUMIF('الرصيد الثابت'!$D$2:$D$106,B1398,'الرصيد الثابت'!$H$2:$H$106))","v":""},{"$f":"IF(B1398=\"\",\"\",SUMIF('الرصيد الثابت'!$D$2:$D$106,B1398,'الرصيد الثابت'!$I$2:$I$106))","v":""},{"$f":"IF(B1398=\"\",\"\",SUMIF('الرصيد الثابت'!$D$2:$D$106,B1398,'الرصيد الثابت'!$J$2:$J$106))","v":""},null,0,null,null,null,null,0,null,null,null,0,null,0,null,null,null,null,null,null,null,null,null,null,null,null,null,null,null,null,null,null,null,null,null,null,null,null,null,null,null,null,null,null,null,null,null,null,null,null,null,null,null,null,null,null,null,null,null,null,null,null,null,null,null,null,null,null,null,null,null,null,null,null,null,null,null,null,null,{"$f":"IFERROR(VLOOKUP(ROWS($CF$3:CF1398),$CH$3:$CI$2001,2,FALSE),\"\")","v":""},null,{"$f":"IF(ISNUMBER(SEARCH(B1398,CI1398)),MAX($CH$2:CH1397)+1,0)","v":0},{"$f":"'الرصيد الثابت'!#REF!","v":{"$error":"#REF!"}}]
["",null,{"$f":"IF(B1402=\"\",\"\",SUMIF('الرصيد الثابت'!$D$2:$D$106,B1402,'الرصيد الثابت'!$H$2:$H$106))","v":""},{"$f":"IF(B1402=\"\",\"\",SUMIF('الرصيد الثابت'!$D$2:$D$106,B1402,'الرصيد الثابت'!$I$2:$I$106))","v":""},{"$f":"IF(B1402=\"\",\"\",SUMIF('الرصيد الثابت'!$D$2:$D$106,B1402,'الرصيد الثابت'!$J$2:$J$106))","v":""},null,0,null,null,null,null,0,null,null,null,0,null,0,null,null,null,null,null,null,null,null,null,null,null,null,null,null,null,null,null,null,null,null,null,null,null,null,null,null,null,null,null,null,null,null,null,null,null,null,null,null,null,null,null,null,null,null,null,null,null,null,null,null,null,null,null,null,null,null,null,null,null,null,null,null,null,null,null,{"$f":"IFERROR(VLOOKUP(ROWS($CF$3:CF1402),$CH$3:$CI$2001,2,FALSE),\"\")","v":""},null,{"$f":"IF(ISNUMBER(SEARCH(B1402,CI1402)),MAX($CH$2:CH1401)+1,0)","v":0},{"$f":"'الرصيد الثابت'!#REF!","v":{"$error":"#REF!"}}]
["",null,{"$f":"IF(B1407=\"\",\"\",SUMIF('الرصيد الثابت'!$D$2:$D$106,B1407,'الرصيد الثابت'!$H$2:$H$106))","v":""},{"$f":"IF(B1407=\"\",\"\",SUMIF('الرصيد الثابت'!$D$2:$D$106,B1407,'الرصيد الثابت'!$I$2:$I$106))","v":""},{"$f":"IF(B1407=\"\",\"\",SUMIF('الرصيد الثابت'!$D$2:$D$106,B1407,'الرصيد الثابت'!$J$2:$J$106))","v":""},null,0,null,null,null,null,0,null,null,null,0,null,0,null,null,null,null,null,null,null,null,null,null,null,null,null,null,null,null,null,null,null,null,null,null,null,null,null,null,null,null,null,null,null,null,null,null,null,null,null,null,null,null,null,null,null,null,null,null,null,null,null,null,null,null,null,null,null,null,null,null,null,null,null,null,null,null,null,{"$f":"IFERROR(VLOOKUP(ROWS($CF$3:CF1407),$CH$3:$CI$2001,2,FALSE),\"\")","v":""},null,{"$f":"IF(ISNUMBER(SEARCH(B1407,CI1407)),MAX($CH$2:CH1406)+1,0)","v":0},{"$f":"'الرصيد الثابت'!#REF!","v":{"$error":"#REF!"}}]
["",null,{"$f":"IF(B1408=\"\",\"\",SUMIF('الرصيد الثابت'!$D$2:$D$106,B1408,'الرصيد الثابت'!$H$2:$H$106))","v":""},{"$f":"IF(B1408=\"\",\"\",SUMIF('الرصيد الثابت'!$D$2:$D$106,B1408,'الرصيد الثابت'!$I$2:$I$106))","v":""},{"$f":"IF(B1408=\"\",\"\",SUMIF('الرصيد الثابت'!$D$2:$D$106,B1408,'الرصيد الثابت'!$J$2:$J$106))","v":""},null,0,null,null,null,null,0,null,null,null,0,null,0,null,null,null,null,null,null,null,null,null,null,null,null,null,null,null,null,null,null,null,null,null,null,null,null,null,null,null,null,null,null,null,null,null,null,null,null,null,null,null,null,null,null,null,null,null,null,null,null,null,null,null,null,null,null,null,null,null,null,null,null,null,null,null,null,null,{"$f":"IFERROR(VLOOKUP(ROWS($CF$3:CF1408),$CH$3:$CI$2001,2,FALSE),\"\")","v":""},null,{"$f":"IF(ISNUMBER(SEARCH(B1408,CI1408)),MAX($CH$2:CH1407)+1,0)","v":0},{"$f":"'الرصيد الثابت'!#REF!","v":{"$error":"#REF!"}}]
["",null,{"$f":"IF(B1413=\"\",\"\",SUMIF('الرصيد الثابت'!$D$2:$D$106,B1413,'الرصيد الثابت'!$H$2:$H$106))","v":""},{"$f":"IF(B1413=\"\",\"\",SUMIF('الرصيد الثابت'!$D$2:$D$106,B1413,'الرصيد الثابت'!$I$2:$I$106))","v":""},{"$f":"IF(B1413=\"\",\"\",SUMIF('الرصيد الثابت'!$D$2:$D$106,B1413,'الرصيد الثابت'!$J$2:$J$106))","v":""},null,0,null,null,null,null,0,null,null,null,0,null,0,null,null,null,null,null,null,null,null,null,null,null,null,null,null,null,null,null,null,null,null,null,null,null,null,null,null,null,null,null,null,null,null,null,null,null,null,null,null,null,null,null,null,null,null,null,null,null,null,null,null,null,null,null,null,null,null,null,null,null,null,null,null,null,null,null,{"$f":"IFERROR(VLOOKUP(ROWS($CF$3:CF1413),$CH$3:$CI$2001,2,FALSE),\"\")","v":""},null,{"$f":"IF(ISNUMBER(SEARCH(B1413,CI1413)),MAX($CH$2:CH1412)+1,0)","v":0},{"$f":"'الرصيد الثابت'!#REF!","v":{"$error":"#REF!"}}]
["",null,{"$f":"IF(B1418=\"\",\"\",SUMIF('الرصيد الثابت'!$D$2:$D$106,B1418,'الرصيد الثابت'!$H$2:$H$106))","v":""},{"$f":"IF(B1418=\"\",\"\",SUMIF('الرصيد الثابت'!$D$2:$D$106,B1418,'الرصيد الثابت'!$I$2:$I$106))","v":""},{"$f":"IF(B1418=\"\",\"\",SUMIF('الرصيد الثابت'!$D$2:$D$106,B1418,'الرصيد الثابت'!$J$2:$J$106))","v":""},null,0,null,null,null,null,0,null,null,null,0,null,0,null,null,null,null,null,null,null,null,null,null,null,null,null,null,null,null,null,null,null,null,null,null,null,null,null,null,null,null,null,null,null,null,null,null,null,null,null,null,null,null,null,null,null,null,null,null,null,null,null,null,null,null,null,null,null,null,null,null,null,null,null,null,null,null,null,{"$f":"IFERROR(VLOOKUP(ROWS($CF$3:CF1418),$CH$3:$CI$2001,2,FALSE),\"\")","v":""},null,{"$f":"IF(ISNUMBER(SEARCH(B1418,CI1418)),MAX($CH$2:CH1417)+1,0)","v":0},{"$f":"'الرصيد الثابت'!#REF!","v":{"$error":"#REF!"}}]
["",null,{"$f":"IF(B1423=\"\",\"\",SUMIF('الرصيد الثابت'!$D$2:$D$106,B1423,'الرصيد الثابت'!$H$2:$H$106))","v":""},{"$f":"IF(B1423=\"\",\"\",SUMIF('الرصيد الثابت'!$D$2:$D$106,B1423,'الرصيد الثابت'!$I$2:$I$106))","v":""},{"$f":"IF(B1423=\"\",\"\",SUMIF('الرصيد الثابت'!$D$2:$D$106,B1423,'الرصيد الثابت'!$J$2:$J$106))","v":""},null,0,null,null,null,null,0,null,null,null,0,null,0,null,null,null,null,null,null,null,null,null,null,null,null,null,null,null,null,null,null,null,null,null,null,null,null,null,null,null,null,null,null,null,null,null,null,null,null,null,null,null,null,null,null,null,null,null,null,null,null,null,null,null,null,null,null,null,null,null,null,null,null,null,null,null,null,null,{"$f":"IFERROR(VLOOKUP(ROWS($CF$3:CF1423),$CH$3:$CI$2001,2,FALSE),\"\")","v":""},null,{"$f":"IF(ISNUMBER(SEARCH(B1423,CI1423)),MAX($CH$2:CH1422)+1,0)","v":0},{"$f":"'الرصيد الثابت'!#REF!","v":{"$error":"#REF!"}}]
["",null,{"$f":"IF(B1424=\"\",\"\",SUMIF('الرصيد الثابت'!$D$2:$D$106,B1424,'الرصيد الثابت'!$H$2:$H$106))","v":""},{"$f":"IF(B1424=\"\",\"\",SUMIF('الرصيد الثابت'!$D$2:$D$106,B1424,'الرصيد الثابت'!$I$2:$I$106))","v":""},{"$f":"IF(B1424=\"\",\"\",SUMIF('الرصيد الثابت'!$D$2:$D$106,B1424,'الرصيد الثابت'!$J$2:$J$106))","v":""},null,0,null,null,null,null,0,null,null,null,0,null,0,null,null,null,null,null,null,null,null,null,null,null,null,null,null,null,null,null,null,null,null,null,null,null,null,null,null,null,null,null,null,null,null,null,null,null,null,null,null,null,null,null,null,null,null,null,null,null,null,null,null,null,null,null,null,null,null,null,null,null,null,null,null,null,null,null,{"$f":"IFERROR(VLOOKUP(ROWS($CF$3:CF1424),$CH$3:$CI$2001,2,FALSE),\"\")","v":""},null,{"$f":"IF(ISNUMBER(SEARCH(B1424,CI1424)),MAX($CH$2:CH1423)+1,0)","v":0},{"$f":"'الرصيد الثابت'!#REF!","v":{"$error":"#REF!"}}]
["",null,{"$f":"IF(B1429=\"\",\"\",SUMIF('الرصيد الثابت'!$D$2:$D$106,B1429,'الرصيد الثابت'!$H$2:$H$106))","v":""},{"$f":"IF(B1429=\"\",\"\",SUMIF('الرصيد الثابت'!$D$2:$D$106,B1429,'الرصيد الثابت'!$I$2:$I$106))","v":""},{"$f":"IF(B1429=\"\",\"\",SUMIF('الرصيد الثابت'!$D$2:$D$106,B1429,'الرصيد الثابت'!$J$2:$J$106))","v":""},null,0,null,null,null,null,0,null,null,null,0,null,0,null,null,null,null,null,null,null,null,null,null,null,null,null,null,null,null,null,null,null,null,null,null,null,null,null,null,null,null,null,null,null,null,null,null,null,null,null,null,null,null,null,null,null,null,null,null,null,null,null,null,null,null,null,null,null,null,null,null,null,null,null,null,null,null,null,{"$f":"IFERROR(VLOOKUP(ROWS($CF$3:CF1429),$CH$3:$CI$2001,2,FALSE),\"\")","v":""},null,{"$f":"IF(ISNUMBER(SEARCH(B1429,CI1429)),MAX($CH$2:CH1428)+1,0)","v":0},{"$f":"'الرصيد الثابت'!#REF!","v":{"$error":"#REF!"}}]
["",null,{"$f":"IF(B1434=\"\",\"\",SUMIF('الرصيد الثابت'!$D$2:$D$106,B1434,'الرصيد الثابت'!$H$2:$H$106))","v":""},{"$f":"IF(B1434=\"\",\"\",SUMIF('الرصيد الثابت'!$D$2:$D$106,B1434,'الرصيد الثابت'!$I$2:$I$106))","v":""},{"$f":"IF(B1434=\"\",\"\",SUMIF('الرصيد الثابت'!$D$2:$D$106,B1434,'الرصيد الثابت'!$J$2:$J$106))","v":""},null,0,null,null,null,null,0,null,null,null,0,null,0,null,null,null,null,null,null,null,null,null,null,null,null,null,null,null,null,null,null,null,null,null,null,null,null,null,null,null,null,null,null,null,null,null,null,null,null,null,null,null,null,null,null,null,null,null,null,null,null,null,null,null,null,null,null,null,null,null,null,null,null,null,null,null,null,null,{"$f":"IFERROR(VLOOKUP(ROWS($CF$3:CF1434),$CH$3:$CI$2001,2,FALSE),\"\")","v":""},null,{"$f":"IF(ISNUMBER(SEARCH(B1434,CI1434)),MAX($CH$2:CH1433)+1,0)","v":0},{"$f":"'الرصيد الثابت'!#REF!","v":{"$error":"#REF!"}}]
["",null,{"$f":"IF(B1439=\"\",\"\",SUMIF('الرصيد الثابت'!$D$2:$D$106,B1439,'الرصيد الثابت'!$H$2:$H$106))","v":""},{"$f":"IF(B1439=\"\",\"\",SUMIF('الرصيد الثابت'!$D$2:$D$106,B1439,'الرصيد الثابت'!$I$2:$I$106))","v":""},{"$f":"IF(B1439=\"\",\"\",SUMIF('الرصيد الثابت'!$D$2:$D$106,B1439,'الرصيد الثابت'!$J$2:$J$106))","v":""},null,0,null,null,null,null,0,null,null,null,0,null,0,null,null,null,null,null,null,null,null,null,null,null,null,null,null,null,null,null,null,null,null,null,null,null,null,null,null,null,null,null,null,null,null,null,null,null,null,null,null,null,null,null,null,null,null,null,null,null,null,null,null,null,null,null,null,null,null,null,null,null,null,null,null,null,null,null,{"$f":"IFERROR(VLOOKUP(ROWS($CF$3:CF1439),$CH$3:$CI$2001,2,FALSE),\"\")","v":""},null,{"$f":"IF(ISNUMBER(SEARCH(B1439,CI1439)),MAX($CH$2:CH1438)+1,0)","v":0},{"$f":"'الرصيد الثابت'!#REF!","v":{"$error":"#REF!"}}]
[{"$f":"IF(B1440<>\"\",IF(A1440=\"\",NOW(),A1440),\"\")","v":""},null,{"$f":"IF(B1440=\"\",\"\",SUMIF('الرصيد الثابت'!$D$2:$D$106,B1440,'الرصيد الثابت'!$H$2:$H$106))","v":""},{"$f":"IF(B1440=\"\",\"\",SUMIF('الرصيد الثابت'!$D$2:$D$106,B1440,'الرصيد الثابت'!$I$2:$I$106))","v":""},{"$f":"IF(B1440=\"\",\"\",SUMIF('الرصيد الثابت'!$D$2:$D$106,B1440,'الرصيد الثابت'!$J$2:$J$106))","v":""},null,{"$f":"SUM(H1440*F1440)","v":0},null,null,null,null,0,null,null,null,{"$f":"SUM(F1440-K1440)","v":0},null,{"$f":"SUM(S1440*Q1440)","v":0},null,null,null,null,null,null,null,null,null,null,null,null,null,null,null,null,null,null,null,null,null,null,null,null,null,null,null,null,null,null,null,null,null,null,null,null,null,null,null,null,null,null,null,null,null,null,null,null,null,null,null,null,null,null,null,null,null,null,null,null,null,null,null,null,null,{"$f":"IFERROR(VLOOKUP(ROWS($CF$3:CF1440),$CH$3:$CI$2001,2,FALSE),\"\")","v":""},null,{"$f":"IF(ISNUMBER(SEARCH(B1440,CI1440)),MAX($CH$2:CH1439)+1,0)","v":0},{"$f":"'الرصيد الثابت'!#REF!","v":{"$error":"#REF!"}}]
["",null,{"$f":"IF(B1445=\"\",\"\",SUMIF('الرصيد الثابت'!$D$2:$D$106,B1445,'الرصيد الثابت'!$H$2:$H$106))","v":""},{"$f":"IF(B1445=\"\",\"\",SUMIF('الرصيد الثابت'!$D$2:$D$106,B1445,'الرصيد الثابت'!$I$2:$I$106))","v":""},{"$f":"IF(B1445=\"\",\"\",SUMIF('الرصيد الثابت'!$D$2:$D$106,B1445,'الرصيد الثابت'!$J$2:$J$106))","v":""},null,0,null,null,null,null,0,null,null,null,0,null,0,null,null,null,null,null,null,null,null,null,null,null,null,null,null,null,null,null,null,null,null,null,null,null,null,null,null,null,null,null,null,null,null,null,null,null,null,null,null,null,null,null,null,null,null,null,null,null,null,null,null,null,null,null,null,null,null,null,null,null,null,null,null,null,null,null,{"$f":"IFERROR(VLOOKUP(ROWS($CF$3:CF1445),$CH$3:$CI$2001,2,FALSE),\"\")","v":""},null,{"$f":"IF(ISNUMBER(SEARCH(B1445,CI1445)),MAX($CH$2:CH1444)+1,0)","v":0},{"$f":"'الرصيد الثابت'!#REF!","v":{"$error":"#REF!"}}]
["",null,{"$f":"IF(B1450=\"\",\"\",SUMIF('الرصيد الثابت'!$D$2:$D$106,B1450,'الرصيد الثابت'!$H$2:$H$106))","v":""},{"$f":"IF(B1450=\"\",\"\",SUMIF('الرصيد الثابت'!$D$2:$D$106,B1450,'الرصيد الثابت'!$I$2:$I$106))","v":""},{"$f":"IF(B1450=\"\",\"\",SUMIF('الرصيد الثابت'!$D$2:$D$106,B1450,'الرصيد الثابت'!$J$2:$J$106))","v":""},null,0,null,null,null,null,0,null,null,null,0,null,0,null,null,null,null,null,null,null,null,null,null,null,null,null,null,null,null,null,null,null,null,null,null,null,null,null,null,null,null,null,null,null,null,null,null,null,null,null,null,null,null,null,null,null,null,null,null,null,null,null,null,null,null,null,null,null,null,null,null,null,null,null,null,null,null,null,{"$f":"IFERROR(VLOOKUP(ROWS($CF$3:CF1450),$CH$3:$CI$2001,2,FALSE),\"\")","v":""},null,{"$f":"IF(ISNUMBER(SEARCH(B1450,CI1450)),MAX($CH$2:CH1449)+1,0)","v":0},{"$f":"'الرصيد الثابت'!#REF!","v":{"$error":"#REF!"}}]
["",null,{"$f":"IF(B1452=\"\",\"\",SUMIF('الرصيد الثابت'!$D$2:$D$106,B1452,'الرصيد الثابت'!$H$2:$H$106))","v":""},{"$f":"IF(B1452=\"\",\"\",SUMIF('الرصيد الثابت'!$D$2:$D$106,B1452,'الرصيد الثابت'!$I$2:$I$106))","v":""},{"$f":"IF(B1452=\"\",\"\",SUMIF('الرصيد الثابت'!$D$2:$D$106,B1452,'الرصيد الثابت'!$J$2:$J$106))","v":""},null,{"$f":"SUM(H134590*F134590)","v":0},null,null,null,null,0,null,null,null,{"$f":"SUM(F134590-K134590)","v":0},null,{"$f":"SUM(S134590*Q134590)","v":0},null,null,null,null,null,null,null,null,null,null,null,null,null,null,null,null,null,null,null,null,null,null,null,null,null,null,null,null,null,null,null,null,null,null,null,null,null,null,null,null,null,null,null,null,null,null,null,null,null,null,null,null,null,null,null,null,null,null,null,null,null,null,null,null,null,{"$f":"IFERROR(VLOOKUP(ROWS($CF$3:CF1452),$CH$3:$CI$2001,2,FALSE),\"\")","v":""},null,{"$f":"IF(ISNUMBER(SEARCH(B1452,CI1452)),MAX($CH$2:CH1451)+1,0)","v":0},{"$f":"'الرصيد الثابت'!#REF!","v":{"$error":"#REF!"}}]
["",null,{"$f":"IF(B1455=\"\",\"\",SUMIF('الرصيد الثابت'!$D$2:$D$106,B1455,'الرصيد الثابت'!$H$2:$H$106))","v":""},{"$f":"IF(B1455=\"\",\"\",SUMIF('الرصيد الثابت'!$D$2:$D$106,B1455,'الرصيد الثابت'!$I$2:$I$106))","v":""},{"$f":"IF(B1455=\"\",\"\",SUMIF('الرصيد الثابت'!$D$2:$D$106,B1455,'الرصيد الثابت'!$J$2:$J$106))","v":""},null,0,null,null,null,null,0,null,null,null,0,null,0,null,null,null,null,null,null,null,null,null,null,null,null,null,null,null,null,null,null,null,null,null,null,null,null,null,null,null,null,null,null,null,null,null,null,null,null,null,null,null,null,null,null,null,null,null,null,null,null,null,null,null,null,null,null,null,null,null,null,null,null,null,null,null,null,null,{"$f":"IFERROR(VLOOKUP(ROWS($CF$3:CF1455),$CH$3:$CI$2001,2,FALSE),\"\")","v":""},null,{"$f":"IF(ISNUMBER(SEARCH(B1455,CI1455)),MAX($CH$2:CH1454)+1,0)","v":0},{"$f":"'الرصيد الثابت'!#REF!","v":{"$error":"#REF!"}}]
["",null,{"$f":"IF(B1460=\"\",\"\",SUMIF('الرصيد الثابت'!$D$2:$D$106,B1460,'الرصيد الثابت'!$H$2:$H$106))","v":""},{"$f":"IF(B1460=\"\",\"\",SUMIF('الرصيد الثابت'!$D$2:$D$106,B1460,'الرصيد الثابت'!$I$2:$I$106))","v":""},{"$f":"IF(B1460=\"\",\"\",SUMIF('الرصيد الثابت'!$D$2:$D$106,B1460,'الرصيد الثابت'!$J$2:$J$106))","v":""},null,0,null,null,null,null,0,null,null,null,0,null,0,null,null,null,null,null,null,null,null,null,null,null,null,null,null,null,null,null,null,null,null,null,null,null,null,null,null,null,null,null,null,null,null,null,null,null,null,null,null,null,null,null,null,null,null,null,null,null,null,null,null,null,null,null,null,null,null,null,null,null,null,null,null,null,null,null,{"$f":"IFERROR(VLOOKUP(ROWS($CF$3:CF1460),$CH$3:$CI$2001,2,FALSE),\"\")","v":""},null,{"$f":"IF(ISNUMBER(SEARCH(B1460,CI1460)),MAX($CH$2:CH1459)+1,0)","v":0},{"$f":"'الرصيد الثابت'!#REF!","v":{"$error":"#REF!"}}]
["",null,{"$f":"IF(B1465=\"\",\"\",SUMIF('الرصيد الثابت'!$D$2:$D$106,B1465,'الرصيد الثابت'!$H$2:$H$106))","v":""},{"$f":"IF(B1465=\"\",\"\",SUMIF('الرصيد الثابت'!$D$2:$D$106,B1465,'الرصيد الثابت'!$I$2:$I$106))","v":""},{"$f":"IF(B1465=\"\",\"\",SUMIF('الرصيد الثابت'!$D$2:$D$106,B1465,'الرصيد الثابت'!$J$2:$J$106))","v":""},null,0,null,null,null,null,0,null,null,null,0,null,0,null,null,null,null,null,null,null,null,null,null,null,null,null,null,null,null,null,null,null,null,null,null,null,null,null,null,null,null,null,null,null,null,null,null,null,null,null,null,null,null,null,null,null,null,null,null,null,null,null,null,null,null,null,null,null,null,null,null,null,null,null,null,null,null,null,{"$f":"IFERROR(VLOOKUP(ROWS($CF$3:CF1465),$CH$3:$CI$2001,2,FALSE),\"\")","v":""},null,{"$f":"IF(ISNUMBER(SEARCH(B1465,CI1465)),MAX($CH$2:CH1464)+1,0)","v":0},{"$f":"'الرصيد الثابت'!#REF!","v":{"$error":"#REF!"}}]
["",null,{"$f":"IF(B1470=\"\",\"\",SUMIF('الرصيد الثابت'!$D$2:$D$106,B1470,'الرصيد الثابت'!$H$2:$H$106))","v":""},{"$f":"IF(B1470=\"\",\"\",SUMIF('الرصيد الثابت'!$D$2:$D$106,B1470,'الرصيد الثابت'!$I$2:$I$106))","v":""},{"$f":"IF(B1470=\"\",\"\",SUMIF('الرصيد الثابت'!$D$2:$D$106,B1470,'الرصيد الثابت'!$J$2:$J$106))","v":""},null,0,null,null,null,null,0,null,null,null,0,null,0,null,null,null,null,null,null,null,null,null,null,null,null,null,null,null,null,null,null,null,null,null,null,null,null,null,null,null,null,null,null,null,null,null,null,null,null,null,null,null,null,null,null,null,null,null,null,null,null,null,null,null,null,null,null,null,null,null,null,null,null,null,null,null,null,null,{"$f":"IFERROR(VLOOKUP(ROWS($CF$3:CF1470),$CH$3:$CI$2001,2,FALSE),\"\")","v":""},null,{"$f":"IF(ISNUMBER(SEARCH(B1470,CI1470)),MAX($CH$2:CH1469)+1,0)","v":0},{"$f":"'الرصيد الثابت'!#REF!","v":{"$error":"#REF!"}}]
["",null,{"$f":"IF(B1471=\"\",\"\",SUMIF('الرصيد الثابت'!$D$2:$D$106,B1471,'الرصيد الثابت'!$H$2:$H$106))","v":""},{"$f":"IF(B1471=\"\",\"\",SUMIF('الرصيد الثابت'!$D$2:$D$106,B1471,'الرصيد الثابت'!$I$2:$I$106))","v":""},{"$f":"IF(B1471=\"\",\"\",SUMIF('الرصيد الثابت'!$D$2:$D$106,B1471,'الرصيد الثابت'!$J$2:$J$106))","v":""},null,0,null,null,null,null,0,null,null,null,0,null,0,null,null,null,null,null,null,null,null,null,null,null,null,null,null,null,null,null,null,null,null,null,null,null,null,null,null,null,null,null,null,null,null,null,null,null,null,null,null,null,null,null,null,null,null,null,null,null,null,null,null,null,null,null,null,null,null,null,null,null,null,null,null,null,null,null,{"$f":"IFERROR(VLOOKUP(ROWS($CF$3:CF1471),$CH$3:$CI$2001,2,FALSE),\"\")","v":""},null,{"$f":"IF(ISNUMBER(SEARCH(B1471,CI1471)),MAX($CH$2:CH1470)+1,0)","v":0},{"$f":"'الرصيد الثابت'!#REF!","v":{"$error":"#REF!"}}]
["",null,{"$f":"IF(B1476=\"\",\"\",SUMIF('الرصيد الثابت'!$D$2:$D$106,B1476,'الرصيد الثابت'!$H$2:$H$106))","v":""},{"$f":"IF(B1476=\"\",\"\",SUMIF('الرصيد الثابت'!$D$2:$D$106,B1476,'الرصيد الثابت'!$I$2:$I$106))","v":""},{"$f":"IF(B1476=\"\",\"\",SUMIF('الرصيد الثابت'!$D$2:$D$106,B1476,'الرصيد الثابت'!$J$2:$J$106))","v":""},null,0,null,null,null,null,{"$f":"SUM(M1476*K1476)","v":0},null,null,null,0,null,0,null,null,null,null,null,null,null,null,null,null,null,null,null,null,null,null,null,null,null,null,null,null,null,null,null,null,null,null,null,null,null,null,null,null,null,null,null,null,null,null,null,null,null,null,null,null,null,null,null,null,null,null,null,null,null,null,null,null,null,null,null,null,null,null,null,{"$f":"IFERROR(VLOOKUP(ROWS($CF$3:CF1476),$CH$3:$CI$2001,2,FALSE),\"\")","v":""},null,{"$f":"IF(ISNUMBER(SEARCH(B1476,CI1476)),MAX($CH$2:CH1475)+1,0)","v":0},{"$f":"'الرصيد الثابت'!#REF!","v":{"$error":"#REF!"}}]
["",null,{"$f":"IF(B1481=\"\",\"\",SUMIF('الرصيد الثابت'!$D$2:$D$106,B1481,'الرصيد الثابت'!$H$2:$H$106))","v":""},{"$f":"IF(B1481=\"\",\"\",SUMIF('الرصيد الثابت'!$D$2:$D$106,B1481,'الرصيد الثابت'!$I$2:$I$106))","v":""},{"$f":"IF(B1481=\"\",\"\",SUMIF('الرصيد الثابت'!$D$2:$D$106,B1481,'الرصيد الثابت'!$J$2:$J$106))","v":""},null,0,null,null,null,null,0,null,null,null,0,null,0,null,null,null,null,null,null,null,null,null,null,null,null,null,null,null,null,null,null,null,null,null,null,null,null,null,null,null,null,null,null,null,null,null,null,null,null,null,null,null,null,null,null,null,null,null,null,null,null,null,null,null,null,null,null,null,null,null,null,null,null,null,null,null,null,null,{"$f":"IFERROR(VLOOKUP(ROWS($CF$3:CF1481),$CH$3:$CI$2001,2,FALSE),\"\")","v":""},null,{"$f":"IF(ISNUMBER(SEARCH(B1481,CI1481)),MAX($CH$2:CH1480)+1,0)","v":0},{"$f":"'الرصيد الثابت'!#REF!","v":{"$error":"#REF!"}}]
["",null,{"$f":"IF(B1486=\"\",\"\",SUMIF('الرصيد الثابت'!$D$2:$D$106,B1486,'الرصيد الثابت'!$H$2:$H$106))","v":""},{"$f":"IF(B1486=\"\",\"\",SUMIF('الرصيد الثابت'!$D$2:$D$106,B1486,'الرصيد الثابت'!$I$2:$I$106))","v":""},{"$f":"IF(B1486=\"\",\"\",SUMIF('الرصيد الثابت'!$D$2:$D$106,B1486,'الرصيد الثابت'!$J$2:$J$106))","v":""},null,0,null,null,null,null,0,null,null,null,0,null,0,null,null,null,null,null,null,null,null,null,null,null,null,null,null,null,null,null,null,null,null,null,null,null,null,null,null,null,null,null,null,null,null,null,null,null,null,null,null,null,null,null,null,null,null,null,null,null,null,null,null,null,null,null,null,null,null,null,null,null,null,null,null,null,null,null,{"$f":"IFERROR(VLOOKUP(ROWS($CF$3:CF1486),$CH$3:$CI$2001,2,FALSE),\"\")","v":""},null,{"$f":"IF(ISNUMBER(SEARCH(B1486,CI1486)),MAX($CH$2:CH1485)+1,0)","v":0},{"$f":"'الرصيد الثابت'!#REF!","v":{"$error":"#REF!"}}]
["",null,{"$f":"IF(B1487=\"\",\"\",SUMIF('الرصيد الثابت'!$D$2:$D$106,B1487,'الرصيد الثابت'!$H$2:$H$106))","v":""},{"$f":"IF(B1487=\"\",\"\",SUMIF('الرصيد الثابت'!$D$2:$D$106,B1487,'الرصيد الثابت'!$I$2:$I$106))","v":""},{"$f":"IF(B1487=\"\",\"\",SUMIF('الرصيد الثابت'!$D$2:$D$106,B1487,'الرصيد الثابت'!$J$2:$J$106))","v":""},null,0,null,null,null,null,0,null,null,null,0,null,0,null,null,null,null,null,null,null,null,null,null,null,null,null,null,null,null,null,null,null,null,null,null,null,null,null,null,null,null,null,null,null,null,null,null,null,null,null,null,null,null,null,null,null,null,null,null,null,null,null,null,null,null,null,null,null,null,null,null,null,null,null,null,null,null,null,{"$f":"IFERROR(VLOOKUP(ROWS($CF$3:CF1487),$CH$3:$CI$2001,2,FALSE),\"\")","v":""},null,{"$f":"IF(ISNUMBER(SEARCH(B1487,CI1487)),MAX($CH$2:CH1486)+1,0)","v":0},{"$f":"'الرصيد الثابت'!#REF!","v":{"$error":"#REF!"}}]
["",null,{"$f":"IF(B1492=\"\",\"\",SUMIF('الرصيد الثابت'!$D$2:$D$106,B1492,'الرصيد الثابت'!$H$2:$H$106))","v":""},{"$f":"IF(B1492=\"\",\"\",SUMIF('الرصيد الثابت'!$D$2:$D$106,B1492,'الرصيد الثابت'!$I$2:$I$106))","v":""},{"$f":"IF(B1492=\"\",\"\",SUMIF('الرصيد الثابت'!$D$2:$D$106,B1492,'الرصيد الثابت'!$J$2:$J$106))","v":""},null,0,null,null,null,null,0,null,null,null,0,null,0,null,null,null,null,null,null,null,null,null,null,null,null,null,null,null,null,null,null,null,null,null,null,null,null,null,null,null,null,null,null,null,null,null,null,null,null,null,null,null,null,null,null,null,null,null,null,null,null,null,null,null,null,null,null,null,null,null,null,null,null,null,null,null,null,null,{"$f":"IFERROR(VLOOKUP(ROWS($CF$3:CF1492),$CH$3:$CI$2001,2,FALSE),\"\")","v":""},null,{"$f":"IF(ISNUMBER(SEARCH(B1492,CI1492)),MAX($CH$2:CH1491)+1,0)","v":0},{"$f":"'الرصيد الثابت'!#REF!","v":{"$error":"#REF!"}}]
["",null,{"$f":"IF(B1497=\"\",\"\",SUMIF('الرصيد الثابت'!$D$2:$D$106,B1497,'الرصيد الثابت'!$H$2:$H$106))","v":""},{"$f":"IF(B1497=\"\",\"\",SUMIF('الرصيد الثابت'!$D$2:$D$106,B1497,'الرصيد الثابت'!$I$2:$I$106))","v":""},{"$f":"IF(B1497=\"\",\"\",SUMIF('الرصيد الثابت'!$D$2:$D$106,B1497,'الرصيد الثابت'!$J$2:$J$106))","v":""},null,0,null,null,null,null,0,null,null,null,0,null,0,null,null,null,null,null,null,null,null,null,null,null,null,null,null,null,null,null,null,null,null,null,null,null,null,null,null,null,null,null,null,null,null,null,null,null,null,null,null,null,null,null,null,null,null,null,null,null,null,null,null,null,null,null,null,null,null,null,null,null,null,null,null,null,null,null,{"$f":"IFERROR(VLOOKUP(ROWS($CF$3:CF1497),$CH$3:$CI$2001,2,FALSE),\"\")","v":""},null,{"$f":"IF(ISNUMBER(SEARCH(B1497,CI1497)),MAX($CH$2:CH1496)+1,0)","v":0},{"$f":"'الرصيد الثابت'!#REF!","v":{"$error":"#REF!"}}]
["",null,{"$f":"IF(B1502=\"\",\"\",SUMIF('الرصيد الثابت'!$D$2:$D$106,B1502,'الرصيد الثابت'!$H$2:$H$106))","v":""},{"$f":"IF(B1502=\"\",\"\",SUMIF('الرصيد الثابت'!$D$2:$D$106,B1502,'الرصيد الثابت'!$I$2:$I$106))","v":""},{"$f":"IF(B1502=\"\",\"\",SUMIF('الرصيد الثابت'!$D$2:$D$106,B1502,'الرصيد الثابت'!$J$2:$J$106))","v":""},null,0,null,null,null,null,0,null,null,null,0,null,0,null,null,null,null,null,null,null,null,null,null,null,null,null,null,null,null,null,null,null,null,null,null,null,null,null,null,null,null,null,null,null,null,null,null,null,null,null,null,null,null,null,null,null,null,null,null,null,null,null,null,null,null,null,null,null,null,null,null,null,null,null,null,null,null,null,{"$f":"IFERROR(VLOOKUP(ROWS($CF$3:CF1502),$CH$3:$CI$2001,2,FALSE),\"\")","v":""},null,{"$f":"IF(ISNUMBER(SEARCH(B1502,CI1502)),MAX($CH$2:CH1501)+1,0)","v":0},{"$f":"'الرصيد الثابت'!#REF!","v":{"$error":"#REF!"}}]
["",null,{"$f":"IF(B1503=\"\",\"\",SUMIF('الرصيد الثابت'!$D$2:$D$106,B1503,'الرصيد الثابت'!$H$2:$H$106))","v":""},{"$f":"IF(B1503=\"\",\"\",SUMIF('الرصيد الثابت'!$D$2:$D$106,B1503,'الرصيد الثابت'!$I$2:$I$106))","v":""},{"$f":"IF(B1503=\"\",\"\",SUMIF('الرصيد الثابت'!$D$2:$D$106,B1503,'الرصيد الثابت'!$J$2:$J$106))","v":""},null,0,null,null,null,null,0,null,null,null,0,null,0,null,null,null,null,null,null,null,null,null,null,null,null,null,null,null,null,null,null,null,null,null,null,null,null,null,null,null,null,null,null,null,null,null,null,null,null,null,null,null,null,null,null,null,null,null,null,null,null,null,null,null,null,null,null,null,null,null,null,null,null,null,null,null,null,null,{"$f":"IFERROR(VLOOKUP(ROWS($CF$3:CF1503),$CH$3:$CI$2001,2,FALSE),\"\")","v":""},null,{"$f":"IF(ISNUMBER(SEARCH(B1503,CI1503)),MAX($CH$2:CH1502)+1,0)","v":0},{"$f":"'الرصيد الثابت'!#REF!","v":{"$error":"#REF!"}}]
["",null,{"$f":"IF(B1508=\"\",\"\",SUMIF('الرصيد الثابت'!$D$2:$D$106,B1508,'الرصيد الثابت'!$H$2:$H$106))","v":""},{"$f":"IF(B1508=\"\",\"\",SUMIF('الرصيد الثابت'!$D$2:$D$106,B1508,'الرصيد الثابت'!$I$2:$I$106))","v":""},{"$f":"IF(B1508=\"\",\"\",SUMIF('الرصيد الثابت'!$D$2:$D$106,B1508,'الرصيد الثابت'!$J$2:$J$106))","v":""},null,0,null,null,null,null,0,null,null,null,0,null,0,null,null,null,null,null,null,null,null,null,null,null,null,null,null,null,null,null,null,null,null,null,null,null,null,null,null,null,null,null,null,null,null,null,null,null,null,null,null,null,null,null,null,null,null,null,null,null,null,null,null,null,null,null,null,null,null,null,null,null,null,null,null,null,null,null,{"$f":"IFERROR(VLOOKUP(ROWS($CF$3:CF1508),$CH$3:$CI$2001,2,FALSE),\"\")","v":""},null,{"$f":"IF(ISNUMBER(SEARCH(B1508,CI1508)),MAX($CH$2:CH1507)+1,0)","v":0},{"$f":"'الرصيد الثابت'!#REF!","v":{"$error":"#REF!"}}]
["",null,{"$f":"IF(B1511=\"\",\"\",SUMIF('الرصيد الثابت'!$D$2:$D$106,B1511,'الرصيد الثابت'!$H$2:$H$106))","v":""},{"$f":"IF(B1511=\"\",\"\",SUMIF('الرصيد الثابت'!$D$2:$D$106,B1511,'الرصيد الثابت'!$I$2:$I$106))","v":""},{"$f":"IF(B1511=\"\",\"\",SUMIF('الرصيد الثابت'!$D$2:$D$106,B1511,'الرصيد الثابت'!$J$2:$J$106))","v":""},null,0,null,null,null,null,0,null,null,null,0,null,0,null,null,null,null,null,null,null,null,null,null,null,null,null,null,null,null,null,null,null,null,null,null,null,null,null,null,null,null,null,null,null,null,null,null,null,null,null,null,null,null,null,null,null,null,null,null,null,null,null,null,null,null,null,null,null,null,null,null,null,null,null,null,null,null,null,{"$f":"IFERROR(VLOOKUP(ROWS($CF$3:CF1511),$CH$3:$CI$2001,2,FALSE),\"\")","v":""},null,{"$f":"IF(ISNUMBER(SEARCH(B1511,CI1511)),MAX($CH$2:CH1510)+1,0)","v":0},{"$f":"'الرصيد الثابت'!#REF!","v":{"$error":"#REF!"}}]
["",null,{"$f":"IF(B1517=\"\",\"\",SUMIF('الرصيد الثابت'!$D$2:$D$106,B1517,'الرصيد الثابت'!$H$2:$H$106))","v":""},{"$f":"IF(B1517=\"\",\"\",SUMIF('الرصيد الثابت'!$D$2:$D$106,B1517,'الرصيد الثابت'!$I$2:$I$106))","v":""},{"$f":"IF(B1517=\"\",\"\",SUMIF('الرصيد الثابت'!$D$2:$D$106,B1517,'الرصيد الثابت'!$J$2:$J$106))","v":""},null,0,null,null,null,null,0,null,null,null,0,null,0,null,null,null,null,null,null,null,null,null,null,null,null,null,null,null,null,null,null,null,null,null,null,null,null,null,null,null,null,null,null,null,null,null,null,null,null,null,null,null,null,null,null,null,null,null,null,null,null,null,null,null,null,null,null,null,null,null,null,null,null,null,null,null,null,null,{"$f":"IFERROR(VLOOKUP(ROWS($CF$3:CF1517),$CH$3:$CI$2001,2,FALSE),\"\")","v":""},null,{"$f":"IF(ISNUMBER(SEARCH(B1517,CI1517)),MAX($CH$2:CH1516)+1,0)","v":0},{"$f":"'الرصيد الثابت'!#REF!","v":{"$error":"#REF!"}}]
["",null,{"$f":"IF(B1518=\"\",\"\",SUMIF('الرصيد الثابت'!$D$2:$D$106,B1518,'الرصيد الثابت'!$H$2:$H$106))","v":""},{"$f":"IF(B1518=\"\",\"\",SUMIF('الرصيد الثابت'!$D$2:$D$106,B1518,'الرصيد الثابت'!$I$2:$I$106))","v":""},{"$f":"IF(B1518=\"\",\"\",SUMIF('الرصيد الثابت'!$D$2:$D$106,B1518,'الرصيد الثابت'!$J$2:$J$106))","v":""},null,0,null,null,null,null,0,null,null,null,0,null,0,null,null,null,null,null,null,null,null,null,null,null,null,null,null,null,null,null,null,null,null,null,null,null,null,null,null,null,null,null,null,null,null,null,null,null,null,null,null,null,null,null,null,null,null,null,null,null,null,null,null,null,null,null,null,null,null,null,null,null,null,null,null,null,null,null,{"$f":"IFERROR(VLOOKUP(ROWS($CF$3:CF1518),$CH$3:$CI$2001,2,FALSE),\"\")","v":""},null,{"$f":"IF(ISNUMBER(SEARCH(B1518,CI1518)),MAX($CH$2:CH1517)+1,0)","v":0},{"$f":"'الرصيد الثابت'!#REF!","v":{"$error":"#REF!"}}]
["",null,{"$f":"IF(B1523=\"\",\"\",SUMIF('الرصيد الثابت'!$D$2:$D$106,B1523,'الرصيد الثابت'!$H$2:$H$106))","v":""},{"$f":"IF(B1523=\"\",\"\",SUMIF('الرصيد الثابت'!$D$2:$D$106,B1523,'الرصيد الثابت'!$I$2:$I$106))","v":""},{"$f":"IF(B1523=\"\",\"\",SUMIF('الرصيد الثابت'!$D$2:$D$106,B1523,'الرصيد الثابت'!$J$2:$J$106))","v":""},null,0,null,null,null,null,0,null,null,null,0,null,0,null,null,null,null,null,null,null,null,null,null,null,null,null,null,null,null,null,null,null,null,null,null,null,null,null,null,null,null,null,null,null,null,null,null,null,null,null,null,null,null,null,null,null,null,null,null,null,null,null,null,null,null,null,null,null,null,null,null,null,null,null,null,null,null,null,{"$f":"IFERROR(VLOOKUP(ROWS($CF$3:CF1523),$CH$3:$CI$2001,2,FALSE),\"\")","v":""},null,{"$f":"IF(ISNUMBER(SEARCH(B1523,CI1523)),MAX($CH$2:CH1522)+1,0)","v":0},{"$f":"'الرصيد الثابت'!#REF!","v":{"$error":"#REF!"}}]
["",null,{"$f":"IF(B1528=\"\",\"\",SUMIF('الرصيد الثابت'!$D$2:$D$106,B1528,'الرصيد الثابت'!$H$2:$H$106))","v":""},{"$f":"IF(B1528=\"\",\"\",SUMIF('الرصيد الثابت'!$D$2:$D$106,B1528,'الرصيد الثابت'!$I$2:$I$106))","v":""},{"$f":"IF(B1528=\"\",\"\",SUMIF('الرصيد الثابت'!$D$2:$D$106,B1528,'الرصيد الثابت'!$J$2:$J$106))","v":""},null,0,null,null,null,null,0,null,null,null,0,null,0,null,null,null,null,null,null,null,null,null,null,null,null,null,null,null,null,null,null,null,null,null,null,null,null,null,null,null,null,null,null,null,null,null,null,null,null,null,null,null,null,null,null,null,null,null,null,null,null,null,null,null,null,null,null,null,null,null,null,null,null,null,null,null,null,null,{"$f":"IFERROR(VLOOKUP(ROWS($CF$3:CF1528),$CH$3:$CI$2001,2,FALSE),\"\")","v":""},null,{"$f":"IF(ISNUMBER(SEARCH(B1528,CI1528)),MAX($CH$2:CH1527)+1,0)","v":0},{"$f":"'الرصيد الثابت'!#REF!","v":{"$error":"#REF!"}}]
["",null,{"$f":"IF(B1533=\"\",\"\",SUMIF('الرصيد الثابت'!$D$2:$D$106,B1533,'الرصيد الثابت'!$H$2:$H$106))","v":""},{"$f":"IF(B1533=\"\",\"\",SUMIF('الرصيد الثابت'!$D$2:$D$106,B1533,'الرصيد الثابت'!$I$2:$I$106))","v":""},{"$f":"IF(B1533=\"\",\"\",SUMIF('الرصيد الثابت'!$D$2:$D$106,B1533,'الرصيد الثابت'!$J$2:$J$106))","v":""},null,0,null,null,null,null,0,null,null,null,0,null,0,null,null,null,null,null,null,null,null,null,null,null,null,null,null,null,null,null,null,null,null,null,null,null,null,null,null,null,null,null,null,null,null,null,null,null,null,null,null,null,null,null,null,null,null,null,null,null,null,null,null,null,null,null,null,null,null,null,null,null,null,null,null,null,null,null,{"$f":"IFERROR(VLOOKUP(ROWS($CF$3:CF1533),$CH$3:$CI$2001,2,FALSE),\"\")","v":""},null,{"$f":"IF(ISNUMBER(SEARCH(B1533,CI1533)),MAX($CH$2:CH1532)+1,0)","v":0},{"$f":"'الرصيد الثابت'!#REF!","v":{"$error":"#REF!"}}]
["",null,{"$f":"IF(B1534=\"\",\"\",SUMIF('الرصيد الثابت'!$D$2:$D$106,B1534,'الرصيد الثابت'!$H$2:$H$106))","v":""},{"$f":"IF(B1534=\"\",\"\",SUMIF('الرصيد الثابت'!$D$2:$D$106,B1534,'الرصيد الثابت'!$I$2:$I$106))","v":""},{"$f":"IF(B1534=\"\",\"\",SUMIF('الرصيد الثابت'!$D$2:$D$106,B1534,'الرصيد الثابت'!$J$2:$J$106))","v":""},null,0,null,null,null,null,0,null,null,null,0,null,0,null,null,null,null,null,null,null,null,null,null,null,null,null,null,null,null,null,null,null,null,null,null,null,null,null,null,null,null,null,null,null,null,null,null,null,null,null,null,null,null,null,null,null,null,null,null,null,null,null,null,null,null,null,null,null,null,null,null,null,null,null,null,null,null,null,{"$f":"IFERROR(VLOOKUP(ROWS($CF$3:CF1534),$CH$3:$CI$2001,2,FALSE),\"\")","v":""},null,{"$f":"IF(ISNUMBER(SEARCH(B1534,CI1534)),MAX($CH$2:CH1533)+1,0)","v":0},{"$f":"'الرصيد الثابت'!#REF!","v":{"$error":"#REF!"}}]
["",null,{"$f":"IF(B1539=\"\",\"\",SUMIF('الرصيد الثابت'!$D$2:$D$106,B1539,'الرصيد الثابت'!$H$2:$H$106))","v":""},{"$f":"IF(B1539=\"\",\"\",SUMIF('الرصيد الثابت'!$D$2:$D$106,B1539,'الرصيد الثابت'!$I$2:$I$106))","v":""},{"$f":"IF(B1539=\"\",\"\",SUMIF('الرصيد الثابت'!$D$2:$D$106,B1539,'الرصيد الثابت'!$J$2:$J$106))","v":""},null,0,null,null,null,null,0,null,null,null,0,null,0,null,null,null,null,null,null,null,null,null,null,null,null,null,null,null,null,null,null,null,null,null,null,null,null,null,null,null,null,null,null,null,null,null,null,null,null,null,null,null,null,null,null,null,null,null,null,null,null,null,null,null,null,null,null,null,null,null,null,null,null,null,null,null,null,null,{"$f":"IFERROR(VLOOKUP(ROWS($CF$3:CF1539),$CH$3:$CI$2001,2,FALSE),\"\")","v":""},null,{"$f":"IF(ISNUMBER(SEARCH(B1539,CI1539)),MAX($CH$2:CH1538)+1,0)","v":0},{"$f":"'الرصيد الثابت'!#REF!","v":{"$error":"#REF!"}}]
["",null,{"$f":"IF(B1544=\"\",\"\",SUMIF('الرصيد الثابت'!$D$2:$D$106,B1544,'الرصيد الثابت'!$H$2:$H$106))","v":""},{"$f":"IF(B1544=\"\",\"\",SUMIF('الرصيد الثابت'!$D$2:$D$106,B1544,'الرصيد الثابت'!$I$2:$I$106))","v":""},{"$f":"IF(B1544=\"\",\"\",SUMIF('الرصيد الثابت'!$D$2:$D$106,B1544,'الرصيد الثابت'!$J$2:$J$106))","v":""},null,0,null,null,null,null,0,null,null,null,0,null,0,null,null,null,null,null,null,null,null,null,null,null,null,null,null,null,null,null,null,null,null,null,null,null,null,null,null,null,null,null,null,null,null,null,null,null,null,null,null,null,null,null,null,null,null,null,null,null,null,null,null,null,null,null,null,null,null,null,null,null,null,null,null,null,null,null,{"$f":"IFERROR(VLOOKUP(ROWS($CF$3:CF1544),$CH$3:$CI$2001,2,FALSE),\"\")","v":""},null,{"$f":"IF(ISNUMBER(SEARCH(B1544,CI1544)),MAX($CH$2:CH1543)+1,0)","v":0},{"$f":"'الرصيد الثابت'!#REF!","v":{"$error":"#REF!"}}]
["",null,{"$f":"IF(B1549=\"\",\"\",SUMIF('الرصيد الثابت'!$D$2:$D$106,B1549,'الرصيد الثابت'!$H$2:$H$106))","v":""},{"$f":"IF(B1549=\"\",\"\",SUMIF('الرصيد الثابت'!$D$2:$D$106,B1549,'الرصيد الثابت'!$I$2:$I$106))","v":""},{"$f":"IF(B1549=\"\",\"\",SUMIF('الرصيد الثابت'!$D$2:$D$106,B1549,'الرصيد الثابت'!$J$2:$J$106))","v":""},null,0,null,null,null,null,0,null,null,null,0,null,0,null,null,null,null,null,null,null,null,null,null,null,null,null,null,null,null,null,null,null,null,null,null,null,null,null,null,null,null,null,null,null,null,null,null,null,null,null,null,null,null,null,null,null,null,null,null,null,null,null,null,null,null,null,null,null,null,null,null,null,null,null,null,null,null,null,{"$f":"IFERROR(VLOOKUP(ROWS($CF$3:CF1549),$CH$3:$CI$2001,2,FALSE),\"\")","v":""},null,{"$f":"IF(ISNUMBER(SEARCH(B1549,CI1549)),MAX($CH$2:CH1548)+1,0)","v":0},{"$f":"'الرصيد الثابت'!#REF!","v":{"$error":"#REF!"}}]
["",null,{"$f":"IF(B1550=\"\",\"\",SUMIF('الرصيد الثابت'!$D$2:$D$106,B1550,'الرصيد الثابت'!$H$2:$H$106))","v":""},{"$f":"IF(B1550=\"\",\"\",SUMIF('الرصيد الثابت'!$D$2:$D$106,B1550,'الرصيد الثابت'!$I$2:$I$106))","v":""},{"$f":"IF(B1550=\"\",\"\",SUMIF('الرصيد الثابت'!$D$2:$D$106,B1550,'الرصيد الثابت'!$J$2:$J$106))","v":""},null,0,null,null,null,null,0,null,null,null,0,null,0,null,null,null,null,null,null,null,null,null,null,null,null,null,null,null,null,null,null,null,null,null,null,null,null,null,null,null,null,null,null,null,null,null,null,null,null,null,null,null,null,null,null,null,null,null,null,null,null,null,null,null,null,null,null,null,null,null,null,null,null,null,null,null,null,null,{"$f":"IFERROR(VLOOKUP(ROWS($CF$3:CF1550),$CH$3:$CI$2001,2,FALSE),\"\")","v":""},null,{"$f":"IF(ISNUMBER(SEARCH(B1550,CI1550)),MAX($CH$2:CH1549)+1,0)","v":0},{"$f":"'الرصيد الثابت'!#REF!","v":{"$error":"#REF!"}}]
["",null,{"$f":"IF(B1555=\"\",\"\",SUMIF('الرصيد الثابت'!$D$2:$D$106,B1555,'الرصيد الثابت'!$H$2:$H$106))","v":""},{"$f":"IF(B1555=\"\",\"\",SUMIF('الرصيد الثابت'!$D$2:$D$106,B1555,'الرصيد الثابت'!$I$2:$I$106))","v":""},{"$f":"IF(B1555=\"\",\"\",SUMIF('الرصيد الثابت'!$D$2:$D$106,B1555,'الرصيد الثابت'!$J$2:$J$106))","v":""},null,0,null,null,null,null,0,null,null,null,0,null,0,null,null,null,null,null,null,null,null,null,null,null,null,null,null,null,null,null,null,null,null,null,null,null,null,null,null,null,null,null,null,null,null,null,null,null,null,null,null,null,null,null,null,null,null,null,null,null,null,null,null,null,null,null,null,null,null,null,null,null,null,null,null,null,null,null,{"$f":"IFERROR(VLOOKUP(ROWS($CF$3:CF1555),$CH$3:$CI$2001,2,FALSE),\"\")","v":""},null,{"$f":"IF(ISNUMBER(SEARCH(B1555,CI1555)),MAX($CH$2:CH1554)+1,0)","v":0},{"$f":"'الرصيد الثابت'!#REF!","v":{"$error":"#REF!"}}]
["",null,{"$f":"IF(B1560=\"\",\"\",SUMIF('الرصيد الثابت'!$D$2:$D$106,B1560,'الرصيد الثابت'!$H$2:$H$106))","v":""},{"$f":"IF(B1560=\"\",\"\",SUMIF('الرصيد الثابت'!$D$2:$D$106,B1560,'الرصيد الثابت'!$I$2:$I$106))","v":""},{"$f":"IF(B1560=\"\",\"\",SUMIF('الرصيد الثابت'!$D$2:$D$106,B1560,'الرصيد الثابت'!$J$2:$J$106))","v":""},null,0,null,null,null,null,0,null,null,null,0,null,0,null,null,null,null,null,null,null,null,null,null,null,null,null,null,null,null,null,null,null,null,null,null,null,null,null,null,null,null,null,null,null,null,null,null,null,null,null,null,null,null,null,null,null,null,null,null,null,null,null,null,null,null,null,null,null,null,null,null,null,null,null,null,null,null,null,{"$f":"IFERROR(VLOOKUP(ROWS($CF$3:CF1560),$CH$3:$CI$2001,2,FALSE),\"\")","v":""},null,{"$f":"IF(ISNUMBER(SEARCH(B1560,CI1560)),MAX($CH$2:CH1559)+1,0)","v":0},{"$f":"'الرصيد الثابت'!#REF!","v":{"$error":"#REF!"}}]
["",null,{"$f":"IF(B1565=\"\",\"\",SUMIF('الرصيد الثابت'!$D$2:$D$106,B1565,'الرصيد الثابت'!$H$2:$H$106))","v":""},{"$f":"IF(B1565=\"\",\"\",SUMIF('الرصيد الثابت'!$D$2:$D$106,B1565,'الرصيد الثابت'!$I$2:$I$106))","v":""},{"$f":"IF(B1565=\"\",\"\",SUMIF('الرصيد الثابت'!$D$2:$D$106,B1565,'الرصيد الثابت'!$J$2:$J$106))","v":""},null,0,null,null,null,null,0,null,null,null,0,null,0,null,null,null,null,null,null,null,null,null,null,null,null,null,null,null,null,null,null,null,null,null,null,null,null,null,null,null,null,null,null,null,null,null,null,null,null,null,null,null,null,null,null,null,null,null,null,null,null,null,null,null,null,null,null,null,null,null,null,null,null,null,null,null,null,null,{"$f":"IFERROR(VLOOKUP(ROWS($CF$3:CF1565),$CH$3:$CI$2001,2,FALSE),\"\")","v":""},null,{"$f":"IF(ISNUMBER(SEARCH(B1565,CI1565)),MAX($CH$2:CH1564)+1,0)","v":0},{"$f":"'الرصيد الثابت'!#REF!","v":{"$error":"#REF!"}}]
[{"$f":"IF(B1568<>\"\",IF(A1568=\"\",NOW(),A1568),\"\")","v":""},null,{"$f":"IF(B1568=\"\",\"\",SUMIF('الرصيد الثابت'!$D$2:$D$106,B1568,'الرصيد الثابت'!$H$2:$H$106))","v":""},{"$f":"IF(B1568=\"\",\"\",SUMIF('الرصيد الثابت'!$D$2:$D$106,B1568,'الرصيد الثابت'!$I$2:$I$106))","v":""},{"$f":"IF(B1568=\"\",\"\",SUMIF('الرصيد الثابت'!$D$2:$D$106,B1568,'الرصيد الثابت'!$J$2:$J$106))","v":""},null,{"$f":"SUM(H1568*F1568)","v":0},null,null,null,null,0,null,null,null,{"$f":"SUM(F1568-K1568)","v":0},null,{"$f":"SUM(S1568*Q1568)","v":0},null,null,null,null,null,null,null,null,null,null,null,null,null,null,null,null,null,null,null,null,null,null,null,null,null,null,null,null,null,null,null,null,null,null,null,null,null,null,null,null,null,null,null,null,null,null,null,null,null,null,null,null,null,null,null,null,null,null,null,null,null,null,null,null,null,{"$f":"IFERROR(VLOOKUP(ROWS($CF$3:CF1568),$CH$3:$CI$2001,2,FALSE),\"\")","v":""},null,{"$f":"IF(ISNUMBER(SEARCH(B1568,CI1568)),MAX($CH$2:CH1567)+1,0)","v":0},{"$f":"'الرصيد الثابت'!#REF!","v":{"$error":"#REF!"}}]
["",null,{"$f":"IF(B1570=\"\",\"\",SUMIF('الرصيد الثابت'!$D$2:$D$106,B1570,'الرصيد الثابت'!$H$2:$H$106))","v":""},{"$f":"IF(B1570=\"\",\"\",SUMIF('الرصيد الثابت'!$D$2:$D$106,B1570,'الرصيد الثابت'!$I$2:$I$106))","v":""},{"$f":"IF(B1570=\"\",\"\",SUMIF('الرصيد الثابت'!$D$2:$D$106,B1570,'الرصيد الثابت'!$J$2:$J$106))","v":""},null,0,null,null,null,null,0,null,null,null,0,null,0,null,null,null,null,null,null,null,null,null,null,null,null,null,null,null,null,null,null,null,null,null,null,null,null,null,null,null,null,null,null,null,null,null,null,null,null,null,null,null,null,null,null,null,null,null,null,null,null,null,null,null,null,null,null,null,null,null,null,null,null,null,null,null,null,null,{"$f":"IFERROR(VLOOKUP(ROWS($CF$3:CF1570),$CH$3:$CI$2001,2,FALSE),\"\")","v":""},null,{"$f":"IF(ISNUMBER(SEARCH(B1570,CI1570)),MAX($CH$2:CH1569)+1,0)","v":0},{"$f":"'الرصيد الثابت'!#REF!","v":{"$error":"#REF!"}}]
["",null,{"$f":"IF(B1575=\"\",\"\",SUMIF('الرصيد الثابت'!$D$2:$D$106,B1575,'الرصيد الثابت'!$H$2:$H$106))","v":""},{"$f":"IF(B1575=\"\",\"\",SUMIF('الرصيد الثابت'!$D$2:$D$106,B1575,'الرصيد الثابت'!$I$2:$I$106))","v":""},{"$f":"IF(B1575=\"\",\"\",SUMIF('الرصيد الثابت'!$D$2:$D$106,B1575,'الرصيد الثابت'!$J$2:$J$106))","v":""},null,0,null,null,null,null,0,null,null,null,0,null,0,null,null,null,null,null,null,null,null,null,null,null,null,null,null,null,null,null,null,null,null,null,null,null,null,null,null,null,null,null,null,null,null,null,null,null,null,null,null,null,null,null,null,null,null,null,null,null,null,null,null,null,null,null,null,null,null,null,null,null,null,null,null,null,null,null,{"$f":"IFERROR(VLOOKUP(ROWS($CF$3:CF1575),$CH$3:$CI$2001,2,FALSE),\"\")","v":""},null,{"$f":"IF(ISNUMBER(SEARCH(B1575,CI1575)),MAX($CH$2:CH1574)+1,0)","v":0},{"$f":"'الرصيد الثابت'!#REF!","v":{"$error":"#REF!"}}]
["",null,{"$f":"IF(B1580=\"\",\"\",SUMIF('الرصيد الثابت'!$D$2:$D$106,B1580,'الرصيد الثابت'!$H$2:$H$106))","v":""},{"$f":"IF(B1580=\"\",\"\",SUMIF('الرصيد الثابت'!$D$2:$D$106,B1580,'الرصيد الثابت'!$I$2:$I$106))","v":""},{"$f":"IF(B1580=\"\",\"\",SUMIF('الرصيد الثابت'!$D$2:$D$106,B1580,'الرصيد الثابت'!$J$2:$J$106))","v":""},null,0,null,null,null,null,0,null,null,null,0,null,0,null,null,null,null,null,null,null,null,null,null,null,null,null,null,null,null,null,null,null,null,null,null,null,null,null,null,null,null,null,null,null,null,null,null,null,null,null,null,null,null,null,null,null,null,null,null,null,null,null,null,null,null,null,null,null,null,null,null,null,null,null,null,null,null,null,{"$f":"IFERROR(VLOOKUP(ROWS($CF$3:CF1580),$CH$3:$CI$2001,2,FALSE),\"\")","v":""},null,{"$f":"IF(ISNUMBER(SEARCH(B1580,CI1580)),MAX($CH$2:CH1579)+1,0)","v":0},{"$f":"'الرصيد الثابت'!#REF!","v":{"$error":"#REF!"}}]
["",null,{"$f":"IF(B1581=\"\",\"\",SUMIF('الرصيد الثابت'!$D$2:$D$106,B1581,'الرصيد الثابت'!$H$2:$H$106))","v":""},{"$f":"IF(B1581=\"\",\"\",SUMIF('الرصيد الثابت'!$D$2:$D$106,B1581,'الرصيد الثابت'!$I$2:$I$106))","v":""},{"$f":"IF(B1581=\"\",\"\",SUMIF('الرصيد الثابت'!$D$2:$D$106,B1581,'الرصيد الثابت'!$J$2:$J$106))","v":""},null,0,null,null,null,null,0,null,null,null,0,null,0,null,null,null,null,null,null,null,null,null,null,null,null,null,null,null,null,null,null,null,null,null,null,null,null,null,null,null,null,null,null,null,null,null,null,null,null,null,null,null,null,null,null,null,null,null,null,null,null,null,null,null,null,null,null,null,null,null,null,null,null,null,null,null,null,null,{"$f":"IFERROR(VLOOKUP(ROWS($CF$3:CF1581),$CH$3:$CI$2001,2,FALSE),\"\")","v":""},null,{"$f":"IF(ISNUMBER(SEARCH(B1581,CI1581)),MAX($CH$2:CH1580)+1,0)","v":0},{"$f":"'الرصيد الثابت'!#REF!","v":{"$error":"#REF!"}}]
["",null,{"$f":"IF(B1586=\"\",\"\",SUMIF('الرصيد الثابت'!$D$2:$D$106,B1586,'الرصيد الثابت'!$H$2:$H$106))","v":""},{"$f":"IF(B1586=\"\",\"\",SUMIF('الرصيد الثابت'!$D$2:$D$106,B1586,'الرصيد الثابت'!$I$2:$I$106))","v":""},{"$f":"IF(B1586=\"\",\"\",SUMIF('الرصيد الثابت'!$D$2:$D$106,B1586,'الرصيد الثابت'!$J$2:$J$106))","v":""},null,0,null,null,null,null,0,null,null,null,0,null,0,null,null,null,null,null,null,null,null,null,null,null,null,null,null,null,null,null,null,null,null,null,null,null,null,null,null,null,null,null,null,null,null,null,null,null,null,null,null,null,null,null,null,null,null,null,null,null,null,null,null,null,null,null,null,null,null,null,null,null,null,null,null,null,null,null,{"$f":"IFERROR(VLOOKUP(ROWS($CF$3:CF1586),$CH$3:$CI$2001,2,FALSE),\"\")","v":""},null,{"$f":"IF(ISNUMBER(SEARCH(B1586,CI1586)),MAX($CH$2:CH1585)+1,0)","v":0},{"$f":"'الرصيد الثابت'!#REF!","v":{"$error":"#REF!"}}]
["",null,{"$f":"IF(B1591=\"\",\"\",SUMIF('الرصيد الثابت'!$D$2:$D$106,B1591,'الرصيد الثابت'!$H$2:$H$106))","v":""},{"$f":"IF(B1591=\"\",\"\",SUMIF('الرصيد الثابت'!$D$2:$D$106,B1591,'الرصيد الثابت'!$I$2:$I$106))","v":""},{"$f":"IF(B1591=\"\",\"\",SUMIF('الرصيد الثابت'!$D$2:$D$106,B1591,'الرصيد الثابت'!$J$2:$J$106))","v":""},null,0,null,null,null,null,0,null,null,null,0,null,0,null,null,null,null,null,null,null,null,null,null,null,null,null,null,null,null,null,null,null,null,null,null,null,null,null,null,null,null,null,null,null,null,null,null,null,null,null,null,null,null,null,null,null,null,null,null,null,null,null,null,null,null,null,null,null,null,null,null,null,null,null,null,null,null,null,{"$f":"IFERROR(VLOOKUP(ROWS($CF$3:CF1591),$CH$3:$CI$2001,2,FALSE),\"\")","v":""},null,{"$f":"IF(ISNUMBER(SEARCH(B1591,CI1591)),MAX($CH$2:CH1590)+1,0)","v":0},{"$f":"'الرصيد الثابت'!#REF!","v":{"$error":"#REF!"}}]
["",null,{"$f":"IF(B1596=\"\",\"\",SUMIF('الرصيد الثابت'!$D$2:$D$106,B1596,'الرصيد الثابت'!$H$2:$H$106))","v":""},{"$f":"IF(B1596=\"\",\"\",SUMIF('الرصيد الثابت'!$D$2:$D$106,B1596,'الرصيد الثابت'!$I$2:$I$106))","v":""},{"$f":"IF(B1596=\"\",\"\",SUMIF('الرصيد الثابت'!$D$2:$D$106,B1596,'الرصيد الثابت'!$J$2:$J$106))","v":""},null,0,null,null,null,null,0,null,null,null,0,null,0,null,null,null,null,null,null,null,null,null,null,null,null,null,null,null,null,null,null,null,null,null,null,null,null,null,null,null,null,null,null,null,null,null,null,null,null,null,null,null,null,null,null,null,null,null,null,null,null,null,null,null,null,null,null,null,null,null,null,null,null,null,null,null,null,null,{"$f":"IFERROR(VLOOKUP(ROWS($CF$3:CF1596),$CH$3:$CI$2001,2,FALSE),\"\")","v":""},null,{"$f":"IF(ISNUMBER(SEARCH(B1596,CI1596)),MAX($CH$2:CH1595)+1,0)","v":0},{"$f":"'الرصيد الثابت'!#REF!","v":{"$error":"#REF!"}}]
["",null,{"$f":"IF(B1597=\"\",\"\",SUMIF('الرصيد الثابت'!$D$2:$D$106,B1597,'الرصيد الثابت'!$H$2:$H$106))","v":""},{"$f":"IF(B1597=\"\",\"\",SUMIF('الرصيد الثابت'!$D$2:$D$106,B1597,'الرصيد الثابت'!$I$2:$I$106))","v":""},{"$f":"IF(B1597=\"\",\"\",SUMIF('الرصيد الثابت'!$D$2:$D$106,B1597,'الرصيد الثابت'!$J$2:$J$106))","v":""},null,0,null,null,null,null,0,null,null,null,0,null,0,null,null,null,null,null,null,null,null,null,null,null,null,null,null,null,null,null,null,null,null,null,null,null,null,null,null,null,null,null,null,null,null,null,null,null,null,null,null,null,null,null,null,null,null,null,null,null,null,null,null,null,null,null,null,null,null,null,null,null,null,null,null,null,null,null,{"$f":"IFERROR(VLOOKUP(ROWS($CF$3:CF1597),$CH$3:$CI$2001,2,FALSE),\"\")","v":""},null,{"$f":"IF(ISNUMBER(SEARCH(B1597,CI1597)),MAX($CH$2:CH1596)+1,0)","v":0},{"$f":"'الرصيد الثابت'!#REF!","v":{"$error":"#REF!"}}]
["",null,{"$f":"IF(B1602=\"\",\"\",SUMIF('الرصيد الثابت'!$D$2:$D$106,B1602,'الرصيد الثابت'!$H$2:$H$106))","v":""},{"$f":"IF(B1602=\"\",\"\",SUMIF('الرصيد الثابت'!$D$2:$D$106,B1602,'الرصيد الثابت'!$I$2:$I$106))","v":""},{"$f":"IF(B1602=\"\",\"\",SUMIF('الرصيد الثابت'!$D$2:$D$106,B1602,'الرصيد الثابت'!$J$2:$J$106))","v":""},null,0,null,null,null,null,0,null,null,null,0,null,0,null,null,null,null,null,null,null,null,null,null,null,null,null,null,null,null,null,null,null,null,null,null,null,null,null,null,null,null,null,null,null,null,null,null,null,null,null,null,null,null,null,null,null,null,null,null,null,null,null,null,null,null,null,null,null,null,null,null,null,null,null,null,null,null,null,{"$f":"IFERROR(VLOOKUP(ROWS($CF$3:CF1602),$CH$3:$CI$2001,2,FALSE),\"\")","v":""},null,{"$f":"IF(ISNUMBER(SEARCH(B1602,CI1602)),MAX($CH$2:CH1601)+1,0)","v":0},{"$f":"'الرصيد الثابت'!#REF!","v":{"$error":"#REF!"}}]
["",null,{"$f":"IF(B1607=\"\",\"\",SUMIF('الرصيد الثابت'!$D$2:$D$106,B1607,'الرصيد الثابت'!$H$2:$H$106))","v":""},{"$f":"IF(B1607=\"\",\"\",SUMIF('الرصيد الثابت'!$D$2:$D$106,B1607,'الرصيد الثابت'!$I$2:$I$106))","v":""},{"$f":"IF(B1607=\"\",\"\",SUMIF('الرصيد الثابت'!$D$2:$D$106,B1607,'الرصيد الثابت'!$J$2:$J$106))","v":""},null,0,null,null,null,null,0,null,null,null,0,null,0,null,null,null,null,null,null,null,null,null,null,null,null,null,null,null,null,null,null,null,null,null,null,null,null,null,null,null,null,null,null,null,null,null,null,null,null,null,null,null,null,null,null,null,null,null,null,null,null,null,null,null,null,null,null,null,null,null,null,null,null,null,null,null,null,null,{"$f":"IFERROR(VLOOKUP(ROWS($CF$3:CF1607),$CH$3:$CI$2001,2,FALSE),\"\")","v":""},null,{"$f":"IF(ISNUMBER(SEARCH(B1607,CI1607)),MAX($CH$2:CH1606)+1,0)","v":0},{"$f":"'الرصيد الثابت'!#REF!","v":{"$error":"#REF!"}}]
["",null,{"$f":"IF(B1612=\"\",\"\",SUMIF('الرصيد الثابت'!$D$2:$D$106,B1612,'الرصيد الثابت'!$H$2:$H$106))","v":""},{"$f":"IF(B1612=\"\",\"\",SUMIF('الرصيد الثابت'!$D$2:$D$106,B1612,'الرصيد الثابت'!$I$2:$I$106))","v":""},{"$f":"IF(B1612=\"\",\"\",SUMIF('الرصيد الثابت'!$D$2:$D$106,B1612,'الرصيد الثابت'!$J$2:$J$106))","v":""},null,0,null,null,null,null,0,null,null,null,0,null,0,null,null,null,null,null,null,null,null,null,null,null,null,null,null,null,null,null,null,null,null,null,null,null,null,null,null,null,null,null,null,null,null,null,null,null,null,null,null,null,null,null,null,null,null,null,null,null,null,null,null,null,null,null,null,null,null,null,null,null,null,null,null,null,null,null,{"$f":"IFERROR(VLOOKUP(ROWS($CF$3:CF1612),$CH$3:$CI$2001,2,FALSE),\"\")","v":""},null,{"$f":"IF(ISNUMBER(SEARCH(B1612,CI1612)),MAX($CH$2:CH1611)+1,0)","v":0},{"$f":"'الرصيد الثابت'!#REF!","v":{"$error":"#REF!"}}]
["",null,{"$f":"IF(B1613=\"\",\"\",SUMIF('الرصيد الثابت'!$D$2:$D$106,B1613,'الرصيد الثابت'!$H$2:$H$106))","v":""},{"$f":"IF(B1613=\"\",\"\",SUMIF('الرصيد الثابت'!$D$2:$D$106,B1613,'الرصيد الثابت'!$I$2:$I$106))","v":""},{"$f":"IF(B1613=\"\",\"\",SUMIF('الرصيد الثابت'!$D$2:$D$106,B1613,'الرصيد الثابت'!$J$2:$J$106))","v":""},null,0,null,null,null,null,0,null,null,null,0,null,0,null,null,null,null,null,null,null,null,null,null,null,null,null,null,null,null,null,null,null,null,null,null,null,null,null,null,null,null,null,null,null,null,null,null,null,null,null,null,null,null,null,null,null,null,null,null,null,null,null,null,null,null,null,null,null,null,null,null,null,null,null,null,null,null,null,{"$f":"IFERROR(VLOOKUP(ROWS($CF$3:CF1613),$CH$3:$CI$2001,2,FALSE),\"\")","v":""},null,{"$f":"IF(ISNUMBER(SEARCH(B1613,CI1613)),MAX($CH$2:CH1612)+1,0)","v":0},{"$f":"'الرصيد الثابت'!#REF!","v":{"$error":"#REF!"}}]
["",null,{"$f":"IF(B1618=\"\",\"\",SUMIF('الرصيد الثابت'!$D$2:$D$106,B1618,'الرصيد الثابت'!$H$2:$H$106))","v":""},{"$f":"IF(B1618=\"\",\"\",SUMIF('الرصيد الثابت'!$D$2:$D$106,B1618,'الرصيد الثابت'!$I$2:$I$106))","v":""},{"$f":"IF(B1618=\"\",\"\",SUMIF('الرصيد الثابت'!$D$2:$D$106,B1618,'الرصيد الثابت'!$J$2:$J$106))","v":""},null,0,null,null,null,null,0,null,null,null,0,null,0,null,null,null,null,null,null,null,null,null,null,null,null,null,null,null,null,null,null,null,null,null,null,null,null,null,null,null,null,null,null,null,null,null,null,null,null,null,null,null,null,null,null,null,null,null,null,null,null,null,null,null,null,null,null,null,null,null,null,null,null,null,null,null,null,null,{"$f":"IFERROR(VLOOKUP(ROWS($CF$3:CF1618),$CH$3:$CI$2001,2,FALSE),\"\")","v":""},null,{"$f":"IF(ISNUMBER(SEARCH(B1618,CI1618)),MAX($CH$2:CH1617)+1,0)","v":0},{"$f":"'الرصيد الثابت'!#REF!","v":{"$error":"#REF!"}}]
["",null,{"$f":"IF(B1622=\"\",\"\",SUMIF('الرصيد الثابت'!$D$2:$D$106,B1622,'الرصيد الثابت'!$H$2:$H$106))","v":""},{"$f":"IF(B1622=\"\",\"\",SUMIF('الرصيد الثابت'!$D$2:$D$106,B1622,'الرصيد الثابت'!$I$2:$I$106))","v":""},{"$f":"IF(B1622=\"\",\"\",SUMIF('الرصيد الثابت'!$D$2:$D$106,B1622,'الرصيد الثابت'!$J$2:$J$106))","v":""},null,0,null,null,null,null,0,null,null,null,0,null,0,null,null,null,null,null,null,null,null,null,null,null,null,null,null,null,null,null,null,null,null,null,null,null,null,null,null,null,null,null,null,null,null,null,null,null,null,null,null,null,null,null,null,null,null,null,null,null,null,null,null,null,null,null,null,null,null,null,null,null,null,null,null,null,null,null,{"$f":"IFERROR(VLOOKUP(ROWS($CF$3:CF1622),$CH$3:$CI$2001,2,FALSE),\"\")","v":""},null,{"$f":"IF(ISNUMBER(SEARCH(B1622,CI1622)),MAX($CH$2:CH1621)+1,0)","v":0},{"$f":"'الرصيد الثابت'!#REF!","v":{"$error":"#REF!"}}]
["",null,{"$f":"IF(B1627=\"\",\"\",SUMIF('الرصيد الثابت'!$D$2:$D$106,B1627,'الرصيد الثابت'!$H$2:$H$106))","v":""},{"$f":"IF(B1627=\"\",\"\",SUMIF('الرصيد الثابت'!$D$2:$D$106,B1627,'الرصيد الثابت'!$I$2:$I$106))","v":""},{"$f":"IF(B1627=\"\",\"\",SUMIF('الرصيد الثابت'!$D$2:$D$106,B1627,'الرصيد الثابت'!$J$2:$J$106))","v":""},null,0,null,null,null,null,0,null,null,null,0,null,0,null,null,null,null,null,null,null,null,null,null,null,null,null,null,null,null,null,null,null,null,null,null,null,null,null,null,null,null,null,null,null,null,null,null,null,null,null,null,null,null,null,null,null,null,null,null,null,null,null,null,null,null,null,null,null,null,null,null,null,null,null,null,null,null,null,{"$f":"IFERROR(VLOOKUP(ROWS($CF$3:CF1627),$CH$3:$CI$2001,2,FALSE),\"\")","v":""},null,{"$f":"IF(ISNUMBER(SEARCH(B1627,CI1627)),MAX($CH$2:CH1626)+1,0)","v":0},{"$f":"'الرصيد الثابت'!#REF!","v":{"$error":"#REF!"}}]
["",null,{"$f":"IF(B1628=\"\",\"\",SUMIF('الرصيد الثابت'!$D$2:$D$106,B1628,'الرصيد الثابت'!$H$2:$H$106))","v":""},{"$f":"IF(B1628=\"\",\"\",SUMIF('الرصيد الثابت'!$D$2:$D$106,B1628,'الرصيد الثابت'!$I$2:$I$106))","v":""},{"$f":"IF(B1628=\"\",\"\",SUMIF('الرصيد الثابت'!$D$2:$D$106,B1628,'الرصيد الثابت'!$J$2:$J$106))","v":""},null,0,null,null,null,null,0,null,null,null,0,null,0,null,null,null,null,null,null,null,null,null,null,null,null,null,null,null,null,null,null,null,null,null,null,null,null,null,null,null,null,null,null,null,null,null,null,null,null,null,null,null,null,null,null,null,null,null,null,null,null,null,null,null,null,null,null,null,null,null,null,null,null,null,null,null,null,null,{"$f":"IFERROR(VLOOKUP(ROWS($CF$3:CF1628),$CH$3:$CI$2001,2,FALSE),\"\")","v":""},null,{"$f":"IF(ISNUMBER(SEARCH(B1628,CI1628)),MAX($CH$2:CH1627)+1,0)","v":0},{"$f":"'الرصيد الثابت'!#REF!","v":{"$error":"#REF!"}}]
["",null,{"$f":"IF(B1633=\"\",\"\",SUMIF('الرصيد الثابت'!$D$2:$D$106,B1633,'الرصيد الثابت'!$H$2:$H$106))","v":""},{"$f":"IF(B1633=\"\",\"\",SUMIF('الرصيد الثابت'!$D$2:$D$106,B1633,'الرصيد الثابت'!$I$2:$I$106))","v":""},{"$f":"IF(B1633=\"\",\"\",SUMIF('الرصيد الثابت'!$D$2:$D$106,B1633,'الرصيد الثابت'!$J$2:$J$106))","v":""},null,0,null,null,null,null,0,null,null,null,0,null,0,null,null,null,null,null,null,null,null,null,null,null,null,null,null,null,null,null,null,null,null,null,null,null,null,null,null,null,null,null,null,null,null,null,null,null,null,null,null,null,null,null,null,null,null,null,null,null,null,null,null,null,null,null,null,null,null,null,null,null,null,null,null,null,null,null,{"$f":"IFERROR(VLOOKUP(ROWS($CF$3:CF1633),$CH$3:$CI$2001,2,FALSE),\"\")","v":""},null,{"$f":"IF(ISNUMBER(SEARCH(B1633,CI1633)),MAX($CH$2:CH1632)+1,0)","v":0},{"$f":"'الرصيد الثابت'!#REF!","v":{"$error":"#REF!"}}]
["",null,{"$f":"IF(B1638=\"\",\"\",SUMIF('الرصيد الثابت'!$D$2:$D$106,B1638,'الرصيد الثابت'!$H$2:$H$106))","v":""},{"$f":"IF(B1638=\"\",\"\",SUMIF('الرصيد الثابت'!$D$2:$D$106,B1638,'الرصيد الثابت'!$I$2:$I$106))","v":""},{"$f":"IF(B1638=\"\",\"\",SUMIF('الرصيد الثابت'!$D$2:$D$106,B1638,'الرصيد الثابت'!$J$2:$J$106))","v":""},null,0,null,null,null,null,0,null,null,null,0,null,0,null,null,null,null,null,null,null,null,null,null,null,null,null,null,null,null,null,null,null,null,null,null,null,null,null,null,null,null,null,null,null,null,null,null,null,null,null,null,null,null,null,null,null,null,null,null,null,null,null,null,null,null,null,null,null,null,null,null,null,null,null,null,null,null,null,{"$f":"IFERROR(VLOOKUP(ROWS($CF$3:CF1638),$CH$3:$CI$2001,2,FALSE),\"\")","v":""},null,{"$f":"IF(ISNUMBER(SEARCH(B1638,CI1638)),MAX($CH$2:CH1637)+1,0)","v":0},{"$f":"'الرصيد الثابت'!#REF!","v":{"$error":"#REF!"}}]
["",null,{"$f":"IF(B1643=\"\",\"\",SUMIF('الرصيد الثابت'!$D$2:$D$106,B1643,'الرصيد الثابت'!$H$2:$H$106))","v":""},{"$f":"IF(B1643=\"\",\"\",SUMIF('الرصيد الثابت'!$D$2:$D$106,B1643,'الرصيد الثابت'!$I$2:$I$106))","v":""},{"$f":"IF(B1643=\"\",\"\",SUMIF('الرصيد الثابت'!$D$2:$D$106,B1643,'الرصيد الثابت'!$J$2:$J$106))","v":""},null,0,null,null,null,null,0,null,null,null,0,null,0,null,null,null,null,null,null,null,null,null,null,null,null,null,null,null,null,null,null,null,null,null,null,null,null,null,null,null,null,null,null,null,null,null,null,null,null,null,null,null,null,null,null,null,null,null,null,null,null,null,null,null,null,null,null,null,null,null,null,null,null,null,null,null,null,null,{"$f":"IFERROR(VLOOKUP(ROWS($CF$3:CF1643),$CH$3:$CI$2001,2,FALSE),\"\")","v":""},null,{"$f":"IF(ISNUMBER(SEARCH(B1643,CI1643)),MAX($CH$2:CH1642)+1,0)","v":0},{"$f":"'الرصيد الثابت'!#REF!","v":{"$error":"#REF!"}}]
["",null,{"$f":"IF(B1644=\"\",\"\",SUMIF('الرصيد الثابت'!$D$2:$D$106,B1644,'الرصيد الثابت'!$H$2:$H$106))","v":""},{"$f":"IF(B1644=\"\",\"\",SUMIF('الرصيد الثابت'!$D$2:$D$106,B1644,'الرصيد الثابت'!$I$2:$I$106))","v":""},{"$f":"IF(B1644=\"\",\"\",SUMIF('الرصيد الثابت'!$D$2:$D$106,B1644,'الرصيد الثابت'!$J$2:$J$106))","v":""},null,0,null,null,null,null,0,null,null,null,0,null,0,null,null,null,null,null,null,null,null,null,null,null,null,null,null,null,null,null,null,null,null,null,null,null,null,null,null,null,null,null,null,null,null,null,null,null,null,null,null,null,null,null,null,null,null,null,null,null,null,null,null,null,null,null,null,null,null,null,null,null,null,null,null,null,null,null,{"$f":"IFERROR(VLOOKUP(ROWS($CF$3:CF1644),$CH$3:$CI$2001,2,FALSE),\"\")","v":""},null,{"$f":"IF(ISNUMBER(SEARCH(B1644,CI1644)),MAX($CH$2:CH1643)+1,0)","v":0},{"$f":"'الرصيد الثابت'!#REF!","v":{"$error":"#REF!"}}]
["",null,{"$f":"IF(B1649=\"\",\"\",SUMIF('الرصيد الثابت'!$D$2:$D$106,B1649,'الرصيد الثابت'!$H$2:$H$106))","v":""},{"$f":"IF(B1649=\"\",\"\",SUMIF('الرصيد الثابت'!$D$2:$D$106,B1649,'الرصيد الثابت'!$I$2:$I$106))","v":""},{"$f":"IF(B1649=\"\",\"\",SUMIF('الرصيد الثابت'!$D$2:$D$106,B1649,'الرصيد الثابت'!$J$2:$J$106))","v":""},null,0,null,null,null,null,0,null,null,null,0,null,0,null,null,null,null,null,null,null,null,null,null,null,null,null,null,null,null,null,null,null,null,null,null,null,null,null,null,null,null,null,null,null,null,null,null,null,null,null,null,null,null,null,null,null,null,null,null,null,null,null,null,null,null,null,null,null,null,null,null,null,null,null,null,null,null,null,{"$f":"IFERROR(VLOOKUP(ROWS($CF$3:CF1649),$CH$3:$CI$2001,2,FALSE),\"\")","v":""},null,{"$f":"IF(ISNUMBER(SEARCH(B1649,CI1649)),MAX($CH$2:CH1648)+1,0)","v":0},{"$f":"'الرصيد الثابت'!#REF!","v":{"$error":"#REF!"}}]
["",null,{"$f":"IF(B1654=\"\",\"\",SUMIF('الرصيد الثابت'!$D$2:$D$106,B1654,'الرصيد الثابت'!$H$2:$H$106))","v":""},{"$f":"IF(B1654=\"\",\"\",SUMIF('الرصيد الثابت'!$D$2:$D$106,B1654,'الرصيد الثابت'!$I$2:$I$106))","v":""},{"$f":"IF(B1654=\"\",\"\",SUMIF('الرصيد الثابت'!$D$2:$D$106,B1654,'الرصيد الثابت'!$J$2:$J$106))","v":""},null,0,null,null,null,null,0,null,null,null,0,null,0,null,null,null,null,null,null,null,null,null,null,null,null,null,null,null,null,null,null,null,null,null,null,null,null,null,null,null,null,null,null,null,null,null,null,null,null,null,null,null,null,null,null,null,null,null,null,null,null,null,null,null,null,null,null,null,null,null,null,null,null,null,null,null,null,null,{"$f":"IFERROR(VLOOKUP(ROWS($CF$3:CF1654),$CH$3:$CI$2001,2,FALSE),\"\")","v":""},null,{"$f":"IF(ISNUMBER(SEARCH(B1654,CI1654)),MAX($CH$2:CH1653)+1,0)","v":0},{"$f":"'الرصيد الثابت'!#REF!","v":{"$error":"#REF!"}}]
["",null,{"$f":"IF(B1659=\"\",\"\",SUMIF('الرصيد الثابت'!$D$2:$D$106,B1659,'الرصيد الثابت'!$H$2:$H$106))","v":""},{"$f":"IF(B1659=\"\",\"\",SUMIF('الرصيد الثابت'!$D$2:$D$106,B1659,'الرصيد الثابت'!$I$2:$I$106))","v":""},{"$f":"IF(B1659=\"\",\"\",SUMIF('الرصيد الثابت'!$D$2:$D$106,B1659,'الرصيد الثابت'!$J$2:$J$106))","v":""},null,0,null,null,null,null,0,null,null,null,0,null,0,null,null,null,null,null,null,null,null,null,null,null,null,null,null,null,null,null,null,null,null,null,null,null,null,null,null,null,null,null,null,null,null,null,null,null,null,null,null,null,null,null,null,null,null,null,null,null,null,null,null,null,null,null,null,null,null,null,null,null,null,null,null,null,null,null,{"$f":"IFERROR(VLOOKUP(ROWS($CF$3:CF1659),$CH$3:$CI$2001,2,FALSE),\"\")","v":""},null,{"$f":"IF(ISNUMBER(SEARCH(B1659,CI1659)),MAX($CH$2:CH1658)+1,0)","v":0},{"$f":"'الرصيد الثابت'!#REF!","v":{"$error":"#REF!"}}]
["",null,{"$f":"IF(B1660=\"\",\"\",SUMIF('الرصيد الثابت'!$D$2:$D$106,B1660,'الرصيد الثابت'!$H$2:$H$106))","v":""},{"$f":"IF(B1660=\"\",\"\",SUMIF('الرصيد الثابت'!$D$2:$D$106,B1660,'الرصيد الثابت'!$I$2:$I$106))","v":""},{"$f":"IF(B1660=\"\",\"\",SUMIF('الرصيد الثابت'!$D$2:$D$106,B1660,'الرصيد الثابت'!$J$2:$J$106))","v":""},null,0,null,null,null,null,0,null,null,null,0,null,0,null,null,null,null,null,null,null,null,null,null,null,null,null,null,null,null,null,null,null,null,null,null,null,null,null,null,null,null,null,null,null,null,null,null,null,null,null,null,null,null,null,null,null,null,null,null,null,null,null,null,null,null,null,null,null,null,null,null,null,null,null,null,null,null,null,{"$f":"IFERROR(VLOOKUP(ROWS($CF$3:CF1660),$CH$3:$CI$2001,2,FALSE),\"\")","v":""},null,{"$f":"IF(ISNUMBER(SEARCH(B1660,CI1660)),MAX($CH$2:CH1659)+1,0)","v":0},{"$f":"'الرصيد الثابت'!#REF!","v":{"$error":"#REF!"}}]
["",null,{"$f":"IF(B1665=\"\",\"\",SUMIF('الرصيد الثابت'!$D$2:$D$106,B1665,'الرصيد الثابت'!$H$2:$H$106))","v":""},{"$f":"IF(B1665=\"\",\"\",SUMIF('الرصيد الثابت'!$D$2:$D$106,B1665,'الرصيد الثابت'!$I$2:$I$106))","v":""},{"$f":"IF(B1665=\"\",\"\",SUMIF('الرصيد الثابت'!$D$2:$D$106,B1665,'الرصيد الثابت'!$J$2:$J$106))","v":""},null,0,null,null,null,null,0,null,null,null,0,null,0,null,null,null,null,null,null,null,null,null,null,null,null,null,null,null,null,null,null,null,null,null,null,null,null,null,null,null,null,null,null,null,null,null,null,null,null,null,null,null,null,null,null,null,null,null,null,null,null,null,null,null,null,null,null,null,null,null,null,null,null,null,null,null,null,null,{"$f":"IFERROR(VLOOKUP(ROWS($CF$3:CF1665),$CH$3:$CI$2001,2,FALSE),\"\")","v":""},null,{"$f":"IF(ISNUMBER(SEARCH(B1665,CI1665)),MAX($CH$2:CH1664)+1,0)","v":0},{"$f":"'الرصيد الثابت'!#REF!","v":{"$error":"#REF!"}}]
["",null,{"$f":"IF(B1670=\"\",\"\",SUMIF('الرصيد الثابت'!$D$2:$D$106,B1670,'الرصيد الثابت'!$H$2:$H$106))","v":""},{"$f":"IF(B1670=\"\",\"\",SUMIF('الرصيد الثابت'!$D$2:$D$106,B1670,'الرصيد الثابت'!$I$2:$I$106))","v":""},{"$f":"IF(B1670=\"\",\"\",SUMIF('الرصيد الثابت'!$D$2:$D$106,B1670,'الرصيد الثابت'!$J$2:$J$106))","v":""},null,0,null,null,null,null,0,null,null,null,0,null,0,null,null,null,null,null,null,null,null,null,null,null,null,null,null,null,null,null,null,null,null,null,null,null,null,null,null,null,null,null,null,null,null,null,null,null,null,null,null,null,null,null,null,null,null,null,null,null,null,null,null,null,null,null,null,null,null,null,null,null,null,null,null,null,null,null,{"$f":"IFERROR(VLOOKUP(ROWS($CF$3:CF1670),$CH$3:$CI$2001,2,FALSE),\"\")","v":""},null,{"$f":"IF(ISNUMBER(SEARCH(B1670,CI1670)),MAX($CH$2:CH1669)+1,0)","v":0},{"$f":"'الرصيد الثابت'!#REF!","v":{"$error":"#REF!"}}]
["",null,{"$f":"IF(B1675=\"\",\"\",SUMIF('الرصيد الثابت'!$D$2:$D$106,B1675,'الرصيد الثابت'!$H$2:$H$106))","v":""},{"$f":"IF(B1675=\"\",\"\",SUMIF('الرصيد الثابت'!$D$2:$D$106,B1675,'الرصيد الثابت'!$I$2:$I$106))","v":""},{"$f":"IF(B1675=\"\",\"\",SUMIF('الرصيد الثابت'!$D$2:$D$106,B1675,'الرصيد الثابت'!$J$2:$J$106))","v":""},null,0,null,null,null,null,0,null,null,null,0,null,0,null,null,null,null,null,null,null,null,null,null,null,null,null,null,null,null,null,null,null,null,null,null,null,null,null,null,null,null,null,null,null,null,null,null,null,null,null,null,null,null,null,null,null,null,null,null,null,null,null,null,null,null,null,null,null,null,null,null,null,null,null,null,null,null,null,{"$f":"IFERROR(VLOOKUP(ROWS($CF$3:CF1675),$CH$3:$CI$2001,2,FALSE),\"\")","v":""},null,{"$f":"IF(ISNUMBER(SEARCH(B1675,CI1675)),MAX($CH$2:CH1674)+1,0)","v":0},{"$f":"'الرصيد الثابت'!#REF!","v":{"$error":"#REF!"}}]
["",null,{"$f":"IF(B1676=\"\",\"\",SUMIF('الرصيد الثابت'!$D$2:$D$106,B1676,'الرصيد الثابت'!$H$2:$H$106))","v":""},{"$f":"IF(B1676=\"\",\"\",SUMIF('الرصيد الثابت'!$D$2:$D$106,B1676,'الرصيد الثابت'!$I$2:$I$106))","v":""},{"$f":"IF(B1676=\"\",\"\",SUMIF('الرصيد الثابت'!$D$2:$D$106,B1676,'الرصيد الثابت'!$J$2:$J$106))","v":""},null,0,null,null,null,null,0,null,null,null,0,null,0,null,null,null,null,null,null,null,null,null,null,null,null,null,null,null,null,null,null,null,null,null,null,null,null,null,null,null,null,null,null,null,null,null,null,null,null,null,null,null,null,null,null,null,null,null,null,null,null,null,null,null,null,null,null,null,null,null,null,null,null,null,null,null,null,null,{"$f":"IFERROR(VLOOKUP(ROWS($CF$3:CF1676),$CH$3:$CI$2001,2,FALSE),\"\")","v":""},null,{"$f":"IF(ISNUMBER(SEARCH(B1676,CI1676)),MAX($CH$2:CH1675)+1,0)","v":0},{"$f":"'الرصيد الثابت'!#REF!","v":{"$error":"#REF!"}}]
["",null,{"$f":"IF(B1681=\"\",\"\",SUMIF('الرصيد الثابت'!$D$2:$D$106,B1681,'الرصيد الثابت'!$H$2:$H$106))","v":""},{"$f":"IF(B1681=\"\",\"\",SUMIF('الرصيد الثابت'!$D$2:$D$106,B1681,'الرصيد الثابت'!$I$2:$I$106))","v":""},{"$f":"IF(B1681=\"\",\"\",SUMIF('الرصيد الثابت'!$D$2:$D$106,B1681,'الرصيد الثابت'!$J$2:$J$106))","v":""},null,0,null,null,null,null,0,null,null,null,0,null,0,null,null,null,null,null,null,null,null,null,null,null,null,null,null,null,null,null,null,null,null,null,null,null,null,null,null,null,null,null,null,null,null,null,null,null,null,null,null,null,null,null,null,null,null,null,null,null,null,null,null,null,null,null,null,null,null,null,null,null,null,null,null,null,null,null,{"$f":"IFERROR(VLOOKUP(ROWS($CF$3:CF1681),$CH$3:$CI$2001,2,FALSE),\"\")","v":""},null,{"$f":"IF(ISNUMBER(SEARCH(B1681,CI1681)),MAX($CH$2:CH1680)+1,0)","v":0},{"$f":"'الرصيد الثابت'!#REF!","v":{"$error":"#REF!"}}]
["",null,{"$f":"IF(B1685=\"\",\"\",SUMIF('الرصيد الثابت'!$D$2:$D$106,B1685,'الرصيد الثابت'!$H$2:$H$106))","v":""},{"$f":"IF(B1685=\"\",\"\",SUMIF('الرصيد الثابت'!$D$2:$D$106,B1685,'الرصيد الثابت'!$I$2:$I$106))","v":""},{"$f":"IF(B1685=\"\",\"\",SUMIF('الرصيد الثابت'!$D$2:$D$106,B1685,'الرصيد الثابت'!$J$2:$J$106))","v":""},null,0,null,null,null,null,0,null,null,null,0,null,0,null,null,null,null,null,null,null,null,null,null,null,null,null,null,null,null,null,null,null,null,null,null,null,null,null,null,null,null,null,null,null,null,null,null,null,null,null,null,null,null,null,null,null,null,null,null,null,null,null,null,null,null,null,null,null,null,null,null,null,null,null,null,null,null,null,{"$f":"IFERROR(VLOOKUP(ROWS($CF$3:CF1685),$CH$3:$CI$2001,2,FALSE),\"\")","v":""},null,{"$f":"IF(ISNUMBER(SEARCH(B1685,CI1685)),MAX($CH$2:CH1684)+1,0)","v":0},{"$f":"'الرصيد الثابت'!#REF!","v":{"$error":"#REF!"}}]
["",null,{"$f":"IF(B1690=\"\",\"\",SUMIF('الرصيد الثابت'!$D$2:$D$106,B1690,'الرصيد الثابت'!$H$2:$H$106))","v":""},{"$f":"IF(B1690=\"\",\"\",SUMIF('الرصيد الثابت'!$D$2:$D$106,B1690,'الرصيد الثابت'!$I$2:$I$106))","v":""},{"$f":"IF(B1690=\"\",\"\",SUMIF('الرصيد الثابت'!$D$2:$D$106,B1690,'الرصيد الثابت'!$J$2:$J$106))","v":""},null,0,null,null,null,null,0,null,null,null,0,null,0,null,null,null,null,null,null,null,null,null,null,null,null,null,null,null,null,null,null,null,null,null,null,null,null,null,null,null,null,null,null,null,null,null,null,null,null,null,null,null,null,null,null,null,null,null,null,null,null,null,null,null,null,null,null,null,null,null,null,null,null,null,null,null,null,null,{"$f":"IFERROR(VLOOKUP(ROWS($CF$3:CF1690),$CH$3:$CI$2001,2,FALSE),\"\")","v":""},null,{"$f":"IF(ISNUMBER(SEARCH(B1690,CI1690)),MAX($CH$2:CH1689)+1,0)","v":0},{"$f":"'الرصيد الثابت'!#REF!","v":{"$error":"#REF!"}}]
["",null,{"$f":"IF(B1691=\"\",\"\",SUMIF('الرصيد الثابت'!$D$2:$D$106,B1691,'الرصيد الثابت'!$H$2:$H$106))","v":""},{"$f":"IF(B1691=\"\",\"\",SUMIF('الرصيد الثابت'!$D$2:$D$106,B1691,'الرصيد الثابت'!$I$2:$I$106))","v":""},{"$f":"IF(B1691=\"\",\"\",SUMIF('الرصيد الثابت'!$D$2:$D$106,B1691,'الرصيد الثابت'!$J$2:$J$106))","v":""},null,0,null,null,null,null,0,null,null,null,0,null,0,null,null,null,null,null,null,null,null,null,null,null,null,null,null,null,null,null,null,null,null,null,null,null,null,null,null,null,null,null,null,null,null,null,null,null,null,null,null,null,null,null,null,null,null,null,null,null,null,null,null,null,null,null,null,null,null,null,null,null,null,null,null,null,null,null,{"$f":"IFERROR(VLOOKUP(ROWS($CF$3:CF1691),$CH$3:$CI$2001,2,FALSE),\"\")","v":""},null,{"$f":"IF(ISNUMBER(SEARCH(B1691,CI1691)),MAX($CH$2:CH1690)+1,0)","v":0},{"$f":"'الرصيد الثابت'!#REF!","v":{"$error":"#REF!"}}]
[{"$f":"IF(B1696<>\"\",IF(A1696=\"\",NOW(),A1696),\"\")","v":""},null,{"$f":"IF(B1696=\"\",\"\",SUMIF('الرصيد الثابت'!$D$2:$D$106,B1696,'الرصيد الثابت'!$H$2:$H$106))","v":""},{"$f":"IF(B1696=\"\",\"\",SUMIF('الرصيد الثابت'!$D$2:$D$106,B1696,'الرصيد الثابت'!$I$2:$I$106))","v":""},{"$f":"IF(B1696=\"\",\"\",SUMIF('الرصيد الثابت'!$D$2:$D$106,B1696,'الرصيد الثابت'!$J$2:$J$106))","v":""},null,{"$f":"SUM(H1696*F1696)","v":0},null,null,null,null,0,null,null,null,{"$f":"SUM(F1696-K1696)","v":0},null,{"$f":"SUM(S1696*Q1696)","v":0},null,null,null,null,null,null,null,null,null,null,null,null,null,null,null,null,null,null,null,null,null,null,null,null,null,null,null,null,null,null,null,null,null,null,null,null,null,null,null,null,null,null,null,null,null,null,null,null,null,null,null,null,null,null,null,null,null,null,null,null,null,null,null,null,null,{"$f":"IFERROR(VLOOKUP(ROWS($CF$3:CF1696),$CH$3:$CI$2001,2,FALSE),\"\")","v":""},null,{"$f":"IF(ISNUMBER(SEARCH(B1696,CI1696)),MAX($CH$2:CH1695)+1,0)","v":0},{"$f":"'الرصيد الثابت'!#REF!","v":{"$error":"#REF!"}}]
["",null,{"$f":"IF(B1701=\"\",\"\",SUMIF('الرصيد الثابت'!$D$2:$D$106,B1701,'الرصيد الثابت'!$H$2:$H$106))","v":""},{"$f":"IF(B1701=\"\",\"\",SUMIF('الرصيد الثابت'!$D$2:$D$106,B1701,'الرصيد الثابت'!$I$2:$I$106))","v":""},{"$f":"IF(B1701=\"\",\"\",SUMIF('الرصيد الثابت'!$D$2:$D$106,B1701,'الرصيد الثابت'!$J$2:$J$106))","v":""},null,0,null,null,null,null,0,null,null,null,0,null,0,null,null,null,null,null,null,null,null,null,null,null,null,null,null,null,null,null,null,null,null,null,null,null,null,null,null,null,null,null,null,null,null,null,null,null,null,null,null,null,null,null,null,null,null,null,null,null,null,null,null,null,null,null,null,null,null,null,null,null,null,null,null,null,null,null,{"$f":"IFERROR(VLOOKUP(ROWS($CF$3:CF1701),$CH$3:$CI$2001,2,FALSE),\"\")","v":""},null,{"$f":"IF(ISNUMBER(SEARCH(B1701,CI1701)),MAX($CH$2:CH1700)+1,0)","v":0},{"$f":"'الرصيد الثابت'!#REF!","v":{"$error":"#REF!"}}]
["",null,{"$f":"IF(B1706=\"\",\"\",SUMIF('الرصيد الثابت'!$D$2:$D$106,B1706,'الرصيد الثابت'!$H$2:$H$106))","v":""},{"$f":"IF(B1706=\"\",\"\",SUMIF('الرصيد الثابت'!$D$2:$D$106,B1706,'الرصيد الثابت'!$I$2:$I$106))","v":""},{"$f":"IF(B1706=\"\",\"\",SUMIF('الرصيد الثابت'!$D$2:$D$106,B1706,'الرصيد الثابت'!$J$2:$J$106))","v":""},null,0,null,null,null,null,0,null,null,null,0,null,0,null,null,null,null,null,null,null,null,null,null,null,null,null,null,null,null,null,null,null,null,null,null,null,null,null,null,null,null,null,null,null,null,null,null,null,null,null,null,null,null,null,null,null,null,null,null,null,null,null,null,null,null,null,null,null,null,null,null,null,null,null,null,null,null,null,{"$f":"IFERROR(VLOOKUP(ROWS($CF$3:CF1706),$CH$3:$CI$2001,2,FALSE),\"\")","v":""},null,{"$f":"IF(ISNUMBER(SEARCH(B1706,CI1706)),MAX($CH$2:CH1705)+1,0)","v":0},{"$f":"'الرصيد الثابت'!#REF!","v":{"$error":"#REF!"}}]
["",null,{"$f":"IF(B1707=\"\",\"\",SUMIF('الرصيد الثابت'!$D$2:$D$106,B1707,'الرصيد الثابت'!$H$2:$H$106))","v":""},{"$f":"IF(B1707=\"\",\"\",SUMIF('الرصيد الثابت'!$D$2:$D$106,B1707,'الرصيد الثابت'!$I$2:$I$106))","v":""},{"$f":"IF(B1707=\"\",\"\",SUMIF('الرصيد الثابت'!$D$2:$D$106,B1707,'الرصيد الثابت'!$J$2:$J$106))","v":""},null,0,null,null,null,null,0,null,null,null,0,null,0,null,null,null,null,null,null,null,null,null,null,null,null,null,null,null,null,null,null,null,null,null,null,null,null,null,null,null,null,null,null,null,null,null,null,null,null,null,null,null,null,null,null,null,null,null,null,null,null,null,null,null,null,null,null,null,null,null,null,null,null,null,null,null,null,null,{"$f":"IFERROR(VLOOKUP(ROWS($CF$3:CF1707),$CH$3:$CI$2001,2,FALSE),\"\")","v":""},null,{"$f":"IF(ISNUMBER(SEARCH(B1707,CI1707)),MAX($CH$2:CH1706)+1,0)","v":0},{"$f":"'الرصيد الثابت'!#REF!","v":{"$error":"#REF!"}}]
["",null,{"$f":"IF(B1712=\"\",\"\",SUMIF('الرصيد الثابت'!$D$2:$D$106,B1712,'الرصيد الثابت'!$H$2:$H$106))","v":""},{"$f":"IF(B1712=\"\",\"\",SUMIF('الرصيد الثابت'!$D$2:$D$106,B1712,'الرصيد الثابت'!$I$2:$I$106))","v":""},{"$f":"IF(B1712=\"\",\"\",SUMIF('الرصيد الثابت'!$D$2:$D$106,B1712,'الرصيد الثابت'!$J$2:$J$106))","v":""},null,0,null,null,null,null,0,null,null,null,0,null,0,null,null,null,null,null,null,null,null,null,null,null,null,null,null,null,null,null,null,null,null,null,null,null,null,null,null,null,null,null,null,null,null,null,null,null,null,null,null,null,null,null,null,null,null,null,null,null,null,null,null,null,null,null,null,null,null,null,null,null,null,null,null,null,null,null,{"$f":"IFERROR(VLOOKUP(ROWS($CF$3:CF1712),$CH$3:$CI$2001,2,FALSE),\"\")","v":""},null,{"$f":"IF(ISNUMBER(SEARCH(B1712,CI1712)),MAX($CH$2:CH1711)+1,0)","v":0},{"$f":"'الرصيد الثابت'!#REF!","v":{"$error":"#REF!"}}]
["",null,{"$f":"IF(B1717=\"\",\"\",SUMIF('الرصيد الثابت'!$D$2:$D$106,B1717,'الرصيد الثابت'!$H$2:$H$106))","v":""},{"$f":"IF(B1717=\"\",\"\",SUMIF('الرصيد الثابت'!$D$2:$D$106,B1717,'الرصيد الثابت'!$I$2:$I$106))","v":""},{"$f":"IF(B1717=\"\",\"\",SUMIF('الرصيد الثابت'!$D$2:$D$106,B1717,'الرصيد الثابت'!$J$2:$J$106))","v":""},null,0,null,null,null,null,0,null,null,null,0,null,0,null,null,null,null,null,null,null,null,null,null,null,null,null,null,null,null,null,null,null,null,null,null,null,null,null,null,null,null,null,null,null,null,null,null,null,null,null,null,null,null,null,null,null,null,null,null,null,null,null,null,null,null,null,null,null,null,null,null,null,null,null,null,null,null,null,{"$f":"IFERROR(VLOOKUP(ROWS($CF$3:CF1717),$CH$3:$CI$2001,2,FALSE),\"\")","v":""},null,{"$f":"IF(ISNUMBER(SEARCH(B1717,CI1717)),MAX($CH$2:CH1716)+1,0)","v":0},{"$f":"'الرصيد الثابت'!#REF!","v":{"$error":"#REF!"}}]
["",null,{"$f":"IF(B1722=\"\",\"\",SUMIF('الرصيد الثابت'!$D$2:$D$106,B1722,'الرصيد الثابت'!$H$2:$H$106))","v":""},{"$f":"IF(B1722=\"\",\"\",SUMIF('الرصيد الثابت'!$D$2:$D$106,B1722,'الرصيد الثابت'!$I$2:$I$106))","v":""},{"$f":"IF(B1722=\"\",\"\",SUMIF('الرصيد الثابت'!$D$2:$D$106,B1722,'الرصيد الثابت'!$J$2:$J$106))","v":""},null,0,null,null,null,null,0,null,null,null,0,null,0,null,null,null,null,null,null,null,null,null,null,null,null,null,null,null,null,null,null,null,null,null,null,null,null,null,null,null,null,null,null,null,null,null,null,null,null,null,null,null,null,null,null,null,null,null,null,null,null,null,null,null,null,null,null,null,null,null,null,null,null,null,null,null,null,null,{"$f":"IFERROR(VLOOKUP(ROWS($CF$3:CF1722),$CH$3:$CI$2001,2,FALSE),\"\")","v":""},null,{"$f":"IF(ISNUMBER(SEARCH(B1722,CI1722)),MAX($CH$2:CH1721)+1,0)","v":0},{"$f":"'الرصيد الثابت'!#REF!","v":{"$error":"#REF!"}}]
["",null,{"$f":"IF(B1723=\"\",\"\",SUMIF('الرصيد الثابت'!$D$2:$D$106,B1723,'الرصيد الثابت'!$H$2:$H$106))","v":""},{"$f":"IF(B1723=\"\",\"\",SUMIF('الرصيد الثابت'!$D$2:$D$106,B1723,'الرصيد الثابت'!$I$2:$I$106))","v":""},{"$f":"IF(B1723=\"\",\"\",SUMIF('الرصيد الثابت'!$D$2:$D$106,B1723,'الرصيد الثابت'!$J$2:$J$106))","v":""},null,0,null,null,null,null,0,null,null,null,0,null,0,null,null,null,null,null,null,null,null,null,null,null,null,null,null,null,null,null,null,null,null,null,null,null,null,null,null,null,null,null,null,null,null,null,null,null,null,null,null,null,null,null,null,null,null,null,null,null,null,null,null,null,null,null,null,null,null,null,null,null,null,null,null,null,null,null,{"$f":"IFERROR(VLOOKUP(ROWS($CF$3:CF1723),$CH$3:$CI$2001,2,FALSE),\"\")","v":""},null,{"$f":"IF(ISNUMBER(SEARCH(B1723,CI1723)),MAX($CH$2:CH1722)+1,0)","v":0},{"$f":"'الرصيد الثابت'!#REF!","v":{"$error":"#REF!"}}]
["",null,{"$f":"IF(B1728=\"\",\"\",SUMIF('الرصيد الثابت'!$D$2:$D$106,B1728,'الرصيد الثابت'!$H$2:$H$106))","v":""},{"$f":"IF(B1728=\"\",\"\",SUMIF('الرصيد الثابت'!$D$2:$D$106,B1728,'الرصيد الثابت'!$I$2:$I$106))","v":""},{"$f":"IF(B1728=\"\",\"\",SUMIF('الرصيد الثابت'!$D$2:$D$106,B1728,'الرصيد الثابت'!$J$2:$J$106))","v":""},null,0,null,null,null,null,0,null,null,null,0,null,0,null,null,null,null,null,null,null,null,null,null,null,null,null,null,null,null,null,null,null,null,null,null,null,null,null,null,null,null,null,null,null,null,null,null,null,null,null,null,null,null,null,null,null,null,null,null,null,null,null,null,null,null,null,null,null,null,null,null,null,null,null,null,null,null,null,{"$f":"IFERROR(VLOOKUP(ROWS($CF$3:CF1728),$CH$3:$CI$2001,2,FALSE),\"\")","v":""},null,{"$f":"IF(ISNUMBER(SEARCH(B1728,CI1728)),MAX($CH$2:CH1727)+1,0)","v":0},{"$f":"'الرصيد الثابت'!#REF!","v":{"$error":"#REF!"}}]
["",null,{"$f":"IF(B1733=\"\",\"\",SUMIF('الرصيد الثابت'!$D$2:$D$106,B1733,'الرصيد الثابت'!$H$2:$H$106))","v":""},{"$f":"IF(B1733=\"\",\"\",SUMIF('الرصيد الثابت'!$D$2:$D$106,B1733,'الرصيد الثابت'!$I$2:$I$106))","v":""},{"$f":"IF(B1733=\"\",\"\",SUMIF('الرصيد الثابت'!$D$2:$D$106,B1733,'الرصيد الثابت'!$J$2:$J$106))","v":""},null,0,null,null,null,null,0,null,null,null,0,null,0,null,null,null,null,null,null,null,null,null,null,null,null,null,null,null,null,null,null,null,null,null,null,null,null,null,null,null,null,null,null,null,null,null,null,null,null,null,null,null,null,null,null,null,null,null,null,null,null,null,null,null,null,null,null,null,null,null,null,null,null,null,null,null,null,null,{"$f":"IFERROR(VLOOKUP(ROWS($CF$3:CF1733),$CH$3:$CI$2001,2,FALSE),\"\")","v":""},null,{"$f":"IF(ISNUMBER(SEARCH(B1733,CI1733)),MAX($CH$2:CH1732)+1,0)","v":0},{"$f":"'الرصيد الثابت'!#REF!","v":{"$error":"#REF!"}}]
["",null,{"$f":"IF(B1735=\"\",\"\",SUMIF('الرصيد الثابت'!$D$2:$D$106,B1735,'الرصيد الثابت'!$H$2:$H$106))","v":""},{"$f":"IF(B1735=\"\",\"\",SUMIF('الرصيد الثابت'!$D$2:$D$106,B1735,'الرصيد الثابت'!$I$2:$I$106))","v":""},{"$f":"IF(B1735=\"\",\"\",SUMIF('الرصيد الثابت'!$D$2:$D$106,B1735,'الرصيد الثابت'!$J$2:$J$106))","v":""},null,0,null,null,null,null,0,null,null,null,0,null,0,null,null,null,null,null,null,null,null,null,null,null,null,null,null,null,null,null,null,null,null,null,null,null,null,null,null,null,null,null,null,null,null,null,null,null,null,null,null,null,null,null,null,null,null,null,null,null,null,null,null,null,null,null,null,null,null,null,null,null,null,null,null,null,null,null,{"$f":"IFERROR(VLOOKUP(ROWS($CF$3:CF1735),$CH$3:$CI$2001,2,FALSE),\"\")","v":""},null,{"$f":"IF(ISNUMBER(SEARCH(B1735,CI1735)),MAX($CH$2:CH1734)+1,0)","v":0},{"$f":"'الرصيد الثابت'!#REF!","v":{"$error":"#REF!"}}]
["",null,{"$f":"IF(B1738=\"\",\"\",SUMIF('الرصيد الثابت'!$D$2:$D$106,B1738,'الرصيد الثابت'!$H$2:$H$106))","v":""},{"$f":"IF(B1738=\"\",\"\",SUMIF('الرصيد الثابت'!$D$2:$D$106,B1738,'الرصيد الثابت'!$I$2:$I$106))","v":""},{"$f":"IF(B1738=\"\",\"\",SUMIF('الرصيد الثابت'!$D$2:$D$106,B1738,'الرصيد الثابت'!$J$2:$J$106))","v":""},null,0,null,null,null,null,0,null,null,null,0,null,0,null,null,null,null,null,null,null,null,null,null,null,null,null,null,null,null,null,null,null,null,null,null,null,null,null,null,null,null,null,null,null,null,null,null,null,null,null,null,null,null,null,null,null,null,null,null,null,null,null,null,null,null,null,null,null,null,null,null,null,null,null,null,null,null,null,{"$f":"IFERROR(VLOOKUP(ROWS($CF$3:CF1738),$CH$3:$CI$2001,2,FALSE),\"\")","v":""},null,{"$f":"IF(ISNUMBER(SEARCH(B1738,CI1738)),MAX($CH$2:CH1737)+1,0)","v":0},{"$f":"'الرصيد الثابت'!#REF!","v":{"$error":"#REF!"}}]
["",null,{"$f":"IF(B1743=\"\",\"\",SUMIF('الرصيد الثابت'!$D$2:$D$106,B1743,'الرصيد الثابت'!$H$2:$H$106))","v":""},{"$f":"IF(B1743=\"\",\"\",SUMIF('الرصيد الثابت'!$D$2:$D$106,B1743,'الرصيد الثابت'!$I$2:$I$106))","v":""},{"$f":"IF(B1743=\"\",\"\",SUMIF('الرصيد الثابت'!$D$2:$D$106,B1743,'الرصيد الثابت'!$J$2:$J$106))","v":""},null,0,null,null,null,null,0,null,null,null,0,null,0,null,null,null,null,null,null,null,null,null,null,null,null,null,null,null,null,null,null,null,null,null,null,null,null,null,null,null,null,null,null,null,null,null,null,null,null,null,null,null,null,null,null,null,null,null,null,null,null,null,null,null,null,null,null,null,null,null,null,null,null,null,null,null,null,null,{"$f":"IFERROR(VLOOKUP(ROWS($CF$3:CF1743),$CH$3:$CI$2001,2,FALSE),\"\")","v":""},null,{"$f":"IF(ISNUMBER(SEARCH(B1743,CI1743)),MAX($CH$2:CH1742)+1,0)","v":0},{"$f":"'الرصيد الثابت'!#REF!","v":{"$error":"#REF!"}}]
["",null,{"$f":"IF(B1748=\"\",\"\",SUMIF('الرصيد الثابت'!$D$2:$D$106,B1748,'الرصيد الثابت'!$H$2:$H$106))","v":""},{"$f":"IF(B1748=\"\",\"\",SUMIF('الرصيد الثابت'!$D$2:$D$106,B1748,'الرصيد الثابت'!$I$2:$I$106))","v":""},{"$f":"IF(B1748=\"\",\"\",SUMIF('الرصيد الثابت'!$D$2:$D$106,B1748,'الرصيد الثابت'!$J$2:$J$106))","v":""},null,0,null,null,null,null,0,null,null,null,0,null,0,null,null,null,null,null,null,null,null,null,null,null,null,null,null,null,null,null,null,null,null,null,null,null,null,null,null,null,null,null,null,null,null,null,null,null,null,null,null,null,null,null,null,null,null,null,null,null,null,null,null,null,null,null,null,null,null,null,null,null,null,null,null,null,null,null,{"$f":"IFERROR(VLOOKUP(ROWS($CF$3:CF1748),$CH$3:$CI$2001,2,FALSE),\"\")","v":""},null,{"$f":"IF(ISNUMBER(SEARCH(B1748,CI1748)),MAX($CH$2:CH1747)+1,0)","v":0},{"$f":"'الرصيد الثابت'!#REF!","v":{"$error":"#REF!"}}]
["",null,{"$f":"IF(B1753=\"\",\"\",SUMIF('الرصيد الثابت'!$D$2:$D$106,B1753,'الرصيد الثابت'!$H$2:$H$106))","v":""},{"$f":"IF(B1753=\"\",\"\",SUMIF('الرصيد الثابت'!$D$2:$D$106,B1753,'الرصيد الثابت'!$I$2:$I$106))","v":""},{"$f":"IF(B1753=\"\",\"\",SUMIF('الرصيد الثابت'!$D$2:$D$106,B1753,'الرصيد الثابت'!$J$2:$J$106))","v":""},null,0,null,null,null,null,0,null,null,null,0,null,0,null,null,null,null,null,null,null,null,null,null,null,null,null,null,null,null,null,null,null,null,null,null,null,null,null,null,null,null,null,null,null,null,null,null,null,null,null,null,null,null,null,null,null,null,null,null,null,null,null,null,null,null,null,null,null,null,null,null,null,null,null,null,null,null,null,{"$f":"IFERROR(VLOOKUP(ROWS($CF$3:CF1753),$CH$3:$CI$2001,2,FALSE),\"\")","v":""},null,{"$f":"IF(ISNUMBER(SEARCH(B1753,CI1753)),MAX($CH$2:CH1752)+1,0)","v":0},{"$f":"'الرصيد الثابت'!#REF!","v":{"$error":"#REF!"}}]
["",null,{"$f":"IF(B1754=\"\",\"\",SUMIF('الرصيد الثابت'!$D$2:$D$106,B1754,'الرصيد الثابت'!$H$2:$H$106))","v":""},{"$f":"IF(B1754=\"\",\"\",SUMIF('الرصيد الثابت'!$D$2:$D$106,B1754,'الرصيد الثابت'!$I$2:$I$106))","v":""},{"$f":"IF(B1754=\"\",\"\",SUMIF('الرصيد الثابت'!$D$2:$D$106,B1754,'الرصيد الثابت'!$J$2:$J$106))","v":""},null,0,null,null,null,null,0,null,null,null,0,null,0,null,null,null,null,null,null,null,null,null,null,null,null,null,null,null,null,null,null,null,null,null,null,null,null,null,null,null,null,null,null,null,null,null,null,null,null,null,null,null,null,null,null,null,null,null,null,null,null,null,null,null,null,null,null,null,null,null,null,null,null,null,null,null,null,null,{"$f":"IFERROR(VLOOKUP(ROWS($CF$3:CF1754),$CH$3:$CI$2001,2,FALSE),\"\")","v":""},null,{"$f":"IF(ISNUMBER(SEARCH(B1754,CI1754)),MAX($CH$2:CH1753)+1,0)","v":0},{"$f":"'الرصيد الثابت'!#REF!","v":{"$error":"#REF!"}}]
["",null,{"$f":"IF(B1759=\"\",\"\",SUMIF('الرصيد الثابت'!$D$2:$D$106,B1759,'الرصيد الثابت'!$H$2:$H$106))","v":""},{"$f":"IF(B1759=\"\",\"\",SUMIF('الرصيد الثابت'!$D$2:$D$106,B1759,'الرصيد الثابت'!$I$2:$I$106))","v":""},{"$f":"IF(B1759=\"\",\"\",SUMIF('الرصيد الثابت'!$D$2:$D$106,B1759,'الرصيد الثابت'!$J$2:$J$106))","v":""},null,0,null,null,null,null,0,null,null,null,0,null,0,null,null,null,null,null,null,null,null,null,null,null,null,null,null,null,null,null,null,null,null,null,null,null,null,null,null,null,null,null,null,null,null,null,null,null,null,null,null,null,null,null,null,null,null,null,null,null,null,null,null,null,null,null,null,null,null,null,null,null,null,null,null,null,null,null,{"$f":"IFERROR(VLOOKUP(ROWS($CF$3:CF1759),$CH$3:$CI$2001,2,FALSE),\"\")","v":""},null,{"$f":"IF(ISNUMBER(SEARCH(B1759,CI1759)),MAX($CH$2:CH1758)+1,0)","v":0},{"$f":"'الرصيد الثابت'!#REF!","v":{"$error":"#REF!"}}]
["",null,{"$f":"IF(B1764=\"\",\"\",SUMIF('الرصيد الثابت'!$D$2:$D$106,B1764,'الرصيد الثابت'!$H$2:$H$106))","v":""},{"$f":"IF(B1764=\"\",\"\",SUMIF('الرصيد الثابت'!$D$2:$D$106,B1764,'الرصيد الثابت'!$I$2:$I$106))","v":""},{"$f":"IF(B1764=\"\",\"\",SUMIF('الرصيد الثابت'!$D$2:$D$106,B1764,'الرصيد الثابت'!$J$2:$J$106))","v":""},null,0,null,null,null,null,0,null,null,null,0,null,0,null,null,null,null,null,null,null,null,null,null,null,null,null,null,null,null,null,null,null,null,null,null,null,null,null,null,null,null,null,null,null,null,null,null,null,null,null,null,null,null,null,null,null,null,null,null,null,null,null,null,null,null,null,null,null,null,null,null,null,null,null,null,null,null,null,{"$f":"IFERROR(VLOOKUP(ROWS($CF$3:CF1764),$CH$3:$CI$2001,2,FALSE),\"\")","v":""},null,{"$f":"IF(ISNUMBER(SEARCH(B1764,CI1764)),MAX($CH$2:CH1763)+1,0)","v":0},{"$f":"'الرصيد الثابت'!#REF!","v":{"$error":"#REF!"}}]
["",null,{"$f":"IF(B1769=\"\",\"\",SUMIF('الرصيد الثابت'!$D$2:$D$106,B1769,'الرصيد الثابت'!$H$2:$H$106))","v":""},{"$f":"IF(B1769=\"\",\"\",SUMIF('الرصيد الثابت'!$D$2:$D$106,B1769,'الرصيد الثابت'!$I$2:$I$106))","v":""},{"$f":"IF(B1769=\"\",\"\",SUMIF('الرصيد الثابت'!$D$2:$D$106,B1769,'الرصيد الثابت'!$J$2:$J$106))","v":""},null,0,null,null,null,null,0,null,null,null,0,null,0,null,null,null,null,null,null,null,null,null,null,null,null,null,null,null,null,null,null,null,null,null,null,null,null,null,null,null,null,null,null,null,null,null,null,null,null,null,null,null,null,null,null,null,null,null,null,null,null,null,null,null,null,null,null,null,null,null,null,null,null,null,null,null,null,null,{"$f":"IFERROR(VLOOKUP(ROWS($CF$3:CF1769),$CH$3:$CI$2001,2,FALSE),\"\")","v":""},null,{"$f":"IF(ISNUMBER(SEARCH(B1769,CI1769)),MAX($CH$2:CH1768)+1,0)","v":0},{"$f":"'الرصيد الثابت'!#REF!","v":{"$error":"#REF!"}}]
["",null,{"$f":"IF(B1770=\"\",\"\",SUMIF('الرصيد الثابت'!$D$2:$D$106,B1770,'الرصيد الثابت'!$H$2:$H$106))","v":""},{"$f":"IF(B1770=\"\",\"\",SUMIF('الرصيد الثابت'!$D$2:$D$106,B1770,'الرصيد الثابت'!$I$2:$I$106))","v":""},{"$f":"IF(B1770=\"\",\"\",SUMIF('الرصيد الثابت'!$D$2:$D$106,B1770,'الرصيد الثابت'!$J$2:$J$106))","v":""},null,0,null,null,null,null,0,null,null,null,0,null,0,null,null,null,null,null,null,null,null,null,null,null,null,null,null,null,null,null,null,null,null,null,null,null,null,null,null,null,null,null,null,null,null,null,null,null,null,null,null,null,null,null,null,null,null,null,null,null,null,null,null,null,null,null,null,null,null,null,null,null,null,null,null,null,null,null,{"$f":"IFERROR(VLOOKUP(ROWS($CF$3:CF1770),$CH$3:$CI$2001,2,FALSE),\"\")","v":""},null,{"$f":"IF(ISNUMBER(SEARCH(B1770,CI1770)),MAX($CH$2:CH1769)+1,0)","v":0},{"$f":"'الرصيد الثابت'!#REF!","v":{"$error":"#REF!"}}]
["",null,{"$f":"IF(B1775=\"\",\"\",SUMIF('الرصيد الثابت'!$D$2:$D$106,B1775,'الرصيد الثابت'!$H$2:$H$106))","v":""},{"$f":"IF(B1775=\"\",\"\",SUMIF('الرصيد الثابت'!$D$2:$D$106,B1775,'الرصيد الثابت'!$I$2:$I$106))","v":""},{"$f":"IF(B1775=\"\",\"\",SUMIF('الرصيد الثابت'!$D$2:$D$106,B1775,'الرصيد الثابت'!$J$2:$J$106))","v":""},null,0,null,null,null,null,0,null,null,null,0,null,0,null,null,null,null,null,null,null,null,null,null,null,null,null,null,null,null,null,null,null,null,null,null,null,null,null,null,null,null,null,null,null,null,null,null,null,null,null,null,null,null,null,null,null,null,null,null,null,null,null,null,null,null,null,null,null,null,null,null,null,null,null,null,null,null,null,{"$f":"IFERROR(VLOOKUP(ROWS($CF$3:CF1775),$CH$3:$CI$2001,2,FALSE),\"\")","v":""},null,{"$f":"IF(ISNUMBER(SEARCH(B1775,CI1775)),MAX($CH$2:CH1774)+1,0)","v":0},{"$f":"'الرصيد الثابت'!#REF!","v":{"$error":"#REF!"}}]
["",null,{"$f":"IF(B1780=\"\",\"\",SUMIF('الرصيد الثابت'!$D$2:$D$106,B1780,'الرصيد الثابت'!$H$2:$H$106))","v":""},{"$f":"IF(B1780=\"\",\"\",SUMIF('الرصيد الثابت'!$D$2:$D$106,B1780,'الرصيد الثابت'!$I$2:$I$106))","v":""},{"$f":"IF(B1780=\"\",\"\",SUMIF('الرصيد الثابت'!$D$2:$D$106,B1780,'الرصيد الثابت'!$J$2:$J$106))","v":""},null,0,null,null,null,null,0,null,null,null,0,null,0,null,null,null,null,null,null,null,null,null,null,null,null,null,null,null,null,null,null,null,null,null,null,null,null,null,null,null,null,null,null,null,null,null,null,null,null,null,null,null,null,null,null,null,null,null,null,null,null,null,null,null,null,null,null,null,null,null,null,null,null,null,null,null,null,null,{"$f":"IFERROR(VLOOKUP(ROWS($CF$3:CF1780),$CH$3:$CI$2001,2,FALSE),\"\")","v":""},null,{"$f":"IF(ISNUMBER(SEARCH(B1780,CI1780)),MAX($CH$2:CH1779)+1,0)","v":0},{"$f":"'الرصيد الثابت'!#REF!","v":{"$error":"#REF!"}}]
["",null,{"$f":"IF(B1785=\"\",\"\",SUMIF('الرصيد الثابت'!$D$2:$D$106,B1785,'الرصيد الثابت'!$H$2:$H$106))","v":""},{"$f":"IF(B1785=\"\",\"\",SUMIF('الرصيد الثابت'!$D$2:$D$106,B1785,'الرصيد الثابت'!$I$2:$I$106))","v":""},{"$f":"IF(B1785=\"\",\"\",SUMIF('الرصيد الثابت'!$D$2:$D$106,B1785,'الرصيد الثابت'!$J$2:$J$106))","v":""},null,0,null,null,null,null,0,null,null,null,0,null,0,null,null,null,null,null,null,null,null,null,null,null,null,null,null,null,null,null,null,null,null,null,null,null,null,null,null,null,null,null,null,null,null,null,null,null,null,null,null,null,null,null,null,null,null,null,null,null,null,null,null,null,null,null,null,null,null,null,null,null,null,null,null,null,null,null,{"$f":"IFERROR(VLOOKUP(ROWS($CF$3:CF1785),$CH$3:$CI$2001,2,FALSE),\"\")","v":""},null,{"$f":"IF(ISNUMBER(SEARCH(B1785,CI1785)),MAX($CH$2:CH1784)+1,0)","v":0},{"$f":"'الرصيد الثابت'!#REF!","v":{"$error":"#REF!"}}]
["",null,{"$f":"IF(B1786=\"\",\"\",SUMIF('الرصيد الثابت'!$D$2:$D$106,B1786,'الرصيد الثابت'!$H$2:$H$106))","v":""},{"$f":"IF(B1786=\"\",\"\",SUMIF('الرصيد الثابت'!$D$2:$D$106,B1786,'الرصيد الثابت'!$I$2:$I$106))","v":""},{"$f":"IF(B1786=\"\",\"\",SUMIF('الرصيد الثابت'!$D$2:$D$106,B1786,'الرصيد الثابت'!$J$2:$J$106))","v":""},null,0,null,null,null,null,0,null,null,null,0,null,0,null,null,null,null,null,null,null,null,null,null,null,null,null,null,null,null,null,null,null,null,null,null,null,null,null,null,null,null,null,null,null,null,null,null,null,null,null,null,null,null,null,null,null,null,null,null,null,null,null,null,null,null,null,null,null,null,null,null,null,null,null,null,null,null,null,{"$f":"IFERROR(VLOOKUP(ROWS($CF$3:CF1786),$CH$3:$CI$2001,2,FALSE),\"\")","v":""},null,{"$f":"IF(ISNUMBER(SEARCH(B1786,CI1786)),MAX($CH$2:CH1785)+1,0)","v":0},{"$f":"'الرصيد الثابت'!#REF!","v":{"$error":"#REF!"}}]
["",null,{"$f":"IF(B1790=\"\",\"\",SUMIF('الرصيد الثابت'!$D$2:$D$106,B1790,'الرصيد الثابت'!$H$2:$H$106))","v":""},{"$f":"IF(B1790=\"\",\"\",SUMIF('الرصيد الثابت'!$D$2:$D$106,B1790,'الرصيد الثابت'!$I$2:$I$106))","v":""},{"$f":"IF(B1790=\"\",\"\",SUMIF('الرصيد الثابت'!$D$2:$D$106,B1790,'الرصيد الثابت'!$J$2:$J$106))","v":""},null,0,null,null,null,null,0,null,null,null,0,null,0,null,null,null,null,null,null,null,null,null,null,null,null,null,null,null,null,null,null,null,null,null,null,null,null,null,null,null,null,null,null,null,null,null,null,null,null,null,null,null,null,null,null,null,null,null,null,null,null,null,null,null,null,null,null,null,null,null,null,null,null,null,null,null,null,null,{"$f":"IFERROR(VLOOKUP(ROWS($CF$3:CF1790),$CH$3:$CI$2001,2,FALSE),\"\")","v":""},null,{"$f":"IF(ISNUMBER(SEARCH(B1790,CI1790)),MAX($CH$2:CH1789)+1,0)","v":0},{"$f":"'الرصيد الثابت'!#REF!","v":{"$error":"#REF!"}}]
["",null,{"$f":"IF(B1795=\"\",\"\",SUMIF('الرصيد الثابت'!$D$2:$D$106,B1795,'الرصيد الثابت'!$H$2:$H$106))","v":""},{"$f":"IF(B1795=\"\",\"\",SUMIF('الرصيد الثابت'!$D$2:$D$106,B1795,'الرصيد الثابت'!$I$2:$I$106))","v":""},{"$f":"IF(B1795=\"\",\"\",SUMIF('الرصيد الثابت'!$D$2:$D$106,B1795,'الرصيد الثابت'!$J$2:$J$106))","v":""},null,0,null,null,null,null,0,null,null,null,0,null,0,null,null,null,null,null,null,null,null,null,null,null,null,null,null,null,null,null,null,null,null,null,null,null,null,null,null,null,null,null,null,null,null,null,null,null,null,null,null,null,null,null,null,null,null,null,null,null,null,null,null,null,null,null,null,null,null,null,null,null,null,null,null,null,null,null,{"$f":"IFERROR(VLOOKUP(ROWS($CF$3:CF1795),$CH$3:$CI$2001,2,FALSE),\"\")","v":""},null,{"$f":"IF(ISNUMBER(SEARCH(B1795,CI1795)),MAX($CH$2:CH1794)+1,0)","v":0},{"$f":"'الرصيد الثابت'!#REF!","v":{"$error":"#REF!"}}]
["",null,{"$f":"IF(B1800=\"\",\"\",SUMIF('الرصيد الثابت'!$D$2:$D$106,B1800,'الرصيد الثابت'!$H$2:$H$106))","v":""},{"$f":"IF(B1800=\"\",\"\",SUMIF('الرصيد الثابت'!$D$2:$D$106,B1800,'الرصيد الثابت'!$I$2:$I$106))","v":""},{"$f":"IF(B1800=\"\",\"\",SUMIF('الرصيد الثابت'!$D$2:$D$106,B1800,'الرصيد الثابت'!$J$2:$J$106))","v":""},null,0,null,null,null,null,0,null,null,null,0,null,0,null,null,null,null,null,null,null,null,null,null,null,null,null,null,null,null,null,null,null,null,null,null,null,null,null,null,null,null,null,null,null,null,null,null,null,null,null,null,null,null,null,null,null,null,null,null,null,null,null,null,null,null,null,null,null,null,null,null,null,null,null,null,null,null,null,{"$f":"IFERROR(VLOOKUP(ROWS($CF$3:CF1800),$CH$3:$CI$2001,2,FALSE),\"\")","v":""},null,{"$f":"IF(ISNUMBER(SEARCH(B1800,CI1800)),MAX($CH$2:CH1799)+1,0)","v":0},{"$f":"'الرصيد الثابت'!#REF!","v":{"$error":"#REF!"}}]
["",null,{"$f":"IF(B1801=\"\",\"\",SUMIF('الرصيد الثابت'!$D$2:$D$106,B1801,'الرصيد الثابت'!$H$2:$H$106))","v":""},{"$f":"IF(B1801=\"\",\"\",SUMIF('الرصيد الثابت'!$D$2:$D$106,B1801,'الرصيد الثابت'!$I$2:$I$106))","v":""},{"$f":"IF(B1801=\"\",\"\",SUMIF('الرصيد الثابت'!$D$2:$D$106,B1801,'الرصيد الثابت'!$J$2:$J$106))","v":""},null,0,null,null,null,null,0,null,null,null,0,null,0,null,null,null,null,null,null,null,null,null,null,null,null,null,null,null,null,null,null,null,null,null,null,null,null,null,null,null,null,null,null,null,null,null,null,null,null,null,null,null,null,null,null,null,null,null,null,null,null,null,null,null,null,null,null,null,null,null,null,null,null,null,null,null,null,null,{"$f":"IFERROR(VLOOKUP(ROWS($CF$3:CF1801),$CH$3:$CI$2001,2,FALSE),\"\")","v":""},null,{"$f":"IF(ISNUMBER(SEARCH(B1801,CI1801)),MAX($CH$2:CH1800)+1,0)","v":0},{"$f":"'الرصيد الثابت'!#REF!","v":{"$error":"#REF!"}}]
["",null,{"$f":"IF(B1806=\"\",\"\",SUMIF('الرصيد الثابت'!$D$2:$D$106,B1806,'الرصيد الثابت'!$H$2:$H$106))","v":""},{"$f":"IF(B1806=\"\",\"\",SUMIF('الرصيد الثابت'!$D$2:$D$106,B1806,'الرصيد الثابت'!$I$2:$I$106))","v":""},{"$f":"IF(B1806=\"\",\"\",SUMIF('الرصيد الثابت'!$D$2:$D$106,B1806,'الرصيد الثابت'!$J$2:$J$106))","v":""},null,0,null,null,null,null,0,null,null,null,0,null,0,null,null,null,null,null,null,null,null,null,null,null,null,null,null,null,null,null,null,null,null,null,null,null,null,null,null,null,null,null,null,null,null,null,null,null,null,null,null,null,null,null,null,null,null,null,null,null,null,null,null,null,null,null,null,null,null,null,null,null,null,null,null,null,null,null,{"$f":"IFERROR(VLOOKUP(ROWS($CF$3:CF1806),$CH$3:$CI$2001,2,FALSE),\"\")","v":""},null,{"$f":"IF(ISNUMBER(SEARCH(B1806,CI1806)),MAX($CH$2:CH1805)+1,0)","v":0},{"$f":"'الرصيد الثابت'!#REF!","v":{"$error":"#REF!"}}]
["",null,{"$f":"IF(B1811=\"\",\"\",SUMIF('الرصيد الثابت'!$D$2:$D$106,B1811,'الرصيد الثابت'!$H$2:$H$106))","v":""},{"$f":"IF(B1811=\"\",\"\",SUMIF('الرصيد الثابت'!$D$2:$D$106,B1811,'الرصيد الثابت'!$I$2:$I$106))","v":""},{"$f":"IF(B1811=\"\",\"\",SUMIF('الرصيد الثابت'!$D$2:$D$106,B1811,'الرصيد الثابت'!$J$2:$J$106))","v":""},null,0,null,null,null,null,0,null,null,null,0,null,0,null,null,null,null,null,null,null,null,null,null,null,null,null,null,null,null,null,null,null,null,null,null,null,null,null,null,null,null,null,null,null,null,null,null,null,null,null,null,null,null,null,null,null,null,null,null,null,null,null,null,null,null,null,null,null,null,null,null,null,null,null,null,null,null,null,{"$f":"IFERROR(VLOOKUP(ROWS($CF$3:CF1811),$CH$3:$CI$2001,2,FALSE),\"\")","v":""},null,{"$f":"IF(ISNUMBER(SEARCH(B1811,CI1811)),MAX($CH$2:CH1810)+1,0)","v":0},{"$f":"'الرصيد الثابت'!#REF!","v":{"$error":"#REF!"}}]
["",null,{"$f":"IF(B1816=\"\",\"\",SUMIF('الرصيد الثابت'!$D$2:$D$106,B1816,'الرصيد الثابت'!$H$2:$H$106))","v":""},{"$f":"IF(B1816=\"\",\"\",SUMIF('الرصيد الثابت'!$D$2:$D$106,B1816,'الرصيد الثابت'!$I$2:$I$106))","v":""},{"$f":"IF(B1816=\"\",\"\",SUMIF('الرصيد الثابت'!$D$2:$D$106,B1816,'الرصيد الثابت'!$J$2:$J$106))","v":""},null,0,null,null,null,null,0,null,null,null,0,null,0,null,null,null,null,null,null,null,null,null,null,null,null,null,null,null,null,null,null,null,null,null,null,null,null,null,null,null,null,null,null,null,null,null,null,null,null,null,null,null,null,null,null,null,null,null,null,null,null,null,null,null,null,null,null,null,null,null,null,null,null,null,null,null,null,null,{"$f":"IFERROR(VLOOKUP(ROWS($CF$3:CF1816),$CH$3:$CI$2001,2,FALSE),\"\")","v":""},null,{"$f":"IF(ISNUMBER(SEARCH(B1816,CI1816)),MAX($CH$2:CH1815)+1,0)","v":0},{"$f":"'الرصيد الثابت'!#REF!","v":{"$error":"#REF!"}}]
["",null,{"$f":"IF(B1817=\"\",\"\",SUMIF('الرصيد الثابت'!$D$2:$D$106,B1817,'الرصيد الثابت'!$H$2:$H$106))","v":""},{"$f":"IF(B1817=\"\",\"\",SUMIF('الرصيد الثابت'!$D$2:$D$106,B1817,'الرصيد الثابت'!$I$2:$I$106))","v":""},{"$f":"IF(B1817=\"\",\"\",SUMIF('الرصيد الثابت'!$D$2:$D$106,B1817,'الرصيد الثابت'!$J$2:$J$106))","v":""},null,0,null,null,null,null,0,null,null,null,0,null,0,null,null,null,null,null,null,null,null,null,null,null,null,null,null,null,null,null,null,null,null,null,null,null,null,null,null,null,null,null,null,null,null,null,null,null,null,null,null,null,null,null,null,null,null,null,null,null,null,null,null,null,null,null,null,null,null,null,null,null,null,null,null,null,null,null,{"$f":"IFERROR(VLOOKUP(ROWS($CF$3:CF1817),$CH$3:$CI$2001,2,FALSE),\"\")","v":""},null,{"$f":"IF(ISNUMBER(SEARCH(B1817,CI1817)),MAX($CH$2:CH1816)+1,0)","v":0},{"$f":"'الرصيد الثابت'!#REF!","v":{"$error":"#REF!"}}]
["",null,{"$f":"IF(B1822=\"\",\"\",SUMIF('الرصيد الثابت'!$D$2:$D$106,B1822,'الرصيد الثابت'!$H$2:$H$106))","v":""},{"$f":"IF(B1822=\"\",\"\",SUMIF('الرصيد الثابت'!$D$2:$D$106,B1822,'الرصيد الثابت'!$I$2:$I$106))","v":""},{"$f":"IF(B1822=\"\",\"\",SUMIF('الرصيد الثابت'!$D$2:$D$106,B1822,'الرصيد الثابت'!$J$2:$J$106))","v":""},null,0,null,null,null,null,0,null,null,null,0,null,0,null,null,null,null,null,null,null,null,null,null,null,null,null,null,null,null,null,null,null,null,null,null,null,null,null,null,null,null,null,null,null,null,null,null,null,null,null,null,null,null,null,null,null,null,null,null,null,null,null,null,null,null,null,null,null,null,null,null,null,null,null,null,null,null,null,{"$f":"IFERROR(VLOOKUP(ROWS($CF$3:CF1822),$CH$3:$CI$2001,2,FALSE),\"\")","v":""},null,{"$f":"IF(ISNUMBER(SEARCH(B1822,CI1822)),MAX($CH$2:CH1821)+1,0)","v":0},{"$f":"'الرصيد الثابت'!#REF!","v":{"$error":"#REF!"}}]
["",null,{"$f":"IF(B1827=\"\",\"\",SUMIF('الرصيد الثابت'!$D$2:$D$106,B1827,'الرصيد الثابت'!$H$2:$H$106))","v":""},{"$f":"IF(B1827=\"\",\"\",SUMIF('الرصيد الثابت'!$D$2:$D$106,B1827,'الرصيد الثابت'!$I$2:$I$106))","v":""},{"$f":"IF(B1827=\"\",\"\",SUMIF('الرصيد الثابت'!$D$2:$D$106,B1827,'الرصيد الثابت'!$J$2:$J$106))","v":""},null,0,null,null,null,null,0,null,null,null,0,null,0,null,null,null,null,null,null,null,null,null,null,null,null,null,null,null,null,null,null,null,null,null,null,null,null,null,null,null,null,null,null,null,null,null,null,null,null,null,null,null,null,null,null,null,null,null,null,null,null,null,null,null,null,null,null,null,null,null,null,null,null,null,null,null,null,null,{"$f":"IFERROR(VLOOKUP(ROWS($CF$3:CF1827),$CH$3:$CI$2001,2,FALSE),\"\")","v":""},null,{"$f":"IF(ISNUMBER(SEARCH(B1827,CI1827)),MAX($CH$2:CH1826)+1,0)","v":0},{"$f":"'الرصيد الثابت'!#REF!","v":{"$error":"#REF!"}}]
["",null,{"$f":"IF(B1832=\"\",\"\",SUMIF('الرصيد الثابت'!$D$2:$D$106,B1832,'الرصيد الثابت'!$H$2:$H$106))","v":""},{"$f":"IF(B1832=\"\",\"\",SUMIF('الرصيد الثابت'!$D$2:$D$106,B1832,'الرصيد الثابت'!$I$2:$I$106))","v":""},{"$f":"IF(B1832=\"\",\"\",SUMIF('الرصيد الثابت'!$D$2:$D$106,B1832,'الرصيد الثابت'!$J$2:$J$106))","v":""},null,0,null,null,null,null,0,null,null,null,0,null,0,null,null,null,null,null,null,null,null,null,null,null,null,null,null,null,null,null,null,null,null,null,null,null,null,null,null,null,null,null,null,null,null,null,null,null,null,null,null,null,null,null,null,null,null,null,null,null,null,null,null,null,null,null,null,null,null,null,null,null,null,null,null,null,null,null,{"$f":"IFERROR(VLOOKUP(ROWS($CF$3:CF1832),$CH$3:$CI$2001,2,FALSE),\"\")","v":""},null,{"$f":"IF(ISNUMBER(SEARCH(B1832,CI1832)),MAX($CH$2:CH1831)+1,0)","v":0},{"$f":"'الرصيد الثابت'!#REF!","v":{"$error":"#REF!"}}]
["",null,{"$f":"IF(B1833=\"\",\"\",SUMIF('الرصيد الثابت'!$D$2:$D$106,B1833,'الرصيد الثابت'!$H$2:$H$106))","v":""},{"$f":"IF(B1833=\"\",\"\",SUMIF('الرصيد الثابت'!$D$2:$D$106,B1833,'الرصيد الثابت'!$I$2:$I$106))","v":""},{"$f":"IF(B1833=\"\",\"\",SUMIF('الرصيد الثابت'!$D$2:$D$106,B1833,'الرصيد الثابت'!$J$2:$J$106))","v":""},null,0,null,null,null,null,0,null,null,null,0,null,0,null,null,null,null,null,null,null,null,null,null,null,null,null,null,null,null,null,null,null,null,null,null,null,null,null,null,null,null,null,null,null,null,null,null,null,null,null,null,null,null,null,null,null,null,null,null,null,null,null,null,null,null,null,null,null,null,null,null,null,null,null,null,null,null,null,{"$f":"IFERROR(VLOOKUP(ROWS($CF$3:CF1833),$CH$3:$CI$2001,2,FALSE),\"\")","v":""},null,{"$f":"IF(ISNUMBER(SEARCH(B1833,CI1833)),MAX($CH$2:CH1832)+1,0)","v":0},{"$f":"'الرصيد الثابت'!#REF!","v":{"$error":"#REF!"}}]
["",null,{"$f":"IF(B1838=\"\",\"\",SUMIF('الرصيد الثابت'!$D$2:$D$106,B1838,'الرصيد الثابت'!$H$2:$H$106))","v":""},{"$f":"IF(B1838=\"\",\"\",SUMIF('الرصيد الثابت'!$D$2:$D$106,B1838,'الرصيد الثابت'!$I$2:$I$106))","v":""},{"$f":"IF(B1838=\"\",\"\",SUMIF('الرصيد الثابت'!$D$2:$D$106,B1838,'الرصيد الثابت'!$J$2:$J$106))","v":""},null,0,null,null,null,null,0,null,null,null,0,null,0,null,null,null,null,null,null,null,null,null,null,null,null,null,null,null,null,null,null,null,null,null,null,null,null,null,null,null,null,null,null,null,null,null,null,null,null,null,null,null,null,null,null,null,null,null,null,null,null,null,null,null,null,null,null,null,null,null,null,null,null,null,null,null,null,null,{"$f":"IFERROR(VLOOKUP(ROWS($CF$3:CF1838),$CH$3:$CI$2001,2,FALSE),\"\")","v":""},null,{"$f":"IF(ISNUMBER(SEARCH(B1838,CI1838)),MAX($CH$2:CH1837)+1,0)","v":0},{"$f":"'الرصيد الثابت'!#REF!","v":{"$error":"#REF!"}}]
["",null,{"$f":"IF(B1843=\"\",\"\",SUMIF('الرصيد الثابت'!$D$2:$D$106,B1843,'الرصيد الثابت'!$H$2:$H$106))","v":""},{"$f":"IF(B1843=\"\",\"\",SUMIF('الرصيد الثابت'!$D$2:$D$106,B1843,'الرصيد الثابت'!$I$2:$I$106))","v":""},{"$f":"IF(B1843=\"\",\"\",SUMIF('الرصيد الثابت'!$D$2:$D$106,B1843,'الرصيد الثابت'!$J$2:$J$106))","v":""},null,0,null,null,null,null,0,null,null,null,0,null,0,null,null,null,null,null,null,null,null,null,null,null,null,null,null,null,null,null,null,null,null,null,null,null,null,null,null,null,null,null,null,null,null,null,null,null,null,null,null,null,null,null,null,null,null,null,null,null,null,null,null,null,null,null,null,null,null,null,null,null,null,null,null,null,null,null,{"$f":"IFERROR(VLOOKUP(ROWS($CF$3:CF1843),$CH$3:$CI$2001,2,FALSE),\"\")","v":""},null,{"$f":"IF(ISNUMBER(SEARCH(B1843,CI1843)),MAX($CH$2:CH1842)+1,0)","v":0},{"$f":"'الرصيد الثابت'!#REF!","v":{"$error":"#REF!"}}]
["",null,{"$f":"IF(B1847=\"\",\"\",SUMIF('الرصيد الثابت'!$D$2:$D$106,B1847,'الرصيد الثابت'!$H$2:$H$106))","v":""},{"$f":"IF(B1847=\"\",\"\",SUMIF('الرصيد الثابت'!$D$2:$D$106,B1847,'الرصيد الثابت'!$I$2:$I$106))","v":""},{"$f":"IF(B1847=\"\",\"\",SUMIF('الرصيد الثابت'!$D$2:$D$106,B1847,'الرصيد الثابت'!$J$2:$J$106))","v":""},null,0,null,null,null,null,0,null,null,null,0,null,0,null,null,null,null,null,null,null,null,null,null,null,null,null,null,null,null,null,null,null,null,null,null,null,null,null,null,null,null,null,null,null,null,null,null,null,null,null,null,null,null,null,null,null,null,null,null,null,null,null,null,null,null,null,null,null,null,null,null,null,null,null,null,null,null,null,{"$f":"IFERROR(VLOOKUP(ROWS($CF$3:CF1847),$CH$3:$CI$2001,2,FALSE),\"\")","v":""},null,{"$f":"IF(ISNUMBER(SEARCH(B1847,CI1847)),MAX($CH$2:CH1846)+1,0)","v":0},{"$f":"'الرصيد الثابت'!#REF!","v":{"$error":"#REF!"}}]
["",null,{"$f":"IF(B1848=\"\",\"\",SUMIF('الرصيد الثابت'!$D$2:$D$106,B1848,'الرصيد الثابت'!$H$2:$H$106))","v":""},{"$f":"IF(B1848=\"\",\"\",SUMIF('الرصيد الثابت'!$D$2:$D$106,B1848,'الرصيد الثابت'!$I$2:$I$106))","v":""},{"$f":"IF(B1848=\"\",\"\",SUMIF('الرصيد الثابت'!$D$2:$D$106,B1848,'الرصيد الثابت'!$J$2:$J$106))","v":""},null,0,null,null,null,null,0,null,null,null,0,null,0,null,null,null,null,null,null,null,null,null,null,null,null,null,null,null,null,null,null,null,null,null,null,null,null,null,null,null,null,null,null,null,null,null,null,null,null,null,null,null,null,null,null,null,null,null,null,null,null,null,null,null,null,null,null,null,null,null,null,null,null,null,null,null,null,null,{"$f":"IFERROR(VLOOKUP(ROWS($CF$3:CF1848),$CH$3:$CI$2001,2,FALSE),\"\")","v":""},null,{"$f":"IF(ISNUMBER(SEARCH(B1848,CI1848)),MAX($CH$2:CH1847)+1,0)","v":0},{"$f":"'الرصيد الثابت'!#REF!","v":{"$error":"#REF!"}}]
["",null,{"$f":"IF(B1853=\"\",\"\",SUMIF('الرصيد الثابت'!$D$2:$D$106,B1853,'الرصيد الثابت'!$H$2:$H$106))","v":""},{"$f":"IF(B1853=\"\",\"\",SUMIF('الرصيد الثابت'!$D$2:$D$106,B1853,'الرصيد الثابت'!$I$2:$I$106))","v":""},{"$f":"IF(B1853=\"\",\"\",SUMIF('الرصيد الثابت'!$D$2:$D$106,B1853,'الرصيد الثابت'!$J$2:$J$106))","v":""},null,0,null,null,null,null,0,null,null,null,0,null,0,null,null,null,null,null,null,null,null,null,null,null,null,null,null,null,null,null,null,null,null,null,null,null,null,null,null,null,null,null,null,null,null,null,null,null,null,null,null,null,null,null,null,null,null,null,null,null,null,null,null,null,null,null,null,null,null,null,null,null,null,null,null,null,null,null,{"$f":"IFERROR(VLOOKUP(ROWS($CF$3:CF1853),$CH$3:$CI$2001,2,FALSE),\"\")","v":""},null,{"$f":"IF(ISNUMBER(SEARCH(B1853,CI1853)),MAX($CH$2:CH1852)+1,0)","v":0},{"$f":"'الرصيد الثابت'!#REF!","v":{"$error":"#REF!"}}]
["",null,{"$f":"IF(B1858=\"\",\"\",SUMIF('الرصيد الثابت'!$D$2:$D$106,B1858,'الرصيد الثابت'!$H$2:$H$106))","v":""},{"$f":"IF(B1858=\"\",\"\",SUMIF('الرصيد الثابت'!$D$2:$D$106,B1858,'الرصيد الثابت'!$I$2:$I$106))","v":""},{"$f":"IF(B1858=\"\",\"\",SUMIF('الرصيد الثابت'!$D$2:$D$106,B1858,'الرصيد الثابت'!$J$2:$J$106))","v":""},null,0,null,null,null,null,0,null,null,null,0,null,0,null,null,null,null,null,null,null,null,null,null,null,null,null,null,null,null,null,null,null,null,null,null,null,null,null,null,null,null,null,null,null,null,null,null,null,null,null,null,null,null,null,null,null,null,null,null,null,null,null,null,null,null,null,null,null,null,null,null,null,null,null,null,null,null,null,{"$f":"IFERROR(VLOOKUP(ROWS($CF$3:CF1858),$CH$3:$CI$2001,2,FALSE),\"\")","v":""},null,{"$f":"IF(ISNUMBER(SEARCH(B1858,CI1858)),MAX($CH$2:CH1857)+1,0)","v":0},{"$f":"'الرصيد الثابت'!#REF!","v":{"$error":"#REF!"}}]
["",null,{"$f":"IF(B1863=\"\",\"\",SUMIF('الرصيد الثابت'!$D$2:$D$106,B1863,'الرصيد الثابت'!$H$2:$H$106))","v":""},{"$f":"IF(B1863=\"\",\"\",SUMIF('الرصيد الثابت'!$D$2:$D$106,B1863,'الرصيد الثابت'!$I$2:$I$106))","v":""},{"$f":"IF(B1863=\"\",\"\",SUMIF('الرصيد الثابت'!$D$2:$D$106,B1863,'الرصيد الثابت'!$J$2:$J$106))","v":""},null,0,null,null,null,null,0,null,null,null,0,null,0,null,null,null,null,null,null,null,null,null,null,null,null,null,null,null,null,null,null,null,null,null,null,null,null,null,null,null,null,null,null,null,null,null,null,null,null,null,null,null,null,null,null,null,null,null,null,null,null,null,null,null,null,null,null,null,null,null,null,null,null,null,null,null,null,null,{"$f":"IFERROR(VLOOKUP(ROWS($CF$3:CF1863),$CH$3:$CI$2001,2,FALSE),\"\")","v":""},null,{"$f":"IF(ISNUMBER(SEARCH(B1863,CI1863)),MAX($CH$2:CH1862)+1,0)","v":0},{"$f":"'الرصيد الثابت'!#REF!","v":{"$error":"#REF!"}}]
["",null,{"$f":"IF(B1864=\"\",\"\",SUMIF('الرصيد الثابت'!$D$2:$D$106,B1864,'الرصيد الثابت'!$H$2:$H$106))","v":""},{"$f":"IF(B1864=\"\",\"\",SUMIF('الرصيد الثابت'!$D$2:$D$106,B1864,'الرصيد الثابت'!$I$2:$I$106))","v":""},{"$f":"IF(B1864=\"\",\"\",SUMIF('الرصيد الثابت'!$D$2:$D$106,B1864,'الرصيد الثابت'!$J$2:$J$106))","v":""},null,0,null,null,null,null,0,null,null,null,0,null,0,null,null,null,null,null,null,null,null,null,null,null,null,null,null,null,null,null,null,null,null,null,null,null,null,null,null,null,null,null,null,null,null,null,null,null,null,null,null,null,null,null,null,null,null,null,null,null,null,null,null,null,null,null,null,null,null,null,null,null,null,null,null,null,null,null,{"$f":"IFERROR(VLOOKUP(ROWS($CF$3:CF1864),$CH$3:$CI$2001,2,FALSE),\"\")","v":""},null,{"$f":"IF(ISNUMBER(SEARCH(B1864,CI1864)),MAX($CH$2:CH1863)+1,0)","v":0},{"$f":"'الرصيد الثابت'!#REF!","v":{"$error":"#REF!"}}]
["",null,{"$f":"IF(B1869=\"\",\"\",SUMIF('الرصيد الثابت'!$D$2:$D$106,B1869,'الرصيد الثابت'!$H$2:$H$106))","v":""},{"$f":"IF(B1869=\"\",\"\",SUMIF('الرصيد الثابت'!$D$2:$D$106,B1869,'الرصيد الثابت'!$I$2:$I$106))","v":""},{"$f":"IF(B1869=\"\",\"\",SUMIF('الرصيد الثابت'!$D$2:$D$106,B1869,'الرصيد الثابت'!$J$2:$J$106))","v":""},null,0,null,null,null,null,0,null,null,null,0,null,0,null,null,null,null,null,null,null,null,null,null,null,null,null,null,null,null,null,null,null,null,null,null,null,null,null,null,null,null,null,null,null,null,null,null,null,null,null,null,null,null,null,null,null,null,null,null,null,null,null,null,null,null,null,null,null,null,null,null,null,null,null,null,null,null,null,{"$f":"IFERROR(VLOOKUP(ROWS($CF$3:CF1869),$CH$3:$CI$2001,2,FALSE),\"\")","v":""},null,{"$f":"IF(ISNUMBER(SEARCH(B1869,CI1869)),MAX($CH$2:CH1868)+1,0)","v":0},{"$f":"'الرصيد الثابت'!#REF!","v":{"$error":"#REF!"}}]
["",null,{"$f":"IF(B1874=\"\",\"\",SUMIF('الرصيد الثابت'!$D$2:$D$106,B1874,'الرصيد الثابت'!$H$2:$H$106))","v":""},{"$f":"IF(B1874=\"\",\"\",SUMIF('الرصيد الثابت'!$D$2:$D$106,B1874,'الرصيد الثابت'!$I$2:$I$106))","v":""},{"$f":"IF(B1874=\"\",\"\",SUMIF('الرصيد الثابت'!$D$2:$D$106,B1874,'الرصيد الثابت'!$J$2:$J$106))","v":""},null,0,null,null,null,null,0,null,null,null,0,null,0,null,null,null,null,null,null,null,null,null,null,null,null,null,null,null,null,null,null,null,null,null,null,null,null,null,null,null,null,null,null,null,null,null,null,null,null,null,null,null,null,null,null,null,null,null,null,null,null,null,null,null,null,null,null,null,null,null,null,null,null,null,null,null,null,null,{"$f":"IFERROR(VLOOKUP(ROWS($CF$3:CF1874),$CH$3:$CI$2001,2,FALSE),\"\")","v":""},null,{"$f":"IF(ISNUMBER(SEARCH(B1874,CI1874)),MAX($CH$2:CH1873)+1,0)","v":0},{"$f":"'الرصيد الثابت'!#REF!","v":{"$error":"#REF!"}}]
["",null,{"$f":"IF(B1879=\"\",\"\",SUMIF('الرصيد الثابت'!$D$2:$D$106,B1879,'الرصيد الثابت'!$H$2:$H$106))","v":""},{"$f":"IF(B1879=\"\",\"\",SUMIF('الرصيد الثابت'!$D$2:$D$106,B1879,'الرصيد الثابت'!$I$2:$I$106))","v":""},{"$f":"IF(B1879=\"\",\"\",SUMIF('الرصيد الثابت'!$D$2:$D$106,B1879,'الرصيد الثابت'!$J$2:$J$106))","v":""},null,0,null,null,null,null,0,null,null,null,0,null,0,null,null,null,null,null,null,null,null,null,null,null,null,null,null,null,null,null,null,null,null,null,null,null,null,null,null,null,null,null,null,null,null,null,null,null,null,null,null,null,null,null,null,null,null,null,null,null,null,null,null,null,null,null,null,null,null,null,null,null,null,null,null,null,null,null,{"$f":"IFERROR(VLOOKUP(ROWS($CF$3:CF1879),$CH$3:$CI$2001,2,FALSE),\"\")","v":""},null,{"$f":"IF(ISNUMBER(SEARCH(B1879,CI1879)),MAX($CH$2:CH1878)+1,0)","v":0},{"$f":"'الرصيد الثابت'!#REF!","v":{"$error":"#REF!"}}]
["",null,{"$f":"IF(B1880=\"\",\"\",SUMIF('الرصيد الثابت'!$D$2:$D$106,B1880,'الرصيد الثابت'!$H$2:$H$106))","v":""},{"$f":"IF(B1880=\"\",\"\",SUMIF('الرصيد الثابت'!$D$2:$D$106,B1880,'الرصيد الثابت'!$I$2:$I$106))","v":""},{"$f":"IF(B1880=\"\",\"\",SUMIF('الرصيد الثابت'!$D$2:$D$106,B1880,'الرصيد الثابت'!$J$2:$J$106))","v":""},null,0,null,null,null,null,0,null,null,null,0,null,0,null,null,null,null,null,null,null,null,null,null,null,null,null,null,null,null,null,null,null,null,null,null,null,null,null,null,null,null,null,null,null,null,null,null,null,null,null,null,null,null,null,null,null,null,null,null,null,null,null,null,null,null,null,null,null,null,null,null,null,null,null,null,null,null,null,{"$f":"IFERROR(VLOOKUP(ROWS($CF$3:CF1880),$CH$3:$CI$2001,2,FALSE),\"\")","v":""},null,{"$f":"IF(ISNUMBER(SEARCH(B1880,CI1880)),MAX($CH$2:CH1879)+1,0)","v":0},{"$f":"'الرصيد الثابت'!#REF!","v":{"$error":"#REF!"}}]
["",null,{"$f":"IF(B1885=\"\",\"\",SUMIF('الرصيد الثابت'!$D$2:$D$106,B1885,'الرصيد الثابت'!$H$2:$H$106))","v":""},{"$f":"IF(B1885=\"\",\"\",SUMIF('الرصيد الثابت'!$D$2:$D$106,B1885,'الرصيد الثابت'!$I$2:$I$106))","v":""},{"$f":"IF(B1885=\"\",\"\",SUMIF('الرصيد الثابت'!$D$2:$D$106,B1885,'الرصيد الثابت'!$J$2:$J$106))","v":""},null,0,null,null,null,null,0,null,null,null,0,null,0,null,null,null,null,null,null,null,null,null,null,null,null,null,null,null,null,null,null,null,null,null,null,null,null,null,null,null,null,null,null,null,null,null,null,null,null,null,null,null,null,null,null,null,null,null,null,null,null,null,null,null,null,null,null,null,null,null,null,null,null,null,null,null,null,null,{"$f":"IFERROR(VLOOKUP(ROWS($CF$3:CF1885),$CH$3:$CI$2001,2,FALSE),\"\")","v":""},null,{"$f":"IF(ISNUMBER(SEARCH(B1885,CI1885)),MAX($CH$2:CH1884)+1,0)","v":0},{"$f":"'الرصيد الثابت'!#REF!","v":{"$error":"#REF!"}}]
["",null,{"$f":"IF(B1890=\"\",\"\",SUMIF('الرصيد الثابت'!$D$2:$D$106,B1890,'الرصيد الثابت'!$H$2:$H$106))","v":""},{"$f":"IF(B1890=\"\",\"\",SUMIF('الرصيد الثابت'!$D$2:$D$106,B1890,'الرصيد الثابت'!$I$2:$I$106))","v":""},{"$f":"IF(B1890=\"\",\"\",SUMIF('الرصيد الثابت'!$D$2:$D$106,B1890,'الرصيد الثابت'!$J$2:$J$106))","v":""},null,0,null,null,null,null,0,null,null,null,0,null,0,null,null,null,null,null,null,null,null,null,null,null,null,null,null,null,null,null,null,null,null,null,null,null,null,null,null,null,null,null,null,null,null,null,null,null,null,null,null,null,null,null,null,null,null,null,null,null,null,null,null,null,null,null,null,null,null,null,null,null,null,null,null,null,null,null,{"$f":"IFERROR(VLOOKUP(ROWS($CF$3:CF1890),$CH$3:$CI$2001,2,FALSE),\"\")","v":""},null,{"$f":"IF(ISNUMBER(SEARCH(B1890,CI1890)),MAX($CH$2:CH1889)+1,0)","v":0},{"$f":"'الرصيد الثابت'!#REF!","v":{"$error":"#REF!"}}]
["",null,{"$f":"IF(B1895=\"\",\"\",SUMIF('الرصيد الثابت'!$D$2:$D$106,B1895,'الرصيد الثابت'!$H$2:$H$106))","v":""},{"$f":"IF(B1895=\"\",\"\",SUMIF('الرصيد الثابت'!$D$2:$D$106,B1895,'الرصيد الثابت'!$I$2:$I$106))","v":""},{"$f":"IF(B1895=\"\",\"\",SUMIF('الرصيد الثابت'!$D$2:$D$106,B1895,'الرصيد الثابت'!$J$2:$J$106))","v":""},null,0,null,null,null,null,0,null,null,null,0,null,0,null,null,null,null,null,null,null,null,null,null,null,null,null,null,null,null,null,null,null,null,null,null,null,null,null,null,null,null,null,null,null,null,null,null,null,null,null,null,null,null,null,null,null,null,null,null,null,null,null,null,null,null,null,null,null,null,null,null,null,null,null,null,null,null,null,{"$f":"IFERROR(VLOOKUP(ROWS($CF$3:CF1895),$CH$3:$CI$2001,2,FALSE),\"\")","v":""},null,{"$f":"IF(ISNUMBER(SEARCH(B1895,CI1895)),MAX($CH$2:CH1894)+1,0)","v":0},{"$f":"'الرصيد الثابت'!#REF!","v":{"$error":"#REF!"}}]
["",null,{"$f":"IF(B1896=\"\",\"\",SUMIF('الرصيد الثابت'!$D$2:$D$106,B1896,'الرصيد الثابت'!$H$2:$H$106))","v":""},{"$f":"IF(B1896=\"\",\"\",SUMIF('الرصيد الثابت'!$D$2:$D$106,B1896,'الرصيد الثابت'!$I$2:$I$106))","v":""},{"$f":"IF(B1896=\"\",\"\",SUMIF('الرصيد الثابت'!$D$2:$D$106,B1896,'الرصيد الثابت'!$J$2:$J$106))","v":""},null,0,null,null,null,null,0,null,null,null,0,null,0,null,null,null,null,null,null,null,null,null,null,null,null,null,null,null,null,null,null,null,null,null,null,null,null,null,null,null,null,null,null,null,null,null,null,null,null,null,null,null,null,null,null,null,null,null,null,null,null,null,null,null,null,null,null,null,null,null,null,null,null,null,null,null,null,null,{"$f":"IFERROR(VLOOKUP(ROWS($CF$3:CF1896),$CH$3:$CI$2001,2,FALSE),\"\")","v":""},null,{"$f":"IF(ISNUMBER(SEARCH(B1896,CI1896)),MAX($CH$2:CH1895)+1,0)","v":0},{"$f":"'الرصيد الثابت'!#REF!","v":{"$error":"#REF!"}}]
["",null,{"$f":"IF(B1901=\"\",\"\",SUMIF('الرصيد الثابت'!$D$2:$D$106,B1901,'الرصيد الثابت'!$H$2:$H$106))","v":""},{"$f":"IF(B1901=\"\",\"\",SUMIF('الرصيد الثابت'!$D$2:$D$106,B1901,'الرصيد الثابت'!$I$2:$I$106))","v":""},{"$f":"IF(B1901=\"\",\"\",SUMIF('الرصيد الثابت'!$D$2:$D$106,B1901,'الرصيد الثابت'!$J$2:$J$106))","v":""},null,0,null,null,null,null,0,null,null,null,0,null,0,null,null,null,null,null,null,null,null,null,null,null,null,null,null,null,null,null,null,null,null,null,null,null,null,null,null,null,null,null,null,null,null,null,null,null,null,null,null,null,null,null,null,null,null,null,null,null,null,null,null,null,null,null,null,null,null,null,null,null,null,null,null,null,null,null,{"$f":"IFERROR(VLOOKUP(ROWS($CF$3:CF1901),$CH$3:$CI$2001,2,FALSE),\"\")","v":""},null,{"$f":"IF(ISNUMBER(SEARCH(B1901,CI1901)),MAX($CH$2:CH1900)+1,0)","v":0},{"$f":"'الرصيد الثابت'!#REF!","v":{"$error":"#REF!"}}]
["",null,{"$f":"IF(B1906=\"\",\"\",SUMIF('الرصيد الثابت'!$D$2:$D$106,B1906,'الرصيد الثابت'!$H$2:$H$106))","v":""},{"$f":"IF(B1906=\"\",\"\",SUMIF('الرصيد الثابت'!$D$2:$D$106,B1906,'الرصيد الثابت'!$I$2:$I$106))","v":""},{"$f":"IF(B1906=\"\",\"\",SUMIF('الرصيد الثابت'!$D$2:$D$106,B1906,'الرصيد الثابت'!$J$2:$J$106))","v":""},null,0,null,null,null,null,0,null,null,null,0,null,0,null,null,null,null,null,null,null,null,null,null,null,null,null,null,null,null,null,null,null,null,null,null,null,null,null,null,null,null,null,null,null,null,null,null,null,null,null,null,null,null,null,null,null,null,null,null,null,null,null,null,null,null,null,null,null,null,null,null,null,null,null,null,null,null,null,{"$f":"IFERROR(VLOOKUP(ROWS($CF$3:CF1906),$CH$3:$CI$2001,2,FALSE),\"\")","v":""},null,{"$f":"IF(ISNUMBER(SEARCH(B1906,CI1906)),MAX($CH$2:CH1905)+1,0)","v":0},{"$f":"'الرصيد الثابت'!#REF!","v":{"$error":"#REF!"}}]
["",null,{"$f":"IF(B1910=\"\",\"\",SUMIF('الرصيد الثابت'!$D$2:$D$106,B1910,'الرصيد الثابت'!$H$2:$H$106))","v":""},{"$f":"IF(B1910=\"\",\"\",SUMIF('الرصيد الثابت'!$D$2:$D$106,B1910,'الرصيد الثابت'!$I$2:$I$106))","v":""},{"$f":"IF(B1910=\"\",\"\",SUMIF('الرصيد الثابت'!$D$2:$D$106,B1910,'الرصيد الثابت'!$J$2:$J$106))","v":""},null,0,null,null,null,null,0,null,null,null,0,null,0,null,null,null,null,null,null,null,null,null,null,null,null,null,null,null,null,null,null,null,null,null,null,null,null,null,null,null,null,null,null,null,null,null,null,null,null,null,null,null,null,null,null,null,null,null,null,null,null,null,null,null,null,null,null,null,null,null,null,null,null,null,null,null,null,null,{"$f":"IFERROR(VLOOKUP(ROWS($CF$3:CF1910),$CH$3:$CI$2001,2,FALSE),\"\")","v":""},null,{"$f":"IF(ISNUMBER(SEARCH(B1910,CI1910)),MAX($CH$2:CH1909)+1,0)","v":0},{"$f":"'الرصيد الثابت'!#REF!","v":{"$error":"#REF!"}}]
["",null,{"$f":"IF(B1911=\"\",\"\",SUMIF('الرصيد الثابت'!$D$2:$D$106,B1911,'الرصيد الثابت'!$H$2:$H$106))","v":""},{"$f":"IF(B1911=\"\",\"\",SUMIF('الرصيد الثابت'!$D$2:$D$106,B1911,'الرصيد الثابت'!$I$2:$I$106))","v":""},{"$f":"IF(B1911=\"\",\"\",SUMIF('الرصيد الثابت'!$D$2:$D$106,B1911,'الرصيد الثابت'!$J$2:$J$106))","v":""},null,0,null,null,null,null,0,null,null,null,0,null,0,null,null,null,null,null,null,null,null,null,null,null,null,null,null,null,null,null,null,null,null,null,null,null,null,null,null,null,null,null,null,null,null,null,null,null,null,null,null,null,null,null,null,null,null,null,null,null,null,null,null,null,null,null,null,null,null,null,null,null,null,null,null,null,null,null,{"$f":"IFERROR(VLOOKUP(ROWS($CF$3:CF1911),$CH$3:$CI$2001,2,FALSE),\"\")","v":""},null,{"$f":"IF(ISNUMBER(SEARCH(B1911,CI1911)),MAX($CH$2:CH1910)+1,0)","v":0},{"$f":"'الرصيد الثابت'!#REF!","v":{"$error":"#REF!"}}]
["",null,{"$f":"IF(B1916=\"\",\"\",SUMIF('الرصيد الثابت'!$D$2:$D$106,B1916,'الرصيد الثابت'!$H$2:$H$106))","v":""},{"$f":"IF(B1916=\"\",\"\",SUMIF('الرصيد الثابت'!$D$2:$D$106,B1916,'الرصيد الثابت'!$I$2:$I$106))","v":""},{"$f":"IF(B1916=\"\",\"\",SUMIF('الرصيد الثابت'!$D$2:$D$106,B1916,'الرصيد الثابت'!$J$2:$J$106))","v":""},null,0,null,null,null,null,0,null,null,null,0,null,0,null,null,null,null,null,null,null,null,null,null,null,null,null,null,null,null,null,null,null,null,null,null,null,null,null,null,null,null,null,null,null,null,null,null,null,null,null,null,null,null,null,null,null,null,null,null,null,null,null,null,null,null,null,null,null,null,null,null,null,null,null,null,null,null,null,{"$f":"IFERROR(VLOOKUP(ROWS($CF$3:CF1916),$CH$3:$CI$2001,2,FALSE),\"\")","v":""},null,{"$f":"IF(ISNUMBER(SEARCH(B1916,CI1916)),MAX($CH$2:CH1915)+1,0)","v":0},{"$f":"'الرصيد الثابت'!#REF!","v":{"$error":"#REF!"}}]
["",null,{"$f":"IF(B1921=\"\",\"\",SUMIF('الرصيد الثابت'!$D$2:$D$106,B1921,'الرصيد الثابت'!$H$2:$H$106))","v":""},{"$f":"IF(B1921=\"\",\"\",SUMIF('الرصيد الثابت'!$D$2:$D$106,B1921,'الرصيد الثابت'!$I$2:$I$106))","v":""},{"$f":"IF(B1921=\"\",\"\",SUMIF('الرصيد الثابت'!$D$2:$D$106,B1921,'الرصيد الثابت'!$J$2:$J$106))","v":""},null,0,null,null,null,null,0,null,null,null,0,null,0,null,null,null,null,null,null,null,null,null,null,null,null,null,null,null,null,null,null,null,null,null,null,null,null,null,null,null,null,null,null,null,null,null,null,null,null,null,null,null,null,null,null,null,null,null,null,null,null,null,null,null,null,null,null,null,null,null,null,null,null,null,null,null,null,null,{"$f":"IFERROR(VLOOKUP(ROWS($CF$3:CF1921),$CH$3:$CI$2001,2,FALSE),\"\")","v":""},null,{"$f":"IF(ISNUMBER(SEARCH(B1921,CI1921)),MAX($CH$2:CH1920)+1,0)","v":0},{"$f":"'الرصيد الثابت'!#REF!","v":{"$error":"#REF!"}}]
["",null,{"$f":"IF(B1926=\"\",\"\",SUMIF('الرصيد الثابت'!$D$2:$D$106,B1926,'الرصيد الثابت'!$H$2:$H$106))","v":""},{"$f":"IF(B1926=\"\",\"\",SUMIF('الرصيد الثابت'!$D$2:$D$106,B1926,'الرصيد الثابت'!$I$2:$I$106))","v":""},{"$f":"IF(B1926=\"\",\"\",SUMIF('الرصيد الثابت'!$D$2:$D$106,B1926,'الرصيد الثابت'!$J$2:$J$106))","v":""},null,0,null,null,null,null,0,null,null,null,0,null,0,null,null,null,null,null,null,null,null,null,null,null,null,null,null,null,null,null,null,null,null,null,null,null,null,null,null,null,null,null,null,null,null,null,null,null,null,null,null,null,null,null,null,null,null,null,null,null,null,null,null,null,null,null,null,null,null,null,null,null,null,null,null,null,null,null,{"$f":"IFERROR(VLOOKUP(ROWS($CF$3:CF1926),$CH$3:$CI$2001,2,FALSE),\"\")","v":""},null,{"$f":"IF(ISNUMBER(SEARCH(B1926,CI1926)),MAX($CH$2:CH1925)+1,0)","v":0},{"$f":"'الرصيد الثابت'!#REF!","v":{"$error":"#REF!"}}]
["",null,{"$f":"IF(B1927=\"\",\"\",SUMIF('الرصيد الثابت'!$D$2:$D$106,B1927,'الرصيد الثابت'!$H$2:$H$106))","v":""},{"$f":"IF(B1927=\"\",\"\",SUMIF('الرصيد الثابت'!$D$2:$D$106,B1927,'الرصيد الثابت'!$I$2:$I$106))","v":""},{"$f":"IF(B1927=\"\",\"\",SUMIF('الرصيد الثابت'!$D$2:$D$106,B1927,'الرصيد الثابت'!$J$2:$J$106))","v":""},null,0,null,null,null,null,0,null,null,null,0,null,0,null,null,null,null,null,null,null,null,null,null,null,null,null,null,null,null,null,null,null,null,null,null,null,null,null,null,null,null,null,null,null,null,null,null,null,null,null,null,null,null,null,null,null,null,null,null,null,null,null,null,null,null,null,null,null,null,null,null,null,null,null,null,null,null,null,{"$f":"IFERROR(VLOOKUP(ROWS($CF$3:CF1927),$CH$3:$CI$2001,2,FALSE),\"\")","v":""},null,{"$f":"IF(ISNUMBER(SEARCH(B1927,CI1927)),MAX($CH$2:CH1926)+1,0)","v":0},{"$f":"'الرصيد الثابت'!#REF!","v":{"$error":"#REF!"}}]
["",null,{"$f":"IF(B1932=\"\",\"\",SUMIF('الرصيد الثابت'!$D$2:$D$106,B1932,'الرصيد الثابت'!$H$2:$H$106))","v":""},{"$f":"IF(B1932=\"\",\"\",SUMIF('الرصيد الثابت'!$D$2:$D$106,B1932,'الرصيد الثابت'!$I$2:$I$106))","v":""},{"$f":"IF(B1932=\"\",\"\",SUMIF('الرصيد الثابت'!$D$2:$D$106,B1932,'الرصيد الثابت'!$J$2:$J$106))","v":""},null,0,null,null,null,null,0,null,null,null,0,null,0,null,null,null,null,null,null,null,null,null,null,null,null,null,null,null,null,null,null,null,null,null,null,null,null,null,null,null,null,null,null,null,null,null,null,null,null,null,null,null,null,null,null,null,null,null,null,null,null,null,null,null,null,null,null,null,null,null,null,null,null,null,null,null,null,null,{"$f":"IFERROR(VLOOKUP(ROWS($CF$3:CF1932),$CH$3:$CI$2001,2,FALSE),\"\")","v":""},null,{"$f":"IF(ISNUMBER(SEARCH(B1932,CI1932)),MAX($CH$2:CH1931)+1,0)","v":0},{"$f":"'الرصيد الثابت'!#REF!","v":{"$error":"#REF!"}}]
["",null,{"$f":"IF(B1937=\"\",\"\",SUMIF('الرصيد الثابت'!$D$2:$D$106,B1937,'الرصيد الثابت'!$H$2:$H$106))","v":""},{"$f":"IF(B1937=\"\",\"\",SUMIF('الرصيد الثابت'!$D$2:$D$106,B1937,'الرصيد الثابت'!$I$2:$I$106))","v":""},{"$f":"IF(B1937=\"\",\"\",SUMIF('الرصيد الثابت'!$D$2:$D$106,B1937,'الرصيد الثابت'!$J$2:$J$106))","v":""},null,0,null,null,null,null,0,null,null,null,0,null,0,null,null,null,null,null,null,null,null,null,null,null,null,null,null,null,null,null,null,null,null,null,null,null,null,null,null,null,null,null,null,null,null,null,null,null,null,null,null,null,null,null,null,null,null,null,null,null,null,null,null,null,null,null,null,null,null,null,null,null,null,null,null,null,null,null,{"$f":"IFERROR(VLOOKUP(ROWS($CF$3:CF1937),$CH$3:$CI$2001,2,FALSE),\"\")","v":""},null,{"$f":"IF(ISNUMBER(SEARCH(B1937,CI1937)),MAX($CH$2:CH1936)+1,0)","v":0},{"$f":"'الرصيد الثابت'!#REF!","v":{"$error":"#REF!"}}]
["",null,{"$f":"IF(B1942=\"\",\"\",SUMIF('الرصيد الثابت'!$D$2:$D$106,B1942,'الرصيد الثابت'!$H$2:$H$106))","v":""},{"$f":"IF(B1942=\"\",\"\",SUMIF('الرصيد الثابت'!$D$2:$D$106,B1942,'الرصيد الثابت'!$I$2:$I$106))","v":""},{"$f":"IF(B1942=\"\",\"\",SUMIF('الرصيد الثابت'!$D$2:$D$106,B1942,'الرصيد الثابت'!$J$2:$J$106))","v":""},null,0,null,null,null,null,0,null,null,null,0,null,0,null,null,null,null,null,null,null,null,null,null,null,null,null,null,null,null,null,null,null,null,null,null,null,null,null,null,null,null,null,null,null,null,null,null,null,null,null,null,null,null,null,null,null,null,null,null,null,null,null,null,null,null,null,null,null,null,null,null,null,null,null,null,null,null,null,{"$f":"IFERROR(VLOOKUP(ROWS($CF$3:CF1942),$CH$3:$CI$2001,2,FALSE),\"\")","v":""},null,{"$f":"IF(ISNUMBER(SEARCH(B1942,CI1942)),MAX($CH$2:CH1941)+1,0)","v":0},{"$f":"'الرصيد الثابت'!#REF!","v":{"$error":"#REF!"}}]
["",null,{"$f":"IF(B1943=\"\",\"\",SUMIF('الرصيد الثابت'!$D$2:$D$106,B1943,'الرصيد الثابت'!$H$2:$H$106))","v":""},{"$f":"IF(B1943=\"\",\"\",SUMIF('الرصيد الثابت'!$D$2:$D$106,B1943,'الرصيد الثابت'!$I$2:$I$106))","v":""},{"$f":"IF(B1943=\"\",\"\",SUMIF('الرصيد الثابت'!$D$2:$D$106,B1943,'الرصيد الثابت'!$J$2:$J$106))","v":""},null,0,null,null,null,null,0,null,null,null,0,null,0,null,null,null,null,null,null,null,null,null,null,null,null,null,null,null,null,null,null,null,null,null,null,null,null,null,null,null,null,null,null,null,null,null,null,null,null,null,null,null,null,null,null,null,null,null,null,null,null,null,null,null,null,null,null,null,null,null,null,null,null,null,null,null,null,null,{"$f":"IFERROR(VLOOKUP(ROWS($CF$3:CF1943),$CH$3:$CI$2001,2,FALSE),\"\")","v":""},null,{"$f":"IF(ISNUMBER(SEARCH(B1943,CI1943)),MAX($CH$2:CH1942)+1,0)","v":0},{"$f":"'الرصيد الثابت'!#REF!","v":{"$error":"#REF!"}}]
["",null,{"$f":"IF(B1948=\"\",\"\",SUMIF('الرصيد الثابت'!$D$2:$D$106,B1948,'الرصيد الثابت'!$H$2:$H$106))","v":""},{"$f":"IF(B1948=\"\",\"\",SUMIF('الرصيد الثابت'!$D$2:$D$106,B1948,'الرصيد الثابت'!$I$2:$I$106))","v":""},{"$f":"IF(B1948=\"\",\"\",SUMIF('الرصيد الثابت'!$D$2:$D$106,B1948,'الرصيد الثابت'!$J$2:$J$106))","v":""},null,0,null,null,null,null,0,null,null,null,0,null,0,null,null,null,null,null,null,null,null,null,null,null,null,null,null,null,null,null,null,null,null,null,null,null,null,null,null,null,null,null,null,null,null,null,null,null,null,null,null,null,null,null,null,null,null,null,null,null,null,null,null,null,null,null,null,null,null,null,null,null,null,null,null,null,null,null,{"$f":"IFERROR(VLOOKUP(ROWS($CF$3:CF1948),$CH$3:$CI$2001,2,FALSE),\"\")","v":""},null,{"$f":"IF(ISNUMBER(SEARCH(B1948,CI1948)),MAX($CH$2:CH1947)+1,0)","v":0},{"$f":"'الرصيد الثابت'!#REF!","v":{"$error":"#REF!"}}]
["",null,{"$f":"IF(B1953=\"\",\"\",SUMIF('الرصيد الثابت'!$D$2:$D$106,B1953,'الرصيد الثابت'!$H$2:$H$106))","v":""},{"$f":"IF(B1953=\"\",\"\",SUMIF('الرصيد الثابت'!$D$2:$D$106,B1953,'الرصيد الثابت'!$I$2:$I$106))","v":""},{"$f":"IF(B1953=\"\",\"\",SUMIF('الرصيد الثابت'!$D$2:$D$106,B1953,'الرصيد الثابت'!$J$2:$J$106))","v":""},null,{"$f":"SUM(H1953*F1953)","v":0},null,null,null,null,0,null,null,null,{"$f":"SUM(F1953-K1953)","v":0},null,{"$f":"SUM(S1953*Q1953)","v":0},null,null,null,null,null,null,null,null,null,null,null,null,null,null,null,null,null,null,null,null,null,null,null,null,null,null,null,null,null,null,null,null,null,null,null,null,null,null,null,null,null,null,null,null,null,null,null,null,null,null,null,null,null,null,null,null,null,null,null,null,null,null,null,null,null,{"$f":"IFERROR(VLOOKUP(ROWS($CF$3:CF1953),$CH$3:$CI$2001,2,FALSE),\"\")","v":""},null,{"$f":"IF(ISNUMBER(SEARCH(B1953,CI1953)),MAX($CH$2:CH1952)+1,0)","v":0},{"$f":"'الرصيد الثابت'!#REF!","v":{"$error":"#REF!"}}]
["",null,{"$f":"IF(B1958=\"\",\"\",SUMIF('الرصيد الثابت'!$D$2:$D$106,B1958,'الرصيد الثابت'!$H$2:$H$106))","v":""},{"$f":"IF(B1958=\"\",\"\",SUMIF('الرصيد الثابت'!$D$2:$D$106,B1958,'الرصيد الثابت'!$I$2:$I$106))","v":""},{"$f":"IF(B1958=\"\",\"\",SUMIF('الرصيد الثابت'!$D$2:$D$106,B1958,'الرصيد الثابت'!$J$2:$J$106))","v":""},null,0,null,null,null,null,0,null,null,null,0,null,0,null,null,null,null,null,null,null,null,null,null,null,null,null,null,null,null,null,null,null,null,null,null,null,null,null,null,null,null,null,null,null,null,null,null,null,null,null,null,null,null,null,null,null,null,null,null,null,null,null,null,null,null,null,null,null,null,null,null,null,null,null,null,null,null,null,{"$f":"IFERROR(VLOOKUP(ROWS($CF$3:CF1958),$CH$3:$CI$2001,2,FALSE),\"\")","v":""},null,{"$f":"IF(ISNUMBER(SEARCH(B1958,CI1958)),MAX($CH$2:CH1957)+1,0)","v":0},{"$f":"'الرصيد الثابت'!#REF!","v":{"$error":"#REF!"}}]
["",null,{"$f":"IF(B1960=\"\",\"\",SUMIF('الرصيد الثابت'!$D$2:$D$106,B1960,'الرصيد الثابت'!$H$2:$H$106))","v":""},{"$f":"IF(B1960=\"\",\"\",SUMIF('الرصيد الثابت'!$D$2:$D$106,B1960,'الرصيد الثابت'!$I$2:$I$106))","v":""},{"$f":"IF(B1960=\"\",\"\",SUMIF('الرصيد الثابت'!$D$2:$D$106,B1960,'الرصيد الثابت'!$J$2:$J$106))","v":""},null,0,null,null,null,null,0,null,null,null,0,null,0,null,null,null,null,null,null,null,null,null,null,null,null,null,null,null,null,null,null,null,null,null,null,null,null,null,null,null,null,null,null,null,null,null,null,null,null,null,null,null,null,null,null,null,null,null,null,null,null,null,null,null,null,null,null,null,null,null,null,null,null,null,null,null,null,null,{"$f":"IFERROR(VLOOKUP(ROWS($CF$3:CF1960),$CH$3:$CI$2001,2,FALSE),\"\")","v":""},null,{"$f":"IF(ISNUMBER(SEARCH(B1960,CI1960)),MAX($CH$2:CH1959)+1,0)","v":0},{"$f":"'الرصيد الثابت'!#REF!","v":{"$error":"#REF!"}}]
["",null,{"$f":"IF(B1963=\"\",\"\",SUMIF('الرصيد الثابت'!$D$2:$D$106,B1963,'الرصيد الثابت'!$H$2:$H$106))","v":""},{"$f":"IF(B1963=\"\",\"\",SUMIF('الرصيد الثابت'!$D$2:$D$106,B1963,'الرصيد الثابت'!$I$2:$I$106))","v":""},{"$f":"IF(B1963=\"\",\"\",SUMIF('الرصيد الثابت'!$D$2:$D$106,B1963,'الرصيد الثابت'!$J$2:$J$106))","v":""},null,0,null,null,null,null,0,null,null,null,0,null,0,null,null,null,null,null,null,null,null,null,null,null,null,null,null,null,null,null,null,null,null,null,null,null,null,null,null,null,null,null,null,null,null,null,null,null,null,null,null,null,null,null,null,null,null,null,null,null,null,null,null,null,null,null,null,null,null,null,null,null,null,null,null,null,null,null,{"$f":"IFERROR(VLOOKUP(ROWS($CF$3:CF1963),$CH$3:$CI$2001,2,FALSE),\"\")","v":""},null,{"$f":"IF(ISNUMBER(SEARCH(B1963,CI1963)),MAX($CH$2:CH1962)+1,0)","v":0},{"$f":"'الرصيد الثابت'!#REF!","v":{"$error":"#REF!"}}]
["",null,{"$f":"IF(B1968=\"\",\"\",SUMIF('الرصيد الثابت'!$D$2:$D$106,B1968,'الرصيد الثابت'!$H$2:$H$106))","v":""},{"$f":"IF(B1968=\"\",\"\",SUMIF('الرصيد الثابت'!$D$2:$D$106,B1968,'الرصيد الثابت'!$I$2:$I$106))","v":""},{"$f":"IF(B1968=\"\",\"\",SUMIF('الرصيد الثابت'!$D$2:$D$106,B1968,'الرصيد الثابت'!$J$2:$J$106))","v":""},null,0,null,null,null,null,0,null,null,null,0,null,0,null,null,null,null,null,null,null,null,null,null,null,null,null,null,null,null,null,null,null,null,null,null,null,null,null,null,null,null,null,null,null,null,null,null,null,null,null,null,null,null,null,null,null,null,null,null,null,null,null,null,null,null,null,null,null,null,null,null,null,null,null,null,null,null,null,{"$f":"IFERROR(VLOOKUP(ROWS($CF$3:CF1968),$CH$3:$CI$2001,2,FALSE),\"\")","v":""},null,{"$f":"IF(ISNUMBER(SEARCH(B1968,CI1968)),MAX($CH$2:CH1967)+1,0)","v":0},{"$f":"'الرصيد الثابت'!#REF!","v":{"$error":"#REF!"}}]
["",null,{"$f":"IF(B1973=\"\",\"\",SUMIF('الرصيد الثابت'!$D$2:$D$106,B1973,'الرصيد الثابت'!$H$2:$H$106))","v":""},{"$f":"IF(B1973=\"\",\"\",SUMIF('الرصيد الثابت'!$D$2:$D$106,B1973,'الرصيد الثابت'!$I$2:$I$106))","v":""},{"$f":"IF(B1973=\"\",\"\",SUMIF('الرصيد الثابت'!$D$2:$D$106,B1973,'الرصيد الثابت'!$J$2:$J$106))","v":""},null,0,null,null,null,null,0,null,null,null,0,null,0,null,null,null,null,null,null,null,null,null,null,null,null,null,null,null,null,null,null,null,null,null,null,null,null,null,null,null,null,null,null,null,null,null,null,null,null,null,null,null,null,null,null,null,null,null,null,null,null,null,null,null,null,null,null,null,null,null,null,null,null,null,null,null,null,null,{"$f":"IFERROR(VLOOKUP(ROWS($CF$3:CF1973),$CH$3:$CI$2001,2,FALSE),\"\")","v":""},null,{"$f":"IF(ISNUMBER(SEARCH(B1973,CI1973)),MAX($CH$2:CH1972)+1,0)","v":0},{"$f":"'الرصيد الثابت'!#REF!","v":{"$error":"#REF!"}}]
["",null,{"$f":"IF(B1974=\"\",\"\",SUMIF('الرصيد الثابت'!$D$2:$D$106,B1974,'الرصيد الثابت'!$H$2:$H$106))","v":""},{"$f":"IF(B1974=\"\",\"\",SUMIF('الرصيد الثابت'!$D$2:$D$106,B1974,'الرصيد الثابت'!$I$2:$I$106))","v":""},{"$f":"IF(B1974=\"\",\"\",SUMIF('الرصيد الثابت'!$D$2:$D$106,B1974,'الرصيد الثابت'!$J$2:$J$106))","v":""},null,0,null,null,null,null,0,null,null,null,0,null,0,null,null,null,null,null,null,null,null,null,null,null,null,null,null,null,null,null,null,null,null,null,null,null,null,null,null,null,null,null,null,null,null,null,null,null,null,null,null,null,null,null,null,null,null,null,null,null,null,null,null,null,null,null,null,null,null,null,null,null,null,null,null,null,null,null,{"$f":"IFERROR(VLOOKUP(ROWS($CF$3:CF1974),$CH$3:$CI$2001,2,FALSE),\"\")","v":""},null,{"$f":"IF(ISNUMBER(SEARCH(B1974,CI1974)),MAX($CH$2:CH1973)+1,0)","v":0},{"$f":"'الرصيد الثابت'!#REF!","v":{"$error":"#REF!"}}]
["",null,{"$f":"IF(B1979=\"\",\"\",SUMIF('الرصيد الثابت'!$D$2:$D$106,B1979,'الرصيد الثابت'!$H$2:$H$106))","v":""},{"$f":"IF(B1979=\"\",\"\",SUMIF('الرصيد الثابت'!$D$2:$D$106,B1979,'الرصيد الثابت'!$I$2:$I$106))","v":""},{"$f":"IF(B1979=\"\",\"\",SUMIF('الرصيد الثابت'!$D$2:$D$106,B1979,'الرصيد الثابت'!$J$2:$J$106))","v":""},null,0,null,null,null,null,0,null,null,null,0,null,0,null,null,null,null,null,null,null,null,null,null,null,null,null,null,null,null,null,null,null,null,null,null,null,null,null,null,null,null,null,null,null,null,null,null,null,null,null,null,null,null,null,null,null,null,null,null,null,null,null,null,null,null,null,null,null,null,null,null,null,null,null,null,null,null,null,{"$f":"IFERROR(VLOOKUP(ROWS($CF$3:CF1979),$CH$3:$CI$2001,2,FALSE),\"\")","v":""},null,{"$f":"IF(ISNUMBER(SEARCH(B1979,CI1979)),MAX($CH$2:CH1978)+1,0)","v":0},{"$f":"'الرصيد الثابت'!#REF!","v":{"$error":"#REF!"}}]
["",null,{"$f":"IF(B1984=\"\",\"\",SUMIF('الرصيد الثابت'!$D$2:$D$106,B1984,'الرصيد الثابت'!$H$2:$H$106))","v":""},{"$f":"IF(B1984=\"\",\"\",SUMIF('الرصيد الثابت'!$D$2:$D$106,B1984,'الرصيد الثابت'!$I$2:$I$106))","v":""},{"$f":"IF(B1984=\"\",\"\",SUMIF('الرصيد الثابت'!$D$2:$D$106,B1984,'الرصيد الثابت'!$J$2:$J$106))","v":""},null,0,null,null,null,null,0,null,null,null,0,null,0,null,null,null,null,null,null,null,null,null,null,null,null,null,null,null,null,null,null,null,null,null,null,null,null,null,null,null,null,null,null,null,null,null,null,null,null,null,null,null,null,null,null,null,null,null,null,null,null,null,null,null,null,null,null,null,null,null,null,null,null,null,null,null,null,null,{"$f":"IFERROR(VLOOKUP(ROWS($CF$3:CF1984),$CH$3:$CI$2001,2,FALSE),\"\")","v":""},null,{"$f":"IF(ISNUMBER(SEARCH(B1984,CI1984)),MAX($CH$2:CH1983)+1,0)","v":0},{"$f":"'الرصيد الثابت'!#REF!","v":{"$error":"#REF!"}}]
["",null,{"$f":"IF(B1989=\"\",\"\",SUMIF('الرصيد الثابت'!$D$2:$D$106,B1989,'الرصيد الثابت'!$H$2:$H$106))","v":""},{"$f":"IF(B1989=\"\",\"\",SUMIF('الرصيد الثابت'!$D$2:$D$106,B1989,'الرصيد الثابت'!$I$2:$I$106))","v":""},{"$f":"IF(B1989=\"\",\"\",SUMIF('الرصيد الثابت'!$D$2:$D$106,B1989,'الرصيد الثابت'!$J$2:$J$106))","v":""},null,0,null,null,null,null,0,null,null,null,0,null,0,null,null,null,null,null,null,null,null,null,null,null,null,null,null,null,null,null,null,null,null,null,null,null,null,null,null,null,null,null,null,null,null,null,null,null,null,null,null,null,null,null,null,null,null,null,null,null,null,null,null,null,null,null,null,null,null,null,null,null,null,null,null,null,null,null,{"$f":"IFERROR(VLOOKUP(ROWS($CF$3:CF1989),$CH$3:$CI$2001,2,FALSE),\"\")","v":""},null,{"$f":"IF(ISNUMBER(SEARCH(B1989,CI1989)),MAX($CH$2:CH1988)+1,0)","v":0},{"$f":"'الرصيد الثابت'!#REF!","v":{"$error":"#REF!"}}]
["",null,{"$f":"IF(B1990=\"\",\"\",SUMIF('الرصيد الثابت'!$D$2:$D$106,B1990,'الرصيد الثابت'!$H$2:$H$106))","v":""},{"$f":"IF(B1990=\"\",\"\",SUMIF('الرصيد الثابت'!$D$2:$D$106,B1990,'الرصيد الثابت'!$I$2:$I$106))","v":""},{"$f":"IF(B1990=\"\",\"\",SUMIF('الرصيد الثابت'!$D$2:$D$106,B1990,'الرصيد الثابت'!$J$2:$J$106))","v":""},null,0,null,null,null,null,0,null,null,null,0,null,0,null,null,null,null,null,null,null,null,null,null,null,null,null,null,null,null,null,null,null,null,null,null,null,null,null,null,null,null,null,null,null,null,null,null,null,null,null,null,null,null,null,null,null,null,null,null,null,null,null,null,null,null,null,null,null,null,null,null,null,null,null,null,null,null,null,{"$f":"IFERROR(VLOOKUP(ROWS($CF$3:CF1990),$CH$3:$CI$2001,2,FALSE),\"\")","v":""},null,{"$f":"IF(ISNUMBER(SEARCH(B1990,CI1990)),MAX($CH$2:CH1989)+1,0)","v":0},{"$f":"'الرصيد الثابت'!#REF!","v":{"$error":"#REF!"}}]
["",null,{"$f":"IF(B1995=\"\",\"\",SUMIF('الرصيد الثابت'!$D$2:$D$106,B1995,'الرصيد الثابت'!$H$2:$H$106))","v":""},{"$f":"IF(B1995=\"\",\"\",SUMIF('الرصيد الثابت'!$D$2:$D$106,B1995,'الرصيد الثابت'!$I$2:$I$106))","v":""},{"$f":"IF(B1995=\"\",\"\",SUMIF('الرصيد الثابت'!$D$2:$D$106,B1995,'الرصيد الثابت'!$J$2:$J$106))","v":""},null,0,null,null,null,null,0,null,null,null,0,null,0,null,null,null,null,null,null,null,null,null,null,null,null,null,null,null,null,null,null,null,null,null,null,null,null,null,null,null,null,null,null,null,null,null,null,null,null,null,null,null,null,null,null,null,null,null,null,null,null,null,null,null,null,null,null,null,null,null,null,null,null,null,null,null,null,null,{"$f":"IFERROR(VLOOKUP(ROWS($CF$3:CF1995),$CH$3:$CI$2001,2,FALSE),\"\")","v":""},null,{"$f":"IF(ISNUMBER(SEARCH(B1995,CI1995)),MAX($CH$2:CH1994)+1,0)","v":0},{"$f":"'الرصيد الثابت'!#REF!","v":{"$error":"#REF!"}}]
["",null,{"$f":"IF(B2000=\"\",\"\",SUMIF('الرصيد الثابت'!$D$2:$D$106,B2000,'الرصيد الثابت'!$H$2:$H$106))","v":""},{"$f":"IF(B2000=\"\",\"\",SUMIF('الرصيد الثابت'!$D$2:$D$106,B2000,'الرصيد الثابت'!$I$2:$I$106))","v":""},{"$f":"IF(B2000=\"\",\"\",SUMIF('الرصيد الثابت'!$D$2:$D$106,B2000,'الرصيد الثابت'!$J$2:$J$106))","v":""},null,0,null,null,null,null,0,null,null,null,0,null,0,null,null,null,null,null,null,null,null,null,null,null,null,null,null,null,null,null,null,null,null,null,null,null,null,null,null,null,null,null,null,null,null,null,null,null,null,null,null,null,null,null,null,null,null,null,null,null,null,null,null,null,null,null,null,null,null,null,null,null,null,null,null,null,null,null,{"$f":"IFERROR(VLOOKUP(ROWS($CF$3:CF2000),$CH$3:$CI$2001,2,FALSE),\"\")","v":""},null,{"$f":"IF(ISNUMBER(SEARCH(B2000,CI2000)),MAX($CH$2:CH1999)+1,0)","v":0},{"$f":"'الرصيد الثابت'!#REF!","v":{"$error":"#REF!"}}]
["",null,{"$f":"IF(B2005=\"\",\"\",SUMIF('الرصيد الثابت'!$D$2:$D$106,B2005,'الرصيد الثابت'!$H$2:$H$106))","v":""},{"$f":"IF(B2005=\"\",\"\",SUMIF('الرصيد الثابت'!$D$2:$D$106,B2005,'الرصيد الثابت'!$I$2:$I$106))","v":""},{"$f":"IF(B2005=\"\",\"\",SUMIF('الرصيد الثابت'!$D$2:$D$106,B2005,'الرصيد الثابت'!$J$2:$J$106))","v":""},null,0,null,null,null,null,0,null,null,null,0,null,0]
["",null,{"$f":"IF(B2006=\"\",\"\",SUMIF('الرصيد الثابت'!$D$2:$D$106,B2006,'الرصيد الثابت'!$H$2:$H$106))","v":""},{"$f":"IF(B2006=\"\",\"\",SUMIF('الرصيد الثابت'!$D$2:$D$106,B2006,'الرصيد الثابت'!$I$2:$I$106))","v":""},{"$f":"IF(B2006=\"\",\"\",SUMIF('الرصيد الثابت'!$D$2:$D$106,B2006,'الرصيد الثابت'!$J$2:$J$106))","v":""},null,0,null,null,null,null,0,null,null,null,0,null,0]
["",null,{"$f":"IF(B2011=\"\",\"\",SUMIF('الرصيد الثابت'!$D$2:$D$106,B2011,'الرصيد الثابت'!$H$2:$H$106))","v":""},{"$f":"IF(B2011=\"\",\"\",SUMIF('الرصيد الثابت'!$D$2:$D$106,B2011,'الرصيد الثابت'!$I$2:$I$106))","v":""},{"$f":"IF(B2011=\"\",\"\",SUMIF('الرصيد الثابت'!$D$2:$D$106,B2011,'الرصيد الثابت'!$J$2:$J$106))","v":""},null,0,null,null,null,null,0,null,null,null,0,null,0]
["",null,{"$f":"IF(B2015=\"\",\"\",SUMIF('الرصيد الثابت'!$D$2:$D$106,B2015,'الرصيد الثابت'!$H$2:$H$106))","v":""},{"$f":"IF(B2015=\"\",\"\",SUMIF('الرصيد الثابت'!$D$2:$D$106,B2015,'الرصيد الثابت'!$I$2:$I$106))","v":""},{"$f":"IF(B2015=\"\",\"\",SUMIF('الرصيد الثابت'!$D$2:$D$106,B2015,'الرصيد الثابت'!$J$2:$J$106))","v":""},null,0,null,null,null,null,0,null,null,null,0,null,0]
["",null,{"$f":"IF(B2020=\"\",\"\",SUMIF('الرصيد الثابت'!$D$2:$D$106,B2020,'الرصيد الثابت'!$H$2:$H$106))","v":""},{"$f":"IF(B2020=\"\",\"\",SUMIF('الرصيد الثابت'!$D$2:$D$106,B2020,'الرصيد الثابت'!$I$2:$I$106))","v":""},{"$f":"IF(B2020=\"\",\"\",SUMIF('الرصيد الثابت'!$D$2:$D$106,B2020,'الرصيد الثابت'!$J$2:$J$106))","v":""},null,0,null,null,null,null,0,null,null,null,0,null,0]
["",null,{"$f":"IF(B2021=\"\",\"\",SUMIF('الرصيد الثابت'!$D$2:$D$106,B2021,'الرصيد الثابت'!$H$2:$H$106))","v":""},{"$f":"IF(B2021=\"\",\"\",SUMIF('الرصيد الثابت'!$D$2:$D$106,B2021,'الرصيد الثابت'!$I$2:$I$106))","v":""},{"$f":"IF(B2021=\"\",\"\",SUMIF('الرصيد الثابت'!$D$2:$D$106,B2021,'الرصيد الثابت'!$J$2:$J$106))","v":""},null,0,null,null,null,null,0,null,null,null,0,null,0]
["",null,{"$f":"IF(B2026=\"\",\"\",SUMIF('الرصيد الثابت'!$D$2:$D$106,B2026,'الرصيد الثابت'!$H$2:$H$106))","v":""},{"$f":"IF(B2026=\"\",\"\",SUMIF('الرصيد الثابت'!$D$2:$D$106,B2026,'الرصيد الثابت'!$I$2:$I$106))","v":""},{"$f":"IF(B2026=\"\",\"\",SUMIF('الرصيد الثابت'!$D$2:$D$106,B2026,'الرصيد الثابت'!$J$2:$J$106))","v":""},null,0,null,null,null,null,0,null,null,null,0,null,0]
["",null,{"$f":"IF(B2031=\"\",\"\",SUMIF('الرصيد الثابت'!$D$2:$D$106,B2031,'الرصيد الثابت'!$H$2:$H$106))","v":""},{"$f":"IF(B2031=\"\",\"\",SUMIF('الرصيد الثابت'!$D$2:$D$106,B2031,'الرصيد الثابت'!$I$2:$I$106))","v":""},{"$f":"IF(B2031=\"\",\"\",SUMIF('الرصيد الثابت'!$D$2:$D$106,B2031,'الرصيد الثابت'!$J$2:$J$106))","v":""},null,0,null,null,null,null,0,null,null,null,0,null,0]
["",null,{"$f":"IF(B2036=\"\",\"\",SUMIF('الرصيد الثابت'!$D$2:$D$106,B2036,'الرصيد الثابت'!$H$2:$H$106))","v":""},{"$f":"IF(B2036=\"\",\"\",SUMIF('الرصيد الثابت'!$D$2:$D$106,B2036,'الرصيد الثابت'!$I$2:$I$106))","v":""},{"$f":"IF(B2036=\"\",\"\",SUMIF('الرصيد الثابت'!$D$2:$D$106,B2036,'الرصيد الثابت'!$J$2:$J$106))","v":""},null,0,null,null,null,null,0,null,null,null,0,null,0]
["",null,{"$f":"IF(B2037=\"\",\"\",SUMIF('الرصيد الثابت'!$D$2:$D$106,B2037,'الرصيد الثابت'!$H$2:$H$106))","v":""},{"$f":"IF(B2037=\"\",\"\",SUMIF('الرصيد الثابت'!$D$2:$D$106,B2037,'الرصيد الثابت'!$I$2:$I$106))","v":""},{"$f":"IF(B2037=\"\",\"\",SUMIF('الرصيد الثابت'!$D$2:$D$106,B2037,'الرصيد الثابت'!$J$2:$J$106))","v":""},null,0,null,null,null,null,0,null,null,null,0,null,0]
["",null,{"$f":"IF(B2042=\"\",\"\",SUMIF('الرصيد الثابت'!$D$2:$D$106,B2042,'الرصيد الثابت'!$H$2:$H$106))","v":""},{"$f":"IF(B2042=\"\",\"\",SUMIF('الرصيد الثابت'!$D$2:$D$106,B2042,'الرصيد الثابت'!$I$2:$I$106))","v":""},{"$f":"IF(B2042=\"\",\"\",SUMIF('الرصيد الثابت'!$D$2:$D$106,B2042,'الرصيد الثابت'!$J$2:$J$106))","v":""},null,0,null,null,null,null,0,null,null,null,0,null,0]
["",null,{"$f":"IF(B2047=\"\",\"\",SUMIF('الرصيد الثابت'!$D$2:$D$106,B2047,'الرصيد الثابت'!$H$2:$H$106))","v":""},{"$f":"IF(B2047=\"\",\"\",SUMIF('الرصيد الثابت'!$D$2:$D$106,B2047,'الرصيد الثابت'!$I$2:$I$106))","v":""},{"$f":"IF(B2047=\"\",\"\",SUMIF('الرصيد الثابت'!$D$2:$D$106,B2047,'الرصيد الثابت'!$J$2:$J$106))","v":""},null,0,null,null,null,null,0,null,null,null,0,null,0]
["",null,{"$f":"IF(B2052=\"\",\"\",SUMIF('الرصيد الثابت'!$D$2:$D$106,B2052,'الرصيد الثابت'!$H$2:$H$106))","v":""},{"$f":"IF(B2052=\"\",\"\",SUMIF('الرصيد الثابت'!$D$2:$D$106,B2052,'الرصيد الثابت'!$I$2:$I$106))","v":""},{"$f":"IF(B2052=\"\",\"\",SUMIF('الرصيد الثابت'!$D$2:$D$106,B2052,'الرصيد الثابت'!$J$2:$J$106))","v":""},null,{"$f":"SUM(H194590*F194590)","v":0},null,null,null,null,{"$f":"SUM(M2052*K2052)","v":0},null,null,null,{"$f":"SUM(F194590-K194590)","v":0},null,{"$f":"SUM(S194590*Q194590)","v":0}]
["",null,{"$f":"IF(B2053=\"\",\"\",SUMIF('الرصيد الثابت'!$D$2:$D$106,B2053,'الرصيد الثابت'!$H$2:$H$106))","v":""},{"$f":"IF(B2053=\"\",\"\",SUMIF('الرصيد الثابت'!$D$2:$D$106,B2053,'الرصيد الثابت'!$I$2:$I$106))","v":""},{"$f":"IF(B2053=\"\",\"\",SUMIF('الرصيد الثابت'!$D$2:$D$106,B2053,'الرصيد الثابت'!$J$2:$J$106))","v":""},null,0,null,null,null,null,0,null,null,null,0,null,0]
["",null,{"$f":"IF(B2058=\"\",\"\",SUMIF('الرصيد الثابت'!$D$2:$D$106,B2058,'الرصيد الثابت'!$H$2:$H$106))","v":""},{"$f":"IF(B2058=\"\",\"\",SUMIF('الرصيد الثابت'!$D$2:$D$106,B2058,'الرصيد الثابت'!$I$2:$I$106))","v":""},{"$f":"IF(B2058=\"\",\"\",SUMIF('الرصيد الثابت'!$D$2:$D$106,B2058,'الرصيد الثابت'!$J$2:$J$106))","v":""},null,0,null,null,null,null,0,null,null,null,0,null,0]
["",null,{"$f":"IF(B2063=\"\",\"\",SUMIF('الرصيد الثابت'!$D$2:$D$106,B2063,'الرصيد الثابت'!$H$2:$H$106))","v":""},{"$f":"IF(B2063=\"\",\"\",SUMIF('الرصيد الثابت'!$D$2:$D$106,B2063,'الرصيد الثابت'!$I$2:$I$106))","v":""},{"$f":"IF(B2063=\"\",\"\",SUMIF('الرصيد الثابت'!$D$2:$D$106,B2063,'الرصيد الثابت'!$J$2:$J$106))","v":""},null,0,null,null,null,null,0,null,null,null,0,null,0]
["",null,{"$f":"IF(B2068=\"\",\"\",SUMIF('الرصيد الثابت'!$D$2:$D$106,B2068,'الرصيد الثابت'!$H$2:$H$106))","v":""},{"$f":"IF(B2068=\"\",\"\",SUMIF('الرصيد الثابت'!$D$2:$D$106,B2068,'الرصيد الثابت'!$I$2:$I$106))","v":""},{"$f":"IF(B2068=\"\",\"\",SUMIF('الرصيد الثابت'!$D$2:$D$106,B2068,'الرصيد الثابت'!$J$2:$J$106))","v":""},null,0,null,null,null,null,0,null,null,null,0,null,0]
["",null,{"$f":"IF(B2069=\"\",\"\",SUMIF('الرصيد الثابت'!$D$2:$D$106,B2069,'الرصيد الثابت'!$H$2:$H$106))","v":""},{"$f":"IF(B2069=\"\",\"\",SUMIF('الرصيد الثابت'!$D$2:$D$106,B2069,'الرصيد الثابت'!$I$2:$I$106))","v":""},{"$f":"IF(B2069=\"\",\"\",SUMIF('الرصيد الثابت'!$D$2:$D$106,B2069,'الرصيد الثابت'!$J$2:$J$106))","v":""},null,0,null,null,null,null,0,null,null,null,0,null,0]
["",null,{"$f":"IF(B2073=\"\",\"\",SUMIF('الرصيد الثابت'!$D$2:$D$106,B2073,'الرصيد الثابت'!$H$2:$H$106))","v":""},{"$f":"IF(B2073=\"\",\"\",SUMIF('الرصيد الثابت'!$D$2:$D$106,B2073,'الرصيد الثابت'!$I$2:$I$106))","v":""},{"$f":"IF(B2073=\"\",\"\",SUMIF('الرصيد الثابت'!$D$2:$D$106,B2073,'الرصيد الثابت'!$J$2:$J$106))","v":""},null,0,null,null,null,null,0,null,null,null,0,null,0]
["",null,{"$f":"IF(B2078=\"\",\"\",SUMIF('الرصيد الثابت'!$D$2:$D$106,B2078,'الرصيد الثابت'!$H$2:$H$106))","v":""},{"$f":"IF(B2078=\"\",\"\",SUMIF('الرصيد الثابت'!$D$2:$D$106,B2078,'الرصيد الثابت'!$I$2:$I$106))","v":""},{"$f":"IF(B2078=\"\",\"\",SUMIF('الرصيد الثابت'!$D$2:$D$106,B2078,'الرصيد الثابت'!$J$2:$J$106))","v":""},null,0,null,null,null,null,0,null,null,null,0,null,0]
["",null,{"$f":"IF(B2083=\"\",\"\",SUMIF('الرصيد الثابت'!$D$2:$D$106,B2083,'الرصيد الثابت'!$H$2:$H$106))","v":""},{"$f":"IF(B2083=\"\",\"\",SUMIF('الرصيد الثابت'!$D$2:$D$106,B2083,'الرصيد الثابت'!$I$2:$I$106))","v":""},{"$f":"IF(B2083=\"\",\"\",SUMIF('الرصيد الثابت'!$D$2:$D$106,B2083,'الرصيد الثابت'!$J$2:$J$106))","v":""},null,0,null,null,null,null,0,null,null,null,0,null,0]
["",null,{"$f":"IF(B2084=\"\",\"\",SUMIF('الرصيد الثابت'!$D$2:$D$106,B2084,'الرصيد الثابت'!$H$2:$H$106))","v":""},{"$f":"IF(B2084=\"\",\"\",SUMIF('الرصيد الثابت'!$D$2:$D$106,B2084,'الرصيد الثابت'!$I$2:$I$106))","v":""},{"$f":"IF(B2084=\"\",\"\",SUMIF('الرصيد الثابت'!$D$2:$D$106,B2084,'الرصيد الثابت'!$J$2:$J$106))","v":""},null,0,null,null,null,null,0,null,null,null,0,null,0]
["",null,{"$f":"IF(B2089=\"\",\"\",SUMIF('الرصيد الثابت'!$D$2:$D$106,B2089,'الرصيد الثابت'!$H$2:$H$106))","v":""},{"$f":"IF(B2089=\"\",\"\",SUMIF('الرصيد الثابت'!$D$2:$D$106,B2089,'الرصيد الثابت'!$I$2:$I$106))","v":""},{"$f":"IF(B2089=\"\",\"\",SUMIF('الرصيد الثابت'!$D$2:$D$106,B2089,'الرصيد الثابت'!$J$2:$J$106))","v":""},null,0,null,null,null,null,0,null,null,null,0,null,0]
["",null,{"$f":"IF(B2094=\"\",\"\",SUMIF('الرصيد الثابت'!$D$2:$D$106,B2094,'الرصيد الثابت'!$H$2:$H$106))","v":""},{"$f":"IF(B2094=\"\",\"\",SUMIF('الرصيد الثابت'!$D$2:$D$106,B2094,'الرصيد الثابت'!$I$2:$I$106))","v":""},{"$f":"IF(B2094=\"\",\"\",SUMIF('الرصيد الثابت'!$D$2:$D$106,B2094,'الرصيد الثابت'!$J$2:$J$106))","v":""},null,0,null,null,null,null,0,null,null,null,0,null,0]
["",null,{"$f":"IF(B2099=\"\",\"\",SUMIF('الرصيد الثابت'!$D$2:$D$106,B2099,'الرصيد الثابت'!$H$2:$H$106))","v":""},{"$f":"IF(B2099=\"\",\"\",SUMIF('الرصيد الثابت'!$D$2:$D$106,B2099,'الرصيد الثابت'!$I$2:$I$106))","v":""},{"$f":"IF(B2099=\"\",\"\",SUMIF('الرصيد الثابت'!$D$2:$D$106,B2099,'الرصيد الثابت'!$J$2:$J$106))","v":""},null,0,null,null,null,null,0,null,null,null,0,null,0]
["",null,{"$f":"IF(B2100=\"\",\"\",SUMIF('الرصيد الثابت'!$D$2:$D$106,B2100,'الرصيد الثابت'!$H$2:$H$106))","v":""},{"$f":"IF(B2100=\"\",\"\",SUMIF('الرصيد الثابت'!$D$2:$D$106,B2100,'الرصيد الثابت'!$I$2:$I$106))","v":""},{"$f":"IF(B2100=\"\",\"\",SUMIF('الرصيد الثابت'!$D$2:$D$106,B2100,'الرصيد الثابت'!$J$2:$J$106))","v":""},null,0,null,null,null,null,0,null,null,null,0,null,0]
["",null,{"$f":"IF(B2105=\"\",\"\",SUMIF('الرصيد الثابت'!$D$2:$D$106,B2105,'الرصيد الثابت'!$H$2:$H$106))","v":""},{"$f":"IF(B2105=\"\",\"\",SUMIF('الرصيد الثابت'!$D$2:$D$106,B2105,'الرصيد الثابت'!$I$2:$I$106))","v":""},{"$f":"IF(B2105=\"\",\"\",SUMIF('الرصيد الثابت'!$D$2:$D$106,B2105,'الرصيد الثابت'!$J$2:$J$106))","v":""},null,0,null,null,null,null,0,null,null,null,0,null,0]
["",null,{"$f":"IF(B2110=\"\",\"\",SUMIF('الرصيد الثابت'!$D$2:$D$106,B2110,'الرصيد الثابت'!$H$2:$H$106))","v":""},{"$f":"IF(B2110=\"\",\"\",SUMIF('الرصيد الثابت'!$D$2:$D$106,B2110,'الرصيد الثابت'!$I$2:$I$106))","v":""},{"$f":"IF(B2110=\"\",\"\",SUMIF('الرصيد الثابت'!$D$2:$D$106,B2110,'الرصيد الثابت'!$J$2:$J$106))","v":""},null,0,null,null,null,null,0,null,null,null,0,null,0]
["",null,{"$f":"IF(B2115=\"\",\"\",SUMIF('الرصيد الثابت'!$D$2:$D$106,B2115,'الرصيد الثابت'!$H$2:$H$106))","v":""},{"$f":"IF(B2115=\"\",\"\",SUMIF('الرصيد الثابت'!$D$2:$D$106,B2115,'الرصيد الثابت'!$I$2:$I$106))","v":""},{"$f":"IF(B2115=\"\",\"\",SUMIF('الرصيد الثابت'!$D$2:$D$106,B2115,'الرصيد الثابت'!$J$2:$J$106))","v":""},null,0,null,null,null,null,0,null,null,null,0,null,0]
["",null,{"$f":"IF(B2116=\"\",\"\",SUMIF('الرصيد الثابت'!$D$2:$D$106,B2116,'الرصيد الثابت'!$H$2:$H$106))","v":""},{"$f":"IF(B2116=\"\",\"\",SUMIF('الرصيد الثابت'!$D$2:$D$106,B2116,'الرصيد الثابت'!$I$2:$I$106))","v":""},{"$f":"IF(B2116=\"\",\"\",SUMIF('الرصيد الثابت'!$D$2:$D$106,B2116,'الرصيد الثابت'!$J$2:$J$106))","v":""},null,0,null,null,null,null,{"$f":"SUM(M2116*K2116)","v":0},null,null,null,0,null,0]
["",null,{"$f":"IF(B2121=\"\",\"\",SUMIF('الرصيد الثابت'!$D$2:$D$106,B2121,'الرصيد الثابت'!$H$2:$H$106))","v":""},{"$f":"IF(B2121=\"\",\"\",SUMIF('الرصيد الثابت'!$D$2:$D$106,B2121,'الرصيد الثابت'!$I$2:$I$106))","v":""},{"$f":"IF(B2121=\"\",\"\",SUMIF('الرصيد الثابت'!$D$2:$D$106,B2121,'الرصيد الثابت'!$J$2:$J$106))","v":""},null,0,null,null,null,null,0,null,null,null,0,null,0]
["",null,{"$f":"IF(B2126=\"\",\"\",SUMIF('الرصيد الثابت'!$D$2:$D$106,B2126,'الرصيد الثابت'!$H$2:$H$106))","v":""},{"$f":"IF(B2126=\"\",\"\",SUMIF('الرصيد الثابت'!$D$2:$D$106,B2126,'الرصيد الثابت'!$I$2:$I$106))","v":""},{"$f":"IF(B2126=\"\",\"\",SUMIF('الرصيد الثابت'!$D$2:$D$106,B2126,'الرصيد الثابت'!$J$2:$J$106))","v":""},null,0,null,null,null,null,0,null,null,null,0,null,0]
["",null,{"$f":"IF(B2128=\"\",\"\",SUMIF('الرصيد الثابت'!$D$2:$D$106,B2128,'الرصيد الثابت'!$H$2:$H$106))","v":""},{"$f":"IF(B2128=\"\",\"\",SUMIF('الرصيد الثابت'!$D$2:$D$106,B2128,'الرصيد الثابت'!$I$2:$I$106))","v":""},{"$f":"IF(B2128=\"\",\"\",SUMIF('الرصيد الثابت'!$D$2:$D$106,B2128,'الرصيد الثابت'!$J$2:$J$106))","v":""},null,0,null,null,null,null,0,null,null,null,0,null,0]
["",null,{"$f":"IF(B2131=\"\",\"\",SUMIF('الرصيد الثابت'!$D$2:$D$106,B2131,'الرصيد الثابت'!$H$2:$H$106))","v":""},{"$f":"IF(B2131=\"\",\"\",SUMIF('الرصيد الثابت'!$D$2:$D$106,B2131,'الرصيد الثابت'!$I$2:$I$106))","v":""},{"$f":"IF(B2131=\"\",\"\",SUMIF('الرصيد الثابت'!$D$2:$D$106,B2131,'الرصيد الثابت'!$J$2:$J$106))","v":""},null,0,null,null,null,null,0,null,null,null,0,null,0]
["",null,{"$f":"IF(B2136=\"\",\"\",SUMIF('الرصيد الثابت'!$D$2:$D$106,B2136,'الرصيد الثابت'!$H$2:$H$106))","v":""},{"$f":"IF(B2136=\"\",\"\",SUMIF('الرصيد الثابت'!$D$2:$D$106,B2136,'الرصيد الثابت'!$I$2:$I$106))","v":""},{"$f":"IF(B2136=\"\",\"\",SUMIF('الرصيد الثابت'!$D$2:$D$106,B2136,'الرصيد الثابت'!$J$2:$J$106))","v":""},null,0,null,null,null,null,0,null,null,null,0,null,0]
["",null,{"$f":"IF(B2141=\"\",\"\",SUMIF('الرصيد الثابت'!$D$2:$D$106,B2141,'الرصيد الثابت'!$H$2:$H$106))","v":""},{"$f":"IF(B2141=\"\",\"\",SUMIF('الرصيد الثابت'!$D$2:$D$106,B2141,'الرصيد الثابت'!$I$2:$I$106))","v":""},{"$f":"IF(B2141=\"\",\"\",SUMIF('الرصيد الثابت'!$D$2:$D$106,B2141,'الرصيد الثابت'!$J$2:$J$106))","v":""},null,0,null,null,null,null,0,null,null,null,0,null,0]
["",null,{"$f":"IF(B2146=\"\",\"\",SUMIF('الرصيد الثابت'!$D$2:$D$106,B2146,'الرصيد الثابت'!$H$2:$H$106))","v":""},{"$f":"IF(B2146=\"\",\"\",SUMIF('الرصيد الثابت'!$D$2:$D$106,B2146,'الرصيد الثابت'!$I$2:$I$106))","v":""},{"$f":"IF(B2146=\"\",\"\",SUMIF('الرصيد الثابت'!$D$2:$D$106,B2146,'الرصيد الثابت'!$J$2:$J$106))","v":""},null,0,null,null,null,null,0,null,null,null,0,null,0]
["",null,{"$f":"IF(B2147=\"\",\"\",SUMIF('الرصيد الثابت'!$D$2:$D$106,B2147,'الرصيد الثابت'!$H$2:$H$106))","v":""},{"$f":"IF(B2147=\"\",\"\",SUMIF('الرصيد الثابت'!$D$2:$D$106,B2147,'الرصيد الثابت'!$I$2:$I$106))","v":""},{"$f":"IF(B2147=\"\",\"\",SUMIF('الرصيد الثابت'!$D$2:$D$106,B2147,'الرصيد الثابت'!$J$2:$J$106))","v":""},null,0,null,null,null,null,0,null,null,null,0,null,0]
["",null,{"$f":"IF(B2152=\"\",\"\",SUMIF('الرصيد الثابت'!$D$2:$D$106,B2152,'الرصيد الثابت'!$H$2:$H$106))","v":""},{"$f":"IF(B2152=\"\",\"\",SUMIF('الرصيد الثابت'!$D$2:$D$106,B2152,'الرصيد الثابت'!$I$2:$I$106))","v":""},{"$f":"IF(B2152=\"\",\"\",SUMIF('الرصيد الثابت'!$D$2:$D$106,B2152,'الرصيد الثابت'!$J$2:$J$106))","v":""},null,{"$f":"SUM(H204590*F204590)","v":0},null,null,null,null,0,null,null,null,{"$f":"SUM(F204590-K204590)","v":0},null,{"$f":"SUM(S204590*Q204590)","v":0}]
["",null,{"$f":"IF(B2157=\"\",\"\",SUMIF('الرصيد الثابت'!$D$2:$D$106,B2157,'الرصيد الثابت'!$H$2:$H$106))","v":""},{"$f":"IF(B2157=\"\",\"\",SUMIF('الرصيد الثابت'!$D$2:$D$106,B2157,'الرصيد الثابت'!$I$2:$I$106))","v":""},{"$f":"IF(B2157=\"\",\"\",SUMIF('الرصيد الثابت'!$D$2:$D$106,B2157,'الرصيد الثابت'!$J$2:$J$106))","v":""},null,0,null,null,null,null,0,null,null,null,0,null,0]
["",null,{"$f":"IF(B2162=\"\",\"\",SUMIF('الرصيد الثابت'!$D$2:$D$106,B2162,'الرصيد الثابت'!$H$2:$H$106))","v":""},{"$f":"IF(B2162=\"\",\"\",SUMIF('الرصيد الثابت'!$D$2:$D$106,B2162,'الرصيد الثابت'!$I$2:$I$106))","v":""},{"$f":"IF(B2162=\"\",\"\",SUMIF('الرصيد الثابت'!$D$2:$D$106,B2162,'الرصيد الثابت'!$J$2:$J$106))","v":""},null,0,null,null,null,null,0,null,null,null,0,null,0]
["",null,{"$f":"IF(B2163=\"\",\"\",SUMIF('الرصيد الثابت'!$D$2:$D$106,B2163,'الرصيد الثابت'!$H$2:$H$106))","v":""},{"$f":"IF(B2163=\"\",\"\",SUMIF('الرصيد الثابت'!$D$2:$D$106,B2163,'الرصيد الثابت'!$I$2:$I$106))","v":""},{"$f":"IF(B2163=\"\",\"\",SUMIF('الرصيد الثابت'!$D$2:$D$106,B2163,'الرصيد الثابت'!$J$2:$J$106))","v":""},null,0,null,null,null,null,0,null,null,null,0,null,0]
["",null,{"$f":"IF(B2168=\"\",\"\",SUMIF('الرصيد الثابت'!$D$2:$D$106,B2168,'الرصيد الثابت'!$H$2:$H$106))","v":""},{"$f":"IF(B2168=\"\",\"\",SUMIF('الرصيد الثابت'!$D$2:$D$106,B2168,'الرصيد الثابت'!$I$2:$I$106))","v":""},{"$f":"IF(B2168=\"\",\"\",SUMIF('الرصيد الثابت'!$D$2:$D$106,B2168,'الرصيد الثابت'!$J$2:$J$106))","v":""},null,0,null,null,null,null,0,null,null,null,0,null,0]
["",null,{"$f":"IF(B2173=\"\",\"\",SUMIF('الرصيد الثابت'!$D$2:$D$106,B2173,'الرصيد الثابت'!$H$2:$H$106))","v":""},{"$f":"IF(B2173=\"\",\"\",SUMIF('الرصيد الثابت'!$D$2:$D$106,B2173,'الرصيد الثابت'!$I$2:$I$106))","v":""},{"$f":"IF(B2173=\"\",\"\",SUMIF('الرصيد الثابت'!$D$2:$D$106,B2173,'الرصيد الثابت'!$J$2:$J$106))","v":""},null,0,null,null,null,null,0,null,null,null,0,null,0]
["",null,{"$f":"IF(B2178=\"\",\"\",SUMIF('الرصيد الثابت'!$D$2:$D$106,B2178,'الرصيد الثابت'!$H$2:$H$106))","v":""},{"$f":"IF(B2178=\"\",\"\",SUMIF('الرصيد الثابت'!$D$2:$D$106,B2178,'الرصيد الثابت'!$I$2:$I$106))","v":""},{"$f":"IF(B2178=\"\",\"\",SUMIF('الرصيد الثابت'!$D$2:$D$106,B2178,'الرصيد الثابت'!$J$2:$J$106))","v":""},null,0,null,null,null,null,0,null,null,null,0,null,0]
["",null,{"$f":"IF(B2179=\"\",\"\",SUMIF('الرصيد الثابت'!$D$2:$D$106,B2179,'الرصيد الثابت'!$H$2:$H$106))","v":""},{"$f":"IF(B2179=\"\",\"\",SUMIF('الرصيد الثابت'!$D$2:$D$106,B2179,'الرصيد الثابت'!$I$2:$I$106))","v":""},{"$f":"IF(B2179=\"\",\"\",SUMIF('الرصيد الثابت'!$D$2:$D$106,B2179,'الرصيد الثابت'!$J$2:$J$106))","v":""},null,0,null,null,null,null,0,null,null,null,0,null,0]
["",null,{"$f":"IF(B2185=\"\",\"\",SUMIF('الرصيد الثابت'!$D$2:$D$106,B2185,'الرصيد الثابت'!$H$2:$H$106))","v":""},{"$f":"IF(B2185=\"\",\"\",SUMIF('الرصيد الثابت'!$D$2:$D$106,B2185,'الرصيد الثابت'!$I$2:$I$106))","v":""},{"$f":"IF(B2185=\"\",\"\",SUMIF('الرصيد الثابت'!$D$2:$D$106,B2185,'الرصيد الثابت'!$J$2:$J$106))","v":""},null,0,null,null,null,null,0,null,null,null,0,null,0]
["",null,{"$f":"IF(B2188=\"\",\"\",SUMIF('الرصيد الثابت'!$D$2:$D$106,B2188,'الرصيد الثابت'!$H$2:$H$106))","v":""},{"$f":"IF(B2188=\"\",\"\",SUMIF('الرصيد الثابت'!$D$2:$D$106,B2188,'الرصيد الثابت'!$I$2:$I$106))","v":""},{"$f":"IF(B2188=\"\",\"\",SUMIF('الرصيد الثابت'!$D$2:$D$106,B2188,'الرصيد الثابت'!$J$2:$J$106))","v":""},null,0,null,null,null,null,0,null,null,null,0,null,0]
["",null,{"$f":"IF(B2193=\"\",\"\",SUMIF('الرصيد الثابت'!$D$2:$D$106,B2193,'الرصيد الثابت'!$H$2:$H$106))","v":""},{"$f":"IF(B2193=\"\",\"\",SUMIF('الرصيد الثابت'!$D$2:$D$106,B2193,'الرصيد الثابت'!$I$2:$I$106))","v":""},{"$f":"IF(B2193=\"\",\"\",SUMIF('الرصيد الثابت'!$D$2:$D$106,B2193,'الرصيد الثابت'!$J$2:$J$106))","v":""},null,0,null,null,null,null,0,null,null,null,0,null,0]
["",null,{"$f":"IF(B2194=\"\",\"\",SUMIF('الرصيد الثابت'!$D$2:$D$106,B2194,'الرصيد الثابت'!$H$2:$H$106))","v":""},{"$f":"IF(B2194=\"\",\"\",SUMIF('الرصيد الثابت'!$D$2:$D$106,B2194,'الرصيد الثابت'!$I$2:$I$106))","v":""},{"$f":"IF(B2194=\"\",\"\",SUMIF('الرصيد الثابت'!$D$2:$D$106,B2194,'الرصيد الثابت'!$J$2:$J$106))","v":""},null,0,null,null,null,null,0,null,null,null,0,null,0]
["",null,{"$f":"IF(B2199=\"\",\"\",SUMIF('الرصيد الثابت'!$D$2:$D$106,B2199,'الرصيد الثابت'!$H$2:$H$106))","v":""},{"$f":"IF(B2199=\"\",\"\",SUMIF('الرصيد الثابت'!$D$2:$D$106,B2199,'الرصيد الثابت'!$I$2:$I$106))","v":""},{"$f":"IF(B2199=\"\",\"\",SUMIF('الرصيد الثابت'!$D$2:$D$106,B2199,'الرصيد الثابت'!$J$2:$J$106))","v":""},null,0,null,null,null,null,0,null,null,null,0,null,0]
["",null,{"$f":"IF(B2204=\"\",\"\",SUMIF('الرصيد الثابت'!$D$2:$D$106,B2204,'الرصيد الثابت'!$H$2:$H$106))","v":""},{"$f":"IF(B2204=\"\",\"\",SUMIF('الرصيد الثابت'!$D$2:$D$106,B2204,'الرصيد الثابت'!$I$2:$I$106))","v":""},{"$f":"IF(B2204=\"\",\"\",SUMIF('الرصيد الثابت'!$D$2:$D$106,B2204,'الرصيد الثابت'!$J$2:$J$106))","v":""},null,0,null,null,null,null,0,null,null,null,0,null,0]
["",null,{"$f":"IF(B2209=\"\",\"\",SUMIF('الرصيد الثابت'!$D$2:$D$106,B2209,'الرصيد الثابت'!$H$2:$H$106))","v":""},{"$f":"IF(B2209=\"\",\"\",SUMIF('الرصيد الثابت'!$D$2:$D$106,B2209,'الرصيد الثابت'!$I$2:$I$106))","v":""},{"$f":"IF(B2209=\"\",\"\",SUMIF('الرصيد الثابت'!$D$2:$D$106,B2209,'الرصيد الثابت'!$J$2:$J$106))","v":""},null,0,null,null,null,null,0,null,null,null,0,null,0]
["",null,{"$f":"IF(B2210=\"\",\"\",SUMIF('الرصيد الثابت'!$D$2:$D$106,B2210,'الرصيد الثابت'!$H$2:$H$106))","v":""},{"$f":"IF(B2210=\"\",\"\",SUMIF('الرصيد الثابت'!$D$2:$D$106,B2210,'الرصيد الثابت'!$I$2:$I$106))","v":""},{"$f":"IF(B2210=\"\",\"\",SUMIF('الرصيد الثابت'!$D$2:$D$106,B2210,'الرصيد الثابت'!$J$2:$J$106))","v":""},null,0,null,null,null,null,0,null,null,null,0,null,0]
["",null,{"$f":"IF(B2215=\"\",\"\",SUMIF('الرصيد الثابت'!$D$2:$D$106,B2215,'الرصيد الثابت'!$H$2:$H$106))","v":""},{"$f":"IF(B2215=\"\",\"\",SUMIF('الرصيد الثابت'!$D$2:$D$106,B2215,'الرصيد الثابت'!$I$2:$I$106))","v":""},{"$f":"IF(B2215=\"\",\"\",SUMIF('الرصيد الثابت'!$D$2:$D$106,B2215,'الرصيد الثابت'!$J$2:$J$106))","v":""},null,0,null,null,null,null,0,null,null,null,0,null,0]
["",null,{"$f":"IF(B2220=\"\",\"\",SUMIF('الرصيد الثابت'!$D$2:$D$106,B2220,'الرصيد الثابت'!$H$2:$H$106))","v":""},{"$f":"IF(B2220=\"\",\"\",SUMIF('الرصيد الثابت'!$D$2:$D$106,B2220,'الرصيد الثابت'!$I$2:$I$106))","v":""},{"$f":"IF(B2220=\"\",\"\",SUMIF('الرصيد الثابت'!$D$2:$D$106,B2220,'الرصيد الثابت'!$J$2:$J$106))","v":""},null,0,null,null,null,null,0,null,null,null,0,null,0]
["",null,{"$f":"IF(B2225=\"\",\"\",SUMIF('الرصيد الثابت'!$D$2:$D$106,B2225,'الرصيد الثابت'!$H$2:$H$106))","v":""},{"$f":"IF(B2225=\"\",\"\",SUMIF('الرصيد الثابت'!$D$2:$D$106,B2225,'الرصيد الثابت'!$I$2:$I$106))","v":""},{"$f":"IF(B2225=\"\",\"\",SUMIF('الرصيد الثابت'!$D$2:$D$106,B2225,'الرصيد الثابت'!$J$2:$J$106))","v":""},null,0,null,null,null,null,0,null,null,null,0,null,0]
["",null,{"$f":"IF(B2226=\"\",\"\",SUMIF('الرصيد الثابت'!$D$2:$D$106,B2226,'الرصيد الثابت'!$H$2:$H$106))","v":""},{"$f":"IF(B2226=\"\",\"\",SUMIF('الرصيد الثابت'!$D$2:$D$106,B2226,'الرصيد الثابت'!$I$2:$I$106))","v":""},{"$f":"IF(B2226=\"\",\"\",SUMIF('الرصيد الثابت'!$D$2:$D$106,B2226,'الرصيد الثابت'!$J$2:$J$106))","v":""},null,0,null,null,null,null,0,null,null,null,0,null,0]
["",null,{"$f":"IF(B2231=\"\",\"\",SUMIF('الرصيد الثابت'!$D$2:$D$106,B2231,'الرصيد الثابت'!$H$2:$H$106))","v":""},{"$f":"IF(B2231=\"\",\"\",SUMIF('الرصيد الثابت'!$D$2:$D$106,B2231,'الرصيد الثابت'!$I$2:$I$106))","v":""},{"$f":"IF(B2231=\"\",\"\",SUMIF('الرصيد الثابت'!$D$2:$D$106,B2231,'الرصيد الثابت'!$J$2:$J$106))","v":""},null,0,null,null,null,null,0,null,null,null,0,null,0]
["",null,{"$f":"IF(B2236=\"\",\"\",SUMIF('الرصيد الثابت'!$D$2:$D$106,B2236,'الرصيد الثابت'!$H$2:$H$106))","v":""},{"$f":"IF(B2236=\"\",\"\",SUMIF('الرصيد الثابت'!$D$2:$D$106,B2236,'الرصيد الثابت'!$I$2:$I$106))","v":""},{"$f":"IF(B2236=\"\",\"\",SUMIF('الرصيد الثابت'!$D$2:$D$106,B2236,'الرصيد الثابت'!$J$2:$J$106))","v":""},null,0,null,null,null,null,0,null,null,null,0,null,0]
["",null,{"$f":"IF(B2239=\"\",\"\",SUMIF('الرصيد الثابت'!$D$2:$D$106,B2239,'الرصيد الثابت'!$H$2:$H$106))","v":""},{"$f":"IF(B2239=\"\",\"\",SUMIF('الرصيد الثابت'!$D$2:$D$106,B2239,'الرصيد الثابت'!$I$2:$I$106))","v":""},{"$f":"IF(B2239=\"\",\"\",SUMIF('الرصيد الثابت'!$D$2:$D$106,B2239,'الرصيد الثابت'!$J$2:$J$106))","v":""},null,0,null,null,null,null,0,null,null,null,0,null,0]
["",null,{"$f":"IF(B2241=\"\",\"\",SUMIF('الرصيد الثابت'!$D$2:$D$106,B2241,'الرصيد الثابت'!$H$2:$H$106))","v":""},{"$f":"IF(B2241=\"\",\"\",SUMIF('الرصيد الثابت'!$D$2:$D$106,B2241,'الرصيد الثابت'!$I$2:$I$106))","v":""},{"$f":"IF(B2241=\"\",\"\",SUMIF('الرصيد الثابت'!$D$2:$D$106,B2241,'الرصيد الثابت'!$J$2:$J$106))","v":""},null,0,null,null,null,null,0,null,null,null,0,null,0]
["",null,{"$f":"IF(B2246=\"\",\"\",SUMIF('الرصيد الثابت'!$D$2:$D$106,B2246,'الرصيد الثابت'!$H$2:$H$106))","v":""},{"$f":"IF(B2246=\"\",\"\",SUMIF('الرصيد الثابت'!$D$2:$D$106,B2246,'الرصيد الثابت'!$I$2:$I$106))","v":""},{"$f":"IF(B2246=\"\",\"\",SUMIF('الرصيد الثابت'!$D$2:$D$106,B2246,'الرصيد الثابت'!$J$2:$J$106))","v":""},null,0,null,null,null,null,0,null,null,null,0,null,0]
["",null,{"$f":"IF(B2251=\"\",\"\",SUMIF('الرصيد الثابت'!$D$2:$D$106,B2251,'الرصيد الثابت'!$H$2:$H$106))","v":""},{"$f":"IF(B2251=\"\",\"\",SUMIF('الرصيد الثابت'!$D$2:$D$106,B2251,'الرصيد الثابت'!$I$2:$I$106))","v":""},{"$f":"IF(B2251=\"\",\"\",SUMIF('الرصيد الثابت'!$D$2:$D$106,B2251,'الرصيد الثابت'!$J$2:$J$106))","v":""},null,0,null,null,null,null,0,null,null,null,0,null,0]
["",null,{"$f":"IF(B2256=\"\",\"\",SUMIF('الرصيد الثابت'!$D$2:$D$106,B2256,'الرصيد الثابت'!$H$2:$H$106))","v":""},{"$f":"IF(B2256=\"\",\"\",SUMIF('الرصيد الثابت'!$D$2:$D$106,B2256,'الرصيد الثابت'!$I$2:$I$106))","v":""},{"$f":"IF(B2256=\"\",\"\",SUMIF('الرصيد الثابت'!$D$2:$D$106,B2256,'الرصيد الثابت'!$J$2:$J$106))","v":""},null,0,null,null,null,null,0,null,null,null,0,null,0]
["",null,{"$f":"IF(B2257=\"\",\"\",SUMIF('الرصيد الثابت'!$D$2:$D$106,B2257,'الرصيد الثابت'!$H$2:$H$106))","v":""},{"$f":"IF(B2257=\"\",\"\",SUMIF('الرصيد الثابت'!$D$2:$D$106,B2257,'الرصيد الثابت'!$I$2:$I$106))","v":""},{"$f":"IF(B2257=\"\",\"\",SUMIF('الرصيد الثابت'!$D$2:$D$106,B2257,'الرصيد الثابت'!$J$2:$J$106))","v":""},null,0,null,null,null,null,0,null,null,null,0,null,0]
["",null,{"$f":"IF(B2262=\"\",\"\",SUMIF('الرصيد الثابت'!$D$2:$D$106,B2262,'الرصيد الثابت'!$H$2:$H$106))","v":""},{"$f":"IF(B2262=\"\",\"\",SUMIF('الرصيد الثابت'!$D$2:$D$106,B2262,'الرصيد الثابت'!$I$2:$I$106))","v":""},{"$f":"IF(B2262=\"\",\"\",SUMIF('الرصيد الثابت'!$D$2:$D$106,B2262,'الرصيد الثابت'!$J$2:$J$106))","v":""},null,0,null,null,null,null,0,null,null,null,0,null,0]
["",null,{"$f":"IF(B2267=\"\",\"\",SUMIF('الرصيد الثابت'!$D$2:$D$106,B2267,'الرصيد الثابت'!$H$2:$H$106))","v":""},{"$f":"IF(B2267=\"\",\"\",SUMIF('الرصيد الثابت'!$D$2:$D$106,B2267,'الرصيد الثابت'!$I$2:$I$106))","v":""},{"$f":"IF(B2267=\"\",\"\",SUMIF('الرصيد الثابت'!$D$2:$D$106,B2267,'الرصيد الثابت'!$J$2:$J$106))","v":""},null,0,null,null,null,null,0,null,null,null,0,null,0]
[{"$f":"IF(B2272<>\"\",IF(A2272=\"\",NOW(),A2272),\"\")","v":""},null,{"$f":"IF(B2272=\"\",\"\",SUMIF('الرصيد الثابت'!$D$2:$D$106,B2272,'الرصيد الثابت'!$H$2:$H$106))","v":""},{"$f":"IF(B2272=\"\",\"\",SUMIF('الرصيد الثابت'!$D$2:$D$106,B2272,'الرصيد الثابت'!$I$2:$I$106))","v":""},{"$f":"IF(B2272=\"\",\"\",SUMIF('الرصيد الثابت'!$D$2:$D$106,B2272,'الرصيد الثابت'!$J$2:$J$106))","v":""},null,{"$f":"SUM(H2272*F2272)","v":0},null,null,null,null,0,null,null,null,{"$f":"SUM(F2272-K2272)","v":0},null,{"$f":"SUM(S2272*Q2272)","v":0}]
["",null,{"$f":"IF(B2273=\"\",\"\",SUMIF('الرصيد الثابت'!$D$2:$D$106,B2273,'الرصيد الثابت'!$H$2:$H$106))","v":""},{"$f":"IF(B2273=\"\",\"\",SUMIF('الرصيد الثابت'!$D$2:$D$106,B2273,'الرصيد الثابت'!$I$2:$I$106))","v":""},{"$f":"IF(B2273=\"\",\"\",SUMIF('الرصيد الثابت'!$D$2:$D$106,B2273,'الرصيد الثابت'!$J$2:$J$106))","v":""},null,0,null,null,null,null,0,null,null,null,0,null,0]
["",null,{"$f":"IF(B2278=\"\",\"\",SUMIF('الرصيد الثابت'!$D$2:$D$106,B2278,'الرصيد الثابت'!$H$2:$H$106))","v":""},{"$f":"IF(B2278=\"\",\"\",SUMIF('الرصيد الثابت'!$D$2:$D$106,B2278,'الرصيد الثابت'!$I$2:$I$106))","v":""},{"$f":"IF(B2278=\"\",\"\",SUMIF('الرصيد الثابت'!$D$2:$D$106,B2278,'الرصيد الثابت'!$J$2:$J$106))","v":""},null,0,null,null,null,null,0,null,null,null,0,null,0]
["",null,{"$f":"IF(B2283=\"\",\"\",SUMIF('الرصيد الثابت'!$D$2:$D$106,B2283,'الرصيد الثابت'!$H$2:$H$106))","v":""},{"$f":"IF(B2283=\"\",\"\",SUMIF('الرصيد الثابت'!$D$2:$D$106,B2283,'الرصيد الثابت'!$I$2:$I$106))","v":""},{"$f":"IF(B2283=\"\",\"\",SUMIF('الرصيد الثابت'!$D$2:$D$106,B2283,'الرصيد الثابت'!$J$2:$J$106))","v":""},null,0,null,null,null,null,0,null,null,null,0,null,0]
["",null,{"$f":"IF(B2288=\"\",\"\",SUMIF('الرصيد الثابت'!$D$2:$D$106,B2288,'الرصيد الثابت'!$H$2:$H$106))","v":""},{"$f":"IF(B2288=\"\",\"\",SUMIF('الرصيد الثابت'!$D$2:$D$106,B2288,'الرصيد الثابت'!$I$2:$I$106))","v":""},{"$f":"IF(B2288=\"\",\"\",SUMIF('الرصيد الثابت'!$D$2:$D$106,B2288,'الرصيد الثابت'!$J$2:$J$106))","v":""},null,0,null,null,null,null,0,null,null,null,0,null,0]
["",null,{"$f":"IF(B2289=\"\",\"\",SUMIF('الرصيد الثابت'!$D$2:$D$106,B2289,'الرصيد الثابت'!$H$2:$H$106))","v":""},{"$f":"IF(B2289=\"\",\"\",SUMIF('الرصيد الثابت'!$D$2:$D$106,B2289,'الرصيد الثابت'!$I$2:$I$106))","v":""},{"$f":"IF(B2289=\"\",\"\",SUMIF('الرصيد الثابت'!$D$2:$D$106,B2289,'الرصيد الثابت'!$J$2:$J$106))","v":""},null,0,null,null,null,null,0,null,null,null,0,null,0]
["",null,{"$f":"IF(B2294=\"\",\"\",SUMIF('الرصيد الثابت'!$D$2:$D$106,B2294,'الرصيد الثابت'!$H$2:$H$106))","v":""},{"$f":"IF(B2294=\"\",\"\",SUMIF('الرصيد الثابت'!$D$2:$D$106,B2294,'الرصيد الثابت'!$I$2:$I$106))","v":""},{"$f":"IF(B2294=\"\",\"\",SUMIF('الرصيد الثابت'!$D$2:$D$106,B2294,'الرصيد الثابت'!$J$2:$J$106))","v":""},null,0,null,null,null,null,0,null,null,null,0,null,0]
["",null,{"$f":"IF(B2298=\"\",\"\",SUMIF('الرصيد الثابت'!$D$2:$D$106,B2298,'الرصيد الثابت'!$H$2:$H$106))","v":""},{"$f":"IF(B2298=\"\",\"\",SUMIF('الرصيد الثابت'!$D$2:$D$106,B2298,'الرصيد الثابت'!$I$2:$I$106))","v":""},{"$f":"IF(B2298=\"\",\"\",SUMIF('الرصيد الثابت'!$D$2:$D$106,B2298,'الرصيد الثابت'!$J$2:$J$106))","v":""},null,0,null,null,null,null,0,null,null,null,0,null,0]
["",null,{"$f":"IF(B2303=\"\",\"\",SUMIF('الرصيد الثابت'!$D$2:$D$106,B2303,'الرصيد الثابت'!$H$2:$H$106))","v":""},{"$f":"IF(B2303=\"\",\"\",SUMIF('الرصيد الثابت'!$D$2:$D$106,B2303,'الرصيد الثابت'!$I$2:$I$106))","v":""},{"$f":"IF(B2303=\"\",\"\",SUMIF('الرصيد الثابت'!$D$2:$D$106,B2303,'الرصيد الثابت'!$J$2:$J$106))","v":""},null,0,null,null,null,null,0,null,null,null,0,null,0]
["",null,{"$f":"IF(B2304=\"\",\"\",SUMIF('الرصيد الثابت'!$D$2:$D$106,B2304,'الرصيد الثابت'!$H$2:$H$106))","v":""},{"$f":"IF(B2304=\"\",\"\",SUMIF('الرصيد الثابت'!$D$2:$D$106,B2304,'الرصيد الثابت'!$I$2:$I$106))","v":""},{"$f":"IF(B2304=\"\",\"\",SUMIF('الرصيد الثابت'!$D$2:$D$106,B2304,'الرصيد الثابت'!$J$2:$J$106))","v":""},null,0,null,null,null,null,0,null,null,null,0,null,0]
["",null,{"$f":"IF(B2309=\"\",\"\",SUMIF('الرصيد الثابت'!$D$2:$D$106,B2309,'الرصيد الثابت'!$H$2:$H$106))","v":""},{"$f":"IF(B2309=\"\",\"\",SUMIF('الرصيد الثابت'!$D$2:$D$106,B2309,'الرصيد الثابت'!$I$2:$I$106))","v":""},{"$f":"IF(B2309=\"\",\"\",SUMIF('الرصيد الثابت'!$D$2:$D$106,B2309,'الرصيد الثابت'!$J$2:$J$106))","v":""},null,0,null,null,null,null,0,null,null,null,0,null,0]
["",null,{"$f":"IF(B2314=\"\",\"\",SUMIF('الرصيد الثابت'!$D$2:$D$106,B2314,'الرصيد الثابت'!$H$2:$H$106))","v":""},{"$f":"IF(B2314=\"\",\"\",SUMIF('الرصيد الثابت'!$D$2:$D$106,B2314,'الرصيد الثابت'!$I$2:$I$106))","v":""},{"$f":"IF(B2314=\"\",\"\",SUMIF('الرصيد الثابت'!$D$2:$D$106,B2314,'الرصيد الثابت'!$J$2:$J$106))","v":""},null,0,null,null,null,null,0,null,null,null,0,null,0]
["",null,{"$f":"IF(B2319=\"\",\"\",SUMIF('الرصيد الثابت'!$D$2:$D$106,B2319,'الرصيد الثابت'!$H$2:$H$106))","v":""},{"$f":"IF(B2319=\"\",\"\",SUMIF('الرصيد الثابت'!$D$2:$D$106,B2319,'الرصيد الثابت'!$I$2:$I$106))","v":""},{"$f":"IF(B2319=\"\",\"\",SUMIF('الرصيد الثابت'!$D$2:$D$106,B2319,'الرصيد الثابت'!$J$2:$J$106))","v":""},null,0,null,null,null,null,0,null,null,null,0,null,0]
["",null,{"$f":"IF(B2320=\"\",\"\",SUMIF('الرصيد الثابت'!$D$2:$D$106,B2320,'الرصيد الثابت'!$H$2:$H$106))","v":""},{"$f":"IF(B2320=\"\",\"\",SUMIF('الرصيد الثابت'!$D$2:$D$106,B2320,'الرصيد الثابت'!$I$2:$I$106))","v":""},{"$f":"IF(B2320=\"\",\"\",SUMIF('الرصيد الثابت'!$D$2:$D$106,B2320,'الرصيد الثابت'!$J$2:$J$106))","v":""},null,0,null,null,null,null,0,null,null,null,0,null,0]
["",null,{"$f":"IF(B2325=\"\",\"\",SUMIF('الرصيد الثابت'!$D$2:$D$106,B2325,'الرصيد الثابت'!$H$2:$H$106))","v":""},{"$f":"IF(B2325=\"\",\"\",SUMIF('الرصيد الثابت'!$D$2:$D$106,B2325,'الرصيد الثابت'!$I$2:$I$106))","v":""},{"$f":"IF(B2325=\"\",\"\",SUMIF('الرصيد الثابت'!$D$2:$D$106,B2325,'الرصيد الثابت'!$J$2:$J$106))","v":""},null,0,null,null,null,null,0,null,null,null,0,null,0]
["",null,{"$f":"IF(B2330=\"\",\"\",SUMIF('الرصيد الثابت'!$D$2:$D$106,B2330,'الرصيد الثابت'!$H$2:$H$106))","v":""},{"$f":"IF(B2330=\"\",\"\",SUMIF('الرصيد الثابت'!$D$2:$D$106,B2330,'الرصيد الثابت'!$I$2:$I$106))","v":""},{"$f":"IF(B2330=\"\",\"\",SUMIF('الرصيد الثابت'!$D$2:$D$106,B2330,'الرصيد الثابت'!$J$2:$J$106))","v":""},null,0,null,null,null,null,0,null,null,null,0,null,0]
["",null,{"$f":"IF(B2335=\"\",\"\",SUMIF('الرصيد الثابت'!$D$2:$D$106,B2335,'الرصيد الثابت'!$H$2:$H$106))","v":""},{"$f":"IF(B2335=\"\",\"\",SUMIF('الرصيد الثابت'!$D$2:$D$106,B2335,'الرصيد الثابت'!$I$2:$I$106))","v":""},{"$f":"IF(B2335=\"\",\"\",SUMIF('الرصيد الثابت'!$D$2:$D$106,B2335,'الرصيد الثابت'!$J$2:$J$106))","v":""},null,0,null,null,null,null,0,null,null,null,0,null,0]
[{"$f":"IF(B2336<>\"\",IF(A2336=\"\",NOW(),A2336),\"\")","v":""},null,{"$f":"IF(B2336=\"\",\"\",SUMIF('الرصيد الثابت'!$D$2:$D$106,B2336,'الرصيد الثابت'!$H$2:$H$106))","v":""},{"$f":"IF(B2336=\"\",\"\",SUMIF('الرصيد الثابت'!$D$2:$D$106,B2336,'الرصيد الثابت'!$I$2:$I$106))","v":""},{"$f":"IF(B2336=\"\",\"\",SUMIF('الرصيد الثابت'!$D$2:$D$106,B2336,'الرصيد الثابت'!$J$2:$J$106))","v":""},null,{"$f":"SUM(H2336*F2336)","v":0},null,null,null,null,0,null,null,null,{"$f":"SUM(F2336-K2336)","v":0},null,{"$f":"SUM(S2336*Q2336)","v":0}]
["",null,{"$f":"IF(B2341=\"\",\"\",SUMIF('الرصيد الثابت'!$D$2:$D$106,B2341,'الرصيد الثابت'!$H$2:$H$106))","v":""},{"$f":"IF(B2341=\"\",\"\",SUMIF('الرصيد الثابت'!$D$2:$D$106,B2341,'الرصيد الثابت'!$I$2:$I$106))","v":""},{"$f":"IF(B2341=\"\",\"\",SUMIF('الرصيد الثابت'!$D$2:$D$106,B2341,'الرصيد الثابت'!$J$2:$J$106))","v":""},null,0,null,null,null,null,0,null,null,null,0,null,0]
["",null,{"$f":"IF(B2346=\"\",\"\",SUMIF('الرصيد الثابت'!$D$2:$D$106,B2346,'الرصيد الثابت'!$H$2:$H$106))","v":""},{"$f":"IF(B2346=\"\",\"\",SUMIF('الرصيد الثابت'!$D$2:$D$106,B2346,'الرصيد الثابت'!$I$2:$I$106))","v":""},{"$f":"IF(B2346=\"\",\"\",SUMIF('الرصيد الثابت'!$D$2:$D$106,B2346,'الرصيد الثابت'!$J$2:$J$106))","v":""},null,0,null,null,null,null,0,null,null,null,0,null,0]
["",null,{"$f":"IF(B2351=\"\",\"\",SUMIF('الرصيد الثابت'!$D$2:$D$106,B2351,'الرصيد الثابت'!$H$2:$H$106))","v":""},{"$f":"IF(B2351=\"\",\"\",SUMIF('الرصيد الثابت'!$D$2:$D$106,B2351,'الرصيد الثابت'!$I$2:$I$106))","v":""},{"$f":"IF(B2351=\"\",\"\",SUMIF('الرصيد الثابت'!$D$2:$D$106,B2351,'الرصيد الثابت'!$J$2:$J$106))","v":""},null,0,null,null,null,null,0,null,null,null,0,null,0]
["",null,{"$f":"IF(B2352=\"\",\"\",SUMIF('الرصيد الثابت'!$D$2:$D$106,B2352,'الرصيد الثابت'!$H$2:$H$106))","v":""},{"$f":"IF(B2352=\"\",\"\",SUMIF('الرصيد الثابت'!$D$2:$D$106,B2352,'الرصيد الثابت'!$I$2:$I$106))","v":""},{"$f":"IF(B2352=\"\",\"\",SUMIF('الرصيد الثابت'!$D$2:$D$106,B2352,'الرصيد الثابت'!$J$2:$J$106))","v":""},null,{"$f":"SUM(H224590*F224590)","v":0},null,null,null,null,0,null,null,null,{"$f":"SUM(F224590-K224590)","v":0},null,{"$f":"SUM(S224590*Q224590)","v":0}]
["",null,{"$f":"IF(B2356=\"\",\"\",SUMIF('الرصيد الثابت'!$D$2:$D$106,B2356,'الرصيد الثابت'!$H$2:$H$106))","v":""},{"$f":"IF(B2356=\"\",\"\",SUMIF('الرصيد الثابت'!$D$2:$D$106,B2356,'الرصيد الثابت'!$I$2:$I$106))","v":""},{"$f":"IF(B2356=\"\",\"\",SUMIF('الرصيد الثابت'!$D$2:$D$106,B2356,'الرصيد الثابت'!$J$2:$J$106))","v":""},null,0,null,null,null,null,0,null,null,null,0,null,0]
["",null,{"$f":"IF(B2361=\"\",\"\",SUMIF('الرصيد الثابت'!$D$2:$D$106,B2361,'الرصيد الثابت'!$H$2:$H$106))","v":""},{"$f":"IF(B2361=\"\",\"\",SUMIF('الرصيد الثابت'!$D$2:$D$106,B2361,'الرصيد الثابت'!$I$2:$I$106))","v":""},{"$f":"IF(B2361=\"\",\"\",SUMIF('الرصيد الثابت'!$D$2:$D$106,B2361,'الرصيد الثابت'!$J$2:$J$106))","v":""},null,0,null,null,null,null,0,null,null,null,0,null,0]
["",null,{"$f":"IF(B2366=\"\",\"\",SUMIF('الرصيد الثابت'!$D$2:$D$106,B2366,'الرصيد الثابت'!$H$2:$H$106))","v":""},{"$f":"IF(B2366=\"\",\"\",SUMIF('الرصيد الثابت'!$D$2:$D$106,B2366,'الرصيد الثابت'!$I$2:$I$106))","v":""},{"$f":"IF(B2366=\"\",\"\",SUMIF('الرصيد الثابت'!$D$2:$D$106,B2366,'الرصيد الثابت'!$J$2:$J$106))","v":""},null,0,null,null,null,null,0,null,null,null,0,null,0]
["",null,{"$f":"IF(B2367=\"\",\"\",SUMIF('الرصيد الثابت'!$D$2:$D$106,B2367,'الرصيد الثابت'!$H$2:$H$106))","v":""},{"$f":"IF(B2367=\"\",\"\",SUMIF('الرصيد الثابت'!$D$2:$D$106,B2367,'الرصيد الثابت'!$I$2:$I$106))","v":""},{"$f":"IF(B2367=\"\",\"\",SUMIF('الرصيد الثابت'!$D$2:$D$106,B2367,'الرصيد الثابت'!$J$2:$J$106))","v":""},null,0,null,null,null,null,0,null,null,null,0,null,0]
["",null,{"$f":"IF(B2372=\"\",\"\",SUMIF('الرصيد الثابت'!$D$2:$D$106,B2372,'الرصيد الثابت'!$H$2:$H$106))","v":""},{"$f":"IF(B2372=\"\",\"\",SUMIF('الرصيد الثابت'!$D$2:$D$106,B2372,'الرصيد الثابت'!$I$2:$I$106))","v":""},{"$f":"IF(B2372=\"\",\"\",SUMIF('الرصيد الثابت'!$D$2:$D$106,B2372,'الرصيد الثابت'!$J$2:$J$106))","v":""},null,0,null,null,null,null,{"$f":"SUM(M2372*K2372)","v":0},null,null,null,0,null,0]
["",null,{"$f":"IF(B2377=\"\",\"\",SUMIF('الرصيد الثابت'!$D$2:$D$106,B2377,'الرصيد الثابت'!$H$2:$H$106))","v":""},{"$f":"IF(B2377=\"\",\"\",SUMIF('الرصيد الثابت'!$D$2:$D$106,B2377,'الرصيد الثابت'!$I$2:$I$106))","v":""},{"$f":"IF(B2377=\"\",\"\",SUMIF('الرصيد الثابت'!$D$2:$D$106,B2377,'الرصيد الثابت'!$J$2:$J$106))","v":""},null,0,null,null,null,null,0,null,null,null,0,null,0]
["",null,{"$f":"IF(B2382=\"\",\"\",SUMIF('الرصيد الثابت'!$D$2:$D$106,B2382,'الرصيد الثابت'!$H$2:$H$106))","v":""},{"$f":"IF(B2382=\"\",\"\",SUMIF('الرصيد الثابت'!$D$2:$D$106,B2382,'الرصيد الثابت'!$I$2:$I$106))","v":""},{"$f":"IF(B2382=\"\",\"\",SUMIF('الرصيد الثابت'!$D$2:$D$106,B2382,'الرصيد الثابت'!$J$2:$J$106))","v":""},null,0,null,null,null,null,0,null,null,null,0,null,0]
["",null,{"$f":"IF(B2383=\"\",\"\",SUMIF('الرصيد الثابت'!$D$2:$D$106,B2383,'الرصيد الثابت'!$H$2:$H$106))","v":""},{"$f":"IF(B2383=\"\",\"\",SUMIF('الرصيد الثابت'!$D$2:$D$106,B2383,'الرصيد الثابت'!$I$2:$I$106))","v":""},{"$f":"IF(B2383=\"\",\"\",SUMIF('الرصيد الثابت'!$D$2:$D$106,B2383,'الرصيد الثابت'!$J$2:$J$106))","v":""},null,0,null,null,null,null,0,null,null,null,0,null,0]
["",null,{"$f":"IF(B2388=\"\",\"\",SUMIF('الرصيد الثابت'!$D$2:$D$106,B2388,'الرصيد الثابت'!$H$2:$H$106))","v":""},{"$f":"IF(B2388=\"\",\"\",SUMIF('الرصيد الثابت'!$D$2:$D$106,B2388,'الرصيد الثابت'!$I$2:$I$106))","v":""},{"$f":"IF(B2388=\"\",\"\",SUMIF('الرصيد الثابت'!$D$2:$D$106,B2388,'الرصيد الثابت'!$J$2:$J$106))","v":""},null,0,null,null,null,null,0,null,null,null,0,null,0]
["",null,{"$f":"IF(B2393=\"\",\"\",SUMIF('الرصيد الثابت'!$D$2:$D$106,B2393,'الرصيد الثابت'!$H$2:$H$106))","v":""},{"$f":"IF(B2393=\"\",\"\",SUMIF('الرصيد الثابت'!$D$2:$D$106,B2393,'الرصيد الثابت'!$I$2:$I$106))","v":""},{"$f":"IF(B2393=\"\",\"\",SUMIF('الرصيد الثابت'!$D$2:$D$106,B2393,'الرصيد الثابت'!$J$2:$J$106))","v":""},null,0,null,null,null,null,0,null,null,null,0,null,0]
["",null,{"$f":"IF(B2398=\"\",\"\",SUMIF('الرصيد الثابت'!$D$2:$D$106,B2398,'الرصيد الثابت'!$H$2:$H$106))","v":""},{"$f":"IF(B2398=\"\",\"\",SUMIF('الرصيد الثابت'!$D$2:$D$106,B2398,'الرصيد الثابت'!$I$2:$I$106))","v":""},{"$f":"IF(B2398=\"\",\"\",SUMIF('الرصيد الثابت'!$D$2:$D$106,B2398,'الرصيد الثابت'!$J$2:$J$106))","v":""},null,0,null,null,null,null,0,null,null,null,0,null,0]
["",null,{"$f":"IF(B2399=\"\",\"\",SUMIF('الرصيد الثابت'!$D$2:$D$106,B2399,'الرصيد الثابت'!$H$2:$H$106))","v":""},{"$f":"IF(B2399=\"\",\"\",SUMIF('الرصيد الثابت'!$D$2:$D$106,B2399,'الرصيد الثابت'!$I$2:$I$106))","v":""},{"$f":"IF(B2399=\"\",\"\",SUMIF('الرصيد الثابت'!$D$2:$D$106,B2399,'الرصيد الثابت'!$J$2:$J$106))","v":""},null,0,null,null,null,null,0,null,null,null,0,null,0]
["",null,{"$f":"IF(B2404=\"\",\"\",SUMIF('الرصيد الثابت'!$D$2:$D$106,B2404,'الرصيد الثابت'!$H$2:$H$106))","v":""},{"$f":"IF(B2404=\"\",\"\",SUMIF('الرصيد الثابت'!$D$2:$D$106,B2404,'الرصيد الثابت'!$I$2:$I$106))","v":""},{"$f":"IF(B2404=\"\",\"\",SUMIF('الرصيد الثابت'!$D$2:$D$106,B2404,'الرصيد الثابت'!$J$2:$J$106))","v":""},null,0,null,null,null,null,0,null,null,null,0,null,0]
["",null,{"$f":"IF(B2407=\"\",\"\",SUMIF('الرصيد الثابت'!$D$2:$D$106,B2407,'الرصيد الثابت'!$H$2:$H$106))","v":""},{"$f":"IF(B2407=\"\",\"\",SUMIF('الرصيد الثابت'!$D$2:$D$106,B2407,'الرصيد الثابت'!$I$2:$I$106))","v":""},{"$f":"IF(B2407=\"\",\"\",SUMIF('الرصيد الثابت'!$D$2:$D$106,B2407,'الرصيد الثابت'!$J$2:$J$106))","v":""},null,0,null,null,null,null,0,null,null,null,0,null,0]
["",null,{"$f":"IF(B2413=\"\",\"\",SUMIF('الرصيد الثابت'!$D$2:$D$106,B2413,'الرصيد الثابت'!$H$2:$H$106))","v":""},{"$f":"IF(B2413=\"\",\"\",SUMIF('الرصيد الثابت'!$D$2:$D$106,B2413,'الرصيد الثابت'!$I$2:$I$106))","v":""},{"$f":"IF(B2413=\"\",\"\",SUMIF('الرصيد الثابت'!$D$2:$D$106,B2413,'الرصيد الثابت'!$J$2:$J$106))","v":""},null,0,null,null,null,null,0,null,null,null,0,null,0]
["",null,{"$f":"IF(B2414=\"\",\"\",SUMIF('الرصيد الثابت'!$D$2:$D$106,B2414,'الرصيد الثابت'!$H$2:$H$106))","v":""},{"$f":"IF(B2414=\"\",\"\",SUMIF('الرصيد الثابت'!$D$2:$D$106,B2414,'الرصيد الثابت'!$I$2:$I$106))","v":""},{"$f":"IF(B2414=\"\",\"\",SUMIF('الرصيد الثابت'!$D$2:$D$106,B2414,'الرصيد الثابت'!$J$2:$J$106))","v":""},null,0,null,null,null,null,0,null,null,null,0,null,0]
["",null,{"$f":"IF(B2419=\"\",\"\",SUMIF('الرصيد الثابت'!$D$2:$D$106,B2419,'الرصيد الثابت'!$H$2:$H$106))","v":""},{"$f":"IF(B2419=\"\",\"\",SUMIF('الرصيد الثابت'!$D$2:$D$106,B2419,'الرصيد الثابت'!$I$2:$I$106))","v":""},{"$f":"IF(B2419=\"\",\"\",SUMIF('الرصيد الثابت'!$D$2:$D$106,B2419,'الرصيد الثابت'!$J$2:$J$106))","v":""},null,0,null,null,null,null,0,null,null,null,0,null,0]
["",null,{"$f":"IF(B2424=\"\",\"\",SUMIF('الرصيد الثابت'!$D$2:$D$106,B2424,'الرصيد الثابت'!$H$2:$H$106))","v":""},{"$f":"IF(B2424=\"\",\"\",SUMIF('الرصيد الثابت'!$D$2:$D$106,B2424,'الرصيد الثابت'!$I$2:$I$106))","v":""},{"$f":"IF(B2424=\"\",\"\",SUMIF('الرصيد الثابت'!$D$2:$D$106,B2424,'الرصيد الثابت'!$J$2:$J$106))","v":""},null,0,null,null,null,null,0,null,null,null,0,null,0]
["",null,{"$f":"IF(B2429=\"\",\"\",SUMIF('الرصيد الثابت'!$D$2:$D$106,B2429,'الرصيد الثابت'!$H$2:$H$106))","v":""},{"$f":"IF(B2429=\"\",\"\",SUMIF('الرصيد الثابت'!$D$2:$D$106,B2429,'الرصيد الثابت'!$I$2:$I$106))","v":""},{"$f":"IF(B2429=\"\",\"\",SUMIF('الرصيد الثابت'!$D$2:$D$106,B2429,'الرصيد الثابت'!$J$2:$J$106))","v":""},null,0,null,null,null,null,0,null,null,null,0,null,0]
["",null,{"$f":"IF(B2430=\"\",\"\",SUMIF('الرصيد الثابت'!$D$2:$D$106,B2430,'الرصيد الثابت'!$H$2:$H$106))","v":""},{"$f":"IF(B2430=\"\",\"\",SUMIF('الرصيد الثابت'!$D$2:$D$106,B2430,'الرصيد الثابت'!$I$2:$I$106))","v":""},{"$f":"IF(B2430=\"\",\"\",SUMIF('الرصيد الثابت'!$D$2:$D$106,B2430,'الرصيد الثابت'!$J$2:$J$106))","v":""},null,0,null,null,null,null,0,null,null,null,0,null,0]
["",null,{"$f":"IF(B2435=\"\",\"\",SUMIF('الرصيد الثابت'!$D$2:$D$106,B2435,'الرصيد الثابت'!$H$2:$H$106))","v":""},{"$f":"IF(B2435=\"\",\"\",SUMIF('الرصيد الثابت'!$D$2:$D$106,B2435,'الرصيد الثابت'!$I$2:$I$106))","v":""},{"$f":"IF(B2435=\"\",\"\",SUMIF('الرصيد الثابت'!$D$2:$D$106,B2435,'الرصيد الثابت'!$J$2:$J$106))","v":""},null,0,null,null,null,null,0,null,null,null,0,null,0]
["",null,{"$f":"IF(B2440=\"\",\"\",SUMIF('الرصيد الثابت'!$D$2:$D$106,B2440,'الرصيد الثابت'!$H$2:$H$106))","v":""},{"$f":"IF(B2440=\"\",\"\",SUMIF('الرصيد الثابت'!$D$2:$D$106,B2440,'الرصيد الثابت'!$I$2:$I$106))","v":""},{"$f":"IF(B2440=\"\",\"\",SUMIF('الرصيد الثابت'!$D$2:$D$106,B2440,'الرصيد الثابت'!$J$2:$J$106))","v":""},null,0,null,null,null,null,0,null,null,null,0,null,0]
["",null,{"$f":"IF(B2445=\"\",\"\",SUMIF('الرصيد الثابت'!$D$2:$D$106,B2445,'الرصيد الثابت'!$H$2:$H$106))","v":""},{"$f":"IF(B2445=\"\",\"\",SUMIF('الرصيد الثابت'!$D$2:$D$106,B2445,'الرصيد الثابت'!$I$2:$I$106))","v":""},{"$f":"IF(B2445=\"\",\"\",SUMIF('الرصيد الثابت'!$D$2:$D$106,B2445,'الرصيد الثابت'!$J$2:$J$106))","v":""},null,0,null,null,null,null,0,null,null,null,0,null,0]
["",null,{"$f":"IF(B2446=\"\",\"\",SUMIF('الرصيد الثابت'!$D$2:$D$106,B2446,'الرصيد الثابت'!$H$2:$H$106))","v":""},{"$f":"IF(B2446=\"\",\"\",SUMIF('الرصيد الثابت'!$D$2:$D$106,B2446,'الرصيد الثابت'!$I$2:$I$106))","v":""},{"$f":"IF(B2446=\"\",\"\",SUMIF('الرصيد الثابت'!$D$2:$D$106,B2446,'الرصيد الثابت'!$J$2:$J$106))","v":""},null,0,null,null,null,null,0,null,null,null,0,null,0]
["",null,{"$f":"IF(B2451=\"\",\"\",SUMIF('الرصيد الثابت'!$D$2:$D$106,B2451,'الرصيد الثابت'!$H$2:$H$106))","v":""},{"$f":"IF(B2451=\"\",\"\",SUMIF('الرصيد الثابت'!$D$2:$D$106,B2451,'الرصيد الثابت'!$I$2:$I$106))","v":""},{"$f":"IF(B2451=\"\",\"\",SUMIF('الرصيد الثابت'!$D$2:$D$106,B2451,'الرصيد الثابت'!$J$2:$J$106))","v":""},null,0,null,null,null,null,0,null,null,null,0,null,0]
["",null,{"$f":"IF(B2456=\"\",\"\",SUMIF('الرصيد الثابت'!$D$2:$D$106,B2456,'الرصيد الثابت'!$H$2:$H$106))","v":""},{"$f":"IF(B2456=\"\",\"\",SUMIF('الرصيد الثابت'!$D$2:$D$106,B2456,'الرصيد الثابت'!$I$2:$I$106))","v":""},{"$f":"IF(B2456=\"\",\"\",SUMIF('الرصيد الثابت'!$D$2:$D$106,B2456,'الرصيد الثابت'!$J$2:$J$106))","v":""},null,0,null,null,null,null,0,null,null,null,0,null,0]
["",null,{"$f":"IF(B2461=\"\",\"\",SUMIF('الرصيد الثابت'!$D$2:$D$106,B2461,'الرصيد الثابت'!$H$2:$H$106))","v":""},{"$f":"IF(B2461=\"\",\"\",SUMIF('الرصيد الثابت'!$D$2:$D$106,B2461,'الرصيد الثابت'!$I$2:$I$106))","v":""},{"$f":"IF(B2461=\"\",\"\",SUMIF('الرصيد الثابت'!$D$2:$D$106,B2461,'الرصيد الثابت'!$J$2:$J$106))","v":""},null,0,null,null,null,null,0,null,null,null,0,null,0]
["",null,{"$f":"IF(B2462=\"\",\"\",SUMIF('الرصيد الثابت'!$D$2:$D$106,B2462,'الرصيد الثابت'!$H$2:$H$106))","v":""},{"$f":"IF(B2462=\"\",\"\",SUMIF('الرصيد الثابت'!$D$2:$D$106,B2462,'الرصيد الثابت'!$I$2:$I$106))","v":""},{"$f":"IF(B2462=\"\",\"\",SUMIF('الرصيد الثابت'!$D$2:$D$106,B2462,'الرصيد الثابت'!$J$2:$J$106))","v":""},null,0,null,null,null,null,0,null,null,null,0,null,0]
["",null,{"$f":"IF(B2466=\"\",\"\",SUMIF('الرصيد الثابت'!$D$2:$D$106,B2466,'الرصيد الثابت'!$H$2:$H$106))","v":""},{"$f":"IF(B2466=\"\",\"\",SUMIF('الرصيد الثابت'!$D$2:$D$106,B2466,'الرصيد الثابت'!$I$2:$I$106))","v":""},{"$f":"IF(B2466=\"\",\"\",SUMIF('الرصيد الثابت'!$D$2:$D$106,B2466,'الرصيد الثابت'!$J$2:$J$106))","v":""},null,0,null,null,null,null,0,null,null,null,0,null,0]
["",null,{"$f":"IF(B2467=\"\",\"\",SUMIF('الرصيد الثابت'!$D$2:$D$106,B2467,'الرصيد الثابت'!$H$2:$H$106))","v":""},{"$f":"IF(B2467=\"\",\"\",SUMIF('الرصيد الثابت'!$D$2:$D$106,B2467,'الرصيد الثابت'!$I$2:$I$106))","v":""},{"$f":"IF(B2467=\"\",\"\",SUMIF('الرصيد الثابت'!$D$2:$D$106,B2467,'الرصيد الثابت'!$J$2:$J$106))","v":""},null,0,null,null,null,null,0,null,null,null,0,null,0]
["",null,{"$f":"IF(B2468=\"\",\"\",SUMIF('الرصيد الثابت'!$D$2:$D$106,B2468,'الرصيد الثابت'!$H$2:$H$106))","v":""},{"$f":"IF(B2468=\"\",\"\",SUMIF('الرصيد الثابت'!$D$2:$D$106,B2468,'الرصيد الثابت'!$I$2:$I$106))","v":""},{"$f":"IF(B2468=\"\",\"\",SUMIF('الرصيد الثابت'!$D$2:$D$106,B2468,'الرصيد الثابت'!$J$2:$J$106))","v":""},null,0,null,null,null,null,0,null,null,null,0,null,0]
["",null,{"$f":"IF(B2469=\"\",\"\",SUMIF('الرصيد الثابت'!$D$2:$D$106,B2469,'الرصيد الثابت'!$H$2:$H$106))","v":""},{"$f":"IF(B2469=\"\",\"\",SUMIF('الرصيد الثابت'!$D$2:$D$106,B2469,'الرصيد الثابت'!$I$2:$I$106))","v":""},{"$f":"IF(B2469=\"\",\"\",SUMIF('الرصيد الثابت'!$D$2:$D$106,B2469,'الرصيد الثابت'!$J$2:$J$106))","v":""},null,0,null,null,null,null,0,null,null,null,0,null,0]
["",null,{"$f":"IF(B2470=\"\",\"\",SUMIF('الرصيد الثابت'!$D$2:$D$106,B2470,'الرصيد الثابت'!$H$2:$H$106))","v":""},{"$f":"IF(B2470=\"\",\"\",SUMIF('الرصيد الثابت'!$D$2:$D$106,B2470,'الرصيد الثابت'!$I$2:$I$106))","v":""},{"$f":"IF(B2470=\"\",\"\",SUMIF('الرصيد الثابت'!$D$2:$D$106,B2470,'الرصيد الثابت'!$J$2:$J$106))","v":""},null,0,null,null,null,null,0,null,null,null,0,null,0]
["",null,{"$f":"IF(B2471=\"\",\"\",SUMIF('الرصيد الثابت'!$D$2:$D$106,B2471,'الرصيد الثابت'!$H$2:$H$106))","v":""},{"$f":"IF(B2471=\"\",\"\",SUMIF('الرصيد الثابت'!$D$2:$D$106,B2471,'الرصيد الثابت'!$I$2:$I$106))","v":""},{"$f":"IF(B2471=\"\",\"\",SUMIF('الرصيد الثابت'!$D$2:$D$106,B2471,'الرصيد الثابت'!$J$2:$J$106))","v":""},null,0,null,null,null,null,0,null,null,null,0,null,0]
["",null,{"$f":"IF(B2472=\"\",\"\",SUMIF('الرصيد الثابت'!$D$2:$D$106,B2472,'الرصيد الثابت'!$H$2:$H$106))","v":""},{"$f":"IF(B2472=\"\",\"\",SUMIF('الرصيد الثابت'!$D$2:$D$106,B2472,'الرصيد الثابت'!$I$2:$I$106))","v":""},{"$f":"IF(B2472=\"\",\"\",SUMIF('الرصيد الثابت'!$D$2:$D$106,B2472,'الرصيد الثابت'!$J$2:$J$106))","v":""},null,0,null,null,null,null,0,null,null,null,0,null,0]
["",null,{"$f":"IF(B2473=\"\",\"\",SUMIF('الرصيد الثابت'!$D$2:$D$106,B2473,'الرصيد الثابت'!$H$2:$H$106))","v":""},{"$f":"IF(B2473=\"\",\"\",SUMIF('الرصيد الثابت'!$D$2:$D$106,B2473,'الرصيد الثابت'!$I$2:$I$106))","v":""},{"$f":"IF(B2473=\"\",\"\",SUMIF('الرصيد الثابت'!$D$2:$D$106,B2473,'الرصيد الثابت'!$J$2:$J$106))","v":""},null,0,null,null,null,null,0,null,null,null,0,null,0]
["",null,{"$f":"IF(B2474=\"\",\"\",SUMIF('الرصيد الثابت'!$D$2:$D$106,B2474,'الرصيد الثابت'!$H$2:$H$106))","v":""},{"$f":"IF(B2474=\"\",\"\",SUMIF('الرصيد الثابت'!$D$2:$D$106,B2474,'الرصيد الثابت'!$I$2:$I$106))","v":""},{"$f":"IF(B2474=\"\",\"\",SUMIF('الرصيد الثابت'!$D$2:$D$106,B2474,'الرصيد الثابت'!$J$2:$J$106))","v":""},null,0,null,null,null,null,0,null,null,null,0,null,0]
["",null,{"$f":"IF(B2475=\"\",\"\",SUMIF('الرصيد الثابت'!$D$2:$D$106,B2475,'الرصيد الثابت'!$H$2:$H$106))","v":""},{"$f":"IF(B2475=\"\",\"\",SUMIF('الرصيد الثابت'!$D$2:$D$106,B2475,'الرصيد الثابت'!$I$2:$I$106))","v":""},{"$f":"IF(B2475=\"\",\"\",SUMIF('الرصيد الثابت'!$D$2:$D$106,B2475,'الرصيد الثابت'!$J$2:$J$106))","v":""},null,0,null,null,null,null,0,null,null,null,0,null,0]
["",null,{"$f":"IF(B2476=\"\",\"\",SUMIF('الرصيد الثابت'!$D$2:$D$106,B2476,'الرصيد الثابت'!$H$2:$H$106))","v":""},{"$f":"IF(B2476=\"\",\"\",SUMIF('الرصيد الثابت'!$D$2:$D$106,B2476,'الرصيد الثابت'!$I$2:$I$106))","v":""},{"$f":"IF(B2476=\"\",\"\",SUMIF('الرصيد الثابت'!$D$2:$D$106,B2476,'الرصيد الثابت'!$J$2:$J$106))","v":""},null,0,null,null,null,null,0,null,null,null,0,null,0]
["",null,{"$f":"IF(B2477=\"\",\"\",SUMIF('الرصيد الثابت'!$D$2:$D$106,B2477,'الرصيد الثابت'!$H$2:$H$106))","v":""},{"$f":"IF(B2477=\"\",\"\",SUMIF('الرصيد الثابت'!$D$2:$D$106,B2477,'الرصيد الثابت'!$I$2:$I$106))","v":""},{"$f":"IF(B2477=\"\",\"\",SUMIF('الرصيد الثابت'!$D$2:$D$106,B2477,'الرصيد الثابت'!$J$2:$J$106))","v":""},null,0,null,null,null,null,0,null,null,null,0,null,0]
["",null,{"$f":"IF(B2478=\"\",\"\",SUMIF('الرصيد الثابت'!$D$2:$D$106,B2478,'الرصيد الثابت'!$H$2:$H$106))","v":""},{"$f":"IF(B2478=\"\",\"\",SUMIF('الرصيد الثابت'!$D$2:$D$106,B2478,'الرصيد الثابت'!$I$2:$I$106))","v":""},{"$f":"IF(B2478=\"\",\"\",SUMIF('الرصيد الثابت'!$D$2:$D$106,B2478,'الرصيد الثابت'!$J$2:$J$106))","v":""},null,0,null,null,null,null,0,null,null,null,0,null,0]
["",null,{"$f":"IF(B2479=\"\",\"\",SUMIF('الرصيد الثابت'!$D$2:$D$106,B2479,'الرصيد الثابت'!$H$2:$H$106))","v":""},{"$f":"IF(B2479=\"\",\"\",SUMIF('الرصيد الثابت'!$D$2:$D$106,B2479,'الرصيد الثابت'!$I$2:$I$106))","v":""},{"$f":"IF(B2479=\"\",\"\",SUMIF('الرصيد الثابت'!$D$2:$D$106,B2479,'الرصيد الثابت'!$J$2:$J$106))","v":""},null,0,null,null,null,null,0,null,null,null,0,null,0]
["",null,{"$f":"IF(B2480=\"\",\"\",SUMIF('الرصيد الثابت'!$D$2:$D$106,B2480,'الرصيد الثابت'!$H$2:$H$106))","v":""},{"$f":"IF(B2480=\"\",\"\",SUMIF('الرصيد الثابت'!$D$2:$D$106,B2480,'الرصيد الثابت'!$I$2:$I$106))","v":""},{"$f":"IF(B2480=\"\",\"\",SUMIF('الرصيد الثابت'!$D$2:$D$106,B2480,'الرصيد الثابت'!$J$2:$J$106))","v":""},null,0,null,null,null,null,0,null,null,null,0,null,0]
["",null,{"$f":"IF(B2481=\"\",\"\",SUMIF('الرصيد الثابت'!$D$2:$D$106,B2481,'الرصيد الثابت'!$H$2:$H$106))","v":""},{"$f":"IF(B2481=\"\",\"\",SUMIF('الرصيد الثابت'!$D$2:$D$106,B2481,'الرصيد الثابت'!$I$2:$I$106))","v":""},{"$f":"IF(B2481=\"\",\"\",SUMIF('الرصيد الثابت'!$D$2:$D$106,B2481,'الرصيد الثابت'!$J$2:$J$106))","v":""},null,0,null,null,null,null,0,null,null,null,0,null,0]
["",null,{"$f":"IF(B2482=\"\",\"\",SUMIF('الرصيد الثابت'!$D$2:$D$106,B2482,'الرصيد الثابت'!$H$2:$H$106))","v":""},{"$f":"IF(B2482=\"\",\"\",SUMIF('الرصيد الثابت'!$D$2:$D$106,B2482,'الرصيد الثابت'!$I$2:$I$106))","v":""},{"$f":"IF(B2482=\"\",\"\",SUMIF('الرصيد الثابت'!$D$2:$D$106,B2482,'الرصيد الثابت'!$J$2:$J$106))","v":""},null,0,null,null,null,null,0,null,null,null,0,null,0]
["",null,{"$f":"IF(B2483=\"\",\"\",SUMIF('الرصيد الثابت'!$D$2:$D$106,B2483,'الرصيد الثابت'!$H$2:$H$106))","v":""},{"$f":"IF(B2483=\"\",\"\",SUMIF('الرصيد الثابت'!$D$2:$D$106,B2483,'الرصيد الثابت'!$I$2:$I$106))","v":""},{"$f":"IF(B2483=\"\",\"\",SUMIF('الرصيد الثابت'!$D$2:$D$106,B2483,'الرصيد الثابت'!$J$2:$J$106))","v":""},null,0,null,null,null,null,0,null,null,null,0,null,0]
["",null,{"$f":"IF(B2484=\"\",\"\",SUMIF('الرصيد الثابت'!$D$2:$D$106,B2484,'الرصيد الثابت'!$H$2:$H$106))","v":""},{"$f":"IF(B2484=\"\",\"\",SUMIF('الرصيد الثابت'!$D$2:$D$106,B2484,'الرصيد الثابت'!$I$2:$I$106))","v":""},{"$f":"IF(B2484=\"\",\"\",SUMIF('الرصيد الثابت'!$D$2:$D$106,B2484,'الرصيد الثابت'!$J$2:$J$106))","v":""},null,0,null,null,null,null,0,null,null,null,0,null,0]
["",null,{"$f":"IF(B2485=\"\",\"\",SUMIF('الرصيد الثابت'!$D$2:$D$106,B2485,'الرصيد الثابت'!$H$2:$H$106))","v":""},{"$f":"IF(B2485=\"\",\"\",SUMIF('الرصيد الثابت'!$D$2:$D$106,B2485,'الرصيد الثابت'!$I$2:$I$106))","v":""},{"$f":"IF(B2485=\"\",\"\",SUMIF('الرصيد الثابت'!$D$2:$D$106,B2485,'الرصيد الثابت'!$J$2:$J$106))","v":""},null,0,null,null,null,null,0,null,null,null,0,null,0]
["",null,{"$f":"IF(B2486=\"\",\"\",SUMIF('الرصيد الثابت'!$D$2:$D$106,B2486,'الرصيد الثابت'!$H$2:$H$106))","v":""},{"$f":"IF(B2486=\"\",\"\",SUMIF('الرصيد الثابت'!$D$2:$D$106,B2486,'الرصيد الثابت'!$I$2:$I$106))","v":""},{"$f":"IF(B2486=\"\",\"\",SUMIF('الرصيد الثابت'!$D$2:$D$106,B2486,'الرصيد الثابت'!$J$2:$J$106))","v":""},null,0,null,null,null,null,0,null,null,null,0,null,0]
["",null,{"$f":"IF(B2487=\"\",\"\",SUMIF('الرصيد الثابت'!$D$2:$D$106,B2487,'الرصيد الثابت'!$H$2:$H$106))","v":""},{"$f":"IF(B2487=\"\",\"\",SUMIF('الرصيد الثابت'!$D$2:$D$106,B2487,'الرصيد الثابت'!$I$2:$I$106))","v":""},{"$f":"IF(B2487=\"\",\"\",SUMIF('الرصيد الثابت'!$D$2:$D$106,B2487,'الرصيد الثابت'!$J$2:$J$106))","v":""},null,0,null,null,null,null,0,null,null,null,0,null,0]
["",null,{"$f":"IF(B2488=\"\",\"\",SUMIF('الرصيد الثابت'!$D$2:$D$106,B2488,'الرصيد الثابت'!$H$2:$H$106))","v":""},{"$f":"IF(B2488=\"\",\"\",SUMIF('الرصيد الثابت'!$D$2:$D$106,B2488,'الرصيد الثابت'!$I$2:$I$106))","v":""},{"$f":"IF(B2488=\"\",\"\",SUMIF('الرصيد الثابت'!$D$2:$D$106,B2488,'الرصيد الثابت'!$J$2:$J$106))","v":""},null,0,null,null,null,null,0,null,null,null,0,null,0]
["",null,{"$f":"IF(B2489=\"\",\"\",SUMIF('الرصيد الثابت'!$D$2:$D$106,B2489,'الرصيد الثابت'!$H$2:$H$106))","v":""},{"$f":"IF(B2489=\"\",\"\",SUMIF('الرصيد الثابت'!$D$2:$D$106,B2489,'الرصيد الثابت'!$I$2:$I$106))","v":""},{"$f":"IF(B2489=\"\",\"\",SUMIF('الرصيد الثابت'!$D$2:$D$106,B2489,'الرصيد الثابت'!$J$2:$J$106))","v":""},null,0,null,null,null,null,0,null,null,null,0,null,0]
["",null,{"$f":"IF(B2490=\"\",\"\",SUMIF('الرصيد الثابت'!$D$2:$D$106,B2490,'الرصيد الثابت'!$H$2:$H$106))","v":""},{"$f":"IF(B2490=\"\",\"\",SUMIF('الرصيد الثابت'!$D$2:$D$106,B2490,'الرصيد الثابت'!$I$2:$I$106))","v":""},{"$f":"IF(B2490=\"\",\"\",SUMIF('الرصيد الثابت'!$D$2:$D$106,B2490,'الرصيد الثابت'!$J$2:$J$106))","v":""},null,0,null,null,null,null,0,null,null,null,0,null,0]
["",null,{"$f":"IF(B2491=\"\",\"\",SUMIF('الرصيد الثابت'!$D$2:$D$106,B2491,'الرصيد الثابت'!$H$2:$H$106))","v":""},{"$f":"IF(B2491=\"\",\"\",SUMIF('الرصيد الثابت'!$D$2:$D$106,B2491,'الرصيد الثابت'!$I$2:$I$106))","v":""},{"$f":"IF(B2491=\"\",\"\",SUMIF('الرصيد الثابت'!$D$2:$D$106,B2491,'الرصيد الثابت'!$J$2:$J$106))","v":""},null,0,null,null,null,null,0,null,null,null,0,null,0]
["",null,{"$f":"IF(B2492=\"\",\"\",SUMIF('الرصيد الثابت'!$D$2:$D$106,B2492,'الرصيد الثابت'!$H$2:$H$106))","v":""},{"$f":"IF(B2492=\"\",\"\",SUMIF('الرصيد الثابت'!$D$2:$D$106,B2492,'الرصيد الثابت'!$I$2:$I$106))","v":""},{"$f":"IF(B2492=\"\",\"\",SUMIF('الرصيد الثابت'!$D$2:$D$106,B2492,'الرصيد الثابت'!$J$2:$J$106))","v":""},null,0,null,null,null,null,0,null,null,null,0,null,0]
["",null,{"$f":"IF(B2493=\"\",\"\",SUMIF('الرصيد الثابت'!$D$2:$D$106,B2493,'الرصيد الثابت'!$H$2:$H$106))","v":""},{"$f":"IF(B2493=\"\",\"\",SUMIF('الرصيد الثابت'!$D$2:$D$106,B2493,'الرصيد الثابت'!$I$2:$I$106))","v":""},{"$f":"IF(B2493=\"\",\"\",SUMIF('الرصيد الثابت'!$D$2:$D$106,B2493,'الرصيد الثابت'!$J$2:$J$106))","v":""},null,0,null,null,null,null,0,null,null,null,0,null,0]
["",null,{"$f":"IF(B2494=\"\",\"\",SUMIF('الرصيد الثابت'!$D$2:$D$106,B2494,'الرصيد الثابت'!$H$2:$H$106))","v":""},{"$f":"IF(B2494=\"\",\"\",SUMIF('الرصيد الثابت'!$D$2:$D$106,B2494,'الرصيد الثابت'!$I$2:$I$106))","v":""},{"$f":"IF(B2494=\"\",\"\",SUMIF('الرصيد الثابت'!$D$2:$D$106,B2494,'الرصيد الثابت'!$J$2:$J$106))","v":""},null,0,null,null,null,null,0,null,null,null,0,null,0]
["",null,{"$f":"IF(B2495=\"\",\"\",SUMIF('الرصيد الثابت'!$D$2:$D$106,B2495,'الرصيد الثابت'!$H$2:$H$106))","v":""},{"$f":"IF(B2495=\"\",\"\",SUMIF('الرصيد الثابت'!$D$2:$D$106,B2495,'الرصيد الثابت'!$I$2:$I$106))","v":""},{"$f":"IF(B2495=\"\",\"\",SUMIF('الرصيد الثابت'!$D$2:$D$106,B2495,'الرصيد الثابت'!$J$2:$J$106))","v":""},null,0,null,null,null,null,0,null,null,null,0,null,0]
["",null,{"$f":"IF(B2496=\"\",\"\",SUMIF('الرصيد الثابت'!$D$2:$D$106,B2496,'الرصيد الثابت'!$H$2:$H$106))","v":""},{"$f":"IF(B2496=\"\",\"\",SUMIF('الرصيد الثابت'!$D$2:$D$106,B2496,'الرصيد الثابت'!$I$2:$I$106))","v":""},{"$f":"IF(B2496=\"\",\"\",SUMIF('الرصيد الثابت'!$D$2:$D$106,B2496,'الرصيد الثابت'!$J$2:$J$106))","v":""},null,0,null,null,null,null,0,null,null,null,0,null,0]
["",null,{"$f":"IF(B2497=\"\",\"\",SUMIF('الرصيد الثابت'!$D$2:$D$106,B2497,'الرصيد الثابت'!$H$2:$H$106))","v":""},{"$f":"IF(B2497=\"\",\"\",SUMIF('الرصيد الثابت'!$D$2:$D$106,B2497,'الرصيد الثابت'!$I$2:$I$106))","v":""},{"$f":"IF(B2497=\"\",\"\",SUMIF('الرصيد الثابت'!$D$2:$D$106,B2497,'الرصيد الثابت'!$J$2:$J$106))","v":""},null,0,null,null,null,null,0,null,null,null,0,null,0]
["",null,{"$f":"IF(B2498=\"\",\"\",SUMIF('الرصيد الثابت'!$D$2:$D$106,B2498,'الرصيد الثابت'!$H$2:$H$106))","v":""},{"$f":"IF(B2498=\"\",\"\",SUMIF('الرصيد الثابت'!$D$2:$D$106,B2498,'الرصيد الثابت'!$I$2:$I$106))","v":""},{"$f":"IF(B2498=\"\",\"\",SUMIF('الرصيد الثابت'!$D$2:$D$106,B2498,'الرصيد الثابت'!$J$2:$J$106))","v":""},null,0,null,null,null,null,0,null,null,null,0,null,0]
["",null,{"$f":"IF(B2499=\"\",\"\",SUMIF('الرصيد الثابت'!$D$2:$D$106,B2499,'الرصيد الثابت'!$H$2:$H$106))","v":""},{"$f":"IF(B2499=\"\",\"\",SUMIF('الرصيد الثابت'!$D$2:$D$106,B2499,'الرصيد الثابت'!$I$2:$I$106))","v":""},{"$f":"IF(B2499=\"\",\"\",SUMIF('الرصيد الثابت'!$D$2:$D$106,B2499,'الرصيد الثابت'!$J$2:$J$106))","v":""},null,0,null,null,null,null,0,null,null,null,0,null,0]
["",null,{"$f":"IF(B2500=\"\",\"\",SUMIF('الرصيد الثابت'!$D$2:$D$106,B2500,'الرصيد الثابت'!$H$2:$H$106))","v":""},{"$f":"IF(B2500=\"\",\"\",SUMIF('الرصيد الثابت'!$D$2:$D$106,B2500,'الرصيد الثابت'!$I$2:$I$106))","v":""},{"$f":"IF(B2500=\"\",\"\",SUMIF('الرصيد الثابت'!$D$2:$D$106,B2500,'الرصيد الثابت'!$J$2:$J$106))","v":""},null,0,null,null,null,null,{"$f":"SUM(M2500*K2500)","v":0},null,null,null,0,null,0]
["",null,{"$f":"IF(B2501=\"\",\"\",SUMIF('الرصيد الثابت'!$D$2:$D$106,B2501,'الرصيد الثابت'!$H$2:$H$106))","v":""},{"$f":"IF(B2501=\"\",\"\",SUMIF('الرصيد الثابت'!$D$2:$D$106,B2501,'الرصيد الثابت'!$I$2:$I$106))","v":""},{"$f":"IF(B2501=\"\",\"\",SUMIF('الرصيد الثابت'!$D$2:$D$106,B2501,'الرصيد الثابت'!$J$2:$J$106))","v":""},null,0,null,null,null,null,0,null,null,null,0,null,0]
["",null,{"$f":"IF(B2502=\"\",\"\",SUMIF('الرصيد الثابت'!$D$2:$D$106,B2502,'الرصيد الثابت'!$H$2:$H$106))","v":""},{"$f":"IF(B2502=\"\",\"\",SUMIF('الرصيد الثابت'!$D$2:$D$106,B2502,'الرصيد الثابت'!$I$2:$I$106))","v":""},{"$f":"IF(B2502=\"\",\"\",SUMIF('الرصيد الثابت'!$D$2:$D$106,B2502,'الرصيد الثابت'!$J$2:$J$106))","v":""},null,0,null,null,null,null,0,null,null,null,0,null,0]
["",null,{"$f":"IF(B2503=\"\",\"\",SUMIF('الرصيد الثابت'!$D$2:$D$106,B2503,'الرصيد الثابت'!$H$2:$H$106))","v":""},{"$f":"IF(B2503=\"\",\"\",SUMIF('الرصيد الثابت'!$D$2:$D$106,B2503,'الرصيد الثابت'!$I$2:$I$106))","v":""},{"$f":"IF(B2503=\"\",\"\",SUMIF('الرصيد الثابت'!$D$2:$D$106,B2503,'الرصيد الثابت'!$J$2:$J$106))","v":""},null,0,null,null,null,null,0,null,null,null,0,null,0]
["",null,{"$f":"IF(B2504=\"\",\"\",SUMIF('الرصيد الثابت'!$D$2:$D$106,B2504,'الرصيد الثابت'!$H$2:$H$106))","v":""},{"$f":"IF(B2504=\"\",\"\",SUMIF('الرصيد الثابت'!$D$2:$D$106,B2504,'الرصيد الثابت'!$I$2:$I$106))","v":""},{"$f":"IF(B2504=\"\",\"\",SUMIF('الرصيد الثابت'!$D$2:$D$106,B2504,'الرصيد الثابت'!$J$2:$J$106))","v":""},null,0,null,null,null,null,0,null,null,null,0,null,0]
["",null,{"$f":"IF(B2505=\"\",\"\",SUMIF('الرصيد الثابت'!$D$2:$D$106,B2505,'الرصيد الثابت'!$H$2:$H$106))","v":""},{"$f":"IF(B2505=\"\",\"\",SUMIF('الرصيد الثابت'!$D$2:$D$106,B2505,'الرصيد الثابت'!$I$2:$I$106))","v":""},{"$f":"IF(B2505=\"\",\"\",SUMIF('الرصيد الثابت'!$D$2:$D$106,B2505,'الرصيد الثابت'!$J$2:$J$106))","v":""},null,0,null,null,null,null,0,null,null,null,0,null,0]
["",null,{"$f":"IF(B2506=\"\",\"\",SUMIF('الرصيد الثابت'!$D$2:$D$106,B2506,'الرصيد الثابت'!$H$2:$H$106))","v":""},{"$f":"IF(B2506=\"\",\"\",SUMIF('الرصيد الثابت'!$D$2:$D$106,B2506,'الرصيد الثابت'!$I$2:$I$106))","v":""},{"$f":"IF(B2506=\"\",\"\",SUMIF('الرصيد الثابت'!$D$2:$D$106,B2506,'الرصيد الثابت'!$J$2:$J$106))","v":""},null,0,null,null,null,null,0,null,null,null,0,null,0]
["",null,{"$f":"IF(B2507=\"\",\"\",SUMIF('الرصيد الثابت'!$D$2:$D$106,B2507,'الرصيد الثابت'!$H$2:$H$106))","v":""},{"$f":"IF(B2507=\"\",\"\",SUMIF('الرصيد الثابت'!$D$2:$D$106,B2507,'الرصيد الثابت'!$I$2:$I$106))","v":""},{"$f":"IF(B2507=\"\",\"\",SUMIF('الرصيد الثابت'!$D$2:$D$106,B2507,'الرصيد الثابت'!$J$2:$J$106))","v":""},null,0,null,null,null,null,0,null,null,null,0,null,0]
["",null,{"$f":"IF(B2508=\"\",\"\",SUMIF('الرصيد الثابت'!$D$2:$D$106,B2508,'الرصيد الثابت'!$H$2:$H$106))","v":""},{"$f":"IF(B2508=\"\",\"\",SUMIF('الرصيد الثابت'!$D$2:$D$106,B2508,'الرصيد الثابت'!$I$2:$I$106))","v":""},{"$f":"IF(B2508=\"\",\"\",SUMIF('الرصيد الثابت'!$D$2:$D$106,B2508,'الرصيد الثابت'!$J$2:$J$106))","v":""},null,0,null,null,null,null,0,null,null,null,0,null,0]
["",null,{"$f":"IF(B2509=\"\",\"\",SUMIF('الرصيد الثابت'!$D$2:$D$106,B2509,'الرصيد الثابت'!$H$2:$H$106))","v":""},{"$f":"IF(B2509=\"\",\"\",SUMIF('الرصيد الثابت'!$D$2:$D$106,B2509,'الرصيد الثابت'!$I$2:$I$106))","v":""},{"$f":"IF(B2509=\"\",\"\",SUMIF('الرصيد الثابت'!$D$2:$D$106,B2509,'الرصيد الثابت'!$J$2:$J$106))","v":""},null,0,null,null,null,null,0,null,null,null,0,null,0]
["",null,{"$f":"IF(B2510=\"\",\"\",SUMIF('الرصيد الثابت'!$D$2:$D$106,B2510,'الرصيد الثابت'!$H$2:$H$106))","v":""},{"$f":"IF(B2510=\"\",\"\",SUMIF('الرصيد الثابت'!$D$2:$D$106,B2510,'الرصيد الثابت'!$I$2:$I$106))","v":""},{"$f":"IF(B2510=\"\",\"\",SUMIF('الرصيد الثابت'!$D$2:$D$106,B2510,'الرصيد الثابت'!$J$2:$J$106))","v":""},null,0,null,null,null,null,0,null,null,null,0,null,0]
["",null,{"$f":"IF(B2511=\"\",\"\",SUMIF('الرصيد الثابت'!$D$2:$D$106,B2511,'الرصيد الثابت'!$H$2:$H$106))","v":""},{"$f":"IF(B2511=\"\",\"\",SUMIF('الرصيد الثابت'!$D$2:$D$106,B2511,'الرصيد الثابت'!$I$2:$I$106))","v":""},{"$f":"IF(B2511=\"\",\"\",SUMIF('الرصيد الثابت'!$D$2:$D$106,B2511,'الرصيد الثابت'!$J$2:$J$106))","v":""},null,0,null,null,null,null,0,null,null,null,0,null,0]
["",null,{"$f":"IF(B2512=\"\",\"\",SUMIF('الرصيد الثابت'!$D$2:$D$106,B2512,'الرصيد الثابت'!$H$2:$H$106))","v":""},{"$f":"IF(B2512=\"\",\"\",SUMIF('الرصيد الثابت'!$D$2:$D$106,B2512,'الرصيد الثابت'!$I$2:$I$106))","v":""},{"$f":"IF(B2512=\"\",\"\",SUMIF('الرصيد الثابت'!$D$2:$D$106,B2512,'الرصيد الثابت'!$J$2:$J$106))","v":""},null,0,null,null,null,null,0,null,null,null,0,null,0]
["",null,{"$f":"IF(B2513=\"\",\"\",SUMIF('الرصيد الثابت'!$D$2:$D$106,B2513,'الرصيد الثابت'!$H$2:$H$106))","v":""},{"$f":"IF(B2513=\"\",\"\",SUMIF('الرصيد الثابت'!$D$2:$D$106,B2513,'الرصيد الثابت'!$I$2:$I$106))","v":""},{"$f":"IF(B2513=\"\",\"\",SUMIF('الرصيد الثابت'!$D$2:$D$106,B2513,'الرصيد الثابت'!$J$2:$J$106))","v":""},null,0,null,null,null,null,0,null,null,null,0,null,0]
["",null,{"$f":"IF(B2514=\"\",\"\",SUMIF('الرصيد الثابت'!$D$2:$D$106,B2514,'الرصيد الثابت'!$H$2:$H$106))","v":""},{"$f":"IF(B2514=\"\",\"\",SUMIF('الرصيد الثابت'!$D$2:$D$106,B2514,'الرصيد الثابت'!$I$2:$I$106))","v":""},{"$f":"IF(B2514=\"\",\"\",SUMIF('الرصيد الثابت'!$D$2:$D$106,B2514,'الرصيد الثابت'!$J$2:$J$106))","v":""},null,0,null,null,null,null,0,null,null,null,0,null,0]
["",null,{"$f":"IF(B2515=\"\",\"\",SUMIF('الرصيد الثابت'!$D$2:$D$106,B2515,'الرصيد الثابت'!$H$2:$H$106))","v":""},{"$f":"IF(B2515=\"\",\"\",SUMIF('الرصيد الثابت'!$D$2:$D$106,B2515,'الرصيد الثابت'!$I$2:$I$106))","v":""},{"$f":"IF(B2515=\"\",\"\",SUMIF('الرصيد الثابت'!$D$2:$D$106,B2515,'الرصيد الثابت'!$J$2:$J$106))","v":""},null,0,null,null,null,null,0,null,null,null,0,null,0]
["",null,{"$f":"IF(B2516=\"\",\"\",SUMIF('الرصيد الثابت'!$D$2:$D$106,B2516,'الرصيد الثابت'!$H$2:$H$106))","v":""},{"$f":"IF(B2516=\"\",\"\",SUMIF('الرصيد الثابت'!$D$2:$D$106,B2516,'الرصيد الثابت'!$I$2:$I$106))","v":""},{"$f":"IF(B2516=\"\",\"\",SUMIF('الرصيد الثابت'!$D$2:$D$106,B2516,'الرصيد الثابت'!$J$2:$J$106))","v":""},null,0,null,null,null,null,0,null,null,null,0,null,0]
["",null,{"$f":"IF(B2517=\"\",\"\",SUMIF('الرصيد الثابت'!$D$2:$D$106,B2517,'الرصيد الثابت'!$H$2:$H$106))","v":""},{"$f":"IF(B2517=\"\",\"\",SUMIF('الرصيد الثابت'!$D$2:$D$106,B2517,'الرصيد الثابت'!$I$2:$I$106))","v":""},{"$f":"IF(B2517=\"\",\"\",SUMIF('الرصيد الثابت'!$D$2:$D$106,B2517,'الرصيد الثابت'!$J$2:$J$106))","v":""},null,0,null,null,null,null,0,null,null,null,0,null,0]
["",null,{"$f":"IF(B2518=\"\",\"\",SUMIF('الرصيد الثابت'!$D$2:$D$106,B2518,'الرصيد الثابت'!$H$2:$H$106))","v":""},{"$f":"IF(B2518=\"\",\"\",SUMIF('الرصيد الثابت'!$D$2:$D$106,B2518,'الرصيد الثابت'!$I$2:$I$106))","v":""},{"$f":"IF(B2518=\"\",\"\",SUMIF('الرصيد الثابت'!$D$2:$D$106,B2518,'الرصيد الثابت'!$J$2:$J$106))","v":""},null,0,null,null,null,null,0,null,null,null,0,null,0]
["",null,{"$f":"IF(B2519=\"\",\"\",SUMIF('الرصيد الثابت'!$D$2:$D$106,B2519,'الرصيد الثابت'!$H$2:$H$106))","v":""},{"$f":"IF(B2519=\"\",\"\",SUMIF('الرصيد الثابت'!$D$2:$D$106,B2519,'الرصيد الثابت'!$I$2:$I$106))","v":""},{"$f":"IF(B2519=\"\",\"\",SUMIF('الرصيد الثابت'!$D$2:$D$106,B2519,'الرصيد الثابت'!$J$2:$J$106))","v":""},null,0,null,null,null,null,0,null,null,null,0,null,0]
["",null,{"$f":"IF(B2520=\"\",\"\",SUMIF('الرصيد الثابت'!$D$2:$D$106,B2520,'الرصيد الثابت'!$H$2:$H$106))","v":""},{"$f":"IF(B2520=\"\",\"\",SUMIF('الرصيد الثابت'!$D$2:$D$106,B2520,'الرصيد الثابت'!$I$2:$I$106))","v":""},{"$f":"IF(B2520=\"\",\"\",SUMIF('الرصيد الثابت'!$D$2:$D$106,B2520,'الرصيد الثابت'!$J$2:$J$106))","v":""},null,{"$f":"SUM(H212590*F212590)","v":0},null,null,null,null,0,null,null,null,{"$f":"SUM(F212590-K212590)","v":0},null,{"$f":"SUM(S212590*Q212590)","v":0}]
["",null,{"$f":"IF(B2521=\"\",\"\",SUMIF('الرصيد الثابت'!$D$2:$D$106,B2521,'الرصيد الثابت'!$H$2:$H$106))","v":""},{"$f":"IF(B2521=\"\",\"\",SUMIF('الرصيد الثابت'!$D$2:$D$106,B2521,'الرصيد الثابت'!$I$2:$I$106))","v":""},{"$f":"IF(B2521=\"\",\"\",SUMIF('الرصيد الثابت'!$D$2:$D$106,B2521,'الرصيد الثابت'!$J$2:$J$106))","v":""},null,0,null,null,null,null,0,null,null,null,0,null,0]
["",null,{"$f":"IF(B2522=\"\",\"\",SUMIF('الرصيد الثابت'!$D$2:$D$106,B2522,'الرصيد الثابت'!$H$2:$H$106))","v":""},{"$f":"IF(B2522=\"\",\"\",SUMIF('الرصيد الثابت'!$D$2:$D$106,B2522,'الرصيد الثابت'!$I$2:$I$106))","v":""},{"$f":"IF(B2522=\"\",\"\",SUMIF('الرصيد الثابت'!$D$2:$D$106,B2522,'الرصيد الثابت'!$J$2:$J$106))","v":""},null,0,null,null,null,null,0,null,null,null,0,null,0]
["",null,{"$f":"IF(B2523=\"\",\"\",SUMIF('الرصيد الثابت'!$D$2:$D$106,B2523,'الرصيد الثابت'!$H$2:$H$106))","v":""},{"$f":"IF(B2523=\"\",\"\",SUMIF('الرصيد الثابت'!$D$2:$D$106,B2523,'الرصيد الثابت'!$I$2:$I$106))","v":""},{"$f":"IF(B2523=\"\",\"\",SUMIF('الرصيد الثابت'!$D$2:$D$106,B2523,'الرصيد الثابت'!$J$2:$J$106))","v":""},null,0,null,null,null,null,0,null,null,null,0,null,0]
["",null,{"$f":"IF(B2524=\"\",\"\",SUMIF('الرصيد الثابت'!$D$2:$D$106,B2524,'الرصيد الثابت'!$H$2:$H$106))","v":""},{"$f":"IF(B2524=\"\",\"\",SUMIF('الرصيد الثابت'!$D$2:$D$106,B2524,'الرصيد الثابت'!$I$2:$I$106))","v":""},{"$f":"IF(B2524=\"\",\"\",SUMIF('الرصيد الثابت'!$D$2:$D$106,B2524,'الرصيد الثابت'!$J$2:$J$106))","v":""},null,0,null,null,null,null,0,null,null,null,0,null,0]
["",null,{"$f":"IF(B2525=\"\",\"\",SUMIF('الرصيد الثابت'!$D$2:$D$106,B2525,'الرصيد الثابت'!$H$2:$H$106))","v":""},{"$f":"IF(B2525=\"\",\"\",SUMIF('الرصيد الثابت'!$D$2:$D$106,B2525,'الرصيد الثابت'!$I$2:$I$106))","v":""},{"$f":"IF(B2525=\"\",\"\",SUMIF('الرصيد الثابت'!$D$2:$D$106,B2525,'الرصيد الثابت'!$J$2:$J$106))","v":""},null,0,null,null,null,null,0,null,null,null,0,null,0]
["",null,{"$f":"IF(B2526=\"\",\"\",SUMIF('الرصيد الثابت'!$D$2:$D$106,B2526,'الرصيد الثابت'!$H$2:$H$106))","v":""},{"$f":"IF(B2526=\"\",\"\",SUMIF('الرصيد الثابت'!$D$2:$D$106,B2526,'الرصيد الثابت'!$I$2:$I$106))","v":""},{"$f":"IF(B2526=\"\",\"\",SUMIF('الرصيد الثابت'!$D$2:$D$106,B2526,'الرصيد الثابت'!$J$2:$J$106))","v":""},null,0,null,null,null,null,0,null,null,null,0,null,0]
["",null,{"$f":"IF(B2527=\"\",\"\",SUMIF('الرصيد الثابت'!$D$2:$D$106,B2527,'الرصيد الثابت'!$H$2:$H$106))","v":""},{"$f":"IF(B2527=\"\",\"\",SUMIF('الرصيد الثابت'!$D$2:$D$106,B2527,'الرصيد الثابت'!$I$2:$I$106))","v":""},{"$f":"IF(B2527=\"\",\"\",SUMIF('الرصيد الثابت'!$D$2:$D$106,B2527,'الرصيد الثابت'!$J$2:$J$106))","v":""},null,0,null,null,null,null,0,null,null,null,0,null,0]
[{"$f":"IF(B2528<>\"\",IF(A2528=\"\",NOW(),A2528),\"\")","v":""},null,{"$f":"IF(B2528=\"\",\"\",SUMIF('الرصيد الثابت'!$D$2:$D$106,B2528,'الرصيد الثابت'!$H$2:$H$106))","v":""},{"$f":"IF(B2528=\"\",\"\",SUMIF('الرصيد الثابت'!$D$2:$D$106,B2528,'الرصيد الثابت'!$I$2:$I$106))","v":""},{"$f":"IF(B2528=\"\",\"\",SUMIF('الرصيد الثابت'!$D$2:$D$106,B2528,'الرصيد الثابت'!$J$2:$J$106))","v":""},null,0,null,null,null,null,0,null,null,null,0,null,0]
["",null,{"$f":"IF(B2529=\"\",\"\",SUMIF('الرصيد الثابت'!$D$2:$D$106,B2529,'الرصيد الثابت'!$H$2:$H$106))","v":""},{"$f":"IF(B2529=\"\",\"\",SUMIF('الرصيد الثابت'!$D$2:$D$106,B2529,'الرصيد الثابت'!$I$2:$I$106))","v":""},{"$f":"IF(B2529=\"\",\"\",SUMIF('الرصيد الثابت'!$D$2:$D$106,B2529,'الرصيد الثابت'!$J$2:$J$106))","v":""},null,0,null,null,null,null,0,null,null,null,0,null,0]
["",null,{"$f":"IF(B2530=\"\",\"\",SUMIF('الرصيد الثابت'!$D$2:$D$106,B2530,'الرصيد الثابت'!$H$2:$H$106))","v":""},{"$f":"IF(B2530=\"\",\"\",SUMIF('الرصيد الثابت'!$D$2:$D$106,B2530,'الرصيد الثابت'!$I$2:$I$106))","v":""},{"$f":"IF(B2530=\"\",\"\",SUMIF('الرصيد الثابت'!$D$2:$D$106,B2530,'الرصيد الثابت'!$J$2:$J$106))","v":""},null,{"$f":"SUM(H2530*F2530)","v":0},null,null,null,null,0,null,null,null,{"$f":"SUM(F2530-K2530)","v":0},null,{"$f":"SUM(S2530*Q2530)","v":0}]
["",null,{"$f":"IF(B2531=\"\",\"\",SUMIF('الرصيد الثابت'!$D$2:$D$106,B2531,'الرصيد الثابت'!$H$2:$H$106))","v":""},{"$f":"IF(B2531=\"\",\"\",SUMIF('الرصيد الثابت'!$D$2:$D$106,B2531,'الرصيد الثابت'!$I$2:$I$106))","v":""},{"$f":"IF(B2531=\"\",\"\",SUMIF('الرصيد الثابت'!$D$2:$D$106,B2531,'الرصيد الثابت'!$J$2:$J$106))","v":""},null,0,null,null,null,null,0,null,null,null,0,null,0]
["",null,{"$f":"IF(B2532=\"\",\"\",SUMIF('الرصيد الثابت'!$D$2:$D$106,B2532,'الرصيد الثابت'!$H$2:$H$106))","v":""},{"$f":"IF(B2532=\"\",\"\",SUMIF('الرصيد الثابت'!$D$2:$D$106,B2532,'الرصيد الثابت'!$I$2:$I$106))","v":""},{"$f":"IF(B2532=\"\",\"\",SUMIF('الرصيد الثابت'!$D$2:$D$106,B2532,'الرصيد الثابت'!$J$2:$J$106))","v":""},null,0,null,null,null,null,0,null,null,null,0,null,0]
["",null,{"$f":"IF(B2533=\"\",\"\",SUMIF('الرصيد الثابت'!$D$2:$D$106,B2533,'الرصيد الثابت'!$H$2:$H$106))","v":""},{"$f":"IF(B2533=\"\",\"\",SUMIF('الرصيد الثابت'!$D$2:$D$106,B2533,'الرصيد الثابت'!$I$2:$I$106))","v":""},{"$f":"IF(B2533=\"\",\"\",SUMIF('الرصيد الثابت'!$D$2:$D$106,B2533,'الرصيد الثابت'!$J$2:$J$106))","v":""},null,0,null,null,null,null,0,null,null,null,0,null,0]
["",null,{"$f":"IF(B2534=\"\",\"\",SUMIF('الرصيد الثابت'!$D$2:$D$106,B2534,'الرصيد الثابت'!$H$2:$H$106))","v":""},{"$f":"IF(B2534=\"\",\"\",SUMIF('الرصيد الثابت'!$D$2:$D$106,B2534,'الرصيد الثابت'!$I$2:$I$106))","v":""},{"$f":"IF(B2534=\"\",\"\",SUMIF('الرصيد الثابت'!$D$2:$D$106,B2534,'الرصيد الثابت'!$J$2:$J$106))","v":""},null,0,null,null,null,null,0,null,null,null,0,null,0]
["",null,{"$f":"IF(B2535=\"\",\"\",SUMIF('الرصيد الثابت'!$D$2:$D$106,B2535,'الرصيد الثابت'!$H$2:$H$106))","v":""},{"$f":"IF(B2535=\"\",\"\",SUMIF('الرصيد الثابت'!$D$2:$D$106,B2535,'الرصيد الثابت'!$I$2:$I$106))","v":""},{"$f":"IF(B2535=\"\",\"\",SUMIF('الرصيد الثابت'!$D$2:$D$106,B2535,'الرصيد الثابت'!$J$2:$J$106))","v":""},null,0,null,null,null,null,0,null,null,null,0,null,0]
["",null,{"$f":"IF(B2536=\"\",\"\",SUMIF('الرصيد الثابت'!$D$2:$D$106,B2536,'الرصيد الثابت'!$H$2:$H$106))","v":""},{"$f":"IF(B2536=\"\",\"\",SUMIF('الرصيد الثابت'!$D$2:$D$106,B2536,'الرصيد الثابت'!$I$2:$I$106))","v":""},{"$f":"IF(B2536=\"\",\"\",SUMIF('الرصيد الثابت'!$D$2:$D$106,B2536,'الرصيد الثابت'!$J$2:$J$106))","v":""},null,0,null,null,null,null,0,null,null,null,0,null,0]
["",null,{"$f":"IF(B2537=\"\",\"\",SUMIF('الرصيد الثابت'!$D$2:$D$106,B2537,'الرصيد الثابت'!$H$2:$H$106))","v":""},{"$f":"IF(B2537=\"\",\"\",SUMIF('الرصيد الثابت'!$D$2:$D$106,B2537,'الرصيد الثابت'!$I$2:$I$106))","v":""},{"$f":"IF(B2537=\"\",\"\",SUMIF('الرصيد الثابت'!$D$2:$D$106,B2537,'الرصيد الثابت'!$J$2:$J$106))","v":""},null,0,null,null,null,null,0,null,null,null,0,null,0]
["",null,{"$f":"IF(B2538=\"\",\"\",SUMIF('الرصيد الثابت'!$D$2:$D$106,B2538,'الرصيد الثابت'!$H$2:$H$106))","v":""},{"$f":"IF(B2538=\"\",\"\",SUMIF('الرصيد الثابت'!$D$2:$D$106,B2538,'الرصيد الثابت'!$I$2:$I$106))","v":""},{"$f":"IF(B2538=\"\",\"\",SUMIF('الرصيد الثابت'!$D$2:$D$106,B2538,'الرصيد الثابت'!$J$2:$J$106))","v":""},null,0,null,null,null,null,0,null,null,null,0,null,0]
["",null,{"$f":"IF(B2539=\"\",\"\",SUMIF('الرصيد الثابت'!$D$2:$D$106,B2539,'الرصيد الثابت'!$H$2:$H$106))","v":""},{"$f":"IF(B2539=\"\",\"\",SUMIF('الرصيد الثابت'!$D$2:$D$106,B2539,'الرصيد الثابت'!$I$2:$I$106))","v":""},{"$f":"IF(B2539=\"\",\"\",SUMIF('الرصيد الثابت'!$D$2:$D$106,B2539,'الرصيد الثابت'!$J$2:$J$106))","v":""},null,0,null,null,null,null,0,null,null,null,0,null,0]
["",null,{"$f":"IF(B2540=\"\",\"\",SUMIF('الرصيد الثابت'!$D$2:$D$106,B2540,'الرصيد الثابت'!$H$2:$H$106))","v":""},{"$f":"IF(B2540=\"\",\"\",SUMIF('الرصيد الثابت'!$D$2:$D$106,B2540,'الرصيد الثابت'!$I$2:$I$106))","v":""},{"$f":"IF(B2540=\"\",\"\",SUMIF('الرصيد الثابت'!$D$2:$D$106,B2540,'الرصيد الثابت'!$J$2:$J$106))","v":""},null,0,null,null,null,null,0,null,null,null,0,null,0]
["",null,{"$f":"IF(B2541=\"\",\"\",SUMIF('الرصيد الثابت'!$D$2:$D$106,B2541,'الرصيد الثابت'!$H$2:$H$106))","v":""},{"$f":"IF(B2541=\"\",\"\",SUMIF('الرصيد الثابت'!$D$2:$D$106,B2541,'الرصيد الثابت'!$I$2:$I$106))","v":""},{"$f":"IF(B2541=\"\",\"\",SUMIF('الرصيد الثابت'!$D$2:$D$106,B2541,'الرصيد الثابت'!$J$2:$J$106))","v":""},null,0,null,null,null,null,0,null,null,null,0,null,0]
["",null,{"$f":"IF(B2542=\"\",\"\",SUMIF('الرصيد الثابت'!$D$2:$D$106,B2542,'الرصيد الثابت'!$H$2:$H$106))","v":""},{"$f":"IF(B2542=\"\",\"\",SUMIF('الرصيد الثابت'!$D$2:$D$106,B2542,'الرصيد الثابت'!$I$2:$I$106))","v":""},{"$f":"IF(B2542=\"\",\"\",SUMIF('الرصيد الثابت'!$D$2:$D$106,B2542,'الرصيد الثابت'!$J$2:$J$106))","v":""},null,0,null,null,null,null,0,null,null,null,0,null,0]
["",null,{"$f":"IF(B2543=\"\",\"\",SUMIF('الرصيد الثابت'!$D$2:$D$106,B2543,'الرصيد الثابت'!$H$2:$H$106))","v":""},{"$f":"IF(B2543=\"\",\"\",SUMIF('الرصيد الثابت'!$D$2:$D$106,B2543,'الرصيد الثابت'!$I$2:$I$106))","v":""},{"$f":"IF(B2543=\"\",\"\",SUMIF('الرصيد الثابت'!$D$2:$D$106,B2543,'الرصيد الثابت'!$J$2:$J$106))","v":""},null,0,null,null,null,null,0,null,null,null,0,null,0]
["",null,{"$f":"IF(B2544=\"\",\"\",SUMIF('الرصيد الثابت'!$D$2:$D$106,B2544,'الرصيد الثابت'!$H$2:$H$106))","v":""},{"$f":"IF(B2544=\"\",\"\",SUMIF('الرصيد الثابت'!$D$2:$D$106,B2544,'الرصيد الثابت'!$I$2:$I$106))","v":""},{"$f":"IF(B2544=\"\",\"\",SUMIF('الرصيد الثابت'!$D$2:$D$106,B2544,'الرصيد الثابت'!$J$2:$J$106))","v":""},null,0,null,null,null,null,0,null,null,null,0,null,0]
["",null,{"$f":"IF(B2545=\"\",\"\",SUMIF('الرصيد الثابت'!$D$2:$D$106,B2545,'الرصيد الثابت'!$H$2:$H$106))","v":""},{"$f":"IF(B2545=\"\",\"\",SUMIF('الرصيد الثابت'!$D$2:$D$106,B2545,'الرصيد الثابت'!$I$2:$I$106))","v":""},{"$f":"IF(B2545=\"\",\"\",SUMIF('الرصيد الثابت'!$D$2:$D$106,B2545,'الرصيد الثابت'!$J$2:$J$106))","v":""},null,0,null,null,null,null,0,null,null,null,0,null,0]
["",null,{"$f":"IF(B2546=\"\",\"\",SUMIF('الرصيد الثابت'!$D$2:$D$106,B2546,'الرصيد الثابت'!$H$2:$H$106))","v":""},{"$f":"IF(B2546=\"\",\"\",SUMIF('الرصيد الثابت'!$D$2:$D$106,B2546,'الرصيد الثابت'!$I$2:$I$106))","v":""},{"$f":"IF(B2546=\"\",\"\",SUMIF('الرصيد الثابت'!$D$2:$D$106,B2546,'الرصيد الثابت'!$J$2:$J$106))","v":""},null,0,null,null,null,null,0,null,null,null,0,null,0]
["",null,{"$f":"IF(B2547=\"\",\"\",SUMIF('الرصيد الثابت'!$D$2:$D$106,B2547,'الرصيد الثابت'!$H$2:$H$106))","v":""},{"$f":"IF(B2547=\"\",\"\",SUMIF('الرصيد الثابت'!$D$2:$D$106,B2547,'الرصيد الثابت'!$I$2:$I$106))","v":""},{"$f":"IF(B2547=\"\",\"\",SUMIF('الرصيد الثابت'!$D$2:$D$106,B2547,'الرصيد الثابت'!$J$2:$J$106))","v":""},null,0,null,null,null,null,0,null,null,null,0,null,0]
["",null,{"$f":"IF(B2548=\"\",\"\",SUMIF('الرصيد الثابت'!$D$2:$D$106,B2548,'الرصيد الثابت'!$H$2:$H$106))","v":""},{"$f":"IF(B2548=\"\",\"\",SUMIF('الرصيد الثابت'!$D$2:$D$106,B2548,'الرصيد الثابت'!$I$2:$I$106))","v":""},{"$f":"IF(B2548=\"\",\"\",SUMIF('الرصيد الثابت'!$D$2:$D$106,B2548,'الرصيد الثابت'!$J$2:$J$106))","v":""},null,0,null,null,null,null,0,null,null,null,0,null,0]
["",null,{"$f":"IF(B2549=\"\",\"\",SUMIF('الرصيد الثابت'!$D$2:$D$106,B2549,'الرصيد الثابت'!$H$2:$H$106))","v":""},{"$f":"IF(B2549=\"\",\"\",SUMIF('الرصيد الثابت'!$D$2:$D$106,B2549,'الرصيد الثابت'!$I$2:$I$106))","v":""},{"$f":"IF(B2549=\"\",\"\",SUMIF('الرصيد الثابت'!$D$2:$D$106,B2549,'الرصيد الثابت'!$J$2:$J$106))","v":""},null,0,null,null,null,null,0,null,null,null,0,null,0]
["",null,{"$f":"IF(B2550=\"\",\"\",SUMIF('الرصيد الثابت'!$D$2:$D$106,B2550,'الرصيد الثابت'!$H$2:$H$106))","v":""},{"$f":"IF(B2550=\"\",\"\",SUMIF('الرصيد الثابت'!$D$2:$D$106,B2550,'الرصيد الثابت'!$I$2:$I$106))","v":""},{"$f":"IF(B2550=\"\",\"\",SUMIF('الرصيد الثابت'!$D$2:$D$106,B2550,'الرصيد الثابت'!$J$2:$J$106))","v":""},null,0,null,null,null,null,0,null,null,null,0,null,0]
["",null,{"$f":"IF(B2551=\"\",\"\",SUMIF('الرصيد الثابت'!$D$2:$D$106,B2551,'الرصيد الثابت'!$H$2:$H$106))","v":""},{"$f":"IF(B2551=\"\",\"\",SUMIF('الرصيد الثابت'!$D$2:$D$106,B2551,'الرصيد الثابت'!$I$2:$I$106))","v":""},{"$f":"IF(B2551=\"\",\"\",SUMIF('الرصيد الثابت'!$D$2:$D$106,B2551,'الرصيد الثابت'!$J$2:$J$106))","v":""},null,0,null,null,null,null,0,null,null,null,0,null,0]
["",null,{"$f":"IF(B2552=\"\",\"\",SUMIF('الرصيد الثابت'!$D$2:$D$106,B2552,'الرصيد الثابت'!$H$2:$H$106))","v":""},{"$f":"IF(B2552=\"\",\"\",SUMIF('الرصيد الثابت'!$D$2:$D$106,B2552,'الرصيد الثابت'!$I$2:$I$106))","v":""},{"$f":"IF(B2552=\"\",\"\",SUMIF('الرصيد الثابت'!$D$2:$D$106,B2552,'الرصيد الثابت'!$J$2:$J$106))","v":""},null,{"$f":"SUM(H244590*F244590)","v":0},null,null,null,null,0,null,null,null,{"$f":"SUM(F244590-K244590)","v":0},null,{"$f":"SUM(S244590*Q244590)","v":0}]
["",null,{"$f":"IF(B2553=\"\",\"\",SUMIF('الرصيد الثابت'!$D$2:$D$106,B2553,'الرصيد الثابت'!$H$2:$H$106))","v":""},{"$f":"IF(B2553=\"\",\"\",SUMIF('الرصيد الثابت'!$D$2:$D$106,B2553,'الرصيد الثابت'!$I$2:$I$106))","v":""},{"$f":"IF(B2553=\"\",\"\",SUMIF('الرصيد الثابت'!$D$2:$D$106,B2553,'الرصيد الثابت'!$J$2:$J$106))","v":""},null,0,null,null,null,null,0,null,null,null,0,null,0]
["",null,{"$f":"IF(B2554=\"\",\"\",SUMIF('الرصيد الثابت'!$D$2:$D$106,B2554,'الرصيد الثابت'!$H$2:$H$106))","v":""},{"$f":"IF(B2554=\"\",\"\",SUMIF('الرصيد الثابت'!$D$2:$D$106,B2554,'الرصيد الثابت'!$I$2:$I$106))","v":""},{"$f":"IF(B2554=\"\",\"\",SUMIF('الرصيد الثابت'!$D$2:$D$106,B2554,'الرصيد الثابت'!$J$2:$J$106))","v":""},null,0,null,null,null,null,0,null,null,null,0,null,0]
["",null,{"$f":"IF(B2555=\"\",\"\",SUMIF('الرصيد الثابت'!$D$2:$D$106,B2555,'الرصيد الثابت'!$H$2:$H$106))","v":""},{"$f":"IF(B2555=\"\",\"\",SUMIF('الرصيد الثابت'!$D$2:$D$106,B2555,'الرصيد الثابت'!$I$2:$I$106))","v":""},{"$f":"IF(B2555=\"\",\"\",SUMIF('الرصيد الثابت'!$D$2:$D$106,B2555,'الرصيد الثابت'!$J$2:$J$106))","v":""},null,0,null,null,null,null,0,null,null,null,0,null,0]
["",null,{"$f":"IF(B2556=\"\",\"\",SUMIF('الرصيد الثابت'!$D$2:$D$106,B2556,'الرصيد الثابت'!$H$2:$H$106))","v":""},{"$f":"IF(B2556=\"\",\"\",SUMIF('الرصيد الثابت'!$D$2:$D$106,B2556,'الرصيد الثابت'!$I$2:$I$106))","v":""},{"$f":"IF(B2556=\"\",\"\",SUMIF('الرصيد الثابت'!$D$2:$D$106,B2556,'الرصيد الثابت'!$J$2:$J$106))","v":""},null,0,null,null,null,null,0,null,null,null,0,null,0]
["",null,{"$f":"IF(B2557=\"\",\"\",SUMIF('الرصيد الثابت'!$D$2:$D$106,B2557,'الرصيد الثابت'!$H$2:$H$106))","v":""},{"$f":"IF(B2557=\"\",\"\",SUMIF('الرصيد الثابت'!$D$2:$D$106,B2557,'الرصيد الثابت'!$I$2:$I$106))","v":""},{"$f":"IF(B2557=\"\",\"\",SUMIF('الرصيد الثابت'!$D$2:$D$106,B2557,'الرصيد الثابت'!$J$2:$J$106))","v":""},null,0,null,null,null,null,0,null,null,null,0,null,0]
["",null,{"$f":"IF(B2558=\"\",\"\",SUMIF('الرصيد الثابت'!$D$2:$D$106,B2558,'الرصيد الثابت'!$H$2:$H$106))","v":""},{"$f":"IF(B2558=\"\",\"\",SUMIF('الرصيد الثابت'!$D$2:$D$106,B2558,'الرصيد الثابت'!$I$2:$I$106))","v":""},{"$f":"IF(B2558=\"\",\"\",SUMIF('الرصيد الثابت'!$D$2:$D$106,B2558,'الرصيد الثابت'!$J$2:$J$106))","v":""},null,0,null,null,null,null,0,null,null,null,0,null,0]
["",null,{"$f":"IF(B2559=\"\",\"\",SUMIF('الرصيد الثابت'!$D$2:$D$106,B2559,'الرصيد الثابت'!$H$2:$H$106))","v":""},{"$f":"IF(B2559=\"\",\"\",SUMIF('الرصيد الثابت'!$D$2:$D$106,B2559,'الرصيد الثابت'!$I$2:$I$106))","v":""},{"$f":"IF(B2559=\"\",\"\",SUMIF('الرصيد الثابت'!$D$2:$D$106,B2559,'الرصيد الثابت'!$J$2:$J$106))","v":""},null,0,null,null,null,null,0,null,null,null,0,null,0]
["",null,{"$f":"IF(B2560=\"\",\"\",SUMIF('الرصيد الثابت'!$D$2:$D$106,B2560,'الرصيد الثابت'!$H$2:$H$106))","v":""},{"$f":"IF(B2560=\"\",\"\",SUMIF('الرصيد الثابت'!$D$2:$D$106,B2560,'الرصيد الثابت'!$I$2:$I$106))","v":""},{"$f":"IF(B2560=\"\",\"\",SUMIF('الرصيد الثابت'!$D$2:$D$106,B2560,'الرصيد الثابت'!$J$2:$J$106))","v":""},null,0,null,null,null,null,0,null,null,null,0,null,0]
["",null,{"$f":"IF(B2561=\"\",\"\",SUMIF('الرصيد الثابت'!$D$2:$D$106,B2561,'الرصيد الثابت'!$H$2:$H$106))","v":""},{"$f":"IF(B2561=\"\",\"\",SUMIF('الرصيد الثابت'!$D$2:$D$106,B2561,'الرصيد الثابت'!$I$2:$I$106))","v":""},{"$f":"IF(B2561=\"\",\"\",SUMIF('الرصيد الثابت'!$D$2:$D$106,B2561,'الرصيد الثابت'!$J$2:$J$106))","v":""},null,0,null,null,null,null,0,null,null,null,0,null,0]
["",null,{"$f":"IF(B2562=\"\",\"\",SUMIF('الرصيد الثابت'!$D$2:$D$106,B2562,'الرصيد الثابت'!$H$2:$H$106))","v":""},{"$f":"IF(B2562=\"\",\"\",SUMIF('الرصيد الثابت'!$D$2:$D$106,B2562,'الرصيد الثابت'!$I$2:$I$106))","v":""},{"$f":"IF(B2562=\"\",\"\",SUMIF('الرصيد الثابت'!$D$2:$D$106,B2562,'الرصيد الثابت'!$J$2:$J$106))","v":""},null,0,null,null,null,null,0,null,null,null,0,null,0]
["",null,{"$f":"IF(B2563=\"\",\"\",SUMIF('الرصيد الثابت'!$D$2:$D$106,B2563,'الرصيد الثابت'!$H$2:$H$106))","v":""},{"$f":"IF(B2563=\"\",\"\",SUMIF('الرصيد الثابت'!$D$2:$D$106,B2563,'الرصيد الثابت'!$I$2:$I$106))","v":""},{"$f":"IF(B2563=\"\",\"\",SUMIF('الرصيد الثابت'!$D$2:$D$106,B2563,'الرصيد الثابت'!$J$2:$J$106))","v":""},null,0,null,null,null,null,0,null,null,null,0,null,0]
["",null,{"$f":"IF(B2564=\"\",\"\",SUMIF('الرصيد الثابت'!$D$2:$D$106,B2564,'الرصيد الثابت'!$H$2:$H$106))","v":""},{"$f":"IF(B2564=\"\",\"\",SUMIF('الرصيد الثابت'!$D$2:$D$106,B2564,'الرصيد الثابت'!$I$2:$I$106))","v":""},{"$f":"IF(B2564=\"\",\"\",SUMIF('الرصيد الثابت'!$D$2:$D$106,B2564,'الرصيد الثابت'!$J$2:$J$106))","v":""},null,0,null,null,null,null,{"$f":"SUM(M2564*K2564)","v":0},null,null,null,0,null,0]
["",null,{"$f":"IF(B2565=\"\",\"\",SUMIF('الرصيد الثابت'!$D$2:$D$106,B2565,'الرصيد الثابت'!$H$2:$H$106))","v":""},{"$f":"IF(B2565=\"\",\"\",SUMIF('الرصيد الثابت'!$D$2:$D$106,B2565,'الرصيد الثابت'!$I$2:$I$106))","v":""},{"$f":"IF(B2565=\"\",\"\",SUMIF('الرصيد الثابت'!$D$2:$D$106,B2565,'الرصيد الثابت'!$J$2:$J$106))","v":""},null,0,null,null,null,null,0,null,null,null,0,null,0]
["",null,{"$f":"IF(B2566=\"\",\"\",SUMIF('الرصيد الثابت'!$D$2:$D$106,B2566,'الرصيد الثابت'!$H$2:$H$106))","v":""},{"$f":"IF(B2566=\"\",\"\",SUMIF('الرصيد الثابت'!$D$2:$D$106,B2566,'الرصيد الثابت'!$I$2:$I$106))","v":""},{"$f":"IF(B2566=\"\",\"\",SUMIF('الرصيد الثابت'!$D$2:$D$106,B2566,'الرصيد الثابت'!$J$2:$J$106))","v":""},null,0,null,null,null,null,0,null,null,null,0,null,0]
["",null,{"$f":"IF(B2567=\"\",\"\",SUMIF('الرصيد الثابت'!$D$2:$D$106,B2567,'الرصيد الثابت'!$H$2:$H$106))","v":""},{"$f":"IF(B2567=\"\",\"\",SUMIF('الرصيد الثابت'!$D$2:$D$106,B2567,'الرصيد الثابت'!$I$2:$I$106))","v":""},{"$f":"IF(B2567=\"\",\"\",SUMIF('الرصيد الثابت'!$D$2:$D$106,B2567,'الرصيد الثابت'!$J$2:$J$106))","v":""},null,0,null,null,null,null,0,null,null,null,0,null,0]
["",null,{"$f":"IF(B2568=\"\",\"\",SUMIF('الرصيد الثابت'!$D$2:$D$106,B2568,'الرصيد الثابت'!$H$2:$H$106))","v":""},{"$f":"IF(B2568=\"\",\"\",SUMIF('الرصيد الثابت'!$D$2:$D$106,B2568,'الرصيد الثابت'!$I$2:$I$106))","v":""},{"$f":"IF(B2568=\"\",\"\",SUMIF('الرصيد الثابت'!$D$2:$D$106,B2568,'الرصيد الثابت'!$J$2:$J$106))","v":""},null,0,null,null,null,null,0,null,null,null,0,null,0]
["",null,{"$f":"IF(B2569=\"\",\"\",SUMIF('الرصيد الثابت'!$D$2:$D$106,B2569,'الرصيد الثابت'!$H$2:$H$106))","v":""},{"$f":"IF(B2569=\"\",\"\",SUMIF('الرصيد الثابت'!$D$2:$D$106,B2569,'الرصيد الثابت'!$I$2:$I$106))","v":""},{"$f":"IF(B2569=\"\",\"\",SUMIF('الرصيد الثابت'!$D$2:$D$106,B2569,'الرصيد الثابت'!$J$2:$J$106))","v":""},null,0,null,null,null,null,0,null,null,null,0,null,0]
["",null,{"$f":"IF(B2570=\"\",\"\",SUMIF('الرصيد الثابت'!$D$2:$D$106,B2570,'الرصيد الثابت'!$H$2:$H$106))","v":""},{"$f":"IF(B2570=\"\",\"\",SUMIF('الرصيد الثابت'!$D$2:$D$106,B2570,'الرصيد الثابت'!$I$2:$I$106))","v":""},{"$f":"IF(B2570=\"\",\"\",SUMIF('الرصيد الثابت'!$D$2:$D$106,B2570,'الرصيد الثابت'!$J$2:$J$106))","v":""},null,0,null,null,null,null,0,null,null,null,0,null,0]
["",null,{"$f":"IF(B2571=\"\",\"\",SUMIF('الرصيد الثابت'!$D$2:$D$106,B2571,'الرصيد الثابت'!$H$2:$H$106))","v":""},{"$f":"IF(B2571=\"\",\"\",SUMIF('الرصيد الثابت'!$D$2:$D$106,B2571,'الرصيد الثابت'!$I$2:$I$106))","v":""},{"$f":"IF(B2571=\"\",\"\",SUMIF('الرصيد الثابت'!$D$2:$D$106,B2571,'الرصيد الثابت'!$J$2:$J$106))","v":""},null,0,null,null,null,null,0,null,null,null,0,null,0]
["",null,{"$f":"IF(B2572=\"\",\"\",SUMIF('الرصيد الثابت'!$D$2:$D$106,B2572,'الرصيد الثابت'!$H$2:$H$106))","v":""},{"$f":"IF(B2572=\"\",\"\",SUMIF('الرصيد الثابت'!$D$2:$D$106,B2572,'الرصيد الثابت'!$I$2:$I$106))","v":""},{"$f":"IF(B2572=\"\",\"\",SUMIF('الرصيد الثابت'!$D$2:$D$106,B2572,'الرصيد الثابت'!$J$2:$J$106))","v":""},null,0,null,null,null,null,0,null,null,null,0,null,0]
["",null,{"$f":"IF(B2573=\"\",\"\",SUMIF('الرصيد الثابت'!$D$2:$D$106,B2573,'الرصيد الثابت'!$H$2:$H$106))","v":""},{"$f":"IF(B2573=\"\",\"\",SUMIF('الرصيد الثابت'!$D$2:$D$106,B2573,'الرصيد الثابت'!$I$2:$I$106))","v":""},{"$f":"IF(B2573=\"\",\"\",SUMIF('الرصيد الثابت'!$D$2:$D$106,B2573,'الرصيد الثابت'!$J$2:$J$106))","v":""},null,0,null,null,null,null,0,null,null,null,0,null,0]
["",null,{"$f":"IF(B2574=\"\",\"\",SUMIF('الرصيد الثابت'!$D$2:$D$106,B2574,'الرصيد الثابت'!$H$2:$H$106))","v":""},{"$f":"IF(B2574=\"\",\"\",SUMIF('الرصيد الثابت'!$D$2:$D$106,B2574,'الرصيد الثابت'!$I$2:$I$106))","v":""},{"$f":"IF(B2574=\"\",\"\",SUMIF('الرصيد الثابت'!$D$2:$D$106,B2574,'الرصيد الثابت'!$J$2:$J$106))","v":""},null,0,null,null,null,null,0,null,null,null,0,null,0]
["",null,{"$f":"IF(B2575=\"\",\"\",SUMIF('الرصيد الثابت'!$D$2:$D$106,B2575,'الرصيد الثابت'!$H$2:$H$106))","v":""},{"$f":"IF(B2575=\"\",\"\",SUMIF('الرصيد الثابت'!$D$2:$D$106,B2575,'الرصيد الثابت'!$I$2:$I$106))","v":""},{"$f":"IF(B2575=\"\",\"\",SUMIF('الرصيد الثابت'!$D$2:$D$106,B2575,'الرصيد الثابت'!$J$2:$J$106))","v":""},null,0,null,null,null,null,0,null,null,null,0,null,0]
["",null,{"$f":"IF(B2576=\"\",\"\",SUMIF('الرصيد الثابت'!$D$2:$D$106,B2576,'الرصيد الثابت'!$H$2:$H$106))","v":""},{"$f":"IF(B2576=\"\",\"\",SUMIF('الرصيد الثابت'!$D$2:$D$106,B2576,'الرصيد الثابت'!$I$2:$I$106))","v":""},{"$f":"IF(B2576=\"\",\"\",SUMIF('الرصيد الثابت'!$D$2:$D$106,B2576,'الرصيد الثابت'!$J$2:$J$106))","v":""},null,0,null,null,null,null,0,null,null,null,0,null,0]
["",null,{"$f":"IF(B2577=\"\",\"\",SUMIF('الرصيد الثابت'!$D$2:$D$106,B2577,'الرصيد الثابت'!$H$2:$H$106))","v":""},{"$f":"IF(B2577=\"\",\"\",SUMIF('الرصيد الثابت'!$D$2:$D$106,B2577,'الرصيد الثابت'!$I$2:$I$106))","v":""},{"$f":"IF(B2577=\"\",\"\",SUMIF('الرصيد الثابت'!$D$2:$D$106,B2577,'الرصيد الثابت'!$J$2:$J$106))","v":""},null,0,null,null,null,null,0,null,null,null,0,null,0]
["",null,{"$f":"IF(B2578=\"\",\"\",SUMIF('الرصيد الثابت'!$D$2:$D$106,B2578,'الرصيد الثابت'!$H$2:$H$106))","v":""},{"$f":"IF(B2578=\"\",\"\",SUMIF('الرصيد الثابت'!$D$2:$D$106,B2578,'الرصيد الثابت'!$I$2:$I$106))","v":""},{"$f":"IF(B2578=\"\",\"\",SUMIF('الرصيد الثابت'!$D$2:$D$106,B2578,'الرصيد الثابت'!$J$2:$J$106))","v":""},null,0,null,null,null,null,0,null,null,null,0,null,0]
["",null,{"$f":"IF(B2579=\"\",\"\",SUMIF('الرصيد الثابت'!$D$2:$D$106,B2579,'الرصيد الثابت'!$H$2:$H$106))","v":""},{"$f":"IF(B2579=\"\",\"\",SUMIF('الرصيد الثابت'!$D$2:$D$106,B2579,'الرصيد الثابت'!$I$2:$I$106))","v":""},{"$f":"IF(B2579=\"\",\"\",SUMIF('الرصيد الثابت'!$D$2:$D$106,B2579,'الرصيد الثابت'!$J$2:$J$106))","v":""},null,0,null,null,null,null,0,null,null,null,0,null,0]
["",null,{"$f":"IF(B2580=\"\",\"\",SUMIF('الرصيد الثابت'!$D$2:$D$106,B2580,'الرصيد الثابت'!$H$2:$H$106))","v":""},{"$f":"IF(B2580=\"\",\"\",SUMIF('الرصيد الثابت'!$D$2:$D$106,B2580,'الرصيد الثابت'!$I$2:$I$106))","v":""},{"$f":"IF(B2580=\"\",\"\",SUMIF('الرصيد الثابت'!$D$2:$D$106,B2580,'الرصيد الثابت'!$J$2:$J$106))","v":""},null,0,null,null,null,null,0,null,null,null,0,null,0]
["",null,{"$f":"IF(B2581=\"\",\"\",SUMIF('الرصيد الثابت'!$D$2:$D$106,B2581,'الرصيد الثابت'!$H$2:$H$106))","v":""},{"$f":"IF(B2581=\"\",\"\",SUMIF('الرصيد الثابت'!$D$2:$D$106,B2581,'الرصيد الثابت'!$I$2:$I$106))","v":""},{"$f":"IF(B2581=\"\",\"\",SUMIF('الرصيد الثابت'!$D$2:$D$106,B2581,'الرصيد الثابت'!$J$2:$J$106))","v":""},null,0,null,null,null,null,0,null,null,null,0,null,0]
["",null,{"$f":"IF(B2582=\"\",\"\",SUMIF('الرصيد الثابت'!$D$2:$D$106,B2582,'الرصيد الثابت'!$H$2:$H$106))","v":""},{"$f":"IF(B2582=\"\",\"\",SUMIF('الرصيد الثابت'!$D$2:$D$106,B2582,'الرصيد الثابت'!$I$2:$I$106))","v":""},{"$f":"IF(B2582=\"\",\"\",SUMIF('الرصيد الثابت'!$D$2:$D$106,B2582,'الرصيد الثابت'!$J$2:$J$106))","v":""},null,0,null,null,null,null,0,null,null,null,0,null,0]
["",null,{"$f":"IF(B2583=\"\",\"\",SUMIF('الرصيد الثابت'!$D$2:$D$106,B2583,'الرصيد الثابت'!$H$2:$H$106))","v":""},{"$f":"IF(B2583=\"\",\"\",SUMIF('الرصيد الثابت'!$D$2:$D$106,B2583,'الرصيد الثابت'!$I$2:$I$106))","v":""},{"$f":"IF(B2583=\"\",\"\",SUMIF('الرصيد الثابت'!$D$2:$D$106,B2583,'الرصيد الثابت'!$J$2:$J$106))","v":""},null,0,null,null,null,null,0,null,null,null,0,null,0]
["",null,{"$f":"IF(B2584=\"\",\"\",SUMIF('الرصيد الثابت'!$D$2:$D$106,B2584,'الرصيد الثابت'!$H$2:$H$106))","v":""},{"$f":"IF(B2584=\"\",\"\",SUMIF('الرصيد الثابت'!$D$2:$D$106,B2584,'الرصيد الثابت'!$I$2:$I$106))","v":""},{"$f":"IF(B2584=\"\",\"\",SUMIF('الرصيد الثابت'!$D$2:$D$106,B2584,'الرصيد الثابت'!$J$2:$J$106))","v":""},null,0,null,null,null,null,0,null,null,null,0,null,0]
["",null,{"$f":"IF(B2585=\"\",\"\",SUMIF('الرصيد الثابت'!$D$2:$D$106,B2585,'الرصيد الثابت'!$H$2:$H$106))","v":""},{"$f":"IF(B2585=\"\",\"\",SUMIF('الرصيد الثابت'!$D$2:$D$106,B2585,'الرصيد الثابت'!$I$2:$I$106))","v":""},{"$f":"IF(B2585=\"\",\"\",SUMIF('الرصيد الثابت'!$D$2:$D$106,B2585,'الرصيد الثابت'!$J$2:$J$106))","v":""},null,0,null,null,null,null,0,null,null,null,0,null,0]
["",null,{"$f":"IF(B2586=\"\",\"\",SUMIF('الرصيد الثابت'!$D$2:$D$106,B2586,'الرصيد الثابت'!$H$2:$H$106))","v":""},{"$f":"IF(B2586=\"\",\"\",SUMIF('الرصيد الثابت'!$D$2:$D$106,B2586,'الرصيد الثابت'!$I$2:$I$106))","v":""},{"$f":"IF(B2586=\"\",\"\",SUMIF('الرصيد الثابت'!$D$2:$D$106,B2586,'الرصيد الثابت'!$J$2:$J$106))","v":""},null,0,null,null,null,null,0,null,null,null,0,null,0]
["",null,{"$f":"IF(B2587=\"\",\"\",SUMIF('الرصيد الثابت'!$D$2:$D$106,B2587,'الرصيد الثابت'!$H$2:$H$106))","v":""},{"$f":"IF(B2587=\"\",\"\",SUMIF('الرصيد الثابت'!$D$2:$D$106,B2587,'الرصيد الثابت'!$I$2:$I$106))","v":""},{"$f":"IF(B2587=\"\",\"\",SUMIF('الرصيد الثابت'!$D$2:$D$106,B2587,'الرصيد الثابت'!$J$2:$J$106))","v":""},null,0,null,null,null,null,0,null,null,null,0,null,0]
["",null,{"$f":"IF(B2588=\"\",\"\",SUMIF('الرصيد الثابت'!$D$2:$D$106,B2588,'الرصيد الثابت'!$H$2:$H$106))","v":""},{"$f":"IF(B2588=\"\",\"\",SUMIF('الرصيد الثابت'!$D$2:$D$106,B2588,'الرصيد الثابت'!$I$2:$I$106))","v":""},{"$f":"IF(B2588=\"\",\"\",SUMIF('الرصيد الثابت'!$D$2:$D$106,B2588,'الرصيد الثابت'!$J$2:$J$106))","v":""},null,0,null,null,null,null,0,null,null,null,0,null,0]
["",null,{"$f":"IF(B2589=\"\",\"\",SUMIF('الرصيد الثابت'!$D$2:$D$106,B2589,'الرصيد الثابت'!$H$2:$H$106))","v":""},{"$f":"IF(B2589=\"\",\"\",SUMIF('الرصيد الثابت'!$D$2:$D$106,B2589,'الرصيد الثابت'!$I$2:$I$106))","v":""},{"$f":"IF(B2589=\"\",\"\",SUMIF('الرصيد الثابت'!$D$2:$D$106,B2589,'الرصيد الثابت'!$J$2:$J$106))","v":""},null,0,null,null,null,null,0,null,null,null,0,null,0]
["",null,{"$f":"IF(B2590=\"\",\"\",SUMIF('الرصيد الثابت'!$D$2:$D$106,B2590,'الرصيد الثابت'!$H$2:$H$106))","v":""},{"$f":"IF(B2590=\"\",\"\",SUMIF('الرصيد الثابت'!$D$2:$D$106,B2590,'الرصيد الثابت'!$I$2:$I$106))","v":""},{"$f":"IF(B2590=\"\",\"\",SUMIF('الرصيد الثابت'!$D$2:$D$106,B2590,'الرصيد الثابت'!$J$2:$J$106))","v":""},null,0,null,null,null,null,0,null,null,null,0,null,0]