{"text_format":"1","workbook":"xlsx","n_sheets":2,"sheets":["الرصيد الثابت","الدخول"],"not_rendered":{"charts":0,"images":0,"macros":1,"external_links":0,"defined_names":9,"comments":0,"pivot_tables":0},"unopened":[],"bounds":{"document_bytes":16777216,"sheet_cells":100000,"rows_first":2000,"rows_last":500,"rows_between":2000,"halvings":0,"cell_chars":16384,"cell_head_chars":4096},"cells_cut":0,"cells_raw":0,"read":"whole","date_system":"1900"}

{"sheet":"الرصيد الثابت","index":0,"n_rows":115,"n_cols":10,"rows_kept":115,"cut":false,"hidden":false,"merged":[]}
["اللون","الوصف","المقاس","اللون","رصيد اقتتاحي بالكيلو","رصيد اقتتاحي بالمتر","رصيد اقتتاحي بالقطع","رصيد ختامي يالكيلو","رصيد ختامي يالمتر","رصيد ختامي يالقطع"]
["ابيض","كروشيه","5.8cm",{"$f":"A2&\" \"&B2&\" \"&C2","v":"ابيض كروشيه 5.8cm"},1000,3000,15000,{"$f":"IF(E2=\"\",\"\",SUMIF(الدخول!$B$3:$B$1311,D2,الدخول!$F$3:$F$1311)+SUMIF(الدخول!$B$3:$B$1311,D2,الدخول!$Q$3:$Q$1311)+E2-SUMIF(الدخول!$B$3:$B$1311,D2,الدخول!$K$3:$K$1311))","v":1005},{"$f":"IF(F2=\"\",\"\",SUMIF(الدخول!$B$3:$B$1311,D2,الدخول!$G$3:$G$1311)+SUMIF(الدخول!$B$3:$B$1311,D2,الدخول!$R$3:$R$1311)+F2-SUMIF(الدخول!$B$3:$B$1311,D2,الدخول!$L$3:$L$1311))","v":3332},{"$f":"IF(G2=\"\",\"\",SUMIF(الدخول!$B$3:$B$1311,D2,الدخول!$I$3:$I$1311)+SUMIF(الدخول!$B$3:$B$1311,D2,الدخول!$T$3:$T$1311)+G2-SUMIF(الدخول!$B$3:$B$1311,D2,الدخول!$N$3:$N$1311))","v":15018}]
["ابيض","كروشيه","5.5cm",{"$f":"A3&\" \"&B3&\" \"&C3","v":"ابيض كروشيه 5.5cm"},9000,2500,5000,{"$f":"IF(E3=\"\",\"\",SUMIF(الدخول!$B$3:$B$1311,D3,الدخول!$F$3:$F$1311)+SUMIF(الدخول!$B$3:$B$1311,D3,الدخول!$Q$3:$Q$1311)+E3-SUMIF(الدخول!$B$3:$B$1311,D3,الدخول!$K$3:$K$1311))","v":9051},{"$f":"IF(F3=\"\",\"\",SUMIF(الدخول!$B$3:$B$1311,D3,الدخول!$G$3:$G$1311)+SUMIF(الدخول!$B$3:$B$1311,D3,الدخول!$R$3:$R$1311)+F3-SUMIF(الدخول!$B$3:$B$1311,D3,الدخول!$L$3:$L$1311))","v":3847},{"$f":"IF(G3=\"\",\"\",SUMIF(الدخول!$B$3:$B$1311,D3,الدخول!$I$3:$I$1311)+SUMIF(الدخول!$B$3:$B$1311,D3,الدخول!$T$3:$T$1311)+G3-SUMIF(الدخول!$B$3:$B$1311,D3,الدخول!$N$3:$N$1311))","v":5047}]
["ابيض","كروشيه","5.3cm","ابيض كروشيه 5.3cm",8000,5000,3500,{"$f":"IF(E4=\"\",\"\",SUMIF(الدخول!$B$3:$B$1311,D4,الدخول!$F$3:$F$1311)+SUMIF(الدخول!$B$3:$B$1311,D4,الدخول!$Q$3:$Q$1311)+E4-SUMIF(الدخول!$B$3:$B$1311,D4,الدخول!$K$3:$K$1311))","v":8000},{"$f":"IF(F4=\"\",\"\",SUMIF(الدخول!$B$3:$B$1311,D4,الدخول!$G$3:$G$1311)+SUMIF(الدخول!$B$3:$B$1311,D4,الدخول!$R$3:$R$1311)+F4-SUMIF(الدخول!$B$3:$B$1311,D4,الدخول!$L$3:$L$1311))","v":5000},{"$f":"IF(G4=\"\",\"\",SUMIF(الدخول!$B$3:$B$1311,D4,الدخول!$I$3:$I$1311)+SUMIF(الدخول!$B$3:$B$1311,D4,الدخول!$T$3:$T$1311)+G4-SUMIF(الدخول!$B$3:$B$1311,D4,الدخول!$N$3:$N$1311))","v":3500}]
["ابيض","كروشيه","5cm","ابيض كروشيه 5cm",6000,4000,300,{"$f":"IF(E5=\"\",\"\",SUMIF(الدخول!$B$3:$B$1311,D5,الدخول!$F$3:$F$1311)+SUMIF(الدخول!$B$3:$B$1311,D5,الدخول!$Q$3:$Q$1311)+E5-SUMIF(الدخول!$B$3:$B$1311,D5,الدخول!$K$3:$K$1311))","v":6005},{"$f":"IF(F5=\"\",\"\",SUMIF(الدخول!$B$3:$B$1311,D5,الدخول!$G$3:$G$1311)+SUMIF(الدخول!$B$3:$B$1311,D5,الدخول!$R$3:$R$1311)+F5-SUMIF(الدخول!$B$3:$B$1311,D5,الدخول!$L$3:$L$1311))","v":4015},{"$f":"IF(G5=\"\",\"\",SUMIF(الدخول!$B$3:$B$1311,D5,الدخول!$I$3:$I$1311)+SUMIF(الدخول!$B$3:$B$1311,D5,الدخول!$T$3:$T$1311)+G5-SUMIF(الدخول!$B$3:$B$1311,D5,الدخول!$N$3:$N$1311))","v":310}]
["ابيض","كروشيه","4.5cm","ابيض كروشيه 4.5cm",null,null,null,{"$f":"IF(E6=\"\",\"\",SUMIF(الدخول!$B$3:$B$1311,D6,الدخول!$F$3:$F$1311)+SUMIF(الدخول!$B$3:$B$1311,D6,الدخول!$Q$3:$Q$1311)+E6-SUMIF(الدخول!$B$3:$B$1311,D6,الدخول!$K$3:$K$1311))","v":""},{"$f":"IF(F6=\"\",\"\",SUMIF(الدخول!$B$3:$B$1311,D6,الدخول!$G$3:$G$1311)+SUMIF(الدخول!$B$3:$B$1311,D6,الدخول!$R$3:$R$1311)+F6-SUMIF(الدخول!$B$3:$B$1311,D6,الدخول!$L$3:$L$1311))","v":""},{"$f":"IF(G6=\"\",\"\",SUMIF(الدخول!$B$3:$B$1311,D6,الدخول!$I$3:$I$1311)+SUMIF(الدخول!$B$3:$B$1311,D6,الدخول!$T$3:$T$1311)+G6-SUMIF(الدخول!$B$3:$B$1311,D6,الدخول!$N$3:$N$1311))","v":""}]
["ابيض","كروشيه","4cm","ابيض كروشيه 4cm",null,null,null,{"$f":"IF(E7=\"\",\"\",SUMIF(الدخول!$B$3:$B$1311,D7,الدخول!$F$3:$F$1311)+SUMIF(الدخول!$B$3:$B$1311,D7,الدخول!$Q$3:$Q$1311)+E7-SUMIF(الدخول!$B$3:$B$1311,D7,الدخول!$K$3:$K$1311))","v":""},{"$f":"IF(F7=\"\",\"\",SUMIF(الدخول!$B$3:$B$1311,D7,الدخول!$G$3:$G$1311)+SUMIF(الدخول!$B$3:$B$1311,D7,الدخول!$R$3:$R$1311)+F7-SUMIF(الدخول!$B$3:$B$1311,D7,الدخول!$L$3:$L$1311))","v":""},{"$f":"IF(G7=\"\",\"\",SUMIF(الدخول!$B$3:$B$1311,D7,الدخول!$I$3:$I$1311)+SUMIF(الدخول!$B$3:$B$1311,D7,الدخول!$T$3:$T$1311)+G7-SUMIF(الدخول!$B$3:$B$1311,D7,الدخول!$N$3:$N$1311))","v":""}]
["ابيض","كروشيه","3.5cm","ابيض كروشيه 3.5cm",null,null,null,{"$f":"IF(E8=\"\",\"\",SUMIF(الدخول!$B$3:$B$1311,D8,الدخول!$F$3:$F$1311)+SUMIF(الدخول!$B$3:$B$1311,D8,الدخول!$Q$3:$Q$1311)+E8-SUMIF(الدخول!$B$3:$B$1311,D8,الدخول!$K$3:$K$1311))","v":""},{"$f":"IF(F8=\"\",\"\",SUMIF(الدخول!$B$3:$B$1311,D8,الدخول!$G$3:$G$1311)+SUMIF(الدخول!$B$3:$B$1311,D8,الدخول!$R$3:$R$1311)+F8-SUMIF(الدخول!$B$3:$B$1311,D8,الدخول!$L$3:$L$1311))","v":""},{"$f":"IF(G8=\"\",\"\",SUMIF(الدخول!$B$3:$B$1311,D8,الدخول!$I$3:$I$1311)+SUMIF(الدخول!$B$3:$B$1311,D8,الدخول!$T$3:$T$1311)+G8-SUMIF(الدخول!$B$3:$B$1311,D8,الدخول!$N$3:$N$1311))","v":""}]
["ابيض","كروشيه","3.2cm","ابيض كروشيه 3.2cm",null,null,null,{"$f":"IF(E9=\"\",\"\",SUMIF(الدخول!$B$3:$B$1311,D9,الدخول!$F$3:$F$1311)+SUMIF(الدخول!$B$3:$B$1311,D9,الدخول!$Q$3:$Q$1311)+E9-SUMIF(الدخول!$B$3:$B$1311,D9,الدخول!$K$3:$K$1311))","v":""},{"$f":"IF(F9=\"\",\"\",SUMIF(الدخول!$B$3:$B$1311,D9,الدخول!$G$3:$G$1311)+SUMIF(الدخول!$B$3:$B$1311,D9,الدخول!$R$3:$R$1311)+F9-SUMIF(الدخول!$B$3:$B$1311,D9,الدخول!$L$3:$L$1311))","v":""},{"$f":"IF(G9=\"\",\"\",SUMIF(الدخول!$B$3:$B$1311,D9,الدخول!$I$3:$I$1311)+SUMIF(الدخول!$B$3:$B$1311,D9,الدخول!$T$3:$T$1311)+G9-SUMIF(الدخول!$B$3:$B$1311,D9,الدخول!$N$3:$N$1311))","v":""}]
["ابيض","كروشيه","3cm","ابيض كروشيه 3cm",null,null,null,{"$f":"IF(E10=\"\",\"\",SUMIF(الدخول!$B$3:$B$1311,D10,الدخول!$F$3:$F$1311)+SUMIF(الدخول!$B$3:$B$1311,D10,الدخول!$Q$3:$Q$1311)+E10-SUMIF(الدخول!$B$3:$B$1311,D10,الدخول!$K$3:$K$1311))","v":""},{"$f":"IF(F10=\"\",\"\",SUMIF(الدخول!$B$3:$B$1311,D10,الدخول!$G$3:$G$1311)+SUMIF(الدخول!$B$3:$B$1311,D10,الدخول!$R$3:$R$1311)+F10-SUMIF(الدخول!$B$3:$B$1311,D10,الدخول!$L$3:$L$1311))","v":""},{"$f":"IF(G10=\"\",\"\",SUMIF(الدخول!$B$3:$B$1311,D10,الدخول!$I$3:$I$1311)+SUMIF(الدخول!$B$3:$B$1311,D10,الدخول!$T$3:$T$1311)+G10-SUMIF(الدخول!$B$3:$B$1311,D10,الدخول!$N$3:$N$1311))","v":""}]
["ابيض","كروشيه","2.2cm","ابيض كروشيه 2.2cm",null,null,null,{"$f":"IF(E11=\"\",\"\",SUMIF(الدخول!$B$3:$B$1311,D11,الدخول!$F$3:$F$1311)+SUMIF(الدخول!$B$3:$B$1311,D11,الدخول!$Q$3:$Q$1311)+E11-SUMIF(الدخول!$B$3:$B$1311,D11,الدخول!$K$3:$K$1311))","v":""},{"$f":"IF(F11=\"\",\"\",SUMIF(الدخول!$B$3:$B$1311,D11,الدخول!$G$3:$G$1311)+SUMIF(الدخول!$B$3:$B$1311,D11,الدخول!$R$3:$R$1311)+F11-SUMIF(الدخول!$B$3:$B$1311,D11,الدخول!$L$3:$L$1311))","v":""},{"$f":"IF(G11=\"\",\"\",SUMIF(الدخول!$B$3:$B$1311,D11,الدخول!$I$3:$I$1311)+SUMIF(الدخول!$B$3:$B$1311,D11,الدخول!$T$3:$T$1311)+G11-SUMIF(الدخول!$B$3:$B$1311,D11,الدخول!$N$3:$N$1311))","v":""}]
["ابيض","كروشيه","2cm","ابيض كروشيه 2cm",null,null,null,{"$f":"IF(E12=\"\",\"\",SUMIF(الدخول!$B$3:$B$1311,D12,الدخول!$F$3:$F$1311)+SUMIF(الدخول!$B$3:$B$1311,D12,الدخول!$Q$3:$Q$1311)+E12-SUMIF(الدخول!$B$3:$B$1311,D12,الدخول!$K$3:$K$1311))","v":""},{"$f":"IF(F12=\"\",\"\",SUMIF(الدخول!$B$3:$B$1311,D12,الدخول!$G$3:$G$1311)+SUMIF(الدخول!$B$3:$B$1311,D12,الدخول!$R$3:$R$1311)+F12-SUMIF(الدخول!$B$3:$B$1311,D12,الدخول!$L$3:$L$1311))","v":""},{"$f":"IF(G12=\"\",\"\",SUMIF(الدخول!$B$3:$B$1311,D12,الدخول!$I$3:$I$1311)+SUMIF(الدخول!$B$3:$B$1311,D12,الدخول!$T$3:$T$1311)+G12-SUMIF(الدخول!$B$3:$B$1311,D12,الدخول!$N$3:$N$1311))","v":""}]
["ابيض","كروشيه","1.5cm","ابيض كروشيه 1.5cm",null,null,null,{"$f":"IF(E13=\"\",\"\",SUMIF(الدخول!$B$3:$B$1311,D13,الدخول!$F$3:$F$1311)+SUMIF(الدخول!$B$3:$B$1311,D13,الدخول!$Q$3:$Q$1311)+E13-SUMIF(الدخول!$B$3:$B$1311,D13,الدخول!$K$3:$K$1311))","v":""},{"$f":"IF(F13=\"\",\"\",SUMIF(الدخول!$B$3:$B$1311,D13,الدخول!$G$3:$G$1311)+SUMIF(الدخول!$B$3:$B$1311,D13,الدخول!$R$3:$R$1311)+F13-SUMIF(الدخول!$B$3:$B$1311,D13,الدخول!$L$3:$L$1311))","v":""},{"$f":"IF(G13=\"\",\"\",SUMIF(الدخول!$B$3:$B$1311,D13,الدخول!$I$3:$I$1311)+SUMIF(الدخول!$B$3:$B$1311,D13,الدخول!$T$3:$T$1311)+G13-SUMIF(الدخول!$B$3:$B$1311,D13,الدخول!$N$3:$N$1311))","v":""}]
["ابيض","كروشيه","1.2cm","ابيض كروشيه 1.2cm",null,null,null,{"$f":"IF(E14=\"\",\"\",SUMIF(الدخول!$B$3:$B$1311,D14,الدخول!$F$3:$F$1311)+SUMIF(الدخول!$B$3:$B$1311,D14,الدخول!$Q$3:$Q$1311)+E14-SUMIF(الدخول!$B$3:$B$1311,D14,الدخول!$K$3:$K$1311))","v":""},{"$f":"IF(F14=\"\",\"\",SUMIF(الدخول!$B$3:$B$1311,D14,الدخول!$G$3:$G$1311)+SUMIF(الدخول!$B$3:$B$1311,D14,الدخول!$R$3:$R$1311)+F14-SUMIF(الدخول!$B$3:$B$1311,D14,الدخول!$L$3:$L$1311))","v":""},{"$f":"IF(G14=\"\",\"\",SUMIF(الدخول!$B$3:$B$1311,D14,الدخول!$I$3:$I$1311)+SUMIF(الدخول!$B$3:$B$1311,D14,الدخول!$T$3:$T$1311)+G14-SUMIF(الدخول!$B$3:$B$1311,D14,الدخول!$N$3:$N$1311))","v":""}]
["ابيض","كروشيه","1cm","ابيض كروشيه 1cm",null,null,null,{"$f":"IF(E15=\"\",\"\",SUMIF(الدخول!$B$3:$B$1311,D15,الدخول!$F$3:$F$1311)+SUMIF(الدخول!$B$3:$B$1311,D15,الدخول!$Q$3:$Q$1311)+E15-SUMIF(الدخول!$B$3:$B$1311,D15,الدخول!$K$3:$K$1311))","v":""},{"$f":"IF(F15=\"\",\"\",SUMIF(الدخول!$B$3:$B$1311,D15,الدخول!$G$3:$G$1311)+SUMIF(الدخول!$B$3:$B$1311,D15,الدخول!$R$3:$R$1311)+F15-SUMIF(الدخول!$B$3:$B$1311,D15,الدخول!$L$3:$L$1311))","v":""},{"$f":"IF(G15=\"\",\"\",SUMIF(الدخول!$B$3:$B$1311,D15,الدخول!$I$3:$I$1311)+SUMIF(الدخول!$B$3:$B$1311,D15,الدخول!$T$3:$T$1311)+G15-SUMIF(الدخول!$B$3:$B$1311,D15,الدخول!$N$3:$N$1311))","v":""}]
["ابيض","كروشيه","8mm","ابيض كروشيه 8mm",null,null,null,{"$f":"IF(E16=\"\",\"\",SUMIF(الدخول!$B$3:$B$1311,D16,الدخول!$F$3:$F$1311)+SUMIF(الدخول!$B$3:$B$1311,D16,الدخول!$Q$3:$Q$1311)+E16-SUMIF(الدخول!$B$3:$B$1311,D16,الدخول!$K$3:$K$1311))","v":""},{"$f":"IF(F16=\"\",\"\",SUMIF(الدخول!$B$3:$B$1311,D16,الدخول!$G$3:$G$1311)+SUMIF(الدخول!$B$3:$B$1311,D16,الدخول!$R$3:$R$1311)+F16-SUMIF(الدخول!$B$3:$B$1311,D16,الدخول!$L$3:$L$1311))","v":""},{"$f":"IF(G16=\"\",\"\",SUMIF(الدخول!$B$3:$B$1311,D16,الدخول!$I$3:$I$1311)+SUMIF(الدخول!$B$3:$B$1311,D16,الدخول!$T$3:$T$1311)+G16-SUMIF(الدخول!$B$3:$B$1311,D16,الدخول!$N$3:$N$1311))","v":""}]
["ابيض","كروشيه","7mm","ابيض كروشيه 7mm",null,null,null,{"$f":"IF(E17=\"\",\"\",SUMIF(الدخول!$B$3:$B$1311,D17,الدخول!$F$3:$F$1311)+SUMIF(الدخول!$B$3:$B$1311,D17,الدخول!$Q$3:$Q$1311)+E17-SUMIF(الدخول!$B$3:$B$1311,D17,الدخول!$K$3:$K$1311))","v":""},{"$f":"IF(F17=\"\",\"\",SUMIF(الدخول!$B$3:$B$1311,D17,الدخول!$G$3:$G$1311)+SUMIF(الدخول!$B$3:$B$1311,D17,الدخول!$R$3:$R$1311)+F17-SUMIF(الدخول!$B$3:$B$1311,D17,الدخول!$L$3:$L$1311))","v":""},{"$f":"IF(G17=\"\",\"\",SUMIF(الدخول!$B$3:$B$1311,D17,الدخول!$I$3:$I$1311)+SUMIF(الدخول!$B$3:$B$1311,D17,الدخول!$T$3:$T$1311)+G17-SUMIF(الدخول!$B$3:$B$1311,D17,الدخول!$N$3:$N$1311))","v":""}]
["ابيض","كروشيه","6mm","ابيض كروشيه 6mm",null,null,null,{"$f":"IF(E18=\"\",\"\",SUMIF(الدخول!$B$3:$B$1311,D18,الدخول!$F$3:$F$1311)+SUMIF(الدخول!$B$3:$B$1311,D18,الدخول!$Q$3:$Q$1311)+E18-SUMIF(الدخول!$B$3:$B$1311,D18,الدخول!$K$3:$K$1311))","v":""},{"$f":"IF(F18=\"\",\"\",SUMIF(الدخول!$B$3:$B$1311,D18,الدخول!$G$3:$G$1311)+SUMIF(الدخول!$B$3:$B$1311,D18,الدخول!$R$3:$R$1311)+F18-SUMIF(الدخول!$B$3:$B$1311,D18,الدخول!$L$3:$L$1311))","v":""},{"$f":"IF(G18=\"\",\"\",SUMIF(الدخول!$B$3:$B$1311,D18,الدخول!$I$3:$I$1311)+SUMIF(الدخول!$B$3:$B$1311,D18,الدخول!$T$3:$T$1311)+G18-SUMIF(الدخول!$B$3:$B$1311,D18,الدخول!$N$3:$N$1311))","v":""}]
["ابيض","كروشيه","5mm","ابيض كروشيه 5mm",null,null,null,{"$f":"IF(E19=\"\",\"\",SUMIF(الدخول!$B$3:$B$1311,D19,الدخول!$F$3:$F$1311)+SUMIF(الدخول!$B$3:$B$1311,D19,الدخول!$Q$3:$Q$1311)+E19-SUMIF(الدخول!$B$3:$B$1311,D19,الدخول!$K$3:$K$1311))","v":""},{"$f":"IF(F19=\"\",\"\",SUMIF(الدخول!$B$3:$B$1311,D19,الدخول!$G$3:$G$1311)+SUMIF(الدخول!$B$3:$B$1311,D19,الدخول!$R$3:$R$1311)+F19-SUMIF(الدخول!$B$3:$B$1311,D19,الدخول!$L$3:$L$1311))","v":""},{"$f":"IF(G19=\"\",\"\",SUMIF(الدخول!$B$3:$B$1311,D19,الدخول!$I$3:$I$1311)+SUMIF(الدخول!$B$3:$B$1311,D19,الدخول!$T$3:$T$1311)+G19-SUMIF(الدخول!$B$3:$B$1311,D19,الدخول!$N$3:$N$1311))","v":""}]
["ابيض","كروشيه","2.5cm","ابيض كروشيه 2.5cm",null,null,null,{"$f":"IF(E20=\"\",\"\",SUMIF(الدخول!$B$3:$B$1311,D20,الدخول!$F$3:$F$1311)+SUMIF(الدخول!$B$3:$B$1311,D20,الدخول!$Q$3:$Q$1311)+E20-SUMIF(الدخول!$B$3:$B$1311,D20,الدخول!$K$3:$K$1311))","v":""},{"$f":"IF(F20=\"\",\"\",SUMIF(الدخول!$B$3:$B$1311,D20,الدخول!$G$3:$G$1311)+SUMIF(الدخول!$B$3:$B$1311,D20,الدخول!$R$3:$R$1311)+F20-SUMIF(الدخول!$B$3:$B$1311,D20,الدخول!$L$3:$L$1311))","v":""},{"$f":"IF(G20=\"\",\"\",SUMIF(الدخول!$B$3:$B$1311,D20,الدخول!$I$3:$I$1311)+SUMIF(الدخول!$B$3:$B$1311,D20,الدخول!$T$3:$T$1311)+G20-SUMIF(الدخول!$B$3:$B$1311,D20,الدخول!$N$3:$N$1311))","v":""}]
["ابيض","كروشيه","6.5cm","ابيض كروشيه 6.5cm",null,null,null,{"$f":"IF(E21=\"\",\"\",SUMIF(الدخول!$B$3:$B$1311,D21,الدخول!$F$3:$F$1311)+SUMIF(الدخول!$B$3:$B$1311,D21,الدخول!$Q$3:$Q$1311)+E21-SUMIF(الدخول!$B$3:$B$1311,D21,الدخول!$K$3:$K$1311))","v":""},{"$f":"IF(F21=\"\",\"\",SUMIF(الدخول!$B$3:$B$1311,D21,الدخول!$G$3:$G$1311)+SUMIF(الدخول!$B$3:$B$1311,D21,الدخول!$R$3:$R$1311)+F21-SUMIF(الدخول!$B$3:$B$1311,D21,الدخول!$L$3:$L$1311))","v":""},{"$f":"IF(G21=\"\",\"\",SUMIF(الدخول!$B$3:$B$1311,D21,الدخول!$I$3:$I$1311)+SUMIF(الدخول!$B$3:$B$1311,D21,الدخول!$T$3:$T$1311)+G21-SUMIF(الدخول!$B$3:$B$1311,D21,الدخول!$N$3:$N$1311))","v":""}]
["ابيض","كروشيه","1.8cm","ابيض كروشيه 1.8cm",null,null,null,{"$f":"IF(E22=\"\",\"\",SUMIF(الدخول!$B$3:$B$1311,D22,الدخول!$F$3:$F$1311)+SUMIF(الدخول!$B$3:$B$1311,D22,الدخول!$Q$3:$Q$1311)+E22-SUMIF(الدخول!$B$3:$B$1311,D22,الدخول!$K$3:$K$1311))","v":""},{"$f":"IF(F22=\"\",\"\",SUMIF(الدخول!$B$3:$B$1311,D22,الدخول!$G$3:$G$1311)+SUMIF(الدخول!$B$3:$B$1311,D22,الدخول!$R$3:$R$1311)+F22-SUMIF(الدخول!$B$3:$B$1311,D22,الدخول!$L$3:$L$1311))","v":""},{"$f":"IF(G22=\"\",\"\",SUMIF(الدخول!$B$3:$B$1311,D22,الدخول!$I$3:$I$1311)+SUMIF(الدخول!$B$3:$B$1311,D22,الدخول!$T$3:$T$1311)+G22-SUMIF(الدخول!$B$3:$B$1311,D22,الدخول!$N$3:$N$1311))","v":""}]
["ابيض","كروشيه",1.8,"ابيض كروشيه 1,8",null,null,null,{"$f":"IF(E23=\"\",\"\",SUMIF(الدخول!$B$3:$B$1311,D23,الدخول!$F$3:$F$1311)+SUMIF(الدخول!$B$3:$B$1311,D23,الدخول!$Q$3:$Q$1311)+E23-SUMIF(الدخول!$B$3:$B$1311,D23,الدخول!$K$3:$K$1311))","v":""},{"$f":"IF(F23=\"\",\"\",SUMIF(الدخول!$B$3:$B$1311,D23,الدخول!$G$3:$G$1311)+SUMIF(الدخول!$B$3:$B$1311,D23,الدخول!$R$3:$R$1311)+F23-SUMIF(الدخول!$B$3:$B$1311,D23,الدخول!$L$3:$L$1311))","v":""},{"$f":"IF(G23=\"\",\"\",SUMIF(الدخول!$B$3:$B$1311,D23,الدخول!$I$3:$I$1311)+SUMIF(الدخول!$B$3:$B$1311,D23,الدخول!$T$3:$T$1311)+G23-SUMIF(الدخول!$B$3:$B$1311,D23,الدخول!$N$3:$N$1311))","v":""}]
["ابيض","كروشيه",".8m","ابيض كروشيه .8m",null,null,null,{"$f":"IF(E24=\"\",\"\",SUMIF(الدخول!$B$3:$B$1311,D24,الدخول!$F$3:$F$1311)+SUMIF(الدخول!$B$3:$B$1311,D24,الدخول!$Q$3:$Q$1311)+E24-SUMIF(الدخول!$B$3:$B$1311,D24,الدخول!$K$3:$K$1311))","v":""},{"$f":"IF(F24=\"\",\"\",SUMIF(الدخول!$B$3:$B$1311,D24,الدخول!$G$3:$G$1311)+SUMIF(الدخول!$B$3:$B$1311,D24,الدخول!$R$3:$R$1311)+F24-SUMIF(الدخول!$B$3:$B$1311,D24,الدخول!$L$3:$L$1311))","v":""},{"$f":"IF(G24=\"\",\"\",SUMIF(الدخول!$B$3:$B$1311,D24,الدخول!$I$3:$I$1311)+SUMIF(الدخول!$B$3:$B$1311,D24,الدخول!$T$3:$T$1311)+G24-SUMIF(الدخول!$B$3:$B$1311,D24,الدخول!$N$3:$N$1311))","v":""}]
["ابيض","كروشيه","7cm","ابيض كروشيه 7cm",null,null,null,{"$f":"IF(E25=\"\",\"\",SUMIF(الدخول!$B$3:$B$1311,D25,الدخول!$F$3:$F$1311)+SUMIF(الدخول!$B$3:$B$1311,D25,الدخول!$Q$3:$Q$1311)+E25-SUMIF(الدخول!$B$3:$B$1311,D25,الدخول!$K$3:$K$1311))","v":""},{"$f":"IF(F25=\"\",\"\",SUMIF(الدخول!$B$3:$B$1311,D25,الدخول!$G$3:$G$1311)+SUMIF(الدخول!$B$3:$B$1311,D25,الدخول!$R$3:$R$1311)+F25-SUMIF(الدخول!$B$3:$B$1311,D25,الدخول!$L$3:$L$1311))","v":""},{"$f":"IF(G25=\"\",\"\",SUMIF(الدخول!$B$3:$B$1311,D25,الدخول!$I$3:$I$1311)+SUMIF(الدخول!$B$3:$B$1311,D25,الدخول!$T$3:$T$1311)+G25-SUMIF(الدخول!$B$3:$B$1311,D25,الدخول!$N$3:$N$1311))","v":""}]
["ابيض","كروشيه","6.3cm","ابيض كروشيه 6.3cm",null,null,null,{"$f":"IF(E26=\"\",\"\",SUMIF(الدخول!$B$3:$B$1311,D26,الدخول!$F$3:$F$1311)+SUMIF(الدخول!$B$3:$B$1311,D26,الدخول!$Q$3:$Q$1311)+E26-SUMIF(الدخول!$B$3:$B$1311,D26,الدخول!$K$3:$K$1311))","v":""},{"$f":"IF(F26=\"\",\"\",SUMIF(الدخول!$B$3:$B$1311,D26,الدخول!$G$3:$G$1311)+SUMIF(الدخول!$B$3:$B$1311,D26,الدخول!$R$3:$R$1311)+F26-SUMIF(الدخول!$B$3:$B$1311,D26,الدخول!$L$3:$L$1311))","v":""},{"$f":"IF(G26=\"\",\"\",SUMIF(الدخول!$B$3:$B$1311,D26,الدخول!$I$3:$I$1311)+SUMIF(الدخول!$B$3:$B$1311,D26,الدخول!$T$3:$T$1311)+G26-SUMIF(الدخول!$B$3:$B$1311,D26,الدخول!$N$3:$N$1311))","v":""}]
["ابيض","كروشيه","0.2m","ابيض كروشيه 0.2m",null,null,null,{"$f":"IF(E27=\"\",\"\",SUMIF(الدخول!$B$3:$B$1311,D27,الدخول!$F$3:$F$1311)+SUMIF(الدخول!$B$3:$B$1311,D27,الدخول!$Q$3:$Q$1311)+E27-SUMIF(الدخول!$B$3:$B$1311,D27,الدخول!$K$3:$K$1311))","v":""},{"$f":"IF(F27=\"\",\"\",SUMIF(الدخول!$B$3:$B$1311,D27,الدخول!$G$3:$G$1311)+SUMIF(الدخول!$B$3:$B$1311,D27,الدخول!$R$3:$R$1311)+F27-SUMIF(الدخول!$B$3:$B$1311,D27,الدخول!$L$3:$L$1311))","v":""},{"$f":"IF(G27=\"\",\"\",SUMIF(الدخول!$B$3:$B$1311,D27,الدخول!$I$3:$I$1311)+SUMIF(الدخول!$B$3:$B$1311,D27,الدخول!$T$3:$T$1311)+G27-SUMIF(الدخول!$B$3:$B$1311,D27,الدخول!$N$3:$N$1311))","v":""}]
["ابيض","كروشيه",".5m","ابيض كروشيه .5m",null,null,null,{"$f":"IF(E28=\"\",\"\",SUMIF(الدخول!$B$3:$B$1311,D28,الدخول!$F$3:$F$1311)+SUMIF(الدخول!$B$3:$B$1311,D28,الدخول!$Q$3:$Q$1311)+E28-SUMIF(الدخول!$B$3:$B$1311,D28,الدخول!$K$3:$K$1311))","v":""},{"$f":"IF(F28=\"\",\"\",SUMIF(الدخول!$B$3:$B$1311,D28,الدخول!$G$3:$G$1311)+SUMIF(الدخول!$B$3:$B$1311,D28,الدخول!$R$3:$R$1311)+F28-SUMIF(الدخول!$B$3:$B$1311,D28,الدخول!$L$3:$L$1311))","v":""},{"$f":"IF(G28=\"\",\"\",SUMIF(الدخول!$B$3:$B$1311,D28,الدخول!$I$3:$I$1311)+SUMIF(الدخول!$B$3:$B$1311,D28,الدخول!$T$3:$T$1311)+G28-SUMIF(الدخول!$B$3:$B$1311,D28,الدخول!$N$3:$N$1311))","v":""}]
["ابيض","كروشيه",".6m","ابيض كروشيه .6m",null,null,null,{"$f":"IF(E29=\"\",\"\",SUMIF(الدخول!$B$3:$B$1311,D29,الدخول!$F$3:$F$1311)+SUMIF(الدخول!$B$3:$B$1311,D29,الدخول!$Q$3:$Q$1311)+E29-SUMIF(الدخول!$B$3:$B$1311,D29,الدخول!$K$3:$K$1311))","v":""},{"$f":"IF(F29=\"\",\"\",SUMIF(الدخول!$B$3:$B$1311,D29,الدخول!$G$3:$G$1311)+SUMIF(الدخول!$B$3:$B$1311,D29,الدخول!$R$3:$R$1311)+F29-SUMIF(الدخول!$B$3:$B$1311,D29,الدخول!$L$3:$L$1311))","v":""},{"$f":"IF(G29=\"\",\"\",SUMIF(الدخول!$B$3:$B$1311,D29,الدخول!$I$3:$I$1311)+SUMIF(الدخول!$B$3:$B$1311,D29,الدخول!$T$3:$T$1311)+G29-SUMIF(الدخول!$B$3:$B$1311,D29,الدخول!$N$3:$N$1311))","v":""}]
["ابيض","كروشيه",".7m","ابيض كروشيه .7m",null,null,null,{"$f":"IF(E30=\"\",\"\",SUMIF(الدخول!$B$3:$B$1311,D30,الدخول!$F$3:$F$1311)+SUMIF(الدخول!$B$3:$B$1311,D30,الدخول!$Q$3:$Q$1311)+E30-SUMIF(الدخول!$B$3:$B$1311,D30,الدخول!$K$3:$K$1311))","v":""},{"$f":"IF(F30=\"\",\"\",SUMIF(الدخول!$B$3:$B$1311,D30,الدخول!$G$3:$G$1311)+SUMIF(الدخول!$B$3:$B$1311,D30,الدخول!$R$3:$R$1311)+F30-SUMIF(الدخول!$B$3:$B$1311,D30,الدخول!$L$3:$L$1311))","v":""},{"$f":"IF(G30=\"\",\"\",SUMIF(الدخول!$B$3:$B$1311,D30,الدخول!$I$3:$I$1311)+SUMIF(الدخول!$B$3:$B$1311,D30,الدخول!$T$3:$T$1311)+G30-SUMIF(الدخول!$B$3:$B$1311,D30,الدخول!$N$3:$N$1311))","v":""}]
["ابيض","كروشيه","1.6cm","ابيض كروشيه 1.6cm",null,null,null,{"$f":"IF(E31=\"\",\"\",SUMIF(الدخول!$B$3:$B$1311,D31,الدخول!$F$3:$F$1311)+SUMIF(الدخول!$B$3:$B$1311,D31,الدخول!$Q$3:$Q$1311)+E31-SUMIF(الدخول!$B$3:$B$1311,D31,الدخول!$K$3:$K$1311))","v":""},{"$f":"IF(F31=\"\",\"\",SUMIF(الدخول!$B$3:$B$1311,D31,الدخول!$G$3:$G$1311)+SUMIF(الدخول!$B$3:$B$1311,D31,الدخول!$R$3:$R$1311)+F31-SUMIF(الدخول!$B$3:$B$1311,D31,الدخول!$L$3:$L$1311))","v":""},{"$f":"IF(G31=\"\",\"\",SUMIF(الدخول!$B$3:$B$1311,D31,الدخول!$I$3:$I$1311)+SUMIF(الدخول!$B$3:$B$1311,D31,الدخول!$T$3:$T$1311)+G31-SUMIF(الدخول!$B$3:$B$1311,D31,الدخول!$N$3:$N$1311))","v":""}]
["ابيض","كروشيه","1.3cm","ابيض كروشيه 1.3cm",null,null,null,{"$f":"IF(E32=\"\",\"\",SUMIF(الدخول!$B$3:$B$1311,D32,الدخول!$F$3:$F$1311)+SUMIF(الدخول!$B$3:$B$1311,D32,الدخول!$Q$3:$Q$1311)+E32-SUMIF(الدخول!$B$3:$B$1311,D32,الدخول!$K$3:$K$1311))","v":""},{"$f":"IF(F32=\"\",\"\",SUMIF(الدخول!$B$3:$B$1311,D32,الدخول!$G$3:$G$1311)+SUMIF(الدخول!$B$3:$B$1311,D32,الدخول!$R$3:$R$1311)+F32-SUMIF(الدخول!$B$3:$B$1311,D32,الدخول!$L$3:$L$1311))","v":""},{"$f":"IF(G32=\"\",\"\",SUMIF(الدخول!$B$3:$B$1311,D32,الدخول!$I$3:$I$1311)+SUMIF(الدخول!$B$3:$B$1311,D32,الدخول!$T$3:$T$1311)+G32-SUMIF(الدخول!$B$3:$B$1311,D32,الدخول!$N$3:$N$1311))","v":""}]
["ابيض","كروشيه","1.8.cm","ابيض كروشيه 1.8.cm",null,null,null,{"$f":"IF(E33=\"\",\"\",SUMIF(الدخول!$B$3:$B$1311,D33,الدخول!$F$3:$F$1311)+SUMIF(الدخول!$B$3:$B$1311,D33,الدخول!$Q$3:$Q$1311)+E33-SUMIF(الدخول!$B$3:$B$1311,D33,الدخول!$K$3:$K$1311))","v":""},{"$f":"IF(F33=\"\",\"\",SUMIF(الدخول!$B$3:$B$1311,D33,الدخول!$G$3:$G$1311)+SUMIF(الدخول!$B$3:$B$1311,D33,الدخول!$R$3:$R$1311)+F33-SUMIF(الدخول!$B$3:$B$1311,D33,الدخول!$L$3:$L$1311))","v":""},{"$f":"IF(G33=\"\",\"\",SUMIF(الدخول!$B$3:$B$1311,D33,الدخول!$I$3:$I$1311)+SUMIF(الدخول!$B$3:$B$1311,D33,الدخول!$T$3:$T$1311)+G33-SUMIF(الدخول!$B$3:$B$1311,D33,الدخول!$N$3:$N$1311))","v":""}]
["ابيض","ووفين فستون","1cm","ابيض ووفين فستون 1cm",null,null,null,{"$f":"IF(E34=\"\",\"\",SUMIF(الدخول!$B$3:$B$1311,D34,الدخول!$F$3:$F$1311)+SUMIF(الدخول!$B$3:$B$1311,D34,الدخول!$Q$3:$Q$1311)+E34-SUMIF(الدخول!$B$3:$B$1311,D34,الدخول!$K$3:$K$1311))","v":""},{"$f":"IF(F34=\"\",\"\",SUMIF(الدخول!$B$3:$B$1311,D34,الدخول!$G$3:$G$1311)+SUMIF(الدخول!$B$3:$B$1311,D34,الدخول!$R$3:$R$1311)+F34-SUMIF(الدخول!$B$3:$B$1311,D34,الدخول!$L$3:$L$1311))","v":""},{"$f":"IF(G34=\"\",\"\",SUMIF(الدخول!$B$3:$B$1311,D34,الدخول!$I$3:$I$1311)+SUMIF(الدخول!$B$3:$B$1311,D34,الدخول!$T$3:$T$1311)+G34-SUMIF(الدخول!$B$3:$B$1311,D34,الدخول!$N$3:$N$1311))","v":""}]
["ابيض","استك طبي",3.18,"ابيض استك طبي 3,18",null,null,null,{"$f":"IF(E35=\"\",\"\",SUMIF(الدخول!$B$3:$B$1311,D35,الدخول!$F$3:$F$1311)+SUMIF(الدخول!$B$3:$B$1311,D35,الدخول!$Q$3:$Q$1311)+E35-SUMIF(الدخول!$B$3:$B$1311,D35,الدخول!$K$3:$K$1311))","v":""},{"$f":"IF(F35=\"\",\"\",SUMIF(الدخول!$B$3:$B$1311,D35,الدخول!$G$3:$G$1311)+SUMIF(الدخول!$B$3:$B$1311,D35,الدخول!$R$3:$R$1311)+F35-SUMIF(الدخول!$B$3:$B$1311,D35,الدخول!$L$3:$L$1311))","v":""},{"$f":"IF(G35=\"\",\"\",SUMIF(الدخول!$B$3:$B$1311,D35,الدخول!$I$3:$I$1311)+SUMIF(الدخول!$B$3:$B$1311,D35,الدخول!$T$3:$T$1311)+G35-SUMIF(الدخول!$B$3:$B$1311,D35,الدخول!$N$3:$N$1311))","v":""}]
["ابيض","استك طبي",4.1399999999999997,"ابيض استك طبي 4,14",null,null,null,{"$f":"IF(E36=\"\",\"\",SUMIF(الدخول!$B$3:$B$1311,D36,الدخول!$F$3:$F$1311)+SUMIF(الدخول!$B$3:$B$1311,D36,الدخول!$Q$3:$Q$1311)+E36-SUMIF(الدخول!$B$3:$B$1311,D36,الدخول!$K$3:$K$1311))","v":""},{"$f":"IF(F36=\"\",\"\",SUMIF(الدخول!$B$3:$B$1311,D36,الدخول!$G$3:$G$1311)+SUMIF(الدخول!$B$3:$B$1311,D36,الدخول!$R$3:$R$1311)+F36-SUMIF(الدخول!$B$3:$B$1311,D36,الدخول!$L$3:$L$1311))","v":""},{"$f":"IF(G36=\"\",\"\",SUMIF(الدخول!$B$3:$B$1311,D36,الدخول!$I$3:$I$1311)+SUMIF(الدخول!$B$3:$B$1311,D36,الدخول!$T$3:$T$1311)+G36-SUMIF(الدخول!$B$3:$B$1311,D36,الدخول!$N$3:$N$1311))","v":""}]
["ابيض","استك طبي",2.78,"ابيض استك طبي 2,78",null,null,null,{"$f":"IF(E37=\"\",\"\",SUMIF(الدخول!$B$3:$B$1311,D37,الدخول!$F$3:$F$1311)+SUMIF(الدخول!$B$3:$B$1311,D37,الدخول!$Q$3:$Q$1311)+E37-SUMIF(الدخول!$B$3:$B$1311,D37,الدخول!$K$3:$K$1311))","v":""},{"$f":"IF(F37=\"\",\"\",SUMIF(الدخول!$B$3:$B$1311,D37,الدخول!$G$3:$G$1311)+SUMIF(الدخول!$B$3:$B$1311,D37,الدخول!$R$3:$R$1311)+F37-SUMIF(الدخول!$B$3:$B$1311,D37,الدخول!$L$3:$L$1311))","v":""},{"$f":"IF(G37=\"\",\"\",SUMIF(الدخول!$B$3:$B$1311,D37,الدخول!$I$3:$I$1311)+SUMIF(الدخول!$B$3:$B$1311,D37,الدخول!$T$3:$T$1311)+G37-SUMIF(الدخول!$B$3:$B$1311,D37,الدخول!$N$3:$N$1311))","v":""}]
["ابيض","استك طبي",7.52,"ابيض استك طبي 7,52",null,null,null,{"$f":"IF(E38=\"\",\"\",SUMIF(الدخول!$B$3:$B$1311,D38,الدخول!$F$3:$F$1311)+SUMIF(الدخول!$B$3:$B$1311,D38,الدخول!$Q$3:$Q$1311)+E38-SUMIF(الدخول!$B$3:$B$1311,D38,الدخول!$K$3:$K$1311))","v":""},{"$f":"IF(F38=\"\",\"\",SUMIF(الدخول!$B$3:$B$1311,D38,الدخول!$G$3:$G$1311)+SUMIF(الدخول!$B$3:$B$1311,D38,الدخول!$R$3:$R$1311)+F38-SUMIF(الدخول!$B$3:$B$1311,D38,الدخول!$L$3:$L$1311))","v":""},{"$f":"IF(G38=\"\",\"\",SUMIF(الدخول!$B$3:$B$1311,D38,الدخول!$I$3:$I$1311)+SUMIF(الدخول!$B$3:$B$1311,D38,الدخول!$T$3:$T$1311)+G38-SUMIF(الدخول!$B$3:$B$1311,D38,الدخول!$N$3:$N$1311))","v":""}]
["ابيض","استك طبي",3.5,"ابيض استك طبي 3,5",null,null,null,{"$f":"IF(E39=\"\",\"\",SUMIF(الدخول!$B$3:$B$1311,D39,الدخول!$F$3:$F$1311)+SUMIF(الدخول!$B$3:$B$1311,D39,الدخول!$Q$3:$Q$1311)+E39-SUMIF(الدخول!$B$3:$B$1311,D39,الدخول!$K$3:$K$1311))","v":""},{"$f":"IF(F39=\"\",\"\",SUMIF(الدخول!$B$3:$B$1311,D39,الدخول!$G$3:$G$1311)+SUMIF(الدخول!$B$3:$B$1311,D39,الدخول!$R$3:$R$1311)+F39-SUMIF(الدخول!$B$3:$B$1311,D39,الدخول!$L$3:$L$1311))","v":""},{"$f":"IF(G39=\"\",\"\",SUMIF(الدخول!$B$3:$B$1311,D39,الدخول!$I$3:$I$1311)+SUMIF(الدخول!$B$3:$B$1311,D39,الدخول!$T$3:$T$1311)+G39-SUMIF(الدخول!$B$3:$B$1311,D39,الدخول!$N$3:$N$1311))","v":""}]
["ابيض","استك طبي",3.3,"ابيض استك طبي 3,3",null,null,null,{"$f":"IF(E40=\"\",\"\",SUMIF(الدخول!$B$3:$B$1311,D40,الدخول!$F$3:$F$1311)+SUMIF(الدخول!$B$3:$B$1311,D40,الدخول!$Q$3:$Q$1311)+E40-SUMIF(الدخول!$B$3:$B$1311,D40,الدخول!$K$3:$K$1311))","v":""},{"$f":"IF(F40=\"\",\"\",SUMIF(الدخول!$B$3:$B$1311,D40,الدخول!$G$3:$G$1311)+SUMIF(الدخول!$B$3:$B$1311,D40,الدخول!$R$3:$R$1311)+F40-SUMIF(الدخول!$B$3:$B$1311,D40,الدخول!$L$3:$L$1311))","v":""},{"$f":"IF(G40=\"\",\"\",SUMIF(الدخول!$B$3:$B$1311,D40,الدخول!$I$3:$I$1311)+SUMIF(الدخول!$B$3:$B$1311,D40,الدخول!$T$3:$T$1311)+G40-SUMIF(الدخول!$B$3:$B$1311,D40,الدخول!$N$3:$N$1311))","v":""}]
["ابيض","استك طبي",3.36,"ابيض استك طبي 3,36",null,null,null,{"$f":"IF(E41=\"\",\"\",SUMIF(الدخول!$B$3:$B$1311,D41,الدخول!$F$3:$F$1311)+SUMIF(الدخول!$B$3:$B$1311,D41,الدخول!$Q$3:$Q$1311)+E41-SUMIF(الدخول!$B$3:$B$1311,D41,الدخول!$K$3:$K$1311))","v":""},{"$f":"IF(F41=\"\",\"\",SUMIF(الدخول!$B$3:$B$1311,D41,الدخول!$G$3:$G$1311)+SUMIF(الدخول!$B$3:$B$1311,D41,الدخول!$R$3:$R$1311)+F41-SUMIF(الدخول!$B$3:$B$1311,D41,الدخول!$L$3:$L$1311))","v":""},{"$f":"IF(G41=\"\",\"\",SUMIF(الدخول!$B$3:$B$1311,D41,الدخول!$I$3:$I$1311)+SUMIF(الدخول!$B$3:$B$1311,D41,الدخول!$T$3:$T$1311)+G41-SUMIF(الدخول!$B$3:$B$1311,D41,الدخول!$N$3:$N$1311))","v":""}]
["ابيض","استك طبي",2.58,"ابيض استك طبي 2,58",null,null,null,{"$f":"IF(E42=\"\",\"\",SUMIF(الدخول!$B$3:$B$1311,D42,الدخول!$F$3:$F$1311)+SUMIF(الدخول!$B$3:$B$1311,D42,الدخول!$Q$3:$Q$1311)+E42-SUMIF(الدخول!$B$3:$B$1311,D42,الدخول!$K$3:$K$1311))","v":""},{"$f":"IF(F42=\"\",\"\",SUMIF(الدخول!$B$3:$B$1311,D42,الدخول!$G$3:$G$1311)+SUMIF(الدخول!$B$3:$B$1311,D42,الدخول!$R$3:$R$1311)+F42-SUMIF(الدخول!$B$3:$B$1311,D42,الدخول!$L$3:$L$1311))","v":""},{"$f":"IF(G42=\"\",\"\",SUMIF(الدخول!$B$3:$B$1311,D42,الدخول!$I$3:$I$1311)+SUMIF(الدخول!$B$3:$B$1311,D42,الدخول!$T$3:$T$1311)+G42-SUMIF(الدخول!$B$3:$B$1311,D42,الدخول!$N$3:$N$1311))","v":""}]
["ابيض","استك طبي",3.02,"ابيض استك طبي 3,02",null,null,null,{"$f":"IF(E43=\"\",\"\",SUMIF(الدخول!$B$3:$B$1311,D43,الدخول!$F$3:$F$1311)+SUMIF(الدخول!$B$3:$B$1311,D43,الدخول!$Q$3:$Q$1311)+E43-SUMIF(الدخول!$B$3:$B$1311,D43,الدخول!$K$3:$K$1311))","v":""},{"$f":"IF(F43=\"\",\"\",SUMIF(الدخول!$B$3:$B$1311,D43,الدخول!$G$3:$G$1311)+SUMIF(الدخول!$B$3:$B$1311,D43,الدخول!$R$3:$R$1311)+F43-SUMIF(الدخول!$B$3:$B$1311,D43,الدخول!$L$3:$L$1311))","v":""},{"$f":"IF(G43=\"\",\"\",SUMIF(الدخول!$B$3:$B$1311,D43,الدخول!$I$3:$I$1311)+SUMIF(الدخول!$B$3:$B$1311,D43,الدخول!$T$3:$T$1311)+G43-SUMIF(الدخول!$B$3:$B$1311,D43,الدخول!$N$3:$N$1311))","v":""}]
["ابيض","استك طبي",4.92,"ابيض استك طبي 4,92",null,null,null,{"$f":"IF(E44=\"\",\"\",SUMIF(الدخول!$B$3:$B$1311,D44,الدخول!$F$3:$F$1311)+SUMIF(الدخول!$B$3:$B$1311,D44,الدخول!$Q$3:$Q$1311)+E44-SUMIF(الدخول!$B$3:$B$1311,D44,الدخول!$K$3:$K$1311))","v":""},{"$f":"IF(F44=\"\",\"\",SUMIF(الدخول!$B$3:$B$1311,D44,الدخول!$G$3:$G$1311)+SUMIF(الدخول!$B$3:$B$1311,D44,الدخول!$R$3:$R$1311)+F44-SUMIF(الدخول!$B$3:$B$1311,D44,الدخول!$L$3:$L$1311))","v":""},{"$f":"IF(G44=\"\",\"\",SUMIF(الدخول!$B$3:$B$1311,D44,الدخول!$I$3:$I$1311)+SUMIF(الدخول!$B$3:$B$1311,D44,الدخول!$T$3:$T$1311)+G44-SUMIF(الدخول!$B$3:$B$1311,D44,الدخول!$N$3:$N$1311))","v":""}]
["ابيض فلاش","كروشيه","5cm","ابيض فلاش كروشيه 5cm",null,null,null,{"$f":"IF(E45=\"\",\"\",SUMIF(الدخول!$B$3:$B$1311,D45,الدخول!$F$3:$F$1311)+SUMIF(الدخول!$B$3:$B$1311,D45,الدخول!$Q$3:$Q$1311)+E45-SUMIF(الدخول!$B$3:$B$1311,D45,الدخول!$K$3:$K$1311))","v":""},{"$f":"IF(F45=\"\",\"\",SUMIF(الدخول!$B$3:$B$1311,D45,الدخول!$G$3:$G$1311)+SUMIF(الدخول!$B$3:$B$1311,D45,الدخول!$R$3:$R$1311)+F45-SUMIF(الدخول!$B$3:$B$1311,D45,الدخول!$L$3:$L$1311))","v":""},{"$f":"IF(G45=\"\",\"\",SUMIF(الدخول!$B$3:$B$1311,D45,الدخول!$I$3:$I$1311)+SUMIF(الدخول!$B$3:$B$1311,D45,الدخول!$T$3:$T$1311)+G45-SUMIF(الدخول!$B$3:$B$1311,D45,الدخول!$N$3:$N$1311))","v":""}]
["ابيض فلاش","كروشيه","4.5cm","ابيض فلاش كروشيه 4.5cm",null,null,null,{"$f":"IF(E46=\"\",\"\",SUMIF(الدخول!$B$3:$B$1311,D46,الدخول!$F$3:$F$1311)+SUMIF(الدخول!$B$3:$B$1311,D46,الدخول!$Q$3:$Q$1311)+E46-SUMIF(الدخول!$B$3:$B$1311,D46,الدخول!$K$3:$K$1311))","v":""},{"$f":"IF(F46=\"\",\"\",SUMIF(الدخول!$B$3:$B$1311,D46,الدخول!$G$3:$G$1311)+SUMIF(الدخول!$B$3:$B$1311,D46,الدخول!$R$3:$R$1311)+F46-SUMIF(الدخول!$B$3:$B$1311,D46,الدخول!$L$3:$L$1311))","v":""},{"$f":"IF(G46=\"\",\"\",SUMIF(الدخول!$B$3:$B$1311,D46,الدخول!$I$3:$I$1311)+SUMIF(الدخول!$B$3:$B$1311,D46,الدخول!$T$3:$T$1311)+G46-SUMIF(الدخول!$B$3:$B$1311,D46,الدخول!$N$3:$N$1311))","v":""}]
["ابيض فلاش","كروشيه","3.5cm","ابيض فلاش كروشيه 3.5cm",null,null,null,{"$f":"IF(E47=\"\",\"\",SUMIF(الدخول!$B$3:$B$1311,D47,الدخول!$F$3:$F$1311)+SUMIF(الدخول!$B$3:$B$1311,D47,الدخول!$Q$3:$Q$1311)+E47-SUMIF(الدخول!$B$3:$B$1311,D47,الدخول!$K$3:$K$1311))","v":""},{"$f":"IF(F47=\"\",\"\",SUMIF(الدخول!$B$3:$B$1311,D47,الدخول!$G$3:$G$1311)+SUMIF(الدخول!$B$3:$B$1311,D47,الدخول!$R$3:$R$1311)+F47-SUMIF(الدخول!$B$3:$B$1311,D47,الدخول!$L$3:$L$1311))","v":""},{"$f":"IF(G47=\"\",\"\",SUMIF(الدخول!$B$3:$B$1311,D47,الدخول!$I$3:$I$1311)+SUMIF(الدخول!$B$3:$B$1311,D47,الدخول!$T$3:$T$1311)+G47-SUMIF(الدخول!$B$3:$B$1311,D47,الدخول!$N$3:$N$1311))","v":""}]
["ابيض فلاش","كروشيه","2cm","ابيض فلاش كروشيه 2cm",null,null,null,{"$f":"IF(E48=\"\",\"\",SUMIF(الدخول!$B$3:$B$1311,D48,الدخول!$F$3:$F$1311)+SUMIF(الدخول!$B$3:$B$1311,D48,الدخول!$Q$3:$Q$1311)+E48-SUMIF(الدخول!$B$3:$B$1311,D48,الدخول!$K$3:$K$1311))","v":""},{"$f":"IF(F48=\"\",\"\",SUMIF(الدخول!$B$3:$B$1311,D48,الدخول!$G$3:$G$1311)+SUMIF(الدخول!$B$3:$B$1311,D48,الدخول!$R$3:$R$1311)+F48-SUMIF(الدخول!$B$3:$B$1311,D48,الدخول!$L$3:$L$1311))","v":""},{"$f":"IF(G48=\"\",\"\",SUMIF(الدخول!$B$3:$B$1311,D48,الدخول!$I$3:$I$1311)+SUMIF(الدخول!$B$3:$B$1311,D48,الدخول!$T$3:$T$1311)+G48-SUMIF(الدخول!$B$3:$B$1311,D48,الدخول!$N$3:$N$1311))","v":""}]
["ابيض كانون","كروشيه","5.5cm","ابيض كانون كروشيه 5.5cm",null,null,null,{"$f":"IF(E49=\"\",\"\",SUMIF(الدخول!$B$3:$B$1311,D49,الدخول!$F$3:$F$1311)+SUMIF(الدخول!$B$3:$B$1311,D49,الدخول!$Q$3:$Q$1311)+E49-SUMIF(الدخول!$B$3:$B$1311,D49,الدخول!$K$3:$K$1311))","v":""},{"$f":"IF(F49=\"\",\"\",SUMIF(الدخول!$B$3:$B$1311,D49,الدخول!$G$3:$G$1311)+SUMIF(الدخول!$B$3:$B$1311,D49,الدخول!$R$3:$R$1311)+F49-SUMIF(الدخول!$B$3:$B$1311,D49,الدخول!$L$3:$L$1311))","v":""},{"$f":"IF(G49=\"\",\"\",SUMIF(الدخول!$B$3:$B$1311,D49,الدخول!$I$3:$I$1311)+SUMIF(الدخول!$B$3:$B$1311,D49,الدخول!$T$3:$T$1311)+G49-SUMIF(الدخول!$B$3:$B$1311,D49,الدخول!$N$3:$N$1311))","v":""}]
["ابيض كانون","كروشيه","4.5cm","ابيض كانون كروشيه 4.5cm",null,null,null,{"$f":"IF(E50=\"\",\"\",SUMIF(الدخول!$B$3:$B$1311,D50,الدخول!$F$3:$F$1311)+SUMIF(الدخول!$B$3:$B$1311,D50,الدخول!$Q$3:$Q$1311)+E50-SUMIF(الدخول!$B$3:$B$1311,D50,الدخول!$K$3:$K$1311))","v":""},{"$f":"IF(F50=\"\",\"\",SUMIF(الدخول!$B$3:$B$1311,D50,الدخول!$G$3:$G$1311)+SUMIF(الدخول!$B$3:$B$1311,D50,الدخول!$R$3:$R$1311)+F50-SUMIF(الدخول!$B$3:$B$1311,D50,الدخول!$L$3:$L$1311))","v":""},{"$f":"IF(G50=\"\",\"\",SUMIF(الدخول!$B$3:$B$1311,D50,الدخول!$I$3:$I$1311)+SUMIF(الدخول!$B$3:$B$1311,D50,الدخول!$T$3:$T$1311)+G50-SUMIF(الدخول!$B$3:$B$1311,D50,الدخول!$N$3:$N$1311))","v":""}]
["ابيض510","كروشيه","3cm","ابيض510 كروشيه 3cm",null,null,null,{"$f":"IF(E51=\"\",\"\",SUMIF(الدخول!$B$3:$B$1311,D51,الدخول!$F$3:$F$1311)+SUMIF(الدخول!$B$3:$B$1311,D51,الدخول!$Q$3:$Q$1311)+E51-SUMIF(الدخول!$B$3:$B$1311,D51,الدخول!$K$3:$K$1311))","v":""},{"$f":"IF(F51=\"\",\"\",SUMIF(الدخول!$B$3:$B$1311,D51,الدخول!$G$3:$G$1311)+SUMIF(الدخول!$B$3:$B$1311,D51,الدخول!$R$3:$R$1311)+F51-SUMIF(الدخول!$B$3:$B$1311,D51,الدخول!$L$3:$L$1311))","v":""},{"$f":"IF(G51=\"\",\"\",SUMIF(الدخول!$B$3:$B$1311,D51,الدخول!$I$3:$I$1311)+SUMIF(الدخول!$B$3:$B$1311,D51,الدخول!$T$3:$T$1311)+G51-SUMIF(الدخول!$B$3:$B$1311,D51,الدخول!$N$3:$N$1311))","v":""}]
["ابيض510","كروشيه","4cm","ابيض510 كروشيه 4cm",null,null,null,{"$f":"IF(E52=\"\",\"\",SUMIF(الدخول!$B$3:$B$1311,D52,الدخول!$F$3:$F$1311)+SUMIF(الدخول!$B$3:$B$1311,D52,الدخول!$Q$3:$Q$1311)+E52-SUMIF(الدخول!$B$3:$B$1311,D52,الدخول!$K$3:$K$1311))","v":""},{"$f":"IF(F52=\"\",\"\",SUMIF(الدخول!$B$3:$B$1311,D52,الدخول!$G$3:$G$1311)+SUMIF(الدخول!$B$3:$B$1311,D52,الدخول!$R$3:$R$1311)+F52-SUMIF(الدخول!$B$3:$B$1311,D52,الدخول!$L$3:$L$1311))","v":""},{"$f":"IF(G52=\"\",\"\",SUMIF(الدخول!$B$3:$B$1311,D52,الدخول!$I$3:$I$1311)+SUMIF(الدخول!$B$3:$B$1311,D52,الدخول!$T$3:$T$1311)+G52-SUMIF(الدخول!$B$3:$B$1311,D52,الدخول!$N$3:$N$1311))","v":""}]
["احمر","كورد","مبطط","احمر كورد مبطط",null,null,null,{"$f":"IF(E53=\"\",\"\",SUMIF(الدخول!$B$3:$B$1311,D53,الدخول!$F$3:$F$1311)+SUMIF(الدخول!$B$3:$B$1311,D53,الدخول!$Q$3:$Q$1311)+E53-SUMIF(الدخول!$B$3:$B$1311,D53,الدخول!$K$3:$K$1311))","v":""},{"$f":"IF(F53=\"\",\"\",SUMIF(الدخول!$B$3:$B$1311,D53,الدخول!$G$3:$G$1311)+SUMIF(الدخول!$B$3:$B$1311,D53,الدخول!$R$3:$R$1311)+F53-SUMIF(الدخول!$B$3:$B$1311,D53,الدخول!$L$3:$L$1311))","v":""},{"$f":"IF(G53=\"\",\"\",SUMIF(الدخول!$B$3:$B$1311,D53,الدخول!$I$3:$I$1311)+SUMIF(الدخول!$B$3:$B$1311,D53,الدخول!$T$3:$T$1311)+G53-SUMIF(الدخول!$B$3:$B$1311,D53,الدخول!$N$3:$N$1311))","v":""}]
["احمر","كورد","كبسله بلاستك ","احمر كورد كبسله بلاستك ",null,null,null,{"$f":"IF(E54=\"\",\"\",SUMIF(الدخول!$B$3:$B$1311,D54,الدخول!$F$3:$F$1311)+SUMIF(الدخول!$B$3:$B$1311,D54,الدخول!$Q$3:$Q$1311)+E54-SUMIF(الدخول!$B$3:$B$1311,D54,الدخول!$K$3:$K$1311))","v":""},{"$f":"IF(F54=\"\",\"\",SUMIF(الدخول!$B$3:$B$1311,D54,الدخول!$G$3:$G$1311)+SUMIF(الدخول!$B$3:$B$1311,D54,الدخول!$R$3:$R$1311)+F54-SUMIF(الدخول!$B$3:$B$1311,D54,الدخول!$L$3:$L$1311))","v":""},{"$f":"IF(G54=\"\",\"\",SUMIF(الدخول!$B$3:$B$1311,D54,الدخول!$I$3:$I$1311)+SUMIF(الدخول!$B$3:$B$1311,D54,الدخول!$T$3:$T$1311)+G54-SUMIF(الدخول!$B$3:$B$1311,D54,الدخول!$N$3:$N$1311))","v":""}]
["اخضر","كورد","مبطط","اخضر كورد مبطط",null,null,null,{"$f":"IF(E55=\"\",\"\",SUMIF(الدخول!$B$3:$B$1311,D55,الدخول!$F$3:$F$1311)+SUMIF(الدخول!$B$3:$B$1311,D55,الدخول!$Q$3:$Q$1311)+E55-SUMIF(الدخول!$B$3:$B$1311,D55,الدخول!$K$3:$K$1311))","v":""},{"$f":"IF(F55=\"\",\"\",SUMIF(الدخول!$B$3:$B$1311,D55,الدخول!$G$3:$G$1311)+SUMIF(الدخول!$B$3:$B$1311,D55,الدخول!$R$3:$R$1311)+F55-SUMIF(الدخول!$B$3:$B$1311,D55,الدخول!$L$3:$L$1311))","v":""},{"$f":"IF(G55=\"\",\"\",SUMIF(الدخول!$B$3:$B$1311,D55,الدخول!$I$3:$I$1311)+SUMIF(الدخول!$B$3:$B$1311,D55,الدخول!$T$3:$T$1311)+G55-SUMIF(الدخول!$B$3:$B$1311,D55,الدخول!$N$3:$N$1311))","v":""}]
["اسود","كروشيه","5.8cm","اسود كروشيه 5.8cm",null,null,null,{"$f":"IF(E56=\"\",\"\",SUMIF(الدخول!$B$3:$B$1311,D56,الدخول!$F$3:$F$1311)+SUMIF(الدخول!$B$3:$B$1311,D56,الدخول!$Q$3:$Q$1311)+E56-SUMIF(الدخول!$B$3:$B$1311,D56,الدخول!$K$3:$K$1311))","v":""},{"$f":"IF(F56=\"\",\"\",SUMIF(الدخول!$B$3:$B$1311,D56,الدخول!$G$3:$G$1311)+SUMIF(الدخول!$B$3:$B$1311,D56,الدخول!$R$3:$R$1311)+F56-SUMIF(الدخول!$B$3:$B$1311,D56,الدخول!$L$3:$L$1311))","v":""},{"$f":"IF(G56=\"\",\"\",SUMIF(الدخول!$B$3:$B$1311,D56,الدخول!$I$3:$I$1311)+SUMIF(الدخول!$B$3:$B$1311,D56,الدخول!$T$3:$T$1311)+G56-SUMIF(الدخول!$B$3:$B$1311,D56,الدخول!$N$3:$N$1311))","v":""}]
["اسود","كروشيه","5.5cm","اسود كروشيه 5.5cm",null,null,null,{"$f":"IF(E57=\"\",\"\",SUMIF(الدخول!$B$3:$B$1311,D57,الدخول!$F$3:$F$1311)+SUMIF(الدخول!$B$3:$B$1311,D57,الدخول!$Q$3:$Q$1311)+E57-SUMIF(الدخول!$B$3:$B$1311,D57,الدخول!$K$3:$K$1311))","v":""},{"$f":"IF(F57=\"\",\"\",SUMIF(الدخول!$B$3:$B$1311,D57,الدخول!$G$3:$G$1311)+SUMIF(الدخول!$B$3:$B$1311,D57,الدخول!$R$3:$R$1311)+F57-SUMIF(الدخول!$B$3:$B$1311,D57,الدخول!$L$3:$L$1311))","v":""},{"$f":"IF(G57=\"\",\"\",SUMIF(الدخول!$B$3:$B$1311,D57,الدخول!$I$3:$I$1311)+SUMIF(الدخول!$B$3:$B$1311,D57,الدخول!$T$3:$T$1311)+G57-SUMIF(الدخول!$B$3:$B$1311,D57,الدخول!$N$3:$N$1311))","v":""}]
["اسود","كروشيه","5cm","اسود كروشيه 5cm",null,null,null,{"$f":"IF(E58=\"\",\"\",SUMIF(الدخول!$B$3:$B$1311,D58,الدخول!$F$3:$F$1311)+SUMIF(الدخول!$B$3:$B$1311,D58,الدخول!$Q$3:$Q$1311)+E58-SUMIF(الدخول!$B$3:$B$1311,D58,الدخول!$K$3:$K$1311))","v":""},{"$f":"IF(F58=\"\",\"\",SUMIF(الدخول!$B$3:$B$1311,D58,الدخول!$G$3:$G$1311)+SUMIF(الدخول!$B$3:$B$1311,D58,الدخول!$R$3:$R$1311)+F58-SUMIF(الدخول!$B$3:$B$1311,D58,الدخول!$L$3:$L$1311))","v":""},{"$f":"IF(G58=\"\",\"\",SUMIF(الدخول!$B$3:$B$1311,D58,الدخول!$I$3:$I$1311)+SUMIF(الدخول!$B$3:$B$1311,D58,الدخول!$T$3:$T$1311)+G58-SUMIF(الدخول!$B$3:$B$1311,D58,الدخول!$N$3:$N$1311))","v":""}]
["اسود","كروشيه","4.8cm","اسود كروشيه 4.8cm",null,null,null,{"$f":"IF(E59=\"\",\"\",SUMIF(الدخول!$B$3:$B$1311,D59,الدخول!$F$3:$F$1311)+SUMIF(الدخول!$B$3:$B$1311,D59,الدخول!$Q$3:$Q$1311)+E59-SUMIF(الدخول!$B$3:$B$1311,D59,الدخول!$K$3:$K$1311))","v":""},{"$f":"IF(F59=\"\",\"\",SUMIF(الدخول!$B$3:$B$1311,D59,الدخول!$G$3:$G$1311)+SUMIF(الدخول!$B$3:$B$1311,D59,الدخول!$R$3:$R$1311)+F59-SUMIF(الدخول!$B$3:$B$1311,D59,الدخول!$L$3:$L$1311))","v":""},{"$f":"IF(G59=\"\",\"\",SUMIF(الدخول!$B$3:$B$1311,D59,الدخول!$I$3:$I$1311)+SUMIF(الدخول!$B$3:$B$1311,D59,الدخول!$T$3:$T$1311)+G59-SUMIF(الدخول!$B$3:$B$1311,D59,الدخول!$N$3:$N$1311))","v":""}]
["اسود","كروشيه","4.5cm","اسود كروشيه 4.5cm",null,null,null,{"$f":"IF(E60=\"\",\"\",SUMIF(الدخول!$B$3:$B$1311,D60,الدخول!$F$3:$F$1311)+SUMIF(الدخول!$B$3:$B$1311,D60,الدخول!$Q$3:$Q$1311)+E60-SUMIF(الدخول!$B$3:$B$1311,D60,الدخول!$K$3:$K$1311))","v":""},{"$f":"IF(F60=\"\",\"\",SUMIF(الدخول!$B$3:$B$1311,D60,الدخول!$G$3:$G$1311)+SUMIF(الدخول!$B$3:$B$1311,D60,الدخول!$R$3:$R$1311)+F60-SUMIF(الدخول!$B$3:$B$1311,D60,الدخول!$L$3:$L$1311))","v":""},{"$f":"IF(G60=\"\",\"\",SUMIF(الدخول!$B$3:$B$1311,D60,الدخول!$I$3:$I$1311)+SUMIF(الدخول!$B$3:$B$1311,D60,الدخول!$T$3:$T$1311)+G60-SUMIF(الدخول!$B$3:$B$1311,D60,الدخول!$N$3:$N$1311))","v":""}]
["اسود","كروشيه","4cm","اسود كروشيه 4cm",null,null,null,{"$f":"IF(E61=\"\",\"\",SUMIF(الدخول!$B$3:$B$1311,D61,الدخول!$F$3:$F$1311)+SUMIF(الدخول!$B$3:$B$1311,D61,الدخول!$Q$3:$Q$1311)+E61-SUMIF(الدخول!$B$3:$B$1311,D61,الدخول!$K$3:$K$1311))","v":""},{"$f":"IF(F61=\"\",\"\",SUMIF(الدخول!$B$3:$B$1311,D61,الدخول!$G$3:$G$1311)+SUMIF(الدخول!$B$3:$B$1311,D61,الدخول!$R$3:$R$1311)+F61-SUMIF(الدخول!$B$3:$B$1311,D61,الدخول!$L$3:$L$1311))","v":""},{"$f":"IF(G61=\"\",\"\",SUMIF(الدخول!$B$3:$B$1311,D61,الدخول!$I$3:$I$1311)+SUMIF(الدخول!$B$3:$B$1311,D61,الدخول!$T$3:$T$1311)+G61-SUMIF(الدخول!$B$3:$B$1311,D61,الدخول!$N$3:$N$1311))","v":""}]
["اسود","كروشيه","3.5cm","اسود كروشيه 3.5cm",null,null,null,{"$f":"IF(E62=\"\",\"\",SUMIF(الدخول!$B$3:$B$1311,D62,الدخول!$F$3:$F$1311)+SUMIF(الدخول!$B$3:$B$1311,D62,الدخول!$Q$3:$Q$1311)+E62-SUMIF(الدخول!$B$3:$B$1311,D62,الدخول!$K$3:$K$1311))","v":""},{"$f":"IF(F62=\"\",\"\",SUMIF(الدخول!$B$3:$B$1311,D62,الدخول!$G$3:$G$1311)+SUMIF(الدخول!$B$3:$B$1311,D62,الدخول!$R$3:$R$1311)+F62-SUMIF(الدخول!$B$3:$B$1311,D62,الدخول!$L$3:$L$1311))","v":""},{"$f":"IF(G62=\"\",\"\",SUMIF(الدخول!$B$3:$B$1311,D62,الدخول!$I$3:$I$1311)+SUMIF(الدخول!$B$3:$B$1311,D62,الدخول!$T$3:$T$1311)+G62-SUMIF(الدخول!$B$3:$B$1311,D62,الدخول!$N$3:$N$1311))","v":""}]
["اسود","كروشيه","3cm","اسود كروشيه 3cm",null,null,null,{"$f":"IF(E63=\"\",\"\",SUMIF(الدخول!$B$3:$B$1311,D63,الدخول!$F$3:$F$1311)+SUMIF(الدخول!$B$3:$B$1311,D63,الدخول!$Q$3:$Q$1311)+E63-SUMIF(الدخول!$B$3:$B$1311,D63,الدخول!$K$3:$K$1311))","v":""},{"$f":"IF(F63=\"\",\"\",SUMIF(الدخول!$B$3:$B$1311,D63,الدخول!$G$3:$G$1311)+SUMIF(الدخول!$B$3:$B$1311,D63,الدخول!$R$3:$R$1311)+F63-SUMIF(الدخول!$B$3:$B$1311,D63,الدخول!$L$3:$L$1311))","v":""},{"$f":"IF(G63=\"\",\"\",SUMIF(الدخول!$B$3:$B$1311,D63,الدخول!$I$3:$I$1311)+SUMIF(الدخول!$B$3:$B$1311,D63,الدخول!$T$3:$T$1311)+G63-SUMIF(الدخول!$B$3:$B$1311,D63,الدخول!$N$3:$N$1311))","v":""}]
["اسود","كروشيه","2.5cm","اسود كروشيه 2.5cm",null,null,null,{"$f":"IF(E64=\"\",\"\",SUMIF(الدخول!$B$3:$B$1311,D64,الدخول!$F$3:$F$1311)+SUMIF(الدخول!$B$3:$B$1311,D64,الدخول!$Q$3:$Q$1311)+E64-SUMIF(الدخول!$B$3:$B$1311,D64,الدخول!$K$3:$K$1311))","v":""},{"$f":"IF(F64=\"\",\"\",SUMIF(الدخول!$B$3:$B$1311,D64,الدخول!$G$3:$G$1311)+SUMIF(الدخول!$B$3:$B$1311,D64,الدخول!$R$3:$R$1311)+F64-SUMIF(الدخول!$B$3:$B$1311,D64,الدخول!$L$3:$L$1311))","v":""},{"$f":"IF(G64=\"\",\"\",SUMIF(الدخول!$B$3:$B$1311,D64,الدخول!$I$3:$I$1311)+SUMIF(الدخول!$B$3:$B$1311,D64,الدخول!$T$3:$T$1311)+G64-SUMIF(الدخول!$B$3:$B$1311,D64,الدخول!$N$3:$N$1311))","v":""}]
["اسود","كروشيه","2cm","اسود كروشيه 2cm",null,null,null,{"$f":"IF(E65=\"\",\"\",SUMIF(الدخول!$B$3:$B$1311,D65,الدخول!$F$3:$F$1311)+SUMIF(الدخول!$B$3:$B$1311,D65,الدخول!$Q$3:$Q$1311)+E65-SUMIF(الدخول!$B$3:$B$1311,D65,الدخول!$K$3:$K$1311))","v":""},{"$f":"IF(F65=\"\",\"\",SUMIF(الدخول!$B$3:$B$1311,D65,الدخول!$G$3:$G$1311)+SUMIF(الدخول!$B$3:$B$1311,D65,الدخول!$R$3:$R$1311)+F65-SUMIF(الدخول!$B$3:$B$1311,D65,الدخول!$L$3:$L$1311))","v":""},{"$f":"IF(G65=\"\",\"\",SUMIF(الدخول!$B$3:$B$1311,D65,الدخول!$I$3:$I$1311)+SUMIF(الدخول!$B$3:$B$1311,D65,الدخول!$T$3:$T$1311)+G65-SUMIF(الدخول!$B$3:$B$1311,D65,الدخول!$N$3:$N$1311))","v":""}]
["اسود","كروشيه","1.7cm",{"$f":"A66&\" \"&B66&\" \"&C66","v":"اسود كروشيه 1.7cm"},null,null,null,{"$f":"IF(E66=\"\",\"\",SUMIF(الدخول!$B$3:$B$1311,D66,الدخول!$F$3:$F$1311)+SUMIF(الدخول!$B$3:$B$1311,D66,الدخول!$Q$3:$Q$1311)+E66-SUMIF(الدخول!$B$3:$B$1311,D66,الدخول!$K$3:$K$1311))","v":""},{"$f":"IF(F66=\"\",\"\",SUMIF(الدخول!$B$3:$B$1311,D66,الدخول!$G$3:$G$1311)+SUMIF(الدخول!$B$3:$B$1311,D66,الدخول!$R$3:$R$1311)+F66-SUMIF(الدخول!$B$3:$B$1311,D66,الدخول!$L$3:$L$1311))","v":""},{"$f":"IF(G66=\"\",\"\",SUMIF(الدخول!$B$3:$B$1311,D66,الدخول!$I$3:$I$1311)+SUMIF(الدخول!$B$3:$B$1311,D66,الدخول!$T$3:$T$1311)+G66-SUMIF(الدخول!$B$3:$B$1311,D66,الدخول!$N$3:$N$1311))","v":""}]
["اسود","كروشيه","1.5cm","اسود كروشيه 1.5cm",null,null,null,{"$f":"IF(E67=\"\",\"\",SUMIF(الدخول!$B$3:$B$1311,D67,الدخول!$F$3:$F$1311)+SUMIF(الدخول!$B$3:$B$1311,D67,الدخول!$Q$3:$Q$1311)+E67-SUMIF(الدخول!$B$3:$B$1311,D67,الدخول!$K$3:$K$1311))","v":""},{"$f":"IF(F67=\"\",\"\",SUMIF(الدخول!$B$3:$B$1311,D67,الدخول!$G$3:$G$1311)+SUMIF(الدخول!$B$3:$B$1311,D67,الدخول!$R$3:$R$1311)+F67-SUMIF(الدخول!$B$3:$B$1311,D67,الدخول!$L$3:$L$1311))","v":""},{"$f":"IF(G67=\"\",\"\",SUMIF(الدخول!$B$3:$B$1311,D67,الدخول!$I$3:$I$1311)+SUMIF(الدخول!$B$3:$B$1311,D67,الدخول!$T$3:$T$1311)+G67-SUMIF(الدخول!$B$3:$B$1311,D67,الدخول!$N$3:$N$1311))","v":""}]
["اسود","كروشيه","1.3cm","اسود كروشيه 1.3cm",null,null,null,{"$f":"IF(E68=\"\",\"\",SUMIF(الدخول!$B$3:$B$1311,D68,الدخول!$F$3:$F$1311)+SUMIF(الدخول!$B$3:$B$1311,D68,الدخول!$Q$3:$Q$1311)+E68-SUMIF(الدخول!$B$3:$B$1311,D68,الدخول!$K$3:$K$1311))","v":""},{"$f":"IF(F68=\"\",\"\",SUMIF(الدخول!$B$3:$B$1311,D68,الدخول!$G$3:$G$1311)+SUMIF(الدخول!$B$3:$B$1311,D68,الدخول!$R$3:$R$1311)+F68-SUMIF(الدخول!$B$3:$B$1311,D68,الدخول!$L$3:$L$1311))","v":""},{"$f":"IF(G68=\"\",\"\",SUMIF(الدخول!$B$3:$B$1311,D68,الدخول!$I$3:$I$1311)+SUMIF(الدخول!$B$3:$B$1311,D68,الدخول!$T$3:$T$1311)+G68-SUMIF(الدخول!$B$3:$B$1311,D68,الدخول!$N$3:$N$1311))","v":""}]
["اسود","كروشيه","1cm","اسود كروشيه 1cm",null,null,null,{"$f":"IF(E69=\"\",\"\",SUMIF(الدخول!$B$3:$B$1311,D69,الدخول!$F$3:$F$1311)+SUMIF(الدخول!$B$3:$B$1311,D69,الدخول!$Q$3:$Q$1311)+E69-SUMIF(الدخول!$B$3:$B$1311,D69,الدخول!$K$3:$K$1311))","v":""},{"$f":"IF(F69=\"\",\"\",SUMIF(الدخول!$B$3:$B$1311,D69,الدخول!$G$3:$G$1311)+SUMIF(الدخول!$B$3:$B$1311,D69,الدخول!$R$3:$R$1311)+F69-SUMIF(الدخول!$B$3:$B$1311,D69,الدخول!$L$3:$L$1311))","v":""},{"$f":"IF(G69=\"\",\"\",SUMIF(الدخول!$B$3:$B$1311,D69,الدخول!$I$3:$I$1311)+SUMIF(الدخول!$B$3:$B$1311,D69,الدخول!$T$3:$T$1311)+G69-SUMIF(الدخول!$B$3:$B$1311,D69,الدخول!$N$3:$N$1311))","v":""}]
["اسود","كروشيه","8mm","اسود كروشيه 8mm",null,null,null,{"$f":"IF(E70=\"\",\"\",SUMIF(الدخول!$B$3:$B$1311,D70,الدخول!$F$3:$F$1311)+SUMIF(الدخول!$B$3:$B$1311,D70,الدخول!$Q$3:$Q$1311)+E70-SUMIF(الدخول!$B$3:$B$1311,D70,الدخول!$K$3:$K$1311))","v":""},{"$f":"IF(F70=\"\",\"\",SUMIF(الدخول!$B$3:$B$1311,D70,الدخول!$G$3:$G$1311)+SUMIF(الدخول!$B$3:$B$1311,D70,الدخول!$R$3:$R$1311)+F70-SUMIF(الدخول!$B$3:$B$1311,D70,الدخول!$L$3:$L$1311))","v":""},{"$f":"IF(G70=\"\",\"\",SUMIF(الدخول!$B$3:$B$1311,D70,الدخول!$I$3:$I$1311)+SUMIF(الدخول!$B$3:$B$1311,D70,الدخول!$T$3:$T$1311)+G70-SUMIF(الدخول!$B$3:$B$1311,D70,الدخول!$N$3:$N$1311))","v":""}]
["اسود","كروشيه","3.8cm","اسود كروشيه 3.8cm",null,null,null,{"$f":"IF(E71=\"\",\"\",SUMIF(الدخول!$B$3:$B$1311,D71,الدخول!$F$3:$F$1311)+SUMIF(الدخول!$B$3:$B$1311,D71,الدخول!$Q$3:$Q$1311)+E71-SUMIF(الدخول!$B$3:$B$1311,D71,الدخول!$K$3:$K$1311))","v":""},{"$f":"IF(F71=\"\",\"\",SUMIF(الدخول!$B$3:$B$1311,D71,الدخول!$G$3:$G$1311)+SUMIF(الدخول!$B$3:$B$1311,D71,الدخول!$R$3:$R$1311)+F71-SUMIF(الدخول!$B$3:$B$1311,D71,الدخول!$L$3:$L$1311))","v":""},{"$f":"IF(G71=\"\",\"\",SUMIF(الدخول!$B$3:$B$1311,D71,الدخول!$I$3:$I$1311)+SUMIF(الدخول!$B$3:$B$1311,D71,الدخول!$T$3:$T$1311)+G71-SUMIF(الدخول!$B$3:$B$1311,D71,الدخول!$N$3:$N$1311))","v":""}]
["اسود","كروشيه",".8m","اسود كروشيه .8m",null,null,null,{"$f":"IF(E72=\"\",\"\",SUMIF(الدخول!$B$3:$B$1311,D72,الدخول!$F$3:$F$1311)+SUMIF(الدخول!$B$3:$B$1311,D72,الدخول!$Q$3:$Q$1311)+E72-SUMIF(الدخول!$B$3:$B$1311,D72,الدخول!$K$3:$K$1311))","v":""},{"$f":"IF(F72=\"\",\"\",SUMIF(الدخول!$B$3:$B$1311,D72,الدخول!$G$3:$G$1311)+SUMIF(الدخول!$B$3:$B$1311,D72,الدخول!$R$3:$R$1311)+F72-SUMIF(الدخول!$B$3:$B$1311,D72,الدخول!$L$3:$L$1311))","v":""},{"$f":"IF(G72=\"\",\"\",SUMIF(الدخول!$B$3:$B$1311,D72,الدخول!$I$3:$I$1311)+SUMIF(الدخول!$B$3:$B$1311,D72,الدخول!$T$3:$T$1311)+G72-SUMIF(الدخول!$B$3:$B$1311,D72,الدخول!$N$3:$N$1311))","v":""}]
["اسود","كروشيه","1.2cm","اسود كروشيه 1.2cm",null,null,null,{"$f":"IF(E73=\"\",\"\",SUMIF(الدخول!$B$3:$B$1311,D73,الدخول!$F$3:$F$1311)+SUMIF(الدخول!$B$3:$B$1311,D73,الدخول!$Q$3:$Q$1311)+E73-SUMIF(الدخول!$B$3:$B$1311,D73,الدخول!$K$3:$K$1311))","v":""},{"$f":"IF(F73=\"\",\"\",SUMIF(الدخول!$B$3:$B$1311,D73,الدخول!$G$3:$G$1311)+SUMIF(الدخول!$B$3:$B$1311,D73,الدخول!$R$3:$R$1311)+F73-SUMIF(الدخول!$B$3:$B$1311,D73,الدخول!$L$3:$L$1311))","v":""},{"$f":"IF(G73=\"\",\"\",SUMIF(الدخول!$B$3:$B$1311,D73,الدخول!$I$3:$I$1311)+SUMIF(الدخول!$B$3:$B$1311,D73,الدخول!$T$3:$T$1311)+G73-SUMIF(الدخول!$B$3:$B$1311,D73,الدخول!$N$3:$N$1311))","v":""}]
["اسود","كروشيه",".4m","اسود كروشيه .4m",null,null,null,{"$f":"IF(E74=\"\",\"\",SUMIF(الدخول!$B$3:$B$1311,D74,الدخول!$F$3:$F$1311)+SUMIF(الدخول!$B$3:$B$1311,D74,الدخول!$Q$3:$Q$1311)+E74-SUMIF(الدخول!$B$3:$B$1311,D74,الدخول!$K$3:$K$1311))","v":""},{"$f":"IF(F74=\"\",\"\",SUMIF(الدخول!$B$3:$B$1311,D74,الدخول!$G$3:$G$1311)+SUMIF(الدخول!$B$3:$B$1311,D74,الدخول!$R$3:$R$1311)+F74-SUMIF(الدخول!$B$3:$B$1311,D74,الدخول!$L$3:$L$1311))","v":""},{"$f":"IF(G74=\"\",\"\",SUMIF(الدخول!$B$3:$B$1311,D74,الدخول!$I$3:$I$1311)+SUMIF(الدخول!$B$3:$B$1311,D74,الدخول!$T$3:$T$1311)+G74-SUMIF(الدخول!$B$3:$B$1311,D74,الدخول!$N$3:$N$1311))","v":""}]
["اسود","كروشيه","1.4cm","اسود كروشيه 1.4cm",null,null,null,{"$f":"IF(E75=\"\",\"\",SUMIF(الدخول!$B$3:$B$1311,D75,الدخول!$F$3:$F$1311)+SUMIF(الدخول!$B$3:$B$1311,D75,الدخول!$Q$3:$Q$1311)+E75-SUMIF(الدخول!$B$3:$B$1311,D75,الدخول!$K$3:$K$1311))","v":""},{"$f":"IF(F75=\"\",\"\",SUMIF(الدخول!$B$3:$B$1311,D75,الدخول!$G$3:$G$1311)+SUMIF(الدخول!$B$3:$B$1311,D75,الدخول!$R$3:$R$1311)+F75-SUMIF(الدخول!$B$3:$B$1311,D75,الدخول!$L$3:$L$1311))","v":""},{"$f":"IF(G75=\"\",\"\",SUMIF(الدخول!$B$3:$B$1311,D75,الدخول!$I$3:$I$1311)+SUMIF(الدخول!$B$3:$B$1311,D75,الدخول!$T$3:$T$1311)+G75-SUMIF(الدخول!$B$3:$B$1311,D75,الدخول!$N$3:$N$1311))","v":""}]
["اسود","كروشيه","2.2cm","اسود كروشيه 2.2cm",null,null,null,{"$f":"IF(E76=\"\",\"\",SUMIF(الدخول!$B$3:$B$1311,D76,الدخول!$F$3:$F$1311)+SUMIF(الدخول!$B$3:$B$1311,D76,الدخول!$Q$3:$Q$1311)+E76-SUMIF(الدخول!$B$3:$B$1311,D76,الدخول!$K$3:$K$1311))","v":""},{"$f":"IF(F76=\"\",\"\",SUMIF(الدخول!$B$3:$B$1311,D76,الدخول!$G$3:$G$1311)+SUMIF(الدخول!$B$3:$B$1311,D76,الدخول!$R$3:$R$1311)+F76-SUMIF(الدخول!$B$3:$B$1311,D76,الدخول!$L$3:$L$1311))","v":""},{"$f":"IF(G76=\"\",\"\",SUMIF(الدخول!$B$3:$B$1311,D76,الدخول!$I$3:$I$1311)+SUMIF(الدخول!$B$3:$B$1311,D76,الدخول!$T$3:$T$1311)+G76-SUMIF(الدخول!$B$3:$B$1311,D76,الدخول!$N$3:$N$1311))","v":""}]
["اسود","كورد","1cm","اسود كورد 1cm",null,null,null,{"$f":"IF(E77=\"\",\"\",SUMIF(الدخول!$B$3:$B$1311,D77,الدخول!$F$3:$F$1311)+SUMIF(الدخول!$B$3:$B$1311,D77,الدخول!$Q$3:$Q$1311)+E77-SUMIF(الدخول!$B$3:$B$1311,D77,الدخول!$K$3:$K$1311))","v":""},{"$f":"IF(F77=\"\",\"\",SUMIF(الدخول!$B$3:$B$1311,D77,الدخول!$G$3:$G$1311)+SUMIF(الدخول!$B$3:$B$1311,D77,الدخول!$R$3:$R$1311)+F77-SUMIF(الدخول!$B$3:$B$1311,D77,الدخول!$L$3:$L$1311))","v":""},{"$f":"IF(G77=\"\",\"\",SUMIF(الدخول!$B$3:$B$1311,D77,الدخول!$I$3:$I$1311)+SUMIF(الدخول!$B$3:$B$1311,D77,الدخول!$T$3:$T$1311)+G77-SUMIF(الدخول!$B$3:$B$1311,D77,الدخول!$N$3:$N$1311))","v":""}]
["اسود","كورد","مبطط","اسود كورد مبطط",null,null,null,{"$f":"IF(E78=\"\",\"\",SUMIF(الدخول!$B$3:$B$1311,D78,الدخول!$F$3:$F$1311)+SUMIF(الدخول!$B$3:$B$1311,D78,الدخول!$Q$3:$Q$1311)+E78-SUMIF(الدخول!$B$3:$B$1311,D78,الدخول!$K$3:$K$1311))","v":""},{"$f":"IF(F78=\"\",\"\",SUMIF(الدخول!$B$3:$B$1311,D78,الدخول!$G$3:$G$1311)+SUMIF(الدخول!$B$3:$B$1311,D78,الدخول!$R$3:$R$1311)+F78-SUMIF(الدخول!$B$3:$B$1311,D78,الدخول!$L$3:$L$1311))","v":""},{"$f":"IF(G78=\"\",\"\",SUMIF(الدخول!$B$3:$B$1311,D78,الدخول!$I$3:$I$1311)+SUMIF(الدخول!$B$3:$B$1311,D78,الدخول!$T$3:$T$1311)+G78-SUMIF(الدخول!$B$3:$B$1311,D78,الدخول!$N$3:$N$1311))","v":""}]
["اسود","كورد","مبروم","اسود كورد مبروم",null,null,null,{"$f":"IF(E79=\"\",\"\",SUMIF(الدخول!$B$3:$B$1311,D79,الدخول!$F$3:$F$1311)+SUMIF(الدخول!$B$3:$B$1311,D79,الدخول!$Q$3:$Q$1311)+E79-SUMIF(الدخول!$B$3:$B$1311,D79,الدخول!$K$3:$K$1311))","v":""},{"$f":"IF(F79=\"\",\"\",SUMIF(الدخول!$B$3:$B$1311,D79,الدخول!$G$3:$G$1311)+SUMIF(الدخول!$B$3:$B$1311,D79,الدخول!$R$3:$R$1311)+F79-SUMIF(الدخول!$B$3:$B$1311,D79,الدخول!$L$3:$L$1311))","v":""},{"$f":"IF(G79=\"\",\"\",SUMIF(الدخول!$B$3:$B$1311,D79,الدخول!$I$3:$I$1311)+SUMIF(الدخول!$B$3:$B$1311,D79,الدخول!$T$3:$T$1311)+G79-SUMIF(الدخول!$B$3:$B$1311,D79,الدخول!$N$3:$N$1311))","v":""}]
["اسود","ووفين ساندوتش","1.5cm","اسود ووفين ساندوتش 1.5cm",null,null,null,{"$f":"IF(E80=\"\",\"\",SUMIF(الدخول!$B$3:$B$1311,D80,الدخول!$F$3:$F$1311)+SUMIF(الدخول!$B$3:$B$1311,D80,الدخول!$Q$3:$Q$1311)+E80-SUMIF(الدخول!$B$3:$B$1311,D80,الدخول!$K$3:$K$1311))","v":""},{"$f":"IF(F80=\"\",\"\",SUMIF(الدخول!$B$3:$B$1311,D80,الدخول!$G$3:$G$1311)+SUMIF(الدخول!$B$3:$B$1311,D80,الدخول!$R$3:$R$1311)+F80-SUMIF(الدخول!$B$3:$B$1311,D80,الدخول!$L$3:$L$1311))","v":""},{"$f":"IF(G80=\"\",\"\",SUMIF(الدخول!$B$3:$B$1311,D80,الدخول!$I$3:$I$1311)+SUMIF(الدخول!$B$3:$B$1311,D80,الدخول!$T$3:$T$1311)+G80-SUMIF(الدخول!$B$3:$B$1311,D80,الدخول!$N$3:$N$1311))","v":""}]
["اسود","ووفين ساندوتش","1.8cm","اسود ووفين ساندوتش 1.8cm",null,null,null,{"$f":"IF(E81=\"\",\"\",SUMIF(الدخول!$B$3:$B$1311,D81,الدخول!$F$3:$F$1311)+SUMIF(الدخول!$B$3:$B$1311,D81,الدخول!$Q$3:$Q$1311)+E81-SUMIF(الدخول!$B$3:$B$1311,D81,الدخول!$K$3:$K$1311))","v":""},{"$f":"IF(F81=\"\",\"\",SUMIF(الدخول!$B$3:$B$1311,D81,الدخول!$G$3:$G$1311)+SUMIF(الدخول!$B$3:$B$1311,D81,الدخول!$R$3:$R$1311)+F81-SUMIF(الدخول!$B$3:$B$1311,D81,الدخول!$L$3:$L$1311))","v":""},{"$f":"IF(G81=\"\",\"\",SUMIF(الدخول!$B$3:$B$1311,D81,الدخول!$I$3:$I$1311)+SUMIF(الدخول!$B$3:$B$1311,D81,الدخول!$T$3:$T$1311)+G81-SUMIF(الدخول!$B$3:$B$1311,D81,الدخول!$N$3:$N$1311))","v":""}]
["اسود","ووفين ساندوتش","1.7cm","اسود ووفين ساندوتش 1.7cm",null,null,null,{"$f":"IF(E82=\"\",\"\",SUMIF(الدخول!$B$3:$B$1311,D82,الدخول!$F$3:$F$1311)+SUMIF(الدخول!$B$3:$B$1311,D82,الدخول!$Q$3:$Q$1311)+E82-SUMIF(الدخول!$B$3:$B$1311,D82,الدخول!$K$3:$K$1311))","v":""},{"$f":"IF(F82=\"\",\"\",SUMIF(الدخول!$B$3:$B$1311,D82,الدخول!$G$3:$G$1311)+SUMIF(الدخول!$B$3:$B$1311,D82,الدخول!$R$3:$R$1311)+F82-SUMIF(الدخول!$B$3:$B$1311,D82,الدخول!$L$3:$L$1311))","v":""},{"$f":"IF(G82=\"\",\"\",SUMIF(الدخول!$B$3:$B$1311,D82,الدخول!$I$3:$I$1311)+SUMIF(الدخول!$B$3:$B$1311,D82,الدخول!$T$3:$T$1311)+G82-SUMIF(الدخول!$B$3:$B$1311,D82,الدخول!$N$3:$N$1311))","v":""}]
["اسود","ووفين ساندوتش","2cm","اسود ووفين ساندوتش 2cm",null,null,null,{"$f":"IF(E83=\"\",\"\",SUMIF(الدخول!$B$3:$B$1311,D83,الدخول!$F$3:$F$1311)+SUMIF(الدخول!$B$3:$B$1311,D83,الدخول!$Q$3:$Q$1311)+E83-SUMIF(الدخول!$B$3:$B$1311,D83,الدخول!$K$3:$K$1311))","v":""},{"$f":"IF(F83=\"\",\"\",SUMIF(الدخول!$B$3:$B$1311,D83,الدخول!$G$3:$G$1311)+SUMIF(الدخول!$B$3:$B$1311,D83,الدخول!$R$3:$R$1311)+F83-SUMIF(الدخول!$B$3:$B$1311,D83,الدخول!$L$3:$L$1311))","v":""},{"$f":"IF(G83=\"\",\"\",SUMIF(الدخول!$B$3:$B$1311,D83,الدخول!$I$3:$I$1311)+SUMIF(الدخول!$B$3:$B$1311,D83,الدخول!$T$3:$T$1311)+G83-SUMIF(الدخول!$B$3:$B$1311,D83,الدخول!$N$3:$N$1311))","v":""}]
["اسود","استك طبي",2.98,"اسود استك طبي 2,98",null,null,null,{"$f":"IF(E84=\"\",\"\",SUMIF(الدخول!$B$3:$B$1311,D84,الدخول!$F$3:$F$1311)+SUMIF(الدخول!$B$3:$B$1311,D84,الدخول!$Q$3:$Q$1311)+E84-SUMIF(الدخول!$B$3:$B$1311,D84,الدخول!$K$3:$K$1311))","v":""},{"$f":"IF(F84=\"\",\"\",SUMIF(الدخول!$B$3:$B$1311,D84,الدخول!$G$3:$G$1311)+SUMIF(الدخول!$B$3:$B$1311,D84,الدخول!$R$3:$R$1311)+F84-SUMIF(الدخول!$B$3:$B$1311,D84,الدخول!$L$3:$L$1311))","v":""},{"$f":"IF(G84=\"\",\"\",SUMIF(الدخول!$B$3:$B$1311,D84,الدخول!$I$3:$I$1311)+SUMIF(الدخول!$B$3:$B$1311,D84,الدخول!$T$3:$T$1311)+G84-SUMIF(الدخول!$B$3:$B$1311,D84,الدخول!$N$3:$N$1311))","v":""}]
["اسود","استك طبي",2.2599999999999998,"اسود استك طبي 2,26",null,null,null,{"$f":"IF(E85=\"\",\"\",SUMIF(الدخول!$B$3:$B$1311,D85,الدخول!$F$3:$F$1311)+SUMIF(الدخول!$B$3:$B$1311,D85,الدخول!$Q$3:$Q$1311)+E85-SUMIF(الدخول!$B$3:$B$1311,D85,الدخول!$K$3:$K$1311))","v":""},{"$f":"IF(F85=\"\",\"\",SUMIF(الدخول!$B$3:$B$1311,D85,الدخول!$G$3:$G$1311)+SUMIF(الدخول!$B$3:$B$1311,D85,الدخول!$R$3:$R$1311)+F85-SUMIF(الدخول!$B$3:$B$1311,D85,الدخول!$L$3:$L$1311))","v":""},{"$f":"IF(G85=\"\",\"\",SUMIF(الدخول!$B$3:$B$1311,D85,الدخول!$I$3:$I$1311)+SUMIF(الدخول!$B$3:$B$1311,D85,الدخول!$T$3:$T$1311)+G85-SUMIF(الدخول!$B$3:$B$1311,D85,الدخول!$N$3:$N$1311))","v":""}]
["اسود  ","كروشيه","5.8cm","اسود   كروشيه 5.8cm",null,null,null,{"$f":"IF(E86=\"\",\"\",SUMIF(الدخول!$B$3:$B$1311,D86,الدخول!$F$3:$F$1311)+SUMIF(الدخول!$B$3:$B$1311,D86,الدخول!$Q$3:$Q$1311)+E86-SUMIF(الدخول!$B$3:$B$1311,D86,الدخول!$K$3:$K$1311))","v":""},{"$f":"IF(F86=\"\",\"\",SUMIF(الدخول!$B$3:$B$1311,D86,الدخول!$G$3:$G$1311)+SUMIF(الدخول!$B$3:$B$1311,D86,الدخول!$R$3:$R$1311)+F86-SUMIF(الدخول!$B$3:$B$1311,D86,الدخول!$L$3:$L$1311))","v":""},{"$f":"IF(G86=\"\",\"\",SUMIF(الدخول!$B$3:$B$1311,D86,الدخول!$I$3:$I$1311)+SUMIF(الدخول!$B$3:$B$1311,D86,الدخول!$T$3:$T$1311)+G86-SUMIF(الدخول!$B$3:$B$1311,D86,الدخول!$N$3:$N$1311))","v":""}]
["اسود استريب","كروشيه","3cm","اسود استريب كروشيه 3cm",null,null,null,{"$f":"IF(E87=\"\",\"\",SUMIF(الدخول!$B$3:$B$1311,D87,الدخول!$F$3:$F$1311)+SUMIF(الدخول!$B$3:$B$1311,D87,الدخول!$Q$3:$Q$1311)+E87-SUMIF(الدخول!$B$3:$B$1311,D87,الدخول!$K$3:$K$1311))","v":""},{"$f":"IF(F87=\"\",\"\",SUMIF(الدخول!$B$3:$B$1311,D87,الدخول!$G$3:$G$1311)+SUMIF(الدخول!$B$3:$B$1311,D87,الدخول!$R$3:$R$1311)+F87-SUMIF(الدخول!$B$3:$B$1311,D87,الدخول!$L$3:$L$1311))","v":""},{"$f":"IF(G87=\"\",\"\",SUMIF(الدخول!$B$3:$B$1311,D87,الدخول!$I$3:$I$1311)+SUMIF(الدخول!$B$3:$B$1311,D87,الدخول!$T$3:$T$1311)+G87-SUMIF(الدخول!$B$3:$B$1311,D87,الدخول!$N$3:$N$1311))","v":""}]
["اسود فلاش","كروشيه","5.5cm","اسود فلاش كروشيه 5.5cm",null,null,null,{"$f":"IF(E88=\"\",\"\",SUMIF(الدخول!$B$3:$B$1311,D88,الدخول!$F$3:$F$1311)+SUMIF(الدخول!$B$3:$B$1311,D88,الدخول!$Q$3:$Q$1311)+E88-SUMIF(الدخول!$B$3:$B$1311,D88,الدخول!$K$3:$K$1311))","v":""},{"$f":"IF(F88=\"\",\"\",SUMIF(الدخول!$B$3:$B$1311,D88,الدخول!$G$3:$G$1311)+SUMIF(الدخول!$B$3:$B$1311,D88,الدخول!$R$3:$R$1311)+F88-SUMIF(الدخول!$B$3:$B$1311,D88,الدخول!$L$3:$L$1311))","v":""},{"$f":"IF(G88=\"\",\"\",SUMIF(الدخول!$B$3:$B$1311,D88,الدخول!$I$3:$I$1311)+SUMIF(الدخول!$B$3:$B$1311,D88,الدخول!$T$3:$T$1311)+G88-SUMIF(الدخول!$B$3:$B$1311,D88,الدخول!$N$3:$N$1311))","v":""}]
["اسود فلاش","كروشيه","5cm","اسود فلاش كروشيه 5cm",null,null,null,{"$f":"IF(E89=\"\",\"\",SUMIF(الدخول!$B$3:$B$1311,D89,الدخول!$F$3:$F$1311)+SUMIF(الدخول!$B$3:$B$1311,D89,الدخول!$Q$3:$Q$1311)+E89-SUMIF(الدخول!$B$3:$B$1311,D89,الدخول!$K$3:$K$1311))","v":""},{"$f":"IF(F89=\"\",\"\",SUMIF(الدخول!$B$3:$B$1311,D89,الدخول!$G$3:$G$1311)+SUMIF(الدخول!$B$3:$B$1311,D89,الدخول!$R$3:$R$1311)+F89-SUMIF(الدخول!$B$3:$B$1311,D89,الدخول!$L$3:$L$1311))","v":""},{"$f":"IF(G89=\"\",\"\",SUMIF(الدخول!$B$3:$B$1311,D89,الدخول!$I$3:$I$1311)+SUMIF(الدخول!$B$3:$B$1311,D89,الدخول!$T$3:$T$1311)+G89-SUMIF(الدخول!$B$3:$B$1311,D89,الدخول!$N$3:$N$1311))","v":""}]
["اسود فلاش","كروشيه","3.5cm","اسود فلاش كروشيه 3.5cm",null,null,null,{"$f":"IF(E90=\"\",\"\",SUMIF(الدخول!$B$3:$B$1311,D90,الدخول!$F$3:$F$1311)+SUMIF(الدخول!$B$3:$B$1311,D90,الدخول!$Q$3:$Q$1311)+E90-SUMIF(الدخول!$B$3:$B$1311,D90,الدخول!$K$3:$K$1311))","v":""},{"$f":"IF(F90=\"\",\"\",SUMIF(الدخول!$B$3:$B$1311,D90,الدخول!$G$3:$G$1311)+SUMIF(الدخول!$B$3:$B$1311,D90,الدخول!$R$3:$R$1311)+F90-SUMIF(الدخول!$B$3:$B$1311,D90,الدخول!$L$3:$L$1311))","v":""},{"$f":"IF(G90=\"\",\"\",SUMIF(الدخول!$B$3:$B$1311,D90,الدخول!$I$3:$I$1311)+SUMIF(الدخول!$B$3:$B$1311,D90,الدخول!$T$3:$T$1311)+G90-SUMIF(الدخول!$B$3:$B$1311,D90,الدخول!$N$3:$N$1311))","v":""}]
["اسود510","كروشيه","5cm","اسود510 كروشيه 5cm",null,null,null,{"$f":"IF(E91=\"\",\"\",SUMIF(الدخول!$B$3:$B$1311,D91,الدخول!$F$3:$F$1311)+SUMIF(الدخول!$B$3:$B$1311,D91,الدخول!$Q$3:$Q$1311)+E91-SUMIF(الدخول!$B$3:$B$1311,D91,الدخول!$K$3:$K$1311))","v":""},{"$f":"IF(F91=\"\",\"\",SUMIF(الدخول!$B$3:$B$1311,D91,الدخول!$G$3:$G$1311)+SUMIF(الدخول!$B$3:$B$1311,D91,الدخول!$R$3:$R$1311)+F91-SUMIF(الدخول!$B$3:$B$1311,D91,الدخول!$L$3:$L$1311))","v":""},{"$f":"IF(G91=\"\",\"\",SUMIF(الدخول!$B$3:$B$1311,D91,الدخول!$I$3:$I$1311)+SUMIF(الدخول!$B$3:$B$1311,D91,الدخول!$T$3:$T$1311)+G91-SUMIF(الدخول!$B$3:$B$1311,D91,الدخول!$N$3:$N$1311))","v":""}]
["اسود510","كروشيه","3.5cm","اسود510 كروشيه 3.5cm",null,null,null,{"$f":"IF(E92=\"\",\"\",SUMIF(الدخول!$B$3:$B$1311,D92,الدخول!$F$3:$F$1311)+SUMIF(الدخول!$B$3:$B$1311,D92,الدخول!$Q$3:$Q$1311)+E92-SUMIF(الدخول!$B$3:$B$1311,D92,الدخول!$K$3:$K$1311))","v":""},{"$f":"IF(F92=\"\",\"\",SUMIF(الدخول!$B$3:$B$1311,D92,الدخول!$G$3:$G$1311)+SUMIF(الدخول!$B$3:$B$1311,D92,الدخول!$R$3:$R$1311)+F92-SUMIF(الدخول!$B$3:$B$1311,D92,الدخول!$L$3:$L$1311))","v":""},{"$f":"IF(G92=\"\",\"\",SUMIF(الدخول!$B$3:$B$1311,D92,الدخول!$I$3:$I$1311)+SUMIF(الدخول!$B$3:$B$1311,D92,الدخول!$T$3:$T$1311)+G92-SUMIF(الدخول!$B$3:$B$1311,D92,الدخول!$N$3:$N$1311))","v":""}]
["الالوان","كورد","1.2cm","الالوان كورد 1.2cm",null,null,null,{"$f":"IF(E93=\"\",\"\",SUMIF(الدخول!$B$3:$B$1311,D93,الدخول!$F$3:$F$1311)+SUMIF(الدخول!$B$3:$B$1311,D93,الدخول!$Q$3:$Q$1311)+E93-SUMIF(الدخول!$B$3:$B$1311,D93,الدخول!$K$3:$K$1311))","v":""},{"$f":"IF(F93=\"\",\"\",SUMIF(الدخول!$B$3:$B$1311,D93,الدخول!$G$3:$G$1311)+SUMIF(الدخول!$B$3:$B$1311,D93,الدخول!$R$3:$R$1311)+F93-SUMIF(الدخول!$B$3:$B$1311,D93,الدخول!$L$3:$L$1311))","v":""},{"$f":"IF(G93=\"\",\"\",SUMIF(الدخول!$B$3:$B$1311,D93,الدخول!$I$3:$I$1311)+SUMIF(الدخول!$B$3:$B$1311,D93,الدخول!$T$3:$T$1311)+G93-SUMIF(الدخول!$B$3:$B$1311,D93,الدخول!$N$3:$N$1311))","v":""}]
["اورنج","كورد","1.2cm","اورنج كورد 1.2cm",null,null,null,{"$f":"IF(E94=\"\",\"\",SUMIF(الدخول!$B$3:$B$1311,D94,الدخول!$F$3:$F$1311)+SUMIF(الدخول!$B$3:$B$1311,D94,الدخول!$Q$3:$Q$1311)+E94-SUMIF(الدخول!$B$3:$B$1311,D94,الدخول!$K$3:$K$1311))","v":""},{"$f":"IF(F94=\"\",\"\",SUMIF(الدخول!$B$3:$B$1311,D94,الدخول!$G$3:$G$1311)+SUMIF(الدخول!$B$3:$B$1311,D94,الدخول!$R$3:$R$1311)+F94-SUMIF(الدخول!$B$3:$B$1311,D94,الدخول!$L$3:$L$1311))","v":""},{"$f":"IF(G94=\"\",\"\",SUMIF(الدخول!$B$3:$B$1311,D94,الدخول!$I$3:$I$1311)+SUMIF(الدخول!$B$3:$B$1311,D94,الدخول!$T$3:$T$1311)+G94-SUMIF(الدخول!$B$3:$B$1311,D94,الدخول!$N$3:$N$1311))","v":""}]
["اورنح","كورد","مبطط","اورنح كورد مبطط",null,null,null,{"$f":"IF(E95=\"\",\"\",SUMIF(الدخول!$B$3:$B$1311,D95,الدخول!$F$3:$F$1311)+SUMIF(الدخول!$B$3:$B$1311,D95,الدخول!$Q$3:$Q$1311)+E95-SUMIF(الدخول!$B$3:$B$1311,D95,الدخول!$K$3:$K$1311))","v":""},{"$f":"IF(F95=\"\",\"\",SUMIF(الدخول!$B$3:$B$1311,D95,الدخول!$G$3:$G$1311)+SUMIF(الدخول!$B$3:$B$1311,D95,الدخول!$R$3:$R$1311)+F95-SUMIF(الدخول!$B$3:$B$1311,D95,الدخول!$L$3:$L$1311))","v":""},{"$f":"IF(G95=\"\",\"\",SUMIF(الدخول!$B$3:$B$1311,D95,الدخول!$I$3:$I$1311)+SUMIF(الدخول!$B$3:$B$1311,D95,الدخول!$T$3:$T$1311)+G95-SUMIF(الدخول!$B$3:$B$1311,D95,الدخول!$N$3:$N$1311))","v":""}]
["بينك","ووفين فستون","1cm","بينك ووفين فستون 1cm",null,null,null,{"$f":"IF(E96=\"\",\"\",SUMIF(الدخول!$B$3:$B$1311,D96,الدخول!$F$3:$F$1311)+SUMIF(الدخول!$B$3:$B$1311,D96,الدخول!$Q$3:$Q$1311)+E96-SUMIF(الدخول!$B$3:$B$1311,D96,الدخول!$K$3:$K$1311))","v":""},{"$f":"IF(F96=\"\",\"\",SUMIF(الدخول!$B$3:$B$1311,D96,الدخول!$G$3:$G$1311)+SUMIF(الدخول!$B$3:$B$1311,D96,الدخول!$R$3:$R$1311)+F96-SUMIF(الدخول!$B$3:$B$1311,D96,الدخول!$L$3:$L$1311))","v":""},{"$f":"IF(G96=\"\",\"\",SUMIF(الدخول!$B$3:$B$1311,D96,الدخول!$I$3:$I$1311)+SUMIF(الدخول!$B$3:$B$1311,D96,الدخول!$T$3:$T$1311)+G96-SUMIF(الدخول!$B$3:$B$1311,D96,الدخول!$N$3:$N$1311))","v":""}]
["بينك","ووفين فستون","1.3cm","بينك ووفين فستون 1.3cm",null,null,null,{"$f":"IF(E97=\"\",\"\",SUMIF(الدخول!$B$3:$B$1311,D97,الدخول!$F$3:$F$1311)+SUMIF(الدخول!$B$3:$B$1311,D97,الدخول!$Q$3:$Q$1311)+E97-SUMIF(الدخول!$B$3:$B$1311,D97,الدخول!$K$3:$K$1311))","v":""},{"$f":"IF(F97=\"\",\"\",SUMIF(الدخول!$B$3:$B$1311,D97,الدخول!$G$3:$G$1311)+SUMIF(الدخول!$B$3:$B$1311,D97,الدخول!$R$3:$R$1311)+F97-SUMIF(الدخول!$B$3:$B$1311,D97,الدخول!$L$3:$L$1311))","v":""},{"$f":"IF(G97=\"\",\"\",SUMIF(الدخول!$B$3:$B$1311,D97,الدخول!$I$3:$I$1311)+SUMIF(الدخول!$B$3:$B$1311,D97,الدخول!$T$3:$T$1311)+G97-SUMIF(الدخول!$B$3:$B$1311,D97,الدخول!$N$3:$N$1311))","v":""}]
["رصاصي استريب","كروشيه","3cm","رصاصي استريب كروشيه 3cm",null,null,null,{"$f":"IF(E98=\"\",\"\",SUMIF(الدخول!$B$3:$B$1311,D98,الدخول!$F$3:$F$1311)+SUMIF(الدخول!$B$3:$B$1311,D98,الدخول!$Q$3:$Q$1311)+E98-SUMIF(الدخول!$B$3:$B$1311,D98,الدخول!$K$3:$K$1311))","v":""},{"$f":"IF(F98=\"\",\"\",SUMIF(الدخول!$B$3:$B$1311,D98,الدخول!$G$3:$G$1311)+SUMIF(الدخول!$B$3:$B$1311,D98,الدخول!$R$3:$R$1311)+F98-SUMIF(الدخول!$B$3:$B$1311,D98,الدخول!$L$3:$L$1311))","v":""},{"$f":"IF(G98=\"\",\"\",SUMIF(الدخول!$B$3:$B$1311,D98,الدخول!$I$3:$I$1311)+SUMIF(الدخول!$B$3:$B$1311,D98,الدخول!$T$3:$T$1311)+G98-SUMIF(الدخول!$B$3:$B$1311,D98,الدخول!$N$3:$N$1311))","v":""}]
["زهري","كورد","مبطط","زهري كورد مبطط",null,null,null,{"$f":"IF(E99=\"\",\"\",SUMIF(الدخول!$B$3:$B$1311,D99,الدخول!$F$3:$F$1311)+SUMIF(الدخول!$B$3:$B$1311,D99,الدخول!$Q$3:$Q$1311)+E99-SUMIF(الدخول!$B$3:$B$1311,D99,الدخول!$K$3:$K$1311))","v":""},{"$f":"IF(F99=\"\",\"\",SUMIF(الدخول!$B$3:$B$1311,D99,الدخول!$G$3:$G$1311)+SUMIF(الدخول!$B$3:$B$1311,D99,الدخول!$R$3:$R$1311)+F99-SUMIF(الدخول!$B$3:$B$1311,D99,الدخول!$L$3:$L$1311))","v":""},{"$f":"IF(G99=\"\",\"\",SUMIF(الدخول!$B$3:$B$1311,D99,الدخول!$I$3:$I$1311)+SUMIF(الدخول!$B$3:$B$1311,D99,الدخول!$T$3:$T$1311)+G99-SUMIF(الدخول!$B$3:$B$1311,D99,الدخول!$N$3:$N$1311))","v":""}]
["شاركول","كورد","مبطط","شاركول كورد مبطط",null,null,null,{"$f":"IF(E100=\"\",\"\",SUMIF(الدخول!$B$3:$B$1311,D100,الدخول!$F$3:$F$1311)+SUMIF(الدخول!$B$3:$B$1311,D100,الدخول!$Q$3:$Q$1311)+E100-SUMIF(الدخول!$B$3:$B$1311,D100,الدخول!$K$3:$K$1311))","v":""},{"$f":"IF(F100=\"\",\"\",SUMIF(الدخول!$B$3:$B$1311,D100,الدخول!$G$3:$G$1311)+SUMIF(الدخول!$B$3:$B$1311,D100,الدخول!$R$3:$R$1311)+F100-SUMIF(الدخول!$B$3:$B$1311,D100,الدخول!$L$3:$L$1311))","v":""},{"$f":"IF(G100=\"\",\"\",SUMIF(الدخول!$B$3:$B$1311,D100,الدخول!$I$3:$I$1311)+SUMIF(الدخول!$B$3:$B$1311,D100,الدخول!$T$3:$T$1311)+G100-SUMIF(الدخول!$B$3:$B$1311,D100,الدخول!$N$3:$N$1311))","v":""}]
["موف غامق","كروشيه","1.6cm","موف غامق كروشيه 1.6cm",null,null,null,{"$f":"IF(E101=\"\",\"\",SUMIF(الدخول!$B$3:$B$1311,D101,الدخول!$F$3:$F$1311)+SUMIF(الدخول!$B$3:$B$1311,D101,الدخول!$Q$3:$Q$1311)+E101-SUMIF(الدخول!$B$3:$B$1311,D101,الدخول!$K$3:$K$1311))","v":""},{"$f":"IF(F101=\"\",\"\",SUMIF(الدخول!$B$3:$B$1311,D101,الدخول!$G$3:$G$1311)+SUMIF(الدخول!$B$3:$B$1311,D101,الدخول!$R$3:$R$1311)+F101-SUMIF(الدخول!$B$3:$B$1311,D101,الدخول!$L$3:$L$1311))","v":""},{"$f":"IF(G101=\"\",\"\",SUMIF(الدخول!$B$3:$B$1311,D101,الدخول!$I$3:$I$1311)+SUMIF(الدخول!$B$3:$B$1311,D101,الدخول!$T$3:$T$1311)+G101-SUMIF(الدخول!$B$3:$B$1311,D101,الدخول!$N$3:$N$1311))","v":""}]
[null,"كروشيه","1.8cm"," كروشيه 1.8cm",null,null,null,{"$f":"IF(E102=\"\",\"\",SUMIF(الدخول!$B$3:$B$1311,D102,الدخول!$F$3:$F$1311)+SUMIF(الدخول!$B$3:$B$1311,D102,الدخول!$Q$3:$Q$1311)+E102-SUMIF(الدخول!$B$3:$B$1311,D102,الدخول!$K$3:$K$1311))","v":""},{"$f":"IF(F102=\"\",\"\",SUMIF(الدخول!$B$3:$B$1311,D102,الدخول!$G$3:$G$1311)+SUMIF(الدخول!$B$3:$B$1311,D102,الدخول!$R$3:$R$1311)+F102-SUMIF(الدخول!$B$3:$B$1311,D102,الدخول!$L$3:$L$1311))","v":""},{"$f":"IF(G102=\"\",\"\",SUMIF(الدخول!$B$3:$B$1311,D102,الدخول!$I$3:$I$1311)+SUMIF(الدخول!$B$3:$B$1311,D102,الدخول!$T$3:$T$1311)+G102-SUMIF(الدخول!$B$3:$B$1311,D102,الدخول!$N$3:$N$1311))","v":""}]
[null,"كروشيه","1.9cm"," كروشيه 1.9cm",null,null,null,{"$f":"IF(E103=\"\",\"\",SUMIF(الدخول!$B$3:$B$1311,D103,الدخول!$F$3:$F$1311)+SUMIF(الدخول!$B$3:$B$1311,D103,الدخول!$Q$3:$Q$1311)+E103-SUMIF(الدخول!$B$3:$B$1311,D103,الدخول!$K$3:$K$1311))","v":""},{"$f":"IF(F103=\"\",\"\",SUMIF(الدخول!$B$3:$B$1311,D103,الدخول!$G$3:$G$1311)+SUMIF(الدخول!$B$3:$B$1311,D103,الدخول!$R$3:$R$1311)+F103-SUMIF(الدخول!$B$3:$B$1311,D103,الدخول!$L$3:$L$1311))","v":""},{"$f":"IF(G103=\"\",\"\",SUMIF(الدخول!$B$3:$B$1311,D103,الدخول!$I$3:$I$1311)+SUMIF(الدخول!$B$3:$B$1311,D103,الدخول!$T$3:$T$1311)+G103-SUMIF(الدخول!$B$3:$B$1311,D103,الدخول!$N$3:$N$1311))","v":""}]
["موف فاتح","كروشيه",4.5999999999999996,"موف فاتح كروشيه 4,6",null,null,null,{"$f":"IF(E104=\"\",\"\",SUMIF(الدخول!$B$3:$B$1311,D104,الدخول!$F$3:$F$1311)+SUMIF(الدخول!$B$3:$B$1311,D104,الدخول!$Q$3:$Q$1311)+E104-SUMIF(الدخول!$B$3:$B$1311,D104,الدخول!$K$3:$K$1311))","v":""},{"$f":"IF(F104=\"\",\"\",SUMIF(الدخول!$B$3:$B$1311,D104,الدخول!$G$3:$G$1311)+SUMIF(الدخول!$B$3:$B$1311,D104,الدخول!$R$3:$R$1311)+F104-SUMIF(الدخول!$B$3:$B$1311,D104,الدخول!$L$3:$L$1311))","v":""},{"$f":"IF(G104=\"\",\"\",SUMIF(الدخول!$B$3:$B$1311,D104,الدخول!$I$3:$I$1311)+SUMIF(الدخول!$B$3:$B$1311,D104,الدخول!$T$3:$T$1311)+G104-SUMIF(الدخول!$B$3:$B$1311,D104,الدخول!$N$3:$N$1311))","v":""}]
[null,null,null,"",null,null,null,{"$f":"IF(E105=\"\",\"\",SUMIF(الدخول!$B$3:$B$1311,D105,الدخول!$F$3:$F$1311)+SUMIF(الدخول!$B$3:$B$1311,D105,الدخول!$Q$3:$Q$1311)+E105-SUMIF(الدخول!$B$3:$B$1311,D105,الدخول!$K$3:$K$1311))","v":""},{"$f":"IF(F105=\"\",\"\",SUMIF(الدخول!$B$3:$B$1311,D105,الدخول!$G$3:$G$1311)+SUMIF(الدخول!$B$3:$B$1311,D105,الدخول!$R$3:$R$1311)+F105-SUMIF(الدخول!$B$3:$B$1311,D105,الدخول!$L$3:$L$1311))","v":""},{"$f":"IF(G105=\"\",\"\",SUMIF(الدخول!$B$3:$B$1311,D105,الدخول!$I$3:$I$1311)+SUMIF(الدخول!$B$3:$B$1311,D105,الدخول!$T$3:$T$1311)+G105-SUMIF(الدخول!$B$3:$B$1311,D105,الدخول!$N$3:$N$1311))","v":""}]
[null,null,null,"",null,null,null,{"$f":"IF(E106=\"\",\"\",SUMIF(الدخول!$B$3:$B$1311,D106,الدخول!$F$3:$F$1311)+SUMIF(الدخول!$B$3:$B$1311,D106,الدخول!$Q$3:$Q$1311)+E106-SUMIF(الدخول!$B$3:$B$1311,D106,الدخول!$K$3:$K$1311))","v":""},{"$f":"IF(F106=\"\",\"\",SUMIF(الدخول!$B$3:$B$1311,D106,الدخول!$G$3:$G$1311)+SUMIF(الدخول!$B$3:$B$1311,D106,الدخول!$R$3:$R$1311)+F106-SUMIF(الدخول!$B$3:$B$1311,D106,الدخول!$L$3:$L$1311))","v":""},{"$f":"IF(G106=\"\",\"\",SUMIF(الدخول!$B$3:$B$1311,D106,الدخول!$I$3:$I$1311)+SUMIF(الدخول!$B$3:$B$1311,D106,الدخول!$T$3:$T$1311)+G106-SUMIF(الدخول!$B$3:$B$1311,D106,الدخول!$N$3:$N$1311))","v":""}]
[null,null,null,"",null,null,null,{"$f":"IF(E107=\"\",\"\",SUMIF(الدخول!$B$3:$B$1311,D107,الدخول!$F$3:$F$1311)+SUMIF(الدخول!$B$3:$B$1311,D107,الدخول!$Q$3:$Q$1311)+E107-SUMIF(الدخول!$B$3:$B$1311,D107,الدخول!$K$3:$K$1311))","v":""},{"$f":"IF(F107=\"\",\"\",SUMIF(الدخول!$B$3:$B$1311,D107,الدخول!$G$3:$G$1311)+SUMIF(الدخول!$B$3:$B$1311,D107,الدخول!$R$3:$R$1311)+F107-SUMIF(الدخول!$B$3:$B$1311,D107,الدخول!$L$3:$L$1311))","v":""},{"$f":"IF(G107=\"\",\"\",SUMIF(الدخول!$B$3:$B$1311,D107,الدخول!$I$3:$I$1311)+SUMIF(الدخول!$B$3:$B$1311,D107,الدخول!$T$3:$T$1311)+G107-SUMIF(الدخول!$B$3:$B$1311,D107,الدخول!$N$3:$N$1311))","v":""}]
[null,null,null,"",null,null,null,{"$f":"IF(E108=\"\",\"\",SUMIF(الدخول!$B$3:$B$1311,D108,الدخول!$F$3:$F$1311)+SUMIF(الدخول!$B$3:$B$1311,D108,الدخول!$Q$3:$Q$1311)+E108-SUMIF(الدخول!$B$3:$B$1311,D108,الدخول!$K$3:$K$1311))","v":""},{"$f":"IF(F108=\"\",\"\",SUMIF(الدخول!$B$3:$B$1311,D108,الدخول!$G$3:$G$1311)+SUMIF(الدخول!$B$3:$B$1311,D108,الدخول!$R$3:$R$1311)+F108-SUMIF(الدخول!$B$3:$B$1311,D108,الدخول!$L$3:$L$1311))","v":""},{"$f":"IF(G108=\"\",\"\",SUMIF(الدخول!$B$3:$B$1311,D108,الدخول!$I$3:$I$1311)+SUMIF(الدخول!$B$3:$B$1311,D108,الدخول!$T$3:$T$1311)+G108-SUMIF(الدخول!$B$3:$B$1311,D108,الدخول!$N$3:$N$1311))","v":""}]
[null,null,null,"",null,null,null,{"$f":"IF(E109=\"\",\"\",SUMIF(الدخول!$B$3:$B$1311,D109,الدخول!$F$3:$F$1311)+SUMIF(الدخول!$B$3:$B$1311,D109,الدخول!$Q$3:$Q$1311)+E109-SUMIF(الدخول!$B$3:$B$1311,D109,الدخول!$K$3:$K$1311))","v":""},{"$f":"IF(F109=\"\",\"\",SUMIF(الدخول!$B$3:$B$1311,D109,الدخول!$G$3:$G$1311)+SUMIF(الدخول!$B$3:$B$1311,D109,الدخول!$R$3:$R$1311)+F109-SUMIF(الدخول!$B$3:$B$1311,D109,الدخول!$L$3:$L$1311))","v":""},{"$f":"IF(G109=\"\",\"\",SUMIF(الدخول!$B$3:$B$1311,D109,الدخول!$I$3:$I$1311)+SUMIF(الدخول!$B$3:$B$1311,D109,الدخول!$T$3:$T$1311)+G109-SUMIF(الدخول!$B$3:$B$1311,D109,الدخول!$N$3:$N$1311))","v":""}]
[null,null,null,"",null,null,null,{"$f":"IF(E110=\"\",\"\",SUMIF(الدخول!$B$3:$B$1311,D110,الدخول!$F$3:$F$1311)+SUMIF(الدخول!$B$3:$B$1311,D110,الدخول!$Q$3:$Q$1311)+E110-SUMIF(الدخول!$B$3:$B$1311,D110,الدخول!$K$3:$K$1311))","v":""},{"$f":"IF(F110=\"\",\"\",SUMIF(الدخول!$B$3:$B$1311,D110,الدخول!$G$3:$G$1311)+SUMIF(الدخول!$B$3:$B$1311,D110,الدخول!$R$3:$R$1311)+F110-SUMIF(الدخول!$B$3:$B$1311,D110,الدخول!$L$3:$L$1311))","v":""},{"$f":"IF(G110=\"\",\"\",SUMIF(الدخول!$B$3:$B$1311,D110,الدخول!$I$3:$I$1311)+SUMIF(الدخول!$B$3:$B$1311,D110,الدخول!$T$3:$T$1311)+G110-SUMIF(الدخول!$B$3:$B$1311,D110,الدخول!$N$3:$N$1311))","v":""}]
[null,null,null,"",null,null,null,{"$f":"IF(E111=\"\",\"\",SUMIF(الدخول!$B$3:$B$1311,D111,الدخول!$F$3:$F$1311)+SUMIF(الدخول!$B$3:$B$1311,D111,الدخول!$Q$3:$Q$1311)+E111-SUMIF(الدخول!$B$3:$B$1311,D111,الدخول!$K$3:$K$1311))","v":""},{"$f":"IF(F111=\"\",\"\",SUMIF(الدخول!$B$3:$B$1311,D111,الدخول!$G$3:$G$1311)+SUMIF(الدخول!$B$3:$B$1311,D111,الدخول!$R$3:$R$1311)+F111-SUMIF(الدخول!$B$3:$B$1311,D111,الدخول!$L$3:$L$1311))","v":""},{"$f":"IF(G111=\"\",\"\",SUMIF(الدخول!$B$3:$B$1311,D111,الدخول!$I$3:$I$1311)+SUMIF(الدخول!$B$3:$B$1311,D111,الدخول!$T$3:$T$1311)+G111-SUMIF(الدخول!$B$3:$B$1311,D111,الدخول!$N$3:$N$1311))","v":""}]
[null,null,null,"",null,null,null,{"$f":"IF(E112=\"\",\"\",SUMIF(الدخول!$B$3:$B$1311,D112,الدخول!$F$3:$F$1311)+SUMIF(الدخول!$B$3:$B$1311,D112,الدخول!$Q$3:$Q$1311)+E112-SUMIF(الدخول!$B$3:$B$1311,D112,الدخول!$K$3:$K$1311))","v":""},{"$f":"IF(F112=\"\",\"\",SUMIF(الدخول!$B$3:$B$1311,D112,الدخول!$G$3:$G$1311)+SUMIF(الدخول!$B$3:$B$1311,D112,الدخول!$R$3:$R$1311)+F112-SUMIF(الدخول!$B$3:$B$1311,D112,الدخول!$L$3:$L$1311))","v":""},{"$f":"IF(G112=\"\",\"\",SUMIF(الدخول!$B$3:$B$1311,D112,الدخول!$I$3:$I$1311)+SUMIF(الدخول!$B$3:$B$1311,D112,الدخول!$T$3:$T$1311)+G112-SUMIF(الدخول!$B$3:$B$1311,D112,الدخول!$N$3:$N$1311))","v":""}]
[null,null,null,"",null,null,null,{"$f":"IF(E113=\"\",\"\",SUMIF(الدخول!$B$3:$B$1311,D113,الدخول!$F$3:$F$1311)+SUMIF(الدخول!$B$3:$B$1311,D113,الدخول!$Q$3:$Q$1311)+E113-SUMIF(الدخول!$B$3:$B$1311,D113,الدخول!$K$3:$K$1311))","v":""},{"$f":"IF(F113=\"\",\"\",SUMIF(الدخول!$B$3:$B$1311,D113,الدخول!$G$3:$G$1311)+SUMIF(الدخول!$B$3:$B$1311,D113,الدخول!$R$3:$R$1311)+F113-SUMIF(الدخول!$B$3:$B$1311,D113,الدخول!$L$3:$L$1311))","v":""},{"$f":"IF(G113=\"\",\"\",SUMIF(الدخول!$B$3:$B$1311,D113,الدخول!$I$3:$I$1311)+SUMIF(الدخول!$B$3:$B$1311,D113,الدخول!$T$3:$T$1311)+G113-SUMIF(الدخول!$B$3:$B$1311,D113,الدخول!$N$3:$N$1311))","v":""}]
[null,null,null,"",null,null,null,{"$f":"IF(E114=\"\",\"\",SUMIF(الدخول!$B$3:$B$1311,D114,الدخول!$F$3:$F$1311)+SUMIF(الدخول!$B$3:$B$1311,D114,الدخول!$Q$3:$Q$1311)+E114-SUMIF(الدخول!$B$3:$B$1311,D114,الدخول!$K$3:$K$1311))","v":""},{"$f":"IF(F114=\"\",\"\",SUMIF(الدخول!$B$3:$B$1311,D114,الدخول!$G$3:$G$1311)+SUMIF(الدخول!$B$3:$B$1311,D114,الدخول!$R$3:$R$1311)+F114-SUMIF(الدخول!$B$3:$B$1311,D114,الدخول!$L$3:$L$1311))","v":""},{"$f":"IF(G114=\"\",\"\",SUMIF(الدخول!$B$3:$B$1311,D114,الدخول!$I$3:$I$1311)+SUMIF(الدخول!$B$3:$B$1311,D114,الدخول!$T$3:$T$1311)+G114-SUMIF(الدخول!$B$3:$B$1311,D114,الدخول!$N$3:$N$1311))","v":""}]
[null,null,null,"",null,null,null,{"$f":"IF(E115=\"\",\"\",SUMIF(الدخول!$B$3:$B$1311,D115,الدخول!$F$3:$F$1311)+SUMIF(الدخول!$B$3:$B$1311,D115,الدخول!$Q$3:$Q$1311)+E115-SUMIF(الدخول!$B$3:$B$1311,D115,الدخول!$K$3:$K$1311))","v":""},{"$f":"IF(F115=\"\",\"\",SUMIF(الدخول!$B$3:$B$1311,D115,الدخول!$G$3:$G$1311)+SUMIF(الدخول!$B$3:$B$1311,D115,الدخول!$R$3:$R$1311)+F115-SUMIF(الدخول!$B$3:$B$1311,D115,الدخول!$L$3:$L$1311))","v":""},{"$f":"IF(G115=\"\",\"\",SUMIF(الدخول!$B$3:$B$1311,D115,الدخول!$I$3:$I$1311)+SUMIF(الدخول!$B$3:$B$1311,D115,الدخول!$T$3:$T$1311)+G115-SUMIF(الدخول!$B$3:$B$1311,D115,الدخول!$N$3:$N$1311))","v":""}]

{"sheet":"الدخول","index":1,"n_rows":2001,"n_cols":87,"rows_kept":1125,"cut":true,"hidden":false,"merged":[[0,14,1,14],[0,5,0,6],[0,10,0,11],[0,0,1,0],[0,1,1,1],[0,2,1,2],[0,9,1,9],[0,3,1,3],[0,4,1,4],[0,7,1,7],[0,12,1,12],[0,8,1,8],[0,13,1,13],[0,15,1,15],[0,21,1,21],[0,16,0,17],[0,20,1,20],[0,18,1,18],[0,19,1,19]],"bounds":{"rows_first":500,"rows_last":125,"rows_between":500,"halvings":2}}
["التاريخ","اللون","رصيد ختامي بالكيلو","رصيد ختامي بالمتر","رصيد ختامي بالقطع","أضافة",null,"وزن المتر","اجمالي القطع","رقم اذن اضافة","صرف",null,"وزن المتر","اجمالي القطع","رقم اذن صرف","جرد","مرتجع",null,"وزن المتر","اجمالي القطع","رقم اذن المرتجع","ملاحظات ",null,null,null,null,null,null,null,null,null,null,null,null,null,null,null,null,null,null,null,null,null,null,null,null,null,null,null,null,null,null,null,null,null,null,null,null,null,null,null,null,null,null,null,null,null,null,null,null,null,null,null,null,null,null,null,null,null,null,null,null,null,null,null,null,"combobox1"]
[null,null,null,null,null,"كيلو","متر",null,null,null,"كيلو","متر",null,null,null,null,"كيلو","متر"]
["2023-07-10T12:32:48","ابيض كروشيه 5.8cm",{"$f":"IF(B3=\"\",\"\",SUMIF('الرصيد الثابت'!$D$2:$D$115,B3,'الرصيد الثابت'!$H$2:$H$115))","v":1005},{"$f":"IF(B3=\"\",\"\",SUMIF('الرصيد الثابت'!$D$2:$D$115,B3,'الرصيد الثابت'!$I$2:$I$115))","v":3332},{"$f":"IF(B3=\"\",\"\",SUMIF('الرصيد الثابت'!$D$2:$D$115,B3,'الرصيد الثابت'!$J$2:$J$115))","v":15018},1,{"$f":"SUM(H3*F3)","v":2},2,3,500,5,{"$f":"SUM(M3*K3)","v":30},6,7,8,null,9,{"$f":"SUM(S3*Q3)","v":360},40,22,55,null,null,null,null,null,null,null,null,null,null,null,null,null,null,null,null,null,null,null,null,null,null,null,null,null,null,null,null,null,null,null,null,null,null,null,null,null,null,null,null,null,null,null,null,null,null,null,null,null,null,null,null,null,null,null,null,null,null,null,null,null,null,{"$f":"IFERROR(VLOOKUP(ROWS($CF$3:CF3),$CH$3:$CI$2001,2,FALSE),\"\")","v":"ابيض كروشيه 5.8cm"},{"$f":"OFFSET($CF$3,,,COUNTIF($CF$3:CF2001,\"?*\"))","v":"ابيض كروشيه 5.8cm"},{"$f":"IF(ISNUMBER(SEARCH(B3,CI3)),MAX($CH$2:CH2)+1,0)","v":1},"ابيض كروشيه 5.8cm"]
["2023-07-10T12:32:51","ابيض كروشيه 5.5cm",{"$f":"IF(B4=\"\",\"\",SUMIF('الرصيد الثابت'!$D$2:$D$115,B4,'الرصيد الثابت'!$H$2:$H$115))","v":9051},{"$f":"IF(B4=\"\",\"\",SUMIF('الرصيد الثابت'!$D$2:$D$115,B4,'الرصيد الثابت'!$I$2:$I$115))","v":3847},{"$f":"IF(B4=\"\",\"\",SUMIF('الرصيد الثابت'!$D$2:$D$115,B4,'الرصيد الثابت'!$J$2:$J$115))","v":5047},1,2,2,3,2000,5,30,6,7,8,null,55,{"$f":"SUM(S4*Q4)","v":1375},25,51,152,null,null,null,null,null,null,null,null,null,null,null,null,null,null,null,null,null,null,null,null,null,null,null,null,null,null,null,null,null,null,null,null,null,null,null,null,null,null,null,null,null,null,null,null,null,null,null,null,null,null,null,null,null,null,null,null,null,null,null,null,null,null,{"$f":"IFERROR(VLOOKUP(ROWS($CF$3:CF4),$CH$3:$CI$2001,2,FALSE),\"\")","v":"ابيض كروشيه 5.5cm"},null,{"$f":"IF(ISNUMBER(SEARCH(B4,CI4)),MAX($CH$2:CH3)+1,0)","v":2},"ابيض كروشيه 5.5cm"]
["2023-07-10T12:32:56","ابيض كروشيه 5cm",{"$f":"IF(B5=\"\",\"\",SUMIF('الرصيد الثابت'!$D$2:$D$115,B5,'الرصيد الثابت'!$H$2:$H$115))","v":6005},{"$f":"IF(B5=\"\",\"\",SUMIF('الرصيد الثابت'!$D$2:$D$115,B5,'الرصيد الثابت'!$I$2:$I$115))","v":4015},{"$f":"IF(B5=\"\",\"\",SUMIF('الرصيد الثابت'!$D$2:$D$115,B5,'الرصيد الثابت'!$J$2:$J$115))","v":310},5,15,3,10,2001,null,0,null,null,null,null,null,{"$f":"SUM(S5*Q5)","v":0},null,null,null,null,null,null,null,null,null,null,null,null,null,null,null,null,null,null,null,null,null,null,null,null,null,null,null,null,null,null,null,null,null,null,null,null,null,null,null,null,null,null,null,null,null,null,null,null,null,null,null,null,null,null,null,null,null,null,null,null,null,null,null,null,null,{"$f":"IFERROR(VLOOKUP(ROWS($CF$3:CF5),$CH$3:$CI$2001,2,FALSE),\"\")","v":"ابيض كروشيه 5cm"},null,{"$f":"IF(ISNUMBER(SEARCH(B5,CI5)),MAX($CH$2:CH4)+1,0)","v":0},"ابيض كروشيه 5.3cm"]
["2023-07-10T12:33:43","ابيض كروشيه 5cm",{"$f":"IF(B6=\"\",\"\",SUMIF('الرصيد الثابت'!$D$2:$D$115,B6,'الرصيد الثابت'!$H$2:$H$115))","v":6005},{"$f":"IF(B6=\"\",\"\",SUMIF('الرصيد الثابت'!$D$2:$D$115,B6,'الرصيد الثابت'!$I$2:$I$115))","v":4015},{"$f":"IF(B6=\"\",\"\",SUMIF('الرصيد الثابت'!$D$2:$D$115,B6,'الرصيد الثابت'!$J$2:$J$115))","v":310},null,0,null,null,null,null,0,null,null,null,null,null,{"$f":"SUM(S6*Q6)","v":0},null,null,null,null,null,null,null,null,null,null,null,null,null,null,null,null,null,null,null,null,null,null,null,null,null,null,null,null,null,null,null,null,null,null,null,null,null,null,null,null,null,null,null,null,null,null,null,null,null,null,null,null,null,null,null,null,null,null,null,null,null,null,null,null,null,{"$f":"IFERROR(VLOOKUP(ROWS($CF$3:CF6),$CH$3:$CI$2001,2,FALSE),\"\")","v":"ابيض كروشيه 3.5cm"},null,{"$f":"IF(ISNUMBER(SEARCH(B6,CI6)),MAX($CH$2:CH5)+1,0)","v":3},"ابيض كروشيه 5cm"]
["2023-07-10T12:33:48","ابيض كروشيه 5.8cm",{"$f":"IF(B7=\"\",\"\",SUMIF('الرصيد الثابت'!$D$2:$D$115,B7,'الرصيد الثابت'!$H$2:$H$115))","v":1005},{"$f":"IF(B7=\"\",\"\",SUMIF('الرصيد الثابت'!$D$2:$D$115,B7,'الرصيد الثابت'!$I$2:$I$115))","v":3332},{"$f":"IF(B7=\"\",\"\",SUMIF('الرصيد الثابت'!$D$2:$D$115,B7,'الرصيد الثابت'!$J$2:$J$115))","v":15018},null,0,null,null,null,null,0,null,null,null,null,null,{"$f":"SUM(S7*Q7)","v":0},null,null,null,null,null,null,null,null,null,null,null,null,null,null,null,null,null,null,null,null,null,null,null,null,null,null,null,null,null,null,null,null,null,null,null,null,null,null,null,null,null,null,null,null,null,null,null,null,null,null,null,null,null,null,null,null,null,null,null,null,null,null,null,null,null,{"$f":"IFERROR(VLOOKUP(ROWS($CF$3:CF7),$CH$3:$CI$2001,2,FALSE),\"\")","v":"ابيض كروشيه 3.2cm"},null,{"$f":"IF(ISNUMBER(SEARCH(B7,CI7)),MAX($CH$2:CH6)+1,0)","v":0},"ابيض كروشيه 4.5cm"]
["2023-07-10T12:33:35","ابيض كروشيه 4.5cm",{"$f":"IF(B8=\"\",\"\",SUMIF('الرصيد الثابت'!$D$2:$D$115,B8,'الرصيد الثابت'!$H$2:$H$115))","v":0},{"$f":"IF(B8=\"\",\"\",SUMIF('الرصيد الثابت'!$D$2:$D$115,B8,'الرصيد الثابت'!$I$2:$I$115))","v":0},{"$f":"IF(B8=\"\",\"\",SUMIF('الرصيد الثابت'!$D$2:$D$115,B8,'الرصيد الثابت'!$J$2:$J$115))","v":0},null,0,null,null,null,null,0,null,null,null,null,null,{"$f":"SUM(S8*Q8)","v":0},null,null,null,null,null,null,null,null,null,null,null,null,null,null,null,null,null,null,null,null,null,null,null,null,null,null,null,null,null,null,null,null,null,null,null,null,null,null,null,null,null,null,null,null,null,null,null,null,null,null,null,null,null,null,null,null,null,null,null,null,null,null,null,null,null,{"$f":"IFERROR(VLOOKUP(ROWS($CF$3:CF8),$CH$3:$CI$2001,2,FALSE),\"\")","v":"ابيض كروشيه 3cm"},null,{"$f":"IF(ISNUMBER(SEARCH(B8,CI8)),MAX($CH$2:CH7)+1,0)","v":0},"ابيض كروشيه 4cm"]
[null,null,{"$f":"IF(B9=\"\",\"\",SUMIF('الرصيد الثابت'!$D$2:$D$115,B9,'الرصيد الثابت'!$H$2:$H$115))","v":""},{"$f":"IF(B9=\"\",\"\",SUMIF('الرصيد الثابت'!$D$2:$D$115,B9,'الرصيد الثابت'!$I$2:$I$115))","v":""},{"$f":"IF(B9=\"\",\"\",SUMIF('الرصيد الثابت'!$D$2:$D$115,B9,'الرصيد الثابت'!$J$2:$J$115))","v":""},null,0,null,null,null,null,0,null,null,null,null,null,0,null,null,null,null,null,null,null,null,null,null,null,null,null,null,null,null,null,null,null,null,null,null,null,null,null,null,null,null,null,null,null,null,null,null,null,null,null,null,null,null,null,null,null,null,null,null,null,null,null,null,null,null,null,null,null,null,null,null,null,null,null,null,null,null,null,{"$f":"IFERROR(VLOOKUP(ROWS($CF$3:CF9),$CH$3:$CI$2001,2,FALSE),\"\")","v":"ابيض كروشيه 2.2cm"},null,{"$f":"IF(ISNUMBER(SEARCH(B9,CI9)),MAX($CH$2:CH8)+1,0)","v":4},"ابيض كروشيه 3.5cm"]
[null,null,{"$f":"IF(B10=\"\",\"\",SUMIF('الرصيد الثابت'!$D$2:$D$115,B10,'الرصيد الثابت'!$H$2:$H$115))","v":""},{"$f":"IF(B10=\"\",\"\",SUMIF('الرصيد الثابت'!$D$2:$D$115,B10,'الرصيد الثابت'!$I$2:$I$115))","v":""},{"$f":"IF(B10=\"\",\"\",SUMIF('الرصيد الثابت'!$D$2:$D$115,B10,'الرصيد الثابت'!$J$2:$J$115))","v":""},null,0,null,null,null,null,0,null,null,null,null,null,0,null,null,null,null,null,null,null,null,null,null,null,null,null,null,null,null,null,null,null,null,null,null,null,null,null,null,null,null,null,null,null,null,null,null,null,null,null,null,null,null,null,null,null,null,null,null,null,null,null,null,null,null,null,null,null,null,null,null,null,null,null,null,null,null,null,{"$f":"IFERROR(VLOOKUP(ROWS($CF$3:CF10),$CH$3:$CI$2001,2,FALSE),\"\")","v":"ابيض كروشيه 2cm"},null,{"$f":"IF(ISNUMBER(SEARCH(B10,CI10)),MAX($CH$2:CH9)+1,0)","v":5},"ابيض كروشيه 3.2cm"]
[null,null,{"$f":"IF(B11=\"\",\"\",SUMIF('الرصيد الثابت'!$D$2:$D$115,B11,'الرصيد الثابت'!$H$2:$H$115))","v":""},{"$f":"IF(B11=\"\",\"\",SUMIF('الرصيد الثابت'!$D$2:$D$115,B11,'الرصيد الثابت'!$I$2:$I$115))","v":""},null,null,0,null,null,null,null,0,null,null,null,{"$f":"SUM(F11-K11)","v":0},null,0,null,null,null,null,null,null,null,null,null,null,null,null,null,null,null,null,null,null,null,null,null,null,null,null,null,null,null,null,null,null,null,null,null,null,null,null,null,null,null,null,null,null,null,null,null,null,null,null,null,null,null,null,null,null,null,null,null,null,null,null,null,null,null,null,null,{"$f":"IFERROR(VLOOKUP(ROWS($CF$3:CF11),$CH$3:$CI$2001,2,FALSE),\"\")","v":"ابيض كروشيه 1.5cm"},null,{"$f":"IF(ISNUMBER(SEARCH(B11,CI11)),MAX($CH$2:CH10)+1,0)","v":6},"ابيض كروشيه 3cm"]
[null,null,{"$f":"IF(B12=\"\",\"\",SUMIF('الرصيد الثابت'!$D$2:$D$115,B12,'الرصيد الثابت'!$H$2:$H$115))","v":""},{"$f":"IF(B12=\"\",\"\",SUMIF('الرصيد الثابت'!$D$2:$D$115,B12,'الرصيد الثابت'!$I$2:$I$115))","v":""},{"$f":"IF(B12=\"\",\"\",SUMIF('الرصيد الثابت'!$D$2:$D$115,B12,'الرصيد الثابت'!$J$2:$J$115))","v":""},null,0,null,null,null,null,0,null,null,null,0,null,0,null,null,null,null,null,null,null,null,null,null,null,null,null,null,null,null,null,null,null,null,null,null,null,null,null,null,null,null,null,null,null,null,null,null,null,null,null,null,null,null,null,null,null,null,null,null,null,null,null,null,null,null,null,null,null,null,null,null,null,null,null,null,null,null,null,{"$f":"IFERROR(VLOOKUP(ROWS($CF$3:CF12),$CH$3:$CI$2001,2,FALSE),\"\")","v":"ابيض كروشيه 1.2cm"},null,{"$f":"IF(ISNUMBER(SEARCH(B12,CI12)),MAX($CH$2:CH11)+1,0)","v":7},"ابيض كروشيه 2.2cm"]
[null,null,{"$f":"IF(B13=\"\",\"\",SUMIF('الرصيد الثابت'!$D$2:$D$115,B13,'الرصيد الثابت'!$H$2:$H$115))","v":""},{"$f":"IF(B13=\"\",\"\",SUMIF('الرصيد الثابت'!$D$2:$D$115,B13,'الرصيد الثابت'!$I$2:$I$115))","v":""},{"$f":"IF(B13=\"\",\"\",SUMIF('الرصيد الثابت'!$D$2:$D$115,B13,'الرصيد الثابت'!$J$2:$J$115))","v":""},null,0,null,null,null,null,0,null,null,null,0,null,0,null,null,null,null,null,null,null,null,null,null,null,null,null,null,null,null,null,null,null,null,null,null,null,null,null,null,null,null,null,null,null,null,null,null,null,null,null,null,null,null,null,null,null,null,null,null,null,null,null,null,null,null,null,null,null,null,null,null,null,null,null,null,null,null,null,{"$f":"IFERROR(VLOOKUP(ROWS($CF$3:CF13),$CH$3:$CI$2001,2,FALSE),\"\")","v":"ابيض كروشيه 1cm"},null,{"$f":"IF(ISNUMBER(SEARCH(B13,CI13)),MAX($CH$2:CH12)+1,0)","v":8},"ابيض كروشيه 2cm"]
[null,null,{"$f":"IF(B14=\"\",\"\",SUMIF('الرصيد الثابت'!$D$2:$D$115,B14,'الرصيد الثابت'!$H$2:$H$115))","v":""},{"$f":"IF(B14=\"\",\"\",SUMIF('الرصيد الثابت'!$D$2:$D$115,B14,'الرصيد الثابت'!$I$2:$I$115))","v":""},{"$f":"IF(B14=\"\",\"\",SUMIF('الرصيد الثابت'!$D$2:$D$115,B14,'الرصيد الثابت'!$J$2:$J$115))","v":""},null,0,null,null,null,null,0,null,null,null,0,null,0,null,null,null,null,null,null,null,null,null,null,null,null,null,null,null,null,null,null,null,null,null,null,null,null,null,null,null,null,null,null,null,null,null,null,null,null,null,null,null,null,null,null,null,null,null,null,null,null,null,null,null,null,null,null,null,null,null,null,null,null,null,null,null,null,null,{"$f":"IFERROR(VLOOKUP(ROWS($CF$3:CF14),$CH$3:$CI$2001,2,FALSE),\"\")","v":"ابيض كروشيه 8mm"},null,{"$f":"IF(ISNUMBER(SEARCH(B14,CI14)),MAX($CH$2:CH13)+1,0)","v":9},"ابيض كروشيه 1.5cm"]
[null,null,{"$f":"IF(B15=\"\",\"\",SUMIF('الرصيد الثابت'!$D$2:$D$115,B15,'الرصيد الثابت'!$H$2:$H$115))","v":""},{"$f":"IF(B15=\"\",\"\",SUMIF('الرصيد الثابت'!$D$2:$D$115,B15,'الرصيد الثابت'!$I$2:$I$115))","v":""},{"$f":"IF(B15=\"\",\"\",SUMIF('الرصيد الثابت'!$D$2:$D$115,B15,'الرصيد الثابت'!$J$2:$J$115))","v":""},null,0,null,null,null,null,0,null,null,null,0,null,0,null,null,null,null,null,null,null,null,null,null,null,null,null,null,null,null,null,null,null,null,null,null,null,null,null,null,null,null,null,null,null,null,null,null,null,null,null,null,null,null,null,null,null,null,null,null,null,null,null,null,null,null,null,null,null,null,null,null,null,null,null,null,null,null,null,{"$f":"IFERROR(VLOOKUP(ROWS($CF$3:CF15),$CH$3:$CI$2001,2,FALSE),\"\")","v":"ابيض كروشيه 7mm"},null,{"$f":"IF(ISNUMBER(SEARCH(B15,CI15)),MAX($CH$2:CH14)+1,0)","v":10},"ابيض كروشيه 1.2cm"]
[null,null,{"$f":"IF(B16=\"\",\"\",SUMIF('الرصيد الثابت'!$D$2:$D$115,B16,'الرصيد الثابت'!$H$2:$H$115))","v":""},{"$f":"IF(B16=\"\",\"\",SUMIF('الرصيد الثابت'!$D$2:$D$115,B16,'الرصيد الثابت'!$I$2:$I$115))","v":""},{"$f":"IF(B16=\"\",\"\",SUMIF('الرصيد الثابت'!$D$2:$D$115,B16,'الرصيد الثابت'!$J$2:$J$115))","v":""},null,0,null,null,null,null,0,null,null,null,0,null,0,null,null,null,null,null,null,null,null,null,null,null,null,null,null,null,null,null,null,null,null,null,null,null,null,null,null,null,null,null,null,null,null,null,null,null,null,null,null,null,null,null,null,null,null,null,null,null,null,null,null,null,null,null,null,null,null,null,null,null,null,null,null,null,null,null,{"$f":"IFERROR(VLOOKUP(ROWS($CF$3:CF16),$CH$3:$CI$2001,2,FALSE),\"\")","v":"ابيض كروشيه 6mm"},null,{"$f":"IF(ISNUMBER(SEARCH(B16,CI16)),MAX($CH$2:CH15)+1,0)","v":11},"ابيض كروشيه 1cm"]
[null,null,{"$f":"IF(B17=\"\",\"\",SUMIF('الرصيد الثابت'!$D$2:$D$115,B17,'الرصيد الثابت'!$H$2:$H$115))","v":""},{"$f":"IF(B17=\"\",\"\",SUMIF('الرصيد الثابت'!$D$2:$D$115,B17,'الرصيد الثابت'!$I$2:$I$115))","v":""},{"$f":"IF(B17=\"\",\"\",SUMIF('الرصيد الثابت'!$D$2:$D$115,B17,'الرصيد الثابت'!$J$2:$J$115))","v":""},null,0,null,null,null,null,0,null,null,null,0,null,0,null,null,null,null,null,null,null,null,null,null,null,null,null,null,null,null,null,null,null,null,null,null,null,null,null,null,null,null,null,null,null,null,null,null,null,null,null,null,null,null,null,null,null,null,null,null,null,null,null,null,null,null,null,null,null,null,null,null,null,null,null,null,null,null,null,{"$f":"IFERROR(VLOOKUP(ROWS($CF$3:CF17),$CH$3:$CI$2001,2,FALSE),\"\")","v":"ابيض كروشيه 5mm"},null,{"$f":"IF(ISNUMBER(SEARCH(B17,CI17)),MAX($CH$2:CH16)+1,0)","v":12},"ابيض كروشيه 8mm"]
[null,null,{"$f":"IF(B18=\"\",\"\",SUMIF('الرصيد الثابت'!$D$2:$D$115,B18,'الرصيد الثابت'!$H$2:$H$115))","v":""},{"$f":"IF(B18=\"\",\"\",SUMIF('الرصيد الثابت'!$D$2:$D$115,B18,'الرصيد الثابت'!$I$2:$I$115))","v":""},{"$f":"IF(B18=\"\",\"\",SUMIF('الرصيد الثابت'!$D$2:$D$115,B18,'الرصيد الثابت'!$J$2:$J$115))","v":""},null,0,null,null,null,null,0,null,null,null,0,null,0,null,null,null,null,null,null,null,null,null,null,null,null,null,null,null,null,null,null,null,null,null,null,null,null,null,null,null,null,null,null,null,null,null,null,null,null,null,null,null,null,null,null,null,null,null,null,null,null,null,null,null,null,null,null,null,null,null,null,null,null,null,null,null,null,null,{"$f":"IFERROR(VLOOKUP(ROWS($CF$3:CF18),$CH$3:$CI$2001,2,FALSE),\"\")","v":"ابيض كروشيه 2.5cm"},null,{"$f":"IF(ISNUMBER(SEARCH(B18,CI18)),MAX($CH$2:CH17)+1,0)","v":13},"ابيض كروشيه 7mm"]
[null,null,{"$f":"IF(B19=\"\",\"\",SUMIF('الرصيد الثابت'!$D$2:$D$115,B19,'الرصيد الثابت'!$H$2:$H$115))","v":""},{"$f":"IF(B19=\"\",\"\",SUMIF('الرصيد الثابت'!$D$2:$D$115,B19,'الرصيد الثابت'!$I$2:$I$115))","v":""},{"$f":"IF(B19=\"\",\"\",SUMIF('الرصيد الثابت'!$D$2:$D$115,B19,'الرصيد الثابت'!$J$2:$J$115))","v":""},null,0,null,null,null,null,0,null,null,null,0,null,0,null,null,null,null,null,null,null,null,null,null,null,null,null,null,null,null,null,null,null,null,null,null,null,null,null,null,null,null,null,null,null,null,null,null,null,null,null,null,null,null,null,null,null,null,null,null,null,null,null,null,null,null,null,null,null,null,null,null,null,null,null,null,null,null,null,{"$f":"IFERROR(VLOOKUP(ROWS($CF$3:CF19),$CH$3:$CI$2001,2,FALSE),\"\")","v":"ابيض كروشيه 6.5cm"},null,{"$f":"IF(ISNUMBER(SEARCH(B19,CI19)),MAX($CH$2:CH18)+1,0)","v":14},"ابيض كروشيه 6mm"]
[null,null,{"$f":"IF(B20=\"\",\"\",SUMIF('الرصيد الثابت'!$D$2:$D$115,B20,'الرصيد الثابت'!$H$2:$H$115))","v":""},{"$f":"IF(B20=\"\",\"\",SUMIF('الرصيد الثابت'!$D$2:$D$115,B20,'الرصيد الثابت'!$I$2:$I$115))","v":""},{"$f":"IF(B20=\"\",\"\",SUMIF('الرصيد الثابت'!$D$2:$D$115,B20,'الرصيد الثابت'!$J$2:$J$115))","v":""},null,0,null,null,null,null,0,null,null,null,0,null,0,null,null,null,null,null,null,null,null,null,null,null,null,null,null,null,null,null,null,null,null,null,null,null,null,null,null,null,null,null,null,null,null,null,null,null,null,null,null,null,null,null,null,null,null,null,null,null,null,null,null,null,null,null,null,null,null,null,null,null,null,null,null,null,null,null,{"$f":"IFERROR(VLOOKUP(ROWS($CF$3:CF20),$CH$3:$CI$2001,2,FALSE),\"\")","v":"ابيض كروشيه 1.8cm"},null,{"$f":"IF(ISNUMBER(SEARCH(B20,CI20)),MAX($CH$2:CH19)+1,0)","v":15},"ابيض كروشيه 5mm"]
[null,null,{"$f":"IF(B21=\"\",\"\",SUMIF('الرصيد الثابت'!$D$2:$D$115,B21,'الرصيد الثابت'!$H$2:$H$115))","v":""},{"$f":"IF(B21=\"\",\"\",SUMIF('الرصيد الثابت'!$D$2:$D$115,B21,'الرصيد الثابت'!$I$2:$I$115))","v":""},{"$f":"IF(B21=\"\",\"\",SUMIF('الرصيد الثابت'!$D$2:$D$115,B21,'الرصيد الثابت'!$J$2:$J$115))","v":""},null,0,null,null,null,null,0,null,null,null,0,null,0,null,null,null,null,null,null,null,null,null,null,null,null,null,null,null,null,null,null,null,null,null,null,null,null,null,null,null,null,null,null,null,null,null,null,null,null,null,null,null,null,null,null,null,null,null,null,null,null,null,null,null,null,null,null,null,null,null,null,null,null,null,null,null,null,null,{"$f":"IFERROR(VLOOKUP(ROWS($CF$3:CF21),$CH$3:$CI$2001,2,FALSE),\"\")","v":"ابيض كروشيه 1,8"},null,{"$f":"IF(ISNUMBER(SEARCH(B21,CI21)),MAX($CH$2:CH20)+1,0)","v":16},"ابيض كروشيه 2.5cm"]
[null,null,{"$f":"IF(B22=\"\",\"\",SUMIF('الرصيد الثابت'!$D$2:$D$115,B22,'الرصيد الثابت'!$H$2:$H$115))","v":""},{"$f":"IF(B22=\"\",\"\",SUMIF('الرصيد الثابت'!$D$2:$D$115,B22,'الرصيد الثابت'!$I$2:$I$115))","v":""},{"$f":"IF(B22=\"\",\"\",SUMIF('الرصيد الثابت'!$D$2:$D$115,B22,'الرصيد الثابت'!$J$2:$J$115))","v":""},null,0,null,null,null,null,0,null,null,null,0,null,0,null,null,null,null,null,null,null,null,null,null,null,null,null,null,null,null,null,null,null,null,null,null,null,null,null,null,null,null,null,null,null,null,null,null,null,null,null,null,null,null,null,null,null,null,null,null,null,null,null,null,null,null,null,null,null,null,null,null,null,null,null,null,null,null,null,{"$f":"IFERROR(VLOOKUP(ROWS($CF$3:CF22),$CH$3:$CI$2001,2,FALSE),\"\")","v":"ابيض كروشيه .8m"},null,{"$f":"IF(ISNUMBER(SEARCH(B22,CI22)),MAX($CH$2:CH21)+1,0)","v":17},"ابيض كروشيه 6.5cm"]
[null,null,{"$f":"IF(B23=\"\",\"\",SUMIF('الرصيد الثابت'!$D$2:$D$115,B23,'الرصيد الثابت'!$H$2:$H$115))","v":""},{"$f":"IF(B23=\"\",\"\",SUMIF('الرصيد الثابت'!$D$2:$D$115,B23,'الرصيد الثابت'!$I$2:$I$115))","v":""},{"$f":"IF(B23=\"\",\"\",SUMIF('الرصيد الثابت'!$D$2:$D$115,B23,'الرصيد الثابت'!$J$2:$J$115))","v":""},null,0,null,null,null,null,0,null,null,null,0,null,0,null,null,null,null,null,null,null,null,null,null,null,null,null,null,null,null,null,null,null,null,null,null,null,null,null,null,null,null,null,null,null,null,null,null,null,null,null,null,null,null,null,null,null,null,null,null,null,null,null,null,null,null,null,null,null,null,null,null,null,null,null,null,null,null,null,{"$f":"IFERROR(VLOOKUP(ROWS($CF$3:CF23),$CH$3:$CI$2001,2,FALSE),\"\")","v":"ابيض كروشيه 7cm"},null,{"$f":"IF(ISNUMBER(SEARCH(B23,CI23)),MAX($CH$2:CH22)+1,0)","v":18},"ابيض كروشيه 1.8cm"]
[null,null,{"$f":"IF(B24=\"\",\"\",SUMIF('الرصيد الثابت'!$D$2:$D$115,B24,'الرصيد الثابت'!$H$2:$H$115))","v":""},{"$f":"IF(B24=\"\",\"\",SUMIF('الرصيد الثابت'!$D$2:$D$115,B24,'الرصيد الثابت'!$I$2:$I$115))","v":""},{"$f":"IF(B24=\"\",\"\",SUMIF('الرصيد الثابت'!$D$2:$D$115,B24,'الرصيد الثابت'!$J$2:$J$115))","v":""},null,0,null,null,null,null,0,null,null,null,0,null,0,null,null,null,null,null,null,null,null,null,null,null,null,null,null,null,null,null,null,null,null,null,null,null,null,null,null,null,null,null,null,null,null,null,null,null,null,null,null,null,null,null,null,null,null,null,null,null,null,null,null,null,null,null,null,null,null,null,null,null,null,null,null,null,null,null,{"$f":"IFERROR(VLOOKUP(ROWS($CF$3:CF24),$CH$3:$CI$2001,2,FALSE),\"\")","v":"ابيض كروشيه 6.3cm"},null,{"$f":"IF(ISNUMBER(SEARCH(B24,CI24)),MAX($CH$2:CH23)+1,0)","v":19},"ابيض كروشيه 1,8"]
[null,null,{"$f":"IF(B25=\"\",\"\",SUMIF('الرصيد الثابت'!$D$2:$D$115,B25,'الرصيد الثابت'!$H$2:$H$115))","v":""},{"$f":"IF(B25=\"\",\"\",SUMIF('الرصيد الثابت'!$D$2:$D$115,B25,'الرصيد الثابت'!$I$2:$I$115))","v":""},{"$f":"IF(B25=\"\",\"\",SUMIF('الرصيد الثابت'!$D$2:$D$115,B25,'الرصيد الثابت'!$J$2:$J$115))","v":""},null,0,null,null,null,null,0,null,null,null,0,null,0,null,null,null,null,null,null,null,null,null,null,null,null,null,null,null,null,null,null,null,null,null,null,null,null,null,null,null,null,null,null,null,null,null,null,null,null,null,null,null,null,null,null,null,null,null,null,null,null,null,null,null,null,null,null,null,null,null,null,null,null,null,null,null,null,null,{"$f":"IFERROR(VLOOKUP(ROWS($CF$3:CF25),$CH$3:$CI$2001,2,FALSE),\"\")","v":"ابيض كروشيه 0.2m"},null,{"$f":"IF(ISNUMBER(SEARCH(B25,CI25)),MAX($CH$2:CH24)+1,0)","v":20},"ابيض كروشيه .8m"]
[null,null,{"$f":"IF(B26=\"\",\"\",SUMIF('الرصيد الثابت'!$D$2:$D$115,B26,'الرصيد الثابت'!$H$2:$H$115))","v":""},{"$f":"IF(B26=\"\",\"\",SUMIF('الرصيد الثابت'!$D$2:$D$115,B26,'الرصيد الثابت'!$I$2:$I$115))","v":""},{"$f":"IF(B26=\"\",\"\",SUMIF('الرصيد الثابت'!$D$2:$D$115,B26,'الرصيد الثابت'!$J$2:$J$115))","v":""},null,0,null,null,null,null,0,null,null,null,0,null,0,null,null,null,null,null,null,null,null,null,null,null,null,null,null,null,null,null,null,null,null,null,null,null,null,null,null,null,null,null,null,null,null,null,null,null,null,null,null,null,null,null,null,null,null,null,null,null,null,null,null,null,null,null,null,null,null,null,null,null,null,null,null,null,null,null,{"$f":"IFERROR(VLOOKUP(ROWS($CF$3:CF26),$CH$3:$CI$2001,2,FALSE),\"\")","v":"ابيض كروشيه .5m"},null,{"$f":"IF(ISNUMBER(SEARCH(B26,CI26)),MAX($CH$2:CH25)+1,0)","v":21},"ابيض كروشيه 7cm"]
[null,null,{"$f":"IF(B27=\"\",\"\",SUMIF('الرصيد الثابت'!$D$2:$D$115,B27,'الرصيد الثابت'!$H$2:$H$115))","v":""},{"$f":"IF(B27=\"\",\"\",SUMIF('الرصيد الثابت'!$D$2:$D$115,B27,'الرصيد الثابت'!$I$2:$I$115))","v":""},{"$f":"IF(B27=\"\",\"\",SUMIF('الرصيد الثابت'!$D$2:$D$115,B27,'الرصيد الثابت'!$J$2:$J$115))","v":""},null,0,null,null,null,null,0,null,null,null,0,null,0,null,null,null,null,null,null,null,null,null,null,null,null,null,null,null,null,null,null,null,null,null,null,null,null,null,null,null,null,null,null,null,null,null,null,null,null,null,null,null,null,null,null,null,null,null,null,null,null,null,null,null,null,null,null,null,null,null,null,null,null,null,null,null,null,null,{"$f":"IFERROR(VLOOKUP(ROWS($CF$3:CF27),$CH$3:$CI$2001,2,FALSE),\"\")","v":"ابيض كروشيه .6m"},null,{"$f":"IF(ISNUMBER(SEARCH(B27,CI27)),MAX($CH$2:CH26)+1,0)","v":22},"ابيض كروشيه 6.3cm"]
[null,null,{"$f":"IF(B28=\"\",\"\",SUMIF('الرصيد الثابت'!$D$2:$D$115,B28,'الرصيد الثابت'!$H$2:$H$115))","v":""},{"$f":"IF(B28=\"\",\"\",SUMIF('الرصيد الثابت'!$D$2:$D$115,B28,'الرصيد الثابت'!$I$2:$I$115))","v":""},{"$f":"IF(B28=\"\",\"\",SUMIF('الرصيد الثابت'!$D$2:$D$115,B28,'الرصيد الثابت'!$J$2:$J$115))","v":""},null,0,null,null,null,null,0,null,null,null,0,null,0,null,null,null,null,null,null,null,null,null,null,null,null,null,null,null,null,null,null,null,null,null,null,null,null,null,null,null,null,null,null,null,null,null,null,null,null,null,null,null,null,null,null,null,null,null,null,null,null,null,null,null,null,null,null,null,null,null,null,null,null,null,null,null,null,null,{"$f":"IFERROR(VLOOKUP(ROWS($CF$3:CF28),$CH$3:$CI$2001,2,FALSE),\"\")","v":"ابيض كروشيه .7m"},null,{"$f":"IF(ISNUMBER(SEARCH(B28,CI28)),MAX($CH$2:CH27)+1,0)","v":23},"ابيض كروشيه 0.2m"]
[null,null,{"$f":"IF(B29=\"\",\"\",SUMIF('الرصيد الثابت'!$D$2:$D$115,B29,'الرصيد الثابت'!$H$2:$H$115))","v":""},{"$f":"IF(B29=\"\",\"\",SUMIF('الرصيد الثابت'!$D$2:$D$115,B29,'الرصيد الثابت'!$I$2:$I$115))","v":""},{"$f":"IF(B29=\"\",\"\",SUMIF('الرصيد الثابت'!$D$2:$D$115,B29,'الرصيد الثابت'!$J$2:$J$115))","v":""},null,0,null,null,null,null,0,null,null,null,0,null,0,null,null,null,null,null,null,null,null,null,null,null,null,null,null,null,null,null,null,null,null,null,null,null,null,null,null,null,null,null,null,null,null,null,null,null,null,null,null,null,null,null,null,null,null,null,null,null,null,null,null,null,null,null,null,null,null,null,null,null,null,null,null,null,null,null,{"$f":"IFERROR(VLOOKUP(ROWS($CF$3:CF29),$CH$3:$CI$2001,2,FALSE),\"\")","v":"ابيض كروشيه 1.6cm"},null,{"$f":"IF(ISNUMBER(SEARCH(B29,CI29)),MAX($CH$2:CH28)+1,0)","v":24},"ابيض كروشيه .5m"]
[null,null,{"$f":"IF(B30=\"\",\"\",SUMIF('الرصيد الثابت'!$D$2:$D$115,B30,'الرصيد الثابت'!$H$2:$H$115))","v":""},{"$f":"IF(B30=\"\",\"\",SUMIF('الرصيد الثابت'!$D$2:$D$115,B30,'الرصيد الثابت'!$I$2:$I$115))","v":""},{"$f":"IF(B30=\"\",\"\",SUMIF('الرصيد الثابت'!$D$2:$D$115,B30,'الرصيد الثابت'!$J$2:$J$115))","v":""},null,0,null,null,null,null,0,null,null,null,0,null,0,null,null,null,null,null,null,null,null,null,null,null,null,null,null,null,null,null,null,null,null,null,null,null,null,null,null,null,null,null,null,null,null,null,null,null,null,null,null,null,null,null,null,null,null,null,null,null,null,null,null,null,null,null,null,null,null,null,null,null,null,null,null,null,null,null,{"$f":"IFERROR(VLOOKUP(ROWS($CF$3:CF30),$CH$3:$CI$2001,2,FALSE),\"\")","v":"ابيض كروشيه 1.3cm"},null,{"$f":"IF(ISNUMBER(SEARCH(B30,CI30)),MAX($CH$2:CH29)+1,0)","v":25},"ابيض كروشيه .6m"]
[null,null,{"$f":"IF(B31=\"\",\"\",SUMIF('الرصيد الثابت'!$D$2:$D$115,B31,'الرصيد الثابت'!$H$2:$H$115))","v":""},{"$f":"IF(B31=\"\",\"\",SUMIF('الرصيد الثابت'!$D$2:$D$115,B31,'الرصيد الثابت'!$I$2:$I$115))","v":""},{"$f":"IF(B31=\"\",\"\",SUMIF('الرصيد الثابت'!$D$2:$D$115,B31,'الرصيد الثابت'!$J$2:$J$115))","v":""},null,0,null,null,null,null,0,null,null,null,0,null,0,null,null,null,null,null,null,null,null,null,null,null,null,null,null,null,null,null,null,null,null,null,null,null,null,null,null,null,null,null,null,null,null,null,null,null,null,null,null,null,null,null,null,null,null,null,null,null,null,null,null,null,null,null,null,null,null,null,null,null,null,null,null,null,null,null,{"$f":"IFERROR(VLOOKUP(ROWS($CF$3:CF31),$CH$3:$CI$2001,2,FALSE),\"\")","v":"ابيض كروشيه 1.8.cm"},null,{"$f":"IF(ISNUMBER(SEARCH(B31,CI31)),MAX($CH$2:CH30)+1,0)","v":26},"ابيض كروشيه .7m"]
[null,null,{"$f":"IF(B32=\"\",\"\",SUMIF('الرصيد الثابت'!$D$2:$D$115,B32,'الرصيد الثابت'!$H$2:$H$115))","v":""},{"$f":"IF(B32=\"\",\"\",SUMIF('الرصيد الثابت'!$D$2:$D$115,B32,'الرصيد الثابت'!$I$2:$I$115))","v":""},{"$f":"IF(B32=\"\",\"\",SUMIF('الرصيد الثابت'!$D$2:$D$115,B32,'الرصيد الثابت'!$J$2:$J$115))","v":""},null,0,null,null,null,null,0,null,null,null,0,null,0,null,null,null,null,null,null,null,null,null,null,null,null,null,null,null,null,null,null,null,null,null,null,null,null,null,null,null,null,null,null,null,null,null,null,null,null,null,null,null,null,null,null,null,null,null,null,null,null,null,null,null,null,null,null,null,null,null,null,null,null,null,null,null,null,null,{"$f":"IFERROR(VLOOKUP(ROWS($CF$3:CF32),$CH$3:$CI$2001,2,FALSE),\"\")","v":"ابيض ووفين فستون 1cm"},null,{"$f":"IF(ISNUMBER(SEARCH(B32,CI32)),MAX($CH$2:CH31)+1,0)","v":27},"ابيض كروشيه 1.6cm"]
[null,null,{"$f":"IF(B33=\"\",\"\",SUMIF('الرصيد الثابت'!$D$2:$D$115,B33,'الرصيد الثابت'!$H$2:$H$115))","v":""},{"$f":"IF(B33=\"\",\"\",SUMIF('الرصيد الثابت'!$D$2:$D$115,B33,'الرصيد الثابت'!$I$2:$I$115))","v":""},{"$f":"IF(B33=\"\",\"\",SUMIF('الرصيد الثابت'!$D$2:$D$115,B33,'الرصيد الثابت'!$J$2:$J$115))","v":""},null,0,null,null,null,null,0,null,null,null,0,null,0,null,null,null,null,null,null,null,null,null,null,null,null,null,null,null,null,null,null,null,null,null,null,null,null,null,null,null,null,null,null,null,null,null,null,null,null,null,null,null,null,null,null,null,null,null,null,null,null,null,null,null,null,null,null,null,null,null,null,null,null,null,null,null,null,null,{"$f":"IFERROR(VLOOKUP(ROWS($CF$3:CF33),$CH$3:$CI$2001,2,FALSE),\"\")","v":"ابيض استك طبي 3,18"},null,{"$f":"IF(ISNUMBER(SEARCH(B33,CI33)),MAX($CH$2:CH32)+1,0)","v":28},"ابيض كروشيه 1.3cm"]
[null,null,{"$f":"IF(B34=\"\",\"\",SUMIF('الرصيد الثابت'!$D$2:$D$115,B34,'الرصيد الثابت'!$H$2:$H$115))","v":""},{"$f":"IF(B34=\"\",\"\",SUMIF('الرصيد الثابت'!$D$2:$D$115,B34,'الرصيد الثابت'!$I$2:$I$115))","v":""},{"$f":"IF(B34=\"\",\"\",SUMIF('الرصيد الثابت'!$D$2:$D$115,B34,'الرصيد الثابت'!$J$2:$J$115))","v":""},null,0,null,null,null,null,0,null,null,null,0,null,0,null,null,null,null,null,null,null,null,null,null,null,null,null,null,null,null,null,null,null,null,null,null,null,null,null,null,null,null,null,null,null,null,null,null,null,null,null,null,null,null,null,null,null,null,null,null,null,null,null,null,null,null,null,null,null,null,null,null,null,null,null,null,null,null,null,{"$f":"IFERROR(VLOOKUP(ROWS($CF$3:CF34),$CH$3:$CI$2001,2,FALSE),\"\")","v":"ابيض استك طبي 4,14"},null,{"$f":"IF(ISNUMBER(SEARCH(B34,CI34)),MAX($CH$2:CH33)+1,0)","v":29},"ابيض كروشيه 1.8.cm"]
[null,null,{"$f":"IF(B35=\"\",\"\",SUMIF('الرصيد الثابت'!$D$2:$D$115,B35,'الرصيد الثابت'!$H$2:$H$115))","v":""},{"$f":"IF(B35=\"\",\"\",SUMIF('الرصيد الثابت'!$D$2:$D$115,B35,'الرصيد الثابت'!$I$2:$I$115))","v":""},{"$f":"IF(B35=\"\",\"\",SUMIF('الرصيد الثابت'!$D$2:$D$115,B35,'الرصيد الثابت'!$J$2:$J$115))","v":""},null,0,null,null,null,null,0,null,null,null,0,null,0,null,null,null,null,null,null,null,null,null,null,null,null,null,null,null,null,null,null,null,null,null,null,null,null,null,null,null,null,null,null,null,null,null,null,null,null,null,null,null,null,null,null,null,null,null,null,null,null,null,null,null,null,null,null,null,null,null,null,null,null,null,null,null,null,null,{"$f":"IFERROR(VLOOKUP(ROWS($CF$3:CF35),$CH$3:$CI$2001,2,FALSE),\"\")","v":"ابيض استك طبي 2,78"},null,{"$f":"IF(ISNUMBER(SEARCH(B35,CI35)),MAX($CH$2:CH34)+1,0)","v":30},"ابيض ووفين فستون 1cm"]
[null,null,{"$f":"IF(B36=\"\",\"\",SUMIF('الرصيد الثابت'!$D$2:$D$115,B36,'الرصيد الثابت'!$H$2:$H$115))","v":""},{"$f":"IF(B36=\"\",\"\",SUMIF('الرصيد الثابت'!$D$2:$D$115,B36,'الرصيد الثابت'!$I$2:$I$115))","v":""},{"$f":"IF(B36=\"\",\"\",SUMIF('الرصيد الثابت'!$D$2:$D$115,B36,'الرصيد الثابت'!$J$2:$J$115))","v":""},null,0,null,null,null,null,0,null,null,null,0,null,0,null,null,null,null,null,null,null,null,null,null,null,null,null,null,null,null,null,null,null,null,null,null,null,null,null,null,null,null,null,null,null,null,null,null,null,null,null,null,null,null,null,null,null,null,null,null,null,null,null,null,null,null,null,null,null,null,null,null,null,null,null,null,null,null,null,{"$f":"IFERROR(VLOOKUP(ROWS($CF$3:CF36),$CH$3:$CI$2001,2,FALSE),\"\")","v":"ابيض استك طبي 7,52"},null,{"$f":"IF(ISNUMBER(SEARCH(B36,CI36)),MAX($CH$2:CH35)+1,0)","v":31},"ابيض استك طبي 3,18"]
[null,null,{"$f":"IF(B37=\"\",\"\",SUMIF('الرصيد الثابت'!$D$2:$D$115,B37,'الرصيد الثابت'!$H$2:$H$115))","v":""},{"$f":"IF(B37=\"\",\"\",SUMIF('الرصيد الثابت'!$D$2:$D$115,B37,'الرصيد الثابت'!$I$2:$I$115))","v":""},{"$f":"IF(B37=\"\",\"\",SUMIF('الرصيد الثابت'!$D$2:$D$115,B37,'الرصيد الثابت'!$J$2:$J$115))","v":""},null,0,null,null,null,null,0,null,null,null,0,null,0,null,null,null,null,null,null,null,null,null,null,null,null,null,null,null,null,null,null,null,null,null,null,null,null,null,null,null,null,null,null,null,null,null,null,null,null,null,null,null,null,null,null,null,null,null,null,null,null,null,null,null,null,null,null,null,null,null,null,null,null,null,null,null,null,null,{"$f":"IFERROR(VLOOKUP(ROWS($CF$3:CF37),$CH$3:$CI$2001,2,FALSE),\"\")","v":"ابيض استك طبي 3,5"},null,{"$f":"IF(ISNUMBER(SEARCH(B37,CI37)),MAX($CH$2:CH36)+1,0)","v":32},"ابيض استك طبي 4,14"]
[null,null,{"$f":"IF(B38=\"\",\"\",SUMIF('الرصيد الثابت'!$D$2:$D$115,B38,'الرصيد الثابت'!$H$2:$H$115))","v":""},{"$f":"IF(B38=\"\",\"\",SUMIF('الرصيد الثابت'!$D$2:$D$115,B38,'الرصيد الثابت'!$I$2:$I$115))","v":""},{"$f":"IF(B38=\"\",\"\",SUMIF('الرصيد الثابت'!$D$2:$D$115,B38,'الرصيد الثابت'!$J$2:$J$115))","v":""},null,0,null,null,null,null,0,null,null,null,0,null,0,null,null,null,null,null,null,null,null,null,null,null,null,null,null,null,null,null,null,null,null,null,null,null,null,null,null,null,null,null,null,null,null,null,null,null,null,null,null,null,null,null,null,null,null,null,null,null,null,null,null,null,null,null,null,null,null,null,null,null,null,null,null,null,null,null,{"$f":"IFERROR(VLOOKUP(ROWS($CF$3:CF38),$CH$3:$CI$2001,2,FALSE),\"\")","v":"ابيض استك طبي 3,3"},null,{"$f":"IF(ISNUMBER(SEARCH(B38,CI38)),MAX($CH$2:CH37)+1,0)","v":33},"ابيض استك طبي 2,78"]
[null,null,{"$f":"IF(B39=\"\",\"\",SUMIF('الرصيد الثابت'!$D$2:$D$115,B39,'الرصيد الثابت'!$H$2:$H$115))","v":""},{"$f":"IF(B39=\"\",\"\",SUMIF('الرصيد الثابت'!$D$2:$D$115,B39,'الرصيد الثابت'!$I$2:$I$115))","v":""},{"$f":"IF(B39=\"\",\"\",SUMIF('الرصيد الثابت'!$D$2:$D$115,B39,'الرصيد الثابت'!$J$2:$J$115))","v":""},null,0,null,null,null,null,0,null,null,null,0,null,0,null,null,null,null,null,null,null,null,null,null,null,null,null,null,null,null,null,null,null,null,null,null,null,null,null,null,null,null,null,null,null,null,null,null,null,null,null,null,null,null,null,null,null,null,null,null,null,null,null,null,null,null,null,null,null,null,null,null,null,null,null,null,null,null,null,{"$f":"IFERROR(VLOOKUP(ROWS($CF$3:CF39),$CH$3:$CI$2001,2,FALSE),\"\")","v":"ابيض استك طبي 3,36"},null,{"$f":"IF(ISNUMBER(SEARCH(B39,CI39)),MAX($CH$2:CH38)+1,0)","v":34},"ابيض استك طبي 7,52"]
[null,null,{"$f":"IF(B40=\"\",\"\",SUMIF('الرصيد الثابت'!$D$2:$D$115,B40,'الرصيد الثابت'!$H$2:$H$115))","v":""},{"$f":"IF(B40=\"\",\"\",SUMIF('الرصيد الثابت'!$D$2:$D$115,B40,'الرصيد الثابت'!$I$2:$I$115))","v":""},{"$f":"IF(B40=\"\",\"\",SUMIF('الرصيد الثابت'!$D$2:$D$115,B40,'الرصيد الثابت'!$J$2:$J$115))","v":""},null,0,null,null,null,null,0,null,null,null,0,null,0,null,null,null,null,null,null,null,null,null,null,null,null,null,null,null,null,null,null,null,null,null,null,null,null,null,null,null,null,null,null,null,null,null,null,null,null,null,null,null,null,null,null,null,null,null,null,null,null,null,null,null,null,null,null,null,null,null,null,null,null,null,null,null,null,null,{"$f":"IFERROR(VLOOKUP(ROWS($CF$3:CF40),$CH$3:$CI$2001,2,FALSE),\"\")","v":"ابيض استك طبي 2,58"},null,{"$f":"IF(ISNUMBER(SEARCH(B40,CI40)),MAX($CH$2:CH39)+1,0)","v":35},"ابيض استك طبي 3,5"]
[null,null,{"$f":"IF(B41=\"\",\"\",SUMIF('الرصيد الثابت'!$D$2:$D$115,B41,'الرصيد الثابت'!$H$2:$H$115))","v":""},{"$f":"IF(B41=\"\",\"\",SUMIF('الرصيد الثابت'!$D$2:$D$115,B41,'الرصيد الثابت'!$I$2:$I$115))","v":""},{"$f":"IF(B41=\"\",\"\",SUMIF('الرصيد الثابت'!$D$2:$D$115,B41,'الرصيد الثابت'!$J$2:$J$115))","v":""},null,0,null,null,null,null,0,null,null,null,0,null,0,null,null,null,null,null,null,null,null,null,null,null,null,null,null,null,null,null,null,null,null,null,null,null,null,null,null,null,null,null,null,null,null,null,null,null,null,null,null,null,null,null,null,null,null,null,null,null,null,null,null,null,null,null,null,null,null,null,null,null,null,null,null,null,null,null,{"$f":"IFERROR(VLOOKUP(ROWS($CF$3:CF41),$CH$3:$CI$2001,2,FALSE),\"\")","v":"ابيض استك طبي 3,02"},null,{"$f":"IF(ISNUMBER(SEARCH(B41,CI41)),MAX($CH$2:CH40)+1,0)","v":36},"ابيض استك طبي 3,3"]
[null,null,{"$f":"IF(B42=\"\",\"\",SUMIF('الرصيد الثابت'!$D$2:$D$115,B42,'الرصيد الثابت'!$H$2:$H$115))","v":""},{"$f":"IF(B42=\"\",\"\",SUMIF('الرصيد الثابت'!$D$2:$D$115,B42,'الرصيد الثابت'!$I$2:$I$115))","v":""},{"$f":"IF(B42=\"\",\"\",SUMIF('الرصيد الثابت'!$D$2:$D$115,B42,'الرصيد الثابت'!$J$2:$J$115))","v":""},null,0,null,null,null,null,0,null,null,null,0,null,0,null,null,null,null,null,null,null,null,null,null,null,null,null,null,null,null,null,null,null,null,null,null,null,null,null,null,null,null,null,null,null,null,null,null,null,null,null,null,null,null,null,null,null,null,null,null,null,null,null,null,null,null,null,null,null,null,null,null,null,null,null,null,null,null,null,{"$f":"IFERROR(VLOOKUP(ROWS($CF$3:CF42),$CH$3:$CI$2001,2,FALSE),\"\")","v":"ابيض استك طبي 4,92"},null,{"$f":"IF(ISNUMBER(SEARCH(B42,CI42)),MAX($CH$2:CH41)+1,0)","v":37},"ابيض استك طبي 3,36"]
[null,null,{"$f":"IF(B43=\"\",\"\",SUMIF('الرصيد الثابت'!$D$2:$D$115,B43,'الرصيد الثابت'!$H$2:$H$115))","v":""},{"$f":"IF(B43=\"\",\"\",SUMIF('الرصيد الثابت'!$D$2:$D$115,B43,'الرصيد الثابت'!$I$2:$I$115))","v":""},{"$f":"IF(B43=\"\",\"\",SUMIF('الرصيد الثابت'!$D$2:$D$115,B43,'الرصيد الثابت'!$J$2:$J$115))","v":""},null,0,null,null,null,null,0,null,null,null,0,null,0,null,null,null,null,null,null,null,null,null,null,null,null,null,null,null,null,null,null,null,null,null,null,null,null,null,null,null,null,null,null,null,null,null,null,null,null,null,null,null,null,null,null,null,null,null,null,null,null,null,null,null,null,null,null,null,null,null,null,null,null,null,null,null,null,null,{"$f":"IFERROR(VLOOKUP(ROWS($CF$3:CF43),$CH$3:$CI$2001,2,FALSE),\"\")","v":"ابيض فلاش كروشيه 5cm"},null,{"$f":"IF(ISNUMBER(SEARCH(B43,CI43)),MAX($CH$2:CH42)+1,0)","v":38},"ابيض استك طبي 2,58"]
[null,null,{"$f":"IF(B44=\"\",\"\",SUMIF('الرصيد الثابت'!$D$2:$D$115,B44,'الرصيد الثابت'!$H$2:$H$115))","v":""},{"$f":"IF(B44=\"\",\"\",SUMIF('الرصيد الثابت'!$D$2:$D$115,B44,'الرصيد الثابت'!$I$2:$I$115))","v":""},{"$f":"IF(B44=\"\",\"\",SUMIF('الرصيد الثابت'!$D$2:$D$115,B44,'الرصيد الثابت'!$J$2:$J$115))","v":""},null,0,null,null,null,null,0,null,null,null,0,null,0,null,null,null,null,null,null,null,null,null,null,null,null,null,null,null,null,null,null,null,null,null,null,null,null,null,null,null,null,null,null,null,null,null,null,null,null,null,null,null,null,null,null,null,null,null,null,null,null,null,null,null,null,null,null,null,null,null,null,null,null,null,null,null,null,null,{"$f":"IFERROR(VLOOKUP(ROWS($CF$3:CF44),$CH$3:$CI$2001,2,FALSE),\"\")","v":"ابيض فلاش كروشيه 4.5cm"},null,{"$f":"IF(ISNUMBER(SEARCH(B44,CI44)),MAX($CH$2:CH43)+1,0)","v":39},"ابيض استك طبي 3,02"]
[null,null,{"$f":"IF(B45=\"\",\"\",SUMIF('الرصيد الثابت'!$D$2:$D$115,B45,'الرصيد الثابت'!$H$2:$H$115))","v":""},{"$f":"IF(B45=\"\",\"\",SUMIF('الرصيد الثابت'!$D$2:$D$115,B45,'الرصيد الثابت'!$I$2:$I$115))","v":""},{"$f":"IF(B45=\"\",\"\",SUMIF('الرصيد الثابت'!$D$2:$D$115,B45,'الرصيد الثابت'!$J$2:$J$115))","v":""},null,0,null,null,null,null,0,null,null,null,0,null,0,null,null,null,null,null,null,null,null,null,null,null,null,null,null,null,null,null,null,null,null,null,null,null,null,null,null,null,null,null,null,null,null,null,null,null,null,null,null,null,null,null,null,null,null,null,null,null,null,null,null,null,null,null,null,null,null,null,null,null,null,null,null,null,null,null,{"$f":"IFERROR(VLOOKUP(ROWS($CF$3:CF45),$CH$3:$CI$2001,2,FALSE),\"\")","v":"ابيض فلاش كروشيه 3.5cm"},null,{"$f":"IF(ISNUMBER(SEARCH(B45,CI45)),MAX($CH$2:CH44)+1,0)","v":40},"ابيض استك طبي 4,92"]
[null,null,{"$f":"IF(B46=\"\",\"\",SUMIF('الرصيد الثابت'!$D$2:$D$115,B46,'الرصيد الثابت'!$H$2:$H$115))","v":""},{"$f":"IF(B46=\"\",\"\",SUMIF('الرصيد الثابت'!$D$2:$D$115,B46,'الرصيد الثابت'!$I$2:$I$115))","v":""},{"$f":"IF(B46=\"\",\"\",SUMIF('الرصيد الثابت'!$D$2:$D$115,B46,'الرصيد الثابت'!$J$2:$J$115))","v":""},null,0,null,null,null,null,0,null,null,null,0,null,0,null,null,null,null,null,null,null,null,null,null,null,null,null,null,null,null,null,null,null,null,null,null,null,null,null,null,null,null,null,null,null,null,null,null,null,null,null,null,null,null,null,null,null,null,null,null,null,null,null,null,null,null,null,null,null,null,null,null,null,null,null,null,null,null,null,{"$f":"IFERROR(VLOOKUP(ROWS($CF$3:CF46),$CH$3:$CI$2001,2,FALSE),\"\")","v":"ابيض فلاش كروشيه 2cm"},null,{"$f":"IF(ISNUMBER(SEARCH(B46,CI46)),MAX($CH$2:CH45)+1,0)","v":41},"ابيض فلاش كروشيه 5cm"]
[null,null,{"$f":"IF(B47=\"\",\"\",SUMIF('الرصيد الثابت'!$D$2:$D$115,B47,'الرصيد الثابت'!$H$2:$H$115))","v":""},{"$f":"IF(B47=\"\",\"\",SUMIF('الرصيد الثابت'!$D$2:$D$115,B47,'الرصيد الثابت'!$I$2:$I$115))","v":""},{"$f":"IF(B47=\"\",\"\",SUMIF('الرصيد الثابت'!$D$2:$D$115,B47,'الرصيد الثابت'!$J$2:$J$115))","v":""},null,0,null,null,null,null,0,null,null,null,0,null,0,null,null,null,null,null,null,null,null,null,null,null,null,null,null,null,null,null,null,null,null,null,null,null,null,null,null,null,null,null,null,null,null,null,null,null,null,null,null,null,null,null,null,null,null,null,null,null,null,null,null,null,null,null,null,null,null,null,null,null,null,null,null,null,null,null,{"$f":"IFERROR(VLOOKUP(ROWS($CF$3:CF47),$CH$3:$CI$2001,2,FALSE),\"\")","v":"ابيض كانون كروشيه 5.5cm"},null,{"$f":"IF(ISNUMBER(SEARCH(B47,CI47)),MAX($CH$2:CH46)+1,0)","v":42},"ابيض فلاش كروشيه 4.5cm"]
[null,null,{"$f":"IF(B48=\"\",\"\",SUMIF('الرصيد الثابت'!$D$2:$D$115,B48,'الرصيد الثابت'!$H$2:$H$115))","v":""},{"$f":"IF(B48=\"\",\"\",SUMIF('الرصيد الثابت'!$D$2:$D$115,B48,'الرصيد الثابت'!$I$2:$I$115))","v":""},{"$f":"IF(B48=\"\",\"\",SUMIF('الرصيد الثابت'!$D$2:$D$115,B48,'الرصيد الثابت'!$J$2:$J$115))","v":""},null,0,null,null,null,null,0,null,null,null,0,null,0,null,null,null,null,null,null,null,null,null,null,null,null,null,null,null,null,null,null,null,null,null,null,null,null,null,null,null,null,null,null,null,null,null,null,null,null,null,null,null,null,null,null,null,null,null,null,null,null,null,null,null,null,null,null,null,null,null,null,null,null,null,null,null,null,null,{"$f":"IFERROR(VLOOKUP(ROWS($CF$3:CF48),$CH$3:$CI$2001,2,FALSE),\"\")","v":"ابيض كانون كروشيه 4.5cm"},null,{"$f":"IF(ISNUMBER(SEARCH(B48,CI48)),MAX($CH$2:CH47)+1,0)","v":43},"ابيض فلاش كروشيه 3.5cm"]
[null,null,{"$f":"IF(B49=\"\",\"\",SUMIF('الرصيد الثابت'!$D$2:$D$115,B49,'الرصيد الثابت'!$H$2:$H$115))","v":""},{"$f":"IF(B49=\"\",\"\",SUMIF('الرصيد الثابت'!$D$2:$D$115,B49,'الرصيد الثابت'!$I$2:$I$115))","v":""},{"$f":"IF(B49=\"\",\"\",SUMIF('الرصيد الثابت'!$D$2:$D$115,B49,'الرصيد الثابت'!$J$2:$J$115))","v":""},null,0,null,null,null,null,0,null,null,null,0,null,0,null,null,null,null,null,null,null,null,null,null,null,null,null,null,null,null,null,null,null,null,null,null,null,null,null,null,null,null,null,null,null,null,null,null,null,null,null,null,null,null,null,null,null,null,null,null,null,null,null,null,null,null,null,null,null,null,null,null,null,null,null,null,null,null,null,{"$f":"IFERROR(VLOOKUP(ROWS($CF$3:CF49),$CH$3:$CI$2001,2,FALSE),\"\")","v":"ابيض510 كروشيه 3cm"},null,{"$f":"IF(ISNUMBER(SEARCH(B49,CI49)),MAX($CH$2:CH48)+1,0)","v":44},"ابيض فلاش كروشيه 2cm"]
[null,null,{"$f":"IF(B50=\"\",\"\",SUMIF('الرصيد الثابت'!$D$2:$D$115,B50,'الرصيد الثابت'!$H$2:$H$115))","v":""},{"$f":"IF(B50=\"\",\"\",SUMIF('الرصيد الثابت'!$D$2:$D$115,B50,'الرصيد الثابت'!$I$2:$I$115))","v":""},{"$f":"IF(B50=\"\",\"\",SUMIF('الرصيد الثابت'!$D$2:$D$115,B50,'الرصيد الثابت'!$J$2:$J$115))","v":""},null,0,null,null,null,null,0,null,null,null,0,null,0,null,null,null,null,null,null,null,null,null,null,null,null,null,null,null,null,null,null,null,null,null,null,null,null,null,null,null,null,null,null,null,null,null,null,null,null,null,null,null,null,null,null,null,null,null,null,null,null,null,null,null,null,null,null,null,null,null,null,null,null,null,null,null,null,null,{"$f":"IFERROR(VLOOKUP(ROWS($CF$3:CF50),$CH$3:$CI$2001,2,FALSE),\"\")","v":"ابيض510 كروشيه 4cm"},null,{"$f":"IF(ISNUMBER(SEARCH(B50,CI50)),MAX($CH$2:CH49)+1,0)","v":45},"ابيض كانون كروشيه 5.5cm"]
[null,null,{"$f":"IF(B51=\"\",\"\",SUMIF('الرصيد الثابت'!$D$2:$D$115,B51,'الرصيد الثابت'!$H$2:$H$115))","v":""},{"$f":"IF(B51=\"\",\"\",SUMIF('الرصيد الثابت'!$D$2:$D$115,B51,'الرصيد الثابت'!$I$2:$I$115))","v":""},{"$f":"IF(B51=\"\",\"\",SUMIF('الرصيد الثابت'!$D$2:$D$115,B51,'الرصيد الثابت'!$J$2:$J$115))","v":""},null,0,null,null,null,null,0,null,null,null,0,null,0,null,null,null,null,null,null,null,null,null,null,null,null,null,null,null,null,null,null,null,null,null,null,null,null,null,null,null,null,null,null,null,null,null,null,null,null,null,null,null,null,null,null,null,null,null,null,null,null,null,null,null,null,null,null,null,null,null,null,null,null,null,null,null,null,null,{"$f":"IFERROR(VLOOKUP(ROWS($CF$3:CF51),$CH$3:$CI$2001,2,FALSE),\"\")","v":"احمر كورد مبطط"},null,{"$f":"IF(ISNUMBER(SEARCH(B51,CI51)),MAX($CH$2:CH50)+1,0)","v":46},"ابيض كانون كروشيه 4.5cm"]
[null,null,{"$f":"IF(B52=\"\",\"\",SUMIF('الرصيد الثابت'!$D$2:$D$115,B52,'الرصيد الثابت'!$H$2:$H$115))","v":""},{"$f":"IF(B52=\"\",\"\",SUMIF('الرصيد الثابت'!$D$2:$D$115,B52,'الرصيد الثابت'!$I$2:$I$115))","v":""},{"$f":"IF(B52=\"\",\"\",SUMIF('الرصيد الثابت'!$D$2:$D$115,B52,'الرصيد الثابت'!$J$2:$J$115))","v":""},null,0,null,null,null,null,0,null,null,null,{"$f":"SUM(F2000-K2000)","v":0},null,0,null,null,null,null,null,null,null,null,null,null,null,null,null,null,null,null,null,null,null,null,null,null,null,null,null,null,null,null,null,null,null,null,null,null,null,null,null,null,null,null,null,null,null,null,null,null,null,null,null,null,null,null,null,null,null,null,null,null,null,null,null,null,null,null,null,{"$f":"IFERROR(VLOOKUP(ROWS($CF$3:CF52),$CH$3:$CI$2001,2,FALSE),\"\")","v":"احمر كورد كبسله بلاستك "},null,{"$f":"IF(ISNUMBER(SEARCH(B52,CI52)),MAX($CH$2:CH51)+1,0)","v":47},"ابيض510 كروشيه 3cm"]
[null,null,{"$f":"IF(B53=\"\",\"\",SUMIF('الرصيد الثابت'!$D$2:$D$115,B53,'الرصيد الثابت'!$H$2:$H$115))","v":""},{"$f":"IF(B53=\"\",\"\",SUMIF('الرصيد الثابت'!$D$2:$D$115,B53,'الرصيد الثابت'!$I$2:$I$115))","v":""},{"$f":"IF(B53=\"\",\"\",SUMIF('الرصيد الثابت'!$D$2:$D$115,B53,'الرصيد الثابت'!$J$2:$J$115))","v":""},null,0,null,null,null,null,0,null,null,null,0,null,0,null,null,null,null,null,null,null,null,null,null,null,null,null,null,null,null,null,null,null,null,null,null,null,null,null,null,null,null,null,null,null,null,null,null,null,null,null,null,null,null,null,null,null,null,null,null,null,null,null,null,null,null,null,null,null,null,null,null,null,null,null,null,null,null,null,{"$f":"IFERROR(VLOOKUP(ROWS($CF$3:CF53),$CH$3:$CI$2001,2,FALSE),\"\")","v":"اخضر كورد مبطط"},null,{"$f":"IF(ISNUMBER(SEARCH(B53,CI53)),MAX($CH$2:CH52)+1,0)","v":48},"ابيض510 كروشيه 4cm"]
[null,null,{"$f":"IF(B54=\"\",\"\",SUMIF('الرصيد الثابت'!$D$2:$D$115,B54,'الرصيد الثابت'!$H$2:$H$115))","v":""},{"$f":"IF(B54=\"\",\"\",SUMIF('الرصيد الثابت'!$D$2:$D$115,B54,'الرصيد الثابت'!$I$2:$I$115))","v":""},{"$f":"IF(B54=\"\",\"\",SUMIF('الرصيد الثابت'!$D$2:$D$115,B54,'الرصيد الثابت'!$J$2:$J$115))","v":""},null,0,null,null,null,null,0,null,null,null,0,null,0,null,null,null,null,null,null,null,null,null,null,null,null,null,null,null,null,null,null,null,null,null,null,null,null,null,null,null,null,null,null,null,null,null,null,null,null,null,null,null,null,null,null,null,null,null,null,null,null,null,null,null,null,null,null,null,null,null,null,null,null,null,null,null,null,null,{"$f":"IFERROR(VLOOKUP(ROWS($CF$3:CF54),$CH$3:$CI$2001,2,FALSE),\"\")","v":"اسود كروشيه 5.8cm"},null,{"$f":"IF(ISNUMBER(SEARCH(B54,CI54)),MAX($CH$2:CH53)+1,0)","v":49},"احمر كورد مبطط"]
[null,null,{"$f":"IF(B55=\"\",\"\",SUMIF('الرصيد الثابت'!$D$2:$D$115,B55,'الرصيد الثابت'!$H$2:$H$115))","v":""},{"$f":"IF(B55=\"\",\"\",SUMIF('الرصيد الثابت'!$D$2:$D$115,B55,'الرصيد الثابت'!$I$2:$I$115))","v":""},{"$f":"IF(B55=\"\",\"\",SUMIF('الرصيد الثابت'!$D$2:$D$115,B55,'الرصيد الثابت'!$J$2:$J$115))","v":""},null,0,null,null,null,null,0,null,null,null,0,null,0,null,null,null,null,null,null,null,null,null,null,null,null,null,null,null,null,null,null,null,null,null,null,null,null,null,null,null,null,null,null,null,null,null,null,null,null,null,null,null,null,null,null,null,null,null,null,null,null,null,null,null,null,null,null,null,null,null,null,null,null,null,null,null,null,null,{"$f":"IFERROR(VLOOKUP(ROWS($CF$3:CF55),$CH$3:$CI$2001,2,FALSE),\"\")","v":"اسود كروشيه 5.5cm"},null,{"$f":"IF(ISNUMBER(SEARCH(B55,CI55)),MAX($CH$2:CH54)+1,0)","v":50},"احمر كورد كبسله بلاستك "]
[null,null,{"$f":"IF(B56=\"\",\"\",SUMIF('الرصيد الثابت'!$D$2:$D$115,B56,'الرصيد الثابت'!$H$2:$H$115))","v":""},{"$f":"IF(B56=\"\",\"\",SUMIF('الرصيد الثابت'!$D$2:$D$115,B56,'الرصيد الثابت'!$I$2:$I$115))","v":""},{"$f":"IF(B56=\"\",\"\",SUMIF('الرصيد الثابت'!$D$2:$D$115,B56,'الرصيد الثابت'!$J$2:$J$115))","v":""},null,0,null,null,null,null,0,null,null,null,0,null,0,null,null,null,null,null,null,null,null,null,null,null,null,null,null,null,null,null,null,null,null,null,null,null,null,null,null,null,null,null,null,null,null,null,null,null,null,null,null,null,null,null,null,null,null,null,null,null,null,null,null,null,null,null,null,null,null,null,null,null,null,null,null,null,null,null,{"$f":"IFERROR(VLOOKUP(ROWS($CF$3:CF56),$CH$3:$CI$2001,2,FALSE),\"\")","v":"اسود كروشيه 5cm"},null,{"$f":"IF(ISNUMBER(SEARCH(B56,CI56)),MAX($CH$2:CH55)+1,0)","v":51},"اخضر كورد مبطط"]
[null,null,{"$f":"IF(B57=\"\",\"\",SUMIF('الرصيد الثابت'!$D$2:$D$115,B57,'الرصيد الثابت'!$H$2:$H$115))","v":""},{"$f":"IF(B57=\"\",\"\",SUMIF('الرصيد الثابت'!$D$2:$D$115,B57,'الرصيد الثابت'!$I$2:$I$115))","v":""},{"$f":"IF(B57=\"\",\"\",SUMIF('الرصيد الثابت'!$D$2:$D$115,B57,'الرصيد الثابت'!$J$2:$J$115))","v":""},null,0,null,null,null,null,0,null,null,null,0,null,0,null,null,null,null,null,null,null,null,null,null,null,null,null,null,null,null,null,null,null,null,null,null,null,null,null,null,null,null,null,null,null,null,null,null,null,null,null,null,null,null,null,null,null,null,null,null,null,null,null,null,null,null,null,null,null,null,null,null,null,null,null,null,null,null,null,{"$f":"IFERROR(VLOOKUP(ROWS($CF$3:CF57),$CH$3:$CI$2001,2,FALSE),\"\")","v":"اسود كروشيه 4.8cm"},null,{"$f":"IF(ISNUMBER(SEARCH(B57,CI57)),MAX($CH$2:CH56)+1,0)","v":52},"اسود كروشيه 5.8cm"]
[null,null,{"$f":"IF(B58=\"\",\"\",SUMIF('الرصيد الثابت'!$D$2:$D$115,B58,'الرصيد الثابت'!$H$2:$H$115))","v":""},{"$f":"IF(B58=\"\",\"\",SUMIF('الرصيد الثابت'!$D$2:$D$115,B58,'الرصيد الثابت'!$I$2:$I$115))","v":""},{"$f":"IF(B58=\"\",\"\",SUMIF('الرصيد الثابت'!$D$2:$D$115,B58,'الرصيد الثابت'!$J$2:$J$115))","v":""},null,0,null,null,null,null,0,null,null,null,0,null,0,null,null,null,null,null,null,null,null,null,null,null,null,null,null,null,null,null,null,null,null,null,null,null,null,null,null,null,null,null,null,null,null,null,null,null,null,null,null,null,null,null,null,null,null,null,null,null,null,null,null,null,null,null,null,null,null,null,null,null,null,null,null,null,null,null,{"$f":"IFERROR(VLOOKUP(ROWS($CF$3:CF58),$CH$3:$CI$2001,2,FALSE),\"\")","v":"اسود كروشيه 4.5cm"},null,{"$f":"IF(ISNUMBER(SEARCH(B58,CI58)),MAX($CH$2:CH57)+1,0)","v":53},"اسود كروشيه 5.5cm"]
[null,null,{"$f":"IF(B59=\"\",\"\",SUMIF('الرصيد الثابت'!$D$2:$D$115,B59,'الرصيد الثابت'!$H$2:$H$115))","v":""},{"$f":"IF(B59=\"\",\"\",SUMIF('الرصيد الثابت'!$D$2:$D$115,B59,'الرصيد الثابت'!$I$2:$I$115))","v":""},{"$f":"IF(B59=\"\",\"\",SUMIF('الرصيد الثابت'!$D$2:$D$115,B59,'الرصيد الثابت'!$J$2:$J$115))","v":""},null,0,null,null,null,null,0,null,null,null,0,null,0,null,null,null,null,null,null,null,null,null,null,null,null,null,null,null,null,null,null,null,null,null,null,null,null,null,null,null,null,null,null,null,null,null,null,null,null,null,null,null,null,null,null,null,null,null,null,null,null,null,null,null,null,null,null,null,null,null,null,null,null,null,null,null,null,null,{"$f":"IFERROR(VLOOKUP(ROWS($CF$3:CF59),$CH$3:$CI$2001,2,FALSE),\"\")","v":"اسود كروشيه 4cm"},null,{"$f":"IF(ISNUMBER(SEARCH(B59,CI59)),MAX($CH$2:CH58)+1,0)","v":54},"اسود كروشيه 5cm"]
[null,null,{"$f":"IF(B60=\"\",\"\",SUMIF('الرصيد الثابت'!$D$2:$D$115,B60,'الرصيد الثابت'!$H$2:$H$115))","v":""},{"$f":"IF(B60=\"\",\"\",SUMIF('الرصيد الثابت'!$D$2:$D$115,B60,'الرصيد الثابت'!$I$2:$I$115))","v":""},{"$f":"IF(B60=\"\",\"\",SUMIF('الرصيد الثابت'!$D$2:$D$115,B60,'الرصيد الثابت'!$J$2:$J$115))","v":""},null,0,null,null,null,null,0,null,null,null,0,null,0,null,null,null,null,null,null,null,null,null,null,null,null,null,null,null,null,null,null,null,null,null,null,null,null,null,null,null,null,null,null,null,null,null,null,null,null,null,null,null,null,null,null,null,null,null,null,null,null,null,null,null,null,null,null,null,null,null,null,null,null,null,null,null,null,null,{"$f":"IFERROR(VLOOKUP(ROWS($CF$3:CF60),$CH$3:$CI$2001,2,FALSE),\"\")","v":"اسود كروشيه 3.5cm"},null,{"$f":"IF(ISNUMBER(SEARCH(B60,CI60)),MAX($CH$2:CH59)+1,0)","v":55},"اسود كروشيه 4.8cm"]
[null,null,{"$f":"IF(B61=\"\",\"\",SUMIF('الرصيد الثابت'!$D$2:$D$115,B61,'الرصيد الثابت'!$H$2:$H$115))","v":""},{"$f":"IF(B61=\"\",\"\",SUMIF('الرصيد الثابت'!$D$2:$D$115,B61,'الرصيد الثابت'!$I$2:$I$115))","v":""},{"$f":"IF(B61=\"\",\"\",SUMIF('الرصيد الثابت'!$D$2:$D$115,B61,'الرصيد الثابت'!$J$2:$J$115))","v":""},null,0,null,null,null,null,0,null,null,null,0,null,0,null,null,null,null,null,null,null,null,null,null,null,null,null,null,null,null,null,null,null,null,null,null,null,null,null,null,null,null,null,null,null,null,null,null,null,null,null,null,null,null,null,null,null,null,null,null,null,null,null,null,null,null,null,null,null,null,null,null,null,null,null,null,null,null,null,{"$f":"IFERROR(VLOOKUP(ROWS($CF$3:CF61),$CH$3:$CI$2001,2,FALSE),\"\")","v":"اسود كروشيه 3cm"},null,{"$f":"IF(ISNUMBER(SEARCH(B61,CI61)),MAX($CH$2:CH60)+1,0)","v":56},"اسود كروشيه 4.5cm"]
[null,null,{"$f":"IF(B62=\"\",\"\",SUMIF('الرصيد الثابت'!$D$2:$D$115,B62,'الرصيد الثابت'!$H$2:$H$115))","v":""},{"$f":"IF(B62=\"\",\"\",SUMIF('الرصيد الثابت'!$D$2:$D$115,B62,'الرصيد الثابت'!$I$2:$I$115))","v":""},{"$f":"IF(B62=\"\",\"\",SUMIF('الرصيد الثابت'!$D$2:$D$115,B62,'الرصيد الثابت'!$J$2:$J$115))","v":""},null,0,null,null,null,null,0,null,null,null,0,null,0,null,null,null,null,null,null,null,null,null,null,null,null,null,null,null,null,null,null,null,null,null,null,null,null,null,null,null,null,null,null,null,null,null,null,null,null,null,null,null,null,null,null,null,null,null,null,null,null,null,null,null,null,null,null,null,null,null,null,null,null,null,null,null,null,null,{"$f":"IFERROR(VLOOKUP(ROWS($CF$3:CF62),$CH$3:$CI$2001,2,FALSE),\"\")","v":"اسود كروشيه 2.5cm"},null,{"$f":"IF(ISNUMBER(SEARCH(B62,CI62)),MAX($CH$2:CH61)+1,0)","v":57},"اسود كروشيه 4cm"]
[null,null,{"$f":"IF(B63=\"\",\"\",SUMIF('الرصيد الثابت'!$D$2:$D$115,B63,'الرصيد الثابت'!$H$2:$H$115))","v":""},{"$f":"IF(B63=\"\",\"\",SUMIF('الرصيد الثابت'!$D$2:$D$115,B63,'الرصيد الثابت'!$I$2:$I$115))","v":""},{"$f":"IF(B63=\"\",\"\",SUMIF('الرصيد الثابت'!$D$2:$D$115,B63,'الرصيد الثابت'!$J$2:$J$115))","v":""},null,0,null,null,null,null,0,null,null,null,0,null,0,null,null,null,null,null,null,null,null,null,null,null,null,null,null,null,null,null,null,null,null,null,null,null,null,null,null,null,null,null,null,null,null,null,null,null,null,null,null,null,null,null,null,null,null,null,null,null,null,null,null,null,null,null,null,null,null,null,null,null,null,null,null,null,null,null,{"$f":"IFERROR(VLOOKUP(ROWS($CF$3:CF63),$CH$3:$CI$2001,2,FALSE),\"\")","v":"اسود كروشيه 2cm"},null,{"$f":"IF(ISNUMBER(SEARCH(B63,CI63)),MAX($CH$2:CH62)+1,0)","v":58},"اسود كروشيه 3.5cm"]
[null,null,{"$f":"IF(B64=\"\",\"\",SUMIF('الرصيد الثابت'!$D$2:$D$115,B64,'الرصيد الثابت'!$H$2:$H$115))","v":""},{"$f":"IF(B64=\"\",\"\",SUMIF('الرصيد الثابت'!$D$2:$D$115,B64,'الرصيد الثابت'!$I$2:$I$115))","v":""},{"$f":"IF(B64=\"\",\"\",SUMIF('الرصيد الثابت'!$D$2:$D$115,B64,'الرصيد الثابت'!$J$2:$J$115))","v":""},null,0,null,null,null,null,0,null,null,null,0,null,0,null,null,null,null,null,null,null,null,null,null,null,null,null,null,null,null,null,null,null,null,null,null,null,null,null,null,null,null,null,null,null,null,null,null,null,null,null,null,null,null,null,null,null,null,null,null,null,null,null,null,null,null,null,null,null,null,null,null,null,null,null,null,null,null,null,{"$f":"IFERROR(VLOOKUP(ROWS($CF$3:CF64),$CH$3:$CI$2001,2,FALSE),\"\")","v":"اسود كروشيه 1.7cm"},null,{"$f":"IF(ISNUMBER(SEARCH(B64,CI64)),MAX($CH$2:CH63)+1,0)","v":59},"اسود كروشيه 3cm"]
[null,null,{"$f":"IF(B65=\"\",\"\",SUMIF('الرصيد الثابت'!$D$2:$D$115,B65,'الرصيد الثابت'!$H$2:$H$115))","v":""},{"$f":"IF(B65=\"\",\"\",SUMIF('الرصيد الثابت'!$D$2:$D$115,B65,'الرصيد الثابت'!$I$2:$I$115))","v":""},{"$f":"IF(B65=\"\",\"\",SUMIF('الرصيد الثابت'!$D$2:$D$115,B65,'الرصيد الثابت'!$J$2:$J$115))","v":""},null,0,null,null,null,null,0,null,null,null,0,null,0,null,null,null,null,null,null,null,null,null,null,null,null,null,null,null,null,null,null,null,null,null,null,null,null,null,null,null,null,null,null,null,null,null,null,null,null,null,null,null,null,null,null,null,null,null,null,null,null,null,null,null,null,null,null,null,null,null,null,null,null,null,null,null,null,null,{"$f":"IFERROR(VLOOKUP(ROWS($CF$3:CF65),$CH$3:$CI$2001,2,FALSE),\"\")","v":"اسود كروشيه 1.5cm"},null,{"$f":"IF(ISNUMBER(SEARCH(B65,CI65)),MAX($CH$2:CH64)+1,0)","v":60},"اسود كروشيه 2.5cm"]
[null,null,{"$f":"IF(B66=\"\",\"\",SUMIF('الرصيد الثابت'!$D$2:$D$115,B66,'الرصيد الثابت'!$H$2:$H$115))","v":""},{"$f":"IF(B66=\"\",\"\",SUMIF('الرصيد الثابت'!$D$2:$D$115,B66,'الرصيد الثابت'!$I$2:$I$115))","v":""},{"$f":"IF(B66=\"\",\"\",SUMIF('الرصيد الثابت'!$D$2:$D$115,B66,'الرصيد الثابت'!$J$2:$J$115))","v":""},null,0,null,null,null,null,0,null,null,null,0,null,0,null,null,null,null,null,null,null,null,null,null,null,null,null,null,null,null,null,null,null,null,null,null,null,null,null,null,null,null,null,null,null,null,null,null,null,null,null,null,null,null,null,null,null,null,null,null,null,null,null,null,null,null,null,null,null,null,null,null,null,null,null,null,null,null,null,{"$f":"IFERROR(VLOOKUP(ROWS($CF$3:CF66),$CH$3:$CI$2001,2,FALSE),\"\")","v":"اسود كروشيه 1.3cm"},null,{"$f":"IF(ISNUMBER(SEARCH(B66,CI66)),MAX($CH$2:CH65)+1,0)","v":61},"اسود كروشيه 2cm"]
[null,null,{"$f":"IF(B67=\"\",\"\",SUMIF('الرصيد الثابت'!$D$2:$D$115,B67,'الرصيد الثابت'!$H$2:$H$115))","v":""},{"$f":"IF(B67=\"\",\"\",SUMIF('الرصيد الثابت'!$D$2:$D$115,B67,'الرصيد الثابت'!$I$2:$I$115))","v":""},{"$f":"IF(B67=\"\",\"\",SUMIF('الرصيد الثابت'!$D$2:$D$115,B67,'الرصيد الثابت'!$J$2:$J$115))","v":""},null,0,null,null,null,null,{"$f":"SUM(M67*K67)","v":0},null,null,null,0,null,0,null,null,null,null,null,null,null,null,null,null,null,null,null,null,null,null,null,null,null,null,null,null,null,null,null,null,null,null,null,null,null,null,null,null,null,null,null,null,null,null,null,null,null,null,null,null,null,null,null,null,null,null,null,null,null,null,null,null,null,null,null,null,null,null,null,{"$f":"IFERROR(VLOOKUP(ROWS($CF$3:CF67),$CH$3:$CI$2001,2,FALSE),\"\")","v":"اسود كروشيه 1cm"},null,{"$f":"IF(ISNUMBER(SEARCH(B67,CI67)),MAX($CH$2:CH66)+1,0)","v":62},"اسود كروشيه 1.7cm"]
[null,null,{"$f":"IF(B68=\"\",\"\",SUMIF('الرصيد الثابت'!$D$2:$D$115,B68,'الرصيد الثابت'!$H$2:$H$115))","v":""},{"$f":"IF(B68=\"\",\"\",SUMIF('الرصيد الثابت'!$D$2:$D$115,B68,'الرصيد الثابت'!$I$2:$I$115))","v":""},{"$f":"IF(B68=\"\",\"\",SUMIF('الرصيد الثابت'!$D$2:$D$115,B68,'الرصيد الثابت'!$J$2:$J$115))","v":""},null,{"$f":"SUM(H68*F68)","v":0},null,null,null,null,0,null,null,null,{"$f":"SUM(F68-K68)","v":0},null,0,null,null,null,null,null,null,null,null,null,null,null,null,null,null,null,null,null,null,null,null,null,null,null,null,null,null,null,null,null,null,null,null,null,null,null,null,null,null,null,null,null,null,null,null,null,null,null,null,null,null,null,null,null,null,null,null,null,null,null,null,null,null,null,null,null,{"$f":"IFERROR(VLOOKUP(ROWS($CF$3:CF68),$CH$3:$CI$2001,2,FALSE),\"\")","v":"اسود كروشيه 8mm"},null,{"$f":"IF(ISNUMBER(SEARCH(B68,CI68)),MAX($CH$2:CH67)+1,0)","v":63},"اسود كروشيه 1.5cm"]
[null,null,{"$f":"IF(B69=\"\",\"\",SUMIF('الرصيد الثابت'!$D$2:$D$115,B69,'الرصيد الثابت'!$H$2:$H$115))","v":""},{"$f":"IF(B69=\"\",\"\",SUMIF('الرصيد الثابت'!$D$2:$D$115,B69,'الرصيد الثابت'!$I$2:$I$115))","v":""},{"$f":"IF(B69=\"\",\"\",SUMIF('الرصيد الثابت'!$D$2:$D$115,B69,'الرصيد الثابت'!$J$2:$J$115))","v":""},null,0,null,null,null,null,0,null,null,null,0,null,0,null,null,null,null,null,null,null,null,null,null,null,null,null,null,null,null,null,null,null,null,null,null,null,null,null,null,null,null,null,null,null,null,null,null,null,null,null,null,null,null,null,null,null,null,null,null,null,null,null,null,null,null,null,null,null,null,null,null,null,null,null,null,null,null,null,{"$f":"IFERROR(VLOOKUP(ROWS($CF$3:CF69),$CH$3:$CI$2001,2,FALSE),\"\")","v":"اسود كروشيه 3.8cm"},null,{"$f":"IF(ISNUMBER(SEARCH(B69,CI69)),MAX($CH$2:CH68)+1,0)","v":64},"اسود كروشيه 1.3cm"]
[null,null,{"$f":"IF(B70=\"\",\"\",SUMIF('الرصيد الثابت'!$D$2:$D$115,B70,'الرصيد الثابت'!$H$2:$H$115))","v":""},{"$f":"IF(B70=\"\",\"\",SUMIF('الرصيد الثابت'!$D$2:$D$115,B70,'الرصيد الثابت'!$I$2:$I$115))","v":""},{"$f":"IF(B70=\"\",\"\",SUMIF('الرصيد الثابت'!$D$2:$D$115,B70,'الرصيد الثابت'!$J$2:$J$115))","v":""},null,0,null,null,null,null,0,null,null,null,0,null,0,null,null,null,null,null,null,null,null,null,null,null,null,null,null,null,null,null,null,null,null,null,null,null,null,null,null,null,null,null,null,null,null,null,null,null,null,null,null,null,null,null,null,null,null,null,null,null,null,null,null,null,null,null,null,null,null,null,null,null,null,null,null,null,null,null,{"$f":"IFERROR(VLOOKUP(ROWS($CF$3:CF70),$CH$3:$CI$2001,2,FALSE),\"\")","v":"اسود كروشيه .8m"},null,{"$f":"IF(ISNUMBER(SEARCH(B70,CI70)),MAX($CH$2:CH69)+1,0)","v":65},"اسود كروشيه 1cm"]
[null,null,{"$f":"IF(B71=\"\",\"\",SUMIF('الرصيد الثابت'!$D$2:$D$115,B71,'الرصيد الثابت'!$H$2:$H$115))","v":""},{"$f":"IF(B71=\"\",\"\",SUMIF('الرصيد الثابت'!$D$2:$D$115,B71,'الرصيد الثابت'!$I$2:$I$115))","v":""},{"$f":"IF(B71=\"\",\"\",SUMIF('الرصيد الثابت'!$D$2:$D$115,B71,'الرصيد الثابت'!$J$2:$J$115))","v":""},null,0,null,null,null,null,0,null,null,null,0,null,{"$f":"SUM(S71*Q71)","v":0},null,null,null,null,null,null,null,null,null,null,null,null,null,null,null,null,null,null,null,null,null,null,null,null,null,null,null,null,null,null,null,null,null,null,null,null,null,null,null,null,null,null,null,null,null,null,null,null,null,null,null,null,null,null,null,null,null,null,null,null,null,null,null,null,null,{"$f":"IFERROR(VLOOKUP(ROWS($CF$3:CF71),$CH$3:$CI$2001,2,FALSE),\"\")","v":"اسود كروشيه 1.2cm"},null,{"$f":"IF(ISNUMBER(SEARCH(B71,CI71)),MAX($CH$2:CH70)+1,0)","v":66},"اسود كروشيه 8mm"]
[null,null,{"$f":"IF(B72=\"\",\"\",SUMIF('الرصيد الثابت'!$D$2:$D$115,B72,'الرصيد الثابت'!$H$2:$H$115))","v":""},{"$f":"IF(B72=\"\",\"\",SUMIF('الرصيد الثابت'!$D$2:$D$115,B72,'الرصيد الثابت'!$I$2:$I$115))","v":""},{"$f":"IF(B72=\"\",\"\",SUMIF('الرصيد الثابت'!$D$2:$D$115,B72,'الرصيد الثابت'!$J$2:$J$115))","v":""},null,0,null,null,null,null,0,null,null,null,0,null,0,null,null,null,null,null,null,null,null,null,null,null,null,null,null,null,null,null,null,null,null,null,null,null,null,null,null,null,null,null,null,null,null,null,null,null,null,null,null,null,null,null,null,null,null,null,null,null,null,null,null,null,null,null,null,null,null,null,null,null,null,null,null,null,null,null,{"$f":"IFERROR(VLOOKUP(ROWS($CF$3:CF72),$CH$3:$CI$2001,2,FALSE),\"\")","v":"اسود كروشيه .4m"},null,{"$f":"IF(ISNUMBER(SEARCH(B72,CI72)),MAX($CH$2:CH71)+1,0)","v":67},"اسود كروشيه 3.8cm"]
[null,null,{"$f":"IF(B73=\"\",\"\",SUMIF('الرصيد الثابت'!$D$2:$D$115,B73,'الرصيد الثابت'!$H$2:$H$115))","v":""},{"$f":"IF(B73=\"\",\"\",SUMIF('الرصيد الثابت'!$D$2:$D$115,B73,'الرصيد الثابت'!$I$2:$I$115))","v":""},{"$f":"IF(B73=\"\",\"\",SUMIF('الرصيد الثابت'!$D$2:$D$115,B73,'الرصيد الثابت'!$J$2:$J$115))","v":""},null,0,null,null,null,null,0,null,null,null,0,null,0,null,null,null,null,null,null,null,null,null,null,null,null,null,null,null,null,null,null,null,null,null,null,null,null,null,null,null,null,null,null,null,null,null,null,null,null,null,null,null,null,null,null,null,null,null,null,null,null,null,null,null,null,null,null,null,null,null,null,null,null,null,null,null,null,null,{"$f":"IFERROR(VLOOKUP(ROWS($CF$3:CF73),$CH$3:$CI$2001,2,FALSE),\"\")","v":"اسود كروشيه 1.4cm"},null,{"$f":"IF(ISNUMBER(SEARCH(B73,CI73)),MAX($CH$2:CH72)+1,0)","v":68},"اسود كروشيه .8m"]
[null,null,{"$f":"IF(B74=\"\",\"\",SUMIF('الرصيد الثابت'!$D$2:$D$115,B74,'الرصيد الثابت'!$H$2:$H$115))","v":""},{"$f":"IF(B74=\"\",\"\",SUMIF('الرصيد الثابت'!$D$2:$D$115,B74,'الرصيد الثابت'!$I$2:$I$115))","v":""},{"$f":"IF(B74=\"\",\"\",SUMIF('الرصيد الثابت'!$D$2:$D$115,B74,'الرصيد الثابت'!$J$2:$J$115))","v":""},null,0,null,null,null,null,0,null,null,null,0,null,0,null,null,null,null,null,null,null,null,null,null,null,null,null,null,null,null,null,null,null,null,null,null,null,null,null,null,null,null,null,null,null,null,null,null,null,null,null,null,null,null,null,null,null,null,null,null,null,null,null,null,null,null,null,null,null,null,null,null,null,null,null,null,null,null,null,{"$f":"IFERROR(VLOOKUP(ROWS($CF$3:CF74),$CH$3:$CI$2001,2,FALSE),\"\")","v":"اسود كروشيه 2.2cm"},null,{"$f":"IF(ISNUMBER(SEARCH(B74,CI74)),MAX($CH$2:CH73)+1,0)","v":69},"اسود كروشيه 1.2cm"]
[null,null,{"$f":"IF(B75=\"\",\"\",SUMIF('الرصيد الثابت'!$D$2:$D$115,B75,'الرصيد الثابت'!$H$2:$H$115))","v":""},{"$f":"IF(B75=\"\",\"\",SUMIF('الرصيد الثابت'!$D$2:$D$115,B75,'الرصيد الثابت'!$I$2:$I$115))","v":""},{"$f":"IF(B75=\"\",\"\",SUMIF('الرصيد الثابت'!$D$2:$D$115,B75,'الرصيد الثابت'!$J$2:$J$115))","v":""},null,0,null,null,null,null,0,null,null,null,0,null,0,null,null,null,null,null,null,null,null,null,null,null,null,null,null,null,null,null,null,null,null,null,null,null,null,null,null,null,null,null,null,null,null,null,null,null,null,null,null,null,null,null,null,null,null,null,null,null,null,null,null,null,null,null,null,null,null,null,null,null,null,null,null,null,null,null,{"$f":"IFERROR(VLOOKUP(ROWS($CF$3:CF75),$CH$3:$CI$2001,2,FALSE),\"\")","v":"اسود كورد 1cm"},null,{"$f":"IF(ISNUMBER(SEARCH(B75,CI75)),MAX($CH$2:CH74)+1,0)","v":70},"اسود كروشيه .4m"]
[null,null,{"$f":"IF(B76=\"\",\"\",SUMIF('الرصيد الثابت'!$D$2:$D$115,B76,'الرصيد الثابت'!$H$2:$H$115))","v":""},{"$f":"IF(B76=\"\",\"\",SUMIF('الرصيد الثابت'!$D$2:$D$115,B76,'الرصيد الثابت'!$I$2:$I$115))","v":""},{"$f":"IF(B76=\"\",\"\",SUMIF('الرصيد الثابت'!$D$2:$D$115,B76,'الرصيد الثابت'!$J$2:$J$115))","v":""},null,0,null,null,null,null,0,null,null,null,0,null,0,null,null,null,null,null,null,null,null,null,null,null,null,null,null,null,null,null,null,null,null,null,null,null,null,null,null,null,null,null,null,null,null,null,null,null,null,null,null,null,null,null,null,null,null,null,null,null,null,null,null,null,null,null,null,null,null,null,null,null,null,null,null,null,null,null,{"$f":"IFERROR(VLOOKUP(ROWS($CF$3:CF76),$CH$3:$CI$2001,2,FALSE),\"\")","v":"اسود كورد مبطط"},null,{"$f":"IF(ISNUMBER(SEARCH(B76,CI76)),MAX($CH$2:CH75)+1,0)","v":71},"اسود كروشيه 1.4cm"]
[null,null,{"$f":"IF(B77=\"\",\"\",SUMIF('الرصيد الثابت'!$D$2:$D$115,B77,'الرصيد الثابت'!$H$2:$H$115))","v":""},{"$f":"IF(B77=\"\",\"\",SUMIF('الرصيد الثابت'!$D$2:$D$115,B77,'الرصيد الثابت'!$I$2:$I$115))","v":""},{"$f":"IF(B77=\"\",\"\",SUMIF('الرصيد الثابت'!$D$2:$D$115,B77,'الرصيد الثابت'!$J$2:$J$115))","v":""},null,0,null,null,null,null,0,null,null,null,0,null,0,null,null,null,null,null,null,null,null,null,null,null,null,null,null,null,null,null,null,null,null,null,null,null,null,null,null,null,null,null,null,null,null,null,null,null,null,null,null,null,null,null,null,null,null,null,null,null,null,null,null,null,null,null,null,null,null,null,null,null,null,null,null,null,null,null,{"$f":"IFERROR(VLOOKUP(ROWS($CF$3:CF77),$CH$3:$CI$2001,2,FALSE),\"\")","v":"اسود كورد مبروم"},null,{"$f":"IF(ISNUMBER(SEARCH(B77,CI77)),MAX($CH$2:CH76)+1,0)","v":72},"اسود كروشيه 2.2cm"]
[null,null,{"$f":"IF(B78=\"\",\"\",SUMIF('الرصيد الثابت'!$D$2:$D$115,B78,'الرصيد الثابت'!$H$2:$H$115))","v":""},{"$f":"IF(B78=\"\",\"\",SUMIF('الرصيد الثابت'!$D$2:$D$115,B78,'الرصيد الثابت'!$I$2:$I$115))","v":""},{"$f":"IF(B78=\"\",\"\",SUMIF('الرصيد الثابت'!$D$2:$D$115,B78,'الرصيد الثابت'!$J$2:$J$115))","v":""},null,0,null,null,null,null,0,null,null,null,0,null,0,null,null,null,null,null,null,null,null,null,null,null,null,null,null,null,null,null,null,null,null,null,null,null,null,null,null,null,null,null,null,null,null,null,null,null,null,null,null,null,null,null,null,null,null,null,null,null,null,null,null,null,null,null,null,null,null,null,null,null,null,null,null,null,null,null,{"$f":"IFERROR(VLOOKUP(ROWS($CF$3:CF78),$CH$3:$CI$2001,2,FALSE),\"\")","v":"اسود ووفين ساندوتش 1.5cm"},null,{"$f":"IF(ISNUMBER(SEARCH(B78,CI78)),MAX($CH$2:CH77)+1,0)","v":73},"اسود كورد 1cm"]
[null,null,{"$f":"IF(B79=\"\",\"\",SUMIF('الرصيد الثابت'!$D$2:$D$115,B79,'الرصيد الثابت'!$H$2:$H$115))","v":""},{"$f":"IF(B79=\"\",\"\",SUMIF('الرصيد الثابت'!$D$2:$D$115,B79,'الرصيد الثابت'!$I$2:$I$115))","v":""},{"$f":"IF(B79=\"\",\"\",SUMIF('الرصيد الثابت'!$D$2:$D$115,B79,'الرصيد الثابت'!$J$2:$J$115))","v":""},null,0,null,null,null,null,0,null,null,null,0,null,0,null,null,null,null,null,null,null,null,null,null,null,null,null,null,null,null,null,null,null,null,null,null,null,null,null,null,null,null,null,null,null,null,null,null,null,null,null,null,null,null,null,null,null,null,null,null,null,null,null,null,null,null,null,null,null,null,null,null,null,null,null,null,null,null,null,{"$f":"IFERROR(VLOOKUP(ROWS($CF$3:CF79),$CH$3:$CI$2001,2,FALSE),\"\")","v":"اسود ووفين ساندوتش 1.8cm"},null,{"$f":"IF(ISNUMBER(SEARCH(B79,CI79)),MAX($CH$2:CH78)+1,0)","v":74},"اسود كورد مبطط"]
[null,null,{"$f":"IF(B80=\"\",\"\",SUMIF('الرصيد الثابت'!$D$2:$D$115,B80,'الرصيد الثابت'!$H$2:$H$115))","v":""},{"$f":"IF(B80=\"\",\"\",SUMIF('الرصيد الثابت'!$D$2:$D$115,B80,'الرصيد الثابت'!$I$2:$I$115))","v":""},{"$f":"IF(B80=\"\",\"\",SUMIF('الرصيد الثابت'!$D$2:$D$115,B80,'الرصيد الثابت'!$J$2:$J$115))","v":""},null,0,null,null,null,null,0,null,null,null,0,null,0,null,null,null,null,null,null,null,null,null,null,null,null,null,null,null,null,null,null,null,null,null,null,null,null,null,null,null,null,null,null,null,null,null,null,null,null,null,null,null,null,null,null,null,null,null,null,null,null,null,null,null,null,null,null,null,null,null,null,null,null,null,null,null,null,null,{"$f":"IFERROR(VLOOKUP(ROWS($CF$3:CF80),$CH$3:$CI$2001,2,FALSE),\"\")","v":"اسود ووفين ساندوتش 1.7cm"},null,{"$f":"IF(ISNUMBER(SEARCH(B80,CI80)),MAX($CH$2:CH79)+1,0)","v":75},"اسود كورد مبروم"]
[null,null,{"$f":"IF(B81=\"\",\"\",SUMIF('الرصيد الثابت'!$D$2:$D$115,B81,'الرصيد الثابت'!$H$2:$H$115))","v":""},{"$f":"IF(B81=\"\",\"\",SUMIF('الرصيد الثابت'!$D$2:$D$115,B81,'الرصيد الثابت'!$I$2:$I$115))","v":""},{"$f":"IF(B81=\"\",\"\",SUMIF('الرصيد الثابت'!$D$2:$D$115,B81,'الرصيد الثابت'!$J$2:$J$115))","v":""},null,0,null,null,null,null,0,null,null,null,0,null,0,null,null,null,null,null,null,null,null,null,null,null,null,null,null,null,null,null,null,null,null,null,null,null,null,null,null,null,null,null,null,null,null,null,null,null,null,null,null,null,null,null,null,null,null,null,null,null,null,null,null,null,null,null,null,null,null,null,null,null,null,null,null,null,null,null,{"$f":"IFERROR(VLOOKUP(ROWS($CF$3:CF81),$CH$3:$CI$2001,2,FALSE),\"\")","v":"اسود ووفين ساندوتش 2cm"},null,{"$f":"IF(ISNUMBER(SEARCH(B81,CI81)),MAX($CH$2:CH80)+1,0)","v":76},"اسود ووفين ساندوتش 1.5cm"]
[null,null,{"$f":"IF(B82=\"\",\"\",SUMIF('الرصيد الثابت'!$D$2:$D$115,B82,'الرصيد الثابت'!$H$2:$H$115))","v":""},{"$f":"IF(B82=\"\",\"\",SUMIF('الرصيد الثابت'!$D$2:$D$115,B82,'الرصيد الثابت'!$I$2:$I$115))","v":""},{"$f":"IF(B82=\"\",\"\",SUMIF('الرصيد الثابت'!$D$2:$D$115,B82,'الرصيد الثابت'!$J$2:$J$115))","v":""},null,0,null,null,null,null,0,null,null,null,0,null,0,null,null,null,null,null,null,null,null,null,null,null,null,null,null,null,null,null,null,null,null,null,null,null,null,null,null,null,null,null,null,null,null,null,null,null,null,null,null,null,null,null,null,null,null,null,null,null,null,null,null,null,null,null,null,null,null,null,null,null,null,null,null,null,null,null,{"$f":"IFERROR(VLOOKUP(ROWS($CF$3:CF82),$CH$3:$CI$2001,2,FALSE),\"\")","v":"اسود استك طبي 2,98"},null,{"$f":"IF(ISNUMBER(SEARCH(B82,CI82)),MAX($CH$2:CH81)+1,0)","v":77},"اسود ووفين ساندوتش 1.8cm"]
[null,null,{"$f":"IF(B83=\"\",\"\",SUMIF('الرصيد الثابت'!$D$2:$D$115,B83,'الرصيد الثابت'!$H$2:$H$115))","v":""},{"$f":"IF(B83=\"\",\"\",SUMIF('الرصيد الثابت'!$D$2:$D$115,B83,'الرصيد الثابت'!$I$2:$I$115))","v":""},{"$f":"IF(B83=\"\",\"\",SUMIF('الرصيد الثابت'!$D$2:$D$115,B83,'الرصيد الثابت'!$J$2:$J$115))","v":""},null,0,null,null,null,null,0,null,null,null,0,null,0,null,null,null,null,null,null,null,null,null,null,null,null,null,null,null,null,null,null,null,null,null,null,null,null,null,null,null,null,null,null,null,null,null,null,null,null,null,null,null,null,null,null,null,null,null,null,null,null,null,null,null,null,null,null,null,null,null,null,null,null,null,null,null,null,null,{"$f":"IFERROR(VLOOKUP(ROWS($CF$3:CF83),$CH$3:$CI$2001,2,FALSE),\"\")","v":"اسود استك طبي 2,26"},null,{"$f":"IF(ISNUMBER(SEARCH(B83,CI83)),MAX($CH$2:CH82)+1,0)","v":78},"اسود ووفين ساندوتش 1.7cm"]
[null,null,{"$f":"IF(B84=\"\",\"\",SUMIF('الرصيد الثابت'!$D$2:$D$115,B84,'الرصيد الثابت'!$H$2:$H$115))","v":""},{"$f":"IF(B84=\"\",\"\",SUMIF('الرصيد الثابت'!$D$2:$D$115,B84,'الرصيد الثابت'!$I$2:$I$115))","v":""},{"$f":"IF(B84=\"\",\"\",SUMIF('الرصيد الثابت'!$D$2:$D$115,B84,'الرصيد الثابت'!$J$2:$J$115))","v":""},null,0,null,null,null,null,0,null,null,null,0,null,0,null,null,null,null,null,null,null,null,null,null,null,null,null,null,null,null,null,null,null,null,null,null,null,null,null,null,null,null,null,null,null,null,null,null,null,null,null,null,null,null,null,null,null,null,null,null,null,null,null,null,null,null,null,null,null,null,null,null,null,null,null,null,null,null,null,{"$f":"IFERROR(VLOOKUP(ROWS($CF$3:CF84),$CH$3:$CI$2001,2,FALSE),\"\")","v":"اسود   كروشيه 5.8cm"},null,{"$f":"IF(ISNUMBER(SEARCH(B84,CI84)),MAX($CH$2:CH83)+1,0)","v":79},"اسود ووفين ساندوتش 2cm"]
[null,null,{"$f":"IF(B85=\"\",\"\",SUMIF('الرصيد الثابت'!$D$2:$D$115,B85,'الرصيد الثابت'!$H$2:$H$115))","v":""},{"$f":"IF(B85=\"\",\"\",SUMIF('الرصيد الثابت'!$D$2:$D$115,B85,'الرصيد الثابت'!$I$2:$I$115))","v":""},{"$f":"IF(B85=\"\",\"\",SUMIF('الرصيد الثابت'!$D$2:$D$115,B85,'الرصيد الثابت'!$J$2:$J$115))","v":""},null,0,null,null,null,null,0,null,null,null,0,null,0,null,null,null,null,null,null,null,null,null,null,null,null,null,null,null,null,null,null,null,null,null,null,null,null,null,null,null,null,null,null,null,null,null,null,null,null,null,null,null,null,null,null,null,null,null,null,null,null,null,null,null,null,null,null,null,null,null,null,null,null,null,null,null,null,null,{"$f":"IFERROR(VLOOKUP(ROWS($CF$3:CF85),$CH$3:$CI$2001,2,FALSE),\"\")","v":"اسود استريب كروشيه 3cm"},null,{"$f":"IF(ISNUMBER(SEARCH(B85,CI85)),MAX($CH$2:CH84)+1,0)","v":80},"اسود استك طبي 2,98"]
[null,null,{"$f":"IF(B86=\"\",\"\",SUMIF('الرصيد الثابت'!$D$2:$D$115,B86,'الرصيد الثابت'!$H$2:$H$115))","v":""},{"$f":"IF(B86=\"\",\"\",SUMIF('الرصيد الثابت'!$D$2:$D$115,B86,'الرصيد الثابت'!$I$2:$I$115))","v":""},{"$f":"IF(B86=\"\",\"\",SUMIF('الرصيد الثابت'!$D$2:$D$115,B86,'الرصيد الثابت'!$J$2:$J$115))","v":""},null,0,null,null,null,null,0,null,null,null,0,null,0,null,null,null,null,null,null,null,null,null,null,null,null,null,null,null,null,null,null,null,null,null,null,null,null,null,null,null,null,null,null,null,null,null,null,null,null,null,null,null,null,null,null,null,null,null,null,null,null,null,null,null,null,null,null,null,null,null,null,null,null,null,null,null,null,null,{"$f":"IFERROR(VLOOKUP(ROWS($CF$3:CF86),$CH$3:$CI$2001,2,FALSE),\"\")","v":"اسود فلاش كروشيه 5.5cm"},null,{"$f":"IF(ISNUMBER(SEARCH(B86,CI86)),MAX($CH$2:CH85)+1,0)","v":81},"اسود استك طبي 2,26"]
[null,null,{"$f":"IF(B87=\"\",\"\",SUMIF('الرصيد الثابت'!$D$2:$D$115,B87,'الرصيد الثابت'!$H$2:$H$115))","v":""},{"$f":"IF(B87=\"\",\"\",SUMIF('الرصيد الثابت'!$D$2:$D$115,B87,'الرصيد الثابت'!$I$2:$I$115))","v":""},{"$f":"IF(B87=\"\",\"\",SUMIF('الرصيد الثابت'!$D$2:$D$115,B87,'الرصيد الثابت'!$J$2:$J$115))","v":""},null,0,null,null,null,null,0,null,null,null,0,null,0,null,null,null,null,null,null,null,null,null,null,null,null,null,null,null,null,null,null,null,null,null,null,null,null,null,null,null,null,null,null,null,null,null,null,null,null,null,null,null,null,null,null,null,null,null,null,null,null,null,null,null,null,null,null,null,null,null,null,null,null,null,null,null,null,null,{"$f":"IFERROR(VLOOKUP(ROWS($CF$3:CF87),$CH$3:$CI$2001,2,FALSE),\"\")","v":"اسود فلاش كروشيه 5cm"},null,{"$f":"IF(ISNUMBER(SEARCH(B87,CI87)),MAX($CH$2:CH86)+1,0)","v":82},"اسود   كروشيه 5.8cm"]
[null,null,{"$f":"IF(B88=\"\",\"\",SUMIF('الرصيد الثابت'!$D$2:$D$115,B88,'الرصيد الثابت'!$H$2:$H$115))","v":""},{"$f":"IF(B88=\"\",\"\",SUMIF('الرصيد الثابت'!$D$2:$D$115,B88,'الرصيد الثابت'!$I$2:$I$115))","v":""},{"$f":"IF(B88=\"\",\"\",SUMIF('الرصيد الثابت'!$D$2:$D$115,B88,'الرصيد الثابت'!$J$2:$J$115))","v":""},null,0,null,null,null,null,0,null,null,null,0,null,0,null,null,null,null,null,null,null,null,null,null,null,null,null,null,null,null,null,null,null,null,null,null,null,null,null,null,null,null,null,null,null,null,null,null,null,null,null,null,null,null,null,null,null,null,null,null,null,null,null,null,null,null,null,null,null,null,null,null,null,null,null,null,null,null,null,{"$f":"IFERROR(VLOOKUP(ROWS($CF$3:CF88),$CH$3:$CI$2001,2,FALSE),\"\")","v":"اسود فلاش كروشيه 3.5cm"},null,{"$f":"IF(ISNUMBER(SEARCH(B88,CI88)),MAX($CH$2:CH87)+1,0)","v":83},"اسود استريب كروشيه 3cm"]
[null,null,{"$f":"IF(B89=\"\",\"\",SUMIF('الرصيد الثابت'!$D$2:$D$115,B89,'الرصيد الثابت'!$H$2:$H$115))","v":""},{"$f":"IF(B89=\"\",\"\",SUMIF('الرصيد الثابت'!$D$2:$D$115,B89,'الرصيد الثابت'!$I$2:$I$115))","v":""},{"$f":"IF(B89=\"\",\"\",SUMIF('الرصيد الثابت'!$D$2:$D$115,B89,'الرصيد الثابت'!$J$2:$J$115))","v":""},null,0,null,null,null,null,0,null,null,null,0,null,0,null,null,null,null,null,null,null,null,null,null,null,null,null,null,null,null,null,null,null,null,null,null,null,null,null,null,null,null,null,null,null,null,null,null,null,null,null,null,null,null,null,null,null,null,null,null,null,null,null,null,null,null,null,null,null,null,null,null,null,null,null,null,null,null,null,{"$f":"IFERROR(VLOOKUP(ROWS($CF$3:CF89),$CH$3:$CI$2001,2,FALSE),\"\")","v":"اسود510 كروشيه 5cm"},null,{"$f":"IF(ISNUMBER(SEARCH(B89,CI89)),MAX($CH$2:CH88)+1,0)","v":84},"اسود فلاش كروشيه 5.5cm"]
[null,null,{"$f":"IF(B90=\"\",\"\",SUMIF('الرصيد الثابت'!$D$2:$D$115,B90,'الرصيد الثابت'!$H$2:$H$115))","v":""},{"$f":"IF(B90=\"\",\"\",SUMIF('الرصيد الثابت'!$D$2:$D$115,B90,'الرصيد الثابت'!$I$2:$I$115))","v":""},{"$f":"IF(B90=\"\",\"\",SUMIF('الرصيد الثابت'!$D$2:$D$115,B90,'الرصيد الثابت'!$J$2:$J$115))","v":""},null,0,null,null,null,null,0,null,null,null,0,null,0,null,null,null,null,null,null,null,null,null,null,null,null,null,null,null,null,null,null,null,null,null,null,null,null,null,null,null,null,null,null,null,null,null,null,null,null,null,null,null,null,null,null,null,null,null,null,null,null,null,null,null,null,null,null,null,null,null,null,null,null,null,null,null,null,null,{"$f":"IFERROR(VLOOKUP(ROWS($CF$3:CF90),$CH$3:$CI$2001,2,FALSE),\"\")","v":"اسود510 كروشيه 3.5cm"},null,{"$f":"IF(ISNUMBER(SEARCH(B90,CI90)),MAX($CH$2:CH89)+1,0)","v":85},"اسود فلاش كروشيه 5cm"]
[null,null,{"$f":"IF(B91=\"\",\"\",SUMIF('الرصيد الثابت'!$D$2:$D$115,B91,'الرصيد الثابت'!$H$2:$H$115))","v":""},{"$f":"IF(B91=\"\",\"\",SUMIF('الرصيد الثابت'!$D$2:$D$115,B91,'الرصيد الثابت'!$I$2:$I$115))","v":""},{"$f":"IF(B91=\"\",\"\",SUMIF('الرصيد الثابت'!$D$2:$D$115,B91,'الرصيد الثابت'!$J$2:$J$115))","v":""},null,0,null,null,null,null,0,null,null,null,0,null,0,null,null,null,null,null,null,null,null,null,null,null,null,null,null,null,null,null,null,null,null,null,null,null,null,null,null,null,null,null,null,null,null,null,null,null,null,null,null,null,null,null,null,null,null,null,null,null,null,null,null,null,null,null,null,null,null,null,null,null,null,null,null,null,null,null,{"$f":"IFERROR(VLOOKUP(ROWS($CF$3:CF91),$CH$3:$CI$2001,2,FALSE),\"\")","v":"الالوان كورد 1.2cm"},null,{"$f":"IF(ISNUMBER(SEARCH(B91,CI91)),MAX($CH$2:CH90)+1,0)","v":86},"اسود فلاش كروشيه 3.5cm"]
[null,null,{"$f":"IF(B92=\"\",\"\",SUMIF('الرصيد الثابت'!$D$2:$D$115,B92,'الرصيد الثابت'!$H$2:$H$115))","v":""},{"$f":"IF(B92=\"\",\"\",SUMIF('الرصيد الثابت'!$D$2:$D$115,B92,'الرصيد الثابت'!$I$2:$I$115))","v":""},{"$f":"IF(B92=\"\",\"\",SUMIF('الرصيد الثابت'!$D$2:$D$115,B92,'الرصيد الثابت'!$J$2:$J$115))","v":""},null,0,null,null,null,null,0,null,null,null,0,null,0,null,null,null,null,null,null,null,null,null,null,null,null,null,null,null,null,null,null,null,null,null,null,null,null,null,null,null,null,null,null,null,null,null,null,null,null,null,null,null,null,null,null,null,null,null,null,null,null,null,null,null,null,null,null,null,null,null,null,null,null,null,null,null,null,null,{"$f":"IFERROR(VLOOKUP(ROWS($CF$3:CF92),$CH$3:$CI$2001,2,FALSE),\"\")","v":"اورنج كورد 1.2cm"},null,{"$f":"IF(ISNUMBER(SEARCH(B92,CI92)),MAX($CH$2:CH91)+1,0)","v":87},"اسود510 كروشيه 5cm"]
[null,null,{"$f":"IF(B93=\"\",\"\",SUMIF('الرصيد الثابت'!$D$2:$D$115,B93,'الرصيد الثابت'!$H$2:$H$115))","v":""},{"$f":"IF(B93=\"\",\"\",SUMIF('الرصيد الثابت'!$D$2:$D$115,B93,'الرصيد الثابت'!$I$2:$I$115))","v":""},{"$f":"IF(B93=\"\",\"\",SUMIF('الرصيد الثابت'!$D$2:$D$115,B93,'الرصيد الثابت'!$J$2:$J$115))","v":""},null,0,null,null,null,null,0,null,null,null,0,null,0,null,null,null,null,null,null,null,null,null,null,null,null,null,null,null,null,null,null,null,null,null,null,null,null,null,null,null,null,null,null,null,null,null,null,null,null,null,null,null,null,null,null,null,null,null,null,null,null,null,null,null,null,null,null,null,null,null,null,null,null,null,null,null,null,null,{"$f":"IFERROR(VLOOKUP(ROWS($CF$3:CF93),$CH$3:$CI$2001,2,FALSE),\"\")","v":"اورنح كورد مبطط"},null,{"$f":"IF(ISNUMBER(SEARCH(B93,CI93)),MAX($CH$2:CH92)+1,0)","v":88},"اسود510 كروشيه 3.5cm"]
[null,null,{"$f":"IF(B94=\"\",\"\",SUMIF('الرصيد الثابت'!$D$2:$D$115,B94,'الرصيد الثابت'!$H$2:$H$115))","v":""},{"$f":"IF(B94=\"\",\"\",SUMIF('الرصيد الثابت'!$D$2:$D$115,B94,'الرصيد الثابت'!$I$2:$I$115))","v":""},{"$f":"IF(B94=\"\",\"\",SUMIF('الرصيد الثابت'!$D$2:$D$115,B94,'الرصيد الثابت'!$J$2:$J$115))","v":""},null,0,null,null,null,null,0,null,null,null,0,null,0,null,null,null,null,null,null,null,null,null,null,null,null,null,null,null,null,null,null,null,null,null,null,null,null,null,null,null,null,null,null,null,null,null,null,null,null,null,null,null,null,null,null,null,null,null,null,null,null,null,null,null,null,null,null,null,null,null,null,null,null,null,null,null,null,null,{"$f":"IFERROR(VLOOKUP(ROWS($CF$3:CF94),$CH$3:$CI$2001,2,FALSE),\"\")","v":"بينك ووفين فستون 1cm"},null,{"$f":"IF(ISNUMBER(SEARCH(B94,CI94)),MAX($CH$2:CH93)+1,0)","v":89},"الالوان كورد 1.2cm"]
[null,null,{"$f":"IF(B95=\"\",\"\",SUMIF('الرصيد الثابت'!$D$2:$D$115,B95,'الرصيد الثابت'!$H$2:$H$115))","v":""},{"$f":"IF(B95=\"\",\"\",SUMIF('الرصيد الثابت'!$D$2:$D$115,B95,'الرصيد الثابت'!$I$2:$I$115))","v":""},{"$f":"IF(B95=\"\",\"\",SUMIF('الرصيد الثابت'!$D$2:$D$115,B95,'الرصيد الثابت'!$J$2:$J$115))","v":""},null,0,null,null,null,null,0,null,null,null,0,null,0,null,null,null,null,null,null,null,null,null,null,null,null,null,null,null,null,null,null,null,null,null,null,null,null,null,null,null,null,null,null,null,null,null,null,null,null,null,null,null,null,null,null,null,null,null,null,null,null,null,null,null,null,null,null,null,null,null,null,null,null,null,null,null,null,null,{"$f":"IFERROR(VLOOKUP(ROWS($CF$3:CF95),$CH$3:$CI$2001,2,FALSE),\"\")","v":"بينك ووفين فستون 1.3cm"},null,{"$f":"IF(ISNUMBER(SEARCH(B95,CI95)),MAX($CH$2:CH94)+1,0)","v":90},"اورنج كورد 1.2cm"]
[null,null,{"$f":"IF(B96=\"\",\"\",SUMIF('الرصيد الثابت'!$D$2:$D$115,B96,'الرصيد الثابت'!$H$2:$H$115))","v":""},{"$f":"IF(B96=\"\",\"\",SUMIF('الرصيد الثابت'!$D$2:$D$115,B96,'الرصيد الثابت'!$I$2:$I$115))","v":""},{"$f":"IF(B96=\"\",\"\",SUMIF('الرصيد الثابت'!$D$2:$D$115,B96,'الرصيد الثابت'!$J$2:$J$115))","v":""},null,0,null,null,null,null,0,null,null,null,0,null,0,null,null,null,null,null,null,null,null,null,null,null,null,null,null,null,null,null,null,null,null,null,null,null,null,null,null,null,null,null,null,null,null,null,null,null,null,null,null,null,null,null,null,null,null,null,null,null,null,null,null,null,null,null,null,null,null,null,null,null,null,null,null,null,null,null,{"$f":"IFERROR(VLOOKUP(ROWS($CF$3:CF96),$CH$3:$CI$2001,2,FALSE),\"\")","v":"رصاصي استريب كروشيه 3cm"},null,{"$f":"IF(ISNUMBER(SEARCH(B96,CI96)),MAX($CH$2:CH95)+1,0)","v":91},"اورنح كورد مبطط"]
[null,null,{"$f":"IF(B97=\"\",\"\",SUMIF('الرصيد الثابت'!$D$2:$D$115,B97,'الرصيد الثابت'!$H$2:$H$115))","v":""},{"$f":"IF(B97=\"\",\"\",SUMIF('الرصيد الثابت'!$D$2:$D$115,B97,'الرصيد الثابت'!$I$2:$I$115))","v":""},{"$f":"IF(B97=\"\",\"\",SUMIF('الرصيد الثابت'!$D$2:$D$115,B97,'الرصيد الثابت'!$J$2:$J$115))","v":""},null,0,null,null,null,null,0,null,null,null,0,null,0,null,null,null,null,null,null,null,null,null,null,null,null,null,null,null,null,null,null,null,null,null,null,null,null,null,null,null,null,null,null,null,null,null,null,null,null,null,null,null,null,null,null,null,null,null,null,null,null,null,null,null,null,null,null,null,null,null,null,null,null,null,null,null,null,null,{"$f":"IFERROR(VLOOKUP(ROWS($CF$3:CF97),$CH$3:$CI$2001,2,FALSE),\"\")","v":"زهري كورد مبطط"},null,{"$f":"IF(ISNUMBER(SEARCH(B97,CI97)),MAX($CH$2:CH96)+1,0)","v":92},"بينك ووفين فستون 1cm"]
[null,null,{"$f":"IF(B98=\"\",\"\",SUMIF('الرصيد الثابت'!$D$2:$D$115,B98,'الرصيد الثابت'!$H$2:$H$115))","v":""},{"$f":"IF(B98=\"\",\"\",SUMIF('الرصيد الثابت'!$D$2:$D$115,B98,'الرصيد الثابت'!$I$2:$I$115))","v":""},{"$f":"IF(B98=\"\",\"\",SUMIF('الرصيد الثابت'!$D$2:$D$115,B98,'الرصيد الثابت'!$J$2:$J$115))","v":""},null,0,null,null,null,null,0,null,null,null,0,null,0,null,null,null,null,null,null,null,null,null,null,null,null,null,null,null,null,null,null,null,null,null,null,null,null,null,null,null,null,null,null,null,null,null,null,null,null,null,null,null,null,null,null,null,null,null,null,null,null,null,null,null,null,null,null,null,null,null,null,null,null,null,null,null,null,null,{"$f":"IFERROR(VLOOKUP(ROWS($CF$3:CF98),$CH$3:$CI$2001,2,FALSE),\"\")","v":"شاركول كورد مبطط"},null,{"$f":"IF(ISNUMBER(SEARCH(B98,CI98)),MAX($CH$2:CH97)+1,0)","v":93},"بينك ووفين فستون 1.3cm"]
[null,null,{"$f":"IF(B99=\"\",\"\",SUMIF('الرصيد الثابت'!$D$2:$D$115,B99,'الرصيد الثابت'!$H$2:$H$115))","v":""},{"$f":"IF(B99=\"\",\"\",SUMIF('الرصيد الثابت'!$D$2:$D$115,B99,'الرصيد الثابت'!$I$2:$I$115))","v":""},{"$f":"IF(B99=\"\",\"\",SUMIF('الرصيد الثابت'!$D$2:$D$115,B99,'الرصيد الثابت'!$J$2:$J$115))","v":""},null,0,null,null,null,null,0,null,null,null,0,null,0,null,null,null,null,null,null,null,null,null,null,null,null,null,null,null,null,null,null,null,null,null,null,null,null,null,null,null,null,null,null,null,null,null,null,null,null,null,null,null,null,null,null,null,null,null,null,null,null,null,null,null,null,null,null,null,null,null,null,null,null,null,null,null,null,null,{"$f":"IFERROR(VLOOKUP(ROWS($CF$3:CF99),$CH$3:$CI$2001,2,FALSE),\"\")","v":"موف غامق كروشيه 1.6cm"},null,{"$f":"IF(ISNUMBER(SEARCH(B99,CI99)),MAX($CH$2:CH98)+1,0)","v":94},"رصاصي استريب كروشيه 3cm"]
[null,null,{"$f":"IF(B100=\"\",\"\",SUMIF('الرصيد الثابت'!$D$2:$D$115,B100,'الرصيد الثابت'!$H$2:$H$115))","v":""},{"$f":"IF(B100=\"\",\"\",SUMIF('الرصيد الثابت'!$D$2:$D$115,B100,'الرصيد الثابت'!$I$2:$I$115))","v":""},{"$f":"IF(B100=\"\",\"\",SUMIF('الرصيد الثابت'!$D$2:$D$115,B100,'الرصيد الثابت'!$J$2:$J$115))","v":""},null,0,null,null,null,null,0,null,null,null,0,null,0,null,null,null,null,null,null,null,null,null,null,null,null,null,null,null,null,null,null,null,null,null,null,null,null,null,null,null,null,null,null,null,null,null,null,null,null,null,null,null,null,null,null,null,null,null,null,null,null,null,null,null,null,null,null,null,null,null,null,null,null,null,null,null,null,null,{"$f":"IFERROR(VLOOKUP(ROWS($CF$3:CF100),$CH$3:$CI$2001,2,FALSE),\"\")","v":" كروشيه 1.8cm"},null,{"$f":"IF(ISNUMBER(SEARCH(B100,CI100)),MAX($CH$2:CH99)+1,0)","v":95},"زهري كورد مبطط"]
[null,null,{"$f":"IF(B101=\"\",\"\",SUMIF('الرصيد الثابت'!$D$2:$D$115,B101,'الرصيد الثابت'!$H$2:$H$115))","v":""},{"$f":"IF(B101=\"\",\"\",SUMIF('الرصيد الثابت'!$D$2:$D$115,B101,'الرصيد الثابت'!$I$2:$I$115))","v":""},{"$f":"IF(B101=\"\",\"\",SUMIF('الرصيد الثابت'!$D$2:$D$115,B101,'الرصيد الثابت'!$J$2:$J$115))","v":""},null,0,null,null,null,null,0,null,null,null,0,null,0,null,null,null,null,null,null,null,null,null,null,null,null,null,null,null,null,null,null,null,null,null,null,null,null,null,null,null,null,null,null,null,null,null,null,null,null,null,null,null,null,null,null,null,null,null,null,null,null,null,null,null,null,null,null,null,null,null,null,null,null,null,null,null,null,null,{"$f":"IFERROR(VLOOKUP(ROWS($CF$3:CF101),$CH$3:$CI$2001,2,FALSE),\"\")","v":" كروشيه 1.9cm"},null,{"$f":"IF(ISNUMBER(SEARCH(B101,CI101)),MAX($CH$2:CH100)+1,0)","v":96},"شاركول كورد مبطط"]
[null,null,{"$f":"IF(B102=\"\",\"\",SUMIF('الرصيد الثابت'!$D$2:$D$115,B102,'الرصيد الثابت'!$H$2:$H$115))","v":""},{"$f":"IF(B102=\"\",\"\",SUMIF('الرصيد الثابت'!$D$2:$D$115,B102,'الرصيد الثابت'!$I$2:$I$115))","v":""},{"$f":"IF(B102=\"\",\"\",SUMIF('الرصيد الثابت'!$D$2:$D$115,B102,'الرصيد الثابت'!$J$2:$J$115))","v":""},null,0,null,null,null,null,0,null,null,null,0,null,0,null,null,null,null,null,null,null,null,null,null,null,null,null,null,null,null,null,null,null,null,null,null,null,null,null,null,null,null,null,null,null,null,null,null,null,null,null,null,null,null,null,null,null,null,null,null,null,null,null,null,null,null,null,null,null,null,null,null,null,null,null,null,null,null,null,{"$f":"IFERROR(VLOOKUP(ROWS($CF$3:CF102),$CH$3:$CI$2001,2,FALSE),\"\")","v":"موف فاتح كروشيه 4,6"},null,{"$f":"IF(ISNUMBER(SEARCH(B102,CI102)),MAX($CH$2:CH101)+1,0)","v":97},"موف غامق كروشيه 1.6cm"]
[null,null,{"$f":"IF(B103=\"\",\"\",SUMIF('الرصيد الثابت'!$D$2:$D$115,B103,'الرصيد الثابت'!$H$2:$H$115))","v":""},{"$f":"IF(B103=\"\",\"\",SUMIF('الرصيد الثابت'!$D$2:$D$115,B103,'الرصيد الثابت'!$I$2:$I$115))","v":""},{"$f":"IF(B103=\"\",\"\",SUMIF('الرصيد الثابت'!$D$2:$D$115,B103,'الرصيد الثابت'!$J$2:$J$115))","v":""},null,0,null,null,null,null,0,null,null,null,0,null,0,null,null,null,null,null,null,null,null,null,null,null,null,null,null,null,null,null,null,null,null,null,null,null,null,null,null,null,null,null,null,null,null,null,null,null,null,null,null,null,null,null,null,null,null,null,null,null,null,null,null,null,null,null,null,null,null,null,null,null,null,null,null,null,null,null,{"$f":"IFERROR(VLOOKUP(ROWS($CF$3:CF103),$CH$3:$CI$2001,2,FALSE),\"\")","v":""},null,{"$f":"IF(ISNUMBER(SEARCH(B103,CI103)),MAX($CH$2:CH102)+1,0)","v":98}," كروشيه 1.8cm"]
[null,null,{"$f":"IF(B104=\"\",\"\",SUMIF('الرصيد الثابت'!$D$2:$D$115,B104,'الرصيد الثابت'!$H$2:$H$115))","v":""},{"$f":"IF(B104=\"\",\"\",SUMIF('الرصيد الثابت'!$D$2:$D$115,B104,'الرصيد الثابت'!$I$2:$I$115))","v":""},{"$f":"IF(B104=\"\",\"\",SUMIF('الرصيد الثابت'!$D$2:$D$115,B104,'الرصيد الثابت'!$J$2:$J$115))","v":""},null,0,null,null,null,null,0,null,null,null,0,null,0,null,null,null,null,null,null,null,null,null,null,null,null,null,null,null,null,null,null,null,null,null,null,null,null,null,null,null,null,null,null,null,null,null,null,null,null,null,null,null,null,null,null,null,null,null,null,null,null,null,null,null,null,null,null,null,null,null,null,null,null,null,null,null,null,null,{"$f":"IFERROR(VLOOKUP(ROWS($CF$3:CF104),$CH$3:$CI$2001,2,FALSE),\"\")","v":""},null,{"$f":"IF(ISNUMBER(SEARCH(B104,CI104)),MAX($CH$2:CH103)+1,0)","v":99}," كروشيه 1.9cm"]
[null,null,{"$f":"IF(B105=\"\",\"\",SUMIF('الرصيد الثابت'!$D$2:$D$115,B105,'الرصيد الثابت'!$H$2:$H$115))","v":""},{"$f":"IF(B105=\"\",\"\",SUMIF('الرصيد الثابت'!$D$2:$D$115,B105,'الرصيد الثابت'!$I$2:$I$115))","v":""},{"$f":"IF(B105=\"\",\"\",SUMIF('الرصيد الثابت'!$D$2:$D$115,B105,'الرصيد الثابت'!$J$2:$J$115))","v":""},null,0,null,null,null,null,0,null,null,null,0,null,0,null,null,null,null,null,null,null,null,null,null,null,null,null,null,null,null,null,null,null,null,null,null,null,null,null,null,null,null,null,null,null,null,null,null,null,null,null,null,null,null,null,null,null,null,null,null,null,null,null,null,null,null,null,null,null,null,null,null,null,null,null,null,null,null,null,{"$f":"IFERROR(VLOOKUP(ROWS($CF$3:CF105),$CH$3:$CI$2001,2,FALSE),\"\")","v":""},null,{"$f":"IF(ISNUMBER(SEARCH(B105,CI105)),MAX($CH$2:CH104)+1,0)","v":100},"موف فاتح كروشيه 4,6"]
[null,null,{"$f":"IF(B106=\"\",\"\",SUMIF('الرصيد الثابت'!$D$2:$D$115,B106,'الرصيد الثابت'!$H$2:$H$115))","v":""},{"$f":"IF(B106=\"\",\"\",SUMIF('الرصيد الثابت'!$D$2:$D$115,B106,'الرصيد الثابت'!$I$2:$I$115))","v":""},{"$f":"IF(B106=\"\",\"\",SUMIF('الرصيد الثابت'!$D$2:$D$115,B106,'الرصيد الثابت'!$J$2:$J$115))","v":""},null,0,null,null,null,null,0,null,null,null,0,null,0,null,null,null,null,null,null,null,null,null,null,null,null,null,null,null,null,null,null,null,null,null,null,null,null,null,null,null,null,null,null,null,null,null,null,null,null,null,null,null,null,null,null,null,null,null,null,null,null,null,null,null,null,null,null,null,null,null,null,null,null,null,null,null,null,null,{"$f":"IFERROR(VLOOKUP(ROWS($CF$3:CF106),$CH$3:$CI$2001,2,FALSE),\"\")","v":""},null,{"$f":"IF(ISNUMBER(SEARCH(B106,CI106)),MAX($CH$2:CH105)+1,0)","v":0}]
[null,null,{"$f":"IF(B107=\"\",\"\",SUMIF('الرصيد الثابت'!$D$2:$D$115,B107,'الرصيد الثابت'!$H$2:$H$115))","v":""},{"$f":"IF(B107=\"\",\"\",SUMIF('الرصيد الثابت'!$D$2:$D$115,B107,'الرصيد الثابت'!$I$2:$I$115))","v":""},{"$f":"IF(B107=\"\",\"\",SUMIF('الرصيد الثابت'!$D$2:$D$115,B107,'الرصيد الثابت'!$J$2:$J$115))","v":""},null,0,null,null,null,null,0,null,null,null,0,null,0,null,null,null,null,null,null,null,null,null,null,null,null,null,null,null,null,null,null,null,null,null,null,null,null,null,null,null,null,null,null,null,null,null,null,null,null,null,null,null,null,null,null,null,null,null,null,null,null,null,null,null,null,null,null,null,null,null,null,null,null,null,null,null,null,null,{"$f":"IFERROR(VLOOKUP(ROWS($CF$3:CF107),$CH$3:$CI$2001,2,FALSE),\"\")","v":""},null,{"$f":"IF(ISNUMBER(SEARCH(B107,CI107)),MAX($CH$2:CH106)+1,0)","v":0}]
[null,null,{"$f":"IF(B108=\"\",\"\",SUMIF('الرصيد الثابت'!$D$2:$D$115,B108,'الرصيد الثابت'!$H$2:$H$115))","v":""},{"$f":"IF(B108=\"\",\"\",SUMIF('الرصيد الثابت'!$D$2:$D$115,B108,'الرصيد الثابت'!$I$2:$I$115))","v":""},{"$f":"IF(B108=\"\",\"\",SUMIF('الرصيد الثابت'!$D$2:$D$115,B108,'الرصيد الثابت'!$J$2:$J$115))","v":""},null,0,null,null,null,null,0,null,null,null,0,null,0,null,null,null,null,null,null,null,null,null,null,null,null,null,null,null,null,null,null,null,null,null,null,null,null,null,null,null,null,null,null,null,null,null,null,null,null,null,null,null,null,null,null,null,null,null,null,null,null,null,null,null,null,null,null,null,null,null,null,null,null,null,null,null,null,null,{"$f":"IFERROR(VLOOKUP(ROWS($CF$3:CF108),$CH$3:$CI$2001,2,FALSE),\"\")","v":""},null,{"$f":"IF(ISNUMBER(SEARCH(B108,CI108)),MAX($CH$2:CH107)+1,0)","v":0}]
[null,null,{"$f":"IF(B109=\"\",\"\",SUMIF('الرصيد الثابت'!$D$2:$D$115,B109,'الرصيد الثابت'!$H$2:$H$115))","v":""},{"$f":"IF(B109=\"\",\"\",SUMIF('الرصيد الثابت'!$D$2:$D$115,B109,'الرصيد الثابت'!$I$2:$I$115))","v":""},{"$f":"IF(B109=\"\",\"\",SUMIF('الرصيد الثابت'!$D$2:$D$115,B109,'الرصيد الثابت'!$J$2:$J$115))","v":""},null,0,null,null,null,null,0,null,null,null,0,null,0,null,null,null,null,null,null,null,null,null,null,null,null,null,null,null,null,null,null,null,null,null,null,null,null,null,null,null,null,null,null,null,null,null,null,null,null,null,null,null,null,null,null,null,null,null,null,null,null,null,null,null,null,null,null,null,null,null,null,null,null,null,null,null,null,null,{"$f":"IFERROR(VLOOKUP(ROWS($CF$3:CF109),$CH$3:$CI$2001,2,FALSE),\"\")","v":""},null,{"$f":"IF(ISNUMBER(SEARCH(B109,CI109)),MAX($CH$2:CH108)+1,0)","v":0}]
[null,null,{"$f":"IF(B110=\"\",\"\",SUMIF('الرصيد الثابت'!$D$2:$D$115,B110,'الرصيد الثابت'!$H$2:$H$115))","v":""},{"$f":"IF(B110=\"\",\"\",SUMIF('الرصيد الثابت'!$D$2:$D$115,B110,'الرصيد الثابت'!$I$2:$I$115))","v":""},{"$f":"IF(B110=\"\",\"\",SUMIF('الرصيد الثابت'!$D$2:$D$115,B110,'الرصيد الثابت'!$J$2:$J$115))","v":""},null,0,null,null,null,null,0,null,null,null,0,null,0,null,null,null,null,null,null,null,null,null,null,null,null,null,null,null,null,null,null,null,null,null,null,null,null,null,null,null,null,null,null,null,null,null,null,null,null,null,null,null,null,null,null,null,null,null,null,null,null,null,null,null,null,null,null,null,null,null,null,null,null,null,null,null,null,null,{"$f":"IFERROR(VLOOKUP(ROWS($CF$3:CF110),$CH$3:$CI$2001,2,FALSE),\"\")","v":""},null,{"$f":"IF(ISNUMBER(SEARCH(B110,CI110)),MAX($CH$2:CH109)+1,0)","v":0}]
[null,null,{"$f":"IF(B111=\"\",\"\",SUMIF('الرصيد الثابت'!$D$2:$D$115,B111,'الرصيد الثابت'!$H$2:$H$115))","v":""},{"$f":"IF(B111=\"\",\"\",SUMIF('الرصيد الثابت'!$D$2:$D$115,B111,'الرصيد الثابت'!$I$2:$I$115))","v":""},{"$f":"IF(B111=\"\",\"\",SUMIF('الرصيد الثابت'!$D$2:$D$115,B111,'الرصيد الثابت'!$J$2:$J$115))","v":""},null,0,null,null,null,null,0,null,null,null,0,null,0,null,null,null,null,null,null,null,null,null,null,null,null,null,null,null,null,null,null,null,null,null,null,null,null,null,null,null,null,null,null,null,null,null,null,null,null,null,null,null,null,null,null,null,null,null,null,null,null,null,null,null,null,null,null,null,null,null,null,null,null,null,null,null,null,null,{"$f":"IFERROR(VLOOKUP(ROWS($CF$3:CF111),$CH$3:$CI$2001,2,FALSE),\"\")","v":""},null,{"$f":"IF(ISNUMBER(SEARCH(B111,CI111)),MAX($CH$2:CH110)+1,0)","v":0}]
[null,null,{"$f":"IF(B112=\"\",\"\",SUMIF('الرصيد الثابت'!$D$2:$D$115,B112,'الرصيد الثابت'!$H$2:$H$115))","v":""},{"$f":"IF(B112=\"\",\"\",SUMIF('الرصيد الثابت'!$D$2:$D$115,B112,'الرصيد الثابت'!$I$2:$I$115))","v":""},{"$f":"IF(B112=\"\",\"\",SUMIF('الرصيد الثابت'!$D$2:$D$115,B112,'الرصيد الثابت'!$J$2:$J$115))","v":""},null,0,null,null,null,null,0,null,null,null,0,null,0,null,null,null,null,null,null,null,null,null,null,null,null,null,null,null,null,null,null,null,null,null,null,null,null,null,null,null,null,null,null,null,null,null,null,null,null,null,null,null,null,null,null,null,null,null,null,null,null,null,null,null,null,null,null,null,null,null,null,null,null,null,null,null,null,null,{"$f":"IFERROR(VLOOKUP(ROWS($CF$3:CF112),$CH$3:$CI$2001,2,FALSE),\"\")","v":""},null,{"$f":"IF(ISNUMBER(SEARCH(B112,CI112)),MAX($CH$2:CH111)+1,0)","v":0}]
[null,null,{"$f":"IF(B113=\"\",\"\",SUMIF('الرصيد الثابت'!$D$2:$D$115,B113,'الرصيد الثابت'!$H$2:$H$115))","v":""},{"$f":"IF(B113=\"\",\"\",SUMIF('الرصيد الثابت'!$D$2:$D$115,B113,'الرصيد الثابت'!$I$2:$I$115))","v":""},{"$f":"IF(B113=\"\",\"\",SUMIF('الرصيد الثابت'!$D$2:$D$115,B113,'الرصيد الثابت'!$J$2:$J$115))","v":""},null,0,null,null,null,null,0,null,null,null,0,null,0,null,null,null,null,null,null,null,null,null,null,null,null,null,null,null,null,null,null,null,null,null,null,null,null,null,null,null,null,null,null,null,null,null,null,null,null,null,null,null,null,null,null,null,null,null,null,null,null,null,null,null,null,null,null,null,null,null,null,null,null,null,null,null,null,null,{"$f":"IFERROR(VLOOKUP(ROWS($CF$3:CF113),$CH$3:$CI$2001,2,FALSE),\"\")","v":""},null,{"$f":"IF(ISNUMBER(SEARCH(B113,CI113)),MAX($CH$2:CH112)+1,0)","v":0}]
[null,null,{"$f":"IF(B114=\"\",\"\",SUMIF('الرصيد الثابت'!$D$2:$D$115,B114,'الرصيد الثابت'!$H$2:$H$115))","v":""},{"$f":"IF(B114=\"\",\"\",SUMIF('الرصيد الثابت'!$D$2:$D$115,B114,'الرصيد الثابت'!$I$2:$I$115))","v":""},{"$f":"IF(B114=\"\",\"\",SUMIF('الرصيد الثابت'!$D$2:$D$115,B114,'الرصيد الثابت'!$J$2:$J$115))","v":""},null,0,null,null,null,null,0,null,null,null,0,null,0,null,null,null,null,null,null,null,null,null,null,null,null,null,null,null,null,null,null,null,null,null,null,null,null,null,null,null,null,null,null,null,null,null,null,null,null,null,null,null,null,null,null,null,null,null,null,null,null,null,null,null,null,null,null,null,null,null,null,null,null,null,null,null,null,null,{"$f":"IFERROR(VLOOKUP(ROWS($CF$3:CF114),$CH$3:$CI$2001,2,FALSE),\"\")","v":""},null,{"$f":"IF(ISNUMBER(SEARCH(B114,CI114)),MAX($CH$2:CH113)+1,0)","v":0}]
[null,null,{"$f":"IF(B115=\"\",\"\",SUMIF('الرصيد الثابت'!$D$2:$D$115,B115,'الرصيد الثابت'!$H$2:$H$115))","v":""},{"$f":"IF(B115=\"\",\"\",SUMIF('الرصيد الثابت'!$D$2:$D$115,B115,'الرصيد الثابت'!$I$2:$I$115))","v":""},{"$f":"IF(B115=\"\",\"\",SUMIF('الرصيد الثابت'!$D$2:$D$115,B115,'الرصيد الثابت'!$J$2:$J$115))","v":""},null,0,null,null,null,null,0,null,null,null,0,null,0,null,null,null,null,null,null,null,null,null,null,null,null,null,null,null,null,null,null,null,null,null,null,null,null,null,null,null,null,null,null,null,null,null,null,null,null,null,null,null,null,null,null,null,null,null,null,null,null,null,null,null,null,null,null,null,null,null,null,null,null,null,null,null,null,null,{"$f":"IFERROR(VLOOKUP(ROWS($CF$3:CF115),$CH$3:$CI$2001,2,FALSE),\"\")","v":""},null,{"$f":"IF(ISNUMBER(SEARCH(B115,CI115)),MAX($CH$2:CH114)+1,0)","v":0}]
[null,null,{"$f":"IF(B116=\"\",\"\",SUMIF('الرصيد الثابت'!$D$2:$D$115,B116,'الرصيد الثابت'!$H$2:$H$115))","v":""},{"$f":"IF(B116=\"\",\"\",SUMIF('الرصيد الثابت'!$D$2:$D$115,B116,'الرصيد الثابت'!$I$2:$I$115))","v":""},{"$f":"IF(B116=\"\",\"\",SUMIF('الرصيد الثابت'!$D$2:$D$115,B116,'الرصيد الثابت'!$J$2:$J$115))","v":""},null,0,null,null,null,null,0,null,null,null,0,null,0,null,null,null,null,null,null,null,null,null,null,null,null,null,null,null,null,null,null,null,null,null,null,null,null,null,null,null,null,null,null,null,null,null,null,null,null,null,null,null,null,null,null,null,null,null,null,null,null,null,null,null,null,null,null,null,null,null,null,null,null,null,null,null,null,null,{"$f":"IFERROR(VLOOKUP(ROWS($CF$3:CF116),$CH$3:$CI$2001,2,FALSE),\"\")","v":""},null,{"$f":"IF(ISNUMBER(SEARCH(B116,CI116)),MAX($CH$2:CH115)+1,0)","v":0}]
[null,null,{"$f":"IF(B117=\"\",\"\",SUMIF('الرصيد الثابت'!$D$2:$D$115,B117,'الرصيد الثابت'!$H$2:$H$115))","v":""},{"$f":"IF(B117=\"\",\"\",SUMIF('الرصيد الثابت'!$D$2:$D$115,B117,'الرصيد الثابت'!$I$2:$I$115))","v":""},{"$f":"IF(B117=\"\",\"\",SUMIF('الرصيد الثابت'!$D$2:$D$115,B117,'الرصيد الثابت'!$J$2:$J$115))","v":""},null,0,null,null,null,null,0,null,null,null,0,null,0,null,null,null,null,null,null,null,null,null,null,null,null,null,null,null,null,null,null,null,null,null,null,null,null,null,null,null,null,null,null,null,null,null,null,null,null,null,null,null,null,null,null,null,null,null,null,null,null,null,null,null,null,null,null,null,null,null,null,null,null,null,null,null,null,null,{"$f":"IFERROR(VLOOKUP(ROWS($CF$3:CF117),$CH$3:$CI$2001,2,FALSE),\"\")","v":""},null,{"$f":"IF(ISNUMBER(SEARCH(B117,CI117)),MAX($CH$2:CH116)+1,0)","v":0}]
[null,null,{"$f":"IF(B118=\"\",\"\",SUMIF('الرصيد الثابت'!$D$2:$D$115,B118,'الرصيد الثابت'!$H$2:$H$115))","v":""},{"$f":"IF(B118=\"\",\"\",SUMIF('الرصيد الثابت'!$D$2:$D$115,B118,'الرصيد الثابت'!$I$2:$I$115))","v":""},{"$f":"IF(B118=\"\",\"\",SUMIF('الرصيد الثابت'!$D$2:$D$115,B118,'الرصيد الثابت'!$J$2:$J$115))","v":""},null,0,null,null,null,null,0,null,null,null,0,null,0,null,null,null,null,null,null,null,null,null,null,null,null,null,null,null,null,null,null,null,null,null,null,null,null,null,null,null,null,null,null,null,null,null,null,null,null,null,null,null,null,null,null,null,null,null,null,null,null,null,null,null,null,null,null,null,null,null,null,null,null,null,null,null,null,null,{"$f":"IFERROR(VLOOKUP(ROWS($CF$3:CF118),$CH$3:$CI$2001,2,FALSE),\"\")","v":""},null,{"$f":"IF(ISNUMBER(SEARCH(B118,CI118)),MAX($CH$2:CH117)+1,0)","v":0}]
[null,null,{"$f":"IF(B119=\"\",\"\",SUMIF('الرصيد الثابت'!$D$2:$D$115,B119,'الرصيد الثابت'!$H$2:$H$115))","v":""},{"$f":"IF(B119=\"\",\"\",SUMIF('الرصيد الثابت'!$D$2:$D$115,B119,'الرصيد الثابت'!$I$2:$I$115))","v":""},{"$f":"IF(B119=\"\",\"\",SUMIF('الرصيد الثابت'!$D$2:$D$115,B119,'الرصيد الثابت'!$J$2:$J$115))","v":""},null,0,null,null,null,null,0,null,null,null,0,null,0,null,null,null,null,null,null,null,null,null,null,null,null,null,null,null,null,null,null,null,null,null,null,null,null,null,null,null,null,null,null,null,null,null,null,null,null,null,null,null,null,null,null,null,null,null,null,null,null,null,null,null,null,null,null,null,null,null,null,null,null,null,null,null,null,null,{"$f":"IFERROR(VLOOKUP(ROWS($CF$3:CF119),$CH$3:$CI$2001,2,FALSE),\"\")","v":""},null,{"$f":"IF(ISNUMBER(SEARCH(B119,CI119)),MAX($CH$2:CH118)+1,0)","v":0}]
[null,null,{"$f":"IF(B120=\"\",\"\",SUMIF('الرصيد الثابت'!$D$2:$D$115,B120,'الرصيد الثابت'!$H$2:$H$115))","v":""},{"$f":"IF(B120=\"\",\"\",SUMIF('الرصيد الثابت'!$D$2:$D$115,B120,'الرصيد الثابت'!$I$2:$I$115))","v":""},{"$f":"IF(B120=\"\",\"\",SUMIF('الرصيد الثابت'!$D$2:$D$115,B120,'الرصيد الثابت'!$J$2:$J$115))","v":""},null,0,null,null,null,null,0,null,null,null,0,null,0,null,null,null,null,null,null,null,null,null,null,null,null,null,null,null,null,null,null,null,null,null,null,null,null,null,null,null,null,null,null,null,null,null,null,null,null,null,null,null,null,null,null,null,null,null,null,null,null,null,null,null,null,null,null,null,null,null,null,null,null,null,null,null,null,null,{"$f":"IFERROR(VLOOKUP(ROWS($CF$3:CF120),$CH$3:$CI$2001,2,FALSE),\"\")","v":""},null,{"$f":"IF(ISNUMBER(SEARCH(B120,CI120)),MAX($CH$2:CH119)+1,0)","v":0}]
[null,null,{"$f":"IF(B121=\"\",\"\",SUMIF('الرصيد الثابت'!$D$2:$D$115,B121,'الرصيد الثابت'!$H$2:$H$115))","v":""},{"$f":"IF(B121=\"\",\"\",SUMIF('الرصيد الثابت'!$D$2:$D$115,B121,'الرصيد الثابت'!$I$2:$I$115))","v":""},{"$f":"IF(B121=\"\",\"\",SUMIF('الرصيد الثابت'!$D$2:$D$115,B121,'الرصيد الثابت'!$J$2:$J$115))","v":""},null,0,null,null,null,null,0,null,null,null,0,null,0,null,null,null,null,null,null,null,null,null,null,null,null,null,null,null,null,null,null,null,null,null,null,null,null,null,null,null,null,null,null,null,null,null,null,null,null,null,null,null,null,null,null,null,null,null,null,null,null,null,null,null,null,null,null,null,null,null,null,null,null,null,null,null,null,null,{"$f":"IFERROR(VLOOKUP(ROWS($CF$3:CF121),$CH$3:$CI$2001,2,FALSE),\"\")","v":""},null,{"$f":"IF(ISNUMBER(SEARCH(B121,CI121)),MAX($CH$2:CH120)+1,0)","v":0}]
[null,null,{"$f":"IF(B122=\"\",\"\",SUMIF('الرصيد الثابت'!$D$2:$D$115,B122,'الرصيد الثابت'!$H$2:$H$115))","v":""},{"$f":"IF(B122=\"\",\"\",SUMIF('الرصيد الثابت'!$D$2:$D$115,B122,'الرصيد الثابت'!$I$2:$I$115))","v":""},{"$f":"IF(B122=\"\",\"\",SUMIF('الرصيد الثابت'!$D$2:$D$115,B122,'الرصيد الثابت'!$J$2:$J$115))","v":""},null,0,null,null,null,null,0,null,null,null,0,null,0,null,null,null,null,null,null,null,null,null,null,null,null,null,null,null,null,null,null,null,null,null,null,null,null,null,null,null,null,null,null,null,null,null,null,null,null,null,null,null,null,null,null,null,null,null,null,null,null,null,null,null,null,null,null,null,null,null,null,null,null,null,null,null,null,null,{"$f":"IFERROR(VLOOKUP(ROWS($CF$3:CF122),$CH$3:$CI$2001,2,FALSE),\"\")","v":""},null,{"$f":"IF(ISNUMBER(SEARCH(B122,CI122)),MAX($CH$2:CH121)+1,0)","v":0}]
[null,null,{"$f":"IF(B123=\"\",\"\",SUMIF('الرصيد الثابت'!$D$2:$D$115,B123,'الرصيد الثابت'!$H$2:$H$115))","v":""},{"$f":"IF(B123=\"\",\"\",SUMIF('الرصيد الثابت'!$D$2:$D$115,B123,'الرصيد الثابت'!$I$2:$I$115))","v":""},{"$f":"IF(B123=\"\",\"\",SUMIF('الرصيد الثابت'!$D$2:$D$115,B123,'الرصيد الثابت'!$J$2:$J$115))","v":""},null,0,null,null,null,null,0,null,null,null,0,null,0,null,null,null,null,null,null,null,null,null,null,null,null,null,null,null,null,null,null,null,null,null,null,null,null,null,null,null,null,null,null,null,null,null,null,null,null,null,null,null,null,null,null,null,null,null,null,null,null,null,null,null,null,null,null,null,null,null,null,null,null,null,null,null,null,null,{"$f":"IFERROR(VLOOKUP(ROWS($CF$3:CF123),$CH$3:$CI$2001,2,FALSE),\"\")","v":""},null,{"$f":"IF(ISNUMBER(SEARCH(B123,CI123)),MAX($CH$2:CH122)+1,0)","v":0}]
[null,null,{"$f":"IF(B124=\"\",\"\",SUMIF('الرصيد الثابت'!$D$2:$D$115,B124,'الرصيد الثابت'!$H$2:$H$115))","v":""},{"$f":"IF(B124=\"\",\"\",SUMIF('الرصيد الثابت'!$D$2:$D$115,B124,'الرصيد الثابت'!$I$2:$I$115))","v":""},{"$f":"IF(B124=\"\",\"\",SUMIF('الرصيد الثابت'!$D$2:$D$115,B124,'الرصيد الثابت'!$J$2:$J$115))","v":""},null,0,null,null,null,null,0,null,null,null,0,null,0,null,null,null,null,null,null,null,null,null,null,null,null,null,null,null,null,null,null,null,null,null,null,null,null,null,null,null,null,null,null,null,null,null,null,null,null,null,null,null,null,null,null,null,null,null,null,null,null,null,null,null,null,null,null,null,null,null,null,null,null,null,null,null,null,null,{"$f":"IFERROR(VLOOKUP(ROWS($CF$3:CF124),$CH$3:$CI$2001,2,FALSE),\"\")","v":""},null,{"$f":"IF(ISNUMBER(SEARCH(B124,CI124)),MAX($CH$2:CH123)+1,0)","v":0}]
[null,null,{"$f":"IF(B125=\"\",\"\",SUMIF('الرصيد الثابت'!$D$2:$D$115,B125,'الرصيد الثابت'!$H$2:$H$115))","v":""},{"$f":"IF(B125=\"\",\"\",SUMIF('الرصيد الثابت'!$D$2:$D$115,B125,'الرصيد الثابت'!$I$2:$I$115))","v":""},{"$f":"IF(B125=\"\",\"\",SUMIF('الرصيد الثابت'!$D$2:$D$115,B125,'الرصيد الثابت'!$J$2:$J$115))","v":""},null,0,null,null,null,null,0,null,null,null,0,null,0,null,null,null,null,null,null,null,null,null,null,null,null,null,null,null,null,null,null,null,null,null,null,null,null,null,null,null,null,null,null,null,null,null,null,null,null,null,null,null,null,null,null,null,null,null,null,null,null,null,null,null,null,null,null,null,null,null,null,null,null,null,null,null,null,null,{"$f":"IFERROR(VLOOKUP(ROWS($CF$3:CF125),$CH$3:$CI$2001,2,FALSE),\"\")","v":""},null,{"$f":"IF(ISNUMBER(SEARCH(B125,CI125)),MAX($CH$2:CH124)+1,0)","v":0}]
[null,null,{"$f":"IF(B126=\"\",\"\",SUMIF('الرصيد الثابت'!$D$2:$D$115,B126,'الرصيد الثابت'!$H$2:$H$115))","v":""},{"$f":"IF(B126=\"\",\"\",SUMIF('الرصيد الثابت'!$D$2:$D$115,B126,'الرصيد الثابت'!$I$2:$I$115))","v":""},{"$f":"IF(B126=\"\",\"\",SUMIF('الرصيد الثابت'!$D$2:$D$115,B126,'الرصيد الثابت'!$J$2:$J$115))","v":""},null,0,null,null,null,null,0,null,null,null,0,null,0,null,null,null,null,null,null,null,null,null,null,null,null,null,null,null,null,null,null,null,null,null,null,null,null,null,null,null,null,null,null,null,null,null,null,null,null,null,null,null,null,null,null,null,null,null,null,null,null,null,null,null,null,null,null,null,null,null,null,null,null,null,null,null,null,null,{"$f":"IFERROR(VLOOKUP(ROWS($CF$3:CF126),$CH$3:$CI$2001,2,FALSE),\"\")","v":""},null,{"$f":"IF(ISNUMBER(SEARCH(B126,CI126)),MAX($CH$2:CH125)+1,0)","v":0}]
[null,null,{"$f":"IF(B127=\"\",\"\",SUMIF('الرصيد الثابت'!$D$2:$D$115,B127,'الرصيد الثابت'!$H$2:$H$115))","v":""},{"$f":"IF(B127=\"\",\"\",SUMIF('الرصيد الثابت'!$D$2:$D$115,B127,'الرصيد الثابت'!$I$2:$I$115))","v":""},{"$f":"IF(B127=\"\",\"\",SUMIF('الرصيد الثابت'!$D$2:$D$115,B127,'الرصيد الثابت'!$J$2:$J$115))","v":""},null,0,null,null,null,null,0,null,null,null,0,null,0,null,null,null,null,null,null,null,null,null,null,null,null,null,null,null,null,null,null,null,null,null,null,null,null,null,null,null,null,null,null,null,null,null,null,null,null,null,null,null,null,null,null,null,null,null,null,null,null,null,null,null,null,null,null,null,null,null,null,null,null,null,null,null,null,null,{"$f":"IFERROR(VLOOKUP(ROWS($CF$3:CF127),$CH$3:$CI$2001,2,FALSE),\"\")","v":""},null,{"$f":"IF(ISNUMBER(SEARCH(B127,CI127)),MAX($CH$2:CH126)+1,0)","v":0}]
[null,null,{"$f":"IF(B128=\"\",\"\",SUMIF('الرصيد الثابت'!$D$2:$D$115,B128,'الرصيد الثابت'!$H$2:$H$115))","v":""},{"$f":"IF(B128=\"\",\"\",SUMIF('الرصيد الثابت'!$D$2:$D$115,B128,'الرصيد الثابت'!$I$2:$I$115))","v":""},{"$f":"IF(B128=\"\",\"\",SUMIF('الرصيد الثابت'!$D$2:$D$115,B128,'الرصيد الثابت'!$J$2:$J$115))","v":""},null,0,null,null,null,null,0,null,null,null,0,null,0,null,null,null,null,null,null,null,null,null,null,null,null,null,null,null,null,null,null,null,null,null,null,null,null,null,null,null,null,null,null,null,null,null,null,null,null,null,null,null,null,null,null,null,null,null,null,null,null,null,null,null,null,null,null,null,null,null,null,null,null,null,null,null,null,null,{"$f":"IFERROR(VLOOKUP(ROWS($CF$3:CF128),$CH$3:$CI$2001,2,FALSE),\"\")","v":""},null,{"$f":"IF(ISNUMBER(SEARCH(B128,CI128)),MAX($CH$2:CH127)+1,0)","v":0}]
[null,null,{"$f":"IF(B129=\"\",\"\",SUMIF('الرصيد الثابت'!$D$2:$D$115,B129,'الرصيد الثابت'!$H$2:$H$115))","v":""},{"$f":"IF(B129=\"\",\"\",SUMIF('الرصيد الثابت'!$D$2:$D$115,B129,'الرصيد الثابت'!$I$2:$I$115))","v":""},{"$f":"IF(B129=\"\",\"\",SUMIF('الرصيد الثابت'!$D$2:$D$115,B129,'الرصيد الثابت'!$J$2:$J$115))","v":""},null,0,null,null,null,null,0,null,null,null,0,null,0,null,null,null,null,null,null,null,null,null,null,null,null,null,null,null,null,null,null,null,null,null,null,null,null,null,null,null,null,null,null,null,null,null,null,null,null,null,null,null,null,null,null,null,null,null,null,null,null,null,null,null,null,null,null,null,null,null,null,null,null,null,null,null,null,null,{"$f":"IFERROR(VLOOKUP(ROWS($CF$3:CF129),$CH$3:$CI$2001,2,FALSE),\"\")","v":""},null,{"$f":"IF(ISNUMBER(SEARCH(B129,CI129)),MAX($CH$2:CH128)+1,0)","v":0}]
[null,null,{"$f":"IF(B130=\"\",\"\",SUMIF('الرصيد الثابت'!$D$2:$D$115,B130,'الرصيد الثابت'!$H$2:$H$115))","v":""},{"$f":"IF(B130=\"\",\"\",SUMIF('الرصيد الثابت'!$D$2:$D$115,B130,'الرصيد الثابت'!$I$2:$I$115))","v":""},{"$f":"IF(B130=\"\",\"\",SUMIF('الرصيد الثابت'!$D$2:$D$115,B130,'الرصيد الثابت'!$J$2:$J$115))","v":""},null,0,null,null,null,null,0,null,null,null,0,null,0,null,null,null,null,null,null,null,null,null,null,null,null,null,null,null,null,null,null,null,null,null,null,null,null,null,null,null,null,null,null,null,null,null,null,null,null,null,null,null,null,null,null,null,null,null,null,null,null,null,null,null,null,null,null,null,null,null,null,null,null,null,null,null,null,null,{"$f":"IFERROR(VLOOKUP(ROWS($CF$3:CF130),$CH$3:$CI$2001,2,FALSE),\"\")","v":""},null,{"$f":"IF(ISNUMBER(SEARCH(B130,CI130)),MAX($CH$2:CH129)+1,0)","v":0}]
[null,null,{"$f":"IF(B131=\"\",\"\",SUMIF('الرصيد الثابت'!$D$2:$D$115,B131,'الرصيد الثابت'!$H$2:$H$115))","v":""},{"$f":"IF(B131=\"\",\"\",SUMIF('الرصيد الثابت'!$D$2:$D$115,B131,'الرصيد الثابت'!$I$2:$I$115))","v":""},{"$f":"IF(B131=\"\",\"\",SUMIF('الرصيد الثابت'!$D$2:$D$115,B131,'الرصيد الثابت'!$J$2:$J$115))","v":""},null,0,null,null,null,null,{"$f":"SUM(M131*K131)","v":0},null,null,null,0,null,0,null,null,null,null,null,null,null,null,null,null,null,null,null,null,null,null,null,null,null,null,null,null,null,null,null,null,null,null,null,null,null,null,null,null,null,null,null,null,null,null,null,null,null,null,null,null,null,null,null,null,null,null,null,null,null,null,null,null,null,null,null,null,null,null,null,{"$f":"IFERROR(VLOOKUP(ROWS($CF$3:CF131),$CH$3:$CI$2001,2,FALSE),\"\")","v":""},null,{"$f":"IF(ISNUMBER(SEARCH(B131,CI131)),MAX($CH$2:CH130)+1,0)","v":0}]
[null,null,{"$f":"IF(B132=\"\",\"\",SUMIF('الرصيد الثابت'!$D$2:$D$115,B132,'الرصيد الثابت'!$H$2:$H$115))","v":""},{"$f":"IF(B132=\"\",\"\",SUMIF('الرصيد الثابت'!$D$2:$D$115,B132,'الرصيد الثابت'!$I$2:$I$115))","v":""},{"$f":"IF(B132=\"\",\"\",SUMIF('الرصيد الثابت'!$D$2:$D$115,B132,'الرصيد الثابت'!$J$2:$J$115))","v":""},null,{"$f":"SUM(H132*F132)","v":0},null,null,null,null,0,null,null,null,{"$f":"SUM(F132-K132)","v":0},null,0,null,null,null,null,null,null,null,null,null,null,null,null,null,null,null,null,null,null,null,null,null,null,null,null,null,null,null,null,null,null,null,null,null,null,null,null,null,null,null,null,null,null,null,null,null,null,null,null,null,null,null,null,null,null,null,null,null,null,null,null,null,null,null,null,null,{"$f":"IFERROR(VLOOKUP(ROWS($CF$3:CF132),$CH$3:$CI$2001,2,FALSE),\"\")","v":""},null,{"$f":"IF(ISNUMBER(SEARCH(B132,CI132)),MAX($CH$2:CH131)+1,0)","v":0}]
[null,null,{"$f":"IF(B133=\"\",\"\",SUMIF('الرصيد الثابت'!$D$2:$D$115,B133,'الرصيد الثابت'!$H$2:$H$115))","v":""},{"$f":"IF(B133=\"\",\"\",SUMIF('الرصيد الثابت'!$D$2:$D$115,B133,'الرصيد الثابت'!$I$2:$I$115))","v":""},{"$f":"IF(B133=\"\",\"\",SUMIF('الرصيد الثابت'!$D$2:$D$115,B133,'الرصيد الثابت'!$J$2:$J$115))","v":""},null,0,null,null,null,null,0,null,null,null,0,null,0,null,null,null,null,null,null,null,null,null,null,null,null,null,null,null,null,null,null,null,null,null,null,null,null,null,null,null,null,null,null,null,null,null,null,null,null,null,null,null,null,null,null,null,null,null,null,null,null,null,null,null,null,null,null,null,null,null,null,null,null,null,null,null,null,null,{"$f":"IFERROR(VLOOKUP(ROWS($CF$3:CF133),$CH$3:$CI$2001,2,FALSE),\"\")","v":""},null,{"$f":"IF(ISNUMBER(SEARCH(B133,CI133)),MAX($CH$2:CH132)+1,0)","v":0}]
[null,null,{"$f":"IF(B134=\"\",\"\",SUMIF('الرصيد الثابت'!$D$2:$D$115,B134,'الرصيد الثابت'!$H$2:$H$115))","v":""},{"$f":"IF(B134=\"\",\"\",SUMIF('الرصيد الثابت'!$D$2:$D$115,B134,'الرصيد الثابت'!$I$2:$I$115))","v":""},{"$f":"IF(B134=\"\",\"\",SUMIF('الرصيد الثابت'!$D$2:$D$115,B134,'الرصيد الثابت'!$J$2:$J$115))","v":""},null,0,null,null,null,null,0,null,null,null,0,null,0,null,null,null,null,null,null,null,null,null,null,null,null,null,null,null,null,null,null,null,null,null,null,null,null,null,null,null,null,null,null,null,null,null,null,null,null,null,null,null,null,null,null,null,null,null,null,null,null,null,null,null,null,null,null,null,null,null,null,null,null,null,null,null,null,null,{"$f":"IFERROR(VLOOKUP(ROWS($CF$3:CF134),$CH$3:$CI$2001,2,FALSE),\"\")","v":""},null,{"$f":"IF(ISNUMBER(SEARCH(B134,CI134)),MAX($CH$2:CH133)+1,0)","v":0}]
[null,null,{"$f":"IF(B135=\"\",\"\",SUMIF('الرصيد الثابت'!$D$2:$D$115,B135,'الرصيد الثابت'!$H$2:$H$115))","v":""},{"$f":"IF(B135=\"\",\"\",SUMIF('الرصيد الثابت'!$D$2:$D$115,B135,'الرصيد الثابت'!$I$2:$I$115))","v":""},{"$f":"IF(B135=\"\",\"\",SUMIF('الرصيد الثابت'!$D$2:$D$115,B135,'الرصيد الثابت'!$J$2:$J$115))","v":""},null,0,null,null,null,null,0,null,null,null,0,null,{"$f":"SUM(S135*Q135)","v":0},null,null,null,null,null,null,null,null,null,null,null,null,null,null,null,null,null,null,null,null,null,null,null,null,null,null,null,null,null,null,null,null,null,null,null,null,null,null,null,null,null,null,null,null,null,null,null,null,null,null,null,null,null,null,null,null,null,null,null,null,null,null,null,null,null,{"$f":"IFERROR(VLOOKUP(ROWS($CF$3:CF135),$CH$3:$CI$2001,2,FALSE),\"\")","v":""},null,{"$f":"IF(ISNUMBER(SEARCH(B135,CI135)),MAX($CH$2:CH134)+1,0)","v":0}]
[null,null,{"$f":"IF(B136=\"\",\"\",SUMIF('الرصيد الثابت'!$D$2:$D$115,B136,'الرصيد الثابت'!$H$2:$H$115))","v":""},{"$f":"IF(B136=\"\",\"\",SUMIF('الرصيد الثابت'!$D$2:$D$115,B136,'الرصيد الثابت'!$I$2:$I$115))","v":""},{"$f":"IF(B136=\"\",\"\",SUMIF('الرصيد الثابت'!$D$2:$D$115,B136,'الرصيد الثابت'!$J$2:$J$115))","v":""},null,0,null,null,null,null,0,null,null,null,0,null,0,null,null,null,null,null,null,null,null,null,null,null,null,null,null,null,null,null,null,null,null,null,null,null,null,null,null,null,null,null,null,null,null,null,null,null,null,null,null,null,null,null,null,null,null,null,null,null,null,null,null,null,null,null,null,null,null,null,null,null,null,null,null,null,null,null,{"$f":"IFERROR(VLOOKUP(ROWS($CF$3:CF136),$CH$3:$CI$2001,2,FALSE),\"\")","v":""},null,{"$f":"IF(ISNUMBER(SEARCH(B136,CI136)),MAX($CH$2:CH135)+1,0)","v":0}]
[null,null,{"$f":"IF(B137=\"\",\"\",SUMIF('الرصيد الثابت'!$D$2:$D$115,B137,'الرصيد الثابت'!$H$2:$H$115))","v":""},{"$f":"IF(B137=\"\",\"\",SUMIF('الرصيد الثابت'!$D$2:$D$115,B137,'الرصيد الثابت'!$I$2:$I$115))","v":""},{"$f":"IF(B137=\"\",\"\",SUMIF('الرصيد الثابت'!$D$2:$D$115,B137,'الرصيد الثابت'!$J$2:$J$115))","v":""},null,0,null,null,null,null,0,null,null,null,0,null,0,null,null,null,null,null,null,null,null,null,null,null,null,null,null,null,null,null,null,null,null,null,null,null,null,null,null,null,null,null,null,null,null,null,null,null,null,null,null,null,null,null,null,null,null,null,null,null,null,null,null,null,null,null,null,null,null,null,null,null,null,null,null,null,null,null,{"$f":"IFERROR(VLOOKUP(ROWS($CF$3:CF137),$CH$3:$CI$2001,2,FALSE),\"\")","v":""},null,{"$f":"IF(ISNUMBER(SEARCH(B137,CI137)),MAX($CH$2:CH136)+1,0)","v":0}]
[null,null,{"$f":"IF(B138=\"\",\"\",SUMIF('الرصيد الثابت'!$D$2:$D$115,B138,'الرصيد الثابت'!$H$2:$H$115))","v":""},{"$f":"IF(B138=\"\",\"\",SUMIF('الرصيد الثابت'!$D$2:$D$115,B138,'الرصيد الثابت'!$I$2:$I$115))","v":""},{"$f":"IF(B138=\"\",\"\",SUMIF('الرصيد الثابت'!$D$2:$D$115,B138,'الرصيد الثابت'!$J$2:$J$115))","v":""},null,0,null,null,null,null,0,null,null,null,0,null,0,null,null,null,null,null,null,null,null,null,null,null,null,null,null,null,null,null,null,null,null,null,null,null,null,null,null,null,null,null,null,null,null,null,null,null,null,null,null,null,null,null,null,null,null,null,null,null,null,null,null,null,null,null,null,null,null,null,null,null,null,null,null,null,null,null,{"$f":"IFERROR(VLOOKUP(ROWS($CF$3:CF138),$CH$3:$CI$2001,2,FALSE),\"\")","v":""},null,{"$f":"IF(ISNUMBER(SEARCH(B138,CI138)),MAX($CH$2:CH137)+1,0)","v":0}]
[null,null,{"$f":"IF(B139=\"\",\"\",SUMIF('الرصيد الثابت'!$D$2:$D$115,B139,'الرصيد الثابت'!$H$2:$H$115))","v":""},{"$f":"IF(B139=\"\",\"\",SUMIF('الرصيد الثابت'!$D$2:$D$115,B139,'الرصيد الثابت'!$I$2:$I$115))","v":""},{"$f":"IF(B139=\"\",\"\",SUMIF('الرصيد الثابت'!$D$2:$D$115,B139,'الرصيد الثابت'!$J$2:$J$115))","v":""},null,0,null,null,null,null,0,null,null,null,0,null,0,null,null,null,null,null,null,null,null,null,null,null,null,null,null,null,null,null,null,null,null,null,null,null,null,null,null,null,null,null,null,null,null,null,null,null,null,null,null,null,null,null,null,null,null,null,null,null,null,null,null,null,null,null,null,null,null,null,null,null,null,null,null,null,null,null,{"$f":"IFERROR(VLOOKUP(ROWS($CF$3:CF139),$CH$3:$CI$2001,2,FALSE),\"\")","v":""},null,{"$f":"IF(ISNUMBER(SEARCH(B139,CI139)),MAX($CH$2:CH138)+1,0)","v":0}]
[null,null,{"$f":"IF(B140=\"\",\"\",SUMIF('الرصيد الثابت'!$D$2:$D$115,B140,'الرصيد الثابت'!$H$2:$H$115))","v":""},{"$f":"IF(B140=\"\",\"\",SUMIF('الرصيد الثابت'!$D$2:$D$115,B140,'الرصيد الثابت'!$I$2:$I$115))","v":""},{"$f":"IF(B140=\"\",\"\",SUMIF('الرصيد الثابت'!$D$2:$D$115,B140,'الرصيد الثابت'!$J$2:$J$115))","v":""},null,0,null,null,null,null,0,null,null,null,0,null,0,null,null,null,null,null,null,null,null,null,null,null,null,null,null,null,null,null,null,null,null,null,null,null,null,null,null,null,null,null,null,null,null,null,null,null,null,null,null,null,null,null,null,null,null,null,null,null,null,null,null,null,null,null,null,null,null,null,null,null,null,null,null,null,null,null,{"$f":"IFERROR(VLOOKUP(ROWS($CF$3:CF140),$CH$3:$CI$2001,2,FALSE),\"\")","v":""},null,{"$f":"IF(ISNUMBER(SEARCH(B140,CI140)),MAX($CH$2:CH139)+1,0)","v":0}]
[null,null,{"$f":"IF(B141=\"\",\"\",SUMIF('الرصيد الثابت'!$D$2:$D$115,B141,'الرصيد الثابت'!$H$2:$H$115))","v":""},{"$f":"IF(B141=\"\",\"\",SUMIF('الرصيد الثابت'!$D$2:$D$115,B141,'الرصيد الثابت'!$I$2:$I$115))","v":""},{"$f":"IF(B141=\"\",\"\",SUMIF('الرصيد الثابت'!$D$2:$D$115,B141,'الرصيد الثابت'!$J$2:$J$115))","v":""},null,0,null,null,null,null,0,null,null,null,0,null,0,null,null,null,null,null,null,null,null,null,null,null,null,null,null,null,null,null,null,null,null,null,null,null,null,null,null,null,null,null,null,null,null,null,null,null,null,null,null,null,null,null,null,null,null,null,null,null,null,null,null,null,null,null,null,null,null,null,null,null,null,null,null,null,null,null,{"$f":"IFERROR(VLOOKUP(ROWS($CF$3:CF141),$CH$3:$CI$2001,2,FALSE),\"\")","v":""},null,{"$f":"IF(ISNUMBER(SEARCH(B141,CI141)),MAX($CH$2:CH140)+1,0)","v":0}]
[null,null,{"$f":"IF(B142=\"\",\"\",SUMIF('الرصيد الثابت'!$D$2:$D$115,B142,'الرصيد الثابت'!$H$2:$H$115))","v":""},{"$f":"IF(B142=\"\",\"\",SUMIF('الرصيد الثابت'!$D$2:$D$115,B142,'الرصيد الثابت'!$I$2:$I$115))","v":""},{"$f":"IF(B142=\"\",\"\",SUMIF('الرصيد الثابت'!$D$2:$D$115,B142,'الرصيد الثابت'!$J$2:$J$115))","v":""},null,0,null,null,null,null,0,null,null,null,0,null,0,null,null,null,null,null,null,null,null,null,null,null,null,null,null,null,null,null,null,null,null,null,null,null,null,null,null,null,null,null,null,null,null,null,null,null,null,null,null,null,null,null,null,null,null,null,null,null,null,null,null,null,null,null,null,null,null,null,null,null,null,null,null,null,null,null,{"$f":"IFERROR(VLOOKUP(ROWS($CF$3:CF142),$CH$3:$CI$2001,2,FALSE),\"\")","v":""},null,{"$f":"IF(ISNUMBER(SEARCH(B142,CI142)),MAX($CH$2:CH141)+1,0)","v":0}]
[null,null,{"$f":"IF(B143=\"\",\"\",SUMIF('الرصيد الثابت'!$D$2:$D$115,B143,'الرصيد الثابت'!$H$2:$H$115))","v":""},{"$f":"IF(B143=\"\",\"\",SUMIF('الرصيد الثابت'!$D$2:$D$115,B143,'الرصيد الثابت'!$I$2:$I$115))","v":""},{"$f":"IF(B143=\"\",\"\",SUMIF('الرصيد الثابت'!$D$2:$D$115,B143,'الرصيد الثابت'!$J$2:$J$115))","v":""},null,0,null,null,null,null,0,null,null,null,0,null,0,null,null,null,null,null,null,null,null,null,null,null,null,null,null,null,null,null,null,null,null,null,null,null,null,null,null,null,null,null,null,null,null,null,null,null,null,null,null,null,null,null,null,null,null,null,null,null,null,null,null,null,null,null,null,null,null,null,null,null,null,null,null,null,null,null,{"$f":"IFERROR(VLOOKUP(ROWS($CF$3:CF143),$CH$3:$CI$2001,2,FALSE),\"\")","v":""},null,{"$f":"IF(ISNUMBER(SEARCH(B143,CI143)),MAX($CH$2:CH142)+1,0)","v":0}]
[null,null,{"$f":"IF(B144=\"\",\"\",SUMIF('الرصيد الثابت'!$D$2:$D$115,B144,'الرصيد الثابت'!$H$2:$H$115))","v":""},{"$f":"IF(B144=\"\",\"\",SUMIF('الرصيد الثابت'!$D$2:$D$115,B144,'الرصيد الثابت'!$I$2:$I$115))","v":""},{"$f":"IF(B144=\"\",\"\",SUMIF('الرصيد الثابت'!$D$2:$D$115,B144,'الرصيد الثابت'!$J$2:$J$115))","v":""},null,0,null,null,null,null,0,null,null,null,0,null,0,null,null,null,null,null,null,null,null,null,null,null,null,null,null,null,null,null,null,null,null,null,null,null,null,null,null,null,null,null,null,null,null,null,null,null,null,null,null,null,null,null,null,null,null,null,null,null,null,null,null,null,null,null,null,null,null,null,null,null,null,null,null,null,null,null,{"$f":"IFERROR(VLOOKUP(ROWS($CF$3:CF144),$CH$3:$CI$2001,2,FALSE),\"\")","v":""},null,{"$f":"IF(ISNUMBER(SEARCH(B144,CI144)),MAX($CH$2:CH143)+1,0)","v":0}]
[null,null,{"$f":"IF(B145=\"\",\"\",SUMIF('الرصيد الثابت'!$D$2:$D$115,B145,'الرصيد الثابت'!$H$2:$H$115))","v":""},{"$f":"IF(B145=\"\",\"\",SUMIF('الرصيد الثابت'!$D$2:$D$115,B145,'الرصيد الثابت'!$I$2:$I$115))","v":""},{"$f":"IF(B145=\"\",\"\",SUMIF('الرصيد الثابت'!$D$2:$D$115,B145,'الرصيد الثابت'!$J$2:$J$115))","v":""},null,0,null,null,null,null,0,null,null,null,0,null,0,null,null,null,null,null,null,null,null,null,null,null,null,null,null,null,null,null,null,null,null,null,null,null,null,null,null,null,null,null,null,null,null,null,null,null,null,null,null,null,null,null,null,null,null,null,null,null,null,null,null,null,null,null,null,null,null,null,null,null,null,null,null,null,null,null,{"$f":"IFERROR(VLOOKUP(ROWS($CF$3:CF145),$CH$3:$CI$2001,2,FALSE),\"\")","v":""},null,{"$f":"IF(ISNUMBER(SEARCH(B145,CI145)),MAX($CH$2:CH144)+1,0)","v":0}]
[null,null,{"$f":"IF(B146=\"\",\"\",SUMIF('الرصيد الثابت'!$D$2:$D$115,B146,'الرصيد الثابت'!$H$2:$H$115))","v":""},{"$f":"IF(B146=\"\",\"\",SUMIF('الرصيد الثابت'!$D$2:$D$115,B146,'الرصيد الثابت'!$I$2:$I$115))","v":""},{"$f":"IF(B146=\"\",\"\",SUMIF('الرصيد الثابت'!$D$2:$D$115,B146,'الرصيد الثابت'!$J$2:$J$115))","v":""},null,0,null,null,null,null,0,null,null,null,0,null,0,null,null,null,null,null,null,null,null,null,null,null,null,null,null,null,null,null,null,null,null,null,null,null,null,null,null,null,null,null,null,null,null,null,null,null,null,null,null,null,null,null,null,null,null,null,null,null,null,null,null,null,null,null,null,null,null,null,null,null,null,null,null,null,null,null,{"$f":"IFERROR(VLOOKUP(ROWS($CF$3:CF146),$CH$3:$CI$2001,2,FALSE),\"\")","v":""},null,{"$f":"IF(ISNUMBER(SEARCH(B146,CI146)),MAX($CH$2:CH145)+1,0)","v":0}]
[null,null,{"$f":"IF(B147=\"\",\"\",SUMIF('الرصيد الثابت'!$D$2:$D$115,B147,'الرصيد الثابت'!$H$2:$H$115))","v":""},{"$f":"IF(B147=\"\",\"\",SUMIF('الرصيد الثابت'!$D$2:$D$115,B147,'الرصيد الثابت'!$I$2:$I$115))","v":""},{"$f":"IF(B147=\"\",\"\",SUMIF('الرصيد الثابت'!$D$2:$D$115,B147,'الرصيد الثابت'!$J$2:$J$115))","v":""},null,0,null,null,null,null,0,null,null,null,0,null,0,null,null,null,null,null,null,null,null,null,null,null,null,null,null,null,null,null,null,null,null,null,null,null,null,null,null,null,null,null,null,null,null,null,null,null,null,null,null,null,null,null,null,null,null,null,null,null,null,null,null,null,null,null,null,null,null,null,null,null,null,null,null,null,null,null,{"$f":"IFERROR(VLOOKUP(ROWS($CF$3:CF147),$CH$3:$CI$2001,2,FALSE),\"\")","v":""},null,{"$f":"IF(ISNUMBER(SEARCH(B147,CI147)),MAX($CH$2:CH146)+1,0)","v":0}]
[null,null,{"$f":"IF(B148=\"\",\"\",SUMIF('الرصيد الثابت'!$D$2:$D$115,B148,'الرصيد الثابت'!$H$2:$H$115))","v":""},{"$f":"IF(B148=\"\",\"\",SUMIF('الرصيد الثابت'!$D$2:$D$115,B148,'الرصيد الثابت'!$I$2:$I$115))","v":""},{"$f":"IF(B148=\"\",\"\",SUMIF('الرصيد الثابت'!$D$2:$D$115,B148,'الرصيد الثابت'!$J$2:$J$115))","v":""},null,0,null,null,null,null,0,null,null,null,0,null,0,null,null,null,null,null,null,null,null,null,null,null,null,null,null,null,null,null,null,null,null,null,null,null,null,null,null,null,null,null,null,null,null,null,null,null,null,null,null,null,null,null,null,null,null,null,null,null,null,null,null,null,null,null,null,null,null,null,null,null,null,null,null,null,null,null,{"$f":"IFERROR(VLOOKUP(ROWS($CF$3:CF148),$CH$3:$CI$2001,2,FALSE),\"\")","v":""},null,{"$f":"IF(ISNUMBER(SEARCH(B148,CI148)),MAX($CH$2:CH147)+1,0)","v":0}]
[null,null,{"$f":"IF(B149=\"\",\"\",SUMIF('الرصيد الثابت'!$D$2:$D$115,B149,'الرصيد الثابت'!$H$2:$H$115))","v":""},{"$f":"IF(B149=\"\",\"\",SUMIF('الرصيد الثابت'!$D$2:$D$115,B149,'الرصيد الثابت'!$I$2:$I$115))","v":""},{"$f":"IF(B149=\"\",\"\",SUMIF('الرصيد الثابت'!$D$2:$D$115,B149,'الرصيد الثابت'!$J$2:$J$115))","v":""},null,0,null,null,null,null,0,null,null,null,0,null,0,null,null,null,null,null,null,null,null,null,null,null,null,null,null,null,null,null,null,null,null,null,null,null,null,null,null,null,null,null,null,null,null,null,null,null,null,null,null,null,null,null,null,null,null,null,null,null,null,null,null,null,null,null,null,null,null,null,null,null,null,null,null,null,null,null,{"$f":"IFERROR(VLOOKUP(ROWS($CF$3:CF149),$CH$3:$CI$2001,2,FALSE),\"\")","v":""},null,{"$f":"IF(ISNUMBER(SEARCH(B149,CI149)),MAX($CH$2:CH148)+1,0)","v":0}]
[null,null,{"$f":"IF(B150=\"\",\"\",SUMIF('الرصيد الثابت'!$D$2:$D$115,B150,'الرصيد الثابت'!$H$2:$H$115))","v":""},{"$f":"IF(B150=\"\",\"\",SUMIF('الرصيد الثابت'!$D$2:$D$115,B150,'الرصيد الثابت'!$I$2:$I$115))","v":""},{"$f":"IF(B150=\"\",\"\",SUMIF('الرصيد الثابت'!$D$2:$D$115,B150,'الرصيد الثابت'!$J$2:$J$115))","v":""},null,0,null,null,null,null,0,null,null,null,0,null,0,null,null,null,null,null,null,null,null,null,null,null,null,null,null,null,null,null,null,null,null,null,null,null,null,null,null,null,null,null,null,null,null,null,null,null,null,null,null,null,null,null,null,null,null,null,null,null,null,null,null,null,null,null,null,null,null,null,null,null,null,null,null,null,null,null,{"$f":"IFERROR(VLOOKUP(ROWS($CF$3:CF150),$CH$3:$CI$2001,2,FALSE),\"\")","v":""},null,{"$f":"IF(ISNUMBER(SEARCH(B150,CI150)),MAX($CH$2:CH149)+1,0)","v":0}]
[null,null,{"$f":"IF(B151=\"\",\"\",SUMIF('الرصيد الثابت'!$D$2:$D$115,B151,'الرصيد الثابت'!$H$2:$H$115))","v":""},{"$f":"IF(B151=\"\",\"\",SUMIF('الرصيد الثابت'!$D$2:$D$115,B151,'الرصيد الثابت'!$I$2:$I$115))","v":""},{"$f":"IF(B151=\"\",\"\",SUMIF('الرصيد الثابت'!$D$2:$D$115,B151,'الرصيد الثابت'!$J$2:$J$115))","v":""},null,0,null,null,null,null,0,null,null,null,0,null,0,null,null,null,null,null,null,null,null,null,null,null,null,null,null,null,null,null,null,null,null,null,null,null,null,null,null,null,null,null,null,null,null,null,null,null,null,null,null,null,null,null,null,null,null,null,null,null,null,null,null,null,null,null,null,null,null,null,null,null,null,null,null,null,null,null,{"$f":"IFERROR(VLOOKUP(ROWS($CF$3:CF151),$CH$3:$CI$2001,2,FALSE),\"\")","v":""},null,{"$f":"IF(ISNUMBER(SEARCH(B151,CI151)),MAX($CH$2:CH150)+1,0)","v":0}]
[null,null,{"$f":"IF(B152=\"\",\"\",SUMIF('الرصيد الثابت'!$D$2:$D$115,B152,'الرصيد الثابت'!$H$2:$H$115))","v":""},{"$f":"IF(B152=\"\",\"\",SUMIF('الرصيد الثابت'!$D$2:$D$115,B152,'الرصيد الثابت'!$I$2:$I$115))","v":""},{"$f":"IF(B152=\"\",\"\",SUMIF('الرصيد الثابت'!$D$2:$D$115,B152,'الرصيد الثابت'!$J$2:$J$115))","v":""},null,0,null,null,null,null,0,null,null,null,{"$f":"SUM(#REF!-#REF!)","v":{"$error":"#REF!"}},null,0,null,null,null,null,null,null,null,null,null,null,null,null,null,null,null,null,null,null,null,null,null,null,null,null,null,null,null,null,null,null,null,null,null,null,null,null,null,null,null,null,null,null,null,null,null,null,null,null,null,null,null,null,null,null,null,null,null,null,null,null,null,null,null,null,null,{"$f":"IFERROR(VLOOKUP(ROWS($CF$3:CF152),$CH$3:$CI$2001,2,FALSE),\"\")","v":""},null,{"$f":"IF(ISNUMBER(SEARCH(B152,CI152)),MAX($CH$2:CH151)+1,0)","v":0}]
[null,null,{"$f":"IF(B153=\"\",\"\",SUMIF('الرصيد الثابت'!$D$2:$D$115,B153,'الرصيد الثابت'!$H$2:$H$115))","v":""},{"$f":"IF(B153=\"\",\"\",SUMIF('الرصيد الثابت'!$D$2:$D$115,B153,'الرصيد الثابت'!$I$2:$I$115))","v":""},{"$f":"IF(B153=\"\",\"\",SUMIF('الرصيد الثابت'!$D$2:$D$115,B153,'الرصيد الثابت'!$J$2:$J$115))","v":""},null,0,null,null,null,null,0,null,null,null,0,null,0,null,null,null,null,null,null,null,null,null,null,null,null,null,null,null,null,null,null,null,null,null,null,null,null,null,null,null,null,null,null,null,null,null,null,null,null,null,null,null,null,null,null,null,null,null,null,null,null,null,null,null,null,null,null,null,null,null,null,null,null,null,null,null,null,null,{"$f":"IFERROR(VLOOKUP(ROWS($CF$3:CF153),$CH$3:$CI$2001,2,FALSE),\"\")","v":""},null,{"$f":"IF(ISNUMBER(SEARCH(B153,CI153)),MAX($CH$2:CH152)+1,0)","v":0}]
[null,null,{"$f":"IF(B154=\"\",\"\",SUMIF('الرصيد الثابت'!$D$2:$D$115,B154,'الرصيد الثابت'!$H$2:$H$115))","v":""},{"$f":"IF(B154=\"\",\"\",SUMIF('الرصيد الثابت'!$D$2:$D$115,B154,'الرصيد الثابت'!$I$2:$I$115))","v":""},{"$f":"IF(B154=\"\",\"\",SUMIF('الرصيد الثابت'!$D$2:$D$115,B154,'الرصيد الثابت'!$J$2:$J$115))","v":""},null,0,null,null,null,null,0,null,null,null,0,null,0,null,null,null,null,null,null,null,null,null,null,null,null,null,null,null,null,null,null,null,null,null,null,null,null,null,null,null,null,null,null,null,null,null,null,null,null,null,null,null,null,null,null,null,null,null,null,null,null,null,null,null,null,null,null,null,null,null,null,null,null,null,null,null,null,null,{"$f":"IFERROR(VLOOKUP(ROWS($CF$3:CF154),$CH$3:$CI$2001,2,FALSE),\"\")","v":""},null,{"$f":"IF(ISNUMBER(SEARCH(B154,CI154)),MAX($CH$2:CH153)+1,0)","v":0}]
[null,null,{"$f":"IF(B155=\"\",\"\",SUMIF('الرصيد الثابت'!$D$2:$D$115,B155,'الرصيد الثابت'!$H$2:$H$115))","v":""},{"$f":"IF(B155=\"\",\"\",SUMIF('الرصيد الثابت'!$D$2:$D$115,B155,'الرصيد الثابت'!$I$2:$I$115))","v":""},{"$f":"IF(B155=\"\",\"\",SUMIF('الرصيد الثابت'!$D$2:$D$115,B155,'الرصيد الثابت'!$J$2:$J$115))","v":""},null,0,null,null,null,null,0,null,null,null,0,null,0,null,null,null,null,null,null,null,null,null,null,null,null,null,null,null,null,null,null,null,null,null,null,null,null,null,null,null,null,null,null,null,null,null,null,null,null,null,null,null,null,null,null,null,null,null,null,null,null,null,null,null,null,null,null,null,null,null,null,null,null,null,null,null,null,null,{"$f":"IFERROR(VLOOKUP(ROWS($CF$3:CF155),$CH$3:$CI$2001,2,FALSE),\"\")","v":""},null,{"$f":"IF(ISNUMBER(SEARCH(B155,CI155)),MAX($CH$2:CH154)+1,0)","v":0}]
[null,null,{"$f":"IF(B156=\"\",\"\",SUMIF('الرصيد الثابت'!$D$2:$D$115,B156,'الرصيد الثابت'!$H$2:$H$115))","v":""},{"$f":"IF(B156=\"\",\"\",SUMIF('الرصيد الثابت'!$D$2:$D$115,B156,'الرصيد الثابت'!$I$2:$I$115))","v":""},{"$f":"IF(B156=\"\",\"\",SUMIF('الرصيد الثابت'!$D$2:$D$115,B156,'الرصيد الثابت'!$J$2:$J$115))","v":""},null,0,null,null,null,null,0,null,null,null,0,null,0,null,null,null,null,null,null,null,null,null,null,null,null,null,null,null,null,null,null,null,null,null,null,null,null,null,null,null,null,null,null,null,null,null,null,null,null,null,null,null,null,null,null,null,null,null,null,null,null,null,null,null,null,null,null,null,null,null,null,null,null,null,null,null,null,null,{"$f":"IFERROR(VLOOKUP(ROWS($CF$3:CF156),$CH$3:$CI$2001,2,FALSE),\"\")","v":""},null,{"$f":"IF(ISNUMBER(SEARCH(B156,CI156)),MAX($CH$2:CH155)+1,0)","v":0}]
[null,null,{"$f":"IF(B157=\"\",\"\",SUMIF('الرصيد الثابت'!$D$2:$D$115,B157,'الرصيد الثابت'!$H$2:$H$115))","v":""},{"$f":"IF(B157=\"\",\"\",SUMIF('الرصيد الثابت'!$D$2:$D$115,B157,'الرصيد الثابت'!$I$2:$I$115))","v":""},{"$f":"IF(B157=\"\",\"\",SUMIF('الرصيد الثابت'!$D$2:$D$115,B157,'الرصيد الثابت'!$J$2:$J$115))","v":""},null,0,null,null,null,null,0,null,null,null,0,null,0,null,null,null,null,null,null,null,null,null,null,null,null,null,null,null,null,null,null,null,null,null,null,null,null,null,null,null,null,null,null,null,null,null,null,null,null,null,null,null,null,null,null,null,null,null,null,null,null,null,null,null,null,null,null,null,null,null,null,null,null,null,null,null,null,null,{"$f":"IFERROR(VLOOKUP(ROWS($CF$3:CF157),$CH$3:$CI$2001,2,FALSE),\"\")","v":""},null,{"$f":"IF(ISNUMBER(SEARCH(B157,CI157)),MAX($CH$2:CH156)+1,0)","v":0}]
[null,null,{"$f":"IF(B158=\"\",\"\",SUMIF('الرصيد الثابت'!$D$2:$D$115,B158,'الرصيد الثابت'!$H$2:$H$115))","v":""},{"$f":"IF(B158=\"\",\"\",SUMIF('الرصيد الثابت'!$D$2:$D$115,B158,'الرصيد الثابت'!$I$2:$I$115))","v":""},{"$f":"IF(B158=\"\",\"\",SUMIF('الرصيد الثابت'!$D$2:$D$115,B158,'الرصيد الثابت'!$J$2:$J$115))","v":""},null,0,null,null,null,null,0,null,null,null,0,null,0,null,null,null,null,null,null,null,null,null,null,null,null,null,null,null,null,null,null,null,null,null,null,null,null,null,null,null,null,null,null,null,null,null,null,null,null,null,null,null,null,null,null,null,null,null,null,null,null,null,null,null,null,null,null,null,null,null,null,null,null,null,null,null,null,null,{"$f":"IFERROR(VLOOKUP(ROWS($CF$3:CF158),$CH$3:$CI$2001,2,FALSE),\"\")","v":""},null,{"$f":"IF(ISNUMBER(SEARCH(B158,CI158)),MAX($CH$2:CH157)+1,0)","v":0}]
[null,null,{"$f":"IF(B159=\"\",\"\",SUMIF('الرصيد الثابت'!$D$2:$D$115,B159,'الرصيد الثابت'!$H$2:$H$115))","v":""},{"$f":"IF(B159=\"\",\"\",SUMIF('الرصيد الثابت'!$D$2:$D$115,B159,'الرصيد الثابت'!$I$2:$I$115))","v":""},{"$f":"IF(B159=\"\",\"\",SUMIF('الرصيد الثابت'!$D$2:$D$115,B159,'الرصيد الثابت'!$J$2:$J$115))","v":""},null,0,null,null,null,null,0,null,null,null,0,null,0,null,null,null,null,null,null,null,null,null,null,null,null,null,null,null,null,null,null,null,null,null,null,null,null,null,null,null,null,null,null,null,null,null,null,null,null,null,null,null,null,null,null,null,null,null,null,null,null,null,null,null,null,null,null,null,null,null,null,null,null,null,null,null,null,null,{"$f":"IFERROR(VLOOKUP(ROWS($CF$3:CF159),$CH$3:$CI$2001,2,FALSE),\"\")","v":""},null,{"$f":"IF(ISNUMBER(SEARCH(B159,CI159)),MAX($CH$2:CH158)+1,0)","v":0}]
[null,null,{"$f":"IF(B160=\"\",\"\",SUMIF('الرصيد الثابت'!$D$2:$D$115,B160,'الرصيد الثابت'!$H$2:$H$115))","v":""},{"$f":"IF(B160=\"\",\"\",SUMIF('الرصيد الثابت'!$D$2:$D$115,B160,'الرصيد الثابت'!$I$2:$I$115))","v":""},{"$f":"IF(B160=\"\",\"\",SUMIF('الرصيد الثابت'!$D$2:$D$115,B160,'الرصيد الثابت'!$J$2:$J$115))","v":""},null,0,null,null,null,null,0,null,null,null,0,null,0,null,null,null,null,null,null,null,null,null,null,null,null,null,null,null,null,null,null,null,null,null,null,null,null,null,null,null,null,null,null,null,null,null,null,null,null,null,null,null,null,null,null,null,null,null,null,null,null,null,null,null,null,null,null,null,null,null,null,null,null,null,null,null,null,null,{"$f":"IFERROR(VLOOKUP(ROWS($CF$3:CF160),$CH$3:$CI$2001,2,FALSE),\"\")","v":""},null,{"$f":"IF(ISNUMBER(SEARCH(B160,CI160)),MAX($CH$2:CH159)+1,0)","v":0}]
[null,null,{"$f":"IF(B161=\"\",\"\",SUMIF('الرصيد الثابت'!$D$2:$D$115,B161,'الرصيد الثابت'!$H$2:$H$115))","v":""},{"$f":"IF(B161=\"\",\"\",SUMIF('الرصيد الثابت'!$D$2:$D$115,B161,'الرصيد الثابت'!$I$2:$I$115))","v":""},{"$f":"IF(B161=\"\",\"\",SUMIF('الرصيد الثابت'!$D$2:$D$115,B161,'الرصيد الثابت'!$J$2:$J$115))","v":""},null,0,null,null,null,null,0,null,null,null,0,null,0,null,null,null,null,null,null,null,null,null,null,null,null,null,null,null,null,null,null,null,null,null,null,null,null,null,null,null,null,null,null,null,null,null,null,null,null,null,null,null,null,null,null,null,null,null,null,null,null,null,null,null,null,null,null,null,null,null,null,null,null,null,null,null,null,null,{"$f":"IFERROR(VLOOKUP(ROWS($CF$3:CF161),$CH$3:$CI$2001,2,FALSE),\"\")","v":""},null,{"$f":"IF(ISNUMBER(SEARCH(B161,CI161)),MAX($CH$2:CH160)+1,0)","v":0}]
[null,null,{"$f":"IF(B162=\"\",\"\",SUMIF('الرصيد الثابت'!$D$2:$D$115,B162,'الرصيد الثابت'!$H$2:$H$115))","v":""},{"$f":"IF(B162=\"\",\"\",SUMIF('الرصيد الثابت'!$D$2:$D$115,B162,'الرصيد الثابت'!$I$2:$I$115))","v":""},{"$f":"IF(B162=\"\",\"\",SUMIF('الرصيد الثابت'!$D$2:$D$115,B162,'الرصيد الثابت'!$J$2:$J$115))","v":""},null,0,null,null,null,null,0,null,null,null,0,null,0,null,null,null,null,null,null,null,null,null,null,null,null,null,null,null,null,null,null,null,null,null,null,null,null,null,null,null,null,null,null,null,null,null,null,null,null,null,null,null,null,null,null,null,null,null,null,null,null,null,null,null,null,null,null,null,null,null,null,null,null,null,null,null,null,null,{"$f":"IFERROR(VLOOKUP(ROWS($CF$3:CF162),$CH$3:$CI$2001,2,FALSE),\"\")","v":""},null,{"$f":"IF(ISNUMBER(SEARCH(B162,CI162)),MAX($CH$2:CH161)+1,0)","v":0}]
[null,null,{"$f":"IF(B163=\"\",\"\",SUMIF('الرصيد الثابت'!$D$2:$D$115,B163,'الرصيد الثابت'!$H$2:$H$115))","v":""},{"$f":"IF(B163=\"\",\"\",SUMIF('الرصيد الثابت'!$D$2:$D$115,B163,'الرصيد الثابت'!$I$2:$I$115))","v":""},{"$f":"IF(B163=\"\",\"\",SUMIF('الرصيد الثابت'!$D$2:$D$115,B163,'الرصيد الثابت'!$J$2:$J$115))","v":""},null,0,null,null,null,null,0,null,null,null,0,null,0,null,null,null,null,null,null,null,null,null,null,null,null,null,null,null,null,null,null,null,null,null,null,null,null,null,null,null,null,null,null,null,null,null,null,null,null,null,null,null,null,null,null,null,null,null,null,null,null,null,null,null,null,null,null,null,null,null,null,null,null,null,null,null,null,null,{"$f":"IFERROR(VLOOKUP(ROWS($CF$3:CF163),$CH$3:$CI$2001,2,FALSE),\"\")","v":""},null,{"$f":"IF(ISNUMBER(SEARCH(B163,CI163)),MAX($CH$2:CH162)+1,0)","v":0}]
[null,null,{"$f":"IF(B164=\"\",\"\",SUMIF('الرصيد الثابت'!$D$2:$D$115,B164,'الرصيد الثابت'!$H$2:$H$115))","v":""},{"$f":"IF(B164=\"\",\"\",SUMIF('الرصيد الثابت'!$D$2:$D$115,B164,'الرصيد الثابت'!$I$2:$I$115))","v":""},{"$f":"IF(B164=\"\",\"\",SUMIF('الرصيد الثابت'!$D$2:$D$115,B164,'الرصيد الثابت'!$J$2:$J$115))","v":""},null,0,null,null,null,null,0,null,null,null,0,null,0,null,null,null,null,null,null,null,null,null,null,null,null,null,null,null,null,null,null,null,null,null,null,null,null,null,null,null,null,null,null,null,null,null,null,null,null,null,null,null,null,null,null,null,null,null,null,null,null,null,null,null,null,null,null,null,null,null,null,null,null,null,null,null,null,null,{"$f":"IFERROR(VLOOKUP(ROWS($CF$3:CF164),$CH$3:$CI$2001,2,FALSE),\"\")","v":""},null,{"$f":"IF(ISNUMBER(SEARCH(B164,CI164)),MAX($CH$2:CH163)+1,0)","v":0}]
[null,null,{"$f":"IF(B165=\"\",\"\",SUMIF('الرصيد الثابت'!$D$2:$D$115,B165,'الرصيد الثابت'!$H$2:$H$115))","v":""},{"$f":"IF(B165=\"\",\"\",SUMIF('الرصيد الثابت'!$D$2:$D$115,B165,'الرصيد الثابت'!$I$2:$I$115))","v":""},{"$f":"IF(B165=\"\",\"\",SUMIF('الرصيد الثابت'!$D$2:$D$115,B165,'الرصيد الثابت'!$J$2:$J$115))","v":""},null,0,null,null,null,null,0,null,null,null,0,null,0,null,null,null,null,null,null,null,null,null,null,null,null,null,null,null,null,null,null,null,null,null,null,null,null,null,null,null,null,null,null,null,null,null,null,null,null,null,null,null,null,null,null,null,null,null,null,null,null,null,null,null,null,null,null,null,null,null,null,null,null,null,null,null,null,null,{"$f":"IFERROR(VLOOKUP(ROWS($CF$3:CF165),$CH$3:$CI$2001,2,FALSE),\"\")","v":""},null,{"$f":"IF(ISNUMBER(SEARCH(B165,CI165)),MAX($CH$2:CH164)+1,0)","v":0}]
[null,null,{"$f":"IF(B166=\"\",\"\",SUMIF('الرصيد الثابت'!$D$2:$D$115,B166,'الرصيد الثابت'!$H$2:$H$115))","v":""},{"$f":"IF(B166=\"\",\"\",SUMIF('الرصيد الثابت'!$D$2:$D$115,B166,'الرصيد الثابت'!$I$2:$I$115))","v":""},{"$f":"IF(B166=\"\",\"\",SUMIF('الرصيد الثابت'!$D$2:$D$115,B166,'الرصيد الثابت'!$J$2:$J$115))","v":""},null,0,null,null,null,null,0,null,null,null,0,null,0,null,null,null,null,null,null,null,null,null,null,null,null,null,null,null,null,null,null,null,null,null,null,null,null,null,null,null,null,null,null,null,null,null,null,null,null,null,null,null,null,null,null,null,null,null,null,null,null,null,null,null,null,null,null,null,null,null,null,null,null,null,null,null,null,null,{"$f":"IFERROR(VLOOKUP(ROWS($CF$3:CF166),$CH$3:$CI$2001,2,FALSE),\"\")","v":""},null,{"$f":"IF(ISNUMBER(SEARCH(B166,CI166)),MAX($CH$2:CH165)+1,0)","v":0}]
[null,null,{"$f":"IF(B167=\"\",\"\",SUMIF('الرصيد الثابت'!$D$2:$D$115,B167,'الرصيد الثابت'!$H$2:$H$115))","v":""},{"$f":"IF(B167=\"\",\"\",SUMIF('الرصيد الثابت'!$D$2:$D$115,B167,'الرصيد الثابت'!$I$2:$I$115))","v":""},{"$f":"IF(B167=\"\",\"\",SUMIF('الرصيد الثابت'!$D$2:$D$115,B167,'الرصيد الثابت'!$J$2:$J$115))","v":""},null,0,null,null,null,null,0,null,null,null,0,null,0,null,null,null,null,null,null,null,null,null,null,null,null,null,null,null,null,null,null,null,null,null,null,null,null,null,null,null,null,null,null,null,null,null,null,null,null,null,null,null,null,null,null,null,null,null,null,null,null,null,null,null,null,null,null,null,null,null,null,null,null,null,null,null,null,null,{"$f":"IFERROR(VLOOKUP(ROWS($CF$3:CF167),$CH$3:$CI$2001,2,FALSE),\"\")","v":""},null,{"$f":"IF(ISNUMBER(SEARCH(B167,CI167)),MAX($CH$2:CH166)+1,0)","v":0}]
[null,null,{"$f":"IF(B168=\"\",\"\",SUMIF('الرصيد الثابت'!$D$2:$D$115,B168,'الرصيد الثابت'!$H$2:$H$115))","v":""},{"$f":"IF(B168=\"\",\"\",SUMIF('الرصيد الثابت'!$D$2:$D$115,B168,'الرصيد الثابت'!$I$2:$I$115))","v":""},{"$f":"IF(B168=\"\",\"\",SUMIF('الرصيد الثابت'!$D$2:$D$115,B168,'الرصيد الثابت'!$J$2:$J$115))","v":""},null,0,null,null,null,null,0,null,null,null,0,null,0,null,null,null,null,null,null,null,null,null,null,null,null,null,null,null,null,null,null,null,null,null,null,null,null,null,null,null,null,null,null,null,null,null,null,null,null,null,null,null,null,null,null,null,null,null,null,null,null,null,null,null,null,null,null,null,null,null,null,null,null,null,null,null,null,null,{"$f":"IFERROR(VLOOKUP(ROWS($CF$3:CF168),$CH$3:$CI$2001,2,FALSE),\"\")","v":""},null,{"$f":"IF(ISNUMBER(SEARCH(B168,CI168)),MAX($CH$2:CH167)+1,0)","v":0}]
[null,null,{"$f":"IF(B169=\"\",\"\",SUMIF('الرصيد الثابت'!$D$2:$D$115,B169,'الرصيد الثابت'!$H$2:$H$115))","v":""},{"$f":"IF(B169=\"\",\"\",SUMIF('الرصيد الثابت'!$D$2:$D$115,B169,'الرصيد الثابت'!$I$2:$I$115))","v":""},{"$f":"IF(B169=\"\",\"\",SUMIF('الرصيد الثابت'!$D$2:$D$115,B169,'الرصيد الثابت'!$J$2:$J$115))","v":""},null,0,null,null,null,null,0,null,null,null,0,null,0,null,null,null,null,null,null,null,null,null,null,null,null,null,null,null,null,null,null,null,null,null,null,null,null,null,null,null,null,null,null,null,null,null,null,null,null,null,null,null,null,null,null,null,null,null,null,null,null,null,null,null,null,null,null,null,null,null,null,null,null,null,null,null,null,null,{"$f":"IFERROR(VLOOKUP(ROWS($CF$3:CF169),$CH$3:$CI$2001,2,FALSE),\"\")","v":""},null,{"$f":"IF(ISNUMBER(SEARCH(B169,CI169)),MAX($CH$2:CH168)+1,0)","v":0}]
[null,null,{"$f":"IF(B170=\"\",\"\",SUMIF('الرصيد الثابت'!$D$2:$D$115,B170,'الرصيد الثابت'!$H$2:$H$115))","v":""},{"$f":"IF(B170=\"\",\"\",SUMIF('الرصيد الثابت'!$D$2:$D$115,B170,'الرصيد الثابت'!$I$2:$I$115))","v":""},{"$f":"IF(B170=\"\",\"\",SUMIF('الرصيد الثابت'!$D$2:$D$115,B170,'الرصيد الثابت'!$J$2:$J$115))","v":""},null,0,null,null,null,null,0,null,null,null,0,null,0,null,null,null,null,null,null,null,null,null,null,null,null,null,null,null,null,null,null,null,null,null,null,null,null,null,null,null,null,null,null,null,null,null,null,null,null,null,null,null,null,null,null,null,null,null,null,null,null,null,null,null,null,null,null,null,null,null,null,null,null,null,null,null,null,null,{"$f":"IFERROR(VLOOKUP(ROWS($CF$3:CF170),$CH$3:$CI$2001,2,FALSE),\"\")","v":""},null,{"$f":"IF(ISNUMBER(SEARCH(B170,CI170)),MAX($CH$2:CH169)+1,0)","v":0}]
[null,null,{"$f":"IF(B171=\"\",\"\",SUMIF('الرصيد الثابت'!$D$2:$D$115,B171,'الرصيد الثابت'!$H$2:$H$115))","v":""},{"$f":"IF(B171=\"\",\"\",SUMIF('الرصيد الثابت'!$D$2:$D$115,B171,'الرصيد الثابت'!$I$2:$I$115))","v":""},{"$f":"IF(B171=\"\",\"\",SUMIF('الرصيد الثابت'!$D$2:$D$115,B171,'الرصيد الثابت'!$J$2:$J$115))","v":""},null,0,null,null,null,null,0,null,null,null,0,null,0,null,null,null,null,null,null,null,null,null,null,null,null,null,null,null,null,null,null,null,null,null,null,null,null,null,null,null,null,null,null,null,null,null,null,null,null,null,null,null,null,null,null,null,null,null,null,null,null,null,null,null,null,null,null,null,null,null,null,null,null,null,null,null,null,null,{"$f":"IFERROR(VLOOKUP(ROWS($CF$3:CF171),$CH$3:$CI$2001,2,FALSE),\"\")","v":""},null,{"$f":"IF(ISNUMBER(SEARCH(B171,CI171)),MAX($CH$2:CH170)+1,0)","v":0}]
[null,null,{"$f":"IF(B172=\"\",\"\",SUMIF('الرصيد الثابت'!$D$2:$D$115,B172,'الرصيد الثابت'!$H$2:$H$115))","v":""},{"$f":"IF(B172=\"\",\"\",SUMIF('الرصيد الثابت'!$D$2:$D$115,B172,'الرصيد الثابت'!$I$2:$I$115))","v":""},{"$f":"IF(B172=\"\",\"\",SUMIF('الرصيد الثابت'!$D$2:$D$115,B172,'الرصيد الثابت'!$J$2:$J$115))","v":""},null,0,null,null,null,null,0,null,null,null,0,null,0,null,null,null,null,null,null,null,null,null,null,null,null,null,null,null,null,null,null,null,null,null,null,null,null,null,null,null,null,null,null,null,null,null,null,null,null,null,null,null,null,null,null,null,null,null,null,null,null,null,null,null,null,null,null,null,null,null,null,null,null,null,null,null,null,null,{"$f":"IFERROR(VLOOKUP(ROWS($CF$3:CF172),$CH$3:$CI$2001,2,FALSE),\"\")","v":""},null,{"$f":"IF(ISNUMBER(SEARCH(B172,CI172)),MAX($CH$2:CH171)+1,0)","v":0}]
[null,null,{"$f":"IF(B173=\"\",\"\",SUMIF('الرصيد الثابت'!$D$2:$D$115,B173,'الرصيد الثابت'!$H$2:$H$115))","v":""},{"$f":"IF(B173=\"\",\"\",SUMIF('الرصيد الثابت'!$D$2:$D$115,B173,'الرصيد الثابت'!$I$2:$I$115))","v":""},{"$f":"IF(B173=\"\",\"\",SUMIF('الرصيد الثابت'!$D$2:$D$115,B173,'الرصيد الثابت'!$J$2:$J$115))","v":""},null,0,null,null,null,null,0,null,null,null,0,null,0,null,null,null,null,null,null,null,null,null,null,null,null,null,null,null,null,null,null,null,null,null,null,null,null,null,null,null,null,null,null,null,null,null,null,null,null,null,null,null,null,null,null,null,null,null,null,null,null,null,null,null,null,null,null,null,null,null,null,null,null,null,null,null,null,null,{"$f":"IFERROR(VLOOKUP(ROWS($CF$3:CF173),$CH$3:$CI$2001,2,FALSE),\"\")","v":""},null,{"$f":"IF(ISNUMBER(SEARCH(B173,CI173)),MAX($CH$2:CH172)+1,0)","v":0}]
[null,null,{"$f":"IF(B174=\"\",\"\",SUMIF('الرصيد الثابت'!$D$2:$D$115,B174,'الرصيد الثابت'!$H$2:$H$115))","v":""},{"$f":"IF(B174=\"\",\"\",SUMIF('الرصيد الثابت'!$D$2:$D$115,B174,'الرصيد الثابت'!$I$2:$I$115))","v":""},{"$f":"IF(B174=\"\",\"\",SUMIF('الرصيد الثابت'!$D$2:$D$115,B174,'الرصيد الثابت'!$J$2:$J$115))","v":""},null,0,null,null,null,null,0,null,null,null,0,null,0,null,null,null,null,null,null,null,null,null,null,null,null,null,null,null,null,null,null,null,null,null,null,null,null,null,null,null,null,null,null,null,null,null,null,null,null,null,null,null,null,null,null,null,null,null,null,null,null,null,null,null,null,null,null,null,null,null,null,null,null,null,null,null,null,null,{"$f":"IFERROR(VLOOKUP(ROWS($CF$3:CF174),$CH$3:$CI$2001,2,FALSE),\"\")","v":""},null,{"$f":"IF(ISNUMBER(SEARCH(B174,CI174)),MAX($CH$2:CH173)+1,0)","v":0}]
[null,null,{"$f":"IF(B175=\"\",\"\",SUMIF('الرصيد الثابت'!$D$2:$D$115,B175,'الرصيد الثابت'!$H$2:$H$115))","v":""},{"$f":"IF(B175=\"\",\"\",SUMIF('الرصيد الثابت'!$D$2:$D$115,B175,'الرصيد الثابت'!$I$2:$I$115))","v":""},{"$f":"IF(B175=\"\",\"\",SUMIF('الرصيد الثابت'!$D$2:$D$115,B175,'الرصيد الثابت'!$J$2:$J$115))","v":""},null,0,null,null,null,null,0,null,null,null,0,null,0,null,null,null,null,null,null,null,null,null,null,null,null,null,null,null,null,null,null,null,null,null,null,null,null,null,null,null,null,null,null,null,null,null,null,null,null,null,null,null,null,null,null,null,null,null,null,null,null,null,null,null,null,null,null,null,null,null,null,null,null,null,null,null,null,null,{"$f":"IFERROR(VLOOKUP(ROWS($CF$3:CF175),$CH$3:$CI$2001,2,FALSE),\"\")","v":""},null,{"$f":"IF(ISNUMBER(SEARCH(B175,CI175)),MAX($CH$2:CH174)+1,0)","v":0}]
[null,null,{"$f":"IF(B176=\"\",\"\",SUMIF('الرصيد الثابت'!$D$2:$D$115,B176,'الرصيد الثابت'!$H$2:$H$115))","v":""},{"$f":"IF(B176=\"\",\"\",SUMIF('الرصيد الثابت'!$D$2:$D$115,B176,'الرصيد الثابت'!$I$2:$I$115))","v":""},{"$f":"IF(B176=\"\",\"\",SUMIF('الرصيد الثابت'!$D$2:$D$115,B176,'الرصيد الثابت'!$J$2:$J$115))","v":""},null,0,null,null,null,null,0,null,null,null,0,null,0,null,null,null,null,null,null,null,null,null,null,null,null,null,null,null,null,null,null,null,null,null,null,null,null,null,null,null,null,null,null,null,null,null,null,null,null,null,null,null,null,null,null,null,null,null,null,null,null,null,null,null,null,null,null,null,null,null,null,null,null,null,null,null,null,null,{"$f":"IFERROR(VLOOKUP(ROWS($CF$3:CF176),$CH$3:$CI$2001,2,FALSE),\"\")","v":""},null,{"$f":"IF(ISNUMBER(SEARCH(B176,CI176)),MAX($CH$2:CH175)+1,0)","v":0}]
[null,null,{"$f":"IF(B177=\"\",\"\",SUMIF('الرصيد الثابت'!$D$2:$D$115,B177,'الرصيد الثابت'!$H$2:$H$115))","v":""},{"$f":"IF(B177=\"\",\"\",SUMIF('الرصيد الثابت'!$D$2:$D$115,B177,'الرصيد الثابت'!$I$2:$I$115))","v":""},{"$f":"IF(B177=\"\",\"\",SUMIF('الرصيد الثابت'!$D$2:$D$115,B177,'الرصيد الثابت'!$J$2:$J$115))","v":""},null,0,null,null,null,null,0,null,null,null,0,null,0,null,null,null,null,null,null,null,null,null,null,null,null,null,null,null,null,null,null,null,null,null,null,null,null,null,null,null,null,null,null,null,null,null,null,null,null,null,null,null,null,null,null,null,null,null,null,null,null,null,null,null,null,null,null,null,null,null,null,null,null,null,null,null,null,null,{"$f":"IFERROR(VLOOKUP(ROWS($CF$3:CF177),$CH$3:$CI$2001,2,FALSE),\"\")","v":""},null,{"$f":"IF(ISNUMBER(SEARCH(B177,CI177)),MAX($CH$2:CH176)+1,0)","v":0}]
[null,null,{"$f":"IF(B178=\"\",\"\",SUMIF('الرصيد الثابت'!$D$2:$D$115,B178,'الرصيد الثابت'!$H$2:$H$115))","v":""},{"$f":"IF(B178=\"\",\"\",SUMIF('الرصيد الثابت'!$D$2:$D$115,B178,'الرصيد الثابت'!$I$2:$I$115))","v":""},{"$f":"IF(B178=\"\",\"\",SUMIF('الرصيد الثابت'!$D$2:$D$115,B178,'الرصيد الثابت'!$J$2:$J$115))","v":""},null,0,null,null,null,null,0,null,null,null,0,null,0,null,null,null,null,null,null,null,null,null,null,null,null,null,null,null,null,null,null,null,null,null,null,null,null,null,null,null,null,null,null,null,null,null,null,null,null,null,null,null,null,null,null,null,null,null,null,null,null,null,null,null,null,null,null,null,null,null,null,null,null,null,null,null,null,null,{"$f":"IFERROR(VLOOKUP(ROWS($CF$3:CF178),$CH$3:$CI$2001,2,FALSE),\"\")","v":""},null,{"$f":"IF(ISNUMBER(SEARCH(B178,CI178)),MAX($CH$2:CH177)+1,0)","v":0}]
[null,null,{"$f":"IF(B179=\"\",\"\",SUMIF('الرصيد الثابت'!$D$2:$D$115,B179,'الرصيد الثابت'!$H$2:$H$115))","v":""},{"$f":"IF(B179=\"\",\"\",SUMIF('الرصيد الثابت'!$D$2:$D$115,B179,'الرصيد الثابت'!$I$2:$I$115))","v":""},{"$f":"IF(B179=\"\",\"\",SUMIF('الرصيد الثابت'!$D$2:$D$115,B179,'الرصيد الثابت'!$J$2:$J$115))","v":""},null,0,null,null,null,null,0,null,null,null,0,null,0,null,null,null,null,null,null,null,null,null,null,null,null,null,null,null,null,null,null,null,null,null,null,null,null,null,null,null,null,null,null,null,null,null,null,null,null,null,null,null,null,null,null,null,null,null,null,null,null,null,null,null,null,null,null,null,null,null,null,null,null,null,null,null,null,null,{"$f":"IFERROR(VLOOKUP(ROWS($CF$3:CF179),$CH$3:$CI$2001,2,FALSE),\"\")","v":""},null,{"$f":"IF(ISNUMBER(SEARCH(B179,CI179)),MAX($CH$2:CH178)+1,0)","v":0}]
[null,null,{"$f":"IF(B180=\"\",\"\",SUMIF('الرصيد الثابت'!$D$2:$D$115,B180,'الرصيد الثابت'!$H$2:$H$115))","v":""},{"$f":"IF(B180=\"\",\"\",SUMIF('الرصيد الثابت'!$D$2:$D$115,B180,'الرصيد الثابت'!$I$2:$I$115))","v":""},{"$f":"IF(B180=\"\",\"\",SUMIF('الرصيد الثابت'!$D$2:$D$115,B180,'الرصيد الثابت'!$J$2:$J$115))","v":""},null,0,null,null,null,null,0,null,null,null,0,null,0,null,null,null,null,null,null,null,null,null,null,null,null,null,null,null,null,null,null,null,null,null,null,null,null,null,null,null,null,null,null,null,null,null,null,null,null,null,null,null,null,null,null,null,null,null,null,null,null,null,null,null,null,null,null,null,null,null,null,null,null,null,null,null,null,null,{"$f":"IFERROR(VLOOKUP(ROWS($CF$3:CF180),$CH$3:$CI$2001,2,FALSE),\"\")","v":""},null,{"$f":"IF(ISNUMBER(SEARCH(B180,CI180)),MAX($CH$2:CH179)+1,0)","v":0}]
[null,null,{"$f":"IF(B181=\"\",\"\",SUMIF('الرصيد الثابت'!$D$2:$D$115,B181,'الرصيد الثابت'!$H$2:$H$115))","v":""},{"$f":"IF(B181=\"\",\"\",SUMIF('الرصيد الثابت'!$D$2:$D$115,B181,'الرصيد الثابت'!$I$2:$I$115))","v":""},{"$f":"IF(B181=\"\",\"\",SUMIF('الرصيد الثابت'!$D$2:$D$115,B181,'الرصيد الثابت'!$J$2:$J$115))","v":""},null,0,null,null,null,null,0,null,null,null,0,null,0,null,null,null,null,null,null,null,null,null,null,null,null,null,null,null,null,null,null,null,null,null,null,null,null,null,null,null,null,null,null,null,null,null,null,null,null,null,null,null,null,null,null,null,null,null,null,null,null,null,null,null,null,null,null,null,null,null,null,null,null,null,null,null,null,null,{"$f":"IFERROR(VLOOKUP(ROWS($CF$3:CF181),$CH$3:$CI$2001,2,FALSE),\"\")","v":""},null,{"$f":"IF(ISNUMBER(SEARCH(B181,CI181)),MAX($CH$2:CH180)+1,0)","v":0}]
[null,null,{"$f":"IF(B182=\"\",\"\",SUMIF('الرصيد الثابت'!$D$2:$D$115,B182,'الرصيد الثابت'!$H$2:$H$115))","v":""},{"$f":"IF(B182=\"\",\"\",SUMIF('الرصيد الثابت'!$D$2:$D$115,B182,'الرصيد الثابت'!$I$2:$I$115))","v":""},{"$f":"IF(B182=\"\",\"\",SUMIF('الرصيد الثابت'!$D$2:$D$115,B182,'الرصيد الثابت'!$J$2:$J$115))","v":""},null,0,null,null,null,null,0,null,null,null,0,null,0,null,null,null,null,null,null,null,null,null,null,null,null,null,null,null,null,null,null,null,null,null,null,null,null,null,null,null,null,null,null,null,null,null,null,null,null,null,null,null,null,null,null,null,null,null,null,null,null,null,null,null,null,null,null,null,null,null,null,null,null,null,null,null,null,null,{"$f":"IFERROR(VLOOKUP(ROWS($CF$3:CF182),$CH$3:$CI$2001,2,FALSE),\"\")","v":""},null,{"$f":"IF(ISNUMBER(SEARCH(B182,CI182)),MAX($CH$2:CH181)+1,0)","v":0}]
[null,null,{"$f":"IF(B183=\"\",\"\",SUMIF('الرصيد الثابت'!$D$2:$D$115,B183,'الرصيد الثابت'!$H$2:$H$115))","v":""},{"$f":"IF(B183=\"\",\"\",SUMIF('الرصيد الثابت'!$D$2:$D$115,B183,'الرصيد الثابت'!$I$2:$I$115))","v":""},{"$f":"IF(B183=\"\",\"\",SUMIF('الرصيد الثابت'!$D$2:$D$115,B183,'الرصيد الثابت'!$J$2:$J$115))","v":""},null,0,null,null,null,null,0,null,null,null,0,null,0,null,null,null,null,null,null,null,null,null,null,null,null,null,null,null,null,null,null,null,null,null,null,null,null,null,null,null,null,null,null,null,null,null,null,null,null,null,null,null,null,null,null,null,null,null,null,null,null,null,null,null,null,null,null,null,null,null,null,null,null,null,null,null,null,null,{"$f":"IFERROR(VLOOKUP(ROWS($CF$3:CF183),$CH$3:$CI$2001,2,FALSE),\"\")","v":""},null,{"$f":"IF(ISNUMBER(SEARCH(B183,CI183)),MAX($CH$2:CH182)+1,0)","v":0}]
[null,null,{"$f":"IF(B184=\"\",\"\",SUMIF('الرصيد الثابت'!$D$2:$D$115,B184,'الرصيد الثابت'!$H$2:$H$115))","v":""},{"$f":"IF(B184=\"\",\"\",SUMIF('الرصيد الثابت'!$D$2:$D$115,B184,'الرصيد الثابت'!$I$2:$I$115))","v":""},{"$f":"IF(B184=\"\",\"\",SUMIF('الرصيد الثابت'!$D$2:$D$115,B184,'الرصيد الثابت'!$J$2:$J$115))","v":""},null,0,null,null,null,null,0,null,null,null,0,null,0,null,null,null,null,null,null,null,null,null,null,null,null,null,null,null,null,null,null,null,null,null,null,null,null,null,null,null,null,null,null,null,null,null,null,null,null,null,null,null,null,null,null,null,null,null,null,null,null,null,null,null,null,null,null,null,null,null,null,null,null,null,null,null,null,null,{"$f":"IFERROR(VLOOKUP(ROWS($CF$3:CF184),$CH$3:$CI$2001,2,FALSE),\"\")","v":""},null,{"$f":"IF(ISNUMBER(SEARCH(B184,CI184)),MAX($CH$2:CH183)+1,0)","v":0}]
[null,null,{"$f":"IF(B185=\"\",\"\",SUMIF('الرصيد الثابت'!$D$2:$D$115,B185,'الرصيد الثابت'!$H$2:$H$115))","v":""},{"$f":"IF(B185=\"\",\"\",SUMIF('الرصيد الثابت'!$D$2:$D$115,B185,'الرصيد الثابت'!$I$2:$I$115))","v":""},{"$f":"IF(B185=\"\",\"\",SUMIF('الرصيد الثابت'!$D$2:$D$115,B185,'الرصيد الثابت'!$J$2:$J$115))","v":""},null,0,null,null,null,null,0,null,null,null,0,null,0,null,null,null,null,null,null,null,null,null,null,null,null,null,null,null,null,null,null,null,null,null,null,null,null,null,null,null,null,null,null,null,null,null,null,null,null,null,null,null,null,null,null,null,null,null,null,null,null,null,null,null,null,null,null,null,null,null,null,null,null,null,null,null,null,null,{"$f":"IFERROR(VLOOKUP(ROWS($CF$3:CF185),$CH$3:$CI$2001,2,FALSE),\"\")","v":""},null,{"$f":"IF(ISNUMBER(SEARCH(B185,CI185)),MAX($CH$2:CH184)+1,0)","v":0}]
[null,null,{"$f":"IF(B186=\"\",\"\",SUMIF('الرصيد الثابت'!$D$2:$D$115,B186,'الرصيد الثابت'!$H$2:$H$115))","v":""},{"$f":"IF(B186=\"\",\"\",SUMIF('الرصيد الثابت'!$D$2:$D$115,B186,'الرصيد الثابت'!$I$2:$I$115))","v":""},{"$f":"IF(B186=\"\",\"\",SUMIF('الرصيد الثابت'!$D$2:$D$115,B186,'الرصيد الثابت'!$J$2:$J$115))","v":""},null,0,null,null,null,null,0,null,null,null,0,null,0,null,null,null,null,null,null,null,null,null,null,null,null,null,null,null,null,null,null,null,null,null,null,null,null,null,null,null,null,null,null,null,null,null,null,null,null,null,null,null,null,null,null,null,null,null,null,null,null,null,null,null,null,null,null,null,null,null,null,null,null,null,null,null,null,null,{"$f":"IFERROR(VLOOKUP(ROWS($CF$3:CF186),$CH$3:$CI$2001,2,FALSE),\"\")","v":""},null,{"$f":"IF(ISNUMBER(SEARCH(B186,CI186)),MAX($CH$2:CH185)+1,0)","v":0}]
[null,null,{"$f":"IF(B187=\"\",\"\",SUMIF('الرصيد الثابت'!$D$2:$D$115,B187,'الرصيد الثابت'!$H$2:$H$115))","v":""},{"$f":"IF(B187=\"\",\"\",SUMIF('الرصيد الثابت'!$D$2:$D$115,B187,'الرصيد الثابت'!$I$2:$I$115))","v":""},{"$f":"IF(B187=\"\",\"\",SUMIF('الرصيد الثابت'!$D$2:$D$115,B187,'الرصيد الثابت'!$J$2:$J$115))","v":""},null,0,null,null,null,null,0,null,null,null,0,null,0,null,null,null,null,null,null,null,null,null,null,null,null,null,null,null,null,null,null,null,null,null,null,null,null,null,null,null,null,null,null,null,null,null,null,null,null,null,null,null,null,null,null,null,null,null,null,null,null,null,null,null,null,null,null,null,null,null,null,null,null,null,null,null,null,null,{"$f":"IFERROR(VLOOKUP(ROWS($CF$3:CF187),$CH$3:$CI$2001,2,FALSE),\"\")","v":""},null,{"$f":"IF(ISNUMBER(SEARCH(B187,CI187)),MAX($CH$2:CH186)+1,0)","v":0}]
[null,null,{"$f":"IF(B188=\"\",\"\",SUMIF('الرصيد الثابت'!$D$2:$D$115,B188,'الرصيد الثابت'!$H$2:$H$115))","v":""},{"$f":"IF(B188=\"\",\"\",SUMIF('الرصيد الثابت'!$D$2:$D$115,B188,'الرصيد الثابت'!$I$2:$I$115))","v":""},{"$f":"IF(B188=\"\",\"\",SUMIF('الرصيد الثابت'!$D$2:$D$115,B188,'الرصيد الثابت'!$J$2:$J$115))","v":""},null,0,null,null,null,null,0,null,null,null,0,null,0,null,null,null,null,null,null,null,null,null,null,null,null,null,null,null,null,null,null,null,null,null,null,null,null,null,null,null,null,null,null,null,null,null,null,null,null,null,null,null,null,null,null,null,null,null,null,null,null,null,null,null,null,null,null,null,null,null,null,null,null,null,null,null,null,null,{"$f":"IFERROR(VLOOKUP(ROWS($CF$3:CF188),$CH$3:$CI$2001,2,FALSE),\"\")","v":""},null,{"$f":"IF(ISNUMBER(SEARCH(B188,CI188)),MAX($CH$2:CH187)+1,0)","v":0}]
[null,null,{"$f":"IF(B189=\"\",\"\",SUMIF('الرصيد الثابت'!$D$2:$D$115,B189,'الرصيد الثابت'!$H$2:$H$115))","v":""},{"$f":"IF(B189=\"\",\"\",SUMIF('الرصيد الثابت'!$D$2:$D$115,B189,'الرصيد الثابت'!$I$2:$I$115))","v":""},{"$f":"IF(B189=\"\",\"\",SUMIF('الرصيد الثابت'!$D$2:$D$115,B189,'الرصيد الثابت'!$J$2:$J$115))","v":""},null,0,null,null,null,null,0,null,null,null,0,null,0,null,null,null,null,null,null,null,null,null,null,null,null,null,null,null,null,null,null,null,null,null,null,null,null,null,null,null,null,null,null,null,null,null,null,null,null,null,null,null,null,null,null,null,null,null,null,null,null,null,null,null,null,null,null,null,null,null,null,null,null,null,null,null,null,null,{"$f":"IFERROR(VLOOKUP(ROWS($CF$3:CF189),$CH$3:$CI$2001,2,FALSE),\"\")","v":""},null,{"$f":"IF(ISNUMBER(SEARCH(B189,CI189)),MAX($CH$2:CH188)+1,0)","v":0}]
[null,null,{"$f":"IF(B190=\"\",\"\",SUMIF('الرصيد الثابت'!$D$2:$D$115,B190,'الرصيد الثابت'!$H$2:$H$115))","v":""},{"$f":"IF(B190=\"\",\"\",SUMIF('الرصيد الثابت'!$D$2:$D$115,B190,'الرصيد الثابت'!$I$2:$I$115))","v":""},{"$f":"IF(B190=\"\",\"\",SUMIF('الرصيد الثابت'!$D$2:$D$115,B190,'الرصيد الثابت'!$J$2:$J$115))","v":""},null,0,null,null,null,null,0,null,null,null,0,null,0,null,null,null,null,null,null,null,null,null,null,null,null,null,null,null,null,null,null,null,null,null,null,null,null,null,null,null,null,null,null,null,null,null,null,null,null,null,null,null,null,null,null,null,null,null,null,null,null,null,null,null,null,null,null,null,null,null,null,null,null,null,null,null,null,null,{"$f":"IFERROR(VLOOKUP(ROWS($CF$3:CF190),$CH$3:$CI$2001,2,FALSE),\"\")","v":""},null,{"$f":"IF(ISNUMBER(SEARCH(B190,CI190)),MAX($CH$2:CH189)+1,0)","v":0}]
[null,null,{"$f":"IF(B191=\"\",\"\",SUMIF('الرصيد الثابت'!$D$2:$D$115,B191,'الرصيد الثابت'!$H$2:$H$115))","v":""},{"$f":"IF(B191=\"\",\"\",SUMIF('الرصيد الثابت'!$D$2:$D$115,B191,'الرصيد الثابت'!$I$2:$I$115))","v":""},{"$f":"IF(B191=\"\",\"\",SUMIF('الرصيد الثابت'!$D$2:$D$115,B191,'الرصيد الثابت'!$J$2:$J$115))","v":""},null,0,null,null,null,null,0,null,null,null,0,null,0,null,null,null,null,null,null,null,null,null,null,null,null,null,null,null,null,null,null,null,null,null,null,null,null,null,null,null,null,null,null,null,null,null,null,null,null,null,null,null,null,null,null,null,null,null,null,null,null,null,null,null,null,null,null,null,null,null,null,null,null,null,null,null,null,null,{"$f":"IFERROR(VLOOKUP(ROWS($CF$3:CF191),$CH$3:$CI$2001,2,FALSE),\"\")","v":""},null,{"$f":"IF(ISNUMBER(SEARCH(B191,CI191)),MAX($CH$2:CH190)+1,0)","v":0}]
[null,null,{"$f":"IF(B192=\"\",\"\",SUMIF('الرصيد الثابت'!$D$2:$D$115,B192,'الرصيد الثابت'!$H$2:$H$115))","v":""},{"$f":"IF(B192=\"\",\"\",SUMIF('الرصيد الثابت'!$D$2:$D$115,B192,'الرصيد الثابت'!$I$2:$I$115))","v":""},{"$f":"IF(B192=\"\",\"\",SUMIF('الرصيد الثابت'!$D$2:$D$115,B192,'الرصيد الثابت'!$J$2:$J$115))","v":""},null,0,null,null,null,null,0,null,null,null,0,null,0,null,null,null,null,null,null,null,null,null,null,null,null,null,null,null,null,null,null,null,null,null,null,null,null,null,null,null,null,null,null,null,null,null,null,null,null,null,null,null,null,null,null,null,null,null,null,null,null,null,null,null,null,null,null,null,null,null,null,null,null,null,null,null,null,null,{"$f":"IFERROR(VLOOKUP(ROWS($CF$3:CF192),$CH$3:$CI$2001,2,FALSE),\"\")","v":""},null,{"$f":"IF(ISNUMBER(SEARCH(B192,CI192)),MAX($CH$2:CH191)+1,0)","v":0}]
[null,null,{"$f":"IF(B193=\"\",\"\",SUMIF('الرصيد الثابت'!$D$2:$D$115,B193,'الرصيد الثابت'!$H$2:$H$115))","v":""},{"$f":"IF(B193=\"\",\"\",SUMIF('الرصيد الثابت'!$D$2:$D$115,B193,'الرصيد الثابت'!$I$2:$I$115))","v":""},{"$f":"IF(B193=\"\",\"\",SUMIF('الرصيد الثابت'!$D$2:$D$115,B193,'الرصيد الثابت'!$J$2:$J$115))","v":""},null,0,null,null,null,null,0,null,null,null,0,null,0,null,null,null,null,null,null,null,null,null,null,null,null,null,null,null,null,null,null,null,null,null,null,null,null,null,null,null,null,null,null,null,null,null,null,null,null,null,null,null,null,null,null,null,null,null,null,null,null,null,null,null,null,null,null,null,null,null,null,null,null,null,null,null,null,null,{"$f":"IFERROR(VLOOKUP(ROWS($CF$3:CF193),$CH$3:$CI$2001,2,FALSE),\"\")","v":""},null,{"$f":"IF(ISNUMBER(SEARCH(B193,CI193)),MAX($CH$2:CH192)+1,0)","v":0}]
[null,null,{"$f":"IF(B194=\"\",\"\",SUMIF('الرصيد الثابت'!$D$2:$D$115,B194,'الرصيد الثابت'!$H$2:$H$115))","v":""},{"$f":"IF(B194=\"\",\"\",SUMIF('الرصيد الثابت'!$D$2:$D$115,B194,'الرصيد الثابت'!$I$2:$I$115))","v":""},{"$f":"IF(B194=\"\",\"\",SUMIF('الرصيد الثابت'!$D$2:$D$115,B194,'الرصيد الثابت'!$J$2:$J$115))","v":""},null,0,null,null,null,null,0,null,null,null,0,null,0,null,null,null,null,null,null,null,null,null,null,null,null,null,null,null,null,null,null,null,null,null,null,null,null,null,null,null,null,null,null,null,null,null,null,null,null,null,null,null,null,null,null,null,null,null,null,null,null,null,null,null,null,null,null,null,null,null,null,null,null,null,null,null,null,null,{"$f":"IFERROR(VLOOKUP(ROWS($CF$3:CF194),$CH$3:$CI$2001,2,FALSE),\"\")","v":""},null,{"$f":"IF(ISNUMBER(SEARCH(B194,CI194)),MAX($CH$2:CH193)+1,0)","v":0}]
[null,null,{"$f":"IF(B195=\"\",\"\",SUMIF('الرصيد الثابت'!$D$2:$D$115,B195,'الرصيد الثابت'!$H$2:$H$115))","v":""},{"$f":"IF(B195=\"\",\"\",SUMIF('الرصيد الثابت'!$D$2:$D$115,B195,'الرصيد الثابت'!$I$2:$I$115))","v":""},{"$f":"IF(B195=\"\",\"\",SUMIF('الرصيد الثابت'!$D$2:$D$115,B195,'الرصيد الثابت'!$J$2:$J$115))","v":""},null,0,null,null,null,null,{"$f":"SUM(M195*K195)","v":0},null,null,null,0,null,0,null,null,null,null,null,null,null,null,null,null,null,null,null,null,null,null,null,null,null,null,null,null,null,null,null,null,null,null,null,null,null,null,null,null,null,null,null,null,null,null,null,null,null,null,null,null,null,null,null,null,null,null,null,null,null,null,null,null,null,null,null,null,null,null,null,{"$f":"IFERROR(VLOOKUP(ROWS($CF$3:CF195),$CH$3:$CI$2001,2,FALSE),\"\")","v":""},null,{"$f":"IF(ISNUMBER(SEARCH(B195,CI195)),MAX($CH$2:CH194)+1,0)","v":0}]
[null,null,{"$f":"IF(B196=\"\",\"\",SUMIF('الرصيد الثابت'!$D$2:$D$115,B196,'الرصيد الثابت'!$H$2:$H$115))","v":""},{"$f":"IF(B196=\"\",\"\",SUMIF('الرصيد الثابت'!$D$2:$D$115,B196,'الرصيد الثابت'!$I$2:$I$115))","v":""},{"$f":"IF(B196=\"\",\"\",SUMIF('الرصيد الثابت'!$D$2:$D$115,B196,'الرصيد الثابت'!$J$2:$J$115))","v":""},null,{"$f":"SUM(H196*F196)","v":0},null,null,null,null,0,null,null,null,{"$f":"SUM(F196-K196)","v":0},null,0,null,null,null,null,null,null,null,null,null,null,null,null,null,null,null,null,null,null,null,null,null,null,null,null,null,null,null,null,null,null,null,null,null,null,null,null,null,null,null,null,null,null,null,null,null,null,null,null,null,null,null,null,null,null,null,null,null,null,null,null,null,null,null,null,null,{"$f":"IFERROR(VLOOKUP(ROWS($CF$3:CF196),$CH$3:$CI$2001,2,FALSE),\"\")","v":""},null,{"$f":"IF(ISNUMBER(SEARCH(B196,CI196)),MAX($CH$2:CH195)+1,0)","v":0}]
[null,null,{"$f":"IF(B197=\"\",\"\",SUMIF('الرصيد الثابت'!$D$2:$D$115,B197,'الرصيد الثابت'!$H$2:$H$115))","v":""},{"$f":"IF(B197=\"\",\"\",SUMIF('الرصيد الثابت'!$D$2:$D$115,B197,'الرصيد الثابت'!$I$2:$I$115))","v":""},{"$f":"IF(B197=\"\",\"\",SUMIF('الرصيد الثابت'!$D$2:$D$115,B197,'الرصيد الثابت'!$J$2:$J$115))","v":""},null,0,null,null,null,null,0,null,null,null,0,null,0,null,null,null,null,null,null,null,null,null,null,null,null,null,null,null,null,null,null,null,null,null,null,null,null,null,null,null,null,null,null,null,null,null,null,null,null,null,null,null,null,null,null,null,null,null,null,null,null,null,null,null,null,null,null,null,null,null,null,null,null,null,null,null,null,null,{"$f":"IFERROR(VLOOKUP(ROWS($CF$3:CF197),$CH$3:$CI$2001,2,FALSE),\"\")","v":""},null,{"$f":"IF(ISNUMBER(SEARCH(B197,CI197)),MAX($CH$2:CH196)+1,0)","v":0}]
[null,null,{"$f":"IF(B198=\"\",\"\",SUMIF('الرصيد الثابت'!$D$2:$D$115,B198,'الرصيد الثابت'!$H$2:$H$115))","v":""},{"$f":"IF(B198=\"\",\"\",SUMIF('الرصيد الثابت'!$D$2:$D$115,B198,'الرصيد الثابت'!$I$2:$I$115))","v":""},{"$f":"IF(B198=\"\",\"\",SUMIF('الرصيد الثابت'!$D$2:$D$115,B198,'الرصيد الثابت'!$J$2:$J$115))","v":""},null,0,null,null,null,null,0,null,null,null,0,null,0,null,null,null,null,null,null,null,null,null,null,null,null,null,null,null,null,null,null,null,null,null,null,null,null,null,null,null,null,null,null,null,null,null,null,null,null,null,null,null,null,null,null,null,null,null,null,null,null,null,null,null,null,null,null,null,null,null,null,null,null,null,null,null,null,null,{"$f":"IFERROR(VLOOKUP(ROWS($CF$3:CF198),$CH$3:$CI$2001,2,FALSE),\"\")","v":""},null,{"$f":"IF(ISNUMBER(SEARCH(B198,CI198)),MAX($CH$2:CH197)+1,0)","v":0}]
[null,null,{"$f":"IF(B199=\"\",\"\",SUMIF('الرصيد الثابت'!$D$2:$D$115,B199,'الرصيد الثابت'!$H$2:$H$115))","v":""},{"$f":"IF(B199=\"\",\"\",SUMIF('الرصيد الثابت'!$D$2:$D$115,B199,'الرصيد الثابت'!$I$2:$I$115))","v":""},{"$f":"IF(B199=\"\",\"\",SUMIF('الرصيد الثابت'!$D$2:$D$115,B199,'الرصيد الثابت'!$J$2:$J$115))","v":""},null,0,null,null,null,null,0,null,null,null,0,null,{"$f":"SUM(S199*Q199)","v":0},null,null,null,null,null,null,null,null,null,null,null,null,null,null,null,null,null,null,null,null,null,null,null,null,null,null,null,null,null,null,null,null,null,null,null,null,null,null,null,null,null,null,null,null,null,null,null,null,null,null,null,null,null,null,null,null,null,null,null,null,null,null,null,null,null,{"$f":"IFERROR(VLOOKUP(ROWS($CF$3:CF199),$CH$3:$CI$2001,2,FALSE),\"\")","v":""},null,{"$f":"IF(ISNUMBER(SEARCH(B199,CI199)),MAX($CH$2:CH198)+1,0)","v":0}]
[null,null,{"$f":"IF(B200=\"\",\"\",SUMIF('الرصيد الثابت'!$D$2:$D$115,B200,'الرصيد الثابت'!$H$2:$H$115))","v":""},{"$f":"IF(B200=\"\",\"\",SUMIF('الرصيد الثابت'!$D$2:$D$115,B200,'الرصيد الثابت'!$I$2:$I$115))","v":""},{"$f":"IF(B200=\"\",\"\",SUMIF('الرصيد الثابت'!$D$2:$D$115,B200,'الرصيد الثابت'!$J$2:$J$115))","v":""},null,0,null,null,null,null,0,null,null,null,0,null,0,null,null,null,null,null,null,null,null,null,null,null,null,null,null,null,null,null,null,null,null,null,null,null,null,null,null,null,null,null,null,null,null,null,null,null,null,null,null,null,null,null,null,null,null,null,null,null,null,null,null,null,null,null,null,null,null,null,null,null,null,null,null,null,null,null,{"$f":"IFERROR(VLOOKUP(ROWS($CF$3:CF200),$CH$3:$CI$2001,2,FALSE),\"\")","v":""},null,{"$f":"IF(ISNUMBER(SEARCH(B200,CI200)),MAX($CH$2:CH199)+1,0)","v":0}]
[null,null,{"$f":"IF(B201=\"\",\"\",SUMIF('الرصيد الثابت'!$D$2:$D$115,B201,'الرصيد الثابت'!$H$2:$H$115))","v":""},{"$f":"IF(B201=\"\",\"\",SUMIF('الرصيد الثابت'!$D$2:$D$115,B201,'الرصيد الثابت'!$I$2:$I$115))","v":""},{"$f":"IF(B201=\"\",\"\",SUMIF('الرصيد الثابت'!$D$2:$D$115,B201,'الرصيد الثابت'!$J$2:$J$115))","v":""},null,0,null,null,null,null,0,null,null,null,0,null,0,null,null,null,null,null,null,null,null,null,null,null,null,null,null,null,null,null,null,null,null,null,null,null,null,null,null,null,null,null,null,null,null,null,null,null,null,null,null,null,null,null,null,null,null,null,null,null,null,null,null,null,null,null,null,null,null,null,null,null,null,null,null,null,null,null,{"$f":"IFERROR(VLOOKUP(ROWS($CF$3:CF201),$CH$3:$CI$2001,2,FALSE),\"\")","v":""},null,{"$f":"IF(ISNUMBER(SEARCH(B201,CI201)),MAX($CH$2:CH200)+1,0)","v":0}]
[null,null,{"$f":"IF(B202=\"\",\"\",SUMIF('الرصيد الثابت'!$D$2:$D$115,B202,'الرصيد الثابت'!$H$2:$H$115))","v":""},{"$f":"IF(B202=\"\",\"\",SUMIF('الرصيد الثابت'!$D$2:$D$115,B202,'الرصيد الثابت'!$I$2:$I$115))","v":""},{"$f":"IF(B202=\"\",\"\",SUMIF('الرصيد الثابت'!$D$2:$D$115,B202,'الرصيد الثابت'!$J$2:$J$115))","v":""},null,0,null,null,null,null,0,null,null,null,0,null,0,null,null,null,null,null,null,null,null,null,null,null,null,null,null,null,null,null,null,null,null,null,null,null,null,null,null,null,null,null,null,null,null,null,null,null,null,null,null,null,null,null,null,null,null,null,null,null,null,null,null,null,null,null,null,null,null,null,null,null,null,null,null,null,null,null,{"$f":"IFERROR(VLOOKUP(ROWS($CF$3:CF202),$CH$3:$CI$2001,2,FALSE),\"\")","v":""},null,{"$f":"IF(ISNUMBER(SEARCH(B202,CI202)),MAX($CH$2:CH201)+1,0)","v":0}]
[null,null,{"$f":"IF(B203=\"\",\"\",SUMIF('الرصيد الثابت'!$D$2:$D$115,B203,'الرصيد الثابت'!$H$2:$H$115))","v":""},{"$f":"IF(B203=\"\",\"\",SUMIF('الرصيد الثابت'!$D$2:$D$115,B203,'الرصيد الثابت'!$I$2:$I$115))","v":""},{"$f":"IF(B203=\"\",\"\",SUMIF('الرصيد الثابت'!$D$2:$D$115,B203,'الرصيد الثابت'!$J$2:$J$115))","v":""},null,0,null,null,null,null,0,null,null,null,0,null,0,null,null,null,null,null,null,null,null,null,null,null,null,null,null,null,null,null,null,null,null,null,null,null,null,null,null,null,null,null,null,null,null,null,null,null,null,null,null,null,null,null,null,null,null,null,null,null,null,null,null,null,null,null,null,null,null,null,null,null,null,null,null,null,null,null,{"$f":"IFERROR(VLOOKUP(ROWS($CF$3:CF203),$CH$3:$CI$2001,2,FALSE),\"\")","v":""},null,{"$f":"IF(ISNUMBER(SEARCH(B203,CI203)),MAX($CH$2:CH202)+1,0)","v":0}]
[null,null,{"$f":"IF(B204=\"\",\"\",SUMIF('الرصيد الثابت'!$D$2:$D$115,B204,'الرصيد الثابت'!$H$2:$H$115))","v":""},{"$f":"IF(B204=\"\",\"\",SUMIF('الرصيد الثابت'!$D$2:$D$115,B204,'الرصيد الثابت'!$I$2:$I$115))","v":""},{"$f":"IF(B204=\"\",\"\",SUMIF('الرصيد الثابت'!$D$2:$D$115,B204,'الرصيد الثابت'!$J$2:$J$115))","v":""},null,0,null,null,null,null,0,null,null,null,0,null,0,null,null,null,null,null,null,null,null,null,null,null,null,null,null,null,null,null,null,null,null,null,null,null,null,null,null,null,null,null,null,null,null,null,null,null,null,null,null,null,null,null,null,null,null,null,null,null,null,null,null,null,null,null,null,null,null,null,null,null,null,null,null,null,null,null,{"$f":"IFERROR(VLOOKUP(ROWS($CF$3:CF204),$CH$3:$CI$2001,2,FALSE),\"\")","v":""},null,{"$f":"IF(ISNUMBER(SEARCH(B204,CI204)),MAX($CH$2:CH203)+1,0)","v":0}]
[null,null,{"$f":"IF(B205=\"\",\"\",SUMIF('الرصيد الثابت'!$D$2:$D$115,B205,'الرصيد الثابت'!$H$2:$H$115))","v":""},{"$f":"IF(B205=\"\",\"\",SUMIF('الرصيد الثابت'!$D$2:$D$115,B205,'الرصيد الثابت'!$I$2:$I$115))","v":""},{"$f":"IF(B205=\"\",\"\",SUMIF('الرصيد الثابت'!$D$2:$D$115,B205,'الرصيد الثابت'!$J$2:$J$115))","v":""},null,0,null,null,null,null,0,null,null,null,0,null,0,null,null,null,null,null,null,null,null,null,null,null,null,null,null,null,null,null,null,null,null,null,null,null,null,null,null,null,null,null,null,null,null,null,null,null,null,null,null,null,null,null,null,null,null,null,null,null,null,null,null,null,null,null,null,null,null,null,null,null,null,null,null,null,null,null,{"$f":"IFERROR(VLOOKUP(ROWS($CF$3:CF205),$CH$3:$CI$2001,2,FALSE),\"\")","v":""},null,{"$f":"IF(ISNUMBER(SEARCH(B205,CI205)),MAX($CH$2:CH204)+1,0)","v":0}]
[null,null,{"$f":"IF(B206=\"\",\"\",SUMIF('الرصيد الثابت'!$D$2:$D$115,B206,'الرصيد الثابت'!$H$2:$H$115))","v":""},{"$f":"IF(B206=\"\",\"\",SUMIF('الرصيد الثابت'!$D$2:$D$115,B206,'الرصيد الثابت'!$I$2:$I$115))","v":""},{"$f":"IF(B206=\"\",\"\",SUMIF('الرصيد الثابت'!$D$2:$D$115,B206,'الرصيد الثابت'!$J$2:$J$115))","v":""},null,0,null,null,null,null,0,null,null,null,0,null,0,null,null,null,null,null,null,null,null,null,null,null,null,null,null,null,null,null,null,null,null,null,null,null,null,null,null,null,null,null,null,null,null,null,null,null,null,null,null,null,null,null,null,null,null,null,null,null,null,null,null,null,null,null,null,null,null,null,null,null,null,null,null,null,null,null,{"$f":"IFERROR(VLOOKUP(ROWS($CF$3:CF206),$CH$3:$CI$2001,2,FALSE),\"\")","v":""},null,{"$f":"IF(ISNUMBER(SEARCH(B206,CI206)),MAX($CH$2:CH205)+1,0)","v":0}]
[null,null,{"$f":"IF(B207=\"\",\"\",SUMIF('الرصيد الثابت'!$D$2:$D$115,B207,'الرصيد الثابت'!$H$2:$H$115))","v":""},{"$f":"IF(B207=\"\",\"\",SUMIF('الرصيد الثابت'!$D$2:$D$115,B207,'الرصيد الثابت'!$I$2:$I$115))","v":""},{"$f":"IF(B207=\"\",\"\",SUMIF('الرصيد الثابت'!$D$2:$D$115,B207,'الرصيد الثابت'!$J$2:$J$115))","v":""},null,0,null,null,null,null,0,null,null,null,0,null,0,null,null,null,null,null,null,null,null,null,null,null,null,null,null,null,null,null,null,null,null,null,null,null,null,null,null,null,null,null,null,null,null,null,null,null,null,null,null,null,null,null,null,null,null,null,null,null,null,null,null,null,null,null,null,null,null,null,null,null,null,null,null,null,null,null,{"$f":"IFERROR(VLOOKUP(ROWS($CF$3:CF207),$CH$3:$CI$2001,2,FALSE),\"\")","v":""},null,{"$f":"IF(ISNUMBER(SEARCH(B207,CI207)),MAX($CH$2:CH206)+1,0)","v":0}]
[null,null,{"$f":"IF(B208=\"\",\"\",SUMIF('الرصيد الثابت'!$D$2:$D$115,B208,'الرصيد الثابت'!$H$2:$H$115))","v":""},{"$f":"IF(B208=\"\",\"\",SUMIF('الرصيد الثابت'!$D$2:$D$115,B208,'الرصيد الثابت'!$I$2:$I$115))","v":""},{"$f":"IF(B208=\"\",\"\",SUMIF('الرصيد الثابت'!$D$2:$D$115,B208,'الرصيد الثابت'!$J$2:$J$115))","v":""},null,0,null,null,null,null,0,null,null,null,0,null,0,null,null,null,null,null,null,null,null,null,null,null,null,null,null,null,null,null,null,null,null,null,null,null,null,null,null,null,null,null,null,null,null,null,null,null,null,null,null,null,null,null,null,null,null,null,null,null,null,null,null,null,null,null,null,null,null,null,null,null,null,null,null,null,null,null,{"$f":"IFERROR(VLOOKUP(ROWS($CF$3:CF208),$CH$3:$CI$2001,2,FALSE),\"\")","v":""},null,{"$f":"IF(ISNUMBER(SEARCH(B208,CI208)),MAX($CH$2:CH207)+1,0)","v":0}]
[null,null,{"$f":"IF(B209=\"\",\"\",SUMIF('الرصيد الثابت'!$D$2:$D$115,B209,'الرصيد الثابت'!$H$2:$H$115))","v":""},{"$f":"IF(B209=\"\",\"\",SUMIF('الرصيد الثابت'!$D$2:$D$115,B209,'الرصيد الثابت'!$I$2:$I$115))","v":""},{"$f":"IF(B209=\"\",\"\",SUMIF('الرصيد الثابت'!$D$2:$D$115,B209,'الرصيد الثابت'!$J$2:$J$115))","v":""},null,0,null,null,null,null,0,null,null,null,0,null,0,null,null,null,null,null,null,null,null,null,null,null,null,null,null,null,null,null,null,null,null,null,null,null,null,null,null,null,null,null,null,null,null,null,null,null,null,null,null,null,null,null,null,null,null,null,null,null,null,null,null,null,null,null,null,null,null,null,null,null,null,null,null,null,null,null,{"$f":"IFERROR(VLOOKUP(ROWS($CF$3:CF209),$CH$3:$CI$2001,2,FALSE),\"\")","v":""},null,{"$f":"IF(ISNUMBER(SEARCH(B209,CI209)),MAX($CH$2:CH208)+1,0)","v":0}]
[null,null,{"$f":"IF(B210=\"\",\"\",SUMIF('الرصيد الثابت'!$D$2:$D$115,B210,'الرصيد الثابت'!$H$2:$H$115))","v":""},{"$f":"IF(B210=\"\",\"\",SUMIF('الرصيد الثابت'!$D$2:$D$115,B210,'الرصيد الثابت'!$I$2:$I$115))","v":""},{"$f":"IF(B210=\"\",\"\",SUMIF('الرصيد الثابت'!$D$2:$D$115,B210,'الرصيد الثابت'!$J$2:$J$115))","v":""},null,0,null,null,null,null,0,null,null,null,0,null,0,null,null,null,null,null,null,null,null,null,null,null,null,null,null,null,null,null,null,null,null,null,null,null,null,null,null,null,null,null,null,null,null,null,null,null,null,null,null,null,null,null,null,null,null,null,null,null,null,null,null,null,null,null,null,null,null,null,null,null,null,null,null,null,null,null,{"$f":"IFERROR(VLOOKUP(ROWS($CF$3:CF210),$CH$3:$CI$2001,2,FALSE),\"\")","v":""},null,{"$f":"IF(ISNUMBER(SEARCH(B210,CI210)),MAX($CH$2:CH209)+1,0)","v":0}]
[null,null,{"$f":"IF(B211=\"\",\"\",SUMIF('الرصيد الثابت'!$D$2:$D$115,B211,'الرصيد الثابت'!$H$2:$H$115))","v":""},{"$f":"IF(B211=\"\",\"\",SUMIF('الرصيد الثابت'!$D$2:$D$115,B211,'الرصيد الثابت'!$I$2:$I$115))","v":""},{"$f":"IF(B211=\"\",\"\",SUMIF('الرصيد الثابت'!$D$2:$D$115,B211,'الرصيد الثابت'!$J$2:$J$115))","v":""},null,0,null,null,null,null,0,null,null,null,0,null,0,null,null,null,null,null,null,null,null,null,null,null,null,null,null,null,null,null,null,null,null,null,null,null,null,null,null,null,null,null,null,null,null,null,null,null,null,null,null,null,null,null,null,null,null,null,null,null,null,null,null,null,null,null,null,null,null,null,null,null,null,null,null,null,null,null,{"$f":"IFERROR(VLOOKUP(ROWS($CF$3:CF211),$CH$3:$CI$2001,2,FALSE),\"\")","v":""},null,{"$f":"IF(ISNUMBER(SEARCH(B211,CI211)),MAX($CH$2:CH210)+1,0)","v":0}]
[null,null,{"$f":"IF(B212=\"\",\"\",SUMIF('الرصيد الثابت'!$D$2:$D$115,B212,'الرصيد الثابت'!$H$2:$H$115))","v":""},{"$f":"IF(B212=\"\",\"\",SUMIF('الرصيد الثابت'!$D$2:$D$115,B212,'الرصيد الثابت'!$I$2:$I$115))","v":""},{"$f":"IF(B212=\"\",\"\",SUMIF('الرصيد الثابت'!$D$2:$D$115,B212,'الرصيد الثابت'!$J$2:$J$115))","v":""},null,0,null,null,null,null,0,null,null,null,0,null,0,null,null,null,null,null,null,null,null,null,null,null,null,null,null,null,null,null,null,null,null,null,null,null,null,null,null,null,null,null,null,null,null,null,null,null,null,null,null,null,null,null,null,null,null,null,null,null,null,null,null,null,null,null,null,null,null,null,null,null,null,null,null,null,null,null,{"$f":"IFERROR(VLOOKUP(ROWS($CF$3:CF212),$CH$3:$CI$2001,2,FALSE),\"\")","v":""},null,{"$f":"IF(ISNUMBER(SEARCH(B212,CI212)),MAX($CH$2:CH211)+1,0)","v":0}]
[null,null,{"$f":"IF(B213=\"\",\"\",SUMIF('الرصيد الثابت'!$D$2:$D$115,B213,'الرصيد الثابت'!$H$2:$H$115))","v":""},{"$f":"IF(B213=\"\",\"\",SUMIF('الرصيد الثابت'!$D$2:$D$115,B213,'الرصيد الثابت'!$I$2:$I$115))","v":""},{"$f":"IF(B213=\"\",\"\",SUMIF('الرصيد الثابت'!$D$2:$D$115,B213,'الرصيد الثابت'!$J$2:$J$115))","v":""},null,0,null,null,null,null,0,null,null,null,0,null,0,null,null,null,null,null,null,null,null,null,null,null,null,null,null,null,null,null,null,null,null,null,null,null,null,null,null,null,null,null,null,null,null,null,null,null,null,null,null,null,null,null,null,null,null,null,null,null,null,null,null,null,null,null,null,null,null,null,null,null,null,null,null,null,null,null,{"$f":"IFERROR(VLOOKUP(ROWS($CF$3:CF213),$CH$3:$CI$2001,2,FALSE),\"\")","v":""},null,{"$f":"IF(ISNUMBER(SEARCH(B213,CI213)),MAX($CH$2:CH212)+1,0)","v":0}]
[null,null,{"$f":"IF(B214=\"\",\"\",SUMIF('الرصيد الثابت'!$D$2:$D$115,B214,'الرصيد الثابت'!$H$2:$H$115))","v":""},{"$f":"IF(B214=\"\",\"\",SUMIF('الرصيد الثابت'!$D$2:$D$115,B214,'الرصيد الثابت'!$I$2:$I$115))","v":""},{"$f":"IF(B214=\"\",\"\",SUMIF('الرصيد الثابت'!$D$2:$D$115,B214,'الرصيد الثابت'!$J$2:$J$115))","v":""},null,0,null,null,null,null,0,null,null,null,0,null,0,null,null,null,null,null,null,null,null,null,null,null,null,null,null,null,null,null,null,null,null,null,null,null,null,null,null,null,null,null,null,null,null,null,null,null,null,null,null,null,null,null,null,null,null,null,null,null,null,null,null,null,null,null,null,null,null,null,null,null,null,null,null,null,null,null,{"$f":"IFERROR(VLOOKUP(ROWS($CF$3:CF214),$CH$3:$CI$2001,2,FALSE),\"\")","v":""},null,{"$f":"IF(ISNUMBER(SEARCH(B214,CI214)),MAX($CH$2:CH213)+1,0)","v":0}]
[null,null,{"$f":"IF(B215=\"\",\"\",SUMIF('الرصيد الثابت'!$D$2:$D$115,B215,'الرصيد الثابت'!$H$2:$H$115))","v":""},{"$f":"IF(B215=\"\",\"\",SUMIF('الرصيد الثابت'!$D$2:$D$115,B215,'الرصيد الثابت'!$I$2:$I$115))","v":""},{"$f":"IF(B215=\"\",\"\",SUMIF('الرصيد الثابت'!$D$2:$D$115,B215,'الرصيد الثابت'!$J$2:$J$115))","v":""},null,0,null,null,null,null,0,null,null,null,0,null,0,null,null,null,null,null,null,null,null,null,null,null,null,null,null,null,null,null,null,null,null,null,null,null,null,null,null,null,null,null,null,null,null,null,null,null,null,null,null,null,null,null,null,null,null,null,null,null,null,null,null,null,null,null,null,null,null,null,null,null,null,null,null,null,null,null,{"$f":"IFERROR(VLOOKUP(ROWS($CF$3:CF215),$CH$3:$CI$2001,2,FALSE),\"\")","v":""},null,{"$f":"IF(ISNUMBER(SEARCH(B215,CI215)),MAX($CH$2:CH214)+1,0)","v":0}]
[null,null,{"$f":"IF(B216=\"\",\"\",SUMIF('الرصيد الثابت'!$D$2:$D$115,B216,'الرصيد الثابت'!$H$2:$H$115))","v":""},{"$f":"IF(B216=\"\",\"\",SUMIF('الرصيد الثابت'!$D$2:$D$115,B216,'الرصيد الثابت'!$I$2:$I$115))","v":""},{"$f":"IF(B216=\"\",\"\",SUMIF('الرصيد الثابت'!$D$2:$D$115,B216,'الرصيد الثابت'!$J$2:$J$115))","v":""},null,0,null,null,null,null,0,null,null,null,0,null,0,null,null,null,null,null,null,null,null,null,null,null,null,null,null,null,null,null,null,null,null,null,null,null,null,null,null,null,null,null,null,null,null,null,null,null,null,null,null,null,null,null,null,null,null,null,null,null,null,null,null,null,null,null,null,null,null,null,null,null,null,null,null,null,null,null,{"$f":"IFERROR(VLOOKUP(ROWS($CF$3:CF216),$CH$3:$CI$2001,2,FALSE),\"\")","v":""},null,{"$f":"IF(ISNUMBER(SEARCH(B216,CI216)),MAX($CH$2:CH215)+1,0)","v":0}]
[null,null,{"$f":"IF(B217=\"\",\"\",SUMIF('الرصيد الثابت'!$D$2:$D$115,B217,'الرصيد الثابت'!$H$2:$H$115))","v":""},{"$f":"IF(B217=\"\",\"\",SUMIF('الرصيد الثابت'!$D$2:$D$115,B217,'الرصيد الثابت'!$I$2:$I$115))","v":""},{"$f":"IF(B217=\"\",\"\",SUMIF('الرصيد الثابت'!$D$2:$D$115,B217,'الرصيد الثابت'!$J$2:$J$115))","v":""},null,0,null,null,null,null,0,null,null,null,0,null,0,null,null,null,null,null,null,null,null,null,null,null,null,null,null,null,null,null,null,null,null,null,null,null,null,null,null,null,null,null,null,null,null,null,null,null,null,null,null,null,null,null,null,null,null,null,null,null,null,null,null,null,null,null,null,null,null,null,null,null,null,null,null,null,null,null,{"$f":"IFERROR(VLOOKUP(ROWS($CF$3:CF217),$CH$3:$CI$2001,2,FALSE),\"\")","v":""},null,{"$f":"IF(ISNUMBER(SEARCH(B217,CI217)),MAX($CH$2:CH216)+1,0)","v":0}]
[null,null,{"$f":"IF(B218=\"\",\"\",SUMIF('الرصيد الثابت'!$D$2:$D$115,B218,'الرصيد الثابت'!$H$2:$H$115))","v":""},{"$f":"IF(B218=\"\",\"\",SUMIF('الرصيد الثابت'!$D$2:$D$115,B218,'الرصيد الثابت'!$I$2:$I$115))","v":""},{"$f":"IF(B218=\"\",\"\",SUMIF('الرصيد الثابت'!$D$2:$D$115,B218,'الرصيد الثابت'!$J$2:$J$115))","v":""},null,0,null,null,null,null,0,null,null,null,0,null,0,null,null,null,null,null,null,null,null,null,null,null,null,null,null,null,null,null,null,null,null,null,null,null,null,null,null,null,null,null,null,null,null,null,null,null,null,null,null,null,null,null,null,null,null,null,null,null,null,null,null,null,null,null,null,null,null,null,null,null,null,null,null,null,null,null,{"$f":"IFERROR(VLOOKUP(ROWS($CF$3:CF218),$CH$3:$CI$2001,2,FALSE),\"\")","v":""},null,{"$f":"IF(ISNUMBER(SEARCH(B218,CI218)),MAX($CH$2:CH217)+1,0)","v":0}]
[null,null,{"$f":"IF(B219=\"\",\"\",SUMIF('الرصيد الثابت'!$D$2:$D$115,B219,'الرصيد الثابت'!$H$2:$H$115))","v":""},{"$f":"IF(B219=\"\",\"\",SUMIF('الرصيد الثابت'!$D$2:$D$115,B219,'الرصيد الثابت'!$I$2:$I$115))","v":""},{"$f":"IF(B219=\"\",\"\",SUMIF('الرصيد الثابت'!$D$2:$D$115,B219,'الرصيد الثابت'!$J$2:$J$115))","v":""},null,0,null,null,null,null,0,null,null,null,0,null,0,null,null,null,null,null,null,null,null,null,null,null,null,null,null,null,null,null,null,null,null,null,null,null,null,null,null,null,null,null,null,null,null,null,null,null,null,null,null,null,null,null,null,null,null,null,null,null,null,null,null,null,null,null,null,null,null,null,null,null,null,null,null,null,null,null,{"$f":"IFERROR(VLOOKUP(ROWS($CF$3:CF219),$CH$3:$CI$2001,2,FALSE),\"\")","v":""},null,{"$f":"IF(ISNUMBER(SEARCH(B219,CI219)),MAX($CH$2:CH218)+1,0)","v":0}]
[null,null,{"$f":"IF(B220=\"\",\"\",SUMIF('الرصيد الثابت'!$D$2:$D$115,B220,'الرصيد الثابت'!$H$2:$H$115))","v":""},{"$f":"IF(B220=\"\",\"\",SUMIF('الرصيد الثابت'!$D$2:$D$115,B220,'الرصيد الثابت'!$I$2:$I$115))","v":""},{"$f":"IF(B220=\"\",\"\",SUMIF('الرصيد الثابت'!$D$2:$D$115,B220,'الرصيد الثابت'!$J$2:$J$115))","v":""},null,0,null,null,null,null,0,null,null,null,0,null,0,null,null,null,null,null,null,null,null,null,null,null,null,null,null,null,null,null,null,null,null,null,null,null,null,null,null,null,null,null,null,null,null,null,null,null,null,null,null,null,null,null,null,null,null,null,null,null,null,null,null,null,null,null,null,null,null,null,null,null,null,null,null,null,null,null,{"$f":"IFERROR(VLOOKUP(ROWS($CF$3:CF220),$CH$3:$CI$2001,2,FALSE),\"\")","v":""},null,{"$f":"IF(ISNUMBER(SEARCH(B220,CI220)),MAX($CH$2:CH219)+1,0)","v":0}]
[null,null,{"$f":"IF(B221=\"\",\"\",SUMIF('الرصيد الثابت'!$D$2:$D$115,B221,'الرصيد الثابت'!$H$2:$H$115))","v":""},{"$f":"IF(B221=\"\",\"\",SUMIF('الرصيد الثابت'!$D$2:$D$115,B221,'الرصيد الثابت'!$I$2:$I$115))","v":""},{"$f":"IF(B221=\"\",\"\",SUMIF('الرصيد الثابت'!$D$2:$D$115,B221,'الرصيد الثابت'!$J$2:$J$115))","v":""},null,0,null,null,null,null,0,null,null,null,0,null,0,null,null,null,null,null,null,null,null,null,null,null,null,null,null,null,null,null,null,null,null,null,null,null,null,null,null,null,null,null,null,null,null,null,null,null,null,null,null,null,null,null,null,null,null,null,null,null,null,null,null,null,null,null,null,null,null,null,null,null,null,null,null,null,null,null,{"$f":"IFERROR(VLOOKUP(ROWS($CF$3:CF221),$CH$3:$CI$2001,2,FALSE),\"\")","v":""},null,{"$f":"IF(ISNUMBER(SEARCH(B221,CI221)),MAX($CH$2:CH220)+1,0)","v":0}]
[null,null,{"$f":"IF(B222=\"\",\"\",SUMIF('الرصيد الثابت'!$D$2:$D$115,B222,'الرصيد الثابت'!$H$2:$H$115))","v":""},{"$f":"IF(B222=\"\",\"\",SUMIF('الرصيد الثابت'!$D$2:$D$115,B222,'الرصيد الثابت'!$I$2:$I$115))","v":""},{"$f":"IF(B222=\"\",\"\",SUMIF('الرصيد الثابت'!$D$2:$D$115,B222,'الرصيد الثابت'!$J$2:$J$115))","v":""},null,0,null,null,null,null,0,null,null,null,0,null,0,null,null,null,null,null,null,null,null,null,null,null,null,null,null,null,null,null,null,null,null,null,null,null,null,null,null,null,null,null,null,null,null,null,null,null,null,null,null,null,null,null,null,null,null,null,null,null,null,null,null,null,null,null,null,null,null,null,null,null,null,null,null,null,null,null,{"$f":"IFERROR(VLOOKUP(ROWS($CF$3:CF222),$CH$3:$CI$2001,2,FALSE),\"\")","v":""},null,{"$f":"IF(ISNUMBER(SEARCH(B222,CI222)),MAX($CH$2:CH221)+1,0)","v":0}]
[null,null,{"$f":"IF(B223=\"\",\"\",SUMIF('الرصيد الثابت'!$D$2:$D$115,B223,'الرصيد الثابت'!$H$2:$H$115))","v":""},{"$f":"IF(B223=\"\",\"\",SUMIF('الرصيد الثابت'!$D$2:$D$115,B223,'الرصيد الثابت'!$I$2:$I$115))","v":""},{"$f":"IF(B223=\"\",\"\",SUMIF('الرصيد الثابت'!$D$2:$D$115,B223,'الرصيد الثابت'!$J$2:$J$115))","v":""},null,0,null,null,null,null,0,null,null,null,0,null,0,null,null,null,null,null,null,null,null,null,null,null,null,null,null,null,null,null,null,null,null,null,null,null,null,null,null,null,null,null,null,null,null,null,null,null,null,null,null,null,null,null,null,null,null,null,null,null,null,null,null,null,null,null,null,null,null,null,null,null,null,null,null,null,null,null,{"$f":"IFERROR(VLOOKUP(ROWS($CF$3:CF223),$CH$3:$CI$2001,2,FALSE),\"\")","v":""},null,{"$f":"IF(ISNUMBER(SEARCH(B223,CI223)),MAX($CH$2:CH222)+1,0)","v":0}]
[null,null,{"$f":"IF(B224=\"\",\"\",SUMIF('الرصيد الثابت'!$D$2:$D$115,B224,'الرصيد الثابت'!$H$2:$H$115))","v":""},{"$f":"IF(B224=\"\",\"\",SUMIF('الرصيد الثابت'!$D$2:$D$115,B224,'الرصيد الثابت'!$I$2:$I$115))","v":""},{"$f":"IF(B224=\"\",\"\",SUMIF('الرصيد الثابت'!$D$2:$D$115,B224,'الرصيد الثابت'!$J$2:$J$115))","v":""},null,0,null,null,null,null,0,null,null,null,0,null,0,null,null,null,null,null,null,null,null,null,null,null,null,null,null,null,null,null,null,null,null,null,null,null,null,null,null,null,null,null,null,null,null,null,null,null,null,null,null,null,null,null,null,null,null,null,null,null,null,null,null,null,null,null,null,null,null,null,null,null,null,null,null,null,null,null,{"$f":"IFERROR(VLOOKUP(ROWS($CF$3:CF224),$CH$3:$CI$2001,2,FALSE),\"\")","v":""},null,{"$f":"IF(ISNUMBER(SEARCH(B224,CI224)),MAX($CH$2:CH223)+1,0)","v":0}]
[null,null,{"$f":"IF(B225=\"\",\"\",SUMIF('الرصيد الثابت'!$D$2:$D$115,B225,'الرصيد الثابت'!$H$2:$H$115))","v":""},{"$f":"IF(B225=\"\",\"\",SUMIF('الرصيد الثابت'!$D$2:$D$115,B225,'الرصيد الثابت'!$I$2:$I$115))","v":""},{"$f":"IF(B225=\"\",\"\",SUMIF('الرصيد الثابت'!$D$2:$D$115,B225,'الرصيد الثابت'!$J$2:$J$115))","v":""},null,0,null,null,null,null,0,null,null,null,0,null,0,null,null,null,null,null,null,null,null,null,null,null,null,null,null,null,null,null,null,null,null,null,null,null,null,null,null,null,null,null,null,null,null,null,null,null,null,null,null,null,null,null,null,null,null,null,null,null,null,null,null,null,null,null,null,null,null,null,null,null,null,null,null,null,null,null,{"$f":"IFERROR(VLOOKUP(ROWS($CF$3:CF225),$CH$3:$CI$2001,2,FALSE),\"\")","v":""},null,{"$f":"IF(ISNUMBER(SEARCH(B225,CI225)),MAX($CH$2:CH224)+1,0)","v":0}]
[null,null,{"$f":"IF(B226=\"\",\"\",SUMIF('الرصيد الثابت'!$D$2:$D$115,B226,'الرصيد الثابت'!$H$2:$H$115))","v":""},{"$f":"IF(B226=\"\",\"\",SUMIF('الرصيد الثابت'!$D$2:$D$115,B226,'الرصيد الثابت'!$I$2:$I$115))","v":""},{"$f":"IF(B226=\"\",\"\",SUMIF('الرصيد الثابت'!$D$2:$D$115,B226,'الرصيد الثابت'!$J$2:$J$115))","v":""},null,0,null,null,null,null,0,null,null,null,0,null,0,null,null,null,null,null,null,null,null,null,null,null,null,null,null,null,null,null,null,null,null,null,null,null,null,null,null,null,null,null,null,null,null,null,null,null,null,null,null,null,null,null,null,null,null,null,null,null,null,null,null,null,null,null,null,null,null,null,null,null,null,null,null,null,null,null,{"$f":"IFERROR(VLOOKUP(ROWS($CF$3:CF226),$CH$3:$CI$2001,2,FALSE),\"\")","v":""},null,{"$f":"IF(ISNUMBER(SEARCH(B226,CI226)),MAX($CH$2:CH225)+1,0)","v":0}]
[null,null,{"$f":"IF(B227=\"\",\"\",SUMIF('الرصيد الثابت'!$D$2:$D$115,B227,'الرصيد الثابت'!$H$2:$H$115))","v":""},{"$f":"IF(B227=\"\",\"\",SUMIF('الرصيد الثابت'!$D$2:$D$115,B227,'الرصيد الثابت'!$I$2:$I$115))","v":""},{"$f":"IF(B227=\"\",\"\",SUMIF('الرصيد الثابت'!$D$2:$D$115,B227,'الرصيد الثابت'!$J$2:$J$115))","v":""},null,0,null,null,null,null,0,null,null,null,0,null,0,null,null,null,null,null,null,null,null,null,null,null,null,null,null,null,null,null,null,null,null,null,null,null,null,null,null,null,null,null,null,null,null,null,null,null,null,null,null,null,null,null,null,null,null,null,null,null,null,null,null,null,null,null,null,null,null,null,null,null,null,null,null,null,null,null,{"$f":"IFERROR(VLOOKUP(ROWS($CF$3:CF227),$CH$3:$CI$2001,2,FALSE),\"\")","v":""},null,{"$f":"IF(ISNUMBER(SEARCH(B227,CI227)),MAX($CH$2:CH226)+1,0)","v":0}]
[null,null,{"$f":"IF(B228=\"\",\"\",SUMIF('الرصيد الثابت'!$D$2:$D$115,B228,'الرصيد الثابت'!$H$2:$H$115))","v":""},{"$f":"IF(B228=\"\",\"\",SUMIF('الرصيد الثابت'!$D$2:$D$115,B228,'الرصيد الثابت'!$I$2:$I$115))","v":""},{"$f":"IF(B228=\"\",\"\",SUMIF('الرصيد الثابت'!$D$2:$D$115,B228,'الرصيد الثابت'!$J$2:$J$115))","v":""},null,0,null,null,null,null,0,null,null,null,0,null,0,null,null,null,null,null,null,null,null,null,null,null,null,null,null,null,null,null,null,null,null,null,null,null,null,null,null,null,null,null,null,null,null,null,null,null,null,null,null,null,null,null,null,null,null,null,null,null,null,null,null,null,null,null,null,null,null,null,null,null,null,null,null,null,null,null,{"$f":"IFERROR(VLOOKUP(ROWS($CF$3:CF228),$CH$3:$CI$2001,2,FALSE),\"\")","v":""},null,{"$f":"IF(ISNUMBER(SEARCH(B228,CI228)),MAX($CH$2:CH227)+1,0)","v":0}]
[null,null,{"$f":"IF(B229=\"\",\"\",SUMIF('الرصيد الثابت'!$D$2:$D$115,B229,'الرصيد الثابت'!$H$2:$H$115))","v":""},{"$f":"IF(B229=\"\",\"\",SUMIF('الرصيد الثابت'!$D$2:$D$115,B229,'الرصيد الثابت'!$I$2:$I$115))","v":""},{"$f":"IF(B229=\"\",\"\",SUMIF('الرصيد الثابت'!$D$2:$D$115,B229,'الرصيد الثابت'!$J$2:$J$115))","v":""},null,0,null,null,null,null,0,null,null,null,0,null,0,null,null,null,null,null,null,null,null,null,null,null,null,null,null,null,null,null,null,null,null,null,null,null,null,null,null,null,null,null,null,null,null,null,null,null,null,null,null,null,null,null,null,null,null,null,null,null,null,null,null,null,null,null,null,null,null,null,null,null,null,null,null,null,null,null,{"$f":"IFERROR(VLOOKUP(ROWS($CF$3:CF229),$CH$3:$CI$2001,2,FALSE),\"\")","v":""},null,{"$f":"IF(ISNUMBER(SEARCH(B229,CI229)),MAX($CH$2:CH228)+1,0)","v":0}]
[null,null,{"$f":"IF(B230=\"\",\"\",SUMIF('الرصيد الثابت'!$D$2:$D$115,B230,'الرصيد الثابت'!$H$2:$H$115))","v":""},{"$f":"IF(B230=\"\",\"\",SUMIF('الرصيد الثابت'!$D$2:$D$115,B230,'الرصيد الثابت'!$I$2:$I$115))","v":""},{"$f":"IF(B230=\"\",\"\",SUMIF('الرصيد الثابت'!$D$2:$D$115,B230,'الرصيد الثابت'!$J$2:$J$115))","v":""},null,0,null,null,null,null,0,null,null,null,0,null,0,null,null,null,null,null,null,null,null,null,null,null,null,null,null,null,null,null,null,null,null,null,null,null,null,null,null,null,null,null,null,null,null,null,null,null,null,null,null,null,null,null,null,null,null,null,null,null,null,null,null,null,null,null,null,null,null,null,null,null,null,null,null,null,null,null,{"$f":"IFERROR(VLOOKUP(ROWS($CF$3:CF230),$CH$3:$CI$2001,2,FALSE),\"\")","v":""},null,{"$f":"IF(ISNUMBER(SEARCH(B230,CI230)),MAX($CH$2:CH229)+1,0)","v":0}]
[null,null,{"$f":"IF(B231=\"\",\"\",SUMIF('الرصيد الثابت'!$D$2:$D$115,B231,'الرصيد الثابت'!$H$2:$H$115))","v":""},{"$f":"IF(B231=\"\",\"\",SUMIF('الرصيد الثابت'!$D$2:$D$115,B231,'الرصيد الثابت'!$I$2:$I$115))","v":""},{"$f":"IF(B231=\"\",\"\",SUMIF('الرصيد الثابت'!$D$2:$D$115,B231,'الرصيد الثابت'!$J$2:$J$115))","v":""},null,0,null,null,null,null,0,null,null,null,0,null,0,null,null,null,null,null,null,null,null,null,null,null,null,null,null,null,null,null,null,null,null,null,null,null,null,null,null,null,null,null,null,null,null,null,null,null,null,null,null,null,null,null,null,null,null,null,null,null,null,null,null,null,null,null,null,null,null,null,null,null,null,null,null,null,null,null,{"$f":"IFERROR(VLOOKUP(ROWS($CF$3:CF231),$CH$3:$CI$2001,2,FALSE),\"\")","v":""},null,{"$f":"IF(ISNUMBER(SEARCH(B231,CI231)),MAX($CH$2:CH230)+1,0)","v":0}]
[null,null,{"$f":"IF(B232=\"\",\"\",SUMIF('الرصيد الثابت'!$D$2:$D$115,B232,'الرصيد الثابت'!$H$2:$H$115))","v":""},{"$f":"IF(B232=\"\",\"\",SUMIF('الرصيد الثابت'!$D$2:$D$115,B232,'الرصيد الثابت'!$I$2:$I$115))","v":""},{"$f":"IF(B232=\"\",\"\",SUMIF('الرصيد الثابت'!$D$2:$D$115,B232,'الرصيد الثابت'!$J$2:$J$115))","v":""},null,0,null,null,null,null,0,null,null,null,0,null,0,null,null,null,null,null,null,null,null,null,null,null,null,null,null,null,null,null,null,null,null,null,null,null,null,null,null,null,null,null,null,null,null,null,null,null,null,null,null,null,null,null,null,null,null,null,null,null,null,null,null,null,null,null,null,null,null,null,null,null,null,null,null,null,null,null,{"$f":"IFERROR(VLOOKUP(ROWS($CF$3:CF232),$CH$3:$CI$2001,2,FALSE),\"\")","v":""},null,{"$f":"IF(ISNUMBER(SEARCH(B232,CI232)),MAX($CH$2:CH231)+1,0)","v":0}]
[null,null,{"$f":"IF(B233=\"\",\"\",SUMIF('الرصيد الثابت'!$D$2:$D$115,B233,'الرصيد الثابت'!$H$2:$H$115))","v":""},{"$f":"IF(B233=\"\",\"\",SUMIF('الرصيد الثابت'!$D$2:$D$115,B233,'الرصيد الثابت'!$I$2:$I$115))","v":""},{"$f":"IF(B233=\"\",\"\",SUMIF('الرصيد الثابت'!$D$2:$D$115,B233,'الرصيد الثابت'!$J$2:$J$115))","v":""},null,0,null,null,null,null,0,null,null,null,0,null,0,null,null,null,null,null,null,null,null,null,null,null,null,null,null,null,null,null,null,null,null,null,null,null,null,null,null,null,null,null,null,null,null,null,null,null,null,null,null,null,null,null,null,null,null,null,null,null,null,null,null,null,null,null,null,null,null,null,null,null,null,null,null,null,null,null,{"$f":"IFERROR(VLOOKUP(ROWS($CF$3:CF233),$CH$3:$CI$2001,2,FALSE),\"\")","v":""},null,{"$f":"IF(ISNUMBER(SEARCH(B233,CI233)),MAX($CH$2:CH232)+1,0)","v":0}]
[null,null,{"$f":"IF(B234=\"\",\"\",SUMIF('الرصيد الثابت'!$D$2:$D$115,B234,'الرصيد الثابت'!$H$2:$H$115))","v":""},{"$f":"IF(B234=\"\",\"\",SUMIF('الرصيد الثابت'!$D$2:$D$115,B234,'الرصيد الثابت'!$I$2:$I$115))","v":""},{"$f":"IF(B234=\"\",\"\",SUMIF('الرصيد الثابت'!$D$2:$D$115,B234,'الرصيد الثابت'!$J$2:$J$115))","v":""},null,0,null,null,null,null,0,null,null,null,0,null,0,null,null,null,null,null,null,null,null,null,null,null,null,null,null,null,null,null,null,null,null,null,null,null,null,null,null,null,null,null,null,null,null,null,null,null,null,null,null,null,null,null,null,null,null,null,null,null,null,null,null,null,null,null,null,null,null,null,null,null,null,null,null,null,null,null,{"$f":"IFERROR(VLOOKUP(ROWS($CF$3:CF234),$CH$3:$CI$2001,2,FALSE),\"\")","v":""},null,{"$f":"IF(ISNUMBER(SEARCH(B234,CI234)),MAX($CH$2:CH233)+1,0)","v":0}]
[null,null,{"$f":"IF(B235=\"\",\"\",SUMIF('الرصيد الثابت'!$D$2:$D$115,B235,'الرصيد الثابت'!$H$2:$H$115))","v":""},{"$f":"IF(B235=\"\",\"\",SUMIF('الرصيد الثابت'!$D$2:$D$115,B235,'الرصيد الثابت'!$I$2:$I$115))","v":""},{"$f":"IF(B235=\"\",\"\",SUMIF('الرصيد الثابت'!$D$2:$D$115,B235,'الرصيد الثابت'!$J$2:$J$115))","v":""},null,0,null,null,null,null,0,null,null,null,0,null,0,null,null,null,null,null,null,null,null,null,null,null,null,null,null,null,null,null,null,null,null,null,null,null,null,null,null,null,null,null,null,null,null,null,null,null,null,null,null,null,null,null,null,null,null,null,null,null,null,null,null,null,null,null,null,null,null,null,null,null,null,null,null,null,null,null,{"$f":"IFERROR(VLOOKUP(ROWS($CF$3:CF235),$CH$3:$CI$2001,2,FALSE),\"\")","v":""},null,{"$f":"IF(ISNUMBER(SEARCH(B235,CI235)),MAX($CH$2:CH234)+1,0)","v":0}]
[null,null,{"$f":"IF(B236=\"\",\"\",SUMIF('الرصيد الثابت'!$D$2:$D$115,B236,'الرصيد الثابت'!$H$2:$H$115))","v":""},{"$f":"IF(B236=\"\",\"\",SUMIF('الرصيد الثابت'!$D$2:$D$115,B236,'الرصيد الثابت'!$I$2:$I$115))","v":""},{"$f":"IF(B236=\"\",\"\",SUMIF('الرصيد الثابت'!$D$2:$D$115,B236,'الرصيد الثابت'!$J$2:$J$115))","v":""},null,0,null,null,null,null,0,null,null,null,0,null,0,null,null,null,null,null,null,null,null,null,null,null,null,null,null,null,null,null,null,null,null,null,null,null,null,null,null,null,null,null,null,null,null,null,null,null,null,null,null,null,null,null,null,null,null,null,null,null,null,null,null,null,null,null,null,null,null,null,null,null,null,null,null,null,null,null,{"$f":"IFERROR(VLOOKUP(ROWS($CF$3:CF236),$CH$3:$CI$2001,2,FALSE),\"\")","v":""},null,{"$f":"IF(ISNUMBER(SEARCH(B236,CI236)),MAX($CH$2:CH235)+1,0)","v":0}]
[null,null,{"$f":"IF(B237=\"\",\"\",SUMIF('الرصيد الثابت'!$D$2:$D$115,B237,'الرصيد الثابت'!$H$2:$H$115))","v":""},{"$f":"IF(B237=\"\",\"\",SUMIF('الرصيد الثابت'!$D$2:$D$115,B237,'الرصيد الثابت'!$I$2:$I$115))","v":""},{"$f":"IF(B237=\"\",\"\",SUMIF('الرصيد الثابت'!$D$2:$D$115,B237,'الرصيد الثابت'!$J$2:$J$115))","v":""},null,0,null,null,null,null,0,null,null,null,0,null,0,null,null,null,null,null,null,null,null,null,null,null,null,null,null,null,null,null,null,null,null,null,null,null,null,null,null,null,null,null,null,null,null,null,null,null,null,null,null,null,null,null,null,null,null,null,null,null,null,null,null,null,null,null,null,null,null,null,null,null,null,null,null,null,null,null,{"$f":"IFERROR(VLOOKUP(ROWS($CF$3:CF237),$CH$3:$CI$2001,2,FALSE),\"\")","v":""},null,{"$f":"IF(ISNUMBER(SEARCH(B237,CI237)),MAX($CH$2:CH236)+1,0)","v":0}]
[null,null,{"$f":"IF(B238=\"\",\"\",SUMIF('الرصيد الثابت'!$D$2:$D$115,B238,'الرصيد الثابت'!$H$2:$H$115))","v":""},{"$f":"IF(B238=\"\",\"\",SUMIF('الرصيد الثابت'!$D$2:$D$115,B238,'الرصيد الثابت'!$I$2:$I$115))","v":""},{"$f":"IF(B238=\"\",\"\",SUMIF('الرصيد الثابت'!$D$2:$D$115,B238,'الرصيد الثابت'!$J$2:$J$115))","v":""},null,0,null,null,null,null,0,null,null,null,0,null,0,null,null,null,null,null,null,null,null,null,null,null,null,null,null,null,null,null,null,null,null,null,null,null,null,null,null,null,null,null,null,null,null,null,null,null,null,null,null,null,null,null,null,null,null,null,null,null,null,null,null,null,null,null,null,null,null,null,null,null,null,null,null,null,null,null,{"$f":"IFERROR(VLOOKUP(ROWS($CF$3:CF238),$CH$3:$CI$2001,2,FALSE),\"\")","v":""},null,{"$f":"IF(ISNUMBER(SEARCH(B238,CI238)),MAX($CH$2:CH237)+1,0)","v":0}]
[null,null,{"$f":"IF(B239=\"\",\"\",SUMIF('الرصيد الثابت'!$D$2:$D$115,B239,'الرصيد الثابت'!$H$2:$H$115))","v":""},{"$f":"IF(B239=\"\",\"\",SUMIF('الرصيد الثابت'!$D$2:$D$115,B239,'الرصيد الثابت'!$I$2:$I$115))","v":""},{"$f":"IF(B239=\"\",\"\",SUMIF('الرصيد الثابت'!$D$2:$D$115,B239,'الرصيد الثابت'!$J$2:$J$115))","v":""},null,0,null,null,null,null,0,null,null,null,0,null,0,null,null,null,null,null,null,null,null,null,null,null,null,null,null,null,null,null,null,null,null,null,null,null,null,null,null,null,null,null,null,null,null,null,null,null,null,null,null,null,null,null,null,null,null,null,null,null,null,null,null,null,null,null,null,null,null,null,null,null,null,null,null,null,null,null,{"$f":"IFERROR(VLOOKUP(ROWS($CF$3:CF239),$CH$3:$CI$2001,2,FALSE),\"\")","v":""},null,{"$f":"IF(ISNUMBER(SEARCH(B239,CI239)),MAX($CH$2:CH238)+1,0)","v":0}]
[null,null,{"$f":"IF(B240=\"\",\"\",SUMIF('الرصيد الثابت'!$D$2:$D$115,B240,'الرصيد الثابت'!$H$2:$H$115))","v":""},{"$f":"IF(B240=\"\",\"\",SUMIF('الرصيد الثابت'!$D$2:$D$115,B240,'الرصيد الثابت'!$I$2:$I$115))","v":""},{"$f":"IF(B240=\"\",\"\",SUMIF('الرصيد الثابت'!$D$2:$D$115,B240,'الرصيد الثابت'!$J$2:$J$115))","v":""},null,0,null,null,null,null,0,null,null,null,0,null,0,null,null,null,null,null,null,null,null,null,null,null,null,null,null,null,null,null,null,null,null,null,null,null,null,null,null,null,null,null,null,null,null,null,null,null,null,null,null,null,null,null,null,null,null,null,null,null,null,null,null,null,null,null,null,null,null,null,null,null,null,null,null,null,null,null,{"$f":"IFERROR(VLOOKUP(ROWS($CF$3:CF240),$CH$3:$CI$2001,2,FALSE),\"\")","v":""},null,{"$f":"IF(ISNUMBER(SEARCH(B240,CI240)),MAX($CH$2:CH239)+1,0)","v":0}]
[null,null,{"$f":"IF(B241=\"\",\"\",SUMIF('الرصيد الثابت'!$D$2:$D$115,B241,'الرصيد الثابت'!$H$2:$H$115))","v":""},{"$f":"IF(B241=\"\",\"\",SUMIF('الرصيد الثابت'!$D$2:$D$115,B241,'الرصيد الثابت'!$I$2:$I$115))","v":""},{"$f":"IF(B241=\"\",\"\",SUMIF('الرصيد الثابت'!$D$2:$D$115,B241,'الرصيد الثابت'!$J$2:$J$115))","v":""},null,0,null,null,null,null,0,null,null,null,0,null,0,null,null,null,null,null,null,null,null,null,null,null,null,null,null,null,null,null,null,null,null,null,null,null,null,null,null,null,null,null,null,null,null,null,null,null,null,null,null,null,null,null,null,null,null,null,null,null,null,null,null,null,null,null,null,null,null,null,null,null,null,null,null,null,null,null,{"$f":"IFERROR(VLOOKUP(ROWS($CF$3:CF241),$CH$3:$CI$2001,2,FALSE),\"\")","v":""},null,{"$f":"IF(ISNUMBER(SEARCH(B241,CI241)),MAX($CH$2:CH240)+1,0)","v":0}]
[null,null,{"$f":"IF(B242=\"\",\"\",SUMIF('الرصيد الثابت'!$D$2:$D$115,B242,'الرصيد الثابت'!$H$2:$H$115))","v":""},{"$f":"IF(B242=\"\",\"\",SUMIF('الرصيد الثابت'!$D$2:$D$115,B242,'الرصيد الثابت'!$I$2:$I$115))","v":""},{"$f":"IF(B242=\"\",\"\",SUMIF('الرصيد الثابت'!$D$2:$D$115,B242,'الرصيد الثابت'!$J$2:$J$115))","v":""},null,0,null,null,null,null,0,null,null,null,0,null,0,null,null,null,null,null,null,null,null,null,null,null,null,null,null,null,null,null,null,null,null,null,null,null,null,null,null,null,null,null,null,null,null,null,null,null,null,null,null,null,null,null,null,null,null,null,null,null,null,null,null,null,null,null,null,null,null,null,null,null,null,null,null,null,null,null,{"$f":"IFERROR(VLOOKUP(ROWS($CF$3:CF242),$CH$3:$CI$2001,2,FALSE),\"\")","v":""},null,{"$f":"IF(ISNUMBER(SEARCH(B242,CI242)),MAX($CH$2:CH241)+1,0)","v":0}]
[null,null,{"$f":"IF(B243=\"\",\"\",SUMIF('الرصيد الثابت'!$D$2:$D$115,B243,'الرصيد الثابت'!$H$2:$H$115))","v":""},{"$f":"IF(B243=\"\",\"\",SUMIF('الرصيد الثابت'!$D$2:$D$115,B243,'الرصيد الثابت'!$I$2:$I$115))","v":""},{"$f":"IF(B243=\"\",\"\",SUMIF('الرصيد الثابت'!$D$2:$D$115,B243,'الرصيد الثابت'!$J$2:$J$115))","v":""},null,0,null,null,null,null,0,null,null,null,0,null,0,null,null,null,null,null,null,null,null,null,null,null,null,null,null,null,null,null,null,null,null,null,null,null,null,null,null,null,null,null,null,null,null,null,null,null,null,null,null,null,null,null,null,null,null,null,null,null,null,null,null,null,null,null,null,null,null,null,null,null,null,null,null,null,null,null,{"$f":"IFERROR(VLOOKUP(ROWS($CF$3:CF243),$CH$3:$CI$2001,2,FALSE),\"\")","v":""},null,{"$f":"IF(ISNUMBER(SEARCH(B243,CI243)),MAX($CH$2:CH242)+1,0)","v":0}]
[null,null,{"$f":"IF(B244=\"\",\"\",SUMIF('الرصيد الثابت'!$D$2:$D$115,B244,'الرصيد الثابت'!$H$2:$H$115))","v":""},{"$f":"IF(B244=\"\",\"\",SUMIF('الرصيد الثابت'!$D$2:$D$115,B244,'الرصيد الثابت'!$I$2:$I$115))","v":""},{"$f":"IF(B244=\"\",\"\",SUMIF('الرصيد الثابت'!$D$2:$D$115,B244,'الرصيد الثابت'!$J$2:$J$115))","v":""},null,0,null,null,null,null,0,null,null,null,0,null,0,null,null,null,null,null,null,null,null,null,null,null,null,null,null,null,null,null,null,null,null,null,null,null,null,null,null,null,null,null,null,null,null,null,null,null,null,null,null,null,null,null,null,null,null,null,null,null,null,null,null,null,null,null,null,null,null,null,null,null,null,null,null,null,null,null,{"$f":"IFERROR(VLOOKUP(ROWS($CF$3:CF244),$CH$3:$CI$2001,2,FALSE),\"\")","v":""},null,{"$f":"IF(ISNUMBER(SEARCH(B244,CI244)),MAX($CH$2:CH243)+1,0)","v":0}]
[null,null,{"$f":"IF(B245=\"\",\"\",SUMIF('الرصيد الثابت'!$D$2:$D$115,B245,'الرصيد الثابت'!$H$2:$H$115))","v":""},{"$f":"IF(B245=\"\",\"\",SUMIF('الرصيد الثابت'!$D$2:$D$115,B245,'الرصيد الثابت'!$I$2:$I$115))","v":""},{"$f":"IF(B245=\"\",\"\",SUMIF('الرصيد الثابت'!$D$2:$D$115,B245,'الرصيد الثابت'!$J$2:$J$115))","v":""},null,0,null,null,null,null,0,null,null,null,0,null,0,null,null,null,null,null,null,null,null,null,null,null,null,null,null,null,null,null,null,null,null,null,null,null,null,null,null,null,null,null,null,null,null,null,null,null,null,null,null,null,null,null,null,null,null,null,null,null,null,null,null,null,null,null,null,null,null,null,null,null,null,null,null,null,null,null,{"$f":"IFERROR(VLOOKUP(ROWS($CF$3:CF245),$CH$3:$CI$2001,2,FALSE),\"\")","v":""},null,{"$f":"IF(ISNUMBER(SEARCH(B245,CI245)),MAX($CH$2:CH244)+1,0)","v":0}]
[null,null,{"$f":"IF(B246=\"\",\"\",SUMIF('الرصيد الثابت'!$D$2:$D$115,B246,'الرصيد الثابت'!$H$2:$H$115))","v":""},{"$f":"IF(B246=\"\",\"\",SUMIF('الرصيد الثابت'!$D$2:$D$115,B246,'الرصيد الثابت'!$I$2:$I$115))","v":""},{"$f":"IF(B246=\"\",\"\",SUMIF('الرصيد الثابت'!$D$2:$D$115,B246,'الرصيد الثابت'!$J$2:$J$115))","v":""},null,0,null,null,null,null,0,null,null,null,0,null,0,null,null,null,null,null,null,null,null,null,null,null,null,null,null,null,null,null,null,null,null,null,null,null,null,null,null,null,null,null,null,null,null,null,null,null,null,null,null,null,null,null,null,null,null,null,null,null,null,null,null,null,null,null,null,null,null,null,null,null,null,null,null,null,null,null,{"$f":"IFERROR(VLOOKUP(ROWS($CF$3:CF246),$CH$3:$CI$2001,2,FALSE),\"\")","v":""},null,{"$f":"IF(ISNUMBER(SEARCH(B246,CI246)),MAX($CH$2:CH245)+1,0)","v":0}]
[null,null,{"$f":"IF(B247=\"\",\"\",SUMIF('الرصيد الثابت'!$D$2:$D$115,B247,'الرصيد الثابت'!$H$2:$H$115))","v":""},{"$f":"IF(B247=\"\",\"\",SUMIF('الرصيد الثابت'!$D$2:$D$115,B247,'الرصيد الثابت'!$I$2:$I$115))","v":""},{"$f":"IF(B247=\"\",\"\",SUMIF('الرصيد الثابت'!$D$2:$D$115,B247,'الرصيد الثابت'!$J$2:$J$115))","v":""},null,0,null,null,null,null,0,null,null,null,0,null,0,null,null,null,null,null,null,null,null,null,null,null,null,null,null,null,null,null,null,null,null,null,null,null,null,null,null,null,null,null,null,null,null,null,null,null,null,null,null,null,null,null,null,null,null,null,null,null,null,null,null,null,null,null,null,null,null,null,null,null,null,null,null,null,null,null,{"$f":"IFERROR(VLOOKUP(ROWS($CF$3:CF247),$CH$3:$CI$2001,2,FALSE),\"\")","v":""},null,{"$f":"IF(ISNUMBER(SEARCH(B247,CI247)),MAX($CH$2:CH246)+1,0)","v":0}]
[null,null,{"$f":"IF(B248=\"\",\"\",SUMIF('الرصيد الثابت'!$D$2:$D$115,B248,'الرصيد الثابت'!$H$2:$H$115))","v":""},{"$f":"IF(B248=\"\",\"\",SUMIF('الرصيد الثابت'!$D$2:$D$115,B248,'الرصيد الثابت'!$I$2:$I$115))","v":""},{"$f":"IF(B248=\"\",\"\",SUMIF('الرصيد الثابت'!$D$2:$D$115,B248,'الرصيد الثابت'!$J$2:$J$115))","v":""},null,0,null,null,null,null,0,null,null,null,0,null,0,null,null,null,null,null,null,null,null,null,null,null,null,null,null,null,null,null,null,null,null,null,null,null,null,null,null,null,null,null,null,null,null,null,null,null,null,null,null,null,null,null,null,null,null,null,null,null,null,null,null,null,null,null,null,null,null,null,null,null,null,null,null,null,null,null,{"$f":"IFERROR(VLOOKUP(ROWS($CF$3:CF248),$CH$3:$CI$2001,2,FALSE),\"\")","v":""},null,{"$f":"IF(ISNUMBER(SEARCH(B248,CI248)),MAX($CH$2:CH247)+1,0)","v":0}]
[null,null,{"$f":"IF(B249=\"\",\"\",SUMIF('الرصيد الثابت'!$D$2:$D$115,B249,'الرصيد الثابت'!$H$2:$H$115))","v":""},{"$f":"IF(B249=\"\",\"\",SUMIF('الرصيد الثابت'!$D$2:$D$115,B249,'الرصيد الثابت'!$I$2:$I$115))","v":""},{"$f":"IF(B249=\"\",\"\",SUMIF('الرصيد الثابت'!$D$2:$D$115,B249,'الرصيد الثابت'!$J$2:$J$115))","v":""},null,0,null,null,null,null,0,null,null,null,0,null,0,null,null,null,null,null,null,null,null,null,null,null,null,null,null,null,null,null,null,null,null,null,null,null,null,null,null,null,null,null,null,null,null,null,null,null,null,null,null,null,null,null,null,null,null,null,null,null,null,null,null,null,null,null,null,null,null,null,null,null,null,null,null,null,null,null,{"$f":"IFERROR(VLOOKUP(ROWS($CF$3:CF249),$CH$3:$CI$2001,2,FALSE),\"\")","v":""},null,{"$f":"IF(ISNUMBER(SEARCH(B249,CI249)),MAX($CH$2:CH248)+1,0)","v":0}]
[null,null,{"$f":"IF(B250=\"\",\"\",SUMIF('الرصيد الثابت'!$D$2:$D$115,B250,'الرصيد الثابت'!$H$2:$H$115))","v":""},{"$f":"IF(B250=\"\",\"\",SUMIF('الرصيد الثابت'!$D$2:$D$115,B250,'الرصيد الثابت'!$I$2:$I$115))","v":""},{"$f":"IF(B250=\"\",\"\",SUMIF('الرصيد الثابت'!$D$2:$D$115,B250,'الرصيد الثابت'!$J$2:$J$115))","v":""},null,0,null,null,null,null,0,null,null,null,0,null,0,null,null,null,null,null,null,null,null,null,null,null,null,null,null,null,null,null,null,null,null,null,null,null,null,null,null,null,null,null,null,null,null,null,null,null,null,null,null,null,null,null,null,null,null,null,null,null,null,null,null,null,null,null,null,null,null,null,null,null,null,null,null,null,null,null,{"$f":"IFERROR(VLOOKUP(ROWS($CF$3:CF250),$CH$3:$CI$2001,2,FALSE),\"\")","v":""},null,{"$f":"IF(ISNUMBER(SEARCH(B250,CI250)),MAX($CH$2:CH249)+1,0)","v":0}]
[null,null,{"$f":"IF(B251=\"\",\"\",SUMIF('الرصيد الثابت'!$D$2:$D$115,B251,'الرصيد الثابت'!$H$2:$H$115))","v":""},{"$f":"IF(B251=\"\",\"\",SUMIF('الرصيد الثابت'!$D$2:$D$115,B251,'الرصيد الثابت'!$I$2:$I$115))","v":""},{"$f":"IF(B251=\"\",\"\",SUMIF('الرصيد الثابت'!$D$2:$D$115,B251,'الرصيد الثابت'!$J$2:$J$115))","v":""},null,0,null,null,null,null,0,null,null,null,0,null,0,null,null,null,null,null,null,null,null,null,null,null,null,null,null,null,null,null,null,null,null,null,null,null,null,null,null,null,null,null,null,null,null,null,null,null,null,null,null,null,null,null,null,null,null,null,null,null,null,null,null,null,null,null,null,null,null,null,null,null,null,null,null,null,null,null,{"$f":"IFERROR(VLOOKUP(ROWS($CF$3:CF251),$CH$3:$CI$2001,2,FALSE),\"\")","v":""},null,{"$f":"IF(ISNUMBER(SEARCH(B251,CI251)),MAX($CH$2:CH250)+1,0)","v":0}]
[null,null,{"$f":"IF(B252=\"\",\"\",SUMIF('الرصيد الثابت'!$D$2:$D$115,B252,'الرصيد الثابت'!$H$2:$H$115))","v":""},{"$f":"IF(B252=\"\",\"\",SUMIF('الرصيد الثابت'!$D$2:$D$115,B252,'الرصيد الثابت'!$I$2:$I$115))","v":""},{"$f":"IF(B252=\"\",\"\",SUMIF('الرصيد الثابت'!$D$2:$D$115,B252,'الرصيد الثابت'!$J$2:$J$115))","v":""},null,0,null,null,null,null,0,null,null,null,{"$f":"SUM(#REF!-#REF!)","v":{"$error":"#REF!"}},null,0,null,null,null,null,null,null,null,null,null,null,null,null,null,null,null,null,null,null,null,null,null,null,null,null,null,null,null,null,null,null,null,null,null,null,null,null,null,null,null,null,null,null,null,null,null,null,null,null,null,null,null,null,null,null,null,null,null,null,null,null,null,null,null,null,null,{"$f":"IFERROR(VLOOKUP(ROWS($CF$3:CF252),$CH$3:$CI$2001,2,FALSE),\"\")","v":""},null,{"$f":"IF(ISNUMBER(SEARCH(B252,CI252)),MAX($CH$2:CH251)+1,0)","v":0}]
[null,null,{"$f":"IF(B253=\"\",\"\",SUMIF('الرصيد الثابت'!$D$2:$D$115,B253,'الرصيد الثابت'!$H$2:$H$115))","v":""},{"$f":"IF(B253=\"\",\"\",SUMIF('الرصيد الثابت'!$D$2:$D$115,B253,'الرصيد الثابت'!$I$2:$I$115))","v":""},{"$f":"IF(B253=\"\",\"\",SUMIF('الرصيد الثابت'!$D$2:$D$115,B253,'الرصيد الثابت'!$J$2:$J$115))","v":""},null,0,null,null,null,null,0,null,null,null,0,null,0,null,null,null,null,null,null,null,null,null,null,null,null,null,null,null,null,null,null,null,null,null,null,null,null,null,null,null,null,null,null,null,null,null,null,null,null,null,null,null,null,null,null,null,null,null,null,null,null,null,null,null,null,null,null,null,null,null,null,null,null,null,null,null,null,null,{"$f":"IFERROR(VLOOKUP(ROWS($CF$3:CF253),$CH$3:$CI$2001,2,FALSE),\"\")","v":""},null,{"$f":"IF(ISNUMBER(SEARCH(B253,CI253)),MAX($CH$2:CH252)+1,0)","v":0}]
[null,null,{"$f":"IF(B254=\"\",\"\",SUMIF('الرصيد الثابت'!$D$2:$D$115,B254,'الرصيد الثابت'!$H$2:$H$115))","v":""},{"$f":"IF(B254=\"\",\"\",SUMIF('الرصيد الثابت'!$D$2:$D$115,B254,'الرصيد الثابت'!$I$2:$I$115))","v":""},{"$f":"IF(B254=\"\",\"\",SUMIF('الرصيد الثابت'!$D$2:$D$115,B254,'الرصيد الثابت'!$J$2:$J$115))","v":""},null,0,null,null,null,null,0,null,null,null,0,null,0,null,null,null,null,null,null,null,null,null,null,null,null,null,null,null,null,null,null,null,null,null,null,null,null,null,null,null,null,null,null,null,null,null,null,null,null,null,null,null,null,null,null,null,null,null,null,null,null,null,null,null,null,null,null,null,null,null,null,null,null,null,null,null,null,null,{"$f":"IFERROR(VLOOKUP(ROWS($CF$3:CF254),$CH$3:$CI$2001,2,FALSE),\"\")","v":""},null,{"$f":"IF(ISNUMBER(SEARCH(B254,CI254)),MAX($CH$2:CH253)+1,0)","v":0}]
[null,null,{"$f":"IF(B255=\"\",\"\",SUMIF('الرصيد الثابت'!$D$2:$D$115,B255,'الرصيد الثابت'!$H$2:$H$115))","v":""},{"$f":"IF(B255=\"\",\"\",SUMIF('الرصيد الثابت'!$D$2:$D$115,B255,'الرصيد الثابت'!$I$2:$I$115))","v":""},{"$f":"IF(B255=\"\",\"\",SUMIF('الرصيد الثابت'!$D$2:$D$115,B255,'الرصيد الثابت'!$J$2:$J$115))","v":""},null,0,null,null,null,null,0,null,null,null,0,null,0,null,null,null,null,null,null,null,null,null,null,null,null,null,null,null,null,null,null,null,null,null,null,null,null,null,null,null,null,null,null,null,null,null,null,null,null,null,null,null,null,null,null,null,null,null,null,null,null,null,null,null,null,null,null,null,null,null,null,null,null,null,null,null,null,null,{"$f":"IFERROR(VLOOKUP(ROWS($CF$3:CF255),$CH$3:$CI$2001,2,FALSE),\"\")","v":""},null,{"$f":"IF(ISNUMBER(SEARCH(B255,CI255)),MAX($CH$2:CH254)+1,0)","v":0}]
[null,null,{"$f":"IF(B256=\"\",\"\",SUMIF('الرصيد الثابت'!$D$2:$D$115,B256,'الرصيد الثابت'!$H$2:$H$115))","v":""},{"$f":"IF(B256=\"\",\"\",SUMIF('الرصيد الثابت'!$D$2:$D$115,B256,'الرصيد الثابت'!$I$2:$I$115))","v":""},{"$f":"IF(B256=\"\",\"\",SUMIF('الرصيد الثابت'!$D$2:$D$115,B256,'الرصيد الثابت'!$J$2:$J$115))","v":""},null,0,null,null,null,null,0,null,null,null,0,null,0,null,null,null,null,null,null,null,null,null,null,null,null,null,null,null,null,null,null,null,null,null,null,null,null,null,null,null,null,null,null,null,null,null,null,null,null,null,null,null,null,null,null,null,null,null,null,null,null,null,null,null,null,null,null,null,null,null,null,null,null,null,null,null,null,null,{"$f":"IFERROR(VLOOKUP(ROWS($CF$3:CF256),$CH$3:$CI$2001,2,FALSE),\"\")","v":""},null,{"$f":"IF(ISNUMBER(SEARCH(B256,CI256)),MAX($CH$2:CH255)+1,0)","v":0}]
[null,null,{"$f":"IF(B257=\"\",\"\",SUMIF('الرصيد الثابت'!$D$2:$D$115,B257,'الرصيد الثابت'!$H$2:$H$115))","v":""},{"$f":"IF(B257=\"\",\"\",SUMIF('الرصيد الثابت'!$D$2:$D$115,B257,'الرصيد الثابت'!$I$2:$I$115))","v":""},{"$f":"IF(B257=\"\",\"\",SUMIF('الرصيد الثابت'!$D$2:$D$115,B257,'الرصيد الثابت'!$J$2:$J$115))","v":""},null,0,null,null,null,null,0,null,null,null,0,null,0,null,null,null,null,null,null,null,null,null,null,null,null,null,null,null,null,null,null,null,null,null,null,null,null,null,null,null,null,null,null,null,null,null,null,null,null,null,null,null,null,null,null,null,null,null,null,null,null,null,null,null,null,null,null,null,null,null,null,null,null,null,null,null,null,null,{"$f":"IFERROR(VLOOKUP(ROWS($CF$3:CF257),$CH$3:$CI$2001,2,FALSE),\"\")","v":""},null,{"$f":"IF(ISNUMBER(SEARCH(B257,CI257)),MAX($CH$2:CH256)+1,0)","v":0}]
[null,null,{"$f":"IF(B258=\"\",\"\",SUMIF('الرصيد الثابت'!$D$2:$D$115,B258,'الرصيد الثابت'!$H$2:$H$115))","v":""},{"$f":"IF(B258=\"\",\"\",SUMIF('الرصيد الثابت'!$D$2:$D$115,B258,'الرصيد الثابت'!$I$2:$I$115))","v":""},{"$f":"IF(B258=\"\",\"\",SUMIF('الرصيد الثابت'!$D$2:$D$115,B258,'الرصيد الثابت'!$J$2:$J$115))","v":""},null,0,null,null,null,null,0,null,null,null,0,null,0,null,null,null,null,null,null,null,null,null,null,null,null,null,null,null,null,null,null,null,null,null,null,null,null,null,null,null,null,null,null,null,null,null,null,null,null,null,null,null,null,null,null,null,null,null,null,null,null,null,null,null,null,null,null,null,null,null,null,null,null,null,null,null,null,null,{"$f":"IFERROR(VLOOKUP(ROWS($CF$3:CF258),$CH$3:$CI$2001,2,FALSE),\"\")","v":""},null,{"$f":"IF(ISNUMBER(SEARCH(B258,CI258)),MAX($CH$2:CH257)+1,0)","v":0}]
[null,null,{"$f":"IF(B259=\"\",\"\",SUMIF('الرصيد الثابت'!$D$2:$D$115,B259,'الرصيد الثابت'!$H$2:$H$115))","v":""},{"$f":"IF(B259=\"\",\"\",SUMIF('الرصيد الثابت'!$D$2:$D$115,B259,'الرصيد الثابت'!$I$2:$I$115))","v":""},{"$f":"IF(B259=\"\",\"\",SUMIF('الرصيد الثابت'!$D$2:$D$115,B259,'الرصيد الثابت'!$J$2:$J$115))","v":""},null,0,null,null,null,null,{"$f":"SUM(M259*K259)","v":0},null,null,null,0,null,0,null,null,null,null,null,null,null,null,null,null,null,null,null,null,null,null,null,null,null,null,null,null,null,null,null,null,null,null,null,null,null,null,null,null,null,null,null,null,null,null,null,null,null,null,null,null,null,null,null,null,null,null,null,null,null,null,null,null,null,null,null,null,null,null,null,{"$f":"IFERROR(VLOOKUP(ROWS($CF$3:CF259),$CH$3:$CI$2001,2,FALSE),\"\")","v":""},null,{"$f":"IF(ISNUMBER(SEARCH(B259,CI259)),MAX($CH$2:CH258)+1,0)","v":0}]
[null,null,{"$f":"IF(B260=\"\",\"\",SUMIF('الرصيد الثابت'!$D$2:$D$115,B260,'الرصيد الثابت'!$H$2:$H$115))","v":""},{"$f":"IF(B260=\"\",\"\",SUMIF('الرصيد الثابت'!$D$2:$D$115,B260,'الرصيد الثابت'!$I$2:$I$115))","v":""},{"$f":"IF(B260=\"\",\"\",SUMIF('الرصيد الثابت'!$D$2:$D$115,B260,'الرصيد الثابت'!$J$2:$J$115))","v":""},null,{"$f":"SUM(H260*F260)","v":0},null,null,null,null,0,null,null,null,{"$f":"SUM(F260-K260)","v":0},null,0,null,null,null,null,null,null,null,null,null,null,null,null,null,null,null,null,null,null,null,null,null,null,null,null,null,null,null,null,null,null,null,null,null,null,null,null,null,null,null,null,null,null,null,null,null,null,null,null,null,null,null,null,null,null,null,null,null,null,null,null,null,null,null,null,null,{"$f":"IFERROR(VLOOKUP(ROWS($CF$3:CF260),$CH$3:$CI$2001,2,FALSE),\"\")","v":""},null,{"$f":"IF(ISNUMBER(SEARCH(B260,CI260)),MAX($CH$2:CH259)+1,0)","v":0}]
[null,null,{"$f":"IF(B261=\"\",\"\",SUMIF('الرصيد الثابت'!$D$2:$D$115,B261,'الرصيد الثابت'!$H$2:$H$115))","v":""},{"$f":"IF(B261=\"\",\"\",SUMIF('الرصيد الثابت'!$D$2:$D$115,B261,'الرصيد الثابت'!$I$2:$I$115))","v":""},{"$f":"IF(B261=\"\",\"\",SUMIF('الرصيد الثابت'!$D$2:$D$115,B261,'الرصيد الثابت'!$J$2:$J$115))","v":""},null,0,null,null,null,null,0,null,null,null,0,null,0,null,null,null,null,null,null,null,null,null,null,null,null,null,null,null,null,null,null,null,null,null,null,null,null,null,null,null,null,null,null,null,null,null,null,null,null,null,null,null,null,null,null,null,null,null,null,null,null,null,null,null,null,null,null,null,null,null,null,null,null,null,null,null,null,null,{"$f":"IFERROR(VLOOKUP(ROWS($CF$3:CF261),$CH$3:$CI$2001,2,FALSE),\"\")","v":""},null,{"$f":"IF(ISNUMBER(SEARCH(B261,CI261)),MAX($CH$2:CH260)+1,0)","v":0}]
[null,null,{"$f":"IF(B262=\"\",\"\",SUMIF('الرصيد الثابت'!$D$2:$D$115,B262,'الرصيد الثابت'!$H$2:$H$115))","v":""},{"$f":"IF(B262=\"\",\"\",SUMIF('الرصيد الثابت'!$D$2:$D$115,B262,'الرصيد الثابت'!$I$2:$I$115))","v":""},{"$f":"IF(B262=\"\",\"\",SUMIF('الرصيد الثابت'!$D$2:$D$115,B262,'الرصيد الثابت'!$J$2:$J$115))","v":""},null,0,null,null,null,null,0,null,null,null,0,null,0,null,null,null,null,null,null,null,null,null,null,null,null,null,null,null,null,null,null,null,null,null,null,null,null,null,null,null,null,null,null,null,null,null,null,null,null,null,null,null,null,null,null,null,null,null,null,null,null,null,null,null,null,null,null,null,null,null,null,null,null,null,null,null,null,null,{"$f":"IFERROR(VLOOKUP(ROWS($CF$3:CF262),$CH$3:$CI$2001,2,FALSE),\"\")","v":""},null,{"$f":"IF(ISNUMBER(SEARCH(B262,CI262)),MAX($CH$2:CH261)+1,0)","v":0}]
[null,null,{"$f":"IF(B263=\"\",\"\",SUMIF('الرصيد الثابت'!$D$2:$D$115,B263,'الرصيد الثابت'!$H$2:$H$115))","v":""},{"$f":"IF(B263=\"\",\"\",SUMIF('الرصيد الثابت'!$D$2:$D$115,B263,'الرصيد الثابت'!$I$2:$I$115))","v":""},{"$f":"IF(B263=\"\",\"\",SUMIF('الرصيد الثابت'!$D$2:$D$115,B263,'الرصيد الثابت'!$J$2:$J$115))","v":""},null,0,null,null,null,null,0,null,null,null,0,null,{"$f":"SUM(S263*Q263)","v":0},null,null,null,null,null,null,null,null,null,null,null,null,null,null,null,null,null,null,null,null,null,null,null,null,null,null,null,null,null,null,null,null,null,null,null,null,null,null,null,null,null,null,null,null,null,null,null,null,null,null,null,null,null,null,null,null,null,null,null,null,null,null,null,null,null,{"$f":"IFERROR(VLOOKUP(ROWS($CF$3:CF263),$CH$3:$CI$2001,2,FALSE),\"\")","v":""},null,{"$f":"IF(ISNUMBER(SEARCH(B263,CI263)),MAX($CH$2:CH262)+1,0)","v":0}]
[null,null,{"$f":"IF(B264=\"\",\"\",SUMIF('الرصيد الثابت'!$D$2:$D$115,B264,'الرصيد الثابت'!$H$2:$H$115))","v":""},{"$f":"IF(B264=\"\",\"\",SUMIF('الرصيد الثابت'!$D$2:$D$115,B264,'الرصيد الثابت'!$I$2:$I$115))","v":""},{"$f":"IF(B264=\"\",\"\",SUMIF('الرصيد الثابت'!$D$2:$D$115,B264,'الرصيد الثابت'!$J$2:$J$115))","v":""},null,0,null,null,null,null,0,null,null,null,0,null,0,null,null,null,null,null,null,null,null,null,null,null,null,null,null,null,null,null,null,null,null,null,null,null,null,null,null,null,null,null,null,null,null,null,null,null,null,null,null,null,null,null,null,null,null,null,null,null,null,null,null,null,null,null,null,null,null,null,null,null,null,null,null,null,null,null,{"$f":"IFERROR(VLOOKUP(ROWS($CF$3:CF264),$CH$3:$CI$2001,2,FALSE),\"\")","v":""},null,{"$f":"IF(ISNUMBER(SEARCH(B264,CI264)),MAX($CH$2:CH263)+1,0)","v":0}]
[null,null,{"$f":"IF(B265=\"\",\"\",SUMIF('الرصيد الثابت'!$D$2:$D$115,B265,'الرصيد الثابت'!$H$2:$H$115))","v":""},{"$f":"IF(B265=\"\",\"\",SUMIF('الرصيد الثابت'!$D$2:$D$115,B265,'الرصيد الثابت'!$I$2:$I$115))","v":""},{"$f":"IF(B265=\"\",\"\",SUMIF('الرصيد الثابت'!$D$2:$D$115,B265,'الرصيد الثابت'!$J$2:$J$115))","v":""},null,0,null,null,null,null,0,null,null,null,0,null,0,null,null,null,null,null,null,null,null,null,null,null,null,null,null,null,null,null,null,null,null,null,null,null,null,null,null,null,null,null,null,null,null,null,null,null,null,null,null,null,null,null,null,null,null,null,null,null,null,null,null,null,null,null,null,null,null,null,null,null,null,null,null,null,null,null,{"$f":"IFERROR(VLOOKUP(ROWS($CF$3:CF265),$CH$3:$CI$2001,2,FALSE),\"\")","v":""},null,{"$f":"IF(ISNUMBER(SEARCH(B265,CI265)),MAX($CH$2:CH264)+1,0)","v":0}]
[null,null,{"$f":"IF(B266=\"\",\"\",SUMIF('الرصيد الثابت'!$D$2:$D$115,B266,'الرصيد الثابت'!$H$2:$H$115))","v":""},{"$f":"IF(B266=\"\",\"\",SUMIF('الرصيد الثابت'!$D$2:$D$115,B266,'الرصيد الثابت'!$I$2:$I$115))","v":""},{"$f":"IF(B266=\"\",\"\",SUMIF('الرصيد الثابت'!$D$2:$D$115,B266,'الرصيد الثابت'!$J$2:$J$115))","v":""},null,0,null,null,null,null,0,null,null,null,0,null,0,null,null,null,null,null,null,null,null,null,null,null,null,null,null,null,null,null,null,null,null,null,null,null,null,null,null,null,null,null,null,null,null,null,null,null,null,null,null,null,null,null,null,null,null,null,null,null,null,null,null,null,null,null,null,null,null,null,null,null,null,null,null,null,null,null,{"$f":"IFERROR(VLOOKUP(ROWS($CF$3:CF266),$CH$3:$CI$2001,2,FALSE),\"\")","v":""},null,{"$f":"IF(ISNUMBER(SEARCH(B266,CI266)),MAX($CH$2:CH265)+1,0)","v":0}]
[null,null,{"$f":"IF(B267=\"\",\"\",SUMIF('الرصيد الثابت'!$D$2:$D$115,B267,'الرصيد الثابت'!$H$2:$H$115))","v":""},{"$f":"IF(B267=\"\",\"\",SUMIF('الرصيد الثابت'!$D$2:$D$115,B267,'الرصيد الثابت'!$I$2:$I$115))","v":""},{"$f":"IF(B267=\"\",\"\",SUMIF('الرصيد الثابت'!$D$2:$D$115,B267,'الرصيد الثابت'!$J$2:$J$115))","v":""},null,0,null,null,null,null,0,null,null,null,0,null,0,null,null,null,null,null,null,null,null,null,null,null,null,null,null,null,null,null,null,null,null,null,null,null,null,null,null,null,null,null,null,null,null,null,null,null,null,null,null,null,null,null,null,null,null,null,null,null,null,null,null,null,null,null,null,null,null,null,null,null,null,null,null,null,null,null,{"$f":"IFERROR(VLOOKUP(ROWS($CF$3:CF267),$CH$3:$CI$2001,2,FALSE),\"\")","v":""},null,{"$f":"IF(ISNUMBER(SEARCH(B267,CI267)),MAX($CH$2:CH266)+1,0)","v":0}]
[null,null,{"$f":"IF(B268=\"\",\"\",SUMIF('الرصيد الثابت'!$D$2:$D$115,B268,'الرصيد الثابت'!$H$2:$H$115))","v":""},{"$f":"IF(B268=\"\",\"\",SUMIF('الرصيد الثابت'!$D$2:$D$115,B268,'الرصيد الثابت'!$I$2:$I$115))","v":""},{"$f":"IF(B268=\"\",\"\",SUMIF('الرصيد الثابت'!$D$2:$D$115,B268,'الرصيد الثابت'!$J$2:$J$115))","v":""},null,0,null,null,null,null,0,null,null,null,0,null,0,null,null,null,null,null,null,null,null,null,null,null,null,null,null,null,null,null,null,null,null,null,null,null,null,null,null,null,null,null,null,null,null,null,null,null,null,null,null,null,null,null,null,null,null,null,null,null,null,null,null,null,null,null,null,null,null,null,null,null,null,null,null,null,null,null,{"$f":"IFERROR(VLOOKUP(ROWS($CF$3:CF268),$CH$3:$CI$2001,2,FALSE),\"\")","v":""},null,{"$f":"IF(ISNUMBER(SEARCH(B268,CI268)),MAX($CH$2:CH267)+1,0)","v":0}]
[null,null,{"$f":"IF(B269=\"\",\"\",SUMIF('الرصيد الثابت'!$D$2:$D$115,B269,'الرصيد الثابت'!$H$2:$H$115))","v":""},{"$f":"IF(B269=\"\",\"\",SUMIF('الرصيد الثابت'!$D$2:$D$115,B269,'الرصيد الثابت'!$I$2:$I$115))","v":""},{"$f":"IF(B269=\"\",\"\",SUMIF('الرصيد الثابت'!$D$2:$D$115,B269,'الرصيد الثابت'!$J$2:$J$115))","v":""},null,0,null,null,null,null,0,null,null,null,0,null,0,null,null,null,null,null,null,null,null,null,null,null,null,null,null,null,null,null,null,null,null,null,null,null,null,null,null,null,null,null,null,null,null,null,null,null,null,null,null,null,null,null,null,null,null,null,null,null,null,null,null,null,null,null,null,null,null,null,null,null,null,null,null,null,null,null,{"$f":"IFERROR(VLOOKUP(ROWS($CF$3:CF269),$CH$3:$CI$2001,2,FALSE),\"\")","v":""},null,{"$f":"IF(ISNUMBER(SEARCH(B269,CI269)),MAX($CH$2:CH268)+1,0)","v":0}]
[null,null,{"$f":"IF(B270=\"\",\"\",SUMIF('الرصيد الثابت'!$D$2:$D$115,B270,'الرصيد الثابت'!$H$2:$H$115))","v":""},{"$f":"IF(B270=\"\",\"\",SUMIF('الرصيد الثابت'!$D$2:$D$115,B270,'الرصيد الثابت'!$I$2:$I$115))","v":""},{"$f":"IF(B270=\"\",\"\",SUMIF('الرصيد الثابت'!$D$2:$D$115,B270,'الرصيد الثابت'!$J$2:$J$115))","v":""},null,0,null,null,null,null,0,null,null,null,0,null,0,null,null,null,null,null,null,null,null,null,null,null,null,null,null,null,null,null,null,null,null,null,null,null,null,null,null,null,null,null,null,null,null,null,null,null,null,null,null,null,null,null,null,null,null,null,null,null,null,null,null,null,null,null,null,null,null,null,null,null,null,null,null,null,null,null,{"$f":"IFERROR(VLOOKUP(ROWS($CF$3:CF270),$CH$3:$CI$2001,2,FALSE),\"\")","v":""},null,{"$f":"IF(ISNUMBER(SEARCH(B270,CI270)),MAX($CH$2:CH269)+1,0)","v":0}]
[null,null,{"$f":"IF(B271=\"\",\"\",SUMIF('الرصيد الثابت'!$D$2:$D$115,B271,'الرصيد الثابت'!$H$2:$H$115))","v":""},{"$f":"IF(B271=\"\",\"\",SUMIF('الرصيد الثابت'!$D$2:$D$115,B271,'الرصيد الثابت'!$I$2:$I$115))","v":""},{"$f":"IF(B271=\"\",\"\",SUMIF('الرصيد الثابت'!$D$2:$D$115,B271,'الرصيد الثابت'!$J$2:$J$115))","v":""},null,0,null,null,null,null,0,null,null,null,0,null,0,null,null,null,null,null,null,null,null,null,null,null,null,null,null,null,null,null,null,null,null,null,null,null,null,null,null,null,null,null,null,null,null,null,null,null,null,null,null,null,null,null,null,null,null,null,null,null,null,null,null,null,null,null,null,null,null,null,null,null,null,null,null,null,null,null,{"$f":"IFERROR(VLOOKUP(ROWS($CF$3:CF271),$CH$3:$CI$2001,2,FALSE),\"\")","v":""},null,{"$f":"IF(ISNUMBER(SEARCH(B271,CI271)),MAX($CH$2:CH270)+1,0)","v":0}]
[null,null,{"$f":"IF(B272=\"\",\"\",SUMIF('الرصيد الثابت'!$D$2:$D$115,B272,'الرصيد الثابت'!$H$2:$H$115))","v":""},{"$f":"IF(B272=\"\",\"\",SUMIF('الرصيد الثابت'!$D$2:$D$115,B272,'الرصيد الثابت'!$I$2:$I$115))","v":""},{"$f":"IF(B272=\"\",\"\",SUMIF('الرصيد الثابت'!$D$2:$D$115,B272,'الرصيد الثابت'!$J$2:$J$115))","v":""},null,0,null,null,null,null,0,null,null,null,0,null,0,null,null,null,null,null,null,null,null,null,null,null,null,null,null,null,null,null,null,null,null,null,null,null,null,null,null,null,null,null,null,null,null,null,null,null,null,null,null,null,null,null,null,null,null,null,null,null,null,null,null,null,null,null,null,null,null,null,null,null,null,null,null,null,null,null,{"$f":"IFERROR(VLOOKUP(ROWS($CF$3:CF272),$CH$3:$CI$2001,2,FALSE),\"\")","v":""},null,{"$f":"IF(ISNUMBER(SEARCH(B272,CI272)),MAX($CH$2:CH271)+1,0)","v":0}]
[null,null,{"$f":"IF(B273=\"\",\"\",SUMIF('الرصيد الثابت'!$D$2:$D$115,B273,'الرصيد الثابت'!$H$2:$H$115))","v":""},{"$f":"IF(B273=\"\",\"\",SUMIF('الرصيد الثابت'!$D$2:$D$115,B273,'الرصيد الثابت'!$I$2:$I$115))","v":""},{"$f":"IF(B273=\"\",\"\",SUMIF('الرصيد الثابت'!$D$2:$D$115,B273,'الرصيد الثابت'!$J$2:$J$115))","v":""},null,0,null,null,null,null,0,null,null,null,0,null,0,null,null,null,null,null,null,null,null,null,null,null,null,null,null,null,null,null,null,null,null,null,null,null,null,null,null,null,null,null,null,null,null,null,null,null,null,null,null,null,null,null,null,null,null,null,null,null,null,null,null,null,null,null,null,null,null,null,null,null,null,null,null,null,null,null,{"$f":"IFERROR(VLOOKUP(ROWS($CF$3:CF273),$CH$3:$CI$2001,2,FALSE),\"\")","v":""},null,{"$f":"IF(ISNUMBER(SEARCH(B273,CI273)),MAX($CH$2:CH272)+1,0)","v":0}]
[null,null,{"$f":"IF(B274=\"\",\"\",SUMIF('الرصيد الثابت'!$D$2:$D$115,B274,'الرصيد الثابت'!$H$2:$H$115))","v":""},{"$f":"IF(B274=\"\",\"\",SUMIF('الرصيد الثابت'!$D$2:$D$115,B274,'الرصيد الثابت'!$I$2:$I$115))","v":""},{"$f":"IF(B274=\"\",\"\",SUMIF('الرصيد الثابت'!$D$2:$D$115,B274,'الرصيد الثابت'!$J$2:$J$115))","v":""},null,0,null,null,null,null,0,null,null,null,0,null,0,null,null,null,null,null,null,null,null,null,null,null,null,null,null,null,null,null,null,null,null,null,null,null,null,null,null,null,null,null,null,null,null,null,null,null,null,null,null,null,null,null,null,null,null,null,null,null,null,null,null,null,null,null,null,null,null,null,null,null,null,null,null,null,null,null,{"$f":"IFERROR(VLOOKUP(ROWS($CF$3:CF274),$CH$3:$CI$2001,2,FALSE),\"\")","v":""},null,{"$f":"IF(ISNUMBER(SEARCH(B274,CI274)),MAX($CH$2:CH273)+1,0)","v":0}]
[null,null,{"$f":"IF(B275=\"\",\"\",SUMIF('الرصيد الثابت'!$D$2:$D$115,B275,'الرصيد الثابت'!$H$2:$H$115))","v":""},{"$f":"IF(B275=\"\",\"\",SUMIF('الرصيد الثابت'!$D$2:$D$115,B275,'الرصيد الثابت'!$I$2:$I$115))","v":""},{"$f":"IF(B275=\"\",\"\",SUMIF('الرصيد الثابت'!$D$2:$D$115,B275,'الرصيد الثابت'!$J$2:$J$115))","v":""},null,0,null,null,null,null,0,null,null,null,0,null,0,null,null,null,null,null,null,null,null,null,null,null,null,null,null,null,null,null,null,null,null,null,null,null,null,null,null,null,null,null,null,null,null,null,null,null,null,null,null,null,null,null,null,null,null,null,null,null,null,null,null,null,null,null,null,null,null,null,null,null,null,null,null,null,null,null,{"$f":"IFERROR(VLOOKUP(ROWS($CF$3:CF275),$CH$3:$CI$2001,2,FALSE),\"\")","v":""},null,{"$f":"IF(ISNUMBER(SEARCH(B275,CI275)),MAX($CH$2:CH274)+1,0)","v":0}]
[null,null,{"$f":"IF(B276=\"\",\"\",SUMIF('الرصيد الثابت'!$D$2:$D$115,B276,'الرصيد الثابت'!$H$2:$H$115))","v":""},{"$f":"IF(B276=\"\",\"\",SUMIF('الرصيد الثابت'!$D$2:$D$115,B276,'الرصيد الثابت'!$I$2:$I$115))","v":""},{"$f":"IF(B276=\"\",\"\",SUMIF('الرصيد الثابت'!$D$2:$D$115,B276,'الرصيد الثابت'!$J$2:$J$115))","v":""},null,0,null,null,null,null,0,null,null,null,0,null,0,null,null,null,null,null,null,null,null,null,null,null,null,null,null,null,null,null,null,null,null,null,null,null,null,null,null,null,null,null,null,null,null,null,null,null,null,null,null,null,null,null,null,null,null,null,null,null,null,null,null,null,null,null,null,null,null,null,null,null,null,null,null,null,null,null,{"$f":"IFERROR(VLOOKUP(ROWS($CF$3:CF276),$CH$3:$CI$2001,2,FALSE),\"\")","v":""},null,{"$f":"IF(ISNUMBER(SEARCH(B276,CI276)),MAX($CH$2:CH275)+1,0)","v":0}]
[null,null,{"$f":"IF(B277=\"\",\"\",SUMIF('الرصيد الثابت'!$D$2:$D$115,B277,'الرصيد الثابت'!$H$2:$H$115))","v":""},{"$f":"IF(B277=\"\",\"\",SUMIF('الرصيد الثابت'!$D$2:$D$115,B277,'الرصيد الثابت'!$I$2:$I$115))","v":""},{"$f":"IF(B277=\"\",\"\",SUMIF('الرصيد الثابت'!$D$2:$D$115,B277,'الرصيد الثابت'!$J$2:$J$115))","v":""},null,0,null,null,null,null,0,null,null,null,0,null,0,null,null,null,null,null,null,null,null,null,null,null,null,null,null,null,null,null,null,null,null,null,null,null,null,null,null,null,null,null,null,null,null,null,null,null,null,null,null,null,null,null,null,null,null,null,null,null,null,null,null,null,null,null,null,null,null,null,null,null,null,null,null,null,null,null,{"$f":"IFERROR(VLOOKUP(ROWS($CF$3:CF277),$CH$3:$CI$2001,2,FALSE),\"\")","v":""},null,{"$f":"IF(ISNUMBER(SEARCH(B277,CI277)),MAX($CH$2:CH276)+1,0)","v":0}]
[null,null,{"$f":"IF(B278=\"\",\"\",SUMIF('الرصيد الثابت'!$D$2:$D$115,B278,'الرصيد الثابت'!$H$2:$H$115))","v":""},{"$f":"IF(B278=\"\",\"\",SUMIF('الرصيد الثابت'!$D$2:$D$115,B278,'الرصيد الثابت'!$I$2:$I$115))","v":""},{"$f":"IF(B278=\"\",\"\",SUMIF('الرصيد الثابت'!$D$2:$D$115,B278,'الرصيد الثابت'!$J$2:$J$115))","v":""},null,0,null,null,null,null,0,null,null,null,0,null,0,null,null,null,null,null,null,null,null,null,null,null,null,null,null,null,null,null,null,null,null,null,null,null,null,null,null,null,null,null,null,null,null,null,null,null,null,null,null,null,null,null,null,null,null,null,null,null,null,null,null,null,null,null,null,null,null,null,null,null,null,null,null,null,null,null,{"$f":"IFERROR(VLOOKUP(ROWS($CF$3:CF278),$CH$3:$CI$2001,2,FALSE),\"\")","v":""},null,{"$f":"IF(ISNUMBER(SEARCH(B278,CI278)),MAX($CH$2:CH277)+1,0)","v":0}]
[null,null,{"$f":"IF(B279=\"\",\"\",SUMIF('الرصيد الثابت'!$D$2:$D$115,B279,'الرصيد الثابت'!$H$2:$H$115))","v":""},{"$f":"IF(B279=\"\",\"\",SUMIF('الرصيد الثابت'!$D$2:$D$115,B279,'الرصيد الثابت'!$I$2:$I$115))","v":""},{"$f":"IF(B279=\"\",\"\",SUMIF('الرصيد الثابت'!$D$2:$D$115,B279,'الرصيد الثابت'!$J$2:$J$115))","v":""},null,0,null,null,null,null,0,null,null,null,0,null,0,null,null,null,null,null,null,null,null,null,null,null,null,null,null,null,null,null,null,null,null,null,null,null,null,null,null,null,null,null,null,null,null,null,null,null,null,null,null,null,null,null,null,null,null,null,null,null,null,null,null,null,null,null,null,null,null,null,null,null,null,null,null,null,null,null,{"$f":"IFERROR(VLOOKUP(ROWS($CF$3:CF279),$CH$3:$CI$2001,2,FALSE),\"\")","v":""},null,{"$f":"IF(ISNUMBER(SEARCH(B279,CI279)),MAX($CH$2:CH278)+1,0)","v":0}]
[null,null,{"$f":"IF(B280=\"\",\"\",SUMIF('الرصيد الثابت'!$D$2:$D$115,B280,'الرصيد الثابت'!$H$2:$H$115))","v":""},{"$f":"IF(B280=\"\",\"\",SUMIF('الرصيد الثابت'!$D$2:$D$115,B280,'الرصيد الثابت'!$I$2:$I$115))","v":""},{"$f":"IF(B280=\"\",\"\",SUMIF('الرصيد الثابت'!$D$2:$D$115,B280,'الرصيد الثابت'!$J$2:$J$115))","v":""},null,0,null,null,null,null,0,null,null,null,0,null,0,null,null,null,null,null,null,null,null,null,null,null,null,null,null,null,null,null,null,null,null,null,null,null,null,null,null,null,null,null,null,null,null,null,null,null,null,null,null,null,null,null,null,null,null,null,null,null,null,null,null,null,null,null,null,null,null,null,null,null,null,null,null,null,null,null,{"$f":"IFERROR(VLOOKUP(ROWS($CF$3:CF280),$CH$3:$CI$2001,2,FALSE),\"\")","v":""},null,{"$f":"IF(ISNUMBER(SEARCH(B280,CI280)),MAX($CH$2:CH279)+1,0)","v":0}]
[null,null,{"$f":"IF(B281=\"\",\"\",SUMIF('الرصيد الثابت'!$D$2:$D$115,B281,'الرصيد الثابت'!$H$2:$H$115))","v":""},{"$f":"IF(B281=\"\",\"\",SUMIF('الرصيد الثابت'!$D$2:$D$115,B281,'الرصيد الثابت'!$I$2:$I$115))","v":""},{"$f":"IF(B281=\"\",\"\",SUMIF('الرصيد الثابت'!$D$2:$D$115,B281,'الرصيد الثابت'!$J$2:$J$115))","v":""},null,0,null,null,null,null,0,null,null,null,0,null,0,null,null,null,null,null,null,null,null,null,null,null,null,null,null,null,null,null,null,null,null,null,null,null,null,null,null,null,null,null,null,null,null,null,null,null,null,null,null,null,null,null,null,null,null,null,null,null,null,null,null,null,null,null,null,null,null,null,null,null,null,null,null,null,null,null,{"$f":"IFERROR(VLOOKUP(ROWS($CF$3:CF281),$CH$3:$CI$2001,2,FALSE),\"\")","v":""},null,{"$f":"IF(ISNUMBER(SEARCH(B281,CI281)),MAX($CH$2:CH280)+1,0)","v":0}]
[null,null,{"$f":"IF(B282=\"\",\"\",SUMIF('الرصيد الثابت'!$D$2:$D$115,B282,'الرصيد الثابت'!$H$2:$H$115))","v":""},{"$f":"IF(B282=\"\",\"\",SUMIF('الرصيد الثابت'!$D$2:$D$115,B282,'الرصيد الثابت'!$I$2:$I$115))","v":""},{"$f":"IF(B282=\"\",\"\",SUMIF('الرصيد الثابت'!$D$2:$D$115,B282,'الرصيد الثابت'!$J$2:$J$115))","v":""},null,0,null,null,null,null,0,null,null,null,0,null,0,null,null,null,null,null,null,null,null,null,null,null,null,null,null,null,null,null,null,null,null,null,null,null,null,null,null,null,null,null,null,null,null,null,null,null,null,null,null,null,null,null,null,null,null,null,null,null,null,null,null,null,null,null,null,null,null,null,null,null,null,null,null,null,null,null,{"$f":"IFERROR(VLOOKUP(ROWS($CF$3:CF282),$CH$3:$CI$2001,2,FALSE),\"\")","v":""},null,{"$f":"IF(ISNUMBER(SEARCH(B282,CI282)),MAX($CH$2:CH281)+1,0)","v":0}]
[null,null,{"$f":"IF(B283=\"\",\"\",SUMIF('الرصيد الثابت'!$D$2:$D$115,B283,'الرصيد الثابت'!$H$2:$H$115))","v":""},{"$f":"IF(B283=\"\",\"\",SUMIF('الرصيد الثابت'!$D$2:$D$115,B283,'الرصيد الثابت'!$I$2:$I$115))","v":""},{"$f":"IF(B283=\"\",\"\",SUMIF('الرصيد الثابت'!$D$2:$D$115,B283,'الرصيد الثابت'!$J$2:$J$115))","v":""},null,0,null,null,null,null,0,null,null,null,0,null,0,null,null,null,null,null,null,null,null,null,null,null,null,null,null,null,null,null,null,null,null,null,null,null,null,null,null,null,null,null,null,null,null,null,null,null,null,null,null,null,null,null,null,null,null,null,null,null,null,null,null,null,null,null,null,null,null,null,null,null,null,null,null,null,null,null,{"$f":"IFERROR(VLOOKUP(ROWS($CF$3:CF283),$CH$3:$CI$2001,2,FALSE),\"\")","v":""},null,{"$f":"IF(ISNUMBER(SEARCH(B283,CI283)),MAX($CH$2:CH282)+1,0)","v":0}]
[null,null,{"$f":"IF(B284=\"\",\"\",SUMIF('الرصيد الثابت'!$D$2:$D$115,B284,'الرصيد الثابت'!$H$2:$H$115))","v":""},{"$f":"IF(B284=\"\",\"\",SUMIF('الرصيد الثابت'!$D$2:$D$115,B284,'الرصيد الثابت'!$I$2:$I$115))","v":""},{"$f":"IF(B284=\"\",\"\",SUMIF('الرصيد الثابت'!$D$2:$D$115,B284,'الرصيد الثابت'!$J$2:$J$115))","v":""},null,0,null,null,null,null,0,null,null,null,0,null,0,null,null,null,null,null,null,null,null,null,null,null,null,null,null,null,null,null,null,null,null,null,null,null,null,null,null,null,null,null,null,null,null,null,null,null,null,null,null,null,null,null,null,null,null,null,null,null,null,null,null,null,null,null,null,null,null,null,null,null,null,null,null,null,null,null,{"$f":"IFERROR(VLOOKUP(ROWS($CF$3:CF284),$CH$3:$CI$2001,2,FALSE),\"\")","v":""},null,{"$f":"IF(ISNUMBER(SEARCH(B284,CI284)),MAX($CH$2:CH283)+1,0)","v":0}]
[null,null,{"$f":"IF(B285=\"\",\"\",SUMIF('الرصيد الثابت'!$D$2:$D$115,B285,'الرصيد الثابت'!$H$2:$H$115))","v":""},{"$f":"IF(B285=\"\",\"\",SUMIF('الرصيد الثابت'!$D$2:$D$115,B285,'الرصيد الثابت'!$I$2:$I$115))","v":""},{"$f":"IF(B285=\"\",\"\",SUMIF('الرصيد الثابت'!$D$2:$D$115,B285,'الرصيد الثابت'!$J$2:$J$115))","v":""},null,0,null,null,null,null,0,null,null,null,0,null,0,null,null,null,null,null,null,null,null,null,null,null,null,null,null,null,null,null,null,null,null,null,null,null,null,null,null,null,null,null,null,null,null,null,null,null,null,null,null,null,null,null,null,null,null,null,null,null,null,null,null,null,null,null,null,null,null,null,null,null,null,null,null,null,null,null,{"$f":"IFERROR(VLOOKUP(ROWS($CF$3:CF285),$CH$3:$CI$2001,2,FALSE),\"\")","v":""},null,{"$f":"IF(ISNUMBER(SEARCH(B285,CI285)),MAX($CH$2:CH284)+1,0)","v":0}]
[null,null,{"$f":"IF(B286=\"\",\"\",SUMIF('الرصيد الثابت'!$D$2:$D$115,B286,'الرصيد الثابت'!$H$2:$H$115))","v":""},{"$f":"IF(B286=\"\",\"\",SUMIF('الرصيد الثابت'!$D$2:$D$115,B286,'الرصيد الثابت'!$I$2:$I$115))","v":""},{"$f":"IF(B286=\"\",\"\",SUMIF('الرصيد الثابت'!$D$2:$D$115,B286,'الرصيد الثابت'!$J$2:$J$115))","v":""},null,0,null,null,null,null,0,null,null,null,0,null,0,null,null,null,null,null,null,null,null,null,null,null,null,null,null,null,null,null,null,null,null,null,null,null,null,null,null,null,null,null,null,null,null,null,null,null,null,null,null,null,null,null,null,null,null,null,null,null,null,null,null,null,null,null,null,null,null,null,null,null,null,null,null,null,null,null,{"$f":"IFERROR(VLOOKUP(ROWS($CF$3:CF286),$CH$3:$CI$2001,2,FALSE),\"\")","v":""},null,{"$f":"IF(ISNUMBER(SEARCH(B286,CI286)),MAX($CH$2:CH285)+1,0)","v":0}]
[null,null,{"$f":"IF(B287=\"\",\"\",SUMIF('الرصيد الثابت'!$D$2:$D$115,B287,'الرصيد الثابت'!$H$2:$H$115))","v":""},{"$f":"IF(B287=\"\",\"\",SUMIF('الرصيد الثابت'!$D$2:$D$115,B287,'الرصيد الثابت'!$I$2:$I$115))","v":""},{"$f":"IF(B287=\"\",\"\",SUMIF('الرصيد الثابت'!$D$2:$D$115,B287,'الرصيد الثابت'!$J$2:$J$115))","v":""},null,0,null,null,null,null,0,null,null,null,0,null,0,null,null,null,null,null,null,null,null,null,null,null,null,null,null,null,null,null,null,null,null,null,null,null,null,null,null,null,null,null,null,null,null,null,null,null,null,null,null,null,null,null,null,null,null,null,null,null,null,null,null,null,null,null,null,null,null,null,null,null,null,null,null,null,null,null,{"$f":"IFERROR(VLOOKUP(ROWS($CF$3:CF287),$CH$3:$CI$2001,2,FALSE),\"\")","v":""},null,{"$f":"IF(ISNUMBER(SEARCH(B287,CI287)),MAX($CH$2:CH286)+1,0)","v":0}]
[null,null,{"$f":"IF(B288=\"\",\"\",SUMIF('الرصيد الثابت'!$D$2:$D$115,B288,'الرصيد الثابت'!$H$2:$H$115))","v":""},{"$f":"IF(B288=\"\",\"\",SUMIF('الرصيد الثابت'!$D$2:$D$115,B288,'الرصيد الثابت'!$I$2:$I$115))","v":""},{"$f":"IF(B288=\"\",\"\",SUMIF('الرصيد الثابت'!$D$2:$D$115,B288,'الرصيد الثابت'!$J$2:$J$115))","v":""},null,0,null,null,null,null,0,null,null,null,0,null,0,null,null,null,null,null,null,null,null,null,null,null,null,null,null,null,null,null,null,null,null,null,null,null,null,null,null,null,null,null,null,null,null,null,null,null,null,null,null,null,null,null,null,null,null,null,null,null,null,null,null,null,null,null,null,null,null,null,null,null,null,null,null,null,null,null,{"$f":"IFERROR(VLOOKUP(ROWS($CF$3:CF288),$CH$3:$CI$2001,2,FALSE),\"\")","v":""},null,{"$f":"IF(ISNUMBER(SEARCH(B288,CI288)),MAX($CH$2:CH287)+1,0)","v":0}]
[null,null,{"$f":"IF(B289=\"\",\"\",SUMIF('الرصيد الثابت'!$D$2:$D$115,B289,'الرصيد الثابت'!$H$2:$H$115))","v":""},{"$f":"IF(B289=\"\",\"\",SUMIF('الرصيد الثابت'!$D$2:$D$115,B289,'الرصيد الثابت'!$I$2:$I$115))","v":""},{"$f":"IF(B289=\"\",\"\",SUMIF('الرصيد الثابت'!$D$2:$D$115,B289,'الرصيد الثابت'!$J$2:$J$115))","v":""},null,0,null,null,null,null,0,null,null,null,0,null,0,null,null,null,null,null,null,null,null,null,null,null,null,null,null,null,null,null,null,null,null,null,null,null,null,null,null,null,null,null,null,null,null,null,null,null,null,null,null,null,null,null,null,null,null,null,null,null,null,null,null,null,null,null,null,null,null,null,null,null,null,null,null,null,null,null,{"$f":"IFERROR(VLOOKUP(ROWS($CF$3:CF289),$CH$3:$CI$2001,2,FALSE),\"\")","v":""},null,{"$f":"IF(ISNUMBER(SEARCH(B289,CI289)),MAX($CH$2:CH288)+1,0)","v":0}]
[null,null,{"$f":"IF(B290=\"\",\"\",SUMIF('الرصيد الثابت'!$D$2:$D$115,B290,'الرصيد الثابت'!$H$2:$H$115))","v":""},{"$f":"IF(B290=\"\",\"\",SUMIF('الرصيد الثابت'!$D$2:$D$115,B290,'الرصيد الثابت'!$I$2:$I$115))","v":""},{"$f":"IF(B290=\"\",\"\",SUMIF('الرصيد الثابت'!$D$2:$D$115,B290,'الرصيد الثابت'!$J$2:$J$115))","v":""},null,0,null,null,null,null,0,null,null,null,0,null,0,null,null,null,null,null,null,null,null,null,null,null,null,null,null,null,null,null,null,null,null,null,null,null,null,null,null,null,null,null,null,null,null,null,null,null,null,null,null,null,null,null,null,null,null,null,null,null,null,null,null,null,null,null,null,null,null,null,null,null,null,null,null,null,null,null,{"$f":"IFERROR(VLOOKUP(ROWS($CF$3:CF290),$CH$3:$CI$2001,2,FALSE),\"\")","v":""},null,{"$f":"IF(ISNUMBER(SEARCH(B290,CI290)),MAX($CH$2:CH289)+1,0)","v":0}]
[null,null,{"$f":"IF(B291=\"\",\"\",SUMIF('الرصيد الثابت'!$D$2:$D$115,B291,'الرصيد الثابت'!$H$2:$H$115))","v":""},{"$f":"IF(B291=\"\",\"\",SUMIF('الرصيد الثابت'!$D$2:$D$115,B291,'الرصيد الثابت'!$I$2:$I$115))","v":""},{"$f":"IF(B291=\"\",\"\",SUMIF('الرصيد الثابت'!$D$2:$D$115,B291,'الرصيد الثابت'!$J$2:$J$115))","v":""},null,0,null,null,null,null,0,null,null,null,0,null,0,null,null,null,null,null,null,null,null,null,null,null,null,null,null,null,null,null,null,null,null,null,null,null,null,null,null,null,null,null,null,null,null,null,null,null,null,null,null,null,null,null,null,null,null,null,null,null,null,null,null,null,null,null,null,null,null,null,null,null,null,null,null,null,null,null,{"$f":"IFERROR(VLOOKUP(ROWS($CF$3:CF291),$CH$3:$CI$2001,2,FALSE),\"\")","v":""},null,{"$f":"IF(ISNUMBER(SEARCH(B291,CI291)),MAX($CH$2:CH290)+1,0)","v":0}]
[null,null,{"$f":"IF(B292=\"\",\"\",SUMIF('الرصيد الثابت'!$D$2:$D$115,B292,'الرصيد الثابت'!$H$2:$H$115))","v":""},{"$f":"IF(B292=\"\",\"\",SUMIF('الرصيد الثابت'!$D$2:$D$115,B292,'الرصيد الثابت'!$I$2:$I$115))","v":""},{"$f":"IF(B292=\"\",\"\",SUMIF('الرصيد الثابت'!$D$2:$D$115,B292,'الرصيد الثابت'!$J$2:$J$115))","v":""},null,0,null,null,null,null,0,null,null,null,0,null,0,null,null,null,null,null,null,null,null,null,null,null,null,null,null,null,null,null,null,null,null,null,null,null,null,null,null,null,null,null,null,null,null,null,null,null,null,null,null,null,null,null,null,null,null,null,null,null,null,null,null,null,null,null,null,null,null,null,null,null,null,null,null,null,null,null,{"$f":"IFERROR(VLOOKUP(ROWS($CF$3:CF292),$CH$3:$CI$2001,2,FALSE),\"\")","v":""},null,{"$f":"IF(ISNUMBER(SEARCH(B292,CI292)),MAX($CH$2:CH291)+1,0)","v":0}]
[null,null,{"$f":"IF(B293=\"\",\"\",SUMIF('الرصيد الثابت'!$D$2:$D$115,B293,'الرصيد الثابت'!$H$2:$H$115))","v":""},{"$f":"IF(B293=\"\",\"\",SUMIF('الرصيد الثابت'!$D$2:$D$115,B293,'الرصيد الثابت'!$I$2:$I$115))","v":""},{"$f":"IF(B293=\"\",\"\",SUMIF('الرصيد الثابت'!$D$2:$D$115,B293,'الرصيد الثابت'!$J$2:$J$115))","v":""},null,0,null,null,null,null,0,null,null,null,0,null,0,null,null,null,null,null,null,null,null,null,null,null,null,null,null,null,null,null,null,null,null,null,null,null,null,null,null,null,null,null,null,null,null,null,null,null,null,null,null,null,null,null,null,null,null,null,null,null,null,null,null,null,null,null,null,null,null,null,null,null,null,null,null,null,null,null,{"$f":"IFERROR(VLOOKUP(ROWS($CF$3:CF293),$CH$3:$CI$2001,2,FALSE),\"\")","v":""},null,{"$f":"IF(ISNUMBER(SEARCH(B293,CI293)),MAX($CH$2:CH292)+1,0)","v":0}]
[null,null,{"$f":"IF(B294=\"\",\"\",SUMIF('الرصيد الثابت'!$D$2:$D$115,B294,'الرصيد الثابت'!$H$2:$H$115))","v":""},{"$f":"IF(B294=\"\",\"\",SUMIF('الرصيد الثابت'!$D$2:$D$115,B294,'الرصيد الثابت'!$I$2:$I$115))","v":""},{"$f":"IF(B294=\"\",\"\",SUMIF('الرصيد الثابت'!$D$2:$D$115,B294,'الرصيد الثابت'!$J$2:$J$115))","v":""},null,0,null,null,null,null,0,null,null,null,0,null,0,null,null,null,null,null,null,null,null,null,null,null,null,null,null,null,null,null,null,null,null,null,null,null,null,null,null,null,null,null,null,null,null,null,null,null,null,null,null,null,null,null,null,null,null,null,null,null,null,null,null,null,null,null,null,null,null,null,null,null,null,null,null,null,null,null,{"$f":"IFERROR(VLOOKUP(ROWS($CF$3:CF294),$CH$3:$CI$2001,2,FALSE),\"\")","v":""},null,{"$f":"IF(ISNUMBER(SEARCH(B294,CI294)),MAX($CH$2:CH293)+1,0)","v":0}]
[null,null,{"$f":"IF(B295=\"\",\"\",SUMIF('الرصيد الثابت'!$D$2:$D$115,B295,'الرصيد الثابت'!$H$2:$H$115))","v":""},{"$f":"IF(B295=\"\",\"\",SUMIF('الرصيد الثابت'!$D$2:$D$115,B295,'الرصيد الثابت'!$I$2:$I$115))","v":""},{"$f":"IF(B295=\"\",\"\",SUMIF('الرصيد الثابت'!$D$2:$D$115,B295,'الرصيد الثابت'!$J$2:$J$115))","v":""},null,0,null,null,null,null,0,null,null,null,0,null,0,null,null,null,null,null,null,null,null,null,null,null,null,null,null,null,null,null,null,null,null,null,null,null,null,null,null,null,null,null,null,null,null,null,null,null,null,null,null,null,null,null,null,null,null,null,null,null,null,null,null,null,null,null,null,null,null,null,null,null,null,null,null,null,null,null,{"$f":"IFERROR(VLOOKUP(ROWS($CF$3:CF295),$CH$3:$CI$2001,2,FALSE),\"\")","v":""},null,{"$f":"IF(ISNUMBER(SEARCH(B295,CI295)),MAX($CH$2:CH294)+1,0)","v":0}]
[null,null,{"$f":"IF(B296=\"\",\"\",SUMIF('الرصيد الثابت'!$D$2:$D$115,B296,'الرصيد الثابت'!$H$2:$H$115))","v":""},{"$f":"IF(B296=\"\",\"\",SUMIF('الرصيد الثابت'!$D$2:$D$115,B296,'الرصيد الثابت'!$I$2:$I$115))","v":""},{"$f":"IF(B296=\"\",\"\",SUMIF('الرصيد الثابت'!$D$2:$D$115,B296,'الرصيد الثابت'!$J$2:$J$115))","v":""},null,0,null,null,null,null,0,null,null,null,0,null,0,null,null,null,null,null,null,null,null,null,null,null,null,null,null,null,null,null,null,null,null,null,null,null,null,null,null,null,null,null,null,null,null,null,null,null,null,null,null,null,null,null,null,null,null,null,null,null,null,null,null,null,null,null,null,null,null,null,null,null,null,null,null,null,null,null,{"$f":"IFERROR(VLOOKUP(ROWS($CF$3:CF296),$CH$3:$CI$2001,2,FALSE),\"\")","v":""},null,{"$f":"IF(ISNUMBER(SEARCH(B296,CI296)),MAX($CH$2:CH295)+1,0)","v":0}]
[null,null,{"$f":"IF(B297=\"\",\"\",SUMIF('الرصيد الثابت'!$D$2:$D$115,B297,'الرصيد الثابت'!$H$2:$H$115))","v":""},{"$f":"IF(B297=\"\",\"\",SUMIF('الرصيد الثابت'!$D$2:$D$115,B297,'الرصيد الثابت'!$I$2:$I$115))","v":""},{"$f":"IF(B297=\"\",\"\",SUMIF('الرصيد الثابت'!$D$2:$D$115,B297,'الرصيد الثابت'!$J$2:$J$115))","v":""},null,0,null,null,null,null,0,null,null,null,0,null,0,null,null,null,null,null,null,null,null,null,null,null,null,null,null,null,null,null,null,null,null,null,null,null,null,null,null,null,null,null,null,null,null,null,null,null,null,null,null,null,null,null,null,null,null,null,null,null,null,null,null,null,null,null,null,null,null,null,null,null,null,null,null,null,null,null,{"$f":"IFERROR(VLOOKUP(ROWS($CF$3:CF297),$CH$3:$CI$2001,2,FALSE),\"\")","v":""},null,{"$f":"IF(ISNUMBER(SEARCH(B297,CI297)),MAX($CH$2:CH296)+1,0)","v":0}]
[null,null,{"$f":"IF(B298=\"\",\"\",SUMIF('الرصيد الثابت'!$D$2:$D$115,B298,'الرصيد الثابت'!$H$2:$H$115))","v":""},{"$f":"IF(B298=\"\",\"\",SUMIF('الرصيد الثابت'!$D$2:$D$115,B298,'الرصيد الثابت'!$I$2:$I$115))","v":""},{"$f":"IF(B298=\"\",\"\",SUMIF('الرصيد الثابت'!$D$2:$D$115,B298,'الرصيد الثابت'!$J$2:$J$115))","v":""},null,0,null,null,null,null,0,null,null,null,0,null,0,null,null,null,null,null,null,null,null,null,null,null,null,null,null,null,null,null,null,null,null,null,null,null,null,null,null,null,null,null,null,null,null,null,null,null,null,null,null,null,null,null,null,null,null,null,null,null,null,null,null,null,null,null,null,null,null,null,null,null,null,null,null,null,null,null,{"$f":"IFERROR(VLOOKUP(ROWS($CF$3:CF298),$CH$3:$CI$2001,2,FALSE),\"\")","v":""},null,{"$f":"IF(ISNUMBER(SEARCH(B298,CI298)),MAX($CH$2:CH297)+1,0)","v":0}]
[null,null,{"$f":"IF(B299=\"\",\"\",SUMIF('الرصيد الثابت'!$D$2:$D$115,B299,'الرصيد الثابت'!$H$2:$H$115))","v":""},{"$f":"IF(B299=\"\",\"\",SUMIF('الرصيد الثابت'!$D$2:$D$115,B299,'الرصيد الثابت'!$I$2:$I$115))","v":""},{"$f":"IF(B299=\"\",\"\",SUMIF('الرصيد الثابت'!$D$2:$D$115,B299,'الرصيد الثابت'!$J$2:$J$115))","v":""},null,0,null,null,null,null,0,null,null,null,0,null,0,null,null,null,null,null,null,null,null,null,null,null,null,null,null,null,null,null,null,null,null,null,null,null,null,null,null,null,null,null,null,null,null,null,null,null,null,null,null,null,null,null,null,null,null,null,null,null,null,null,null,null,null,null,null,null,null,null,null,null,null,null,null,null,null,null,{"$f":"IFERROR(VLOOKUP(ROWS($CF$3:CF299),$CH$3:$CI$2001,2,FALSE),\"\")","v":""},null,{"$f":"IF(ISNUMBER(SEARCH(B299,CI299)),MAX($CH$2:CH298)+1,0)","v":0}]
[null,null,{"$f":"IF(B300=\"\",\"\",SUMIF('الرصيد الثابت'!$D$2:$D$115,B300,'الرصيد الثابت'!$H$2:$H$115))","v":""},{"$f":"IF(B300=\"\",\"\",SUMIF('الرصيد الثابت'!$D$2:$D$115,B300,'الرصيد الثابت'!$I$2:$I$115))","v":""},{"$f":"IF(B300=\"\",\"\",SUMIF('الرصيد الثابت'!$D$2:$D$115,B300,'الرصيد الثابت'!$J$2:$J$115))","v":""},null,0,null,null,null,null,0,null,null,null,0,null,0,null,null,null,null,null,null,null,null,null,null,null,null,null,null,null,null,null,null,null,null,null,null,null,null,null,null,null,null,null,null,null,null,null,null,null,null,null,null,null,null,null,null,null,null,null,null,null,null,null,null,null,null,null,null,null,null,null,null,null,null,null,null,null,null,null,{"$f":"IFERROR(VLOOKUP(ROWS($CF$3:CF300),$CH$3:$CI$2001,2,FALSE),\"\")","v":""},null,{"$f":"IF(ISNUMBER(SEARCH(B300,CI300)),MAX($CH$2:CH299)+1,0)","v":0}]
[null,null,{"$f":"IF(B301=\"\",\"\",SUMIF('الرصيد الثابت'!$D$2:$D$115,B301,'الرصيد الثابت'!$H$2:$H$115))","v":""},{"$f":"IF(B301=\"\",\"\",SUMIF('الرصيد الثابت'!$D$2:$D$115,B301,'الرصيد الثابت'!$I$2:$I$115))","v":""},{"$f":"IF(B301=\"\",\"\",SUMIF('الرصيد الثابت'!$D$2:$D$115,B301,'الرصيد الثابت'!$J$2:$J$115))","v":""},null,0,null,null,null,null,0,null,null,null,0,null,0,null,null,null,null,null,null,null,null,null,null,null,null,null,null,null,null,null,null,null,null,null,null,null,null,null,null,null,null,null,null,null,null,null,null,null,null,null,null,null,null,null,null,null,null,null,null,null,null,null,null,null,null,null,null,null,null,null,null,null,null,null,null,null,null,null,{"$f":"IFERROR(VLOOKUP(ROWS($CF$3:CF301),$CH$3:$CI$2001,2,FALSE),\"\")","v":""},null,{"$f":"IF(ISNUMBER(SEARCH(B301,CI301)),MAX($CH$2:CH300)+1,0)","v":0}]
[null,null,{"$f":"IF(B302=\"\",\"\",SUMIF('الرصيد الثابت'!$D$2:$D$115,B302,'الرصيد الثابت'!$H$2:$H$115))","v":""},{"$f":"IF(B302=\"\",\"\",SUMIF('الرصيد الثابت'!$D$2:$D$115,B302,'الرصيد الثابت'!$I$2:$I$115))","v":""},{"$f":"IF(B302=\"\",\"\",SUMIF('الرصيد الثابت'!$D$2:$D$115,B302,'الرصيد الثابت'!$J$2:$J$115))","v":""},null,0,null,null,null,null,0,null,null,null,0,null,0,null,null,null,null,null,null,null,null,null,null,null,null,null,null,null,null,null,null,null,null,null,null,null,null,null,null,null,null,null,null,null,null,null,null,null,null,null,null,null,null,null,null,null,null,null,null,null,null,null,null,null,null,null,null,null,null,null,null,null,null,null,null,null,null,null,{"$f":"IFERROR(VLOOKUP(ROWS($CF$3:CF302),$CH$3:$CI$2001,2,FALSE),\"\")","v":""},null,{"$f":"IF(ISNUMBER(SEARCH(B302,CI302)),MAX($CH$2:CH301)+1,0)","v":0}]
[null,null,{"$f":"IF(B303=\"\",\"\",SUMIF('الرصيد الثابت'!$D$2:$D$115,B303,'الرصيد الثابت'!$H$2:$H$115))","v":""},{"$f":"IF(B303=\"\",\"\",SUMIF('الرصيد الثابت'!$D$2:$D$115,B303,'الرصيد الثابت'!$I$2:$I$115))","v":""},{"$f":"IF(B303=\"\",\"\",SUMIF('الرصيد الثابت'!$D$2:$D$115,B303,'الرصيد الثابت'!$J$2:$J$115))","v":""},null,0,null,null,null,null,0,null,null,null,0,null,0,null,null,null,null,null,null,null,null,null,null,null,null,null,null,null,null,null,null,null,null,null,null,null,null,null,null,null,null,null,null,null,null,null,null,null,null,null,null,null,null,null,null,null,null,null,null,null,null,null,null,null,null,null,null,null,null,null,null,null,null,null,null,null,null,null,{"$f":"IFERROR(VLOOKUP(ROWS($CF$3:CF303),$CH$3:$CI$2001,2,FALSE),\"\")","v":""},null,{"$f":"IF(ISNUMBER(SEARCH(B303,CI303)),MAX($CH$2:CH302)+1,0)","v":0}]
[null,null,{"$f":"IF(B304=\"\",\"\",SUMIF('الرصيد الثابت'!$D$2:$D$115,B304,'الرصيد الثابت'!$H$2:$H$115))","v":""},{"$f":"IF(B304=\"\",\"\",SUMIF('الرصيد الثابت'!$D$2:$D$115,B304,'الرصيد الثابت'!$I$2:$I$115))","v":""},{"$f":"IF(B304=\"\",\"\",SUMIF('الرصيد الثابت'!$D$2:$D$115,B304,'الرصيد الثابت'!$J$2:$J$115))","v":""},null,0,null,null,null,null,0,null,null,null,0,null,0,null,null,null,null,null,null,null,null,null,null,null,null,null,null,null,null,null,null,null,null,null,null,null,null,null,null,null,null,null,null,null,null,null,null,null,null,null,null,null,null,null,null,null,null,null,null,null,null,null,null,null,null,null,null,null,null,null,null,null,null,null,null,null,null,null,{"$f":"IFERROR(VLOOKUP(ROWS($CF$3:CF304),$CH$3:$CI$2001,2,FALSE),\"\")","v":""},null,{"$f":"IF(ISNUMBER(SEARCH(B304,CI304)),MAX($CH$2:CH303)+1,0)","v":0}]
[null,null,{"$f":"IF(B305=\"\",\"\",SUMIF('الرصيد الثابت'!$D$2:$D$115,B305,'الرصيد الثابت'!$H$2:$H$115))","v":""},{"$f":"IF(B305=\"\",\"\",SUMIF('الرصيد الثابت'!$D$2:$D$115,B305,'الرصيد الثابت'!$I$2:$I$115))","v":""},{"$f":"IF(B305=\"\",\"\",SUMIF('الرصيد الثابت'!$D$2:$D$115,B305,'الرصيد الثابت'!$J$2:$J$115))","v":""},null,0,null,null,null,null,0,null,null,null,0,null,0,null,null,null,null,null,null,null,null,null,null,null,null,null,null,null,null,null,null,null,null,null,null,null,null,null,null,null,null,null,null,null,null,null,null,null,null,null,null,null,null,null,null,null,null,null,null,null,null,null,null,null,null,null,null,null,null,null,null,null,null,null,null,null,null,null,{"$f":"IFERROR(VLOOKUP(ROWS($CF$3:CF305),$CH$3:$CI$2001,2,FALSE),\"\")","v":""},null,{"$f":"IF(ISNUMBER(SEARCH(B305,CI305)),MAX($CH$2:CH304)+1,0)","v":0}]
[null,null,{"$f":"IF(B306=\"\",\"\",SUMIF('الرصيد الثابت'!$D$2:$D$115,B306,'الرصيد الثابت'!$H$2:$H$115))","v":""},{"$f":"IF(B306=\"\",\"\",SUMIF('الرصيد الثابت'!$D$2:$D$115,B306,'الرصيد الثابت'!$I$2:$I$115))","v":""},{"$f":"IF(B306=\"\",\"\",SUMIF('الرصيد الثابت'!$D$2:$D$115,B306,'الرصيد الثابت'!$J$2:$J$115))","v":""},null,0,null,null,null,null,0,null,null,null,0,null,0,null,null,null,null,null,null,null,null,null,null,null,null,null,null,null,null,null,null,null,null,null,null,null,null,null,null,null,null,null,null,null,null,null,null,null,null,null,null,null,null,null,null,null,null,null,null,null,null,null,null,null,null,null,null,null,null,null,null,null,null,null,null,null,null,null,{"$f":"IFERROR(VLOOKUP(ROWS($CF$3:CF306),$CH$3:$CI$2001,2,FALSE),\"\")","v":""},null,{"$f":"IF(ISNUMBER(SEARCH(B306,CI306)),MAX($CH$2:CH305)+1,0)","v":0}]
[null,null,{"$f":"IF(B307=\"\",\"\",SUMIF('الرصيد الثابت'!$D$2:$D$115,B307,'الرصيد الثابت'!$H$2:$H$115))","v":""},{"$f":"IF(B307=\"\",\"\",SUMIF('الرصيد الثابت'!$D$2:$D$115,B307,'الرصيد الثابت'!$I$2:$I$115))","v":""},{"$f":"IF(B307=\"\",\"\",SUMIF('الرصيد الثابت'!$D$2:$D$115,B307,'الرصيد الثابت'!$J$2:$J$115))","v":""},null,0,null,null,null,null,0,null,null,null,0,null,0,null,null,null,null,null,null,null,null,null,null,null,null,null,null,null,null,null,null,null,null,null,null,null,null,null,null,null,null,null,null,null,null,null,null,null,null,null,null,null,null,null,null,null,null,null,null,null,null,null,null,null,null,null,null,null,null,null,null,null,null,null,null,null,null,null,{"$f":"IFERROR(VLOOKUP(ROWS($CF$3:CF307),$CH$3:$CI$2001,2,FALSE),\"\")","v":""},null,{"$f":"IF(ISNUMBER(SEARCH(B307,CI307)),MAX($CH$2:CH306)+1,0)","v":0}]
[null,null,{"$f":"IF(B308=\"\",\"\",SUMIF('الرصيد الثابت'!$D$2:$D$115,B308,'الرصيد الثابت'!$H$2:$H$115))","v":""},{"$f":"IF(B308=\"\",\"\",SUMIF('الرصيد الثابت'!$D$2:$D$115,B308,'الرصيد الثابت'!$I$2:$I$115))","v":""},{"$f":"IF(B308=\"\",\"\",SUMIF('الرصيد الثابت'!$D$2:$D$115,B308,'الرصيد الثابت'!$J$2:$J$115))","v":""},null,0,null,null,null,null,0,null,null,null,0,null,0,null,null,null,null,null,null,null,null,null,null,null,null,null,null,null,null,null,null,null,null,null,null,null,null,null,null,null,null,null,null,null,null,null,null,null,null,null,null,null,null,null,null,null,null,null,null,null,null,null,null,null,null,null,null,null,null,null,null,null,null,null,null,null,null,null,{"$f":"IFERROR(VLOOKUP(ROWS($CF$3:CF308),$CH$3:$CI$2001,2,FALSE),\"\")","v":""},null,{"$f":"IF(ISNUMBER(SEARCH(B308,CI308)),MAX($CH$2:CH307)+1,0)","v":0}]
[null,null,{"$f":"IF(B309=\"\",\"\",SUMIF('الرصيد الثابت'!$D$2:$D$115,B309,'الرصيد الثابت'!$H$2:$H$115))","v":""},{"$f":"IF(B309=\"\",\"\",SUMIF('الرصيد الثابت'!$D$2:$D$115,B309,'الرصيد الثابت'!$I$2:$I$115))","v":""},{"$f":"IF(B309=\"\",\"\",SUMIF('الرصيد الثابت'!$D$2:$D$115,B309,'الرصيد الثابت'!$J$2:$J$115))","v":""},null,0,null,null,null,null,0,null,null,null,0,null,0,null,null,null,null,null,null,null,null,null,null,null,null,null,null,null,null,null,null,null,null,null,null,null,null,null,null,null,null,null,null,null,null,null,null,null,null,null,null,null,null,null,null,null,null,null,null,null,null,null,null,null,null,null,null,null,null,null,null,null,null,null,null,null,null,null,{"$f":"IFERROR(VLOOKUP(ROWS($CF$3:CF309),$CH$3:$CI$2001,2,FALSE),\"\")","v":""},null,{"$f":"IF(ISNUMBER(SEARCH(B309,CI309)),MAX($CH$2:CH308)+1,0)","v":0}]
[null,null,{"$f":"IF(B310=\"\",\"\",SUMIF('الرصيد الثابت'!$D$2:$D$115,B310,'الرصيد الثابت'!$H$2:$H$115))","v":""},{"$f":"IF(B310=\"\",\"\",SUMIF('الرصيد الثابت'!$D$2:$D$115,B310,'الرصيد الثابت'!$I$2:$I$115))","v":""},{"$f":"IF(B310=\"\",\"\",SUMIF('الرصيد الثابت'!$D$2:$D$115,B310,'الرصيد الثابت'!$J$2:$J$115))","v":""},null,0,null,null,null,null,0,null,null,null,0,null,0,null,null,null,null,null,null,null,null,null,null,null,null,null,null,null,null,null,null,null,null,null,null,null,null,null,null,null,null,null,null,null,null,null,null,null,null,null,null,null,null,null,null,null,null,null,null,null,null,null,null,null,null,null,null,null,null,null,null,null,null,null,null,null,null,null,{"$f":"IFERROR(VLOOKUP(ROWS($CF$3:CF310),$CH$3:$CI$2001,2,FALSE),\"\")","v":""},null,{"$f":"IF(ISNUMBER(SEARCH(B310,CI310)),MAX($CH$2:CH309)+1,0)","v":0}]
[null,null,{"$f":"IF(B311=\"\",\"\",SUMIF('الرصيد الثابت'!$D$2:$D$115,B311,'الرصيد الثابت'!$H$2:$H$115))","v":""},{"$f":"IF(B311=\"\",\"\",SUMIF('الرصيد الثابت'!$D$2:$D$115,B311,'الرصيد الثابت'!$I$2:$I$115))","v":""},{"$f":"IF(B311=\"\",\"\",SUMIF('الرصيد الثابت'!$D$2:$D$115,B311,'الرصيد الثابت'!$J$2:$J$115))","v":""},null,0,null,null,null,null,0,null,null,null,0,null,0,null,null,null,null,null,null,null,null,null,null,null,null,null,null,null,null,null,null,null,null,null,null,null,null,null,null,null,null,null,null,null,null,null,null,null,null,null,null,null,null,null,null,null,null,null,null,null,null,null,null,null,null,null,null,null,null,null,null,null,null,null,null,null,null,null,{"$f":"IFERROR(VLOOKUP(ROWS($CF$3:CF311),$CH$3:$CI$2001,2,FALSE),\"\")","v":""},null,{"$f":"IF(ISNUMBER(SEARCH(B311,CI311)),MAX($CH$2:CH310)+1,0)","v":0}]
[null,null,{"$f":"IF(B312=\"\",\"\",SUMIF('الرصيد الثابت'!$D$2:$D$115,B312,'الرصيد الثابت'!$H$2:$H$115))","v":""},{"$f":"IF(B312=\"\",\"\",SUMIF('الرصيد الثابت'!$D$2:$D$115,B312,'الرصيد الثابت'!$I$2:$I$115))","v":""},{"$f":"IF(B312=\"\",\"\",SUMIF('الرصيد الثابت'!$D$2:$D$115,B312,'الرصيد الثابت'!$J$2:$J$115))","v":""},null,0,null,null,null,null,0,null,null,null,0,null,0,null,null,null,null,null,null,null,null,null,null,null,null,null,null,null,null,null,null,null,null,null,null,null,null,null,null,null,null,null,null,null,null,null,null,null,null,null,null,null,null,null,null,null,null,null,null,null,null,null,null,null,null,null,null,null,null,null,null,null,null,null,null,null,null,null,{"$f":"IFERROR(VLOOKUP(ROWS($CF$3:CF312),$CH$3:$CI$2001,2,FALSE),\"\")","v":""},null,{"$f":"IF(ISNUMBER(SEARCH(B312,CI312)),MAX($CH$2:CH311)+1,0)","v":0}]
[null,null,{"$f":"IF(B313=\"\",\"\",SUMIF('الرصيد الثابت'!$D$2:$D$115,B313,'الرصيد الثابت'!$H$2:$H$115))","v":""},{"$f":"IF(B313=\"\",\"\",SUMIF('الرصيد الثابت'!$D$2:$D$115,B313,'الرصيد الثابت'!$I$2:$I$115))","v":""},{"$f":"IF(B313=\"\",\"\",SUMIF('الرصيد الثابت'!$D$2:$D$115,B313,'الرصيد الثابت'!$J$2:$J$115))","v":""},null,0,null,null,null,null,0,null,null,null,0,null,0,null,null,null,null,null,null,null,null,null,null,null,null,null,null,null,null,null,null,null,null,null,null,null,null,null,null,null,null,null,null,null,null,null,null,null,null,null,null,null,null,null,null,null,null,null,null,null,null,null,null,null,null,null,null,null,null,null,null,null,null,null,null,null,null,null,{"$f":"IFERROR(VLOOKUP(ROWS($CF$3:CF313),$CH$3:$CI$2001,2,FALSE),\"\")","v":""},null,{"$f":"IF(ISNUMBER(SEARCH(B313,CI313)),MAX($CH$2:CH312)+1,0)","v":0}]
[null,null,{"$f":"IF(B314=\"\",\"\",SUMIF('الرصيد الثابت'!$D$2:$D$115,B314,'الرصيد الثابت'!$H$2:$H$115))","v":""},{"$f":"IF(B314=\"\",\"\",SUMIF('الرصيد الثابت'!$D$2:$D$115,B314,'الرصيد الثابت'!$I$2:$I$115))","v":""},{"$f":"IF(B314=\"\",\"\",SUMIF('الرصيد الثابت'!$D$2:$D$115,B314,'الرصيد الثابت'!$J$2:$J$115))","v":""},null,0,null,null,null,null,0,null,null,null,0,null,0,null,null,null,null,null,null,null,null,null,null,null,null,null,null,null,null,null,null,null,null,null,null,null,null,null,null,null,null,null,null,null,null,null,null,null,null,null,null,null,null,null,null,null,null,null,null,null,null,null,null,null,null,null,null,null,null,null,null,null,null,null,null,null,null,null,{"$f":"IFERROR(VLOOKUP(ROWS($CF$3:CF314),$CH$3:$CI$2001,2,FALSE),\"\")","v":""},null,{"$f":"IF(ISNUMBER(SEARCH(B314,CI314)),MAX($CH$2:CH313)+1,0)","v":0}]
[null,null,{"$f":"IF(B315=\"\",\"\",SUMIF('الرصيد الثابت'!$D$2:$D$115,B315,'الرصيد الثابت'!$H$2:$H$115))","v":""},{"$f":"IF(B315=\"\",\"\",SUMIF('الرصيد الثابت'!$D$2:$D$115,B315,'الرصيد الثابت'!$I$2:$I$115))","v":""},{"$f":"IF(B315=\"\",\"\",SUMIF('الرصيد الثابت'!$D$2:$D$115,B315,'الرصيد الثابت'!$J$2:$J$115))","v":""},null,0,null,null,null,null,0,null,null,null,0,null,0,null,null,null,null,null,null,null,null,null,null,null,null,null,null,null,null,null,null,null,null,null,null,null,null,null,null,null,null,null,null,null,null,null,null,null,null,null,null,null,null,null,null,null,null,null,null,null,null,null,null,null,null,null,null,null,null,null,null,null,null,null,null,null,null,null,{"$f":"IFERROR(VLOOKUP(ROWS($CF$3:CF315),$CH$3:$CI$2001,2,FALSE),\"\")","v":""},null,{"$f":"IF(ISNUMBER(SEARCH(B315,CI315)),MAX($CH$2:CH314)+1,0)","v":0}]
[null,null,{"$f":"IF(B316=\"\",\"\",SUMIF('الرصيد الثابت'!$D$2:$D$115,B316,'الرصيد الثابت'!$H$2:$H$115))","v":""},{"$f":"IF(B316=\"\",\"\",SUMIF('الرصيد الثابت'!$D$2:$D$115,B316,'الرصيد الثابت'!$I$2:$I$115))","v":""},{"$f":"IF(B316=\"\",\"\",SUMIF('الرصيد الثابت'!$D$2:$D$115,B316,'الرصيد الثابت'!$J$2:$J$115))","v":""},null,0,null,null,null,null,0,null,null,null,0,null,0,null,null,null,null,null,null,null,null,null,null,null,null,null,null,null,null,null,null,null,null,null,null,null,null,null,null,null,null,null,null,null,null,null,null,null,null,null,null,null,null,null,null,null,null,null,null,null,null,null,null,null,null,null,null,null,null,null,null,null,null,null,null,null,null,null,{"$f":"IFERROR(VLOOKUP(ROWS($CF$3:CF316),$CH$3:$CI$2001,2,FALSE),\"\")","v":""},null,{"$f":"IF(ISNUMBER(SEARCH(B316,CI316)),MAX($CH$2:CH315)+1,0)","v":0}]
[null,null,{"$f":"IF(B317=\"\",\"\",SUMIF('الرصيد الثابت'!$D$2:$D$115,B317,'الرصيد الثابت'!$H$2:$H$115))","v":""},{"$f":"IF(B317=\"\",\"\",SUMIF('الرصيد الثابت'!$D$2:$D$115,B317,'الرصيد الثابت'!$I$2:$I$115))","v":""},{"$f":"IF(B317=\"\",\"\",SUMIF('الرصيد الثابت'!$D$2:$D$115,B317,'الرصيد الثابت'!$J$2:$J$115))","v":""},null,0,null,null,null,null,0,null,null,null,0,null,0,null,null,null,null,null,null,null,null,null,null,null,null,null,null,null,null,null,null,null,null,null,null,null,null,null,null,null,null,null,null,null,null,null,null,null,null,null,null,null,null,null,null,null,null,null,null,null,null,null,null,null,null,null,null,null,null,null,null,null,null,null,null,null,null,null,{"$f":"IFERROR(VLOOKUP(ROWS($CF$3:CF317),$CH$3:$CI$2001,2,FALSE),\"\")","v":""},null,{"$f":"IF(ISNUMBER(SEARCH(B317,CI317)),MAX($CH$2:CH316)+1,0)","v":0}]
[null,null,{"$f":"IF(B318=\"\",\"\",SUMIF('الرصيد الثابت'!$D$2:$D$115,B318,'الرصيد الثابت'!$H$2:$H$115))","v":""},{"$f":"IF(B318=\"\",\"\",SUMIF('الرصيد الثابت'!$D$2:$D$115,B318,'الرصيد الثابت'!$I$2:$I$115))","v":""},{"$f":"IF(B318=\"\",\"\",SUMIF('الرصيد الثابت'!$D$2:$D$115,B318,'الرصيد الثابت'!$J$2:$J$115))","v":""},null,0,null,null,null,null,0,null,null,null,0,null,0,null,null,null,null,null,null,null,null,null,null,null,null,null,null,null,null,null,null,null,null,null,null,null,null,null,null,null,null,null,null,null,null,null,null,null,null,null,null,null,null,null,null,null,null,null,null,null,null,null,null,null,null,null,null,null,null,null,null,null,null,null,null,null,null,null,{"$f":"IFERROR(VLOOKUP(ROWS($CF$3:CF318),$CH$3:$CI$2001,2,FALSE),\"\")","v":""},null,{"$f":"IF(ISNUMBER(SEARCH(B318,CI318)),MAX($CH$2:CH317)+1,0)","v":0}]
[null,null,{"$f":"IF(B319=\"\",\"\",SUMIF('الرصيد الثابت'!$D$2:$D$115,B319,'الرصيد الثابت'!$H$2:$H$115))","v":""},{"$f":"IF(B319=\"\",\"\",SUMIF('الرصيد الثابت'!$D$2:$D$115,B319,'الرصيد الثابت'!$I$2:$I$115))","v":""},{"$f":"IF(B319=\"\",\"\",SUMIF('الرصيد الثابت'!$D$2:$D$115,B319,'الرصيد الثابت'!$J$2:$J$115))","v":""},null,0,null,null,null,null,0,null,null,null,0,null,0,null,null,null,null,null,null,null,null,null,null,null,null,null,null,null,null,null,null,null,null,null,null,null,null,null,null,null,null,null,null,null,null,null,null,null,null,null,null,null,null,null,null,null,null,null,null,null,null,null,null,null,null,null,null,null,null,null,null,null,null,null,null,null,null,null,{"$f":"IFERROR(VLOOKUP(ROWS($CF$3:CF319),$CH$3:$CI$2001,2,FALSE),\"\")","v":""},null,{"$f":"IF(ISNUMBER(SEARCH(B319,CI319)),MAX($CH$2:CH318)+1,0)","v":0}]
[null,null,{"$f":"IF(B320=\"\",\"\",SUMIF('الرصيد الثابت'!$D$2:$D$115,B320,'الرصيد الثابت'!$H$2:$H$115))","v":""},{"$f":"IF(B320=\"\",\"\",SUMIF('الرصيد الثابت'!$D$2:$D$115,B320,'الرصيد الثابت'!$I$2:$I$115))","v":""},{"$f":"IF(B320=\"\",\"\",SUMIF('الرصيد الثابت'!$D$2:$D$115,B320,'الرصيد الثابت'!$J$2:$J$115))","v":""},null,0,null,null,null,null,0,null,null,null,0,null,0,null,null,null,null,null,null,null,null,null,null,null,null,null,null,null,null,null,null,null,null,null,null,null,null,null,null,null,null,null,null,null,null,null,null,null,null,null,null,null,null,null,null,null,null,null,null,null,null,null,null,null,null,null,null,null,null,null,null,null,null,null,null,null,null,null,{"$f":"IFERROR(VLOOKUP(ROWS($CF$3:CF320),$CH$3:$CI$2001,2,FALSE),\"\")","v":""},null,{"$f":"IF(ISNUMBER(SEARCH(B320,CI320)),MAX($CH$2:CH319)+1,0)","v":0}]
[null,null,{"$f":"IF(B321=\"\",\"\",SUMIF('الرصيد الثابت'!$D$2:$D$115,B321,'الرصيد الثابت'!$H$2:$H$115))","v":""},{"$f":"IF(B321=\"\",\"\",SUMIF('الرصيد الثابت'!$D$2:$D$115,B321,'الرصيد الثابت'!$I$2:$I$115))","v":""},{"$f":"IF(B321=\"\",\"\",SUMIF('الرصيد الثابت'!$D$2:$D$115,B321,'الرصيد الثابت'!$J$2:$J$115))","v":""},null,0,null,null,null,null,0,null,null,null,0,null,0,null,null,null,null,null,null,null,null,null,null,null,null,null,null,null,null,null,null,null,null,null,null,null,null,null,null,null,null,null,null,null,null,null,null,null,null,null,null,null,null,null,null,null,null,null,null,null,null,null,null,null,null,null,null,null,null,null,null,null,null,null,null,null,null,null,{"$f":"IFERROR(VLOOKUP(ROWS($CF$3:CF321),$CH$3:$CI$2001,2,FALSE),\"\")","v":""},null,{"$f":"IF(ISNUMBER(SEARCH(B321,CI321)),MAX($CH$2:CH320)+1,0)","v":0}]
[null,null,{"$f":"IF(B322=\"\",\"\",SUMIF('الرصيد الثابت'!$D$2:$D$115,B322,'الرصيد الثابت'!$H$2:$H$115))","v":""},{"$f":"IF(B322=\"\",\"\",SUMIF('الرصيد الثابت'!$D$2:$D$115,B322,'الرصيد الثابت'!$I$2:$I$115))","v":""},{"$f":"IF(B322=\"\",\"\",SUMIF('الرصيد الثابت'!$D$2:$D$115,B322,'الرصيد الثابت'!$J$2:$J$115))","v":""},null,0,null,null,null,null,0,null,null,null,0,null,0,null,null,null,null,null,null,null,null,null,null,null,null,null,null,null,null,null,null,null,null,null,null,null,null,null,null,null,null,null,null,null,null,null,null,null,null,null,null,null,null,null,null,null,null,null,null,null,null,null,null,null,null,null,null,null,null,null,null,null,null,null,null,null,null,null,{"$f":"IFERROR(VLOOKUP(ROWS($CF$3:CF322),$CH$3:$CI$2001,2,FALSE),\"\")","v":""},null,{"$f":"IF(ISNUMBER(SEARCH(B322,CI322)),MAX($CH$2:CH321)+1,0)","v":0}]
[null,null,{"$f":"IF(B323=\"\",\"\",SUMIF('الرصيد الثابت'!$D$2:$D$115,B323,'الرصيد الثابت'!$H$2:$H$115))","v":""},{"$f":"IF(B323=\"\",\"\",SUMIF('الرصيد الثابت'!$D$2:$D$115,B323,'الرصيد الثابت'!$I$2:$I$115))","v":""},{"$f":"IF(B323=\"\",\"\",SUMIF('الرصيد الثابت'!$D$2:$D$115,B323,'الرصيد الثابت'!$J$2:$J$115))","v":""},null,0,null,null,null,null,{"$f":"SUM(M323*K323)","v":0},null,null,null,0,null,0,null,null,null,null,null,null,null,null,null,null,null,null,null,null,null,null,null,null,null,null,null,null,null,null,null,null,null,null,null,null,null,null,null,null,null,null,null,null,null,null,null,null,null,null,null,null,null,null,null,null,null,null,null,null,null,null,null,null,null,null,null,null,null,null,null,{"$f":"IFERROR(VLOOKUP(ROWS($CF$3:CF323),$CH$3:$CI$2001,2,FALSE),\"\")","v":""},null,{"$f":"IF(ISNUMBER(SEARCH(B323,CI323)),MAX($CH$2:CH322)+1,0)","v":0}]
[null,null,{"$f":"IF(B324=\"\",\"\",SUMIF('الرصيد الثابت'!$D$2:$D$115,B324,'الرصيد الثابت'!$H$2:$H$115))","v":""},{"$f":"IF(B324=\"\",\"\",SUMIF('الرصيد الثابت'!$D$2:$D$115,B324,'الرصيد الثابت'!$I$2:$I$115))","v":""},{"$f":"IF(B324=\"\",\"\",SUMIF('الرصيد الثابت'!$D$2:$D$115,B324,'الرصيد الثابت'!$J$2:$J$115))","v":""},null,{"$f":"SUM(H324*F324)","v":0},null,null,null,null,0,null,null,null,{"$f":"SUM(F324-K324)","v":0},null,0,null,null,null,null,null,null,null,null,null,null,null,null,null,null,null,null,null,null,null,null,null,null,null,null,null,null,null,null,null,null,null,null,null,null,null,null,null,null,null,null,null,null,null,null,null,null,null,null,null,null,null,null,null,null,null,null,null,null,null,null,null,null,null,null,null,{"$f":"IFERROR(VLOOKUP(ROWS($CF$3:CF324),$CH$3:$CI$2001,2,FALSE),\"\")","v":""},null,{"$f":"IF(ISNUMBER(SEARCH(B324,CI324)),MAX($CH$2:CH323)+1,0)","v":0}]
[null,null,{"$f":"IF(B325=\"\",\"\",SUMIF('الرصيد الثابت'!$D$2:$D$115,B325,'الرصيد الثابت'!$H$2:$H$115))","v":""},{"$f":"IF(B325=\"\",\"\",SUMIF('الرصيد الثابت'!$D$2:$D$115,B325,'الرصيد الثابت'!$I$2:$I$115))","v":""},{"$f":"IF(B325=\"\",\"\",SUMIF('الرصيد الثابت'!$D$2:$D$115,B325,'الرصيد الثابت'!$J$2:$J$115))","v":""},null,0,null,null,null,null,0,null,null,null,0,null,0,null,null,null,null,null,null,null,null,null,null,null,null,null,null,null,null,null,null,null,null,null,null,null,null,null,null,null,null,null,null,null,null,null,null,null,null,null,null,null,null,null,null,null,null,null,null,null,null,null,null,null,null,null,null,null,null,null,null,null,null,null,null,null,null,null,{"$f":"IFERROR(VLOOKUP(ROWS($CF$3:CF325),$CH$3:$CI$2001,2,FALSE),\"\")","v":""},null,{"$f":"IF(ISNUMBER(SEARCH(B325,CI325)),MAX($CH$2:CH324)+1,0)","v":0}]
[null,null,{"$f":"IF(B326=\"\",\"\",SUMIF('الرصيد الثابت'!$D$2:$D$115,B326,'الرصيد الثابت'!$H$2:$H$115))","v":""},{"$f":"IF(B326=\"\",\"\",SUMIF('الرصيد الثابت'!$D$2:$D$115,B326,'الرصيد الثابت'!$I$2:$I$115))","v":""},{"$f":"IF(B326=\"\",\"\",SUMIF('الرصيد الثابت'!$D$2:$D$115,B326,'الرصيد الثابت'!$J$2:$J$115))","v":""},null,0,null,null,null,null,0,null,null,null,0,null,0,null,null,null,null,null,null,null,null,null,null,null,null,null,null,null,null,null,null,null,null,null,null,null,null,null,null,null,null,null,null,null,null,null,null,null,null,null,null,null,null,null,null,null,null,null,null,null,null,null,null,null,null,null,null,null,null,null,null,null,null,null,null,null,null,null,{"$f":"IFERROR(VLOOKUP(ROWS($CF$3:CF326),$CH$3:$CI$2001,2,FALSE),\"\")","v":""},null,{"$f":"IF(ISNUMBER(SEARCH(B326,CI326)),MAX($CH$2:CH325)+1,0)","v":0}]
[null,null,{"$f":"IF(B327=\"\",\"\",SUMIF('الرصيد الثابت'!$D$2:$D$115,B327,'الرصيد الثابت'!$H$2:$H$115))","v":""},{"$f":"IF(B327=\"\",\"\",SUMIF('الرصيد الثابت'!$D$2:$D$115,B327,'الرصيد الثابت'!$I$2:$I$115))","v":""},{"$f":"IF(B327=\"\",\"\",SUMIF('الرصيد الثابت'!$D$2:$D$115,B327,'الرصيد الثابت'!$J$2:$J$115))","v":""},null,0,null,null,null,null,0,null,null,null,0,null,{"$f":"SUM(S327*Q327)","v":0},null,null,null,null,null,null,null,null,null,null,null,null,null,null,null,null,null,null,null,null,null,null,null,null,null,null,null,null,null,null,null,null,null,null,null,null,null,null,null,null,null,null,null,null,null,null,null,null,null,null,null,null,null,null,null,null,null,null,null,null,null,null,null,null,null,{"$f":"IFERROR(VLOOKUP(ROWS($CF$3:CF327),$CH$3:$CI$2001,2,FALSE),\"\")","v":""},null,{"$f":"IF(ISNUMBER(SEARCH(B327,CI327)),MAX($CH$2:CH326)+1,0)","v":0}]
[null,null,{"$f":"IF(B328=\"\",\"\",SUMIF('الرصيد الثابت'!$D$2:$D$115,B328,'الرصيد الثابت'!$H$2:$H$115))","v":""},{"$f":"IF(B328=\"\",\"\",SUMIF('الرصيد الثابت'!$D$2:$D$115,B328,'الرصيد الثابت'!$I$2:$I$115))","v":""},{"$f":"IF(B328=\"\",\"\",SUMIF('الرصيد الثابت'!$D$2:$D$115,B328,'الرصيد الثابت'!$J$2:$J$115))","v":""},null,0,null,null,null,null,0,null,null,null,0,null,0,null,null,null,null,null,null,null,null,null,null,null,null,null,null,null,null,null,null,null,null,null,null,null,null,null,null,null,null,null,null,null,null,null,null,null,null,null,null,null,null,null,null,null,null,null,null,null,null,null,null,null,null,null,null,null,null,null,null,null,null,null,null,null,null,null,{"$f":"IFERROR(VLOOKUP(ROWS($CF$3:CF328),$CH$3:$CI$2001,2,FALSE),\"\")","v":""},null,{"$f":"IF(ISNUMBER(SEARCH(B328,CI328)),MAX($CH$2:CH327)+1,0)","v":0}]
[null,null,{"$f":"IF(B329=\"\",\"\",SUMIF('الرصيد الثابت'!$D$2:$D$115,B329,'الرصيد الثابت'!$H$2:$H$115))","v":""},{"$f":"IF(B329=\"\",\"\",SUMIF('الرصيد الثابت'!$D$2:$D$115,B329,'الرصيد الثابت'!$I$2:$I$115))","v":""},{"$f":"IF(B329=\"\",\"\",SUMIF('الرصيد الثابت'!$D$2:$D$115,B329,'الرصيد الثابت'!$J$2:$J$115))","v":""},null,0,null,null,null,null,0,null,null,null,0,null,0,null,null,null,null,null,null,null,null,null,null,null,null,null,null,null,null,null,null,null,null,null,null,null,null,null,null,null,null,null,null,null,null,null,null,null,null,null,null,null,null,null,null,null,null,null,null,null,null,null,null,null,null,null,null,null,null,null,null,null,null,null,null,null,null,null,{"$f":"IFERROR(VLOOKUP(ROWS($CF$3:CF329),$CH$3:$CI$2001,2,FALSE),\"\")","v":""},null,{"$f":"IF(ISNUMBER(SEARCH(B329,CI329)),MAX($CH$2:CH328)+1,0)","v":0}]
[null,null,{"$f":"IF(B330=\"\",\"\",SUMIF('الرصيد الثابت'!$D$2:$D$115,B330,'الرصيد الثابت'!$H$2:$H$115))","v":""},{"$f":"IF(B330=\"\",\"\",SUMIF('الرصيد الثابت'!$D$2:$D$115,B330,'الرصيد الثابت'!$I$2:$I$115))","v":""},{"$f":"IF(B330=\"\",\"\",SUMIF('الرصيد الثابت'!$D$2:$D$115,B330,'الرصيد الثابت'!$J$2:$J$115))","v":""},null,0,null,null,null,null,0,null,null,null,0,null,0,null,null,null,null,null,null,null,null,null,null,null,null,null,null,null,null,null,null,null,null,null,null,null,null,null,null,null,null,null,null,null,null,null,null,null,null,null,null,null,null,null,null,null,null,null,null,null,null,null,null,null,null,null,null,null,null,null,null,null,null,null,null,null,null,null,{"$f":"IFERROR(VLOOKUP(ROWS($CF$3:CF330),$CH$3:$CI$2001,2,FALSE),\"\")","v":""},null,{"$f":"IF(ISNUMBER(SEARCH(B330,CI330)),MAX($CH$2:CH329)+1,0)","v":0}]
[null,null,{"$f":"IF(B331=\"\",\"\",SUMIF('الرصيد الثابت'!$D$2:$D$115,B331,'الرصيد الثابت'!$H$2:$H$115))","v":""},{"$f":"IF(B331=\"\",\"\",SUMIF('الرصيد الثابت'!$D$2:$D$115,B331,'الرصيد الثابت'!$I$2:$I$115))","v":""},{"$f":"IF(B331=\"\",\"\",SUMIF('الرصيد الثابت'!$D$2:$D$115,B331,'الرصيد الثابت'!$J$2:$J$115))","v":""},null,0,null,null,null,null,0,null,null,null,0,null,0,null,null,null,null,null,null,null,null,null,null,null,null,null,null,null,null,null,null,null,null,null,null,null,null,null,null,null,null,null,null,null,null,null,null,null,null,null,null,null,null,null,null,null,null,null,null,null,null,null,null,null,null,null,null,null,null,null,null,null,null,null,null,null,null,null,{"$f":"IFERROR(VLOOKUP(ROWS($CF$3:CF331),$CH$3:$CI$2001,2,FALSE),\"\")","v":""},null,{"$f":"IF(ISNUMBER(SEARCH(B331,CI331)),MAX($CH$2:CH330)+1,0)","v":0}]
[null,null,{"$f":"IF(B332=\"\",\"\",SUMIF('الرصيد الثابت'!$D$2:$D$115,B332,'الرصيد الثابت'!$H$2:$H$115))","v":""},{"$f":"IF(B332=\"\",\"\",SUMIF('الرصيد الثابت'!$D$2:$D$115,B332,'الرصيد الثابت'!$I$2:$I$115))","v":""},{"$f":"IF(B332=\"\",\"\",SUMIF('الرصيد الثابت'!$D$2:$D$115,B332,'الرصيد الثابت'!$J$2:$J$115))","v":""},null,0,null,null,null,null,0,null,null,null,0,null,0,null,null,null,null,null,null,null,null,null,null,null,null,null,null,null,null,null,null,null,null,null,null,null,null,null,null,null,null,null,null,null,null,null,null,null,null,null,null,null,null,null,null,null,null,null,null,null,null,null,null,null,null,null,null,null,null,null,null,null,null,null,null,null,null,null,{"$f":"IFERROR(VLOOKUP(ROWS($CF$3:CF332),$CH$3:$CI$2001,2,FALSE),\"\")","v":""},null,{"$f":"IF(ISNUMBER(SEARCH(B332,CI332)),MAX($CH$2:CH331)+1,0)","v":0}]
[null,null,{"$f":"IF(B333=\"\",\"\",SUMIF('الرصيد الثابت'!$D$2:$D$115,B333,'الرصيد الثابت'!$H$2:$H$115))","v":""},{"$f":"IF(B333=\"\",\"\",SUMIF('الرصيد الثابت'!$D$2:$D$115,B333,'الرصيد الثابت'!$I$2:$I$115))","v":""},{"$f":"IF(B333=\"\",\"\",SUMIF('الرصيد الثابت'!$D$2:$D$115,B333,'الرصيد الثابت'!$J$2:$J$115))","v":""},null,0,null,null,null,null,0,null,null,null,0,null,0,null,null,null,null,null,null,null,null,null,null,null,null,null,null,null,null,null,null,null,null,null,null,null,null,null,null,null,null,null,null,null,null,null,null,null,null,null,null,null,null,null,null,null,null,null,null,null,null,null,null,null,null,null,null,null,null,null,null,null,null,null,null,null,null,null,{"$f":"IFERROR(VLOOKUP(ROWS($CF$3:CF333),$CH$3:$CI$2001,2,FALSE),\"\")","v":""},null,{"$f":"IF(ISNUMBER(SEARCH(B333,CI333)),MAX($CH$2:CH332)+1,0)","v":0}]
[null,null,{"$f":"IF(B334=\"\",\"\",SUMIF('الرصيد الثابت'!$D$2:$D$115,B334,'الرصيد الثابت'!$H$2:$H$115))","v":""},{"$f":"IF(B334=\"\",\"\",SUMIF('الرصيد الثابت'!$D$2:$D$115,B334,'الرصيد الثابت'!$I$2:$I$115))","v":""},{"$f":"IF(B334=\"\",\"\",SUMIF('الرصيد الثابت'!$D$2:$D$115,B334,'الرصيد الثابت'!$J$2:$J$115))","v":""},null,0,null,null,null,null,0,null,null,null,0,null,0,null,null,null,null,null,null,null,null,null,null,null,null,null,null,null,null,null,null,null,null,null,null,null,null,null,null,null,null,null,null,null,null,null,null,null,null,null,null,null,null,null,null,null,null,null,null,null,null,null,null,null,null,null,null,null,null,null,null,null,null,null,null,null,null,null,{"$f":"IFERROR(VLOOKUP(ROWS($CF$3:CF334),$CH$3:$CI$2001,2,FALSE),\"\")","v":""},null,{"$f":"IF(ISNUMBER(SEARCH(B334,CI334)),MAX($CH$2:CH333)+1,0)","v":0}]
[null,null,{"$f":"IF(B335=\"\",\"\",SUMIF('الرصيد الثابت'!$D$2:$D$115,B335,'الرصيد الثابت'!$H$2:$H$115))","v":""},{"$f":"IF(B335=\"\",\"\",SUMIF('الرصيد الثابت'!$D$2:$D$115,B335,'الرصيد الثابت'!$I$2:$I$115))","v":""},{"$f":"IF(B335=\"\",\"\",SUMIF('الرصيد الثابت'!$D$2:$D$115,B335,'الرصيد الثابت'!$J$2:$J$115))","v":""},null,0,null,null,null,null,0,null,null,null,0,null,0,null,null,null,null,null,null,null,null,null,null,null,null,null,null,null,null,null,null,null,null,null,null,null,null,null,null,null,null,null,null,null,null,null,null,null,null,null,null,null,null,null,null,null,null,null,null,null,null,null,null,null,null,null,null,null,null,null,null,null,null,null,null,null,null,null,{"$f":"IFERROR(VLOOKUP(ROWS($CF$3:CF335),$CH$3:$CI$2001,2,FALSE),\"\")","v":""},null,{"$f":"IF(ISNUMBER(SEARCH(B335,CI335)),MAX($CH$2:CH334)+1,0)","v":0}]
[null,null,{"$f":"IF(B336=\"\",\"\",SUMIF('الرصيد الثابت'!$D$2:$D$115,B336,'الرصيد الثابت'!$H$2:$H$115))","v":""},{"$f":"IF(B336=\"\",\"\",SUMIF('الرصيد الثابت'!$D$2:$D$115,B336,'الرصيد الثابت'!$I$2:$I$115))","v":""},{"$f":"IF(B336=\"\",\"\",SUMIF('الرصيد الثابت'!$D$2:$D$115,B336,'الرصيد الثابت'!$J$2:$J$115))","v":""},null,0,null,null,null,null,0,null,null,null,0,null,0,null,null,null,null,null,null,null,null,null,null,null,null,null,null,null,null,null,null,null,null,null,null,null,null,null,null,null,null,null,null,null,null,null,null,null,null,null,null,null,null,null,null,null,null,null,null,null,null,null,null,null,null,null,null,null,null,null,null,null,null,null,null,null,null,null,{"$f":"IFERROR(VLOOKUP(ROWS($CF$3:CF336),$CH$3:$CI$2001,2,FALSE),\"\")","v":""},null,{"$f":"IF(ISNUMBER(SEARCH(B336,CI336)),MAX($CH$2:CH335)+1,0)","v":0}]
[null,null,{"$f":"IF(B337=\"\",\"\",SUMIF('الرصيد الثابت'!$D$2:$D$115,B337,'الرصيد الثابت'!$H$2:$H$115))","v":""},{"$f":"IF(B337=\"\",\"\",SUMIF('الرصيد الثابت'!$D$2:$D$115,B337,'الرصيد الثابت'!$I$2:$I$115))","v":""},{"$f":"IF(B337=\"\",\"\",SUMIF('الرصيد الثابت'!$D$2:$D$115,B337,'الرصيد الثابت'!$J$2:$J$115))","v":""},null,0,null,null,null,null,0,null,null,null,0,null,0,null,null,null,null,null,null,null,null,null,null,null,null,null,null,null,null,null,null,null,null,null,null,null,null,null,null,null,null,null,null,null,null,null,null,null,null,null,null,null,null,null,null,null,null,null,null,null,null,null,null,null,null,null,null,null,null,null,null,null,null,null,null,null,null,null,{"$f":"IFERROR(VLOOKUP(ROWS($CF$3:CF337),$CH$3:$CI$2001,2,FALSE),\"\")","v":""},null,{"$f":"IF(ISNUMBER(SEARCH(B337,CI337)),MAX($CH$2:CH336)+1,0)","v":0}]
[null,null,{"$f":"IF(B338=\"\",\"\",SUMIF('الرصيد الثابت'!$D$2:$D$115,B338,'الرصيد الثابت'!$H$2:$H$115))","v":""},{"$f":"IF(B338=\"\",\"\",SUMIF('الرصيد الثابت'!$D$2:$D$115,B338,'الرصيد الثابت'!$I$2:$I$115))","v":""},{"$f":"IF(B338=\"\",\"\",SUMIF('الرصيد الثابت'!$D$2:$D$115,B338,'الرصيد الثابت'!$J$2:$J$115))","v":""},null,0,null,null,null,null,0,null,null,null,0,null,0,null,null,null,null,null,null,null,null,null,null,null,null,null,null,null,null,null,null,null,null,null,null,null,null,null,null,null,null,null,null,null,null,null,null,null,null,null,null,null,null,null,null,null,null,null,null,null,null,null,null,null,null,null,null,null,null,null,null,null,null,null,null,null,null,null,{"$f":"IFERROR(VLOOKUP(ROWS($CF$3:CF338),$CH$3:$CI$2001,2,FALSE),\"\")","v":""},null,{"$f":"IF(ISNUMBER(SEARCH(B338,CI338)),MAX($CH$2:CH337)+1,0)","v":0}]
[null,null,{"$f":"IF(B339=\"\",\"\",SUMIF('الرصيد الثابت'!$D$2:$D$115,B339,'الرصيد الثابت'!$H$2:$H$115))","v":""},{"$f":"IF(B339=\"\",\"\",SUMIF('الرصيد الثابت'!$D$2:$D$115,B339,'الرصيد الثابت'!$I$2:$I$115))","v":""},{"$f":"IF(B339=\"\",\"\",SUMIF('الرصيد الثابت'!$D$2:$D$115,B339,'الرصيد الثابت'!$J$2:$J$115))","v":""},null,0,null,null,null,null,0,null,null,null,0,null,0,null,null,null,null,null,null,null,null,null,null,null,null,null,null,null,null,null,null,null,null,null,null,null,null,null,null,null,null,null,null,null,null,null,null,null,null,null,null,null,null,null,null,null,null,null,null,null,null,null,null,null,null,null,null,null,null,null,null,null,null,null,null,null,null,null,{"$f":"IFERROR(VLOOKUP(ROWS($CF$3:CF339),$CH$3:$CI$2001,2,FALSE),\"\")","v":""},null,{"$f":"IF(ISNUMBER(SEARCH(B339,CI339)),MAX($CH$2:CH338)+1,0)","v":0}]
[null,null,{"$f":"IF(B340=\"\",\"\",SUMIF('الرصيد الثابت'!$D$2:$D$115,B340,'الرصيد الثابت'!$H$2:$H$115))","v":""},{"$f":"IF(B340=\"\",\"\",SUMIF('الرصيد الثابت'!$D$2:$D$115,B340,'الرصيد الثابت'!$I$2:$I$115))","v":""},{"$f":"IF(B340=\"\",\"\",SUMIF('الرصيد الثابت'!$D$2:$D$115,B340,'الرصيد الثابت'!$J$2:$J$115))","v":""},null,0,null,null,null,null,0,null,null,null,0,null,0,null,null,null,null,null,null,null,null,null,null,null,null,null,null,null,null,null,null,null,null,null,null,null,null,null,null,null,null,null,null,null,null,null,null,null,null,null,null,null,null,null,null,null,null,null,null,null,null,null,null,null,null,null,null,null,null,null,null,null,null,null,null,null,null,null,{"$f":"IFERROR(VLOOKUP(ROWS($CF$3:CF340),$CH$3:$CI$2001,2,FALSE),\"\")","v":""},null,{"$f":"IF(ISNUMBER(SEARCH(B340,CI340)),MAX($CH$2:CH339)+1,0)","v":0}]
[null,null,{"$f":"IF(B341=\"\",\"\",SUMIF('الرصيد الثابت'!$D$2:$D$115,B341,'الرصيد الثابت'!$H$2:$H$115))","v":""},{"$f":"IF(B341=\"\",\"\",SUMIF('الرصيد الثابت'!$D$2:$D$115,B341,'الرصيد الثابت'!$I$2:$I$115))","v":""},{"$f":"IF(B341=\"\",\"\",SUMIF('الرصيد الثابت'!$D$2:$D$115,B341,'الرصيد الثابت'!$J$2:$J$115))","v":""},null,0,null,null,null,null,0,null,null,null,0,null,0,null,null,null,null,null,null,null,null,null,null,null,null,null,null,null,null,null,null,null,null,null,null,null,null,null,null,null,null,null,null,null,null,null,null,null,null,null,null,null,null,null,null,null,null,null,null,null,null,null,null,null,null,null,null,null,null,null,null,null,null,null,null,null,null,null,{"$f":"IFERROR(VLOOKUP(ROWS($CF$3:CF341),$CH$3:$CI$2001,2,FALSE),\"\")","v":""},null,{"$f":"IF(ISNUMBER(SEARCH(B341,CI341)),MAX($CH$2:CH340)+1,0)","v":0}]
[null,null,{"$f":"IF(B342=\"\",\"\",SUMIF('الرصيد الثابت'!$D$2:$D$115,B342,'الرصيد الثابت'!$H$2:$H$115))","v":""},{"$f":"IF(B342=\"\",\"\",SUMIF('الرصيد الثابت'!$D$2:$D$115,B342,'الرصيد الثابت'!$I$2:$I$115))","v":""},{"$f":"IF(B342=\"\",\"\",SUMIF('الرصيد الثابت'!$D$2:$D$115,B342,'الرصيد الثابت'!$J$2:$J$115))","v":""},null,0,null,null,null,null,0,null,null,null,0,null,0,null,null,null,null,null,null,null,null,null,null,null,null,null,null,null,null,null,null,null,null,null,null,null,null,null,null,null,null,null,null,null,null,null,null,null,null,null,null,null,null,null,null,null,null,null,null,null,null,null,null,null,null,null,null,null,null,null,null,null,null,null,null,null,null,null,{"$f":"IFERROR(VLOOKUP(ROWS($CF$3:CF342),$CH$3:$CI$2001,2,FALSE),\"\")","v":""},null,{"$f":"IF(ISNUMBER(SEARCH(B342,CI342)),MAX($CH$2:CH341)+1,0)","v":0}]
[null,null,{"$f":"IF(B343=\"\",\"\",SUMIF('الرصيد الثابت'!$D$2:$D$115,B343,'الرصيد الثابت'!$H$2:$H$115))","v":""},{"$f":"IF(B343=\"\",\"\",SUMIF('الرصيد الثابت'!$D$2:$D$115,B343,'الرصيد الثابت'!$I$2:$I$115))","v":""},{"$f":"IF(B343=\"\",\"\",SUMIF('الرصيد الثابت'!$D$2:$D$115,B343,'الرصيد الثابت'!$J$2:$J$115))","v":""},null,0,null,null,null,null,0,null,null,null,0,null,0,null,null,null,null,null,null,null,null,null,null,null,null,null,null,null,null,null,null,null,null,null,null,null,null,null,null,null,null,null,null,null,null,null,null,null,null,null,null,null,null,null,null,null,null,null,null,null,null,null,null,null,null,null,null,null,null,null,null,null,null,null,null,null,null,null,{"$f":"IFERROR(VLOOKUP(ROWS($CF$3:CF343),$CH$3:$CI$2001,2,FALSE),\"\")","v":""},null,{"$f":"IF(ISNUMBER(SEARCH(B343,CI343)),MAX($CH$2:CH342)+1,0)","v":0}]
[null,null,{"$f":"IF(B344=\"\",\"\",SUMIF('الرصيد الثابت'!$D$2:$D$115,B344,'الرصيد الثابت'!$H$2:$H$115))","v":""},{"$f":"IF(B344=\"\",\"\",SUMIF('الرصيد الثابت'!$D$2:$D$115,B344,'الرصيد الثابت'!$I$2:$I$115))","v":""},{"$f":"IF(B344=\"\",\"\",SUMIF('الرصيد الثابت'!$D$2:$D$115,B344,'الرصيد الثابت'!$J$2:$J$115))","v":""},null,0,null,null,null,null,0,null,null,null,0,null,0,null,null,null,null,null,null,null,null,null,null,null,null,null,null,null,null,null,null,null,null,null,null,null,null,null,null,null,null,null,null,null,null,null,null,null,null,null,null,null,null,null,null,null,null,null,null,null,null,null,null,null,null,null,null,null,null,null,null,null,null,null,null,null,null,null,{"$f":"IFERROR(VLOOKUP(ROWS($CF$3:CF344),$CH$3:$CI$2001,2,FALSE),\"\")","v":""},null,{"$f":"IF(ISNUMBER(SEARCH(B344,CI344)),MAX($CH$2:CH343)+1,0)","v":0}]
[null,null,{"$f":"IF(B345=\"\",\"\",SUMIF('الرصيد الثابت'!$D$2:$D$115,B345,'الرصيد الثابت'!$H$2:$H$115))","v":""},{"$f":"IF(B345=\"\",\"\",SUMIF('الرصيد الثابت'!$D$2:$D$115,B345,'الرصيد الثابت'!$I$2:$I$115))","v":""},{"$f":"IF(B345=\"\",\"\",SUMIF('الرصيد الثابت'!$D$2:$D$115,B345,'الرصيد الثابت'!$J$2:$J$115))","v":""},null,0,null,null,null,null,0,null,null,null,0,null,0,null,null,null,null,null,null,null,null,null,null,null,null,null,null,null,null,null,null,null,null,null,null,null,null,null,null,null,null,null,null,null,null,null,null,null,null,null,null,null,null,null,null,null,null,null,null,null,null,null,null,null,null,null,null,null,null,null,null,null,null,null,null,null,null,null,{"$f":"IFERROR(VLOOKUP(ROWS($CF$3:CF345),$CH$3:$CI$2001,2,FALSE),\"\")","v":""},null,{"$f":"IF(ISNUMBER(SEARCH(B345,CI345)),MAX($CH$2:CH344)+1,0)","v":0}]
[null,null,{"$f":"IF(B346=\"\",\"\",SUMIF('الرصيد الثابت'!$D$2:$D$115,B346,'الرصيد الثابت'!$H$2:$H$115))","v":""},{"$f":"IF(B346=\"\",\"\",SUMIF('الرصيد الثابت'!$D$2:$D$115,B346,'الرصيد الثابت'!$I$2:$I$115))","v":""},{"$f":"IF(B346=\"\",\"\",SUMIF('الرصيد الثابت'!$D$2:$D$115,B346,'الرصيد الثابت'!$J$2:$J$115))","v":""},null,0,null,null,null,null,0,null,null,null,0,null,0,null,null,null,null,null,null,null,null,null,null,null,null,null,null,null,null,null,null,null,null,null,null,null,null,null,null,null,null,null,null,null,null,null,null,null,null,null,null,null,null,null,null,null,null,null,null,null,null,null,null,null,null,null,null,null,null,null,null,null,null,null,null,null,null,null,{"$f":"IFERROR(VLOOKUP(ROWS($CF$3:CF346),$CH$3:$CI$2001,2,FALSE),\"\")","v":""},null,{"$f":"IF(ISNUMBER(SEARCH(B346,CI346)),MAX($CH$2:CH345)+1,0)","v":0}]
[null,null,{"$f":"IF(B347=\"\",\"\",SUMIF('الرصيد الثابت'!$D$2:$D$115,B347,'الرصيد الثابت'!$H$2:$H$115))","v":""},{"$f":"IF(B347=\"\",\"\",SUMIF('الرصيد الثابت'!$D$2:$D$115,B347,'الرصيد الثابت'!$I$2:$I$115))","v":""},{"$f":"IF(B347=\"\",\"\",SUMIF('الرصيد الثابت'!$D$2:$D$115,B347,'الرصيد الثابت'!$J$2:$J$115))","v":""},null,0,null,null,null,null,0,null,null,null,0,null,0,null,null,null,null,null,null,null,null,null,null,null,null,null,null,null,null,null,null,null,null,null,null,null,null,null,null,null,null,null,null,null,null,null,null,null,null,null,null,null,null,null,null,null,null,null,null,null,null,null,null,null,null,null,null,null,null,null,null,null,null,null,null,null,null,null,{"$f":"IFERROR(VLOOKUP(ROWS($CF$3:CF347),$CH$3:$CI$2001,2,FALSE),\"\")","v":""},null,{"$f":"IF(ISNUMBER(SEARCH(B347,CI347)),MAX($CH$2:CH346)+1,0)","v":0}]
[null,null,{"$f":"IF(B348=\"\",\"\",SUMIF('الرصيد الثابت'!$D$2:$D$115,B348,'الرصيد الثابت'!$H$2:$H$115))","v":""},{"$f":"IF(B348=\"\",\"\",SUMIF('الرصيد الثابت'!$D$2:$D$115,B348,'الرصيد الثابت'!$I$2:$I$115))","v":""},{"$f":"IF(B348=\"\",\"\",SUMIF('الرصيد الثابت'!$D$2:$D$115,B348,'الرصيد الثابت'!$J$2:$J$115))","v":""},null,0,null,null,null,null,0,null,null,null,0,null,0,null,null,null,null,null,null,null,null,null,null,null,null,null,null,null,null,null,null,null,null,null,null,null,null,null,null,null,null,null,null,null,null,null,null,null,null,null,null,null,null,null,null,null,null,null,null,null,null,null,null,null,null,null,null,null,null,null,null,null,null,null,null,null,null,null,{"$f":"IFERROR(VLOOKUP(ROWS($CF$3:CF348),$CH$3:$CI$2001,2,FALSE),\"\")","v":""},null,{"$f":"IF(ISNUMBER(SEARCH(B348,CI348)),MAX($CH$2:CH347)+1,0)","v":0}]
[null,null,{"$f":"IF(B349=\"\",\"\",SUMIF('الرصيد الثابت'!$D$2:$D$115,B349,'الرصيد الثابت'!$H$2:$H$115))","v":""},{"$f":"IF(B349=\"\",\"\",SUMIF('الرصيد الثابت'!$D$2:$D$115,B349,'الرصيد الثابت'!$I$2:$I$115))","v":""},{"$f":"IF(B349=\"\",\"\",SUMIF('الرصيد الثابت'!$D$2:$D$115,B349,'الرصيد الثابت'!$J$2:$J$115))","v":""},null,0,null,null,null,null,0,null,null,null,0,null,0,null,null,null,null,null,null,null,null,null,null,null,null,null,null,null,null,null,null,null,null,null,null,null,null,null,null,null,null,null,null,null,null,null,null,null,null,null,null,null,null,null,null,null,null,null,null,null,null,null,null,null,null,null,null,null,null,null,null,null,null,null,null,null,null,null,{"$f":"IFERROR(VLOOKUP(ROWS($CF$3:CF349),$CH$3:$CI$2001,2,FALSE),\"\")","v":""},null,{"$f":"IF(ISNUMBER(SEARCH(B349,CI349)),MAX($CH$2:CH348)+1,0)","v":0}]
[null,null,{"$f":"IF(B350=\"\",\"\",SUMIF('الرصيد الثابت'!$D$2:$D$115,B350,'الرصيد الثابت'!$H$2:$H$115))","v":""},{"$f":"IF(B350=\"\",\"\",SUMIF('الرصيد الثابت'!$D$2:$D$115,B350,'الرصيد الثابت'!$I$2:$I$115))","v":""},{"$f":"IF(B350=\"\",\"\",SUMIF('الرصيد الثابت'!$D$2:$D$115,B350,'الرصيد الثابت'!$J$2:$J$115))","v":""},null,0,null,null,null,null,0,null,null,null,0,null,0,null,null,null,null,null,null,null,null,null,null,null,null,null,null,null,null,null,null,null,null,null,null,null,null,null,null,null,null,null,null,null,null,null,null,null,null,null,null,null,null,null,null,null,null,null,null,null,null,null,null,null,null,null,null,null,null,null,null,null,null,null,null,null,null,null,{"$f":"IFERROR(VLOOKUP(ROWS($CF$3:CF350),$CH$3:$CI$2001,2,FALSE),\"\")","v":""},null,{"$f":"IF(ISNUMBER(SEARCH(B350,CI350)),MAX($CH$2:CH349)+1,0)","v":0}]
[null,null,{"$f":"IF(B351=\"\",\"\",SUMIF('الرصيد الثابت'!$D$2:$D$115,B351,'الرصيد الثابت'!$H$2:$H$115))","v":""},{"$f":"IF(B351=\"\",\"\",SUMIF('الرصيد الثابت'!$D$2:$D$115,B351,'الرصيد الثابت'!$I$2:$I$115))","v":""},{"$f":"IF(B351=\"\",\"\",SUMIF('الرصيد الثابت'!$D$2:$D$115,B351,'الرصيد الثابت'!$J$2:$J$115))","v":""},null,0,null,null,null,null,0,null,null,null,0,null,0,null,null,null,null,null,null,null,null,null,null,null,null,null,null,null,null,null,null,null,null,null,null,null,null,null,null,null,null,null,null,null,null,null,null,null,null,null,null,null,null,null,null,null,null,null,null,null,null,null,null,null,null,null,null,null,null,null,null,null,null,null,null,null,null,null,{"$f":"IFERROR(VLOOKUP(ROWS($CF$3:CF351),$CH$3:$CI$2001,2,FALSE),\"\")","v":""},null,{"$f":"IF(ISNUMBER(SEARCH(B351,CI351)),MAX($CH$2:CH350)+1,0)","v":0}]
[null,null,{"$f":"IF(B352=\"\",\"\",SUMIF('الرصيد الثابت'!$D$2:$D$115,B352,'الرصيد الثابت'!$H$2:$H$115))","v":""},{"$f":"IF(B352=\"\",\"\",SUMIF('الرصيد الثابت'!$D$2:$D$115,B352,'الرصيد الثابت'!$I$2:$I$115))","v":""},{"$f":"IF(B352=\"\",\"\",SUMIF('الرصيد الثابت'!$D$2:$D$115,B352,'الرصيد الثابت'!$J$2:$J$115))","v":""},null,0,null,null,null,null,0,null,null,null,{"$f":"SUM(#REF!-#REF!)","v":{"$error":"#REF!"}},null,0,null,null,null,null,null,null,null,null,null,null,null,null,null,null,null,null,null,null,null,null,null,null,null,null,null,null,null,null,null,null,null,null,null,null,null,null,null,null,null,null,null,null,null,null,null,null,null,null,null,null,null,null,null,null,null,null,null,null,null,null,null,null,null,null,null,{"$f":"IFERROR(VLOOKUP(ROWS($CF$3:CF352),$CH$3:$CI$2001,2,FALSE),\"\")","v":""},null,{"$f":"IF(ISNUMBER(SEARCH(B352,CI352)),MAX($CH$2:CH351)+1,0)","v":0}]
[null,null,{"$f":"IF(B353=\"\",\"\",SUMIF('الرصيد الثابت'!$D$2:$D$115,B353,'الرصيد الثابت'!$H$2:$H$115))","v":""},{"$f":"IF(B353=\"\",\"\",SUMIF('الرصيد الثابت'!$D$2:$D$115,B353,'الرصيد الثابت'!$I$2:$I$115))","v":""},{"$f":"IF(B353=\"\",\"\",SUMIF('الرصيد الثابت'!$D$2:$D$115,B353,'الرصيد الثابت'!$J$2:$J$115))","v":""},null,0,null,null,null,null,0,null,null,null,0,null,0,null,null,null,null,null,null,null,null,null,null,null,null,null,null,null,null,null,null,null,null,null,null,null,null,null,null,null,null,null,null,null,null,null,null,null,null,null,null,null,null,null,null,null,null,null,null,null,null,null,null,null,null,null,null,null,null,null,null,null,null,null,null,null,null,null,{"$f":"IFERROR(VLOOKUP(ROWS($CF$3:CF353),$CH$3:$CI$2001,2,FALSE),\"\")","v":""},null,{"$f":"IF(ISNUMBER(SEARCH(B353,CI353)),MAX($CH$2:CH352)+1,0)","v":0}]
[null,null,{"$f":"IF(B354=\"\",\"\",SUMIF('الرصيد الثابت'!$D$2:$D$115,B354,'الرصيد الثابت'!$H$2:$H$115))","v":""},{"$f":"IF(B354=\"\",\"\",SUMIF('الرصيد الثابت'!$D$2:$D$115,B354,'الرصيد الثابت'!$I$2:$I$115))","v":""},{"$f":"IF(B354=\"\",\"\",SUMIF('الرصيد الثابت'!$D$2:$D$115,B354,'الرصيد الثابت'!$J$2:$J$115))","v":""},null,0,null,null,null,null,0,null,null,null,0,null,0,null,null,null,null,null,null,null,null,null,null,null,null,null,null,null,null,null,null,null,null,null,null,null,null,null,null,null,null,null,null,null,null,null,null,null,null,null,null,null,null,null,null,null,null,null,null,null,null,null,null,null,null,null,null,null,null,null,null,null,null,null,null,null,null,null,{"$f":"IFERROR(VLOOKUP(ROWS($CF$3:CF354),$CH$3:$CI$2001,2,FALSE),\"\")","v":""},null,{"$f":"IF(ISNUMBER(SEARCH(B354,CI354)),MAX($CH$2:CH353)+1,0)","v":0}]
[null,null,{"$f":"IF(B355=\"\",\"\",SUMIF('الرصيد الثابت'!$D$2:$D$115,B355,'الرصيد الثابت'!$H$2:$H$115))","v":""},{"$f":"IF(B355=\"\",\"\",SUMIF('الرصيد الثابت'!$D$2:$D$115,B355,'الرصيد الثابت'!$I$2:$I$115))","v":""},{"$f":"IF(B355=\"\",\"\",SUMIF('الرصيد الثابت'!$D$2:$D$115,B355,'الرصيد الثابت'!$J$2:$J$115))","v":""},null,0,null,null,null,null,0,null,null,null,0,null,0,null,null,null,null,null,null,null,null,null,null,null,null,null,null,null,null,null,null,null,null,null,null,null,null,null,null,null,null,null,null,null,null,null,null,null,null,null,null,null,null,null,null,null,null,null,null,null,null,null,null,null,null,null,null,null,null,null,null,null,null,null,null,null,null,null,{"$f":"IFERROR(VLOOKUP(ROWS($CF$3:CF355),$CH$3:$CI$2001,2,FALSE),\"\")","v":""},null,{"$f":"IF(ISNUMBER(SEARCH(B355,CI355)),MAX($CH$2:CH354)+1,0)","v":0}]
[null,null,{"$f":"IF(B356=\"\",\"\",SUMIF('الرصيد الثابت'!$D$2:$D$115,B356,'الرصيد الثابت'!$H$2:$H$115))","v":""},{"$f":"IF(B356=\"\",\"\",SUMIF('الرصيد الثابت'!$D$2:$D$115,B356,'الرصيد الثابت'!$I$2:$I$115))","v":""},{"$f":"IF(B356=\"\",\"\",SUMIF('الرصيد الثابت'!$D$2:$D$115,B356,'الرصيد الثابت'!$J$2:$J$115))","v":""},null,0,null,null,null,null,0,null,null,null,0,null,0,null,null,null,null,null,null,null,null,null,null,null,null,null,null,null,null,null,null,null,null,null,null,null,null,null,null,null,null,null,null,null,null,null,null,null,null,null,null,null,null,null,null,null,null,null,null,null,null,null,null,null,null,null,null,null,null,null,null,null,null,null,null,null,null,null,{"$f":"IFERROR(VLOOKUP(ROWS($CF$3:CF356),$CH$3:$CI$2001,2,FALSE),\"\")","v":""},null,{"$f":"IF(ISNUMBER(SEARCH(B356,CI356)),MAX($CH$2:CH355)+1,0)","v":0}]
[null,null,{"$f":"IF(B357=\"\",\"\",SUMIF('الرصيد الثابت'!$D$2:$D$115,B357,'الرصيد الثابت'!$H$2:$H$115))","v":""},{"$f":"IF(B357=\"\",\"\",SUMIF('الرصيد الثابت'!$D$2:$D$115,B357,'الرصيد الثابت'!$I$2:$I$115))","v":""},{"$f":"IF(B357=\"\",\"\",SUMIF('الرصيد الثابت'!$D$2:$D$115,B357,'الرصيد الثابت'!$J$2:$J$115))","v":""},null,0,null,null,null,null,0,null,null,null,0,null,0,null,null,null,null,null,null,null,null,null,null,null,null,null,null,null,null,null,null,null,null,null,null,null,null,null,null,null,null,null,null,null,null,null,null,null,null,null,null,null,null,null,null,null,null,null,null,null,null,null,null,null,null,null,null,null,null,null,null,null,null,null,null,null,null,null,{"$f":"IFERROR(VLOOKUP(ROWS($CF$3:CF357),$CH$3:$CI$2001,2,FALSE),\"\")","v":""},null,{"$f":"IF(ISNUMBER(SEARCH(B357,CI357)),MAX($CH$2:CH356)+1,0)","v":0}]
[null,null,{"$f":"IF(B358=\"\",\"\",SUMIF('الرصيد الثابت'!$D$2:$D$115,B358,'الرصيد الثابت'!$H$2:$H$115))","v":""},{"$f":"IF(B358=\"\",\"\",SUMIF('الرصيد الثابت'!$D$2:$D$115,B358,'الرصيد الثابت'!$I$2:$I$115))","v":""},{"$f":"IF(B358=\"\",\"\",SUMIF('الرصيد الثابت'!$D$2:$D$115,B358,'الرصيد الثابت'!$J$2:$J$115))","v":""},null,0,null,null,null,null,0,null,null,null,0,null,0,null,null,null,null,null,null,null,null,null,null,null,null,null,null,null,null,null,null,null,null,null,null,null,null,null,null,null,null,null,null,null,null,null,null,null,null,null,null,null,null,null,null,null,null,null,null,null,null,null,null,null,null,null,null,null,null,null,null,null,null,null,null,null,null,null,{"$f":"IFERROR(VLOOKUP(ROWS($CF$3:CF358),$CH$3:$CI$2001,2,FALSE),\"\")","v":""},null,{"$f":"IF(ISNUMBER(SEARCH(B358,CI358)),MAX($CH$2:CH357)+1,0)","v":0}]
[null,null,{"$f":"IF(B359=\"\",\"\",SUMIF('الرصيد الثابت'!$D$2:$D$115,B359,'الرصيد الثابت'!$H$2:$H$115))","v":""},{"$f":"IF(B359=\"\",\"\",SUMIF('الرصيد الثابت'!$D$2:$D$115,B359,'الرصيد الثابت'!$I$2:$I$115))","v":""},{"$f":"IF(B359=\"\",\"\",SUMIF('الرصيد الثابت'!$D$2:$D$115,B359,'الرصيد الثابت'!$J$2:$J$115))","v":""},null,0,null,null,null,null,0,null,null,null,0,null,0,null,null,null,null,null,null,null,null,null,null,null,null,null,null,null,null,null,null,null,null,null,null,null,null,null,null,null,null,null,null,null,null,null,null,null,null,null,null,null,null,null,null,null,null,null,null,null,null,null,null,null,null,null,null,null,null,null,null,null,null,null,null,null,null,null,{"$f":"IFERROR(VLOOKUP(ROWS($CF$3:CF359),$CH$3:$CI$2001,2,FALSE),\"\")","v":""},null,{"$f":"IF(ISNUMBER(SEARCH(B359,CI359)),MAX($CH$2:CH358)+1,0)","v":0}]
[null,null,{"$f":"IF(B360=\"\",\"\",SUMIF('الرصيد الثابت'!$D$2:$D$115,B360,'الرصيد الثابت'!$H$2:$H$115))","v":""},{"$f":"IF(B360=\"\",\"\",SUMIF('الرصيد الثابت'!$D$2:$D$115,B360,'الرصيد الثابت'!$I$2:$I$115))","v":""},{"$f":"IF(B360=\"\",\"\",SUMIF('الرصيد الثابت'!$D$2:$D$115,B360,'الرصيد الثابت'!$J$2:$J$115))","v":""},null,0,null,null,null,null,0,null,null,null,0,null,0,null,null,null,null,null,null,null,null,null,null,null,null,null,null,null,null,null,null,null,null,null,null,null,null,null,null,null,null,null,null,null,null,null,null,null,null,null,null,null,null,null,null,null,null,null,null,null,null,null,null,null,null,null,null,null,null,null,null,null,null,null,null,null,null,null,{"$f":"IFERROR(VLOOKUP(ROWS($CF$3:CF360),$CH$3:$CI$2001,2,FALSE),\"\")","v":""},null,{"$f":"IF(ISNUMBER(SEARCH(B360,CI360)),MAX($CH$2:CH359)+1,0)","v":0}]
[null,null,{"$f":"IF(B361=\"\",\"\",SUMIF('الرصيد الثابت'!$D$2:$D$115,B361,'الرصيد الثابت'!$H$2:$H$115))","v":""},{"$f":"IF(B361=\"\",\"\",SUMIF('الرصيد الثابت'!$D$2:$D$115,B361,'الرصيد الثابت'!$I$2:$I$115))","v":""},{"$f":"IF(B361=\"\",\"\",SUMIF('الرصيد الثابت'!$D$2:$D$115,B361,'الرصيد الثابت'!$J$2:$J$115))","v":""},null,0,null,null,null,null,0,null,null,null,0,null,0,null,null,null,null,null,null,null,null,null,null,null,null,null,null,null,null,null,null,null,null,null,null,null,null,null,null,null,null,null,null,null,null,null,null,null,null,null,null,null,null,null,null,null,null,null,null,null,null,null,null,null,null,null,null,null,null,null,null,null,null,null,null,null,null,null,{"$f":"IFERROR(VLOOKUP(ROWS($CF$3:CF361),$CH$3:$CI$2001,2,FALSE),\"\")","v":""},null,{"$f":"IF(ISNUMBER(SEARCH(B361,CI361)),MAX($CH$2:CH360)+1,0)","v":0}]
[null,null,{"$f":"IF(B362=\"\",\"\",SUMIF('الرصيد الثابت'!$D$2:$D$115,B362,'الرصيد الثابت'!$H$2:$H$115))","v":""},{"$f":"IF(B362=\"\",\"\",SUMIF('الرصيد الثابت'!$D$2:$D$115,B362,'الرصيد الثابت'!$I$2:$I$115))","v":""},{"$f":"IF(B362=\"\",\"\",SUMIF('الرصيد الثابت'!$D$2:$D$115,B362,'الرصيد الثابت'!$J$2:$J$115))","v":""},null,0,null,null,null,null,0,null,null,null,0,null,0,null,null,null,null,null,null,null,null,null,null,null,null,null,null,null,null,null,null,null,null,null,null,null,null,null,null,null,null,null,null,null,null,null,null,null,null,null,null,null,null,null,null,null,null,null,null,null,null,null,null,null,null,null,null,null,null,null,null,null,null,null,null,null,null,null,{"$f":"IFERROR(VLOOKUP(ROWS($CF$3:CF362),$CH$3:$CI$2001,2,FALSE),\"\")","v":""},null,{"$f":"IF(ISNUMBER(SEARCH(B362,CI362)),MAX($CH$2:CH361)+1,0)","v":0}]
[null,null,{"$f":"IF(B363=\"\",\"\",SUMIF('الرصيد الثابت'!$D$2:$D$115,B363,'الرصيد الثابت'!$H$2:$H$115))","v":""},{"$f":"IF(B363=\"\",\"\",SUMIF('الرصيد الثابت'!$D$2:$D$115,B363,'الرصيد الثابت'!$I$2:$I$115))","v":""},{"$f":"IF(B363=\"\",\"\",SUMIF('الرصيد الثابت'!$D$2:$D$115,B363,'الرصيد الثابت'!$J$2:$J$115))","v":""},null,0,null,null,null,null,0,null,null,null,0,null,0,null,null,null,null,null,null,null,null,null,null,null,null,null,null,null,null,null,null,null,null,null,null,null,null,null,null,null,null,null,null,null,null,null,null,null,null,null,null,null,null,null,null,null,null,null,null,null,null,null,null,null,null,null,null,null,null,null,null,null,null,null,null,null,null,null,{"$f":"IFERROR(VLOOKUP(ROWS($CF$3:CF363),$CH$3:$CI$2001,2,FALSE),\"\")","v":""},null,{"$f":"IF(ISNUMBER(SEARCH(B363,CI363)),MAX($CH$2:CH362)+1,0)","v":0}]
[null,null,{"$f":"IF(B364=\"\",\"\",SUMIF('الرصيد الثابت'!$D$2:$D$115,B364,'الرصيد الثابت'!$H$2:$H$115))","v":""},{"$f":"IF(B364=\"\",\"\",SUMIF('الرصيد الثابت'!$D$2:$D$115,B364,'الرصيد الثابت'!$I$2:$I$115))","v":""},{"$f":"IF(B364=\"\",\"\",SUMIF('الرصيد الثابت'!$D$2:$D$115,B364,'الرصيد الثابت'!$J$2:$J$115))","v":""},null,0,null,null,null,null,0,null,null,null,0,null,0,null,null,null,null,null,null,null,null,null,null,null,null,null,null,null,null,null,null,null,null,null,null,null,null,null,null,null,null,null,null,null,null,null,null,null,null,null,null,null,null,null,null,null,null,null,null,null,null,null,null,null,null,null,null,null,null,null,null,null,null,null,null,null,null,null,{"$f":"IFERROR(VLOOKUP(ROWS($CF$3:CF364),$CH$3:$CI$2001,2,FALSE),\"\")","v":""},null,{"$f":"IF(ISNUMBER(SEARCH(B364,CI364)),MAX($CH$2:CH363)+1,0)","v":0}]
[null,null,{"$f":"IF(B365=\"\",\"\",SUMIF('الرصيد الثابت'!$D$2:$D$115,B365,'الرصيد الثابت'!$H$2:$H$115))","v":""},{"$f":"IF(B365=\"\",\"\",SUMIF('الرصيد الثابت'!$D$2:$D$115,B365,'الرصيد الثابت'!$I$2:$I$115))","v":""},{"$f":"IF(B365=\"\",\"\",SUMIF('الرصيد الثابت'!$D$2:$D$115,B365,'الرصيد الثابت'!$J$2:$J$115))","v":""},null,0,null,null,null,null,0,null,null,null,0,null,0,null,null,null,null,null,null,null,null,null,null,null,null,null,null,null,null,null,null,null,null,null,null,null,null,null,null,null,null,null,null,null,null,null,null,null,null,null,null,null,null,null,null,null,null,null,null,null,null,null,null,null,null,null,null,null,null,null,null,null,null,null,null,null,null,null,{"$f":"IFERROR(VLOOKUP(ROWS($CF$3:CF365),$CH$3:$CI$2001,2,FALSE),\"\")","v":""},null,{"$f":"IF(ISNUMBER(SEARCH(B365,CI365)),MAX($CH$2:CH364)+1,0)","v":0}]
[null,null,{"$f":"IF(B366=\"\",\"\",SUMIF('الرصيد الثابت'!$D$2:$D$115,B366,'الرصيد الثابت'!$H$2:$H$115))","v":""},{"$f":"IF(B366=\"\",\"\",SUMIF('الرصيد الثابت'!$D$2:$D$115,B366,'الرصيد الثابت'!$I$2:$I$115))","v":""},{"$f":"IF(B366=\"\",\"\",SUMIF('الرصيد الثابت'!$D$2:$D$115,B366,'الرصيد الثابت'!$J$2:$J$115))","v":""},null,0,null,null,null,null,0,null,null,null,0,null,0,null,null,null,null,null,null,null,null,null,null,null,null,null,null,null,null,null,null,null,null,null,null,null,null,null,null,null,null,null,null,null,null,null,null,null,null,null,null,null,null,null,null,null,null,null,null,null,null,null,null,null,null,null,null,null,null,null,null,null,null,null,null,null,null,null,{"$f":"IFERROR(VLOOKUP(ROWS($CF$3:CF366),$CH$3:$CI$2001,2,FALSE),\"\")","v":""},null,{"$f":"IF(ISNUMBER(SEARCH(B366,CI366)),MAX($CH$2:CH365)+1,0)","v":0}]
[null,null,{"$f":"IF(B367=\"\",\"\",SUMIF('الرصيد الثابت'!$D$2:$D$115,B367,'الرصيد الثابت'!$H$2:$H$115))","v":""},{"$f":"IF(B367=\"\",\"\",SUMIF('الرصيد الثابت'!$D$2:$D$115,B367,'الرصيد الثابت'!$I$2:$I$115))","v":""},{"$f":"IF(B367=\"\",\"\",SUMIF('الرصيد الثابت'!$D$2:$D$115,B367,'الرصيد الثابت'!$J$2:$J$115))","v":""},null,0,null,null,null,null,0,null,null,null,0,null,0,null,null,null,null,null,null,null,null,null,null,null,null,null,null,null,null,null,null,null,null,null,null,null,null,null,null,null,null,null,null,null,null,null,null,null,null,null,null,null,null,null,null,null,null,null,null,null,null,null,null,null,null,null,null,null,null,null,null,null,null,null,null,null,null,null,{"$f":"IFERROR(VLOOKUP(ROWS($CF$3:CF367),$CH$3:$CI$2001,2,FALSE),\"\")","v":""},null,{"$f":"IF(ISNUMBER(SEARCH(B367,CI367)),MAX($CH$2:CH366)+1,0)","v":0}]
[null,null,{"$f":"IF(B368=\"\",\"\",SUMIF('الرصيد الثابت'!$D$2:$D$115,B368,'الرصيد الثابت'!$H$2:$H$115))","v":""},{"$f":"IF(B368=\"\",\"\",SUMIF('الرصيد الثابت'!$D$2:$D$115,B368,'الرصيد الثابت'!$I$2:$I$115))","v":""},{"$f":"IF(B368=\"\",\"\",SUMIF('الرصيد الثابت'!$D$2:$D$115,B368,'الرصيد الثابت'!$J$2:$J$115))","v":""},null,0,null,null,null,null,0,null,null,null,0,null,0,null,null,null,null,null,null,null,null,null,null,null,null,null,null,null,null,null,null,null,null,null,null,null,null,null,null,null,null,null,null,null,null,null,null,null,null,null,null,null,null,null,null,null,null,null,null,null,null,null,null,null,null,null,null,null,null,null,null,null,null,null,null,null,null,null,{"$f":"IFERROR(VLOOKUP(ROWS($CF$3:CF368),$CH$3:$CI$2001,2,FALSE),\"\")","v":""},null,{"$f":"IF(ISNUMBER(SEARCH(B368,CI368)),MAX($CH$2:CH367)+1,0)","v":0}]
[null,null,{"$f":"IF(B369=\"\",\"\",SUMIF('الرصيد الثابت'!$D$2:$D$115,B369,'الرصيد الثابت'!$H$2:$H$115))","v":""},{"$f":"IF(B369=\"\",\"\",SUMIF('الرصيد الثابت'!$D$2:$D$115,B369,'الرصيد الثابت'!$I$2:$I$115))","v":""},{"$f":"IF(B369=\"\",\"\",SUMIF('الرصيد الثابت'!$D$2:$D$115,B369,'الرصيد الثابت'!$J$2:$J$115))","v":""},null,0,null,null,null,null,0,null,null,null,0,null,0,null,null,null,null,null,null,null,null,null,null,null,null,null,null,null,null,null,null,null,null,null,null,null,null,null,null,null,null,null,null,null,null,null,null,null,null,null,null,null,null,null,null,null,null,null,null,null,null,null,null,null,null,null,null,null,null,null,null,null,null,null,null,null,null,null,{"$f":"IFERROR(VLOOKUP(ROWS($CF$3:CF369),$CH$3:$CI$2001,2,FALSE),\"\")","v":""},null,{"$f":"IF(ISNUMBER(SEARCH(B369,CI369)),MAX($CH$2:CH368)+1,0)","v":0}]
[null,null,{"$f":"IF(B370=\"\",\"\",SUMIF('الرصيد الثابت'!$D$2:$D$115,B370,'الرصيد الثابت'!$H$2:$H$115))","v":""},{"$f":"IF(B370=\"\",\"\",SUMIF('الرصيد الثابت'!$D$2:$D$115,B370,'الرصيد الثابت'!$I$2:$I$115))","v":""},{"$f":"IF(B370=\"\",\"\",SUMIF('الرصيد الثابت'!$D$2:$D$115,B370,'الرصيد الثابت'!$J$2:$J$115))","v":""},null,0,null,null,null,null,0,null,null,null,0,null,0,null,null,null,null,null,null,null,null,null,null,null,null,null,null,null,null,null,null,null,null,null,null,null,null,null,null,null,null,null,null,null,null,null,null,null,null,null,null,null,null,null,null,null,null,null,null,null,null,null,null,null,null,null,null,null,null,null,null,null,null,null,null,null,null,null,{"$f":"IFERROR(VLOOKUP(ROWS($CF$3:CF370),$CH$3:$CI$2001,2,FALSE),\"\")","v":""},null,{"$f":"IF(ISNUMBER(SEARCH(B370,CI370)),MAX($CH$2:CH369)+1,0)","v":0}]
[null,null,{"$f":"IF(B371=\"\",\"\",SUMIF('الرصيد الثابت'!$D$2:$D$115,B371,'الرصيد الثابت'!$H$2:$H$115))","v":""},{"$f":"IF(B371=\"\",\"\",SUMIF('الرصيد الثابت'!$D$2:$D$115,B371,'الرصيد الثابت'!$I$2:$I$115))","v":""},{"$f":"IF(B371=\"\",\"\",SUMIF('الرصيد الثابت'!$D$2:$D$115,B371,'الرصيد الثابت'!$J$2:$J$115))","v":""},null,0,null,null,null,null,0,null,null,null,0,null,0,null,null,null,null,null,null,null,null,null,null,null,null,null,null,null,null,null,null,null,null,null,null,null,null,null,null,null,null,null,null,null,null,null,null,null,null,null,null,null,null,null,null,null,null,null,null,null,null,null,null,null,null,null,null,null,null,null,null,null,null,null,null,null,null,null,{"$f":"IFERROR(VLOOKUP(ROWS($CF$3:CF371),$CH$3:$CI$2001,2,FALSE),\"\")","v":""},null,{"$f":"IF(ISNUMBER(SEARCH(B371,CI371)),MAX($CH$2:CH370)+1,0)","v":0}]
[null,null,{"$f":"IF(B372=\"\",\"\",SUMIF('الرصيد الثابت'!$D$2:$D$115,B372,'الرصيد الثابت'!$H$2:$H$115))","v":""},{"$f":"IF(B372=\"\",\"\",SUMIF('الرصيد الثابت'!$D$2:$D$115,B372,'الرصيد الثابت'!$I$2:$I$115))","v":""},{"$f":"IF(B372=\"\",\"\",SUMIF('الرصيد الثابت'!$D$2:$D$115,B372,'الرصيد الثابت'!$J$2:$J$115))","v":""},null,0,null,null,null,null,0,null,null,null,0,null,0,null,null,null,null,null,null,null,null,null,null,null,null,null,null,null,null,null,null,null,null,null,null,null,null,null,null,null,null,null,null,null,null,null,null,null,null,null,null,null,null,null,null,null,null,null,null,null,null,null,null,null,null,null,null,null,null,null,null,null,null,null,null,null,null,null,{"$f":"IFERROR(VLOOKUP(ROWS($CF$3:CF372),$CH$3:$CI$2001,2,FALSE),\"\")","v":""},null,{"$f":"IF(ISNUMBER(SEARCH(B372,CI372)),MAX($CH$2:CH371)+1,0)","v":0}]
[null,null,{"$f":"IF(B373=\"\",\"\",SUMIF('الرصيد الثابت'!$D$2:$D$115,B373,'الرصيد الثابت'!$H$2:$H$115))","v":""},{"$f":"IF(B373=\"\",\"\",SUMIF('الرصيد الثابت'!$D$2:$D$115,B373,'الرصيد الثابت'!$I$2:$I$115))","v":""},{"$f":"IF(B373=\"\",\"\",SUMIF('الرصيد الثابت'!$D$2:$D$115,B373,'الرصيد الثابت'!$J$2:$J$115))","v":""},null,0,null,null,null,null,0,null,null,null,0,null,0,null,null,null,null,null,null,null,null,null,null,null,null,null,null,null,null,null,null,null,null,null,null,null,null,null,null,null,null,null,null,null,null,null,null,null,null,null,null,null,null,null,null,null,null,null,null,null,null,null,null,null,null,null,null,null,null,null,null,null,null,null,null,null,null,null,{"$f":"IFERROR(VLOOKUP(ROWS($CF$3:CF373),$CH$3:$CI$2001,2,FALSE),\"\")","v":""},null,{"$f":"IF(ISNUMBER(SEARCH(B373,CI373)),MAX($CH$2:CH372)+1,0)","v":0}]
[null,null,{"$f":"IF(B374=\"\",\"\",SUMIF('الرصيد الثابت'!$D$2:$D$115,B374,'الرصيد الثابت'!$H$2:$H$115))","v":""},{"$f":"IF(B374=\"\",\"\",SUMIF('الرصيد الثابت'!$D$2:$D$115,B374,'الرصيد الثابت'!$I$2:$I$115))","v":""},{"$f":"IF(B374=\"\",\"\",SUMIF('الرصيد الثابت'!$D$2:$D$115,B374,'الرصيد الثابت'!$J$2:$J$115))","v":""},null,0,null,null,null,null,0,null,null,null,0,null,0,null,null,null,null,null,null,null,null,null,null,null,null,null,null,null,null,null,null,null,null,null,null,null,null,null,null,null,null,null,null,null,null,null,null,null,null,null,null,null,null,null,null,null,null,null,null,null,null,null,null,null,null,null,null,null,null,null,null,null,null,null,null,null,null,null,{"$f":"IFERROR(VLOOKUP(ROWS($CF$3:CF374),$CH$3:$CI$2001,2,FALSE),\"\")","v":""},null,{"$f":"IF(ISNUMBER(SEARCH(B374,CI374)),MAX($CH$2:CH373)+1,0)","v":0}]
[null,null,{"$f":"IF(B375=\"\",\"\",SUMIF('الرصيد الثابت'!$D$2:$D$115,B375,'الرصيد الثابت'!$H$2:$H$115))","v":""},{"$f":"IF(B375=\"\",\"\",SUMIF('الرصيد الثابت'!$D$2:$D$115,B375,'الرصيد الثابت'!$I$2:$I$115))","v":""},{"$f":"IF(B375=\"\",\"\",SUMIF('الرصيد الثابت'!$D$2:$D$115,B375,'الرصيد الثابت'!$J$2:$J$115))","v":""},null,0,null,null,null,null,0,null,null,null,0,null,0,null,null,null,null,null,null,null,null,null,null,null,null,null,null,null,null,null,null,null,null,null,null,null,null,null,null,null,null,null,null,null,null,null,null,null,null,null,null,null,null,null,null,null,null,null,null,null,null,null,null,null,null,null,null,null,null,null,null,null,null,null,null,null,null,null,{"$f":"IFERROR(VLOOKUP(ROWS($CF$3:CF375),$CH$3:$CI$2001,2,FALSE),\"\")","v":""},null,{"$f":"IF(ISNUMBER(SEARCH(B375,CI375)),MAX($CH$2:CH374)+1,0)","v":0}]
[null,null,{"$f":"IF(B376=\"\",\"\",SUMIF('الرصيد الثابت'!$D$2:$D$115,B376,'الرصيد الثابت'!$H$2:$H$115))","v":""},{"$f":"IF(B376=\"\",\"\",SUMIF('الرصيد الثابت'!$D$2:$D$115,B376,'الرصيد الثابت'!$I$2:$I$115))","v":""},{"$f":"IF(B376=\"\",\"\",SUMIF('الرصيد الثابت'!$D$2:$D$115,B376,'الرصيد الثابت'!$J$2:$J$115))","v":""},null,0,null,null,null,null,0,null,null,null,0,null,0,null,null,null,null,null,null,null,null,null,null,null,null,null,null,null,null,null,null,null,null,null,null,null,null,null,null,null,null,null,null,null,null,null,null,null,null,null,null,null,null,null,null,null,null,null,null,null,null,null,null,null,null,null,null,null,null,null,null,null,null,null,null,null,null,null,{"$f":"IFERROR(VLOOKUP(ROWS($CF$3:CF376),$CH$3:$CI$2001,2,FALSE),\"\")","v":""},null,{"$f":"IF(ISNUMBER(SEARCH(B376,CI376)),MAX($CH$2:CH375)+1,0)","v":0}]
[null,null,{"$f":"IF(B377=\"\",\"\",SUMIF('الرصيد الثابت'!$D$2:$D$115,B377,'الرصيد الثابت'!$H$2:$H$115))","v":""},{"$f":"IF(B377=\"\",\"\",SUMIF('الرصيد الثابت'!$D$2:$D$115,B377,'الرصيد الثابت'!$I$2:$I$115))","v":""},{"$f":"IF(B377=\"\",\"\",SUMIF('الرصيد الثابت'!$D$2:$D$115,B377,'الرصيد الثابت'!$J$2:$J$115))","v":""},null,0,null,null,null,null,0,null,null,null,0,null,0,null,null,null,null,null,null,null,null,null,null,null,null,null,null,null,null,null,null,null,null,null,null,null,null,null,null,null,null,null,null,null,null,null,null,null,null,null,null,null,null,null,null,null,null,null,null,null,null,null,null,null,null,null,null,null,null,null,null,null,null,null,null,null,null,null,{"$f":"IFERROR(VLOOKUP(ROWS($CF$3:CF377),$CH$3:$CI$2001,2,FALSE),\"\")","v":""},null,{"$f":"IF(ISNUMBER(SEARCH(B377,CI377)),MAX($CH$2:CH376)+1,0)","v":0}]
[null,null,{"$f":"IF(B378=\"\",\"\",SUMIF('الرصيد الثابت'!$D$2:$D$115,B378,'الرصيد الثابت'!$H$2:$H$115))","v":""},{"$f":"IF(B378=\"\",\"\",SUMIF('الرصيد الثابت'!$D$2:$D$115,B378,'الرصيد الثابت'!$I$2:$I$115))","v":""},{"$f":"IF(B378=\"\",\"\",SUMIF('الرصيد الثابت'!$D$2:$D$115,B378,'الرصيد الثابت'!$J$2:$J$115))","v":""},null,0,null,null,null,null,0,null,null,null,0,null,0,null,null,null,null,null,null,null,null,null,null,null,null,null,null,null,null,null,null,null,null,null,null,null,null,null,null,null,null,null,null,null,null,null,null,null,null,null,null,null,null,null,null,null,null,null,null,null,null,null,null,null,null,null,null,null,null,null,null,null,null,null,null,null,null,null,{"$f":"IFERROR(VLOOKUP(ROWS($CF$3:CF378),$CH$3:$CI$2001,2,FALSE),\"\")","v":""},null,{"$f":"IF(ISNUMBER(SEARCH(B378,CI378)),MAX($CH$2:CH377)+1,0)","v":0}]
[null,null,{"$f":"IF(B379=\"\",\"\",SUMIF('الرصيد الثابت'!$D$2:$D$115,B379,'الرصيد الثابت'!$H$2:$H$115))","v":""},{"$f":"IF(B379=\"\",\"\",SUMIF('الرصيد الثابت'!$D$2:$D$115,B379,'الرصيد الثابت'!$I$2:$I$115))","v":""},{"$f":"IF(B379=\"\",\"\",SUMIF('الرصيد الثابت'!$D$2:$D$115,B379,'الرصيد الثابت'!$J$2:$J$115))","v":""},null,0,null,null,null,null,0,null,null,null,0,null,0,null,null,null,null,null,null,null,null,null,null,null,null,null,null,null,null,null,null,null,null,null,null,null,null,null,null,null,null,null,null,null,null,null,null,null,null,null,null,null,null,null,null,null,null,null,null,null,null,null,null,null,null,null,null,null,null,null,null,null,null,null,null,null,null,null,{"$f":"IFERROR(VLOOKUP(ROWS($CF$3:CF379),$CH$3:$CI$2001,2,FALSE),\"\")","v":""},null,{"$f":"IF(ISNUMBER(SEARCH(B379,CI379)),MAX($CH$2:CH378)+1,0)","v":0}]
[null,null,{"$f":"IF(B380=\"\",\"\",SUMIF('الرصيد الثابت'!$D$2:$D$115,B380,'الرصيد الثابت'!$H$2:$H$115))","v":""},{"$f":"IF(B380=\"\",\"\",SUMIF('الرصيد الثابت'!$D$2:$D$115,B380,'الرصيد الثابت'!$I$2:$I$115))","v":""},{"$f":"IF(B380=\"\",\"\",SUMIF('الرصيد الثابت'!$D$2:$D$115,B380,'الرصيد الثابت'!$J$2:$J$115))","v":""},null,0,null,null,null,null,0,null,null,null,0,null,0,null,null,null,null,null,null,null,null,null,null,null,null,null,null,null,null,null,null,null,null,null,null,null,null,null,null,null,null,null,null,null,null,null,null,null,null,null,null,null,null,null,null,null,null,null,null,null,null,null,null,null,null,null,null,null,null,null,null,null,null,null,null,null,null,null,{"$f":"IFERROR(VLOOKUP(ROWS($CF$3:CF380),$CH$3:$CI$2001,2,FALSE),\"\")","v":""},null,{"$f":"IF(ISNUMBER(SEARCH(B380,CI380)),MAX($CH$2:CH379)+1,0)","v":0}]
[null,null,{"$f":"IF(B381=\"\",\"\",SUMIF('الرصيد الثابت'!$D$2:$D$115,B381,'الرصيد الثابت'!$H$2:$H$115))","v":""},{"$f":"IF(B381=\"\",\"\",SUMIF('الرصيد الثابت'!$D$2:$D$115,B381,'الرصيد الثابت'!$I$2:$I$115))","v":""},{"$f":"IF(B381=\"\",\"\",SUMIF('الرصيد الثابت'!$D$2:$D$115,B381,'الرصيد الثابت'!$J$2:$J$115))","v":""},null,0,null,null,null,null,0,null,null,null,0,null,0,null,null,null,null,null,null,null,null,null,null,null,null,null,null,null,null,null,null,null,null,null,null,null,null,null,null,null,null,null,null,null,null,null,null,null,null,null,null,null,null,null,null,null,null,null,null,null,null,null,null,null,null,null,null,null,null,null,null,null,null,null,null,null,null,null,{"$f":"IFERROR(VLOOKUP(ROWS($CF$3:CF381),$CH$3:$CI$2001,2,FALSE),\"\")","v":""},null,{"$f":"IF(ISNUMBER(SEARCH(B381,CI381)),MAX($CH$2:CH380)+1,0)","v":0}]
[null,null,{"$f":"IF(B382=\"\",\"\",SUMIF('الرصيد الثابت'!$D$2:$D$115,B382,'الرصيد الثابت'!$H$2:$H$115))","v":""},{"$f":"IF(B382=\"\",\"\",SUMIF('الرصيد الثابت'!$D$2:$D$115,B382,'الرصيد الثابت'!$I$2:$I$115))","v":""},{"$f":"IF(B382=\"\",\"\",SUMIF('الرصيد الثابت'!$D$2:$D$115,B382,'الرصيد الثابت'!$J$2:$J$115))","v":""},null,0,null,null,null,null,0,null,null,null,0,null,0,null,null,null,null,null,null,null,null,null,null,null,null,null,null,null,null,null,null,null,null,null,null,null,null,null,null,null,null,null,null,null,null,null,null,null,null,null,null,null,null,null,null,null,null,null,null,null,null,null,null,null,null,null,null,null,null,null,null,null,null,null,null,null,null,null,{"$f":"IFERROR(VLOOKUP(ROWS($CF$3:CF382),$CH$3:$CI$2001,2,FALSE),\"\")","v":""},null,{"$f":"IF(ISNUMBER(SEARCH(B382,CI382)),MAX($CH$2:CH381)+1,0)","v":0}]
[null,null,{"$f":"IF(B383=\"\",\"\",SUMIF('الرصيد الثابت'!$D$2:$D$115,B383,'الرصيد الثابت'!$H$2:$H$115))","v":""},{"$f":"IF(B383=\"\",\"\",SUMIF('الرصيد الثابت'!$D$2:$D$115,B383,'الرصيد الثابت'!$I$2:$I$115))","v":""},{"$f":"IF(B383=\"\",\"\",SUMIF('الرصيد الثابت'!$D$2:$D$115,B383,'الرصيد الثابت'!$J$2:$J$115))","v":""},null,0,null,null,null,null,0,null,null,null,0,null,0,null,null,null,null,null,null,null,null,null,null,null,null,null,null,null,null,null,null,null,null,null,null,null,null,null,null,null,null,null,null,null,null,null,null,null,null,null,null,null,null,null,null,null,null,null,null,null,null,null,null,null,null,null,null,null,null,null,null,null,null,null,null,null,null,null,{"$f":"IFERROR(VLOOKUP(ROWS($CF$3:CF383),$CH$3:$CI$2001,2,FALSE),\"\")","v":""},null,{"$f":"IF(ISNUMBER(SEARCH(B383,CI383)),MAX($CH$2:CH382)+1,0)","v":0}]
[null,null,{"$f":"IF(B384=\"\",\"\",SUMIF('الرصيد الثابت'!$D$2:$D$115,B384,'الرصيد الثابت'!$H$2:$H$115))","v":""},{"$f":"IF(B384=\"\",\"\",SUMIF('الرصيد الثابت'!$D$2:$D$115,B384,'الرصيد الثابت'!$I$2:$I$115))","v":""},{"$f":"IF(B384=\"\",\"\",SUMIF('الرصيد الثابت'!$D$2:$D$115,B384,'الرصيد الثابت'!$J$2:$J$115))","v":""},null,0,null,null,null,null,0,null,null,null,0,null,0,null,null,null,null,null,null,null,null,null,null,null,null,null,null,null,null,null,null,null,null,null,null,null,null,null,null,null,null,null,null,null,null,null,null,null,null,null,null,null,null,null,null,null,null,null,null,null,null,null,null,null,null,null,null,null,null,null,null,null,null,null,null,null,null,null,{"$f":"IFERROR(VLOOKUP(ROWS($CF$3:CF384),$CH$3:$CI$2001,2,FALSE),\"\")","v":""},null,{"$f":"IF(ISNUMBER(SEARCH(B384,CI384)),MAX($CH$2:CH383)+1,0)","v":0}]
[null,null,{"$f":"IF(B385=\"\",\"\",SUMIF('الرصيد الثابت'!$D$2:$D$115,B385,'الرصيد الثابت'!$H$2:$H$115))","v":""},{"$f":"IF(B385=\"\",\"\",SUMIF('الرصيد الثابت'!$D$2:$D$115,B385,'الرصيد الثابت'!$I$2:$I$115))","v":""},{"$f":"IF(B385=\"\",\"\",SUMIF('الرصيد الثابت'!$D$2:$D$115,B385,'الرصيد الثابت'!$J$2:$J$115))","v":""},null,0,null,null,null,null,0,null,null,null,0,null,0,null,null,null,null,null,null,null,null,null,null,null,null,null,null,null,null,null,null,null,null,null,null,null,null,null,null,null,null,null,null,null,null,null,null,null,null,null,null,null,null,null,null,null,null,null,null,null,null,null,null,null,null,null,null,null,null,null,null,null,null,null,null,null,null,null,{"$f":"IFERROR(VLOOKUP(ROWS($CF$3:CF385),$CH$3:$CI$2001,2,FALSE),\"\")","v":""},null,{"$f":"IF(ISNUMBER(SEARCH(B385,CI385)),MAX($CH$2:CH384)+1,0)","v":0}]
[null,null,{"$f":"IF(B386=\"\",\"\",SUMIF('الرصيد الثابت'!$D$2:$D$115,B386,'الرصيد الثابت'!$H$2:$H$115))","v":""},{"$f":"IF(B386=\"\",\"\",SUMIF('الرصيد الثابت'!$D$2:$D$115,B386,'الرصيد الثابت'!$I$2:$I$115))","v":""},{"$f":"IF(B386=\"\",\"\",SUMIF('الرصيد الثابت'!$D$2:$D$115,B386,'الرصيد الثابت'!$J$2:$J$115))","v":""},null,0,null,null,null,null,0,null,null,null,0,null,0,null,null,null,null,null,null,null,null,null,null,null,null,null,null,null,null,null,null,null,null,null,null,null,null,null,null,null,null,null,null,null,null,null,null,null,null,null,null,null,null,null,null,null,null,null,null,null,null,null,null,null,null,null,null,null,null,null,null,null,null,null,null,null,null,null,{"$f":"IFERROR(VLOOKUP(ROWS($CF$3:CF386),$CH$3:$CI$2001,2,FALSE),\"\")","v":""},null,{"$f":"IF(ISNUMBER(SEARCH(B386,CI386)),MAX($CH$2:CH385)+1,0)","v":0}]
[null,null,{"$f":"IF(B387=\"\",\"\",SUMIF('الرصيد الثابت'!$D$2:$D$115,B387,'الرصيد الثابت'!$H$2:$H$115))","v":""},{"$f":"IF(B387=\"\",\"\",SUMIF('الرصيد الثابت'!$D$2:$D$115,B387,'الرصيد الثابت'!$I$2:$I$115))","v":""},{"$f":"IF(B387=\"\",\"\",SUMIF('الرصيد الثابت'!$D$2:$D$115,B387,'الرصيد الثابت'!$J$2:$J$115))","v":""},null,0,null,null,null,null,{"$f":"SUM(M387*K387)","v":0},null,null,null,0,null,0,null,null,null,null,null,null,null,null,null,null,null,null,null,null,null,null,null,null,null,null,null,null,null,null,null,null,null,null,null,null,null,null,null,null,null,null,null,null,null,null,null,null,null,null,null,null,null,null,null,null,null,null,null,null,null,null,null,null,null,null,null,null,null,null,null,{"$f":"IFERROR(VLOOKUP(ROWS($CF$3:CF387),$CH$3:$CI$2001,2,FALSE),\"\")","v":""},null,{"$f":"IF(ISNUMBER(SEARCH(B387,CI387)),MAX($CH$2:CH386)+1,0)","v":0}]
[null,null,{"$f":"IF(B388=\"\",\"\",SUMIF('الرصيد الثابت'!$D$2:$D$115,B388,'الرصيد الثابت'!$H$2:$H$115))","v":""},{"$f":"IF(B388=\"\",\"\",SUMIF('الرصيد الثابت'!$D$2:$D$115,B388,'الرصيد الثابت'!$I$2:$I$115))","v":""},{"$f":"IF(B388=\"\",\"\",SUMIF('الرصيد الثابت'!$D$2:$D$115,B388,'الرصيد الثابت'!$J$2:$J$115))","v":""},null,{"$f":"SUM(H388*F388)","v":0},null,null,null,null,0,null,null,null,{"$f":"SUM(F388-K388)","v":0},null,0,null,null,null,null,null,null,null,null,null,null,null,null,null,null,null,null,null,null,null,null,null,null,null,null,null,null,null,null,null,null,null,null,null,null,null,null,null,null,null,null,null,null,null,null,null,null,null,null,null,null,null,null,null,null,null,null,null,null,null,null,null,null,null,null,null,{"$f":"IFERROR(VLOOKUP(ROWS($CF$3:CF388),$CH$3:$CI$2001,2,FALSE),\"\")","v":""},null,{"$f":"IF(ISNUMBER(SEARCH(B388,CI388)),MAX($CH$2:CH387)+1,0)","v":0}]
[null,null,{"$f":"IF(B389=\"\",\"\",SUMIF('الرصيد الثابت'!$D$2:$D$115,B389,'الرصيد الثابت'!$H$2:$H$115))","v":""},{"$f":"IF(B389=\"\",\"\",SUMIF('الرصيد الثابت'!$D$2:$D$115,B389,'الرصيد الثابت'!$I$2:$I$115))","v":""},{"$f":"IF(B389=\"\",\"\",SUMIF('الرصيد الثابت'!$D$2:$D$115,B389,'الرصيد الثابت'!$J$2:$J$115))","v":""},null,0,null,null,null,null,0,null,null,null,0,null,0,null,null,null,null,null,null,null,null,null,null,null,null,null,null,null,null,null,null,null,null,null,null,null,null,null,null,null,null,null,null,null,null,null,null,null,null,null,null,null,null,null,null,null,null,null,null,null,null,null,null,null,null,null,null,null,null,null,null,null,null,null,null,null,null,null,{"$f":"IFERROR(VLOOKUP(ROWS($CF$3:CF389),$CH$3:$CI$2001,2,FALSE),\"\")","v":""},null,{"$f":"IF(ISNUMBER(SEARCH(B389,CI389)),MAX($CH$2:CH388)+1,0)","v":0}]
[null,null,{"$f":"IF(B390=\"\",\"\",SUMIF('الرصيد الثابت'!$D$2:$D$115,B390,'الرصيد الثابت'!$H$2:$H$115))","v":""},{"$f":"IF(B390=\"\",\"\",SUMIF('الرصيد الثابت'!$D$2:$D$115,B390,'الرصيد الثابت'!$I$2:$I$115))","v":""},{"$f":"IF(B390=\"\",\"\",SUMIF('الرصيد الثابت'!$D$2:$D$115,B390,'الرصيد الثابت'!$J$2:$J$115))","v":""},null,0,null,null,null,null,0,null,null,null,0,null,0,null,null,null,null,null,null,null,null,null,null,null,null,null,null,null,null,null,null,null,null,null,null,null,null,null,null,null,null,null,null,null,null,null,null,null,null,null,null,null,null,null,null,null,null,null,null,null,null,null,null,null,null,null,null,null,null,null,null,null,null,null,null,null,null,null,{"$f":"IFERROR(VLOOKUP(ROWS($CF$3:CF390),$CH$3:$CI$2001,2,FALSE),\"\")","v":""},null,{"$f":"IF(ISNUMBER(SEARCH(B390,CI390)),MAX($CH$2:CH389)+1,0)","v":0}]
[null,null,{"$f":"IF(B391=\"\",\"\",SUMIF('الرصيد الثابت'!$D$2:$D$115,B391,'الرصيد الثابت'!$H$2:$H$115))","v":""},{"$f":"IF(B391=\"\",\"\",SUMIF('الرصيد الثابت'!$D$2:$D$115,B391,'الرصيد الثابت'!$I$2:$I$115))","v":""},{"$f":"IF(B391=\"\",\"\",SUMIF('الرصيد الثابت'!$D$2:$D$115,B391,'الرصيد الثابت'!$J$2:$J$115))","v":""},null,0,null,null,null,null,0,null,null,null,0,null,{"$f":"SUM(S391*Q391)","v":0},null,null,null,null,null,null,null,null,null,null,null,null,null,null,null,null,null,null,null,null,null,null,null,null,null,null,null,null,null,null,null,null,null,null,null,null,null,null,null,null,null,null,null,null,null,null,null,null,null,null,null,null,null,null,null,null,null,null,null,null,null,null,null,null,null,{"$f":"IFERROR(VLOOKUP(ROWS($CF$3:CF391),$CH$3:$CI$2001,2,FALSE),\"\")","v":""},null,{"$f":"IF(ISNUMBER(SEARCH(B391,CI391)),MAX($CH$2:CH390)+1,0)","v":0}]
[null,null,{"$f":"IF(B392=\"\",\"\",SUMIF('الرصيد الثابت'!$D$2:$D$115,B392,'الرصيد الثابت'!$H$2:$H$115))","v":""},{"$f":"IF(B392=\"\",\"\",SUMIF('الرصيد الثابت'!$D$2:$D$115,B392,'الرصيد الثابت'!$I$2:$I$115))","v":""},{"$f":"IF(B392=\"\",\"\",SUMIF('الرصيد الثابت'!$D$2:$D$115,B392,'الرصيد الثابت'!$J$2:$J$115))","v":""},null,0,null,null,null,null,0,null,null,null,0,null,0,null,null,null,null,null,null,null,null,null,null,null,null,null,null,null,null,null,null,null,null,null,null,null,null,null,null,null,null,null,null,null,null,null,null,null,null,null,null,null,null,null,null,null,null,null,null,null,null,null,null,null,null,null,null,null,null,null,null,null,null,null,null,null,null,null,{"$f":"IFERROR(VLOOKUP(ROWS($CF$3:CF392),$CH$3:$CI$2001,2,FALSE),\"\")","v":""},null,{"$f":"IF(ISNUMBER(SEARCH(B392,CI392)),MAX($CH$2:CH391)+1,0)","v":0}]
[null,null,{"$f":"IF(B393=\"\",\"\",SUMIF('الرصيد الثابت'!$D$2:$D$115,B393,'الرصيد الثابت'!$H$2:$H$115))","v":""},{"$f":"IF(B393=\"\",\"\",SUMIF('الرصيد الثابت'!$D$2:$D$115,B393,'الرصيد الثابت'!$I$2:$I$115))","v":""},{"$f":"IF(B393=\"\",\"\",SUMIF('الرصيد الثابت'!$D$2:$D$115,B393,'الرصيد الثابت'!$J$2:$J$115))","v":""},null,0,null,null,null,null,0,null,null,null,0,null,0,null,null,null,null,null,null,null,null,null,null,null,null,null,null,null,null,null,null,null,null,null,null,null,null,null,null,null,null,null,null,null,null,null,null,null,null,null,null,null,null,null,null,null,null,null,null,null,null,null,null,null,null,null,null,null,null,null,null,null,null,null,null,null,null,null,{"$f":"IFERROR(VLOOKUP(ROWS($CF$3:CF393),$CH$3:$CI$2001,2,FALSE),\"\")","v":""},null,{"$f":"IF(ISNUMBER(SEARCH(B393,CI393)),MAX($CH$2:CH392)+1,0)","v":0}]
[null,null,{"$f":"IF(B394=\"\",\"\",SUMIF('الرصيد الثابت'!$D$2:$D$115,B394,'الرصيد الثابت'!$H$2:$H$115))","v":""},{"$f":"IF(B394=\"\",\"\",SUMIF('الرصيد الثابت'!$D$2:$D$115,B394,'الرصيد الثابت'!$I$2:$I$115))","v":""},{"$f":"IF(B394=\"\",\"\",SUMIF('الرصيد الثابت'!$D$2:$D$115,B394,'الرصيد الثابت'!$J$2:$J$115))","v":""},null,0,null,null,null,null,0,null,null,null,0,null,0,null,null,null,null,null,null,null,null,null,null,null,null,null,null,null,null,null,null,null,null,null,null,null,null,null,null,null,null,null,null,null,null,null,null,null,null,null,null,null,null,null,null,null,null,null,null,null,null,null,null,null,null,null,null,null,null,null,null,null,null,null,null,null,null,null,{"$f":"IFERROR(VLOOKUP(ROWS($CF$3:CF394),$CH$3:$CI$2001,2,FALSE),\"\")","v":""},null,{"$f":"IF(ISNUMBER(SEARCH(B394,CI394)),MAX($CH$2:CH393)+1,0)","v":0}]
[null,null,{"$f":"IF(B395=\"\",\"\",SUMIF('الرصيد الثابت'!$D$2:$D$115,B395,'الرصيد الثابت'!$H$2:$H$115))","v":""},{"$f":"IF(B395=\"\",\"\",SUMIF('الرصيد الثابت'!$D$2:$D$115,B395,'الرصيد الثابت'!$I$2:$I$115))","v":""},{"$f":"IF(B395=\"\",\"\",SUMIF('الرصيد الثابت'!$D$2:$D$115,B395,'الرصيد الثابت'!$J$2:$J$115))","v":""},null,0,null,null,null,null,0,null,null,null,0,null,0,null,null,null,null,null,null,null,null,null,null,null,null,null,null,null,null,null,null,null,null,null,null,null,null,null,null,null,null,null,null,null,null,null,null,null,null,null,null,null,null,null,null,null,null,null,null,null,null,null,null,null,null,null,null,null,null,null,null,null,null,null,null,null,null,null,{"$f":"IFERROR(VLOOKUP(ROWS($CF$3:CF395),$CH$3:$CI$2001,2,FALSE),\"\")","v":""},null,{"$f":"IF(ISNUMBER(SEARCH(B395,CI395)),MAX($CH$2:CH394)+1,0)","v":0}]
[null,null,{"$f":"IF(B396=\"\",\"\",SUMIF('الرصيد الثابت'!$D$2:$D$115,B396,'الرصيد الثابت'!$H$2:$H$115))","v":""},{"$f":"IF(B396=\"\",\"\",SUMIF('الرصيد الثابت'!$D$2:$D$115,B396,'الرصيد الثابت'!$I$2:$I$115))","v":""},{"$f":"IF(B396=\"\",\"\",SUMIF('الرصيد الثابت'!$D$2:$D$115,B396,'الرصيد الثابت'!$J$2:$J$115))","v":""},null,0,null,null,null,null,0,null,null,null,0,null,0,null,null,null,null,null,null,null,null,null,null,null,null,null,null,null,null,null,null,null,null,null,null,null,null,null,null,null,null,null,null,null,null,null,null,null,null,null,null,null,null,null,null,null,null,null,null,null,null,null,null,null,null,null,null,null,null,null,null,null,null,null,null,null,null,null,{"$f":"IFERROR(VLOOKUP(ROWS($CF$3:CF396),$CH$3:$CI$2001,2,FALSE),\"\")","v":""},null,{"$f":"IF(ISNUMBER(SEARCH(B396,CI396)),MAX($CH$2:CH395)+1,0)","v":0}]
[null,null,{"$f":"IF(B397=\"\",\"\",SUMIF('الرصيد الثابت'!$D$2:$D$115,B397,'الرصيد الثابت'!$H$2:$H$115))","v":""},{"$f":"IF(B397=\"\",\"\",SUMIF('الرصيد الثابت'!$D$2:$D$115,B397,'الرصيد الثابت'!$I$2:$I$115))","v":""},{"$f":"IF(B397=\"\",\"\",SUMIF('الرصيد الثابت'!$D$2:$D$115,B397,'الرصيد الثابت'!$J$2:$J$115))","v":""},null,0,null,null,null,null,0,null,null,null,0,null,0,null,null,null,null,null,null,null,null,null,null,null,null,null,null,null,null,null,null,null,null,null,null,null,null,null,null,null,null,null,null,null,null,null,null,null,null,null,null,null,null,null,null,null,null,null,null,null,null,null,null,null,null,null,null,null,null,null,null,null,null,null,null,null,null,null,{"$f":"IFERROR(VLOOKUP(ROWS($CF$3:CF397),$CH$3:$CI$2001,2,FALSE),\"\")","v":""},null,{"$f":"IF(ISNUMBER(SEARCH(B397,CI397)),MAX($CH$2:CH396)+1,0)","v":0}]
[null,null,{"$f":"IF(B398=\"\",\"\",SUMIF('الرصيد الثابت'!$D$2:$D$115,B398,'الرصيد الثابت'!$H$2:$H$115))","v":""},{"$f":"IF(B398=\"\",\"\",SUMIF('الرصيد الثابت'!$D$2:$D$115,B398,'الرصيد الثابت'!$I$2:$I$115))","v":""},{"$f":"IF(B398=\"\",\"\",SUMIF('الرصيد الثابت'!$D$2:$D$115,B398,'الرصيد الثابت'!$J$2:$J$115))","v":""},null,0,null,null,null,null,0,null,null,null,0,null,0,null,null,null,null,null,null,null,null,null,null,null,null,null,null,null,null,null,null,null,null,null,null,null,null,null,null,null,null,null,null,null,null,null,null,null,null,null,null,null,null,null,null,null,null,null,null,null,null,null,null,null,null,null,null,null,null,null,null,null,null,null,null,null,null,null,{"$f":"IFERROR(VLOOKUP(ROWS($CF$3:CF398),$CH$3:$CI$2001,2,FALSE),\"\")","v":""},null,{"$f":"IF(ISNUMBER(SEARCH(B398,CI398)),MAX($CH$2:CH397)+1,0)","v":0}]
[null,null,{"$f":"IF(B399=\"\",\"\",SUMIF('الرصيد الثابت'!$D$2:$D$115,B399,'الرصيد الثابت'!$H$2:$H$115))","v":""},{"$f":"IF(B399=\"\",\"\",SUMIF('الرصيد الثابت'!$D$2:$D$115,B399,'الرصيد الثابت'!$I$2:$I$115))","v":""},{"$f":"IF(B399=\"\",\"\",SUMIF('الرصيد الثابت'!$D$2:$D$115,B399,'الرصيد الثابت'!$J$2:$J$115))","v":""},null,0,null,null,null,null,0,null,null,null,0,null,0,null,null,null,null,null,null,null,null,null,null,null,null,null,null,null,null,null,null,null,null,null,null,null,null,null,null,null,null,null,null,null,null,null,null,null,null,null,null,null,null,null,null,null,null,null,null,null,null,null,null,null,null,null,null,null,null,null,null,null,null,null,null,null,null,null,{"$f":"IFERROR(VLOOKUP(ROWS($CF$3:CF399),$CH$3:$CI$2001,2,FALSE),\"\")","v":""},null,{"$f":"IF(ISNUMBER(SEARCH(B399,CI399)),MAX($CH$2:CH398)+1,0)","v":0}]
[null,null,{"$f":"IF(B400=\"\",\"\",SUMIF('الرصيد الثابت'!$D$2:$D$115,B400,'الرصيد الثابت'!$H$2:$H$115))","v":""},{"$f":"IF(B400=\"\",\"\",SUMIF('الرصيد الثابت'!$D$2:$D$115,B400,'الرصيد الثابت'!$I$2:$I$115))","v":""},{"$f":"IF(B400=\"\",\"\",SUMIF('الرصيد الثابت'!$D$2:$D$115,B400,'الرصيد الثابت'!$J$2:$J$115))","v":""},null,0,null,null,null,null,0,null,null,null,0,null,0,null,null,null,null,null,null,null,null,null,null,null,null,null,null,null,null,null,null,null,null,null,null,null,null,null,null,null,null,null,null,null,null,null,null,null,null,null,null,null,null,null,null,null,null,null,null,null,null,null,null,null,null,null,null,null,null,null,null,null,null,null,null,null,null,null,{"$f":"IFERROR(VLOOKUP(ROWS($CF$3:CF400),$CH$3:$CI$2001,2,FALSE),\"\")","v":""},null,{"$f":"IF(ISNUMBER(SEARCH(B400,CI400)),MAX($CH$2:CH399)+1,0)","v":0}]
[null,null,{"$f":"IF(B401=\"\",\"\",SUMIF('الرصيد الثابت'!$D$2:$D$115,B401,'الرصيد الثابت'!$H$2:$H$115))","v":""},{"$f":"IF(B401=\"\",\"\",SUMIF('الرصيد الثابت'!$D$2:$D$115,B401,'الرصيد الثابت'!$I$2:$I$115))","v":""},{"$f":"IF(B401=\"\",\"\",SUMIF('الرصيد الثابت'!$D$2:$D$115,B401,'الرصيد الثابت'!$J$2:$J$115))","v":""},null,0,null,null,null,null,0,null,null,null,0,null,0,null,null,null,null,null,null,null,null,null,null,null,null,null,null,null,null,null,null,null,null,null,null,null,null,null,null,null,null,null,null,null,null,null,null,null,null,null,null,null,null,null,null,null,null,null,null,null,null,null,null,null,null,null,null,null,null,null,null,null,null,null,null,null,null,null,{"$f":"IFERROR(VLOOKUP(ROWS($CF$3:CF401),$CH$3:$CI$2001,2,FALSE),\"\")","v":""},null,{"$f":"IF(ISNUMBER(SEARCH(B401,CI401)),MAX($CH$2:CH400)+1,0)","v":0}]
[null,null,{"$f":"IF(B402=\"\",\"\",SUMIF('الرصيد الثابت'!$D$2:$D$115,B402,'الرصيد الثابت'!$H$2:$H$115))","v":""},{"$f":"IF(B402=\"\",\"\",SUMIF('الرصيد الثابت'!$D$2:$D$115,B402,'الرصيد الثابت'!$I$2:$I$115))","v":""},{"$f":"IF(B402=\"\",\"\",SUMIF('الرصيد الثابت'!$D$2:$D$115,B402,'الرصيد الثابت'!$J$2:$J$115))","v":""},null,0,null,null,null,null,0,null,null,null,0,null,0,null,null,null,null,null,null,null,null,null,null,null,null,null,null,null,null,null,null,null,null,null,null,null,null,null,null,null,null,null,null,null,null,null,null,null,null,null,null,null,null,null,null,null,null,null,null,null,null,null,null,null,null,null,null,null,null,null,null,null,null,null,null,null,null,null,{"$f":"IFERROR(VLOOKUP(ROWS($CF$3:CF402),$CH$3:$CI$2001,2,FALSE),\"\")","v":""},null,{"$f":"IF(ISNUMBER(SEARCH(B402,CI402)),MAX($CH$2:CH401)+1,0)","v":0}]
[null,null,{"$f":"IF(B403=\"\",\"\",SUMIF('الرصيد الثابت'!$D$2:$D$115,B403,'الرصيد الثابت'!$H$2:$H$115))","v":""},{"$f":"IF(B403=\"\",\"\",SUMIF('الرصيد الثابت'!$D$2:$D$115,B403,'الرصيد الثابت'!$I$2:$I$115))","v":""},{"$f":"IF(B403=\"\",\"\",SUMIF('الرصيد الثابت'!$D$2:$D$115,B403,'الرصيد الثابت'!$J$2:$J$115))","v":""},null,0,null,null,null,null,0,null,null,null,0,null,0,null,null,null,null,null,null,null,null,null,null,null,null,null,null,null,null,null,null,null,null,null,null,null,null,null,null,null,null,null,null,null,null,null,null,null,null,null,null,null,null,null,null,null,null,null,null,null,null,null,null,null,null,null,null,null,null,null,null,null,null,null,null,null,null,null,{"$f":"IFERROR(VLOOKUP(ROWS($CF$3:CF403),$CH$3:$CI$2001,2,FALSE),\"\")","v":""},null,{"$f":"IF(ISNUMBER(SEARCH(B403,CI403)),MAX($CH$2:CH402)+1,0)","v":0}]
[null,null,{"$f":"IF(B404=\"\",\"\",SUMIF('الرصيد الثابت'!$D$2:$D$115,B404,'الرصيد الثابت'!$H$2:$H$115))","v":""},{"$f":"IF(B404=\"\",\"\",SUMIF('الرصيد الثابت'!$D$2:$D$115,B404,'الرصيد الثابت'!$I$2:$I$115))","v":""},{"$f":"IF(B404=\"\",\"\",SUMIF('الرصيد الثابت'!$D$2:$D$115,B404,'الرصيد الثابت'!$J$2:$J$115))","v":""},null,0,null,null,null,null,0,null,null,null,0,null,0,null,null,null,null,null,null,null,null,null,null,null,null,null,null,null,null,null,null,null,null,null,null,null,null,null,null,null,null,null,null,null,null,null,null,null,null,null,null,null,null,null,null,null,null,null,null,null,null,null,null,null,null,null,null,null,null,null,null,null,null,null,null,null,null,null,{"$f":"IFERROR(VLOOKUP(ROWS($CF$3:CF404),$CH$3:$CI$2001,2,FALSE),\"\")","v":""},null,{"$f":"IF(ISNUMBER(SEARCH(B404,CI404)),MAX($CH$2:CH403)+1,0)","v":0}]
[null,null,{"$f":"IF(B405=\"\",\"\",SUMIF('الرصيد الثابت'!$D$2:$D$115,B405,'الرصيد الثابت'!$H$2:$H$115))","v":""},{"$f":"IF(B405=\"\",\"\",SUMIF('الرصيد الثابت'!$D$2:$D$115,B405,'الرصيد الثابت'!$I$2:$I$115))","v":""},{"$f":"IF(B405=\"\",\"\",SUMIF('الرصيد الثابت'!$D$2:$D$115,B405,'الرصيد الثابت'!$J$2:$J$115))","v":""},null,0,null,null,null,null,0,null,null,null,0,null,0,null,null,null,null,null,null,null,null,null,null,null,null,null,null,null,null,null,null,null,null,null,null,null,null,null,null,null,null,null,null,null,null,null,null,null,null,null,null,null,null,null,null,null,null,null,null,null,null,null,null,null,null,null,null,null,null,null,null,null,null,null,null,null,null,null,{"$f":"IFERROR(VLOOKUP(ROWS($CF$3:CF405),$CH$3:$CI$2001,2,FALSE),\"\")","v":""},null,{"$f":"IF(ISNUMBER(SEARCH(B405,CI405)),MAX($CH$2:CH404)+1,0)","v":0}]
[null,null,{"$f":"IF(B406=\"\",\"\",SUMIF('الرصيد الثابت'!$D$2:$D$115,B406,'الرصيد الثابت'!$H$2:$H$115))","v":""},{"$f":"IF(B406=\"\",\"\",SUMIF('الرصيد الثابت'!$D$2:$D$115,B406,'الرصيد الثابت'!$I$2:$I$115))","v":""},{"$f":"IF(B406=\"\",\"\",SUMIF('الرصيد الثابت'!$D$2:$D$115,B406,'الرصيد الثابت'!$J$2:$J$115))","v":""},null,0,null,null,null,null,0,null,null,null,0,null,0,null,null,null,null,null,null,null,null,null,null,null,null,null,null,null,null,null,null,null,null,null,null,null,null,null,null,null,null,null,null,null,null,null,null,null,null,null,null,null,null,null,null,null,null,null,null,null,null,null,null,null,null,null,null,null,null,null,null,null,null,null,null,null,null,null,{"$f":"IFERROR(VLOOKUP(ROWS($CF$3:CF406),$CH$3:$CI$2001,2,FALSE),\"\")","v":""},null,{"$f":"IF(ISNUMBER(SEARCH(B406,CI406)),MAX($CH$2:CH405)+1,0)","v":0}]
[null,null,{"$f":"IF(B407=\"\",\"\",SUMIF('الرصيد الثابت'!$D$2:$D$115,B407,'الرصيد الثابت'!$H$2:$H$115))","v":""},{"$f":"IF(B407=\"\",\"\",SUMIF('الرصيد الثابت'!$D$2:$D$115,B407,'الرصيد الثابت'!$I$2:$I$115))","v":""},{"$f":"IF(B407=\"\",\"\",SUMIF('الرصيد الثابت'!$D$2:$D$115,B407,'الرصيد الثابت'!$J$2:$J$115))","v":""},null,0,null,null,null,null,0,null,null,null,0,null,0,null,null,null,null,null,null,null,null,null,null,null,null,null,null,null,null,null,null,null,null,null,null,null,null,null,null,null,null,null,null,null,null,null,null,null,null,null,null,null,null,null,null,null,null,null,null,null,null,null,null,null,null,null,null,null,null,null,null,null,null,null,null,null,null,null,{"$f":"IFERROR(VLOOKUP(ROWS($CF$3:CF407),$CH$3:$CI$2001,2,FALSE),\"\")","v":""},null,{"$f":"IF(ISNUMBER(SEARCH(B407,CI407)),MAX($CH$2:CH406)+1,0)","v":0}]
[null,null,{"$f":"IF(B408=\"\",\"\",SUMIF('الرصيد الثابت'!$D$2:$D$115,B408,'الرصيد الثابت'!$H$2:$H$115))","v":""},{"$f":"IF(B408=\"\",\"\",SUMIF('الرصيد الثابت'!$D$2:$D$115,B408,'الرصيد الثابت'!$I$2:$I$115))","v":""},{"$f":"IF(B408=\"\",\"\",SUMIF('الرصيد الثابت'!$D$2:$D$115,B408,'الرصيد الثابت'!$J$2:$J$115))","v":""},null,0,null,null,null,null,0,null,null,null,0,null,0,null,null,null,null,null,null,null,null,null,null,null,null,null,null,null,null,null,null,null,null,null,null,null,null,null,null,null,null,null,null,null,null,null,null,null,null,null,null,null,null,null,null,null,null,null,null,null,null,null,null,null,null,null,null,null,null,null,null,null,null,null,null,null,null,null,{"$f":"IFERROR(VLOOKUP(ROWS($CF$3:CF408),$CH$3:$CI$2001,2,FALSE),\"\")","v":""},null,{"$f":"IF(ISNUMBER(SEARCH(B408,CI408)),MAX($CH$2:CH407)+1,0)","v":0}]
[null,null,{"$f":"IF(B409=\"\",\"\",SUMIF('الرصيد الثابت'!$D$2:$D$115,B409,'الرصيد الثابت'!$H$2:$H$115))","v":""},{"$f":"IF(B409=\"\",\"\",SUMIF('الرصيد الثابت'!$D$2:$D$115,B409,'الرصيد الثابت'!$I$2:$I$115))","v":""},{"$f":"IF(B409=\"\",\"\",SUMIF('الرصيد الثابت'!$D$2:$D$115,B409,'الرصيد الثابت'!$J$2:$J$115))","v":""},null,0,null,null,null,null,0,null,null,null,0,null,0,null,null,null,null,null,null,null,null,null,null,null,null,null,null,null,null,null,null,null,null,null,null,null,null,null,null,null,null,null,null,null,null,null,null,null,null,null,null,null,null,null,null,null,null,null,null,null,null,null,null,null,null,null,null,null,null,null,null,null,null,null,null,null,null,null,{"$f":"IFERROR(VLOOKUP(ROWS($CF$3:CF409),$CH$3:$CI$2001,2,FALSE),\"\")","v":""},null,{"$f":"IF(ISNUMBER(SEARCH(B409,CI409)),MAX($CH$2:CH408)+1,0)","v":0}]
[null,null,{"$f":"IF(B410=\"\",\"\",SUMIF('الرصيد الثابت'!$D$2:$D$115,B410,'الرصيد الثابت'!$H$2:$H$115))","v":""},{"$f":"IF(B410=\"\",\"\",SUMIF('الرصيد الثابت'!$D$2:$D$115,B410,'الرصيد الثابت'!$I$2:$I$115))","v":""},{"$f":"IF(B410=\"\",\"\",SUMIF('الرصيد الثابت'!$D$2:$D$115,B410,'الرصيد الثابت'!$J$2:$J$115))","v":""},null,0,null,null,null,null,0,null,null,null,0,null,0,null,null,null,null,null,null,null,null,null,null,null,null,null,null,null,null,null,null,null,null,null,null,null,null,null,null,null,null,null,null,null,null,null,null,null,null,null,null,null,null,null,null,null,null,null,null,null,null,null,null,null,null,null,null,null,null,null,null,null,null,null,null,null,null,null,{"$f":"IFERROR(VLOOKUP(ROWS($CF$3:CF410),$CH$3:$CI$2001,2,FALSE),\"\")","v":""},null,{"$f":"IF(ISNUMBER(SEARCH(B410,CI410)),MAX($CH$2:CH409)+1,0)","v":0}]
[null,null,{"$f":"IF(B411=\"\",\"\",SUMIF('الرصيد الثابت'!$D$2:$D$115,B411,'الرصيد الثابت'!$H$2:$H$115))","v":""},{"$f":"IF(B411=\"\",\"\",SUMIF('الرصيد الثابت'!$D$2:$D$115,B411,'الرصيد الثابت'!$I$2:$I$115))","v":""},{"$f":"IF(B411=\"\",\"\",SUMIF('الرصيد الثابت'!$D$2:$D$115,B411,'الرصيد الثابت'!$J$2:$J$115))","v":""},null,0,null,null,null,null,0,null,null,null,0,null,0,null,null,null,null,null,null,null,null,null,null,null,null,null,null,null,null,null,null,null,null,null,null,null,null,null,null,null,null,null,null,null,null,null,null,null,null,null,null,null,null,null,null,null,null,null,null,null,null,null,null,null,null,null,null,null,null,null,null,null,null,null,null,null,null,null,{"$f":"IFERROR(VLOOKUP(ROWS($CF$3:CF411),$CH$3:$CI$2001,2,FALSE),\"\")","v":""},null,{"$f":"IF(ISNUMBER(SEARCH(B411,CI411)),MAX($CH$2:CH410)+1,0)","v":0}]
[null,null,{"$f":"IF(B412=\"\",\"\",SUMIF('الرصيد الثابت'!$D$2:$D$115,B412,'الرصيد الثابت'!$H$2:$H$115))","v":""},{"$f":"IF(B412=\"\",\"\",SUMIF('الرصيد الثابت'!$D$2:$D$115,B412,'الرصيد الثابت'!$I$2:$I$115))","v":""},{"$f":"IF(B412=\"\",\"\",SUMIF('الرصيد الثابت'!$D$2:$D$115,B412,'الرصيد الثابت'!$J$2:$J$115))","v":""},null,0,null,null,null,null,0,null,null,null,0,null,0,null,null,null,null,null,null,null,null,null,null,null,null,null,null,null,null,null,null,null,null,null,null,null,null,null,null,null,null,null,null,null,null,null,null,null,null,null,null,null,null,null,null,null,null,null,null,null,null,null,null,null,null,null,null,null,null,null,null,null,null,null,null,null,null,null,{"$f":"IFERROR(VLOOKUP(ROWS($CF$3:CF412),$CH$3:$CI$2001,2,FALSE),\"\")","v":""},null,{"$f":"IF(ISNUMBER(SEARCH(B412,CI412)),MAX($CH$2:CH411)+1,0)","v":0}]
[null,null,{"$f":"IF(B413=\"\",\"\",SUMIF('الرصيد الثابت'!$D$2:$D$115,B413,'الرصيد الثابت'!$H$2:$H$115))","v":""},{"$f":"IF(B413=\"\",\"\",SUMIF('الرصيد الثابت'!$D$2:$D$115,B413,'الرصيد الثابت'!$I$2:$I$115))","v":""},{"$f":"IF(B413=\"\",\"\",SUMIF('الرصيد الثابت'!$D$2:$D$115,B413,'الرصيد الثابت'!$J$2:$J$115))","v":""},null,0,null,null,null,null,0,null,null,null,0,null,0,null,null,null,null,null,null,null,null,null,null,null,null,null,null,null,null,null,null,null,null,null,null,null,null,null,null,null,null,null,null,null,null,null,null,null,null,null,null,null,null,null,null,null,null,null,null,null,null,null,null,null,null,null,null,null,null,null,null,null,null,null,null,null,null,null,{"$f":"IFERROR(VLOOKUP(ROWS($CF$3:CF413),$CH$3:$CI$2001,2,FALSE),\"\")","v":""},null,{"$f":"IF(ISNUMBER(SEARCH(B413,CI413)),MAX($CH$2:CH412)+1,0)","v":0}]
[null,null,{"$f":"IF(B414=\"\",\"\",SUMIF('الرصيد الثابت'!$D$2:$D$115,B414,'الرصيد الثابت'!$H$2:$H$115))","v":""},{"$f":"IF(B414=\"\",\"\",SUMIF('الرصيد الثابت'!$D$2:$D$115,B414,'الرصيد الثابت'!$I$2:$I$115))","v":""},{"$f":"IF(B414=\"\",\"\",SUMIF('الرصيد الثابت'!$D$2:$D$115,B414,'الرصيد الثابت'!$J$2:$J$115))","v":""},null,0,null,null,null,null,0,null,null,null,0,null,0,null,null,null,null,null,null,null,null,null,null,null,null,null,null,null,null,null,null,null,null,null,null,null,null,null,null,null,null,null,null,null,null,null,null,null,null,null,null,null,null,null,null,null,null,null,null,null,null,null,null,null,null,null,null,null,null,null,null,null,null,null,null,null,null,null,{"$f":"IFERROR(VLOOKUP(ROWS($CF$3:CF414),$CH$3:$CI$2001,2,FALSE),\"\")","v":""},null,{"$f":"IF(ISNUMBER(SEARCH(B414,CI414)),MAX($CH$2:CH413)+1,0)","v":0}]
[null,null,{"$f":"IF(B415=\"\",\"\",SUMIF('الرصيد الثابت'!$D$2:$D$115,B415,'الرصيد الثابت'!$H$2:$H$115))","v":""},{"$f":"IF(B415=\"\",\"\",SUMIF('الرصيد الثابت'!$D$2:$D$115,B415,'الرصيد الثابت'!$I$2:$I$115))","v":""},{"$f":"IF(B415=\"\",\"\",SUMIF('الرصيد الثابت'!$D$2:$D$115,B415,'الرصيد الثابت'!$J$2:$J$115))","v":""},null,0,null,null,null,null,0,null,null,null,0,null,0,null,null,null,null,null,null,null,null,null,null,null,null,null,null,null,null,null,null,null,null,null,null,null,null,null,null,null,null,null,null,null,null,null,null,null,null,null,null,null,null,null,null,null,null,null,null,null,null,null,null,null,null,null,null,null,null,null,null,null,null,null,null,null,null,null,{"$f":"IFERROR(VLOOKUP(ROWS($CF$3:CF415),$CH$3:$CI$2001,2,FALSE),\"\")","v":""},null,{"$f":"IF(ISNUMBER(SEARCH(B415,CI415)),MAX($CH$2:CH414)+1,0)","v":0}]
[null,null,{"$f":"IF(B416=\"\",\"\",SUMIF('الرصيد الثابت'!$D$2:$D$115,B416,'الرصيد الثابت'!$H$2:$H$115))","v":""},{"$f":"IF(B416=\"\",\"\",SUMIF('الرصيد الثابت'!$D$2:$D$115,B416,'الرصيد الثابت'!$I$2:$I$115))","v":""},{"$f":"IF(B416=\"\",\"\",SUMIF('الرصيد الثابت'!$D$2:$D$115,B416,'الرصيد الثابت'!$J$2:$J$115))","v":""},null,0,null,null,null,null,0,null,null,null,0,null,0,null,null,null,null,null,null,null,null,null,null,null,null,null,null,null,null,null,null,null,null,null,null,null,null,null,null,null,null,null,null,null,null,null,null,null,null,null,null,null,null,null,null,null,null,null,null,null,null,null,null,null,null,null,null,null,null,null,null,null,null,null,null,null,null,null,{"$f":"IFERROR(VLOOKUP(ROWS($CF$3:CF416),$CH$3:$CI$2001,2,FALSE),\"\")","v":""},null,{"$f":"IF(ISNUMBER(SEARCH(B416,CI416)),MAX($CH$2:CH415)+1,0)","v":0}]
[null,null,{"$f":"IF(B417=\"\",\"\",SUMIF('الرصيد الثابت'!$D$2:$D$115,B417,'الرصيد الثابت'!$H$2:$H$115))","v":""},{"$f":"IF(B417=\"\",\"\",SUMIF('الرصيد الثابت'!$D$2:$D$115,B417,'الرصيد الثابت'!$I$2:$I$115))","v":""},{"$f":"IF(B417=\"\",\"\",SUMIF('الرصيد الثابت'!$D$2:$D$115,B417,'الرصيد الثابت'!$J$2:$J$115))","v":""},null,0,null,null,null,null,0,null,null,null,0,null,0,null,null,null,null,null,null,null,null,null,null,null,null,null,null,null,null,null,null,null,null,null,null,null,null,null,null,null,null,null,null,null,null,null,null,null,null,null,null,null,null,null,null,null,null,null,null,null,null,null,null,null,null,null,null,null,null,null,null,null,null,null,null,null,null,null,{"$f":"IFERROR(VLOOKUP(ROWS($CF$3:CF417),$CH$3:$CI$2001,2,FALSE),\"\")","v":""},null,{"$f":"IF(ISNUMBER(SEARCH(B417,CI417)),MAX($CH$2:CH416)+1,0)","v":0}]
[null,null,{"$f":"IF(B418=\"\",\"\",SUMIF('الرصيد الثابت'!$D$2:$D$115,B418,'الرصيد الثابت'!$H$2:$H$115))","v":""},{"$f":"IF(B418=\"\",\"\",SUMIF('الرصيد الثابت'!$D$2:$D$115,B418,'الرصيد الثابت'!$I$2:$I$115))","v":""},{"$f":"IF(B418=\"\",\"\",SUMIF('الرصيد الثابت'!$D$2:$D$115,B418,'الرصيد الثابت'!$J$2:$J$115))","v":""},null,0,null,null,null,null,0,null,null,null,0,null,0,null,null,null,null,null,null,null,null,null,null,null,null,null,null,null,null,null,null,null,null,null,null,null,null,null,null,null,null,null,null,null,null,null,null,null,null,null,null,null,null,null,null,null,null,null,null,null,null,null,null,null,null,null,null,null,null,null,null,null,null,null,null,null,null,null,{"$f":"IFERROR(VLOOKUP(ROWS($CF$3:CF418),$CH$3:$CI$2001,2,FALSE),\"\")","v":""},null,{"$f":"IF(ISNUMBER(SEARCH(B418,CI418)),MAX($CH$2:CH417)+1,0)","v":0}]
[null,null,{"$f":"IF(B419=\"\",\"\",SUMIF('الرصيد الثابت'!$D$2:$D$115,B419,'الرصيد الثابت'!$H$2:$H$115))","v":""},{"$f":"IF(B419=\"\",\"\",SUMIF('الرصيد الثابت'!$D$2:$D$115,B419,'الرصيد الثابت'!$I$2:$I$115))","v":""},{"$f":"IF(B419=\"\",\"\",SUMIF('الرصيد الثابت'!$D$2:$D$115,B419,'الرصيد الثابت'!$J$2:$J$115))","v":""},null,0,null,null,null,null,0,null,null,null,0,null,0,null,null,null,null,null,null,null,null,null,null,null,null,null,null,null,null,null,null,null,null,null,null,null,null,null,null,null,null,null,null,null,null,null,null,null,null,null,null,null,null,null,null,null,null,null,null,null,null,null,null,null,null,null,null,null,null,null,null,null,null,null,null,null,null,null,{"$f":"IFERROR(VLOOKUP(ROWS($CF$3:CF419),$CH$3:$CI$2001,2,FALSE),\"\")","v":""},null,{"$f":"IF(ISNUMBER(SEARCH(B419,CI419)),MAX($CH$2:CH418)+1,0)","v":0}]
[null,null,{"$f":"IF(B420=\"\",\"\",SUMIF('الرصيد الثابت'!$D$2:$D$115,B420,'الرصيد الثابت'!$H$2:$H$115))","v":""},{"$f":"IF(B420=\"\",\"\",SUMIF('الرصيد الثابت'!$D$2:$D$115,B420,'الرصيد الثابت'!$I$2:$I$115))","v":""},{"$f":"IF(B420=\"\",\"\",SUMIF('الرصيد الثابت'!$D$2:$D$115,B420,'الرصيد الثابت'!$J$2:$J$115))","v":""},null,0,null,null,null,null,0,null,null,null,0,null,0,null,null,null,null,null,null,null,null,null,null,null,null,null,null,null,null,null,null,null,null,null,null,null,null,null,null,null,null,null,null,null,null,null,null,null,null,null,null,null,null,null,null,null,null,null,null,null,null,null,null,null,null,null,null,null,null,null,null,null,null,null,null,null,null,null,{"$f":"IFERROR(VLOOKUP(ROWS($CF$3:CF420),$CH$3:$CI$2001,2,FALSE),\"\")","v":""},null,{"$f":"IF(ISNUMBER(SEARCH(B420,CI420)),MAX($CH$2:CH419)+1,0)","v":0}]
[null,null,{"$f":"IF(B421=\"\",\"\",SUMIF('الرصيد الثابت'!$D$2:$D$115,B421,'الرصيد الثابت'!$H$2:$H$115))","v":""},{"$f":"IF(B421=\"\",\"\",SUMIF('الرصيد الثابت'!$D$2:$D$115,B421,'الرصيد الثابت'!$I$2:$I$115))","v":""},{"$f":"IF(B421=\"\",\"\",SUMIF('الرصيد الثابت'!$D$2:$D$115,B421,'الرصيد الثابت'!$J$2:$J$115))","v":""},null,0,null,null,null,null,0,null,null,null,0,null,0,null,null,null,null,null,null,null,null,null,null,null,null,null,null,null,null,null,null,null,null,null,null,null,null,null,null,null,null,null,null,null,null,null,null,null,null,null,null,null,null,null,null,null,null,null,null,null,null,null,null,null,null,null,null,null,null,null,null,null,null,null,null,null,null,null,{"$f":"IFERROR(VLOOKUP(ROWS($CF$3:CF421),$CH$3:$CI$2001,2,FALSE),\"\")","v":""},null,{"$f":"IF(ISNUMBER(SEARCH(B421,CI421)),MAX($CH$2:CH420)+1,0)","v":0}]
[null,null,{"$f":"IF(B422=\"\",\"\",SUMIF('الرصيد الثابت'!$D$2:$D$115,B422,'الرصيد الثابت'!$H$2:$H$115))","v":""},{"$f":"IF(B422=\"\",\"\",SUMIF('الرصيد الثابت'!$D$2:$D$115,B422,'الرصيد الثابت'!$I$2:$I$115))","v":""},{"$f":"IF(B422=\"\",\"\",SUMIF('الرصيد الثابت'!$D$2:$D$115,B422,'الرصيد الثابت'!$J$2:$J$115))","v":""},null,0,null,null,null,null,0,null,null,null,0,null,0,null,null,null,null,null,null,null,null,null,null,null,null,null,null,null,null,null,null,null,null,null,null,null,null,null,null,null,null,null,null,null,null,null,null,null,null,null,null,null,null,null,null,null,null,null,null,null,null,null,null,null,null,null,null,null,null,null,null,null,null,null,null,null,null,null,{"$f":"IFERROR(VLOOKUP(ROWS($CF$3:CF422),$CH$3:$CI$2001,2,FALSE),\"\")","v":""},null,{"$f":"IF(ISNUMBER(SEARCH(B422,CI422)),MAX($CH$2:CH421)+1,0)","v":0}]
[null,null,{"$f":"IF(B423=\"\",\"\",SUMIF('الرصيد الثابت'!$D$2:$D$115,B423,'الرصيد الثابت'!$H$2:$H$115))","v":""},{"$f":"IF(B423=\"\",\"\",SUMIF('الرصيد الثابت'!$D$2:$D$115,B423,'الرصيد الثابت'!$I$2:$I$115))","v":""},{"$f":"IF(B423=\"\",\"\",SUMIF('الرصيد الثابت'!$D$2:$D$115,B423,'الرصيد الثابت'!$J$2:$J$115))","v":""},null,0,null,null,null,null,0,null,null,null,0,null,0,null,null,null,null,null,null,null,null,null,null,null,null,null,null,null,null,null,null,null,null,null,null,null,null,null,null,null,null,null,null,null,null,null,null,null,null,null,null,null,null,null,null,null,null,null,null,null,null,null,null,null,null,null,null,null,null,null,null,null,null,null,null,null,null,null,{"$f":"IFERROR(VLOOKUP(ROWS($CF$3:CF423),$CH$3:$CI$2001,2,FALSE),\"\")","v":""},null,{"$f":"IF(ISNUMBER(SEARCH(B423,CI423)),MAX($CH$2:CH422)+1,0)","v":0}]
[null,null,{"$f":"IF(B424=\"\",\"\",SUMIF('الرصيد الثابت'!$D$2:$D$115,B424,'الرصيد الثابت'!$H$2:$H$115))","v":""},{"$f":"IF(B424=\"\",\"\",SUMIF('الرصيد الثابت'!$D$2:$D$115,B424,'الرصيد الثابت'!$I$2:$I$115))","v":""},{"$f":"IF(B424=\"\",\"\",SUMIF('الرصيد الثابت'!$D$2:$D$115,B424,'الرصيد الثابت'!$J$2:$J$115))","v":""},null,0,null,null,null,null,0,null,null,null,0,null,0,null,null,null,null,null,null,null,null,null,null,null,null,null,null,null,null,null,null,null,null,null,null,null,null,null,null,null,null,null,null,null,null,null,null,null,null,null,null,null,null,null,null,null,null,null,null,null,null,null,null,null,null,null,null,null,null,null,null,null,null,null,null,null,null,null,{"$f":"IFERROR(VLOOKUP(ROWS($CF$3:CF424),$CH$3:$CI$2001,2,FALSE),\"\")","v":""},null,{"$f":"IF(ISNUMBER(SEARCH(B424,CI424)),MAX($CH$2:CH423)+1,0)","v":0}]
[null,null,{"$f":"IF(B425=\"\",\"\",SUMIF('الرصيد الثابت'!$D$2:$D$115,B425,'الرصيد الثابت'!$H$2:$H$115))","v":""},{"$f":"IF(B425=\"\",\"\",SUMIF('الرصيد الثابت'!$D$2:$D$115,B425,'الرصيد الثابت'!$I$2:$I$115))","v":""},{"$f":"IF(B425=\"\",\"\",SUMIF('الرصيد الثابت'!$D$2:$D$115,B425,'الرصيد الثابت'!$J$2:$J$115))","v":""},null,0,null,null,null,null,0,null,null,null,0,null,0,null,null,null,null,null,null,null,null,null,null,null,null,null,null,null,null,null,null,null,null,null,null,null,null,null,null,null,null,null,null,null,null,null,null,null,null,null,null,null,null,null,null,null,null,null,null,null,null,null,null,null,null,null,null,null,null,null,null,null,null,null,null,null,null,null,{"$f":"IFERROR(VLOOKUP(ROWS($CF$3:CF425),$CH$3:$CI$2001,2,FALSE),\"\")","v":""},null,{"$f":"IF(ISNUMBER(SEARCH(B425,CI425)),MAX($CH$2:CH424)+1,0)","v":0}]
[null,null,{"$f":"IF(B426=\"\",\"\",SUMIF('الرصيد الثابت'!$D$2:$D$115,B426,'الرصيد الثابت'!$H$2:$H$115))","v":""},{"$f":"IF(B426=\"\",\"\",SUMIF('الرصيد الثابت'!$D$2:$D$115,B426,'الرصيد الثابت'!$I$2:$I$115))","v":""},{"$f":"IF(B426=\"\",\"\",SUMIF('الرصيد الثابت'!$D$2:$D$115,B426,'الرصيد الثابت'!$J$2:$J$115))","v":""},null,0,null,null,null,null,0,null,null,null,0,null,0,null,null,null,null,null,null,null,null,null,null,null,null,null,null,null,null,null,null,null,null,null,null,null,null,null,null,null,null,null,null,null,null,null,null,null,null,null,null,null,null,null,null,null,null,null,null,null,null,null,null,null,null,null,null,null,null,null,null,null,null,null,null,null,null,null,{"$f":"IFERROR(VLOOKUP(ROWS($CF$3:CF426),$CH$3:$CI$2001,2,FALSE),\"\")","v":""},null,{"$f":"IF(ISNUMBER(SEARCH(B426,CI426)),MAX($CH$2:CH425)+1,0)","v":0}]
[null,null,{"$f":"IF(B427=\"\",\"\",SUMIF('الرصيد الثابت'!$D$2:$D$115,B427,'الرصيد الثابت'!$H$2:$H$115))","v":""},{"$f":"IF(B427=\"\",\"\",SUMIF('الرصيد الثابت'!$D$2:$D$115,B427,'الرصيد الثابت'!$I$2:$I$115))","v":""},{"$f":"IF(B427=\"\",\"\",SUMIF('الرصيد الثابت'!$D$2:$D$115,B427,'الرصيد الثابت'!$J$2:$J$115))","v":""},null,0,null,null,null,null,0,null,null,null,0,null,0,null,null,null,null,null,null,null,null,null,null,null,null,null,null,null,null,null,null,null,null,null,null,null,null,null,null,null,null,null,null,null,null,null,null,null,null,null,null,null,null,null,null,null,null,null,null,null,null,null,null,null,null,null,null,null,null,null,null,null,null,null,null,null,null,null,{"$f":"IFERROR(VLOOKUP(ROWS($CF$3:CF427),$CH$3:$CI$2001,2,FALSE),\"\")","v":""},null,{"$f":"IF(ISNUMBER(SEARCH(B427,CI427)),MAX($CH$2:CH426)+1,0)","v":0}]
[null,null,{"$f":"IF(B428=\"\",\"\",SUMIF('الرصيد الثابت'!$D$2:$D$115,B428,'الرصيد الثابت'!$H$2:$H$115))","v":""},{"$f":"IF(B428=\"\",\"\",SUMIF('الرصيد الثابت'!$D$2:$D$115,B428,'الرصيد الثابت'!$I$2:$I$115))","v":""},{"$f":"IF(B428=\"\",\"\",SUMIF('الرصيد الثابت'!$D$2:$D$115,B428,'الرصيد الثابت'!$J$2:$J$115))","v":""},null,0,null,null,null,null,0,null,null,null,0,null,0,null,null,null,null,null,null,null,null,null,null,null,null,null,null,null,null,null,null,null,null,null,null,null,null,null,null,null,null,null,null,null,null,null,null,null,null,null,null,null,null,null,null,null,null,null,null,null,null,null,null,null,null,null,null,null,null,null,null,null,null,null,null,null,null,null,{"$f":"IFERROR(VLOOKUP(ROWS($CF$3:CF428),$CH$3:$CI$2001,2,FALSE),\"\")","v":""},null,{"$f":"IF(ISNUMBER(SEARCH(B428,CI428)),MAX($CH$2:CH427)+1,0)","v":0}]
[null,null,{"$f":"IF(B429=\"\",\"\",SUMIF('الرصيد الثابت'!$D$2:$D$115,B429,'الرصيد الثابت'!$H$2:$H$115))","v":""},{"$f":"IF(B429=\"\",\"\",SUMIF('الرصيد الثابت'!$D$2:$D$115,B429,'الرصيد الثابت'!$I$2:$I$115))","v":""},{"$f":"IF(B429=\"\",\"\",SUMIF('الرصيد الثابت'!$D$2:$D$115,B429,'الرصيد الثابت'!$J$2:$J$115))","v":""},null,0,null,null,null,null,0,null,null,null,0,null,0,null,null,null,null,null,null,null,null,null,null,null,null,null,null,null,null,null,null,null,null,null,null,null,null,null,null,null,null,null,null,null,null,null,null,null,null,null,null,null,null,null,null,null,null,null,null,null,null,null,null,null,null,null,null,null,null,null,null,null,null,null,null,null,null,null,{"$f":"IFERROR(VLOOKUP(ROWS($CF$3:CF429),$CH$3:$CI$2001,2,FALSE),\"\")","v":""},null,{"$f":"IF(ISNUMBER(SEARCH(B429,CI429)),MAX($CH$2:CH428)+1,0)","v":0}]
[null,null,{"$f":"IF(B430=\"\",\"\",SUMIF('الرصيد الثابت'!$D$2:$D$115,B430,'الرصيد الثابت'!$H$2:$H$115))","v":""},{"$f":"IF(B430=\"\",\"\",SUMIF('الرصيد الثابت'!$D$2:$D$115,B430,'الرصيد الثابت'!$I$2:$I$115))","v":""},{"$f":"IF(B430=\"\",\"\",SUMIF('الرصيد الثابت'!$D$2:$D$115,B430,'الرصيد الثابت'!$J$2:$J$115))","v":""},null,0,null,null,null,null,0,null,null,null,0,null,0,null,null,null,null,null,null,null,null,null,null,null,null,null,null,null,null,null,null,null,null,null,null,null,null,null,null,null,null,null,null,null,null,null,null,null,null,null,null,null,null,null,null,null,null,null,null,null,null,null,null,null,null,null,null,null,null,null,null,null,null,null,null,null,null,null,{"$f":"IFERROR(VLOOKUP(ROWS($CF$3:CF430),$CH$3:$CI$2001,2,FALSE),\"\")","v":""},null,{"$f":"IF(ISNUMBER(SEARCH(B430,CI430)),MAX($CH$2:CH429)+1,0)","v":0}]
[null,null,{"$f":"IF(B431=\"\",\"\",SUMIF('الرصيد الثابت'!$D$2:$D$115,B431,'الرصيد الثابت'!$H$2:$H$115))","v":""},{"$f":"IF(B431=\"\",\"\",SUMIF('الرصيد الثابت'!$D$2:$D$115,B431,'الرصيد الثابت'!$I$2:$I$115))","v":""},{"$f":"IF(B431=\"\",\"\",SUMIF('الرصيد الثابت'!$D$2:$D$115,B431,'الرصيد الثابت'!$J$2:$J$115))","v":""},null,0,null,null,null,null,0,null,null,null,0,null,0,null,null,null,null,null,null,null,null,null,null,null,null,null,null,null,null,null,null,null,null,null,null,null,null,null,null,null,null,null,null,null,null,null,null,null,null,null,null,null,null,null,null,null,null,null,null,null,null,null,null,null,null,null,null,null,null,null,null,null,null,null,null,null,null,null,{"$f":"IFERROR(VLOOKUP(ROWS($CF$3:CF431),$CH$3:$CI$2001,2,FALSE),\"\")","v":""},null,{"$f":"IF(ISNUMBER(SEARCH(B431,CI431)),MAX($CH$2:CH430)+1,0)","v":0}]
[null,null,{"$f":"IF(B432=\"\",\"\",SUMIF('الرصيد الثابت'!$D$2:$D$115,B432,'الرصيد الثابت'!$H$2:$H$115))","v":""},{"$f":"IF(B432=\"\",\"\",SUMIF('الرصيد الثابت'!$D$2:$D$115,B432,'الرصيد الثابت'!$I$2:$I$115))","v":""},{"$f":"IF(B432=\"\",\"\",SUMIF('الرصيد الثابت'!$D$2:$D$115,B432,'الرصيد الثابت'!$J$2:$J$115))","v":""},null,0,null,null,null,null,0,null,null,null,0,null,0,null,null,null,null,null,null,null,null,null,null,null,null,null,null,null,null,null,null,null,null,null,null,null,null,null,null,null,null,null,null,null,null,null,null,null,null,null,null,null,null,null,null,null,null,null,null,null,null,null,null,null,null,null,null,null,null,null,null,null,null,null,null,null,null,null,{"$f":"IFERROR(VLOOKUP(ROWS($CF$3:CF432),$CH$3:$CI$2001,2,FALSE),\"\")","v":""},null,{"$f":"IF(ISNUMBER(SEARCH(B432,CI432)),MAX($CH$2:CH431)+1,0)","v":0}]
[null,null,{"$f":"IF(B433=\"\",\"\",SUMIF('الرصيد الثابت'!$D$2:$D$115,B433,'الرصيد الثابت'!$H$2:$H$115))","v":""},{"$f":"IF(B433=\"\",\"\",SUMIF('الرصيد الثابت'!$D$2:$D$115,B433,'الرصيد الثابت'!$I$2:$I$115))","v":""},{"$f":"IF(B433=\"\",\"\",SUMIF('الرصيد الثابت'!$D$2:$D$115,B433,'الرصيد الثابت'!$J$2:$J$115))","v":""},null,0,null,null,null,null,0,null,null,null,0,null,0,null,null,null,null,null,null,null,null,null,null,null,null,null,null,null,null,null,null,null,null,null,null,null,null,null,null,null,null,null,null,null,null,null,null,null,null,null,null,null,null,null,null,null,null,null,null,null,null,null,null,null,null,null,null,null,null,null,null,null,null,null,null,null,null,null,{"$f":"IFERROR(VLOOKUP(ROWS($CF$3:CF433),$CH$3:$CI$2001,2,FALSE),\"\")","v":""},null,{"$f":"IF(ISNUMBER(SEARCH(B433,CI433)),MAX($CH$2:CH432)+1,0)","v":0}]
[null,null,{"$f":"IF(B434=\"\",\"\",SUMIF('الرصيد الثابت'!$D$2:$D$115,B434,'الرصيد الثابت'!$H$2:$H$115))","v":""},{"$f":"IF(B434=\"\",\"\",SUMIF('الرصيد الثابت'!$D$2:$D$115,B434,'الرصيد الثابت'!$I$2:$I$115))","v":""},{"$f":"IF(B434=\"\",\"\",SUMIF('الرصيد الثابت'!$D$2:$D$115,B434,'الرصيد الثابت'!$J$2:$J$115))","v":""},null,0,null,null,null,null,0,null,null,null,0,null,0,null,null,null,null,null,null,null,null,null,null,null,null,null,null,null,null,null,null,null,null,null,null,null,null,null,null,null,null,null,null,null,null,null,null,null,null,null,null,null,null,null,null,null,null,null,null,null,null,null,null,null,null,null,null,null,null,null,null,null,null,null,null,null,null,null,{"$f":"IFERROR(VLOOKUP(ROWS($CF$3:CF434),$CH$3:$CI$2001,2,FALSE),\"\")","v":""},null,{"$f":"IF(ISNUMBER(SEARCH(B434,CI434)),MAX($CH$2:CH433)+1,0)","v":0}]
[null,null,{"$f":"IF(B435=\"\",\"\",SUMIF('الرصيد الثابت'!$D$2:$D$115,B435,'الرصيد الثابت'!$H$2:$H$115))","v":""},{"$f":"IF(B435=\"\",\"\",SUMIF('الرصيد الثابت'!$D$2:$D$115,B435,'الرصيد الثابت'!$I$2:$I$115))","v":""},{"$f":"IF(B435=\"\",\"\",SUMIF('الرصيد الثابت'!$D$2:$D$115,B435,'الرصيد الثابت'!$J$2:$J$115))","v":""},null,0,null,null,null,null,0,null,null,null,0,null,0,null,null,null,null,null,null,null,null,null,null,null,null,null,null,null,null,null,null,null,null,null,null,null,null,null,null,null,null,null,null,null,null,null,null,null,null,null,null,null,null,null,null,null,null,null,null,null,null,null,null,null,null,null,null,null,null,null,null,null,null,null,null,null,null,null,{"$f":"IFERROR(VLOOKUP(ROWS($CF$3:CF435),$CH$3:$CI$2001,2,FALSE),\"\")","v":""},null,{"$f":"IF(ISNUMBER(SEARCH(B435,CI435)),MAX($CH$2:CH434)+1,0)","v":0}]
[null,null,{"$f":"IF(B436=\"\",\"\",SUMIF('الرصيد الثابت'!$D$2:$D$115,B436,'الرصيد الثابت'!$H$2:$H$115))","v":""},{"$f":"IF(B436=\"\",\"\",SUMIF('الرصيد الثابت'!$D$2:$D$115,B436,'الرصيد الثابت'!$I$2:$I$115))","v":""},{"$f":"IF(B436=\"\",\"\",SUMIF('الرصيد الثابت'!$D$2:$D$115,B436,'الرصيد الثابت'!$J$2:$J$115))","v":""},null,0,null,null,null,null,0,null,null,null,0,null,0,null,null,null,null,null,null,null,null,null,null,null,null,null,null,null,null,null,null,null,null,null,null,null,null,null,null,null,null,null,null,null,null,null,null,null,null,null,null,null,null,null,null,null,null,null,null,null,null,null,null,null,null,null,null,null,null,null,null,null,null,null,null,null,null,null,{"$f":"IFERROR(VLOOKUP(ROWS($CF$3:CF436),$CH$3:$CI$2001,2,FALSE),\"\")","v":""},null,{"$f":"IF(ISNUMBER(SEARCH(B436,CI436)),MAX($CH$2:CH435)+1,0)","v":0}]
[null,null,{"$f":"IF(B437=\"\",\"\",SUMIF('الرصيد الثابت'!$D$2:$D$115,B437,'الرصيد الثابت'!$H$2:$H$115))","v":""},{"$f":"IF(B437=\"\",\"\",SUMIF('الرصيد الثابت'!$D$2:$D$115,B437,'الرصيد الثابت'!$I$2:$I$115))","v":""},{"$f":"IF(B437=\"\",\"\",SUMIF('الرصيد الثابت'!$D$2:$D$115,B437,'الرصيد الثابت'!$J$2:$J$115))","v":""},null,0,null,null,null,null,0,null,null,null,0,null,0,null,null,null,null,null,null,null,null,null,null,null,null,null,null,null,null,null,null,null,null,null,null,null,null,null,null,null,null,null,null,null,null,null,null,null,null,null,null,null,null,null,null,null,null,null,null,null,null,null,null,null,null,null,null,null,null,null,null,null,null,null,null,null,null,null,{"$f":"IFERROR(VLOOKUP(ROWS($CF$3:CF437),$CH$3:$CI$2001,2,FALSE),\"\")","v":""},null,{"$f":"IF(ISNUMBER(SEARCH(B437,CI437)),MAX($CH$2:CH436)+1,0)","v":0}]
[null,null,{"$f":"IF(B438=\"\",\"\",SUMIF('الرصيد الثابت'!$D$2:$D$115,B438,'الرصيد الثابت'!$H$2:$H$115))","v":""},{"$f":"IF(B438=\"\",\"\",SUMIF('الرصيد الثابت'!$D$2:$D$115,B438,'الرصيد الثابت'!$I$2:$I$115))","v":""},{"$f":"IF(B438=\"\",\"\",SUMIF('الرصيد الثابت'!$D$2:$D$115,B438,'الرصيد الثابت'!$J$2:$J$115))","v":""},null,0,null,null,null,null,0,null,null,null,0,null,0,null,null,null,null,null,null,null,null,null,null,null,null,null,null,null,null,null,null,null,null,null,null,null,null,null,null,null,null,null,null,null,null,null,null,null,null,null,null,null,null,null,null,null,null,null,null,null,null,null,null,null,null,null,null,null,null,null,null,null,null,null,null,null,null,null,{"$f":"IFERROR(VLOOKUP(ROWS($CF$3:CF438),$CH$3:$CI$2001,2,FALSE),\"\")","v":""},null,{"$f":"IF(ISNUMBER(SEARCH(B438,CI438)),MAX($CH$2:CH437)+1,0)","v":0}]
[null,null,{"$f":"IF(B439=\"\",\"\",SUMIF('الرصيد الثابت'!$D$2:$D$115,B439,'الرصيد الثابت'!$H$2:$H$115))","v":""},{"$f":"IF(B439=\"\",\"\",SUMIF('الرصيد الثابت'!$D$2:$D$115,B439,'الرصيد الثابت'!$I$2:$I$115))","v":""},{"$f":"IF(B439=\"\",\"\",SUMIF('الرصيد الثابت'!$D$2:$D$115,B439,'الرصيد الثابت'!$J$2:$J$115))","v":""},null,0,null,null,null,null,0,null,null,null,0,null,0,null,null,null,null,null,null,null,null,null,null,null,null,null,null,null,null,null,null,null,null,null,null,null,null,null,null,null,null,null,null,null,null,null,null,null,null,null,null,null,null,null,null,null,null,null,null,null,null,null,null,null,null,null,null,null,null,null,null,null,null,null,null,null,null,null,{"$f":"IFERROR(VLOOKUP(ROWS($CF$3:CF439),$CH$3:$CI$2001,2,FALSE),\"\")","v":""},null,{"$f":"IF(ISNUMBER(SEARCH(B439,CI439)),MAX($CH$2:CH438)+1,0)","v":0}]
[null,null,{"$f":"IF(B440=\"\",\"\",SUMIF('الرصيد الثابت'!$D$2:$D$115,B440,'الرصيد الثابت'!$H$2:$H$115))","v":""},{"$f":"IF(B440=\"\",\"\",SUMIF('الرصيد الثابت'!$D$2:$D$115,B440,'الرصيد الثابت'!$I$2:$I$115))","v":""},{"$f":"IF(B440=\"\",\"\",SUMIF('الرصيد الثابت'!$D$2:$D$115,B440,'الرصيد الثابت'!$J$2:$J$115))","v":""},null,0,null,null,null,null,0,null,null,null,0,null,0,null,null,null,null,null,null,null,null,null,null,null,null,null,null,null,null,null,null,null,null,null,null,null,null,null,null,null,null,null,null,null,null,null,null,null,null,null,null,null,null,null,null,null,null,null,null,null,null,null,null,null,null,null,null,null,null,null,null,null,null,null,null,null,null,null,{"$f":"IFERROR(VLOOKUP(ROWS($CF$3:CF440),$CH$3:$CI$2001,2,FALSE),\"\")","v":""},null,{"$f":"IF(ISNUMBER(SEARCH(B440,CI440)),MAX($CH$2:CH439)+1,0)","v":0}]
[null,null,{"$f":"IF(B441=\"\",\"\",SUMIF('الرصيد الثابت'!$D$2:$D$115,B441,'الرصيد الثابت'!$H$2:$H$115))","v":""},{"$f":"IF(B441=\"\",\"\",SUMIF('الرصيد الثابت'!$D$2:$D$115,B441,'الرصيد الثابت'!$I$2:$I$115))","v":""},{"$f":"IF(B441=\"\",\"\",SUMIF('الرصيد الثابت'!$D$2:$D$115,B441,'الرصيد الثابت'!$J$2:$J$115))","v":""},null,0,null,null,null,null,0,null,null,null,0,null,0,null,null,null,null,null,null,null,null,null,null,null,null,null,null,null,null,null,null,null,null,null,null,null,null,null,null,null,null,null,null,null,null,null,null,null,null,null,null,null,null,null,null,null,null,null,null,null,null,null,null,null,null,null,null,null,null,null,null,null,null,null,null,null,null,null,{"$f":"IFERROR(VLOOKUP(ROWS($CF$3:CF441),$CH$3:$CI$2001,2,FALSE),\"\")","v":""},null,{"$f":"IF(ISNUMBER(SEARCH(B441,CI441)),MAX($CH$2:CH440)+1,0)","v":0}]
[null,null,{"$f":"IF(B442=\"\",\"\",SUMIF('الرصيد الثابت'!$D$2:$D$115,B442,'الرصيد الثابت'!$H$2:$H$115))","v":""},{"$f":"IF(B442=\"\",\"\",SUMIF('الرصيد الثابت'!$D$2:$D$115,B442,'الرصيد الثابت'!$I$2:$I$115))","v":""},{"$f":"IF(B442=\"\",\"\",SUMIF('الرصيد الثابت'!$D$2:$D$115,B442,'الرصيد الثابت'!$J$2:$J$115))","v":""},null,0,null,null,null,null,0,null,null,null,0,null,0,null,null,null,null,null,null,null,null,null,null,null,null,null,null,null,null,null,null,null,null,null,null,null,null,null,null,null,null,null,null,null,null,null,null,null,null,null,null,null,null,null,null,null,null,null,null,null,null,null,null,null,null,null,null,null,null,null,null,null,null,null,null,null,null,null,{"$f":"IFERROR(VLOOKUP(ROWS($CF$3:CF442),$CH$3:$CI$2001,2,FALSE),\"\")","v":""},null,{"$f":"IF(ISNUMBER(SEARCH(B442,CI442)),MAX($CH$2:CH441)+1,0)","v":0}]
[null,null,{"$f":"IF(B443=\"\",\"\",SUMIF('الرصيد الثابت'!$D$2:$D$115,B443,'الرصيد الثابت'!$H$2:$H$115))","v":""},{"$f":"IF(B443=\"\",\"\",SUMIF('الرصيد الثابت'!$D$2:$D$115,B443,'الرصيد الثابت'!$I$2:$I$115))","v":""},{"$f":"IF(B443=\"\",\"\",SUMIF('الرصيد الثابت'!$D$2:$D$115,B443,'الرصيد الثابت'!$J$2:$J$115))","v":""},null,0,null,null,null,null,0,null,null,null,0,null,0,null,null,null,null,null,null,null,null,null,null,null,null,null,null,null,null,null,null,null,null,null,null,null,null,null,null,null,null,null,null,null,null,null,null,null,null,null,null,null,null,null,null,null,null,null,null,null,null,null,null,null,null,null,null,null,null,null,null,null,null,null,null,null,null,null,{"$f":"IFERROR(VLOOKUP(ROWS($CF$3:CF443),$CH$3:$CI$2001,2,FALSE),\"\")","v":""},null,{"$f":"IF(ISNUMBER(SEARCH(B443,CI443)),MAX($CH$2:CH442)+1,0)","v":0}]
[null,null,{"$f":"IF(B444=\"\",\"\",SUMIF('الرصيد الثابت'!$D$2:$D$115,B444,'الرصيد الثابت'!$H$2:$H$115))","v":""},{"$f":"IF(B444=\"\",\"\",SUMIF('الرصيد الثابت'!$D$2:$D$115,B444,'الرصيد الثابت'!$I$2:$I$115))","v":""},{"$f":"IF(B444=\"\",\"\",SUMIF('الرصيد الثابت'!$D$2:$D$115,B444,'الرصيد الثابت'!$J$2:$J$115))","v":""},null,0,null,null,null,null,0,null,null,null,0,null,0,null,null,null,null,null,null,null,null,null,null,null,null,null,null,null,null,null,null,null,null,null,null,null,null,null,null,null,null,null,null,null,null,null,null,null,null,null,null,null,null,null,null,null,null,null,null,null,null,null,null,null,null,null,null,null,null,null,null,null,null,null,null,null,null,null,{"$f":"IFERROR(VLOOKUP(ROWS($CF$3:CF444),$CH$3:$CI$2001,2,FALSE),\"\")","v":""},null,{"$f":"IF(ISNUMBER(SEARCH(B444,CI444)),MAX($CH$2:CH443)+1,0)","v":0}]
[null,null,{"$f":"IF(B445=\"\",\"\",SUMIF('الرصيد الثابت'!$D$2:$D$115,B445,'الرصيد الثابت'!$H$2:$H$115))","v":""},{"$f":"IF(B445=\"\",\"\",SUMIF('الرصيد الثابت'!$D$2:$D$115,B445,'الرصيد الثابت'!$I$2:$I$115))","v":""},{"$f":"IF(B445=\"\",\"\",SUMIF('الرصيد الثابت'!$D$2:$D$115,B445,'الرصيد الثابت'!$J$2:$J$115))","v":""},null,0,null,null,null,null,0,null,null,null,0,null,0,null,null,null,null,null,null,null,null,null,null,null,null,null,null,null,null,null,null,null,null,null,null,null,null,null,null,null,null,null,null,null,null,null,null,null,null,null,null,null,null,null,null,null,null,null,null,null,null,null,null,null,null,null,null,null,null,null,null,null,null,null,null,null,null,null,{"$f":"IFERROR(VLOOKUP(ROWS($CF$3:CF445),$CH$3:$CI$2001,2,FALSE),\"\")","v":""},null,{"$f":"IF(ISNUMBER(SEARCH(B445,CI445)),MAX($CH$2:CH444)+1,0)","v":0}]
[null,null,{"$f":"IF(B446=\"\",\"\",SUMIF('الرصيد الثابت'!$D$2:$D$115,B446,'الرصيد الثابت'!$H$2:$H$115))","v":""},{"$f":"IF(B446=\"\",\"\",SUMIF('الرصيد الثابت'!$D$2:$D$115,B446,'الرصيد الثابت'!$I$2:$I$115))","v":""},{"$f":"IF(B446=\"\",\"\",SUMIF('الرصيد الثابت'!$D$2:$D$115,B446,'الرصيد الثابت'!$J$2:$J$115))","v":""},null,0,null,null,null,null,0,null,null,null,0,null,0,null,null,null,null,null,null,null,null,null,null,null,null,null,null,null,null,null,null,null,null,null,null,null,null,null,null,null,null,null,null,null,null,null,null,null,null,null,null,null,null,null,null,null,null,null,null,null,null,null,null,null,null,null,null,null,null,null,null,null,null,null,null,null,null,null,{"$f":"IFERROR(VLOOKUP(ROWS($CF$3:CF446),$CH$3:$CI$2001,2,FALSE),\"\")","v":""},null,{"$f":"IF(ISNUMBER(SEARCH(B446,CI446)),MAX($CH$2:CH445)+1,0)","v":0}]
[null,null,{"$f":"IF(B447=\"\",\"\",SUMIF('الرصيد الثابت'!$D$2:$D$115,B447,'الرصيد الثابت'!$H$2:$H$115))","v":""},{"$f":"IF(B447=\"\",\"\",SUMIF('الرصيد الثابت'!$D$2:$D$115,B447,'الرصيد الثابت'!$I$2:$I$115))","v":""},{"$f":"IF(B447=\"\",\"\",SUMIF('الرصيد الثابت'!$D$2:$D$115,B447,'الرصيد الثابت'!$J$2:$J$115))","v":""},null,0,null,null,null,null,0,null,null,null,0,null,0,null,null,null,null,null,null,null,null,null,null,null,null,null,null,null,null,null,null,null,null,null,null,null,null,null,null,null,null,null,null,null,null,null,null,null,null,null,null,null,null,null,null,null,null,null,null,null,null,null,null,null,null,null,null,null,null,null,null,null,null,null,null,null,null,null,{"$f":"IFERROR(VLOOKUP(ROWS($CF$3:CF447),$CH$3:$CI$2001,2,FALSE),\"\")","v":""},null,{"$f":"IF(ISNUMBER(SEARCH(B447,CI447)),MAX($CH$2:CH446)+1,0)","v":0}]
[null,null,{"$f":"IF(B448=\"\",\"\",SUMIF('الرصيد الثابت'!$D$2:$D$115,B448,'الرصيد الثابت'!$H$2:$H$115))","v":""},{"$f":"IF(B448=\"\",\"\",SUMIF('الرصيد الثابت'!$D$2:$D$115,B448,'الرصيد الثابت'!$I$2:$I$115))","v":""},{"$f":"IF(B448=\"\",\"\",SUMIF('الرصيد الثابت'!$D$2:$D$115,B448,'الرصيد الثابت'!$J$2:$J$115))","v":""},null,0,null,null,null,null,0,null,null,null,0,null,0,null,null,null,null,null,null,null,null,null,null,null,null,null,null,null,null,null,null,null,null,null,null,null,null,null,null,null,null,null,null,null,null,null,null,null,null,null,null,null,null,null,null,null,null,null,null,null,null,null,null,null,null,null,null,null,null,null,null,null,null,null,null,null,null,null,{"$f":"IFERROR(VLOOKUP(ROWS($CF$3:CF448),$CH$3:$CI$2001,2,FALSE),\"\")","v":""},null,{"$f":"IF(ISNUMBER(SEARCH(B448,CI448)),MAX($CH$2:CH447)+1,0)","v":0}]
[null,null,{"$f":"IF(B449=\"\",\"\",SUMIF('الرصيد الثابت'!$D$2:$D$115,B449,'الرصيد الثابت'!$H$2:$H$115))","v":""},{"$f":"IF(B449=\"\",\"\",SUMIF('الرصيد الثابت'!$D$2:$D$115,B449,'الرصيد الثابت'!$I$2:$I$115))","v":""},{"$f":"IF(B449=\"\",\"\",SUMIF('الرصيد الثابت'!$D$2:$D$115,B449,'الرصيد الثابت'!$J$2:$J$115))","v":""},null,0,null,null,null,null,0,null,null,null,0,null,0,null,null,null,null,null,null,null,null,null,null,null,null,null,null,null,null,null,null,null,null,null,null,null,null,null,null,null,null,null,null,null,null,null,null,null,null,null,null,null,null,null,null,null,null,null,null,null,null,null,null,null,null,null,null,null,null,null,null,null,null,null,null,null,null,null,{"$f":"IFERROR(VLOOKUP(ROWS($CF$3:CF449),$CH$3:$CI$2001,2,FALSE),\"\")","v":""},null,{"$f":"IF(ISNUMBER(SEARCH(B449,CI449)),MAX($CH$2:CH448)+1,0)","v":0}]
[null,null,{"$f":"IF(B450=\"\",\"\",SUMIF('الرصيد الثابت'!$D$2:$D$115,B450,'الرصيد الثابت'!$H$2:$H$115))","v":""},{"$f":"IF(B450=\"\",\"\",SUMIF('الرصيد الثابت'!$D$2:$D$115,B450,'الرصيد الثابت'!$I$2:$I$115))","v":""},{"$f":"IF(B450=\"\",\"\",SUMIF('الرصيد الثابت'!$D$2:$D$115,B450,'الرصيد الثابت'!$J$2:$J$115))","v":""},null,0,null,null,null,null,0,null,null,null,0,null,0,null,null,null,null,null,null,null,null,null,null,null,null,null,null,null,null,null,null,null,null,null,null,null,null,null,null,null,null,null,null,null,null,null,null,null,null,null,null,null,null,null,null,null,null,null,null,null,null,null,null,null,null,null,null,null,null,null,null,null,null,null,null,null,null,null,{"$f":"IFERROR(VLOOKUP(ROWS($CF$3:CF450),$CH$3:$CI$2001,2,FALSE),\"\")","v":""},null,{"$f":"IF(ISNUMBER(SEARCH(B450,CI450)),MAX($CH$2:CH449)+1,0)","v":0}]
[null,null,{"$f":"IF(B451=\"\",\"\",SUMIF('الرصيد الثابت'!$D$2:$D$115,B451,'الرصيد الثابت'!$H$2:$H$115))","v":""},{"$f":"IF(B451=\"\",\"\",SUMIF('الرصيد الثابت'!$D$2:$D$115,B451,'الرصيد الثابت'!$I$2:$I$115))","v":""},{"$f":"IF(B451=\"\",\"\",SUMIF('الرصيد الثابت'!$D$2:$D$115,B451,'الرصيد الثابت'!$J$2:$J$115))","v":""},null,0,null,null,null,null,{"$f":"SUM(M451*K451)","v":0},null,null,null,0,null,0,null,null,null,null,null,null,null,null,null,null,null,null,null,null,null,null,null,null,null,null,null,null,null,null,null,null,null,null,null,null,null,null,null,null,null,null,null,null,null,null,null,null,null,null,null,null,null,null,null,null,null,null,null,null,null,null,null,null,null,null,null,null,null,null,null,{"$f":"IFERROR(VLOOKUP(ROWS($CF$3:CF451),$CH$3:$CI$2001,2,FALSE),\"\")","v":""},null,{"$f":"IF(ISNUMBER(SEARCH(B451,CI451)),MAX($CH$2:CH450)+1,0)","v":0}]
[null,null,{"$f":"IF(B452=\"\",\"\",SUMIF('الرصيد الثابت'!$D$2:$D$115,B452,'الرصيد الثابت'!$H$2:$H$115))","v":""},{"$f":"IF(B452=\"\",\"\",SUMIF('الرصيد الثابت'!$D$2:$D$115,B452,'الرصيد الثابت'!$I$2:$I$115))","v":""},{"$f":"IF(B452=\"\",\"\",SUMIF('الرصيد الثابت'!$D$2:$D$115,B452,'الرصيد الثابت'!$J$2:$J$115))","v":""},null,{"$f":"SUM(H452*F452)","v":0},null,null,null,null,0,null,null,null,{"$f":"SUM(#REF!-#REF!)","v":{"$error":"#REF!"}},null,0,null,null,null,null,null,null,null,null,null,null,null,null,null,null,null,null,null,null,null,null,null,null,null,null,null,null,null,null,null,null,null,null,null,null,null,null,null,null,null,null,null,null,null,null,null,null,null,null,null,null,null,null,null,null,null,null,null,null,null,null,null,null,null,null,null,{"$f":"IFERROR(VLOOKUP(ROWS($CF$3:CF452),$CH$3:$CI$2001,2,FALSE),\"\")","v":""},null,{"$f":"IF(ISNUMBER(SEARCH(B452,CI452)),MAX($CH$2:CH451)+1,0)","v":0}]
[null,null,{"$f":"IF(B453=\"\",\"\",SUMIF('الرصيد الثابت'!$D$2:$D$115,B453,'الرصيد الثابت'!$H$2:$H$115))","v":""},{"$f":"IF(B453=\"\",\"\",SUMIF('الرصيد الثابت'!$D$2:$D$115,B453,'الرصيد الثابت'!$I$2:$I$115))","v":""},{"$f":"IF(B453=\"\",\"\",SUMIF('الرصيد الثابت'!$D$2:$D$115,B453,'الرصيد الثابت'!$J$2:$J$115))","v":""},null,0,null,null,null,null,0,null,null,null,{"$f":"SUM(F453-K453)","v":0},null,0,null,null,null,null,null,null,null,null,null,null,null,null,null,null,null,null,null,null,null,null,null,null,null,null,null,null,null,null,null,null,null,null,null,null,null,null,null,null,null,null,null,null,null,null,null,null,null,null,null,null,null,null,null,null,null,null,null,null,null,null,null,null,null,null,null,{"$f":"IFERROR(VLOOKUP(ROWS($CF$3:CF453),$CH$3:$CI$2001,2,FALSE),\"\")","v":""},null,{"$f":"IF(ISNUMBER(SEARCH(B453,CI453)),MAX($CH$2:CH452)+1,0)","v":0}]
[null,null,{"$f":"IF(B454=\"\",\"\",SUMIF('الرصيد الثابت'!$D$2:$D$115,B454,'الرصيد الثابت'!$H$2:$H$115))","v":""},{"$f":"IF(B454=\"\",\"\",SUMIF('الرصيد الثابت'!$D$2:$D$115,B454,'الرصيد الثابت'!$I$2:$I$115))","v":""},{"$f":"IF(B454=\"\",\"\",SUMIF('الرصيد الثابت'!$D$2:$D$115,B454,'الرصيد الثابت'!$J$2:$J$115))","v":""},null,0,null,null,null,null,0,null,null,null,0,null,0,null,null,null,null,null,null,null,null,null,null,null,null,null,null,null,null,null,null,null,null,null,null,null,null,null,null,null,null,null,null,null,null,null,null,null,null,null,null,null,null,null,null,null,null,null,null,null,null,null,null,null,null,null,null,null,null,null,null,null,null,null,null,null,null,null,{"$f":"IFERROR(VLOOKUP(ROWS($CF$3:CF454),$CH$3:$CI$2001,2,FALSE),\"\")","v":""},null,{"$f":"IF(ISNUMBER(SEARCH(B454,CI454)),MAX($CH$2:CH453)+1,0)","v":0}]
[null,null,{"$f":"IF(B455=\"\",\"\",SUMIF('الرصيد الثابت'!$D$2:$D$115,B455,'الرصيد الثابت'!$H$2:$H$115))","v":""},{"$f":"IF(B455=\"\",\"\",SUMIF('الرصيد الثابت'!$D$2:$D$115,B455,'الرصيد الثابت'!$I$2:$I$115))","v":""},{"$f":"IF(B455=\"\",\"\",SUMIF('الرصيد الثابت'!$D$2:$D$115,B455,'الرصيد الثابت'!$J$2:$J$115))","v":""},null,0,null,null,null,null,0,null,null,null,0,null,{"$f":"SUM(S455*Q455)","v":0},null,null,null,null,null,null,null,null,null,null,null,null,null,null,null,null,null,null,null,null,null,null,null,null,null,null,null,null,null,null,null,null,null,null,null,null,null,null,null,null,null,null,null,null,null,null,null,null,null,null,null,null,null,null,null,null,null,null,null,null,null,null,null,null,null,{"$f":"IFERROR(VLOOKUP(ROWS($CF$3:CF455),$CH$3:$CI$2001,2,FALSE),\"\")","v":""},null,{"$f":"IF(ISNUMBER(SEARCH(B455,CI455)),MAX($CH$2:CH454)+1,0)","v":0}]
[null,null,{"$f":"IF(B456=\"\",\"\",SUMIF('الرصيد الثابت'!$D$2:$D$115,B456,'الرصيد الثابت'!$H$2:$H$115))","v":""},{"$f":"IF(B456=\"\",\"\",SUMIF('الرصيد الثابت'!$D$2:$D$115,B456,'الرصيد الثابت'!$I$2:$I$115))","v":""},{"$f":"IF(B456=\"\",\"\",SUMIF('الرصيد الثابت'!$D$2:$D$115,B456,'الرصيد الثابت'!$J$2:$J$115))","v":""},null,0,null,null,null,null,0,null,null,null,0,null,0,null,null,null,null,null,null,null,null,null,null,null,null,null,null,null,null,null,null,null,null,null,null,null,null,null,null,null,null,null,null,null,null,null,null,null,null,null,null,null,null,null,null,null,null,null,null,null,null,null,null,null,null,null,null,null,null,null,null,null,null,null,null,null,null,null,{"$f":"IFERROR(VLOOKUP(ROWS($CF$3:CF456),$CH$3:$CI$2001,2,FALSE),\"\")","v":""},null,{"$f":"IF(ISNUMBER(SEARCH(B456,CI456)),MAX($CH$2:CH455)+1,0)","v":0}]
[null,null,{"$f":"IF(B457=\"\",\"\",SUMIF('الرصيد الثابت'!$D$2:$D$115,B457,'الرصيد الثابت'!$H$2:$H$115))","v":""},{"$f":"IF(B457=\"\",\"\",SUMIF('الرصيد الثابت'!$D$2:$D$115,B457,'الرصيد الثابت'!$I$2:$I$115))","v":""},{"$f":"IF(B457=\"\",\"\",SUMIF('الرصيد الثابت'!$D$2:$D$115,B457,'الرصيد الثابت'!$J$2:$J$115))","v":""},null,0,null,null,null,null,0,null,null,null,0,null,0,null,null,null,null,null,null,null,null,null,null,null,null,null,null,null,null,null,null,null,null,null,null,null,null,null,null,null,null,null,null,null,null,null,null,null,null,null,null,null,null,null,null,null,null,null,null,null,null,null,null,null,null,null,null,null,null,null,null,null,null,null,null,null,null,null,{"$f":"IFERROR(VLOOKUP(ROWS($CF$3:CF457),$CH$3:$CI$2001,2,FALSE),\"\")","v":""},null,{"$f":"IF(ISNUMBER(SEARCH(B457,CI457)),MAX($CH$2:CH456)+1,0)","v":0}]
[null,null,{"$f":"IF(B458=\"\",\"\",SUMIF('الرصيد الثابت'!$D$2:$D$115,B458,'الرصيد الثابت'!$H$2:$H$115))","v":""},{"$f":"IF(B458=\"\",\"\",SUMIF('الرصيد الثابت'!$D$2:$D$115,B458,'الرصيد الثابت'!$I$2:$I$115))","v":""},{"$f":"IF(B458=\"\",\"\",SUMIF('الرصيد الثابت'!$D$2:$D$115,B458,'الرصيد الثابت'!$J$2:$J$115))","v":""},null,0,null,null,null,null,0,null,null,null,0,null,0,null,null,null,null,null,null,null,null,null,null,null,null,null,null,null,null,null,null,null,null,null,null,null,null,null,null,null,null,null,null,null,null,null,null,null,null,null,null,null,null,null,null,null,null,null,null,null,null,null,null,null,null,null,null,null,null,null,null,null,null,null,null,null,null,null,{"$f":"IFERROR(VLOOKUP(ROWS($CF$3:CF458),$CH$3:$CI$2001,2,FALSE),\"\")","v":""},null,{"$f":"IF(ISNUMBER(SEARCH(B458,CI458)),MAX($CH$2:CH457)+1,0)","v":0}]
[null,null,{"$f":"IF(B459=\"\",\"\",SUMIF('الرصيد الثابت'!$D$2:$D$115,B459,'الرصيد الثابت'!$H$2:$H$115))","v":""},{"$f":"IF(B459=\"\",\"\",SUMIF('الرصيد الثابت'!$D$2:$D$115,B459,'الرصيد الثابت'!$I$2:$I$115))","v":""},{"$f":"IF(B459=\"\",\"\",SUMIF('الرصيد الثابت'!$D$2:$D$115,B459,'الرصيد الثابت'!$J$2:$J$115))","v":""},null,0,null,null,null,null,0,null,null,null,0,null,0,null,null,null,null,null,null,null,null,null,null,null,null,null,null,null,null,null,null,null,null,null,null,null,null,null,null,null,null,null,null,null,null,null,null,null,null,null,null,null,null,null,null,null,null,null,null,null,null,null,null,null,null,null,null,null,null,null,null,null,null,null,null,null,null,null,{"$f":"IFERROR(VLOOKUP(ROWS($CF$3:CF459),$CH$3:$CI$2001,2,FALSE),\"\")","v":""},null,{"$f":"IF(ISNUMBER(SEARCH(B459,CI459)),MAX($CH$2:CH458)+1,0)","v":0}]
[null,null,{"$f":"IF(B460=\"\",\"\",SUMIF('الرصيد الثابت'!$D$2:$D$115,B460,'الرصيد الثابت'!$H$2:$H$115))","v":""},{"$f":"IF(B460=\"\",\"\",SUMIF('الرصيد الثابت'!$D$2:$D$115,B460,'الرصيد الثابت'!$I$2:$I$115))","v":""},{"$f":"IF(B460=\"\",\"\",SUMIF('الرصيد الثابت'!$D$2:$D$115,B460,'الرصيد الثابت'!$J$2:$J$115))","v":""},null,0,null,null,null,null,0,null,null,null,0,null,0,null,null,null,null,null,null,null,null,null,null,null,null,null,null,null,null,null,null,null,null,null,null,null,null,null,null,null,null,null,null,null,null,null,null,null,null,null,null,null,null,null,null,null,null,null,null,null,null,null,null,null,null,null,null,null,null,null,null,null,null,null,null,null,null,null,{"$f":"IFERROR(VLOOKUP(ROWS($CF$3:CF460),$CH$3:$CI$2001,2,FALSE),\"\")","v":""},null,{"$f":"IF(ISNUMBER(SEARCH(B460,CI460)),MAX($CH$2:CH459)+1,0)","v":0}]
[null,null,{"$f":"IF(B461=\"\",\"\",SUMIF('الرصيد الثابت'!$D$2:$D$115,B461,'الرصيد الثابت'!$H$2:$H$115))","v":""},{"$f":"IF(B461=\"\",\"\",SUMIF('الرصيد الثابت'!$D$2:$D$115,B461,'الرصيد الثابت'!$I$2:$I$115))","v":""},{"$f":"IF(B461=\"\",\"\",SUMIF('الرصيد الثابت'!$D$2:$D$115,B461,'الرصيد الثابت'!$J$2:$J$115))","v":""},null,0,null,null,null,null,0,null,null,null,0,null,0,null,null,null,null,null,null,null,null,null,null,null,null,null,null,null,null,null,null,null,null,null,null,null,null,null,null,null,null,null,null,null,null,null,null,null,null,null,null,null,null,null,null,null,null,null,null,null,null,null,null,null,null,null,null,null,null,null,null,null,null,null,null,null,null,null,{"$f":"IFERROR(VLOOKUP(ROWS($CF$3:CF461),$CH$3:$CI$2001,2,FALSE),\"\")","v":""},null,{"$f":"IF(ISNUMBER(SEARCH(B461,CI461)),MAX($CH$2:CH460)+1,0)","v":0}]
[null,null,{"$f":"IF(B462=\"\",\"\",SUMIF('الرصيد الثابت'!$D$2:$D$115,B462,'الرصيد الثابت'!$H$2:$H$115))","v":""},{"$f":"IF(B462=\"\",\"\",SUMIF('الرصيد الثابت'!$D$2:$D$115,B462,'الرصيد الثابت'!$I$2:$I$115))","v":""},{"$f":"IF(B462=\"\",\"\",SUMIF('الرصيد الثابت'!$D$2:$D$115,B462,'الرصيد الثابت'!$J$2:$J$115))","v":""},null,0,null,null,null,null,0,null,null,null,0,null,0,null,null,null,null,null,null,null,null,null,null,null,null,null,null,null,null,null,null,null,null,null,null,null,null,null,null,null,null,null,null,null,null,null,null,null,null,null,null,null,null,null,null,null,null,null,null,null,null,null,null,null,null,null,null,null,null,null,null,null,null,null,null,null,null,null,{"$f":"IFERROR(VLOOKUP(ROWS($CF$3:CF462),$CH$3:$CI$2001,2,FALSE),\"\")","v":""},null,{"$f":"IF(ISNUMBER(SEARCH(B462,CI462)),MAX($CH$2:CH461)+1,0)","v":0}]
[null,null,{"$f":"IF(B463=\"\",\"\",SUMIF('الرصيد الثابت'!$D$2:$D$115,B463,'الرصيد الثابت'!$H$2:$H$115))","v":""},{"$f":"IF(B463=\"\",\"\",SUMIF('الرصيد الثابت'!$D$2:$D$115,B463,'الرصيد الثابت'!$I$2:$I$115))","v":""},{"$f":"IF(B463=\"\",\"\",SUMIF('الرصيد الثابت'!$D$2:$D$115,B463,'الرصيد الثابت'!$J$2:$J$115))","v":""},null,0,null,null,null,null,0,null,null,null,0,null,0,null,null,null,null,null,null,null,null,null,null,null,null,null,null,null,null,null,null,null,null,null,null,null,null,null,null,null,null,null,null,null,null,null,null,null,null,null,null,null,null,null,null,null,null,null,null,null,null,null,null,null,null,null,null,null,null,null,null,null,null,null,null,null,null,null,{"$f":"IFERROR(VLOOKUP(ROWS($CF$3:CF463),$CH$3:$CI$2001,2,FALSE),\"\")","v":""},null,{"$f":"IF(ISNUMBER(SEARCH(B463,CI463)),MAX($CH$2:CH462)+1,0)","v":0}]
[null,null,{"$f":"IF(B464=\"\",\"\",SUMIF('الرصيد الثابت'!$D$2:$D$115,B464,'الرصيد الثابت'!$H$2:$H$115))","v":""},{"$f":"IF(B464=\"\",\"\",SUMIF('الرصيد الثابت'!$D$2:$D$115,B464,'الرصيد الثابت'!$I$2:$I$115))","v":""},{"$f":"IF(B464=\"\",\"\",SUMIF('الرصيد الثابت'!$D$2:$D$115,B464,'الرصيد الثابت'!$J$2:$J$115))","v":""},null,0,null,null,null,null,0,null,null,null,0,null,0,null,null,null,null,null,null,null,null,null,null,null,null,null,null,null,null,null,null,null,null,null,null,null,null,null,null,null,null,null,null,null,null,null,null,null,null,null,null,null,null,null,null,null,null,null,null,null,null,null,null,null,null,null,null,null,null,null,null,null,null,null,null,null,null,null,{"$f":"IFERROR(VLOOKUP(ROWS($CF$3:CF464),$CH$3:$CI$2001,2,FALSE),\"\")","v":""},null,{"$f":"IF(ISNUMBER(SEARCH(B464,CI464)),MAX($CH$2:CH463)+1,0)","v":0}]
[null,null,{"$f":"IF(B465=\"\",\"\",SUMIF('الرصيد الثابت'!$D$2:$D$115,B465,'الرصيد الثابت'!$H$2:$H$115))","v":""},{"$f":"IF(B465=\"\",\"\",SUMIF('الرصيد الثابت'!$D$2:$D$115,B465,'الرصيد الثابت'!$I$2:$I$115))","v":""},{"$f":"IF(B465=\"\",\"\",SUMIF('الرصيد الثابت'!$D$2:$D$115,B465,'الرصيد الثابت'!$J$2:$J$115))","v":""},null,0,null,null,null,null,0,null,null,null,0,null,0,null,null,null,null,null,null,null,null,null,null,null,null,null,null,null,null,null,null,null,null,null,null,null,null,null,null,null,null,null,null,null,null,null,null,null,null,null,null,null,null,null,null,null,null,null,null,null,null,null,null,null,null,null,null,null,null,null,null,null,null,null,null,null,null,null,{"$f":"IFERROR(VLOOKUP(ROWS($CF$3:CF465),$CH$3:$CI$2001,2,FALSE),\"\")","v":""},null,{"$f":"IF(ISNUMBER(SEARCH(B465,CI465)),MAX($CH$2:CH464)+1,0)","v":0}]
[null,null,{"$f":"IF(B466=\"\",\"\",SUMIF('الرصيد الثابت'!$D$2:$D$115,B466,'الرصيد الثابت'!$H$2:$H$115))","v":""},{"$f":"IF(B466=\"\",\"\",SUMIF('الرصيد الثابت'!$D$2:$D$115,B466,'الرصيد الثابت'!$I$2:$I$115))","v":""},{"$f":"IF(B466=\"\",\"\",SUMIF('الرصيد الثابت'!$D$2:$D$115,B466,'الرصيد الثابت'!$J$2:$J$115))","v":""},null,0,null,null,null,null,0,null,null,null,0,null,0,null,null,null,null,null,null,null,null,null,null,null,null,null,null,null,null,null,null,null,null,null,null,null,null,null,null,null,null,null,null,null,null,null,null,null,null,null,null,null,null,null,null,null,null,null,null,null,null,null,null,null,null,null,null,null,null,null,null,null,null,null,null,null,null,null,{"$f":"IFERROR(VLOOKUP(ROWS($CF$3:CF466),$CH$3:$CI$2001,2,FALSE),\"\")","v":""},null,{"$f":"IF(ISNUMBER(SEARCH(B466,CI466)),MAX($CH$2:CH465)+1,0)","v":0}]
[null,null,{"$f":"IF(B467=\"\",\"\",SUMIF('الرصيد الثابت'!$D$2:$D$115,B467,'الرصيد الثابت'!$H$2:$H$115))","v":""},{"$f":"IF(B467=\"\",\"\",SUMIF('الرصيد الثابت'!$D$2:$D$115,B467,'الرصيد الثابت'!$I$2:$I$115))","v":""},{"$f":"IF(B467=\"\",\"\",SUMIF('الرصيد الثابت'!$D$2:$D$115,B467,'الرصيد الثابت'!$J$2:$J$115))","v":""},null,0,null,null,null,null,0,null,null,null,0,null,0,null,null,null,null,null,null,null,null,null,null,null,null,null,null,null,null,null,null,null,null,null,null,null,null,null,null,null,null,null,null,null,null,null,null,null,null,null,null,null,null,null,null,null,null,null,null,null,null,null,null,null,null,null,null,null,null,null,null,null,null,null,null,null,null,null,{"$f":"IFERROR(VLOOKUP(ROWS($CF$3:CF467),$CH$3:$CI$2001,2,FALSE),\"\")","v":""},null,{"$f":"IF(ISNUMBER(SEARCH(B467,CI467)),MAX($CH$2:CH466)+1,0)","v":0}]
[null,null,{"$f":"IF(B468=\"\",\"\",SUMIF('الرصيد الثابت'!$D$2:$D$115,B468,'الرصيد الثابت'!$H$2:$H$115))","v":""},{"$f":"IF(B468=\"\",\"\",SUMIF('الرصيد الثابت'!$D$2:$D$115,B468,'الرصيد الثابت'!$I$2:$I$115))","v":""},{"$f":"IF(B468=\"\",\"\",SUMIF('الرصيد الثابت'!$D$2:$D$115,B468,'الرصيد الثابت'!$J$2:$J$115))","v":""},null,0,null,null,null,null,0,null,null,null,0,null,0,null,null,null,null,null,null,null,null,null,null,null,null,null,null,null,null,null,null,null,null,null,null,null,null,null,null,null,null,null,null,null,null,null,null,null,null,null,null,null,null,null,null,null,null,null,null,null,null,null,null,null,null,null,null,null,null,null,null,null,null,null,null,null,null,null,{"$f":"IFERROR(VLOOKUP(ROWS($CF$3:CF468),$CH$3:$CI$2001,2,FALSE),\"\")","v":""},null,{"$f":"IF(ISNUMBER(SEARCH(B468,CI468)),MAX($CH$2:CH467)+1,0)","v":0}]
[null,null,{"$f":"IF(B469=\"\",\"\",SUMIF('الرصيد الثابت'!$D$2:$D$115,B469,'الرصيد الثابت'!$H$2:$H$115))","v":""},{"$f":"IF(B469=\"\",\"\",SUMIF('الرصيد الثابت'!$D$2:$D$115,B469,'الرصيد الثابت'!$I$2:$I$115))","v":""},{"$f":"IF(B469=\"\",\"\",SUMIF('الرصيد الثابت'!$D$2:$D$115,B469,'الرصيد الثابت'!$J$2:$J$115))","v":""},null,0,null,null,null,null,0,null,null,null,0,null,0,null,null,null,null,null,null,null,null,null,null,null,null,null,null,null,null,null,null,null,null,null,null,null,null,null,null,null,null,null,null,null,null,null,null,null,null,null,null,null,null,null,null,null,null,null,null,null,null,null,null,null,null,null,null,null,null,null,null,null,null,null,null,null,null,null,{"$f":"IFERROR(VLOOKUP(ROWS($CF$3:CF469),$CH$3:$CI$2001,2,FALSE),\"\")","v":""},null,{"$f":"IF(ISNUMBER(SEARCH(B469,CI469)),MAX($CH$2:CH468)+1,0)","v":0}]
[null,null,{"$f":"IF(B470=\"\",\"\",SUMIF('الرصيد الثابت'!$D$2:$D$115,B470,'الرصيد الثابت'!$H$2:$H$115))","v":""},{"$f":"IF(B470=\"\",\"\",SUMIF('الرصيد الثابت'!$D$2:$D$115,B470,'الرصيد الثابت'!$I$2:$I$115))","v":""},{"$f":"IF(B470=\"\",\"\",SUMIF('الرصيد الثابت'!$D$2:$D$115,B470,'الرصيد الثابت'!$J$2:$J$115))","v":""},null,0,null,null,null,null,0,null,null,null,0,null,0,null,null,null,null,null,null,null,null,null,null,null,null,null,null,null,null,null,null,null,null,null,null,null,null,null,null,null,null,null,null,null,null,null,null,null,null,null,null,null,null,null,null,null,null,null,null,null,null,null,null,null,null,null,null,null,null,null,null,null,null,null,null,null,null,null,{"$f":"IFERROR(VLOOKUP(ROWS($CF$3:CF470),$CH$3:$CI$2001,2,FALSE),\"\")","v":""},null,{"$f":"IF(ISNUMBER(SEARCH(B470,CI470)),MAX($CH$2:CH469)+1,0)","v":0}]
[null,null,{"$f":"IF(B471=\"\",\"\",SUMIF('الرصيد الثابت'!$D$2:$D$115,B471,'الرصيد الثابت'!$H$2:$H$115))","v":""},{"$f":"IF(B471=\"\",\"\",SUMIF('الرصيد الثابت'!$D$2:$D$115,B471,'الرصيد الثابت'!$I$2:$I$115))","v":""},{"$f":"IF(B471=\"\",\"\",SUMIF('الرصيد الثابت'!$D$2:$D$115,B471,'الرصيد الثابت'!$J$2:$J$115))","v":""},null,0,null,null,null,null,0,null,null,null,0,null,0,null,null,null,null,null,null,null,null,null,null,null,null,null,null,null,null,null,null,null,null,null,null,null,null,null,null,null,null,null,null,null,null,null,null,null,null,null,null,null,null,null,null,null,null,null,null,null,null,null,null,null,null,null,null,null,null,null,null,null,null,null,null,null,null,null,{"$f":"IFERROR(VLOOKUP(ROWS($CF$3:CF471),$CH$3:$CI$2001,2,FALSE),\"\")","v":""},null,{"$f":"IF(ISNUMBER(SEARCH(B471,CI471)),MAX($CH$2:CH470)+1,0)","v":0}]
[null,null,{"$f":"IF(B472=\"\",\"\",SUMIF('الرصيد الثابت'!$D$2:$D$115,B472,'الرصيد الثابت'!$H$2:$H$115))","v":""},{"$f":"IF(B472=\"\",\"\",SUMIF('الرصيد الثابت'!$D$2:$D$115,B472,'الرصيد الثابت'!$I$2:$I$115))","v":""},{"$f":"IF(B472=\"\",\"\",SUMIF('الرصيد الثابت'!$D$2:$D$115,B472,'الرصيد الثابت'!$J$2:$J$115))","v":""},null,0,null,null,null,null,0,null,null,null,0,null,0,null,null,null,null,null,null,null,null,null,null,null,null,null,null,null,null,null,null,null,null,null,null,null,null,null,null,null,null,null,null,null,null,null,null,null,null,null,null,null,null,null,null,null,null,null,null,null,null,null,null,null,null,null,null,null,null,null,null,null,null,null,null,null,null,null,{"$f":"IFERROR(VLOOKUP(ROWS($CF$3:CF472),$CH$3:$CI$2001,2,FALSE),\"\")","v":""},null,{"$f":"IF(ISNUMBER(SEARCH(B472,CI472)),MAX($CH$2:CH471)+1,0)","v":0}]
[null,null,{"$f":"IF(B473=\"\",\"\",SUMIF('الرصيد الثابت'!$D$2:$D$115,B473,'الرصيد الثابت'!$H$2:$H$115))","v":""},{"$f":"IF(B473=\"\",\"\",SUMIF('الرصيد الثابت'!$D$2:$D$115,B473,'الرصيد الثابت'!$I$2:$I$115))","v":""},{"$f":"IF(B473=\"\",\"\",SUMIF('الرصيد الثابت'!$D$2:$D$115,B473,'الرصيد الثابت'!$J$2:$J$115))","v":""},null,0,null,null,null,null,0,null,null,null,0,null,0,null,null,null,null,null,null,null,null,null,null,null,null,null,null,null,null,null,null,null,null,null,null,null,null,null,null,null,null,null,null,null,null,null,null,null,null,null,null,null,null,null,null,null,null,null,null,null,null,null,null,null,null,null,null,null,null,null,null,null,null,null,null,null,null,null,{"$f":"IFERROR(VLOOKUP(ROWS($CF$3:CF473),$CH$3:$CI$2001,2,FALSE),\"\")","v":""},null,{"$f":"IF(ISNUMBER(SEARCH(B473,CI473)),MAX($CH$2:CH472)+1,0)","v":0}]
[null,null,{"$f":"IF(B474=\"\",\"\",SUMIF('الرصيد الثابت'!$D$2:$D$115,B474,'الرصيد الثابت'!$H$2:$H$115))","v":""},{"$f":"IF(B474=\"\",\"\",SUMIF('الرصيد الثابت'!$D$2:$D$115,B474,'الرصيد الثابت'!$I$2:$I$115))","v":""},{"$f":"IF(B474=\"\",\"\",SUMIF('الرصيد الثابت'!$D$2:$D$115,B474,'الرصيد الثابت'!$J$2:$J$115))","v":""},null,0,null,null,null,null,0,null,null,null,0,null,0,null,null,null,null,null,null,null,null,null,null,null,null,null,null,null,null,null,null,null,null,null,null,null,null,null,null,null,null,null,null,null,null,null,null,null,null,null,null,null,null,null,null,null,null,null,null,null,null,null,null,null,null,null,null,null,null,null,null,null,null,null,null,null,null,null,{"$f":"IFERROR(VLOOKUP(ROWS($CF$3:CF474),$CH$3:$CI$2001,2,FALSE),\"\")","v":""},null,{"$f":"IF(ISNUMBER(SEARCH(B474,CI474)),MAX($CH$2:CH473)+1,0)","v":0}]
[null,null,{"$f":"IF(B475=\"\",\"\",SUMIF('الرصيد الثابت'!$D$2:$D$115,B475,'الرصيد الثابت'!$H$2:$H$115))","v":""},{"$f":"IF(B475=\"\",\"\",SUMIF('الرصيد الثابت'!$D$2:$D$115,B475,'الرصيد الثابت'!$I$2:$I$115))","v":""},{"$f":"IF(B475=\"\",\"\",SUMIF('الرصيد الثابت'!$D$2:$D$115,B475,'الرصيد الثابت'!$J$2:$J$115))","v":""},null,0,null,null,null,null,0,null,null,null,0,null,0,null,null,null,null,null,null,null,null,null,null,null,null,null,null,null,null,null,null,null,null,null,null,null,null,null,null,null,null,null,null,null,null,null,null,null,null,null,null,null,null,null,null,null,null,null,null,null,null,null,null,null,null,null,null,null,null,null,null,null,null,null,null,null,null,null,{"$f":"IFERROR(VLOOKUP(ROWS($CF$3:CF475),$CH$3:$CI$2001,2,FALSE),\"\")","v":""},null,{"$f":"IF(ISNUMBER(SEARCH(B475,CI475)),MAX($CH$2:CH474)+1,0)","v":0}]
[null,null,{"$f":"IF(B476=\"\",\"\",SUMIF('الرصيد الثابت'!$D$2:$D$115,B476,'الرصيد الثابت'!$H$2:$H$115))","v":""},{"$f":"IF(B476=\"\",\"\",SUMIF('الرصيد الثابت'!$D$2:$D$115,B476,'الرصيد الثابت'!$I$2:$I$115))","v":""},{"$f":"IF(B476=\"\",\"\",SUMIF('الرصيد الثابت'!$D$2:$D$115,B476,'الرصيد الثابت'!$J$2:$J$115))","v":""},null,0,null,null,null,null,0,null,null,null,0,null,0,null,null,null,null,null,null,null,null,null,null,null,null,null,null,null,null,null,null,null,null,null,null,null,null,null,null,null,null,null,null,null,null,null,null,null,null,null,null,null,null,null,null,null,null,null,null,null,null,null,null,null,null,null,null,null,null,null,null,null,null,null,null,null,null,null,{"$f":"IFERROR(VLOOKUP(ROWS($CF$3:CF476),$CH$3:$CI$2001,2,FALSE),\"\")","v":""},null,{"$f":"IF(ISNUMBER(SEARCH(B476,CI476)),MAX($CH$2:CH475)+1,0)","v":0}]
[null,null,{"$f":"IF(B477=\"\",\"\",SUMIF('الرصيد الثابت'!$D$2:$D$115,B477,'الرصيد الثابت'!$H$2:$H$115))","v":""},{"$f":"IF(B477=\"\",\"\",SUMIF('الرصيد الثابت'!$D$2:$D$115,B477,'الرصيد الثابت'!$I$2:$I$115))","v":""},{"$f":"IF(B477=\"\",\"\",SUMIF('الرصيد الثابت'!$D$2:$D$115,B477,'الرصيد الثابت'!$J$2:$J$115))","v":""},null,0,null,null,null,null,0,null,null,null,0,null,0,null,null,null,null,null,null,null,null,null,null,null,null,null,null,null,null,null,null,null,null,null,null,null,null,null,null,null,null,null,null,null,null,null,null,null,null,null,null,null,null,null,null,null,null,null,null,null,null,null,null,null,null,null,null,null,null,null,null,null,null,null,null,null,null,null,{"$f":"IFERROR(VLOOKUP(ROWS($CF$3:CF477),$CH$3:$CI$2001,2,FALSE),\"\")","v":""},null,{"$f":"IF(ISNUMBER(SEARCH(B477,CI477)),MAX($CH$2:CH476)+1,0)","v":0}]
[null,null,{"$f":"IF(B478=\"\",\"\",SUMIF('الرصيد الثابت'!$D$2:$D$115,B478,'الرصيد الثابت'!$H$2:$H$115))","v":""},{"$f":"IF(B478=\"\",\"\",SUMIF('الرصيد الثابت'!$D$2:$D$115,B478,'الرصيد الثابت'!$I$2:$I$115))","v":""},{"$f":"IF(B478=\"\",\"\",SUMIF('الرصيد الثابت'!$D$2:$D$115,B478,'الرصيد الثابت'!$J$2:$J$115))","v":""},null,0,null,null,null,null,0,null,null,null,0,null,0,null,null,null,null,null,null,null,null,null,null,null,null,null,null,null,null,null,null,null,null,null,null,null,null,null,null,null,null,null,null,null,null,null,null,null,null,null,null,null,null,null,null,null,null,null,null,null,null,null,null,null,null,null,null,null,null,null,null,null,null,null,null,null,null,null,{"$f":"IFERROR(VLOOKUP(ROWS($CF$3:CF478),$CH$3:$CI$2001,2,FALSE),\"\")","v":""},null,{"$f":"IF(ISNUMBER(SEARCH(B478,CI478)),MAX($CH$2:CH477)+1,0)","v":0}]
[null,null,{"$f":"IF(B479=\"\",\"\",SUMIF('الرصيد الثابت'!$D$2:$D$115,B479,'الرصيد الثابت'!$H$2:$H$115))","v":""},{"$f":"IF(B479=\"\",\"\",SUMIF('الرصيد الثابت'!$D$2:$D$115,B479,'الرصيد الثابت'!$I$2:$I$115))","v":""},{"$f":"IF(B479=\"\",\"\",SUMIF('الرصيد الثابت'!$D$2:$D$115,B479,'الرصيد الثابت'!$J$2:$J$115))","v":""},null,0,null,null,null,null,0,null,null,null,0,null,0,null,null,null,null,null,null,null,null,null,null,null,null,null,null,null,null,null,null,null,null,null,null,null,null,null,null,null,null,null,null,null,null,null,null,null,null,null,null,null,null,null,null,null,null,null,null,null,null,null,null,null,null,null,null,null,null,null,null,null,null,null,null,null,null,null,{"$f":"IFERROR(VLOOKUP(ROWS($CF$3:CF479),$CH$3:$CI$2001,2,FALSE),\"\")","v":""},null,{"$f":"IF(ISNUMBER(SEARCH(B479,CI479)),MAX($CH$2:CH478)+1,0)","v":0}]
[null,null,{"$f":"IF(B480=\"\",\"\",SUMIF('الرصيد الثابت'!$D$2:$D$115,B480,'الرصيد الثابت'!$H$2:$H$115))","v":""},{"$f":"IF(B480=\"\",\"\",SUMIF('الرصيد الثابت'!$D$2:$D$115,B480,'الرصيد الثابت'!$I$2:$I$115))","v":""},{"$f":"IF(B480=\"\",\"\",SUMIF('الرصيد الثابت'!$D$2:$D$115,B480,'الرصيد الثابت'!$J$2:$J$115))","v":""},null,0,null,null,null,null,0,null,null,null,0,null,0,null,null,null,null,null,null,null,null,null,null,null,null,null,null,null,null,null,null,null,null,null,null,null,null,null,null,null,null,null,null,null,null,null,null,null,null,null,null,null,null,null,null,null,null,null,null,null,null,null,null,null,null,null,null,null,null,null,null,null,null,null,null,null,null,null,{"$f":"IFERROR(VLOOKUP(ROWS($CF$3:CF480),$CH$3:$CI$2001,2,FALSE),\"\")","v":""},null,{"$f":"IF(ISNUMBER(SEARCH(B480,CI480)),MAX($CH$2:CH479)+1,0)","v":0}]
[null,null,{"$f":"IF(B481=\"\",\"\",SUMIF('الرصيد الثابت'!$D$2:$D$115,B481,'الرصيد الثابت'!$H$2:$H$115))","v":""},{"$f":"IF(B481=\"\",\"\",SUMIF('الرصيد الثابت'!$D$2:$D$115,B481,'الرصيد الثابت'!$I$2:$I$115))","v":""},{"$f":"IF(B481=\"\",\"\",SUMIF('الرصيد الثابت'!$D$2:$D$115,B481,'الرصيد الثابت'!$J$2:$J$115))","v":""},null,0,null,null,null,null,0,null,null,null,0,null,0,null,null,null,null,null,null,null,null,null,null,null,null,null,null,null,null,null,null,null,null,null,null,null,null,null,null,null,null,null,null,null,null,null,null,null,null,null,null,null,null,null,null,null,null,null,null,null,null,null,null,null,null,null,null,null,null,null,null,null,null,null,null,null,null,null,{"$f":"IFERROR(VLOOKUP(ROWS($CF$3:CF481),$CH$3:$CI$2001,2,FALSE),\"\")","v":""},null,{"$f":"IF(ISNUMBER(SEARCH(B481,CI481)),MAX($CH$2:CH480)+1,0)","v":0}]
[null,null,{"$f":"IF(B482=\"\",\"\",SUMIF('الرصيد الثابت'!$D$2:$D$115,B482,'الرصيد الثابت'!$H$2:$H$115))","v":""},{"$f":"IF(B482=\"\",\"\",SUMIF('الرصيد الثابت'!$D$2:$D$115,B482,'الرصيد الثابت'!$I$2:$I$115))","v":""},{"$f":"IF(B482=\"\",\"\",SUMIF('الرصيد الثابت'!$D$2:$D$115,B482,'الرصيد الثابت'!$J$2:$J$115))","v":""},null,0,null,null,null,null,0,null,null,null,0,null,0,null,null,null,null,null,null,null,null,null,null,null,null,null,null,null,null,null,null,null,null,null,null,null,null,null,null,null,null,null,null,null,null,null,null,null,null,null,null,null,null,null,null,null,null,null,null,null,null,null,null,null,null,null,null,null,null,null,null,null,null,null,null,null,null,null,{"$f":"IFERROR(VLOOKUP(ROWS($CF$3:CF482),$CH$3:$CI$2001,2,FALSE),\"\")","v":""},null,{"$f":"IF(ISNUMBER(SEARCH(B482,CI482)),MAX($CH$2:CH481)+1,0)","v":0}]
[null,null,{"$f":"IF(B483=\"\",\"\",SUMIF('الرصيد الثابت'!$D$2:$D$115,B483,'الرصيد الثابت'!$H$2:$H$115))","v":""},{"$f":"IF(B483=\"\",\"\",SUMIF('الرصيد الثابت'!$D$2:$D$115,B483,'الرصيد الثابت'!$I$2:$I$115))","v":""},{"$f":"IF(B483=\"\",\"\",SUMIF('الرصيد الثابت'!$D$2:$D$115,B483,'الرصيد الثابت'!$J$2:$J$115))","v":""},null,0,null,null,null,null,0,null,null,null,0,null,0,null,null,null,null,null,null,null,null,null,null,null,null,null,null,null,null,null,null,null,null,null,null,null,null,null,null,null,null,null,null,null,null,null,null,null,null,null,null,null,null,null,null,null,null,null,null,null,null,null,null,null,null,null,null,null,null,null,null,null,null,null,null,null,null,null,{"$f":"IFERROR(VLOOKUP(ROWS($CF$3:CF483),$CH$3:$CI$2001,2,FALSE),\"\")","v":""},null,{"$f":"IF(ISNUMBER(SEARCH(B483,CI483)),MAX($CH$2:CH482)+1,0)","v":0}]
[null,null,{"$f":"IF(B484=\"\",\"\",SUMIF('الرصيد الثابت'!$D$2:$D$115,B484,'الرصيد الثابت'!$H$2:$H$115))","v":""},{"$f":"IF(B484=\"\",\"\",SUMIF('الرصيد الثابت'!$D$2:$D$115,B484,'الرصيد الثابت'!$I$2:$I$115))","v":""},{"$f":"IF(B484=\"\",\"\",SUMIF('الرصيد الثابت'!$D$2:$D$115,B484,'الرصيد الثابت'!$J$2:$J$115))","v":""},null,0,null,null,null,null,0,null,null,null,0,null,0,null,null,null,null,null,null,null,null,null,null,null,null,null,null,null,null,null,null,null,null,null,null,null,null,null,null,null,null,null,null,null,null,null,null,null,null,null,null,null,null,null,null,null,null,null,null,null,null,null,null,null,null,null,null,null,null,null,null,null,null,null,null,null,null,null,{"$f":"IFERROR(VLOOKUP(ROWS($CF$3:CF484),$CH$3:$CI$2001,2,FALSE),\"\")","v":""},null,{"$f":"IF(ISNUMBER(SEARCH(B484,CI484)),MAX($CH$2:CH483)+1,0)","v":0}]
[null,null,{"$f":"IF(B485=\"\",\"\",SUMIF('الرصيد الثابت'!$D$2:$D$115,B485,'الرصيد الثابت'!$H$2:$H$115))","v":""},{"$f":"IF(B485=\"\",\"\",SUMIF('الرصيد الثابت'!$D$2:$D$115,B485,'الرصيد الثابت'!$I$2:$I$115))","v":""},{"$f":"IF(B485=\"\",\"\",SUMIF('الرصيد الثابت'!$D$2:$D$115,B485,'الرصيد الثابت'!$J$2:$J$115))","v":""},null,0,null,null,null,null,0,null,null,null,0,null,0,null,null,null,null,null,null,null,null,null,null,null,null,null,null,null,null,null,null,null,null,null,null,null,null,null,null,null,null,null,null,null,null,null,null,null,null,null,null,null,null,null,null,null,null,null,null,null,null,null,null,null,null,null,null,null,null,null,null,null,null,null,null,null,null,null,{"$f":"IFERROR(VLOOKUP(ROWS($CF$3:CF485),$CH$3:$CI$2001,2,FALSE),\"\")","v":""},null,{"$f":"IF(ISNUMBER(SEARCH(B485,CI485)),MAX($CH$2:CH484)+1,0)","v":0}]
[null,null,{"$f":"IF(B486=\"\",\"\",SUMIF('الرصيد الثابت'!$D$2:$D$115,B486,'الرصيد الثابت'!$H$2:$H$115))","v":""},{"$f":"IF(B486=\"\",\"\",SUMIF('الرصيد الثابت'!$D$2:$D$115,B486,'الرصيد الثابت'!$I$2:$I$115))","v":""},{"$f":"IF(B486=\"\",\"\",SUMIF('الرصيد الثابت'!$D$2:$D$115,B486,'الرصيد الثابت'!$J$2:$J$115))","v":""},null,0,null,null,null,null,0,null,null,null,0,null,0,null,null,null,null,null,null,null,null,null,null,null,null,null,null,null,null,null,null,null,null,null,null,null,null,null,null,null,null,null,null,null,null,null,null,null,null,null,null,null,null,null,null,null,null,null,null,null,null,null,null,null,null,null,null,null,null,null,null,null,null,null,null,null,null,null,{"$f":"IFERROR(VLOOKUP(ROWS($CF$3:CF486),$CH$3:$CI$2001,2,FALSE),\"\")","v":""},null,{"$f":"IF(ISNUMBER(SEARCH(B486,CI486)),MAX($CH$2:CH485)+1,0)","v":0}]
[null,null,{"$f":"IF(B487=\"\",\"\",SUMIF('الرصيد الثابت'!$D$2:$D$115,B487,'الرصيد الثابت'!$H$2:$H$115))","v":""},{"$f":"IF(B487=\"\",\"\",SUMIF('الرصيد الثابت'!$D$2:$D$115,B487,'الرصيد الثابت'!$I$2:$I$115))","v":""},{"$f":"IF(B487=\"\",\"\",SUMIF('الرصيد الثابت'!$D$2:$D$115,B487,'الرصيد الثابت'!$J$2:$J$115))","v":""},null,0,null,null,null,null,0,null,null,null,0,null,0,null,null,null,null,null,null,null,null,null,null,null,null,null,null,null,null,null,null,null,null,null,null,null,null,null,null,null,null,null,null,null,null,null,null,null,null,null,null,null,null,null,null,null,null,null,null,null,null,null,null,null,null,null,null,null,null,null,null,null,null,null,null,null,null,null,{"$f":"IFERROR(VLOOKUP(ROWS($CF$3:CF487),$CH$3:$CI$2001,2,FALSE),\"\")","v":""},null,{"$f":"IF(ISNUMBER(SEARCH(B487,CI487)),MAX($CH$2:CH486)+1,0)","v":0}]
[null,null,{"$f":"IF(B488=\"\",\"\",SUMIF('الرصيد الثابت'!$D$2:$D$115,B488,'الرصيد الثابت'!$H$2:$H$115))","v":""},{"$f":"IF(B488=\"\",\"\",SUMIF('الرصيد الثابت'!$D$2:$D$115,B488,'الرصيد الثابت'!$I$2:$I$115))","v":""},{"$f":"IF(B488=\"\",\"\",SUMIF('الرصيد الثابت'!$D$2:$D$115,B488,'الرصيد الثابت'!$J$2:$J$115))","v":""},null,0,null,null,null,null,0,null,null,null,0,null,0,null,null,null,null,null,null,null,null,null,null,null,null,null,null,null,null,null,null,null,null,null,null,null,null,null,null,null,null,null,null,null,null,null,null,null,null,null,null,null,null,null,null,null,null,null,null,null,null,null,null,null,null,null,null,null,null,null,null,null,null,null,null,null,null,null,{"$f":"IFERROR(VLOOKUP(ROWS($CF$3:CF488),$CH$3:$CI$2001,2,FALSE),\"\")","v":""},null,{"$f":"IF(ISNUMBER(SEARCH(B488,CI488)),MAX($CH$2:CH487)+1,0)","v":0}]
[null,null,{"$f":"IF(B489=\"\",\"\",SUMIF('الرصيد الثابت'!$D$2:$D$115,B489,'الرصيد الثابت'!$H$2:$H$115))","v":""},{"$f":"IF(B489=\"\",\"\",SUMIF('الرصيد الثابت'!$D$2:$D$115,B489,'الرصيد الثابت'!$I$2:$I$115))","v":""},{"$f":"IF(B489=\"\",\"\",SUMIF('الرصيد الثابت'!$D$2:$D$115,B489,'الرصيد الثابت'!$J$2:$J$115))","v":""},null,0,null,null,null,null,0,null,null,null,0,null,0,null,null,null,null,null,null,null,null,null,null,null,null,null,null,null,null,null,null,null,null,null,null,null,null,null,null,null,null,null,null,null,null,null,null,null,null,null,null,null,null,null,null,null,null,null,null,null,null,null,null,null,null,null,null,null,null,null,null,null,null,null,null,null,null,null,{"$f":"IFERROR(VLOOKUP(ROWS($CF$3:CF489),$CH$3:$CI$2001,2,FALSE),\"\")","v":""},null,{"$f":"IF(ISNUMBER(SEARCH(B489,CI489)),MAX($CH$2:CH488)+1,0)","v":0}]
[null,null,{"$f":"IF(B490=\"\",\"\",SUMIF('الرصيد الثابت'!$D$2:$D$115,B490,'الرصيد الثابت'!$H$2:$H$115))","v":""},{"$f":"IF(B490=\"\",\"\",SUMIF('الرصيد الثابت'!$D$2:$D$115,B490,'الرصيد الثابت'!$I$2:$I$115))","v":""},{"$f":"IF(B490=\"\",\"\",SUMIF('الرصيد الثابت'!$D$2:$D$115,B490,'الرصيد الثابت'!$J$2:$J$115))","v":""},null,0,null,null,null,null,0,null,null,null,0,null,0,null,null,null,null,null,null,null,null,null,null,null,null,null,null,null,null,null,null,null,null,null,null,null,null,null,null,null,null,null,null,null,null,null,null,null,null,null,null,null,null,null,null,null,null,null,null,null,null,null,null,null,null,null,null,null,null,null,null,null,null,null,null,null,null,null,{"$f":"IFERROR(VLOOKUP(ROWS($CF$3:CF490),$CH$3:$CI$2001,2,FALSE),\"\")","v":""},null,{"$f":"IF(ISNUMBER(SEARCH(B490,CI490)),MAX($CH$2:CH489)+1,0)","v":0}]
[null,null,{"$f":"IF(B491=\"\",\"\",SUMIF('الرصيد الثابت'!$D$2:$D$115,B491,'الرصيد الثابت'!$H$2:$H$115))","v":""},{"$f":"IF(B491=\"\",\"\",SUMIF('الرصيد الثابت'!$D$2:$D$115,B491,'الرصيد الثابت'!$I$2:$I$115))","v":""},{"$f":"IF(B491=\"\",\"\",SUMIF('الرصيد الثابت'!$D$2:$D$115,B491,'الرصيد الثابت'!$J$2:$J$115))","v":""},null,0,null,null,null,null,0,null,null,null,0,null,0,null,null,null,null,null,null,null,null,null,null,null,null,null,null,null,null,null,null,null,null,null,null,null,null,null,null,null,null,null,null,null,null,null,null,null,null,null,null,null,null,null,null,null,null,null,null,null,null,null,null,null,null,null,null,null,null,null,null,null,null,null,null,null,null,null,{"$f":"IFERROR(VLOOKUP(ROWS($CF$3:CF491),$CH$3:$CI$2001,2,FALSE),\"\")","v":""},null,{"$f":"IF(ISNUMBER(SEARCH(B491,CI491)),MAX($CH$2:CH490)+1,0)","v":0}]
[null,null,{"$f":"IF(B492=\"\",\"\",SUMIF('الرصيد الثابت'!$D$2:$D$115,B492,'الرصيد الثابت'!$H$2:$H$115))","v":""},{"$f":"IF(B492=\"\",\"\",SUMIF('الرصيد الثابت'!$D$2:$D$115,B492,'الرصيد الثابت'!$I$2:$I$115))","v":""},{"$f":"IF(B492=\"\",\"\",SUMIF('الرصيد الثابت'!$D$2:$D$115,B492,'الرصيد الثابت'!$J$2:$J$115))","v":""},null,0,null,null,null,null,0,null,null,null,0,null,0,null,null,null,null,null,null,null,null,null,null,null,null,null,null,null,null,null,null,null,null,null,null,null,null,null,null,null,null,null,null,null,null,null,null,null,null,null,null,null,null,null,null,null,null,null,null,null,null,null,null,null,null,null,null,null,null,null,null,null,null,null,null,null,null,null,{"$f":"IFERROR(VLOOKUP(ROWS($CF$3:CF492),$CH$3:$CI$2001,2,FALSE),\"\")","v":""},null,{"$f":"IF(ISNUMBER(SEARCH(B492,CI492)),MAX($CH$2:CH491)+1,0)","v":0}]
[null,null,{"$f":"IF(B493=\"\",\"\",SUMIF('الرصيد الثابت'!$D$2:$D$115,B493,'الرصيد الثابت'!$H$2:$H$115))","v":""},{"$f":"IF(B493=\"\",\"\",SUMIF('الرصيد الثابت'!$D$2:$D$115,B493,'الرصيد الثابت'!$I$2:$I$115))","v":""},{"$f":"IF(B493=\"\",\"\",SUMIF('الرصيد الثابت'!$D$2:$D$115,B493,'الرصيد الثابت'!$J$2:$J$115))","v":""},null,0,null,null,null,null,0,null,null,null,0,null,0,null,null,null,null,null,null,null,null,null,null,null,null,null,null,null,null,null,null,null,null,null,null,null,null,null,null,null,null,null,null,null,null,null,null,null,null,null,null,null,null,null,null,null,null,null,null,null,null,null,null,null,null,null,null,null,null,null,null,null,null,null,null,null,null,null,{"$f":"IFERROR(VLOOKUP(ROWS($CF$3:CF493),$CH$3:$CI$2001,2,FALSE),\"\")","v":""},null,{"$f":"IF(ISNUMBER(SEARCH(B493,CI493)),MAX($CH$2:CH492)+1,0)","v":0}]
[null,null,{"$f":"IF(B494=\"\",\"\",SUMIF('الرصيد الثابت'!$D$2:$D$115,B494,'الرصيد الثابت'!$H$2:$H$115))","v":""},{"$f":"IF(B494=\"\",\"\",SUMIF('الرصيد الثابت'!$D$2:$D$115,B494,'الرصيد الثابت'!$I$2:$I$115))","v":""},{"$f":"IF(B494=\"\",\"\",SUMIF('الرصيد الثابت'!$D$2:$D$115,B494,'الرصيد الثابت'!$J$2:$J$115))","v":""},null,0,null,null,null,null,0,null,null,null,0,null,0,null,null,null,null,null,null,null,null,null,null,null,null,null,null,null,null,null,null,null,null,null,null,null,null,null,null,null,null,null,null,null,null,null,null,null,null,null,null,null,null,null,null,null,null,null,null,null,null,null,null,null,null,null,null,null,null,null,null,null,null,null,null,null,null,null,{"$f":"IFERROR(VLOOKUP(ROWS($CF$3:CF494),$CH$3:$CI$2001,2,FALSE),\"\")","v":""},null,{"$f":"IF(ISNUMBER(SEARCH(B494,CI494)),MAX($CH$2:CH493)+1,0)","v":0}]
[null,null,{"$f":"IF(B495=\"\",\"\",SUMIF('الرصيد الثابت'!$D$2:$D$115,B495,'الرصيد الثابت'!$H$2:$H$115))","v":""},{"$f":"IF(B495=\"\",\"\",SUMIF('الرصيد الثابت'!$D$2:$D$115,B495,'الرصيد الثابت'!$I$2:$I$115))","v":""},{"$f":"IF(B495=\"\",\"\",SUMIF('الرصيد الثابت'!$D$2:$D$115,B495,'الرصيد الثابت'!$J$2:$J$115))","v":""},null,0,null,null,null,null,0,null,null,null,0,null,0,null,null,null,null,null,null,null,null,null,null,null,null,null,null,null,null,null,null,null,null,null,null,null,null,null,null,null,null,null,null,null,null,null,null,null,null,null,null,null,null,null,null,null,null,null,null,null,null,null,null,null,null,null,null,null,null,null,null,null,null,null,null,null,null,null,{"$f":"IFERROR(VLOOKUP(ROWS($CF$3:CF495),$CH$3:$CI$2001,2,FALSE),\"\")","v":""},null,{"$f":"IF(ISNUMBER(SEARCH(B495,CI495)),MAX($CH$2:CH494)+1,0)","v":0}]
[null,null,{"$f":"IF(B496=\"\",\"\",SUMIF('الرصيد الثابت'!$D$2:$D$115,B496,'الرصيد الثابت'!$H$2:$H$115))","v":""},{"$f":"IF(B496=\"\",\"\",SUMIF('الرصيد الثابت'!$D$2:$D$115,B496,'الرصيد الثابت'!$I$2:$I$115))","v":""},{"$f":"IF(B496=\"\",\"\",SUMIF('الرصيد الثابت'!$D$2:$D$115,B496,'الرصيد الثابت'!$J$2:$J$115))","v":""},null,0,null,null,null,null,0,null,null,null,0,null,0,null,null,null,null,null,null,null,null,null,null,null,null,null,null,null,null,null,null,null,null,null,null,null,null,null,null,null,null,null,null,null,null,null,null,null,null,null,null,null,null,null,null,null,null,null,null,null,null,null,null,null,null,null,null,null,null,null,null,null,null,null,null,null,null,null,{"$f":"IFERROR(VLOOKUP(ROWS($CF$3:CF496),$CH$3:$CI$2001,2,FALSE),\"\")","v":""},null,{"$f":"IF(ISNUMBER(SEARCH(B496,CI496)),MAX($CH$2:CH495)+1,0)","v":0}]
[null,null,{"$f":"IF(B497=\"\",\"\",SUMIF('الرصيد الثابت'!$D$2:$D$115,B497,'الرصيد الثابت'!$H$2:$H$115))","v":""},{"$f":"IF(B497=\"\",\"\",SUMIF('الرصيد الثابت'!$D$2:$D$115,B497,'الرصيد الثابت'!$I$2:$I$115))","v":""},{"$f":"IF(B497=\"\",\"\",SUMIF('الرصيد الثابت'!$D$2:$D$115,B497,'الرصيد الثابت'!$J$2:$J$115))","v":""},null,0,null,null,null,null,0,null,null,null,0,null,0,null,null,null,null,null,null,null,null,null,null,null,null,null,null,null,null,null,null,null,null,null,null,null,null,null,null,null,null,null,null,null,null,null,null,null,null,null,null,null,null,null,null,null,null,null,null,null,null,null,null,null,null,null,null,null,null,null,null,null,null,null,null,null,null,null,{"$f":"IFERROR(VLOOKUP(ROWS($CF$3:CF497),$CH$3:$CI$2001,2,FALSE),\"\")","v":""},null,{"$f":"IF(ISNUMBER(SEARCH(B497,CI497)),MAX($CH$2:CH496)+1,0)","v":0}]
[null,null,{"$f":"IF(B498=\"\",\"\",SUMIF('الرصيد الثابت'!$D$2:$D$115,B498,'الرصيد الثابت'!$H$2:$H$115))","v":""},{"$f":"IF(B498=\"\",\"\",SUMIF('الرصيد الثابت'!$D$2:$D$115,B498,'الرصيد الثابت'!$I$2:$I$115))","v":""},{"$f":"IF(B498=\"\",\"\",SUMIF('الرصيد الثابت'!$D$2:$D$115,B498,'الرصيد الثابت'!$J$2:$J$115))","v":""},null,0,null,null,null,null,0,null,null,null,0,null,0,null,null,null,null,null,null,null,null,null,null,null,null,null,null,null,null,null,null,null,null,null,null,null,null,null,null,null,null,null,null,null,null,null,null,null,null,null,null,null,null,null,null,null,null,null,null,null,null,null,null,null,null,null,null,null,null,null,null,null,null,null,null,null,null,null,{"$f":"IFERROR(VLOOKUP(ROWS($CF$3:CF498),$CH$3:$CI$2001,2,FALSE),\"\")","v":""},null,{"$f":"IF(ISNUMBER(SEARCH(B498,CI498)),MAX($CH$2:CH497)+1,0)","v":0}]
[null,null,{"$f":"IF(B499=\"\",\"\",SUMIF('الرصيد الثابت'!$D$2:$D$115,B499,'الرصيد الثابت'!$H$2:$H$115))","v":""},{"$f":"IF(B499=\"\",\"\",SUMIF('الرصيد الثابت'!$D$2:$D$115,B499,'الرصيد الثابت'!$I$2:$I$115))","v":""},{"$f":"IF(B499=\"\",\"\",SUMIF('الرصيد الثابت'!$D$2:$D$115,B499,'الرصيد الثابت'!$J$2:$J$115))","v":""},null,0,null,null,null,null,0,null,null,null,0,null,0,null,null,null,null,null,null,null,null,null,null,null,null,null,null,null,null,null,null,null,null,null,null,null,null,null,null,null,null,null,null,null,null,null,null,null,null,null,null,null,null,null,null,null,null,null,null,null,null,null,null,null,null,null,null,null,null,null,null,null,null,null,null,null,null,null,{"$f":"IFERROR(VLOOKUP(ROWS($CF$3:CF499),$CH$3:$CI$2001,2,FALSE),\"\")","v":""},null,{"$f":"IF(ISNUMBER(SEARCH(B499,CI499)),MAX($CH$2:CH498)+1,0)","v":0}]
[null,null,{"$f":"IF(B500=\"\",\"\",SUMIF('الرصيد الثابت'!$D$2:$D$115,B500,'الرصيد الثابت'!$H$2:$H$115))","v":""},{"$f":"IF(B500=\"\",\"\",SUMIF('الرصيد الثابت'!$D$2:$D$115,B500,'الرصيد الثابت'!$I$2:$I$115))","v":""},{"$f":"IF(B500=\"\",\"\",SUMIF('الرصيد الثابت'!$D$2:$D$115,B500,'الرصيد الثابت'!$J$2:$J$115))","v":""},null,0,null,null,null,null,0,null,null,null,0,null,0,null,null,null,null,null,null,null,null,null,null,null,null,null,null,null,null,null,null,null,null,null,null,null,null,null,null,null,null,null,null,null,null,null,null,null,null,null,null,null,null,null,null,null,null,null,null,null,null,null,null,null,null,null,null,null,null,null,null,null,null,null,null,null,null,null,{"$f":"IFERROR(VLOOKUP(ROWS($CF$3:CF500),$CH$3:$CI$2001,2,FALSE),\"\")","v":""},null,{"$f":"IF(ISNUMBER(SEARCH(B500,CI500)),MAX($CH$2:CH499)+1,0)","v":0}]
[null,null,{"$f":"IF(B502=\"\",\"\",SUMIF('الرصيد الثابت'!$D$2:$D$115,B502,'الرصيد الثابت'!$H$2:$H$115))","v":""},{"$f":"IF(B502=\"\",\"\",SUMIF('الرصيد الثابت'!$D$2:$D$115,B502,'الرصيد الثابت'!$I$2:$I$115))","v":""},{"$f":"IF(B502=\"\",\"\",SUMIF('الرصيد الثابت'!$D$2:$D$115,B502,'الرصيد الثابت'!$J$2:$J$115))","v":""},null,0,null,null,null,null,0,null,null,null,0,null,0,null,null,null,null,null,null,null,null,null,null,null,null,null,null,null,null,null,null,null,null,null,null,null,null,null,null,null,null,null,null,null,null,null,null,null,null,null,null,null,null,null,null,null,null,null,null,null,null,null,null,null,null,null,null,null,null,null,null,null,null,null,null,null,null,null,{"$f":"IFERROR(VLOOKUP(ROWS($CF$3:CF502),$CH$3:$CI$2001,2,FALSE),\"\")","v":""},null,{"$f":"IF(ISNUMBER(SEARCH(B502,CI502)),MAX($CH$2:CH501)+1,0)","v":0}]
[null,null,{"$f":"IF(B504=\"\",\"\",SUMIF('الرصيد الثابت'!$D$2:$D$115,B504,'الرصيد الثابت'!$H$2:$H$115))","v":""},{"$f":"IF(B504=\"\",\"\",SUMIF('الرصيد الثابت'!$D$2:$D$115,B504,'الرصيد الثابت'!$I$2:$I$115))","v":""},{"$f":"IF(B504=\"\",\"\",SUMIF('الرصيد الثابت'!$D$2:$D$115,B504,'الرصيد الثابت'!$J$2:$J$115))","v":""},null,0,null,null,null,null,0,null,null,null,0,null,0,null,null,null,null,null,null,null,null,null,null,null,null,null,null,null,null,null,null,null,null,null,null,null,null,null,null,null,null,null,null,null,null,null,null,null,null,null,null,null,null,null,null,null,null,null,null,null,null,null,null,null,null,null,null,null,null,null,null,null,null,null,null,null,null,null,{"$f":"IFERROR(VLOOKUP(ROWS($CF$3:CF504),$CH$3:$CI$2001,2,FALSE),\"\")","v":""},null,{"$f":"IF(ISNUMBER(SEARCH(B504,CI504)),MAX($CH$2:CH503)+1,0)","v":0}]
[null,null,{"$f":"IF(B507=\"\",\"\",SUMIF('الرصيد الثابت'!$D$2:$D$115,B507,'الرصيد الثابت'!$H$2:$H$115))","v":""},{"$f":"IF(B507=\"\",\"\",SUMIF('الرصيد الثابت'!$D$2:$D$115,B507,'الرصيد الثابت'!$I$2:$I$115))","v":""},{"$f":"IF(B507=\"\",\"\",SUMIF('الرصيد الثابت'!$D$2:$D$115,B507,'الرصيد الثابت'!$J$2:$J$115))","v":""},null,0,null,null,null,null,0,null,null,null,0,null,0,null,null,null,null,null,null,null,null,null,null,null,null,null,null,null,null,null,null,null,null,null,null,null,null,null,null,null,null,null,null,null,null,null,null,null,null,null,null,null,null,null,null,null,null,null,null,null,null,null,null,null,null,null,null,null,null,null,null,null,null,null,null,null,null,null,{"$f":"IFERROR(VLOOKUP(ROWS($CF$3:CF507),$CH$3:$CI$2001,2,FALSE),\"\")","v":""},null,{"$f":"IF(ISNUMBER(SEARCH(B507,CI507)),MAX($CH$2:CH506)+1,0)","v":0}]
[null,null,{"$f":"IF(B511=\"\",\"\",SUMIF('الرصيد الثابت'!$D$2:$D$115,B511,'الرصيد الثابت'!$H$2:$H$115))","v":""},{"$f":"IF(B511=\"\",\"\",SUMIF('الرصيد الثابت'!$D$2:$D$115,B511,'الرصيد الثابت'!$I$2:$I$115))","v":""},{"$f":"IF(B511=\"\",\"\",SUMIF('الرصيد الثابت'!$D$2:$D$115,B511,'الرصيد الثابت'!$J$2:$J$115))","v":""},null,0,null,null,null,null,0,null,null,null,0,null,0,null,null,null,null,null,null,null,null,null,null,null,null,null,null,null,null,null,null,null,null,null,null,null,null,null,null,null,null,null,null,null,null,null,null,null,null,null,null,null,null,null,null,null,null,null,null,null,null,null,null,null,null,null,null,null,null,null,null,null,null,null,null,null,null,null,{"$f":"IFERROR(VLOOKUP(ROWS($CF$3:CF511),$CH$3:$CI$2001,2,FALSE),\"\")","v":""},null,{"$f":"IF(ISNUMBER(SEARCH(B511,CI511)),MAX($CH$2:CH510)+1,0)","v":0}]
[null,null,{"$f":"IF(B513=\"\",\"\",SUMIF('الرصيد الثابت'!$D$2:$D$115,B513,'الرصيد الثابت'!$H$2:$H$115))","v":""},{"$f":"IF(B513=\"\",\"\",SUMIF('الرصيد الثابت'!$D$2:$D$115,B513,'الرصيد الثابت'!$I$2:$I$115))","v":""},{"$f":"IF(B513=\"\",\"\",SUMIF('الرصيد الثابت'!$D$2:$D$115,B513,'الرصيد الثابت'!$J$2:$J$115))","v":""},null,0,null,null,null,null,0,null,null,null,0,null,0,null,null,null,null,null,null,null,null,null,null,null,null,null,null,null,null,null,null,null,null,null,null,null,null,null,null,null,null,null,null,null,null,null,null,null,null,null,null,null,null,null,null,null,null,null,null,null,null,null,null,null,null,null,null,null,null,null,null,null,null,null,null,null,null,null,{"$f":"IFERROR(VLOOKUP(ROWS($CF$3:CF513),$CH$3:$CI$2001,2,FALSE),\"\")","v":""},null,{"$f":"IF(ISNUMBER(SEARCH(B513,CI513)),MAX($CH$2:CH512)+1,0)","v":0}]
[null,null,{"$f":"IF(B516=\"\",\"\",SUMIF('الرصيد الثابت'!$D$2:$D$115,B516,'الرصيد الثابت'!$H$2:$H$115))","v":""},{"$f":"IF(B516=\"\",\"\",SUMIF('الرصيد الثابت'!$D$2:$D$115,B516,'الرصيد الثابت'!$I$2:$I$115))","v":""},{"$f":"IF(B516=\"\",\"\",SUMIF('الرصيد الثابت'!$D$2:$D$115,B516,'الرصيد الثابت'!$J$2:$J$115))","v":""},null,{"$f":"SUM(H516*F516)","v":0},null,null,null,null,0,null,null,null,{"$f":"SUM(F516-K516)","v":0},null,0,null,null,null,null,null,null,null,null,null,null,null,null,null,null,null,null,null,null,null,null,null,null,null,null,null,null,null,null,null,null,null,null,null,null,null,null,null,null,null,null,null,null,null,null,null,null,null,null,null,null,null,null,null,null,null,null,null,null,null,null,null,null,null,null,null,{"$f":"IFERROR(VLOOKUP(ROWS($CF$3:CF516),$CH$3:$CI$2001,2,FALSE),\"\")","v":""},null,{"$f":"IF(ISNUMBER(SEARCH(B516,CI516)),MAX($CH$2:CH515)+1,0)","v":0}]
[null,null,{"$f":"IF(B517=\"\",\"\",SUMIF('الرصيد الثابت'!$D$2:$D$115,B517,'الرصيد الثابت'!$H$2:$H$115))","v":""},{"$f":"IF(B517=\"\",\"\",SUMIF('الرصيد الثابت'!$D$2:$D$115,B517,'الرصيد الثابت'!$I$2:$I$115))","v":""},{"$f":"IF(B517=\"\",\"\",SUMIF('الرصيد الثابت'!$D$2:$D$115,B517,'الرصيد الثابت'!$J$2:$J$115))","v":""},null,0,null,null,null,null,0,null,null,null,0,null,0,null,null,null,null,null,null,null,null,null,null,null,null,null,null,null,null,null,null,null,null,null,null,null,null,null,null,null,null,null,null,null,null,null,null,null,null,null,null,null,null,null,null,null,null,null,null,null,null,null,null,null,null,null,null,null,null,null,null,null,null,null,null,null,null,null,{"$f":"IFERROR(VLOOKUP(ROWS($CF$3:CF517),$CH$3:$CI$2001,2,FALSE),\"\")","v":""},null,{"$f":"IF(ISNUMBER(SEARCH(B517,CI517)),MAX($CH$2:CH516)+1,0)","v":0}]
[null,null,{"$f":"IF(B520=\"\",\"\",SUMIF('الرصيد الثابت'!$D$2:$D$115,B520,'الرصيد الثابت'!$H$2:$H$115))","v":""},{"$f":"IF(B520=\"\",\"\",SUMIF('الرصيد الثابت'!$D$2:$D$115,B520,'الرصيد الثابت'!$I$2:$I$115))","v":""},{"$f":"IF(B520=\"\",\"\",SUMIF('الرصيد الثابت'!$D$2:$D$115,B520,'الرصيد الثابت'!$J$2:$J$115))","v":""},null,0,null,null,null,null,0,null,null,null,{"$f":"SUM(#REF!-#REF!)","v":{"$error":"#REF!"}},null,0,null,null,null,null,null,null,null,null,null,null,null,null,null,null,null,null,null,null,null,null,null,null,null,null,null,null,null,null,null,null,null,null,null,null,null,null,null,null,null,null,null,null,null,null,null,null,null,null,null,null,null,null,null,null,null,null,null,null,null,null,null,null,null,null,null,{"$f":"IFERROR(VLOOKUP(ROWS($CF$3:CF520),$CH$3:$CI$2001,2,FALSE),\"\")","v":""},null,{"$f":"IF(ISNUMBER(SEARCH(B520,CI520)),MAX($CH$2:CH519)+1,0)","v":0}]
[null,null,{"$f":"IF(B524=\"\",\"\",SUMIF('الرصيد الثابت'!$D$2:$D$115,B524,'الرصيد الثابت'!$H$2:$H$115))","v":""},{"$f":"IF(B524=\"\",\"\",SUMIF('الرصيد الثابت'!$D$2:$D$115,B524,'الرصيد الثابت'!$I$2:$I$115))","v":""},{"$f":"IF(B524=\"\",\"\",SUMIF('الرصيد الثابت'!$D$2:$D$115,B524,'الرصيد الثابت'!$J$2:$J$115))","v":""},null,0,null,null,null,null,0,null,null,null,{"$f":"SUM(#REF!-#REF!)","v":{"$error":"#REF!"}},null,0,null,null,null,null,null,null,null,null,null,null,null,null,null,null,null,null,null,null,null,null,null,null,null,null,null,null,null,null,null,null,null,null,null,null,null,null,null,null,null,null,null,null,null,null,null,null,null,null,null,null,null,null,null,null,null,null,null,null,null,null,null,null,null,null,null,{"$f":"IFERROR(VLOOKUP(ROWS($CF$3:CF524),$CH$3:$CI$2001,2,FALSE),\"\")","v":""},null,{"$f":"IF(ISNUMBER(SEARCH(B524,CI524)),MAX($CH$2:CH523)+1,0)","v":0}]
[null,null,{"$f":"IF(B526=\"\",\"\",SUMIF('الرصيد الثابت'!$D$2:$D$115,B526,'الرصيد الثابت'!$H$2:$H$115))","v":""},{"$f":"IF(B526=\"\",\"\",SUMIF('الرصيد الثابت'!$D$2:$D$115,B526,'الرصيد الثابت'!$I$2:$I$115))","v":""},{"$f":"IF(B526=\"\",\"\",SUMIF('الرصيد الثابت'!$D$2:$D$115,B526,'الرصيد الثابت'!$J$2:$J$115))","v":""},null,0,null,null,null,null,0,null,null,null,{"$f":"SUM(#REF!-#REF!)","v":{"$error":"#REF!"}},null,0,null,null,null,null,null,null,null,null,null,null,null,null,null,null,null,null,null,null,null,null,null,null,null,null,null,null,null,null,null,null,null,null,null,null,null,null,null,null,null,null,null,null,null,null,null,null,null,null,null,null,null,null,null,null,null,null,null,null,null,null,null,null,null,null,null,{"$f":"IFERROR(VLOOKUP(ROWS($CF$3:CF526),$CH$3:$CI$2001,2,FALSE),\"\")","v":""},null,{"$f":"IF(ISNUMBER(SEARCH(B526,CI526)),MAX($CH$2:CH525)+1,0)","v":0}]
[null,null,{"$f":"IF(B529=\"\",\"\",SUMIF('الرصيد الثابت'!$D$2:$D$115,B529,'الرصيد الثابت'!$H$2:$H$115))","v":""},{"$f":"IF(B529=\"\",\"\",SUMIF('الرصيد الثابت'!$D$2:$D$115,B529,'الرصيد الثابت'!$I$2:$I$115))","v":""},{"$f":"IF(B529=\"\",\"\",SUMIF('الرصيد الثابت'!$D$2:$D$115,B529,'الرصيد الثابت'!$J$2:$J$115))","v":""},null,0,null,null,null,null,0,null,null,null,{"$f":"SUM(#REF!-#REF!)","v":{"$error":"#REF!"}},null,0,null,null,null,null,null,null,null,null,null,null,null,null,null,null,null,null,null,null,null,null,null,null,null,null,null,null,null,null,null,null,null,null,null,null,null,null,null,null,null,null,null,null,null,null,null,null,null,null,null,null,null,null,null,null,null,null,null,null,null,null,null,null,null,null,null,{"$f":"IFERROR(VLOOKUP(ROWS($CF$3:CF529),$CH$3:$CI$2001,2,FALSE),\"\")","v":""},null,{"$f":"IF(ISNUMBER(SEARCH(B529,CI529)),MAX($CH$2:CH528)+1,0)","v":0}]
[null,null,{"$f":"IF(B533=\"\",\"\",SUMIF('الرصيد الثابت'!$D$2:$D$115,B533,'الرصيد الثابت'!$H$2:$H$115))","v":""},{"$f":"IF(B533=\"\",\"\",SUMIF('الرصيد الثابت'!$D$2:$D$115,B533,'الرصيد الثابت'!$I$2:$I$115))","v":""},{"$f":"IF(B533=\"\",\"\",SUMIF('الرصيد الثابت'!$D$2:$D$115,B533,'الرصيد الثابت'!$J$2:$J$115))","v":""},null,0,null,null,null,null,0,null,null,null,0,null,0,null,null,null,null,null,null,null,null,null,null,null,null,null,null,null,null,null,null,null,null,null,null,null,null,null,null,null,null,null,null,null,null,null,null,null,null,null,null,null,null,null,null,null,null,null,null,null,null,null,null,null,null,null,null,null,null,null,null,null,null,null,null,null,null,null,{"$f":"IFERROR(VLOOKUP(ROWS($CF$3:CF533),$CH$3:$CI$2001,2,FALSE),\"\")","v":""},null,{"$f":"IF(ISNUMBER(SEARCH(B533,CI533)),MAX($CH$2:CH532)+1,0)","v":0}]
[null,null,{"$f":"IF(B535=\"\",\"\",SUMIF('الرصيد الثابت'!$D$2:$D$115,B535,'الرصيد الثابت'!$H$2:$H$115))","v":""},{"$f":"IF(B535=\"\",\"\",SUMIF('الرصيد الثابت'!$D$2:$D$115,B535,'الرصيد الثابت'!$I$2:$I$115))","v":""},{"$f":"IF(B535=\"\",\"\",SUMIF('الرصيد الثابت'!$D$2:$D$115,B535,'الرصيد الثابت'!$J$2:$J$115))","v":""},null,0,null,null,null,null,0,null,null,null,0,null,0,null,null,null,null,null,null,null,null,null,null,null,null,null,null,null,null,null,null,null,null,null,null,null,null,null,null,null,null,null,null,null,null,null,null,null,null,null,null,null,null,null,null,null,null,null,null,null,null,null,null,null,null,null,null,null,null,null,null,null,null,null,null,null,null,null,{"$f":"IFERROR(VLOOKUP(ROWS($CF$3:CF535),$CH$3:$CI$2001,2,FALSE),\"\")","v":""},null,{"$f":"IF(ISNUMBER(SEARCH(B535,CI535)),MAX($CH$2:CH534)+1,0)","v":0}]
[null,null,{"$f":"IF(B538=\"\",\"\",SUMIF('الرصيد الثابت'!$D$2:$D$115,B538,'الرصيد الثابت'!$H$2:$H$115))","v":""},{"$f":"IF(B538=\"\",\"\",SUMIF('الرصيد الثابت'!$D$2:$D$115,B538,'الرصيد الثابت'!$I$2:$I$115))","v":""},{"$f":"IF(B538=\"\",\"\",SUMIF('الرصيد الثابت'!$D$2:$D$115,B538,'الرصيد الثابت'!$J$2:$J$115))","v":""},null,0,null,null,null,null,0,null,null,null,0,null,0,null,null,null,null,null,null,null,null,null,null,null,null,null,null,null,null,null,null,null,null,null,null,null,null,null,null,null,null,null,null,null,null,null,null,null,null,null,null,null,null,null,null,null,null,null,null,null,null,null,null,null,null,null,null,null,null,null,null,null,null,null,null,null,null,null,{"$f":"IFERROR(VLOOKUP(ROWS($CF$3:CF538),$CH$3:$CI$2001,2,FALSE),\"\")","v":""},null,{"$f":"IF(ISNUMBER(SEARCH(B538,CI538)),MAX($CH$2:CH537)+1,0)","v":0}]
[null,null,{"$f":"IF(B539=\"\",\"\",SUMIF('الرصيد الثابت'!$D$2:$D$115,B539,'الرصيد الثابت'!$H$2:$H$115))","v":""},{"$f":"IF(B539=\"\",\"\",SUMIF('الرصيد الثابت'!$D$2:$D$115,B539,'الرصيد الثابت'!$I$2:$I$115))","v":""},{"$f":"IF(B539=\"\",\"\",SUMIF('الرصيد الثابت'!$D$2:$D$115,B539,'الرصيد الثابت'!$J$2:$J$115))","v":""},null,0,null,null,null,null,0,null,null,null,0,null,0,null,null,null,null,null,null,null,null,null,null,null,null,null,null,null,null,null,null,null,null,null,null,null,null,null,null,null,null,null,null,null,null,null,null,null,null,null,null,null,null,null,null,null,null,null,null,null,null,null,null,null,null,null,null,null,null,null,null,null,null,null,null,null,null,null,{"$f":"IFERROR(VLOOKUP(ROWS($CF$3:CF539),$CH$3:$CI$2001,2,FALSE),\"\")","v":""},null,{"$f":"IF(ISNUMBER(SEARCH(B539,CI539)),MAX($CH$2:CH538)+1,0)","v":0}]
[null,null,{"$f":"IF(B542=\"\",\"\",SUMIF('الرصيد الثابت'!$D$2:$D$115,B542,'الرصيد الثابت'!$H$2:$H$115))","v":""},{"$f":"IF(B542=\"\",\"\",SUMIF('الرصيد الثابت'!$D$2:$D$115,B542,'الرصيد الثابت'!$I$2:$I$115))","v":""},{"$f":"IF(B542=\"\",\"\",SUMIF('الرصيد الثابت'!$D$2:$D$115,B542,'الرصيد الثابت'!$J$2:$J$115))","v":""},null,0,null,null,null,null,0,null,null,null,0,null,0,null,null,null,null,null,null,null,null,null,null,null,null,null,null,null,null,null,null,null,null,null,null,null,null,null,null,null,null,null,null,null,null,null,null,null,null,null,null,null,null,null,null,null,null,null,null,null,null,null,null,null,null,null,null,null,null,null,null,null,null,null,null,null,null,null,{"$f":"IFERROR(VLOOKUP(ROWS($CF$3:CF542),$CH$3:$CI$2001,2,FALSE),\"\")","v":""},null,{"$f":"IF(ISNUMBER(SEARCH(B542,CI542)),MAX($CH$2:CH541)+1,0)","v":0}]
[null,null,{"$f":"IF(B546=\"\",\"\",SUMIF('الرصيد الثابت'!$D$2:$D$115,B546,'الرصيد الثابت'!$H$2:$H$115))","v":""},{"$f":"IF(B546=\"\",\"\",SUMIF('الرصيد الثابت'!$D$2:$D$115,B546,'الرصيد الثابت'!$I$2:$I$115))","v":""},{"$f":"IF(B546=\"\",\"\",SUMIF('الرصيد الثابت'!$D$2:$D$115,B546,'الرصيد الثابت'!$J$2:$J$115))","v":""},null,0,null,null,null,null,0,null,null,null,0,null,0,null,null,null,null,null,null,null,null,null,null,null,null,null,null,null,null,null,null,null,null,null,null,null,null,null,null,null,null,null,null,null,null,null,null,null,null,null,null,null,null,null,null,null,null,null,null,null,null,null,null,null,null,null,null,null,null,null,null,null,null,null,null,null,null,null,{"$f":"IFERROR(VLOOKUP(ROWS($CF$3:CF546),$CH$3:$CI$2001,2,FALSE),\"\")","v":""},null,{"$f":"IF(ISNUMBER(SEARCH(B546,CI546)),MAX($CH$2:CH545)+1,0)","v":0}]
[null,null,{"$f":"IF(B548=\"\",\"\",SUMIF('الرصيد الثابت'!$D$2:$D$115,B548,'الرصيد الثابت'!$H$2:$H$115))","v":""},{"$f":"IF(B548=\"\",\"\",SUMIF('الرصيد الثابت'!$D$2:$D$115,B548,'الرصيد الثابت'!$I$2:$I$115))","v":""},{"$f":"IF(B548=\"\",\"\",SUMIF('الرصيد الثابت'!$D$2:$D$115,B548,'الرصيد الثابت'!$J$2:$J$115))","v":""},null,0,null,null,null,null,0,null,null,null,0,null,0,null,null,null,null,null,null,null,null,null,null,null,null,null,null,null,null,null,null,null,null,null,null,null,null,null,null,null,null,null,null,null,null,null,null,null,null,null,null,null,null,null,null,null,null,null,null,null,null,null,null,null,null,null,null,null,null,null,null,null,null,null,null,null,null,null,{"$f":"IFERROR(VLOOKUP(ROWS($CF$3:CF548),$CH$3:$CI$2001,2,FALSE),\"\")","v":""},null,{"$f":"IF(ISNUMBER(SEARCH(B548,CI548)),MAX($CH$2:CH547)+1,0)","v":0}]
[null,null,{"$f":"IF(B551=\"\",\"\",SUMIF('الرصيد الثابت'!$D$2:$D$115,B551,'الرصيد الثابت'!$H$2:$H$115))","v":""},{"$f":"IF(B551=\"\",\"\",SUMIF('الرصيد الثابت'!$D$2:$D$115,B551,'الرصيد الثابت'!$I$2:$I$115))","v":""},{"$f":"IF(B551=\"\",\"\",SUMIF('الرصيد الثابت'!$D$2:$D$115,B551,'الرصيد الثابت'!$J$2:$J$115))","v":""},null,0,null,null,null,null,0,null,null,null,0,null,0,null,null,null,null,null,null,null,null,null,null,null,null,null,null,null,null,null,null,null,null,null,null,null,null,null,null,null,null,null,null,null,null,null,null,null,null,null,null,null,null,null,null,null,null,null,null,null,null,null,null,null,null,null,null,null,null,null,null,null,null,null,null,null,null,null,{"$f":"IFERROR(VLOOKUP(ROWS($CF$3:CF551),$CH$3:$CI$2001,2,FALSE),\"\")","v":""},null,{"$f":"IF(ISNUMBER(SEARCH(B551,CI551)),MAX($CH$2:CH550)+1,0)","v":0}]
[null,null,{"$f":"IF(B555=\"\",\"\",SUMIF('الرصيد الثابت'!$D$2:$D$115,B555,'الرصيد الثابت'!$H$2:$H$115))","v":""},{"$f":"IF(B555=\"\",\"\",SUMIF('الرصيد الثابت'!$D$2:$D$115,B555,'الرصيد الثابت'!$I$2:$I$115))","v":""},{"$f":"IF(B555=\"\",\"\",SUMIF('الرصيد الثابت'!$D$2:$D$115,B555,'الرصيد الثابت'!$J$2:$J$115))","v":""},null,0,null,null,null,null,0,null,null,null,0,null,0,null,null,null,null,null,null,null,null,null,null,null,null,null,null,null,null,null,null,null,null,null,null,null,null,null,null,null,null,null,null,null,null,null,null,null,null,null,null,null,null,null,null,null,null,null,null,null,null,null,null,null,null,null,null,null,null,null,null,null,null,null,null,null,null,null,{"$f":"IFERROR(VLOOKUP(ROWS($CF$3:CF555),$CH$3:$CI$2001,2,FALSE),\"\")","v":""},null,{"$f":"IF(ISNUMBER(SEARCH(B555,CI555)),MAX($CH$2:CH554)+1,0)","v":0}]
[null,null,{"$f":"IF(B557=\"\",\"\",SUMIF('الرصيد الثابت'!$D$2:$D$115,B557,'الرصيد الثابت'!$H$2:$H$115))","v":""},{"$f":"IF(B557=\"\",\"\",SUMIF('الرصيد الثابت'!$D$2:$D$115,B557,'الرصيد الثابت'!$I$2:$I$115))","v":""},{"$f":"IF(B557=\"\",\"\",SUMIF('الرصيد الثابت'!$D$2:$D$115,B557,'الرصيد الثابت'!$J$2:$J$115))","v":""},null,0,null,null,null,null,0,null,null,null,0,null,0,null,null,null,null,null,null,null,null,null,null,null,null,null,null,null,null,null,null,null,null,null,null,null,null,null,null,null,null,null,null,null,null,null,null,null,null,null,null,null,null,null,null,null,null,null,null,null,null,null,null,null,null,null,null,null,null,null,null,null,null,null,null,null,null,null,{"$f":"IFERROR(VLOOKUP(ROWS($CF$3:CF557),$CH$3:$CI$2001,2,FALSE),\"\")","v":""},null,{"$f":"IF(ISNUMBER(SEARCH(B557,CI557)),MAX($CH$2:CH556)+1,0)","v":0}]
[null,null,{"$f":"IF(B558=\"\",\"\",SUMIF('الرصيد الثابت'!$D$2:$D$115,B558,'الرصيد الثابت'!$H$2:$H$115))","v":""},{"$f":"IF(B558=\"\",\"\",SUMIF('الرصيد الثابت'!$D$2:$D$115,B558,'الرصيد الثابت'!$I$2:$I$115))","v":""},{"$f":"IF(B558=\"\",\"\",SUMIF('الرصيد الثابت'!$D$2:$D$115,B558,'الرصيد الثابت'!$J$2:$J$115))","v":""},null,0,null,null,null,null,0,null,null,null,0,null,0,null,null,null,null,null,null,null,null,null,null,null,null,null,null,null,null,null,null,null,null,null,null,null,null,null,null,null,null,null,null,null,null,null,null,null,null,null,null,null,null,null,null,null,null,null,null,null,null,null,null,null,null,null,null,null,null,null,null,null,null,null,null,null,null,null,{"$f":"IFERROR(VLOOKUP(ROWS($CF$3:CF558),$CH$3:$CI$2001,2,FALSE),\"\")","v":""},null,{"$f":"IF(ISNUMBER(SEARCH(B558,CI558)),MAX($CH$2:CH557)+1,0)","v":0}]
[null,null,{"$f":"IF(B561=\"\",\"\",SUMIF('الرصيد الثابت'!$D$2:$D$115,B561,'الرصيد الثابت'!$H$2:$H$115))","v":""},{"$f":"IF(B561=\"\",\"\",SUMIF('الرصيد الثابت'!$D$2:$D$115,B561,'الرصيد الثابت'!$I$2:$I$115))","v":""},{"$f":"IF(B561=\"\",\"\",SUMIF('الرصيد الثابت'!$D$2:$D$115,B561,'الرصيد الثابت'!$J$2:$J$115))","v":""},null,0,null,null,null,null,0,null,null,null,0,null,0,null,null,null,null,null,null,null,null,null,null,null,null,null,null,null,null,null,null,null,null,null,null,null,null,null,null,null,null,null,null,null,null,null,null,null,null,null,null,null,null,null,null,null,null,null,null,null,null,null,null,null,null,null,null,null,null,null,null,null,null,null,null,null,null,null,{"$f":"IFERROR(VLOOKUP(ROWS($CF$3:CF561),$CH$3:$CI$2001,2,FALSE),\"\")","v":""},null,{"$f":"IF(ISNUMBER(SEARCH(B561,CI561)),MAX($CH$2:CH560)+1,0)","v":0}]
[null,null,{"$f":"IF(B564=\"\",\"\",SUMIF('الرصيد الثابت'!$D$2:$D$115,B564,'الرصيد الثابت'!$H$2:$H$115))","v":""},{"$f":"IF(B564=\"\",\"\",SUMIF('الرصيد الثابت'!$D$2:$D$115,B564,'الرصيد الثابت'!$I$2:$I$115))","v":""},{"$f":"IF(B564=\"\",\"\",SUMIF('الرصيد الثابت'!$D$2:$D$115,B564,'الرصيد الثابت'!$J$2:$J$115))","v":""},null,0,null,null,null,null,0,null,null,null,0,null,0,null,null,null,null,null,null,null,null,null,null,null,null,null,null,null,null,null,null,null,null,null,null,null,null,null,null,null,null,null,null,null,null,null,null,null,null,null,null,null,null,null,null,null,null,null,null,null,null,null,null,null,null,null,null,null,null,null,null,null,null,null,null,null,null,null,{"$f":"IFERROR(VLOOKUP(ROWS($CF$3:CF564),$CH$3:$CI$2001,2,FALSE),\"\")","v":""},null,{"$f":"IF(ISNUMBER(SEARCH(B564,CI564)),MAX($CH$2:CH563)+1,0)","v":0}]
[null,null,{"$f":"IF(B568=\"\",\"\",SUMIF('الرصيد الثابت'!$D$2:$D$115,B568,'الرصيد الثابت'!$H$2:$H$115))","v":""},{"$f":"IF(B568=\"\",\"\",SUMIF('الرصيد الثابت'!$D$2:$D$115,B568,'الرصيد الثابت'!$I$2:$I$115))","v":""},{"$f":"IF(B568=\"\",\"\",SUMIF('الرصيد الثابت'!$D$2:$D$115,B568,'الرصيد الثابت'!$J$2:$J$115))","v":""},null,0,null,null,null,null,0,null,null,null,0,null,0,null,null,null,null,null,null,null,null,null,null,null,null,null,null,null,null,null,null,null,null,null,null,null,null,null,null,null,null,null,null,null,null,null,null,null,null,null,null,null,null,null,null,null,null,null,null,null,null,null,null,null,null,null,null,null,null,null,null,null,null,null,null,null,null,null,{"$f":"IFERROR(VLOOKUP(ROWS($CF$3:CF568),$CH$3:$CI$2001,2,FALSE),\"\")","v":""},null,{"$f":"IF(ISNUMBER(SEARCH(B568,CI568)),MAX($CH$2:CH567)+1,0)","v":0}]
[null,null,{"$f":"IF(B570=\"\",\"\",SUMIF('الرصيد الثابت'!$D$2:$D$115,B570,'الرصيد الثابت'!$H$2:$H$115))","v":""},{"$f":"IF(B570=\"\",\"\",SUMIF('الرصيد الثابت'!$D$2:$D$115,B570,'الرصيد الثابت'!$I$2:$I$115))","v":""},{"$f":"IF(B570=\"\",\"\",SUMIF('الرصيد الثابت'!$D$2:$D$115,B570,'الرصيد الثابت'!$J$2:$J$115))","v":""},null,0,null,null,null,null,0,null,null,null,0,null,0,null,null,null,null,null,null,null,null,null,null,null,null,null,null,null,null,null,null,null,null,null,null,null,null,null,null,null,null,null,null,null,null,null,null,null,null,null,null,null,null,null,null,null,null,null,null,null,null,null,null,null,null,null,null,null,null,null,null,null,null,null,null,null,null,null,{"$f":"IFERROR(VLOOKUP(ROWS($CF$3:CF570),$CH$3:$CI$2001,2,FALSE),\"\")","v":""},null,{"$f":"IF(ISNUMBER(SEARCH(B570,CI570)),MAX($CH$2:CH569)+1,0)","v":0}]
[null,null,{"$f":"IF(B573=\"\",\"\",SUMIF('الرصيد الثابت'!$D$2:$D$115,B573,'الرصيد الثابت'!$H$2:$H$115))","v":""},{"$f":"IF(B573=\"\",\"\",SUMIF('الرصيد الثابت'!$D$2:$D$115,B573,'الرصيد الثابت'!$I$2:$I$115))","v":""},{"$f":"IF(B573=\"\",\"\",SUMIF('الرصيد الثابت'!$D$2:$D$115,B573,'الرصيد الثابت'!$J$2:$J$115))","v":""},null,0,null,null,null,null,0,null,null,null,0,null,0,null,null,null,null,null,null,null,null,null,null,null,null,null,null,null,null,null,null,null,null,null,null,null,null,null,null,null,null,null,null,null,null,null,null,null,null,null,null,null,null,null,null,null,null,null,null,null,null,null,null,null,null,null,null,null,null,null,null,null,null,null,null,null,null,null,{"$f":"IFERROR(VLOOKUP(ROWS($CF$3:CF573),$CH$3:$CI$2001,2,FALSE),\"\")","v":""},null,{"$f":"IF(ISNUMBER(SEARCH(B573,CI573)),MAX($CH$2:CH572)+1,0)","v":0}]
[null,null,{"$f":"IF(B577=\"\",\"\",SUMIF('الرصيد الثابت'!$D$2:$D$115,B577,'الرصيد الثابت'!$H$2:$H$115))","v":""},{"$f":"IF(B577=\"\",\"\",SUMIF('الرصيد الثابت'!$D$2:$D$115,B577,'الرصيد الثابت'!$I$2:$I$115))","v":""},{"$f":"IF(B577=\"\",\"\",SUMIF('الرصيد الثابت'!$D$2:$D$115,B577,'الرصيد الثابت'!$J$2:$J$115))","v":""},null,0,null,null,null,null,0,null,null,null,0,null,0,null,null,null,null,null,null,null,null,null,null,null,null,null,null,null,null,null,null,null,null,null,null,null,null,null,null,null,null,null,null,null,null,null,null,null,null,null,null,null,null,null,null,null,null,null,null,null,null,null,null,null,null,null,null,null,null,null,null,null,null,null,null,null,null,null,{"$f":"IFERROR(VLOOKUP(ROWS($CF$3:CF577),$CH$3:$CI$2001,2,FALSE),\"\")","v":""},null,{"$f":"IF(ISNUMBER(SEARCH(B577,CI577)),MAX($CH$2:CH576)+1,0)","v":0}]
[null,null,{"$f":"IF(B579=\"\",\"\",SUMIF('الرصيد الثابت'!$D$2:$D$115,B579,'الرصيد الثابت'!$H$2:$H$115))","v":""},{"$f":"IF(B579=\"\",\"\",SUMIF('الرصيد الثابت'!$D$2:$D$115,B579,'الرصيد الثابت'!$I$2:$I$115))","v":""},{"$f":"IF(B579=\"\",\"\",SUMIF('الرصيد الثابت'!$D$2:$D$115,B579,'الرصيد الثابت'!$J$2:$J$115))","v":""},null,0,null,null,null,null,{"$f":"SUM(M579*K579)","v":0},null,null,null,0,null,0,null,null,null,null,null,null,null,null,null,null,null,null,null,null,null,null,null,null,null,null,null,null,null,null,null,null,null,null,null,null,null,null,null,null,null,null,null,null,null,null,null,null,null,null,null,null,null,null,null,null,null,null,null,null,null,null,null,null,null,null,null,null,null,null,null,{"$f":"IFERROR(VLOOKUP(ROWS($CF$3:CF579),$CH$3:$CI$2001,2,FALSE),\"\")","v":""},null,{"$f":"IF(ISNUMBER(SEARCH(B579,CI579)),MAX($CH$2:CH578)+1,0)","v":0}]
[null,null,{"$f":"IF(B580=\"\",\"\",SUMIF('الرصيد الثابت'!$D$2:$D$115,B580,'الرصيد الثابت'!$H$2:$H$115))","v":""},{"$f":"IF(B580=\"\",\"\",SUMIF('الرصيد الثابت'!$D$2:$D$115,B580,'الرصيد الثابت'!$I$2:$I$115))","v":""},{"$f":"IF(B580=\"\",\"\",SUMIF('الرصيد الثابت'!$D$2:$D$115,B580,'الرصيد الثابت'!$J$2:$J$115))","v":""},null,{"$f":"SUM(H580*F580)","v":0},null,null,null,null,0,null,null,null,{"$f":"SUM(F580-K580)","v":0},null,0,null,null,null,null,null,null,null,null,null,null,null,null,null,null,null,null,null,null,null,null,null,null,null,null,null,null,null,null,null,null,null,null,null,null,null,null,null,null,null,null,null,null,null,null,null,null,null,null,null,null,null,null,null,null,null,null,null,null,null,null,null,null,null,null,null,{"$f":"IFERROR(VLOOKUP(ROWS($CF$3:CF580),$CH$3:$CI$2001,2,FALSE),\"\")","v":""},null,{"$f":"IF(ISNUMBER(SEARCH(B580,CI580)),MAX($CH$2:CH579)+1,0)","v":0}]
[null,null,{"$f":"IF(B583=\"\",\"\",SUMIF('الرصيد الثابت'!$D$2:$D$115,B583,'الرصيد الثابت'!$H$2:$H$115))","v":""},{"$f":"IF(B583=\"\",\"\",SUMIF('الرصيد الثابت'!$D$2:$D$115,B583,'الرصيد الثابت'!$I$2:$I$115))","v":""},{"$f":"IF(B583=\"\",\"\",SUMIF('الرصيد الثابت'!$D$2:$D$115,B583,'الرصيد الثابت'!$J$2:$J$115))","v":""},null,0,null,null,null,null,0,null,null,null,0,null,{"$f":"SUM(S583*Q583)","v":0},null,null,null,null,null,null,null,null,null,null,null,null,null,null,null,null,null,null,null,null,null,null,null,null,null,null,null,null,null,null,null,null,null,null,null,null,null,null,null,null,null,null,null,null,null,null,null,null,null,null,null,null,null,null,null,null,null,null,null,null,null,null,null,null,null,{"$f":"IFERROR(VLOOKUP(ROWS($CF$3:CF583),$CH$3:$CI$2001,2,FALSE),\"\")","v":""},null,{"$f":"IF(ISNUMBER(SEARCH(B583,CI583)),MAX($CH$2:CH582)+1,0)","v":0}]
[null,null,{"$f":"IF(B586=\"\",\"\",SUMIF('الرصيد الثابت'!$D$2:$D$115,B586,'الرصيد الثابت'!$H$2:$H$115))","v":""},{"$f":"IF(B586=\"\",\"\",SUMIF('الرصيد الثابت'!$D$2:$D$115,B586,'الرصيد الثابت'!$I$2:$I$115))","v":""},{"$f":"IF(B586=\"\",\"\",SUMIF('الرصيد الثابت'!$D$2:$D$115,B586,'الرصيد الثابت'!$J$2:$J$115))","v":""},null,0,null,null,null,null,0,null,null,null,0,null,0,null,null,null,null,null,null,null,null,null,null,null,null,null,null,null,null,null,null,null,null,null,null,null,null,null,null,null,null,null,null,null,null,null,null,null,null,null,null,null,null,null,null,null,null,null,null,null,null,null,null,null,null,null,null,null,null,null,null,null,null,null,null,null,null,null,{"$f":"IFERROR(VLOOKUP(ROWS($CF$3:CF586),$CH$3:$CI$2001,2,FALSE),\"\")","v":""},null,{"$f":"IF(ISNUMBER(SEARCH(B586,CI586)),MAX($CH$2:CH585)+1,0)","v":0}]
[null,null,{"$f":"IF(B590=\"\",\"\",SUMIF('الرصيد الثابت'!$D$2:$D$115,B590,'الرصيد الثابت'!$H$2:$H$115))","v":""},{"$f":"IF(B590=\"\",\"\",SUMIF('الرصيد الثابت'!$D$2:$D$115,B590,'الرصيد الثابت'!$I$2:$I$115))","v":""},{"$f":"IF(B590=\"\",\"\",SUMIF('الرصيد الثابت'!$D$2:$D$115,B590,'الرصيد الثابت'!$J$2:$J$115))","v":""},null,0,null,null,null,null,0,null,null,null,0,null,0,null,null,null,null,null,null,null,null,null,null,null,null,null,null,null,null,null,null,null,null,null,null,null,null,null,null,null,null,null,null,null,null,null,null,null,null,null,null,null,null,null,null,null,null,null,null,null,null,null,null,null,null,null,null,null,null,null,null,null,null,null,null,null,null,null,{"$f":"IFERROR(VLOOKUP(ROWS($CF$3:CF590),$CH$3:$CI$2001,2,FALSE),\"\")","v":""},null,{"$f":"IF(ISNUMBER(SEARCH(B590,CI590)),MAX($CH$2:CH589)+1,0)","v":0}]
[null,null,{"$f":"IF(B592=\"\",\"\",SUMIF('الرصيد الثابت'!$D$2:$D$115,B592,'الرصيد الثابت'!$H$2:$H$115))","v":""},{"$f":"IF(B592=\"\",\"\",SUMIF('الرصيد الثابت'!$D$2:$D$115,B592,'الرصيد الثابت'!$I$2:$I$115))","v":""},{"$f":"IF(B592=\"\",\"\",SUMIF('الرصيد الثابت'!$D$2:$D$115,B592,'الرصيد الثابت'!$J$2:$J$115))","v":""},null,0,null,null,null,null,0,null,null,null,0,null,0,null,null,null,null,null,null,null,null,null,null,null,null,null,null,null,null,null,null,null,null,null,null,null,null,null,null,null,null,null,null,null,null,null,null,null,null,null,null,null,null,null,null,null,null,null,null,null,null,null,null,null,null,null,null,null,null,null,null,null,null,null,null,null,null,null,{"$f":"IFERROR(VLOOKUP(ROWS($CF$3:CF592),$CH$3:$CI$2001,2,FALSE),\"\")","v":""},null,{"$f":"IF(ISNUMBER(SEARCH(B592,CI592)),MAX($CH$2:CH591)+1,0)","v":0}]
[null,null,{"$f":"IF(B595=\"\",\"\",SUMIF('الرصيد الثابت'!$D$2:$D$115,B595,'الرصيد الثابت'!$H$2:$H$115))","v":""},{"$f":"IF(B595=\"\",\"\",SUMIF('الرصيد الثابت'!$D$2:$D$115,B595,'الرصيد الثابت'!$I$2:$I$115))","v":""},{"$f":"IF(B595=\"\",\"\",SUMIF('الرصيد الثابت'!$D$2:$D$115,B595,'الرصيد الثابت'!$J$2:$J$115))","v":""},null,0,null,null,null,null,0,null,null,null,0,null,0,null,null,null,null,null,null,null,null,null,null,null,null,null,null,null,null,null,null,null,null,null,null,null,null,null,null,null,null,null,null,null,null,null,null,null,null,null,null,null,null,null,null,null,null,null,null,null,null,null,null,null,null,null,null,null,null,null,null,null,null,null,null,null,null,null,{"$f":"IFERROR(VLOOKUP(ROWS($CF$3:CF595),$CH$3:$CI$2001,2,FALSE),\"\")","v":""},null,{"$f":"IF(ISNUMBER(SEARCH(B595,CI595)),MAX($CH$2:CH594)+1,0)","v":0}]
[null,null,{"$f":"IF(B599=\"\",\"\",SUMIF('الرصيد الثابت'!$D$2:$D$115,B599,'الرصيد الثابت'!$H$2:$H$115))","v":""},{"$f":"IF(B599=\"\",\"\",SUMIF('الرصيد الثابت'!$D$2:$D$115,B599,'الرصيد الثابت'!$I$2:$I$115))","v":""},{"$f":"IF(B599=\"\",\"\",SUMIF('الرصيد الثابت'!$D$2:$D$115,B599,'الرصيد الثابت'!$J$2:$J$115))","v":""},null,0,null,null,null,null,0,null,null,null,0,null,0,null,null,null,null,null,null,null,null,null,null,null,null,null,null,null,null,null,null,null,null,null,null,null,null,null,null,null,null,null,null,null,null,null,null,null,null,null,null,null,null,null,null,null,null,null,null,null,null,null,null,null,null,null,null,null,null,null,null,null,null,null,null,null,null,null,{"$f":"IFERROR(VLOOKUP(ROWS($CF$3:CF599),$CH$3:$CI$2001,2,FALSE),\"\")","v":""},null,{"$f":"IF(ISNUMBER(SEARCH(B599,CI599)),MAX($CH$2:CH598)+1,0)","v":0}]
[null,null,{"$f":"IF(B601=\"\",\"\",SUMIF('الرصيد الثابت'!$D$2:$D$115,B601,'الرصيد الثابت'!$H$2:$H$115))","v":""},{"$f":"IF(B601=\"\",\"\",SUMIF('الرصيد الثابت'!$D$2:$D$115,B601,'الرصيد الثابت'!$I$2:$I$115))","v":""},{"$f":"IF(B601=\"\",\"\",SUMIF('الرصيد الثابت'!$D$2:$D$115,B601,'الرصيد الثابت'!$J$2:$J$115))","v":""},null,0,null,null,null,null,0,null,null,null,0,null,0,null,null,null,null,null,null,null,null,null,null,null,null,null,null,null,null,null,null,null,null,null,null,null,null,null,null,null,null,null,null,null,null,null,null,null,null,null,null,null,null,null,null,null,null,null,null,null,null,null,null,null,null,null,null,null,null,null,null,null,null,null,null,null,null,null,{"$f":"IFERROR(VLOOKUP(ROWS($CF$3:CF601),$CH$3:$CI$2001,2,FALSE),\"\")","v":""},null,{"$f":"IF(ISNUMBER(SEARCH(B601,CI601)),MAX($CH$2:CH600)+1,0)","v":0}]
[null,null,{"$f":"IF(B602=\"\",\"\",SUMIF('الرصيد الثابت'!$D$2:$D$115,B602,'الرصيد الثابت'!$H$2:$H$115))","v":""},{"$f":"IF(B602=\"\",\"\",SUMIF('الرصيد الثابت'!$D$2:$D$115,B602,'الرصيد الثابت'!$I$2:$I$115))","v":""},{"$f":"IF(B602=\"\",\"\",SUMIF('الرصيد الثابت'!$D$2:$D$115,B602,'الرصيد الثابت'!$J$2:$J$115))","v":""},null,0,null,null,null,null,0,null,null,null,0,null,0,null,null,null,null,null,null,null,null,null,null,null,null,null,null,null,null,null,null,null,null,null,null,null,null,null,null,null,null,null,null,null,null,null,null,null,null,null,null,null,null,null,null,null,null,null,null,null,null,null,null,null,null,null,null,null,null,null,null,null,null,null,null,null,null,null,{"$f":"IFERROR(VLOOKUP(ROWS($CF$3:CF602),$CH$3:$CI$2001,2,FALSE),\"\")","v":""},null,{"$f":"IF(ISNUMBER(SEARCH(B602,CI602)),MAX($CH$2:CH601)+1,0)","v":0}]
[null,null,{"$f":"IF(B605=\"\",\"\",SUMIF('الرصيد الثابت'!$D$2:$D$115,B605,'الرصيد الثابت'!$H$2:$H$115))","v":""},{"$f":"IF(B605=\"\",\"\",SUMIF('الرصيد الثابت'!$D$2:$D$115,B605,'الرصيد الثابت'!$I$2:$I$115))","v":""},{"$f":"IF(B605=\"\",\"\",SUMIF('الرصيد الثابت'!$D$2:$D$115,B605,'الرصيد الثابت'!$J$2:$J$115))","v":""},null,0,null,null,null,null,0,null,null,null,0,null,0,null,null,null,null,null,null,null,null,null,null,null,null,null,null,null,null,null,null,null,null,null,null,null,null,null,null,null,null,null,null,null,null,null,null,null,null,null,null,null,null,null,null,null,null,null,null,null,null,null,null,null,null,null,null,null,null,null,null,null,null,null,null,null,null,null,{"$f":"IFERROR(VLOOKUP(ROWS($CF$3:CF605),$CH$3:$CI$2001,2,FALSE),\"\")","v":""},null,{"$f":"IF(ISNUMBER(SEARCH(B605,CI605)),MAX($CH$2:CH604)+1,0)","v":0}]
[null,null,{"$f":"IF(B608=\"\",\"\",SUMIF('الرصيد الثابت'!$D$2:$D$115,B608,'الرصيد الثابت'!$H$2:$H$115))","v":""},{"$f":"IF(B608=\"\",\"\",SUMIF('الرصيد الثابت'!$D$2:$D$115,B608,'الرصيد الثابت'!$I$2:$I$115))","v":""},{"$f":"IF(B608=\"\",\"\",SUMIF('الرصيد الثابت'!$D$2:$D$115,B608,'الرصيد الثابت'!$J$2:$J$115))","v":""},null,0,null,null,null,null,0,null,null,null,0,null,0,null,null,null,null,null,null,null,null,null,null,null,null,null,null,null,null,null,null,null,null,null,null,null,null,null,null,null,null,null,null,null,null,null,null,null,null,null,null,null,null,null,null,null,null,null,null,null,null,null,null,null,null,null,null,null,null,null,null,null,null,null,null,null,null,null,{"$f":"IFERROR(VLOOKUP(ROWS($CF$3:CF608),$CH$3:$CI$2001,2,FALSE),\"\")","v":""},null,{"$f":"IF(ISNUMBER(SEARCH(B608,CI608)),MAX($CH$2:CH607)+1,0)","v":0}]
[null,null,{"$f":"IF(B612=\"\",\"\",SUMIF('الرصيد الثابت'!$D$2:$D$115,B612,'الرصيد الثابت'!$H$2:$H$115))","v":""},{"$f":"IF(B612=\"\",\"\",SUMIF('الرصيد الثابت'!$D$2:$D$115,B612,'الرصيد الثابت'!$I$2:$I$115))","v":""},{"$f":"IF(B612=\"\",\"\",SUMIF('الرصيد الثابت'!$D$2:$D$115,B612,'الرصيد الثابت'!$J$2:$J$115))","v":""},null,0,null,null,null,null,0,null,null,null,0,null,0,null,null,null,null,null,null,null,null,null,null,null,null,null,null,null,null,null,null,null,null,null,null,null,null,null,null,null,null,null,null,null,null,null,null,null,null,null,null,null,null,null,null,null,null,null,null,null,null,null,null,null,null,null,null,null,null,null,null,null,null,null,null,null,null,null,{"$f":"IFERROR(VLOOKUP(ROWS($CF$3:CF612),$CH$3:$CI$2001,2,FALSE),\"\")","v":""},null,{"$f":"IF(ISNUMBER(SEARCH(B612,CI612)),MAX($CH$2:CH611)+1,0)","v":0}]
[null,null,{"$f":"IF(B614=\"\",\"\",SUMIF('الرصيد الثابت'!$D$2:$D$115,B614,'الرصيد الثابت'!$H$2:$H$115))","v":""},{"$f":"IF(B614=\"\",\"\",SUMIF('الرصيد الثابت'!$D$2:$D$115,B614,'الرصيد الثابت'!$I$2:$I$115))","v":""},{"$f":"IF(B614=\"\",\"\",SUMIF('الرصيد الثابت'!$D$2:$D$115,B614,'الرصيد الثابت'!$J$2:$J$115))","v":""},null,0,null,null,null,null,0,null,null,null,0,null,0,null,null,null,null,null,null,null,null,null,null,null,null,null,null,null,null,null,null,null,null,null,null,null,null,null,null,null,null,null,null,null,null,null,null,null,null,null,null,null,null,null,null,null,null,null,null,null,null,null,null,null,null,null,null,null,null,null,null,null,null,null,null,null,null,null,{"$f":"IFERROR(VLOOKUP(ROWS($CF$3:CF614),$CH$3:$CI$2001,2,FALSE),\"\")","v":""},null,{"$f":"IF(ISNUMBER(SEARCH(B614,CI614)),MAX($CH$2:CH613)+1,0)","v":0}]
[null,null,{"$f":"IF(B618=\"\",\"\",SUMIF('الرصيد الثابت'!$D$2:$D$115,B618,'الرصيد الثابت'!$H$2:$H$115))","v":""},{"$f":"IF(B618=\"\",\"\",SUMIF('الرصيد الثابت'!$D$2:$D$115,B618,'الرصيد الثابت'!$I$2:$I$115))","v":""},{"$f":"IF(B618=\"\",\"\",SUMIF('الرصيد الثابت'!$D$2:$D$115,B618,'الرصيد الثابت'!$J$2:$J$115))","v":""},null,0,null,null,null,null,0,null,null,null,0,null,0,null,null,null,null,null,null,null,null,null,null,null,null,null,null,null,null,null,null,null,null,null,null,null,null,null,null,null,null,null,null,null,null,null,null,null,null,null,null,null,null,null,null,null,null,null,null,null,null,null,null,null,null,null,null,null,null,null,null,null,null,null,null,null,null,null,{"$f":"IFERROR(VLOOKUP(ROWS($CF$3:CF618),$CH$3:$CI$2001,2,FALSE),\"\")","v":""},null,{"$f":"IF(ISNUMBER(SEARCH(B618,CI618)),MAX($CH$2:CH617)+1,0)","v":0}]
[null,null,{"$f":"IF(B621=\"\",\"\",SUMIF('الرصيد الثابت'!$D$2:$D$115,B621,'الرصيد الثابت'!$H$2:$H$115))","v":""},{"$f":"IF(B621=\"\",\"\",SUMIF('الرصيد الثابت'!$D$2:$D$115,B621,'الرصيد الثابت'!$I$2:$I$115))","v":""},{"$f":"IF(B621=\"\",\"\",SUMIF('الرصيد الثابت'!$D$2:$D$115,B621,'الرصيد الثابت'!$J$2:$J$115))","v":""},null,0,null,null,null,null,0,null,null,null,0,null,0,null,null,null,null,null,null,null,null,null,null,null,null,null,null,null,null,null,null,null,null,null,null,null,null,null,null,null,null,null,null,null,null,null,null,null,null,null,null,null,null,null,null,null,null,null,null,null,null,null,null,null,null,null,null,null,null,null,null,null,null,null,null,null,null,null,{"$f":"IFERROR(VLOOKUP(ROWS($CF$3:CF621),$CH$3:$CI$2001,2,FALSE),\"\")","v":""},null,{"$f":"IF(ISNUMBER(SEARCH(B621,CI621)),MAX($CH$2:CH620)+1,0)","v":0}]
[null,null,{"$f":"IF(B623=\"\",\"\",SUMIF('الرصيد الثابت'!$D$2:$D$115,B623,'الرصيد الثابت'!$H$2:$H$115))","v":""},{"$f":"IF(B623=\"\",\"\",SUMIF('الرصيد الثابت'!$D$2:$D$115,B623,'الرصيد الثابت'!$I$2:$I$115))","v":""},{"$f":"IF(B623=\"\",\"\",SUMIF('الرصيد الثابت'!$D$2:$D$115,B623,'الرصيد الثابت'!$J$2:$J$115))","v":""},null,0,null,null,null,null,0,null,null,null,0,null,0,null,null,null,null,null,null,null,null,null,null,null,null,null,null,null,null,null,null,null,null,null,null,null,null,null,null,null,null,null,null,null,null,null,null,null,null,null,null,null,null,null,null,null,null,null,null,null,null,null,null,null,null,null,null,null,null,null,null,null,null,null,null,null,null,null,{"$f":"IFERROR(VLOOKUP(ROWS($CF$3:CF623),$CH$3:$CI$2001,2,FALSE),\"\")","v":""},null,{"$f":"IF(ISNUMBER(SEARCH(B623,CI623)),MAX($CH$2:CH622)+1,0)","v":0}]
[null,null,{"$f":"IF(B624=\"\",\"\",SUMIF('الرصيد الثابت'!$D$2:$D$115,B624,'الرصيد الثابت'!$H$2:$H$115))","v":""},{"$f":"IF(B624=\"\",\"\",SUMIF('الرصيد الثابت'!$D$2:$D$115,B624,'الرصيد الثابت'!$I$2:$I$115))","v":""},{"$f":"IF(B624=\"\",\"\",SUMIF('الرصيد الثابت'!$D$2:$D$115,B624,'الرصيد الثابت'!$J$2:$J$115))","v":""},null,0,null,null,null,null,0,null,null,null,0,null,0,null,null,null,null,null,null,null,null,null,null,null,null,null,null,null,null,null,null,null,null,null,null,null,null,null,null,null,null,null,null,null,null,null,null,null,null,null,null,null,null,null,null,null,null,null,null,null,null,null,null,null,null,null,null,null,null,null,null,null,null,null,null,null,null,null,{"$f":"IFERROR(VLOOKUP(ROWS($CF$3:CF624),$CH$3:$CI$2001,2,FALSE),\"\")","v":""},null,{"$f":"IF(ISNUMBER(SEARCH(B624,CI624)),MAX($CH$2:CH623)+1,0)","v":0}]
[null,null,{"$f":"IF(B627=\"\",\"\",SUMIF('الرصيد الثابت'!$D$2:$D$115,B627,'الرصيد الثابت'!$H$2:$H$115))","v":""},{"$f":"IF(B627=\"\",\"\",SUMIF('الرصيد الثابت'!$D$2:$D$115,B627,'الرصيد الثابت'!$I$2:$I$115))","v":""},{"$f":"IF(B627=\"\",\"\",SUMIF('الرصيد الثابت'!$D$2:$D$115,B627,'الرصيد الثابت'!$J$2:$J$115))","v":""},null,0,null,null,null,null,0,null,null,null,0,null,0,null,null,null,null,null,null,null,null,null,null,null,null,null,null,null,null,null,null,null,null,null,null,null,null,null,null,null,null,null,null,null,null,null,null,null,null,null,null,null,null,null,null,null,null,null,null,null,null,null,null,null,null,null,null,null,null,null,null,null,null,null,null,null,null,null,{"$f":"IFERROR(VLOOKUP(ROWS($CF$3:CF627),$CH$3:$CI$2001,2,FALSE),\"\")","v":""},null,{"$f":"IF(ISNUMBER(SEARCH(B627,CI627)),MAX($CH$2:CH626)+1,0)","v":0}]
[null,null,{"$f":"IF(B630=\"\",\"\",SUMIF('الرصيد الثابت'!$D$2:$D$115,B630,'الرصيد الثابت'!$H$2:$H$115))","v":""},{"$f":"IF(B630=\"\",\"\",SUMIF('الرصيد الثابت'!$D$2:$D$115,B630,'الرصيد الثابت'!$I$2:$I$115))","v":""},{"$f":"IF(B630=\"\",\"\",SUMIF('الرصيد الثابت'!$D$2:$D$115,B630,'الرصيد الثابت'!$J$2:$J$115))","v":""},null,0,null,null,null,null,0,null,null,null,0,null,0,null,null,null,null,null,null,null,null,null,null,null,null,null,null,null,null,null,null,null,null,null,null,null,null,null,null,null,null,null,null,null,null,null,null,null,null,null,null,null,null,null,null,null,null,null,null,null,null,null,null,null,null,null,null,null,null,null,null,null,null,null,null,null,null,null,{"$f":"IFERROR(VLOOKUP(ROWS($CF$3:CF630),$CH$3:$CI$2001,2,FALSE),\"\")","v":""},null,{"$f":"IF(ISNUMBER(SEARCH(B630,CI630)),MAX($CH$2:CH629)+1,0)","v":0}]
[null,null,{"$f":"IF(B634=\"\",\"\",SUMIF('الرصيد الثابت'!$D$2:$D$115,B634,'الرصيد الثابت'!$H$2:$H$115))","v":""},{"$f":"IF(B634=\"\",\"\",SUMIF('الرصيد الثابت'!$D$2:$D$115,B634,'الرصيد الثابت'!$I$2:$I$115))","v":""},{"$f":"IF(B634=\"\",\"\",SUMIF('الرصيد الثابت'!$D$2:$D$115,B634,'الرصيد الثابت'!$J$2:$J$115))","v":""},null,0,null,null,null,null,0,null,null,null,0,null,0,null,null,null,null,null,null,null,null,null,null,null,null,null,null,null,null,null,null,null,null,null,null,null,null,null,null,null,null,null,null,null,null,null,null,null,null,null,null,null,null,null,null,null,null,null,null,null,null,null,null,null,null,null,null,null,null,null,null,null,null,null,null,null,null,null,{"$f":"IFERROR(VLOOKUP(ROWS($CF$3:CF634),$CH$3:$CI$2001,2,FALSE),\"\")","v":""},null,{"$f":"IF(ISNUMBER(SEARCH(B634,CI634)),MAX($CH$2:CH633)+1,0)","v":0}]
[null,null,{"$f":"IF(B636=\"\",\"\",SUMIF('الرصيد الثابت'!$D$2:$D$115,B636,'الرصيد الثابت'!$H$2:$H$115))","v":""},{"$f":"IF(B636=\"\",\"\",SUMIF('الرصيد الثابت'!$D$2:$D$115,B636,'الرصيد الثابت'!$I$2:$I$115))","v":""},{"$f":"IF(B636=\"\",\"\",SUMIF('الرصيد الثابت'!$D$2:$D$115,B636,'الرصيد الثابت'!$J$2:$J$115))","v":""},null,0,null,null,null,null,0,null,null,null,0,null,0,null,null,null,null,null,null,null,null,null,null,null,null,null,null,null,null,null,null,null,null,null,null,null,null,null,null,null,null,null,null,null,null,null,null,null,null,null,null,null,null,null,null,null,null,null,null,null,null,null,null,null,null,null,null,null,null,null,null,null,null,null,null,null,null,null,{"$f":"IFERROR(VLOOKUP(ROWS($CF$3:CF636),$CH$3:$CI$2001,2,FALSE),\"\")","v":""},null,{"$f":"IF(ISNUMBER(SEARCH(B636,CI636)),MAX($CH$2:CH635)+1,0)","v":0}]
[null,null,{"$f":"IF(B640=\"\",\"\",SUMIF('الرصيد الثابت'!$D$2:$D$115,B640,'الرصيد الثابت'!$H$2:$H$115))","v":""},{"$f":"IF(B640=\"\",\"\",SUMIF('الرصيد الثابت'!$D$2:$D$115,B640,'الرصيد الثابت'!$I$2:$I$115))","v":""},{"$f":"IF(B640=\"\",\"\",SUMIF('الرصيد الثابت'!$D$2:$D$115,B640,'الرصيد الثابت'!$J$2:$J$115))","v":""},null,0,null,null,null,null,0,null,null,null,0,null,0,null,null,null,null,null,null,null,null,null,null,null,null,null,null,null,null,null,null,null,null,null,null,null,null,null,null,null,null,null,null,null,null,null,null,null,null,null,null,null,null,null,null,null,null,null,null,null,null,null,null,null,null,null,null,null,null,null,null,null,null,null,null,null,null,null,{"$f":"IFERROR(VLOOKUP(ROWS($CF$3:CF640),$CH$3:$CI$2001,2,FALSE),\"\")","v":""},null,{"$f":"IF(ISNUMBER(SEARCH(B640,CI640)),MAX($CH$2:CH639)+1,0)","v":0}]
[null,null,{"$f":"IF(B643=\"\",\"\",SUMIF('الرصيد الثابت'!$D$2:$D$115,B643,'الرصيد الثابت'!$H$2:$H$115))","v":""},{"$f":"IF(B643=\"\",\"\",SUMIF('الرصيد الثابت'!$D$2:$D$115,B643,'الرصيد الثابت'!$I$2:$I$115))","v":""},{"$f":"IF(B643=\"\",\"\",SUMIF('الرصيد الثابت'!$D$2:$D$115,B643,'الرصيد الثابت'!$J$2:$J$115))","v":""},null,0,null,null,null,null,{"$f":"SUM(M643*K643)","v":0},null,null,null,0,null,0,null,null,null,null,null,null,null,null,null,null,null,null,null,null,null,null,null,null,null,null,null,null,null,null,null,null,null,null,null,null,null,null,null,null,null,null,null,null,null,null,null,null,null,null,null,null,null,null,null,null,null,null,null,null,null,null,null,null,null,null,null,null,null,null,null,{"$f":"IFERROR(VLOOKUP(ROWS($CF$3:CF643),$CH$3:$CI$2001,2,FALSE),\"\")","v":""},null,{"$f":"IF(ISNUMBER(SEARCH(B643,CI643)),MAX($CH$2:CH642)+1,0)","v":0}]
[null,null,{"$f":"IF(B645=\"\",\"\",SUMIF('الرصيد الثابت'!$D$2:$D$115,B645,'الرصيد الثابت'!$H$2:$H$115))","v":""},{"$f":"IF(B645=\"\",\"\",SUMIF('الرصيد الثابت'!$D$2:$D$115,B645,'الرصيد الثابت'!$I$2:$I$115))","v":""},{"$f":"IF(B645=\"\",\"\",SUMIF('الرصيد الثابت'!$D$2:$D$115,B645,'الرصيد الثابت'!$J$2:$J$115))","v":""},null,0,null,null,null,null,0,null,null,null,0,null,0,null,null,null,null,null,null,null,null,null,null,null,null,null,null,null,null,null,null,null,null,null,null,null,null,null,null,null,null,null,null,null,null,null,null,null,null,null,null,null,null,null,null,null,null,null,null,null,null,null,null,null,null,null,null,null,null,null,null,null,null,null,null,null,null,null,{"$f":"IFERROR(VLOOKUP(ROWS($CF$3:CF645),$CH$3:$CI$2001,2,FALSE),\"\")","v":""},null,{"$f":"IF(ISNUMBER(SEARCH(B645,CI645)),MAX($CH$2:CH644)+1,0)","v":0}]
[null,null,{"$f":"IF(B646=\"\",\"\",SUMIF('الرصيد الثابت'!$D$2:$D$115,B646,'الرصيد الثابت'!$H$2:$H$115))","v":""},{"$f":"IF(B646=\"\",\"\",SUMIF('الرصيد الثابت'!$D$2:$D$115,B646,'الرصيد الثابت'!$I$2:$I$115))","v":""},{"$f":"IF(B646=\"\",\"\",SUMIF('الرصيد الثابت'!$D$2:$D$115,B646,'الرصيد الثابت'!$J$2:$J$115))","v":""},null,0,null,null,null,null,0,null,null,null,0,null,0,null,null,null,null,null,null,null,null,null,null,null,null,null,null,null,null,null,null,null,null,null,null,null,null,null,null,null,null,null,null,null,null,null,null,null,null,null,null,null,null,null,null,null,null,null,null,null,null,null,null,null,null,null,null,null,null,null,null,null,null,null,null,null,null,null,{"$f":"IFERROR(VLOOKUP(ROWS($CF$3:CF646),$CH$3:$CI$2001,2,FALSE),\"\")","v":""},null,{"$f":"IF(ISNUMBER(SEARCH(B646,CI646)),MAX($CH$2:CH645)+1,0)","v":0}]
[null,null,{"$f":"IF(B649=\"\",\"\",SUMIF('الرصيد الثابت'!$D$2:$D$115,B649,'الرصيد الثابت'!$H$2:$H$115))","v":""},{"$f":"IF(B649=\"\",\"\",SUMIF('الرصيد الثابت'!$D$2:$D$115,B649,'الرصيد الثابت'!$I$2:$I$115))","v":""},{"$f":"IF(B649=\"\",\"\",SUMIF('الرصيد الثابت'!$D$2:$D$115,B649,'الرصيد الثابت'!$J$2:$J$115))","v":""},null,0,null,null,null,null,0,null,null,null,0,null,0,null,null,null,null,null,null,null,null,null,null,null,null,null,null,null,null,null,null,null,null,null,null,null,null,null,null,null,null,null,null,null,null,null,null,null,null,null,null,null,null,null,null,null,null,null,null,null,null,null,null,null,null,null,null,null,null,null,null,null,null,null,null,null,null,null,{"$f":"IFERROR(VLOOKUP(ROWS($CF$3:CF649),$CH$3:$CI$2001,2,FALSE),\"\")","v":""},null,{"$f":"IF(ISNUMBER(SEARCH(B649,CI649)),MAX($CH$2:CH648)+1,0)","v":0}]
[null,null,{"$f":"IF(B653=\"\",\"\",SUMIF('الرصيد الثابت'!$D$2:$D$115,B653,'الرصيد الثابت'!$H$2:$H$115))","v":""},{"$f":"IF(B653=\"\",\"\",SUMIF('الرصيد الثابت'!$D$2:$D$115,B653,'الرصيد الثابت'!$I$2:$I$115))","v":""},{"$f":"IF(B653=\"\",\"\",SUMIF('الرصيد الثابت'!$D$2:$D$115,B653,'الرصيد الثابت'!$J$2:$J$115))","v":""},null,0,null,null,null,null,0,null,null,null,0,null,0,null,null,null,null,null,null,null,null,null,null,null,null,null,null,null,null,null,null,null,null,null,null,null,null,null,null,null,null,null,null,null,null,null,null,null,null,null,null,null,null,null,null,null,null,null,null,null,null,null,null,null,null,null,null,null,null,null,null,null,null,null,null,null,null,null,{"$f":"IFERROR(VLOOKUP(ROWS($CF$3:CF653),$CH$3:$CI$2001,2,FALSE),\"\")","v":""},null,{"$f":"IF(ISNUMBER(SEARCH(B653,CI653)),MAX($CH$2:CH652)+1,0)","v":0}]
[null,null,{"$f":"IF(B656=\"\",\"\",SUMIF('الرصيد الثابت'!$D$2:$D$115,B656,'الرصيد الثابت'!$H$2:$H$115))","v":""},{"$f":"IF(B656=\"\",\"\",SUMIF('الرصيد الثابت'!$D$2:$D$115,B656,'الرصيد الثابت'!$I$2:$I$115))","v":""},{"$f":"IF(B656=\"\",\"\",SUMIF('الرصيد الثابت'!$D$2:$D$115,B656,'الرصيد الثابت'!$J$2:$J$115))","v":""},null,0,null,null,null,null,0,null,null,null,0,null,0,null,null,null,null,null,null,null,null,null,null,null,null,null,null,null,null,null,null,null,null,null,null,null,null,null,null,null,null,null,null,null,null,null,null,null,null,null,null,null,null,null,null,null,null,null,null,null,null,null,null,null,null,null,null,null,null,null,null,null,null,null,null,null,null,null,{"$f":"IFERROR(VLOOKUP(ROWS($CF$3:CF656),$CH$3:$CI$2001,2,FALSE),\"\")","v":""},null,{"$f":"IF(ISNUMBER(SEARCH(B656,CI656)),MAX($CH$2:CH655)+1,0)","v":0}]
[null,null,{"$f":"IF(B658=\"\",\"\",SUMIF('الرصيد الثابت'!$D$2:$D$115,B658,'الرصيد الثابت'!$H$2:$H$115))","v":""},{"$f":"IF(B658=\"\",\"\",SUMIF('الرصيد الثابت'!$D$2:$D$115,B658,'الرصيد الثابت'!$I$2:$I$115))","v":""},{"$f":"IF(B658=\"\",\"\",SUMIF('الرصيد الثابت'!$D$2:$D$115,B658,'الرصيد الثابت'!$J$2:$J$115))","v":""},null,0,null,null,null,null,0,null,null,null,0,null,0,null,null,null,null,null,null,null,null,null,null,null,null,null,null,null,null,null,null,null,null,null,null,null,null,null,null,null,null,null,null,null,null,null,null,null,null,null,null,null,null,null,null,null,null,null,null,null,null,null,null,null,null,null,null,null,null,null,null,null,null,null,null,null,null,null,{"$f":"IFERROR(VLOOKUP(ROWS($CF$3:CF658),$CH$3:$CI$2001,2,FALSE),\"\")","v":""},null,{"$f":"IF(ISNUMBER(SEARCH(B658,CI658)),MAX($CH$2:CH657)+1,0)","v":0}]
[null,null,{"$f":"IF(B662=\"\",\"\",SUMIF('الرصيد الثابت'!$D$2:$D$115,B662,'الرصيد الثابت'!$H$2:$H$115))","v":""},{"$f":"IF(B662=\"\",\"\",SUMIF('الرصيد الثابت'!$D$2:$D$115,B662,'الرصيد الثابت'!$I$2:$I$115))","v":""},{"$f":"IF(B662=\"\",\"\",SUMIF('الرصيد الثابت'!$D$2:$D$115,B662,'الرصيد الثابت'!$J$2:$J$115))","v":""},null,0,null,null,null,null,0,null,null,null,0,null,0,null,null,null,null,null,null,null,null,null,null,null,null,null,null,null,null,null,null,null,null,null,null,null,null,null,null,null,null,null,null,null,null,null,null,null,null,null,null,null,null,null,null,null,null,null,null,null,null,null,null,null,null,null,null,null,null,null,null,null,null,null,null,null,null,null,{"$f":"IFERROR(VLOOKUP(ROWS($CF$3:CF662),$CH$3:$CI$2001,2,FALSE),\"\")","v":""},null,{"$f":"IF(ISNUMBER(SEARCH(B662,CI662)),MAX($CH$2:CH661)+1,0)","v":0}]
[null,null,{"$f":"IF(B665=\"\",\"\",SUMIF('الرصيد الثابت'!$D$2:$D$115,B665,'الرصيد الثابت'!$H$2:$H$115))","v":""},{"$f":"IF(B665=\"\",\"\",SUMIF('الرصيد الثابت'!$D$2:$D$115,B665,'الرصيد الثابت'!$I$2:$I$115))","v":""},{"$f":"IF(B665=\"\",\"\",SUMIF('الرصيد الثابت'!$D$2:$D$115,B665,'الرصيد الثابت'!$J$2:$J$115))","v":""},null,0,null,null,null,null,0,null,null,null,0,null,0,null,null,null,null,null,null,null,null,null,null,null,null,null,null,null,null,null,null,null,null,null,null,null,null,null,null,null,null,null,null,null,null,null,null,null,null,null,null,null,null,null,null,null,null,null,null,null,null,null,null,null,null,null,null,null,null,null,null,null,null,null,null,null,null,null,{"$f":"IFERROR(VLOOKUP(ROWS($CF$3:CF665),$CH$3:$CI$2001,2,FALSE),\"\")","v":""},null,{"$f":"IF(ISNUMBER(SEARCH(B665,CI665)),MAX($CH$2:CH664)+1,0)","v":0}]
[null,null,{"$f":"IF(B667=\"\",\"\",SUMIF('الرصيد الثابت'!$D$2:$D$115,B667,'الرصيد الثابت'!$H$2:$H$115))","v":""},{"$f":"IF(B667=\"\",\"\",SUMIF('الرصيد الثابت'!$D$2:$D$115,B667,'الرصيد الثابت'!$I$2:$I$115))","v":""},{"$f":"IF(B667=\"\",\"\",SUMIF('الرصيد الثابت'!$D$2:$D$115,B667,'الرصيد الثابت'!$J$2:$J$115))","v":""},null,0,null,null,null,null,0,null,null,null,0,null,0,null,null,null,null,null,null,null,null,null,null,null,null,null,null,null,null,null,null,null,null,null,null,null,null,null,null,null,null,null,null,null,null,null,null,null,null,null,null,null,null,null,null,null,null,null,null,null,null,null,null,null,null,null,null,null,null,null,null,null,null,null,null,null,null,null,{"$f":"IFERROR(VLOOKUP(ROWS($CF$3:CF667),$CH$3:$CI$2001,2,FALSE),\"\")","v":""},null,{"$f":"IF(ISNUMBER(SEARCH(B667,CI667)),MAX($CH$2:CH666)+1,0)","v":0}]
[null,null,{"$f":"IF(B668=\"\",\"\",SUMIF('الرصيد الثابت'!$D$2:$D$115,B668,'الرصيد الثابت'!$H$2:$H$115))","v":""},{"$f":"IF(B668=\"\",\"\",SUMIF('الرصيد الثابت'!$D$2:$D$115,B668,'الرصيد الثابت'!$I$2:$I$115))","v":""},{"$f":"IF(B668=\"\",\"\",SUMIF('الرصيد الثابت'!$D$2:$D$115,B668,'الرصيد الثابت'!$J$2:$J$115))","v":""},null,0,null,null,null,null,0,null,null,null,0,null,0,null,null,null,null,null,null,null,null,null,null,null,null,null,null,null,null,null,null,null,null,null,null,null,null,null,null,null,null,null,null,null,null,null,null,null,null,null,null,null,null,null,null,null,null,null,null,null,null,null,null,null,null,null,null,null,null,null,null,null,null,null,null,null,null,null,{"$f":"IFERROR(VLOOKUP(ROWS($CF$3:CF668),$CH$3:$CI$2001,2,FALSE),\"\")","v":""},null,{"$f":"IF(ISNUMBER(SEARCH(B668,CI668)),MAX($CH$2:CH667)+1,0)","v":0}]
[null,null,{"$f":"IF(B671=\"\",\"\",SUMIF('الرصيد الثابت'!$D$2:$D$115,B671,'الرصيد الثابت'!$H$2:$H$115))","v":""},{"$f":"IF(B671=\"\",\"\",SUMIF('الرصيد الثابت'!$D$2:$D$115,B671,'الرصيد الثابت'!$I$2:$I$115))","v":""},{"$f":"IF(B671=\"\",\"\",SUMIF('الرصيد الثابت'!$D$2:$D$115,B671,'الرصيد الثابت'!$J$2:$J$115))","v":""},null,0,null,null,null,null,0,null,null,null,0,null,0,null,null,null,null,null,null,null,null,null,null,null,null,null,null,null,null,null,null,null,null,null,null,null,null,null,null,null,null,null,null,null,null,null,null,null,null,null,null,null,null,null,null,null,null,null,null,null,null,null,null,null,null,null,null,null,null,null,null,null,null,null,null,null,null,null,{"$f":"IFERROR(VLOOKUP(ROWS($CF$3:CF671),$CH$3:$CI$2001,2,FALSE),\"\")","v":""},null,{"$f":"IF(ISNUMBER(SEARCH(B671,CI671)),MAX($CH$2:CH670)+1,0)","v":0}]
[null,null,{"$f":"IF(B675=\"\",\"\",SUMIF('الرصيد الثابت'!$D$2:$D$115,B675,'الرصيد الثابت'!$H$2:$H$115))","v":""},{"$f":"IF(B675=\"\",\"\",SUMIF('الرصيد الثابت'!$D$2:$D$115,B675,'الرصيد الثابت'!$I$2:$I$115))","v":""},{"$f":"IF(B675=\"\",\"\",SUMIF('الرصيد الثابت'!$D$2:$D$115,B675,'الرصيد الثابت'!$J$2:$J$115))","v":""},null,0,null,null,null,null,0,null,null,null,0,null,0,null,null,null,null,null,null,null,null,null,null,null,null,null,null,null,null,null,null,null,null,null,null,null,null,null,null,null,null,null,null,null,null,null,null,null,null,null,null,null,null,null,null,null,null,null,null,null,null,null,null,null,null,null,null,null,null,null,null,null,null,null,null,null,null,null,{"$f":"IFERROR(VLOOKUP(ROWS($CF$3:CF675),$CH$3:$CI$2001,2,FALSE),\"\")","v":""},null,{"$f":"IF(ISNUMBER(SEARCH(B675,CI675)),MAX($CH$2:CH674)+1,0)","v":0}]
[null,null,{"$f":"IF(B678=\"\",\"\",SUMIF('الرصيد الثابت'!$D$2:$D$115,B678,'الرصيد الثابت'!$H$2:$H$115))","v":""},{"$f":"IF(B678=\"\",\"\",SUMIF('الرصيد الثابت'!$D$2:$D$115,B678,'الرصيد الثابت'!$I$2:$I$115))","v":""},{"$f":"IF(B678=\"\",\"\",SUMIF('الرصيد الثابت'!$D$2:$D$115,B678,'الرصيد الثابت'!$J$2:$J$115))","v":""},null,0,null,null,null,null,0,null,null,null,0,null,0,null,null,null,null,null,null,null,null,null,null,null,null,null,null,null,null,null,null,null,null,null,null,null,null,null,null,null,null,null,null,null,null,null,null,null,null,null,null,null,null,null,null,null,null,null,null,null,null,null,null,null,null,null,null,null,null,null,null,null,null,null,null,null,null,null,{"$f":"IFERROR(VLOOKUP(ROWS($CF$3:CF678),$CH$3:$CI$2001,2,FALSE),\"\")","v":""},null,{"$f":"IF(ISNUMBER(SEARCH(B678,CI678)),MAX($CH$2:CH677)+1,0)","v":0}]
[null,null,{"$f":"IF(B680=\"\",\"\",SUMIF('الرصيد الثابت'!$D$2:$D$115,B680,'الرصيد الثابت'!$H$2:$H$115))","v":""},{"$f":"IF(B680=\"\",\"\",SUMIF('الرصيد الثابت'!$D$2:$D$115,B680,'الرصيد الثابت'!$I$2:$I$115))","v":""},{"$f":"IF(B680=\"\",\"\",SUMIF('الرصيد الثابت'!$D$2:$D$115,B680,'الرصيد الثابت'!$J$2:$J$115))","v":""},null,0,null,null,null,null,0,null,null,null,0,null,0,null,null,null,null,null,null,null,null,null,null,null,null,null,null,null,null,null,null,null,null,null,null,null,null,null,null,null,null,null,null,null,null,null,null,null,null,null,null,null,null,null,null,null,null,null,null,null,null,null,null,null,null,null,null,null,null,null,null,null,null,null,null,null,null,null,{"$f":"IFERROR(VLOOKUP(ROWS($CF$3:CF680),$CH$3:$CI$2001,2,FALSE),\"\")","v":""},null,{"$f":"IF(ISNUMBER(SEARCH(B680,CI680)),MAX($CH$2:CH679)+1,0)","v":0}]
[null,null,{"$f":"IF(B684=\"\",\"\",SUMIF('الرصيد الثابت'!$D$2:$D$115,B684,'الرصيد الثابت'!$H$2:$H$115))","v":""},{"$f":"IF(B684=\"\",\"\",SUMIF('الرصيد الثابت'!$D$2:$D$115,B684,'الرصيد الثابت'!$I$2:$I$115))","v":""},{"$f":"IF(B684=\"\",\"\",SUMIF('الرصيد الثابت'!$D$2:$D$115,B684,'الرصيد الثابت'!$J$2:$J$115))","v":""},null,0,null,null,null,null,0,null,null,null,0,null,0,null,null,null,null,null,null,null,null,null,null,null,null,null,null,null,null,null,null,null,null,null,null,null,null,null,null,null,null,null,null,null,null,null,null,null,null,null,null,null,null,null,null,null,null,null,null,null,null,null,null,null,null,null,null,null,null,null,null,null,null,null,null,null,null,null,{"$f":"IFERROR(VLOOKUP(ROWS($CF$3:CF684),$CH$3:$CI$2001,2,FALSE),\"\")","v":""},null,{"$f":"IF(ISNUMBER(SEARCH(B684,CI684)),MAX($CH$2:CH683)+1,0)","v":0}]
[null,null,{"$f":"IF(B687=\"\",\"\",SUMIF('الرصيد الثابت'!$D$2:$D$115,B687,'الرصيد الثابت'!$H$2:$H$115))","v":""},{"$f":"IF(B687=\"\",\"\",SUMIF('الرصيد الثابت'!$D$2:$D$115,B687,'الرصيد الثابت'!$I$2:$I$115))","v":""},{"$f":"IF(B687=\"\",\"\",SUMIF('الرصيد الثابت'!$D$2:$D$115,B687,'الرصيد الثابت'!$J$2:$J$115))","v":""},null,0,null,null,null,null,0,null,null,null,0,null,0,null,null,null,null,null,null,null,null,null,null,null,null,null,null,null,null,null,null,null,null,null,null,null,null,null,null,null,null,null,null,null,null,null,null,null,null,null,null,null,null,null,null,null,null,null,null,null,null,null,null,null,null,null,null,null,null,null,null,null,null,null,null,null,null,null,{"$f":"IFERROR(VLOOKUP(ROWS($CF$3:CF687),$CH$3:$CI$2001,2,FALSE),\"\")","v":""},null,{"$f":"IF(ISNUMBER(SEARCH(B687,CI687)),MAX($CH$2:CH686)+1,0)","v":0}]
[null,null,{"$f":"IF(B689=\"\",\"\",SUMIF('الرصيد الثابت'!$D$2:$D$115,B689,'الرصيد الثابت'!$H$2:$H$115))","v":""},{"$f":"IF(B689=\"\",\"\",SUMIF('الرصيد الثابت'!$D$2:$D$115,B689,'الرصيد الثابت'!$I$2:$I$115))","v":""},{"$f":"IF(B689=\"\",\"\",SUMIF('الرصيد الثابت'!$D$2:$D$115,B689,'الرصيد الثابت'!$J$2:$J$115))","v":""},null,0,null,null,null,null,0,null,null,null,0,null,0,null,null,null,null,null,null,null,null,null,null,null,null,null,null,null,null,null,null,null,null,null,null,null,null,null,null,null,null,null,null,null,null,null,null,null,null,null,null,null,null,null,null,null,null,null,null,null,null,null,null,null,null,null,null,null,null,null,null,null,null,null,null,null,null,null,{"$f":"IFERROR(VLOOKUP(ROWS($CF$3:CF689),$CH$3:$CI$2001,2,FALSE),\"\")","v":""},null,{"$f":"IF(ISNUMBER(SEARCH(B689,CI689)),MAX($CH$2:CH688)+1,0)","v":0}]
[null,null,{"$f":"IF(B690=\"\",\"\",SUMIF('الرصيد الثابت'!$D$2:$D$115,B690,'الرصيد الثابت'!$H$2:$H$115))","v":""},{"$f":"IF(B690=\"\",\"\",SUMIF('الرصيد الثابت'!$D$2:$D$115,B690,'الرصيد الثابت'!$I$2:$I$115))","v":""},{"$f":"IF(B690=\"\",\"\",SUMIF('الرصيد الثابت'!$D$2:$D$115,B690,'الرصيد الثابت'!$J$2:$J$115))","v":""},null,0,null,null,null,null,0,null,null,null,0,null,0,null,null,null,null,null,null,null,null,null,null,null,null,null,null,null,null,null,null,null,null,null,null,null,null,null,null,null,null,null,null,null,null,null,null,null,null,null,null,null,null,null,null,null,null,null,null,null,null,null,null,null,null,null,null,null,null,null,null,null,null,null,null,null,null,null,{"$f":"IFERROR(VLOOKUP(ROWS($CF$3:CF690),$CH$3:$CI$2001,2,FALSE),\"\")","v":""},null,{"$f":"IF(ISNUMBER(SEARCH(B690,CI690)),MAX($CH$2:CH689)+1,0)","v":0}]
[null,null,{"$f":"IF(B693=\"\",\"\",SUMIF('الرصيد الثابت'!$D$2:$D$115,B693,'الرصيد الثابت'!$H$2:$H$115))","v":""},{"$f":"IF(B693=\"\",\"\",SUMIF('الرصيد الثابت'!$D$2:$D$115,B693,'الرصيد الثابت'!$I$2:$I$115))","v":""},{"$f":"IF(B693=\"\",\"\",SUMIF('الرصيد الثابت'!$D$2:$D$115,B693,'الرصيد الثابت'!$J$2:$J$115))","v":""},null,0,null,null,null,null,0,null,null,null,0,null,0,null,null,null,null,null,null,null,null,null,null,null,null,null,null,null,null,null,null,null,null,null,null,null,null,null,null,null,null,null,null,null,null,null,null,null,null,null,null,null,null,null,null,null,null,null,null,null,null,null,null,null,null,null,null,null,null,null,null,null,null,null,null,null,null,null,{"$f":"IFERROR(VLOOKUP(ROWS($CF$3:CF693),$CH$3:$CI$2001,2,FALSE),\"\")","v":""},null,{"$f":"IF(ISNUMBER(SEARCH(B693,CI693)),MAX($CH$2:CH692)+1,0)","v":0}]
[null,null,{"$f":"IF(B697=\"\",\"\",SUMIF('الرصيد الثابت'!$D$2:$D$115,B697,'الرصيد الثابت'!$H$2:$H$115))","v":""},{"$f":"IF(B697=\"\",\"\",SUMIF('الرصيد الثابت'!$D$2:$D$115,B697,'الرصيد الثابت'!$I$2:$I$115))","v":""},{"$f":"IF(B697=\"\",\"\",SUMIF('الرصيد الثابت'!$D$2:$D$115,B697,'الرصيد الثابت'!$J$2:$J$115))","v":""},null,0,null,null,null,null,0,null,null,null,0,null,0,null,null,null,null,null,null,null,null,null,null,null,null,null,null,null,null,null,null,null,null,null,null,null,null,null,null,null,null,null,null,null,null,null,null,null,null,null,null,null,null,null,null,null,null,null,null,null,null,null,null,null,null,null,null,null,null,null,null,null,null,null,null,null,null,null,{"$f":"IFERROR(VLOOKUP(ROWS($CF$3:CF697),$CH$3:$CI$2001,2,FALSE),\"\")","v":""},null,{"$f":"IF(ISNUMBER(SEARCH(B697,CI697)),MAX($CH$2:CH696)+1,0)","v":0}]
[null,null,{"$f":"IF(B700=\"\",\"\",SUMIF('الرصيد الثابت'!$D$2:$D$115,B700,'الرصيد الثابت'!$H$2:$H$115))","v":""},{"$f":"IF(B700=\"\",\"\",SUMIF('الرصيد الثابت'!$D$2:$D$115,B700,'الرصيد الثابت'!$I$2:$I$115))","v":""},{"$f":"IF(B700=\"\",\"\",SUMIF('الرصيد الثابت'!$D$2:$D$115,B700,'الرصيد الثابت'!$J$2:$J$115))","v":""},null,0,null,null,null,null,0,null,null,null,0,null,0,null,null,null,null,null,null,null,null,null,null,null,null,null,null,null,null,null,null,null,null,null,null,null,null,null,null,null,null,null,null,null,null,null,null,null,null,null,null,null,null,null,null,null,null,null,null,null,null,null,null,null,null,null,null,null,null,null,null,null,null,null,null,null,null,null,{"$f":"IFERROR(VLOOKUP(ROWS($CF$3:CF700),$CH$3:$CI$2001,2,FALSE),\"\")","v":""},null,{"$f":"IF(ISNUMBER(SEARCH(B700,CI700)),MAX($CH$2:CH699)+1,0)","v":0}]
[null,null,{"$f":"IF(B702=\"\",\"\",SUMIF('الرصيد الثابت'!$D$2:$D$115,B702,'الرصيد الثابت'!$H$2:$H$115))","v":""},{"$f":"IF(B702=\"\",\"\",SUMIF('الرصيد الثابت'!$D$2:$D$115,B702,'الرصيد الثابت'!$I$2:$I$115))","v":""},{"$f":"IF(B702=\"\",\"\",SUMIF('الرصيد الثابت'!$D$2:$D$115,B702,'الرصيد الثابت'!$J$2:$J$115))","v":""},null,0,null,null,null,null,0,null,null,null,0,null,0,null,null,null,null,null,null,null,null,null,null,null,null,null,null,null,null,null,null,null,null,null,null,null,null,null,null,null,null,null,null,null,null,null,null,null,null,null,null,null,null,null,null,null,null,null,null,null,null,null,null,null,null,null,null,null,null,null,null,null,null,null,null,null,null,null,{"$f":"IFERROR(VLOOKUP(ROWS($CF$3:CF702),$CH$3:$CI$2001,2,FALSE),\"\")","v":""},null,{"$f":"IF(ISNUMBER(SEARCH(B702,CI702)),MAX($CH$2:CH701)+1,0)","v":0}]
[null,null,{"$f":"IF(B706=\"\",\"\",SUMIF('الرصيد الثابت'!$D$2:$D$115,B706,'الرصيد الثابت'!$H$2:$H$115))","v":""},{"$f":"IF(B706=\"\",\"\",SUMIF('الرصيد الثابت'!$D$2:$D$115,B706,'الرصيد الثابت'!$I$2:$I$115))","v":""},{"$f":"IF(B706=\"\",\"\",SUMIF('الرصيد الثابت'!$D$2:$D$115,B706,'الرصيد الثابت'!$J$2:$J$115))","v":""},null,0,null,null,null,null,0,null,null,null,0,null,0,null,null,null,null,null,null,null,null,null,null,null,null,null,null,null,null,null,null,null,null,null,null,null,null,null,null,null,null,null,null,null,null,null,null,null,null,null,null,null,null,null,null,null,null,null,null,null,null,null,null,null,null,null,null,null,null,null,null,null,null,null,null,null,null,null,{"$f":"IFERROR(VLOOKUP(ROWS($CF$3:CF706),$CH$3:$CI$2001,2,FALSE),\"\")","v":""},null,{"$f":"IF(ISNUMBER(SEARCH(B706,CI706)),MAX($CH$2:CH705)+1,0)","v":0}]
[null,null,{"$f":"IF(B709=\"\",\"\",SUMIF('الرصيد الثابت'!$D$2:$D$115,B709,'الرصيد الثابت'!$H$2:$H$115))","v":""},{"$f":"IF(B709=\"\",\"\",SUMIF('الرصيد الثابت'!$D$2:$D$115,B709,'الرصيد الثابت'!$I$2:$I$115))","v":""},{"$f":"IF(B709=\"\",\"\",SUMIF('الرصيد الثابت'!$D$2:$D$115,B709,'الرصيد الثابت'!$J$2:$J$115))","v":""},null,0,null,null,null,null,0,null,null,null,0,null,0,null,null,null,null,null,null,null,null,null,null,null,null,null,null,null,null,null,null,null,null,null,null,null,null,null,null,null,null,null,null,null,null,null,null,null,null,null,null,null,null,null,null,null,null,null,null,null,null,null,null,null,null,null,null,null,null,null,null,null,null,null,null,null,null,null,{"$f":"IFERROR(VLOOKUP(ROWS($CF$3:CF709),$CH$3:$CI$2001,2,FALSE),\"\")","v":""},null,{"$f":"IF(ISNUMBER(SEARCH(B709,CI709)),MAX($CH$2:CH708)+1,0)","v":0}]
[null,null,{"$f":"IF(B711=\"\",\"\",SUMIF('الرصيد الثابت'!$D$2:$D$115,B711,'الرصيد الثابت'!$H$2:$H$115))","v":""},{"$f":"IF(B711=\"\",\"\",SUMIF('الرصيد الثابت'!$D$2:$D$115,B711,'الرصيد الثابت'!$I$2:$I$115))","v":""},{"$f":"IF(B711=\"\",\"\",SUMIF('الرصيد الثابت'!$D$2:$D$115,B711,'الرصيد الثابت'!$J$2:$J$115))","v":""},null,0,null,null,null,null,0,null,null,null,0,null,{"$f":"SUM(S711*Q711)","v":0},null,null,null,null,null,null,null,null,null,null,null,null,null,null,null,null,null,null,null,null,null,null,null,null,null,null,null,null,null,null,null,null,null,null,null,null,null,null,null,null,null,null,null,null,null,null,null,null,null,null,null,null,null,null,null,null,null,null,null,null,null,null,null,null,null,{"$f":"IFERROR(VLOOKUP(ROWS($CF$3:CF711),$CH$3:$CI$2001,2,FALSE),\"\")","v":""},null,{"$f":"IF(ISNUMBER(SEARCH(B711,CI711)),MAX($CH$2:CH710)+1,0)","v":0}]
[null,null,{"$f":"IF(B712=\"\",\"\",SUMIF('الرصيد الثابت'!$D$2:$D$115,B712,'الرصيد الثابت'!$H$2:$H$115))","v":""},{"$f":"IF(B712=\"\",\"\",SUMIF('الرصيد الثابت'!$D$2:$D$115,B712,'الرصيد الثابت'!$I$2:$I$115))","v":""},{"$f":"IF(B712=\"\",\"\",SUMIF('الرصيد الثابت'!$D$2:$D$115,B712,'الرصيد الثابت'!$J$2:$J$115))","v":""},null,0,null,null,null,null,0,null,null,null,0,null,0,null,null,null,null,null,null,null,null,null,null,null,null,null,null,null,null,null,null,null,null,null,null,null,null,null,null,null,null,null,null,null,null,null,null,null,null,null,null,null,null,null,null,null,null,null,null,null,null,null,null,null,null,null,null,null,null,null,null,null,null,null,null,null,null,null,{"$f":"IFERROR(VLOOKUP(ROWS($CF$3:CF712),$CH$3:$CI$2001,2,FALSE),\"\")","v":""},null,{"$f":"IF(ISNUMBER(SEARCH(B712,CI712)),MAX($CH$2:CH711)+1,0)","v":0}]
[null,null,{"$f":"IF(B715=\"\",\"\",SUMIF('الرصيد الثابت'!$D$2:$D$115,B715,'الرصيد الثابت'!$H$2:$H$115))","v":""},{"$f":"IF(B715=\"\",\"\",SUMIF('الرصيد الثابت'!$D$2:$D$115,B715,'الرصيد الثابت'!$I$2:$I$115))","v":""},{"$f":"IF(B715=\"\",\"\",SUMIF('الرصيد الثابت'!$D$2:$D$115,B715,'الرصيد الثابت'!$J$2:$J$115))","v":""},null,0,null,null,null,null,0,null,null,null,0,null,0,null,null,null,null,null,null,null,null,null,null,null,null,null,null,null,null,null,null,null,null,null,null,null,null,null,null,null,null,null,null,null,null,null,null,null,null,null,null,null,null,null,null,null,null,null,null,null,null,null,null,null,null,null,null,null,null,null,null,null,null,null,null,null,null,null,{"$f":"IFERROR(VLOOKUP(ROWS($CF$3:CF715),$CH$3:$CI$2001,2,FALSE),\"\")","v":""},null,{"$f":"IF(ISNUMBER(SEARCH(B715,CI715)),MAX($CH$2:CH714)+1,0)","v":0}]
[null,null,{"$f":"IF(B719=\"\",\"\",SUMIF('الرصيد الثابت'!$D$2:$D$115,B719,'الرصيد الثابت'!$H$2:$H$115))","v":""},{"$f":"IF(B719=\"\",\"\",SUMIF('الرصيد الثابت'!$D$2:$D$115,B719,'الرصيد الثابت'!$I$2:$I$115))","v":""},{"$f":"IF(B719=\"\",\"\",SUMIF('الرصيد الثابت'!$D$2:$D$115,B719,'الرصيد الثابت'!$J$2:$J$115))","v":""},null,0,null,null,null,null,0,null,null,null,0,null,0,null,null,null,null,null,null,null,null,null,null,null,null,null,null,null,null,null,null,null,null,null,null,null,null,null,null,null,null,null,null,null,null,null,null,null,null,null,null,null,null,null,null,null,null,null,null,null,null,null,null,null,null,null,null,null,null,null,null,null,null,null,null,null,null,null,{"$f":"IFERROR(VLOOKUP(ROWS($CF$3:CF719),$CH$3:$CI$2001,2,FALSE),\"\")","v":""},null,{"$f":"IF(ISNUMBER(SEARCH(B719,CI719)),MAX($CH$2:CH718)+1,0)","v":0}]
[null,null,{"$f":"IF(B722=\"\",\"\",SUMIF('الرصيد الثابت'!$D$2:$D$115,B722,'الرصيد الثابت'!$H$2:$H$115))","v":""},{"$f":"IF(B722=\"\",\"\",SUMIF('الرصيد الثابت'!$D$2:$D$115,B722,'الرصيد الثابت'!$I$2:$I$115))","v":""},{"$f":"IF(B722=\"\",\"\",SUMIF('الرصيد الثابت'!$D$2:$D$115,B722,'الرصيد الثابت'!$J$2:$J$115))","v":""},null,0,null,null,null,null,0,null,null,null,0,null,0,null,null,null,null,null,null,null,null,null,null,null,null,null,null,null,null,null,null,null,null,null,null,null,null,null,null,null,null,null,null,null,null,null,null,null,null,null,null,null,null,null,null,null,null,null,null,null,null,null,null,null,null,null,null,null,null,null,null,null,null,null,null,null,null,null,{"$f":"IFERROR(VLOOKUP(ROWS($CF$3:CF722),$CH$3:$CI$2001,2,FALSE),\"\")","v":""},null,{"$f":"IF(ISNUMBER(SEARCH(B722,CI722)),MAX($CH$2:CH721)+1,0)","v":0}]
[null,null,{"$f":"IF(B724=\"\",\"\",SUMIF('الرصيد الثابت'!$D$2:$D$115,B724,'الرصيد الثابت'!$H$2:$H$115))","v":""},{"$f":"IF(B724=\"\",\"\",SUMIF('الرصيد الثابت'!$D$2:$D$115,B724,'الرصيد الثابت'!$I$2:$I$115))","v":""},{"$f":"IF(B724=\"\",\"\",SUMIF('الرصيد الثابت'!$D$2:$D$115,B724,'الرصيد الثابت'!$J$2:$J$115))","v":""},null,0,null,null,null,null,0,null,null,null,0,null,0,null,null,null,null,null,null,null,null,null,null,null,null,null,null,null,null,null,null,null,null,null,null,null,null,null,null,null,null,null,null,null,null,null,null,null,null,null,null,null,null,null,null,null,null,null,null,null,null,null,null,null,null,null,null,null,null,null,null,null,null,null,null,null,null,null,{"$f":"IFERROR(VLOOKUP(ROWS($CF$3:CF724),$CH$3:$CI$2001,2,FALSE),\"\")","v":""},null,{"$f":"IF(ISNUMBER(SEARCH(B724,CI724)),MAX($CH$2:CH723)+1,0)","v":0}]
[null,null,{"$f":"IF(B728=\"\",\"\",SUMIF('الرصيد الثابت'!$D$2:$D$115,B728,'الرصيد الثابت'!$H$2:$H$115))","v":""},{"$f":"IF(B728=\"\",\"\",SUMIF('الرصيد الثابت'!$D$2:$D$115,B728,'الرصيد الثابت'!$I$2:$I$115))","v":""},{"$f":"IF(B728=\"\",\"\",SUMIF('الرصيد الثابت'!$D$2:$D$115,B728,'الرصيد الثابت'!$J$2:$J$115))","v":""},null,0,null,null,null,null,0,null,null,null,0,null,0,null,null,null,null,null,null,null,null,null,null,null,null,null,null,null,null,null,null,null,null,null,null,null,null,null,null,null,null,null,null,null,null,null,null,null,null,null,null,null,null,null,null,null,null,null,null,null,null,null,null,null,null,null,null,null,null,null,null,null,null,null,null,null,null,null,{"$f":"IFERROR(VLOOKUP(ROWS($CF$3:CF728),$CH$3:$CI$2001,2,FALSE),\"\")","v":""},null,{"$f":"IF(ISNUMBER(SEARCH(B728,CI728)),MAX($CH$2:CH727)+1,0)","v":0}]
[null,null,{"$f":"IF(B731=\"\",\"\",SUMIF('الرصيد الثابت'!$D$2:$D$115,B731,'الرصيد الثابت'!$H$2:$H$115))","v":""},{"$f":"IF(B731=\"\",\"\",SUMIF('الرصيد الثابت'!$D$2:$D$115,B731,'الرصيد الثابت'!$I$2:$I$115))","v":""},{"$f":"IF(B731=\"\",\"\",SUMIF('الرصيد الثابت'!$D$2:$D$115,B731,'الرصيد الثابت'!$J$2:$J$115))","v":""},null,0,null,null,null,null,0,null,null,null,0,null,0,null,null,null,null,null,null,null,null,null,null,null,null,null,null,null,null,null,null,null,null,null,null,null,null,null,null,null,null,null,null,null,null,null,null,null,null,null,null,null,null,null,null,null,null,null,null,null,null,null,null,null,null,null,null,null,null,null,null,null,null,null,null,null,null,null,{"$f":"IFERROR(VLOOKUP(ROWS($CF$3:CF731),$CH$3:$CI$2001,2,FALSE),\"\")","v":""},null,{"$f":"IF(ISNUMBER(SEARCH(B731,CI731)),MAX($CH$2:CH730)+1,0)","v":0}]
[null,null,{"$f":"IF(B733=\"\",\"\",SUMIF('الرصيد الثابت'!$D$2:$D$115,B733,'الرصيد الثابت'!$H$2:$H$115))","v":""},{"$f":"IF(B733=\"\",\"\",SUMIF('الرصيد الثابت'!$D$2:$D$115,B733,'الرصيد الثابت'!$I$2:$I$115))","v":""},{"$f":"IF(B733=\"\",\"\",SUMIF('الرصيد الثابت'!$D$2:$D$115,B733,'الرصيد الثابت'!$J$2:$J$115))","v":""},null,0,null,null,null,null,0,null,null,null,0,null,0,null,null,null,null,null,null,null,null,null,null,null,null,null,null,null,null,null,null,null,null,null,null,null,null,null,null,null,null,null,null,null,null,null,null,null,null,null,null,null,null,null,null,null,null,null,null,null,null,null,null,null,null,null,null,null,null,null,null,null,null,null,null,null,null,null,{"$f":"IFERROR(VLOOKUP(ROWS($CF$3:CF733),$CH$3:$CI$2001,2,FALSE),\"\")","v":""},null,{"$f":"IF(ISNUMBER(SEARCH(B733,CI733)),MAX($CH$2:CH732)+1,0)","v":0}]
[null,null,{"$f":"IF(B734=\"\",\"\",SUMIF('الرصيد الثابت'!$D$2:$D$115,B734,'الرصيد الثابت'!$H$2:$H$115))","v":""},{"$f":"IF(B734=\"\",\"\",SUMIF('الرصيد الثابت'!$D$2:$D$115,B734,'الرصيد الثابت'!$I$2:$I$115))","v":""},{"$f":"IF(B734=\"\",\"\",SUMIF('الرصيد الثابت'!$D$2:$D$115,B734,'الرصيد الثابت'!$J$2:$J$115))","v":""},null,0,null,null,null,null,0,null,null,null,0,null,0,null,null,null,null,null,null,null,null,null,null,null,null,null,null,null,null,null,null,null,null,null,null,null,null,null,null,null,null,null,null,null,null,null,null,null,null,null,null,null,null,null,null,null,null,null,null,null,null,null,null,null,null,null,null,null,null,null,null,null,null,null,null,null,null,null,{"$f":"IFERROR(VLOOKUP(ROWS($CF$3:CF734),$CH$3:$CI$2001,2,FALSE),\"\")","v":""},null,{"$f":"IF(ISNUMBER(SEARCH(B734,CI734)),MAX($CH$2:CH733)+1,0)","v":0}]
[null,null,{"$f":"IF(B737=\"\",\"\",SUMIF('الرصيد الثابت'!$D$2:$D$115,B737,'الرصيد الثابت'!$H$2:$H$115))","v":""},{"$f":"IF(B737=\"\",\"\",SUMIF('الرصيد الثابت'!$D$2:$D$115,B737,'الرصيد الثابت'!$I$2:$I$115))","v":""},{"$f":"IF(B737=\"\",\"\",SUMIF('الرصيد الثابت'!$D$2:$D$115,B737,'الرصيد الثابت'!$J$2:$J$115))","v":""},null,0,null,null,null,null,0,null,null,null,0,null,0,null,null,null,null,null,null,null,null,null,null,null,null,null,null,null,null,null,null,null,null,null,null,null,null,null,null,null,null,null,null,null,null,null,null,null,null,null,null,null,null,null,null,null,null,null,null,null,null,null,null,null,null,null,null,null,null,null,null,null,null,null,null,null,null,null,{"$f":"IFERROR(VLOOKUP(ROWS($CF$3:CF737),$CH$3:$CI$2001,2,FALSE),\"\")","v":""},null,{"$f":"IF(ISNUMBER(SEARCH(B737,CI737)),MAX($CH$2:CH736)+1,0)","v":0}]
[null,null,{"$f":"IF(B741=\"\",\"\",SUMIF('الرصيد الثابت'!$D$2:$D$115,B741,'الرصيد الثابت'!$H$2:$H$115))","v":""},{"$f":"IF(B741=\"\",\"\",SUMIF('الرصيد الثابت'!$D$2:$D$115,B741,'الرصيد الثابت'!$I$2:$I$115))","v":""},{"$f":"IF(B741=\"\",\"\",SUMIF('الرصيد الثابت'!$D$2:$D$115,B741,'الرصيد الثابت'!$J$2:$J$115))","v":""},null,0,null,null,null,null,0,null,null,null,0,null,0,null,null,null,null,null,null,null,null,null,null,null,null,null,null,null,null,null,null,null,null,null,null,null,null,null,null,null,null,null,null,null,null,null,null,null,null,null,null,null,null,null,null,null,null,null,null,null,null,null,null,null,null,null,null,null,null,null,null,null,null,null,null,null,null,null,{"$f":"IFERROR(VLOOKUP(ROWS($CF$3:CF741),$CH$3:$CI$2001,2,FALSE),\"\")","v":""},null,{"$f":"IF(ISNUMBER(SEARCH(B741,CI741)),MAX($CH$2:CH740)+1,0)","v":0}]
[null,null,{"$f":"IF(B744=\"\",\"\",SUMIF('الرصيد الثابت'!$D$2:$D$115,B744,'الرصيد الثابت'!$H$2:$H$115))","v":""},{"$f":"IF(B744=\"\",\"\",SUMIF('الرصيد الثابت'!$D$2:$D$115,B744,'الرصيد الثابت'!$I$2:$I$115))","v":""},{"$f":"IF(B744=\"\",\"\",SUMIF('الرصيد الثابت'!$D$2:$D$115,B744,'الرصيد الثابت'!$J$2:$J$115))","v":""},null,0,null,null,null,null,0,null,null,null,0,null,0,null,null,null,null,null,null,null,null,null,null,null,null,null,null,null,null,null,null,null,null,null,null,null,null,null,null,null,null,null,null,null,null,null,null,null,null,null,null,null,null,null,null,null,null,null,null,null,null,null,null,null,null,null,null,null,null,null,null,null,null,null,null,null,null,null,{"$f":"IFERROR(VLOOKUP(ROWS($CF$3:CF744),$CH$3:$CI$2001,2,FALSE),\"\")","v":""},null,{"$f":"IF(ISNUMBER(SEARCH(B744,CI744)),MAX($CH$2:CH743)+1,0)","v":0}]
[null,null,{"$f":"IF(B746=\"\",\"\",SUMIF('الرصيد الثابت'!$D$2:$D$115,B746,'الرصيد الثابت'!$H$2:$H$115))","v":""},{"$f":"IF(B746=\"\",\"\",SUMIF('الرصيد الثابت'!$D$2:$D$115,B746,'الرصيد الثابت'!$I$2:$I$115))","v":""},{"$f":"IF(B746=\"\",\"\",SUMIF('الرصيد الثابت'!$D$2:$D$115,B746,'الرصيد الثابت'!$J$2:$J$115))","v":""},null,0,null,null,null,null,0,null,null,null,0,null,0,null,null,null,null,null,null,null,null,null,null,null,null,null,null,null,null,null,null,null,null,null,null,null,null,null,null,null,null,null,null,null,null,null,null,null,null,null,null,null,null,null,null,null,null,null,null,null,null,null,null,null,null,null,null,null,null,null,null,null,null,null,null,null,null,null,{"$f":"IFERROR(VLOOKUP(ROWS($CF$3:CF746),$CH$3:$CI$2001,2,FALSE),\"\")","v":""},null,{"$f":"IF(ISNUMBER(SEARCH(B746,CI746)),MAX($CH$2:CH745)+1,0)","v":0}]
[null,null,{"$f":"IF(B750=\"\",\"\",SUMIF('الرصيد الثابت'!$D$2:$D$115,B750,'الرصيد الثابت'!$H$2:$H$115))","v":""},{"$f":"IF(B750=\"\",\"\",SUMIF('الرصيد الثابت'!$D$2:$D$115,B750,'الرصيد الثابت'!$I$2:$I$115))","v":""},{"$f":"IF(B750=\"\",\"\",SUMIF('الرصيد الثابت'!$D$2:$D$115,B750,'الرصيد الثابت'!$J$2:$J$115))","v":""},null,0,null,null,null,null,0,null,null,null,0,null,0,null,null,null,null,null,null,null,null,null,null,null,null,null,null,null,null,null,null,null,null,null,null,null,null,null,null,null,null,null,null,null,null,null,null,null,null,null,null,null,null,null,null,null,null,null,null,null,null,null,null,null,null,null,null,null,null,null,null,null,null,null,null,null,null,null,{"$f":"IFERROR(VLOOKUP(ROWS($CF$3:CF750),$CH$3:$CI$2001,2,FALSE),\"\")","v":""},null,{"$f":"IF(ISNUMBER(SEARCH(B750,CI750)),MAX($CH$2:CH749)+1,0)","v":0}]
[null,null,{"$f":"IF(B753=\"\",\"\",SUMIF('الرصيد الثابت'!$D$2:$D$115,B753,'الرصيد الثابت'!$H$2:$H$115))","v":""},{"$f":"IF(B753=\"\",\"\",SUMIF('الرصيد الثابت'!$D$2:$D$115,B753,'الرصيد الثابت'!$I$2:$I$115))","v":""},{"$f":"IF(B753=\"\",\"\",SUMIF('الرصيد الثابت'!$D$2:$D$115,B753,'الرصيد الثابت'!$J$2:$J$115))","v":""},null,0,null,null,null,null,0,null,null,null,0,null,0,null,null,null,null,null,null,null,null,null,null,null,null,null,null,null,null,null,null,null,null,null,null,null,null,null,null,null,null,null,null,null,null,null,null,null,null,null,null,null,null,null,null,null,null,null,null,null,null,null,null,null,null,null,null,null,null,null,null,null,null,null,null,null,null,null,{"$f":"IFERROR(VLOOKUP(ROWS($CF$3:CF753),$CH$3:$CI$2001,2,FALSE),\"\")","v":""},null,{"$f":"IF(ISNUMBER(SEARCH(B753,CI753)),MAX($CH$2:CH752)+1,0)","v":0}]
[null,null,{"$f":"IF(B755=\"\",\"\",SUMIF('الرصيد الثابت'!$D$2:$D$115,B755,'الرصيد الثابت'!$H$2:$H$115))","v":""},{"$f":"IF(B755=\"\",\"\",SUMIF('الرصيد الثابت'!$D$2:$D$115,B755,'الرصيد الثابت'!$I$2:$I$115))","v":""},{"$f":"IF(B755=\"\",\"\",SUMIF('الرصيد الثابت'!$D$2:$D$115,B755,'الرصيد الثابت'!$J$2:$J$115))","v":""},null,0,null,null,null,null,0,null,null,null,0,null,0,null,null,null,null,null,null,null,null,null,null,null,null,null,null,null,null,null,null,null,null,null,null,null,null,null,null,null,null,null,null,null,null,null,null,null,null,null,null,null,null,null,null,null,null,null,null,null,null,null,null,null,null,null,null,null,null,null,null,null,null,null,null,null,null,null,{"$f":"IFERROR(VLOOKUP(ROWS($CF$3:CF755),$CH$3:$CI$2001,2,FALSE),\"\")","v":""},null,{"$f":"IF(ISNUMBER(SEARCH(B755,CI755)),MAX($CH$2:CH754)+1,0)","v":0}]
[null,null,{"$f":"IF(B756=\"\",\"\",SUMIF('الرصيد الثابت'!$D$2:$D$115,B756,'الرصيد الثابت'!$H$2:$H$115))","v":""},{"$f":"IF(B756=\"\",\"\",SUMIF('الرصيد الثابت'!$D$2:$D$115,B756,'الرصيد الثابت'!$I$2:$I$115))","v":""},{"$f":"IF(B756=\"\",\"\",SUMIF('الرصيد الثابت'!$D$2:$D$115,B756,'الرصيد الثابت'!$J$2:$J$115))","v":""},null,0,null,null,null,null,0,null,null,null,0,null,0,null,null,null,null,null,null,null,null,null,null,null,null,null,null,null,null,null,null,null,null,null,null,null,null,null,null,null,null,null,null,null,null,null,null,null,null,null,null,null,null,null,null,null,null,null,null,null,null,null,null,null,null,null,null,null,null,null,null,null,null,null,null,null,null,null,{"$f":"IFERROR(VLOOKUP(ROWS($CF$3:CF756),$CH$3:$CI$2001,2,FALSE),\"\")","v":""},null,{"$f":"IF(ISNUMBER(SEARCH(B756,CI756)),MAX($CH$2:CH755)+1,0)","v":0}]
[null,null,{"$f":"IF(B759=\"\",\"\",SUMIF('الرصيد الثابت'!$D$2:$D$115,B759,'الرصيد الثابت'!$H$2:$H$115))","v":""},{"$f":"IF(B759=\"\",\"\",SUMIF('الرصيد الثابت'!$D$2:$D$115,B759,'الرصيد الثابت'!$I$2:$I$115))","v":""},{"$f":"IF(B759=\"\",\"\",SUMIF('الرصيد الثابت'!$D$2:$D$115,B759,'الرصيد الثابت'!$J$2:$J$115))","v":""},null,0,null,null,null,null,0,null,null,null,0,null,0,null,null,null,null,null,null,null,null,null,null,null,null,null,null,null,null,null,null,null,null,null,null,null,null,null,null,null,null,null,null,null,null,null,null,null,null,null,null,null,null,null,null,null,null,null,null,null,null,null,null,null,null,null,null,null,null,null,null,null,null,null,null,null,null,null,{"$f":"IFERROR(VLOOKUP(ROWS($CF$3:CF759),$CH$3:$CI$2001,2,FALSE),\"\")","v":""},null,{"$f":"IF(ISNUMBER(SEARCH(B759,CI759)),MAX($CH$2:CH758)+1,0)","v":0}]
[null,null,{"$f":"IF(B763=\"\",\"\",SUMIF('الرصيد الثابت'!$D$2:$D$115,B763,'الرصيد الثابت'!$H$2:$H$115))","v":""},{"$f":"IF(B763=\"\",\"\",SUMIF('الرصيد الثابت'!$D$2:$D$115,B763,'الرصيد الثابت'!$I$2:$I$115))","v":""},{"$f":"IF(B763=\"\",\"\",SUMIF('الرصيد الثابت'!$D$2:$D$115,B763,'الرصيد الثابت'!$J$2:$J$115))","v":""},null,0,null,null,null,null,0,null,null,null,0,null,0,null,null,null,null,null,null,null,null,null,null,null,null,null,null,null,null,null,null,null,null,null,null,null,null,null,null,null,null,null,null,null,null,null,null,null,null,null,null,null,null,null,null,null,null,null,null,null,null,null,null,null,null,null,null,null,null,null,null,null,null,null,null,null,null,null,{"$f":"IFERROR(VLOOKUP(ROWS($CF$3:CF763),$CH$3:$CI$2001,2,FALSE),\"\")","v":""},null,{"$f":"IF(ISNUMBER(SEARCH(B763,CI763)),MAX($CH$2:CH762)+1,0)","v":0}]
[null,null,{"$f":"IF(B766=\"\",\"\",SUMIF('الرصيد الثابت'!$D$2:$D$115,B766,'الرصيد الثابت'!$H$2:$H$115))","v":""},{"$f":"IF(B766=\"\",\"\",SUMIF('الرصيد الثابت'!$D$2:$D$115,B766,'الرصيد الثابت'!$I$2:$I$115))","v":""},{"$f":"IF(B766=\"\",\"\",SUMIF('الرصيد الثابت'!$D$2:$D$115,B766,'الرصيد الثابت'!$J$2:$J$115))","v":""},null,0,null,null,null,null,0,null,null,null,0,null,0,null,null,null,null,null,null,null,null,null,null,null,null,null,null,null,null,null,null,null,null,null,null,null,null,null,null,null,null,null,null,null,null,null,null,null,null,null,null,null,null,null,null,null,null,null,null,null,null,null,null,null,null,null,null,null,null,null,null,null,null,null,null,null,null,null,{"$f":"IFERROR(VLOOKUP(ROWS($CF$3:CF766),$CH$3:$CI$2001,2,FALSE),\"\")","v":""},null,{"$f":"IF(ISNUMBER(SEARCH(B766,CI766)),MAX($CH$2:CH765)+1,0)","v":0}]
[null,null,{"$f":"IF(B769=\"\",\"\",SUMIF('الرصيد الثابت'!$D$2:$D$115,B769,'الرصيد الثابت'!$H$2:$H$115))","v":""},{"$f":"IF(B769=\"\",\"\",SUMIF('الرصيد الثابت'!$D$2:$D$115,B769,'الرصيد الثابت'!$I$2:$I$115))","v":""},{"$f":"IF(B769=\"\",\"\",SUMIF('الرصيد الثابت'!$D$2:$D$115,B769,'الرصيد الثابت'!$J$2:$J$115))","v":""},null,0,null,null,null,null,0,null,null,null,0,null,0,null,null,null,null,null,null,null,null,null,null,null,null,null,null,null,null,null,null,null,null,null,null,null,null,null,null,null,null,null,null,null,null,null,null,null,null,null,null,null,null,null,null,null,null,null,null,null,null,null,null,null,null,null,null,null,null,null,null,null,null,null,null,null,null,null,{"$f":"IFERROR(VLOOKUP(ROWS($CF$3:CF769),$CH$3:$CI$2001,2,FALSE),\"\")","v":""},null,{"$f":"IF(ISNUMBER(SEARCH(B769,CI769)),MAX($CH$2:CH768)+1,0)","v":0}]
[null,null,{"$f":"IF(B772=\"\",\"\",SUMIF('الرصيد الثابت'!$D$2:$D$115,B772,'الرصيد الثابت'!$H$2:$H$115))","v":""},{"$f":"IF(B772=\"\",\"\",SUMIF('الرصيد الثابت'!$D$2:$D$115,B772,'الرصيد الثابت'!$I$2:$I$115))","v":""},{"$f":"IF(B772=\"\",\"\",SUMIF('الرصيد الثابت'!$D$2:$D$115,B772,'الرصيد الثابت'!$J$2:$J$115))","v":""},null,{"$f":"SUM(H772*F772)","v":0},null,null,null,null,0,null,null,null,{"$f":"SUM(F772-K772)","v":0},null,0,null,null,null,null,null,null,null,null,null,null,null,null,null,null,null,null,null,null,null,null,null,null,null,null,null,null,null,null,null,null,null,null,null,null,null,null,null,null,null,null,null,null,null,null,null,null,null,null,null,null,null,null,null,null,null,null,null,null,null,null,null,null,null,null,null,{"$f":"IFERROR(VLOOKUP(ROWS($CF$3:CF772),$CH$3:$CI$2001,2,FALSE),\"\")","v":""},null,{"$f":"IF(ISNUMBER(SEARCH(B772,CI772)),MAX($CH$2:CH771)+1,0)","v":0}]
[null,null,{"$f":"IF(B775=\"\",\"\",SUMIF('الرصيد الثابت'!$D$2:$D$115,B775,'الرصيد الثابت'!$H$2:$H$115))","v":""},{"$f":"IF(B775=\"\",\"\",SUMIF('الرصيد الثابت'!$D$2:$D$115,B775,'الرصيد الثابت'!$I$2:$I$115))","v":""},{"$f":"IF(B775=\"\",\"\",SUMIF('الرصيد الثابت'!$D$2:$D$115,B775,'الرصيد الثابت'!$J$2:$J$115))","v":""},null,0,null,null,null,null,0,null,null,null,0,null,{"$f":"SUM(S775*Q775)","v":0},null,null,null,null,null,null,null,null,null,null,null,null,null,null,null,null,null,null,null,null,null,null,null,null,null,null,null,null,null,null,null,null,null,null,null,null,null,null,null,null,null,null,null,null,null,null,null,null,null,null,null,null,null,null,null,null,null,null,null,null,null,null,null,null,null,{"$f":"IFERROR(VLOOKUP(ROWS($CF$3:CF775),$CH$3:$CI$2001,2,FALSE),\"\")","v":""},null,{"$f":"IF(ISNUMBER(SEARCH(B775,CI775)),MAX($CH$2:CH774)+1,0)","v":0}]
[null,null,{"$f":"IF(B777=\"\",\"\",SUMIF('الرصيد الثابت'!$D$2:$D$115,B777,'الرصيد الثابت'!$H$2:$H$115))","v":""},{"$f":"IF(B777=\"\",\"\",SUMIF('الرصيد الثابت'!$D$2:$D$115,B777,'الرصيد الثابت'!$I$2:$I$115))","v":""},{"$f":"IF(B777=\"\",\"\",SUMIF('الرصيد الثابت'!$D$2:$D$115,B777,'الرصيد الثابت'!$J$2:$J$115))","v":""},null,0,null,null,null,null,0,null,null,null,0,null,0,null,null,null,null,null,null,null,null,null,null,null,null,null,null,null,null,null,null,null,null,null,null,null,null,null,null,null,null,null,null,null,null,null,null,null,null,null,null,null,null,null,null,null,null,null,null,null,null,null,null,null,null,null,null,null,null,null,null,null,null,null,null,null,null,null,{"$f":"IFERROR(VLOOKUP(ROWS($CF$3:CF777),$CH$3:$CI$2001,2,FALSE),\"\")","v":""},null,{"$f":"IF(ISNUMBER(SEARCH(B777,CI777)),MAX($CH$2:CH776)+1,0)","v":0}]
[null,null,{"$f":"IF(B778=\"\",\"\",SUMIF('الرصيد الثابت'!$D$2:$D$115,B778,'الرصيد الثابت'!$H$2:$H$115))","v":""},{"$f":"IF(B778=\"\",\"\",SUMIF('الرصيد الثابت'!$D$2:$D$115,B778,'الرصيد الثابت'!$I$2:$I$115))","v":""},{"$f":"IF(B778=\"\",\"\",SUMIF('الرصيد الثابت'!$D$2:$D$115,B778,'الرصيد الثابت'!$J$2:$J$115))","v":""},null,0,null,null,null,null,0,null,null,null,0,null,0,null,null,null,null,null,null,null,null,null,null,null,null,null,null,null,null,null,null,null,null,null,null,null,null,null,null,null,null,null,null,null,null,null,null,null,null,null,null,null,null,null,null,null,null,null,null,null,null,null,null,null,null,null,null,null,null,null,null,null,null,null,null,null,null,null,{"$f":"IFERROR(VLOOKUP(ROWS($CF$3:CF778),$CH$3:$CI$2001,2,FALSE),\"\")","v":""},null,{"$f":"IF(ISNUMBER(SEARCH(B778,CI778)),MAX($CH$2:CH777)+1,0)","v":0}]
[null,null,{"$f":"IF(B781=\"\",\"\",SUMIF('الرصيد الثابت'!$D$2:$D$115,B781,'الرصيد الثابت'!$H$2:$H$115))","v":""},{"$f":"IF(B781=\"\",\"\",SUMIF('الرصيد الثابت'!$D$2:$D$115,B781,'الرصيد الثابت'!$I$2:$I$115))","v":""},{"$f":"IF(B781=\"\",\"\",SUMIF('الرصيد الثابت'!$D$2:$D$115,B781,'الرصيد الثابت'!$J$2:$J$115))","v":""},null,0,null,null,null,null,0,null,null,null,0,null,0,null,null,null,null,null,null,null,null,null,null,null,null,null,null,null,null,null,null,null,null,null,null,null,null,null,null,null,null,null,null,null,null,null,null,null,null,null,null,null,null,null,null,null,null,null,null,null,null,null,null,null,null,null,null,null,null,null,null,null,null,null,null,null,null,null,{"$f":"IFERROR(VLOOKUP(ROWS($CF$3:CF781),$CH$3:$CI$2001,2,FALSE),\"\")","v":""},null,{"$f":"IF(ISNUMBER(SEARCH(B781,CI781)),MAX($CH$2:CH780)+1,0)","v":0}]
[null,null,{"$f":"IF(B785=\"\",\"\",SUMIF('الرصيد الثابت'!$D$2:$D$115,B785,'الرصيد الثابت'!$H$2:$H$115))","v":""},{"$f":"IF(B785=\"\",\"\",SUMIF('الرصيد الثابت'!$D$2:$D$115,B785,'الرصيد الثابت'!$I$2:$I$115))","v":""},{"$f":"IF(B785=\"\",\"\",SUMIF('الرصيد الثابت'!$D$2:$D$115,B785,'الرصيد الثابت'!$J$2:$J$115))","v":""},null,0,null,null,null,null,0,null,null,null,0,null,0,null,null,null,null,null,null,null,null,null,null,null,null,null,null,null,null,null,null,null,null,null,null,null,null,null,null,null,null,null,null,null,null,null,null,null,null,null,null,null,null,null,null,null,null,null,null,null,null,null,null,null,null,null,null,null,null,null,null,null,null,null,null,null,null,null,{"$f":"IFERROR(VLOOKUP(ROWS($CF$3:CF785),$CH$3:$CI$2001,2,FALSE),\"\")","v":""},null,{"$f":"IF(ISNUMBER(SEARCH(B785,CI785)),MAX($CH$2:CH784)+1,0)","v":0}]
[null,null,{"$f":"IF(B788=\"\",\"\",SUMIF('الرصيد الثابت'!$D$2:$D$115,B788,'الرصيد الثابت'!$H$2:$H$115))","v":""},{"$f":"IF(B788=\"\",\"\",SUMIF('الرصيد الثابت'!$D$2:$D$115,B788,'الرصيد الثابت'!$I$2:$I$115))","v":""},{"$f":"IF(B788=\"\",\"\",SUMIF('الرصيد الثابت'!$D$2:$D$115,B788,'الرصيد الثابت'!$J$2:$J$115))","v":""},null,0,null,null,null,null,0,null,null,null,0,null,0,null,null,null,null,null,null,null,null,null,null,null,null,null,null,null,null,null,null,null,null,null,null,null,null,null,null,null,null,null,null,null,null,null,null,null,null,null,null,null,null,null,null,null,null,null,null,null,null,null,null,null,null,null,null,null,null,null,null,null,null,null,null,null,null,null,{"$f":"IFERROR(VLOOKUP(ROWS($CF$3:CF788),$CH$3:$CI$2001,2,FALSE),\"\")","v":""},null,{"$f":"IF(ISNUMBER(SEARCH(B788,CI788)),MAX($CH$2:CH787)+1,0)","v":0}]
[null,null,{"$f":"IF(B791=\"\",\"\",SUMIF('الرصيد الثابت'!$D$2:$D$115,B791,'الرصيد الثابت'!$H$2:$H$115))","v":""},{"$f":"IF(B791=\"\",\"\",SUMIF('الرصيد الثابت'!$D$2:$D$115,B791,'الرصيد الثابت'!$I$2:$I$115))","v":""},{"$f":"IF(B791=\"\",\"\",SUMIF('الرصيد الثابت'!$D$2:$D$115,B791,'الرصيد الثابت'!$J$2:$J$115))","v":""},null,0,null,null,null,null,0,null,null,null,0,null,0,null,null,null,null,null,null,null,null,null,null,null,null,null,null,null,null,null,null,null,null,null,null,null,null,null,null,null,null,null,null,null,null,null,null,null,null,null,null,null,null,null,null,null,null,null,null,null,null,null,null,null,null,null,null,null,null,null,null,null,null,null,null,null,null,null,{"$f":"IFERROR(VLOOKUP(ROWS($CF$3:CF791),$CH$3:$CI$2001,2,FALSE),\"\")","v":""},null,{"$f":"IF(ISNUMBER(SEARCH(B791,CI791)),MAX($CH$2:CH790)+1,0)","v":0}]
[null,null,{"$f":"IF(B794=\"\",\"\",SUMIF('الرصيد الثابت'!$D$2:$D$115,B794,'الرصيد الثابت'!$H$2:$H$115))","v":""},{"$f":"IF(B794=\"\",\"\",SUMIF('الرصيد الثابت'!$D$2:$D$115,B794,'الرصيد الثابت'!$I$2:$I$115))","v":""},{"$f":"IF(B794=\"\",\"\",SUMIF('الرصيد الثابت'!$D$2:$D$115,B794,'الرصيد الثابت'!$J$2:$J$115))","v":""},null,0,null,null,null,null,0,null,null,null,0,null,0,null,null,null,null,null,null,null,null,null,null,null,null,null,null,null,null,null,null,null,null,null,null,null,null,null,null,null,null,null,null,null,null,null,null,null,null,null,null,null,null,null,null,null,null,null,null,null,null,null,null,null,null,null,null,null,null,null,null,null,null,null,null,null,null,null,{"$f":"IFERROR(VLOOKUP(ROWS($CF$3:CF794),$CH$3:$CI$2001,2,FALSE),\"\")","v":""},null,{"$f":"IF(ISNUMBER(SEARCH(B794,CI794)),MAX($CH$2:CH793)+1,0)","v":0}]
[null,null,{"$f":"IF(B797=\"\",\"\",SUMIF('الرصيد الثابت'!$D$2:$D$115,B797,'الرصيد الثابت'!$H$2:$H$115))","v":""},{"$f":"IF(B797=\"\",\"\",SUMIF('الرصيد الثابت'!$D$2:$D$115,B797,'الرصيد الثابت'!$I$2:$I$115))","v":""},{"$f":"IF(B797=\"\",\"\",SUMIF('الرصيد الثابت'!$D$2:$D$115,B797,'الرصيد الثابت'!$J$2:$J$115))","v":""},null,0,null,null,null,null,0,null,null,null,0,null,0,null,null,null,null,null,null,null,null,null,null,null,null,null,null,null,null,null,null,null,null,null,null,null,null,null,null,null,null,null,null,null,null,null,null,null,null,null,null,null,null,null,null,null,null,null,null,null,null,null,null,null,null,null,null,null,null,null,null,null,null,null,null,null,null,null,{"$f":"IFERROR(VLOOKUP(ROWS($CF$3:CF797),$CH$3:$CI$2001,2,FALSE),\"\")","v":""},null,{"$f":"IF(ISNUMBER(SEARCH(B797,CI797)),MAX($CH$2:CH796)+1,0)","v":0}]
[null,null,{"$f":"IF(B799=\"\",\"\",SUMIF('الرصيد الثابت'!$D$2:$D$115,B799,'الرصيد الثابت'!$H$2:$H$115))","v":""},{"$f":"IF(B799=\"\",\"\",SUMIF('الرصيد الثابت'!$D$2:$D$115,B799,'الرصيد الثابت'!$I$2:$I$115))","v":""},{"$f":"IF(B799=\"\",\"\",SUMIF('الرصيد الثابت'!$D$2:$D$115,B799,'الرصيد الثابت'!$J$2:$J$115))","v":""},null,0,null,null,null,null,0,null,null,null,0,null,0,null,null,null,null,null,null,null,null,null,null,null,null,null,null,null,null,null,null,null,null,null,null,null,null,null,null,null,null,null,null,null,null,null,null,null,null,null,null,null,null,null,null,null,null,null,null,null,null,null,null,null,null,null,null,null,null,null,null,null,null,null,null,null,null,null,{"$f":"IFERROR(VLOOKUP(ROWS($CF$3:CF799),$CH$3:$CI$2001,2,FALSE),\"\")","v":""},null,{"$f":"IF(ISNUMBER(SEARCH(B799,CI799)),MAX($CH$2:CH798)+1,0)","v":0}]
[null,null,{"$f":"IF(B800=\"\",\"\",SUMIF('الرصيد الثابت'!$D$2:$D$115,B800,'الرصيد الثابت'!$H$2:$H$115))","v":""},{"$f":"IF(B800=\"\",\"\",SUMIF('الرصيد الثابت'!$D$2:$D$115,B800,'الرصيد الثابت'!$I$2:$I$115))","v":""},{"$f":"IF(B800=\"\",\"\",SUMIF('الرصيد الثابت'!$D$2:$D$115,B800,'الرصيد الثابت'!$J$2:$J$115))","v":""},null,0,null,null,null,null,0,null,null,null,0,null,0,null,null,null,null,null,null,null,null,null,null,null,null,null,null,null,null,null,null,null,null,null,null,null,null,null,null,null,null,null,null,null,null,null,null,null,null,null,null,null,null,null,null,null,null,null,null,null,null,null,null,null,null,null,null,null,null,null,null,null,null,null,null,null,null,null,{"$f":"IFERROR(VLOOKUP(ROWS($CF$3:CF800),$CH$3:$CI$2001,2,FALSE),\"\")","v":""},null,{"$f":"IF(ISNUMBER(SEARCH(B800,CI800)),MAX($CH$2:CH799)+1,0)","v":0}]
[null,null,{"$f":"IF(B804=\"\",\"\",SUMIF('الرصيد الثابت'!$D$2:$D$115,B804,'الرصيد الثابت'!$H$2:$H$115))","v":""},{"$f":"IF(B804=\"\",\"\",SUMIF('الرصيد الثابت'!$D$2:$D$115,B804,'الرصيد الثابت'!$I$2:$I$115))","v":""},{"$f":"IF(B804=\"\",\"\",SUMIF('الرصيد الثابت'!$D$2:$D$115,B804,'الرصيد الثابت'!$J$2:$J$115))","v":""},null,0,null,null,null,null,0,null,null,null,0,null,0,null,null,null,null,null,null,null,null,null,null,null,null,null,null,null,null,null,null,null,null,null,null,null,null,null,null,null,null,null,null,null,null,null,null,null,null,null,null,null,null,null,null,null,null,null,null,null,null,null,null,null,null,null,null,null,null,null,null,null,null,null,null,null,null,null,{"$f":"IFERROR(VLOOKUP(ROWS($CF$3:CF804),$CH$3:$CI$2001,2,FALSE),\"\")","v":""},null,{"$f":"IF(ISNUMBER(SEARCH(B804,CI804)),MAX($CH$2:CH803)+1,0)","v":0}]
[null,null,{"$f":"IF(B807=\"\",\"\",SUMIF('الرصيد الثابت'!$D$2:$D$115,B807,'الرصيد الثابت'!$H$2:$H$115))","v":""},{"$f":"IF(B807=\"\",\"\",SUMIF('الرصيد الثابت'!$D$2:$D$115,B807,'الرصيد الثابت'!$I$2:$I$115))","v":""},{"$f":"IF(B807=\"\",\"\",SUMIF('الرصيد الثابت'!$D$2:$D$115,B807,'الرصيد الثابت'!$J$2:$J$115))","v":""},null,0,null,null,null,null,0,null,null,null,0,null,0,null,null,null,null,null,null,null,null,null,null,null,null,null,null,null,null,null,null,null,null,null,null,null,null,null,null,null,null,null,null,null,null,null,null,null,null,null,null,null,null,null,null,null,null,null,null,null,null,null,null,null,null,null,null,null,null,null,null,null,null,null,null,null,null,null,{"$f":"IFERROR(VLOOKUP(ROWS($CF$3:CF807),$CH$3:$CI$2001,2,FALSE),\"\")","v":""},null,{"$f":"IF(ISNUMBER(SEARCH(B807,CI807)),MAX($CH$2:CH806)+1,0)","v":0}]
[null,null,{"$f":"IF(B810=\"\",\"\",SUMIF('الرصيد الثابت'!$D$2:$D$115,B810,'الرصيد الثابت'!$H$2:$H$115))","v":""},{"$f":"IF(B810=\"\",\"\",SUMIF('الرصيد الثابت'!$D$2:$D$115,B810,'الرصيد الثابت'!$I$2:$I$115))","v":""},{"$f":"IF(B810=\"\",\"\",SUMIF('الرصيد الثابت'!$D$2:$D$115,B810,'الرصيد الثابت'!$J$2:$J$115))","v":""},null,0,null,null,null,null,0,null,null,null,0,null,0,null,null,null,null,null,null,null,null,null,null,null,null,null,null,null,null,null,null,null,null,null,null,null,null,null,null,null,null,null,null,null,null,null,null,null,null,null,null,null,null,null,null,null,null,null,null,null,null,null,null,null,null,null,null,null,null,null,null,null,null,null,null,null,null,null,{"$f":"IFERROR(VLOOKUP(ROWS($CF$3:CF810),$CH$3:$CI$2001,2,FALSE),\"\")","v":""},null,{"$f":"IF(ISNUMBER(SEARCH(B810,CI810)),MAX($CH$2:CH809)+1,0)","v":0}]
[null,null,{"$f":"IF(B813=\"\",\"\",SUMIF('الرصيد الثابت'!$D$2:$D$115,B813,'الرصيد الثابت'!$H$2:$H$115))","v":""},{"$f":"IF(B813=\"\",\"\",SUMIF('الرصيد الثابت'!$D$2:$D$115,B813,'الرصيد الثابت'!$I$2:$I$115))","v":""},{"$f":"IF(B813=\"\",\"\",SUMIF('الرصيد الثابت'!$D$2:$D$115,B813,'الرصيد الثابت'!$J$2:$J$115))","v":""},null,0,null,null,null,null,0,null,null,null,0,null,0,null,null,null,null,null,null,null,null,null,null,null,null,null,null,null,null,null,null,null,null,null,null,null,null,null,null,null,null,null,null,null,null,null,null,null,null,null,null,null,null,null,null,null,null,null,null,null,null,null,null,null,null,null,null,null,null,null,null,null,null,null,null,null,null,null,{"$f":"IFERROR(VLOOKUP(ROWS($CF$3:CF813),$CH$3:$CI$2001,2,FALSE),\"\")","v":""},null,{"$f":"IF(ISNUMBER(SEARCH(B813,CI813)),MAX($CH$2:CH812)+1,0)","v":0}]
[null,null,{"$f":"IF(B816=\"\",\"\",SUMIF('الرصيد الثابت'!$D$2:$D$115,B816,'الرصيد الثابت'!$H$2:$H$115))","v":""},{"$f":"IF(B816=\"\",\"\",SUMIF('الرصيد الثابت'!$D$2:$D$115,B816,'الرصيد الثابت'!$I$2:$I$115))","v":""},{"$f":"IF(B816=\"\",\"\",SUMIF('الرصيد الثابت'!$D$2:$D$115,B816,'الرصيد الثابت'!$J$2:$J$115))","v":""},null,0,null,null,null,null,0,null,null,null,0,null,0,null,null,null,null,null,null,null,null,null,null,null,null,null,null,null,null,null,null,null,null,null,null,null,null,null,null,null,null,null,null,null,null,null,null,null,null,null,null,null,null,null,null,null,null,null,null,null,null,null,null,null,null,null,null,null,null,null,null,null,null,null,null,null,null,null,{"$f":"IFERROR(VLOOKUP(ROWS($CF$3:CF816),$CH$3:$CI$2001,2,FALSE),\"\")","v":""},null,{"$f":"IF(ISNUMBER(SEARCH(B816,CI816)),MAX($CH$2:CH815)+1,0)","v":0}]
[null,null,{"$f":"IF(B819=\"\",\"\",SUMIF('الرصيد الثابت'!$D$2:$D$115,B819,'الرصيد الثابت'!$H$2:$H$115))","v":""},{"$f":"IF(B819=\"\",\"\",SUMIF('الرصيد الثابت'!$D$2:$D$115,B819,'الرصيد الثابت'!$I$2:$I$115))","v":""},{"$f":"IF(B819=\"\",\"\",SUMIF('الرصيد الثابت'!$D$2:$D$115,B819,'الرصيد الثابت'!$J$2:$J$115))","v":""},null,0,null,null,null,null,0,null,null,null,0,null,0,null,null,null,null,null,null,null,null,null,null,null,null,null,null,null,null,null,null,null,null,null,null,null,null,null,null,null,null,null,null,null,null,null,null,null,null,null,null,null,null,null,null,null,null,null,null,null,null,null,null,null,null,null,null,null,null,null,null,null,null,null,null,null,null,null,{"$f":"IFERROR(VLOOKUP(ROWS($CF$3:CF819),$CH$3:$CI$2001,2,FALSE),\"\")","v":""},null,{"$f":"IF(ISNUMBER(SEARCH(B819,CI819)),MAX($CH$2:CH818)+1,0)","v":0}]
[null,null,{"$f":"IF(B821=\"\",\"\",SUMIF('الرصيد الثابت'!$D$2:$D$115,B821,'الرصيد الثابت'!$H$2:$H$115))","v":""},{"$f":"IF(B821=\"\",\"\",SUMIF('الرصيد الثابت'!$D$2:$D$115,B821,'الرصيد الثابت'!$I$2:$I$115))","v":""},{"$f":"IF(B821=\"\",\"\",SUMIF('الرصيد الثابت'!$D$2:$D$115,B821,'الرصيد الثابت'!$J$2:$J$115))","v":""},null,0,null,null,null,null,0,null,null,null,0,null,0,null,null,null,null,null,null,null,null,null,null,null,null,null,null,null,null,null,null,null,null,null,null,null,null,null,null,null,null,null,null,null,null,null,null,null,null,null,null,null,null,null,null,null,null,null,null,null,null,null,null,null,null,null,null,null,null,null,null,null,null,null,null,null,null,null,{"$f":"IFERROR(VLOOKUP(ROWS($CF$3:CF821),$CH$3:$CI$2001,2,FALSE),\"\")","v":""},null,{"$f":"IF(ISNUMBER(SEARCH(B821,CI821)),MAX($CH$2:CH820)+1,0)","v":0}]
[null,null,{"$f":"IF(B822=\"\",\"\",SUMIF('الرصيد الثابت'!$D$2:$D$115,B822,'الرصيد الثابت'!$H$2:$H$115))","v":""},{"$f":"IF(B822=\"\",\"\",SUMIF('الرصيد الثابت'!$D$2:$D$115,B822,'الرصيد الثابت'!$I$2:$I$115))","v":""},{"$f":"IF(B822=\"\",\"\",SUMIF('الرصيد الثابت'!$D$2:$D$115,B822,'الرصيد الثابت'!$J$2:$J$115))","v":""},null,0,null,null,null,null,0,null,null,null,0,null,0,null,null,null,null,null,null,null,null,null,null,null,null,null,null,null,null,null,null,null,null,null,null,null,null,null,null,null,null,null,null,null,null,null,null,null,null,null,null,null,null,null,null,null,null,null,null,null,null,null,null,null,null,null,null,null,null,null,null,null,null,null,null,null,null,null,{"$f":"IFERROR(VLOOKUP(ROWS($CF$3:CF822),$CH$3:$CI$2001,2,FALSE),\"\")","v":""},null,{"$f":"IF(ISNUMBER(SEARCH(B822,CI822)),MAX($CH$2:CH821)+1,0)","v":0}]
[null,null,{"$f":"IF(B826=\"\",\"\",SUMIF('الرصيد الثابت'!$D$2:$D$115,B826,'الرصيد الثابت'!$H$2:$H$115))","v":""},{"$f":"IF(B826=\"\",\"\",SUMIF('الرصيد الثابت'!$D$2:$D$115,B826,'الرصيد الثابت'!$I$2:$I$115))","v":""},{"$f":"IF(B826=\"\",\"\",SUMIF('الرصيد الثابت'!$D$2:$D$115,B826,'الرصيد الثابت'!$J$2:$J$115))","v":""},null,0,null,null,null,null,0,null,null,null,0,null,0,null,null,null,null,null,null,null,null,null,null,null,null,null,null,null,null,null,null,null,null,null,null,null,null,null,null,null,null,null,null,null,null,null,null,null,null,null,null,null,null,null,null,null,null,null,null,null,null,null,null,null,null,null,null,null,null,null,null,null,null,null,null,null,null,null,{"$f":"IFERROR(VLOOKUP(ROWS($CF$3:CF826),$CH$3:$CI$2001,2,FALSE),\"\")","v":""},null,{"$f":"IF(ISNUMBER(SEARCH(B826,CI826)),MAX($CH$2:CH825)+1,0)","v":0}]
[null,null,{"$f":"IF(B829=\"\",\"\",SUMIF('الرصيد الثابت'!$D$2:$D$115,B829,'الرصيد الثابت'!$H$2:$H$115))","v":""},{"$f":"IF(B829=\"\",\"\",SUMIF('الرصيد الثابت'!$D$2:$D$115,B829,'الرصيد الثابت'!$I$2:$I$115))","v":""},{"$f":"IF(B829=\"\",\"\",SUMIF('الرصيد الثابت'!$D$2:$D$115,B829,'الرصيد الثابت'!$J$2:$J$115))","v":""},null,0,null,null,null,null,0,null,null,null,0,null,0,null,null,null,null,null,null,null,null,null,null,null,null,null,null,null,null,null,null,null,null,null,null,null,null,null,null,null,null,null,null,null,null,null,null,null,null,null,null,null,null,null,null,null,null,null,null,null,null,null,null,null,null,null,null,null,null,null,null,null,null,null,null,null,null,null,{"$f":"IFERROR(VLOOKUP(ROWS($CF$3:CF829),$CH$3:$CI$2001,2,FALSE),\"\")","v":""},null,{"$f":"IF(ISNUMBER(SEARCH(B829,CI829)),MAX($CH$2:CH828)+1,0)","v":0}]
[null,null,{"$f":"IF(B832=\"\",\"\",SUMIF('الرصيد الثابت'!$D$2:$D$115,B832,'الرصيد الثابت'!$H$2:$H$115))","v":""},{"$f":"IF(B832=\"\",\"\",SUMIF('الرصيد الثابت'!$D$2:$D$115,B832,'الرصيد الثابت'!$I$2:$I$115))","v":""},{"$f":"IF(B832=\"\",\"\",SUMIF('الرصيد الثابت'!$D$2:$D$115,B832,'الرصيد الثابت'!$J$2:$J$115))","v":""},null,0,null,null,null,null,0,null,null,null,0,null,0,null,null,null,null,null,null,null,null,null,null,null,null,null,null,null,null,null,null,null,null,null,null,null,null,null,null,null,null,null,null,null,null,null,null,null,null,null,null,null,null,null,null,null,null,null,null,null,null,null,null,null,null,null,null,null,null,null,null,null,null,null,null,null,null,null,{"$f":"IFERROR(VLOOKUP(ROWS($CF$3:CF832),$CH$3:$CI$2001,2,FALSE),\"\")","v":""},null,{"$f":"IF(ISNUMBER(SEARCH(B832,CI832)),MAX($CH$2:CH831)+1,0)","v":0}]
[null,null,{"$f":"IF(B835=\"\",\"\",SUMIF('الرصيد الثابت'!$D$2:$D$115,B835,'الرصيد الثابت'!$H$2:$H$115))","v":""},{"$f":"IF(B835=\"\",\"\",SUMIF('الرصيد الثابت'!$D$2:$D$115,B835,'الرصيد الثابت'!$I$2:$I$115))","v":""},{"$f":"IF(B835=\"\",\"\",SUMIF('الرصيد الثابت'!$D$2:$D$115,B835,'الرصيد الثابت'!$J$2:$J$115))","v":""},null,0,null,null,null,null,{"$f":"SUM(M835*K835)","v":0},null,null,null,0,null,0,null,null,null,null,null,null,null,null,null,null,null,null,null,null,null,null,null,null,null,null,null,null,null,null,null,null,null,null,null,null,null,null,null,null,null,null,null,null,null,null,null,null,null,null,null,null,null,null,null,null,null,null,null,null,null,null,null,null,null,null,null,null,null,null,null,{"$f":"IFERROR(VLOOKUP(ROWS($CF$3:CF835),$CH$3:$CI$2001,2,FALSE),\"\")","v":""},null,{"$f":"IF(ISNUMBER(SEARCH(B835,CI835)),MAX($CH$2:CH834)+1,0)","v":0}]
[null,null,{"$f":"IF(B838=\"\",\"\",SUMIF('الرصيد الثابت'!$D$2:$D$115,B838,'الرصيد الثابت'!$H$2:$H$115))","v":""},{"$f":"IF(B838=\"\",\"\",SUMIF('الرصيد الثابت'!$D$2:$D$115,B838,'الرصيد الثابت'!$I$2:$I$115))","v":""},{"$f":"IF(B838=\"\",\"\",SUMIF('الرصيد الثابت'!$D$2:$D$115,B838,'الرصيد الثابت'!$J$2:$J$115))","v":""},null,0,null,null,null,null,0,null,null,null,0,null,0,null,null,null,null,null,null,null,null,null,null,null,null,null,null,null,null,null,null,null,null,null,null,null,null,null,null,null,null,null,null,null,null,null,null,null,null,null,null,null,null,null,null,null,null,null,null,null,null,null,null,null,null,null,null,null,null,null,null,null,null,null,null,null,null,null,{"$f":"IFERROR(VLOOKUP(ROWS($CF$3:CF838),$CH$3:$CI$2001,2,FALSE),\"\")","v":""},null,{"$f":"IF(ISNUMBER(SEARCH(B838,CI838)),MAX($CH$2:CH837)+1,0)","v":0}]
[null,null,{"$f":"IF(B841=\"\",\"\",SUMIF('الرصيد الثابت'!$D$2:$D$115,B841,'الرصيد الثابت'!$H$2:$H$115))","v":""},{"$f":"IF(B841=\"\",\"\",SUMIF('الرصيد الثابت'!$D$2:$D$115,B841,'الرصيد الثابت'!$I$2:$I$115))","v":""},{"$f":"IF(B841=\"\",\"\",SUMIF('الرصيد الثابت'!$D$2:$D$115,B841,'الرصيد الثابت'!$J$2:$J$115))","v":""},null,0,null,null,null,null,0,null,null,null,0,null,0,null,null,null,null,null,null,null,null,null,null,null,null,null,null,null,null,null,null,null,null,null,null,null,null,null,null,null,null,null,null,null,null,null,null,null,null,null,null,null,null,null,null,null,null,null,null,null,null,null,null,null,null,null,null,null,null,null,null,null,null,null,null,null,null,null,{"$f":"IFERROR(VLOOKUP(ROWS($CF$3:CF841),$CH$3:$CI$2001,2,FALSE),\"\")","v":""},null,{"$f":"IF(ISNUMBER(SEARCH(B841,CI841)),MAX($CH$2:CH840)+1,0)","v":0}]
[null,null,{"$f":"IF(B842=\"\",\"\",SUMIF('الرصيد الثابت'!$D$2:$D$115,B842,'الرصيد الثابت'!$H$2:$H$115))","v":""},{"$f":"IF(B842=\"\",\"\",SUMIF('الرصيد الثابت'!$D$2:$D$115,B842,'الرصيد الثابت'!$I$2:$I$115))","v":""},{"$f":"IF(B842=\"\",\"\",SUMIF('الرصيد الثابت'!$D$2:$D$115,B842,'الرصيد الثابت'!$J$2:$J$115))","v":""},null,0,null,null,null,null,0,null,null,null,0,null,0,null,null,null,null,null,null,null,null,null,null,null,null,null,null,null,null,null,null,null,null,null,null,null,null,null,null,null,null,null,null,null,null,null,null,null,null,null,null,null,null,null,null,null,null,null,null,null,null,null,null,null,null,null,null,null,null,null,null,null,null,null,null,null,null,null,{"$f":"IFERROR(VLOOKUP(ROWS($CF$3:CF842),$CH$3:$CI$2001,2,FALSE),\"\")","v":""},null,{"$f":"IF(ISNUMBER(SEARCH(B842,CI842)),MAX($CH$2:CH841)+1,0)","v":0}]
[null,null,{"$f":"IF(B845=\"\",\"\",SUMIF('الرصيد الثابت'!$D$2:$D$115,B845,'الرصيد الثابت'!$H$2:$H$115))","v":""},{"$f":"IF(B845=\"\",\"\",SUMIF('الرصيد الثابت'!$D$2:$D$115,B845,'الرصيد الثابت'!$I$2:$I$115))","v":""},{"$f":"IF(B845=\"\",\"\",SUMIF('الرصيد الثابت'!$D$2:$D$115,B845,'الرصيد الثابت'!$J$2:$J$115))","v":""},null,0,null,null,null,null,0,null,null,null,0,null,0,null,null,null,null,null,null,null,null,null,null,null,null,null,null,null,null,null,null,null,null,null,null,null,null,null,null,null,null,null,null,null,null,null,null,null,null,null,null,null,null,null,null,null,null,null,null,null,null,null,null,null,null,null,null,null,null,null,null,null,null,null,null,null,null,null,{"$f":"IFERROR(VLOOKUP(ROWS($CF$3:CF845),$CH$3:$CI$2001,2,FALSE),\"\")","v":""},null,{"$f":"IF(ISNUMBER(SEARCH(B845,CI845)),MAX($CH$2:CH844)+1,0)","v":0}]
[null,null,{"$f":"IF(B848=\"\",\"\",SUMIF('الرصيد الثابت'!$D$2:$D$115,B848,'الرصيد الثابت'!$H$2:$H$115))","v":""},{"$f":"IF(B848=\"\",\"\",SUMIF('الرصيد الثابت'!$D$2:$D$115,B848,'الرصيد الثابت'!$I$2:$I$115))","v":""},{"$f":"IF(B848=\"\",\"\",SUMIF('الرصيد الثابت'!$D$2:$D$115,B848,'الرصيد الثابت'!$J$2:$J$115))","v":""},null,0,null,null,null,null,0,null,null,null,0,null,0,null,null,null,null,null,null,null,null,null,null,null,null,null,null,null,null,null,null,null,null,null,null,null,null,null,null,null,null,null,null,null,null,null,null,null,null,null,null,null,null,null,null,null,null,null,null,null,null,null,null,null,null,null,null,null,null,null,null,null,null,null,null,null,null,null,{"$f":"IFERROR(VLOOKUP(ROWS($CF$3:CF848),$CH$3:$CI$2001,2,FALSE),\"\")","v":""},null,{"$f":"IF(ISNUMBER(SEARCH(B848,CI848)),MAX($CH$2:CH847)+1,0)","v":0}]
[null,null,{"$f":"IF(B851=\"\",\"\",SUMIF('الرصيد الثابت'!$D$2:$D$115,B851,'الرصيد الثابت'!$H$2:$H$115))","v":""},{"$f":"IF(B851=\"\",\"\",SUMIF('الرصيد الثابت'!$D$2:$D$115,B851,'الرصيد الثابت'!$I$2:$I$115))","v":""},{"$f":"IF(B851=\"\",\"\",SUMIF('الرصيد الثابت'!$D$2:$D$115,B851,'الرصيد الثابت'!$J$2:$J$115))","v":""},null,0,null,null,null,null,0,null,null,null,0,null,0,null,null,null,null,null,null,null,null,null,null,null,null,null,null,null,null,null,null,null,null,null,null,null,null,null,null,null,null,null,null,null,null,null,null,null,null,null,null,null,null,null,null,null,null,null,null,null,null,null,null,null,null,null,null,null,null,null,null,null,null,null,null,null,null,null,{"$f":"IFERROR(VLOOKUP(ROWS($CF$3:CF851),$CH$3:$CI$2001,2,FALSE),\"\")","v":""},null,{"$f":"IF(ISNUMBER(SEARCH(B851,CI851)),MAX($CH$2:CH850)+1,0)","v":0}]
[null,null,{"$f":"IF(B854=\"\",\"\",SUMIF('الرصيد الثابت'!$D$2:$D$115,B854,'الرصيد الثابت'!$H$2:$H$115))","v":""},{"$f":"IF(B854=\"\",\"\",SUMIF('الرصيد الثابت'!$D$2:$D$115,B854,'الرصيد الثابت'!$I$2:$I$115))","v":""},{"$f":"IF(B854=\"\",\"\",SUMIF('الرصيد الثابت'!$D$2:$D$115,B854,'الرصيد الثابت'!$J$2:$J$115))","v":""},null,0,null,null,null,null,0,null,null,null,0,null,0,null,null,null,null,null,null,null,null,null,null,null,null,null,null,null,null,null,null,null,null,null,null,null,null,null,null,null,null,null,null,null,null,null,null,null,null,null,null,null,null,null,null,null,null,null,null,null,null,null,null,null,null,null,null,null,null,null,null,null,null,null,null,null,null,null,{"$f":"IFERROR(VLOOKUP(ROWS($CF$3:CF854),$CH$3:$CI$2001,2,FALSE),\"\")","v":""},null,{"$f":"IF(ISNUMBER(SEARCH(B854,CI854)),MAX($CH$2:CH853)+1,0)","v":0}]
[null,null,{"$f":"IF(B856=\"\",\"\",SUMIF('الرصيد الثابت'!$D$2:$D$115,B856,'الرصيد الثابت'!$H$2:$H$115))","v":""},{"$f":"IF(B856=\"\",\"\",SUMIF('الرصيد الثابت'!$D$2:$D$115,B856,'الرصيد الثابت'!$I$2:$I$115))","v":""},{"$f":"IF(B856=\"\",\"\",SUMIF('الرصيد الثابت'!$D$2:$D$115,B856,'الرصيد الثابت'!$J$2:$J$115))","v":""},null,0,null,null,null,null,0,null,null,null,0,null,0,null,null,null,null,null,null,null,null,null,null,null,null,null,null,null,null,null,null,null,null,null,null,null,null,null,null,null,null,null,null,null,null,null,null,null,null,null,null,null,null,null,null,null,null,null,null,null,null,null,null,null,null,null,null,null,null,null,null,null,null,null,null,null,null,null,{"$f":"IFERROR(VLOOKUP(ROWS($CF$3:CF856),$CH$3:$CI$2001,2,FALSE),\"\")","v":""},null,{"$f":"IF(ISNUMBER(SEARCH(B856,CI856)),MAX($CH$2:CH855)+1,0)","v":0}]
[null,null,{"$f":"IF(B860=\"\",\"\",SUMIF('الرصيد الثابت'!$D$2:$D$115,B860,'الرصيد الثابت'!$H$2:$H$115))","v":""},{"$f":"IF(B860=\"\",\"\",SUMIF('الرصيد الثابت'!$D$2:$D$115,B860,'الرصيد الثابت'!$I$2:$I$115))","v":""},{"$f":"IF(B860=\"\",\"\",SUMIF('الرصيد الثابت'!$D$2:$D$115,B860,'الرصيد الثابت'!$J$2:$J$115))","v":""},null,0,null,null,null,null,0,null,null,null,0,null,0,null,null,null,null,null,null,null,null,null,null,null,null,null,null,null,null,null,null,null,null,null,null,null,null,null,null,null,null,null,null,null,null,null,null,null,null,null,null,null,null,null,null,null,null,null,null,null,null,null,null,null,null,null,null,null,null,null,null,null,null,null,null,null,null,null,{"$f":"IFERROR(VLOOKUP(ROWS($CF$3:CF860),$CH$3:$CI$2001,2,FALSE),\"\")","v":""},null,{"$f":"IF(ISNUMBER(SEARCH(B860,CI860)),MAX($CH$2:CH859)+1,0)","v":0}]
[null,null,{"$f":"IF(B861=\"\",\"\",SUMIF('الرصيد الثابت'!$D$2:$D$115,B861,'الرصيد الثابت'!$H$2:$H$115))","v":""},{"$f":"IF(B861=\"\",\"\",SUMIF('الرصيد الثابت'!$D$2:$D$115,B861,'الرصيد الثابت'!$I$2:$I$115))","v":""},{"$f":"IF(B861=\"\",\"\",SUMIF('الرصيد الثابت'!$D$2:$D$115,B861,'الرصيد الثابت'!$J$2:$J$115))","v":""},null,0,null,null,null,null,0,null,null,null,0,null,0,null,null,null,null,null,null,null,null,null,null,null,null,null,null,null,null,null,null,null,null,null,null,null,null,null,null,null,null,null,null,null,null,null,null,null,null,null,null,null,null,null,null,null,null,null,null,null,null,null,null,null,null,null,null,null,null,null,null,null,null,null,null,null,null,null,{"$f":"IFERROR(VLOOKUP(ROWS($CF$3:CF861),$CH$3:$CI$2001,2,FALSE),\"\")","v":""},null,{"$f":"IF(ISNUMBER(SEARCH(B861,CI861)),MAX($CH$2:CH860)+1,0)","v":0}]
[null,null,{"$f":"IF(B864=\"\",\"\",SUMIF('الرصيد الثابت'!$D$2:$D$115,B864,'الرصيد الثابت'!$H$2:$H$115))","v":""},{"$f":"IF(B864=\"\",\"\",SUMIF('الرصيد الثابت'!$D$2:$D$115,B864,'الرصيد الثابت'!$I$2:$I$115))","v":""},{"$f":"IF(B864=\"\",\"\",SUMIF('الرصيد الثابت'!$D$2:$D$115,B864,'الرصيد الثابت'!$J$2:$J$115))","v":""},null,0,null,null,null,null,0,null,null,null,0,null,0,null,null,null,null,null,null,null,null,null,null,null,null,null,null,null,null,null,null,null,null,null,null,null,null,null,null,null,null,null,null,null,null,null,null,null,null,null,null,null,null,null,null,null,null,null,null,null,null,null,null,null,null,null,null,null,null,null,null,null,null,null,null,null,null,null,{"$f":"IFERROR(VLOOKUP(ROWS($CF$3:CF864),$CH$3:$CI$2001,2,FALSE),\"\")","v":""},null,{"$f":"IF(ISNUMBER(SEARCH(B864,CI864)),MAX($CH$2:CH863)+1,0)","v":0}]
[null,null,{"$f":"IF(B867=\"\",\"\",SUMIF('الرصيد الثابت'!$D$2:$D$115,B867,'الرصيد الثابت'!$H$2:$H$115))","v":""},{"$f":"IF(B867=\"\",\"\",SUMIF('الرصيد الثابت'!$D$2:$D$115,B867,'الرصيد الثابت'!$I$2:$I$115))","v":""},{"$f":"IF(B867=\"\",\"\",SUMIF('الرصيد الثابت'!$D$2:$D$115,B867,'الرصيد الثابت'!$J$2:$J$115))","v":""},null,0,null,null,null,null,0,null,null,null,0,null,0,null,null,null,null,null,null,null,null,null,null,null,null,null,null,null,null,null,null,null,null,null,null,null,null,null,null,null,null,null,null,null,null,null,null,null,null,null,null,null,null,null,null,null,null,null,null,null,null,null,null,null,null,null,null,null,null,null,null,null,null,null,null,null,null,null,{"$f":"IFERROR(VLOOKUP(ROWS($CF$3:CF867),$CH$3:$CI$2001,2,FALSE),\"\")","v":""},null,{"$f":"IF(ISNUMBER(SEARCH(B867,CI867)),MAX($CH$2:CH866)+1,0)","v":0}]
[null,null,{"$f":"IF(B870=\"\",\"\",SUMIF('الرصيد الثابت'!$D$2:$D$115,B870,'الرصيد الثابت'!$H$2:$H$115))","v":""},{"$f":"IF(B870=\"\",\"\",SUMIF('الرصيد الثابت'!$D$2:$D$115,B870,'الرصيد الثابت'!$I$2:$I$115))","v":""},{"$f":"IF(B870=\"\",\"\",SUMIF('الرصيد الثابت'!$D$2:$D$115,B870,'الرصيد الثابت'!$J$2:$J$115))","v":""},null,0,null,null,null,null,0,null,null,null,0,null,0,null,null,null,null,null,null,null,null,null,null,null,null,null,null,null,null,null,null,null,null,null,null,null,null,null,null,null,null,null,null,null,null,null,null,null,null,null,null,null,null,null,null,null,null,null,null,null,null,null,null,null,null,null,null,null,null,null,null,null,null,null,null,null,null,null,{"$f":"IFERROR(VLOOKUP(ROWS($CF$3:CF870),$CH$3:$CI$2001,2,FALSE),\"\")","v":""},null,{"$f":"IF(ISNUMBER(SEARCH(B870,CI870)),MAX($CH$2:CH869)+1,0)","v":0}]
[null,null,{"$f":"IF(B873=\"\",\"\",SUMIF('الرصيد الثابت'!$D$2:$D$115,B873,'الرصيد الثابت'!$H$2:$H$115))","v":""},{"$f":"IF(B873=\"\",\"\",SUMIF('الرصيد الثابت'!$D$2:$D$115,B873,'الرصيد الثابت'!$I$2:$I$115))","v":""},{"$f":"IF(B873=\"\",\"\",SUMIF('الرصيد الثابت'!$D$2:$D$115,B873,'الرصيد الثابت'!$J$2:$J$115))","v":""},null,0,null,null,null,null,0,null,null,null,0,null,0,null,null,null,null,null,null,null,null,null,null,null,null,null,null,null,null,null,null,null,null,null,null,null,null,null,null,null,null,null,null,null,null,null,null,null,null,null,null,null,null,null,null,null,null,null,null,null,null,null,null,null,null,null,null,null,null,null,null,null,null,null,null,null,null,null,{"$f":"IFERROR(VLOOKUP(ROWS($CF$3:CF873),$CH$3:$CI$2001,2,FALSE),\"\")","v":""},null,{"$f":"IF(ISNUMBER(SEARCH(B873,CI873)),MAX($CH$2:CH872)+1,0)","v":0}]
[null,null,{"$f":"IF(B876=\"\",\"\",SUMIF('الرصيد الثابت'!$D$2:$D$115,B876,'الرصيد الثابت'!$H$2:$H$115))","v":""},{"$f":"IF(B876=\"\",\"\",SUMIF('الرصيد الثابت'!$D$2:$D$115,B876,'الرصيد الثابت'!$I$2:$I$115))","v":""},{"$f":"IF(B876=\"\",\"\",SUMIF('الرصيد الثابت'!$D$2:$D$115,B876,'الرصيد الثابت'!$J$2:$J$115))","v":""},null,0,null,null,null,null,0,null,null,null,0,null,0,null,null,null,null,null,null,null,null,null,null,null,null,null,null,null,null,null,null,null,null,null,null,null,null,null,null,null,null,null,null,null,null,null,null,null,null,null,null,null,null,null,null,null,null,null,null,null,null,null,null,null,null,null,null,null,null,null,null,null,null,null,null,null,null,null,{"$f":"IFERROR(VLOOKUP(ROWS($CF$3:CF876),$CH$3:$CI$2001,2,FALSE),\"\")","v":""},null,{"$f":"IF(ISNUMBER(SEARCH(B876,CI876)),MAX($CH$2:CH875)+1,0)","v":0}]
[null,null,{"$f":"IF(B878=\"\",\"\",SUMIF('الرصيد الثابت'!$D$2:$D$115,B878,'الرصيد الثابت'!$H$2:$H$115))","v":""},{"$f":"IF(B878=\"\",\"\",SUMIF('الرصيد الثابت'!$D$2:$D$115,B878,'الرصيد الثابت'!$I$2:$I$115))","v":""},{"$f":"IF(B878=\"\",\"\",SUMIF('الرصيد الثابت'!$D$2:$D$115,B878,'الرصيد الثابت'!$J$2:$J$115))","v":""},null,0,null,null,null,null,0,null,null,null,0,null,0,null,null,null,null,null,null,null,null,null,null,null,null,null,null,null,null,null,null,null,null,null,null,null,null,null,null,null,null,null,null,null,null,null,null,null,null,null,null,null,null,null,null,null,null,null,null,null,null,null,null,null,null,null,null,null,null,null,null,null,null,null,null,null,null,null,{"$f":"IFERROR(VLOOKUP(ROWS($CF$3:CF878),$CH$3:$CI$2001,2,FALSE),\"\")","v":""},null,{"$f":"IF(ISNUMBER(SEARCH(B878,CI878)),MAX($CH$2:CH877)+1,0)","v":0}]
[null,null,{"$f":"IF(B882=\"\",\"\",SUMIF('الرصيد الثابت'!$D$2:$D$115,B882,'الرصيد الثابت'!$H$2:$H$115))","v":""},{"$f":"IF(B882=\"\",\"\",SUMIF('الرصيد الثابت'!$D$2:$D$115,B882,'الرصيد الثابت'!$I$2:$I$115))","v":""},{"$f":"IF(B882=\"\",\"\",SUMIF('الرصيد الثابت'!$D$2:$D$115,B882,'الرصيد الثابت'!$J$2:$J$115))","v":""},null,0,null,null,null,null,0,null,null,null,0,null,0,null,null,null,null,null,null,null,null,null,null,null,null,null,null,null,null,null,null,null,null,null,null,null,null,null,null,null,null,null,null,null,null,null,null,null,null,null,null,null,null,null,null,null,null,null,null,null,null,null,null,null,null,null,null,null,null,null,null,null,null,null,null,null,null,null,{"$f":"IFERROR(VLOOKUP(ROWS($CF$3:CF882),$CH$3:$CI$2001,2,FALSE),\"\")","v":""},null,{"$f":"IF(ISNUMBER(SEARCH(B882,CI882)),MAX($CH$2:CH881)+1,0)","v":0}]
[null,null,{"$f":"IF(B883=\"\",\"\",SUMIF('الرصيد الثابت'!$D$2:$D$115,B883,'الرصيد الثابت'!$H$2:$H$115))","v":""},{"$f":"IF(B883=\"\",\"\",SUMIF('الرصيد الثابت'!$D$2:$D$115,B883,'الرصيد الثابت'!$I$2:$I$115))","v":""},{"$f":"IF(B883=\"\",\"\",SUMIF('الرصيد الثابت'!$D$2:$D$115,B883,'الرصيد الثابت'!$J$2:$J$115))","v":""},null,0,null,null,null,null,0,null,null,null,0,null,0,null,null,null,null,null,null,null,null,null,null,null,null,null,null,null,null,null,null,null,null,null,null,null,null,null,null,null,null,null,null,null,null,null,null,null,null,null,null,null,null,null,null,null,null,null,null,null,null,null,null,null,null,null,null,null,null,null,null,null,null,null,null,null,null,null,{"$f":"IFERROR(VLOOKUP(ROWS($CF$3:CF883),$CH$3:$CI$2001,2,FALSE),\"\")","v":""},null,{"$f":"IF(ISNUMBER(SEARCH(B883,CI883)),MAX($CH$2:CH882)+1,0)","v":0}]
[null,null,{"$f":"IF(B886=\"\",\"\",SUMIF('الرصيد الثابت'!$D$2:$D$115,B886,'الرصيد الثابت'!$H$2:$H$115))","v":""},{"$f":"IF(B886=\"\",\"\",SUMIF('الرصيد الثابت'!$D$2:$D$115,B886,'الرصيد الثابت'!$I$2:$I$115))","v":""},{"$f":"IF(B886=\"\",\"\",SUMIF('الرصيد الثابت'!$D$2:$D$115,B886,'الرصيد الثابت'!$J$2:$J$115))","v":""},null,0,null,null,null,null,0,null,null,null,0,null,0,null,null,null,null,null,null,null,null,null,null,null,null,null,null,null,null,null,null,null,null,null,null,null,null,null,null,null,null,null,null,null,null,null,null,null,null,null,null,null,null,null,null,null,null,null,null,null,null,null,null,null,null,null,null,null,null,null,null,null,null,null,null,null,null,null,{"$f":"IFERROR(VLOOKUP(ROWS($CF$3:CF886),$CH$3:$CI$2001,2,FALSE),\"\")","v":""},null,{"$f":"IF(ISNUMBER(SEARCH(B886,CI886)),MAX($CH$2:CH885)+1,0)","v":0}]
[null,null,{"$f":"IF(B889=\"\",\"\",SUMIF('الرصيد الثابت'!$D$2:$D$115,B889,'الرصيد الثابت'!$H$2:$H$115))","v":""},{"$f":"IF(B889=\"\",\"\",SUMIF('الرصيد الثابت'!$D$2:$D$115,B889,'الرصيد الثابت'!$I$2:$I$115))","v":""},{"$f":"IF(B889=\"\",\"\",SUMIF('الرصيد الثابت'!$D$2:$D$115,B889,'الرصيد الثابت'!$J$2:$J$115))","v":""},null,0,null,null,null,null,0,null,null,null,0,null,0,null,null,null,null,null,null,null,null,null,null,null,null,null,null,null,null,null,null,null,null,null,null,null,null,null,null,null,null,null,null,null,null,null,null,null,null,null,null,null,null,null,null,null,null,null,null,null,null,null,null,null,null,null,null,null,null,null,null,null,null,null,null,null,null,null,{"$f":"IFERROR(VLOOKUP(ROWS($CF$3:CF889),$CH$3:$CI$2001,2,FALSE),\"\")","v":""},null,{"$f":"IF(ISNUMBER(SEARCH(B889,CI889)),MAX($CH$2:CH888)+1,0)","v":0}]
[null,null,{"$f":"IF(B892=\"\",\"\",SUMIF('الرصيد الثابت'!$D$2:$D$115,B892,'الرصيد الثابت'!$H$2:$H$115))","v":""},{"$f":"IF(B892=\"\",\"\",SUMIF('الرصيد الثابت'!$D$2:$D$115,B892,'الرصيد الثابت'!$I$2:$I$115))","v":""},{"$f":"IF(B892=\"\",\"\",SUMIF('الرصيد الثابت'!$D$2:$D$115,B892,'الرصيد الثابت'!$J$2:$J$115))","v":""},null,0,null,null,null,null,0,null,null,null,0,null,0,null,null,null,null,null,null,null,null,null,null,null,null,null,null,null,null,null,null,null,null,null,null,null,null,null,null,null,null,null,null,null,null,null,null,null,null,null,null,null,null,null,null,null,null,null,null,null,null,null,null,null,null,null,null,null,null,null,null,null,null,null,null,null,null,null,{"$f":"IFERROR(VLOOKUP(ROWS($CF$3:CF892),$CH$3:$CI$2001,2,FALSE),\"\")","v":""},null,{"$f":"IF(ISNUMBER(SEARCH(B892,CI892)),MAX($CH$2:CH891)+1,0)","v":0}]
[null,null,{"$f":"IF(B895=\"\",\"\",SUMIF('الرصيد الثابت'!$D$2:$D$115,B895,'الرصيد الثابت'!$H$2:$H$115))","v":""},{"$f":"IF(B895=\"\",\"\",SUMIF('الرصيد الثابت'!$D$2:$D$115,B895,'الرصيد الثابت'!$I$2:$I$115))","v":""},{"$f":"IF(B895=\"\",\"\",SUMIF('الرصيد الثابت'!$D$2:$D$115,B895,'الرصيد الثابت'!$J$2:$J$115))","v":""},null,0,null,null,null,null,0,null,null,null,0,null,0,null,null,null,null,null,null,null,null,null,null,null,null,null,null,null,null,null,null,null,null,null,null,null,null,null,null,null,null,null,null,null,null,null,null,null,null,null,null,null,null,null,null,null,null,null,null,null,null,null,null,null,null,null,null,null,null,null,null,null,null,null,null,null,null,null,{"$f":"IFERROR(VLOOKUP(ROWS($CF$3:CF895),$CH$3:$CI$2001,2,FALSE),\"\")","v":""},null,{"$f":"IF(ISNUMBER(SEARCH(B895,CI895)),MAX($CH$2:CH894)+1,0)","v":0}]
[null,null,{"$f":"IF(B899=\"\",\"\",SUMIF('الرصيد الثابت'!$D$2:$D$115,B899,'الرصيد الثابت'!$H$2:$H$115))","v":""},{"$f":"IF(B899=\"\",\"\",SUMIF('الرصيد الثابت'!$D$2:$D$115,B899,'الرصيد الثابت'!$I$2:$I$115))","v":""},{"$f":"IF(B899=\"\",\"\",SUMIF('الرصيد الثابت'!$D$2:$D$115,B899,'الرصيد الثابت'!$J$2:$J$115))","v":""},null,0,null,null,null,null,{"$f":"SUM(M899*K899)","v":0},null,null,null,0,null,0,null,null,null,null,null,null,null,null,null,null,null,null,null,null,null,null,null,null,null,null,null,null,null,null,null,null,null,null,null,null,null,null,null,null,null,null,null,null,null,null,null,null,null,null,null,null,null,null,null,null,null,null,null,null,null,null,null,null,null,null,null,null,null,null,null,{"$f":"IFERROR(VLOOKUP(ROWS($CF$3:CF899),$CH$3:$CI$2001,2,FALSE),\"\")","v":""},null,{"$f":"IF(ISNUMBER(SEARCH(B899,CI899)),MAX($CH$2:CH898)+1,0)","v":0}]
[null,null,{"$f":"IF(B900=\"\",\"\",SUMIF('الرصيد الثابت'!$D$2:$D$115,B900,'الرصيد الثابت'!$H$2:$H$115))","v":""},{"$f":"IF(B900=\"\",\"\",SUMIF('الرصيد الثابت'!$D$2:$D$115,B900,'الرصيد الثابت'!$I$2:$I$115))","v":""},{"$f":"IF(B900=\"\",\"\",SUMIF('الرصيد الثابت'!$D$2:$D$115,B900,'الرصيد الثابت'!$J$2:$J$115))","v":""},null,{"$f":"SUM(H900*F900)","v":0},null,null,null,null,0,null,null,null,{"$f":"SUM(F900-K900)","v":0},null,0,null,null,null,null,null,null,null,null,null,null,null,null,null,null,null,null,null,null,null,null,null,null,null,null,null,null,null,null,null,null,null,null,null,null,null,null,null,null,null,null,null,null,null,null,null,null,null,null,null,null,null,null,null,null,null,null,null,null,null,null,null,null,null,null,null,{"$f":"IFERROR(VLOOKUP(ROWS($CF$3:CF900),$CH$3:$CI$2001,2,FALSE),\"\")","v":""},null,{"$f":"IF(ISNUMBER(SEARCH(B900,CI900)),MAX($CH$2:CH899)+1,0)","v":0}]
[null,null,{"$f":"IF(B904=\"\",\"\",SUMIF('الرصيد الثابت'!$D$2:$D$115,B904,'الرصيد الثابت'!$H$2:$H$115))","v":""},{"$f":"IF(B904=\"\",\"\",SUMIF('الرصيد الثابت'!$D$2:$D$115,B904,'الرصيد الثابت'!$I$2:$I$115))","v":""},{"$f":"IF(B904=\"\",\"\",SUMIF('الرصيد الثابت'!$D$2:$D$115,B904,'الرصيد الثابت'!$J$2:$J$115))","v":""},null,0,null,null,null,null,0,null,null,null,0,null,0,null,null,null,null,null,null,null,null,null,null,null,null,null,null,null,null,null,null,null,null,null,null,null,null,null,null,null,null,null,null,null,null,null,null,null,null,null,null,null,null,null,null,null,null,null,null,null,null,null,null,null,null,null,null,null,null,null,null,null,null,null,null,null,null,null,{"$f":"IFERROR(VLOOKUP(ROWS($CF$3:CF904),$CH$3:$CI$2001,2,FALSE),\"\")","v":""},null,{"$f":"IF(ISNUMBER(SEARCH(B904,CI904)),MAX($CH$2:CH903)+1,0)","v":0}]
[null,null,{"$f":"IF(B905=\"\",\"\",SUMIF('الرصيد الثابت'!$D$2:$D$115,B905,'الرصيد الثابت'!$H$2:$H$115))","v":""},{"$f":"IF(B905=\"\",\"\",SUMIF('الرصيد الثابت'!$D$2:$D$115,B905,'الرصيد الثابت'!$I$2:$I$115))","v":""},{"$f":"IF(B905=\"\",\"\",SUMIF('الرصيد الثابت'!$D$2:$D$115,B905,'الرصيد الثابت'!$J$2:$J$115))","v":""},null,0,null,null,null,null,0,null,null,null,0,null,0,null,null,null,null,null,null,null,null,null,null,null,null,null,null,null,null,null,null,null,null,null,null,null,null,null,null,null,null,null,null,null,null,null,null,null,null,null,null,null,null,null,null,null,null,null,null,null,null,null,null,null,null,null,null,null,null,null,null,null,null,null,null,null,null,null,{"$f":"IFERROR(VLOOKUP(ROWS($CF$3:CF905),$CH$3:$CI$2001,2,FALSE),\"\")","v":""},null,{"$f":"IF(ISNUMBER(SEARCH(B905,CI905)),MAX($CH$2:CH904)+1,0)","v":0}]
[null,null,{"$f":"IF(B908=\"\",\"\",SUMIF('الرصيد الثابت'!$D$2:$D$115,B908,'الرصيد الثابت'!$H$2:$H$115))","v":""},{"$f":"IF(B908=\"\",\"\",SUMIF('الرصيد الثابت'!$D$2:$D$115,B908,'الرصيد الثابت'!$I$2:$I$115))","v":""},{"$f":"IF(B908=\"\",\"\",SUMIF('الرصيد الثابت'!$D$2:$D$115,B908,'الرصيد الثابت'!$J$2:$J$115))","v":""},null,0,null,null,null,null,0,null,null,null,0,null,0,null,null,null,null,null,null,null,null,null,null,null,null,null,null,null,null,null,null,null,null,null,null,null,null,null,null,null,null,null,null,null,null,null,null,null,null,null,null,null,null,null,null,null,null,null,null,null,null,null,null,null,null,null,null,null,null,null,null,null,null,null,null,null,null,null,{"$f":"IFERROR(VLOOKUP(ROWS($CF$3:CF908),$CH$3:$CI$2001,2,FALSE),\"\")","v":""},null,{"$f":"IF(ISNUMBER(SEARCH(B908,CI908)),MAX($CH$2:CH907)+1,0)","v":0}]
[null,null,{"$f":"IF(B911=\"\",\"\",SUMIF('الرصيد الثابت'!$D$2:$D$115,B911,'الرصيد الثابت'!$H$2:$H$115))","v":""},{"$f":"IF(B911=\"\",\"\",SUMIF('الرصيد الثابت'!$D$2:$D$115,B911,'الرصيد الثابت'!$I$2:$I$115))","v":""},{"$f":"IF(B911=\"\",\"\",SUMIF('الرصيد الثابت'!$D$2:$D$115,B911,'الرصيد الثابت'!$J$2:$J$115))","v":""},null,0,null,null,null,null,0,null,null,null,0,null,0,null,null,null,null,null,null,null,null,null,null,null,null,null,null,null,null,null,null,null,null,null,null,null,null,null,null,null,null,null,null,null,null,null,null,null,null,null,null,null,null,null,null,null,null,null,null,null,null,null,null,null,null,null,null,null,null,null,null,null,null,null,null,null,null,null,{"$f":"IFERROR(VLOOKUP(ROWS($CF$3:CF911),$CH$3:$CI$2001,2,FALSE),\"\")","v":""},null,{"$f":"IF(ISNUMBER(SEARCH(B911,CI911)),MAX($CH$2:CH910)+1,0)","v":0}]
[null,null,{"$f":"IF(B914=\"\",\"\",SUMIF('الرصيد الثابت'!$D$2:$D$115,B914,'الرصيد الثابت'!$H$2:$H$115))","v":""},{"$f":"IF(B914=\"\",\"\",SUMIF('الرصيد الثابت'!$D$2:$D$115,B914,'الرصيد الثابت'!$I$2:$I$115))","v":""},{"$f":"IF(B914=\"\",\"\",SUMIF('الرصيد الثابت'!$D$2:$D$115,B914,'الرصيد الثابت'!$J$2:$J$115))","v":""},null,0,null,null,null,null,0,null,null,null,0,null,0,null,null,null,null,null,null,null,null,null,null,null,null,null,null,null,null,null,null,null,null,null,null,null,null,null,null,null,null,null,null,null,null,null,null,null,null,null,null,null,null,null,null,null,null,null,null,null,null,null,null,null,null,null,null,null,null,null,null,null,null,null,null,null,null,null,{"$f":"IFERROR(VLOOKUP(ROWS($CF$3:CF914),$CH$3:$CI$2001,2,FALSE),\"\")","v":""},null,{"$f":"IF(ISNUMBER(SEARCH(B914,CI914)),MAX($CH$2:CH913)+1,0)","v":0}]
[null,null,{"$f":"IF(B917=\"\",\"\",SUMIF('الرصيد الثابت'!$D$2:$D$115,B917,'الرصيد الثابت'!$H$2:$H$115))","v":""},{"$f":"IF(B917=\"\",\"\",SUMIF('الرصيد الثابت'!$D$2:$D$115,B917,'الرصيد الثابت'!$I$2:$I$115))","v":""},{"$f":"IF(B917=\"\",\"\",SUMIF('الرصيد الثابت'!$D$2:$D$115,B917,'الرصيد الثابت'!$J$2:$J$115))","v":""},null,0,null,null,null,null,0,null,null,null,0,null,0,null,null,null,null,null,null,null,null,null,null,null,null,null,null,null,null,null,null,null,null,null,null,null,null,null,null,null,null,null,null,null,null,null,null,null,null,null,null,null,null,null,null,null,null,null,null,null,null,null,null,null,null,null,null,null,null,null,null,null,null,null,null,null,null,null,{"$f":"IFERROR(VLOOKUP(ROWS($CF$3:CF917),$CH$3:$CI$2001,2,FALSE),\"\")","v":""},null,{"$f":"IF(ISNUMBER(SEARCH(B917,CI917)),MAX($CH$2:CH916)+1,0)","v":0}]
[null,null,{"$f":"IF(B921=\"\",\"\",SUMIF('الرصيد الثابت'!$D$2:$D$115,B921,'الرصيد الثابت'!$H$2:$H$115))","v":""},{"$f":"IF(B921=\"\",\"\",SUMIF('الرصيد الثابت'!$D$2:$D$115,B921,'الرصيد الثابت'!$I$2:$I$115))","v":""},{"$f":"IF(B921=\"\",\"\",SUMIF('الرصيد الثابت'!$D$2:$D$115,B921,'الرصيد الثابت'!$J$2:$J$115))","v":""},null,0,null,null,null,null,0,null,null,null,0,null,0,null,null,null,null,null,null,null,null,null,null,null,null,null,null,null,null,null,null,null,null,null,null,null,null,null,null,null,null,null,null,null,null,null,null,null,null,null,null,null,null,null,null,null,null,null,null,null,null,null,null,null,null,null,null,null,null,null,null,null,null,null,null,null,null,null,{"$f":"IFERROR(VLOOKUP(ROWS($CF$3:CF921),$CH$3:$CI$2001,2,FALSE),\"\")","v":""},null,{"$f":"IF(ISNUMBER(SEARCH(B921,CI921)),MAX($CH$2:CH920)+1,0)","v":0}]
[null,null,{"$f":"IF(B922=\"\",\"\",SUMIF('الرصيد الثابت'!$D$2:$D$115,B922,'الرصيد الثابت'!$H$2:$H$115))","v":""},{"$f":"IF(B922=\"\",\"\",SUMIF('الرصيد الثابت'!$D$2:$D$115,B922,'الرصيد الثابت'!$I$2:$I$115))","v":""},{"$f":"IF(B922=\"\",\"\",SUMIF('الرصيد الثابت'!$D$2:$D$115,B922,'الرصيد الثابت'!$J$2:$J$115))","v":""},null,0,null,null,null,null,0,null,null,null,0,null,0,null,null,null,null,null,null,null,null,null,null,null,null,null,null,null,null,null,null,null,null,null,null,null,null,null,null,null,null,null,null,null,null,null,null,null,null,null,null,null,null,null,null,null,null,null,null,null,null,null,null,null,null,null,null,null,null,null,null,null,null,null,null,null,null,null,{"$f":"IFERROR(VLOOKUP(ROWS($CF$3:CF922),$CH$3:$CI$2001,2,FALSE),\"\")","v":""},null,{"$f":"IF(ISNUMBER(SEARCH(B922,CI922)),MAX($CH$2:CH921)+1,0)","v":0}]
[null,null,{"$f":"IF(B926=\"\",\"\",SUMIF('الرصيد الثابت'!$D$2:$D$115,B926,'الرصيد الثابت'!$H$2:$H$115))","v":""},{"$f":"IF(B926=\"\",\"\",SUMIF('الرصيد الثابت'!$D$2:$D$115,B926,'الرصيد الثابت'!$I$2:$I$115))","v":""},{"$f":"IF(B926=\"\",\"\",SUMIF('الرصيد الثابت'!$D$2:$D$115,B926,'الرصيد الثابت'!$J$2:$J$115))","v":""},null,0,null,null,null,null,0,null,null,null,0,null,0,null,null,null,null,null,null,null,null,null,null,null,null,null,null,null,null,null,null,null,null,null,null,null,null,null,null,null,null,null,null,null,null,null,null,null,null,null,null,null,null,null,null,null,null,null,null,null,null,null,null,null,null,null,null,null,null,null,null,null,null,null,null,null,null,null,{"$f":"IFERROR(VLOOKUP(ROWS($CF$3:CF926),$CH$3:$CI$2001,2,FALSE),\"\")","v":""},null,{"$f":"IF(ISNUMBER(SEARCH(B926,CI926)),MAX($CH$2:CH925)+1,0)","v":0}]
[null,null,{"$f":"IF(B927=\"\",\"\",SUMIF('الرصيد الثابت'!$D$2:$D$115,B927,'الرصيد الثابت'!$H$2:$H$115))","v":""},{"$f":"IF(B927=\"\",\"\",SUMIF('الرصيد الثابت'!$D$2:$D$115,B927,'الرصيد الثابت'!$I$2:$I$115))","v":""},{"$f":"IF(B927=\"\",\"\",SUMIF('الرصيد الثابت'!$D$2:$D$115,B927,'الرصيد الثابت'!$J$2:$J$115))","v":""},null,0,null,null,null,null,0,null,null,null,0,null,0,null,null,null,null,null,null,null,null,null,null,null,null,null,null,null,null,null,null,null,null,null,null,null,null,null,null,null,null,null,null,null,null,null,null,null,null,null,null,null,null,null,null,null,null,null,null,null,null,null,null,null,null,null,null,null,null,null,null,null,null,null,null,null,null,null,{"$f":"IFERROR(VLOOKUP(ROWS($CF$3:CF927),$CH$3:$CI$2001,2,FALSE),\"\")","v":""},null,{"$f":"IF(ISNUMBER(SEARCH(B927,CI927)),MAX($CH$2:CH926)+1,0)","v":0}]
[null,null,{"$f":"IF(B930=\"\",\"\",SUMIF('الرصيد الثابت'!$D$2:$D$115,B930,'الرصيد الثابت'!$H$2:$H$115))","v":""},{"$f":"IF(B930=\"\",\"\",SUMIF('الرصيد الثابت'!$D$2:$D$115,B930,'الرصيد الثابت'!$I$2:$I$115))","v":""},{"$f":"IF(B930=\"\",\"\",SUMIF('الرصيد الثابت'!$D$2:$D$115,B930,'الرصيد الثابت'!$J$2:$J$115))","v":""},null,0,null,null,null,null,0,null,null,null,0,null,0,null,null,null,null,null,null,null,null,null,null,null,null,null,null,null,null,null,null,null,null,null,null,null,null,null,null,null,null,null,null,null,null,null,null,null,null,null,null,null,null,null,null,null,null,null,null,null,null,null,null,null,null,null,null,null,null,null,null,null,null,null,null,null,null,null,{"$f":"IFERROR(VLOOKUP(ROWS($CF$3:CF930),$CH$3:$CI$2001,2,FALSE),\"\")","v":""},null,{"$f":"IF(ISNUMBER(SEARCH(B930,CI930)),MAX($CH$2:CH929)+1,0)","v":0}]
[null,null,{"$f":"IF(B933=\"\",\"\",SUMIF('الرصيد الثابت'!$D$2:$D$115,B933,'الرصيد الثابت'!$H$2:$H$115))","v":""},{"$f":"IF(B933=\"\",\"\",SUMIF('الرصيد الثابت'!$D$2:$D$115,B933,'الرصيد الثابت'!$I$2:$I$115))","v":""},{"$f":"IF(B933=\"\",\"\",SUMIF('الرصيد الثابت'!$D$2:$D$115,B933,'الرصيد الثابت'!$J$2:$J$115))","v":""},null,0,null,null,null,null,0,null,null,null,0,null,0,null,null,null,null,null,null,null,null,null,null,null,null,null,null,null,null,null,null,null,null,null,null,null,null,null,null,null,null,null,null,null,null,null,null,null,null,null,null,null,null,null,null,null,null,null,null,null,null,null,null,null,null,null,null,null,null,null,null,null,null,null,null,null,null,null,{"$f":"IFERROR(VLOOKUP(ROWS($CF$3:CF933),$CH$3:$CI$2001,2,FALSE),\"\")","v":""},null,{"$f":"IF(ISNUMBER(SEARCH(B933,CI933)),MAX($CH$2:CH932)+1,0)","v":0}]
[null,null,{"$f":"IF(B936=\"\",\"\",SUMIF('الرصيد الثابت'!$D$2:$D$115,B936,'الرصيد الثابت'!$H$2:$H$115))","v":""},{"$f":"IF(B936=\"\",\"\",SUMIF('الرصيد الثابت'!$D$2:$D$115,B936,'الرصيد الثابت'!$I$2:$I$115))","v":""},{"$f":"IF(B936=\"\",\"\",SUMIF('الرصيد الثابت'!$D$2:$D$115,B936,'الرصيد الثابت'!$J$2:$J$115))","v":""},null,0,null,null,null,null,0,null,null,null,0,null,0,null,null,null,null,null,null,null,null,null,null,null,null,null,null,null,null,null,null,null,null,null,null,null,null,null,null,null,null,null,null,null,null,null,null,null,null,null,null,null,null,null,null,null,null,null,null,null,null,null,null,null,null,null,null,null,null,null,null,null,null,null,null,null,null,null,{"$f":"IFERROR(VLOOKUP(ROWS($CF$3:CF936),$CH$3:$CI$2001,2,FALSE),\"\")","v":""},null,{"$f":"IF(ISNUMBER(SEARCH(B936,CI936)),MAX($CH$2:CH935)+1,0)","v":0}]
[null,null,{"$f":"IF(B939=\"\",\"\",SUMIF('الرصيد الثابت'!$D$2:$D$115,B939,'الرصيد الثابت'!$H$2:$H$115))","v":""},{"$f":"IF(B939=\"\",\"\",SUMIF('الرصيد الثابت'!$D$2:$D$115,B939,'الرصيد الثابت'!$I$2:$I$115))","v":""},{"$f":"IF(B939=\"\",\"\",SUMIF('الرصيد الثابت'!$D$2:$D$115,B939,'الرصيد الثابت'!$J$2:$J$115))","v":""},null,0,null,null,null,null,0,null,null,null,0,null,0,null,null,null,null,null,null,null,null,null,null,null,null,null,null,null,null,null,null,null,null,null,null,null,null,null,null,null,null,null,null,null,null,null,null,null,null,null,null,null,null,null,null,null,null,null,null,null,null,null,null,null,null,null,null,null,null,null,null,null,null,null,null,null,null,null,{"$f":"IFERROR(VLOOKUP(ROWS($CF$3:CF939),$CH$3:$CI$2001,2,FALSE),\"\")","v":""},null,{"$f":"IF(ISNUMBER(SEARCH(B939,CI939)),MAX($CH$2:CH938)+1,0)","v":0}]
[null,null,{"$f":"IF(B943=\"\",\"\",SUMIF('الرصيد الثابت'!$D$2:$D$115,B943,'الرصيد الثابت'!$H$2:$H$115))","v":""},{"$f":"IF(B943=\"\",\"\",SUMIF('الرصيد الثابت'!$D$2:$D$115,B943,'الرصيد الثابت'!$I$2:$I$115))","v":""},{"$f":"IF(B943=\"\",\"\",SUMIF('الرصيد الثابت'!$D$2:$D$115,B943,'الرصيد الثابت'!$J$2:$J$115))","v":""},null,0,null,null,null,null,0,null,null,null,0,null,0,null,null,null,null,null,null,null,null,null,null,null,null,null,null,null,null,null,null,null,null,null,null,null,null,null,null,null,null,null,null,null,null,null,null,null,null,null,null,null,null,null,null,null,null,null,null,null,null,null,null,null,null,null,null,null,null,null,null,null,null,null,null,null,null,null,{"$f":"IFERROR(VLOOKUP(ROWS($CF$3:CF943),$CH$3:$CI$2001,2,FALSE),\"\")","v":""},null,{"$f":"IF(ISNUMBER(SEARCH(B943,CI943)),MAX($CH$2:CH942)+1,0)","v":0}]
[null,null,{"$f":"IF(B944=\"\",\"\",SUMIF('الرصيد الثابت'!$D$2:$D$115,B944,'الرصيد الثابت'!$H$2:$H$115))","v":""},{"$f":"IF(B944=\"\",\"\",SUMIF('الرصيد الثابت'!$D$2:$D$115,B944,'الرصيد الثابت'!$I$2:$I$115))","v":""},{"$f":"IF(B944=\"\",\"\",SUMIF('الرصيد الثابت'!$D$2:$D$115,B944,'الرصيد الثابت'!$J$2:$J$115))","v":""},null,0,null,null,null,null,0,null,null,null,0,null,0,null,null,null,null,null,null,null,null,null,null,null,null,null,null,null,null,null,null,null,null,null,null,null,null,null,null,null,null,null,null,null,null,null,null,null,null,null,null,null,null,null,null,null,null,null,null,null,null,null,null,null,null,null,null,null,null,null,null,null,null,null,null,null,null,null,{"$f":"IFERROR(VLOOKUP(ROWS($CF$3:CF944),$CH$3:$CI$2001,2,FALSE),\"\")","v":""},null,{"$f":"IF(ISNUMBER(SEARCH(B944,CI944)),MAX($CH$2:CH943)+1,0)","v":0}]
[null,null,{"$f":"IF(B948=\"\",\"\",SUMIF('الرصيد الثابت'!$D$2:$D$115,B948,'الرصيد الثابت'!$H$2:$H$115))","v":""},{"$f":"IF(B948=\"\",\"\",SUMIF('الرصيد الثابت'!$D$2:$D$115,B948,'الرصيد الثابت'!$I$2:$I$115))","v":""},{"$f":"IF(B948=\"\",\"\",SUMIF('الرصيد الثابت'!$D$2:$D$115,B948,'الرصيد الثابت'!$J$2:$J$115))","v":""},null,0,null,null,null,null,0,null,null,null,0,null,0,null,null,null,null,null,null,null,null,null,null,null,null,null,null,null,null,null,null,null,null,null,null,null,null,null,null,null,null,null,null,null,null,null,null,null,null,null,null,null,null,null,null,null,null,null,null,null,null,null,null,null,null,null,null,null,null,null,null,null,null,null,null,null,null,null,{"$f":"IFERROR(VLOOKUP(ROWS($CF$3:CF948),$CH$3:$CI$2001,2,FALSE),\"\")","v":""},null,{"$f":"IF(ISNUMBER(SEARCH(B948,CI948)),MAX($CH$2:CH947)+1,0)","v":0}]
[null,null,{"$f":"IF(B949=\"\",\"\",SUMIF('الرصيد الثابت'!$D$2:$D$115,B949,'الرصيد الثابت'!$H$2:$H$115))","v":""},{"$f":"IF(B949=\"\",\"\",SUMIF('الرصيد الثابت'!$D$2:$D$115,B949,'الرصيد الثابت'!$I$2:$I$115))","v":""},{"$f":"IF(B949=\"\",\"\",SUMIF('الرصيد الثابت'!$D$2:$D$115,B949,'الرصيد الثابت'!$J$2:$J$115))","v":""},null,0,null,null,null,null,0,null,null,null,0,null,0,null,null,null,null,null,null,null,null,null,null,null,null,null,null,null,null,null,null,null,null,null,null,null,null,null,null,null,null,null,null,null,null,null,null,null,null,null,null,null,null,null,null,null,null,null,null,null,null,null,null,null,null,null,null,null,null,null,null,null,null,null,null,null,null,null,{"$f":"IFERROR(VLOOKUP(ROWS($CF$3:CF949),$CH$3:$CI$2001,2,FALSE),\"\")","v":""},null,{"$f":"IF(ISNUMBER(SEARCH(B949,CI949)),MAX($CH$2:CH948)+1,0)","v":0}]
[null,null,{"$f":"IF(B952=\"\",\"\",SUMIF('الرصيد الثابت'!$D$2:$D$115,B952,'الرصيد الثابت'!$H$2:$H$115))","v":""},{"$f":"IF(B952=\"\",\"\",SUMIF('الرصيد الثابت'!$D$2:$D$115,B952,'الرصيد الثابت'!$I$2:$I$115))","v":""},{"$f":"IF(B952=\"\",\"\",SUMIF('الرصيد الثابت'!$D$2:$D$115,B952,'الرصيد الثابت'!$J$2:$J$115))","v":""},null,0,null,null,null,null,0,null,null,null,{"$f":"SUM(#REF!-#REF!)","v":{"$error":"#REF!"}},null,0,null,null,null,null,null,null,null,null,null,null,null,null,null,null,null,null,null,null,null,null,null,null,null,null,null,null,null,null,null,null,null,null,null,null,null,null,null,null,null,null,null,null,null,null,null,null,null,null,null,null,null,null,null,null,null,null,null,null,null,null,null,null,null,null,null,{"$f":"IFERROR(VLOOKUP(ROWS($CF$3:CF952),$CH$3:$CI$2001,2,FALSE),\"\")","v":""},null,{"$f":"IF(ISNUMBER(SEARCH(B952,CI952)),MAX($CH$2:CH951)+1,0)","v":0}]
[null,null,{"$f":"IF(B955=\"\",\"\",SUMIF('الرصيد الثابت'!$D$2:$D$115,B955,'الرصيد الثابت'!$H$2:$H$115))","v":""},{"$f":"IF(B955=\"\",\"\",SUMIF('الرصيد الثابت'!$D$2:$D$115,B955,'الرصيد الثابت'!$I$2:$I$115))","v":""},{"$f":"IF(B955=\"\",\"\",SUMIF('الرصيد الثابت'!$D$2:$D$115,B955,'الرصيد الثابت'!$J$2:$J$115))","v":""},null,0,null,null,null,null,0,null,null,null,0,null,0,null,null,null,null,null,null,null,null,null,null,null,null,null,null,null,null,null,null,null,null,null,null,null,null,null,null,null,null,null,null,null,null,null,null,null,null,null,null,null,null,null,null,null,null,null,null,null,null,null,null,null,null,null,null,null,null,null,null,null,null,null,null,null,null,null,{"$f":"IFERROR(VLOOKUP(ROWS($CF$3:CF955),$CH$3:$CI$2001,2,FALSE),\"\")","v":""},null,{"$f":"IF(ISNUMBER(SEARCH(B955,CI955)),MAX($CH$2:CH954)+1,0)","v":0}]
[null,null,{"$f":"IF(B958=\"\",\"\",SUMIF('الرصيد الثابت'!$D$2:$D$115,B958,'الرصيد الثابت'!$H$2:$H$115))","v":""},{"$f":"IF(B958=\"\",\"\",SUMIF('الرصيد الثابت'!$D$2:$D$115,B958,'الرصيد الثابت'!$I$2:$I$115))","v":""},{"$f":"IF(B958=\"\",\"\",SUMIF('الرصيد الثابت'!$D$2:$D$115,B958,'الرصيد الثابت'!$J$2:$J$115))","v":""},null,0,null,null,null,null,0,null,null,null,0,null,0,null,null,null,null,null,null,null,null,null,null,null,null,null,null,null,null,null,null,null,null,null,null,null,null,null,null,null,null,null,null,null,null,null,null,null,null,null,null,null,null,null,null,null,null,null,null,null,null,null,null,null,null,null,null,null,null,null,null,null,null,null,null,null,null,null,{"$f":"IFERROR(VLOOKUP(ROWS($CF$3:CF958),$CH$3:$CI$2001,2,FALSE),\"\")","v":""},null,{"$f":"IF(ISNUMBER(SEARCH(B958,CI958)),MAX($CH$2:CH957)+1,0)","v":0}]
[null,null,{"$f":"IF(B961=\"\",\"\",SUMIF('الرصيد الثابت'!$D$2:$D$115,B961,'الرصيد الثابت'!$H$2:$H$115))","v":""},{"$f":"IF(B961=\"\",\"\",SUMIF('الرصيد الثابت'!$D$2:$D$115,B961,'الرصيد الثابت'!$I$2:$I$115))","v":""},{"$f":"IF(B961=\"\",\"\",SUMIF('الرصيد الثابت'!$D$2:$D$115,B961,'الرصيد الثابت'!$J$2:$J$115))","v":""},null,0,null,null,null,null,0,null,null,null,0,null,0,null,null,null,null,null,null,null,null,null,null,null,null,null,null,null,null,null,null,null,null,null,null,null,null,null,null,null,null,null,null,null,null,null,null,null,null,null,null,null,null,null,null,null,null,null,null,null,null,null,null,null,null,null,null,null,null,null,null,null,null,null,null,null,null,null,{"$f":"IFERROR(VLOOKUP(ROWS($CF$3:CF961),$CH$3:$CI$2001,2,FALSE),\"\")","v":""},null,{"$f":"IF(ISNUMBER(SEARCH(B961,CI961)),MAX($CH$2:CH960)+1,0)","v":0}]
[null,null,{"$f":"IF(B965=\"\",\"\",SUMIF('الرصيد الثابت'!$D$2:$D$115,B965,'الرصيد الثابت'!$H$2:$H$115))","v":""},{"$f":"IF(B965=\"\",\"\",SUMIF('الرصيد الثابت'!$D$2:$D$115,B965,'الرصيد الثابت'!$I$2:$I$115))","v":""},{"$f":"IF(B965=\"\",\"\",SUMIF('الرصيد الثابت'!$D$2:$D$115,B965,'الرصيد الثابت'!$J$2:$J$115))","v":""},null,0,null,null,null,null,0,null,null,null,0,null,0,null,null,null,null,null,null,null,null,null,null,null,null,null,null,null,null,null,null,null,null,null,null,null,null,null,null,null,null,null,null,null,null,null,null,null,null,null,null,null,null,null,null,null,null,null,null,null,null,null,null,null,null,null,null,null,null,null,null,null,null,null,null,null,null,null,{"$f":"IFERROR(VLOOKUP(ROWS($CF$3:CF965),$CH$3:$CI$2001,2,FALSE),\"\")","v":""},null,{"$f":"IF(ISNUMBER(SEARCH(B965,CI965)),MAX($CH$2:CH964)+1,0)","v":0}]
[null,null,{"$f":"IF(B966=\"\",\"\",SUMIF('الرصيد الثابت'!$D$2:$D$115,B966,'الرصيد الثابت'!$H$2:$H$115))","v":""},{"$f":"IF(B966=\"\",\"\",SUMIF('الرصيد الثابت'!$D$2:$D$115,B966,'الرصيد الثابت'!$I$2:$I$115))","v":""},{"$f":"IF(B966=\"\",\"\",SUMIF('الرصيد الثابت'!$D$2:$D$115,B966,'الرصيد الثابت'!$J$2:$J$115))","v":""},null,0,null,null,null,null,0,null,null,null,0,null,0,null,null,null,null,null,null,null,null,null,null,null,null,null,null,null,null,null,null,null,null,null,null,null,null,null,null,null,null,null,null,null,null,null,null,null,null,null,null,null,null,null,null,null,null,null,null,null,null,null,null,null,null,null,null,null,null,null,null,null,null,null,null,null,null,null,{"$f":"IFERROR(VLOOKUP(ROWS($CF$3:CF966),$CH$3:$CI$2001,2,FALSE),\"\")","v":""},null,{"$f":"IF(ISNUMBER(SEARCH(B966,CI966)),MAX($CH$2:CH965)+1,0)","v":0}]
[null,null,{"$f":"IF(B970=\"\",\"\",SUMIF('الرصيد الثابت'!$D$2:$D$115,B970,'الرصيد الثابت'!$H$2:$H$115))","v":""},{"$f":"IF(B970=\"\",\"\",SUMIF('الرصيد الثابت'!$D$2:$D$115,B970,'الرصيد الثابت'!$I$2:$I$115))","v":""},{"$f":"IF(B970=\"\",\"\",SUMIF('الرصيد الثابت'!$D$2:$D$115,B970,'الرصيد الثابت'!$J$2:$J$115))","v":""},null,0,null,null,null,null,0,null,null,null,0,null,0,null,null,null,null,null,null,null,null,null,null,null,null,null,null,null,null,null,null,null,null,null,null,null,null,null,null,null,null,null,null,null,null,null,null,null,null,null,null,null,null,null,null,null,null,null,null,null,null,null,null,null,null,null,null,null,null,null,null,null,null,null,null,null,null,null,{"$f":"IFERROR(VLOOKUP(ROWS($CF$3:CF970),$CH$3:$CI$2001,2,FALSE),\"\")","v":""},null,{"$f":"IF(ISNUMBER(SEARCH(B970,CI970)),MAX($CH$2:CH969)+1,0)","v":0}]
[null,null,{"$f":"IF(B971=\"\",\"\",SUMIF('الرصيد الثابت'!$D$2:$D$115,B971,'الرصيد الثابت'!$H$2:$H$115))","v":""},{"$f":"IF(B971=\"\",\"\",SUMIF('الرصيد الثابت'!$D$2:$D$115,B971,'الرصيد الثابت'!$I$2:$I$115))","v":""},{"$f":"IF(B971=\"\",\"\",SUMIF('الرصيد الثابت'!$D$2:$D$115,B971,'الرصيد الثابت'!$J$2:$J$115))","v":""},null,0,null,null,null,null,0,null,null,null,0,null,0,null,null,null,null,null,null,null,null,null,null,null,null,null,null,null,null,null,null,null,null,null,null,null,null,null,null,null,null,null,null,null,null,null,null,null,null,null,null,null,null,null,null,null,null,null,null,null,null,null,null,null,null,null,null,null,null,null,null,null,null,null,null,null,null,null,{"$f":"IFERROR(VLOOKUP(ROWS($CF$3:CF971),$CH$3:$CI$2001,2,FALSE),\"\")","v":""},null,{"$f":"IF(ISNUMBER(SEARCH(B971,CI971)),MAX($CH$2:CH970)+1,0)","v":0}]
[null,null,{"$f":"IF(B974=\"\",\"\",SUMIF('الرصيد الثابت'!$D$2:$D$115,B974,'الرصيد الثابت'!$H$2:$H$115))","v":""},{"$f":"IF(B974=\"\",\"\",SUMIF('الرصيد الثابت'!$D$2:$D$115,B974,'الرصيد الثابت'!$I$2:$I$115))","v":""},{"$f":"IF(B974=\"\",\"\",SUMIF('الرصيد الثابت'!$D$2:$D$115,B974,'الرصيد الثابت'!$J$2:$J$115))","v":""},null,0,null,null,null,null,0,null,null,null,0,null,0,null,null,null,null,null,null,null,null,null,null,null,null,null,null,null,null,null,null,null,null,null,null,null,null,null,null,null,null,null,null,null,null,null,null,null,null,null,null,null,null,null,null,null,null,null,null,null,null,null,null,null,null,null,null,null,null,null,null,null,null,null,null,null,null,null,{"$f":"IFERROR(VLOOKUP(ROWS($CF$3:CF974),$CH$3:$CI$2001,2,FALSE),\"\")","v":""},null,{"$f":"IF(ISNUMBER(SEARCH(B974,CI974)),MAX($CH$2:CH973)+1,0)","v":0}]
[null,null,{"$f":"IF(B977=\"\",\"\",SUMIF('الرصيد الثابت'!$D$2:$D$115,B977,'الرصيد الثابت'!$H$2:$H$115))","v":""},{"$f":"IF(B977=\"\",\"\",SUMIF('الرصيد الثابت'!$D$2:$D$115,B977,'الرصيد الثابت'!$I$2:$I$115))","v":""},{"$f":"IF(B977=\"\",\"\",SUMIF('الرصيد الثابت'!$D$2:$D$115,B977,'الرصيد الثابت'!$J$2:$J$115))","v":""},null,0,null,null,null,null,0,null,null,null,0,null,0,null,null,null,null,null,null,null,null,null,null,null,null,null,null,null,null,null,null,null,null,null,null,null,null,null,null,null,null,null,null,null,null,null,null,null,null,null,null,null,null,null,null,null,null,null,null,null,null,null,null,null,null,null,null,null,null,null,null,null,null,null,null,null,null,null,{"$f":"IFERROR(VLOOKUP(ROWS($CF$3:CF977),$CH$3:$CI$2001,2,FALSE),\"\")","v":""},null,{"$f":"IF(ISNUMBER(SEARCH(B977,CI977)),MAX($CH$2:CH976)+1,0)","v":0}]
[null,null,{"$f":"IF(B980=\"\",\"\",SUMIF('الرصيد الثابت'!$D$2:$D$115,B980,'الرصيد الثابت'!$H$2:$H$115))","v":""},{"$f":"IF(B980=\"\",\"\",SUMIF('الرصيد الثابت'!$D$2:$D$115,B980,'الرصيد الثابت'!$I$2:$I$115))","v":""},{"$f":"IF(B980=\"\",\"\",SUMIF('الرصيد الثابت'!$D$2:$D$115,B980,'الرصيد الثابت'!$J$2:$J$115))","v":""},null,0,null,null,null,null,0,null,null,null,0,null,0,null,null,null,null,null,null,null,null,null,null,null,null,null,null,null,null,null,null,null,null,null,null,null,null,null,null,null,null,null,null,null,null,null,null,null,null,null,null,null,null,null,null,null,null,null,null,null,null,null,null,null,null,null,null,null,null,null,null,null,null,null,null,null,null,null,{"$f":"IFERROR(VLOOKUP(ROWS($CF$3:CF980),$CH$3:$CI$2001,2,FALSE),\"\")","v":""},null,{"$f":"IF(ISNUMBER(SEARCH(B980,CI980)),MAX($CH$2:CH979)+1,0)","v":0}]
[null,null,{"$f":"IF(B983=\"\",\"\",SUMIF('الرصيد الثابت'!$D$2:$D$115,B983,'الرصيد الثابت'!$H$2:$H$115))","v":""},{"$f":"IF(B983=\"\",\"\",SUMIF('الرصيد الثابت'!$D$2:$D$115,B983,'الرصيد الثابت'!$I$2:$I$115))","v":""},{"$f":"IF(B983=\"\",\"\",SUMIF('الرصيد الثابت'!$D$2:$D$115,B983,'الرصيد الثابت'!$J$2:$J$115))","v":""},null,0,null,null,null,null,0,null,null,null,0,null,0,null,null,null,null,null,null,null,null,null,null,null,null,null,null,null,null,null,null,null,null,null,null,null,null,null,null,null,null,null,null,null,null,null,null,null,null,null,null,null,null,null,null,null,null,null,null,null,null,null,null,null,null,null,null,null,null,null,null,null,null,null,null,null,null,null,{"$f":"IFERROR(VLOOKUP(ROWS($CF$3:CF983),$CH$3:$CI$2001,2,FALSE),\"\")","v":""},null,{"$f":"IF(ISNUMBER(SEARCH(B983,CI983)),MAX($CH$2:CH982)+1,0)","v":0}]
[null,null,{"$f":"IF(B987=\"\",\"\",SUMIF('الرصيد الثابت'!$D$2:$D$115,B987,'الرصيد الثابت'!$H$2:$H$115))","v":""},{"$f":"IF(B987=\"\",\"\",SUMIF('الرصيد الثابت'!$D$2:$D$115,B987,'الرصيد الثابت'!$I$2:$I$115))","v":""},{"$f":"IF(B987=\"\",\"\",SUMIF('الرصيد الثابت'!$D$2:$D$115,B987,'الرصيد الثابت'!$J$2:$J$115))","v":""},null,0,null,null,null,null,0,null,null,null,0,null,0,null,null,null,null,null,null,null,null,null,null,null,null,null,null,null,null,null,null,null,null,null,null,null,null,null,null,null,null,null,null,null,null,null,null,null,null,null,null,null,null,null,null,null,null,null,null,null,null,null,null,null,null,null,null,null,null,null,null,null,null,null,null,null,null,null,{"$f":"IFERROR(VLOOKUP(ROWS($CF$3:CF987),$CH$3:$CI$2001,2,FALSE),\"\")","v":""},null,{"$f":"IF(ISNUMBER(SEARCH(B987,CI987)),MAX($CH$2:CH986)+1,0)","v":0}]
[null,null,{"$f":"IF(B988=\"\",\"\",SUMIF('الرصيد الثابت'!$D$2:$D$115,B988,'الرصيد الثابت'!$H$2:$H$115))","v":""},{"$f":"IF(B988=\"\",\"\",SUMIF('الرصيد الثابت'!$D$2:$D$115,B988,'الرصيد الثابت'!$I$2:$I$115))","v":""},{"$f":"IF(B988=\"\",\"\",SUMIF('الرصيد الثابت'!$D$2:$D$115,B988,'الرصيد الثابت'!$J$2:$J$115))","v":""},null,0,null,null,null,null,0,null,null,null,0,null,0,null,null,null,null,null,null,null,null,null,null,null,null,null,null,null,null,null,null,null,null,null,null,null,null,null,null,null,null,null,null,null,null,null,null,null,null,null,null,null,null,null,null,null,null,null,null,null,null,null,null,null,null,null,null,null,null,null,null,null,null,null,null,null,null,null,{"$f":"IFERROR(VLOOKUP(ROWS($CF$3:CF988),$CH$3:$CI$2001,2,FALSE),\"\")","v":""},null,{"$f":"IF(ISNUMBER(SEARCH(B988,CI988)),MAX($CH$2:CH987)+1,0)","v":0}]
[null,null,{"$f":"IF(B992=\"\",\"\",SUMIF('الرصيد الثابت'!$D$2:$D$115,B992,'الرصيد الثابت'!$H$2:$H$115))","v":""},{"$f":"IF(B992=\"\",\"\",SUMIF('الرصيد الثابت'!$D$2:$D$115,B992,'الرصيد الثابت'!$I$2:$I$115))","v":""},{"$f":"IF(B992=\"\",\"\",SUMIF('الرصيد الثابت'!$D$2:$D$115,B992,'الرصيد الثابت'!$J$2:$J$115))","v":""},null,0,null,null,null,null,0,null,null,null,0,null,0,null,null,null,null,null,null,null,null,null,null,null,null,null,null,null,null,null,null,null,null,null,null,null,null,null,null,null,null,null,null,null,null,null,null,null,null,null,null,null,null,null,null,null,null,null,null,null,null,null,null,null,null,null,null,null,null,null,null,null,null,null,null,null,null,null,{"$f":"IFERROR(VLOOKUP(ROWS($CF$3:CF992),$CH$3:$CI$2001,2,FALSE),\"\")","v":""},null,{"$f":"IF(ISNUMBER(SEARCH(B992,CI992)),MAX($CH$2:CH991)+1,0)","v":0}]
[null,null,{"$f":"IF(B993=\"\",\"\",SUMIF('الرصيد الثابت'!$D$2:$D$115,B993,'الرصيد الثابت'!$H$2:$H$115))","v":""},{"$f":"IF(B993=\"\",\"\",SUMIF('الرصيد الثابت'!$D$2:$D$115,B993,'الرصيد الثابت'!$I$2:$I$115))","v":""},{"$f":"IF(B993=\"\",\"\",SUMIF('الرصيد الثابت'!$D$2:$D$115,B993,'الرصيد الثابت'!$J$2:$J$115))","v":""},null,0,null,null,null,null,0,null,null,null,0,null,0,null,null,null,null,null,null,null,null,null,null,null,null,null,null,null,null,null,null,null,null,null,null,null,null,null,null,null,null,null,null,null,null,null,null,null,null,null,null,null,null,null,null,null,null,null,null,null,null,null,null,null,null,null,null,null,null,null,null,null,null,null,null,null,null,null,{"$f":"IFERROR(VLOOKUP(ROWS($CF$3:CF993),$CH$3:$CI$2001,2,FALSE),\"\")","v":""},null,{"$f":"IF(ISNUMBER(SEARCH(B993,CI993)),MAX($CH$2:CH992)+1,0)","v":0}]
[null,null,{"$f":"IF(B996=\"\",\"\",SUMIF('الرصيد الثابت'!$D$2:$D$115,B996,'الرصيد الثابت'!$H$2:$H$115))","v":""},{"$f":"IF(B996=\"\",\"\",SUMIF('الرصيد الثابت'!$D$2:$D$115,B996,'الرصيد الثابت'!$I$2:$I$115))","v":""},{"$f":"IF(B996=\"\",\"\",SUMIF('الرصيد الثابت'!$D$2:$D$115,B996,'الرصيد الثابت'!$J$2:$J$115))","v":""},null,0,null,null,null,null,0,null,null,null,0,null,0,null,null,null,null,null,null,null,null,null,null,null,null,null,null,null,null,null,null,null,null,null,null,null,null,null,null,null,null,null,null,null,null,null,null,null,null,null,null,null,null,null,null,null,null,null,null,null,null,null,null,null,null,null,null,null,null,null,null,null,null,null,null,null,null,null,{"$f":"IFERROR(VLOOKUP(ROWS($CF$3:CF996),$CH$3:$CI$2001,2,FALSE),\"\")","v":""},null,{"$f":"IF(ISNUMBER(SEARCH(B996,CI996)),MAX($CH$2:CH995)+1,0)","v":0}]
[null,null,{"$f":"IF(B999=\"\",\"\",SUMIF('الرصيد الثابت'!$D$2:$D$115,B999,'الرصيد الثابت'!$H$2:$H$115))","v":""},{"$f":"IF(B999=\"\",\"\",SUMIF('الرصيد الثابت'!$D$2:$D$115,B999,'الرصيد الثابت'!$I$2:$I$115))","v":""},{"$f":"IF(B999=\"\",\"\",SUMIF('الرصيد الثابت'!$D$2:$D$115,B999,'الرصيد الثابت'!$J$2:$J$115))","v":""},null,0,null,null,null,null,0,null,null,null,0,null,0,null,null,null,null,null,null,null,null,null,null,null,null,null,null,null,null,null,null,null,null,null,null,null,null,null,null,null,null,null,null,null,null,null,null,null,null,null,null,null,null,null,null,null,null,null,null,null,null,null,null,null,null,null,null,null,null,null,null,null,null,null,null,null,null,null,{"$f":"IFERROR(VLOOKUP(ROWS($CF$3:CF999),$CH$3:$CI$2001,2,FALSE),\"\")","v":""},null,{"$f":"IF(ISNUMBER(SEARCH(B999,CI999)),MAX($CH$2:CH998)+1,0)","v":0}]
[null,null,{"$f":"IF(B1002=\"\",\"\",SUMIF('الرصيد الثابت'!$D$2:$D$115,B1002,'الرصيد الثابت'!$H$2:$H$115))","v":""},{"$f":"IF(B1002=\"\",\"\",SUMIF('الرصيد الثابت'!$D$2:$D$115,B1002,'الرصيد الثابت'!$I$2:$I$115))","v":""},{"$f":"IF(B1002=\"\",\"\",SUMIF('الرصيد الثابت'!$D$2:$D$115,B1002,'الرصيد الثابت'!$J$2:$J$115))","v":""},null,0,null,null,null,null,0,null,null,null,0,null,0,null,null,null,null,null,null,null,null,null,null,null,null,null,null,null,null,null,null,null,null,null,null,null,null,null,null,null,null,null,null,null,null,null,null,null,null,null,null,null,null,null,null,null,null,null,null,null,null,null,null,null,null,null,null,null,null,null,null,null,null,null,null,null,null,null,{"$f":"IFERROR(VLOOKUP(ROWS($CF$3:CF1002),$CH$3:$CI$2001,2,FALSE),\"\")","v":""},null,{"$f":"IF(ISNUMBER(SEARCH(B1002,CI1002)),MAX($CH$2:CH1001)+1,0)","v":0}]
[null,null,{"$f":"IF(B1005=\"\",\"\",SUMIF('الرصيد الثابت'!$D$2:$D$115,B1005,'الرصيد الثابت'!$H$2:$H$115))","v":""},{"$f":"IF(B1005=\"\",\"\",SUMIF('الرصيد الثابت'!$D$2:$D$115,B1005,'الرصيد الثابت'!$I$2:$I$115))","v":""},{"$f":"IF(B1005=\"\",\"\",SUMIF('الرصيد الثابت'!$D$2:$D$115,B1005,'الرصيد الثابت'!$J$2:$J$115))","v":""},null,0,null,null,null,null,0,null,null,null,0,null,0,null,null,null,null,null,null,null,null,null,null,null,null,null,null,null,null,null,null,null,null,null,null,null,null,null,null,null,null,null,null,null,null,null,null,null,null,null,null,null,null,null,null,null,null,null,null,null,null,null,null,null,null,null,null,null,null,null,null,null,null,null,null,null,null,null,{"$f":"IFERROR(VLOOKUP(ROWS($CF$3:CF1005),$CH$3:$CI$2001,2,FALSE),\"\")","v":""},null,{"$f":"IF(ISNUMBER(SEARCH(B1005,CI1005)),MAX($CH$2:CH1004)+1,0)","v":0}]
[null,null,{"$f":"IF(B1009=\"\",\"\",SUMIF('الرصيد الثابت'!$D$2:$D$115,B1009,'الرصيد الثابت'!$H$2:$H$115))","v":""},{"$f":"IF(B1009=\"\",\"\",SUMIF('الرصيد الثابت'!$D$2:$D$115,B1009,'الرصيد الثابت'!$I$2:$I$115))","v":""},{"$f":"IF(B1009=\"\",\"\",SUMIF('الرصيد الثابت'!$D$2:$D$115,B1009,'الرصيد الثابت'!$J$2:$J$115))","v":""},null,0,null,null,null,null,0,null,null,null,0,null,0,null,null,null,null,null,null,null,null,null,null,null,null,null,null,null,null,null,null,null,null,null,null,null,null,null,null,null,null,null,null,null,null,null,null,null,null,null,null,null,null,null,null,null,null,null,null,null,null,null,null,null,null,null,null,null,null,null,null,null,null,null,null,null,null,null,{"$f":"IFERROR(VLOOKUP(ROWS($CF$3:CF1009),$CH$3:$CI$2001,2,FALSE),\"\")","v":""},null,{"$f":"IF(ISNUMBER(SEARCH(B1009,CI1009)),MAX($CH$2:CH1008)+1,0)","v":0}]
[null,null,{"$f":"IF(B1010=\"\",\"\",SUMIF('الرصيد الثابت'!$D$2:$D$115,B1010,'الرصيد الثابت'!$H$2:$H$115))","v":""},{"$f":"IF(B1010=\"\",\"\",SUMIF('الرصيد الثابت'!$D$2:$D$115,B1010,'الرصيد الثابت'!$I$2:$I$115))","v":""},{"$f":"IF(B1010=\"\",\"\",SUMIF('الرصيد الثابت'!$D$2:$D$115,B1010,'الرصيد الثابت'!$J$2:$J$115))","v":""},null,0,null,null,null,null,0,null,null,null,0,null,0,null,null,null,null,null,null,null,null,null,null,null,null,null,null,null,null,null,null,null,null,null,null,null,null,null,null,null,null,null,null,null,null,null,null,null,null,null,null,null,null,null,null,null,null,null,null,null,null,null,null,null,null,null,null,null,null,null,null,null,null,null,null,null,null,null,{"$f":"IFERROR(VLOOKUP(ROWS($CF$3:CF1010),$CH$3:$CI$2001,2,FALSE),\"\")","v":""},null,{"$f":"IF(ISNUMBER(SEARCH(B1010,CI1010)),MAX($CH$2:CH1009)+1,0)","v":0}]
[null,null,{"$f":"IF(B1012=\"\",\"\",SUMIF('الرصيد الثابت'!$D$2:$D$115,B1012,'الرصيد الثابت'!$H$2:$H$115))","v":""},{"$f":"IF(B1012=\"\",\"\",SUMIF('الرصيد الثابت'!$D$2:$D$115,B1012,'الرصيد الثابت'!$I$2:$I$115))","v":""},{"$f":"IF(B1012=\"\",\"\",SUMIF('الرصيد الثابت'!$D$2:$D$115,B1012,'الرصيد الثابت'!$J$2:$J$115))","v":""},null,0,null,null,null,null,0,null,null,null,0,null,0,null,null,null,null,null,null,null,null,null,null,null,null,null,null,null,null,null,null,null,null,null,null,null,null,null,null,null,null,null,null,null,null,null,null,null,null,null,null,null,null,null,null,null,null,null,null,null,null,null,null,null,null,null,null,null,null,null,null,null,null,null,null,null,null,null,{"$f":"IFERROR(VLOOKUP(ROWS($CF$3:CF1012),$CH$3:$CI$2001,2,FALSE),\"\")","v":""},null,{"$f":"IF(ISNUMBER(SEARCH(B1012,CI1012)),MAX($CH$2:CH1011)+1,0)","v":0}]
[null,null,{"$f":"IF(B1015=\"\",\"\",SUMIF('الرصيد الثابت'!$D$2:$D$115,B1015,'الرصيد الثابت'!$H$2:$H$115))","v":""},{"$f":"IF(B1015=\"\",\"\",SUMIF('الرصيد الثابت'!$D$2:$D$115,B1015,'الرصيد الثابت'!$I$2:$I$115))","v":""},{"$f":"IF(B1015=\"\",\"\",SUMIF('الرصيد الثابت'!$D$2:$D$115,B1015,'الرصيد الثابت'!$J$2:$J$115))","v":""},null,0,null,null,null,null,0,null,null,null,0,null,0,null,null,null,null,null,null,null,null,null,null,null,null,null,null,null,null,null,null,null,null,null,null,null,null,null,null,null,null,null,null,null,null,null,null,null,null,null,null,null,null,null,null,null,null,null,null,null,null,null,null,null,null,null,null,null,null,null,null,null,null,null,null,null,null,null,{"$f":"IFERROR(VLOOKUP(ROWS($CF$3:CF1015),$CH$3:$CI$2001,2,FALSE),\"\")","v":""},null,{"$f":"IF(ISNUMBER(SEARCH(B1015,CI1015)),MAX($CH$2:CH1014)+1,0)","v":0}]
[null,null,{"$f":"IF(B1018=\"\",\"\",SUMIF('الرصيد الثابت'!$D$2:$D$115,B1018,'الرصيد الثابت'!$H$2:$H$115))","v":""},{"$f":"IF(B1018=\"\",\"\",SUMIF('الرصيد الثابت'!$D$2:$D$115,B1018,'الرصيد الثابت'!$I$2:$I$115))","v":""},{"$f":"IF(B1018=\"\",\"\",SUMIF('الرصيد الثابت'!$D$2:$D$115,B1018,'الرصيد الثابت'!$J$2:$J$115))","v":""},null,0,null,null,null,null,0,null,null,null,0,null,0,null,null,null,null,null,null,null,null,null,null,null,null,null,null,null,null,null,null,null,null,null,null,null,null,null,null,null,null,null,null,null,null,null,null,null,null,null,null,null,null,null,null,null,null,null,null,null,null,null,null,null,null,null,null,null,null,null,null,null,null,null,null,null,null,null,{"$f":"IFERROR(VLOOKUP(ROWS($CF$3:CF1018),$CH$3:$CI$2001,2,FALSE),\"\")","v":""},null,{"$f":"IF(ISNUMBER(SEARCH(B1018,CI1018)),MAX($CH$2:CH1017)+1,0)","v":0}]
[null,null,{"$f":"IF(B1021=\"\",\"\",SUMIF('الرصيد الثابت'!$D$2:$D$115,B1021,'الرصيد الثابت'!$H$2:$H$115))","v":""},{"$f":"IF(B1021=\"\",\"\",SUMIF('الرصيد الثابت'!$D$2:$D$115,B1021,'الرصيد الثابت'!$I$2:$I$115))","v":""},{"$f":"IF(B1021=\"\",\"\",SUMIF('الرصيد الثابت'!$D$2:$D$115,B1021,'الرصيد الثابت'!$J$2:$J$115))","v":""},null,0,null,null,null,null,0,null,null,null,0,null,0,null,null,null,null,null,null,null,null,null,null,null,null,null,null,null,null,null,null,null,null,null,null,null,null,null,null,null,null,null,null,null,null,null,null,null,null,null,null,null,null,null,null,null,null,null,null,null,null,null,null,null,null,null,null,null,null,null,null,null,null,null,null,null,null,null,{"$f":"IFERROR(VLOOKUP(ROWS($CF$3:CF1021),$CH$3:$CI$2001,2,FALSE),\"\")","v":""},null,{"$f":"IF(ISNUMBER(SEARCH(B1021,CI1021)),MAX($CH$2:CH1020)+1,0)","v":0}]
[null,null,{"$f":"IF(B1024=\"\",\"\",SUMIF('الرصيد الثابت'!$D$2:$D$115,B1024,'الرصيد الثابت'!$H$2:$H$115))","v":""},{"$f":"IF(B1024=\"\",\"\",SUMIF('الرصيد الثابت'!$D$2:$D$115,B1024,'الرصيد الثابت'!$I$2:$I$115))","v":""},{"$f":"IF(B1024=\"\",\"\",SUMIF('الرصيد الثابت'!$D$2:$D$115,B1024,'الرصيد الثابت'!$J$2:$J$115))","v":""},null,0,null,null,null,null,0,null,null,null,0,null,0,null,null,null,null,null,null,null,null,null,null,null,null,null,null,null,null,null,null,null,null,null,null,null,null,null,null,null,null,null,null,null,null,null,null,null,null,null,null,null,null,null,null,null,null,null,null,null,null,null,null,null,null,null,null,null,null,null,null,null,null,null,null,null,null,null,{"$f":"IFERROR(VLOOKUP(ROWS($CF$3:CF1024),$CH$3:$CI$2001,2,FALSE),\"\")","v":""},null,{"$f":"IF(ISNUMBER(SEARCH(B1024,CI1024)),MAX($CH$2:CH1023)+1,0)","v":0}]
[null,null,{"$f":"IF(B1027=\"\",\"\",SUMIF('الرصيد الثابت'!$D$2:$D$115,B1027,'الرصيد الثابت'!$H$2:$H$115))","v":""},{"$f":"IF(B1027=\"\",\"\",SUMIF('الرصيد الثابت'!$D$2:$D$115,B1027,'الرصيد الثابت'!$I$2:$I$115))","v":""},{"$f":"IF(B1027=\"\",\"\",SUMIF('الرصيد الثابت'!$D$2:$D$115,B1027,'الرصيد الثابت'!$J$2:$J$115))","v":""},null,0,null,null,null,null,{"$f":"SUM(M1027*K1027)","v":0},null,null,null,0,null,0,null,null,null,null,null,null,null,null,null,null,null,null,null,null,null,null,null,null,null,null,null,null,null,null,null,null,null,null,null,null,null,null,null,null,null,null,null,null,null,null,null,null,null,null,null,null,null,null,null,null,null,null,null,null,null,null,null,null,null,null,null,null,null,null,null,{"$f":"IFERROR(VLOOKUP(ROWS($CF$3:CF1027),$CH$3:$CI$2001,2,FALSE),\"\")","v":""},null,{"$f":"IF(ISNUMBER(SEARCH(B1027,CI1027)),MAX($CH$2:CH1026)+1,0)","v":0}]
[null,null,{"$f":"IF(B1031=\"\",\"\",SUMIF('الرصيد الثابت'!$D$2:$D$115,B1031,'الرصيد الثابت'!$H$2:$H$115))","v":""},{"$f":"IF(B1031=\"\",\"\",SUMIF('الرصيد الثابت'!$D$2:$D$115,B1031,'الرصيد الثابت'!$I$2:$I$115))","v":""},{"$f":"IF(B1031=\"\",\"\",SUMIF('الرصيد الثابت'!$D$2:$D$115,B1031,'الرصيد الثابت'!$J$2:$J$115))","v":""},null,0,null,null,null,null,0,null,null,null,0,null,{"$f":"SUM(S1031*Q1031)","v":0},null,null,null,null,null,null,null,null,null,null,null,null,null,null,null,null,null,null,null,null,null,null,null,null,null,null,null,null,null,null,null,null,null,null,null,null,null,null,null,null,null,null,null,null,null,null,null,null,null,null,null,null,null,null,null,null,null,null,null,null,null,null,null,null,null,{"$f":"IFERROR(VLOOKUP(ROWS($CF$3:CF1031),$CH$3:$CI$2001,2,FALSE),\"\")","v":""},null,{"$f":"IF(ISNUMBER(SEARCH(B1031,CI1031)),MAX($CH$2:CH1030)+1,0)","v":0}]
[null,null,{"$f":"IF(B1032=\"\",\"\",SUMIF('الرصيد الثابت'!$D$2:$D$115,B1032,'الرصيد الثابت'!$H$2:$H$115))","v":""},{"$f":"IF(B1032=\"\",\"\",SUMIF('الرصيد الثابت'!$D$2:$D$115,B1032,'الرصيد الثابت'!$I$2:$I$115))","v":""},{"$f":"IF(B1032=\"\",\"\",SUMIF('الرصيد الثابت'!$D$2:$D$115,B1032,'الرصيد الثابت'!$J$2:$J$115))","v":""},null,0,null,null,null,null,0,null,null,null,0,null,0,null,null,null,null,null,null,null,null,null,null,null,null,null,null,null,null,null,null,null,null,null,null,null,null,null,null,null,null,null,null,null,null,null,null,null,null,null,null,null,null,null,null,null,null,null,null,null,null,null,null,null,null,null,null,null,null,null,null,null,null,null,null,null,null,null,{"$f":"IFERROR(VLOOKUP(ROWS($CF$3:CF1032),$CH$3:$CI$2001,2,FALSE),\"\")","v":""},null,{"$f":"IF(ISNUMBER(SEARCH(B1032,CI1032)),MAX($CH$2:CH1031)+1,0)","v":0}]
[null,null,{"$f":"IF(B1034=\"\",\"\",SUMIF('الرصيد الثابت'!$D$2:$D$115,B1034,'الرصيد الثابت'!$H$2:$H$115))","v":""},{"$f":"IF(B1034=\"\",\"\",SUMIF('الرصيد الثابت'!$D$2:$D$115,B1034,'الرصيد الثابت'!$I$2:$I$115))","v":""},{"$f":"IF(B1034=\"\",\"\",SUMIF('الرصيد الثابت'!$D$2:$D$115,B1034,'الرصيد الثابت'!$J$2:$J$115))","v":""},null,0,null,null,null,null,0,null,null,null,0,null,0,null,null,null,null,null,null,null,null,null,null,null,null,null,null,null,null,null,null,null,null,null,null,null,null,null,null,null,null,null,null,null,null,null,null,null,null,null,null,null,null,null,null,null,null,null,null,null,null,null,null,null,null,null,null,null,null,null,null,null,null,null,null,null,null,null,{"$f":"IFERROR(VLOOKUP(ROWS($CF$3:CF1034),$CH$3:$CI$2001,2,FALSE),\"\")","v":""},null,{"$f":"IF(ISNUMBER(SEARCH(B1034,CI1034)),MAX($CH$2:CH1033)+1,0)","v":0}]
[null,null,{"$f":"IF(B1037=\"\",\"\",SUMIF('الرصيد الثابت'!$D$2:$D$115,B1037,'الرصيد الثابت'!$H$2:$H$115))","v":""},{"$f":"IF(B1037=\"\",\"\",SUMIF('الرصيد الثابت'!$D$2:$D$115,B1037,'الرصيد الثابت'!$I$2:$I$115))","v":""},{"$f":"IF(B1037=\"\",\"\",SUMIF('الرصيد الثابت'!$D$2:$D$115,B1037,'الرصيد الثابت'!$J$2:$J$115))","v":""},null,0,null,null,null,null,0,null,null,null,0,null,0,null,null,null,null,null,null,null,null,null,null,null,null,null,null,null,null,null,null,null,null,null,null,null,null,null,null,null,null,null,null,null,null,null,null,null,null,null,null,null,null,null,null,null,null,null,null,null,null,null,null,null,null,null,null,null,null,null,null,null,null,null,null,null,null,null,{"$f":"IFERROR(VLOOKUP(ROWS($CF$3:CF1037),$CH$3:$CI$2001,2,FALSE),\"\")","v":""},null,{"$f":"IF(ISNUMBER(SEARCH(B1037,CI1037)),MAX($CH$2:CH1036)+1,0)","v":0}]
[null,null,{"$f":"IF(B1040=\"\",\"\",SUMIF('الرصيد الثابت'!$D$2:$D$115,B1040,'الرصيد الثابت'!$H$2:$H$115))","v":""},{"$f":"IF(B1040=\"\",\"\",SUMIF('الرصيد الثابت'!$D$2:$D$115,B1040,'الرصيد الثابت'!$I$2:$I$115))","v":""},{"$f":"IF(B1040=\"\",\"\",SUMIF('الرصيد الثابت'!$D$2:$D$115,B1040,'الرصيد الثابت'!$J$2:$J$115))","v":""},null,0,null,null,null,null,0,null,null,null,0,null,0,null,null,null,null,null,null,null,null,null,null,null,null,null,null,null,null,null,null,null,null,null,null,null,null,null,null,null,null,null,null,null,null,null,null,null,null,null,null,null,null,null,null,null,null,null,null,null,null,null,null,null,null,null,null,null,null,null,null,null,null,null,null,null,null,null,{"$f":"IFERROR(VLOOKUP(ROWS($CF$3:CF1040),$CH$3:$CI$2001,2,FALSE),\"\")","v":""},null,{"$f":"IF(ISNUMBER(SEARCH(B1040,CI1040)),MAX($CH$2:CH1039)+1,0)","v":0}]
[null,null,{"$f":"IF(B1043=\"\",\"\",SUMIF('الرصيد الثابت'!$D$2:$D$115,B1043,'الرصيد الثابت'!$H$2:$H$115))","v":""},{"$f":"IF(B1043=\"\",\"\",SUMIF('الرصيد الثابت'!$D$2:$D$115,B1043,'الرصيد الثابت'!$I$2:$I$115))","v":""},{"$f":"IF(B1043=\"\",\"\",SUMIF('الرصيد الثابت'!$D$2:$D$115,B1043,'الرصيد الثابت'!$J$2:$J$115))","v":""},null,0,null,null,null,null,0,null,null,null,0,null,0,null,null,null,null,null,null,null,null,null,null,null,null,null,null,null,null,null,null,null,null,null,null,null,null,null,null,null,null,null,null,null,null,null,null,null,null,null,null,null,null,null,null,null,null,null,null,null,null,null,null,null,null,null,null,null,null,null,null,null,null,null,null,null,null,null,{"$f":"IFERROR(VLOOKUP(ROWS($CF$3:CF1043),$CH$3:$CI$2001,2,FALSE),\"\")","v":""},null,{"$f":"IF(ISNUMBER(SEARCH(B1043,CI1043)),MAX($CH$2:CH1042)+1,0)","v":0}]
[null,null,{"$f":"IF(B1046=\"\",\"\",SUMIF('الرصيد الثابت'!$D$2:$D$115,B1046,'الرصيد الثابت'!$H$2:$H$115))","v":""},{"$f":"IF(B1046=\"\",\"\",SUMIF('الرصيد الثابت'!$D$2:$D$115,B1046,'الرصيد الثابت'!$I$2:$I$115))","v":""},{"$f":"IF(B1046=\"\",\"\",SUMIF('الرصيد الثابت'!$D$2:$D$115,B1046,'الرصيد الثابت'!$J$2:$J$115))","v":""},null,0,null,null,null,null,0,null,null,null,0,null,0,null,null,null,null,null,null,null,null,null,null,null,null,null,null,null,null,null,null,null,null,null,null,null,null,null,null,null,null,null,null,null,null,null,null,null,null,null,null,null,null,null,null,null,null,null,null,null,null,null,null,null,null,null,null,null,null,null,null,null,null,null,null,null,null,null,{"$f":"IFERROR(VLOOKUP(ROWS($CF$3:CF1046),$CH$3:$CI$2001,2,FALSE),\"\")","v":""},null,{"$f":"IF(ISNUMBER(SEARCH(B1046,CI1046)),MAX($CH$2:CH1045)+1,0)","v":0}]
[null,null,{"$f":"IF(B1050=\"\",\"\",SUMIF('الرصيد الثابت'!$D$2:$D$115,B1050,'الرصيد الثابت'!$H$2:$H$115))","v":""},{"$f":"IF(B1050=\"\",\"\",SUMIF('الرصيد الثابت'!$D$2:$D$115,B1050,'الرصيد الثابت'!$I$2:$I$115))","v":""},{"$f":"IF(B1050=\"\",\"\",SUMIF('الرصيد الثابت'!$D$2:$D$115,B1050,'الرصيد الثابت'!$J$2:$J$115))","v":""},null,0,null,null,null,null,0,null,null,null,0,null,0,null,null,null,null,null,null,null,null,null,null,null,null,null,null,null,null,null,null,null,null,null,null,null,null,null,null,null,null,null,null,null,null,null,null,null,null,null,null,null,null,null,null,null,null,null,null,null,null,null,null,null,null,null,null,null,null,null,null,null,null,null,null,null,null,null,{"$f":"IFERROR(VLOOKUP(ROWS($CF$3:CF1050),$CH$3:$CI$2001,2,FALSE),\"\")","v":""},null,{"$f":"IF(ISNUMBER(SEARCH(B1050,CI1050)),MAX($CH$2:CH1049)+1,0)","v":0}]
[null,null,{"$f":"IF(B1053=\"\",\"\",SUMIF('الرصيد الثابت'!$D$2:$D$115,B1053,'الرصيد الثابت'!$H$2:$H$115))","v":""},{"$f":"IF(B1053=\"\",\"\",SUMIF('الرصيد الثابت'!$D$2:$D$115,B1053,'الرصيد الثابت'!$I$2:$I$115))","v":""},{"$f":"IF(B1053=\"\",\"\",SUMIF('الرصيد الثابت'!$D$2:$D$115,B1053,'الرصيد الثابت'!$J$2:$J$115))","v":""},null,0,null,null,null,null,0,null,null,null,0,null,0,null,null,null,null,null,null,null,null,null,null,null,null,null,null,null,null,null,null,null,null,null,null,null,null,null,null,null,null,null,null,null,null,null,null,null,null,null,null,null,null,null,null,null,null,null,null,null,null,null,null,null,null,null,null,null,null,null,null,null,null,null,null,null,null,null,{"$f":"IFERROR(VLOOKUP(ROWS($CF$3:CF1053),$CH$3:$CI$2001,2,FALSE),\"\")","v":""},null,{"$f":"IF(ISNUMBER(SEARCH(B1053,CI1053)),MAX($CH$2:CH1052)+1,0)","v":0}]
[null,null,{"$f":"IF(B1054=\"\",\"\",SUMIF('الرصيد الثابت'!$D$2:$D$115,B1054,'الرصيد الثابت'!$H$2:$H$115))","v":""},{"$f":"IF(B1054=\"\",\"\",SUMIF('الرصيد الثابت'!$D$2:$D$115,B1054,'الرصيد الثابت'!$I$2:$I$115))","v":""},{"$f":"IF(B1054=\"\",\"\",SUMIF('الرصيد الثابت'!$D$2:$D$115,B1054,'الرصيد الثابت'!$J$2:$J$115))","v":""},null,0,null,null,null,null,0,null,null,null,0,null,0,null,null,null,null,null,null,null,null,null,null,null,null,null,null,null,null,null,null,null,null,null,null,null,null,null,null,null,null,null,null,null,null,null,null,null,null,null,null,null,null,null,null,null,null,null,null,null,null,null,null,null,null,null,null,null,null,null,null,null,null,null,null,null,null,null,{"$f":"IFERROR(VLOOKUP(ROWS($CF$3:CF1054),$CH$3:$CI$2001,2,FALSE),\"\")","v":""},null,{"$f":"IF(ISNUMBER(SEARCH(B1054,CI1054)),MAX($CH$2:CH1053)+1,0)","v":0}]
[null,null,{"$f":"IF(B1056=\"\",\"\",SUMIF('الرصيد الثابت'!$D$2:$D$115,B1056,'الرصيد الثابت'!$H$2:$H$115))","v":""},{"$f":"IF(B1056=\"\",\"\",SUMIF('الرصيد الثابت'!$D$2:$D$115,B1056,'الرصيد الثابت'!$I$2:$I$115))","v":""},{"$f":"IF(B1056=\"\",\"\",SUMIF('الرصيد الثابت'!$D$2:$D$115,B1056,'الرصيد الثابت'!$J$2:$J$115))","v":""},null,0,null,null,null,null,0,null,null,null,0,null,0,null,null,null,null,null,null,null,null,null,null,null,null,null,null,null,null,null,null,null,null,null,null,null,null,null,null,null,null,null,null,null,null,null,null,null,null,null,null,null,null,null,null,null,null,null,null,null,null,null,null,null,null,null,null,null,null,null,null,null,null,null,null,null,null,null,{"$f":"IFERROR(VLOOKUP(ROWS($CF$3:CF1056),$CH$3:$CI$2001,2,FALSE),\"\")","v":""},null,{"$f":"IF(ISNUMBER(SEARCH(B1056,CI1056)),MAX($CH$2:CH1055)+1,0)","v":0}]
[null,null,{"$f":"IF(B1059=\"\",\"\",SUMIF('الرصيد الثابت'!$D$2:$D$115,B1059,'الرصيد الثابت'!$H$2:$H$115))","v":""},{"$f":"IF(B1059=\"\",\"\",SUMIF('الرصيد الثابت'!$D$2:$D$115,B1059,'الرصيد الثابت'!$I$2:$I$115))","v":""},{"$f":"IF(B1059=\"\",\"\",SUMIF('الرصيد الثابت'!$D$2:$D$115,B1059,'الرصيد الثابت'!$J$2:$J$115))","v":""},null,0,null,null,null,null,0,null,null,null,0,null,0,null,null,null,null,null,null,null,null,null,null,null,null,null,null,null,null,null,null,null,null,null,null,null,null,null,null,null,null,null,null,null,null,null,null,null,null,null,null,null,null,null,null,null,null,null,null,null,null,null,null,null,null,null,null,null,null,null,null,null,null,null,null,null,null,null,{"$f":"IFERROR(VLOOKUP(ROWS($CF$3:CF1059),$CH$3:$CI$2001,2,FALSE),\"\")","v":""},null,{"$f":"IF(ISNUMBER(SEARCH(B1059,CI1059)),MAX($CH$2:CH1058)+1,0)","v":0}]
[null,null,{"$f":"IF(B1062=\"\",\"\",SUMIF('الرصيد الثابت'!$D$2:$D$115,B1062,'الرصيد الثابت'!$H$2:$H$115))","v":""},{"$f":"IF(B1062=\"\",\"\",SUMIF('الرصيد الثابت'!$D$2:$D$115,B1062,'الرصيد الثابت'!$I$2:$I$115))","v":""},{"$f":"IF(B1062=\"\",\"\",SUMIF('الرصيد الثابت'!$D$2:$D$115,B1062,'الرصيد الثابت'!$J$2:$J$115))","v":""},null,0,null,null,null,null,0,null,null,null,0,null,0,null,null,null,null,null,null,null,null,null,null,null,null,null,null,null,null,null,null,null,null,null,null,null,null,null,null,null,null,null,null,null,null,null,null,null,null,null,null,null,null,null,null,null,null,null,null,null,null,null,null,null,null,null,null,null,null,null,null,null,null,null,null,null,null,null,{"$f":"IFERROR(VLOOKUP(ROWS($CF$3:CF1062),$CH$3:$CI$2001,2,FALSE),\"\")","v":""},null,{"$f":"IF(ISNUMBER(SEARCH(B1062,CI1062)),MAX($CH$2:CH1061)+1,0)","v":0}]
[null,null,{"$f":"IF(B1065=\"\",\"\",SUMIF('الرصيد الثابت'!$D$2:$D$115,B1065,'الرصيد الثابت'!$H$2:$H$115))","v":""},{"$f":"IF(B1065=\"\",\"\",SUMIF('الرصيد الثابت'!$D$2:$D$115,B1065,'الرصيد الثابت'!$I$2:$I$115))","v":""},{"$f":"IF(B1065=\"\",\"\",SUMIF('الرصيد الثابت'!$D$2:$D$115,B1065,'الرصيد الثابت'!$J$2:$J$115))","v":""},null,0,null,null,null,null,0,null,null,null,0,null,0,null,null,null,null,null,null,null,null,null,null,null,null,null,null,null,null,null,null,null,null,null,null,null,null,null,null,null,null,null,null,null,null,null,null,null,null,null,null,null,null,null,null,null,null,null,null,null,null,null,null,null,null,null,null,null,null,null,null,null,null,null,null,null,null,null,{"$f":"IFERROR(VLOOKUP(ROWS($CF$3:CF1065),$CH$3:$CI$2001,2,FALSE),\"\")","v":""},null,{"$f":"IF(ISNUMBER(SEARCH(B1065,CI1065)),MAX($CH$2:CH1064)+1,0)","v":0}]
[null,null,{"$f":"IF(B1068=\"\",\"\",SUMIF('الرصيد الثابت'!$D$2:$D$115,B1068,'الرصيد الثابت'!$H$2:$H$115))","v":""},{"$f":"IF(B1068=\"\",\"\",SUMIF('الرصيد الثابت'!$D$2:$D$115,B1068,'الرصيد الثابت'!$I$2:$I$115))","v":""},{"$f":"IF(B1068=\"\",\"\",SUMIF('الرصيد الثابت'!$D$2:$D$115,B1068,'الرصيد الثابت'!$J$2:$J$115))","v":""},null,0,null,null,null,null,0,null,null,null,0,null,0,null,null,null,null,null,null,null,null,null,null,null,null,null,null,null,null,null,null,null,null,null,null,null,null,null,null,null,null,null,null,null,null,null,null,null,null,null,null,null,null,null,null,null,null,null,null,null,null,null,null,null,null,null,null,null,null,null,null,null,null,null,null,null,null,null,{"$f":"IFERROR(VLOOKUP(ROWS($CF$3:CF1068),$CH$3:$CI$2001,2,FALSE),\"\")","v":""},null,{"$f":"IF(ISNUMBER(SEARCH(B1068,CI1068)),MAX($CH$2:CH1067)+1,0)","v":0}]
[null,null,{"$f":"IF(B1072=\"\",\"\",SUMIF('الرصيد الثابت'!$D$2:$D$115,B1072,'الرصيد الثابت'!$H$2:$H$115))","v":""},{"$f":"IF(B1072=\"\",\"\",SUMIF('الرصيد الثابت'!$D$2:$D$115,B1072,'الرصيد الثابت'!$I$2:$I$115))","v":""},{"$f":"IF(B1072=\"\",\"\",SUMIF('الرصيد الثابت'!$D$2:$D$115,B1072,'الرصيد الثابت'!$J$2:$J$115))","v":""},null,0,null,null,null,null,0,null,null,null,0,null,0,null,null,null,null,null,null,null,null,null,null,null,null,null,null,null,null,null,null,null,null,null,null,null,null,null,null,null,null,null,null,null,null,null,null,null,null,null,null,null,null,null,null,null,null,null,null,null,null,null,null,null,null,null,null,null,null,null,null,null,null,null,null,null,null,null,{"$f":"IFERROR(VLOOKUP(ROWS($CF$3:CF1072),$CH$3:$CI$2001,2,FALSE),\"\")","v":""},null,{"$f":"IF(ISNUMBER(SEARCH(B1072,CI1072)),MAX($CH$2:CH1071)+1,0)","v":0}]
[null,null,{"$f":"IF(B1075=\"\",\"\",SUMIF('الرصيد الثابت'!$D$2:$D$115,B1075,'الرصيد الثابت'!$H$2:$H$115))","v":""},{"$f":"IF(B1075=\"\",\"\",SUMIF('الرصيد الثابت'!$D$2:$D$115,B1075,'الرصيد الثابت'!$I$2:$I$115))","v":""},{"$f":"IF(B1075=\"\",\"\",SUMIF('الرصيد الثابت'!$D$2:$D$115,B1075,'الرصيد الثابت'!$J$2:$J$115))","v":""},null,0,null,null,null,null,0,null,null,null,0,null,0,null,null,null,null,null,null,null,null,null,null,null,null,null,null,null,null,null,null,null,null,null,null,null,null,null,null,null,null,null,null,null,null,null,null,null,null,null,null,null,null,null,null,null,null,null,null,null,null,null,null,null,null,null,null,null,null,null,null,null,null,null,null,null,null,null,{"$f":"IFERROR(VLOOKUP(ROWS($CF$3:CF1075),$CH$3:$CI$2001,2,FALSE),\"\")","v":""},null,{"$f":"IF(ISNUMBER(SEARCH(B1075,CI1075)),MAX($CH$2:CH1074)+1,0)","v":0}]
[null,null,{"$f":"IF(B1076=\"\",\"\",SUMIF('الرصيد الثابت'!$D$2:$D$115,B1076,'الرصيد الثابت'!$H$2:$H$115))","v":""},{"$f":"IF(B1076=\"\",\"\",SUMIF('الرصيد الثابت'!$D$2:$D$115,B1076,'الرصيد الثابت'!$I$2:$I$115))","v":""},{"$f":"IF(B1076=\"\",\"\",SUMIF('الرصيد الثابت'!$D$2:$D$115,B1076,'الرصيد الثابت'!$J$2:$J$115))","v":""},null,0,null,null,null,null,0,null,null,null,0,null,0,null,null,null,null,null,null,null,null,null,null,null,null,null,null,null,null,null,null,null,null,null,null,null,null,null,null,null,null,null,null,null,null,null,null,null,null,null,null,null,null,null,null,null,null,null,null,null,null,null,null,null,null,null,null,null,null,null,null,null,null,null,null,null,null,null,{"$f":"IFERROR(VLOOKUP(ROWS($CF$3:CF1076),$CH$3:$CI$2001,2,FALSE),\"\")","v":""},null,{"$f":"IF(ISNUMBER(SEARCH(B1076,CI1076)),MAX($CH$2:CH1075)+1,0)","v":0}]
[null,null,{"$f":"IF(B1078=\"\",\"\",SUMIF('الرصيد الثابت'!$D$2:$D$115,B1078,'الرصيد الثابت'!$H$2:$H$115))","v":""},{"$f":"IF(B1078=\"\",\"\",SUMIF('الرصيد الثابت'!$D$2:$D$115,B1078,'الرصيد الثابت'!$I$2:$I$115))","v":""},{"$f":"IF(B1078=\"\",\"\",SUMIF('الرصيد الثابت'!$D$2:$D$115,B1078,'الرصيد الثابت'!$J$2:$J$115))","v":""},null,0,null,null,null,null,0,null,null,null,0,null,0,null,null,null,null,null,null,null,null,null,null,null,null,null,null,null,null,null,null,null,null,null,null,null,null,null,null,null,null,null,null,null,null,null,null,null,null,null,null,null,null,null,null,null,null,null,null,null,null,null,null,null,null,null,null,null,null,null,null,null,null,null,null,null,null,null,{"$f":"IFERROR(VLOOKUP(ROWS($CF$3:CF1078),$CH$3:$CI$2001,2,FALSE),\"\")","v":""},null,{"$f":"IF(ISNUMBER(SEARCH(B1078,CI1078)),MAX($CH$2:CH1077)+1,0)","v":0}]
[null,null,{"$f":"IF(B1081=\"\",\"\",SUMIF('الرصيد الثابت'!$D$2:$D$115,B1081,'الرصيد الثابت'!$H$2:$H$115))","v":""},{"$f":"IF(B1081=\"\",\"\",SUMIF('الرصيد الثابت'!$D$2:$D$115,B1081,'الرصيد الثابت'!$I$2:$I$115))","v":""},{"$f":"IF(B1081=\"\",\"\",SUMIF('الرصيد الثابت'!$D$2:$D$115,B1081,'الرصيد الثابت'!$J$2:$J$115))","v":""},null,0,null,null,null,null,0,null,null,null,0,null,0,null,null,null,null,null,null,null,null,null,null,null,null,null,null,null,null,null,null,null,null,null,null,null,null,null,null,null,null,null,null,null,null,null,null,null,null,null,null,null,null,null,null,null,null,null,null,null,null,null,null,null,null,null,null,null,null,null,null,null,null,null,null,null,null,null,{"$f":"IFERROR(VLOOKUP(ROWS($CF$3:CF1081),$CH$3:$CI$2001,2,FALSE),\"\")","v":""},null,{"$f":"IF(ISNUMBER(SEARCH(B1081,CI1081)),MAX($CH$2:CH1080)+1,0)","v":0}]
[null,null,{"$f":"IF(B1084=\"\",\"\",SUMIF('الرصيد الثابت'!$D$2:$D$115,B1084,'الرصيد الثابت'!$H$2:$H$115))","v":""},{"$f":"IF(B1084=\"\",\"\",SUMIF('الرصيد الثابت'!$D$2:$D$115,B1084,'الرصيد الثابت'!$I$2:$I$115))","v":""},{"$f":"IF(B1084=\"\",\"\",SUMIF('الرصيد الثابت'!$D$2:$D$115,B1084,'الرصيد الثابت'!$J$2:$J$115))","v":""},null,0,null,null,null,null,0,null,null,null,0,null,0,null,null,null,null,null,null,null,null,null,null,null,null,null,null,null,null,null,null,null,null,null,null,null,null,null,null,null,null,null,null,null,null,null,null,null,null,null,null,null,null,null,null,null,null,null,null,null,null,null,null,null,null,null,null,null,null,null,null,null,null,null,null,null,null,null,{"$f":"IFERROR(VLOOKUP(ROWS($CF$3:CF1084),$CH$3:$CI$2001,2,FALSE),\"\")","v":""},null,{"$f":"IF(ISNUMBER(SEARCH(B1084,CI1084)),MAX($CH$2:CH1083)+1,0)","v":0}]
[null,null,{"$f":"IF(B1087=\"\",\"\",SUMIF('الرصيد الثابت'!$D$2:$D$115,B1087,'الرصيد الثابت'!$H$2:$H$115))","v":""},{"$f":"IF(B1087=\"\",\"\",SUMIF('الرصيد الثابت'!$D$2:$D$115,B1087,'الرصيد الثابت'!$I$2:$I$115))","v":""},{"$f":"IF(B1087=\"\",\"\",SUMIF('الرصيد الثابت'!$D$2:$D$115,B1087,'الرصيد الثابت'!$J$2:$J$115))","v":""},null,0,null,null,null,null,0,null,null,null,0,null,0,null,null,null,null,null,null,null,null,null,null,null,null,null,null,null,null,null,null,null,null,null,null,null,null,null,null,null,null,null,null,null,null,null,null,null,null,null,null,null,null,null,null,null,null,null,null,null,null,null,null,null,null,null,null,null,null,null,null,null,null,null,null,null,null,null,{"$f":"IFERROR(VLOOKUP(ROWS($CF$3:CF1087),$CH$3:$CI$2001,2,FALSE),\"\")","v":""},null,{"$f":"IF(ISNUMBER(SEARCH(B1087,CI1087)),MAX($CH$2:CH1086)+1,0)","v":0}]
[null,null,{"$f":"IF(B1090=\"\",\"\",SUMIF('الرصيد الثابت'!$D$2:$D$115,B1090,'الرصيد الثابت'!$H$2:$H$115))","v":""},{"$f":"IF(B1090=\"\",\"\",SUMIF('الرصيد الثابت'!$D$2:$D$115,B1090,'الرصيد الثابت'!$I$2:$I$115))","v":""},{"$f":"IF(B1090=\"\",\"\",SUMIF('الرصيد الثابت'!$D$2:$D$115,B1090,'الرصيد الثابت'!$J$2:$J$115))","v":""},null,0,null,null,null,null,0,null,null,null,0,null,0,null,null,null,null,null,null,null,null,null,null,null,null,null,null,null,null,null,null,null,null,null,null,null,null,null,null,null,null,null,null,null,null,null,null,null,null,null,null,null,null,null,null,null,null,null,null,null,null,null,null,null,null,null,null,null,null,null,null,null,null,null,null,null,null,null,{"$f":"IFERROR(VLOOKUP(ROWS($CF$3:CF1090),$CH$3:$CI$2001,2,FALSE),\"\")","v":""},null,{"$f":"IF(ISNUMBER(SEARCH(B1090,CI1090)),MAX($CH$2:CH1089)+1,0)","v":0}]
[null,null,{"$f":"IF(B1094=\"\",\"\",SUMIF('الرصيد الثابت'!$D$2:$D$115,B1094,'الرصيد الثابت'!$H$2:$H$115))","v":""},{"$f":"IF(B1094=\"\",\"\",SUMIF('الرصيد الثابت'!$D$2:$D$115,B1094,'الرصيد الثابت'!$I$2:$I$115))","v":""},{"$f":"IF(B1094=\"\",\"\",SUMIF('الرصيد الثابت'!$D$2:$D$115,B1094,'الرصيد الثابت'!$J$2:$J$115))","v":""},null,0,null,null,null,null,0,null,null,null,0,null,0,null,null,null,null,null,null,null,null,null,null,null,null,null,null,null,null,null,null,null,null,null,null,null,null,null,null,null,null,null,null,null,null,null,null,null,null,null,null,null,null,null,null,null,null,null,null,null,null,null,null,null,null,null,null,null,null,null,null,null,null,null,null,null,null,null,{"$f":"IFERROR(VLOOKUP(ROWS($CF$3:CF1094),$CH$3:$CI$2001,2,FALSE),\"\")","v":""},null,{"$f":"IF(ISNUMBER(SEARCH(B1094,CI1094)),MAX($CH$2:CH1093)+1,0)","v":0}]
[null,null,{"$f":"IF(B1097=\"\",\"\",SUMIF('الرصيد الثابت'!$D$2:$D$115,B1097,'الرصيد الثابت'!$H$2:$H$115))","v":""},{"$f":"IF(B1097=\"\",\"\",SUMIF('الرصيد الثابت'!$D$2:$D$115,B1097,'الرصيد الثابت'!$I$2:$I$115))","v":""},{"$f":"IF(B1097=\"\",\"\",SUMIF('الرصيد الثابت'!$D$2:$D$115,B1097,'الرصيد الثابت'!$J$2:$J$115))","v":""},null,0,null,null,null,null,0,null,null,null,0,null,0,null,null,null,null,null,null,null,null,null,null,null,null,null,null,null,null,null,null,null,null,null,null,null,null,null,null,null,null,null,null,null,null,null,null,null,null,null,null,null,null,null,null,null,null,null,null,null,null,null,null,null,null,null,null,null,null,null,null,null,null,null,null,null,null,null,{"$f":"IFERROR(VLOOKUP(ROWS($CF$3:CF1097),$CH$3:$CI$2001,2,FALSE),\"\")","v":""},null,{"$f":"IF(ISNUMBER(SEARCH(B1097,CI1097)),MAX($CH$2:CH1096)+1,0)","v":0}]
[null,null,{"$f":"IF(B1098=\"\",\"\",SUMIF('الرصيد الثابت'!$D$2:$D$115,B1098,'الرصيد الثابت'!$H$2:$H$115))","v":""},{"$f":"IF(B1098=\"\",\"\",SUMIF('الرصيد الثابت'!$D$2:$D$115,B1098,'الرصيد الثابت'!$I$2:$I$115))","v":""},{"$f":"IF(B1098=\"\",\"\",SUMIF('الرصيد الثابت'!$D$2:$D$115,B1098,'الرصيد الثابت'!$J$2:$J$115))","v":""},null,0,null,null,null,null,0,null,null,null,0,null,0,null,null,null,null,null,null,null,null,null,null,null,null,null,null,null,null,null,null,null,null,null,null,null,null,null,null,null,null,null,null,null,null,null,null,null,null,null,null,null,null,null,null,null,null,null,null,null,null,null,null,null,null,null,null,null,null,null,null,null,null,null,null,null,null,null,{"$f":"IFERROR(VLOOKUP(ROWS($CF$3:CF1098),$CH$3:$CI$2001,2,FALSE),\"\")","v":""},null,{"$f":"IF(ISNUMBER(SEARCH(B1098,CI1098)),MAX($CH$2:CH1097)+1,0)","v":0}]
[null,null,{"$f":"IF(B1100=\"\",\"\",SUMIF('الرصيد الثابت'!$D$2:$D$115,B1100,'الرصيد الثابت'!$H$2:$H$115))","v":""},{"$f":"IF(B1100=\"\",\"\",SUMIF('الرصيد الثابت'!$D$2:$D$115,B1100,'الرصيد الثابت'!$I$2:$I$115))","v":""},{"$f":"IF(B1100=\"\",\"\",SUMIF('الرصيد الثابت'!$D$2:$D$115,B1100,'الرصيد الثابت'!$J$2:$J$115))","v":""},null,0,null,null,null,null,0,null,null,null,0,null,0,null,null,null,null,null,null,null,null,null,null,null,null,null,null,null,null,null,null,null,null,null,null,null,null,null,null,null,null,null,null,null,null,null,null,null,null,null,null,null,null,null,null,null,null,null,null,null,null,null,null,null,null,null,null,null,null,null,null,null,null,null,null,null,null,null,{"$f":"IFERROR(VLOOKUP(ROWS($CF$3:CF1100),$CH$3:$CI$2001,2,FALSE),\"\")","v":""},null,{"$f":"IF(ISNUMBER(SEARCH(B1100,CI1100)),MAX($CH$2:CH1099)+1,0)","v":0}]
[null,null,{"$f":"IF(B1103=\"\",\"\",SUMIF('الرصيد الثابت'!$D$2:$D$115,B1103,'الرصيد الثابت'!$H$2:$H$115))","v":""},{"$f":"IF(B1103=\"\",\"\",SUMIF('الرصيد الثابت'!$D$2:$D$115,B1103,'الرصيد الثابت'!$I$2:$I$115))","v":""},{"$f":"IF(B1103=\"\",\"\",SUMIF('الرصيد الثابت'!$D$2:$D$115,B1103,'الرصيد الثابت'!$J$2:$J$115))","v":""},null,0,null,null,null,null,0,null,null,null,0,null,0,null,null,null,null,null,null,null,null,null,null,null,null,null,null,null,null,null,null,null,null,null,null,null,null,null,null,null,null,null,null,null,null,null,null,null,null,null,null,null,null,null,null,null,null,null,null,null,null,null,null,null,null,null,null,null,null,null,null,null,null,null,null,null,null,null,{"$f":"IFERROR(VLOOKUP(ROWS($CF$3:CF1103),$CH$3:$CI$2001,2,FALSE),\"\")","v":""},null,{"$f":"IF(ISNUMBER(SEARCH(B1103,CI1103)),MAX($CH$2:CH1102)+1,0)","v":0}]
[null,null,{"$f":"IF(B1107=\"\",\"\",SUMIF('الرصيد الثابت'!$D$2:$D$115,B1107,'الرصيد الثابت'!$H$2:$H$115))","v":""},{"$f":"IF(B1107=\"\",\"\",SUMIF('الرصيد الثابت'!$D$2:$D$115,B1107,'الرصيد الثابت'!$I$2:$I$115))","v":""},{"$f":"IF(B1107=\"\",\"\",SUMIF('الرصيد الثابت'!$D$2:$D$115,B1107,'الرصيد الثابت'!$J$2:$J$115))","v":""},null,0,null,null,null,null,0,null,null,null,0,null,0,null,null,null,null,null,null,null,null,null,null,null,null,null,null,null,null,null,null,null,null,null,null,null,null,null,null,null,null,null,null,null,null,null,null,null,null,null,null,null,null,null,null,null,null,null,null,null,null,null,null,null,null,null,null,null,null,null,null,null,null,null,null,null,null,null,{"$f":"IFERROR(VLOOKUP(ROWS($CF$3:CF1107),$CH$3:$CI$2001,2,FALSE),\"\")","v":""},null,{"$f":"IF(ISNUMBER(SEARCH(B1107,CI1107)),MAX($CH$2:CH1106)+1,0)","v":0}]
[null,null,{"$f":"IF(B1109=\"\",\"\",SUMIF('الرصيد الثابت'!$D$2:$D$115,B1109,'الرصيد الثابت'!$H$2:$H$115))","v":""},{"$f":"IF(B1109=\"\",\"\",SUMIF('الرصيد الثابت'!$D$2:$D$115,B1109,'الرصيد الثابت'!$I$2:$I$115))","v":""},{"$f":"IF(B1109=\"\",\"\",SUMIF('الرصيد الثابت'!$D$2:$D$115,B1109,'الرصيد الثابت'!$J$2:$J$115))","v":""},null,0,null,null,null,null,0,null,null,null,0,null,0,null,null,null,null,null,null,null,null,null,null,null,null,null,null,null,null,null,null,null,null,null,null,null,null,null,null,null,null,null,null,null,null,null,null,null,null,null,null,null,null,null,null,null,null,null,null,null,null,null,null,null,null,null,null,null,null,null,null,null,null,null,null,null,null,null,{"$f":"IFERROR(VLOOKUP(ROWS($CF$3:CF1109),$CH$3:$CI$2001,2,FALSE),\"\")","v":""},null,{"$f":"IF(ISNUMBER(SEARCH(B1109,CI1109)),MAX($CH$2:CH1108)+1,0)","v":0}]
[null,null,{"$f":"IF(B1112=\"\",\"\",SUMIF('الرصيد الثابت'!$D$2:$D$115,B1112,'الرصيد الثابت'!$H$2:$H$115))","v":""},{"$f":"IF(B1112=\"\",\"\",SUMIF('الرصيد الثابت'!$D$2:$D$115,B1112,'الرصيد الثابت'!$I$2:$I$115))","v":""},{"$f":"IF(B1112=\"\",\"\",SUMIF('الرصيد الثابت'!$D$2:$D$115,B1112,'الرصيد الثابت'!$J$2:$J$115))","v":""},null,0,null,null,null,null,0,null,null,null,0,null,0,null,null,null,null,null,null,null,null,null,null,null,null,null,null,null,null,null,null,null,null,null,null,null,null,null,null,null,null,null,null,null,null,null,null,null,null,null,null,null,null,null,null,null,null,null,null,null,null,null,null,null,null,null,null,null,null,null,null,null,null,null,null,null,null,null,{"$f":"IFERROR(VLOOKUP(ROWS($CF$3:CF1112),$CH$3:$CI$2001,2,FALSE),\"\")","v":""},null,{"$f":"IF(ISNUMBER(SEARCH(B1112,CI1112)),MAX($CH$2:CH1111)+1,0)","v":0}]
[null,null,{"$f":"IF(B1116=\"\",\"\",SUMIF('الرصيد الثابت'!$D$2:$D$115,B1116,'الرصيد الثابت'!$H$2:$H$115))","v":""},{"$f":"IF(B1116=\"\",\"\",SUMIF('الرصيد الثابت'!$D$2:$D$115,B1116,'الرصيد الثابت'!$I$2:$I$115))","v":""},{"$f":"IF(B1116=\"\",\"\",SUMIF('الرصيد الثابت'!$D$2:$D$115,B1116,'الرصيد الثابت'!$J$2:$J$115))","v":""},null,0,null,null,null,null,0,null,null,null,0,null,0,null,null,null,null,null,null,null,null,null,null,null,null,null,null,null,null,null,null,null,null,null,null,null,null,null,null,null,null,null,null,null,null,null,null,null,null,null,null,null,null,null,null,null,null,null,null,null,null,null,null,null,null,null,null,null,null,null,null,null,null,null,null,null,null,null,{"$f":"IFERROR(VLOOKUP(ROWS($CF$3:CF1116),$CH$3:$CI$2001,2,FALSE),\"\")","v":""},null,{"$f":"IF(ISNUMBER(SEARCH(B1116,CI1116)),MAX($CH$2:CH1115)+1,0)","v":0}]
[null,null,{"$f":"IF(B1119=\"\",\"\",SUMIF('الرصيد الثابت'!$D$2:$D$115,B1119,'الرصيد الثابت'!$H$2:$H$115))","v":""},{"$f":"IF(B1119=\"\",\"\",SUMIF('الرصيد الثابت'!$D$2:$D$115,B1119,'الرصيد الثابت'!$I$2:$I$115))","v":""},{"$f":"IF(B1119=\"\",\"\",SUMIF('الرصيد الثابت'!$D$2:$D$115,B1119,'الرصيد الثابت'!$J$2:$J$115))","v":""},null,0,null,null,null,null,0,null,null,null,0,null,0,null,null,null,null,null,null,null,null,null,null,null,null,null,null,null,null,null,null,null,null,null,null,null,null,null,null,null,null,null,null,null,null,null,null,null,null,null,null,null,null,null,null,null,null,null,null,null,null,null,null,null,null,null,null,null,null,null,null,null,null,null,null,null,null,null,{"$f":"IFERROR(VLOOKUP(ROWS($CF$3:CF1119),$CH$3:$CI$2001,2,FALSE),\"\")","v":""},null,{"$f":"IF(ISNUMBER(SEARCH(B1119,CI1119)),MAX($CH$2:CH1118)+1,0)","v":0}]
[null,null,{"$f":"IF(B1120=\"\",\"\",SUMIF('الرصيد الثابت'!$D$2:$D$115,B1120,'الرصيد الثابت'!$H$2:$H$115))","v":""},{"$f":"IF(B1120=\"\",\"\",SUMIF('الرصيد الثابت'!$D$2:$D$115,B1120,'الرصيد الثابت'!$I$2:$I$115))","v":""},{"$f":"IF(B1120=\"\",\"\",SUMIF('الرصيد الثابت'!$D$2:$D$115,B1120,'الرصيد الثابت'!$J$2:$J$115))","v":""},null,0,null,null,null,null,0,null,null,null,0,null,0,null,null,null,null,null,null,null,null,null,null,null,null,null,null,null,null,null,null,null,null,null,null,null,null,null,null,null,null,null,null,null,null,null,null,null,null,null,null,null,null,null,null,null,null,null,null,null,null,null,null,null,null,null,null,null,null,null,null,null,null,null,null,null,null,null,{"$f":"IFERROR(VLOOKUP(ROWS($CF$3:CF1120),$CH$3:$CI$2001,2,FALSE),\"\")","v":""},null,{"$f":"IF(ISNUMBER(SEARCH(B1120,CI1120)),MAX($CH$2:CH1119)+1,0)","v":0}]
[null,null,{"$f":"IF(B1122=\"\",\"\",SUMIF('الرصيد الثابت'!$D$2:$D$115,B1122,'الرصيد الثابت'!$H$2:$H$115))","v":""},{"$f":"IF(B1122=\"\",\"\",SUMIF('الرصيد الثابت'!$D$2:$D$115,B1122,'الرصيد الثابت'!$I$2:$I$115))","v":""},{"$f":"IF(B1122=\"\",\"\",SUMIF('الرصيد الثابت'!$D$2:$D$115,B1122,'الرصيد الثابت'!$J$2:$J$115))","v":""},null,0,null,null,null,null,0,null,null,null,0,null,0,null,null,null,null,null,null,null,null,null,null,null,null,null,null,null,null,null,null,null,null,null,null,null,null,null,null,null,null,null,null,null,null,null,null,null,null,null,null,null,null,null,null,null,null,null,null,null,null,null,null,null,null,null,null,null,null,null,null,null,null,null,null,null,null,null,{"$f":"IFERROR(VLOOKUP(ROWS($CF$3:CF1122),$CH$3:$CI$2001,2,FALSE),\"\")","v":""},null,{"$f":"IF(ISNUMBER(SEARCH(B1122,CI1122)),MAX($CH$2:CH1121)+1,0)","v":0}]
[null,null,{"$f":"IF(B1125=\"\",\"\",SUMIF('الرصيد الثابت'!$D$2:$D$115,B1125,'الرصيد الثابت'!$H$2:$H$115))","v":""},{"$f":"IF(B1125=\"\",\"\",SUMIF('الرصيد الثابت'!$D$2:$D$115,B1125,'الرصيد الثابت'!$I$2:$I$115))","v":""},{"$f":"IF(B1125=\"\",\"\",SUMIF('الرصيد الثابت'!$D$2:$D$115,B1125,'الرصيد الثابت'!$J$2:$J$115))","v":""},null,0,null,null,null,null,0,null,null,null,0,null,0,null,null,null,null,null,null,null,null,null,null,null,null,null,null,null,null,null,null,null,null,null,null,null,null,null,null,null,null,null,null,null,null,null,null,null,null,null,null,null,null,null,null,null,null,null,null,null,null,null,null,null,null,null,null,null,null,null,null,null,null,null,null,null,null,null,{"$f":"IFERROR(VLOOKUP(ROWS($CF$3:CF1125),$CH$3:$CI$2001,2,FALSE),\"\")","v":""},null,{"$f":"IF(ISNUMBER(SEARCH(B1125,CI1125)),MAX($CH$2:CH1124)+1,0)","v":0}]
[null,null,{"$f":"IF(B1129=\"\",\"\",SUMIF('الرصيد الثابت'!$D$2:$D$115,B1129,'الرصيد الثابت'!$H$2:$H$115))","v":""},{"$f":"IF(B1129=\"\",\"\",SUMIF('الرصيد الثابت'!$D$2:$D$115,B1129,'الرصيد الثابت'!$I$2:$I$115))","v":""},{"$f":"IF(B1129=\"\",\"\",SUMIF('الرصيد الثابت'!$D$2:$D$115,B1129,'الرصيد الثابت'!$J$2:$J$115))","v":""},null,0,null,null,null,null,0,null,null,null,0,null,0,null,null,null,null,null,null,null,null,null,null,null,null,null,null,null,null,null,null,null,null,null,null,null,null,null,null,null,null,null,null,null,null,null,null,null,null,null,null,null,null,null,null,null,null,null,null,null,null,null,null,null,null,null,null,null,null,null,null,null,null,null,null,null,null,null,{"$f":"IFERROR(VLOOKUP(ROWS($CF$3:CF1129),$CH$3:$CI$2001,2,FALSE),\"\")","v":""},null,{"$f":"IF(ISNUMBER(SEARCH(B1129,CI1129)),MAX($CH$2:CH1128)+1,0)","v":0}]
[null,null,{"$f":"IF(B1131=\"\",\"\",SUMIF('الرصيد الثابت'!$D$2:$D$115,B1131,'الرصيد الثابت'!$H$2:$H$115))","v":""},{"$f":"IF(B1131=\"\",\"\",SUMIF('الرصيد الثابت'!$D$2:$D$115,B1131,'الرصيد الثابت'!$I$2:$I$115))","v":""},{"$f":"IF(B1131=\"\",\"\",SUMIF('الرصيد الثابت'!$D$2:$D$115,B1131,'الرصيد الثابت'!$J$2:$J$115))","v":""},null,0,null,null,null,null,0,null,null,null,0,null,0,null,null,null,null,null,null,null,null,null,null,null,null,null,null,null,null,null,null,null,null,null,null,null,null,null,null,null,null,null,null,null,null,null,null,null,null,null,null,null,null,null,null,null,null,null,null,null,null,null,null,null,null,null,null,null,null,null,null,null,null,null,null,null,null,null,{"$f":"IFERROR(VLOOKUP(ROWS($CF$3:CF1131),$CH$3:$CI$2001,2,FALSE),\"\")","v":""},null,{"$f":"IF(ISNUMBER(SEARCH(B1131,CI1131)),MAX($CH$2:CH1130)+1,0)","v":0}]
[null,null,{"$f":"IF(B1134=\"\",\"\",SUMIF('الرصيد الثابت'!$D$2:$D$115,B1134,'الرصيد الثابت'!$H$2:$H$115))","v":""},{"$f":"IF(B1134=\"\",\"\",SUMIF('الرصيد الثابت'!$D$2:$D$115,B1134,'الرصيد الثابت'!$I$2:$I$115))","v":""},{"$f":"IF(B1134=\"\",\"\",SUMIF('الرصيد الثابت'!$D$2:$D$115,B1134,'الرصيد الثابت'!$J$2:$J$115))","v":""},null,0,null,null,null,null,0,null,null,null,0,null,0,null,null,null,null,null,null,null,null,null,null,null,null,null,null,null,null,null,null,null,null,null,null,null,null,null,null,null,null,null,null,null,null,null,null,null,null,null,null,null,null,null,null,null,null,null,null,null,null,null,null,null,null,null,null,null,null,null,null,null,null,null,null,null,null,null,{"$f":"IFERROR(VLOOKUP(ROWS($CF$3:CF1134),$CH$3:$CI$2001,2,FALSE),\"\")","v":""},null,{"$f":"IF(ISNUMBER(SEARCH(B1134,CI1134)),MAX($CH$2:CH1133)+1,0)","v":0}]
[null,null,{"$f":"IF(B1138=\"\",\"\",SUMIF('الرصيد الثابت'!$D$2:$D$115,B1138,'الرصيد الثابت'!$H$2:$H$115))","v":""},{"$f":"IF(B1138=\"\",\"\",SUMIF('الرصيد الثابت'!$D$2:$D$115,B1138,'الرصيد الثابت'!$I$2:$I$115))","v":""},{"$f":"IF(B1138=\"\",\"\",SUMIF('الرصيد الثابت'!$D$2:$D$115,B1138,'الرصيد الثابت'!$J$2:$J$115))","v":""},null,0,null,null,null,null,0,null,null,null,0,null,0,null,null,null,null,null,null,null,null,null,null,null,null,null,null,null,null,null,null,null,null,null,null,null,null,null,null,null,null,null,null,null,null,null,null,null,null,null,null,null,null,null,null,null,null,null,null,null,null,null,null,null,null,null,null,null,null,null,null,null,null,null,null,null,null,null,{"$f":"IFERROR(VLOOKUP(ROWS($CF$3:CF1138),$CH$3:$CI$2001,2,FALSE),\"\")","v":""},null,{"$f":"IF(ISNUMBER(SEARCH(B1138,CI1138)),MAX($CH$2:CH1137)+1,0)","v":0}]
[null,null,{"$f":"IF(B1141=\"\",\"\",SUMIF('الرصيد الثابت'!$D$2:$D$115,B1141,'الرصيد الثابت'!$H$2:$H$115))","v":""},{"$f":"IF(B1141=\"\",\"\",SUMIF('الرصيد الثابت'!$D$2:$D$115,B1141,'الرصيد الثابت'!$I$2:$I$115))","v":""},{"$f":"IF(B1141=\"\",\"\",SUMIF('الرصيد الثابت'!$D$2:$D$115,B1141,'الرصيد الثابت'!$J$2:$J$115))","v":""},null,0,null,null,null,null,0,null,null,null,0,null,0,null,null,null,null,null,null,null,null,null,null,null,null,null,null,null,null,null,null,null,null,null,null,null,null,null,null,null,null,null,null,null,null,null,null,null,null,null,null,null,null,null,null,null,null,null,null,null,null,null,null,null,null,null,null,null,null,null,null,null,null,null,null,null,null,null,{"$f":"IFERROR(VLOOKUP(ROWS($CF$3:CF1141),$CH$3:$CI$2001,2,FALSE),\"\")","v":""},null,{"$f":"IF(ISNUMBER(SEARCH(B1141,CI1141)),MAX($CH$2:CH1140)+1,0)","v":0}]
[null,null,{"$f":"IF(B1142=\"\",\"\",SUMIF('الرصيد الثابت'!$D$2:$D$115,B1142,'الرصيد الثابت'!$H$2:$H$115))","v":""},{"$f":"IF(B1142=\"\",\"\",SUMIF('الرصيد الثابت'!$D$2:$D$115,B1142,'الرصيد الثابت'!$I$2:$I$115))","v":""},{"$f":"IF(B1142=\"\",\"\",SUMIF('الرصيد الثابت'!$D$2:$D$115,B1142,'الرصيد الثابت'!$J$2:$J$115))","v":""},null,0,null,null,null,null,0,null,null,null,0,null,0,null,null,null,null,null,null,null,null,null,null,null,null,null,null,null,null,null,null,null,null,null,null,null,null,null,null,null,null,null,null,null,null,null,null,null,null,null,null,null,null,null,null,null,null,null,null,null,null,null,null,null,null,null,null,null,null,null,null,null,null,null,null,null,null,null,{"$f":"IFERROR(VLOOKUP(ROWS($CF$3:CF1142),$CH$3:$CI$2001,2,FALSE),\"\")","v":""},null,{"$f":"IF(ISNUMBER(SEARCH(B1142,CI1142)),MAX($CH$2:CH1141)+1,0)","v":0}]
[null,null,{"$f":"IF(B1144=\"\",\"\",SUMIF('الرصيد الثابت'!$D$2:$D$115,B1144,'الرصيد الثابت'!$H$2:$H$115))","v":""},{"$f":"IF(B1144=\"\",\"\",SUMIF('الرصيد الثابت'!$D$2:$D$115,B1144,'الرصيد الثابت'!$I$2:$I$115))","v":""},{"$f":"IF(B1144=\"\",\"\",SUMIF('الرصيد الثابت'!$D$2:$D$115,B1144,'الرصيد الثابت'!$J$2:$J$115))","v":""},null,0,null,null,null,null,0,null,null,null,0,null,0,null,null,null,null,null,null,null,null,null,null,null,null,null,null,null,null,null,null,null,null,null,null,null,null,null,null,null,null,null,null,null,null,null,null,null,null,null,null,null,null,null,null,null,null,null,null,null,null,null,null,null,null,null,null,null,null,null,null,null,null,null,null,null,null,null,{"$f":"IFERROR(VLOOKUP(ROWS($CF$3:CF1144),$CH$3:$CI$2001,2,FALSE),\"\")","v":""},null,{"$f":"IF(ISNUMBER(SEARCH(B1144,CI1144)),MAX($CH$2:CH1143)+1,0)","v":0}]
[null,null,{"$f":"IF(B1147=\"\",\"\",SUMIF('الرصيد الثابت'!$D$2:$D$115,B1147,'الرصيد الثابت'!$H$2:$H$115))","v":""},{"$f":"IF(B1147=\"\",\"\",SUMIF('الرصيد الثابت'!$D$2:$D$115,B1147,'الرصيد الثابت'!$I$2:$I$115))","v":""},{"$f":"IF(B1147=\"\",\"\",SUMIF('الرصيد الثابت'!$D$2:$D$115,B1147,'الرصيد الثابت'!$J$2:$J$115))","v":""},null,0,null,null,null,null,0,null,null,null,0,null,0,null,null,null,null,null,null,null,null,null,null,null,null,null,null,null,null,null,null,null,null,null,null,null,null,null,null,null,null,null,null,null,null,null,null,null,null,null,null,null,null,null,null,null,null,null,null,null,null,null,null,null,null,null,null,null,null,null,null,null,null,null,null,null,null,null,{"$f":"IFERROR(VLOOKUP(ROWS($CF$3:CF1147),$CH$3:$CI$2001,2,FALSE),\"\")","v":""},null,{"$f":"IF(ISNUMBER(SEARCH(B1147,CI1147)),MAX($CH$2:CH1146)+1,0)","v":0}]
[null,null,{"$f":"IF(B1151=\"\",\"\",SUMIF('الرصيد الثابت'!$D$2:$D$115,B1151,'الرصيد الثابت'!$H$2:$H$115))","v":""},{"$f":"IF(B1151=\"\",\"\",SUMIF('الرصيد الثابت'!$D$2:$D$115,B1151,'الرصيد الثابت'!$I$2:$I$115))","v":""},{"$f":"IF(B1151=\"\",\"\",SUMIF('الرصيد الثابت'!$D$2:$D$115,B1151,'الرصيد الثابت'!$J$2:$J$115))","v":""},null,0,null,null,null,null,0,null,null,null,0,null,0,null,null,null,null,null,null,null,null,null,null,null,null,null,null,null,null,null,null,null,null,null,null,null,null,null,null,null,null,null,null,null,null,null,null,null,null,null,null,null,null,null,null,null,null,null,null,null,null,null,null,null,null,null,null,null,null,null,null,null,null,null,null,null,null,null,{"$f":"IFERROR(VLOOKUP(ROWS($CF$3:CF1151),$CH$3:$CI$2001,2,FALSE),\"\")","v":""},null,{"$f":"IF(ISNUMBER(SEARCH(B1151,CI1151)),MAX($CH$2:CH1150)+1,0)","v":0}]
[null,null,{"$f":"IF(B1153=\"\",\"\",SUMIF('الرصيد الثابت'!$D$2:$D$115,B1153,'الرصيد الثابت'!$H$2:$H$115))","v":""},{"$f":"IF(B1153=\"\",\"\",SUMIF('الرصيد الثابت'!$D$2:$D$115,B1153,'الرصيد الثابت'!$I$2:$I$115))","v":""},{"$f":"IF(B1153=\"\",\"\",SUMIF('الرصيد الثابت'!$D$2:$D$115,B1153,'الرصيد الثابت'!$J$2:$J$115))","v":""},null,0,null,null,null,null,0,null,null,null,0,null,0,null,null,null,null,null,null,null,null,null,null,null,null,null,null,null,null,null,null,null,null,null,null,null,null,null,null,null,null,null,null,null,null,null,null,null,null,null,null,null,null,null,null,null,null,null,null,null,null,null,null,null,null,null,null,null,null,null,null,null,null,null,null,null,null,null,{"$f":"IFERROR(VLOOKUP(ROWS($CF$3:CF1153),$CH$3:$CI$2001,2,FALSE),\"\")","v":""},null,{"$f":"IF(ISNUMBER(SEARCH(B1153,CI1153)),MAX($CH$2:CH1152)+1,0)","v":0}]
[null,null,{"$f":"IF(B1156=\"\",\"\",SUMIF('الرصيد الثابت'!$D$2:$D$115,B1156,'الرصيد الثابت'!$H$2:$H$115))","v":""},{"$f":"IF(B1156=\"\",\"\",SUMIF('الرصيد الثابت'!$D$2:$D$115,B1156,'الرصيد الثابت'!$I$2:$I$115))","v":""},{"$f":"IF(B1156=\"\",\"\",SUMIF('الرصيد الثابت'!$D$2:$D$115,B1156,'الرصيد الثابت'!$J$2:$J$115))","v":""},null,{"$f":"SUM(H1156*F1156)","v":0},null,null,null,null,0,null,null,null,0,null,0,null,null,null,null,null,null,null,null,null,null,null,null,null,null,null,null,null,null,null,null,null,null,null,null,null,null,null,null,null,null,null,null,null,null,null,null,null,null,null,null,null,null,null,null,null,null,null,null,null,null,null,null,null,null,null,null,null,null,null,null,null,null,null,null,null,{"$f":"IFERROR(VLOOKUP(ROWS($CF$3:CF1156),$CH$3:$CI$2001,2,FALSE),\"\")","v":""},null,{"$f":"IF(ISNUMBER(SEARCH(B1156,CI1156)),MAX($CH$2:CH1155)+1,0)","v":0}]
[null,null,{"$f":"IF(B1160=\"\",\"\",SUMIF('الرصيد الثابت'!$D$2:$D$115,B1160,'الرصيد الثابت'!$H$2:$H$115))","v":""},{"$f":"IF(B1160=\"\",\"\",SUMIF('الرصيد الثابت'!$D$2:$D$115,B1160,'الرصيد الثابت'!$I$2:$I$115))","v":""},{"$f":"IF(B1160=\"\",\"\",SUMIF('الرصيد الثابت'!$D$2:$D$115,B1160,'الرصيد الثابت'!$J$2:$J$115))","v":""},null,0,null,null,null,null,0,null,null,null,0,null,0,null,null,null,null,null,null,null,null,null,null,null,null,null,null,null,null,null,null,null,null,null,null,null,null,null,null,null,null,null,null,null,null,null,null,null,null,null,null,null,null,null,null,null,null,null,null,null,null,null,null,null,null,null,null,null,null,null,null,null,null,null,null,null,null,null,{"$f":"IFERROR(VLOOKUP(ROWS($CF$3:CF1160),$CH$3:$CI$2001,2,FALSE),\"\")","v":""},null,{"$f":"IF(ISNUMBER(SEARCH(B1160,CI1160)),MAX($CH$2:CH1159)+1,0)","v":0}]
[null,null,{"$f":"IF(B1163=\"\",\"\",SUMIF('الرصيد الثابت'!$D$2:$D$115,B1163,'الرصيد الثابت'!$H$2:$H$115))","v":""},{"$f":"IF(B1163=\"\",\"\",SUMIF('الرصيد الثابت'!$D$2:$D$115,B1163,'الرصيد الثابت'!$I$2:$I$115))","v":""},{"$f":"IF(B1163=\"\",\"\",SUMIF('الرصيد الثابت'!$D$2:$D$115,B1163,'الرصيد الثابت'!$J$2:$J$115))","v":""},null,0,null,null,null,null,0,null,null,null,0,null,0,null,null,null,null,null,null,null,null,null,null,null,null,null,null,null,null,null,null,null,null,null,null,null,null,null,null,null,null,null,null,null,null,null,null,null,null,null,null,null,null,null,null,null,null,null,null,null,null,null,null,null,null,null,null,null,null,null,null,null,null,null,null,null,null,null,{"$f":"IFERROR(VLOOKUP(ROWS($CF$3:CF1163),$CH$3:$CI$2001,2,FALSE),\"\")","v":""},null,{"$f":"IF(ISNUMBER(SEARCH(B1163,CI1163)),MAX($CH$2:CH1162)+1,0)","v":0}]
[null,null,{"$f":"IF(B1164=\"\",\"\",SUMIF('الرصيد الثابت'!$D$2:$D$115,B1164,'الرصيد الثابت'!$H$2:$H$115))","v":""},{"$f":"IF(B1164=\"\",\"\",SUMIF('الرصيد الثابت'!$D$2:$D$115,B1164,'الرصيد الثابت'!$I$2:$I$115))","v":""},{"$f":"IF(B1164=\"\",\"\",SUMIF('الرصيد الثابت'!$D$2:$D$115,B1164,'الرصيد الثابت'!$J$2:$J$115))","v":""},null,0,null,null,null,null,0,null,null,null,0,null,0,null,null,null,null,null,null,null,null,null,null,null,null,null,null,null,null,null,null,null,null,null,null,null,null,null,null,null,null,null,null,null,null,null,null,null,null,null,null,null,null,null,null,null,null,null,null,null,null,null,null,null,null,null,null,null,null,null,null,null,null,null,null,null,null,null,{"$f":"IFERROR(VLOOKUP(ROWS($CF$3:CF1164),$CH$3:$CI$2001,2,FALSE),\"\")","v":""},null,{"$f":"IF(ISNUMBER(SEARCH(B1164,CI1164)),MAX($CH$2:CH1163)+1,0)","v":0}]
[null,null,{"$f":"IF(B1166=\"\",\"\",SUMIF('الرصيد الثابت'!$D$2:$D$115,B1166,'الرصيد الثابت'!$H$2:$H$115))","v":""},{"$f":"IF(B1166=\"\",\"\",SUMIF('الرصيد الثابت'!$D$2:$D$115,B1166,'الرصيد الثابت'!$I$2:$I$115))","v":""},{"$f":"IF(B1166=\"\",\"\",SUMIF('الرصيد الثابت'!$D$2:$D$115,B1166,'الرصيد الثابت'!$J$2:$J$115))","v":""},null,0,null,null,null,null,0,null,null,null,0,null,0,null,null,null,null,null,null,null,null,null,null,null,null,null,null,null,null,null,null,null,null,null,null,null,null,null,null,null,null,null,null,null,null,null,null,null,null,null,null,null,null,null,null,null,null,null,null,null,null,null,null,null,null,null,null,null,null,null,null,null,null,null,null,null,null,null,{"$f":"IFERROR(VLOOKUP(ROWS($CF$3:CF1166),$CH$3:$CI$2001,2,FALSE),\"\")","v":""},null,{"$f":"IF(ISNUMBER(SEARCH(B1166,CI1166)),MAX($CH$2:CH1165)+1,0)","v":0}]
[null,null,{"$f":"IF(B1169=\"\",\"\",SUMIF('الرصيد الثابت'!$D$2:$D$115,B1169,'الرصيد الثابت'!$H$2:$H$115))","v":""},{"$f":"IF(B1169=\"\",\"\",SUMIF('الرصيد الثابت'!$D$2:$D$115,B1169,'الرصيد الثابت'!$I$2:$I$115))","v":""},{"$f":"IF(B1169=\"\",\"\",SUMIF('الرصيد الثابت'!$D$2:$D$115,B1169,'الرصيد الثابت'!$J$2:$J$115))","v":""},null,0,null,null,null,null,0,null,null,null,0,null,0,null,null,null,null,null,null,null,null,null,null,null,null,null,null,null,null,null,null,null,null,null,null,null,null,null,null,null,null,null,null,null,null,null,null,null,null,null,null,null,null,null,null,null,null,null,null,null,null,null,null,null,null,null,null,null,null,null,null,null,null,null,null,null,null,null,{"$f":"IFERROR(VLOOKUP(ROWS($CF$3:CF1169),$CH$3:$CI$2001,2,FALSE),\"\")","v":""},null,{"$f":"IF(ISNUMBER(SEARCH(B1169,CI1169)),MAX($CH$2:CH1168)+1,0)","v":0}]
[null,null,{"$f":"IF(B1173=\"\",\"\",SUMIF('الرصيد الثابت'!$D$2:$D$115,B1173,'الرصيد الثابت'!$H$2:$H$115))","v":""},{"$f":"IF(B1173=\"\",\"\",SUMIF('الرصيد الثابت'!$D$2:$D$115,B1173,'الرصيد الثابت'!$I$2:$I$115))","v":""},{"$f":"IF(B1173=\"\",\"\",SUMIF('الرصيد الثابت'!$D$2:$D$115,B1173,'الرصيد الثابت'!$J$2:$J$115))","v":""},null,0,null,null,null,null,0,null,null,null,0,null,0,null,null,null,null,null,null,null,null,null,null,null,null,null,null,null,null,null,null,null,null,null,null,null,null,null,null,null,null,null,null,null,null,null,null,null,null,null,null,null,null,null,null,null,null,null,null,null,null,null,null,null,null,null,null,null,null,null,null,null,null,null,null,null,null,null,{"$f":"IFERROR(VLOOKUP(ROWS($CF$3:CF1173),$CH$3:$CI$2001,2,FALSE),\"\")","v":""},null,{"$f":"IF(ISNUMBER(SEARCH(B1173,CI1173)),MAX($CH$2:CH1172)+1,0)","v":0}]
[null,null,{"$f":"IF(B1175=\"\",\"\",SUMIF('الرصيد الثابت'!$D$2:$D$115,B1175,'الرصيد الثابت'!$H$2:$H$115))","v":""},{"$f":"IF(B1175=\"\",\"\",SUMIF('الرصيد الثابت'!$D$2:$D$115,B1175,'الرصيد الثابت'!$I$2:$I$115))","v":""},{"$f":"IF(B1175=\"\",\"\",SUMIF('الرصيد الثابت'!$D$2:$D$115,B1175,'الرصيد الثابت'!$J$2:$J$115))","v":""},null,0,null,null,null,null,0,null,null,null,0,null,0,null,null,null,null,null,null,null,null,null,null,null,null,null,null,null,null,null,null,null,null,null,null,null,null,null,null,null,null,null,null,null,null,null,null,null,null,null,null,null,null,null,null,null,null,null,null,null,null,null,null,null,null,null,null,null,null,null,null,null,null,null,null,null,null,null,{"$f":"IFERROR(VLOOKUP(ROWS($CF$3:CF1175),$CH$3:$CI$2001,2,FALSE),\"\")","v":""},null,{"$f":"IF(ISNUMBER(SEARCH(B1175,CI1175)),MAX($CH$2:CH1174)+1,0)","v":0}]
[null,null,{"$f":"IF(B1178=\"\",\"\",SUMIF('الرصيد الثابت'!$D$2:$D$115,B1178,'الرصيد الثابت'!$H$2:$H$115))","v":""},{"$f":"IF(B1178=\"\",\"\",SUMIF('الرصيد الثابت'!$D$2:$D$115,B1178,'الرصيد الثابت'!$I$2:$I$115))","v":""},{"$f":"IF(B1178=\"\",\"\",SUMIF('الرصيد الثابت'!$D$2:$D$115,B1178,'الرصيد الثابت'!$J$2:$J$115))","v":""},null,0,null,null,null,null,0,null,null,null,0,null,0,null,null,null,null,null,null,null,null,null,null,null,null,null,null,null,null,null,null,null,null,null,null,null,null,null,null,null,null,null,null,null,null,null,null,null,null,null,null,null,null,null,null,null,null,null,null,null,null,null,null,null,null,null,null,null,null,null,null,null,null,null,null,null,null,null,{"$f":"IFERROR(VLOOKUP(ROWS($CF$3:CF1178),$CH$3:$CI$2001,2,FALSE),\"\")","v":""},null,{"$f":"IF(ISNUMBER(SEARCH(B1178,CI1178)),MAX($CH$2:CH1177)+1,0)","v":0}]
[null,null,{"$f":"IF(B1182=\"\",\"\",SUMIF('الرصيد الثابت'!$D$2:$D$115,B1182,'الرصيد الثابت'!$H$2:$H$115))","v":""},{"$f":"IF(B1182=\"\",\"\",SUMIF('الرصيد الثابت'!$D$2:$D$115,B1182,'الرصيد الثابت'!$I$2:$I$115))","v":""},{"$f":"IF(B1182=\"\",\"\",SUMIF('الرصيد الثابت'!$D$2:$D$115,B1182,'الرصيد الثابت'!$J$2:$J$115))","v":""},null,0,null,null,null,null,0,null,null,null,0,null,0,null,null,null,null,null,null,null,null,null,null,null,null,null,null,null,null,null,null,null,null,null,null,null,null,null,null,null,null,null,null,null,null,null,null,null,null,null,null,null,null,null,null,null,null,null,null,null,null,null,null,null,null,null,null,null,null,null,null,null,null,null,null,null,null,null,{"$f":"IFERROR(VLOOKUP(ROWS($CF$3:CF1182),$CH$3:$CI$2001,2,FALSE),\"\")","v":""},null,{"$f":"IF(ISNUMBER(SEARCH(B1182,CI1182)),MAX($CH$2:CH1181)+1,0)","v":0}]
[null,null,{"$f":"IF(B1185=\"\",\"\",SUMIF('الرصيد الثابت'!$D$2:$D$115,B1185,'الرصيد الثابت'!$H$2:$H$115))","v":""},{"$f":"IF(B1185=\"\",\"\",SUMIF('الرصيد الثابت'!$D$2:$D$115,B1185,'الرصيد الثابت'!$I$2:$I$115))","v":""},{"$f":"IF(B1185=\"\",\"\",SUMIF('الرصيد الثابت'!$D$2:$D$115,B1185,'الرصيد الثابت'!$J$2:$J$115))","v":""},null,0,null,null,null,null,0,null,null,null,0,null,0,null,null,null,null,null,null,null,null,null,null,null,null,null,null,null,null,null,null,null,null,null,null,null,null,null,null,null,null,null,null,null,null,null,null,null,null,null,null,null,null,null,null,null,null,null,null,null,null,null,null,null,null,null,null,null,null,null,null,null,null,null,null,null,null,null,{"$f":"IFERROR(VLOOKUP(ROWS($CF$3:CF1185),$CH$3:$CI$2001,2,FALSE),\"\")","v":""},null,{"$f":"IF(ISNUMBER(SEARCH(B1185,CI1185)),MAX($CH$2:CH1184)+1,0)","v":0}]
[null,null,{"$f":"IF(B1186=\"\",\"\",SUMIF('الرصيد الثابت'!$D$2:$D$115,B1186,'الرصيد الثابت'!$H$2:$H$115))","v":""},{"$f":"IF(B1186=\"\",\"\",SUMIF('الرصيد الثابت'!$D$2:$D$115,B1186,'الرصيد الثابت'!$I$2:$I$115))","v":""},{"$f":"IF(B1186=\"\",\"\",SUMIF('الرصيد الثابت'!$D$2:$D$115,B1186,'الرصيد الثابت'!$J$2:$J$115))","v":""},null,0,null,null,null,null,0,null,null,null,0,null,0,null,null,null,null,null,null,null,null,null,null,null,null,null,null,null,null,null,null,null,null,null,null,null,null,null,null,null,null,null,null,null,null,null,null,null,null,null,null,null,null,null,null,null,null,null,null,null,null,null,null,null,null,null,null,null,null,null,null,null,null,null,null,null,null,null,{"$f":"IFERROR(VLOOKUP(ROWS($CF$3:CF1186),$CH$3:$CI$2001,2,FALSE),\"\")","v":""},null,{"$f":"IF(ISNUMBER(SEARCH(B1186,CI1186)),MAX($CH$2:CH1185)+1,0)","v":0}]
[null,null,{"$f":"IF(B1190=\"\",\"\",SUMIF('الرصيد الثابت'!$D$2:$D$115,B1190,'الرصيد الثابت'!$H$2:$H$115))","v":""},{"$f":"IF(B1190=\"\",\"\",SUMIF('الرصيد الثابت'!$D$2:$D$115,B1190,'الرصيد الثابت'!$I$2:$I$115))","v":""},{"$f":"IF(B1190=\"\",\"\",SUMIF('الرصيد الثابت'!$D$2:$D$115,B1190,'الرصيد الثابت'!$J$2:$J$115))","v":""},null,0,null,null,null,null,0,null,null,null,0,null,0,null,null,null,null,null,null,null,null,null,null,null,null,null,null,null,null,null,null,null,null,null,null,null,null,null,null,null,null,null,null,null,null,null,null,null,null,null,null,null,null,null,null,null,null,null,null,null,null,null,null,null,null,null,null,null,null,null,null,null,null,null,null,null,null,null,{"$f":"IFERROR(VLOOKUP(ROWS($CF$3:CF1190),$CH$3:$CI$2001,2,FALSE),\"\")","v":""},null,{"$f":"IF(ISNUMBER(SEARCH(B1190,CI1190)),MAX($CH$2:CH1189)+1,0)","v":0}]
[null,null,{"$f":"IF(B1191=\"\",\"\",SUMIF('الرصيد الثابت'!$D$2:$D$115,B1191,'الرصيد الثابت'!$H$2:$H$115))","v":""},{"$f":"IF(B1191=\"\",\"\",SUMIF('الرصيد الثابت'!$D$2:$D$115,B1191,'الرصيد الثابت'!$I$2:$I$115))","v":""},{"$f":"IF(B1191=\"\",\"\",SUMIF('الرصيد الثابت'!$D$2:$D$115,B1191,'الرصيد الثابت'!$J$2:$J$115))","v":""},null,0,null,null,null,null,0,null,null,null,0,null,0,null,null,null,null,null,null,null,null,null,null,null,null,null,null,null,null,null,null,null,null,null,null,null,null,null,null,null,null,null,null,null,null,null,null,null,null,null,null,null,null,null,null,null,null,null,null,null,null,null,null,null,null,null,null,null,null,null,null,null,null,null,null,null,null,null,{"$f":"IFERROR(VLOOKUP(ROWS($CF$3:CF1191),$CH$3:$CI$2001,2,FALSE),\"\")","v":""},null,{"$f":"IF(ISNUMBER(SEARCH(B1191,CI1191)),MAX($CH$2:CH1190)+1,0)","v":0}]
[null,null,{"$f":"IF(B1195=\"\",\"\",SUMIF('الرصيد الثابت'!$D$2:$D$115,B1195,'الرصيد الثابت'!$H$2:$H$115))","v":""},{"$f":"IF(B1195=\"\",\"\",SUMIF('الرصيد الثابت'!$D$2:$D$115,B1195,'الرصيد الثابت'!$I$2:$I$115))","v":""},{"$f":"IF(B1195=\"\",\"\",SUMIF('الرصيد الثابت'!$D$2:$D$115,B1195,'الرصيد الثابت'!$J$2:$J$115))","v":""},null,0,null,null,null,null,0,null,null,null,0,null,0,null,null,null,null,null,null,null,null,null,null,null,null,null,null,null,null,null,null,null,null,null,null,null,null,null,null,null,null,null,null,null,null,null,null,null,null,null,null,null,null,null,null,null,null,null,null,null,null,null,null,null,null,null,null,null,null,null,null,null,null,null,null,null,null,null,{"$f":"IFERROR(VLOOKUP(ROWS($CF$3:CF1195),$CH$3:$CI$2001,2,FALSE),\"\")","v":""},null,{"$f":"IF(ISNUMBER(SEARCH(B1195,CI1195)),MAX($CH$2:CH1194)+1,0)","v":0}]
[null,null,{"$f":"IF(B1198=\"\",\"\",SUMIF('الرصيد الثابت'!$D$2:$D$115,B1198,'الرصيد الثابت'!$H$2:$H$115))","v":""},{"$f":"IF(B1198=\"\",\"\",SUMIF('الرصيد الثابت'!$D$2:$D$115,B1198,'الرصيد الثابت'!$I$2:$I$115))","v":""},{"$f":"IF(B1198=\"\",\"\",SUMIF('الرصيد الثابت'!$D$2:$D$115,B1198,'الرصيد الثابت'!$J$2:$J$115))","v":""},null,0,null,null,null,null,0,null,null,null,0,null,0,null,null,null,null,null,null,null,null,null,null,null,null,null,null,null,null,null,null,null,null,null,null,null,null,null,null,null,null,null,null,null,null,null,null,null,null,null,null,null,null,null,null,null,null,null,null,null,null,null,null,null,null,null,null,null,null,null,null,null,null,null,null,null,null,null,{"$f":"IFERROR(VLOOKUP(ROWS($CF$3:CF1198),$CH$3:$CI$2001,2,FALSE),\"\")","v":""},null,{"$f":"IF(ISNUMBER(SEARCH(B1198,CI1198)),MAX($CH$2:CH1197)+1,0)","v":0}]
[null,null,{"$f":"IF(B1201=\"\",\"\",SUMIF('الرصيد الثابت'!$D$2:$D$115,B1201,'الرصيد الثابت'!$H$2:$H$115))","v":""},{"$f":"IF(B1201=\"\",\"\",SUMIF('الرصيد الثابت'!$D$2:$D$115,B1201,'الرصيد الثابت'!$I$2:$I$115))","v":""},{"$f":"IF(B1201=\"\",\"\",SUMIF('الرصيد الثابت'!$D$2:$D$115,B1201,'الرصيد الثابت'!$J$2:$J$115))","v":""},null,0,null,null,null,null,0,null,null,null,0,null,0,null,null,null,null,null,null,null,null,null,null,null,null,null,null,null,null,null,null,null,null,null,null,null,null,null,null,null,null,null,null,null,null,null,null,null,null,null,null,null,null,null,null,null,null,null,null,null,null,null,null,null,null,null,null,null,null,null,null,null,null,null,null,null,null,null,{"$f":"IFERROR(VLOOKUP(ROWS($CF$3:CF1201),$CH$3:$CI$2001,2,FALSE),\"\")","v":""},null,{"$f":"IF(ISNUMBER(SEARCH(B1201,CI1201)),MAX($CH$2:CH1200)+1,0)","v":0}]
[null,null,{"$f":"IF(B1204=\"\",\"\",SUMIF('الرصيد الثابت'!$D$2:$D$115,B1204,'الرصيد الثابت'!$H$2:$H$115))","v":""},{"$f":"IF(B1204=\"\",\"\",SUMIF('الرصيد الثابت'!$D$2:$D$115,B1204,'الرصيد الثابت'!$I$2:$I$115))","v":""},{"$f":"IF(B1204=\"\",\"\",SUMIF('الرصيد الثابت'!$D$2:$D$115,B1204,'الرصيد الثابت'!$J$2:$J$115))","v":""},null,0,null,null,null,null,0,null,null,null,0,null,0,null,null,null,null,null,null,null,null,null,null,null,null,null,null,null,null,null,null,null,null,null,null,null,null,null,null,null,null,null,null,null,null,null,null,null,null,null,null,null,null,null,null,null,null,null,null,null,null,null,null,null,null,null,null,null,null,null,null,null,null,null,null,null,null,null,{"$f":"IFERROR(VLOOKUP(ROWS($CF$3:CF1204),$CH$3:$CI$2001,2,FALSE),\"\")","v":""},null,{"$f":"IF(ISNUMBER(SEARCH(B1204,CI1204)),MAX($CH$2:CH1203)+1,0)","v":0}]
[null,null,{"$f":"IF(B1207=\"\",\"\",SUMIF('الرصيد الثابت'!$D$2:$D$115,B1207,'الرصيد الثابت'!$H$2:$H$115))","v":""},{"$f":"IF(B1207=\"\",\"\",SUMIF('الرصيد الثابت'!$D$2:$D$115,B1207,'الرصيد الثابت'!$I$2:$I$115))","v":""},{"$f":"IF(B1207=\"\",\"\",SUMIF('الرصيد الثابت'!$D$2:$D$115,B1207,'الرصيد الثابت'!$J$2:$J$115))","v":""},null,0,null,null,null,null,0,null,null,null,0,null,0,null,null,null,null,null,null,null,null,null,null,null,null,null,null,null,null,null,null,null,null,null,null,null,null,null,null,null,null,null,null,null,null,null,null,null,null,null,null,null,null,null,null,null,null,null,null,null,null,null,null,null,null,null,null,null,null,null,null,null,null,null,null,null,null,null,{"$f":"IFERROR(VLOOKUP(ROWS($CF$3:CF1207),$CH$3:$CI$2001,2,FALSE),\"\")","v":""},null,{"$f":"IF(ISNUMBER(SEARCH(B1207,CI1207)),MAX($CH$2:CH1206)+1,0)","v":0}]
[null,null,{"$f":"IF(B1208=\"\",\"\",SUMIF('الرصيد الثابت'!$D$2:$D$115,B1208,'الرصيد الثابت'!$H$2:$H$115))","v":""},{"$f":"IF(B1208=\"\",\"\",SUMIF('الرصيد الثابت'!$D$2:$D$115,B1208,'الرصيد الثابت'!$I$2:$I$115))","v":""},{"$f":"IF(B1208=\"\",\"\",SUMIF('الرصيد الثابت'!$D$2:$D$115,B1208,'الرصيد الثابت'!$J$2:$J$115))","v":""},null,0,null,null,null,null,0,null,null,null,0,null,0,null,null,null,null,null,null,null,null,null,null,null,null,null,null,null,null,null,null,null,null,null,null,null,null,null,null,null,null,null,null,null,null,null,null,null,null,null,null,null,null,null,null,null,null,null,null,null,null,null,null,null,null,null,null,null,null,null,null,null,null,null,null,null,null,null,{"$f":"IFERROR(VLOOKUP(ROWS($CF$3:CF1208),$CH$3:$CI$2001,2,FALSE),\"\")","v":""},null,{"$f":"IF(ISNUMBER(SEARCH(B1208,CI1208)),MAX($CH$2:CH1207)+1,0)","v":0}]
[null,null,{"$f":"IF(B1212=\"\",\"\",SUMIF('الرصيد الثابت'!$D$2:$D$115,B1212,'الرصيد الثابت'!$H$2:$H$115))","v":""},{"$f":"IF(B1212=\"\",\"\",SUMIF('الرصيد الثابت'!$D$2:$D$115,B1212,'الرصيد الثابت'!$I$2:$I$115))","v":""},{"$f":"IF(B1212=\"\",\"\",SUMIF('الرصيد الثابت'!$D$2:$D$115,B1212,'الرصيد الثابت'!$J$2:$J$115))","v":""},null,0,null,null,null,null,0,null,null,null,0,null,0,null,null,null,null,null,null,null,null,null,null,null,null,null,null,null,null,null,null,null,null,null,null,null,null,null,null,null,null,null,null,null,null,null,null,null,null,null,null,null,null,null,null,null,null,null,null,null,null,null,null,null,null,null,null,null,null,null,null,null,null,null,null,null,null,null,{"$f":"IFERROR(VLOOKUP(ROWS($CF$3:CF1212),$CH$3:$CI$2001,2,FALSE),\"\")","v":""},null,{"$f":"IF(ISNUMBER(SEARCH(B1212,CI1212)),MAX($CH$2:CH1211)+1,0)","v":0}]
[null,null,{"$f":"IF(B1213=\"\",\"\",SUMIF('الرصيد الثابت'!$D$2:$D$115,B1213,'الرصيد الثابت'!$H$2:$H$115))","v":""},{"$f":"IF(B1213=\"\",\"\",SUMIF('الرصيد الثابت'!$D$2:$D$115,B1213,'الرصيد الثابت'!$I$2:$I$115))","v":""},{"$f":"IF(B1213=\"\",\"\",SUMIF('الرصيد الثابت'!$D$2:$D$115,B1213,'الرصيد الثابت'!$J$2:$J$115))","v":""},null,0,null,null,null,null,0,null,null,null,0,null,0,null,null,null,null,null,null,null,null,null,null,null,null,null,null,null,null,null,null,null,null,null,null,null,null,null,null,null,null,null,null,null,null,null,null,null,null,null,null,null,null,null,null,null,null,null,null,null,null,null,null,null,null,null,null,null,null,null,null,null,null,null,null,null,null,null,{"$f":"IFERROR(VLOOKUP(ROWS($CF$3:CF1213),$CH$3:$CI$2001,2,FALSE),\"\")","v":""},null,{"$f":"IF(ISNUMBER(SEARCH(B1213,CI1213)),MAX($CH$2:CH1212)+1,0)","v":0}]
[null,null,{"$f":"IF(B1217=\"\",\"\",SUMIF('الرصيد الثابت'!$D$2:$D$115,B1217,'الرصيد الثابت'!$H$2:$H$115))","v":""},{"$f":"IF(B1217=\"\",\"\",SUMIF('الرصيد الثابت'!$D$2:$D$115,B1217,'الرصيد الثابت'!$I$2:$I$115))","v":""},{"$f":"IF(B1217=\"\",\"\",SUMIF('الرصيد الثابت'!$D$2:$D$115,B1217,'الرصيد الثابت'!$J$2:$J$115))","v":""},null,0,null,null,null,null,0,null,null,null,0,null,0,null,null,null,null,null,null,null,null,null,null,null,null,null,null,null,null,null,null,null,null,null,null,null,null,null,null,null,null,null,null,null,null,null,null,null,null,null,null,null,null,null,null,null,null,null,null,null,null,null,null,null,null,null,null,null,null,null,null,null,null,null,null,null,null,null,{"$f":"IFERROR(VLOOKUP(ROWS($CF$3:CF1217),$CH$3:$CI$2001,2,FALSE),\"\")","v":""},null,{"$f":"IF(ISNUMBER(SEARCH(B1217,CI1217)),MAX($CH$2:CH1216)+1,0)","v":0}]
[null,null,{"$f":"IF(B1220=\"\",\"\",SUMIF('الرصيد الثابت'!$D$2:$D$115,B1220,'الرصيد الثابت'!$H$2:$H$115))","v":""},{"$f":"IF(B1220=\"\",\"\",SUMIF('الرصيد الثابت'!$D$2:$D$115,B1220,'الرصيد الثابت'!$I$2:$I$115))","v":""},{"$f":"IF(B1220=\"\",\"\",SUMIF('الرصيد الثابت'!$D$2:$D$115,B1220,'الرصيد الثابت'!$J$2:$J$115))","v":""},null,{"$f":"SUM(H1220*F1220)","v":0},null,null,null,null,0,null,null,null,0,null,0,null,null,null,null,null,null,null,null,null,null,null,null,null,null,null,null,null,null,null,null,null,null,null,null,null,null,null,null,null,null,null,null,null,null,null,null,null,null,null,null,null,null,null,null,null,null,null,null,null,null,null,null,null,null,null,null,null,null,null,null,null,null,null,null,null,{"$f":"IFERROR(VLOOKUP(ROWS($CF$3:CF1220),$CH$3:$CI$2001,2,FALSE),\"\")","v":""},null,{"$f":"IF(ISNUMBER(SEARCH(B1220,CI1220)),MAX($CH$2:CH1219)+1,0)","v":0}]
[null,null,{"$f":"IF(B1223=\"\",\"\",SUMIF('الرصيد الثابت'!$D$2:$D$115,B1223,'الرصيد الثابت'!$H$2:$H$115))","v":""},{"$f":"IF(B1223=\"\",\"\",SUMIF('الرصيد الثابت'!$D$2:$D$115,B1223,'الرصيد الثابت'!$I$2:$I$115))","v":""},{"$f":"IF(B1223=\"\",\"\",SUMIF('الرصيد الثابت'!$D$2:$D$115,B1223,'الرصيد الثابت'!$J$2:$J$115))","v":""},null,0,null,null,null,null,0,null,null,null,0,null,{"$f":"SUM(S1223*Q1223)","v":0},null,null,null,null,null,null,null,null,null,null,null,null,null,null,null,null,null,null,null,null,null,null,null,null,null,null,null,null,null,null,null,null,null,null,null,null,null,null,null,null,null,null,null,null,null,null,null,null,null,null,null,null,null,null,null,null,null,null,null,null,null,null,null,null,null,{"$f":"IFERROR(VLOOKUP(ROWS($CF$3:CF1223),$CH$3:$CI$2001,2,FALSE),\"\")","v":""},null,{"$f":"IF(ISNUMBER(SEARCH(B1223,CI1223)),MAX($CH$2:CH1222)+1,0)","v":0}]
[null,null,{"$f":"IF(B1226=\"\",\"\",SUMIF('الرصيد الثابت'!$D$2:$D$115,B1226,'الرصيد الثابت'!$H$2:$H$115))","v":""},{"$f":"IF(B1226=\"\",\"\",SUMIF('الرصيد الثابت'!$D$2:$D$115,B1226,'الرصيد الثابت'!$I$2:$I$115))","v":""},{"$f":"IF(B1226=\"\",\"\",SUMIF('الرصيد الثابت'!$D$2:$D$115,B1226,'الرصيد الثابت'!$J$2:$J$115))","v":""},null,0,null,null,null,null,0,null,null,null,0,null,0,null,null,null,null,null,null,null,null,null,null,null,null,null,null,null,null,null,null,null,null,null,null,null,null,null,null,null,null,null,null,null,null,null,null,null,null,null,null,null,null,null,null,null,null,null,null,null,null,null,null,null,null,null,null,null,null,null,null,null,null,null,null,null,null,null,{"$f":"IFERROR(VLOOKUP(ROWS($CF$3:CF1226),$CH$3:$CI$2001,2,FALSE),\"\")","v":""},null,{"$f":"IF(ISNUMBER(SEARCH(B1226,CI1226)),MAX($CH$2:CH1225)+1,0)","v":0}]
[null,null,{"$f":"IF(B1229=\"\",\"\",SUMIF('الرصيد الثابت'!$D$2:$D$115,B1229,'الرصيد الثابت'!$H$2:$H$115))","v":""},{"$f":"IF(B1229=\"\",\"\",SUMIF('الرصيد الثابت'!$D$2:$D$115,B1229,'الرصيد الثابت'!$I$2:$I$115))","v":""},{"$f":"IF(B1229=\"\",\"\",SUMIF('الرصيد الثابت'!$D$2:$D$115,B1229,'الرصيد الثابت'!$J$2:$J$115))","v":""},null,0,null,null,null,null,0,null,null,null,0,null,0,null,null,null,null,null,null,null,null,null,null,null,null,null,null,null,null,null,null,null,null,null,null,null,null,null,null,null,null,null,null,null,null,null,null,null,null,null,null,null,null,null,null,null,null,null,null,null,null,null,null,null,null,null,null,null,null,null,null,null,null,null,null,null,null,null,{"$f":"IFERROR(VLOOKUP(ROWS($CF$3:CF1229),$CH$3:$CI$2001,2,FALSE),\"\")","v":""},null,{"$f":"IF(ISNUMBER(SEARCH(B1229,CI1229)),MAX($CH$2:CH1228)+1,0)","v":0}]
[null,null,{"$f":"IF(B1230=\"\",\"\",SUMIF('الرصيد الثابت'!$D$2:$D$115,B1230,'الرصيد الثابت'!$H$2:$H$115))","v":""},{"$f":"IF(B1230=\"\",\"\",SUMIF('الرصيد الثابت'!$D$2:$D$115,B1230,'الرصيد الثابت'!$I$2:$I$115))","v":""},{"$f":"IF(B1230=\"\",\"\",SUMIF('الرصيد الثابت'!$D$2:$D$115,B1230,'الرصيد الثابت'!$J$2:$J$115))","v":""},null,0,null,null,null,null,0,null,null,null,0,null,0,null,null,null,null,null,null,null,null,null,null,null,null,null,null,null,null,null,null,null,null,null,null,null,null,null,null,null,null,null,null,null,null,null,null,null,null,null,null,null,null,null,null,null,null,null,null,null,null,null,null,null,null,null,null,null,null,null,null,null,null,null,null,null,null,null,{"$f":"IFERROR(VLOOKUP(ROWS($CF$3:CF1230),$CH$3:$CI$2001,2,FALSE),\"\")","v":""},null,{"$f":"IF(ISNUMBER(SEARCH(B1230,CI1230)),MAX($CH$2:CH1229)+1,0)","v":0}]
[null,null,{"$f":"IF(B1234=\"\",\"\",SUMIF('الرصيد الثابت'!$D$2:$D$115,B1234,'الرصيد الثابت'!$H$2:$H$115))","v":""},{"$f":"IF(B1234=\"\",\"\",SUMIF('الرصيد الثابت'!$D$2:$D$115,B1234,'الرصيد الثابت'!$I$2:$I$115))","v":""},{"$f":"IF(B1234=\"\",\"\",SUMIF('الرصيد الثابت'!$D$2:$D$115,B1234,'الرصيد الثابت'!$J$2:$J$115))","v":""},null,0,null,null,null,null,0,null,null,null,0,null,0,null,null,null,null,null,null,null,null,null,null,null,null,null,null,null,null,null,null,null,null,null,null,null,null,null,null,null,null,null,null,null,null,null,null,null,null,null,null,null,null,null,null,null,null,null,null,null,null,null,null,null,null,null,null,null,null,null,null,null,null,null,null,null,null,null,{"$f":"IFERROR(VLOOKUP(ROWS($CF$3:CF1234),$CH$3:$CI$2001,2,FALSE),\"\")","v":""},null,{"$f":"IF(ISNUMBER(SEARCH(B1234,CI1234)),MAX($CH$2:CH1233)+1,0)","v":0}]
[null,null,{"$f":"IF(B1235=\"\",\"\",SUMIF('الرصيد الثابت'!$D$2:$D$115,B1235,'الرصيد الثابت'!$H$2:$H$115))","v":""},{"$f":"IF(B1235=\"\",\"\",SUMIF('الرصيد الثابت'!$D$2:$D$115,B1235,'الرصيد الثابت'!$I$2:$I$115))","v":""},{"$f":"IF(B1235=\"\",\"\",SUMIF('الرصيد الثابت'!$D$2:$D$115,B1235,'الرصيد الثابت'!$J$2:$J$115))","v":""},null,0,null,null,null,null,0,null,null,null,0,null,0,null,null,null,null,null,null,null,null,null,null,null,null,null,null,null,null,null,null,null,null,null,null,null,null,null,null,null,null,null,null,null,null,null,null,null,null,null,null,null,null,null,null,null,null,null,null,null,null,null,null,null,null,null,null,null,null,null,null,null,null,null,null,null,null,null,{"$f":"IFERROR(VLOOKUP(ROWS($CF$3:CF1235),$CH$3:$CI$2001,2,FALSE),\"\")","v":""},null,{"$f":"IF(ISNUMBER(SEARCH(B1235,CI1235)),MAX($CH$2:CH1234)+1,0)","v":0}]
[null,null,{"$f":"IF(B1239=\"\",\"\",SUMIF('الرصيد الثابت'!$D$2:$D$115,B1239,'الرصيد الثابت'!$H$2:$H$115))","v":""},{"$f":"IF(B1239=\"\",\"\",SUMIF('الرصيد الثابت'!$D$2:$D$115,B1239,'الرصيد الثابت'!$I$2:$I$115))","v":""},{"$f":"IF(B1239=\"\",\"\",SUMIF('الرصيد الثابت'!$D$2:$D$115,B1239,'الرصيد الثابت'!$J$2:$J$115))","v":""},null,0,null,null,null,null,0,null,null,null,0,null,0,null,null,null,null,null,null,null,null,null,null,null,null,null,null,null,null,null,null,null,null,null,null,null,null,null,null,null,null,null,null,null,null,null,null,null,null,null,null,null,null,null,null,null,null,null,null,null,null,null,null,null,null,null,null,null,null,null,null,null,null,null,null,null,null,null,{"$f":"IFERROR(VLOOKUP(ROWS($CF$3:CF1239),$CH$3:$CI$2001,2,FALSE),\"\")","v":""},null,{"$f":"IF(ISNUMBER(SEARCH(B1239,CI1239)),MAX($CH$2:CH1238)+1,0)","v":0}]
[null,null,{"$f":"IF(B1242=\"\",\"\",SUMIF('الرصيد الثابت'!$D$2:$D$115,B1242,'الرصيد الثابت'!$H$2:$H$115))","v":""},{"$f":"IF(B1242=\"\",\"\",SUMIF('الرصيد الثابت'!$D$2:$D$115,B1242,'الرصيد الثابت'!$I$2:$I$115))","v":""},{"$f":"IF(B1242=\"\",\"\",SUMIF('الرصيد الثابت'!$D$2:$D$115,B1242,'الرصيد الثابت'!$J$2:$J$115))","v":""},null,0,null,null,null,null,0,null,null,null,0,null,0,null,null,null,null,null,null,null,null,null,null,null,null,null,null,null,null,null,null,null,null,null,null,null,null,null,null,null,null,null,null,null,null,null,null,null,null,null,null,null,null,null,null,null,null,null,null,null,null,null,null,null,null,null,null,null,null,null,null,null,null,null,null,null,null,null,{"$f":"IFERROR(VLOOKUP(ROWS($CF$3:CF1242),$CH$3:$CI$2001,2,FALSE),\"\")","v":""},null,{"$f":"IF(ISNUMBER(SEARCH(B1242,CI1242)),MAX($CH$2:CH1241)+1,0)","v":0}]
[null,null,{"$f":"IF(B1245=\"\",\"\",SUMIF('الرصيد الثابت'!$D$2:$D$115,B1245,'الرصيد الثابت'!$H$2:$H$115))","v":""},{"$f":"IF(B1245=\"\",\"\",SUMIF('الرصيد الثابت'!$D$2:$D$115,B1245,'الرصيد الثابت'!$I$2:$I$115))","v":""},{"$f":"IF(B1245=\"\",\"\",SUMIF('الرصيد الثابت'!$D$2:$D$115,B1245,'الرصيد الثابت'!$J$2:$J$115))","v":""},null,0,null,null,null,null,0,null,null,null,0,null,0,null,null,null,null,null,null,null,null,null,null,null,null,null,null,null,null,null,null,null,null,null,null,null,null,null,null,null,null,null,null,null,null,null,null,null,null,null,null,null,null,null,null,null,null,null,null,null,null,null,null,null,null,null,null,null,null,null,null,null,null,null,null,null,null,null,{"$f":"IFERROR(VLOOKUP(ROWS($CF$3:CF1245),$CH$3:$CI$2001,2,FALSE),\"\")","v":""},null,{"$f":"IF(ISNUMBER(SEARCH(B1245,CI1245)),MAX($CH$2:CH1244)+1,0)","v":0}]
[null,null,{"$f":"IF(B1248=\"\",\"\",SUMIF('الرصيد الثابت'!$D$2:$D$115,B1248,'الرصيد الثابت'!$H$2:$H$115))","v":""},{"$f":"IF(B1248=\"\",\"\",SUMIF('الرصيد الثابت'!$D$2:$D$115,B1248,'الرصيد الثابت'!$I$2:$I$115))","v":""},{"$f":"IF(B1248=\"\",\"\",SUMIF('الرصيد الثابت'!$D$2:$D$115,B1248,'الرصيد الثابت'!$J$2:$J$115))","v":""},null,0,null,null,null,null,0,null,null,null,0,null,0,null,null,null,null,null,null,null,null,null,null,null,null,null,null,null,null,null,null,null,null,null,null,null,null,null,null,null,null,null,null,null,null,null,null,null,null,null,null,null,null,null,null,null,null,null,null,null,null,null,null,null,null,null,null,null,null,null,null,null,null,null,null,null,null,null,{"$f":"IFERROR(VLOOKUP(ROWS($CF$3:CF1248),$CH$3:$CI$2001,2,FALSE),\"\")","v":""},null,{"$f":"IF(ISNUMBER(SEARCH(B1248,CI1248)),MAX($CH$2:CH1247)+1,0)","v":0}]
[null,null,{"$f":"IF(B1251=\"\",\"\",SUMIF('الرصيد الثابت'!$D$2:$D$115,B1251,'الرصيد الثابت'!$H$2:$H$115))","v":""},{"$f":"IF(B1251=\"\",\"\",SUMIF('الرصيد الثابت'!$D$2:$D$115,B1251,'الرصيد الثابت'!$I$2:$I$115))","v":""},{"$f":"IF(B1251=\"\",\"\",SUMIF('الرصيد الثابت'!$D$2:$D$115,B1251,'الرصيد الثابت'!$J$2:$J$115))","v":""},null,0,null,null,null,null,0,null,null,null,0,null,0,null,null,null,null,null,null,null,null,null,null,null,null,null,null,null,null,null,null,null,null,null,null,null,null,null,null,null,null,null,null,null,null,null,null,null,null,null,null,null,null,null,null,null,null,null,null,null,null,null,null,null,null,null,null,null,null,null,null,null,null,null,null,null,null,null,{"$f":"IFERROR(VLOOKUP(ROWS($CF$3:CF1251),$CH$3:$CI$2001,2,FALSE),\"\")","v":""},null,{"$f":"IF(ISNUMBER(SEARCH(B1251,CI1251)),MAX($CH$2:CH1250)+1,0)","v":0}]
[null,null,{"$f":"IF(B1252=\"\",\"\",SUMIF('الرصيد الثابت'!$D$2:$D$115,B1252,'الرصيد الثابت'!$H$2:$H$115))","v":""},{"$f":"IF(B1252=\"\",\"\",SUMIF('الرصيد الثابت'!$D$2:$D$115,B1252,'الرصيد الثابت'!$I$2:$I$115))","v":""},{"$f":"IF(B1252=\"\",\"\",SUMIF('الرصيد الثابت'!$D$2:$D$115,B1252,'الرصيد الثابت'!$J$2:$J$115))","v":""},null,0,null,null,null,null,0,null,null,null,{"$f":"SUM(#REF!-#REF!)","v":{"$error":"#REF!"}},null,0,null,null,null,null,null,null,null,null,null,null,null,null,null,null,null,null,null,null,null,null,null,null,null,null,null,null,null,null,null,null,null,null,null,null,null,null,null,null,null,null,null,null,null,null,null,null,null,null,null,null,null,null,null,null,null,null,null,null,null,null,null,null,null,null,null,{"$f":"IFERROR(VLOOKUP(ROWS($CF$3:CF1252),$CH$3:$CI$2001,2,FALSE),\"\")","v":""},null,{"$f":"IF(ISNUMBER(SEARCH(B1252,CI1252)),MAX($CH$2:CH1251)+1,0)","v":0}]
[null,null,{"$f":"IF(B1256=\"\",\"\",SUMIF('الرصيد الثابت'!$D$2:$D$115,B1256,'الرصيد الثابت'!$H$2:$H$115))","v":""},{"$f":"IF(B1256=\"\",\"\",SUMIF('الرصيد الثابت'!$D$2:$D$115,B1256,'الرصيد الثابت'!$I$2:$I$115))","v":""},{"$f":"IF(B1256=\"\",\"\",SUMIF('الرصيد الثابت'!$D$2:$D$115,B1256,'الرصيد الثابت'!$J$2:$J$115))","v":""},null,0,null,null,null,null,0,null,null,null,0,null,0,null,null,null,null,null,null,null,null,null,null,null,null,null,null,null,null,null,null,null,null,null,null,null,null,null,null,null,null,null,null,null,null,null,null,null,null,null,null,null,null,null,null,null,null,null,null,null,null,null,null,null,null,null,null,null,null,null,null,null,null,null,null,null,null,null,{"$f":"IFERROR(VLOOKUP(ROWS($CF$3:CF1256),$CH$3:$CI$2001,2,FALSE),\"\")","v":""},null,{"$f":"IF(ISNUMBER(SEARCH(B1256,CI1256)),MAX($CH$2:CH1255)+1,0)","v":0}]
[null,null,{"$f":"IF(B1258=\"\",\"\",SUMIF('الرصيد الثابت'!$D$2:$D$115,B1258,'الرصيد الثابت'!$H$2:$H$115))","v":""},{"$f":"IF(B1258=\"\",\"\",SUMIF('الرصيد الثابت'!$D$2:$D$115,B1258,'الرصيد الثابت'!$I$2:$I$115))","v":""},{"$f":"IF(B1258=\"\",\"\",SUMIF('الرصيد الثابت'!$D$2:$D$115,B1258,'الرصيد الثابت'!$J$2:$J$115))","v":""},null,0,null,null,null,null,0,null,null,null,0,null,0,null,null,null,null,null,null,null,null,null,null,null,null,null,null,null,null,null,null,null,null,null,null,null,null,null,null,null,null,null,null,null,null,null,null,null,null,null,null,null,null,null,null,null,null,null,null,null,null,null,null,null,null,null,null,null,null,null,null,null,null,null,null,null,null,null,{"$f":"IFERROR(VLOOKUP(ROWS($CF$3:CF1258),$CH$3:$CI$2001,2,FALSE),\"\")","v":""},null,{"$f":"IF(ISNUMBER(SEARCH(B1258,CI1258)),MAX($CH$2:CH1257)+1,0)","v":0}]
[null,null,{"$f":"IF(B1261=\"\",\"\",SUMIF('الرصيد الثابت'!$D$2:$D$115,B1261,'الرصيد الثابت'!$H$2:$H$115))","v":""},{"$f":"IF(B1261=\"\",\"\",SUMIF('الرصيد الثابت'!$D$2:$D$115,B1261,'الرصيد الثابت'!$I$2:$I$115))","v":""},{"$f":"IF(B1261=\"\",\"\",SUMIF('الرصيد الثابت'!$D$2:$D$115,B1261,'الرصيد الثابت'!$J$2:$J$115))","v":""},null,0,null,null,null,null,0,null,null,null,0,null,0,null,null,null,null,null,null,null,null,null,null,null,null,null,null,null,null,null,null,null,null,null,null,null,null,null,null,null,null,null,null,null,null,null,null,null,null,null,null,null,null,null,null,null,null,null,null,null,null,null,null,null,null,null,null,null,null,null,null,null,null,null,null,null,null,null,{"$f":"IFERROR(VLOOKUP(ROWS($CF$3:CF1261),$CH$3:$CI$2001,2,FALSE),\"\")","v":""},null,{"$f":"IF(ISNUMBER(SEARCH(B1261,CI1261)),MAX($CH$2:CH1260)+1,0)","v":0}]
[null,null,{"$f":"IF(B1264=\"\",\"\",SUMIF('الرصيد الثابت'!$D$2:$D$115,B1264,'الرصيد الثابت'!$H$2:$H$115))","v":""},{"$f":"IF(B1264=\"\",\"\",SUMIF('الرصيد الثابت'!$D$2:$D$115,B1264,'الرصيد الثابت'!$I$2:$I$115))","v":""},{"$f":"IF(B1264=\"\",\"\",SUMIF('الرصيد الثابت'!$D$2:$D$115,B1264,'الرصيد الثابت'!$J$2:$J$115))","v":""},null,0,null,null,null,null,0,null,null,null,0,null,0,null,null,null,null,null,null,null,null,null,null,null,null,null,null,null,null,null,null,null,null,null,null,null,null,null,null,null,null,null,null,null,null,null,null,null,null,null,null,null,null,null,null,null,null,null,null,null,null,null,null,null,null,null,null,null,null,null,null,null,null,null,null,null,null,null,{"$f":"IFERROR(VLOOKUP(ROWS($CF$3:CF1264),$CH$3:$CI$2001,2,FALSE),\"\")","v":""},null,{"$f":"IF(ISNUMBER(SEARCH(B1264,CI1264)),MAX($CH$2:CH1263)+1,0)","v":0}]
[null,null,{"$f":"IF(B1267=\"\",\"\",SUMIF('الرصيد الثابت'!$D$2:$D$115,B1267,'الرصيد الثابت'!$H$2:$H$115))","v":""},{"$f":"IF(B1267=\"\",\"\",SUMIF('الرصيد الثابت'!$D$2:$D$115,B1267,'الرصيد الثابت'!$I$2:$I$115))","v":""},{"$f":"IF(B1267=\"\",\"\",SUMIF('الرصيد الثابت'!$D$2:$D$115,B1267,'الرصيد الثابت'!$J$2:$J$115))","v":""},null,0,null,null,null,null,0,null,null,null,0,null,0,null,null,null,null,null,null,null,null,null,null,null,null,null,null,null,null,null,null,null,null,null,null,null,null,null,null,null,null,null,null,null,null,null,null,null,null,null,null,null,null,null,null,null,null,null,null,null,null,null,null,null,null,null,null,null,null,null,null,null,null,null,null,null,null,null,{"$f":"IFERROR(VLOOKUP(ROWS($CF$3:CF1267),$CH$3:$CI$2001,2,FALSE),\"\")","v":""},null,{"$f":"IF(ISNUMBER(SEARCH(B1267,CI1267)),MAX($CH$2:CH1266)+1,0)","v":0}]
[null,null,{"$f":"IF(B1270=\"\",\"\",SUMIF('الرصيد الثابت'!$D$2:$D$115,B1270,'الرصيد الثابت'!$H$2:$H$115))","v":""},{"$f":"IF(B1270=\"\",\"\",SUMIF('الرصيد الثابت'!$D$2:$D$115,B1270,'الرصيد الثابت'!$I$2:$I$115))","v":""},{"$f":"IF(B1270=\"\",\"\",SUMIF('الرصيد الثابت'!$D$2:$D$115,B1270,'الرصيد الثابت'!$J$2:$J$115))","v":""},null,0,null,null,null,null,0,null,null,null,0,null,0,null,null,null,null,null,null,null,null,null,null,null,null,null,null,null,null,null,null,null,null,null,null,null,null,null,null,null,null,null,null,null,null,null,null,null,null,null,null,null,null,null,null,null,null,null,null,null,null,null,null,null,null,null,null,null,null,null,null,null,null,null,null,null,null,null,{"$f":"IFERROR(VLOOKUP(ROWS($CF$3:CF1270),$CH$3:$CI$2001,2,FALSE),\"\")","v":""},null,{"$f":"IF(ISNUMBER(SEARCH(B1270,CI1270)),MAX($CH$2:CH1269)+1,0)","v":0}]
[null,null,{"$f":"IF(B1273=\"\",\"\",SUMIF('الرصيد الثابت'!$D$2:$D$115,B1273,'الرصيد الثابت'!$H$2:$H$115))","v":""},{"$f":"IF(B1273=\"\",\"\",SUMIF('الرصيد الثابت'!$D$2:$D$115,B1273,'الرصيد الثابت'!$I$2:$I$115))","v":""},{"$f":"IF(B1273=\"\",\"\",SUMIF('الرصيد الثابت'!$D$2:$D$115,B1273,'الرصيد الثابت'!$J$2:$J$115))","v":""},null,0,null,null,null,null,0,null,null,null,0,null,0,null,null,null,null,null,null,null,null,null,null,null,null,null,null,null,null,null,null,null,null,null,null,null,null,null,null,null,null,null,null,null,null,null,null,null,null,null,null,null,null,null,null,null,null,null,null,null,null,null,null,null,null,null,null,null,null,null,null,null,null,null,null,null,null,null,{"$f":"IFERROR(VLOOKUP(ROWS($CF$3:CF1273),$CH$3:$CI$2001,2,FALSE),\"\")","v":""},null,{"$f":"IF(ISNUMBER(SEARCH(B1273,CI1273)),MAX($CH$2:CH1272)+1,0)","v":0}]
[null,null,{"$f":"IF(B1274=\"\",\"\",SUMIF('الرصيد الثابت'!$D$2:$D$115,B1274,'الرصيد الثابت'!$H$2:$H$115))","v":""},{"$f":"IF(B1274=\"\",\"\",SUMIF('الرصيد الثابت'!$D$2:$D$115,B1274,'الرصيد الثابت'!$I$2:$I$115))","v":""},{"$f":"IF(B1274=\"\",\"\",SUMIF('الرصيد الثابت'!$D$2:$D$115,B1274,'الرصيد الثابت'!$J$2:$J$115))","v":""},null,0,null,null,null,null,0,null,null,null,0,null,0,null,null,null,null,null,null,null,null,null,null,null,null,null,null,null,null,null,null,null,null,null,null,null,null,null,null,null,null,null,null,null,null,null,null,null,null,null,null,null,null,null,null,null,null,null,null,null,null,null,null,null,null,null,null,null,null,null,null,null,null,null,null,null,null,null,{"$f":"IFERROR(VLOOKUP(ROWS($CF$3:CF1274),$CH$3:$CI$2001,2,FALSE),\"\")","v":""},null,{"$f":"IF(ISNUMBER(SEARCH(B1274,CI1274)),MAX($CH$2:CH1273)+1,0)","v":0}]
[null,null,{"$f":"IF(B1278=\"\",\"\",SUMIF('الرصيد الثابت'!$D$2:$D$115,B1278,'الرصيد الثابت'!$H$2:$H$115))","v":""},{"$f":"IF(B1278=\"\",\"\",SUMIF('الرصيد الثابت'!$D$2:$D$115,B1278,'الرصيد الثابت'!$I$2:$I$115))","v":""},{"$f":"IF(B1278=\"\",\"\",SUMIF('الرصيد الثابت'!$D$2:$D$115,B1278,'الرصيد الثابت'!$J$2:$J$115))","v":""},null,0,null,null,null,null,0,null,null,null,0,null,0,null,null,null,null,null,null,null,null,null,null,null,null,null,null,null,null,null,null,null,null,null,null,null,null,null,null,null,null,null,null,null,null,null,null,null,null,null,null,null,null,null,null,null,null,null,null,null,null,null,null,null,null,null,null,null,null,null,null,null,null,null,null,null,null,null,{"$f":"IFERROR(VLOOKUP(ROWS($CF$3:CF1278),$CH$3:$CI$2001,2,FALSE),\"\")","v":""},null,{"$f":"IF(ISNUMBER(SEARCH(B1278,CI1278)),MAX($CH$2:CH1277)+1,0)","v":0}]
[null,null,{"$f":"IF(B1280=\"\",\"\",SUMIF('الرصيد الثابت'!$D$2:$D$115,B1280,'الرصيد الثابت'!$H$2:$H$115))","v":""},{"$f":"IF(B1280=\"\",\"\",SUMIF('الرصيد الثابت'!$D$2:$D$115,B1280,'الرصيد الثابت'!$I$2:$I$115))","v":""},{"$f":"IF(B1280=\"\",\"\",SUMIF('الرصيد الثابت'!$D$2:$D$115,B1280,'الرصيد الثابت'!$J$2:$J$115))","v":""},null,0,null,null,null,null,0,null,null,null,0,null,0,null,null,null,null,null,null,null,null,null,null,null,null,null,null,null,null,null,null,null,null,null,null,null,null,null,null,null,null,null,null,null,null,null,null,null,null,null,null,null,null,null,null,null,null,null,null,null,null,null,null,null,null,null,null,null,null,null,null,null,null,null,null,null,null,null,{"$f":"IFERROR(VLOOKUP(ROWS($CF$3:CF1280),$CH$3:$CI$2001,2,FALSE),\"\")","v":""},null,{"$f":"IF(ISNUMBER(SEARCH(B1280,CI1280)),MAX($CH$2:CH1279)+1,0)","v":0}]
[null,null,{"$f":"IF(B1283=\"\",\"\",SUMIF('الرصيد الثابت'!$D$2:$D$115,B1283,'الرصيد الثابت'!$H$2:$H$115))","v":""},{"$f":"IF(B1283=\"\",\"\",SUMIF('الرصيد الثابت'!$D$2:$D$115,B1283,'الرصيد الثابت'!$I$2:$I$115))","v":""},{"$f":"IF(B1283=\"\",\"\",SUMIF('الرصيد الثابت'!$D$2:$D$115,B1283,'الرصيد الثابت'!$J$2:$J$115))","v":""},null,0,null,null,null,null,{"$f":"SUM(M1283*K1283)","v":0},null,null,null,0,null,0,null,null,null,null,null,null,null,null,null,null,null,null,null,null,null,null,null,null,null,null,null,null,null,null,null,null,null,null,null,null,null,null,null,null,null,null,null,null,null,null,null,null,null,null,null,null,null,null,null,null,null,null,null,null,null,null,null,null,null,null,null,null,null,null,null,{"$f":"IFERROR(VLOOKUP(ROWS($CF$3:CF1283),$CH$3:$CI$2001,2,FALSE),\"\")","v":""},null,{"$f":"IF(ISNUMBER(SEARCH(B1283,CI1283)),MAX($CH$2:CH1282)+1,0)","v":0}]
[null,null,{"$f":"IF(B1286=\"\",\"\",SUMIF('الرصيد الثابت'!$D$2:$D$115,B1286,'الرصيد الثابت'!$H$2:$H$115))","v":""},{"$f":"IF(B1286=\"\",\"\",SUMIF('الرصيد الثابت'!$D$2:$D$115,B1286,'الرصيد الثابت'!$I$2:$I$115))","v":""},{"$f":"IF(B1286=\"\",\"\",SUMIF('الرصيد الثابت'!$D$2:$D$115,B1286,'الرصيد الثابت'!$J$2:$J$115))","v":""},null,0,null,null,null,null,0,null,null,null,0,null,0,null,null,null,null,null,null,null,null,null,null,null,null,null,null,null,null,null,null,null,null,null,null,null,null,null,null,null,null,null,null,null,null,null,null,null,null,null,null,null,null,null,null,null,null,null,null,null,null,null,null,null,null,null,null,null,null,null,null,null,null,null,null,null,null,null,{"$f":"IFERROR(VLOOKUP(ROWS($CF$3:CF1286),$CH$3:$CI$2001,2,FALSE),\"\")","v":""},null,{"$f":"IF(ISNUMBER(SEARCH(B1286,CI1286)),MAX($CH$2:CH1285)+1,0)","v":0}]
[null,null,{"$f":"IF(B1289=\"\",\"\",SUMIF('الرصيد الثابت'!$D$2:$D$115,B1289,'الرصيد الثابت'!$H$2:$H$115))","v":""},{"$f":"IF(B1289=\"\",\"\",SUMIF('الرصيد الثابت'!$D$2:$D$115,B1289,'الرصيد الثابت'!$I$2:$I$115))","v":""},{"$f":"IF(B1289=\"\",\"\",SUMIF('الرصيد الثابت'!$D$2:$D$115,B1289,'الرصيد الثابت'!$J$2:$J$115))","v":""},null,0,null,null,null,null,0,null,null,null,0,null,0,null,null,null,null,null,null,null,null,null,null,null,null,null,null,null,null,null,null,null,null,null,null,null,null,null,null,null,null,null,null,null,null,null,null,null,null,null,null,null,null,null,null,null,null,null,null,null,null,null,null,null,null,null,null,null,null,null,null,null,null,null,null,null,null,null,{"$f":"IFERROR(VLOOKUP(ROWS($CF$3:CF1289),$CH$3:$CI$2001,2,FALSE),\"\")","v":""},null,{"$f":"IF(ISNUMBER(SEARCH(B1289,CI1289)),MAX($CH$2:CH1288)+1,0)","v":0}]
[null,null,{"$f":"IF(B1292=\"\",\"\",SUMIF('الرصيد الثابت'!$D$2:$D$115,B1292,'الرصيد الثابت'!$H$2:$H$115))","v":""},{"$f":"IF(B1292=\"\",\"\",SUMIF('الرصيد الثابت'!$D$2:$D$115,B1292,'الرصيد الثابت'!$I$2:$I$115))","v":""},{"$f":"IF(B1292=\"\",\"\",SUMIF('الرصيد الثابت'!$D$2:$D$115,B1292,'الرصيد الثابت'!$J$2:$J$115))","v":""},null,0,null,null,null,null,0,null,null,null,{"$f":"SUM(F1292-K1292)","v":0},null,0,null,null,null,null,null,null,null,null,null,null,null,null,null,null,null,null,null,null,null,null,null,null,null,null,null,null,null,null,null,null,null,null,null,null,null,null,null,null,null,null,null,null,null,null,null,null,null,null,null,null,null,null,null,null,null,null,null,null,null,null,null,null,null,null,null,{"$f":"IFERROR(VLOOKUP(ROWS($CF$3:CF1292),$CH$3:$CI$2001,2,FALSE),\"\")","v":""},null,{"$f":"IF(ISNUMBER(SEARCH(B1292,CI1292)),MAX($CH$2:CH1291)+1,0)","v":0}]
[null,null,{"$f":"IF(B1293=\"\",\"\",SUMIF('الرصيد الثابت'!$D$2:$D$115,B1293,'الرصيد الثابت'!$H$2:$H$115))","v":""},{"$f":"IF(B1293=\"\",\"\",SUMIF('الرصيد الثابت'!$D$2:$D$115,B1293,'الرصيد الثابت'!$I$2:$I$115))","v":""},{"$f":"IF(B1293=\"\",\"\",SUMIF('الرصيد الثابت'!$D$2:$D$115,B1293,'الرصيد الثابت'!$J$2:$J$115))","v":""},null,0,null,null,null,null,0,null,null,null,0,null,0,null,null,null,null,null,null,null,null,null,null,null,null,null,null,null,null,null,null,null,null,null,null,null,null,null,null,null,null,null,null,null,null,null,null,null,null,null,null,null,null,null,null,null,null,null,null,null,null,null,null,null,null,null,null,null,null,null,null,null,null,null,null,null,null,null,{"$f":"IFERROR(VLOOKUP(ROWS($CF$3:CF1293),$CH$3:$CI$2001,2,FALSE),\"\")","v":""},null,{"$f":"IF(ISNUMBER(SEARCH(B1293,CI1293)),MAX($CH$2:CH1292)+1,0)","v":0}]
[null,null,{"$f":"IF(B1296=\"\",\"\",SUMIF('الرصيد الثابت'!$D$2:$D$115,B1296,'الرصيد الثابت'!$H$2:$H$115))","v":""},{"$f":"IF(B1296=\"\",\"\",SUMIF('الرصيد الثابت'!$D$2:$D$115,B1296,'الرصيد الثابت'!$I$2:$I$115))","v":""},{"$f":"IF(B1296=\"\",\"\",SUMIF('الرصيد الثابت'!$D$2:$D$115,B1296,'الرصيد الثابت'!$J$2:$J$115))","v":""},null,0,null,null,null,null,0,null,null,null,0,null,0,null,null,null,null,null,null,null,null,null,null,null,null,null,null,null,null,null,null,null,null,null,null,null,null,null,null,null,null,null,null,null,null,null,null,null,null,null,null,null,null,null,null,null,null,null,null,null,null,null,null,null,null,null,null,null,null,null,null,null,null,null,null,null,null,null,{"$f":"IFERROR(VLOOKUP(ROWS($CF$3:CF1296),$CH$3:$CI$2001,2,FALSE),\"\")","v":""},null,{"$f":"IF(ISNUMBER(SEARCH(B1296,CI1296)),MAX($CH$2:CH1295)+1,0)","v":0}]
[null,null,{"$f":"IF(B1300=\"\",\"\",SUMIF('الرصيد الثابت'!$D$2:$D$115,B1300,'الرصيد الثابت'!$H$2:$H$115))","v":""},{"$f":"IF(B1300=\"\",\"\",SUMIF('الرصيد الثابت'!$D$2:$D$115,B1300,'الرصيد الثابت'!$I$2:$I$115))","v":""},{"$f":"IF(B1300=\"\",\"\",SUMIF('الرصيد الثابت'!$D$2:$D$115,B1300,'الرصيد الثابت'!$J$2:$J$115))","v":""},null,0,null,null,null,null,0,null,null,null,0,null,0,null,null,null,null,null,null,null,null,null,null,null,null,null,null,null,null,null,null,null,null,null,null,null,null,null,null,null,null,null,null,null,null,null,null,null,null,null,null,null,null,null,null,null,null,null,null,null,null,null,null,null,null,null,null,null,null,null,null,null,null,null,null,null,null,null,{"$f":"IFERROR(VLOOKUP(ROWS($CF$3:CF1300),$CH$3:$CI$2001,2,FALSE),\"\")","v":""},null,{"$f":"IF(ISNUMBER(SEARCH(B1300,CI1300)),MAX($CH$2:CH1299)+1,0)","v":0}]
[null,null,{"$f":"IF(B1302=\"\",\"\",SUMIF('الرصيد الثابت'!$D$2:$D$115,B1302,'الرصيد الثابت'!$H$2:$H$115))","v":""},{"$f":"IF(B1302=\"\",\"\",SUMIF('الرصيد الثابت'!$D$2:$D$115,B1302,'الرصيد الثابت'!$I$2:$I$115))","v":""},{"$f":"IF(B1302=\"\",\"\",SUMIF('الرصيد الثابت'!$D$2:$D$115,B1302,'الرصيد الثابت'!$J$2:$J$115))","v":""},null,0,null,null,null,null,0,null,null,null,0,null,0,null,null,null,null,null,null,null,null,null,null,null,null,null,null,null,null,null,null,null,null,null,null,null,null,null,null,null,null,null,null,null,null,null,null,null,null,null,null,null,null,null,null,null,null,null,null,null,null,null,null,null,null,null,null,null,null,null,null,null,null,null,null,null,null,null,{"$f":"IFERROR(VLOOKUP(ROWS($CF$3:CF1302),$CH$3:$CI$2001,2,FALSE),\"\")","v":""},null,{"$f":"IF(ISNUMBER(SEARCH(B1302,CI1302)),MAX($CH$2:CH1301)+1,0)","v":0}]
[null,null,{"$f":"IF(B1305=\"\",\"\",SUMIF('الرصيد الثابت'!$D$2:$D$115,B1305,'الرصيد الثابت'!$H$2:$H$115))","v":""},{"$f":"IF(B1305=\"\",\"\",SUMIF('الرصيد الثابت'!$D$2:$D$115,B1305,'الرصيد الثابت'!$I$2:$I$115))","v":""},{"$f":"IF(B1305=\"\",\"\",SUMIF('الرصيد الثابت'!$D$2:$D$115,B1305,'الرصيد الثابت'!$J$2:$J$115))","v":""},null,0,null,null,null,null,0,null,null,null,0,null,0,null,null,null,null,null,null,null,null,null,null,null,null,null,null,null,null,null,null,null,null,null,null,null,null,null,null,null,null,null,null,null,null,null,null,null,null,null,null,null,null,null,null,null,null,null,null,null,null,null,null,null,null,null,null,null,null,null,null,null,null,null,null,null,null,null,{"$f":"IFERROR(VLOOKUP(ROWS($CF$3:CF1305),$CH$3:$CI$2001,2,FALSE),\"\")","v":""},null,{"$f":"IF(ISNUMBER(SEARCH(B1305,CI1305)),MAX($CH$2:CH1304)+1,0)","v":0}]
[null,null,{"$f":"IF(B1308=\"\",\"\",SUMIF('الرصيد الثابت'!$D$2:$D$115,B1308,'الرصيد الثابت'!$H$2:$H$115))","v":""},{"$f":"IF(B1308=\"\",\"\",SUMIF('الرصيد الثابت'!$D$2:$D$115,B1308,'الرصيد الثابت'!$I$2:$I$115))","v":""},{"$f":"IF(B1308=\"\",\"\",SUMIF('الرصيد الثابت'!$D$2:$D$115,B1308,'الرصيد الثابت'!$J$2:$J$115))","v":""},null,0,null,null,null,null,0,null,null,null,0,null,0,null,null,null,null,null,null,null,null,null,null,null,null,null,null,null,null,null,null,null,null,null,null,null,null,null,null,null,null,null,null,null,null,null,null,null,null,null,null,null,null,null,null,null,null,null,null,null,null,null,null,null,null,null,null,null,null,null,null,null,null,null,null,null,null,null,{"$f":"IFERROR(VLOOKUP(ROWS($CF$3:CF1308),$CH$3:$CI$2001,2,FALSE),\"\")","v":""},null,{"$f":"IF(ISNUMBER(SEARCH(B1308,CI1308)),MAX($CH$2:CH1307)+1,0)","v":0}]
[null,null,{"$f":"IF(B1311=\"\",\"\",SUMIF('الرصيد الثابت'!$D$2:$D$115,B1311,'الرصيد الثابت'!$H$2:$H$115))","v":""},{"$f":"IF(B1311=\"\",\"\",SUMIF('الرصيد الثابت'!$D$2:$D$115,B1311,'الرصيد الثابت'!$I$2:$I$115))","v":""},{"$f":"IF(B1311=\"\",\"\",SUMIF('الرصيد الثابت'!$D$2:$D$115,B1311,'الرصيد الثابت'!$J$2:$J$115))","v":""},null,0,null,null,null,null,0,null,null,null,0,null,0,null,null,null,null,null,null,null,null,null,null,null,null,null,null,null,null,null,null,null,null,null,null,null,null,null,null,null,null,null,null,null,null,null,null,null,null,null,null,null,null,null,null,null,null,null,null,null,null,null,null,null,null,null,null,null,null,null,null,null,null,null,null,null,null,null,{"$f":"IFERROR(VLOOKUP(ROWS($CF$3:CF1311),$CH$3:$CI$2001,2,FALSE),\"\")","v":""},null,{"$f":"IF(ISNUMBER(SEARCH(B1311,CI1311)),MAX($CH$2:CH1310)+1,0)","v":0}]
[null,null,{"$f":"IF(B1314=\"\",\"\",SUMIF('الرصيد الثابت'!$D$2:$D$115,B1314,'الرصيد الثابت'!$H$2:$H$115))","v":""},{"$f":"IF(B1314=\"\",\"\",SUMIF('الرصيد الثابت'!$D$2:$D$115,B1314,'الرصيد الثابت'!$I$2:$I$115))","v":""},{"$f":"IF(B1314=\"\",\"\",SUMIF('الرصيد الثابت'!$D$2:$D$115,B1314,'الرصيد الثابت'!$J$2:$J$115))","v":""},null,0,null,null,null,null,0,null,null,null,0,null,0,null,null,null,null,null,null,null,null,null,null,null,null,null,null,null,null,null,null,null,null,null,null,null,null,null,null,null,null,null,null,null,null,null,null,null,null,null,null,null,null,null,null,null,null,null,null,null,null,null,null,null,null,null,null,null,null,null,null,null,null,null,null,null,null,null,{"$f":"IFERROR(VLOOKUP(ROWS($CF$3:CF1314),$CH$3:$CI$2001,2,FALSE),\"\")","v":""},null,{"$f":"IF(ISNUMBER(SEARCH(B1314,CI1314)),MAX($CH$2:CH1313)+1,0)","v":0}]
[null,null,{"$f":"IF(B1315=\"\",\"\",SUMIF('الرصيد الثابت'!$D$2:$D$115,B1315,'الرصيد الثابت'!$H$2:$H$115))","v":""},{"$f":"IF(B1315=\"\",\"\",SUMIF('الرصيد الثابت'!$D$2:$D$115,B1315,'الرصيد الثابت'!$I$2:$I$115))","v":""},{"$f":"IF(B1315=\"\",\"\",SUMIF('الرصيد الثابت'!$D$2:$D$115,B1315,'الرصيد الثابت'!$J$2:$J$115))","v":""},null,0,null,null,null,null,0,null,null,null,0,null,0,null,null,null,null,null,null,null,null,null,null,null,null,null,null,null,null,null,null,null,null,null,null,null,null,null,null,null,null,null,null,null,null,null,null,null,null,null,null,null,null,null,null,null,null,null,null,null,null,null,null,null,null,null,null,null,null,null,null,null,null,null,null,null,null,null,{"$f":"IFERROR(VLOOKUP(ROWS($CF$3:CF1315),$CH$3:$CI$2001,2,FALSE),\"\")","v":""},null,{"$f":"IF(ISNUMBER(SEARCH(B1315,CI1315)),MAX($CH$2:CH1314)+1,0)","v":0}]
[null,null,{"$f":"IF(B1318=\"\",\"\",SUMIF('الرصيد الثابت'!$D$2:$D$115,B1318,'الرصيد الثابت'!$H$2:$H$115))","v":""},{"$f":"IF(B1318=\"\",\"\",SUMIF('الرصيد الثابت'!$D$2:$D$115,B1318,'الرصيد الثابت'!$I$2:$I$115))","v":""},{"$f":"IF(B1318=\"\",\"\",SUMIF('الرصيد الثابت'!$D$2:$D$115,B1318,'الرصيد الثابت'!$J$2:$J$115))","v":""},null,0,null,null,null,null,0,null,null,null,0,null,0,null,null,null,null,null,null,null,null,null,null,null,null,null,null,null,null,null,null,null,null,null,null,null,null,null,null,null,null,null,null,null,null,null,null,null,null,null,null,null,null,null,null,null,null,null,null,null,null,null,null,null,null,null,null,null,null,null,null,null,null,null,null,null,null,null,{"$f":"IFERROR(VLOOKUP(ROWS($CF$3:CF1318),$CH$3:$CI$2001,2,FALSE),\"\")","v":""},null,{"$f":"IF(ISNUMBER(SEARCH(B1318,CI1318)),MAX($CH$2:CH1317)+1,0)","v":0}]
[null,null,{"$f":"IF(B1322=\"\",\"\",SUMIF('الرصيد الثابت'!$D$2:$D$115,B1322,'الرصيد الثابت'!$H$2:$H$115))","v":""},{"$f":"IF(B1322=\"\",\"\",SUMIF('الرصيد الثابت'!$D$2:$D$115,B1322,'الرصيد الثابت'!$I$2:$I$115))","v":""},{"$f":"IF(B1322=\"\",\"\",SUMIF('الرصيد الثابت'!$D$2:$D$115,B1322,'الرصيد الثابت'!$J$2:$J$115))","v":""},null,0,null,null,null,null,0,null,null,null,0,null,0,null,null,null,null,null,null,null,null,null,null,null,null,null,null,null,null,null,null,null,null,null,null,null,null,null,null,null,null,null,null,null,null,null,null,null,null,null,null,null,null,null,null,null,null,null,null,null,null,null,null,null,null,null,null,null,null,null,null,null,null,null,null,null,null,null,{"$f":"IFERROR(VLOOKUP(ROWS($CF$3:CF1322),$CH$3:$CI$2001,2,FALSE),\"\")","v":""},null,{"$f":"IF(ISNUMBER(SEARCH(B1322,CI1322)),MAX($CH$2:CH1321)+1,0)","v":0}]
[null,null,{"$f":"IF(B1324=\"\",\"\",SUMIF('الرصيد الثابت'!$D$2:$D$115,B1324,'الرصيد الثابت'!$H$2:$H$115))","v":""},{"$f":"IF(B1324=\"\",\"\",SUMIF('الرصيد الثابت'!$D$2:$D$115,B1324,'الرصيد الثابت'!$I$2:$I$115))","v":""},{"$f":"IF(B1324=\"\",\"\",SUMIF('الرصيد الثابت'!$D$2:$D$115,B1324,'الرصيد الثابت'!$J$2:$J$115))","v":""},null,0,null,null,null,null,0,null,null,null,0,null,0,null,null,null,null,null,null,null,null,null,null,null,null,null,null,null,null,null,null,null,null,null,null,null,null,null,null,null,null,null,null,null,null,null,null,null,null,null,null,null,null,null,null,null,null,null,null,null,null,null,null,null,null,null,null,null,null,null,null,null,null,null,null,null,null,null,{"$f":"IFERROR(VLOOKUP(ROWS($CF$3:CF1324),$CH$3:$CI$2001,2,FALSE),\"\")","v":""},null,{"$f":"IF(ISNUMBER(SEARCH(B1324,CI1324)),MAX($CH$2:CH1323)+1,0)","v":0}]
[null,null,{"$f":"IF(B1327=\"\",\"\",SUMIF('الرصيد الثابت'!$D$2:$D$115,B1327,'الرصيد الثابت'!$H$2:$H$115))","v":""},{"$f":"IF(B1327=\"\",\"\",SUMIF('الرصيد الثابت'!$D$2:$D$115,B1327,'الرصيد الثابت'!$I$2:$I$115))","v":""},{"$f":"IF(B1327=\"\",\"\",SUMIF('الرصيد الثابت'!$D$2:$D$115,B1327,'الرصيد الثابت'!$J$2:$J$115))","v":""},null,0,null,null,null,null,0,null,null,null,0,null,0,null,null,null,null,null,null,null,null,null,null,null,null,null,null,null,null,null,null,null,null,null,null,null,null,null,null,null,null,null,null,null,null,null,null,null,null,null,null,null,null,null,null,null,null,null,null,null,null,null,null,null,null,null,null,null,null,null,null,null,null,null,null,null,null,null,{"$f":"IFERROR(VLOOKUP(ROWS($CF$3:CF1327),$CH$3:$CI$2001,2,FALSE),\"\")","v":""},null,{"$f":"IF(ISNUMBER(SEARCH(B1327,CI1327)),MAX($CH$2:CH1326)+1,0)","v":0}]
[null,null,{"$f":"IF(B1330=\"\",\"\",SUMIF('الرصيد الثابت'!$D$2:$D$115,B1330,'الرصيد الثابت'!$H$2:$H$115))","v":""},{"$f":"IF(B1330=\"\",\"\",SUMIF('الرصيد الثابت'!$D$2:$D$115,B1330,'الرصيد الثابت'!$I$2:$I$115))","v":""},{"$f":"IF(B1330=\"\",\"\",SUMIF('الرصيد الثابت'!$D$2:$D$115,B1330,'الرصيد الثابت'!$J$2:$J$115))","v":""},null,0,null,null,null,null,0,null,null,null,0,null,0,null,null,null,null,null,null,null,null,null,null,null,null,null,null,null,null,null,null,null,null,null,null,null,null,null,null,null,null,null,null,null,null,null,null,null,null,null,null,null,null,null,null,null,null,null,null,null,null,null,null,null,null,null,null,null,null,null,null,null,null,null,null,null,null,null,{"$f":"IFERROR(VLOOKUP(ROWS($CF$3:CF1330),$CH$3:$CI$2001,2,FALSE),\"\")","v":""},null,{"$f":"IF(ISNUMBER(SEARCH(B1330,CI1330)),MAX($CH$2:CH1329)+1,0)","v":0}]
[null,null,{"$f":"IF(B1333=\"\",\"\",SUMIF('الرصيد الثابت'!$D$2:$D$115,B1333,'الرصيد الثابت'!$H$2:$H$115))","v":""},{"$f":"IF(B1333=\"\",\"\",SUMIF('الرصيد الثابت'!$D$2:$D$115,B1333,'الرصيد الثابت'!$I$2:$I$115))","v":""},{"$f":"IF(B1333=\"\",\"\",SUMIF('الرصيد الثابت'!$D$2:$D$115,B1333,'الرصيد الثابت'!$J$2:$J$115))","v":""},null,0,null,null,null,null,0,null,null,null,0,null,0,null,null,null,null,null,null,null,null,null,null,null,null,null,null,null,null,null,null,null,null,null,null,null,null,null,null,null,null,null,null,null,null,null,null,null,null,null,null,null,null,null,null,null,null,null,null,null,null,null,null,null,null,null,null,null,null,null,null,null,null,null,null,null,null,null,{"$f":"IFERROR(VLOOKUP(ROWS($CF$3:CF1333),$CH$3:$CI$2001,2,FALSE),\"\")","v":""},null,{"$f":"IF(ISNUMBER(SEARCH(B1333,CI1333)),MAX($CH$2:CH1332)+1,0)","v":0}]
[null,null,{"$f":"IF(B1336=\"\",\"\",SUMIF('الرصيد الثابت'!$D$2:$D$115,B1336,'الرصيد الثابت'!$H$2:$H$115))","v":""},{"$f":"IF(B1336=\"\",\"\",SUMIF('الرصيد الثابت'!$D$2:$D$115,B1336,'الرصيد الثابت'!$I$2:$I$115))","v":""},{"$f":"IF(B1336=\"\",\"\",SUMIF('الرصيد الثابت'!$D$2:$D$115,B1336,'الرصيد الثابت'!$J$2:$J$115))","v":""},null,0,null,null,null,null,0,null,null,null,0,null,0,null,null,null,null,null,null,null,null,null,null,null,null,null,null,null,null,null,null,null,null,null,null,null,null,null,null,null,null,null,null,null,null,null,null,null,null,null,null,null,null,null,null,null,null,null,null,null,null,null,null,null,null,null,null,null,null,null,null,null,null,null,null,null,null,null,{"$f":"IFERROR(VLOOKUP(ROWS($CF$3:CF1336),$CH$3:$CI$2001,2,FALSE),\"\")","v":""},null,{"$f":"IF(ISNUMBER(SEARCH(B1336,CI1336)),MAX($CH$2:CH1335)+1,0)","v":0}]
[null,null,{"$f":"IF(B1337=\"\",\"\",SUMIF('الرصيد الثابت'!$D$2:$D$115,B1337,'الرصيد الثابت'!$H$2:$H$115))","v":""},{"$f":"IF(B1337=\"\",\"\",SUMIF('الرصيد الثابت'!$D$2:$D$115,B1337,'الرصيد الثابت'!$I$2:$I$115))","v":""},{"$f":"IF(B1337=\"\",\"\",SUMIF('الرصيد الثابت'!$D$2:$D$115,B1337,'الرصيد الثابت'!$J$2:$J$115))","v":""},null,0,null,null,null,null,0,null,null,null,0,null,0,null,null,null,null,null,null,null,null,null,null,null,null,null,null,null,null,null,null,null,null,null,null,null,null,null,null,null,null,null,null,null,null,null,null,null,null,null,null,null,null,null,null,null,null,null,null,null,null,null,null,null,null,null,null,null,null,null,null,null,null,null,null,null,null,null,{"$f":"IFERROR(VLOOKUP(ROWS($CF$3:CF1337),$CH$3:$CI$2001,2,FALSE),\"\")","v":""},null,{"$f":"IF(ISNUMBER(SEARCH(B1337,CI1337)),MAX($CH$2:CH1336)+1,0)","v":0}]
[null,null,{"$f":"IF(B1340=\"\",\"\",SUMIF('الرصيد الثابت'!$D$2:$D$115,B1340,'الرصيد الثابت'!$H$2:$H$115))","v":""},{"$f":"IF(B1340=\"\",\"\",SUMIF('الرصيد الثابت'!$D$2:$D$115,B1340,'الرصيد الثابت'!$I$2:$I$115))","v":""},{"$f":"IF(B1340=\"\",\"\",SUMIF('الرصيد الثابت'!$D$2:$D$115,B1340,'الرصيد الثابت'!$J$2:$J$115))","v":""},null,0,null,null,null,null,0,null,null,null,0,null,0,null,null,null,null,null,null,null,null,null,null,null,null,null,null,null,null,null,null,null,null,null,null,null,null,null,null,null,null,null,null,null,null,null,null,null,null,null,null,null,null,null,null,null,null,null,null,null,null,null,null,null,null,null,null,null,null,null,null,null,null,null,null,null,null,null,{"$f":"IFERROR(VLOOKUP(ROWS($CF$3:CF1340),$CH$3:$CI$2001,2,FALSE),\"\")","v":""},null,{"$f":"IF(ISNUMBER(SEARCH(B1340,CI1340)),MAX($CH$2:CH1339)+1,0)","v":0}]
[null,null,{"$f":"IF(B1344=\"\",\"\",SUMIF('الرصيد الثابت'!$D$2:$D$115,B1344,'الرصيد الثابت'!$H$2:$H$115))","v":""},{"$f":"IF(B1344=\"\",\"\",SUMIF('الرصيد الثابت'!$D$2:$D$115,B1344,'الرصيد الثابت'!$I$2:$I$115))","v":""},{"$f":"IF(B1344=\"\",\"\",SUMIF('الرصيد الثابت'!$D$2:$D$115,B1344,'الرصيد الثابت'!$J$2:$J$115))","v":""},null,0,null,null,null,null,0,null,null,null,0,null,0,null,null,null,null,null,null,null,null,null,null,null,null,null,null,null,null,null,null,null,null,null,null,null,null,null,null,null,null,null,null,null,null,null,null,null,null,null,null,null,null,null,null,null,null,null,null,null,null,null,null,null,null,null,null,null,null,null,null,null,null,null,null,null,null,null,{"$f":"IFERROR(VLOOKUP(ROWS($CF$3:CF1344),$CH$3:$CI$2001,2,FALSE),\"\")","v":""},null,{"$f":"IF(ISNUMBER(SEARCH(B1344,CI1344)),MAX($CH$2:CH1343)+1,0)","v":0}]
[null,null,{"$f":"IF(B1346=\"\",\"\",SUMIF('الرصيد الثابت'!$D$2:$D$115,B1346,'الرصيد الثابت'!$H$2:$H$115))","v":""},{"$f":"IF(B1346=\"\",\"\",SUMIF('الرصيد الثابت'!$D$2:$D$115,B1346,'الرصيد الثابت'!$I$2:$I$115))","v":""},{"$f":"IF(B1346=\"\",\"\",SUMIF('الرصيد الثابت'!$D$2:$D$115,B1346,'الرصيد الثابت'!$J$2:$J$115))","v":""},null,0,null,null,null,null,0,null,null,null,0,null,0,null,null,null,null,null,null,null,null,null,null,null,null,null,null,null,null,null,null,null,null,null,null,null,null,null,null,null,null,null,null,null,null,null,null,null,null,null,null,null,null,null,null,null,null,null,null,null,null,null,null,null,null,null,null,null,null,null,null,null,null,null,null,null,null,null,{"$f":"IFERROR(VLOOKUP(ROWS($CF$3:CF1346),$CH$3:$CI$2001,2,FALSE),\"\")","v":""},null,{"$f":"IF(ISNUMBER(SEARCH(B1346,CI1346)),MAX($CH$2:CH1345)+1,0)","v":0}]
[null,null,{"$f":"IF(B1349=\"\",\"\",SUMIF('الرصيد الثابت'!$D$2:$D$115,B1349,'الرصيد الثابت'!$H$2:$H$115))","v":""},{"$f":"IF(B1349=\"\",\"\",SUMIF('الرصيد الثابت'!$D$2:$D$115,B1349,'الرصيد الثابت'!$I$2:$I$115))","v":""},{"$f":"IF(B1349=\"\",\"\",SUMIF('الرصيد الثابت'!$D$2:$D$115,B1349,'الرصيد الثابت'!$J$2:$J$115))","v":""},null,0,null,null,null,null,0,null,null,null,0,null,0,null,null,null,null,null,null,null,null,null,null,null,null,null,null,null,null,null,null,null,null,null,null,null,null,null,null,null,null,null,null,null,null,null,null,null,null,null,null,null,null,null,null,null,null,null,null,null,null,null,null,null,null,null,null,null,null,null,null,null,null,null,null,null,null,null,{"$f":"IFERROR(VLOOKUP(ROWS($CF$3:CF1349),$CH$3:$CI$2001,2,FALSE),\"\")","v":""},null,{"$f":"IF(ISNUMBER(SEARCH(B1349,CI1349)),MAX($CH$2:CH1348)+1,0)","v":0}]
[null,null,{"$f":"IF(B1353=\"\",\"\",SUMIF('الرصيد الثابت'!$D$2:$D$115,B1353,'الرصيد الثابت'!$H$2:$H$115))","v":""},{"$f":"IF(B1353=\"\",\"\",SUMIF('الرصيد الثابت'!$D$2:$D$115,B1353,'الرصيد الثابت'!$I$2:$I$115))","v":""},{"$f":"IF(B1353=\"\",\"\",SUMIF('الرصيد الثابت'!$D$2:$D$115,B1353,'الرصيد الثابت'!$J$2:$J$115))","v":""},null,0,null,null,null,null,0,null,null,null,0,null,0,null,null,null,null,null,null,null,null,null,null,null,null,null,null,null,null,null,null,null,null,null,null,null,null,null,null,null,null,null,null,null,null,null,null,null,null,null,null,null,null,null,null,null,null,null,null,null,null,null,null,null,null,null,null,null,null,null,null,null,null,null,null,null,null,null,{"$f":"IFERROR(VLOOKUP(ROWS($CF$3:CF1353),$CH$3:$CI$2001,2,FALSE),\"\")","v":""},null,{"$f":"IF(ISNUMBER(SEARCH(B1353,CI1353)),MAX($CH$2:CH1352)+1,0)","v":0}]
[null,null,{"$f":"IF(B1355=\"\",\"\",SUMIF('الرصيد الثابت'!$D$2:$D$115,B1355,'الرصيد الثابت'!$H$2:$H$115))","v":""},{"$f":"IF(B1355=\"\",\"\",SUMIF('الرصيد الثابت'!$D$2:$D$115,B1355,'الرصيد الثابت'!$I$2:$I$115))","v":""},{"$f":"IF(B1355=\"\",\"\",SUMIF('الرصيد الثابت'!$D$2:$D$115,B1355,'الرصيد الثابت'!$J$2:$J$115))","v":""},null,0,null,null,null,null,0,null,null,null,0,null,0,null,null,null,null,null,null,null,null,null,null,null,null,null,null,null,null,null,null,null,null,null,null,null,null,null,null,null,null,null,null,null,null,null,null,null,null,null,null,null,null,null,null,null,null,null,null,null,null,null,null,null,null,null,null,null,null,null,null,null,null,null,null,null,null,null,{"$f":"IFERROR(VLOOKUP(ROWS($CF$3:CF1355),$CH$3:$CI$2001,2,FALSE),\"\")","v":""},null,{"$f":"IF(ISNUMBER(SEARCH(B1355,CI1355)),MAX($CH$2:CH1354)+1,0)","v":0}]
[null,null,{"$f":"IF(B1358=\"\",\"\",SUMIF('الرصيد الثابت'!$D$2:$D$115,B1358,'الرصيد الثابت'!$H$2:$H$115))","v":""},{"$f":"IF(B1358=\"\",\"\",SUMIF('الرصيد الثابت'!$D$2:$D$115,B1358,'الرصيد الثابت'!$I$2:$I$115))","v":""},{"$f":"IF(B1358=\"\",\"\",SUMIF('الرصيد الثابت'!$D$2:$D$115,B1358,'الرصيد الثابت'!$J$2:$J$115))","v":""},null,0,null,null,null,null,0,null,null,null,0,null,0,null,null,null,null,null,null,null,null,null,null,null,null,null,null,null,null,null,null,null,null,null,null,null,null,null,null,null,null,null,null,null,null,null,null,null,null,null,null,null,null,null,null,null,null,null,null,null,null,null,null,null,null,null,null,null,null,null,null,null,null,null,null,null,null,null,{"$f":"IFERROR(VLOOKUP(ROWS($CF$3:CF1358),$CH$3:$CI$2001,2,FALSE),\"\")","v":""},null,{"$f":"IF(ISNUMBER(SEARCH(B1358,CI1358)),MAX($CH$2:CH1357)+1,0)","v":0}]
[null,null,{"$f":"IF(B1359=\"\",\"\",SUMIF('الرصيد الثابت'!$D$2:$D$115,B1359,'الرصيد الثابت'!$H$2:$H$115))","v":""},{"$f":"IF(B1359=\"\",\"\",SUMIF('الرصيد الثابت'!$D$2:$D$115,B1359,'الرصيد الثابت'!$I$2:$I$115))","v":""},{"$f":"IF(B1359=\"\",\"\",SUMIF('الرصيد الثابت'!$D$2:$D$115,B1359,'الرصيد الثابت'!$J$2:$J$115))","v":""},null,0,null,null,null,null,0,null,null,null,0,null,0,null,null,null,null,null,null,null,null,null,null,null,null,null,null,null,null,null,null,null,null,null,null,null,null,null,null,null,null,null,null,null,null,null,null,null,null,null,null,null,null,null,null,null,null,null,null,null,null,null,null,null,null,null,null,null,null,null,null,null,null,null,null,null,null,null,{"$f":"IFERROR(VLOOKUP(ROWS($CF$3:CF1359),$CH$3:$CI$2001,2,FALSE),\"\")","v":""},null,{"$f":"IF(ISNUMBER(SEARCH(B1359,CI1359)),MAX($CH$2:CH1358)+1,0)","v":0}]
[null,null,{"$f":"IF(B1362=\"\",\"\",SUMIF('الرصيد الثابت'!$D$2:$D$115,B1362,'الرصيد الثابت'!$H$2:$H$115))","v":""},{"$f":"IF(B1362=\"\",\"\",SUMIF('الرصيد الثابت'!$D$2:$D$115,B1362,'الرصيد الثابت'!$I$2:$I$115))","v":""},{"$f":"IF(B1362=\"\",\"\",SUMIF('الرصيد الثابت'!$D$2:$D$115,B1362,'الرصيد الثابت'!$J$2:$J$115))","v":""},null,0,null,null,null,null,0,null,null,null,0,null,0,null,null,null,null,null,null,null,null,null,null,null,null,null,null,null,null,null,null,null,null,null,null,null,null,null,null,null,null,null,null,null,null,null,null,null,null,null,null,null,null,null,null,null,null,null,null,null,null,null,null,null,null,null,null,null,null,null,null,null,null,null,null,null,null,null,{"$f":"IFERROR(VLOOKUP(ROWS($CF$3:CF1362),$CH$3:$CI$2001,2,FALSE),\"\")","v":""},null,{"$f":"IF(ISNUMBER(SEARCH(B1362,CI1362)),MAX($CH$2:CH1361)+1,0)","v":0}]
[null,null,{"$f":"IF(B1366=\"\",\"\",SUMIF('الرصيد الثابت'!$D$2:$D$115,B1366,'الرصيد الثابت'!$H$2:$H$115))","v":""},{"$f":"IF(B1366=\"\",\"\",SUMIF('الرصيد الثابت'!$D$2:$D$115,B1366,'الرصيد الثابت'!$I$2:$I$115))","v":""},{"$f":"IF(B1366=\"\",\"\",SUMIF('الرصيد الثابت'!$D$2:$D$115,B1366,'الرصيد الثابت'!$J$2:$J$115))","v":""},null,0,null,null,null,null,0,null,null,null,0,null,0,null,null,null,null,null,null,null,null,null,null,null,null,null,null,null,null,null,null,null,null,null,null,null,null,null,null,null,null,null,null,null,null,null,null,null,null,null,null,null,null,null,null,null,null,null,null,null,null,null,null,null,null,null,null,null,null,null,null,null,null,null,null,null,null,null,{"$f":"IFERROR(VLOOKUP(ROWS($CF$3:CF1366),$CH$3:$CI$2001,2,FALSE),\"\")","v":""},null,{"$f":"IF(ISNUMBER(SEARCH(B1366,CI1366)),MAX($CH$2:CH1365)+1,0)","v":0}]
[null,null,{"$f":"IF(B1368=\"\",\"\",SUMIF('الرصيد الثابت'!$D$2:$D$115,B1368,'الرصيد الثابت'!$H$2:$H$115))","v":""},{"$f":"IF(B1368=\"\",\"\",SUMIF('الرصيد الثابت'!$D$2:$D$115,B1368,'الرصيد الثابت'!$I$2:$I$115))","v":""},{"$f":"IF(B1368=\"\",\"\",SUMIF('الرصيد الثابت'!$D$2:$D$115,B1368,'الرصيد الثابت'!$J$2:$J$115))","v":""},null,0,null,null,null,null,0,null,null,null,0,null,0,null,null,null,null,null,null,null,null,null,null,null,null,null,null,null,null,null,null,null,null,null,null,null,null,null,null,null,null,null,null,null,null,null,null,null,null,null,null,null,null,null,null,null,null,null,null,null,null,null,null,null,null,null,null,null,null,null,null,null,null,null,null,null,null,null,{"$f":"IFERROR(VLOOKUP(ROWS($CF$3:CF1368),$CH$3:$CI$2001,2,FALSE),\"\")","v":""},null,{"$f":"IF(ISNUMBER(SEARCH(B1368,CI1368)),MAX($CH$2:CH1367)+1,0)","v":0}]
[null,null,{"$f":"IF(B1371=\"\",\"\",SUMIF('الرصيد الثابت'!$D$2:$D$115,B1371,'الرصيد الثابت'!$H$2:$H$115))","v":""},{"$f":"IF(B1371=\"\",\"\",SUMIF('الرصيد الثابت'!$D$2:$D$115,B1371,'الرصيد الثابت'!$I$2:$I$115))","v":""},{"$f":"IF(B1371=\"\",\"\",SUMIF('الرصيد الثابت'!$D$2:$D$115,B1371,'الرصيد الثابت'!$J$2:$J$115))","v":""},null,0,null,null,null,null,0,null,null,null,0,null,0,null,null,null,null,null,null,null,null,null,null,null,null,null,null,null,null,null,null,null,null,null,null,null,null,null,null,null,null,null,null,null,null,null,null,null,null,null,null,null,null,null,null,null,null,null,null,null,null,null,null,null,null,null,null,null,null,null,null,null,null,null,null,null,null,null,{"$f":"IFERROR(VLOOKUP(ROWS($CF$3:CF1371),$CH$3:$CI$2001,2,FALSE),\"\")","v":""},null,{"$f":"IF(ISNUMBER(SEARCH(B1371,CI1371)),MAX($CH$2:CH1370)+1,0)","v":0}]
[null,null,{"$f":"IF(B1375=\"\",\"\",SUMIF('الرصيد الثابت'!$D$2:$D$115,B1375,'الرصيد الثابت'!$H$2:$H$115))","v":""},{"$f":"IF(B1375=\"\",\"\",SUMIF('الرصيد الثابت'!$D$2:$D$115,B1375,'الرصيد الثابت'!$I$2:$I$115))","v":""},{"$f":"IF(B1375=\"\",\"\",SUMIF('الرصيد الثابت'!$D$2:$D$115,B1375,'الرصيد الثابت'!$J$2:$J$115))","v":""},null,0,null,null,null,null,0,null,null,null,0,null,0,null,null,null,null,null,null,null,null,null,null,null,null,null,null,null,null,null,null,null,null,null,null,null,null,null,null,null,null,null,null,null,null,null,null,null,null,null,null,null,null,null,null,null,null,null,null,null,null,null,null,null,null,null,null,null,null,null,null,null,null,null,null,null,null,null,{"$f":"IFERROR(VLOOKUP(ROWS($CF$3:CF1375),$CH$3:$CI$2001,2,FALSE),\"\")","v":""},null,{"$f":"IF(ISNUMBER(SEARCH(B1375,CI1375)),MAX($CH$2:CH1374)+1,0)","v":0}]
[null,null,{"$f":"IF(B1377=\"\",\"\",SUMIF('الرصيد الثابت'!$D$2:$D$115,B1377,'الرصيد الثابت'!$H$2:$H$115))","v":""},{"$f":"IF(B1377=\"\",\"\",SUMIF('الرصيد الثابت'!$D$2:$D$115,B1377,'الرصيد الثابت'!$I$2:$I$115))","v":""},{"$f":"IF(B1377=\"\",\"\",SUMIF('الرصيد الثابت'!$D$2:$D$115,B1377,'الرصيد الثابت'!$J$2:$J$115))","v":""},null,0,null,null,null,null,0,null,null,null,0,null,0,null,null,null,null,null,null,null,null,null,null,null,null,null,null,null,null,null,null,null,null,null,null,null,null,null,null,null,null,null,null,null,null,null,null,null,null,null,null,null,null,null,null,null,null,null,null,null,null,null,null,null,null,null,null,null,null,null,null,null,null,null,null,null,null,null,{"$f":"IFERROR(VLOOKUP(ROWS($CF$3:CF1377),$CH$3:$CI$2001,2,FALSE),\"\")","v":""},null,{"$f":"IF(ISNUMBER(SEARCH(B1377,CI1377)),MAX($CH$2:CH1376)+1,0)","v":0}]
[null,null,{"$f":"IF(B1380=\"\",\"\",SUMIF('الرصيد الثابت'!$D$2:$D$115,B1380,'الرصيد الثابت'!$H$2:$H$115))","v":""},{"$f":"IF(B1380=\"\",\"\",SUMIF('الرصيد الثابت'!$D$2:$D$115,B1380,'الرصيد الثابت'!$I$2:$I$115))","v":""},{"$f":"IF(B1380=\"\",\"\",SUMIF('الرصيد الثابت'!$D$2:$D$115,B1380,'الرصيد الثابت'!$J$2:$J$115))","v":""},null,0,null,null,null,null,0,null,null,null,0,null,0,null,null,null,null,null,null,null,null,null,null,null,null,null,null,null,null,null,null,null,null,null,null,null,null,null,null,null,null,null,null,null,null,null,null,null,null,null,null,null,null,null,null,null,null,null,null,null,null,null,null,null,null,null,null,null,null,null,null,null,null,null,null,null,null,null,{"$f":"IFERROR(VLOOKUP(ROWS($CF$3:CF1380),$CH$3:$CI$2001,2,FALSE),\"\")","v":""},null,{"$f":"IF(ISNUMBER(SEARCH(B1380,CI1380)),MAX($CH$2:CH1379)+1,0)","v":0}]
[null,null,{"$f":"IF(B1381=\"\",\"\",SUMIF('الرصيد الثابت'!$D$2:$D$115,B1381,'الرصيد الثابت'!$H$2:$H$115))","v":""},{"$f":"IF(B1381=\"\",\"\",SUMIF('الرصيد الثابت'!$D$2:$D$115,B1381,'الرصيد الثابت'!$I$2:$I$115))","v":""},{"$f":"IF(B1381=\"\",\"\",SUMIF('الرصيد الثابت'!$D$2:$D$115,B1381,'الرصيد الثابت'!$J$2:$J$115))","v":""},null,0,null,null,null,null,0,null,null,null,0,null,0,null,null,null,null,null,null,null,null,null,null,null,null,null,null,null,null,null,null,null,null,null,null,null,null,null,null,null,null,null,null,null,null,null,null,null,null,null,null,null,null,null,null,null,null,null,null,null,null,null,null,null,null,null,null,null,null,null,null,null,null,null,null,null,null,null,{"$f":"IFERROR(VLOOKUP(ROWS($CF$3:CF1381),$CH$3:$CI$2001,2,FALSE),\"\")","v":""},null,{"$f":"IF(ISNUMBER(SEARCH(B1381,CI1381)),MAX($CH$2:CH1380)+1,0)","v":0}]
[null,null,{"$f":"IF(B1384=\"\",\"\",SUMIF('الرصيد الثابت'!$D$2:$D$115,B1384,'الرصيد الثابت'!$H$2:$H$115))","v":""},{"$f":"IF(B1384=\"\",\"\",SUMIF('الرصيد الثابت'!$D$2:$D$115,B1384,'الرصيد الثابت'!$I$2:$I$115))","v":""},{"$f":"IF(B1384=\"\",\"\",SUMIF('الرصيد الثابت'!$D$2:$D$115,B1384,'الرصيد الثابت'!$J$2:$J$115))","v":""},null,0,null,null,null,null,0,null,null,null,0,null,0,null,null,null,null,null,null,null,null,null,null,null,null,null,null,null,null,null,null,null,null,null,null,null,null,null,null,null,null,null,null,null,null,null,null,null,null,null,null,null,null,null,null,null,null,null,null,null,null,null,null,null,null,null,null,null,null,null,null,null,null,null,null,null,null,null,{"$f":"IFERROR(VLOOKUP(ROWS($CF$3:CF1384),$CH$3:$CI$2001,2,FALSE),\"\")","v":""},null,{"$f":"IF(ISNUMBER(SEARCH(B1384,CI1384)),MAX($CH$2:CH1383)+1,0)","v":0}]
[null,null,{"$f":"IF(B1388=\"\",\"\",SUMIF('الرصيد الثابت'!$D$2:$D$115,B1388,'الرصيد الثابت'!$H$2:$H$115))","v":""},{"$f":"IF(B1388=\"\",\"\",SUMIF('الرصيد الثابت'!$D$2:$D$115,B1388,'الرصيد الثابت'!$I$2:$I$115))","v":""},{"$f":"IF(B1388=\"\",\"\",SUMIF('الرصيد الثابت'!$D$2:$D$115,B1388,'الرصيد الثابت'!$J$2:$J$115))","v":""},null,0,null,null,null,null,0,null,null,null,0,null,0,null,null,null,null,null,null,null,null,null,null,null,null,null,null,null,null,null,null,null,null,null,null,null,null,null,null,null,null,null,null,null,null,null,null,null,null,null,null,null,null,null,null,null,null,null,null,null,null,null,null,null,null,null,null,null,null,null,null,null,null,null,null,null,null,null,{"$f":"IFERROR(VLOOKUP(ROWS($CF$3:CF1388),$CH$3:$CI$2001,2,FALSE),\"\")","v":""},null,{"$f":"IF(ISNUMBER(SEARCH(B1388,CI1388)),MAX($CH$2:CH1387)+1,0)","v":0}]
[null,null,{"$f":"IF(B1390=\"\",\"\",SUMIF('الرصيد الثابت'!$D$2:$D$115,B1390,'الرصيد الثابت'!$H$2:$H$115))","v":""},{"$f":"IF(B1390=\"\",\"\",SUMIF('الرصيد الثابت'!$D$2:$D$115,B1390,'الرصيد الثابت'!$I$2:$I$115))","v":""},{"$f":"IF(B1390=\"\",\"\",SUMIF('الرصيد الثابت'!$D$2:$D$115,B1390,'الرصيد الثابت'!$J$2:$J$115))","v":""},null,0,null,null,null,null,0,null,null,null,0,null,0,null,null,null,null,null,null,null,null,null,null,null,null,null,null,null,null,null,null,null,null,null,null,null,null,null,null,null,null,null,null,null,null,null,null,null,null,null,null,null,null,null,null,null,null,null,null,null,null,null,null,null,null,null,null,null,null,null,null,null,null,null,null,null,null,null,{"$f":"IFERROR(VLOOKUP(ROWS($CF$3:CF1390),$CH$3:$CI$2001,2,FALSE),\"\")","v":""},null,{"$f":"IF(ISNUMBER(SEARCH(B1390,CI1390)),MAX($CH$2:CH1389)+1,0)","v":0}]
[null,null,{"$f":"IF(B1393=\"\",\"\",SUMIF('الرصيد الثابت'!$D$2:$D$115,B1393,'الرصيد الثابت'!$H$2:$H$115))","v":""},{"$f":"IF(B1393=\"\",\"\",SUMIF('الرصيد الثابت'!$D$2:$D$115,B1393,'الرصيد الثابت'!$I$2:$I$115))","v":""},{"$f":"IF(B1393=\"\",\"\",SUMIF('الرصيد الثابت'!$D$2:$D$115,B1393,'الرصيد الثابت'!$J$2:$J$115))","v":""},null,0,null,null,null,null,0,null,null,null,0,null,0,null,null,null,null,null,null,null,null,null,null,null,null,null,null,null,null,null,null,null,null,null,null,null,null,null,null,null,null,null,null,null,null,null,null,null,null,null,null,null,null,null,null,null,null,null,null,null,null,null,null,null,null,null,null,null,null,null,null,null,null,null,null,null,null,null,{"$f":"IFERROR(VLOOKUP(ROWS($CF$3:CF1393),$CH$3:$CI$2001,2,FALSE),\"\")","v":""},null,{"$f":"IF(ISNUMBER(SEARCH(B1393,CI1393)),MAX($CH$2:CH1392)+1,0)","v":0}]
[null,null,{"$f":"IF(B1397=\"\",\"\",SUMIF('الرصيد الثابت'!$D$2:$D$115,B1397,'الرصيد الثابت'!$H$2:$H$115))","v":""},{"$f":"IF(B1397=\"\",\"\",SUMIF('الرصيد الثابت'!$D$2:$D$115,B1397,'الرصيد الثابت'!$I$2:$I$115))","v":""},{"$f":"IF(B1397=\"\",\"\",SUMIF('الرصيد الثابت'!$D$2:$D$115,B1397,'الرصيد الثابت'!$J$2:$J$115))","v":""},null,0,null,null,null,null,0,null,null,null,0,null,0,null,null,null,null,null,null,null,null,null,null,null,null,null,null,null,null,null,null,null,null,null,null,null,null,null,null,null,null,null,null,null,null,null,null,null,null,null,null,null,null,null,null,null,null,null,null,null,null,null,null,null,null,null,null,null,null,null,null,null,null,null,null,null,null,null,{"$f":"IFERROR(VLOOKUP(ROWS($CF$3:CF1397),$CH$3:$CI$2001,2,FALSE),\"\")","v":""},null,{"$f":"IF(ISNUMBER(SEARCH(B1397,CI1397)),MAX($CH$2:CH1396)+1,0)","v":0}]
[null,null,{"$f":"IF(B1399=\"\",\"\",SUMIF('الرصيد الثابت'!$D$2:$D$115,B1399,'الرصيد الثابت'!$H$2:$H$115))","v":""},{"$f":"IF(B1399=\"\",\"\",SUMIF('الرصيد الثابت'!$D$2:$D$115,B1399,'الرصيد الثابت'!$I$2:$I$115))","v":""},{"$f":"IF(B1399=\"\",\"\",SUMIF('الرصيد الثابت'!$D$2:$D$115,B1399,'الرصيد الثابت'!$J$2:$J$115))","v":""},null,0,null,null,null,null,0,null,null,null,0,null,0,null,null,null,null,null,null,null,null,null,null,null,null,null,null,null,null,null,null,null,null,null,null,null,null,null,null,null,null,null,null,null,null,null,null,null,null,null,null,null,null,null,null,null,null,null,null,null,null,null,null,null,null,null,null,null,null,null,null,null,null,null,null,null,null,null,{"$f":"IFERROR(VLOOKUP(ROWS($CF$3:CF1399),$CH$3:$CI$2001,2,FALSE),\"\")","v":""},null,{"$f":"IF(ISNUMBER(SEARCH(B1399,CI1399)),MAX($CH$2:CH1398)+1,0)","v":0}]
[null,null,{"$f":"IF(B1402=\"\",\"\",SUMIF('الرصيد الثابت'!$D$2:$D$115,B1402,'الرصيد الثابت'!$H$2:$H$115))","v":""},{"$f":"IF(B1402=\"\",\"\",SUMIF('الرصيد الثابت'!$D$2:$D$115,B1402,'الرصيد الثابت'!$I$2:$I$115))","v":""},{"$f":"IF(B1402=\"\",\"\",SUMIF('الرصيد الثابت'!$D$2:$D$115,B1402,'الرصيد الثابت'!$J$2:$J$115))","v":""},null,0,null,null,null,null,0,null,null,null,0,null,0,null,null,null,null,null,null,null,null,null,null,null,null,null,null,null,null,null,null,null,null,null,null,null,null,null,null,null,null,null,null,null,null,null,null,null,null,null,null,null,null,null,null,null,null,null,null,null,null,null,null,null,null,null,null,null,null,null,null,null,null,null,null,null,null,null,{"$f":"IFERROR(VLOOKUP(ROWS($CF$3:CF1402),$CH$3:$CI$2001,2,FALSE),\"\")","v":""},null,{"$f":"IF(ISNUMBER(SEARCH(B1402,CI1402)),MAX($CH$2:CH1401)+1,0)","v":0}]
[null,null,{"$f":"IF(B1403=\"\",\"\",SUMIF('الرصيد الثابت'!$D$2:$D$115,B1403,'الرصيد الثابت'!$H$2:$H$115))","v":""},{"$f":"IF(B1403=\"\",\"\",SUMIF('الرصيد الثابت'!$D$2:$D$115,B1403,'الرصيد الثابت'!$I$2:$I$115))","v":""},{"$f":"IF(B1403=\"\",\"\",SUMIF('الرصيد الثابت'!$D$2:$D$115,B1403,'الرصيد الثابت'!$J$2:$J$115))","v":""},null,0,null,null,null,null,0,null,null,null,0,null,0,null,null,null,null,null,null,null,null,null,null,null,null,null,null,null,null,null,null,null,null,null,null,null,null,null,null,null,null,null,null,null,null,null,null,null,null,null,null,null,null,null,null,null,null,null,null,null,null,null,null,null,null,null,null,null,null,null,null,null,null,null,null,null,null,null,{"$f":"IFERROR(VLOOKUP(ROWS($CF$3:CF1403),$CH$3:$CI$2001,2,FALSE),\"\")","v":""},null,{"$f":"IF(ISNUMBER(SEARCH(B1403,CI1403)),MAX($CH$2:CH1402)+1,0)","v":0}]
[null,null,{"$f":"IF(B1406=\"\",\"\",SUMIF('الرصيد الثابت'!$D$2:$D$115,B1406,'الرصيد الثابت'!$H$2:$H$115))","v":""},{"$f":"IF(B1406=\"\",\"\",SUMIF('الرصيد الثابت'!$D$2:$D$115,B1406,'الرصيد الثابت'!$I$2:$I$115))","v":""},{"$f":"IF(B1406=\"\",\"\",SUMIF('الرصيد الثابت'!$D$2:$D$115,B1406,'الرصيد الثابت'!$J$2:$J$115))","v":""},null,0,null,null,null,null,0,null,null,null,0,null,0,null,null,null,null,null,null,null,null,null,null,null,null,null,null,null,null,null,null,null,null,null,null,null,null,null,null,null,null,null,null,null,null,null,null,null,null,null,null,null,null,null,null,null,null,null,null,null,null,null,null,null,null,null,null,null,null,null,null,null,null,null,null,null,null,null,{"$f":"IFERROR(VLOOKUP(ROWS($CF$3:CF1406),$CH$3:$CI$2001,2,FALSE),\"\")","v":""},null,{"$f":"IF(ISNUMBER(SEARCH(B1406,CI1406)),MAX($CH$2:CH1405)+1,0)","v":0}]
[null,null,{"$f":"IF(B1410=\"\",\"\",SUMIF('الرصيد الثابت'!$D$2:$D$115,B1410,'الرصيد الثابت'!$H$2:$H$115))","v":""},{"$f":"IF(B1410=\"\",\"\",SUMIF('الرصيد الثابت'!$D$2:$D$115,B1410,'الرصيد الثابت'!$I$2:$I$115))","v":""},{"$f":"IF(B1410=\"\",\"\",SUMIF('الرصيد الثابت'!$D$2:$D$115,B1410,'الرصيد الثابت'!$J$2:$J$115))","v":""},null,0,null,null,null,null,0,null,null,null,0,null,0,null,null,null,null,null,null,null,null,null,null,null,null,null,null,null,null,null,null,null,null,null,null,null,null,null,null,null,null,null,null,null,null,null,null,null,null,null,null,null,null,null,null,null,null,null,null,null,null,null,null,null,null,null,null,null,null,null,null,null,null,null,null,null,null,null,{"$f":"IFERROR(VLOOKUP(ROWS($CF$3:CF1410),$CH$3:$CI$2001,2,FALSE),\"\")","v":""},null,{"$f":"IF(ISNUMBER(SEARCH(B1410,CI1410)),MAX($CH$2:CH1409)+1,0)","v":0}]
[null,null,{"$f":"IF(B1412=\"\",\"\",SUMIF('الرصيد الثابت'!$D$2:$D$115,B1412,'الرصيد الثابت'!$H$2:$H$115))","v":""},{"$f":"IF(B1412=\"\",\"\",SUMIF('الرصيد الثابت'!$D$2:$D$115,B1412,'الرصيد الثابت'!$I$2:$I$115))","v":""},{"$f":"IF(B1412=\"\",\"\",SUMIF('الرصيد الثابت'!$D$2:$D$115,B1412,'الرصيد الثابت'!$J$2:$J$115))","v":""},null,{"$f":"SUM(H1412*F1412)","v":0},null,null,null,null,0,null,null,null,0,null,0,null,null,null,null,null,null,null,null,null,null,null,null,null,null,null,null,null,null,null,null,null,null,null,null,null,null,null,null,null,null,null,null,null,null,null,null,null,null,null,null,null,null,null,null,null,null,null,null,null,null,null,null,null,null,null,null,null,null,null,null,null,null,null,null,null,{"$f":"IFERROR(VLOOKUP(ROWS($CF$3:CF1412),$CH$3:$CI$2001,2,FALSE),\"\")","v":""},null,{"$f":"IF(ISNUMBER(SEARCH(B1412,CI1412)),MAX($CH$2:CH1411)+1,0)","v":0}]
[null,null,{"$f":"IF(B1415=\"\",\"\",SUMIF('الرصيد الثابت'!$D$2:$D$115,B1415,'الرصيد الثابت'!$H$2:$H$115))","v":""},{"$f":"IF(B1415=\"\",\"\",SUMIF('الرصيد الثابت'!$D$2:$D$115,B1415,'الرصيد الثابت'!$I$2:$I$115))","v":""},{"$f":"IF(B1415=\"\",\"\",SUMIF('الرصيد الثابت'!$D$2:$D$115,B1415,'الرصيد الثابت'!$J$2:$J$115))","v":""},null,0,null,null,null,null,0,null,null,null,0,null,{"$f":"SUM(S1415*Q1415)","v":0},null,null,null,null,null,null,null,null,null,null,null,null,null,null,null,null,null,null,null,null,null,null,null,null,null,null,null,null,null,null,null,null,null,null,null,null,null,null,null,null,null,null,null,null,null,null,null,null,null,null,null,null,null,null,null,null,null,null,null,null,null,null,null,null,null,{"$f":"IFERROR(VLOOKUP(ROWS($CF$3:CF1415),$CH$3:$CI$2001,2,FALSE),\"\")","v":""},null,{"$f":"IF(ISNUMBER(SEARCH(B1415,CI1415)),MAX($CH$2:CH1414)+1,0)","v":0}]
[null,null,{"$f":"IF(B1419=\"\",\"\",SUMIF('الرصيد الثابت'!$D$2:$D$115,B1419,'الرصيد الثابت'!$H$2:$H$115))","v":""},{"$f":"IF(B1419=\"\",\"\",SUMIF('الرصيد الثابت'!$D$2:$D$115,B1419,'الرصيد الثابت'!$I$2:$I$115))","v":""},{"$f":"IF(B1419=\"\",\"\",SUMIF('الرصيد الثابت'!$D$2:$D$115,B1419,'الرصيد الثابت'!$J$2:$J$115))","v":""},null,0,null,null,null,null,0,null,null,null,0,null,0,null,null,null,null,null,null,null,null,null,null,null,null,null,null,null,null,null,null,null,null,null,null,null,null,null,null,null,null,null,null,null,null,null,null,null,null,null,null,null,null,null,null,null,null,null,null,null,null,null,null,null,null,null,null,null,null,null,null,null,null,null,null,null,null,null,{"$f":"IFERROR(VLOOKUP(ROWS($CF$3:CF1419),$CH$3:$CI$2001,2,FALSE),\"\")","v":""},null,{"$f":"IF(ISNUMBER(SEARCH(B1419,CI1419)),MAX($CH$2:CH1418)+1,0)","v":0}]
[null,null,{"$f":"IF(B1421=\"\",\"\",SUMIF('الرصيد الثابت'!$D$2:$D$115,B1421,'الرصيد الثابت'!$H$2:$H$115))","v":""},{"$f":"IF(B1421=\"\",\"\",SUMIF('الرصيد الثابت'!$D$2:$D$115,B1421,'الرصيد الثابت'!$I$2:$I$115))","v":""},{"$f":"IF(B1421=\"\",\"\",SUMIF('الرصيد الثابت'!$D$2:$D$115,B1421,'الرصيد الثابت'!$J$2:$J$115))","v":""},null,0,null,null,null,null,0,null,null,null,0,null,0,null,null,null,null,null,null,null,null,null,null,null,null,null,null,null,null,null,null,null,null,null,null,null,null,null,null,null,null,null,null,null,null,null,null,null,null,null,null,null,null,null,null,null,null,null,null,null,null,null,null,null,null,null,null,null,null,null,null,null,null,null,null,null,null,null,{"$f":"IFERROR(VLOOKUP(ROWS($CF$3:CF1421),$CH$3:$CI$2001,2,FALSE),\"\")","v":""},null,{"$f":"IF(ISNUMBER(SEARCH(B1421,CI1421)),MAX($CH$2:CH1420)+1,0)","v":0}]
[null,null,{"$f":"IF(B1424=\"\",\"\",SUMIF('الرصيد الثابت'!$D$2:$D$115,B1424,'الرصيد الثابت'!$H$2:$H$115))","v":""},{"$f":"IF(B1424=\"\",\"\",SUMIF('الرصيد الثابت'!$D$2:$D$115,B1424,'الرصيد الثابت'!$I$2:$I$115))","v":""},{"$f":"IF(B1424=\"\",\"\",SUMIF('الرصيد الثابت'!$D$2:$D$115,B1424,'الرصيد الثابت'!$J$2:$J$115))","v":""},null,0,null,null,null,null,0,null,null,null,0,null,0,null,null,null,null,null,null,null,null,null,null,null,null,null,null,null,null,null,null,null,null,null,null,null,null,null,null,null,null,null,null,null,null,null,null,null,null,null,null,null,null,null,null,null,null,null,null,null,null,null,null,null,null,null,null,null,null,null,null,null,null,null,null,null,null,null,{"$f":"IFERROR(VLOOKUP(ROWS($CF$3:CF1424),$CH$3:$CI$2001,2,FALSE),\"\")","v":""},null,{"$f":"IF(ISNUMBER(SEARCH(B1424,CI1424)),MAX($CH$2:CH1423)+1,0)","v":0}]
[null,null,{"$f":"IF(B1425=\"\",\"\",SUMIF('الرصيد الثابت'!$D$2:$D$115,B1425,'الرصيد الثابت'!$H$2:$H$115))","v":""},{"$f":"IF(B1425=\"\",\"\",SUMIF('الرصيد الثابت'!$D$2:$D$115,B1425,'الرصيد الثابت'!$I$2:$I$115))","v":""},{"$f":"IF(B1425=\"\",\"\",SUMIF('الرصيد الثابت'!$D$2:$D$115,B1425,'الرصيد الثابت'!$J$2:$J$115))","v":""},null,0,null,null,null,null,0,null,null,null,0,null,0,null,null,null,null,null,null,null,null,null,null,null,null,null,null,null,null,null,null,null,null,null,null,null,null,null,null,null,null,null,null,null,null,null,null,null,null,null,null,null,null,null,null,null,null,null,null,null,null,null,null,null,null,null,null,null,null,null,null,null,null,null,null,null,null,null,{"$f":"IFERROR(VLOOKUP(ROWS($CF$3:CF1425),$CH$3:$CI$2001,2,FALSE),\"\")","v":""},null,{"$f":"IF(ISNUMBER(SEARCH(B1425,CI1425)),MAX($CH$2:CH1424)+1,0)","v":0}]
[null,null,{"$f":"IF(B1428=\"\",\"\",SUMIF('الرصيد الثابت'!$D$2:$D$115,B1428,'الرصيد الثابت'!$H$2:$H$115))","v":""},{"$f":"IF(B1428=\"\",\"\",SUMIF('الرصيد الثابت'!$D$2:$D$115,B1428,'الرصيد الثابت'!$I$2:$I$115))","v":""},{"$f":"IF(B1428=\"\",\"\",SUMIF('الرصيد الثابت'!$D$2:$D$115,B1428,'الرصيد الثابت'!$J$2:$J$115))","v":""},null,0,null,null,null,null,0,null,null,null,0,null,0,null,null,null,null,null,null,null,null,null,null,null,null,null,null,null,null,null,null,null,null,null,null,null,null,null,null,null,null,null,null,null,null,null,null,null,null,null,null,null,null,null,null,null,null,null,null,null,null,null,null,null,null,null,null,null,null,null,null,null,null,null,null,null,null,null,{"$f":"IFERROR(VLOOKUP(ROWS($CF$3:CF1428),$CH$3:$CI$2001,2,FALSE),\"\")","v":""},null,{"$f":"IF(ISNUMBER(SEARCH(B1428,CI1428)),MAX($CH$2:CH1427)+1,0)","v":0}]
[null,null,{"$f":"IF(B1432=\"\",\"\",SUMIF('الرصيد الثابت'!$D$2:$D$115,B1432,'الرصيد الثابت'!$H$2:$H$115))","v":""},{"$f":"IF(B1432=\"\",\"\",SUMIF('الرصيد الثابت'!$D$2:$D$115,B1432,'الرصيد الثابت'!$I$2:$I$115))","v":""},{"$f":"IF(B1432=\"\",\"\",SUMIF('الرصيد الثابت'!$D$2:$D$115,B1432,'الرصيد الثابت'!$J$2:$J$115))","v":""},null,0,null,null,null,null,0,null,null,null,0,null,0,null,null,null,null,null,null,null,null,null,null,null,null,null,null,null,null,null,null,null,null,null,null,null,null,null,null,null,null,null,null,null,null,null,null,null,null,null,null,null,null,null,null,null,null,null,null,null,null,null,null,null,null,null,null,null,null,null,null,null,null,null,null,null,null,null,{"$f":"IFERROR(VLOOKUP(ROWS($CF$3:CF1432),$CH$3:$CI$2001,2,FALSE),\"\")","v":""},null,{"$f":"IF(ISNUMBER(SEARCH(B1432,CI1432)),MAX($CH$2:CH1431)+1,0)","v":0}]
[null,null,{"$f":"IF(B1434=\"\",\"\",SUMIF('الرصيد الثابت'!$D$2:$D$115,B1434,'الرصيد الثابت'!$H$2:$H$115))","v":""},{"$f":"IF(B1434=\"\",\"\",SUMIF('الرصيد الثابت'!$D$2:$D$115,B1434,'الرصيد الثابت'!$I$2:$I$115))","v":""},{"$f":"IF(B1434=\"\",\"\",SUMIF('الرصيد الثابت'!$D$2:$D$115,B1434,'الرصيد الثابت'!$J$2:$J$115))","v":""},null,0,null,null,null,null,0,null,null,null,0,null,0,null,null,null,null,null,null,null,null,null,null,null,null,null,null,null,null,null,null,null,null,null,null,null,null,null,null,null,null,null,null,null,null,null,null,null,null,null,null,null,null,null,null,null,null,null,null,null,null,null,null,null,null,null,null,null,null,null,null,null,null,null,null,null,null,null,{"$f":"IFERROR(VLOOKUP(ROWS($CF$3:CF1434),$CH$3:$CI$2001,2,FALSE),\"\")","v":""},null,{"$f":"IF(ISNUMBER(SEARCH(B1434,CI1434)),MAX($CH$2:CH1433)+1,0)","v":0}]
[null,null,{"$f":"IF(B1437=\"\",\"\",SUMIF('الرصيد الثابت'!$D$2:$D$115,B1437,'الرصيد الثابت'!$H$2:$H$115))","v":""},{"$f":"IF(B1437=\"\",\"\",SUMIF('الرصيد الثابت'!$D$2:$D$115,B1437,'الرصيد الثابت'!$I$2:$I$115))","v":""},{"$f":"IF(B1437=\"\",\"\",SUMIF('الرصيد الثابت'!$D$2:$D$115,B1437,'الرصيد الثابت'!$J$2:$J$115))","v":""},null,0,null,null,null,null,0,null,null,null,0,null,0,null,null,null,null,null,null,null,null,null,null,null,null,null,null,null,null,null,null,null,null,null,null,null,null,null,null,null,null,null,null,null,null,null,null,null,null,null,null,null,null,null,null,null,null,null,null,null,null,null,null,null,null,null,null,null,null,null,null,null,null,null,null,null,null,null,{"$f":"IFERROR(VLOOKUP(ROWS($CF$3:CF1437),$CH$3:$CI$2001,2,FALSE),\"\")","v":""},null,{"$f":"IF(ISNUMBER(SEARCH(B1437,CI1437)),MAX($CH$2:CH1436)+1,0)","v":0}]
[null,null,{"$f":"IF(B1441=\"\",\"\",SUMIF('الرصيد الثابت'!$D$2:$D$115,B1441,'الرصيد الثابت'!$H$2:$H$115))","v":""},{"$f":"IF(B1441=\"\",\"\",SUMIF('الرصيد الثابت'!$D$2:$D$115,B1441,'الرصيد الثابت'!$I$2:$I$115))","v":""},{"$f":"IF(B1441=\"\",\"\",SUMIF('الرصيد الثابت'!$D$2:$D$115,B1441,'الرصيد الثابت'!$J$2:$J$115))","v":""},null,0,null,null,null,null,0,null,null,null,0,null,0,null,null,null,null,null,null,null,null,null,null,null,null,null,null,null,null,null,null,null,null,null,null,null,null,null,null,null,null,null,null,null,null,null,null,null,null,null,null,null,null,null,null,null,null,null,null,null,null,null,null,null,null,null,null,null,null,null,null,null,null,null,null,null,null,null,{"$f":"IFERROR(VLOOKUP(ROWS($CF$3:CF1441),$CH$3:$CI$2001,2,FALSE),\"\")","v":""},null,{"$f":"IF(ISNUMBER(SEARCH(B1441,CI1441)),MAX($CH$2:CH1440)+1,0)","v":0}]
[null,null,{"$f":"IF(B1443=\"\",\"\",SUMIF('الرصيد الثابت'!$D$2:$D$115,B1443,'الرصيد الثابت'!$H$2:$H$115))","v":""},{"$f":"IF(B1443=\"\",\"\",SUMIF('الرصيد الثابت'!$D$2:$D$115,B1443,'الرصيد الثابت'!$I$2:$I$115))","v":""},{"$f":"IF(B1443=\"\",\"\",SUMIF('الرصيد الثابت'!$D$2:$D$115,B1443,'الرصيد الثابت'!$J$2:$J$115))","v":""},null,0,null,null,null,null,0,null,null,null,0,null,0,null,null,null,null,null,null,null,null,null,null,null,null,null,null,null,null,null,null,null,null,null,null,null,null,null,null,null,null,null,null,null,null,null,null,null,null,null,null,null,null,null,null,null,null,null,null,null,null,null,null,null,null,null,null,null,null,null,null,null,null,null,null,null,null,null,{"$f":"IFERROR(VLOOKUP(ROWS($CF$3:CF1443),$CH$3:$CI$2001,2,FALSE),\"\")","v":""},null,{"$f":"IF(ISNUMBER(SEARCH(B1443,CI1443)),MAX($CH$2:CH1442)+1,0)","v":0}]
[null,null,{"$f":"IF(B1444=\"\",\"\",SUMIF('الرصيد الثابت'!$D$2:$D$115,B1444,'الرصيد الثابت'!$H$2:$H$115))","v":""},{"$f":"IF(B1444=\"\",\"\",SUMIF('الرصيد الثابت'!$D$2:$D$115,B1444,'الرصيد الثابت'!$I$2:$I$115))","v":""},{"$f":"IF(B1444=\"\",\"\",SUMIF('الرصيد الثابت'!$D$2:$D$115,B1444,'الرصيد الثابت'!$J$2:$J$115))","v":""},null,0,null,null,null,null,0,null,null,null,0,null,0,null,null,null,null,null,null,null,null,null,null,null,null,null,null,null,null,null,null,null,null,null,null,null,null,null,null,null,null,null,null,null,null,null,null,null,null,null,null,null,null,null,null,null,null,null,null,null,null,null,null,null,null,null,null,null,null,null,null,null,null,null,null,null,null,null,{"$f":"IFERROR(VLOOKUP(ROWS($CF$3:CF1444),$CH$3:$CI$2001,2,FALSE),\"\")","v":""},null,{"$f":"IF(ISNUMBER(SEARCH(B1444,CI1444)),MAX($CH$2:CH1443)+1,0)","v":0}]
[null,null,{"$f":"IF(B1447=\"\",\"\",SUMIF('الرصيد الثابت'!$D$2:$D$115,B1447,'الرصيد الثابت'!$H$2:$H$115))","v":""},{"$f":"IF(B1447=\"\",\"\",SUMIF('الرصيد الثابت'!$D$2:$D$115,B1447,'الرصيد الثابت'!$I$2:$I$115))","v":""},{"$f":"IF(B1447=\"\",\"\",SUMIF('الرصيد الثابت'!$D$2:$D$115,B1447,'الرصيد الثابت'!$J$2:$J$115))","v":""},null,0,null,null,null,null,0,null,null,null,0,null,0,null,null,null,null,null,null,null,null,null,null,null,null,null,null,null,null,null,null,null,null,null,null,null,null,null,null,null,null,null,null,null,null,null,null,null,null,null,null,null,null,null,null,null,null,null,null,null,null,null,null,null,null,null,null,null,null,null,null,null,null,null,null,null,null,null,{"$f":"IFERROR(VLOOKUP(ROWS($CF$3:CF1447),$CH$3:$CI$2001,2,FALSE),\"\")","v":""},null,{"$f":"IF(ISNUMBER(SEARCH(B1447,CI1447)),MAX($CH$2:CH1446)+1,0)","v":0}]
[null,null,{"$f":"IF(B1450=\"\",\"\",SUMIF('الرصيد الثابت'!$D$2:$D$115,B1450,'الرصيد الثابت'!$H$2:$H$115))","v":""},{"$f":"IF(B1450=\"\",\"\",SUMIF('الرصيد الثابت'!$D$2:$D$115,B1450,'الرصيد الثابت'!$I$2:$I$115))","v":""},{"$f":"IF(B1450=\"\",\"\",SUMIF('الرصيد الثابت'!$D$2:$D$115,B1450,'الرصيد الثابت'!$J$2:$J$115))","v":""},null,0,null,null,null,null,0,null,null,null,0,null,0,null,null,null,null,null,null,null,null,null,null,null,null,null,null,null,null,null,null,null,null,null,null,null,null,null,null,null,null,null,null,null,null,null,null,null,null,null,null,null,null,null,null,null,null,null,null,null,null,null,null,null,null,null,null,null,null,null,null,null,null,null,null,null,null,null,{"$f":"IFERROR(VLOOKUP(ROWS($CF$3:CF1450),$CH$3:$CI$2001,2,FALSE),\"\")","v":""},null,{"$f":"IF(ISNUMBER(SEARCH(B1450,CI1450)),MAX($CH$2:CH1449)+1,0)","v":0}]
[null,null,{"$f":"IF(B1454=\"\",\"\",SUMIF('الرصيد الثابت'!$D$2:$D$115,B1454,'الرصيد الثابت'!$H$2:$H$115))","v":""},{"$f":"IF(B1454=\"\",\"\",SUMIF('الرصيد الثابت'!$D$2:$D$115,B1454,'الرصيد الثابت'!$I$2:$I$115))","v":""},{"$f":"IF(B1454=\"\",\"\",SUMIF('الرصيد الثابت'!$D$2:$D$115,B1454,'الرصيد الثابت'!$J$2:$J$115))","v":""},null,0,null,null,null,null,0,null,null,null,0,null,0,null,null,null,null,null,null,null,null,null,null,null,null,null,null,null,null,null,null,null,null,null,null,null,null,null,null,null,null,null,null,null,null,null,null,null,null,null,null,null,null,null,null,null,null,null,null,null,null,null,null,null,null,null,null,null,null,null,null,null,null,null,null,null,null,null,{"$f":"IFERROR(VLOOKUP(ROWS($CF$3:CF1454),$CH$3:$CI$2001,2,FALSE),\"\")","v":""},null,{"$f":"IF(ISNUMBER(SEARCH(B1454,CI1454)),MAX($CH$2:CH1453)+1,0)","v":0}]
[null,null,{"$f":"IF(B1456=\"\",\"\",SUMIF('الرصيد الثابت'!$D$2:$D$115,B1456,'الرصيد الثابت'!$H$2:$H$115))","v":""},{"$f":"IF(B1456=\"\",\"\",SUMIF('الرصيد الثابت'!$D$2:$D$115,B1456,'الرصيد الثابت'!$I$2:$I$115))","v":""},{"$f":"IF(B1456=\"\",\"\",SUMIF('الرصيد الثابت'!$D$2:$D$115,B1456,'الرصيد الثابت'!$J$2:$J$115))","v":""},null,0,null,null,null,null,0,null,null,null,0,null,0,null,null,null,null,null,null,null,null,null,null,null,null,null,null,null,null,null,null,null,null,null,null,null,null,null,null,null,null,null,null,null,null,null,null,null,null,null,null,null,null,null,null,null,null,null,null,null,null,null,null,null,null,null,null,null,null,null,null,null,null,null,null,null,null,null,{"$f":"IFERROR(VLOOKUP(ROWS($CF$3:CF1456),$CH$3:$CI$2001,2,FALSE),\"\")","v":""},null,{"$f":"IF(ISNUMBER(SEARCH(B1456,CI1456)),MAX($CH$2:CH1455)+1,0)","v":0}]
[null,null,{"$f":"IF(B1459=\"\",\"\",SUMIF('الرصيد الثابت'!$D$2:$D$115,B1459,'الرصيد الثابت'!$H$2:$H$115))","v":""},{"$f":"IF(B1459=\"\",\"\",SUMIF('الرصيد الثابت'!$D$2:$D$115,B1459,'الرصيد الثابت'!$I$2:$I$115))","v":""},{"$f":"IF(B1459=\"\",\"\",SUMIF('الرصيد الثابت'!$D$2:$D$115,B1459,'الرصيد الثابت'!$J$2:$J$115))","v":""},null,0,null,null,null,null,0,null,null,null,0,null,0,null,null,null,null,null,null,null,null,null,null,null,null,null,null,null,null,null,null,null,null,null,null,null,null,null,null,null,null,null,null,null,null,null,null,null,null,null,null,null,null,null,null,null,null,null,null,null,null,null,null,null,null,null,null,null,null,null,null,null,null,null,null,null,null,null,{"$f":"IFERROR(VLOOKUP(ROWS($CF$3:CF1459),$CH$3:$CI$2001,2,FALSE),\"\")","v":""},null,{"$f":"IF(ISNUMBER(SEARCH(B1459,CI1459)),MAX($CH$2:CH1458)+1,0)","v":0}]
[null,null,{"$f":"IF(B1463=\"\",\"\",SUMIF('الرصيد الثابت'!$D$2:$D$115,B1463,'الرصيد الثابت'!$H$2:$H$115))","v":""},{"$f":"IF(B1463=\"\",\"\",SUMIF('الرصيد الثابت'!$D$2:$D$115,B1463,'الرصيد الثابت'!$I$2:$I$115))","v":""},{"$f":"IF(B1463=\"\",\"\",SUMIF('الرصيد الثابت'!$D$2:$D$115,B1463,'الرصيد الثابت'!$J$2:$J$115))","v":""},null,0,null,null,null,null,0,null,null,null,0,null,0,null,null,null,null,null,null,null,null,null,null,null,null,null,null,null,null,null,null,null,null,null,null,null,null,null,null,null,null,null,null,null,null,null,null,null,null,null,null,null,null,null,null,null,null,null,null,null,null,null,null,null,null,null,null,null,null,null,null,null,null,null,null,null,null,null,{"$f":"IFERROR(VLOOKUP(ROWS($CF$3:CF1463),$CH$3:$CI$2001,2,FALSE),\"\")","v":""},null,{"$f":"IF(ISNUMBER(SEARCH(B1463,CI1463)),MAX($CH$2:CH1462)+1,0)","v":0}]
[null,null,{"$f":"IF(B1465=\"\",\"\",SUMIF('الرصيد الثابت'!$D$2:$D$115,B1465,'الرصيد الثابت'!$H$2:$H$115))","v":""},{"$f":"IF(B1465=\"\",\"\",SUMIF('الرصيد الثابت'!$D$2:$D$115,B1465,'الرصيد الثابت'!$I$2:$I$115))","v":""},{"$f":"IF(B1465=\"\",\"\",SUMIF('الرصيد الثابت'!$D$2:$D$115,B1465,'الرصيد الثابت'!$J$2:$J$115))","v":""},null,0,null,null,null,null,0,null,null,null,0,null,0,null,null,null,null,null,null,null,null,null,null,null,null,null,null,null,null,null,null,null,null,null,null,null,null,null,null,null,null,null,null,null,null,null,null,null,null,null,null,null,null,null,null,null,null,null,null,null,null,null,null,null,null,null,null,null,null,null,null,null,null,null,null,null,null,null,{"$f":"IFERROR(VLOOKUP(ROWS($CF$3:CF1465),$CH$3:$CI$2001,2,FALSE),\"\")","v":""},null,{"$f":"IF(ISNUMBER(SEARCH(B1465,CI1465)),MAX($CH$2:CH1464)+1,0)","v":0}]
[null,null,{"$f":"IF(B1466=\"\",\"\",SUMIF('الرصيد الثابت'!$D$2:$D$115,B1466,'الرصيد الثابت'!$H$2:$H$115))","v":""},{"$f":"IF(B1466=\"\",\"\",SUMIF('الرصيد الثابت'!$D$2:$D$115,B1466,'الرصيد الثابت'!$I$2:$I$115))","v":""},{"$f":"IF(B1466=\"\",\"\",SUMIF('الرصيد الثابت'!$D$2:$D$115,B1466,'الرصيد الثابت'!$J$2:$J$115))","v":""},null,0,null,null,null,null,0,null,null,null,0,null,0,null,null,null,null,null,null,null,null,null,null,null,null,null,null,null,null,null,null,null,null,null,null,null,null,null,null,null,null,null,null,null,null,null,null,null,null,null,null,null,null,null,null,null,null,null,null,null,null,null,null,null,null,null,null,null,null,null,null,null,null,null,null,null,null,null,{"$f":"IFERROR(VLOOKUP(ROWS($CF$3:CF1466),$CH$3:$CI$2001,2,FALSE),\"\")","v":""},null,{"$f":"IF(ISNUMBER(SEARCH(B1466,CI1466)),MAX($CH$2:CH1465)+1,0)","v":0}]
[null,null,{"$f":"IF(B1469=\"\",\"\",SUMIF('الرصيد الثابت'!$D$2:$D$115,B1469,'الرصيد الثابت'!$H$2:$H$115))","v":""},{"$f":"IF(B1469=\"\",\"\",SUMIF('الرصيد الثابت'!$D$2:$D$115,B1469,'الرصيد الثابت'!$I$2:$I$115))","v":""},{"$f":"IF(B1469=\"\",\"\",SUMIF('الرصيد الثابت'!$D$2:$D$115,B1469,'الرصيد الثابت'!$J$2:$J$115))","v":""},null,0,null,null,null,null,0,null,null,null,0,null,0,null,null,null,null,null,null,null,null,null,null,null,null,null,null,null,null,null,null,null,null,null,null,null,null,null,null,null,null,null,null,null,null,null,null,null,null,null,null,null,null,null,null,null,null,null,null,null,null,null,null,null,null,null,null,null,null,null,null,null,null,null,null,null,null,null,{"$f":"IFERROR(VLOOKUP(ROWS($CF$3:CF1469),$CH$3:$CI$2001,2,FALSE),\"\")","v":""},null,{"$f":"IF(ISNUMBER(SEARCH(B1469,CI1469)),MAX($CH$2:CH1468)+1,0)","v":0}]
[null,null,{"$f":"IF(B1472=\"\",\"\",SUMIF('الرصيد الثابت'!$D$2:$D$115,B1472,'الرصيد الثابت'!$H$2:$H$115))","v":""},{"$f":"IF(B1472=\"\",\"\",SUMIF('الرصيد الثابت'!$D$2:$D$115,B1472,'الرصيد الثابت'!$I$2:$I$115))","v":""},{"$f":"IF(B1472=\"\",\"\",SUMIF('الرصيد الثابت'!$D$2:$D$115,B1472,'الرصيد الثابت'!$J$2:$J$115))","v":""},null,0,null,null,null,null,0,null,null,null,0,null,0,null,null,null,null,null,null,null,null,null,null,null,null,null,null,null,null,null,null,null,null,null,null,null,null,null,null,null,null,null,null,null,null,null,null,null,null,null,null,null,null,null,null,null,null,null,null,null,null,null,null,null,null,null,null,null,null,null,null,null,null,null,null,null,null,null,{"$f":"IFERROR(VLOOKUP(ROWS($CF$3:CF1472),$CH$3:$CI$2001,2,FALSE),\"\")","v":""},null,{"$f":"IF(ISNUMBER(SEARCH(B1472,CI1472)),MAX($CH$2:CH1471)+1,0)","v":0}]
[null,null,{"$f":"IF(B1476=\"\",\"\",SUMIF('الرصيد الثابت'!$D$2:$D$115,B1476,'الرصيد الثابت'!$H$2:$H$115))","v":""},{"$f":"IF(B1476=\"\",\"\",SUMIF('الرصيد الثابت'!$D$2:$D$115,B1476,'الرصيد الثابت'!$I$2:$I$115))","v":""},{"$f":"IF(B1476=\"\",\"\",SUMIF('الرصيد الثابت'!$D$2:$D$115,B1476,'الرصيد الثابت'!$J$2:$J$115))","v":""},null,{"$f":"SUM(H1476*F1476)","v":0},null,null,null,null,0,null,null,null,0,null,0,null,null,null,null,null,null,null,null,null,null,null,null,null,null,null,null,null,null,null,null,null,null,null,null,null,null,null,null,null,null,null,null,null,null,null,null,null,null,null,null,null,null,null,null,null,null,null,null,null,null,null,null,null,null,null,null,null,null,null,null,null,null,null,null,null,{"$f":"IFERROR(VLOOKUP(ROWS($CF$3:CF1476),$CH$3:$CI$2001,2,FALSE),\"\")","v":""},null,{"$f":"IF(ISNUMBER(SEARCH(B1476,CI1476)),MAX($CH$2:CH1475)+1,0)","v":0}]
[null,null,{"$f":"IF(B1478=\"\",\"\",SUMIF('الرصيد الثابت'!$D$2:$D$115,B1478,'الرصيد الثابت'!$H$2:$H$115))","v":""},{"$f":"IF(B1478=\"\",\"\",SUMIF('الرصيد الثابت'!$D$2:$D$115,B1478,'الرصيد الثابت'!$I$2:$I$115))","v":""},{"$f":"IF(B1478=\"\",\"\",SUMIF('الرصيد الثابت'!$D$2:$D$115,B1478,'الرصيد الثابت'!$J$2:$J$115))","v":""},null,0,null,null,null,null,0,null,null,null,0,null,0,null,null,null,null,null,null,null,null,null,null,null,null,null,null,null,null,null,null,null,null,null,null,null,null,null,null,null,null,null,null,null,null,null,null,null,null,null,null,null,null,null,null,null,null,null,null,null,null,null,null,null,null,null,null,null,null,null,null,null,null,null,null,null,null,null,{"$f":"IFERROR(VLOOKUP(ROWS($CF$3:CF1478),$CH$3:$CI$2001,2,FALSE),\"\")","v":""},null,{"$f":"IF(ISNUMBER(SEARCH(B1478,CI1478)),MAX($CH$2:CH1477)+1,0)","v":0}]
[null,null,{"$f":"IF(B1481=\"\",\"\",SUMIF('الرصيد الثابت'!$D$2:$D$115,B1481,'الرصيد الثابت'!$H$2:$H$115))","v":""},{"$f":"IF(B1481=\"\",\"\",SUMIF('الرصيد الثابت'!$D$2:$D$115,B1481,'الرصيد الثابت'!$I$2:$I$115))","v":""},{"$f":"IF(B1481=\"\",\"\",SUMIF('الرصيد الثابت'!$D$2:$D$115,B1481,'الرصيد الثابت'!$J$2:$J$115))","v":""},null,0,null,null,null,null,0,null,null,null,0,null,0,null,null,null,null,null,null,null,null,null,null,null,null,null,null,null,null,null,null,null,null,null,null,null,null,null,null,null,null,null,null,null,null,null,null,null,null,null,null,null,null,null,null,null,null,null,null,null,null,null,null,null,null,null,null,null,null,null,null,null,null,null,null,null,null,null,{"$f":"IFERROR(VLOOKUP(ROWS($CF$3:CF1481),$CH$3:$CI$2001,2,FALSE),\"\")","v":""},null,{"$f":"IF(ISNUMBER(SEARCH(B1481,CI1481)),MAX($CH$2:CH1480)+1,0)","v":0}]
[null,null,{"$f":"IF(B1485=\"\",\"\",SUMIF('الرصيد الثابت'!$D$2:$D$115,B1485,'الرصيد الثابت'!$H$2:$H$115))","v":""},{"$f":"IF(B1485=\"\",\"\",SUMIF('الرصيد الثابت'!$D$2:$D$115,B1485,'الرصيد الثابت'!$I$2:$I$115))","v":""},{"$f":"IF(B1485=\"\",\"\",SUMIF('الرصيد الثابت'!$D$2:$D$115,B1485,'الرصيد الثابت'!$J$2:$J$115))","v":""},null,0,null,null,null,null,0,null,null,null,0,null,0,null,null,null,null,null,null,null,null,null,null,null,null,null,null,null,null,null,null,null,null,null,null,null,null,null,null,null,null,null,null,null,null,null,null,null,null,null,null,null,null,null,null,null,null,null,null,null,null,null,null,null,null,null,null,null,null,null,null,null,null,null,null,null,null,null,{"$f":"IFERROR(VLOOKUP(ROWS($CF$3:CF1485),$CH$3:$CI$2001,2,FALSE),\"\")","v":""},null,{"$f":"IF(ISNUMBER(SEARCH(B1485,CI1485)),MAX($CH$2:CH1484)+1,0)","v":0}]
[null,null,{"$f":"IF(B1487=\"\",\"\",SUMIF('الرصيد الثابت'!$D$2:$D$115,B1487,'الرصيد الثابت'!$H$2:$H$115))","v":""},{"$f":"IF(B1487=\"\",\"\",SUMIF('الرصيد الثابت'!$D$2:$D$115,B1487,'الرصيد الثابت'!$I$2:$I$115))","v":""},{"$f":"IF(B1487=\"\",\"\",SUMIF('الرصيد الثابت'!$D$2:$D$115,B1487,'الرصيد الثابت'!$J$2:$J$115))","v":""},null,0,null,null,null,null,0,null,null,null,0,null,0,null,null,null,null,null,null,null,null,null,null,null,null,null,null,null,null,null,null,null,null,null,null,null,null,null,null,null,null,null,null,null,null,null,null,null,null,null,null,null,null,null,null,null,null,null,null,null,null,null,null,null,null,null,null,null,null,null,null,null,null,null,null,null,null,null,{"$f":"IFERROR(VLOOKUP(ROWS($CF$3:CF1487),$CH$3:$CI$2001,2,FALSE),\"\")","v":""},null,{"$f":"IF(ISNUMBER(SEARCH(B1487,CI1487)),MAX($CH$2:CH1486)+1,0)","v":0}]
[null,null,{"$f":"IF(B1488=\"\",\"\",SUMIF('الرصيد الثابت'!$D$2:$D$115,B1488,'الرصيد الثابت'!$H$2:$H$115))","v":""},{"$f":"IF(B1488=\"\",\"\",SUMIF('الرصيد الثابت'!$D$2:$D$115,B1488,'الرصيد الثابت'!$I$2:$I$115))","v":""},{"$f":"IF(B1488=\"\",\"\",SUMIF('الرصيد الثابت'!$D$2:$D$115,B1488,'الرصيد الثابت'!$J$2:$J$115))","v":""},null,0,null,null,null,null,0,null,null,null,0,null,0,null,null,null,null,null,null,null,null,null,null,null,null,null,null,null,null,null,null,null,null,null,null,null,null,null,null,null,null,null,null,null,null,null,null,null,null,null,null,null,null,null,null,null,null,null,null,null,null,null,null,null,null,null,null,null,null,null,null,null,null,null,null,null,null,null,{"$f":"IFERROR(VLOOKUP(ROWS($CF$3:CF1488),$CH$3:$CI$2001,2,FALSE),\"\")","v":""},null,{"$f":"IF(ISNUMBER(SEARCH(B1488,CI1488)),MAX($CH$2:CH1487)+1,0)","v":0}]
[null,null,{"$f":"IF(B1491=\"\",\"\",SUMIF('الرصيد الثابت'!$D$2:$D$115,B1491,'الرصيد الثابت'!$H$2:$H$115))","v":""},{"$f":"IF(B1491=\"\",\"\",SUMIF('الرصيد الثابت'!$D$2:$D$115,B1491,'الرصيد الثابت'!$I$2:$I$115))","v":""},{"$f":"IF(B1491=\"\",\"\",SUMIF('الرصيد الثابت'!$D$2:$D$115,B1491,'الرصيد الثابت'!$J$2:$J$115))","v":""},null,0,null,null,null,null,0,null,null,null,0,null,0,null,null,null,null,null,null,null,null,null,null,null,null,null,null,null,null,null,null,null,null,null,null,null,null,null,null,null,null,null,null,null,null,null,null,null,null,null,null,null,null,null,null,null,null,null,null,null,null,null,null,null,null,null,null,null,null,null,null,null,null,null,null,null,null,null,{"$f":"IFERROR(VLOOKUP(ROWS($CF$3:CF1491),$CH$3:$CI$2001,2,FALSE),\"\")","v":""},null,{"$f":"IF(ISNUMBER(SEARCH(B1491,CI1491)),MAX($CH$2:CH1490)+1,0)","v":0}]
[null,null,{"$f":"IF(B1494=\"\",\"\",SUMIF('الرصيد الثابت'!$D$2:$D$115,B1494,'الرصيد الثابت'!$H$2:$H$115))","v":""},{"$f":"IF(B1494=\"\",\"\",SUMIF('الرصيد الثابت'!$D$2:$D$115,B1494,'الرصيد الثابت'!$I$2:$I$115))","v":""},{"$f":"IF(B1494=\"\",\"\",SUMIF('الرصيد الثابت'!$D$2:$D$115,B1494,'الرصيد الثابت'!$J$2:$J$115))","v":""},null,0,null,null,null,null,0,null,null,null,0,null,0,null,null,null,null,null,null,null,null,null,null,null,null,null,null,null,null,null,null,null,null,null,null,null,null,null,null,null,null,null,null,null,null,null,null,null,null,null,null,null,null,null,null,null,null,null,null,null,null,null,null,null,null,null,null,null,null,null,null,null,null,null,null,null,null,null,{"$f":"IFERROR(VLOOKUP(ROWS($CF$3:CF1494),$CH$3:$CI$2001,2,FALSE),\"\")","v":""},null,{"$f":"IF(ISNUMBER(SEARCH(B1494,CI1494)),MAX($CH$2:CH1493)+1,0)","v":0}]
[null,null,{"$f":"IF(B1498=\"\",\"\",SUMIF('الرصيد الثابت'!$D$2:$D$115,B1498,'الرصيد الثابت'!$H$2:$H$115))","v":""},{"$f":"IF(B1498=\"\",\"\",SUMIF('الرصيد الثابت'!$D$2:$D$115,B1498,'الرصيد الثابت'!$I$2:$I$115))","v":""},{"$f":"IF(B1498=\"\",\"\",SUMIF('الرصيد الثابت'!$D$2:$D$115,B1498,'الرصيد الثابت'!$J$2:$J$115))","v":""},null,0,null,null,null,null,0,null,null,null,0,null,0,null,null,null,null,null,null,null,null,null,null,null,null,null,null,null,null,null,null,null,null,null,null,null,null,null,null,null,null,null,null,null,null,null,null,null,null,null,null,null,null,null,null,null,null,null,null,null,null,null,null,null,null,null,null,null,null,null,null,null,null,null,null,null,null,null,{"$f":"IFERROR(VLOOKUP(ROWS($CF$3:CF1498),$CH$3:$CI$2001,2,FALSE),\"\")","v":""},null,{"$f":"IF(ISNUMBER(SEARCH(B1498,CI1498)),MAX($CH$2:CH1497)+1,0)","v":0}]
[null,null,{"$f":"IF(B1500=\"\",\"\",SUMIF('الرصيد الثابت'!$D$2:$D$115,B1500,'الرصيد الثابت'!$H$2:$H$115))","v":""},{"$f":"IF(B1500=\"\",\"\",SUMIF('الرصيد الثابت'!$D$2:$D$115,B1500,'الرصيد الثابت'!$I$2:$I$115))","v":""},{"$f":"IF(B1500=\"\",\"\",SUMIF('الرصيد الثابت'!$D$2:$D$115,B1500,'الرصيد الثابت'!$J$2:$J$115))","v":""},null,0,null,null,null,null,0,null,null,null,0,null,0,null,null,null,null,null,null,null,null,null,null,null,null,null,null,null,null,null,null,null,null,null,null,null,null,null,null,null,null,null,null,null,null,null,null,null,null,null,null,null,null,null,null,null,null,null,null,null,null,null,null,null,null,null,null,null,null,null,null,null,null,null,null,null,null,null,{"$f":"IFERROR(VLOOKUP(ROWS($CF$3:CF1500),$CH$3:$CI$2001,2,FALSE),\"\")","v":""},null,{"$f":"IF(ISNUMBER(SEARCH(B1500,CI1500)),MAX($CH$2:CH1499)+1,0)","v":0}]
[null,null,{"$f":"IF(B1504=\"\",\"\",SUMIF('الرصيد الثابت'!$D$2:$D$115,B1504,'الرصيد الثابت'!$H$2:$H$115))","v":""},{"$f":"IF(B1504=\"\",\"\",SUMIF('الرصيد الثابت'!$D$2:$D$115,B1504,'الرصيد الثابت'!$I$2:$I$115))","v":""},{"$f":"IF(B1504=\"\",\"\",SUMIF('الرصيد الثابت'!$D$2:$D$115,B1504,'الرصيد الثابت'!$J$2:$J$115))","v":""},null,0,null,null,null,null,0,null,null,null,{"$f":"SUM(F1504-K1504)","v":0},null,0,null,null,null,null,null,null,null,null,null,null,null,null,null,null,null,null,null,null,null,null,null,null,null,null,null,null,null,null,null,null,null,null,null,null,null,null,null,null,null,null,null,null,null,null,null,null,null,null,null,null,null,null,null,null,null,null,null,null,null,null,null,null,null,null,null,{"$f":"IFERROR(VLOOKUP(ROWS($CF$3:CF1504),$CH$3:$CI$2001,2,FALSE),\"\")","v":""},null,{"$f":"IF(ISNUMBER(SEARCH(B1504,CI1504)),MAX($CH$2:CH1503)+1,0)","v":0}]
[null,null,{"$f":"IF(B1507=\"\",\"\",SUMIF('الرصيد الثابت'!$D$2:$D$115,B1507,'الرصيد الثابت'!$H$2:$H$115))","v":""},{"$f":"IF(B1507=\"\",\"\",SUMIF('الرصيد الثابت'!$D$2:$D$115,B1507,'الرصيد الثابت'!$I$2:$I$115))","v":""},{"$f":"IF(B1507=\"\",\"\",SUMIF('الرصيد الثابت'!$D$2:$D$115,B1507,'الرصيد الثابت'!$J$2:$J$115))","v":""},null,0,null,null,null,null,0,null,null,null,0,null,0,null,null,null,null,null,null,null,null,null,null,null,null,null,null,null,null,null,null,null,null,null,null,null,null,null,null,null,null,null,null,null,null,null,null,null,null,null,null,null,null,null,null,null,null,null,null,null,null,null,null,null,null,null,null,null,null,null,null,null,null,null,null,null,null,null,{"$f":"IFERROR(VLOOKUP(ROWS($CF$3:CF1507),$CH$3:$CI$2001,2,FALSE),\"\")","v":""},null,{"$f":"IF(ISNUMBER(SEARCH(B1507,CI1507)),MAX($CH$2:CH1506)+1,0)","v":0}]
[null,null,{"$f":"IF(B1509=\"\",\"\",SUMIF('الرصيد الثابت'!$D$2:$D$115,B1509,'الرصيد الثابت'!$H$2:$H$115))","v":""},{"$f":"IF(B1509=\"\",\"\",SUMIF('الرصيد الثابت'!$D$2:$D$115,B1509,'الرصيد الثابت'!$I$2:$I$115))","v":""},{"$f":"IF(B1509=\"\",\"\",SUMIF('الرصيد الثابت'!$D$2:$D$115,B1509,'الرصيد الثابت'!$J$2:$J$115))","v":""},null,0,null,null,null,null,0,null,null,null,0,null,0,null,null,null,null,null,null,null,null,null,null,null,null,null,null,null,null,null,null,null,null,null,null,null,null,null,null,null,null,null,null,null,null,null,null,null,null,null,null,null,null,null,null,null,null,null,null,null,null,null,null,null,null,null,null,null,null,null,null,null,null,null,null,null,null,null,{"$f":"IFERROR(VLOOKUP(ROWS($CF$3:CF1509),$CH$3:$CI$2001,2,FALSE),\"\")","v":""},null,{"$f":"IF(ISNUMBER(SEARCH(B1509,CI1509)),MAX($CH$2:CH1508)+1,0)","v":0}]
[null,null,{"$f":"IF(B1510=\"\",\"\",SUMIF('الرصيد الثابت'!$D$2:$D$115,B1510,'الرصيد الثابت'!$H$2:$H$115))","v":""},{"$f":"IF(B1510=\"\",\"\",SUMIF('الرصيد الثابت'!$D$2:$D$115,B1510,'الرصيد الثابت'!$I$2:$I$115))","v":""},{"$f":"IF(B1510=\"\",\"\",SUMIF('الرصيد الثابت'!$D$2:$D$115,B1510,'الرصيد الثابت'!$J$2:$J$115))","v":""},null,0,null,null,null,null,0,null,null,null,0,null,0,null,null,null,null,null,null,null,null,null,null,null,null,null,null,null,null,null,null,null,null,null,null,null,null,null,null,null,null,null,null,null,null,null,null,null,null,null,null,null,null,null,null,null,null,null,null,null,null,null,null,null,null,null,null,null,null,null,null,null,null,null,null,null,null,null,{"$f":"IFERROR(VLOOKUP(ROWS($CF$3:CF1510),$CH$3:$CI$2001,2,FALSE),\"\")","v":""},null,{"$f":"IF(ISNUMBER(SEARCH(B1510,CI1510)),MAX($CH$2:CH1509)+1,0)","v":0}]
[null,null,{"$f":"IF(B1513=\"\",\"\",SUMIF('الرصيد الثابت'!$D$2:$D$115,B1513,'الرصيد الثابت'!$H$2:$H$115))","v":""},{"$f":"IF(B1513=\"\",\"\",SUMIF('الرصيد الثابت'!$D$2:$D$115,B1513,'الرصيد الثابت'!$I$2:$I$115))","v":""},{"$f":"IF(B1513=\"\",\"\",SUMIF('الرصيد الثابت'!$D$2:$D$115,B1513,'الرصيد الثابت'!$J$2:$J$115))","v":""},null,0,null,null,null,null,0,null,null,null,0,null,0,null,null,null,null,null,null,null,null,null,null,null,null,null,null,null,null,null,null,null,null,null,null,null,null,null,null,null,null,null,null,null,null,null,null,null,null,null,null,null,null,null,null,null,null,null,null,null,null,null,null,null,null,null,null,null,null,null,null,null,null,null,null,null,null,null,{"$f":"IFERROR(VLOOKUP(ROWS($CF$3:CF1513),$CH$3:$CI$2001,2,FALSE),\"\")","v":""},null,{"$f":"IF(ISNUMBER(SEARCH(B1513,CI1513)),MAX($CH$2:CH1512)+1,0)","v":0}]
[null,null,{"$f":"IF(B1516=\"\",\"\",SUMIF('الرصيد الثابت'!$D$2:$D$115,B1516,'الرصيد الثابت'!$H$2:$H$115))","v":""},{"$f":"IF(B1516=\"\",\"\",SUMIF('الرصيد الثابت'!$D$2:$D$115,B1516,'الرصيد الثابت'!$I$2:$I$115))","v":""},{"$f":"IF(B1516=\"\",\"\",SUMIF('الرصيد الثابت'!$D$2:$D$115,B1516,'الرصيد الثابت'!$J$2:$J$115))","v":""},null,0,null,null,null,null,0,null,null,null,0,null,0,null,null,null,null,null,null,null,null,null,null,null,null,null,null,null,null,null,null,null,null,null,null,null,null,null,null,null,null,null,null,null,null,null,null,null,null,null,null,null,null,null,null,null,null,null,null,null,null,null,null,null,null,null,null,null,null,null,null,null,null,null,null,null,null,null,{"$f":"IFERROR(VLOOKUP(ROWS($CF$3:CF1516),$CH$3:$CI$2001,2,FALSE),\"\")","v":""},null,{"$f":"IF(ISNUMBER(SEARCH(B1516,CI1516)),MAX($CH$2:CH1515)+1,0)","v":0}]
[null,null,{"$f":"IF(B1520=\"\",\"\",SUMIF('الرصيد الثابت'!$D$2:$D$115,B1520,'الرصيد الثابت'!$H$2:$H$115))","v":""},{"$f":"IF(B1520=\"\",\"\",SUMIF('الرصيد الثابت'!$D$2:$D$115,B1520,'الرصيد الثابت'!$I$2:$I$115))","v":""},{"$f":"IF(B1520=\"\",\"\",SUMIF('الرصيد الثابت'!$D$2:$D$115,B1520,'الرصيد الثابت'!$J$2:$J$115))","v":""},null,0,null,null,null,null,0,null,null,null,{"$f":"SUM(#REF!-#REF!)","v":{"$error":"#REF!"}},null,0,null,null,null,null,null,null,null,null,null,null,null,null,null,null,null,null,null,null,null,null,null,null,null,null,null,null,null,null,null,null,null,null,null,null,null,null,null,null,null,null,null,null,null,null,null,null,null,null,null,null,null,null,null,null,null,null,null,null,null,null,null,null,null,null,null,{"$f":"IFERROR(VLOOKUP(ROWS($CF$3:CF1520),$CH$3:$CI$2001,2,FALSE),\"\")","v":""},null,{"$f":"IF(ISNUMBER(SEARCH(B1520,CI1520)),MAX($CH$2:CH1519)+1,0)","v":0}]
[null,null,{"$f":"IF(B1522=\"\",\"\",SUMIF('الرصيد الثابت'!$D$2:$D$115,B1522,'الرصيد الثابت'!$H$2:$H$115))","v":""},{"$f":"IF(B1522=\"\",\"\",SUMIF('الرصيد الثابت'!$D$2:$D$115,B1522,'الرصيد الثابت'!$I$2:$I$115))","v":""},{"$f":"IF(B1522=\"\",\"\",SUMIF('الرصيد الثابت'!$D$2:$D$115,B1522,'الرصيد الثابت'!$J$2:$J$115))","v":""},null,0,null,null,null,null,0,null,null,null,{"$f":"SUM(#REF!-#REF!)","v":{"$error":"#REF!"}},null,0,null,null,null,null,null,null,null,null,null,null,null,null,null,null,null,null,null,null,null,null,null,null,null,null,null,null,null,null,null,null,null,null,null,null,null,null,null,null,null,null,null,null,null,null,null,null,null,null,null,null,null,null,null,null,null,null,null,null,null,null,null,null,null,null,null,{"$f":"IFERROR(VLOOKUP(ROWS($CF$3:CF1522),$CH$3:$CI$2001,2,FALSE),\"\")","v":""},null,{"$f":"IF(ISNUMBER(SEARCH(B1522,CI1522)),MAX($CH$2:CH1521)+1,0)","v":0}]
[null,null,{"$f":"IF(B1526=\"\",\"\",SUMIF('الرصيد الثابت'!$D$2:$D$115,B1526,'الرصيد الثابت'!$H$2:$H$115))","v":""},{"$f":"IF(B1526=\"\",\"\",SUMIF('الرصيد الثابت'!$D$2:$D$115,B1526,'الرصيد الثابت'!$I$2:$I$115))","v":""},{"$f":"IF(B1526=\"\",\"\",SUMIF('الرصيد الثابت'!$D$2:$D$115,B1526,'الرصيد الثابت'!$J$2:$J$115))","v":""},null,0,null,null,null,null,0,null,null,null,{"$f":"SUM(#REF!-#REF!)","v":{"$error":"#REF!"}},null,0,null,null,null,null,null,null,null,null,null,null,null,null,null,null,null,null,null,null,null,null,null,null,null,null,null,null,null,null,null,null,null,null,null,null,null,null,null,null,null,null,null,null,null,null,null,null,null,null,null,null,null,null,null,null,null,null,null,null,null,null,null,null,null,null,null,{"$f":"IFERROR(VLOOKUP(ROWS($CF$3:CF1526),$CH$3:$CI$2001,2,FALSE),\"\")","v":""},null,{"$f":"IF(ISNUMBER(SEARCH(B1526,CI1526)),MAX($CH$2:CH1525)+1,0)","v":0}]
[null,null,{"$f":"IF(B1529=\"\",\"\",SUMIF('الرصيد الثابت'!$D$2:$D$115,B1529,'الرصيد الثابت'!$H$2:$H$115))","v":""},{"$f":"IF(B1529=\"\",\"\",SUMIF('الرصيد الثابت'!$D$2:$D$115,B1529,'الرصيد الثابت'!$I$2:$I$115))","v":""},{"$f":"IF(B1529=\"\",\"\",SUMIF('الرصيد الثابت'!$D$2:$D$115,B1529,'الرصيد الثابت'!$J$2:$J$115))","v":""},null,0,null,null,null,null,0,null,null,null,{"$f":"SUM(#REF!-#REF!)","v":{"$error":"#REF!"}},null,0,null,null,null,null,null,null,null,null,null,null,null,null,null,null,null,null,null,null,null,null,null,null,null,null,null,null,null,null,null,null,null,null,null,null,null,null,null,null,null,null,null,null,null,null,null,null,null,null,null,null,null,null,null,null,null,null,null,null,null,null,null,null,null,null,null,{"$f":"IFERROR(VLOOKUP(ROWS($CF$3:CF1529),$CH$3:$CI$2001,2,FALSE),\"\")","v":""},null,{"$f":"IF(ISNUMBER(SEARCH(B1529,CI1529)),MAX($CH$2:CH1528)+1,0)","v":0}]
[null,null,{"$f":"IF(B1532=\"\",\"\",SUMIF('الرصيد الثابت'!$D$2:$D$115,B1532,'الرصيد الثابت'!$H$2:$H$115))","v":""},{"$f":"IF(B1532=\"\",\"\",SUMIF('الرصيد الثابت'!$D$2:$D$115,B1532,'الرصيد الثابت'!$I$2:$I$115))","v":""},{"$f":"IF(B1532=\"\",\"\",SUMIF('الرصيد الثابت'!$D$2:$D$115,B1532,'الرصيد الثابت'!$J$2:$J$115))","v":""},null,0,null,null,null,null,0,null,null,null,0,null,0,null,null,null,null,null,null,null,null,null,null,null,null,null,null,null,null,null,null,null,null,null,null,null,null,null,null,null,null,null,null,null,null,null,null,null,null,null,null,null,null,null,null,null,null,null,null,null,null,null,null,null,null,null,null,null,null,null,null,null,null,null,null,null,null,null,{"$f":"IFERROR(VLOOKUP(ROWS($CF$3:CF1532),$CH$3:$CI$2001,2,FALSE),\"\")","v":""},null,{"$f":"IF(ISNUMBER(SEARCH(B1532,CI1532)),MAX($CH$2:CH1531)+1,0)","v":0}]
[null,null,{"$f":"IF(B1533=\"\",\"\",SUMIF('الرصيد الثابت'!$D$2:$D$115,B1533,'الرصيد الثابت'!$H$2:$H$115))","v":""},{"$f":"IF(B1533=\"\",\"\",SUMIF('الرصيد الثابت'!$D$2:$D$115,B1533,'الرصيد الثابت'!$I$2:$I$115))","v":""},{"$f":"IF(B1533=\"\",\"\",SUMIF('الرصيد الثابت'!$D$2:$D$115,B1533,'الرصيد الثابت'!$J$2:$J$115))","v":""},null,0,null,null,null,null,0,null,null,null,0,null,0,null,null,null,null,null,null,null,null,null,null,null,null,null,null,null,null,null,null,null,null,null,null,null,null,null,null,null,null,null,null,null,null,null,null,null,null,null,null,null,null,null,null,null,null,null,null,null,null,null,null,null,null,null,null,null,null,null,null,null,null,null,null,null,null,null,{"$f":"IFERROR(VLOOKUP(ROWS($CF$3:CF1533),$CH$3:$CI$2001,2,FALSE),\"\")","v":""},null,{"$f":"IF(ISNUMBER(SEARCH(B1533,CI1533)),MAX($CH$2:CH1532)+1,0)","v":0}]
[null,null,{"$f":"IF(B1535=\"\",\"\",SUMIF('الرصيد الثابت'!$D$2:$D$115,B1535,'الرصيد الثابت'!$H$2:$H$115))","v":""},{"$f":"IF(B1535=\"\",\"\",SUMIF('الرصيد الثابت'!$D$2:$D$115,B1535,'الرصيد الثابت'!$I$2:$I$115))","v":""},{"$f":"IF(B1535=\"\",\"\",SUMIF('الرصيد الثابت'!$D$2:$D$115,B1535,'الرصيد الثابت'!$J$2:$J$115))","v":""},null,0,null,null,null,null,0,null,null,null,0,null,0,null,null,null,null,null,null,null,null,null,null,null,null,null,null,null,null,null,null,null,null,null,null,null,null,null,null,null,null,null,null,null,null,null,null,null,null,null,null,null,null,null,null,null,null,null,null,null,null,null,null,null,null,null,null,null,null,null,null,null,null,null,null,null,null,null,{"$f":"IFERROR(VLOOKUP(ROWS($CF$3:CF1535),$CH$3:$CI$2001,2,FALSE),\"\")","v":""},null,{"$f":"IF(ISNUMBER(SEARCH(B1535,CI1535)),MAX($CH$2:CH1534)+1,0)","v":0}]
[null,null,{"$f":"IF(B1539=\"\",\"\",SUMIF('الرصيد الثابت'!$D$2:$D$115,B1539,'الرصيد الثابت'!$H$2:$H$115))","v":""},{"$f":"IF(B1539=\"\",\"\",SUMIF('الرصيد الثابت'!$D$2:$D$115,B1539,'الرصيد الثابت'!$I$2:$I$115))","v":""},{"$f":"IF(B1539=\"\",\"\",SUMIF('الرصيد الثابت'!$D$2:$D$115,B1539,'الرصيد الثابت'!$J$2:$J$115))","v":""},null,0,null,null,null,null,{"$f":"SUM(M1539*K1539)","v":0},null,null,null,0,null,0,null,null,null,null,null,null,null,null,null,null,null,null,null,null,null,null,null,null,null,null,null,null,null,null,null,null,null,null,null,null,null,null,null,null,null,null,null,null,null,null,null,null,null,null,null,null,null,null,null,null,null,null,null,null,null,null,null,null,null,null,null,null,null,null,null,{"$f":"IFERROR(VLOOKUP(ROWS($CF$3:CF1539),$CH$3:$CI$2001,2,FALSE),\"\")","v":""},null,{"$f":"IF(ISNUMBER(SEARCH(B1539,CI1539)),MAX($CH$2:CH1538)+1,0)","v":0}]
[null,null,{"$f":"IF(B1542=\"\",\"\",SUMIF('الرصيد الثابت'!$D$2:$D$115,B1542,'الرصيد الثابت'!$H$2:$H$115))","v":""},{"$f":"IF(B1542=\"\",\"\",SUMIF('الرصيد الثابت'!$D$2:$D$115,B1542,'الرصيد الثابت'!$I$2:$I$115))","v":""},{"$f":"IF(B1542=\"\",\"\",SUMIF('الرصيد الثابت'!$D$2:$D$115,B1542,'الرصيد الثابت'!$J$2:$J$115))","v":""},null,0,null,null,null,null,0,null,null,null,0,null,0,null,null,null,null,null,null,null,null,null,null,null,null,null,null,null,null,null,null,null,null,null,null,null,null,null,null,null,null,null,null,null,null,null,null,null,null,null,null,null,null,null,null,null,null,null,null,null,null,null,null,null,null,null,null,null,null,null,null,null,null,null,null,null,null,null,{"$f":"IFERROR(VLOOKUP(ROWS($CF$3:CF1542),$CH$3:$CI$2001,2,FALSE),\"\")","v":""},null,{"$f":"IF(ISNUMBER(SEARCH(B1542,CI1542)),MAX($CH$2:CH1541)+1,0)","v":0}]
[null,null,{"$f":"IF(B1544=\"\",\"\",SUMIF('الرصيد الثابت'!$D$2:$D$115,B1544,'الرصيد الثابت'!$H$2:$H$115))","v":""},{"$f":"IF(B1544=\"\",\"\",SUMIF('الرصيد الثابت'!$D$2:$D$115,B1544,'الرصيد الثابت'!$I$2:$I$115))","v":""},{"$f":"IF(B1544=\"\",\"\",SUMIF('الرصيد الثابت'!$D$2:$D$115,B1544,'الرصيد الثابت'!$J$2:$J$115))","v":""},null,0,null,null,null,null,0,null,null,null,0,null,0,null,null,null,null,null,null,null,null,null,null,null,null,null,null,null,null,null,null,null,null,null,null,null,null,null,null,null,null,null,null,null,null,null,null,null,null,null,null,null,null,null,null,null,null,null,null,null,null,null,null,null,null,null,null,null,null,null,null,null,null,null,null,null,null,null,{"$f":"IFERROR(VLOOKUP(ROWS($CF$3:CF1544),$CH$3:$CI$2001,2,FALSE),\"\")","v":""},null,{"$f":"IF(ISNUMBER(SEARCH(B1544,CI1544)),MAX($CH$2:CH1543)+1,0)","v":0}]
[null,null,{"$f":"IF(B1548=\"\",\"\",SUMIF('الرصيد الثابت'!$D$2:$D$115,B1548,'الرصيد الثابت'!$H$2:$H$115))","v":""},{"$f":"IF(B1548=\"\",\"\",SUMIF('الرصيد الثابت'!$D$2:$D$115,B1548,'الرصيد الثابت'!$I$2:$I$115))","v":""},{"$f":"IF(B1548=\"\",\"\",SUMIF('الرصيد الثابت'!$D$2:$D$115,B1548,'الرصيد الثابت'!$J$2:$J$115))","v":""},null,0,null,null,null,null,0,null,null,null,0,null,0,null,null,null,null,null,null,null,null,null,null,null,null,null,null,null,null,null,null,null,null,null,null,null,null,null,null,null,null,null,null,null,null,null,null,null,null,null,null,null,null,null,null,null,null,null,null,null,null,null,null,null,null,null,null,null,null,null,null,null,null,null,null,null,null,null,{"$f":"IFERROR(VLOOKUP(ROWS($CF$3:CF1548),$CH$3:$CI$2001,2,FALSE),\"\")","v":""},null,{"$f":"IF(ISNUMBER(SEARCH(B1548,CI1548)),MAX($CH$2:CH1547)+1,0)","v":0}]
[null,null,{"$f":"IF(B1551=\"\",\"\",SUMIF('الرصيد الثابت'!$D$2:$D$115,B1551,'الرصيد الثابت'!$H$2:$H$115))","v":""},{"$f":"IF(B1551=\"\",\"\",SUMIF('الرصيد الثابت'!$D$2:$D$115,B1551,'الرصيد الثابت'!$I$2:$I$115))","v":""},{"$f":"IF(B1551=\"\",\"\",SUMIF('الرصيد الثابت'!$D$2:$D$115,B1551,'الرصيد الثابت'!$J$2:$J$115))","v":""},null,0,null,null,null,null,0,null,null,null,0,null,0,null,null,null,null,null,null,null,null,null,null,null,null,null,null,null,null,null,null,null,null,null,null,null,null,null,null,null,null,null,null,null,null,null,null,null,null,null,null,null,null,null,null,null,null,null,null,null,null,null,null,null,null,null,null,null,null,null,null,null,null,null,null,null,null,null,{"$f":"IFERROR(VLOOKUP(ROWS($CF$3:CF1551),$CH$3:$CI$2001,2,FALSE),\"\")","v":""},null,{"$f":"IF(ISNUMBER(SEARCH(B1551,CI1551)),MAX($CH$2:CH1550)+1,0)","v":0}]
[null,null,{"$f":"IF(B1554=\"\",\"\",SUMIF('الرصيد الثابت'!$D$2:$D$115,B1554,'الرصيد الثابت'!$H$2:$H$115))","v":""},{"$f":"IF(B1554=\"\",\"\",SUMIF('الرصيد الثابت'!$D$2:$D$115,B1554,'الرصيد الثابت'!$I$2:$I$115))","v":""},{"$f":"IF(B1554=\"\",\"\",SUMIF('الرصيد الثابت'!$D$2:$D$115,B1554,'الرصيد الثابت'!$J$2:$J$115))","v":""},null,0,null,null,null,null,0,null,null,null,0,null,0,null,null,null,null,null,null,null,null,null,null,null,null,null,null,null,null,null,null,null,null,null,null,null,null,null,null,null,null,null,null,null,null,null,null,null,null,null,null,null,null,null,null,null,null,null,null,null,null,null,null,null,null,null,null,null,null,null,null,null,null,null,null,null,null,null,{"$f":"IFERROR(VLOOKUP(ROWS($CF$3:CF1554),$CH$3:$CI$2001,2,FALSE),\"\")","v":""},null,{"$f":"IF(ISNUMBER(SEARCH(B1554,CI1554)),MAX($CH$2:CH1553)+1,0)","v":0}]
[null,null,{"$f":"IF(B1555=\"\",\"\",SUMIF('الرصيد الثابت'!$D$2:$D$115,B1555,'الرصيد الثابت'!$H$2:$H$115))","v":""},{"$f":"IF(B1555=\"\",\"\",SUMIF('الرصيد الثابت'!$D$2:$D$115,B1555,'الرصيد الثابت'!$I$2:$I$115))","v":""},{"$f":"IF(B1555=\"\",\"\",SUMIF('الرصيد الثابت'!$D$2:$D$115,B1555,'الرصيد الثابت'!$J$2:$J$115))","v":""},null,0,null,null,null,null,0,null,null,null,0,null,0,null,null,null,null,null,null,null,null,null,null,null,null,null,null,null,null,null,null,null,null,null,null,null,null,null,null,null,null,null,null,null,null,null,null,null,null,null,null,null,null,null,null,null,null,null,null,null,null,null,null,null,null,null,null,null,null,null,null,null,null,null,null,null,null,null,{"$f":"IFERROR(VLOOKUP(ROWS($CF$3:CF1555),$CH$3:$CI$2001,2,FALSE),\"\")","v":""},null,{"$f":"IF(ISNUMBER(SEARCH(B1555,CI1555)),MAX($CH$2:CH1554)+1,0)","v":0}]
[null,null,{"$f":"IF(B1557=\"\",\"\",SUMIF('الرصيد الثابت'!$D$2:$D$115,B1557,'الرصيد الثابت'!$H$2:$H$115))","v":""},{"$f":"IF(B1557=\"\",\"\",SUMIF('الرصيد الثابت'!$D$2:$D$115,B1557,'الرصيد الثابت'!$I$2:$I$115))","v":""},{"$f":"IF(B1557=\"\",\"\",SUMIF('الرصيد الثابت'!$D$2:$D$115,B1557,'الرصيد الثابت'!$J$2:$J$115))","v":""},null,0,null,null,null,null,0,null,null,null,0,null,0,null,null,null,null,null,null,null,null,null,null,null,null,null,null,null,null,null,null,null,null,null,null,null,null,null,null,null,null,null,null,null,null,null,null,null,null,null,null,null,null,null,null,null,null,null,null,null,null,null,null,null,null,null,null,null,null,null,null,null,null,null,null,null,null,null,{"$f":"IFERROR(VLOOKUP(ROWS($CF$3:CF1557),$CH$3:$CI$2001,2,FALSE),\"\")","v":""},null,{"$f":"IF(ISNUMBER(SEARCH(B1557,CI1557)),MAX($CH$2:CH1556)+1,0)","v":0}]
[null,null,{"$f":"IF(B1561=\"\",\"\",SUMIF('الرصيد الثابت'!$D$2:$D$115,B1561,'الرصيد الثابت'!$H$2:$H$115))","v":""},{"$f":"IF(B1561=\"\",\"\",SUMIF('الرصيد الثابت'!$D$2:$D$115,B1561,'الرصيد الثابت'!$I$2:$I$115))","v":""},{"$f":"IF(B1561=\"\",\"\",SUMIF('الرصيد الثابت'!$D$2:$D$115,B1561,'الرصيد الثابت'!$J$2:$J$115))","v":""},null,0,null,null,null,null,0,null,null,null,0,null,0,null,null,null,null,null,null,null,null,null,null,null,null,null,null,null,null,null,null,null,null,null,null,null,null,null,null,null,null,null,null,null,null,null,null,null,null,null,null,null,null,null,null,null,null,null,null,null,null,null,null,null,null,null,null,null,null,null,null,null,null,null,null,null,null,null,{"$f":"IFERROR(VLOOKUP(ROWS($CF$3:CF1561),$CH$3:$CI$2001,2,FALSE),\"\")","v":""},null,{"$f":"IF(ISNUMBER(SEARCH(B1561,CI1561)),MAX($CH$2:CH1560)+1,0)","v":0}]
[null,null,{"$f":"IF(B1564=\"\",\"\",SUMIF('الرصيد الثابت'!$D$2:$D$115,B1564,'الرصيد الثابت'!$H$2:$H$115))","v":""},{"$f":"IF(B1564=\"\",\"\",SUMIF('الرصيد الثابت'!$D$2:$D$115,B1564,'الرصيد الثابت'!$I$2:$I$115))","v":""},{"$f":"IF(B1564=\"\",\"\",SUMIF('الرصيد الثابت'!$D$2:$D$115,B1564,'الرصيد الثابت'!$J$2:$J$115))","v":""},null,0,null,null,null,null,0,null,null,null,0,null,0,null,null,null,null,null,null,null,null,null,null,null,null,null,null,null,null,null,null,null,null,null,null,null,null,null,null,null,null,null,null,null,null,null,null,null,null,null,null,null,null,null,null,null,null,null,null,null,null,null,null,null,null,null,null,null,null,null,null,null,null,null,null,null,null,null,{"$f":"IFERROR(VLOOKUP(ROWS($CF$3:CF1564),$CH$3:$CI$2001,2,FALSE),\"\")","v":""},null,{"$f":"IF(ISNUMBER(SEARCH(B1564,CI1564)),MAX($CH$2:CH1563)+1,0)","v":0}]
[null,null,{"$f":"IF(B1566=\"\",\"\",SUMIF('الرصيد الثابت'!$D$2:$D$115,B1566,'الرصيد الثابت'!$H$2:$H$115))","v":""},{"$f":"IF(B1566=\"\",\"\",SUMIF('الرصيد الثابت'!$D$2:$D$115,B1566,'الرصيد الثابت'!$I$2:$I$115))","v":""},{"$f":"IF(B1566=\"\",\"\",SUMIF('الرصيد الثابت'!$D$2:$D$115,B1566,'الرصيد الثابت'!$J$2:$J$115))","v":""},null,0,null,null,null,null,0,null,null,null,0,null,0,null,null,null,null,null,null,null,null,null,null,null,null,null,null,null,null,null,null,null,null,null,null,null,null,null,null,null,null,null,null,null,null,null,null,null,null,null,null,null,null,null,null,null,null,null,null,null,null,null,null,null,null,null,null,null,null,null,null,null,null,null,null,null,null,null,{"$f":"IFERROR(VLOOKUP(ROWS($CF$3:CF1566),$CH$3:$CI$2001,2,FALSE),\"\")","v":""},null,{"$f":"IF(ISNUMBER(SEARCH(B1566,CI1566)),MAX($CH$2:CH1565)+1,0)","v":0}]
[null,null,{"$f":"IF(B1570=\"\",\"\",SUMIF('الرصيد الثابت'!$D$2:$D$115,B1570,'الرصيد الثابت'!$H$2:$H$115))","v":""},{"$f":"IF(B1570=\"\",\"\",SUMIF('الرصيد الثابت'!$D$2:$D$115,B1570,'الرصيد الثابت'!$I$2:$I$115))","v":""},{"$f":"IF(B1570=\"\",\"\",SUMIF('الرصيد الثابت'!$D$2:$D$115,B1570,'الرصيد الثابت'!$J$2:$J$115))","v":""},null,0,null,null,null,null,0,null,null,null,0,null,0,null,null,null,null,null,null,null,null,null,null,null,null,null,null,null,null,null,null,null,null,null,null,null,null,null,null,null,null,null,null,null,null,null,null,null,null,null,null,null,null,null,null,null,null,null,null,null,null,null,null,null,null,null,null,null,null,null,null,null,null,null,null,null,null,null,{"$f":"IFERROR(VLOOKUP(ROWS($CF$3:CF1570),$CH$3:$CI$2001,2,FALSE),\"\")","v":""},null,{"$f":"IF(ISNUMBER(SEARCH(B1570,CI1570)),MAX($CH$2:CH1569)+1,0)","v":0}]
[null,null,{"$f":"IF(B1573=\"\",\"\",SUMIF('الرصيد الثابت'!$D$2:$D$115,B1573,'الرصيد الثابت'!$H$2:$H$115))","v":""},{"$f":"IF(B1573=\"\",\"\",SUMIF('الرصيد الثابت'!$D$2:$D$115,B1573,'الرصيد الثابت'!$I$2:$I$115))","v":""},{"$f":"IF(B1573=\"\",\"\",SUMIF('الرصيد الثابت'!$D$2:$D$115,B1573,'الرصيد الثابت'!$J$2:$J$115))","v":""},null,0,null,null,null,null,0,null,null,null,0,null,0,null,null,null,null,null,null,null,null,null,null,null,null,null,null,null,null,null,null,null,null,null,null,null,null,null,null,null,null,null,null,null,null,null,null,null,null,null,null,null,null,null,null,null,null,null,null,null,null,null,null,null,null,null,null,null,null,null,null,null,null,null,null,null,null,null,{"$f":"IFERROR(VLOOKUP(ROWS($CF$3:CF1573),$CH$3:$CI$2001,2,FALSE),\"\")","v":""},null,{"$f":"IF(ISNUMBER(SEARCH(B1573,CI1573)),MAX($CH$2:CH1572)+1,0)","v":0}]
[null,null,{"$f":"IF(B1576=\"\",\"\",SUMIF('الرصيد الثابت'!$D$2:$D$115,B1576,'الرصيد الثابت'!$H$2:$H$115))","v":""},{"$f":"IF(B1576=\"\",\"\",SUMIF('الرصيد الثابت'!$D$2:$D$115,B1576,'الرصيد الثابت'!$I$2:$I$115))","v":""},{"$f":"IF(B1576=\"\",\"\",SUMIF('الرصيد الثابت'!$D$2:$D$115,B1576,'الرصيد الثابت'!$J$2:$J$115))","v":""},null,0,null,null,null,null,0,null,null,null,0,null,0,null,null,null,null,null,null,null,null,null,null,null,null,null,null,null,null,null,null,null,null,null,null,null,null,null,null,null,null,null,null,null,null,null,null,null,null,null,null,null,null,null,null,null,null,null,null,null,null,null,null,null,null,null,null,null,null,null,null,null,null,null,null,null,null,null,{"$f":"IFERROR(VLOOKUP(ROWS($CF$3:CF1576),$CH$3:$CI$2001,2,FALSE),\"\")","v":""},null,{"$f":"IF(ISNUMBER(SEARCH(B1576,CI1576)),MAX($CH$2:CH1575)+1,0)","v":0}]
[null,null,{"$f":"IF(B1577=\"\",\"\",SUMIF('الرصيد الثابت'!$D$2:$D$115,B1577,'الرصيد الثابت'!$H$2:$H$115))","v":""},{"$f":"IF(B1577=\"\",\"\",SUMIF('الرصيد الثابت'!$D$2:$D$115,B1577,'الرصيد الثابت'!$I$2:$I$115))","v":""},{"$f":"IF(B1577=\"\",\"\",SUMIF('الرصيد الثابت'!$D$2:$D$115,B1577,'الرصيد الثابت'!$J$2:$J$115))","v":""},null,0,null,null,null,null,0,null,null,null,0,null,0,null,null,null,null,null,null,null,null,null,null,null,null,null,null,null,null,null,null,null,null,null,null,null,null,null,null,null,null,null,null,null,null,null,null,null,null,null,null,null,null,null,null,null,null,null,null,null,null,null,null,null,null,null,null,null,null,null,null,null,null,null,null,null,null,null,{"$f":"IFERROR(VLOOKUP(ROWS($CF$3:CF1577),$CH$3:$CI$2001,2,FALSE),\"\")","v":""},null,{"$f":"IF(ISNUMBER(SEARCH(B1577,CI1577)),MAX($CH$2:CH1576)+1,0)","v":0}]
[null,null,{"$f":"IF(B1579=\"\",\"\",SUMIF('الرصيد الثابت'!$D$2:$D$115,B1579,'الرصيد الثابت'!$H$2:$H$115))","v":""},{"$f":"IF(B1579=\"\",\"\",SUMIF('الرصيد الثابت'!$D$2:$D$115,B1579,'الرصيد الثابت'!$I$2:$I$115))","v":""},{"$f":"IF(B1579=\"\",\"\",SUMIF('الرصيد الثابت'!$D$2:$D$115,B1579,'الرصيد الثابت'!$J$2:$J$115))","v":""},null,0,null,null,null,null,0,null,null,null,0,null,0,null,null,null,null,null,null,null,null,null,null,null,null,null,null,null,null,null,null,null,null,null,null,null,null,null,null,null,null,null,null,null,null,null,null,null,null,null,null,null,null,null,null,null,null,null,null,null,null,null,null,null,null,null,null,null,null,null,null,null,null,null,null,null,null,null,{"$f":"IFERROR(VLOOKUP(ROWS($CF$3:CF1579),$CH$3:$CI$2001,2,FALSE),\"\")","v":""},null,{"$f":"IF(ISNUMBER(SEARCH(B1579,CI1579)),MAX($CH$2:CH1578)+1,0)","v":0}]
[null,null,{"$f":"IF(B1583=\"\",\"\",SUMIF('الرصيد الثابت'!$D$2:$D$115,B1583,'الرصيد الثابت'!$H$2:$H$115))","v":""},{"$f":"IF(B1583=\"\",\"\",SUMIF('الرصيد الثابت'!$D$2:$D$115,B1583,'الرصيد الثابت'!$I$2:$I$115))","v":""},{"$f":"IF(B1583=\"\",\"\",SUMIF('الرصيد الثابت'!$D$2:$D$115,B1583,'الرصيد الثابت'!$J$2:$J$115))","v":""},null,0,null,null,null,null,0,null,null,null,0,null,0,null,null,null,null,null,null,null,null,null,null,null,null,null,null,null,null,null,null,null,null,null,null,null,null,null,null,null,null,null,null,null,null,null,null,null,null,null,null,null,null,null,null,null,null,null,null,null,null,null,null,null,null,null,null,null,null,null,null,null,null,null,null,null,null,null,{"$f":"IFERROR(VLOOKUP(ROWS($CF$3:CF1583),$CH$3:$CI$2001,2,FALSE),\"\")","v":""},null,{"$f":"IF(ISNUMBER(SEARCH(B1583,CI1583)),MAX($CH$2:CH1582)+1,0)","v":0}]
[null,null,{"$f":"IF(B1586=\"\",\"\",SUMIF('الرصيد الثابت'!$D$2:$D$115,B1586,'الرصيد الثابت'!$H$2:$H$115))","v":""},{"$f":"IF(B1586=\"\",\"\",SUMIF('الرصيد الثابت'!$D$2:$D$115,B1586,'الرصيد الثابت'!$I$2:$I$115))","v":""},{"$f":"IF(B1586=\"\",\"\",SUMIF('الرصيد الثابت'!$D$2:$D$115,B1586,'الرصيد الثابت'!$J$2:$J$115))","v":""},null,0,null,null,null,null,0,null,null,null,0,null,0,null,null,null,null,null,null,null,null,null,null,null,null,null,null,null,null,null,null,null,null,null,null,null,null,null,null,null,null,null,null,null,null,null,null,null,null,null,null,null,null,null,null,null,null,null,null,null,null,null,null,null,null,null,null,null,null,null,null,null,null,null,null,null,null,null,{"$f":"IFERROR(VLOOKUP(ROWS($CF$3:CF1586),$CH$3:$CI$2001,2,FALSE),\"\")","v":""},null,{"$f":"IF(ISNUMBER(SEARCH(B1586,CI1586)),MAX($CH$2:CH1585)+1,0)","v":0}]
[null,null,{"$f":"IF(B1588=\"\",\"\",SUMIF('الرصيد الثابت'!$D$2:$D$115,B1588,'الرصيد الثابت'!$H$2:$H$115))","v":""},{"$f":"IF(B1588=\"\",\"\",SUMIF('الرصيد الثابت'!$D$2:$D$115,B1588,'الرصيد الثابت'!$I$2:$I$115))","v":""},{"$f":"IF(B1588=\"\",\"\",SUMIF('الرصيد الثابت'!$D$2:$D$115,B1588,'الرصيد الثابت'!$J$2:$J$115))","v":""},null,0,null,null,null,null,0,null,null,null,0,null,0,null,null,null,null,null,null,null,null,null,null,null,null,null,null,null,null,null,null,null,null,null,null,null,null,null,null,null,null,null,null,null,null,null,null,null,null,null,null,null,null,null,null,null,null,null,null,null,null,null,null,null,null,null,null,null,null,null,null,null,null,null,null,null,null,null,{"$f":"IFERROR(VLOOKUP(ROWS($CF$3:CF1588),$CH$3:$CI$2001,2,FALSE),\"\")","v":""},null,{"$f":"IF(ISNUMBER(SEARCH(B1588,CI1588)),MAX($CH$2:CH1587)+1,0)","v":0}]
[null,null,{"$f":"IF(B1592=\"\",\"\",SUMIF('الرصيد الثابت'!$D$2:$D$115,B1592,'الرصيد الثابت'!$H$2:$H$115))","v":""},{"$f":"IF(B1592=\"\",\"\",SUMIF('الرصيد الثابت'!$D$2:$D$115,B1592,'الرصيد الثابت'!$I$2:$I$115))","v":""},{"$f":"IF(B1592=\"\",\"\",SUMIF('الرصيد الثابت'!$D$2:$D$115,B1592,'الرصيد الثابت'!$J$2:$J$115))","v":""},null,0,null,null,null,null,0,null,null,null,0,null,0,null,null,null,null,null,null,null,null,null,null,null,null,null,null,null,null,null,null,null,null,null,null,null,null,null,null,null,null,null,null,null,null,null,null,null,null,null,null,null,null,null,null,null,null,null,null,null,null,null,null,null,null,null,null,null,null,null,null,null,null,null,null,null,null,null,{"$f":"IFERROR(VLOOKUP(ROWS($CF$3:CF1592),$CH$3:$CI$2001,2,FALSE),\"\")","v":""},null,{"$f":"IF(ISNUMBER(SEARCH(B1592,CI1592)),MAX($CH$2:CH1591)+1,0)","v":0}]
[null,null,{"$f":"IF(B1595=\"\",\"\",SUMIF('الرصيد الثابت'!$D$2:$D$115,B1595,'الرصيد الثابت'!$H$2:$H$115))","v":""},{"$f":"IF(B1595=\"\",\"\",SUMIF('الرصيد الثابت'!$D$2:$D$115,B1595,'الرصيد الثابت'!$I$2:$I$115))","v":""},{"$f":"IF(B1595=\"\",\"\",SUMIF('الرصيد الثابت'!$D$2:$D$115,B1595,'الرصيد الثابت'!$J$2:$J$115))","v":""},null,0,null,null,null,null,0,null,null,null,0,null,0,null,null,null,null,null,null,null,null,null,null,null,null,null,null,null,null,null,null,null,null,null,null,null,null,null,null,null,null,null,null,null,null,null,null,null,null,null,null,null,null,null,null,null,null,null,null,null,null,null,null,null,null,null,null,null,null,null,null,null,null,null,null,null,null,null,{"$f":"IFERROR(VLOOKUP(ROWS($CF$3:CF1595),$CH$3:$CI$2001,2,FALSE),\"\")","v":""},null,{"$f":"IF(ISNUMBER(SEARCH(B1595,CI1595)),MAX($CH$2:CH1594)+1,0)","v":0}]
[null,null,{"$f":"IF(B1596=\"\",\"\",SUMIF('الرصيد الثابت'!$D$2:$D$115,B1596,'الرصيد الثابت'!$H$2:$H$115))","v":""},{"$f":"IF(B1596=\"\",\"\",SUMIF('الرصيد الثابت'!$D$2:$D$115,B1596,'الرصيد الثابت'!$I$2:$I$115))","v":""},{"$f":"IF(B1596=\"\",\"\",SUMIF('الرصيد الثابت'!$D$2:$D$115,B1596,'الرصيد الثابت'!$J$2:$J$115))","v":""},null,0,null,null,null,null,0,null,null,null,0,null,0,null,null,null,null,null,null,null,null,null,null,null,null,null,null,null,null,null,null,null,null,null,null,null,null,null,null,null,null,null,null,null,null,null,null,null,null,null,null,null,null,null,null,null,null,null,null,null,null,null,null,null,null,null,null,null,null,null,null,null,null,null,null,null,null,null,{"$f":"IFERROR(VLOOKUP(ROWS($CF$3:CF1596),$CH$3:$CI$2001,2,FALSE),\"\")","v":""},null,{"$f":"IF(ISNUMBER(SEARCH(B1596,CI1596)),MAX($CH$2:CH1595)+1,0)","v":0}]
[null,null,{"$f":"IF(B1599=\"\",\"\",SUMIF('الرصيد الثابت'!$D$2:$D$115,B1599,'الرصيد الثابت'!$H$2:$H$115))","v":""},{"$f":"IF(B1599=\"\",\"\",SUMIF('الرصيد الثابت'!$D$2:$D$115,B1599,'الرصيد الثابت'!$I$2:$I$115))","v":""},{"$f":"IF(B1599=\"\",\"\",SUMIF('الرصيد الثابت'!$D$2:$D$115,B1599,'الرصيد الثابت'!$J$2:$J$115))","v":""},null,0,null,null,null,null,0,null,null,null,0,null,0,null,null,null,null,null,null,null,null,null,null,null,null,null,null,null,null,null,null,null,null,null,null,null,null,null,null,null,null,null,null,null,null,null,null,null,null,null,null,null,null,null,null,null,null,null,null,null,null,null,null,null,null,null,null,null,null,null,null,null,null,null,null,null,null,null,{"$f":"IFERROR(VLOOKUP(ROWS($CF$3:CF1599),$CH$3:$CI$2001,2,FALSE),\"\")","v":""},null,{"$f":"IF(ISNUMBER(SEARCH(B1599,CI1599)),MAX($CH$2:CH1598)+1,0)","v":0}]
[null,null,{"$f":"IF(B1601=\"\",\"\",SUMIF('الرصيد الثابت'!$D$2:$D$115,B1601,'الرصيد الثابت'!$H$2:$H$115))","v":""},{"$f":"IF(B1601=\"\",\"\",SUMIF('الرصيد الثابت'!$D$2:$D$115,B1601,'الرصيد الثابت'!$I$2:$I$115))","v":""},{"$f":"IF(B1601=\"\",\"\",SUMIF('الرصيد الثابت'!$D$2:$D$115,B1601,'الرصيد الثابت'!$J$2:$J$115))","v":""},null,0,null,null,null,null,0,null,null,null,0,null,0,null,null,null,null,null,null,null,null,null,null,null,null,null,null,null,null,null,null,null,null,null,null,null,null,null,null,null,null,null,null,null,null,null,null,null,null,null,null,null,null,null,null,null,null,null,null,null,null,null,null,null,null,null,null,null,null,null,null,null,null,null,null,null,null,null,{"$f":"IFERROR(VLOOKUP(ROWS($CF$3:CF1601),$CH$3:$CI$2001,2,FALSE),\"\")","v":""},null,{"$f":"IF(ISNUMBER(SEARCH(B1601,CI1601)),MAX($CH$2:CH1600)+1,0)","v":0}]
[null,null,{"$f":"IF(B1605=\"\",\"\",SUMIF('الرصيد الثابت'!$D$2:$D$115,B1605,'الرصيد الثابت'!$H$2:$H$115))","v":""},{"$f":"IF(B1605=\"\",\"\",SUMIF('الرصيد الثابت'!$D$2:$D$115,B1605,'الرصيد الثابت'!$I$2:$I$115))","v":""},{"$f":"IF(B1605=\"\",\"\",SUMIF('الرصيد الثابت'!$D$2:$D$115,B1605,'الرصيد الثابت'!$J$2:$J$115))","v":""},null,0,null,null,null,null,0,null,null,null,0,null,0,null,null,null,null,null,null,null,null,null,null,null,null,null,null,null,null,null,null,null,null,null,null,null,null,null,null,null,null,null,null,null,null,null,null,null,null,null,null,null,null,null,null,null,null,null,null,null,null,null,null,null,null,null,null,null,null,null,null,null,null,null,null,null,null,null,{"$f":"IFERROR(VLOOKUP(ROWS($CF$3:CF1605),$CH$3:$CI$2001,2,FALSE),\"\")","v":""},null,{"$f":"IF(ISNUMBER(SEARCH(B1605,CI1605)),MAX($CH$2:CH1604)+1,0)","v":0}]
[null,null,{"$f":"IF(B1608=\"\",\"\",SUMIF('الرصيد الثابت'!$D$2:$D$115,B1608,'الرصيد الثابت'!$H$2:$H$115))","v":""},{"$f":"IF(B1608=\"\",\"\",SUMIF('الرصيد الثابت'!$D$2:$D$115,B1608,'الرصيد الثابت'!$I$2:$I$115))","v":""},{"$f":"IF(B1608=\"\",\"\",SUMIF('الرصيد الثابت'!$D$2:$D$115,B1608,'الرصيد الثابت'!$J$2:$J$115))","v":""},null,0,null,null,null,null,0,null,null,null,0,null,0,null,null,null,null,null,null,null,null,null,null,null,null,null,null,null,null,null,null,null,null,null,null,null,null,null,null,null,null,null,null,null,null,null,null,null,null,null,null,null,null,null,null,null,null,null,null,null,null,null,null,null,null,null,null,null,null,null,null,null,null,null,null,null,null,null,{"$f":"IFERROR(VLOOKUP(ROWS($CF$3:CF1608),$CH$3:$CI$2001,2,FALSE),\"\")","v":""},null,{"$f":"IF(ISNUMBER(SEARCH(B1608,CI1608)),MAX($CH$2:CH1607)+1,0)","v":0}]
[null,null,{"$f":"IF(B1610=\"\",\"\",SUMIF('الرصيد الثابت'!$D$2:$D$115,B1610,'الرصيد الثابت'!$H$2:$H$115))","v":""},{"$f":"IF(B1610=\"\",\"\",SUMIF('الرصيد الثابت'!$D$2:$D$115,B1610,'الرصيد الثابت'!$I$2:$I$115))","v":""},{"$f":"IF(B1610=\"\",\"\",SUMIF('الرصيد الثابت'!$D$2:$D$115,B1610,'الرصيد الثابت'!$J$2:$J$115))","v":""},null,0,null,null,null,null,0,null,null,null,0,null,0,null,null,null,null,null,null,null,null,null,null,null,null,null,null,null,null,null,null,null,null,null,null,null,null,null,null,null,null,null,null,null,null,null,null,null,null,null,null,null,null,null,null,null,null,null,null,null,null,null,null,null,null,null,null,null,null,null,null,null,null,null,null,null,null,null,{"$f":"IFERROR(VLOOKUP(ROWS($CF$3:CF1610),$CH$3:$CI$2001,2,FALSE),\"\")","v":""},null,{"$f":"IF(ISNUMBER(SEARCH(B1610,CI1610)),MAX($CH$2:CH1609)+1,0)","v":0}]
[null,null,{"$f":"IF(B1614=\"\",\"\",SUMIF('الرصيد الثابت'!$D$2:$D$115,B1614,'الرصيد الثابت'!$H$2:$H$115))","v":""},{"$f":"IF(B1614=\"\",\"\",SUMIF('الرصيد الثابت'!$D$2:$D$115,B1614,'الرصيد الثابت'!$I$2:$I$115))","v":""},{"$f":"IF(B1614=\"\",\"\",SUMIF('الرصيد الثابت'!$D$2:$D$115,B1614,'الرصيد الثابت'!$J$2:$J$115))","v":""},null,0,null,null,null,null,0,null,null,null,0,null,0,null,null,null,null,null,null,null,null,null,null,null,null,null,null,null,null,null,null,null,null,null,null,null,null,null,null,null,null,null,null,null,null,null,null,null,null,null,null,null,null,null,null,null,null,null,null,null,null,null,null,null,null,null,null,null,null,null,null,null,null,null,null,null,null,null,{"$f":"IFERROR(VLOOKUP(ROWS($CF$3:CF1614),$CH$3:$CI$2001,2,FALSE),\"\")","v":""},null,{"$f":"IF(ISNUMBER(SEARCH(B1614,CI1614)),MAX($CH$2:CH1613)+1,0)","v":0}]
[null,null,{"$f":"IF(B1617=\"\",\"\",SUMIF('الرصيد الثابت'!$D$2:$D$115,B1617,'الرصيد الثابت'!$H$2:$H$115))","v":""},{"$f":"IF(B1617=\"\",\"\",SUMIF('الرصيد الثابت'!$D$2:$D$115,B1617,'الرصيد الثابت'!$I$2:$I$115))","v":""},{"$f":"IF(B1617=\"\",\"\",SUMIF('الرصيد الثابت'!$D$2:$D$115,B1617,'الرصيد الثابت'!$J$2:$J$115))","v":""},null,0,null,null,null,null,0,null,null,null,0,null,0,null,null,null,null,null,null,null,null,null,null,null,null,null,null,null,null,null,null,null,null,null,null,null,null,null,null,null,null,null,null,null,null,null,null,null,null,null,null,null,null,null,null,null,null,null,null,null,null,null,null,null,null,null,null,null,null,null,null,null,null,null,null,null,null,null,{"$f":"IFERROR(VLOOKUP(ROWS($CF$3:CF1617),$CH$3:$CI$2001,2,FALSE),\"\")","v":""},null,{"$f":"IF(ISNUMBER(SEARCH(B1617,CI1617)),MAX($CH$2:CH1616)+1,0)","v":0}]
[null,null,{"$f":"IF(B1618=\"\",\"\",SUMIF('الرصيد الثابت'!$D$2:$D$115,B1618,'الرصيد الثابت'!$H$2:$H$115))","v":""},{"$f":"IF(B1618=\"\",\"\",SUMIF('الرصيد الثابت'!$D$2:$D$115,B1618,'الرصيد الثابت'!$I$2:$I$115))","v":""},{"$f":"IF(B1618=\"\",\"\",SUMIF('الرصيد الثابت'!$D$2:$D$115,B1618,'الرصيد الثابت'!$J$2:$J$115))","v":""},null,0,null,null,null,null,0,null,null,null,0,null,0,null,null,null,null,null,null,null,null,null,null,null,null,null,null,null,null,null,null,null,null,null,null,null,null,null,null,null,null,null,null,null,null,null,null,null,null,null,null,null,null,null,null,null,null,null,null,null,null,null,null,null,null,null,null,null,null,null,null,null,null,null,null,null,null,null,{"$f":"IFERROR(VLOOKUP(ROWS($CF$3:CF1618),$CH$3:$CI$2001,2,FALSE),\"\")","v":""},null,{"$f":"IF(ISNUMBER(SEARCH(B1618,CI1618)),MAX($CH$2:CH1617)+1,0)","v":0}]
[null,null,{"$f":"IF(B1621=\"\",\"\",SUMIF('الرصيد الثابت'!$D$2:$D$115,B1621,'الرصيد الثابت'!$H$2:$H$115))","v":""},{"$f":"IF(B1621=\"\",\"\",SUMIF('الرصيد الثابت'!$D$2:$D$115,B1621,'الرصيد الثابت'!$I$2:$I$115))","v":""},{"$f":"IF(B1621=\"\",\"\",SUMIF('الرصيد الثابت'!$D$2:$D$115,B1621,'الرصيد الثابت'!$J$2:$J$115))","v":""},null,0,null,null,null,null,0,null,null,null,0,null,0,null,null,null,null,null,null,null,null,null,null,null,null,null,null,null,null,null,null,null,null,null,null,null,null,null,null,null,null,null,null,null,null,null,null,null,null,null,null,null,null,null,null,null,null,null,null,null,null,null,null,null,null,null,null,null,null,null,null,null,null,null,null,null,null,null,{"$f":"IFERROR(VLOOKUP(ROWS($CF$3:CF1621),$CH$3:$CI$2001,2,FALSE),\"\")","v":""},null,{"$f":"IF(ISNUMBER(SEARCH(B1621,CI1621)),MAX($CH$2:CH1620)+1,0)","v":0}]
[null,null,{"$f":"IF(B1623=\"\",\"\",SUMIF('الرصيد الثابت'!$D$2:$D$115,B1623,'الرصيد الثابت'!$H$2:$H$115))","v":""},{"$f":"IF(B1623=\"\",\"\",SUMIF('الرصيد الثابت'!$D$2:$D$115,B1623,'الرصيد الثابت'!$I$2:$I$115))","v":""},{"$f":"IF(B1623=\"\",\"\",SUMIF('الرصيد الثابت'!$D$2:$D$115,B1623,'الرصيد الثابت'!$J$2:$J$115))","v":""},null,0,null,null,null,null,0,null,null,null,0,null,0,null,null,null,null,null,null,null,null,null,null,null,null,null,null,null,null,null,null,null,null,null,null,null,null,null,null,null,null,null,null,null,null,null,null,null,null,null,null,null,null,null,null,null,null,null,null,null,null,null,null,null,null,null,null,null,null,null,null,null,null,null,null,null,null,null,{"$f":"IFERROR(VLOOKUP(ROWS($CF$3:CF1623),$CH$3:$CI$2001,2,FALSE),\"\")","v":""},null,{"$f":"IF(ISNUMBER(SEARCH(B1623,CI1623)),MAX($CH$2:CH1622)+1,0)","v":0}]
[null,null,{"$f":"IF(B1627=\"\",\"\",SUMIF('الرصيد الثابت'!$D$2:$D$115,B1627,'الرصيد الثابت'!$H$2:$H$115))","v":""},{"$f":"IF(B1627=\"\",\"\",SUMIF('الرصيد الثابت'!$D$2:$D$115,B1627,'الرصيد الثابت'!$I$2:$I$115))","v":""},{"$f":"IF(B1627=\"\",\"\",SUMIF('الرصيد الثابت'!$D$2:$D$115,B1627,'الرصيد الثابت'!$J$2:$J$115))","v":""},null,0,null,null,null,null,0,null,null,null,0,null,0,null,null,null,null,null,null,null,null,null,null,null,null,null,null,null,null,null,null,null,null,null,null,null,null,null,null,null,null,null,null,null,null,null,null,null,null,null,null,null,null,null,null,null,null,null,null,null,null,null,null,null,null,null,null,null,null,null,null,null,null,null,null,null,null,null,{"$f":"IFERROR(VLOOKUP(ROWS($CF$3:CF1627),$CH$3:$CI$2001,2,FALSE),\"\")","v":""},null,{"$f":"IF(ISNUMBER(SEARCH(B1627,CI1627)),MAX($CH$2:CH1626)+1,0)","v":0}]
[null,null,{"$f":"IF(B1630=\"\",\"\",SUMIF('الرصيد الثابت'!$D$2:$D$115,B1630,'الرصيد الثابت'!$H$2:$H$115))","v":""},{"$f":"IF(B1630=\"\",\"\",SUMIF('الرصيد الثابت'!$D$2:$D$115,B1630,'الرصيد الثابت'!$I$2:$I$115))","v":""},{"$f":"IF(B1630=\"\",\"\",SUMIF('الرصيد الثابت'!$D$2:$D$115,B1630,'الرصيد الثابت'!$J$2:$J$115))","v":""},null,0,null,null,null,null,0,null,null,null,0,null,0,null,null,null,null,null,null,null,null,null,null,null,null,null,null,null,null,null,null,null,null,null,null,null,null,null,null,null,null,null,null,null,null,null,null,null,null,null,null,null,null,null,null,null,null,null,null,null,null,null,null,null,null,null,null,null,null,null,null,null,null,null,null,null,null,null,{"$f":"IFERROR(VLOOKUP(ROWS($CF$3:CF1630),$CH$3:$CI$2001,2,FALSE),\"\")","v":""},null,{"$f":"IF(ISNUMBER(SEARCH(B1630,CI1630)),MAX($CH$2:CH1629)+1,0)","v":0}]
[null,null,{"$f":"IF(B1632=\"\",\"\",SUMIF('الرصيد الثابت'!$D$2:$D$115,B1632,'الرصيد الثابت'!$H$2:$H$115))","v":""},{"$f":"IF(B1632=\"\",\"\",SUMIF('الرصيد الثابت'!$D$2:$D$115,B1632,'الرصيد الثابت'!$I$2:$I$115))","v":""},{"$f":"IF(B1632=\"\",\"\",SUMIF('الرصيد الثابت'!$D$2:$D$115,B1632,'الرصيد الثابت'!$J$2:$J$115))","v":""},null,0,null,null,null,null,0,null,null,null,{"$f":"SUM(F1632-K1632)","v":0},null,0,null,null,null,null,null,null,null,null,null,null,null,null,null,null,null,null,null,null,null,null,null,null,null,null,null,null,null,null,null,null,null,null,null,null,null,null,null,null,null,null,null,null,null,null,null,null,null,null,null,null,null,null,null,null,null,null,null,null,null,null,null,null,null,null,null,{"$f":"IFERROR(VLOOKUP(ROWS($CF$3:CF1632),$CH$3:$CI$2001,2,FALSE),\"\")","v":""},null,{"$f":"IF(ISNUMBER(SEARCH(B1632,CI1632)),MAX($CH$2:CH1631)+1,0)","v":0}]
[null,null,{"$f":"IF(B1636=\"\",\"\",SUMIF('الرصيد الثابت'!$D$2:$D$115,B1636,'الرصيد الثابت'!$H$2:$H$115))","v":""},{"$f":"IF(B1636=\"\",\"\",SUMIF('الرصيد الثابت'!$D$2:$D$115,B1636,'الرصيد الثابت'!$I$2:$I$115))","v":""},{"$f":"IF(B1636=\"\",\"\",SUMIF('الرصيد الثابت'!$D$2:$D$115,B1636,'الرصيد الثابت'!$J$2:$J$115))","v":""},null,0,null,null,null,null,0,null,null,null,0,null,0,null,null,null,null,null,null,null,null,null,null,null,null,null,null,null,null,null,null,null,null,null,null,null,null,null,null,null,null,null,null,null,null,null,null,null,null,null,null,null,null,null,null,null,null,null,null,null,null,null,null,null,null,null,null,null,null,null,null,null,null,null,null,null,null,null,{"$f":"IFERROR(VLOOKUP(ROWS($CF$3:CF1636),$CH$3:$CI$2001,2,FALSE),\"\")","v":""},null,{"$f":"IF(ISNUMBER(SEARCH(B1636,CI1636)),MAX($CH$2:CH1635)+1,0)","v":0}]
[null,null,{"$f":"IF(B1639=\"\",\"\",SUMIF('الرصيد الثابت'!$D$2:$D$115,B1639,'الرصيد الثابت'!$H$2:$H$115))","v":""},{"$f":"IF(B1639=\"\",\"\",SUMIF('الرصيد الثابت'!$D$2:$D$115,B1639,'الرصيد الثابت'!$I$2:$I$115))","v":""},{"$f":"IF(B1639=\"\",\"\",SUMIF('الرصيد الثابت'!$D$2:$D$115,B1639,'الرصيد الثابت'!$J$2:$J$115))","v":""},null,0,null,null,null,null,0,null,null,null,0,null,0,null,null,null,null,null,null,null,null,null,null,null,null,null,null,null,null,null,null,null,null,null,null,null,null,null,null,null,null,null,null,null,null,null,null,null,null,null,null,null,null,null,null,null,null,null,null,null,null,null,null,null,null,null,null,null,null,null,null,null,null,null,null,null,null,null,{"$f":"IFERROR(VLOOKUP(ROWS($CF$3:CF1639),$CH$3:$CI$2001,2,FALSE),\"\")","v":""},null,{"$f":"IF(ISNUMBER(SEARCH(B1639,CI1639)),MAX($CH$2:CH1638)+1,0)","v":0}]
[null,null,{"$f":"IF(B1640=\"\",\"\",SUMIF('الرصيد الثابت'!$D$2:$D$115,B1640,'الرصيد الثابت'!$H$2:$H$115))","v":""},{"$f":"IF(B1640=\"\",\"\",SUMIF('الرصيد الثابت'!$D$2:$D$115,B1640,'الرصيد الثابت'!$I$2:$I$115))","v":""},{"$f":"IF(B1640=\"\",\"\",SUMIF('الرصيد الثابت'!$D$2:$D$115,B1640,'الرصيد الثابت'!$J$2:$J$115))","v":""},null,0,null,null,null,null,0,null,null,null,0,null,0,null,null,null,null,null,null,null,null,null,null,null,null,null,null,null,null,null,null,null,null,null,null,null,null,null,null,null,null,null,null,null,null,null,null,null,null,null,null,null,null,null,null,null,null,null,null,null,null,null,null,null,null,null,null,null,null,null,null,null,null,null,null,null,null,null,{"$f":"IFERROR(VLOOKUP(ROWS($CF$3:CF1640),$CH$3:$CI$2001,2,FALSE),\"\")","v":""},null,{"$f":"IF(ISNUMBER(SEARCH(B1640,CI1640)),MAX($CH$2:CH1639)+1,0)","v":0}]
[null,null,{"$f":"IF(B1643=\"\",\"\",SUMIF('الرصيد الثابت'!$D$2:$D$115,B1643,'الرصيد الثابت'!$H$2:$H$115))","v":""},{"$f":"IF(B1643=\"\",\"\",SUMIF('الرصيد الثابت'!$D$2:$D$115,B1643,'الرصيد الثابت'!$I$2:$I$115))","v":""},{"$f":"IF(B1643=\"\",\"\",SUMIF('الرصيد الثابت'!$D$2:$D$115,B1643,'الرصيد الثابت'!$J$2:$J$115))","v":""},null,0,null,null,null,null,0,null,null,null,0,null,0,null,null,null,null,null,null,null,null,null,null,null,null,null,null,null,null,null,null,null,null,null,null,null,null,null,null,null,null,null,null,null,null,null,null,null,null,null,null,null,null,null,null,null,null,null,null,null,null,null,null,null,null,null,null,null,null,null,null,null,null,null,null,null,null,null,{"$f":"IFERROR(VLOOKUP(ROWS($CF$3:CF1643),$CH$3:$CI$2001,2,FALSE),\"\")","v":""},null,{"$f":"IF(ISNUMBER(SEARCH(B1643,CI1643)),MAX($CH$2:CH1642)+1,0)","v":0}]
[null,null,{"$f":"IF(B1645=\"\",\"\",SUMIF('الرصيد الثابت'!$D$2:$D$115,B1645,'الرصيد الثابت'!$H$2:$H$115))","v":""},{"$f":"IF(B1645=\"\",\"\",SUMIF('الرصيد الثابت'!$D$2:$D$115,B1645,'الرصيد الثابت'!$I$2:$I$115))","v":""},{"$f":"IF(B1645=\"\",\"\",SUMIF('الرصيد الثابت'!$D$2:$D$115,B1645,'الرصيد الثابت'!$J$2:$J$115))","v":""},null,0,null,null,null,null,0,null,null,null,0,null,0,null,null,null,null,null,null,null,null,null,null,null,null,null,null,null,null,null,null,null,null,null,null,null,null,null,null,null,null,null,null,null,null,null,null,null,null,null,null,null,null,null,null,null,null,null,null,null,null,null,null,null,null,null,null,null,null,null,null,null,null,null,null,null,null,null,{"$f":"IFERROR(VLOOKUP(ROWS($CF$3:CF1645),$CH$3:$CI$2001,2,FALSE),\"\")","v":""},null,{"$f":"IF(ISNUMBER(SEARCH(B1645,CI1645)),MAX($CH$2:CH1644)+1,0)","v":0}]
[null,null,{"$f":"IF(B1649=\"\",\"\",SUMIF('الرصيد الثابت'!$D$2:$D$115,B1649,'الرصيد الثابت'!$H$2:$H$115))","v":""},{"$f":"IF(B1649=\"\",\"\",SUMIF('الرصيد الثابت'!$D$2:$D$115,B1649,'الرصيد الثابت'!$I$2:$I$115))","v":""},{"$f":"IF(B1649=\"\",\"\",SUMIF('الرصيد الثابت'!$D$2:$D$115,B1649,'الرصيد الثابت'!$J$2:$J$115))","v":""},null,0,null,null,null,null,0,null,null,null,0,null,0,null,null,null,null,null,null,null,null,null,null,null,null,null,null,null,null,null,null,null,null,null,null,null,null,null,null,null,null,null,null,null,null,null,null,null,null,null,null,null,null,null,null,null,null,null,null,null,null,null,null,null,null,null,null,null,null,null,null,null,null,null,null,null,null,null,{"$f":"IFERROR(VLOOKUP(ROWS($CF$3:CF1649),$CH$3:$CI$2001,2,FALSE),\"\")","v":""},null,{"$f":"IF(ISNUMBER(SEARCH(B1649,CI1649)),MAX($CH$2:CH1648)+1,0)","v":0}]
[null,null,{"$f":"IF(B1652=\"\",\"\",SUMIF('الرصيد الثابت'!$D$2:$D$115,B1652,'الرصيد الثابت'!$H$2:$H$115))","v":""},{"$f":"IF(B1652=\"\",\"\",SUMIF('الرصيد الثابت'!$D$2:$D$115,B1652,'الرصيد الثابت'!$I$2:$I$115))","v":""},{"$f":"IF(B1652=\"\",\"\",SUMIF('الرصيد الثابت'!$D$2:$D$115,B1652,'الرصيد الثابت'!$J$2:$J$115))","v":""},null,0,null,null,null,null,0,null,null,null,{"$f":"SUM(#REF!-#REF!)","v":{"$error":"#REF!"}},null,0,null,null,null,null,null,null,null,null,null,null,null,null,null,null,null,null,null,null,null,null,null,null,null,null,null,null,null,null,null,null,null,null,null,null,null,null,null,null,null,null,null,null,null,null,null,null,null,null,null,null,null,null,null,null,null,null,null,null,null,null,null,null,null,null,null,{"$f":"IFERROR(VLOOKUP(ROWS($CF$3:CF1652),$CH$3:$CI$2001,2,FALSE),\"\")","v":""},null,{"$f":"IF(ISNUMBER(SEARCH(B1652,CI1652)),MAX($CH$2:CH1651)+1,0)","v":0}]
[null,null,{"$f":"IF(B1654=\"\",\"\",SUMIF('الرصيد الثابت'!$D$2:$D$115,B1654,'الرصيد الثابت'!$H$2:$H$115))","v":""},{"$f":"IF(B1654=\"\",\"\",SUMIF('الرصيد الثابت'!$D$2:$D$115,B1654,'الرصيد الثابت'!$I$2:$I$115))","v":""},{"$f":"IF(B1654=\"\",\"\",SUMIF('الرصيد الثابت'!$D$2:$D$115,B1654,'الرصيد الثابت'!$J$2:$J$115))","v":""},null,0,null,null,null,null,0,null,null,null,0,null,0,null,null,null,null,null,null,null,null,null,null,null,null,null,null,null,null,null,null,null,null,null,null,null,null,null,null,null,null,null,null,null,null,null,null,null,null,null,null,null,null,null,null,null,null,null,null,null,null,null,null,null,null,null,null,null,null,null,null,null,null,null,null,null,null,null,{"$f":"IFERROR(VLOOKUP(ROWS($CF$3:CF1654),$CH$3:$CI$2001,2,FALSE),\"\")","v":""},null,{"$f":"IF(ISNUMBER(SEARCH(B1654,CI1654)),MAX($CH$2:CH1653)+1,0)","v":0}]
[null,null,{"$f":"IF(B1658=\"\",\"\",SUMIF('الرصيد الثابت'!$D$2:$D$115,B1658,'الرصيد الثابت'!$H$2:$H$115))","v":""},{"$f":"IF(B1658=\"\",\"\",SUMIF('الرصيد الثابت'!$D$2:$D$115,B1658,'الرصيد الثابت'!$I$2:$I$115))","v":""},{"$f":"IF(B1658=\"\",\"\",SUMIF('الرصيد الثابت'!$D$2:$D$115,B1658,'الرصيد الثابت'!$J$2:$J$115))","v":""},null,0,null,null,null,null,0,null,null,null,0,null,0,null,null,null,null,null,null,null,null,null,null,null,null,null,null,null,null,null,null,null,null,null,null,null,null,null,null,null,null,null,null,null,null,null,null,null,null,null,null,null,null,null,null,null,null,null,null,null,null,null,null,null,null,null,null,null,null,null,null,null,null,null,null,null,null,null,{"$f":"IFERROR(VLOOKUP(ROWS($CF$3:CF1658),$CH$3:$CI$2001,2,FALSE),\"\")","v":""},null,{"$f":"IF(ISNUMBER(SEARCH(B1658,CI1658)),MAX($CH$2:CH1657)+1,0)","v":0}]
[null,null,{"$f":"IF(B1661=\"\",\"\",SUMIF('الرصيد الثابت'!$D$2:$D$115,B1661,'الرصيد الثابت'!$H$2:$H$115))","v":""},{"$f":"IF(B1661=\"\",\"\",SUMIF('الرصيد الثابت'!$D$2:$D$115,B1661,'الرصيد الثابت'!$I$2:$I$115))","v":""},{"$f":"IF(B1661=\"\",\"\",SUMIF('الرصيد الثابت'!$D$2:$D$115,B1661,'الرصيد الثابت'!$J$2:$J$115))","v":""},null,0,null,null,null,null,0,null,null,null,0,null,0,null,null,null,null,null,null,null,null,null,null,null,null,null,null,null,null,null,null,null,null,null,null,null,null,null,null,null,null,null,null,null,null,null,null,null,null,null,null,null,null,null,null,null,null,null,null,null,null,null,null,null,null,null,null,null,null,null,null,null,null,null,null,null,null,null,{"$f":"IFERROR(VLOOKUP(ROWS($CF$3:CF1661),$CH$3:$CI$2001,2,FALSE),\"\")","v":""},null,{"$f":"IF(ISNUMBER(SEARCH(B1661,CI1661)),MAX($CH$2:CH1660)+1,0)","v":0}]
[null,null,{"$f":"IF(B1662=\"\",\"\",SUMIF('الرصيد الثابت'!$D$2:$D$115,B1662,'الرصيد الثابت'!$H$2:$H$115))","v":""},{"$f":"IF(B1662=\"\",\"\",SUMIF('الرصيد الثابت'!$D$2:$D$115,B1662,'الرصيد الثابت'!$I$2:$I$115))","v":""},{"$f":"IF(B1662=\"\",\"\",SUMIF('الرصيد الثابت'!$D$2:$D$115,B1662,'الرصيد الثابت'!$J$2:$J$115))","v":""},null,0,null,null,null,null,0,null,null,null,0,null,0,null,null,null,null,null,null,null,null,null,null,null,null,null,null,null,null,null,null,null,null,null,null,null,null,null,null,null,null,null,null,null,null,null,null,null,null,null,null,null,null,null,null,null,null,null,null,null,null,null,null,null,null,null,null,null,null,null,null,null,null,null,null,null,null,null,{"$f":"IFERROR(VLOOKUP(ROWS($CF$3:CF1662),$CH$3:$CI$2001,2,FALSE),\"\")","v":""},null,{"$f":"IF(ISNUMBER(SEARCH(B1662,CI1662)),MAX($CH$2:CH1661)+1,0)","v":0}]
[null,null,{"$f":"IF(B1665=\"\",\"\",SUMIF('الرصيد الثابت'!$D$2:$D$115,B1665,'الرصيد الثابت'!$H$2:$H$115))","v":""},{"$f":"IF(B1665=\"\",\"\",SUMIF('الرصيد الثابت'!$D$2:$D$115,B1665,'الرصيد الثابت'!$I$2:$I$115))","v":""},{"$f":"IF(B1665=\"\",\"\",SUMIF('الرصيد الثابت'!$D$2:$D$115,B1665,'الرصيد الثابت'!$J$2:$J$115))","v":""},null,0,null,null,null,null,0,null,null,null,0,null,0,null,null,null,null,null,null,null,null,null,null,null,null,null,null,null,null,null,null,null,null,null,null,null,null,null,null,null,null,null,null,null,null,null,null,null,null,null,null,null,null,null,null,null,null,null,null,null,null,null,null,null,null,null,null,null,null,null,null,null,null,null,null,null,null,null,{"$f":"IFERROR(VLOOKUP(ROWS($CF$3:CF1665),$CH$3:$CI$2001,2,FALSE),\"\")","v":""},null,{"$f":"IF(ISNUMBER(SEARCH(B1665,CI1665)),MAX($CH$2:CH1664)+1,0)","v":0}]
[null,null,{"$f":"IF(B1667=\"\",\"\",SUMIF('الرصيد الثابت'!$D$2:$D$115,B1667,'الرصيد الثابت'!$H$2:$H$115))","v":""},{"$f":"IF(B1667=\"\",\"\",SUMIF('الرصيد الثابت'!$D$2:$D$115,B1667,'الرصيد الثابت'!$I$2:$I$115))","v":""},{"$f":"IF(B1667=\"\",\"\",SUMIF('الرصيد الثابت'!$D$2:$D$115,B1667,'الرصيد الثابت'!$J$2:$J$115))","v":""},null,0,null,null,null,null,{"$f":"SUM(M1667*K1667)","v":0},null,null,null,0,null,0,null,null,null,null,null,null,null,null,null,null,null,null,null,null,null,null,null,null,null,null,null,null,null,null,null,null,null,null,null,null,null,null,null,null,null,null,null,null,null,null,null,null,null,null,null,null,null,null,null,null,null,null,null,null,null,null,null,null,null,null,null,null,null,null,null,{"$f":"IFERROR(VLOOKUP(ROWS($CF$3:CF1667),$CH$3:$CI$2001,2,FALSE),\"\")","v":""},null,{"$f":"IF(ISNUMBER(SEARCH(B1667,CI1667)),MAX($CH$2:CH1666)+1,0)","v":0}]
[null,null,{"$f":"IF(B1671=\"\",\"\",SUMIF('الرصيد الثابت'!$D$2:$D$115,B1671,'الرصيد الثابت'!$H$2:$H$115))","v":""},{"$f":"IF(B1671=\"\",\"\",SUMIF('الرصيد الثابت'!$D$2:$D$115,B1671,'الرصيد الثابت'!$I$2:$I$115))","v":""},{"$f":"IF(B1671=\"\",\"\",SUMIF('الرصيد الثابت'!$D$2:$D$115,B1671,'الرصيد الثابت'!$J$2:$J$115))","v":""},null,0,null,null,null,null,0,null,null,null,0,null,{"$f":"SUM(S1671*Q1671)","v":0},null,null,null,null,null,null,null,null,null,null,null,null,null,null,null,null,null,null,null,null,null,null,null,null,null,null,null,null,null,null,null,null,null,null,null,null,null,null,null,null,null,null,null,null,null,null,null,null,null,null,null,null,null,null,null,null,null,null,null,null,null,null,null,null,null,{"$f":"IFERROR(VLOOKUP(ROWS($CF$3:CF1671),$CH$3:$CI$2001,2,FALSE),\"\")","v":""},null,{"$f":"IF(ISNUMBER(SEARCH(B1671,CI1671)),MAX($CH$2:CH1670)+1,0)","v":0}]
[null,null,{"$f":"IF(B1674=\"\",\"\",SUMIF('الرصيد الثابت'!$D$2:$D$115,B1674,'الرصيد الثابت'!$H$2:$H$115))","v":""},{"$f":"IF(B1674=\"\",\"\",SUMIF('الرصيد الثابت'!$D$2:$D$115,B1674,'الرصيد الثابت'!$I$2:$I$115))","v":""},{"$f":"IF(B1674=\"\",\"\",SUMIF('الرصيد الثابت'!$D$2:$D$115,B1674,'الرصيد الثابت'!$J$2:$J$115))","v":""},null,0,null,null,null,null,0,null,null,null,0,null,0,null,null,null,null,null,null,null,null,null,null,null,null,null,null,null,null,null,null,null,null,null,null,null,null,null,null,null,null,null,null,null,null,null,null,null,null,null,null,null,null,null,null,null,null,null,null,null,null,null,null,null,null,null,null,null,null,null,null,null,null,null,null,null,null,null,{"$f":"IFERROR(VLOOKUP(ROWS($CF$3:CF1674),$CH$3:$CI$2001,2,FALSE),\"\")","v":""},null,{"$f":"IF(ISNUMBER(SEARCH(B1674,CI1674)),MAX($CH$2:CH1673)+1,0)","v":0}]
[null,null,{"$f":"IF(B1676=\"\",\"\",SUMIF('الرصيد الثابت'!$D$2:$D$115,B1676,'الرصيد الثابت'!$H$2:$H$115))","v":""},{"$f":"IF(B1676=\"\",\"\",SUMIF('الرصيد الثابت'!$D$2:$D$115,B1676,'الرصيد الثابت'!$I$2:$I$115))","v":""},{"$f":"IF(B1676=\"\",\"\",SUMIF('الرصيد الثابت'!$D$2:$D$115,B1676,'الرصيد الثابت'!$J$2:$J$115))","v":""},null,0,null,null,null,null,0,null,null,null,0,null,0,null,null,null,null,null,null,null,null,null,null,null,null,null,null,null,null,null,null,null,null,null,null,null,null,null,null,null,null,null,null,null,null,null,null,null,null,null,null,null,null,null,null,null,null,null,null,null,null,null,null,null,null,null,null,null,null,null,null,null,null,null,null,null,null,null,{"$f":"IFERROR(VLOOKUP(ROWS($CF$3:CF1676),$CH$3:$CI$2001,2,FALSE),\"\")","v":""},null,{"$f":"IF(ISNUMBER(SEARCH(B1676,CI1676)),MAX($CH$2:CH1675)+1,0)","v":0}]
[null,null,{"$f":"IF(B1680=\"\",\"\",SUMIF('الرصيد الثابت'!$D$2:$D$115,B1680,'الرصيد الثابت'!$H$2:$H$115))","v":""},{"$f":"IF(B1680=\"\",\"\",SUMIF('الرصيد الثابت'!$D$2:$D$115,B1680,'الرصيد الثابت'!$I$2:$I$115))","v":""},{"$f":"IF(B1680=\"\",\"\",SUMIF('الرصيد الثابت'!$D$2:$D$115,B1680,'الرصيد الثابت'!$J$2:$J$115))","v":""},null,0,null,null,null,null,0,null,null,null,0,null,0,null,null,null,null,null,null,null,null,null,null,null,null,null,null,null,null,null,null,null,null,null,null,null,null,null,null,null,null,null,null,null,null,null,null,null,null,null,null,null,null,null,null,null,null,null,null,null,null,null,null,null,null,null,null,null,null,null,null,null,null,null,null,null,null,null,{"$f":"IFERROR(VLOOKUP(ROWS($CF$3:CF1680),$CH$3:$CI$2001,2,FALSE),\"\")","v":""},null,{"$f":"IF(ISNUMBER(SEARCH(B1680,CI1680)),MAX($CH$2:CH1679)+1,0)","v":0}]
[null,null,{"$f":"IF(B1683=\"\",\"\",SUMIF('الرصيد الثابت'!$D$2:$D$115,B1683,'الرصيد الثابت'!$H$2:$H$115))","v":""},{"$f":"IF(B1683=\"\",\"\",SUMIF('الرصيد الثابت'!$D$2:$D$115,B1683,'الرصيد الثابت'!$I$2:$I$115))","v":""},{"$f":"IF(B1683=\"\",\"\",SUMIF('الرصيد الثابت'!$D$2:$D$115,B1683,'الرصيد الثابت'!$J$2:$J$115))","v":""},null,0,null,null,null,null,0,null,null,null,0,null,0,null,null,null,null,null,null,null,null,null,null,null,null,null,null,null,null,null,null,null,null,null,null,null,null,null,null,null,null,null,null,null,null,null,null,null,null,null,null,null,null,null,null,null,null,null,null,null,null,null,null,null,null,null,null,null,null,null,null,null,null,null,null,null,null,null,{"$f":"IFERROR(VLOOKUP(ROWS($CF$3:CF1683),$CH$3:$CI$2001,2,FALSE),\"\")","v":""},null,{"$f":"IF(ISNUMBER(SEARCH(B1683,CI1683)),MAX($CH$2:CH1682)+1,0)","v":0}]
[null,null,{"$f":"IF(B1684=\"\",\"\",SUMIF('الرصيد الثابت'!$D$2:$D$115,B1684,'الرصيد الثابت'!$H$2:$H$115))","v":""},{"$f":"IF(B1684=\"\",\"\",SUMIF('الرصيد الثابت'!$D$2:$D$115,B1684,'الرصيد الثابت'!$I$2:$I$115))","v":""},{"$f":"IF(B1684=\"\",\"\",SUMIF('الرصيد الثابت'!$D$2:$D$115,B1684,'الرصيد الثابت'!$J$2:$J$115))","v":""},null,0,null,null,null,null,0,null,null,null,0,null,0,null,null,null,null,null,null,null,null,null,null,null,null,null,null,null,null,null,null,null,null,null,null,null,null,null,null,null,null,null,null,null,null,null,null,null,null,null,null,null,null,null,null,null,null,null,null,null,null,null,null,null,null,null,null,null,null,null,null,null,null,null,null,null,null,null,{"$f":"IFERROR(VLOOKUP(ROWS($CF$3:CF1684),$CH$3:$CI$2001,2,FALSE),\"\")","v":""},null,{"$f":"IF(ISNUMBER(SEARCH(B1684,CI1684)),MAX($CH$2:CH1683)+1,0)","v":0}]
[null,null,{"$f":"IF(B1687=\"\",\"\",SUMIF('الرصيد الثابت'!$D$2:$D$115,B1687,'الرصيد الثابت'!$H$2:$H$115))","v":""},{"$f":"IF(B1687=\"\",\"\",SUMIF('الرصيد الثابت'!$D$2:$D$115,B1687,'الرصيد الثابت'!$I$2:$I$115))","v":""},{"$f":"IF(B1687=\"\",\"\",SUMIF('الرصيد الثابت'!$D$2:$D$115,B1687,'الرصيد الثابت'!$J$2:$J$115))","v":""},null,0,null,null,null,null,0,null,null,null,0,null,0,null,null,null,null,null,null,null,null,null,null,null,null,null,null,null,null,null,null,null,null,null,null,null,null,null,null,null,null,null,null,null,null,null,null,null,null,null,null,null,null,null,null,null,null,null,null,null,null,null,null,null,null,null,null,null,null,null,null,null,null,null,null,null,null,null,{"$f":"IFERROR(VLOOKUP(ROWS($CF$3:CF1687),$CH$3:$CI$2001,2,FALSE),\"\")","v":""},null,{"$f":"IF(ISNUMBER(SEARCH(B1687,CI1687)),MAX($CH$2:CH1686)+1,0)","v":0}]
[null,null,{"$f":"IF(B1690=\"\",\"\",SUMIF('الرصيد الثابت'!$D$2:$D$115,B1690,'الرصيد الثابت'!$H$2:$H$115))","v":""},{"$f":"IF(B1690=\"\",\"\",SUMIF('الرصيد الثابت'!$D$2:$D$115,B1690,'الرصيد الثابت'!$I$2:$I$115))","v":""},{"$f":"IF(B1690=\"\",\"\",SUMIF('الرصيد الثابت'!$D$2:$D$115,B1690,'الرصيد الثابت'!$J$2:$J$115))","v":""},null,0,null,null,null,null,0,null,null,null,0,null,0,null,null,null,null,null,null,null,null,null,null,null,null,null,null,null,null,null,null,null,null,null,null,null,null,null,null,null,null,null,null,null,null,null,null,null,null,null,null,null,null,null,null,null,null,null,null,null,null,null,null,null,null,null,null,null,null,null,null,null,null,null,null,null,null,null,{"$f":"IFERROR(VLOOKUP(ROWS($CF$3:CF1690),$CH$3:$CI$2001,2,FALSE),\"\")","v":""},null,{"$f":"IF(ISNUMBER(SEARCH(B1690,CI1690)),MAX($CH$2:CH1689)+1,0)","v":0}]
[null,null,{"$f":"IF(B1693=\"\",\"\",SUMIF('الرصيد الثابت'!$D$2:$D$115,B1693,'الرصيد الثابت'!$H$2:$H$115))","v":""},{"$f":"IF(B1693=\"\",\"\",SUMIF('الرصيد الثابت'!$D$2:$D$115,B1693,'الرصيد الثابت'!$I$2:$I$115))","v":""},{"$f":"IF(B1693=\"\",\"\",SUMIF('الرصيد الثابت'!$D$2:$D$115,B1693,'الرصيد الثابت'!$J$2:$J$115))","v":""},null,0,null,null,null,null,0,null,null,null,0,null,0,null,null,null,null,null,null,null,null,null,null,null,null,null,null,null,null,null,null,null,null,null,null,null,null,null,null,null,null,null,null,null,null,null,null,null,null,null,null,null,null,null,null,null,null,null,null,null,null,null,null,null,null,null,null,null,null,null,null,null,null,null,null,null,null,null,{"$f":"IFERROR(VLOOKUP(ROWS($CF$3:CF1693),$CH$3:$CI$2001,2,FALSE),\"\")","v":""},null,{"$f":"IF(ISNUMBER(SEARCH(B1693,CI1693)),MAX($CH$2:CH1692)+1,0)","v":0}]
[null,null,{"$f":"IF(B1696=\"\",\"\",SUMIF('الرصيد الثابت'!$D$2:$D$115,B1696,'الرصيد الثابت'!$H$2:$H$115))","v":""},{"$f":"IF(B1696=\"\",\"\",SUMIF('الرصيد الثابت'!$D$2:$D$115,B1696,'الرصيد الثابت'!$I$2:$I$115))","v":""},{"$f":"IF(B1696=\"\",\"\",SUMIF('الرصيد الثابت'!$D$2:$D$115,B1696,'الرصيد الثابت'!$J$2:$J$115))","v":""},null,0,null,null,null,null,0,null,null,null,{"$f":"SUM(F1696-K1696)","v":0},null,0,null,null,null,null,null,null,null,null,null,null,null,null,null,null,null,null,null,null,null,null,null,null,null,null,null,null,null,null,null,null,null,null,null,null,null,null,null,null,null,null,null,null,null,null,null,null,null,null,null,null,null,null,null,null,null,null,null,null,null,null,null,null,null,null,null,{"$f":"IFERROR(VLOOKUP(ROWS($CF$3:CF1696),$CH$3:$CI$2001,2,FALSE),\"\")","v":""},null,{"$f":"IF(ISNUMBER(SEARCH(B1696,CI1696)),MAX($CH$2:CH1695)+1,0)","v":0}]
[null,null,{"$f":"IF(B1698=\"\",\"\",SUMIF('الرصيد الثابت'!$D$2:$D$115,B1698,'الرصيد الثابت'!$H$2:$H$115))","v":""},{"$f":"IF(B1698=\"\",\"\",SUMIF('الرصيد الثابت'!$D$2:$D$115,B1698,'الرصيد الثابت'!$I$2:$I$115))","v":""},{"$f":"IF(B1698=\"\",\"\",SUMIF('الرصيد الثابت'!$D$2:$D$115,B1698,'الرصيد الثابت'!$J$2:$J$115))","v":""},null,0,null,null,null,null,0,null,null,null,0,null,0,null,null,null,null,null,null,null,null,null,null,null,null,null,null,null,null,null,null,null,null,null,null,null,null,null,null,null,null,null,null,null,null,null,null,null,null,null,null,null,null,null,null,null,null,null,null,null,null,null,null,null,null,null,null,null,null,null,null,null,null,null,null,null,null,null,{"$f":"IFERROR(VLOOKUP(ROWS($CF$3:CF1698),$CH$3:$CI$2001,2,FALSE),\"\")","v":""},null,{"$f":"IF(ISNUMBER(SEARCH(B1698,CI1698)),MAX($CH$2:CH1697)+1,0)","v":0}]
[null,null,{"$f":"IF(B1702=\"\",\"\",SUMIF('الرصيد الثابت'!$D$2:$D$115,B1702,'الرصيد الثابت'!$H$2:$H$115))","v":""},{"$f":"IF(B1702=\"\",\"\",SUMIF('الرصيد الثابت'!$D$2:$D$115,B1702,'الرصيد الثابت'!$I$2:$I$115))","v":""},{"$f":"IF(B1702=\"\",\"\",SUMIF('الرصيد الثابت'!$D$2:$D$115,B1702,'الرصيد الثابت'!$J$2:$J$115))","v":""},null,0,null,null,null,null,0,null,null,null,0,null,0,null,null,null,null,null,null,null,null,null,null,null,null,null,null,null,null,null,null,null,null,null,null,null,null,null,null,null,null,null,null,null,null,null,null,null,null,null,null,null,null,null,null,null,null,null,null,null,null,null,null,null,null,null,null,null,null,null,null,null,null,null,null,null,null,null,{"$f":"IFERROR(VLOOKUP(ROWS($CF$3:CF1702),$CH$3:$CI$2001,2,FALSE),\"\")","v":""},null,{"$f":"IF(ISNUMBER(SEARCH(B1702,CI1702)),MAX($CH$2:CH1701)+1,0)","v":0}]
[null,null,{"$f":"IF(B1705=\"\",\"\",SUMIF('الرصيد الثابت'!$D$2:$D$115,B1705,'الرصيد الثابت'!$H$2:$H$115))","v":""},{"$f":"IF(B1705=\"\",\"\",SUMIF('الرصيد الثابت'!$D$2:$D$115,B1705,'الرصيد الثابت'!$I$2:$I$115))","v":""},{"$f":"IF(B1705=\"\",\"\",SUMIF('الرصيد الثابت'!$D$2:$D$115,B1705,'الرصيد الثابت'!$J$2:$J$115))","v":""},null,0,null,null,null,null,0,null,null,null,0,null,0,null,null,null,null,null,null,null,null,null,null,null,null,null,null,null,null,null,null,null,null,null,null,null,null,null,null,null,null,null,null,null,null,null,null,null,null,null,null,null,null,null,null,null,null,null,null,null,null,null,null,null,null,null,null,null,null,null,null,null,null,null,null,null,null,null,{"$f":"IFERROR(VLOOKUP(ROWS($CF$3:CF1705),$CH$3:$CI$2001,2,FALSE),\"\")","v":""},null,{"$f":"IF(ISNUMBER(SEARCH(B1705,CI1705)),MAX($CH$2:CH1704)+1,0)","v":0}]
[null,null,{"$f":"IF(B1706=\"\",\"\",SUMIF('الرصيد الثابت'!$D$2:$D$115,B1706,'الرصيد الثابت'!$H$2:$H$115))","v":""},{"$f":"IF(B1706=\"\",\"\",SUMIF('الرصيد الثابت'!$D$2:$D$115,B1706,'الرصيد الثابت'!$I$2:$I$115))","v":""},{"$f":"IF(B1706=\"\",\"\",SUMIF('الرصيد الثابت'!$D$2:$D$115,B1706,'الرصيد الثابت'!$J$2:$J$115))","v":""},null,0,null,null,null,null,0,null,null,null,0,null,0,null,null,null,null,null,null,null,null,null,null,null,null,null,null,null,null,null,null,null,null,null,null,null,null,null,null,null,null,null,null,null,null,null,null,null,null,null,null,null,null,null,null,null,null,null,null,null,null,null,null,null,null,null,null,null,null,null,null,null,null,null,null,null,null,null,{"$f":"IFERROR(VLOOKUP(ROWS($CF$3:CF1706),$CH$3:$CI$2001,2,FALSE),\"\")","v":""},null,{"$f":"IF(ISNUMBER(SEARCH(B1706,CI1706)),MAX($CH$2:CH1705)+1,0)","v":0}]
[null,null,{"$f":"IF(B1709=\"\",\"\",SUMIF('الرصيد الثابت'!$D$2:$D$115,B1709,'الرصيد الثابت'!$H$2:$H$115))","v":""},{"$f":"IF(B1709=\"\",\"\",SUMIF('الرصيد الثابت'!$D$2:$D$115,B1709,'الرصيد الثابت'!$I$2:$I$115))","v":""},{"$f":"IF(B1709=\"\",\"\",SUMIF('الرصيد الثابت'!$D$2:$D$115,B1709,'الرصيد الثابت'!$J$2:$J$115))","v":""},null,0,null,null,null,null,0,null,null,null,0,null,0,null,null,null,null,null,null,null,null,null,null,null,null,null,null,null,null,null,null,null,null,null,null,null,null,null,null,null,null,null,null,null,null,null,null,null,null,null,null,null,null,null,null,null,null,null,null,null,null,null,null,null,null,null,null,null,null,null,null,null,null,null,null,null,null,null,{"$f":"IFERROR(VLOOKUP(ROWS($CF$3:CF1709),$CH$3:$CI$2001,2,FALSE),\"\")","v":""},null,{"$f":"IF(ISNUMBER(SEARCH(B1709,CI1709)),MAX($CH$2:CH1708)+1,0)","v":0}]
[null,null,{"$f":"IF(B1712=\"\",\"\",SUMIF('الرصيد الثابت'!$D$2:$D$115,B1712,'الرصيد الثابت'!$H$2:$H$115))","v":""},{"$f":"IF(B1712=\"\",\"\",SUMIF('الرصيد الثابت'!$D$2:$D$115,B1712,'الرصيد الثابت'!$I$2:$I$115))","v":""},{"$f":"IF(B1712=\"\",\"\",SUMIF('الرصيد الثابت'!$D$2:$D$115,B1712,'الرصيد الثابت'!$J$2:$J$115))","v":""},null,0,null,null,null,null,0,null,null,null,0,null,0,null,null,null,null,null,null,null,null,null,null,null,null,null,null,null,null,null,null,null,null,null,null,null,null,null,null,null,null,null,null,null,null,null,null,null,null,null,null,null,null,null,null,null,null,null,null,null,null,null,null,null,null,null,null,null,null,null,null,null,null,null,null,null,null,null,{"$f":"IFERROR(VLOOKUP(ROWS($CF$3:CF1712),$CH$3:$CI$2001,2,FALSE),\"\")","v":""},null,{"$f":"IF(ISNUMBER(SEARCH(B1712,CI1712)),MAX($CH$2:CH1711)+1,0)","v":0}]
[null,null,{"$f":"IF(B1715=\"\",\"\",SUMIF('الرصيد الثابت'!$D$2:$D$115,B1715,'الرصيد الثابت'!$H$2:$H$115))","v":""},{"$f":"IF(B1715=\"\",\"\",SUMIF('الرصيد الثابت'!$D$2:$D$115,B1715,'الرصيد الثابت'!$I$2:$I$115))","v":""},{"$f":"IF(B1715=\"\",\"\",SUMIF('الرصيد الثابت'!$D$2:$D$115,B1715,'الرصيد الثابت'!$J$2:$J$115))","v":""},null,0,null,null,null,null,0,null,null,null,0,null,0,null,null,null,null,null,null,null,null,null,null,null,null,null,null,null,null,null,null,null,null,null,null,null,null,null,null,null,null,null,null,null,null,null,null,null,null,null,null,null,null,null,null,null,null,null,null,null,null,null,null,null,null,null,null,null,null,null,null,null,null,null,null,null,null,null,{"$f":"IFERROR(VLOOKUP(ROWS($CF$3:CF1715),$CH$3:$CI$2001,2,FALSE),\"\")","v":""},null,{"$f":"IF(ISNUMBER(SEARCH(B1715,CI1715)),MAX($CH$2:CH1714)+1,0)","v":0}]
[null,null,{"$f":"IF(B1718=\"\",\"\",SUMIF('الرصيد الثابت'!$D$2:$D$115,B1718,'الرصيد الثابت'!$H$2:$H$115))","v":""},{"$f":"IF(B1718=\"\",\"\",SUMIF('الرصيد الثابت'!$D$2:$D$115,B1718,'الرصيد الثابت'!$I$2:$I$115))","v":""},{"$f":"IF(B1718=\"\",\"\",SUMIF('الرصيد الثابت'!$D$2:$D$115,B1718,'الرصيد الثابت'!$J$2:$J$115))","v":""},null,0,null,null,null,null,0,null,null,null,0,null,0,null,null,null,null,null,null,null,null,null,null,null,null,null,null,null,null,null,null,null,null,null,null,null,null,null,null,null,null,null,null,null,null,null,null,null,null,null,null,null,null,null,null,null,null,null,null,null,null,null,null,null,null,null,null,null,null,null,null,null,null,null,null,null,null,null,{"$f":"IFERROR(VLOOKUP(ROWS($CF$3:CF1718),$CH$3:$CI$2001,2,FALSE),\"\")","v":""},null,{"$f":"IF(ISNUMBER(SEARCH(B1718,CI1718)),MAX($CH$2:CH1717)+1,0)","v":0}]
[null,null,{"$f":"IF(B1720=\"\",\"\",SUMIF('الرصيد الثابت'!$D$2:$D$115,B1720,'الرصيد الثابت'!$H$2:$H$115))","v":""},{"$f":"IF(B1720=\"\",\"\",SUMIF('الرصيد الثابت'!$D$2:$D$115,B1720,'الرصيد الثابت'!$I$2:$I$115))","v":""},{"$f":"IF(B1720=\"\",\"\",SUMIF('الرصيد الثابت'!$D$2:$D$115,B1720,'الرصيد الثابت'!$J$2:$J$115))","v":""},null,0,null,null,null,null,0,null,null,null,0,null,0,null,null,null,null,null,null,null,null,null,null,null,null,null,null,null,null,null,null,null,null,null,null,null,null,null,null,null,null,null,null,null,null,null,null,null,null,null,null,null,null,null,null,null,null,null,null,null,null,null,null,null,null,null,null,null,null,null,null,null,null,null,null,null,null,null,{"$f":"IFERROR(VLOOKUP(ROWS($CF$3:CF1720),$CH$3:$CI$2001,2,FALSE),\"\")","v":""},null,{"$f":"IF(ISNUMBER(SEARCH(B1720,CI1720)),MAX($CH$2:CH1719)+1,0)","v":0}]
[null,null,{"$f":"IF(B1724=\"\",\"\",SUMIF('الرصيد الثابت'!$D$2:$D$115,B1724,'الرصيد الثابت'!$H$2:$H$115))","v":""},{"$f":"IF(B1724=\"\",\"\",SUMIF('الرصيد الثابت'!$D$2:$D$115,B1724,'الرصيد الثابت'!$I$2:$I$115))","v":""},{"$f":"IF(B1724=\"\",\"\",SUMIF('الرصيد الثابت'!$D$2:$D$115,B1724,'الرصيد الثابت'!$J$2:$J$115))","v":""},null,0,null,null,null,null,0,null,null,null,0,null,0,null,null,null,null,null,null,null,null,null,null,null,null,null,null,null,null,null,null,null,null,null,null,null,null,null,null,null,null,null,null,null,null,null,null,null,null,null,null,null,null,null,null,null,null,null,null,null,null,null,null,null,null,null,null,null,null,null,null,null,null,null,null,null,null,null,{"$f":"IFERROR(VLOOKUP(ROWS($CF$3:CF1724),$CH$3:$CI$2001,2,FALSE),\"\")","v":""},null,{"$f":"IF(ISNUMBER(SEARCH(B1724,CI1724)),MAX($CH$2:CH1723)+1,0)","v":0}]
[null,null,{"$f":"IF(B1727=\"\",\"\",SUMIF('الرصيد الثابت'!$D$2:$D$115,B1727,'الرصيد الثابت'!$H$2:$H$115))","v":""},{"$f":"IF(B1727=\"\",\"\",SUMIF('الرصيد الثابت'!$D$2:$D$115,B1727,'الرصيد الثابت'!$I$2:$I$115))","v":""},{"$f":"IF(B1727=\"\",\"\",SUMIF('الرصيد الثابت'!$D$2:$D$115,B1727,'الرصيد الثابت'!$J$2:$J$115))","v":""},null,0,null,null,null,null,0,null,null,null,0,null,0,null,null,null,null,null,null,null,null,null,null,null,null,null,null,null,null,null,null,null,null,null,null,null,null,null,null,null,null,null,null,null,null,null,null,null,null,null,null,null,null,null,null,null,null,null,null,null,null,null,null,null,null,null,null,null,null,null,null,null,null,null,null,null,null,null,{"$f":"IFERROR(VLOOKUP(ROWS($CF$3:CF1727),$CH$3:$CI$2001,2,FALSE),\"\")","v":""},null,{"$f":"IF(ISNUMBER(SEARCH(B1727,CI1727)),MAX($CH$2:CH1726)+1,0)","v":0}]
[null,null,{"$f":"IF(B1728=\"\",\"\",SUMIF('الرصيد الثابت'!$D$2:$D$115,B1728,'الرصيد الثابت'!$H$2:$H$115))","v":""},{"$f":"IF(B1728=\"\",\"\",SUMIF('الرصيد الثابت'!$D$2:$D$115,B1728,'الرصيد الثابت'!$I$2:$I$115))","v":""},{"$f":"IF(B1728=\"\",\"\",SUMIF('الرصيد الثابت'!$D$2:$D$115,B1728,'الرصيد الثابت'!$J$2:$J$115))","v":""},null,0,null,null,null,null,0,null,null,null,0,null,0,null,null,null,null,null,null,null,null,null,null,null,null,null,null,null,null,null,null,null,null,null,null,null,null,null,null,null,null,null,null,null,null,null,null,null,null,null,null,null,null,null,null,null,null,null,null,null,null,null,null,null,null,null,null,null,null,null,null,null,null,null,null,null,null,null,{"$f":"IFERROR(VLOOKUP(ROWS($CF$3:CF1728),$CH$3:$CI$2001,2,FALSE),\"\")","v":""},null,{"$f":"IF(ISNUMBER(SEARCH(B1728,CI1728)),MAX($CH$2:CH1727)+1,0)","v":0}]
[null,null,{"$f":"IF(B1731=\"\",\"\",SUMIF('الرصيد الثابت'!$D$2:$D$115,B1731,'الرصيد الثابت'!$H$2:$H$115))","v":""},{"$f":"IF(B1731=\"\",\"\",SUMIF('الرصيد الثابت'!$D$2:$D$115,B1731,'الرصيد الثابت'!$I$2:$I$115))","v":""},{"$f":"IF(B1731=\"\",\"\",SUMIF('الرصيد الثابت'!$D$2:$D$115,B1731,'الرصيد الثابت'!$J$2:$J$115))","v":""},null,0,null,null,null,null,{"$f":"SUM(M1731*K1731)","v":0},null,null,null,0,null,0,null,null,null,null,null,null,null,null,null,null,null,null,null,null,null,null,null,null,null,null,null,null,null,null,null,null,null,null,null,null,null,null,null,null,null,null,null,null,null,null,null,null,null,null,null,null,null,null,null,null,null,null,null,null,null,null,null,null,null,null,null,null,null,null,null,{"$f":"IFERROR(VLOOKUP(ROWS($CF$3:CF1731),$CH$3:$CI$2001,2,FALSE),\"\")","v":""},null,{"$f":"IF(ISNUMBER(SEARCH(B1731,CI1731)),MAX($CH$2:CH1730)+1,0)","v":0}]
[null,null,{"$f":"IF(B1734=\"\",\"\",SUMIF('الرصيد الثابت'!$D$2:$D$115,B1734,'الرصيد الثابت'!$H$2:$H$115))","v":""},{"$f":"IF(B1734=\"\",\"\",SUMIF('الرصيد الثابت'!$D$2:$D$115,B1734,'الرصيد الثابت'!$I$2:$I$115))","v":""},{"$f":"IF(B1734=\"\",\"\",SUMIF('الرصيد الثابت'!$D$2:$D$115,B1734,'الرصيد الثابت'!$J$2:$J$115))","v":""},null,0,null,null,null,null,0,null,null,null,0,null,0,null,null,null,null,null,null,null,null,null,null,null,null,null,null,null,null,null,null,null,null,null,null,null,null,null,null,null,null,null,null,null,null,null,null,null,null,null,null,null,null,null,null,null,null,null,null,null,null,null,null,null,null,null,null,null,null,null,null,null,null,null,null,null,null,null,{"$f":"IFERROR(VLOOKUP(ROWS($CF$3:CF1734),$CH$3:$CI$2001,2,FALSE),\"\")","v":""},null,{"$f":"IF(ISNUMBER(SEARCH(B1734,CI1734)),MAX($CH$2:CH1733)+1,0)","v":0}]
[null,null,{"$f":"IF(B1737=\"\",\"\",SUMIF('الرصيد الثابت'!$D$2:$D$115,B1737,'الرصيد الثابت'!$H$2:$H$115))","v":""},{"$f":"IF(B1737=\"\",\"\",SUMIF('الرصيد الثابت'!$D$2:$D$115,B1737,'الرصيد الثابت'!$I$2:$I$115))","v":""},{"$f":"IF(B1737=\"\",\"\",SUMIF('الرصيد الثابت'!$D$2:$D$115,B1737,'الرصيد الثابت'!$J$2:$J$115))","v":""},null,0,null,null,null,null,0,null,null,null,0,null,0,null,null,null,null,null,null,null,null,null,null,null,null,null,null,null,null,null,null,null,null,null,null,null,null,null,null,null,null,null,null,null,null,null,null,null,null,null,null,null,null,null,null,null,null,null,null,null,null,null,null,null,null,null,null,null,null,null,null,null,null,null,null,null,null,null,{"$f":"IFERROR(VLOOKUP(ROWS($CF$3:CF1737),$CH$3:$CI$2001,2,FALSE),\"\")","v":""},null,{"$f":"IF(ISNUMBER(SEARCH(B1737,CI1737)),MAX($CH$2:CH1736)+1,0)","v":0}]
[null,null,{"$f":"IF(B1740=\"\",\"\",SUMIF('الرصيد الثابت'!$D$2:$D$115,B1740,'الرصيد الثابت'!$H$2:$H$115))","v":""},{"$f":"IF(B1740=\"\",\"\",SUMIF('الرصيد الثابت'!$D$2:$D$115,B1740,'الرصيد الثابت'!$I$2:$I$115))","v":""},{"$f":"IF(B1740=\"\",\"\",SUMIF('الرصيد الثابت'!$D$2:$D$115,B1740,'الرصيد الثابت'!$J$2:$J$115))","v":""},null,0,null,null,null,null,0,null,null,null,0,null,0,null,null,null,null,null,null,null,null,null,null,null,null,null,null,null,null,null,null,null,null,null,null,null,null,null,null,null,null,null,null,null,null,null,null,null,null,null,null,null,null,null,null,null,null,null,null,null,null,null,null,null,null,null,null,null,null,null,null,null,null,null,null,null,null,null,{"$f":"IFERROR(VLOOKUP(ROWS($CF$3:CF1740),$CH$3:$CI$2001,2,FALSE),\"\")","v":""},null,{"$f":"IF(ISNUMBER(SEARCH(B1740,CI1740)),MAX($CH$2:CH1739)+1,0)","v":0}]
[null,null,{"$f":"IF(B1742=\"\",\"\",SUMIF('الرصيد الثابت'!$D$2:$D$115,B1742,'الرصيد الثابت'!$H$2:$H$115))","v":""},{"$f":"IF(B1742=\"\",\"\",SUMIF('الرصيد الثابت'!$D$2:$D$115,B1742,'الرصيد الثابت'!$I$2:$I$115))","v":""},{"$f":"IF(B1742=\"\",\"\",SUMIF('الرصيد الثابت'!$D$2:$D$115,B1742,'الرصيد الثابت'!$J$2:$J$115))","v":""},null,0,null,null,null,null,0,null,null,null,0,null,0,null,null,null,null,null,null,null,null,null,null,null,null,null,null,null,null,null,null,null,null,null,null,null,null,null,null,null,null,null,null,null,null,null,null,null,null,null,null,null,null,null,null,null,null,null,null,null,null,null,null,null,null,null,null,null,null,null,null,null,null,null,null,null,null,null,{"$f":"IFERROR(VLOOKUP(ROWS($CF$3:CF1742),$CH$3:$CI$2001,2,FALSE),\"\")","v":""},null,{"$f":"IF(ISNUMBER(SEARCH(B1742,CI1742)),MAX($CH$2:CH1741)+1,0)","v":0}]
[null,null,{"$f":"IF(B1746=\"\",\"\",SUMIF('الرصيد الثابت'!$D$2:$D$115,B1746,'الرصيد الثابت'!$H$2:$H$115))","v":""},{"$f":"IF(B1746=\"\",\"\",SUMIF('الرصيد الثابت'!$D$2:$D$115,B1746,'الرصيد الثابت'!$I$2:$I$115))","v":""},{"$f":"IF(B1746=\"\",\"\",SUMIF('الرصيد الثابت'!$D$2:$D$115,B1746,'الرصيد الثابت'!$J$2:$J$115))","v":""},null,0,null,null,null,null,0,null,null,null,0,null,0,null,null,null,null,null,null,null,null,null,null,null,null,null,null,null,null,null,null,null,null,null,null,null,null,null,null,null,null,null,null,null,null,null,null,null,null,null,null,null,null,null,null,null,null,null,null,null,null,null,null,null,null,null,null,null,null,null,null,null,null,null,null,null,null,null,{"$f":"IFERROR(VLOOKUP(ROWS($CF$3:CF1746),$CH$3:$CI$2001,2,FALSE),\"\")","v":""},null,{"$f":"IF(ISNUMBER(SEARCH(B1746,CI1746)),MAX($CH$2:CH1745)+1,0)","v":0}]
[null,null,{"$f":"IF(B1747=\"\",\"\",SUMIF('الرصيد الثابت'!$D$2:$D$115,B1747,'الرصيد الثابت'!$H$2:$H$115))","v":""},{"$f":"IF(B1747=\"\",\"\",SUMIF('الرصيد الثابت'!$D$2:$D$115,B1747,'الرصيد الثابت'!$I$2:$I$115))","v":""},{"$f":"IF(B1747=\"\",\"\",SUMIF('الرصيد الثابت'!$D$2:$D$115,B1747,'الرصيد الثابت'!$J$2:$J$115))","v":""},null,0,null,null,null,null,0,null,null,null,0,null,0,null,null,null,null,null,null,null,null,null,null,null,null,null,null,null,null,null,null,null,null,null,null,null,null,null,null,null,null,null,null,null,null,null,null,null,null,null,null,null,null,null,null,null,null,null,null,null,null,null,null,null,null,null,null,null,null,null,null,null,null,null,null,null,null,null,{"$f":"IFERROR(VLOOKUP(ROWS($CF$3:CF1747),$CH$3:$CI$2001,2,FALSE),\"\")","v":""},null,{"$f":"IF(ISNUMBER(SEARCH(B1747,CI1747)),MAX($CH$2:CH1746)+1,0)","v":0}]
[null,null,{"$f":"IF(B1750=\"\",\"\",SUMIF('الرصيد الثابت'!$D$2:$D$115,B1750,'الرصيد الثابت'!$H$2:$H$115))","v":""},{"$f":"IF(B1750=\"\",\"\",SUMIF('الرصيد الثابت'!$D$2:$D$115,B1750,'الرصيد الثابت'!$I$2:$I$115))","v":""},{"$f":"IF(B1750=\"\",\"\",SUMIF('الرصيد الثابت'!$D$2:$D$115,B1750,'الرصيد الثابت'!$J$2:$J$115))","v":""},null,0,null,null,null,null,0,null,null,null,0,null,0,null,null,null,null,null,null,null,null,null,null,null,null,null,null,null,null,null,null,null,null,null,null,null,null,null,null,null,null,null,null,null,null,null,null,null,null,null,null,null,null,null,null,null,null,null,null,null,null,null,null,null,null,null,null,null,null,null,null,null,null,null,null,null,null,null,{"$f":"IFERROR(VLOOKUP(ROWS($CF$3:CF1750),$CH$3:$CI$2001,2,FALSE),\"\")","v":""},null,{"$f":"IF(ISNUMBER(SEARCH(B1750,CI1750)),MAX($CH$2:CH1749)+1,0)","v":0}]
[null,null,{"$f":"IF(B1753=\"\",\"\",SUMIF('الرصيد الثابت'!$D$2:$D$115,B1753,'الرصيد الثابت'!$H$2:$H$115))","v":""},{"$f":"IF(B1753=\"\",\"\",SUMIF('الرصيد الثابت'!$D$2:$D$115,B1753,'الرصيد الثابت'!$I$2:$I$115))","v":""},{"$f":"IF(B1753=\"\",\"\",SUMIF('الرصيد الثابت'!$D$2:$D$115,B1753,'الرصيد الثابت'!$J$2:$J$115))","v":""},null,0,null,null,null,null,0,null,null,null,0,null,0,null,null,null,null,null,null,null,null,null,null,null,null,null,null,null,null,null,null,null,null,null,null,null,null,null,null,null,null,null,null,null,null,null,null,null,null,null,null,null,null,null,null,null,null,null,null,null,null,null,null,null,null,null,null,null,null,null,null,null,null,null,null,null,null,null,{"$f":"IFERROR(VLOOKUP(ROWS($CF$3:CF1753),$CH$3:$CI$2001,2,FALSE),\"\")","v":""},null,{"$f":"IF(ISNUMBER(SEARCH(B1753,CI1753)),MAX($CH$2:CH1752)+1,0)","v":0}]
[null,null,{"$f":"IF(B1756=\"\",\"\",SUMIF('الرصيد الثابت'!$D$2:$D$115,B1756,'الرصيد الثابت'!$H$2:$H$115))","v":""},{"$f":"IF(B1756=\"\",\"\",SUMIF('الرصيد الثابت'!$D$2:$D$115,B1756,'الرصيد الثابت'!$I$2:$I$115))","v":""},{"$f":"IF(B1756=\"\",\"\",SUMIF('الرصيد الثابت'!$D$2:$D$115,B1756,'الرصيد الثابت'!$J$2:$J$115))","v":""},null,0,null,null,null,null,0,null,null,null,0,null,0,null,null,null,null,null,null,null,null,null,null,null,null,null,null,null,null,null,null,null,null,null,null,null,null,null,null,null,null,null,null,null,null,null,null,null,null,null,null,null,null,null,null,null,null,null,null,null,null,null,null,null,null,null,null,null,null,null,null,null,null,null,null,null,null,null,{"$f":"IFERROR(VLOOKUP(ROWS($CF$3:CF1756),$CH$3:$CI$2001,2,FALSE),\"\")","v":""},null,{"$f":"IF(ISNUMBER(SEARCH(B1756,CI1756)),MAX($CH$2:CH1755)+1,0)","v":0}]
[null,null,{"$f":"IF(B1759=\"\",\"\",SUMIF('الرصيد الثابت'!$D$2:$D$115,B1759,'الرصيد الثابت'!$H$2:$H$115))","v":""},{"$f":"IF(B1759=\"\",\"\",SUMIF('الرصيد الثابت'!$D$2:$D$115,B1759,'الرصيد الثابت'!$I$2:$I$115))","v":""},{"$f":"IF(B1759=\"\",\"\",SUMIF('الرصيد الثابت'!$D$2:$D$115,B1759,'الرصيد الثابت'!$J$2:$J$115))","v":""},null,0,null,null,null,null,0,null,null,null,0,null,0,null,null,null,null,null,null,null,null,null,null,null,null,null,null,null,null,null,null,null,null,null,null,null,null,null,null,null,null,null,null,null,null,null,null,null,null,null,null,null,null,null,null,null,null,null,null,null,null,null,null,null,null,null,null,null,null,null,null,null,null,null,null,null,null,null,{"$f":"IFERROR(VLOOKUP(ROWS($CF$3:CF1759),$CH$3:$CI$2001,2,FALSE),\"\")","v":""},null,{"$f":"IF(ISNUMBER(SEARCH(B1759,CI1759)),MAX($CH$2:CH1758)+1,0)","v":0}]
[null,null,{"$f":"IF(B1762=\"\",\"\",SUMIF('الرصيد الثابت'!$D$2:$D$115,B1762,'الرصيد الثابت'!$H$2:$H$115))","v":""},{"$f":"IF(B1762=\"\",\"\",SUMIF('الرصيد الثابت'!$D$2:$D$115,B1762,'الرصيد الثابت'!$I$2:$I$115))","v":""},{"$f":"IF(B1762=\"\",\"\",SUMIF('الرصيد الثابت'!$D$2:$D$115,B1762,'الرصيد الثابت'!$J$2:$J$115))","v":""},null,0,null,null,null,null,0,null,null,null,0,null,0,null,null,null,null,null,null,null,null,null,null,null,null,null,null,null,null,null,null,null,null,null,null,null,null,null,null,null,null,null,null,null,null,null,null,null,null,null,null,null,null,null,null,null,null,null,null,null,null,null,null,null,null,null,null,null,null,null,null,null,null,null,null,null,null,null,{"$f":"IFERROR(VLOOKUP(ROWS($CF$3:CF1762),$CH$3:$CI$2001,2,FALSE),\"\")","v":""},null,{"$f":"IF(ISNUMBER(SEARCH(B1762,CI1762)),MAX($CH$2:CH1761)+1,0)","v":0}]
[null,null,{"$f":"IF(B1764=\"\",\"\",SUMIF('الرصيد الثابت'!$D$2:$D$115,B1764,'الرصيد الثابت'!$H$2:$H$115))","v":""},{"$f":"IF(B1764=\"\",\"\",SUMIF('الرصيد الثابت'!$D$2:$D$115,B1764,'الرصيد الثابت'!$I$2:$I$115))","v":""},{"$f":"IF(B1764=\"\",\"\",SUMIF('الرصيد الثابت'!$D$2:$D$115,B1764,'الرصيد الثابت'!$J$2:$J$115))","v":""},null,0,null,null,null,null,0,null,null,null,0,null,0,null,null,null,null,null,null,null,null,null,null,null,null,null,null,null,null,null,null,null,null,null,null,null,null,null,null,null,null,null,null,null,null,null,null,null,null,null,null,null,null,null,null,null,null,null,null,null,null,null,null,null,null,null,null,null,null,null,null,null,null,null,null,null,null,null,{"$f":"IFERROR(VLOOKUP(ROWS($CF$3:CF1764),$CH$3:$CI$2001,2,FALSE),\"\")","v":""},null,{"$f":"IF(ISNUMBER(SEARCH(B1764,CI1764)),MAX($CH$2:CH1763)+1,0)","v":0}]
[null,null,{"$f":"IF(B1768=\"\",\"\",SUMIF('الرصيد الثابت'!$D$2:$D$115,B1768,'الرصيد الثابت'!$H$2:$H$115))","v":""},{"$f":"IF(B1768=\"\",\"\",SUMIF('الرصيد الثابت'!$D$2:$D$115,B1768,'الرصيد الثابت'!$I$2:$I$115))","v":""},{"$f":"IF(B1768=\"\",\"\",SUMIF('الرصيد الثابت'!$D$2:$D$115,B1768,'الرصيد الثابت'!$J$2:$J$115))","v":""},null,0,null,null,null,null,0,null,null,null,0,null,0,null,null,null,null,null,null,null,null,null,null,null,null,null,null,null,null,null,null,null,null,null,null,null,null,null,null,null,null,null,null,null,null,null,null,null,null,null,null,null,null,null,null,null,null,null,null,null,null,null,null,null,null,null,null,null,null,null,null,null,null,null,null,null,null,null,{"$f":"IFERROR(VLOOKUP(ROWS($CF$3:CF1768),$CH$3:$CI$2001,2,FALSE),\"\")","v":""},null,{"$f":"IF(ISNUMBER(SEARCH(B1768,CI1768)),MAX($CH$2:CH1767)+1,0)","v":0}]
[null,null,{"$f":"IF(B1769=\"\",\"\",SUMIF('الرصيد الثابت'!$D$2:$D$115,B1769,'الرصيد الثابت'!$H$2:$H$115))","v":""},{"$f":"IF(B1769=\"\",\"\",SUMIF('الرصيد الثابت'!$D$2:$D$115,B1769,'الرصيد الثابت'!$I$2:$I$115))","v":""},{"$f":"IF(B1769=\"\",\"\",SUMIF('الرصيد الثابت'!$D$2:$D$115,B1769,'الرصيد الثابت'!$J$2:$J$115))","v":""},null,0,null,null,null,null,0,null,null,null,0,null,0,null,null,null,null,null,null,null,null,null,null,null,null,null,null,null,null,null,null,null,null,null,null,null,null,null,null,null,null,null,null,null,null,null,null,null,null,null,null,null,null,null,null,null,null,null,null,null,null,null,null,null,null,null,null,null,null,null,null,null,null,null,null,null,null,null,{"$f":"IFERROR(VLOOKUP(ROWS($CF$3:CF1769),$CH$3:$CI$2001,2,FALSE),\"\")","v":""},null,{"$f":"IF(ISNUMBER(SEARCH(B1769,CI1769)),MAX($CH$2:CH1768)+1,0)","v":0}]
[null,null,{"$f":"IF(B1772=\"\",\"\",SUMIF('الرصيد الثابت'!$D$2:$D$115,B1772,'الرصيد الثابت'!$H$2:$H$115))","v":""},{"$f":"IF(B1772=\"\",\"\",SUMIF('الرصيد الثابت'!$D$2:$D$115,B1772,'الرصيد الثابت'!$I$2:$I$115))","v":""},{"$f":"IF(B1772=\"\",\"\",SUMIF('الرصيد الثابت'!$D$2:$D$115,B1772,'الرصيد الثابت'!$J$2:$J$115))","v":""},null,0,null,null,null,null,0,null,null,null,0,null,0,null,null,null,null,null,null,null,null,null,null,null,null,null,null,null,null,null,null,null,null,null,null,null,null,null,null,null,null,null,null,null,null,null,null,null,null,null,null,null,null,null,null,null,null,null,null,null,null,null,null,null,null,null,null,null,null,null,null,null,null,null,null,null,null,null,{"$f":"IFERROR(VLOOKUP(ROWS($CF$3:CF1772),$CH$3:$CI$2001,2,FALSE),\"\")","v":""},null,{"$f":"IF(ISNUMBER(SEARCH(B1772,CI1772)),MAX($CH$2:CH1771)+1,0)","v":0}]
[null,null,{"$f":"IF(B1775=\"\",\"\",SUMIF('الرصيد الثابت'!$D$2:$D$115,B1775,'الرصيد الثابت'!$H$2:$H$115))","v":""},{"$f":"IF(B1775=\"\",\"\",SUMIF('الرصيد الثابت'!$D$2:$D$115,B1775,'الرصيد الثابت'!$I$2:$I$115))","v":""},{"$f":"IF(B1775=\"\",\"\",SUMIF('الرصيد الثابت'!$D$2:$D$115,B1775,'الرصيد الثابت'!$J$2:$J$115))","v":""},null,0,null,null,null,null,0,null,null,null,0,null,0,null,null,null,null,null,null,null,null,null,null,null,null,null,null,null,null,null,null,null,null,null,null,null,null,null,null,null,null,null,null,null,null,null,null,null,null,null,null,null,null,null,null,null,null,null,null,null,null,null,null,null,null,null,null,null,null,null,null,null,null,null,null,null,null,null,{"$f":"IFERROR(VLOOKUP(ROWS($CF$3:CF1775),$CH$3:$CI$2001,2,FALSE),\"\")","v":""},null,{"$f":"IF(ISNUMBER(SEARCH(B1775,CI1775)),MAX($CH$2:CH1774)+1,0)","v":0}]
[null,null,{"$f":"IF(B1778=\"\",\"\",SUMIF('الرصيد الثابت'!$D$2:$D$115,B1778,'الرصيد الثابت'!$H$2:$H$115))","v":""},{"$f":"IF(B1778=\"\",\"\",SUMIF('الرصيد الثابت'!$D$2:$D$115,B1778,'الرصيد الثابت'!$I$2:$I$115))","v":""},{"$f":"IF(B1778=\"\",\"\",SUMIF('الرصيد الثابت'!$D$2:$D$115,B1778,'الرصيد الثابت'!$J$2:$J$115))","v":""},null,0,null,null,null,null,0,null,null,null,0,null,0,null,null,null,null,null,null,null,null,null,null,null,null,null,null,null,null,null,null,null,null,null,null,null,null,null,null,null,null,null,null,null,null,null,null,null,null,null,null,null,null,null,null,null,null,null,null,null,null,null,null,null,null,null,null,null,null,null,null,null,null,null,null,null,null,null,{"$f":"IFERROR(VLOOKUP(ROWS($CF$3:CF1778),$CH$3:$CI$2001,2,FALSE),\"\")","v":""},null,{"$f":"IF(ISNUMBER(SEARCH(B1778,CI1778)),MAX($CH$2:CH1777)+1,0)","v":0}]
[null,null,{"$f":"IF(B1781=\"\",\"\",SUMIF('الرصيد الثابت'!$D$2:$D$115,B1781,'الرصيد الثابت'!$H$2:$H$115))","v":""},{"$f":"IF(B1781=\"\",\"\",SUMIF('الرصيد الثابت'!$D$2:$D$115,B1781,'الرصيد الثابت'!$I$2:$I$115))","v":""},{"$f":"IF(B1781=\"\",\"\",SUMIF('الرصيد الثابت'!$D$2:$D$115,B1781,'الرصيد الثابت'!$J$2:$J$115))","v":""},null,0,null,null,null,null,0,null,null,null,0,null,0,null,null,null,null,null,null,null,null,null,null,null,null,null,null,null,null,null,null,null,null,null,null,null,null,null,null,null,null,null,null,null,null,null,null,null,null,null,null,null,null,null,null,null,null,null,null,null,null,null,null,null,null,null,null,null,null,null,null,null,null,null,null,null,null,null,{"$f":"IFERROR(VLOOKUP(ROWS($CF$3:CF1781),$CH$3:$CI$2001,2,FALSE),\"\")","v":""},null,{"$f":"IF(ISNUMBER(SEARCH(B1781,CI1781)),MAX($CH$2:CH1780)+1,0)","v":0}]
[null,null,{"$f":"IF(B1784=\"\",\"\",SUMIF('الرصيد الثابت'!$D$2:$D$115,B1784,'الرصيد الثابت'!$H$2:$H$115))","v":""},{"$f":"IF(B1784=\"\",\"\",SUMIF('الرصيد الثابت'!$D$2:$D$115,B1784,'الرصيد الثابت'!$I$2:$I$115))","v":""},{"$f":"IF(B1784=\"\",\"\",SUMIF('الرصيد الثابت'!$D$2:$D$115,B1784,'الرصيد الثابت'!$J$2:$J$115))","v":""},null,0,null,null,null,null,0,null,null,null,0,null,0,null,null,null,null,null,null,null,null,null,null,null,null,null,null,null,null,null,null,null,null,null,null,null,null,null,null,null,null,null,null,null,null,null,null,null,null,null,null,null,null,null,null,null,null,null,null,null,null,null,null,null,null,null,null,null,null,null,null,null,null,null,null,null,null,null,{"$f":"IFERROR(VLOOKUP(ROWS($CF$3:CF1784),$CH$3:$CI$2001,2,FALSE),\"\")","v":""},null,{"$f":"IF(ISNUMBER(SEARCH(B1784,CI1784)),MAX($CH$2:CH1783)+1,0)","v":0}]
[null,null,{"$f":"IF(B1786=\"\",\"\",SUMIF('الرصيد الثابت'!$D$2:$D$115,B1786,'الرصيد الثابت'!$H$2:$H$115))","v":""},{"$f":"IF(B1786=\"\",\"\",SUMIF('الرصيد الثابت'!$D$2:$D$115,B1786,'الرصيد الثابت'!$I$2:$I$115))","v":""},{"$f":"IF(B1786=\"\",\"\",SUMIF('الرصيد الثابت'!$D$2:$D$115,B1786,'الرصيد الثابت'!$J$2:$J$115))","v":""},null,0,null,null,null,null,0,null,null,null,0,null,0,null,null,null,null,null,null,null,null,null,null,null,null,null,null,null,null,null,null,null,null,null,null,null,null,null,null,null,null,null,null,null,null,null,null,null,null,null,null,null,null,null,null,null,null,null,null,null,null,null,null,null,null,null,null,null,null,null,null,null,null,null,null,null,null,null,{"$f":"IFERROR(VLOOKUP(ROWS($CF$3:CF1786),$CH$3:$CI$2001,2,FALSE),\"\")","v":""},null,{"$f":"IF(ISNUMBER(SEARCH(B1786,CI1786)),MAX($CH$2:CH1785)+1,0)","v":0}]
[null,null,{"$f":"IF(B1790=\"\",\"\",SUMIF('الرصيد الثابت'!$D$2:$D$115,B1790,'الرصيد الثابت'!$H$2:$H$115))","v":""},{"$f":"IF(B1790=\"\",\"\",SUMIF('الرصيد الثابت'!$D$2:$D$115,B1790,'الرصيد الثابت'!$I$2:$I$115))","v":""},{"$f":"IF(B1790=\"\",\"\",SUMIF('الرصيد الثابت'!$D$2:$D$115,B1790,'الرصيد الثابت'!$J$2:$J$115))","v":""},null,0,null,null,null,null,0,null,null,null,0,null,0,null,null,null,null,null,null,null,null,null,null,null,null,null,null,null,null,null,null,null,null,null,null,null,null,null,null,null,null,null,null,null,null,null,null,null,null,null,null,null,null,null,null,null,null,null,null,null,null,null,null,null,null,null,null,null,null,null,null,null,null,null,null,null,null,null,{"$f":"IFERROR(VLOOKUP(ROWS($CF$3:CF1790),$CH$3:$CI$2001,2,FALSE),\"\")","v":""},null,{"$f":"IF(ISNUMBER(SEARCH(B1790,CI1790)),MAX($CH$2:CH1789)+1,0)","v":0}]
[null,null,{"$f":"IF(B1791=\"\",\"\",SUMIF('الرصيد الثابت'!$D$2:$D$115,B1791,'الرصيد الثابت'!$H$2:$H$115))","v":""},{"$f":"IF(B1791=\"\",\"\",SUMIF('الرصيد الثابت'!$D$2:$D$115,B1791,'الرصيد الثابت'!$I$2:$I$115))","v":""},{"$f":"IF(B1791=\"\",\"\",SUMIF('الرصيد الثابت'!$D$2:$D$115,B1791,'الرصيد الثابت'!$J$2:$J$115))","v":""},null,0,null,null,null,null,0,null,null,null,0,null,0,null,null,null,null,null,null,null,null,null,null,null,null,null,null,null,null,null,null,null,null,null,null,null,null,null,null,null,null,null,null,null,null,null,null,null,null,null,null,null,null,null,null,null,null,null,null,null,null,null,null,null,null,null,null,null,null,null,null,null,null,null,null,null,null,null,{"$f":"IFERROR(VLOOKUP(ROWS($CF$3:CF1791),$CH$3:$CI$2001,2,FALSE),\"\")","v":""},null,{"$f":"IF(ISNUMBER(SEARCH(B1791,CI1791)),MAX($CH$2:CH1790)+1,0)","v":0}]
[null,null,{"$f":"IF(B1794=\"\",\"\",SUMIF('الرصيد الثابت'!$D$2:$D$115,B1794,'الرصيد الثابت'!$H$2:$H$115))","v":""},{"$f":"IF(B1794=\"\",\"\",SUMIF('الرصيد الثابت'!$D$2:$D$115,B1794,'الرصيد الثابت'!$I$2:$I$115))","v":""},{"$f":"IF(B1794=\"\",\"\",SUMIF('الرصيد الثابت'!$D$2:$D$115,B1794,'الرصيد الثابت'!$J$2:$J$115))","v":""},null,0,null,null,null,null,0,null,null,null,0,null,0,null,null,null,null,null,null,null,null,null,null,null,null,null,null,null,null,null,null,null,null,null,null,null,null,null,null,null,null,null,null,null,null,null,null,null,null,null,null,null,null,null,null,null,null,null,null,null,null,null,null,null,null,null,null,null,null,null,null,null,null,null,null,null,null,null,{"$f":"IFERROR(VLOOKUP(ROWS($CF$3:CF1794),$CH$3:$CI$2001,2,FALSE),\"\")","v":""},null,{"$f":"IF(ISNUMBER(SEARCH(B1794,CI1794)),MAX($CH$2:CH1793)+1,0)","v":0}]
[null,null,{"$f":"IF(B1797=\"\",\"\",SUMIF('الرصيد الثابت'!$D$2:$D$115,B1797,'الرصيد الثابت'!$H$2:$H$115))","v":""},{"$f":"IF(B1797=\"\",\"\",SUMIF('الرصيد الثابت'!$D$2:$D$115,B1797,'الرصيد الثابت'!$I$2:$I$115))","v":""},{"$f":"IF(B1797=\"\",\"\",SUMIF('الرصيد الثابت'!$D$2:$D$115,B1797,'الرصيد الثابت'!$J$2:$J$115))","v":""},null,0,null,null,null,null,0,null,null,null,0,null,0,null,null,null,null,null,null,null,null,null,null,null,null,null,null,null,null,null,null,null,null,null,null,null,null,null,null,null,null,null,null,null,null,null,null,null,null,null,null,null,null,null,null,null,null,null,null,null,null,null,null,null,null,null,null,null,null,null,null,null,null,null,null,null,null,null,{"$f":"IFERROR(VLOOKUP(ROWS($CF$3:CF1797),$CH$3:$CI$2001,2,FALSE),\"\")","v":""},null,{"$f":"IF(ISNUMBER(SEARCH(B1797,CI1797)),MAX($CH$2:CH1796)+1,0)","v":0}]
[null,null,{"$f":"IF(B1800=\"\",\"\",SUMIF('الرصيد الثابت'!$D$2:$D$115,B1800,'الرصيد الثابت'!$H$2:$H$115))","v":""},{"$f":"IF(B1800=\"\",\"\",SUMIF('الرصيد الثابت'!$D$2:$D$115,B1800,'الرصيد الثابت'!$I$2:$I$115))","v":""},{"$f":"IF(B1800=\"\",\"\",SUMIF('الرصيد الثابت'!$D$2:$D$115,B1800,'الرصيد الثابت'!$J$2:$J$115))","v":""},null,0,null,null,null,null,0,null,null,null,0,null,0,null,null,null,null,null,null,null,null,null,null,null,null,null,null,null,null,null,null,null,null,null,null,null,null,null,null,null,null,null,null,null,null,null,null,null,null,null,null,null,null,null,null,null,null,null,null,null,null,null,null,null,null,null,null,null,null,null,null,null,null,null,null,null,null,null,{"$f":"IFERROR(VLOOKUP(ROWS($CF$3:CF1800),$CH$3:$CI$2001,2,FALSE),\"\")","v":""},null,{"$f":"IF(ISNUMBER(SEARCH(B1800,CI1800)),MAX($CH$2:CH1799)+1,0)","v":0}]
[null,null,{"$f":"IF(B1803=\"\",\"\",SUMIF('الرصيد الثابت'!$D$2:$D$115,B1803,'الرصيد الثابت'!$H$2:$H$115))","v":""},{"$f":"IF(B1803=\"\",\"\",SUMIF('الرصيد الثابت'!$D$2:$D$115,B1803,'الرصيد الثابت'!$I$2:$I$115))","v":""},{"$f":"IF(B1803=\"\",\"\",SUMIF('الرصيد الثابت'!$D$2:$D$115,B1803,'الرصيد الثابت'!$J$2:$J$115))","v":""},null,0,null,null,null,null,0,null,null,null,0,null,0,null,null,null,null,null,null,null,null,null,null,null,null,null,null,null,null,null,null,null,null,null,null,null,null,null,null,null,null,null,null,null,null,null,null,null,null,null,null,null,null,null,null,null,null,null,null,null,null,null,null,null,null,null,null,null,null,null,null,null,null,null,null,null,null,null,{"$f":"IFERROR(VLOOKUP(ROWS($CF$3:CF1803),$CH$3:$CI$2001,2,FALSE),\"\")","v":""},null,{"$f":"IF(ISNUMBER(SEARCH(B1803,CI1803)),MAX($CH$2:CH1802)+1,0)","v":0}]
[null,null,{"$f":"IF(B1807=\"\",\"\",SUMIF('الرصيد الثابت'!$D$2:$D$115,B1807,'الرصيد الثابت'!$H$2:$H$115))","v":""},{"$f":"IF(B1807=\"\",\"\",SUMIF('الرصيد الثابت'!$D$2:$D$115,B1807,'الرصيد الثابت'!$I$2:$I$115))","v":""},{"$f":"IF(B1807=\"\",\"\",SUMIF('الرصيد الثابت'!$D$2:$D$115,B1807,'الرصيد الثابت'!$J$2:$J$115))","v":""},null,0,null,null,null,null,0,null,null,null,0,null,0,null,null,null,null,null,null,null,null,null,null,null,null,null,null,null,null,null,null,null,null,null,null,null,null,null,null,null,null,null,null,null,null,null,null,null,null,null,null,null,null,null,null,null,null,null,null,null,null,null,null,null,null,null,null,null,null,null,null,null,null,null,null,null,null,null,{"$f":"IFERROR(VLOOKUP(ROWS($CF$3:CF1807),$CH$3:$CI$2001,2,FALSE),\"\")","v":""},null,{"$f":"IF(ISNUMBER(SEARCH(B1807,CI1807)),MAX($CH$2:CH1806)+1,0)","v":0}]
[null,null,{"$f":"IF(B1808=\"\",\"\",SUMIF('الرصيد الثابت'!$D$2:$D$115,B1808,'الرصيد الثابت'!$H$2:$H$115))","v":""},{"$f":"IF(B1808=\"\",\"\",SUMIF('الرصيد الثابت'!$D$2:$D$115,B1808,'الرصيد الثابت'!$I$2:$I$115))","v":""},{"$f":"IF(B1808=\"\",\"\",SUMIF('الرصيد الثابت'!$D$2:$D$115,B1808,'الرصيد الثابت'!$J$2:$J$115))","v":""},null,0,null,null,null,null,0,null,null,null,0,null,0,null,null,null,null,null,null,null,null,null,null,null,null,null,null,null,null,null,null,null,null,null,null,null,null,null,null,null,null,null,null,null,null,null,null,null,null,null,null,null,null,null,null,null,null,null,null,null,null,null,null,null,null,null,null,null,null,null,null,null,null,null,null,null,null,null,{"$f":"IFERROR(VLOOKUP(ROWS($CF$3:CF1808),$CH$3:$CI$2001,2,FALSE),\"\")","v":""},null,{"$f":"IF(ISNUMBER(SEARCH(B1808,CI1808)),MAX($CH$2:CH1807)+1,0)","v":0}]
[null,null,{"$f":"IF(B1812=\"\",\"\",SUMIF('الرصيد الثابت'!$D$2:$D$115,B1812,'الرصيد الثابت'!$H$2:$H$115))","v":""},{"$f":"IF(B1812=\"\",\"\",SUMIF('الرصيد الثابت'!$D$2:$D$115,B1812,'الرصيد الثابت'!$I$2:$I$115))","v":""},{"$f":"IF(B1812=\"\",\"\",SUMIF('الرصيد الثابت'!$D$2:$D$115,B1812,'الرصيد الثابت'!$J$2:$J$115))","v":""},null,0,null,null,null,null,0,null,null,null,0,null,0,null,null,null,null,null,null,null,null,null,null,null,null,null,null,null,null,null,null,null,null,null,null,null,null,null,null,null,null,null,null,null,null,null,null,null,null,null,null,null,null,null,null,null,null,null,null,null,null,null,null,null,null,null,null,null,null,null,null,null,null,null,null,null,null,null,{"$f":"IFERROR(VLOOKUP(ROWS($CF$3:CF1812),$CH$3:$CI$2001,2,FALSE),\"\")","v":""},null,{"$f":"IF(ISNUMBER(SEARCH(B1812,CI1812)),MAX($CH$2:CH1811)+1,0)","v":0}]
[null,null,{"$f":"IF(B1813=\"\",\"\",SUMIF('الرصيد الثابت'!$D$2:$D$115,B1813,'الرصيد الثابت'!$H$2:$H$115))","v":""},{"$f":"IF(B1813=\"\",\"\",SUMIF('الرصيد الثابت'!$D$2:$D$115,B1813,'الرصيد الثابت'!$I$2:$I$115))","v":""},{"$f":"IF(B1813=\"\",\"\",SUMIF('الرصيد الثابت'!$D$2:$D$115,B1813,'الرصيد الثابت'!$J$2:$J$115))","v":""},null,0,null,null,null,null,0,null,null,null,0,null,0,null,null,null,null,null,null,null,null,null,null,null,null,null,null,null,null,null,null,null,null,null,null,null,null,null,null,null,null,null,null,null,null,null,null,null,null,null,null,null,null,null,null,null,null,null,null,null,null,null,null,null,null,null,null,null,null,null,null,null,null,null,null,null,null,null,{"$f":"IFERROR(VLOOKUP(ROWS($CF$3:CF1813),$CH$3:$CI$2001,2,FALSE),\"\")","v":""},null,{"$f":"IF(ISNUMBER(SEARCH(B1813,CI1813)),MAX($CH$2:CH1812)+1,0)","v":0}]
[null,null,{"$f":"IF(B1816=\"\",\"\",SUMIF('الرصيد الثابت'!$D$2:$D$115,B1816,'الرصيد الثابت'!$H$2:$H$115))","v":""},{"$f":"IF(B1816=\"\",\"\",SUMIF('الرصيد الثابت'!$D$2:$D$115,B1816,'الرصيد الثابت'!$I$2:$I$115))","v":""},{"$f":"IF(B1816=\"\",\"\",SUMIF('الرصيد الثابت'!$D$2:$D$115,B1816,'الرصيد الثابت'!$J$2:$J$115))","v":""},null,0,null,null,null,null,0,null,null,null,0,null,0,null,null,null,null,null,null,null,null,null,null,null,null,null,null,null,null,null,null,null,null,null,null,null,null,null,null,null,null,null,null,null,null,null,null,null,null,null,null,null,null,null,null,null,null,null,null,null,null,null,null,null,null,null,null,null,null,null,null,null,null,null,null,null,null,null,{"$f":"IFERROR(VLOOKUP(ROWS($CF$3:CF1816),$CH$3:$CI$2001,2,FALSE),\"\")","v":""},null,{"$f":"IF(ISNUMBER(SEARCH(B1816,CI1816)),MAX($CH$2:CH1815)+1,0)","v":0}]
[null,null,{"$f":"IF(B1819=\"\",\"\",SUMIF('الرصيد الثابت'!$D$2:$D$115,B1819,'الرصيد الثابت'!$H$2:$H$115))","v":""},{"$f":"IF(B1819=\"\",\"\",SUMIF('الرصيد الثابت'!$D$2:$D$115,B1819,'الرصيد الثابت'!$I$2:$I$115))","v":""},{"$f":"IF(B1819=\"\",\"\",SUMIF('الرصيد الثابت'!$D$2:$D$115,B1819,'الرصيد الثابت'!$J$2:$J$115))","v":""},null,0,null,null,null,null,0,null,null,null,0,null,0,null,null,null,null,null,null,null,null,null,null,null,null,null,null,null,null,null,null,null,null,null,null,null,null,null,null,null,null,null,null,null,null,null,null,null,null,null,null,null,null,null,null,null,null,null,null,null,null,null,null,null,null,null,null,null,null,null,null,null,null,null,null,null,null,null,{"$f":"IFERROR(VLOOKUP(ROWS($CF$3:CF1819),$CH$3:$CI$2001,2,FALSE),\"\")","v":""},null,{"$f":"IF(ISNUMBER(SEARCH(B1819,CI1819)),MAX($CH$2:CH1818)+1,0)","v":0}]
[null,null,{"$f":"IF(B1822=\"\",\"\",SUMIF('الرصيد الثابت'!$D$2:$D$115,B1822,'الرصيد الثابت'!$H$2:$H$115))","v":""},{"$f":"IF(B1822=\"\",\"\",SUMIF('الرصيد الثابت'!$D$2:$D$115,B1822,'الرصيد الثابت'!$I$2:$I$115))","v":""},{"$f":"IF(B1822=\"\",\"\",SUMIF('الرصيد الثابت'!$D$2:$D$115,B1822,'الرصيد الثابت'!$J$2:$J$115))","v":""},null,0,null,null,null,null,0,null,null,null,0,null,0,null,null,null,null,null,null,null,null,null,null,null,null,null,null,null,null,null,null,null,null,null,null,null,null,null,null,null,null,null,null,null,null,null,null,null,null,null,null,null,null,null,null,null,null,null,null,null,null,null,null,null,null,null,null,null,null,null,null,null,null,null,null,null,null,null,{"$f":"IFERROR(VLOOKUP(ROWS($CF$3:CF1822),$CH$3:$CI$2001,2,FALSE),\"\")","v":""},null,{"$f":"IF(ISNUMBER(SEARCH(B1822,CI1822)),MAX($CH$2:CH1821)+1,0)","v":0}]
[null,null,{"$f":"IF(B1825=\"\",\"\",SUMIF('الرصيد الثابت'!$D$2:$D$115,B1825,'الرصيد الثابت'!$H$2:$H$115))","v":""},{"$f":"IF(B1825=\"\",\"\",SUMIF('الرصيد الثابت'!$D$2:$D$115,B1825,'الرصيد الثابت'!$I$2:$I$115))","v":""},{"$f":"IF(B1825=\"\",\"\",SUMIF('الرصيد الثابت'!$D$2:$D$115,B1825,'الرصيد الثابت'!$J$2:$J$115))","v":""},null,0,null,null,null,null,0,null,null,null,0,null,0,null,null,null,null,null,null,null,null,null,null,null,null,null,null,null,null,null,null,null,null,null,null,null,null,null,null,null,null,null,null,null,null,null,null,null,null,null,null,null,null,null,null,null,null,null,null,null,null,null,null,null,null,null,null,null,null,null,null,null,null,null,null,null,null,null,{"$f":"IFERROR(VLOOKUP(ROWS($CF$3:CF1825),$CH$3:$CI$2001,2,FALSE),\"\")","v":""},null,{"$f":"IF(ISNUMBER(SEARCH(B1825,CI1825)),MAX($CH$2:CH1824)+1,0)","v":0}]
[null,null,{"$f":"IF(B1829=\"\",\"\",SUMIF('الرصيد الثابت'!$D$2:$D$115,B1829,'الرصيد الثابت'!$H$2:$H$115))","v":""},{"$f":"IF(B1829=\"\",\"\",SUMIF('الرصيد الثابت'!$D$2:$D$115,B1829,'الرصيد الثابت'!$I$2:$I$115))","v":""},{"$f":"IF(B1829=\"\",\"\",SUMIF('الرصيد الثابت'!$D$2:$D$115,B1829,'الرصيد الثابت'!$J$2:$J$115))","v":""},null,0,null,null,null,null,0,null,null,null,0,null,0,null,null,null,null,null,null,null,null,null,null,null,null,null,null,null,null,null,null,null,null,null,null,null,null,null,null,null,null,null,null,null,null,null,null,null,null,null,null,null,null,null,null,null,null,null,null,null,null,null,null,null,null,null,null,null,null,null,null,null,null,null,null,null,null,null,{"$f":"IFERROR(VLOOKUP(ROWS($CF$3:CF1829),$CH$3:$CI$2001,2,FALSE),\"\")","v":""},null,{"$f":"IF(ISNUMBER(SEARCH(B1829,CI1829)),MAX($CH$2:CH1828)+1,0)","v":0}]
[null,null,{"$f":"IF(B1830=\"\",\"\",SUMIF('الرصيد الثابت'!$D$2:$D$115,B1830,'الرصيد الثابت'!$H$2:$H$115))","v":""},{"$f":"IF(B1830=\"\",\"\",SUMIF('الرصيد الثابت'!$D$2:$D$115,B1830,'الرصيد الثابت'!$I$2:$I$115))","v":""},{"$f":"IF(B1830=\"\",\"\",SUMIF('الرصيد الثابت'!$D$2:$D$115,B1830,'الرصيد الثابت'!$J$2:$J$115))","v":""},null,0,null,null,null,null,0,null,null,null,0,null,0,null,null,null,null,null,null,null,null,null,null,null,null,null,null,null,null,null,null,null,null,null,null,null,null,null,null,null,null,null,null,null,null,null,null,null,null,null,null,null,null,null,null,null,null,null,null,null,null,null,null,null,null,null,null,null,null,null,null,null,null,null,null,null,null,null,{"$f":"IFERROR(VLOOKUP(ROWS($CF$3:CF1830),$CH$3:$CI$2001,2,FALSE),\"\")","v":""},null,{"$f":"IF(ISNUMBER(SEARCH(B1830,CI1830)),MAX($CH$2:CH1829)+1,0)","v":0}]
[null,null,{"$f":"IF(B1834=\"\",\"\",SUMIF('الرصيد الثابت'!$D$2:$D$115,B1834,'الرصيد الثابت'!$H$2:$H$115))","v":""},{"$f":"IF(B1834=\"\",\"\",SUMIF('الرصيد الثابت'!$D$2:$D$115,B1834,'الرصيد الثابت'!$I$2:$I$115))","v":""},{"$f":"IF(B1834=\"\",\"\",SUMIF('الرصيد الثابت'!$D$2:$D$115,B1834,'الرصيد الثابت'!$J$2:$J$115))","v":""},null,0,null,null,null,null,0,null,null,null,0,null,0,null,null,null,null,null,null,null,null,null,null,null,null,null,null,null,null,null,null,null,null,null,null,null,null,null,null,null,null,null,null,null,null,null,null,null,null,null,null,null,null,null,null,null,null,null,null,null,null,null,null,null,null,null,null,null,null,null,null,null,null,null,null,null,null,null,{"$f":"IFERROR(VLOOKUP(ROWS($CF$3:CF1834),$CH$3:$CI$2001,2,FALSE),\"\")","v":""},null,{"$f":"IF(ISNUMBER(SEARCH(B1834,CI1834)),MAX($CH$2:CH1833)+1,0)","v":0}]
[null,null,{"$f":"IF(B1835=\"\",\"\",SUMIF('الرصيد الثابت'!$D$2:$D$115,B1835,'الرصيد الثابت'!$H$2:$H$115))","v":""},{"$f":"IF(B1835=\"\",\"\",SUMIF('الرصيد الثابت'!$D$2:$D$115,B1835,'الرصيد الثابت'!$I$2:$I$115))","v":""},{"$f":"IF(B1835=\"\",\"\",SUMIF('الرصيد الثابت'!$D$2:$D$115,B1835,'الرصيد الثابت'!$J$2:$J$115))","v":""},null,0,null,null,null,null,0,null,null,null,0,null,0,null,null,null,null,null,null,null,null,null,null,null,null,null,null,null,null,null,null,null,null,null,null,null,null,null,null,null,null,null,null,null,null,null,null,null,null,null,null,null,null,null,null,null,null,null,null,null,null,null,null,null,null,null,null,null,null,null,null,null,null,null,null,null,null,null,{"$f":"IFERROR(VLOOKUP(ROWS($CF$3:CF1835),$CH$3:$CI$2001,2,FALSE),\"\")","v":""},null,{"$f":"IF(ISNUMBER(SEARCH(B1835,CI1835)),MAX($CH$2:CH1834)+1,0)","v":0}]
[null,null,{"$f":"IF(B1838=\"\",\"\",SUMIF('الرصيد الثابت'!$D$2:$D$115,B1838,'الرصيد الثابت'!$H$2:$H$115))","v":""},{"$f":"IF(B1838=\"\",\"\",SUMIF('الرصيد الثابت'!$D$2:$D$115,B1838,'الرصيد الثابت'!$I$2:$I$115))","v":""},{"$f":"IF(B1838=\"\",\"\",SUMIF('الرصيد الثابت'!$D$2:$D$115,B1838,'الرصيد الثابت'!$J$2:$J$115))","v":""},null,0,null,null,null,null,0,null,null,null,0,null,0,null,null,null,null,null,null,null,null,null,null,null,null,null,null,null,null,null,null,null,null,null,null,null,null,null,null,null,null,null,null,null,null,null,null,null,null,null,null,null,null,null,null,null,null,null,null,null,null,null,null,null,null,null,null,null,null,null,null,null,null,null,null,null,null,null,{"$f":"IFERROR(VLOOKUP(ROWS($CF$3:CF1838),$CH$3:$CI$2001,2,FALSE),\"\")","v":""},null,{"$f":"IF(ISNUMBER(SEARCH(B1838,CI1838)),MAX($CH$2:CH1837)+1,0)","v":0}]
[null,null,{"$f":"IF(B1841=\"\",\"\",SUMIF('الرصيد الثابت'!$D$2:$D$115,B1841,'الرصيد الثابت'!$H$2:$H$115))","v":""},{"$f":"IF(B1841=\"\",\"\",SUMIF('الرصيد الثابت'!$D$2:$D$115,B1841,'الرصيد الثابت'!$I$2:$I$115))","v":""},{"$f":"IF(B1841=\"\",\"\",SUMIF('الرصيد الثابت'!$D$2:$D$115,B1841,'الرصيد الثابت'!$J$2:$J$115))","v":""},null,0,null,null,null,null,0,null,null,null,0,null,0,null,null,null,null,null,null,null,null,null,null,null,null,null,null,null,null,null,null,null,null,null,null,null,null,null,null,null,null,null,null,null,null,null,null,null,null,null,null,null,null,null,null,null,null,null,null,null,null,null,null,null,null,null,null,null,null,null,null,null,null,null,null,null,null,null,{"$f":"IFERROR(VLOOKUP(ROWS($CF$3:CF1841),$CH$3:$CI$2001,2,FALSE),\"\")","v":""},null,{"$f":"IF(ISNUMBER(SEARCH(B1841,CI1841)),MAX($CH$2:CH1840)+1,0)","v":0}]
[null,null,{"$f":"IF(B1844=\"\",\"\",SUMIF('الرصيد الثابت'!$D$2:$D$115,B1844,'الرصيد الثابت'!$H$2:$H$115))","v":""},{"$f":"IF(B1844=\"\",\"\",SUMIF('الرصيد الثابت'!$D$2:$D$115,B1844,'الرصيد الثابت'!$I$2:$I$115))","v":""},{"$f":"IF(B1844=\"\",\"\",SUMIF('الرصيد الثابت'!$D$2:$D$115,B1844,'الرصيد الثابت'!$J$2:$J$115))","v":""},null,0,null,null,null,null,0,null,null,null,0,null,0,null,null,null,null,null,null,null,null,null,null,null,null,null,null,null,null,null,null,null,null,null,null,null,null,null,null,null,null,null,null,null,null,null,null,null,null,null,null,null,null,null,null,null,null,null,null,null,null,null,null,null,null,null,null,null,null,null,null,null,null,null,null,null,null,null,{"$f":"IFERROR(VLOOKUP(ROWS($CF$3:CF1844),$CH$3:$CI$2001,2,FALSE),\"\")","v":""}]
[null,null,{"$f":"IF(B1847=\"\",\"\",SUMIF('الرصيد الثابت'!$D$2:$D$115,B1847,'الرصيد الثابت'!$H$2:$H$115))","v":""},{"$f":"IF(B1847=\"\",\"\",SUMIF('الرصيد الثابت'!$D$2:$D$115,B1847,'الرصيد الثابت'!$I$2:$I$115))","v":""},{"$f":"IF(B1847=\"\",\"\",SUMIF('الرصيد الثابت'!$D$2:$D$115,B1847,'الرصيد الثابت'!$J$2:$J$115))","v":""},null,0,null,null,null,null,0,null,null,null,0,null,0,null,null,null,null,null,null,null,null,null,null,null,null,null,null,null,null,null,null,null,null,null,null,null,null,null,null,null,null,null,null,null,null,null,null,null,null,null,null,null,null,null,null,null,null,null,null,null,null,null,null,null,null,null,null,null,null,null,null,null,null,null,null,null,null,null,{"$f":"IFERROR(VLOOKUP(ROWS($CF$3:CF1847),$CH$3:$CI$2001,2,FALSE),\"\")","v":""}]
[null,null,{"$f":"IF(B1851=\"\",\"\",SUMIF('الرصيد الثابت'!$D$2:$D$115,B1851,'الرصيد الثابت'!$H$2:$H$115))","v":""},{"$f":"IF(B1851=\"\",\"\",SUMIF('الرصيد الثابت'!$D$2:$D$115,B1851,'الرصيد الثابت'!$I$2:$I$115))","v":""},{"$f":"IF(B1851=\"\",\"\",SUMIF('الرصيد الثابت'!$D$2:$D$115,B1851,'الرصيد الثابت'!$J$2:$J$115))","v":""},null,0,null,null,null,null,0,null,null,null,0,null,0,null,null,null,null,null,null,null,null,null,null,null,null,null,null,null,null,null,null,null,null,null,null,null,null,null,null,null,null,null,null,null,null,null,null,null,null,null,null,null,null,null,null,null,null,null,null,null,null,null,null,null,null,null,null,null,null,null,null,null,null,null,null,null,null,null,{"$f":"IFERROR(VLOOKUP(ROWS($CF$3:CF1851),$CH$3:$CI$2001,2,FALSE),\"\")","v":""}]
[null,null,{"$f":"IF(B1852=\"\",\"\",SUMIF('الرصيد الثابت'!$D$2:$D$115,B1852,'الرصيد الثابت'!$H$2:$H$115))","v":""},{"$f":"IF(B1852=\"\",\"\",SUMIF('الرصيد الثابت'!$D$2:$D$115,B1852,'الرصيد الثابت'!$I$2:$I$115))","v":""},{"$f":"IF(B1852=\"\",\"\",SUMIF('الرصيد الثابت'!$D$2:$D$115,B1852,'الرصيد الثابت'!$J$2:$J$115))","v":""},null,0,null,null,null,null,0,null,null,null,{"$f":"SUM(#REF!-#REF!)","v":{"$error":"#REF!"}},null,0,null,null,null,null,null,null,null,null,null,null,null,null,null,null,null,null,null,null,null,null,null,null,null,null,null,null,null,null,null,null,null,null,null,null,null,null,null,null,null,null,null,null,null,null,null,null,null,null,null,null,null,null,null,null,null,null,null,null,null,null,null,null,null,null,null,{"$f":"IFERROR(VLOOKUP(ROWS($CF$3:CF1852),$CH$3:$CI$2001,2,FALSE),\"\")","v":""}]
[null,null,{"$f":"IF(B1856=\"\",\"\",SUMIF('الرصيد الثابت'!$D$2:$D$115,B1856,'الرصيد الثابت'!$H$2:$H$115))","v":""},{"$f":"IF(B1856=\"\",\"\",SUMIF('الرصيد الثابت'!$D$2:$D$115,B1856,'الرصيد الثابت'!$I$2:$I$115))","v":""},{"$f":"IF(B1856=\"\",\"\",SUMIF('الرصيد الثابت'!$D$2:$D$115,B1856,'الرصيد الثابت'!$J$2:$J$115))","v":""},null,0,null,null,null,null,0,null,null,null,0,null,0,null,null,null,null,null,null,null,null,null,null,null,null,null,null,null,null,null,null,null,null,null,null,null,null,null,null,null,null,null,null,null,null,null,null,null,null,null,null,null,null,null,null,null,null,null,null,null,null,null,null,null,null,null,null,null,null,null,null,null,null,null,null,null,null,null,{"$f":"IFERROR(VLOOKUP(ROWS($CF$3:CF1856),$CH$3:$CI$2001,2,FALSE),\"\")","v":""}]
[null,null,{"$f":"IF(B1857=\"\",\"\",SUMIF('الرصيد الثابت'!$D$2:$D$115,B1857,'الرصيد الثابت'!$H$2:$H$115))","v":""},{"$f":"IF(B1857=\"\",\"\",SUMIF('الرصيد الثابت'!$D$2:$D$115,B1857,'الرصيد الثابت'!$I$2:$I$115))","v":""},{"$f":"IF(B1857=\"\",\"\",SUMIF('الرصيد الثابت'!$D$2:$D$115,B1857,'الرصيد الثابت'!$J$2:$J$115))","v":""},null,0,null,null,null,null,0,null,null,null,0,null,0,null,null,null,null,null,null,null,null,null,null,null,null,null,null,null,null,null,null,null,null,null,null,null,null,null,null,null,null,null,null,null,null,null,null,null,null,null,null,null,null,null,null,null,null,null,null,null,null,null,null,null,null,null,null,null,null,null,null,null,null,null,null,null,null,null,{"$f":"IFERROR(VLOOKUP(ROWS($CF$3:CF1857),$CH$3:$CI$2001,2,FALSE),\"\")","v":""}]
[null,null,{"$f":"IF(B1860=\"\",\"\",SUMIF('الرصيد الثابت'!$D$2:$D$115,B1860,'الرصيد الثابت'!$H$2:$H$115))","v":""},{"$f":"IF(B1860=\"\",\"\",SUMIF('الرصيد الثابت'!$D$2:$D$115,B1860,'الرصيد الثابت'!$I$2:$I$115))","v":""},{"$f":"IF(B1860=\"\",\"\",SUMIF('الرصيد الثابت'!$D$2:$D$115,B1860,'الرصيد الثابت'!$J$2:$J$115))","v":""},null,{"$f":"SUM(H1860*F1860)","v":0},null,null,null,null,0,null,null,null,0,null,0,null,null,null,null,null,null,null,null,null,null,null,null,null,null,null,null,null,null,null,null,null,null,null,null,null,null,null,null,null,null,null,null,null,null,null,null,null,null,null,null,null,null,null,null,null,null,null,null,null,null,null,null,null,null,null,null,null,null,null,null,null,null,null,null,null,{"$f":"IFERROR(VLOOKUP(ROWS($CF$3:CF1860),$CH$3:$CI$2001,2,FALSE),\"\")","v":""}]
[null,null,{"$f":"IF(B1863=\"\",\"\",SUMIF('الرصيد الثابت'!$D$2:$D$115,B1863,'الرصيد الثابت'!$H$2:$H$115))","v":""},{"$f":"IF(B1863=\"\",\"\",SUMIF('الرصيد الثابت'!$D$2:$D$115,B1863,'الرصيد الثابت'!$I$2:$I$115))","v":""},{"$f":"IF(B1863=\"\",\"\",SUMIF('الرصيد الثابت'!$D$2:$D$115,B1863,'الرصيد الثابت'!$J$2:$J$115))","v":""},null,0,null,null,null,null,0,null,null,null,0,null,{"$f":"SUM(S1863*Q1863)","v":0},null,null,null,null,null,null,null,null,null,null,null,null,null,null,null,null,null,null,null,null,null,null,null,null,null,null,null,null,null,null,null,null,null,null,null,null,null,null,null,null,null,null,null,null,null,null,null,null,null,null,null,null,null,null,null,null,null,null,null,null,null,null,null,null,null,{"$f":"IFERROR(VLOOKUP(ROWS($CF$3:CF1863),$CH$3:$CI$2001,2,FALSE),\"\")","v":""}]
[null,null,{"$f":"IF(B1866=\"\",\"\",SUMIF('الرصيد الثابت'!$D$2:$D$115,B1866,'الرصيد الثابت'!$H$2:$H$115))","v":""},{"$f":"IF(B1866=\"\",\"\",SUMIF('الرصيد الثابت'!$D$2:$D$115,B1866,'الرصيد الثابت'!$I$2:$I$115))","v":""},{"$f":"IF(B1866=\"\",\"\",SUMIF('الرصيد الثابت'!$D$2:$D$115,B1866,'الرصيد الثابت'!$J$2:$J$115))","v":""},null,0,null,null,null,null,0,null,null,null,0,null,0,null,null,null,null,null,null,null,null,null,null,null,null,null,null,null,null,null,null,null,null,null,null,null,null,null,null,null,null,null,null,null,null,null,null,null,null,null,null,null,null,null,null,null,null,null,null,null,null,null,null,null,null,null,null,null,null,null,null,null,null,null,null,null,null,null,{"$f":"IFERROR(VLOOKUP(ROWS($CF$3:CF1866),$CH$3:$CI$2001,2,FALSE),\"\")","v":""}]
[null,null,{"$f":"IF(B1869=\"\",\"\",SUMIF('الرصيد الثابت'!$D$2:$D$115,B1869,'الرصيد الثابت'!$H$2:$H$115))","v":""},{"$f":"IF(B1869=\"\",\"\",SUMIF('الرصيد الثابت'!$D$2:$D$115,B1869,'الرصيد الثابت'!$I$2:$I$115))","v":""},{"$f":"IF(B1869=\"\",\"\",SUMIF('الرصيد الثابت'!$D$2:$D$115,B1869,'الرصيد الثابت'!$J$2:$J$115))","v":""},null,0,null,null,null,null,0,null,null,null,0,null,0,null,null,null,null,null,null,null,null,null,null,null,null,null,null,null,null,null,null,null,null,null,null,null,null,null,null,null,null,null,null,null,null,null,null,null,null,null,null,null,null,null,null,null,null,null,null,null,null,null,null,null,null,null,null,null,null,null,null,null,null,null,null,null,null,null,{"$f":"IFERROR(VLOOKUP(ROWS($CF$3:CF1869),$CH$3:$CI$2001,2,FALSE),\"\")","v":""}]
[null,null,{"$f":"IF(B1873=\"\",\"\",SUMIF('الرصيد الثابت'!$D$2:$D$115,B1873,'الرصيد الثابت'!$H$2:$H$115))","v":""},{"$f":"IF(B1873=\"\",\"\",SUMIF('الرصيد الثابت'!$D$2:$D$115,B1873,'الرصيد الثابت'!$I$2:$I$115))","v":""},{"$f":"IF(B1873=\"\",\"\",SUMIF('الرصيد الثابت'!$D$2:$D$115,B1873,'الرصيد الثابت'!$J$2:$J$115))","v":""},null,0,null,null,null,null,0,null,null,null,0,null,0,null,null,null,null,null,null,null,null,null,null,null,null,null,null,null,null,null,null,null,null,null,null,null,null,null,null,null,null,null,null,null,null,null,null,null,null,null,null,null,null,null,null,null,null,null,null,null,null,null,null,null,null,null,null,null,null,null,null,null,null,null,null,null,null,null,{"$f":"IFERROR(VLOOKUP(ROWS($CF$3:CF1873),$CH$3:$CI$2001,2,FALSE),\"\")","v":""}]
[null,null,{"$f":"IF(B1876=\"\",\"\",SUMIF('الرصيد الثابت'!$D$2:$D$115,B1876,'الرصيد الثابت'!$H$2:$H$115))","v":""},{"$f":"IF(B1876=\"\",\"\",SUMIF('الرصيد الثابت'!$D$2:$D$115,B1876,'الرصيد الثابت'!$I$2:$I$115))","v":""},{"$f":"IF(B1876=\"\",\"\",SUMIF('الرصيد الثابت'!$D$2:$D$115,B1876,'الرصيد الثابت'!$J$2:$J$115))","v":""},null,0,null,null,null,null,0,null,null,null,0,null,0,null,null,null,null,null,null,null,null,null,null,null,null,null,null,null,null,null,null,null,null,null,null,null,null,null,null,null,null,null,null,null,null,null,null,null,null,null,null,null,null,null,null,null,null,null,null,null,null,null,null,null,null,null,null,null,null,null,null,null,null,null,null,null,null,null,{"$f":"IFERROR(VLOOKUP(ROWS($CF$3:CF1876),$CH$3:$CI$2001,2,FALSE),\"\")","v":""}]
[null,null,{"$f":"IF(B1877=\"\",\"\",SUMIF('الرصيد الثابت'!$D$2:$D$115,B1877,'الرصيد الثابت'!$H$2:$H$115))","v":""},{"$f":"IF(B1877=\"\",\"\",SUMIF('الرصيد الثابت'!$D$2:$D$115,B1877,'الرصيد الثابت'!$I$2:$I$115))","v":""},{"$f":"IF(B1877=\"\",\"\",SUMIF('الرصيد الثابت'!$D$2:$D$115,B1877,'الرصيد الثابت'!$J$2:$J$115))","v":""},null,0,null,null,null,null,0,null,null,null,0,null,0,null,null,null,null,null,null,null,null,null,null,null,null,null,null,null,null,null,null,null,null,null,null,null,null,null,null,null,null,null,null,null,null,null,null,null,null,null,null,null,null,null,null,null,null,null,null,null,null,null,null,null,null,null,null,null,null,null,null,null,null,null,null,null,null,null,{"$f":"IFERROR(VLOOKUP(ROWS($CF$3:CF1877),$CH$3:$CI$2001,2,FALSE),\"\")","v":""}]
[null,null,{"$f":"IF(B1878=\"\",\"\",SUMIF('الرصيد الثابت'!$D$2:$D$115,B1878,'الرصيد الثابت'!$H$2:$H$115))","v":""},{"$f":"IF(B1878=\"\",\"\",SUMIF('الرصيد الثابت'!$D$2:$D$115,B1878,'الرصيد الثابت'!$I$2:$I$115))","v":""},{"$f":"IF(B1878=\"\",\"\",SUMIF('الرصيد الثابت'!$D$2:$D$115,B1878,'الرصيد الثابت'!$J$2:$J$115))","v":""},null,0,null,null,null,null,0,null,null,null,0,null,0,null,null,null,null,null,null,null,null,null,null,null,null,null,null,null,null,null,null,null,null,null,null,null,null,null,null,null,null,null,null,null,null,null,null,null,null,null,null,null,null,null,null,null,null,null,null,null,null,null,null,null,null,null,null,null,null,null,null,null,null,null,null,null,null,null,{"$f":"IFERROR(VLOOKUP(ROWS($CF$3:CF1878),$CH$3:$CI$2001,2,FALSE),\"\")","v":""}]
[null,null,{"$f":"IF(B1879=\"\",\"\",SUMIF('الرصيد الثابت'!$D$2:$D$115,B1879,'الرصيد الثابت'!$H$2:$H$115))","v":""},{"$f":"IF(B1879=\"\",\"\",SUMIF('الرصيد الثابت'!$D$2:$D$115,B1879,'الرصيد الثابت'!$I$2:$I$115))","v":""},{"$f":"IF(B1879=\"\",\"\",SUMIF('الرصيد الثابت'!$D$2:$D$115,B1879,'الرصيد الثابت'!$J$2:$J$115))","v":""},null,0,null,null,null,null,0,null,null,null,0,null,0,null,null,null,null,null,null,null,null,null,null,null,null,null,null,null,null,null,null,null,null,null,null,null,null,null,null,null,null,null,null,null,null,null,null,null,null,null,null,null,null,null,null,null,null,null,null,null,null,null,null,null,null,null,null,null,null,null,null,null,null,null,null,null,null,null,{"$f":"IFERROR(VLOOKUP(ROWS($CF$3:CF1879),$CH$3:$CI$2001,2,FALSE),\"\")","v":""}]
[null,null,{"$f":"IF(B1880=\"\",\"\",SUMIF('الرصيد الثابت'!$D$2:$D$115,B1880,'الرصيد الثابت'!$H$2:$H$115))","v":""},{"$f":"IF(B1880=\"\",\"\",SUMIF('الرصيد الثابت'!$D$2:$D$115,B1880,'الرصيد الثابت'!$I$2:$I$115))","v":""},{"$f":"IF(B1880=\"\",\"\",SUMIF('الرصيد الثابت'!$D$2:$D$115,B1880,'الرصيد الثابت'!$J$2:$J$115))","v":""},null,0,null,null,null,null,0,null,null,null,0,null,0,null,null,null,null,null,null,null,null,null,null,null,null,null,null,null,null,null,null,null,null,null,null,null,null,null,null,null,null,null,null,null,null,null,null,null,null,null,null,null,null,null,null,null,null,null,null,null,null,null,null,null,null,null,null,null,null,null,null,null,null,null,null,null,null,null,{"$f":"IFERROR(VLOOKUP(ROWS($CF$3:CF1880),$CH$3:$CI$2001,2,FALSE),\"\")","v":""}]
[null,null,{"$f":"IF(B1881=\"\",\"\",SUMIF('الرصيد الثابت'!$D$2:$D$115,B1881,'الرصيد الثابت'!$H$2:$H$115))","v":""},{"$f":"IF(B1881=\"\",\"\",SUMIF('الرصيد الثابت'!$D$2:$D$115,B1881,'الرصيد الثابت'!$I$2:$I$115))","v":""},{"$f":"IF(B1881=\"\",\"\",SUMIF('الرصيد الثابت'!$D$2:$D$115,B1881,'الرصيد الثابت'!$J$2:$J$115))","v":""},null,0,null,null,null,null,0,null,null,null,0,null,0,null,null,null,null,null,null,null,null,null,null,null,null,null,null,null,null,null,null,null,null,null,null,null,null,null,null,null,null,null,null,null,null,null,null,null,null,null,null,null,null,null,null,null,null,null,null,null,null,null,null,null,null,null,null,null,null,null,null,null,null,null,null,null,null,null,{"$f":"IFERROR(VLOOKUP(ROWS($CF$3:CF1881),$CH$3:$CI$2001,2,FALSE),\"\")","v":""}]
[null,null,{"$f":"IF(B1882=\"\",\"\",SUMIF('الرصيد الثابت'!$D$2:$D$115,B1882,'الرصيد الثابت'!$H$2:$H$115))","v":""},{"$f":"IF(B1882=\"\",\"\",SUMIF('الرصيد الثابت'!$D$2:$D$115,B1882,'الرصيد الثابت'!$I$2:$I$115))","v":""},{"$f":"IF(B1882=\"\",\"\",SUMIF('الرصيد الثابت'!$D$2:$D$115,B1882,'الرصيد الثابت'!$J$2:$J$115))","v":""},null,0,null,null,null,null,0,null,null,null,0,null,0,null,null,null,null,null,null,null,null,null,null,null,null,null,null,null,null,null,null,null,null,null,null,null,null,null,null,null,null,null,null,null,null,null,null,null,null,null,null,null,null,null,null,null,null,null,null,null,null,null,null,null,null,null,null,null,null,null,null,null,null,null,null,null,null,null,{"$f":"IFERROR(VLOOKUP(ROWS($CF$3:CF1882),$CH$3:$CI$2001,2,FALSE),\"\")","v":""}]
[null,null,{"$f":"IF(B1883=\"\",\"\",SUMIF('الرصيد الثابت'!$D$2:$D$115,B1883,'الرصيد الثابت'!$H$2:$H$115))","v":""},{"$f":"IF(B1883=\"\",\"\",SUMIF('الرصيد الثابت'!$D$2:$D$115,B1883,'الرصيد الثابت'!$I$2:$I$115))","v":""},{"$f":"IF(B1883=\"\",\"\",SUMIF('الرصيد الثابت'!$D$2:$D$115,B1883,'الرصيد الثابت'!$J$2:$J$115))","v":""},null,0,null,null,null,null,0,null,null,null,0,null,0,null,null,null,null,null,null,null,null,null,null,null,null,null,null,null,null,null,null,null,null,null,null,null,null,null,null,null,null,null,null,null,null,null,null,null,null,null,null,null,null,null,null,null,null,null,null,null,null,null,null,null,null,null,null,null,null,null,null,null,null,null,null,null,null,null,{"$f":"IFERROR(VLOOKUP(ROWS($CF$3:CF1883),$CH$3:$CI$2001,2,FALSE),\"\")","v":""}]
[null,null,{"$f":"IF(B1884=\"\",\"\",SUMIF('الرصيد الثابت'!$D$2:$D$115,B1884,'الرصيد الثابت'!$H$2:$H$115))","v":""},{"$f":"IF(B1884=\"\",\"\",SUMIF('الرصيد الثابت'!$D$2:$D$115,B1884,'الرصيد الثابت'!$I$2:$I$115))","v":""},{"$f":"IF(B1884=\"\",\"\",SUMIF('الرصيد الثابت'!$D$2:$D$115,B1884,'الرصيد الثابت'!$J$2:$J$115))","v":""},null,0,null,null,null,null,0,null,null,null,0,null,0,null,null,null,null,null,null,null,null,null,null,null,null,null,null,null,null,null,null,null,null,null,null,null,null,null,null,null,null,null,null,null,null,null,null,null,null,null,null,null,null,null,null,null,null,null,null,null,null,null,null,null,null,null,null,null,null,null,null,null,null,null,null,null,null,null,{"$f":"IFERROR(VLOOKUP(ROWS($CF$3:CF1884),$CH$3:$CI$2001,2,FALSE),\"\")","v":""}]
[null,null,{"$f":"IF(B1885=\"\",\"\",SUMIF('الرصيد الثابت'!$D$2:$D$115,B1885,'الرصيد الثابت'!$H$2:$H$115))","v":""},{"$f":"IF(B1885=\"\",\"\",SUMIF('الرصيد الثابت'!$D$2:$D$115,B1885,'الرصيد الثابت'!$I$2:$I$115))","v":""},{"$f":"IF(B1885=\"\",\"\",SUMIF('الرصيد الثابت'!$D$2:$D$115,B1885,'الرصيد الثابت'!$J$2:$J$115))","v":""},null,0,null,null,null,null,0,null,null,null,0,null,0,null,null,null,null,null,null,null,null,null,null,null,null,null,null,null,null,null,null,null,null,null,null,null,null,null,null,null,null,null,null,null,null,null,null,null,null,null,null,null,null,null,null,null,null,null,null,null,null,null,null,null,null,null,null,null,null,null,null,null,null,null,null,null,null,null,{"$f":"IFERROR(VLOOKUP(ROWS($CF$3:CF1885),$CH$3:$CI$2001,2,FALSE),\"\")","v":""}]
[null,null,{"$f":"IF(B1886=\"\",\"\",SUMIF('الرصيد الثابت'!$D$2:$D$115,B1886,'الرصيد الثابت'!$H$2:$H$115))","v":""},{"$f":"IF(B1886=\"\",\"\",SUMIF('الرصيد الثابت'!$D$2:$D$115,B1886,'الرصيد الثابت'!$I$2:$I$115))","v":""},{"$f":"IF(B1886=\"\",\"\",SUMIF('الرصيد الثابت'!$D$2:$D$115,B1886,'الرصيد الثابت'!$J$2:$J$115))","v":""},null,0,null,null,null,null,0,null,null,null,0,null,0,null,null,null,null,null,null,null,null,null,null,null,null,null,null,null,null,null,null,null,null,null,null,null,null,null,null,null,null,null,null,null,null,null,null,null,null,null,null,null,null,null,null,null,null,null,null,null,null,null,null,null,null,null,null,null,null,null,null,null,null,null,null,null,null,null,{"$f":"IFERROR(VLOOKUP(ROWS($CF$3:CF1886),$CH$3:$CI$2001,2,FALSE),\"\")","v":""}]
[null,null,{"$f":"IF(B1887=\"\",\"\",SUMIF('الرصيد الثابت'!$D$2:$D$115,B1887,'الرصيد الثابت'!$H$2:$H$115))","v":""},{"$f":"IF(B1887=\"\",\"\",SUMIF('الرصيد الثابت'!$D$2:$D$115,B1887,'الرصيد الثابت'!$I$2:$I$115))","v":""},{"$f":"IF(B1887=\"\",\"\",SUMIF('الرصيد الثابت'!$D$2:$D$115,B1887,'الرصيد الثابت'!$J$2:$J$115))","v":""},null,0,null,null,null,null,0,null,null,null,0,null,0,null,null,null,null,null,null,null,null,null,null,null,null,null,null,null,null,null,null,null,null,null,null,null,null,null,null,null,null,null,null,null,null,null,null,null,null,null,null,null,null,null,null,null,null,null,null,null,null,null,null,null,null,null,null,null,null,null,null,null,null,null,null,null,null,null,{"$f":"IFERROR(VLOOKUP(ROWS($CF$3:CF1887),$CH$3:$CI$2001,2,FALSE),\"\")","v":""}]
[null,null,{"$f":"IF(B1888=\"\",\"\",SUMIF('الرصيد الثابت'!$D$2:$D$115,B1888,'الرصيد الثابت'!$H$2:$H$115))","v":""},{"$f":"IF(B1888=\"\",\"\",SUMIF('الرصيد الثابت'!$D$2:$D$115,B1888,'الرصيد الثابت'!$I$2:$I$115))","v":""},{"$f":"IF(B1888=\"\",\"\",SUMIF('الرصيد الثابت'!$D$2:$D$115,B1888,'الرصيد الثابت'!$J$2:$J$115))","v":""},null,0,null,null,null,null,0,null,null,null,{"$f":"SUM(F1888-K1888)","v":0},null,0,null,null,null,null,null,null,null,null,null,null,null,null,null,null,null,null,null,null,null,null,null,null,null,null,null,null,null,null,null,null,null,null,null,null,null,null,null,null,null,null,null,null,null,null,null,null,null,null,null,null,null,null,null,null,null,null,null,null,null,null,null,null,null,null,null,{"$f":"IFERROR(VLOOKUP(ROWS($CF$3:CF1888),$CH$3:$CI$2001,2,FALSE),\"\")","v":""}]
[null,null,{"$f":"IF(B1889=\"\",\"\",SUMIF('الرصيد الثابت'!$D$2:$D$115,B1889,'الرصيد الثابت'!$H$2:$H$115))","v":""},{"$f":"IF(B1889=\"\",\"\",SUMIF('الرصيد الثابت'!$D$2:$D$115,B1889,'الرصيد الثابت'!$I$2:$I$115))","v":""},{"$f":"IF(B1889=\"\",\"\",SUMIF('الرصيد الثابت'!$D$2:$D$115,B1889,'الرصيد الثابت'!$J$2:$J$115))","v":""},null,0,null,null,null,null,0,null,null,null,0,null,0,null,null,null,null,null,null,null,null,null,null,null,null,null,null,null,null,null,null,null,null,null,null,null,null,null,null,null,null,null,null,null,null,null,null,null,null,null,null,null,null,null,null,null,null,null,null,null,null,null,null,null,null,null,null,null,null,null,null,null,null,null,null,null,null,null,{"$f":"IFERROR(VLOOKUP(ROWS($CF$3:CF1889),$CH$3:$CI$2001,2,FALSE),\"\")","v":""}]
[null,null,{"$f":"IF(B1890=\"\",\"\",SUMIF('الرصيد الثابت'!$D$2:$D$115,B1890,'الرصيد الثابت'!$H$2:$H$115))","v":""},{"$f":"IF(B1890=\"\",\"\",SUMIF('الرصيد الثابت'!$D$2:$D$115,B1890,'الرصيد الثابت'!$I$2:$I$115))","v":""},{"$f":"IF(B1890=\"\",\"\",SUMIF('الرصيد الثابت'!$D$2:$D$115,B1890,'الرصيد الثابت'!$J$2:$J$115))","v":""},null,0,null,null,null,null,0,null,null,null,0,null,0,null,null,null,null,null,null,null,null,null,null,null,null,null,null,null,null,null,null,null,null,null,null,null,null,null,null,null,null,null,null,null,null,null,null,null,null,null,null,null,null,null,null,null,null,null,null,null,null,null,null,null,null,null,null,null,null,null,null,null,null,null,null,null,null,null,{"$f":"IFERROR(VLOOKUP(ROWS($CF$3:CF1890),$CH$3:$CI$2001,2,FALSE),\"\")","v":""}]
[null,null,{"$f":"IF(B1891=\"\",\"\",SUMIF('الرصيد الثابت'!$D$2:$D$115,B1891,'الرصيد الثابت'!$H$2:$H$115))","v":""},{"$f":"IF(B1891=\"\",\"\",SUMIF('الرصيد الثابت'!$D$2:$D$115,B1891,'الرصيد الثابت'!$I$2:$I$115))","v":""},{"$f":"IF(B1891=\"\",\"\",SUMIF('الرصيد الثابت'!$D$2:$D$115,B1891,'الرصيد الثابت'!$J$2:$J$115))","v":""},null,0,null,null,null,null,0,null,null,null,0,null,0,null,null,null,null,null,null,null,null,null,null,null,null,null,null,null,null,null,null,null,null,null,null,null,null,null,null,null,null,null,null,null,null,null,null,null,null,null,null,null,null,null,null,null,null,null,null,null,null,null,null,null,null,null,null,null,null,null,null,null,null,null,null,null,null,null,{"$f":"IFERROR(VLOOKUP(ROWS($CF$3:CF1891),$CH$3:$CI$2001,2,FALSE),\"\")","v":""}]
[null,null,{"$f":"IF(B1892=\"\",\"\",SUMIF('الرصيد الثابت'!$D$2:$D$115,B1892,'الرصيد الثابت'!$H$2:$H$115))","v":""},{"$f":"IF(B1892=\"\",\"\",SUMIF('الرصيد الثابت'!$D$2:$D$115,B1892,'الرصيد الثابت'!$I$2:$I$115))","v":""},{"$f":"IF(B1892=\"\",\"\",SUMIF('الرصيد الثابت'!$D$2:$D$115,B1892,'الرصيد الثابت'!$J$2:$J$115))","v":""},null,0,null,null,null,null,0,null,null,null,0,null,0,null,null,null,null,null,null,null,null,null,null,null,null,null,null,null,null,null,null,null,null,null,null,null,null,null,null,null,null,null,null,null,null,null,null,null,null,null,null,null,null,null,null,null,null,null,null,null,null,null,null,null,null,null,null,null,null,null,null,null,null,null,null,null,null,null,{"$f":"IFERROR(VLOOKUP(ROWS($CF$3:CF1892),$CH$3:$CI$2001,2,FALSE),\"\")","v":""}]
[null,null,{"$f":"IF(B1893=\"\",\"\",SUMIF('الرصيد الثابت'!$D$2:$D$115,B1893,'الرصيد الثابت'!$H$2:$H$115))","v":""},{"$f":"IF(B1893=\"\",\"\",SUMIF('الرصيد الثابت'!$D$2:$D$115,B1893,'الرصيد الثابت'!$I$2:$I$115))","v":""},{"$f":"IF(B1893=\"\",\"\",SUMIF('الرصيد الثابت'!$D$2:$D$115,B1893,'الرصيد الثابت'!$J$2:$J$115))","v":""},null,0,null,null,null,null,0,null,null,null,0,null,0,null,null,null,null,null,null,null,null,null,null,null,null,null,null,null,null,null,null,null,null,null,null,null,null,null,null,null,null,null,null,null,null,null,null,null,null,null,null,null,null,null,null,null,null,null,null,null,null,null,null,null,null,null,null,null,null,null,null,null,null,null,null,null,null,null,{"$f":"IFERROR(VLOOKUP(ROWS($CF$3:CF1893),$CH$3:$CI$2001,2,FALSE),\"\")","v":""}]
[null,null,{"$f":"IF(B1894=\"\",\"\",SUMIF('الرصيد الثابت'!$D$2:$D$115,B1894,'الرصيد الثابت'!$H$2:$H$115))","v":""},{"$f":"IF(B1894=\"\",\"\",SUMIF('الرصيد الثابت'!$D$2:$D$115,B1894,'الرصيد الثابت'!$I$2:$I$115))","v":""},{"$f":"IF(B1894=\"\",\"\",SUMIF('الرصيد الثابت'!$D$2:$D$115,B1894,'الرصيد الثابت'!$J$2:$J$115))","v":""},null,0,null,null,null,null,0,null,null,null,0,null,0,null,null,null,null,null,null,null,null,null,null,null,null,null,null,null,null,null,null,null,null,null,null,null,null,null,null,null,null,null,null,null,null,null,null,null,null,null,null,null,null,null,null,null,null,null,null,null,null,null,null,null,null,null,null,null,null,null,null,null,null,null,null,null,null,null,{"$f":"IFERROR(VLOOKUP(ROWS($CF$3:CF1894),$CH$3:$CI$2001,2,FALSE),\"\")","v":""}]
[null,null,{"$f":"IF(B1895=\"\",\"\",SUMIF('الرصيد الثابت'!$D$2:$D$115,B1895,'الرصيد الثابت'!$H$2:$H$115))","v":""},{"$f":"IF(B1895=\"\",\"\",SUMIF('الرصيد الثابت'!$D$2:$D$115,B1895,'الرصيد الثابت'!$I$2:$I$115))","v":""},{"$f":"IF(B1895=\"\",\"\",SUMIF('الرصيد الثابت'!$D$2:$D$115,B1895,'الرصيد الثابت'!$J$2:$J$115))","v":""},null,0,null,null,null,null,0,null,null,null,0,null,0,null,null,null,null,null,null,null,null,null,null,null,null,null,null,null,null,null,null,null,null,null,null,null,null,null,null,null,null,null,null,null,null,null,null,null,null,null,null,null,null,null,null,null,null,null,null,null,null,null,null,null,null,null,null,null,null,null,null,null,null,null,null,null,null,null,{"$f":"IFERROR(VLOOKUP(ROWS($CF$3:CF1895),$CH$3:$CI$2001,2,FALSE),\"\")","v":""}]
[null,null,{"$f":"IF(B1896=\"\",\"\",SUMIF('الرصيد الثابت'!$D$2:$D$115,B1896,'الرصيد الثابت'!$H$2:$H$115))","v":""},{"$f":"IF(B1896=\"\",\"\",SUMIF('الرصيد الثابت'!$D$2:$D$115,B1896,'الرصيد الثابت'!$I$2:$I$115))","v":""},{"$f":"IF(B1896=\"\",\"\",SUMIF('الرصيد الثابت'!$D$2:$D$115,B1896,'الرصيد الثابت'!$J$2:$J$115))","v":""},null,0,null,null,null,null,0,null,null,null,0,null,0,null,null,null,null,null,null,null,null,null,null,null,null,null,null,null,null,null,null,null,null,null,null,null,null,null,null,null,null,null,null,null,null,null,null,null,null,null,null,null,null,null,null,null,null,null,null,null,null,null,null,null,null,null,null,null,null,null,null,null,null,null,null,null,null,null,{"$f":"IFERROR(VLOOKUP(ROWS($CF$3:CF1896),$CH$3:$CI$2001,2,FALSE),\"\")","v":""}]
[null,null,{"$f":"IF(B1897=\"\",\"\",SUMIF('الرصيد الثابت'!$D$2:$D$115,B1897,'الرصيد الثابت'!$H$2:$H$115))","v":""},{"$f":"IF(B1897=\"\",\"\",SUMIF('الرصيد الثابت'!$D$2:$D$115,B1897,'الرصيد الثابت'!$I$2:$I$115))","v":""},{"$f":"IF(B1897=\"\",\"\",SUMIF('الرصيد الثابت'!$D$2:$D$115,B1897,'الرصيد الثابت'!$J$2:$J$115))","v":""},null,0,null,null,null,null,0,null,null,null,0,null,0,null,null,null,null,null,null,null,null,null,null,null,null,null,null,null,null,null,null,null,null,null,null,null,null,null,null,null,null,null,null,null,null,null,null,null,null,null,null,null,null,null,null,null,null,null,null,null,null,null,null,null,null,null,null,null,null,null,null,null,null,null,null,null,null,null,{"$f":"IFERROR(VLOOKUP(ROWS($CF$3:CF1897),$CH$3:$CI$2001,2,FALSE),\"\")","v":""}]
[null,null,{"$f":"IF(B1898=\"\",\"\",SUMIF('الرصيد الثابت'!$D$2:$D$115,B1898,'الرصيد الثابت'!$H$2:$H$115))","v":""},{"$f":"IF(B1898=\"\",\"\",SUMIF('الرصيد الثابت'!$D$2:$D$115,B1898,'الرصيد الثابت'!$I$2:$I$115))","v":""},{"$f":"IF(B1898=\"\",\"\",SUMIF('الرصيد الثابت'!$D$2:$D$115,B1898,'الرصيد الثابت'!$J$2:$J$115))","v":""},null,0,null,null,null,null,0,null,null,null,0,null,0,null,null,null,null,null,null,null,null,null,null,null,null,null,null,null,null,null,null,null,null,null,null,null,null,null,null,null,null,null,null,null,null,null,null,null,null,null,null,null,null,null,null,null,null,null,null,null,null,null,null,null,null,null,null,null,null,null,null,null,null,null,null,null,null,null,{"$f":"IFERROR(VLOOKUP(ROWS($CF$3:CF1898),$CH$3:$CI$2001,2,FALSE),\"\")","v":""}]
[null,null,{"$f":"IF(B1899=\"\",\"\",SUMIF('الرصيد الثابت'!$D$2:$D$115,B1899,'الرصيد الثابت'!$H$2:$H$115))","v":""},{"$f":"IF(B1899=\"\",\"\",SUMIF('الرصيد الثابت'!$D$2:$D$115,B1899,'الرصيد الثابت'!$I$2:$I$115))","v":""},{"$f":"IF(B1899=\"\",\"\",SUMIF('الرصيد الثابت'!$D$2:$D$115,B1899,'الرصيد الثابت'!$J$2:$J$115))","v":""},null,0,null,null,null,null,0,null,null,null,0,null,0,null,null,null,null,null,null,null,null,null,null,null,null,null,null,null,null,null,null,null,null,null,null,null,null,null,null,null,null,null,null,null,null,null,null,null,null,null,null,null,null,null,null,null,null,null,null,null,null,null,null,null,null,null,null,null,null,null,null,null,null,null,null,null,null,null,{"$f":"IFERROR(VLOOKUP(ROWS($CF$3:CF1899),$CH$3:$CI$2001,2,FALSE),\"\")","v":""}]
[null,null,{"$f":"IF(B1900=\"\",\"\",SUMIF('الرصيد الثابت'!$D$2:$D$115,B1900,'الرصيد الثابت'!$H$2:$H$115))","v":""},{"$f":"IF(B1900=\"\",\"\",SUMIF('الرصيد الثابت'!$D$2:$D$115,B1900,'الرصيد الثابت'!$I$2:$I$115))","v":""},{"$f":"IF(B1900=\"\",\"\",SUMIF('الرصيد الثابت'!$D$2:$D$115,B1900,'الرصيد الثابت'!$J$2:$J$115))","v":""},null,0,null,null,null,null,0,null,null,null,0,null,0,null,null,null,null,null,null,null,null,null,null,null,null,null,null,null,null,null,null,null,null,null,null,null,null,null,null,null,null,null,null,null,null,null,null,null,null,null,null,null,null,null,null,null,null,null,null,null,null,null,null,null,null,null,null,null,null,null,null,null,null,null,null,null,null,null,{"$f":"IFERROR(VLOOKUP(ROWS($CF$3:CF1900),$CH$3:$CI$2001,2,FALSE),\"\")","v":""}]
[null,null,{"$f":"IF(B1901=\"\",\"\",SUMIF('الرصيد الثابت'!$D$2:$D$115,B1901,'الرصيد الثابت'!$H$2:$H$115))","v":""},{"$f":"IF(B1901=\"\",\"\",SUMIF('الرصيد الثابت'!$D$2:$D$115,B1901,'الرصيد الثابت'!$I$2:$I$115))","v":""},{"$f":"IF(B1901=\"\",\"\",SUMIF('الرصيد الثابت'!$D$2:$D$115,B1901,'الرصيد الثابت'!$J$2:$J$115))","v":""},null,0,null,null,null,null,0,null,null,null,0,null,0,null,null,null,null,null,null,null,null,null,null,null,null,null,null,null,null,null,null,null,null,null,null,null,null,null,null,null,null,null,null,null,null,null,null,null,null,null,null,null,null,null,null,null,null,null,null,null,null,null,null,null,null,null,null,null,null,null,null,null,null,null,null,null,null,null,{"$f":"IFERROR(VLOOKUP(ROWS($CF$3:CF1901),$CH$3:$CI$2001,2,FALSE),\"\")","v":""}]
[null,null,{"$f":"IF(B1902=\"\",\"\",SUMIF('الرصيد الثابت'!$D$2:$D$115,B1902,'الرصيد الثابت'!$H$2:$H$115))","v":""},{"$f":"IF(B1902=\"\",\"\",SUMIF('الرصيد الثابت'!$D$2:$D$115,B1902,'الرصيد الثابت'!$I$2:$I$115))","v":""},{"$f":"IF(B1902=\"\",\"\",SUMIF('الرصيد الثابت'!$D$2:$D$115,B1902,'الرصيد الثابت'!$J$2:$J$115))","v":""},null,0,null,null,null,null,0,null,null,null,0,null,0,null,null,null,null,null,null,null,null,null,null,null,null,null,null,null,null,null,null,null,null,null,null,null,null,null,null,null,null,null,null,null,null,null,null,null,null,null,null,null,null,null,null,null,null,null,null,null,null,null,null,null,null,null,null,null,null,null,null,null,null,null,null,null,null,null,{"$f":"IFERROR(VLOOKUP(ROWS($CF$3:CF1902),$CH$3:$CI$2001,2,FALSE),\"\")","v":""}]
[null,null,{"$f":"IF(B1903=\"\",\"\",SUMIF('الرصيد الثابت'!$D$2:$D$115,B1903,'الرصيد الثابت'!$H$2:$H$115))","v":""},{"$f":"IF(B1903=\"\",\"\",SUMIF('الرصيد الثابت'!$D$2:$D$115,B1903,'الرصيد الثابت'!$I$2:$I$115))","v":""},{"$f":"IF(B1903=\"\",\"\",SUMIF('الرصيد الثابت'!$D$2:$D$115,B1903,'الرصيد الثابت'!$J$2:$J$115))","v":""},null,0,null,null,null,null,0,null,null,null,0,null,0,null,null,null,null,null,null,null,null,null,null,null,null,null,null,null,null,null,null,null,null,null,null,null,null,null,null,null,null,null,null,null,null,null,null,null,null,null,null,null,null,null,null,null,null,null,null,null,null,null,null,null,null,null,null,null,null,null,null,null,null,null,null,null,null,null,{"$f":"IFERROR(VLOOKUP(ROWS($CF$3:CF1903),$CH$3:$CI$2001,2,FALSE),\"\")","v":""}]
[null,null,{"$f":"IF(B1904=\"\",\"\",SUMIF('الرصيد الثابت'!$D$2:$D$115,B1904,'الرصيد الثابت'!$H$2:$H$115))","v":""},{"$f":"IF(B1904=\"\",\"\",SUMIF('الرصيد الثابت'!$D$2:$D$115,B1904,'الرصيد الثابت'!$I$2:$I$115))","v":""},{"$f":"IF(B1904=\"\",\"\",SUMIF('الرصيد الثابت'!$D$2:$D$115,B1904,'الرصيد الثابت'!$J$2:$J$115))","v":""},null,0,null,null,null,null,0,null,null,null,0,null,0,null,null,null,null,null,null,null,null,null,null,null,null,null,null,null,null,null,null,null,null,null,null,null,null,null,null,null,null,null,null,null,null,null,null,null,null,null,null,null,null,null,null,null,null,null,null,null,null,null,null,null,null,null,null,null,null,null,null,null,null,null,null,null,null,null,{"$f":"IFERROR(VLOOKUP(ROWS($CF$3:CF1904),$CH$3:$CI$2001,2,FALSE),\"\")","v":""}]
[null,null,{"$f":"IF(B1905=\"\",\"\",SUMIF('الرصيد الثابت'!$D$2:$D$115,B1905,'الرصيد الثابت'!$H$2:$H$115))","v":""},{"$f":"IF(B1905=\"\",\"\",SUMIF('الرصيد الثابت'!$D$2:$D$115,B1905,'الرصيد الثابت'!$I$2:$I$115))","v":""},{"$f":"IF(B1905=\"\",\"\",SUMIF('الرصيد الثابت'!$D$2:$D$115,B1905,'الرصيد الثابت'!$J$2:$J$115))","v":""},null,0,null,null,null,null,0,null,null,null,0,null,0,null,null,null,null,null,null,null,null,null,null,null,null,null,null,null,null,null,null,null,null,null,null,null,null,null,null,null,null,null,null,null,null,null,null,null,null,null,null,null,null,null,null,null,null,null,null,null,null,null,null,null,null,null,null,null,null,null,null,null,null,null,null,null,null,null,{"$f":"IFERROR(VLOOKUP(ROWS($CF$3:CF1905),$CH$3:$CI$2001,2,FALSE),\"\")","v":""}]
[null,null,{"$f":"IF(B1906=\"\",\"\",SUMIF('الرصيد الثابت'!$D$2:$D$115,B1906,'الرصيد الثابت'!$H$2:$H$115))","v":""},{"$f":"IF(B1906=\"\",\"\",SUMIF('الرصيد الثابت'!$D$2:$D$115,B1906,'الرصيد الثابت'!$I$2:$I$115))","v":""},{"$f":"IF(B1906=\"\",\"\",SUMIF('الرصيد الثابت'!$D$2:$D$115,B1906,'الرصيد الثابت'!$J$2:$J$115))","v":""},null,0,null,null,null,null,0,null,null,null,0,null,0,null,null,null,null,null,null,null,null,null,null,null,null,null,null,null,null,null,null,null,null,null,null,null,null,null,null,null,null,null,null,null,null,null,null,null,null,null,null,null,null,null,null,null,null,null,null,null,null,null,null,null,null,null,null,null,null,null,null,null,null,null,null,null,null,null,{"$f":"IFERROR(VLOOKUP(ROWS($CF$3:CF1906),$CH$3:$CI$2001,2,FALSE),\"\")","v":""}]
[null,null,{"$f":"IF(B1907=\"\",\"\",SUMIF('الرصيد الثابت'!$D$2:$D$115,B1907,'الرصيد الثابت'!$H$2:$H$115))","v":""},{"$f":"IF(B1907=\"\",\"\",SUMIF('الرصيد الثابت'!$D$2:$D$115,B1907,'الرصيد الثابت'!$I$2:$I$115))","v":""},{"$f":"IF(B1907=\"\",\"\",SUMIF('الرصيد الثابت'!$D$2:$D$115,B1907,'الرصيد الثابت'!$J$2:$J$115))","v":""},null,0,null,null,null,null,0,null,null,null,0,null,0,null,null,null,null,null,null,null,null,null,null,null,null,null,null,null,null,null,null,null,null,null,null,null,null,null,null,null,null,null,null,null,null,null,null,null,null,null,null,null,null,null,null,null,null,null,null,null,null,null,null,null,null,null,null,null,null,null,null,null,null,null,null,null,null,null,{"$f":"IFERROR(VLOOKUP(ROWS($CF$3:CF1907),$CH$3:$CI$2001,2,FALSE),\"\")","v":""}]
[null,null,{"$f":"IF(B1908=\"\",\"\",SUMIF('الرصيد الثابت'!$D$2:$D$115,B1908,'الرصيد الثابت'!$H$2:$H$115))","v":""},{"$f":"IF(B1908=\"\",\"\",SUMIF('الرصيد الثابت'!$D$2:$D$115,B1908,'الرصيد الثابت'!$I$2:$I$115))","v":""},{"$f":"IF(B1908=\"\",\"\",SUMIF('الرصيد الثابت'!$D$2:$D$115,B1908,'الرصيد الثابت'!$J$2:$J$115))","v":""},null,0,null,null,null,null,0,null,null,null,0,null,0,null,null,null,null,null,null,null,null,null,null,null,null,null,null,null,null,null,null,null,null,null,null,null,null,null,null,null,null,null,null,null,null,null,null,null,null,null,null,null,null,null,null,null,null,null,null,null,null,null,null,null,null,null,null,null,null,null,null,null,null,null,null,null,null,null,{"$f":"IFERROR(VLOOKUP(ROWS($CF$3:CF1908),$CH$3:$CI$2001,2,FALSE),\"\")","v":""}]
[null,null,{"$f":"IF(B1909=\"\",\"\",SUMIF('الرصيد الثابت'!$D$2:$D$115,B1909,'الرصيد الثابت'!$H$2:$H$115))","v":""},{"$f":"IF(B1909=\"\",\"\",SUMIF('الرصيد الثابت'!$D$2:$D$115,B1909,'الرصيد الثابت'!$I$2:$I$115))","v":""},{"$f":"IF(B1909=\"\",\"\",SUMIF('الرصيد الثابت'!$D$2:$D$115,B1909,'الرصيد الثابت'!$J$2:$J$115))","v":""},null,0,null,null,null,null,0,null,null,null,0,null,0,null,null,null,null,null,null,null,null,null,null,null,null,null,null,null,null,null,null,null,null,null,null,null,null,null,null,null,null,null,null,null,null,null,null,null,null,null,null,null,null,null,null,null,null,null,null,null,null,null,null,null,null,null,null,null,null,null,null,null,null,null,null,null,null,null,{"$f":"IFERROR(VLOOKUP(ROWS($CF$3:CF1909),$CH$3:$CI$2001,2,FALSE),\"\")","v":""}]
[null,null,{"$f":"IF(B1910=\"\",\"\",SUMIF('الرصيد الثابت'!$D$2:$D$115,B1910,'الرصيد الثابت'!$H$2:$H$115))","v":""},{"$f":"IF(B1910=\"\",\"\",SUMIF('الرصيد الثابت'!$D$2:$D$115,B1910,'الرصيد الثابت'!$I$2:$I$115))","v":""},{"$f":"IF(B1910=\"\",\"\",SUMIF('الرصيد الثابت'!$D$2:$D$115,B1910,'الرصيد الثابت'!$J$2:$J$115))","v":""},null,0,null,null,null,null,0,null,null,null,0,null,0,null,null,null,null,null,null,null,null,null,null,null,null,null,null,null,null,null,null,null,null,null,null,null,null,null,null,null,null,null,null,null,null,null,null,null,null,null,null,null,null,null,null,null,null,null,null,null,null,null,null,null,null,null,null,null,null,null,null,null,null,null,null,null,null,null,{"$f":"IFERROR(VLOOKUP(ROWS($CF$3:CF1910),$CH$3:$CI$2001,2,FALSE),\"\")","v":""}]
[null,null,{"$f":"IF(B1911=\"\",\"\",SUMIF('الرصيد الثابت'!$D$2:$D$115,B1911,'الرصيد الثابت'!$H$2:$H$115))","v":""},{"$f":"IF(B1911=\"\",\"\",SUMIF('الرصيد الثابت'!$D$2:$D$115,B1911,'الرصيد الثابت'!$I$2:$I$115))","v":""},{"$f":"IF(B1911=\"\",\"\",SUMIF('الرصيد الثابت'!$D$2:$D$115,B1911,'الرصيد الثابت'!$J$2:$J$115))","v":""},null,0,null,null,null,null,0,null,null,null,0,null,0,null,null,null,null,null,null,null,null,null,null,null,null,null,null,null,null,null,null,null,null,null,null,null,null,null,null,null,null,null,null,null,null,null,null,null,null,null,null,null,null,null,null,null,null,null,null,null,null,null,null,null,null,null,null,null,null,null,null,null,null,null,null,null,null,null,{"$f":"IFERROR(VLOOKUP(ROWS($CF$3:CF1911),$CH$3:$CI$2001,2,FALSE),\"\")","v":""}]
[null,null,{"$f":"IF(B1912=\"\",\"\",SUMIF('الرصيد الثابت'!$D$2:$D$115,B1912,'الرصيد الثابت'!$H$2:$H$115))","v":""},{"$f":"IF(B1912=\"\",\"\",SUMIF('الرصيد الثابت'!$D$2:$D$115,B1912,'الرصيد الثابت'!$I$2:$I$115))","v":""},{"$f":"IF(B1912=\"\",\"\",SUMIF('الرصيد الثابت'!$D$2:$D$115,B1912,'الرصيد الثابت'!$J$2:$J$115))","v":""},null,0,null,null,null,null,0,null,null,null,0,null,0,null,null,null,null,null,null,null,null,null,null,null,null,null,null,null,null,null,null,null,null,null,null,null,null,null,null,null,null,null,null,null,null,null,null,null,null,null,null,null,null,null,null,null,null,null,null,null,null,null,null,null,null,null,null,null,null,null,null,null,null,null,null,null,null,null,{"$f":"IFERROR(VLOOKUP(ROWS($CF$3:CF1912),$CH$3:$CI$2001,2,FALSE),\"\")","v":""}]
[null,null,{"$f":"IF(B1913=\"\",\"\",SUMIF('الرصيد الثابت'!$D$2:$D$115,B1913,'الرصيد الثابت'!$H$2:$H$115))","v":""},{"$f":"IF(B1913=\"\",\"\",SUMIF('الرصيد الثابت'!$D$2:$D$115,B1913,'الرصيد الثابت'!$I$2:$I$115))","v":""},{"$f":"IF(B1913=\"\",\"\",SUMIF('الرصيد الثابت'!$D$2:$D$115,B1913,'الرصيد الثابت'!$J$2:$J$115))","v":""},null,0,null,null,null,null,0,null,null,null,0,null,0,null,null,null,null,null,null,null,null,null,null,null,null,null,null,null,null,null,null,null,null,null,null,null,null,null,null,null,null,null,null,null,null,null,null,null,null,null,null,null,null,null,null,null,null,null,null,null,null,null,null,null,null,null,null,null,null,null,null,null,null,null,null,null,null,null,{"$f":"IFERROR(VLOOKUP(ROWS($CF$3:CF1913),$CH$3:$CI$2001,2,FALSE),\"\")","v":""}]
[null,null,{"$f":"IF(B1914=\"\",\"\",SUMIF('الرصيد الثابت'!$D$2:$D$115,B1914,'الرصيد الثابت'!$H$2:$H$115))","v":""},{"$f":"IF(B1914=\"\",\"\",SUMIF('الرصيد الثابت'!$D$2:$D$115,B1914,'الرصيد الثابت'!$I$2:$I$115))","v":""},{"$f":"IF(B1914=\"\",\"\",SUMIF('الرصيد الثابت'!$D$2:$D$115,B1914,'الرصيد الثابت'!$J$2:$J$115))","v":""},null,0,null,null,null,null,0,null,null,null,0,null,0,null,null,null,null,null,null,null,null,null,null,null,null,null,null,null,null,null,null,null,null,null,null,null,null,null,null,null,null,null,null,null,null,null,null,null,null,null,null,null,null,null,null,null,null,null,null,null,null,null,null,null,null,null,null,null,null,null,null,null,null,null,null,null,null,null,{"$f":"IFERROR(VLOOKUP(ROWS($CF$3:CF1914),$CH$3:$CI$2001,2,FALSE),\"\")","v":""}]
[null,null,{"$f":"IF(B1915=\"\",\"\",SUMIF('الرصيد الثابت'!$D$2:$D$115,B1915,'الرصيد الثابت'!$H$2:$H$115))","v":""},{"$f":"IF(B1915=\"\",\"\",SUMIF('الرصيد الثابت'!$D$2:$D$115,B1915,'الرصيد الثابت'!$I$2:$I$115))","v":""},{"$f":"IF(B1915=\"\",\"\",SUMIF('الرصيد الثابت'!$D$2:$D$115,B1915,'الرصيد الثابت'!$J$2:$J$115))","v":""},null,0,null,null,null,null,0,null,null,null,0,null,0,null,null,null,null,null,null,null,null,null,null,null,null,null,null,null,null,null,null,null,null,null,null,null,null,null,null,null,null,null,null,null,null,null,null,null,null,null,null,null,null,null,null,null,null,null,null,null,null,null,null,null,null,null,null,null,null,null,null,null,null,null,null,null,null,null,{"$f":"IFERROR(VLOOKUP(ROWS($CF$3:CF1915),$CH$3:$CI$2001,2,FALSE),\"\")","v":""}]
[null,null,{"$f":"IF(B1916=\"\",\"\",SUMIF('الرصيد الثابت'!$D$2:$D$115,B1916,'الرصيد الثابت'!$H$2:$H$115))","v":""},{"$f":"IF(B1916=\"\",\"\",SUMIF('الرصيد الثابت'!$D$2:$D$115,B1916,'الرصيد الثابت'!$I$2:$I$115))","v":""},{"$f":"IF(B1916=\"\",\"\",SUMIF('الرصيد الثابت'!$D$2:$D$115,B1916,'الرصيد الثابت'!$J$2:$J$115))","v":""},null,0,null,null,null,null,0,null,null,null,0,null,0,null,null,null,null,null,null,null,null,null,null,null,null,null,null,null,null,null,null,null,null,null,null,null,null,null,null,null,null,null,null,null,null,null,null,null,null,null,null,null,null,null,null,null,null,null,null,null,null,null,null,null,null,null,null,null,null,null,null,null,null,null,null,null,null,null,{"$f":"IFERROR(VLOOKUP(ROWS($CF$3:CF1916),$CH$3:$CI$2001,2,FALSE),\"\")","v":""}]
[null,null,{"$f":"IF(B1917=\"\",\"\",SUMIF('الرصيد الثابت'!$D$2:$D$115,B1917,'الرصيد الثابت'!$H$2:$H$115))","v":""},{"$f":"IF(B1917=\"\",\"\",SUMIF('الرصيد الثابت'!$D$2:$D$115,B1917,'الرصيد الثابت'!$I$2:$I$115))","v":""},{"$f":"IF(B1917=\"\",\"\",SUMIF('الرصيد الثابت'!$D$2:$D$115,B1917,'الرصيد الثابت'!$J$2:$J$115))","v":""},null,0,null,null,null,null,0,null,null,null,0,null,0,null,null,null,null,null,null,null,null,null,null,null,null,null,null,null,null,null,null,null,null,null,null,null,null,null,null,null,null,null,null,null,null,null,null,null,null,null,null,null,null,null,null,null,null,null,null,null,null,null,null,null,null,null,null,null,null,null,null,null,null,null,null,null,null,null,{"$f":"IFERROR(VLOOKUP(ROWS($CF$3:CF1917),$CH$3:$CI$2001,2,FALSE),\"\")","v":""}]
[null,null,{"$f":"IF(B1918=\"\",\"\",SUMIF('الرصيد الثابت'!$D$2:$D$115,B1918,'الرصيد الثابت'!$H$2:$H$115))","v":""},{"$f":"IF(B1918=\"\",\"\",SUMIF('الرصيد الثابت'!$D$2:$D$115,B1918,'الرصيد الثابت'!$I$2:$I$115))","v":""},{"$f":"IF(B1918=\"\",\"\",SUMIF('الرصيد الثابت'!$D$2:$D$115,B1918,'الرصيد الثابت'!$J$2:$J$115))","v":""},null,0,null,null,null,null,0,null,null,null,0,null,0,null,null,null,null,null,null,null,null,null,null,null,null,null,null,null,null,null,null,null,null,null,null,null,null,null,null,null,null,null,null,null,null,null,null,null,null,null,null,null,null,null,null,null,null,null,null,null,null,null,null,null,null,null,null,null,null,null,null,null,null,null,null,null,null,null,{"$f":"IFERROR(VLOOKUP(ROWS($CF$3:CF1918),$CH$3:$CI$2001,2,FALSE),\"\")","v":""}]
[null,null,{"$f":"IF(B1919=\"\",\"\",SUMIF('الرصيد الثابت'!$D$2:$D$115,B1919,'الرصيد الثابت'!$H$2:$H$115))","v":""},{"$f":"IF(B1919=\"\",\"\",SUMIF('الرصيد الثابت'!$D$2:$D$115,B1919,'الرصيد الثابت'!$I$2:$I$115))","v":""},{"$f":"IF(B1919=\"\",\"\",SUMIF('الرصيد الثابت'!$D$2:$D$115,B1919,'الرصيد الثابت'!$J$2:$J$115))","v":""},null,0,null,null,null,null,0,null,null,null,0,null,0,null,null,null,null,null,null,null,null,null,null,null,null,null,null,null,null,null,null,null,null,null,null,null,null,null,null,null,null,null,null,null,null,null,null,null,null,null,null,null,null,null,null,null,null,null,null,null,null,null,null,null,null,null,null,null,null,null,null,null,null,null,null,null,null,null,{"$f":"IFERROR(VLOOKUP(ROWS($CF$3:CF1919),$CH$3:$CI$2001,2,FALSE),\"\")","v":""}]
[null,null,{"$f":"IF(B1920=\"\",\"\",SUMIF('الرصيد الثابت'!$D$2:$D$115,B1920,'الرصيد الثابت'!$H$2:$H$115))","v":""},{"$f":"IF(B1920=\"\",\"\",SUMIF('الرصيد الثابت'!$D$2:$D$115,B1920,'الرصيد الثابت'!$I$2:$I$115))","v":""},{"$f":"IF(B1920=\"\",\"\",SUMIF('الرصيد الثابت'!$D$2:$D$115,B1920,'الرصيد الثابت'!$J$2:$J$115))","v":""},null,0,null,null,null,null,0,null,null,null,0,null,0,null,null,null,null,null,null,null,null,null,null,null,null,null,null,null,null,null,null,null,null,null,null,null,null,null,null,null,null,null,null,null,null,null,null,null,null,null,null,null,null,null,null,null,null,null,null,null,null,null,null,null,null,null,null,null,null,null,null,null,null,null,null,null,null,null,{"$f":"IFERROR(VLOOKUP(ROWS($CF$3:CF1920),$CH$3:$CI$2001,2,FALSE),\"\")","v":""}]
[null,null,{"$f":"IF(B1921=\"\",\"\",SUMIF('الرصيد الثابت'!$D$2:$D$115,B1921,'الرصيد الثابت'!$H$2:$H$115))","v":""},{"$f":"IF(B1921=\"\",\"\",SUMIF('الرصيد الثابت'!$D$2:$D$115,B1921,'الرصيد الثابت'!$I$2:$I$115))","v":""},{"$f":"IF(B1921=\"\",\"\",SUMIF('الرصيد الثابت'!$D$2:$D$115,B1921,'الرصيد الثابت'!$J$2:$J$115))","v":""},null,0,null,null,null,null,0,null,null,null,0,null,0,null,null,null,null,null,null,null,null,null,null,null,null,null,null,null,null,null,null,null,null,null,null,null,null,null,null,null,null,null,null,null,null,null,null,null,null,null,null,null,null,null,null,null,null,null,null,null,null,null,null,null,null,null,null,null,null,null,null,null,null,null,null,null,null,null,{"$f":"IFERROR(VLOOKUP(ROWS($CF$3:CF1921),$CH$3:$CI$2001,2,FALSE),\"\")","v":""}]
[null,null,{"$f":"IF(B1922=\"\",\"\",SUMIF('الرصيد الثابت'!$D$2:$D$115,B1922,'الرصيد الثابت'!$H$2:$H$115))","v":""},{"$f":"IF(B1922=\"\",\"\",SUMIF('الرصيد الثابت'!$D$2:$D$115,B1922,'الرصيد الثابت'!$I$2:$I$115))","v":""},{"$f":"IF(B1922=\"\",\"\",SUMIF('الرصيد الثابت'!$D$2:$D$115,B1922,'الرصيد الثابت'!$J$2:$J$115))","v":""},null,0,null,null,null,null,0,null,null,null,0,null,0,null,null,null,null,null,null,null,null,null,null,null,null,null,null,null,null,null,null,null,null,null,null,null,null,null,null,null,null,null,null,null,null,null,null,null,null,null,null,null,null,null,null,null,null,null,null,null,null,null,null,null,null,null,null,null,null,null,null,null,null,null,null,null,null,null,{"$f":"IFERROR(VLOOKUP(ROWS($CF$3:CF1922),$CH$3:$CI$2001,2,FALSE),\"\")","v":""}]
[null,null,{"$f":"IF(B1923=\"\",\"\",SUMIF('الرصيد الثابت'!$D$2:$D$115,B1923,'الرصيد الثابت'!$H$2:$H$115))","v":""},{"$f":"IF(B1923=\"\",\"\",SUMIF('الرصيد الثابت'!$D$2:$D$115,B1923,'الرصيد الثابت'!$I$2:$I$115))","v":""},{"$f":"IF(B1923=\"\",\"\",SUMIF('الرصيد الثابت'!$D$2:$D$115,B1923,'الرصيد الثابت'!$J$2:$J$115))","v":""},null,0,null,null,null,null,{"$f":"SUM(M1923*K1923)","v":0},null,null,null,0,null,0,null,null,null,null,null,null,null,null,null,null,null,null,null,null,null,null,null,null,null,null,null,null,null,null,null,null,null,null,null,null,null,null,null,null,null,null,null,null,null,null,null,null,null,null,null,null,null,null,null,null,null,null,null,null,null,null,null,null,null,null,null,null,null,null,null,{"$f":"IFERROR(VLOOKUP(ROWS($CF$3:CF1923),$CH$3:$CI$2001,2,FALSE),\"\")","v":""}]
[null,null,{"$f":"IF(B1924=\"\",\"\",SUMIF('الرصيد الثابت'!$D$2:$D$115,B1924,'الرصيد الثابت'!$H$2:$H$115))","v":""},{"$f":"IF(B1924=\"\",\"\",SUMIF('الرصيد الثابت'!$D$2:$D$115,B1924,'الرصيد الثابت'!$I$2:$I$115))","v":""},{"$f":"IF(B1924=\"\",\"\",SUMIF('الرصيد الثابت'!$D$2:$D$115,B1924,'الرصيد الثابت'!$J$2:$J$115))","v":""},null,{"$f":"SUM(H1924*F1924)","v":0},null,null,null,null,0,null,null,null,0,null,0,null,null,null,null,null,null,null,null,null,null,null,null,null,null,null,null,null,null,null,null,null,null,null,null,null,null,null,null,null,null,null,null,null,null,null,null,null,null,null,null,null,null,null,null,null,null,null,null,null,null,null,null,null,null,null,null,null,null,null,null,null,null,null,null,null,{"$f":"IFERROR(VLOOKUP(ROWS($CF$3:CF1924),$CH$3:$CI$2001,2,FALSE),\"\")","v":""}]
[null,null,{"$f":"IF(B1925=\"\",\"\",SUMIF('الرصيد الثابت'!$D$2:$D$115,B1925,'الرصيد الثابت'!$H$2:$H$115))","v":""},{"$f":"IF(B1925=\"\",\"\",SUMIF('الرصيد الثابت'!$D$2:$D$115,B1925,'الرصيد الثابت'!$I$2:$I$115))","v":""},{"$f":"IF(B1925=\"\",\"\",SUMIF('الرصيد الثابت'!$D$2:$D$115,B1925,'الرصيد الثابت'!$J$2:$J$115))","v":""},null,0,null,null,null,null,0,null,null,null,0,null,0,null,null,null,null,null,null,null,null,null,null,null,null,null,null,null,null,null,null,null,null,null,null,null,null,null,null,null,null,null,null,null,null,null,null,null,null,null,null,null,null,null,null,null,null,null,null,null,null,null,null,null,null,null,null,null,null,null,null,null,null,null,null,null,null,null,{"$f":"IFERROR(VLOOKUP(ROWS($CF$3:CF1925),$CH$3:$CI$2001,2,FALSE),\"\")","v":""}]
[null,null,{"$f":"IF(B1926=\"\",\"\",SUMIF('الرصيد الثابت'!$D$2:$D$115,B1926,'الرصيد الثابت'!$H$2:$H$115))","v":""},{"$f":"IF(B1926=\"\",\"\",SUMIF('الرصيد الثابت'!$D$2:$D$115,B1926,'الرصيد الثابت'!$I$2:$I$115))","v":""},{"$f":"IF(B1926=\"\",\"\",SUMIF('الرصيد الثابت'!$D$2:$D$115,B1926,'الرصيد الثابت'!$J$2:$J$115))","v":""},null,0,null,null,null,null,0,null,null,null,0,null,0,null,null,null,null,null,null,null,null,null,null,null,null,null,null,null,null,null,null,null,null,null,null,null,null,null,null,null,null,null,null,null,null,null,null,null,null,null,null,null,null,null,null,null,null,null,null,null,null,null,null,null,null,null,null,null,null,null,null,null,null,null,null,null,null,null,{"$f":"IFERROR(VLOOKUP(ROWS($CF$3:CF1926),$CH$3:$CI$2001,2,FALSE),\"\")","v":""}]
[null,null,{"$f":"IF(B1927=\"\",\"\",SUMIF('الرصيد الثابت'!$D$2:$D$115,B1927,'الرصيد الثابت'!$H$2:$H$115))","v":""},{"$f":"IF(B1927=\"\",\"\",SUMIF('الرصيد الثابت'!$D$2:$D$115,B1927,'الرصيد الثابت'!$I$2:$I$115))","v":""},{"$f":"IF(B1927=\"\",\"\",SUMIF('الرصيد الثابت'!$D$2:$D$115,B1927,'الرصيد الثابت'!$J$2:$J$115))","v":""},null,0,null,null,null,null,0,null,null,null,0,null,{"$f":"SUM(S1927*Q1927)","v":0},null,null,null,null,null,null,null,null,null,null,null,null,null,null,null,null,null,null,null,null,null,null,null,null,null,null,null,null,null,null,null,null,null,null,null,null,null,null,null,null,null,null,null,null,null,null,null,null,null,null,null,null,null,null,null,null,null,null,null,null,null,null,null,null,null,{"$f":"IFERROR(VLOOKUP(ROWS($CF$3:CF1927),$CH$3:$CI$2001,2,FALSE),\"\")","v":""}]
[null,null,{"$f":"IF(B1928=\"\",\"\",SUMIF('الرصيد الثابت'!$D$2:$D$115,B1928,'الرصيد الثابت'!$H$2:$H$115))","v":""},{"$f":"IF(B1928=\"\",\"\",SUMIF('الرصيد الثابت'!$D$2:$D$115,B1928,'الرصيد الثابت'!$I$2:$I$115))","v":""},{"$f":"IF(B1928=\"\",\"\",SUMIF('الرصيد الثابت'!$D$2:$D$115,B1928,'الرصيد الثابت'!$J$2:$J$115))","v":""},null,0,null,null,null,null,0,null,null,null,0,null,0,null,null,null,null,null,null,null,null,null,null,null,null,null,null,null,null,null,null,null,null,null,null,null,null,null,null,null,null,null,null,null,null,null,null,null,null,null,null,null,null,null,null,null,null,null,null,null,null,null,null,null,null,null,null,null,null,null,null,null,null,null,null,null,null,null,{"$f":"IFERROR(VLOOKUP(ROWS($CF$3:CF1928),$CH$3:$CI$2001,2,FALSE),\"\")","v":""}]
[null,null,{"$f":"IF(B1929=\"\",\"\",SUMIF('الرصيد الثابت'!$D$2:$D$115,B1929,'الرصيد الثابت'!$H$2:$H$115))","v":""},{"$f":"IF(B1929=\"\",\"\",SUMIF('الرصيد الثابت'!$D$2:$D$115,B1929,'الرصيد الثابت'!$I$2:$I$115))","v":""},{"$f":"IF(B1929=\"\",\"\",SUMIF('الرصيد الثابت'!$D$2:$D$115,B1929,'الرصيد الثابت'!$J$2:$J$115))","v":""},null,0,null,null,null,null,0,null,null,null,0,null,0,null,null,null,null,null,null,null,null,null,null,null,null,null,null,null,null,null,null,null,null,null,null,null,null,null,null,null,null,null,null,null,null,null,null,null,null,null,null,null,null,null,null,null,null,null,null,null,null,null,null,null,null,null,null,null,null,null,null,null,null,null,null,null,null,null,{"$f":"IFERROR(VLOOKUP(ROWS($CF$3:CF1929),$CH$3:$CI$2001,2,FALSE),\"\")","v":""}]
[null,null,{"$f":"IF(B1930=\"\",\"\",SUMIF('الرصيد الثابت'!$D$2:$D$115,B1930,'الرصيد الثابت'!$H$2:$H$115))","v":""},{"$f":"IF(B1930=\"\",\"\",SUMIF('الرصيد الثابت'!$D$2:$D$115,B1930,'الرصيد الثابت'!$I$2:$I$115))","v":""},{"$f":"IF(B1930=\"\",\"\",SUMIF('الرصيد الثابت'!$D$2:$D$115,B1930,'الرصيد الثابت'!$J$2:$J$115))","v":""},null,0,null,null,null,null,0,null,null,null,0,null,0,null,null,null,null,null,null,null,null,null,null,null,null,null,null,null,null,null,null,null,null,null,null,null,null,null,null,null,null,null,null,null,null,null,null,null,null,null,null,null,null,null,null,null,null,null,null,null,null,null,null,null,null,null,null,null,null,null,null,null,null,null,null,null,null,null,{"$f":"IFERROR(VLOOKUP(ROWS($CF$3:CF1930),$CH$3:$CI$2001,2,FALSE),\"\")","v":""}]
[null,null,{"$f":"IF(B1931=\"\",\"\",SUMIF('الرصيد الثابت'!$D$2:$D$115,B1931,'الرصيد الثابت'!$H$2:$H$115))","v":""},{"$f":"IF(B1931=\"\",\"\",SUMIF('الرصيد الثابت'!$D$2:$D$115,B1931,'الرصيد الثابت'!$I$2:$I$115))","v":""},{"$f":"IF(B1931=\"\",\"\",SUMIF('الرصيد الثابت'!$D$2:$D$115,B1931,'الرصيد الثابت'!$J$2:$J$115))","v":""},null,0,null,null,null,null,0,null,null,null,0,null,0,null,null,null,null,null,null,null,null,null,null,null,null,null,null,null,null,null,null,null,null,null,null,null,null,null,null,null,null,null,null,null,null,null,null,null,null,null,null,null,null,null,null,null,null,null,null,null,null,null,null,null,null,null,null,null,null,null,null,null,null,null,null,null,null,null,{"$f":"IFERROR(VLOOKUP(ROWS($CF$3:CF1931),$CH$3:$CI$2001,2,FALSE),\"\")","v":""}]
[null,null,{"$f":"IF(B1932=\"\",\"\",SUMIF('الرصيد الثابت'!$D$2:$D$115,B1932,'الرصيد الثابت'!$H$2:$H$115))","v":""},{"$f":"IF(B1932=\"\",\"\",SUMIF('الرصيد الثابت'!$D$2:$D$115,B1932,'الرصيد الثابت'!$I$2:$I$115))","v":""},{"$f":"IF(B1932=\"\",\"\",SUMIF('الرصيد الثابت'!$D$2:$D$115,B1932,'الرصيد الثابت'!$J$2:$J$115))","v":""},null,0,null,null,null,null,0,null,null,null,0,null,0,null,null,null,null,null,null,null,null,null,null,null,null,null,null,null,null,null,null,null,null,null,null,null,null,null,null,null,null,null,null,null,null,null,null,null,null,null,null,null,null,null,null,null,null,null,null,null,null,null,null,null,null,null,null,null,null,null,null,null,null,null,null,null,null,null,{"$f":"IFERROR(VLOOKUP(ROWS($CF$3:CF1932),$CH$3:$CI$2001,2,FALSE),\"\")","v":""}]
[null,null,{"$f":"IF(B1933=\"\",\"\",SUMIF('الرصيد الثابت'!$D$2:$D$115,B1933,'الرصيد الثابت'!$H$2:$H$115))","v":""},{"$f":"IF(B1933=\"\",\"\",SUMIF('الرصيد الثابت'!$D$2:$D$115,B1933,'الرصيد الثابت'!$I$2:$I$115))","v":""},{"$f":"IF(B1933=\"\",\"\",SUMIF('الرصيد الثابت'!$D$2:$D$115,B1933,'الرصيد الثابت'!$J$2:$J$115))","v":""},null,0,null,null,null,null,0,null,null,null,0,null,0,null,null,null,null,null,null,null,null,null,null,null,null,null,null,null,null,null,null,null,null,null,null,null,null,null,null,null,null,null,null,null,null,null,null,null,null,null,null,null,null,null,null,null,null,null,null,null,null,null,null,null,null,null,null,null,null,null,null,null,null,null,null,null,null,null,{"$f":"IFERROR(VLOOKUP(ROWS($CF$3:CF1933),$CH$3:$CI$2001,2,FALSE),\"\")","v":""}]
[null,null,{"$f":"IF(B1934=\"\",\"\",SUMIF('الرصيد الثابت'!$D$2:$D$115,B1934,'الرصيد الثابت'!$H$2:$H$115))","v":""},{"$f":"IF(B1934=\"\",\"\",SUMIF('الرصيد الثابت'!$D$2:$D$115,B1934,'الرصيد الثابت'!$I$2:$I$115))","v":""},{"$f":"IF(B1934=\"\",\"\",SUMIF('الرصيد الثابت'!$D$2:$D$115,B1934,'الرصيد الثابت'!$J$2:$J$115))","v":""},null,0,null,null,null,null,0,null,null,null,0,null,0,null,null,null,null,null,null,null,null,null,null,null,null,null,null,null,null,null,null,null,null,null,null,null,null,null,null,null,null,null,null,null,null,null,null,null,null,null,null,null,null,null,null,null,null,null,null,null,null,null,null,null,null,null,null,null,null,null,null,null,null,null,null,null,null,null,{"$f":"IFERROR(VLOOKUP(ROWS($CF$3:CF1934),$CH$3:$CI$2001,2,FALSE),\"\")","v":""}]
[null,null,{"$f":"IF(B1935=\"\",\"\",SUMIF('الرصيد الثابت'!$D$2:$D$115,B1935,'الرصيد الثابت'!$H$2:$H$115))","v":""},{"$f":"IF(B1935=\"\",\"\",SUMIF('الرصيد الثابت'!$D$2:$D$115,B1935,'الرصيد الثابت'!$I$2:$I$115))","v":""},{"$f":"IF(B1935=\"\",\"\",SUMIF('الرصيد الثابت'!$D$2:$D$115,B1935,'الرصيد الثابت'!$J$2:$J$115))","v":""},null,0,null,null,null,null,0,null,null,null,0,null,0,null,null,null,null,null,null,null,null,null,null,null,null,null,null,null,null,null,null,null,null,null,null,null,null,null,null,null,null,null,null,null,null,null,null,null,null,null,null,null,null,null,null,null,null,null,null,null,null,null,null,null,null,null,null,null,null,null,null,null,null,null,null,null,null,null,{"$f":"IFERROR(VLOOKUP(ROWS($CF$3:CF1935),$CH$3:$CI$2001,2,FALSE),\"\")","v":""}]
[null,null,{"$f":"IF(B1936=\"\",\"\",SUMIF('الرصيد الثابت'!$D$2:$D$115,B1936,'الرصيد الثابت'!$H$2:$H$115))","v":""},{"$f":"IF(B1936=\"\",\"\",SUMIF('الرصيد الثابت'!$D$2:$D$115,B1936,'الرصيد الثابت'!$I$2:$I$115))","v":""},{"$f":"IF(B1936=\"\",\"\",SUMIF('الرصيد الثابت'!$D$2:$D$115,B1936,'الرصيد الثابت'!$J$2:$J$115))","v":""},null,0,null,null,null,null,0,null,null,null,0,null,0,null,null,null,null,null,null,null,null,null,null,null,null,null,null,null,null,null,null,null,null,null,null,null,null,null,null,null,null,null,null,null,null,null,null,null,null,null,null,null,null,null,null,null,null,null,null,null,null,null,null,null,null,null,null,null,null,null,null,null,null,null,null,null,null,null,{"$f":"IFERROR(VLOOKUP(ROWS($CF$3:CF1936),$CH$3:$CI$2001,2,FALSE),\"\")","v":""}]
[null,null,{"$f":"IF(B1937=\"\",\"\",SUMIF('الرصيد الثابت'!$D$2:$D$115,B1937,'الرصيد الثابت'!$H$2:$H$115))","v":""},{"$f":"IF(B1937=\"\",\"\",SUMIF('الرصيد الثابت'!$D$2:$D$115,B1937,'الرصيد الثابت'!$I$2:$I$115))","v":""},{"$f":"IF(B1937=\"\",\"\",SUMIF('الرصيد الثابت'!$D$2:$D$115,B1937,'الرصيد الثابت'!$J$2:$J$115))","v":""},null,0,null,null,null,null,0,null,null,null,0,null,0,null,null,null,null,null,null,null,null,null,null,null,null,null,null,null,null,null,null,null,null,null,null,null,null,null,null,null,null,null,null,null,null,null,null,null,null,null,null,null,null,null,null,null,null,null,null,null,null,null,null,null,null,null,null,null,null,null,null,null,null,null,null,null,null,null,{"$f":"IFERROR(VLOOKUP(ROWS($CF$3:CF1937),$CH$3:$CI$2001,2,FALSE),\"\")","v":""}]
[null,null,{"$f":"IF(B1938=\"\",\"\",SUMIF('الرصيد الثابت'!$D$2:$D$115,B1938,'الرصيد الثابت'!$H$2:$H$115))","v":""},{"$f":"IF(B1938=\"\",\"\",SUMIF('الرصيد الثابت'!$D$2:$D$115,B1938,'الرصيد الثابت'!$I$2:$I$115))","v":""},{"$f":"IF(B1938=\"\",\"\",SUMIF('الرصيد الثابت'!$D$2:$D$115,B1938,'الرصيد الثابت'!$J$2:$J$115))","v":""},null,0,null,null,null,null,0,null,null,null,0,null,0,null,null,null,null,null,null,null,null,null,null,null,null,null,null,null,null,null,null,null,null,null,null,null,null,null,null,null,null,null,null,null,null,null,null,null,null,null,null,null,null,null,null,null,null,null,null,null,null,null,null,null,null,null,null,null,null,null,null,null,null,null,null,null,null,null,{"$f":"IFERROR(VLOOKUP(ROWS($CF$3:CF1938),$CH$3:$CI$2001,2,FALSE),\"\")","v":""}]
[null,null,{"$f":"IF(B1939=\"\",\"\",SUMIF('الرصيد الثابت'!$D$2:$D$115,B1939,'الرصيد الثابت'!$H$2:$H$115))","v":""},{"$f":"IF(B1939=\"\",\"\",SUMIF('الرصيد الثابت'!$D$2:$D$115,B1939,'الرصيد الثابت'!$I$2:$I$115))","v":""},{"$f":"IF(B1939=\"\",\"\",SUMIF('الرصيد الثابت'!$D$2:$D$115,B1939,'الرصيد الثابت'!$J$2:$J$115))","v":""},null,0,null,null,null,null,0,null,null,null,0,null,0,null,null,null,null,null,null,null,null,null,null,null,null,null,null,null,null,null,null,null,null,null,null,null,null,null,null,null,null,null,null,null,null,null,null,null,null,null,null,null,null,null,null,null,null,null,null,null,null,null,null,null,null,null,null,null,null,null,null,null,null,null,null,null,null,null,{"$f":"IFERROR(VLOOKUP(ROWS($CF$3:CF1939),$CH$3:$CI$2001,2,FALSE),\"\")","v":""}]
[null,null,{"$f":"IF(B1940=\"\",\"\",SUMIF('الرصيد الثابت'!$D$2:$D$115,B1940,'الرصيد الثابت'!$H$2:$H$115))","v":""},{"$f":"IF(B1940=\"\",\"\",SUMIF('الرصيد الثابت'!$D$2:$D$115,B1940,'الرصيد الثابت'!$I$2:$I$115))","v":""},{"$f":"IF(B1940=\"\",\"\",SUMIF('الرصيد الثابت'!$D$2:$D$115,B1940,'الرصيد الثابت'!$J$2:$J$115))","v":""},null,0,null,null,null,null,0,null,null,null,0,null,0,null,null,null,null,null,null,null,null,null,null,null,null,null,null,null,null,null,null,null,null,null,null,null,null,null,null,null,null,null,null,null,null,null,null,null,null,null,null,null,null,null,null,null,null,null,null,null,null,null,null,null,null,null,null,null,null,null,null,null,null,null,null,null,null,null,{"$f":"IFERROR(VLOOKUP(ROWS($CF$3:CF1940),$CH$3:$CI$2001,2,FALSE),\"\")","v":""}]
[null,null,{"$f":"IF(B1941=\"\",\"\",SUMIF('الرصيد الثابت'!$D$2:$D$115,B1941,'الرصيد الثابت'!$H$2:$H$115))","v":""},{"$f":"IF(B1941=\"\",\"\",SUMIF('الرصيد الثابت'!$D$2:$D$115,B1941,'الرصيد الثابت'!$I$2:$I$115))","v":""},{"$f":"IF(B1941=\"\",\"\",SUMIF('الرصيد الثابت'!$D$2:$D$115,B1941,'الرصيد الثابت'!$J$2:$J$115))","v":""},null,0,null,null,null,null,0,null,null,null,0,null,0,null,null,null,null,null,null,null,null,null,null,null,null,null,null,null,null,null,null,null,null,null,null,null,null,null,null,null,null,null,null,null,null,null,null,null,null,null,null,null,null,null,null,null,null,null,null,null,null,null,null,null,null,null,null,null,null,null,null,null,null,null,null,null,null,null,{"$f":"IFERROR(VLOOKUP(ROWS($CF$3:CF1941),$CH$3:$CI$2001,2,FALSE),\"\")","v":""}]
[null,null,{"$f":"IF(B1942=\"\",\"\",SUMIF('الرصيد الثابت'!$D$2:$D$115,B1942,'الرصيد الثابت'!$H$2:$H$115))","v":""},{"$f":"IF(B1942=\"\",\"\",SUMIF('الرصيد الثابت'!$D$2:$D$115,B1942,'الرصيد الثابت'!$I$2:$I$115))","v":""},{"$f":"IF(B1942=\"\",\"\",SUMIF('الرصيد الثابت'!$D$2:$D$115,B1942,'الرصيد الثابت'!$J$2:$J$115))","v":""},null,0,null,null,null,null,0,null,null,null,0,null,0,null,null,null,null,null,null,null,null,null,null,null,null,null,null,null,null,null,null,null,null,null,null,null,null,null,null,null,null,null,null,null,null,null,null,null,null,null,null,null,null,null,null,null,null,null,null,null,null,null,null,null,null,null,null,null,null,null,null,null,null,null,null,null,null,null,{"$f":"IFERROR(VLOOKUP(ROWS($CF$3:CF1942),$CH$3:$CI$2001,2,FALSE),\"\")","v":""}]
[null,null,{"$f":"IF(B1943=\"\",\"\",SUMIF('الرصيد الثابت'!$D$2:$D$115,B1943,'الرصيد الثابت'!$H$2:$H$115))","v":""},{"$f":"IF(B1943=\"\",\"\",SUMIF('الرصيد الثابت'!$D$2:$D$115,B1943,'الرصيد الثابت'!$I$2:$I$115))","v":""},{"$f":"IF(B1943=\"\",\"\",SUMIF('الرصيد الثابت'!$D$2:$D$115,B1943,'الرصيد الثابت'!$J$2:$J$115))","v":""},null,0,null,null,null,null,0,null,null,null,0,null,0,null,null,null,null,null,null,null,null,null,null,null,null,null,null,null,null,null,null,null,null,null,null,null,null,null,null,null,null,null,null,null,null,null,null,null,null,null,null,null,null,null,null,null,null,null,null,null,null,null,null,null,null,null,null,null,null,null,null,null,null,null,null,null,null,null,{"$f":"IFERROR(VLOOKUP(ROWS($CF$3:CF1943),$CH$3:$CI$2001,2,FALSE),\"\")","v":""}]
[null,null,{"$f":"IF(B1944=\"\",\"\",SUMIF('الرصيد الثابت'!$D$2:$D$115,B1944,'الرصيد الثابت'!$H$2:$H$115))","v":""},{"$f":"IF(B1944=\"\",\"\",SUMIF('الرصيد الثابت'!$D$2:$D$115,B1944,'الرصيد الثابت'!$I$2:$I$115))","v":""},{"$f":"IF(B1944=\"\",\"\",SUMIF('الرصيد الثابت'!$D$2:$D$115,B1944,'الرصيد الثابت'!$J$2:$J$115))","v":""},null,0,null,null,null,null,0,null,null,null,0,null,0,null,null,null,null,null,null,null,null,null,null,null,null,null,null,null,null,null,null,null,null,null,null,null,null,null,null,null,null,null,null,null,null,null,null,null,null,null,null,null,null,null,null,null,null,null,null,null,null,null,null,null,null,null,null,null,null,null,null,null,null,null,null,null,null,null,{"$f":"IFERROR(VLOOKUP(ROWS($CF$3:CF1944),$CH$3:$CI$2001,2,FALSE),\"\")","v":""}]
[null,null,{"$f":"IF(B1945=\"\",\"\",SUMIF('الرصيد الثابت'!$D$2:$D$115,B1945,'الرصيد الثابت'!$H$2:$H$115))","v":""},{"$f":"IF(B1945=\"\",\"\",SUMIF('الرصيد الثابت'!$D$2:$D$115,B1945,'الرصيد الثابت'!$I$2:$I$115))","v":""},{"$f":"IF(B1945=\"\",\"\",SUMIF('الرصيد الثابت'!$D$2:$D$115,B1945,'الرصيد الثابت'!$J$2:$J$115))","v":""},null,0,null,null,null,null,0,null,null,null,0,null,0,null,null,null,null,null,null,null,null,null,null,null,null,null,null,null,null,null,null,null,null,null,null,null,null,null,null,null,null,null,null,null,null,null,null,null,null,null,null,null,null,null,null,null,null,null,null,null,null,null,null,null,null,null,null,null,null,null,null,null,null,null,null,null,null,null,{"$f":"IFERROR(VLOOKUP(ROWS($CF$3:CF1945),$CH$3:$CI$2001,2,FALSE),\"\")","v":""}]
[null,null,{"$f":"IF(B1946=\"\",\"\",SUMIF('الرصيد الثابت'!$D$2:$D$115,B1946,'الرصيد الثابت'!$H$2:$H$115))","v":""},{"$f":"IF(B1946=\"\",\"\",SUMIF('الرصيد الثابت'!$D$2:$D$115,B1946,'الرصيد الثابت'!$I$2:$I$115))","v":""},{"$f":"IF(B1946=\"\",\"\",SUMIF('الرصيد الثابت'!$D$2:$D$115,B1946,'الرصيد الثابت'!$J$2:$J$115))","v":""},null,0,null,null,null,null,0,null,null,null,0,null,0,null,null,null,null,null,null,null,null,null,null,null,null,null,null,null,null,null,null,null,null,null,null,null,null,null,null,null,null,null,null,null,null,null,null,null,null,null,null,null,null,null,null,null,null,null,null,null,null,null,null,null,null,null,null,null,null,null,null,null,null,null,null,null,null,null,{"$f":"IFERROR(VLOOKUP(ROWS($CF$3:CF1946),$CH$3:$CI$2001,2,FALSE),\"\")","v":""}]
[null,null,{"$f":"IF(B1947=\"\",\"\",SUMIF('الرصيد الثابت'!$D$2:$D$115,B1947,'الرصيد الثابت'!$H$2:$H$115))","v":""},{"$f":"IF(B1947=\"\",\"\",SUMIF('الرصيد الثابت'!$D$2:$D$115,B1947,'الرصيد الثابت'!$I$2:$I$115))","v":""},{"$f":"IF(B1947=\"\",\"\",SUMIF('الرصيد الثابت'!$D$2:$D$115,B1947,'الرصيد الثابت'!$J$2:$J$115))","v":""},null,0,null,null,null,null,0,null,null,null,0,null,0,null,null,null,null,null,null,null,null,null,null,null,null,null,null,null,null,null,null,null,null,null,null,null,null,null,null,null,null,null,null,null,null,null,null,null,null,null,null,null,null,null,null,null,null,null,null,null,null,null,null,null,null,null,null,null,null,null,null,null,null,null,null,null,null,null,{"$f":"IFERROR(VLOOKUP(ROWS($CF$3:CF1947),$CH$3:$CI$2001,2,FALSE),\"\")","v":""}]
[null,null,{"$f":"IF(B1948=\"\",\"\",SUMIF('الرصيد الثابت'!$D$2:$D$115,B1948,'الرصيد الثابت'!$H$2:$H$115))","v":""},{"$f":"IF(B1948=\"\",\"\",SUMIF('الرصيد الثابت'!$D$2:$D$115,B1948,'الرصيد الثابت'!$I$2:$I$115))","v":""},{"$f":"IF(B1948=\"\",\"\",SUMIF('الرصيد الثابت'!$D$2:$D$115,B1948,'الرصيد الثابت'!$J$2:$J$115))","v":""},null,0,null,null,null,null,0,null,null,null,0,null,0,null,null,null,null,null,null,null,null,null,null,null,null,null,null,null,null,null,null,null,null,null,null,null,null,null,null,null,null,null,null,null,null,null,null,null,null,null,null,null,null,null,null,null,null,null,null,null,null,null,null,null,null,null,null,null,null,null,null,null,null,null,null,null,null,null,{"$f":"IFERROR(VLOOKUP(ROWS($CF$3:CF1948),$CH$3:$CI$2001,2,FALSE),\"\")","v":""}]
[null,null,{"$f":"IF(B1949=\"\",\"\",SUMIF('الرصيد الثابت'!$D$2:$D$115,B1949,'الرصيد الثابت'!$H$2:$H$115))","v":""},{"$f":"IF(B1949=\"\",\"\",SUMIF('الرصيد الثابت'!$D$2:$D$115,B1949,'الرصيد الثابت'!$I$2:$I$115))","v":""},{"$f":"IF(B1949=\"\",\"\",SUMIF('الرصيد الثابت'!$D$2:$D$115,B1949,'الرصيد الثابت'!$J$2:$J$115))","v":""},null,0,null,null,null,null,0,null,null,null,0,null,0,null,null,null,null,null,null,null,null,null,null,null,null,null,null,null,null,null,null,null,null,null,null,null,null,null,null,null,null,null,null,null,null,null,null,null,null,null,null,null,null,null,null,null,null,null,null,null,null,null,null,null,null,null,null,null,null,null,null,null,null,null,null,null,null,null,{"$f":"IFERROR(VLOOKUP(ROWS($CF$3:CF1949),$CH$3:$CI$2001,2,FALSE),\"\")","v":""}]
[null,null,{"$f":"IF(B1950=\"\",\"\",SUMIF('الرصيد الثابت'!$D$2:$D$115,B1950,'الرصيد الثابت'!$H$2:$H$115))","v":""},{"$f":"IF(B1950=\"\",\"\",SUMIF('الرصيد الثابت'!$D$2:$D$115,B1950,'الرصيد الثابت'!$I$2:$I$115))","v":""},{"$f":"IF(B1950=\"\",\"\",SUMIF('الرصيد الثابت'!$D$2:$D$115,B1950,'الرصيد الثابت'!$J$2:$J$115))","v":""},null,0,null,null,null,null,0,null,null,null,0,null,0,null,null,null,null,null,null,null,null,null,null,null,null,null,null,null,null,null,null,null,null,null,null,null,null,null,null,null,null,null,null,null,null,null,null,null,null,null,null,null,null,null,null,null,null,null,null,null,null,null,null,null,null,null,null,null,null,null,null,null,null,null,null,null,null,null,{"$f":"IFERROR(VLOOKUP(ROWS($CF$3:CF1950),$CH$3:$CI$2001,2,FALSE),\"\")","v":""}]
[null,null,{"$f":"IF(B1951=\"\",\"\",SUMIF('الرصيد الثابت'!$D$2:$D$115,B1951,'الرصيد الثابت'!$H$2:$H$115))","v":""},{"$f":"IF(B1951=\"\",\"\",SUMIF('الرصيد الثابت'!$D$2:$D$115,B1951,'الرصيد الثابت'!$I$2:$I$115))","v":""},{"$f":"IF(B1951=\"\",\"\",SUMIF('الرصيد الثابت'!$D$2:$D$115,B1951,'الرصيد الثابت'!$J$2:$J$115))","v":""},null,0,null,null,null,null,0,null,null,null,0,null,0,null,null,null,null,null,null,null,null,null,null,null,null,null,null,null,null,null,null,null,null,null,null,null,null,null,null,null,null,null,null,null,null,null,null,null,null,null,null,null,null,null,null,null,null,null,null,null,null,null,null,null,null,null,null,null,null,null,null,null,null,null,null,null,null,null,{"$f":"IFERROR(VLOOKUP(ROWS($CF$3:CF1951),$CH$3:$CI$2001,2,FALSE),\"\")","v":""}]
[null,null,{"$f":"IF(B1952=\"\",\"\",SUMIF('الرصيد الثابت'!$D$2:$D$115,B1952,'الرصيد الثابت'!$H$2:$H$115))","v":""},{"$f":"IF(B1952=\"\",\"\",SUMIF('الرصيد الثابت'!$D$2:$D$115,B1952,'الرصيد الثابت'!$I$2:$I$115))","v":""},{"$f":"IF(B1952=\"\",\"\",SUMIF('الرصيد الثابت'!$D$2:$D$115,B1952,'الرصيد الثابت'!$J$2:$J$115))","v":""},null,0,null,null,null,null,0,null,null,null,{"$f":"SUM(#REF!-#REF!)","v":{"$error":"#REF!"}},null,0,null,null,null,null,null,null,null,null,null,null,null,null,null,null,null,null,null,null,null,null,null,null,null,null,null,null,null,null,null,null,null,null,null,null,null,null,null,null,null,null,null,null,null,null,null,null,null,null,null,null,null,null,null,null,null,null,null,null,null,null,null,null,null,null,null,{"$f":"IFERROR(VLOOKUP(ROWS($CF$3:CF1952),$CH$3:$CI$2001,2,FALSE),\"\")","v":""}]
[null,null,{"$f":"IF(B1953=\"\",\"\",SUMIF('الرصيد الثابت'!$D$2:$D$115,B1953,'الرصيد الثابت'!$H$2:$H$115))","v":""},{"$f":"IF(B1953=\"\",\"\",SUMIF('الرصيد الثابت'!$D$2:$D$115,B1953,'الرصيد الثابت'!$I$2:$I$115))","v":""},{"$f":"IF(B1953=\"\",\"\",SUMIF('الرصيد الثابت'!$D$2:$D$115,B1953,'الرصيد الثابت'!$J$2:$J$115))","v":""},null,0,null,null,null,null,0,null,null,null,{"$f":"SUM(F1953-K1953)","v":0},null,0,null,null,null,null,null,null,null,null,null,null,null,null,null,null,null,null,null,null,null,null,null,null,null,null,null,null,null,null,null,null,null,null,null,null,null,null,null,null,null,null,null,null,null,null,null,null,null,null,null,null,null,null,null,null,null,null,null,null,null,null,null,null,null,null,null,{"$f":"IFERROR(VLOOKUP(ROWS($CF$3:CF1953),$CH$3:$CI$2001,2,FALSE),\"\")","v":""}]
[null,null,{"$f":"IF(B1954=\"\",\"\",SUMIF('الرصيد الثابت'!$D$2:$D$115,B1954,'الرصيد الثابت'!$H$2:$H$115))","v":""},{"$f":"IF(B1954=\"\",\"\",SUMIF('الرصيد الثابت'!$D$2:$D$115,B1954,'الرصيد الثابت'!$I$2:$I$115))","v":""},{"$f":"IF(B1954=\"\",\"\",SUMIF('الرصيد الثابت'!$D$2:$D$115,B1954,'الرصيد الثابت'!$J$2:$J$115))","v":""},null,0,null,null,null,null,0,null,null,null,0,null,0,null,null,null,null,null,null,null,null,null,null,null,null,null,null,null,null,null,null,null,null,null,null,null,null,null,null,null,null,null,null,null,null,null,null,null,null,null,null,null,null,null,null,null,null,null,null,null,null,null,null,null,null,null,null,null,null,null,null,null,null,null,null,null,null,null,{"$f":"IFERROR(VLOOKUP(ROWS($CF$3:CF1954),$CH$3:$CI$2001,2,FALSE),\"\")","v":""}]
[null,null,{"$f":"IF(B1955=\"\",\"\",SUMIF('الرصيد الثابت'!$D$2:$D$115,B1955,'الرصيد الثابت'!$H$2:$H$115))","v":""},{"$f":"IF(B1955=\"\",\"\",SUMIF('الرصيد الثابت'!$D$2:$D$115,B1955,'الرصيد الثابت'!$I$2:$I$115))","v":""},{"$f":"IF(B1955=\"\",\"\",SUMIF('الرصيد الثابت'!$D$2:$D$115,B1955,'الرصيد الثابت'!$J$2:$J$115))","v":""},null,0,null,null,null,null,0,null,null,null,0,null,0,null,null,null,null,null,null,null,null,null,null,null,null,null,null,null,null,null,null,null,null,null,null,null,null,null,null,null,null,null,null,null,null,null,null,null,null,null,null,null,null,null,null,null,null,null,null,null,null,null,null,null,null,null,null,null,null,null,null,null,null,null,null,null,null,null,{"$f":"IFERROR(VLOOKUP(ROWS($CF$3:CF1955),$CH$3:$CI$2001,2,FALSE),\"\")","v":""}]
[null,null,{"$f":"IF(B1956=\"\",\"\",SUMIF('الرصيد الثابت'!$D$2:$D$115,B1956,'الرصيد الثابت'!$H$2:$H$115))","v":""},{"$f":"IF(B1956=\"\",\"\",SUMIF('الرصيد الثابت'!$D$2:$D$115,B1956,'الرصيد الثابت'!$I$2:$I$115))","v":""},{"$f":"IF(B1956=\"\",\"\",SUMIF('الرصيد الثابت'!$D$2:$D$115,B1956,'الرصيد الثابت'!$J$2:$J$115))","v":""},null,0,null,null,null,null,0,null,null,null,0,null,0,null,null,null,null,null,null,null,null,null,null,null,null,null,null,null,null,null,null,null,null,null,null,null,null,null,null,null,null,null,null,null,null,null,null,null,null,null,null,null,null,null,null,null,null,null,null,null,null,null,null,null,null,null,null,null,null,null,null,null,null,null,null,null,null,null,{"$f":"IFERROR(VLOOKUP(ROWS($CF$3:CF1956),$CH$3:$CI$2001,2,FALSE),\"\")","v":""}]
[null,null,{"$f":"IF(B1957=\"\",\"\",SUMIF('الرصيد الثابت'!$D$2:$D$115,B1957,'الرصيد الثابت'!$H$2:$H$115))","v":""},{"$f":"IF(B1957=\"\",\"\",SUMIF('الرصيد الثابت'!$D$2:$D$115,B1957,'الرصيد الثابت'!$I$2:$I$115))","v":""},{"$f":"IF(B1957=\"\",\"\",SUMIF('الرصيد الثابت'!$D$2:$D$115,B1957,'الرصيد الثابت'!$J$2:$J$115))","v":""},null,0,null,null,null,null,0,null,null,null,0,null,0,null,null,null,null,null,null,null,null,null,null,null,null,null,null,null,null,null,null,null,null,null,null,null,null,null,null,null,null,null,null,null,null,null,null,null,null,null,null,null,null,null,null,null,null,null,null,null,null,null,null,null,null,null,null,null,null,null,null,null,null,null,null,null,null,null,{"$f":"IFERROR(VLOOKUP(ROWS($CF$3:CF1957),$CH$3:$CI$2001,2,FALSE),\"\")","v":""}]
[null,null,{"$f":"IF(B1958=\"\",\"\",SUMIF('الرصيد الثابت'!$D$2:$D$115,B1958,'الرصيد الثابت'!$H$2:$H$115))","v":""},{"$f":"IF(B1958=\"\",\"\",SUMIF('الرصيد الثابت'!$D$2:$D$115,B1958,'الرصيد الثابت'!$I$2:$I$115))","v":""},{"$f":"IF(B1958=\"\",\"\",SUMIF('الرصيد الثابت'!$D$2:$D$115,B1958,'الرصيد الثابت'!$J$2:$J$115))","v":""},null,0,null,null,null,null,0,null,null,null,0,null,0,null,null,null,null,null,null,null,null,null,null,null,null,null,null,null,null,null,null,null,null,null,null,null,null,null,null,null,null,null,null,null,null,null,null,null,null,null,null,null,null,null,null,null,null,null,null,null,null,null,null,null,null,null,null,null,null,null,null,null,null,null,null,null,null,null,{"$f":"IFERROR(VLOOKUP(ROWS($CF$3:CF1958),$CH$3:$CI$2001,2,FALSE),\"\")","v":""}]
[null,null,{"$f":"IF(B1959=\"\",\"\",SUMIF('الرصيد الثابت'!$D$2:$D$115,B1959,'الرصيد الثابت'!$H$2:$H$115))","v":""},{"$f":"IF(B1959=\"\",\"\",SUMIF('الرصيد الثابت'!$D$2:$D$115,B1959,'الرصيد الثابت'!$I$2:$I$115))","v":""},{"$f":"IF(B1959=\"\",\"\",SUMIF('الرصيد الثابت'!$D$2:$D$115,B1959,'الرصيد الثابت'!$J$2:$J$115))","v":""},null,0,null,null,null,null,0,null,null,null,0,null,0,null,null,null,null,null,null,null,null,null,null,null,null,null,null,null,null,null,null,null,null,null,null,null,null,null,null,null,null,null,null,null,null,null,null,null,null,null,null,null,null,null,null,null,null,null,null,null,null,null,null,null,null,null,null,null,null,null,null,null,null,null,null,null,null,null,{"$f":"IFERROR(VLOOKUP(ROWS($CF$3:CF1959),$CH$3:$CI$2001,2,FALSE),\"\")","v":""}]
[null,null,{"$f":"IF(B1960=\"\",\"\",SUMIF('الرصيد الثابت'!$D$2:$D$115,B1960,'الرصيد الثابت'!$H$2:$H$115))","v":""},{"$f":"IF(B1960=\"\",\"\",SUMIF('الرصيد الثابت'!$D$2:$D$115,B1960,'الرصيد الثابت'!$I$2:$I$115))","v":""},{"$f":"IF(B1960=\"\",\"\",SUMIF('الرصيد الثابت'!$D$2:$D$115,B1960,'الرصيد الثابت'!$J$2:$J$115))","v":""},null,0,null,null,null,null,0,null,null,null,0,null,0,null,null,null,null,null,null,null,null,null,null,null,null,null,null,null,null,null,null,null,null,null,null,null,null,null,null,null,null,null,null,null,null,null,null,null,null,null,null,null,null,null,null,null,null,null,null,null,null,null,null,null,null,null,null,null,null,null,null,null,null,null,null,null,null,null,{"$f":"IFERROR(VLOOKUP(ROWS($CF$3:CF1960),$CH$3:$CI$2001,2,FALSE),\"\")","v":""}]
[null,null,{"$f":"IF(B1961=\"\",\"\",SUMIF('الرصيد الثابت'!$D$2:$D$115,B1961,'الرصيد الثابت'!$H$2:$H$115))","v":""},{"$f":"IF(B1961=\"\",\"\",SUMIF('الرصيد الثابت'!$D$2:$D$115,B1961,'الرصيد الثابت'!$I$2:$I$115))","v":""},{"$f":"IF(B1961=\"\",\"\",SUMIF('الرصيد الثابت'!$D$2:$D$115,B1961,'الرصيد الثابت'!$J$2:$J$115))","v":""},null,0,null,null,null,null,0,null,null,null,0,null,0,null,null,null,null,null,null,null,null,null,null,null,null,null,null,null,null,null,null,null,null,null,null,null,null,null,null,null,null,null,null,null,null,null,null,null,null,null,null,null,null,null,null,null,null,null,null,null,null,null,null,null,null,null,null,null,null,null,null,null,null,null,null,null,null,null,{"$f":"IFERROR(VLOOKUP(ROWS($CF$3:CF1961),$CH$3:$CI$2001,2,FALSE),\"\")","v":""}]
[null,null,{"$f":"IF(B1962=\"\",\"\",SUMIF('الرصيد الثابت'!$D$2:$D$115,B1962,'الرصيد الثابت'!$H$2:$H$115))","v":""},{"$f":"IF(B1962=\"\",\"\",SUMIF('الرصيد الثابت'!$D$2:$D$115,B1962,'الرصيد الثابت'!$I$2:$I$115))","v":""},{"$f":"IF(B1962=\"\",\"\",SUMIF('الرصيد الثابت'!$D$2:$D$115,B1962,'الرصيد الثابت'!$J$2:$J$115))","v":""},null,0,null,null,null,null,0,null,null,null,0,null,0,null,null,null,null,null,null,null,null,null,null,null,null,null,null,null,null,null,null,null,null,null,null,null,null,null,null,null,null,null,null,null,null,null,null,null,null,null,null,null,null,null,null,null,null,null,null,null,null,null,null,null,null,null,null,null,null,null,null,null,null,null,null,null,null,null,{"$f":"IFERROR(VLOOKUP(ROWS($CF$3:CF1962),$CH$3:$CI$2001,2,FALSE),\"\")","v":""}]
[null,null,{"$f":"IF(B1963=\"\",\"\",SUMIF('الرصيد الثابت'!$D$2:$D$115,B1963,'الرصيد الثابت'!$H$2:$H$115))","v":""},{"$f":"IF(B1963=\"\",\"\",SUMIF('الرصيد الثابت'!$D$2:$D$115,B1963,'الرصيد الثابت'!$I$2:$I$115))","v":""},{"$f":"IF(B1963=\"\",\"\",SUMIF('الرصيد الثابت'!$D$2:$D$115,B1963,'الرصيد الثابت'!$J$2:$J$115))","v":""},null,0,null,null,null,null,0,null,null,null,0,null,0,null,null,null,null,null,null,null,null,null,null,null,null,null,null,null,null,null,null,null,null,null,null,null,null,null,null,null,null,null,null,null,null,null,null,null,null,null,null,null,null,null,null,null,null,null,null,null,null,null,null,null,null,null,null,null,null,null,null,null,null,null,null,null,null,null,{"$f":"IFERROR(VLOOKUP(ROWS($CF$3:CF1963),$CH$3:$CI$2001,2,FALSE),\"\")","v":""}]
[null,null,{"$f":"IF(B1964=\"\",\"\",SUMIF('الرصيد الثابت'!$D$2:$D$115,B1964,'الرصيد الثابت'!$H$2:$H$115))","v":""},{"$f":"IF(B1964=\"\",\"\",SUMIF('الرصيد الثابت'!$D$2:$D$115,B1964,'الرصيد الثابت'!$I$2:$I$115))","v":""},{"$f":"IF(B1964=\"\",\"\",SUMIF('الرصيد الثابت'!$D$2:$D$115,B1964,'الرصيد الثابت'!$J$2:$J$115))","v":""},null,0,null,null,null,null,0,null,null,null,0,null,0,null,null,null,null,null,null,null,null,null,null,null,null,null,null,null,null,null,null,null,null,null,null,null,null,null,null,null,null,null,null,null,null,null,null,null,null,null,null,null,null,null,null,null,null,null,null,null,null,null,null,null,null,null,null,null,null,null,null,null,null,null,null,null,null,null,{"$f":"IFERROR(VLOOKUP(ROWS($CF$3:CF1964),$CH$3:$CI$2001,2,FALSE),\"\")","v":""}]
[null,null,{"$f":"IF(B1965=\"\",\"\",SUMIF('الرصيد الثابت'!$D$2:$D$115,B1965,'الرصيد الثابت'!$H$2:$H$115))","v":""},{"$f":"IF(B1965=\"\",\"\",SUMIF('الرصيد الثابت'!$D$2:$D$115,B1965,'الرصيد الثابت'!$I$2:$I$115))","v":""},{"$f":"IF(B1965=\"\",\"\",SUMIF('الرصيد الثابت'!$D$2:$D$115,B1965,'الرصيد الثابت'!$J$2:$J$115))","v":""},null,0,null,null,null,null,0,null,null,null,0,null,0,null,null,null,null,null,null,null,null,null,null,null,null,null,null,null,null,null,null,null,null,null,null,null,null,null,null,null,null,null,null,null,null,null,null,null,null,null,null,null,null,null,null,null,null,null,null,null,null,null,null,null,null,null,null,null,null,null,null,null,null,null,null,null,null,null,{"$f":"IFERROR(VLOOKUP(ROWS($CF$3:CF1965),$CH$3:$CI$2001,2,FALSE),\"\")","v":""}]
[null,null,{"$f":"IF(B1966=\"\",\"\",SUMIF('الرصيد الثابت'!$D$2:$D$115,B1966,'الرصيد الثابت'!$H$2:$H$115))","v":""},{"$f":"IF(B1966=\"\",\"\",SUMIF('الرصيد الثابت'!$D$2:$D$115,B1966,'الرصيد الثابت'!$I$2:$I$115))","v":""},{"$f":"IF(B1966=\"\",\"\",SUMIF('الرصيد الثابت'!$D$2:$D$115,B1966,'الرصيد الثابت'!$J$2:$J$115))","v":""},null,0,null,null,null,null,0,null,null,null,0,null,0,null,null,null,null,null,null,null,null,null,null,null,null,null,null,null,null,null,null,null,null,null,null,null,null,null,null,null,null,null,null,null,null,null,null,null,null,null,null,null,null,null,null,null,null,null,null,null,null,null,null,null,null,null,null,null,null,null,null,null,null,null,null,null,null,null,{"$f":"IFERROR(VLOOKUP(ROWS($CF$3:CF1966),$CH$3:$CI$2001,2,FALSE),\"\")","v":""}]
[null,null,{"$f":"IF(B1967=\"\",\"\",SUMIF('الرصيد الثابت'!$D$2:$D$115,B1967,'الرصيد الثابت'!$H$2:$H$115))","v":""},{"$f":"IF(B1967=\"\",\"\",SUMIF('الرصيد الثابت'!$D$2:$D$115,B1967,'الرصيد الثابت'!$I$2:$I$115))","v":""},{"$f":"IF(B1967=\"\",\"\",SUMIF('الرصيد الثابت'!$D$2:$D$115,B1967,'الرصيد الثابت'!$J$2:$J$115))","v":""},null,0,null,null,null,null,0,null,null,null,0,null,0,null,null,null,null,null,null,null,null,null,null,null,null,null,null,null,null,null,null,null,null,null,null,null,null,null,null,null,null,null,null,null,null,null,null,null,null,null,null,null,null,null,null,null,null,null,null,null,null,null,null,null,null,null,null,null,null,null,null,null,null,null,null,null,null,null,{"$f":"IFERROR(VLOOKUP(ROWS($CF$3:CF1967),$CH$3:$CI$2001,2,FALSE),\"\")","v":""}]
[null,null,{"$f":"IF(B1968=\"\",\"\",SUMIF('الرصيد الثابت'!$D$2:$D$115,B1968,'الرصيد الثابت'!$H$2:$H$115))","v":""},{"$f":"IF(B1968=\"\",\"\",SUMIF('الرصيد الثابت'!$D$2:$D$115,B1968,'الرصيد الثابت'!$I$2:$I$115))","v":""},{"$f":"IF(B1968=\"\",\"\",SUMIF('الرصيد الثابت'!$D$2:$D$115,B1968,'الرصيد الثابت'!$J$2:$J$115))","v":""},null,0,null,null,null,null,0,null,null,null,0,null,0,null,null,null,null,null,null,null,null,null,null,null,null,null,null,null,null,null,null,null,null,null,null,null,null,null,null,null,null,null,null,null,null,null,null,null,null,null,null,null,null,null,null,null,null,null,null,null,null,null,null,null,null,null,null,null,null,null,null,null,null,null,null,null,null,null,{"$f":"IFERROR(VLOOKUP(ROWS($CF$3:CF1968),$CH$3:$CI$2001,2,FALSE),\"\")","v":""}]
[null,null,{"$f":"IF(B1969=\"\",\"\",SUMIF('الرصيد الثابت'!$D$2:$D$115,B1969,'الرصيد الثابت'!$H$2:$H$115))","v":""},{"$f":"IF(B1969=\"\",\"\",SUMIF('الرصيد الثابت'!$D$2:$D$115,B1969,'الرصيد الثابت'!$I$2:$I$115))","v":""},{"$f":"IF(B1969=\"\",\"\",SUMIF('الرصيد الثابت'!$D$2:$D$115,B1969,'الرصيد الثابت'!$J$2:$J$115))","v":""},null,0,null,null,null,null,0,null,null,null,0,null,0,null,null,null,null,null,null,null,null,null,null,null,null,null,null,null,null,null,null,null,null,null,null,null,null,null,null,null,null,null,null,null,null,null,null,null,null,null,null,null,null,null,null,null,null,null,null,null,null,null,null,null,null,null,null,null,null,null,null,null,null,null,null,null,null,null,{"$f":"IFERROR(VLOOKUP(ROWS($CF$3:CF1969),$CH$3:$CI$2001,2,FALSE),\"\")","v":""}]
[null,null,{"$f":"IF(B1970=\"\",\"\",SUMIF('الرصيد الثابت'!$D$2:$D$115,B1970,'الرصيد الثابت'!$H$2:$H$115))","v":""},{"$f":"IF(B1970=\"\",\"\",SUMIF('الرصيد الثابت'!$D$2:$D$115,B1970,'الرصيد الثابت'!$I$2:$I$115))","v":""},{"$f":"IF(B1970=\"\",\"\",SUMIF('الرصيد الثابت'!$D$2:$D$115,B1970,'الرصيد الثابت'!$J$2:$J$115))","v":""},null,0,null,null,null,null,0,null,null,null,0,null,0,null,null,null,null,null,null,null,null,null,null,null,null,null,null,null,null,null,null,null,null,null,null,null,null,null,null,null,null,null,null,null,null,null,null,null,null,null,null,null,null,null,null,null,null,null,null,null,null,null,null,null,null,null,null,null,null,null,null,null,null,null,null,null,null,null,{"$f":"IFERROR(VLOOKUP(ROWS($CF$3:CF1970),$CH$3:$CI$2001,2,FALSE),\"\")","v":""}]
[null,null,{"$f":"IF(B1971=\"\",\"\",SUMIF('الرصيد الثابت'!$D$2:$D$115,B1971,'الرصيد الثابت'!$H$2:$H$115))","v":""},{"$f":"IF(B1971=\"\",\"\",SUMIF('الرصيد الثابت'!$D$2:$D$115,B1971,'الرصيد الثابت'!$I$2:$I$115))","v":""},{"$f":"IF(B1971=\"\",\"\",SUMIF('الرصيد الثابت'!$D$2:$D$115,B1971,'الرصيد الثابت'!$J$2:$J$115))","v":""},null,0,null,null,null,null,0,null,null,null,0,null,0,null,null,null,null,null,null,null,null,null,null,null,null,null,null,null,null,null,null,null,null,null,null,null,null,null,null,null,null,null,null,null,null,null,null,null,null,null,null,null,null,null,null,null,null,null,null,null,null,null,null,null,null,null,null,null,null,null,null,null,null,null,null,null,null,null,{"$f":"IFERROR(VLOOKUP(ROWS($CF$3:CF1971),$CH$3:$CI$2001,2,FALSE),\"\")","v":""}]
[null,null,{"$f":"IF(B1972=\"\",\"\",SUMIF('الرصيد الثابت'!$D$2:$D$115,B1972,'الرصيد الثابت'!$H$2:$H$115))","v":""},{"$f":"IF(B1972=\"\",\"\",SUMIF('الرصيد الثابت'!$D$2:$D$115,B1972,'الرصيد الثابت'!$I$2:$I$115))","v":""},{"$f":"IF(B1972=\"\",\"\",SUMIF('الرصيد الثابت'!$D$2:$D$115,B1972,'الرصيد الثابت'!$J$2:$J$115))","v":""},null,0,null,null,null,null,0,null,null,null,0,null,0,null,null,null,null,null,null,null,null,null,null,null,null,null,null,null,null,null,null,null,null,null,null,null,null,null,null,null,null,null,null,null,null,null,null,null,null,null,null,null,null,null,null,null,null,null,null,null,null,null,null,null,null,null,null,null,null,null,null,null,null,null,null,null,null,null,{"$f":"IFERROR(VLOOKUP(ROWS($CF$3:CF1972),$CH$3:$CI$2001,2,FALSE),\"\")","v":""}]
[null,null,{"$f":"IF(B1973=\"\",\"\",SUMIF('الرصيد الثابت'!$D$2:$D$115,B1973,'الرصيد الثابت'!$H$2:$H$115))","v":""},{"$f":"IF(B1973=\"\",\"\",SUMIF('الرصيد الثابت'!$D$2:$D$115,B1973,'الرصيد الثابت'!$I$2:$I$115))","v":""},{"$f":"IF(B1973=\"\",\"\",SUMIF('الرصيد الثابت'!$D$2:$D$115,B1973,'الرصيد الثابت'!$J$2:$J$115))","v":""},null,0,null,null,null,null,0,null,null,null,0,null,0,null,null,null,null,null,null,null,null,null,null,null,null,null,null,null,null,null,null,null,null,null,null,null,null,null,null,null,null,null,null,null,null,null,null,null,null,null,null,null,null,null,null,null,null,null,null,null,null,null,null,null,null,null,null,null,null,null,null,null,null,null,null,null,null,null,{"$f":"IFERROR(VLOOKUP(ROWS($CF$3:CF1973),$CH$3:$CI$2001,2,FALSE),\"\")","v":""}]
[null,null,{"$f":"IF(B1974=\"\",\"\",SUMIF('الرصيد الثابت'!$D$2:$D$115,B1974,'الرصيد الثابت'!$H$2:$H$115))","v":""},{"$f":"IF(B1974=\"\",\"\",SUMIF('الرصيد الثابت'!$D$2:$D$115,B1974,'الرصيد الثابت'!$I$2:$I$115))","v":""},{"$f":"IF(B1974=\"\",\"\",SUMIF('الرصيد الثابت'!$D$2:$D$115,B1974,'الرصيد الثابت'!$J$2:$J$115))","v":""},null,0,null,null,null,null,0,null,null,null,0,null,0,null,null,null,null,null,null,null,null,null,null,null,null,null,null,null,null,null,null,null,null,null,null,null,null,null,null,null,null,null,null,null,null,null,null,null,null,null,null,null,null,null,null,null,null,null,null,null,null,null,null,null,null,null,null,null,null,null,null,null,null,null,null,null,null,null,{"$f":"IFERROR(VLOOKUP(ROWS($CF$3:CF1974),$CH$3:$CI$2001,2,FALSE),\"\")","v":""}]
[null,null,{"$f":"IF(B1975=\"\",\"\",SUMIF('الرصيد الثابت'!$D$2:$D$115,B1975,'الرصيد الثابت'!$H$2:$H$115))","v":""},{"$f":"IF(B1975=\"\",\"\",SUMIF('الرصيد الثابت'!$D$2:$D$115,B1975,'الرصيد الثابت'!$I$2:$I$115))","v":""},{"$f":"IF(B1975=\"\",\"\",SUMIF('الرصيد الثابت'!$D$2:$D$115,B1975,'الرصيد الثابت'!$J$2:$J$115))","v":""},null,0,null,null,null,null,0,null,null,null,0,null,0,null,null,null,null,null,null,null,null,null,null,null,null,null,null,null,null,null,null,null,null,null,null,null,null,null,null,null,null,null,null,null,null,null,null,null,null,null,null,null,null,null,null,null,null,null,null,null,null,null,null,null,null,null,null,null,null,null,null,null,null,null,null,null,null,null,{"$f":"IFERROR(VLOOKUP(ROWS($CF$3:CF1975),$CH$3:$CI$2001,2,FALSE),\"\")","v":""}]
[null,null,{"$f":"IF(B1976=\"\",\"\",SUMIF('الرصيد الثابت'!$D$2:$D$115,B1976,'الرصيد الثابت'!$H$2:$H$115))","v":""},{"$f":"IF(B1976=\"\",\"\",SUMIF('الرصيد الثابت'!$D$2:$D$115,B1976,'الرصيد الثابت'!$I$2:$I$115))","v":""},{"$f":"IF(B1976=\"\",\"\",SUMIF('الرصيد الثابت'!$D$2:$D$115,B1976,'الرصيد الثابت'!$J$2:$J$115))","v":""},null,0,null,null,null,null,0,null,null,null,0,null,0,null,null,null,null,null,null,null,null,null,null,null,null,null,null,null,null,null,null,null,null,null,null,null,null,null,null,null,null,null,null,null,null,null,null,null,null,null,null,null,null,null,null,null,null,null,null,null,null,null,null,null,null,null,null,null,null,null,null,null,null,null,null,null,null,null,{"$f":"IFERROR(VLOOKUP(ROWS($CF$3:CF1976),$CH$3:$CI$2001,2,FALSE),\"\")","v":""}]
[null,null,{"$f":"IF(B1977=\"\",\"\",SUMIF('الرصيد الثابت'!$D$2:$D$115,B1977,'الرصيد الثابت'!$H$2:$H$115))","v":""},{"$f":"IF(B1977=\"\",\"\",SUMIF('الرصيد الثابت'!$D$2:$D$115,B1977,'الرصيد الثابت'!$I$2:$I$115))","v":""},{"$f":"IF(B1977=\"\",\"\",SUMIF('الرصيد الثابت'!$D$2:$D$115,B1977,'الرصيد الثابت'!$J$2:$J$115))","v":""},null,0,null,null,null,null,0,null,null,null,0,null,0,null,null,null,null,null,null,null,null,null,null,null,null,null,null,null,null,null,null,null,null,null,null,null,null,null,null,null,null,null,null,null,null,null,null,null,null,null,null,null,null,null,null,null,null,null,null,null,null,null,null,null,null,null,null,null,null,null,null,null,null,null,null,null,null,null,{"$f":"IFERROR(VLOOKUP(ROWS($CF$3:CF1977),$CH$3:$CI$2001,2,FALSE),\"\")","v":""}]
[null,null,{"$f":"IF(B1978=\"\",\"\",SUMIF('الرصيد الثابت'!$D$2:$D$115,B1978,'الرصيد الثابت'!$H$2:$H$115))","v":""},{"$f":"IF(B1978=\"\",\"\",SUMIF('الرصيد الثابت'!$D$2:$D$115,B1978,'الرصيد الثابت'!$I$2:$I$115))","v":""},{"$f":"IF(B1978=\"\",\"\",SUMIF('الرصيد الثابت'!$D$2:$D$115,B1978,'الرصيد الثابت'!$J$2:$J$115))","v":""},null,0,null,null,null,null,0,null,null,null,0,null,0,null,null,null,null,null,null,null,null,null,null,null,null,null,null,null,null,null,null,null,null,null,null,null,null,null,null,null,null,null,null,null,null,null,null,null,null,null,null,null,null,null,null,null,null,null,null,null,null,null,null,null,null,null,null,null,null,null,null,null,null,null,null,null,null,null,{"$f":"IFERROR(VLOOKUP(ROWS($CF$3:CF1978),$CH$3:$CI$2001,2,FALSE),\"\")","v":""}]
[null,null,{"$f":"IF(B1979=\"\",\"\",SUMIF('الرصيد الثابت'!$D$2:$D$115,B1979,'الرصيد الثابت'!$H$2:$H$115))","v":""},{"$f":"IF(B1979=\"\",\"\",SUMIF('الرصيد الثابت'!$D$2:$D$115,B1979,'الرصيد الثابت'!$I$2:$I$115))","v":""},{"$f":"IF(B1979=\"\",\"\",SUMIF('الرصيد الثابت'!$D$2:$D$115,B1979,'الرصيد الثابت'!$J$2:$J$115))","v":""},null,0,null,null,null,null,0,null,null,null,0,null,0,null,null,null,null,null,null,null,null,null,null,null,null,null,null,null,null,null,null,null,null,null,null,null,null,null,null,null,null,null,null,null,null,null,null,null,null,null,null,null,null,null,null,null,null,null,null,null,null,null,null,null,null,null,null,null,null,null,null,null,null,null,null,null,null,null,{"$f":"IFERROR(VLOOKUP(ROWS($CF$3:CF1979),$CH$3:$CI$2001,2,FALSE),\"\")","v":""}]
[null,null,{"$f":"IF(B1980=\"\",\"\",SUMIF('الرصيد الثابت'!$D$2:$D$115,B1980,'الرصيد الثابت'!$H$2:$H$115))","v":""},{"$f":"IF(B1980=\"\",\"\",SUMIF('الرصيد الثابت'!$D$2:$D$115,B1980,'الرصيد الثابت'!$I$2:$I$115))","v":""},{"$f":"IF(B1980=\"\",\"\",SUMIF('الرصيد الثابت'!$D$2:$D$115,B1980,'الرصيد الثابت'!$J$2:$J$115))","v":""},null,0,null,null,null,null,0,null,null,null,0,null,0,null,null,null,null,null,null,null,null,null,null,null,null,null,null,null,null,null,null,null,null,null,null,null,null,null,null,null,null,null,null,null,null,null,null,null,null,null,null,null,null,null,null,null,null,null,null,null,null,null,null,null,null,null,null,null,null,null,null,null,null,null,null,null,null,null,{"$f":"IFERROR(VLOOKUP(ROWS($CF$3:CF1980),$CH$3:$CI$2001,2,FALSE),\"\")","v":""}]
[null,null,{"$f":"IF(B1981=\"\",\"\",SUMIF('الرصيد الثابت'!$D$2:$D$115,B1981,'الرصيد الثابت'!$H$2:$H$115))","v":""},{"$f":"IF(B1981=\"\",\"\",SUMIF('الرصيد الثابت'!$D$2:$D$115,B1981,'الرصيد الثابت'!$I$2:$I$115))","v":""},{"$f":"IF(B1981=\"\",\"\",SUMIF('الرصيد الثابت'!$D$2:$D$115,B1981,'الرصيد الثابت'!$J$2:$J$115))","v":""},null,0,null,null,null,null,0,null,null,null,0,null,0,null,null,null,null,null,null,null,null,null,null,null,null,null,null,null,null,null,null,null,null,null,null,null,null,null,null,null,null,null,null,null,null,null,null,null,null,null,null,null,null,null,null,null,null,null,null,null,null,null,null,null,null,null,null,null,null,null,null,null,null,null,null,null,null,null,{"$f":"IFERROR(VLOOKUP(ROWS($CF$3:CF1981),$CH$3:$CI$2001,2,FALSE),\"\")","v":""}]
[null,null,{"$f":"IF(B1982=\"\",\"\",SUMIF('الرصيد الثابت'!$D$2:$D$115,B1982,'الرصيد الثابت'!$H$2:$H$115))","v":""},{"$f":"IF(B1982=\"\",\"\",SUMIF('الرصيد الثابت'!$D$2:$D$115,B1982,'الرصيد الثابت'!$I$2:$I$115))","v":""},{"$f":"IF(B1982=\"\",\"\",SUMIF('الرصيد الثابت'!$D$2:$D$115,B1982,'الرصيد الثابت'!$J$2:$J$115))","v":""},null,0,null,null,null,null,0,null,null,null,0,null,0,null,null,null,null,null,null,null,null,null,null,null,null,null,null,null,null,null,null,null,null,null,null,null,null,null,null,null,null,null,null,null,null,null,null,null,null,null,null,null,null,null,null,null,null,null,null,null,null,null,null,null,null,null,null,null,null,null,null,null,null,null,null,null,null,null,{"$f":"IFERROR(VLOOKUP(ROWS($CF$3:CF1982),$CH$3:$CI$2001,2,FALSE),\"\")","v":""}]
[null,null,{"$f":"IF(B1983=\"\",\"\",SUMIF('الرصيد الثابت'!$D$2:$D$115,B1983,'الرصيد الثابت'!$H$2:$H$115))","v":""},{"$f":"IF(B1983=\"\",\"\",SUMIF('الرصيد الثابت'!$D$2:$D$115,B1983,'الرصيد الثابت'!$I$2:$I$115))","v":""},{"$f":"IF(B1983=\"\",\"\",SUMIF('الرصيد الثابت'!$D$2:$D$115,B1983,'الرصيد الثابت'!$J$2:$J$115))","v":""},null,0,null,null,null,null,0,null,null,null,0,null,0,null,null,null,null,null,null,null,null,null,null,null,null,null,null,null,null,null,null,null,null,null,null,null,null,null,null,null,null,null,null,null,null,null,null,null,null,null,null,null,null,null,null,null,null,null,null,null,null,null,null,null,null,null,null,null,null,null,null,null,null,null,null,null,null,null,{"$f":"IFERROR(VLOOKUP(ROWS($CF$3:CF1983),$CH$3:$CI$2001,2,FALSE),\"\")","v":""}]
[null,null,{"$f":"IF(B1984=\"\",\"\",SUMIF('الرصيد الثابت'!$D$2:$D$115,B1984,'الرصيد الثابت'!$H$2:$H$115))","v":""},{"$f":"IF(B1984=\"\",\"\",SUMIF('الرصيد الثابت'!$D$2:$D$115,B1984,'الرصيد الثابت'!$I$2:$I$115))","v":""},{"$f":"IF(B1984=\"\",\"\",SUMIF('الرصيد الثابت'!$D$2:$D$115,B1984,'الرصيد الثابت'!$J$2:$J$115))","v":""},null,0,null,null,null,null,0,null,null,null,0,null,0,null,null,null,null,null,null,null,null,null,null,null,null,null,null,null,null,null,null,null,null,null,null,null,null,null,null,null,null,null,null,null,null,null,null,null,null,null,null,null,null,null,null,null,null,null,null,null,null,null,null,null,null,null,null,null,null,null,null,null,null,null,null,null,null,null,{"$f":"IFERROR(VLOOKUP(ROWS($CF$3:CF1984),$CH$3:$CI$2001,2,FALSE),\"\")","v":""}]
[null,null,{"$f":"IF(B1985=\"\",\"\",SUMIF('الرصيد الثابت'!$D$2:$D$115,B1985,'الرصيد الثابت'!$H$2:$H$115))","v":""},{"$f":"IF(B1985=\"\",\"\",SUMIF('الرصيد الثابت'!$D$2:$D$115,B1985,'الرصيد الثابت'!$I$2:$I$115))","v":""},{"$f":"IF(B1985=\"\",\"\",SUMIF('الرصيد الثابت'!$D$2:$D$115,B1985,'الرصيد الثابت'!$J$2:$J$115))","v":""},null,0,null,null,null,null,0,null,null,null,0,null,0,null,null,null,null,null,null,null,null,null,null,null,null,null,null,null,null,null,null,null,null,null,null,null,null,null,null,null,null,null,null,null,null,null,null,null,null,null,null,null,null,null,null,null,null,null,null,null,null,null,null,null,null,null,null,null,null,null,null,null,null,null,null,null,null,null,{"$f":"IFERROR(VLOOKUP(ROWS($CF$3:CF1985),$CH$3:$CI$2001,2,FALSE),\"\")","v":""}]
[null,null,{"$f":"IF(B1986=\"\",\"\",SUMIF('الرصيد الثابت'!$D$2:$D$115,B1986,'الرصيد الثابت'!$H$2:$H$115))","v":""},{"$f":"IF(B1986=\"\",\"\",SUMIF('الرصيد الثابت'!$D$2:$D$115,B1986,'الرصيد الثابت'!$I$2:$I$115))","v":""},{"$f":"IF(B1986=\"\",\"\",SUMIF('الرصيد الثابت'!$D$2:$D$115,B1986,'الرصيد الثابت'!$J$2:$J$115))","v":""},null,0,null,null,null,null,0,null,null,null,0,null,0,null,null,null,null,null,null,null,null,null,null,null,null,null,null,null,null,null,null,null,null,null,null,null,null,null,null,null,null,null,null,null,null,null,null,null,null,null,null,null,null,null,null,null,null,null,null,null,null,null,null,null,null,null,null,null,null,null,null,null,null,null,null,null,null,null,{"$f":"IFERROR(VLOOKUP(ROWS($CF$3:CF1986),$CH$3:$CI$2001,2,FALSE),\"\")","v":""}]
[null,null,{"$f":"IF(B1987=\"\",\"\",SUMIF('الرصيد الثابت'!$D$2:$D$115,B1987,'الرصيد الثابت'!$H$2:$H$115))","v":""},{"$f":"IF(B1987=\"\",\"\",SUMIF('الرصيد الثابت'!$D$2:$D$115,B1987,'الرصيد الثابت'!$I$2:$I$115))","v":""},{"$f":"IF(B1987=\"\",\"\",SUMIF('الرصيد الثابت'!$D$2:$D$115,B1987,'الرصيد الثابت'!$J$2:$J$115))","v":""},null,0,null,null,null,null,{"$f":"SUM(M1987*K1987)","v":0},null,null,null,0,null,0,null,null,null,null,null,null,null,null,null,null,null,null,null,null,null,null,null,null,null,null,null,null,null,null,null,null,null,null,null,null,null,null,null,null,null,null,null,null,null,null,null,null,null,null,null,null,null,null,null,null,null,null,null,null,null,null,null,null,null,null,null,null,null,null,null,{"$f":"IFERROR(VLOOKUP(ROWS($CF$3:CF1987),$CH$3:$CI$2001,2,FALSE),\"\")","v":""}]
[null,null,{"$f":"IF(B1988=\"\",\"\",SUMIF('الرصيد الثابت'!$D$2:$D$115,B1988,'الرصيد الثابت'!$H$2:$H$115))","v":""},{"$f":"IF(B1988=\"\",\"\",SUMIF('الرصيد الثابت'!$D$2:$D$115,B1988,'الرصيد الثابت'!$I$2:$I$115))","v":""},{"$f":"IF(B1988=\"\",\"\",SUMIF('الرصيد الثابت'!$D$2:$D$115,B1988,'الرصيد الثابت'!$J$2:$J$115))","v":""},null,{"$f":"SUM(H1988*F1988)","v":0},null,null,null,null,0,null,null,null,0,null,0,null,null,null,null,null,null,null,null,null,null,null,null,null,null,null,null,null,null,null,null,null,null,null,null,null,null,null,null,null,null,null,null,null,null,null,null,null,null,null,null,null,null,null,null,null,null,null,null,null,null,null,null,null,null,null,null,null,null,null,null,null,null,null,null,null,{"$f":"IFERROR(VLOOKUP(ROWS($CF$3:CF1988),$CH$3:$CI$2001,2,FALSE),\"\")","v":""}]
[null,null,{"$f":"IF(B1989=\"\",\"\",SUMIF('الرصيد الثابت'!$D$2:$D$115,B1989,'الرصيد الثابت'!$H$2:$H$115))","v":""},{"$f":"IF(B1989=\"\",\"\",SUMIF('الرصيد الثابت'!$D$2:$D$115,B1989,'الرصيد الثابت'!$I$2:$I$115))","v":""},{"$f":"IF(B1989=\"\",\"\",SUMIF('الرصيد الثابت'!$D$2:$D$115,B1989,'الرصيد الثابت'!$J$2:$J$115))","v":""},null,0,null,null,null,null,0,null,null,null,0,null,0,null,null,null,null,null,null,null,null,null,null,null,null,null,null,null,null,null,null,null,null,null,null,null,null,null,null,null,null,null,null,null,null,null,null,null,null,null,null,null,null,null,null,null,null,null,null,null,null,null,null,null,null,null,null,null,null,null,null,null,null,null,null,null,null,null,{"$f":"IFERROR(VLOOKUP(ROWS($CF$3:CF1989),$CH$3:$CI$2001,2,FALSE),\"\")","v":""}]
[null,null,{"$f":"IF(B1990=\"\",\"\",SUMIF('الرصيد الثابت'!$D$2:$D$115,B1990,'الرصيد الثابت'!$H$2:$H$115))","v":""},{"$f":"IF(B1990=\"\",\"\",SUMIF('الرصيد الثابت'!$D$2:$D$115,B1990,'الرصيد الثابت'!$I$2:$I$115))","v":""},{"$f":"IF(B1990=\"\",\"\",SUMIF('الرصيد الثابت'!$D$2:$D$115,B1990,'الرصيد الثابت'!$J$2:$J$115))","v":""},null,0,null,null,null,null,0,null,null,null,0,null,0,null,null,null,null,null,null,null,null,null,null,null,null,null,null,null,null,null,null,null,null,null,null,null,null,null,null,null,null,null,null,null,null,null,null,null,null,null,null,null,null,null,null,null,null,null,null,null,null,null,null,null,null,null,null,null,null,null,null,null,null,null,null,null,null,null,{"$f":"IFERROR(VLOOKUP(ROWS($CF$3:CF1990),$CH$3:$CI$2001,2,FALSE),\"\")","v":""}]
[null,null,{"$f":"IF(B1991=\"\",\"\",SUMIF('الرصيد الثابت'!$D$2:$D$115,B1991,'الرصيد الثابت'!$H$2:$H$115))","v":""},{"$f":"IF(B1991=\"\",\"\",SUMIF('الرصيد الثابت'!$D$2:$D$115,B1991,'الرصيد الثابت'!$I$2:$I$115))","v":""},{"$f":"IF(B1991=\"\",\"\",SUMIF('الرصيد الثابت'!$D$2:$D$115,B1991,'الرصيد الثابت'!$J$2:$J$115))","v":""},null,0,null,null,null,null,0,null,null,null,0,null,{"$f":"SUM(S1991*Q1991)","v":0},null,null,null,null,null,null,null,null,null,null,null,null,null,null,null,null,null,null,null,null,null,null,null,null,null,null,null,null,null,null,null,null,null,null,null,null,null,null,null,null,null,null,null,null,null,null,null,null,null,null,null,null,null,null,null,null,null,null,null,null,null,null,null,null,null,{"$f":"IFERROR(VLOOKUP(ROWS($CF$3:CF1991),$CH$3:$CI$2001,2,FALSE),\"\")","v":""}]
[null,null,{"$f":"IF(B1992=\"\",\"\",SUMIF('الرصيد الثابت'!$D$2:$D$115,B1992,'الرصيد الثابت'!$H$2:$H$115))","v":""},{"$f":"IF(B1992=\"\",\"\",SUMIF('الرصيد الثابت'!$D$2:$D$115,B1992,'الرصيد الثابت'!$I$2:$I$115))","v":""},{"$f":"IF(B1992=\"\",\"\",SUMIF('الرصيد الثابت'!$D$2:$D$115,B1992,'الرصيد الثابت'!$J$2:$J$115))","v":""},null,0,null,null,null,null,0,null,null,null,0,null,0,null,null,null,null,null,null,null,null,null,null,null,null,null,null,null,null,null,null,null,null,null,null,null,null,null,null,null,null,null,null,null,null,null,null,null,null,null,null,null,null,null,null,null,null,null,null,null,null,null,null,null,null,null,null,null,null,null,null,null,null,null,null,null,null,null,{"$f":"IFERROR(VLOOKUP(ROWS($CF$3:CF1992),$CH$3:$CI$2001,2,FALSE),\"\")","v":""}]
[null,null,{"$f":"IF(B1993=\"\",\"\",SUMIF('الرصيد الثابت'!$D$2:$D$115,B1993,'الرصيد الثابت'!$H$2:$H$115))","v":""},{"$f":"IF(B1993=\"\",\"\",SUMIF('الرصيد الثابت'!$D$2:$D$115,B1993,'الرصيد الثابت'!$I$2:$I$115))","v":""},{"$f":"IF(B1993=\"\",\"\",SUMIF('الرصيد الثابت'!$D$2:$D$115,B1993,'الرصيد الثابت'!$J$2:$J$115))","v":""},null,0,null,null,null,null,0,null,null,null,0,null,0,null,null,null,null,null,null,null,null,null,null,null,null,null,null,null,null,null,null,null,null,null,null,null,null,null,null,null,null,null,null,null,null,null,null,null,null,null,null,null,null,null,null,null,null,null,null,null,null,null,null,null,null,null,null,null,null,null,null,null,null,null,null,null,null,null,{"$f":"IFERROR(VLOOKUP(ROWS($CF$3:CF1993),$CH$3:$CI$2001,2,FALSE),\"\")","v":""}]
[null,null,{"$f":"IF(B1994=\"\",\"\",SUMIF('الرصيد الثابت'!$D$2:$D$115,B1994,'الرصيد الثابت'!$H$2:$H$115))","v":""},{"$f":"IF(B1994=\"\",\"\",SUMIF('الرصيد الثابت'!$D$2:$D$115,B1994,'الرصيد الثابت'!$I$2:$I$115))","v":""},{"$f":"IF(B1994=\"\",\"\",SUMIF('الرصيد الثابت'!$D$2:$D$115,B1994,'الرصيد الثابت'!$J$2:$J$115))","v":""},null,0,null,null,null,null,0,null,null,null,0,null,0,null,null,null,null,null,null,null,null,null,null,null,null,null,null,null,null,null,null,null,null,null,null,null,null,null,null,null,null,null,null,null,null,null,null,null,null,null,null,null,null,null,null,null,null,null,null,null,null,null,null,null,null,null,null,null,null,null,null,null,null,null,null,null,null,null,{"$f":"IFERROR(VLOOKUP(ROWS($CF$3:CF1994),$CH$3:$CI$2001,2,FALSE),\"\")","v":""}]
[null,null,{"$f":"IF(B1995=\"\",\"\",SUMIF('الرصيد الثابت'!$D$2:$D$115,B1995,'الرصيد الثابت'!$H$2:$H$115))","v":""},{"$f":"IF(B1995=\"\",\"\",SUMIF('الرصيد الثابت'!$D$2:$D$115,B1995,'الرصيد الثابت'!$I$2:$I$115))","v":""},{"$f":"IF(B1995=\"\",\"\",SUMIF('الرصيد الثابت'!$D$2:$D$115,B1995,'الرصيد الثابت'!$J$2:$J$115))","v":""},null,0,null,null,null,null,0,null,null,null,0,null,0,null,null,null,null,null,null,null,null,null,null,null,null,null,null,null,null,null,null,null,null,null,null,null,null,null,null,null,null,null,null,null,null,null,null,null,null,null,null,null,null,null,null,null,null,null,null,null,null,null,null,null,null,null,null,null,null,null,null,null,null,null,null,null,null,null,{"$f":"IFERROR(VLOOKUP(ROWS($CF$3:CF1995),$CH$3:$CI$2001,2,FALSE),\"\")","v":""}]
[null,null,{"$f":"IF(B1996=\"\",\"\",SUMIF('الرصيد الثابت'!$D$2:$D$115,B1996,'الرصيد الثابت'!$H$2:$H$115))","v":""},{"$f":"IF(B1996=\"\",\"\",SUMIF('الرصيد الثابت'!$D$2:$D$115,B1996,'الرصيد الثابت'!$I$2:$I$115))","v":""},{"$f":"IF(B1996=\"\",\"\",SUMIF('الرصيد الثابت'!$D$2:$D$115,B1996,'الرصيد الثابت'!$J$2:$J$115))","v":""},null,0,null,null,null,null,0,null,null,null,0,null,0,null,null,null,null,null,null,null,null,null,null,null,null,null,null,null,null,null,null,null,null,null,null,null,null,null,null,null,null,null,null,null,null,null,null,null,null,null,null,null,null,null,null,null,null,null,null,null,null,null,null,null,null,null,null,null,null,null,null,null,null,null,null,null,null,null,{"$f":"IFERROR(VLOOKUP(ROWS($CF$3:CF1996),$CH$3:$CI$2001,2,FALSE),\"\")","v":""}]
[null,null,{"$f":"IF(B1997=\"\",\"\",SUMIF('الرصيد الثابت'!$D$2:$D$115,B1997,'الرصيد الثابت'!$H$2:$H$115))","v":""},{"$f":"IF(B1997=\"\",\"\",SUMIF('الرصيد الثابت'!$D$2:$D$115,B1997,'الرصيد الثابت'!$I$2:$I$115))","v":""},{"$f":"IF(B1997=\"\",\"\",SUMIF('الرصيد الثابت'!$D$2:$D$115,B1997,'الرصيد الثابت'!$J$2:$J$115))","v":""},null,0,null,null,null,null,0,null,null,null,0,null,0,null,null,null,null,null,null,null,null,null,null,null,null,null,null,null,null,null,null,null,null,null,null,null,null,null,null,null,null,null,null,null,null,null,null,null,null,null,null,null,null,null,null,null,null,null,null,null,null,null,null,null,null,null,null,null,null,null,null,null,null,null,null,null,null,null,{"$f":"IFERROR(VLOOKUP(ROWS($CF$3:CF1997),$CH$3:$CI$2001,2,FALSE),\"\")","v":""}]
[null,null,{"$f":"IF(B1998=\"\",\"\",SUMIF('الرصيد الثابت'!$D$2:$D$115,B1998,'الرصيد الثابت'!$H$2:$H$115))","v":""},{"$f":"IF(B1998=\"\",\"\",SUMIF('الرصيد الثابت'!$D$2:$D$115,B1998,'الرصيد الثابت'!$I$2:$I$115))","v":""},{"$f":"IF(B1998=\"\",\"\",SUMIF('الرصيد الثابت'!$D$2:$D$115,B1998,'الرصيد الثابت'!$J$2:$J$115))","v":""},null,0,null,null,null,null,0,null,null,null,0,null,0,null,null,null,null,null,null,null,null,null,null,null,null,null,null,null,null,null,null,null,null,null,null,null,null,null,null,null,null,null,null,null,null,null,null,null,null,null,null,null,null,null,null,null,null,null,null,null,null,null,null,null,null,null,null,null,null,null,null,null,null,null,null,null,null,null,{"$f":"IFERROR(VLOOKUP(ROWS($CF$3:CF1998),$CH$3:$CI$2001,2,FALSE),\"\")","v":""}]
[null,null,{"$f":"IF(B1999=\"\",\"\",SUMIF('الرصيد الثابت'!$D$2:$D$115,B1999,'الرصيد الثابت'!$H$2:$H$115))","v":""},{"$f":"IF(B1999=\"\",\"\",SUMIF('الرصيد الثابت'!$D$2:$D$115,B1999,'الرصيد الثابت'!$I$2:$I$115))","v":""},{"$f":"IF(B1999=\"\",\"\",SUMIF('الرصيد الثابت'!$D$2:$D$115,B1999,'الرصيد الثابت'!$J$2:$J$115))","v":""},null,0,null,null,null,null,0,null,null,null,0,null,0,null,null,null,null,null,null,null,null,null,null,null,null,null,null,null,null,null,null,null,null,null,null,null,null,null,null,null,null,null,null,null,null,null,null,null,null,null,null,null,null,null,null,null,null,null,null,null,null,null,null,null,null,null,null,null,null,null,null,null,null,null,null,null,null,null,{"$f":"IFERROR(VLOOKUP(ROWS($CF$3:CF1999),$CH$3:$CI$2001,2,FALSE),\"\")","v":""}]
[null,null,{"$f":"IF(B2000=\"\",\"\",SUMIF('الرصيد الثابت'!$D$2:$D$115,B2000,'الرصيد الثابت'!$H$2:$H$115))","v":""},{"$f":"IF(B2000=\"\",\"\",SUMIF('الرصيد الثابت'!$D$2:$D$115,B2000,'الرصيد الثابت'!$I$2:$I$115))","v":""},{"$f":"IF(B2000=\"\",\"\",SUMIF('الرصيد الثابت'!$D$2:$D$115,B2000,'الرصيد الثابت'!$J$2:$J$115))","v":""},null,0,null,null,null,null,0,null,null,null,0,null,0,null,null,null,null,null,null,null,null,null,null,null,null,null,null,null,null,null,null,null,null,null,null,null,null,null,null,null,null,null,null,null,null,null,null,null,null,null,null,null,null,null,null,null,null,null,null,null,null,null,null,null,null,null,null,null,null,null,null,null,null,null,null,null,null,null,{"$f":"IFERROR(VLOOKUP(ROWS($CF$3:CF2000),$CH$3:$CI$2001,2,FALSE),\"\")","v":""}]
[null,null,{"$f":"IF(B2001=\"\",\"\",SUMIF('الرصيد الثابت'!$D$2:$D$115,B2001,'الرصيد الثابت'!$H$2:$H$115))","v":""},{"$f":"IF(B2001=\"\",\"\",SUMIF('الرصيد الثابت'!$D$2:$D$115,B2001,'الرصيد الثابت'!$I$2:$I$115))","v":""},{"$f":"IF(B2001=\"\",\"\",SUMIF('الرصيد الثابت'!$D$2:$D$115,B2001,'الرصيد الثابت'!$J$2:$J$115))","v":""},null,0,null,null,null,null,0,null,null,null,0,null,0,null,null,null,null,null,null,null,null,null,null,null,null,null,null,null,null,null,null,null,null,null,null,null,null,null,null,null,null,null,null,null,null,null,null,null,null,null,null,null,null,null,null,null,null,null,null,null,null,null,null,null,null,null,null,null,null,null,null,null,null,null,null,null,null,null,{"$f":"IFERROR(VLOOKUP(ROWS($CF$3:CF2001),$CH$3:$CI$2001,2,FALSE),\"\")","v":""}]