{"text_format":"1","workbook":"xlsx","n_sheets":8,"sheets":["بيانات أولية","ادخال البيانات","غياب مبرر","غير مبرر","غياب يوم","ض","ص","بحث بالتاريخ"],"not_rendered":{"charts":0,"images":2,"macros":1,"external_links":0,"defined_names":6,"comments":0,"pivot_tables":0},"unopened":[],"bounds":{"document_bytes":16777216,"sheet_cells":100000,"rows_first":2000,"rows_last":500,"rows_between":2000,"halvings":0,"cell_chars":16384,"cell_head_chars":4096},"cells_cut":0,"cells_raw":0,"read":"whole","date_system":"1900"}

{"sheet":"بيانات أولية","index":0,"n_rows":23,"n_cols":6,"rows_kept":23,"cut":false,"hidden":false,"merged":[]}
[null,"بداية الافتتاح :","2023-01-01"]
[]
["رقم الترتيب","الاسم و اللقب","الجنس","المهنة","العنوان","الرمز"]
[1,"محمد محمد 1","ذكر","حارس","سطيف","A"]
[2,"محمد محمد 2","أنثى","بناء","فسنطينى","A"]
[3,"محمد محمد 3","ذكر","عامل","الجزاءر","B"]
[4,"محمد محمد 4","أنثى","تاجر","باتنة","C"]
[5,"محمد محمد 5","ذكر","حارس","سطيف","E"]
[6,"محمد محمد 6","أنثى","بناء","فسنطينى","F"]
[7,"محمد محمد 7","ذكر","عامل","الجزاءر","G"]
[8,"محمد محمد 8","أنثى","تاجر","باتنة","H"]
[9,"محمد محمد 9","ذكر","حارس","سطيف","I"]
[10,"محمد محمد 10","أنثى","بناء","فسنطينى","J"]
[11,"محمد محمد 11","ذكر","عامل","الجزاءر","K"]
[12,"محمد محمد 12","أنثى","تاجر","باتنة","L"]
[13,"محمد محمد 13","ذكر","حارس","سطيف","M"]
[14,"محمد محمد 14","أنثى","بناء","فسنطينى","N"]
[15,"محمد محمد 15","ذكر","عامل","الجزاءر","A"]
[16,"محمد محمد 16","أنثى","تاجر","باتنة","A"]
[17,"محمد محمد 17","ذكر","حارس","سطيف","B"]
[18,"محمد محمد 18","أنثى","بناء","فسنطينى","C"]
[19,"محمد محمد 19","ذكر","عامل","الجزاءر","E"]
[20,"محمد محمد 20","أنثى","تاجر","باتنة","F"]

{"sheet":"ادخال البيانات","index":1,"n_rows":26,"n_cols":14,"rows_kept":26,"cut":false,"hidden":false,"merged":[]}
[]
[null,null,null,null,null,null,"اختيار التاريخ  :","2023-01-01"]
["رقم الترتيب","الاسم و اللقب","الجنس","المهنة","العنوان","الرمز","نوع الغياب","عدد الغياب"]
[{"$f":"'بيانات أولية'!A4","v":1},{"$f":"'بيانات أولية'!B4","v":"محمد محمد 1"},{"$f":"'بيانات أولية'!C4","v":"ذكر"},{"$f":"'بيانات أولية'!D4","v":"حارس"},{"$f":"'بيانات أولية'!E4","v":"سطيف"},{"$f":"'بيانات أولية'!F4","v":"A"},"غياب مبرر",1]
[{"$f":"'بيانات أولية'!A5","v":2},{"$f":"'بيانات أولية'!B5","v":"محمد محمد 2"},{"$f":"'بيانات أولية'!C5","v":"أنثى"},{"$f":"'بيانات أولية'!D5","v":"بناء"},{"$f":"'بيانات أولية'!E5","v":"فسنطينى"},{"$f":"'بيانات أولية'!F5","v":"A"},"غير مبرر",2]
[{"$f":"'بيانات أولية'!A6","v":3},{"$f":"'بيانات أولية'!B6","v":"محمد محمد 3"},{"$f":"'بيانات أولية'!C6","v":"ذكر"},{"$f":"'بيانات أولية'!D6","v":"عامل"},{"$f":"'بيانات أولية'!E6","v":"الجزاءر"},{"$f":"'بيانات أولية'!F6","v":"B"},"ض",3]
[{"$f":"'بيانات أولية'!A7","v":4},{"$f":"'بيانات أولية'!B7","v":"محمد محمد 4"},{"$f":"'بيانات أولية'!C7","v":"أنثى"},{"$f":"'بيانات أولية'!D7","v":"تاجر"},{"$f":"'بيانات أولية'!E7","v":"باتنة"},{"$f":"'بيانات أولية'!F7","v":"C"},"غير مبرر",4]
[{"$f":"'بيانات أولية'!A8","v":5},{"$f":"'بيانات أولية'!B8","v":"محمد محمد 5"},{"$f":"'بيانات أولية'!C8","v":"ذكر"},{"$f":"'بيانات أولية'!D8","v":"حارس"},{"$f":"'بيانات أولية'!E8","v":"سطيف"},{"$f":"'بيانات أولية'!F8","v":"E"},"ض",5]
[{"$f":"'بيانات أولية'!A9","v":6},{"$f":"'بيانات أولية'!B9","v":"محمد محمد 6"},{"$f":"'بيانات أولية'!C9","v":"أنثى"},{"$f":"'بيانات أولية'!D9","v":"بناء"},{"$f":"'بيانات أولية'!E9","v":"فسنطينى"},{"$f":"'بيانات أولية'!F9","v":"F"},"ص",6]
[{"$f":"'بيانات أولية'!A10","v":7},{"$f":"'بيانات أولية'!B10","v":"محمد محمد 7"},{"$f":"'بيانات أولية'!C10","v":"ذكر"},{"$f":"'بيانات أولية'!D10","v":"عامل"},{"$f":"'بيانات أولية'!E10","v":"الجزاءر"},{"$f":"'بيانات أولية'!F10","v":"G"},"ض",7]
[{"$f":"'بيانات أولية'!A11","v":8},{"$f":"'بيانات أولية'!B11","v":"محمد محمد 8"},{"$f":"'بيانات أولية'!C11","v":"أنثى"},{"$f":"'بيانات أولية'!D11","v":"تاجر"},{"$f":"'بيانات أولية'!E11","v":"باتنة"},{"$f":"'بيانات أولية'!F11","v":"H"}]
[{"$f":"'بيانات أولية'!A12","v":9},{"$f":"'بيانات أولية'!B12","v":"محمد محمد 9"},{"$f":"'بيانات أولية'!C12","v":"ذكر"},{"$f":"'بيانات أولية'!D12","v":"حارس"},{"$f":"'بيانات أولية'!E12","v":"سطيف"},{"$f":"'بيانات أولية'!F12","v":"I"},"ض",8]
[{"$f":"'بيانات أولية'!A13","v":10},{"$f":"'بيانات أولية'!B13","v":"محمد محمد 10"},{"$f":"'بيانات أولية'!C13","v":"أنثى"},{"$f":"'بيانات أولية'!D13","v":"بناء"},{"$f":"'بيانات أولية'!E13","v":"فسنطينى"},{"$f":"'بيانات أولية'!F13","v":"J"}]
[{"$f":"'بيانات أولية'!A14","v":11},{"$f":"'بيانات أولية'!B14","v":"محمد محمد 11"},{"$f":"'بيانات أولية'!C14","v":"ذكر"},{"$f":"'بيانات أولية'!D14","v":"عامل"},{"$f":"'بيانات أولية'!E14","v":"الجزاءر"},{"$f":"'بيانات أولية'!F14","v":"K"},"غير مبرر",9]
[{"$f":"'بيانات أولية'!A15","v":12},{"$f":"'بيانات أولية'!B15","v":"محمد محمد 12"},{"$f":"'بيانات أولية'!C15","v":"أنثى"},{"$f":"'بيانات أولية'!D15","v":"تاجر"},{"$f":"'بيانات أولية'!E15","v":"باتنة"},{"$f":"'بيانات أولية'!F15","v":"L"}]
[{"$f":"'بيانات أولية'!A16","v":13},{"$f":"'بيانات أولية'!B16","v":"محمد محمد 13"},{"$f":"'بيانات أولية'!C16","v":"ذكر"},{"$f":"'بيانات أولية'!D16","v":"حارس"},{"$f":"'بيانات أولية'!E16","v":"سطيف"},{"$f":"'بيانات أولية'!F16","v":"M"},"غياب يوم",10]
[{"$f":"'بيانات أولية'!A17","v":14},{"$f":"'بيانات أولية'!B17","v":"محمد محمد 14"},{"$f":"'بيانات أولية'!C17","v":"أنثى"},{"$f":"'بيانات أولية'!D17","v":"بناء"},{"$f":"'بيانات أولية'!E17","v":"فسنطينى"},{"$f":"'بيانات أولية'!F17","v":"N"}]
[{"$f":"'بيانات أولية'!A18","v":15},{"$f":"'بيانات أولية'!B18","v":"محمد محمد 15"},{"$f":"'بيانات أولية'!C18","v":"ذكر"},{"$f":"'بيانات أولية'!D18","v":"عامل"},{"$f":"'بيانات أولية'!E18","v":"الجزاءر"},{"$f":"'بيانات أولية'!F18","v":"A"},null,null,null,null,null,null,null,"نوع الغياب"]
[{"$f":"'بيانات أولية'!A19","v":16},{"$f":"'بيانات أولية'!B19","v":"محمد محمد 16"},{"$f":"'بيانات أولية'!C19","v":"أنثى"},{"$f":"'بيانات أولية'!D19","v":"تاجر"},{"$f":"'بيانات أولية'!E19","v":"باتنة"},{"$f":"'بيانات أولية'!F19","v":"A"},null,null,null,null,null,null,null,"غياب مبرر"]
[{"$f":"'بيانات أولية'!A20","v":17},{"$f":"'بيانات أولية'!B20","v":"محمد محمد 17"},{"$f":"'بيانات أولية'!C20","v":"ذكر"},{"$f":"'بيانات أولية'!D20","v":"حارس"},{"$f":"'بيانات أولية'!E20","v":"سطيف"},{"$f":"'بيانات أولية'!F20","v":"B"},null,null,null,null,null,null,null,"غير مبرر"]
[{"$f":"'بيانات أولية'!A21","v":18},{"$f":"'بيانات أولية'!B21","v":"محمد محمد 18"},{"$f":"'بيانات أولية'!C21","v":"أنثى"},{"$f":"'بيانات أولية'!D21","v":"بناء"},{"$f":"'بيانات أولية'!E21","v":"فسنطينى"},{"$f":"'بيانات أولية'!F21","v":"C"},null,null,null,null,null,null,null,"غياب يوم"]
[{"$f":"'بيانات أولية'!A22","v":19},{"$f":"'بيانات أولية'!B22","v":"محمد محمد 19"},{"$f":"'بيانات أولية'!C22","v":"ذكر"},{"$f":"'بيانات أولية'!D22","v":"عامل"},{"$f":"'بيانات أولية'!E22","v":"الجزاءر"},{"$f":"'بيانات أولية'!F22","v":"E"},null,null,null,null,null,null,null,"ض"]
[{"$f":"'بيانات أولية'!A23","v":20},{"$f":"'بيانات أولية'!B23","v":"محمد محمد 20"},{"$f":"'بيانات أولية'!C23","v":"أنثى"},{"$f":"'بيانات أولية'!D23","v":"تاجر"},{"$f":"'بيانات أولية'!E23","v":"باتنة"},{"$f":"'بيانات أولية'!F23","v":"F"},null,null,null,null,null,null,null,"ص"]
[null,null,null,null,null,null,null,null,null,null,null,null,null,"ث"]
[null,null,null,null,null,null,null,null,null,null,null,null,null,"ق"]
[null,null,null,null,null,null,null,null,null,null,null,null,null,"ف"]

{"sheet":"غياب مبرر","index":2,"n_rows":24,"n_cols":378,"rows_kept":24,"cut":false,"hidden":false,"merged":[]}
[null,null,null,null,null,null,"الرقم",1,{"$f":"H1+1","v":2},{"$f":"I1+1","v":3},4,5,6,7,8,9,10,11,12,13,14,15,16,17,18,19,20,21,22,23,24,25,26,27,28,29,30,31,32,33,34,35,36,37,38,39,40,41,42,43,44,45,46,47,48,49,50,51,52,53,54,55,56,57,58,59,60,61,62,63,64,65,66,{"$f":"BU1+1","v":67},68,69,70,71,72,73,74,75,76,77,78,79,80,81,82,83,84,85,86,87,88,89,90,91,92,93,94,95,96,97,98,99,100,101,102,103,104,105,106,107,108,109,110,111,112,113,114,115,116,117,118,119,120,121,122,123,124,125,126,127,{"$f":"ED1+1","v":128},{"$f":"EE1+1","v":129},130,131,132,133,134,135,136,137,138,139,140,141,142,143,144,145,146,147,148,149,150,151,152,153,154,155,156,157,158,159,160,161,162,163,164,165,166,167,168,169,170,171,172,173,174,175,{"$f":"FY1+1","v":175},{"$f":"GA1+1","v":176},177,178,179,180,181,182,183,184,185,186,187,188,189,190,191,192,193,194,195,196,197,198,199,200,201,202,203,204,205,206,207,208,209,210,211,212,213,214,215,216,217,218,219,220,221,222,223,224,225,226,227,228,229,230,231,232,233,234,235,236,237,238,239,{"$f":"IM1+1","v":240},241,242,243,244,245,246,247,248,249,250,251,252,253,254,255,256,257,258,259,260,261,262,263,264,265,266,267,268,{"$f":"JO1+1","v":268},{"$f":"JQ1+1","v":269},270,271,272,273,274,275,276,277,278,279,280,281,282,283,284,285,286,287,288,289,290,291,292,293,294,295,296,297,298,299,300,301,302,303,304,305,306,307,308,309,310,311,312,313,314,315,316,317,318,319,320,321,322,323,{"$f":"LS1+1","v":323},{"$f":"LU1+1","v":324},325,326,327,328,329,330,331,332,333,334,335,336,337,338,339,340,341,342,343,344,{"$f":"MO1+1","v":344},{"$f":"MQ1+1","v":345},346,347,348,349,350,351,352,353,354,355,356,357,{"$f":"NC1+1","v":357},{"$f":"NE1+1","v":358},359,360,361,362,{"$f":"NI1+1","v":362},{"$f":"NK1+1","v":363},364,365]
[null,null,null,null,null,null,"اليوم",{"$f":"H3","v":"2023-01-01"},{"$f":"I3","v":"2023-01-02"},{"$f":"J3","v":"2023-01-03"},"2023-01-04","2023-01-05","2023-01-06","2023-01-07","2023-01-08","2023-01-09","2023-01-10","2023-01-11","2023-01-12","2023-01-13","2023-01-14","2023-01-15","2023-01-16","2023-01-17","2023-01-18","2023-01-19","2023-01-20","2023-01-21","2023-01-22","2023-01-23","2023-01-24","2023-01-25","2023-01-26","2023-01-27","2023-01-28","2023-01-29","2023-01-30","2023-01-31","2023-02-01","2023-02-02","2023-02-03","2023-02-04","2023-02-05","2023-02-06","2023-02-07","2023-02-08","2023-02-09","2023-02-10","2023-02-11","2023-02-12","2023-02-13","2023-02-14","2023-02-15","2023-02-16","2023-02-17","2023-02-18","2023-02-19","2023-02-20","2023-02-21","2023-02-22","2023-02-23","2023-02-24","2023-02-25","2023-02-26","2023-02-27","2023-02-28","2023-03-01","2023-03-02","2023-03-03","2023-03-04","2023-03-05","2023-03-06","2023-03-07",{"$f":"BV3","v":"2023-03-08"},"2023-03-09","2023-03-10","2023-03-11","2023-03-12","2023-03-13","2023-03-14","2023-03-15","2023-03-16","2023-03-17","2023-03-18","2023-03-19","2023-03-20","2023-03-21","2023-03-22","2023-03-23","2023-03-24","2023-03-25","2023-03-26","2023-03-27","2023-03-28","2023-03-29","2023-03-30","2023-03-31","2023-04-01","2023-04-02","2023-04-03","2023-04-04","2023-04-05","2023-04-06","2023-04-07","2023-04-08","2023-04-09","2023-04-10","2023-04-11","2023-04-12","2023-04-13","2023-04-14","2023-04-15","2023-04-16","2023-04-17","2023-04-18","2023-04-19","2023-04-20","2023-04-21","2023-04-22","2023-04-23","2023-04-24","2023-04-25","2023-04-26","2023-04-27","2023-04-28","2023-04-29","2023-04-30","2023-05-01","2023-05-02","2023-05-03","2023-05-04","2023-05-05","2023-05-06","2023-05-07",{"$f":"EE3","v":"2023-05-08"},{"$f":"EF3","v":"2023-05-09"},{"$f":"EG3","v":"2023-05-10"},{"$f":"EH3","v":"2023-05-11"},{"$f":"EI3","v":"2023-05-12"},{"$f":"EJ3","v":"2023-05-13"},{"$f":"EK3","v":"2023-05-14"},{"$f":"EL3","v":"2023-05-15"},{"$f":"EM3","v":"2023-05-16"},{"$f":"EN3","v":"2023-05-17"},{"$f":"EO3","v":"2023-05-18"},{"$f":"EP3","v":"2023-05-19"},{"$f":"EQ3","v":"2023-05-20"},{"$f":"ER3","v":"2023-05-21"},{"$f":"ES3","v":"2023-05-22"},{"$f":"ET3","v":"2023-05-23"},{"$f":"EU3","v":"2023-05-24"},{"$f":"EV3","v":"2023-05-25"},{"$f":"EW3","v":"2023-05-26"},{"$f":"EX3","v":"2023-05-27"},{"$f":"EY3","v":"2023-05-28"},{"$f":"EZ3","v":"2023-05-29"},{"$f":"FA3","v":"2023-05-30"},{"$f":"FB3","v":"2023-05-31"},{"$f":"FC3","v":"2023-06-01"},{"$f":"FD3","v":"2023-06-02"},{"$f":"FE3","v":"2023-06-03"},{"$f":"FF3","v":"2023-06-04"},{"$f":"FG3","v":"2023-06-05"},{"$f":"FH3","v":"2023-06-06"},{"$f":"FI3","v":"2023-06-07"},{"$f":"FJ3","v":"2023-06-08"},{"$f":"FK3","v":"2023-06-09"},{"$f":"FL3","v":"2023-06-10"},{"$f":"FM3","v":"2023-06-11"},{"$f":"FN3","v":"2023-06-12"},{"$f":"FO3","v":"2023-06-13"},{"$f":"FP3","v":"2023-06-14"},{"$f":"FQ3","v":"2023-06-15"},{"$f":"FR3","v":"2023-06-16"},{"$f":"FS3","v":"2023-06-17"},{"$f":"FT3","v":"2023-06-18"},{"$f":"FU3","v":"2023-06-19"},{"$f":"FV3","v":"2023-06-20"},{"$f":"FW3","v":"2023-06-21"},{"$f":"FX3","v":"2023-06-22"},{"$f":"FY3","v":"2023-06-23"},{"$f":"FZ3","v":"2023-06-24"},{"$f":"GA3","v":"2023-06-24"},{"$f":"GB3","v":"2023-06-25"},{"$f":"GC3","v":"2023-06-26"},{"$f":"GD3","v":"2023-06-27"},{"$f":"GE3","v":"2023-06-28"},{"$f":"GF3","v":"2023-06-29"},{"$f":"GG3","v":"2023-06-30"},{"$f":"GH3","v":"2023-07-01"},{"$f":"GI3","v":"2023-07-02"},{"$f":"GJ3","v":"2023-07-03"},{"$f":"GK3","v":"2023-07-04"},{"$f":"GL3","v":"2023-07-05"},{"$f":"GM3","v":"2023-07-06"},{"$f":"GN3","v":"2023-07-07"},{"$f":"GO3","v":"2023-07-08"},{"$f":"GP3","v":"2023-07-09"},{"$f":"GQ3","v":"2023-07-10"},{"$f":"GR3","v":"2023-07-11"},{"$f":"GS3","v":"2023-07-12"},{"$f":"GT3","v":"2023-07-13"},{"$f":"GU3","v":"2023-07-14"},{"$f":"GV3","v":"2023-07-15"},{"$f":"GW3","v":"2023-07-16"},{"$f":"GX3","v":"2023-07-17"},{"$f":"GY3","v":"2023-07-18"},{"$f":"GZ3","v":"2023-07-19"},{"$f":"HA3","v":"2023-07-20"},{"$f":"HB3","v":"2023-07-21"},{"$f":"HC3","v":"2023-07-22"},{"$f":"HD3","v":"2023-07-23"},{"$f":"HE3","v":"2023-07-24"},{"$f":"HF3","v":"2023-07-25"},{"$f":"HG3","v":"2023-07-26"},{"$f":"HH3","v":"2023-07-27"},{"$f":"HI3","v":"2023-07-28"},{"$f":"HJ3","v":"2023-07-29"},{"$f":"HK3","v":"2023-07-30"},{"$f":"HL3","v":"2023-07-31"},{"$f":"HM3","v":"2023-08-01"},{"$f":"HN3","v":"2023-08-02"},{"$f":"HO3","v":"2023-08-03"},{"$f":"HP3","v":"2023-08-04"},{"$f":"HQ3","v":"2023-08-05"},{"$f":"HR3","v":"2023-08-06"},{"$f":"HS3","v":"2023-08-07"},{"$f":"HT3","v":"2023-08-08"},{"$f":"HU3","v":"2023-08-09"},{"$f":"HV3","v":"2023-08-10"},{"$f":"HW3","v":"2023-08-11"},{"$f":"HX3","v":"2023-08-12"},{"$f":"HY3","v":"2023-08-13"},{"$f":"HZ3","v":"2023-08-14"},{"$f":"IA3","v":"2023-08-15"},{"$f":"IB3","v":"2023-08-16"},{"$f":"IC3","v":"2023-08-17"},{"$f":"ID3","v":"2023-08-18"},{"$f":"IE3","v":"2023-08-19"},{"$f":"IF3","v":"2023-08-20"},{"$f":"IG3","v":"2023-08-21"},{"$f":"IH3","v":"2023-08-22"},{"$f":"II3","v":"2023-08-23"},{"$f":"IJ3","v":"2023-08-24"},{"$f":"IK3","v":"2023-08-25"},{"$f":"IL3","v":"2023-08-26"},{"$f":"IM3","v":"2023-08-27"},{"$f":"IN3","v":"2023-08-28"},{"$f":"IO3","v":"2023-08-29"},{"$f":"IP3","v":"2023-08-30"},{"$f":"IQ3","v":"2023-08-31"},{"$f":"IR3","v":"2023-09-01"},{"$f":"IS3","v":"2023-09-02"},{"$f":"IT3","v":"2023-09-03"},{"$f":"IU3","v":"2023-09-04"},{"$f":"IV3","v":"2023-09-05"},{"$f":"IW3","v":"2023-09-06"},{"$f":"IX3","v":"2023-09-07"},{"$f":"IY3","v":"2023-09-08"},{"$f":"IZ3","v":"2023-09-09"},{"$f":"JA3","v":"2023-09-10"},{"$f":"JB3","v":"2023-09-11"},{"$f":"JC3","v":"2023-09-12"},{"$f":"JD3","v":"2023-09-13"},{"$f":"JE3","v":"2023-09-14"},{"$f":"JF3","v":"2023-09-15"},{"$f":"JG3","v":"2023-09-16"},{"$f":"JH3","v":"2023-09-17"},{"$f":"JI3","v":"2023-09-18"},{"$f":"JJ3","v":"2023-09-19"},{"$f":"JK3","v":"2023-09-20"},{"$f":"JL3","v":"2023-09-21"},{"$f":"JM3","v":"2023-09-22"},{"$f":"JN3","v":"2023-09-23"},{"$f":"JO3","v":"2023-09-24"},{"$f":"JP3","v":"2023-09-25"},{"$f":"JQ3","v":"2023-09-25"},{"$f":"JR3","v":"2023-09-26"},{"$f":"JS3","v":"2023-09-27"},{"$f":"JT3","v":"2023-09-28"},{"$f":"JU3","v":"2023-09-29"},{"$f":"JV3","v":"2023-09-30"},{"$f":"JW3","v":"2023-10-01"},{"$f":"JX3","v":"2023-10-02"},{"$f":"JY3","v":"2023-10-03"},{"$f":"JZ3","v":"2023-10-04"},{"$f":"KA3","v":"2023-10-05"},{"$f":"KB3","v":"2023-10-06"},{"$f":"KC3","v":"2023-10-07"},{"$f":"KD3","v":"2023-10-08"},{"$f":"KE3","v":"2023-10-09"},{"$f":"KF3","v":"2023-10-10"},{"$f":"KG3","v":"2023-10-11"},{"$f":"KH3","v":"2023-10-12"},{"$f":"KI3","v":"2023-10-13"},{"$f":"KJ3","v":"2023-10-14"},{"$f":"KK3","v":"2023-10-15"},{"$f":"KL3","v":"2023-10-16"},{"$f":"KM3","v":"2023-10-17"},{"$f":"KN3","v":"2023-10-18"},{"$f":"KO3","v":"2023-10-19"},{"$f":"KP3","v":"2023-10-20"},{"$f":"KQ3","v":"2023-10-21"},{"$f":"KR3","v":"2023-10-22"},{"$f":"KS3","v":"2023-10-23"},{"$f":"KT3","v":"2023-10-24"},{"$f":"KU3","v":"2023-10-25"},{"$f":"KV3","v":"2023-10-26"},{"$f":"KW3","v":"2023-10-27"},{"$f":"KX3","v":"2023-10-28"},{"$f":"KY3","v":"2023-10-29"},{"$f":"KZ3","v":"2023-10-30"},{"$f":"LA3","v":"2023-10-31"},{"$f":"LB3","v":"2023-11-01"},{"$f":"LC3","v":"2023-11-02"},{"$f":"LD3","v":"2023-11-03"},{"$f":"LE3","v":"2023-11-04"},{"$f":"LF3","v":"2023-11-05"},{"$f":"LG3","v":"2023-11-06"},{"$f":"LH3","v":"2023-11-07"},{"$f":"LI3","v":"2023-11-08"},{"$f":"LJ3","v":"2023-11-09"},{"$f":"LK3","v":"2023-11-10"},{"$f":"LL3","v":"2023-11-11"},{"$f":"LM3","v":"2023-11-12"},{"$f":"LN3","v":"2023-11-13"},{"$f":"LO3","v":"2023-11-14"},{"$f":"LP3","v":"2023-11-15"},{"$f":"LQ3","v":"2023-11-16"},{"$f":"LR3","v":"2023-11-17"},{"$f":"LS3","v":"2023-11-18"},{"$f":"LT3","v":"2023-11-19"},{"$f":"LU3","v":"2023-11-19"},{"$f":"LV3","v":"2023-11-20"},{"$f":"LW3","v":"2023-11-21"},{"$f":"LX3","v":"2023-11-22"},{"$f":"LY3","v":"2023-11-23"},{"$f":"LZ3","v":"2023-11-24"},{"$f":"MA3","v":"2023-11-25"},{"$f":"MB3","v":"2023-11-26"},{"$f":"MC3","v":"2023-11-27"},{"$f":"MD3","v":"2023-11-28"},{"$f":"ME3","v":"2023-11-29"},{"$f":"MF3","v":"2023-11-30"},{"$f":"MG3","v":"2023-12-01"},{"$f":"MH3","v":"2023-12-02"},{"$f":"MI3","v":"2023-12-03"},{"$f":"MJ3","v":"2023-12-04"},{"$f":"MK3","v":"2023-12-05"},{"$f":"ML3","v":"2023-12-06"},{"$f":"MM3","v":"2023-12-07"},{"$f":"MN3","v":"2023-12-08"},{"$f":"MO3","v":"2023-12-09"},{"$f":"MP3","v":"2023-12-10"},{"$f":"MQ3","v":"2023-12-10"},{"$f":"MR3","v":"2023-12-11"},{"$f":"MS3","v":"2023-12-12"},{"$f":"MT3","v":"2023-12-13"},{"$f":"MU3","v":"2023-12-14"},{"$f":"MV3","v":"2023-12-15"},{"$f":"MW3","v":"2023-12-16"},{"$f":"MX3","v":"2023-12-17"},{"$f":"MY3","v":"2023-12-18"},{"$f":"MZ3","v":"2023-12-19"},{"$f":"NA3","v":"2023-12-20"},{"$f":"NB3","v":"2023-12-21"},{"$f":"NC3","v":"2023-12-22"},{"$f":"ND3","v":"2023-12-23"},{"$f":"NE3","v":"2023-12-23"},{"$f":"NF3","v":"2023-12-24"},{"$f":"NG3","v":"2023-12-25"},{"$f":"NH3","v":"2023-12-26"},{"$f":"NI3","v":"2023-12-27"},{"$f":"NJ3","v":"2023-12-28"},{"$f":"NK3","v":"2023-12-28"},{"$f":"NL3","v":"2023-12-29"},{"$f":"NM3","v":"2023-12-30"},{"$f":"NN3","v":"2023-12-31"}]
[null,null,null,null,null,null,"التاريخ",{"$f":"'بيانات أولية'!C1","v":"2023-01-01"},{"$f":"H3+1","v":"2023-01-02"},{"$f":"I3+1","v":"2023-01-03"},"2023-01-04","2023-01-05","2023-01-06","2023-01-07","2023-01-08","2023-01-09","2023-01-10","2023-01-11","2023-01-12","2023-01-13","2023-01-14","2023-01-15","2023-01-16","2023-01-17","2023-01-18","2023-01-19","2023-01-20","2023-01-21","2023-01-22","2023-01-23","2023-01-24","2023-01-25","2023-01-26","2023-01-27","2023-01-28","2023-01-29","2023-01-30","2023-01-31","2023-02-01","2023-02-02","2023-02-03","2023-02-04","2023-02-05","2023-02-06","2023-02-07","2023-02-08","2023-02-09","2023-02-10","2023-02-11","2023-02-12","2023-02-13","2023-02-14","2023-02-15","2023-02-16","2023-02-17","2023-02-18","2023-02-19","2023-02-20","2023-02-21","2023-02-22","2023-02-23","2023-02-24","2023-02-25","2023-02-26","2023-02-27","2023-02-28","2023-03-01","2023-03-02","2023-03-03","2023-03-04","2023-03-05","2023-03-06","2023-03-07",{"$f":"BU3+1","v":"2023-03-08"},"2023-03-09","2023-03-10","2023-03-11","2023-03-12","2023-03-13","2023-03-14","2023-03-15","2023-03-16","2023-03-17","2023-03-18","2023-03-19","2023-03-20","2023-03-21","2023-03-22","2023-03-23","2023-03-24","2023-03-25","2023-03-26","2023-03-27","2023-03-28","2023-03-29","2023-03-30","2023-03-31","2023-04-01","2023-04-02","2023-04-03","2023-04-04","2023-04-05","2023-04-06","2023-04-07","2023-04-08","2023-04-09","2023-04-10","2023-04-11","2023-04-12","2023-04-13","2023-04-14","2023-04-15","2023-04-16","2023-04-17","2023-04-18","2023-04-19","2023-04-20","2023-04-21","2023-04-22","2023-04-23","2023-04-24","2023-04-25","2023-04-26","2023-04-27","2023-04-28","2023-04-29","2023-04-30","2023-05-01","2023-05-02","2023-05-03","2023-05-04","2023-05-05","2023-05-06","2023-05-07",{"$f":"ED3+1","v":"2023-05-08"},{"$f":"EE3+1","v":"2023-05-09"},"2023-05-10","2023-05-11","2023-05-12","2023-05-13","2023-05-14","2023-05-15","2023-05-16","2023-05-17","2023-05-18","2023-05-19","2023-05-20","2023-05-21","2023-05-22","2023-05-23","2023-05-24","2023-05-25","2023-05-26","2023-05-27","2023-05-28","2023-05-29","2023-05-30","2023-05-31","2023-06-01","2023-06-02","2023-06-03","2023-06-04","2023-06-05","2023-06-06","2023-06-07","2023-06-08","2023-06-09","2023-06-10","2023-06-11","2023-06-12","2023-06-13","2023-06-14","2023-06-15","2023-06-16","2023-06-17","2023-06-18","2023-06-19","2023-06-20","2023-06-21","2023-06-22","2023-06-23","2023-06-24",{"$f":"FY3+1","v":"2023-06-24"},{"$f":"GA3+1","v":"2023-06-25"},"2023-06-26","2023-06-27","2023-06-28","2023-06-29","2023-06-30","2023-07-01","2023-07-02","2023-07-03","2023-07-04","2023-07-05","2023-07-06","2023-07-07","2023-07-08","2023-07-09","2023-07-10","2023-07-11","2023-07-12","2023-07-13","2023-07-14","2023-07-15","2023-07-16","2023-07-17","2023-07-18","2023-07-19","2023-07-20","2023-07-21","2023-07-22","2023-07-23","2023-07-24","2023-07-25","2023-07-26","2023-07-27","2023-07-28","2023-07-29","2023-07-30","2023-07-31","2023-08-01","2023-08-02","2023-08-03","2023-08-04","2023-08-05","2023-08-06","2023-08-07","2023-08-08","2023-08-09","2023-08-10","2023-08-11","2023-08-12","2023-08-13","2023-08-14","2023-08-15","2023-08-16","2023-08-17","2023-08-18","2023-08-19","2023-08-20","2023-08-21","2023-08-22","2023-08-23","2023-08-24","2023-08-25","2023-08-26","2023-08-27",{"$f":"IM3+1","v":"2023-08-28"},"2023-08-29","2023-08-30","2023-08-31","2023-09-01","2023-09-02","2023-09-03","2023-09-04","2023-09-05","2023-09-06","2023-09-07","2023-09-08","2023-09-09","2023-09-10","2023-09-11","2023-09-12","2023-09-13","2023-09-14","2023-09-15","2023-09-16","2023-09-17","2023-09-18","2023-09-19","2023-09-20","2023-09-21","2023-09-22","2023-09-23","2023-09-24","2023-09-25",{"$f":"JO3+1","v":"2023-09-25"},{"$f":"JQ3+1","v":"2023-09-26"},"2023-09-27","2023-09-28","2023-09-29","2023-09-30","2023-10-01","2023-10-02","2023-10-03","2023-10-04","2023-10-05","2023-10-06","2023-10-07","2023-10-08","2023-10-09","2023-10-10","2023-10-11","2023-10-12","2023-10-13","2023-10-14","2023-10-15","2023-10-16","2023-10-17","2023-10-18","2023-10-19","2023-10-20","2023-10-21","2023-10-22","2023-10-23","2023-10-24","2023-10-25","2023-10-26","2023-10-27","2023-10-28","2023-10-29","2023-10-30","2023-10-31","2023-11-01","2023-11-02","2023-11-03","2023-11-04","2023-11-05","2023-11-06","2023-11-07","2023-11-08","2023-11-09","2023-11-10","2023-11-11","2023-11-12","2023-11-13","2023-11-14","2023-11-15","2023-11-16","2023-11-17","2023-11-18","2023-11-19",{"$f":"LS3+1","v":"2023-11-19"},{"$f":"LU3+1","v":"2023-11-20"},"2023-11-21","2023-11-22","2023-11-23","2023-11-24","2023-11-25","2023-11-26","2023-11-27","2023-11-28","2023-11-29","2023-11-30","2023-12-01","2023-12-02","2023-12-03","2023-12-04","2023-12-05","2023-12-06","2023-12-07","2023-12-08","2023-12-09","2023-12-10",{"$f":"MO3+1","v":"2023-12-10"},{"$f":"MQ3+1","v":"2023-12-11"},"2023-12-12","2023-12-13","2023-12-14","2023-12-15","2023-12-16","2023-12-17","2023-12-18","2023-12-19","2023-12-20","2023-12-21","2023-12-22","2023-12-23",{"$f":"NC3+1","v":"2023-12-23"},{"$f":"NE3+1","v":"2023-12-24"},"2023-12-25","2023-12-26","2023-12-27","2023-12-28",{"$f":"NI3+1","v":"2023-12-28"},{"$f":"NK3+1","v":"2023-12-29"},"2023-12-30","2023-12-31"]
["رقم الترتيب","الاسم و اللقب","الجنس","المهنة","العنوان","الرمز","تسلسل"]
[1]
[2]
[3]
[4]
[5]
[6]
[7]
[8]
[9]
[10]
[11]
[12]
[13]
[14]
[15]
[16]
[17]
[18]
[19]
[20]

{"sheet":"غير مبرر","index":3,"n_rows":24,"n_cols":378,"rows_kept":24,"cut":false,"hidden":false,"merged":[]}
[null,null,null,null,null,null,"الرقم",1,{"$f":"H1+1","v":2},{"$f":"I1+1","v":3},4,5,6,7,8,9,10,11,12,13,14,15,16,17,18,19,20,21,22,23,24,25,26,27,28,29,30,31,32,33,34,35,36,37,38,39,40,41,42,43,44,45,46,47,48,49,50,51,52,53,54,55,56,57,58,59,60,61,62,63,64,65,66,{"$f":"BU1+1","v":67},68,69,70,71,72,73,74,75,76,77,78,79,80,81,82,83,84,85,86,87,88,89,90,91,92,93,94,95,96,97,98,99,100,101,102,103,104,105,106,107,108,109,110,111,112,113,114,115,116,117,118,119,120,121,122,123,124,125,126,127,{"$f":"ED1+1","v":128},{"$f":"EE1+1","v":129},130,131,132,133,134,135,136,137,138,139,140,141,142,143,144,145,146,147,148,149,150,151,152,153,154,155,156,157,158,159,160,161,162,163,164,165,166,167,168,169,170,171,172,173,174,175,{"$f":"FY1+1","v":175},{"$f":"GA1+1","v":176},177,178,179,180,181,182,183,184,185,186,187,188,189,190,191,192,193,194,195,196,197,198,199,200,201,202,203,204,205,206,207,208,209,210,211,212,213,214,215,216,217,218,219,220,221,222,223,224,225,226,227,228,229,230,231,232,233,234,235,236,237,238,239,{"$f":"IM1+1","v":240},241,242,243,244,245,246,247,248,249,250,251,252,253,254,255,256,257,258,259,260,261,262,263,264,265,266,267,268,{"$f":"JO1+1","v":268},{"$f":"JQ1+1","v":269},270,271,272,273,274,275,276,277,278,279,280,281,282,283,284,285,286,287,288,289,290,291,292,293,294,295,296,297,298,299,300,301,302,303,304,305,306,307,308,309,310,311,312,313,314,315,316,317,318,319,320,321,322,323,{"$f":"LS1+1","v":323},{"$f":"LU1+1","v":324},325,326,327,328,329,330,331,332,333,334,335,336,337,338,339,340,341,342,343,344,{"$f":"MO1+1","v":344},{"$f":"MQ1+1","v":345},346,347,348,349,350,351,352,353,354,355,356,357,{"$f":"NC1+1","v":357},{"$f":"NE1+1","v":358},359,360,361,362,{"$f":"NI1+1","v":362},{"$f":"NK1+1","v":363},364,365]
[null,null,null,null,null,null,"اليوم",{"$f":"H3","v":"2023-01-01"},{"$f":"I3","v":"2023-01-02"},{"$f":"J3","v":"2023-01-03"},"2023-01-04","2023-01-05","2023-01-06","2023-01-07","2023-01-08","2023-01-09","2023-01-10","2023-01-11","2023-01-12","2023-01-13","2023-01-14","2023-01-15","2023-01-16","2023-01-17","2023-01-18","2023-01-19","2023-01-20","2023-01-21","2023-01-22","2023-01-23","2023-01-24","2023-01-25","2023-01-26","2023-01-27","2023-01-28","2023-01-29","2023-01-30","2023-01-31","2023-02-01","2023-02-02","2023-02-03","2023-02-04","2023-02-05","2023-02-06","2023-02-07","2023-02-08","2023-02-09","2023-02-10","2023-02-11","2023-02-12","2023-02-13","2023-02-14","2023-02-15","2023-02-16","2023-02-17","2023-02-18","2023-02-19","2023-02-20","2023-02-21","2023-02-22","2023-02-23","2023-02-24","2023-02-25","2023-02-26","2023-02-27","2023-02-28","2023-03-01","2023-03-02","2023-03-03","2023-03-04","2023-03-05","2023-03-06","2023-03-07",{"$f":"BV3","v":"2023-03-08"},"2023-03-09","2023-03-10","2023-03-11","2023-03-12","2023-03-13","2023-03-14","2023-03-15","2023-03-16","2023-03-17","2023-03-18","2023-03-19","2023-03-20","2023-03-21","2023-03-22","2023-03-23","2023-03-24","2023-03-25","2023-03-26","2023-03-27","2023-03-28","2023-03-29","2023-03-30","2023-03-31","2023-04-01","2023-04-02","2023-04-03","2023-04-04","2023-04-05","2023-04-06","2023-04-07","2023-04-08","2023-04-09","2023-04-10","2023-04-11","2023-04-12","2023-04-13","2023-04-14","2023-04-15","2023-04-16","2023-04-17","2023-04-18","2023-04-19","2023-04-20","2023-04-21","2023-04-22","2023-04-23","2023-04-24","2023-04-25","2023-04-26","2023-04-27","2023-04-28","2023-04-29","2023-04-30","2023-05-01","2023-05-02","2023-05-03","2023-05-04","2023-05-05","2023-05-06","2023-05-07",{"$f":"EE3","v":"2023-05-08"},{"$f":"EF3","v":"2023-05-09"},"2023-05-10","2023-05-11","2023-05-12","2023-05-13","2023-05-14","2023-05-15","2023-05-16","2023-05-17","2023-05-18","2023-05-19","2023-05-20","2023-05-21","2023-05-22","2023-05-23","2023-05-24","2023-05-25","2023-05-26","2023-05-27","2023-05-28","2023-05-29","2023-05-30","2023-05-31","2023-06-01","2023-06-02","2023-06-03","2023-06-04","2023-06-05","2023-06-06","2023-06-07","2023-06-08","2023-06-09","2023-06-10","2023-06-11","2023-06-12","2023-06-13","2023-06-14","2023-06-15","2023-06-16","2023-06-17","2023-06-18","2023-06-19","2023-06-20","2023-06-21","2023-06-22","2023-06-23","2023-06-24",{"$f":"GA3","v":"2023-06-24"},{"$f":"GB3","v":"2023-06-25"},"2023-06-26","2023-06-27","2023-06-28","2023-06-29","2023-06-30","2023-07-01","2023-07-02","2023-07-03","2023-07-04","2023-07-05","2023-07-06","2023-07-07","2023-07-08","2023-07-09","2023-07-10","2023-07-11","2023-07-12","2023-07-13","2023-07-14","2023-07-15","2023-07-16","2023-07-17","2023-07-18","2023-07-19","2023-07-20","2023-07-21","2023-07-22","2023-07-23","2023-07-24","2023-07-25","2023-07-26","2023-07-27","2023-07-28","2023-07-29","2023-07-30","2023-07-31","2023-08-01","2023-08-02","2023-08-03","2023-08-04","2023-08-05","2023-08-06","2023-08-07","2023-08-08","2023-08-09","2023-08-10","2023-08-11","2023-08-12","2023-08-13","2023-08-14","2023-08-15","2023-08-16","2023-08-17","2023-08-18","2023-08-19","2023-08-20","2023-08-21","2023-08-22","2023-08-23","2023-08-24","2023-08-25","2023-08-26","2023-08-27",{"$f":"IN3","v":"2023-08-28"},"2023-08-29","2023-08-30","2023-08-31","2023-09-01","2023-09-02","2023-09-03","2023-09-04","2023-09-05","2023-09-06","2023-09-07","2023-09-08","2023-09-09","2023-09-10","2023-09-11","2023-09-12","2023-09-13","2023-09-14","2023-09-15","2023-09-16","2023-09-17","2023-09-18","2023-09-19","2023-09-20","2023-09-21","2023-09-22","2023-09-23","2023-09-24","2023-09-25",{"$f":"JQ3","v":"2023-09-25"},{"$f":"JR3","v":"2023-09-26"},"2023-09-27","2023-09-28","2023-09-29","2023-09-30","2023-10-01","2023-10-02","2023-10-03","2023-10-04","2023-10-05","2023-10-06","2023-10-07","2023-10-08","2023-10-09","2023-10-10","2023-10-11","2023-10-12","2023-10-13","2023-10-14","2023-10-15","2023-10-16","2023-10-17","2023-10-18","2023-10-19","2023-10-20","2023-10-21","2023-10-22","2023-10-23","2023-10-24","2023-10-25","2023-10-26","2023-10-27","2023-10-28","2023-10-29","2023-10-30","2023-10-31","2023-11-01","2023-11-02","2023-11-03","2023-11-04","2023-11-05","2023-11-06","2023-11-07","2023-11-08","2023-11-09","2023-11-10","2023-11-11","2023-11-12","2023-11-13","2023-11-14","2023-11-15","2023-11-16","2023-11-17","2023-11-18","2023-11-19",{"$f":"LU3","v":"2023-11-19"},{"$f":"LV3","v":"2023-11-20"},"2023-11-21","2023-11-22","2023-11-23","2023-11-24","2023-11-25","2023-11-26","2023-11-27","2023-11-28","2023-11-29","2023-11-30","2023-12-01","2023-12-02","2023-12-03","2023-12-04","2023-12-05","2023-12-06","2023-12-07","2023-12-08","2023-12-09","2023-12-10",{"$f":"MQ3","v":"2023-12-10"},{"$f":"MR3","v":"2023-12-11"},"2023-12-12","2023-12-13","2023-12-14","2023-12-15","2023-12-16","2023-12-17","2023-12-18","2023-12-19","2023-12-20","2023-12-21","2023-12-22","2023-12-23",{"$f":"NE3","v":"2023-12-23"},{"$f":"NF3","v":"2023-12-24"},"2023-12-25","2023-12-26","2023-12-27","2023-12-28",{"$f":"NK3","v":"2023-12-28"},{"$f":"NL3","v":"2023-12-29"},"2023-12-30","2023-12-31"]
[null,null,null,null,null,null,"التاريخ",{"$f":"'بيانات أولية'!C1","v":"2023-01-01"},{"$f":"H3+1","v":"2023-01-02"},{"$f":"I3+1","v":"2023-01-03"},"2023-01-04","2023-01-05","2023-01-06","2023-01-07","2023-01-08","2023-01-09","2023-01-10","2023-01-11","2023-01-12","2023-01-13","2023-01-14","2023-01-15","2023-01-16","2023-01-17","2023-01-18","2023-01-19","2023-01-20","2023-01-21","2023-01-22","2023-01-23","2023-01-24","2023-01-25","2023-01-26","2023-01-27","2023-01-28","2023-01-29","2023-01-30","2023-01-31","2023-02-01","2023-02-02","2023-02-03","2023-02-04","2023-02-05","2023-02-06","2023-02-07","2023-02-08","2023-02-09","2023-02-10","2023-02-11","2023-02-12","2023-02-13","2023-02-14","2023-02-15","2023-02-16","2023-02-17","2023-02-18","2023-02-19","2023-02-20","2023-02-21","2023-02-22","2023-02-23","2023-02-24","2023-02-25","2023-02-26","2023-02-27","2023-02-28","2023-03-01","2023-03-02","2023-03-03","2023-03-04","2023-03-05","2023-03-06","2023-03-07",{"$f":"BU3+1","v":"2023-03-08"},"2023-03-09","2023-03-10","2023-03-11","2023-03-12","2023-03-13","2023-03-14","2023-03-15","2023-03-16","2023-03-17","2023-03-18","2023-03-19","2023-03-20","2023-03-21","2023-03-22","2023-03-23","2023-03-24","2023-03-25","2023-03-26","2023-03-27","2023-03-28","2023-03-29","2023-03-30","2023-03-31","2023-04-01","2023-04-02","2023-04-03","2023-04-04","2023-04-05","2023-04-06","2023-04-07","2023-04-08","2023-04-09","2023-04-10","2023-04-11","2023-04-12","2023-04-13","2023-04-14","2023-04-15","2023-04-16","2023-04-17","2023-04-18","2023-04-19","2023-04-20","2023-04-21","2023-04-22","2023-04-23","2023-04-24","2023-04-25","2023-04-26","2023-04-27","2023-04-28","2023-04-29","2023-04-30","2023-05-01","2023-05-02","2023-05-03","2023-05-04","2023-05-05","2023-05-06","2023-05-07",{"$f":"ED3+1","v":"2023-05-08"},{"$f":"EE3+1","v":"2023-05-09"},"2023-05-10","2023-05-11","2023-05-12","2023-05-13","2023-05-14","2023-05-15","2023-05-16","2023-05-17","2023-05-18","2023-05-19","2023-05-20","2023-05-21","2023-05-22","2023-05-23","2023-05-24","2023-05-25","2023-05-26","2023-05-27","2023-05-28","2023-05-29","2023-05-30","2023-05-31","2023-06-01","2023-06-02","2023-06-03","2023-06-04","2023-06-05","2023-06-06","2023-06-07","2023-06-08","2023-06-09","2023-06-10","2023-06-11","2023-06-12","2023-06-13","2023-06-14","2023-06-15","2023-06-16","2023-06-17","2023-06-18","2023-06-19","2023-06-20","2023-06-21","2023-06-22","2023-06-23","2023-06-24",{"$f":"FY3+1","v":"2023-06-24"},{"$f":"GA3+1","v":"2023-06-25"},"2023-06-26","2023-06-27","2023-06-28","2023-06-29","2023-06-30","2023-07-01","2023-07-02","2023-07-03","2023-07-04","2023-07-05","2023-07-06","2023-07-07","2023-07-08","2023-07-09","2023-07-10","2023-07-11","2023-07-12","2023-07-13","2023-07-14","2023-07-15","2023-07-16","2023-07-17","2023-07-18","2023-07-19","2023-07-20","2023-07-21","2023-07-22","2023-07-23","2023-07-24","2023-07-25","2023-07-26","2023-07-27","2023-07-28","2023-07-29","2023-07-30","2023-07-31","2023-08-01","2023-08-02","2023-08-03","2023-08-04","2023-08-05","2023-08-06","2023-08-07","2023-08-08","2023-08-09","2023-08-10","2023-08-11","2023-08-12","2023-08-13","2023-08-14","2023-08-15","2023-08-16","2023-08-17","2023-08-18","2023-08-19","2023-08-20","2023-08-21","2023-08-22","2023-08-23","2023-08-24","2023-08-25","2023-08-26","2023-08-27",{"$f":"IM3+1","v":"2023-08-28"},"2023-08-29","2023-08-30","2023-08-31","2023-09-01","2023-09-02","2023-09-03","2023-09-04","2023-09-05","2023-09-06","2023-09-07","2023-09-08","2023-09-09","2023-09-10","2023-09-11","2023-09-12","2023-09-13","2023-09-14","2023-09-15","2023-09-16","2023-09-17","2023-09-18","2023-09-19","2023-09-20","2023-09-21","2023-09-22","2023-09-23","2023-09-24","2023-09-25",{"$f":"JO3+1","v":"2023-09-25"},{"$f":"JQ3+1","v":"2023-09-26"},"2023-09-27","2023-09-28","2023-09-29","2023-09-30","2023-10-01","2023-10-02","2023-10-03","2023-10-04","2023-10-05","2023-10-06","2023-10-07","2023-10-08","2023-10-09","2023-10-10","2023-10-11","2023-10-12","2023-10-13","2023-10-14","2023-10-15","2023-10-16","2023-10-17","2023-10-18","2023-10-19","2023-10-20","2023-10-21","2023-10-22","2023-10-23","2023-10-24","2023-10-25","2023-10-26","2023-10-27","2023-10-28","2023-10-29","2023-10-30","2023-10-31","2023-11-01","2023-11-02","2023-11-03","2023-11-04","2023-11-05","2023-11-06","2023-11-07","2023-11-08","2023-11-09","2023-11-10","2023-11-11","2023-11-12","2023-11-13","2023-11-14","2023-11-15","2023-11-16","2023-11-17","2023-11-18","2023-11-19",{"$f":"LS3+1","v":"2023-11-19"},{"$f":"LU3+1","v":"2023-11-20"},"2023-11-21","2023-11-22","2023-11-23","2023-11-24","2023-11-25","2023-11-26","2023-11-27","2023-11-28","2023-11-29","2023-11-30","2023-12-01","2023-12-02","2023-12-03","2023-12-04","2023-12-05","2023-12-06","2023-12-07","2023-12-08","2023-12-09","2023-12-10",{"$f":"MO3+1","v":"2023-12-10"},{"$f":"MQ3+1","v":"2023-12-11"},"2023-12-12","2023-12-13","2023-12-14","2023-12-15","2023-12-16","2023-12-17","2023-12-18","2023-12-19","2023-12-20","2023-12-21","2023-12-22","2023-12-23",{"$f":"NC3+1","v":"2023-12-23"},{"$f":"NE3+1","v":"2023-12-24"},"2023-12-25","2023-12-26","2023-12-27","2023-12-28",{"$f":"NI3+1","v":"2023-12-28"},{"$f":"NK3+1","v":"2023-12-29"},"2023-12-30","2023-12-31"]
["رقم الترتيب","الاسم و اللقب","الجنس","المهنة","العنوان","الرمز","تسلسل"]
[1]
[2]
[3]
[4]
[5]
[6]
[7]
[8]
[9]
[10]
[11]
[12]
[13]
[14]
[15]
[16]
[17]
[18]
[19]
[20]

{"sheet":"غياب يوم","index":4,"n_rows":24,"n_cols":378,"rows_kept":24,"cut":false,"hidden":false,"merged":[]}
[null,null,null,null,null,null,"الرقم",1,{"$f":"H1+1","v":2},{"$f":"I1+1","v":3},4,5,6,7,8,9,10,11,12,13,14,15,16,17,18,19,20,21,22,23,24,25,26,27,28,29,30,31,32,33,34,35,36,37,38,39,40,41,42,43,44,45,46,47,48,49,50,51,52,53,54,55,56,57,58,59,60,61,62,63,64,65,66,{"$f":"BU1+1","v":67},68,69,70,71,72,73,74,75,76,77,78,79,80,81,82,83,84,85,86,87,88,89,90,91,92,93,94,95,96,97,98,99,100,101,102,103,104,105,106,107,108,109,110,111,112,113,114,115,116,117,118,119,120,121,122,123,124,125,126,127,{"$f":"ED1+1","v":128},{"$f":"EE1+1","v":129},130,131,132,133,134,135,136,137,138,139,140,141,142,143,144,145,146,147,148,149,150,151,152,153,154,155,156,157,158,159,160,161,162,163,164,165,166,167,168,169,170,171,172,173,174,175,{"$f":"FY1+1","v":175},{"$f":"GA1+1","v":176},177,178,179,180,181,182,183,184,185,186,187,188,189,190,191,192,193,194,195,196,197,198,199,200,201,202,203,204,205,206,207,208,209,210,211,212,213,214,215,216,217,218,219,220,221,222,223,224,225,226,227,228,229,230,231,232,233,234,235,236,237,238,239,{"$f":"IM1+1","v":240},241,242,243,244,245,246,247,248,249,250,251,252,253,254,255,256,257,258,259,260,261,262,263,264,265,266,267,268,{"$f":"JO1+1","v":268},{"$f":"JQ1+1","v":269},270,271,272,273,274,275,276,277,278,279,280,281,282,283,284,285,286,287,288,289,290,291,292,293,294,295,296,297,298,299,300,301,302,303,304,305,306,307,308,309,310,311,312,313,314,315,316,317,318,319,320,321,322,323,{"$f":"LS1+1","v":323},{"$f":"LU1+1","v":324},325,326,327,328,329,330,331,332,333,334,335,336,337,338,339,340,341,342,343,344,{"$f":"MO1+1","v":344},{"$f":"MQ1+1","v":345},346,347,348,349,350,351,352,353,354,355,356,357,{"$f":"NC1+1","v":357},{"$f":"NE1+1","v":358},359,360,361,362,{"$f":"NI1+1","v":362},{"$f":"NK1+1","v":363},364,365]
[null,null,null,null,null,null,"اليوم",{"$f":"H3","v":"2023-01-01"},{"$f":"I3","v":"2023-01-02"},{"$f":"J3","v":"2023-01-03"},"2023-01-04","2023-01-05","2023-01-06","2023-01-07","2023-01-08","2023-01-09","2023-01-10","2023-01-11","2023-01-12","2023-01-13","2023-01-14","2023-01-15","2023-01-16","2023-01-17","2023-01-18","2023-01-19","2023-01-20","2023-01-21","2023-01-22","2023-01-23","2023-01-24","2023-01-25","2023-01-26","2023-01-27","2023-01-28","2023-01-29","2023-01-30","2023-01-31","2023-02-01","2023-02-02","2023-02-03","2023-02-04","2023-02-05","2023-02-06","2023-02-07","2023-02-08","2023-02-09","2023-02-10","2023-02-11","2023-02-12","2023-02-13","2023-02-14","2023-02-15","2023-02-16","2023-02-17","2023-02-18","2023-02-19","2023-02-20","2023-02-21","2023-02-22","2023-02-23","2023-02-24","2023-02-25","2023-02-26","2023-02-27","2023-02-28","2023-03-01","2023-03-02","2023-03-03","2023-03-04","2023-03-05","2023-03-06","2023-03-07",{"$f":"BV3","v":"2023-03-08"},"2023-03-09","2023-03-10","2023-03-11","2023-03-12","2023-03-13","2023-03-14","2023-03-15","2023-03-16","2023-03-17","2023-03-18","2023-03-19","2023-03-20","2023-03-21","2023-03-22","2023-03-23","2023-03-24","2023-03-25","2023-03-26","2023-03-27","2023-03-28","2023-03-29","2023-03-30","2023-03-31","2023-04-01","2023-04-02","2023-04-03","2023-04-04","2023-04-05","2023-04-06","2023-04-07","2023-04-08","2023-04-09","2023-04-10","2023-04-11","2023-04-12","2023-04-13","2023-04-14","2023-04-15","2023-04-16","2023-04-17","2023-04-18","2023-04-19","2023-04-20","2023-04-21","2023-04-22","2023-04-23","2023-04-24","2023-04-25","2023-04-26","2023-04-27","2023-04-28","2023-04-29","2023-04-30","2023-05-01","2023-05-02","2023-05-03","2023-05-04","2023-05-05","2023-05-06","2023-05-07",{"$f":"EE3","v":"2023-05-08"},{"$f":"EF3","v":"2023-05-09"},"2023-05-10","2023-05-11","2023-05-12","2023-05-13","2023-05-14","2023-05-15","2023-05-16","2023-05-17","2023-05-18","2023-05-19","2023-05-20","2023-05-21","2023-05-22","2023-05-23","2023-05-24","2023-05-25","2023-05-26","2023-05-27","2023-05-28","2023-05-29","2023-05-30","2023-05-31","2023-06-01","2023-06-02","2023-06-03","2023-06-04","2023-06-05","2023-06-06","2023-06-07","2023-06-08","2023-06-09","2023-06-10","2023-06-11","2023-06-12","2023-06-13","2023-06-14","2023-06-15","2023-06-16","2023-06-17","2023-06-18","2023-06-19","2023-06-20","2023-06-21","2023-06-22","2023-06-23","2023-06-24",{"$f":"GA3","v":"2023-06-24"},{"$f":"GB3","v":"2023-06-25"},"2023-06-26","2023-06-27","2023-06-28","2023-06-29","2023-06-30","2023-07-01","2023-07-02","2023-07-03","2023-07-04","2023-07-05","2023-07-06","2023-07-07","2023-07-08","2023-07-09","2023-07-10","2023-07-11","2023-07-12","2023-07-13","2023-07-14","2023-07-15","2023-07-16","2023-07-17","2023-07-18","2023-07-19","2023-07-20","2023-07-21","2023-07-22","2023-07-23","2023-07-24","2023-07-25","2023-07-26","2023-07-27","2023-07-28","2023-07-29","2023-07-30","2023-07-31","2023-08-01","2023-08-02","2023-08-03","2023-08-04","2023-08-05","2023-08-06","2023-08-07","2023-08-08","2023-08-09","2023-08-10","2023-08-11","2023-08-12","2023-08-13","2023-08-14","2023-08-15","2023-08-16","2023-08-17","2023-08-18","2023-08-19","2023-08-20","2023-08-21","2023-08-22","2023-08-23","2023-08-24","2023-08-25","2023-08-26","2023-08-27",{"$f":"IN3","v":"2023-08-28"},"2023-08-29","2023-08-30","2023-08-31","2023-09-01","2023-09-02","2023-09-03","2023-09-04","2023-09-05","2023-09-06","2023-09-07","2023-09-08","2023-09-09","2023-09-10","2023-09-11","2023-09-12","2023-09-13","2023-09-14","2023-09-15","2023-09-16","2023-09-17","2023-09-18","2023-09-19","2023-09-20","2023-09-21","2023-09-22","2023-09-23","2023-09-24","2023-09-25",{"$f":"JQ3","v":"2023-09-25"},{"$f":"JR3","v":"2023-09-26"},"2023-09-27","2023-09-28","2023-09-29","2023-09-30","2023-10-01","2023-10-02","2023-10-03","2023-10-04","2023-10-05","2023-10-06","2023-10-07","2023-10-08","2023-10-09","2023-10-10","2023-10-11","2023-10-12","2023-10-13","2023-10-14","2023-10-15","2023-10-16","2023-10-17","2023-10-18","2023-10-19","2023-10-20","2023-10-21","2023-10-22","2023-10-23","2023-10-24","2023-10-25","2023-10-26","2023-10-27","2023-10-28","2023-10-29","2023-10-30","2023-10-31","2023-11-01","2023-11-02","2023-11-03","2023-11-04","2023-11-05","2023-11-06","2023-11-07","2023-11-08","2023-11-09","2023-11-10","2023-11-11","2023-11-12","2023-11-13","2023-11-14","2023-11-15","2023-11-16","2023-11-17","2023-11-18","2023-11-19",{"$f":"LU3","v":"2023-11-19"},{"$f":"LV3","v":"2023-11-20"},"2023-11-21","2023-11-22","2023-11-23","2023-11-24","2023-11-25","2023-11-26","2023-11-27","2023-11-28","2023-11-29","2023-11-30","2023-12-01","2023-12-02","2023-12-03","2023-12-04","2023-12-05","2023-12-06","2023-12-07","2023-12-08","2023-12-09","2023-12-10",{"$f":"MQ3","v":"2023-12-10"},{"$f":"MR3","v":"2023-12-11"},"2023-12-12","2023-12-13","2023-12-14","2023-12-15","2023-12-16","2023-12-17","2023-12-18","2023-12-19","2023-12-20","2023-12-21","2023-12-22","2023-12-23",{"$f":"NE3","v":"2023-12-23"},{"$f":"NF3","v":"2023-12-24"},"2023-12-25","2023-12-26","2023-12-27","2023-12-28",{"$f":"NK3","v":"2023-12-28"},{"$f":"NL3","v":"2023-12-29"},"2023-12-30","2023-12-31"]
[null,null,null,null,null,null,"التاريخ",{"$f":"'بيانات أولية'!C1","v":"2023-01-01"},{"$f":"H3+1","v":"2023-01-02"},{"$f":"I3+1","v":"2023-01-03"},"2023-01-04","2023-01-05","2023-01-06","2023-01-07","2023-01-08","2023-01-09","2023-01-10","2023-01-11","2023-01-12","2023-01-13","2023-01-14","2023-01-15","2023-01-16","2023-01-17","2023-01-18","2023-01-19","2023-01-20","2023-01-21","2023-01-22","2023-01-23","2023-01-24","2023-01-25","2023-01-26","2023-01-27","2023-01-28","2023-01-29","2023-01-30","2023-01-31","2023-02-01","2023-02-02","2023-02-03","2023-02-04","2023-02-05","2023-02-06","2023-02-07","2023-02-08","2023-02-09","2023-02-10","2023-02-11","2023-02-12","2023-02-13","2023-02-14","2023-02-15","2023-02-16","2023-02-17","2023-02-18","2023-02-19","2023-02-20","2023-02-21","2023-02-22","2023-02-23","2023-02-24","2023-02-25","2023-02-26","2023-02-27","2023-02-28","2023-03-01","2023-03-02","2023-03-03","2023-03-04","2023-03-05","2023-03-06","2023-03-07",{"$f":"BU3+1","v":"2023-03-08"},"2023-03-09","2023-03-10","2023-03-11","2023-03-12","2023-03-13","2023-03-14","2023-03-15","2023-03-16","2023-03-17","2023-03-18","2023-03-19","2023-03-20","2023-03-21","2023-03-22","2023-03-23","2023-03-24","2023-03-25","2023-03-26","2023-03-27","2023-03-28","2023-03-29","2023-03-30","2023-03-31","2023-04-01","2023-04-02","2023-04-03","2023-04-04","2023-04-05","2023-04-06","2023-04-07","2023-04-08","2023-04-09","2023-04-10","2023-04-11","2023-04-12","2023-04-13","2023-04-14","2023-04-15","2023-04-16","2023-04-17","2023-04-18","2023-04-19","2023-04-20","2023-04-21","2023-04-22","2023-04-23","2023-04-24","2023-04-25","2023-04-26","2023-04-27","2023-04-28","2023-04-29","2023-04-30","2023-05-01","2023-05-02","2023-05-03","2023-05-04","2023-05-05","2023-05-06","2023-05-07",{"$f":"ED3+1","v":"2023-05-08"},{"$f":"EE3+1","v":"2023-05-09"},"2023-05-10","2023-05-11","2023-05-12","2023-05-13","2023-05-14","2023-05-15","2023-05-16","2023-05-17","2023-05-18","2023-05-19","2023-05-20","2023-05-21","2023-05-22","2023-05-23","2023-05-24","2023-05-25","2023-05-26","2023-05-27","2023-05-28","2023-05-29","2023-05-30","2023-05-31","2023-06-01","2023-06-02","2023-06-03","2023-06-04","2023-06-05","2023-06-06","2023-06-07","2023-06-08","2023-06-09","2023-06-10","2023-06-11","2023-06-12","2023-06-13","2023-06-14","2023-06-15","2023-06-16","2023-06-17","2023-06-18","2023-06-19","2023-06-20","2023-06-21","2023-06-22","2023-06-23","2023-06-24",{"$f":"FY3+1","v":"2023-06-24"},{"$f":"GA3+1","v":"2023-06-25"},"2023-06-26","2023-06-27","2023-06-28","2023-06-29","2023-06-30","2023-07-01","2023-07-02","2023-07-03","2023-07-04","2023-07-05","2023-07-06","2023-07-07","2023-07-08","2023-07-09","2023-07-10","2023-07-11","2023-07-12","2023-07-13","2023-07-14","2023-07-15","2023-07-16","2023-07-17","2023-07-18","2023-07-19","2023-07-20","2023-07-21","2023-07-22","2023-07-23","2023-07-24","2023-07-25","2023-07-26","2023-07-27","2023-07-28","2023-07-29","2023-07-30","2023-07-31","2023-08-01","2023-08-02","2023-08-03","2023-08-04","2023-08-05","2023-08-06","2023-08-07","2023-08-08","2023-08-09","2023-08-10","2023-08-11","2023-08-12","2023-08-13","2023-08-14","2023-08-15","2023-08-16","2023-08-17","2023-08-18","2023-08-19","2023-08-20","2023-08-21","2023-08-22","2023-08-23","2023-08-24","2023-08-25","2023-08-26","2023-08-27",{"$f":"IM3+1","v":"2023-08-28"},"2023-08-29","2023-08-30","2023-08-31","2023-09-01","2023-09-02","2023-09-03","2023-09-04","2023-09-05","2023-09-06","2023-09-07","2023-09-08","2023-09-09","2023-09-10","2023-09-11","2023-09-12","2023-09-13","2023-09-14","2023-09-15","2023-09-16","2023-09-17","2023-09-18","2023-09-19","2023-09-20","2023-09-21","2023-09-22","2023-09-23","2023-09-24","2023-09-25",{"$f":"JO3+1","v":"2023-09-25"},{"$f":"JQ3+1","v":"2023-09-26"},"2023-09-27","2023-09-28","2023-09-29","2023-09-30","2023-10-01","2023-10-02","2023-10-03","2023-10-04","2023-10-05","2023-10-06","2023-10-07","2023-10-08","2023-10-09","2023-10-10","2023-10-11","2023-10-12","2023-10-13","2023-10-14","2023-10-15","2023-10-16","2023-10-17","2023-10-18","2023-10-19","2023-10-20","2023-10-21","2023-10-22","2023-10-23","2023-10-24","2023-10-25","2023-10-26","2023-10-27","2023-10-28","2023-10-29","2023-10-30","2023-10-31","2023-11-01","2023-11-02","2023-11-03","2023-11-04","2023-11-05","2023-11-06","2023-11-07","2023-11-08","2023-11-09","2023-11-10","2023-11-11","2023-11-12","2023-11-13","2023-11-14","2023-11-15","2023-11-16","2023-11-17","2023-11-18","2023-11-19",{"$f":"LS3+1","v":"2023-11-19"},{"$f":"LU3+1","v":"2023-11-20"},"2023-11-21","2023-11-22","2023-11-23","2023-11-24","2023-11-25","2023-11-26","2023-11-27","2023-11-28","2023-11-29","2023-11-30","2023-12-01","2023-12-02","2023-12-03","2023-12-04","2023-12-05","2023-12-06","2023-12-07","2023-12-08","2023-12-09","2023-12-10",{"$f":"MO3+1","v":"2023-12-10"},{"$f":"MQ3+1","v":"2023-12-11"},"2023-12-12","2023-12-13","2023-12-14","2023-12-15","2023-12-16","2023-12-17","2023-12-18","2023-12-19","2023-12-20","2023-12-21","2023-12-22","2023-12-23",{"$f":"NC3+1","v":"2023-12-23"},{"$f":"NE3+1","v":"2023-12-24"},"2023-12-25","2023-12-26","2023-12-27","2023-12-28",{"$f":"NI3+1","v":"2023-12-28"},{"$f":"NK3+1","v":"2023-12-29"},"2023-12-30","2023-12-31"]
["رقم الترتيب","الاسم و اللقب","الجنس","المهنة","العنوان","الرمز","تسلسل"]
[1]
[2]
[3]
[4]
[5]
[6]
[7]
[8]
[9]
[10]
[11]
[12]
[13]
[14]
[15]
[16]
[17]
[18]
[19]
[20]

{"sheet":"ض","index":5,"n_rows":24,"n_cols":378,"rows_kept":24,"cut":false,"hidden":false,"merged":[]}
[null,null,null,null,null,null,"الرقم",1,{"$f":"H1+1","v":2},{"$f":"I1+1","v":3},4,5,6,7,8,9,10,11,12,13,14,15,16,17,18,19,20,21,22,23,24,25,26,27,28,29,30,31,32,33,34,35,36,37,38,39,40,41,42,43,44,45,46,47,48,49,50,51,52,53,54,55,56,57,58,59,60,61,62,63,64,65,66,{"$f":"BU1+1","v":67},68,69,70,71,72,73,74,75,76,77,78,79,80,81,82,83,84,85,86,87,88,89,90,91,92,93,94,95,96,97,98,99,100,101,102,103,104,105,106,107,108,109,110,111,112,113,114,115,116,117,118,119,120,121,122,123,124,125,126,127,{"$f":"ED1+1","v":128},{"$f":"EE1+1","v":129},130,131,132,133,134,135,136,137,138,139,140,141,142,143,144,145,146,147,148,149,150,151,152,153,154,155,156,157,158,159,160,161,162,163,164,165,166,167,168,169,170,171,172,173,174,175,{"$f":"FY1+1","v":175},{"$f":"GA1+1","v":176},177,178,179,180,181,182,183,184,185,186,187,188,189,190,191,192,193,194,195,196,197,198,199,200,201,202,203,204,205,206,207,208,209,210,211,212,213,214,215,216,217,218,219,220,221,222,223,224,225,226,227,228,229,230,231,232,233,234,235,236,237,238,239,{"$f":"IM1+1","v":240},241,242,243,244,245,246,247,248,249,250,251,252,253,254,255,256,257,258,259,260,261,262,263,264,265,266,267,268,{"$f":"JO1+1","v":268},{"$f":"JQ1+1","v":269},270,271,272,273,274,275,276,277,278,279,280,281,282,283,284,285,286,287,288,289,290,291,292,293,294,295,296,297,298,299,300,301,302,303,304,305,306,307,308,309,310,311,312,313,314,315,316,317,318,319,320,321,322,323,{"$f":"LS1+1","v":323},{"$f":"LU1+1","v":324},325,326,327,328,329,330,331,332,333,334,335,336,337,338,339,340,341,342,343,344,{"$f":"MO1+1","v":344},{"$f":"MQ1+1","v":345},346,347,348,349,350,351,352,353,354,355,356,357,{"$f":"NC1+1","v":357},{"$f":"NE1+1","v":358},359,360,361,362,{"$f":"NI1+1","v":362},{"$f":"NK1+1","v":363},364,365]
[null,null,null,null,null,null,"اليوم",{"$f":"H3","v":"2023-01-01"},{"$f":"I3","v":"2023-01-02"},{"$f":"J3","v":"2023-01-03"},"2023-01-04","2023-01-05","2023-01-06","2023-01-07","2023-01-08","2023-01-09","2023-01-10","2023-01-11","2023-01-12","2023-01-13","2023-01-14","2023-01-15","2023-01-16","2023-01-17","2023-01-18","2023-01-19","2023-01-20","2023-01-21","2023-01-22","2023-01-23","2023-01-24","2023-01-25","2023-01-26","2023-01-27","2023-01-28","2023-01-29","2023-01-30","2023-01-31","2023-02-01","2023-02-02","2023-02-03","2023-02-04","2023-02-05","2023-02-06","2023-02-07","2023-02-08","2023-02-09","2023-02-10","2023-02-11","2023-02-12","2023-02-13","2023-02-14","2023-02-15","2023-02-16","2023-02-17","2023-02-18","2023-02-19","2023-02-20","2023-02-21","2023-02-22","2023-02-23","2023-02-24","2023-02-25","2023-02-26","2023-02-27","2023-02-28","2023-03-01","2023-03-02","2023-03-03","2023-03-04","2023-03-05","2023-03-06","2023-03-07",{"$f":"BV3","v":"2023-03-08"},"2023-03-09","2023-03-10","2023-03-11","2023-03-12","2023-03-13","2023-03-14","2023-03-15","2023-03-16","2023-03-17","2023-03-18","2023-03-19","2023-03-20","2023-03-21","2023-03-22","2023-03-23","2023-03-24","2023-03-25","2023-03-26","2023-03-27","2023-03-28","2023-03-29","2023-03-30","2023-03-31","2023-04-01","2023-04-02","2023-04-03","2023-04-04","2023-04-05","2023-04-06","2023-04-07","2023-04-08","2023-04-09","2023-04-10","2023-04-11","2023-04-12","2023-04-13","2023-04-14","2023-04-15","2023-04-16","2023-04-17","2023-04-18","2023-04-19","2023-04-20","2023-04-21","2023-04-22","2023-04-23","2023-04-24","2023-04-25","2023-04-26","2023-04-27","2023-04-28","2023-04-29","2023-04-30","2023-05-01","2023-05-02","2023-05-03","2023-05-04","2023-05-05","2023-05-06","2023-05-07",{"$f":"EE3","v":"2023-05-08"},{"$f":"EF3","v":"2023-05-09"},"2023-05-10","2023-05-11","2023-05-12","2023-05-13","2023-05-14","2023-05-15","2023-05-16","2023-05-17","2023-05-18","2023-05-19","2023-05-20","2023-05-21","2023-05-22","2023-05-23","2023-05-24","2023-05-25","2023-05-26","2023-05-27","2023-05-28","2023-05-29","2023-05-30","2023-05-31","2023-06-01","2023-06-02","2023-06-03","2023-06-04","2023-06-05","2023-06-06","2023-06-07","2023-06-08","2023-06-09","2023-06-10","2023-06-11","2023-06-12","2023-06-13","2023-06-14","2023-06-15","2023-06-16","2023-06-17","2023-06-18","2023-06-19","2023-06-20","2023-06-21","2023-06-22","2023-06-23","2023-06-24",{"$f":"GA3","v":"2023-06-24"},{"$f":"GB3","v":"2023-06-25"},"2023-06-26","2023-06-27","2023-06-28","2023-06-29","2023-06-30","2023-07-01","2023-07-02","2023-07-03","2023-07-04","2023-07-05","2023-07-06","2023-07-07","2023-07-08","2023-07-09","2023-07-10","2023-07-11","2023-07-12","2023-07-13","2023-07-14","2023-07-15","2023-07-16","2023-07-17","2023-07-18","2023-07-19","2023-07-20","2023-07-21","2023-07-22","2023-07-23","2023-07-24","2023-07-25","2023-07-26","2023-07-27","2023-07-28","2023-07-29","2023-07-30","2023-07-31","2023-08-01","2023-08-02","2023-08-03","2023-08-04","2023-08-05","2023-08-06","2023-08-07","2023-08-08","2023-08-09","2023-08-10","2023-08-11","2023-08-12","2023-08-13","2023-08-14","2023-08-15","2023-08-16","2023-08-17","2023-08-18","2023-08-19","2023-08-20","2023-08-21","2023-08-22","2023-08-23","2023-08-24","2023-08-25","2023-08-26","2023-08-27",{"$f":"IN3","v":"2023-08-28"},"2023-08-29","2023-08-30","2023-08-31","2023-09-01","2023-09-02","2023-09-03","2023-09-04","2023-09-05","2023-09-06","2023-09-07","2023-09-08","2023-09-09","2023-09-10","2023-09-11","2023-09-12","2023-09-13","2023-09-14","2023-09-15","2023-09-16","2023-09-17","2023-09-18","2023-09-19","2023-09-20","2023-09-21","2023-09-22","2023-09-23","2023-09-24","2023-09-25",{"$f":"JQ3","v":"2023-09-25"},{"$f":"JR3","v":"2023-09-26"},"2023-09-27","2023-09-28","2023-09-29","2023-09-30","2023-10-01","2023-10-02","2023-10-03","2023-10-04","2023-10-05","2023-10-06","2023-10-07","2023-10-08","2023-10-09","2023-10-10","2023-10-11","2023-10-12","2023-10-13","2023-10-14","2023-10-15","2023-10-16","2023-10-17","2023-10-18","2023-10-19","2023-10-20","2023-10-21","2023-10-22","2023-10-23","2023-10-24","2023-10-25","2023-10-26","2023-10-27","2023-10-28","2023-10-29","2023-10-30","2023-10-31","2023-11-01","2023-11-02","2023-11-03","2023-11-04","2023-11-05","2023-11-06","2023-11-07","2023-11-08","2023-11-09","2023-11-10","2023-11-11","2023-11-12","2023-11-13","2023-11-14","2023-11-15","2023-11-16","2023-11-17","2023-11-18","2023-11-19",{"$f":"LU3","v":"2023-11-19"},{"$f":"LV3","v":"2023-11-20"},"2023-11-21","2023-11-22","2023-11-23","2023-11-24","2023-11-25","2023-11-26","2023-11-27","2023-11-28","2023-11-29","2023-11-30","2023-12-01","2023-12-02","2023-12-03","2023-12-04","2023-12-05","2023-12-06","2023-12-07","2023-12-08","2023-12-09","2023-12-10",{"$f":"MQ3","v":"2023-12-10"},{"$f":"MR3","v":"2023-12-11"},"2023-12-12","2023-12-13","2023-12-14","2023-12-15","2023-12-16","2023-12-17","2023-12-18","2023-12-19","2023-12-20","2023-12-21","2023-12-22","2023-12-23",{"$f":"NE3","v":"2023-12-23"},{"$f":"NF3","v":"2023-12-24"},"2023-12-25","2023-12-26","2023-12-27","2023-12-28",{"$f":"NK3","v":"2023-12-28"},{"$f":"NL3","v":"2023-12-29"},"2023-12-30","2023-12-31"]
[null,null,null,null,null,null,"التاريخ",{"$f":"'بيانات أولية'!C1","v":"2023-01-01"},{"$f":"H3+1","v":"2023-01-02"},{"$f":"I3+1","v":"2023-01-03"},"2023-01-04","2023-01-05","2023-01-06","2023-01-07","2023-01-08","2023-01-09","2023-01-10","2023-01-11","2023-01-12","2023-01-13","2023-01-14","2023-01-15","2023-01-16","2023-01-17","2023-01-18","2023-01-19","2023-01-20","2023-01-21","2023-01-22","2023-01-23","2023-01-24","2023-01-25","2023-01-26","2023-01-27","2023-01-28","2023-01-29","2023-01-30","2023-01-31","2023-02-01","2023-02-02","2023-02-03","2023-02-04","2023-02-05","2023-02-06","2023-02-07","2023-02-08","2023-02-09","2023-02-10","2023-02-11","2023-02-12","2023-02-13","2023-02-14","2023-02-15","2023-02-16","2023-02-17","2023-02-18","2023-02-19","2023-02-20","2023-02-21","2023-02-22","2023-02-23","2023-02-24","2023-02-25","2023-02-26","2023-02-27","2023-02-28","2023-03-01","2023-03-02","2023-03-03","2023-03-04","2023-03-05","2023-03-06","2023-03-07",{"$f":"BU3+1","v":"2023-03-08"},"2023-03-09","2023-03-10","2023-03-11","2023-03-12","2023-03-13","2023-03-14","2023-03-15","2023-03-16","2023-03-17","2023-03-18","2023-03-19","2023-03-20","2023-03-21","2023-03-22","2023-03-23","2023-03-24","2023-03-25","2023-03-26","2023-03-27","2023-03-28","2023-03-29","2023-03-30","2023-03-31","2023-04-01","2023-04-02","2023-04-03","2023-04-04","2023-04-05","2023-04-06","2023-04-07","2023-04-08","2023-04-09","2023-04-10","2023-04-11","2023-04-12","2023-04-13","2023-04-14","2023-04-15","2023-04-16","2023-04-17","2023-04-18","2023-04-19","2023-04-20","2023-04-21","2023-04-22","2023-04-23","2023-04-24","2023-04-25","2023-04-26","2023-04-27","2023-04-28","2023-04-29","2023-04-30","2023-05-01","2023-05-02","2023-05-03","2023-05-04","2023-05-05","2023-05-06","2023-05-07",{"$f":"ED3+1","v":"2023-05-08"},{"$f":"EE3+1","v":"2023-05-09"},"2023-05-10","2023-05-11","2023-05-12","2023-05-13","2023-05-14","2023-05-15","2023-05-16","2023-05-17","2023-05-18","2023-05-19","2023-05-20","2023-05-21","2023-05-22","2023-05-23","2023-05-24","2023-05-25","2023-05-26","2023-05-27","2023-05-28","2023-05-29","2023-05-30","2023-05-31","2023-06-01","2023-06-02","2023-06-03","2023-06-04","2023-06-05","2023-06-06","2023-06-07","2023-06-08","2023-06-09","2023-06-10","2023-06-11","2023-06-12","2023-06-13","2023-06-14","2023-06-15","2023-06-16","2023-06-17","2023-06-18","2023-06-19","2023-06-20","2023-06-21","2023-06-22","2023-06-23","2023-06-24",{"$f":"FY3+1","v":"2023-06-24"},{"$f":"GA3+1","v":"2023-06-25"},"2023-06-26","2023-06-27","2023-06-28","2023-06-29","2023-06-30","2023-07-01","2023-07-02","2023-07-03","2023-07-04","2023-07-05","2023-07-06","2023-07-07","2023-07-08","2023-07-09","2023-07-10","2023-07-11","2023-07-12","2023-07-13","2023-07-14","2023-07-15","2023-07-16","2023-07-17","2023-07-18","2023-07-19","2023-07-20","2023-07-21","2023-07-22","2023-07-23","2023-07-24","2023-07-25","2023-07-26","2023-07-27","2023-07-28","2023-07-29","2023-07-30","2023-07-31","2023-08-01","2023-08-02","2023-08-03","2023-08-04","2023-08-05","2023-08-06","2023-08-07","2023-08-08","2023-08-09","2023-08-10","2023-08-11","2023-08-12","2023-08-13","2023-08-14","2023-08-15","2023-08-16","2023-08-17","2023-08-18","2023-08-19","2023-08-20","2023-08-21","2023-08-22","2023-08-23","2023-08-24","2023-08-25","2023-08-26","2023-08-27",{"$f":"IM3+1","v":"2023-08-28"},"2023-08-29","2023-08-30","2023-08-31","2023-09-01","2023-09-02","2023-09-03","2023-09-04","2023-09-05","2023-09-06","2023-09-07","2023-09-08","2023-09-09","2023-09-10","2023-09-11","2023-09-12","2023-09-13","2023-09-14","2023-09-15","2023-09-16","2023-09-17","2023-09-18","2023-09-19","2023-09-20","2023-09-21","2023-09-22","2023-09-23","2023-09-24","2023-09-25",{"$f":"JO3+1","v":"2023-09-25"},{"$f":"JQ3+1","v":"2023-09-26"},"2023-09-27","2023-09-28","2023-09-29","2023-09-30","2023-10-01","2023-10-02","2023-10-03","2023-10-04","2023-10-05","2023-10-06","2023-10-07","2023-10-08","2023-10-09","2023-10-10","2023-10-11","2023-10-12","2023-10-13","2023-10-14","2023-10-15","2023-10-16","2023-10-17","2023-10-18","2023-10-19","2023-10-20","2023-10-21","2023-10-22","2023-10-23","2023-10-24","2023-10-25","2023-10-26","2023-10-27","2023-10-28","2023-10-29","2023-10-30","2023-10-31","2023-11-01","2023-11-02","2023-11-03","2023-11-04","2023-11-05","2023-11-06","2023-11-07","2023-11-08","2023-11-09","2023-11-10","2023-11-11","2023-11-12","2023-11-13","2023-11-14","2023-11-15","2023-11-16","2023-11-17","2023-11-18","2023-11-19",{"$f":"LS3+1","v":"2023-11-19"},{"$f":"LU3+1","v":"2023-11-20"},"2023-11-21","2023-11-22","2023-11-23","2023-11-24","2023-11-25","2023-11-26","2023-11-27","2023-11-28","2023-11-29","2023-11-30","2023-12-01","2023-12-02","2023-12-03","2023-12-04","2023-12-05","2023-12-06","2023-12-07","2023-12-08","2023-12-09","2023-12-10",{"$f":"MO3+1","v":"2023-12-10"},{"$f":"MQ3+1","v":"2023-12-11"},"2023-12-12","2023-12-13","2023-12-14","2023-12-15","2023-12-16","2023-12-17","2023-12-18","2023-12-19","2023-12-20","2023-12-21","2023-12-22","2023-12-23",{"$f":"NC3+1","v":"2023-12-23"},{"$f":"NE3+1","v":"2023-12-24"},"2023-12-25","2023-12-26","2023-12-27","2023-12-28",{"$f":"NI3+1","v":"2023-12-28"},{"$f":"NK3+1","v":"2023-12-29"},"2023-12-30","2023-12-31"]
["رقم الترتيب","الاسم و اللقب","الجنس","المهنة","العنوان","الرمز","تسلسل"]
[1]
[2]
[3]
[4]
[5]
[6]
[7]
[8]
[9]
[10]
[11]
[12]
[13]
[14]
[15]
[16]
[17]
[18]
[19]
[20]

{"sheet":"ص","index":6,"n_rows":24,"n_cols":378,"rows_kept":24,"cut":false,"hidden":false,"merged":[]}
[null,null,null,null,null,null,"الرقم",1,{"$f":"H1+1","v":2},{"$f":"I1+1","v":3},4,5,6,7,8,9,10,11,12,13,14,15,16,17,18,19,20,21,22,23,24,25,26,27,28,29,30,31,32,33,34,35,36,37,38,39,40,41,42,43,44,45,46,47,48,49,50,51,52,53,54,55,56,57,58,59,60,61,62,63,64,65,66,{"$f":"BU1+1","v":67},68,69,70,71,72,73,74,75,76,77,78,79,80,81,82,83,84,85,86,87,88,89,90,91,92,93,94,95,96,97,98,99,100,101,102,103,104,105,106,107,108,109,110,111,112,113,114,115,116,117,118,119,120,121,122,123,124,125,126,127,{"$f":"ED1+1","v":128},{"$f":"EE1+1","v":129},130,131,132,133,134,135,136,137,138,139,140,141,142,143,144,145,146,147,148,149,150,151,152,153,154,155,156,157,158,159,160,161,162,163,164,165,166,167,168,169,170,171,172,173,174,175,{"$f":"FY1+1","v":175},{"$f":"GA1+1","v":176},177,178,179,180,181,182,183,184,185,186,187,188,189,190,191,192,193,194,195,196,197,198,199,200,201,202,203,204,205,206,207,208,209,210,211,212,213,214,215,216,217,218,219,220,221,222,223,224,225,226,227,228,229,230,231,232,233,234,235,236,237,238,239,{"$f":"IM1+1","v":240},241,242,243,244,245,246,247,248,249,250,251,252,253,254,255,256,257,258,259,260,261,262,263,264,265,266,267,268,{"$f":"JO1+1","v":268},{"$f":"JQ1+1","v":269},270,271,272,273,274,275,276,277,278,279,280,281,282,283,284,285,286,287,288,289,290,291,292,293,294,295,296,297,298,299,300,301,302,303,304,305,306,307,308,309,310,311,312,313,314,315,316,317,318,319,320,321,322,323,{"$f":"LS1+1","v":323},{"$f":"LU1+1","v":324},325,326,327,328,329,330,331,332,333,334,335,336,337,338,339,340,341,342,343,344,{"$f":"MO1+1","v":344},{"$f":"MQ1+1","v":345},346,347,348,349,350,351,352,353,354,355,356,357,{"$f":"NC1+1","v":357},{"$f":"NE1+1","v":358},359,360,361,362,{"$f":"NI1+1","v":362},{"$f":"NK1+1","v":363},364,365]
[null,null,null,null,null,null,"اليوم",{"$f":"H3","v":"2023-01-01"},{"$f":"I3","v":"2023-01-02"},{"$f":"J3","v":"2023-01-03"},"2023-01-04","2023-01-05","2023-01-06","2023-01-07","2023-01-08","2023-01-09","2023-01-10","2023-01-11","2023-01-12","2023-01-13","2023-01-14","2023-01-15","2023-01-16","2023-01-17","2023-01-18","2023-01-19","2023-01-20","2023-01-21","2023-01-22","2023-01-23","2023-01-24","2023-01-25","2023-01-26","2023-01-27","2023-01-28","2023-01-29","2023-01-30","2023-01-31","2023-02-01","2023-02-02","2023-02-03","2023-02-04","2023-02-05","2023-02-06","2023-02-07","2023-02-08","2023-02-09","2023-02-10","2023-02-11","2023-02-12","2023-02-13","2023-02-14","2023-02-15","2023-02-16","2023-02-17","2023-02-18","2023-02-19","2023-02-20","2023-02-21","2023-02-22","2023-02-23","2023-02-24","2023-02-25","2023-02-26","2023-02-27","2023-02-28","2023-03-01","2023-03-02","2023-03-03","2023-03-04","2023-03-05","2023-03-06","2023-03-07",{"$f":"BV3","v":"2023-03-08"},"2023-03-09","2023-03-10","2023-03-11","2023-03-12","2023-03-13","2023-03-14","2023-03-15","2023-03-16","2023-03-17","2023-03-18","2023-03-19","2023-03-20","2023-03-21","2023-03-22","2023-03-23","2023-03-24","2023-03-25","2023-03-26","2023-03-27","2023-03-28","2023-03-29","2023-03-30","2023-03-31","2023-04-01","2023-04-02","2023-04-03","2023-04-04","2023-04-05","2023-04-06","2023-04-07","2023-04-08","2023-04-09","2023-04-10","2023-04-11","2023-04-12","2023-04-13","2023-04-14","2023-04-15","2023-04-16","2023-04-17","2023-04-18","2023-04-19","2023-04-20","2023-04-21","2023-04-22","2023-04-23","2023-04-24","2023-04-25","2023-04-26","2023-04-27","2023-04-28","2023-04-29","2023-04-30","2023-05-01","2023-05-02","2023-05-03","2023-05-04","2023-05-05","2023-05-06","2023-05-07",{"$f":"EE3","v":"2023-05-08"},{"$f":"EF3","v":"2023-05-09"},"2023-05-10","2023-05-11","2023-05-12","2023-05-13","2023-05-14","2023-05-15","2023-05-16","2023-05-17","2023-05-18","2023-05-19","2023-05-20","2023-05-21","2023-05-22","2023-05-23","2023-05-24","2023-05-25","2023-05-26","2023-05-27","2023-05-28","2023-05-29","2023-05-30","2023-05-31","2023-06-01","2023-06-02","2023-06-03","2023-06-04","2023-06-05","2023-06-06","2023-06-07","2023-06-08","2023-06-09","2023-06-10","2023-06-11","2023-06-12","2023-06-13","2023-06-14","2023-06-15","2023-06-16","2023-06-17","2023-06-18","2023-06-19","2023-06-20","2023-06-21","2023-06-22","2023-06-23","2023-06-24",{"$f":"GA3","v":"2023-06-24"},{"$f":"GB3","v":"2023-06-25"},"2023-06-26","2023-06-27","2023-06-28","2023-06-29","2023-06-30","2023-07-01","2023-07-02","2023-07-03","2023-07-04","2023-07-05","2023-07-06","2023-07-07","2023-07-08","2023-07-09","2023-07-10","2023-07-11","2023-07-12","2023-07-13","2023-07-14","2023-07-15","2023-07-16","2023-07-17","2023-07-18","2023-07-19","2023-07-20","2023-07-21","2023-07-22","2023-07-23","2023-07-24","2023-07-25","2023-07-26","2023-07-27","2023-07-28","2023-07-29","2023-07-30","2023-07-31","2023-08-01","2023-08-02","2023-08-03","2023-08-04","2023-08-05","2023-08-06","2023-08-07","2023-08-08","2023-08-09","2023-08-10","2023-08-11","2023-08-12","2023-08-13","2023-08-14","2023-08-15","2023-08-16","2023-08-17","2023-08-18","2023-08-19","2023-08-20","2023-08-21","2023-08-22","2023-08-23","2023-08-24","2023-08-25","2023-08-26","2023-08-27",{"$f":"IN3","v":"2023-08-28"},"2023-08-29","2023-08-30","2023-08-31","2023-09-01","2023-09-02","2023-09-03","2023-09-04","2023-09-05","2023-09-06","2023-09-07","2023-09-08","2023-09-09","2023-09-10","2023-09-11","2023-09-12","2023-09-13","2023-09-14","2023-09-15","2023-09-16","2023-09-17","2023-09-18","2023-09-19","2023-09-20","2023-09-21","2023-09-22","2023-09-23","2023-09-24","2023-09-25",{"$f":"JQ3","v":"2023-09-25"},{"$f":"JR3","v":"2023-09-26"},"2023-09-27","2023-09-28","2023-09-29","2023-09-30","2023-10-01","2023-10-02","2023-10-03","2023-10-04","2023-10-05","2023-10-06","2023-10-07","2023-10-08","2023-10-09","2023-10-10","2023-10-11","2023-10-12","2023-10-13","2023-10-14","2023-10-15","2023-10-16","2023-10-17","2023-10-18","2023-10-19","2023-10-20","2023-10-21","2023-10-22","2023-10-23","2023-10-24","2023-10-25","2023-10-26","2023-10-27","2023-10-28","2023-10-29","2023-10-30","2023-10-31","2023-11-01","2023-11-02","2023-11-03","2023-11-04","2023-11-05","2023-11-06","2023-11-07","2023-11-08","2023-11-09","2023-11-10","2023-11-11","2023-11-12","2023-11-13","2023-11-14","2023-11-15","2023-11-16","2023-11-17","2023-11-18","2023-11-19",{"$f":"LU3","v":"2023-11-19"},{"$f":"LV3","v":"2023-11-20"},"2023-11-21","2023-11-22","2023-11-23","2023-11-24","2023-11-25","2023-11-26","2023-11-27","2023-11-28","2023-11-29","2023-11-30","2023-12-01","2023-12-02","2023-12-03","2023-12-04","2023-12-05","2023-12-06","2023-12-07","2023-12-08","2023-12-09","2023-12-10",{"$f":"MQ3","v":"2023-12-10"},{"$f":"MR3","v":"2023-12-11"},"2023-12-12","2023-12-13","2023-12-14","2023-12-15","2023-12-16","2023-12-17","2023-12-18","2023-12-19","2023-12-20","2023-12-21","2023-12-22","2023-12-23",{"$f":"NE3","v":"2023-12-23"},{"$f":"NF3","v":"2023-12-24"},"2023-12-25","2023-12-26","2023-12-27","2023-12-28",{"$f":"NK3","v":"2023-12-28"},{"$f":"NL3","v":"2023-12-29"},"2023-12-30","2023-12-31"]
[null,null,null,null,null,null,"التاريخ",{"$f":"'بيانات أولية'!C1","v":"2023-01-01"},{"$f":"H3+1","v":"2023-01-02"},{"$f":"I3+1","v":"2023-01-03"},"2023-01-04","2023-01-05","2023-01-06","2023-01-07","2023-01-08","2023-01-09","2023-01-10","2023-01-11","2023-01-12","2023-01-13","2023-01-14","2023-01-15","2023-01-16","2023-01-17","2023-01-18","2023-01-19","2023-01-20","2023-01-21","2023-01-22","2023-01-23","2023-01-24","2023-01-25","2023-01-26","2023-01-27","2023-01-28","2023-01-29","2023-01-30","2023-01-31","2023-02-01","2023-02-02","2023-02-03","2023-02-04","2023-02-05","2023-02-06","2023-02-07","2023-02-08","2023-02-09","2023-02-10","2023-02-11","2023-02-12","2023-02-13","2023-02-14","2023-02-15","2023-02-16","2023-02-17","2023-02-18","2023-02-19","2023-02-20","2023-02-21","2023-02-22","2023-02-23","2023-02-24","2023-02-25","2023-02-26","2023-02-27","2023-02-28","2023-03-01","2023-03-02","2023-03-03","2023-03-04","2023-03-05","2023-03-06","2023-03-07",{"$f":"BU3+1","v":"2023-03-08"},"2023-03-09","2023-03-10","2023-03-11","2023-03-12","2023-03-13","2023-03-14","2023-03-15","2023-03-16","2023-03-17","2023-03-18","2023-03-19","2023-03-20","2023-03-21","2023-03-22","2023-03-23","2023-03-24","2023-03-25","2023-03-26","2023-03-27","2023-03-28","2023-03-29","2023-03-30","2023-03-31","2023-04-01","2023-04-02","2023-04-03","2023-04-04","2023-04-05","2023-04-06","2023-04-07","2023-04-08","2023-04-09","2023-04-10","2023-04-11","2023-04-12","2023-04-13","2023-04-14","2023-04-15","2023-04-16","2023-04-17","2023-04-18","2023-04-19","2023-04-20","2023-04-21","2023-04-22","2023-04-23","2023-04-24","2023-04-25","2023-04-26","2023-04-27","2023-04-28","2023-04-29","2023-04-30","2023-05-01","2023-05-02","2023-05-03","2023-05-04","2023-05-05","2023-05-06","2023-05-07",{"$f":"ED3+1","v":"2023-05-08"},{"$f":"EE3+1","v":"2023-05-09"},"2023-05-10","2023-05-11","2023-05-12","2023-05-13","2023-05-14","2023-05-15","2023-05-16","2023-05-17","2023-05-18","2023-05-19","2023-05-20","2023-05-21","2023-05-22","2023-05-23","2023-05-24","2023-05-25","2023-05-26","2023-05-27","2023-05-28","2023-05-29","2023-05-30","2023-05-31","2023-06-01","2023-06-02","2023-06-03","2023-06-04","2023-06-05","2023-06-06","2023-06-07","2023-06-08","2023-06-09","2023-06-10","2023-06-11","2023-06-12","2023-06-13","2023-06-14","2023-06-15","2023-06-16","2023-06-17","2023-06-18","2023-06-19","2023-06-20","2023-06-21","2023-06-22","2023-06-23","2023-06-24",{"$f":"FY3+1","v":"2023-06-24"},{"$f":"GA3+1","v":"2023-06-25"},"2023-06-26","2023-06-27","2023-06-28","2023-06-29","2023-06-30","2023-07-01","2023-07-02","2023-07-03","2023-07-04","2023-07-05","2023-07-06","2023-07-07","2023-07-08","2023-07-09","2023-07-10","2023-07-11","2023-07-12","2023-07-13","2023-07-14","2023-07-15","2023-07-16","2023-07-17","2023-07-18","2023-07-19","2023-07-20","2023-07-21","2023-07-22","2023-07-23","2023-07-24","2023-07-25","2023-07-26","2023-07-27","2023-07-28","2023-07-29","2023-07-30","2023-07-31","2023-08-01","2023-08-02","2023-08-03","2023-08-04","2023-08-05","2023-08-06","2023-08-07","2023-08-08","2023-08-09","2023-08-10","2023-08-11","2023-08-12","2023-08-13","2023-08-14","2023-08-15","2023-08-16","2023-08-17","2023-08-18","2023-08-19","2023-08-20","2023-08-21","2023-08-22","2023-08-23","2023-08-24","2023-08-25","2023-08-26","2023-08-27",{"$f":"IM3+1","v":"2023-08-28"},"2023-08-29","2023-08-30","2023-08-31","2023-09-01","2023-09-02","2023-09-03","2023-09-04","2023-09-05","2023-09-06","2023-09-07","2023-09-08","2023-09-09","2023-09-10","2023-09-11","2023-09-12","2023-09-13","2023-09-14","2023-09-15","2023-09-16","2023-09-17","2023-09-18","2023-09-19","2023-09-20","2023-09-21","2023-09-22","2023-09-23","2023-09-24","2023-09-25",{"$f":"JO3+1","v":"2023-09-25"},{"$f":"JQ3+1","v":"2023-09-26"},"2023-09-27","2023-09-28","2023-09-29","2023-09-30","2023-10-01","2023-10-02","2023-10-03","2023-10-04","2023-10-05","2023-10-06","2023-10-07","2023-10-08","2023-10-09","2023-10-10","2023-10-11","2023-10-12","2023-10-13","2023-10-14","2023-10-15","2023-10-16","2023-10-17","2023-10-18","2023-10-19","2023-10-20","2023-10-21","2023-10-22","2023-10-23","2023-10-24","2023-10-25","2023-10-26","2023-10-27","2023-10-28","2023-10-29","2023-10-30","2023-10-31","2023-11-01","2023-11-02","2023-11-03","2023-11-04","2023-11-05","2023-11-06","2023-11-07","2023-11-08","2023-11-09","2023-11-10","2023-11-11","2023-11-12","2023-11-13","2023-11-14","2023-11-15","2023-11-16","2023-11-17","2023-11-18","2023-11-19",{"$f":"LS3+1","v":"2023-11-19"},{"$f":"LU3+1","v":"2023-11-20"},"2023-11-21","2023-11-22","2023-11-23","2023-11-24","2023-11-25","2023-11-26","2023-11-27","2023-11-28","2023-11-29","2023-11-30","2023-12-01","2023-12-02","2023-12-03","2023-12-04","2023-12-05","2023-12-06","2023-12-07","2023-12-08","2023-12-09","2023-12-10",{"$f":"MO3+1","v":"2023-12-10"},{"$f":"MQ3+1","v":"2023-12-11"},"2023-12-12","2023-12-13","2023-12-14","2023-12-15","2023-12-16","2023-12-17","2023-12-18","2023-12-19","2023-12-20","2023-12-21","2023-12-22","2023-12-23",{"$f":"NC3+1","v":"2023-12-23"},{"$f":"NE3+1","v":"2023-12-24"},"2023-12-25","2023-12-26","2023-12-27","2023-12-28",{"$f":"NI3+1","v":"2023-12-28"},{"$f":"NK3+1","v":"2023-12-29"},"2023-12-30","2023-12-31"]
["رقم الترتيب","الاسم و اللقب","الجنس","المهنة","العنوان","الرمز","تسلسل"]
[1]
[2]
[3]
[4]
[5]
[6]
[7]
[8]
[9]
[10]
[11]
[12]
[13]
[14]
[15]
[16]
[17]
[18]
[19]
[20]

{"sheet":"بحث بالتاريخ","index":7,"n_rows":5,"n_cols":11,"rows_kept":5,"cut":false,"hidden":false,"merged":[]}
[]
[null,null,null,null,"من :","00\\00\\2000",null,"إلى :","00\\00\\2000"]
["الرقم","الاسم و اللقب","الجنس","المهنة","العنوان","الرمز","غير مبرر","مبرر","غياب يوم","ص","ض"]
[1]
[2]