{"text_format":"1","workbook":"xlsx","n_sheets":4,"sheets":["بيانات أساسية","اللجان","الطلبة","مناداة"],"not_rendered":{"charts":0,"images":2,"macros":1,"external_links":1,"defined_names":5,"comments":0,"pivot_tables":0},"unopened":[],"bounds":{"document_bytes":16777216,"sheet_cells":100000,"rows_first":2000,"rows_last":500,"rows_between":2000,"halvings":0,"cell_chars":16384,"cell_head_chars":4096},"cells_cut":0,"cells_raw":0,"read":"whole","date_system":"1900"}

{"sheet":"بيانات أساسية","index":0,"n_rows":19,"n_cols":4,"rows_kept":19,"cut":false,"hidden":false,"merged":[[1,3,1,5],[10,0,10,2],[13,0,13,2],[11,0,11,2],[12,3,12,5],[12,0,12,2],[11,3,11,5],[10,3,10,5],[8,0,8,2],[5,0,5,2],[9,0,9,2],[9,3,9,5],[8,3,8,5],[6,3,6,5],[4,3,4,5],[5,3,5,5],[3,3,3,5],[7,3,7,5],[3,0,3,2],[4,0,4,2],[6,0,6,2],[7,0,7,2],[16,0,16,2],[13,3,13,5],[14,3,14,5],[14,0,14,2],[16,3,16,5],[15,0,15,2],[15,3,15,5]]}
[]
[null,null,null,"ادخل  البيانات  أولا"]
[]
["المحافظة "]
["الإدارة ",null,null,"إدارة قويسنا التعليمية"]
["المدرسة ",null,null,"مدرسة عرب الرمل الإبتدائية سكة حديد"]
["القسم"]
["رئيس الكنترول",null,null,"أ/ محـــمد سعيـــد"]
["رئيس اللجــنة",null,null,"أ/عزه البدرى"]
["رئيس لجنة سير الامتحان",null,null,333333]
[" وكيل شئون الطلبة ",null,null,44444444]
["مسئول الحاسب",null,null,555555]
["امتحان",null,null,"امتحان الفصل الدراسى الأول"]
["الصف ",null,null,"الصف الرابع"]
["السنة الدراسية",null,null,"الفصل الدراسى الأول 2025/2024"]
[]
["تاريخ امتحان الدور الثانى"]
[]
[null,null,null," "]

{"sheet":"اللجان","index":1,"n_rows":44,"n_cols":12,"rows_kept":44,"cut":false,"hidden":false,"merged":[[2,2,2,3],[2,1,3,1],[1,3,1,4],[0,8,0,14]]}
[null,null,null,null,null,null,null,null,"اكتب فى الخلايا ذات اللون الابيض فقط"]
[null,null,null,{"$f":"'بيانات أساسية'!$D$14","v":"الصف الرابع"}]
[null,"م","اكتب أول رقم جلوس هنا",null,{"$f":"SUM(E5:E44)","v":119},{"$f":"COUNT(F5:F44)","v":6},null,null,null,"مقيد","موزع","متبقى"]
[null,null,null,"إلى","عدد الطلبه فى اللجنه","رقم اللجنة","الصف","الدمج",null,{"$f":"COUNTA(الطلبة!C5:C487)","v":119},{"$f":"SUM(E5:E44)","v":119},{"$f":"J4-K4","v":0}]
[null,{"$f":"IF(C5=\"\",\"\",COUNT($C$5:C5))","v":1},301,{"$f":"IF(E5=\"\",\"\",C5+E5-1)","v":320},20,{"$f":"IF(C5=\"\",\"\",COUNT($C$5:C5))","v":1},"الرابع"]
[null,{"$f":"IF(C6=\"\",\"\",COUNT($C$5:C6))","v":2},{"$f":"IF(E6=\"\",\"\",D5+1)","v":321},340,20,{"$f":"IF(C6=\"\",\"\",COUNT($C$5:C6))","v":2},{"$f":"G5","v":"الرابع"},"1ب"]
[null,{"$f":"IF(C7=\"\",\"\",COUNT($C$5:C7))","v":3},{"$f":"IF(E7=\"\",\"\",D6+1)","v":341},360,20,{"$f":"IF(C7=\"\",\"\",COUNT($C$5:C7))","v":3},{"$f":"G6","v":"الرابع"}]
[null,{"$f":"IF(C8=\"\",\"\",COUNT($C$5:C8))","v":4},{"$f":"IF(E8=\"\",\"\",D7+1)","v":361},380,20,{"$f":"IF(C8=\"\",\"\",COUNT($C$5:C8))","v":4},{"$f":"G7","v":"الرابع"}]
[null,{"$f":"IF(C9=\"\",\"\",COUNT($C$5:C9))","v":5},{"$f":"IF(E9=\"\",\"\",D8+1)","v":381},400,20,{"$f":"IF(C9=\"\",\"\",COUNT($C$5:C9))","v":5},{"$f":"G8","v":"الرابع"},"1ب"]
[null,{"$f":"IF(C10=\"\",\"\",COUNT($C$5:C10))","v":6},{"$f":"IF(E10=\"\",\"\",D9+1)","v":401},419,19,{"$f":"IF(C10=\"\",\"\",COUNT($C$5:C10))","v":6},{"$f":"G9","v":"الرابع"}]
[null,{"$f":"IF(C11=\"\",\"\",COUNT($C$5:C11))","v":""},{"$f":"IF(E11=\"\",\"\",D10+1)","v":""},{"$f":"IF(E11=\"\",\"\",C11+E11-1)","v":""},null,{"$f":"IF(C11=\"\",\"\",COUNT($C$5:C11))","v":""}]
[null,{"$f":"IF(C12=\"\",\"\",COUNT($C$5:C12))","v":""},"","",null,{"$f":"IF(C12=\"\",\"\",COUNT($C$5:C12))","v":""}]
[null,{"$f":"IF(C13=\"\",\"\",COUNT($C$5:C13))","v":""},"","",null,{"$f":"IF(C13=\"\",\"\",COUNT($C$5:C13))","v":""}]
[null,{"$f":"IF(C14=\"\",\"\",COUNT($C$5:C14))","v":""},"","",null,{"$f":"IF(C14=\"\",\"\",COUNT($C$5:C14))","v":""}]
[null,{"$f":"IF(C15=\"\",\"\",COUNT($C$5:C15))","v":""},"","",null,{"$f":"IF(C15=\"\",\"\",COUNT($C$5:C15))","v":""}]
[null,{"$f":"IF(C16=\"\",\"\",COUNT($C$5:C16))","v":""},"","",null,{"$f":"IF(C16=\"\",\"\",COUNT($C$5:C16))","v":""}]
[null,{"$f":"IF(C17=\"\",\"\",COUNT($C$5:C17))","v":""},"","",null,{"$f":"IF(C17=\"\",\"\",COUNT($C$5:C17))","v":""}]
[null,{"$f":"IF(C18=\"\",\"\",COUNT($C$5:C18))","v":""},"","",null,{"$f":"IF(C18=\"\",\"\",COUNT($C$5:C18))","v":""}]
[null,{"$f":"IF(C19=\"\",\"\",COUNT($C$5:C19))","v":""},"","",null,{"$f":"IF(C19=\"\",\"\",COUNT($C$5:C19))","v":""}]
[null,{"$f":"IF(C20=\"\",\"\",COUNT($C$5:C20))","v":""},"","",null,{"$f":"IF(C20=\"\",\"\",COUNT($C$5:C20))","v":""}]
[null,{"$f":"IF(C21=\"\",\"\",COUNT($C$5:C21))","v":""},"","",null,{"$f":"IF(C21=\"\",\"\",COUNT($C$5:C21))","v":""}]
[null,{"$f":"IF(C22=\"\",\"\",COUNT($C$5:C22))","v":""},"","",null,{"$f":"IF(C22=\"\",\"\",COUNT($C$5:C22))","v":""}]
[null,{"$f":"IF(C23=\"\",\"\",COUNT($C$5:C23))","v":""},"","",null,{"$f":"IF(C23=\"\",\"\",COUNT($C$5:C23))","v":""}]
[null,{"$f":"IF(C24=\"\",\"\",COUNT($C$5:C24))","v":""},"","",null,{"$f":"IF(C24=\"\",\"\",COUNT($C$5:C24))","v":""}]
[null,{"$f":"IF(C25=\"\",\"\",COUNT($C$5:C25))","v":""},"","",null,{"$f":"IF(C25=\"\",\"\",COUNT($C$5:C25))","v":""}]
[null,{"$f":"IF(C26=\"\",\"\",COUNT($C$5:C26))","v":""},"","",null,{"$f":"IF(C26=\"\",\"\",COUNT($C$5:C26))","v":""}]
[null,{"$f":"IF(C27=\"\",\"\",COUNT($C$5:C27))","v":""},"","",null,{"$f":"IF(C27=\"\",\"\",COUNT($C$5:C27))","v":""}]
[null,{"$f":"IF(C28=\"\",\"\",COUNT($C$5:C28))","v":""},"","",null,{"$f":"IF(C28=\"\",\"\",COUNT($C$5:C28))","v":""}]
[null,{"$f":"IF(C29=\"\",\"\",COUNT($C$5:C29))","v":""},"","",null,{"$f":"IF(C29=\"\",\"\",COUNT($C$5:C29))","v":""}]
[null,{"$f":"IF(C30=\"\",\"\",COUNT($C$5:C30))","v":""},"","",null,{"$f":"IF(C30=\"\",\"\",COUNT($C$5:C30))","v":""}]
[null,{"$f":"IF(C31=\"\",\"\",COUNT($C$5:C31))","v":""},"","",null,{"$f":"IF(C31=\"\",\"\",COUNT($C$5:C31))","v":""}]
[null,{"$f":"IF(C32=\"\",\"\",COUNT($C$5:C32))","v":""},"","",null,{"$f":"IF(C32=\"\",\"\",COUNT($C$5:C32))","v":""}]
[null,{"$f":"IF(C33=\"\",\"\",COUNT($C$5:C33))","v":""},"","",null,{"$f":"IF(C33=\"\",\"\",COUNT($C$5:C33))","v":""}]
[null,{"$f":"IF(C34=\"\",\"\",COUNT($C$5:C34))","v":""},"","",null,{"$f":"IF(C34=\"\",\"\",COUNT($C$5:C34))","v":""}]
[null,{"$f":"IF(C35=\"\",\"\",COUNT($C$5:C35))","v":""},"","",null,{"$f":"IF(C35=\"\",\"\",COUNT($C$5:C35))","v":""}]
[null,{"$f":"IF(C36=\"\",\"\",COUNT($C$5:C36))","v":""},"","",null,{"$f":"IF(C36=\"\",\"\",COUNT($C$5:C36))","v":""}]
[null,{"$f":"IF(C37=\"\",\"\",COUNT($C$5:C37))","v":""},"","",null,{"$f":"IF(C37=\"\",\"\",COUNT($C$5:C37))","v":""}]
[null,{"$f":"IF(C38=\"\",\"\",COUNT($C$5:C38))","v":""},"","",null,{"$f":"IF(C38=\"\",\"\",COUNT($C$5:C38))","v":""}]
[null,{"$f":"IF(C39=\"\",\"\",COUNT($C$5:C39))","v":""},"","",null,{"$f":"IF(C39=\"\",\"\",COUNT($C$5:C39))","v":""}]
[null,{"$f":"IF(C40=\"\",\"\",COUNT($C$5:C40))","v":""},"","",null,{"$f":"IF(C40=\"\",\"\",COUNT($C$5:C40))","v":""}]
[null,{"$f":"IF(C41=\"\",\"\",COUNT($C$5:C41))","v":""},"","",null,{"$f":"IF(C41=\"\",\"\",COUNT($C$5:C41))","v":""}]
[null,{"$f":"IF(C42=\"\",\"\",COUNT($C$5:C42))","v":""},"","",null,{"$f":"IF(C42=\"\",\"\",COUNT($C$5:C42))","v":""}]
[null,{"$f":"IF(C43=\"\",\"\",COUNT($C$5:C43))","v":""},"","",null,{"$f":"IF(C43=\"\",\"\",COUNT($C$5:C43))","v":""}]
[null,{"$f":"IF(C44=\"\",\"\",COUNT($C$5:C44))","v":""},"","",null,{"$f":"IF(C44=\"\",\"\",COUNT($C$5:C44))","v":""}]

{"sheet":"الطلبة","index":2,"n_rows":604,"n_cols":15,"rows_kept":604,"cut":false,"hidden":false,"merged":[[1,6,1,10]]}
[]
["العدد",{"$f":"COUNT(I6A5:A604)","v":0},{"$f":"'بيانات أساسية'!D14","v":"الصف الرابع"},null,null,null,"ادخل  البيانات فى الأعمدة   B  C   D    فقط أولا "]
["أرقام الجلوس",{"$f":"MAX(اللجان!C5:D44)","v":419},null,null,null,null,null,null,null,null,null,null,null,null,"معادلة اكسل في العمود E7:E بشرط الاسم قي B7:Bلاستدعاء بيانات من شيت الطلبة من النطاق H5:H علما بان الأسماء في شين الطلبة في العمود C"]
["م","رقم الجلوس","الاسم",null,"اللجنة","نهاية اللجنة","نهاية الفصل","المجموعة","رقم اللجنه","أ","ب","ج"]
[{"$f":"IF(C5=\"\",\"\",COUNTA($C$5:C5))","v":1},{"$f":"اللجان!C5","v":301},"السيد ماهر السيد حسين غلوش",null,{"$f":"IF(B5=\"\",\"\",VLOOKUP(B5,أول_ز,4))","v":1},{"$f":"IF(E5=E6,\"\",\"نهاية اللجنة\")","v":""},{"$f":"IF(D5=D6,\"\",\"نهاية الفصل\")","v":""},"ب",1,{"$f":"COUNTIF($H$5:$H$24,\"أ\")","v":6},{"$f":"COUNTIF($H$5:$H$24,\"ب\")","v":8},{"$f":"COUNTIF($H$5:$H$24,\"ج\")","v":6}]
[{"$f":"IF(C6=\"\",\"\",COUNTA($C$5:C6))","v":2},{"$f":"IF(B5=\"\",\"\",IF(B5+1>$B$3,\"\",B5+1))","v":302},"إبراهيم حسن حسينى عبد الهادى ",null,1,{"$f":"IF(E6=E7,\"\",\"نهاية اللجنة\")","v":""},{"$f":"IF(D6=D7,\"\",\"نهاية الفصل\")","v":""},"ب",2,{"$f":"COUNTIF($H$25:$H$44,\"أ\")","v":7},{"$f":"COUNTIF($H$25:$H$44,\"ب\")","v":6},{"$f":"COUNTIF($H$25:$H$44,\"ج\")","v":6}]
[{"$f":"IF(C7=\"\",\"\",COUNTA($C$5:C7))","v":3},{"$f":"IF(B6=\"\",\"\",IF(B6+1>$B$3,\"\",B6+1))","v":303},"إياد عبد المحسن رمضان إمام نصر",null,1,"","","ج",3,{"$f":"COUNTIF($H$45:$H$64,\"أ\")","v":7},{"$f":"COUNTIF($H$45:$H$64,\"ب\")","v":7},{"$f":"COUNTIF($H$45:$H$64,\"ج\")","v":6}]
[{"$f":"IF(C8=\"\",\"\",COUNTA($C$5:C8))","v":4},{"$f":"IF(B7=\"\",\"\",IF(B7+1>$B$3,\"\",B7+1))","v":304},"إياد عمرو محمد عبد الفتاح حماد",null,1,"","","أ",4,{"$f":"COUNTIF($H$85:$H$104,\"أ\")","v":7},{"$f":"COUNTIF($H$65:$H$84,\"ب\")","v":7},{"$f":"COUNTIF($H$65:$H$84,\"ج\")","v":6}]
[{"$f":"IF(C9=\"\",\"\",COUNTA($C$5:C9))","v":5},305,"إياد محمد زايد عبدالرازق",null,1,"","","ب",5,{"$f":"COUNTIF($H$85:$H$104,\"أ\")","v":7},{"$f":"COUNTIF($H$85:$H$104,\"ب\")","v":6},{"$f":"COUNTIF($H$85:$H$104,\"ج\")","v":6}]
[{"$f":"IF(C10=\"\",\"\",COUNTA($C$5:C10))","v":6},306,"إياد محمد فتحى عبدالستار",null,1,"","","ج",6,{"$f":"COUNTIF($H$105:$H$123,\"أ\")","v":7},{"$f":"COUNTIF($H$105:$H$123,\"ب\")","v":6},{"$f":"COUNTIF($H$105:$H$123,\"ج\")","v":6}]
[{"$f":"IF(C11=\"\",\"\",COUNTA($C$5:C11))","v":7},307,"أحمد السيد محمد السيد أبو الفتوح",null,1,"","","أ"]
[{"$f":"IF(C12=\"\",\"\",COUNTA($C$5:C12))","v":8},308,"أحمد بلال عبدالسميع عبدالمنعم",null,1,"","","ب"]
[{"$f":"IF(C13=\"\",\"\",COUNTA($C$5:C13))","v":9},309,"أحمد حسام عطيه المغازى أبو زيد",null,1,"","","ج"]
[{"$f":"IF(C14=\"\",\"\",COUNTA($C$5:C14))","v":10},310,"أحمد رامى محمود محمد",null,1,"","","أ"]
[{"$f":"IF(C15=\"\",\"\",COUNTA($C$5:C15))","v":11},311,"أحمد رضا محمد على جلاله",null,1,"","","ب"]
[{"$f":"IF(C16=\"\",\"\",COUNTA($C$5:C16))","v":12},312,"أحمد عبدالحميد أحمد الحنفي",null,1,"","","ج"]
[{"$f":"IF(C17=\"\",\"\",COUNTA($C$5:C17))","v":13},313,"أحمد متولى احمد متولى",null,1,"","","أ"]
[{"$f":"IF(C18=\"\",\"\",COUNTA($C$5:C18))","v":14},314,"أحمد محمد عبدالعزيز محمد عبدالغنى",null,1,"","","ب"]
[{"$f":"IF(C19=\"\",\"\",COUNTA($C$5:C19))","v":15},315,"أحمد هانى صلاح الدين غنيم",null,1,"","","ج"]
[{"$f":"IF(C20=\"\",\"\",COUNTA($C$5:C20))","v":16},316,"أنس مصطفى عبد ربه عبد اللطيف",null,1,"","","أ"]
[{"$f":"IF(C21=\"\",\"\",COUNTA($C$5:C21))","v":17},317,"آدم عصام الحفنى عبدالمعطي",null,1,"","","ب"]
[{"$f":"IF(C22=\"\",\"\",COUNTA($C$5:C22))","v":18},318,"آدم عمرو الصادق المرادى",null,1,"","","ج"]
[{"$f":"IF(C23=\"\",\"\",COUNTA($C$5:C23))","v":19},319,"آدم محمد السيد عبدالمنعم العليمي",null,1,"","","أ"]
[{"$f":"IF(C24=\"\",\"\",COUNTA($C$5:C24))","v":20},320,"حسام محمد حسام الدين محمود",null,1,"نهاية اللجنة","","ب"]
[{"$f":"IF(C25=\"\",\"\",COUNTA($C$5:C25))","v":21},321,"حمزة عبد الفتاح أحمد عبد الفتاح",null,2,{"$f":"IF(E25=E26,\"\",\"نهاية اللجنة\")","v":""},"","أ"]
[{"$f":"IF(C26=\"\",\"\",COUNTA($C$5:C26))","v":22},322,"خالد السعيد مسعد السعيد سيد أحمد",null,2,"","","ب"]
[{"$f":"IF(C27=\"\",\"\",COUNTA($C$5:C27))","v":23},323,"رأفت ربيع رضوان محمد الهادى ",null,2,"","","ج"]
[{"$f":"IF(C28=\"\",\"\",COUNTA($C$5:C28))","v":24},324,"رحيم ربيع رضوان محمد الهادى ",null,2,"","","أ"]
[{"$f":"IF(C29=\"\",\"\",COUNTA($C$5:C29))","v":25},325,"زياد احمد عبدالتواب موسي",null,2,"","","دمج ب"]
[{"$f":"IF(C30=\"\",\"\",COUNTA($C$5:C30))","v":26},326,"زياد أمير أحمد موسى منتصر",null,2,"","","ج"]
[{"$f":"IF(C31=\"\",\"\",COUNTA($C$5:C31))","v":27},327,"سعد أحمد سعد توفيق",null,2,"","","أ"]
[{"$f":"IF(C32=\"\",\"\",COUNTA($C$5:C32))","v":28},328,"صبحى محمد صبحى عبدالرازق",null,2,"","","ب"]
[{"$f":"IF(C33=\"\",\"\",COUNTA($C$5:C33))","v":29},329,"صلاح محمود صلاح الدين غنيم",null,2,"","","ج"]
[{"$f":"IF(C34=\"\",\"\",COUNTA($C$5:C34))","v":30},330,"عبد الحليم عمرو عبد الحليم السيد",null,2,"","","أ"]
[{"$f":"IF(C35=\"\",\"\",COUNTA($C$5:C35))","v":31},331,"عبد الرحمن السيد عبد العزيز محمد ",null,2,"","","ب"]
[{"$f":"IF(C36=\"\",\"\",COUNTA($C$5:C36))","v":32},332,"عبد الرحمن عماد عاطف مكاوى ",null,2,"","","ج"]
[{"$f":"IF(C37=\"\",\"\",COUNTA($C$5:C37))","v":33},333,"عبد الرحمن محمد مسعد رمضان ",null,{"$f":"IF(B37=\"\",\"\",VLOOKUP(B37,أول_ز,4))","v":2},"","","أ"]
[{"$f":"IF(C38=\"\",\"\",COUNTA($C$5:C38))","v":34},334,"عبد العزيز محمد عبد العزيز موسى ",null,2,"","","ب"]
[{"$f":"IF(C39=\"\",\"\",COUNTA($C$5:C39))","v":35},335,"على عادل على محمد",null,2,"","","ج"]
[{"$f":"IF(C40=\"\",\"\",COUNTA($C$5:C40))","v":36},336,"عماد موسى إبراهيم موسى أحمد ",null,2,"","","أ"]
[{"$f":"IF(C41=\"\",\"\",COUNTA($C$5:C41))","v":37},337,"عمر احمد حامد زكى",null,2,"","","ب"]
[{"$f":"IF(C42=\"\",\"\",COUNTA($C$5:C42))","v":38},338,"عمر أحمد محمد محمد على",null,2,"","","ج"]
[{"$f":"IF(C43=\"\",\"\",COUNTA($C$5:C43))","v":39},339,"عمر علاء سلامة محمد الخضرى",null,2,"","","أ"]
[{"$f":"IF(C44=\"\",\"\",COUNTA($C$5:C44))","v":40},340,"فتحى محمود فتحى عواد فرج",null,2,"نهاية اللجنة","","ب"]
[{"$f":"IF(C45=\"\",\"\",COUNTA($C$5:C45))","v":41},341,"كامل محمد كامل الشريف",null,3,"","","أ"]
[{"$f":"IF(C46=\"\",\"\",COUNTA($C$5:C46))","v":42},342,"مالك السيد عبد المجيد السيد بكر",null,3,"","","ب"]
[{"$f":"IF(C47=\"\",\"\",COUNTA($C$5:C47))","v":43},343,"محمد احمد سمير احمد العليمي",null,3,"","","ج"]
[{"$f":"IF(C48=\"\",\"\",COUNTA($C$5:C48))","v":44},344,"محمد أحمد عبدالمنعم زايد محمد",null,3,"","","أ"]
[{"$f":"IF(C49=\"\",\"\",COUNTA($C$5:C49))","v":45},345,"محمد سمير عبدالحفيظ المهدى",null,3,"","","ب"]
[{"$f":"IF(C50=\"\",\"\",COUNTA($C$5:C50))","v":46},346,"محمد عبد الغنى معتمد عبد الغنى",null,3,"","","ج"]
[{"$f":"IF(C51=\"\",\"\",COUNTA($C$5:C51))","v":47},347,"محمد ماجد عبدالعزيز ابوالفتوح",null,3,"","","أ"]
[{"$f":"IF(C52=\"\",\"\",COUNTA($C$5:C52))","v":48},348,"محمد محمود السيد محمود",null,3,"","","ب"]
[{"$f":"IF(C53=\"\",\"\",COUNTA($C$5:C53))","v":49},349,"محمد محمود ذكي حماد",null,3,"","","ج"]
[{"$f":"IF(C54=\"\",\"\",COUNTA($C$5:C54))","v":50},350,"محمد هانى البيومي السيد سيد احمد",null,3,"","","أ"]
[{"$f":"IF(C55=\"\",\"\",COUNTA($C$5:C55))","v":51},351,"محمد هانى السيد محمد",null,3,"","","ب"]
[{"$f":"IF(C56=\"\",\"\",COUNTA($C$5:C56))","v":52},352,"محمد هانى محمد العليمى",null,3,"","","ج"]
[{"$f":"IF(C57=\"\",\"\",COUNTA($C$5:C57))","v":53},353,"محمد ياسر احمد موسى المرادى",null,3,"","","أ"]
[{"$f":"IF(C58=\"\",\"\",COUNTA($C$5:C58))","v":54},354,"محمود احمد محمد العليمى",null,3,"","","ب"]
[{"$f":"IF(C59=\"\",\"\",COUNTA($C$5:C59))","v":55},355,"محمود السيد ابراهيم مصيلحى",null,3,"","","ج"]
[{"$f":"IF(C60=\"\",\"\",COUNTA($C$5:C60))","v":56},356,"محمود محمد عبدالحفيظ مهدى ",null,3,"","","أ"]
[{"$f":"IF(C61=\"\",\"\",COUNTA($C$5:C61))","v":57},357,"مهاب محمد فكرى سيد",null,3,"","","ب"]
[{"$f":"IF(C62=\"\",\"\",COUNTA($C$5:C62))","v":58},358,"مهند السيد عبد الرحمن السيد ",null,3,"","","ج"]
[{"$f":"IF(C63=\"\",\"\",COUNTA($C$5:C63))","v":59},359,"يحيي اشرف احمد المكاوى",null,3,"","","أ"]
[{"$f":"IF(C64=\"\",\"\",COUNTA($C$5:C64))","v":60},360,"يوسف عبدالرازق محمد الهادى",null,3,"نهاية اللجنة","","ب"]
[{"$f":"IF(C65=\"\",\"\",COUNTA($C$5:C65))","v":61},361,"يوسف عبدالمنعم عادل عبد المنعم",null,4,"","","أ"]
[{"$f":"IF(C66=\"\",\"\",COUNTA($C$5:C66))","v":62},362,"يوسف عبدالمنعم عبدالرازق عبدالمنعم",null,4,"","","ب"]
[{"$f":"IF(C67=\"\",\"\",COUNTA($C$5:C67))","v":63},363,"إيمى احمد صلاح الدين حسن",null,4,"","","ج"]
[{"$f":"IF(C68=\"\",\"\",COUNTA($C$5:C68))","v":64},364,"أسماء السيد فتحى السيد محمد السيد",null,4,"","","أ"]
[{"$f":"IF(C69=\"\",\"\",COUNTA($C$5:C69))","v":65},365,"أسيل عبد الله السيد محمد",null,{"$f":"IF(B69=\"\",\"\",VLOOKUP(B69,أول_ز,4))","v":4},"","","ب"]
[{"$f":"IF(C70=\"\",\"\",COUNTA($C$5:C70))","v":66},366,"آية محمد ابراهيم محمد",null,4,{"$f":"IF(E70=E71,\"\",\"نهاية اللجنة\")","v":""},{"$f":"IF(D70=D71,\"\",\"نهاية الفصل\")","v":""},"ج"]
[{"$f":"IF(C71=\"\",\"\",COUNTA($C$5:C71))","v":67},{"$f":"IF(B70=\"\",\"\",IF(B70+1>$B$3,\"\",B70+1))","v":367},"بسنت طارق محمد السيد أبو الفتوح",null,4,"","","أ"]
[{"$f":"IF(C72=\"\",\"\",COUNTA($C$5:C72))","v":68},368,"جنى عبد الله ابراهيم يوسف",null,4,"","","ب"]
[{"$f":"IF(C73=\"\",\"\",COUNTA($C$5:C73))","v":69},369,"جنى محمد عبد الله عبد الخالق إبراهيم",null,4,"","","ج"]
[{"$f":"IF(C74=\"\",\"\",COUNTA($C$5:C74))","v":70},370,"جنى مدحت محمود محمد عطية",null,4,"","","أ"]
[{"$f":"IF(C75=\"\",\"\",COUNTA($C$5:C75))","v":71},371,"جودى امير صبحى عبد الوهاب عبد الله",null,4,"","","ب"]
[{"$f":"IF(C76=\"\",\"\",COUNTA($C$5:C76))","v":72},372,"جودى أمير عبد الحفيظ الطنطاوى",null,4,"","","ج"]
[{"$f":"IF(C77=\"\",\"\",COUNTA($C$5:C77))","v":73},373,"جودى محمد الشحات حامد",null,4,"","","أ"]
[{"$f":"IF(C78=\"\",\"\",COUNTA($C$5:C78))","v":74},374,"حبيبة ابراهيم طلعت محمد",null,4,"","","ب"]
[{"$f":"IF(C79=\"\",\"\",COUNTA($C$5:C79))","v":75},375,"حبيبة محمد سيدأحمد إبراهيم",null,4,"","","ج"]
[{"$f":"IF(C80=\"\",\"\",COUNTA($C$5:C80))","v":76},376,"حنين احمد جمال عبدالمنعم",null,4,"","","أ"]
[{"$f":"IF(C81=\"\",\"\",COUNTA($C$5:C81))","v":77},377,"حنين احمد عبدالغنى ابراهيم عبدالغنى ",null,4,"","","ب"]
[{"$f":"IF(C82=\"\",\"\",COUNTA($C$5:C82))","v":78},378,"حنين بشير طه محمود عيد",null,4,"","","ج"]
[{"$f":"IF(C83=\"\",\"\",COUNTA($C$5:C83))","v":79},379,"حور رامى محمود عبد المنعم",null,4,"","","أ"]
[{"$f":"IF(C84=\"\",\"\",COUNTA($C$5:C84))","v":80},380,"رحمه احمد محمد ابراهيم",null,4,"نهاية اللجنة","","ب"]
[{"$f":"IF(C85=\"\",\"\",COUNTA($C$5:C85))","v":81},381,"رحمه إبراهيم على رضوان الشحرى",null,5,"","","أ"]
[{"$f":"IF(C86=\"\",\"\",COUNTA($C$5:C86))","v":82},382,"رغد محمد سيد أحمد سعيد سيد أحمد",null,5,"","","ب"]
[{"$f":"IF(C87=\"\",\"\",COUNTA($C$5:C87))","v":83},383,"رقية الحسين فاروق محمد إبراهيم",null,5,"","","ج"]
[{"$f":"IF(C88=\"\",\"\",COUNTA($C$5:C88))","v":84},384,"رنا حاتم مصطفى أبوالفتوح",null,5,"","","أ"]
[{"$f":"IF(C89=\"\",\"\",COUNTA($C$5:C89))","v":85},385,"رودينا احمد صبرى ابوالعلا الجزار",null,{"$f":"IF(B89=\"\",\"\",VLOOKUP(B89,أول_ز,4))","v":5},"","","ب"]
[{"$f":"IF(C90=\"\",\"\",COUNTA($C$5:C90))","v":86},386,"رودينه محمد سمير على على درغام",null,5,"","","ج"]
[{"$f":"IF(C91=\"\",\"\",COUNTA($C$5:C91))","v":87},387,"روضة أحمد محمد البهنسي",null,5,"","","أ"]
[{"$f":"IF(C92=\"\",\"\",COUNTA($C$5:C92))","v":88},388,"ريتاج اسلام رجب ابراهيم محمد",null,5,"","","ب"]
[{"$f":"IF(C93=\"\",\"\",COUNTA($C$5:C93))","v":89},389,"ريتاج محمد جمال محمود محمد عابدين",null,5,"","","ج"]
[{"$f":"IF(C94=\"\",\"\",COUNTA($C$5:C94))","v":90},390,"ريتاج محمود عبد الحفيظ المرسى محمد ",null,5,"","","أ"]
[{"$f":"IF(C95=\"\",\"\",COUNTA($C$5:C95))","v":91},391,"ريتاج مصطفي محمد مصطفى علي ",null,5,"","","دمج ب"]
[{"$f":"IF(C96=\"\",\"\",COUNTA($C$5:C96))","v":92},392,"ريماس احمد مصطفى عبدالولى عزب",null,5,"","","ج"]
[{"$f":"IF(C97=\"\",\"\",COUNTA($C$5:C97))","v":93},393,"ريماس محسن عبدالله حسن فرج",null,5,"","","أ"]
[{"$f":"IF(C98=\"\",\"\",COUNTA($C$5:C98))","v":94},394,"ريمان محمد عاطف ابراهيم",null,5,"","","ب"]
[{"$f":"IF(C99=\"\",\"\",COUNTA($C$5:C99))","v":95},395,"سجى أحمد عبد الرازق يوسف",null,5,"","","ج"]
[{"$f":"IF(C100=\"\",\"\",COUNTA($C$5:C100))","v":96},396,"سجى متولى إبراهيم محمد على إبراهيم",null,5,"","","أ"]
[{"$f":"IF(C101=\"\",\"\",COUNTA($C$5:C101))","v":97},397,"سما زين عبد الفتاح محمد",null,5,"","","ب"]
[{"$f":"IF(C102=\"\",\"\",COUNTA($C$5:C102))","v":98},398,"سما سعد م حمود مصطفى على",null,5,"","","ج"]
[{"$f":"IF(C103=\"\",\"\",COUNTA($C$5:C103))","v":99},399,"صفا صلاح على احمد العونى",null,5,"","","أ"]
[{"$f":"IF(C104=\"\",\"\",COUNTA($C$5:C104))","v":100},400,"ضحى محمود أحمد عبدالفتاح",null,5,"نهاية اللجنة","","ب"]
[{"$f":"IF(C105=\"\",\"\",COUNTA($C$5:C105))","v":101},401,"علياء محمد عبدالعاطي عبدالعزيز",null,6,"","","أ"]
[{"$f":"IF(C106=\"\",\"\",COUNTA($C$5:C106))","v":102},402,"عواطف ابراهيم عبد الراضى حسنين",null,6,"","","ب"]
[{"$f":"IF(C107=\"\",\"\",COUNTA($C$5:C107))","v":103},{"$f":"IF(B106=\"\",\"\",IF(B106+1>$B$3,\"\",B106+1))","v":403},"فاطمة احمد محمد السيد مرسى",null,6,"","","ج"]
[{"$f":"IF(C108=\"\",\"\",COUNTA($C$5:C108))","v":104},404,"فاطمة محمود سلامة محمد",null,6,"","","أ"]
[{"$f":"IF(C109=\"\",\"\",COUNTA($C$5:C109))","v":105},405,"فرح ايهاب عبد العال المغاورى",null,6,"","","ب"]
[{"$f":"IF(C110=\"\",\"\",COUNTA($C$5:C110))","v":106},406,"لمى اسلام مصطفى احمد مصطفى عطوة",null,6,"","","ج"]
[{"$f":"IF(C111=\"\",\"\",COUNTA($C$5:C111))","v":107},407,"لوجينا محمد حسن باز الشريف",null,6,"","","أ"]
[{"$f":"IF(C112=\"\",\"\",COUNTA($C$5:C112))","v":108},408,"مريان محمد مكاوى احمد",null,6,"","","ب"]
[{"$f":"IF(C113=\"\",\"\",COUNTA($C$5:C113))","v":109},409,"مريم السيد فتحي السيد حسن",null,6,"","","ج"]
[{"$f":"IF(C114=\"\",\"\",COUNTA($C$5:C114))","v":110},{"$f":"IF(B113=\"\",\"\",IF(B113+1>$B$3,\"\",B113+1))","v":410},"مريم صلاح السيد موسى إبراهيم",null,6,"","","أ"]
[{"$f":"IF(C115=\"\",\"\",COUNTA($C$5:C115))","v":111},{"$f":"IF(B114=\"\",\"\",IF(B114+1>$B$3,\"\",B114+1))","v":411},"ملك اشرف جمال عبدالمنعم العليمى",null,6,"","","ب"]
[{"$f":"IF(C116=\"\",\"\",COUNTA($C$5:C116))","v":112},{"$f":"IF(B115=\"\",\"\",IF(B115+1>$B$3,\"\",B115+1))","v":412},"ملك على محمد على على فتح",null,6,"","","ج"]
[{"$f":"IF(C117=\"\",\"\",COUNTA($C$5:C117))","v":113},{"$f":"IF(B116=\"\",\"\",IF(B116+1>$B$3,\"\",B116+1))","v":413},"ملك محمد حمزه متولى حمزه",null,6,"","","أ"]
[{"$f":"IF(C118=\"\",\"\",COUNTA($C$5:C118))","v":114},{"$f":"IF(B117=\"\",\"\",IF(B117+1>$B$3,\"\",B117+1))","v":414},"ميار وليد عيد السعيد متولى إبراهيم",null,6,"","","ب"]
[{"$f":"IF(C119=\"\",\"\",COUNTA($C$5:C119))","v":115},415,"ناردى محمد ابراهيم على الطران",null,6,"","","ج"]
[{"$f":"IF(C120=\"\",\"\",COUNTA($C$5:C120))","v":116},416,"نرفان محمد ابراهيم على الطران",null,6,"","","أ"]
[{"$f":"IF(C121=\"\",\"\",COUNTA($C$5:C121))","v":117},417,"هنا ابراهيم احمد عزت",null,6,"","","ب"]
[{"$f":"IF(C122=\"\",\"\",COUNTA($C$5:C122))","v":118},418,"هنا عبدالرحمن عبدالرشيد علي",null,6,"","","ج"]
[{"$f":"IF(C123=\"\",\"\",COUNTA($C$5:C123))","v":119},419,"هنا محمود عيد محمود عيد",null,6,"نهاية اللجنة","","أ"]
[{"$f":"IF(C124=\"\",\"\",COUNTA($C$5:C124))","v":""},"",null,null,"","",""]
[{"$f":"IF(C125=\"\",\"\",COUNTA($C$5:C125))","v":""},"",null,null,"","",""]
[{"$f":"IF(C126=\"\",\"\",COUNTA($C$5:C126))","v":""},"",null,null,"","",""]
[{"$f":"IF(C127=\"\",\"\",COUNTA($C$5:C127))","v":""},"",null,null,"","",""]
[{"$f":"IF(C128=\"\",\"\",COUNTA($C$5:C128))","v":""},"",null,null,"","",""]
[{"$f":"IF(C129=\"\",\"\",COUNTA($C$5:C129))","v":""},"",null,null,"","",""]
[{"$f":"IF(C130=\"\",\"\",COUNTA($C$5:C130))","v":""},"",null,null,"","",""]
[{"$f":"IF(C131=\"\",\"\",COUNTA($C$5:C131))","v":""},"",null,null,"","",""]
[{"$f":"IF(C132=\"\",\"\",COUNTA($C$5:C132))","v":""},"",null,null,"","",""]
[{"$f":"IF(C133=\"\",\"\",COUNTA($C$5:C133))","v":""},"",null,null,{"$f":"IF(B133=\"\",\"\",VLOOKUP(B133,أول_ز,4))","v":""},"",""]
[{"$f":"IF(C134=\"\",\"\",COUNTA($C$5:C134))","v":""},"",null,null,"",{"$f":"IF(E134=E135,\"\",\"نهاية اللجنة\")","v":""},{"$f":"IF(D134=D135,\"\",\"نهاية الفصل\")","v":""}]
[{"$f":"IF(C135=\"\",\"\",COUNTA($C$5:C135))","v":""},"",null,null,"","",""]
[{"$f":"IF(C136=\"\",\"\",COUNTA($C$5:C136))","v":""},"",null,null,"","",""]
[{"$f":"IF(C137=\"\",\"\",COUNTA($C$5:C137))","v":""},"",null,null,"","",""]
[{"$f":"IF(C138=\"\",\"\",COUNTA($C$5:C138))","v":""},"",null,null,"","",""]
[{"$f":"IF(C139=\"\",\"\",COUNTA($C$5:C139))","v":""},"",null,null,"","",""]
[{"$f":"IF(C140=\"\",\"\",COUNTA($C$5:C140))","v":""},"",null,null,"","",""]
[{"$f":"IF(C141=\"\",\"\",COUNTA($C$5:C141))","v":""},"",null,null,"","",""]
[{"$f":"IF(C142=\"\",\"\",COUNTA($C$5:C142))","v":""},"",null,null,"","",""]
[{"$f":"IF(C143=\"\",\"\",COUNTA($C$5:C143))","v":""},"",null,null,"","",""]
[{"$f":"IF(C144=\"\",\"\",COUNTA($C$5:C144))","v":""},"",null,null,"","",""]
[{"$f":"IF(C145=\"\",\"\",COUNTA($C$5:C145))","v":""},"",null,null,"","",""]
[{"$f":"IF(C146=\"\",\"\",COUNTA($C$5:C146))","v":""},"",null,null,"","",""]
[{"$f":"IF(C147=\"\",\"\",COUNTA($C$5:C147))","v":""},"",null,null,"","",""]
[{"$f":"IF(C148=\"\",\"\",COUNTA($C$5:C148))","v":""},"",null,null,"","",""]
[{"$f":"IF(C149=\"\",\"\",COUNTA($C$5:C149))","v":""},"",null,null,"","",""]
[{"$f":"IF(C150=\"\",\"\",COUNTA($C$5:C150))","v":""},"",null,null,"","",""]
[{"$f":"IF(C151=\"\",\"\",COUNTA($C$5:C151))","v":""},"",null,null,"","",""]
[{"$f":"IF(C152=\"\",\"\",COUNTA($C$5:C152))","v":""},"",null,null,"","",""]
[{"$f":"IF(C153=\"\",\"\",COUNTA($C$5:C153))","v":""},"",null,null,"","",""]
[{"$f":"IF(C154=\"\",\"\",COUNTA($C$5:C154))","v":""},"",null,null,"","",""]
[{"$f":"IF(C155=\"\",\"\",COUNTA($C$5:C155))","v":""},"",null,null,"","",""]
[{"$f":"IF(C156=\"\",\"\",COUNTA($C$5:C156))","v":""},"",null,null,"","",""]
[{"$f":"IF(C157=\"\",\"\",COUNTA($C$5:C157))","v":""},"",null,null,"","",""]
[{"$f":"IF(C158=\"\",\"\",COUNTA($C$5:C158))","v":""},"",null,null,"","",""]
[{"$f":"IF(C159=\"\",\"\",COUNTA($C$5:C159))","v":""},"",null,null,"","",""]
[{"$f":"IF(C160=\"\",\"\",COUNTA($C$5:C160))","v":""},"",null,null,"","",""]
[{"$f":"IF(C161=\"\",\"\",COUNTA($C$5:C161))","v":""},"",null,null,"","",""]
[{"$f":"IF(C162=\"\",\"\",COUNTA($C$5:C162))","v":""},"",null,null,"","",""]
[{"$f":"IF(C163=\"\",\"\",COUNTA($C$5:C163))","v":""},"",null,null,"","",""]
[{"$f":"IF(C164=\"\",\"\",COUNTA($C$5:C164))","v":""},"",null,null,"","",""]
[{"$f":"IF(C165=\"\",\"\",COUNTA($C$5:C165))","v":""},"",null,null,"","",""]
[{"$f":"IF(C166=\"\",\"\",COUNTA($C$5:C166))","v":""},"",null,null,"","",""]
[{"$f":"IF(C167=\"\",\"\",COUNTA($C$5:C167))","v":""},"",null,null,"","",""]
[{"$f":"IF(C168=\"\",\"\",COUNTA($C$5:C168))","v":""},"",null,null,"","",""]
[{"$f":"IF(C169=\"\",\"\",COUNTA($C$5:C169))","v":""},"",null,null,"","",""]
[{"$f":"IF(C170=\"\",\"\",COUNTA($C$5:C170))","v":""},"",null,null,"","",""]
[{"$f":"IF(C171=\"\",\"\",COUNTA($C$5:C171))","v":""},"",null,null,"","",""]
[{"$f":"IF(C172=\"\",\"\",COUNTA($C$5:C172))","v":""},"",null,null,"","",""]
[{"$f":"IF(C173=\"\",\"\",COUNTA($C$5:C173))","v":""},"",null,null,"","",""]
[{"$f":"IF(C174=\"\",\"\",COUNTA($C$5:C174))","v":""},"",null,null,"","",""]
[{"$f":"IF(C175=\"\",\"\",COUNTA($C$5:C175))","v":""},"",null,null,"","",""]
[{"$f":"IF(C176=\"\",\"\",COUNTA($C$5:C176))","v":""},"",null,null,"","",""]
[{"$f":"IF(C177=\"\",\"\",COUNTA($C$5:C177))","v":""},"",null,null,"","",""]
[{"$f":"IF(C178=\"\",\"\",COUNTA($C$5:C178))","v":""},"",null,null,"","",""]
[{"$f":"IF(C179=\"\",\"\",COUNTA($C$5:C179))","v":""},"",null,null,"","",""]
[{"$f":"IF(C180=\"\",\"\",COUNTA($C$5:C180))","v":""},{"$f":"IF(B179=\"\",\"\",IF(B179+1>$B$3,\"\",B179+1))","v":""},null,null,"","",""]
[{"$f":"IF(C181=\"\",\"\",COUNTA($C$5:C181))","v":""},"",null,null,"","",""]
[{"$f":"IF(C182=\"\",\"\",COUNTA($C$5:C182))","v":""},"",null,null,"","",""]
[{"$f":"IF(C183=\"\",\"\",COUNTA($C$5:C183))","v":""},"",null,null,"","",""]
[{"$f":"IF(C184=\"\",\"\",COUNTA($C$5:C184))","v":""},"",null,null,"","",""]
[{"$f":"IF(C185=\"\",\"\",COUNTA($C$5:C185))","v":""},"",null,null,"","",""]
[{"$f":"IF(C186=\"\",\"\",COUNTA($C$5:C186))","v":""},"",null,null,"","",""]
[{"$f":"IF(C187=\"\",\"\",COUNTA($C$5:C187))","v":""},"",null,null,"","",""]
[{"$f":"IF(C188=\"\",\"\",COUNTA($C$5:C188))","v":""},"",null,null,"","",""]
[{"$f":"IF(C189=\"\",\"\",COUNTA($C$5:C189))","v":""},"",null,null,"","",""]
[{"$f":"IF(C190=\"\",\"\",COUNTA($C$5:C190))","v":""},"",null,null,"","",""]
[{"$f":"IF(C191=\"\",\"\",COUNTA($C$5:C191))","v":""},"",null,null,"","",""]
[{"$f":"IF(C192=\"\",\"\",COUNTA($C$5:C192))","v":""},"",null,null,"","",""]
[{"$f":"IF(C193=\"\",\"\",COUNTA($C$5:C193))","v":""},"",null,null,"","",""]
[{"$f":"IF(C194=\"\",\"\",COUNTA($C$5:C194))","v":""},"",null,null,"","",""]
[{"$f":"IF(C195=\"\",\"\",COUNTA($C$5:C195))","v":""},"",null,null,"","",""]
[{"$f":"IF(C196=\"\",\"\",COUNTA($C$5:C196))","v":""},"",null,null,"","",""]
[{"$f":"IF(C197=\"\",\"\",COUNTA($C$5:C197))","v":""},"",null,null,{"$f":"IF(B197=\"\",\"\",VLOOKUP(B197,أول_ز,4))","v":""},"",""]
[{"$f":"IF(C198=\"\",\"\",COUNTA($C$5:C198))","v":""},"",null,null,"",{"$f":"IF(E198=E199,\"\",\"نهاية اللجنة\")","v":""},{"$f":"IF(D198=D199,\"\",\"نهاية الفصل\")","v":""}]
[{"$f":"IF(C199=\"\",\"\",COUNTA($C$5:C199))","v":""},"",null,null,"","",""]
[{"$f":"IF(C200=\"\",\"\",COUNTA($C$5:C200))","v":""},"",null,null,"","",""]
[{"$f":"IF(C201=\"\",\"\",COUNTA($C$5:C201))","v":""},"",null,null,"","",""]
[{"$f":"IF(C202=\"\",\"\",COUNTA($C$5:C202))","v":""},"",null,null,"","",""]
[{"$f":"IF(C203=\"\",\"\",COUNTA($C$5:C203))","v":""},"",null,null,"","",""]
[{"$f":"IF(C204=\"\",\"\",COUNTA($C$5:C204))","v":""},"",null,null,"","",""]
[{"$f":"IF(C205=\"\",\"\",COUNTA($C$5:C205))","v":""},"",null,null,"","",""]
[{"$f":"IF(C206=\"\",\"\",COUNTA($C$5:C206))","v":""},"",null,null,"","",""]
[{"$f":"IF(C207=\"\",\"\",COUNTA($C$5:C207))","v":""},"",null,null,"","",""]
[{"$f":"IF(C208=\"\",\"\",COUNTA($C$5:C208))","v":""},"",null,null,"","",""]
[{"$f":"IF(C209=\"\",\"\",COUNTA($C$5:C209))","v":""},"",null,null,"","",""]
[{"$f":"IF(C210=\"\",\"\",COUNTA($C$5:C210))","v":""},"",null,null,"","",""]
[{"$f":"IF(C211=\"\",\"\",COUNTA($C$5:C211))","v":""},"",null,null,"","",""]
[{"$f":"IF(C212=\"\",\"\",COUNTA($C$5:C212))","v":""},"",null,null,"","",""]
[{"$f":"IF(C213=\"\",\"\",COUNTA($C$5:C213))","v":""},"",null,null,"","",""]
[{"$f":"IF(C214=\"\",\"\",COUNTA($C$5:C214))","v":""},"",null,null,"","",""]
[{"$f":"IF(C215=\"\",\"\",COUNTA($C$5:C215))","v":""},"",null,null,"","",""]
[{"$f":"IF(C216=\"\",\"\",COUNTA($C$5:C216))","v":""},"",null,null,"","",""]
[{"$f":"IF(C217=\"\",\"\",COUNTA($C$5:C217))","v":""},"",null,null,"","",""]
[{"$f":"IF(C218=\"\",\"\",COUNTA($C$5:C218))","v":""},"",null,null,"","",""]
[{"$f":"IF(C219=\"\",\"\",COUNTA($C$5:C219))","v":""},"",null,null,"","",""]
[{"$f":"IF(C220=\"\",\"\",COUNTA($C$5:C220))","v":""},"",null,null,"","",""]
[{"$f":"IF(C221=\"\",\"\",COUNTA($C$5:C221))","v":""},"",null,null,"","",""]
[{"$f":"IF(C222=\"\",\"\",COUNTA($C$5:C222))","v":""},"",null,null,"","",""]
[{"$f":"IF(C223=\"\",\"\",COUNTA($C$5:C223))","v":""},"",null,null,"","",""]
[{"$f":"IF(C224=\"\",\"\",COUNTA($C$5:C224))","v":""},"",null,null,"","",""]
[{"$f":"IF(C225=\"\",\"\",COUNTA($C$5:C225))","v":""},"",null,null,"","",""]
[{"$f":"IF(C226=\"\",\"\",COUNTA($C$5:C226))","v":""},"",null,null,"","",""]
[{"$f":"IF(C227=\"\",\"\",COUNTA($C$5:C227))","v":""},"",null,null,"","",""]
[{"$f":"IF(C228=\"\",\"\",COUNTA($C$5:C228))","v":""},"",null,null,"","",""]
[{"$f":"IF(C229=\"\",\"\",COUNTA($C$5:C229))","v":""},"",null,null,"","",""]
[{"$f":"IF(C230=\"\",\"\",COUNTA($C$5:C230))","v":""},"",null,null,"","",""]
[{"$f":"IF(C231=\"\",\"\",COUNTA($C$5:C231))","v":""},"",null,null,"","",""]
[{"$f":"IF(C232=\"\",\"\",COUNTA($C$5:C232))","v":""},"",null,null,"","",""]
[{"$f":"IF(C233=\"\",\"\",COUNTA($C$5:C233))","v":""},"",null,null,"","",""]
[{"$f":"IF(C234=\"\",\"\",COUNTA($C$5:C234))","v":""},"",null,null,"","",""]
[{"$f":"IF(C235=\"\",\"\",COUNTA($C$5:C235))","v":""},"",null,null,"","",""]
[{"$f":"IF(C236=\"\",\"\",COUNTA($C$5:C236))","v":""},"",null,null,"","",""]
[{"$f":"IF(C237=\"\",\"\",COUNTA($C$5:C237))","v":""},"",null,null,"","",""]
[{"$f":"IF(C238=\"\",\"\",COUNTA($C$5:C238))","v":""},"",null,null,"","",""]
[{"$f":"IF(C239=\"\",\"\",COUNTA($C$5:C239))","v":""},"",null,null,"","",""]
[{"$f":"IF(C240=\"\",\"\",COUNTA($C$5:C240))","v":""},"",null,null,"","",""]
[{"$f":"IF(C241=\"\",\"\",COUNTA($C$5:C241))","v":""},"",null,null,"","",""]
[{"$f":"IF(C242=\"\",\"\",COUNTA($C$5:C242))","v":""},"",null,null,"","",""]
[{"$f":"IF(C243=\"\",\"\",COUNTA($C$5:C243))","v":""},"",null,null,"","",""]
[{"$f":"IF(C244=\"\",\"\",COUNTA($C$5:C244))","v":""},{"$f":"IF(B243=\"\",\"\",IF(B243+1>$B$3,\"\",B243+1))","v":""},null,null,"","",""]
[{"$f":"IF(C245=\"\",\"\",COUNTA($C$5:C245))","v":""},"",null,null,"","",""]
[{"$f":"IF(C246=\"\",\"\",COUNTA($C$5:C246))","v":""},"",null,null,"","",""]
[{"$f":"IF(C247=\"\",\"\",COUNTA($C$5:C247))","v":""},"",null,null,"","",""]
[{"$f":"IF(C248=\"\",\"\",COUNTA($C$5:C248))","v":""},"",null,null,"","",""]
[{"$f":"IF(C249=\"\",\"\",COUNTA($C$5:C249))","v":""},"",null,null,"","",""]
[{"$f":"IF(C250=\"\",\"\",COUNTA($C$5:C250))","v":""},"",null,null,"","",""]
[{"$f":"IF(C251=\"\",\"\",COUNTA($C$5:C251))","v":""},"",null,null,"","",""]
[{"$f":"IF(C252=\"\",\"\",COUNTA($C$5:C252))","v":""},"",null,null,"","",""]
[{"$f":"IF(C253=\"\",\"\",COUNTA($C$5:C253))","v":""},"",null,null,"","",""]
[{"$f":"IF(C254=\"\",\"\",COUNTA($C$5:C254))","v":""},"",null,null,"","",""]
[{"$f":"IF(C255=\"\",\"\",COUNTA($C$5:C255))","v":""},"",null,null,"","",""]
[{"$f":"IF(C256=\"\",\"\",COUNTA($C$5:C256))","v":""},"",null,null,"","",""]
[{"$f":"IF(C257=\"\",\"\",COUNTA($C$5:C257))","v":""},"",null,null,"","",""]
[{"$f":"IF(C258=\"\",\"\",COUNTA($C$5:C258))","v":""},"",null,null,"","",""]
[{"$f":"IF(C259=\"\",\"\",COUNTA($C$5:C259))","v":""},"",null,null,"","",""]
[{"$f":"IF(C260=\"\",\"\",COUNTA($C$5:C260))","v":""},"",null,null,"","",""]
[{"$f":"IF(C261=\"\",\"\",COUNTA($C$5:C261))","v":""},"",null,null,{"$f":"IF(B261=\"\",\"\",VLOOKUP(B261,أول_ز,4))","v":""},"",""]
[{"$f":"IF(C262=\"\",\"\",COUNTA($C$5:C262))","v":""},"",null,null,"",{"$f":"IF(E262=E263,\"\",\"نهاية اللجنة\")","v":""},{"$f":"IF(D262=D263,\"\",\"نهاية الفصل\")","v":""}]
[{"$f":"IF(C263=\"\",\"\",COUNTA($C$5:C263))","v":""},"",null,null,"","",""]
[{"$f":"IF(C264=\"\",\"\",COUNTA($C$5:C264))","v":""},"",null,null,"","",""]
[{"$f":"IF(C265=\"\",\"\",COUNTA($C$5:C265))","v":""},"",null,null,"","",""]
[{"$f":"IF(C266=\"\",\"\",COUNTA($C$5:C266))","v":""},"",null,null,"","",""]
[{"$f":"IF(C267=\"\",\"\",COUNTA($C$5:C267))","v":""},"",null,null,"","",""]
[{"$f":"IF(C268=\"\",\"\",COUNTA($C$5:C268))","v":""},"",null,null,"","",""]
[{"$f":"IF(C269=\"\",\"\",COUNTA($C$5:C269))","v":""},"",null,null,"","",""]
[{"$f":"IF(C270=\"\",\"\",COUNTA($C$5:C270))","v":""},"",null,null,"","",""]
[{"$f":"IF(C271=\"\",\"\",COUNTA($C$5:C271))","v":""},"",null,null,"","",""]
[{"$f":"IF(C272=\"\",\"\",COUNTA($C$5:C272))","v":""},"",null,null,"","",""]
[{"$f":"IF(C273=\"\",\"\",COUNTA($C$5:C273))","v":""},"",null,null,"","",""]
[{"$f":"IF(C274=\"\",\"\",COUNTA($C$5:C274))","v":""},"",null,null,"","",""]
[{"$f":"IF(C275=\"\",\"\",COUNTA($C$5:C275))","v":""},"",null,null,"","",""]
[{"$f":"IF(C276=\"\",\"\",COUNTA($C$5:C276))","v":""},"",null,null,"","",""]
[{"$f":"IF(C277=\"\",\"\",COUNTA($C$5:C277))","v":""},"",null,null,"","",""]
[{"$f":"IF(C278=\"\",\"\",COUNTA($C$5:C278))","v":""},"",null,null,"","",""]
[{"$f":"IF(C279=\"\",\"\",COUNTA($C$5:C279))","v":""},"",null,null,"","",""]
[{"$f":"IF(C280=\"\",\"\",COUNTA($C$5:C280))","v":""},"",null,null,"","",""]
[{"$f":"IF(C281=\"\",\"\",COUNTA($C$5:C281))","v":""},"",null,null,"","",""]
[{"$f":"IF(C282=\"\",\"\",COUNTA($C$5:C282))","v":""},"",null,null,"","",""]
[{"$f":"IF(C283=\"\",\"\",COUNTA($C$5:C283))","v":""},"",null,null,"","",""]
[{"$f":"IF(C284=\"\",\"\",COUNTA($C$5:C284))","v":""},"",null,null,"","",""]
[{"$f":"IF(C285=\"\",\"\",COUNTA($C$5:C285))","v":""},"",null,null,"","",""]
[{"$f":"IF(C286=\"\",\"\",COUNTA($C$5:C286))","v":""},"",null,null,"","",""]
[{"$f":"IF(C287=\"\",\"\",COUNTA($C$5:C287))","v":""},"",null,null,"","",""]
[{"$f":"IF(C288=\"\",\"\",COUNTA($C$5:C288))","v":""},"",null,null,"","",""]
[{"$f":"IF(C289=\"\",\"\",COUNTA($C$5:C289))","v":""},"",null,null,"","",""]
[{"$f":"IF(C290=\"\",\"\",COUNTA($C$5:C290))","v":""},"",null,null,"","",""]
[{"$f":"IF(C291=\"\",\"\",COUNTA($C$5:C291))","v":""},"",null,null,"","",""]
[{"$f":"IF(C292=\"\",\"\",COUNTA($C$5:C292))","v":""},"",null,null,"","",""]
[{"$f":"IF(C293=\"\",\"\",COUNTA($C$5:C293))","v":""},"",null,null,"","",""]
[{"$f":"IF(C294=\"\",\"\",COUNTA($C$5:C294))","v":""},"",null,null,"","",""]
[{"$f":"IF(C295=\"\",\"\",COUNTA($C$5:C295))","v":""},"",null,null,"","",""]
[{"$f":"IF(C296=\"\",\"\",COUNTA($C$5:C296))","v":""},"",null,null,"","",""]
[{"$f":"IF(C297=\"\",\"\",COUNTA($C$5:C297))","v":""},"",null,null,"","",""]
[{"$f":"IF(C298=\"\",\"\",COUNTA($C$5:C298))","v":""},"",null,null,"","",""]
[{"$f":"IF(C299=\"\",\"\",COUNTA($C$5:C299))","v":""},"",null,null,"","",""]
[{"$f":"IF(C300=\"\",\"\",COUNTA($C$5:C300))","v":""},"",null,null,"","",""]
[{"$f":"IF(C301=\"\",\"\",COUNTA($C$5:C301))","v":""},"",null,null,"","",""]
[{"$f":"IF(C302=\"\",\"\",COUNTA($C$5:C302))","v":""},"",null,null,"","",""]
[{"$f":"IF(C303=\"\",\"\",COUNTA($C$5:C303))","v":""},"",null,null,"","",""]
[{"$f":"IF(C304=\"\",\"\",COUNTA($C$5:C304))","v":""},"",null,null,"","",""]
[{"$f":"IF(C305=\"\",\"\",COUNTA($C$5:C305))","v":""},"",null,null,"","",""]
[{"$f":"IF(C306=\"\",\"\",COUNTA($C$5:C306))","v":""},"",null,null,"","",""]
[{"$f":"IF(C307=\"\",\"\",COUNTA($C$5:C307))","v":""},"",null,null,"","",""]
[{"$f":"IF(C308=\"\",\"\",COUNTA($C$5:C308))","v":""},{"$f":"IF(B307=\"\",\"\",IF(B307+1>$B$3,\"\",B307+1))","v":""},null,null,"","",""]
[{"$f":"IF(C309=\"\",\"\",COUNTA($C$5:C309))","v":""},"",null,null,"","",""]
[{"$f":"IF(C310=\"\",\"\",COUNTA($C$5:C310))","v":""},"",null,null,"","",""]
[{"$f":"IF(C311=\"\",\"\",COUNTA($C$5:C311))","v":""},"",null,null,"","",""]
[{"$f":"IF(C312=\"\",\"\",COUNTA($C$5:C312))","v":""},"",null,null,"","",""]
[{"$f":"IF(C313=\"\",\"\",COUNTA($C$5:C313))","v":""},"",null,null,"","",""]
[{"$f":"IF(C314=\"\",\"\",COUNTA($C$5:C314))","v":""},"",null,null,"","",""]
[{"$f":"IF(C315=\"\",\"\",COUNTA($C$5:C315))","v":""},"",null,null,"","",""]
[{"$f":"IF(C316=\"\",\"\",COUNTA($C$5:C316))","v":""},"",null,null,"","",""]
[{"$f":"IF(C317=\"\",\"\",COUNTA($C$5:C317))","v":""},"",null,null,"","",""]
[{"$f":"IF(C318=\"\",\"\",COUNTA($C$5:C318))","v":""},"",null,null,"","",""]
[{"$f":"IF(C319=\"\",\"\",COUNTA($C$5:C319))","v":""},"",null,null,"","",""]
[{"$f":"IF(C320=\"\",\"\",COUNTA($C$5:C320))","v":""},"",null,null,"","",""]
[{"$f":"IF(C321=\"\",\"\",COUNTA($C$5:C321))","v":""},"",null,null,"","",""]
[{"$f":"IF(C322=\"\",\"\",COUNTA($C$5:C322))","v":""},"",null,null,"","",""]
[{"$f":"IF(C323=\"\",\"\",COUNTA($C$5:C323))","v":""},"",null,null,"","",""]
[{"$f":"IF(C324=\"\",\"\",COUNTA($C$5:C324))","v":""},"",null,null,"","",""]
[{"$f":"IF(C325=\"\",\"\",COUNTA($C$5:C325))","v":""},"",null,null,{"$f":"IF(B325=\"\",\"\",VLOOKUP(B325,أول_ز,4))","v":""},"",""]
[{"$f":"IF(C326=\"\",\"\",COUNTA($C$5:C326))","v":""},"",null,null,"",{"$f":"IF(E326=E327,\"\",\"نهاية اللجنة\")","v":""},{"$f":"IF(D326=D327,\"\",\"نهاية الفصل\")","v":""}]
[{"$f":"IF(C327=\"\",\"\",COUNTA($C$5:C327))","v":""},"",null,null,"","",""]
[{"$f":"IF(C328=\"\",\"\",COUNTA($C$5:C328))","v":""},"",null,null,"","",""]
[{"$f":"IF(C329=\"\",\"\",COUNTA($C$5:C329))","v":""},"",null,null,"","",""]
[{"$f":"IF(C330=\"\",\"\",COUNTA($C$5:C330))","v":""},"",null,null,"","",""]
[{"$f":"IF(C331=\"\",\"\",COUNTA($C$5:C331))","v":""},"",null,null,"","",""]
[{"$f":"IF(C332=\"\",\"\",COUNTA($C$5:C332))","v":""},"",null,null,"","",""]
[{"$f":"IF(C333=\"\",\"\",COUNTA($C$5:C333))","v":""},"",null,null,"","",""]
[{"$f":"IF(C334=\"\",\"\",COUNTA($C$5:C334))","v":""},"",null,null,"","",""]
[{"$f":"IF(C335=\"\",\"\",COUNTA($C$5:C335))","v":""},"",null,null,"","",""]
[{"$f":"IF(C336=\"\",\"\",COUNTA($C$5:C336))","v":""},"",null,null,"","",""]
[{"$f":"IF(C337=\"\",\"\",COUNTA($C$5:C337))","v":""},"",null,null,"","",""]
[{"$f":"IF(C338=\"\",\"\",COUNTA($C$5:C338))","v":""},"",null,null,"","",""]
[{"$f":"IF(C339=\"\",\"\",COUNTA($C$5:C339))","v":""},"",null,null,"","",""]
[{"$f":"IF(C340=\"\",\"\",COUNTA($C$5:C340))","v":""},"",null,null,"","",""]
[{"$f":"IF(C341=\"\",\"\",COUNTA($C$5:C341))","v":""},"",null,null,"","",""]
[{"$f":"IF(C342=\"\",\"\",COUNTA($C$5:C342))","v":""},"",null,null,"","",""]
[{"$f":"IF(C343=\"\",\"\",COUNTA($C$5:C343))","v":""},"",null,null,"","",""]
[{"$f":"IF(C344=\"\",\"\",COUNTA($C$5:C344))","v":""},"",null,null,"","",""]
[{"$f":"IF(C345=\"\",\"\",COUNTA($C$5:C345))","v":""},"",null,null,"","",""]
[{"$f":"IF(C346=\"\",\"\",COUNTA($C$5:C346))","v":""},"",null,null,"","",""]
[{"$f":"IF(C347=\"\",\"\",COUNTA($C$5:C347))","v":""},"",null,null,"","",""]
[{"$f":"IF(C348=\"\",\"\",COUNTA($C$5:C348))","v":""},"",null,null,"","",""]
[{"$f":"IF(C349=\"\",\"\",COUNTA($C$5:C349))","v":""},"",null,null,"","",""]
[{"$f":"IF(C350=\"\",\"\",COUNTA($C$5:C350))","v":""},"",null,null,"","",""]
[{"$f":"IF(C351=\"\",\"\",COUNTA($C$5:C351))","v":""},"",null,null,"","",""]
[{"$f":"IF(C352=\"\",\"\",COUNTA($C$5:C352))","v":""},"",null,null,"","",""]
[{"$f":"IF(C353=\"\",\"\",COUNTA($C$5:C353))","v":""},"",null,null,"","",""]
[{"$f":"IF(C354=\"\",\"\",COUNTA($C$5:C354))","v":""},"",null,null,"","",""]
[{"$f":"IF(C355=\"\",\"\",COUNTA($C$5:C355))","v":""},"",null,null,"","",""]
[{"$f":"IF(C356=\"\",\"\",COUNTA($C$5:C356))","v":""},"",null,null,"","",""]
[{"$f":"IF(C357=\"\",\"\",COUNTA($C$5:C357))","v":""},"",null,null,"","",""]
[{"$f":"IF(C358=\"\",\"\",COUNTA($C$5:C358))","v":""},"",null,null,"","",""]
[{"$f":"IF(C359=\"\",\"\",COUNTA($C$5:C359))","v":""},"",null,null,"","",""]
[{"$f":"IF(C360=\"\",\"\",COUNTA($C$5:C360))","v":""},"",null,null,"","",""]
[{"$f":"IF(C361=\"\",\"\",COUNTA($C$5:C361))","v":""},"",null,null,"","",""]
[{"$f":"IF(C362=\"\",\"\",COUNTA($C$5:C362))","v":""},"",null,null,"","",""]
[{"$f":"IF(C363=\"\",\"\",COUNTA($C$5:C363))","v":""},"",null,null,"","",""]
[{"$f":"IF(C364=\"\",\"\",COUNTA($C$5:C364))","v":""},"",null,null,"","",""]
[{"$f":"IF(C365=\"\",\"\",COUNTA($C$5:C365))","v":""},"",null,null,"","",""]
[{"$f":"IF(C366=\"\",\"\",COUNTA($C$5:C366))","v":""},"",null,null,"","",""]
[{"$f":"IF(C367=\"\",\"\",COUNTA($C$5:C367))","v":""},"",null,null,"","",""]
[{"$f":"IF(C368=\"\",\"\",COUNTA($C$5:C368))","v":""},"",null,null,"","",""]
[{"$f":"IF(C369=\"\",\"\",COUNTA($C$5:C369))","v":""},"",null,null,"","",""]
[{"$f":"IF(C370=\"\",\"\",COUNTA($C$5:C370))","v":""},"",null,null,"","",""]
[{"$f":"IF(C371=\"\",\"\",COUNTA($C$5:C371))","v":""},"",null,null,"","",""]
[{"$f":"IF(C372=\"\",\"\",COUNTA($C$5:C372))","v":""},{"$f":"IF(B371=\"\",\"\",IF(B371+1>$B$3,\"\",B371+1))","v":""},null,null,"","",""]
[{"$f":"IF(C373=\"\",\"\",COUNTA($C$5:C373))","v":""},"",null,null,"","",""]
[{"$f":"IF(C374=\"\",\"\",COUNTA($C$5:C374))","v":""},"",null,null,"","",""]
[{"$f":"IF(C375=\"\",\"\",COUNTA($C$5:C375))","v":""},"",null,null,"","",""]
[{"$f":"IF(C376=\"\",\"\",COUNTA($C$5:C376))","v":""},"",null,null,"","",""]
[{"$f":"IF(C377=\"\",\"\",COUNTA($C$5:C377))","v":""},"",null,null,"","",""]
[{"$f":"IF(C378=\"\",\"\",COUNTA($C$5:C378))","v":""},"",null,null,"","",""]
[{"$f":"IF(C379=\"\",\"\",COUNTA($C$5:C379))","v":""},"",null,null,"","",""]
[{"$f":"IF(C380=\"\",\"\",COUNTA($C$5:C380))","v":""},"",null,null,"","",""]
[{"$f":"IF(C381=\"\",\"\",COUNTA($C$5:C381))","v":""},"",null,null,"","",""]
[{"$f":"IF(C382=\"\",\"\",COUNTA($C$5:C382))","v":""},"",null,null,"","",""]
[{"$f":"IF(C383=\"\",\"\",COUNTA($C$5:C383))","v":""},"",null,null,"","",""]
[{"$f":"IF(C384=\"\",\"\",COUNTA($C$5:C384))","v":""},"",null,null,"","",""]
[{"$f":"IF(C385=\"\",\"\",COUNTA($C$5:C385))","v":""},"",null,null,"","",""]
[{"$f":"IF(C386=\"\",\"\",COUNTA($C$5:C386))","v":""},"",null,null,"","",""]
[{"$f":"IF(C387=\"\",\"\",COUNTA($C$5:C387))","v":""},"",null,null,"","",""]
[{"$f":"IF(C388=\"\",\"\",COUNTA($C$5:C388))","v":""},"",null,null,"","",""]
[{"$f":"IF(C389=\"\",\"\",COUNTA($C$5:C389))","v":""},"",null,null,{"$f":"IF(B389=\"\",\"\",VLOOKUP(B389,أول_ز,4))","v":""},"",""]
[{"$f":"IF(C390=\"\",\"\",COUNTA($C$5:C390))","v":""},"",null,null,"",{"$f":"IF(E390=E391,\"\",\"نهاية اللجنة\")","v":""},{"$f":"IF(D390=D391,\"\",\"نهاية الفصل\")","v":""}]
[{"$f":"IF(C391=\"\",\"\",COUNTA($C$5:C391))","v":""},"",null,null,"","",""]
[{"$f":"IF(C392=\"\",\"\",COUNTA($C$5:C392))","v":""},"",null,null,"","",""]
[{"$f":"IF(C393=\"\",\"\",COUNTA($C$5:C393))","v":""},"",null,null,"","",""]
[{"$f":"IF(C394=\"\",\"\",COUNTA($C$5:C394))","v":""},"",null,null,"","",""]
[{"$f":"IF(C395=\"\",\"\",COUNTA($C$5:C395))","v":""},"",null,null,"","",""]
[{"$f":"IF(C396=\"\",\"\",COUNTA($C$5:C396))","v":""},"",null,null,"","",""]
[{"$f":"IF(C397=\"\",\"\",COUNTA($C$5:C397))","v":""},"",null,null,"","",""]
[{"$f":"IF(C398=\"\",\"\",COUNTA($C$5:C398))","v":""},"",null,null,"","",""]
[{"$f":"IF(C399=\"\",\"\",COUNTA($C$5:C399))","v":""},"",null,null,"","",""]
[{"$f":"IF(C400=\"\",\"\",COUNTA($C$5:C400))","v":""},"",null,null,"","",""]
[{"$f":"IF(C401=\"\",\"\",COUNTA($C$5:C401))","v":""},"",null,null,"","",""]
[{"$f":"IF(C402=\"\",\"\",COUNTA($C$5:C402))","v":""},"",null,null,"","",""]
[{"$f":"IF(C403=\"\",\"\",COUNTA($C$5:C403))","v":""},"",null,null,"","",""]
[{"$f":"IF(C404=\"\",\"\",COUNTA($C$5:C404))","v":""},"",null,null,"","",""]
[{"$f":"IF(C405=\"\",\"\",COUNTA($C$5:C405))","v":""},"",null,null,"","",""]
[{"$f":"IF(C406=\"\",\"\",COUNTA($C$5:C406))","v":""},"",null,null,"","",""]
[{"$f":"IF(C407=\"\",\"\",COUNTA($C$5:C407))","v":""},"",null,null,"","",""]
[{"$f":"IF(C408=\"\",\"\",COUNTA($C$5:C408))","v":""},"",null,null,"","",""]
[{"$f":"IF(C409=\"\",\"\",COUNTA($C$5:C409))","v":""},"",null,null,"","",""]
[{"$f":"IF(C410=\"\",\"\",COUNTA($C$5:C410))","v":""},"",null,null,"","",""]
[{"$f":"IF(C411=\"\",\"\",COUNTA($C$5:C411))","v":""},"",null,null,"","",""]
[{"$f":"IF(C412=\"\",\"\",COUNTA($C$5:C412))","v":""},"",null,null,"","",""]
[{"$f":"IF(C413=\"\",\"\",COUNTA($C$5:C413))","v":""},"",null,null,"","",""]
[{"$f":"IF(C414=\"\",\"\",COUNTA($C$5:C414))","v":""},"",null,null,"","",""]
[{"$f":"IF(C415=\"\",\"\",COUNTA($C$5:C415))","v":""},"",null,null,"","",""]
[{"$f":"IF(C416=\"\",\"\",COUNTA($C$5:C416))","v":""},"",null,null,"","",""]
[{"$f":"IF(C417=\"\",\"\",COUNTA($C$5:C417))","v":""},"",null,null,"","",""]
[{"$f":"IF(C418=\"\",\"\",COUNTA($C$5:C418))","v":""},"",null,null,"","",""]
[{"$f":"IF(C419=\"\",\"\",COUNTA($C$5:C419))","v":""},"",null,null,"","",""]
[{"$f":"IF(C420=\"\",\"\",COUNTA($C$5:C420))","v":""},"",null,null,"","",""]
[{"$f":"IF(C421=\"\",\"\",COUNTA($C$5:C421))","v":""},"",null,null,"","",""]
[{"$f":"IF(C422=\"\",\"\",COUNTA($C$5:C422))","v":""},"",null,null,"","",""]
[{"$f":"IF(C423=\"\",\"\",COUNTA($C$5:C423))","v":""},"",null,null,"","",""]
[{"$f":"IF(C424=\"\",\"\",COUNTA($C$5:C424))","v":""},"",null,null,"","",""]
[{"$f":"IF(C425=\"\",\"\",COUNTA($C$5:C425))","v":""},"",null,null,"","",""]
[{"$f":"IF(C426=\"\",\"\",COUNTA($C$5:C426))","v":""},"",null,null,"","",""]
[{"$f":"IF(C427=\"\",\"\",COUNTA($C$5:C427))","v":""},"",null,null,"","",""]
[{"$f":"IF(C428=\"\",\"\",COUNTA($C$5:C428))","v":""},"",null,null,"","",""]
[{"$f":"IF(C429=\"\",\"\",COUNTA($C$5:C429))","v":""},"",null,null,"","",""]
[{"$f":"IF(C430=\"\",\"\",COUNTA($C$5:C430))","v":""},"",null,null,"","",""]
[{"$f":"IF(C431=\"\",\"\",COUNTA($C$5:C431))","v":""},"",null,null,"","",""]
[{"$f":"IF(C432=\"\",\"\",COUNTA($C$5:C432))","v":""},"",null,null,"","",""]
[{"$f":"IF(C433=\"\",\"\",COUNTA($C$5:C433))","v":""},"",null,null,"","",""]
[{"$f":"IF(C434=\"\",\"\",COUNTA($C$5:C434))","v":""},"",null,null,"","",""]
[{"$f":"IF(C435=\"\",\"\",COUNTA($C$5:C435))","v":""},"",null,null,"","",""]
[{"$f":"IF(C436=\"\",\"\",COUNTA($C$5:C436))","v":""},{"$f":"IF(B435=\"\",\"\",IF(B435+1>$B$3,\"\",B435+1))","v":""},null,null,"","",""]
[{"$f":"IF(C437=\"\",\"\",COUNTA($C$5:C437))","v":""},"",null,null,"","",""]
[{"$f":"IF(C438=\"\",\"\",COUNTA($C$5:C438))","v":""},"",null,null,"","",""]
[{"$f":"IF(C439=\"\",\"\",COUNTA($C$5:C439))","v":""},"",null,null,"","",""]
[{"$f":"IF(C440=\"\",\"\",COUNTA($C$5:C440))","v":""},"",null,null,"","",""]
[{"$f":"IF(C441=\"\",\"\",COUNTA($C$5:C441))","v":""},"",null,null,"","",""]
[{"$f":"IF(C442=\"\",\"\",COUNTA($C$5:C442))","v":""},"",null,null,"","",""]
[{"$f":"IF(C443=\"\",\"\",COUNTA($C$5:C443))","v":""},"",null,null,"","",""]
[{"$f":"IF(C444=\"\",\"\",COUNTA($C$5:C444))","v":""},"",null,null,"","",""]
[{"$f":"IF(C445=\"\",\"\",COUNTA($C$5:C445))","v":""},"",null,null,"","",""]
[{"$f":"IF(C446=\"\",\"\",COUNTA($C$5:C446))","v":""},"",null,null,"","",""]
[{"$f":"IF(C447=\"\",\"\",COUNTA($C$5:C447))","v":""},"",null,null,"","",""]
[{"$f":"IF(C448=\"\",\"\",COUNTA($C$5:C448))","v":""},"",null,null,"","",""]
[{"$f":"IF(C449=\"\",\"\",COUNTA($C$5:C449))","v":""},"",null,null,"","",""]
[{"$f":"IF(C450=\"\",\"\",COUNTA($C$5:C450))","v":""},"",null,null,"","",""]
[{"$f":"IF(C451=\"\",\"\",COUNTA($C$5:C451))","v":""},"",null,null,"","",""]
[{"$f":"IF(C452=\"\",\"\",COUNTA($C$5:C452))","v":""},"",null,null,"","",""]
[{"$f":"IF(C453=\"\",\"\",COUNTA($C$5:C453))","v":""},"",null,null,{"$f":"IF(B453=\"\",\"\",VLOOKUP(B453,أول_ز,4))","v":""},"",""]
[{"$f":"IF(C454=\"\",\"\",COUNTA($C$5:C454))","v":""},"",null,null,"",{"$f":"IF(E454=E455,\"\",\"نهاية اللجنة\")","v":""},{"$f":"IF(D454=D455,\"\",\"نهاية الفصل\")","v":""}]
[{"$f":"IF(C455=\"\",\"\",COUNTA($C$5:C455))","v":""},"",null,null,"","",""]
[{"$f":"IF(C456=\"\",\"\",COUNTA($C$5:C456))","v":""},"",null,null,"","",""]
[{"$f":"IF(C457=\"\",\"\",COUNTA($C$5:C457))","v":""},"",null,null,"","",""]
[{"$f":"IF(C458=\"\",\"\",COUNTA($C$5:C458))","v":""},"",null,null,"","",""]
[{"$f":"IF(C459=\"\",\"\",COUNTA($C$5:C459))","v":""},"",null,null,"","",""]
[{"$f":"IF(C460=\"\",\"\",COUNTA($C$5:C460))","v":""},"",null,null,"","",""]
[{"$f":"IF(C461=\"\",\"\",COUNTA($C$5:C461))","v":""},"",null,null,"","",""]
[{"$f":"IF(C462=\"\",\"\",COUNTA($C$5:C462))","v":""},"",null,null,"","",""]
[{"$f":"IF(C463=\"\",\"\",COUNTA($C$5:C463))","v":""},"",null,null,"","",""]
[{"$f":"IF(C464=\"\",\"\",COUNTA($C$5:C464))","v":""},"",null,null,"","",""]
[{"$f":"IF(C465=\"\",\"\",COUNTA($C$5:C465))","v":""},"",null,null,"","",""]
[{"$f":"IF(C466=\"\",\"\",COUNTA($C$5:C466))","v":""},"",null,null,"","",""]
[{"$f":"IF(C467=\"\",\"\",COUNTA($C$5:C467))","v":""},"",null,null,"","",""]
[{"$f":"IF(C468=\"\",\"\",COUNTA($C$5:C468))","v":""},"",null,null,"","",""]
[{"$f":"IF(C469=\"\",\"\",COUNTA($C$5:C469))","v":""},"",null,null,"","",""]
[{"$f":"IF(C470=\"\",\"\",COUNTA($C$5:C470))","v":""},"",null,null,"","",""]
[{"$f":"IF(C471=\"\",\"\",COUNTA($C$5:C471))","v":""},"",null,null,"","",""]
[{"$f":"IF(C472=\"\",\"\",COUNTA($C$5:C472))","v":""},"",null,null,"","",""]
[{"$f":"IF(C473=\"\",\"\",COUNTA($C$5:C473))","v":""},"",null,null,"","",""]
[{"$f":"IF(C474=\"\",\"\",COUNTA($C$5:C474))","v":""},"",null,null,"","",""]
[{"$f":"IF(C475=\"\",\"\",COUNTA($C$5:C475))","v":""},"",null,null,"","",""]
[{"$f":"IF(C476=\"\",\"\",COUNTA($C$5:C476))","v":""},"",null,null,"","",""]
[{"$f":"IF(C477=\"\",\"\",COUNTA($C$5:C477))","v":""},"",null,null,"","",""]
[{"$f":"IF(C478=\"\",\"\",COUNTA($C$5:C478))","v":""},"",null,null,"","",""]
[{"$f":"IF(C479=\"\",\"\",COUNTA($C$5:C479))","v":""},"",null,null,"","",""]
[{"$f":"IF(C480=\"\",\"\",COUNTA($C$5:C480))","v":""},"",null,null,"","",""]
[{"$f":"IF(C481=\"\",\"\",COUNTA($C$5:C481))","v":""},"",null,null,"","",""]
[{"$f":"IF(C482=\"\",\"\",COUNTA($C$5:C482))","v":""},"",null,null,"","",""]
[{"$f":"IF(C483=\"\",\"\",COUNTA($C$5:C483))","v":""},"",null,null,"","",""]
[{"$f":"IF(C484=\"\",\"\",COUNTA($C$5:C484))","v":""},"",null,null,"","",""]
[{"$f":"IF(C485=\"\",\"\",COUNTA($C$5:C485))","v":""},"",null,null,"","",""]
[{"$f":"IF(C486=\"\",\"\",COUNTA($C$5:C486))","v":""},"",null,null,"","",""]
[{"$f":"IF(C487=\"\",\"\",COUNTA($C$5:C487))","v":""},"",null,null,"","",""]
[{"$f":"IF(C488=\"\",\"\",COUNTA($C$5:C488))","v":""},"",null,null,"","",""]
[{"$f":"IF(C489=\"\",\"\",COUNTA($C$5:C489))","v":""},"",null,null,"","",""]
[{"$f":"IF(C490=\"\",\"\",COUNTA($C$5:C490))","v":""},"",null,null,"","",""]
[{"$f":"IF(C491=\"\",\"\",COUNTA($C$5:C491))","v":""},"",null,null,"","",""]
[{"$f":"IF(C492=\"\",\"\",COUNTA($C$5:C492))","v":""},"",null,null,"","",""]
[{"$f":"IF(C493=\"\",\"\",COUNTA($C$5:C493))","v":""},"",null,null,"","",""]
[{"$f":"IF(C494=\"\",\"\",COUNTA($C$5:C494))","v":""},"",null,null,"","",""]
[{"$f":"IF(C495=\"\",\"\",COUNTA($C$5:C495))","v":""},"",null,null,"","",""]
[{"$f":"IF(C496=\"\",\"\",COUNTA($C$5:C496))","v":""},"",null,null,"","",""]
[{"$f":"IF(C497=\"\",\"\",COUNTA($C$5:C497))","v":""},"",null,null,"","",""]
[{"$f":"IF(C498=\"\",\"\",COUNTA($C$5:C498))","v":""},"",null,null,"","",""]
[{"$f":"IF(C499=\"\",\"\",COUNTA($C$5:C499))","v":""},"",null,null,"","",""]
[{"$f":"IF(C500=\"\",\"\",COUNTA($C$5:C500))","v":""},{"$f":"IF(B499=\"\",\"\",IF(B499+1>$B$3,\"\",B499+1))","v":""},null,null,"","",""]
[{"$f":"IF(C501=\"\",\"\",COUNTA($C$5:C501))","v":""},"",null,null,"","",""]
[{"$f":"IF(C502=\"\",\"\",COUNTA($C$5:C502))","v":""},"",null,null,"","",""]
[{"$f":"IF(C503=\"\",\"\",COUNTA($C$5:C503))","v":""},"",null,null,"","",""]
[{"$f":"IF(C504=\"\",\"\",COUNTA($C$5:C504))","v":""},"",null,null,"","",""]
[{"$f":"IF(C505=\"\",\"\",COUNTA($C$5:C505))","v":""},"",null,null,"","",""]
[{"$f":"IF(C506=\"\",\"\",COUNTA($C$5:C506))","v":""},"",null,null,"","",""]
[{"$f":"IF(C507=\"\",\"\",COUNTA($C$5:C507))","v":""},"",null,null,"","",""]
[{"$f":"IF(C508=\"\",\"\",COUNTA($C$5:C508))","v":""},"",null,null,"","",""]
[{"$f":"IF(C509=\"\",\"\",COUNTA($C$5:C509))","v":""},"",null,null,"","",""]
[{"$f":"IF(C510=\"\",\"\",COUNTA($C$5:C510))","v":""},"",null,null,"","",""]
[{"$f":"IF(C511=\"\",\"\",COUNTA($C$5:C511))","v":""},"",null,null,"","",""]
[{"$f":"IF(C512=\"\",\"\",COUNTA($C$5:C512))","v":""},"",null,null,"","",""]
[{"$f":"IF(C513=\"\",\"\",COUNTA($C$5:C513))","v":""},"",null,null,"","",""]
[{"$f":"IF(C514=\"\",\"\",COUNTA($C$5:C514))","v":""},"",null,null,"","",""]
[{"$f":"IF(C515=\"\",\"\",COUNTA($C$5:C515))","v":""},"",null,null,"","",""]
[{"$f":"IF(C516=\"\",\"\",COUNTA($C$5:C516))","v":""},"",null,null,"","",""]
[{"$f":"IF(C517=\"\",\"\",COUNTA($C$5:C517))","v":""},"",null,null,{"$f":"IF(B517=\"\",\"\",VLOOKUP(B517,أول_ز,4))","v":""},"",""]
[{"$f":"IF(C518=\"\",\"\",COUNTA($C$5:C518))","v":""},"",null,null,"",{"$f":"IF(E518=E519,\"\",\"نهاية اللجنة\")","v":""},{"$f":"IF(D518=D519,\"\",\"نهاية الفصل\")","v":""}]
[{"$f":"IF(C519=\"\",\"\",COUNTA($C$5:C519))","v":""},"",null,null,"","",""]
[{"$f":"IF(C520=\"\",\"\",COUNTA($C$5:C520))","v":""},"",null,null,"","",""]
[{"$f":"IF(C521=\"\",\"\",COUNTA($C$5:C521))","v":""},"",null,null,"","",""]
[{"$f":"IF(C522=\"\",\"\",COUNTA($C$5:C522))","v":""},"",null,null,"","",""]
[{"$f":"IF(C523=\"\",\"\",COUNTA($C$5:C523))","v":""},"",null,null,"","",""]
[{"$f":"IF(C524=\"\",\"\",COUNTA($C$5:C524))","v":""},"",null,null,"","",""]
[{"$f":"IF(C525=\"\",\"\",COUNTA($C$5:C525))","v":""},"",null,null,"","",""]
[{"$f":"IF(C526=\"\",\"\",COUNTA($C$5:C526))","v":""},"",null,null,"","",""]
[{"$f":"IF(C527=\"\",\"\",COUNTA($C$5:C527))","v":""},"",null,null,"","",""]
[{"$f":"IF(C528=\"\",\"\",COUNTA($C$5:C528))","v":""},"",null,null,"","",""]
[{"$f":"IF(C529=\"\",\"\",COUNTA($C$5:C529))","v":""},"",null,null,"","",""]
[{"$f":"IF(C530=\"\",\"\",COUNTA($C$5:C530))","v":""},"",null,null,"","",""]
[{"$f":"IF(C531=\"\",\"\",COUNTA($C$5:C531))","v":""},"",null,null,"","",""]
[{"$f":"IF(C532=\"\",\"\",COUNTA($C$5:C532))","v":""},"",null,null,"","",""]
[{"$f":"IF(C533=\"\",\"\",COUNTA($C$5:C533))","v":""},"",null,null,"","",""]
[{"$f":"IF(C534=\"\",\"\",COUNTA($C$5:C534))","v":""},"",null,null,"","",""]
[{"$f":"IF(C535=\"\",\"\",COUNTA($C$5:C535))","v":""},"",null,null,"","",""]
[{"$f":"IF(C536=\"\",\"\",COUNTA($C$5:C536))","v":""},"",null,null,"","",""]
[{"$f":"IF(C537=\"\",\"\",COUNTA($C$5:C537))","v":""},"",null,null,"","",""]
[{"$f":"IF(C538=\"\",\"\",COUNTA($C$5:C538))","v":""},"",null,null,"","",""]
[{"$f":"IF(C539=\"\",\"\",COUNTA($C$5:C539))","v":""},"",null,null,"","",""]
[{"$f":"IF(C540=\"\",\"\",COUNTA($C$5:C540))","v":""},"",null,null,"","",""]
[{"$f":"IF(C541=\"\",\"\",COUNTA($C$5:C541))","v":""},"",null,null,"","",""]
[{"$f":"IF(C542=\"\",\"\",COUNTA($C$5:C542))","v":""},"",null,null,"","",""]
[{"$f":"IF(C543=\"\",\"\",COUNTA($C$5:C543))","v":""},"",null,null,"","",""]
[{"$f":"IF(C544=\"\",\"\",COUNTA($C$5:C544))","v":""},"",null,null,"","",""]
[{"$f":"IF(C545=\"\",\"\",COUNTA($C$5:C545))","v":""},"",null,null,"","",""]
[{"$f":"IF(C546=\"\",\"\",COUNTA($C$5:C546))","v":""},"",null,null,"","",""]
[{"$f":"IF(C547=\"\",\"\",COUNTA($C$5:C547))","v":""},"",null,null,"","",""]
[{"$f":"IF(C548=\"\",\"\",COUNTA($C$5:C548))","v":""},"",null,null,"","",""]
[{"$f":"IF(C549=\"\",\"\",COUNTA($C$5:C549))","v":""},"",null,null,"","",""]
[{"$f":"IF(C550=\"\",\"\",COUNTA($C$5:C550))","v":""},"",null,null,"","",""]
[{"$f":"IF(C551=\"\",\"\",COUNTA($C$5:C551))","v":""},"",null,null,"","",""]
[{"$f":"IF(C552=\"\",\"\",COUNTA($C$5:C552))","v":""},"",null,null,"","",""]
[{"$f":"IF(C553=\"\",\"\",COUNTA($C$5:C553))","v":""},"",null,null,"","",""]
[{"$f":"IF(C554=\"\",\"\",COUNTA($C$5:C554))","v":""},"",null,null,"","",""]
[{"$f":"IF(C555=\"\",\"\",COUNTA($C$5:C555))","v":""},"",null,null,"","",""]
[{"$f":"IF(C556=\"\",\"\",COUNTA($C$5:C556))","v":""},"",null,null,"","",""]
[{"$f":"IF(C557=\"\",\"\",COUNTA($C$5:C557))","v":""},"",null,null,"","",""]
[{"$f":"IF(C558=\"\",\"\",COUNTA($C$5:C558))","v":""},"",null,null,"","",""]
[{"$f":"IF(C559=\"\",\"\",COUNTA($C$5:C559))","v":""},"",null,null,"","",""]
[{"$f":"IF(C560=\"\",\"\",COUNTA($C$5:C560))","v":""},"",null,null,"","",""]
[{"$f":"IF(C561=\"\",\"\",COUNTA($C$5:C561))","v":""},"",null,null,"","",""]
[{"$f":"IF(C562=\"\",\"\",COUNTA($C$5:C562))","v":""},"",null,null,"","",""]
[{"$f":"IF(C563=\"\",\"\",COUNTA($C$5:C563))","v":""},"",null,null,"","",""]
[{"$f":"IF(C564=\"\",\"\",COUNTA($C$5:C564))","v":""},{"$f":"IF(B563=\"\",\"\",IF(B563+1>$B$3,\"\",B563+1))","v":""},null,null,"","",""]
[{"$f":"IF(C565=\"\",\"\",COUNTA($C$5:C565))","v":""},"",null,null,"","",""]
[{"$f":"IF(C566=\"\",\"\",COUNTA($C$5:C566))","v":""},"",null,null,"","",""]
[{"$f":"IF(C567=\"\",\"\",COUNTA($C$5:C567))","v":""},"",null,null,"","",""]
[{"$f":"IF(C568=\"\",\"\",COUNTA($C$5:C568))","v":""},"",null,null,"","",""]
[{"$f":"IF(C569=\"\",\"\",COUNTA($C$5:C569))","v":""},"",null,null,"","",""]
[{"$f":"IF(C570=\"\",\"\",COUNTA($C$5:C570))","v":""},"",null,null,"","",""]
[{"$f":"IF(C571=\"\",\"\",COUNTA($C$5:C571))","v":""},"",null,null,"","",""]
[{"$f":"IF(C572=\"\",\"\",COUNTA($C$5:C572))","v":""},"",null,null,"","",""]
[{"$f":"IF(C573=\"\",\"\",COUNTA($C$5:C573))","v":""},"",null,null,"","",""]
[{"$f":"IF(C574=\"\",\"\",COUNTA($C$5:C574))","v":""},"",null,null,"","",""]
[{"$f":"IF(C575=\"\",\"\",COUNTA($C$5:C575))","v":""},"",null,null,"","",""]
[{"$f":"IF(C576=\"\",\"\",COUNTA($C$5:C576))","v":""},"",null,null,"","",""]
[{"$f":"IF(C577=\"\",\"\",COUNTA($C$5:C577))","v":""},"",null,null,"","",""]
[{"$f":"IF(C578=\"\",\"\",COUNTA($C$5:C578))","v":""},"",null,null,"","",""]
[{"$f":"IF(C579=\"\",\"\",COUNTA($C$5:C579))","v":""},"",null,null,"","",""]
[{"$f":"IF(C580=\"\",\"\",COUNTA($C$5:C580))","v":""},"",null,null,"","",""]
[{"$f":"IF(C581=\"\",\"\",COUNTA($C$5:C581))","v":""},"",null,null,{"$f":"IF(B581=\"\",\"\",VLOOKUP(B581,أول_ز,4))","v":""},"",""]
[{"$f":"IF(C582=\"\",\"\",COUNTA($C$5:C582))","v":""},"",null,null,"",{"$f":"IF(E582=E583,\"\",\"نهاية اللجنة\")","v":""},{"$f":"IF(D582=D583,\"\",\"نهاية الفصل\")","v":""}]
[{"$f":"IF(C583=\"\",\"\",COUNTA($C$5:C583))","v":""},"",null,null,"","",""]
[{"$f":"IF(C584=\"\",\"\",COUNTA($C$5:C584))","v":""},"",null,null,"","",""]
[{"$f":"IF(C585=\"\",\"\",COUNTA($C$5:C585))","v":""},"",null,null,"","",""]
[{"$f":"IF(C586=\"\",\"\",COUNTA($C$5:C586))","v":""},"",null,null,"","",""]
[{"$f":"IF(C587=\"\",\"\",COUNTA($C$5:C587))","v":""},"",null,null,"","",""]
[{"$f":"IF(C588=\"\",\"\",COUNTA($C$5:C588))","v":""},"",null,null,"","",""]
[{"$f":"IF(C589=\"\",\"\",COUNTA($C$5:C589))","v":""},"",null,null,"","",""]
[{"$f":"IF(C590=\"\",\"\",COUNTA($C$5:C590))","v":""},"",null,null,"","",""]
[{"$f":"IF(C591=\"\",\"\",COUNTA($C$5:C591))","v":""},"",null,null,"","",""]
[{"$f":"IF(C592=\"\",\"\",COUNTA($C$5:C592))","v":""},"",null,null,"","",""]
[{"$f":"IF(C593=\"\",\"\",COUNTA($C$5:C593))","v":""},"",null,null,"","",""]
[{"$f":"IF(C594=\"\",\"\",COUNTA($C$5:C594))","v":""},"",null,null,"","",""]
[{"$f":"IF(C595=\"\",\"\",COUNTA($C$5:C595))","v":""},"",null,null,"","",""]
[{"$f":"IF(C596=\"\",\"\",COUNTA($C$5:C596))","v":""},"",null,null,"","",""]
[{"$f":"IF(C597=\"\",\"\",COUNTA($C$5:C597))","v":""},"",null,null,"","",""]
[{"$f":"IF(C598=\"\",\"\",COUNTA($C$5:C598))","v":""},"",null,null,"","",""]
[{"$f":"IF(C599=\"\",\"\",COUNTA($C$5:C599))","v":""},"",null,null,"","",""]
[{"$f":"IF(C600=\"\",\"\",COUNTA($C$5:C600))","v":""},"",null,null,"","",""]
[{"$f":"IF(C601=\"\",\"\",COUNTA($C$5:C601))","v":""},"",null,null,"","",""]
[{"$f":"IF(C602=\"\",\"\",COUNTA($C$5:C602))","v":""},"",null,null,"","",""]
[{"$f":"IF(C603=\"\",\"\",COUNTA($C$5:C603))","v":""},"",null,null,"","",""]
[{"$f":"IF(C604=\"\",\"\",COUNTA($C$5:C604))","v":""},"",null,null,"","",""]

{"sheet":"مناداة","index":3,"n_rows":35,"n_cols":18,"rows_kept":35,"cut":false,"hidden":false,"merged":[[3,2,4,2],[3,7,4,7],[2,17,2,19]]}
[null,{"$f":"'بيانات أساسية'!$D5","v":"إدارة قويسنا التعليمية"},null,null,null,null,{"$f":"'بيانات أساسية'!$D5","v":"إدارة قويسنا التعليمية"},null,null,null,null,null,null,1,{"$f":"MAX(اللجان!B5:B44)","v":6},{"$f":"VLOOKUP(C4,اللجان!B5:F44,4)","v":20},{"$f":"VLOOKUP(H4,اللجان!B5:F44,4)","v":20}]
["عدد",{"$f":"'بيانات أساسية'!$D6","v":"مدرسة عرب الرمل الإبتدائية سكة حديد"},null,null,null,"عدد",{"$f":"'بيانات أساسية'!$D6","v":"مدرسة عرب الرمل الإبتدائية سكة حديد"}]
[{"$f":"COUNT(A6:A106)","v":20},{"$f":"'بيانات أساسية'!D15","v":"الفصل الدراسى الأول 2025/2024"},null,null,null,{"$f":"COUNT(F6:F106)","v":20},{"$f":"'بيانات أساسية'!D15","v":"الفصل الدراسى الأول 2025/2024"},null,null,null,null,null,null,null,null,null,null,{"$f":"الطلبة!$C$2","v":"الصف الرابع"}]
["دمج","        كشف مناداة لجنة رقم ",{"$f":"IF(N1>O1,\"\",N1)","v":1},null,null,"دمج",{"$f":"B4","v":"        كشف مناداة لجنة رقم "},{"$f":"IF(N1+1>O1,\"\",N1+1)","v":2}]
[{"$f":"COUNTIF(D7:D35,\"دمج*\")","v":0},{"$f":"'بيانات أساسية'!$D$14","v":"الصف الرابع"},null,null,null,{"$f":"COUNTIF(I7:I35,\"دمج*\")","v":1},{"$f":"'بيانات أساسية'!$D$14","v":"الصف الرابع"},null,null,null,null,null,"   "]
["م","اسم الطالب","رقم الجلوس",null,"رقم المجموعه","م","اسم الطالب","رقم الجلوس",null,"رقم المجموعه"]
[{"$f":"IF(P1=\"\",\"\",1)","v":1},{"$f":"IF(A7=\"\",\"\",VLOOKUP(C7,بيانات,2))","v":"السيد ماهر السيد حسين غلوش"},{"$f":"IF(C4=\"\",\"\",VLOOKUP(C4,اللجان!B5:F44,2))","v":301},{"$f":"IF(OR(B7=$M$10,B7=$M$11,B7=$M$12,B7=$M$13,B7=$M$14,B7=$M$15,B7=$M$16,B7=$M$17,B7=$M$18,B7=$M$19),\"دمج\",\"\")","v":""},{"$f":"IFERROR(VLOOKUP(B7, الطلبة!$C$5:$H$1000, 6, FALSE), \"\")","v":"ب"},{"$f":"IF(Q1=\"\",\"\",1)","v":1},{"$f":"IF(F7=\"\",\"\",VLOOKUP(H7,بيانات,2))","v":"حمزة عبد الفتاح أحمد عبد الفتاح"},{"$f":"IF(H4=\"\",\"\",VLOOKUP(H4,اللجان!B5:F44,2))","v":321},{"$f":"IF(OR(G7=$M$10,G7=$M$11,G7=$M$12,G7=$M$13,G7=$M$14,G7=$M$15,G7=$M$16,G7=$M$17,G7=$M$18,G7=$M$19),\"دمج\",\"\")","v":""},{"$f":"IFERROR(VLOOKUP(G7, الطلبة!$C$5:$H$1000, 6, FALSE), \"\")","v":"أ"}]
[{"$f":"IF(A7=\"\",\"\",IF(A7+1>$P$1,\"\",A7+1))","v":2},{"$f":"IF(A8=\"\",\"\",VLOOKUP(C8,بيانات,2))","v":"إبراهيم حسن حسينى عبد الهادى "},{"$f":"IF(A7=\"\",\"\",IF(A8=\"\",\"\",C7+1))","v":302},"",{"$f":"IFERROR(VLOOKUP(B8, الطلبة!$C$5:$H$1000, 6, FALSE), \"\")","v":"ب"},{"$f":"IF(F7=\"\",\"\",IF(F7+1>$Q$1,\"\",F7+1))","v":2},"خالد السعيد مسعد السعيد سيد أحمد",{"$f":"IF(F7=\"\",\"\",IF(F8=\"\",\"\",H7+1))","v":322},{"$f":"IF(OR(G8=$M$10,G8=$M$11,G8=$M$12,G8=$M$13,G8=$M$14,G8=$M$15,G8=$M$16,G8=$M$17,G8=$M$18,G8=$M$19),\"دمج\",\"\")","v":""},{"$f":"IFERROR(VLOOKUP(G8, الطلبة!$C$5:$H$1000, 6, FALSE), \"\")","v":"ب"},null,null,"يتم تظليل طلبة الدمج التاليين عند ظهورهما بكشف المناداه ويختفى التظليل بإختفاؤهم"]
[3,{"$f":"IF(A9=\"\",\"\",VLOOKUP(C9,بيانات,2))","v":"إياد عبد المحسن رمضان إمام نصر"},{"$f":"IF(A8=\"\",\"\",IF(A9=\"\",\"\",C8+1))","v":303},"",{"$f":"IFERROR(VLOOKUP(B9, الطلبة!$C$5:$H$1000, 6, FALSE), \"\")","v":"ج"},3,"رأفت ربيع رضوان محمد الهادى ",{"$f":"IF(F8=\"\",\"\",IF(F9=\"\",\"\",H8+1))","v":323},"",{"$f":"IFERROR(VLOOKUP(G9, الطلبة!$C$5:$H$1000, 6, FALSE), \"\")","v":"ج"},null,null,"طلبة الدمج "]
[4,"إياد عمرو محمد عبد الفتاح حماد",304,"",{"$f":"IFERROR(VLOOKUP(B10, الطلبة!$C$5:$H$1000, 6, FALSE), \"\")","v":"أ"},4,"رحيم ربيع رضوان محمد الهادى ",324,"",{"$f":"IFERROR(VLOOKUP(G10, الطلبة!$C$5:$H$1000, 6, FALSE), \"\")","v":"أ"},null,null,"زياد احمد عبدالتواب موسي"]
[5,"إياد محمد زايد عبدالرازق",305,"",{"$f":"IFERROR(VLOOKUP(B11, الطلبة!$C$5:$H$1000, 6, FALSE), \"\")","v":"ب"},5,"زياد احمد عبدالتواب موسي",325,"دمج",{"$f":"IFERROR(VLOOKUP(G11, الطلبة!$C$5:$H$1000, 6, FALSE), \"\")","v":"دمج ب"},null,null,"ريتاج مصطفي محمد مصطفى علي "]
[6,"إياد محمد فتحى عبدالستار",306,"",{"$f":"IFERROR(VLOOKUP(B12, الطلبة!$C$5:$H$1000, 6, FALSE), \"\")","v":"ج"},6,"زياد أمير أحمد موسى منتصر",326,"",{"$f":"IFERROR(VLOOKUP(G12, الطلبة!$C$5:$H$1000, 6, FALSE), \"\")","v":"ج"},null,null,1]
[7,"أحمد السيد محمد السيد أبو الفتوح",{"$f":"IF(A12=\"\",\"\",IF(A13=\"\",\"\",C12+1))","v":307},"",{"$f":"IFERROR(VLOOKUP(B13, الطلبة!$C$5:$H$1000, 6, FALSE), \"\")","v":"أ"},7,"سعد أحمد سعد توفيق",327,{"$f":"IF(OR(G13=$M$10,G13=$M$11,G13=$M$12,G13=$M$13,G13=$M$14,G13=$M$15,G13=$M$16,G13=$M$17,G13=$M$18,G13=$M$19),\"دمج\",\"\")","v":""},{"$f":"IFERROR(VLOOKUP(G13, الطلبة!$C$5:$H$1000, 6, FALSE), \"\")","v":"أ"},null,null,1]
[8,"أحمد بلال عبدالسميع عبدالمنعم",308,"",{"$f":"IFERROR(VLOOKUP(B14, الطلبة!$C$5:$H$1000, 6, FALSE), \"\")","v":"ب"},8,"صبحى محمد صبحى عبدالرازق",328,"",{"$f":"IFERROR(VLOOKUP(G14, الطلبة!$C$5:$H$1000, 6, FALSE), \"\")","v":"ب"},null,null,1]
[9,"أحمد حسام عطيه المغازى أبو زيد",309,"",{"$f":"IFERROR(VLOOKUP(B15, الطلبة!$C$5:$H$1000, 6, FALSE), \"\")","v":"ج"},9,"صلاح محمود صلاح الدين غنيم",329,"",{"$f":"IFERROR(VLOOKUP(G15, الطلبة!$C$5:$H$1000, 6, FALSE), \"\")","v":"ج"},null,null,1]
[10,"أحمد رامى محمود محمد",310,"",{"$f":"IFERROR(VLOOKUP(B16, الطلبة!$C$5:$H$1000, 6, FALSE), \"\")","v":"أ"},10,"عبد الحليم عمرو عبد الحليم السيد",330,"",{"$f":"IFERROR(VLOOKUP(G16, الطلبة!$C$5:$H$1000, 6, FALSE), \"\")","v":"أ"},null,null,1]
[11,"أحمد رضا محمد على جلاله",311,"",{"$f":"IFERROR(VLOOKUP(B17, الطلبة!$C$5:$H$1000, 6, FALSE), \"\")","v":"ب"},11,"عبد الرحمن السيد عبد العزيز محمد ",331,"",{"$f":"IFERROR(VLOOKUP(G17, الطلبة!$C$5:$H$1000, 6, FALSE), \"\")","v":"ب"},null,null,1]
[12,"أحمد عبدالحميد أحمد الحنفي",312,"",{"$f":"IFERROR(VLOOKUP(B18, الطلبة!$C$5:$H$1000, 6, FALSE), \"\")","v":"ج"},12,"عبد الرحمن عماد عاطف مكاوى ",332,"",{"$f":"IFERROR(VLOOKUP(G18, الطلبة!$C$5:$H$1000, 6, FALSE), \"\")","v":"ج"},null,null,1]
[13,"أحمد متولى احمد متولى",313,"",{"$f":"IFERROR(VLOOKUP(B19, الطلبة!$C$5:$H$1000, 6, FALSE), \"\")","v":"أ"},13,"عبد الرحمن محمد مسعد رمضان ",333,"",{"$f":"IFERROR(VLOOKUP(G19, الطلبة!$C$5:$H$1000, 6, FALSE), \"\")","v":"أ"},null,null,1]
[14,"أحمد محمد عبدالعزيز محمد عبدالغنى",314,"",{"$f":"IFERROR(VLOOKUP(B20, الطلبة!$C$5:$H$1000, 6, FALSE), \"\")","v":"ب"},14,"عبد العزيز محمد عبد العزيز موسى ",334,{"$f":"IF(OR(G20=$M$10,G20=$M$11,G20=$M$12,G20=$M$13,G20=$M$14,G20=$M$15,G20=$M$16,G20=$M$17,G20=$M$18,G20=$M$19),\"دمج\",\"\")","v":""},{"$f":"IFERROR(VLOOKUP(G20, الطلبة!$C$5:$H$1000, 6, FALSE), \"\")","v":"ب"},null,null,1]
[15,"أحمد هانى صلاح الدين غنيم",315,"",{"$f":"IFERROR(VLOOKUP(B21, الطلبة!$C$5:$H$1000, 6, FALSE), \"\")","v":"ج"},15,"على عادل على محمد",335,"",{"$f":"IFERROR(VLOOKUP(G21, الطلبة!$C$5:$H$1000, 6, FALSE), \"\")","v":"ج"},null,null,1]
[16,"أنس مصطفى عبد ربه عبد اللطيف",316,"",{"$f":"IFERROR(VLOOKUP(B22, الطلبة!$C$5:$H$1000, 6, FALSE), \"\")","v":"أ"},16,"عماد موسى إبراهيم موسى أحمد ",336,"",{"$f":"IFERROR(VLOOKUP(G22, الطلبة!$C$5:$H$1000, 6, FALSE), \"\")","v":"أ"},null,null,1]
[17,"آدم عصام الحفنى عبدالمعطي",317,"",{"$f":"IFERROR(VLOOKUP(B23, الطلبة!$C$5:$H$1000, 6, FALSE), \"\")","v":"ب"},17,"عمر احمد حامد زكى",337,"",{"$f":"IFERROR(VLOOKUP(G23, الطلبة!$C$5:$H$1000, 6, FALSE), \"\")","v":"ب"},null,null,1]
[18,"آدم عمرو الصادق المرادى",318,"",{"$f":"IFERROR(VLOOKUP(B24, الطلبة!$C$5:$H$1000, 6, FALSE), \"\")","v":"ج"},18,"عمر أحمد محمد محمد على",338,"",{"$f":"IFERROR(VLOOKUP(G24, الطلبة!$C$5:$H$1000, 6, FALSE), \"\")","v":"ج"},null,null,1]
[19,"آدم محمد السيد عبدالمنعم العليمي",319,"",{"$f":"IFERROR(VLOOKUP(B25, الطلبة!$C$5:$H$1000, 6, FALSE), \"\")","v":"أ"},19,"عمر علاء سلامة محمد الخضرى",339,"",{"$f":"IFERROR(VLOOKUP(G25, الطلبة!$C$5:$H$1000, 6, FALSE), \"\")","v":"أ"},null,null,1]
[20,"حسام محمد حسام الدين محمود",320,"",{"$f":"IFERROR(VLOOKUP(B26, الطلبة!$C$5:$H$1000, 6, FALSE), \"\")","v":"ب"},20,"فتحى محمود فتحى عواد فرج",340,"",{"$f":"IFERROR(VLOOKUP(G26, الطلبة!$C$5:$H$1000, 6, FALSE), \"\")","v":"ب"},null,null,1]
["","","","",{"$f":"IFERROR(VLOOKUP(B27, الطلبة!$C$5:$H$1000, 6, FALSE), \"\")","v":""},"","","","",{"$f":"IFERROR(VLOOKUP(G27, الطلبة!$C$5:$H$1000, 6, FALSE), \"\")","v":""},null,null,1]
["","",{"$f":"IF(A27=\"\",\"\",IF(A28=\"\",\"\",C27+1))","v":""},"",{"$f":"IFERROR(VLOOKUP(B28, الطلبة!$C$5:$H$1000, 6, FALSE), \"\")","v":""},"","",{"$f":"IF(F27=\"\",\"\",IF(F28=\"\",\"\",H27+1))","v":""},"",{"$f":"IFERROR(VLOOKUP(G28, الطلبة!$C$5:$H$1000, 6, FALSE), \"\")","v":""},null,null,1]
["",{"$f":"IF(A29=\"\",\"\",VLOOKUP(C29,بيانات,2))","v":""},"","",{"$f":"IFERROR(VLOOKUP(B29, الطلبة!$C$5:$H$1000, 6, FALSE), \"\")","v":""},"","","","",{"$f":"IFERROR(VLOOKUP(G29, الطلبة!$C$5:$H$1000, 6, FALSE), \"\")","v":""}]
["",{"$f":"IF(A30=\"\",\"\",VLOOKUP(C30,بيانات,2))","v":""},"","",{"$f":"IFERROR(VLOOKUP(B30, الطلبة!$C$5:$H$1000, 6, FALSE), \"\")","v":""},"",{"$f":"IF(F30=\"\",\"\",VLOOKUP(H30,بيانات,2))","v":""},"","",{"$f":"IFERROR(VLOOKUP(G30, الطلبة!$C$5:$H$1000, 6, FALSE), \"\")","v":""}]
["",{"$f":"IF(A31=\"\",\"\",VLOOKUP(C31,بيانات,2))","v":""},"","",{"$f":"IFERROR(VLOOKUP(B31, الطلبة!$C$5:$H$1000, 6, FALSE), \"\")","v":""},"",{"$f":"IF(F31=\"\",\"\",VLOOKUP(H31,بيانات,2))","v":""},"","",{"$f":"IFERROR(VLOOKUP(G31, الطلبة!$C$5:$H$1000, 6, FALSE), \"\")","v":""}]
["",{"$f":"IF(A32=\"\",\"\",VLOOKUP(C32,بيانات,2))","v":""},"","",{"$f":"IFERROR(VLOOKUP(B32, الطلبة!$C$5:$H$1000, 6, FALSE), \"\")","v":""},"",{"$f":"IF(F32=\"\",\"\",VLOOKUP(H32,بيانات,2))","v":""},"",""]
["",{"$f":"IF(A33=\"\",\"\",VLOOKUP(C33,بيانات,2))","v":""},"",null,null,"",{"$f":"IF(F33=\"\",\"\",VLOOKUP(H33,بيانات,2))","v":""},"",""]
[null,{"$f":"'بيانات أساسية'!$A$9","v":"رئيس اللجــنة"},{"$f":"H34","v":0},{"$f":"IF(OR(B34=$M$10,B34=$M$11,B34=$M$12,B34=$M$13,B34=$M$14,B34=$M$15,B34=$M$16,B34=$M$17,B34=$M$18,B34=$M$19),\"دمج\",\"\")","v":""},null,null,{"$f":"'بيانات أساسية'!$A$9","v":"رئيس اللجــنة"},null,{"$f":"IF(OR(G34=$M$10,G34=$M$11,G34=$M$12,G34=$M$13,G34=$M$14,G34=$M$15,G34=$M$16,G34=$M$17,G34=$M$18,G34=$M$19),\"دمج\",\"\")","v":""}]
[null,{"$f":"'بيانات أساسية'!$D$9","v":"أ/عزه البدرى"},{"$f":"'بيانات أساسية'!$D$8","v":"أ/ محـــمد سعيـــد"},{"$f":"IF(OR(B35=$M$10,B35=$M$11,B35=$M$12,B35=$M$13,B35=$M$14,B35=$M$15,B35=$M$16,B35=$M$17,B35=$M$18,B35=$M$19),\"دمج\",\"\")","v":""},null,null,{"$f":"'بيانات أساسية'!$D$9","v":"أ/عزه البدرى"},{"$f":"'بيانات أساسية'!$D$8","v":"أ/ محـــمد سعيـــد"},{"$f":"IF(OR(G35=$M$10,G35=$M$11,G35=$M$12,G35=$M$13,G35=$M$14,G35=$M$15,G35=$M$16,G35=$M$17,G35=$M$18,G35=$M$19),\"دمج\",\"\")","v":""}]