{"text_format":"1","workbook":"xlsx","n_sheets":4,"sheets":["الحارس الاول","توزيع الحراس","القاعات","جدول الحراسة"],"not_rendered":{"charts":0,"images":2,"macros":1,"external_links":1,"defined_names":8,"comments":0,"pivot_tables":0},"unopened":[],"bounds":{"document_bytes":16777216,"sheet_cells":100000,"rows_first":2000,"rows_last":500,"rows_between":2000,"halvings":0,"cell_chars":16384,"cell_head_chars":4096},"cells_cut":0,"cells_raw":0,"read":"whole","date_system":"1900"}

{"sheet":"الحارس الاول","index":0,"n_rows":63,"n_cols":23,"rows_kept":63,"cut":false,"hidden":false,"merged":[[0,12,0,13]]}
[null,null,null,null,1,null,null,null,null,null,null,null,"المراقب 1"]
["عدد الفترات","أسماء المراقبين","القاعات","الفترة1","الفترة2","الفترة3","الفترة4","الفترة5","الفترة6","الفترة7","الفترة8","الفترة9","الفترة10","الفترة11","الفترة12","الفترة13","الفترة14","الفترة15","الفترة16","الفترة17","الفترة18","الفترة19","الفترة20"]
[8,"مصطفى1",1,"مصطفى26","مصطفى48","مصطفى27","مصطفى31","مصطفى10","مصطفى5","مصطفى50","مصطفى12","مصطفى32","مصطفى17","مصطفى55","مصطفى37","مصطفى19","مصطفى56","مصطفى11","مصطفى41","مصطفى20","مصطفى35","مصطفى52","مصطفى18"]
[8,"مصطفى2",2,"مصطفى28","مصطفى32","مصطفى33","مصطفى35","مصطفى4","مصطفى40","مصطفى61","مصطفى39","مصطفى18","مصطفى50","مصطفى6","مصطفى38","مصطفى16","مصطفى19","مصطفى60","مصطفى7","مصطفى17","مصطفى3","مصطفى14","مصطفى29"]
[8,"مصطفى3",3,"مصطفى41","مصطفى11","مصطفى3","مصطفى57","مصطفى38","مصطفى35","مصطفى12","مصطفى58","مصطفى13","مصطفى5","مصطفى59","مصطفى18","مصطفى31","مصطفى39","مصطفى52","مصطفى48","مصطفى22","مصطفى28","مصطفى40","مصطفى8"]
[8,"مصطفى4",4,"مصطفى17","مصطفى56","مصطفى26","مصطفى47","مصطفى20","مصطفى52","مصطفى59","مصطفى2","مصطفى23","مصطفى37","مصطفى41","مصطفى10","مصطفى55","مصطفى33","مصطفى3","مصطفى18","مصطفى30","مصطفى43","مصطفى13","مصطفى16"]
[8,"مصطفى5",5,"مصطفى27","مصطفى50","مصطفى40","مصطفى3","مصطفى33","مصطفى19","مصطفى60","مصطفى55","مصطفى28","مصطفى25","مصطفى36","مصطفى43","مصطفى26","مصطفى57","مصطفى56","مصطفى16","مصطفى9","مصطفى14","مصطفى47","مصطفى44"]
[8,"مصطفى6",6,"مصطفى4","مصطفى1","مصطفى5","مصطفى26","مصطفى28","مصطفى42","مصطفى10","مصطفى30","مصطفى57","مصطفى58","مصطفى31","مصطفى32","مصطفى49","مصطفى18","مصطفى29","مصطفى12","مصطفى33","مصطفى24","مصطفى50","مصطفى36"]
[8,"مصطفى7",7,"مصطفى15","مصطفى25","مصطفى17","مصطفى37","مصطفى49","مصطفى55","مصطفى2","مصطفى53","مصطفى30","مصطفى44","مصطفى23","مصطفى26","مصطفى39","مصطفى29","مصطفى14","مصطفى20","مصطفى6","مصطفى7","مصطفى60","مصطفى33"]
[7,"مصطفى8",8,"مصطفى35","مصطفى57","مصطفى36","مصطفى8","مصطفى23","مصطفى41","مصطفى5","مصطفى54","مصطفى51","مصطفى10","مصطفى11","مصطفى39","مصطفى40","مصطفى21","مصطفى22","مصطفى38","مصطفى46","مصطفى60","مصطفى53","مصطفى49"]
[8,"مصطفى9",9,"مصطفى37","مصطفى53","مصطفى19","مصطفى46","مصطفى44","مصطفى25","مصطفى27","مصطفى14","مصطفى21","مصطفى40","مصطفى51","مصطفى12","مصطفى20","مصطفى59","مصطفى50","مصطفى15","مصطفى7","مصطفى5","مصطفى26","مصطفى4"]
[8,"مصطفى10",10,"مصطفى11","مصطفى4","مصطفى56","مصطفى5","مصطفى22","مصطفى39","مصطفى6","مصطفى9","مصطفى26","مصطفى53","مصطفى48","مصطفى25","مصطفى2","مصطفى10","مصطفى21","مصطفى3","مصطفى52","مصطفى47","مصطفى42","مصطفى50"]
[8,"مصطفى11",11,"مصطفى16","مصطفى26","مصطفى57","مصطفى15","مصطفى55","مصطفى13","مصطفى37","مصطفى47","مصطفى19","مصطفى59","مصطفى1","مصطفى49","مصطفى61","مصطفى28","مصطفى45","مصطفى33","مصطفى12","مصطفى46","مصطفى44","مصطفى5"]
[8,"مصطفى12",12,"مصطفى23","مصطفى27","مصطفى12","مصطفى45","مصطفى19","مصطفى29","مصطفى48","مصطفى61","مصطفى58","مصطفى14","مصطفى33","مصطفى42","مصطفى30","مصطفى60","مصطفى43","مصطفى6","مصطفى51","مصطفى34","مصطفى46","مصطفى25"]
[8,"مصطفى13",13,"مصطفى18","مصطفى16","مصطفى54","مصطفى59","مصطفى50","مصطفى47","مصطفى44","مصطفى15","مصطفى61","مصطفى28","مصطفى29","مصطفى55","مصطفى24","مصطفى4","مصطفى40","مصطفى10","مصطفى19","مصطفى1","مصطفى36","مصطفى3"]
[8,"مصطفى14",14,"مصطفى46","مصطفى17","مصطفى13","مصطفى58","مصطفى34","مصطفى43","مصطفى41","مصطفى7","مصطفى22","مصطفى61","مصطفى42","مصطفى3","مصطفى29","مصطفى38","مصطفى33","مصطفى21","مصطفى15","مصطفى6","مصطفى9","مصطفى14"]
[8,"مصطفى15",15,"مصطفى19","مصطفى61","مصطفى41","مصطفى23","مصطفى25","مصطفى21","مصطفى43","مصطفى59","مصطفى14","مصطفى15","مصطفى30","مصطفى13","مصطفى10","مصطفى55","مصطفى24","مصطفى27","مصطفى29","مصطفى16","مصطفى54","مصطفى39"]
[8,"مصطفى16",16,"مصطفى14","مصطفى60","مصطفى38","مصطفى39","مصطفى31","مصطفى1","مصطفى42","مصطفى41","مصطفى11","مصطفى49","مصطفى57","مصطفى9","مصطفى36","مصطفى22","مصطفى5","مصطفى35","مصطفى23","مصطفى10","مصطفى8","مصطفى52"]
[8,"مصطفى17",17,"مصطفى1","مصطفى23","مصطفى34","مصطفى44","مصطفى21","مصطفى48","مصطفى7","مصطفى56","مصطفى38","مصطفى43","مصطفى3","مصطفى4","مصطفى60","مصطفى46","مصطفى2","مصطفى50","مصطفى24","مصطفى37","مصطفى32","مصطفى12"]
[8,"مصطفى18",18,"مصطفى53","مصطفى31","مصطفى28","مصطفى21","مصطفى48","مصطفى4","مصطفى1","مصطفى6","مصطفى2","مصطفى54","مصطفى9","مصطفى15","مصطفى46","مصطفى7","مصطفى20","مصطفى51","مصطفى49","مصطفى41","مصطفى38","مصطفى57"]
[8,"مصطفى19",19,"مصطفى2","مصطفى58","مصطفى4","مصطفى43","مصطفى1","مصطفى24","مصطفى45","مصطفى8","مصطفى44","مصطفى18","مصطفى27","مصطفى57","مصطفى35","مصطفى51","مصطفى46","مصطفى9","مصطفى60","مصطفى30","مصطفى61","مصطفى21"]
[8,"مصطفى20",20,"مصطفى6","مصطفى40","مصطفى35","مصطفى36","مصطفى51","مصطفى2","مصطفى24","مصطفى38","مصطفى20","مصطفى11","مصطفى7","مصطفى54","مصطفى42","مصطفى1","مصطفى49","مصطفى23","مصطفى45","مصطفى31","مصطفى12","مصطفى9"]
[8,"مصطفى21",21,"مصطفى43","مصطفى28","مصطفى25","مصطفى53","مصطفى9","مصطفى6","مصطفى56","مصطفى20","مصطفى55","مصطفى13","مصطفى2","مصطفى7","مصطفى8","مصطفى61","مصطفى58","مصطفى47","مصطفى59","مصطفى15","مصطفى11","مصطفى17"]
[7,"مصطفى22",22,"مصطفى56","مصطفى35","مصطفى8","مصطفى20","مصطفى17","مصطفى11","مصطفى25","مصطفى13","مصطفى40","مصطفى16","مصطفى52","مصطفى27","مصطفى18","مصطفى24","مصطفى54","مصطفى22","مصطفى31","مصطفى29","مصطفى49","مصطفى30"]
[8,"مصطفى23",23,"مصطفى8","مصطفى42","مصطفى16","مصطفى13","مصطفى24","مصطفى17","مصطفى22","مصطفى27","مصطفى47","مصطفى51","مصطفى32","مصطفى30","مصطفى34","مصطفى31","مصطفى53","مصطفى36","مصطفى44","مصطفى39","مصطفى59","مصطفى37"]
[8,"مصطفى24"]
[8,"مصطفى25"]
[8,"مصطفى26"]
[8,"مصطفى27"]
[8,"مصطفى28"]
[8,"مصطفى29"]
[8,"مصطفى30"]
[8,"مصطفى31"]
[5,"مصطفى32"]
[8,"مصطفى33"]
[4,"مصطفى34"]
[8,"مصطفى35"]
[7,"مصطفى36"]
[7,"مصطفى37"]
[8,"مصطفى38"]
[8,"مصطفى39"]
[8,"مصطفى40"]
[8,"مصطفى41"]
[7,"مصطفى42"]
[8,"مصطفى43"]
[8,"مصطفى44"]
[4,"مصطفى45"]
[8,"مصطفى46"]
[7,"مصطفى47"]
[6,"مصطفى48"]
[8,"مصطفى49"]
[8,"مصطفى50"]
[7,"مصطفى51"]
[6,"مصطفى52"]
[7,"مصطفى53"]
[6,"مصطفى54"]
[8,"مصطفى55"]
[7,"مصطفى56"]
[8,"مصطفى57"]
[6,"مصطفى58"]
[8,"مصطفى59"]
[8,"مصطفى60"]
[8,"مصطفى61"]

{"sheet":"توزيع الحراس","index":1,"n_rows":71,"n_cols":48,"rows_kept":71,"cut":false,"hidden":false,"merged":[[0,10,1,17],[4,14,4,16],[3,12,3,13],[3,14,3,16],[4,12,4,13],[4,1,4,11],[7,3,7,4],[4,22,4,25],[5,25,8,25],[3,5,3,8],[7,19,7,20],[5,2,8,2],[5,1,8,1],[6,3,6,6],[5,3,5,6],[7,15,7,16],[5,7,5,10],[7,5,7,6],[7,7,7,8],[7,9,7,10],[4,19,4,21],[5,24,8,24],[7,21,7,22],[5,15,5,18],[6,15,6,18],[5,19,5,22],[6,19,6,22],[6,7,6,10],[5,11,5,14],[6,11,6,14],[7,11,7,12],[7,13,7,14],[5,23,8,23],[7,17,7,18],[2,21,2,24]]}
[null,null,null,"وزارة التربية الوطنية",null,"الجمهورية الجزائرية الديمقراطية الشعبية",null,null,null,null,"توزيع الحراس على القاعات"]
[]
[null,null,null,"مديرية التربية لولاية الوادي",null,null,null,null,null,null,null,null,null,null,null,null,null,null,{"$f":"'جدول الحراسة'!F3","v":"     السنة الدراسية:"},null,null,{"$f":"'جدول الحراسة'!G3","v":"2022/2021"}]
[null,null,null,null,null,{"$f":"'جدول الحراسة'!A4","v":"ثانويـة ................."},null,null,null,null,null,null,"عدد الساعات",null,"البحث عن أستاذ",null,null,null,null,null,null,null,null,null,null,null,null,null,{"$f":"IF(D7=AC6,AD6)","v":false}]
[null,"بـرنامج الحراسة خلال اختبارات الفصل الأول",null,null,null,null,null,null,null,null,null,null,{"$f":"COUNTIF(D10:W38,$O$5)*2","v":0},null,"محمد علي  A",null,null,null,null,"مجموع الأساتذة",null,null,{"$f":"COUNTA(B10:B66)","v":57}]
[null,"المراقب","القاعات",{"$f":"D7","v":"2025-12-07"},null,null,null,{"$f":"H7","v":"2025-12-08"},null,null,null,{"$f":"H7","v":"2025-12-08"},null,null,null,{"$f":"P7","v":"2025-12-10"},null,null,null,{"$f":"T7","v":"2025-12-11"},null,null,null,"ساعات الراحـــــة","الإشـــــراف","ساعات العمـل",null,"IF(C7=AC6;AB6)","الأحد",{"$f":"D7","v":"2025-12-07"}]
[null,null,null,"2025-12-07",null,null,null,{"$f":"D7+1","v":"2025-12-08"},null,null,null,{"$f":"H7+1","v":"2025-12-09"},null,null,null,{"$f":"L7+1","v":"2025-12-10"},null,null,null,{"$f":"P7+1","v":"2025-12-11"},null,null,null,null,null,null,null,null,"الإثنين",{"$f":"#REF!","v":{"$error":"#REF!"}}]
[null,null,null,"صباحا",null,"مساءا",null,"صباحا",null,"مساءا",null,"صباحا",null,"مساءا",null,"صباحا",null,"مساءا",null,"صباحا",null,"مساءا",null,null,null,null,null,null,"الثلاثاء",{"$f":"H7","v":"2025-12-08"}]
[null,null,null,"8:00 10:00","10:00 12:00","13:30 15:30","15:30 16:30 ","8:00 10:00","10:00 12:00","13:30 15:30","15:30 16:30 ","8:00 10:00","10:00 12:00","13:30 15:30","15:30 16:30 ","8:00 10:00","10:00 12:00","13:30 15:30","15:30 16:30 ","8:00 10:00","10:00 12:00","13:30 15:30","15:30 16:30 ",null,null,null,null,null,"الإربعاء",{"$f":"P7","v":"2025-12-10"}]
[{"$f":"IF(B10=\"\",\"\",SUBTOTAL(3,B$10:B10))","v":1},{"$f":"'الحارس الاول'!B3","v":"مصطفى1"},1,{"$f":"'الحارس الاول'!D3","v":"مصطفى26"},{"$f":"'الحارس الاول'!E3","v":"مصطفى48"},{"$f":"'الحارس الاول'!F3","v":"مصطفى27"},{"$f":"'الحارس الاول'!G3","v":"مصطفى31"},{"$f":"'الحارس الاول'!H3","v":"مصطفى10"},{"$f":"'الحارس الاول'!I3","v":"مصطفى5"},{"$f":"'الحارس الاول'!J3","v":"مصطفى50"},{"$f":"'الحارس الاول'!K3","v":"مصطفى12"},{"$f":"'الحارس الاول'!L3","v":"مصطفى32"},{"$f":"'الحارس الاول'!M3","v":"مصطفى17"},{"$f":"'الحارس الاول'!N3","v":"مصطفى55"},{"$f":"'الحارس الاول'!O3","v":"مصطفى37"},{"$f":"'الحارس الاول'!P3","v":"مصطفى19"},{"$f":"'الحارس الاول'!Q3","v":"مصطفى56"},{"$f":"'الحارس الاول'!R3","v":"مصطفى11"},{"$f":"'الحارس الاول'!S3","v":"مصطفى41"},{"$f":"'الحارس الاول'!T3","v":"مصطفى20"},{"$f":"'الحارس الاول'!U3","v":"مصطفى35"},{"$f":"'الحارس الاول'!V3","v":"مصطفى52"},{"$f":"'الحارس الاول'!W3","v":"مصطفى18"},{"$f":"COUNTBLANK($D10:$W10)","v":0},{"$f":"COUNTIF(D10:W10,\"إشراف\")","v":0},{"$f":"COUNTA(D10:W10)*2","v":40},null,null,"الخميس",{"$f":"T7","v":"2025-12-11"},null,null,null,null,null,null,null,null,null,null,null,null,null,null,null,"A",{"$f":"B10","v":"مصطفى1"},"محمد علي  A"]
[{"$f":"IF(B11=\"\",\"\",SUBTOTAL(3,B$10:B11))","v":2},{"$f":"'الحارس الاول'!B4","v":"مصطفى2"},2,{"$f":"'الحارس الاول'!D4","v":"مصطفى28"},{"$f":"'الحارس الاول'!E4","v":"مصطفى32"},{"$f":"'الحارس الاول'!F4","v":"مصطفى33"},{"$f":"'الحارس الاول'!G4","v":"مصطفى35"},{"$f":"'الحارس الاول'!H4","v":"مصطفى4"},{"$f":"'الحارس الاول'!I4","v":"مصطفى40"},{"$f":"'الحارس الاول'!J4","v":"مصطفى61"},{"$f":"'الحارس الاول'!K4","v":"مصطفى39"},{"$f":"'الحارس الاول'!L4","v":"مصطفى18"},{"$f":"'الحارس الاول'!M4","v":"مصطفى50"},{"$f":"'الحارس الاول'!N4","v":"مصطفى6"},{"$f":"'الحارس الاول'!O4","v":"مصطفى38"},{"$f":"'الحارس الاول'!P4","v":"مصطفى16"},{"$f":"'الحارس الاول'!Q4","v":"مصطفى19"},{"$f":"'الحارس الاول'!R4","v":"مصطفى60"},{"$f":"'الحارس الاول'!S4","v":"مصطفى7"},{"$f":"'الحارس الاول'!T4","v":"مصطفى17"},{"$f":"'الحارس الاول'!U4","v":"مصطفى3"},{"$f":"'الحارس الاول'!V4","v":"مصطفى14"},{"$f":"'الحارس الاول'!W4","v":"مصطفى29"},{"$f":"COUNTBLANK($D11:$W11)","v":0},{"$f":"COUNTIF(D11:W11,\"إشراف\")","v":0},{"$f":"COUNTA(D11:W11)*2","v":40},null,null,null,null,null,null,null,null,null,null,null,null,null,null,null,null,null,null,null,"B",{"$f":"B11","v":"مصطفى2"},"محمد علي  B"]
[{"$f":"IF(B12=\"\",\"\",SUBTOTAL(3,B$10:B12))","v":3},{"$f":"'الحارس الاول'!B5","v":"مصطفى3"},3,{"$f":"'الحارس الاول'!D5","v":"مصطفى41"},{"$f":"'الحارس الاول'!E5","v":"مصطفى11"},{"$f":"'الحارس الاول'!F5","v":"مصطفى3"},{"$f":"'الحارس الاول'!G5","v":"مصطفى57"},{"$f":"'الحارس الاول'!H5","v":"مصطفى38"},{"$f":"'الحارس الاول'!I5","v":"مصطفى35"},{"$f":"'الحارس الاول'!J5","v":"مصطفى12"},{"$f":"'الحارس الاول'!K5","v":"مصطفى58"},{"$f":"'الحارس الاول'!L5","v":"مصطفى13"},{"$f":"'الحارس الاول'!M5","v":"مصطفى5"},{"$f":"'الحارس الاول'!N5","v":"مصطفى59"},{"$f":"'الحارس الاول'!O5","v":"مصطفى18"},{"$f":"'الحارس الاول'!P5","v":"مصطفى31"},{"$f":"'الحارس الاول'!Q5","v":"مصطفى39"},{"$f":"'الحارس الاول'!R5","v":"مصطفى52"},{"$f":"'الحارس الاول'!S5","v":"مصطفى48"},{"$f":"'الحارس الاول'!T5","v":"مصطفى22"},{"$f":"'الحارس الاول'!U5","v":"مصطفى28"},{"$f":"'الحارس الاول'!V5","v":"مصطفى40"},{"$f":"'الحارس الاول'!W5","v":"مصطفى8"},{"$f":"COUNTBLANK($D12:$W12)","v":0},{"$f":"COUNTIF(D12:W12,\"إشراف\")","v":0},{"$f":"COUNTA(D12:W12)*2","v":40},null,null,null,null,null,null,null,null,null,null,null,null,null,null,null,null,null,null,null,"C","مصطفى3","محمد علي  C"]
[{"$f":"IF(B13=\"\",\"\",SUBTOTAL(3,B$10:B13))","v":4},{"$f":"'الحارس الاول'!B6","v":"مصطفى4"},4,{"$f":"'الحارس الاول'!D6","v":"مصطفى17"},{"$f":"'الحارس الاول'!E6","v":"مصطفى56"},{"$f":"'الحارس الاول'!F6","v":"مصطفى26"},{"$f":"'الحارس الاول'!G6","v":"مصطفى47"},{"$f":"'الحارس الاول'!H6","v":"مصطفى20"},{"$f":"'الحارس الاول'!I6","v":"مصطفى52"},{"$f":"'الحارس الاول'!J6","v":"مصطفى59"},{"$f":"'الحارس الاول'!K6","v":"مصطفى2"},{"$f":"'الحارس الاول'!L6","v":"مصطفى23"},{"$f":"'الحارس الاول'!M6","v":"مصطفى37"},{"$f":"'الحارس الاول'!N6","v":"مصطفى41"},{"$f":"'الحارس الاول'!O6","v":"مصطفى10"},{"$f":"'الحارس الاول'!P6","v":"مصطفى55"},{"$f":"'الحارس الاول'!Q6","v":"مصطفى33"},{"$f":"'الحارس الاول'!R6","v":"مصطفى3"},{"$f":"'الحارس الاول'!S6","v":"مصطفى18"},{"$f":"'الحارس الاول'!T6","v":"مصطفى30"},{"$f":"'الحارس الاول'!U6","v":"مصطفى43"},{"$f":"'الحارس الاول'!V6","v":"مصطفى13"},{"$f":"'الحارس الاول'!W6","v":"مصطفى16"},{"$f":"COUNTBLANK($D13:$W13)","v":0},{"$f":"COUNTIF(D13:W13,\"إشراف\")","v":0},{"$f":"COUNTA(D13:W13)*2","v":40},null,null,null,null,null,null,null,null,null,null,null,null,null,null,null,null,null,null,null,"D","مصطفى4","محمد علي  D"]
[{"$f":"IF(B14=\"\",\"\",SUBTOTAL(3,B$10:B14))","v":5},{"$f":"'الحارس الاول'!B7","v":"مصطفى5"},5,{"$f":"'الحارس الاول'!D7","v":"مصطفى27"},{"$f":"'الحارس الاول'!E7","v":"مصطفى50"},{"$f":"'الحارس الاول'!F7","v":"مصطفى40"},{"$f":"'الحارس الاول'!G7","v":"مصطفى3"},{"$f":"'الحارس الاول'!H7","v":"مصطفى33"},{"$f":"'الحارس الاول'!I7","v":"مصطفى19"},{"$f":"'الحارس الاول'!J7","v":"مصطفى60"},{"$f":"'الحارس الاول'!K7","v":"مصطفى55"},{"$f":"'الحارس الاول'!L7","v":"مصطفى28"},{"$f":"'الحارس الاول'!M7","v":"مصطفى25"},{"$f":"'الحارس الاول'!N7","v":"مصطفى36"},{"$f":"'الحارس الاول'!O7","v":"مصطفى43"},{"$f":"'الحارس الاول'!P7","v":"مصطفى26"},{"$f":"'الحارس الاول'!Q7","v":"مصطفى57"},{"$f":"'الحارس الاول'!R7","v":"مصطفى56"},{"$f":"'الحارس الاول'!S7","v":"مصطفى16"},{"$f":"'الحارس الاول'!T7","v":"مصطفى9"},{"$f":"'الحارس الاول'!U7","v":"مصطفى14"},{"$f":"'الحارس الاول'!V7","v":"مصطفى47"},{"$f":"'الحارس الاول'!W7","v":"مصطفى44"},{"$f":"COUNTBLANK($D14:$W14)","v":0},{"$f":"COUNTIF(D14:W14,\"إشراف\")","v":0},{"$f":"COUNTA(D14:W14)*2","v":40},null,null,null,null,null,null,null,null,null,null,null,null,null,null,null,null,null,null,null,"E","مصطفى5","محمد علي  E"]
[{"$f":"IF(B15=\"\",\"\",SUBTOTAL(3,B$10:B15))","v":6},{"$f":"'الحارس الاول'!B8","v":"مصطفى6"},6,{"$f":"'الحارس الاول'!D8","v":"مصطفى4"},{"$f":"'الحارس الاول'!E8","v":"مصطفى1"},{"$f":"'الحارس الاول'!F8","v":"مصطفى5"},{"$f":"'الحارس الاول'!G8","v":"مصطفى26"},{"$f":"'الحارس الاول'!H8","v":"مصطفى28"},{"$f":"'الحارس الاول'!I8","v":"مصطفى42"},{"$f":"'الحارس الاول'!J8","v":"مصطفى10"},{"$f":"'الحارس الاول'!K8","v":"مصطفى30"},{"$f":"'الحارس الاول'!L8","v":"مصطفى57"},{"$f":"'الحارس الاول'!M8","v":"مصطفى58"},{"$f":"'الحارس الاول'!N8","v":"مصطفى31"},{"$f":"'الحارس الاول'!O8","v":"مصطفى32"},{"$f":"'الحارس الاول'!P8","v":"مصطفى49"},{"$f":"'الحارس الاول'!Q8","v":"مصطفى18"},{"$f":"'الحارس الاول'!R8","v":"مصطفى29"},{"$f":"'الحارس الاول'!S8","v":"مصطفى12"},{"$f":"'الحارس الاول'!T8","v":"مصطفى33"},{"$f":"'الحارس الاول'!U8","v":"مصطفى24"},{"$f":"'الحارس الاول'!V8","v":"مصطفى50"},{"$f":"'الحارس الاول'!W8","v":"مصطفى36"},{"$f":"COUNTBLANK($D15:$W15)","v":0},{"$f":"COUNTIF(D15:W15,\"إشراف\")","v":0},{"$f":"COUNTA(D15:W15)*2","v":40},null,null,null,null,null,null,null,null,null,null,null,null,null,null,null,null,null,null,null,"F","مصطفى6","محمد علي  F"]
[{"$f":"IF(B16=\"\",\"\",SUBTOTAL(3,B$10:B16))","v":7},{"$f":"'الحارس الاول'!B9","v":"مصطفى7"},7,{"$f":"'الحارس الاول'!D9","v":"مصطفى15"},{"$f":"'الحارس الاول'!E9","v":"مصطفى25"},{"$f":"'الحارس الاول'!F9","v":"مصطفى17"},{"$f":"'الحارس الاول'!G9","v":"مصطفى37"},{"$f":"'الحارس الاول'!H9","v":"مصطفى49"},{"$f":"'الحارس الاول'!I9","v":"مصطفى55"},{"$f":"'الحارس الاول'!J9","v":"مصطفى2"},{"$f":"'الحارس الاول'!K9","v":"مصطفى53"},{"$f":"'الحارس الاول'!L9","v":"مصطفى30"},{"$f":"'الحارس الاول'!M9","v":"مصطفى44"},{"$f":"'الحارس الاول'!N9","v":"مصطفى23"},{"$f":"'الحارس الاول'!O9","v":"مصطفى26"},{"$f":"'الحارس الاول'!P9","v":"مصطفى39"},{"$f":"'الحارس الاول'!Q9","v":"مصطفى29"},{"$f":"'الحارس الاول'!R9","v":"مصطفى14"},{"$f":"'الحارس الاول'!S9","v":"مصطفى20"},{"$f":"'الحارس الاول'!T9","v":"مصطفى6"},{"$f":"'الحارس الاول'!U9","v":"مصطفى7"},{"$f":"'الحارس الاول'!V9","v":"مصطفى60"},{"$f":"'الحارس الاول'!W9","v":"مصطفى33"},{"$f":"COUNTBLANK($D16:$W16)","v":0},{"$f":"COUNTIF(D16:W16,\"إشراف\")","v":0},{"$f":"COUNTA(D16:W16)*2","v":40},null,null,null,null,null,null,null,null,null,null,null,null,null,null,null,null,null,null,null,"G","مصطفى7","محمد علي  G"]
[{"$f":"IF(B17=\"\",\"\",SUBTOTAL(3,B$10:B17))","v":8},{"$f":"'الحارس الاول'!B10","v":"مصطفى8"},8,{"$f":"'الحارس الاول'!D10","v":"مصطفى35"},{"$f":"'الحارس الاول'!E10","v":"مصطفى57"},{"$f":"'الحارس الاول'!F10","v":"مصطفى36"},{"$f":"'الحارس الاول'!G10","v":"مصطفى8"},{"$f":"'الحارس الاول'!H10","v":"مصطفى23"},{"$f":"'الحارس الاول'!I10","v":"مصطفى41"},{"$f":"'الحارس الاول'!J10","v":"مصطفى5"},{"$f":"'الحارس الاول'!K10","v":"مصطفى54"},{"$f":"'الحارس الاول'!L10","v":"مصطفى51"},{"$f":"'الحارس الاول'!M10","v":"مصطفى10"},{"$f":"'الحارس الاول'!N10","v":"مصطفى11"},{"$f":"'الحارس الاول'!O10","v":"مصطفى39"},{"$f":"'الحارس الاول'!P10","v":"مصطفى40"},{"$f":"'الحارس الاول'!Q10","v":"مصطفى21"},{"$f":"'الحارس الاول'!R10","v":"مصطفى22"},{"$f":"'الحارس الاول'!S10","v":"مصطفى38"},{"$f":"'الحارس الاول'!T10","v":"مصطفى46"},{"$f":"'الحارس الاول'!U10","v":"مصطفى60"},{"$f":"'الحارس الاول'!V10","v":"مصطفى53"},{"$f":"'الحارس الاول'!W10","v":"مصطفى49"},{"$f":"COUNTBLANK($D17:$W17)","v":0},{"$f":"COUNTIF(D17:W17,\"إشراف\")","v":0},{"$f":"COUNTA(D17:W17)*2","v":40},null,null,null,null,null,null,null,null,null,null,null,null,null,null,null,null,null,null,null,"H","مصطفى8","محمد علي  H"]
[{"$f":"IF(B18=\"\",\"\",SUBTOTAL(3,B$10:B18))","v":9},{"$f":"'الحارس الاول'!B11","v":"مصطفى9"},9,{"$f":"'الحارس الاول'!D11","v":"مصطفى37"},{"$f":"'الحارس الاول'!E11","v":"مصطفى53"},{"$f":"'الحارس الاول'!F11","v":"مصطفى19"},{"$f":"'الحارس الاول'!G11","v":"مصطفى46"},{"$f":"'الحارس الاول'!H11","v":"مصطفى44"},{"$f":"'الحارس الاول'!I11","v":"مصطفى25"},{"$f":"'الحارس الاول'!J11","v":"مصطفى27"},{"$f":"'الحارس الاول'!K11","v":"مصطفى14"},{"$f":"'الحارس الاول'!L11","v":"مصطفى21"},{"$f":"'الحارس الاول'!M11","v":"مصطفى40"},{"$f":"'الحارس الاول'!N11","v":"مصطفى51"},{"$f":"'الحارس الاول'!O11","v":"مصطفى12"},{"$f":"'الحارس الاول'!P11","v":"مصطفى20"},{"$f":"'الحارس الاول'!Q11","v":"مصطفى59"},{"$f":"'الحارس الاول'!R11","v":"مصطفى50"},{"$f":"'الحارس الاول'!S11","v":"مصطفى15"},{"$f":"'الحارس الاول'!T11","v":"مصطفى7"},{"$f":"'الحارس الاول'!U11","v":"مصطفى5"},{"$f":"'الحارس الاول'!V11","v":"مصطفى26"},{"$f":"'الحارس الاول'!W11","v":"مصطفى4"},{"$f":"COUNTBLANK($D18:$W18)","v":0},{"$f":"COUNTIF(D18:W18,\"إشراف\")","v":0},{"$f":"COUNTA(D18:W18)*2","v":40},null,null,null,null,null,null,null,null,null,null,null,null,null,null,null,null,null,null,null,"I","مصطفى9","محمد علي  I"]
[{"$f":"IF(B19=\"\",\"\",SUBTOTAL(3,B$10:B19))","v":10},{"$f":"'الحارس الاول'!B12","v":"مصطفى10"},10,{"$f":"'الحارس الاول'!D12","v":"مصطفى11"},{"$f":"'الحارس الاول'!E12","v":"مصطفى4"},{"$f":"'الحارس الاول'!F12","v":"مصطفى56"},{"$f":"'الحارس الاول'!G12","v":"مصطفى5"},{"$f":"'الحارس الاول'!H12","v":"مصطفى22"},{"$f":"'الحارس الاول'!I12","v":"مصطفى39"},{"$f":"'الحارس الاول'!J12","v":"مصطفى6"},{"$f":"'الحارس الاول'!K12","v":"مصطفى9"},{"$f":"'الحارس الاول'!L12","v":"مصطفى26"},{"$f":"'الحارس الاول'!M12","v":"مصطفى53"},{"$f":"'الحارس الاول'!N12","v":"مصطفى48"},{"$f":"'الحارس الاول'!O12","v":"مصطفى25"},{"$f":"'الحارس الاول'!P12","v":"مصطفى2"},{"$f":"'الحارس الاول'!Q12","v":"مصطفى10"},{"$f":"'الحارس الاول'!R12","v":"مصطفى21"},{"$f":"'الحارس الاول'!S12","v":"مصطفى3"},{"$f":"'الحارس الاول'!T12","v":"مصطفى52"},{"$f":"'الحارس الاول'!U12","v":"مصطفى47"},{"$f":"'الحارس الاول'!V12","v":"مصطفى42"},{"$f":"'الحارس الاول'!W12","v":"مصطفى50"},{"$f":"COUNTBLANK($D19:$W19)","v":0},{"$f":"COUNTIF(D19:W19,\"إشراف\")","v":0},{"$f":"COUNTA(D19:W19)*2","v":40},null,null,null,null,null,null,null,null,null,null,null,null,null,null,null,null,null,null,null,"J","مصطفى10","محمد علي  J"]
[{"$f":"IF(B20=\"\",\"\",SUBTOTAL(3,B$10:B20))","v":11},{"$f":"'الحارس الاول'!B13","v":"مصطفى11"},11,{"$f":"'الحارس الاول'!D13","v":"مصطفى16"},{"$f":"'الحارس الاول'!E13","v":"مصطفى26"},{"$f":"'الحارس الاول'!F13","v":"مصطفى57"},{"$f":"'الحارس الاول'!G13","v":"مصطفى15"},{"$f":"'الحارس الاول'!H13","v":"مصطفى55"},{"$f":"'الحارس الاول'!I13","v":"مصطفى13"},{"$f":"'الحارس الاول'!J13","v":"مصطفى37"},{"$f":"'الحارس الاول'!K13","v":"مصطفى47"},{"$f":"'الحارس الاول'!L13","v":"مصطفى19"},{"$f":"'الحارس الاول'!M13","v":"مصطفى59"},{"$f":"'الحارس الاول'!N13","v":"مصطفى1"},{"$f":"'الحارس الاول'!O13","v":"مصطفى49"},{"$f":"'الحارس الاول'!P13","v":"مصطفى61"},{"$f":"'الحارس الاول'!Q13","v":"مصطفى28"},{"$f":"'الحارس الاول'!R13","v":"مصطفى45"},{"$f":"'الحارس الاول'!S13","v":"مصطفى33"},{"$f":"'الحارس الاول'!T13","v":"مصطفى12"},{"$f":"'الحارس الاول'!U13","v":"مصطفى46"},{"$f":"'الحارس الاول'!V13","v":"مصطفى44"},{"$f":"'الحارس الاول'!W13","v":"مصطفى5"},{"$f":"COUNTBLANK($D20:$W20)","v":0},{"$f":"COUNTIF(D20:W20,\"إشراف\")","v":0},{"$f":"COUNTA(D20:W20)*2","v":40},null,null,null,null,null,null,null,null,null,null,null,null,null,null,null,null,null,null,null,"K","مصطفى11","محمد علي  K"]
[{"$f":"IF(B21=\"\",\"\",SUBTOTAL(3,B$10:B21))","v":12},{"$f":"'الحارس الاول'!B14","v":"مصطفى12"},12,{"$f":"'الحارس الاول'!D14","v":"مصطفى23"},{"$f":"'الحارس الاول'!E14","v":"مصطفى27"},{"$f":"'الحارس الاول'!F14","v":"مصطفى12"},{"$f":"'الحارس الاول'!G14","v":"مصطفى45"},{"$f":"'الحارس الاول'!H14","v":"مصطفى19"},{"$f":"'الحارس الاول'!I14","v":"مصطفى29"},{"$f":"'الحارس الاول'!J14","v":"مصطفى48"},{"$f":"'الحارس الاول'!K14","v":"مصطفى61"},{"$f":"'الحارس الاول'!L14","v":"مصطفى58"},{"$f":"'الحارس الاول'!M14","v":"مصطفى14"},{"$f":"'الحارس الاول'!N14","v":"مصطفى33"},{"$f":"'الحارس الاول'!O14","v":"مصطفى42"},{"$f":"'الحارس الاول'!P14","v":"مصطفى30"},{"$f":"'الحارس الاول'!Q14","v":"مصطفى60"},{"$f":"'الحارس الاول'!R14","v":"مصطفى43"},{"$f":"'الحارس الاول'!S14","v":"مصطفى6"},{"$f":"'الحارس الاول'!T14","v":"مصطفى51"},{"$f":"'الحارس الاول'!U14","v":"مصطفى34"},{"$f":"'الحارس الاول'!V14","v":"مصطفى46"},{"$f":"'الحارس الاول'!W14","v":"مصطفى25"},{"$f":"COUNTBLANK($D21:$W21)","v":0},{"$f":"COUNTIF(D21:W21,\"إشراف\")","v":0},{"$f":"COUNTA(D21:W21)*2","v":40},null,null,null,null,null,null,null,null,null,null,null,null,null,null,null,null,null,null,null,"L","مصطفى12","محمد علي  L"]
[{"$f":"IF(B22=\"\",\"\",SUBTOTAL(3,B$10:B22))","v":13},{"$f":"'الحارس الاول'!B15","v":"مصطفى13"},13,{"$f":"'الحارس الاول'!D15","v":"مصطفى18"},{"$f":"'الحارس الاول'!E15","v":"مصطفى16"},{"$f":"'الحارس الاول'!F15","v":"مصطفى54"},{"$f":"'الحارس الاول'!G15","v":"مصطفى59"},{"$f":"'الحارس الاول'!H15","v":"مصطفى50"},{"$f":"'الحارس الاول'!I15","v":"مصطفى47"},{"$f":"'الحارس الاول'!J15","v":"مصطفى44"},{"$f":"'الحارس الاول'!K15","v":"مصطفى15"},{"$f":"'الحارس الاول'!L15","v":"مصطفى61"},{"$f":"'الحارس الاول'!M15","v":"مصطفى28"},{"$f":"'الحارس الاول'!N15","v":"مصطفى29"},{"$f":"'الحارس الاول'!O15","v":"مصطفى55"},{"$f":"'الحارس الاول'!P15","v":"مصطفى24"},{"$f":"'الحارس الاول'!Q15","v":"مصطفى4"},{"$f":"'الحارس الاول'!R15","v":"مصطفى40"},{"$f":"'الحارس الاول'!S15","v":"مصطفى10"},{"$f":"'الحارس الاول'!T15","v":"مصطفى19"},{"$f":"'الحارس الاول'!U15","v":"مصطفى1"},{"$f":"'الحارس الاول'!V15","v":"مصطفى36"},{"$f":"'الحارس الاول'!W15","v":"مصطفى3"},{"$f":"COUNTBLANK($D22:$W22)","v":0},{"$f":"COUNTIF(D22:W22,\"إشراف\")","v":0},{"$f":"COUNTA(D22:W22)*2","v":40},null,null,null,null,null,null,null,null,null,null,null,null,null,null,null,null,null,null,null,"M","مصطفى13","محمد علي  M"]
[{"$f":"IF(B23=\"\",\"\",SUBTOTAL(3,B$10:B23))","v":14},{"$f":"'الحارس الاول'!B16","v":"مصطفى14"},14,{"$f":"'الحارس الاول'!D16","v":"مصطفى46"},{"$f":"'الحارس الاول'!E16","v":"مصطفى17"},{"$f":"'الحارس الاول'!F16","v":"مصطفى13"},{"$f":"'الحارس الاول'!G16","v":"مصطفى58"},{"$f":"'الحارس الاول'!H16","v":"مصطفى34"},{"$f":"'الحارس الاول'!I16","v":"مصطفى43"},{"$f":"'الحارس الاول'!J16","v":"مصطفى41"},{"$f":"'الحارس الاول'!K16","v":"مصطفى7"},{"$f":"'الحارس الاول'!L16","v":"مصطفى22"},{"$f":"'الحارس الاول'!M16","v":"مصطفى61"},{"$f":"'الحارس الاول'!N16","v":"مصطفى42"},{"$f":"'الحارس الاول'!O16","v":"مصطفى3"},{"$f":"'الحارس الاول'!P16","v":"مصطفى29"},{"$f":"'الحارس الاول'!Q16","v":"مصطفى38"},{"$f":"'الحارس الاول'!R16","v":"مصطفى33"},{"$f":"'الحارس الاول'!S16","v":"مصطفى21"},{"$f":"'الحارس الاول'!T16","v":"مصطفى15"},{"$f":"'الحارس الاول'!U16","v":"مصطفى6"},{"$f":"'الحارس الاول'!V16","v":"مصطفى9"},{"$f":"'الحارس الاول'!W16","v":"مصطفى14"},{"$f":"COUNTBLANK($D23:$W23)","v":0},{"$f":"COUNTIF(D23:W23,\"إشراف\")","v":0},{"$f":"COUNTA(D23:W23)*2","v":40},null,null,null,null,null,null,null,null,null,null,null,null,null,null,null,null,null,null,null,"N","مصطفى14","محمد علي  N"]
[{"$f":"IF(B24=\"\",\"\",SUBTOTAL(3,B$10:B24))","v":15},{"$f":"'الحارس الاول'!B17","v":"مصطفى15"},15,{"$f":"'الحارس الاول'!D17","v":"مصطفى19"},{"$f":"'الحارس الاول'!E17","v":"مصطفى61"},{"$f":"'الحارس الاول'!F17","v":"مصطفى41"},{"$f":"'الحارس الاول'!G17","v":"مصطفى23"},{"$f":"'الحارس الاول'!H17","v":"مصطفى25"},{"$f":"'الحارس الاول'!I17","v":"مصطفى21"},{"$f":"'الحارس الاول'!J17","v":"مصطفى43"},{"$f":"'الحارس الاول'!K17","v":"مصطفى59"},{"$f":"'الحارس الاول'!L17","v":"مصطفى14"},{"$f":"'الحارس الاول'!M17","v":"مصطفى15"},{"$f":"'الحارس الاول'!N17","v":"مصطفى30"},{"$f":"'الحارس الاول'!O17","v":"مصطفى13"},{"$f":"'الحارس الاول'!P17","v":"مصطفى10"},{"$f":"'الحارس الاول'!Q17","v":"مصطفى55"},{"$f":"'الحارس الاول'!R17","v":"مصطفى24"},{"$f":"'الحارس الاول'!S17","v":"مصطفى27"},{"$f":"'الحارس الاول'!T17","v":"مصطفى29"},{"$f":"'الحارس الاول'!U17","v":"مصطفى16"},{"$f":"'الحارس الاول'!V17","v":"مصطفى54"},{"$f":"'الحارس الاول'!W17","v":"مصطفى39"},{"$f":"COUNTBLANK($D24:$W24)","v":0},{"$f":"COUNTIF(D24:W24,\"إشراف\")","v":0},{"$f":"COUNTA(D24:W24)*2","v":40},null,null,null,null,null,null,null,null,null,null,null,null,null,null,null,null,null,null,null,"O","مصطفى15","محمد علي  O"]
[{"$f":"IF(B25=\"\",\"\",SUBTOTAL(3,B$10:B25))","v":16},{"$f":"'الحارس الاول'!B18","v":"مصطفى16"},16,{"$f":"'الحارس الاول'!D18","v":"مصطفى14"},{"$f":"'الحارس الاول'!E18","v":"مصطفى60"},{"$f":"'الحارس الاول'!F18","v":"مصطفى38"},{"$f":"'الحارس الاول'!G18","v":"مصطفى39"},{"$f":"'الحارس الاول'!H18","v":"مصطفى31"},{"$f":"'الحارس الاول'!I18","v":"مصطفى1"},{"$f":"'الحارس الاول'!J18","v":"مصطفى42"},{"$f":"'الحارس الاول'!K18","v":"مصطفى41"},{"$f":"'الحارس الاول'!L18","v":"مصطفى11"},{"$f":"'الحارس الاول'!M18","v":"مصطفى49"},{"$f":"'الحارس الاول'!N18","v":"مصطفى57"},{"$f":"'الحارس الاول'!O18","v":"مصطفى9"},{"$f":"'الحارس الاول'!P18","v":"مصطفى36"},{"$f":"'الحارس الاول'!Q18","v":"مصطفى22"},{"$f":"'الحارس الاول'!R18","v":"مصطفى5"},{"$f":"'الحارس الاول'!S18","v":"مصطفى35"},{"$f":"'الحارس الاول'!T18","v":"مصطفى23"},{"$f":"'الحارس الاول'!U18","v":"مصطفى10"},{"$f":"'الحارس الاول'!V18","v":"مصطفى8"},{"$f":"'الحارس الاول'!W18","v":"مصطفى52"},{"$f":"COUNTBLANK($D25:$W25)","v":0},{"$f":"COUNTIF(D25:W25,\"إشراف\")","v":0},{"$f":"COUNTA(D25:W25)*2","v":40},null,null,null,null,null,null,null,null,null,null,null,null,null,null,null,null,null,null,null,"P","مصطفى16","محمد علي  P"]
[{"$f":"IF(B26=\"\",\"\",SUBTOTAL(3,B$10:B26))","v":17},{"$f":"'الحارس الاول'!B19","v":"مصطفى17"},17,{"$f":"'الحارس الاول'!D19","v":"مصطفى1"},{"$f":"'الحارس الاول'!E19","v":"مصطفى23"},{"$f":"'الحارس الاول'!F19","v":"مصطفى34"},{"$f":"'الحارس الاول'!G19","v":"مصطفى44"},{"$f":"'الحارس الاول'!H19","v":"مصطفى21"},{"$f":"'الحارس الاول'!I19","v":"مصطفى48"},{"$f":"'الحارس الاول'!J19","v":"مصطفى7"},{"$f":"'الحارس الاول'!K19","v":"مصطفى56"},{"$f":"'الحارس الاول'!L19","v":"مصطفى38"},{"$f":"'الحارس الاول'!M19","v":"مصطفى43"},{"$f":"'الحارس الاول'!N19","v":"مصطفى3"},{"$f":"'الحارس الاول'!O19","v":"مصطفى4"},{"$f":"'الحارس الاول'!P19","v":"مصطفى60"},{"$f":"'الحارس الاول'!Q19","v":"مصطفى46"},{"$f":"'الحارس الاول'!R19","v":"مصطفى2"},{"$f":"'الحارس الاول'!S19","v":"مصطفى50"},{"$f":"'الحارس الاول'!T19","v":"مصطفى24"},{"$f":"'الحارس الاول'!U19","v":"مصطفى37"},{"$f":"'الحارس الاول'!V19","v":"مصطفى32"},{"$f":"'الحارس الاول'!W19","v":"مصطفى12"},{"$f":"COUNTBLANK($D26:$W26)","v":0},{"$f":"COUNTIF(D26:W26,\"إشراف\")","v":0},{"$f":"COUNTA(D26:W26)*2","v":40},null,null,null,null,null,null,null,null,null,null,null,null,null,null,null,null,null,null,null,"Q","مصطفى17","محمد علي  Q"]
[{"$f":"IF(B27=\"\",\"\",SUBTOTAL(3,B$10:B27))","v":18},{"$f":"'الحارس الاول'!B20","v":"مصطفى18"},18,{"$f":"'الحارس الاول'!D20","v":"مصطفى53"},{"$f":"'الحارس الاول'!E20","v":"مصطفى31"},{"$f":"'الحارس الاول'!F20","v":"مصطفى28"},{"$f":"'الحارس الاول'!G20","v":"مصطفى21"},{"$f":"'الحارس الاول'!H20","v":"مصطفى48"},{"$f":"'الحارس الاول'!I20","v":"مصطفى4"},{"$f":"'الحارس الاول'!J20","v":"مصطفى1"},{"$f":"'الحارس الاول'!K20","v":"مصطفى6"},{"$f":"'الحارس الاول'!L20","v":"مصطفى2"},{"$f":"'الحارس الاول'!M20","v":"مصطفى54"},{"$f":"'الحارس الاول'!N20","v":"مصطفى9"},{"$f":"'الحارس الاول'!O20","v":"مصطفى15"},{"$f":"'الحارس الاول'!P20","v":"مصطفى46"},{"$f":"'الحارس الاول'!Q20","v":"مصطفى7"},{"$f":"'الحارس الاول'!R20","v":"مصطفى20"},{"$f":"'الحارس الاول'!S20","v":"مصطفى51"},{"$f":"'الحارس الاول'!T20","v":"مصطفى49"},{"$f":"'الحارس الاول'!U20","v":"مصطفى41"},{"$f":"'الحارس الاول'!V20","v":"مصطفى38"},{"$f":"'الحارس الاول'!W20","v":"مصطفى57"},{"$f":"COUNTBLANK($D27:$W27)","v":0},{"$f":"COUNTIF(D27:W27,\"إشراف\")","v":0},{"$f":"COUNTA(D27:W27)*2","v":40},null,null,null,null,null,null,null,null,null,null,null,null,null,null,null,null,null,null,null,"R","مصطفى18","محمد علي  R"]
[{"$f":"IF(B28=\"\",\"\",SUBTOTAL(3,B$10:B28))","v":19},{"$f":"'الحارس الاول'!B21","v":"مصطفى19"},19,{"$f":"'الحارس الاول'!D21","v":"مصطفى2"},{"$f":"'الحارس الاول'!E21","v":"مصطفى58"},{"$f":"'الحارس الاول'!F21","v":"مصطفى4"},{"$f":"'الحارس الاول'!G21","v":"مصطفى43"},{"$f":"'الحارس الاول'!H21","v":"مصطفى1"},{"$f":"'الحارس الاول'!I21","v":"مصطفى24"},{"$f":"'الحارس الاول'!J21","v":"مصطفى45"},{"$f":"'الحارس الاول'!K21","v":"مصطفى8"},{"$f":"'الحارس الاول'!L21","v":"مصطفى44"},{"$f":"'الحارس الاول'!M21","v":"مصطفى18"},{"$f":"'الحارس الاول'!N21","v":"مصطفى27"},{"$f":"'الحارس الاول'!O21","v":"مصطفى57"},{"$f":"'الحارس الاول'!P21","v":"مصطفى35"},{"$f":"'الحارس الاول'!Q21","v":"مصطفى51"},{"$f":"'الحارس الاول'!R21","v":"مصطفى46"},{"$f":"'الحارس الاول'!S21","v":"مصطفى9"},{"$f":"'الحارس الاول'!T21","v":"مصطفى60"},{"$f":"'الحارس الاول'!U21","v":"مصطفى30"},{"$f":"'الحارس الاول'!V21","v":"مصطفى61"},{"$f":"'الحارس الاول'!W21","v":"مصطفى21"},{"$f":"COUNTBLANK($D28:$W28)","v":0},{"$f":"COUNTIF(D28:W28,\"إشراف\")","v":0},{"$f":"COUNTA(D28:W28)*2","v":40},null,null,null,null,null,null,null,null,null,null,null,null,null,null,null,null,null,null,null,"S","مصطفى19","محمد علي  S"]
[{"$f":"IF(B29=\"\",\"\",SUBTOTAL(3,B$10:B29))","v":20},{"$f":"'الحارس الاول'!B22","v":"مصطفى20"},20,{"$f":"'الحارس الاول'!D22","v":"مصطفى6"},{"$f":"'الحارس الاول'!E22","v":"مصطفى40"},{"$f":"'الحارس الاول'!F22","v":"مصطفى35"},{"$f":"'الحارس الاول'!G22","v":"مصطفى36"},{"$f":"'الحارس الاول'!H22","v":"مصطفى51"},{"$f":"'الحارس الاول'!I22","v":"مصطفى2"},{"$f":"'الحارس الاول'!J22","v":"مصطفى24"},{"$f":"'الحارس الاول'!K22","v":"مصطفى38"},{"$f":"'الحارس الاول'!L22","v":"مصطفى20"},{"$f":"'الحارس الاول'!M22","v":"مصطفى11"},{"$f":"'الحارس الاول'!N22","v":"مصطفى7"},{"$f":"'الحارس الاول'!O22","v":"مصطفى54"},{"$f":"'الحارس الاول'!P22","v":"مصطفى42"},{"$f":"'الحارس الاول'!Q22","v":"مصطفى1"},{"$f":"'الحارس الاول'!R22","v":"مصطفى49"},{"$f":"'الحارس الاول'!S22","v":"مصطفى23"},{"$f":"'الحارس الاول'!T22","v":"مصطفى45"},{"$f":"'الحارس الاول'!U22","v":"مصطفى31"},{"$f":"'الحارس الاول'!V22","v":"مصطفى12"},{"$f":"'الحارس الاول'!W22","v":"مصطفى9"},{"$f":"COUNTBLANK($D29:$W29)","v":0},{"$f":"COUNTIF(D29:W29,\"إشراف\")","v":0},{"$f":"COUNTA(D29:W29)*2","v":40},null,null,null,null,null,null,null,null,null,null,null,null,null,null,null,null,null,null,null,"T","مصطفى20","محمد علي  T"]
[{"$f":"IF(B30=\"\",\"\",SUBTOTAL(3,B$10:B30))","v":21},{"$f":"'الحارس الاول'!B23","v":"مصطفى21"},21,{"$f":"'الحارس الاول'!D23","v":"مصطفى43"},{"$f":"'الحارس الاول'!E23","v":"مصطفى28"},{"$f":"'الحارس الاول'!F23","v":"مصطفى25"},{"$f":"'الحارس الاول'!G23","v":"مصطفى53"},{"$f":"'الحارس الاول'!H23","v":"مصطفى9"},{"$f":"'الحارس الاول'!I23","v":"مصطفى6"},{"$f":"'الحارس الاول'!J23","v":"مصطفى56"},{"$f":"'الحارس الاول'!K23","v":"مصطفى20"},{"$f":"'الحارس الاول'!L23","v":"مصطفى55"},{"$f":"'الحارس الاول'!M23","v":"مصطفى13"},{"$f":"'الحارس الاول'!N23","v":"مصطفى2"},{"$f":"'الحارس الاول'!O23","v":"مصطفى7"},{"$f":"'الحارس الاول'!P23","v":"مصطفى8"},{"$f":"'الحارس الاول'!Q23","v":"مصطفى61"},{"$f":"'الحارس الاول'!R23","v":"مصطفى58"},{"$f":"'الحارس الاول'!S23","v":"مصطفى47"},{"$f":"'الحارس الاول'!T23","v":"مصطفى59"},{"$f":"'الحارس الاول'!U23","v":"مصطفى15"},{"$f":"'الحارس الاول'!V23","v":"مصطفى11"},{"$f":"'الحارس الاول'!W23","v":"مصطفى17"},{"$f":"COUNTBLANK($D30:$W30)","v":0},{"$f":"COUNTIF(D30:W30,\"إشراف\")","v":0},{"$f":"COUNTA(D30:W30)*2","v":40},null,null,null,null,null,null,null,null,null,null,null,null,null,null,null,null,null,null,null,"U","مصطفى21","محمد علي  U"]
[{"$f":"IF(B31=\"\",\"\",SUBTOTAL(3,B$10:B31))","v":22},{"$f":"'الحارس الاول'!B24","v":"مصطفى22"},22,{"$f":"'الحارس الاول'!D24","v":"مصطفى56"},{"$f":"'الحارس الاول'!E24","v":"مصطفى35"},{"$f":"'الحارس الاول'!F24","v":"مصطفى8"},{"$f":"'الحارس الاول'!G24","v":"مصطفى20"},{"$f":"'الحارس الاول'!H24","v":"مصطفى17"},{"$f":"'الحارس الاول'!I24","v":"مصطفى11"},{"$f":"'الحارس الاول'!J24","v":"مصطفى25"},{"$f":"'الحارس الاول'!K24","v":"مصطفى13"},{"$f":"'الحارس الاول'!L24","v":"مصطفى40"},{"$f":"'الحارس الاول'!M24","v":"مصطفى16"},{"$f":"'الحارس الاول'!N24","v":"مصطفى52"},{"$f":"'الحارس الاول'!O24","v":"مصطفى27"},{"$f":"'الحارس الاول'!P24","v":"مصطفى18"},{"$f":"'الحارس الاول'!Q24","v":"مصطفى24"},{"$f":"'الحارس الاول'!R24","v":"مصطفى54"},{"$f":"'الحارس الاول'!S24","v":"مصطفى22"},{"$f":"'الحارس الاول'!T24","v":"مصطفى31"},{"$f":"'الحارس الاول'!U24","v":"مصطفى29"},{"$f":"'الحارس الاول'!V24","v":"مصطفى49"},{"$f":"'الحارس الاول'!W24","v":"مصطفى30"},{"$f":"COUNTBLANK($D31:$W31)","v":0},{"$f":"COUNTIF(D31:W31,\"إشراف\")","v":0},{"$f":"COUNTA(D31:W31)*2","v":40},null,null,null,null,null,null,null,null,null,null,null,null,null,null,null,null,null,null,null,"V","مصطفى22","محمد علي  V"]
[{"$f":"IF(B32=\"\",\"\",SUBTOTAL(3,B$10:B32))","v":23},{"$f":"'الحارس الاول'!B25","v":"مصطفى23"},23,{"$f":"'الحارس الاول'!D25","v":"مصطفى8"},{"$f":"'الحارس الاول'!E25","v":"مصطفى42"},{"$f":"'الحارس الاول'!F25","v":"مصطفى16"},{"$f":"'الحارس الاول'!G25","v":"مصطفى13"},{"$f":"'الحارس الاول'!H25","v":"مصطفى24"},{"$f":"'الحارس الاول'!I25","v":"مصطفى17"},{"$f":"'الحارس الاول'!J25","v":"مصطفى22"},{"$f":"'الحارس الاول'!K25","v":"مصطفى27"},{"$f":"'الحارس الاول'!L25","v":"مصطفى47"},{"$f":"'الحارس الاول'!M25","v":"مصطفى51"},{"$f":"'الحارس الاول'!N25","v":"مصطفى32"},{"$f":"'الحارس الاول'!O25","v":"مصطفى30"},{"$f":"'الحارس الاول'!P25","v":"مصطفى34"},{"$f":"'الحارس الاول'!Q25","v":"مصطفى31"},{"$f":"'الحارس الاول'!R25","v":"مصطفى53"},{"$f":"'الحارس الاول'!S25","v":"مصطفى36"},{"$f":"'الحارس الاول'!T25","v":"مصطفى44"},{"$f":"'الحارس الاول'!U25","v":"مصطفى39"},{"$f":"'الحارس الاول'!V25","v":"مصطفى59"},{"$f":"'الحارس الاول'!W25","v":"مصطفى37"},{"$f":"COUNTBLANK($D32:$W32)","v":0},{"$f":"COUNTIF(D32:W32,\"إشراف\")","v":0},{"$f":"COUNTA(D32:W32)*2","v":40},null,null,null,null,null,null,null,null,null,null,null,null,null,null,null,null,null,null,null,"W","مصطفى23","محمد علي  W"]
[{"$f":"IF(B33=\"\",\"\",SUBTOTAL(3,B$10:B33))","v":24},{"$f":"'الحارس الاول'!B26","v":"مصطفى24"},null,{"$f":"'الحارس الاول'!D26","v":0},{"$f":"'الحارس الاول'!E26","v":0},{"$f":"'الحارس الاول'!F26","v":0},{"$f":"'الحارس الاول'!G26","v":0},{"$f":"'الحارس الاول'!H26","v":0},{"$f":"'الحارس الاول'!I26","v":0},{"$f":"'الحارس الاول'!J26","v":0},{"$f":"'الحارس الاول'!K26","v":0},{"$f":"'الحارس الاول'!L26","v":0},{"$f":"'الحارس الاول'!M26","v":0},{"$f":"'الحارس الاول'!N26","v":0},{"$f":"'الحارس الاول'!O26","v":0},{"$f":"'الحارس الاول'!P26","v":0},{"$f":"'الحارس الاول'!Q26","v":0},{"$f":"'الحارس الاول'!R26","v":0},{"$f":"'الحارس الاول'!S26","v":0},{"$f":"'الحارس الاول'!T26","v":0},{"$f":"'الحارس الاول'!U26","v":0},{"$f":"'الحارس الاول'!V26","v":0},{"$f":"'الحارس الاول'!W26","v":0},{"$f":"COUNTBLANK($D33:$W33)","v":0},{"$f":"COUNTIF(D33:W33,\"إشراف\")","v":0},{"$f":"COUNTA(D33:W33)*2","v":40},null,null,null,null,null,null,null,null,null,null,null,null,null,null,null,null,null,null,null,"X","مصطفى24","محمد علي  X"]
[{"$f":"IF(B34=\"\",\"\",SUBTOTAL(3,B$10:B34))","v":25},{"$f":"'الحارس الاول'!B27","v":"مصطفى25"},null,{"$f":"'الحارس الاول'!D27","v":0},{"$f":"'الحارس الاول'!E27","v":0},{"$f":"'الحارس الاول'!F27","v":0},{"$f":"'الحارس الاول'!G27","v":0},{"$f":"'الحارس الاول'!H27","v":0},{"$f":"'الحارس الاول'!I27","v":0},{"$f":"'الحارس الاول'!J27","v":0},{"$f":"'الحارس الاول'!K27","v":0},{"$f":"'الحارس الاول'!L27","v":0},{"$f":"'الحارس الاول'!M27","v":0},{"$f":"'الحارس الاول'!N27","v":0},{"$f":"'الحارس الاول'!O27","v":0},{"$f":"'الحارس الاول'!P27","v":0},{"$f":"'الحارس الاول'!Q27","v":0},{"$f":"'الحارس الاول'!R27","v":0},{"$f":"'الحارس الاول'!S27","v":0},{"$f":"'الحارس الاول'!T27","v":0},{"$f":"'الحارس الاول'!U27","v":0},{"$f":"'الحارس الاول'!V27","v":0},{"$f":"'الحارس الاول'!W27","v":0},{"$f":"COUNTBLANK($D34:$W34)","v":0},{"$f":"COUNTIF(D34:W34,\"إشراف\")","v":0},{"$f":"COUNTA(D34:W34)*2","v":40},null,null,null,null,null,null,null,null,null,null,null,null,null,null,null,null,null,null,null,"Y","مصطفى25","محمد علي  Y"]
[{"$f":"IF(B35=\"\",\"\",SUBTOTAL(3,B$10:B35))","v":26},{"$f":"'الحارس الاول'!B28","v":"مصطفى26"},null,{"$f":"'الحارس الاول'!D28","v":0},{"$f":"'الحارس الاول'!E28","v":0},{"$f":"'الحارس الاول'!F28","v":0},{"$f":"'الحارس الاول'!G28","v":0},{"$f":"'الحارس الاول'!H28","v":0},{"$f":"'الحارس الاول'!I28","v":0},{"$f":"'الحارس الاول'!J28","v":0},{"$f":"'الحارس الاول'!K28","v":0},{"$f":"'الحارس الاول'!L28","v":0},{"$f":"'الحارس الاول'!M28","v":0},{"$f":"'الحارس الاول'!N28","v":0},{"$f":"'الحارس الاول'!O28","v":0},{"$f":"'الحارس الاول'!P28","v":0},{"$f":"'الحارس الاول'!Q28","v":0},{"$f":"'الحارس الاول'!R28","v":0},{"$f":"'الحارس الاول'!S28","v":0},{"$f":"'الحارس الاول'!T28","v":0},{"$f":"'الحارس الاول'!U28","v":0},{"$f":"'الحارس الاول'!V28","v":0},{"$f":"'الحارس الاول'!W28","v":0},{"$f":"COUNTBLANK($D35:$W35)","v":0},{"$f":"COUNTIF(D35:W35,\"إشراف\")","v":0},{"$f":"COUNTA(D35:W35)*2","v":40},null,null,null,null,null,null,null,null,null,null,null,null,null,null,null,null,null,null,null,"Z","مصطفى26","محمد علي  Z"]
[{"$f":"IF(B36=\"\",\"\",SUBTOTAL(3,B$10:B36))","v":27},{"$f":"'الحارس الاول'!B29","v":"مصطفى27"},null,{"$f":"'الحارس الاول'!D29","v":0},{"$f":"'الحارس الاول'!E29","v":0},{"$f":"'الحارس الاول'!F29","v":0},{"$f":"'الحارس الاول'!G29","v":0},{"$f":"'الحارس الاول'!H29","v":0},{"$f":"'الحارس الاول'!I29","v":0},{"$f":"'الحارس الاول'!J29","v":0},{"$f":"'الحارس الاول'!K29","v":0},{"$f":"'الحارس الاول'!L29","v":0},{"$f":"'الحارس الاول'!M29","v":0},{"$f":"'الحارس الاول'!N29","v":0},{"$f":"'الحارس الاول'!O29","v":0},{"$f":"'الحارس الاول'!P29","v":0},{"$f":"'الحارس الاول'!Q29","v":0},{"$f":"'الحارس الاول'!R29","v":0},{"$f":"'الحارس الاول'!S29","v":0},{"$f":"'الحارس الاول'!T29","v":0},{"$f":"'الحارس الاول'!U29","v":0},{"$f":"'الحارس الاول'!V29","v":0},{"$f":"'الحارس الاول'!W29","v":0},{"$f":"COUNTBLANK($D36:$W36)","v":0},{"$f":"COUNTIF(D36:W36,\"إشراف\")","v":0},{"$f":"COUNTA(D36:W36)*2","v":40},null,null,null,null,null,null,null,null,null,null,null,null,null,null,null,null,null,null,null,"a",{"$f":"B36","v":"مصطفى27"},"محمد علي  a"]
[{"$f":"IF(B37=\"\",\"\",SUBTOTAL(3,B$10:B37))","v":28},{"$f":"'الحارس الاول'!B30","v":"مصطفى28"},null,{"$f":"'الحارس الاول'!D30","v":0},{"$f":"'الحارس الاول'!E30","v":0},{"$f":"'الحارس الاول'!F30","v":0},{"$f":"'الحارس الاول'!G30","v":0},{"$f":"'الحارس الاول'!H30","v":0},{"$f":"'الحارس الاول'!I30","v":0},{"$f":"'الحارس الاول'!J30","v":0},{"$f":"'الحارس الاول'!K30","v":0},{"$f":"'الحارس الاول'!L30","v":0},{"$f":"'الحارس الاول'!M30","v":0},{"$f":"'الحارس الاول'!N30","v":0},{"$f":"'الحارس الاول'!O30","v":0},{"$f":"'الحارس الاول'!P30","v":0},{"$f":"'الحارس الاول'!Q30","v":0},{"$f":"'الحارس الاول'!R30","v":0},{"$f":"'الحارس الاول'!S30","v":0},{"$f":"'الحارس الاول'!T30","v":0},{"$f":"'الحارس الاول'!U30","v":0},{"$f":"'الحارس الاول'!V30","v":0},{"$f":"'الحارس الاول'!W30","v":0},{"$f":"COUNTBLANK($D37:$W37)","v":0},{"$f":"COUNTIF(D37:W37,\"إشراف\")","v":0},{"$f":"COUNTA(D37:W37)*2","v":40},null,null,null,null,null,null,null,null,null,null,null,null,null,null,null,null,null,null,null,"b","مصطفى28","محمد علي  b"]
[{"$f":"IF(B38=\"\",\"\",SUBTOTAL(3,B$10:B38))","v":29},{"$f":"'الحارس الاول'!B31","v":"مصطفى29"},null,{"$f":"'الحارس الاول'!D31","v":0},{"$f":"'الحارس الاول'!E31","v":0},{"$f":"'الحارس الاول'!F31","v":0},{"$f":"'الحارس الاول'!G31","v":0},{"$f":"'الحارس الاول'!H31","v":0},{"$f":"'الحارس الاول'!I31","v":0},{"$f":"'الحارس الاول'!J31","v":0},{"$f":"'الحارس الاول'!K31","v":0},{"$f":"'الحارس الاول'!L31","v":0},{"$f":"'الحارس الاول'!M31","v":0},{"$f":"'الحارس الاول'!N31","v":0},{"$f":"'الحارس الاول'!O31","v":0},{"$f":"'الحارس الاول'!P31","v":0},{"$f":"'الحارس الاول'!Q31","v":0},{"$f":"'الحارس الاول'!R31","v":0},{"$f":"'الحارس الاول'!S31","v":0},{"$f":"'الحارس الاول'!T31","v":0},{"$f":"'الحارس الاول'!U31","v":0},{"$f":"'الحارس الاول'!V31","v":0},{"$f":"'الحارس الاول'!W31","v":0},{"$f":"COUNTBLANK($D38:$W38)","v":0},{"$f":"COUNTIF(D38:W38,\"إشراف\")","v":0},{"$f":"COUNTA(D38:W38)*2","v":40},null,null,null,null,null,null,null,null,null,null,null,null,null,null,null,null,null,null,null,"c","مصطفى29","محمد علي  c"]
[{"$f":"IF(B39=\"\",\"\",SUBTOTAL(3,B$10:B39))","v":30},{"$f":"'الحارس الاول'!B32","v":"مصطفى30"},null,{"$f":"'الحارس الاول'!D32","v":0},{"$f":"'الحارس الاول'!E32","v":0},{"$f":"'الحارس الاول'!F32","v":0},{"$f":"'الحارس الاول'!G32","v":0},{"$f":"'الحارس الاول'!H32","v":0},{"$f":"'الحارس الاول'!I32","v":0},{"$f":"'الحارس الاول'!J32","v":0},{"$f":"'الحارس الاول'!K32","v":0},{"$f":"'الحارس الاول'!L32","v":0},{"$f":"'الحارس الاول'!M32","v":0},{"$f":"'الحارس الاول'!N32","v":0},{"$f":"'الحارس الاول'!O32","v":0},{"$f":"'الحارس الاول'!P32","v":0},{"$f":"'الحارس الاول'!Q32","v":0},{"$f":"'الحارس الاول'!R32","v":0},{"$f":"'الحارس الاول'!S32","v":0},{"$f":"'الحارس الاول'!T32","v":0},{"$f":"'الحارس الاول'!U32","v":0},{"$f":"'الحارس الاول'!V32","v":0},{"$f":"'الحارس الاول'!W32","v":0},{"$f":"COUNTBLANK($D39:$W39)","v":0},{"$f":"COUNTIF(D39:W39,\"إشراف\")","v":0},{"$f":"COUNTA(D39:W39)*2","v":40},null,null,null,null,null,null,null,null,null,null,null,null,null,null,null,null,null,null,null,"d","مصطفى30","محمد علي  d"]
[{"$f":"IF(B40=\"\",\"\",SUBTOTAL(3,B$10:B40))","v":31},{"$f":"'الحارس الاول'!B33","v":"مصطفى31"},null,{"$f":"'الحارس الاول'!D33","v":0},{"$f":"'الحارس الاول'!E33","v":0},{"$f":"'الحارس الاول'!F33","v":0},{"$f":"'الحارس الاول'!G33","v":0},{"$f":"'الحارس الاول'!H33","v":0},{"$f":"'الحارس الاول'!I33","v":0},{"$f":"'الحارس الاول'!J33","v":0},{"$f":"'الحارس الاول'!K33","v":0},{"$f":"'الحارس الاول'!L33","v":0},{"$f":"'الحارس الاول'!M33","v":0},{"$f":"'الحارس الاول'!N33","v":0},{"$f":"'الحارس الاول'!O33","v":0},{"$f":"'الحارس الاول'!P33","v":0},{"$f":"'الحارس الاول'!Q33","v":0},{"$f":"'الحارس الاول'!R33","v":0},{"$f":"'الحارس الاول'!S33","v":0},{"$f":"'الحارس الاول'!T33","v":0},{"$f":"'الحارس الاول'!U33","v":0},{"$f":"'الحارس الاول'!V33","v":0},{"$f":"'الحارس الاول'!W33","v":0},{"$f":"COUNTBLANK($D40:$W40)","v":0},{"$f":"COUNTIF(D40:W40,\"إشراف\")","v":0},{"$f":"COUNTA(D40:W40)*2","v":40},null,null,null,null,null,null,null,null,null,null,null,null,null,null,null,null,null,null,null,"e","مصطفى31","محمد علي  e"]
[{"$f":"IF(B41=\"\",\"\",SUBTOTAL(3,B$10:B41))","v":32},{"$f":"'الحارس الاول'!B34","v":"مصطفى32"},null,{"$f":"'الحارس الاول'!D34","v":0},{"$f":"'الحارس الاول'!E34","v":0},{"$f":"'الحارس الاول'!F34","v":0},{"$f":"'الحارس الاول'!G34","v":0},{"$f":"'الحارس الاول'!H34","v":0},{"$f":"'الحارس الاول'!I34","v":0},{"$f":"'الحارس الاول'!J34","v":0},{"$f":"'الحارس الاول'!K34","v":0},{"$f":"'الحارس الاول'!L34","v":0},{"$f":"'الحارس الاول'!M34","v":0},{"$f":"'الحارس الاول'!N34","v":0},{"$f":"'الحارس الاول'!O34","v":0},{"$f":"'الحارس الاول'!P34","v":0},{"$f":"'الحارس الاول'!Q34","v":0},{"$f":"'الحارس الاول'!R34","v":0},{"$f":"'الحارس الاول'!S34","v":0},{"$f":"'الحارس الاول'!T34","v":0},{"$f":"'الحارس الاول'!U34","v":0},{"$f":"'الحارس الاول'!V34","v":0},{"$f":"'الحارس الاول'!W34","v":0},{"$f":"COUNTBLANK($D41:$W41)","v":0},{"$f":"COUNTIF(D41:W41,\"إشراف\")","v":0},{"$f":"COUNTA(D41:W41)*2","v":40},null,null,null,null,null,null,null,null,null,null,null,null,null,null,null,null,null,null,null,"f","مصطفى32","محمد علي  f"]
[{"$f":"IF(B42=\"\",\"\",SUBTOTAL(3,B$10:B42))","v":33},{"$f":"'الحارس الاول'!B35","v":"مصطفى33"},null,{"$f":"'الحارس الاول'!D35","v":0},{"$f":"'الحارس الاول'!E35","v":0},{"$f":"'الحارس الاول'!F35","v":0},{"$f":"'الحارس الاول'!G35","v":0},{"$f":"'الحارس الاول'!H35","v":0},{"$f":"'الحارس الاول'!I35","v":0},{"$f":"'الحارس الاول'!J35","v":0},{"$f":"'الحارس الاول'!K35","v":0},{"$f":"'الحارس الاول'!L35","v":0},{"$f":"'الحارس الاول'!M35","v":0},{"$f":"'الحارس الاول'!N35","v":0},{"$f":"'الحارس الاول'!O35","v":0},{"$f":"'الحارس الاول'!P35","v":0},{"$f":"'الحارس الاول'!Q35","v":0},{"$f":"'الحارس الاول'!R35","v":0},{"$f":"'الحارس الاول'!S35","v":0},{"$f":"'الحارس الاول'!T35","v":0},{"$f":"'الحارس الاول'!U35","v":0},{"$f":"'الحارس الاول'!V35","v":0},{"$f":"'الحارس الاول'!W35","v":0},{"$f":"COUNTBLANK($D42:$W42)","v":0},{"$f":"COUNTIF(D42:W42,\"إشراف\")","v":0},{"$f":"COUNTA(D42:W42)*2","v":40},null,null,null,null,null,null,null,null,null,null,null,null,null,null,null,null,null,null,null,"g","مصطفى33","محمد علي  g"]
[{"$f":"IF(B43=\"\",\"\",SUBTOTAL(3,B$10:B43))","v":34},{"$f":"'الحارس الاول'!B36","v":"مصطفى34"},null,{"$f":"'الحارس الاول'!D36","v":0},{"$f":"'الحارس الاول'!E36","v":0},{"$f":"'الحارس الاول'!F36","v":0},{"$f":"'الحارس الاول'!G36","v":0},{"$f":"'الحارس الاول'!H36","v":0},{"$f":"'الحارس الاول'!I36","v":0},{"$f":"'الحارس الاول'!J36","v":0},{"$f":"'الحارس الاول'!K36","v":0},{"$f":"'الحارس الاول'!L36","v":0},{"$f":"'الحارس الاول'!M36","v":0},{"$f":"'الحارس الاول'!N36","v":0},{"$f":"'الحارس الاول'!O36","v":0},{"$f":"'الحارس الاول'!P36","v":0},{"$f":"'الحارس الاول'!Q36","v":0},{"$f":"'الحارس الاول'!R36","v":0},{"$f":"'الحارس الاول'!S36","v":0},{"$f":"'الحارس الاول'!T36","v":0},{"$f":"'الحارس الاول'!U36","v":0},{"$f":"'الحارس الاول'!V36","v":0},{"$f":"'الحارس الاول'!W36","v":0},{"$f":"COUNTBLANK($D43:$W43)","v":0},{"$f":"COUNTIF(D43:W43,\"إشراف\")","v":0},{"$f":"COUNTA(D43:W43)*2","v":40},null,null,null,null,null,null,null,null,null,null,null,null,null,null,null,null,null,null,null,"h","مصطفى34","محمد علي  h"]
[{"$f":"IF(B44=\"\",\"\",SUBTOTAL(3,B$10:B44))","v":35},{"$f":"'الحارس الاول'!B37","v":"مصطفى35"},null,{"$f":"'الحارس الاول'!D37","v":0},{"$f":"'الحارس الاول'!E37","v":0},{"$f":"'الحارس الاول'!F37","v":0},{"$f":"'الحارس الاول'!G37","v":0},{"$f":"'الحارس الاول'!H37","v":0},{"$f":"'الحارس الاول'!I37","v":0},{"$f":"'الحارس الاول'!J37","v":0},{"$f":"'الحارس الاول'!K37","v":0},{"$f":"'الحارس الاول'!L37","v":0},{"$f":"'الحارس الاول'!M37","v":0},{"$f":"'الحارس الاول'!N37","v":0},{"$f":"'الحارس الاول'!O37","v":0},{"$f":"'الحارس الاول'!P37","v":0},{"$f":"'الحارس الاول'!Q37","v":0},{"$f":"'الحارس الاول'!R37","v":0},{"$f":"'الحارس الاول'!S37","v":0},{"$f":"'الحارس الاول'!T37","v":0},{"$f":"'الحارس الاول'!U37","v":0},{"$f":"'الحارس الاول'!V37","v":0},{"$f":"'الحارس الاول'!W37","v":0},{"$f":"COUNTBLANK($D44:$W44)","v":0},{"$f":"COUNTIF(D44:W44,\"إشراف\")","v":0},{"$f":"COUNTA(D44:W44)*2","v":40},null,null,null,null,null,null,null,null,null,null,null,null,null,null,null,null,null,null,null,"i","مصطفى35","محمد علي  i"]
[{"$f":"IF(B45=\"\",\"\",SUBTOTAL(3,B$10:B45))","v":36},{"$f":"'الحارس الاول'!B38","v":"مصطفى36"},null,{"$f":"'الحارس الاول'!D38","v":0},{"$f":"'الحارس الاول'!E38","v":0},{"$f":"'الحارس الاول'!F38","v":0},{"$f":"'الحارس الاول'!G38","v":0},{"$f":"'الحارس الاول'!H38","v":0},{"$f":"'الحارس الاول'!I38","v":0},{"$f":"'الحارس الاول'!J38","v":0},{"$f":"'الحارس الاول'!K38","v":0},{"$f":"'الحارس الاول'!L38","v":0},{"$f":"'الحارس الاول'!M38","v":0},{"$f":"'الحارس الاول'!N38","v":0},{"$f":"'الحارس الاول'!O38","v":0},{"$f":"'الحارس الاول'!P38","v":0},{"$f":"'الحارس الاول'!Q38","v":0},{"$f":"'الحارس الاول'!R38","v":0},{"$f":"'الحارس الاول'!S38","v":0},{"$f":"'الحارس الاول'!T38","v":0},{"$f":"'الحارس الاول'!U38","v":0},{"$f":"'الحارس الاول'!V38","v":0},{"$f":"'الحارس الاول'!W38","v":0},{"$f":"COUNTBLANK($D45:$W45)","v":0},{"$f":"COUNTIF(D45:W45,\"إشراف\")","v":0},{"$f":"COUNTA(D45:W45)*2","v":40},null,null,null,null,null,null,null,null,null,null,null,null,null,null,null,null,null,null,null,"j","مصطفى36","محمد علي  j"]
[{"$f":"IF(B46=\"\",\"\",SUBTOTAL(3,B$10:B46))","v":37},{"$f":"'الحارس الاول'!B39","v":"مصطفى37"},null,{"$f":"'الحارس الاول'!D39","v":0},{"$f":"'الحارس الاول'!E39","v":0},{"$f":"'الحارس الاول'!F39","v":0},{"$f":"'الحارس الاول'!G39","v":0},{"$f":"'الحارس الاول'!H39","v":0},{"$f":"'الحارس الاول'!I39","v":0},{"$f":"'الحارس الاول'!J39","v":0},{"$f":"'الحارس الاول'!K39","v":0},{"$f":"'الحارس الاول'!L39","v":0},{"$f":"'الحارس الاول'!M39","v":0},{"$f":"'الحارس الاول'!N39","v":0},{"$f":"'الحارس الاول'!O39","v":0},{"$f":"'الحارس الاول'!P39","v":0},{"$f":"'الحارس الاول'!Q39","v":0},{"$f":"'الحارس الاول'!R39","v":0},{"$f":"'الحارس الاول'!S39","v":0},{"$f":"'الحارس الاول'!T39","v":0},{"$f":"'الحارس الاول'!U39","v":0},{"$f":"'الحارس الاول'!V39","v":0},{"$f":"'الحارس الاول'!W39","v":0},{"$f":"COUNTBLANK($D46:$W46)","v":0},{"$f":"COUNTIF(D46:W46,\"إشراف\")","v":0},{"$f":"COUNTA(D46:W46)*2","v":40},null,null,null,null,null,null,null,null,null,null,null,null,null,null,null,null,null,null,null,"k","مصطفى37","محمد علي  k"]
[{"$f":"IF(B47=\"\",\"\",SUBTOTAL(3,B$10:B47))","v":38},{"$f":"'الحارس الاول'!B40","v":"مصطفى38"},null,{"$f":"'الحارس الاول'!D40","v":0},{"$f":"'الحارس الاول'!E40","v":0},{"$f":"'الحارس الاول'!F40","v":0},{"$f":"'الحارس الاول'!G40","v":0},{"$f":"'الحارس الاول'!H40","v":0},{"$f":"'الحارس الاول'!I40","v":0},{"$f":"'الحارس الاول'!J40","v":0},{"$f":"'الحارس الاول'!K40","v":0},{"$f":"'الحارس الاول'!L40","v":0},{"$f":"'الحارس الاول'!M40","v":0},{"$f":"'الحارس الاول'!N40","v":0},{"$f":"'الحارس الاول'!O40","v":0},{"$f":"'الحارس الاول'!P40","v":0},{"$f":"'الحارس الاول'!Q40","v":0},{"$f":"'الحارس الاول'!R40","v":0},{"$f":"'الحارس الاول'!S40","v":0},{"$f":"'الحارس الاول'!T40","v":0},{"$f":"'الحارس الاول'!U40","v":0},{"$f":"'الحارس الاول'!V40","v":0},{"$f":"'الحارس الاول'!W40","v":0},{"$f":"COUNTBLANK($D47:$W47)","v":0},{"$f":"COUNTIF(D47:W47,\"إشراف\")","v":0},{"$f":"COUNTA(D47:W47)*2","v":40},null,null,null,null,null,null,null,null,null,null,null,null,null,null,null,null,null,null,null,"l","مصطفى38","محمد علي  l"]
[{"$f":"IF(B48=\"\",\"\",SUBTOTAL(3,B$10:B48))","v":39},{"$f":"'الحارس الاول'!B41","v":"مصطفى39"},null,{"$f":"'الحارس الاول'!D41","v":0},{"$f":"'الحارس الاول'!E41","v":0},{"$f":"'الحارس الاول'!F41","v":0},{"$f":"'الحارس الاول'!G41","v":0},{"$f":"'الحارس الاول'!H41","v":0},{"$f":"'الحارس الاول'!I41","v":0},{"$f":"'الحارس الاول'!J41","v":0},{"$f":"'الحارس الاول'!K41","v":0},{"$f":"'الحارس الاول'!L41","v":0},{"$f":"'الحارس الاول'!M41","v":0},{"$f":"'الحارس الاول'!N41","v":0},{"$f":"'الحارس الاول'!O41","v":0},{"$f":"'الحارس الاول'!P41","v":0},{"$f":"'الحارس الاول'!Q41","v":0},{"$f":"'الحارس الاول'!R41","v":0},{"$f":"'الحارس الاول'!S41","v":0},{"$f":"'الحارس الاول'!T41","v":0},{"$f":"'الحارس الاول'!U41","v":0},{"$f":"'الحارس الاول'!V41","v":0},{"$f":"'الحارس الاول'!W41","v":0},{"$f":"COUNTBLANK($D48:$W48)","v":0},{"$f":"COUNTIF(D48:W48,\"إشراف\")","v":0},{"$f":"COUNTA(D48:W48)*2","v":40},null,null,null,null,null,null,null,null,null,null,null,null,null,null,null,null,null,null,null,"m",{"$f":"B48","v":"مصطفى39"},"محمد علي  m"]
[{"$f":"IF(B49=\"\",\"\",SUBTOTAL(3,B$10:B49))","v":40},{"$f":"'الحارس الاول'!B42","v":"مصطفى40"},null,{"$f":"'الحارس الاول'!D42","v":0},{"$f":"'الحارس الاول'!E42","v":0},{"$f":"'الحارس الاول'!F42","v":0},{"$f":"'الحارس الاول'!G42","v":0},{"$f":"'الحارس الاول'!H42","v":0},{"$f":"'الحارس الاول'!I42","v":0},{"$f":"'الحارس الاول'!J42","v":0},{"$f":"'الحارس الاول'!K42","v":0},{"$f":"'الحارس الاول'!L42","v":0},{"$f":"'الحارس الاول'!M42","v":0},{"$f":"'الحارس الاول'!N42","v":0},{"$f":"'الحارس الاول'!O42","v":0},{"$f":"'الحارس الاول'!P42","v":0},{"$f":"'الحارس الاول'!Q42","v":0},{"$f":"'الحارس الاول'!R42","v":0},{"$f":"'الحارس الاول'!S42","v":0},{"$f":"'الحارس الاول'!T42","v":0},{"$f":"'الحارس الاول'!U42","v":0},{"$f":"'الحارس الاول'!V42","v":0},{"$f":"'الحارس الاول'!W42","v":0},{"$f":"COUNTBLANK($D49:$W49)","v":0},{"$f":"COUNTIF(D49:W49,\"إشراف\")","v":0},{"$f":"COUNTA(D49:W49)*2","v":40},null,null,null,null,null,null,null,null,null,null,null,null,null,null,null,null,null,null,null,"n","مصطفى40","محمد علي  n"]
[{"$f":"IF(B50=\"\",\"\",SUBTOTAL(3,B$10:B50))","v":41},{"$f":"'الحارس الاول'!B43","v":"مصطفى41"},null,{"$f":"'الحارس الاول'!D43","v":0},{"$f":"'الحارس الاول'!E43","v":0},{"$f":"'الحارس الاول'!F43","v":0},{"$f":"'الحارس الاول'!G43","v":0},{"$f":"'الحارس الاول'!H43","v":0},{"$f":"'الحارس الاول'!I43","v":0},{"$f":"'الحارس الاول'!J43","v":0},{"$f":"'الحارس الاول'!K43","v":0},{"$f":"'الحارس الاول'!L43","v":0},{"$f":"'الحارس الاول'!M43","v":0},{"$f":"'الحارس الاول'!N43","v":0},{"$f":"'الحارس الاول'!O43","v":0},{"$f":"'الحارس الاول'!P43","v":0},{"$f":"'الحارس الاول'!Q43","v":0},{"$f":"'الحارس الاول'!R43","v":0},{"$f":"'الحارس الاول'!S43","v":0},{"$f":"'الحارس الاول'!T43","v":0},{"$f":"'الحارس الاول'!U43","v":0},{"$f":"'الحارس الاول'!V43","v":0},{"$f":"'الحارس الاول'!W43","v":0},{"$f":"COUNTBLANK($D50:$W50)","v":0},{"$f":"COUNTIF(D50:W50,\"إشراف\")","v":0},{"$f":"COUNTA(D50:W50)*2","v":40},null,null,null,null,null,null,null,null,null,null,null,null,null,null,null,null,null,null,null,"o","مصطفى41","محمد علي  o"]
[{"$f":"IF(B51=\"\",\"\",SUBTOTAL(3,B$10:B51))","v":42},{"$f":"'الحارس الاول'!B44","v":"مصطفى42"},null,{"$f":"'الحارس الاول'!D44","v":0},{"$f":"'الحارس الاول'!E44","v":0},{"$f":"'الحارس الاول'!F44","v":0},{"$f":"'الحارس الاول'!G44","v":0},{"$f":"'الحارس الاول'!H44","v":0},{"$f":"'الحارس الاول'!I44","v":0},{"$f":"'الحارس الاول'!J44","v":0},{"$f":"'الحارس الاول'!K44","v":0},{"$f":"'الحارس الاول'!L44","v":0},{"$f":"'الحارس الاول'!M44","v":0},{"$f":"'الحارس الاول'!N44","v":0},{"$f":"'الحارس الاول'!O44","v":0},{"$f":"'الحارس الاول'!P44","v":0},{"$f":"'الحارس الاول'!Q44","v":0},{"$f":"'الحارس الاول'!R44","v":0},{"$f":"'الحارس الاول'!S44","v":0},{"$f":"'الحارس الاول'!T44","v":0},{"$f":"'الحارس الاول'!U44","v":0},{"$f":"'الحارس الاول'!V44","v":0},{"$f":"'الحارس الاول'!W44","v":0},{"$f":"COUNTBLANK($D51:$W51)","v":0},{"$f":"COUNTIF(D51:W51,\"إشراف\")","v":0},{"$f":"COUNTA(D51:W51)*2","v":40},null,null,null,null,null,null,null,null,null,null,null,null,null,null,null,null,null,null,null,"p","مصطفى42","محمد علي  p"]
[{"$f":"IF(B52=\"\",\"\",SUBTOTAL(3,B$10:B52))","v":43},{"$f":"'الحارس الاول'!B45","v":"مصطفى43"},null,{"$f":"'الحارس الاول'!D45","v":0},{"$f":"'الحارس الاول'!E45","v":0},{"$f":"'الحارس الاول'!F45","v":0},{"$f":"'الحارس الاول'!G45","v":0},{"$f":"'الحارس الاول'!H45","v":0},{"$f":"'الحارس الاول'!I45","v":0},{"$f":"'الحارس الاول'!J45","v":0},{"$f":"'الحارس الاول'!K45","v":0},{"$f":"'الحارس الاول'!L45","v":0},{"$f":"'الحارس الاول'!M45","v":0},{"$f":"'الحارس الاول'!N45","v":0},{"$f":"'الحارس الاول'!O45","v":0},{"$f":"'الحارس الاول'!P45","v":0},{"$f":"'الحارس الاول'!Q45","v":0},{"$f":"'الحارس الاول'!R45","v":0},{"$f":"'الحارس الاول'!S45","v":0},{"$f":"'الحارس الاول'!T45","v":0},{"$f":"'الحارس الاول'!U45","v":0},{"$f":"'الحارس الاول'!V45","v":0},{"$f":"'الحارس الاول'!W45","v":0},{"$f":"COUNTBLANK($D52:$W52)","v":0},{"$f":"COUNTIF(D52:W52,\"إشراف\")","v":0},{"$f":"COUNTA(D52:W52)*2","v":40},null,null,null,null,null,null,null,null,null,null,null,null,null,null,null,null,null,null,null,"q",{"$f":"B52","v":"مصطفى43"},"محمد علي  q"]
[{"$f":"IF(B53=\"\",\"\",SUBTOTAL(3,B$10:B53))","v":44},{"$f":"'الحارس الاول'!B46","v":"مصطفى44"},null,{"$f":"'الحارس الاول'!D46","v":0},{"$f":"'الحارس الاول'!E46","v":0},{"$f":"'الحارس الاول'!F46","v":0},{"$f":"'الحارس الاول'!G46","v":0},{"$f":"'الحارس الاول'!H46","v":0},{"$f":"'الحارس الاول'!I46","v":0},{"$f":"'الحارس الاول'!J46","v":0},{"$f":"'الحارس الاول'!K46","v":0},{"$f":"'الحارس الاول'!L46","v":0},{"$f":"'الحارس الاول'!M46","v":0},{"$f":"'الحارس الاول'!N46","v":0},{"$f":"'الحارس الاول'!O46","v":0},{"$f":"'الحارس الاول'!P46","v":0},{"$f":"'الحارس الاول'!Q46","v":0},{"$f":"'الحارس الاول'!R46","v":0},{"$f":"'الحارس الاول'!S46","v":0},{"$f":"'الحارس الاول'!T46","v":0},{"$f":"'الحارس الاول'!U46","v":0},{"$f":"'الحارس الاول'!V46","v":0},{"$f":"'الحارس الاول'!W46","v":0},{"$f":"COUNTBLANK($D53:$W53)","v":0},{"$f":"COUNTIF(D53:W53,\"إشراف\")","v":0},{"$f":"COUNTA(D53:W53)*2","v":40},null,null,null,null,null,null,null,null,null,null,null,null,null,null,null,null,null,null,null,"r","مصطفى44","محمد علي  r"]
[{"$f":"IF(B54=\"\",\"\",SUBTOTAL(3,B$10:B54))","v":45},{"$f":"'الحارس الاول'!B47","v":"مصطفى45"},null,{"$f":"'الحارس الاول'!D47","v":0},{"$f":"'الحارس الاول'!E47","v":0},{"$f":"'الحارس الاول'!F47","v":0},{"$f":"'الحارس الاول'!G47","v":0},{"$f":"'الحارس الاول'!H47","v":0},{"$f":"'الحارس الاول'!I47","v":0},{"$f":"'الحارس الاول'!J47","v":0},{"$f":"'الحارس الاول'!K47","v":0},{"$f":"'الحارس الاول'!L47","v":0},{"$f":"'الحارس الاول'!M47","v":0},{"$f":"'الحارس الاول'!N47","v":0},{"$f":"'الحارس الاول'!O47","v":0},{"$f":"'الحارس الاول'!P47","v":0},{"$f":"'الحارس الاول'!Q47","v":0},{"$f":"'الحارس الاول'!R47","v":0},{"$f":"'الحارس الاول'!S47","v":0},{"$f":"'الحارس الاول'!T47","v":0},{"$f":"'الحارس الاول'!U47","v":0},{"$f":"'الحارس الاول'!V47","v":0},{"$f":"'الحارس الاول'!W47","v":0},{"$f":"COUNTBLANK($D54:$W54)","v":0},{"$f":"COUNTIF(D54:W54,\"إشراف\")","v":0},{"$f":"COUNTA(D54:W54)*2","v":40},null,null,null,null,null,null,null,null,null,null,null,null,null,null,null,null,null,null,null,"s","مصطفى45","محمد علي  s"]
[{"$f":"IF(B55=\"\",\"\",SUBTOTAL(3,B$10:B55))","v":46},{"$f":"'الحارس الاول'!B48","v":"مصطفى46"},null,{"$f":"'الحارس الاول'!D48","v":0},{"$f":"'الحارس الاول'!E48","v":0},{"$f":"'الحارس الاول'!F48","v":0},{"$f":"'الحارس الاول'!G48","v":0},{"$f":"'الحارس الاول'!H48","v":0},{"$f":"'الحارس الاول'!I48","v":0},{"$f":"'الحارس الاول'!J48","v":0},{"$f":"'الحارس الاول'!K48","v":0},{"$f":"'الحارس الاول'!L48","v":0},{"$f":"'الحارس الاول'!M48","v":0},{"$f":"'الحارس الاول'!N48","v":0},{"$f":"'الحارس الاول'!O48","v":0},{"$f":"'الحارس الاول'!P48","v":0},{"$f":"'الحارس الاول'!Q48","v":0},{"$f":"'الحارس الاول'!R48","v":0},{"$f":"'الحارس الاول'!S48","v":0},{"$f":"'الحارس الاول'!T48","v":0},{"$f":"'الحارس الاول'!U48","v":0},{"$f":"'الحارس الاول'!V48","v":0},{"$f":"'الحارس الاول'!W48","v":0},{"$f":"COUNTBLANK($D55:$W55)","v":0},{"$f":"COUNTIF(D55:W55,\"إشراف\")","v":0},{"$f":"COUNTA(D55:W55)*2","v":40},null,null,null,null,null,null,null,null,null,null,null,null,null,null,null,null,null,null,null,"t","مصطفى46","محمد علي  t"]
[{"$f":"IF(B56=\"\",\"\",SUBTOTAL(3,B$10:B56))","v":47},{"$f":"'الحارس الاول'!B49","v":"مصطفى47"},null,{"$f":"'الحارس الاول'!D49","v":0},{"$f":"'الحارس الاول'!E49","v":0},{"$f":"'الحارس الاول'!F49","v":0},{"$f":"'الحارس الاول'!G49","v":0},{"$f":"'الحارس الاول'!H49","v":0},{"$f":"'الحارس الاول'!I49","v":0},{"$f":"'الحارس الاول'!J49","v":0},{"$f":"'الحارس الاول'!K49","v":0},{"$f":"'الحارس الاول'!L49","v":0},{"$f":"'الحارس الاول'!M49","v":0},{"$f":"'الحارس الاول'!N49","v":0},{"$f":"'الحارس الاول'!O49","v":0},{"$f":"'الحارس الاول'!P49","v":0},{"$f":"'الحارس الاول'!Q49","v":0},{"$f":"'الحارس الاول'!R49","v":0},{"$f":"'الحارس الاول'!S49","v":0},{"$f":"'الحارس الاول'!T49","v":0},{"$f":"'الحارس الاول'!U49","v":0},{"$f":"'الحارس الاول'!V49","v":0},{"$f":"'الحارس الاول'!W49","v":0},{"$f":"COUNTBLANK($D56:$W56)","v":0},{"$f":"COUNTIF(D56:W56,\"إشراف\")","v":0},{"$f":"COUNTA(D56:W56)*2","v":40},null,null,null,null,null,null,null,null,null,null,null,null,null,null,null,null,null,null,null,"u","مصطفى47","محمد علي  u"]
[{"$f":"IF(B57=\"\",\"\",SUBTOTAL(3,B$10:B57))","v":48},{"$f":"'الحارس الاول'!B50","v":"مصطفى48"},null,{"$f":"'الحارس الاول'!D50","v":0},{"$f":"'الحارس الاول'!E50","v":0},{"$f":"'الحارس الاول'!F50","v":0},{"$f":"'الحارس الاول'!G50","v":0},{"$f":"'الحارس الاول'!H50","v":0},{"$f":"'الحارس الاول'!I50","v":0},{"$f":"'الحارس الاول'!J50","v":0},{"$f":"'الحارس الاول'!K50","v":0},{"$f":"'الحارس الاول'!L50","v":0},{"$f":"'الحارس الاول'!M50","v":0},{"$f":"'الحارس الاول'!N50","v":0},{"$f":"'الحارس الاول'!O50","v":0},{"$f":"'الحارس الاول'!P50","v":0},{"$f":"'الحارس الاول'!Q50","v":0},{"$f":"'الحارس الاول'!R50","v":0},{"$f":"'الحارس الاول'!S50","v":0},{"$f":"'الحارس الاول'!T50","v":0},{"$f":"'الحارس الاول'!U50","v":0},{"$f":"'الحارس الاول'!V50","v":0},{"$f":"'الحارس الاول'!W50","v":0},{"$f":"COUNTBLANK($D57:$W57)","v":0},{"$f":"COUNTIF(D57:W57,\"إشراف\")","v":0},{"$f":"COUNTA(D57:W57)*2","v":40},null,null,null,null,null,null,null,null,null,null,null,null,null,null,null,null,null,null,null,"v","مصطفى48","محمد علي  v"]
[{"$f":"IF(B58=\"\",\"\",SUBTOTAL(3,B$10:B58))","v":49},{"$f":"'الحارس الاول'!B51","v":"مصطفى49"},null,{"$f":"'الحارس الاول'!D51","v":0},{"$f":"'الحارس الاول'!E51","v":0},{"$f":"'الحارس الاول'!F51","v":0},{"$f":"'الحارس الاول'!G51","v":0},{"$f":"'الحارس الاول'!H51","v":0},{"$f":"'الحارس الاول'!I51","v":0},{"$f":"'الحارس الاول'!J51","v":0},{"$f":"'الحارس الاول'!K51","v":0},{"$f":"'الحارس الاول'!L51","v":0},{"$f":"'الحارس الاول'!M51","v":0},{"$f":"'الحارس الاول'!N51","v":0},{"$f":"'الحارس الاول'!O51","v":0},{"$f":"'الحارس الاول'!P51","v":0},{"$f":"'الحارس الاول'!Q51","v":0},{"$f":"'الحارس الاول'!R51","v":0},{"$f":"'الحارس الاول'!S51","v":0},{"$f":"'الحارس الاول'!T51","v":0},{"$f":"'الحارس الاول'!U51","v":0},{"$f":"'الحارس الاول'!V51","v":0},{"$f":"'الحارس الاول'!W51","v":0},{"$f":"COUNTBLANK($D58:$W58)","v":0},{"$f":"COUNTIF(D58:W58,\"إشراف\")","v":0},{"$f":"COUNTA(D58:W58)*2","v":40},null,null,null,null,null,null,null,null,null,null,null,null,null,null,null,null,null,null,null,"w","مصطفى49","محمد علي  w"]
[{"$f":"IF(B59=\"\",\"\",SUBTOTAL(3,B$10:B59))","v":50},{"$f":"'الحارس الاول'!B52","v":"مصطفى50"},null,{"$f":"'الحارس الاول'!D52","v":0},{"$f":"'الحارس الاول'!E52","v":0},{"$f":"'الحارس الاول'!F52","v":0},{"$f":"'الحارس الاول'!G52","v":0},{"$f":"'الحارس الاول'!H52","v":0},{"$f":"'الحارس الاول'!I52","v":0},{"$f":"'الحارس الاول'!J52","v":0},{"$f":"'الحارس الاول'!K52","v":0},{"$f":"'الحارس الاول'!L52","v":0},{"$f":"'الحارس الاول'!M52","v":0},{"$f":"'الحارس الاول'!N52","v":0},{"$f":"'الحارس الاول'!O52","v":0},{"$f":"'الحارس الاول'!P52","v":0},{"$f":"'الحارس الاول'!Q52","v":0},{"$f":"'الحارس الاول'!R52","v":0},{"$f":"'الحارس الاول'!S52","v":0},{"$f":"'الحارس الاول'!T52","v":0},{"$f":"'الحارس الاول'!U52","v":0},{"$f":"'الحارس الاول'!V52","v":0},{"$f":"'الحارس الاول'!W52","v":0},{"$f":"COUNTBLANK($D59:$W59)","v":0},{"$f":"COUNTIF(D59:W59,\"إشراف\")","v":0},{"$f":"COUNTA(D59:W59)*2","v":40},null,null,null,null,null,null,null,null,null,null,null,null,null,null,null,null,null,null,null,"x","مصطفى50","محمد علي  x"]
[{"$f":"IF(B60=\"\",\"\",SUBTOTAL(3,B$10:B60))","v":51},{"$f":"'الحارس الاول'!B53","v":"مصطفى51"},null,{"$f":"'الحارس الاول'!D53","v":0},{"$f":"'الحارس الاول'!E53","v":0},{"$f":"'الحارس الاول'!F53","v":0},{"$f":"'الحارس الاول'!G53","v":0},{"$f":"'الحارس الاول'!H53","v":0},{"$f":"'الحارس الاول'!I53","v":0},{"$f":"'الحارس الاول'!J53","v":0},{"$f":"'الحارس الاول'!K53","v":0},{"$f":"'الحارس الاول'!L53","v":0},{"$f":"'الحارس الاول'!M53","v":0},{"$f":"'الحارس الاول'!N53","v":0},{"$f":"'الحارس الاول'!O53","v":0},{"$f":"'الحارس الاول'!P53","v":0},{"$f":"'الحارس الاول'!Q53","v":0},{"$f":"'الحارس الاول'!R53","v":0},{"$f":"'الحارس الاول'!S53","v":0},{"$f":"'الحارس الاول'!T53","v":0},{"$f":"'الحارس الاول'!U53","v":0},{"$f":"'الحارس الاول'!V53","v":0},{"$f":"'الحارس الاول'!W53","v":0},{"$f":"COUNTBLANK($D60:$W60)","v":0},{"$f":"COUNTIF(D60:W60,\"إشراف\")","v":0},{"$f":"COUNTA(D60:W60)*2","v":40},null,null,null,null,null,null,null,null,null,null,null,null,null,null,null,null,null,null,null,"y","مصطفى51","محمد علي  y"]
[{"$f":"IF(B61=\"\",\"\",SUBTOTAL(3,B$10:B61))","v":52},{"$f":"'الحارس الاول'!B54","v":"مصطفى52"},null,{"$f":"'الحارس الاول'!D54","v":0},{"$f":"'الحارس الاول'!E54","v":0},{"$f":"'الحارس الاول'!F54","v":0},{"$f":"'الحارس الاول'!G54","v":0},{"$f":"'الحارس الاول'!H54","v":0},{"$f":"'الحارس الاول'!I54","v":0},{"$f":"'الحارس الاول'!J54","v":0},{"$f":"'الحارس الاول'!K54","v":0},{"$f":"'الحارس الاول'!L54","v":0},{"$f":"'الحارس الاول'!M54","v":0},{"$f":"'الحارس الاول'!N54","v":0},{"$f":"'الحارس الاول'!O54","v":0},{"$f":"'الحارس الاول'!P54","v":0},{"$f":"'الحارس الاول'!Q54","v":0},{"$f":"'الحارس الاول'!R54","v":0},{"$f":"'الحارس الاول'!S54","v":0},{"$f":"'الحارس الاول'!T54","v":0},{"$f":"'الحارس الاول'!U54","v":0},{"$f":"'الحارس الاول'!V54","v":0},{"$f":"'الحارس الاول'!W54","v":0},{"$f":"COUNTBLANK($D61:$W61)","v":0},{"$f":"COUNTIF(D61:W61,\"إشراف\")","v":0},{"$f":"COUNTA(D61:W61)*2","v":40},null,null,null,null,null,null,null,null,null,null,null,null,null,null,null,null,null,null,null,"z","مصطفى52","محمد علي  z"]
[{"$f":"IF(B62=\"\",\"\",SUBTOTAL(3,B$10:B62))","v":53},{"$f":"'الحارس الاول'!B55","v":"مصطفى53"},null,{"$f":"'الحارس الاول'!D55","v":0},{"$f":"'الحارس الاول'!E55","v":0},{"$f":"'الحارس الاول'!F55","v":0},{"$f":"'الحارس الاول'!G55","v":0},{"$f":"'الحارس الاول'!H55","v":0},{"$f":"'الحارس الاول'!I55","v":0},{"$f":"'الحارس الاول'!J55","v":0},{"$f":"'الحارس الاول'!K55","v":0},{"$f":"'الحارس الاول'!L55","v":0},{"$f":"'الحارس الاول'!M55","v":0},{"$f":"'الحارس الاول'!N55","v":0},{"$f":"'الحارس الاول'!O55","v":0},{"$f":"'الحارس الاول'!P55","v":0},{"$f":"'الحارس الاول'!Q55","v":0},{"$f":"'الحارس الاول'!R55","v":0},{"$f":"'الحارس الاول'!S55","v":0},{"$f":"'الحارس الاول'!T55","v":0},{"$f":"'الحارس الاول'!U55","v":0},{"$f":"'الحارس الاول'!V55","v":0},{"$f":"'الحارس الاول'!W55","v":0},{"$f":"COUNTBLANK($D62:$W62)","v":0},{"$f":"COUNTIF(D62:W62,\"إشراف\")","v":0},{"$f":"COUNTA(D62:W62)*2","v":40},null,null,null,null,null,null,null,null,null,null,null,null,null,null,null,null,null,null,null,"aa","مصطفى53","محمد علي  aa"]
[{"$f":"IF(B63=\"\",\"\",SUBTOTAL(3,B$10:B63))","v":54},{"$f":"'الحارس الاول'!B56","v":"مصطفى54"},null,{"$f":"'الحارس الاول'!D56","v":0},{"$f":"'الحارس الاول'!E56","v":0},{"$f":"'الحارس الاول'!F56","v":0},{"$f":"'الحارس الاول'!G56","v":0},{"$f":"'الحارس الاول'!H56","v":0},{"$f":"'الحارس الاول'!I56","v":0},{"$f":"'الحارس الاول'!J56","v":0},{"$f":"'الحارس الاول'!K56","v":0},{"$f":"'الحارس الاول'!L56","v":0},{"$f":"'الحارس الاول'!M56","v":0},{"$f":"'الحارس الاول'!N56","v":0},{"$f":"'الحارس الاول'!O56","v":0},{"$f":"'الحارس الاول'!P56","v":0},{"$f":"'الحارس الاول'!Q56","v":0},{"$f":"'الحارس الاول'!R56","v":0},{"$f":"'الحارس الاول'!S56","v":0},{"$f":"'الحارس الاول'!T56","v":0},{"$f":"'الحارس الاول'!U56","v":0},{"$f":"'الحارس الاول'!V56","v":0},{"$f":"'الحارس الاول'!W56","v":0},{"$f":"COUNTBLANK($D63:$W63)","v":0},{"$f":"COUNTIF(D63:W63,\"إشراف\")","v":0},{"$f":"COUNTA(D63:W63)*2","v":40},null,null,null,null,null,null,null,null,null,null,null,null,null,null,null,null,null,null,null,"bb","مصطفى54","محمد علي  bb"]
[{"$f":"IF(B64=\"\",\"\",SUBTOTAL(3,B$10:B64))","v":55},{"$f":"'الحارس الاول'!B57","v":"مصطفى55"},null,{"$f":"'الحارس الاول'!D57","v":0},{"$f":"'الحارس الاول'!E57","v":0},{"$f":"'الحارس الاول'!F57","v":0},{"$f":"'الحارس الاول'!G57","v":0},{"$f":"'الحارس الاول'!H57","v":0},{"$f":"'الحارس الاول'!I57","v":0},{"$f":"'الحارس الاول'!J57","v":0},{"$f":"'الحارس الاول'!K57","v":0},{"$f":"'الحارس الاول'!L57","v":0},{"$f":"'الحارس الاول'!M57","v":0},{"$f":"'الحارس الاول'!N57","v":0},{"$f":"'الحارس الاول'!O57","v":0},{"$f":"'الحارس الاول'!P57","v":0},{"$f":"'الحارس الاول'!Q57","v":0},{"$f":"'الحارس الاول'!R57","v":0},{"$f":"'الحارس الاول'!S57","v":0},{"$f":"'الحارس الاول'!T57","v":0},{"$f":"'الحارس الاول'!U57","v":0},{"$f":"'الحارس الاول'!V57","v":0},{"$f":"'الحارس الاول'!W57","v":0},{"$f":"COUNTBLANK($D64:$W64)","v":0},{"$f":"COUNTIF(D64:W64,\"إشراف\")","v":0},{"$f":"COUNTA(D64:W64)*2","v":40},null,null,null,null,null,null,null,null,null,null,null,null,null,null,null,null,null,null,null,"cc","مصطفى55","محمد علي  cc"]
[{"$f":"IF(B65=\"\",\"\",SUBTOTAL(3,B$10:B65))","v":56},{"$f":"'الحارس الاول'!B58","v":"مصطفى56"},null,{"$f":"'الحارس الاول'!D58","v":0},{"$f":"'الحارس الاول'!E58","v":0},{"$f":"'الحارس الاول'!F58","v":0},{"$f":"'الحارس الاول'!G58","v":0},{"$f":"'الحارس الاول'!H58","v":0},{"$f":"'الحارس الاول'!I58","v":0},{"$f":"'الحارس الاول'!J58","v":0},{"$f":"'الحارس الاول'!K58","v":0},{"$f":"'الحارس الاول'!L58","v":0},{"$f":"'الحارس الاول'!M58","v":0},{"$f":"'الحارس الاول'!N58","v":0},{"$f":"'الحارس الاول'!O58","v":0},{"$f":"'الحارس الاول'!P58","v":0},{"$f":"'الحارس الاول'!Q58","v":0},{"$f":"'الحارس الاول'!R58","v":0},{"$f":"'الحارس الاول'!S58","v":0},{"$f":"'الحارس الاول'!T58","v":0},{"$f":"'الحارس الاول'!U58","v":0},{"$f":"'الحارس الاول'!V58","v":0},{"$f":"'الحارس الاول'!W58","v":0},{"$f":"COUNTBLANK($D65:$W65)","v":0},{"$f":"COUNTIF(D65:W65,\"إشراف\")","v":0},{"$f":"COUNTA(D65:W65)*2","v":40},null,null,null,null,null,null,null,null,null,null,null,null,null,null,null,null,null,null,null,"dd","مصطفى56","محمد علي  dd"]
[{"$f":"IF(B66=\"\",\"\",SUBTOTAL(3,B$10:B66))","v":57},{"$f":"'الحارس الاول'!B59","v":"مصطفى57"},null,{"$f":"'الحارس الاول'!D59","v":0},{"$f":"'الحارس الاول'!E59","v":0},{"$f":"'الحارس الاول'!F59","v":0},{"$f":"'الحارس الاول'!G59","v":0},{"$f":"'الحارس الاول'!H59","v":0},{"$f":"'الحارس الاول'!I59","v":0},{"$f":"'الحارس الاول'!J59","v":0},{"$f":"'الحارس الاول'!K59","v":0},{"$f":"'الحارس الاول'!L59","v":0},{"$f":"'الحارس الاول'!M59","v":0},{"$f":"'الحارس الاول'!N59","v":0},{"$f":"'الحارس الاول'!O59","v":0},{"$f":"'الحارس الاول'!P59","v":0},{"$f":"'الحارس الاول'!Q59","v":0},{"$f":"'الحارس الاول'!R59","v":0},{"$f":"'الحارس الاول'!S59","v":0},{"$f":"'الحارس الاول'!T59","v":0},{"$f":"'الحارس الاول'!U59","v":0},{"$f":"'الحارس الاول'!V59","v":0},{"$f":"'الحارس الاول'!W59","v":0},{"$f":"COUNTBLANK($D66:$W66)","v":0},{"$f":"COUNTIF(D66:W66,\"إشراف\")","v":0},{"$f":"COUNTA(D66:W66)*2","v":40},null,null,null,null,null,null,null,null,null,null,null,null,null,null,null,null,null,null,null,"ee","مصطفى57","محمد علي  ee"]
[{"$f":"IF(B67=\"\",\"\",SUBTOTAL(3,B$10:B67))","v":58},{"$f":"'الحارس الاول'!B60","v":"مصطفى58"},null,{"$f":"'الحارس الاول'!D60","v":0},{"$f":"'الحارس الاول'!E60","v":0},{"$f":"'الحارس الاول'!F60","v":0},{"$f":"'الحارس الاول'!G60","v":0},{"$f":"'الحارس الاول'!H60","v":0},{"$f":"'الحارس الاول'!I60","v":0},{"$f":"'الحارس الاول'!J60","v":0},{"$f":"'الحارس الاول'!K60","v":0},{"$f":"'الحارس الاول'!L60","v":0},{"$f":"'الحارس الاول'!M60","v":0},{"$f":"'الحارس الاول'!N60","v":0},{"$f":"'الحارس الاول'!O60","v":0},{"$f":"'الحارس الاول'!P60","v":0},{"$f":"'الحارس الاول'!Q60","v":0},{"$f":"'الحارس الاول'!R60","v":0},{"$f":"'الحارس الاول'!S60","v":0},{"$f":"'الحارس الاول'!T60","v":0},{"$f":"'الحارس الاول'!U60","v":0},{"$f":"'الحارس الاول'!V60","v":0},{"$f":"'الحارس الاول'!W60","v":0},{"$f":"COUNTBLANK($D67:$W67)","v":0},{"$f":"COUNTIF(D67:W67,\"إشراف\")","v":0},{"$f":"COUNTA(D67:W67)*2","v":40},null,null,null,null,null,null,null,null,null,null,null,null,null,null,null,null,null,null,null,"ff","مصطفى58","محمد علي  ff"]
[{"$f":"IF(B68=\"\",\"\",SUBTOTAL(3,B$10:B68))","v":59},{"$f":"'الحارس الاول'!B61","v":"مصطفى59"},null,{"$f":"'الحارس الاول'!D61","v":0},{"$f":"'الحارس الاول'!E61","v":0},{"$f":"'الحارس الاول'!F61","v":0},{"$f":"'الحارس الاول'!G61","v":0},{"$f":"'الحارس الاول'!H61","v":0},{"$f":"'الحارس الاول'!I61","v":0},{"$f":"'الحارس الاول'!J61","v":0},{"$f":"'الحارس الاول'!K61","v":0},{"$f":"'الحارس الاول'!L61","v":0},{"$f":"'الحارس الاول'!M61","v":0},{"$f":"'الحارس الاول'!N61","v":0},{"$f":"'الحارس الاول'!O61","v":0},{"$f":"'الحارس الاول'!P61","v":0},{"$f":"'الحارس الاول'!Q61","v":0},{"$f":"'الحارس الاول'!R61","v":0},{"$f":"'الحارس الاول'!S61","v":0},{"$f":"'الحارس الاول'!T61","v":0},{"$f":"'الحارس الاول'!U61","v":0},{"$f":"'الحارس الاول'!V61","v":0},{"$f":"'الحارس الاول'!W61","v":0},{"$f":"COUNTBLANK($D68:$W68)","v":0},{"$f":"COUNTIF(D68:W68,\"إشراف\")","v":0},{"$f":"COUNTA(D68:W68)*2","v":40},null,null,null,null,null,null,null,null,null,null,null,null,null,null,null,null,null,null,null,"gg","مصطفى59","محمد علي  gg"]
[{"$f":"IF(B69=\"\",\"\",SUBTOTAL(3,B$10:B69))","v":60},{"$f":"'الحارس الاول'!B62","v":"مصطفى60"},null,{"$f":"'الحارس الاول'!D62","v":0},{"$f":"'الحارس الاول'!E62","v":0},{"$f":"'الحارس الاول'!F62","v":0},{"$f":"'الحارس الاول'!G62","v":0},{"$f":"'الحارس الاول'!H62","v":0},{"$f":"'الحارس الاول'!I62","v":0},{"$f":"'الحارس الاول'!J62","v":0},{"$f":"'الحارس الاول'!K62","v":0},{"$f":"'الحارس الاول'!L62","v":0},{"$f":"'الحارس الاول'!M62","v":0},{"$f":"'الحارس الاول'!N62","v":0},{"$f":"'الحارس الاول'!O62","v":0},{"$f":"'الحارس الاول'!P62","v":0},{"$f":"'الحارس الاول'!Q62","v":0},{"$f":"'الحارس الاول'!R62","v":0},{"$f":"'الحارس الاول'!S62","v":0},{"$f":"'الحارس الاول'!T62","v":0},{"$f":"'الحارس الاول'!U62","v":0},{"$f":"'الحارس الاول'!V62","v":0},{"$f":"'الحارس الاول'!W62","v":0},{"$f":"COUNTBLANK($D69:$W69)","v":0},{"$f":"COUNTIF(D69:W69,\"إشراف\")","v":0},{"$f":"COUNTA(D69:W69)*2","v":40},null,null,null,null,null,null,null,null,null,null,null,null,null,null,null,null,null,null,null,"hh","مصطفى60","محمد علي  hh"]
[{"$f":"IF(B70=\"\",\"\",SUBTOTAL(3,B$10:B70))","v":61},{"$f":"'الحارس الاول'!B63","v":"مصطفى61"},null,{"$f":"'الحارس الاول'!D63","v":0},{"$f":"'الحارس الاول'!E63","v":0},{"$f":"'الحارس الاول'!F63","v":0},{"$f":"'الحارس الاول'!G63","v":0},{"$f":"'الحارس الاول'!H63","v":0},{"$f":"'الحارس الاول'!I63","v":0},{"$f":"'الحارس الاول'!J63","v":0},{"$f":"'الحارس الاول'!K63","v":0},{"$f":"'الحارس الاول'!L63","v":0},{"$f":"'الحارس الاول'!M63","v":0},{"$f":"'الحارس الاول'!N63","v":0},{"$f":"'الحارس الاول'!O63","v":0},{"$f":"'الحارس الاول'!P63","v":0},{"$f":"'الحارس الاول'!Q63","v":0},{"$f":"'الحارس الاول'!R63","v":0},{"$f":"'الحارس الاول'!S63","v":0},{"$f":"'الحارس الاول'!T63","v":0},{"$f":"'الحارس الاول'!U63","v":0},{"$f":"'الحارس الاول'!V63","v":0},{"$f":"'الحارس الاول'!W63","v":0},{"$f":"COUNTBLANK($D70:$W70)","v":0},{"$f":"COUNTIF(D70:W70,\"إشراف\")","v":0},{"$f":"COUNTA(D70:W70)*2","v":40},null,null,null,null,null,null,null,null,null,null,null,null,null,null,null,null,null,null,null,"kk","مصطفى61","محمد علي  kk"]
[null,{"$f":"'الحارس الاول'!B64","v":0},null,null,null,null,null,null,null,null,null,null,null,null,null,null,null,null,null,null,null,null,null,null,null,null,null,null,null,null,null,null,null,null,null,null,null,null,null,null,null,null,null,null,null,null,0,"0 "]

{"sheet":"القاعات","index":2,"n_rows":70,"n_cols":30,"rows_kept":70,"cut":false,"hidden":false,"merged":[[7,15,7,16],[7,17,7,18],[7,19,7,20],[7,21,7,22],[5,1,8,1],[0,10,1,17],[7,3,7,4],[7,5,7,6],[7,7,7,8],[7,9,7,10],[7,11,7,12],[7,13,7,14],[5,15,5,18],[5,19,5,22],[5,23,8,23],[5,24,8,24],[5,25,8,25],[6,3,6,6],[6,7,6,10],[6,11,6,14],[6,15,6,18],[6,19,6,22],[4,12,4,13],[4,14,4,16],[4,19,4,21],[4,22,4,25],[5,2,8,2],[5,3,5,6],[5,7,5,10],[5,11,5,14],[2,6,2,10],[2,21,2,24],[3,6,3,10],[3,12,3,13],[3,14,3,16]]}
[null,null,null,null,null,"الجمهورية الجزائرية الديمقراطية الشعبية",null,null,null,null,"توزيع الحراس على القاعات"]
[]
[null,null,null,null,null,null,"مديرية التربية لولاية الوادي",null,null,null,null,null,null,null,null,null,null,null,{"$f":"'جدول الحراسة'!F3","v":"     السنة الدراسية:"},null,null,{"$f":"'جدول الحراسة'!G3","v":"2022/2021"}]
[null,null,null,null,null,null,{"$f":"'جدول الحراسة'!A4","v":"ثانويـة ................."},null,null,null,null,null,"عدد الساعات",null,"البحث عن أستاذ",null,null,null,null,null,null,null,null,null,null,null,null,null,{"$f":"IF(D7=AC6,AD6)","v":false}]
[null,null,null,"بـرنامج الحراسة خلال اختبارات الفصل الثاني",null,null,null,null,null,null,null,null,{"$f":"COUNTIF(D10:W38,$O$5)*2","v":0},null,2,null,null,null,null,"مجموع الأساتذة",null,null,{"$f":"COUNTA(C10:C66)","v":57}]
[null,"القاعات","المراقب",{"$f":"D7","v":"2025-12-07"},null,null,null,{"$f":"H7","v":"2025-12-08"},null,null,null,{"$f":"L7","v":"2025-12-09"},null,null,null,{"$f":"P7","v":"2025-12-10"},null,null,null,{"$f":"T7","v":"2025-12-11"},null,null,null,"ساعات الراحـــــة","الإشـــــراف","ساعات العمـل",null,"IF(C7=AC6;AB6)","الأحد",{"$f":"D7","v":"2025-12-07"}]
[null,null,null,"2025-12-07",null,null,null,{"$f":"D7+1","v":"2025-12-08"},null,null,null,{"$f":"H7+1","v":"2025-12-09"},null,null,null,{"$f":"L7+1","v":"2025-12-10"},null,null,null,{"$f":"P7+1","v":"2025-12-11"},null,null,null,null,null,null,null,null,"الإثنين",{"$f":"#REF!","v":{"$error":"#REF!"}}]
[null,null,null,"صباحا",null,"مساءا",null,"صباحا",null,"مساءا",null,"صباحا",null,"مساءا",null,"صباحا",null,"مساءا",null,"صباحا",null,"مساءا",null,null,null,null,null,null,"الثلاثاء",{"$f":"H7","v":"2025-12-08"}]
[null,null,null,"8:00 10:00","10:00 12:00","13:30 15:30","15:30 16:30 ","8:00 10:00","10:00 12:00","13:30 15:30","15:30 16:30 ","8:00 10:00","10:00 12:00","13:30 15:30","15:30 16:30 ","8:00 10:00","10:00 12:00","13:30 15:30","15:30 16:30 ","8:00 10:00","10:00 12:00","13:30 15:30","15:30 16:30 ",null,null,null,null,null,"الإربعاء",{"$f":"P7","v":"2025-12-10"}]
[{"$f":"IF(C10=\"\",\"\",SUBTOTAL(3,C$10:C10))","v":1},1,{"$f":"'الحارس الاول'!B3","v":"مصطفى1"},"ق1",null,null,"ق1",null,null,"ق1",null,null,"ق1","ق1",null,null,null,null,null,null,null,null,null,null,null,null,null,null,"الخميس",{"$f":"T7","v":"2025-12-11"}]
[{"$f":"IF(C11=\"\",\"\",SUBTOTAL(3,C$10:C11))","v":2},2,{"$f":"'الحارس الاول'!B4","v":"مصطفى2"},null,null,"ق3",null,null,"ق3",null,null,"ق3",null,null,null,"ق3",null,null,null,null,null,null,null,{"$f":"COUNTBLANK($D11:$W11)","v":16},{"$f":"COUNTIF(D11:W11,\"إشراف\")","v":0},{"$f":"COUNTA(D11:W11)*2","v":8}]
[{"$f":"IF(C12=\"\",\"\",SUBTOTAL(3,C$10:C12))","v":3},3,{"$f":"'الحارس الاول'!B5","v":"مصطفى3"},"ق2",null,null,"ق2",null,null,"ق2",null,null,"ق2","ق2",null,null,null,null,null,null,null,null,null,{"$f":"COUNTBLANK($D12:$W12)","v":15},{"$f":"COUNTIF(D12:W12,\"إشراف\")","v":0},{"$f":"COUNTA(D12:W12)*2","v":10}]
[{"$f":"IF(C13=\"\",\"\",SUBTOTAL(3,C$10:C13))","v":4},4,{"$f":"'الحارس الاول'!B6","v":"مصطفى4"},null,null,"ق4",null,null,"ق4",null,null,"ق4",null,null,null,"ق4",null,null,null,null,null,null,null,{"$f":"COUNTBLANK($D13:$W13)","v":16},{"$f":"COUNTIF(D13:W13,\"إشراف\")","v":0},{"$f":"COUNTA(D13:W13)*2","v":8}]
[{"$f":"IF(C14=\"\",\"\",SUBTOTAL(3,C$10:C14))","v":5},5,{"$f":"'الحارس الاول'!B7","v":"مصطفى5"},"ق3",null,null,"ق3",null,null,"ق3",null,null,"ق3","ق3",null,null,null,null,null,null,null,null,null,{"$f":"COUNTBLANK($D14:$W14)","v":15},{"$f":"COUNTIF(D14:W14,\"إشراف\")","v":0},{"$f":"COUNTA(D14:W14)*2","v":10}]
[{"$f":"IF(C15=\"\",\"\",SUBTOTAL(3,C$10:C15))","v":6},6,{"$f":"'الحارس الاول'!B8","v":"مصطفى6"},"ق4",null,null,"ق4",null,null,"ق4",null,null,"ق4","ق4",null,null,null,null,null,null,null,null,null,{"$f":"COUNTBLANK($D15:$W15)","v":15},{"$f":"COUNTIF(D15:W15,\"إشراف\")","v":0},{"$f":"COUNTA(D15:W15)*2","v":10}]
[{"$f":"IF(C16=\"\",\"\",SUBTOTAL(3,C$10:C16))","v":7},7,{"$f":"'الحارس الاول'!B9","v":"مصطفى7"},null,null,"ق5",null,null,"ق5",null,null,"ق5",null,null,null,"ق5",null,null,null,null,null,null,null,{"$f":"COUNTBLANK($D16:$W16)","v":16},{"$f":"COUNTIF(D16:W16,\"إشراف\")","v":0},{"$f":"COUNTA(D16:W16)*2","v":8}]
[{"$f":"IF(C17=\"\",\"\",SUBTOTAL(3,C$10:C17))","v":8},8,{"$f":"'الحارس الاول'!B10","v":"مصطفى8"},"ق5",null,null,"ق5",null,null,"ق5",null,null,"ق5","ق5",null,null,null,null,null,null,null,null,null,{"$f":"COUNTBLANK($D17:$W17)","v":15},{"$f":"COUNTIF(D17:W17,\"إشراف\")","v":0},{"$f":"COUNTA(D17:W17)*2","v":10}]
[{"$f":"IF(C18=\"\",\"\",SUBTOTAL(3,C$10:C18))","v":9},9,{"$f":"'الحارس الاول'!B11","v":"مصطفى9"},null,null,"ق6",null,null,"ق6",null,null,"ق6",null,null,null,"ق6",null,null,null,null,null,null,null,{"$f":"COUNTBLANK($D18:$W18)","v":16},{"$f":"COUNTIF(D18:W18,\"إشراف\")","v":0},{"$f":"COUNTA(D18:W18)*2","v":8}]
[{"$f":"IF(C19=\"\",\"\",SUBTOTAL(3,C$10:C19))","v":10},10,{"$f":"'الحارس الاول'!B12","v":"مصطفى10"},null,null,null,null,null,null,null,null,null,null,null,null,null,null,null,null,null,null,null,null,{"$f":"COUNTBLANK($D19:$W19)","v":20},{"$f":"COUNTIF(D19:W19,\"إشراف\")","v":0},{"$f":"COUNTA(D19:W19)*2","v":0}]
[{"$f":"IF(C20=\"\",\"\",SUBTOTAL(3,C$10:C20))","v":11},11,{"$f":"'الحارس الاول'!B13","v":"مصطفى11"},null,null,null,null,null,null,null,null,null,null,null,null,null,null,null,null,null,null,null,null,{"$f":"COUNTBLANK($D20:$W20)","v":20},{"$f":"COUNTIF(D20:W20,\"إشراف\")","v":0},{"$f":"COUNTA(D20:W20)*2","v":0}]
[{"$f":"IF(C21=\"\",\"\",SUBTOTAL(3,C$10:C21))","v":12},12,{"$f":"'الحارس الاول'!B14","v":"مصطفى12"},null,null,null,null,null,null,null,null,null,null,null,null,null,null,null,null,null,null,null,null,{"$f":"COUNTBLANK($D21:$W21)","v":20},{"$f":"COUNTIF(D21:W21,\"إشراف\")","v":0},{"$f":"COUNTA(D21:W21)*2","v":0}]
[{"$f":"IF(C22=\"\",\"\",SUBTOTAL(3,C$10:C22))","v":13},13,{"$f":"'الحارس الاول'!B15","v":"مصطفى13"},null,null,null,null,null,null,null,null,null,null,null,null,null,null,null,null,null,null,null,null,{"$f":"COUNTBLANK($D22:$W22)","v":20},{"$f":"COUNTIF(D22:W22,\"إشراف\")","v":0},{"$f":"COUNTA(D22:W22)*2","v":0}]
[{"$f":"IF(C23=\"\",\"\",SUBTOTAL(3,C$10:C23))","v":14},14,{"$f":"'الحارس الاول'!B16","v":"مصطفى14"},null,null,null,null,null,null,null,null,null,null,null,null,null,null,null,null,null,null,null,null,{"$f":"COUNTBLANK($D23:$W23)","v":20},{"$f":"COUNTIF(D23:W23,\"إشراف\")","v":0},{"$f":"COUNTA(D23:W23)*2","v":0}]
[{"$f":"IF(C24=\"\",\"\",SUBTOTAL(3,C$10:C24))","v":15},15,{"$f":"'الحارس الاول'!B17","v":"مصطفى15"},null,null,null,null,null,null,null,null,null,null,null,null,null,null,null,null,null,null,null,null,{"$f":"COUNTBLANK($D24:$W24)","v":20},{"$f":"COUNTIF(D24:W24,\"إشراف\")","v":0},{"$f":"COUNTA(D24:W24)*2","v":0}]
[{"$f":"IF(C25=\"\",\"\",SUBTOTAL(3,C$10:C25))","v":16},16,{"$f":"'الحارس الاول'!B18","v":"مصطفى16"},null,null,null,null,null,null,null,null,null,null,null,null,null,null,null,null,null,null,null,null,{"$f":"COUNTBLANK($D25:$W25)","v":20},{"$f":"COUNTIF(D25:W25,\"إشراف\")","v":0},{"$f":"COUNTA(D25:W25)*2","v":0}]
[{"$f":"IF(C26=\"\",\"\",SUBTOTAL(3,C$10:C26))","v":17},17,{"$f":"'الحارس الاول'!B19","v":"مصطفى17"},null,null,null,null,null,null,null,null,null,null,null,null,null,null,null,null,null,null,null,null,{"$f":"COUNTBLANK($D26:$W26)","v":20},{"$f":"COUNTIF(D26:W26,\"إشراف\")","v":0},{"$f":"COUNTA(D26:W26)*2","v":0}]
[{"$f":"IF(C27=\"\",\"\",SUBTOTAL(3,C$10:C27))","v":18},18,{"$f":"'الحارس الاول'!B20","v":"مصطفى18"},null,null,null,null,null,null,null,null,null,null,null,null,null,null,null,null,null,null,null,null,{"$f":"COUNTBLANK($D27:$W27)","v":20},{"$f":"COUNTIF(D27:W27,\"إشراف\")","v":0},{"$f":"COUNTA(D27:W27)*2","v":0}]
[{"$f":"IF(C28=\"\",\"\",SUBTOTAL(3,C$10:C28))","v":19},19,{"$f":"'الحارس الاول'!B21","v":"مصطفى19"},null,null,null,null,null,null,null,null,null,null,null,null,null,null,null,null,null,null,null,null,{"$f":"COUNTBLANK($D28:$W28)","v":20},{"$f":"COUNTIF(D28:W28,\"إشراف\")","v":0},{"$f":"COUNTA(D28:W28)*2","v":0}]
[{"$f":"IF(C29=\"\",\"\",SUBTOTAL(3,C$10:C29))","v":20},20,{"$f":"'الحارس الاول'!B22","v":"مصطفى20"},null,null,null,null,null,null,null,null,null,null,null,null,null,null,null,null,null,null,null,null,{"$f":"COUNTBLANK($D29:$W29)","v":20},{"$f":"COUNTIF(D29:W29,\"إشراف\")","v":0},{"$f":"COUNTA(D29:W29)*2","v":0}]
[{"$f":"IF(C30=\"\",\"\",SUBTOTAL(3,C$10:C30))","v":21},21,{"$f":"'الحارس الاول'!B23","v":"مصطفى21"},null,null,null,null,null,null,null,null,null,null,null,null,null,null,null,null,null,null,null,null,{"$f":"COUNTBLANK($D30:$W30)","v":20},{"$f":"COUNTIF(D30:W30,\"إشراف\")","v":0},{"$f":"COUNTA(D30:W30)*2","v":0}]
[{"$f":"IF(C31=\"\",\"\",SUBTOTAL(3,C$10:C31))","v":22},22,{"$f":"'الحارس الاول'!B24","v":"مصطفى22"},null,null,null,null,null,null,null,null,null,null,null,null,null,null,null,null,null,null,null,null,{"$f":"COUNTBLANK($D31:$W31)","v":20},{"$f":"COUNTIF(D31:W31,\"إشراف\")","v":0},{"$f":"COUNTA(D31:W31)*2","v":0}]
[{"$f":"IF(C32=\"\",\"\",SUBTOTAL(3,C$10:C32))","v":23},23,{"$f":"'الحارس الاول'!B25","v":"مصطفى23"},null,null,null,null,null,null,null,null,null,null,null,null,null,null,null,null,null,null,null,null,{"$f":"COUNTBLANK($D32:$W32)","v":20},{"$f":"COUNTIF(D32:W32,\"إشراف\")","v":0},{"$f":"COUNTA(D32:W32)*2","v":0}]
[{"$f":"IF(C33=\"\",\"\",SUBTOTAL(3,C$10:C33))","v":24},null,{"$f":"'الحارس الاول'!B26","v":"مصطفى24"},null,null,null,null,null,null,null,null,null,null,null,null,null,null,null,null,null,null,null,null,{"$f":"COUNTBLANK($D33:$W33)","v":20},{"$f":"COUNTIF(D33:W33,\"إشراف\")","v":0},{"$f":"COUNTA(D33:W33)*2","v":0}]
[{"$f":"IF(C34=\"\",\"\",SUBTOTAL(3,C$10:C34))","v":25},null,{"$f":"'الحارس الاول'!B27","v":"مصطفى25"},null,null,null,null,null,null,null,null,null,null,null,null,null,null,null,null,null,null,null,null,{"$f":"COUNTBLANK($D34:$W34)","v":20},{"$f":"COUNTIF(D34:W34,\"إشراف\")","v":0},{"$f":"COUNTA(D34:W34)*2","v":0}]
[{"$f":"IF(C35=\"\",\"\",SUBTOTAL(3,C$10:C35))","v":26},null,{"$f":"'الحارس الاول'!B28","v":"مصطفى26"},null,null,null,null,null,null,null,null,null,null,null,null,null,null,null,null,null,null,null,null,{"$f":"COUNTBLANK($D35:$W35)","v":20},{"$f":"COUNTIF(D35:W35,\"إشراف\")","v":0},{"$f":"COUNTA(D35:W35)*2","v":0}]
[{"$f":"IF(C36=\"\",\"\",SUBTOTAL(3,C$10:C36))","v":27},null,{"$f":"'الحارس الاول'!B29","v":"مصطفى27"},null,null,null,null,null,null,null,null,null,null,null,null,null,null,null,null,null,null,null,null,{"$f":"COUNTBLANK($D36:$W36)","v":20},{"$f":"COUNTIF(D36:W36,\"إشراف\")","v":0},{"$f":"COUNTA(D36:W36)*2","v":0}]
[{"$f":"IF(C37=\"\",\"\",SUBTOTAL(3,C$10:C37))","v":28},null,{"$f":"'الحارس الاول'!B30","v":"مصطفى28"},null,null,null,null,null,null,null,null,null,null,null,null,null,null,null,null,null,null,null,null,{"$f":"COUNTBLANK($D37:$W37)","v":20},{"$f":"COUNTIF(D37:W37,\"إشراف\")","v":0},{"$f":"COUNTA(D37:W37)*2","v":0}]
[{"$f":"IF(C38=\"\",\"\",SUBTOTAL(3,C$10:C38))","v":29},null,{"$f":"'الحارس الاول'!B31","v":"مصطفى29"},null,null,null,null,null,null,null,null,null,null,null,null,null,null,null,null,null,null,null,null,{"$f":"COUNTBLANK($D38:$W38)","v":20},{"$f":"COUNTIF(D38:W38,\"إشراف\")","v":0},{"$f":"COUNTA(D38:W38)*2","v":0}]
[{"$f":"IF(C39=\"\",\"\",SUBTOTAL(3,C$10:C39))","v":30},null,{"$f":"'الحارس الاول'!B32","v":"مصطفى30"},null,null,null,null,null,null,null,null,null,null,null,null,null,null,null,null,null,null,null,null,{"$f":"COUNTBLANK($D39:$W39)","v":20},{"$f":"COUNTIF(D39:W39,\"إشراف\")","v":0},{"$f":"COUNTA(D39:W39)*2","v":0}]
[{"$f":"IF(C40=\"\",\"\",SUBTOTAL(3,C$10:C40))","v":31},null,{"$f":"'الحارس الاول'!B33","v":"مصطفى31"},null,null,null,null,null,null,null,null,null,null,null,null,null,null,null,null,null,null,null,null,{"$f":"COUNTBLANK($D40:$W40)","v":20},{"$f":"COUNTIF(D40:W40,\"إشراف\")","v":0},{"$f":"COUNTA(D40:W40)*2","v":0}]
[{"$f":"IF(C41=\"\",\"\",SUBTOTAL(3,C$10:C41))","v":32},null,{"$f":"'الحارس الاول'!B34","v":"مصطفى32"},null,null,null,null,null,null,null,null,null,null,null,null,null,null,null,null,null,null,null,null,{"$f":"COUNTBLANK($D41:$W41)","v":20},{"$f":"COUNTIF(D41:W41,\"إشراف\")","v":0},{"$f":"COUNTA(D41:W41)*2","v":0}]
[{"$f":"IF(C42=\"\",\"\",SUBTOTAL(3,C$10:C42))","v":33},null,{"$f":"'الحارس الاول'!B35","v":"مصطفى33"},null,null,null,null,null,null,null,null,null,null,null,null,null,null,null,null,null,null,null,null,{"$f":"COUNTBLANK($D42:$W42)","v":20},{"$f":"COUNTIF(D42:W42,\"إشراف\")","v":0},{"$f":"COUNTA(D42:W42)*2","v":0}]
[{"$f":"IF(C43=\"\",\"\",SUBTOTAL(3,C$10:C43))","v":34},null,{"$f":"'الحارس الاول'!B36","v":"مصطفى34"},null,null,null,null,null,null,null,null,null,null,null,null,null,null,null,null,null,null,null,null,{"$f":"COUNTBLANK($D43:$W43)","v":20},{"$f":"COUNTIF(D43:W43,\"إشراف\")","v":0},{"$f":"COUNTA(D43:W43)*2","v":0}]
[{"$f":"IF(C44=\"\",\"\",SUBTOTAL(3,C$10:C44))","v":35},null,{"$f":"'الحارس الاول'!B37","v":"مصطفى35"},null,null,null,null,null,null,null,null,null,null,null,null,null,null,null,null,null,null,null,null,{"$f":"COUNTBLANK($D44:$W44)","v":20},{"$f":"COUNTIF(D44:W44,\"إشراف\")","v":0},{"$f":"COUNTA(D44:W44)*2","v":0}]
[{"$f":"IF(C45=\"\",\"\",SUBTOTAL(3,C$10:C45))","v":36},null,{"$f":"'الحارس الاول'!B38","v":"مصطفى36"},null,null,null,null,null,null,null,null,null,null,null,null,null,null,null,null,null,null,null,null,{"$f":"COUNTBLANK($D45:$W45)","v":20},{"$f":"COUNTIF(D45:W45,\"إشراف\")","v":0},{"$f":"COUNTA(D45:W45)*2","v":0}]
[{"$f":"IF(C46=\"\",\"\",SUBTOTAL(3,C$10:C46))","v":37},null,{"$f":"'الحارس الاول'!B39","v":"مصطفى37"},null,null,null,null,null,null,null,null,null,null,null,null,null,null,null,null,null,null,null,null,{"$f":"COUNTBLANK($D46:$W46)","v":20},{"$f":"COUNTIF(D46:W46,\"إشراف\")","v":0},{"$f":"COUNTA(D46:W46)*2","v":0}]
[{"$f":"IF(C47=\"\",\"\",SUBTOTAL(3,C$10:C47))","v":38},null,{"$f":"'الحارس الاول'!B40","v":"مصطفى38"},null,null,null,null,null,null,null,null,null,null,null,null,null,null,null,null,null,null,null,null,{"$f":"COUNTBLANK($D47:$W47)","v":20},{"$f":"COUNTIF(D47:W47,\"إشراف\")","v":0},{"$f":"COUNTA(D47:W47)*2","v":0}]
[{"$f":"IF(C48=\"\",\"\",SUBTOTAL(3,C$10:C48))","v":39},null,{"$f":"'الحارس الاول'!B41","v":"مصطفى39"},null,null,null,null,null,null,null,null,null,null,null,null,null,null,null,null,null,null,null,null,{"$f":"COUNTBLANK($D48:$W48)","v":20},{"$f":"COUNTIF(D48:W48,\"إشراف\")","v":0},{"$f":"COUNTA(D48:W48)*2","v":0}]
[{"$f":"IF(C49=\"\",\"\",SUBTOTAL(3,C$10:C49))","v":40},null,{"$f":"'الحارس الاول'!B42","v":"مصطفى40"},null,null,null,null,null,null,null,null,null,null,null,null,null,null,null,null,null,null,null,null,{"$f":"COUNTBLANK($D49:$W49)","v":20},{"$f":"COUNTIF(D49:W49,\"إشراف\")","v":0},{"$f":"COUNTA(D49:W49)*2","v":0}]
[{"$f":"IF(C50=\"\",\"\",SUBTOTAL(3,C$10:C50))","v":41},null,{"$f":"'الحارس الاول'!B43","v":"مصطفى41"},null,null,null,null,null,null,null,null,null,null,null,null,null,null,null,null,null,null,null,null,{"$f":"COUNTBLANK($D50:$W50)","v":20},{"$f":"COUNTIF(D50:W50,\"إشراف\")","v":0},{"$f":"COUNTA(D50:W50)*2","v":0}]
[{"$f":"IF(C51=\"\",\"\",SUBTOTAL(3,C$10:C51))","v":42},null,{"$f":"'الحارس الاول'!B44","v":"مصطفى42"},0,0,0,0,0,0,0,0,0,0,0,0,0,0,0,0,0,0,0,0,{"$f":"COUNTBLANK($D51:$W51)","v":0},{"$f":"COUNTIF(D51:W51,\"إشراف\")","v":0},{"$f":"COUNTA(D51:W51)*2","v":40}]
[{"$f":"IF(C52=\"\",\"\",SUBTOTAL(3,C$10:C52))","v":43},null,{"$f":"'الحارس الاول'!B45","v":"مصطفى43"},0,0,0,0,0,0,0,0,0,0,0,0,0,0,0,0,0,0,0,0,{"$f":"COUNTBLANK($D52:$W52)","v":0},{"$f":"COUNTIF(D52:W52,\"إشراف\")","v":0},{"$f":"COUNTA(D52:W52)*2","v":40}]
[{"$f":"IF(C53=\"\",\"\",SUBTOTAL(3,C$10:C53))","v":44},null,{"$f":"'الحارس الاول'!B46","v":"مصطفى44"},0,0,0,0,0,0,0,0,0,0,0,0,0,0,0,0,0,0,0,0,{"$f":"COUNTBLANK($D53:$W53)","v":0},{"$f":"COUNTIF(D53:W53,\"إشراف\")","v":0},{"$f":"COUNTA(D53:W53)*2","v":40}]
[{"$f":"IF(C54=\"\",\"\",SUBTOTAL(3,C$10:C54))","v":45},null,{"$f":"'الحارس الاول'!B47","v":"مصطفى45"},0,0,0,0,0,0,0,0,0,0,0,0,0,0,0,0,0,0,0,0,{"$f":"COUNTBLANK($D54:$W54)","v":0},{"$f":"COUNTIF(D54:W54,\"إشراف\")","v":0},{"$f":"COUNTA(D54:W54)*2","v":40}]
[{"$f":"IF(C55=\"\",\"\",SUBTOTAL(3,C$10:C55))","v":46},null,{"$f":"'الحارس الاول'!B48","v":"مصطفى46"},0,0,0,0,0,0,0,0,0,0,0,0,0,0,0,0,0,0,0,0,{"$f":"COUNTBLANK($D55:$W55)","v":0},{"$f":"COUNTIF(D55:W55,\"إشراف\")","v":0},{"$f":"COUNTA(D55:W55)*2","v":40}]
[{"$f":"IF(C56=\"\",\"\",SUBTOTAL(3,C$10:C56))","v":47},null,{"$f":"'الحارس الاول'!B49","v":"مصطفى47"},0,0,0,0,0,0,0,0,0,0,0,0,0,0,0,0,0,0,0,0,{"$f":"COUNTBLANK($D56:$W56)","v":0},{"$f":"COUNTIF(D56:W56,\"إشراف\")","v":0},{"$f":"COUNTA(D56:W56)*2","v":40}]
[{"$f":"IF(C57=\"\",\"\",SUBTOTAL(3,C$10:C57))","v":48},null,{"$f":"'الحارس الاول'!B50","v":"مصطفى48"},0,0,0,0,0,0,0,0,0,0,0,0,0,0,0,0,0,0,0,0,{"$f":"COUNTBLANK($D57:$W57)","v":0},{"$f":"COUNTIF(D57:W57,\"إشراف\")","v":0},{"$f":"COUNTA(D57:W57)*2","v":40}]
[{"$f":"IF(C58=\"\",\"\",SUBTOTAL(3,C$10:C58))","v":49},null,{"$f":"'الحارس الاول'!B51","v":"مصطفى49"},0,0,0,0,0,0,0,0,0,0,0,0,0,0,0,0,0,0,0,0,{"$f":"COUNTBLANK($D58:$W58)","v":0},{"$f":"COUNTIF(D58:W58,\"إشراف\")","v":0},{"$f":"COUNTA(D58:W58)*2","v":40}]
[{"$f":"IF(C59=\"\",\"\",SUBTOTAL(3,C$10:C59))","v":50},null,{"$f":"'الحارس الاول'!B52","v":"مصطفى50"},0,0,0,0,0,0,0,0,0,0,0,0,0,0,0,0,0,0,0,0,{"$f":"COUNTBLANK($D59:$W59)","v":0},{"$f":"COUNTIF(D59:W59,\"إشراف\")","v":0},{"$f":"COUNTA(D59:W59)*2","v":40}]
[{"$f":"IF(C60=\"\",\"\",SUBTOTAL(3,C$10:C60))","v":51},null,{"$f":"'الحارس الاول'!B53","v":"مصطفى51"},0,0,0,0,0,0,0,0,0,0,0,0,0,0,0,0,0,0,0,0,{"$f":"COUNTBLANK($D60:$W60)","v":0},{"$f":"COUNTIF(D60:W60,\"إشراف\")","v":0},{"$f":"COUNTA(D60:W60)*2","v":40}]
[{"$f":"IF(C61=\"\",\"\",SUBTOTAL(3,C$10:C61))","v":52},null,{"$f":"'الحارس الاول'!B54","v":"مصطفى52"},0,0,0,0,0,0,0,0,0,0,0,0,0,0,0,0,0,0,0,0,{"$f":"COUNTBLANK($D61:$W61)","v":0},{"$f":"COUNTIF(D61:W61,\"إشراف\")","v":0},{"$f":"COUNTA(D61:W61)*2","v":40}]
[{"$f":"IF(C62=\"\",\"\",SUBTOTAL(3,C$10:C62))","v":53},null,{"$f":"'الحارس الاول'!B55","v":"مصطفى53"},0,0,0,0,0,0,0,0,0,0,0,0,0,0,0,0,0,0,0,0,{"$f":"COUNTBLANK($D62:$W62)","v":0},{"$f":"COUNTIF(D62:W62,\"إشراف\")","v":0},{"$f":"COUNTA(D62:W62)*2","v":40}]
[{"$f":"IF(C63=\"\",\"\",SUBTOTAL(3,C$10:C63))","v":54},null,{"$f":"'الحارس الاول'!B56","v":"مصطفى54"},0,0,0,0,0,0,0,0,0,0,0,0,0,0,0,0,0,0,0,0,{"$f":"COUNTBLANK($D63:$W63)","v":0},{"$f":"COUNTIF(D63:W63,\"إشراف\")","v":0},{"$f":"COUNTA(D63:W63)*2","v":40}]
[{"$f":"IF(C64=\"\",\"\",SUBTOTAL(3,C$10:C64))","v":55},null,{"$f":"'الحارس الاول'!B57","v":"مصطفى55"},0,0,0,0,0,0,0,0,0,0,0,0,0,0,0,0,0,0,0,0,{"$f":"COUNTBLANK($D64:$W64)","v":0},{"$f":"COUNTIF(D64:W64,\"إشراف\")","v":0},{"$f":"COUNTA(D64:W64)*2","v":40}]
[{"$f":"IF(C65=\"\",\"\",SUBTOTAL(3,C$10:C65))","v":56},null,{"$f":"'الحارس الاول'!B58","v":"مصطفى56"},0,0,0,0,0,0,0,0,0,0,0,0,0,0,0,0,0,0,0,0,{"$f":"COUNTBLANK($D65:$W65)","v":0},{"$f":"COUNTIF(D65:W65,\"إشراف\")","v":0},{"$f":"COUNTA(D65:W65)*2","v":40}]
[{"$f":"IF(C66=\"\",\"\",SUBTOTAL(3,C$10:C66))","v":57},null,{"$f":"'الحارس الاول'!B59","v":"مصطفى57"},0,0,0,0,0,0,0,0,0,0,0,0,0,0,0,0,0,0,0,0,{"$f":"COUNTBLANK($D66:$W66)","v":0},{"$f":"COUNTIF(D66:W66,\"إشراف\")","v":0},{"$f":"COUNTA(D66:W66)*2","v":40}]
[{"$f":"IF(C67=\"\",\"\",SUBTOTAL(3,C$10:C67))","v":58},null,{"$f":"'الحارس الاول'!B60","v":"مصطفى58"},0,0,0,0,0,0,0,0,0,0,0,0,0,0,0,0,0,0,0,0,{"$f":"COUNTBLANK($D67:$W67)","v":0},{"$f":"COUNTIF(D67:W67,\"إشراف\")","v":0},{"$f":"COUNTA(D67:W67)*2","v":40}]
[{"$f":"IF(C68=\"\",\"\",SUBTOTAL(3,C$10:C68))","v":59},null,{"$f":"'الحارس الاول'!B61","v":"مصطفى59"},0,0,0,0,0,0,0,0,0,0,0,0,0,0,0,0,0,0,0,0,{"$f":"COUNTBLANK($D68:$W68)","v":0},{"$f":"COUNTIF(D68:W68,\"إشراف\")","v":0},{"$f":"COUNTA(D68:W68)*2","v":40}]
[{"$f":"IF(C69=\"\",\"\",SUBTOTAL(3,C$10:C69))","v":60},null,{"$f":"'الحارس الاول'!B62","v":"مصطفى60"},0,0,0,0,0,0,0,0,0,0,0,0,0,0,0,0,0,0,0,0,{"$f":"COUNTBLANK($D69:$W69)","v":0},{"$f":"COUNTIF(D69:W69,\"إشراف\")","v":0},{"$f":"COUNTA(D69:W69)*2","v":40}]
[{"$f":"IF(C70=\"\",\"\",SUBTOTAL(3,C$10:C70))","v":61},null,{"$f":"'الحارس الاول'!B63","v":"مصطفى61"},0,0,0,0,0,0,0,0,0,0,0,0,0,0,0,0,0,0,0,0,{"$f":"COUNTBLANK($D70:$W70)","v":0},{"$f":"COUNTIF(D70:W70,\"إشراف\")","v":0},{"$f":"COUNTA(D70:W70)*2","v":40}]

{"sheet":"جدول الحراسة","index":3,"n_rows":51,"n_cols":15,"rows_kept":51,"cut":false,"hidden":false,"merged":[[14,0,15,0],[48,0,49,0],[31,0,32,0],[10,1,10,2],[0,0,0,6],[1,0,1,6],[4,0,4,6],[5,3,5,4],[5,5,5,6],[2,0,2,2],[3,0,3,2],[7,1,7,2],[7,3,7,4],[7,5,7,6],[8,1,8,2],[9,1,9,2],[50,5,50,6],[48,1,48,6],[49,1,49,6],[39,3,39,4],[39,5,39,6],[41,1,41,2],[41,3,41,4],[41,5,41,6],[42,1,42,2],[43,1,43,2],[44,1,44,2],[45,1,45,2],[46,1,46,2],[39,0,40,0],[22,0,23,0],[5,0,6,0],[32,1,32,6],[14,1,14,6],[24,5,24,6],[33,5,33,6],[34,0,34,6],[35,0,35,6],[38,0,38,6],[29,1,29,2],[17,0,17,6],[21,0,21,6],[22,3,22,4],[25,1,25,2],[26,1,26,2],[4,8,8,9],[39,8,43,9],[22,1,23,2],[5,1,6,2],[39,1,40,2],[27,1,27,2],[28,1,28,2],[18,0,18,6],[22,5,22,6],[24,1,24,2],[24,3,24,4],[22,8,26,9],[11,1,11,2],[12,1,12,2],[16,5,16,6],[15,1,15,6]]}
["الجمهورية الجزائرية الديمقراطية الشعبية"]
["وزارة التربية الوطنية"]
["مديريـة التربيـة لولاية الـوادي",null,null,null,null,"     السنة الدراسية:","2022/2021"]
["ثانويـة .................",null,null,null,null,"..............",{"$f":"TODAY()","v":"2025-12-06"}]
[{"$f":"'توزيع الحراس'!B5","v":"بـرنامج الحراسة خلال اختبارات الفصل الأول"},null,null,null,null,null,null,null,"المراقب 1"]
["الأستاذ(ة):",{"$f":"IFERROR(VLOOKUP($I$5,gard,1,FALSE),\"\")","v":""},null,"صبـــاحا",null,"مســــاء"]
[null,null,null,{"$f":"'توزيع الحراس'!$D$9","v":"8:00 10:00"},{"$f":"'توزيع الحراس'!$E$9","v":"10:00 12:00"},{"$f":"'توزيع الحراس'!$F$9","v":"13:30 15:30"},{"$f":"'توزيع الحراس'!$G$9","v":"15:30 16:30 "}]
["الأيـــام","التــــاريـخ",null,"القاعـــة",null,"القاعـــة"]
[{"$f":"القاعات!$D$7","v":"2025-12-07"},{"$f":"'توزيع الحراس'!D7","v":"2025-12-07"},null,{"$f":"IFERROR(VLOOKUP($I$5,gard,2,FALSE),\"\")","v":""},{"$f":"IFERROR(VLOOKUP($I$5,gard,3,FALSE),\"\")","v":""},{"$f":"IFERROR(VLOOKUP($I$5,gard,4,FALSE),\"\")","v":""},{"$f":"IFERROR(VLOOKUP($I$5,gard,5,FALSE),\"\")","v":""},null,null,null,null,null,null,null,{"$f":"IF(A9=A9,T10)","v":0}]
[{"$f":"القاعات!$H$7","v":"2025-12-08"},{"$f":"'توزيع الحراس'!H7","v":"2025-12-08"},null,{"$f":"IFERROR(VLOOKUP($I$5,gard,6,FALSE),\"\")","v":""},{"$f":"IFERROR(VLOOKUP($I$5,gard,7,FALSE),\"\")","v":""},{"$f":"IFERROR(VLOOKUP($I$5,gard,8,FALSE),\"\")","v":""},{"$f":"IFERROR(VLOOKUP($I$5,gard,9,FALSE),\"\")","v":""}]
[{"$f":"القاعات!$L$7","v":"2025-12-09"},{"$f":"'توزيع الحراس'!L7","v":"2025-12-09"},null,{"$f":"IFERROR(VLOOKUP($I$5,gard,10,FALSE),\"\")","v":""},{"$f":"IFERROR(VLOOKUP($I$5,gard,11,FALSE),\"\")","v":""},{"$f":"IFERROR(VLOOKUP($I$5,gard,12,FALSE),\"\")","v":""},{"$f":"IFERROR(VLOOKUP($I$5,gard,13,FALSE),\"\")","v":""}]
[{"$f":"القاعات!$P$7","v":"2025-12-10"},{"$f":"'توزيع الحراس'!P7","v":"2025-12-10"},null,{"$f":"IFERROR(VLOOKUP($I$5,gard,14,FALSE),\"\")","v":""},{"$f":"IFERROR(VLOOKUP($I$5,gard,15,FALSE),\"\")","v":""},{"$f":"IFERROR(VLOOKUP($I$5,gard,16,FALSE),\"\")","v":""},{"$f":"IFERROR(VLOOKUP($I$5,gard,17,FALSE),\"\")","v":""}]
[{"$f":"'توزيع الحراس'!$T$6","v":"2025-12-11"},{"$f":"'توزيع الحراس'!T7","v":"2025-12-11"},null,{"$f":"IFERROR(VLOOKUP($I$5,gard,18,FALSE),\"\")","v":""},{"$f":"IFERROR(VLOOKUP($I$5,gard,19,FALSE),\"\")","v":""},{"$f":"IFERROR(VLOOKUP($I$5,gard,20,FALSE),\"\")","v":""},{"$f":"IFERROR(VLOOKUP($I$5,gard,21,FALSE),\"\")","v":""}]
[]
["ملاحـظـــة:","حضور الأستاذ 10 دقيقة قبل الإختبار* لا يسمح للتلميذ بمغادرة الإختبار إلا بعد مرور نصف الوقت المقرر "]
[null," جلوس التلاميذ يكون حسب القوائم * نزع المحافظ والدفاتر من التلاميذ *  تسلم الاوراق للإدارة عند إنتهاء الإمتحان"]
[null,null,null,null,null,"                  المديـر"]
[{"$f":"A1","v":"الجمهورية الجزائرية الديمقراطية الشعبية"}]
[{"$f":"A2","v":"وزارة التربية الوطنية"}]
[{"$f":"A3","v":"مديريـة التربيـة لولاية الـوادي"},null,null,null,null,{"$f":"F3","v":"     السنة الدراسية:"},{"$f":"G3","v":"2022/2021"}]
[{"$f":"A4","v":"ثانويـة ................."},null,null,null,null,{"$f":"F4","v":".............."},{"$f":"G4","v":"2025-12-06"}]
[{"$f":"A5","v":"بـرنامج الحراسة خلال اختبارات الفصل الأول"}]
["الأستاذ(ة):",{"$f":"IFERROR(VLOOKUP($I$23,gard,1,FALSE),\"\")","v":""},null,"صبـــاحا",null,"مســــاء",null,null,"المراقب 2"]
[null,null,null,{"$f":"'توزيع الحراس'!$D$9","v":"8:00 10:00"},{"$f":"'توزيع الحراس'!$E$9","v":"10:00 12:00"},{"$f":"'توزيع الحراس'!$F$9","v":"13:30 15:30"},{"$f":"'توزيع الحراس'!$G$9","v":"15:30 16:30 "}]
["الأيـــام","التــــاريـخ",null,{"$f":"D8","v":"القاعـــة"},null,{"$f":"F8","v":"القاعـــة"}]
[{"$f":"القاعات!$D$7","v":"2025-12-07"},{"$f":"B9","v":"2025-12-07"},null,{"$f":"IFERROR(VLOOKUP($I$23,gard,2,FALSE),\"\")","v":""},{"$f":"IFERROR(VLOOKUP($I$23,gard,3,FALSE),\"\")","v":""},{"$f":"IFERROR(VLOOKUP($I$23,gard,4,FALSE),\"\")","v":""},{"$f":"IFERROR(VLOOKUP($I$23,gard,5,FALSE),\"\")","v":""}]
[{"$f":"القاعات!$H$7","v":"2025-12-08"},{"$f":"B10","v":"2025-12-08"},null,{"$f":"IFERROR(VLOOKUP($I$23,gard,6,FALSE),\"\")","v":""},{"$f":"IFERROR(VLOOKUP($I$23,gard,7,FALSE),\"\")","v":""},{"$f":"IFERROR(VLOOKUP($I$23,gard,8,FALSE),\"\")","v":""},{"$f":"IFERROR(VLOOKUP($I$23,gard,9,FALSE),\"\")","v":""}]
[{"$f":"القاعات!$L$7","v":"2025-12-09"},"2025-12-09",null,{"$f":"IFERROR(VLOOKUP($I$23,gard,10,FALSE),\"\")","v":""},{"$f":"IFERROR(VLOOKUP($I$23,gard,11,FALSE),\"\")","v":""},{"$f":"IFERROR(VLOOKUP($I$23,gard,12,FALSE),\"\")","v":""},{"$f":"IFERROR(VLOOKUP($I$23,gard,13,FALSE),\"\")","v":""}]
[{"$f":"القاعات!$P$7","v":"2025-12-10"},"2025-12-10",null,{"$f":"IFERROR(VLOOKUP($I$23,gard,14,FALSE),\"\")","v":""},{"$f":"IFERROR(VLOOKUP($I$23,gard,15,FALSE),\"\")","v":""},{"$f":"IFERROR(VLOOKUP($I$23,gard,16,FALSE),\"\")","v":""},{"$f":"IFERROR(VLOOKUP($I$23,gard,17,FALSE),\"\")","v":""}]
[{"$f":"'توزيع الحراس'!$T$6","v":"2025-12-11"},"2025-12-11",null,{"$f":"IFERROR(VLOOKUP($I$23,gard,18,FALSE),\"\")","v":""},{"$f":"IFERROR(VLOOKUP($I$23,gard,19,FALSE),\"\")","v":""},{"$f":"IFERROR(VLOOKUP($I$23,gard,20,FALSE),\"\")","v":""},{"$f":"IFERROR(VLOOKUP($I$23,gard,21,FALSE),\"\")","v":""}]
[]
[{"$f":"A15","v":"ملاحـظـــة:"},{"$f":"B15","v":"حضور الأستاذ 10 دقيقة قبل الإختبار* لا يسمح للتلميذ بمغادرة الإختبار إلا بعد مرور نصف الوقت المقرر "}]
[null,{"$f":"B16","v":" جلوس التلاميذ يكون حسب القوائم * نزع المحافظ والدفاتر من التلاميذ *  تسلم الاوراق للإدارة عند إنتهاء الإمتحان"}]
[null,null,null,null,null,{"$f":"F17","v":"                  المديـر"}]
[{"$f":"A18","v":"الجمهورية الجزائرية الديمقراطية الشعبية"}]
[{"$f":"A19","v":"وزارة التربية الوطنية"}]
[{"$f":"A20","v":"مديريـة التربيـة لولاية الـوادي"},null,null,null,null,{"$f":"F20","v":"     السنة الدراسية:"},{"$f":"G20","v":"2022/2021"}]
[{"$f":"A21","v":"ثانويـة ................."},null,null,null,null,{"$f":"F21","v":".............."},{"$f":"G21","v":"2025-12-06"}]
[{"$f":"A22","v":"بـرنامج الحراسة خلال اختبارات الفصل الأول"}]
["الأستاذ(ة):",{"$f":"IFERROR(VLOOKUP($I$40,gard,1,FALSE),\"\")","v":""},null,"صبـــاحا",null,"مســــاء",null,null,"المراقب 2"]
[null,null,null,{"$f":"'توزيع الحراس'!$D$9","v":"8:00 10:00"},{"$f":"'توزيع الحراس'!$E$9","v":"10:00 12:00"},{"$f":"'توزيع الحراس'!$F$9","v":"13:30 15:30"},{"$f":"'توزيع الحراس'!$G$9","v":"15:30 16:30 "}]
["الأيـــام","التــــاريـخ",null,{"$f":"D25","v":"القاعـــة"},null,{"$f":"F25","v":"القاعـــة"}]
[{"$f":"القاعات!$D$7","v":"2025-12-07"},{"$f":"B26","v":"2025-12-07"},null,{"$f":"IFERROR(VLOOKUP($I$40,gard,2,FALSE),\"\")","v":""},{"$f":"IFERROR(VLOOKUP($I$40,gard,3,FALSE),\"\")","v":""},{"$f":"IFERROR(VLOOKUP($I$40,gard,4,FALSE),\"\")","v":""},{"$f":"IFERROR(VLOOKUP($I$40,gard,5,FALSE),\"\")","v":""}]
[{"$f":"القاعات!$H$7","v":"2025-12-08"},{"$f":"B27","v":"2025-12-08"},null,{"$f":"IFERROR(VLOOKUP($I$40,gard,6,FALSE),\"\")","v":""},{"$f":"IFERROR(VLOOKUP($I$40,gard,7,FALSE),\"\")","v":""},{"$f":"IFERROR(VLOOKUP($I$40,gard,8,FALSE),\"\")","v":""},{"$f":"IFERROR(VLOOKUP($I$40,gard,9,FALSE),\"\")","v":""}]
[{"$f":"القاعات!$L$7","v":"2025-12-09"},"2025-12-09",null,{"$f":"IFERROR(VLOOKUP($I$40,gard,10,FALSE),\"\")","v":""},{"$f":"IFERROR(VLOOKUP($I$40,gard,11,FALSE),\"\")","v":""},{"$f":"IFERROR(VLOOKUP($I$40,gard,12,FALSE),\"\")","v":""},{"$f":"IFERROR(VLOOKUP($I$40,gard,13,FALSE),\"\")","v":""}]
[{"$f":"القاعات!$P$7","v":"2025-12-10"},"2025-12-10",null,{"$f":"IFERROR(VLOOKUP($I$40,gard,14,FALSE),\"\")","v":""},{"$f":"IFERROR(VLOOKUP($I$40,gard,15,FALSE),\"\")","v":""},{"$f":"IFERROR(VLOOKUP($I$40,gard,16,FALSE),\"\")","v":""},{"$f":"IFERROR(VLOOKUP($I$40,gard,17,FALSE),\"\")","v":""}]
[{"$f":"'توزيع الحراس'!$T$6","v":"2025-12-11"},"2025-12-11",null,{"$f":"IFERROR(VLOOKUP($I$40,gard,18,FALSE),\"\")","v":""},{"$f":"IFERROR(VLOOKUP($I$40,gard,19,FALSE),\"\")","v":""},{"$f":"IFERROR(VLOOKUP($I$40,gard,20,FALSE),\"\")","v":""},{"$f":"IFERROR(VLOOKUP($I$40,gard,21,FALSE),\"\")","v":""}]
[]
[{"$f":"A32","v":"ملاحـظـــة:"},{"$f":"B15","v":"حضور الأستاذ 10 دقيقة قبل الإختبار* لا يسمح للتلميذ بمغادرة الإختبار إلا بعد مرور نصف الوقت المقرر "}]
[null,{"$f":"B16","v":" جلوس التلاميذ يكون حسب القوائم * نزع المحافظ والدفاتر من التلاميذ *  تسلم الاوراق للإدارة عند إنتهاء الإمتحان"}]
[null,null,null,null,null,{"$f":"F17","v":"                  المديـر"}]