Workbook
Name CHAP_900: فروع_الأبواب!$A$2:$A$11
Name CHAP_901: فروع_الأبواب!$B$2:$B$9
Name CHAP_902: فروع_الأبواب!$C$2:$C$7
Name CHAP_903: فروع_الأبواب!$D$2:$D$13
Name CHAP_904: فروع_الأبواب!$E$2:$E$13
Name CHAP_905: فروع_الأبواب!$F$2:$F$13
Name CHAP_906: فروع_الأبواب!$G$2:$G$11
Name CHAP_907: فروع_الأبواب!$H$2:$H$9
Name CHAP_910: فروع_الأبواب!$I$2:$I$15
Name CHAP_911: فروع_الأبواب!$J$2:$J$7
Name CHAP_912: فروع_الأبواب!$K$2:$K$9
Name CHAP_913: فروع_الأبواب!$L$2:$L$11
Name CHAP_914: فروع_الأبواب!$M$2:$M$11
Name CHAP_915: فروع_الأبواب!$N$2:$N$11
Name CHAP_916: فروع_الأبواب!$O$2:$O$9
Name CHAP_920: فروع_الأبواب!$P$2:$P$9
Name CHAP_921: فروع_الأبواب!$Q$2:$Q$9
Name CHAP_930: فروع_الأبواب!$R$2:$R$15
Name CHAP_931: فروع_الأبواب!$S$2:$S$17
Name CHAP_940: فروع_الأبواب!$T$2:$T$7
Name CHAP_941: فروع_الأبواب!$U$2:$U$9
Name CHAP_942: فروع_الأبواب!$V$2:$V$7
Name CHAP_950: فروع_الأبواب!$W$2:$W$9
Name CHAP_951: فروع_الأبواب!$X$2:$X$7
Name CHAP_952: فروع_الأبواب!$Y$2:$Y$13
Name CHAP_953: فروع_الأبواب!$Z$2:$Z$15
Name CHAP_954: فروع_الأبواب!$AA$2:$AA$9
Name CHAP_955: فروع_الأبواب!$AB$2:$AB$7
Name CHAP_956: فروع_الأبواب!$AC$2:$AC$9
Name CHAP_957: فروع_الأبواب!$AD$2:$AD$9
Name CHAP_958: فروع_الأبواب!$AE$2:$AE$9
Name CHAP_959: فروع_الأبواب!$AF$2:$AF$7
Name CHAP_960: فروع_الأبواب!$AG$2:$AG$7
Name CHAP_961: فروع_الأبواب!$AH$2:$AH$3
Name CHAP_962: فروع_الأبواب!$AI$2:$AI$7
Name CHAP_969: فروع_الأبواب!$AJ$2:$AJ$3
Name CHAP_970: فروع_الأبواب!$AK$2:$AK$9
Name CHAP_971: فروع_الأبواب!$AL$2:$AL$11
Name CHAP_979: فروع_الأبواب!$AM$2:$AM$13
Name LIST_ARTICLES: دليل_المواد!$A$2:$A$171

Sheet إدخال المبالغ والتوزيع الآلي
A1: جدول إدخال المبالغ مع الكوشاج (✔) قدام رقم وفرع البرنامج - ميزانية البلدية 2027
A2: الكوشاج (✔) يظهر مباشرة أمام رقم الفرع واسمه وفقاً للميزانية الرسمية (مع إمكانية التعديل من القائمة المنسدلة بدون الحاجة لعمود منفصل).
A3: رقم المادة | B3: تبيان المادة (الوصف) | C3: رقم الباب (آلي) | D3: اسم الباب الرئيسي (آلي) | E3: رقم وفرع البرنامج مع الكوشاج (✔) | F3: المبلغ المدخل (دج)
A4: 60 | B4: =IFERROR(VLOOKUP(A4, دليل_المواد!$A:$D, 2, FALSE), "") -> العجز المرحل | C4: =IFERROR(VLOOKUP(A4, دليل_المواد!$A:$D, 3, FALSE), "") -> 950 | D4: =IFERROR(VLOOKUP(A4, دليل_المواد!$A:$D, 4, FALSE), "") -> الباب 950 - البنايات والتجهيزات الإدارية | E4: ✔ 9500 - مقر البلدية
A5: 65 | B5: =IFERROR(VLOOKUP(A5, دليل_المواد!$A:$D, 2, FALSE), "") -> فائض نفقات التجهيز والاستثمار | C5: =IFERROR(VLOOKUP(A5, دليل_المواد!$A:$D, 3, FALSE), "") -> 979 | D5: =IFERROR(VLOOKUP(A5, دليل_المواد!$A:$D, 4, FALSE), "") -> الباب 979 - العمليات الأخرى الخارجة عن البرامج | E5: ✔ 9790 - نفقات الدراسات والمتابعة والأبحاث
A6: 68 | B6: =IFERROR(VLOOKUP(A6, دليل_المواد!$A:$D, 2, FALSE), "") -> المخصصات لحساب الإهتلاك والمؤونات | C6: =IFERROR(VLOOKUP(A6, دليل_المواد!$A:$D, 3, FALSE), "") -> 900 | D6: =IFERROR(VLOOKUP(A6, دليل_المواد!$A:$D, 4, FALSE), "") -> الباب 900 - المصالح المالية | E6: ✔ 9000 - دين البلدية الناجم عن قرض لحسابها
A7: 83 | B7: =IFERROR(VLOOKUP(A7, دليل_المواد!$A:$D, 2, FALSE), "") -> اقتطاع لأجل نفقات التجهيز والاستثمار | C7: =IFERROR(VLOOKUP(A7, دليل_المواد!$A:$D, 3, FALSE), "") -> 900 | D7: =IFERROR(VLOOKUP(A7, دليل_المواد!$A:$D, 4, FALSE), "") -> الباب 900 - المصالح المالية | E7: ✔ 9000 - دين البلدية الناجم عن قرض لحسابها
A8: 100 | B8: =IFERROR(VLOOKUP(A8, دليل_المواد!$A:$D, 2, FALSE), "") -> اقتطاع من إيرادات التسيير | C8: =IFERROR(VLOOKUP(A8, دليل_المواد!$A:$D, 3, FALSE), "") -> 950 | D8: =IFERROR(VLOOKUP(A8, دليل_المواد!$A:$D, 4, FALSE), "") -> الباب 950 - البنايات والتجهيزات الإدارية | E8: ✔ 9500 - مقر البلدية
A9: 103 | B9: =IFERROR(VLOOKUP(A9, دليل_المواد!$A:$D, 2, FALSE), "") -> الهبات والوصايا | C9: =IFERROR(VLOOKUP(A9, دليل_المواد!$A:$D, 3, FALSE), "") -> 950 | D9: =IFERROR(VLOOKUP(A9, دليل_المواد!$A:$D, 4, FALSE), "") -> الباب 950 - البنايات والتجهيزات الإدارية | E9: ✔ 9500 - مقر البلدية
A10: 104 | B10: =IFERROR(VLOOKUP(A10, دليل_المواد!$A:$D, 2, FALSE), "") -> إعانات الدولة | C10: =IFERROR(VLOOKUP(A10, دليل_المواد!$A:$D, 3, FALSE), "") -> 950 | D10: =IFERROR(VLOOKUP(A10, دليل_المواد!$A:$D, 4, FALSE), "") -> الباب 950 - البنايات والتجهيزات الإدارية | E10: ✔ 9500 - مقر البلدية
A11: 105 | B11: =IFERROR(VLOOKUP(A11, دليل_المواد!$A:$D, 2, FALSE), "") -> إعانات الولاية | C11: =IFERROR(VLOOKUP(A11, دليل_المواد!$A:$D, 3, FALSE), "") -> 950 | D11: =IFERROR(VLOOKUP(A11, دليل_المواد!$A:$D, 4, FALSE), "") -> الباب 950 - البنايات والتجهيزات الإدارية | E11: ✔ 9500 - مقر البلدية
A12: 106 | B12: =IFERROR(VLOOKUP(A12, دليل_المواد!$A:$D, 2, FALSE), "") -> مخصصات صندوق التضامن والضمان للجماعات المحلية | C12: =IFERROR(VLOOKUP(A12, دليل_المواد!$A:$D, 3, FALSE), "") -> 950 | D12: =IFERROR(VLOOKUP(A12, دليل_المواد!$A:$D, 4, FALSE), "") -> الباب 950 - البنايات والتجهيزات الإدارية | E12: ✔ 9500 - مقر البلدية
A13: 109 | B13: =IFERROR(VLOOKUP(A13, دليل_المواد!$A:$D, 2, FALSE), "") -> الإعانات والمخصصات الأخرى | C13: =IFERROR(VLOOKUP(A13, دليل_المواد!$A:$D, 3, FALSE), "") -> 950 | D13: =IFERROR(VLOOKUP(A13, دليل_المواد!$A:$D, 4, FALSE), "") -> الباب 950 - البنايات والتجهيزات الإدارية | E13: ✔ 9500 - مقر البلدية
A14: 130 | B14: =IFERROR(VLOOKUP(A14, دليل_المواد!$A:$D, 2, FALSE), "") -> الإعانات المقدمة للمؤسسات العمومية البلدية | C14: =IFERROR(VLOOKUP(A14, دليل_المواد!$A:$D, 3, FALSE), "") -> 979 | D14: =IFERROR(VLOOKUP(A14, دليل_المواد!$A:$D, 4, FALSE), "") -> الباب 979 - العمليات الأخرى الخارجة عن البرامج | E14: ✔ 9790 - نفقات الدراسات والمتابعة والأبحاث
A15: 131 | B15: =IFERROR(VLOOKUP(A15, دليل_المواد!$A:$D, 2, FALSE), "") -> التكفل بعجز المؤسسات العمومية البلدية | C15: =IFERROR(VLOOKUP(A15, دليل_المواد!$A:$D, 3, FALSE), "") -> 979 | D15: =IFERROR(VLOOKUP(A15, دليل_المواد!$A:$D, 4, FALSE), "") -> الباب 979 - العمليات الأخرى الخارجة عن البرامج | E15: ✔ 9790 - نفقات الدراسات والمتابعة والأبحاث
... A173: 7821 | B173: =IFERROR(VLOOKUP(A173, دليل_المواد!$A:$D, 2, FALSE), "") -> المخصصات المتعلقة بالتكفل بالمناصب المالية المفتوحة | C173: =IFERROR(VLOOKUP(A173, دليل_المواد!$A:$D, 3, FALSE), "") -> 901 | D173: =IFERROR(VLOOKUP(A173, دليل_المواد!$A:$D, 4, FALSE), "") -> الباب 901 - أجور وأعباء المستخدمين | E173: ✔ 9010 - رواتب وأعباء الموظفين
A174: المجموع الإجمالي للمواد المفعلة بالكوشاج (✔) | F174: =SUMIFS(F4:F173, E4:E173, "✔ *") -> 0

Sheet المعلومات العامة والبيانات
A1: صفحة المعلومات العامة والبيانات الإحصائية والمالية
A3: أ - البيانات الإحصائية
A4: الرقم | B4: البيان الإحصائي | C4: العدد / القيمة
A5: 1 | B5: مساحة البلدية
A6: 2 | B6: عدد سكان البلدية
A7: 3 | B7: عدد المنتخبين
A8: 4 | B8: عدد الموظفين
A9: 5 | B9: عدد الأعوان المتعاقدين
A10: 6 | B10: عدد الملحقات الإدارية
A11: 7 | B11: عدد المندوبيات البلدية
A12: 8 | B12: عدد التجمعات السكانية الثانوية
A13: 9 | B13: طول الشريط الساحلي (بالكيلومتر طولي)
A14: 10 | B14: طول الطرق البلدية (بالكيلومتر طولي)
A15: 11 | B15: طول شبكة الإنارة العمومية (بالكيلومتر طولي)
A16: 12 | B16: طول شبكة المياه الصالحة للشرب (بالكيلومتر طولي)
... A22: 18 | B22: عدد الأملاك غير المنتجة للمداخيل
A24: ب - البيانات المالية
A25: البيان المالي | B25: المبلغ (دج) | C25: المبلغ حسب الفرد (دج)
A26: حصيلة الجباية
A27: مداخيل الأملاك والممتلكات
A28: مخصصات الدولة
A29: الإعانات
A30: الهبات والوصايا
A31: القروض
A32: ناتج الاستغلال
A34: ج - التصويت والمقارنة مع السنة المالية السابقة
A35: القسم / السنة المالية | B35: السنة المالية السابقة | C35: الفارق
A36: قسم التسيير
A37: قسم التجهيز والاستثمار

Sheet الباب 900
A1: الباب 900 - المصالح المالية - تصنيف عمليات النفقات والإيرادات حسب الأبواب الفرعية
A3: المواد | B3: التبيان | C3: الباب 900 - المصالح المالية
C4: 9000 دين البلدية الناجم عن قرض لحسابها | D4: 9001 دين البلدية الناجم عن قرض اقترضته لحساب مؤسساتها العمومية | E4: 9002 الاقتطاع لنفقات التجهيز والاستثمار | F4: 9003 التكاليف والعائدات غير المخصصة | G4: 9009 التكاليف والعائدات المالية الأخرى
A5: مواد حسابات النفقات
A6: 650 | B6: الفوائد | C6: =IF(A6="", "", SUMIFS('إدخال المبالغ والتوزيع الآلي'!$F:$F, 'إدخال المبالغ والتوزيع الآلي'!$A:$A, A6, 'إدخال المبالغ والتوزيع الآلي'!$E:$E, "✔ " & "9000*")) -> 0 | D6: =IF(A6="", "", SUMIFS('إدخال المبالغ والتوزيع الآلي'!$F:$F, 'إدخال المبالغ والتوزيع الآلي'!$A:$A, A6, 'إدخال المبالغ والتوزيع الآلي'!$E:$E, "✔ " & "9001*")) -> 0 | E6: =IF(A6="", "", SUMIFS('إدخال المبالغ والتوزيع الآلي'!$F:$F, 'إدخال المبالغ والتوزيع الآلي'!$A:$A, A6, 'إدخال المبالغ والتوزيع الآلي'!$E:$E, "✔ " & "9002*")) -> 0 | F6: =IF(A6="", "", SUMIFS('إدخال المبالغ والتوزيع الآلي'!$F:$F, 'إدخال المبالغ والتوزيع الآلي'!$A:$A, A6, 'إدخال المبالغ والتوزيع الآلي'!$E:$E, "✔ " & "9003*")) -> 0 | G6: =IF(A6="", "", SUMIFS('إدخال المبالغ والتوزيع الآلي'!$F:$F, 'إدخال المبالغ والتوزيع الآلي'!$A:$A, A6, 'إدخال المبالغ والتوزيع الآلي'!$E:$E, "✔ " & "9009*")) -> 0
A7: 659 | B7: النفقات المالية الأخرى | C7: =IF(A7="", "", SUMIFS('إدخال المبالغ والتوزيع الآلي'!$F:$F, 'إدخال المبالغ والتوزيع الآلي'!$A:$A, A7, 'إدخال المبالغ والتوزيع الآلي'!$E:$E, "✔ " & "9000*")) -> 0 | D7: =IF(A7="", "", SUMIFS('إدخال المبالغ والتوزيع الآلي'!$F:$F, 'إدخال المبالغ والتوزيع الآلي'!$A:$A, A7, 'إدخال المبالغ والتوزيع الآلي'!$E:$E, "✔ " & "9001*")) -> 0 | E7: =IF(A7="", "", SUMIFS('إدخال المبالغ والتوزيع الآلي'!$F:$F, 'إدخال المبالغ والتوزيع الآلي'!$A:$A, A7, 'إدخال المبالغ والتوزيع الآلي'!$E:$E, "✔ " & "9002*")) -> 0 | F7: =IF(A7="", "", SUMIFS('إدخال المبالغ والتوزيع الآلي'!$F:$F, 'إدخال المبالغ والتوزيع الآلي'!$A:$A, A7, 'إدخال المبالغ والتوزيع الآلي'!$E:$E, "✔ " & "9003*")) -> 0 | G7: =IF(A7="", "", SUMIFS('إدخال المبالغ والتوزيع الآلي'!$F:$F, 'إدخال المبالغ والتوزيع الآلي'!$A:$A, A7, 'إدخال المبالغ والتوزيع الآلي'!$E:$E, "✔ " & "9009*")) -> 0
A8: 667 | B8: التخصيص الخاص للهبات | C8: =IF(A8="", "", SUMIFS('إدخال المبالغ والتوزيع الآلي'!$F:$F, 'إدخال المبالغ والتوزيع الآلي'!$A:$A, A8, 'إدخال المبالغ والتوزيع الآلي'!$E:$E, "✔ " & "9000*")) -> 0 | D8: =IF(A8="", "", SUMIFS('إدخال المبالغ والتوزيع الآلي'!$F:$F, 'إدخال المبالغ والتوزيع الآلي'!$A:$A, A8, 'إدخال المبالغ والتوزيع الآلي'!$E:$E, "✔ " & "9001*")) -> 0 | E8: =IF(A8="", "", SUMIFS('إدخال المبالغ والتوزيع الآلي'!$F:$F, 'إدخال المبالغ والتوزيع الآلي'!$A:$A, A8, 'إدخال المبالغ والتوزيع الآلي'!$E:$E, "✔ " & "9002*")) -> 0 | F8: =IF(A8="", "", SUMIFS('إدخال المبالغ والتوزيع الآلي'!$F:$F, 'إدخال المبالغ والتوزيع الآلي'!$A:$A, A8, 'إدخال المبالغ والتوزيع الآلي'!$E:$E, "✔ " & "9003*")) -> 0 | G8: =IF(A8="", "", SUMIFS('إدخال المبالغ والتوزيع الآلي'!$F:$F, 'إدخال المبالغ والتوزيع الآلي'!$A:$A, A8, 'إدخال المبالغ والتوزيع الآلي'!$E:$E, "✔ " & "9009*")) -> 0
A9: 68 | B9: المخصصات لحساب الإهتلاك والمؤونات | C9: =IF(A9="", "", SUMIFS('إدخال المبالغ والتوزيع الآلي'!$F:$F, 'إدخال المبالغ والتوزيع الآلي'!$A:$A, A9, 'إدخال المبالغ والتوزيع الآلي'!$E:$E, "✔ " & "9000*")) -> 0 | D9: =IF(A9="", "", SUMIFS('إدخال المبالغ والتوزيع الآلي'!$F:$F, 'إدخال المبالغ والتوزيع الآلي'!$A:$A, A9, 'إدخال المبالغ والتوزيع الآلي'!$E:$E, "✔ " & "9001*")) -> 0 | E9: =IF(A9="", "", SUMIFS('إدخال المبالغ والتوزيع الآلي'!$F:$F, 'إدخال المبالغ والتوزيع الآلي'!$A:$A, A9, 'إدخال المبالغ والتوزيع الآلي'!$E:$E, "✔ " & "9002*")) -> 0 | F9: =IF(A9="", "", SUMIFS('إدخال المبالغ والتوزيع الآلي'!$F:$F, 'إدخال المبالغ والتوزيع الآلي'!$A:$A, A9, 'إدخال المبالغ والتوزيع الآلي'!$E:$E, "✔ " & "9003*")) -> 0 | G9: =IF(A9="", "", SUMIFS('إدخال المبالغ والتوزيع الآلي'!$F:$F, 'إدخال المبالغ والتوزيع الآلي'!$A:$A, A9, 'إدخال المبالغ والتوزيع الآلي'!$E:$E, "✔ " & "9009*")) -> 0
A10: 690 | B10: النفقات غير المتوقعة | C10: =IF(A10="", "", SUMIFS('إدخال المبالغ والتوزيع الآلي'!$F:$F, 'إدخال المبالغ والتوزيع الآلي'!$A:$A, A10, 'إدخال المبالغ والتوزيع الآلي'!$E:$E, "✔ " & "9000*")) -> 0 | D10: =IF(A10="", "", SUMIFS('إدخال المبالغ والتوزيع الآلي'!$F:$F, 'إدخال المبالغ والتوزيع الآلي'!$A:$A, A10, 'إدخال المبالغ والتوزيع الآلي'!$E:$E, "✔ " & "9001*")) -> 0 | E10: =IF(A10="", "", SUMIFS('إدخال المبالغ والتوزيع الآلي'!$F:$F, 'إدخال المبالغ والتوزيع الآلي'!$A:$A, A10, 'إدخال المبالغ والتوزيع الآلي'!$E:$E, "✔ " & "9002*")) -> 0 | F10: =IF(A10="", "", SUMIFS('إدخال المبالغ والتوزيع الآلي'!$F:$F, 'إدخال المبالغ والتوزيع الآلي'!$A:$A, A10, 'إدخال المبالغ والتوزيع الآلي'!$E:$E, "✔ " & "9003*")) -> 0 | G10: =IF(A10="", "", SUMIFS('إدخال المبالغ والتوزيع الآلي'!$F:$F, 'إدخال المبالغ والتوزيع الآلي'!$A:$A, A10, 'إدخال المبالغ والتوزيع الآلي'!$E:$E, "✔ " & "9009*")) -> 0
A11: 691 | B11: سداد مبالغ بدون حق | C11: =IF(A11="", "", SUMIFS('إدخال المبالغ والتوزيع الآلي'!$F:$F, 'إدخال المبالغ والتوزيع الآلي'!$A:$A, A11, 'إدخال المبالغ والتوزيع الآلي'!$E:$E, "✔ " & "9000*")) -> 0 | D11: =IF(A11="", "", SUMIFS('إدخال المبالغ والتوزيع الآلي'!$F:$F, 'إدخال المبالغ والتوزيع الآلي'!$A:$A, A11, 'إدخال المبالغ والتوزيع الآلي'!$E:$E, "✔ " & "9001*")) -> 0 | E11: =IF(A11="", "", SUMIFS('إدخال المبالغ والتوزيع الآلي'!$F:$F, 'إدخال المبالغ والتوزيع الآلي'!$A:$A, A11, 'إدخال المبالغ والتوزيع الآلي'!$E:$E, "✔ " & "9002*")) -> 0 | F11: =IF(A11="", "", SUMIFS('إدخال المبالغ والتوزيع الآلي'!$F:$F, 'إدخال المبالغ والتوزيع الآلي'!$A:$A, A11, 'إدخال المبالغ والتوزيع الآلي'!$E:$E, "✔ " & "9003*")) -> 0 | G11: =IF(A11="", "", SUMIFS('إدخال المبالغ والتوزيع الآلي'!$F:$F, 'إدخال المبالغ والتوزيع الآلي'!$A:$A, A11, 'إدخال المبالغ والتوزيع الآلي'!$E:$E, "✔ " & "9009*")) -> 0
A12: 692 | B12: الإعانات الاستثنائية التي تدفعها البلدية | C12: =IF(A12="", "", SUMIFS('إدخال المبالغ والتوزيع الآلي'!$F:$F, 'إدخال المبالغ والتوزيع الآلي'!$A:$A, A12, 'إدخال المبالغ والتوزيع الآلي'!$E:$E, "✔ " & "9000*")) -> 0 | D12: =IF(A12="", "", SUMIFS('إدخال المبالغ والتوزيع الآلي'!$F:$F, 'إدخال المبالغ والتوزيع الآلي'!$A:$A, A12, 'إدخال المبالغ والتوزيع الآلي'!$E:$E, "✔ " & "9001*")) -> 0 | E12: =IF(A12="", "", SUMIFS('إدخال المبالغ والتوزيع الآلي'!$F:$F, 'إدخال المبالغ والتوزيع الآلي'!$A:$A, A12, 'إدخال المبالغ والتوزيع الآلي'!$E:$E, "✔ " & "9002*")) -> 0 | F12: =IF(A12="", "", SUMIFS('إدخال المبالغ والتوزيع الآلي'!$F:$F, 'إدخال المبالغ والتوزيع الآلي'!$A:$A, A12, 'إدخال المبالغ والتوزيع الآلي'!$E:$E, "✔ " & "9003*")) -> 0 | G12: =IF(A12="", "", SUMIFS('إدخال المبالغ والتوزيع الآلي'!$F:$F, 'إدخال المبالغ والتوزيع الآلي'!$A:$A, A12, 'إدخال المبالغ والتوزيع الآلي'!$E:$E, "✔ " & "9009*")) -> 0
A13: 699 | B13: الأعباء الاستثنائية الأخرى | C13: =IF(A13="", "", SUMIFS('إدخال المبالغ والتوزيع الآلي'!$F:$F, 'إدخال المبالغ والتوزيع الآلي'!$A:$A, A13, 'إدخال المبالغ والتوزيع الآلي'!$E:$E, "✔ " & "9000*")) -> 0 | D13: =IF(A13="", "", SUMIFS('إدخال المبالغ والتوزيع الآلي'!$F:$F, 'إدخال المبالغ والتوزيع الآلي'!$A:$A, A13, 'إدخال المبالغ والتوزيع الآلي'!$E:$E, "✔ " & "9001*")) -> 0 | E13: =IF(A13="", "", SUMIFS('إدخال المبالغ والتوزيع الآلي'!$F:$F, 'إدخال المبالغ والتوزيع الآلي'!$A:$A, A13, 'إدخال المبالغ والتوزيع الآلي'!$E:$E, "✔ " & "9002*")) -> 0 | F13: =IF(A13="", "", SUMIFS('إدخال المبالغ والتوزيع الآلي'!$F:$F, 'إدخال المبالغ والتوزيع الآلي'!$A:$A, A13, 'إدخال المبالغ والتوزيع الآلي'!$E:$E, "✔ " & "9003*")) -> 0 | G13: =IF(A13="", "", SUMIFS('إدخال المبالغ والتوزيع الآلي'!$F:$F, 'إدخال المبالغ والتوزيع الآلي'!$A:$A, A13, 'إدخال المبالغ والتوزيع الآلي'!$E:$E, "✔ " & "9009*")) -> 0
A14: 820 | B14: العجز المرحل | C14: =IF(A14="", "", SUMIFS('إدخال المبالغ والتوزيع الآلي'!$F:$F, 'إدخال المبالغ والتوزيع الآلي'!$A:$A, A14, 'إدخال المبالغ والتوزيع الآلي'!$E:$E, "✔ " & "9000*")) -> 0 | D14: =IF(A14="", "", SUMIFS('إدخال المبالغ والتوزيع الآلي'!$F:$F, 'إدخال المبالغ والتوزيع الآلي'!$A:$A, A14, 'إدخال المبالغ والتوزيع الآلي'!$E:$E, "✔ " & "9001*")) -> 0 | E14: =IF(A14="", "", SUMIFS('إدخال المبالغ والتوزيع الآلي'!$F:$F, 'إدخال المبالغ والتوزيع الآلي'!$A:$A, A14, 'إدخال المبالغ والتوزيع الآلي'!$E:$E, "✔ " & "9002*")) -> 0 | F14: =IF(A14="", "", SUMIFS('إدخال المبالغ والتوزيع الآلي'!$F:$F, 'إدخال المبالغ والتوزيع الآلي'!$A:$A, A14, 'إدخال المبالغ والتوزيع الآلي'!$E:$E, "✔ " & "9003*")) -> 0 | G14: =IF(A14="", "", SUMIFS('إدخال المبالغ والتوزيع الآلي'!$F:$F, 'إدخال المبالغ والتوزيع الآلي'!$A:$A, A14, 'إدخال المبالغ والتوزيع الآلي'!$E:$E, "✔ " & "9009*")) -> 0
A15: 826 | B15: أعباء السنوات المالية السابقة، بواقي الإنجاز | C15: =IF(A15="", "", SUMIFS('إدخال المبالغ والتوزيع الآلي'!$F:$F, 'إدخال المبالغ والتوزيع الآلي'!$A:$A, A15, 'إدخال المبالغ والتوزيع الآلي'!$E:$E, "✔ " & "9000*")) -> 0 | D15: =IF(A15="", "", SUMIFS('إدخال المبالغ والتوزيع الآلي'!$F:$F, 'إدخال المبالغ والتوزيع الآلي'!$A:$A, A15, 'إدخال المبالغ والتوزيع الآلي'!$E:$E, "✔ " & "9001*")) -> 0 | E15: =IF(A15="", "", SUMIFS('إدخال المبالغ والتوزيع الآلي'!$F:$F, 'إدخال المبالغ والتوزيع الآلي'!$A:$A, A15, 'إدخال المبالغ والتوزيع الآلي'!$E:$E, "✔ " & "9002*")) -> 0 | F15: =IF(A15="", "", SUMIFS('إدخال المبالغ والتوزيع الآلي'!$F:$F, 'إدخال المبالغ والتوزيع الآلي'!$A:$A, A15, 'إدخال المبالغ والتوزيع الآلي'!$E:$E, "✔ " & "9003*")) -> 0 | G15: =IF(A15="", "", SUMIFS('إدخال المبالغ والتوزيع الآلي'!$F:$F, 'إدخال المبالغ والتوزيع الآلي'!$A:$A, A15, 'إدخال المبالغ والتوزيع الآلي'!$E:$E, "✔ " & "9009*")) -> 0
A16: 828 | B16: التخفيضات والقيم المنعدمة | C16: =IF(A16="", "", SUMIFS('إدخال المبالغ والتوزيع الآلي'!$F:$F, 'إدخال المبالغ والتوزيع الآلي'!$A:$A, A16, 'إدخال المبالغ والتوزيع الآلي'!$E:$E, "✔ " & "9000*")) -> 0 | D16: =IF(A16="", "", SUMIFS('إدخال المبالغ والتوزيع الآلي'!$F:$F, 'إدخال المبالغ والتوزيع الآلي'!$A:$A, A16, 'إدخال المبالغ والتوزيع الآلي'!$E:$E, "✔ " & "9001*")) -> 0 | E16: =IF(A16="", "", SUMIFS('إدخال المبالغ والتوزيع الآلي'!$F:$F, 'إدخال المبالغ والتوزيع الآلي'!$A:$A, A16, 'إدخال المبالغ والتوزيع الآلي'!$E:$E, "✔ " & "9002*")) -> 0 | F16: =IF(A16="", "", SUMIFS('إدخال المبالغ والتوزيع الآلي'!$F:$F, 'إدخال المبالغ والتوزيع الآلي'!$A:$A, A16, 'إدخال المبالغ والتوزيع الآلي'!$E:$E, "✔ " & "9003*")) -> 0 | G16: =IF(A16="", "", SUMIFS('إدخال المبالغ والتوزيع الآلي'!$F:$F, 'إدخال المبالغ والتوزيع الآلي'!$A:$A, A16, 'إدخال المبالغ والتوزيع الآلي'!$E:$E, "✔ " & "9009*")) -> 0
A17: 83 | B17: اقتطاع لأجل نفقات التجهيز والاستثمار | C17: =IF(A17="", "", SUMIFS('إدخال المبالغ والتوزيع الآلي'!$F:$F, 'إدخال المبالغ والتوزيع الآلي'!$A:$A, A17, 'إدخال المبالغ والتوزيع الآلي'!$E:$E, "✔ " & "9000*")) -> 0 | D17: =IF(A17="", "", SUMIFS('إدخال المبالغ والتوزيع الآلي'!$F:$F, 'إدخال المبالغ والتوزيع الآلي'!$A:$A, A17, 'إدخال المبالغ والتوزيع الآلي'!$E:$E, "✔ " & "9001*")) -> 0 | E17: =IF(A17="", "", SUMIFS('إدخال المبالغ والتوزيع الآلي'!$F:$F, 'إدخال المبالغ والتوزيع الآلي'!$A:$A, A17, 'إدخال المبالغ والتوزيع الآلي'!$E:$E, "✔ " & "9002*")) -> 0 | F17: =IF(A17="", "", SUMIFS('إدخال المبالغ والتوزيع الآلي'!$F:$F, 'إدخال المبالغ والتوزيع الآلي'!$A:$A, A17, 'إدخال المبالغ والتوزيع الآلي'!$E:$E, "✔ " & "9003*")) -> 0 | G17: =IF(A17="", "", SUMIFS('إدخال المبالغ والتوزيع الآلي'!$F:$F, 'إدخال المبالغ والتوزيع الآلي'!$A:$A, A17, 'إدخال المبالغ والتوزيع الآلي'!$E:$E, "✔ " & "9009*")) -> 0
A18: مواد حسابات الإيرادات
A19: 722 | B19: تخفيض نسب الفوائد | C19: =IF(A19="", "", SUMIFS('إدخال المبالغ والتوزيع الآلي'!$F:$F, 'إدخال المبالغ والتوزيع الآلي'!$A:$A, A19, 'إدخال المبالغ والتوزيع الآلي'!$E:$E, "✔ " & "9000*")) -> 0 | D19: =IF(A19="", "", SUMIFS('إدخال المبالغ والتوزيع الآلي'!$F:$F, 'إدخال المبالغ والتوزيع الآلي'!$A:$A, A19, 'إدخال المبالغ والتوزيع الآلي'!$E:$E, "✔ " & "9001*")) -> 0 | E19: =IF(A19="", "", SUMIFS('إدخال المبالغ والتوزيع الآلي'!$F:$F, 'إدخال المبالغ والتوزيع الآلي'!$A:$A, A19, 'إدخال المبالغ والتوزيع الآلي'!$E:$E, "✔ " & "9002*")) -> 0 | F19: =IF(A19="", "", SUMIFS('إدخال المبالغ والتوزيع الآلي'!$F:$F, 'إدخال المبالغ والتوزيع الآلي'!$A:$A, A19, 'إدخال المبالغ والتوزيع الآلي'!$E:$E, "✔ " & "9003*")) -> 0 | G19: =IF(A19="", "", SUMIFS('إدخال المبالغ والتوزيع الآلي'!$F:$F, 'إدخال المبالغ والتوزيع الآلي'!$A:$A, A19, 'إدخال المبالغ والتوزيع الآلي'!$E:$E, "✔ " & "9009*")) -> 0
A20: 749 | B20: إعانات وتخصيصات أخرى | C20: =IF(A20="", "", SUMIFS('إدخال المبالغ والتوزيع الآلي'!$F:$F, 'إدخال المبالغ والتوزيع الآلي'!$A:$A, A20, 'إدخال المبالغ والتوزيع الآلي'!$E:$E, "✔ " & "9000*")) -> 0 | D20: =IF(A20="", "", SUMIFS('إدخال المبالغ والتوزيع الآلي'!$F:$F, 'إدخال المبالغ والتوزيع الآلي'!$A:$A, A20, 'إدخال المبالغ والتوزيع الآلي'!$E:$E, "✔ " & "9001*")) -> 0 | E20: =IF(A20="", "", SUMIFS('إدخال المبالغ والتوزيع الآلي'!$F:$F, 'إدخال المبالغ والتوزيع الآلي'!$A:$A, A20, 'إدخال المبالغ والتوزيع الآلي'!$E:$E, "✔ " & "9002*")) -> 0 | F20: =IF(A20="", "", SUMIFS('إدخال المبالغ والتوزيع الآلي'!$F:$F, 'إدخال المبالغ والتوزيع الآلي'!$A:$A, A20, 'إدخال المبالغ والتوزيع الآلي'!$E:$E, "✔ " & "9003*")) -> 0 | G20: =IF(A20="", "", SUMIFS('إدخال المبالغ والتوزيع الآلي'!$F:$F, 'إدخال المبالغ والتوزيع الآلي'!$A:$A, A20, 'إدخال المبالغ والتوزيع الآلي'!$E:$E, "✔ " & "9009*")) -> 0
A21: 770 | B21: عائدات السندات والربوع | C21: =IF(A21="", "", SUMIFS('إدخال المبالغ والتوزيع الآلي'!$F:$F, 'إدخال المبالغ والتوزيع الآلي'!$A:$A, A21, 'إدخال المبالغ والتوزيع الآلي'!$E:$E, "✔ " & "9000*")) -> 0 | D21: =IF(A21="", "", SUMIFS('إدخال المبالغ والتوزيع الآلي'!$F:$F, 'إدخال المبالغ والتوزيع الآلي'!$A:$A, A21, 'إدخال المبالغ والتوزيع الآلي'!$E:$E, "✔ " & "9001*")) -> 0 | E21: =IF(A21="", "", SUMIFS('إدخال المبالغ والتوزيع الآلي'!$F:$F, 'إدخال المبالغ والتوزيع الآلي'!$A:$A, A21, 'إدخال المبالغ والتوزيع الآلي'!$E:$E, "✔ " & "9002*")) -> 0 | F21: =IF(A21="", "", SUMIFS('إدخال المبالغ والتوزيع الآلي'!$F:$F, 'إدخال المبالغ والتوزيع الآلي'!$A:$A, A21, 'إدخال المبالغ والتوزيع الآلي'!$E:$E, "✔ " & "9003*")) -> 0 | G21: =IF(A21="", "", SUMIFS('إدخال المبالغ والتوزيع الآلي'!$F:$F, 'إدخال المبالغ والتوزيع الآلي'!$A:$A, A21, 'إدخال المبالغ والتوزيع الآلي'!$E:$E, "✔ " & "9009*")) -> 0
A22: 771 | B22: فوائد القروض والديون | C22: =IF(A22="", "", SUMIFS('إدخال المبالغ والتوزيع الآلي'!$F:$F, 'إدخال المبالغ والتوزيع الآلي'!$A:$A, A22, 'إدخال المبالغ والتوزيع الآلي'!$E:$E, "✔ " & "9000*")) -> 0 | D22: =IF(A22="", "", SUMIFS('إدخال المبالغ والتوزيع الآلي'!$F:$F, 'إدخال المبالغ والتوزيع الآلي'!$A:$A, A22, 'إدخال المبالغ والتوزيع الآلي'!$E:$E, "✔ " & "9001*")) -> 0 | E22: =IF(A22="", "", SUMIFS('إدخال المبالغ والتوزيع الآلي'!$F:$F, 'إدخال المبالغ والتوزيع الآلي'!$A:$A, A22, 'إدخال المبالغ والتوزيع الآلي'!$E:$E, "✔ " & "9002*")) -> 0 | F22: =IF(A22="", "", SUMIFS('إدخال المبالغ والتوزيع الآلي'!$F:$F, 'إدخال المبالغ والتوزيع الآلي'!$A:$A, A22, 'إدخال المبالغ والتوزيع الآلي'!$E:$E, "✔ " & "9003*")) -> 0 | G22: =IF(A22="", "", SUMIFS('إدخال المبالغ والتوزيع الآلي'!$F:$F, 'إدخال المبالغ والتوزيع الآلي'!$A:$A, A22, 'إدخال المبالغ والتوزيع الآلي'!$E:$E, "✔ " & "9009*")) -> 0
A23: 779 | B23: العائدات المالية الأخرى | C23: =IF(A23="", "", SUMIFS('إدخال المبالغ والتوزيع الآلي'!$F:$F, 'إدخال المبالغ والتوزيع الآلي'!$A:$A, A23, 'إدخال المبالغ والتوزيع الآلي'!$E:$E, "✔ " & "9000*")) -> 0 | D23: =IF(A23="", "", SUMIFS('إدخال المبالغ والتوزيع الآلي'!$F:$F, 'إدخال المبالغ والتوزيع الآلي'!$A:$A, A23, 'إدخال المبالغ والتوزيع الآلي'!$E:$E, "✔ " & "9001*")) -> 0 | E23: =IF(A23="", "", SUMIFS('إدخال المبالغ والتوزيع الآلي'!$F:$F, 'إدخال المبالغ والتوزيع الآلي'!$A:$A, A23, 'إدخال المبالغ والتوزيع الآلي'!$E:$E, "✔ " & "9002*")) -> 0 | F23: =IF(A23="", "", SUMIFS('إدخال المبالغ والتوزيع الآلي'!$F:$F, 'إدخال المبالغ والتوزيع الآلي'!$A:$A, A23, 'إدخال المبالغ والتوزيع الآلي'!$E:$E, "✔ " & "9003*")) -> 0 | G23: =IF(A23="", "", SUMIFS('إدخال المبالغ والتوزيع الآلي'!$F:$F, 'إدخال المبالغ والتوزيع الآلي'!$A:$A, A23, 'إدخال المبالغ والتوزيع الآلي'!$E:$E, "✔ " & "9009*")) -> 0
A24: 789 | B24: مخصصات الدولة الأخرى | C24: =IF(A24="", "", SUMIFS('إدخال المبالغ والتوزيع الآلي'!$F:$F, 'إدخال المبالغ والتوزيع الآلي'!$A:$A, A24, 'إدخال المبالغ والتوزيع الآلي'!$E:$E, "✔ " & "9000*")) -> 0 | D24: =IF(A24="", "", SUMIFS('إدخال المبالغ والتوزيع الآلي'!$F:$F, 'إدخال المبالغ والتوزيع الآلي'!$A:$A, A24, 'إدخال المبالغ والتوزيع الآلي'!$E:$E, "✔ " & "9001*")) -> 0 | E24: =IF(A24="", "", SUMIFS('إدخال المبالغ والتوزيع الآلي'!$F:$F, 'إدخال المبالغ والتوزيع الآلي'!$A:$A, A24, 'إدخال المبالغ والتوزيع الآلي'!$E:$E, "✔ " & "9002*")) -> 0 | F24: =IF(A24="", "", SUMIFS('إدخال المبالغ والتوزيع الآلي'!$F:$F, 'إدخال المبالغ والتوزيع الآلي'!$A:$A, A24, 'إدخال المبالغ والتوزيع الآلي'!$E:$E, "✔ " & "9003*")) -> 0 | G24: =IF(A24="", "", SUMIFS('إدخال المبالغ والتوزيع الآلي'!$F:$F, 'إدخال المبالغ والتوزيع الآلي'!$A:$A, A24, 'إدخال المبالغ والتوزيع الآلي'!$E:$E, "✔ " & "9009*")) -> 0
A25: 799 | B25: نواتج استثنائية أخرى | C25: =IF(A25="", "", SUMIFS('إدخال المبالغ والتوزيع الآلي'!$F:$F, 'إدخال المبالغ والتوزيع الآلي'!$A:$A, A25, 'إدخال المبالغ والتوزيع الآلي'!$E:$E, "✔ " & "9000*")) -> 0 | D25: =IF(A25="", "", SUMIFS('إدخال المبالغ والتوزيع الآلي'!$F:$F, 'إدخال المبالغ والتوزيع الآلي'!$A:$A, A25, 'إدخال المبالغ والتوزيع الآلي'!$E:$E, "✔ " & "9001*")) -> 0 | E25: =IF(A25="", "", SUMIFS('إدخال المبالغ والتوزيع الآلي'!$F:$F, 'إدخال المبالغ والتوزيع الآلي'!$A:$A, A25, 'إدخال المبالغ والتوزيع الآلي'!$E:$E, "✔ " & "9002*")) -> 0 | F25: =IF(A25="", "", SUMIFS('إدخال المبالغ والتوزيع الآلي'!$F:$F, 'إدخال المبالغ والتوزيع الآلي'!$A:$A, A25, 'إدخال المبالغ والتوزيع الآلي'!$E:$E, "✔ " & "9003*")) -> 0 | G25: =IF(A25="", "", SUMIFS('إدخال المبالغ والتوزيع الآلي'!$F:$F, 'إدخال المبالغ والتوزيع الآلي'!$A:$A, A25, 'إدخال المبالغ والتوزيع الآلي'!$E:$E, "✔ " & "9009*")) -> 0
A26: 820 | B26: الفائض المرحل | C26: =IF(A26="", "", SUMIFS('إدخال المبالغ والتوزيع الآلي'!$F:$F, 'إدخال المبالغ والتوزيع الآلي'!$A:$A, A26, 'إدخال المبالغ والتوزيع الآلي'!$E:$E, "✔ " & "9000*")) -> 0 | D26: =IF(A26="", "", SUMIFS('إدخال المبالغ والتوزيع الآلي'!$F:$F, 'إدخال المبالغ والتوزيع الآلي'!$A:$A, A26, 'إدخال المبالغ والتوزيع الآلي'!$E:$E, "✔ " & "9001*")) -> 0 | E26: =IF(A26="", "", SUMIFS('إدخال المبالغ والتوزيع الآلي'!$F:$F, 'إدخال المبالغ والتوزيع الآلي'!$A:$A, A26, 'إدخال المبالغ والتوزيع الآلي'!$E:$E, "✔ " & "9002*")) -> 0 | F26: =IF(A26="", "", SUMIFS('إدخال المبالغ والتوزيع الآلي'!$F:$F, 'إدخال المبالغ والتوزيع الآلي'!$A:$A, A26, 'إدخال المبالغ والتوزيع الآلي'!$E:$E, "✔ " & "9003*")) -> 0 | G26: =IF(A26="", "", SUMIFS('إدخال المبالغ والتوزيع الآلي'!$F:$F, 'إدخال المبالغ والتوزيع الآلي'!$A:$A, A26, 'إدخال المبالغ والتوزيع الآلي'!$E:$E, "✔ " & "9009*")) -> 0
A27: 827 | B27: نواتج السنوات المالية السابقة، بواقي الإنجاز | C27: =IF(A27="", "", SUMIFS('إدخال المبالغ والتوزيع الآلي'!$F:$F, 'إدخال المبالغ والتوزيع الآلي'!$A:$A, A27, 'إدخال المبالغ والتوزيع الآلي'!$E:$E, "✔ " & "9000*")) -> 0 | D27: =IF(A27="", "", SUMIFS('إدخال المبالغ والتوزيع الآلي'!$F:$F, 'إدخال المبالغ والتوزيع الآلي'!$A:$A, A27, 'إدخال المبالغ والتوزيع الآلي'!$E:$E, "✔ " & "9001*")) -> 0 | E27: =IF(A27="", "", SUMIFS('إدخال المبالغ والتوزيع الآلي'!$F:$F, 'إدخال المبالغ والتوزيع الآلي'!$A:$A, A27, 'إدخال المبالغ والتوزيع الآلي'!$E:$E, "✔ " & "9002*")) -> 0 | F27: =IF(A27="", "", SUMIFS('إدخال المبالغ والتوزيع الآلي'!$F:$F, 'إدخال المبالغ والتوزيع الآلي'!$A:$A, A27, 'إدخال المبالغ والتوزيع الآلي'!$E:$E, "✔ " & "9003*")) -> 0 | G27: =IF(A27="", "", SUMIFS('إدخال المبالغ والتوزيع الآلي'!$F:$F, 'إدخال المبالغ والتوزيع الآلي'!$A:$A, A27, 'إدخال المبالغ والتوزيع الآلي'!$E:$E, "✔ " & "9009*")) -> 0
A28: 829 | B28: الحوالات الملغاة أو التي بلغها التقادم الرباعي | C28: =IF(A28="", "", SUMIFS('إدخال المبالغ والتوزيع الآلي'!$F:$F, 'إدخال المبالغ والتوزيع الآلي'!$A:$A, A28, 'إدخال المبالغ والتوزيع الآلي'!$E:$E, "✔ " & "9000*")) -> 0 | D28: =IF(A28="", "", SUMIFS('إدخال المبالغ والتوزيع الآلي'!$F:$F, 'إدخال المبالغ والتوزيع الآلي'!$A:$A, A28, 'إدخال المبالغ والتوزيع الآلي'!$E:$E, "✔ " & "9001*")) -> 0 | E28: =IF(A28="", "", SUMIFS('إدخال المبالغ والتوزيع الآلي'!$F:$F, 'إدخال المبالغ والتوزيع الآلي'!$A:$A, A28, 'إدخال المبالغ والتوزيع الآلي'!$E:$E, "✔ " & "9002*")) -> 0 | F28: =IF(A28="", "", SUMIFS('إدخال المبالغ والتوزيع الآلي'!$F:$F, 'إدخال المبالغ والتوزيع الآلي'!$A:$A, A28, 'إدخال المبالغ والتوزيع الآلي'!$E:$E, "✔ " & "9003*")) -> 0 | G28: =IF(A28="", "", SUMIFS('إدخال المبالغ والتوزيع الآلي'!$F:$F, 'إدخال المبالغ والتوزيع الآلي'!$A:$A, A28, 'إدخال المبالغ والتوزيع الآلي'!$E:$E, "✔ " & "9009*")) -> 0
A29: 850 | B29: فائض النفقات | C29: =IF(A29="", "", SUMIFS('إدخال المبالغ والتوزيع الآلي'!$F:$F, 'إدخال المبالغ والتوزيع الآلي'!$A:$A, A29, 'إدخال المبالغ والتوزيع الآلي'!$E:$E, "✔ " & "9000*")) -> 0 | D29: =IF(A29="", "", SUMIFS('إدخال المبالغ والتوزيع الآلي'!$F:$F, 'إدخال المبالغ والتوزيع الآلي'!$A:$A, A29, 'إدخال المبالغ والتوزيع الآلي'!$E:$E, "✔ " & "9001*")) -> 0 | E29: =IF(A29="", "", SUMIFS('إدخال المبالغ والتوزيع الآلي'!$F:$F, 'إدخال المبالغ والتوزيع الآلي'!$A:$A, A29, 'إدخال المبالغ والتوزيع الآلي'!$E:$E, "✔ " & "9002*")) -> 0 | F29: =IF(A29="", "", SUMIFS('إدخال المبالغ والتوزيع الآلي'!$F:$F, 'إدخال المبالغ والتوزيع الآلي'!$A:$A, A29, 'إدخال المبالغ والتوزيع الآلي'!$E:$E, "✔ " & "9003*")) -> 0 | G29: =IF(A29="", "", SUMIFS('إدخال المبالغ والتوزيع الآلي'!$F:$F, 'إدخال المبالغ والتوزيع الآلي'!$A:$A, A29, 'إدخال المبالغ والتوزيع الآلي'!$E:$E, "✔ " & "9009*")) -> 0
A30: 850 | B30: فائض الإيرادات | C30: =IF(A30="", "", SUMIFS('إدخال المبالغ والتوزيع الآلي'!$F:$F, 'إدخال المبالغ والتوزيع الآلي'!$A:$A, A30, 'إدخال المبالغ والتوزيع الآلي'!$E:$E, "✔ " & "9000*")) -> 0 | D30: =IF(A30="", "", SUMIFS('إدخال المبالغ والتوزيع الآلي'!$F:$F, 'إدخال المبالغ والتوزيع الآلي'!$A:$A, A30, 'إدخال المبالغ والتوزيع الآلي'!$E:$E, "✔ " & "9001*")) -> 0 | E30: =IF(A30="", "", SUMIFS('إدخال المبالغ والتوزيع الآلي'!$F:$F, 'إدخال المبالغ والتوزيع الآلي'!$A:$A, A30, 'إدخال المبالغ والتوزيع الآلي'!$E:$E, "✔ " & "9002*")) -> 0 | F30: =IF(A30="", "", SUMIFS('إدخال المبالغ والتوزيع الآلي'!$F:$F, 'إدخال المبالغ والتوزيع الآلي'!$A:$A, A30, 'إدخال المبالغ والتوزيع الآلي'!$E:$E, "✔ " & "9003*")) -> 0 | G30: =IF(A30="", "", SUMIFS('إدخال المبالغ والتوزيع الآلي'!$F:$F, 'إدخال المبالغ والتوزيع الآلي'!$A:$A, A30, 'إدخال المبالغ والتوزيع الآلي'!$E:$E, "✔ " & "9009*")) -> 0

Sheet الباب 901
A1: الباب 901 - أجور وأعباء المستخدمين - تصنيف عمليات النفقات والإيرادات حسب الأبواب الفرعية
A3: المواد | B3: التبيان | C3: الباب 901 - أجور وأعباء المستخدمين
C4: 9010 رواتب وأعباء الموظفين | D4: 9011 رواتب وأعباء الأعوان المتعاقدين | E4: 9012 رواتب مختلفة | F4: 9013 التكوين وتجديد المعارف
A5: مواد حسابات النفقات
A6: 621 | B6: مصاريف المهمة | C6: =IF(A6="", "", SUMIFS('إدخال المبالغ والتوزيع الآلي'!$F:$F, 'إدخال المبالغ والتوزيع الآلي'!$A:$A, A6, 'إدخال المبالغ والتوزيع الآلي'!$E:$E, "✔ " & "9010*")) -> 0 | D6: =IF(A6="", "", SUMIFS('إدخال المبالغ والتوزيع الآلي'!$F:$F, 'إدخال المبالغ والتوزيع الآلي'!$A:$A, A6, 'إدخال المبالغ والتوزيع الآلي'!$E:$E, "✔ " & "9011*")) -> 0 | E6: =IF(A6="", "", SUMIFS('إدخال المبالغ والتوزيع الآلي'!$F:$F, 'إدخال المبالغ والتوزيع الآلي'!$A:$A, A6, 'إدخال المبالغ والتوزيع الآلي'!$E:$E, "✔ " & "9012*")) -> 0 | F6: =IF(A6="", "", SUMIFS('إدخال المبالغ والتوزيع الآلي'!$F:$F, 'إدخال المبالغ والتوزيع الآلي'!$A:$A, A6, 'إدخال المبالغ والتوزيع الآلي'!$E:$E, "✔ " & "9013*")) -> 0
A7: 624 | B7: المصاريف المتعلقة بالملتقيات ودورات التكوين وتحسين المستوى | C7: =IF(A7="", "", SUMIFS('إدخال المبالغ والتوزيع الآلي'!$F:$F, 'إدخال المبالغ والتوزيع الآلي'!$A:$A, A7, 'إدخال المبالغ والتوزيع الآلي'!$E:$E, "✔ " & "9010*")) -> 0 | D7: =IF(A7="", "", SUMIFS('إدخال المبالغ والتوزيع الآلي'!$F:$F, 'إدخال المبالغ والتوزيع الآلي'!$A:$A, A7, 'إدخال المبالغ والتوزيع الآلي'!$E:$E, "✔ " & "9011*")) -> 0 | E7: =IF(A7="", "", SUMIFS('إدخال المبالغ والتوزيع الآلي'!$F:$F, 'إدخال المبالغ والتوزيع الآلي'!$A:$A, A7, 'إدخال المبالغ والتوزيع الآلي'!$E:$E, "✔ " & "9012*")) -> 0 | F7: =IF(A7="", "", SUMIFS('إدخال المبالغ والتوزيع الآلي'!$F:$F, 'إدخال المبالغ والتوزيع الآلي'!$A:$A, A7, 'إدخال المبالغ والتوزيع الآلي'!$E:$E, "✔ " & "9013*")) -> 0
A8: 630 | B8: رواتب الموظفين | C8: =IF(A8="", "", SUMIFS('إدخال المبالغ والتوزيع الآلي'!$F:$F, 'إدخال المبالغ والتوزيع الآلي'!$A:$A, A8, 'إدخال المبالغ والتوزيع الآلي'!$E:$E, "✔ " & "9010*")) -> 0 | D8: =IF(A8="", "", SUMIFS('إدخال المبالغ والتوزيع الآلي'!$F:$F, 'إدخال المبالغ والتوزيع الآلي'!$A:$A, A8, 'إدخال المبالغ والتوزيع الآلي'!$E:$E, "✔ " & "9011*")) -> 0 | E8: =IF(A8="", "", SUMIFS('إدخال المبالغ والتوزيع الآلي'!$F:$F, 'إدخال المبالغ والتوزيع الآلي'!$A:$A, A8, 'إدخال المبالغ والتوزيع الآلي'!$E:$E, "✔ " & "9012*")) -> 0 | F8: =IF(A8="", "", SUMIFS('إدخال المبالغ والتوزيع الآلي'!$F:$F, 'إدخال المبالغ والتوزيع الآلي'!$A:$A, A8, 'إدخال المبالغ والتوزيع الآلي'!$E:$E, "✔ " & "9013*")) -> 0
A9: 631 | B9: رواتب الأعوان المتعاقدين | C9: =IF(A9="", "", SUMIFS('إدخال المبالغ والتوزيع الآلي'!$F:$F, 'إدخال المبالغ والتوزيع الآلي'!$A:$A, A9, 'إدخال المبالغ والتوزيع الآلي'!$E:$E, "✔ " & "9010*")) -> 0 | D9: =IF(A9="", "", SUMIFS('إدخال المبالغ والتوزيع الآلي'!$F:$F, 'إدخال المبالغ والتوزيع الآلي'!$A:$A, A9, 'إدخال المبالغ والتوزيع الآلي'!$E:$E, "✔ " & "9011*")) -> 0 | E9: =IF(A9="", "", SUMIFS('إدخال المبالغ والتوزيع الآلي'!$F:$F, 'إدخال المبالغ والتوزيع الآلي'!$A:$A, A9, 'إدخال المبالغ والتوزيع الآلي'!$E:$E, "✔ " & "9012*")) -> 0 | F9: =IF(A9="", "", SUMIFS('إدخال المبالغ والتوزيع الآلي'!$F:$F, 'إدخال المبالغ والتوزيع الآلي'!$A:$A, A9, 'إدخال المبالغ والتوزيع الآلي'!$E:$E, "✔ " & "9013*")) -> 0
A10: 632 | B10: رواتب مختلفة | C10: =IF(A10="", "", SUMIFS('إدخال المبالغ والتوزيع الآلي'!$F:$F, 'إدخال المبالغ والتوزيع الآلي'!$A:$A, A10, 'إدخال المبالغ والتوزيع الآلي'!$E:$E, "✔ " & "9010*")) -> 0 | D10: =IF(A10="", "", SUMIFS('إدخال المبالغ والتوزيع الآلي'!$F:$F, 'إدخال المبالغ والتوزيع الآلي'!$A:$A, A10, 'إدخال المبالغ والتوزيع الآلي'!$E:$E, "✔ " & "9011*")) -> 0 | E10: =IF(A10="", "", SUMIFS('إدخال المبالغ والتوزيع الآلي'!$F:$F, 'إدخال المبالغ والتوزيع الآلي'!$A:$A, A10, 'إدخال المبالغ والتوزيع الآلي'!$E:$E, "✔ " & "9012*")) -> 0 | F10: =IF(A10="", "", SUMIFS('إدخال المبالغ والتوزيع الآلي'!$F:$F, 'إدخال المبالغ والتوزيع الآلي'!$A:$A, A10, 'إدخال المبالغ والتوزيع الآلي'!$E:$E, "✔ " & "9013*")) -> 0
A11: 633 | B11: الأعباء الاجتماعية | C11: =IF(A11="", "", SUMIFS('إدخال المبالغ والتوزيع الآلي'!$F:$F, 'إدخال المبالغ والتوزيع الآلي'!$A:$A, A11, 'إدخال المبالغ والتوزيع الآلي'!$E:$E, "✔ " & "9010*")) -> 0 | D11: =IF(A11="", "", SUMIFS('إدخال المبالغ والتوزيع الآلي'!$F:$F, 'إدخال المبالغ والتوزيع الآلي'!$A:$A, A11, 'إدخال المبالغ والتوزيع الآلي'!$E:$E, "✔ " & "9011*")) -> 0 | E11: =IF(A11="", "", SUMIFS('إدخال المبالغ والتوزيع الآلي'!$F:$F, 'إدخال المبالغ والتوزيع الآلي'!$A:$A, A11, 'إدخال المبالغ والتوزيع الآلي'!$E:$E, "✔ " & "9012*")) -> 0 | F11: =IF(A11="", "", SUMIFS('إدخال المبالغ والتوزيع الآلي'!$F:$F, 'إدخال المبالغ والتوزيع الآلي'!$A:$A, A11, 'إدخال المبالغ والتوزيع الآلي'!$E:$E, "✔ " & "9013*")) -> 0
A12: 634 | B12: المصاريف المتعلقة بالامتحانات والمسابقات | C12: =IF(A12="", "", SUMIFS('إدخال المبالغ والتوزيع الآلي'!$F:$F, 'إدخال المبالغ والتوزيع الآلي'!$A:$A, A12, 'إدخال المبالغ والتوزيع الآلي'!$E:$E, "✔ " & "9010*")) -> 0 | D12: =IF(A12="", "", SUMIFS('إدخال المبالغ والتوزيع الآلي'!$F:$F, 'إدخال المبالغ والتوزيع الآلي'!$A:$A, A12, 'إدخال المبالغ والتوزيع الآلي'!$E:$E, "✔ " & "9011*")) -> 0 | E12: =IF(A12="", "", SUMIFS('إدخال المبالغ والتوزيع الآلي'!$F:$F, 'إدخال المبالغ والتوزيع الآلي'!$A:$A, A12, 'إدخال المبالغ والتوزيع الآلي'!$E:$E, "✔ " & "9012*")) -> 0 | F12: =IF(A12="", "", SUMIFS('إدخال المبالغ والتوزيع الآلي'!$F:$F, 'إدخال المبالغ والتوزيع الآلي'!$A:$A, A12, 'إدخال المبالغ والتوزيع الآلي'!$E:$E, "✔ " & "9013*")) -> 0
A13: 640 | B13: الضرائب على الرواتب | C13: =IF(A13="", "", SUMIFS('إدخال المبالغ والتوزيع الآلي'!$F:$F, 'إدخال المبالغ والتوزيع الآلي'!$A:$A, A13, 'إدخال المبالغ والتوزيع الآلي'!$E:$E, "✔ " & "9010*")) -> 0 | D13: =IF(A13="", "", SUMIFS('إدخال المبالغ والتوزيع الآلي'!$F:$F, 'إدخال المبالغ والتوزيع الآلي'!$A:$A, A13, 'إدخال المبالغ والتوزيع الآلي'!$E:$E, "✔ " & "9011*")) -> 0 | E13: =IF(A13="", "", SUMIFS('إدخال المبالغ والتوزيع الآلي'!$F:$F, 'إدخال المبالغ والتوزيع الآلي'!$A:$A, A13, 'إدخال المبالغ والتوزيع الآلي'!$E:$E, "✔ " & "9012*")) -> 0 | F13: =IF(A13="", "", SUMIFS('إدخال المبالغ والتوزيع الآلي'!$F:$F, 'إدخال المبالغ والتوزيع الآلي'!$A:$A, A13, 'إدخال المبالغ والتوزيع الآلي'!$E:$E, "✔ " & "9013*")) -> 0
A14: 679 | B14: المساهمات والخدمات الأخرى لفائدة الغير | C14: =IF(A14="", "", SUMIFS('إدخال المبالغ والتوزيع الآلي'!$F:$F, 'إدخال المبالغ والتوزيع الآلي'!$A:$A, A14, 'إدخال المبالغ والتوزيع الآلي'!$E:$E, "✔ " & "9010*")) -> 0 | D14: =IF(A14="", "", SUMIFS('إدخال المبالغ والتوزيع الآلي'!$F:$F, 'إدخال المبالغ والتوزيع الآلي'!$A:$A, A14, 'إدخال المبالغ والتوزيع الآلي'!$E:$E, "✔ " & "9011*")) -> 0 | E14: =IF(A14="", "", SUMIFS('إدخال المبالغ والتوزيع الآلي'!$F:$F, 'إدخال المبالغ والتوزيع الآلي'!$A:$A, A14, 'إدخال المبالغ والتوزيع الآلي'!$E:$E, "✔ " & "9012*")) -> 0 | F14: =IF(A14="", "", SUMIFS('إدخال المبالغ والتوزيع الآلي'!$F:$F, 'إدخال المبالغ والتوزيع الآلي'!$A:$A, A14, 'إدخال المبالغ والتوزيع الآلي'!$E:$E, "✔ " & "9013*")) -> 0
A15: 699 | B15: الأعباء الاستثنائية الأخرى | C15: =IF(A15="", "", SUMIFS('إدخال المبالغ والتوزيع الآلي'!$F:$F, 'إدخال المبالغ والتوزيع الآلي'!$A:$A, A15, 'إدخال المبالغ والتوزيع الآلي'!$E:$E, "✔ " & "9010*")) -> 0 | D15: =IF(A15="", "", SUMIFS('إدخال المبالغ والتوزيع الآلي'!$F:$F, 'إدخال المبالغ والتوزيع الآلي'!$A:$A, A15, 'إدخال المبالغ والتوزيع الآلي'!$E:$E, "✔ " & "9011*")) -> 0 | E15: =IF(A15="", "", SUMIFS('إدخال المبالغ والتوزيع الآلي'!$F:$F, 'إدخال المبالغ والتوزيع الآلي'!$A:$A, A15, 'إدخال المبالغ والتوزيع الآلي'!$E:$E, "✔ " & "9012*")) -> 0 | F15: =IF(A15="", "", SUMIFS('إدخال المبالغ والتوزيع الآلي'!$F:$F, 'إدخال المبالغ والتوزيع الآلي'!$A:$A, A15, 'إدخال المبالغ والتوزيع الآلي'!$E:$E, "✔ " & "9013*")) -> 0
A16: 826 | B16: أعباء السنوات المالية السابقة، بواقي الإنجاز | C16: =IF(A16="", "", SUMIFS('إدخال المبالغ والتوزيع الآلي'!$F:$F, 'إدخال المبالغ والتوزيع الآلي'!$A:$A, A16, 'إدخال المبالغ والتوزيع الآلي'!$E:$E, "✔ " & "9010*")) -> 0 | D16: =IF(A16="", "", SUMIFS('إدخال المبالغ والتوزيع الآلي'!$F:$F, 'إدخال المبالغ والتوزيع الآلي'!$A:$A, A16, 'إدخال المبالغ والتوزيع الآلي'!$E:$E, "✔ " & "9011*")) -> 0 | E16: =IF(A16="", "", SUMIFS('إدخال المبالغ والتوزيع الآلي'!$F:$F, 'إدخال المبالغ والتوزيع الآلي'!$A:$A, A16, 'إدخال المبالغ والتوزيع الآلي'!$E:$E, "✔ " & "9012*")) -> 0 | F16: =IF(A16="", "", SUMIFS('إدخال المبالغ والتوزيع الآلي'!$F:$F, 'إدخال المبالغ والتوزيع الآلي'!$A:$A, A16, 'إدخال المبالغ والتوزيع الآلي'!$E:$E, "✔ " & "9013*")) -> 0
A17: مواد حسابات الإيرادات
A18: 702 | B18: خدمات المستخدمين المدفوعة الأجر | C18: =IF(A18="", "", SUMIFS('إدخال المبالغ والتوزيع الآلي'!$F:$F, 'إدخال المبالغ والتوزيع الآلي'!$A:$A, A18, 'إدخال المبالغ والتوزيع الآلي'!$E:$E, "✔ " & "9010*")) -> 0 | D18: =IF(A18="", "", SUMIFS('إدخال المبالغ والتوزيع الآلي'!$F:$F, 'إدخال المبالغ والتوزيع الآلي'!$A:$A, A18, 'إدخال المبالغ والتوزيع الآلي'!$E:$E, "✔ " & "9011*")) -> 0 | E18: =IF(A18="", "", SUMIFS('إدخال المبالغ والتوزيع الآلي'!$F:$F, 'إدخال المبالغ والتوزيع الآلي'!$A:$A, A18, 'إدخال المبالغ والتوزيع الآلي'!$E:$E, "✔ " & "9012*")) -> 0 | F18: =IF(A18="", "", SUMIFS('إدخال المبالغ والتوزيع الآلي'!$F:$F, 'إدخال المبالغ والتوزيع الآلي'!$A:$A, A18, 'إدخال المبالغ والتوزيع الآلي'!$E:$E, "✔ " & "9013*")) -> 0
A19: 720 | B19: التحصيل من أرصدة تعويض المنح العائلية والخدمات المدفوعة نقدا | C19: =IF(A19="", "", SUMIFS('إدخال المبالغ والتوزيع الآلي'!$F:$F, 'إدخال المبالغ والتوزيع الآلي'!$A:$A, A19, 'إدخال المبالغ والتوزيع الآلي'!$E:$E, "✔ " & "9010*")) -> 0 | D19: =IF(A19="", "", SUMIFS('إدخال المبالغ والتوزيع الآلي'!$F:$F, 'إدخال المبالغ والتوزيع الآلي'!$A:$A, A19, 'إدخال المبالغ والتوزيع الآلي'!$E:$E, "✔ " & "9011*")) -> 0 | E19: =IF(A19="", "", SUMIFS('إدخال المبالغ والتوزيع الآلي'!$F:$F, 'إدخال المبالغ والتوزيع الآلي'!$A:$A, A19, 'إدخال المبالغ والتوزيع الآلي'!$E:$E, "✔ " & "9012*")) -> 0 | F19: =IF(A19="", "", SUMIFS('إدخال المبالغ والتوزيع الآلي'!$F:$F, 'إدخال المبالغ والتوزيع الآلي'!$A:$A, A19, 'إدخال المبالغ والتوزيع الآلي'!$E:$E, "✔ " & "9013*")) -> 0
A20: 723 | B20: إعانات الجماعات المحلية | C20: =IF(A20="", "", SUMIFS('إدخال المبالغ والتوزيع الآلي'!$F:$F, 'إدخال المبالغ والتوزيع الآلي'!$A:$A, A20, 'إدخال المبالغ والتوزيع الآلي'!$E:$E, "✔ " & "9010*")) -> 0 | D20: =IF(A20="", "", SUMIFS('إدخال المبالغ والتوزيع الآلي'!$F:$F, 'إدخال المبالغ والتوزيع الآلي'!$A:$A, A20, 'إدخال المبالغ والتوزيع الآلي'!$E:$E, "✔ " & "9011*")) -> 0 | E20: =IF(A20="", "", SUMIFS('إدخال المبالغ والتوزيع الآلي'!$F:$F, 'إدخال المبالغ والتوزيع الآلي'!$A:$A, A20, 'إدخال المبالغ والتوزيع الآلي'!$E:$E, "✔ " & "9012*")) -> 0 | F20: =IF(A20="", "", SUMIFS('إدخال المبالغ والتوزيع الآلي'!$F:$F, 'إدخال المبالغ والتوزيع الآلي'!$A:$A, A20, 'إدخال المبالغ والتوزيع الآلي'!$E:$E, "✔ " & "9013*")) -> 0
A21: 729 | B21: التحصيلات والإعانات والمساهمات الأخرى | C21: =IF(A21="", "", SUMIFS('إدخال المبالغ والتوزيع الآلي'!$F:$F, 'إدخال المبالغ والتوزيع الآلي'!$A:$A, A21, 'إدخال المبالغ والتوزيع الآلي'!$E:$E, "✔ " & "9010*")) -> 0 | D21: =IF(A21="", "", SUMIFS('إدخال المبالغ والتوزيع الآلي'!$F:$F, 'إدخال المبالغ والتوزيع الآلي'!$A:$A, A21, 'إدخال المبالغ والتوزيع الآلي'!$E:$E, "✔ " & "9011*")) -> 0 | E21: =IF(A21="", "", SUMIFS('إدخال المبالغ والتوزيع الآلي'!$F:$F, 'إدخال المبالغ والتوزيع الآلي'!$A:$A, A21, 'إدخال المبالغ والتوزيع الآلي'!$E:$E, "✔ " & "9012*")) -> 0 | F21: =IF(A21="", "", SUMIFS('إدخال المبالغ والتوزيع الآلي'!$F:$F, 'إدخال المبالغ والتوزيع الآلي'!$A:$A, A21, 'إدخال المبالغ والتوزيع الآلي'!$E:$E, "✔ " & "9013*")) -> 0
A22: 743 | B22: إعانات التكوين والدراسات والبحث | C22: =IF(A22="", "", SUMIFS('إدخال المبالغ والتوزيع الآلي'!$F:$F, 'إدخال المبالغ والتوزيع الآلي'!$A:$A, A22, 'إدخال المبالغ والتوزيع الآلي'!$E:$E, "✔ " & "9010*")) -> 0 | D22: =IF(A22="", "", SUMIFS('إدخال المبالغ والتوزيع الآلي'!$F:$F, 'إدخال المبالغ والتوزيع الآلي'!$A:$A, A22, 'إدخال المبالغ والتوزيع الآلي'!$E:$E, "✔ " & "9011*")) -> 0 | E22: =IF(A22="", "", SUMIFS('إدخال المبالغ والتوزيع الآلي'!$F:$F, 'إدخال المبالغ والتوزيع الآلي'!$A:$A, A22, 'إدخال المبالغ والتوزيع الآلي'!$E:$E, "✔ " & "9012*")) -> 0 | F22: =IF(A22="", "", SUMIFS('إدخال المبالغ والتوزيع الآلي'!$F:$F, 'إدخال المبالغ والتوزيع الآلي'!$A:$A, A22, 'إدخال المبالغ والتوزيع الآلي'!$E:$E, "✔ " & "9013*")) -> 0
A23: 780 | B23: مخصصات صيانة وحراسة المدارس الابتدائية | C23: =IF(A23="", "", SUMIFS('إدخال المبالغ والتوزيع الآلي'!$F:$F, 'إدخال المبالغ والتوزيع الآلي'!$A:$A, A23, 'إدخال المبالغ والتوزيع الآلي'!$E:$E, "✔ " & "9010*")) -> 0 | D23: =IF(A23="", "", SUMIFS('إدخال المبالغ والتوزيع الآلي'!$F:$F, 'إدخال المبالغ والتوزيع الآلي'!$A:$A, A23, 'إدخال المبالغ والتوزيع الآلي'!$E:$E, "✔ " & "9011*")) -> 0 | E23: =IF(A23="", "", SUMIFS('إدخال المبالغ والتوزيع الآلي'!$F:$F, 'إدخال المبالغ والتوزيع الآلي'!$A:$A, A23, 'إدخال المبالغ والتوزيع الآلي'!$E:$E, "✔ " & "9012*")) -> 0 | F23: =IF(A23="", "", SUMIFS('إدخال المبالغ والتوزيع الآلي'!$F:$F, 'إدخال المبالغ والتوزيع الآلي'!$A:$A, A23, 'إدخال المبالغ والتوزيع الآلي'!$E:$E, "✔ " & "9013*")) -> 0
A24: 782 | B24: المخصصات المتعلقة بالأجور | C24: =IF(A24="", "", SUMIFS('إدخال المبالغ والتوزيع الآلي'!$F:$F, 'إدخال المبالغ والتوزيع الآلي'!$A:$A, A24, 'إدخال المبالغ والتوزيع الآلي'!$E:$E, "✔ " & "9010*")) -> 0 | D24: =IF(A24="", "", SUMIFS('إدخال المبالغ والتوزيع الآلي'!$F:$F, 'إدخال المبالغ والتوزيع الآلي'!$A:$A, A24, 'إدخال المبالغ والتوزيع الآلي'!$E:$E, "✔ " & "9011*")) -> 0 | E24: =IF(A24="", "", SUMIFS('إدخال المبالغ والتوزيع الآلي'!$F:$F, 'إدخال المبالغ والتوزيع الآلي'!$A:$A, A24, 'إدخال المبالغ والتوزيع الآلي'!$E:$E, "✔ " & "9012*")) -> 0 | F24: =IF(A24="", "", SUMIFS('إدخال المبالغ والتوزيع الآلي'!$F:$F, 'إدخال المبالغ والتوزيع الآلي'!$A:$A, A24, 'إدخال المبالغ والتوزيع الآلي'!$E:$E, "✔ " & "9013*")) -> 0
A25: 7820 | B25: المخصصات المتعلقة بالزيادة في الأجور | C25: =IF(A25="", "", SUMIFS('إدخال المبالغ والتوزيع الآلي'!$F:$F, 'إدخال المبالغ والتوزيع الآلي'!$A:$A, A25, 'إدخال المبالغ والتوزيع الآلي'!$E:$E, "✔ " & "9010*")) -> 0 | D25: =IF(A25="", "", SUMIFS('إدخال المبالغ والتوزيع الآلي'!$F:$F, 'إدخال المبالغ والتوزيع الآلي'!$A:$A, A25, 'إدخال المبالغ والتوزيع الآلي'!$E:$E, "✔ " & "9011*")) -> 0 | E25: =IF(A25="", "", SUMIFS('إدخال المبالغ والتوزيع الآلي'!$F:$F, 'إدخال المبالغ والتوزيع الآلي'!$A:$A, A25, 'إدخال المبالغ والتوزيع الآلي'!$E:$E, "✔ " & "9012*")) -> 0 | F25: =IF(A25="", "", SUMIFS('إدخال المبالغ والتوزيع الآلي'!$F:$F, 'إدخال المبالغ والتوزيع الآلي'!$A:$A, A25, 'إدخال المبالغ والتوزيع الآلي'!$E:$E, "✔ " & "9013*")) -> 0
A26: 7821 | B26: المخصصات المتعلقة بالتكفل بالمناصب المالية المفتوحة | C26: =IF(A26="", "", SUMIFS('إدخال المبالغ والتوزيع الآلي'!$F:$F, 'إدخال المبالغ والتوزيع الآلي'!$A:$A, A26, 'إدخال المبالغ والتوزيع الآلي'!$E:$E, "✔ " & "9010*")) -> 0 | D26: =IF(A26="", "", SUMIFS('إدخال المبالغ والتوزيع الآلي'!$F:$F, 'إدخال المبالغ والتوزيع الآلي'!$A:$A, A26, 'إدخال المبالغ والتوزيع الآلي'!$E:$E, "✔ " & "9011*")) -> 0 | E26: =IF(A26="", "", SUMIFS('إدخال المبالغ والتوزيع الآلي'!$F:$F, 'إدخال المبالغ والتوزيع الآلي'!$A:$A, A26, 'إدخال المبالغ والتوزيع الآلي'!$E:$E, "✔ " & "9012*")) -> 0 | F26: =IF(A26="", "", SUMIFS('إدخال المبالغ والتوزيع الآلي'!$F:$F, 'إدخال المبالغ والتوزيع الآلي'!$A:$A, A26, 'إدخال المبالغ والتوزيع الآلي'!$E:$E, "✔ " & "9013*")) -> 0
A27: 789 | B27: مخصصات الدولة الأخرى | C27: =IF(A27="", "", SUMIFS('إدخال المبالغ والتوزيع الآلي'!$F:$F, 'إدخال المبالغ والتوزيع الآلي'!$A:$A, A27, 'إدخال المبالغ والتوزيع الآلي'!$E:$E, "✔ " & "9010*")) -> 0 | D27: =IF(A27="", "", SUMIFS('إدخال المبالغ والتوزيع الآلي'!$F:$F, 'إدخال المبالغ والتوزيع الآلي'!$A:$A, A27, 'إدخال المبالغ والتوزيع الآلي'!$E:$E, "✔ " & "9011*")) -> 0 | E27: =IF(A27="", "", SUMIFS('إدخال المبالغ والتوزيع الآلي'!$F:$F, 'إدخال المبالغ والتوزيع الآلي'!$A:$A, A27, 'إدخال المبالغ والتوزيع الآلي'!$E:$E, "✔ " & "9012*")) -> 0 | F27: =IF(A27="", "", SUMIFS('إدخال المبالغ والتوزيع الآلي'!$F:$F, 'إدخال المبالغ والتوزيع الآلي'!$A:$A, A27, 'إدخال المبالغ والتوزيع الآلي'!$E:$E, "✔ " & "9013*")) -> 0
A28: 799 | B28: نواتج استثنائية أخرى | C28: =IF(A28="", "", SUMIFS('إدخال المبالغ والتوزيع الآلي'!$F:$F, 'إدخال المبالغ والتوزيع الآلي'!$A:$A, A28, 'إدخال المبالغ والتوزيع الآلي'!$E:$E, "✔ " & "9010*")) -> 0 | D28: =IF(A28="", "", SUMIFS('إدخال المبالغ والتوزيع الآلي'!$F:$F, 'إدخال المبالغ والتوزيع الآلي'!$A:$A, A28, 'إدخال المبالغ والتوزيع الآلي'!$E:$E, "✔ " & "9011*")) -> 0 | E28: =IF(A28="", "", SUMIFS('إدخال المبالغ والتوزيع الآلي'!$F:$F, 'إدخال المبالغ والتوزيع الآلي'!$A:$A, A28, 'إدخال المبالغ والتوزيع الآلي'!$E:$E, "✔ " & "9012*")) -> 0 | F28: =IF(A28="", "", SUMIFS('إدخال المبالغ والتوزيع الآلي'!$F:$F, 'إدخال المبالغ والتوزيع الآلي'!$A:$A, A28, 'إدخال المبالغ والتوزيع الآلي'!$E:$E, "✔ " & "9013*")) -> 0
A29: 827 | B29: نواتج السنوات المالية السابقة، بواقي الإنجاز | C29: =IF(A29="", "", SUMIFS('إدخال المبالغ والتوزيع الآلي'!$F:$F, 'إدخال المبالغ والتوزيع الآلي'!$A:$A, A29, 'إدخال المبالغ والتوزيع الآلي'!$E:$E, "✔ " & "9010*")) -> 0 | D29: =IF(A29="", "", SUMIFS('إدخال المبالغ والتوزيع الآلي'!$F:$F, 'إدخال المبالغ والتوزيع الآلي'!$A:$A, A29, 'إدخال المبالغ والتوزيع الآلي'!$E:$E, "✔ " & "9011*")) -> 0 | E29: =IF(A29="", "", SUMIFS('إدخال المبالغ والتوزيع الآلي'!$F:$F, 'إدخال المبالغ والتوزيع الآلي'!$A:$A, A29, 'إدخال المبالغ والتوزيع الآلي'!$E:$E, "✔ " & "9012*")) -> 0 | F29: =IF(A29="", "", SUMIFS('إدخال المبالغ والتوزيع الآلي'!$F:$F, 'إدخال المبالغ والتوزيع الآلي'!$A:$A, A29, 'إدخال المبالغ والتوزيع الآلي'!$E:$E, "✔ " & "9013*")) -> 0

Sheet الباب 902
A1: الباب 902 - وسائل ومصالح الإدارة العامة - تصنيف عمليات النفقات والإيرادات حسب الأبواب الفرعية
A3: المواد | B3: التبيان | C3: الباب 902 - وسائل ومصالح الإدارة العامة
C4: 9020 المجلس الشعبي البلدي | D4: 9021 مصالح الإدارة العامة والأرشيف | E4: 9029 مصالح الإدارة العامة الأخرى
A5: مواد حسابات النفقات
A6: 600 | B6: المنتجات الصيدلانية | C6: =IF(A6="", "", SUMIFS('إدخال المبالغ والتوزيع الآلي'!$F:$F, 'إدخال المبالغ والتوزيع الآلي'!$A:$A, A6, 'إدخال المبالغ والتوزيع الآلي'!$E:$E, "✔ " & "9020*")) -> 0 | D6: =IF(A6="", "", SUMIFS('إدخال المبالغ والتوزيع الآلي'!$F:$F, 'إدخال المبالغ والتوزيع الآلي'!$A:$A, A6, 'إدخال المبالغ والتوزيع الآلي'!$E:$E, "✔ " & "9021*")) -> 0 | E6: =IF(A6="", "", SUMIFS('إدخال المبالغ والتوزيع الآلي'!$F:$F, 'إدخال المبالغ والتوزيع الآلي'!$A:$A, A6, 'إدخال المبالغ والتوزيع الآلي'!$E:$E, "✔ " & "9029*")) -> 0
A7: 602 | B7: الملابس | C7: =IF(A7="", "", SUMIFS('إدخال المبالغ والتوزيع الآلي'!$F:$F, 'إدخال المبالغ والتوزيع الآلي'!$A:$A, A7, 'إدخال المبالغ والتوزيع الآلي'!$E:$E, "✔ " & "9020*")) -> 0 | D7: =IF(A7="", "", SUMIFS('إدخال المبالغ والتوزيع الآلي'!$F:$F, 'إدخال المبالغ والتوزيع الآلي'!$A:$A, A7, 'إدخال المبالغ والتوزيع الآلي'!$E:$E, "✔ " & "9021*")) -> 0 | E7: =IF(A7="", "", SUMIFS('إدخال المبالغ والتوزيع الآلي'!$F:$F, 'إدخال المبالغ والتوزيع الآلي'!$A:$A, A7, 'إدخال المبالغ والتوزيع الآلي'!$E:$E, "✔ " & "9029*")) -> 0
A8: 608 | B8: لوازم المكتب والإعلام الآلي والطبع والتجليد | C8: =IF(A8="", "", SUMIFS('إدخال المبالغ والتوزيع الآلي'!$F:$F, 'إدخال المبالغ والتوزيع الآلي'!$A:$A, A8, 'إدخال المبالغ والتوزيع الآلي'!$E:$E, "✔ " & "9020*")) -> 0 | D8: =IF(A8="", "", SUMIFS('إدخال المبالغ والتوزيع الآلي'!$F:$F, 'إدخال المبالغ والتوزيع الآلي'!$A:$A, A8, 'إدخال المبالغ والتوزيع الآلي'!$E:$E, "✔ " & "9021*")) -> 0 | E8: =IF(A8="", "", SUMIFS('إدخال المبالغ والتوزيع الآلي'!$F:$F, 'إدخال المبالغ والتوزيع الآلي'!$A:$A, A8, 'إدخال المبالغ والتوزيع الآلي'!$E:$E, "✔ " & "9029*")) -> 0
A9: 6080 | B9: لوازم المكتب والإعلام الآلي | C9: =IF(A9="", "", SUMIFS('إدخال المبالغ والتوزيع الآلي'!$F:$F, 'إدخال المبالغ والتوزيع الآلي'!$A:$A, A9, 'إدخال المبالغ والتوزيع الآلي'!$E:$E, "✔ " & "9020*")) -> 0 | D9: =IF(A9="", "", SUMIFS('إدخال المبالغ والتوزيع الآلي'!$F:$F, 'إدخال المبالغ والتوزيع الآلي'!$A:$A, A9, 'إدخال المبالغ والتوزيع الآلي'!$E:$E, "✔ " & "9021*")) -> 0 | E9: =IF(A9="", "", SUMIFS('إدخال المبالغ والتوزيع الآلي'!$F:$F, 'إدخال المبالغ والتوزيع الآلي'!$A:$A, A9, 'إدخال المبالغ والتوزيع الآلي'!$E:$E, "✔ " & "9029*")) -> 0
A10: 6081 | B10: برامج الإعلام الآلي | C10: =IF(A10="", "", SUMIFS('إدخال المبالغ والتوزيع الآلي'!$F:$F, 'إدخال المبالغ والتوزيع الآلي'!$A:$A, A10, 'إدخال المبالغ والتوزيع الآلي'!$E:$E, "✔ " & "9020*")) -> 0 | D10: =IF(A10="", "", SUMIFS('إدخال المبالغ والتوزيع الآلي'!$F:$F, 'إدخال المبالغ والتوزيع الآلي'!$A:$A, A10, 'إدخال المبالغ والتوزيع الآلي'!$E:$E, "✔ " & "9021*")) -> 0 | E10: =IF(A10="", "", SUMIFS('إدخال المبالغ والتوزيع الآلي'!$F:$F, 'إدخال المبالغ والتوزيع الآلي'!$A:$A, A10, 'إدخال المبالغ والتوزيع الآلي'!$E:$E, "✔ " & "9029*")) -> 0
A11: 6082 | B11: الطبع والتجليد | C11: =IF(A11="", "", SUMIFS('إدخال المبالغ والتوزيع الآلي'!$F:$F, 'إدخال المبالغ والتوزيع الآلي'!$A:$A, A11, 'إدخال المبالغ والتوزيع الآلي'!$E:$E, "✔ " & "9020*")) -> 0 | D11: =IF(A11="", "", SUMIFS('إدخال المبالغ والتوزيع الآلي'!$F:$F, 'إدخال المبالغ والتوزيع الآلي'!$A:$A, A11, 'إدخال المبالغ والتوزيع الآلي'!$E:$E, "✔ " & "9021*")) -> 0 | E11: =IF(A11="", "", SUMIFS('إدخال المبالغ والتوزيع الآلي'!$F:$F, 'إدخال المبالغ والتوزيع الآلي'!$A:$A, A11, 'إدخال المبالغ والتوزيع الآلي'!$E:$E, "✔ " & "9029*")) -> 0
A12: 609 | B12: اللوازم الأخرى | C12: =IF(A12="", "", SUMIFS('إدخال المبالغ والتوزيع الآلي'!$F:$F, 'إدخال المبالغ والتوزيع الآلي'!$A:$A, A12, 'إدخال المبالغ والتوزيع الآلي'!$E:$E, "✔ " & "9020*")) -> 0 | D12: =IF(A12="", "", SUMIFS('إدخال المبالغ والتوزيع الآلي'!$F:$F, 'إدخال المبالغ والتوزيع الآلي'!$A:$A, A12, 'إدخال المبالغ والتوزيع الآلي'!$E:$E, "✔ " & "9021*")) -> 0 | E12: =IF(A12="", "", SUMIFS('إدخال المبالغ والتوزيع الآلي'!$F:$F, 'إدخال المبالغ والتوزيع الآلي'!$A:$A, A12, 'إدخال المبالغ والتوزيع الآلي'!$E:$E, "✔ " & "9029*")) -> 0
A13: 610 | B13: الإيجار وتكاليف الكراء | C13: =IF(A13="", "", SUMIFS('إدخال المبالغ والتوزيع الآلي'!$F:$F, 'إدخال المبالغ والتوزيع الآلي'!$A:$A, A13, 'إدخال المبالغ والتوزيع الآلي'!$E:$E, "✔ " & "9020*")) -> 0 | D13: =IF(A13="", "", SUMIFS('إدخال المبالغ والتوزيع الآلي'!$F:$F, 'إدخال المبالغ والتوزيع الآلي'!$A:$A, A13, 'إدخال المبالغ والتوزيع الآلي'!$E:$E, "✔ " & "9021*")) -> 0 | E13: =IF(A13="", "", SUMIFS('إدخال المبالغ والتوزيع الآلي'!$F:$F, 'إدخال المبالغ والتوزيع الآلي'!$A:$A, A13, 'إدخال المبالغ والتوزيع الآلي'!$E:$E, "✔ " & "9029*")) -> 0
A14: 611 | B14: الصيانة والترميم | C14: =IF(A14="", "", SUMIFS('إدخال المبالغ والتوزيع الآلي'!$F:$F, 'إدخال المبالغ والتوزيع الآلي'!$A:$A, A14, 'إدخال المبالغ والتوزيع الآلي'!$E:$E, "✔ " & "9020*")) -> 0 | D14: =IF(A14="", "", SUMIFS('إدخال المبالغ والتوزيع الآلي'!$F:$F, 'إدخال المبالغ والتوزيع الآلي'!$A:$A, A14, 'إدخال المبالغ والتوزيع الآلي'!$E:$E, "✔ " & "9021*")) -> 0 | E14: =IF(A14="", "", SUMIFS('إدخال المبالغ والتوزيع الآلي'!$F:$F, 'إدخال المبالغ والتوزيع الآلي'!$A:$A, A14, 'إدخال المبالغ والتوزيع الآلي'!$E:$E, "✔ " & "9029*")) -> 0
A15: 612 | B15: اقتناء العتاد والأدوات الصغيرة | C15: =IF(A15="", "", SUMIFS('إدخال المبالغ والتوزيع الآلي'!$F:$F, 'إدخال المبالغ والتوزيع الآلي'!$A:$A, A15, 'إدخال المبالغ والتوزيع الآلي'!$E:$E, "✔ " & "9020*")) -> 0 | D15: =IF(A15="", "", SUMIFS('إدخال المبالغ والتوزيع الآلي'!$F:$F, 'إدخال المبالغ والتوزيع الآلي'!$A:$A, A15, 'إدخال المبالغ والتوزيع الآلي'!$E:$E, "✔ " & "9021*")) -> 0 | E15: =IF(A15="", "", SUMIFS('إدخال المبالغ والتوزيع الآلي'!$F:$F, 'إدخال المبالغ والتوزيع الآلي'!$A:$A, A15, 'إدخال المبالغ والتوزيع الآلي'!$E:$E, "✔ " & "9029*")) -> 0
A16: 615 | B16: التأمين على المنقولات والعقارات | C16: =IF(A16="", "", SUMIFS('إدخال المبالغ والتوزيع الآلي'!$F:$F, 'إدخال المبالغ والتوزيع الآلي'!$A:$A, A16, 'إدخال المبالغ والتوزيع الآلي'!$E:$E, "✔ " & "9020*")) -> 0 | D16: =IF(A16="", "", SUMIFS('إدخال المبالغ والتوزيع الآلي'!$F:$F, 'إدخال المبالغ والتوزيع الآلي'!$A:$A, A16, 'إدخال المبالغ والتوزيع الآلي'!$E:$E, "✔ " & "9021*")) -> 0 | E16: =IF(A16="", "", SUMIFS('إدخال المبالغ والتوزيع الآلي'!$F:$F, 'إدخال المبالغ والتوزيع الآلي'!$A:$A, A16, 'إدخال المبالغ والتوزيع الآلي'!$E:$E, "✔ " & "9029*")) -> 0
A17: 616 | B17: تقديم الخدمات للبلدية | C17: =IF(A17="", "", SUMIFS('إدخال المبالغ والتوزيع الآلي'!$F:$F, 'إدخال المبالغ والتوزيع الآلي'!$A:$A, A17, 'إدخال المبالغ والتوزيع الآلي'!$E:$E, "✔ " & "9020*")) -> 0 | D17: =IF(A17="", "", SUMIFS('إدخال المبالغ والتوزيع الآلي'!$F:$F, 'إدخال المبالغ والتوزيع الآلي'!$A:$A, A17, 'إدخال المبالغ والتوزيع الآلي'!$E:$E, "✔ " & "9021*")) -> 0 | E17: =IF(A17="", "", SUMIFS('إدخال المبالغ والتوزيع الآلي'!$F:$F, 'إدخال المبالغ والتوزيع الآلي'!$A:$A, A17, 'إدخال المبالغ والتوزيع الآلي'!$E:$E, "✔ " & "9029*")) -> 0
... A37: 826 | B37: أعباء السنوات المالية السابقة، بواقي الإنجاز | C37: =IF(A37="", "", SUMIFS('إدخال المبالغ والتوزيع الآلي'!$F:$F, 'إدخال المبالغ والتوزيع الآلي'!$A:$A, A37, 'إدخال المبالغ والتوزيع الآلي'!$E:$E, "✔ " & "9020*")) -> 0 | D37: =IF(A37="", "", SUMIFS('إدخال المبالغ والتوزيع الآلي'!$F:$F, 'إدخال المبالغ والتوزيع الآلي'!$A:$A, A37, 'إدخال المبالغ والتوزيع الآلي'!$E:$E, "✔ " & "9021*")) -> 0 | E37: =IF(A37="", "", SUMIFS('إدخال المبالغ والتوزيع الآلي'!$F:$F, 'إدخال المبالغ والتوزيع الآلي'!$A:$A, A37, 'إدخال المبالغ والتوزيع الآلي'!$E:$E, "✔ " & "9029*")) -> 0
A38: مواد حسابات الإيرادات
A39: 700 | B39: مبيعات المنتجات أو الخدمة | C39: =IF(A39="", "", SUMIFS('إدخال المبالغ والتوزيع الآلي'!$F:$F, 'إدخال المبالغ والتوزيع الآلي'!$A:$A, A39, 'إدخال المبالغ والتوزيع الآلي'!$E:$E, "✔ " & "9020*")) -> 0 | D39: =IF(A39="", "", SUMIFS('إدخال المبالغ والتوزيع الآلي'!$F:$F, 'إدخال المبالغ والتوزيع الآلي'!$A:$A, A39, 'إدخال المبالغ والتوزيع الآلي'!$E:$E, "✔ " & "9021*")) -> 0 | E39: =IF(A39="", "", SUMIFS('إدخال المبالغ والتوزيع الآلي'!$F:$F, 'إدخال المبالغ والتوزيع الآلي'!$A:$A, A39, 'إدخال المبالغ والتوزيع الآلي'!$E:$E, "✔ " & "9029*")) -> 0
A40: 701 | B40: النسخ الإدارية | C40: =IF(A40="", "", SUMIFS('إدخال المبالغ والتوزيع الآلي'!$F:$F, 'إدخال المبالغ والتوزيع الآلي'!$A:$A, A40, 'إدخال المبالغ والتوزيع الآلي'!$E:$E, "✔ " & "9020*")) -> 0 | D40: =IF(A40="", "", SUMIFS('إدخال المبالغ والتوزيع الآلي'!$F:$F, 'إدخال المبالغ والتوزيع الآلي'!$A:$A, A40, 'إدخال المبالغ والتوزيع الآلي'!$E:$E, "✔ " & "9021*")) -> 0 | E40: =IF(A40="", "", SUMIFS('إدخال المبالغ والتوزيع الآلي'!$F:$F, 'إدخال المبالغ والتوزيع الآلي'!$A:$A, A40, 'إدخال المبالغ والتوزيع الآلي'!$E:$E, "✔ " & "9029*")) -> 0
A41: 729 | B41: التحصيلات والإعانات والمساهمات الأخرى | C41: =IF(A41="", "", SUMIFS('إدخال المبالغ والتوزيع الآلي'!$F:$F, 'إدخال المبالغ والتوزيع الآلي'!$A:$A, A41, 'إدخال المبالغ والتوزيع الآلي'!$E:$E, "✔ " & "9020*")) -> 0 | D41: =IF(A41="", "", SUMIFS('إدخال المبالغ والتوزيع الآلي'!$F:$F, 'إدخال المبالغ والتوزيع الآلي'!$A:$A, A41, 'إدخال المبالغ والتوزيع الآلي'!$E:$E, "✔ " & "9021*")) -> 0 | E41: =IF(A41="", "", SUMIFS('إدخال المبالغ والتوزيع الآلي'!$F:$F, 'إدخال المبالغ والتوزيع الآلي'!$A:$A, A41, 'إدخال المبالغ والتوزيع الآلي'!$E:$E, "✔ " & "9029*")) -> 0
A42: 789 | B42: مخصصات الدولة الأخرى | C42: =IF(A42="", "", SUMIFS('إدخال المبالغ والتوزيع الآلي'!$F:$F, 'إدخال المبالغ والتوزيع الآلي'!$A:$A, A42, 'إدخال المبالغ والتوزيع الآلي'!$E:$E, "✔ " & "9020*")) -> 0 | D42: =IF(A42="", "", SUMIFS('إدخال المبالغ والتوزيع الآلي'!$F:$F, 'إدخال المبالغ والتوزيع الآلي'!$A:$A, A42, 'إدخال المبالغ والتوزيع الآلي'!$E:$E, "✔ " & "9021*")) -> 0 | E42: =IF(A42="", "", SUMIFS('إدخال المبالغ والتوزيع الآلي'!$F:$F, 'إدخال المبالغ والتوزيع الآلي'!$A:$A, A42, 'إدخال المبالغ والتوزيع الآلي'!$E:$E, "✔ " & "9029*")) -> 0
A43: 799 | B43: نواتج استثنائية أخرى | C43: =IF(A43="", "", SUMIFS('إدخال المبالغ والتوزيع الآلي'!$F:$F, 'إدخال المبالغ والتوزيع الآلي'!$A:$A, A43, 'إدخال المبالغ والتوزيع الآلي'!$E:$E, "✔ " & "9020*")) -> 0 | D43: =IF(A43="", "", SUMIFS('إدخال المبالغ والتوزيع الآلي'!$F:$F, 'إدخال المبالغ والتوزيع الآلي'!$A:$A, A43, 'إدخال المبالغ والتوزيع الآلي'!$E:$E, "✔ " & "9021*")) -> 0 | E43: =IF(A43="", "", SUMIFS('إدخال المبالغ والتوزيع الآلي'!$F:$F, 'إدخال المبالغ والتوزيع الآلي'!$A:$A, A43, 'إدخال المبالغ والتوزيع الآلي'!$E:$E, "✔ " & "9029*")) -> 0
A44: 827 | B44: نواتج السنوات المالية السابقة، بواقي الإنجاز | C44: =IF(A44="", "", SUMIFS('إدخال المبالغ والتوزيع الآلي'!$F:$F, 'إدخال المبالغ والتوزيع الآلي'!$A:$A, A44, 'إدخال المبالغ والتوزيع الآلي'!$E:$E, "✔ " & "9020*")) -> 0 | D44: =IF(A44="", "", SUMIFS('إدخال المبالغ والتوزيع الآلي'!$F:$F, 'إدخال المبالغ والتوزيع الآلي'!$A:$A, A44, 'إدخال المبالغ والتوزيع الآلي'!$E:$E, "✔ " & "9021*")) -> 0 | E44: =IF(A44="", "", SUMIFS('إدخال المبالغ والتوزيع الآلي'!$F:$F, 'إدخال المبالغ والتوزيع الآلي'!$A:$A, A44, 'إدخال المبالغ والتوزيع الآلي'!$E:$E, "✔ " & "9029*")) -> 0

Sheet الباب 903
A1: الباب 903 - مجموع العقارات والمنقولات غير المنتجة للمداخيل - تصنيف عمليات النفقات والإيرادات حسب الأبواب الفرعية
A3: المواد | B3: التبيان | C3: الباب 903 - مجموع العقارات والمنقولات غير المنتجة للمداخيل
C4: 9030 نفقات تسيير وصيانة مباني البلدية | D4: 9031 نفقات تسيير وصيانة المدارس الابتدائية | E4: 9032 نفقات تسيير وصيانة الحظيرة البلدية | F4: 9033 نفقات تسيير وصيانة الورشات | G4: 9034 المساكن الإلزامية والوظيفية | H4: 9039 نفقات تسيير وصيانة المصالح الأخرى غير المنتجة للمداخيل
A5: مواد حسابات النفقات
A6: 603 | B6: الوقود | C6: =IF(A6="", "", SUMIFS('إدخال المبالغ والتوزيع الآلي'!$F:$F, 'إدخال المبالغ والتوزيع الآلي'!$A:$A, A6, 'إدخال المبالغ والتوزيع الآلي'!$E:$E, "✔ " & "9030*")) -> 0 | D6: =IF(A6="", "", SUMIFS('إدخال المبالغ والتوزيع الآلي'!$F:$F, 'إدخال المبالغ والتوزيع الآلي'!$A:$A, A6, 'إدخال المبالغ والتوزيع الآلي'!$E:$E, "✔ " & "9031*")) -> 0 | E6: =IF(A6="", "", SUMIFS('إدخال المبالغ والتوزيع الآلي'!$F:$F, 'إدخال المبالغ والتوزيع الآلي'!$A:$A, A6, 'إدخال المبالغ والتوزيع الآلي'!$E:$E, "✔ " & "9032*")) -> 0 | F6: =IF(A6="", "", SUMIFS('إدخال المبالغ والتوزيع الآلي'!$F:$F, 'إدخال المبالغ والتوزيع الآلي'!$A:$A, A6, 'إدخال المبالغ والتوزيع الآلي'!$E:$E, "✔ " & "9033*")) -> 0 | G6: =IF(A6="", "", SUMIFS('إدخال المبالغ والتوزيع الآلي'!$F:$F, 'إدخال المبالغ والتوزيع الآلي'!$A:$A, A6, 'إدخال المبالغ والتوزيع الآلي'!$E:$E, "✔ " & "9034*")) -> 0 | H6: =IF(A6="", "", SUMIFS('إدخال المبالغ والتوزيع الآلي'!$F:$F, 'إدخال المبالغ والتوزيع الآلي'!$A:$A, A6, 'إدخال المبالغ والتوزيع الآلي'!$E:$E, "✔ " & "9039*")) -> 0
A7: 604 | B7: المحروقات | C7: =IF(A7="", "", SUMIFS('إدخال المبالغ والتوزيع الآلي'!$F:$F, 'إدخال المبالغ والتوزيع الآلي'!$A:$A, A7, 'إدخال المبالغ والتوزيع الآلي'!$E:$E, "✔ " & "9030*")) -> 0 | D7: =IF(A7="", "", SUMIFS('إدخال المبالغ والتوزيع الآلي'!$F:$F, 'إدخال المبالغ والتوزيع الآلي'!$A:$A, A7, 'إدخال المبالغ والتوزيع الآلي'!$E:$E, "✔ " & "9031*")) -> 0 | E7: =IF(A7="", "", SUMIFS('إدخال المبالغ والتوزيع الآلي'!$F:$F, 'إدخال المبالغ والتوزيع الآلي'!$A:$A, A7, 'إدخال المبالغ والتوزيع الآلي'!$E:$E, "✔ " & "9032*")) -> 0 | F7: =IF(A7="", "", SUMIFS('إدخال المبالغ والتوزيع الآلي'!$F:$F, 'إدخال المبالغ والتوزيع الآلي'!$A:$A, A7, 'إدخال المبالغ والتوزيع الآلي'!$E:$E, "✔ " & "9033*")) -> 0 | G7: =IF(A7="", "", SUMIFS('إدخال المبالغ والتوزيع الآلي'!$F:$F, 'إدخال المبالغ والتوزيع الآلي'!$A:$A, A7, 'إدخال المبالغ والتوزيع الآلي'!$E:$E, "✔ " & "9034*")) -> 0 | H7: =IF(A7="", "", SUMIFS('إدخال المبالغ والتوزيع الآلي'!$F:$F, 'إدخال المبالغ والتوزيع الآلي'!$A:$A, A7, 'إدخال المبالغ والتوزيع الآلي'!$E:$E, "✔ " & "9039*")) -> 0
A8: 605 | B8: لوازم صيانة المباني والمنقولات والعتاد | C8: =IF(A8="", "", SUMIFS('إدخال المبالغ والتوزيع الآلي'!$F:$F, 'إدخال المبالغ والتوزيع الآلي'!$A:$A, A8, 'إدخال المبالغ والتوزيع الآلي'!$E:$E, "✔ " & "9030*")) -> 0 | D8: =IF(A8="", "", SUMIFS('إدخال المبالغ والتوزيع الآلي'!$F:$F, 'إدخال المبالغ والتوزيع الآلي'!$A:$A, A8, 'إدخال المبالغ والتوزيع الآلي'!$E:$E, "✔ " & "9031*")) -> 0 | E8: =IF(A8="", "", SUMIFS('إدخال المبالغ والتوزيع الآلي'!$F:$F, 'إدخال المبالغ والتوزيع الآلي'!$A:$A, A8, 'إدخال المبالغ والتوزيع الآلي'!$E:$E, "✔ " & "9032*")) -> 0 | F8: =IF(A8="", "", SUMIFS('إدخال المبالغ والتوزيع الآلي'!$F:$F, 'إدخال المبالغ والتوزيع الآلي'!$A:$A, A8, 'إدخال المبالغ والتوزيع الآلي'!$E:$E, "✔ " & "9033*")) -> 0 | G8: =IF(A8="", "", SUMIFS('إدخال المبالغ والتوزيع الآلي'!$F:$F, 'إدخال المبالغ والتوزيع الآلي'!$A:$A, A8, 'إدخال المبالغ والتوزيع الآلي'!$E:$E, "✔ " & "9034*")) -> 0 | H8: =IF(A8="", "", SUMIFS('إدخال المبالغ والتوزيع الآلي'!$F:$F, 'إدخال المبالغ والتوزيع الآلي'!$A:$A, A8, 'إدخال المبالغ والتوزيع الآلي'!$E:$E, "✔ " & "9039*")) -> 0
A9: 6050 | B9: لوازم صيانة المباني | C9: =IF(A9="", "", SUMIFS('إدخال المبالغ والتوزيع الآلي'!$F:$F, 'إدخال المبالغ والتوزيع الآلي'!$A:$A, A9, 'إدخال المبالغ والتوزيع الآلي'!$E:$E, "✔ " & "9030*")) -> 0 | D9: =IF(A9="", "", SUMIFS('إدخال المبالغ والتوزيع الآلي'!$F:$F, 'إدخال المبالغ والتوزيع الآلي'!$A:$A, A9, 'إدخال المبالغ والتوزيع الآلي'!$E:$E, "✔ " & "9031*")) -> 0 | E9: =IF(A9="", "", SUMIFS('إدخال المبالغ والتوزيع الآلي'!$F:$F, 'إدخال المبالغ والتوزيع الآلي'!$A:$A, A9, 'إدخال المبالغ والتوزيع الآلي'!$E:$E, "✔ " & "9032*")) -> 0 | F9: =IF(A9="", "", SUMIFS('إدخال المبالغ والتوزيع الآلي'!$F:$F, 'إدخال المبالغ والتوزيع الآلي'!$A:$A, A9, 'إدخال المبالغ والتوزيع الآلي'!$E:$E, "✔ " & "9033*")) -> 0 | G9: =IF(A9="", "", SUMIFS('إدخال المبالغ والتوزيع الآلي'!$F:$F, 'إدخال المبالغ والتوزيع الآلي'!$A:$A, A9, 'إدخال المبالغ والتوزيع الآلي'!$E:$E, "✔ " & "9034*")) -> 0 | H9: =IF(A9="", "", SUMIFS('إدخال المبالغ والتوزيع الآلي'!$F:$F, 'إدخال المبالغ والتوزيع الآلي'!$A:$A, A9, 'إدخال المبالغ والتوزيع الآلي'!$E:$E, "✔ " & "9039*")) -> 0
A10: 6051 | B10: لوازم صيانة المنقولات والعتاد | C10: =IF(A10="", "", SUMIFS('إدخال المبالغ والتوزيع الآلي'!$F:$F, 'إدخال المبالغ والتوزيع الآلي'!$A:$A, A10, 'إدخال المبالغ والتوزيع الآلي'!$E:$E, "✔ " & "9030*")) -> 0 | D10: =IF(A10="", "", SUMIFS('إدخال المبالغ والتوزيع الآلي'!$F:$F, 'إدخال المبالغ والتوزيع الآلي'!$A:$A, A10, 'إدخال المبالغ والتوزيع الآلي'!$E:$E, "✔ " & "9031*")) -> 0 | E10: =IF(A10="", "", SUMIFS('إدخال المبالغ والتوزيع الآلي'!$F:$F, 'إدخال المبالغ والتوزيع الآلي'!$A:$A, A10, 'إدخال المبالغ والتوزيع الآلي'!$E:$E, "✔ " & "9032*")) -> 0 | F10: =IF(A10="", "", SUMIFS('إدخال المبالغ والتوزيع الآلي'!$F:$F, 'إدخال المبالغ والتوزيع الآلي'!$A:$A, A10, 'إدخال المبالغ والتوزيع الآلي'!$E:$E, "✔ " & "9033*")) -> 0 | G10: =IF(A10="", "", SUMIFS('إدخال المبالغ والتوزيع الآلي'!$F:$F, 'إدخال المبالغ والتوزيع الآلي'!$A:$A, A10, 'إدخال المبالغ والتوزيع الآلي'!$E:$E, "✔ " & "9034*")) -> 0 | H10: =IF(A10="", "", SUMIFS('إدخال المبالغ والتوزيع الآلي'!$F:$F, 'إدخال المبالغ والتوزيع الآلي'!$A:$A, A10, 'إدخال المبالغ والتوزيع الآلي'!$E:$E, "✔ " & "9039*")) -> 0
A11: 609 | B11: اللوازم الأخرى | C11: =IF(A11="", "", SUMIFS('إدخال المبالغ والتوزيع الآلي'!$F:$F, 'إدخال المبالغ والتوزيع الآلي'!$A:$A, A11, 'إدخال المبالغ والتوزيع الآلي'!$E:$E, "✔ " & "9030*")) -> 0 | D11: =IF(A11="", "", SUMIFS('إدخال المبالغ والتوزيع الآلي'!$F:$F, 'إدخال المبالغ والتوزيع الآلي'!$A:$A, A11, 'إدخال المبالغ والتوزيع الآلي'!$E:$E, "✔ " & "9031*")) -> 0 | E11: =IF(A11="", "", SUMIFS('إدخال المبالغ والتوزيع الآلي'!$F:$F, 'إدخال المبالغ والتوزيع الآلي'!$A:$A, A11, 'إدخال المبالغ والتوزيع الآلي'!$E:$E, "✔ " & "9032*")) -> 0 | F11: =IF(A11="", "", SUMIFS('إدخال المبالغ والتوزيع الآلي'!$F:$F, 'إدخال المبالغ والتوزيع الآلي'!$A:$A, A11, 'إدخال المبالغ والتوزيع الآلي'!$E:$E, "✔ " & "9033*")) -> 0 | G11: =IF(A11="", "", SUMIFS('إدخال المبالغ والتوزيع الآلي'!$F:$F, 'إدخال المبالغ والتوزيع الآلي'!$A:$A, A11, 'إدخال المبالغ والتوزيع الآلي'!$E:$E, "✔ " & "9034*")) -> 0 | H11: =IF(A11="", "", SUMIFS('إدخال المبالغ والتوزيع الآلي'!$F:$F, 'إدخال المبالغ والتوزيع الآلي'!$A:$A, A11, 'إدخال المبالغ والتوزيع الآلي'!$E:$E, "✔ " & "9039*")) -> 0
A12: 610 | B12: الإيجار وتكاليف الكراء | C12: =IF(A12="", "", SUMIFS('إدخال المبالغ والتوزيع الآلي'!$F:$F, 'إدخال المبالغ والتوزيع الآلي'!$A:$A, A12, 'إدخال المبالغ والتوزيع الآلي'!$E:$E, "✔ " & "9030*")) -> 0 | D12: =IF(A12="", "", SUMIFS('إدخال المبالغ والتوزيع الآلي'!$F:$F, 'إدخال المبالغ والتوزيع الآلي'!$A:$A, A12, 'إدخال المبالغ والتوزيع الآلي'!$E:$E, "✔ " & "9031*")) -> 0 | E12: =IF(A12="", "", SUMIFS('إدخال المبالغ والتوزيع الآلي'!$F:$F, 'إدخال المبالغ والتوزيع الآلي'!$A:$A, A12, 'إدخال المبالغ والتوزيع الآلي'!$E:$E, "✔ " & "9032*")) -> 0 | F12: =IF(A12="", "", SUMIFS('إدخال المبالغ والتوزيع الآلي'!$F:$F, 'إدخال المبالغ والتوزيع الآلي'!$A:$A, A12, 'إدخال المبالغ والتوزيع الآلي'!$E:$E, "✔ " & "9033*")) -> 0 | G12: =IF(A12="", "", SUMIFS('إدخال المبالغ والتوزيع الآلي'!$F:$F, 'إدخال المبالغ والتوزيع الآلي'!$A:$A, A12, 'إدخال المبالغ والتوزيع الآلي'!$E:$E, "✔ " & "9034*")) -> 0 | H12: =IF(A12="", "", SUMIFS('إدخال المبالغ والتوزيع الآلي'!$F:$F, 'إدخال المبالغ والتوزيع الآلي'!$A:$A, A12, 'إدخال المبالغ والتوزيع الآلي'!$E:$E, "✔ " & "9039*")) -> 0
A13: 611 | B13: الصيانة والترميم | C13: =IF(A13="", "", SUMIFS('إدخال المبالغ والتوزيع الآلي'!$F:$F, 'إدخال المبالغ والتوزيع الآلي'!$A:$A, A13, 'إدخال المبالغ والتوزيع الآلي'!$E:$E, "✔ " & "9030*")) -> 0 | D13: =IF(A13="", "", SUMIFS('إدخال المبالغ والتوزيع الآلي'!$F:$F, 'إدخال المبالغ والتوزيع الآلي'!$A:$A, A13, 'إدخال المبالغ والتوزيع الآلي'!$E:$E, "✔ " & "9031*")) -> 0 | E13: =IF(A13="", "", SUMIFS('إدخال المبالغ والتوزيع الآلي'!$F:$F, 'إدخال المبالغ والتوزيع الآلي'!$A:$A, A13, 'إدخال المبالغ والتوزيع الآلي'!$E:$E, "✔ " & "9032*")) -> 0 | F13: =IF(A13="", "", SUMIFS('إدخال المبالغ والتوزيع الآلي'!$F:$F, 'إدخال المبالغ والتوزيع الآلي'!$A:$A, A13, 'إدخال المبالغ والتوزيع الآلي'!$E:$E, "✔ " & "9033*")) -> 0 | G13: =IF(A13="", "", SUMIFS('إدخال المبالغ والتوزيع الآلي'!$F:$F, 'إدخال المبالغ والتوزيع الآلي'!$A:$A, A13, 'إدخال المبالغ والتوزيع الآلي'!$E:$E, "✔ " & "9034*")) -> 0 | H13: =IF(A13="", "", SUMIFS('إدخال المبالغ والتوزيع الآلي'!$F:$F, 'إدخال المبالغ والتوزيع الآلي'!$A:$A, A13, 'إدخال المبالغ والتوزيع الآلي'!$E:$E, "✔ " & "9039*")) -> 0
A14: 612 | B14: اقتناء العتاد والأدوات الصغيرة | C14: =IF(A14="", "", SUMIFS('إدخال المبالغ والتوزيع الآلي'!$F:$F, 'إدخال المبالغ والتوزيع الآلي'!$A:$A, A14, 'إدخال المبالغ والتوزيع الآلي'!$E:$E, "✔ " & "9030*")) -> 0 | D14: =IF(A14="", "", SUMIFS('إدخال المبالغ والتوزيع الآلي'!$F:$F, 'إدخال المبالغ والتوزيع الآلي'!$A:$A, A14, 'إدخال المبالغ والتوزيع الآلي'!$E:$E, "✔ " & "9031*")) -> 0 | E14: =IF(A14="", "", SUMIFS('إدخال المبالغ والتوزيع الآلي'!$F:$F, 'إدخال المبالغ والتوزيع الآلي'!$A:$A, A14, 'إدخال المبالغ والتوزيع الآلي'!$E:$E, "✔ " & "9032*")) -> 0 | F14: =IF(A14="", "", SUMIFS('إدخال المبالغ والتوزيع الآلي'!$F:$F, 'إدخال المبالغ والتوزيع الآلي'!$A:$A, A14, 'إدخال المبالغ والتوزيع الآلي'!$E:$E, "✔ " & "9033*")) -> 0 | G14: =IF(A14="", "", SUMIFS('إدخال المبالغ والتوزيع الآلي'!$F:$F, 'إدخال المبالغ والتوزيع الآلي'!$A:$A, A14, 'إدخال المبالغ والتوزيع الآلي'!$E:$E, "✔ " & "9034*")) -> 0 | H14: =IF(A14="", "", SUMIFS('إدخال المبالغ والتوزيع الآلي'!$F:$F, 'إدخال المبالغ والتوزيع الآلي'!$A:$A, A14, 'إدخال المبالغ والتوزيع الآلي'!$E:$E, "✔ " & "9039*")) -> 0
A15: 613 | B15: الماء | C15: =IF(A15="", "", SUMIFS('إدخال المبالغ والتوزيع الآلي'!$F:$F, 'إدخال المبالغ والتوزيع الآلي'!$A:$A, A15, 'إدخال المبالغ والتوزيع الآلي'!$E:$E, "✔ " & "9030*")) -> 0 | D15: =IF(A15="", "", SUMIFS('إدخال المبالغ والتوزيع الآلي'!$F:$F, 'إدخال المبالغ والتوزيع الآلي'!$A:$A, A15, 'إدخال المبالغ والتوزيع الآلي'!$E:$E, "✔ " & "9031*")) -> 0 | E15: =IF(A15="", "", SUMIFS('إدخال المبالغ والتوزيع الآلي'!$F:$F, 'إدخال المبالغ والتوزيع الآلي'!$A:$A, A15, 'إدخال المبالغ والتوزيع الآلي'!$E:$E, "✔ " & "9032*")) -> 0 | F15: =IF(A15="", "", SUMIFS('إدخال المبالغ والتوزيع الآلي'!$F:$F, 'إدخال المبالغ والتوزيع الآلي'!$A:$A, A15, 'إدخال المبالغ والتوزيع الآلي'!$E:$E, "✔ " & "9033*")) -> 0 | G15: =IF(A15="", "", SUMIFS('إدخال المبالغ والتوزيع الآلي'!$F:$F, 'إدخال المبالغ والتوزيع الآلي'!$A:$A, A15, 'إدخال المبالغ والتوزيع الآلي'!$E:$E, "✔ " & "9034*")) -> 0 | H15: =IF(A15="", "", SUMIFS('إدخال المبالغ والتوزيع الآلي'!$F:$F, 'إدخال المبالغ والتوزيع الآلي'!$A:$A, A15, 'إدخال المبالغ والتوزيع الآلي'!$E:$E, "✔ " & "9039*")) -> 0
A16: 614 | B16: الغاز والكهرباء | C16: =IF(A16="", "", SUMIFS('إدخال المبالغ والتوزيع الآلي'!$F:$F, 'إدخال المبالغ والتوزيع الآلي'!$A:$A, A16, 'إدخال المبالغ والتوزيع الآلي'!$E:$E, "✔ " & "9030*")) -> 0 | D16: =IF(A16="", "", SUMIFS('إدخال المبالغ والتوزيع الآلي'!$F:$F, 'إدخال المبالغ والتوزيع الآلي'!$A:$A, A16, 'إدخال المبالغ والتوزيع الآلي'!$E:$E, "✔ " & "9031*")) -> 0 | E16: =IF(A16="", "", SUMIFS('إدخال المبالغ والتوزيع الآلي'!$F:$F, 'إدخال المبالغ والتوزيع الآلي'!$A:$A, A16, 'إدخال المبالغ والتوزيع الآلي'!$E:$E, "✔ " & "9032*")) -> 0 | F16: =IF(A16="", "", SUMIFS('إدخال المبالغ والتوزيع الآلي'!$F:$F, 'إدخال المبالغ والتوزيع الآلي'!$A:$A, A16, 'إدخال المبالغ والتوزيع الآلي'!$E:$E, "✔ " & "9033*")) -> 0 | G16: =IF(A16="", "", SUMIFS('إدخال المبالغ والتوزيع الآلي'!$F:$F, 'إدخال المبالغ والتوزيع الآلي'!$A:$A, A16, 'إدخال المبالغ والتوزيع الآلي'!$E:$E, "✔ " & "9034*")) -> 0 | H16: =IF(A16="", "", SUMIFS('إدخال المبالغ والتوزيع الآلي'!$F:$F, 'إدخال المبالغ والتوزيع الآلي'!$A:$A, A16, 'إدخال المبالغ والتوزيع الآلي'!$E:$E, "✔ " & "9039*")) -> 0
A17: 615 | B17: التأمين على المنقولات والعقارات | C17: =IF(A17="", "", SUMIFS('إدخال المبالغ والتوزيع الآلي'!$F:$F, 'إدخال المبالغ والتوزيع الآلي'!$A:$A, A17, 'إدخال المبالغ والتوزيع الآلي'!$E:$E, "✔ " & "9030*")) -> 0 | D17: =IF(A17="", "", SUMIFS('إدخال المبالغ والتوزيع الآلي'!$F:$F, 'إدخال المبالغ والتوزيع الآلي'!$A:$A, A17, 'إدخال المبالغ والتوزيع الآلي'!$E:$E, "✔ " & "9031*")) -> 0 | E17: =IF(A17="", "", SUMIFS('إدخال المبالغ والتوزيع الآلي'!$F:$F, 'إدخال المبالغ والتوزيع الآلي'!$A:$A, A17, 'إدخال المبالغ والتوزيع الآلي'!$E:$E, "✔ " & "9032*")) -> 0 | F17: =IF(A17="", "", SUMIFS('إدخال المبالغ والتوزيع الآلي'!$F:$F, 'إدخال المبالغ والتوزيع الآلي'!$A:$A, A17, 'إدخال المبالغ والتوزيع الآلي'!$E:$E, "✔ " & "9033*")) -> 0 | G17: =IF(A17="", "", SUMIFS('إدخال المبالغ والتوزيع الآلي'!$F:$F, 'إدخال المبالغ والتوزيع الآلي'!$A:$A, A17, 'إدخال المبالغ والتوزيع الآلي'!$E:$E, "✔ " & "9034*")) -> 0 | H17: =IF(A17="", "", SUMIFS('إدخال المبالغ والتوزيع الآلي'!$F:$F, 'إدخال المبالغ والتوزيع الآلي'!$A:$A, A17, 'إدخال المبالغ والتوزيع الآلي'!$E:$E, "✔ " & "9039*")) -> 0
... A31: 826 | B31: أعباء السنوات المالية السابقة بواقي الإنجاز | C31: =IF(A31="", "", SUMIFS('إدخال المبالغ والتوزيع الآلي'!$F:$F, 'إدخال المبالغ والتوزيع الآلي'!$A:$A, A31, 'إدخال المبالغ والتوزيع الآلي'!$E:$E, "✔ " & "9030*")) -> 0 | D31: =IF(A31="", "", SUMIFS('إدخال المبالغ والتوزيع الآلي'!$F:$F, 'إدخال المبالغ والتوزيع الآلي'!$A:$A, A31, 'إدخال المبالغ والتوزيع الآلي'!$E:$E, "✔ " & "9031*")) -> 0 | E31: =IF(A31="", "", SUMIFS('إدخال المبالغ والتوزيع الآلي'!$F:$F, 'إدخال المبالغ والتوزيع الآلي'!$A:$A, A31, 'إدخال المبالغ والتوزيع الآلي'!$E:$E, "✔ " & "9032*")) -> 0 | F31: =IF(A31="", "", SUMIFS('إدخال المبالغ والتوزيع الآلي'!$F:$F, 'إدخال المبالغ والتوزيع الآلي'!$A:$A, A31, 'إدخال المبالغ والتوزيع الآلي'!$E:$E, "✔ " & "9033*")) -> 0 | G31: =IF(A31="", "", SUMIFS('إدخال المبالغ والتوزيع الآلي'!$F:$F, 'إدخال المبالغ والتوزيع الآلي'!$A:$A, A31, 'إدخال المبالغ والتوزيع الآلي'!$E:$E, "✔ " & "9034*")) -> 0 | H31: =IF(A31="", "", SUMIFS('إدخال المبالغ والتوزيع الآلي'!$F:$F, 'إدخال المبالغ والتوزيع الآلي'!$A:$A, A31, 'إدخال المبالغ والتوزيع الآلي'!$E:$E, "✔ " & "9039*")) -> 0
A32: مواد حسابات الإيرادات
A33: 723 | B33: إعانات الجماعات المحلية | C33: =IF(A33="", "", SUMIFS('إدخال المبالغ والتوزيع الآلي'!$F:$F, 'إدخال المبالغ والتوزيع الآلي'!$A:$A, A33, 'إدخال المبالغ والتوزيع الآلي'!$E:$E, "✔ " & "9030*")) -> 0 | D33: =IF(A33="", "", SUMIFS('إدخال المبالغ والتوزيع الآلي'!$F:$F, 'إدخال المبالغ والتوزيع الآلي'!$A:$A, A33, 'إدخال المبالغ والتوزيع الآلي'!$E:$E, "✔ " & "9031*")) -> 0 | E33: =IF(A33="", "", SUMIFS('إدخال المبالغ والتوزيع الآلي'!$F:$F, 'إدخال المبالغ والتوزيع الآلي'!$A:$A, A33, 'إدخال المبالغ والتوزيع الآلي'!$E:$E, "✔ " & "9032*")) -> 0 | F33: =IF(A33="", "", SUMIFS('إدخال المبالغ والتوزيع الآلي'!$F:$F, 'إدخال المبالغ والتوزيع الآلي'!$A:$A, A33, 'إدخال المبالغ والتوزيع الآلي'!$E:$E, "✔ " & "9033*")) -> 0 | G33: =IF(A33="", "", SUMIFS('إدخال المبالغ والتوزيع الآلي'!$F:$F, 'إدخال المبالغ والتوزيع الآلي'!$A:$A, A33, 'إدخال المبالغ والتوزيع الآلي'!$E:$E, "✔ " & "9034*")) -> 0 | H33: =IF(A33="", "", SUMIFS('إدخال المبالغ والتوزيع الآلي'!$F:$F, 'إدخال المبالغ والتوزيع الآلي'!$A:$A, A33, 'إدخال المبالغ والتوزيع الآلي'!$E:$E, "✔ " & "9039*")) -> 0
A34: 729 | B34: التحصيلات والإعانات والمساهمات الأخرى | C34: =IF(A34="", "", SUMIFS('إدخال المبالغ والتوزيع الآلي'!$F:$F, 'إدخال المبالغ والتوزيع الآلي'!$A:$A, A34, 'إدخال المبالغ والتوزيع الآلي'!$E:$E, "✔ " & "9030*")) -> 0 | D34: =IF(A34="", "", SUMIFS('إدخال المبالغ والتوزيع الآلي'!$F:$F, 'إدخال المبالغ والتوزيع الآلي'!$A:$A, A34, 'إدخال المبالغ والتوزيع الآلي'!$E:$E, "✔ " & "9031*")) -> 0 | E34: =IF(A34="", "", SUMIFS('إدخال المبالغ والتوزيع الآلي'!$F:$F, 'إدخال المبالغ والتوزيع الآلي'!$A:$A, A34, 'إدخال المبالغ والتوزيع الآلي'!$E:$E, "✔ " & "9032*")) -> 0 | F34: =IF(A34="", "", SUMIFS('إدخال المبالغ والتوزيع الآلي'!$F:$F, 'إدخال المبالغ والتوزيع الآلي'!$A:$A, A34, 'إدخال المبالغ والتوزيع الآلي'!$E:$E, "✔ " & "9033*")) -> 0 | G34: =IF(A34="", "", SUMIFS('إدخال المبالغ والتوزيع الآلي'!$F:$F, 'إدخال المبالغ والتوزيع الآلي'!$A:$A, A34, 'إدخال المبالغ والتوزيع الآلي'!$E:$E, "✔ " & "9034*")) -> 0 | H34: =IF(A34="", "", SUMIFS('إدخال المبالغ والتوزيع الآلي'!$F:$F, 'إدخال المبالغ والتوزيع الآلي'!$A:$A, A34, 'إدخال المبالغ والتوزيع الآلي'!$E:$E, "✔ " & "9039*")) -> 0
A35: 780 | B35: مخصصات صيانة وحراسة المدارس الابتدائية | C35: =IF(A35="", "", SUMIFS('إدخال المبالغ والتوزيع الآلي'!$F:$F, 'إدخال المبالغ والتوزيع الآلي'!$A:$A, A35, 'إدخال المبالغ والتوزيع الآلي'!$E:$E, "✔ " & "9030*")) -> 0 | D35: =IF(A35="", "", SUMIFS('إدخال المبالغ والتوزيع الآلي'!$F:$F, 'إدخال المبالغ والتوزيع الآلي'!$A:$A, A35, 'إدخال المبالغ والتوزيع الآلي'!$E:$E, "✔ " & "9031*")) -> 0 | E35: =IF(A35="", "", SUMIFS('إدخال المبالغ والتوزيع الآلي'!$F:$F, 'إدخال المبالغ والتوزيع الآلي'!$A:$A, A35, 'إدخال المبالغ والتوزيع الآلي'!$E:$E, "✔ " & "9032*")) -> 0 | F35: =IF(A35="", "", SUMIFS('إدخال المبالغ والتوزيع الآلي'!$F:$F, 'إدخال المبالغ والتوزيع الآلي'!$A:$A, A35, 'إدخال المبالغ والتوزيع الآلي'!$E:$E, "✔ " & "9033*")) -> 0 | G35: =IF(A35="", "", SUMIFS('إدخال المبالغ والتوزيع الآلي'!$F:$F, 'إدخال المبالغ والتوزيع الآلي'!$A:$A, A35, 'إدخال المبالغ والتوزيع الآلي'!$E:$E, "✔ " & "9034*")) -> 0 | H35: =IF(A35="", "", SUMIFS('إدخال المبالغ والتوزيع الآلي'!$F:$F, 'إدخال المبالغ والتوزيع الآلي'!$A:$A, A35, 'إدخال المبالغ والتوزيع الآلي'!$E:$E, "✔ " & "9039*")) -> 0
A36: 789 | B36: مخصصات الدولة الأخرى | C36: =IF(A36="", "", SUMIFS('إدخال المبالغ والتوزيع الآلي'!$F:$F, 'إدخال المبالغ والتوزيع الآلي'!$A:$A, A36, 'إدخال المبالغ والتوزيع الآلي'!$E:$E, "✔ " & "9030*")) -> 0 | D36: =IF(A36="", "", SUMIFS('إدخال المبالغ والتوزيع الآلي'!$F:$F, 'إدخال المبالغ والتوزيع الآلي'!$A:$A, A36, 'إدخال المبالغ والتوزيع الآلي'!$E:$E, "✔ " & "9031*")) -> 0 | E36: =IF(A36="", "", SUMIFS('إدخال المبالغ والتوزيع الآلي'!$F:$F, 'إدخال المبالغ والتوزيع الآلي'!$A:$A, A36, 'إدخال المبالغ والتوزيع الآلي'!$E:$E, "✔ " & "9032*")) -> 0 | F36: =IF(A36="", "", SUMIFS('إدخال المبالغ والتوزيع الآلي'!$F:$F, 'إدخال المبالغ والتوزيع الآلي'!$A:$A, A36, 'إدخال المبالغ والتوزيع الآلي'!$E:$E, "✔ " & "9033*")) -> 0 | G36: =IF(A36="", "", SUMIFS('إدخال المبالغ والتوزيع الآلي'!$F:$F, 'إدخال المبالغ والتوزيع الآلي'!$A:$A, A36, 'إدخال المبالغ والتوزيع الآلي'!$E:$E, "✔ " & "9034*")) -> 0 | H36: =IF(A36="", "", SUMIFS('إدخال المبالغ والتوزيع الآلي'!$F:$F, 'إدخال المبالغ والتوزيع الآلي'!$A:$A, A36, 'إدخال المبالغ والتوزيع الآلي'!$E:$E, "✔ " & "9039*")) -> 0
A37: 799 | B37: نواتج استثنائية أخرى | C37: =IF(A37="", "", SUMIFS('إدخال المبالغ والتوزيع الآلي'!$F:$F, 'إدخال المبالغ والتوزيع الآلي'!$A:$A, A37, 'إدخال المبالغ والتوزيع الآلي'!$E:$E, "✔ " & "9030*")) -> 0 | D37: =IF(A37="", "", SUMIFS('إدخال المبالغ والتوزيع الآلي'!$F:$F, 'إدخال المبالغ والتوزيع الآلي'!$A:$A, A37, 'إدخال المبالغ والتوزيع الآلي'!$E:$E, "✔ " & "9031*")) -> 0 | E37: =IF(A37="", "", SUMIFS('إدخال المبالغ والتوزيع الآلي'!$F:$F, 'إدخال المبالغ والتوزيع الآلي'!$A:$A, A37, 'إدخال المبالغ والتوزيع الآلي'!$E:$E, "✔ " & "9032*")) -> 0 | F37: =IF(A37="", "", SUMIFS('إدخال المبالغ والتوزيع الآلي'!$F:$F, 'إدخال المبالغ والتوزيع الآلي'!$A:$A, A37, 'إدخال المبالغ والتوزيع الآلي'!$E:$E, "✔ " & "9033*")) -> 0 | G37: =IF(A37="", "", SUMIFS('إدخال المبالغ والتوزيع الآلي'!$F:$F, 'إدخال المبالغ والتوزيع الآلي'!$A:$A, A37, 'إدخال المبالغ والتوزيع الآلي'!$E:$E, "✔ " & "9034*")) -> 0 | H37: =IF(A37="", "", SUMIFS('إدخال المبالغ والتوزيع الآلي'!$F:$F, 'إدخال المبالغ والتوزيع الآلي'!$A:$A, A37, 'إدخال المبالغ والتوزيع الآلي'!$E:$E, "✔ " & "9039*")) -> 0
A38: 827 | B38: نواتج السنوات المالية السابقة بواقي الإنجاز | C38: =IF(A38="", "", SUMIFS('إدخال المبالغ والتوزيع الآلي'!$F:$F, 'إدخال المبالغ والتوزيع الآلي'!$A:$A, A38, 'إدخال المبالغ والتوزيع الآلي'!$E:$E, "✔ " & "9030*")) -> 0 | D38: =IF(A38="", "", SUMIFS('إدخال المبالغ والتوزيع الآلي'!$F:$F, 'إدخال المبالغ والتوزيع الآلي'!$A:$A, A38, 'إدخال المبالغ والتوزيع الآلي'!$E:$E, "✔ " & "9031*")) -> 0 | E38: =IF(A38="", "", SUMIFS('إدخال المبالغ والتوزيع الآلي'!$F:$F, 'إدخال المبالغ والتوزيع الآلي'!$A:$A, A38, 'إدخال المبالغ والتوزيع الآلي'!$E:$E, "✔ " & "9032*")) -> 0 | F38: =IF(A38="", "", SUMIFS('إدخال المبالغ والتوزيع الآلي'!$F:$F, 'إدخال المبالغ والتوزيع الآلي'!$A:$A, A38, 'إدخال المبالغ والتوزيع الآلي'!$E:$E, "✔ " & "9033*")) -> 0 | G38: =IF(A38="", "", SUMIFS('إدخال المبالغ والتوزيع الآلي'!$F:$F, 'إدخال المبالغ والتوزيع الآلي'!$A:$A, A38, 'إدخال المبالغ والتوزيع الآلي'!$E:$E, "✔ " & "9034*")) -> 0 | H38: =IF(A38="", "", SUMIFS('إدخال المبالغ والتوزيع الآلي'!$F:$F, 'إدخال المبالغ والتوزيع الآلي'!$A:$A, A38, 'إدخال المبالغ والتوزيع الآلي'!$E:$E, "✔ " & "9039*")) -> 0

Sheet الباب 904
A1: الباب 904 - الطرق - تصنيف عمليات النفقات والإيرادات حسب الأبواب الفرعية
A3: المواد | B3: التبيان | C3: الباب 904 - الطرق
C4: 9040 صيانة الطرقات البلدية وإشارات المرور | D4: 9041 إنارة الطرقات البلدية | E4: 9042 إزاحة الثلوج وكسح الرمال عن الطرقات البلدية | F4: 9043 المساحات الخضراء والحدائق | G4: 9044 المخابر | H4: 9049 تكاليف أخرى للطرقات
A5: مواد حسابات النفقات
A6: 600 | B6: المنتجات الصيدلانية | C6: =IF(A6="", "", SUMIFS('إدخال المبالغ والتوزيع الآلي'!$F:$F, 'إدخال المبالغ والتوزيع الآلي'!$A:$A, A6, 'إدخال المبالغ والتوزيع الآلي'!$E:$E, "✔ " & "9040*")) -> 0 | D6: =IF(A6="", "", SUMIFS('إدخال المبالغ والتوزيع الآلي'!$F:$F, 'إدخال المبالغ والتوزيع الآلي'!$A:$A, A6, 'إدخال المبالغ والتوزيع الآلي'!$E:$E, "✔ " & "9041*")) -> 0 | E6: =IF(A6="", "", SUMIFS('إدخال المبالغ والتوزيع الآلي'!$F:$F, 'إدخال المبالغ والتوزيع الآلي'!$A:$A, A6, 'إدخال المبالغ والتوزيع الآلي'!$E:$E, "✔ " & "9042*")) -> 0 | F6: =IF(A6="", "", SUMIFS('إدخال المبالغ والتوزيع الآلي'!$F:$F, 'إدخال المبالغ والتوزيع الآلي'!$A:$A, A6, 'إدخال المبالغ والتوزيع الآلي'!$E:$E, "✔ " & "9043*")) -> 0 | G6: =IF(A6="", "", SUMIFS('إدخال المبالغ والتوزيع الآلي'!$F:$F, 'إدخال المبالغ والتوزيع الآلي'!$A:$A, A6, 'إدخال المبالغ والتوزيع الآلي'!$E:$E, "✔ " & "9044*")) -> 0 | H6: =IF(A6="", "", SUMIFS('إدخال المبالغ والتوزيع الآلي'!$F:$F, 'إدخال المبالغ والتوزيع الآلي'!$A:$A, A6, 'إدخال المبالغ والتوزيع الآلي'!$E:$E, "✔ " & "9049*")) -> 0
A7: 602 | B7: الملابس | C7: =IF(A7="", "", SUMIFS('إدخال المبالغ والتوزيع الآلي'!$F:$F, 'إدخال المبالغ والتوزيع الآلي'!$A:$A, A7, 'إدخال المبالغ والتوزيع الآلي'!$E:$E, "✔ " & "9040*")) -> 0 | D7: =IF(A7="", "", SUMIFS('إدخال المبالغ والتوزيع الآلي'!$F:$F, 'إدخال المبالغ والتوزيع الآلي'!$A:$A, A7, 'إدخال المبالغ والتوزيع الآلي'!$E:$E, "✔ " & "9041*")) -> 0 | E7: =IF(A7="", "", SUMIFS('إدخال المبالغ والتوزيع الآلي'!$F:$F, 'إدخال المبالغ والتوزيع الآلي'!$A:$A, A7, 'إدخال المبالغ والتوزيع الآلي'!$E:$E, "✔ " & "9042*")) -> 0 | F7: =IF(A7="", "", SUMIFS('إدخال المبالغ والتوزيع الآلي'!$F:$F, 'إدخال المبالغ والتوزيع الآلي'!$A:$A, A7, 'إدخال المبالغ والتوزيع الآلي'!$E:$E, "✔ " & "9043*")) -> 0 | G7: =IF(A7="", "", SUMIFS('إدخال المبالغ والتوزيع الآلي'!$F:$F, 'إدخال المبالغ والتوزيع الآلي'!$A:$A, A7, 'إدخال المبالغ والتوزيع الآلي'!$E:$E, "✔ " & "9044*")) -> 0 | H7: =IF(A7="", "", SUMIFS('إدخال المبالغ والتوزيع الآلي'!$F:$F, 'إدخال المبالغ والتوزيع الآلي'!$A:$A, A7, 'إدخال المبالغ والتوزيع الآلي'!$E:$E, "✔ " & "9049*")) -> 0
A8: 606 | B8: لوازم ومعدات الطرق والإنارة العمومية | C8: =IF(A8="", "", SUMIFS('إدخال المبالغ والتوزيع الآلي'!$F:$F, 'إدخال المبالغ والتوزيع الآلي'!$A:$A, A8, 'إدخال المبالغ والتوزيع الآلي'!$E:$E, "✔ " & "9040*")) -> 0 | D8: =IF(A8="", "", SUMIFS('إدخال المبالغ والتوزيع الآلي'!$F:$F, 'إدخال المبالغ والتوزيع الآلي'!$A:$A, A8, 'إدخال المبالغ والتوزيع الآلي'!$E:$E, "✔ " & "9041*")) -> 0 | E8: =IF(A8="", "", SUMIFS('إدخال المبالغ والتوزيع الآلي'!$F:$F, 'إدخال المبالغ والتوزيع الآلي'!$A:$A, A8, 'إدخال المبالغ والتوزيع الآلي'!$E:$E, "✔ " & "9042*")) -> 0 | F8: =IF(A8="", "", SUMIFS('إدخال المبالغ والتوزيع الآلي'!$F:$F, 'إدخال المبالغ والتوزيع الآلي'!$A:$A, A8, 'إدخال المبالغ والتوزيع الآلي'!$E:$E, "✔ " & "9043*")) -> 0 | G8: =IF(A8="", "", SUMIFS('إدخال المبالغ والتوزيع الآلي'!$F:$F, 'إدخال المبالغ والتوزيع الآلي'!$A:$A, A8, 'إدخال المبالغ والتوزيع الآلي'!$E:$E, "✔ " & "9044*")) -> 0 | H8: =IF(A8="", "", SUMIFS('إدخال المبالغ والتوزيع الآلي'!$F:$F, 'إدخال المبالغ والتوزيع الآلي'!$A:$A, A8, 'إدخال المبالغ والتوزيع الآلي'!$E:$E, "✔ " & "9049*")) -> 0
A9: 609 | B9: اللوازم الأخرى | C9: =IF(A9="", "", SUMIFS('إدخال المبالغ والتوزيع الآلي'!$F:$F, 'إدخال المبالغ والتوزيع الآلي'!$A:$A, A9, 'إدخال المبالغ والتوزيع الآلي'!$E:$E, "✔ " & "9040*")) -> 0 | D9: =IF(A9="", "", SUMIFS('إدخال المبالغ والتوزيع الآلي'!$F:$F, 'إدخال المبالغ والتوزيع الآلي'!$A:$A, A9, 'إدخال المبالغ والتوزيع الآلي'!$E:$E, "✔ " & "9041*")) -> 0 | E9: =IF(A9="", "", SUMIFS('إدخال المبالغ والتوزيع الآلي'!$F:$F, 'إدخال المبالغ والتوزيع الآلي'!$A:$A, A9, 'إدخال المبالغ والتوزيع الآلي'!$E:$E, "✔ " & "9042*")) -> 0 | F9: =IF(A9="", "", SUMIFS('إدخال المبالغ والتوزيع الآلي'!$F:$F, 'إدخال المبالغ والتوزيع الآلي'!$A:$A, A9, 'إدخال المبالغ والتوزيع الآلي'!$E:$E, "✔ " & "9043*")) -> 0 | G9: =IF(A9="", "", SUMIFS('إدخال المبالغ والتوزيع الآلي'!$F:$F, 'إدخال المبالغ والتوزيع الآلي'!$A:$A, A9, 'إدخال المبالغ والتوزيع الآلي'!$E:$E, "✔ " & "9044*")) -> 0 | H9: =IF(A9="", "", SUMIFS('إدخال المبالغ والتوزيع الآلي'!$F:$F, 'إدخال المبالغ والتوزيع الآلي'!$A:$A, A9, 'إدخال المبالغ والتوزيع الآلي'!$E:$E, "✔ " & "9049*")) -> 0
A10: 610 | B10: الإيجار وتكاليف الكراء | C10: =IF(A10="", "", SUMIFS('إدخال المبالغ والتوزيع الآلي'!$F:$F, 'إدخال المبالغ والتوزيع الآلي'!$A:$A, A10, 'إدخال المبالغ والتوزيع الآلي'!$E:$E, "✔ " & "9040*")) -> 0 | D10: =IF(A10="", "", SUMIFS('إدخال المبالغ والتوزيع الآلي'!$F:$F, 'إدخال المبالغ والتوزيع الآلي'!$A:$A, A10, 'إدخال المبالغ والتوزيع الآلي'!$E:$E, "✔ " & "9041*")) -> 0 | E10: =IF(A10="", "", SUMIFS('إدخال المبالغ والتوزيع الآلي'!$F:$F, 'إدخال المبالغ والتوزيع الآلي'!$A:$A, A10, 'إدخال المبالغ والتوزيع الآلي'!$E:$E, "✔ " & "9042*")) -> 0 | F10: =IF(A10="", "", SUMIFS('إدخال المبالغ والتوزيع الآلي'!$F:$F, 'إدخال المبالغ والتوزيع الآلي'!$A:$A, A10, 'إدخال المبالغ والتوزيع الآلي'!$E:$E, "✔ " & "9043*")) -> 0 | G10: =IF(A10="", "", SUMIFS('إدخال المبالغ والتوزيع الآلي'!$F:$F, 'إدخال المبالغ والتوزيع الآلي'!$A:$A, A10, 'إدخال المبالغ والتوزيع الآلي'!$E:$E, "✔ " & "9044*")) -> 0 | H10: =IF(A10="", "", SUMIFS('إدخال المبالغ والتوزيع الآلي'!$F:$F, 'إدخال المبالغ والتوزيع الآلي'!$A:$A, A10, 'إدخال المبالغ والتوزيع الآلي'!$E:$E, "✔ " & "9049*")) -> 0
A11: 611 | B11: الصيانة والترميم | C11: =IF(A11="", "", SUMIFS('إدخال المبالغ والتوزيع الآلي'!$F:$F, 'إدخال المبالغ والتوزيع الآلي'!$A:$A, A11, 'إدخال المبالغ والتوزيع الآلي'!$E:$E, "✔ " & "9040*")) -> 0 | D11: =IF(A11="", "", SUMIFS('إدخال المبالغ والتوزيع الآلي'!$F:$F, 'إدخال المبالغ والتوزيع الآلي'!$A:$A, A11, 'إدخال المبالغ والتوزيع الآلي'!$E:$E, "✔ " & "9041*")) -> 0 | E11: =IF(A11="", "", SUMIFS('إدخال المبالغ والتوزيع الآلي'!$F:$F, 'إدخال المبالغ والتوزيع الآلي'!$A:$A, A11, 'إدخال المبالغ والتوزيع الآلي'!$E:$E, "✔ " & "9042*")) -> 0 | F11: =IF(A11="", "", SUMIFS('إدخال المبالغ والتوزيع الآلي'!$F:$F, 'إدخال المبالغ والتوزيع الآلي'!$A:$A, A11, 'إدخال المبالغ والتوزيع الآلي'!$E:$E, "✔ " & "9043*")) -> 0 | G11: =IF(A11="", "", SUMIFS('إدخال المبالغ والتوزيع الآلي'!$F:$F, 'إدخال المبالغ والتوزيع الآلي'!$A:$A, A11, 'إدخال المبالغ والتوزيع الآلي'!$E:$E, "✔ " & "9044*")) -> 0 | H11: =IF(A11="", "", SUMIFS('إدخال المبالغ والتوزيع الآلي'!$F:$F, 'إدخال المبالغ والتوزيع الآلي'!$A:$A, A11, 'إدخال المبالغ والتوزيع الآلي'!$E:$E, "✔ " & "9049*")) -> 0
A12: 612 | B12: اقتناء العتاد والأدوات الصغيرة | C12: =IF(A12="", "", SUMIFS('إدخال المبالغ والتوزيع الآلي'!$F:$F, 'إدخال المبالغ والتوزيع الآلي'!$A:$A, A12, 'إدخال المبالغ والتوزيع الآلي'!$E:$E, "✔ " & "9040*")) -> 0 | D12: =IF(A12="", "", SUMIFS('إدخال المبالغ والتوزيع الآلي'!$F:$F, 'إدخال المبالغ والتوزيع الآلي'!$A:$A, A12, 'إدخال المبالغ والتوزيع الآلي'!$E:$E, "✔ " & "9041*")) -> 0 | E12: =IF(A12="", "", SUMIFS('إدخال المبالغ والتوزيع الآلي'!$F:$F, 'إدخال المبالغ والتوزيع الآلي'!$A:$A, A12, 'إدخال المبالغ والتوزيع الآلي'!$E:$E, "✔ " & "9042*")) -> 0 | F12: =IF(A12="", "", SUMIFS('إدخال المبالغ والتوزيع الآلي'!$F:$F, 'إدخال المبالغ والتوزيع الآلي'!$A:$A, A12, 'إدخال المبالغ والتوزيع الآلي'!$E:$E, "✔ " & "9043*")) -> 0 | G12: =IF(A12="", "", SUMIFS('إدخال المبالغ والتوزيع الآلي'!$F:$F, 'إدخال المبالغ والتوزيع الآلي'!$A:$A, A12, 'إدخال المبالغ والتوزيع الآلي'!$E:$E, "✔ " & "9044*")) -> 0 | H12: =IF(A12="", "", SUMIFS('إدخال المبالغ والتوزيع الآلي'!$F:$F, 'إدخال المبالغ والتوزيع الآلي'!$A:$A, A12, 'إدخال المبالغ والتوزيع الآلي'!$E:$E, "✔ " & "9049*")) -> 0
A13: 613 | B13: الماء | C13: =IF(A13="", "", SUMIFS('إدخال المبالغ والتوزيع الآلي'!$F:$F, 'إدخال المبالغ والتوزيع الآلي'!$A:$A, A13, 'إدخال المبالغ والتوزيع الآلي'!$E:$E, "✔ " & "9040*")) -> 0 | D13: =IF(A13="", "", SUMIFS('إدخال المبالغ والتوزيع الآلي'!$F:$F, 'إدخال المبالغ والتوزيع الآلي'!$A:$A, A13, 'إدخال المبالغ والتوزيع الآلي'!$E:$E, "✔ " & "9041*")) -> 0 | E13: =IF(A13="", "", SUMIFS('إدخال المبالغ والتوزيع الآلي'!$F:$F, 'إدخال المبالغ والتوزيع الآلي'!$A:$A, A13, 'إدخال المبالغ والتوزيع الآلي'!$E:$E, "✔ " & "9042*")) -> 0 | F13: =IF(A13="", "", SUMIFS('إدخال المبالغ والتوزيع الآلي'!$F:$F, 'إدخال المبالغ والتوزيع الآلي'!$A:$A, A13, 'إدخال المبالغ والتوزيع الآلي'!$E:$E, "✔ " & "9043*")) -> 0 | G13: =IF(A13="", "", SUMIFS('إدخال المبالغ والتوزيع الآلي'!$F:$F, 'إدخال المبالغ والتوزيع الآلي'!$A:$A, A13, 'إدخال المبالغ والتوزيع الآلي'!$E:$E, "✔ " & "9044*")) -> 0 | H13: =IF(A13="", "", SUMIFS('إدخال المبالغ والتوزيع الآلي'!$F:$F, 'إدخال المبالغ والتوزيع الآلي'!$A:$A, A13, 'إدخال المبالغ والتوزيع الآلي'!$E:$E, "✔ " & "9049*")) -> 0
A14: 614 | B14: الغاز والكهرباء | C14: =IF(A14="", "", SUMIFS('إدخال المبالغ والتوزيع الآلي'!$F:$F, 'إدخال المبالغ والتوزيع الآلي'!$A:$A, A14, 'إدخال المبالغ والتوزيع الآلي'!$E:$E, "✔ " & "9040*")) -> 0 | D14: =IF(A14="", "", SUMIFS('إدخال المبالغ والتوزيع الآلي'!$F:$F, 'إدخال المبالغ والتوزيع الآلي'!$A:$A, A14, 'إدخال المبالغ والتوزيع الآلي'!$E:$E, "✔ " & "9041*")) -> 0 | E14: =IF(A14="", "", SUMIFS('إدخال المبالغ والتوزيع الآلي'!$F:$F, 'إدخال المبالغ والتوزيع الآلي'!$A:$A, A14, 'إدخال المبالغ والتوزيع الآلي'!$E:$E, "✔ " & "9042*")) -> 0 | F14: =IF(A14="", "", SUMIFS('إدخال المبالغ والتوزيع الآلي'!$F:$F, 'إدخال المبالغ والتوزيع الآلي'!$A:$A, A14, 'إدخال المبالغ والتوزيع الآلي'!$E:$E, "✔ " & "9043*")) -> 0 | G14: =IF(A14="", "", SUMIFS('إدخال المبالغ والتوزيع الآلي'!$F:$F, 'إدخال المبالغ والتوزيع الآلي'!$A:$A, A14, 'إدخال المبالغ والتوزيع الآلي'!$E:$E, "✔ " & "9044*")) -> 0 | H14: =IF(A14="", "", SUMIFS('إدخال المبالغ والتوزيع الآلي'!$F:$F, 'إدخال المبالغ والتوزيع الآلي'!$A:$A, A14, 'إدخال المبالغ والتوزيع الآلي'!$E:$E, "✔ " & "9049*")) -> 0
A15: 616 | B15: تقديم الخدمات للبلدية | C15: =IF(A15="", "", SUMIFS('إدخال المبالغ والتوزيع الآلي'!$F:$F, 'إدخال المبالغ والتوزيع الآلي'!$A:$A, A15, 'إدخال المبالغ والتوزيع الآلي'!$E:$E, "✔ " & "9040*")) -> 0 | D15: =IF(A15="", "", SUMIFS('إدخال المبالغ والتوزيع الآلي'!$F:$F, 'إدخال المبالغ والتوزيع الآلي'!$A:$A, A15, 'إدخال المبالغ والتوزيع الآلي'!$E:$E, "✔ " & "9041*")) -> 0 | E15: =IF(A15="", "", SUMIFS('إدخال المبالغ والتوزيع الآلي'!$F:$F, 'إدخال المبالغ والتوزيع الآلي'!$A:$A, A15, 'إدخال المبالغ والتوزيع الآلي'!$E:$E, "✔ " & "9042*")) -> 0 | F15: =IF(A15="", "", SUMIFS('إدخال المبالغ والتوزيع الآلي'!$F:$F, 'إدخال المبالغ والتوزيع الآلي'!$A:$A, A15, 'إدخال المبالغ والتوزيع الآلي'!$E:$E, "✔ " & "9043*")) -> 0 | G15: =IF(A15="", "", SUMIFS('إدخال المبالغ والتوزيع الآلي'!$F:$F, 'إدخال المبالغ والتوزيع الآلي'!$A:$A, A15, 'إدخال المبالغ والتوزيع الآلي'!$E:$E, "✔ " & "9044*")) -> 0 | H15: =IF(A15="", "", SUMIFS('إدخال المبالغ والتوزيع الآلي'!$F:$F, 'إدخال المبالغ والتوزيع الآلي'!$A:$A, A15, 'إدخال المبالغ والتوزيع الآلي'!$E:$E, "✔ " & "9049*")) -> 0
A16: 626 | B16: مصاريف البريد والاتصالات والإنترنت | C16: =IF(A16="", "", SUMIFS('إدخال المبالغ والتوزيع الآلي'!$F:$F, 'إدخال المبالغ والتوزيع الآلي'!$A:$A, A16, 'إدخال المبالغ والتوزيع الآلي'!$E:$E, "✔ " & "9040*")) -> 0 | D16: =IF(A16="", "", SUMIFS('إدخال المبالغ والتوزيع الآلي'!$F:$F, 'إدخال المبالغ والتوزيع الآلي'!$A:$A, A16, 'إدخال المبالغ والتوزيع الآلي'!$E:$E, "✔ " & "9041*")) -> 0 | E16: =IF(A16="", "", SUMIFS('إدخال المبالغ والتوزيع الآلي'!$F:$F, 'إدخال المبالغ والتوزيع الآلي'!$A:$A, A16, 'إدخال المبالغ والتوزيع الآلي'!$E:$E, "✔ " & "9042*")) -> 0 | F16: =IF(A16="", "", SUMIFS('إدخال المبالغ والتوزيع الآلي'!$F:$F, 'إدخال المبالغ والتوزيع الآلي'!$A:$A, A16, 'إدخال المبالغ والتوزيع الآلي'!$E:$E, "✔ " & "9043*")) -> 0 | G16: =IF(A16="", "", SUMIFS('إدخال المبالغ والتوزيع الآلي'!$F:$F, 'إدخال المبالغ والتوزيع الآلي'!$A:$A, A16, 'إدخال المبالغ والتوزيع الآلي'!$E:$E, "✔ " & "9044*")) -> 0 | H16: =IF(A16="", "", SUMIFS('إدخال المبالغ والتوزيع الآلي'!$F:$F, 'إدخال المبالغ والتوزيع الآلي'!$A:$A, A16, 'إدخال المبالغ والتوزيع الآلي'!$E:$E, "✔ " & "9049*")) -> 0
A17: 6262 | B17: مصاريف الانترنت | C17: =IF(A17="", "", SUMIFS('إدخال المبالغ والتوزيع الآلي'!$F:$F, 'إدخال المبالغ والتوزيع الآلي'!$A:$A, A17, 'إدخال المبالغ والتوزيع الآلي'!$E:$E, "✔ " & "9040*")) -> 0 | D17: =IF(A17="", "", SUMIFS('إدخال المبالغ والتوزيع الآلي'!$F:$F, 'إدخال المبالغ والتوزيع الآلي'!$A:$A, A17, 'إدخال المبالغ والتوزيع الآلي'!$E:$E, "✔ " & "9041*")) -> 0 | E17: =IF(A17="", "", SUMIFS('إدخال المبالغ والتوزيع الآلي'!$F:$F, 'إدخال المبالغ والتوزيع الآلي'!$A:$A, A17, 'إدخال المبالغ والتوزيع الآلي'!$E:$E, "✔ " & "9042*")) -> 0 | F17: =IF(A17="", "", SUMIFS('إدخال المبالغ والتوزيع الآلي'!$F:$F, 'إدخال المبالغ والتوزيع الآلي'!$A:$A, A17, 'إدخال المبالغ والتوزيع الآلي'!$E:$E, "✔ " & "9043*")) -> 0 | G17: =IF(A17="", "", SUMIFS('إدخال المبالغ والتوزيع الآلي'!$F:$F, 'إدخال المبالغ والتوزيع الآلي'!$A:$A, A17, 'إدخال المبالغ والتوزيع الآلي'!$E:$E, "✔ " & "9044*")) -> 0 | H17: =IF(A17="", "", SUMIFS('إدخال المبالغ والتوزيع الآلي'!$F:$F, 'إدخال المبالغ والتوزيع الآلي'!$A:$A, A17, 'إدخال المبالغ والتوزيع الآلي'!$E:$E, "✔ " & "9049*")) -> 0
... A21: 826 | B21: أعباء السنوات المالية السابقة، بواقي الإنجاز | C21: =IF(A21="", "", SUMIFS('إدخال المبالغ والتوزيع الآلي'!$F:$F, 'إدخال المبالغ والتوزيع الآلي'!$A:$A, A21, 'إدخال المبالغ والتوزيع الآلي'!$E:$E, "✔ " & "9040*")) -> 0 | D21: =IF(A21="", "", SUMIFS('إدخال المبالغ والتوزيع الآلي'!$F:$F, 'إدخال المبالغ والتوزيع الآلي'!$A:$A, A21, 'إدخال المبالغ والتوزيع الآلي'!$E:$E, "✔ " & "9041*")) -> 0 | E21: =IF(A21="", "", SUMIFS('إدخال المبالغ والتوزيع الآلي'!$F:$F, 'إدخال المبالغ والتوزيع الآلي'!$A:$A, A21, 'إدخال المبالغ والتوزيع الآلي'!$E:$E, "✔ " & "9042*")) -> 0 | F21: =IF(A21="", "", SUMIFS('إدخال المبالغ والتوزيع الآلي'!$F:$F, 'إدخال المبالغ والتوزيع الآلي'!$A:$A, A21, 'إدخال المبالغ والتوزيع الآلي'!$E:$E, "✔ " & "9043*")) -> 0 | G21: =IF(A21="", "", SUMIFS('إدخال المبالغ والتوزيع الآلي'!$F:$F, 'إدخال المبالغ والتوزيع الآلي'!$A:$A, A21, 'إدخال المبالغ والتوزيع الآلي'!$E:$E, "✔ " & "9044*")) -> 0 | H21: =IF(A21="", "", SUMIFS('إدخال المبالغ والتوزيع الآلي'!$F:$F, 'إدخال المبالغ والتوزيع الآلي'!$A:$A, A21, 'إدخال المبالغ والتوزيع الآلي'!$E:$E, "✔ " & "9049*")) -> 0
A22: مواد حسابات الإيرادات
A23: 700 | B23: مبيعات المنتجات أو الخدمة | C23: =IF(A23="", "", SUMIFS('إدخال المبالغ والتوزيع الآلي'!$F:$F, 'إدخال المبالغ والتوزيع الآلي'!$A:$A, A23, 'إدخال المبالغ والتوزيع الآلي'!$E:$E, "✔ " & "9040*")) -> 0 | D23: =IF(A23="", "", SUMIFS('إدخال المبالغ والتوزيع الآلي'!$F:$F, 'إدخال المبالغ والتوزيع الآلي'!$A:$A, A23, 'إدخال المبالغ والتوزيع الآلي'!$E:$E, "✔ " & "9041*")) -> 0 | E23: =IF(A23="", "", SUMIFS('إدخال المبالغ والتوزيع الآلي'!$F:$F, 'إدخال المبالغ والتوزيع الآلي'!$A:$A, A23, 'إدخال المبالغ والتوزيع الآلي'!$E:$E, "✔ " & "9042*")) -> 0 | F23: =IF(A23="", "", SUMIFS('إدخال المبالغ والتوزيع الآلي'!$F:$F, 'إدخال المبالغ والتوزيع الآلي'!$A:$A, A23, 'إدخال المبالغ والتوزيع الآلي'!$E:$E, "✔ " & "9043*")) -> 0 | G23: =IF(A23="", "", SUMIFS('إدخال المبالغ والتوزيع الآلي'!$F:$F, 'إدخال المبالغ والتوزيع الآلي'!$A:$A, A23, 'إدخال المبالغ والتوزيع الآلي'!$E:$E, "✔ " & "9044*")) -> 0 | H23: =IF(A23="", "", SUMIFS('إدخال المبالغ والتوزيع الآلي'!$F:$F, 'إدخال المبالغ والتوزيع الآلي'!$A:$A, A23, 'إدخال المبالغ والتوزيع الآلي'!$E:$E, "✔ " & "9049*")) -> 0
A24: 711 | B24: كراء المباني والمنقولات والعتاد | C24: =IF(A24="", "", SUMIFS('إدخال المبالغ والتوزيع الآلي'!$F:$F, 'إدخال المبالغ والتوزيع الآلي'!$A:$A, A24, 'إدخال المبالغ والتوزيع الآلي'!$E:$E, "✔ " & "9040*")) -> 0 | D24: =IF(A24="", "", SUMIFS('إدخال المبالغ والتوزيع الآلي'!$F:$F, 'إدخال المبالغ والتوزيع الآلي'!$A:$A, A24, 'إدخال المبالغ والتوزيع الآلي'!$E:$E, "✔ " & "9041*")) -> 0 | E24: =IF(A24="", "", SUMIFS('إدخال المبالغ والتوزيع الآلي'!$F:$F, 'إدخال المبالغ والتوزيع الآلي'!$A:$A, A24, 'إدخال المبالغ والتوزيع الآلي'!$E:$E, "✔ " & "9042*")) -> 0 | F24: =IF(A24="", "", SUMIFS('إدخال المبالغ والتوزيع الآلي'!$F:$F, 'إدخال المبالغ والتوزيع الآلي'!$A:$A, A24, 'إدخال المبالغ والتوزيع الآلي'!$E:$E, "✔ " & "9043*")) -> 0 | G24: =IF(A24="", "", SUMIFS('إدخال المبالغ والتوزيع الآلي'!$F:$F, 'إدخال المبالغ والتوزيع الآلي'!$A:$A, A24, 'إدخال المبالغ والتوزيع الآلي'!$E:$E, "✔ " & "9044*")) -> 0 | H24: =IF(A24="", "", SUMIFS('إدخال المبالغ والتوزيع الآلي'!$F:$F, 'إدخال المبالغ والتوزيع الآلي'!$A:$A, A24, 'إدخال المبالغ والتوزيع الآلي'!$E:$E, "✔ " & "9049*")) -> 0
A25: 7111 | B25: كراء المنقولات والعتاد | C25: =IF(A25="", "", SUMIFS('إدخال المبالغ والتوزيع الآلي'!$F:$F, 'إدخال المبالغ والتوزيع الآلي'!$A:$A, A25, 'إدخال المبالغ والتوزيع الآلي'!$E:$E, "✔ " & "9040*")) -> 0 | D25: =IF(A25="", "", SUMIFS('إدخال المبالغ والتوزيع الآلي'!$F:$F, 'إدخال المبالغ والتوزيع الآلي'!$A:$A, A25, 'إدخال المبالغ والتوزيع الآلي'!$E:$E, "✔ " & "9041*")) -> 0 | E25: =IF(A25="", "", SUMIFS('إدخال المبالغ والتوزيع الآلي'!$F:$F, 'إدخال المبالغ والتوزيع الآلي'!$A:$A, A25, 'إدخال المبالغ والتوزيع الآلي'!$E:$E, "✔ " & "9042*")) -> 0 | F25: =IF(A25="", "", SUMIFS('إدخال المبالغ والتوزيع الآلي'!$F:$F, 'إدخال المبالغ والتوزيع الآلي'!$A:$A, A25, 'إدخال المبالغ والتوزيع الآلي'!$E:$E, "✔ " & "9043*")) -> 0 | G25: =IF(A25="", "", SUMIFS('إدخال المبالغ والتوزيع الآلي'!$F:$F, 'إدخال المبالغ والتوزيع الآلي'!$A:$A, A25, 'إدخال المبالغ والتوزيع الآلي'!$E:$E, "✔ " & "9044*")) -> 0 | H25: =IF(A25="", "", SUMIFS('إدخال المبالغ والتوزيع الآلي'!$F:$F, 'إدخال المبالغ والتوزيع الآلي'!$A:$A, A25, 'إدخال المبالغ والتوزيع الآلي'!$E:$E, "✔ " & "9049*")) -> 0
A26: 712 | B26: حقوق الطرق والساحة وأماكن الوقوف | C26: =IF(A26="", "", SUMIFS('إدخال المبالغ والتوزيع الآلي'!$F:$F, 'إدخال المبالغ والتوزيع الآلي'!$A:$A, A26, 'إدخال المبالغ والتوزيع الآلي'!$E:$E, "✔ " & "9040*")) -> 0 | D26: =IF(A26="", "", SUMIFS('إدخال المبالغ والتوزيع الآلي'!$F:$F, 'إدخال المبالغ والتوزيع الآلي'!$A:$A, A26, 'إدخال المبالغ والتوزيع الآلي'!$E:$E, "✔ " & "9041*")) -> 0 | E26: =IF(A26="", "", SUMIFS('إدخال المبالغ والتوزيع الآلي'!$F:$F, 'إدخال المبالغ والتوزيع الآلي'!$A:$A, A26, 'إدخال المبالغ والتوزيع الآلي'!$E:$E, "✔ " & "9042*")) -> 0 | F26: =IF(A26="", "", SUMIFS('إدخال المبالغ والتوزيع الآلي'!$F:$F, 'إدخال المبالغ والتوزيع الآلي'!$A:$A, A26, 'إدخال المبالغ والتوزيع الآلي'!$E:$E, "✔ " & "9043*")) -> 0 | G26: =IF(A26="", "", SUMIFS('إدخال المبالغ والتوزيع الآلي'!$F:$F, 'إدخال المبالغ والتوزيع الآلي'!$A:$A, A26, 'إدخال المبالغ والتوزيع الآلي'!$E:$E, "✔ " & "9044*")) -> 0 | H26: =IF(A26="", "", SUMIFS('إدخال المبالغ والتوزيع الآلي'!$F:$F, 'إدخال المبالغ والتوزيع الآلي'!$A:$A, A26, 'إدخال المبالغ والتوزيع الآلي'!$E:$E, "✔ " & "9049*")) -> 0
A27: 719 | B27: العائدات الأخرى للأملاك العمومية والخاصة للبلدية | C27: =IF(A27="", "", SUMIFS('إدخال المبالغ والتوزيع الآلي'!$F:$F, 'إدخال المبالغ والتوزيع الآلي'!$A:$A, A27, 'إدخال المبالغ والتوزيع الآلي'!$E:$E, "✔ " & "9040*")) -> 0 | D27: =IF(A27="", "", SUMIFS('إدخال المبالغ والتوزيع الآلي'!$F:$F, 'إدخال المبالغ والتوزيع الآلي'!$A:$A, A27, 'إدخال المبالغ والتوزيع الآلي'!$E:$E, "✔ " & "9041*")) -> 0 | E27: =IF(A27="", "", SUMIFS('إدخال المبالغ والتوزيع الآلي'!$F:$F, 'إدخال المبالغ والتوزيع الآلي'!$A:$A, A27, 'إدخال المبالغ والتوزيع الآلي'!$E:$E, "✔ " & "9042*")) -> 0 | F27: =IF(A27="", "", SUMIFS('إدخال المبالغ والتوزيع الآلي'!$F:$F, 'إدخال المبالغ والتوزيع الآلي'!$A:$A, A27, 'إدخال المبالغ والتوزيع الآلي'!$E:$E, "✔ " & "9043*")) -> 0 | G27: =IF(A27="", "", SUMIFS('إدخال المبالغ والتوزيع الآلي'!$F:$F, 'إدخال المبالغ والتوزيع الآلي'!$A:$A, A27, 'إدخال المبالغ والتوزيع الآلي'!$E:$E, "✔ " & "9044*")) -> 0 | H27: =IF(A27="", "", SUMIFS('إدخال المبالغ والتوزيع الآلي'!$F:$F, 'إدخال المبالغ والتوزيع الآلي'!$A:$A, A27, 'إدخال المبالغ والتوزيع الآلي'!$E:$E, "✔ " & "9049*")) -> 0
A28: 723 | B28: إعانات الجماعات المحلية | C28: =IF(A28="", "", SUMIFS('إدخال المبالغ والتوزيع الآلي'!$F:$F, 'إدخال المبالغ والتوزيع الآلي'!$A:$A, A28, 'إدخال المبالغ والتوزيع الآلي'!$E:$E, "✔ " & "9040*")) -> 0 | D28: =IF(A28="", "", SUMIFS('إدخال المبالغ والتوزيع الآلي'!$F:$F, 'إدخال المبالغ والتوزيع الآلي'!$A:$A, A28, 'إدخال المبالغ والتوزيع الآلي'!$E:$E, "✔ " & "9041*")) -> 0 | E28: =IF(A28="", "", SUMIFS('إدخال المبالغ والتوزيع الآلي'!$F:$F, 'إدخال المبالغ والتوزيع الآلي'!$A:$A, A28, 'إدخال المبالغ والتوزيع الآلي'!$E:$E, "✔ " & "9042*")) -> 0 | F28: =IF(A28="", "", SUMIFS('إدخال المبالغ والتوزيع الآلي'!$F:$F, 'إدخال المبالغ والتوزيع الآلي'!$A:$A, A28, 'إدخال المبالغ والتوزيع الآلي'!$E:$E, "✔ " & "9043*")) -> 0 | G28: =IF(A28="", "", SUMIFS('إدخال المبالغ والتوزيع الآلي'!$F:$F, 'إدخال المبالغ والتوزيع الآلي'!$A:$A, A28, 'إدخال المبالغ والتوزيع الآلي'!$E:$E, "✔ " & "9044*")) -> 0 | H28: =IF(A28="", "", SUMIFS('إدخال المبالغ والتوزيع الآلي'!$F:$F, 'إدخال المبالغ والتوزيع الآلي'!$A:$A, A28, 'إدخال المبالغ والتوزيع الآلي'!$E:$E, "✔ " & "9049*")) -> 0
A29: 729 | B29: التحصيلات والإعانات والمساهمات الأخرى | C29: =IF(A29="", "", SUMIFS('إدخال المبالغ والتوزيع الآلي'!$F:$F, 'إدخال المبالغ والتوزيع الآلي'!$A:$A, A29, 'إدخال المبالغ والتوزيع الآلي'!$E:$E, "✔ " & "9040*")) -> 0 | D29: =IF(A29="", "", SUMIFS('إدخال المبالغ والتوزيع الآلي'!$F:$F, 'إدخال المبالغ والتوزيع الآلي'!$A:$A, A29, 'إدخال المبالغ والتوزيع الآلي'!$E:$E, "✔ " & "9041*")) -> 0 | E29: =IF(A29="", "", SUMIFS('إدخال المبالغ والتوزيع الآلي'!$F:$F, 'إدخال المبالغ والتوزيع الآلي'!$A:$A, A29, 'إدخال المبالغ والتوزيع الآلي'!$E:$E, "✔ " & "9042*")) -> 0 | F29: =IF(A29="", "", SUMIFS('إدخال المبالغ والتوزيع الآلي'!$F:$F, 'إدخال المبالغ والتوزيع الآلي'!$A:$A, A29, 'إدخال المبالغ والتوزيع الآلي'!$E:$E, "✔ " & "9043*")) -> 0 | G29: =IF(A29="", "", SUMIFS('إدخال المبالغ والتوزيع الآلي'!$F:$F, 'إدخال المبالغ والتوزيع الآلي'!$A:$A, A29, 'إدخال المبالغ والتوزيع الآلي'!$E:$E, "✔ " & "9044*")) -> 0 | H29: =IF(A29="", "", SUMIFS('إدخال المبالغ والتوزيع الآلي'!$F:$F, 'إدخال المبالغ والتوزيع الآلي'!$A:$A, A29, 'إدخال المبالغ والتوزيع الآلي'!$E:$E, "✔ " & "9049*")) -> 0
A30: 789 | B30: مخصصات الدولة الأخرى | C30: =IF(A30="", "", SUMIFS('إدخال المبالغ والتوزيع الآلي'!$F:$F, 'إدخال المبالغ والتوزيع الآلي'!$A:$A, A30, 'إدخال المبالغ والتوزيع الآلي'!$E:$E, "✔ " & "9040*")) -> 0 | D30: =IF(A30="", "", SUMIFS('إدخال المبالغ والتوزيع الآلي'!$F:$F, 'إدخال المبالغ والتوزيع الآلي'!$A:$A, A30, 'إدخال المبالغ والتوزيع الآلي'!$E:$E, "✔ " & "9041*")) -> 0 | E30: =IF(A30="", "", SUMIFS('إدخال المبالغ والتوزيع الآلي'!$F:$F, 'إدخال المبالغ والتوزيع الآلي'!$A:$A, A30, 'إدخال المبالغ والتوزيع الآلي'!$E:$E, "✔ " & "9042*")) -> 0 | F30: =IF(A30="", "", SUMIFS('إدخال المبالغ والتوزيع الآلي'!$F:$F, 'إدخال المبالغ والتوزيع الآلي'!$A:$A, A30, 'إدخال المبالغ والتوزيع الآلي'!$E:$E, "✔ " & "9043*")) -> 0 | G30: =IF(A30="", "", SUMIFS('إدخال المبالغ والتوزيع الآلي'!$F:$F, 'إدخال المبالغ والتوزيع الآلي'!$A:$A, A30, 'إدخال المبالغ والتوزيع الآلي'!$E:$E, "✔ " & "9044*")) -> 0 | H30: =IF(A30="", "", SUMIFS('إدخال المبالغ والتوزيع الآلي'!$F:$F, 'إدخال المبالغ والتوزيع الآلي'!$A:$A, A30, 'إدخال المبالغ والتوزيع الآلي'!$E:$E, "✔ " & "9049*")) -> 0
A31: 799 | B31: نواتج استثنائية أخرى | C31: =IF(A31="", "", SUMIFS('إدخال المبالغ والتوزيع الآلي'!$F:$F, 'إدخال المبالغ والتوزيع الآلي'!$A:$A, A31, 'إدخال المبالغ والتوزيع الآلي'!$E:$E, "✔ " & "9040*")) -> 0 | D31: =IF(A31="", "", SUMIFS('إدخال المبالغ والتوزيع الآلي'!$F:$F, 'إدخال المبالغ والتوزيع الآلي'!$A:$A, A31, 'إدخال المبالغ والتوزيع الآلي'!$E:$E, "✔ " & "9041*")) -> 0 | E31: =IF(A31="", "", SUMIFS('إدخال المبالغ والتوزيع الآلي'!$F:$F, 'إدخال المبالغ والتوزيع الآلي'!$A:$A, A31, 'إدخال المبالغ والتوزيع الآلي'!$E:$E, "✔ " & "9042*")) -> 0 | F31: =IF(A31="", "", SUMIFS('إدخال المبالغ والتوزيع الآلي'!$F:$F, 'إدخال المبالغ والتوزيع الآلي'!$A:$A, A31, 'إدخال المبالغ والتوزيع الآلي'!$E:$E, "✔ " & "9043*")) -> 0 | G31: =IF(A31="", "", SUMIFS('إدخال المبالغ والتوزيع الآلي'!$F:$F, 'إدخال المبالغ والتوزيع الآلي'!$A:$A, A31, 'إدخال المبالغ والتوزيع الآلي'!$E:$E, "✔ " & "9044*")) -> 0 | H31: =IF(A31="", "", SUMIFS('إدخال المبالغ والتوزيع الآلي'!$F:$F, 'إدخال المبالغ والتوزيع الآلي'!$A:$A, A31, 'إدخال المبالغ والتوزيع الآلي'!$E:$E, "✔ " & "9049*")) -> 0
A32: 827 | B32: نواتج السنوات المالية السابقة، بواقي الإنجاز | C32: =IF(A32="", "", SUMIFS('إدخال المبالغ والتوزيع الآلي'!$F:$F, 'إدخال المبالغ والتوزيع الآلي'!$A:$A, A32, 'إدخال المبالغ والتوزيع الآلي'!$E:$E, "✔ " & "9040*")) -> 0 | D32: =IF(A32="", "", SUMIFS('إدخال المبالغ والتوزيع الآلي'!$F:$F, 'إدخال المبالغ والتوزيع الآلي'!$A:$A, A32, 'إدخال المبالغ والتوزيع الآلي'!$E:$E, "✔ " & "9041*")) -> 0 | E32: =IF(A32="", "", SUMIFS('إدخال المبالغ والتوزيع الآلي'!$F:$F, 'إدخال المبالغ والتوزيع الآلي'!$A:$A, A32, 'إدخال المبالغ والتوزيع الآلي'!$E:$E, "✔ " & "9042*")) -> 0 | F32: =IF(A32="", "", SUMIFS('إدخال المبالغ والتوزيع الآلي'!$F:$F, 'إدخال المبالغ والتوزيع الآلي'!$A:$A, A32, 'إدخال المبالغ والتوزيع الآلي'!$E:$E, "✔ " & "9043*")) -> 0 | G32: =IF(A32="", "", SUMIFS('إدخال المبالغ والتوزيع الآلي'!$F:$F, 'إدخال المبالغ والتوزيع الآلي'!$A:$A, A32, 'إدخال المبالغ والتوزيع الآلي'!$E:$E, "✔ " & "9044*")) -> 0 | H32: =IF(A32="", "", SUMIFS('إدخال المبالغ والتوزيع الآلي'!$F:$F, 'إدخال المبالغ والتوزيع الآلي'!$A:$A, A32, 'إدخال المبالغ والتوزيع الآلي'!$E:$E, "✔ " & "9049*")) -> 0

Sheet الباب 905
A1: الباب 905 - الشبكات والاتصالات والتكنولوجيات الجديدة - تصنيف عمليات النفقات والإيرادات حسب الأبواب الفرعية
A3: المواد | B3: التبيان | C3: الباب 905 - الشبكات والاتصالات والتكنولوجيات الجديدة
C4: 9050 التطهير | D4: 9051 التزويد بالماء الصالح للشرب | E4: 9052 الكهرباء | F4: 9053 الغاز | G4: 9054 شبكات التكنولوجيات الجديدة | H4: 9059 الشبكات الأخرى
A5: مواد حسابات النفقات
A6: 605 | B6: لوازم الصيانة المباني والمنقولات والعتاد | C6: =IF(A6="", "", SUMIFS('إدخال المبالغ والتوزيع الآلي'!$F:$F, 'إدخال المبالغ والتوزيع الآلي'!$A:$A, A6, 'إدخال المبالغ والتوزيع الآلي'!$E:$E, "✔ " & "9050*")) -> 0 | D6: =IF(A6="", "", SUMIFS('إدخال المبالغ والتوزيع الآلي'!$F:$F, 'إدخال المبالغ والتوزيع الآلي'!$A:$A, A6, 'إدخال المبالغ والتوزيع الآلي'!$E:$E, "✔ " & "9051*")) -> 0 | E6: =IF(A6="", "", SUMIFS('إدخال المبالغ والتوزيع الآلي'!$F:$F, 'إدخال المبالغ والتوزيع الآلي'!$A:$A, A6, 'إدخال المبالغ والتوزيع الآلي'!$E:$E, "✔ " & "9052*")) -> 0 | F6: =IF(A6="", "", SUMIFS('إدخال المبالغ والتوزيع الآلي'!$F:$F, 'إدخال المبالغ والتوزيع الآلي'!$A:$A, A6, 'إدخال المبالغ والتوزيع الآلي'!$E:$E, "✔ " & "9053*")) -> 0 | G6: =IF(A6="", "", SUMIFS('إدخال المبالغ والتوزيع الآلي'!$F:$F, 'إدخال المبالغ والتوزيع الآلي'!$A:$A, A6, 'إدخال المبالغ والتوزيع الآلي'!$E:$E, "✔ " & "9054*")) -> 0 | H6: =IF(A6="", "", SUMIFS('إدخال المبالغ والتوزيع الآلي'!$F:$F, 'إدخال المبالغ والتوزيع الآلي'!$A:$A, A6, 'إدخال المبالغ والتوزيع الآلي'!$E:$E, "✔ " & "9059*")) -> 0
A7: 609 | B7: اللوازم الأخرى | C7: =IF(A7="", "", SUMIFS('إدخال المبالغ والتوزيع الآلي'!$F:$F, 'إدخال المبالغ والتوزيع الآلي'!$A:$A, A7, 'إدخال المبالغ والتوزيع الآلي'!$E:$E, "✔ " & "9050*")) -> 0 | D7: =IF(A7="", "", SUMIFS('إدخال المبالغ والتوزيع الآلي'!$F:$F, 'إدخال المبالغ والتوزيع الآلي'!$A:$A, A7, 'إدخال المبالغ والتوزيع الآلي'!$E:$E, "✔ " & "9051*")) -> 0 | E7: =IF(A7="", "", SUMIFS('إدخال المبالغ والتوزيع الآلي'!$F:$F, 'إدخال المبالغ والتوزيع الآلي'!$A:$A, A7, 'إدخال المبالغ والتوزيع الآلي'!$E:$E, "✔ " & "9052*")) -> 0 | F7: =IF(A7="", "", SUMIFS('إدخال المبالغ والتوزيع الآلي'!$F:$F, 'إدخال المبالغ والتوزيع الآلي'!$A:$A, A7, 'إدخال المبالغ والتوزيع الآلي'!$E:$E, "✔ " & "9053*")) -> 0 | G7: =IF(A7="", "", SUMIFS('إدخال المبالغ والتوزيع الآلي'!$F:$F, 'إدخال المبالغ والتوزيع الآلي'!$A:$A, A7, 'إدخال المبالغ والتوزيع الآلي'!$E:$E, "✔ " & "9054*")) -> 0 | H7: =IF(A7="", "", SUMIFS('إدخال المبالغ والتوزيع الآلي'!$F:$F, 'إدخال المبالغ والتوزيع الآلي'!$A:$A, A7, 'إدخال المبالغ والتوزيع الآلي'!$E:$E, "✔ " & "9059*")) -> 0
A8: 610 | B8: الإيجار وتكاليف الكراء | C8: =IF(A8="", "", SUMIFS('إدخال المبالغ والتوزيع الآلي'!$F:$F, 'إدخال المبالغ والتوزيع الآلي'!$A:$A, A8, 'إدخال المبالغ والتوزيع الآلي'!$E:$E, "✔ " & "9050*")) -> 0 | D8: =IF(A8="", "", SUMIFS('إدخال المبالغ والتوزيع الآلي'!$F:$F, 'إدخال المبالغ والتوزيع الآلي'!$A:$A, A8, 'إدخال المبالغ والتوزيع الآلي'!$E:$E, "✔ " & "9051*")) -> 0 | E8: =IF(A8="", "", SUMIFS('إدخال المبالغ والتوزيع الآلي'!$F:$F, 'إدخال المبالغ والتوزيع الآلي'!$A:$A, A8, 'إدخال المبالغ والتوزيع الآلي'!$E:$E, "✔ " & "9052*")) -> 0 | F8: =IF(A8="", "", SUMIFS('إدخال المبالغ والتوزيع الآلي'!$F:$F, 'إدخال المبالغ والتوزيع الآلي'!$A:$A, A8, 'إدخال المبالغ والتوزيع الآلي'!$E:$E, "✔ " & "9053*")) -> 0 | G8: =IF(A8="", "", SUMIFS('إدخال المبالغ والتوزيع الآلي'!$F:$F, 'إدخال المبالغ والتوزيع الآلي'!$A:$A, A8, 'إدخال المبالغ والتوزيع الآلي'!$E:$E, "✔ " & "9054*")) -> 0 | H8: =IF(A8="", "", SUMIFS('إدخال المبالغ والتوزيع الآلي'!$F:$F, 'إدخال المبالغ والتوزيع الآلي'!$A:$A, A8, 'إدخال المبالغ والتوزيع الآلي'!$E:$E, "✔ " & "9059*")) -> 0
A9: 611 | B9: الصيانة والترميم | C9: =IF(A9="", "", SUMIFS('إدخال المبالغ والتوزيع الآلي'!$F:$F, 'إدخال المبالغ والتوزيع الآلي'!$A:$A, A9, 'إدخال المبالغ والتوزيع الآلي'!$E:$E, "✔ " & "9050*")) -> 0 | D9: =IF(A9="", "", SUMIFS('إدخال المبالغ والتوزيع الآلي'!$F:$F, 'إدخال المبالغ والتوزيع الآلي'!$A:$A, A9, 'إدخال المبالغ والتوزيع الآلي'!$E:$E, "✔ " & "9051*")) -> 0 | E9: =IF(A9="", "", SUMIFS('إدخال المبالغ والتوزيع الآلي'!$F:$F, 'إدخال المبالغ والتوزيع الآلي'!$A:$A, A9, 'إدخال المبالغ والتوزيع الآلي'!$E:$E, "✔ " & "9052*")) -> 0 | F9: =IF(A9="", "", SUMIFS('إدخال المبالغ والتوزيع الآلي'!$F:$F, 'إدخال المبالغ والتوزيع الآلي'!$A:$A, A9, 'إدخال المبالغ والتوزيع الآلي'!$E:$E, "✔ " & "9053*")) -> 0 | G9: =IF(A9="", "", SUMIFS('إدخال المبالغ والتوزيع الآلي'!$F:$F, 'إدخال المبالغ والتوزيع الآلي'!$A:$A, A9, 'إدخال المبالغ والتوزيع الآلي'!$E:$E, "✔ " & "9054*")) -> 0 | H9: =IF(A9="", "", SUMIFS('إدخال المبالغ والتوزيع الآلي'!$F:$F, 'إدخال المبالغ والتوزيع الآلي'!$A:$A, A9, 'إدخال المبالغ والتوزيع الآلي'!$E:$E, "✔ " & "9059*")) -> 0
A10: 612 | B10: اقتناء العتاد والأدوات الصغيرة | C10: =IF(A10="", "", SUMIFS('إدخال المبالغ والتوزيع الآلي'!$F:$F, 'إدخال المبالغ والتوزيع الآلي'!$A:$A, A10, 'إدخال المبالغ والتوزيع الآلي'!$E:$E, "✔ " & "9050*")) -> 0 | D10: =IF(A10="", "", SUMIFS('إدخال المبالغ والتوزيع الآلي'!$F:$F, 'إدخال المبالغ والتوزيع الآلي'!$A:$A, A10, 'إدخال المبالغ والتوزيع الآلي'!$E:$E, "✔ " & "9051*")) -> 0 | E10: =IF(A10="", "", SUMIFS('إدخال المبالغ والتوزيع الآلي'!$F:$F, 'إدخال المبالغ والتوزيع الآلي'!$A:$A, A10, 'إدخال المبالغ والتوزيع الآلي'!$E:$E, "✔ " & "9052*")) -> 0 | F10: =IF(A10="", "", SUMIFS('إدخال المبالغ والتوزيع الآلي'!$F:$F, 'إدخال المبالغ والتوزيع الآلي'!$A:$A, A10, 'إدخال المبالغ والتوزيع الآلي'!$E:$E, "✔ " & "9053*")) -> 0 | G10: =IF(A10="", "", SUMIFS('إدخال المبالغ والتوزيع الآلي'!$F:$F, 'إدخال المبالغ والتوزيع الآلي'!$A:$A, A10, 'إدخال المبالغ والتوزيع الآلي'!$E:$E, "✔ " & "9054*")) -> 0 | H10: =IF(A10="", "", SUMIFS('إدخال المبالغ والتوزيع الآلي'!$F:$F, 'إدخال المبالغ والتوزيع الآلي'!$A:$A, A10, 'إدخال المبالغ والتوزيع الآلي'!$E:$E, "✔ " & "9059*")) -> 0
A11: 616 | B11: تقديم الخدمات للبلدية | C11: =IF(A11="", "", SUMIFS('إدخال المبالغ والتوزيع الآلي'!$F:$F, 'إدخال المبالغ والتوزيع الآلي'!$A:$A, A11, 'إدخال المبالغ والتوزيع الآلي'!$E:$E, "✔ " & "9050*")) -> 0 | D11: =IF(A11="", "", SUMIFS('إدخال المبالغ والتوزيع الآلي'!$F:$F, 'إدخال المبالغ والتوزيع الآلي'!$A:$A, A11, 'إدخال المبالغ والتوزيع الآلي'!$E:$E, "✔ " & "9051*")) -> 0 | E11: =IF(A11="", "", SUMIFS('إدخال المبالغ والتوزيع الآلي'!$F:$F, 'إدخال المبالغ والتوزيع الآلي'!$A:$A, A11, 'إدخال المبالغ والتوزيع الآلي'!$E:$E, "✔ " & "9052*")) -> 0 | F11: =IF(A11="", "", SUMIFS('إدخال المبالغ والتوزيع الآلي'!$F:$F, 'إدخال المبالغ والتوزيع الآلي'!$A:$A, A11, 'إدخال المبالغ والتوزيع الآلي'!$E:$E, "✔ " & "9053*")) -> 0 | G11: =IF(A11="", "", SUMIFS('إدخال المبالغ والتوزيع الآلي'!$F:$F, 'إدخال المبالغ والتوزيع الآلي'!$A:$A, A11, 'إدخال المبالغ والتوزيع الآلي'!$E:$E, "✔ " & "9054*")) -> 0 | H11: =IF(A11="", "", SUMIFS('إدخال المبالغ والتوزيع الآلي'!$F:$F, 'إدخال المبالغ والتوزيع الآلي'!$A:$A, A11, 'إدخال المبالغ والتوزيع الآلي'!$E:$E, "✔ " & "9059*")) -> 0
A12: 626 | B12: مصاريف البريد والاتصالات والإنترنت | C12: =IF(A12="", "", SUMIFS('إدخال المبالغ والتوزيع الآلي'!$F:$F, 'إدخال المبالغ والتوزيع الآلي'!$A:$A, A12, 'إدخال المبالغ والتوزيع الآلي'!$E:$E, "✔ " & "9050*")) -> 0 | D12: =IF(A12="", "", SUMIFS('إدخال المبالغ والتوزيع الآلي'!$F:$F, 'إدخال المبالغ والتوزيع الآلي'!$A:$A, A12, 'إدخال المبالغ والتوزيع الآلي'!$E:$E, "✔ " & "9051*")) -> 0 | E12: =IF(A12="", "", SUMIFS('إدخال المبالغ والتوزيع الآلي'!$F:$F, 'إدخال المبالغ والتوزيع الآلي'!$A:$A, A12, 'إدخال المبالغ والتوزيع الآلي'!$E:$E, "✔ " & "9052*")) -> 0 | F12: =IF(A12="", "", SUMIFS('إدخال المبالغ والتوزيع الآلي'!$F:$F, 'إدخال المبالغ والتوزيع الآلي'!$A:$A, A12, 'إدخال المبالغ والتوزيع الآلي'!$E:$E, "✔ " & "9053*")) -> 0 | G12: =IF(A12="", "", SUMIFS('إدخال المبالغ والتوزيع الآلي'!$F:$F, 'إدخال المبالغ والتوزيع الآلي'!$A:$A, A12, 'إدخال المبالغ والتوزيع الآلي'!$E:$E, "✔ " & "9054*")) -> 0 | H12: =IF(A12="", "", SUMIFS('إدخال المبالغ والتوزيع الآلي'!$F:$F, 'إدخال المبالغ والتوزيع الآلي'!$A:$A, A12, 'إدخال المبالغ والتوزيع الآلي'!$E:$E, "✔ " & "9059*")) -> 0
A13: 6262 | B13: مصاريف الإنترنت | C13: =IF(A13="", "", SUMIFS('إدخال المبالغ والتوزيع الآلي'!$F:$F, 'إدخال المبالغ والتوزيع الآلي'!$A:$A, A13, 'إدخال المبالغ والتوزيع الآلي'!$E:$E, "✔ " & "9050*")) -> 0 | D13: =IF(A13="", "", SUMIFS('إدخال المبالغ والتوزيع الآلي'!$F:$F, 'إدخال المبالغ والتوزيع الآلي'!$A:$A, A13, 'إدخال المبالغ والتوزيع الآلي'!$E:$E, "✔ " & "9051*")) -> 0 | E13: =IF(A13="", "", SUMIFS('إدخال المبالغ والتوزيع الآلي'!$F:$F, 'إدخال المبالغ والتوزيع الآلي'!$A:$A, A13, 'إدخال المبالغ والتوزيع الآلي'!$E:$E, "✔ " & "9052*")) -> 0 | F13: =IF(A13="", "", SUMIFS('إدخال المبالغ والتوزيع الآلي'!$F:$F, 'إدخال المبالغ والتوزيع الآلي'!$A:$A, A13, 'إدخال المبالغ والتوزيع الآلي'!$E:$E, "✔ " & "9053*")) -> 0 | G13: =IF(A13="", "", SUMIFS('إدخال المبالغ والتوزيع الآلي'!$F:$F, 'إدخال المبالغ والتوزيع الآلي'!$A:$A, A13, 'إدخال المبالغ والتوزيع الآلي'!$E:$E, "✔ " & "9054*")) -> 0 | H13: =IF(A13="", "", SUMIFS('إدخال المبالغ والتوزيع الآلي'!$F:$F, 'إدخال المبالغ والتوزيع الآلي'!$A:$A, A13, 'إدخال المبالغ والتوزيع الآلي'!$E:$E, "✔ " & "9059*")) -> 0
A14: 649 | B14: الضرائب والرسوم الأخرى | C14: =IF(A14="", "", SUMIFS('إدخال المبالغ والتوزيع الآلي'!$F:$F, 'إدخال المبالغ والتوزيع الآلي'!$A:$A, A14, 'إدخال المبالغ والتوزيع الآلي'!$E:$E, "✔ " & "9050*")) -> 0 | D14: =IF(A14="", "", SUMIFS('إدخال المبالغ والتوزيع الآلي'!$F:$F, 'إدخال المبالغ والتوزيع الآلي'!$A:$A, A14, 'إدخال المبالغ والتوزيع الآلي'!$E:$E, "✔ " & "9051*")) -> 0 | E14: =IF(A14="", "", SUMIFS('إدخال المبالغ والتوزيع الآلي'!$F:$F, 'إدخال المبالغ والتوزيع الآلي'!$A:$A, A14, 'إدخال المبالغ والتوزيع الآلي'!$E:$E, "✔ " & "9052*")) -> 0 | F14: =IF(A14="", "", SUMIFS('إدخال المبالغ والتوزيع الآلي'!$F:$F, 'إدخال المبالغ والتوزيع الآلي'!$A:$A, A14, 'إدخال المبالغ والتوزيع الآلي'!$E:$E, "✔ " & "9053*")) -> 0 | G14: =IF(A14="", "", SUMIFS('إدخال المبالغ والتوزيع الآلي'!$F:$F, 'إدخال المبالغ والتوزيع الآلي'!$A:$A, A14, 'إدخال المبالغ والتوزيع الآلي'!$E:$E, "✔ " & "9054*")) -> 0 | H14: =IF(A14="", "", SUMIFS('إدخال المبالغ والتوزيع الآلي'!$F:$F, 'إدخال المبالغ والتوزيع الآلي'!$A:$A, A14, 'إدخال المبالغ والتوزيع الآلي'!$E:$E, "✔ " & "9059*")) -> 0
A15: 699 | B15: الأعباء الاستثنائية الأخرى | C15: =IF(A15="", "", SUMIFS('إدخال المبالغ والتوزيع الآلي'!$F:$F, 'إدخال المبالغ والتوزيع الآلي'!$A:$A, A15, 'إدخال المبالغ والتوزيع الآلي'!$E:$E, "✔ " & "9050*")) -> 0 | D15: =IF(A15="", "", SUMIFS('إدخال المبالغ والتوزيع الآلي'!$F:$F, 'إدخال المبالغ والتوزيع الآلي'!$A:$A, A15, 'إدخال المبالغ والتوزيع الآلي'!$E:$E, "✔ " & "9051*")) -> 0 | E15: =IF(A15="", "", SUMIFS('إدخال المبالغ والتوزيع الآلي'!$F:$F, 'إدخال المبالغ والتوزيع الآلي'!$A:$A, A15, 'إدخال المبالغ والتوزيع الآلي'!$E:$E, "✔ " & "9052*")) -> 0 | F15: =IF(A15="", "", SUMIFS('إدخال المبالغ والتوزيع الآلي'!$F:$F, 'إدخال المبالغ والتوزيع الآلي'!$A:$A, A15, 'إدخال المبالغ والتوزيع الآلي'!$E:$E, "✔ " & "9053*")) -> 0 | G15: =IF(A15="", "", SUMIFS('إدخال المبالغ والتوزيع الآلي'!$F:$F, 'إدخال المبالغ والتوزيع الآلي'!$A:$A, A15, 'إدخال المبالغ والتوزيع الآلي'!$E:$E, "✔ " & "9054*")) -> 0 | H15: =IF(A15="", "", SUMIFS('إدخال المبالغ والتوزيع الآلي'!$F:$F, 'إدخال المبالغ والتوزيع الآلي'!$A:$A, A15, 'إدخال المبالغ والتوزيع الآلي'!$E:$E, "✔ " & "9059*")) -> 0
A16: 826 | B16: أعباء السنوات المالية السابقة، بواقي الإنجاز | C16: =IF(A16="", "", SUMIFS('إدخال المبالغ والتوزيع الآلي'!$F:$F, 'إدخال المبالغ والتوزيع الآلي'!$A:$A, A16, 'إدخال المبالغ والتوزيع الآلي'!$E:$E, "✔ " & "9050*")) -> 0 | D16: =IF(A16="", "", SUMIFS('إدخال المبالغ والتوزيع الآلي'!$F:$F, 'إدخال المبالغ والتوزيع الآلي'!$A:$A, A16, 'إدخال المبالغ والتوزيع الآلي'!$E:$E, "✔ " & "9051*")) -> 0 | E16: =IF(A16="", "", SUMIFS('إدخال المبالغ والتوزيع الآلي'!$F:$F, 'إدخال المبالغ والتوزيع الآلي'!$A:$A, A16, 'إدخال المبالغ والتوزيع الآلي'!$E:$E, "✔ " & "9052*")) -> 0 | F16: =IF(A16="", "", SUMIFS('إدخال المبالغ والتوزيع الآلي'!$F:$F, 'إدخال المبالغ والتوزيع الآلي'!$A:$A, A16, 'إدخال المبالغ والتوزيع الآلي'!$E:$E, "✔ " & "9053*")) -> 0 | G16: =IF(A16="", "", SUMIFS('إدخال المبالغ والتوزيع الآلي'!$F:$F, 'إدخال المبالغ والتوزيع الآلي'!$A:$A, A16, 'إدخال المبالغ والتوزيع الآلي'!$E:$E, "✔ " & "9054*")) -> 0 | H16: =IF(A16="", "", SUMIFS('إدخال المبالغ والتوزيع الآلي'!$F:$F, 'إدخال المبالغ والتوزيع الآلي'!$A:$A, A16, 'إدخال المبالغ والتوزيع الآلي'!$E:$E, "✔ " & "9059*")) -> 0
A17: مواد حسابات الإيرادات
A18: 700 | B18: مبيعات المنتجات أو الخدمة | C18: =IF(A18="", "", SUMIFS('إدخال المبالغ والتوزيع الآلي'!$F:$F, 'إدخال المبالغ والتوزيع الآلي'!$A:$A, A18, 'إدخال المبالغ والتوزيع الآلي'!$E:$E, "✔ " & "9050*")) -> 0 | D18: =IF(A18="", "", SUMIFS('إدخال المبالغ والتوزيع الآلي'!$F:$F, 'إدخال المبالغ والتوزيع الآلي'!$A:$A, A18, 'إدخال المبالغ والتوزيع الآلي'!$E:$E, "✔ " & "9051*")) -> 0 | E18: =IF(A18="", "", SUMIFS('إدخال المبالغ والتوزيع الآلي'!$F:$F, 'إدخال المبالغ والتوزيع الآلي'!$A:$A, A18, 'إدخال المبالغ والتوزيع الآلي'!$E:$E, "✔ " & "9052*")) -> 0 | F18: =IF(A18="", "", SUMIFS('إدخال المبالغ والتوزيع الآلي'!$F:$F, 'إدخال المبالغ والتوزيع الآلي'!$A:$A, A18, 'إدخال المبالغ والتوزيع الآلي'!$E:$E, "✔ " & "9053*")) -> 0 | G18: =IF(A18="", "", SUMIFS('إدخال المبالغ والتوزيع الآلي'!$F:$F, 'إدخال المبالغ والتوزيع الآلي'!$A:$A, A18, 'إدخال المبالغ والتوزيع الآلي'!$E:$E, "✔ " & "9054*")) -> 0 | H18: =IF(A18="", "", SUMIFS('إدخال المبالغ والتوزيع الآلي'!$F:$F, 'إدخال المبالغ والتوزيع الآلي'!$A:$A, A18, 'إدخال المبالغ والتوزيع الآلي'!$E:$E, "✔ " & "9059*")) -> 0
A19: 723 | B19: إعانات الجماعات المحلية | C19: =IF(A19="", "", SUMIFS('إدخال المبالغ والتوزيع الآلي'!$F:$F, 'إدخال المبالغ والتوزيع الآلي'!$A:$A, A19, 'إدخال المبالغ والتوزيع الآلي'!$E:$E, "✔ " & "9050*")) -> 0 | D19: =IF(A19="", "", SUMIFS('إدخال المبالغ والتوزيع الآلي'!$F:$F, 'إدخال المبالغ والتوزيع الآلي'!$A:$A, A19, 'إدخال المبالغ والتوزيع الآلي'!$E:$E, "✔ " & "9051*")) -> 0 | E19: =IF(A19="", "", SUMIFS('إدخال المبالغ والتوزيع الآلي'!$F:$F, 'إدخال المبالغ والتوزيع الآلي'!$A:$A, A19, 'إدخال المبالغ والتوزيع الآلي'!$E:$E, "✔ " & "9052*")) -> 0 | F19: =IF(A19="", "", SUMIFS('إدخال المبالغ والتوزيع الآلي'!$F:$F, 'إدخال المبالغ والتوزيع الآلي'!$A:$A, A19, 'إدخال المبالغ والتوزيع الآلي'!$E:$E, "✔ " & "9053*")) -> 0 | G19: =IF(A19="", "", SUMIFS('إدخال المبالغ والتوزيع الآلي'!$F:$F, 'إدخال المبالغ والتوزيع الآلي'!$A:$A, A19, 'إدخال المبالغ والتوزيع الآلي'!$E:$E, "✔ " & "9054*")) -> 0 | H19: =IF(A19="", "", SUMIFS('إدخال المبالغ والتوزيع الآلي'!$F:$F, 'إدخال المبالغ والتوزيع الآلي'!$A:$A, A19, 'إدخال المبالغ والتوزيع الآلي'!$E:$E, "✔ " & "9059*")) -> 0
A20: 729 | B20: التحصيلات والإعانات والمساهمات الأخرى | C20: =IF(A20="", "", SUMIFS('إدخال المبالغ والتوزيع الآلي'!$F:$F, 'إدخال المبالغ والتوزيع الآلي'!$A:$A, A20, 'إدخال المبالغ والتوزيع الآلي'!$E:$E, "✔ " & "9050*")) -> 0 | D20: =IF(A20="", "", SUMIFS('إدخال المبالغ والتوزيع الآلي'!$F:$F, 'إدخال المبالغ والتوزيع الآلي'!$A:$A, A20, 'إدخال المبالغ والتوزيع الآلي'!$E:$E, "✔ " & "9051*")) -> 0 | E20: =IF(A20="", "", SUMIFS('إدخال المبالغ والتوزيع الآلي'!$F:$F, 'إدخال المبالغ والتوزيع الآلي'!$A:$A, A20, 'إدخال المبالغ والتوزيع الآلي'!$E:$E, "✔ " & "9052*")) -> 0 | F20: =IF(A20="", "", SUMIFS('إدخال المبالغ والتوزيع الآلي'!$F:$F, 'إدخال المبالغ والتوزيع الآلي'!$A:$A, A20, 'إدخال المبالغ والتوزيع الآلي'!$E:$E, "✔ " & "9053*")) -> 0 | G20: =IF(A20="", "", SUMIFS('إدخال المبالغ والتوزيع الآلي'!$F:$F, 'إدخال المبالغ والتوزيع الآلي'!$A:$A, A20, 'إدخال المبالغ والتوزيع الآلي'!$E:$E, "✔ " & "9054*")) -> 0 | H20: =IF(A20="", "", SUMIFS('إدخال المبالغ والتوزيع الآلي'!$F:$F, 'إدخال المبالغ والتوزيع الآلي'!$A:$A, A20, 'إدخال المبالغ والتوزيع الآلي'!$E:$E, "✔ " & "9059*")) -> 0
A21: 739 | B21: تخفيضات التكاليف الأخرى | C21: =IF(A21="", "", SUMIFS('إدخال المبالغ والتوزيع الآلي'!$F:$F, 'إدخال المبالغ والتوزيع الآلي'!$A:$A, A21, 'إدخال المبالغ والتوزيع الآلي'!$E:$E, "✔ " & "9050*")) -> 0 | D21: =IF(A21="", "", SUMIFS('إدخال المبالغ والتوزيع الآلي'!$F:$F, 'إدخال المبالغ والتوزيع الآلي'!$A:$A, A21, 'إدخال المبالغ والتوزيع الآلي'!$E:$E, "✔ " & "9051*")) -> 0 | E21: =IF(A21="", "", SUMIFS('إدخال المبالغ والتوزيع الآلي'!$F:$F, 'إدخال المبالغ والتوزيع الآلي'!$A:$A, A21, 'إدخال المبالغ والتوزيع الآلي'!$E:$E, "✔ " & "9052*")) -> 0 | F21: =IF(A21="", "", SUMIFS('إدخال المبالغ والتوزيع الآلي'!$F:$F, 'إدخال المبالغ والتوزيع الآلي'!$A:$A, A21, 'إدخال المبالغ والتوزيع الآلي'!$E:$E, "✔ " & "9053*")) -> 0 | G21: =IF(A21="", "", SUMIFS('إدخال المبالغ والتوزيع الآلي'!$F:$F, 'إدخال المبالغ والتوزيع الآلي'!$A:$A, A21, 'إدخال المبالغ والتوزيع الآلي'!$E:$E, "✔ " & "9054*")) -> 0 | H21: =IF(A21="", "", SUMIFS('إدخال المبالغ والتوزيع الآلي'!$F:$F, 'إدخال المبالغ والتوزيع الآلي'!$A:$A, A21, 'إدخال المبالغ والتوزيع الآلي'!$E:$E, "✔ " & "9059*")) -> 0
A22: 789 | B22: مخصصات الدولة الأخرى | C22: =IF(A22="", "", SUMIFS('إدخال المبالغ والتوزيع الآلي'!$F:$F, 'إدخال المبالغ والتوزيع الآلي'!$A:$A, A22, 'إدخال المبالغ والتوزيع الآلي'!$E:$E, "✔ " & "9050*")) -> 0 | D22: =IF(A22="", "", SUMIFS('إدخال المبالغ والتوزيع الآلي'!$F:$F, 'إدخال المبالغ والتوزيع الآلي'!$A:$A, A22, 'إدخال المبالغ والتوزيع الآلي'!$E:$E, "✔ " & "9051*")) -> 0 | E22: =IF(A22="", "", SUMIFS('إدخال المبالغ والتوزيع الآلي'!$F:$F, 'إدخال المبالغ والتوزيع الآلي'!$A:$A, A22, 'إدخال المبالغ والتوزيع الآلي'!$E:$E, "✔ " & "9052*")) -> 0 | F22: =IF(A22="", "", SUMIFS('إدخال المبالغ والتوزيع الآلي'!$F:$F, 'إدخال المبالغ والتوزيع الآلي'!$A:$A, A22, 'إدخال المبالغ والتوزيع الآلي'!$E:$E, "✔ " & "9053*")) -> 0 | G22: =IF(A22="", "", SUMIFS('إدخال المبالغ والتوزيع الآلي'!$F:$F, 'إدخال المبالغ والتوزيع الآلي'!$A:$A, A22, 'إدخال المبالغ والتوزيع الآلي'!$E:$E, "✔ " & "9054*")) -> 0 | H22: =IF(A22="", "", SUMIFS('إدخال المبالغ والتوزيع الآلي'!$F:$F, 'إدخال المبالغ والتوزيع الآلي'!$A:$A, A22, 'إدخال المبالغ والتوزيع الآلي'!$E:$E, "✔ " & "9059*")) -> 0
A23: 799 | B23: نواتج استثنائية أخرى | C23: =IF(A23="", "", SUMIFS('إدخال المبالغ والتوزيع الآلي'!$F:$F, 'إدخال المبالغ والتوزيع الآلي'!$A:$A, A23, 'إدخال المبالغ والتوزيع الآلي'!$E:$E, "✔ " & "9050*")) -> 0 | D23: =IF(A23="", "", SUMIFS('إدخال المبالغ والتوزيع الآلي'!$F:$F, 'إدخال المبالغ والتوزيع الآلي'!$A:$A, A23, 'إدخال المبالغ والتوزيع الآلي'!$E:$E, "✔ " & "9051*")) -> 0 | E23: =IF(A23="", "", SUMIFS('إدخال المبالغ والتوزيع الآلي'!$F:$F, 'إدخال المبالغ والتوزيع الآلي'!$A:$A, A23, 'إدخال المبالغ والتوزيع الآلي'!$E:$E, "✔ " & "9052*")) -> 0 | F23: =IF(A23="", "", SUMIFS('إدخال المبالغ والتوزيع الآلي'!$F:$F, 'إدخال المبالغ والتوزيع الآلي'!$A:$A, A23, 'إدخال المبالغ والتوزيع الآلي'!$E:$E, "✔ " & "9053*")) -> 0 | G23: =IF(A23="", "", SUMIFS('إدخال المبالغ والتوزيع الآلي'!$F:$F, 'إدخال المبالغ والتوزيع الآلي'!$A:$A, A23, 'إدخال المبالغ والتوزيع الآلي'!$E:$E, "✔ " & "9054*")) -> 0 | H23: =IF(A23="", "", SUMIFS('إدخال المبالغ والتوزيع الآلي'!$F:$F, 'إدخال المبالغ والتوزيع الآلي'!$A:$A, A23, 'إدخال المبالغ والتوزيع الآلي'!$E:$E, "✔ " & "9059*")) -> 0
A24: 827 | B24: نواتج السنوات المالية السابقة، بواقي الإنجاز | C24: =IF(A24="", "", SUMIFS('إدخال المبالغ والتوزيع الآلي'!$F:$F, 'إدخال المبالغ والتوزيع الآلي'!$A:$A, A24, 'إدخال المبالغ والتوزيع الآلي'!$E:$E, "✔ " & "9050*")) -> 0 | D24: =IF(A24="", "", SUMIFS('إدخال المبالغ والتوزيع الآلي'!$F:$F, 'إدخال المبالغ والتوزيع الآلي'!$A:$A, A24, 'إدخال المبالغ والتوزيع الآلي'!$E:$E, "✔ " & "9051*")) -> 0 | E24: =IF(A24="", "", SUMIFS('إدخال المبالغ والتوزيع الآلي'!$F:$F, 'إدخال المبالغ والتوزيع الآلي'!$A:$A, A24, 'إدخال المبالغ والتوزيع الآلي'!$E:$E, "✔ " & "9052*")) -> 0 | F24: =IF(A24="", "", SUMIFS('إدخال المبالغ والتوزيع الآلي'!$F:$F, 'إدخال المبالغ والتوزيع الآلي'!$A:$A, A24, 'إدخال المبالغ والتوزيع الآلي'!$E:$E, "✔ " & "9053*")) -> 0 | G24: =IF(A24="", "", SUMIFS('إدخال المبالغ والتوزيع الآلي'!$F:$F, 'إدخال المبالغ والتوزيع الآلي'!$A:$A, A24, 'إدخال المبالغ والتوزيع الآلي'!$E:$E, "✔ " & "9054*")) -> 0 | H24: =IF(A24="", "", SUMIFS('إدخال المبالغ والتوزيع الآلي'!$F:$F, 'إدخال المبالغ والتوزيع الآلي'!$A:$A, A24, 'إدخال المبالغ والتوزيع الآلي'!$E:$E, "✔ " & "9059*")) -> 0

Sheet الباب 906
A1: الباب 906 - الأشغال المنجزة بالاستغلال المباشر - تصنيف عمليات النفقات والإيرادات حسب الأبواب الفرعية
A3: المواد | B3: التبيان | C3: الباب 906 - الأشغال المنجزة بالاستغلال المباشر
C4: 9060 الأشغال المنجزة بالاستغلال المباشر البناءات والتصليحات الكبرى للمباني | D4: 9061 الأشغال المنجزة بالاستغلال المباشر التصليحات الكبرى للعتاد والمنقولات | E4: 9062 الأشغال المنجزة بالاستغلال المباشر، الطرق والشبكات | F4: 9063 الأشغال المنجزة بالاستغلال المباشر، الحدائق والمساحات الخضراء | G4: 9069 أشغال أخرى منجزة بالاستغلال المباشر
A5: مواد حسابات النفقات
A6: 602 | B6: الملابس | C6: =IF(A6="", "", SUMIFS('إدخال المبالغ والتوزيع الآلي'!$F:$F, 'إدخال المبالغ والتوزيع الآلي'!$A:$A, A6, 'إدخال المبالغ والتوزيع الآلي'!$E:$E, "✔ " & "9060*")) -> 0 | D6: =IF(A6="", "", SUMIFS('إدخال المبالغ والتوزيع الآلي'!$F:$F, 'إدخال المبالغ والتوزيع الآلي'!$A:$A, A6, 'إدخال المبالغ والتوزيع الآلي'!$E:$E, "✔ " & "9061*")) -> 0 | E6: =IF(A6="", "", SUMIFS('إدخال المبالغ والتوزيع الآلي'!$F:$F, 'إدخال المبالغ والتوزيع الآلي'!$A:$A, A6, 'إدخال المبالغ والتوزيع الآلي'!$E:$E, "✔ " & "9062*")) -> 0 | F6: =IF(A6="", "", SUMIFS('إدخال المبالغ والتوزيع الآلي'!$F:$F, 'إدخال المبالغ والتوزيع الآلي'!$A:$A, A6, 'إدخال المبالغ والتوزيع الآلي'!$E:$E, "✔ " & "9063*")) -> 0 | G6: =IF(A6="", "", SUMIFS('إدخال المبالغ والتوزيع الآلي'!$F:$F, 'إدخال المبالغ والتوزيع الآلي'!$A:$A, A6, 'إدخال المبالغ والتوزيع الآلي'!$E:$E, "✔ " & "9069*")) -> 0
A7: 603 | B7: الوقود | C7: =IF(A7="", "", SUMIFS('إدخال المبالغ والتوزيع الآلي'!$F:$F, 'إدخال المبالغ والتوزيع الآلي'!$A:$A, A7, 'إدخال المبالغ والتوزيع الآلي'!$E:$E, "✔ " & "9060*")) -> 0 | D7: =IF(A7="", "", SUMIFS('إدخال المبالغ والتوزيع الآلي'!$F:$F, 'إدخال المبالغ والتوزيع الآلي'!$A:$A, A7, 'إدخال المبالغ والتوزيع الآلي'!$E:$E, "✔ " & "9061*")) -> 0 | E7: =IF(A7="", "", SUMIFS('إدخال المبالغ والتوزيع الآلي'!$F:$F, 'إدخال المبالغ والتوزيع الآلي'!$A:$A, A7, 'إدخال المبالغ والتوزيع الآلي'!$E:$E, "✔ " & "9062*")) -> 0 | F7: =IF(A7="", "", SUMIFS('إدخال المبالغ والتوزيع الآلي'!$F:$F, 'إدخال المبالغ والتوزيع الآلي'!$A:$A, A7, 'إدخال المبالغ والتوزيع الآلي'!$E:$E, "✔ " & "9063*")) -> 0 | G7: =IF(A7="", "", SUMIFS('إدخال المبالغ والتوزيع الآلي'!$F:$F, 'إدخال المبالغ والتوزيع الآلي'!$A:$A, A7, 'إدخال المبالغ والتوزيع الآلي'!$E:$E, "✔ " & "9069*")) -> 0
A8: 605 | B8: لوازم صيانة المباني والمنقولات والعتاد | C8: =IF(A8="", "", SUMIFS('إدخال المبالغ والتوزيع الآلي'!$F:$F, 'إدخال المبالغ والتوزيع الآلي'!$A:$A, A8, 'إدخال المبالغ والتوزيع الآلي'!$E:$E, "✔ " & "9060*")) -> 0 | D8: =IF(A8="", "", SUMIFS('إدخال المبالغ والتوزيع الآلي'!$F:$F, 'إدخال المبالغ والتوزيع الآلي'!$A:$A, A8, 'إدخال المبالغ والتوزيع الآلي'!$E:$E, "✔ " & "9061*")) -> 0 | E8: =IF(A8="", "", SUMIFS('إدخال المبالغ والتوزيع الآلي'!$F:$F, 'إدخال المبالغ والتوزيع الآلي'!$A:$A, A8, 'إدخال المبالغ والتوزيع الآلي'!$E:$E, "✔ " & "9062*")) -> 0 | F8: =IF(A8="", "", SUMIFS('إدخال المبالغ والتوزيع الآلي'!$F:$F, 'إدخال المبالغ والتوزيع الآلي'!$A:$A, A8, 'إدخال المبالغ والتوزيع الآلي'!$E:$E, "✔ " & "9063*")) -> 0 | G8: =IF(A8="", "", SUMIFS('إدخال المبالغ والتوزيع الآلي'!$F:$F, 'إدخال المبالغ والتوزيع الآلي'!$A:$A, A8, 'إدخال المبالغ والتوزيع الآلي'!$E:$E, "✔ " & "9069*")) -> 0
A9: 606 | B9: لوازم ومعدات الطرق والإنارة العمومية | C9: =IF(A9="", "", SUMIFS('إدخال المبالغ والتوزيع الآلي'!$F:$F, 'إدخال المبالغ والتوزيع الآلي'!$A:$A, A9, 'إدخال المبالغ والتوزيع الآلي'!$E:$E, "✔ " & "9060*")) -> 0 | D9: =IF(A9="", "", SUMIFS('إدخال المبالغ والتوزيع الآلي'!$F:$F, 'إدخال المبالغ والتوزيع الآلي'!$A:$A, A9, 'إدخال المبالغ والتوزيع الآلي'!$E:$E, "✔ " & "9061*")) -> 0 | E9: =IF(A9="", "", SUMIFS('إدخال المبالغ والتوزيع الآلي'!$F:$F, 'إدخال المبالغ والتوزيع الآلي'!$A:$A, A9, 'إدخال المبالغ والتوزيع الآلي'!$E:$E, "✔ " & "9062*")) -> 0 | F9: =IF(A9="", "", SUMIFS('إدخال المبالغ والتوزيع الآلي'!$F:$F, 'إدخال المبالغ والتوزيع الآلي'!$A:$A, A9, 'إدخال المبالغ والتوزيع الآلي'!$E:$E, "✔ " & "9063*")) -> 0 | G9: =IF(A9="", "", SUMIFS('إدخال المبالغ والتوزيع الآلي'!$F:$F, 'إدخال المبالغ والتوزيع الآلي'!$A:$A, A9, 'إدخال المبالغ والتوزيع الآلي'!$E:$E, "✔ " & "9069*")) -> 0
A10: 609 | B10: اللوازم الأخرى | C10: =IF(A10="", "", SUMIFS('إدخال المبالغ والتوزيع الآلي'!$F:$F, 'إدخال المبالغ والتوزيع الآلي'!$A:$A, A10, 'إدخال المبالغ والتوزيع الآلي'!$E:$E, "✔ " & "9060*")) -> 0 | D10: =IF(A10="", "", SUMIFS('إدخال المبالغ والتوزيع الآلي'!$F:$F, 'إدخال المبالغ والتوزيع الآلي'!$A:$A, A10, 'إدخال المبالغ والتوزيع الآلي'!$E:$E, "✔ " & "9061*")) -> 0 | E10: =IF(A10="", "", SUMIFS('إدخال المبالغ والتوزيع الآلي'!$F:$F, 'إدخال المبالغ والتوزيع الآلي'!$A:$A, A10, 'إدخال المبالغ والتوزيع الآلي'!$E:$E, "✔ " & "9062*")) -> 0 | F10: =IF(A10="", "", SUMIFS('إدخال المبالغ والتوزيع الآلي'!$F:$F, 'إدخال المبالغ والتوزيع الآلي'!$A:$A, A10, 'إدخال المبالغ والتوزيع الآلي'!$E:$E, "✔ " & "9063*")) -> 0 | G10: =IF(A10="", "", SUMIFS('إدخال المبالغ والتوزيع الآلي'!$F:$F, 'إدخال المبالغ والتوزيع الآلي'!$A:$A, A10, 'إدخال المبالغ والتوزيع الآلي'!$E:$E, "✔ " & "9069*")) -> 0
A11: 610 | B11: الإيجار وتكاليف الكراء | C11: =IF(A11="", "", SUMIFS('إدخال المبالغ والتوزيع الآلي'!$F:$F, 'إدخال المبالغ والتوزيع الآلي'!$A:$A, A11, 'إدخال المبالغ والتوزيع الآلي'!$E:$E, "✔ " & "9060*")) -> 0 | D11: =IF(A11="", "", SUMIFS('إدخال المبالغ والتوزيع الآلي'!$F:$F, 'إدخال المبالغ والتوزيع الآلي'!$A:$A, A11, 'إدخال المبالغ والتوزيع الآلي'!$E:$E, "✔ " & "9061*")) -> 0 | E11: =IF(A11="", "", SUMIFS('إدخال المبالغ والتوزيع الآلي'!$F:$F, 'إدخال المبالغ والتوزيع الآلي'!$A:$A, A11, 'إدخال المبالغ والتوزيع الآلي'!$E:$E, "✔ " & "9062*")) -> 0 | F11: =IF(A11="", "", SUMIFS('إدخال المبالغ والتوزيع الآلي'!$F:$F, 'إدخال المبالغ والتوزيع الآلي'!$A:$A, A11, 'إدخال المبالغ والتوزيع الآلي'!$E:$E, "✔ " & "9063*")) -> 0 | G11: =IF(A11="", "", SUMIFS('إدخال المبالغ والتوزيع الآلي'!$F:$F, 'إدخال المبالغ والتوزيع الآلي'!$A:$A, A11, 'إدخال المبالغ والتوزيع الآلي'!$E:$E, "✔ " & "9069*")) -> 0
A12: 611 | B12: الصيانة والترميم | C12: =IF(A12="", "", SUMIFS('إدخال المبالغ والتوزيع الآلي'!$F:$F, 'إدخال المبالغ والتوزيع الآلي'!$A:$A, A12, 'إدخال المبالغ والتوزيع الآلي'!$E:$E, "✔ " & "9060*")) -> 0 | D12: =IF(A12="", "", SUMIFS('إدخال المبالغ والتوزيع الآلي'!$F:$F, 'إدخال المبالغ والتوزيع الآلي'!$A:$A, A12, 'إدخال المبالغ والتوزيع الآلي'!$E:$E, "✔ " & "9061*")) -> 0 | E12: =IF(A12="", "", SUMIFS('إدخال المبالغ والتوزيع الآلي'!$F:$F, 'إدخال المبالغ والتوزيع الآلي'!$A:$A, A12, 'إدخال المبالغ والتوزيع الآلي'!$E:$E, "✔ " & "9062*")) -> 0 | F12: =IF(A12="", "", SUMIFS('إدخال المبالغ والتوزيع الآلي'!$F:$F, 'إدخال المبالغ والتوزيع الآلي'!$A:$A, A12, 'إدخال المبالغ والتوزيع الآلي'!$E:$E, "✔ " & "9063*")) -> 0 | G12: =IF(A12="", "", SUMIFS('إدخال المبالغ والتوزيع الآلي'!$F:$F, 'إدخال المبالغ والتوزيع الآلي'!$A:$A, A12, 'إدخال المبالغ والتوزيع الآلي'!$E:$E, "✔ " & "9069*")) -> 0
A13: 612 | B13: اقتناء العتاد والأدوات الصغيرة | C13: =IF(A13="", "", SUMIFS('إدخال المبالغ والتوزيع الآلي'!$F:$F, 'إدخال المبالغ والتوزيع الآلي'!$A:$A, A13, 'إدخال المبالغ والتوزيع الآلي'!$E:$E, "✔ " & "9060*")) -> 0 | D13: =IF(A13="", "", SUMIFS('إدخال المبالغ والتوزيع الآلي'!$F:$F, 'إدخال المبالغ والتوزيع الآلي'!$A:$A, A13, 'إدخال المبالغ والتوزيع الآلي'!$E:$E, "✔ " & "9061*")) -> 0 | E13: =IF(A13="", "", SUMIFS('إدخال المبالغ والتوزيع الآلي'!$F:$F, 'إدخال المبالغ والتوزيع الآلي'!$A:$A, A13, 'إدخال المبالغ والتوزيع الآلي'!$E:$E, "✔ " & "9062*")) -> 0 | F13: =IF(A13="", "", SUMIFS('إدخال المبالغ والتوزيع الآلي'!$F:$F, 'إدخال المبالغ والتوزيع الآلي'!$A:$A, A13, 'إدخال المبالغ والتوزيع الآلي'!$E:$E, "✔ " & "9063*")) -> 0 | G13: =IF(A13="", "", SUMIFS('إدخال المبالغ والتوزيع الآلي'!$F:$F, 'إدخال المبالغ والتوزيع الآلي'!$A:$A, A13, 'إدخال المبالغ والتوزيع الآلي'!$E:$E, "✔ " & "9069*")) -> 0
A14: 622 | B14: مصاريف النقل | C14: =IF(A14="", "", SUMIFS('إدخال المبالغ والتوزيع الآلي'!$F:$F, 'إدخال المبالغ والتوزيع الآلي'!$A:$A, A14, 'إدخال المبالغ والتوزيع الآلي'!$E:$E, "✔ " & "9060*")) -> 0 | D14: =IF(A14="", "", SUMIFS('إدخال المبالغ والتوزيع الآلي'!$F:$F, 'إدخال المبالغ والتوزيع الآلي'!$A:$A, A14, 'إدخال المبالغ والتوزيع الآلي'!$E:$E, "✔ " & "9061*")) -> 0 | E14: =IF(A14="", "", SUMIFS('إدخال المبالغ والتوزيع الآلي'!$F:$F, 'إدخال المبالغ والتوزيع الآلي'!$A:$A, A14, 'إدخال المبالغ والتوزيع الآلي'!$E:$E, "✔ " & "9062*")) -> 0 | F14: =IF(A14="", "", SUMIFS('إدخال المبالغ والتوزيع الآلي'!$F:$F, 'إدخال المبالغ والتوزيع الآلي'!$A:$A, A14, 'إدخال المبالغ والتوزيع الآلي'!$E:$E, "✔ " & "9063*")) -> 0 | G14: =IF(A14="", "", SUMIFS('إدخال المبالغ والتوزيع الآلي'!$F:$F, 'إدخال المبالغ والتوزيع الآلي'!$A:$A, A14, 'إدخال المبالغ والتوزيع الآلي'!$E:$E, "✔ " & "9069*")) -> 0
A15: 623 | B15: تأمين المسؤولية المدنية | C15: =IF(A15="", "", SUMIFS('إدخال المبالغ والتوزيع الآلي'!$F:$F, 'إدخال المبالغ والتوزيع الآلي'!$A:$A, A15, 'إدخال المبالغ والتوزيع الآلي'!$E:$E, "✔ " & "9060*")) -> 0 | D15: =IF(A15="", "", SUMIFS('إدخال المبالغ والتوزيع الآلي'!$F:$F, 'إدخال المبالغ والتوزيع الآلي'!$A:$A, A15, 'إدخال المبالغ والتوزيع الآلي'!$E:$E, "✔ " & "9061*")) -> 0 | E15: =IF(A15="", "", SUMIFS('إدخال المبالغ والتوزيع الآلي'!$F:$F, 'إدخال المبالغ والتوزيع الآلي'!$A:$A, A15, 'إدخال المبالغ والتوزيع الآلي'!$E:$E, "✔ " & "9062*")) -> 0 | F15: =IF(A15="", "", SUMIFS('إدخال المبالغ والتوزيع الآلي'!$F:$F, 'إدخال المبالغ والتوزيع الآلي'!$A:$A, A15, 'إدخال المبالغ والتوزيع الآلي'!$E:$E, "✔ " & "9063*")) -> 0 | G15: =IF(A15="", "", SUMIFS('إدخال المبالغ والتوزيع الآلي'!$F:$F, 'إدخال المبالغ والتوزيع الآلي'!$A:$A, A15, 'إدخال المبالغ والتوزيع الآلي'!$E:$E, "✔ " & "9069*")) -> 0
A16: 632 | B16: رواتب مختلفة | C16: =IF(A16="", "", SUMIFS('إدخال المبالغ والتوزيع الآلي'!$F:$F, 'إدخال المبالغ والتوزيع الآلي'!$A:$A, A16, 'إدخال المبالغ والتوزيع الآلي'!$E:$E, "✔ " & "9060*")) -> 0 | D16: =IF(A16="", "", SUMIFS('إدخال المبالغ والتوزيع الآلي'!$F:$F, 'إدخال المبالغ والتوزيع الآلي'!$A:$A, A16, 'إدخال المبالغ والتوزيع الآلي'!$E:$E, "✔ " & "9061*")) -> 0 | E16: =IF(A16="", "", SUMIFS('إدخال المبالغ والتوزيع الآلي'!$F:$F, 'إدخال المبالغ والتوزيع الآلي'!$A:$A, A16, 'إدخال المبالغ والتوزيع الآلي'!$E:$E, "✔ " & "9062*")) -> 0 | F16: =IF(A16="", "", SUMIFS('إدخال المبالغ والتوزيع الآلي'!$F:$F, 'إدخال المبالغ والتوزيع الآلي'!$A:$A, A16, 'إدخال المبالغ والتوزيع الآلي'!$E:$E, "✔ " & "9063*")) -> 0 | G16: =IF(A16="", "", SUMIFS('إدخال المبالغ والتوزيع الآلي'!$F:$F, 'إدخال المبالغ والتوزيع الآلي'!$A:$A, A16, 'إدخال المبالغ والتوزيع الآلي'!$E:$E, "✔ " & "9069*")) -> 0
A17: 633 | B17: الأعباء الاجتماعية | C17: =IF(A17="", "", SUMIFS('إدخال المبالغ والتوزيع الآلي'!$F:$F, 'إدخال المبالغ والتوزيع الآلي'!$A:$A, A17, 'إدخال المبالغ والتوزيع الآلي'!$E:$E, "✔ " & "9060*")) -> 0 | D17: =IF(A17="", "", SUMIFS('إدخال المبالغ والتوزيع الآلي'!$F:$F, 'إدخال المبالغ والتوزيع الآلي'!$A:$A, A17, 'إدخال المبالغ والتوزيع الآلي'!$E:$E, "✔ " & "9061*")) -> 0 | E17: =IF(A17="", "", SUMIFS('إدخال المبالغ والتوزيع الآلي'!$F:$F, 'إدخال المبالغ والتوزيع الآلي'!$A:$A, A17, 'إدخال المبالغ والتوزيع الآلي'!$E:$E, "✔ " & "9062*")) -> 0 | F17: =IF(A17="", "", SUMIFS('إدخال المبالغ والتوزيع الآلي'!$F:$F, 'إدخال المبالغ والتوزيع الآلي'!$A:$A, A17, 'إدخال المبالغ والتوزيع الآلي'!$E:$E, "✔ " & "9063*")) -> 0 | G17: =IF(A17="", "", SUMIFS('إدخال المبالغ والتوزيع الآلي'!$F:$F, 'إدخال المبالغ والتوزيع الآلي'!$A:$A, A17, 'إدخال المبالغ والتوزيع الآلي'!$E:$E, "✔ " & "9069*")) -> 0
... A21: 820 | B21: العجز المرحل | C21: =IF(A21="", "", SUMIFS('إدخال المبالغ والتوزيع الآلي'!$F:$F, 'إدخال المبالغ والتوزيع الآلي'!$A:$A, A21, 'إدخال المبالغ والتوزيع الآلي'!$E:$E, "✔ " & "9060*")) -> 0 | D21: =IF(A21="", "", SUMIFS('إدخال المبالغ والتوزيع الآلي'!$F:$F, 'إدخال المبالغ والتوزيع الآلي'!$A:$A, A21, 'إدخال المبالغ والتوزيع الآلي'!$E:$E, "✔ " & "9061*")) -> 0 | E21: =IF(A21="", "", SUMIFS('إدخال المبالغ والتوزيع الآلي'!$F:$F, 'إدخال المبالغ والتوزيع الآلي'!$A:$A, A21, 'إدخال المبالغ والتوزيع الآلي'!$E:$E, "✔ " & "9062*")) -> 0 | F21: =IF(A21="", "", SUMIFS('إدخال المبالغ والتوزيع الآلي'!$F:$F, 'إدخال المبالغ والتوزيع الآلي'!$A:$A, A21, 'إدخال المبالغ والتوزيع الآلي'!$E:$E, "✔ " & "9063*")) -> 0 | G21: =IF(A21="", "", SUMIFS('إدخال المبالغ والتوزيع الآلي'!$F:$F, 'إدخال المبالغ والتوزيع الآلي'!$A:$A, A21, 'إدخال المبالغ والتوزيع الآلي'!$E:$E, "✔ " & "9069*")) -> 0
A22: مواد حسابات الإيرادات
A23: 730 | B23: أشغال التجهيز المنجزة بالاستغلال المباشر | C23: =IF(A23="", "", SUMIFS('إدخال المبالغ والتوزيع الآلي'!$F:$F, 'إدخال المبالغ والتوزيع الآلي'!$A:$A, A23, 'إدخال المبالغ والتوزيع الآلي'!$E:$E, "✔ " & "9060*")) -> 0 | D23: =IF(A23="", "", SUMIFS('إدخال المبالغ والتوزيع الآلي'!$F:$F, 'إدخال المبالغ والتوزيع الآلي'!$A:$A, A23, 'إدخال المبالغ والتوزيع الآلي'!$E:$E, "✔ " & "9061*")) -> 0 | E23: =IF(A23="", "", SUMIFS('إدخال المبالغ والتوزيع الآلي'!$F:$F, 'إدخال المبالغ والتوزيع الآلي'!$A:$A, A23, 'إدخال المبالغ والتوزيع الآلي'!$E:$E, "✔ " & "9062*")) -> 0 | F23: =IF(A23="", "", SUMIFS('إدخال المبالغ والتوزيع الآلي'!$F:$F, 'إدخال المبالغ والتوزيع الآلي'!$A:$A, A23, 'إدخال المبالغ والتوزيع الآلي'!$E:$E, "✔ " & "9063*")) -> 0 | G23: =IF(A23="", "", SUMIFS('إدخال المبالغ والتوزيع الآلي'!$F:$F, 'إدخال المبالغ والتوزيع الآلي'!$A:$A, A23, 'إدخال المبالغ والتوزيع الآلي'!$E:$E, "✔ " & "9069*")) -> 0
A24: 820 | B24: الفائض المرحل | C24: =IF(A24="", "", SUMIFS('إدخال المبالغ والتوزيع الآلي'!$F:$F, 'إدخال المبالغ والتوزيع الآلي'!$A:$A, A24, 'إدخال المبالغ والتوزيع الآلي'!$E:$E, "✔ " & "9060*")) -> 0 | D24: =IF(A24="", "", SUMIFS('إدخال المبالغ والتوزيع الآلي'!$F:$F, 'إدخال المبالغ والتوزيع الآلي'!$A:$A, A24, 'إدخال المبالغ والتوزيع الآلي'!$E:$E, "✔ " & "9061*")) -> 0 | E24: =IF(A24="", "", SUMIFS('إدخال المبالغ والتوزيع الآلي'!$F:$F, 'إدخال المبالغ والتوزيع الآلي'!$A:$A, A24, 'إدخال المبالغ والتوزيع الآلي'!$E:$E, "✔ " & "9062*")) -> 0 | F24: =IF(A24="", "", SUMIFS('إدخال المبالغ والتوزيع الآلي'!$F:$F, 'إدخال المبالغ والتوزيع الآلي'!$A:$A, A24, 'إدخال المبالغ والتوزيع الآلي'!$E:$E, "✔ " & "9063*")) -> 0 | G24: =IF(A24="", "", SUMIFS('إدخال المبالغ والتوزيع الآلي'!$F:$F, 'إدخال المبالغ والتوزيع الآلي'!$A:$A, A24, 'إدخال المبالغ والتوزيع الآلي'!$E:$E, "✔ " & "9069*")) -> 0

Sheet الباب 907
A1: الباب 907 - النظافة والوقاية وحفظ الصحة العمومية - تصنيف عمليات النفقات والإيرادات حسب الأبواب الفرعية
A3: المواد | B3: التبيان | C3: الباب 907 - النظافة والوقاية وحفظ الصحة العمومية
C4: 9070 التطهير وإبادة الحشرات والحيوانات المؤذية والضارة | D4: 9071 مكتب الصحة البلدي | E4: 9072 التنظيف ورفع القمامات المنزلية والنفايات الصلبة ومعالجتها | F4: 9079 مصالح النظافة وحفظ الصحة الأخرى
A5: مواد حسابات النفقات
A6: 600 | B6: المنتجات الصيدلانية | C6: =IF(A6="", "", SUMIFS('إدخال المبالغ والتوزيع الآلي'!$F:$F, 'إدخال المبالغ والتوزيع الآلي'!$A:$A, A6, 'إدخال المبالغ والتوزيع الآلي'!$E:$E, "✔ " & "9070*")) -> 0 | D6: =IF(A6="", "", SUMIFS('إدخال المبالغ والتوزيع الآلي'!$F:$F, 'إدخال المبالغ والتوزيع الآلي'!$A:$A, A6, 'إدخال المبالغ والتوزيع الآلي'!$E:$E, "✔ " & "9071*")) -> 0 | E6: =IF(A6="", "", SUMIFS('إدخال المبالغ والتوزيع الآلي'!$F:$F, 'إدخال المبالغ والتوزيع الآلي'!$A:$A, A6, 'إدخال المبالغ والتوزيع الآلي'!$E:$E, "✔ " & "9072*")) -> 0 | F6: =IF(A6="", "", SUMIFS('إدخال المبالغ والتوزيع الآلي'!$F:$F, 'إدخال المبالغ والتوزيع الآلي'!$A:$A, A6, 'إدخال المبالغ والتوزيع الآلي'!$E:$E, "✔ " & "9079*")) -> 0
A7: 601 | B7: التغذية والإطعام | C7: =IF(A7="", "", SUMIFS('إدخال المبالغ والتوزيع الآلي'!$F:$F, 'إدخال المبالغ والتوزيع الآلي'!$A:$A, A7, 'إدخال المبالغ والتوزيع الآلي'!$E:$E, "✔ " & "9070*")) -> 0 | D7: =IF(A7="", "", SUMIFS('إدخال المبالغ والتوزيع الآلي'!$F:$F, 'إدخال المبالغ والتوزيع الآلي'!$A:$A, A7, 'إدخال المبالغ والتوزيع الآلي'!$E:$E, "✔ " & "9071*")) -> 0 | E7: =IF(A7="", "", SUMIFS('إدخال المبالغ والتوزيع الآلي'!$F:$F, 'إدخال المبالغ والتوزيع الآلي'!$A:$A, A7, 'إدخال المبالغ والتوزيع الآلي'!$E:$E, "✔ " & "9072*")) -> 0 | F7: =IF(A7="", "", SUMIFS('إدخال المبالغ والتوزيع الآلي'!$F:$F, 'إدخال المبالغ والتوزيع الآلي'!$A:$A, A7, 'إدخال المبالغ والتوزيع الآلي'!$E:$E, "✔ " & "9079*")) -> 0
A8: 6010 | B8: الإطعام | C8: =IF(A8="", "", SUMIFS('إدخال المبالغ والتوزيع الآلي'!$F:$F, 'إدخال المبالغ والتوزيع الآلي'!$A:$A, A8, 'إدخال المبالغ والتوزيع الآلي'!$E:$E, "✔ " & "9070*")) -> 0 | D8: =IF(A8="", "", SUMIFS('إدخال المبالغ والتوزيع الآلي'!$F:$F, 'إدخال المبالغ والتوزيع الآلي'!$A:$A, A8, 'إدخال المبالغ والتوزيع الآلي'!$E:$E, "✔ " & "9071*")) -> 0 | E8: =IF(A8="", "", SUMIFS('إدخال المبالغ والتوزيع الآلي'!$F:$F, 'إدخال المبالغ والتوزيع الآلي'!$A:$A, A8, 'إدخال المبالغ والتوزيع الآلي'!$E:$E, "✔ " & "9072*")) -> 0 | F8: =IF(A8="", "", SUMIFS('إدخال المبالغ والتوزيع الآلي'!$F:$F, 'إدخال المبالغ والتوزيع الآلي'!$A:$A, A8, 'إدخال المبالغ والتوزيع الآلي'!$E:$E, "✔ " & "9079*")) -> 0
A9: 602 | B9: الملابس | C9: =IF(A9="", "", SUMIFS('إدخال المبالغ والتوزيع الآلي'!$F:$F, 'إدخال المبالغ والتوزيع الآلي'!$A:$A, A9, 'إدخال المبالغ والتوزيع الآلي'!$E:$E, "✔ " & "9070*")) -> 0 | D9: =IF(A9="", "", SUMIFS('إدخال المبالغ والتوزيع الآلي'!$F:$F, 'إدخال المبالغ والتوزيع الآلي'!$A:$A, A9, 'إدخال المبالغ والتوزيع الآلي'!$E:$E, "✔ " & "9071*")) -> 0 | E9: =IF(A9="", "", SUMIFS('إدخال المبالغ والتوزيع الآلي'!$F:$F, 'إدخال المبالغ والتوزيع الآلي'!$A:$A, A9, 'إدخال المبالغ والتوزيع الآلي'!$E:$E, "✔ " & "9072*")) -> 0 | F9: =IF(A9="", "", SUMIFS('إدخال المبالغ والتوزيع الآلي'!$F:$F, 'إدخال المبالغ والتوزيع الآلي'!$A:$A, A9, 'إدخال المبالغ والتوزيع الآلي'!$E:$E, "✔ " & "9079*")) -> 0
A10: 603 | B10: الوقود | C10: =IF(A10="", "", SUMIFS('إدخال المبالغ والتوزيع الآلي'!$F:$F, 'إدخال المبالغ والتوزيع الآلي'!$A:$A, A10, 'إدخال المبالغ والتوزيع الآلي'!$E:$E, "✔ " & "9070*")) -> 0 | D10: =IF(A10="", "", SUMIFS('إدخال المبالغ والتوزيع الآلي'!$F:$F, 'إدخال المبالغ والتوزيع الآلي'!$A:$A, A10, 'إدخال المبالغ والتوزيع الآلي'!$E:$E, "✔ " & "9071*")) -> 0 | E10: =IF(A10="", "", SUMIFS('إدخال المبالغ والتوزيع الآلي'!$F:$F, 'إدخال المبالغ والتوزيع الآلي'!$A:$A, A10, 'إدخال المبالغ والتوزيع الآلي'!$E:$E, "✔ " & "9072*")) -> 0 | F10: =IF(A10="", "", SUMIFS('إدخال المبالغ والتوزيع الآلي'!$F:$F, 'إدخال المبالغ والتوزيع الآلي'!$A:$A, A10, 'إدخال المبالغ والتوزيع الآلي'!$E:$E, "✔ " & "9079*")) -> 0
A11: 604 | B11: المحروقات | C11: =IF(A11="", "", SUMIFS('إدخال المبالغ والتوزيع الآلي'!$F:$F, 'إدخال المبالغ والتوزيع الآلي'!$A:$A, A11, 'إدخال المبالغ والتوزيع الآلي'!$E:$E, "✔ " & "9070*")) -> 0 | D11: =IF(A11="", "", SUMIFS('إدخال المبالغ والتوزيع الآلي'!$F:$F, 'إدخال المبالغ والتوزيع الآلي'!$A:$A, A11, 'إدخال المبالغ والتوزيع الآلي'!$E:$E, "✔ " & "9071*")) -> 0 | E11: =IF(A11="", "", SUMIFS('إدخال المبالغ والتوزيع الآلي'!$F:$F, 'إدخال المبالغ والتوزيع الآلي'!$A:$A, A11, 'إدخال المبالغ والتوزيع الآلي'!$E:$E, "✔ " & "9072*")) -> 0 | F11: =IF(A11="", "", SUMIFS('إدخال المبالغ والتوزيع الآلي'!$F:$F, 'إدخال المبالغ والتوزيع الآلي'!$A:$A, A11, 'إدخال المبالغ والتوزيع الآلي'!$E:$E, "✔ " & "9079*")) -> 0
A12: 608 | B12: لوازم المكتب والإعلام الآلي والطبع والتجليد | C12: =IF(A12="", "", SUMIFS('إدخال المبالغ والتوزيع الآلي'!$F:$F, 'إدخال المبالغ والتوزيع الآلي'!$A:$A, A12, 'إدخال المبالغ والتوزيع الآلي'!$E:$E, "✔ " & "9070*")) -> 0 | D12: =IF(A12="", "", SUMIFS('إدخال المبالغ والتوزيع الآلي'!$F:$F, 'إدخال المبالغ والتوزيع الآلي'!$A:$A, A12, 'إدخال المبالغ والتوزيع الآلي'!$E:$E, "✔ " & "9071*")) -> 0 | E12: =IF(A12="", "", SUMIFS('إدخال المبالغ والتوزيع الآلي'!$F:$F, 'إدخال المبالغ والتوزيع الآلي'!$A:$A, A12, 'إدخال المبالغ والتوزيع الآلي'!$E:$E, "✔ " & "9072*")) -> 0 | F12: =IF(A12="", "", SUMIFS('إدخال المبالغ والتوزيع الآلي'!$F:$F, 'إدخال المبالغ والتوزيع الآلي'!$A:$A, A12, 'إدخال المبالغ والتوزيع الآلي'!$E:$E, "✔ " & "9079*")) -> 0
A13: 6080 | B13: لوازم المكتب والإعلام الآلي | C13: =IF(A13="", "", SUMIFS('إدخال المبالغ والتوزيع الآلي'!$F:$F, 'إدخال المبالغ والتوزيع الآلي'!$A:$A, A13, 'إدخال المبالغ والتوزيع الآلي'!$E:$E, "✔ " & "9070*")) -> 0 | D13: =IF(A13="", "", SUMIFS('إدخال المبالغ والتوزيع الآلي'!$F:$F, 'إدخال المبالغ والتوزيع الآلي'!$A:$A, A13, 'إدخال المبالغ والتوزيع الآلي'!$E:$E, "✔ " & "9071*")) -> 0 | E13: =IF(A13="", "", SUMIFS('إدخال المبالغ والتوزيع الآلي'!$F:$F, 'إدخال المبالغ والتوزيع الآلي'!$A:$A, A13, 'إدخال المبالغ والتوزيع الآلي'!$E:$E, "✔ " & "9072*")) -> 0 | F13: =IF(A13="", "", SUMIFS('إدخال المبالغ والتوزيع الآلي'!$F:$F, 'إدخال المبالغ والتوزيع الآلي'!$A:$A, A13, 'إدخال المبالغ والتوزيع الآلي'!$E:$E, "✔ " & "9079*")) -> 0
A14: 6082 | B14: الطبع والتجليد | C14: =IF(A14="", "", SUMIFS('إدخال المبالغ والتوزيع الآلي'!$F:$F, 'إدخال المبالغ والتوزيع الآلي'!$A:$A, A14, 'إدخال المبالغ والتوزيع الآلي'!$E:$E, "✔ " & "9070*")) -> 0 | D14: =IF(A14="", "", SUMIFS('إدخال المبالغ والتوزيع الآلي'!$F:$F, 'إدخال المبالغ والتوزيع الآلي'!$A:$A, A14, 'إدخال المبالغ والتوزيع الآلي'!$E:$E, "✔ " & "9071*")) -> 0 | E14: =IF(A14="", "", SUMIFS('إدخال المبالغ والتوزيع الآلي'!$F:$F, 'إدخال المبالغ والتوزيع الآلي'!$A:$A, A14, 'إدخال المبالغ والتوزيع الآلي'!$E:$E, "✔ " & "9072*")) -> 0 | F14: =IF(A14="", "", SUMIFS('إدخال المبالغ والتوزيع الآلي'!$F:$F, 'إدخال المبالغ والتوزيع الآلي'!$A:$A, A14, 'إدخال المبالغ والتوزيع الآلي'!$E:$E, "✔ " & "9079*")) -> 0
A15: 609 | B15: اللوازم الأخرى | C15: =IF(A15="", "", SUMIFS('إدخال المبالغ والتوزيع الآلي'!$F:$F, 'إدخال المبالغ والتوزيع الآلي'!$A:$A, A15, 'إدخال المبالغ والتوزيع الآلي'!$E:$E, "✔ " & "9070*")) -> 0 | D15: =IF(A15="", "", SUMIFS('إدخال المبالغ والتوزيع الآلي'!$F:$F, 'إدخال المبالغ والتوزيع الآلي'!$A:$A, A15, 'إدخال المبالغ والتوزيع الآلي'!$E:$E, "✔ " & "9071*")) -> 0 | E15: =IF(A15="", "", SUMIFS('إدخال المبالغ والتوزيع الآلي'!$F:$F, 'إدخال المبالغ والتوزيع الآلي'!$A:$A, A15, 'إدخال المبالغ والتوزيع الآلي'!$E:$E, "✔ " & "9072*")) -> 0 | F15: =IF(A15="", "", SUMIFS('إدخال المبالغ والتوزيع الآلي'!$F:$F, 'إدخال المبالغ والتوزيع الآلي'!$A:$A, A15, 'إدخال المبالغ والتوزيع الآلي'!$E:$E, "✔ " & "9079*")) -> 0
A16: 610 | B16: الإيجار وتكاليف الكراء | C16: =IF(A16="", "", SUMIFS('إدخال المبالغ والتوزيع الآلي'!$F:$F, 'إدخال المبالغ والتوزيع الآلي'!$A:$A, A16, 'إدخال المبالغ والتوزيع الآلي'!$E:$E, "✔ " & "9070*")) -> 0 | D16: =IF(A16="", "", SUMIFS('إدخال المبالغ والتوزيع الآلي'!$F:$F, 'إدخال المبالغ والتوزيع الآلي'!$A:$A, A16, 'إدخال المبالغ والتوزيع الآلي'!$E:$E, "✔ " & "9071*")) -> 0 | E16: =IF(A16="", "", SUMIFS('إدخال المبالغ والتوزيع الآلي'!$F:$F, 'إدخال المبالغ والتوزيع الآلي'!$A:$A, A16, 'إدخال المبالغ والتوزيع الآلي'!$E:$E, "✔ " & "9072*")) -> 0 | F16: =IF(A16="", "", SUMIFS('إدخال المبالغ والتوزيع الآلي'!$F:$F, 'إدخال المبالغ والتوزيع الآلي'!$A:$A, A16, 'إدخال المبالغ والتوزيع الآلي'!$E:$E, "✔ " & "9079*")) -> 0
A17: 611 | B17: الصيانة والترميم | C17: =IF(A17="", "", SUMIFS('إدخال المبالغ والتوزيع الآلي'!$F:$F, 'إدخال المبالغ والتوزيع الآلي'!$A:$A, A17, 'إدخال المبالغ والتوزيع الآلي'!$E:$E, "✔ " & "9070*")) -> 0 | D17: =IF(A17="", "", SUMIFS('إدخال المبالغ والتوزيع الآلي'!$F:$F, 'إدخال المبالغ والتوزيع الآلي'!$A:$A, A17, 'إدخال المبالغ والتوزيع الآلي'!$E:$E, "✔ " & "9071*")) -> 0 | E17: =IF(A17="", "", SUMIFS('إدخال المبالغ والتوزيع الآلي'!$F:$F, 'إدخال المبالغ والتوزيع الآلي'!$A:$A, A17, 'إدخال المبالغ والتوزيع الآلي'!$E:$E, "✔ " & "9072*")) -> 0 | F17: =IF(A17="", "", SUMIFS('إدخال المبالغ والتوزيع الآلي'!$F:$F, 'إدخال المبالغ والتوزيع الآلي'!$A:$A, A17, 'إدخال المبالغ والتوزيع الآلي'!$E:$E, "✔ " & "9079*")) -> 0
... A25: 826 | B25: أعباء السنوات المالية السابقة، بواقي الإنجاز | C25: =IF(A25="", "", SUMIFS('إدخال المبالغ والتوزيع الآلي'!$F:$F, 'إدخال المبالغ والتوزيع الآلي'!$A:$A, A25, 'إدخال المبالغ والتوزيع الآلي'!$E:$E, "✔ " & "9070*")) -> 0 | D25: =IF(A25="", "", SUMIFS('إدخال المبالغ والتوزيع الآلي'!$F:$F, 'إدخال المبالغ والتوزيع الآلي'!$A:$A, A25, 'إدخال المبالغ والتوزيع الآلي'!$E:$E, "✔ " & "9071*")) -> 0 | E25: =IF(A25="", "", SUMIFS('إدخال المبالغ والتوزيع الآلي'!$F:$F, 'إدخال المبالغ والتوزيع الآلي'!$A:$A, A25, 'إدخال المبالغ والتوزيع الآلي'!$E:$E, "✔ " & "9072*")) -> 0 | F25: =IF(A25="", "", SUMIFS('إدخال المبالغ والتوزيع الآلي'!$F:$F, 'إدخال المبالغ والتوزيع الآلي'!$A:$A, A25, 'إدخال المبالغ والتوزيع الآلي'!$E:$E, "✔ " & "9079*")) -> 0
A26: مواد حسابات الإيرادات
A27: 700 | B27: مبيعات المنتجات أو الخدمة | C27: =IF(A27="", "", SUMIFS('إدخال المبالغ والتوزيع الآلي'!$F:$F, 'إدخال المبالغ والتوزيع الآلي'!$A:$A, A27, 'إدخال المبالغ والتوزيع الآلي'!$E:$E, "✔ " & "9070*")) -> 0 | D27: =IF(A27="", "", SUMIFS('إدخال المبالغ والتوزيع الآلي'!$F:$F, 'إدخال المبالغ والتوزيع الآلي'!$A:$A, A27, 'إدخال المبالغ والتوزيع الآلي'!$E:$E, "✔ " & "9071*")) -> 0 | E27: =IF(A27="", "", SUMIFS('إدخال المبالغ والتوزيع الآلي'!$F:$F, 'إدخال المبالغ والتوزيع الآلي'!$A:$A, A27, 'إدخال المبالغ والتوزيع الآلي'!$E:$E, "✔ " & "9072*")) -> 0 | F27: =IF(A27="", "", SUMIFS('إدخال المبالغ والتوزيع الآلي'!$F:$F, 'إدخال المبالغ والتوزيع الآلي'!$A:$A, A27, 'إدخال المبالغ والتوزيع الآلي'!$E:$E, "✔ " & "9079*")) -> 0
A28: 723 | B28: إعانات الجماعات المحلية | C28: =IF(A28="", "", SUMIFS('إدخال المبالغ والتوزيع الآلي'!$F:$F, 'إدخال المبالغ والتوزيع الآلي'!$A:$A, A28, 'إدخال المبالغ والتوزيع الآلي'!$E:$E, "✔ " & "9070*")) -> 0 | D28: =IF(A28="", "", SUMIFS('إدخال المبالغ والتوزيع الآلي'!$F:$F, 'إدخال المبالغ والتوزيع الآلي'!$A:$A, A28, 'إدخال المبالغ والتوزيع الآلي'!$E:$E, "✔ " & "9071*")) -> 0 | E28: =IF(A28="", "", SUMIFS('إدخال المبالغ والتوزيع الآلي'!$F:$F, 'إدخال المبالغ والتوزيع الآلي'!$A:$A, A28, 'إدخال المبالغ والتوزيع الآلي'!$E:$E, "✔ " & "9072*")) -> 0 | F28: =IF(A28="", "", SUMIFS('إدخال المبالغ والتوزيع الآلي'!$F:$F, 'إدخال المبالغ والتوزيع الآلي'!$A:$A, A28, 'إدخال المبالغ والتوزيع الآلي'!$E:$E, "✔ " & "9079*")) -> 0
A29: 729 | B29: التحصيلات والإعانات والمساهمات الأخرى | C29: =IF(A29="", "", SUMIFS('إدخال المبالغ والتوزيع الآلي'!$F:$F, 'إدخال المبالغ والتوزيع الآلي'!$A:$A, A29, 'إدخال المبالغ والتوزيع الآلي'!$E:$E, "✔ " & "9070*")) -> 0 | D29: =IF(A29="", "", SUMIFS('إدخال المبالغ والتوزيع الآلي'!$F:$F, 'إدخال المبالغ والتوزيع الآلي'!$A:$A, A29, 'إدخال المبالغ والتوزيع الآلي'!$E:$E, "✔ " & "9071*")) -> 0 | E29: =IF(A29="", "", SUMIFS('إدخال المبالغ والتوزيع الآلي'!$F:$F, 'إدخال المبالغ والتوزيع الآلي'!$A:$A, A29, 'إدخال المبالغ والتوزيع الآلي'!$E:$E, "✔ " & "9072*")) -> 0 | F29: =IF(A29="", "", SUMIFS('إدخال المبالغ والتوزيع الآلي'!$F:$F, 'إدخال المبالغ والتوزيع الآلي'!$A:$A, A29, 'إدخال المبالغ والتوزيع الآلي'!$E:$E, "✔ " & "9079*")) -> 0
A30: 749 | B30: إعانات وتخصيصات أخرى | C30: =IF(A30="", "", SUMIFS('إدخال المبالغ والتوزيع الآلي'!$F:$F, 'إدخال المبالغ والتوزيع الآلي'!$A:$A, A30, 'إدخال المبالغ والتوزيع الآلي'!$E:$E, "✔ " & "9070*")) -> 0 | D30: =IF(A30="", "", SUMIFS('إدخال المبالغ والتوزيع الآلي'!$F:$F, 'إدخال المبالغ والتوزيع الآلي'!$A:$A, A30, 'إدخال المبالغ والتوزيع الآلي'!$E:$E, "✔ " & "9071*")) -> 0 | E30: =IF(A30="", "", SUMIFS('إدخال المبالغ والتوزيع الآلي'!$F:$F, 'إدخال المبالغ والتوزيع الآلي'!$A:$A, A30, 'إدخال المبالغ والتوزيع الآلي'!$E:$E, "✔ " & "9072*")) -> 0 | F30: =IF(A30="", "", SUMIFS('إدخال المبالغ والتوزيع الآلي'!$F:$F, 'إدخال المبالغ والتوزيع الآلي'!$A:$A, A30, 'إدخال المبالغ والتوزيع الآلي'!$E:$E, "✔ " & "9079*")) -> 0
A31: 789 | B31: مخصصات الدولة الأخرى | C31: =IF(A31="", "", SUMIFS('إدخال المبالغ والتوزيع الآلي'!$F:$F, 'إدخال المبالغ والتوزيع الآلي'!$A:$A, A31, 'إدخال المبالغ والتوزيع الآلي'!$E:$E, "✔ " & "9070*")) -> 0 | D31: =IF(A31="", "", SUMIFS('إدخال المبالغ والتوزيع الآلي'!$F:$F, 'إدخال المبالغ والتوزيع الآلي'!$A:$A, A31, 'إدخال المبالغ والتوزيع الآلي'!$E:$E, "✔ " & "9071*")) -> 0 | E31: =IF(A31="", "", SUMIFS('إدخال المبالغ والتوزيع الآلي'!$F:$F, 'إدخال المبالغ والتوزيع الآلي'!$A:$A, A31, 'إدخال المبالغ والتوزيع الآلي'!$E:$E, "✔ " & "9072*")) -> 0 | F31: =IF(A31="", "", SUMIFS('إدخال المبالغ والتوزيع الآلي'!$F:$F, 'إدخال المبالغ والتوزيع الآلي'!$A:$A, A31, 'إدخال المبالغ والتوزيع الآلي'!$E:$E, "✔ " & "9079*")) -> 0
A32: 827 | B32: نواتج السنوات المالية السابقة، بواقي الإنجاز | C32: =IF(A32="", "", SUMIFS('إدخال المبالغ والتوزيع الآلي'!$F:$F, 'إدخال المبالغ والتوزيع الآلي'!$A:$A, A32, 'إدخال المبالغ والتوزيع الآلي'!$E:$E, "✔ " & "9070*")) -> 0 | D32: =IF(A32="", "", SUMIFS('إدخال المبالغ والتوزيع الآلي'!$F:$F, 'إدخال المبالغ والتوزيع الآلي'!$A:$A, A32, 'إدخال المبالغ والتوزيع الآلي'!$E:$E, "✔ " & "9071*")) -> 0 | E32: =IF(A32="", "", SUMIFS('إدخال المبالغ والتوزيع الآلي'!$F:$F, 'إدخال المبالغ والتوزيع الآلي'!$A:$A, A32, 'إدخال المبالغ والتوزيع الآلي'!$E:$E, "✔ " & "9072*")) -> 0 | F32: =IF(A32="", "", SUMIFS('إدخال المبالغ والتوزيع الآلي'!$F:$F, 'إدخال المبالغ والتوزيع الآلي'!$A:$A, A32, 'إدخال المبالغ والتوزيع الآلي'!$E:$E, "✔ " & "9079*")) -> 0

Sheet الباب 910
A1: الباب 910 - المصالح الإدارية العمومية - تصنيف عمليات النفقات والإيرادات حسب الأبواب الفرعية
A3: المواد | B3: التبيان | C3: الباب 910 - المصالح الإدارية العمومية
C4: 9100 الحالة المدنية | D4: 9101 الانتخابات | E4: 9102 الخدمة الوطنية وإحصاء السكان | F4: 9103 الإعلام والاستقبال والاستشارات العمومية ومجموعات القرارات الإدارية | G4: 9104 الأعياد الحفلات المناسبات والزيارات الرسمية | H4: 9105 التعاون ما بين البلديات والتوأمة | I4: 9109 المصالح الإدارية الأخرى
A5: مواد حسابات النفقات
A6: 601 | B6: التغذية والإطعام | C6: =IF(A6="", "", SUMIFS('إدخال المبالغ والتوزيع الآلي'!$F:$F, 'إدخال المبالغ والتوزيع الآلي'!$A:$A, A6, 'إدخال المبالغ والتوزيع الآلي'!$E:$E, "✔ " & "9100*")) -> 0 | D6: =IF(A6="", "", SUMIFS('إدخال المبالغ والتوزيع الآلي'!$F:$F, 'إدخال المبالغ والتوزيع الآلي'!$A:$A, A6, 'إدخال المبالغ والتوزيع الآلي'!$E:$E, "✔ " & "9101*")) -> 0 | E6: =IF(A6="", "", SUMIFS('إدخال المبالغ والتوزيع الآلي'!$F:$F, 'إدخال المبالغ والتوزيع الآلي'!$A:$A, A6, 'إدخال المبالغ والتوزيع الآلي'!$E:$E, "✔ " & "9102*")) -> 0 | F6: =IF(A6="", "", SUMIFS('إدخال المبالغ والتوزيع الآلي'!$F:$F, 'إدخال المبالغ والتوزيع الآلي'!$A:$A, A6, 'إدخال المبالغ والتوزيع الآلي'!$E:$E, "✔ " & "9103*")) -> 0 | G6: =IF(A6="", "", SUMIFS('إدخال المبالغ والتوزيع الآلي'!$F:$F, 'إدخال المبالغ والتوزيع الآلي'!$A:$A, A6, 'إدخال المبالغ والتوزيع الآلي'!$E:$E, "✔ " & "9104*")) -> 0 | H6: =IF(A6="", "", SUMIFS('إدخال المبالغ والتوزيع الآلي'!$F:$F, 'إدخال المبالغ والتوزيع الآلي'!$A:$A, A6, 'إدخال المبالغ والتوزيع الآلي'!$E:$E, "✔ " & "9105*")) -> 0 | I6: =IF(A6="", "", SUMIFS('إدخال المبالغ والتوزيع الآلي'!$F:$F, 'إدخال المبالغ والتوزيع الآلي'!$A:$A, A6, 'إدخال المبالغ والتوزيع الآلي'!$E:$E, "✔ " & "9109*")) -> 0
A7: 6010 | B7: الإطعام | C7: =IF(A7="", "", SUMIFS('إدخال المبالغ والتوزيع الآلي'!$F:$F, 'إدخال المبالغ والتوزيع الآلي'!$A:$A, A7, 'إدخال المبالغ والتوزيع الآلي'!$E:$E, "✔ " & "9100*")) -> 0 | D7: =IF(A7="", "", SUMIFS('إدخال المبالغ والتوزيع الآلي'!$F:$F, 'إدخال المبالغ والتوزيع الآلي'!$A:$A, A7, 'إدخال المبالغ والتوزيع الآلي'!$E:$E, "✔ " & "9101*")) -> 0 | E7: =IF(A7="", "", SUMIFS('إدخال المبالغ والتوزيع الآلي'!$F:$F, 'إدخال المبالغ والتوزيع الآلي'!$A:$A, A7, 'إدخال المبالغ والتوزيع الآلي'!$E:$E, "✔ " & "9102*")) -> 0 | F7: =IF(A7="", "", SUMIFS('إدخال المبالغ والتوزيع الآلي'!$F:$F, 'إدخال المبالغ والتوزيع الآلي'!$A:$A, A7, 'إدخال المبالغ والتوزيع الآلي'!$E:$E, "✔ " & "9103*")) -> 0 | G7: =IF(A7="", "", SUMIFS('إدخال المبالغ والتوزيع الآلي'!$F:$F, 'إدخال المبالغ والتوزيع الآلي'!$A:$A, A7, 'إدخال المبالغ والتوزيع الآلي'!$E:$E, "✔ " & "9104*")) -> 0 | H7: =IF(A7="", "", SUMIFS('إدخال المبالغ والتوزيع الآلي'!$F:$F, 'إدخال المبالغ والتوزيع الآلي'!$A:$A, A7, 'إدخال المبالغ والتوزيع الآلي'!$E:$E, "✔ " & "9105*")) -> 0 | I7: =IF(A7="", "", SUMIFS('إدخال المبالغ والتوزيع الآلي'!$F:$F, 'إدخال المبالغ والتوزيع الآلي'!$A:$A, A7, 'إدخال المبالغ والتوزيع الآلي'!$E:$E, "✔ " & "9109*")) -> 0
A8: 6011 | B8: المواد الغذائية | C8: =IF(A8="", "", SUMIFS('إدخال المبالغ والتوزيع الآلي'!$F:$F, 'إدخال المبالغ والتوزيع الآلي'!$A:$A, A8, 'إدخال المبالغ والتوزيع الآلي'!$E:$E, "✔ " & "9100*")) -> 0 | D8: =IF(A8="", "", SUMIFS('إدخال المبالغ والتوزيع الآلي'!$F:$F, 'إدخال المبالغ والتوزيع الآلي'!$A:$A, A8, 'إدخال المبالغ والتوزيع الآلي'!$E:$E, "✔ " & "9101*")) -> 0 | E8: =IF(A8="", "", SUMIFS('إدخال المبالغ والتوزيع الآلي'!$F:$F, 'إدخال المبالغ والتوزيع الآلي'!$A:$A, A8, 'إدخال المبالغ والتوزيع الآلي'!$E:$E, "✔ " & "9102*")) -> 0 | F8: =IF(A8="", "", SUMIFS('إدخال المبالغ والتوزيع الآلي'!$F:$F, 'إدخال المبالغ والتوزيع الآلي'!$A:$A, A8, 'إدخال المبالغ والتوزيع الآلي'!$E:$E, "✔ " & "9103*")) -> 0 | G8: =IF(A8="", "", SUMIFS('إدخال المبالغ والتوزيع الآلي'!$F:$F, 'إدخال المبالغ والتوزيع الآلي'!$A:$A, A8, 'إدخال المبالغ والتوزيع الآلي'!$E:$E, "✔ " & "9104*")) -> 0 | H8: =IF(A8="", "", SUMIFS('إدخال المبالغ والتوزيع الآلي'!$F:$F, 'إدخال المبالغ والتوزيع الآلي'!$A:$A, A8, 'إدخال المبالغ والتوزيع الآلي'!$E:$E, "✔ " & "9105*")) -> 0 | I8: =IF(A8="", "", SUMIFS('إدخال المبالغ والتوزيع الآلي'!$F:$F, 'إدخال المبالغ والتوزيع الآلي'!$A:$A, A8, 'إدخال المبالغ والتوزيع الآلي'!$E:$E, "✔ " & "9109*")) -> 0
A9: 603 | B9: الوقود | C9: =IF(A9="", "", SUMIFS('إدخال المبالغ والتوزيع الآلي'!$F:$F, 'إدخال المبالغ والتوزيع الآلي'!$A:$A, A9, 'إدخال المبالغ والتوزيع الآلي'!$E:$E, "✔ " & "9100*")) -> 0 | D9: =IF(A9="", "", SUMIFS('إدخال المبالغ والتوزيع الآلي'!$F:$F, 'إدخال المبالغ والتوزيع الآلي'!$A:$A, A9, 'إدخال المبالغ والتوزيع الآلي'!$E:$E, "✔ " & "9101*")) -> 0 | E9: =IF(A9="", "", SUMIFS('إدخال المبالغ والتوزيع الآلي'!$F:$F, 'إدخال المبالغ والتوزيع الآلي'!$A:$A, A9, 'إدخال المبالغ والتوزيع الآلي'!$E:$E, "✔ " & "9102*")) -> 0 | F9: =IF(A9="", "", SUMIFS('إدخال المبالغ والتوزيع الآلي'!$F:$F, 'إدخال المبالغ والتوزيع الآلي'!$A:$A, A9, 'إدخال المبالغ والتوزيع الآلي'!$E:$E, "✔ " & "9103*")) -> 0 | G9: =IF(A9="", "", SUMIFS('إدخال المبالغ والتوزيع الآلي'!$F:$F, 'إدخال المبالغ والتوزيع الآلي'!$A:$A, A9, 'إدخال المبالغ والتوزيع الآلي'!$E:$E, "✔ " & "9104*")) -> 0 | H9: =IF(A9="", "", SUMIFS('إدخال المبالغ والتوزيع الآلي'!$F:$F, 'إدخال المبالغ والتوزيع الآلي'!$A:$A, A9, 'إدخال المبالغ والتوزيع الآلي'!$E:$E, "✔ " & "9105*")) -> 0 | I9: =IF(A9="", "", SUMIFS('إدخال المبالغ والتوزيع الآلي'!$F:$F, 'إدخال المبالغ والتوزيع الآلي'!$A:$A, A9, 'إدخال المبالغ والتوزيع الآلي'!$E:$E, "✔ " & "9109*")) -> 0
A10: 608 | B10: لوازم المكتب والإعلام الآلي والطبع والتجليد | C10: =IF(A10="", "", SUMIFS('إدخال المبالغ والتوزيع الآلي'!$F:$F, 'إدخال المبالغ والتوزيع الآلي'!$A:$A, A10, 'إدخال المبالغ والتوزيع الآلي'!$E:$E, "✔ " & "9100*")) -> 0 | D10: =IF(A10="", "", SUMIFS('إدخال المبالغ والتوزيع الآلي'!$F:$F, 'إدخال المبالغ والتوزيع الآلي'!$A:$A, A10, 'إدخال المبالغ والتوزيع الآلي'!$E:$E, "✔ " & "9101*")) -> 0 | E10: =IF(A10="", "", SUMIFS('إدخال المبالغ والتوزيع الآلي'!$F:$F, 'إدخال المبالغ والتوزيع الآلي'!$A:$A, A10, 'إدخال المبالغ والتوزيع الآلي'!$E:$E, "✔ " & "9102*")) -> 0 | F10: =IF(A10="", "", SUMIFS('إدخال المبالغ والتوزيع الآلي'!$F:$F, 'إدخال المبالغ والتوزيع الآلي'!$A:$A, A10, 'إدخال المبالغ والتوزيع الآلي'!$E:$E, "✔ " & "9103*")) -> 0 | G10: =IF(A10="", "", SUMIFS('إدخال المبالغ والتوزيع الآلي'!$F:$F, 'إدخال المبالغ والتوزيع الآلي'!$A:$A, A10, 'إدخال المبالغ والتوزيع الآلي'!$E:$E, "✔ " & "9104*")) -> 0 | H10: =IF(A10="", "", SUMIFS('إدخال المبالغ والتوزيع الآلي'!$F:$F, 'إدخال المبالغ والتوزيع الآلي'!$A:$A, A10, 'إدخال المبالغ والتوزيع الآلي'!$E:$E, "✔ " & "9105*")) -> 0 | I10: =IF(A10="", "", SUMIFS('إدخال المبالغ والتوزيع الآلي'!$F:$F, 'إدخال المبالغ والتوزيع الآلي'!$A:$A, A10, 'إدخال المبالغ والتوزيع الآلي'!$E:$E, "✔ " & "9109*")) -> 0
A11: 6080 | B11: لوازم المكتب والإعلام الآلي | C11: =IF(A11="", "", SUMIFS('إدخال المبالغ والتوزيع الآلي'!$F:$F, 'إدخال المبالغ والتوزيع الآلي'!$A:$A, A11, 'إدخال المبالغ والتوزيع الآلي'!$E:$E, "✔ " & "9100*")) -> 0 | D11: =IF(A11="", "", SUMIFS('إدخال المبالغ والتوزيع الآلي'!$F:$F, 'إدخال المبالغ والتوزيع الآلي'!$A:$A, A11, 'إدخال المبالغ والتوزيع الآلي'!$E:$E, "✔ " & "9101*")) -> 0 | E11: =IF(A11="", "", SUMIFS('إدخال المبالغ والتوزيع الآلي'!$F:$F, 'إدخال المبالغ والتوزيع الآلي'!$A:$A, A11, 'إدخال المبالغ والتوزيع الآلي'!$E:$E, "✔ " & "9102*")) -> 0 | F11: =IF(A11="", "", SUMIFS('إدخال المبالغ والتوزيع الآلي'!$F:$F, 'إدخال المبالغ والتوزيع الآلي'!$A:$A, A11, 'إدخال المبالغ والتوزيع الآلي'!$E:$E, "✔ " & "9103*")) -> 0 | G11: =IF(A11="", "", SUMIFS('إدخال المبالغ والتوزيع الآلي'!$F:$F, 'إدخال المبالغ والتوزيع الآلي'!$A:$A, A11, 'إدخال المبالغ والتوزيع الآلي'!$E:$E, "✔ " & "9104*")) -> 0 | H11: =IF(A11="", "", SUMIFS('إدخال المبالغ والتوزيع الآلي'!$F:$F, 'إدخال المبالغ والتوزيع الآلي'!$A:$A, A11, 'إدخال المبالغ والتوزيع الآلي'!$E:$E, "✔ " & "9105*")) -> 0 | I11: =IF(A11="", "", SUMIFS('إدخال المبالغ والتوزيع الآلي'!$F:$F, 'إدخال المبالغ والتوزيع الآلي'!$A:$A, A11, 'إدخال المبالغ والتوزيع الآلي'!$E:$E, "✔ " & "9109*")) -> 0
A12: 6081 | B12: برامج الإعلام الآلي | C12: =IF(A12="", "", SUMIFS('إدخال المبالغ والتوزيع الآلي'!$F:$F, 'إدخال المبالغ والتوزيع الآلي'!$A:$A, A12, 'إدخال المبالغ والتوزيع الآلي'!$E:$E, "✔ " & "9100*")) -> 0 | D12: =IF(A12="", "", SUMIFS('إدخال المبالغ والتوزيع الآلي'!$F:$F, 'إدخال المبالغ والتوزيع الآلي'!$A:$A, A12, 'إدخال المبالغ والتوزيع الآلي'!$E:$E, "✔ " & "9101*")) -> 0 | E12: =IF(A12="", "", SUMIFS('إدخال المبالغ والتوزيع الآلي'!$F:$F, 'إدخال المبالغ والتوزيع الآلي'!$A:$A, A12, 'إدخال المبالغ والتوزيع الآلي'!$E:$E, "✔ " & "9102*")) -> 0 | F12: =IF(A12="", "", SUMIFS('إدخال المبالغ والتوزيع الآلي'!$F:$F, 'إدخال المبالغ والتوزيع الآلي'!$A:$A, A12, 'إدخال المبالغ والتوزيع الآلي'!$E:$E, "✔ " & "9103*")) -> 0 | G12: =IF(A12="", "", SUMIFS('إدخال المبالغ والتوزيع الآلي'!$F:$F, 'إدخال المبالغ والتوزيع الآلي'!$A:$A, A12, 'إدخال المبالغ والتوزيع الآلي'!$E:$E, "✔ " & "9104*")) -> 0 | H12: =IF(A12="", "", SUMIFS('إدخال المبالغ والتوزيع الآلي'!$F:$F, 'إدخال المبالغ والتوزيع الآلي'!$A:$A, A12, 'إدخال المبالغ والتوزيع الآلي'!$E:$E, "✔ " & "9105*")) -> 0 | I12: =IF(A12="", "", SUMIFS('إدخال المبالغ والتوزيع الآلي'!$F:$F, 'إدخال المبالغ والتوزيع الآلي'!$A:$A, A12, 'إدخال المبالغ والتوزيع الآلي'!$E:$E, "✔ " & "9109*")) -> 0
A13: 6082 | B13: الطبع والتجليد | C13: =IF(A13="", "", SUMIFS('إدخال المبالغ والتوزيع الآلي'!$F:$F, 'إدخال المبالغ والتوزيع الآلي'!$A:$A, A13, 'إدخال المبالغ والتوزيع الآلي'!$E:$E, "✔ " & "9100*")) -> 0 | D13: =IF(A13="", "", SUMIFS('إدخال المبالغ والتوزيع الآلي'!$F:$F, 'إدخال المبالغ والتوزيع الآلي'!$A:$A, A13, 'إدخال المبالغ والتوزيع الآلي'!$E:$E, "✔ " & "9101*")) -> 0 | E13: =IF(A13="", "", SUMIFS('إدخال المبالغ والتوزيع الآلي'!$F:$F, 'إدخال المبالغ والتوزيع الآلي'!$A:$A, A13, 'إدخال المبالغ والتوزيع الآلي'!$E:$E, "✔ " & "9102*")) -> 0 | F13: =IF(A13="", "", SUMIFS('إدخال المبالغ والتوزيع الآلي'!$F:$F, 'إدخال المبالغ والتوزيع الآلي'!$A:$A, A13, 'إدخال المبالغ والتوزيع الآلي'!$E:$E, "✔ " & "9103*")) -> 0 | G13: =IF(A13="", "", SUMIFS('إدخال المبالغ والتوزيع الآلي'!$F:$F, 'إدخال المبالغ والتوزيع الآلي'!$A:$A, A13, 'إدخال المبالغ والتوزيع الآلي'!$E:$E, "✔ " & "9104*")) -> 0 | H13: =IF(A13="", "", SUMIFS('إدخال المبالغ والتوزيع الآلي'!$F:$F, 'إدخال المبالغ والتوزيع الآلي'!$A:$A, A13, 'إدخال المبالغ والتوزيع الآلي'!$E:$E, "✔ " & "9105*")) -> 0 | I13: =IF(A13="", "", SUMIFS('إدخال المبالغ والتوزيع الآلي'!$F:$F, 'إدخال المبالغ والتوزيع الآلي'!$A:$A, A13, 'إدخال المبالغ والتوزيع الآلي'!$E:$E, "✔ " & "9109*")) -> 0
A14: 609 | B14: اللوازم الأخرى | C14: =IF(A14="", "", SUMIFS('إدخال المبالغ والتوزيع الآلي'!$F:$F, 'إدخال المبالغ والتوزيع الآلي'!$A:$A, A14, 'إدخال المبالغ والتوزيع الآلي'!$E:$E, "✔ " & "9100*")) -> 0 | D14: =IF(A14="", "", SUMIFS('إدخال المبالغ والتوزيع الآلي'!$F:$F, 'إدخال المبالغ والتوزيع الآلي'!$A:$A, A14, 'إدخال المبالغ والتوزيع الآلي'!$E:$E, "✔ " & "9101*")) -> 0 | E14: =IF(A14="", "", SUMIFS('إدخال المبالغ والتوزيع الآلي'!$F:$F, 'إدخال المبالغ والتوزيع الآلي'!$A:$A, A14, 'إدخال المبالغ والتوزيع الآلي'!$E:$E, "✔ " & "9102*")) -> 0 | F14: =IF(A14="", "", SUMIFS('إدخال المبالغ والتوزيع الآلي'!$F:$F, 'إدخال المبالغ والتوزيع الآلي'!$A:$A, A14, 'إدخال المبالغ والتوزيع الآلي'!$E:$E, "✔ " & "9103*")) -> 0 | G14: =IF(A14="", "", SUMIFS('إدخال المبالغ والتوزيع الآلي'!$F:$F, 'إدخال المبالغ والتوزيع الآلي'!$A:$A, A14, 'إدخال المبالغ والتوزيع الآلي'!$E:$E, "✔ " & "9104*")) -> 0 | H14: =IF(A14="", "", SUMIFS('إدخال المبالغ والتوزيع الآلي'!$F:$F, 'إدخال المبالغ والتوزيع الآلي'!$A:$A, A14, 'إدخال المبالغ والتوزيع الآلي'!$E:$E, "✔ " & "9105*")) -> 0 | I14: =IF(A14="", "", SUMIFS('إدخال المبالغ والتوزيع الآلي'!$F:$F, 'إدخال المبالغ والتوزيع الآلي'!$A:$A, A14, 'إدخال المبالغ والتوزيع الآلي'!$E:$E, "✔ " & "9109*")) -> 0
A15: 610 | B15: الإيجار وتكاليف الكراء | C15: =IF(A15="", "", SUMIFS('إدخال المبالغ والتوزيع الآلي'!$F:$F, 'إدخال المبالغ والتوزيع الآلي'!$A:$A, A15, 'إدخال المبالغ والتوزيع الآلي'!$E:$E, "✔ " & "9100*")) -> 0 | D15: =IF(A15="", "", SUMIFS('إدخال المبالغ والتوزيع الآلي'!$F:$F, 'إدخال المبالغ والتوزيع الآلي'!$A:$A, A15, 'إدخال المبالغ والتوزيع الآلي'!$E:$E, "✔ " & "9101*")) -> 0 | E15: =IF(A15="", "", SUMIFS('إدخال المبالغ والتوزيع الآلي'!$F:$F, 'إدخال المبالغ والتوزيع الآلي'!$A:$A, A15, 'إدخال المبالغ والتوزيع الآلي'!$E:$E, "✔ " & "9102*")) -> 0 | F15: =IF(A15="", "", SUMIFS('إدخال المبالغ والتوزيع الآلي'!$F:$F, 'إدخال المبالغ والتوزيع الآلي'!$A:$A, A15, 'إدخال المبالغ والتوزيع الآلي'!$E:$E, "✔ " & "9103*")) -> 0 | G15: =IF(A15="", "", SUMIFS('إدخال المبالغ والتوزيع الآلي'!$F:$F, 'إدخال المبالغ والتوزيع الآلي'!$A:$A, A15, 'إدخال المبالغ والتوزيع الآلي'!$E:$E, "✔ " & "9104*")) -> 0 | H15: =IF(A15="", "", SUMIFS('إدخال المبالغ والتوزيع الآلي'!$F:$F, 'إدخال المبالغ والتوزيع الآلي'!$A:$A, A15, 'إدخال المبالغ والتوزيع الآلي'!$E:$E, "✔ " & "9105*")) -> 0 | I15: =IF(A15="", "", SUMIFS('إدخال المبالغ والتوزيع الآلي'!$F:$F, 'إدخال المبالغ والتوزيع الآلي'!$A:$A, A15, 'إدخال المبالغ والتوزيع الآلي'!$E:$E, "✔ " & "9109*")) -> 0
A16: 612 | B16: اقتناء العتاد والأدوات الصغيرة | C16: =IF(A16="", "", SUMIFS('إدخال المبالغ والتوزيع الآلي'!$F:$F, 'إدخال المبالغ والتوزيع الآلي'!$A:$A, A16, 'إدخال المبالغ والتوزيع الآلي'!$E:$E, "✔ " & "9100*")) -> 0 | D16: =IF(A16="", "", SUMIFS('إدخال المبالغ والتوزيع الآلي'!$F:$F, 'إدخال المبالغ والتوزيع الآلي'!$A:$A, A16, 'إدخال المبالغ والتوزيع الآلي'!$E:$E, "✔ " & "9101*")) -> 0 | E16: =IF(A16="", "", SUMIFS('إدخال المبالغ والتوزيع الآلي'!$F:$F, 'إدخال المبالغ والتوزيع الآلي'!$A:$A, A16, 'إدخال المبالغ والتوزيع الآلي'!$E:$E, "✔ " & "9102*")) -> 0 | F16: =IF(A16="", "", SUMIFS('إدخال المبالغ والتوزيع الآلي'!$F:$F, 'إدخال المبالغ والتوزيع الآلي'!$A:$A, A16, 'إدخال المبالغ والتوزيع الآلي'!$E:$E, "✔ " & "9103*")) -> 0 | G16: =IF(A16="", "", SUMIFS('إدخال المبالغ والتوزيع الآلي'!$F:$F, 'إدخال المبالغ والتوزيع الآلي'!$A:$A, A16, 'إدخال المبالغ والتوزيع الآلي'!$E:$E, "✔ " & "9104*")) -> 0 | H16: =IF(A16="", "", SUMIFS('إدخال المبالغ والتوزيع الآلي'!$F:$F, 'إدخال المبالغ والتوزيع الآلي'!$A:$A, A16, 'إدخال المبالغ والتوزيع الآلي'!$E:$E, "✔ " & "9105*")) -> 0 | I16: =IF(A16="", "", SUMIFS('إدخال المبالغ والتوزيع الآلي'!$F:$F, 'إدخال المبالغ والتوزيع الآلي'!$A:$A, A16, 'إدخال المبالغ والتوزيع الآلي'!$E:$E, "✔ " & "9109*")) -> 0
A17: 613 | B17: الماء | C17: =IF(A17="", "", SUMIFS('إدخال المبالغ والتوزيع الآلي'!$F:$F, 'إدخال المبالغ والتوزيع الآلي'!$A:$A, A17, 'إدخال المبالغ والتوزيع الآلي'!$E:$E, "✔ " & "9100*")) -> 0 | D17: =IF(A17="", "", SUMIFS('إدخال المبالغ والتوزيع الآلي'!$F:$F, 'إدخال المبالغ والتوزيع الآلي'!$A:$A, A17, 'إدخال المبالغ والتوزيع الآلي'!$E:$E, "✔ " & "9101*")) -> 0 | E17: =IF(A17="", "", SUMIFS('إدخال المبالغ والتوزيع الآلي'!$F:$F, 'إدخال المبالغ والتوزيع الآلي'!$A:$A, A17, 'إدخال المبالغ والتوزيع الآلي'!$E:$E, "✔ " & "9102*")) -> 0 | F17: =IF(A17="", "", SUMIFS('إدخال المبالغ والتوزيع الآلي'!$F:$F, 'إدخال المبالغ والتوزيع الآلي'!$A:$A, A17, 'إدخال المبالغ والتوزيع الآلي'!$E:$E, "✔ " & "9103*")) -> 0 | G17: =IF(A17="", "", SUMIFS('إدخال المبالغ والتوزيع الآلي'!$F:$F, 'إدخال المبالغ والتوزيع الآلي'!$A:$A, A17, 'إدخال المبالغ والتوزيع الآلي'!$E:$E, "✔ " & "9104*")) -> 0 | H17: =IF(A17="", "", SUMIFS('إدخال المبالغ والتوزيع الآلي'!$F:$F, 'إدخال المبالغ والتوزيع الآلي'!$A:$A, A17, 'إدخال المبالغ والتوزيع الآلي'!$E:$E, "✔ " & "9105*")) -> 0 | I17: =IF(A17="", "", SUMIFS('إدخال المبالغ والتوزيع الآلي'!$F:$F, 'إدخال المبالغ والتوزيع الآلي'!$A:$A, A17, 'إدخال المبالغ والتوزيع الآلي'!$E:$E, "✔ " & "9109*")) -> 0
... A34: 826 | B34: أعباء السنوات المالية السابقة، بواقي الإنجاز | C34: =IF(A34="", "", SUMIFS('إدخال المبالغ والتوزيع الآلي'!$F:$F, 'إدخال المبالغ والتوزيع الآلي'!$A:$A, A34, 'إدخال المبالغ والتوزيع الآلي'!$E:$E, "✔ " & "9100*")) -> 0 | D34: =IF(A34="", "", SUMIFS('إدخال المبالغ والتوزيع الآلي'!$F:$F, 'إدخال المبالغ والتوزيع الآلي'!$A:$A, A34, 'إدخال المبالغ والتوزيع الآلي'!$E:$E, "✔ " & "9101*")) -> 0 | E34: =IF(A34="", "", SUMIFS('إدخال المبالغ والتوزيع الآلي'!$F:$F, 'إدخال المبالغ والتوزيع الآلي'!$A:$A, A34, 'إدخال المبالغ والتوزيع الآلي'!$E:$E, "✔ " & "9102*")) -> 0 | F34: =IF(A34="", "", SUMIFS('إدخال المبالغ والتوزيع الآلي'!$F:$F, 'إدخال المبالغ والتوزيع الآلي'!$A:$A, A34, 'إدخال المبالغ والتوزيع الآلي'!$E:$E, "✔ " & "9103*")) -> 0 | G34: =IF(A34="", "", SUMIFS('إدخال المبالغ والتوزيع الآلي'!$F:$F, 'إدخال المبالغ والتوزيع الآلي'!$A:$A, A34, 'إدخال المبالغ والتوزيع الآلي'!$E:$E, "✔ " & "9104*")) -> 0 | H34: =IF(A34="", "", SUMIFS('إدخال المبالغ والتوزيع الآلي'!$F:$F, 'إدخال المبالغ والتوزيع الآلي'!$A:$A, A34, 'إدخال المبالغ والتوزيع الآلي'!$E:$E, "✔ " & "9105*")) -> 0 | I34: =IF(A34="", "", SUMIFS('إدخال المبالغ والتوزيع الآلي'!$F:$F, 'إدخال المبالغ والتوزيع الآلي'!$A:$A, A34, 'إدخال المبالغ والتوزيع الآلي'!$E:$E, "✔ " & "9109*")) -> 0
A35: مواد حسابات الإيرادات
A36: 701 | B36: النسخ الإدارية | C36: =IF(A36="", "", SUMIFS('إدخال المبالغ والتوزيع الآلي'!$F:$F, 'إدخال المبالغ والتوزيع الآلي'!$A:$A, A36, 'إدخال المبالغ والتوزيع الآلي'!$E:$E, "✔ " & "9100*")) -> 0 | D36: =IF(A36="", "", SUMIFS('إدخال المبالغ والتوزيع الآلي'!$F:$F, 'إدخال المبالغ والتوزيع الآلي'!$A:$A, A36, 'إدخال المبالغ والتوزيع الآلي'!$E:$E, "✔ " & "9101*")) -> 0 | E36: =IF(A36="", "", SUMIFS('إدخال المبالغ والتوزيع الآلي'!$F:$F, 'إدخال المبالغ والتوزيع الآلي'!$A:$A, A36, 'إدخال المبالغ والتوزيع الآلي'!$E:$E, "✔ " & "9102*")) -> 0 | F36: =IF(A36="", "", SUMIFS('إدخال المبالغ والتوزيع الآلي'!$F:$F, 'إدخال المبالغ والتوزيع الآلي'!$A:$A, A36, 'إدخال المبالغ والتوزيع الآلي'!$E:$E, "✔ " & "9103*")) -> 0 | G36: =IF(A36="", "", SUMIFS('إدخال المبالغ والتوزيع الآلي'!$F:$F, 'إدخال المبالغ والتوزيع الآلي'!$A:$A, A36, 'إدخال المبالغ والتوزيع الآلي'!$E:$E, "✔ " & "9104*")) -> 0 | H36: =IF(A36="", "", SUMIFS('إدخال المبالغ والتوزيع الآلي'!$F:$F, 'إدخال المبالغ والتوزيع الآلي'!$A:$A, A36, 'إدخال المبالغ والتوزيع الآلي'!$E:$E, "✔ " & "9105*")) -> 0 | I36: =IF(A36="", "", SUMIFS('إدخال المبالغ والتوزيع الآلي'!$F:$F, 'إدخال المبالغ والتوزيع الآلي'!$A:$A, A36, 'إدخال المبالغ والتوزيع الآلي'!$E:$E, "✔ " & "9109*")) -> 0
A37: 709 | B37: الرسم الخاص على عقود ورخص وشهادات التعمير ونواتج الاستغلال الأخرى | C37: =IF(A37="", "", SUMIFS('إدخال المبالغ والتوزيع الآلي'!$F:$F, 'إدخال المبالغ والتوزيع الآلي'!$A:$A, A37, 'إدخال المبالغ والتوزيع الآلي'!$E:$E, "✔ " & "9100*")) -> 0 | D37: =IF(A37="", "", SUMIFS('إدخال المبالغ والتوزيع الآلي'!$F:$F, 'إدخال المبالغ والتوزيع الآلي'!$A:$A, A37, 'إدخال المبالغ والتوزيع الآلي'!$E:$E, "✔ " & "9101*")) -> 0 | E37: =IF(A37="", "", SUMIFS('إدخال المبالغ والتوزيع الآلي'!$F:$F, 'إدخال المبالغ والتوزيع الآلي'!$A:$A, A37, 'إدخال المبالغ والتوزيع الآلي'!$E:$E, "✔ " & "9102*")) -> 0 | F37: =IF(A37="", "", SUMIFS('إدخال المبالغ والتوزيع الآلي'!$F:$F, 'إدخال المبالغ والتوزيع الآلي'!$A:$A, A37, 'إدخال المبالغ والتوزيع الآلي'!$E:$E, "✔ " & "9103*")) -> 0 | G37: =IF(A37="", "", SUMIFS('إدخال المبالغ والتوزيع الآلي'!$F:$F, 'إدخال المبالغ والتوزيع الآلي'!$A:$A, A37, 'إدخال المبالغ والتوزيع الآلي'!$E:$E, "✔ " & "9104*")) -> 0 | H37: =IF(A37="", "", SUMIFS('إدخال المبالغ والتوزيع الآلي'!$F:$F, 'إدخال المبالغ والتوزيع الآلي'!$A:$A, A37, 'إدخال المبالغ والتوزيع الآلي'!$E:$E, "✔ " & "9105*")) -> 0 | I37: =IF(A37="", "", SUMIFS('إدخال المبالغ والتوزيع الآلي'!$F:$F, 'إدخال المبالغ والتوزيع الآلي'!$A:$A, A37, 'إدخال المبالغ والتوزيع الآلي'!$E:$E, "✔ " & "9109*")) -> 0
A38: 723 | B38: إعانات الجماعات المحلية | C38: =IF(A38="", "", SUMIFS('إدخال المبالغ والتوزيع الآلي'!$F:$F, 'إدخال المبالغ والتوزيع الآلي'!$A:$A, A38, 'إدخال المبالغ والتوزيع الآلي'!$E:$E, "✔ " & "9100*")) -> 0 | D38: =IF(A38="", "", SUMIFS('إدخال المبالغ والتوزيع الآلي'!$F:$F, 'إدخال المبالغ والتوزيع الآلي'!$A:$A, A38, 'إدخال المبالغ والتوزيع الآلي'!$E:$E, "✔ " & "9101*")) -> 0 | E38: =IF(A38="", "", SUMIFS('إدخال المبالغ والتوزيع الآلي'!$F:$F, 'إدخال المبالغ والتوزيع الآلي'!$A:$A, A38, 'إدخال المبالغ والتوزيع الآلي'!$E:$E, "✔ " & "9102*")) -> 0 | F38: =IF(A38="", "", SUMIFS('إدخال المبالغ والتوزيع الآلي'!$F:$F, 'إدخال المبالغ والتوزيع الآلي'!$A:$A, A38, 'إدخال المبالغ والتوزيع الآلي'!$E:$E, "✔ " & "9103*")) -> 0 | G38: =IF(A38="", "", SUMIFS('إدخال المبالغ والتوزيع الآلي'!$F:$F, 'إدخال المبالغ والتوزيع الآلي'!$A:$A, A38, 'إدخال المبالغ والتوزيع الآلي'!$E:$E, "✔ " & "9104*")) -> 0 | H38: =IF(A38="", "", SUMIFS('إدخال المبالغ والتوزيع الآلي'!$F:$F, 'إدخال المبالغ والتوزيع الآلي'!$A:$A, A38, 'إدخال المبالغ والتوزيع الآلي'!$E:$E, "✔ " & "9105*")) -> 0 | I38: =IF(A38="", "", SUMIFS('إدخال المبالغ والتوزيع الآلي'!$F:$F, 'إدخال المبالغ والتوزيع الآلي'!$A:$A, A38, 'إدخال المبالغ والتوزيع الآلي'!$E:$E, "✔ " & "9109*")) -> 0
A39: 729 | B39: التحصيلات والإعانات والمساهمات الأخرى | C39: =IF(A39="", "", SUMIFS('إدخال المبالغ والتوزيع الآلي'!$F:$F, 'إدخال المبالغ والتوزيع الآلي'!$A:$A, A39, 'إدخال المبالغ والتوزيع الآلي'!$E:$E, "✔ " & "9100*")) -> 0 | D39: =IF(A39="", "", SUMIFS('إدخال المبالغ والتوزيع الآلي'!$F:$F, 'إدخال المبالغ والتوزيع الآلي'!$A:$A, A39, 'إدخال المبالغ والتوزيع الآلي'!$E:$E, "✔ " & "9101*")) -> 0 | E39: =IF(A39="", "", SUMIFS('إدخال المبالغ والتوزيع الآلي'!$F:$F, 'إدخال المبالغ والتوزيع الآلي'!$A:$A, A39, 'إدخال المبالغ والتوزيع الآلي'!$E:$E, "✔ " & "9102*")) -> 0 | F39: =IF(A39="", "", SUMIFS('إدخال المبالغ والتوزيع الآلي'!$F:$F, 'إدخال المبالغ والتوزيع الآلي'!$A:$A, A39, 'إدخال المبالغ والتوزيع الآلي'!$E:$E, "✔ " & "9103*")) -> 0 | G39: =IF(A39="", "", SUMIFS('إدخال المبالغ والتوزيع الآلي'!$F:$F, 'إدخال المبالغ والتوزيع الآلي'!$A:$A, A39, 'إدخال المبالغ والتوزيع الآلي'!$E:$E, "✔ " & "9104*")) -> 0 | H39: =IF(A39="", "", SUMIFS('إدخال المبالغ والتوزيع الآلي'!$F:$F, 'إدخال المبالغ والتوزيع الآلي'!$A:$A, A39, 'إدخال المبالغ والتوزيع الآلي'!$E:$E, "✔ " & "9105*")) -> 0 | I39: =IF(A39="", "", SUMIFS('إدخال المبالغ والتوزيع الآلي'!$F:$F, 'إدخال المبالغ والتوزيع الآلي'!$A:$A, A39, 'إدخال المبالغ والتوزيع الآلي'!$E:$E, "✔ " & "9109*")) -> 0
A40: 789 | B40: مخصصات الدولة الأخرى | C40: =IF(A40="", "", SUMIFS('إدخال المبالغ والتوزيع الآلي'!$F:$F, 'إدخال المبالغ والتوزيع الآلي'!$A:$A, A40, 'إدخال المبالغ والتوزيع الآلي'!$E:$E, "✔ " & "9100*")) -> 0 | D40: =IF(A40="", "", SUMIFS('إدخال المبالغ والتوزيع الآلي'!$F:$F, 'إدخال المبالغ والتوزيع الآلي'!$A:$A, A40, 'إدخال المبالغ والتوزيع الآلي'!$E:$E, "✔ " & "9101*")) -> 0 | E40: =IF(A40="", "", SUMIFS('إدخال المبالغ والتوزيع الآلي'!$F:$F, 'إدخال المبالغ والتوزيع الآلي'!$A:$A, A40, 'إدخال المبالغ والتوزيع الآلي'!$E:$E, "✔ " & "9102*")) -> 0 | F40: =IF(A40="", "", SUMIFS('إدخال المبالغ والتوزيع الآلي'!$F:$F, 'إدخال المبالغ والتوزيع الآلي'!$A:$A, A40, 'إدخال المبالغ والتوزيع الآلي'!$E:$E, "✔ " & "9103*")) -> 0 | G40: =IF(A40="", "", SUMIFS('إدخال المبالغ والتوزيع الآلي'!$F:$F, 'إدخال المبالغ والتوزيع الآلي'!$A:$A, A40, 'إدخال المبالغ والتوزيع الآلي'!$E:$E, "✔ " & "9104*")) -> 0 | H40: =IF(A40="", "", SUMIFS('إدخال المبالغ والتوزيع الآلي'!$F:$F, 'إدخال المبالغ والتوزيع الآلي'!$A:$A, A40, 'إدخال المبالغ والتوزيع الآلي'!$E:$E, "✔ " & "9105*")) -> 0 | I40: =IF(A40="", "", SUMIFS('إدخال المبالغ والتوزيع الآلي'!$F:$F, 'إدخال المبالغ والتوزيع الآلي'!$A:$A, A40, 'إدخال المبالغ والتوزيع الآلي'!$E:$E, "✔ " & "9109*")) -> 0
A41: 827 | B41: نواتج السنوات المالية السابقة، بواقي الإنجاز | C41: =IF(A41="", "", SUMIFS('إدخال المبالغ والتوزيع الآلي'!$F:$F, 'إدخال المبالغ والتوزيع الآلي'!$A:$A, A41, 'إدخال المبالغ والتوزيع الآلي'!$E:$E, "✔ " & "9100*")) -> 0 | D41: =IF(A41="", "", SUMIFS('إدخال المبالغ والتوزيع الآلي'!$F:$F, 'إدخال المبالغ والتوزيع الآلي'!$A:$A, A41, 'إدخال المبالغ والتوزيع الآلي'!$E:$E, "✔ " & "9101*")) -> 0 | E41: =IF(A41="", "", SUMIFS('إدخال المبالغ والتوزيع الآلي'!$F:$F, 'إدخال المبالغ والتوزيع الآلي'!$A:$A, A41, 'إدخال المبالغ والتوزيع الآلي'!$E:$E, "✔ " & "9102*")) -> 0 | F41: =IF(A41="", "", SUMIFS('إدخال المبالغ والتوزيع الآلي'!$F:$F, 'إدخال المبالغ والتوزيع الآلي'!$A:$A, A41, 'إدخال المبالغ والتوزيع الآلي'!$E:$E, "✔ " & "9103*")) -> 0 | G41: =IF(A41="", "", SUMIFS('إدخال المبالغ والتوزيع الآلي'!$F:$F, 'إدخال المبالغ والتوزيع الآلي'!$A:$A, A41, 'إدخال المبالغ والتوزيع الآلي'!$E:$E, "✔ " & "9104*")) -> 0 | H41: =IF(A41="", "", SUMIFS('إدخال المبالغ والتوزيع الآلي'!$F:$F, 'إدخال المبالغ والتوزيع الآلي'!$A:$A, A41, 'إدخال المبالغ والتوزيع الآلي'!$E:$E, "✔ " & "9105*")) -> 0 | I41: =IF(A41="", "", SUMIFS('إدخال المبالغ والتوزيع الآلي'!$F:$F, 'إدخال المبالغ والتوزيع الآلي'!$A:$A, A41, 'إدخال المبالغ والتوزيع الآلي'!$E:$E, "✔ " & "9109*")) -> 0

Sheet الباب 911
A1: الباب 911 - الوقاية والأمن - تصنيف عمليات النفقات والإيرادات حسب الأبواب الفرعية
A3: المواد | B3: التبيان | C3: الباب 911 - الوقاية والأمن
C4: 9110 الأمن البلدي | D4: 9111 الوقاية | E4: 9119 المصالح الأخرى
A5: مواد حسابات النفقات
A6: 600 | B6: المنتجات الصيدلانية | C6: =IF(A6="", "", SUMIFS('إدخال المبالغ والتوزيع الآلي'!$F:$F, 'إدخال المبالغ والتوزيع الآلي'!$A:$A, A6, 'إدخال المبالغ والتوزيع الآلي'!$E:$E, "✔ " & "9110*")) -> 0 | D6: =IF(A6="", "", SUMIFS('إدخال المبالغ والتوزيع الآلي'!$F:$F, 'إدخال المبالغ والتوزيع الآلي'!$A:$A, A6, 'إدخال المبالغ والتوزيع الآلي'!$E:$E, "✔ " & "9111*")) -> 0 | E6: =IF(A6="", "", SUMIFS('إدخال المبالغ والتوزيع الآلي'!$F:$F, 'إدخال المبالغ والتوزيع الآلي'!$A:$A, A6, 'إدخال المبالغ والتوزيع الآلي'!$E:$E, "✔ " & "9119*")) -> 0
A7: 608 | B7: لوازم المكتب والإعلام الآلي والطبع والتجليد | C7: =IF(A7="", "", SUMIFS('إدخال المبالغ والتوزيع الآلي'!$F:$F, 'إدخال المبالغ والتوزيع الآلي'!$A:$A, A7, 'إدخال المبالغ والتوزيع الآلي'!$E:$E, "✔ " & "9110*")) -> 0 | D7: =IF(A7="", "", SUMIFS('إدخال المبالغ والتوزيع الآلي'!$F:$F, 'إدخال المبالغ والتوزيع الآلي'!$A:$A, A7, 'إدخال المبالغ والتوزيع الآلي'!$E:$E, "✔ " & "9111*")) -> 0 | E7: =IF(A7="", "", SUMIFS('إدخال المبالغ والتوزيع الآلي'!$F:$F, 'إدخال المبالغ والتوزيع الآلي'!$A:$A, A7, 'إدخال المبالغ والتوزيع الآلي'!$E:$E, "✔ " & "9119*")) -> 0
A8: 6081 | B8: برامج الإعلام الآلي | C8: =IF(A8="", "", SUMIFS('إدخال المبالغ والتوزيع الآلي'!$F:$F, 'إدخال المبالغ والتوزيع الآلي'!$A:$A, A8, 'إدخال المبالغ والتوزيع الآلي'!$E:$E, "✔ " & "9110*")) -> 0 | D8: =IF(A8="", "", SUMIFS('إدخال المبالغ والتوزيع الآلي'!$F:$F, 'إدخال المبالغ والتوزيع الآلي'!$A:$A, A8, 'إدخال المبالغ والتوزيع الآلي'!$E:$E, "✔ " & "9111*")) -> 0 | E8: =IF(A8="", "", SUMIFS('إدخال المبالغ والتوزيع الآلي'!$F:$F, 'إدخال المبالغ والتوزيع الآلي'!$A:$A, A8, 'إدخال المبالغ والتوزيع الآلي'!$E:$E, "✔ " & "9119*")) -> 0
A9: 609 | B9: اللوازم الأخرى | C9: =IF(A9="", "", SUMIFS('إدخال المبالغ والتوزيع الآلي'!$F:$F, 'إدخال المبالغ والتوزيع الآلي'!$A:$A, A9, 'إدخال المبالغ والتوزيع الآلي'!$E:$E, "✔ " & "9110*")) -> 0 | D9: =IF(A9="", "", SUMIFS('إدخال المبالغ والتوزيع الآلي'!$F:$F, 'إدخال المبالغ والتوزيع الآلي'!$A:$A, A9, 'إدخال المبالغ والتوزيع الآلي'!$E:$E, "✔ " & "9111*")) -> 0 | E9: =IF(A9="", "", SUMIFS('إدخال المبالغ والتوزيع الآلي'!$F:$F, 'إدخال المبالغ والتوزيع الآلي'!$A:$A, A9, 'إدخال المبالغ والتوزيع الآلي'!$E:$E, "✔ " & "9119*")) -> 0
A10: 610 | B10: الإيجار وتكاليف الكراء | C10: =IF(A10="", "", SUMIFS('إدخال المبالغ والتوزيع الآلي'!$F:$F, 'إدخال المبالغ والتوزيع الآلي'!$A:$A, A10, 'إدخال المبالغ والتوزيع الآلي'!$E:$E, "✔ " & "9110*")) -> 0 | D10: =IF(A10="", "", SUMIFS('إدخال المبالغ والتوزيع الآلي'!$F:$F, 'إدخال المبالغ والتوزيع الآلي'!$A:$A, A10, 'إدخال المبالغ والتوزيع الآلي'!$E:$E, "✔ " & "9111*")) -> 0 | E10: =IF(A10="", "", SUMIFS('إدخال المبالغ والتوزيع الآلي'!$F:$F, 'إدخال المبالغ والتوزيع الآلي'!$A:$A, A10, 'إدخال المبالغ والتوزيع الآلي'!$E:$E, "✔ " & "9119*")) -> 0
A11: 612 | B11: اقتناء العتاد والأدوات الصغيرة | C11: =IF(A11="", "", SUMIFS('إدخال المبالغ والتوزيع الآلي'!$F:$F, 'إدخال المبالغ والتوزيع الآلي'!$A:$A, A11, 'إدخال المبالغ والتوزيع الآلي'!$E:$E, "✔ " & "9110*")) -> 0 | D11: =IF(A11="", "", SUMIFS('إدخال المبالغ والتوزيع الآلي'!$F:$F, 'إدخال المبالغ والتوزيع الآلي'!$A:$A, A11, 'إدخال المبالغ والتوزيع الآلي'!$E:$E, "✔ " & "9111*")) -> 0 | E11: =IF(A11="", "", SUMIFS('إدخال المبالغ والتوزيع الآلي'!$F:$F, 'إدخال المبالغ والتوزيع الآلي'!$A:$A, A11, 'إدخال المبالغ والتوزيع الآلي'!$E:$E, "✔ " & "9119*")) -> 0
A12: 616 | B12: تقديم الخدمات للبلدية | C12: =IF(A12="", "", SUMIFS('إدخال المبالغ والتوزيع الآلي'!$F:$F, 'إدخال المبالغ والتوزيع الآلي'!$A:$A, A12, 'إدخال المبالغ والتوزيع الآلي'!$E:$E, "✔ " & "9110*")) -> 0 | D12: =IF(A12="", "", SUMIFS('إدخال المبالغ والتوزيع الآلي'!$F:$F, 'إدخال المبالغ والتوزيع الآلي'!$A:$A, A12, 'إدخال المبالغ والتوزيع الآلي'!$E:$E, "✔ " & "9111*")) -> 0 | E12: =IF(A12="", "", SUMIFS('إدخال المبالغ والتوزيع الآلي'!$F:$F, 'إدخال المبالغ والتوزيع الآلي'!$A:$A, A12, 'إدخال المبالغ والتوزيع الآلي'!$E:$E, "✔ " & "9119*")) -> 0
A13: 629 | B13: مصاريف التسيير العام الأخرى | C13: =IF(A13="", "", SUMIFS('إدخال المبالغ والتوزيع الآلي'!$F:$F, 'إدخال المبالغ والتوزيع الآلي'!$A:$A, A13, 'إدخال المبالغ والتوزيع الآلي'!$E:$E, "✔ " & "9110*")) -> 0 | D13: =IF(A13="", "", SUMIFS('إدخال المبالغ والتوزيع الآلي'!$F:$F, 'إدخال المبالغ والتوزيع الآلي'!$A:$A, A13, 'إدخال المبالغ والتوزيع الآلي'!$E:$E, "✔ " & "9111*")) -> 0 | E13: =IF(A13="", "", SUMIFS('إدخال المبالغ والتوزيع الآلي'!$F:$F, 'إدخال المبالغ والتوزيع الآلي'!$A:$A, A13, 'إدخال المبالغ والتوزيع الآلي'!$E:$E, "✔ " & "9119*")) -> 0
A14: 679 | B14: المساهمات والخدمات الأخرى لفائدة الغير | C14: =IF(A14="", "", SUMIFS('إدخال المبالغ والتوزيع الآلي'!$F:$F, 'إدخال المبالغ والتوزيع الآلي'!$A:$A, A14, 'إدخال المبالغ والتوزيع الآلي'!$E:$E, "✔ " & "9110*")) -> 0 | D14: =IF(A14="", "", SUMIFS('إدخال المبالغ والتوزيع الآلي'!$F:$F, 'إدخال المبالغ والتوزيع الآلي'!$A:$A, A14, 'إدخال المبالغ والتوزيع الآلي'!$E:$E, "✔ " & "9111*")) -> 0 | E14: =IF(A14="", "", SUMIFS('إدخال المبالغ والتوزيع الآلي'!$F:$F, 'إدخال المبالغ والتوزيع الآلي'!$A:$A, A14, 'إدخال المبالغ والتوزيع الآلي'!$E:$E, "✔ " & "9119*")) -> 0
A15: 699 | B15: الأعباء الاستثنائية الأخرى | C15: =IF(A15="", "", SUMIFS('إدخال المبالغ والتوزيع الآلي'!$F:$F, 'إدخال المبالغ والتوزيع الآلي'!$A:$A, A15, 'إدخال المبالغ والتوزيع الآلي'!$E:$E, "✔ " & "9110*")) -> 0 | D15: =IF(A15="", "", SUMIFS('إدخال المبالغ والتوزيع الآلي'!$F:$F, 'إدخال المبالغ والتوزيع الآلي'!$A:$A, A15, 'إدخال المبالغ والتوزيع الآلي'!$E:$E, "✔ " & "9111*")) -> 0 | E15: =IF(A15="", "", SUMIFS('إدخال المبالغ والتوزيع الآلي'!$F:$F, 'إدخال المبالغ والتوزيع الآلي'!$A:$A, A15, 'إدخال المبالغ والتوزيع الآلي'!$E:$E, "✔ " & "9119*")) -> 0
A16: 826 | B16: أعباء السنوات المالية السابقة، بواقي الإنجاز | C16: =IF(A16="", "", SUMIFS('إدخال المبالغ والتوزيع الآلي'!$F:$F, 'إدخال المبالغ والتوزيع الآلي'!$A:$A, A16, 'إدخال المبالغ والتوزيع الآلي'!$E:$E, "✔ " & "9110*")) -> 0 | D16: =IF(A16="", "", SUMIFS('إدخال المبالغ والتوزيع الآلي'!$F:$F, 'إدخال المبالغ والتوزيع الآلي'!$A:$A, A16, 'إدخال المبالغ والتوزيع الآلي'!$E:$E, "✔ " & "9111*")) -> 0 | E16: =IF(A16="", "", SUMIFS('إدخال المبالغ والتوزيع الآلي'!$F:$F, 'إدخال المبالغ والتوزيع الآلي'!$A:$A, A16, 'إدخال المبالغ والتوزيع الآلي'!$E:$E, "✔ " & "9119*")) -> 0
A17: مواد حسابات الإيرادات
A18: 723 | B18: إعانات الجماعات المحلية | C18: =IF(A18="", "", SUMIFS('إدخال المبالغ والتوزيع الآلي'!$F:$F, 'إدخال المبالغ والتوزيع الآلي'!$A:$A, A18, 'إدخال المبالغ والتوزيع الآلي'!$E:$E, "✔ " & "9110*")) -> 0 | D18: =IF(A18="", "", SUMIFS('إدخال المبالغ والتوزيع الآلي'!$F:$F, 'إدخال المبالغ والتوزيع الآلي'!$A:$A, A18, 'إدخال المبالغ والتوزيع الآلي'!$E:$E, "✔ " & "9111*")) -> 0 | E18: =IF(A18="", "", SUMIFS('إدخال المبالغ والتوزيع الآلي'!$F:$F, 'إدخال المبالغ والتوزيع الآلي'!$A:$A, A18, 'إدخال المبالغ والتوزيع الآلي'!$E:$E, "✔ " & "9119*")) -> 0
A19: 729 | B19: التحصيلات والإعانات والمساهمات الأخرى | C19: =IF(A19="", "", SUMIFS('إدخال المبالغ والتوزيع الآلي'!$F:$F, 'إدخال المبالغ والتوزيع الآلي'!$A:$A, A19, 'إدخال المبالغ والتوزيع الآلي'!$E:$E, "✔ " & "9110*")) -> 0 | D19: =IF(A19="", "", SUMIFS('إدخال المبالغ والتوزيع الآلي'!$F:$F, 'إدخال المبالغ والتوزيع الآلي'!$A:$A, A19, 'إدخال المبالغ والتوزيع الآلي'!$E:$E, "✔ " & "9111*")) -> 0 | E19: =IF(A19="", "", SUMIFS('إدخال المبالغ والتوزيع الآلي'!$F:$F, 'إدخال المبالغ والتوزيع الآلي'!$A:$A, A19, 'إدخال المبالغ والتوزيع الآلي'!$E:$E, "✔ " & "9119*")) -> 0
A20: 749 | B20: إعانات وتخصيصات أخرى | C20: =IF(A20="", "", SUMIFS('إدخال المبالغ والتوزيع الآلي'!$F:$F, 'إدخال المبالغ والتوزيع الآلي'!$A:$A, A20, 'إدخال المبالغ والتوزيع الآلي'!$E:$E, "✔ " & "9110*")) -> 0 | D20: =IF(A20="", "", SUMIFS('إدخال المبالغ والتوزيع الآلي'!$F:$F, 'إدخال المبالغ والتوزيع الآلي'!$A:$A, A20, 'إدخال المبالغ والتوزيع الآلي'!$E:$E, "✔ " & "9111*")) -> 0 | E20: =IF(A20="", "", SUMIFS('إدخال المبالغ والتوزيع الآلي'!$F:$F, 'إدخال المبالغ والتوزيع الآلي'!$A:$A, A20, 'إدخال المبالغ والتوزيع الآلي'!$E:$E, "✔ " & "9119*")) -> 0
A21: 789 | B21: مخصصات الدولة الأخرى | C21: =IF(A21="", "", SUMIFS('إدخال المبالغ والتوزيع الآلي'!$F:$F, 'إدخال المبالغ والتوزيع الآلي'!$A:$A, A21, 'إدخال المبالغ والتوزيع الآلي'!$E:$E, "✔ " & "9110*")) -> 0 | D21: =IF(A21="", "", SUMIFS('إدخال المبالغ والتوزيع الآلي'!$F:$F, 'إدخال المبالغ والتوزيع الآلي'!$A:$A, A21, 'إدخال المبالغ والتوزيع الآلي'!$E:$E, "✔ " & "9111*")) -> 0 | E21: =IF(A21="", "", SUMIFS('إدخال المبالغ والتوزيع الآلي'!$F:$F, 'إدخال المبالغ والتوزيع الآلي'!$A:$A, A21, 'إدخال المبالغ والتوزيع الآلي'!$E:$E, "✔ " & "9119*")) -> 0
A22: 827 | B22: نواتج السنوات المالية السابقة، بواقي الإنجاز | C22: =IF(A22="", "", SUMIFS('إدخال المبالغ والتوزيع الآلي'!$F:$F, 'إدخال المبالغ والتوزيع الآلي'!$A:$A, A22, 'إدخال المبالغ والتوزيع الآلي'!$E:$E, "✔ " & "9110*")) -> 0 | D22: =IF(A22="", "", SUMIFS('إدخال المبالغ والتوزيع الآلي'!$F:$F, 'إدخال المبالغ والتوزيع الآلي'!$A:$A, A22, 'إدخال المبالغ والتوزيع الآلي'!$E:$E, "✔ " & "9111*")) -> 0 | E22: =IF(A22="", "", SUMIFS('إدخال المبالغ والتوزيع الآلي'!$F:$F, 'إدخال المبالغ والتوزيع الآلي'!$A:$A, A22, 'إدخال المبالغ والتوزيع الآلي'!$E:$E, "✔ " & "9119*")) -> 0

Sheet الباب 912
A1: الباب 912 - المساهمة في تكاليف التعليم والتمهين - تصنيف عمليات النفقات والإيرادات حسب الأبواب الفرعية
A3: المواد | B3: التبيان | C3: الباب 912 - المساهمة في تكاليف التعليم والتمهين
C4: 9120 التعليم الابتدائي | D4: 9121 التعليم المهني والتمهين | E4: 9122 التعليم الثقافي والفني | F4: 9129 أنواع أخرى من التعليم
A5: مواد حسابات النفقات
A6: 600 | B6: المنتجات الصيدلانية | C6: =IF(A6="", "", SUMIFS('إدخال المبالغ والتوزيع الآلي'!$F:$F, 'إدخال المبالغ والتوزيع الآلي'!$A:$A, A6, 'إدخال المبالغ والتوزيع الآلي'!$E:$E, "✔ " & "9120*")) -> 0 | D6: =IF(A6="", "", SUMIFS('إدخال المبالغ والتوزيع الآلي'!$F:$F, 'إدخال المبالغ والتوزيع الآلي'!$A:$A, A6, 'إدخال المبالغ والتوزيع الآلي'!$E:$E, "✔ " & "9121*")) -> 0 | E6: =IF(A6="", "", SUMIFS('إدخال المبالغ والتوزيع الآلي'!$F:$F, 'إدخال المبالغ والتوزيع الآلي'!$A:$A, A6, 'إدخال المبالغ والتوزيع الآلي'!$E:$E, "✔ " & "9122*")) -> 0 | F6: =IF(A6="", "", SUMIFS('إدخال المبالغ والتوزيع الآلي'!$F:$F, 'إدخال المبالغ والتوزيع الآلي'!$A:$A, A6, 'إدخال المبالغ والتوزيع الآلي'!$E:$E, "✔ " & "9129*")) -> 0
A7: 607 | B7: اللوازم المدرسية | C7: =IF(A7="", "", SUMIFS('إدخال المبالغ والتوزيع الآلي'!$F:$F, 'إدخال المبالغ والتوزيع الآلي'!$A:$A, A7, 'إدخال المبالغ والتوزيع الآلي'!$E:$E, "✔ " & "9120*")) -> 0 | D7: =IF(A7="", "", SUMIFS('إدخال المبالغ والتوزيع الآلي'!$F:$F, 'إدخال المبالغ والتوزيع الآلي'!$A:$A, A7, 'إدخال المبالغ والتوزيع الآلي'!$E:$E, "✔ " & "9121*")) -> 0 | E7: =IF(A7="", "", SUMIFS('إدخال المبالغ والتوزيع الآلي'!$F:$F, 'إدخال المبالغ والتوزيع الآلي'!$A:$A, A7, 'إدخال المبالغ والتوزيع الآلي'!$E:$E, "✔ " & "9122*")) -> 0 | F7: =IF(A7="", "", SUMIFS('إدخال المبالغ والتوزيع الآلي'!$F:$F, 'إدخال المبالغ والتوزيع الآلي'!$A:$A, A7, 'إدخال المبالغ والتوزيع الآلي'!$E:$E, "✔ " & "9129*")) -> 0
A8: 608 | B8: لوازم المكتب والإعلام الآلي والطبع والتجليد | C8: =IF(A8="", "", SUMIFS('إدخال المبالغ والتوزيع الآلي'!$F:$F, 'إدخال المبالغ والتوزيع الآلي'!$A:$A, A8, 'إدخال المبالغ والتوزيع الآلي'!$E:$E, "✔ " & "9120*")) -> 0 | D8: =IF(A8="", "", SUMIFS('إدخال المبالغ والتوزيع الآلي'!$F:$F, 'إدخال المبالغ والتوزيع الآلي'!$A:$A, A8, 'إدخال المبالغ والتوزيع الآلي'!$E:$E, "✔ " & "9121*")) -> 0 | E8: =IF(A8="", "", SUMIFS('إدخال المبالغ والتوزيع الآلي'!$F:$F, 'إدخال المبالغ والتوزيع الآلي'!$A:$A, A8, 'إدخال المبالغ والتوزيع الآلي'!$E:$E, "✔ " & "9122*")) -> 0 | F8: =IF(A8="", "", SUMIFS('إدخال المبالغ والتوزيع الآلي'!$F:$F, 'إدخال المبالغ والتوزيع الآلي'!$A:$A, A8, 'إدخال المبالغ والتوزيع الآلي'!$E:$E, "✔ " & "9129*")) -> 0
A9: 6080 | B9: لوازم المكتب والإعلام الآلي | C9: =IF(A9="", "", SUMIFS('إدخال المبالغ والتوزيع الآلي'!$F:$F, 'إدخال المبالغ والتوزيع الآلي'!$A:$A, A9, 'إدخال المبالغ والتوزيع الآلي'!$E:$E, "✔ " & "9120*")) -> 0 | D9: =IF(A9="", "", SUMIFS('إدخال المبالغ والتوزيع الآلي'!$F:$F, 'إدخال المبالغ والتوزيع الآلي'!$A:$A, A9, 'إدخال المبالغ والتوزيع الآلي'!$E:$E, "✔ " & "9121*")) -> 0 | E9: =IF(A9="", "", SUMIFS('إدخال المبالغ والتوزيع الآلي'!$F:$F, 'إدخال المبالغ والتوزيع الآلي'!$A:$A, A9, 'إدخال المبالغ والتوزيع الآلي'!$E:$E, "✔ " & "9122*")) -> 0 | F9: =IF(A9="", "", SUMIFS('إدخال المبالغ والتوزيع الآلي'!$F:$F, 'إدخال المبالغ والتوزيع الآلي'!$A:$A, A9, 'إدخال المبالغ والتوزيع الآلي'!$E:$E, "✔ " & "9129*")) -> 0
A10: 6082 | B10: الطبع والتجليد | C10: =IF(A10="", "", SUMIFS('إدخال المبالغ والتوزيع الآلي'!$F:$F, 'إدخال المبالغ والتوزيع الآلي'!$A:$A, A10, 'إدخال المبالغ والتوزيع الآلي'!$E:$E, "✔ " & "9120*")) -> 0 | D10: =IF(A10="", "", SUMIFS('إدخال المبالغ والتوزيع الآلي'!$F:$F, 'إدخال المبالغ والتوزيع الآلي'!$A:$A, A10, 'إدخال المبالغ والتوزيع الآلي'!$E:$E, "✔ " & "9121*")) -> 0 | E10: =IF(A10="", "", SUMIFS('إدخال المبالغ والتوزيع الآلي'!$F:$F, 'إدخال المبالغ والتوزيع الآلي'!$A:$A, A10, 'إدخال المبالغ والتوزيع الآلي'!$E:$E, "✔ " & "9122*")) -> 0 | F10: =IF(A10="", "", SUMIFS('إدخال المبالغ والتوزيع الآلي'!$F:$F, 'إدخال المبالغ والتوزيع الآلي'!$A:$A, A10, 'إدخال المبالغ والتوزيع الآلي'!$E:$E, "✔ " & "9129*")) -> 0
A11: 609 | B11: اللوازم الأخرى | C11: =IF(A11="", "", SUMIFS('إدخال المبالغ والتوزيع الآلي'!$F:$F, 'إدخال المبالغ والتوزيع الآلي'!$A:$A, A11, 'إدخال المبالغ والتوزيع الآلي'!$E:$E, "✔ " & "9120*")) -> 0 | D11: =IF(A11="", "", SUMIFS('إدخال المبالغ والتوزيع الآلي'!$F:$F, 'إدخال المبالغ والتوزيع الآلي'!$A:$A, A11, 'إدخال المبالغ والتوزيع الآلي'!$E:$E, "✔ " & "9121*")) -> 0 | E11: =IF(A11="", "", SUMIFS('إدخال المبالغ والتوزيع الآلي'!$F:$F, 'إدخال المبالغ والتوزيع الآلي'!$A:$A, A11, 'إدخال المبالغ والتوزيع الآلي'!$E:$E, "✔ " & "9122*")) -> 0 | F11: =IF(A11="", "", SUMIFS('إدخال المبالغ والتوزيع الآلي'!$F:$F, 'إدخال المبالغ والتوزيع الآلي'!$A:$A, A11, 'إدخال المبالغ والتوزيع الآلي'!$E:$E, "✔ " & "9129*")) -> 0
A12: 622 | B12: مصاريف النقل | C12: =IF(A12="", "", SUMIFS('إدخال المبالغ والتوزيع الآلي'!$F:$F, 'إدخال المبالغ والتوزيع الآلي'!$A:$A, A12, 'إدخال المبالغ والتوزيع الآلي'!$E:$E, "✔ " & "9120*")) -> 0 | D12: =IF(A12="", "", SUMIFS('إدخال المبالغ والتوزيع الآلي'!$F:$F, 'إدخال المبالغ والتوزيع الآلي'!$A:$A, A12, 'إدخال المبالغ والتوزيع الآلي'!$E:$E, "✔ " & "9121*")) -> 0 | E12: =IF(A12="", "", SUMIFS('إدخال المبالغ والتوزيع الآلي'!$F:$F, 'إدخال المبالغ والتوزيع الآلي'!$A:$A, A12, 'إدخال المبالغ والتوزيع الآلي'!$E:$E, "✔ " & "9122*")) -> 0 | F12: =IF(A12="", "", SUMIFS('إدخال المبالغ والتوزيع الآلي'!$F:$F, 'إدخال المبالغ والتوزيع الآلي'!$A:$A, A12, 'إدخال المبالغ والتوزيع الآلي'!$E:$E, "✔ " & "9129*")) -> 0
A13: 632 | B13: رواتب مختلفة | C13: =IF(A13="", "", SUMIFS('إدخال المبالغ والتوزيع الآلي'!$F:$F, 'إدخال المبالغ والتوزيع الآلي'!$A:$A, A13, 'إدخال المبالغ والتوزيع الآلي'!$E:$E, "✔ " & "9120*")) -> 0 | D13: =IF(A13="", "", SUMIFS('إدخال المبالغ والتوزيع الآلي'!$F:$F, 'إدخال المبالغ والتوزيع الآلي'!$A:$A, A13, 'إدخال المبالغ والتوزيع الآلي'!$E:$E, "✔ " & "9121*")) -> 0 | E13: =IF(A13="", "", SUMIFS('إدخال المبالغ والتوزيع الآلي'!$F:$F, 'إدخال المبالغ والتوزيع الآلي'!$A:$A, A13, 'إدخال المبالغ والتوزيع الآلي'!$E:$E, "✔ " & "9122*")) -> 0 | F13: =IF(A13="", "", SUMIFS('إدخال المبالغ والتوزيع الآلي'!$F:$F, 'إدخال المبالغ والتوزيع الآلي'!$A:$A, A13, 'إدخال المبالغ والتوزيع الآلي'!$E:$E, "✔ " & "9129*")) -> 0
A14: 660 | B14: التشجيعات المقدمة للآداب والفنون والعلوم | C14: =IF(A14="", "", SUMIFS('إدخال المبالغ والتوزيع الآلي'!$F:$F, 'إدخال المبالغ والتوزيع الآلي'!$A:$A, A14, 'إدخال المبالغ والتوزيع الآلي'!$E:$E, "✔ " & "9120*")) -> 0 | D14: =IF(A14="", "", SUMIFS('إدخال المبالغ والتوزيع الآلي'!$F:$F, 'إدخال المبالغ والتوزيع الآلي'!$A:$A, A14, 'إدخال المبالغ والتوزيع الآلي'!$E:$E, "✔ " & "9121*")) -> 0 | E14: =IF(A14="", "", SUMIFS('إدخال المبالغ والتوزيع الآلي'!$F:$F, 'إدخال المبالغ والتوزيع الآلي'!$A:$A, A14, 'إدخال المبالغ والتوزيع الآلي'!$E:$E, "✔ " & "9122*")) -> 0 | F14: =IF(A14="", "", SUMIFS('إدخال المبالغ والتوزيع الآلي'!$F:$F, 'إدخال المبالغ والتوزيع الآلي'!$A:$A, A14, 'إدخال المبالغ والتوزيع الآلي'!$E:$E, "✔ " & "9129*")) -> 0
A15: 661 | B15: التعليم العمومي، المنح والجوائز | C15: =IF(A15="", "", SUMIFS('إدخال المبالغ والتوزيع الآلي'!$F:$F, 'إدخال المبالغ والتوزيع الآلي'!$A:$A, A15, 'إدخال المبالغ والتوزيع الآلي'!$E:$E, "✔ " & "9120*")) -> 0 | D15: =IF(A15="", "", SUMIFS('إدخال المبالغ والتوزيع الآلي'!$F:$F, 'إدخال المبالغ والتوزيع الآلي'!$A:$A, A15, 'إدخال المبالغ والتوزيع الآلي'!$E:$E, "✔ " & "9121*")) -> 0 | E15: =IF(A15="", "", SUMIFS('إدخال المبالغ والتوزيع الآلي'!$F:$F, 'إدخال المبالغ والتوزيع الآلي'!$A:$A, A15, 'إدخال المبالغ والتوزيع الآلي'!$E:$E, "✔ " & "9122*")) -> 0 | F15: =IF(A15="", "", SUMIFS('إدخال المبالغ والتوزيع الآلي'!$F:$F, 'إدخال المبالغ والتوزيع الآلي'!$A:$A, A15, 'إدخال المبالغ والتوزيع الآلي'!$E:$E, "✔ " & "9129*")) -> 0
A16: 669 | B16: المنح والإعانات الأخرى | C16: =IF(A16="", "", SUMIFS('إدخال المبالغ والتوزيع الآلي'!$F:$F, 'إدخال المبالغ والتوزيع الآلي'!$A:$A, A16, 'إدخال المبالغ والتوزيع الآلي'!$E:$E, "✔ " & "9120*")) -> 0 | D16: =IF(A16="", "", SUMIFS('إدخال المبالغ والتوزيع الآلي'!$F:$F, 'إدخال المبالغ والتوزيع الآلي'!$A:$A, A16, 'إدخال المبالغ والتوزيع الآلي'!$E:$E, "✔ " & "9121*")) -> 0 | E16: =IF(A16="", "", SUMIFS('إدخال المبالغ والتوزيع الآلي'!$F:$F, 'إدخال المبالغ والتوزيع الآلي'!$A:$A, A16, 'إدخال المبالغ والتوزيع الآلي'!$E:$E, "✔ " & "9122*")) -> 0 | F16: =IF(A16="", "", SUMIFS('إدخال المبالغ والتوزيع الآلي'!$F:$F, 'إدخال المبالغ والتوزيع الآلي'!$A:$A, A16, 'إدخال المبالغ والتوزيع الآلي'!$E:$E, "✔ " & "9129*")) -> 0
A17: 699 | B17: الأعباء الاستثنائية الأخرى | C17: =IF(A17="", "", SUMIFS('إدخال المبالغ والتوزيع الآلي'!$F:$F, 'إدخال المبالغ والتوزيع الآلي'!$A:$A, A17, 'إدخال المبالغ والتوزيع الآلي'!$E:$E, "✔ " & "9120*")) -> 0 | D17: =IF(A17="", "", SUMIFS('إدخال المبالغ والتوزيع الآلي'!$F:$F, 'إدخال المبالغ والتوزيع الآلي'!$A:$A, A17, 'إدخال المبالغ والتوزيع الآلي'!$E:$E, "✔ " & "9121*")) -> 0 | E17: =IF(A17="", "", SUMIFS('إدخال المبالغ والتوزيع الآلي'!$F:$F, 'إدخال المبالغ والتوزيع الآلي'!$A:$A, A17, 'إدخال المبالغ والتوزيع الآلي'!$E:$E, "✔ " & "9122*")) -> 0 | F17: =IF(A17="", "", SUMIFS('إدخال المبالغ والتوزيع الآلي'!$F:$F, 'إدخال المبالغ والتوزيع الآلي'!$A:$A, A17, 'إدخال المبالغ والتوزيع الآلي'!$E:$E, "✔ " & "9129*")) -> 0
A18: 826 | B18: أعباء السنوات المالية السابقة، بواقي الإنجاز | C18: =IF(A18="", "", SUMIFS('إدخال المبالغ والتوزيع الآلي'!$F:$F, 'إدخال المبالغ والتوزيع الآلي'!$A:$A, A18, 'إدخال المبالغ والتوزيع الآلي'!$E:$E, "✔ " & "9120*")) -> 0 | D18: =IF(A18="", "", SUMIFS('إدخال المبالغ والتوزيع الآلي'!$F:$F, 'إدخال المبالغ والتوزيع الآلي'!$A:$A, A18, 'إدخال المبالغ والتوزيع الآلي'!$E:$E, "✔ " & "9121*")) -> 0 | E18: =IF(A18="", "", SUMIFS('إدخال المبالغ والتوزيع الآلي'!$F:$F, 'إدخال المبالغ والتوزيع الآلي'!$A:$A, A18, 'إدخال المبالغ والتوزيع الآلي'!$E:$E, "✔ " & "9122*")) -> 0 | F18: =IF(A18="", "", SUMIFS('إدخال المبالغ والتوزيع الآلي'!$F:$F, 'إدخال المبالغ والتوزيع الآلي'!$A:$A, A18, 'إدخال المبالغ والتوزيع الآلي'!$E:$E, "✔ " & "9129*")) -> 0
A19: مواد حسابات الإيرادات
A20: 723 | B20: إعانات الجماعات المحلية | C20: =IF(A20="", "", SUMIFS('إدخال المبالغ والتوزيع الآلي'!$F:$F, 'إدخال المبالغ والتوزيع الآلي'!$A:$A, A20, 'إدخال المبالغ والتوزيع الآلي'!$E:$E, "✔ " & "9120*")) -> 0 | D20: =IF(A20="", "", SUMIFS('إدخال المبالغ والتوزيع الآلي'!$F:$F, 'إدخال المبالغ والتوزيع الآلي'!$A:$A, A20, 'إدخال المبالغ والتوزيع الآلي'!$E:$E, "✔ " & "9121*")) -> 0 | E20: =IF(A20="", "", SUMIFS('إدخال المبالغ والتوزيع الآلي'!$F:$F, 'إدخال المبالغ والتوزيع الآلي'!$A:$A, A20, 'إدخال المبالغ والتوزيع الآلي'!$E:$E, "✔ " & "9122*")) -> 0 | F20: =IF(A20="", "", SUMIFS('إدخال المبالغ والتوزيع الآلي'!$F:$F, 'إدخال المبالغ والتوزيع الآلي'!$A:$A, A20, 'إدخال المبالغ والتوزيع الآلي'!$E:$E, "✔ " & "9129*")) -> 0
A21: 729 | B21: التحصيلات والإعانات والمساهمات الأخرى | C21: =IF(A21="", "", SUMIFS('إدخال المبالغ والتوزيع الآلي'!$F:$F, 'إدخال المبالغ والتوزيع الآلي'!$A:$A, A21, 'إدخال المبالغ والتوزيع الآلي'!$E:$E, "✔ " & "9120*")) -> 0 | D21: =IF(A21="", "", SUMIFS('إدخال المبالغ والتوزيع الآلي'!$F:$F, 'إدخال المبالغ والتوزيع الآلي'!$A:$A, A21, 'إدخال المبالغ والتوزيع الآلي'!$E:$E, "✔ " & "9121*")) -> 0 | E21: =IF(A21="", "", SUMIFS('إدخال المبالغ والتوزيع الآلي'!$F:$F, 'إدخال المبالغ والتوزيع الآلي'!$A:$A, A21, 'إدخال المبالغ والتوزيع الآلي'!$E:$E, "✔ " & "9122*")) -> 0 | F21: =IF(A21="", "", SUMIFS('إدخال المبالغ والتوزيع الآلي'!$F:$F, 'إدخال المبالغ والتوزيع الآلي'!$A:$A, A21, 'إدخال المبالغ والتوزيع الآلي'!$E:$E, "✔ " & "9129*")) -> 0
A22: 789 | B22: مخصصات الدولة الأخرى | C22: =IF(A22="", "", SUMIFS('إدخال المبالغ والتوزيع الآلي'!$F:$F, 'إدخال المبالغ والتوزيع الآلي'!$A:$A, A22, 'إدخال المبالغ والتوزيع الآلي'!$E:$E, "✔ " & "9120*")) -> 0 | D22: =IF(A22="", "", SUMIFS('إدخال المبالغ والتوزيع الآلي'!$F:$F, 'إدخال المبالغ والتوزيع الآلي'!$A:$A, A22, 'إدخال المبالغ والتوزيع الآلي'!$E:$E, "✔ " & "9121*")) -> 0 | E22: =IF(A22="", "", SUMIFS('إدخال المبالغ والتوزيع الآلي'!$F:$F, 'إدخال المبالغ والتوزيع الآلي'!$A:$A, A22, 'إدخال المبالغ والتوزيع الآلي'!$E:$E, "✔ " & "9122*")) -> 0 | F22: =IF(A22="", "", SUMIFS('إدخال المبالغ والتوزيع الآلي'!$F:$F, 'إدخال المبالغ والتوزيع الآلي'!$A:$A, A22, 'إدخال المبالغ والتوزيع الآلي'!$E:$E, "✔ " & "9129*")) -> 0
A23: 827 | B23: نواتج السنوات المالية السابقة، بواقي الإنجاز | C23: =IF(A23="", "", SUMIFS('إدخال المبالغ والتوزيع الآلي'!$F:$F, 'إدخال المبالغ والتوزيع الآلي'!$A:$A, A23, 'إدخال المبالغ والتوزيع الآلي'!$E:$E, "✔ " & "9120*")) -> 0 | D23: =IF(A23="", "", SUMIFS('إدخال المبالغ والتوزيع الآلي'!$F:$F, 'إدخال المبالغ والتوزيع الآلي'!$A:$A, A23, 'إدخال المبالغ والتوزيع الآلي'!$E:$E, "✔ " & "9121*")) -> 0 | E23: =IF(A23="", "", SUMIFS('إدخال المبالغ والتوزيع الآلي'!$F:$F, 'إدخال المبالغ والتوزيع الآلي'!$A:$A, A23, 'إدخال المبالغ والتوزيع الآلي'!$E:$E, "✔ " & "9122*")) -> 0 | F23: =IF(A23="", "", SUMIFS('إدخال المبالغ والتوزيع الآلي'!$F:$F, 'إدخال المبالغ والتوزيع الآلي'!$A:$A, A23, 'إدخال المبالغ والتوزيع الآلي'!$E:$E, "✔ " & "9129*")) -> 0

Sheet الباب 913
A1: الباب 913 - المصالح الاجتماعية المدرسية وما قبل المدرسية - تصنيف عمليات النفقات والإيرادات حسب الأبواب الفرعية
A3: المواد | B3: التبيان | C3: الباب 913 - المصالح الاجتماعية المدرسية وما قبل المدرسية
C4: 9130 المطاعم المدرسية | D4: 9131 المخيمات الصيفية | E4: 9132 النقل المدرسي | F4: 9133 دور الحضانة وحدائق الأطفال | G4: 9139 المصالح الاجتماعية - المدرسية الأخرى
A5: مواد حسابات النفقات
A6: 600 | B6: المنتجات الصيدلانية | C6: =IF(A6="", "", SUMIFS('إدخال المبالغ والتوزيع الآلي'!$F:$F, 'إدخال المبالغ والتوزيع الآلي'!$A:$A, A6, 'إدخال المبالغ والتوزيع الآلي'!$E:$E, "✔ " & "9130*")) -> 0 | D6: =IF(A6="", "", SUMIFS('إدخال المبالغ والتوزيع الآلي'!$F:$F, 'إدخال المبالغ والتوزيع الآلي'!$A:$A, A6, 'إدخال المبالغ والتوزيع الآلي'!$E:$E, "✔ " & "9131*")) -> 0 | E6: =IF(A6="", "", SUMIFS('إدخال المبالغ والتوزيع الآلي'!$F:$F, 'إدخال المبالغ والتوزيع الآلي'!$A:$A, A6, 'إدخال المبالغ والتوزيع الآلي'!$E:$E, "✔ " & "9132*")) -> 0 | F6: =IF(A6="", "", SUMIFS('إدخال المبالغ والتوزيع الآلي'!$F:$F, 'إدخال المبالغ والتوزيع الآلي'!$A:$A, A6, 'إدخال المبالغ والتوزيع الآلي'!$E:$E, "✔ " & "9133*")) -> 0 | G6: =IF(A6="", "", SUMIFS('إدخال المبالغ والتوزيع الآلي'!$F:$F, 'إدخال المبالغ والتوزيع الآلي'!$A:$A, A6, 'إدخال المبالغ والتوزيع الآلي'!$E:$E, "✔ " & "9139*")) -> 0
A7: 601 | B7: التغذية والإطعام | C7: =IF(A7="", "", SUMIFS('إدخال المبالغ والتوزيع الآلي'!$F:$F, 'إدخال المبالغ والتوزيع الآلي'!$A:$A, A7, 'إدخال المبالغ والتوزيع الآلي'!$E:$E, "✔ " & "9130*")) -> 0 | D7: =IF(A7="", "", SUMIFS('إدخال المبالغ والتوزيع الآلي'!$F:$F, 'إدخال المبالغ والتوزيع الآلي'!$A:$A, A7, 'إدخال المبالغ والتوزيع الآلي'!$E:$E, "✔ " & "9131*")) -> 0 | E7: =IF(A7="", "", SUMIFS('إدخال المبالغ والتوزيع الآلي'!$F:$F, 'إدخال المبالغ والتوزيع الآلي'!$A:$A, A7, 'إدخال المبالغ والتوزيع الآلي'!$E:$E, "✔ " & "9132*")) -> 0 | F7: =IF(A7="", "", SUMIFS('إدخال المبالغ والتوزيع الآلي'!$F:$F, 'إدخال المبالغ والتوزيع الآلي'!$A:$A, A7, 'إدخال المبالغ والتوزيع الآلي'!$E:$E, "✔ " & "9133*")) -> 0 | G7: =IF(A7="", "", SUMIFS('إدخال المبالغ والتوزيع الآلي'!$F:$F, 'إدخال المبالغ والتوزيع الآلي'!$A:$A, A7, 'إدخال المبالغ والتوزيع الآلي'!$E:$E, "✔ " & "9139*")) -> 0
A8: 6010 | B8: الإطعام | C8: =IF(A8="", "", SUMIFS('إدخال المبالغ والتوزيع الآلي'!$F:$F, 'إدخال المبالغ والتوزيع الآلي'!$A:$A, A8, 'إدخال المبالغ والتوزيع الآلي'!$E:$E, "✔ " & "9130*")) -> 0 | D8: =IF(A8="", "", SUMIFS('إدخال المبالغ والتوزيع الآلي'!$F:$F, 'إدخال المبالغ والتوزيع الآلي'!$A:$A, A8, 'إدخال المبالغ والتوزيع الآلي'!$E:$E, "✔ " & "9131*")) -> 0 | E8: =IF(A8="", "", SUMIFS('إدخال المبالغ والتوزيع الآلي'!$F:$F, 'إدخال المبالغ والتوزيع الآلي'!$A:$A, A8, 'إدخال المبالغ والتوزيع الآلي'!$E:$E, "✔ " & "9132*")) -> 0 | F8: =IF(A8="", "", SUMIFS('إدخال المبالغ والتوزيع الآلي'!$F:$F, 'إدخال المبالغ والتوزيع الآلي'!$A:$A, A8, 'إدخال المبالغ والتوزيع الآلي'!$E:$E, "✔ " & "9133*")) -> 0 | G8: =IF(A8="", "", SUMIFS('إدخال المبالغ والتوزيع الآلي'!$F:$F, 'إدخال المبالغ والتوزيع الآلي'!$A:$A, A8, 'إدخال المبالغ والتوزيع الآلي'!$E:$E, "✔ " & "9139*")) -> 0
